{"text_format":"1","workbook":"xlsx","n_sheets":15,"sheets":["Registion","Slåop","aql","Feriedag","tæller (2016)","tæller (2015)","Behandlingsdag","Pivot - Error Code","Pivot - Supplier","Pivot - antal","Pivot antal fejl-emne","Antal kontroller","Antal test og emner","Ordre kommet i 2016","Ark1"],"not_rendered":{"charts":11,"images":0,"macros":1,"external_links":0,"defined_names":23,"comments":1,"pivot_tables":10},"unopened":[],"bounds":{"document_bytes":16777216,"sheet_cells":100000,"rows_first":2000,"rows_last":500,"rows_between":2000,"halvings":0,"cell_chars":16384,"cell_head_chars":4096},"cells_cut":0,"cells_raw":0,"read":"whole","date_system":"1900"}

{"sheet":"Registion","index":0,"n_rows":14,"n_cols":33,"rows_kept":14,"cut":false,"hidden":false,"merged":[]}
["ID","Udført af \n/ Made by","Dato for \nmodtagelse","Dato for \n kontrol","PO","Supplier","Supplier name","Part Number","Part description","Opmåling skema/kontrol vejledning","..\\Vejledninger i indgangskontrol\\Skema til opmåling af emner","QTY of batch","Inspektions-Niveau","AQL\nantal til kontrol","Tilladt antal fejl","Antal af Fejl \nQTY of NC","Årsag / Error Code","Beskrivelse af fejl/\nDescription of error","Handling/ \nDisposition","Ansvarlig /\nResponsible","Modtage Status","Status Nu","NC Report","Forebyggende handling /\nRemediate Action","Place of error","Year","Month","Week","Vent dag på Kontrol","fejlprocent / Error rate","Teoretisk antal fejl","PIOVT VENT DAG","Hverdag mellem start og slut"]
[1,"ABB","2015-01-05","2015-01-06",null,null,null,796363,{"$f":"IF(H2<>\"\",VLOOKUP(H2,Slåop!A:B,2,FALSE),\"\")","v":{"$error":"#N/A"}},null,null,10,{"$f":"IF(H2<>\"\",VLOOKUP(H2,Slåop!A:D,4,FALSE),\"\")","v":{"$error":"#N/A"}},{"$f":"IF($L2>='Ark1'!$A$10,'Ark1'!$C$10,IF($L2>='Ark1'!$A$9,'Ark1'!$C$9,IF($L2>='Ark1'!$A$8,'Ark1'!$C$8,IF($L2>='Ark1'!$A$7,'Ark1'!$C$7,IF($L2>='Ark1'!$A$6,'Ark1'!$C$6,IF($L2>='Ark1'!$A$5,'Ark1'!$C$5,IF($L2>='Ark1'!$A$4,'Ark1'!$C$4,IF($L2>='Ark1'!$A$3,'Ark1'!$C$3,IF($L2>'Ark1'!$A$2,'Ark1'!$C$2,IF($L2='Ark1'!$A$2,\"\"))))))))))","v":3},{"$f":"IF($L2>='Ark1'!$A$10,'Ark1'!$D$10,IF($L2>='Ark1'!$A$9,'Ark1'!$D$9,IF($L2>='Ark1'!$A$8,'Ark1'!$D$8,IF($L2>='Ark1'!$A$7,'Ark1'!$D$7,IF($L2>='Ark1'!$A$6,'Ark1'!$D$6,IF($L2>='Ark1'!$A$5,'Ark1'!$D$5,IF($L2>='Ark1'!$D$4,IF($L2>='Ark1'!$A$3,'Ark1'!$D$3,IF($L2>'Ark1'!B2,'Ark1'!$D$2,IF($L2='Ark1'!B2,\"\"))))))))))","v":0},3,"emballage Fejl / packaging Error","Dårling emballage/ skal om pakkes",null,null,"Closed","Lukket / Closed = Godkendt ",null,null,null,{"$f":"IF(C2<>\"\",YEAR(C2),\"\")","v":2015},{"$f":"IF(C2<>\"\",MONTH(C2),\"\")","v":1},{"$f":"IF(D2<>\"\",WEEKNUM(D2,2),\"\")","v":2},{"$f":"IF(C2<>\"\",AG2-1,\"\")","v":1},{"$f":"IF(N2<>\"\",P2/N2,\"\")","v":1},{"$f":"IF(AD2<>\"\",AD2*L2,\"\")","v":10},{"$f":"IF(AC2<5,AC2,5)","v":1},{"$f":"IF(C2<>\"\",NETWORKDAYS(C2,D2,feriedag),\"\")","v":2}]
[2,null,"22-07-2016","uge 29"]
[3,null,"22-07-2016","uge 29"]
[4,null,"22-07-2016","22-07-2016",null,null,null,null,null,null,null,null,null,null,null,null,null,null,null,null,null,null,null,null,null,null,null,29]
[5,null,"25-07-2016","25-07-2016",null,null,null,null,null,null,null,null,null,null,null,null,null,null,null,null,null,null,null,null,null,null,null,30]
[6,null,"25-07-2016","25-07-2016","LE",null,null,null,null,null,null,null,null,null,null,null,null,null,null,null,null,null,null,null,null,null,null,30]
[7,null,"25-07-2016","25-07-2016","LEOR",null,null,null,null,null,null,null,null,null,null,null,null,null,null,null,null,null,null,null,null,null,null,30]
[8,"LEOR","26-07-2016","26-07-2016","9989898","343538","EA-Connect Pte Ltd","767436","MRS1301 Rotation Sensor ( Volvo/Champion",null,null,null,null,null,null,null,null,null,null,null,null,null,null,null,null,null,null,30]
[9,null,"26-07-2016","26-07-2016","","","","","",null,null,null,null,null,null,null,null,null,null,null,null,null,null,null,null,null,null,30]
[10,"LEOR","26-07-2016","26-07-2016","rfiik","343001","BHE A/S","722428","MYC 1308 Y-Cable 7s/7P 10m",null,"100","1",null,null,null,null,null,null,null,null,null,null,null,null,null,null,null,30]
[11,"LEOR","26-07-2016","26-07-2016","kdkdkd","343001","BHE A/S","667237","Antenne for Rover (SmartNet)",null,null,"2216","1",null,null,null,null,null,null,null,null,null,null,null,null,null,null,30]
[12,"LEOR","26-07-2016","26-07-2016","æ","014866","Leica Geosystems Inc.","639968","1,8m Cable, Satelline to GPS receiver",null,null,"3792","AQLniveauer1",null,null,null,null,null,null,null,null,null,null,null,null,null,null,30]
[13,"Rene tets","27-07-2016","27-07-2016","fhjkfh","303001","ALISEI PALACE SRL","820235","MMM1302 Main Tube",null,null,"22","AQLniveauer1",null,null,null,null,null,null,null,null,null,null,null,null,null,null,30]

{"sheet":"Slåop","index":1,"n_rows":2632,"n_cols":16,"rows_kept":2632,"cut":false,"hidden":false,"merged":[]}
["Vare NR /\nP/N","Vare Navn\nDescription","ins.","AQL Niveauer","Fejl kode/\nError Code",null,"Sted for Fejl/\nPlace of error",null,"Handling\nDisposition",null,"Ansvarlig/\nResponsible",null,"Status",null,"Vendor ","Name"]
[]
[439038,"Vare 1",null,"AQLniveau1_","Defekt overflade/Defect surface",null,"R&D",null,"Return to supplier",null,"LEOR",null,"Lukket / Closed = Godkendt ",null,"001002","Leica Geosystems 1"]
[639968,"Vare 2",null,"AQLniveau1_","Dokumentation Fejl/Documentation error",null,"PE",null,"Scrap",null,"ABB",null,"Afventet / Pending",null,"001500","Leica Geosystems 2"]
[667237,"Vare 3",null,"AQLniveau1_","Elektronisk Fejl/Electronic error",null,"PMO",null,"Sort",null,"Inge A",null,"Open",null,"014866","Leica Geosystems 3"]
[667345,"Vare 4",null,"AQLniveau1_","Fejllevering Beløb/ Misdelivery amount",null,"Procurement",null,"Use-as-is*",null,"Flemming J",null,"blocked / Spærret",null,115163]
[722428,"Vare 5",null,"AQLniveau1_","Fejllevering Post/Misdelivery item",null,"Quality",null,"Blocked",null,"Poul B",null,"Godkendt med anmærkning",null,303001]
[725858,"Vare 6",null,"AQLniveau1_","Fejllevering RoHS/Misdelivery RoHS",null,"Supplier",null,"Rework",null,"Susanne L",null,"afvist / rejected",null,340048]
[726035,"Vare 7",null,"AQLniveau1_","Monterings fejl / Mounting error",null,null,null,null,null,"Allan H",null,"Der må laves prøve produktion",null,343001]
[726062,"Vare 8",null,"AQLniveau1_","Print Fejl / Print error",null,null,null,null,null,"Mette N",null,null,null,343002]
[726089,"Vare 9",null,"AQLniveau1_","Transport Skader/ Transportation damage",null,null,null,null,null,"Niels L",null,null,null,343003]
[726173,"Vare 10",null,"AQLniveau1_","Forkert behandling/ Wrong processing",null,null,null,null,null,"Thomas B",null,null,null,343006]
[726175,"Vare 11",null,"AQLniveau1_","Mål uden for tolerance / Targets outside tolerance",null,null,null,null,null,"Tine J",null,null,null,343012]
[828282,"Vare 12",null,"AQLniveau1_","Dårligt gevind hul / Poorly threaded hole",null,null,null,null,null,"per test",null,null,null,343017]
[null,null,null,"AQLniveau1_","Uren / fedtet  overflade / Unclean / greasy surfac",null,null,null,null,null,"Rene test",null,null,null,343022]
[null,null,null,"AQLniveau1_","Ridser, hakket, grim, ru overflad / Scratches, chopped, ugly, rough surface",null,null,null,null,null,null,null,null,null,343030]
[null,null,null,"AQLniveau1_","Anmærkning / Remark",null,null,null,null,null,null,null,null,null,343042]
[null,null,null,"AQLniveau1_","emballage Fejl / packaging Error",null,null,null,null,null,null,null,null,null,343044]
[null,null,null,"AQLniveau1_","Rework emner",null,null,null,null,null,null,null,null,null,343069]
[null,null,null,"AQLniveau1_","Prøve emer / Sample items",null,null,null,null,null,null,null,null,null,343082]
[null,null,null,"AQLniveau3_","Mangler tegning i agile / Missing drawing in agile",null,null,null,null,null,null,null,null,null,343087]
[null,null,null,"AQLniveau1_","Forkert emner/ wrong subjects",null,null,null,null,null,null,null,null,null,343137]
[null,null,null,"AQLniveau1_","Retur Vare / Return Item",null,null,null,null,null,null,null,null,null,343149]
[null,null,null,"AQLniveau1_","Vare Defekt/ Item Defect",null,null,null,null,null,null,null,null,null,343158]
[null,null,null,"AQLniveau3_",null,null,null,null,null,null,null,null,null,null,343168]
[null,null,null,"AQLniveau1_",null,null,null,null,null,null,null,null,null,null,343174]
[null,null,null,"AQLniveau1_",null,null,null,null,null,null,null,null,null,null,343200]
[null,null,null,"AQLniveau1_",null,null,null,null,null,null,null,null,null,null,343227]
[null,null,null,"AQLniveau1_",null,null,null,null,null,null,null,null,null,null,343231]
[null,null,null,"AQLniveau1_",null,null,null,null,null,null,null,null,null,null,343235]
[null,null,null,"AQLniveau1_",null,null,null,null,null,null,null,null,null,null,343244]
[null,null,null,"AQLniveau1_",null,null,null,null,null,null,null,null,null,null,343252]
[null,null,null,"AQLniveau1_",null,null,null,null,null,null,null,null,null,null,343320]
[null,null,null,"AQLniveau1_",null,null,null,null,null,null,null,null,null,null,343320]
[null,null,null,"AQLniveau1_",null,null,null,null,null,null,null,null,null,null,343359]
[null,null,null,"AQLniveau1_",null,null,null,null,null,null,null,null,null,null,343379]
[null,null,null,"AQLniveau1_",null,null,null,null,null,null,null,null,null,null,343427]
[null,null,null,"AQLniveau1_",null,null,null,null,null,null,null,null,null,null,343438]
[null,null,null,"AQLniveau1_",null,null,null,null,null,null,null,null,null,null,343505]
[null,null,null,"AQLniveau1_",null,null,null,null,null,null,null,null,null,null,343538]
[null,null,null,"AQLniveau1_",null,null,null,null,null,null,null,null,null,null,343584]
[null,null,null,"AQLniveau1_",null,null,null,null,null,null,null,null,null,null,343632]
[null,null,null,"AQLniveau1_",null,null,null,null,null,null,null,null,null,null,343678]
[null,null,null,"AQLniveau1_",null,null,null,null,null,null,null,null,null,null,343698]
[null,null,null,"AQLniveau1_",null,null,null,null,null,null,null,null,null,null,343708]
[null,null,null,"AQLniveau1_",null,null,null,null,null,null,null,null,null,null,365122]
[null,null,null,"AQLniveau1_",null,null,null,null,null,null,null,null,null,null,365123]
[null,null,null,"AQLniveau1_",null,null,null,null,null,null,null,null,null,null,604401]
[null,null,null,"AQLniveau1_",null,null,null,null,null,null,null,null,null,null,"Lager vare"]
[null,null,null,"AQLniveau1_",null,null,null,null,null,null,null,null,null,null,"Prøver"]
[null,null,null,"AQLniveau1_",null,null,null,null,null,null,null,null,null,null,"Retur vare"]
[null,null,null,"AQLniveau1_",null,null,null,null,null,null,null,null,null,null,"Rework"]
[null,null,null,"AQLniveau1_",null,null,null,null,null,null,null,null,null,null,"Test"]
[null,null,null,"AQLniveau1_",null,null,null,null,null,null,null,null,null,null,611427]
[null,null,null,"AQLniveau1_",null,null,null,null,null,null,null,null,null,null,343352]
[null,null,null,"AQLniveau1_"]
[null,null,null,"AQLniveau1_"]
[null,null,null,"AQLniveau1_"]
[null,null,null,"AQLniveau1_"]
[null,null,null,"AQLniveau1_"]
[null,null,null,"AQLniveau1_"]
[null,null,null,"AQLniveau1_"]
[null,null,null,"AQLniveau1_"]
[null,null,null,"AQLniveau1_"]
[null,null,null,"AQLniveau1_"]
[null,null,null,"AQLniveau1_"]
[null,null,null,"AQLniveau1_"]
[null,null,null,"AQLniveau1_"]
[null,null,null,"AQLniveau1_"]
[null,null,null,"AQLniveau1_"]
[null,null,null,"AQLniveau1_"]
[null,null,null,"AQLniveau1_"]
[null,null,null,"AQLniveau1_"]
[null,null,null,"AQLniveau1_"]
[null,null,null,"AQLniveau1_"]
[null,null,null,"AQLniveau1_"]
[null,null,null,"AQLniveau1_"]
[null,null,null,"AQLniveau1_"]
[null,null,null,"AQLniveau1_"]
[null,null,null,"AQLniveau1_"]
[null,null,null,"AQLniveau1_"]
[null,null,null,"AQLniveau1_"]
[null,null,null,"AQLniveau1_"]
[null,null,null,"AQLniveau1_"]
[null,null,null,"AQLniveau1_"]
[null,null,null,"AQLniveau1_"]
[null,null,null,"AQLniveau1_"]
[null,null,null,"AQLniveau1_"]
[null,null,null,"AQLniveau1_"]
[null,null,null,"AQLniveau1_"]
[null,null,null,"AQLniveau1_"]
[null,null,null,"AQLniveau1_"]
[null,null,null,"AQLniveau1_"]
[null,null,null,"AQLniveau1_"]
[null,null,null,"AQLniveau1_"]
[null,null,null,"AQLniveau1_"]
[null,null,null,"AQLniveau1_"]
[null,null,null,"AQLniveau1_"]
[null,null,null,"AQLniveau1_"]
[null,null,null,"AQLniveau1_"]
[null,null,null,"AQLniveau1_"]
[null,null,null,"AQLniveau1_"]
[null,null,null,"AQLniveau1_"]
[null,null,null,"AQLniveau1_"]
[null,null,null,"AQLniveau1_"]
[null,null,null,"AQLniveau1_"]
[null,null,null,"AQLniveau1_"]
[null,null,null,"AQLniveau1_"]
[null,null,null,"AQLniveau1_"]
[null,null,null,"AQLniveau1_"]
[null,null,null,"AQLniveau1_"]
[null,null,null,"AQLniveau1_"]
[null,null,null,"AQLniveau1_"]
[null,null,null,"AQLniveau1_"]
[null,null,null,"AQLniveau1_"]
[null,null,null,"AQLniveau1_"]
[null,null,null,"AQLniveau1_"]
[null,null,null,"AQLniveau1_"]
[null,null,null,"AQLniveau1_"]
[null,null,null,"AQLniveau1_"]
[null,null,null,"AQLniveau1_"]
[null,null,null,"AQLniveau1_"]
[null,null,null,"AQLniveau1_"]
[null,null,null,"AQLniveau1_"]
[null,null,null,"AQLniveau1_"]
[null,null,null,"AQLniveau1_"]
[null,null,null,"AQLniveau1_"]
[null,null,null,"AQLniveau1_"]
[null,null,null,"AQLniveau1_"]
[null,null,null,"AQLniveau1_"]
[null,null,null,"AQLniveau1_"]
[null,null,null,"AQLniveau1_"]
[null,null,null,"AQLniveau1_"]
[null,null,null,"AQLniveau1_"]
[null,null,null,"AQLniveau1_"]
[null,null,null,"AQLniveau1_"]
[null,null,null,"AQLniveau1_"]
[null,null,null,"AQLniveau1_"]
[null,null,null,"AQLniveau1_"]
[null,null,null,"AQLniveau1_"]
[null,null,null,"AQLniveau1_"]
[null,null,null,"AQLniveau1_"]
[null,null,null,"AQLniveau1_"]
[null,null,null,"AQLniveau1_"]
[null,null,null,"AQLniveau1_"]
[null,null,null,"AQLniveau1_"]
[null,null,null,"AQLniveau1_"]
[null,null,null,"AQLniveau1_"]
[null,null,null,"AQLniveau1_"]
[null,null,null,"AQLniveau1_"]
[null,null,null,"AQLniveau1_"]
[null,null,null,"AQLniveau1_"]
[null,null,null,"AQLniveau1_"]
[null,null,null,"AQLniveau1_"]
[null,null,null,"AQLniveau1_"]
[null,null,null,"AQLniveau1_"]
[null,null,null,"AQLniveau1_"]
[null,null,null,"AQLniveau1_"]
[null,null,null,"AQLniveau1_"]
[null,null,null,"AQLniveau1_"]
[null,null,null,"AQLniveau1_"]
[null,null,null,"AQLniveau1_"]
[null,null,null,"AQLniveau1_"]
[null,null,null,"AQLniveau1_"]
[null,null,null,"AQLniveau1_"]
[null,null,null,"AQLniveau1_"]
[null,null,null,"AQLniveau1_"]
[null,null,null,"AQLniveau1_"]
[null,null,null,"AQLniveau1_"]
[null,null,null,"AQLniveau1_"]
[null,null,null,"AQLniveau1_"]
[null,null,null,"AQLniveau1_"]
[null,null,null,"AQLniveau1_"]
[null,null,null,"AQLniveau1_"]
[null,null,null,"AQLniveau1_"]
[null,null,null,"AQLniveau1_"]
[null,null,null,"AQLniveau1_"]
[null,null,null,"AQLniveau1_"]
[null,null,null,"AQLniveau1_"]
[null,null,null,"AQLniveau1_"]
[null,null,null,"AQLniveau1_"]
[null,null,null,"AQLniveau1_"]
[null,null,null,"AQLniveau1_"]
[null,null,null,"AQLniveau1_"]
[null,null,null,"AQLniveau1_"]
[null,null,null,"AQLniveau1_"]
[null,null,null,"AQLniveau1_"]
[null,null,null,"AQLniveau1_"]
[null,null,null,"AQLniveau1_"]
[null,null,null,"AQLniveau1_"]
[null,null,null,"AQLniveau1_"]
[null,null,null,"AQLniveau1_"]
[null,null,null,"AQLniveau1_"]
[null,null,null,"AQLniveau1_"]
[null,null,null,"AQLniveau1_"]
[null,null,null,"AQLniveau1_"]
[null,null,null,"AQLniveau1_"]
[null,null,null,"AQLniveau1_"]
[null,null,null,"AQLniveau1_"]
[null,null,null,"AQLniveau1_"]
[null,null,null,"AQLniveau1_"]
[null,null,null,"AQLniveau1_"]
[null,null,null,"AQLniveau1_"]
[null,null,null,"AQLniveau1_"]
[null,null,null,"AQLniveau1_"]
[null,null,null,"AQLniveau1_"]
[null,null,null,"AQLniveau1_"]
[null,null,null,"AQLniveau1_"]
[null,null,null,"AQLniveau1_"]
[null,null,null,"AQLniveau1_"]
[null,null,null,"AQLniveau1_"]
[null,null,null,"AQLniveau1_"]
[null,null,null,"AQLniveau1_"]
[null,null,null,"AQLniveau1_"]
[null,null,null,"AQLniveau1_"]
[null,null,null,"AQLniveau1_"]
[null,null,null,"AQLniveau1_"]
[null,null,null,"AQLniveau1_"]
[null,null,null,"AQLniveau1_"]
[null,null,null,"AQLniveau1_"]
[null,null,null,"AQLniveau1_"]
[null,null,null,"AQLniveau1_"]
[null,null,null,"AQLniveau1_"]
[null,null,null,"AQLniveau1_"]
[null,null,null,"AQLniveau1_"]
[null,null,null,"AQLniveau1_"]
[null,null,null,"AQLniveau1_"]
[null,null,null,"AQLniveau1_"]
[null,null,null,"AQLniveau1_"]
[null,null,null,"AQLniveau1_"]
[null,null,null,"AQLniveau1_"]
[null,null,null,"AQLniveau1_"]
[null,null,null,"AQLniveau1_"]
[null,null,null,"AQLniveau1_"]
[null,null,null,"AQLniveau1_"]
[null,null,null,"AQLniveau1_"]
[null,null,null,"AQLniveau1_"]
[null,null,null,"AQLniveau1_"]
[null,null,null,"AQLniveau1_"]
[null,null,null,"AQLniveau1_"]
[null,null,null,"AQLniveau1_"]
[null,null,null,"AQLniveau1_"]
[null,null,null,"AQLniveau1_"]
[null,null,null,"AQLniveau1_"]
[null,null,null,"AQLniveau1_"]
[null,null,null,"AQLniveau1_"]
[null,null,null,"AQLniveau1_"]
[null,null,null,"AQLniveau1_"]
[null,null,null,"AQLniveau1_"]
[null,null,null,"AQLniveau1_"]
[null,null,null,"AQLniveau1_"]
[null,null,null,"AQLniveau1_"]
[null,null,null,"AQLniveau1_"]
[null,null,null,"AQLniveau1_"]
[null,null,null,"AQLniveau1_"]
[null,null,null,"AQLniveau1_"]
[null,null,null,"AQLniveau1_"]
[null,null,null,"AQLniveau1_"]
[null,null,null,"AQLniveau1_"]
[null,null,null,"AQLniveau1_"]
[null,null,null,"AQLniveau1_"]
[null,null,null,"AQLniveau1_"]
[null,null,null,"AQLniveau1_"]
[null,null,null,"AQLniveau1_"]
[null,null,null,"AQLniveau1_"]
[null,null,null,"AQLniveau1_"]
[null,null,null,"AQLniveau1_"]
[null,null,null,"AQLniveau1_"]
[null,null,null,"AQLniveau1_"]
[null,null,null,"AQLniveau1_"]
[null,null,null,"AQLniveau1_"]
[null,null,null,"AQLniveau1_"]
[null,null,null,"AQLniveau1_"]
[null,null,null,"AQLniveau1_"]
[null,null,null,"AQLniveau1_"]
[null,null,null,"AQLniveau1_"]
[null,null,null,"AQLniveau1_"]
[null,null,null,"AQLniveau1_"]
[null,null,null,"AQLniveau1_"]
[null,null,null,"AQLniveau1_"]
[null,null,null,"AQLniveau1_"]
[null,null,null,"AQLniveau1_"]
[null,null,null,"AQLniveau1_"]
[null,null,null,"AQLniveau1_"]
[null,null,null,"AQLniveau1_"]
[null,null,null,"AQLniveau1_"]
[null,null,null,"AQLniveau1_"]
[null,null,null,"AQLniveau1_"]
[null,null,null,"AQLniveau1_"]
[null,null,null,"AQLniveau1_"]
[null,null,null,"AQLniveau1_"]
[null,null,null,"AQLniveau1_"]
[null,null,null,"AQLniveau1_"]
[null,null,null,"AQLniveau1_"]
[null,null,null,"AQLniveau1_"]
[null,null,null,"AQLniveau1_"]
[null,null,null,"AQLniveau1_"]
[null,null,null,"AQLniveau1_"]
[null,null,null,"AQLniveau1_"]
[null,null,null,"AQLniveau1_"]
[null,null,null,"AQLniveau1_"]
[null,null,null,"AQLniveau1_"]
[null,null,null,"AQLniveau1_"]
[null,null,null,"AQLniveau1_"]
[null,null,null,"AQLniveau1_"]
[null,null,null,"AQLniveau1_"]
[null,null,null,"AQLniveau1_"]
[null,null,null,"AQLniveau1_"]
[null,null,null,"AQLniveau1_"]
[null,null,null,"AQLniveau1_"]
[null,null,null,"AQLniveau1_"]
[null,null,null,"AQLniveau1_"]
[null,null,null,"AQLniveau1_"]
[null,null,null,"AQLniveau1_"]
[null,null,null,"AQLniveau1_"]
[null,null,null,"AQLniveau1_"]
[null,null,null,"AQLniveau1_"]
[null,null,null,"AQLniveau1_"]
[null,null,null,"AQLniveau1_"]
[null,null,null,"AQLniveau1_"]
[null,null,null,"AQLniveau1_"]
[null,null,null,"AQLniveau1_"]
[null,null,null,"AQLniveau1_"]
[null,null,null,"AQLniveau1_"]
[null,null,null,"AQLniveau1_"]
[null,null,null,"AQLniveau1_"]
[null,null,null,"AQLniveau1_"]
[null,null,null,"AQLniveau1_"]
[null,null,null,"AQLniveau1_"]
[null,null,null,"AQLniveau1_"]
[null,null,null,"AQLniveau1_"]
[null,null,null,"AQLniveau1_"]
[null,null,null,"AQLniveau1_"]
[null,null,null,"AQLniveau1_"]
[null,null,null,"AQLniveau1_"]
[null,null,null,"AQLniveau1_"]
[null,null,null,"AQLniveau1_"]
[null,null,null,"AQLniveau1_"]
[null,null,null,"AQLniveau1_"]
[null,null,null,"AQLniveau1_"]
[null,null,null,"AQLniveau1_"]
[null,null,null,"AQLniveau1_"]
[null,null,null,"AQLniveau1_"]
[null,null,null,"AQLniveau1_"]
[null,null,null,"AQLniveau1_"]
[null,null,null,"AQLniveau1_"]
[null,null,null,"AQLniveau1_"]
[null,null,null,"AQLniveau1_"]
[null,null,null,"AQLniveau1_"]
[null,null,null,"AQLniveau1_"]
[null,null,null,"AQLniveau1_"]
[null,null,null,"AQLniveau1_"]
[null,null,null,"AQLniveau1_"]
[null,null,null,"AQLniveau1_"]
[null,null,null,"AQLniveau1_"]
[null,null,null,"AQLniveau1_"]
[null,null,null,"AQLniveau1_"]
[null,null,null,"AQLniveau1_"]
[null,null,null,"AQLniveau1_"]
[null,null,null,"AQLniveau1_"]
[null,null,null,"AQLniveau1_"]
[null,null,null,"AQLniveau1_"]
[null,null,null,"AQLniveau1_"]
[null,null,null,"AQLniveau1_"]
[null,null,null,"AQLniveau1_"]
[null,null,null,"AQLniveau1_"]
[null,null,null,"AQLniveau1_"]
[null,null,null,"AQLniveau1_"]
[null,null,null,"AQLniveau1_"]
[null,null,null,"AQLniveau1_"]
[null,null,null,"AQLniveau1_"]
[null,null,null,"AQLniveau1_"]
[null,null,null,"AQLniveau1_"]
[null,null,null,"AQLniveau1_"]
[null,null,null,"AQLniveau1_"]
[null,null,null,"AQLniveau1_"]
[null,null,null,"AQLniveau1_"]
[null,null,null,"AQLniveau1_"]
[null,null,null,"AQLniveau1_"]
[null,null,null,"AQLniveau1_"]
[null,null,null,"AQLniveau1_"]
[null,null,null,"AQLniveau1_"]
[null,null,null,"AQLniveau1_"]
[null,null,null,"AQLniveau1_"]
[null,null,null,"AQLniveau1_"]
[null,null,null,"AQLniveau1_"]
[null,null,null,"AQLniveau1_"]
[null,null,null,"AQLniveau1_"]
[null,null,null,"AQLniveau1_"]
[null,null,null,"AQLniveau1_"]
[null,null,null,"AQLniveau1_"]
[null,null,null,"AQLniveau1_"]
[null,null,null,"AQLniveau1_"]
[null,null,null,"AQLniveau1_"]
[null,null,null,"AQLniveau1_"]
[null,null,null,"AQLniveau1_"]
[null,null,null,"AQLniveau1_"]
[null,null,null,"AQLniveau1_"]
[null,null,null,"AQLniveau1_"]
[null,null,null,"AQLniveau1_"]
[null,null,null,"AQLniveau1_"]
[null,null,null,"AQLniveau1_"]
[null,null,null,"AQLniveau1_"]
[null,null,null,"AQLniveau1_"]
[null,null,null,"AQLniveau1_"]
[null,null,null,"AQLniveau1_"]
[null,null,null,"AQLniveau1_"]
[null,null,null,"AQLniveau1_"]
[null,null,null,"AQLniveau1_"]
[null,null,null,"AQLniveau1_"]
[null,null,null,"AQLniveau1_"]
[null,null,null,"AQLniveau1_"]
[null,null,null,"AQLniveau1_"]
[null,null,null,"AQLniveau1_"]
[null,null,null,"AQLniveau2_"]
[null,null,null,"AQLniveau1_"]
[null,null,null,"AQLniveau1_"]
[null,null,null,"AQLniveau1_"]
[null,null,null,"AQLniveau1_"]
[null,null,null,"AQLniveau1_"]
[null,null,null,"AQLniveau1_"]
[null,null,null,"AQLniveau1_"]
[null,null,null,"AQLniveau1_"]
[null,null,null,"AQLniveau1_"]
[null,null,null,"AQLniveau1_"]
[null,null,null,"AQLniveau1_"]
[null,null,null,"AQLniveau1_"]
[null,null,null,"AQLniveau1_"]
[null,null,null,"AQLniveau1_"]
[null,null,null,"AQLniveau1_"]
[null,null,null,"AQLniveau1_"]
[null,null,null,"AQLniveau1_"]
[null,null,null,"AQLniveau1_"]
[null,null,null,"AQLniveau1_"]
[null,null,null,"AQLniveau1_"]
[null,null,null,"AQLniveau1_"]
[null,null,null,"AQLniveau1_"]
[null,null,null,"AQLniveau1_"]
[null,null,null,"AQLniveau1_"]
[null,null,null,"AQLniveau1_"]
[null,null,null,"AQLniveau1_"]
[null,null,null,"AQLniveau1_"]
[null,null,null,"AQLniveau1_"]
[null,null,null,"AQLniveau1_"]
[null,null,null,"AQLniveau1_"]
[null,null,null,"AQLniveau1_"]
[null,null,null,"AQLniveau1_"]
[null,null,null,"AQLniveau1_"]
[null,null,null,"AQLniveau1_"]
[null,null,null,"AQLniveau1_"]
[null,null,null,"AQLniveau1_"]
[null,null,null,"AQLniveau1_"]
[null,null,null,"AQLniveau1_"]
[null,null,null,"AQLniveau1_"]
[null,null,null,"AQLniveau1_"]
[null,null,null,"AQLniveau1_"]
[null,null,null,"AQLniveau1_"]
[null,null,null,"AQLniveau1_"]
[null,null,null,"AQLniveau1_"]
[null,null,null,"AQLniveau1_"]
[null,null,null,"AQLniveau1_"]
[null,null,null,"AQLniveau1_"]
[null,null,null,"AQLniveau1_"]
[null,null,null,"AQLniveau1_"]
[null,null,null,"AQLniveau1_"]
[null,null,null,"AQLniveau1_"]
[null,null,null,"AQLniveau1_"]
[null,null,null,"AQLniveau1_"]
[null,null,null,"AQLniveau1_"]
[null,null,null,"AQLniveau1_"]
[null,null,null,"AQLniveau1_"]
[null,null,null,"AQLniveau1_"]
[null,null,null,"AQLniveau1_"]
[null,null,null,"AQLniveau1_"]
[null,null,null,"AQLniveau1_"]
[null,null,null,"AQLniveau1_"]
[null,null,null,"AQLniveau1_"]
[null,null,null,"AQLniveau1_"]
[null,null,null,"AQLniveau1_"]
[null,null,null,"AQLniveau1_"]
[null,null,null,"AQLniveau1_"]
[null,null,null,"AQLniveau1_"]
[null,null,null,"AQLniveau1_"]
[null,null,null,"AQLniveau1_"]
[null,null,null,"AQLniveau1_"]
[null,null,null,"AQLniveau1_"]
[null,null,null,"AQLniveau1_"]
[null,null,null,"AQLniveau1_"]
[null,null,null,"AQLniveau1_"]
[null,null,null,"AQLniveau3_"]
[null,null,null,"AQLniveau3_"]
[null,null,null,"AQLniveau1_"]
[null,null,null,"AQLniveau1_"]
[null,null,null,"AQLniveau1_"]
[null,null,null,"AQLniveau1_"]
[null,null,null,"AQLniveau1_"]
[null,null,null,"AQLniveau1_"]
[null,null,null,"AQLniveau1_"]
[null,null,null,"AQLniveau1_"]
[null,null,null,"AQLniveau3_"]
[null,null,null,"AQLniveau1_"]
[null,null,null,"AQLniveau1_"]
[null,null,null,"AQLniveau1_"]
[null,null,null,"AQLniveau1_"]
[null,null,null,"AQLniveau1_"]
[null,null,null,"AQLniveau1_"]
[null,null,null,"AQLniveau1_"]
[null,null,null,"AQLniveau1_"]
[null,null,null,"AQLniveau1_"]
[null,null,null,"AQLniveau1_"]
[null,null,null,"AQLniveau1_"]
[null,null,null,"AQLniveau1_"]
[null,null,null,"AQLniveau1_"]
[null,null,null,"AQLniveau1_"]
[null,null,null,"AQLniveau1_"]
[null,null,null,"AQLniveau1_"]
[null,null,null,"AQLniveau1_"]
[null,null,null,"AQLniveau1_"]
[null,null,null,"AQLniveau1_"]
[null,null,null,"AQLniveau1_"]
[null,null,null,"AQLniveau1_"]
[null,null,null,"AQLniveau2_"]
[null,null,null,"AQLniveau2_"]
[null,null,null,"AQLniveau1_"]
[null,null,null,"AQLniveau1_"]
[null,null,null,"AQLniveau1_"]
[null,null,null,"AQLniveau1_"]
[null,null,null,"AQLniveau1_"]
[null,null,null,"AQLniveau1_"]
[null,null,null,"AQLniveau1_"]
[null,null,null,"AQLniveau1_"]
[null,null,null,"AQLniveau1_"]
[null,null,null,"AQLniveau1_"]
[null,null,null,"AQLniveau1_"]
[null,null,null,"AQLniveau1_"]
[null,null,null,"AQLniveau1_"]
[null,null,null,"AQLniveau1_"]
[null,null,null,"AQLniveau1_"]
[null,null,null,"AQLniveau1_"]
[null,null,null,"AQLniveau1_"]
[null,null,null,"AQLniveau1_"]
[null,null,null,"AQLniveau1_"]
[null,null,null,"AQLniveau1_"]
[null,null,null,"AQLniveau1_"]
[null,null,null,"AQLniveau1_"]
[null,null,null,"AQLniveau1_"]
[null,null,null,"AQLniveau1_"]
[null,null,null,"AQLniveau1_"]
[null,null,null,"AQLniveau1_"]
[null,null,null,"AQLniveau1_"]
[null,null,null,"AQLniveau1_"]
[null,null,null,"AQLniveau1_"]
[null,null,null,"AQLniveau1_"]
[null,null,null,"AQLniveau1_"]
[null,null,null,"AQLniveau1_"]
[null,null,null,"AQLniveau1_"]
[null,null,null,"AQLniveau1_"]
[null,null,null,"AQLniveau1_"]
[null,null,null,"AQLniveau1_"]
[null,null,null,"AQLniveau1_"]
[null,null,null,"AQLniveau1_"]
[null,null,null,"AQLniveau1_"]
[null,null,null,"AQLniveau1_"]
[null,null,null,"AQLniveau1_"]
[null,null,null,"AQLniveau1_"]
[null,null,null,"AQLniveau1_"]
[null,null,null,"AQLniveau1_"]
[null,null,null,"AQLniveau1_"]
[null,null,null,"AQLniveau1_"]
[null,null,null,"AQLniveau1_"]
[null,null,null,"AQLniveau1_"]
[null,null,null,"AQLniveau1_"]
[null,null,null,"AQLniveau1_"]
[null,null,null,"AQLniveau1_"]
[null,null,null,"AQLniveau1_"]
[null,null,null,"AQLniveau1_"]
[null,null,null,"AQLniveau1_"]
[null,null,null,"AQLniveau1_"]
[null,null,null,"AQLniveau1_"]
[null,null,null,"AQLniveau1_"]
[null,null,null,"AQLniveau1_"]
[null,null,null,"AQLniveau1_"]
[null,null,null,"AQLniveau1_"]
[null,null,null,"AQLniveau1_"]
[null,null,null,"AQLniveau1_"]
[null,null,null,"AQLniveau1_"]
[null,null,null,"AQLniveau1_"]
[null,null,null,"AQLniveau1_"]
[null,null,null,"AQLniveau1_"]
[null,null,null,"AQLniveau1_"]
[null,null,null,"AQLniveau1_"]
[null,null,null,"AQLniveau1_"]
[null,null,null,"AQLniveau1_"]
[null,null,null,"AQLniveau1_"]
[null,null,null,"AQLniveau1_"]
[null,null,null,"AQLniveau1_"]
[null,null,null,"AQLniveau1_"]
[null,null,null,"AQLniveau1_"]
[null,null,null,"AQLniveau1_"]
[null,null,null,"AQLniveau1_"]
[null,null,null,"AQLniveau1_"]
[null,null,null,"AQLniveau1_"]
[null,null,null,"AQLniveau1_"]
[null,null,null,"AQLniveau1_"]
[null,null,null,"AQLniveau1_"]
[null,null,null,"AQLniveau1_"]
[null,null,null,"AQLniveau1_"]
[null,null,null,"AQLniveau1_"]
[null,null,null,"AQLniveau1_"]
[null,null,null,"AQLniveau1_"]
[null,null,null,"AQLniveau1_"]
[null,null,null,"AQLniveau1_"]
[null,null,null,"AQLniveau1_"]
[null,null,null,"AQLniveau1_"]
[null,null,null,"AQLniveau1_"]
[null,null,null,"AQLniveau1_"]
[null,null,null,"AQLniveau1_"]
[null,null,null,"AQLniveau1_"]
[null,null,null,"AQLniveau1_"]
[null,null,null,"AQLniveau1_"]
[null,null,null,"AQLniveau1_"]
[null,null,null,"AQLniveau1_"]
[null,null,null,"AQLniveau1_"]
[null,null,null,"AQLniveau1_"]
[null,null,null,"AQLniveau1_"]
[null,null,null,"AQLniveau1_"]
[null,null,null,"AQLniveau1_"]
[null,null,null,"AQLniveau1_"]
[null,null,null,"AQLniveau1_"]
[null,null,null,"AQLniveau1_"]
[null,null,null,"AQLniveau1_"]
[null,null,null,"AQLniveau1_"]
[null,null,null,"AQLniveau1_"]
[null,null,null,"AQLniveau1_"]
[null,null,null,"AQLniveau1_"]
[null,null,null,"AQLniveau1_"]
[null,null,null,"AQLniveau1_"]
[null,null,null,"AQLniveau1_"]
[null,null,null,"AQLniveau1_"]
[null,null,null,"AQLniveau1_"]
[null,null,null,"AQLniveau1_"]
[null,null,null,"AQLniveau1_"]
[null,null,null,"AQLniveau1_"]
[null,null,null,"AQLniveau1_"]
[null,null,null,"AQLniveau1_"]
[null,null,null,"AQLniveau1_"]
[null,null,null,"AQLniveau1_"]
[null,null,null,"AQLniveau1_"]
[null,null,null,"AQLniveau1_"]
[null,null,null,"AQLniveau1_"]
[null,null,null,"AQLniveau1_"]
[null,null,null,"AQLniveau1_"]
[null,null,null,"AQLniveau1_"]
[null,null,null,"AQLniveau1_"]
[null,null,null,"AQLniveau1_"]
[null,null,null,"AQLniveau1_"]
[null,null,null,"AQLniveau1_"]
[null,null,null,"AQLniveau1_"]
[null,null,null,"AQLniveau1_"]
[null,null,null,"AQLniveau1_"]
[null,null,null,"AQLniveau1_"]
[null,null,null,"AQLniveau1_"]
[null,null,null,"AQLniveau1_"]
[null,null,null,"AQLniveau1_"]
[null,null,null,"AQLniveau1_"]
[null,null,null,"AQLniveau1_"]
[null,null,null,"AQLniveau1_"]
[null,null,null,"AQLniveau1_"]
[null,null,null,"AQLniveau1_"]
[null,null,null,"AQLniveau1_"]
[null,null,null,"AQLniveau1_"]
[null,null,null,"AQLniveau1_"]
[null,null,null,"AQLniveau1_"]
[null,null,null,"AQLniveau1_"]
[null,null,null,"AQLniveau1_"]
[null,null,null,"AQLniveau1_"]
[null,null,null,"AQLniveau1_"]
[null,null,null,"AQLniveau1_"]
[null,null,null,"AQLniveau1_"]
[null,null,null,"AQLniveau1_"]
[null,null,null,"AQLniveau1_"]
[null,null,null,"AQLniveau1_"]
[null,null,null,"AQLniveau1_"]
[null,null,null,"AQLniveau1_"]
[null,null,null,"AQLniveau1_"]
[null,null,null,"AQLniveau1_"]
[null,null,null,"AQLniveau1_"]
[null,null,null,"AQLniveau1_"]
[null,null,null,"AQLniveau1_"]
[null,null,null,"AQLniveau1_"]
[null,null,null,"AQLniveau1_"]
[null,null,null,"AQLniveau1_"]
[null,null,null,"AQLniveau1_"]
[null,null,null,"AQLniveau1_"]
[null,null,null,"AQLniveau1_"]
[null,null,null,"AQLniveau1_"]
[null,null,null,"AQLniveau1_"]
[null,null,null,"AQLniveau1_"]
[null,null,null,"AQLniveau1_"]
[null,null,null,"AQLniveau1_"]
[null,null,null,"AQLniveau1_"]
[null,null,null,"AQLniveau1_"]
[null,null,null,"AQLniveau1_"]
[null,null,null,"AQLniveau1_"]
[null,null,null,"AQLniveau1_"]
[null,null,null,"AQLniveau1_"]
[null,null,null,"AQLniveau1_"]
[null,null,null,"AQLniveau1_"]
[null,null,null,"AQLniveau1_"]
[null,null,null,"AQLniveau1_"]
[null,null,null,"AQLniveau1_"]
[null,null,null,"AQLniveau1_"]
[null,null,null,"AQLniveau1_"]
[null,null,null,"AQLniveau1_"]
[null,null,null,"AQLniveau1_"]
[null,null,null,"AQLniveau1_"]
[null,null,null,"AQLniveau1_"]
[null,null,null,"AQLniveau1_"]
[null,null,null,"AQLniveau1_"]
[null,null,null,"AQLniveau1_"]
[null,null,null,"AQLniveau1_"]
[null,null,null,"AQLniveau1_"]
[null,null,null,"AQLniveau1_"]
[null,null,null,"AQLniveau1_"]
[null,null,null,"AQLniveau1_"]
[null,null,null,"AQLniveau1_"]
[null,null,null,"AQLniveau1_"]
[null,null,null,"AQLniveau1_"]
[null,null,null,"AQLniveau1_"]
[null,null,null,"AQLniveau1_"]
[null,null,null,"AQLniveau1_"]
[null,null,null,"AQLniveau1_"]
[null,null,null,"AQLniveau1_"]
[null,null,null,"AQLniveau1_"]
[null,null,null,"AQLniveau1_"]
[null,null,null,"AQLniveau1_"]
[null,null,null,"AQLniveau1_"]
[null,null,null,"AQLniveau1_"]
[null,null,null,"AQLniveau1_"]
[null,null,null,"AQLniveau1_"]
[null,null,null,"AQLniveau1_"]
[null,null,null,"AQLniveau1_"]
[null,null,null,"AQLniveau1_"]
[null,null,null,"AQLniveau1_"]
[null,null,null,"AQLniveau1_"]
[null,null,null,"AQLniveau1_"]
[null,null,null,"AQLniveau1_"]
[null,null,null,"AQLniveau1_"]
[null,null,null,"AQLniveau1_"]
[null,null,null,"AQLniveau1_"]
[null,null,null,"AQLniveau1_"]
[null,null,null,"AQLniveau1_"]
[null,null,null,"AQLniveau1_"]
[null,null,null,"AQLniveau1_"]
[null,null,null,"AQLniveau1_"]
[null,null,null,"AQLniveau1_"]
[null,null,null,"AQLniveau1_"]
[null,null,null,"AQLniveau1_"]
[null,null,null,"AQLniveau1_"]
[null,null,null,"AQLniveau1_"]
[null,null,null,"AQLniveau1_"]
[null,null,null,"AQLniveau1_"]
[null,null,null,"AQLniveau1_"]
[null,null,null,"AQLniveau1_"]
[null,null,null,"AQLniveau1_"]
[null,null,null,"AQLniveau1_"]
[null,null,null,"AQLniveau1_"]
[null,null,null,"AQLniveau1_"]
[null,null,null,"AQLniveau1_"]
[null,null,null,"AQLniveau1_"]
[null,null,null,"AQLniveau1_"]
[null,null,null,"AQLniveau1_"]
[null,null,null,"AQLniveau1_"]
[null,null,null,"AQLniveau1_"]
[null,null,null,"AQLniveau1_"]
[null,null,null,"AQLniveau1_"]
[null,null,null,"AQLniveau1_"]
[null,null,null,"AQLniveau1_"]
[null,null,null,"AQLniveau1_"]
[null,null,null,"AQLniveau1_"]
[null,null,null,"AQLniveau1_"]
[null,null,null,"AQLniveau1_"]
[null,null,null,"AQLniveau1_"]
[null,null,null,"AQLniveau1_"]
[null,null,null,"AQLniveau1_"]
[null,null,null,"AQLniveau1_"]
[null,null,null,"AQLniveau1_"]
[null,null,null,"AQLniveau1_"]
[null,null,null,"AQLniveau1_"]
[null,null,null,"AQLniveau1_"]
[null,null,null,"AQLniveau1_"]
[null,null,null,"AQLniveau1_"]
[null,null,null,"AQLniveau1_"]
[null,null,null,"AQLniveau1_"]
[null,null,null,"AQLniveau1_"]
[null,null,null,"AQLniveau1_"]
[null,null,null,"AQLniveau1_"]
[null,null,null,"AQLniveau1_"]
[null,null,null,"AQLniveau1_"]
[null,null,null,"AQLniveau1_"]
[null,null,null,"AQLniveau1_"]
[null,null,null,"AQLniveau1_"]
[null,null,null,"AQLniveau1_"]
[null,null,null,"AQLniveau1_"]
[null,null,null,"AQLniveau1_"]
[null,null,null,"AQLniveau1_"]
[null,null,null,"AQLniveau1_"]
[null,null,null,"AQLniveau1_"]
[null,null,null,"AQLniveau1_"]
[null,null,null,"AQLniveau1_"]
[null,null,null,"AQLniveau1_"]
[null,null,null,"AQLniveau1_"]
[null,null,null,"AQLniveau1_"]
[null,null,null,"AQLniveau1_"]
[null,null,null,"AQLniveau1_"]
[null,null,null,"AQLniveau1_"]
[null,null,null,"AQLniveau1_"]
[null,null,null,"AQLniveau1_"]
[null,null,null,"AQLniveau1_"]
[null,null,null,"AQLniveau1_"]
[null,null,null,"AQLniveau1_"]
[null,null,null,"AQLniveau1_"]
[null,null,null,"AQLniveau1_"]
[null,null,null,"AQLniveau1_"]
[null,null,null,"AQLniveau1_"]
[null,null,null,"AQLniveau1_"]
[null,null,null,"AQLniveau1_"]
[null,null,null,"AQLniveau1_"]
[null,null,null,"AQLniveau1_"]
[null,null,null,"AQLniveau1_"]
[null,null,null,"AQLniveau1_"]
[null,null,null,"AQLniveau1_"]
[null,null,null,"AQLniveau1_"]
[null,null,null,"AQLniveau1_"]
[null,null,null,"AQLniveau1_"]
[null,null,null,"AQLniveau1_"]
[null,null,null,"AQLniveau1_"]
[null,null,null,"AQLniveau1_"]
[null,null,null,"AQLniveau1_"]
[null,null,null,"AQLniveau1_"]
[null,null,null,"AQLniveau1_"]
[null,null,null,"AQLniveau1_"]
[null,null,null,"AQLniveau1_"]
[null,null,null,"AQLniveau1_"]
[null,null,null,"AQLniveau1_"]
[null,null,null,"AQLniveau1_"]
[null,null,null,"AQLniveau1_"]
[null,null,null,"AQLniveau1_"]
[null,null,null,"AQLniveau1_"]
[null,null,null,"AQLniveau1_"]
[null,null,null,"AQLniveau1_"]
[null,null,null,"AQLniveau1_"]
[null,null,null,"AQLniveau1_"]
[null,null,null,"AQLniveau1_"]
[null,null,null,"AQLniveau1_"]
[null,null,null,"AQLniveau1_"]
[null,null,null,"AQLniveau1_"]
[null,null,null,"AQLniveau1_"]
[null,null,null,"AQLniveau1_"]
[null,null,null,"AQLniveau1_"]
[null,null,null,"AQLniveau1_"]
[null,null,null,"AQLniveau1_"]
[null,null,null,"AQLniveau1_"]
[null,null,null,"AQLniveau1_"]
[null,null,null,"AQLniveau1_"]
[null,null,null,"AQLniveau1_"]
[null,null,null,"AQLniveau1_"]
[null,null,null,"AQLniveau1_"]
[null,null,null,"AQLniveau1_"]
[null,null,null,"AQLniveau1_"]
[null,null,null,"AQLniveau1_"]
[null,null,null,"AQLniveau1_"]
[null,null,null,"AQLniveau1_"]
[null,null,null,"AQLniveau1_"]
[null,null,null,"AQLniveau1_"]
[null,null,null,"AQLniveau1_"]
[null,null,null,"AQLniveau1_"]
[null,null,null,"AQLniveau1_"]
[null,null,null,"AQLniveau1_"]
[null,null,null,"AQLniveau1_"]
[null,null,null,"AQLniveau1_"]
[null,null,null,"AQLniveau1_"]
[null,null,null,"AQLniveau1_"]
[null,null,null,"AQLniveau1_"]
[null,null,null,"AQLniveau1_"]
[null,null,null,"AQLniveau1_"]
[null,null,null,"AQLniveau1_"]
[null,null,null,"AQLniveau1_"]
[null,null,null,"AQLniveau1_"]
[null,null,null,"AQLniveau1_"]
[null,null,null,"AQLniveau1_"]
[null,null,null,"AQLniveau1_"]
[null,null,null,"AQLniveau1_"]
[null,null,null,"AQLniveau1_"]
[null,null,null,"AQLniveau1_"]
[null,null,null,"AQLniveau1_"]
[null,null,null,"AQLniveau1_"]
[null,null,null,"AQLniveau1_"]
[null,null,null,"AQLniveau1_"]
[null,null,null,"AQLniveau1_"]
[null,null,null,"AQLniveau1_"]
[null,null,null,"AQLniveau1_"]
[null,null,null,"AQLniveau1_"]
[null,null,null,"AQLniveau1_"]
[null,null,null,"AQLniveau1_"]
[null,null,null,"AQLniveau1_"]
[null,null,null,"AQLniveau1_"]
[null,null,null,"AQLniveau1_"]
[null,null,null,"AQLniveau1_"]
[null,null,null,"AQLniveau1_"]
[null,null,null,"AQLniveau1_"]
[null,null,null,"AQLniveau1_"]
[null,null,null,"AQLniveau1_"]
[null,null,null,"AQLniveau1_"]
[null,null,null,"AQLniveau1_"]
[null,null,null,"AQLniveau1_"]
[null,null,null,"AQLniveau1_"]
[null,null,null,"AQLniveau1_"]
[null,null,null,"AQLniveau1_"]
[null,null,null,"AQLniveau1_"]
[null,null,null,"AQLniveau1_"]
[null,null,null,"AQLniveau1_"]
[null,null,null,"AQLniveau1_"]
[null,null,null,"AQLniveau1_"]
[null,null,null,"AQLniveau1_"]
[null,null,null,"AQLniveau1_"]
[null,null,null,"AQLniveau1_"]
[null,null,null,"AQLniveau1_"]
[null,null,null,"AQLniveau1_"]
[null,null,null,"AQLniveau3_"]
[null,null,null,"AQLniveau1_"]
[null,null,null,"AQLniveau1_"]
[null,null,null,"AQLniveau1_"]
[null,null,null,"AQLniveau1_"]
[null,null,null,"AQLniveau1_"]
[null,null,null,"AQLniveau1_"]
[null,null,null,"AQLniveau1_"]
[null,null,null,"AQLniveau3_"]
[null,null,null,"AQLniveau2_"]
[null,null,null,"AQLniveau1_"]
[null,null,null,"AQLniveau1_"]
[null,null,null,"AQLniveau1_"]
[null,null,null,"AQLniveau1_"]
[null,null,null,"AQLniveau1_"]
[null,null,null,"AQLniveau1_"]
[null,null,null,"AQLniveau1_"]
[null,null,null,"AQLniveau1_"]
[null,null,null,"AQLniveau1_"]
[null,null,null,"AQLniveau1_"]
[null,null,null,"AQLniveau1_"]
[null,null,null,"AQLniveau1_"]
[null,null,null,"AQLniveau1_"]
[null,null,null,"AQLniveau1_"]
[null,null,null,"AQLniveau1_"]
[null,null,null,"AQLniveau1_"]
[null,null,null,"AQLniveau1_"]
[null,null,null,"AQLniveau1_"]
[null,null,null,"AQLniveau1_"]
[null,null,null,"AQLniveau1_"]
[null,null,null,"AQLniveau1_"]
[null,null,null,"AQLniveau1_"]
[null,null,null,"AQLniveau1_"]
[null,null,null,"AQLniveau1_"]
[null,null,null,"AQLniveau1_"]
[null,null,null,"AQLniveau1_"]
[null,null,null,"AQLniveau1_"]
[null,null,null,"AQLniveau1_"]
[null,null,null,"AQLniveau1_"]
[null,null,null,"AQLniveau1_"]
[null,null,null,"AQLniveau1_"]
[null,null,null,"AQLniveau1_"]
[null,null,null,"AQLniveau1_"]
[null,null,null,"AQLniveau1_"]
[null,null,null,"AQLniveau1_"]
[null,null,null,"AQLniveau1_"]
[null,null,null,"AQLniveau1_"]
[null,null,null,"AQLniveau1_"]
[null,null,null,"AQLniveau1_"]
[null,null,null,"AQLniveau1_"]
[null,null,null,"AQLniveau1_"]
[null,null,null,"AQLniveau1_"]
[null,null,null,"AQLniveau1_"]
[null,null,null,"AQLniveau1_"]
[null,null,null,"AQLniveau1_"]
[null,null,null,"AQLniveau1_"]
[null,null,null,"AQLniveau1_"]
[null,null,null,"AQLniveau1_"]
[null,null,null,"AQLniveau1_"]
[null,null,null,"AQLniveau1_"]
[null,null,null,"AQLniveau1_"]
[null,null,null,"AQLniveau1_"]
[null,null,null,"AQLniveau1_"]
[null,null,null,"AQLniveau1_"]
[null,null,null,"AQLniveau1_"]
[null,null,null,"AQLniveau1_"]
[null,null,null,"AQLniveau1_"]
[null,null,null,"AQLniveau1_"]
[null,null,null,"AQLniveau1_"]
[null,null,null,"AQLniveau1_"]
[null,null,null,"AQLniveau1_"]
[null,null,null,"AQLniveau1_"]
[null,null,null,"AQLniveau1_"]
[null,null,null,"AQLniveau1_"]
[null,null,null,"AQLniveau1_"]
[null,null,null,"AQLniveau1_"]
[null,null,null,"AQLniveau1_"]
[null,null,null,"AQLniveau1_"]
[null,null,null,"AQLniveau1_"]
[null,null,null,"AQLniveau1_"]
[null,null,null,"AQLniveau1_"]
[null,null,null,"AQLniveau1_"]
[null,null,null,"AQLniveau1_"]
[null,null,null,"AQLniveau1_"]
[null,null,null,"AQLniveau1_"]
[null,null,null,"AQLniveau1_"]
[null,null,null,"AQLniveau1_"]
[null,null,null,"AQLniveau1_"]
[null,null,null,"AQLniveau1_"]
[null,null,null,"AQLniveau1_"]
[null,null,null,"AQLniveau3_"]
[null,null,null,"AQLniveau1_"]
[null,null,null,"AQLniveau1_"]
[null,null,null,"AQLniveau1_"]
[null,null,null,"AQLniveau1_"]
[null,null,null,"AQLniveau1_"]
[null,null,null,"AQLniveau1_"]
[null,null,null,"AQLniveau1_"]
[null,null,null,"AQLniveau1_"]
[null,null,null,"AQLniveau1_"]
[null,null,null,"AQLniveau1_"]
[null,null,null,"AQLniveau1_"]
[null,null,null,"AQLniveau1_"]
[null,null,null,"AQLniveau1_"]
[null,null,null,"AQLniveau1_"]
[null,null,null,"AQLniveau1_"]
[null,null,null,"AQLniveau1_"]
[null,null,null,"AQLniveau1_"]
[null,null,null,"AQLniveau1_"]
[null,null,null,"AQLniveau1_"]
[null,null,null,"AQLniveau1_"]
[null,null,null,"AQLniveau1_"]
[null,null,null,"AQLniveau1_"]
[null,null,null,"AQLniveau1_"]
[null,null,null,"AQLniveau1_"]
[null,null,null,"AQLniveau1_"]
[null,null,null,"AQLniveau1_"]
[null,null,null,"AQLniveau1_"]
[null,null,null,"AQLniveau1_"]
[null,null,null,"AQLniveau1_"]
[null,null,null,"AQLniveau1_"]
[null,null,null,"AQLniveau1_"]
[null,null,null,"AQLniveau1_"]
[null,null,null,"AQLniveau1_"]
[null,null,null,"AQLniveau1_"]
[null,null,null,"AQLniveau1_"]
[null,null,null,"AQLniveau1_"]
[null,null,null,"AQLniveau1_"]
[null,null,null,"AQLniveau1_"]
[null,null,null,"AQLniveau1_"]
[null,null,null,"AQLniveau1_"]
[null,null,null,"AQLniveau1_"]
[null,null,null,"AQLniveau1_"]
[null,null,null,"AQLniveau1_"]
[null,null,null,"AQLniveau1_"]
[null,null,null,"AQLniveau1_"]
[null,null,null,"AQLniveau1_"]
[null,null,null,"AQLniveau1_"]
[null,null,null,"AQLniveau1_"]
[null,null,null,"AQLniveau1_"]
[null,null,null,"AQLniveau1_"]
[null,null,null,"AQLniveau1_"]
[null,null,null,"AQLniveau1_"]
[null,null,null,"AQLniveau1_"]
[null,null,null,"AQLniveau1_"]
[null,null,null,"AQLniveau1_"]
[null,null,null,"AQLniveau1_"]
[null,null,null,"AQLniveau1_"]
[null,null,null,"AQLniveau1_"]
[null,null,null,"AQLniveau1_"]
[null,null,null,"AQLniveau1_"]
[null,null,null,"AQLniveau1_"]
[null,null,null,"AQLniveau1_"]
[null,null,null,"AQLniveau1_"]
[null,null,null,"AQLniveau1_"]
[null,null,null,"AQLniveau1_"]
[null,null,null,"AQLniveau1_"]
[null,null,null,"AQLniveau1_"]
[null,null,null,"AQLniveau1_"]
[null,null,null,"AQLniveau1_"]
[null,null,null,"AQLniveau1_"]
[null,null,null,"AQLniveau1_"]
[null,null,null,"AQLniveau1_"]
[null,null,null,"AQLniveau1_"]
[null,null,null,"AQLniveau1_"]
[null,null,null,"AQLniveau1_"]
[null,null,null,"AQLniveau1_"]
[null,null,null,"AQLniveau1_"]
[null,null,null,"AQLniveau1_"]
[null,null,null,"AQLniveau1_"]
[null,null,null,"AQLniveau1_"]
[null,null,null,"AQLniveau1_"]
[null,null,null,"AQLniveau1_"]
[null,null,null,"AQLniveau1_"]
[null,null,null,"AQLniveau1_"]
[null,null,null,"AQLniveau1_"]
[null,null,null,"AQLniveau1_"]
[null,null,null,"AQLniveau1_"]
[null,null,null,"AQLniveau1_"]
[null,null,null,"AQLniveau1_"]
[null,null,null,"AQLniveau1_"]
[null,null,null,"AQLniveau1_"]
[null,null,null,"AQLniveau1_"]
[null,null,null,"AQLniveau1_"]
[null,null,null,"AQLniveau1_"]
[null,null,null,"AQLniveau1_"]
[null,null,null,"AQLniveau1_"]
[null,null,null,"AQLniveau1_"]
[null,null,null,"AQLniveau1_"]
[null,null,null,"AQLniveau1_"]
[null,null,null,"AQLniveau1_"]
[null,null,null,"AQLniveau1_"]
[null,null,null,"AQLniveau1_"]
[null,null,null,"AQLniveau1_"]
[null,null,null,"AQLniveau2_"]
[null,null,null,"AQLniveau1_"]
[null,null,null,"AQLniveau1_"]
[null,null,null,"AQLniveau1_"]
[null,null,null,"AQLniveau1_"]
[null,null,null,"AQLniveau1_"]
[null,null,null,"AQLniveau1_"]
[null,null,null,"AQLniveau1_"]
[null,null,null,"AQLniveau1_"]
[null,null,null,"AQLniveau1_"]
[null,null,null,"AQLniveau1_"]
[null,null,null,"AQLniveau1_"]
[null,null,null,"AQLniveau1_"]
[null,null,null,"AQLniveau1_"]
[null,null,null,"AQLniveau1_"]
[null,null,null,"AQLniveau1_"]
[null,null,null,"AQLniveau1_"]
[null,null,null,"AQLniveau1_"]
[null,null,null,"AQLniveau1_"]
[null,null,null,"AQLniveau1_"]
[null,null,null,"AQLniveau1_"]
[null,null,null,"AQLniveau1_"]
[null,null,null,"AQLniveau1_"]
[null,null,null,"AQLniveau1_"]
[null,null,null,"AQLniveau1_"]
[null,null,null,"AQLniveau1_"]
[null,null,null,"AQLniveau1_"]
[null,null,null,"AQLniveau1_"]
[null,null,null,"AQLniveau1_"]
[null,null,null,"AQLniveau1_"]
[null,null,null,"AQLniveau1_"]
[null,null,null,"AQLniveau1_"]
[null,null,null,"AQLniveau1_"]
[null,null,null,"AQLniveau1_"]
[null,null,null,"AQLniveau1_"]
[null,null,null,"AQLniveau1_"]
[null,null,null,"AQLniveau1_"]
[null,null,null,"AQLniveau1_"]
[null,null,null,"AQLniveau1_"]
[null,null,null,"AQLniveau1_"]
[null,null,null,"AQLniveau1_"]
[null,null,null,"AQLniveau1_"]
[null,null,null,"AQLniveau1_"]
[null,null,null,"AQLniveau1_"]
[null,null,null,"AQLniveau1_"]
[null,null,null,"AQLniveau1_"]
[null,null,null,"AQLniveau1_"]
[null,null,null,"AQLniveau1_"]
[null,null,null,"AQLniveau1_"]
[null,null,null,"AQLniveau1_"]
[null,null,null,"AQLniveau1_"]
[null,null,null,"AQLniveau1_"]
[null,null,null,"AQLniveau1_"]
[null,null,null,"AQLniveau3_"]
[null,null,null,"AQLniveau1_"]
[null,null,null,"AQLniveau1_"]
[null,null,null,"AQLniveau1_"]
[null,null,null,"AQLniveau1_"]
[null,null,null,"AQLniveau1_"]
[null,null,null,"AQLniveau1_"]
[null,null,null,"AQLniveau1_"]
[null,null,null,"AQLniveau1_"]
[null,null,null,"AQLniveau1_"]
[null,null,null,"AQLniveau1_"]
[null,null,null,"AQLniveau1_"]
[null,null,null,"AQLniveau1_"]
[null,null,null,"AQLniveau1_"]
[null,null,null,"AQLniveau1_"]
[null,null,null,"AQLniveau1_"]
[null,null,null,"AQLniveau1_"]
[null,null,null,"AQLniveau1_"]
[null,null,null,"AQLniveau1_"]
[null,null,null,"AQLniveau1_"]
[null,null,null,"AQLniveau1_"]
[null,null,null,"AQLniveau1_"]
[null,null,null,"AQLniveau1_"]
[null,null,null,"AQLniveau1_"]
[null,null,null,"AQLniveau1_"]
[null,null,null,"AQLniveau1_"]
[null,null,null,"AQLniveau1_"]
[null,null,null,"AQLniveau1_"]
[null,null,null,"AQLniveau1_"]
[null,null,null,"AQLniveau1_"]
[null,null,null,"AQLniveau1_"]
[null,null,null,"AQLniveau1_"]
[null,null,null,"AQLniveau1_"]
[null,null,null,"AQLniveau1_"]
[null,null,null,"AQLniveau1_"]
[null,null,null,"AQLniveau1_"]
[null,null,null,"AQLniveau1_"]
[null,null,null,"AQLniveau1_"]
[null,null,null,"AQLniveau1_"]
[null,null,null,"AQLniveau1_"]
[null,null,null,"AQLniveau1_"]
[null,null,null,"AQLniveau1_"]
[null,null,null,"AQLniveau1_"]
[null,null,null,"AQLniveau1_"]
[null,null,null,"AQLniveau1_"]
[null,null,null,"AQLniveau1_"]
[null,null,null,"AQLniveau1_"]
[null,null,null,"AQLniveau1_"]
[null,null,null,"AQLniveau1_"]
[null,null,null,"AQLniveau1_"]
[null,null,null,"AQLniveau1_"]
[null,null,null,"AQLniveau1_"]
[null,null,null,"AQLniveau1_"]
[null,null,null,"AQLniveau1_"]
[null,null,null,"AQLniveau1_"]
[null,null,null,"AQLniveau1_"]
[null,null,null,"AQLniveau1_"]
[null,null,null,"AQLniveau1_"]
[null,null,null,"AQLniveau1_"]
[null,null,null,"AQLniveau1_"]
[null,null,null,"AQLniveau1_"]
[null,null,null,"AQLniveau1_"]
[null,null,null,"AQLniveau1_"]
[null,null,null,"AQLniveau1_"]
[null,null,null,"AQLniveau1_"]
[null,null,null,"AQLniveau1_"]
[null,null,null,"AQLniveau1_"]
[null,null,null,"AQLniveau1_"]
[null,null,null,"AQLniveau1_"]
[null,null,null,"AQLniveau1_"]
[null,null,null,"AQLniveau1_"]
[null,null,null,"AQLniveau1_"]
[null,null,null,"AQLniveau1_"]
[null,null,null,"AQLniveau1_"]
[null,null,null,"AQLniveau1_"]
[null,null,null,"AQLniveau1_"]
[null,null,null,"AQLniveau1_"]
[null,null,null,"AQLniveau1_"]
[null,null,null,"AQLniveau1_"]
[null,null,null,"AQLniveau1_"]
[null,null,null,"AQLniveau1_"]
[null,null,null,"AQLniveau1_"]
[null,null,null,"AQLniveau1_"]
[null,null,null,"AQLniveau1_"]
[null,null,null,"AQLniveau1_"]
[null,null,null,"AQLniveau1_"]
[null,null,null,"AQLniveau1_"]
[null,null,null,"AQLniveau1_"]
[null,null,null,"AQLniveau1_"]
[null,null,null,"AQLniveau1_"]
[null,null,null,"AQLniveau1_"]
[null,null,null,"AQLniveau1_"]
[null,null,null,"AQLniveau1_"]
[null,null,null,"AQLniveau1_"]
[null,null,null,"AQLniveau1_"]
[null,null,null,"AQLniveau1_"]
[null,null,null,"AQLniveau1_"]
[null,null,null,"AQLniveau1_"]
[null,null,null,"AQLniveau1_"]
[null,null,null,"AQLniveau1_"]
[null,null,null,"AQLniveau1_"]
[null,null,null,"AQLniveau1_"]
[null,null,null,"AQLniveau1_"]
[null,null,null,"AQLniveau1_"]
[null,null,null,"AQLniveau1_"]
[null,null,null,"AQLniveau1_"]
[null,null,null,"AQLniveau1_"]
[null,null,null,"AQLniveau1_"]
[null,null,null,"AQLniveau1_"]
[null,null,null,"AQLniveau1_"]
[null,null,null,"AQLniveau1_"]
[null,null,null,"AQLniveau1_"]
[null,null,null,"AQLniveau1_"]
[null,null,null,"AQLniveau1_"]
[null,null,null,"AQLniveau1_"]
[null,null,null,"AQLniveau1_"]
[null,null,null,"AQLniveau1_"]
[null,null,null,"AQLniveau1_"]
[null,null,null,"AQLniveau1_"]
[null,null,null,"AQLniveau1_"]
[null,null,null,"AQLniveau1_"]
[null,null,null,"AQLniveau1_"]
[null,null,null,"AQLniveau1_"]
[null,null,null,"AQLniveau1_"]
[null,null,null,"AQLniveau1_"]
[null,null,null,"AQLniveau1_"]
[null,null,null,"AQLniveau1_"]
[null,null,null,"AQLniveau1_"]
[null,null,null,"AQLniveau1_"]
[null,null,null,"AQLniveau1_"]
[null,null,null,"AQLniveau1_"]
[null,null,null,"AQLniveau1_"]
[null,null,null,"AQLniveau1_"]
[null,null,null,"AQLniveau1_"]
[null,null,null,"AQLniveau1_"]
[null,null,null,"AQLniveau1_"]
[null,null,null,"AQLniveau1_"]
[null,null,null,"AQLniveau1_"]
[null,null,null,"AQLniveau1_"]
[null,null,null,"AQLniveau1_"]
[null,null,null,"AQLniveau1_"]
[null,null,null,"AQLniveau1_"]
[null,null,null,"AQLniveau1_"]
[null,null,null,"AQLniveau1_"]
[null,null,null,"AQLniveau1_"]
[null,null,null,"AQLniveau1_"]
[null,null,null,"AQLniveau1_"]
[null,null,null,"AQLniveau1_"]
[null,null,null,"AQLniveau1_"]
[null,null,null,"AQLniveau1_"]
[null,null,null,"AQLniveau1_"]
[null,null,null,"AQLniveau1_"]
[null,null,null,"AQLniveau1_"]
[null,null,null,"AQLniveau1_"]
[null,null,null,"AQLniveau1_"]
[null,null,null,"AQLniveau1_"]
[null,null,null,"AQLniveau1_"]
[null,null,null,"AQLniveau1_"]
[null,null,null,"AQLniveau1_"]
[null,null,null,"AQLniveau1_"]
[null,null,null,"AQLniveau1_"]
[null,null,null,"AQLniveau1_"]
[null,null,null,"AQLniveau1_"]
[null,null,null,"AQLniveau1_"]
[null,null,null,"AQLniveau1_"]
[null,null,null,"AQLniveau1_"]
[null,null,null,"AQLniveau1_"]
[null,null,null,"AQLniveau1_"]
[null,null,null,"AQLniveau1_"]
[null,null,null,"AQLniveau1_"]
[null,null,null,"AQLniveau1_"]
[null,null,null,"AQLniveau1_"]
[null,null,null,"AQLniveau1_"]
[null,null,null,"AQLniveau1_"]
[null,null,null,"AQLniveau1_"]
[null,null,null,"AQLniveau1_"]
[null,null,null,"AQLniveau1_"]
[null,null,null,"AQLniveau1_"]
[null,null,null,"AQLniveau1_"]
[null,null,null,"AQLniveau1_"]
[null,null,null,"AQLniveau1_"]
[null,null,null,"AQLniveau1_"]
[null,null,null,"AQLniveau1_"]
[null,null,null,"AQLniveau1_"]
[null,null,null,"AQLniveau1_"]
[null,null,null,"AQLniveau1_"]
[null,null,null,"AQLniveau1_"]
[null,null,null,"AQLniveau1_"]
[null,null,null,"AQLniveau1_"]
[null,null,null,"AQLniveau1_"]
[null,null,null,"AQLniveau1_"]
[null,null,null,"AQLniveau1_"]
[null,null,null,"AQLniveau1_"]
[null,null,null,"AQLniveau1_"]
[null,null,null,"AQLniveau1_"]
[null,null,null,"AQLniveau1_"]
[null,null,null,"AQLniveau1_"]
[null,null,null,"AQLniveau1_"]
[null,null,null,"AQLniveau1_"]
[null,null,null,"AQLniveau1_"]
[null,null,null,"AQLniveau1_"]
[null,null,null,"AQLniveau1_"]
[null,null,null,"AQLniveau1_"]
[null,null,null,"AQLniveau1_"]
[null,null,null,"AQLniveau1_"]
[null,null,null,"AQLniveau1_"]
[null,null,null,"AQLniveau1_"]
[null,null,null,"AQLniveau1_"]
[null,null,null,"AQLniveau1_"]
[null,null,null,"AQLniveau1_"]
[null,null,null,"AQLniveau1_"]
[null,null,null,"AQLniveau1_"]
[null,null,null,"AQLniveau1_"]
[null,null,null,"AQLniveau1_"]
[null,null,null,"AQLniveau1_"]
[null,null,null,"AQLniveau1_"]
[null,null,null,"AQLniveau1_"]
[null,null,null,"AQLniveau1_"]
[null,null,null,"AQLniveau1_"]
[null,null,null,"AQLniveau1_"]
[null,null,null,"AQLniveau1_"]
[null,null,null,"AQLniveau1_"]
[null,null,null,"AQLniveau1_"]
[null,null,null,"AQLniveau1_"]
[null,null,null,"AQLniveau1_"]
[null,null,null,"AQLniveau1_"]
[null,null,null,"AQLniveau1_"]
[null,null,null,"AQLniveau1_"]
[null,null,null,"AQLniveau1_"]
[null,null,null,"AQLniveau1_"]
[null,null,null,"AQLniveau1_"]
[null,null,null,"AQLniveau1_"]
[null,null,null,"AQLniveau1_"]
[null,null,null,"AQLniveau1_"]
[null,null,null,"AQLniveau1_"]
[null,null,null,"AQLniveau1_"]
[null,null,null,"AQLniveau1_"]
[null,null,null,"AQLniveau1_"]
[null,null,null,"AQLniveau1_"]
[null,null,null,"AQLniveau1_"]
[null,null,null,"AQLniveau1_"]
[null,null,null,"AQLniveau1_"]
[null,null,null,"AQLniveau1_"]
[null,null,null,"AQLniveau1_"]
[null,null,null,"AQLniveau1_"]
[null,null,null,"AQLniveau1_"]
[null,null,null,"AQLniveau1_"]
[null,null,null,"AQLniveau1_"]
[null,null,null,"AQLniveau1_"]
[null,null,null,"AQLniveau1_"]
[null,null,null,"AQLniveau1_"]
[null,null,null,"AQLniveau1_"]
[null,null,null,"AQLniveau1_"]
[null,null,null,"AQLniveau1_"]
[null,null,null,"AQLniveau1_"]
[null,null,null,"AQLniveau1_"]
[null,null,null,"AQLniveau1_"]
[null,null,null,"AQLniveau1_"]
[null,null,null,"AQLniveau1_"]
[null,null,null,"AQLniveau1_"]
[null,null,null,"AQLniveau1_"]
[null,null,null,"AQLniveau1_"]
[null,null,null,"AQLniveau1_"]
[null,null,null,"AQLniveau1_"]
[null,null,null,"AQLniveau1_"]
[null,null,null,"AQLniveau1_"]
[null,null,null,"AQLniveau1_"]
[null,null,null,"AQLniveau1_"]
[null,null,null,"AQLniveau1_"]
[null,null,null,"AQLniveau1_"]
[null,null,null,"AQLniveau1_"]
[null,null,null,"AQLniveau1_"]
[null,null,null,"AQLniveau1_"]
[null,null,null,"AQLniveau1_"]
[null,null,null,"AQLniveau1_"]
[null,null,null,"AQLniveau1_"]
[null,null,null,"AQLniveau1_"]
[null,null,null,"AQLniveau1_"]
[null,null,null,"AQLniveau1_"]
[null,null,null,"AQLniveau1_"]
[null,null,null,"AQLniveau1_"]
[null,null,null,"AQLniveau1_"]
[null,null,null,"AQLniveau1_"]
[null,null,null,"AQLniveau1_"]
[null,null,null,"AQLniveau1_"]
[null,null,null,"AQLniveau1_"]
[null,null,null,"AQLniveau1_"]
[null,null,null,"AQLniveau1_"]
[null,null,null,"AQLniveau1_"]
[null,null,null,"AQLniveau1_"]
[null,null,null,"AQLniveau1_"]
[null,null,null,"AQLniveau1_"]
[null,null,null,"AQLniveau1_"]
[null,null,null,"AQLniveau1_"]
[null,null,null,"AQLniveau1_"]
[null,null,null,"AQLniveau1_"]
[null,null,null,"AQLniveau1_"]
[null,null,null,"AQLniveau1_"]
[null,null,null,"AQLniveau1_"]
[null,null,null,"AQLniveau1_"]
[null,null,null,"AQLniveau1_"]
[null,null,null,"AQLniveau1_"]
[null,null,null,"AQLniveau1_"]
[null,null,null,"AQLniveau1_"]
[null,null,null,"AQLniveau1_"]
[null,null,null,"AQLniveau1_"]
[null,null,null,"AQLniveau1_"]
[null,null,null,"AQLniveau1_"]
[null,null,null,"AQLniveau1_"]
[null,null,null,"AQLniveau1_"]
[null,null,null,"AQLniveau1_"]
[null,null,null,"AQLniveau1_"]
[null,null,null,"AQLniveau1_"]
[null,null,null,"AQLniveau1_"]
[null,null,null,"AQLniveau1_"]
[null,null,null,"AQLniveau1_"]
[null,null,null,"AQLniveau1_"]
[null,null,null,"AQLniveau1_"]
[null,null,null,"AQLniveau1_"]
[null,null,null,"AQLniveau1_"]
[null,null,null,"AQLniveau1_"]
[null,null,null,"AQLniveau1_"]
[null,null,null,"AQLniveau1_"]
[null,null,null,"AQLniveau1_"]
[null,null,null,"AQLniveau1_"]
[null,null,null,"AQLniveau1_"]
[null,null,null,"AQLniveau1_"]
[null,null,null,"AQLniveau1_"]
[null,null,null,"AQLniveau1_"]
[null,null,null,"AQLniveau1_"]
[null,null,null,"AQLniveau1_"]
[null,null,null,"AQLniveau1_"]
[null,null,null,"AQLniveau1_"]
[null,null,null,"AQLniveau1_"]
[null,null,null,"AQLniveau1_"]
[null,null,null,"AQLniveau1_"]
[null,null,null,"AQLniveau1_"]
[null,null,null,"AQLniveau1_"]
[null,null,null,"AQLniveau1_"]
[null,null,null,"AQLniveau1_"]
[null,null,null,"AQLniveau1_"]
[null,null,null,"AQLniveau1_"]
[null,null,null,"AQLniveau1_"]
[null,null,null,"AQLniveau1_"]
[null,null,null,"AQLniveau1_"]
[null,null,null,"AQLniveau1_"]
[null,null,null,"AQLniveau1_"]
[null,null,null,"AQLniveau1_"]
[null,null,null,"AQLniveau1_"]
[null,null,null,"AQLniveau1_"]
[null,null,null,"AQLniveau1_"]
[null,null,null,"AQLniveau1_"]
[null,null,null,"AQLniveau1_"]
[null,null,null,"AQLniveau1_"]
[null,null,null,"AQLniveau1_"]
[null,null,null,"AQLniveau1_"]
[null,null,null,"AQLniveau1_"]
[null,null,null,"AQLniveau1_"]
[null,null,null,"AQLniveau1_"]
[null,null,null,"AQLniveau1_"]
[null,null,null,"AQLniveau1_"]
[null,null,null,"AQLniveau1_"]
[null,null,null,"AQLniveau1_"]
[null,null,null,"AQLniveau1_"]
[null,null,null,"AQLniveau1_"]
[null,null,null,"AQLniveau1_"]
[null,null,null,"AQLniveau1_"]
[null,null,null,"AQLniveau1_"]
[null,null,null,"AQLniveau1_"]
[null,null,null,"AQLniveau1_"]
[null,null,null,"AQLniveau1_"]
[null,null,null,"AQLniveau1_"]
[null,null,null,"AQLniveau1_"]
[null,null,null,"AQLniveau1_"]
[null,null,null,"AQLniveau1_"]
[null,null,null,"AQLniveau1_"]
[null,null,null,"AQLniveau1_"]
[null,null,null,"AQLniveau1_"]
[null,null,null,"AQLniveau1_"]
[null,null,null,"AQLniveau1_"]
[null,null,null,"AQLniveau1_"]
[null,null,null,"AQLniveau1_"]
[null,null,null,"AQLniveau1_"]
[null,null,null,"AQLniveau1_"]
[null,null,null,"AQLniveau1_"]
[null,null,null,"AQLniveau1_"]
[null,null,null,"AQLniveau1_"]
[null,null,null,"AQLniveau1_"]
[null,null,null,"AQLniveau1_"]
[null,null,null,"AQLniveau1_"]
[null,null,null,"AQLniveau1_"]
[null,null,null,"AQLniveau1_"]
[null,null,null,"AQLniveau1_"]
[null,null,null,"AQLniveau1_"]
[null,null,null,"AQLniveau1_"]
[null,null,null,"AQLniveau1_"]
[null,null,null,"AQLniveau1_"]
[null,null,null,"AQLniveau1_"]
[null,null,null,"AQLniveau1_"]
[null,null,null,"AQLniveau1_"]
[null,null,null,"AQLniveau1_"]
[null,null,null,"AQLniveau1_"]
[null,null,null,"AQLniveau1_"]
[null,null,null,"AQLniveau1_"]
[null,null,null,"AQLniveau1_"]
[null,null,null,"AQLniveau1_"]
[null,null,null,"AQLniveau1_"]
[null,null,null,"AQLniveau1_"]
[null,null,null,"AQLniveau1_"]
[null,null,null,"AQLniveau1_"]
[null,null,null,"AQLniveau1_"]
[null,null,null,"AQLniveau1_"]
[null,null,null,"AQLniveau1_"]
[null,null,null,"AQLniveau1_"]
[null,null,null,"AQLniveau1_"]
[null,null,null,"AQLniveau1_"]
[null,null,null,"AQLniveau1_"]
[null,null,null,"AQLniveau1_"]
[null,null,null,"AQLniveau1_"]
[null,null,null,"AQLniveau1_"]
[null,null,null,"AQLniveau1_"]
[null,null,null,"AQLniveau1_"]
[null,null,null,"AQLniveau1_"]
[null,null,null,"AQLniveau1_"]
[null,null,null,"AQLniveau1_"]
[null,null,null,"AQLniveau1_"]
[null,null,null,"AQLniveau1_"]
[null,null,null,"AQLniveau1_"]
[null,null,null,"AQLniveau1_"]
[null,null,null,"AQLniveau1_"]
[null,null,null,"AQLniveau1_"]
[null,null,null,"AQLniveau1_"]
[null,null,null,"AQLniveau1_"]
[null,null,null,"AQLniveau1_"]
[null,null,null,"AQLniveau1_"]
[null,null,null,"AQLniveau1_"]
[null,null,null,"AQLniveau1_"]
[null,null,null,"AQLniveau1_"]
[null,null,null,"AQLniveau1_"]
[null,null,null,"AQLniveau1_"]
[null,null,null,"AQLniveau1_"]
[null,null,null,"AQLniveau1_"]
[null,null,null,"AQLniveau1_"]
[null,null,null,"AQLniveau1_"]
[null,null,null,"AQLniveau1_"]
[null,null,null,"AQLniveau1_"]
[null,null,null,"AQLniveau1_"]
[null,null,null,"AQLniveau1_"]
[null,null,null,"AQLniveau1_"]
[null,null,null,"AQLniveau1_"]
[null,null,null,"AQLniveau1_"]
[null,null,null,"AQLniveau1_"]
[null,null,null,"AQLniveau1_"]
[null,null,null,"AQLniveau1_"]
[null,null,null,"AQLniveau1_"]
[null,null,null,"AQLniveau1_"]
[null,null,null,"AQLniveau1_"]
[null,null,null,"AQLniveau1_"]
[null,null,null,"AQLniveau1_"]
[null,null,null,"AQLniveau1_"]
[null,null,null,"AQLniveau1_"]
[null,null,null,"AQLniveau1_"]
[null,null,null,"AQLniveau1_"]
[null,null,null,"AQLniveau1_"]
[null,null,null,"AQLniveau1_"]
[null,null,null,"AQLniveau1_"]
[null,null,null,"AQLniveau1_"]
[null,null,null,"AQLniveau1_"]
[null,null,null,"AQLniveau1_"]
[null,null,null,"AQLniveau1_"]
[null,null,null,"AQLniveau1_"]
[null,null,null,"AQLniveau1_"]
[null,null,null,"AQLniveau1_"]
[null,null,null,"AQLniveau1_"]
[null,null,null,"AQLniveau1_"]
[null,null,null,"AQLniveau1_"]
[null,null,null,"AQLniveau1_"]
[null,null,null,"AQLniveau1_"]
[null,null,null,"AQLniveau1_"]
[null,null,null,"AQLniveau1_"]
[null,null,null,"AQLniveau1_"]
[null,null,null,"AQLniveau1_"]
[null,null,null,"AQLniveau1_"]
[null,null,null,"AQLniveau1_"]
[null,null,null,"AQLniveau1_"]
[null,null,null,"AQLniveau1_"]
[null,null,null,"AQLniveau1_"]
[null,null,null,"AQLniveau1_"]
[null,null,null,"AQLniveau1_"]
[null,null,null,"AQLniveau1_"]
[null,null,null,"AQLniveau1_"]
[null,null,null,"AQLniveau1_"]
[null,null,null,"AQLniveau1_"]
[null,null,null,"AQLniveau1_"]
[null,null,null,"AQLniveau1_"]
[null,null,null,"AQLniveau1_"]
[null,null,null,"AQLniveau1_"]
[null,null,null,"AQLniveau1_"]
[null,null,null,"AQLniveau1_"]
[null,null,null,"AQLniveau1_"]
[null,null,null,"AQLniveau1_"]
[null,null,null,"AQLniveau2_"]
[null,null,null,"AQLniveau1_"]
[null,null,null,"AQLniveau1_"]
[null,null,null,"AQLniveau1_"]
[null,null,null,"AQLniveau1_"]
[null,null,null,"AQLniveau1_"]
[null,null,null,"AQLniveau1_"]
[null,null,null,"AQLniveau1_"]
[null,null,null,"AQLniveau1_"]
[null,null,null,"AQLniveau1_"]
[null,null,null,"AQLniveau1_"]
[null,null,null,"AQLniveau1_"]
[null,null,null,"AQLniveau1_"]
[null,null,null,"AQLniveau1_"]
[null,null,null,"AQLniveau1_"]
[null,null,null,"AQLniveau1_"]
[null,null,null,"AQLniveau1_"]
[null,null,null,"AQLniveau1_"]
[null,null,null,"AQLniveau1_"]
[null,null,null,"AQLniveau1_"]
[null,null,null,"AQLniveau1_"]
[null,null,null,"AQLniveau1_"]
[null,null,null,"AQLniveau1_"]
[null,null,null,"AQLniveau1_"]
[null,null,null,"AQLniveau1_"]
[null,null,null,"AQLniveau1_"]
[null,null,null,"AQLniveau2_"]
[null,null,null,"AQLniveau1_"]
[null,null,null,"AQLniveau1_"]
[null,null,null,"AQLniveau1_"]
[null,null,null,"AQLniveau1_"]
[null,null,null,"AQLniveau1_"]
[null,null,null,"AQLniveau1_"]
[null,null,null,"AQLniveau1_"]
[null,null,null,"AQLniveau1_"]
[null,null,null,"AQLniveau1_"]
[null,null,null,"AQLniveau1_"]
[null,null,null,"AQLniveau1_"]
[null,null,null,"AQLniveau1_"]
[null,null,null,"AQLniveau1_"]
[null,null,null,"AQLniveau1_"]
[null,null,null,"AQLniveau1_"]
[null,null,null,"AQLniveau1_"]
[null,null,null,"AQLniveau2_"]
[null,null,null,"AQLniveau2_"]
[null,null,null,"AQLniveau2_"]
[null,null,null,"AQLniveau1_"]
[null,null,null,"AQLniveau1_"]
[null,null,null,"AQLniveau2_"]
[null,null,null,"AQLniveau1_"]
[null,null,null,"AQLniveau1_"]
[null,null,null,"AQLniveau1_"]
[null,null,null,"AQLniveau2_"]
[null,null,null,"AQLniveau1_"]
[null,null,null,"AQLniveau1_"]
[null,null,null,"AQLniveau1_"]
[null,null,null,"AQLniveau2_"]
[null,null,null,"AQLniveau1_"]
[null,null,null,"AQLniveau1_"]
[null,null,null,"AQLniveau1_"]
[null,null,null,"AQLniveau1_"]
[null,null,null,"AQLniveau1_"]
[null,null,null,"AQLniveau1_"]
[null,null,null,"AQLniveau1_"]
[null,null,null,"AQLniveau1_"]
[null,null,null,"AQLniveau1_"]
[null,null,null,"AQLniveau1_"]
[null,null,null,"AQLniveau1_"]
[null,null,null,"AQLniveau1_"]
[null,null,null,"AQLniveau1_"]
[null,null,null,"AQLniveau1_"]
[null,null,null,"AQLniveau1_"]
[null,null,null,"AQLniveau1_"]
[null,null,null,"AQLniveau1_"]
[null,null,null,"AQLniveau1_"]
[null,null,null,"AQLniveau1_"]
[null,null,null,"AQLniveau1_"]
[null,null,null,"AQLniveau1_"]
[null,null,null,"AQLniveau1_"]
[null,null,null,"AQLniveau1_"]
[null,null,null,"AQLniveau1_"]
[null,null,null,"AQLniveau1_"]
[null,null,null,"AQLniveau1_"]
[null,null,null,"AQLniveau1_"]
[null,null,null,"AQLniveau1_"]
[null,null,null,"AQLniveau1_"]
[null,null,null,"AQLniveau1_"]
[null,null,null,"AQLniveau1_"]
[null,null,null,"AQLniveau1_"]
[null,null,null,"AQLniveau1_"]
[null,null,null,"AQLniveau1_"]
[null,null,null,"AQLniveau1_"]
[null,null,null,"AQLniveau1_"]
[null,null,null,"AQLniveau1_"]
[null,null,null,"AQLniveau1_"]
[null,null,null,"AQLniveau1_"]
[null,null,null,"AQLniveau1_"]
[null,null,null,"AQLniveau1_"]
[null,null,null,"AQLniveau1_"]
[null,null,null,"AQLniveau1_"]
[null,null,null,"AQLniveau1_"]
[null,null,null,"AQLniveau1_"]
[null,null,null,"AQLniveau1_"]
[null,null,null,"AQLniveau1_"]
[null,null,null,"AQLniveau1_"]
[null,null,null,"AQLniveau1_"]
[null,null,null,"AQLniveau1_"]
[null,null,null,"AQLniveau1_"]
[null,null,null,"AQLniveau1_"]
[null,null,null,"AQLniveau1_"]
[null,null,null,"AQLniveau1_"]
[null,null,null,"AQLniveau1_"]
[null,null,null,"AQLniveau1_"]
[null,null,null,"AQLniveau1_"]
[null,null,null,"AQLniveau1_"]
[null,null,null,"AQLniveau1_"]
[null,null,null,"AQLniveau1_"]
[null,null,null,"AQLniveau1_"]
[null,null,null,"AQLniveau1_"]
[null,null,null,"AQLniveau1_"]
[null,null,null,"AQLniveau1_"]
[null,null,null,"AQLniveau1_"]
[null,null,null,"AQLniveau1_"]
[null,null,null,"AQLniveau1_"]
[null,null,null,"AQLniveau1_"]
[null,null,null,"AQLniveau1_"]
[null,null,null,"AQLniveau1_"]
[null,null,null,"AQLniveau1_"]
[null,null,null,"AQLniveau1_"]
[null,null,null,"AQLniveau1_"]
[null,null,null,"AQLniveau1_"]
[null,null,null,"AQLniveau1_"]
[null,null,null,"AQLniveau1_"]
[null,null,null,"AQLniveau1_"]
[null,null,null,"AQLniveau1_"]
[null,null,null,"AQLniveau1_"]
[null,null,null,"AQLniveau1_"]
[null,null,null,"AQLniveau1_"]
[null,null,null,"AQLniveau1_"]
[null,null,null,"AQLniveau1_"]
[null,null,null,"AQLniveau1_"]
[null,null,null,"AQLniveau1_"]
[null,null,null,"AQLniveau1_"]
[null,null,null,"AQLniveau1_"]
[null,null,null,"AQLniveau1_"]
[null,null,null,"AQLniveau2_"]
[null,null,null,"AQLniveau1_"]
[null,null,null,"AQLniveau1_"]
[null,null,null,"AQLniveau1_"]
[null,null,null,"AQLniveau1_"]
[null,null,null,"AQLniveau1_"]
[null,null,null,"AQLniveau1_"]
[null,null,null,"AQLniveau1_"]
[null,null,null,"AQLniveau1_"]
[null,null,null,"AQLniveau1_"]
[null,null,null,"AQLniveau1_"]
[null,null,null,"AQLniveau1_"]
[null,null,null,"AQLniveau1_"]
[null,null,null,"AQLniveau1_"]
[null,null,null,"AQLniveau1_"]
[null,null,null,"AQLniveau1_"]
[null,null,null,"AQLniveau1_"]
[null,null,null,"AQLniveau1_"]
[null,null,null,"AQLniveau1_"]
[null,null,null,"AQLniveau1_"]
[null,null,null,"AQLniveau1_"]
[null,null,null,"AQLniveau1_"]
[null,null,null,"AQLniveau1_"]
[null,null,null,"AQLniveau1_"]
[null,null,null,"AQLniveau2_"]
[null,null,null,"AQLniveau1_"]
[null,null,null,"AQLniveau2_"]
[null,null,null,"AQLniveau2_"]
[null,null,null,"AQLniveau1_"]
[null,null,null,"AQLniveau1_"]
[null,null,null,"AQLniveau1_"]
[null,null,null,"AQLniveau1_"]
[null,null,null,"AQLniveau1_"]
[null,null,null,"AQLniveau1_"]
[null,null,null,"AQLniveau2_"]
[null,null,null,"AQLniveau1_"]
[null,null,null,"AQLniveau1_"]
[null,null,null,"AQLniveau1_"]
[null,null,null,"AQLniveau1_"]
[null,null,null,"AQLniveau1_"]
[null,null,null,"AQLniveau1_"]
[null,null,null,"AQLniveau1_"]
[null,null,null,"AQLniveau1_"]
[null,null,null,"AQLniveau1_"]
[null,null,null,"AQLniveau1_"]
[null,null,null,"AQLniveau1_"]
[null,null,null,"AQLniveau1_"]
[null,null,null,"AQLniveau1_"]
[null,null,null,"AQLniveau1_"]
[null,null,null,"AQLniveau1_"]
[null,null,null,"AQLniveau1_"]
[null,null,null,"AQLniveau1_"]
[null,null,null,"AQLniveau1_"]
[null,null,null,"AQLniveau1_"]
[null,null,null,"AQLniveau1_"]
[null,null,null,"AQLniveau1_"]
[null,null,null,"AQLniveau1_"]
[null,null,null,"AQLniveau1_"]
[null,null,null,"AQLniveau1_"]
[null,null,null,"AQLniveau1_"]
[null,null,null,"AQLniveau1_"]
[null,null,null,"AQLniveau1_"]
[null,null,null,"AQLniveau1_"]
[null,null,null,"AQLniveau1_"]
[null,null,null,"AQLniveau1_"]
[null,null,null,"AQLniveau1_"]
[null,null,null,"AQLniveau1_"]
[null,null,null,"AQLniveau1_"]
[null,null,null,"AQLniveau1_"]
[null,null,null,"AQLniveau1_"]
[null,null,null,"AQLniveau1_"]
[null,null,null,"AQLniveau1_"]
[null,null,null,"AQLniveau1_"]
[null,null,null,"AQLniveau1_"]
[null,null,null,"AQLniveau1_"]
[null,null,null,"AQLniveau1_"]
[null,null,null,"AQLniveau1_"]
[null,null,null,"AQLniveau1_"]
[null,null,null,"AQLniveau1_"]
[null,null,null,"AQLniveau1_"]
[null,null,null,"AQLniveau1_"]
[null,null,null,"AQLniveau1_"]
[null,null,null,"AQLniveau1_"]
[null,null,null,"AQLniveau1_"]
[null,null,null,"AQLniveau1_"]
[null,null,null,"AQLniveau1_"]
[null,null,null,"AQLniveau1_"]
[null,null,null,"AQLniveau1_"]
[null,null,null,"AQLniveau1_"]
[null,null,null,"AQLniveau1_"]
[null,null,null,"AQLniveau1_"]
[null,null,null,"AQLniveau1_"]
[null,null,null,"AQLniveau1_"]
[null,null,null,"AQLniveau1_"]
[null,null,null,"AQLniveau1_"]
[null,null,null,"AQLniveau1_"]
[null,null,null,"AQLniveau1_"]
[null,null,null,"AQLniveau1_"]
[null,null,null,"AQLniveau1_"]
[null,null,null,"AQLniveau1_"]
[null,null,null,"AQLniveau1_"]
[null,null,null,"AQLniveau1_"]
[null,null,null,"AQLniveau1_"]
[null,null,null,"AQLniveau1_"]
[null,null,null,"AQLniveau1_"]
[null,null,null,"AQLniveau1_"]
[null,null,null,"AQLniveau1_"]
[null,null,null,"AQLniveau1_"]
[null,null,null,"AQLniveau1_"]
[null,null,null,"AQLniveau1_"]
[null,null,null,"AQLniveau1_"]
[null,null,null,"AQLniveau1_"]
[null,null,null,"AQLniveau1_"]
[null,null,null,"AQLniveau1_"]
[null,null,null,"AQLniveau1_"]
[null,null,null,"AQLniveau1_"]
[null,null,null,"AQLniveau1_"]
[null,null,null,"AQLniveau1_"]
[null,null,null,"AQLniveau1_"]
[null,null,null,"AQLniveau1_"]
[null,null,null,"AQLniveau1_"]
[null,null,null,"AQLniveau1_"]
[null,null,null,"AQLniveau1_"]
[null,null,null,"AQLniveau1_"]
[null,null,null,"AQLniveau1_"]
[null,null,null,"AQLniveau1_"]
[null,null,null,"AQLniveau1_"]
[null,null,null,"AQLniveau1_"]
[null,null,null,"AQLniveau1_"]
[null,null,null,"AQLniveau1_"]
[null,null,null,"AQLniveau1_"]
[null,null,null,"AQLniveau1_"]
[null,null,null,"AQLniveau1_"]
[null,null,null,"AQLniveau1_"]
[null,null,null,"AQLniveau1_"]
[null,null,null,"AQLniveau1_"]
[null,null,null,"AQLniveau1_"]
[null,null,null,"AQLniveau1_"]
[null,null,null,"AQLniveau1_"]
[null,null,null,"AQLniveau1_"]
[null,null,null,"AQLniveau1_"]
[null,null,null,"AQLniveau1_"]
[null,null,null,"AQLniveau1_"]
[null,null,null,"AQLniveau1_"]
[null,null,null,"AQLniveau1_"]
[null,null,null,"AQLniveau1_"]
[null,null,null,"AQLniveau1_"]
[null,null,null,"AQLniveau1_"]
[null,null,null,"AQLniveau1_"]
[null,null,null,"AQLniveau1_"]
[null,null,null,"AQLniveau1_"]
[null,null,null,"AQLniveau1_"]
[null,null,null,"AQLniveau1_"]
[null,null,null,"AQLniveau1_"]
[null,null,null,"AQLniveau1_"]
[null,null,null,"AQLniveau1_"]
[null,null,null,"AQLniveau1_"]
[null,null,null,"AQLniveau1_"]
[null,null,null,"AQLniveau1_"]
[null,null,null,"AQLniveau1_"]
[null,null,null,"AQLniveau1_"]
[null,null,null,"AQLniveau1_"]
[null,null,null,"AQLniveau1_"]
[null,null,null,"AQLniveau1_"]
[null,null,null,"AQLniveau1_"]
[null,null,null,"AQLniveau1_"]
[null,null,null,"AQLniveau1_"]
[null,null,null,"AQLniveau1_"]
[null,null,null,"AQLniveau1_"]
[null,null,null,"AQLniveau1_"]
[null,null,null,"AQLniveau1_"]
[null,null,null,"AQLniveau1_"]
[null,null,null,"AQLniveau1_"]
[null,null,null,"AQLniveau1_"]
[null,null,null,"AQLniveau1_"]
[null,null,null,"AQLniveau1_"]
[null,null,null,"AQLniveau1_"]
[null,null,null,"AQLniveau1_"]
[null,null,null,"AQLniveau1_"]
[null,null,null,"AQLniveau1_"]
[null,null,null,"AQLniveau1_"]
[null,null,null,"AQLniveau1_"]
[null,null,null,"AQLniveau1_"]
[null,null,null,"AQLniveau1_"]
[null,null,null,"AQLniveau1_"]
[null,null,null,"AQLniveau1_"]
[null,null,null,"AQLniveau1_"]
[null,null,null,"AQLniveau1_"]
[null,null,null,"AQLniveau1_"]
[null,null,null,"AQLniveau1_"]
[null,null,null,"AQLniveau1_"]
[null,null,null,"AQLniveau1_"]
[null,null,null,"AQLniveau1_"]
[null,null,null,"AQLniveau1_"]
[null,null,null,"AQLniveau1_"]
[null,null,null,"AQLniveau1_"]
[null,null,null,"AQLniveau1_"]
[null,null,null,"AQLniveau1_"]
[null,null,null,"AQLniveau1_"]
[null,null,null,"AQLniveau1_"]
[null,null,null,"AQLniveau1_"]
[null,null,null,"AQLniveau1_"]
[null,null,null,"AQLniveau1_"]
[null,null,null,"AQLniveau1_"]
[null,null,null,"AQLniveau1_"]
[null,null,null,"AQLniveau1_"]
[null,null,null,"AQLniveau1_"]
[null,null,null,"AQLniveau1_"]
[null,null,null,"AQLniveau1_"]
[null,null,null,"AQLniveau1_"]
[null,null,null,"AQLniveau1_"]
[null,null,null,"AQLniveau1_"]
[null,null,null,"AQLniveau1_"]
[null,null,null,"AQLniveau1_"]
[null,null,null,"AQLniveau1_"]
[null,null,null,"AQLniveau1_"]
[null,null,null,"AQLniveau1_"]
[null,null,null,"AQLniveau1_"]
[null,null,null,"AQLniveau1_"]
[null,null,null,"AQLniveau1_"]
[null,null,null,"AQLniveau1_"]
[null,null,null,"AQLniveau1_"]
[null,null,null,"AQLniveau1_"]
[null,null,null,"AQLniveau1_"]
[null,null,null,"AQLniveau1_"]
[null,null,null,"AQLniveau1_"]
[null,null,null,"AQLniveau1_"]
[null,null,null,"AQLniveau1_"]
[null,null,null,"AQLniveau1_"]
[null,null,null,"AQLniveau1_"]
[null,null,null,"AQLniveau1_"]
[null,null,null,"AQLniveau1_"]
[null,null,null,"AQLniveau1_"]
[null,null,null,"AQLniveau1_"]
[null,null,null,"AQLniveau1_"]
[null,null,null,"AQLniveau1_"]
[null,null,null,"AQLniveau1_"]
[null,null,null,"AQLniveau1_"]
[null,null,null,"AQLniveau1_"]
[null,null,null,"AQLniveau1_"]
[null,null,null,"AQLniveau1_"]
[null,null,null,"AQLniveau1_"]
[null,null,null,"AQLniveau1_"]
[null,null,null,"AQLniveau1_"]
[null,null,null,"AQLniveau1_"]
[null,null,null,"AQLniveau1_"]
[null,null,null,"AQLniveau1_"]
[null,null,null,"AQLniveau1_"]
[null,null,null,"AQLniveau1_"]
[null,null,null,"AQLniveau1_"]
[null,null,null,"AQLniveau1_"]
[null,null,null,"AQLniveau1_"]
[null,null,null,"AQLniveau1_"]
[null,null,null,"AQLniveau1_"]
[null,null,null,"AQLniveau1_"]
[null,null,null,"AQLniveau1_"]
[null,null,null,"AQLniveau1_"]
[null,null,null,"AQLniveau1_"]
[null,null,null,"AQLniveau1_"]
[null,null,null,"AQLniveau1_"]
[null,null,null,"AQLniveau1_"]
[null,null,null,"AQLniveau1_"]
[null,null,null,"AQLniveau1_"]
[null,null,null,"AQLniveau1_"]
[null,null,null,"AQLniveau1_"]
[null,null,null,"AQLniveau1_"]
[null,null,null,"AQLniveau1_"]
[null,null,null,"AQLniveau1_"]
[null,null,null,"AQLniveau1_"]
[null,null,null,"AQLniveau1_"]
[null,null,null,"AQLniveau1_"]
[null,null,null,"AQLniveau1_"]
[null,null,null,"AQLniveau1_"]
[null,null,null,"AQLniveau1_"]
[null,null,null,"AQLniveau1_"]
[null,null,null,"AQLniveau1_"]
[null,null,null,"AQLniveau1_"]
[null,null,null,"AQLniveau1_"]
[null,null,null,"AQLniveau1_"]
[null,null,null,"AQLniveau1_"]
[null,null,null,"AQLniveau1_"]
[null,null,null,"AQLniveau1_"]
[null,null,null,"AQLniveau1_"]
[null,null,null,"AQLniveau1_"]
[null,null,null,"AQLniveau1_"]
[null,null,null,"AQLniveau1_"]
[null,null,null,"AQLniveau1_"]
[null,null,null,"AQLniveau1_"]
[null,null,null,"AQLniveau1_"]
[null,null,null,"AQLniveau1_"]
[null,null,null,"AQLniveau1_"]
[null,null,null,"AQLniveau1_"]
[null,null,null,"AQLniveau1_"]
[null,null,null,"AQLniveau1_"]
[null,null,null,"AQLniveau1_"]
[null,null,null,"AQLniveau1_"]
[null,null,null,"AQLniveau1_"]
[null,null,null,"AQLniveau1_"]
[null,null,null,"AQLniveau1_"]
[null,null,null,"AQLniveau1_"]
[null,null,null,"AQLniveau1_"]
[null,null,null,"AQLniveau1_"]
[null,null,null,"AQLniveau1_"]
[null,null,null,"AQLniveau1_"]
[null,null,null,"AQLniveau1_"]
[null,null,null,"AQLniveau1_"]
[null,null,null,"AQLniveau1_"]
[null,null,null,"AQLniveau1_"]
[null,null,null,"AQLniveau1_"]
[null,null,null,"AQLniveau1_"]
[null,null,null,"AQLniveau1_"]
[null,null,null,"AQLniveau1_"]
[null,null,null,"AQLniveau1_"]
[null,null,null,"AQLniveau1_"]
[null,null,null,"AQLniveau1_"]
[null,null,null,"AQLniveau1_"]
[null,null,null,"AQLniveau1_"]
[null,null,null,"AQLniveau1_"]
[null,null,null,"AQLniveau1_"]
[null,null,null,"AQLniveau1_"]
[null,null,null,"AQLniveau1_"]
[null,null,null,"AQLniveau1_"]
[null,null,null,"AQLniveau1_"]
[null,null,null,"AQLniveau1_"]
[null,null,null,"AQLniveau1_"]
[null,null,null,"AQLniveau1_"]
[null,null,null,"AQLniveau1_"]
[null,null,null,"AQLniveau1_"]
[null,null,null,"AQLniveau1_"]
[null,null,null,"AQLniveau1_"]
[null,null,null,"AQLniveau1_"]
[null,null,null,"AQLniveau1_"]
[null,null,null,"AQLniveau1_"]
[null,null,null,"AQLniveau1_"]
[null,null,null,"AQLniveau1_"]
[null,null,null,"AQLniveau1_"]
[null,null,null,"AQLniveau1_"]
[null,null,null,"AQLniveau1_"]
[null,null,null,"AQLniveau1_"]
[null,null,null,"AQLniveau1_"]
[null,null,null,"AQLniveau1_"]
[null,null,null,"AQLniveau1_"]
[null,null,null,"AQLniveau1_"]
[null,null,null,"AQLniveau1_"]
[null,null,null,"AQLniveau1_"]
[null,null,null,"AQLniveau1_"]
[null,null,null,"AQLniveau1_"]
[null,null,null,"AQLniveau1_"]
[null,null,null,"AQLniveau1_"]
[null,null,null,"AQLniveau1_"]
[null,null,null,"AQLniveau1_"]
[null,null,null,"AQLniveau1_"]
[null,null,null,"AQLniveau1_"]
[null,null,null,"AQLniveau1_"]
[null,null,null,"AQLniveau1_"]
[null,null,null,"AQLniveau1_"]
[null,null,null,"AQLniveau1_"]
[null,null,null,"AQLniveau1_"]
[null,null,null,"AQLniveau1_"]
[null,null,null,"AQLniveau1_"]
[null,null,null,"AQLniveau1_"]
[null,null,null,"AQLniveau1_"]
[null,null,null,"AQLniveau1_"]
[null,null,null,"AQLniveau1_"]
[null,null,null,"AQLniveau1_"]
[null,null,null,"AQLniveau1_"]
[null,null,null,"AQLniveau1_"]
[null,null,null,"AQLniveau1_"]
[null,null,null,"AQLniveau1_"]
[null,null,null,"AQLniveau1_"]
[null,null,null,"AQLniveau1_"]
[null,null,null,"AQLniveau1_"]
[null,null,null,"AQLniveau1_"]
[null,null,null,"AQLniveau1_"]
[null,null,null,"AQLniveau1_"]
[null,null,null,"AQLniveau1_"]
[null,null,null,"AQLniveau1_"]
[null,null,null,"AQLniveau1_"]
[null,null,null,"AQLniveau1_"]
[null,null,null,"AQLniveau1_"]
[null,null,null,"AQLniveau1_"]
[null,null,null,"AQLniveau1_"]
[null,null,null,"AQLniveau1_"]
[null,null,null,"AQLniveau1_"]
[null,null,null,"AQLniveau1_"]
[null,null,null,"AQLniveau1_"]
[null,null,null,"AQLniveau1_"]
[null,null,null,"AQLniveau1_"]
[null,null,null,"AQLniveau1_"]
[null,null,null,"AQLniveau1_"]
[null,null,null,"AQLniveau1_"]
[null,null,null,"AQLniveau1_"]
[null,null,null,"AQLniveau1_"]
[null,null,null,"AQLniveau1_"]
[null,null,null,"AQLniveau1_"]
[null,null,null,"AQLniveau1_"]
[null,null,null,"AQLniveau1_"]
[null,null,null,"AQLniveau1_"]
[null,null,null,"AQLniveau1_"]
[null,null,null,"AQLniveau1_"]
[null,null,null,"AQLniveau1_"]
[null,null,null,"AQLniveau1_"]
[null,null,null,"AQLniveau1_"]
[null,null,null,"AQLniveau1_"]
[null,null,null,"AQLniveau1_"]
[null,null,null,"AQLniveau1_"]
[null,null,null,"AQLniveau1_"]
[null,null,null,"AQLniveau1_"]
[null,null,null,"AQLniveau1_"]
[null,null,null,"AQLniveau1_"]
[null,null,null,"AQLniveau1_"]
[null,null,null,"AQLniveau1_"]
[null,null,null,"AQLniveau1_"]
[null,null,null,"AQLniveau1_"]
[null,null,null,"AQLniveau1_"]
[null,null,null,"AQLniveau1_"]
[null,null,null,"AQLniveau1_"]
[null,null,null,"AQLniveau1_"]
[null,null,null,"AQLniveau1_"]
[null,null,null,"AQLniveau1_"]
[null,null,null,"AQLniveau1_"]
[null,null,null,"AQLniveau1_"]
[null,null,null,"AQLniveau1_"]
[null,null,null,"AQLniveau1_"]
[null,null,null,"AQLniveau1_"]
[null,null,null,"AQLniveau1_"]
[null,null,null,"AQLniveau1_"]
[null,null,null,"AQLniveau1_"]
[null,null,null,"AQLniveau1_"]
[null,null,null,"AQLniveau1_"]
[null,null,null,"AQLniveau1_"]
[null,null,null,"AQLniveau1_"]
[null,null,null,"AQLniveau1_"]
[null,null,null,"AQLniveau1_"]
[null,null,null,"AQLniveau1_"]
[null,null,null,"AQLniveau1_"]
[null,null,null,"AQLniveau1_"]
[null,null,null,"AQLniveau1_"]
[null,null,null,"AQLniveau1_"]
[null,null,null,"AQLniveau1_"]
[null,null,null,"AQLniveau1_"]
[null,null,null,"AQLniveau1_"]
[null,null,null,"AQLniveau1_"]
[null,null,null,"AQLniveau1_"]
[null,null,null,"AQLniveau1_"]
[null,null,null,"AQLniveau1_"]
[null,null,null,"AQLniveau1_"]
[null,null,null,"AQLniveau1_"]
[null,null,null,"AQLniveau1_"]
[null,null,null,"AQLniveau1_"]
[null,null,null,"AQLniveau1_"]
[null,null,null,"AQLniveau1_"]
[null,null,null,"AQLniveau1_"]
[null,null,null,"AQLniveau1_"]
[null,null,null,"AQLniveau1_"]
[null,null,null,"AQLniveau1_"]
[null,null,null,"AQLniveau1_"]
[null,null,null,"AQLniveau1_"]
[null,null,null,"AQLniveau1_"]
[null,null,null,"AQLniveau1_"]
[null,null,null,"AQLniveau1_"]
[null,null,null,"AQLniveau1_"]
[null,null,null,"AQLniveau1_"]
[null,null,null,"AQLniveau1_"]
[null,null,null,"AQLniveau1_"]
[null,null,null,"AQLniveau1_"]
[null,null,null,"AQLniveau1_"]
[null,null,null,"AQLniveau1_"]
[null,null,null,"AQLniveau1_"]
[null,null,null,"AQLniveau1_"]
[null,null,null,"AQLniveau1_"]
[null,null,null,"AQLniveau1_"]
[null,null,null,"AQLniveau1_"]
[null,null,null,"AQLniveau1_"]
[null,null,null,"AQLniveau1_"]
[null,null,null,"AQLniveau1_"]
[null,null,null,"AQLniveau1_"]
[null,null,null,"AQLniveau1_"]
[null,null,null,"AQLniveau1_"]
[null,null,null,"AQLniveau1_"]
[null,null,null,"AQLniveau1_"]
[null,null,null,"AQLniveau1_"]
[null,null,null,"AQLniveau1_"]
[null,null,null,"AQLniveau1_"]
[null,null,null,"AQLniveau1_"]
[null,null,null,"AQLniveau1_"]
[null,null,null,"AQLniveau1_"]
[null,null,null,"AQLniveau1_"]
[null,null,null,"AQLniveau1_"]
[null,null,null,"AQLniveau1_"]
[null,null,null,"AQLniveau1_"]
[null,null,null,"AQLniveau1_"]
[null,null,null,"AQLniveau1_"]
[null,null,null,"AQLniveau1_"]
[null,null,null,"AQLniveau1_"]
[null,null,null,"AQLniveau1_"]
[null,null,null,"AQLniveau1_"]
[null,null,null,"AQLniveau1_"]
[null,null,null,"AQLniveau1_"]
[null,null,null,"AQLniveau1_"]
[null,null,null,"AQLniveau1_"]
[null,null,null,"AQLniveau1_"]
[null,null,null,"AQLniveau1_"]
[null,null,null,"AQLniveau1_"]
[null,null,null,"AQLniveau1_"]
[null,null,null,"AQLniveau1_"]
[null,null,null,"AQLniveau1_"]
[null,null,null,"AQLniveau1_"]
[null,null,null,"AQLniveau1_"]
[null,null,null,"AQLniveau1_"]
[null,null,null,"AQLniveau1_"]
[null,null,null,"AQLniveau1_"]
[null,null,null,"AQLniveau1_"]
[null,null,null,"AQLniveau1_"]
[null,null,null,"AQLniveau1_"]
[null,null,null,"AQLniveau1_"]
[null,null,null,"AQLniveau1_"]
[null,null,null,"AQLniveau1_"]
[null,null,null,"AQLniveau1_"]
[null,null,null,"AQLniveau1_"]
[null,null,null,"AQLniveau1_"]
[null,null,null,"AQLniveau1_"]
[null,null,null,"AQLniveau1_"]
[null,null,null,"AQLniveau1_"]
[null,null,null,"AQLniveau1_"]
[null,null,null,"AQLniveau1_"]
[null,null,null,"AQLniveau1_"]
[null,null,null,"AQLniveau1_"]
[null,null,null,"AQLniveau1_"]
[null,null,null,"AQLniveau1_"]
[null,null,null,"AQLniveau1_"]
[null,null,null,"AQLniveau1_"]
[null,null,null,"AQLniveau1_"]
[null,null,null,"AQLniveau1_"]
[null,null,null,"AQLniveau1_"]
[null,null,null,"AQLniveau1_"]
[null,null,null,"AQLniveau1_"]
[null,null,null,"AQLniveau1_"]
[null,null,null,"AQLniveau1_"]
[null,null,null,"AQLniveau1_"]
[null,null,null,"AQLniveau1_"]
[null,null,null,"AQLniveau1_"]
[null,null,null,"AQLniveau1_"]
[null,null,null,"AQLniveau1_"]
[null,null,null,"AQLniveau1_"]
[null,null,null,"AQLniveau1_"]
[null,null,null,"AQLniveau1_"]
[null,null,null,"AQLniveau1_"]
[null,null,null,"AQLniveau1_"]
[null,null,null,"AQLniveau1_"]
[null,null,null,"AQLniveau1_"]
[null,null,null,"AQLniveau1_"]
[null,null,null,"AQLniveau1_"]
[null,null,null,"AQLniveau1_"]
[null,null,null,"AQLniveau1_"]
[null,null,null,"AQLniveau1_"]
[null,null,null,"AQLniveau1_"]
[null,null,null,"AQLniveau1_"]
[null,null,null,"AQLniveau1_"]
[null,null,null,"AQLniveau1_"]
[null,null,null,"AQLniveau1_"]
[null,null,null,"AQLniveau1_"]
[null,null,null,"AQLniveau1_"]
[null,null,null,"AQLniveau1_"]
[null,null,null,"AQLniveau1_"]
[null,null,null,"AQLniveau1_"]
[null,null,null,"AQLniveau1_"]
[null,null,null,"AQLniveau3_"]
[null,null,null,"AQLniveau1_"]
[null,null,null,"AQLniveau1_"]
[null,null,null,"AQLniveau1_"]
[null,null,null,"AQLniveau1_"]
[null,null,null,"AQLniveau1_"]
[null,null,null,"AQLniveau1_"]
[null,null,null,"AQLniveau1_"]
[null,null,null,"AQLniveau1_"]
[null,null,null,"AQLniveau1_"]
[null,null,null,"AQLniveau1_"]
[null,null,null,"AQLniveau1_"]
[null,null,null,"AQLniveau1_"]
[null,null,null,"AQLniveau1_"]
[null,null,null,"AQLniveau1_"]
[null,null,null,"AQLniveau1_"]
[null,null,null,"AQLniveau1_"]
[null,null,null,"AQLniveau1_"]
[null,null,null,"AQLniveau1_"]
[null,null,null,"AQLniveau1_"]
[null,null,null,"AQLniveau1_"]
[null,null,null,"AQLniveau1_"]
[null,null,null,"AQLniveau1_"]
[null,null,null,"AQLniveau1_"]
[null,null,null,"AQLniveau1_"]
[null,null,null,"AQLniveau1_"]
[null,null,null,"AQLniveau1_"]
[null,null,null,"AQLniveau1_"]
[null,null,null,"AQLniveau1_"]
[null,null,null,"AQLniveau1_"]
[null,null,null,"AQLniveau1_"]
[null,null,null,"AQLniveau1_"]
[null,null,null,"AQLniveau1_"]
[null,null,null,"AQLniveau1_"]
[null,null,null,"AQLniveau1_"]
[null,null,null,"AQLniveau1_"]
[null,null,null,"AQLniveau1_"]
[null,null,null,"AQLniveau1_"]
[null,null,null,"AQLniveau1_"]
[null,null,null,"AQLniveau1_"]
[null,null,null,"AQLniveau1_"]
[null,null,null,"AQLniveau1_"]
[null,null,null,"AQLniveau1_"]
[null,null,null,"AQLniveau1_"]
[null,null,null,"AQLniveau1_"]
[null,null,null,"AQLniveau1_"]
[null,null,null,"AQLniveau1_"]
[null,null,null,"AQLniveau1_"]
[null,null,null,"AQLniveau1_"]
[null,null,null,"AQLniveau1_"]
[null,null,null,"AQLniveau1_"]
[null,null,null,"AQLniveau1_"]
[null,null,null,"AQLniveau1_"]
[null,null,null,"AQLniveau1_"]
[null,null,null,"AQLniveau1_"]
[null,null,null,"AQLniveau1_"]
[null,null,null,"AQLniveau1_"]
[null,null,null,"AQLniveau1_"]
[null,null,null,"AQLniveau1_"]
[null,null,null,"AQLniveau1_"]
[null,null,null,"AQLniveau1_"]
[null,null,null,"AQLniveau1_"]
[null,null,null,"AQLniveau1_"]
[null,null,null,"AQLniveau1_"]
[null,null,null,"AQLniveau1_"]
[null,null,null,"AQLniveau1_"]
[null,null,null,"AQLniveau1_"]
[null,null,null,"AQLniveau1_"]
[null,null,null,"AQLniveau1_"]
[null,null,null,"AQLniveau1_"]
[null,null,null,"AQLniveau1_"]
[null,null,null,"AQLniveau1_"]
[null,null,null,"AQLniveau1_"]
[null,null,null,"AQLniveau1_"]
[null,null,null,"AQLniveau1_"]
[null,null,null,"AQLniveau1_"]
[null,null,null,"AQLniveau1_"]
[null,null,null,"AQLniveau1_"]
[null,null,null,"AQLniveau1_"]
[null,null,null,"AQLniveau1_"]
[null,null,null,"AQLniveau1_"]
[null,null,null,"AQLniveau3_"]
[null,null,null,"AQLniveau1_"]
[null,null,null,"AQLniveau1_"]
[null,null,null,"AQLniveau2_"]
[null,null,null,"AQLniveau3_"]
[]
[null,null,null,"AQLniveau1_"]
[null,null,null,"AQLniveau2_"]
[null,null,null,"AQLniveau1_"]
[null,null,null,"AQLniveau1_"]
[null,null,null,"AQLniveau1_"]
[null,null,null,"AQLniveau1_"]
[null,null,null,"AQLniveau1_"]
[null,null,null,"AQLniveau1_"]
[null,null,null,"AQLniveau1_"]
[null,null,null,"AQLniveau1_"]
[null,null,null,"AQLniveau1_"]
[null,null,null,"AQLniveau1_"]
[null,null,null,"AQLniveau1_"]
[null,null,null,"AQLniveau1_"]
[null,null,null,"AQLniveau1_"]
[null,null,null,"AQLniveau1_"]
[null,null,null,"AQLniveau1_"]
[null,null,null,"AQLniveau1_"]
[null,null,null,"AQLniveau1_"]
[null,null,null,"AQLniveau1_"]
[null,null,null,"AQLniveau1_"]
[null,null,null,"AQLniveau1_"]
[null,null,null,"AQLniveau2_"]
[null,null,null,"AQLniveau3_"]
[null,null,null,"AQLniveau3_"]
[null,null,null,"AQLniveau1_"]
[null,null,null,"AQLniveau1_"]
[null,null,null,"AQLniveau1_"]
[null,null,null,"AQLniveau1_"]
[null,null,null,"AQLniveau1_"]
[null,null,null,"AQLniveau1_"]
[null,null,null,"AQLniveau1_"]
[null,null,null,"AQLniveau1_"]
[null,null,null,"AQLniveau1_"]
[null,null,null,"AQLniveau1_"]
[null,null,null,"AQLniveau1_"]
[null,null,null,"AQLniveau1_"]
[null,null,null,"AQLniveau1_"]
[null,null,null,"AQLniveau1_"]
[null,null,null,"AQLniveau1_"]
[null,null,null,"AQLniveau1_"]
[null,null,null,"AQLniveau1_"]
[null,null,null,"AQLniveau1_"]
[null,null,null,"AQLniveau1_"]
[null,null,null,"AQLniveau1_"]
[null,null,null,"AQLniveau2_"]
[null,null,null,"AQLniveau1_"]
[null,null,null,"AQLniveau1_"]
[null,null,null,"AQLniveau1_"]
[null,null,null,"AQLniveau3_"]
[null,null,null,"AQLniveau3_"]
[null,null,null,"AQLniveau1_"]
[null,null,null,"AQLniveau2_"]
[null,null,null,"AQLniveau3_"]
[null,null,null,"AQLniveau3_"]
[null,null,null,"AQLniveau2_"]
[null,null,null,"AQLniveau1_"]
[null,null,null,"AQLniveau1_"]
[null,null,null,"AQLniveau1_"]
[null,null,null,"AQLniveau1_"]
[null,null,null,"AQLniveau1_"]
[null,null,null,"AQLniveau1_"]
[null,null,null,"AQLniveau1_"]
[null,null,null,"AQLniveau1_"]
[null,null,null,"AQLniveau1_"]
[null,null,null,"AQLniveau1_"]
[null,null,null,"AQLniveau1_"]
[null,null,null,"AQLniveau1_"]
[null,null,null,"AQLniveau1_"]
[null,null,null,"AQLniveau1_"]
[null,null,null,"AQLniveau1_"]
[null,null,null,"AQLniveau1_"]
[null,null,null,"AQLniveau1_"]
[null,null,null,"AQLniveau1_"]
[null,null,null,"AQLniveau1_"]
[null,null,null,"AQLniveau1_"]
[null,null,null,"AQLniveau1_"]
[null,null,null,"AQLniveau2_"]
[null,null,null,"AQLniveau1_"]
[null,null,null,"AQLniveau2_"]
[null,null,null,"AQLniveau1_"]
[null,null,null,"AQLniveau3_"]
[null,null,null,"AQLniveau1_"]
[null,null,null,"AQLniveau2_"]
[null,null,null,"AQLniveau1_"]
[null,null,null,"AQLniveau1_"]
[null,null,null,"AQLniveau2_"]
[null,null,null,"AQLniveau3_"]
[null,null,null,"AQLniveau1_"]
[null,null,null,"AQLniveau1_"]
[null,null,null,"AQLniveau1_"]
[null,null,null,"AQLniveau1_"]
[null,null,null,"AQLniveau1_"]
[null,null,null,"AQLniveau1_"]
[null,null,null,"AQLniveau1_"]
[null,null,null,"AQLniveau1_"]
[null,null,null,"AQLniveau1_"]
[null,null,null,"AQLniveau1_"]
[null,null,null,"AQLniveau1_"]
[null,null,null,"AQLniveau1_"]
[null,null,null,"AQLniveau1_"]
[null,null,null,"AQLniveau1_"]
[null,null,null,"AQLniveau1_"]
[null,null,null,"AQLniveau1_"]
[null,null,null,"AQLniveau1_"]
[null,null,null,"AQLniveau1_"]
[null,null,null,"AQLniveau1_"]
[null,null,null,"AQLniveau1_"]
[null,null,null,"AQLniveau1_"]
[null,null,null,"AQLniveau1_"]
[null,null,null,"AQLniveau1_"]
[null,null,null,"AQLniveau1_"]
[null,null,null,"AQLniveau1_"]
[null,null,null,"AQLniveau1_"]
[null,null,null,"AQLniveau2_"]
[null,null,null,"AQLniveau1_"]
[null,null,null,"AQLniveau1_"]
[null,null,null,"AQLniveau1_"]
[null,null,null,"AQLniveau1_"]
[null,null,null,"AQLniveau1_"]
[null,null,null,"AQLniveau1_"]
[null,null,null,"AQLniveau1_"]
[null,null,null,"AQLniveau1_"]
[null,null,null,"AQLniveau1_"]
[null,null,null,"AQLniveau1_"]
[null,null,null,"AQLniveau1_"]
[null,null,null,"AQLniveau1_"]
[null,null,null,"AQLniveau1_"]
[null,null,null,"AQLniveau1_"]
[null,null,null,"AQLniveau1_"]
[null,null,null,"AQLniveau1_"]
[null,null,null,"AQLniveau3_"]
[null,null,null,"AQLniveau2_"]
[null,null,null,"AQLniveau1_"]
[null,null,null,"AQLniveau3_"]
[null,null,null,"AQLniveau3_"]
[null,null,null,"AQLniveau2_"]
[null,null,null,"AQLniveau2_"]
[null,null,null,"AQLniveau3_"]
[null,null,null,"AQLniveau3_"]
[null,null,null,"AQLniveau3_"]
[null,null,null,"AQLniveau3_"]
[null,null,null,"AQLniveau3_"]
[null,null,null,"AQLniveau3_"]
[null,null,null,"AQLniveau1_"]
[null,null,null,"AQLniveau3_"]
[null,null,null,"AQLniveau3_"]
[null,null,null,"AQLniveau3_"]
[null,null,null,"AQLniveau2_"]
[null,null,null,"AQLniveau3_"]
[null,null,null,"AQLniveau3_"]
[null,null,null,"AQLniveau3_"]
[null,null,null,"AQLniveau3_"]
[null,null,null,"AQLniveau1_"]
[null,null,null,"AQLniveau3_"]
[null,null,null,"AQLniveau3_"]

{"sheet":"aql","index":2,"n_rows":3865,"n_cols":11,"rows_kept":3865,"cut":false,"hidden":false,"merged":[]}
["AQLniveau1","I","max tilladt antal emner med fejl I","AQLniveau2","II","max tilladt antal emner med fejl II","AQLniveau3","III ","max tilladt antal emner med fejl III",null,"Genelle inspektionsniveauer"]
["Batchstørrelsen\nantal i ordren","I","max tilladt antal emner med fejl ","Batchstørrelsen\nantal i ordren","II","max tilladt antal emner med fejl ","Batchstørrelsen\nantal i ordren","III ","max tilladt antal emner med fejl ",null,"AQLniveau1_"]
[1,2,{"$f":"VLOOKUP(B3,'Ark1'!C$2:D$11,2,FALSE)","v":0},1,2,{"$f":"VLOOKUP(E3,'Ark1'!$C$2:$D$11,2,FALSE)","v":0},1,3,{"$f":"VLOOKUP(H3,'Ark1'!$C$2:$D$12,2,FALSE)","v":0},null,"AQLniveau2_"]
[2,2,{"$f":"VLOOKUP(B4,'Ark1'!C$2:D$11,2,FALSE)","v":0},2,2,{"$f":"VLOOKUP(E4,'Ark1'!$C$2:$D$11,2,FALSE)","v":0},2,3,{"$f":"VLOOKUP(H4,'Ark1'!$C$2:$D$12,2,FALSE)","v":0},null,"AQLniveau3_"]
[3,2,{"$f":"VLOOKUP(B5,'Ark1'!C$2:D$11,2,FALSE)","v":0},3,2,{"$f":"VLOOKUP(E5,'Ark1'!$C$2:$D$11,2,FALSE)","v":0},3,3,{"$f":"VLOOKUP(H5,'Ark1'!$C$2:$D$12,2,FALSE)","v":0}]
[4,2,{"$f":"VLOOKUP(B6,'Ark1'!C$2:D$11,2,FALSE)","v":0},4,2,{"$f":"VLOOKUP(E6,'Ark1'!$C$2:$D$11,2,FALSE)","v":0},4,3,{"$f":"VLOOKUP(H6,'Ark1'!$C$2:$D$12,2,FALSE)","v":0}]
[5,2,{"$f":"VLOOKUP(B7,'Ark1'!C$2:D$11,2,FALSE)","v":0},5,2,{"$f":"VLOOKUP(E7,'Ark1'!$C$2:$D$11,2,FALSE)","v":0},5,3,{"$f":"VLOOKUP(H7,'Ark1'!$C$2:$D$12,2,FALSE)","v":0}]
[6,2,{"$f":"VLOOKUP(B8,'Ark1'!C$2:D$11,2,FALSE)","v":0},6,2,{"$f":"VLOOKUP(E8,'Ark1'!$C$2:$D$11,2,FALSE)","v":0},6,3,{"$f":"VLOOKUP(H8,'Ark1'!$C$2:$D$12,2,FALSE)","v":0}]
[7,2,{"$f":"VLOOKUP(B9,'Ark1'!C$2:D$11,2,FALSE)","v":0},7,2,{"$f":"VLOOKUP(E9,'Ark1'!$C$2:$D$11,2,FALSE)","v":0},7,3,{"$f":"VLOOKUP(H9,'Ark1'!$C$2:$D$12,2,FALSE)","v":0}]
[8,2,{"$f":"VLOOKUP(B10,'Ark1'!C$2:D$11,2,FALSE)","v":0},8,2,{"$f":"VLOOKUP(E10,'Ark1'!$C$2:$D$11,2,FALSE)","v":0},8,3,{"$f":"VLOOKUP(H10,'Ark1'!$C$2:$D$12,2,FALSE)","v":0}]
[9,2,{"$f":"VLOOKUP(B11,'Ark1'!C$2:D$11,2,FALSE)","v":0},9,3,{"$f":"VLOOKUP(E11,'Ark1'!$C$2:$D$11,2,FALSE)","v":0},9,5,{"$f":"VLOOKUP(H11,'Ark1'!$C$2:$D$12,2,FALSE)","v":0}]
[10,2,{"$f":"VLOOKUP(B12,'Ark1'!C$2:D$11,2,FALSE)","v":0},10,3,{"$f":"VLOOKUP(E12,'Ark1'!$C$2:$D$11,2,FALSE)","v":0},10,5,{"$f":"VLOOKUP(H12,'Ark1'!$C$2:$D$12,2,FALSE)","v":0}]
[11,2,{"$f":"VLOOKUP(B13,'Ark1'!C$2:D$11,2,FALSE)","v":0},11,3,{"$f":"VLOOKUP(E13,'Ark1'!$C$2:$D$11,2,FALSE)","v":0},11,5,{"$f":"VLOOKUP(H13,'Ark1'!$C$2:$D$12,2,FALSE)","v":0}]
[12,2,{"$f":"VLOOKUP(B14,'Ark1'!C$2:D$11,2,FALSE)","v":0},12,3,{"$f":"VLOOKUP(E14,'Ark1'!$C$2:$D$11,2,FALSE)","v":0},12,5,{"$f":"VLOOKUP(H14,'Ark1'!$C$2:$D$12,2,FALSE)","v":0}]
[13,2,{"$f":"VLOOKUP(B15,'Ark1'!C$2:D$11,2,FALSE)","v":0},13,3,{"$f":"VLOOKUP(E15,'Ark1'!$C$2:$D$11,2,FALSE)","v":0},13,5,{"$f":"VLOOKUP(H15,'Ark1'!$C$2:$D$12,2,FALSE)","v":0}]
[14,2,{"$f":"VLOOKUP(B16,'Ark1'!C$2:D$11,2,FALSE)","v":0},14,3,{"$f":"VLOOKUP(E16,'Ark1'!$C$2:$D$11,2,FALSE)","v":0},14,5,{"$f":"VLOOKUP(H16,'Ark1'!$C$2:$D$12,2,FALSE)","v":0}]
[15,2,{"$f":"VLOOKUP(B17,'Ark1'!C$2:D$11,2,FALSE)","v":0},15,3,{"$f":"VLOOKUP(E17,'Ark1'!$C$2:$D$11,2,FALSE)","v":0},15,5,{"$f":"VLOOKUP(H17,'Ark1'!$C$2:$D$12,2,FALSE)","v":0}]
[16,2,{"$f":"VLOOKUP(B18,'Ark1'!C$2:D$11,2,FALSE)","v":0},16,5,{"$f":"VLOOKUP(E18,'Ark1'!$C$2:$D$11,2,FALSE)","v":0},16,8,{"$f":"VLOOKUP(H18,'Ark1'!$C$2:$D$12,2,FALSE)","v":0}]
[17,3,{"$f":"VLOOKUP(B19,'Ark1'!C$2:D$11,2,FALSE)","v":0},17,5,{"$f":"VLOOKUP(E19,'Ark1'!$C$2:$D$11,2,FALSE)","v":0},17,8,{"$f":"VLOOKUP(H19,'Ark1'!$C$2:$D$12,2,FALSE)","v":0}]
[18,3,{"$f":"VLOOKUP(B20,'Ark1'!C$2:D$11,2,FALSE)","v":0},18,5,{"$f":"VLOOKUP(E20,'Ark1'!$C$2:$D$11,2,FALSE)","v":0},18,8,{"$f":"VLOOKUP(H20,'Ark1'!$C$2:$D$12,2,FALSE)","v":0}]
[19,3,{"$f":"VLOOKUP(B21,'Ark1'!C$2:D$11,2,FALSE)","v":0},19,5,{"$f":"VLOOKUP(E21,'Ark1'!$C$2:$D$11,2,FALSE)","v":0},19,8,{"$f":"VLOOKUP(H21,'Ark1'!$C$2:$D$12,2,FALSE)","v":0}]
[20,3,{"$f":"VLOOKUP(B22,'Ark1'!C$2:D$11,2,FALSE)","v":0},20,5,{"$f":"VLOOKUP(E22,'Ark1'!$C$2:$D$11,2,FALSE)","v":0},20,8,{"$f":"VLOOKUP(H22,'Ark1'!$C$2:$D$12,2,FALSE)","v":0}]
[21,3,{"$f":"VLOOKUP(B23,'Ark1'!C$2:D$11,2,FALSE)","v":0},21,5,{"$f":"VLOOKUP(E23,'Ark1'!$C$2:$D$11,2,FALSE)","v":0},21,8,{"$f":"VLOOKUP(H23,'Ark1'!$C$2:$D$12,2,FALSE)","v":0}]
[22,3,{"$f":"VLOOKUP(B24,'Ark1'!C$2:D$11,2,FALSE)","v":0},22,5,{"$f":"VLOOKUP(E24,'Ark1'!$C$2:$D$11,2,FALSE)","v":0},22,8,{"$f":"VLOOKUP(H24,'Ark1'!$C$2:$D$12,2,FALSE)","v":0}]
[23,3,{"$f":"VLOOKUP(B25,'Ark1'!C$2:D$11,2,FALSE)","v":0},23,5,{"$f":"VLOOKUP(E25,'Ark1'!$C$2:$D$11,2,FALSE)","v":0},23,8,{"$f":"VLOOKUP(H25,'Ark1'!$C$2:$D$12,2,FALSE)","v":0}]
[24,3,{"$f":"VLOOKUP(B26,'Ark1'!C$2:D$11,2,FALSE)","v":0},24,5,{"$f":"VLOOKUP(E26,'Ark1'!$C$2:$D$11,2,FALSE)","v":0},24,8,{"$f":"VLOOKUP(H26,'Ark1'!$C$2:$D$12,2,FALSE)","v":0}]
[25,3,{"$f":"VLOOKUP(B27,'Ark1'!C$2:D$11,2,FALSE)","v":0},25,5,{"$f":"VLOOKUP(E27,'Ark1'!$C$2:$D$11,2,FALSE)","v":0},25,8,{"$f":"VLOOKUP(H27,'Ark1'!$C$2:$D$12,2,FALSE)","v":0}]
[26,5,{"$f":"VLOOKUP(B28,'Ark1'!C$2:D$11,2,FALSE)","v":0},26,8,{"$f":"VLOOKUP(E28,'Ark1'!$C$2:$D$11,2,FALSE)","v":0},26,13,{"$f":"VLOOKUP(H28,'Ark1'!$C$2:$D$12,2,FALSE)","v":0}]
[27,5,{"$f":"VLOOKUP(B29,'Ark1'!C$2:D$11,2,FALSE)","v":0},27,8,{"$f":"VLOOKUP(E29,'Ark1'!$C$2:$D$11,2,FALSE)","v":0},27,13,{"$f":"VLOOKUP(H29,'Ark1'!$C$2:$D$12,2,FALSE)","v":0}]
[28,5,{"$f":"VLOOKUP(B30,'Ark1'!C$2:D$11,2,FALSE)","v":0},28,8,{"$f":"VLOOKUP(E30,'Ark1'!$C$2:$D$11,2,FALSE)","v":0},28,13,{"$f":"VLOOKUP(H30,'Ark1'!$C$2:$D$12,2,FALSE)","v":0}]
[29,5,{"$f":"VLOOKUP(B31,'Ark1'!C$2:D$11,2,FALSE)","v":0},29,8,{"$f":"VLOOKUP(E31,'Ark1'!$C$2:$D$11,2,FALSE)","v":0},29,13,{"$f":"VLOOKUP(H31,'Ark1'!$C$2:$D$12,2,FALSE)","v":0}]
[30,5,{"$f":"VLOOKUP(B32,'Ark1'!C$2:D$11,2,FALSE)","v":0},30,8,{"$f":"VLOOKUP(E32,'Ark1'!$C$2:$D$11,2,FALSE)","v":0},30,13,{"$f":"VLOOKUP(H32,'Ark1'!$C$2:$D$12,2,FALSE)","v":0}]
[31,5,{"$f":"VLOOKUP(B33,'Ark1'!C$2:D$11,2,FALSE)","v":0},31,8,{"$f":"VLOOKUP(E33,'Ark1'!$C$2:$D$11,2,FALSE)","v":0},31,13,{"$f":"VLOOKUP(H33,'Ark1'!$C$2:$D$12,2,FALSE)","v":0}]
[32,5,{"$f":"VLOOKUP(B34,'Ark1'!C$2:D$11,2,FALSE)","v":0},32,8,{"$f":"VLOOKUP(E34,'Ark1'!$C$2:$D$11,2,FALSE)","v":0},32,13,{"$f":"VLOOKUP(H34,'Ark1'!$C$2:$D$12,2,FALSE)","v":0}]
[33,5,{"$f":"VLOOKUP(B35,'Ark1'!C$2:D$11,2,FALSE)","v":0},33,8,{"$f":"VLOOKUP(E35,'Ark1'!$C$2:$D$11,2,FALSE)","v":0},33,13,{"$f":"VLOOKUP(H35,'Ark1'!$C$2:$D$12,2,FALSE)","v":0}]
[34,5,{"$f":"VLOOKUP(B36,'Ark1'!C$2:D$11,2,FALSE)","v":0},34,8,{"$f":"VLOOKUP(E36,'Ark1'!$C$2:$D$11,2,FALSE)","v":0},34,13,{"$f":"VLOOKUP(H36,'Ark1'!$C$2:$D$12,2,FALSE)","v":0}]
[35,5,{"$f":"VLOOKUP(B37,'Ark1'!C$2:D$11,2,FALSE)","v":0},35,8,{"$f":"VLOOKUP(E37,'Ark1'!$C$2:$D$11,2,FALSE)","v":0},35,13,{"$f":"VLOOKUP(H37,'Ark1'!$C$2:$D$12,2,FALSE)","v":0}]
[36,5,{"$f":"VLOOKUP(B38,'Ark1'!C$2:D$11,2,FALSE)","v":0},36,8,{"$f":"VLOOKUP(E38,'Ark1'!$C$2:$D$11,2,FALSE)","v":0},36,13,{"$f":"VLOOKUP(H38,'Ark1'!$C$2:$D$12,2,FALSE)","v":0}]
[37,5,{"$f":"VLOOKUP(B39,'Ark1'!C$2:D$11,2,FALSE)","v":0},37,8,{"$f":"VLOOKUP(E39,'Ark1'!$C$2:$D$11,2,FALSE)","v":0},37,13,{"$f":"VLOOKUP(H39,'Ark1'!$C$2:$D$12,2,FALSE)","v":0}]
[38,5,{"$f":"VLOOKUP(B40,'Ark1'!C$2:D$11,2,FALSE)","v":0},38,8,{"$f":"VLOOKUP(E40,'Ark1'!$C$2:$D$11,2,FALSE)","v":0},38,13,{"$f":"VLOOKUP(H40,'Ark1'!$C$2:$D$12,2,FALSE)","v":0}]
[39,5,{"$f":"VLOOKUP(B41,'Ark1'!C$2:D$11,2,FALSE)","v":0},39,8,{"$f":"VLOOKUP(E41,'Ark1'!$C$2:$D$11,2,FALSE)","v":0},39,13,{"$f":"VLOOKUP(H41,'Ark1'!$C$2:$D$12,2,FALSE)","v":0}]
[40,5,{"$f":"VLOOKUP(B42,'Ark1'!C$2:D$11,2,FALSE)","v":0},40,8,{"$f":"VLOOKUP(E42,'Ark1'!$C$2:$D$11,2,FALSE)","v":0},40,13,{"$f":"VLOOKUP(H42,'Ark1'!$C$2:$D$12,2,FALSE)","v":0}]
[41,5,{"$f":"VLOOKUP(B43,'Ark1'!C$2:D$11,2,FALSE)","v":0},41,8,{"$f":"VLOOKUP(E43,'Ark1'!$C$2:$D$11,2,FALSE)","v":0},41,13,{"$f":"VLOOKUP(H43,'Ark1'!$C$2:$D$12,2,FALSE)","v":0}]
[42,5,{"$f":"VLOOKUP(B44,'Ark1'!C$2:D$11,2,FALSE)","v":0},42,8,{"$f":"VLOOKUP(E44,'Ark1'!$C$2:$D$11,2,FALSE)","v":0},42,13,{"$f":"VLOOKUP(H44,'Ark1'!$C$2:$D$12,2,FALSE)","v":0}]
[43,5,{"$f":"VLOOKUP(B45,'Ark1'!C$2:D$11,2,FALSE)","v":0},43,8,{"$f":"VLOOKUP(E45,'Ark1'!$C$2:$D$11,2,FALSE)","v":0},43,13,{"$f":"VLOOKUP(H45,'Ark1'!$C$2:$D$12,2,FALSE)","v":0}]
[44,5,{"$f":"VLOOKUP(B46,'Ark1'!C$2:D$11,2,FALSE)","v":0},44,8,{"$f":"VLOOKUP(E46,'Ark1'!$C$2:$D$11,2,FALSE)","v":0},44,13,{"$f":"VLOOKUP(H46,'Ark1'!$C$2:$D$12,2,FALSE)","v":0}]
[45,5,{"$f":"VLOOKUP(B47,'Ark1'!C$2:D$11,2,FALSE)","v":0},45,8,{"$f":"VLOOKUP(E47,'Ark1'!$C$2:$D$11,2,FALSE)","v":0},45,13,{"$f":"VLOOKUP(H47,'Ark1'!$C$2:$D$12,2,FALSE)","v":0}]
[46,5,{"$f":"VLOOKUP(B48,'Ark1'!C$2:D$11,2,FALSE)","v":0},46,8,{"$f":"VLOOKUP(E48,'Ark1'!$C$2:$D$11,2,FALSE)","v":0},46,13,{"$f":"VLOOKUP(H48,'Ark1'!$C$2:$D$12,2,FALSE)","v":0}]
[47,5,{"$f":"VLOOKUP(B49,'Ark1'!C$2:D$11,2,FALSE)","v":0},47,8,{"$f":"VLOOKUP(E49,'Ark1'!$C$2:$D$11,2,FALSE)","v":0},47,13,{"$f":"VLOOKUP(H49,'Ark1'!$C$2:$D$12,2,FALSE)","v":0}]
[48,5,{"$f":"VLOOKUP(B50,'Ark1'!C$2:D$11,2,FALSE)","v":0},48,8,{"$f":"VLOOKUP(E50,'Ark1'!$C$2:$D$11,2,FALSE)","v":0},48,13,{"$f":"VLOOKUP(H50,'Ark1'!$C$2:$D$12,2,FALSE)","v":0}]
[49,5,{"$f":"VLOOKUP(B51,'Ark1'!C$2:D$11,2,FALSE)","v":0},49,8,{"$f":"VLOOKUP(E51,'Ark1'!$C$2:$D$11,2,FALSE)","v":0},49,13,{"$f":"VLOOKUP(H51,'Ark1'!$C$2:$D$12,2,FALSE)","v":0}]
[50,5,{"$f":"VLOOKUP(B52,'Ark1'!C$2:D$11,2,FALSE)","v":0},50,8,{"$f":"VLOOKUP(E52,'Ark1'!$C$2:$D$11,2,FALSE)","v":0},50,13,{"$f":"VLOOKUP(H52,'Ark1'!$C$2:$D$12,2,FALSE)","v":0}]
[51,5,{"$f":"VLOOKUP(B53,'Ark1'!C$2:D$11,2,FALSE)","v":0},51,13,{"$f":"VLOOKUP(E53,'Ark1'!$C$2:$D$11,2,FALSE)","v":0},51,20,{"$f":"VLOOKUP(H53,'Ark1'!$C$2:$D$12,2,FALSE)","v":1}]
[52,5,{"$f":"VLOOKUP(B54,'Ark1'!C$2:D$11,2,FALSE)","v":0},52,13,{"$f":"VLOOKUP(E54,'Ark1'!$C$2:$D$11,2,FALSE)","v":0},52,20,{"$f":"VLOOKUP(H54,'Ark1'!$C$2:$D$12,2,FALSE)","v":1}]
[53,5,{"$f":"VLOOKUP(B55,'Ark1'!C$2:D$11,2,FALSE)","v":0},53,13,{"$f":"VLOOKUP(E55,'Ark1'!$C$2:$D$11,2,FALSE)","v":0},53,20,{"$f":"VLOOKUP(H55,'Ark1'!$C$2:$D$12,2,FALSE)","v":1}]
[54,5,{"$f":"VLOOKUP(B56,'Ark1'!C$2:D$11,2,FALSE)","v":0},54,13,{"$f":"VLOOKUP(E56,'Ark1'!$C$2:$D$11,2,FALSE)","v":0},54,20,{"$f":"VLOOKUP(H56,'Ark1'!$C$2:$D$12,2,FALSE)","v":1}]
[55,5,{"$f":"VLOOKUP(B57,'Ark1'!C$2:D$11,2,FALSE)","v":0},55,13,{"$f":"VLOOKUP(E57,'Ark1'!$C$2:$D$11,2,FALSE)","v":0},55,20,{"$f":"VLOOKUP(H57,'Ark1'!$C$2:$D$12,2,FALSE)","v":1}]
[56,5,{"$f":"VLOOKUP(B58,'Ark1'!C$2:D$11,2,FALSE)","v":0},56,13,{"$f":"VLOOKUP(E58,'Ark1'!$C$2:$D$11,2,FALSE)","v":0},56,20,{"$f":"VLOOKUP(H58,'Ark1'!$C$2:$D$12,2,FALSE)","v":1}]
[57,5,{"$f":"VLOOKUP(B59,'Ark1'!C$2:D$11,2,FALSE)","v":0},57,13,{"$f":"VLOOKUP(E59,'Ark1'!$C$2:$D$11,2,FALSE)","v":0},57,20,{"$f":"VLOOKUP(H59,'Ark1'!$C$2:$D$12,2,FALSE)","v":1}]
[58,5,{"$f":"VLOOKUP(B60,'Ark1'!C$2:D$11,2,FALSE)","v":0},58,13,{"$f":"VLOOKUP(E60,'Ark1'!$C$2:$D$11,2,FALSE)","v":0},58,20,{"$f":"VLOOKUP(H60,'Ark1'!$C$2:$D$12,2,FALSE)","v":1}]
[59,5,{"$f":"VLOOKUP(B61,'Ark1'!C$2:D$11,2,FALSE)","v":0},59,13,{"$f":"VLOOKUP(E61,'Ark1'!$C$2:$D$11,2,FALSE)","v":0},59,20,{"$f":"VLOOKUP(H61,'Ark1'!$C$2:$D$12,2,FALSE)","v":1}]
[60,5,{"$f":"VLOOKUP(B62,'Ark1'!C$2:D$11,2,FALSE)","v":0},60,13,{"$f":"VLOOKUP(E62,'Ark1'!$C$2:$D$11,2,FALSE)","v":0},60,20,{"$f":"VLOOKUP(H62,'Ark1'!$C$2:$D$12,2,FALSE)","v":1}]
[61,5,{"$f":"VLOOKUP(B63,'Ark1'!C$2:D$11,2,FALSE)","v":0},61,13,{"$f":"VLOOKUP(E63,'Ark1'!$C$2:$D$11,2,FALSE)","v":0},61,20,{"$f":"VLOOKUP(H63,'Ark1'!$C$2:$D$12,2,FALSE)","v":1}]
[62,5,{"$f":"VLOOKUP(B64,'Ark1'!C$2:D$11,2,FALSE)","v":0},62,13,{"$f":"VLOOKUP(E64,'Ark1'!$C$2:$D$11,2,FALSE)","v":0},62,20,{"$f":"VLOOKUP(H64,'Ark1'!$C$2:$D$12,2,FALSE)","v":1}]
[63,5,{"$f":"VLOOKUP(B65,'Ark1'!C$2:D$11,2,FALSE)","v":0},63,13,{"$f":"VLOOKUP(E65,'Ark1'!$C$2:$D$11,2,FALSE)","v":0},63,20,{"$f":"VLOOKUP(H65,'Ark1'!$C$2:$D$12,2,FALSE)","v":1}]
[64,5,{"$f":"VLOOKUP(B66,'Ark1'!C$2:D$11,2,FALSE)","v":0},64,13,{"$f":"VLOOKUP(E66,'Ark1'!$C$2:$D$11,2,FALSE)","v":0},64,20,{"$f":"VLOOKUP(H66,'Ark1'!$C$2:$D$12,2,FALSE)","v":1}]
[65,5,{"$f":"VLOOKUP(B67,'Ark1'!C$2:D$11,2,FALSE)","v":0},65,13,{"$f":"VLOOKUP(E67,'Ark1'!$C$2:$D$11,2,FALSE)","v":0},65,20,{"$f":"VLOOKUP(H67,'Ark1'!$C$2:$D$12,2,FALSE)","v":1}]
[66,5,{"$f":"VLOOKUP(B68,'Ark1'!C$2:D$11,2,FALSE)","v":0},66,13,{"$f":"VLOOKUP(E68,'Ark1'!$C$2:$D$11,2,FALSE)","v":0},66,20,{"$f":"VLOOKUP(H68,'Ark1'!$C$2:$D$12,2,FALSE)","v":1}]
[67,5,{"$f":"VLOOKUP(B69,'Ark1'!C$2:D$11,2,FALSE)","v":0},67,13,{"$f":"VLOOKUP(E69,'Ark1'!$C$2:$D$11,2,FALSE)","v":0},67,20,{"$f":"VLOOKUP(H69,'Ark1'!$C$2:$D$12,2,FALSE)","v":1}]
[68,5,{"$f":"VLOOKUP(B70,'Ark1'!C$2:D$11,2,FALSE)","v":0},68,13,{"$f":"VLOOKUP(E70,'Ark1'!$C$2:$D$11,2,FALSE)","v":0},68,20,{"$f":"VLOOKUP(H70,'Ark1'!$C$2:$D$12,2,FALSE)","v":1}]
[69,5,{"$f":"VLOOKUP(B71,'Ark1'!C$2:D$11,2,FALSE)","v":0},69,13,{"$f":"VLOOKUP(E71,'Ark1'!$C$2:$D$11,2,FALSE)","v":0},69,20,{"$f":"VLOOKUP(H71,'Ark1'!$C$2:$D$12,2,FALSE)","v":1}]
[70,5,{"$f":"VLOOKUP(B72,'Ark1'!C$2:D$11,2,FALSE)","v":0},70,13,{"$f":"VLOOKUP(E72,'Ark1'!$C$2:$D$11,2,FALSE)","v":0},70,20,{"$f":"VLOOKUP(H72,'Ark1'!$C$2:$D$12,2,FALSE)","v":1}]
[71,5,{"$f":"VLOOKUP(B73,'Ark1'!C$2:D$11,2,FALSE)","v":0},71,13,{"$f":"VLOOKUP(E73,'Ark1'!$C$2:$D$11,2,FALSE)","v":0},71,20,{"$f":"VLOOKUP(H73,'Ark1'!$C$2:$D$12,2,FALSE)","v":1}]
[72,5,{"$f":"VLOOKUP(B74,'Ark1'!C$2:D$11,2,FALSE)","v":0},72,13,{"$f":"VLOOKUP(E74,'Ark1'!$C$2:$D$11,2,FALSE)","v":0},72,20,{"$f":"VLOOKUP(H74,'Ark1'!$C$2:$D$12,2,FALSE)","v":1}]
[73,5,{"$f":"VLOOKUP(B75,'Ark1'!C$2:D$11,2,FALSE)","v":0},73,13,{"$f":"VLOOKUP(E75,'Ark1'!$C$2:$D$11,2,FALSE)","v":0},73,20,{"$f":"VLOOKUP(H75,'Ark1'!$C$2:$D$12,2,FALSE)","v":1}]
[74,5,{"$f":"VLOOKUP(B76,'Ark1'!C$2:D$11,2,FALSE)","v":0},74,13,{"$f":"VLOOKUP(E76,'Ark1'!$C$2:$D$11,2,FALSE)","v":0},74,20,{"$f":"VLOOKUP(H76,'Ark1'!$C$2:$D$12,2,FALSE)","v":1}]
[75,5,{"$f":"VLOOKUP(B77,'Ark1'!C$2:D$11,2,FALSE)","v":0},75,13,{"$f":"VLOOKUP(E77,'Ark1'!$C$2:$D$11,2,FALSE)","v":0},75,20,{"$f":"VLOOKUP(H77,'Ark1'!$C$2:$D$12,2,FALSE)","v":1}]
[76,5,{"$f":"VLOOKUP(B78,'Ark1'!C$2:D$11,2,FALSE)","v":0},76,13,{"$f":"VLOOKUP(E78,'Ark1'!$C$2:$D$11,2,FALSE)","v":0},76,20,{"$f":"VLOOKUP(H78,'Ark1'!$C$2:$D$12,2,FALSE)","v":1}]
[77,5,{"$f":"VLOOKUP(B79,'Ark1'!C$2:D$11,2,FALSE)","v":0},77,13,{"$f":"VLOOKUP(E79,'Ark1'!$C$2:$D$11,2,FALSE)","v":0},77,20,{"$f":"VLOOKUP(H79,'Ark1'!$C$2:$D$12,2,FALSE)","v":1}]
[78,5,{"$f":"VLOOKUP(B80,'Ark1'!C$2:D$11,2,FALSE)","v":0},78,13,{"$f":"VLOOKUP(E80,'Ark1'!$C$2:$D$11,2,FALSE)","v":0},78,20,{"$f":"VLOOKUP(H80,'Ark1'!$C$2:$D$12,2,FALSE)","v":1}]
[79,5,{"$f":"VLOOKUP(B81,'Ark1'!C$2:D$11,2,FALSE)","v":0},79,13,{"$f":"VLOOKUP(E81,'Ark1'!$C$2:$D$11,2,FALSE)","v":0},79,20,{"$f":"VLOOKUP(H81,'Ark1'!$C$2:$D$12,2,FALSE)","v":1}]
[80,5,{"$f":"VLOOKUP(B82,'Ark1'!C$2:D$11,2,FALSE)","v":0},80,13,{"$f":"VLOOKUP(E82,'Ark1'!$C$2:$D$11,2,FALSE)","v":0},80,20,{"$f":"VLOOKUP(H82,'Ark1'!$C$2:$D$12,2,FALSE)","v":1}]
[81,5,{"$f":"VLOOKUP(B83,'Ark1'!C$2:D$11,2,FALSE)","v":0},81,13,{"$f":"VLOOKUP(E83,'Ark1'!$C$2:$D$11,2,FALSE)","v":0},81,20,{"$f":"VLOOKUP(H83,'Ark1'!$C$2:$D$12,2,FALSE)","v":1}]
[82,5,{"$f":"VLOOKUP(B84,'Ark1'!C$2:D$11,2,FALSE)","v":0},82,13,{"$f":"VLOOKUP(E84,'Ark1'!$C$2:$D$11,2,FALSE)","v":0},82,20,{"$f":"VLOOKUP(H84,'Ark1'!$C$2:$D$12,2,FALSE)","v":1}]
[83,5,{"$f":"VLOOKUP(B85,'Ark1'!C$2:D$11,2,FALSE)","v":0},83,13,{"$f":"VLOOKUP(E85,'Ark1'!$C$2:$D$11,2,FALSE)","v":0},83,20,{"$f":"VLOOKUP(H85,'Ark1'!$C$2:$D$12,2,FALSE)","v":1}]
[84,5,{"$f":"VLOOKUP(B86,'Ark1'!C$2:D$11,2,FALSE)","v":0},84,13,{"$f":"VLOOKUP(E86,'Ark1'!$C$2:$D$11,2,FALSE)","v":0},84,20,{"$f":"VLOOKUP(H86,'Ark1'!$C$2:$D$12,2,FALSE)","v":1}]
[85,5,{"$f":"VLOOKUP(B87,'Ark1'!C$2:D$11,2,FALSE)","v":0},85,13,{"$f":"VLOOKUP(E87,'Ark1'!$C$2:$D$11,2,FALSE)","v":0},85,20,{"$f":"VLOOKUP(H87,'Ark1'!$C$2:$D$12,2,FALSE)","v":1}]
[86,5,{"$f":"VLOOKUP(B88,'Ark1'!C$2:D$11,2,FALSE)","v":0},86,13,{"$f":"VLOOKUP(E88,'Ark1'!$C$2:$D$11,2,FALSE)","v":0},86,20,{"$f":"VLOOKUP(H88,'Ark1'!$C$2:$D$12,2,FALSE)","v":1}]
[87,5,{"$f":"VLOOKUP(B89,'Ark1'!C$2:D$11,2,FALSE)","v":0},87,13,{"$f":"VLOOKUP(E89,'Ark1'!$C$2:$D$11,2,FALSE)","v":0},87,20,{"$f":"VLOOKUP(H89,'Ark1'!$C$2:$D$12,2,FALSE)","v":1}]
[88,5,{"$f":"VLOOKUP(B90,'Ark1'!C$2:D$11,2,FALSE)","v":0},88,13,{"$f":"VLOOKUP(E90,'Ark1'!$C$2:$D$11,2,FALSE)","v":0},88,20,{"$f":"VLOOKUP(H90,'Ark1'!$C$2:$D$12,2,FALSE)","v":1}]
[89,5,{"$f":"VLOOKUP(B91,'Ark1'!C$2:D$11,2,FALSE)","v":0},89,13,{"$f":"VLOOKUP(E91,'Ark1'!$C$2:$D$11,2,FALSE)","v":0},89,20,{"$f":"VLOOKUP(H91,'Ark1'!$C$2:$D$12,2,FALSE)","v":1}]
[90,5,{"$f":"VLOOKUP(B92,'Ark1'!C$2:D$11,2,FALSE)","v":0},90,13,{"$f":"VLOOKUP(E92,'Ark1'!$C$2:$D$11,2,FALSE)","v":0},90,20,{"$f":"VLOOKUP(H92,'Ark1'!$C$2:$D$12,2,FALSE)","v":1}]
[91,5,{"$f":"VLOOKUP(B93,'Ark1'!C$2:D$11,2,FALSE)","v":0},91,20,{"$f":"VLOOKUP(E93,'Ark1'!$C$2:$D$11,2,FALSE)","v":1},91,32,{"$f":"VLOOKUP(H93,'Ark1'!$C$2:$D$12,2,FALSE)","v":2}]
[92,5,{"$f":"VLOOKUP(B94,'Ark1'!C$2:D$11,2,FALSE)","v":0},92,20,{"$f":"VLOOKUP(E94,'Ark1'!$C$2:$D$11,2,FALSE)","v":1},92,32,{"$f":"VLOOKUP(H94,'Ark1'!$C$2:$D$12,2,FALSE)","v":2}]
[93,5,{"$f":"VLOOKUP(B95,'Ark1'!C$2:D$11,2,FALSE)","v":0},93,20,{"$f":"VLOOKUP(E95,'Ark1'!$C$2:$D$11,2,FALSE)","v":1},93,32,{"$f":"VLOOKUP(H95,'Ark1'!$C$2:$D$12,2,FALSE)","v":2}]
[94,5,{"$f":"VLOOKUP(B96,'Ark1'!C$2:D$11,2,FALSE)","v":0},94,20,{"$f":"VLOOKUP(E96,'Ark1'!$C$2:$D$11,2,FALSE)","v":1},94,32,{"$f":"VLOOKUP(H96,'Ark1'!$C$2:$D$12,2,FALSE)","v":2}]
[95,5,{"$f":"VLOOKUP(B97,'Ark1'!C$2:D$11,2,FALSE)","v":0},95,20,{"$f":"VLOOKUP(E97,'Ark1'!$C$2:$D$11,2,FALSE)","v":1},95,32,{"$f":"VLOOKUP(H97,'Ark1'!$C$2:$D$12,2,FALSE)","v":2}]
[96,5,{"$f":"VLOOKUP(B98,'Ark1'!C$2:D$11,2,FALSE)","v":0},96,20,{"$f":"VLOOKUP(E98,'Ark1'!$C$2:$D$11,2,FALSE)","v":1},96,32,{"$f":"VLOOKUP(H98,'Ark1'!$C$2:$D$12,2,FALSE)","v":2}]
[97,5,{"$f":"VLOOKUP(B99,'Ark1'!C$2:D$11,2,FALSE)","v":0},97,20,{"$f":"VLOOKUP(E99,'Ark1'!$C$2:$D$11,2,FALSE)","v":1},97,32,{"$f":"VLOOKUP(H99,'Ark1'!$C$2:$D$12,2,FALSE)","v":2}]
[98,5,{"$f":"VLOOKUP(B100,'Ark1'!C$2:D$11,2,FALSE)","v":0},98,20,{"$f":"VLOOKUP(E100,'Ark1'!$C$2:$D$11,2,FALSE)","v":1},98,32,{"$f":"VLOOKUP(H100,'Ark1'!$C$2:$D$12,2,FALSE)","v":2}]
[99,5,{"$f":"VLOOKUP(B101,'Ark1'!C$2:D$11,2,FALSE)","v":0},99,20,{"$f":"VLOOKUP(E101,'Ark1'!$C$2:$D$11,2,FALSE)","v":1},99,32,{"$f":"VLOOKUP(H101,'Ark1'!$C$2:$D$12,2,FALSE)","v":2}]
[100,5,{"$f":"VLOOKUP(B102,'Ark1'!C$2:D$11,2,FALSE)","v":0},100,20,{"$f":"VLOOKUP(E102,'Ark1'!$C$2:$D$11,2,FALSE)","v":1},100,32,{"$f":"VLOOKUP(H102,'Ark1'!$C$2:$D$12,2,FALSE)","v":2}]
[101,5,{"$f":"VLOOKUP(B103,'Ark1'!C$2:D$11,2,FALSE)","v":0},101,20,{"$f":"VLOOKUP(E103,'Ark1'!$C$2:$D$11,2,FALSE)","v":1},101,32,{"$f":"VLOOKUP(H103,'Ark1'!$C$2:$D$12,2,FALSE)","v":2}]
[102,5,{"$f":"VLOOKUP(B104,'Ark1'!C$2:D$11,2,FALSE)","v":0},102,20,{"$f":"VLOOKUP(E104,'Ark1'!$C$2:$D$11,2,FALSE)","v":1},102,32,{"$f":"VLOOKUP(H104,'Ark1'!$C$2:$D$12,2,FALSE)","v":2}]
[103,5,{"$f":"VLOOKUP(B105,'Ark1'!C$2:D$11,2,FALSE)","v":0},103,20,{"$f":"VLOOKUP(E105,'Ark1'!$C$2:$D$11,2,FALSE)","v":1},103,32,{"$f":"VLOOKUP(H105,'Ark1'!$C$2:$D$12,2,FALSE)","v":2}]
[104,5,{"$f":"VLOOKUP(B106,'Ark1'!C$2:D$11,2,FALSE)","v":0},104,20,{"$f":"VLOOKUP(E106,'Ark1'!$C$2:$D$11,2,FALSE)","v":1},104,32,{"$f":"VLOOKUP(H106,'Ark1'!$C$2:$D$12,2,FALSE)","v":2}]
[105,5,{"$f":"VLOOKUP(B107,'Ark1'!C$2:D$11,2,FALSE)","v":0},105,20,{"$f":"VLOOKUP(E107,'Ark1'!$C$2:$D$11,2,FALSE)","v":1},105,32,{"$f":"VLOOKUP(H107,'Ark1'!$C$2:$D$12,2,FALSE)","v":2}]
[106,5,{"$f":"VLOOKUP(B108,'Ark1'!C$2:D$11,2,FALSE)","v":0},106,20,{"$f":"VLOOKUP(E108,'Ark1'!$C$2:$D$11,2,FALSE)","v":1},106,32,{"$f":"VLOOKUP(H108,'Ark1'!$C$2:$D$12,2,FALSE)","v":2}]
[107,5,{"$f":"VLOOKUP(B109,'Ark1'!C$2:D$11,2,FALSE)","v":0},107,20,{"$f":"VLOOKUP(E109,'Ark1'!$C$2:$D$11,2,FALSE)","v":1},107,32,{"$f":"VLOOKUP(H109,'Ark1'!$C$2:$D$12,2,FALSE)","v":2}]
[108,5,{"$f":"VLOOKUP(B110,'Ark1'!C$2:D$11,2,FALSE)","v":0},108,20,{"$f":"VLOOKUP(E110,'Ark1'!$C$2:$D$11,2,FALSE)","v":1},108,32,{"$f":"VLOOKUP(H110,'Ark1'!$C$2:$D$12,2,FALSE)","v":2}]
[109,5,{"$f":"VLOOKUP(B111,'Ark1'!C$2:D$11,2,FALSE)","v":0},109,20,{"$f":"VLOOKUP(E111,'Ark1'!$C$2:$D$11,2,FALSE)","v":1},109,32,{"$f":"VLOOKUP(H111,'Ark1'!$C$2:$D$12,2,FALSE)","v":2}]
[110,5,{"$f":"VLOOKUP(B112,'Ark1'!C$2:D$11,2,FALSE)","v":0},110,20,{"$f":"VLOOKUP(E112,'Ark1'!$C$2:$D$11,2,FALSE)","v":1},110,32,{"$f":"VLOOKUP(H112,'Ark1'!$C$2:$D$12,2,FALSE)","v":2}]
[111,5,{"$f":"VLOOKUP(B113,'Ark1'!C$2:D$11,2,FALSE)","v":0},111,20,{"$f":"VLOOKUP(E113,'Ark1'!$C$2:$D$11,2,FALSE)","v":1},111,32,{"$f":"VLOOKUP(H113,'Ark1'!$C$2:$D$12,2,FALSE)","v":2}]
[112,5,{"$f":"VLOOKUP(B114,'Ark1'!C$2:D$11,2,FALSE)","v":0},112,20,{"$f":"VLOOKUP(E114,'Ark1'!$C$2:$D$11,2,FALSE)","v":1},112,32,{"$f":"VLOOKUP(H114,'Ark1'!$C$2:$D$12,2,FALSE)","v":2}]
[113,5,{"$f":"VLOOKUP(B115,'Ark1'!C$2:D$11,2,FALSE)","v":0},113,20,{"$f":"VLOOKUP(E115,'Ark1'!$C$2:$D$11,2,FALSE)","v":1},113,32,{"$f":"VLOOKUP(H115,'Ark1'!$C$2:$D$12,2,FALSE)","v":2}]
[114,5,{"$f":"VLOOKUP(B116,'Ark1'!C$2:D$11,2,FALSE)","v":0},114,20,{"$f":"VLOOKUP(E116,'Ark1'!$C$2:$D$11,2,FALSE)","v":1},114,32,{"$f":"VLOOKUP(H116,'Ark1'!$C$2:$D$12,2,FALSE)","v":2}]
[115,5,{"$f":"VLOOKUP(B117,'Ark1'!C$2:D$11,2,FALSE)","v":0},115,20,{"$f":"VLOOKUP(E117,'Ark1'!$C$2:$D$11,2,FALSE)","v":1},115,32,{"$f":"VLOOKUP(H117,'Ark1'!$C$2:$D$12,2,FALSE)","v":2}]
[116,5,{"$f":"VLOOKUP(B118,'Ark1'!C$2:D$11,2,FALSE)","v":0},116,20,{"$f":"VLOOKUP(E118,'Ark1'!$C$2:$D$11,2,FALSE)","v":1},116,32,{"$f":"VLOOKUP(H118,'Ark1'!$C$2:$D$12,2,FALSE)","v":2}]
[117,5,{"$f":"VLOOKUP(B119,'Ark1'!C$2:D$11,2,FALSE)","v":0},117,20,{"$f":"VLOOKUP(E119,'Ark1'!$C$2:$D$11,2,FALSE)","v":1},117,32,{"$f":"VLOOKUP(H119,'Ark1'!$C$2:$D$12,2,FALSE)","v":2}]
[118,5,{"$f":"VLOOKUP(B120,'Ark1'!C$2:D$11,2,FALSE)","v":0},118,20,{"$f":"VLOOKUP(E120,'Ark1'!$C$2:$D$11,2,FALSE)","v":1},118,32,{"$f":"VLOOKUP(H120,'Ark1'!$C$2:$D$12,2,FALSE)","v":2}]
[119,5,{"$f":"VLOOKUP(B121,'Ark1'!C$2:D$11,2,FALSE)","v":0},119,20,{"$f":"VLOOKUP(E121,'Ark1'!$C$2:$D$11,2,FALSE)","v":1},119,32,{"$f":"VLOOKUP(H121,'Ark1'!$C$2:$D$12,2,FALSE)","v":2}]
[120,5,{"$f":"VLOOKUP(B122,'Ark1'!C$2:D$11,2,FALSE)","v":0},120,20,{"$f":"VLOOKUP(E122,'Ark1'!$C$2:$D$11,2,FALSE)","v":1},120,32,{"$f":"VLOOKUP(H122,'Ark1'!$C$2:$D$12,2,FALSE)","v":2}]
[121,5,{"$f":"VLOOKUP(B123,'Ark1'!C$2:D$11,2,FALSE)","v":0},121,20,{"$f":"VLOOKUP(E123,'Ark1'!$C$2:$D$11,2,FALSE)","v":1},121,32,{"$f":"VLOOKUP(H123,'Ark1'!$C$2:$D$12,2,FALSE)","v":2}]
[122,5,{"$f":"VLOOKUP(B124,'Ark1'!C$2:D$11,2,FALSE)","v":0},122,20,{"$f":"VLOOKUP(E124,'Ark1'!$C$2:$D$11,2,FALSE)","v":1},122,32,{"$f":"VLOOKUP(H124,'Ark1'!$C$2:$D$12,2,FALSE)","v":2}]
[123,5,{"$f":"VLOOKUP(B125,'Ark1'!C$2:D$11,2,FALSE)","v":0},123,20,{"$f":"VLOOKUP(E125,'Ark1'!$C$2:$D$11,2,FALSE)","v":1},123,32,{"$f":"VLOOKUP(H125,'Ark1'!$C$2:$D$12,2,FALSE)","v":2}]
[124,5,{"$f":"VLOOKUP(B126,'Ark1'!C$2:D$11,2,FALSE)","v":0},124,20,{"$f":"VLOOKUP(E126,'Ark1'!$C$2:$D$11,2,FALSE)","v":1},124,32,{"$f":"VLOOKUP(H126,'Ark1'!$C$2:$D$12,2,FALSE)","v":2}]
[125,5,{"$f":"VLOOKUP(B127,'Ark1'!C$2:D$11,2,FALSE)","v":0},125,20,{"$f":"VLOOKUP(E127,'Ark1'!$C$2:$D$11,2,FALSE)","v":1},125,32,{"$f":"VLOOKUP(H127,'Ark1'!$C$2:$D$12,2,FALSE)","v":2}]
[126,5,{"$f":"VLOOKUP(B128,'Ark1'!C$2:D$11,2,FALSE)","v":0},126,20,{"$f":"VLOOKUP(E128,'Ark1'!$C$2:$D$11,2,FALSE)","v":1},126,32,{"$f":"VLOOKUP(H128,'Ark1'!$C$2:$D$12,2,FALSE)","v":2}]
[127,5,{"$f":"VLOOKUP(B129,'Ark1'!C$2:D$11,2,FALSE)","v":0},127,20,{"$f":"VLOOKUP(E129,'Ark1'!$C$2:$D$11,2,FALSE)","v":1},127,32,{"$f":"VLOOKUP(H129,'Ark1'!$C$2:$D$12,2,FALSE)","v":2}]
[128,5,{"$f":"VLOOKUP(B130,'Ark1'!C$2:D$11,2,FALSE)","v":0},128,20,{"$f":"VLOOKUP(E130,'Ark1'!$C$2:$D$11,2,FALSE)","v":1},128,32,{"$f":"VLOOKUP(H130,'Ark1'!$C$2:$D$12,2,FALSE)","v":2}]
[129,5,{"$f":"VLOOKUP(B131,'Ark1'!C$2:D$11,2,FALSE)","v":0},129,20,{"$f":"VLOOKUP(E131,'Ark1'!$C$2:$D$11,2,FALSE)","v":1},129,32,{"$f":"VLOOKUP(H131,'Ark1'!$C$2:$D$12,2,FALSE)","v":2}]
[130,5,{"$f":"VLOOKUP(B132,'Ark1'!C$2:D$11,2,FALSE)","v":0},130,20,{"$f":"VLOOKUP(E132,'Ark1'!$C$2:$D$11,2,FALSE)","v":1},130,32,{"$f":"VLOOKUP(H132,'Ark1'!$C$2:$D$12,2,FALSE)","v":2}]
[131,5,{"$f":"VLOOKUP(B133,'Ark1'!C$2:D$11,2,FALSE)","v":0},131,20,{"$f":"VLOOKUP(E133,'Ark1'!$C$2:$D$11,2,FALSE)","v":1},131,32,{"$f":"VLOOKUP(H133,'Ark1'!$C$2:$D$12,2,FALSE)","v":2}]
[132,5,{"$f":"VLOOKUP(B134,'Ark1'!C$2:D$11,2,FALSE)","v":0},132,20,{"$f":"VLOOKUP(E134,'Ark1'!$C$2:$D$11,2,FALSE)","v":1},132,32,{"$f":"VLOOKUP(H134,'Ark1'!$C$2:$D$12,2,FALSE)","v":2}]
[133,5,{"$f":"VLOOKUP(B135,'Ark1'!C$2:D$11,2,FALSE)","v":0},133,20,{"$f":"VLOOKUP(E135,'Ark1'!$C$2:$D$11,2,FALSE)","v":1},133,32,{"$f":"VLOOKUP(H135,'Ark1'!$C$2:$D$12,2,FALSE)","v":2}]
[134,5,{"$f":"VLOOKUP(B136,'Ark1'!C$2:D$11,2,FALSE)","v":0},134,20,{"$f":"VLOOKUP(E136,'Ark1'!$C$2:$D$11,2,FALSE)","v":1},134,32,{"$f":"VLOOKUP(H136,'Ark1'!$C$2:$D$12,2,FALSE)","v":2}]
[135,5,{"$f":"VLOOKUP(B137,'Ark1'!C$2:D$11,2,FALSE)","v":0},135,20,{"$f":"VLOOKUP(E137,'Ark1'!$C$2:$D$11,2,FALSE)","v":1},135,32,{"$f":"VLOOKUP(H137,'Ark1'!$C$2:$D$12,2,FALSE)","v":2}]
[136,5,{"$f":"VLOOKUP(B138,'Ark1'!C$2:D$11,2,FALSE)","v":0},136,20,{"$f":"VLOOKUP(E138,'Ark1'!$C$2:$D$11,2,FALSE)","v":1},136,32,{"$f":"VLOOKUP(H138,'Ark1'!$C$2:$D$12,2,FALSE)","v":2}]
[137,5,{"$f":"VLOOKUP(B139,'Ark1'!C$2:D$11,2,FALSE)","v":0},137,20,{"$f":"VLOOKUP(E139,'Ark1'!$C$2:$D$11,2,FALSE)","v":1},137,32,{"$f":"VLOOKUP(H139,'Ark1'!$C$2:$D$12,2,FALSE)","v":2}]
[138,5,{"$f":"VLOOKUP(B140,'Ark1'!C$2:D$11,2,FALSE)","v":0},138,20,{"$f":"VLOOKUP(E140,'Ark1'!$C$2:$D$11,2,FALSE)","v":1},138,32,{"$f":"VLOOKUP(H140,'Ark1'!$C$2:$D$12,2,FALSE)","v":2}]
[139,5,{"$f":"VLOOKUP(B141,'Ark1'!C$2:D$11,2,FALSE)","v":0},139,20,{"$f":"VLOOKUP(E141,'Ark1'!$C$2:$D$11,2,FALSE)","v":1},139,32,{"$f":"VLOOKUP(H141,'Ark1'!$C$2:$D$12,2,FALSE)","v":2}]
[140,5,{"$f":"VLOOKUP(B142,'Ark1'!C$2:D$11,2,FALSE)","v":0},140,20,{"$f":"VLOOKUP(E142,'Ark1'!$C$2:$D$11,2,FALSE)","v":1},140,32,{"$f":"VLOOKUP(H142,'Ark1'!$C$2:$D$12,2,FALSE)","v":2}]
[141,5,{"$f":"VLOOKUP(B143,'Ark1'!C$2:D$11,2,FALSE)","v":0},141,20,{"$f":"VLOOKUP(E143,'Ark1'!$C$2:$D$11,2,FALSE)","v":1},141,32,{"$f":"VLOOKUP(H143,'Ark1'!$C$2:$D$12,2,FALSE)","v":2}]
[142,5,{"$f":"VLOOKUP(B144,'Ark1'!C$2:D$11,2,FALSE)","v":0},142,20,{"$f":"VLOOKUP(E144,'Ark1'!$C$2:$D$11,2,FALSE)","v":1},142,32,{"$f":"VLOOKUP(H144,'Ark1'!$C$2:$D$12,2,FALSE)","v":2}]
[143,5,{"$f":"VLOOKUP(B145,'Ark1'!C$2:D$11,2,FALSE)","v":0},143,20,{"$f":"VLOOKUP(E145,'Ark1'!$C$2:$D$11,2,FALSE)","v":1},143,32,{"$f":"VLOOKUP(H145,'Ark1'!$C$2:$D$12,2,FALSE)","v":2}]
[144,5,{"$f":"VLOOKUP(B146,'Ark1'!C$2:D$11,2,FALSE)","v":0},144,20,{"$f":"VLOOKUP(E146,'Ark1'!$C$2:$D$11,2,FALSE)","v":1},144,32,{"$f":"VLOOKUP(H146,'Ark1'!$C$2:$D$12,2,FALSE)","v":2}]
[145,5,{"$f":"VLOOKUP(B147,'Ark1'!C$2:D$11,2,FALSE)","v":0},145,20,{"$f":"VLOOKUP(E147,'Ark1'!$C$2:$D$11,2,FALSE)","v":1},145,32,{"$f":"VLOOKUP(H147,'Ark1'!$C$2:$D$12,2,FALSE)","v":2}]
[146,5,{"$f":"VLOOKUP(B148,'Ark1'!C$2:D$11,2,FALSE)","v":0},146,20,{"$f":"VLOOKUP(E148,'Ark1'!$C$2:$D$11,2,FALSE)","v":1},146,32,{"$f":"VLOOKUP(H148,'Ark1'!$C$2:$D$12,2,FALSE)","v":2}]
[147,5,{"$f":"VLOOKUP(B149,'Ark1'!C$2:D$11,2,FALSE)","v":0},147,20,{"$f":"VLOOKUP(E149,'Ark1'!$C$2:$D$11,2,FALSE)","v":1},147,32,{"$f":"VLOOKUP(H149,'Ark1'!$C$2:$D$12,2,FALSE)","v":2}]
[148,5,{"$f":"VLOOKUP(B150,'Ark1'!C$2:D$11,2,FALSE)","v":0},148,20,{"$f":"VLOOKUP(E150,'Ark1'!$C$2:$D$11,2,FALSE)","v":1},148,32,{"$f":"VLOOKUP(H150,'Ark1'!$C$2:$D$12,2,FALSE)","v":2}]
[149,5,{"$f":"VLOOKUP(B151,'Ark1'!C$2:D$11,2,FALSE)","v":0},149,20,{"$f":"VLOOKUP(E151,'Ark1'!$C$2:$D$11,2,FALSE)","v":1},149,32,{"$f":"VLOOKUP(H151,'Ark1'!$C$2:$D$12,2,FALSE)","v":2}]
[150,5,{"$f":"VLOOKUP(B152,'Ark1'!C$2:D$11,2,FALSE)","v":0},150,20,{"$f":"VLOOKUP(E152,'Ark1'!$C$2:$D$11,2,FALSE)","v":1},150,32,{"$f":"VLOOKUP(H152,'Ark1'!$C$2:$D$12,2,FALSE)","v":2}]
[151,8,{"$f":"VLOOKUP(B153,'Ark1'!C$2:D$11,2,FALSE)","v":0},151,32,{"$f":"VLOOKUP(E153,'Ark1'!$C$2:$D$11,2,FALSE)","v":2},151,50,{"$f":"VLOOKUP(H153,'Ark1'!$C$2:$D$12,2,FALSE)","v":3}]
[152,8,{"$f":"VLOOKUP(B154,'Ark1'!C$2:D$11,2,FALSE)","v":0},152,32,{"$f":"VLOOKUP(E154,'Ark1'!$C$2:$D$11,2,FALSE)","v":2},152,50,{"$f":"VLOOKUP(H154,'Ark1'!$C$2:$D$12,2,FALSE)","v":3}]
[153,8,{"$f":"VLOOKUP(B155,'Ark1'!C$2:D$11,2,FALSE)","v":0},153,32,{"$f":"VLOOKUP(E155,'Ark1'!$C$2:$D$11,2,FALSE)","v":2},153,50,{"$f":"VLOOKUP(H155,'Ark1'!$C$2:$D$12,2,FALSE)","v":3}]
[154,8,{"$f":"VLOOKUP(B156,'Ark1'!C$2:D$11,2,FALSE)","v":0},154,32,{"$f":"VLOOKUP(E156,'Ark1'!$C$2:$D$11,2,FALSE)","v":2},154,50,{"$f":"VLOOKUP(H156,'Ark1'!$C$2:$D$12,2,FALSE)","v":3}]
[155,8,{"$f":"VLOOKUP(B157,'Ark1'!C$2:D$11,2,FALSE)","v":0},155,32,{"$f":"VLOOKUP(E157,'Ark1'!$C$2:$D$11,2,FALSE)","v":2},155,50,{"$f":"VLOOKUP(H157,'Ark1'!$C$2:$D$12,2,FALSE)","v":3}]
[156,8,{"$f":"VLOOKUP(B158,'Ark1'!C$2:D$11,2,FALSE)","v":0},156,32,{"$f":"VLOOKUP(E158,'Ark1'!$C$2:$D$11,2,FALSE)","v":2},156,50,{"$f":"VLOOKUP(H158,'Ark1'!$C$2:$D$12,2,FALSE)","v":3}]
[157,8,{"$f":"VLOOKUP(B159,'Ark1'!C$2:D$11,2,FALSE)","v":0},157,32,{"$f":"VLOOKUP(E159,'Ark1'!$C$2:$D$11,2,FALSE)","v":2},157,50,{"$f":"VLOOKUP(H159,'Ark1'!$C$2:$D$12,2,FALSE)","v":3}]
[158,8,{"$f":"VLOOKUP(B160,'Ark1'!C$2:D$11,2,FALSE)","v":0},158,32,{"$f":"VLOOKUP(E160,'Ark1'!$C$2:$D$11,2,FALSE)","v":2},158,50,{"$f":"VLOOKUP(H160,'Ark1'!$C$2:$D$12,2,FALSE)","v":3}]
[159,8,{"$f":"VLOOKUP(B161,'Ark1'!C$2:D$11,2,FALSE)","v":0},159,32,{"$f":"VLOOKUP(E161,'Ark1'!$C$2:$D$11,2,FALSE)","v":2},159,50,{"$f":"VLOOKUP(H161,'Ark1'!$C$2:$D$12,2,FALSE)","v":3}]
[160,8,{"$f":"VLOOKUP(B162,'Ark1'!C$2:D$11,2,FALSE)","v":0},160,32,{"$f":"VLOOKUP(E162,'Ark1'!$C$2:$D$11,2,FALSE)","v":2},160,50,{"$f":"VLOOKUP(H162,'Ark1'!$C$2:$D$12,2,FALSE)","v":3}]
[161,8,{"$f":"VLOOKUP(B163,'Ark1'!C$2:D$11,2,FALSE)","v":0},161,32,{"$f":"VLOOKUP(E163,'Ark1'!$C$2:$D$11,2,FALSE)","v":2},161,50,{"$f":"VLOOKUP(H163,'Ark1'!$C$2:$D$12,2,FALSE)","v":3}]
[162,8,{"$f":"VLOOKUP(B164,'Ark1'!C$2:D$11,2,FALSE)","v":0},162,32,{"$f":"VLOOKUP(E164,'Ark1'!$C$2:$D$11,2,FALSE)","v":2},162,50,{"$f":"VLOOKUP(H164,'Ark1'!$C$2:$D$12,2,FALSE)","v":3}]
[163,8,{"$f":"VLOOKUP(B165,'Ark1'!C$2:D$11,2,FALSE)","v":0},163,32,{"$f":"VLOOKUP(E165,'Ark1'!$C$2:$D$11,2,FALSE)","v":2},163,50,{"$f":"VLOOKUP(H165,'Ark1'!$C$2:$D$12,2,FALSE)","v":3}]
[164,8,{"$f":"VLOOKUP(B166,'Ark1'!C$2:D$11,2,FALSE)","v":0},164,32,{"$f":"VLOOKUP(E166,'Ark1'!$C$2:$D$11,2,FALSE)","v":2},164,50,{"$f":"VLOOKUP(H166,'Ark1'!$C$2:$D$12,2,FALSE)","v":3}]
[165,8,{"$f":"VLOOKUP(B167,'Ark1'!C$2:D$11,2,FALSE)","v":0},165,32,{"$f":"VLOOKUP(E167,'Ark1'!$C$2:$D$11,2,FALSE)","v":2},165,50,{"$f":"VLOOKUP(H167,'Ark1'!$C$2:$D$12,2,FALSE)","v":3}]
[166,8,{"$f":"VLOOKUP(B168,'Ark1'!C$2:D$11,2,FALSE)","v":0},166,32,{"$f":"VLOOKUP(E168,'Ark1'!$C$2:$D$11,2,FALSE)","v":2},166,50,{"$f":"VLOOKUP(H168,'Ark1'!$C$2:$D$12,2,FALSE)","v":3}]
[167,8,{"$f":"VLOOKUP(B169,'Ark1'!C$2:D$11,2,FALSE)","v":0},167,32,{"$f":"VLOOKUP(E169,'Ark1'!$C$2:$D$11,2,FALSE)","v":2},167,50,{"$f":"VLOOKUP(H169,'Ark1'!$C$2:$D$12,2,FALSE)","v":3}]
[168,8,{"$f":"VLOOKUP(B170,'Ark1'!C$2:D$11,2,FALSE)","v":0},168,32,{"$f":"VLOOKUP(E170,'Ark1'!$C$2:$D$11,2,FALSE)","v":2},168,50,{"$f":"VLOOKUP(H170,'Ark1'!$C$2:$D$12,2,FALSE)","v":3}]
[169,8,{"$f":"VLOOKUP(B171,'Ark1'!C$2:D$11,2,FALSE)","v":0},169,32,{"$f":"VLOOKUP(E171,'Ark1'!$C$2:$D$11,2,FALSE)","v":2},169,50,{"$f":"VLOOKUP(H171,'Ark1'!$C$2:$D$12,2,FALSE)","v":3}]
[170,8,{"$f":"VLOOKUP(B172,'Ark1'!C$2:D$11,2,FALSE)","v":0},170,32,{"$f":"VLOOKUP(E172,'Ark1'!$C$2:$D$11,2,FALSE)","v":2},170,50,{"$f":"VLOOKUP(H172,'Ark1'!$C$2:$D$12,2,FALSE)","v":3}]
[171,8,{"$f":"VLOOKUP(B173,'Ark1'!C$2:D$11,2,FALSE)","v":0},171,32,{"$f":"VLOOKUP(E173,'Ark1'!$C$2:$D$11,2,FALSE)","v":2},171,50,{"$f":"VLOOKUP(H173,'Ark1'!$C$2:$D$12,2,FALSE)","v":3}]
[172,8,{"$f":"VLOOKUP(B174,'Ark1'!C$2:D$11,2,FALSE)","v":0},172,32,{"$f":"VLOOKUP(E174,'Ark1'!$C$2:$D$11,2,FALSE)","v":2},172,50,{"$f":"VLOOKUP(H174,'Ark1'!$C$2:$D$12,2,FALSE)","v":3}]
[173,8,{"$f":"VLOOKUP(B175,'Ark1'!C$2:D$11,2,FALSE)","v":0},173,32,{"$f":"VLOOKUP(E175,'Ark1'!$C$2:$D$11,2,FALSE)","v":2},173,50,{"$f":"VLOOKUP(H175,'Ark1'!$C$2:$D$12,2,FALSE)","v":3}]
[174,8,{"$f":"VLOOKUP(B176,'Ark1'!C$2:D$11,2,FALSE)","v":0},174,32,{"$f":"VLOOKUP(E176,'Ark1'!$C$2:$D$11,2,FALSE)","v":2},174,50,{"$f":"VLOOKUP(H176,'Ark1'!$C$2:$D$12,2,FALSE)","v":3}]
[175,8,{"$f":"VLOOKUP(B177,'Ark1'!C$2:D$11,2,FALSE)","v":0},175,32,{"$f":"VLOOKUP(E177,'Ark1'!$C$2:$D$11,2,FALSE)","v":2},175,50,{"$f":"VLOOKUP(H177,'Ark1'!$C$2:$D$12,2,FALSE)","v":3}]
[176,8,{"$f":"VLOOKUP(B178,'Ark1'!C$2:D$11,2,FALSE)","v":0},176,32,{"$f":"VLOOKUP(E178,'Ark1'!$C$2:$D$11,2,FALSE)","v":2},176,50,{"$f":"VLOOKUP(H178,'Ark1'!$C$2:$D$12,2,FALSE)","v":3}]
[177,8,{"$f":"VLOOKUP(B179,'Ark1'!C$2:D$11,2,FALSE)","v":0},177,32,{"$f":"VLOOKUP(E179,'Ark1'!$C$2:$D$11,2,FALSE)","v":2},177,50,{"$f":"VLOOKUP(H179,'Ark1'!$C$2:$D$12,2,FALSE)","v":3}]
[178,8,{"$f":"VLOOKUP(B180,'Ark1'!C$2:D$11,2,FALSE)","v":0},178,32,{"$f":"VLOOKUP(E180,'Ark1'!$C$2:$D$11,2,FALSE)","v":2},178,50,{"$f":"VLOOKUP(H180,'Ark1'!$C$2:$D$12,2,FALSE)","v":3}]
[179,8,{"$f":"VLOOKUP(B181,'Ark1'!C$2:D$11,2,FALSE)","v":0},179,32,{"$f":"VLOOKUP(E181,'Ark1'!$C$2:$D$11,2,FALSE)","v":2},179,50,{"$f":"VLOOKUP(H181,'Ark1'!$C$2:$D$12,2,FALSE)","v":3}]
[180,8,{"$f":"VLOOKUP(B182,'Ark1'!C$2:D$11,2,FALSE)","v":0},180,32,{"$f":"VLOOKUP(E182,'Ark1'!$C$2:$D$11,2,FALSE)","v":2},180,50,{"$f":"VLOOKUP(H182,'Ark1'!$C$2:$D$12,2,FALSE)","v":3}]
[181,8,{"$f":"VLOOKUP(B183,'Ark1'!C$2:D$11,2,FALSE)","v":0},181,32,{"$f":"VLOOKUP(E183,'Ark1'!$C$2:$D$11,2,FALSE)","v":2},181,50,{"$f":"VLOOKUP(H183,'Ark1'!$C$2:$D$12,2,FALSE)","v":3}]
[182,8,{"$f":"VLOOKUP(B184,'Ark1'!C$2:D$11,2,FALSE)","v":0},182,32,{"$f":"VLOOKUP(E184,'Ark1'!$C$2:$D$11,2,FALSE)","v":2},182,50,{"$f":"VLOOKUP(H184,'Ark1'!$C$2:$D$12,2,FALSE)","v":3}]
[183,8,{"$f":"VLOOKUP(B185,'Ark1'!C$2:D$11,2,FALSE)","v":0},183,32,{"$f":"VLOOKUP(E185,'Ark1'!$C$2:$D$11,2,FALSE)","v":2},183,50,{"$f":"VLOOKUP(H185,'Ark1'!$C$2:$D$12,2,FALSE)","v":3}]
[184,8,{"$f":"VLOOKUP(B186,'Ark1'!C$2:D$11,2,FALSE)","v":0},184,32,{"$f":"VLOOKUP(E186,'Ark1'!$C$2:$D$11,2,FALSE)","v":2},184,50,{"$f":"VLOOKUP(H186,'Ark1'!$C$2:$D$12,2,FALSE)","v":3}]
[185,8,{"$f":"VLOOKUP(B187,'Ark1'!C$2:D$11,2,FALSE)","v":0},185,32,{"$f":"VLOOKUP(E187,'Ark1'!$C$2:$D$11,2,FALSE)","v":2},185,50,{"$f":"VLOOKUP(H187,'Ark1'!$C$2:$D$12,2,FALSE)","v":3}]
[186,8,{"$f":"VLOOKUP(B188,'Ark1'!C$2:D$11,2,FALSE)","v":0},186,32,{"$f":"VLOOKUP(E188,'Ark1'!$C$2:$D$11,2,FALSE)","v":2},186,50,{"$f":"VLOOKUP(H188,'Ark1'!$C$2:$D$12,2,FALSE)","v":3}]
[187,8,{"$f":"VLOOKUP(B189,'Ark1'!C$2:D$11,2,FALSE)","v":0},187,32,{"$f":"VLOOKUP(E189,'Ark1'!$C$2:$D$11,2,FALSE)","v":2},187,50,{"$f":"VLOOKUP(H189,'Ark1'!$C$2:$D$12,2,FALSE)","v":3}]
[188,8,{"$f":"VLOOKUP(B190,'Ark1'!C$2:D$11,2,FALSE)","v":0},188,32,{"$f":"VLOOKUP(E190,'Ark1'!$C$2:$D$11,2,FALSE)","v":2},188,50,{"$f":"VLOOKUP(H190,'Ark1'!$C$2:$D$12,2,FALSE)","v":3}]
[189,8,{"$f":"VLOOKUP(B191,'Ark1'!C$2:D$11,2,FALSE)","v":0},189,32,{"$f":"VLOOKUP(E191,'Ark1'!$C$2:$D$11,2,FALSE)","v":2},189,50,{"$f":"VLOOKUP(H191,'Ark1'!$C$2:$D$12,2,FALSE)","v":3}]
[190,8,{"$f":"VLOOKUP(B192,'Ark1'!C$2:D$11,2,FALSE)","v":0},190,32,{"$f":"VLOOKUP(E192,'Ark1'!$C$2:$D$11,2,FALSE)","v":2},190,50,{"$f":"VLOOKUP(H192,'Ark1'!$C$2:$D$12,2,FALSE)","v":3}]
[191,8,{"$f":"VLOOKUP(B193,'Ark1'!C$2:D$11,2,FALSE)","v":0},191,32,{"$f":"VLOOKUP(E193,'Ark1'!$C$2:$D$11,2,FALSE)","v":2},191,50,{"$f":"VLOOKUP(H193,'Ark1'!$C$2:$D$12,2,FALSE)","v":3}]
[192,8,{"$f":"VLOOKUP(B194,'Ark1'!C$2:D$11,2,FALSE)","v":0},192,32,{"$f":"VLOOKUP(E194,'Ark1'!$C$2:$D$11,2,FALSE)","v":2},192,50,{"$f":"VLOOKUP(H194,'Ark1'!$C$2:$D$12,2,FALSE)","v":3}]
[193,8,{"$f":"VLOOKUP(B195,'Ark1'!C$2:D$11,2,FALSE)","v":0},193,32,{"$f":"VLOOKUP(E195,'Ark1'!$C$2:$D$11,2,FALSE)","v":2},193,50,{"$f":"VLOOKUP(H195,'Ark1'!$C$2:$D$12,2,FALSE)","v":3}]
[194,8,{"$f":"VLOOKUP(B196,'Ark1'!C$2:D$11,2,FALSE)","v":0},194,32,{"$f":"VLOOKUP(E196,'Ark1'!$C$2:$D$11,2,FALSE)","v":2},194,50,{"$f":"VLOOKUP(H196,'Ark1'!$C$2:$D$12,2,FALSE)","v":3}]
[195,8,{"$f":"VLOOKUP(B197,'Ark1'!C$2:D$11,2,FALSE)","v":0},195,32,{"$f":"VLOOKUP(E197,'Ark1'!$C$2:$D$11,2,FALSE)","v":2},195,50,{"$f":"VLOOKUP(H197,'Ark1'!$C$2:$D$12,2,FALSE)","v":3}]
[196,8,{"$f":"VLOOKUP(B198,'Ark1'!C$2:D$11,2,FALSE)","v":0},196,32,{"$f":"VLOOKUP(E198,'Ark1'!$C$2:$D$11,2,FALSE)","v":2},196,50,{"$f":"VLOOKUP(H198,'Ark1'!$C$2:$D$12,2,FALSE)","v":3}]
[197,8,{"$f":"VLOOKUP(B199,'Ark1'!C$2:D$11,2,FALSE)","v":0},197,32,{"$f":"VLOOKUP(E199,'Ark1'!$C$2:$D$11,2,FALSE)","v":2},197,50,{"$f":"VLOOKUP(H199,'Ark1'!$C$2:$D$12,2,FALSE)","v":3}]
[198,8,{"$f":"VLOOKUP(B200,'Ark1'!C$2:D$11,2,FALSE)","v":0},198,32,{"$f":"VLOOKUP(E200,'Ark1'!$C$2:$D$11,2,FALSE)","v":2},198,50,{"$f":"VLOOKUP(H200,'Ark1'!$C$2:$D$12,2,FALSE)","v":3}]
[199,8,{"$f":"VLOOKUP(B201,'Ark1'!C$2:D$11,2,FALSE)","v":0},199,32,{"$f":"VLOOKUP(E201,'Ark1'!$C$2:$D$11,2,FALSE)","v":2},199,50,{"$f":"VLOOKUP(H201,'Ark1'!$C$2:$D$12,2,FALSE)","v":3}]
[200,8,{"$f":"VLOOKUP(B202,'Ark1'!C$2:D$11,2,FALSE)","v":0},200,32,{"$f":"VLOOKUP(E202,'Ark1'!$C$2:$D$11,2,FALSE)","v":2},200,50,{"$f":"VLOOKUP(H202,'Ark1'!$C$2:$D$12,2,FALSE)","v":3}]
[201,8,{"$f":"VLOOKUP(B203,'Ark1'!C$2:D$11,2,FALSE)","v":0},201,32,{"$f":"VLOOKUP(E203,'Ark1'!$C$2:$D$11,2,FALSE)","v":2},201,50,{"$f":"VLOOKUP(H203,'Ark1'!$C$2:$D$12,2,FALSE)","v":3}]
[202,8,{"$f":"VLOOKUP(B204,'Ark1'!C$2:D$11,2,FALSE)","v":0},202,32,{"$f":"VLOOKUP(E204,'Ark1'!$C$2:$D$11,2,FALSE)","v":2},202,50,{"$f":"VLOOKUP(H204,'Ark1'!$C$2:$D$12,2,FALSE)","v":3}]
[203,8,{"$f":"VLOOKUP(B205,'Ark1'!C$2:D$11,2,FALSE)","v":0},203,32,{"$f":"VLOOKUP(E205,'Ark1'!$C$2:$D$11,2,FALSE)","v":2},203,50,{"$f":"VLOOKUP(H205,'Ark1'!$C$2:$D$12,2,FALSE)","v":3}]
[204,8,{"$f":"VLOOKUP(B206,'Ark1'!C$2:D$11,2,FALSE)","v":0},204,32,{"$f":"VLOOKUP(E206,'Ark1'!$C$2:$D$11,2,FALSE)","v":2},204,50,{"$f":"VLOOKUP(H206,'Ark1'!$C$2:$D$12,2,FALSE)","v":3}]
[205,8,{"$f":"VLOOKUP(B207,'Ark1'!C$2:D$11,2,FALSE)","v":0},205,32,{"$f":"VLOOKUP(E207,'Ark1'!$C$2:$D$11,2,FALSE)","v":2},205,50,{"$f":"VLOOKUP(H207,'Ark1'!$C$2:$D$12,2,FALSE)","v":3}]
[206,8,{"$f":"VLOOKUP(B208,'Ark1'!C$2:D$11,2,FALSE)","v":0},206,32,{"$f":"VLOOKUP(E208,'Ark1'!$C$2:$D$11,2,FALSE)","v":2},206,50,{"$f":"VLOOKUP(H208,'Ark1'!$C$2:$D$12,2,FALSE)","v":3}]
[207,8,{"$f":"VLOOKUP(B209,'Ark1'!C$2:D$11,2,FALSE)","v":0},207,32,{"$f":"VLOOKUP(E209,'Ark1'!$C$2:$D$11,2,FALSE)","v":2},207,50,{"$f":"VLOOKUP(H209,'Ark1'!$C$2:$D$12,2,FALSE)","v":3}]
[208,8,{"$f":"VLOOKUP(B210,'Ark1'!C$2:D$11,2,FALSE)","v":0},208,32,{"$f":"VLOOKUP(E210,'Ark1'!$C$2:$D$11,2,FALSE)","v":2},208,50,{"$f":"VLOOKUP(H210,'Ark1'!$C$2:$D$12,2,FALSE)","v":3}]
[209,8,{"$f":"VLOOKUP(B211,'Ark1'!C$2:D$11,2,FALSE)","v":0},209,32,{"$f":"VLOOKUP(E211,'Ark1'!$C$2:$D$11,2,FALSE)","v":2},209,50,{"$f":"VLOOKUP(H211,'Ark1'!$C$2:$D$12,2,FALSE)","v":3}]
[210,8,{"$f":"VLOOKUP(B212,'Ark1'!C$2:D$11,2,FALSE)","v":0},210,32,{"$f":"VLOOKUP(E212,'Ark1'!$C$2:$D$11,2,FALSE)","v":2},210,50,{"$f":"VLOOKUP(H212,'Ark1'!$C$2:$D$12,2,FALSE)","v":3}]
[211,8,{"$f":"VLOOKUP(B213,'Ark1'!C$2:D$11,2,FALSE)","v":0},211,32,{"$f":"VLOOKUP(E213,'Ark1'!$C$2:$D$11,2,FALSE)","v":2},211,50,{"$f":"VLOOKUP(H213,'Ark1'!$C$2:$D$12,2,FALSE)","v":3}]
[212,8,{"$f":"VLOOKUP(B214,'Ark1'!C$2:D$11,2,FALSE)","v":0},212,32,{"$f":"VLOOKUP(E214,'Ark1'!$C$2:$D$11,2,FALSE)","v":2},212,50,{"$f":"VLOOKUP(H214,'Ark1'!$C$2:$D$12,2,FALSE)","v":3}]
[213,8,{"$f":"VLOOKUP(B215,'Ark1'!C$2:D$11,2,FALSE)","v":0},213,32,{"$f":"VLOOKUP(E215,'Ark1'!$C$2:$D$11,2,FALSE)","v":2},213,50,{"$f":"VLOOKUP(H215,'Ark1'!$C$2:$D$12,2,FALSE)","v":3}]
[214,8,{"$f":"VLOOKUP(B216,'Ark1'!C$2:D$11,2,FALSE)","v":0},214,32,{"$f":"VLOOKUP(E216,'Ark1'!$C$2:$D$11,2,FALSE)","v":2},214,50,{"$f":"VLOOKUP(H216,'Ark1'!$C$2:$D$12,2,FALSE)","v":3}]
[215,8,{"$f":"VLOOKUP(B217,'Ark1'!C$2:D$11,2,FALSE)","v":0},215,32,{"$f":"VLOOKUP(E217,'Ark1'!$C$2:$D$11,2,FALSE)","v":2},215,50,{"$f":"VLOOKUP(H217,'Ark1'!$C$2:$D$12,2,FALSE)","v":3}]
[216,8,{"$f":"VLOOKUP(B218,'Ark1'!C$2:D$11,2,FALSE)","v":0},216,32,{"$f":"VLOOKUP(E218,'Ark1'!$C$2:$D$11,2,FALSE)","v":2},216,50,{"$f":"VLOOKUP(H218,'Ark1'!$C$2:$D$12,2,FALSE)","v":3}]
[217,8,{"$f":"VLOOKUP(B219,'Ark1'!C$2:D$11,2,FALSE)","v":0},217,32,{"$f":"VLOOKUP(E219,'Ark1'!$C$2:$D$11,2,FALSE)","v":2},217,50,{"$f":"VLOOKUP(H219,'Ark1'!$C$2:$D$12,2,FALSE)","v":3}]
[218,8,{"$f":"VLOOKUP(B220,'Ark1'!C$2:D$11,2,FALSE)","v":0},218,32,{"$f":"VLOOKUP(E220,'Ark1'!$C$2:$D$11,2,FALSE)","v":2},218,50,{"$f":"VLOOKUP(H220,'Ark1'!$C$2:$D$12,2,FALSE)","v":3}]
[219,8,{"$f":"VLOOKUP(B221,'Ark1'!C$2:D$11,2,FALSE)","v":0},219,32,{"$f":"VLOOKUP(E221,'Ark1'!$C$2:$D$11,2,FALSE)","v":2},219,50,{"$f":"VLOOKUP(H221,'Ark1'!$C$2:$D$12,2,FALSE)","v":3}]
[220,8,{"$f":"VLOOKUP(B222,'Ark1'!C$2:D$11,2,FALSE)","v":0},220,32,{"$f":"VLOOKUP(E222,'Ark1'!$C$2:$D$11,2,FALSE)","v":2},220,50,{"$f":"VLOOKUP(H222,'Ark1'!$C$2:$D$12,2,FALSE)","v":3}]
[221,8,{"$f":"VLOOKUP(B223,'Ark1'!C$2:D$11,2,FALSE)","v":0},221,32,{"$f":"VLOOKUP(E223,'Ark1'!$C$2:$D$11,2,FALSE)","v":2},221,50,{"$f":"VLOOKUP(H223,'Ark1'!$C$2:$D$12,2,FALSE)","v":3}]
[222,8,{"$f":"VLOOKUP(B224,'Ark1'!C$2:D$11,2,FALSE)","v":0},222,32,{"$f":"VLOOKUP(E224,'Ark1'!$C$2:$D$11,2,FALSE)","v":2},222,50,{"$f":"VLOOKUP(H224,'Ark1'!$C$2:$D$12,2,FALSE)","v":3}]
[223,8,{"$f":"VLOOKUP(B225,'Ark1'!C$2:D$11,2,FALSE)","v":0},223,32,{"$f":"VLOOKUP(E225,'Ark1'!$C$2:$D$11,2,FALSE)","v":2},223,50,{"$f":"VLOOKUP(H225,'Ark1'!$C$2:$D$12,2,FALSE)","v":3}]
[224,8,{"$f":"VLOOKUP(B226,'Ark1'!C$2:D$11,2,FALSE)","v":0},224,32,{"$f":"VLOOKUP(E226,'Ark1'!$C$2:$D$11,2,FALSE)","v":2},224,50,{"$f":"VLOOKUP(H226,'Ark1'!$C$2:$D$12,2,FALSE)","v":3}]
[225,8,{"$f":"VLOOKUP(B227,'Ark1'!C$2:D$11,2,FALSE)","v":0},225,32,{"$f":"VLOOKUP(E227,'Ark1'!$C$2:$D$11,2,FALSE)","v":2},225,50,{"$f":"VLOOKUP(H227,'Ark1'!$C$2:$D$12,2,FALSE)","v":3}]
[226,8,{"$f":"VLOOKUP(B228,'Ark1'!C$2:D$11,2,FALSE)","v":0},226,32,{"$f":"VLOOKUP(E228,'Ark1'!$C$2:$D$11,2,FALSE)","v":2},226,50,{"$f":"VLOOKUP(H228,'Ark1'!$C$2:$D$12,2,FALSE)","v":3}]
[227,8,{"$f":"VLOOKUP(B229,'Ark1'!C$2:D$11,2,FALSE)","v":0},227,32,{"$f":"VLOOKUP(E229,'Ark1'!$C$2:$D$11,2,FALSE)","v":2},227,50,{"$f":"VLOOKUP(H229,'Ark1'!$C$2:$D$12,2,FALSE)","v":3}]
[228,8,{"$f":"VLOOKUP(B230,'Ark1'!C$2:D$11,2,FALSE)","v":0},228,32,{"$f":"VLOOKUP(E230,'Ark1'!$C$2:$D$11,2,FALSE)","v":2},228,50,{"$f":"VLOOKUP(H230,'Ark1'!$C$2:$D$12,2,FALSE)","v":3}]
[229,8,{"$f":"VLOOKUP(B231,'Ark1'!C$2:D$11,2,FALSE)","v":0},229,32,{"$f":"VLOOKUP(E231,'Ark1'!$C$2:$D$11,2,FALSE)","v":2},229,50,{"$f":"VLOOKUP(H231,'Ark1'!$C$2:$D$12,2,FALSE)","v":3}]
[230,8,{"$f":"VLOOKUP(B232,'Ark1'!C$2:D$11,2,FALSE)","v":0},230,32,{"$f":"VLOOKUP(E232,'Ark1'!$C$2:$D$11,2,FALSE)","v":2},230,50,{"$f":"VLOOKUP(H232,'Ark1'!$C$2:$D$12,2,FALSE)","v":3}]
[231,8,{"$f":"VLOOKUP(B233,'Ark1'!C$2:D$11,2,FALSE)","v":0},231,32,{"$f":"VLOOKUP(E233,'Ark1'!$C$2:$D$11,2,FALSE)","v":2},231,50,{"$f":"VLOOKUP(H233,'Ark1'!$C$2:$D$12,2,FALSE)","v":3}]
[232,8,{"$f":"VLOOKUP(B234,'Ark1'!C$2:D$11,2,FALSE)","v":0},232,32,{"$f":"VLOOKUP(E234,'Ark1'!$C$2:$D$11,2,FALSE)","v":2},232,50,{"$f":"VLOOKUP(H234,'Ark1'!$C$2:$D$12,2,FALSE)","v":3}]
[233,8,{"$f":"VLOOKUP(B235,'Ark1'!C$2:D$11,2,FALSE)","v":0},233,32,{"$f":"VLOOKUP(E235,'Ark1'!$C$2:$D$11,2,FALSE)","v":2},233,50,{"$f":"VLOOKUP(H235,'Ark1'!$C$2:$D$12,2,FALSE)","v":3}]
[234,8,{"$f":"VLOOKUP(B236,'Ark1'!C$2:D$11,2,FALSE)","v":0},234,32,{"$f":"VLOOKUP(E236,'Ark1'!$C$2:$D$11,2,FALSE)","v":2},234,50,{"$f":"VLOOKUP(H236,'Ark1'!$C$2:$D$12,2,FALSE)","v":3}]
[235,8,{"$f":"VLOOKUP(B237,'Ark1'!C$2:D$11,2,FALSE)","v":0},235,32,{"$f":"VLOOKUP(E237,'Ark1'!$C$2:$D$11,2,FALSE)","v":2},235,50,{"$f":"VLOOKUP(H237,'Ark1'!$C$2:$D$12,2,FALSE)","v":3}]
[236,8,{"$f":"VLOOKUP(B238,'Ark1'!C$2:D$11,2,FALSE)","v":0},236,32,{"$f":"VLOOKUP(E238,'Ark1'!$C$2:$D$11,2,FALSE)","v":2},236,50,{"$f":"VLOOKUP(H238,'Ark1'!$C$2:$D$12,2,FALSE)","v":3}]
[237,8,{"$f":"VLOOKUP(B239,'Ark1'!C$2:D$11,2,FALSE)","v":0},237,32,{"$f":"VLOOKUP(E239,'Ark1'!$C$2:$D$11,2,FALSE)","v":2},237,50,{"$f":"VLOOKUP(H239,'Ark1'!$C$2:$D$12,2,FALSE)","v":3}]
[238,8,{"$f":"VLOOKUP(B240,'Ark1'!C$2:D$11,2,FALSE)","v":0},238,32,{"$f":"VLOOKUP(E240,'Ark1'!$C$2:$D$11,2,FALSE)","v":2},238,50,{"$f":"VLOOKUP(H240,'Ark1'!$C$2:$D$12,2,FALSE)","v":3}]
[239,8,{"$f":"VLOOKUP(B241,'Ark1'!C$2:D$11,2,FALSE)","v":0},239,32,{"$f":"VLOOKUP(E241,'Ark1'!$C$2:$D$11,2,FALSE)","v":2},239,50,{"$f":"VLOOKUP(H241,'Ark1'!$C$2:$D$12,2,FALSE)","v":3}]
[240,8,{"$f":"VLOOKUP(B242,'Ark1'!C$2:D$11,2,FALSE)","v":0},240,32,{"$f":"VLOOKUP(E242,'Ark1'!$C$2:$D$11,2,FALSE)","v":2},240,50,{"$f":"VLOOKUP(H242,'Ark1'!$C$2:$D$12,2,FALSE)","v":3}]
[241,8,{"$f":"VLOOKUP(B243,'Ark1'!C$2:D$11,2,FALSE)","v":0},241,32,{"$f":"VLOOKUP(E243,'Ark1'!$C$2:$D$11,2,FALSE)","v":2},241,50,{"$f":"VLOOKUP(H243,'Ark1'!$C$2:$D$12,2,FALSE)","v":3}]
[242,8,{"$f":"VLOOKUP(B244,'Ark1'!C$2:D$11,2,FALSE)","v":0},242,32,{"$f":"VLOOKUP(E244,'Ark1'!$C$2:$D$11,2,FALSE)","v":2},242,50,{"$f":"VLOOKUP(H244,'Ark1'!$C$2:$D$12,2,FALSE)","v":3}]
[243,8,{"$f":"VLOOKUP(B245,'Ark1'!C$2:D$11,2,FALSE)","v":0},243,32,{"$f":"VLOOKUP(E245,'Ark1'!$C$2:$D$11,2,FALSE)","v":2},243,50,{"$f":"VLOOKUP(H245,'Ark1'!$C$2:$D$12,2,FALSE)","v":3}]
[244,8,{"$f":"VLOOKUP(B246,'Ark1'!C$2:D$11,2,FALSE)","v":0},244,32,{"$f":"VLOOKUP(E246,'Ark1'!$C$2:$D$11,2,FALSE)","v":2},244,50,{"$f":"VLOOKUP(H246,'Ark1'!$C$2:$D$12,2,FALSE)","v":3}]
[245,8,{"$f":"VLOOKUP(B247,'Ark1'!C$2:D$11,2,FALSE)","v":0},245,32,{"$f":"VLOOKUP(E247,'Ark1'!$C$2:$D$11,2,FALSE)","v":2},245,50,{"$f":"VLOOKUP(H247,'Ark1'!$C$2:$D$12,2,FALSE)","v":3}]
[246,8,{"$f":"VLOOKUP(B248,'Ark1'!C$2:D$11,2,FALSE)","v":0},246,32,{"$f":"VLOOKUP(E248,'Ark1'!$C$2:$D$11,2,FALSE)","v":2},246,50,{"$f":"VLOOKUP(H248,'Ark1'!$C$2:$D$12,2,FALSE)","v":3}]
[247,8,{"$f":"VLOOKUP(B249,'Ark1'!C$2:D$11,2,FALSE)","v":0},247,32,{"$f":"VLOOKUP(E249,'Ark1'!$C$2:$D$11,2,FALSE)","v":2},247,50,{"$f":"VLOOKUP(H249,'Ark1'!$C$2:$D$12,2,FALSE)","v":3}]
[248,8,{"$f":"VLOOKUP(B250,'Ark1'!C$2:D$11,2,FALSE)","v":0},248,32,{"$f":"VLOOKUP(E250,'Ark1'!$C$2:$D$11,2,FALSE)","v":2},248,50,{"$f":"VLOOKUP(H250,'Ark1'!$C$2:$D$12,2,FALSE)","v":3}]
[249,8,{"$f":"VLOOKUP(B251,'Ark1'!C$2:D$11,2,FALSE)","v":0},249,32,{"$f":"VLOOKUP(E251,'Ark1'!$C$2:$D$11,2,FALSE)","v":2},249,50,{"$f":"VLOOKUP(H251,'Ark1'!$C$2:$D$12,2,FALSE)","v":3}]
[250,8,{"$f":"VLOOKUP(B252,'Ark1'!C$2:D$11,2,FALSE)","v":0},250,32,{"$f":"VLOOKUP(E252,'Ark1'!$C$2:$D$11,2,FALSE)","v":2},250,50,{"$f":"VLOOKUP(H252,'Ark1'!$C$2:$D$12,2,FALSE)","v":3}]
[251,8,{"$f":"VLOOKUP(B253,'Ark1'!C$2:D$11,2,FALSE)","v":0},251,32,{"$f":"VLOOKUP(E253,'Ark1'!$C$2:$D$11,2,FALSE)","v":2},251,50,{"$f":"VLOOKUP(H253,'Ark1'!$C$2:$D$12,2,FALSE)","v":3}]
[252,8,{"$f":"VLOOKUP(B254,'Ark1'!C$2:D$11,2,FALSE)","v":0},252,32,{"$f":"VLOOKUP(E254,'Ark1'!$C$2:$D$11,2,FALSE)","v":2},252,50,{"$f":"VLOOKUP(H254,'Ark1'!$C$2:$D$12,2,FALSE)","v":3}]
[253,8,{"$f":"VLOOKUP(B255,'Ark1'!C$2:D$11,2,FALSE)","v":0},253,32,{"$f":"VLOOKUP(E255,'Ark1'!$C$2:$D$11,2,FALSE)","v":2},253,50,{"$f":"VLOOKUP(H255,'Ark1'!$C$2:$D$12,2,FALSE)","v":3}]
[254,8,{"$f":"VLOOKUP(B256,'Ark1'!C$2:D$11,2,FALSE)","v":0},254,32,{"$f":"VLOOKUP(E256,'Ark1'!$C$2:$D$11,2,FALSE)","v":2},254,50,{"$f":"VLOOKUP(H256,'Ark1'!$C$2:$D$12,2,FALSE)","v":3}]
[255,8,{"$f":"VLOOKUP(B257,'Ark1'!C$2:D$11,2,FALSE)","v":0},255,32,{"$f":"VLOOKUP(E257,'Ark1'!$C$2:$D$11,2,FALSE)","v":2},255,50,{"$f":"VLOOKUP(H257,'Ark1'!$C$2:$D$12,2,FALSE)","v":3}]
[256,8,{"$f":"VLOOKUP(B258,'Ark1'!C$2:D$11,2,FALSE)","v":0},256,32,{"$f":"VLOOKUP(E258,'Ark1'!$C$2:$D$11,2,FALSE)","v":2},256,50,{"$f":"VLOOKUP(H258,'Ark1'!$C$2:$D$12,2,FALSE)","v":3}]
[257,8,{"$f":"VLOOKUP(B259,'Ark1'!C$2:D$11,2,FALSE)","v":0},257,32,{"$f":"VLOOKUP(E259,'Ark1'!$C$2:$D$11,2,FALSE)","v":2},257,50,{"$f":"VLOOKUP(H259,'Ark1'!$C$2:$D$12,2,FALSE)","v":3}]
[258,8,{"$f":"VLOOKUP(B260,'Ark1'!C$2:D$11,2,FALSE)","v":0},258,32,{"$f":"VLOOKUP(E260,'Ark1'!$C$2:$D$11,2,FALSE)","v":2},258,50,{"$f":"VLOOKUP(H260,'Ark1'!$C$2:$D$12,2,FALSE)","v":3}]
[259,8,{"$f":"VLOOKUP(B261,'Ark1'!C$2:D$11,2,FALSE)","v":0},259,32,{"$f":"VLOOKUP(E261,'Ark1'!$C$2:$D$11,2,FALSE)","v":2},259,50,{"$f":"VLOOKUP(H261,'Ark1'!$C$2:$D$12,2,FALSE)","v":3}]
[260,8,{"$f":"VLOOKUP(B262,'Ark1'!C$2:D$11,2,FALSE)","v":0},260,32,{"$f":"VLOOKUP(E262,'Ark1'!$C$2:$D$11,2,FALSE)","v":2},260,50,{"$f":"VLOOKUP(H262,'Ark1'!$C$2:$D$12,2,FALSE)","v":3}]
[261,8,{"$f":"VLOOKUP(B263,'Ark1'!C$2:D$11,2,FALSE)","v":0},261,32,{"$f":"VLOOKUP(E263,'Ark1'!$C$2:$D$11,2,FALSE)","v":2},261,50,{"$f":"VLOOKUP(H263,'Ark1'!$C$2:$D$12,2,FALSE)","v":3}]
[262,8,{"$f":"VLOOKUP(B264,'Ark1'!C$2:D$11,2,FALSE)","v":0},262,32,{"$f":"VLOOKUP(E264,'Ark1'!$C$2:$D$11,2,FALSE)","v":2},262,50,{"$f":"VLOOKUP(H264,'Ark1'!$C$2:$D$12,2,FALSE)","v":3}]
[263,8,{"$f":"VLOOKUP(B265,'Ark1'!C$2:D$11,2,FALSE)","v":0},263,32,{"$f":"VLOOKUP(E265,'Ark1'!$C$2:$D$11,2,FALSE)","v":2},263,50,{"$f":"VLOOKUP(H265,'Ark1'!$C$2:$D$12,2,FALSE)","v":3}]
[264,8,{"$f":"VLOOKUP(B266,'Ark1'!C$2:D$11,2,FALSE)","v":0},264,32,{"$f":"VLOOKUP(E266,'Ark1'!$C$2:$D$11,2,FALSE)","v":2},264,50,{"$f":"VLOOKUP(H266,'Ark1'!$C$2:$D$12,2,FALSE)","v":3}]
[265,8,{"$f":"VLOOKUP(B267,'Ark1'!C$2:D$11,2,FALSE)","v":0},265,32,{"$f":"VLOOKUP(E267,'Ark1'!$C$2:$D$11,2,FALSE)","v":2},265,50,{"$f":"VLOOKUP(H267,'Ark1'!$C$2:$D$12,2,FALSE)","v":3}]
[266,8,{"$f":"VLOOKUP(B268,'Ark1'!C$2:D$11,2,FALSE)","v":0},266,32,{"$f":"VLOOKUP(E268,'Ark1'!$C$2:$D$11,2,FALSE)","v":2},266,50,{"$f":"VLOOKUP(H268,'Ark1'!$C$2:$D$12,2,FALSE)","v":3}]
[267,8,{"$f":"VLOOKUP(B269,'Ark1'!C$2:D$11,2,FALSE)","v":0},267,32,{"$f":"VLOOKUP(E269,'Ark1'!$C$2:$D$11,2,FALSE)","v":2},267,50,{"$f":"VLOOKUP(H269,'Ark1'!$C$2:$D$12,2,FALSE)","v":3}]
[268,8,{"$f":"VLOOKUP(B270,'Ark1'!C$2:D$11,2,FALSE)","v":0},268,32,{"$f":"VLOOKUP(E270,'Ark1'!$C$2:$D$11,2,FALSE)","v":2},268,50,{"$f":"VLOOKUP(H270,'Ark1'!$C$2:$D$12,2,FALSE)","v":3}]
[269,8,{"$f":"VLOOKUP(B271,'Ark1'!C$2:D$11,2,FALSE)","v":0},269,32,{"$f":"VLOOKUP(E271,'Ark1'!$C$2:$D$11,2,FALSE)","v":2},269,50,{"$f":"VLOOKUP(H271,'Ark1'!$C$2:$D$12,2,FALSE)","v":3}]
[270,8,{"$f":"VLOOKUP(B272,'Ark1'!C$2:D$11,2,FALSE)","v":0},270,32,{"$f":"VLOOKUP(E272,'Ark1'!$C$2:$D$11,2,FALSE)","v":2},270,50,{"$f":"VLOOKUP(H272,'Ark1'!$C$2:$D$12,2,FALSE)","v":3}]
[271,8,{"$f":"VLOOKUP(B273,'Ark1'!C$2:D$11,2,FALSE)","v":0},271,32,{"$f":"VLOOKUP(E273,'Ark1'!$C$2:$D$11,2,FALSE)","v":2},271,50,{"$f":"VLOOKUP(H273,'Ark1'!$C$2:$D$12,2,FALSE)","v":3}]
[272,8,{"$f":"VLOOKUP(B274,'Ark1'!C$2:D$11,2,FALSE)","v":0},272,32,{"$f":"VLOOKUP(E274,'Ark1'!$C$2:$D$11,2,FALSE)","v":2},272,50,{"$f":"VLOOKUP(H274,'Ark1'!$C$2:$D$12,2,FALSE)","v":3}]
[273,8,{"$f":"VLOOKUP(B275,'Ark1'!C$2:D$11,2,FALSE)","v":0},273,32,{"$f":"VLOOKUP(E275,'Ark1'!$C$2:$D$11,2,FALSE)","v":2},273,50,{"$f":"VLOOKUP(H275,'Ark1'!$C$2:$D$12,2,FALSE)","v":3}]
[274,8,{"$f":"VLOOKUP(B276,'Ark1'!C$2:D$11,2,FALSE)","v":0},274,32,{"$f":"VLOOKUP(E276,'Ark1'!$C$2:$D$11,2,FALSE)","v":2},274,50,{"$f":"VLOOKUP(H276,'Ark1'!$C$2:$D$12,2,FALSE)","v":3}]
[275,8,{"$f":"VLOOKUP(B277,'Ark1'!C$2:D$11,2,FALSE)","v":0},275,32,{"$f":"VLOOKUP(E277,'Ark1'!$C$2:$D$11,2,FALSE)","v":2},275,50,{"$f":"VLOOKUP(H277,'Ark1'!$C$2:$D$12,2,FALSE)","v":3}]
[276,8,{"$f":"VLOOKUP(B278,'Ark1'!C$2:D$11,2,FALSE)","v":0},276,32,{"$f":"VLOOKUP(E278,'Ark1'!$C$2:$D$11,2,FALSE)","v":2},276,50,{"$f":"VLOOKUP(H278,'Ark1'!$C$2:$D$12,2,FALSE)","v":3}]
[277,8,{"$f":"VLOOKUP(B279,'Ark1'!C$2:D$11,2,FALSE)","v":0},277,32,{"$f":"VLOOKUP(E279,'Ark1'!$C$2:$D$11,2,FALSE)","v":2},277,50,{"$f":"VLOOKUP(H279,'Ark1'!$C$2:$D$12,2,FALSE)","v":3}]
[278,8,{"$f":"VLOOKUP(B280,'Ark1'!C$2:D$11,2,FALSE)","v":0},278,32,{"$f":"VLOOKUP(E280,'Ark1'!$C$2:$D$11,2,FALSE)","v":2},278,50,{"$f":"VLOOKUP(H280,'Ark1'!$C$2:$D$12,2,FALSE)","v":3}]
[279,8,{"$f":"VLOOKUP(B281,'Ark1'!C$2:D$11,2,FALSE)","v":0},279,32,{"$f":"VLOOKUP(E281,'Ark1'!$C$2:$D$11,2,FALSE)","v":2},279,50,{"$f":"VLOOKUP(H281,'Ark1'!$C$2:$D$12,2,FALSE)","v":3}]
[280,8,{"$f":"VLOOKUP(B282,'Ark1'!C$2:D$11,2,FALSE)","v":0},280,32,{"$f":"VLOOKUP(E282,'Ark1'!$C$2:$D$11,2,FALSE)","v":2},280,50,{"$f":"VLOOKUP(H282,'Ark1'!$C$2:$D$12,2,FALSE)","v":3}]
[281,13,{"$f":"VLOOKUP(B283,'Ark1'!C$2:D$11,2,FALSE)","v":0},281,50,{"$f":"VLOOKUP(E283,'Ark1'!$C$2:$D$11,2,FALSE)","v":3},281,80,{"$f":"VLOOKUP(H283,'Ark1'!$C$2:$D$12,2,FALSE)","v":5}]
[282,13,{"$f":"VLOOKUP(B284,'Ark1'!C$2:D$11,2,FALSE)","v":0},282,50,{"$f":"VLOOKUP(E284,'Ark1'!$C$2:$D$11,2,FALSE)","v":3},282,80,{"$f":"VLOOKUP(H284,'Ark1'!$C$2:$D$12,2,FALSE)","v":5}]
[283,13,{"$f":"VLOOKUP(B285,'Ark1'!C$2:D$11,2,FALSE)","v":0},283,50,{"$f":"VLOOKUP(E285,'Ark1'!$C$2:$D$11,2,FALSE)","v":3},283,80,{"$f":"VLOOKUP(H285,'Ark1'!$C$2:$D$12,2,FALSE)","v":5}]
[284,13,{"$f":"VLOOKUP(B286,'Ark1'!C$2:D$11,2,FALSE)","v":0},284,50,{"$f":"VLOOKUP(E286,'Ark1'!$C$2:$D$11,2,FALSE)","v":3},284,80,{"$f":"VLOOKUP(H286,'Ark1'!$C$2:$D$12,2,FALSE)","v":5}]
[285,13,{"$f":"VLOOKUP(B287,'Ark1'!C$2:D$11,2,FALSE)","v":0},285,50,{"$f":"VLOOKUP(E287,'Ark1'!$C$2:$D$11,2,FALSE)","v":3},285,80,{"$f":"VLOOKUP(H287,'Ark1'!$C$2:$D$12,2,FALSE)","v":5}]
[286,13,{"$f":"VLOOKUP(B288,'Ark1'!C$2:D$11,2,FALSE)","v":0},286,50,{"$f":"VLOOKUP(E288,'Ark1'!$C$2:$D$11,2,FALSE)","v":3},286,80,{"$f":"VLOOKUP(H288,'Ark1'!$C$2:$D$12,2,FALSE)","v":5}]
[287,13,{"$f":"VLOOKUP(B289,'Ark1'!C$2:D$11,2,FALSE)","v":0},287,50,{"$f":"VLOOKUP(E289,'Ark1'!$C$2:$D$11,2,FALSE)","v":3},287,80,{"$f":"VLOOKUP(H289,'Ark1'!$C$2:$D$12,2,FALSE)","v":5}]
[288,13,{"$f":"VLOOKUP(B290,'Ark1'!C$2:D$11,2,FALSE)","v":0},288,50,{"$f":"VLOOKUP(E290,'Ark1'!$C$2:$D$11,2,FALSE)","v":3},288,80,{"$f":"VLOOKUP(H290,'Ark1'!$C$2:$D$12,2,FALSE)","v":5}]
[289,13,{"$f":"VLOOKUP(B291,'Ark1'!C$2:D$11,2,FALSE)","v":0},289,50,{"$f":"VLOOKUP(E291,'Ark1'!$C$2:$D$11,2,FALSE)","v":3},289,80,{"$f":"VLOOKUP(H291,'Ark1'!$C$2:$D$12,2,FALSE)","v":5}]
[290,13,{"$f":"VLOOKUP(B292,'Ark1'!C$2:D$11,2,FALSE)","v":0},290,50,{"$f":"VLOOKUP(E292,'Ark1'!$C$2:$D$11,2,FALSE)","v":3},290,80,{"$f":"VLOOKUP(H292,'Ark1'!$C$2:$D$12,2,FALSE)","v":5}]
[291,13,{"$f":"VLOOKUP(B293,'Ark1'!C$2:D$11,2,FALSE)","v":0},291,50,{"$f":"VLOOKUP(E293,'Ark1'!$C$2:$D$11,2,FALSE)","v":3},291,80,{"$f":"VLOOKUP(H293,'Ark1'!$C$2:$D$12,2,FALSE)","v":5}]
[292,13,{"$f":"VLOOKUP(B294,'Ark1'!C$2:D$11,2,FALSE)","v":0},292,50,{"$f":"VLOOKUP(E294,'Ark1'!$C$2:$D$11,2,FALSE)","v":3},292,80,{"$f":"VLOOKUP(H294,'Ark1'!$C$2:$D$12,2,FALSE)","v":5}]
[293,13,{"$f":"VLOOKUP(B295,'Ark1'!C$2:D$11,2,FALSE)","v":0},293,50,{"$f":"VLOOKUP(E295,'Ark1'!$C$2:$D$11,2,FALSE)","v":3},293,80,{"$f":"VLOOKUP(H295,'Ark1'!$C$2:$D$12,2,FALSE)","v":5}]
[294,13,{"$f":"VLOOKUP(B296,'Ark1'!C$2:D$11,2,FALSE)","v":0},294,50,{"$f":"VLOOKUP(E296,'Ark1'!$C$2:$D$11,2,FALSE)","v":3},294,80,{"$f":"VLOOKUP(H296,'Ark1'!$C$2:$D$12,2,FALSE)","v":5}]
[295,13,{"$f":"VLOOKUP(B297,'Ark1'!C$2:D$11,2,FALSE)","v":0},295,50,{"$f":"VLOOKUP(E297,'Ark1'!$C$2:$D$11,2,FALSE)","v":3},295,80,{"$f":"VLOOKUP(H297,'Ark1'!$C$2:$D$12,2,FALSE)","v":5}]
[296,13,{"$f":"VLOOKUP(B298,'Ark1'!C$2:D$11,2,FALSE)","v":0},296,50,{"$f":"VLOOKUP(E298,'Ark1'!$C$2:$D$11,2,FALSE)","v":3},296,80,{"$f":"VLOOKUP(H298,'Ark1'!$C$2:$D$12,2,FALSE)","v":5}]
[297,13,{"$f":"VLOOKUP(B299,'Ark1'!C$2:D$11,2,FALSE)","v":0},297,50,{"$f":"VLOOKUP(E299,'Ark1'!$C$2:$D$11,2,FALSE)","v":3},297,80,{"$f":"VLOOKUP(H299,'Ark1'!$C$2:$D$12,2,FALSE)","v":5}]
[298,13,{"$f":"VLOOKUP(B300,'Ark1'!C$2:D$11,2,FALSE)","v":0},298,50,{"$f":"VLOOKUP(E300,'Ark1'!$C$2:$D$11,2,FALSE)","v":3},298,80,{"$f":"VLOOKUP(H300,'Ark1'!$C$2:$D$12,2,FALSE)","v":5}]
[299,13,{"$f":"VLOOKUP(B301,'Ark1'!C$2:D$11,2,FALSE)","v":0},299,50,{"$f":"VLOOKUP(E301,'Ark1'!$C$2:$D$11,2,FALSE)","v":3},299,80,{"$f":"VLOOKUP(H301,'Ark1'!$C$2:$D$12,2,FALSE)","v":5}]
[300,13,{"$f":"VLOOKUP(B302,'Ark1'!C$2:D$11,2,FALSE)","v":0},300,50,{"$f":"VLOOKUP(E302,'Ark1'!$C$2:$D$11,2,FALSE)","v":3},300,80,{"$f":"VLOOKUP(H302,'Ark1'!$C$2:$D$12,2,FALSE)","v":5}]
[301,13,{"$f":"VLOOKUP(B303,'Ark1'!C$2:D$11,2,FALSE)","v":0},301,50,{"$f":"VLOOKUP(E303,'Ark1'!$C$2:$D$11,2,FALSE)","v":3},301,80,{"$f":"VLOOKUP(H303,'Ark1'!$C$2:$D$12,2,FALSE)","v":5}]
[302,13,{"$f":"VLOOKUP(B304,'Ark1'!C$2:D$11,2,FALSE)","v":0},302,50,{"$f":"VLOOKUP(E304,'Ark1'!$C$2:$D$11,2,FALSE)","v":3},302,80,{"$f":"VLOOKUP(H304,'Ark1'!$C$2:$D$12,2,FALSE)","v":5}]
[303,13,{"$f":"VLOOKUP(B305,'Ark1'!C$2:D$11,2,FALSE)","v":0},303,50,{"$f":"VLOOKUP(E305,'Ark1'!$C$2:$D$11,2,FALSE)","v":3},303,80,{"$f":"VLOOKUP(H305,'Ark1'!$C$2:$D$12,2,FALSE)","v":5}]
[304,13,{"$f":"VLOOKUP(B306,'Ark1'!C$2:D$11,2,FALSE)","v":0},304,50,{"$f":"VLOOKUP(E306,'Ark1'!$C$2:$D$11,2,FALSE)","v":3},304,80,{"$f":"VLOOKUP(H306,'Ark1'!$C$2:$D$12,2,FALSE)","v":5}]
[305,13,{"$f":"VLOOKUP(B307,'Ark1'!C$2:D$11,2,FALSE)","v":0},305,50,{"$f":"VLOOKUP(E307,'Ark1'!$C$2:$D$11,2,FALSE)","v":3},305,80,{"$f":"VLOOKUP(H307,'Ark1'!$C$2:$D$12,2,FALSE)","v":5}]
[306,13,{"$f":"VLOOKUP(B308,'Ark1'!C$2:D$11,2,FALSE)","v":0},306,50,{"$f":"VLOOKUP(E308,'Ark1'!$C$2:$D$11,2,FALSE)","v":3},306,80,{"$f":"VLOOKUP(H308,'Ark1'!$C$2:$D$12,2,FALSE)","v":5}]
[307,13,{"$f":"VLOOKUP(B309,'Ark1'!C$2:D$11,2,FALSE)","v":0},307,50,{"$f":"VLOOKUP(E309,'Ark1'!$C$2:$D$11,2,FALSE)","v":3},307,80,{"$f":"VLOOKUP(H309,'Ark1'!$C$2:$D$12,2,FALSE)","v":5}]
[308,13,{"$f":"VLOOKUP(B310,'Ark1'!C$2:D$11,2,FALSE)","v":0},308,50,{"$f":"VLOOKUP(E310,'Ark1'!$C$2:$D$11,2,FALSE)","v":3},308,80,{"$f":"VLOOKUP(H310,'Ark1'!$C$2:$D$12,2,FALSE)","v":5}]
[309,13,{"$f":"VLOOKUP(B311,'Ark1'!C$2:D$11,2,FALSE)","v":0},309,50,{"$f":"VLOOKUP(E311,'Ark1'!$C$2:$D$11,2,FALSE)","v":3},309,80,{"$f":"VLOOKUP(H311,'Ark1'!$C$2:$D$12,2,FALSE)","v":5}]
[310,13,{"$f":"VLOOKUP(B312,'Ark1'!C$2:D$11,2,FALSE)","v":0},310,50,{"$f":"VLOOKUP(E312,'Ark1'!$C$2:$D$11,2,FALSE)","v":3},310,80,{"$f":"VLOOKUP(H312,'Ark1'!$C$2:$D$12,2,FALSE)","v":5}]
[311,13,{"$f":"VLOOKUP(B313,'Ark1'!C$2:D$11,2,FALSE)","v":0},311,50,{"$f":"VLOOKUP(E313,'Ark1'!$C$2:$D$11,2,FALSE)","v":3},311,80,{"$f":"VLOOKUP(H313,'Ark1'!$C$2:$D$12,2,FALSE)","v":5}]
[312,13,{"$f":"VLOOKUP(B314,'Ark1'!C$2:D$11,2,FALSE)","v":0},312,50,{"$f":"VLOOKUP(E314,'Ark1'!$C$2:$D$11,2,FALSE)","v":3},312,80,{"$f":"VLOOKUP(H314,'Ark1'!$C$2:$D$12,2,FALSE)","v":5}]
[313,13,{"$f":"VLOOKUP(B315,'Ark1'!C$2:D$11,2,FALSE)","v":0},313,50,{"$f":"VLOOKUP(E315,'Ark1'!$C$2:$D$11,2,FALSE)","v":3},313,80,{"$f":"VLOOKUP(H315,'Ark1'!$C$2:$D$12,2,FALSE)","v":5}]
[314,13,{"$f":"VLOOKUP(B316,'Ark1'!C$2:D$11,2,FALSE)","v":0},314,50,{"$f":"VLOOKUP(E316,'Ark1'!$C$2:$D$11,2,FALSE)","v":3},314,80,{"$f":"VLOOKUP(H316,'Ark1'!$C$2:$D$12,2,FALSE)","v":5}]
[315,13,{"$f":"VLOOKUP(B317,'Ark1'!C$2:D$11,2,FALSE)","v":0},315,50,{"$f":"VLOOKUP(E317,'Ark1'!$C$2:$D$11,2,FALSE)","v":3},315,80,{"$f":"VLOOKUP(H317,'Ark1'!$C$2:$D$12,2,FALSE)","v":5}]
[316,13,{"$f":"VLOOKUP(B318,'Ark1'!C$2:D$11,2,FALSE)","v":0},316,50,{"$f":"VLOOKUP(E318,'Ark1'!$C$2:$D$11,2,FALSE)","v":3},316,80,{"$f":"VLOOKUP(H318,'Ark1'!$C$2:$D$12,2,FALSE)","v":5}]
[317,13,{"$f":"VLOOKUP(B319,'Ark1'!C$2:D$11,2,FALSE)","v":0},317,50,{"$f":"VLOOKUP(E319,'Ark1'!$C$2:$D$11,2,FALSE)","v":3},317,80,{"$f":"VLOOKUP(H319,'Ark1'!$C$2:$D$12,2,FALSE)","v":5}]
[318,13,{"$f":"VLOOKUP(B320,'Ark1'!C$2:D$11,2,FALSE)","v":0},318,50,{"$f":"VLOOKUP(E320,'Ark1'!$C$2:$D$11,2,FALSE)","v":3},318,80,{"$f":"VLOOKUP(H320,'Ark1'!$C$2:$D$12,2,FALSE)","v":5}]
[319,13,{"$f":"VLOOKUP(B321,'Ark1'!C$2:D$11,2,FALSE)","v":0},319,50,{"$f":"VLOOKUP(E321,'Ark1'!$C$2:$D$11,2,FALSE)","v":3},319,80,{"$f":"VLOOKUP(H321,'Ark1'!$C$2:$D$12,2,FALSE)","v":5}]
[320,13,{"$f":"VLOOKUP(B322,'Ark1'!C$2:D$11,2,FALSE)","v":0},320,50,{"$f":"VLOOKUP(E322,'Ark1'!$C$2:$D$11,2,FALSE)","v":3},320,80,{"$f":"VLOOKUP(H322,'Ark1'!$C$2:$D$12,2,FALSE)","v":5}]
[321,13,{"$f":"VLOOKUP(B323,'Ark1'!C$2:D$11,2,FALSE)","v":0},321,50,{"$f":"VLOOKUP(E323,'Ark1'!$C$2:$D$11,2,FALSE)","v":3},321,80,{"$f":"VLOOKUP(H323,'Ark1'!$C$2:$D$12,2,FALSE)","v":5}]
[322,13,{"$f":"VLOOKUP(B324,'Ark1'!C$2:D$11,2,FALSE)","v":0},322,50,{"$f":"VLOOKUP(E324,'Ark1'!$C$2:$D$11,2,FALSE)","v":3},322,80,{"$f":"VLOOKUP(H324,'Ark1'!$C$2:$D$12,2,FALSE)","v":5}]
[323,13,{"$f":"VLOOKUP(B325,'Ark1'!C$2:D$11,2,FALSE)","v":0},323,50,{"$f":"VLOOKUP(E325,'Ark1'!$C$2:$D$11,2,FALSE)","v":3},323,80,{"$f":"VLOOKUP(H325,'Ark1'!$C$2:$D$12,2,FALSE)","v":5}]
[324,13,{"$f":"VLOOKUP(B326,'Ark1'!C$2:D$11,2,FALSE)","v":0},324,50,{"$f":"VLOOKUP(E326,'Ark1'!$C$2:$D$11,2,FALSE)","v":3},324,80,{"$f":"VLOOKUP(H326,'Ark1'!$C$2:$D$12,2,FALSE)","v":5}]
[325,13,{"$f":"VLOOKUP(B327,'Ark1'!C$2:D$11,2,FALSE)","v":0},325,50,{"$f":"VLOOKUP(E327,'Ark1'!$C$2:$D$11,2,FALSE)","v":3},325,80,{"$f":"VLOOKUP(H327,'Ark1'!$C$2:$D$12,2,FALSE)","v":5}]
[326,13,{"$f":"VLOOKUP(B328,'Ark1'!C$2:D$11,2,FALSE)","v":0},326,50,{"$f":"VLOOKUP(E328,'Ark1'!$C$2:$D$11,2,FALSE)","v":3},326,80,{"$f":"VLOOKUP(H328,'Ark1'!$C$2:$D$12,2,FALSE)","v":5}]
[327,13,{"$f":"VLOOKUP(B329,'Ark1'!C$2:D$11,2,FALSE)","v":0},327,50,{"$f":"VLOOKUP(E329,'Ark1'!$C$2:$D$11,2,FALSE)","v":3},327,80,{"$f":"VLOOKUP(H329,'Ark1'!$C$2:$D$12,2,FALSE)","v":5}]
[328,13,{"$f":"VLOOKUP(B330,'Ark1'!C$2:D$11,2,FALSE)","v":0},328,50,{"$f":"VLOOKUP(E330,'Ark1'!$C$2:$D$11,2,FALSE)","v":3},328,80,{"$f":"VLOOKUP(H330,'Ark1'!$C$2:$D$12,2,FALSE)","v":5}]
[329,13,{"$f":"VLOOKUP(B331,'Ark1'!C$2:D$11,2,FALSE)","v":0},329,50,{"$f":"VLOOKUP(E331,'Ark1'!$C$2:$D$11,2,FALSE)","v":3},329,80,{"$f":"VLOOKUP(H331,'Ark1'!$C$2:$D$12,2,FALSE)","v":5}]
[330,13,{"$f":"VLOOKUP(B332,'Ark1'!C$2:D$11,2,FALSE)","v":0},330,50,{"$f":"VLOOKUP(E332,'Ark1'!$C$2:$D$11,2,FALSE)","v":3},330,80,{"$f":"VLOOKUP(H332,'Ark1'!$C$2:$D$12,2,FALSE)","v":5}]
[331,13,{"$f":"VLOOKUP(B333,'Ark1'!C$2:D$11,2,FALSE)","v":0},331,50,{"$f":"VLOOKUP(E333,'Ark1'!$C$2:$D$11,2,FALSE)","v":3},331,80,{"$f":"VLOOKUP(H333,'Ark1'!$C$2:$D$12,2,FALSE)","v":5}]
[332,13,{"$f":"VLOOKUP(B334,'Ark1'!C$2:D$11,2,FALSE)","v":0},332,50,{"$f":"VLOOKUP(E334,'Ark1'!$C$2:$D$11,2,FALSE)","v":3},332,80,{"$f":"VLOOKUP(H334,'Ark1'!$C$2:$D$12,2,FALSE)","v":5}]
[333,13,{"$f":"VLOOKUP(B335,'Ark1'!C$2:D$11,2,FALSE)","v":0},333,50,{"$f":"VLOOKUP(E335,'Ark1'!$C$2:$D$11,2,FALSE)","v":3},333,80,{"$f":"VLOOKUP(H335,'Ark1'!$C$2:$D$12,2,FALSE)","v":5}]
[334,13,{"$f":"VLOOKUP(B336,'Ark1'!C$2:D$11,2,FALSE)","v":0},334,50,{"$f":"VLOOKUP(E336,'Ark1'!$C$2:$D$11,2,FALSE)","v":3},334,80,{"$f":"VLOOKUP(H336,'Ark1'!$C$2:$D$12,2,FALSE)","v":5}]
[335,13,{"$f":"VLOOKUP(B337,'Ark1'!C$2:D$11,2,FALSE)","v":0},335,50,{"$f":"VLOOKUP(E337,'Ark1'!$C$2:$D$11,2,FALSE)","v":3},335,80,{"$f":"VLOOKUP(H337,'Ark1'!$C$2:$D$12,2,FALSE)","v":5}]
[336,13,{"$f":"VLOOKUP(B338,'Ark1'!C$2:D$11,2,FALSE)","v":0},336,50,{"$f":"VLOOKUP(E338,'Ark1'!$C$2:$D$11,2,FALSE)","v":3},336,80,{"$f":"VLOOKUP(H338,'Ark1'!$C$2:$D$12,2,FALSE)","v":5}]
[337,13,{"$f":"VLOOKUP(B339,'Ark1'!C$2:D$11,2,FALSE)","v":0},337,50,{"$f":"VLOOKUP(E339,'Ark1'!$C$2:$D$11,2,FALSE)","v":3},337,80,{"$f":"VLOOKUP(H339,'Ark1'!$C$2:$D$12,2,FALSE)","v":5}]
[338,13,{"$f":"VLOOKUP(B340,'Ark1'!C$2:D$11,2,FALSE)","v":0},338,50,{"$f":"VLOOKUP(E340,'Ark1'!$C$2:$D$11,2,FALSE)","v":3},338,80,{"$f":"VLOOKUP(H340,'Ark1'!$C$2:$D$12,2,FALSE)","v":5}]
[339,13,{"$f":"VLOOKUP(B341,'Ark1'!C$2:D$11,2,FALSE)","v":0},339,50,{"$f":"VLOOKUP(E341,'Ark1'!$C$2:$D$11,2,FALSE)","v":3},339,80,{"$f":"VLOOKUP(H341,'Ark1'!$C$2:$D$12,2,FALSE)","v":5}]
[340,13,{"$f":"VLOOKUP(B342,'Ark1'!C$2:D$11,2,FALSE)","v":0},340,50,{"$f":"VLOOKUP(E342,'Ark1'!$C$2:$D$11,2,FALSE)","v":3},340,80,{"$f":"VLOOKUP(H342,'Ark1'!$C$2:$D$12,2,FALSE)","v":5}]
[341,13,{"$f":"VLOOKUP(B343,'Ark1'!C$2:D$11,2,FALSE)","v":0},341,50,{"$f":"VLOOKUP(E343,'Ark1'!$C$2:$D$11,2,FALSE)","v":3},341,80,{"$f":"VLOOKUP(H343,'Ark1'!$C$2:$D$12,2,FALSE)","v":5}]
[342,13,{"$f":"VLOOKUP(B344,'Ark1'!C$2:D$11,2,FALSE)","v":0},342,50,{"$f":"VLOOKUP(E344,'Ark1'!$C$2:$D$11,2,FALSE)","v":3},342,80,{"$f":"VLOOKUP(H344,'Ark1'!$C$2:$D$12,2,FALSE)","v":5}]
[343,13,{"$f":"VLOOKUP(B345,'Ark1'!C$2:D$11,2,FALSE)","v":0},343,50,{"$f":"VLOOKUP(E345,'Ark1'!$C$2:$D$11,2,FALSE)","v":3},343,80,{"$f":"VLOOKUP(H345,'Ark1'!$C$2:$D$12,2,FALSE)","v":5}]
[344,13,{"$f":"VLOOKUP(B346,'Ark1'!C$2:D$11,2,FALSE)","v":0},344,50,{"$f":"VLOOKUP(E346,'Ark1'!$C$2:$D$11,2,FALSE)","v":3},344,80,{"$f":"VLOOKUP(H346,'Ark1'!$C$2:$D$12,2,FALSE)","v":5}]
[345,13,{"$f":"VLOOKUP(B347,'Ark1'!C$2:D$11,2,FALSE)","v":0},345,50,{"$f":"VLOOKUP(E347,'Ark1'!$C$2:$D$11,2,FALSE)","v":3},345,80,{"$f":"VLOOKUP(H347,'Ark1'!$C$2:$D$12,2,FALSE)","v":5}]
[346,13,{"$f":"VLOOKUP(B348,'Ark1'!C$2:D$11,2,FALSE)","v":0},346,50,{"$f":"VLOOKUP(E348,'Ark1'!$C$2:$D$11,2,FALSE)","v":3},346,80,{"$f":"VLOOKUP(H348,'Ark1'!$C$2:$D$12,2,FALSE)","v":5}]
[347,13,{"$f":"VLOOKUP(B349,'Ark1'!C$2:D$11,2,FALSE)","v":0},347,50,{"$f":"VLOOKUP(E349,'Ark1'!$C$2:$D$11,2,FALSE)","v":3},347,80,{"$f":"VLOOKUP(H349,'Ark1'!$C$2:$D$12,2,FALSE)","v":5}]
[348,13,{"$f":"VLOOKUP(B350,'Ark1'!C$2:D$11,2,FALSE)","v":0},348,50,{"$f":"VLOOKUP(E350,'Ark1'!$C$2:$D$11,2,FALSE)","v":3},348,80,{"$f":"VLOOKUP(H350,'Ark1'!$C$2:$D$12,2,FALSE)","v":5}]
[349,13,{"$f":"VLOOKUP(B351,'Ark1'!C$2:D$11,2,FALSE)","v":0},349,50,{"$f":"VLOOKUP(E351,'Ark1'!$C$2:$D$11,2,FALSE)","v":3},349,80,{"$f":"VLOOKUP(H351,'Ark1'!$C$2:$D$12,2,FALSE)","v":5}]
[350,13,{"$f":"VLOOKUP(B352,'Ark1'!C$2:D$11,2,FALSE)","v":0},350,50,{"$f":"VLOOKUP(E352,'Ark1'!$C$2:$D$11,2,FALSE)","v":3},350,80,{"$f":"VLOOKUP(H352,'Ark1'!$C$2:$D$12,2,FALSE)","v":5}]
[351,13,{"$f":"VLOOKUP(B353,'Ark1'!C$2:D$11,2,FALSE)","v":0},351,50,{"$f":"VLOOKUP(E353,'Ark1'!$C$2:$D$11,2,FALSE)","v":3},351,80,{"$f":"VLOOKUP(H353,'Ark1'!$C$2:$D$12,2,FALSE)","v":5}]
[352,13,{"$f":"VLOOKUP(B354,'Ark1'!C$2:D$11,2,FALSE)","v":0},352,50,{"$f":"VLOOKUP(E354,'Ark1'!$C$2:$D$11,2,FALSE)","v":3},352,80,{"$f":"VLOOKUP(H354,'Ark1'!$C$2:$D$12,2,FALSE)","v":5}]
[353,13,{"$f":"VLOOKUP(B355,'Ark1'!C$2:D$11,2,FALSE)","v":0},353,50,{"$f":"VLOOKUP(E355,'Ark1'!$C$2:$D$11,2,FALSE)","v":3},353,80,{"$f":"VLOOKUP(H355,'Ark1'!$C$2:$D$12,2,FALSE)","v":5}]
[354,13,{"$f":"VLOOKUP(B356,'Ark1'!C$2:D$11,2,FALSE)","v":0},354,50,{"$f":"VLOOKUP(E356,'Ark1'!$C$2:$D$11,2,FALSE)","v":3},354,80,{"$f":"VLOOKUP(H356,'Ark1'!$C$2:$D$12,2,FALSE)","v":5}]
[355,13,{"$f":"VLOOKUP(B357,'Ark1'!C$2:D$11,2,FALSE)","v":0},355,50,{"$f":"VLOOKUP(E357,'Ark1'!$C$2:$D$11,2,FALSE)","v":3},355,80,{"$f":"VLOOKUP(H357,'Ark1'!$C$2:$D$12,2,FALSE)","v":5}]
[356,13,{"$f":"VLOOKUP(B358,'Ark1'!C$2:D$11,2,FALSE)","v":0},356,50,{"$f":"VLOOKUP(E358,'Ark1'!$C$2:$D$11,2,FALSE)","v":3},356,80,{"$f":"VLOOKUP(H358,'Ark1'!$C$2:$D$12,2,FALSE)","v":5}]
[357,13,{"$f":"VLOOKUP(B359,'Ark1'!C$2:D$11,2,FALSE)","v":0},357,50,{"$f":"VLOOKUP(E359,'Ark1'!$C$2:$D$11,2,FALSE)","v":3},357,80,{"$f":"VLOOKUP(H359,'Ark1'!$C$2:$D$12,2,FALSE)","v":5}]
[358,13,{"$f":"VLOOKUP(B360,'Ark1'!C$2:D$11,2,FALSE)","v":0},358,50,{"$f":"VLOOKUP(E360,'Ark1'!$C$2:$D$11,2,FALSE)","v":3},358,80,{"$f":"VLOOKUP(H360,'Ark1'!$C$2:$D$12,2,FALSE)","v":5}]
[359,13,{"$f":"VLOOKUP(B361,'Ark1'!C$2:D$11,2,FALSE)","v":0},359,50,{"$f":"VLOOKUP(E361,'Ark1'!$C$2:$D$11,2,FALSE)","v":3},359,80,{"$f":"VLOOKUP(H361,'Ark1'!$C$2:$D$12,2,FALSE)","v":5}]
[360,13,{"$f":"VLOOKUP(B362,'Ark1'!C$2:D$11,2,FALSE)","v":0},360,50,{"$f":"VLOOKUP(E362,'Ark1'!$C$2:$D$11,2,FALSE)","v":3},360,80,{"$f":"VLOOKUP(H362,'Ark1'!$C$2:$D$12,2,FALSE)","v":5}]
[361,13,{"$f":"VLOOKUP(B363,'Ark1'!C$2:D$11,2,FALSE)","v":0},361,50,{"$f":"VLOOKUP(E363,'Ark1'!$C$2:$D$11,2,FALSE)","v":3},361,80,{"$f":"VLOOKUP(H363,'Ark1'!$C$2:$D$12,2,FALSE)","v":5}]
[362,13,{"$f":"VLOOKUP(B364,'Ark1'!C$2:D$11,2,FALSE)","v":0},362,50,{"$f":"VLOOKUP(E364,'Ark1'!$C$2:$D$11,2,FALSE)","v":3},362,80,{"$f":"VLOOKUP(H364,'Ark1'!$C$2:$D$12,2,FALSE)","v":5}]
[363,13,{"$f":"VLOOKUP(B365,'Ark1'!C$2:D$11,2,FALSE)","v":0},363,50,{"$f":"VLOOKUP(E365,'Ark1'!$C$2:$D$11,2,FALSE)","v":3},363,80,{"$f":"VLOOKUP(H365,'Ark1'!$C$2:$D$12,2,FALSE)","v":5}]
[364,13,{"$f":"VLOOKUP(B366,'Ark1'!C$2:D$11,2,FALSE)","v":0},364,50,{"$f":"VLOOKUP(E366,'Ark1'!$C$2:$D$11,2,FALSE)","v":3},364,80,{"$f":"VLOOKUP(H366,'Ark1'!$C$2:$D$12,2,FALSE)","v":5}]
[365,13,{"$f":"VLOOKUP(B367,'Ark1'!C$2:D$11,2,FALSE)","v":0},365,50,{"$f":"VLOOKUP(E367,'Ark1'!$C$2:$D$11,2,FALSE)","v":3},365,80,{"$f":"VLOOKUP(H367,'Ark1'!$C$2:$D$12,2,FALSE)","v":5}]
[366,13,{"$f":"VLOOKUP(B368,'Ark1'!C$2:D$11,2,FALSE)","v":0},366,50,{"$f":"VLOOKUP(E368,'Ark1'!$C$2:$D$11,2,FALSE)","v":3},366,80,{"$f":"VLOOKUP(H368,'Ark1'!$C$2:$D$12,2,FALSE)","v":5}]
[367,13,{"$f":"VLOOKUP(B369,'Ark1'!C$2:D$11,2,FALSE)","v":0},367,50,{"$f":"VLOOKUP(E369,'Ark1'!$C$2:$D$11,2,FALSE)","v":3},367,80,{"$f":"VLOOKUP(H369,'Ark1'!$C$2:$D$12,2,FALSE)","v":5}]
[368,13,{"$f":"VLOOKUP(B370,'Ark1'!C$2:D$11,2,FALSE)","v":0},368,50,{"$f":"VLOOKUP(E370,'Ark1'!$C$2:$D$11,2,FALSE)","v":3},368,80,{"$f":"VLOOKUP(H370,'Ark1'!$C$2:$D$12,2,FALSE)","v":5}]
[369,13,{"$f":"VLOOKUP(B371,'Ark1'!C$2:D$11,2,FALSE)","v":0},369,50,{"$f":"VLOOKUP(E371,'Ark1'!$C$2:$D$11,2,FALSE)","v":3},369,80,{"$f":"VLOOKUP(H371,'Ark1'!$C$2:$D$12,2,FALSE)","v":5}]
[370,13,{"$f":"VLOOKUP(B372,'Ark1'!C$2:D$11,2,FALSE)","v":0},370,50,{"$f":"VLOOKUP(E372,'Ark1'!$C$2:$D$11,2,FALSE)","v":3},370,80,{"$f":"VLOOKUP(H372,'Ark1'!$C$2:$D$12,2,FALSE)","v":5}]
[371,13,{"$f":"VLOOKUP(B373,'Ark1'!C$2:D$11,2,FALSE)","v":0},371,50,{"$f":"VLOOKUP(E373,'Ark1'!$C$2:$D$11,2,FALSE)","v":3},371,80,{"$f":"VLOOKUP(H373,'Ark1'!$C$2:$D$12,2,FALSE)","v":5}]
[372,13,{"$f":"VLOOKUP(B374,'Ark1'!C$2:D$11,2,FALSE)","v":0},372,50,{"$f":"VLOOKUP(E374,'Ark1'!$C$2:$D$11,2,FALSE)","v":3},372,80,{"$f":"VLOOKUP(H374,'Ark1'!$C$2:$D$12,2,FALSE)","v":5}]
[373,13,{"$f":"VLOOKUP(B375,'Ark1'!C$2:D$11,2,FALSE)","v":0},373,50,{"$f":"VLOOKUP(E375,'Ark1'!$C$2:$D$11,2,FALSE)","v":3},373,80,{"$f":"VLOOKUP(H375,'Ark1'!$C$2:$D$12,2,FALSE)","v":5}]
[374,13,{"$f":"VLOOKUP(B376,'Ark1'!C$2:D$11,2,FALSE)","v":0},374,50,{"$f":"VLOOKUP(E376,'Ark1'!$C$2:$D$11,2,FALSE)","v":3},374,80,{"$f":"VLOOKUP(H376,'Ark1'!$C$2:$D$12,2,FALSE)","v":5}]
[375,13,{"$f":"VLOOKUP(B377,'Ark1'!C$2:D$11,2,FALSE)","v":0},375,50,{"$f":"VLOOKUP(E377,'Ark1'!$C$2:$D$11,2,FALSE)","v":3},375,80,{"$f":"VLOOKUP(H377,'Ark1'!$C$2:$D$12,2,FALSE)","v":5}]
[376,13,{"$f":"VLOOKUP(B378,'Ark1'!C$2:D$11,2,FALSE)","v":0},376,50,{"$f":"VLOOKUP(E378,'Ark1'!$C$2:$D$11,2,FALSE)","v":3},376,80,{"$f":"VLOOKUP(H378,'Ark1'!$C$2:$D$12,2,FALSE)","v":5}]
[377,13,{"$f":"VLOOKUP(B379,'Ark1'!C$2:D$11,2,FALSE)","v":0},377,50,{"$f":"VLOOKUP(E379,'Ark1'!$C$2:$D$11,2,FALSE)","v":3},377,80,{"$f":"VLOOKUP(H379,'Ark1'!$C$2:$D$12,2,FALSE)","v":5}]
[378,13,{"$f":"VLOOKUP(B380,'Ark1'!C$2:D$11,2,FALSE)","v":0},378,50,{"$f":"VLOOKUP(E380,'Ark1'!$C$2:$D$11,2,FALSE)","v":3},378,80,{"$f":"VLOOKUP(H380,'Ark1'!$C$2:$D$12,2,FALSE)","v":5}]
[379,13,{"$f":"VLOOKUP(B381,'Ark1'!C$2:D$11,2,FALSE)","v":0},379,50,{"$f":"VLOOKUP(E381,'Ark1'!$C$2:$D$11,2,FALSE)","v":3},379,80,{"$f":"VLOOKUP(H381,'Ark1'!$C$2:$D$12,2,FALSE)","v":5}]
[380,13,{"$f":"VLOOKUP(B382,'Ark1'!C$2:D$11,2,FALSE)","v":0},380,50,{"$f":"VLOOKUP(E382,'Ark1'!$C$2:$D$11,2,FALSE)","v":3},380,80,{"$f":"VLOOKUP(H382,'Ark1'!$C$2:$D$12,2,FALSE)","v":5}]
[381,13,{"$f":"VLOOKUP(B383,'Ark1'!C$2:D$11,2,FALSE)","v":0},381,50,{"$f":"VLOOKUP(E383,'Ark1'!$C$2:$D$11,2,FALSE)","v":3},381,80,{"$f":"VLOOKUP(H383,'Ark1'!$C$2:$D$12,2,FALSE)","v":5}]
[382,13,{"$f":"VLOOKUP(B384,'Ark1'!C$2:D$11,2,FALSE)","v":0},382,50,{"$f":"VLOOKUP(E384,'Ark1'!$C$2:$D$11,2,FALSE)","v":3},382,80,{"$f":"VLOOKUP(H384,'Ark1'!$C$2:$D$12,2,FALSE)","v":5}]
[383,13,{"$f":"VLOOKUP(B385,'Ark1'!C$2:D$11,2,FALSE)","v":0},383,50,{"$f":"VLOOKUP(E385,'Ark1'!$C$2:$D$11,2,FALSE)","v":3},383,80,{"$f":"VLOOKUP(H385,'Ark1'!$C$2:$D$12,2,FALSE)","v":5}]
[384,13,{"$f":"VLOOKUP(B386,'Ark1'!C$2:D$11,2,FALSE)","v":0},384,50,{"$f":"VLOOKUP(E386,'Ark1'!$C$2:$D$11,2,FALSE)","v":3},384,80,{"$f":"VLOOKUP(H386,'Ark1'!$C$2:$D$12,2,FALSE)","v":5}]
[385,13,{"$f":"VLOOKUP(B387,'Ark1'!C$2:D$11,2,FALSE)","v":0},385,50,{"$f":"VLOOKUP(E387,'Ark1'!$C$2:$D$11,2,FALSE)","v":3},385,80,{"$f":"VLOOKUP(H387,'Ark1'!$C$2:$D$12,2,FALSE)","v":5}]
[386,13,{"$f":"VLOOKUP(B388,'Ark1'!C$2:D$11,2,FALSE)","v":0},386,50,{"$f":"VLOOKUP(E388,'Ark1'!$C$2:$D$11,2,FALSE)","v":3},386,80,{"$f":"VLOOKUP(H388,'Ark1'!$C$2:$D$12,2,FALSE)","v":5}]
[387,13,{"$f":"VLOOKUP(B389,'Ark1'!C$2:D$11,2,FALSE)","v":0},387,50,{"$f":"VLOOKUP(E389,'Ark1'!$C$2:$D$11,2,FALSE)","v":3},387,80,{"$f":"VLOOKUP(H389,'Ark1'!$C$2:$D$12,2,FALSE)","v":5}]
[388,13,{"$f":"VLOOKUP(B390,'Ark1'!C$2:D$11,2,FALSE)","v":0},388,50,{"$f":"VLOOKUP(E390,'Ark1'!$C$2:$D$11,2,FALSE)","v":3},388,80,{"$f":"VLOOKUP(H390,'Ark1'!$C$2:$D$12,2,FALSE)","v":5}]
[389,13,{"$f":"VLOOKUP(B391,'Ark1'!C$2:D$11,2,FALSE)","v":0},389,50,{"$f":"VLOOKUP(E391,'Ark1'!$C$2:$D$11,2,FALSE)","v":3},389,80,{"$f":"VLOOKUP(H391,'Ark1'!$C$2:$D$12,2,FALSE)","v":5}]
[390,13,{"$f":"VLOOKUP(B392,'Ark1'!C$2:D$11,2,FALSE)","v":0},390,50,{"$f":"VLOOKUP(E392,'Ark1'!$C$2:$D$11,2,FALSE)","v":3},390,80,{"$f":"VLOOKUP(H392,'Ark1'!$C$2:$D$12,2,FALSE)","v":5}]
[391,13,{"$f":"VLOOKUP(B393,'Ark1'!C$2:D$11,2,FALSE)","v":0},391,50,{"$f":"VLOOKUP(E393,'Ark1'!$C$2:$D$11,2,FALSE)","v":3},391,80,{"$f":"VLOOKUP(H393,'Ark1'!$C$2:$D$12,2,FALSE)","v":5}]
[392,13,{"$f":"VLOOKUP(B394,'Ark1'!C$2:D$11,2,FALSE)","v":0},392,50,{"$f":"VLOOKUP(E394,'Ark1'!$C$2:$D$11,2,FALSE)","v":3},392,80,{"$f":"VLOOKUP(H394,'Ark1'!$C$2:$D$12,2,FALSE)","v":5}]
[393,13,{"$f":"VLOOKUP(B395,'Ark1'!C$2:D$11,2,FALSE)","v":0},393,50,{"$f":"VLOOKUP(E395,'Ark1'!$C$2:$D$11,2,FALSE)","v":3},393,80,{"$f":"VLOOKUP(H395,'Ark1'!$C$2:$D$12,2,FALSE)","v":5}]
[394,13,{"$f":"VLOOKUP(B396,'Ark1'!C$2:D$11,2,FALSE)","v":0},394,50,{"$f":"VLOOKUP(E396,'Ark1'!$C$2:$D$11,2,FALSE)","v":3},394,80,{"$f":"VLOOKUP(H396,'Ark1'!$C$2:$D$12,2,FALSE)","v":5}]
[395,13,{"$f":"VLOOKUP(B397,'Ark1'!C$2:D$11,2,FALSE)","v":0},395,50,{"$f":"VLOOKUP(E397,'Ark1'!$C$2:$D$11,2,FALSE)","v":3},395,80,{"$f":"VLOOKUP(H397,'Ark1'!$C$2:$D$12,2,FALSE)","v":5}]
[396,13,{"$f":"VLOOKUP(B398,'Ark1'!C$2:D$11,2,FALSE)","v":0},396,50,{"$f":"VLOOKUP(E398,'Ark1'!$C$2:$D$11,2,FALSE)","v":3},396,80,{"$f":"VLOOKUP(H398,'Ark1'!$C$2:$D$12,2,FALSE)","v":5}]
[397,13,{"$f":"VLOOKUP(B399,'Ark1'!C$2:D$11,2,FALSE)","v":0},397,50,{"$f":"VLOOKUP(E399,'Ark1'!$C$2:$D$11,2,FALSE)","v":3},397,80,{"$f":"VLOOKUP(H399,'Ark1'!$C$2:$D$12,2,FALSE)","v":5}]
[398,13,{"$f":"VLOOKUP(B400,'Ark1'!C$2:D$11,2,FALSE)","v":0},398,50,{"$f":"VLOOKUP(E400,'Ark1'!$C$2:$D$11,2,FALSE)","v":3},398,80,{"$f":"VLOOKUP(H400,'Ark1'!$C$2:$D$12,2,FALSE)","v":5}]
[399,13,{"$f":"VLOOKUP(B401,'Ark1'!C$2:D$11,2,FALSE)","v":0},399,50,{"$f":"VLOOKUP(E401,'Ark1'!$C$2:$D$11,2,FALSE)","v":3},399,80,{"$f":"VLOOKUP(H401,'Ark1'!$C$2:$D$12,2,FALSE)","v":5}]
[400,13,{"$f":"VLOOKUP(B402,'Ark1'!C$2:D$11,2,FALSE)","v":0},400,50,{"$f":"VLOOKUP(E402,'Ark1'!$C$2:$D$11,2,FALSE)","v":3},400,80,{"$f":"VLOOKUP(H402,'Ark1'!$C$2:$D$12,2,FALSE)","v":5}]
[401,13,{"$f":"VLOOKUP(B403,'Ark1'!C$2:D$11,2,FALSE)","v":0},401,50,{"$f":"VLOOKUP(E403,'Ark1'!$C$2:$D$11,2,FALSE)","v":3},401,80,{"$f":"VLOOKUP(H403,'Ark1'!$C$2:$D$12,2,FALSE)","v":5}]
[402,13,{"$f":"VLOOKUP(B404,'Ark1'!C$2:D$11,2,FALSE)","v":0},402,50,{"$f":"VLOOKUP(E404,'Ark1'!$C$2:$D$11,2,FALSE)","v":3},402,80,{"$f":"VLOOKUP(H404,'Ark1'!$C$2:$D$12,2,FALSE)","v":5}]
[403,13,{"$f":"VLOOKUP(B405,'Ark1'!C$2:D$11,2,FALSE)","v":0},403,50,{"$f":"VLOOKUP(E405,'Ark1'!$C$2:$D$11,2,FALSE)","v":3},403,80,{"$f":"VLOOKUP(H405,'Ark1'!$C$2:$D$12,2,FALSE)","v":5}]
[404,13,{"$f":"VLOOKUP(B406,'Ark1'!C$2:D$11,2,FALSE)","v":0},404,50,{"$f":"VLOOKUP(E406,'Ark1'!$C$2:$D$11,2,FALSE)","v":3},404,80,{"$f":"VLOOKUP(H406,'Ark1'!$C$2:$D$12,2,FALSE)","v":5}]
[405,13,{"$f":"VLOOKUP(B407,'Ark1'!C$2:D$11,2,FALSE)","v":0},405,50,{"$f":"VLOOKUP(E407,'Ark1'!$C$2:$D$11,2,FALSE)","v":3},405,80,{"$f":"VLOOKUP(H407,'Ark1'!$C$2:$D$12,2,FALSE)","v":5}]
[406,13,{"$f":"VLOOKUP(B408,'Ark1'!C$2:D$11,2,FALSE)","v":0},406,50,{"$f":"VLOOKUP(E408,'Ark1'!$C$2:$D$11,2,FALSE)","v":3},406,80,{"$f":"VLOOKUP(H408,'Ark1'!$C$2:$D$12,2,FALSE)","v":5}]
[407,13,{"$f":"VLOOKUP(B409,'Ark1'!C$2:D$11,2,FALSE)","v":0},407,50,{"$f":"VLOOKUP(E409,'Ark1'!$C$2:$D$11,2,FALSE)","v":3},407,80,{"$f":"VLOOKUP(H409,'Ark1'!$C$2:$D$12,2,FALSE)","v":5}]
[408,13,{"$f":"VLOOKUP(B410,'Ark1'!C$2:D$11,2,FALSE)","v":0},408,50,{"$f":"VLOOKUP(E410,'Ark1'!$C$2:$D$11,2,FALSE)","v":3},408,80,{"$f":"VLOOKUP(H410,'Ark1'!$C$2:$D$12,2,FALSE)","v":5}]
[409,13,{"$f":"VLOOKUP(B411,'Ark1'!C$2:D$11,2,FALSE)","v":0},409,50,{"$f":"VLOOKUP(E411,'Ark1'!$C$2:$D$11,2,FALSE)","v":3},409,80,{"$f":"VLOOKUP(H411,'Ark1'!$C$2:$D$12,2,FALSE)","v":5}]
[410,13,{"$f":"VLOOKUP(B412,'Ark1'!C$2:D$11,2,FALSE)","v":0},410,50,{"$f":"VLOOKUP(E412,'Ark1'!$C$2:$D$11,2,FALSE)","v":3},410,80,{"$f":"VLOOKUP(H412,'Ark1'!$C$2:$D$12,2,FALSE)","v":5}]
[411,13,{"$f":"VLOOKUP(B413,'Ark1'!C$2:D$11,2,FALSE)","v":0},411,50,{"$f":"VLOOKUP(E413,'Ark1'!$C$2:$D$11,2,FALSE)","v":3},411,80,{"$f":"VLOOKUP(H413,'Ark1'!$C$2:$D$12,2,FALSE)","v":5}]
[412,13,{"$f":"VLOOKUP(B414,'Ark1'!C$2:D$11,2,FALSE)","v":0},412,50,{"$f":"VLOOKUP(E414,'Ark1'!$C$2:$D$11,2,FALSE)","v":3},412,80,{"$f":"VLOOKUP(H414,'Ark1'!$C$2:$D$12,2,FALSE)","v":5}]
[413,13,{"$f":"VLOOKUP(B415,'Ark1'!C$2:D$11,2,FALSE)","v":0},413,50,{"$f":"VLOOKUP(E415,'Ark1'!$C$2:$D$11,2,FALSE)","v":3},413,80,{"$f":"VLOOKUP(H415,'Ark1'!$C$2:$D$12,2,FALSE)","v":5}]
[414,13,{"$f":"VLOOKUP(B416,'Ark1'!C$2:D$11,2,FALSE)","v":0},414,50,{"$f":"VLOOKUP(E416,'Ark1'!$C$2:$D$11,2,FALSE)","v":3},414,80,{"$f":"VLOOKUP(H416,'Ark1'!$C$2:$D$12,2,FALSE)","v":5}]
[415,13,{"$f":"VLOOKUP(B417,'Ark1'!C$2:D$11,2,FALSE)","v":0},415,50,{"$f":"VLOOKUP(E417,'Ark1'!$C$2:$D$11,2,FALSE)","v":3},415,80,{"$f":"VLOOKUP(H417,'Ark1'!$C$2:$D$12,2,FALSE)","v":5}]
[416,13,{"$f":"VLOOKUP(B418,'Ark1'!C$2:D$11,2,FALSE)","v":0},416,50,{"$f":"VLOOKUP(E418,'Ark1'!$C$2:$D$11,2,FALSE)","v":3},416,80,{"$f":"VLOOKUP(H418,'Ark1'!$C$2:$D$12,2,FALSE)","v":5}]
[417,13,{"$f":"VLOOKUP(B419,'Ark1'!C$2:D$11,2,FALSE)","v":0},417,50,{"$f":"VLOOKUP(E419,'Ark1'!$C$2:$D$11,2,FALSE)","v":3},417,80,{"$f":"VLOOKUP(H419,'Ark1'!$C$2:$D$12,2,FALSE)","v":5}]
[418,13,{"$f":"VLOOKUP(B420,'Ark1'!C$2:D$11,2,FALSE)","v":0},418,50,{"$f":"VLOOKUP(E420,'Ark1'!$C$2:$D$11,2,FALSE)","v":3},418,80,{"$f":"VLOOKUP(H420,'Ark1'!$C$2:$D$12,2,FALSE)","v":5}]
[419,13,{"$f":"VLOOKUP(B421,'Ark1'!C$2:D$11,2,FALSE)","v":0},419,50,{"$f":"VLOOKUP(E421,'Ark1'!$C$2:$D$11,2,FALSE)","v":3},419,80,{"$f":"VLOOKUP(H421,'Ark1'!$C$2:$D$12,2,FALSE)","v":5}]
[420,13,{"$f":"VLOOKUP(B422,'Ark1'!C$2:D$11,2,FALSE)","v":0},420,50,{"$f":"VLOOKUP(E422,'Ark1'!$C$2:$D$11,2,FALSE)","v":3},420,80,{"$f":"VLOOKUP(H422,'Ark1'!$C$2:$D$12,2,FALSE)","v":5}]
[421,13,{"$f":"VLOOKUP(B423,'Ark1'!C$2:D$11,2,FALSE)","v":0},421,50,{"$f":"VLOOKUP(E423,'Ark1'!$C$2:$D$11,2,FALSE)","v":3},421,80,{"$f":"VLOOKUP(H423,'Ark1'!$C$2:$D$12,2,FALSE)","v":5}]
[422,13,{"$f":"VLOOKUP(B424,'Ark1'!C$2:D$11,2,FALSE)","v":0},422,50,{"$f":"VLOOKUP(E424,'Ark1'!$C$2:$D$11,2,FALSE)","v":3},422,80,{"$f":"VLOOKUP(H424,'Ark1'!$C$2:$D$12,2,FALSE)","v":5}]
[423,13,{"$f":"VLOOKUP(B425,'Ark1'!C$2:D$11,2,FALSE)","v":0},423,50,{"$f":"VLOOKUP(E425,'Ark1'!$C$2:$D$11,2,FALSE)","v":3},423,80,{"$f":"VLOOKUP(H425,'Ark1'!$C$2:$D$12,2,FALSE)","v":5}]
[424,13,{"$f":"VLOOKUP(B426,'Ark1'!C$2:D$11,2,FALSE)","v":0},424,50,{"$f":"VLOOKUP(E426,'Ark1'!$C$2:$D$11,2,FALSE)","v":3},424,80,{"$f":"VLOOKUP(H426,'Ark1'!$C$2:$D$12,2,FALSE)","v":5}]
[425,13,{"$f":"VLOOKUP(B427,'Ark1'!C$2:D$11,2,FALSE)","v":0},425,50,{"$f":"VLOOKUP(E427,'Ark1'!$C$2:$D$11,2,FALSE)","v":3},425,80,{"$f":"VLOOKUP(H427,'Ark1'!$C$2:$D$12,2,FALSE)","v":5}]
[426,13,{"$f":"VLOOKUP(B428,'Ark1'!C$2:D$11,2,FALSE)","v":0},426,50,{"$f":"VLOOKUP(E428,'Ark1'!$C$2:$D$11,2,FALSE)","v":3},426,80,{"$f":"VLOOKUP(H428,'Ark1'!$C$2:$D$12,2,FALSE)","v":5}]
[427,13,{"$f":"VLOOKUP(B429,'Ark1'!C$2:D$11,2,FALSE)","v":0},427,50,{"$f":"VLOOKUP(E429,'Ark1'!$C$2:$D$11,2,FALSE)","v":3},427,80,{"$f":"VLOOKUP(H429,'Ark1'!$C$2:$D$12,2,FALSE)","v":5}]
[428,13,{"$f":"VLOOKUP(B430,'Ark1'!C$2:D$11,2,FALSE)","v":0},428,50,{"$f":"VLOOKUP(E430,'Ark1'!$C$2:$D$11,2,FALSE)","v":3},428,80,{"$f":"VLOOKUP(H430,'Ark1'!$C$2:$D$12,2,FALSE)","v":5}]
[429,13,{"$f":"VLOOKUP(B431,'Ark1'!C$2:D$11,2,FALSE)","v":0},429,50,{"$f":"VLOOKUP(E431,'Ark1'!$C$2:$D$11,2,FALSE)","v":3},429,80,{"$f":"VLOOKUP(H431,'Ark1'!$C$2:$D$12,2,FALSE)","v":5}]
[430,13,{"$f":"VLOOKUP(B432,'Ark1'!C$2:D$11,2,FALSE)","v":0},430,50,{"$f":"VLOOKUP(E432,'Ark1'!$C$2:$D$11,2,FALSE)","v":3},430,80,{"$f":"VLOOKUP(H432,'Ark1'!$C$2:$D$12,2,FALSE)","v":5}]
[431,13,{"$f":"VLOOKUP(B433,'Ark1'!C$2:D$11,2,FALSE)","v":0},431,50,{"$f":"VLOOKUP(E433,'Ark1'!$C$2:$D$11,2,FALSE)","v":3},431,80,{"$f":"VLOOKUP(H433,'Ark1'!$C$2:$D$12,2,FALSE)","v":5}]
[432,13,{"$f":"VLOOKUP(B434,'Ark1'!C$2:D$11,2,FALSE)","v":0},432,50,{"$f":"VLOOKUP(E434,'Ark1'!$C$2:$D$11,2,FALSE)","v":3},432,80,{"$f":"VLOOKUP(H434,'Ark1'!$C$2:$D$12,2,FALSE)","v":5}]
[433,13,{"$f":"VLOOKUP(B435,'Ark1'!C$2:D$11,2,FALSE)","v":0},433,50,{"$f":"VLOOKUP(E435,'Ark1'!$C$2:$D$11,2,FALSE)","v":3},433,80,{"$f":"VLOOKUP(H435,'Ark1'!$C$2:$D$12,2,FALSE)","v":5}]
[434,13,{"$f":"VLOOKUP(B436,'Ark1'!C$2:D$11,2,FALSE)","v":0},434,50,{"$f":"VLOOKUP(E436,'Ark1'!$C$2:$D$11,2,FALSE)","v":3},434,80,{"$f":"VLOOKUP(H436,'Ark1'!$C$2:$D$12,2,FALSE)","v":5}]
[435,13,{"$f":"VLOOKUP(B437,'Ark1'!C$2:D$11,2,FALSE)","v":0},435,50,{"$f":"VLOOKUP(E437,'Ark1'!$C$2:$D$11,2,FALSE)","v":3},435,80,{"$f":"VLOOKUP(H437,'Ark1'!$C$2:$D$12,2,FALSE)","v":5}]
[436,13,{"$f":"VLOOKUP(B438,'Ark1'!C$2:D$11,2,FALSE)","v":0},436,50,{"$f":"VLOOKUP(E438,'Ark1'!$C$2:$D$11,2,FALSE)","v":3},436,80,{"$f":"VLOOKUP(H438,'Ark1'!$C$2:$D$12,2,FALSE)","v":5}]
[437,13,{"$f":"VLOOKUP(B439,'Ark1'!C$2:D$11,2,FALSE)","v":0},437,50,{"$f":"VLOOKUP(E439,'Ark1'!$C$2:$D$11,2,FALSE)","v":3},437,80,{"$f":"VLOOKUP(H439,'Ark1'!$C$2:$D$12,2,FALSE)","v":5}]
[438,13,{"$f":"VLOOKUP(B440,'Ark1'!C$2:D$11,2,FALSE)","v":0},438,50,{"$f":"VLOOKUP(E440,'Ark1'!$C$2:$D$11,2,FALSE)","v":3},438,80,{"$f":"VLOOKUP(H440,'Ark1'!$C$2:$D$12,2,FALSE)","v":5}]
[439,13,{"$f":"VLOOKUP(B441,'Ark1'!C$2:D$11,2,FALSE)","v":0},439,50,{"$f":"VLOOKUP(E441,'Ark1'!$C$2:$D$11,2,FALSE)","v":3},439,80,{"$f":"VLOOKUP(H441,'Ark1'!$C$2:$D$12,2,FALSE)","v":5}]
[440,13,{"$f":"VLOOKUP(B442,'Ark1'!C$2:D$11,2,FALSE)","v":0},440,50,{"$f":"VLOOKUP(E442,'Ark1'!$C$2:$D$11,2,FALSE)","v":3},440,80,{"$f":"VLOOKUP(H442,'Ark1'!$C$2:$D$12,2,FALSE)","v":5}]
[441,13,{"$f":"VLOOKUP(B443,'Ark1'!C$2:D$11,2,FALSE)","v":0},441,50,{"$f":"VLOOKUP(E443,'Ark1'!$C$2:$D$11,2,FALSE)","v":3},441,80,{"$f":"VLOOKUP(H443,'Ark1'!$C$2:$D$12,2,FALSE)","v":5}]
[442,13,{"$f":"VLOOKUP(B444,'Ark1'!C$2:D$11,2,FALSE)","v":0},442,50,{"$f":"VLOOKUP(E444,'Ark1'!$C$2:$D$11,2,FALSE)","v":3},442,80,{"$f":"VLOOKUP(H444,'Ark1'!$C$2:$D$12,2,FALSE)","v":5}]
[443,13,{"$f":"VLOOKUP(B445,'Ark1'!C$2:D$11,2,FALSE)","v":0},443,50,{"$f":"VLOOKUP(E445,'Ark1'!$C$2:$D$11,2,FALSE)","v":3},443,80,{"$f":"VLOOKUP(H445,'Ark1'!$C$2:$D$12,2,FALSE)","v":5}]
[444,13,{"$f":"VLOOKUP(B446,'Ark1'!C$2:D$11,2,FALSE)","v":0},444,50,{"$f":"VLOOKUP(E446,'Ark1'!$C$2:$D$11,2,FALSE)","v":3},444,80,{"$f":"VLOOKUP(H446,'Ark1'!$C$2:$D$12,2,FALSE)","v":5}]
[445,13,{"$f":"VLOOKUP(B447,'Ark1'!C$2:D$11,2,FALSE)","v":0},445,50,{"$f":"VLOOKUP(E447,'Ark1'!$C$2:$D$11,2,FALSE)","v":3},445,80,{"$f":"VLOOKUP(H447,'Ark1'!$C$2:$D$12,2,FALSE)","v":5}]
[446,13,{"$f":"VLOOKUP(B448,'Ark1'!C$2:D$11,2,FALSE)","v":0},446,50,{"$f":"VLOOKUP(E448,'Ark1'!$C$2:$D$11,2,FALSE)","v":3},446,80,{"$f":"VLOOKUP(H448,'Ark1'!$C$2:$D$12,2,FALSE)","v":5}]
[447,13,{"$f":"VLOOKUP(B449,'Ark1'!C$2:D$11,2,FALSE)","v":0},447,50,{"$f":"VLOOKUP(E449,'Ark1'!$C$2:$D$11,2,FALSE)","v":3},447,80,{"$f":"VLOOKUP(H449,'Ark1'!$C$2:$D$12,2,FALSE)","v":5}]
[448,13,{"$f":"VLOOKUP(B450,'Ark1'!C$2:D$11,2,FALSE)","v":0},448,50,{"$f":"VLOOKUP(E450,'Ark1'!$C$2:$D$11,2,FALSE)","v":3},448,80,{"$f":"VLOOKUP(H450,'Ark1'!$C$2:$D$12,2,FALSE)","v":5}]
[449,13,{"$f":"VLOOKUP(B451,'Ark1'!C$2:D$11,2,FALSE)","v":0},449,50,{"$f":"VLOOKUP(E451,'Ark1'!$C$2:$D$11,2,FALSE)","v":3},449,80,{"$f":"VLOOKUP(H451,'Ark1'!$C$2:$D$12,2,FALSE)","v":5}]
[450,13,{"$f":"VLOOKUP(B452,'Ark1'!C$2:D$11,2,FALSE)","v":0},450,50,{"$f":"VLOOKUP(E452,'Ark1'!$C$2:$D$11,2,FALSE)","v":3},450,80,{"$f":"VLOOKUP(H452,'Ark1'!$C$2:$D$12,2,FALSE)","v":5}]
[451,13,{"$f":"VLOOKUP(B453,'Ark1'!C$2:D$11,2,FALSE)","v":0},451,50,{"$f":"VLOOKUP(E453,'Ark1'!$C$2:$D$11,2,FALSE)","v":3},451,80,{"$f":"VLOOKUP(H453,'Ark1'!$C$2:$D$12,2,FALSE)","v":5}]
[452,13,{"$f":"VLOOKUP(B454,'Ark1'!C$2:D$11,2,FALSE)","v":0},452,50,{"$f":"VLOOKUP(E454,'Ark1'!$C$2:$D$11,2,FALSE)","v":3},452,80,{"$f":"VLOOKUP(H454,'Ark1'!$C$2:$D$12,2,FALSE)","v":5}]
[453,13,{"$f":"VLOOKUP(B455,'Ark1'!C$2:D$11,2,FALSE)","v":0},453,50,{"$f":"VLOOKUP(E455,'Ark1'!$C$2:$D$11,2,FALSE)","v":3},453,80,{"$f":"VLOOKUP(H455,'Ark1'!$C$2:$D$12,2,FALSE)","v":5}]
[454,13,{"$f":"VLOOKUP(B456,'Ark1'!C$2:D$11,2,FALSE)","v":0},454,50,{"$f":"VLOOKUP(E456,'Ark1'!$C$2:$D$11,2,FALSE)","v":3},454,80,{"$f":"VLOOKUP(H456,'Ark1'!$C$2:$D$12,2,FALSE)","v":5}]
[455,13,{"$f":"VLOOKUP(B457,'Ark1'!C$2:D$11,2,FALSE)","v":0},455,50,{"$f":"VLOOKUP(E457,'Ark1'!$C$2:$D$11,2,FALSE)","v":3},455,80,{"$f":"VLOOKUP(H457,'Ark1'!$C$2:$D$12,2,FALSE)","v":5}]
[456,13,{"$f":"VLOOKUP(B458,'Ark1'!C$2:D$11,2,FALSE)","v":0},456,50,{"$f":"VLOOKUP(E458,'Ark1'!$C$2:$D$11,2,FALSE)","v":3},456,80,{"$f":"VLOOKUP(H458,'Ark1'!$C$2:$D$12,2,FALSE)","v":5}]
[457,13,{"$f":"VLOOKUP(B459,'Ark1'!C$2:D$11,2,FALSE)","v":0},457,50,{"$f":"VLOOKUP(E459,'Ark1'!$C$2:$D$11,2,FALSE)","v":3},457,80,{"$f":"VLOOKUP(H459,'Ark1'!$C$2:$D$12,2,FALSE)","v":5}]
[458,13,{"$f":"VLOOKUP(B460,'Ark1'!C$2:D$11,2,FALSE)","v":0},458,50,{"$f":"VLOOKUP(E460,'Ark1'!$C$2:$D$11,2,FALSE)","v":3},458,80,{"$f":"VLOOKUP(H460,'Ark1'!$C$2:$D$12,2,FALSE)","v":5}]
[459,13,{"$f":"VLOOKUP(B461,'Ark1'!C$2:D$11,2,FALSE)","v":0},459,50,{"$f":"VLOOKUP(E461,'Ark1'!$C$2:$D$11,2,FALSE)","v":3},459,80,{"$f":"VLOOKUP(H461,'Ark1'!$C$2:$D$12,2,FALSE)","v":5}]
[460,13,{"$f":"VLOOKUP(B462,'Ark1'!C$2:D$11,2,FALSE)","v":0},460,50,{"$f":"VLOOKUP(E462,'Ark1'!$C$2:$D$11,2,FALSE)","v":3},460,80,{"$f":"VLOOKUP(H462,'Ark1'!$C$2:$D$12,2,FALSE)","v":5}]
[461,13,{"$f":"VLOOKUP(B463,'Ark1'!C$2:D$11,2,FALSE)","v":0},461,50,{"$f":"VLOOKUP(E463,'Ark1'!$C$2:$D$11,2,FALSE)","v":3},461,80,{"$f":"VLOOKUP(H463,'Ark1'!$C$2:$D$12,2,FALSE)","v":5}]
[462,13,{"$f":"VLOOKUP(B464,'Ark1'!C$2:D$11,2,FALSE)","v":0},462,50,{"$f":"VLOOKUP(E464,'Ark1'!$C$2:$D$11,2,FALSE)","v":3},462,80,{"$f":"VLOOKUP(H464,'Ark1'!$C$2:$D$12,2,FALSE)","v":5}]
[463,13,{"$f":"VLOOKUP(B465,'Ark1'!C$2:D$11,2,FALSE)","v":0},463,50,{"$f":"VLOOKUP(E465,'Ark1'!$C$2:$D$11,2,FALSE)","v":3},463,80,{"$f":"VLOOKUP(H465,'Ark1'!$C$2:$D$12,2,FALSE)","v":5}]
[464,13,{"$f":"VLOOKUP(B466,'Ark1'!C$2:D$11,2,FALSE)","v":0},464,50,{"$f":"VLOOKUP(E466,'Ark1'!$C$2:$D$11,2,FALSE)","v":3},464,80,{"$f":"VLOOKUP(H466,'Ark1'!$C$2:$D$12,2,FALSE)","v":5}]
[465,13,{"$f":"VLOOKUP(B467,'Ark1'!C$2:D$11,2,FALSE)","v":0},465,50,{"$f":"VLOOKUP(E467,'Ark1'!$C$2:$D$11,2,FALSE)","v":3},465,80,{"$f":"VLOOKUP(H467,'Ark1'!$C$2:$D$12,2,FALSE)","v":5}]
[466,13,{"$f":"VLOOKUP(B468,'Ark1'!C$2:D$11,2,FALSE)","v":0},466,50,{"$f":"VLOOKUP(E468,'Ark1'!$C$2:$D$11,2,FALSE)","v":3},466,80,{"$f":"VLOOKUP(H468,'Ark1'!$C$2:$D$12,2,FALSE)","v":5}]
[467,13,{"$f":"VLOOKUP(B469,'Ark1'!C$2:D$11,2,FALSE)","v":0},467,50,{"$f":"VLOOKUP(E469,'Ark1'!$C$2:$D$11,2,FALSE)","v":3},467,80,{"$f":"VLOOKUP(H469,'Ark1'!$C$2:$D$12,2,FALSE)","v":5}]
[468,13,{"$f":"VLOOKUP(B470,'Ark1'!C$2:D$11,2,FALSE)","v":0},468,50,{"$f":"VLOOKUP(E470,'Ark1'!$C$2:$D$11,2,FALSE)","v":3},468,80,{"$f":"VLOOKUP(H470,'Ark1'!$C$2:$D$12,2,FALSE)","v":5}]
[469,13,{"$f":"VLOOKUP(B471,'Ark1'!C$2:D$11,2,FALSE)","v":0},469,50,{"$f":"VLOOKUP(E471,'Ark1'!$C$2:$D$11,2,FALSE)","v":3},469,80,{"$f":"VLOOKUP(H471,'Ark1'!$C$2:$D$12,2,FALSE)","v":5}]
[470,13,{"$f":"VLOOKUP(B472,'Ark1'!C$2:D$11,2,FALSE)","v":0},470,50,{"$f":"VLOOKUP(E472,'Ark1'!$C$2:$D$11,2,FALSE)","v":3},470,80,{"$f":"VLOOKUP(H472,'Ark1'!$C$2:$D$12,2,FALSE)","v":5}]
[471,13,{"$f":"VLOOKUP(B473,'Ark1'!C$2:D$11,2,FALSE)","v":0},471,50,{"$f":"VLOOKUP(E473,'Ark1'!$C$2:$D$11,2,FALSE)","v":3},471,80,{"$f":"VLOOKUP(H473,'Ark1'!$C$2:$D$12,2,FALSE)","v":5}]
[472,13,{"$f":"VLOOKUP(B474,'Ark1'!C$2:D$11,2,FALSE)","v":0},472,50,{"$f":"VLOOKUP(E474,'Ark1'!$C$2:$D$11,2,FALSE)","v":3},472,80,{"$f":"VLOOKUP(H474,'Ark1'!$C$2:$D$12,2,FALSE)","v":5}]
[473,13,{"$f":"VLOOKUP(B475,'Ark1'!C$2:D$11,2,FALSE)","v":0},473,50,{"$f":"VLOOKUP(E475,'Ark1'!$C$2:$D$11,2,FALSE)","v":3},473,80,{"$f":"VLOOKUP(H475,'Ark1'!$C$2:$D$12,2,FALSE)","v":5}]
[474,13,{"$f":"VLOOKUP(B476,'Ark1'!C$2:D$11,2,FALSE)","v":0},474,50,{"$f":"VLOOKUP(E476,'Ark1'!$C$2:$D$11,2,FALSE)","v":3},474,80,{"$f":"VLOOKUP(H476,'Ark1'!$C$2:$D$12,2,FALSE)","v":5}]
[475,13,{"$f":"VLOOKUP(B477,'Ark1'!C$2:D$11,2,FALSE)","v":0},475,50,{"$f":"VLOOKUP(E477,'Ark1'!$C$2:$D$11,2,FALSE)","v":3},475,80,{"$f":"VLOOKUP(H477,'Ark1'!$C$2:$D$12,2,FALSE)","v":5}]
[476,13,{"$f":"VLOOKUP(B478,'Ark1'!C$2:D$11,2,FALSE)","v":0},476,50,{"$f":"VLOOKUP(E478,'Ark1'!$C$2:$D$11,2,FALSE)","v":3},476,80,{"$f":"VLOOKUP(H478,'Ark1'!$C$2:$D$12,2,FALSE)","v":5}]
[477,13,{"$f":"VLOOKUP(B479,'Ark1'!C$2:D$11,2,FALSE)","v":0},477,50,{"$f":"VLOOKUP(E479,'Ark1'!$C$2:$D$11,2,FALSE)","v":3},477,80,{"$f":"VLOOKUP(H479,'Ark1'!$C$2:$D$12,2,FALSE)","v":5}]
[478,13,{"$f":"VLOOKUP(B480,'Ark1'!C$2:D$11,2,FALSE)","v":0},478,50,{"$f":"VLOOKUP(E480,'Ark1'!$C$2:$D$11,2,FALSE)","v":3},478,80,{"$f":"VLOOKUP(H480,'Ark1'!$C$2:$D$12,2,FALSE)","v":5}]
[479,13,{"$f":"VLOOKUP(B481,'Ark1'!C$2:D$11,2,FALSE)","v":0},479,50,{"$f":"VLOOKUP(E481,'Ark1'!$C$2:$D$11,2,FALSE)","v":3},479,80,{"$f":"VLOOKUP(H481,'Ark1'!$C$2:$D$12,2,FALSE)","v":5}]
[480,13,{"$f":"VLOOKUP(B482,'Ark1'!C$2:D$11,2,FALSE)","v":0},480,50,{"$f":"VLOOKUP(E482,'Ark1'!$C$2:$D$11,2,FALSE)","v":3},480,80,{"$f":"VLOOKUP(H482,'Ark1'!$C$2:$D$12,2,FALSE)","v":5}]
[481,13,{"$f":"VLOOKUP(B483,'Ark1'!C$2:D$11,2,FALSE)","v":0},481,50,{"$f":"VLOOKUP(E483,'Ark1'!$C$2:$D$11,2,FALSE)","v":3},481,80,{"$f":"VLOOKUP(H483,'Ark1'!$C$2:$D$12,2,FALSE)","v":5}]
[482,13,{"$f":"VLOOKUP(B484,'Ark1'!C$2:D$11,2,FALSE)","v":0},482,50,{"$f":"VLOOKUP(E484,'Ark1'!$C$2:$D$11,2,FALSE)","v":3},482,80,{"$f":"VLOOKUP(H484,'Ark1'!$C$2:$D$12,2,FALSE)","v":5}]
[483,13,{"$f":"VLOOKUP(B485,'Ark1'!C$2:D$11,2,FALSE)","v":0},483,50,{"$f":"VLOOKUP(E485,'Ark1'!$C$2:$D$11,2,FALSE)","v":3},483,80,{"$f":"VLOOKUP(H485,'Ark1'!$C$2:$D$12,2,FALSE)","v":5}]
[484,13,{"$f":"VLOOKUP(B486,'Ark1'!C$2:D$11,2,FALSE)","v":0},484,50,{"$f":"VLOOKUP(E486,'Ark1'!$C$2:$D$11,2,FALSE)","v":3},484,80,{"$f":"VLOOKUP(H486,'Ark1'!$C$2:$D$12,2,FALSE)","v":5}]
[485,13,{"$f":"VLOOKUP(B487,'Ark1'!C$2:D$11,2,FALSE)","v":0},485,50,{"$f":"VLOOKUP(E487,'Ark1'!$C$2:$D$11,2,FALSE)","v":3},485,80,{"$f":"VLOOKUP(H487,'Ark1'!$C$2:$D$12,2,FALSE)","v":5}]
[486,13,{"$f":"VLOOKUP(B488,'Ark1'!C$2:D$11,2,FALSE)","v":0},486,50,{"$f":"VLOOKUP(E488,'Ark1'!$C$2:$D$11,2,FALSE)","v":3},486,80,{"$f":"VLOOKUP(H488,'Ark1'!$C$2:$D$12,2,FALSE)","v":5}]
[487,13,{"$f":"VLOOKUP(B489,'Ark1'!C$2:D$11,2,FALSE)","v":0},487,50,{"$f":"VLOOKUP(E489,'Ark1'!$C$2:$D$11,2,FALSE)","v":3},487,80,{"$f":"VLOOKUP(H489,'Ark1'!$C$2:$D$12,2,FALSE)","v":5}]
[488,13,{"$f":"VLOOKUP(B490,'Ark1'!C$2:D$11,2,FALSE)","v":0},488,50,{"$f":"VLOOKUP(E490,'Ark1'!$C$2:$D$11,2,FALSE)","v":3},488,80,{"$f":"VLOOKUP(H490,'Ark1'!$C$2:$D$12,2,FALSE)","v":5}]
[489,13,{"$f":"VLOOKUP(B491,'Ark1'!C$2:D$11,2,FALSE)","v":0},489,50,{"$f":"VLOOKUP(E491,'Ark1'!$C$2:$D$11,2,FALSE)","v":3},489,80,{"$f":"VLOOKUP(H491,'Ark1'!$C$2:$D$12,2,FALSE)","v":5}]
[490,13,{"$f":"VLOOKUP(B492,'Ark1'!C$2:D$11,2,FALSE)","v":0},490,50,{"$f":"VLOOKUP(E492,'Ark1'!$C$2:$D$11,2,FALSE)","v":3},490,80,{"$f":"VLOOKUP(H492,'Ark1'!$C$2:$D$12,2,FALSE)","v":5}]
[491,13,{"$f":"VLOOKUP(B493,'Ark1'!C$2:D$11,2,FALSE)","v":0},491,50,{"$f":"VLOOKUP(E493,'Ark1'!$C$2:$D$11,2,FALSE)","v":3},491,80,{"$f":"VLOOKUP(H493,'Ark1'!$C$2:$D$12,2,FALSE)","v":5}]
[492,13,{"$f":"VLOOKUP(B494,'Ark1'!C$2:D$11,2,FALSE)","v":0},492,50,{"$f":"VLOOKUP(E494,'Ark1'!$C$2:$D$11,2,FALSE)","v":3},492,80,{"$f":"VLOOKUP(H494,'Ark1'!$C$2:$D$12,2,FALSE)","v":5}]
[493,13,{"$f":"VLOOKUP(B495,'Ark1'!C$2:D$11,2,FALSE)","v":0},493,50,{"$f":"VLOOKUP(E495,'Ark1'!$C$2:$D$11,2,FALSE)","v":3},493,80,{"$f":"VLOOKUP(H495,'Ark1'!$C$2:$D$12,2,FALSE)","v":5}]
[494,13,{"$f":"VLOOKUP(B496,'Ark1'!C$2:D$11,2,FALSE)","v":0},494,50,{"$f":"VLOOKUP(E496,'Ark1'!$C$2:$D$11,2,FALSE)","v":3},494,80,{"$f":"VLOOKUP(H496,'Ark1'!$C$2:$D$12,2,FALSE)","v":5}]
[495,13,{"$f":"VLOOKUP(B497,'Ark1'!C$2:D$11,2,FALSE)","v":0},495,50,{"$f":"VLOOKUP(E497,'Ark1'!$C$2:$D$11,2,FALSE)","v":3},495,80,{"$f":"VLOOKUP(H497,'Ark1'!$C$2:$D$12,2,FALSE)","v":5}]
[496,13,{"$f":"VLOOKUP(B498,'Ark1'!C$2:D$11,2,FALSE)","v":0},496,50,{"$f":"VLOOKUP(E498,'Ark1'!$C$2:$D$11,2,FALSE)","v":3},496,80,{"$f":"VLOOKUP(H498,'Ark1'!$C$2:$D$12,2,FALSE)","v":5}]
[497,13,{"$f":"VLOOKUP(B499,'Ark1'!C$2:D$11,2,FALSE)","v":0},497,50,{"$f":"VLOOKUP(E499,'Ark1'!$C$2:$D$11,2,FALSE)","v":3},497,80,{"$f":"VLOOKUP(H499,'Ark1'!$C$2:$D$12,2,FALSE)","v":5}]
[498,13,{"$f":"VLOOKUP(B500,'Ark1'!C$2:D$11,2,FALSE)","v":0},498,50,{"$f":"VLOOKUP(E500,'Ark1'!$C$2:$D$11,2,FALSE)","v":3},498,80,{"$f":"VLOOKUP(H500,'Ark1'!$C$2:$D$12,2,FALSE)","v":5}]
[499,13,{"$f":"VLOOKUP(B501,'Ark1'!C$2:D$11,2,FALSE)","v":0},499,50,{"$f":"VLOOKUP(E501,'Ark1'!$C$2:$D$11,2,FALSE)","v":3},499,80,{"$f":"VLOOKUP(H501,'Ark1'!$C$2:$D$12,2,FALSE)","v":5}]
[500,13,{"$f":"VLOOKUP(B502,'Ark1'!C$2:D$11,2,FALSE)","v":0},500,50,{"$f":"VLOOKUP(E502,'Ark1'!$C$2:$D$11,2,FALSE)","v":3},500,80,{"$f":"VLOOKUP(H502,'Ark1'!$C$2:$D$12,2,FALSE)","v":5}]
[501,20,{"$f":"VLOOKUP(B503,'Ark1'!C$2:D$11,2,FALSE)","v":1},501,80,{"$f":"VLOOKUP(E503,'Ark1'!$C$2:$D$11,2,FALSE)","v":5},501,125,{"$f":"VLOOKUP(H503,'Ark1'!$C$2:$D$12,2,FALSE)","v":5}]
[502,20,{"$f":"VLOOKUP(B504,'Ark1'!C$2:D$11,2,FALSE)","v":1},502,80,{"$f":"VLOOKUP(E504,'Ark1'!$C$2:$D$11,2,FALSE)","v":5},502,125,{"$f":"VLOOKUP(H504,'Ark1'!$C$2:$D$12,2,FALSE)","v":5}]
[503,20,{"$f":"VLOOKUP(B505,'Ark1'!C$2:D$11,2,FALSE)","v":1},503,80,{"$f":"VLOOKUP(E505,'Ark1'!$C$2:$D$11,2,FALSE)","v":5},503,125,{"$f":"VLOOKUP(H505,'Ark1'!$C$2:$D$12,2,FALSE)","v":5}]
[504,20,{"$f":"VLOOKUP(B506,'Ark1'!C$2:D$11,2,FALSE)","v":1},504,80,{"$f":"VLOOKUP(E506,'Ark1'!$C$2:$D$11,2,FALSE)","v":5},504,125,{"$f":"VLOOKUP(H506,'Ark1'!$C$2:$D$12,2,FALSE)","v":5}]
[505,20,{"$f":"VLOOKUP(B507,'Ark1'!C$2:D$11,2,FALSE)","v":1},505,80,{"$f":"VLOOKUP(E507,'Ark1'!$C$2:$D$11,2,FALSE)","v":5},505,125,{"$f":"VLOOKUP(H507,'Ark1'!$C$2:$D$12,2,FALSE)","v":5}]
[506,20,{"$f":"VLOOKUP(B508,'Ark1'!C$2:D$11,2,FALSE)","v":1},506,80,{"$f":"VLOOKUP(E508,'Ark1'!$C$2:$D$11,2,FALSE)","v":5},506,125,{"$f":"VLOOKUP(H508,'Ark1'!$C$2:$D$12,2,FALSE)","v":5}]
[507,20,{"$f":"VLOOKUP(B509,'Ark1'!C$2:D$11,2,FALSE)","v":1},507,80,{"$f":"VLOOKUP(E509,'Ark1'!$C$2:$D$11,2,FALSE)","v":5},507,125,{"$f":"VLOOKUP(H509,'Ark1'!$C$2:$D$12,2,FALSE)","v":5}]
[508,20,{"$f":"VLOOKUP(B510,'Ark1'!C$2:D$11,2,FALSE)","v":1},508,80,{"$f":"VLOOKUP(E510,'Ark1'!$C$2:$D$11,2,FALSE)","v":5},508,125,{"$f":"VLOOKUP(H510,'Ark1'!$C$2:$D$12,2,FALSE)","v":5}]
[509,20,{"$f":"VLOOKUP(B511,'Ark1'!C$2:D$11,2,FALSE)","v":1},509,80,{"$f":"VLOOKUP(E511,'Ark1'!$C$2:$D$11,2,FALSE)","v":5},509,125,{"$f":"VLOOKUP(H511,'Ark1'!$C$2:$D$12,2,FALSE)","v":5}]
[510,20,{"$f":"VLOOKUP(B512,'Ark1'!C$2:D$11,2,FALSE)","v":1},510,80,{"$f":"VLOOKUP(E512,'Ark1'!$C$2:$D$11,2,FALSE)","v":5},510,125,{"$f":"VLOOKUP(H512,'Ark1'!$C$2:$D$12,2,FALSE)","v":5}]
[511,20,{"$f":"VLOOKUP(B513,'Ark1'!C$2:D$11,2,FALSE)","v":1},511,80,{"$f":"VLOOKUP(E513,'Ark1'!$C$2:$D$11,2,FALSE)","v":5},511,125,{"$f":"VLOOKUP(H513,'Ark1'!$C$2:$D$12,2,FALSE)","v":5}]
[512,20,{"$f":"VLOOKUP(B514,'Ark1'!C$2:D$11,2,FALSE)","v":1},512,80,{"$f":"VLOOKUP(E514,'Ark1'!$C$2:$D$11,2,FALSE)","v":5},512,125,{"$f":"VLOOKUP(H514,'Ark1'!$C$2:$D$12,2,FALSE)","v":5}]
[513,20,{"$f":"VLOOKUP(B515,'Ark1'!C$2:D$11,2,FALSE)","v":1},513,80,{"$f":"VLOOKUP(E515,'Ark1'!$C$2:$D$11,2,FALSE)","v":5},513,125,{"$f":"VLOOKUP(H515,'Ark1'!$C$2:$D$12,2,FALSE)","v":5}]
[514,20,{"$f":"VLOOKUP(B516,'Ark1'!C$2:D$11,2,FALSE)","v":1},514,80,{"$f":"VLOOKUP(E516,'Ark1'!$C$2:$D$11,2,FALSE)","v":5},514,125,{"$f":"VLOOKUP(H516,'Ark1'!$C$2:$D$12,2,FALSE)","v":5}]
[515,20,{"$f":"VLOOKUP(B517,'Ark1'!C$2:D$11,2,FALSE)","v":1},515,80,{"$f":"VLOOKUP(E517,'Ark1'!$C$2:$D$11,2,FALSE)","v":5},515,125,{"$f":"VLOOKUP(H517,'Ark1'!$C$2:$D$12,2,FALSE)","v":5}]
[516,20,{"$f":"VLOOKUP(B518,'Ark1'!C$2:D$11,2,FALSE)","v":1},516,80,{"$f":"VLOOKUP(E518,'Ark1'!$C$2:$D$11,2,FALSE)","v":5},516,125,{"$f":"VLOOKUP(H518,'Ark1'!$C$2:$D$12,2,FALSE)","v":5}]
[517,20,{"$f":"VLOOKUP(B519,'Ark1'!C$2:D$11,2,FALSE)","v":1},517,80,{"$f":"VLOOKUP(E519,'Ark1'!$C$2:$D$11,2,FALSE)","v":5},517,125,{"$f":"VLOOKUP(H519,'Ark1'!$C$2:$D$12,2,FALSE)","v":5}]
[518,20,{"$f":"VLOOKUP(B520,'Ark1'!C$2:D$11,2,FALSE)","v":1},518,80,{"$f":"VLOOKUP(E520,'Ark1'!$C$2:$D$11,2,FALSE)","v":5},518,125,{"$f":"VLOOKUP(H520,'Ark1'!$C$2:$D$12,2,FALSE)","v":5}]
[519,20,{"$f":"VLOOKUP(B521,'Ark1'!C$2:D$11,2,FALSE)","v":1},519,80,{"$f":"VLOOKUP(E521,'Ark1'!$C$2:$D$11,2,FALSE)","v":5},519,125,{"$f":"VLOOKUP(H521,'Ark1'!$C$2:$D$12,2,FALSE)","v":5}]
[520,20,{"$f":"VLOOKUP(B522,'Ark1'!C$2:D$11,2,FALSE)","v":1},520,80,{"$f":"VLOOKUP(E522,'Ark1'!$C$2:$D$11,2,FALSE)","v":5},520,125,{"$f":"VLOOKUP(H522,'Ark1'!$C$2:$D$12,2,FALSE)","v":5}]
[521,20,{"$f":"VLOOKUP(B523,'Ark1'!C$2:D$11,2,FALSE)","v":1},521,80,{"$f":"VLOOKUP(E523,'Ark1'!$C$2:$D$11,2,FALSE)","v":5},521,125,{"$f":"VLOOKUP(H523,'Ark1'!$C$2:$D$12,2,FALSE)","v":5}]
[522,20,{"$f":"VLOOKUP(B524,'Ark1'!C$2:D$11,2,FALSE)","v":1},522,80,{"$f":"VLOOKUP(E524,'Ark1'!$C$2:$D$11,2,FALSE)","v":5},522,125,{"$f":"VLOOKUP(H524,'Ark1'!$C$2:$D$12,2,FALSE)","v":5}]
[523,20,{"$f":"VLOOKUP(B525,'Ark1'!C$2:D$11,2,FALSE)","v":1},523,80,{"$f":"VLOOKUP(E525,'Ark1'!$C$2:$D$11,2,FALSE)","v":5},523,125,{"$f":"VLOOKUP(H525,'Ark1'!$C$2:$D$12,2,FALSE)","v":5}]
[524,20,{"$f":"VLOOKUP(B526,'Ark1'!C$2:D$11,2,FALSE)","v":1},524,80,{"$f":"VLOOKUP(E526,'Ark1'!$C$2:$D$11,2,FALSE)","v":5},524,125,{"$f":"VLOOKUP(H526,'Ark1'!$C$2:$D$12,2,FALSE)","v":5}]
[525,20,{"$f":"VLOOKUP(B527,'Ark1'!C$2:D$11,2,FALSE)","v":1},525,80,{"$f":"VLOOKUP(E527,'Ark1'!$C$2:$D$11,2,FALSE)","v":5},525,125,{"$f":"VLOOKUP(H527,'Ark1'!$C$2:$D$12,2,FALSE)","v":5}]
[526,20,{"$f":"VLOOKUP(B528,'Ark1'!C$2:D$11,2,FALSE)","v":1},526,80,{"$f":"VLOOKUP(E528,'Ark1'!$C$2:$D$11,2,FALSE)","v":5},526,125,{"$f":"VLOOKUP(H528,'Ark1'!$C$2:$D$12,2,FALSE)","v":5}]
[527,20,{"$f":"VLOOKUP(B529,'Ark1'!C$2:D$11,2,FALSE)","v":1},527,80,{"$f":"VLOOKUP(E529,'Ark1'!$C$2:$D$11,2,FALSE)","v":5},527,125,{"$f":"VLOOKUP(H529,'Ark1'!$C$2:$D$12,2,FALSE)","v":5}]
[528,20,{"$f":"VLOOKUP(B530,'Ark1'!C$2:D$11,2,FALSE)","v":1},528,80,{"$f":"VLOOKUP(E530,'Ark1'!$C$2:$D$11,2,FALSE)","v":5},528,125,{"$f":"VLOOKUP(H530,'Ark1'!$C$2:$D$12,2,FALSE)","v":5}]
[529,20,{"$f":"VLOOKUP(B531,'Ark1'!C$2:D$11,2,FALSE)","v":1},529,80,{"$f":"VLOOKUP(E531,'Ark1'!$C$2:$D$11,2,FALSE)","v":5},529,125,{"$f":"VLOOKUP(H531,'Ark1'!$C$2:$D$12,2,FALSE)","v":5}]
[530,20,{"$f":"VLOOKUP(B532,'Ark1'!C$2:D$11,2,FALSE)","v":1},530,80,{"$f":"VLOOKUP(E532,'Ark1'!$C$2:$D$11,2,FALSE)","v":5},530,125,{"$f":"VLOOKUP(H532,'Ark1'!$C$2:$D$12,2,FALSE)","v":5}]
[531,20,{"$f":"VLOOKUP(B533,'Ark1'!C$2:D$11,2,FALSE)","v":1},531,80,{"$f":"VLOOKUP(E533,'Ark1'!$C$2:$D$11,2,FALSE)","v":5},531,125,{"$f":"VLOOKUP(H533,'Ark1'!$C$2:$D$12,2,FALSE)","v":5}]
[532,20,{"$f":"VLOOKUP(B534,'Ark1'!C$2:D$11,2,FALSE)","v":1},532,80,{"$f":"VLOOKUP(E534,'Ark1'!$C$2:$D$11,2,FALSE)","v":5},532,125,{"$f":"VLOOKUP(H534,'Ark1'!$C$2:$D$12,2,FALSE)","v":5}]
[533,20,{"$f":"VLOOKUP(B535,'Ark1'!C$2:D$11,2,FALSE)","v":1},533,80,{"$f":"VLOOKUP(E535,'Ark1'!$C$2:$D$11,2,FALSE)","v":5},533,125,{"$f":"VLOOKUP(H535,'Ark1'!$C$2:$D$12,2,FALSE)","v":5}]
[534,20,{"$f":"VLOOKUP(B536,'Ark1'!C$2:D$11,2,FALSE)","v":1},534,80,{"$f":"VLOOKUP(E536,'Ark1'!$C$2:$D$11,2,FALSE)","v":5},534,125,{"$f":"VLOOKUP(H536,'Ark1'!$C$2:$D$12,2,FALSE)","v":5}]
[535,20,{"$f":"VLOOKUP(B537,'Ark1'!C$2:D$11,2,FALSE)","v":1},535,80,{"$f":"VLOOKUP(E537,'Ark1'!$C$2:$D$11,2,FALSE)","v":5},535,125,{"$f":"VLOOKUP(H537,'Ark1'!$C$2:$D$12,2,FALSE)","v":5}]
[536,20,{"$f":"VLOOKUP(B538,'Ark1'!C$2:D$11,2,FALSE)","v":1},536,80,{"$f":"VLOOKUP(E538,'Ark1'!$C$2:$D$11,2,FALSE)","v":5},536,125,{"$f":"VLOOKUP(H538,'Ark1'!$C$2:$D$12,2,FALSE)","v":5}]
[537,20,{"$f":"VLOOKUP(B539,'Ark1'!C$2:D$11,2,FALSE)","v":1},537,80,{"$f":"VLOOKUP(E539,'Ark1'!$C$2:$D$11,2,FALSE)","v":5},537,125,{"$f":"VLOOKUP(H539,'Ark1'!$C$2:$D$12,2,FALSE)","v":5}]
[538,20,{"$f":"VLOOKUP(B540,'Ark1'!C$2:D$11,2,FALSE)","v":1},538,80,{"$f":"VLOOKUP(E540,'Ark1'!$C$2:$D$11,2,FALSE)","v":5},538,125,{"$f":"VLOOKUP(H540,'Ark1'!$C$2:$D$12,2,FALSE)","v":5}]
[539,20,{"$f":"VLOOKUP(B541,'Ark1'!C$2:D$11,2,FALSE)","v":1},539,80,{"$f":"VLOOKUP(E541,'Ark1'!$C$2:$D$11,2,FALSE)","v":5},539,125,{"$f":"VLOOKUP(H541,'Ark1'!$C$2:$D$12,2,FALSE)","v":5}]
[540,20,{"$f":"VLOOKUP(B542,'Ark1'!C$2:D$11,2,FALSE)","v":1},540,80,{"$f":"VLOOKUP(E542,'Ark1'!$C$2:$D$11,2,FALSE)","v":5},540,125,{"$f":"VLOOKUP(H542,'Ark1'!$C$2:$D$12,2,FALSE)","v":5}]
[541,20,{"$f":"VLOOKUP(B543,'Ark1'!C$2:D$11,2,FALSE)","v":1},541,80,{"$f":"VLOOKUP(E543,'Ark1'!$C$2:$D$11,2,FALSE)","v":5},541,125,{"$f":"VLOOKUP(H543,'Ark1'!$C$2:$D$12,2,FALSE)","v":5}]
[542,20,{"$f":"VLOOKUP(B544,'Ark1'!C$2:D$11,2,FALSE)","v":1},542,80,{"$f":"VLOOKUP(E544,'Ark1'!$C$2:$D$11,2,FALSE)","v":5},542,125,{"$f":"VLOOKUP(H544,'Ark1'!$C$2:$D$12,2,FALSE)","v":5}]
[543,20,{"$f":"VLOOKUP(B545,'Ark1'!C$2:D$11,2,FALSE)","v":1},543,80,{"$f":"VLOOKUP(E545,'Ark1'!$C$2:$D$11,2,FALSE)","v":5},543,125,{"$f":"VLOOKUP(H545,'Ark1'!$C$2:$D$12,2,FALSE)","v":5}]
[544,20,{"$f":"VLOOKUP(B546,'Ark1'!C$2:D$11,2,FALSE)","v":1},544,80,{"$f":"VLOOKUP(E546,'Ark1'!$C$2:$D$11,2,FALSE)","v":5},544,125,{"$f":"VLOOKUP(H546,'Ark1'!$C$2:$D$12,2,FALSE)","v":5}]
[545,20,{"$f":"VLOOKUP(B547,'Ark1'!C$2:D$11,2,FALSE)","v":1},545,80,{"$f":"VLOOKUP(E547,'Ark1'!$C$2:$D$11,2,FALSE)","v":5},545,125,{"$f":"VLOOKUP(H547,'Ark1'!$C$2:$D$12,2,FALSE)","v":5}]
[546,20,{"$f":"VLOOKUP(B548,'Ark1'!C$2:D$11,2,FALSE)","v":1},546,80,{"$f":"VLOOKUP(E548,'Ark1'!$C$2:$D$11,2,FALSE)","v":5},546,125,{"$f":"VLOOKUP(H548,'Ark1'!$C$2:$D$12,2,FALSE)","v":5}]
[547,20,{"$f":"VLOOKUP(B549,'Ark1'!C$2:D$11,2,FALSE)","v":1},547,80,{"$f":"VLOOKUP(E549,'Ark1'!$C$2:$D$11,2,FALSE)","v":5},547,125,{"$f":"VLOOKUP(H549,'Ark1'!$C$2:$D$12,2,FALSE)","v":5}]
[548,20,{"$f":"VLOOKUP(B550,'Ark1'!C$2:D$11,2,FALSE)","v":1},548,80,{"$f":"VLOOKUP(E550,'Ark1'!$C$2:$D$11,2,FALSE)","v":5},548,125,{"$f":"VLOOKUP(H550,'Ark1'!$C$2:$D$12,2,FALSE)","v":5}]
[549,20,{"$f":"VLOOKUP(B551,'Ark1'!C$2:D$11,2,FALSE)","v":1},549,80,{"$f":"VLOOKUP(E551,'Ark1'!$C$2:$D$11,2,FALSE)","v":5},549,125,{"$f":"VLOOKUP(H551,'Ark1'!$C$2:$D$12,2,FALSE)","v":5}]
[550,20,{"$f":"VLOOKUP(B552,'Ark1'!C$2:D$11,2,FALSE)","v":1},550,80,{"$f":"VLOOKUP(E552,'Ark1'!$C$2:$D$11,2,FALSE)","v":5},550,125,{"$f":"VLOOKUP(H552,'Ark1'!$C$2:$D$12,2,FALSE)","v":5}]
[551,20,{"$f":"VLOOKUP(B553,'Ark1'!C$2:D$11,2,FALSE)","v":1},551,80,{"$f":"VLOOKUP(E553,'Ark1'!$C$2:$D$11,2,FALSE)","v":5},551,125,{"$f":"VLOOKUP(H553,'Ark1'!$C$2:$D$12,2,FALSE)","v":5}]
[552,20,{"$f":"VLOOKUP(B554,'Ark1'!C$2:D$11,2,FALSE)","v":1},552,80,{"$f":"VLOOKUP(E554,'Ark1'!$C$2:$D$11,2,FALSE)","v":5},552,125,{"$f":"VLOOKUP(H554,'Ark1'!$C$2:$D$12,2,FALSE)","v":5}]
[553,20,{"$f":"VLOOKUP(B555,'Ark1'!C$2:D$11,2,FALSE)","v":1},553,80,{"$f":"VLOOKUP(E555,'Ark1'!$C$2:$D$11,2,FALSE)","v":5},553,125,{"$f":"VLOOKUP(H555,'Ark1'!$C$2:$D$12,2,FALSE)","v":5}]
[554,20,{"$f":"VLOOKUP(B556,'Ark1'!C$2:D$11,2,FALSE)","v":1},554,80,{"$f":"VLOOKUP(E556,'Ark1'!$C$2:$D$11,2,FALSE)","v":5},554,125,{"$f":"VLOOKUP(H556,'Ark1'!$C$2:$D$12,2,FALSE)","v":5}]
[555,20,{"$f":"VLOOKUP(B557,'Ark1'!C$2:D$11,2,FALSE)","v":1},555,80,{"$f":"VLOOKUP(E557,'Ark1'!$C$2:$D$11,2,FALSE)","v":5},555,125,{"$f":"VLOOKUP(H557,'Ark1'!$C$2:$D$12,2,FALSE)","v":5}]
[556,20,{"$f":"VLOOKUP(B558,'Ark1'!C$2:D$11,2,FALSE)","v":1},556,80,{"$f":"VLOOKUP(E558,'Ark1'!$C$2:$D$11,2,FALSE)","v":5},556,125,{"$f":"VLOOKUP(H558,'Ark1'!$C$2:$D$12,2,FALSE)","v":5}]
[557,20,{"$f":"VLOOKUP(B559,'Ark1'!C$2:D$11,2,FALSE)","v":1},557,80,{"$f":"VLOOKUP(E559,'Ark1'!$C$2:$D$11,2,FALSE)","v":5},557,125,{"$f":"VLOOKUP(H559,'Ark1'!$C$2:$D$12,2,FALSE)","v":5}]
[558,20,{"$f":"VLOOKUP(B560,'Ark1'!C$2:D$11,2,FALSE)","v":1},558,80,{"$f":"VLOOKUP(E560,'Ark1'!$C$2:$D$11,2,FALSE)","v":5},558,125,{"$f":"VLOOKUP(H560,'Ark1'!$C$2:$D$12,2,FALSE)","v":5}]
[559,20,{"$f":"VLOOKUP(B561,'Ark1'!C$2:D$11,2,FALSE)","v":1},559,80,{"$f":"VLOOKUP(E561,'Ark1'!$C$2:$D$11,2,FALSE)","v":5},559,125,{"$f":"VLOOKUP(H561,'Ark1'!$C$2:$D$12,2,FALSE)","v":5}]
[560,20,{"$f":"VLOOKUP(B562,'Ark1'!C$2:D$11,2,FALSE)","v":1},560,80,{"$f":"VLOOKUP(E562,'Ark1'!$C$2:$D$11,2,FALSE)","v":5},560,125,{"$f":"VLOOKUP(H562,'Ark1'!$C$2:$D$12,2,FALSE)","v":5}]
[561,20,{"$f":"VLOOKUP(B563,'Ark1'!C$2:D$11,2,FALSE)","v":1},561,80,{"$f":"VLOOKUP(E563,'Ark1'!$C$2:$D$11,2,FALSE)","v":5},561,125,{"$f":"VLOOKUP(H563,'Ark1'!$C$2:$D$12,2,FALSE)","v":5}]
[562,20,{"$f":"VLOOKUP(B564,'Ark1'!C$2:D$11,2,FALSE)","v":1},562,80,{"$f":"VLOOKUP(E564,'Ark1'!$C$2:$D$11,2,FALSE)","v":5},562,125,{"$f":"VLOOKUP(H564,'Ark1'!$C$2:$D$12,2,FALSE)","v":5}]
[563,20,{"$f":"VLOOKUP(B565,'Ark1'!C$2:D$11,2,FALSE)","v":1},563,80,{"$f":"VLOOKUP(E565,'Ark1'!$C$2:$D$11,2,FALSE)","v":5},563,125,{"$f":"VLOOKUP(H565,'Ark1'!$C$2:$D$12,2,FALSE)","v":5}]
[564,20,{"$f":"VLOOKUP(B566,'Ark1'!C$2:D$11,2,FALSE)","v":1},564,80,{"$f":"VLOOKUP(E566,'Ark1'!$C$2:$D$11,2,FALSE)","v":5},564,125,{"$f":"VLOOKUP(H566,'Ark1'!$C$2:$D$12,2,FALSE)","v":5}]
[565,20,{"$f":"VLOOKUP(B567,'Ark1'!C$2:D$11,2,FALSE)","v":1},565,80,{"$f":"VLOOKUP(E567,'Ark1'!$C$2:$D$11,2,FALSE)","v":5},565,125,{"$f":"VLOOKUP(H567,'Ark1'!$C$2:$D$12,2,FALSE)","v":5}]
[566,20,{"$f":"VLOOKUP(B568,'Ark1'!C$2:D$11,2,FALSE)","v":1},566,80,{"$f":"VLOOKUP(E568,'Ark1'!$C$2:$D$11,2,FALSE)","v":5},566,125,{"$f":"VLOOKUP(H568,'Ark1'!$C$2:$D$12,2,FALSE)","v":5}]
[567,20,{"$f":"VLOOKUP(B569,'Ark1'!C$2:D$11,2,FALSE)","v":1},567,80,{"$f":"VLOOKUP(E569,'Ark1'!$C$2:$D$11,2,FALSE)","v":5},567,125,{"$f":"VLOOKUP(H569,'Ark1'!$C$2:$D$12,2,FALSE)","v":5}]
[568,20,{"$f":"VLOOKUP(B570,'Ark1'!C$2:D$11,2,FALSE)","v":1},568,80,{"$f":"VLOOKUP(E570,'Ark1'!$C$2:$D$11,2,FALSE)","v":5},568,125,{"$f":"VLOOKUP(H570,'Ark1'!$C$2:$D$12,2,FALSE)","v":5}]
[569,20,{"$f":"VLOOKUP(B571,'Ark1'!C$2:D$11,2,FALSE)","v":1},569,80,{"$f":"VLOOKUP(E571,'Ark1'!$C$2:$D$11,2,FALSE)","v":5},569,125,{"$f":"VLOOKUP(H571,'Ark1'!$C$2:$D$12,2,FALSE)","v":5}]
[570,20,{"$f":"VLOOKUP(B572,'Ark1'!C$2:D$11,2,FALSE)","v":1},570,80,{"$f":"VLOOKUP(E572,'Ark1'!$C$2:$D$11,2,FALSE)","v":5},570,125,{"$f":"VLOOKUP(H572,'Ark1'!$C$2:$D$12,2,FALSE)","v":5}]
[571,20,{"$f":"VLOOKUP(B573,'Ark1'!C$2:D$11,2,FALSE)","v":1},571,80,{"$f":"VLOOKUP(E573,'Ark1'!$C$2:$D$11,2,FALSE)","v":5},571,125,{"$f":"VLOOKUP(H573,'Ark1'!$C$2:$D$12,2,FALSE)","v":5}]
[572,20,{"$f":"VLOOKUP(B574,'Ark1'!C$2:D$11,2,FALSE)","v":1},572,80,{"$f":"VLOOKUP(E574,'Ark1'!$C$2:$D$11,2,FALSE)","v":5},572,125,{"$f":"VLOOKUP(H574,'Ark1'!$C$2:$D$12,2,FALSE)","v":5}]
[573,20,{"$f":"VLOOKUP(B575,'Ark1'!C$2:D$11,2,FALSE)","v":1},573,80,{"$f":"VLOOKUP(E575,'Ark1'!$C$2:$D$11,2,FALSE)","v":5},573,125,{"$f":"VLOOKUP(H575,'Ark1'!$C$2:$D$12,2,FALSE)","v":5}]
[574,20,{"$f":"VLOOKUP(B576,'Ark1'!C$2:D$11,2,FALSE)","v":1},574,80,{"$f":"VLOOKUP(E576,'Ark1'!$C$2:$D$11,2,FALSE)","v":5},574,125,{"$f":"VLOOKUP(H576,'Ark1'!$C$2:$D$12,2,FALSE)","v":5}]
[575,20,{"$f":"VLOOKUP(B577,'Ark1'!C$2:D$11,2,FALSE)","v":1},575,80,{"$f":"VLOOKUP(E577,'Ark1'!$C$2:$D$11,2,FALSE)","v":5},575,125,{"$f":"VLOOKUP(H577,'Ark1'!$C$2:$D$12,2,FALSE)","v":5}]
[576,20,{"$f":"VLOOKUP(B578,'Ark1'!C$2:D$11,2,FALSE)","v":1},576,80,{"$f":"VLOOKUP(E578,'Ark1'!$C$2:$D$11,2,FALSE)","v":5},576,125,{"$f":"VLOOKUP(H578,'Ark1'!$C$2:$D$12,2,FALSE)","v":5}]
[577,20,{"$f":"VLOOKUP(B579,'Ark1'!C$2:D$11,2,FALSE)","v":1},577,80,{"$f":"VLOOKUP(E579,'Ark1'!$C$2:$D$11,2,FALSE)","v":5},577,125,{"$f":"VLOOKUP(H579,'Ark1'!$C$2:$D$12,2,FALSE)","v":5}]
[578,20,{"$f":"VLOOKUP(B580,'Ark1'!C$2:D$11,2,FALSE)","v":1},578,80,{"$f":"VLOOKUP(E580,'Ark1'!$C$2:$D$11,2,FALSE)","v":5},578,125,{"$f":"VLOOKUP(H580,'Ark1'!$C$2:$D$12,2,FALSE)","v":5}]
[579,20,{"$f":"VLOOKUP(B581,'Ark1'!C$2:D$11,2,FALSE)","v":1},579,80,{"$f":"VLOOKUP(E581,'Ark1'!$C$2:$D$11,2,FALSE)","v":5},579,125,{"$f":"VLOOKUP(H581,'Ark1'!$C$2:$D$12,2,FALSE)","v":5}]
[580,20,{"$f":"VLOOKUP(B582,'Ark1'!C$2:D$11,2,FALSE)","v":1},580,80,{"$f":"VLOOKUP(E582,'Ark1'!$C$2:$D$11,2,FALSE)","v":5},580,125,{"$f":"VLOOKUP(H582,'Ark1'!$C$2:$D$12,2,FALSE)","v":5}]
[581,20,{"$f":"VLOOKUP(B583,'Ark1'!C$2:D$11,2,FALSE)","v":1},581,80,{"$f":"VLOOKUP(E583,'Ark1'!$C$2:$D$11,2,FALSE)","v":5},581,125,{"$f":"VLOOKUP(H583,'Ark1'!$C$2:$D$12,2,FALSE)","v":5}]
[582,20,{"$f":"VLOOKUP(B584,'Ark1'!C$2:D$11,2,FALSE)","v":1},582,80,{"$f":"VLOOKUP(E584,'Ark1'!$C$2:$D$11,2,FALSE)","v":5},582,125,{"$f":"VLOOKUP(H584,'Ark1'!$C$2:$D$12,2,FALSE)","v":5}]
[583,20,{"$f":"VLOOKUP(B585,'Ark1'!C$2:D$11,2,FALSE)","v":1},583,80,{"$f":"VLOOKUP(E585,'Ark1'!$C$2:$D$11,2,FALSE)","v":5},583,125,{"$f":"VLOOKUP(H585,'Ark1'!$C$2:$D$12,2,FALSE)","v":5}]
[584,20,{"$f":"VLOOKUP(B586,'Ark1'!C$2:D$11,2,FALSE)","v":1},584,80,{"$f":"VLOOKUP(E586,'Ark1'!$C$2:$D$11,2,FALSE)","v":5},584,125,{"$f":"VLOOKUP(H586,'Ark1'!$C$2:$D$12,2,FALSE)","v":5}]
[585,20,{"$f":"VLOOKUP(B587,'Ark1'!C$2:D$11,2,FALSE)","v":1},585,80,{"$f":"VLOOKUP(E587,'Ark1'!$C$2:$D$11,2,FALSE)","v":5},585,125,{"$f":"VLOOKUP(H587,'Ark1'!$C$2:$D$12,2,FALSE)","v":5}]
[586,20,{"$f":"VLOOKUP(B588,'Ark1'!C$2:D$11,2,FALSE)","v":1},586,80,{"$f":"VLOOKUP(E588,'Ark1'!$C$2:$D$11,2,FALSE)","v":5},586,125,{"$f":"VLOOKUP(H588,'Ark1'!$C$2:$D$12,2,FALSE)","v":5}]
[587,20,{"$f":"VLOOKUP(B589,'Ark1'!C$2:D$11,2,FALSE)","v":1},587,80,{"$f":"VLOOKUP(E589,'Ark1'!$C$2:$D$11,2,FALSE)","v":5},587,125,{"$f":"VLOOKUP(H589,'Ark1'!$C$2:$D$12,2,FALSE)","v":5}]
[588,20,{"$f":"VLOOKUP(B590,'Ark1'!C$2:D$11,2,FALSE)","v":1},588,80,{"$f":"VLOOKUP(E590,'Ark1'!$C$2:$D$11,2,FALSE)","v":5},588,125,{"$f":"VLOOKUP(H590,'Ark1'!$C$2:$D$12,2,FALSE)","v":5}]
[589,20,{"$f":"VLOOKUP(B591,'Ark1'!C$2:D$11,2,FALSE)","v":1},589,80,{"$f":"VLOOKUP(E591,'Ark1'!$C$2:$D$11,2,FALSE)","v":5},589,125,{"$f":"VLOOKUP(H591,'Ark1'!$C$2:$D$12,2,FALSE)","v":5}]
[590,20,{"$f":"VLOOKUP(B592,'Ark1'!C$2:D$11,2,FALSE)","v":1},590,80,{"$f":"VLOOKUP(E592,'Ark1'!$C$2:$D$11,2,FALSE)","v":5},590,125,{"$f":"VLOOKUP(H592,'Ark1'!$C$2:$D$12,2,FALSE)","v":5}]
[591,20,{"$f":"VLOOKUP(B593,'Ark1'!C$2:D$11,2,FALSE)","v":1},591,80,{"$f":"VLOOKUP(E593,'Ark1'!$C$2:$D$11,2,FALSE)","v":5},591,125,{"$f":"VLOOKUP(H593,'Ark1'!$C$2:$D$12,2,FALSE)","v":5}]
[592,20,{"$f":"VLOOKUP(B594,'Ark1'!C$2:D$11,2,FALSE)","v":1},592,80,{"$f":"VLOOKUP(E594,'Ark1'!$C$2:$D$11,2,FALSE)","v":5},592,125,{"$f":"VLOOKUP(H594,'Ark1'!$C$2:$D$12,2,FALSE)","v":5}]
[593,20,{"$f":"VLOOKUP(B595,'Ark1'!C$2:D$11,2,FALSE)","v":1},593,80,{"$f":"VLOOKUP(E595,'Ark1'!$C$2:$D$11,2,FALSE)","v":5},593,125,{"$f":"VLOOKUP(H595,'Ark1'!$C$2:$D$12,2,FALSE)","v":5}]
[594,20,{"$f":"VLOOKUP(B596,'Ark1'!C$2:D$11,2,FALSE)","v":1},594,80,{"$f":"VLOOKUP(E596,'Ark1'!$C$2:$D$11,2,FALSE)","v":5},594,125,{"$f":"VLOOKUP(H596,'Ark1'!$C$2:$D$12,2,FALSE)","v":5}]
[595,20,{"$f":"VLOOKUP(B597,'Ark1'!C$2:D$11,2,FALSE)","v":1},595,80,{"$f":"VLOOKUP(E597,'Ark1'!$C$2:$D$11,2,FALSE)","v":5},595,125,{"$f":"VLOOKUP(H597,'Ark1'!$C$2:$D$12,2,FALSE)","v":5}]
[596,20,{"$f":"VLOOKUP(B598,'Ark1'!C$2:D$11,2,FALSE)","v":1},596,80,{"$f":"VLOOKUP(E598,'Ark1'!$C$2:$D$11,2,FALSE)","v":5},596,125,{"$f":"VLOOKUP(H598,'Ark1'!$C$2:$D$12,2,FALSE)","v":5}]
[597,20,{"$f":"VLOOKUP(B599,'Ark1'!C$2:D$11,2,FALSE)","v":1},597,80,{"$f":"VLOOKUP(E599,'Ark1'!$C$2:$D$11,2,FALSE)","v":5},597,125,{"$f":"VLOOKUP(H599,'Ark1'!$C$2:$D$12,2,FALSE)","v":5}]
[598,20,{"$f":"VLOOKUP(B600,'Ark1'!C$2:D$11,2,FALSE)","v":1},598,80,{"$f":"VLOOKUP(E600,'Ark1'!$C$2:$D$11,2,FALSE)","v":5},598,125,{"$f":"VLOOKUP(H600,'Ark1'!$C$2:$D$12,2,FALSE)","v":5}]
[599,20,{"$f":"VLOOKUP(B601,'Ark1'!C$2:D$11,2,FALSE)","v":1},599,80,{"$f":"VLOOKUP(E601,'Ark1'!$C$2:$D$11,2,FALSE)","v":5},599,125,{"$f":"VLOOKUP(H601,'Ark1'!$C$2:$D$12,2,FALSE)","v":5}]
[600,20,{"$f":"VLOOKUP(B602,'Ark1'!C$2:D$11,2,FALSE)","v":1},600,80,{"$f":"VLOOKUP(E602,'Ark1'!$C$2:$D$11,2,FALSE)","v":5},600,125,{"$f":"VLOOKUP(H602,'Ark1'!$C$2:$D$12,2,FALSE)","v":5}]
[601,20,{"$f":"VLOOKUP(B603,'Ark1'!C$2:D$11,2,FALSE)","v":1},601,80,{"$f":"VLOOKUP(E603,'Ark1'!$C$2:$D$11,2,FALSE)","v":5},601,125,{"$f":"VLOOKUP(H603,'Ark1'!$C$2:$D$12,2,FALSE)","v":5}]
[602,20,{"$f":"VLOOKUP(B604,'Ark1'!C$2:D$11,2,FALSE)","v":1},602,80,{"$f":"VLOOKUP(E604,'Ark1'!$C$2:$D$11,2,FALSE)","v":5},602,125,{"$f":"VLOOKUP(H604,'Ark1'!$C$2:$D$12,2,FALSE)","v":5}]
[603,20,{"$f":"VLOOKUP(B605,'Ark1'!C$2:D$11,2,FALSE)","v":1},603,80,{"$f":"VLOOKUP(E605,'Ark1'!$C$2:$D$11,2,FALSE)","v":5},603,125,{"$f":"VLOOKUP(H605,'Ark1'!$C$2:$D$12,2,FALSE)","v":5}]
[604,20,{"$f":"VLOOKUP(B606,'Ark1'!C$2:D$11,2,FALSE)","v":1},604,80,{"$f":"VLOOKUP(E606,'Ark1'!$C$2:$D$11,2,FALSE)","v":5},604,125,{"$f":"VLOOKUP(H606,'Ark1'!$C$2:$D$12,2,FALSE)","v":5}]
[605,20,{"$f":"VLOOKUP(B607,'Ark1'!C$2:D$11,2,FALSE)","v":1},605,80,{"$f":"VLOOKUP(E607,'Ark1'!$C$2:$D$11,2,FALSE)","v":5},605,125,{"$f":"VLOOKUP(H607,'Ark1'!$C$2:$D$12,2,FALSE)","v":5}]
[606,20,{"$f":"VLOOKUP(B608,'Ark1'!C$2:D$11,2,FALSE)","v":1},606,80,{"$f":"VLOOKUP(E608,'Ark1'!$C$2:$D$11,2,FALSE)","v":5},606,125,{"$f":"VLOOKUP(H608,'Ark1'!$C$2:$D$12,2,FALSE)","v":5}]
[607,20,{"$f":"VLOOKUP(B609,'Ark1'!C$2:D$11,2,FALSE)","v":1},607,80,{"$f":"VLOOKUP(E609,'Ark1'!$C$2:$D$11,2,FALSE)","v":5},607,125,{"$f":"VLOOKUP(H609,'Ark1'!$C$2:$D$12,2,FALSE)","v":5}]
[608,20,{"$f":"VLOOKUP(B610,'Ark1'!C$2:D$11,2,FALSE)","v":1},608,80,{"$f":"VLOOKUP(E610,'Ark1'!$C$2:$D$11,2,FALSE)","v":5},608,125,{"$f":"VLOOKUP(H610,'Ark1'!$C$2:$D$12,2,FALSE)","v":5}]
[609,20,{"$f":"VLOOKUP(B611,'Ark1'!C$2:D$11,2,FALSE)","v":1},609,80,{"$f":"VLOOKUP(E611,'Ark1'!$C$2:$D$11,2,FALSE)","v":5},609,125,{"$f":"VLOOKUP(H611,'Ark1'!$C$2:$D$12,2,FALSE)","v":5}]
[610,20,{"$f":"VLOOKUP(B612,'Ark1'!C$2:D$11,2,FALSE)","v":1},610,80,{"$f":"VLOOKUP(E612,'Ark1'!$C$2:$D$11,2,FALSE)","v":5},610,125,{"$f":"VLOOKUP(H612,'Ark1'!$C$2:$D$12,2,FALSE)","v":5}]
[611,20,{"$f":"VLOOKUP(B613,'Ark1'!C$2:D$11,2,FALSE)","v":1},611,80,{"$f":"VLOOKUP(E613,'Ark1'!$C$2:$D$11,2,FALSE)","v":5},611,125,{"$f":"VLOOKUP(H613,'Ark1'!$C$2:$D$12,2,FALSE)","v":5}]
[612,20,{"$f":"VLOOKUP(B614,'Ark1'!C$2:D$11,2,FALSE)","v":1},612,80,{"$f":"VLOOKUP(E614,'Ark1'!$C$2:$D$11,2,FALSE)","v":5},612,125,{"$f":"VLOOKUP(H614,'Ark1'!$C$2:$D$12,2,FALSE)","v":5}]
[613,20,{"$f":"VLOOKUP(B615,'Ark1'!C$2:D$11,2,FALSE)","v":1},613,80,{"$f":"VLOOKUP(E615,'Ark1'!$C$2:$D$11,2,FALSE)","v":5},613,125,{"$f":"VLOOKUP(H615,'Ark1'!$C$2:$D$12,2,FALSE)","v":5}]
[614,20,{"$f":"VLOOKUP(B616,'Ark1'!C$2:D$11,2,FALSE)","v":1},614,80,{"$f":"VLOOKUP(E616,'Ark1'!$C$2:$D$11,2,FALSE)","v":5},614,125,{"$f":"VLOOKUP(H616,'Ark1'!$C$2:$D$12,2,FALSE)","v":5}]
[615,20,{"$f":"VLOOKUP(B617,'Ark1'!C$2:D$11,2,FALSE)","v":1},615,80,{"$f":"VLOOKUP(E617,'Ark1'!$C$2:$D$11,2,FALSE)","v":5},615,125,{"$f":"VLOOKUP(H617,'Ark1'!$C$2:$D$12,2,FALSE)","v":5}]
[616,20,{"$f":"VLOOKUP(B618,'Ark1'!C$2:D$11,2,FALSE)","v":1},616,80,{"$f":"VLOOKUP(E618,'Ark1'!$C$2:$D$11,2,FALSE)","v":5},616,125,{"$f":"VLOOKUP(H618,'Ark1'!$C$2:$D$12,2,FALSE)","v":5}]
[617,20,{"$f":"VLOOKUP(B619,'Ark1'!C$2:D$11,2,FALSE)","v":1},617,80,{"$f":"VLOOKUP(E619,'Ark1'!$C$2:$D$11,2,FALSE)","v":5},617,125,{"$f":"VLOOKUP(H619,'Ark1'!$C$2:$D$12,2,FALSE)","v":5}]
[618,20,{"$f":"VLOOKUP(B620,'Ark1'!C$2:D$11,2,FALSE)","v":1},618,80,{"$f":"VLOOKUP(E620,'Ark1'!$C$2:$D$11,2,FALSE)","v":5},618,125,{"$f":"VLOOKUP(H620,'Ark1'!$C$2:$D$12,2,FALSE)","v":5}]
[619,20,{"$f":"VLOOKUP(B621,'Ark1'!C$2:D$11,2,FALSE)","v":1},619,80,{"$f":"VLOOKUP(E621,'Ark1'!$C$2:$D$11,2,FALSE)","v":5},619,125,{"$f":"VLOOKUP(H621,'Ark1'!$C$2:$D$12,2,FALSE)","v":5}]
[620,20,{"$f":"VLOOKUP(B622,'Ark1'!C$2:D$11,2,FALSE)","v":1},620,80,{"$f":"VLOOKUP(E622,'Ark1'!$C$2:$D$11,2,FALSE)","v":5},620,125,{"$f":"VLOOKUP(H622,'Ark1'!$C$2:$D$12,2,FALSE)","v":5}]
[621,20,{"$f":"VLOOKUP(B623,'Ark1'!C$2:D$11,2,FALSE)","v":1},621,80,{"$f":"VLOOKUP(E623,'Ark1'!$C$2:$D$11,2,FALSE)","v":5},621,125,{"$f":"VLOOKUP(H623,'Ark1'!$C$2:$D$12,2,FALSE)","v":5}]
[622,20,{"$f":"VLOOKUP(B624,'Ark1'!C$2:D$11,2,FALSE)","v":1},622,80,{"$f":"VLOOKUP(E624,'Ark1'!$C$2:$D$11,2,FALSE)","v":5},622,125,{"$f":"VLOOKUP(H624,'Ark1'!$C$2:$D$12,2,FALSE)","v":5}]
[623,20,{"$f":"VLOOKUP(B625,'Ark1'!C$2:D$11,2,FALSE)","v":1},623,80,{"$f":"VLOOKUP(E625,'Ark1'!$C$2:$D$11,2,FALSE)","v":5},623,125,{"$f":"VLOOKUP(H625,'Ark1'!$C$2:$D$12,2,FALSE)","v":5}]
[624,20,{"$f":"VLOOKUP(B626,'Ark1'!C$2:D$11,2,FALSE)","v":1},624,80,{"$f":"VLOOKUP(E626,'Ark1'!$C$2:$D$11,2,FALSE)","v":5},624,125,{"$f":"VLOOKUP(H626,'Ark1'!$C$2:$D$12,2,FALSE)","v":5}]
[625,20,{"$f":"VLOOKUP(B627,'Ark1'!C$2:D$11,2,FALSE)","v":1},625,80,{"$f":"VLOOKUP(E627,'Ark1'!$C$2:$D$11,2,FALSE)","v":5},625,125,{"$f":"VLOOKUP(H627,'Ark1'!$C$2:$D$12,2,FALSE)","v":5}]
[626,20,{"$f":"VLOOKUP(B628,'Ark1'!C$2:D$11,2,FALSE)","v":1},626,80,{"$f":"VLOOKUP(E628,'Ark1'!$C$2:$D$11,2,FALSE)","v":5},626,125,{"$f":"VLOOKUP(H628,'Ark1'!$C$2:$D$12,2,FALSE)","v":5}]
[627,20,{"$f":"VLOOKUP(B629,'Ark1'!C$2:D$11,2,FALSE)","v":1},627,80,{"$f":"VLOOKUP(E629,'Ark1'!$C$2:$D$11,2,FALSE)","v":5},627,125,{"$f":"VLOOKUP(H629,'Ark1'!$C$2:$D$12,2,FALSE)","v":5}]
[628,20,{"$f":"VLOOKUP(B630,'Ark1'!C$2:D$11,2,FALSE)","v":1},628,80,{"$f":"VLOOKUP(E630,'Ark1'!$C$2:$D$11,2,FALSE)","v":5},628,125,{"$f":"VLOOKUP(H630,'Ark1'!$C$2:$D$12,2,FALSE)","v":5}]
[629,20,{"$f":"VLOOKUP(B631,'Ark1'!C$2:D$11,2,FALSE)","v":1},629,80,{"$f":"VLOOKUP(E631,'Ark1'!$C$2:$D$11,2,FALSE)","v":5},629,125,{"$f":"VLOOKUP(H631,'Ark1'!$C$2:$D$12,2,FALSE)","v":5}]
[630,20,{"$f":"VLOOKUP(B632,'Ark1'!C$2:D$11,2,FALSE)","v":1},630,80,{"$f":"VLOOKUP(E632,'Ark1'!$C$2:$D$11,2,FALSE)","v":5},630,125,{"$f":"VLOOKUP(H632,'Ark1'!$C$2:$D$12,2,FALSE)","v":5}]
[631,20,{"$f":"VLOOKUP(B633,'Ark1'!C$2:D$11,2,FALSE)","v":1},631,80,{"$f":"VLOOKUP(E633,'Ark1'!$C$2:$D$11,2,FALSE)","v":5},631,125,{"$f":"VLOOKUP(H633,'Ark1'!$C$2:$D$12,2,FALSE)","v":5}]
[632,20,{"$f":"VLOOKUP(B634,'Ark1'!C$2:D$11,2,FALSE)","v":1},632,80,{"$f":"VLOOKUP(E634,'Ark1'!$C$2:$D$11,2,FALSE)","v":5},632,125,{"$f":"VLOOKUP(H634,'Ark1'!$C$2:$D$12,2,FALSE)","v":5}]
[633,20,{"$f":"VLOOKUP(B635,'Ark1'!C$2:D$11,2,FALSE)","v":1},633,80,{"$f":"VLOOKUP(E635,'Ark1'!$C$2:$D$11,2,FALSE)","v":5},633,125,{"$f":"VLOOKUP(H635,'Ark1'!$C$2:$D$12,2,FALSE)","v":5}]
[634,20,{"$f":"VLOOKUP(B636,'Ark1'!C$2:D$11,2,FALSE)","v":1},634,80,{"$f":"VLOOKUP(E636,'Ark1'!$C$2:$D$11,2,FALSE)","v":5},634,125,{"$f":"VLOOKUP(H636,'Ark1'!$C$2:$D$12,2,FALSE)","v":5}]
[635,20,{"$f":"VLOOKUP(B637,'Ark1'!C$2:D$11,2,FALSE)","v":1},635,80,{"$f":"VLOOKUP(E637,'Ark1'!$C$2:$D$11,2,FALSE)","v":5},635,125,{"$f":"VLOOKUP(H637,'Ark1'!$C$2:$D$12,2,FALSE)","v":5}]
[636,20,{"$f":"VLOOKUP(B638,'Ark1'!C$2:D$11,2,FALSE)","v":1},636,80,{"$f":"VLOOKUP(E638,'Ark1'!$C$2:$D$11,2,FALSE)","v":5},636,125,{"$f":"VLOOKUP(H638,'Ark1'!$C$2:$D$12,2,FALSE)","v":5}]
[637,20,{"$f":"VLOOKUP(B639,'Ark1'!C$2:D$11,2,FALSE)","v":1},637,80,{"$f":"VLOOKUP(E639,'Ark1'!$C$2:$D$11,2,FALSE)","v":5},637,125,{"$f":"VLOOKUP(H639,'Ark1'!$C$2:$D$12,2,FALSE)","v":5}]
[638,20,{"$f":"VLOOKUP(B640,'Ark1'!C$2:D$11,2,FALSE)","v":1},638,80,{"$f":"VLOOKUP(E640,'Ark1'!$C$2:$D$11,2,FALSE)","v":5},638,125,{"$f":"VLOOKUP(H640,'Ark1'!$C$2:$D$12,2,FALSE)","v":5}]
[639,20,{"$f":"VLOOKUP(B641,'Ark1'!C$2:D$11,2,FALSE)","v":1},639,80,{"$f":"VLOOKUP(E641,'Ark1'!$C$2:$D$11,2,FALSE)","v":5},639,125,{"$f":"VLOOKUP(H641,'Ark1'!$C$2:$D$12,2,FALSE)","v":5}]
[640,20,{"$f":"VLOOKUP(B642,'Ark1'!C$2:D$11,2,FALSE)","v":1},640,80,{"$f":"VLOOKUP(E642,'Ark1'!$C$2:$D$11,2,FALSE)","v":5},640,125,{"$f":"VLOOKUP(H642,'Ark1'!$C$2:$D$12,2,FALSE)","v":5}]
[641,20,{"$f":"VLOOKUP(B643,'Ark1'!C$2:D$11,2,FALSE)","v":1},641,80,{"$f":"VLOOKUP(E643,'Ark1'!$C$2:$D$11,2,FALSE)","v":5},641,125,{"$f":"VLOOKUP(H643,'Ark1'!$C$2:$D$12,2,FALSE)","v":5}]
[642,20,{"$f":"VLOOKUP(B644,'Ark1'!C$2:D$11,2,FALSE)","v":1},642,80,{"$f":"VLOOKUP(E644,'Ark1'!$C$2:$D$11,2,FALSE)","v":5},642,125,{"$f":"VLOOKUP(H644,'Ark1'!$C$2:$D$12,2,FALSE)","v":5}]
[643,20,{"$f":"VLOOKUP(B645,'Ark1'!C$2:D$11,2,FALSE)","v":1},643,80,{"$f":"VLOOKUP(E645,'Ark1'!$C$2:$D$11,2,FALSE)","v":5},643,125,{"$f":"VLOOKUP(H645,'Ark1'!$C$2:$D$12,2,FALSE)","v":5}]
[644,20,{"$f":"VLOOKUP(B646,'Ark1'!C$2:D$11,2,FALSE)","v":1},644,80,{"$f":"VLOOKUP(E646,'Ark1'!$C$2:$D$11,2,FALSE)","v":5},644,125,{"$f":"VLOOKUP(H646,'Ark1'!$C$2:$D$12,2,FALSE)","v":5}]
[645,20,{"$f":"VLOOKUP(B647,'Ark1'!C$2:D$11,2,FALSE)","v":1},645,80,{"$f":"VLOOKUP(E647,'Ark1'!$C$2:$D$11,2,FALSE)","v":5},645,125,{"$f":"VLOOKUP(H647,'Ark1'!$C$2:$D$12,2,FALSE)","v":5}]
[646,20,{"$f":"VLOOKUP(B648,'Ark1'!C$2:D$11,2,FALSE)","v":1},646,80,{"$f":"VLOOKUP(E648,'Ark1'!$C$2:$D$11,2,FALSE)","v":5},646,125,{"$f":"VLOOKUP(H648,'Ark1'!$C$2:$D$12,2,FALSE)","v":5}]
[647,20,{"$f":"VLOOKUP(B649,'Ark1'!C$2:D$11,2,FALSE)","v":1},647,80,{"$f":"VLOOKUP(E649,'Ark1'!$C$2:$D$11,2,FALSE)","v":5},647,125,{"$f":"VLOOKUP(H649,'Ark1'!$C$2:$D$12,2,FALSE)","v":5}]
[648,20,{"$f":"VLOOKUP(B650,'Ark1'!C$2:D$11,2,FALSE)","v":1},648,80,{"$f":"VLOOKUP(E650,'Ark1'!$C$2:$D$11,2,FALSE)","v":5},648,125,{"$f":"VLOOKUP(H650,'Ark1'!$C$2:$D$12,2,FALSE)","v":5}]
[649,20,{"$f":"VLOOKUP(B651,'Ark1'!C$2:D$11,2,FALSE)","v":1},649,80,{"$f":"VLOOKUP(E651,'Ark1'!$C$2:$D$11,2,FALSE)","v":5},649,125,{"$f":"VLOOKUP(H651,'Ark1'!$C$2:$D$12,2,FALSE)","v":5}]
[650,20,{"$f":"VLOOKUP(B652,'Ark1'!C$2:D$11,2,FALSE)","v":1},650,80,{"$f":"VLOOKUP(E652,'Ark1'!$C$2:$D$11,2,FALSE)","v":5},650,125,{"$f":"VLOOKUP(H652,'Ark1'!$C$2:$D$12,2,FALSE)","v":5}]
[651,20,{"$f":"VLOOKUP(B653,'Ark1'!C$2:D$11,2,FALSE)","v":1},651,80,{"$f":"VLOOKUP(E653,'Ark1'!$C$2:$D$11,2,FALSE)","v":5},651,125,{"$f":"VLOOKUP(H653,'Ark1'!$C$2:$D$12,2,FALSE)","v":5}]
[652,20,{"$f":"VLOOKUP(B654,'Ark1'!C$2:D$11,2,FALSE)","v":1},652,80,{"$f":"VLOOKUP(E654,'Ark1'!$C$2:$D$11,2,FALSE)","v":5},652,125,{"$f":"VLOOKUP(H654,'Ark1'!$C$2:$D$12,2,FALSE)","v":5}]
[653,20,{"$f":"VLOOKUP(B655,'Ark1'!C$2:D$11,2,FALSE)","v":1},653,80,{"$f":"VLOOKUP(E655,'Ark1'!$C$2:$D$11,2,FALSE)","v":5},653,125,{"$f":"VLOOKUP(H655,'Ark1'!$C$2:$D$12,2,FALSE)","v":5}]
[654,20,{"$f":"VLOOKUP(B656,'Ark1'!C$2:D$11,2,FALSE)","v":1},654,80,{"$f":"VLOOKUP(E656,'Ark1'!$C$2:$D$11,2,FALSE)","v":5},654,125,{"$f":"VLOOKUP(H656,'Ark1'!$C$2:$D$12,2,FALSE)","v":5}]
[655,20,{"$f":"VLOOKUP(B657,'Ark1'!C$2:D$11,2,FALSE)","v":1},655,80,{"$f":"VLOOKUP(E657,'Ark1'!$C$2:$D$11,2,FALSE)","v":5},655,125,{"$f":"VLOOKUP(H657,'Ark1'!$C$2:$D$12,2,FALSE)","v":5}]
[656,20,{"$f":"VLOOKUP(B658,'Ark1'!C$2:D$11,2,FALSE)","v":1},656,80,{"$f":"VLOOKUP(E658,'Ark1'!$C$2:$D$11,2,FALSE)","v":5},656,125,{"$f":"VLOOKUP(H658,'Ark1'!$C$2:$D$12,2,FALSE)","v":5}]
[657,20,{"$f":"VLOOKUP(B659,'Ark1'!C$2:D$11,2,FALSE)","v":1},657,80,{"$f":"VLOOKUP(E659,'Ark1'!$C$2:$D$11,2,FALSE)","v":5},657,125,{"$f":"VLOOKUP(H659,'Ark1'!$C$2:$D$12,2,FALSE)","v":5}]
[658,20,{"$f":"VLOOKUP(B660,'Ark1'!C$2:D$11,2,FALSE)","v":1},658,80,{"$f":"VLOOKUP(E660,'Ark1'!$C$2:$D$11,2,FALSE)","v":5},658,125,{"$f":"VLOOKUP(H660,'Ark1'!$C$2:$D$12,2,FALSE)","v":5}]
[659,20,{"$f":"VLOOKUP(B661,'Ark1'!C$2:D$11,2,FALSE)","v":1},659,80,{"$f":"VLOOKUP(E661,'Ark1'!$C$2:$D$11,2,FALSE)","v":5},659,125,{"$f":"VLOOKUP(H661,'Ark1'!$C$2:$D$12,2,FALSE)","v":5}]
[660,20,{"$f":"VLOOKUP(B662,'Ark1'!C$2:D$11,2,FALSE)","v":1},660,80,{"$f":"VLOOKUP(E662,'Ark1'!$C$2:$D$11,2,FALSE)","v":5},660,125,{"$f":"VLOOKUP(H662,'Ark1'!$C$2:$D$12,2,FALSE)","v":5}]
[661,20,{"$f":"VLOOKUP(B663,'Ark1'!C$2:D$11,2,FALSE)","v":1},661,80,{"$f":"VLOOKUP(E663,'Ark1'!$C$2:$D$11,2,FALSE)","v":5},661,125,{"$f":"VLOOKUP(H663,'Ark1'!$C$2:$D$12,2,FALSE)","v":5}]
[662,20,{"$f":"VLOOKUP(B664,'Ark1'!C$2:D$11,2,FALSE)","v":1},662,80,{"$f":"VLOOKUP(E664,'Ark1'!$C$2:$D$11,2,FALSE)","v":5},662,125,{"$f":"VLOOKUP(H664,'Ark1'!$C$2:$D$12,2,FALSE)","v":5}]
[663,20,{"$f":"VLOOKUP(B665,'Ark1'!C$2:D$11,2,FALSE)","v":1},663,80,{"$f":"VLOOKUP(E665,'Ark1'!$C$2:$D$11,2,FALSE)","v":5},663,125,{"$f":"VLOOKUP(H665,'Ark1'!$C$2:$D$12,2,FALSE)","v":5}]
[664,20,{"$f":"VLOOKUP(B666,'Ark1'!C$2:D$11,2,FALSE)","v":1},664,80,{"$f":"VLOOKUP(E666,'Ark1'!$C$2:$D$11,2,FALSE)","v":5},664,125,{"$f":"VLOOKUP(H666,'Ark1'!$C$2:$D$12,2,FALSE)","v":5}]
[665,20,{"$f":"VLOOKUP(B667,'Ark1'!C$2:D$11,2,FALSE)","v":1},665,80,{"$f":"VLOOKUP(E667,'Ark1'!$C$2:$D$11,2,FALSE)","v":5},665,125,{"$f":"VLOOKUP(H667,'Ark1'!$C$2:$D$12,2,FALSE)","v":5}]
[666,20,{"$f":"VLOOKUP(B668,'Ark1'!C$2:D$11,2,FALSE)","v":1},666,80,{"$f":"VLOOKUP(E668,'Ark1'!$C$2:$D$11,2,FALSE)","v":5},666,125,{"$f":"VLOOKUP(H668,'Ark1'!$C$2:$D$12,2,FALSE)","v":5}]
[667,20,{"$f":"VLOOKUP(B669,'Ark1'!C$2:D$11,2,FALSE)","v":1},667,80,{"$f":"VLOOKUP(E669,'Ark1'!$C$2:$D$11,2,FALSE)","v":5},667,125,{"$f":"VLOOKUP(H669,'Ark1'!$C$2:$D$12,2,FALSE)","v":5}]
[668,20,{"$f":"VLOOKUP(B670,'Ark1'!C$2:D$11,2,FALSE)","v":1},668,80,{"$f":"VLOOKUP(E670,'Ark1'!$C$2:$D$11,2,FALSE)","v":5},668,125,{"$f":"VLOOKUP(H670,'Ark1'!$C$2:$D$12,2,FALSE)","v":5}]
[669,20,{"$f":"VLOOKUP(B671,'Ark1'!C$2:D$11,2,FALSE)","v":1},669,80,{"$f":"VLOOKUP(E671,'Ark1'!$C$2:$D$11,2,FALSE)","v":5},669,125,{"$f":"VLOOKUP(H671,'Ark1'!$C$2:$D$12,2,FALSE)","v":5}]
[670,20,{"$f":"VLOOKUP(B672,'Ark1'!C$2:D$11,2,FALSE)","v":1},670,80,{"$f":"VLOOKUP(E672,'Ark1'!$C$2:$D$11,2,FALSE)","v":5},670,125,{"$f":"VLOOKUP(H672,'Ark1'!$C$2:$D$12,2,FALSE)","v":5}]
[671,20,{"$f":"VLOOKUP(B673,'Ark1'!C$2:D$11,2,FALSE)","v":1},671,80,{"$f":"VLOOKUP(E673,'Ark1'!$C$2:$D$11,2,FALSE)","v":5},671,125,{"$f":"VLOOKUP(H673,'Ark1'!$C$2:$D$12,2,FALSE)","v":5}]
[672,20,{"$f":"VLOOKUP(B674,'Ark1'!C$2:D$11,2,FALSE)","v":1},672,80,{"$f":"VLOOKUP(E674,'Ark1'!$C$2:$D$11,2,FALSE)","v":5},672,125,{"$f":"VLOOKUP(H674,'Ark1'!$C$2:$D$12,2,FALSE)","v":5}]
[673,20,{"$f":"VLOOKUP(B675,'Ark1'!C$2:D$11,2,FALSE)","v":1},673,80,{"$f":"VLOOKUP(E675,'Ark1'!$C$2:$D$11,2,FALSE)","v":5},673,125,{"$f":"VLOOKUP(H675,'Ark1'!$C$2:$D$12,2,FALSE)","v":5}]
[674,20,{"$f":"VLOOKUP(B676,'Ark1'!C$2:D$11,2,FALSE)","v":1},674,80,{"$f":"VLOOKUP(E676,'Ark1'!$C$2:$D$11,2,FALSE)","v":5},674,125,{"$f":"VLOOKUP(H676,'Ark1'!$C$2:$D$12,2,FALSE)","v":5}]
[675,20,{"$f":"VLOOKUP(B677,'Ark1'!C$2:D$11,2,FALSE)","v":1},675,80,{"$f":"VLOOKUP(E677,'Ark1'!$C$2:$D$11,2,FALSE)","v":5},675,125,{"$f":"VLOOKUP(H677,'Ark1'!$C$2:$D$12,2,FALSE)","v":5}]
[676,20,{"$f":"VLOOKUP(B678,'Ark1'!C$2:D$11,2,FALSE)","v":1},676,80,{"$f":"VLOOKUP(E678,'Ark1'!$C$2:$D$11,2,FALSE)","v":5},676,125,{"$f":"VLOOKUP(H678,'Ark1'!$C$2:$D$12,2,FALSE)","v":5}]
[677,20,{"$f":"VLOOKUP(B679,'Ark1'!C$2:D$11,2,FALSE)","v":1},677,80,{"$f":"VLOOKUP(E679,'Ark1'!$C$2:$D$11,2,FALSE)","v":5},677,125,{"$f":"VLOOKUP(H679,'Ark1'!$C$2:$D$12,2,FALSE)","v":5}]
[678,20,{"$f":"VLOOKUP(B680,'Ark1'!C$2:D$11,2,FALSE)","v":1},678,80,{"$f":"VLOOKUP(E680,'Ark1'!$C$2:$D$11,2,FALSE)","v":5},678,125,{"$f":"VLOOKUP(H680,'Ark1'!$C$2:$D$12,2,FALSE)","v":5}]
[679,20,{"$f":"VLOOKUP(B681,'Ark1'!C$2:D$11,2,FALSE)","v":1},679,80,{"$f":"VLOOKUP(E681,'Ark1'!$C$2:$D$11,2,FALSE)","v":5},679,125,{"$f":"VLOOKUP(H681,'Ark1'!$C$2:$D$12,2,FALSE)","v":5}]
[680,20,{"$f":"VLOOKUP(B682,'Ark1'!C$2:D$11,2,FALSE)","v":1},680,80,{"$f":"VLOOKUP(E682,'Ark1'!$C$2:$D$11,2,FALSE)","v":5},680,125,{"$f":"VLOOKUP(H682,'Ark1'!$C$2:$D$12,2,FALSE)","v":5}]
[681,20,{"$f":"VLOOKUP(B683,'Ark1'!C$2:D$11,2,FALSE)","v":1},681,80,{"$f":"VLOOKUP(E683,'Ark1'!$C$2:$D$11,2,FALSE)","v":5},681,125,{"$f":"VLOOKUP(H683,'Ark1'!$C$2:$D$12,2,FALSE)","v":5}]
[682,20,{"$f":"VLOOKUP(B684,'Ark1'!C$2:D$11,2,FALSE)","v":1},682,80,{"$f":"VLOOKUP(E684,'Ark1'!$C$2:$D$11,2,FALSE)","v":5},682,125,{"$f":"VLOOKUP(H684,'Ark1'!$C$2:$D$12,2,FALSE)","v":5}]
[683,20,{"$f":"VLOOKUP(B685,'Ark1'!C$2:D$11,2,FALSE)","v":1},683,80,{"$f":"VLOOKUP(E685,'Ark1'!$C$2:$D$11,2,FALSE)","v":5},683,125,{"$f":"VLOOKUP(H685,'Ark1'!$C$2:$D$12,2,FALSE)","v":5}]
[684,20,{"$f":"VLOOKUP(B686,'Ark1'!C$2:D$11,2,FALSE)","v":1},684,80,{"$f":"VLOOKUP(E686,'Ark1'!$C$2:$D$11,2,FALSE)","v":5},684,125,{"$f":"VLOOKUP(H686,'Ark1'!$C$2:$D$12,2,FALSE)","v":5}]
[685,20,{"$f":"VLOOKUP(B687,'Ark1'!C$2:D$11,2,FALSE)","v":1},685,80,{"$f":"VLOOKUP(E687,'Ark1'!$C$2:$D$11,2,FALSE)","v":5},685,125,{"$f":"VLOOKUP(H687,'Ark1'!$C$2:$D$12,2,FALSE)","v":5}]
[686,20,{"$f":"VLOOKUP(B688,'Ark1'!C$2:D$11,2,FALSE)","v":1},686,80,{"$f":"VLOOKUP(E688,'Ark1'!$C$2:$D$11,2,FALSE)","v":5},686,125,{"$f":"VLOOKUP(H688,'Ark1'!$C$2:$D$12,2,FALSE)","v":5}]
[687,20,{"$f":"VLOOKUP(B689,'Ark1'!C$2:D$11,2,FALSE)","v":1},687,80,{"$f":"VLOOKUP(E689,'Ark1'!$C$2:$D$11,2,FALSE)","v":5},687,125,{"$f":"VLOOKUP(H689,'Ark1'!$C$2:$D$12,2,FALSE)","v":5}]
[688,20,{"$f":"VLOOKUP(B690,'Ark1'!C$2:D$11,2,FALSE)","v":1},688,80,{"$f":"VLOOKUP(E690,'Ark1'!$C$2:$D$11,2,FALSE)","v":5},688,125,{"$f":"VLOOKUP(H690,'Ark1'!$C$2:$D$12,2,FALSE)","v":5}]
[689,20,{"$f":"VLOOKUP(B691,'Ark1'!C$2:D$11,2,FALSE)","v":1},689,80,{"$f":"VLOOKUP(E691,'Ark1'!$C$2:$D$11,2,FALSE)","v":5},689,125,{"$f":"VLOOKUP(H691,'Ark1'!$C$2:$D$12,2,FALSE)","v":5}]
[690,20,{"$f":"VLOOKUP(B692,'Ark1'!C$2:D$11,2,FALSE)","v":1},690,80,{"$f":"VLOOKUP(E692,'Ark1'!$C$2:$D$11,2,FALSE)","v":5},690,125,{"$f":"VLOOKUP(H692,'Ark1'!$C$2:$D$12,2,FALSE)","v":5}]
[691,20,{"$f":"VLOOKUP(B693,'Ark1'!C$2:D$11,2,FALSE)","v":1},691,80,{"$f":"VLOOKUP(E693,'Ark1'!$C$2:$D$11,2,FALSE)","v":5},691,125,{"$f":"VLOOKUP(H693,'Ark1'!$C$2:$D$12,2,FALSE)","v":5}]
[692,20,{"$f":"VLOOKUP(B694,'Ark1'!C$2:D$11,2,FALSE)","v":1},692,80,{"$f":"VLOOKUP(E694,'Ark1'!$C$2:$D$11,2,FALSE)","v":5},692,125,{"$f":"VLOOKUP(H694,'Ark1'!$C$2:$D$12,2,FALSE)","v":5}]
[693,20,{"$f":"VLOOKUP(B695,'Ark1'!C$2:D$11,2,FALSE)","v":1},693,80,{"$f":"VLOOKUP(E695,'Ark1'!$C$2:$D$11,2,FALSE)","v":5},693,125,{"$f":"VLOOKUP(H695,'Ark1'!$C$2:$D$12,2,FALSE)","v":5}]
[694,20,{"$f":"VLOOKUP(B696,'Ark1'!C$2:D$11,2,FALSE)","v":1},694,80,{"$f":"VLOOKUP(E696,'Ark1'!$C$2:$D$11,2,FALSE)","v":5},694,125,{"$f":"VLOOKUP(H696,'Ark1'!$C$2:$D$12,2,FALSE)","v":5}]
[695,20,{"$f":"VLOOKUP(B697,'Ark1'!C$2:D$11,2,FALSE)","v":1},695,80,{"$f":"VLOOKUP(E697,'Ark1'!$C$2:$D$11,2,FALSE)","v":5},695,125,{"$f":"VLOOKUP(H697,'Ark1'!$C$2:$D$12,2,FALSE)","v":5}]
[696,20,{"$f":"VLOOKUP(B698,'Ark1'!C$2:D$11,2,FALSE)","v":1},696,80,{"$f":"VLOOKUP(E698,'Ark1'!$C$2:$D$11,2,FALSE)","v":5},696,125,{"$f":"VLOOKUP(H698,'Ark1'!$C$2:$D$12,2,FALSE)","v":5}]
[697,20,{"$f":"VLOOKUP(B699,'Ark1'!C$2:D$11,2,FALSE)","v":1},697,80,{"$f":"VLOOKUP(E699,'Ark1'!$C$2:$D$11,2,FALSE)","v":5},697,125,{"$f":"VLOOKUP(H699,'Ark1'!$C$2:$D$12,2,FALSE)","v":5}]
[698,20,{"$f":"VLOOKUP(B700,'Ark1'!C$2:D$11,2,FALSE)","v":1},698,80,{"$f":"VLOOKUP(E700,'Ark1'!$C$2:$D$11,2,FALSE)","v":5},698,125,{"$f":"VLOOKUP(H700,'Ark1'!$C$2:$D$12,2,FALSE)","v":5}]
[699,20,{"$f":"VLOOKUP(B701,'Ark1'!C$2:D$11,2,FALSE)","v":1},699,80,{"$f":"VLOOKUP(E701,'Ark1'!$C$2:$D$11,2,FALSE)","v":5},699,125,{"$f":"VLOOKUP(H701,'Ark1'!$C$2:$D$12,2,FALSE)","v":5}]
[700,20,{"$f":"VLOOKUP(B702,'Ark1'!C$2:D$11,2,FALSE)","v":1},700,80,{"$f":"VLOOKUP(E702,'Ark1'!$C$2:$D$11,2,FALSE)","v":5},700,125,{"$f":"VLOOKUP(H702,'Ark1'!$C$2:$D$12,2,FALSE)","v":5}]
[701,20,{"$f":"VLOOKUP(B703,'Ark1'!C$2:D$11,2,FALSE)","v":1},701,80,{"$f":"VLOOKUP(E703,'Ark1'!$C$2:$D$11,2,FALSE)","v":5},701,125,{"$f":"VLOOKUP(H703,'Ark1'!$C$2:$D$12,2,FALSE)","v":5}]
[702,20,{"$f":"VLOOKUP(B704,'Ark1'!C$2:D$11,2,FALSE)","v":1},702,80,{"$f":"VLOOKUP(E704,'Ark1'!$C$2:$D$11,2,FALSE)","v":5},702,125,{"$f":"VLOOKUP(H704,'Ark1'!$C$2:$D$12,2,FALSE)","v":5}]
[703,20,{"$f":"VLOOKUP(B705,'Ark1'!C$2:D$11,2,FALSE)","v":1},703,80,{"$f":"VLOOKUP(E705,'Ark1'!$C$2:$D$11,2,FALSE)","v":5},703,125,{"$f":"VLOOKUP(H705,'Ark1'!$C$2:$D$12,2,FALSE)","v":5}]
[704,20,{"$f":"VLOOKUP(B706,'Ark1'!C$2:D$11,2,FALSE)","v":1},704,80,{"$f":"VLOOKUP(E706,'Ark1'!$C$2:$D$11,2,FALSE)","v":5},704,125,{"$f":"VLOOKUP(H706,'Ark1'!$C$2:$D$12,2,FALSE)","v":5}]
[705,20,{"$f":"VLOOKUP(B707,'Ark1'!C$2:D$11,2,FALSE)","v":1},705,80,{"$f":"VLOOKUP(E707,'Ark1'!$C$2:$D$11,2,FALSE)","v":5},705,125,{"$f":"VLOOKUP(H707,'Ark1'!$C$2:$D$12,2,FALSE)","v":5}]
[706,20,{"$f":"VLOOKUP(B708,'Ark1'!C$2:D$11,2,FALSE)","v":1},706,80,{"$f":"VLOOKUP(E708,'Ark1'!$C$2:$D$11,2,FALSE)","v":5},706,125,{"$f":"VLOOKUP(H708,'Ark1'!$C$2:$D$12,2,FALSE)","v":5}]
[707,20,{"$f":"VLOOKUP(B709,'Ark1'!C$2:D$11,2,FALSE)","v":1},707,80,{"$f":"VLOOKUP(E709,'Ark1'!$C$2:$D$11,2,FALSE)","v":5},707,125,{"$f":"VLOOKUP(H709,'Ark1'!$C$2:$D$12,2,FALSE)","v":5}]
[708,20,{"$f":"VLOOKUP(B710,'Ark1'!C$2:D$11,2,FALSE)","v":1},708,80,{"$f":"VLOOKUP(E710,'Ark1'!$C$2:$D$11,2,FALSE)","v":5},708,125,{"$f":"VLOOKUP(H710,'Ark1'!$C$2:$D$12,2,FALSE)","v":5}]
[709,20,{"$f":"VLOOKUP(B711,'Ark1'!C$2:D$11,2,FALSE)","v":1},709,80,{"$f":"VLOOKUP(E711,'Ark1'!$C$2:$D$11,2,FALSE)","v":5},709,125,{"$f":"VLOOKUP(H711,'Ark1'!$C$2:$D$12,2,FALSE)","v":5}]
[710,20,{"$f":"VLOOKUP(B712,'Ark1'!C$2:D$11,2,FALSE)","v":1},710,80,{"$f":"VLOOKUP(E712,'Ark1'!$C$2:$D$11,2,FALSE)","v":5},710,125,{"$f":"VLOOKUP(H712,'Ark1'!$C$2:$D$12,2,FALSE)","v":5}]
[711,20,{"$f":"VLOOKUP(B713,'Ark1'!C$2:D$11,2,FALSE)","v":1},711,80,{"$f":"VLOOKUP(E713,'Ark1'!$C$2:$D$11,2,FALSE)","v":5},711,125,{"$f":"VLOOKUP(H713,'Ark1'!$C$2:$D$12,2,FALSE)","v":5}]
[712,20,{"$f":"VLOOKUP(B714,'Ark1'!C$2:D$11,2,FALSE)","v":1},712,80,{"$f":"VLOOKUP(E714,'Ark1'!$C$2:$D$11,2,FALSE)","v":5},712,125,{"$f":"VLOOKUP(H714,'Ark1'!$C$2:$D$12,2,FALSE)","v":5}]
[713,20,{"$f":"VLOOKUP(B715,'Ark1'!C$2:D$11,2,FALSE)","v":1},713,80,{"$f":"VLOOKUP(E715,'Ark1'!$C$2:$D$11,2,FALSE)","v":5},713,125,{"$f":"VLOOKUP(H715,'Ark1'!$C$2:$D$12,2,FALSE)","v":5}]
[714,20,{"$f":"VLOOKUP(B716,'Ark1'!C$2:D$11,2,FALSE)","v":1},714,80,{"$f":"VLOOKUP(E716,'Ark1'!$C$2:$D$11,2,FALSE)","v":5},714,125,{"$f":"VLOOKUP(H716,'Ark1'!$C$2:$D$12,2,FALSE)","v":5}]
[715,20,{"$f":"VLOOKUP(B717,'Ark1'!C$2:D$11,2,FALSE)","v":1},715,80,{"$f":"VLOOKUP(E717,'Ark1'!$C$2:$D$11,2,FALSE)","v":5},715,125,{"$f":"VLOOKUP(H717,'Ark1'!$C$2:$D$12,2,FALSE)","v":5}]
[716,20,{"$f":"VLOOKUP(B718,'Ark1'!C$2:D$11,2,FALSE)","v":1},716,80,{"$f":"VLOOKUP(E718,'Ark1'!$C$2:$D$11,2,FALSE)","v":5},716,125,{"$f":"VLOOKUP(H718,'Ark1'!$C$2:$D$12,2,FALSE)","v":5}]
[717,20,{"$f":"VLOOKUP(B719,'Ark1'!C$2:D$11,2,FALSE)","v":1},717,80,{"$f":"VLOOKUP(E719,'Ark1'!$C$2:$D$11,2,FALSE)","v":5},717,125,{"$f":"VLOOKUP(H719,'Ark1'!$C$2:$D$12,2,FALSE)","v":5}]
[718,20,{"$f":"VLOOKUP(B720,'Ark1'!C$2:D$11,2,FALSE)","v":1},718,80,{"$f":"VLOOKUP(E720,'Ark1'!$C$2:$D$11,2,FALSE)","v":5},718,125,{"$f":"VLOOKUP(H720,'Ark1'!$C$2:$D$12,2,FALSE)","v":5}]
[719,20,{"$f":"VLOOKUP(B721,'Ark1'!C$2:D$11,2,FALSE)","v":1},719,80,{"$f":"VLOOKUP(E721,'Ark1'!$C$2:$D$11,2,FALSE)","v":5},719,125,{"$f":"VLOOKUP(H721,'Ark1'!$C$2:$D$12,2,FALSE)","v":5}]
[720,20,{"$f":"VLOOKUP(B722,'Ark1'!C$2:D$11,2,FALSE)","v":1},720,80,{"$f":"VLOOKUP(E722,'Ark1'!$C$2:$D$11,2,FALSE)","v":5},720,125,{"$f":"VLOOKUP(H722,'Ark1'!$C$2:$D$12,2,FALSE)","v":5}]
[721,20,{"$f":"VLOOKUP(B723,'Ark1'!C$2:D$11,2,FALSE)","v":1},721,80,{"$f":"VLOOKUP(E723,'Ark1'!$C$2:$D$11,2,FALSE)","v":5},721,125,{"$f":"VLOOKUP(H723,'Ark1'!$C$2:$D$12,2,FALSE)","v":5}]
[722,20,{"$f":"VLOOKUP(B724,'Ark1'!C$2:D$11,2,FALSE)","v":1},722,80,{"$f":"VLOOKUP(E724,'Ark1'!$C$2:$D$11,2,FALSE)","v":5},722,125,{"$f":"VLOOKUP(H724,'Ark1'!$C$2:$D$12,2,FALSE)","v":5}]
[723,20,{"$f":"VLOOKUP(B725,'Ark1'!C$2:D$11,2,FALSE)","v":1},723,80,{"$f":"VLOOKUP(E725,'Ark1'!$C$2:$D$11,2,FALSE)","v":5},723,125,{"$f":"VLOOKUP(H725,'Ark1'!$C$2:$D$12,2,FALSE)","v":5}]
[724,20,{"$f":"VLOOKUP(B726,'Ark1'!C$2:D$11,2,FALSE)","v":1},724,80,{"$f":"VLOOKUP(E726,'Ark1'!$C$2:$D$11,2,FALSE)","v":5},724,125,{"$f":"VLOOKUP(H726,'Ark1'!$C$2:$D$12,2,FALSE)","v":5}]
[725,20,{"$f":"VLOOKUP(B727,'Ark1'!C$2:D$11,2,FALSE)","v":1},725,80,{"$f":"VLOOKUP(E727,'Ark1'!$C$2:$D$11,2,FALSE)","v":5},725,125,{"$f":"VLOOKUP(H727,'Ark1'!$C$2:$D$12,2,FALSE)","v":5}]
[726,20,{"$f":"VLOOKUP(B728,'Ark1'!C$2:D$11,2,FALSE)","v":1},726,80,{"$f":"VLOOKUP(E728,'Ark1'!$C$2:$D$11,2,FALSE)","v":5},726,125,{"$f":"VLOOKUP(H728,'Ark1'!$C$2:$D$12,2,FALSE)","v":5}]
[727,20,{"$f":"VLOOKUP(B729,'Ark1'!C$2:D$11,2,FALSE)","v":1},727,80,{"$f":"VLOOKUP(E729,'Ark1'!$C$2:$D$11,2,FALSE)","v":5},727,125,{"$f":"VLOOKUP(H729,'Ark1'!$C$2:$D$12,2,FALSE)","v":5}]
[728,20,{"$f":"VLOOKUP(B730,'Ark1'!C$2:D$11,2,FALSE)","v":1},728,80,{"$f":"VLOOKUP(E730,'Ark1'!$C$2:$D$11,2,FALSE)","v":5},728,125,{"$f":"VLOOKUP(H730,'Ark1'!$C$2:$D$12,2,FALSE)","v":5}]
[729,20,{"$f":"VLOOKUP(B731,'Ark1'!C$2:D$11,2,FALSE)","v":1},729,80,{"$f":"VLOOKUP(E731,'Ark1'!$C$2:$D$11,2,FALSE)","v":5},729,125,{"$f":"VLOOKUP(H731,'Ark1'!$C$2:$D$12,2,FALSE)","v":5}]
[730,20,{"$f":"VLOOKUP(B732,'Ark1'!C$2:D$11,2,FALSE)","v":1},730,80,{"$f":"VLOOKUP(E732,'Ark1'!$C$2:$D$11,2,FALSE)","v":5},730,125,{"$f":"VLOOKUP(H732,'Ark1'!$C$2:$D$12,2,FALSE)","v":5}]
[731,20,{"$f":"VLOOKUP(B733,'Ark1'!C$2:D$11,2,FALSE)","v":1},731,80,{"$f":"VLOOKUP(E733,'Ark1'!$C$2:$D$11,2,FALSE)","v":5},731,125,{"$f":"VLOOKUP(H733,'Ark1'!$C$2:$D$12,2,FALSE)","v":5}]
[732,20,{"$f":"VLOOKUP(B734,'Ark1'!C$2:D$11,2,FALSE)","v":1},732,80,{"$f":"VLOOKUP(E734,'Ark1'!$C$2:$D$11,2,FALSE)","v":5},732,125,{"$f":"VLOOKUP(H734,'Ark1'!$C$2:$D$12,2,FALSE)","v":5}]
[733,20,{"$f":"VLOOKUP(B735,'Ark1'!C$2:D$11,2,FALSE)","v":1},733,80,{"$f":"VLOOKUP(E735,'Ark1'!$C$2:$D$11,2,FALSE)","v":5},733,125,{"$f":"VLOOKUP(H735,'Ark1'!$C$2:$D$12,2,FALSE)","v":5}]
[734,20,{"$f":"VLOOKUP(B736,'Ark1'!C$2:D$11,2,FALSE)","v":1},734,80,{"$f":"VLOOKUP(E736,'Ark1'!$C$2:$D$11,2,FALSE)","v":5},734,125,{"$f":"VLOOKUP(H736,'Ark1'!$C$2:$D$12,2,FALSE)","v":5}]
[735,20,{"$f":"VLOOKUP(B737,'Ark1'!C$2:D$11,2,FALSE)","v":1},735,80,{"$f":"VLOOKUP(E737,'Ark1'!$C$2:$D$11,2,FALSE)","v":5},735,125,{"$f":"VLOOKUP(H737,'Ark1'!$C$2:$D$12,2,FALSE)","v":5}]
[736,20,{"$f":"VLOOKUP(B738,'Ark1'!C$2:D$11,2,FALSE)","v":1},736,80,{"$f":"VLOOKUP(E738,'Ark1'!$C$2:$D$11,2,FALSE)","v":5},736,125,{"$f":"VLOOKUP(H738,'Ark1'!$C$2:$D$12,2,FALSE)","v":5}]
[737,20,{"$f":"VLOOKUP(B739,'Ark1'!C$2:D$11,2,FALSE)","v":1},737,80,{"$f":"VLOOKUP(E739,'Ark1'!$C$2:$D$11,2,FALSE)","v":5},737,125,{"$f":"VLOOKUP(H739,'Ark1'!$C$2:$D$12,2,FALSE)","v":5}]
[738,20,{"$f":"VLOOKUP(B740,'Ark1'!C$2:D$11,2,FALSE)","v":1},738,80,{"$f":"VLOOKUP(E740,'Ark1'!$C$2:$D$11,2,FALSE)","v":5},738,125,{"$f":"VLOOKUP(H740,'Ark1'!$C$2:$D$12,2,FALSE)","v":5}]
[739,20,{"$f":"VLOOKUP(B741,'Ark1'!C$2:D$11,2,FALSE)","v":1},739,80,{"$f":"VLOOKUP(E741,'Ark1'!$C$2:$D$11,2,FALSE)","v":5},739,125,{"$f":"VLOOKUP(H741,'Ark1'!$C$2:$D$12,2,FALSE)","v":5}]
[740,20,{"$f":"VLOOKUP(B742,'Ark1'!C$2:D$11,2,FALSE)","v":1},740,80,{"$f":"VLOOKUP(E742,'Ark1'!$C$2:$D$11,2,FALSE)","v":5},740,125,{"$f":"VLOOKUP(H742,'Ark1'!$C$2:$D$12,2,FALSE)","v":5}]
[741,20,{"$f":"VLOOKUP(B743,'Ark1'!C$2:D$11,2,FALSE)","v":1},741,80,{"$f":"VLOOKUP(E743,'Ark1'!$C$2:$D$11,2,FALSE)","v":5},741,125,{"$f":"VLOOKUP(H743,'Ark1'!$C$2:$D$12,2,FALSE)","v":5}]
[742,20,{"$f":"VLOOKUP(B744,'Ark1'!C$2:D$11,2,FALSE)","v":1},742,80,{"$f":"VLOOKUP(E744,'Ark1'!$C$2:$D$11,2,FALSE)","v":5},742,125,{"$f":"VLOOKUP(H744,'Ark1'!$C$2:$D$12,2,FALSE)","v":5}]
[743,20,{"$f":"VLOOKUP(B745,'Ark1'!C$2:D$11,2,FALSE)","v":1},743,80,{"$f":"VLOOKUP(E745,'Ark1'!$C$2:$D$11,2,FALSE)","v":5},743,125,{"$f":"VLOOKUP(H745,'Ark1'!$C$2:$D$12,2,FALSE)","v":5}]
[744,20,{"$f":"VLOOKUP(B746,'Ark1'!C$2:D$11,2,FALSE)","v":1},744,80,{"$f":"VLOOKUP(E746,'Ark1'!$C$2:$D$11,2,FALSE)","v":5},744,125,{"$f":"VLOOKUP(H746,'Ark1'!$C$2:$D$12,2,FALSE)","v":5}]
[745,20,{"$f":"VLOOKUP(B747,'Ark1'!C$2:D$11,2,FALSE)","v":1},745,80,{"$f":"VLOOKUP(E747,'Ark1'!$C$2:$D$11,2,FALSE)","v":5},745,125,{"$f":"VLOOKUP(H747,'Ark1'!$C$2:$D$12,2,FALSE)","v":5}]
[746,20,{"$f":"VLOOKUP(B748,'Ark1'!C$2:D$11,2,FALSE)","v":1},746,80,{"$f":"VLOOKUP(E748,'Ark1'!$C$2:$D$11,2,FALSE)","v":5},746,125,{"$f":"VLOOKUP(H748,'Ark1'!$C$2:$D$12,2,FALSE)","v":5}]
[747,20,{"$f":"VLOOKUP(B749,'Ark1'!C$2:D$11,2,FALSE)","v":1},747,80,{"$f":"VLOOKUP(E749,'Ark1'!$C$2:$D$11,2,FALSE)","v":5},747,125,{"$f":"VLOOKUP(H749,'Ark1'!$C$2:$D$12,2,FALSE)","v":5}]
[748,20,{"$f":"VLOOKUP(B750,'Ark1'!C$2:D$11,2,FALSE)","v":1},748,80,{"$f":"VLOOKUP(E750,'Ark1'!$C$2:$D$11,2,FALSE)","v":5},748,125,{"$f":"VLOOKUP(H750,'Ark1'!$C$2:$D$12,2,FALSE)","v":5}]
[749,20,{"$f":"VLOOKUP(B751,'Ark1'!C$2:D$11,2,FALSE)","v":1},749,80,{"$f":"VLOOKUP(E751,'Ark1'!$C$2:$D$11,2,FALSE)","v":5},749,125,{"$f":"VLOOKUP(H751,'Ark1'!$C$2:$D$12,2,FALSE)","v":5}]
[750,20,{"$f":"VLOOKUP(B752,'Ark1'!C$2:D$11,2,FALSE)","v":1},750,80,{"$f":"VLOOKUP(E752,'Ark1'!$C$2:$D$11,2,FALSE)","v":5},750,125,{"$f":"VLOOKUP(H752,'Ark1'!$C$2:$D$12,2,FALSE)","v":5}]
[751,20,{"$f":"VLOOKUP(B753,'Ark1'!C$2:D$11,2,FALSE)","v":1},751,80,{"$f":"VLOOKUP(E753,'Ark1'!$C$2:$D$11,2,FALSE)","v":5},751,125,{"$f":"VLOOKUP(H753,'Ark1'!$C$2:$D$12,2,FALSE)","v":5}]
[752,20,{"$f":"VLOOKUP(B754,'Ark1'!C$2:D$11,2,FALSE)","v":1},752,80,{"$f":"VLOOKUP(E754,'Ark1'!$C$2:$D$11,2,FALSE)","v":5},752,125,{"$f":"VLOOKUP(H754,'Ark1'!$C$2:$D$12,2,FALSE)","v":5}]
[753,20,{"$f":"VLOOKUP(B755,'Ark1'!C$2:D$11,2,FALSE)","v":1},753,80,{"$f":"VLOOKUP(E755,'Ark1'!$C$2:$D$11,2,FALSE)","v":5},753,125,{"$f":"VLOOKUP(H755,'Ark1'!$C$2:$D$12,2,FALSE)","v":5}]
[754,20,{"$f":"VLOOKUP(B756,'Ark1'!C$2:D$11,2,FALSE)","v":1},754,80,{"$f":"VLOOKUP(E756,'Ark1'!$C$2:$D$11,2,FALSE)","v":5},754,125,{"$f":"VLOOKUP(H756,'Ark1'!$C$2:$D$12,2,FALSE)","v":5}]
[755,20,{"$f":"VLOOKUP(B757,'Ark1'!C$2:D$11,2,FALSE)","v":1},755,80,{"$f":"VLOOKUP(E757,'Ark1'!$C$2:$D$11,2,FALSE)","v":5},755,125,{"$f":"VLOOKUP(H757,'Ark1'!$C$2:$D$12,2,FALSE)","v":5}]
[756,20,{"$f":"VLOOKUP(B758,'Ark1'!C$2:D$11,2,FALSE)","v":1},756,80,{"$f":"VLOOKUP(E758,'Ark1'!$C$2:$D$11,2,FALSE)","v":5},756,125,{"$f":"VLOOKUP(H758,'Ark1'!$C$2:$D$12,2,FALSE)","v":5}]
[757,20,{"$f":"VLOOKUP(B759,'Ark1'!C$2:D$11,2,FALSE)","v":1},757,80,{"$f":"VLOOKUP(E759,'Ark1'!$C$2:$D$11,2,FALSE)","v":5},757,125,{"$f":"VLOOKUP(H759,'Ark1'!$C$2:$D$12,2,FALSE)","v":5}]
[758,20,{"$f":"VLOOKUP(B760,'Ark1'!C$2:D$11,2,FALSE)","v":1},758,80,{"$f":"VLOOKUP(E760,'Ark1'!$C$2:$D$11,2,FALSE)","v":5},758,125,{"$f":"VLOOKUP(H760,'Ark1'!$C$2:$D$12,2,FALSE)","v":5}]
[759,20,{"$f":"VLOOKUP(B761,'Ark1'!C$2:D$11,2,FALSE)","v":1},759,80,{"$f":"VLOOKUP(E761,'Ark1'!$C$2:$D$11,2,FALSE)","v":5},759,125,{"$f":"VLOOKUP(H761,'Ark1'!$C$2:$D$12,2,FALSE)","v":5}]
[760,20,{"$f":"VLOOKUP(B762,'Ark1'!C$2:D$11,2,FALSE)","v":1},760,80,{"$f":"VLOOKUP(E762,'Ark1'!$C$2:$D$11,2,FALSE)","v":5},760,125,{"$f":"VLOOKUP(H762,'Ark1'!$C$2:$D$12,2,FALSE)","v":5}]
[761,20,{"$f":"VLOOKUP(B763,'Ark1'!C$2:D$11,2,FALSE)","v":1},761,80,{"$f":"VLOOKUP(E763,'Ark1'!$C$2:$D$11,2,FALSE)","v":5},761,125,{"$f":"VLOOKUP(H763,'Ark1'!$C$2:$D$12,2,FALSE)","v":5}]
[762,20,{"$f":"VLOOKUP(B764,'Ark1'!C$2:D$11,2,FALSE)","v":1},762,80,{"$f":"VLOOKUP(E764,'Ark1'!$C$2:$D$11,2,FALSE)","v":5},762,125,{"$f":"VLOOKUP(H764,'Ark1'!$C$2:$D$12,2,FALSE)","v":5}]
[763,20,{"$f":"VLOOKUP(B765,'Ark1'!C$2:D$11,2,FALSE)","v":1},763,80,{"$f":"VLOOKUP(E765,'Ark1'!$C$2:$D$11,2,FALSE)","v":5},763,125,{"$f":"VLOOKUP(H765,'Ark1'!$C$2:$D$12,2,FALSE)","v":5}]
[764,20,{"$f":"VLOOKUP(B766,'Ark1'!C$2:D$11,2,FALSE)","v":1},764,80,{"$f":"VLOOKUP(E766,'Ark1'!$C$2:$D$11,2,FALSE)","v":5},764,125,{"$f":"VLOOKUP(H766,'Ark1'!$C$2:$D$12,2,FALSE)","v":5}]
[765,20,{"$f":"VLOOKUP(B767,'Ark1'!C$2:D$11,2,FALSE)","v":1},765,80,{"$f":"VLOOKUP(E767,'Ark1'!$C$2:$D$11,2,FALSE)","v":5},765,125,{"$f":"VLOOKUP(H767,'Ark1'!$C$2:$D$12,2,FALSE)","v":5}]
[766,20,{"$f":"VLOOKUP(B768,'Ark1'!C$2:D$11,2,FALSE)","v":1},766,80,{"$f":"VLOOKUP(E768,'Ark1'!$C$2:$D$11,2,FALSE)","v":5},766,125,{"$f":"VLOOKUP(H768,'Ark1'!$C$2:$D$12,2,FALSE)","v":5}]
[767,20,{"$f":"VLOOKUP(B769,'Ark1'!C$2:D$11,2,FALSE)","v":1},767,80,{"$f":"VLOOKUP(E769,'Ark1'!$C$2:$D$11,2,FALSE)","v":5},767,125,{"$f":"VLOOKUP(H769,'Ark1'!$C$2:$D$12,2,FALSE)","v":5}]
[768,20,{"$f":"VLOOKUP(B770,'Ark1'!C$2:D$11,2,FALSE)","v":1},768,80,{"$f":"VLOOKUP(E770,'Ark1'!$C$2:$D$11,2,FALSE)","v":5},768,125,{"$f":"VLOOKUP(H770,'Ark1'!$C$2:$D$12,2,FALSE)","v":5}]
[769,20,{"$f":"VLOOKUP(B771,'Ark1'!C$2:D$11,2,FALSE)","v":1},769,80,{"$f":"VLOOKUP(E771,'Ark1'!$C$2:$D$11,2,FALSE)","v":5},769,125,{"$f":"VLOOKUP(H771,'Ark1'!$C$2:$D$12,2,FALSE)","v":5}]
[770,20,{"$f":"VLOOKUP(B772,'Ark1'!C$2:D$11,2,FALSE)","v":1},770,80,{"$f":"VLOOKUP(E772,'Ark1'!$C$2:$D$11,2,FALSE)","v":5},770,125,{"$f":"VLOOKUP(H772,'Ark1'!$C$2:$D$12,2,FALSE)","v":5}]
[771,20,{"$f":"VLOOKUP(B773,'Ark1'!C$2:D$11,2,FALSE)","v":1},771,80,{"$f":"VLOOKUP(E773,'Ark1'!$C$2:$D$11,2,FALSE)","v":5},771,125,{"$f":"VLOOKUP(H773,'Ark1'!$C$2:$D$12,2,FALSE)","v":5}]
[772,20,{"$f":"VLOOKUP(B774,'Ark1'!C$2:D$11,2,FALSE)","v":1},772,80,{"$f":"VLOOKUP(E774,'Ark1'!$C$2:$D$11,2,FALSE)","v":5},772,125,{"$f":"VLOOKUP(H774,'Ark1'!$C$2:$D$12,2,FALSE)","v":5}]
[773,20,{"$f":"VLOOKUP(B775,'Ark1'!C$2:D$11,2,FALSE)","v":1},773,80,{"$f":"VLOOKUP(E775,'Ark1'!$C$2:$D$11,2,FALSE)","v":5},773,125,{"$f":"VLOOKUP(H775,'Ark1'!$C$2:$D$12,2,FALSE)","v":5}]
[774,20,{"$f":"VLOOKUP(B776,'Ark1'!C$2:D$11,2,FALSE)","v":1},774,80,{"$f":"VLOOKUP(E776,'Ark1'!$C$2:$D$11,2,FALSE)","v":5},774,125,{"$f":"VLOOKUP(H776,'Ark1'!$C$2:$D$12,2,FALSE)","v":5}]
[775,20,{"$f":"VLOOKUP(B777,'Ark1'!C$2:D$11,2,FALSE)","v":1},775,80,{"$f":"VLOOKUP(E777,'Ark1'!$C$2:$D$11,2,FALSE)","v":5},775,125,{"$f":"VLOOKUP(H777,'Ark1'!$C$2:$D$12,2,FALSE)","v":5}]
[776,20,{"$f":"VLOOKUP(B778,'Ark1'!C$2:D$11,2,FALSE)","v":1},776,80,{"$f":"VLOOKUP(E778,'Ark1'!$C$2:$D$11,2,FALSE)","v":5},776,125,{"$f":"VLOOKUP(H778,'Ark1'!$C$2:$D$12,2,FALSE)","v":5}]
[777,20,{"$f":"VLOOKUP(B779,'Ark1'!C$2:D$11,2,FALSE)","v":1},777,80,{"$f":"VLOOKUP(E779,'Ark1'!$C$2:$D$11,2,FALSE)","v":5},777,125,{"$f":"VLOOKUP(H779,'Ark1'!$C$2:$D$12,2,FALSE)","v":5}]
[778,20,{"$f":"VLOOKUP(B780,'Ark1'!C$2:D$11,2,FALSE)","v":1},778,80,{"$f":"VLOOKUP(E780,'Ark1'!$C$2:$D$11,2,FALSE)","v":5},778,125,{"$f":"VLOOKUP(H780,'Ark1'!$C$2:$D$12,2,FALSE)","v":5}]
[779,20,{"$f":"VLOOKUP(B781,'Ark1'!C$2:D$11,2,FALSE)","v":1},779,80,{"$f":"VLOOKUP(E781,'Ark1'!$C$2:$D$11,2,FALSE)","v":5},779,125,{"$f":"VLOOKUP(H781,'Ark1'!$C$2:$D$12,2,FALSE)","v":5}]
[780,20,{"$f":"VLOOKUP(B782,'Ark1'!C$2:D$11,2,FALSE)","v":1},780,80,{"$f":"VLOOKUP(E782,'Ark1'!$C$2:$D$11,2,FALSE)","v":5},780,125,{"$f":"VLOOKUP(H782,'Ark1'!$C$2:$D$12,2,FALSE)","v":5}]
[781,20,{"$f":"VLOOKUP(B783,'Ark1'!C$2:D$11,2,FALSE)","v":1},781,80,{"$f":"VLOOKUP(E783,'Ark1'!$C$2:$D$11,2,FALSE)","v":5},781,125,{"$f":"VLOOKUP(H783,'Ark1'!$C$2:$D$12,2,FALSE)","v":5}]
[782,20,{"$f":"VLOOKUP(B784,'Ark1'!C$2:D$11,2,FALSE)","v":1},782,80,{"$f":"VLOOKUP(E784,'Ark1'!$C$2:$D$11,2,FALSE)","v":5},782,125,{"$f":"VLOOKUP(H784,'Ark1'!$C$2:$D$12,2,FALSE)","v":5}]
[783,20,{"$f":"VLOOKUP(B785,'Ark1'!C$2:D$11,2,FALSE)","v":1},783,80,{"$f":"VLOOKUP(E785,'Ark1'!$C$2:$D$11,2,FALSE)","v":5},783,125,{"$f":"VLOOKUP(H785,'Ark1'!$C$2:$D$12,2,FALSE)","v":5}]
[784,20,{"$f":"VLOOKUP(B786,'Ark1'!C$2:D$11,2,FALSE)","v":1},784,80,{"$f":"VLOOKUP(E786,'Ark1'!$C$2:$D$11,2,FALSE)","v":5},784,125,{"$f":"VLOOKUP(H786,'Ark1'!$C$2:$D$12,2,FALSE)","v":5}]
[785,20,{"$f":"VLOOKUP(B787,'Ark1'!C$2:D$11,2,FALSE)","v":1},785,80,{"$f":"VLOOKUP(E787,'Ark1'!$C$2:$D$11,2,FALSE)","v":5},785,125,{"$f":"VLOOKUP(H787,'Ark1'!$C$2:$D$12,2,FALSE)","v":5}]
[786,20,{"$f":"VLOOKUP(B788,'Ark1'!C$2:D$11,2,FALSE)","v":1},786,80,{"$f":"VLOOKUP(E788,'Ark1'!$C$2:$D$11,2,FALSE)","v":5},786,125,{"$f":"VLOOKUP(H788,'Ark1'!$C$2:$D$12,2,FALSE)","v":5}]
[787,20,{"$f":"VLOOKUP(B789,'Ark1'!C$2:D$11,2,FALSE)","v":1},787,80,{"$f":"VLOOKUP(E789,'Ark1'!$C$2:$D$11,2,FALSE)","v":5},787,125,{"$f":"VLOOKUP(H789,'Ark1'!$C$2:$D$12,2,FALSE)","v":5}]
[788,20,{"$f":"VLOOKUP(B790,'Ark1'!C$2:D$11,2,FALSE)","v":1},788,80,{"$f":"VLOOKUP(E790,'Ark1'!$C$2:$D$11,2,FALSE)","v":5},788,125,{"$f":"VLOOKUP(H790,'Ark1'!$C$2:$D$12,2,FALSE)","v":5}]
[789,20,{"$f":"VLOOKUP(B791,'Ark1'!C$2:D$11,2,FALSE)","v":1},789,80,{"$f":"VLOOKUP(E791,'Ark1'!$C$2:$D$11,2,FALSE)","v":5},789,125,{"$f":"VLOOKUP(H791,'Ark1'!$C$2:$D$12,2,FALSE)","v":5}]
[790,20,{"$f":"VLOOKUP(B792,'Ark1'!C$2:D$11,2,FALSE)","v":1},790,80,{"$f":"VLOOKUP(E792,'Ark1'!$C$2:$D$11,2,FALSE)","v":5},790,125,{"$f":"VLOOKUP(H792,'Ark1'!$C$2:$D$12,2,FALSE)","v":5}]
[791,20,{"$f":"VLOOKUP(B793,'Ark1'!C$2:D$11,2,FALSE)","v":1},791,80,{"$f":"VLOOKUP(E793,'Ark1'!$C$2:$D$11,2,FALSE)","v":5},791,125,{"$f":"VLOOKUP(H793,'Ark1'!$C$2:$D$12,2,FALSE)","v":5}]
[792,20,{"$f":"VLOOKUP(B794,'Ark1'!C$2:D$11,2,FALSE)","v":1},792,80,{"$f":"VLOOKUP(E794,'Ark1'!$C$2:$D$11,2,FALSE)","v":5},792,125,{"$f":"VLOOKUP(H794,'Ark1'!$C$2:$D$12,2,FALSE)","v":5}]
[793,20,{"$f":"VLOOKUP(B795,'Ark1'!C$2:D$11,2,FALSE)","v":1},793,80,{"$f":"VLOOKUP(E795,'Ark1'!$C$2:$D$11,2,FALSE)","v":5},793,125,{"$f":"VLOOKUP(H795,'Ark1'!$C$2:$D$12,2,FALSE)","v":5}]
[794,20,{"$f":"VLOOKUP(B796,'Ark1'!C$2:D$11,2,FALSE)","v":1},794,80,{"$f":"VLOOKUP(E796,'Ark1'!$C$2:$D$11,2,FALSE)","v":5},794,125,{"$f":"VLOOKUP(H796,'Ark1'!$C$2:$D$12,2,FALSE)","v":5}]
[795,20,{"$f":"VLOOKUP(B797,'Ark1'!C$2:D$11,2,FALSE)","v":1},795,80,{"$f":"VLOOKUP(E797,'Ark1'!$C$2:$D$11,2,FALSE)","v":5},795,125,{"$f":"VLOOKUP(H797,'Ark1'!$C$2:$D$12,2,FALSE)","v":5}]
[796,20,{"$f":"VLOOKUP(B798,'Ark1'!C$2:D$11,2,FALSE)","v":1},796,80,{"$f":"VLOOKUP(E798,'Ark1'!$C$2:$D$11,2,FALSE)","v":5},796,125,{"$f":"VLOOKUP(H798,'Ark1'!$C$2:$D$12,2,FALSE)","v":5}]
[797,20,{"$f":"VLOOKUP(B799,'Ark1'!C$2:D$11,2,FALSE)","v":1},797,80,{"$f":"VLOOKUP(E799,'Ark1'!$C$2:$D$11,2,FALSE)","v":5},797,125,{"$f":"VLOOKUP(H799,'Ark1'!$C$2:$D$12,2,FALSE)","v":5}]
[798,20,{"$f":"VLOOKUP(B800,'Ark1'!C$2:D$11,2,FALSE)","v":1},798,80,{"$f":"VLOOKUP(E800,'Ark1'!$C$2:$D$11,2,FALSE)","v":5},798,125,{"$f":"VLOOKUP(H800,'Ark1'!$C$2:$D$12,2,FALSE)","v":5}]
[799,20,{"$f":"VLOOKUP(B801,'Ark1'!C$2:D$11,2,FALSE)","v":1},799,80,{"$f":"VLOOKUP(E801,'Ark1'!$C$2:$D$11,2,FALSE)","v":5},799,125,{"$f":"VLOOKUP(H801,'Ark1'!$C$2:$D$12,2,FALSE)","v":5}]
[800,20,{"$f":"VLOOKUP(B802,'Ark1'!C$2:D$11,2,FALSE)","v":1},800,80,{"$f":"VLOOKUP(E802,'Ark1'!$C$2:$D$11,2,FALSE)","v":5},800,125,{"$f":"VLOOKUP(H802,'Ark1'!$C$2:$D$12,2,FALSE)","v":5}]
[801,20,{"$f":"VLOOKUP(B803,'Ark1'!C$2:D$11,2,FALSE)","v":1},801,80,{"$f":"VLOOKUP(E803,'Ark1'!$C$2:$D$11,2,FALSE)","v":5},801,125,{"$f":"VLOOKUP(H803,'Ark1'!$C$2:$D$12,2,FALSE)","v":5}]
[802,20,{"$f":"VLOOKUP(B804,'Ark1'!C$2:D$11,2,FALSE)","v":1},802,80,{"$f":"VLOOKUP(E804,'Ark1'!$C$2:$D$11,2,FALSE)","v":5},802,125,{"$f":"VLOOKUP(H804,'Ark1'!$C$2:$D$12,2,FALSE)","v":5}]
[803,20,{"$f":"VLOOKUP(B805,'Ark1'!C$2:D$11,2,FALSE)","v":1},803,80,{"$f":"VLOOKUP(E805,'Ark1'!$C$2:$D$11,2,FALSE)","v":5},803,125,{"$f":"VLOOKUP(H805,'Ark1'!$C$2:$D$12,2,FALSE)","v":5}]
[804,20,{"$f":"VLOOKUP(B806,'Ark1'!C$2:D$11,2,FALSE)","v":1},804,80,{"$f":"VLOOKUP(E806,'Ark1'!$C$2:$D$11,2,FALSE)","v":5},804,125,{"$f":"VLOOKUP(H806,'Ark1'!$C$2:$D$12,2,FALSE)","v":5}]
[805,20,{"$f":"VLOOKUP(B807,'Ark1'!C$2:D$11,2,FALSE)","v":1},805,80,{"$f":"VLOOKUP(E807,'Ark1'!$C$2:$D$11,2,FALSE)","v":5},805,125,{"$f":"VLOOKUP(H807,'Ark1'!$C$2:$D$12,2,FALSE)","v":5}]
[806,20,{"$f":"VLOOKUP(B808,'Ark1'!C$2:D$11,2,FALSE)","v":1},806,80,{"$f":"VLOOKUP(E808,'Ark1'!$C$2:$D$11,2,FALSE)","v":5},806,125,{"$f":"VLOOKUP(H808,'Ark1'!$C$2:$D$12,2,FALSE)","v":5}]
[807,20,{"$f":"VLOOKUP(B809,'Ark1'!C$2:D$11,2,FALSE)","v":1},807,80,{"$f":"VLOOKUP(E809,'Ark1'!$C$2:$D$11,2,FALSE)","v":5},807,125,{"$f":"VLOOKUP(H809,'Ark1'!$C$2:$D$12,2,FALSE)","v":5}]
[808,20,{"$f":"VLOOKUP(B810,'Ark1'!C$2:D$11,2,FALSE)","v":1},808,80,{"$f":"VLOOKUP(E810,'Ark1'!$C$2:$D$11,2,FALSE)","v":5},808,125,{"$f":"VLOOKUP(H810,'Ark1'!$C$2:$D$12,2,FALSE)","v":5}]
[809,20,{"$f":"VLOOKUP(B811,'Ark1'!C$2:D$11,2,FALSE)","v":1},809,80,{"$f":"VLOOKUP(E811,'Ark1'!$C$2:$D$11,2,FALSE)","v":5},809,125,{"$f":"VLOOKUP(H811,'Ark1'!$C$2:$D$12,2,FALSE)","v":5}]
[810,20,{"$f":"VLOOKUP(B812,'Ark1'!C$2:D$11,2,FALSE)","v":1},810,80,{"$f":"VLOOKUP(E812,'Ark1'!$C$2:$D$11,2,FALSE)","v":5},810,125,{"$f":"VLOOKUP(H812,'Ark1'!$C$2:$D$12,2,FALSE)","v":5}]
[811,20,{"$f":"VLOOKUP(B813,'Ark1'!C$2:D$11,2,FALSE)","v":1},811,80,{"$f":"VLOOKUP(E813,'Ark1'!$C$2:$D$11,2,FALSE)","v":5},811,125,{"$f":"VLOOKUP(H813,'Ark1'!$C$2:$D$12,2,FALSE)","v":5}]
[812,20,{"$f":"VLOOKUP(B814,'Ark1'!C$2:D$11,2,FALSE)","v":1},812,80,{"$f":"VLOOKUP(E814,'Ark1'!$C$2:$D$11,2,FALSE)","v":5},812,125,{"$f":"VLOOKUP(H814,'Ark1'!$C$2:$D$12,2,FALSE)","v":5}]
[813,20,{"$f":"VLOOKUP(B815,'Ark1'!C$2:D$11,2,FALSE)","v":1},813,80,{"$f":"VLOOKUP(E815,'Ark1'!$C$2:$D$11,2,FALSE)","v":5},813,125,{"$f":"VLOOKUP(H815,'Ark1'!$C$2:$D$12,2,FALSE)","v":5}]
[814,20,{"$f":"VLOOKUP(B816,'Ark1'!C$2:D$11,2,FALSE)","v":1},814,80,{"$f":"VLOOKUP(E816,'Ark1'!$C$2:$D$11,2,FALSE)","v":5},814,125,{"$f":"VLOOKUP(H816,'Ark1'!$C$2:$D$12,2,FALSE)","v":5}]
[815,20,{"$f":"VLOOKUP(B817,'Ark1'!C$2:D$11,2,FALSE)","v":1},815,80,{"$f":"VLOOKUP(E817,'Ark1'!$C$2:$D$11,2,FALSE)","v":5},815,125,{"$f":"VLOOKUP(H817,'Ark1'!$C$2:$D$12,2,FALSE)","v":5}]
[816,20,{"$f":"VLOOKUP(B818,'Ark1'!C$2:D$11,2,FALSE)","v":1},816,80,{"$f":"VLOOKUP(E818,'Ark1'!$C$2:$D$11,2,FALSE)","v":5},816,125,{"$f":"VLOOKUP(H818,'Ark1'!$C$2:$D$12,2,FALSE)","v":5}]
[817,20,{"$f":"VLOOKUP(B819,'Ark1'!C$2:D$11,2,FALSE)","v":1},817,80,{"$f":"VLOOKUP(E819,'Ark1'!$C$2:$D$11,2,FALSE)","v":5},817,125,{"$f":"VLOOKUP(H819,'Ark1'!$C$2:$D$12,2,FALSE)","v":5}]
[818,20,{"$f":"VLOOKUP(B820,'Ark1'!C$2:D$11,2,FALSE)","v":1},818,80,{"$f":"VLOOKUP(E820,'Ark1'!$C$2:$D$11,2,FALSE)","v":5},818,125,{"$f":"VLOOKUP(H820,'Ark1'!$C$2:$D$12,2,FALSE)","v":5}]
[819,20,{"$f":"VLOOKUP(B821,'Ark1'!C$2:D$11,2,FALSE)","v":1},819,80,{"$f":"VLOOKUP(E821,'Ark1'!$C$2:$D$11,2,FALSE)","v":5},819,125,{"$f":"VLOOKUP(H821,'Ark1'!$C$2:$D$12,2,FALSE)","v":5}]
[820,20,{"$f":"VLOOKUP(B822,'Ark1'!C$2:D$11,2,FALSE)","v":1},820,80,{"$f":"VLOOKUP(E822,'Ark1'!$C$2:$D$11,2,FALSE)","v":5},820,125,{"$f":"VLOOKUP(H822,'Ark1'!$C$2:$D$12,2,FALSE)","v":5}]
[821,20,{"$f":"VLOOKUP(B823,'Ark1'!C$2:D$11,2,FALSE)","v":1},821,80,{"$f":"VLOOKUP(E823,'Ark1'!$C$2:$D$11,2,FALSE)","v":5},821,125,{"$f":"VLOOKUP(H823,'Ark1'!$C$2:$D$12,2,FALSE)","v":5}]
[822,20,{"$f":"VLOOKUP(B824,'Ark1'!C$2:D$11,2,FALSE)","v":1},822,80,{"$f":"VLOOKUP(E824,'Ark1'!$C$2:$D$11,2,FALSE)","v":5},822,125,{"$f":"VLOOKUP(H824,'Ark1'!$C$2:$D$12,2,FALSE)","v":5}]
[823,20,{"$f":"VLOOKUP(B825,'Ark1'!C$2:D$11,2,FALSE)","v":1},823,80,{"$f":"VLOOKUP(E825,'Ark1'!$C$2:$D$11,2,FALSE)","v":5},823,125,{"$f":"VLOOKUP(H825,'Ark1'!$C$2:$D$12,2,FALSE)","v":5}]
[824,20,{"$f":"VLOOKUP(B826,'Ark1'!C$2:D$11,2,FALSE)","v":1},824,80,{"$f":"VLOOKUP(E826,'Ark1'!$C$2:$D$11,2,FALSE)","v":5},824,125,{"$f":"VLOOKUP(H826,'Ark1'!$C$2:$D$12,2,FALSE)","v":5}]
[825,20,{"$f":"VLOOKUP(B827,'Ark1'!C$2:D$11,2,FALSE)","v":1},825,80,{"$f":"VLOOKUP(E827,'Ark1'!$C$2:$D$11,2,FALSE)","v":5},825,125,{"$f":"VLOOKUP(H827,'Ark1'!$C$2:$D$12,2,FALSE)","v":5}]
[826,20,{"$f":"VLOOKUP(B828,'Ark1'!C$2:D$11,2,FALSE)","v":1},826,80,{"$f":"VLOOKUP(E828,'Ark1'!$C$2:$D$11,2,FALSE)","v":5},826,125,{"$f":"VLOOKUP(H828,'Ark1'!$C$2:$D$12,2,FALSE)","v":5}]
[827,20,{"$f":"VLOOKUP(B829,'Ark1'!C$2:D$11,2,FALSE)","v":1},827,80,{"$f":"VLOOKUP(E829,'Ark1'!$C$2:$D$11,2,FALSE)","v":5},827,125,{"$f":"VLOOKUP(H829,'Ark1'!$C$2:$D$12,2,FALSE)","v":5}]
[828,20,{"$f":"VLOOKUP(B830,'Ark1'!C$2:D$11,2,FALSE)","v":1},828,80,{"$f":"VLOOKUP(E830,'Ark1'!$C$2:$D$11,2,FALSE)","v":5},828,125,{"$f":"VLOOKUP(H830,'Ark1'!$C$2:$D$12,2,FALSE)","v":5}]
[829,20,{"$f":"VLOOKUP(B831,'Ark1'!C$2:D$11,2,FALSE)","v":1},829,80,{"$f":"VLOOKUP(E831,'Ark1'!$C$2:$D$11,2,FALSE)","v":5},829,125,{"$f":"VLOOKUP(H831,'Ark1'!$C$2:$D$12,2,FALSE)","v":5}]
[830,20,{"$f":"VLOOKUP(B832,'Ark1'!C$2:D$11,2,FALSE)","v":1},830,80,{"$f":"VLOOKUP(E832,'Ark1'!$C$2:$D$11,2,FALSE)","v":5},830,125,{"$f":"VLOOKUP(H832,'Ark1'!$C$2:$D$12,2,FALSE)","v":5}]
[831,20,{"$f":"VLOOKUP(B833,'Ark1'!C$2:D$11,2,FALSE)","v":1},831,80,{"$f":"VLOOKUP(E833,'Ark1'!$C$2:$D$11,2,FALSE)","v":5},831,125,{"$f":"VLOOKUP(H833,'Ark1'!$C$2:$D$12,2,FALSE)","v":5}]
[832,20,{"$f":"VLOOKUP(B834,'Ark1'!C$2:D$11,2,FALSE)","v":1},832,80,{"$f":"VLOOKUP(E834,'Ark1'!$C$2:$D$11,2,FALSE)","v":5},832,125,{"$f":"VLOOKUP(H834,'Ark1'!$C$2:$D$12,2,FALSE)","v":5}]
[833,20,{"$f":"VLOOKUP(B835,'Ark1'!C$2:D$11,2,FALSE)","v":1},833,80,{"$f":"VLOOKUP(E835,'Ark1'!$C$2:$D$11,2,FALSE)","v":5},833,125,{"$f":"VLOOKUP(H835,'Ark1'!$C$2:$D$12,2,FALSE)","v":5}]
[834,20,{"$f":"VLOOKUP(B836,'Ark1'!C$2:D$11,2,FALSE)","v":1},834,80,{"$f":"VLOOKUP(E836,'Ark1'!$C$2:$D$11,2,FALSE)","v":5},834,125,{"$f":"VLOOKUP(H836,'Ark1'!$C$2:$D$12,2,FALSE)","v":5}]
[835,20,{"$f":"VLOOKUP(B837,'Ark1'!C$2:D$11,2,FALSE)","v":1},835,80,{"$f":"VLOOKUP(E837,'Ark1'!$C$2:$D$11,2,FALSE)","v":5},835,125,{"$f":"VLOOKUP(H837,'Ark1'!$C$2:$D$12,2,FALSE)","v":5}]
[836,20,{"$f":"VLOOKUP(B838,'Ark1'!C$2:D$11,2,FALSE)","v":1},836,80,{"$f":"VLOOKUP(E838,'Ark1'!$C$2:$D$11,2,FALSE)","v":5},836,125,{"$f":"VLOOKUP(H838,'Ark1'!$C$2:$D$12,2,FALSE)","v":5}]
[837,20,{"$f":"VLOOKUP(B839,'Ark1'!C$2:D$11,2,FALSE)","v":1},837,80,{"$f":"VLOOKUP(E839,'Ark1'!$C$2:$D$11,2,FALSE)","v":5},837,125,{"$f":"VLOOKUP(H839,'Ark1'!$C$2:$D$12,2,FALSE)","v":5}]
[838,20,{"$f":"VLOOKUP(B840,'Ark1'!C$2:D$11,2,FALSE)","v":1},838,80,{"$f":"VLOOKUP(E840,'Ark1'!$C$2:$D$11,2,FALSE)","v":5},838,125,{"$f":"VLOOKUP(H840,'Ark1'!$C$2:$D$12,2,FALSE)","v":5}]
[839,20,{"$f":"VLOOKUP(B841,'Ark1'!C$2:D$11,2,FALSE)","v":1},839,80,{"$f":"VLOOKUP(E841,'Ark1'!$C$2:$D$11,2,FALSE)","v":5},839,125,{"$f":"VLOOKUP(H841,'Ark1'!$C$2:$D$12,2,FALSE)","v":5}]
[840,20,{"$f":"VLOOKUP(B842,'Ark1'!C$2:D$11,2,FALSE)","v":1},840,80,{"$f":"VLOOKUP(E842,'Ark1'!$C$2:$D$11,2,FALSE)","v":5},840,125,{"$f":"VLOOKUP(H842,'Ark1'!$C$2:$D$12,2,FALSE)","v":5}]
[841,20,{"$f":"VLOOKUP(B843,'Ark1'!C$2:D$11,2,FALSE)","v":1},841,80,{"$f":"VLOOKUP(E843,'Ark1'!$C$2:$D$11,2,FALSE)","v":5},841,125,{"$f":"VLOOKUP(H843,'Ark1'!$C$2:$D$12,2,FALSE)","v":5}]
[842,20,{"$f":"VLOOKUP(B844,'Ark1'!C$2:D$11,2,FALSE)","v":1},842,80,{"$f":"VLOOKUP(E844,'Ark1'!$C$2:$D$11,2,FALSE)","v":5},842,125,{"$f":"VLOOKUP(H844,'Ark1'!$C$2:$D$12,2,FALSE)","v":5}]
[843,20,{"$f":"VLOOKUP(B845,'Ark1'!C$2:D$11,2,FALSE)","v":1},843,80,{"$f":"VLOOKUP(E845,'Ark1'!$C$2:$D$11,2,FALSE)","v":5},843,125,{"$f":"VLOOKUP(H845,'Ark1'!$C$2:$D$12,2,FALSE)","v":5}]
[844,20,{"$f":"VLOOKUP(B846,'Ark1'!C$2:D$11,2,FALSE)","v":1},844,80,{"$f":"VLOOKUP(E846,'Ark1'!$C$2:$D$11,2,FALSE)","v":5},844,125,{"$f":"VLOOKUP(H846,'Ark1'!$C$2:$D$12,2,FALSE)","v":5}]
[845,20,{"$f":"VLOOKUP(B847,'Ark1'!C$2:D$11,2,FALSE)","v":1},845,80,{"$f":"VLOOKUP(E847,'Ark1'!$C$2:$D$11,2,FALSE)","v":5},845,125,{"$f":"VLOOKUP(H847,'Ark1'!$C$2:$D$12,2,FALSE)","v":5}]
[846,20,{"$f":"VLOOKUP(B848,'Ark1'!C$2:D$11,2,FALSE)","v":1},846,80,{"$f":"VLOOKUP(E848,'Ark1'!$C$2:$D$11,2,FALSE)","v":5},846,125,{"$f":"VLOOKUP(H848,'Ark1'!$C$2:$D$12,2,FALSE)","v":5}]
[847,20,{"$f":"VLOOKUP(B849,'Ark1'!C$2:D$11,2,FALSE)","v":1},847,80,{"$f":"VLOOKUP(E849,'Ark1'!$C$2:$D$11,2,FALSE)","v":5},847,125,{"$f":"VLOOKUP(H849,'Ark1'!$C$2:$D$12,2,FALSE)","v":5}]
[848,20,{"$f":"VLOOKUP(B850,'Ark1'!C$2:D$11,2,FALSE)","v":1},848,80,{"$f":"VLOOKUP(E850,'Ark1'!$C$2:$D$11,2,FALSE)","v":5},848,125,{"$f":"VLOOKUP(H850,'Ark1'!$C$2:$D$12,2,FALSE)","v":5}]
[849,20,{"$f":"VLOOKUP(B851,'Ark1'!C$2:D$11,2,FALSE)","v":1},849,80,{"$f":"VLOOKUP(E851,'Ark1'!$C$2:$D$11,2,FALSE)","v":5},849,125,{"$f":"VLOOKUP(H851,'Ark1'!$C$2:$D$12,2,FALSE)","v":5}]
[850,20,{"$f":"VLOOKUP(B852,'Ark1'!C$2:D$11,2,FALSE)","v":1},850,80,{"$f":"VLOOKUP(E852,'Ark1'!$C$2:$D$11,2,FALSE)","v":5},850,125,{"$f":"VLOOKUP(H852,'Ark1'!$C$2:$D$12,2,FALSE)","v":5}]
[851,20,{"$f":"VLOOKUP(B853,'Ark1'!C$2:D$11,2,FALSE)","v":1},851,80,{"$f":"VLOOKUP(E853,'Ark1'!$C$2:$D$11,2,FALSE)","v":5},851,125,{"$f":"VLOOKUP(H853,'Ark1'!$C$2:$D$12,2,FALSE)","v":5}]
[852,20,{"$f":"VLOOKUP(B854,'Ark1'!C$2:D$11,2,FALSE)","v":1},852,80,{"$f":"VLOOKUP(E854,'Ark1'!$C$2:$D$11,2,FALSE)","v":5},852,125,{"$f":"VLOOKUP(H854,'Ark1'!$C$2:$D$12,2,FALSE)","v":5}]
[853,20,{"$f":"VLOOKUP(B855,'Ark1'!C$2:D$11,2,FALSE)","v":1},853,80,{"$f":"VLOOKUP(E855,'Ark1'!$C$2:$D$11,2,FALSE)","v":5},853,125,{"$f":"VLOOKUP(H855,'Ark1'!$C$2:$D$12,2,FALSE)","v":5}]
[854,20,{"$f":"VLOOKUP(B856,'Ark1'!C$2:D$11,2,FALSE)","v":1},854,80,{"$f":"VLOOKUP(E856,'Ark1'!$C$2:$D$11,2,FALSE)","v":5},854,125,{"$f":"VLOOKUP(H856,'Ark1'!$C$2:$D$12,2,FALSE)","v":5}]
[855,20,{"$f":"VLOOKUP(B857,'Ark1'!C$2:D$11,2,FALSE)","v":1},855,80,{"$f":"VLOOKUP(E857,'Ark1'!$C$2:$D$11,2,FALSE)","v":5},855,125,{"$f":"VLOOKUP(H857,'Ark1'!$C$2:$D$12,2,FALSE)","v":5}]
[856,20,{"$f":"VLOOKUP(B858,'Ark1'!C$2:D$11,2,FALSE)","v":1},856,80,{"$f":"VLOOKUP(E858,'Ark1'!$C$2:$D$11,2,FALSE)","v":5},856,125,{"$f":"VLOOKUP(H858,'Ark1'!$C$2:$D$12,2,FALSE)","v":5}]
[857,20,{"$f":"VLOOKUP(B859,'Ark1'!C$2:D$11,2,FALSE)","v":1},857,80,{"$f":"VLOOKUP(E859,'Ark1'!$C$2:$D$11,2,FALSE)","v":5},857,125,{"$f":"VLOOKUP(H859,'Ark1'!$C$2:$D$12,2,FALSE)","v":5}]
[858,20,{"$f":"VLOOKUP(B860,'Ark1'!C$2:D$11,2,FALSE)","v":1},858,80,{"$f":"VLOOKUP(E860,'Ark1'!$C$2:$D$11,2,FALSE)","v":5},858,125,{"$f":"VLOOKUP(H860,'Ark1'!$C$2:$D$12,2,FALSE)","v":5}]
[859,20,{"$f":"VLOOKUP(B861,'Ark1'!C$2:D$11,2,FALSE)","v":1},859,80,{"$f":"VLOOKUP(E861,'Ark1'!$C$2:$D$11,2,FALSE)","v":5},859,125,{"$f":"VLOOKUP(H861,'Ark1'!$C$2:$D$12,2,FALSE)","v":5}]
[860,20,{"$f":"VLOOKUP(B862,'Ark1'!C$2:D$11,2,FALSE)","v":1},860,80,{"$f":"VLOOKUP(E862,'Ark1'!$C$2:$D$11,2,FALSE)","v":5},860,125,{"$f":"VLOOKUP(H862,'Ark1'!$C$2:$D$12,2,FALSE)","v":5}]
[861,20,{"$f":"VLOOKUP(B863,'Ark1'!C$2:D$11,2,FALSE)","v":1},861,80,{"$f":"VLOOKUP(E863,'Ark1'!$C$2:$D$11,2,FALSE)","v":5},861,125,{"$f":"VLOOKUP(H863,'Ark1'!$C$2:$D$12,2,FALSE)","v":5}]
[862,20,{"$f":"VLOOKUP(B864,'Ark1'!C$2:D$11,2,FALSE)","v":1},862,80,{"$f":"VLOOKUP(E864,'Ark1'!$C$2:$D$11,2,FALSE)","v":5},862,125,{"$f":"VLOOKUP(H864,'Ark1'!$C$2:$D$12,2,FALSE)","v":5}]
[863,20,{"$f":"VLOOKUP(B865,'Ark1'!C$2:D$11,2,FALSE)","v":1},863,80,{"$f":"VLOOKUP(E865,'Ark1'!$C$2:$D$11,2,FALSE)","v":5},863,125,{"$f":"VLOOKUP(H865,'Ark1'!$C$2:$D$12,2,FALSE)","v":5}]
[864,20,{"$f":"VLOOKUP(B866,'Ark1'!C$2:D$11,2,FALSE)","v":1},864,80,{"$f":"VLOOKUP(E866,'Ark1'!$C$2:$D$11,2,FALSE)","v":5},864,125,{"$f":"VLOOKUP(H866,'Ark1'!$C$2:$D$12,2,FALSE)","v":5}]
[865,20,{"$f":"VLOOKUP(B867,'Ark1'!C$2:D$11,2,FALSE)","v":1},865,80,{"$f":"VLOOKUP(E867,'Ark1'!$C$2:$D$11,2,FALSE)","v":5},865,125,{"$f":"VLOOKUP(H867,'Ark1'!$C$2:$D$12,2,FALSE)","v":5}]
[866,20,{"$f":"VLOOKUP(B868,'Ark1'!C$2:D$11,2,FALSE)","v":1},866,80,{"$f":"VLOOKUP(E868,'Ark1'!$C$2:$D$11,2,FALSE)","v":5},866,125,{"$f":"VLOOKUP(H868,'Ark1'!$C$2:$D$12,2,FALSE)","v":5}]
[867,20,{"$f":"VLOOKUP(B869,'Ark1'!C$2:D$11,2,FALSE)","v":1},867,80,{"$f":"VLOOKUP(E869,'Ark1'!$C$2:$D$11,2,FALSE)","v":5},867,125,{"$f":"VLOOKUP(H869,'Ark1'!$C$2:$D$12,2,FALSE)","v":5}]
[868,20,{"$f":"VLOOKUP(B870,'Ark1'!C$2:D$11,2,FALSE)","v":1},868,80,{"$f":"VLOOKUP(E870,'Ark1'!$C$2:$D$11,2,FALSE)","v":5},868,125,{"$f":"VLOOKUP(H870,'Ark1'!$C$2:$D$12,2,FALSE)","v":5}]
[869,20,{"$f":"VLOOKUP(B871,'Ark1'!C$2:D$11,2,FALSE)","v":1},869,80,{"$f":"VLOOKUP(E871,'Ark1'!$C$2:$D$11,2,FALSE)","v":5},869,125,{"$f":"VLOOKUP(H871,'Ark1'!$C$2:$D$12,2,FALSE)","v":5}]
[870,20,{"$f":"VLOOKUP(B872,'Ark1'!C$2:D$11,2,FALSE)","v":1},870,80,{"$f":"VLOOKUP(E872,'Ark1'!$C$2:$D$11,2,FALSE)","v":5},870,125,{"$f":"VLOOKUP(H872,'Ark1'!$C$2:$D$12,2,FALSE)","v":5}]
[871,20,{"$f":"VLOOKUP(B873,'Ark1'!C$2:D$11,2,FALSE)","v":1},871,80,{"$f":"VLOOKUP(E873,'Ark1'!$C$2:$D$11,2,FALSE)","v":5},871,125,{"$f":"VLOOKUP(H873,'Ark1'!$C$2:$D$12,2,FALSE)","v":5}]
[872,20,{"$f":"VLOOKUP(B874,'Ark1'!C$2:D$11,2,FALSE)","v":1},872,80,{"$f":"VLOOKUP(E874,'Ark1'!$C$2:$D$11,2,FALSE)","v":5},872,125,{"$f":"VLOOKUP(H874,'Ark1'!$C$2:$D$12,2,FALSE)","v":5}]
[873,20,{"$f":"VLOOKUP(B875,'Ark1'!C$2:D$11,2,FALSE)","v":1},873,80,{"$f":"VLOOKUP(E875,'Ark1'!$C$2:$D$11,2,FALSE)","v":5},873,125,{"$f":"VLOOKUP(H875,'Ark1'!$C$2:$D$12,2,FALSE)","v":5}]
[874,20,{"$f":"VLOOKUP(B876,'Ark1'!C$2:D$11,2,FALSE)","v":1},874,80,{"$f":"VLOOKUP(E876,'Ark1'!$C$2:$D$11,2,FALSE)","v":5},874,125,{"$f":"VLOOKUP(H876,'Ark1'!$C$2:$D$12,2,FALSE)","v":5}]
[875,20,{"$f":"VLOOKUP(B877,'Ark1'!C$2:D$11,2,FALSE)","v":1},875,80,{"$f":"VLOOKUP(E877,'Ark1'!$C$2:$D$11,2,FALSE)","v":5},875,125,{"$f":"VLOOKUP(H877,'Ark1'!$C$2:$D$12,2,FALSE)","v":5}]
[876,20,{"$f":"VLOOKUP(B878,'Ark1'!C$2:D$11,2,FALSE)","v":1},876,80,{"$f":"VLOOKUP(E878,'Ark1'!$C$2:$D$11,2,FALSE)","v":5},876,125,{"$f":"VLOOKUP(H878,'Ark1'!$C$2:$D$12,2,FALSE)","v":5}]
[877,20,{"$f":"VLOOKUP(B879,'Ark1'!C$2:D$11,2,FALSE)","v":1},877,80,{"$f":"VLOOKUP(E879,'Ark1'!$C$2:$D$11,2,FALSE)","v":5},877,125,{"$f":"VLOOKUP(H879,'Ark1'!$C$2:$D$12,2,FALSE)","v":5}]
[878,20,{"$f":"VLOOKUP(B880,'Ark1'!C$2:D$11,2,FALSE)","v":1},878,80,{"$f":"VLOOKUP(E880,'Ark1'!$C$2:$D$11,2,FALSE)","v":5},878,125,{"$f":"VLOOKUP(H880,'Ark1'!$C$2:$D$12,2,FALSE)","v":5}]
[879,20,{"$f":"VLOOKUP(B881,'Ark1'!C$2:D$11,2,FALSE)","v":1},879,80,{"$f":"VLOOKUP(E881,'Ark1'!$C$2:$D$11,2,FALSE)","v":5},879,125,{"$f":"VLOOKUP(H881,'Ark1'!$C$2:$D$12,2,FALSE)","v":5}]
[880,20,{"$f":"VLOOKUP(B882,'Ark1'!C$2:D$11,2,FALSE)","v":1},880,80,{"$f":"VLOOKUP(E882,'Ark1'!$C$2:$D$11,2,FALSE)","v":5},880,125,{"$f":"VLOOKUP(H882,'Ark1'!$C$2:$D$12,2,FALSE)","v":5}]
[881,20,{"$f":"VLOOKUP(B883,'Ark1'!C$2:D$11,2,FALSE)","v":1},881,80,{"$f":"VLOOKUP(E883,'Ark1'!$C$2:$D$11,2,FALSE)","v":5},881,125,{"$f":"VLOOKUP(H883,'Ark1'!$C$2:$D$12,2,FALSE)","v":5}]
[882,20,{"$f":"VLOOKUP(B884,'Ark1'!C$2:D$11,2,FALSE)","v":1},882,80,{"$f":"VLOOKUP(E884,'Ark1'!$C$2:$D$11,2,FALSE)","v":5},882,125,{"$f":"VLOOKUP(H884,'Ark1'!$C$2:$D$12,2,FALSE)","v":5}]
[883,20,{"$f":"VLOOKUP(B885,'Ark1'!C$2:D$11,2,FALSE)","v":1},883,80,{"$f":"VLOOKUP(E885,'Ark1'!$C$2:$D$11,2,FALSE)","v":5},883,125,{"$f":"VLOOKUP(H885,'Ark1'!$C$2:$D$12,2,FALSE)","v":5}]
[884,20,{"$f":"VLOOKUP(B886,'Ark1'!C$2:D$11,2,FALSE)","v":1},884,80,{"$f":"VLOOKUP(E886,'Ark1'!$C$2:$D$11,2,FALSE)","v":5},884,125,{"$f":"VLOOKUP(H886,'Ark1'!$C$2:$D$12,2,FALSE)","v":5}]
[885,20,{"$f":"VLOOKUP(B887,'Ark1'!C$2:D$11,2,FALSE)","v":1},885,80,{"$f":"VLOOKUP(E887,'Ark1'!$C$2:$D$11,2,FALSE)","v":5},885,125,{"$f":"VLOOKUP(H887,'Ark1'!$C$2:$D$12,2,FALSE)","v":5}]
[886,20,{"$f":"VLOOKUP(B888,'Ark1'!C$2:D$11,2,FALSE)","v":1},886,80,{"$f":"VLOOKUP(E888,'Ark1'!$C$2:$D$11,2,FALSE)","v":5},886,125,{"$f":"VLOOKUP(H888,'Ark1'!$C$2:$D$12,2,FALSE)","v":5}]
[887,20,{"$f":"VLOOKUP(B889,'Ark1'!C$2:D$11,2,FALSE)","v":1},887,80,{"$f":"VLOOKUP(E889,'Ark1'!$C$2:$D$11,2,FALSE)","v":5},887,125,{"$f":"VLOOKUP(H889,'Ark1'!$C$2:$D$12,2,FALSE)","v":5}]
[888,20,{"$f":"VLOOKUP(B890,'Ark1'!C$2:D$11,2,FALSE)","v":1},888,80,{"$f":"VLOOKUP(E890,'Ark1'!$C$2:$D$11,2,FALSE)","v":5},888,125,{"$f":"VLOOKUP(H890,'Ark1'!$C$2:$D$12,2,FALSE)","v":5}]
[889,20,{"$f":"VLOOKUP(B891,'Ark1'!C$2:D$11,2,FALSE)","v":1},889,80,{"$f":"VLOOKUP(E891,'Ark1'!$C$2:$D$11,2,FALSE)","v":5},889,125,{"$f":"VLOOKUP(H891,'Ark1'!$C$2:$D$12,2,FALSE)","v":5}]
[890,20,{"$f":"VLOOKUP(B892,'Ark1'!C$2:D$11,2,FALSE)","v":1},890,80,{"$f":"VLOOKUP(E892,'Ark1'!$C$2:$D$11,2,FALSE)","v":5},890,125,{"$f":"VLOOKUP(H892,'Ark1'!$C$2:$D$12,2,FALSE)","v":5}]
[891,20,{"$f":"VLOOKUP(B893,'Ark1'!C$2:D$11,2,FALSE)","v":1},891,80,{"$f":"VLOOKUP(E893,'Ark1'!$C$2:$D$11,2,FALSE)","v":5},891,125,{"$f":"VLOOKUP(H893,'Ark1'!$C$2:$D$12,2,FALSE)","v":5}]
[892,20,{"$f":"VLOOKUP(B894,'Ark1'!C$2:D$11,2,FALSE)","v":1},892,80,{"$f":"VLOOKUP(E894,'Ark1'!$C$2:$D$11,2,FALSE)","v":5},892,125,{"$f":"VLOOKUP(H894,'Ark1'!$C$2:$D$12,2,FALSE)","v":5}]
[893,20,{"$f":"VLOOKUP(B895,'Ark1'!C$2:D$11,2,FALSE)","v":1},893,80,{"$f":"VLOOKUP(E895,'Ark1'!$C$2:$D$11,2,FALSE)","v":5},893,125,{"$f":"VLOOKUP(H895,'Ark1'!$C$2:$D$12,2,FALSE)","v":5}]
[894,20,{"$f":"VLOOKUP(B896,'Ark1'!C$2:D$11,2,FALSE)","v":1},894,80,{"$f":"VLOOKUP(E896,'Ark1'!$C$2:$D$11,2,FALSE)","v":5},894,125,{"$f":"VLOOKUP(H896,'Ark1'!$C$2:$D$12,2,FALSE)","v":5}]
[895,20,{"$f":"VLOOKUP(B897,'Ark1'!C$2:D$11,2,FALSE)","v":1},895,80,{"$f":"VLOOKUP(E897,'Ark1'!$C$2:$D$11,2,FALSE)","v":5},895,125,{"$f":"VLOOKUP(H897,'Ark1'!$C$2:$D$12,2,FALSE)","v":5}]
[896,20,{"$f":"VLOOKUP(B898,'Ark1'!C$2:D$11,2,FALSE)","v":1},896,80,{"$f":"VLOOKUP(E898,'Ark1'!$C$2:$D$11,2,FALSE)","v":5},896,125,{"$f":"VLOOKUP(H898,'Ark1'!$C$2:$D$12,2,FALSE)","v":5}]
[897,20,{"$f":"VLOOKUP(B899,'Ark1'!C$2:D$11,2,FALSE)","v":1},897,80,{"$f":"VLOOKUP(E899,'Ark1'!$C$2:$D$11,2,FALSE)","v":5},897,125,{"$f":"VLOOKUP(H899,'Ark1'!$C$2:$D$12,2,FALSE)","v":5}]
[898,20,{"$f":"VLOOKUP(B900,'Ark1'!C$2:D$11,2,FALSE)","v":1},898,80,{"$f":"VLOOKUP(E900,'Ark1'!$C$2:$D$11,2,FALSE)","v":5},898,125,{"$f":"VLOOKUP(H900,'Ark1'!$C$2:$D$12,2,FALSE)","v":5}]
[899,20,{"$f":"VLOOKUP(B901,'Ark1'!C$2:D$11,2,FALSE)","v":1},899,80,{"$f":"VLOOKUP(E901,'Ark1'!$C$2:$D$11,2,FALSE)","v":5},899,125,{"$f":"VLOOKUP(H901,'Ark1'!$C$2:$D$12,2,FALSE)","v":5}]
[900,20,{"$f":"VLOOKUP(B902,'Ark1'!C$2:D$11,2,FALSE)","v":1},900,80,{"$f":"VLOOKUP(E902,'Ark1'!$C$2:$D$11,2,FALSE)","v":5},900,125,{"$f":"VLOOKUP(H902,'Ark1'!$C$2:$D$12,2,FALSE)","v":5}]
[901,20,{"$f":"VLOOKUP(B903,'Ark1'!C$2:D$11,2,FALSE)","v":1},901,80,{"$f":"VLOOKUP(E903,'Ark1'!$C$2:$D$11,2,FALSE)","v":5},901,125,{"$f":"VLOOKUP(H903,'Ark1'!$C$2:$D$12,2,FALSE)","v":5}]
[902,20,{"$f":"VLOOKUP(B904,'Ark1'!C$2:D$11,2,FALSE)","v":1},902,80,{"$f":"VLOOKUP(E904,'Ark1'!$C$2:$D$11,2,FALSE)","v":5},902,125,{"$f":"VLOOKUP(H904,'Ark1'!$C$2:$D$12,2,FALSE)","v":5}]
[903,20,{"$f":"VLOOKUP(B905,'Ark1'!C$2:D$11,2,FALSE)","v":1},903,80,{"$f":"VLOOKUP(E905,'Ark1'!$C$2:$D$11,2,FALSE)","v":5},903,125,{"$f":"VLOOKUP(H905,'Ark1'!$C$2:$D$12,2,FALSE)","v":5}]
[904,20,{"$f":"VLOOKUP(B906,'Ark1'!C$2:D$11,2,FALSE)","v":1},904,80,{"$f":"VLOOKUP(E906,'Ark1'!$C$2:$D$11,2,FALSE)","v":5},904,125,{"$f":"VLOOKUP(H906,'Ark1'!$C$2:$D$12,2,FALSE)","v":5}]
[905,20,{"$f":"VLOOKUP(B907,'Ark1'!C$2:D$11,2,FALSE)","v":1},905,80,{"$f":"VLOOKUP(E907,'Ark1'!$C$2:$D$11,2,FALSE)","v":5},905,125,{"$f":"VLOOKUP(H907,'Ark1'!$C$2:$D$12,2,FALSE)","v":5}]
[906,20,{"$f":"VLOOKUP(B908,'Ark1'!C$2:D$11,2,FALSE)","v":1},906,80,{"$f":"VLOOKUP(E908,'Ark1'!$C$2:$D$11,2,FALSE)","v":5},906,125,{"$f":"VLOOKUP(H908,'Ark1'!$C$2:$D$12,2,FALSE)","v":5}]
[907,20,{"$f":"VLOOKUP(B909,'Ark1'!C$2:D$11,2,FALSE)","v":1},907,80,{"$f":"VLOOKUP(E909,'Ark1'!$C$2:$D$11,2,FALSE)","v":5},907,125,{"$f":"VLOOKUP(H909,'Ark1'!$C$2:$D$12,2,FALSE)","v":5}]
[908,20,{"$f":"VLOOKUP(B910,'Ark1'!C$2:D$11,2,FALSE)","v":1},908,80,{"$f":"VLOOKUP(E910,'Ark1'!$C$2:$D$11,2,FALSE)","v":5},908,125,{"$f":"VLOOKUP(H910,'Ark1'!$C$2:$D$12,2,FALSE)","v":5}]
[909,20,{"$f":"VLOOKUP(B911,'Ark1'!C$2:D$11,2,FALSE)","v":1},909,80,{"$f":"VLOOKUP(E911,'Ark1'!$C$2:$D$11,2,FALSE)","v":5},909,125,{"$f":"VLOOKUP(H911,'Ark1'!$C$2:$D$12,2,FALSE)","v":5}]
[910,20,{"$f":"VLOOKUP(B912,'Ark1'!C$2:D$11,2,FALSE)","v":1},910,80,{"$f":"VLOOKUP(E912,'Ark1'!$C$2:$D$11,2,FALSE)","v":5},910,125,{"$f":"VLOOKUP(H912,'Ark1'!$C$2:$D$12,2,FALSE)","v":5}]
[911,20,{"$f":"VLOOKUP(B913,'Ark1'!C$2:D$11,2,FALSE)","v":1},911,80,{"$f":"VLOOKUP(E913,'Ark1'!$C$2:$D$11,2,FALSE)","v":5},911,125,{"$f":"VLOOKUP(H913,'Ark1'!$C$2:$D$12,2,FALSE)","v":5}]
[912,20,{"$f":"VLOOKUP(B914,'Ark1'!C$2:D$11,2,FALSE)","v":1},912,80,{"$f":"VLOOKUP(E914,'Ark1'!$C$2:$D$11,2,FALSE)","v":5},912,125,{"$f":"VLOOKUP(H914,'Ark1'!$C$2:$D$12,2,FALSE)","v":5}]
[913,20,{"$f":"VLOOKUP(B915,'Ark1'!C$2:D$11,2,FALSE)","v":1},913,80,{"$f":"VLOOKUP(E915,'Ark1'!$C$2:$D$11,2,FALSE)","v":5},913,125,{"$f":"VLOOKUP(H915,'Ark1'!$C$2:$D$12,2,FALSE)","v":5}]
[914,20,{"$f":"VLOOKUP(B916,'Ark1'!C$2:D$11,2,FALSE)","v":1},914,80,{"$f":"VLOOKUP(E916,'Ark1'!$C$2:$D$11,2,FALSE)","v":5},914,125,{"$f":"VLOOKUP(H916,'Ark1'!$C$2:$D$12,2,FALSE)","v":5}]
[915,20,{"$f":"VLOOKUP(B917,'Ark1'!C$2:D$11,2,FALSE)","v":1},915,80,{"$f":"VLOOKUP(E917,'Ark1'!$C$2:$D$11,2,FALSE)","v":5},915,125,{"$f":"VLOOKUP(H917,'Ark1'!$C$2:$D$12,2,FALSE)","v":5}]
[916,20,{"$f":"VLOOKUP(B918,'Ark1'!C$2:D$11,2,FALSE)","v":1},916,80,{"$f":"VLOOKUP(E918,'Ark1'!$C$2:$D$11,2,FALSE)","v":5},916,125,{"$f":"VLOOKUP(H918,'Ark1'!$C$2:$D$12,2,FALSE)","v":5}]
[917,20,{"$f":"VLOOKUP(B919,'Ark1'!C$2:D$11,2,FALSE)","v":1},917,80,{"$f":"VLOOKUP(E919,'Ark1'!$C$2:$D$11,2,FALSE)","v":5},917,125,{"$f":"VLOOKUP(H919,'Ark1'!$C$2:$D$12,2,FALSE)","v":5}]
[918,20,{"$f":"VLOOKUP(B920,'Ark1'!C$2:D$11,2,FALSE)","v":1},918,80,{"$f":"VLOOKUP(E920,'Ark1'!$C$2:$D$11,2,FALSE)","v":5},918,125,{"$f":"VLOOKUP(H920,'Ark1'!$C$2:$D$12,2,FALSE)","v":5}]
[919,20,{"$f":"VLOOKUP(B921,'Ark1'!C$2:D$11,2,FALSE)","v":1},919,80,{"$f":"VLOOKUP(E921,'Ark1'!$C$2:$D$11,2,FALSE)","v":5},919,125,{"$f":"VLOOKUP(H921,'Ark1'!$C$2:$D$12,2,FALSE)","v":5}]
[920,20,{"$f":"VLOOKUP(B922,'Ark1'!C$2:D$11,2,FALSE)","v":1},920,80,{"$f":"VLOOKUP(E922,'Ark1'!$C$2:$D$11,2,FALSE)","v":5},920,125,{"$f":"VLOOKUP(H922,'Ark1'!$C$2:$D$12,2,FALSE)","v":5}]
[921,20,{"$f":"VLOOKUP(B923,'Ark1'!C$2:D$11,2,FALSE)","v":1},921,80,{"$f":"VLOOKUP(E923,'Ark1'!$C$2:$D$11,2,FALSE)","v":5},921,125,{"$f":"VLOOKUP(H923,'Ark1'!$C$2:$D$12,2,FALSE)","v":5}]
[922,20,{"$f":"VLOOKUP(B924,'Ark1'!C$2:D$11,2,FALSE)","v":1},922,80,{"$f":"VLOOKUP(E924,'Ark1'!$C$2:$D$11,2,FALSE)","v":5},922,125,{"$f":"VLOOKUP(H924,'Ark1'!$C$2:$D$12,2,FALSE)","v":5}]
[923,20,{"$f":"VLOOKUP(B925,'Ark1'!C$2:D$11,2,FALSE)","v":1},923,80,{"$f":"VLOOKUP(E925,'Ark1'!$C$2:$D$11,2,FALSE)","v":5},923,125,{"$f":"VLOOKUP(H925,'Ark1'!$C$2:$D$12,2,FALSE)","v":5}]
[924,20,{"$f":"VLOOKUP(B926,'Ark1'!C$2:D$11,2,FALSE)","v":1},924,80,{"$f":"VLOOKUP(E926,'Ark1'!$C$2:$D$11,2,FALSE)","v":5},924,125,{"$f":"VLOOKUP(H926,'Ark1'!$C$2:$D$12,2,FALSE)","v":5}]
[925,20,{"$f":"VLOOKUP(B927,'Ark1'!C$2:D$11,2,FALSE)","v":1},925,80,{"$f":"VLOOKUP(E927,'Ark1'!$C$2:$D$11,2,FALSE)","v":5},925,125,{"$f":"VLOOKUP(H927,'Ark1'!$C$2:$D$12,2,FALSE)","v":5}]
[926,20,{"$f":"VLOOKUP(B928,'Ark1'!C$2:D$11,2,FALSE)","v":1},926,80,{"$f":"VLOOKUP(E928,'Ark1'!$C$2:$D$11,2,FALSE)","v":5},926,125,{"$f":"VLOOKUP(H928,'Ark1'!$C$2:$D$12,2,FALSE)","v":5}]
[927,20,{"$f":"VLOOKUP(B929,'Ark1'!C$2:D$11,2,FALSE)","v":1},927,80,{"$f":"VLOOKUP(E929,'Ark1'!$C$2:$D$11,2,FALSE)","v":5},927,125,{"$f":"VLOOKUP(H929,'Ark1'!$C$2:$D$12,2,FALSE)","v":5}]
[928,20,{"$f":"VLOOKUP(B930,'Ark1'!C$2:D$11,2,FALSE)","v":1},928,80,{"$f":"VLOOKUP(E930,'Ark1'!$C$2:$D$11,2,FALSE)","v":5},928,125,{"$f":"VLOOKUP(H930,'Ark1'!$C$2:$D$12,2,FALSE)","v":5}]
[929,20,{"$f":"VLOOKUP(B931,'Ark1'!C$2:D$11,2,FALSE)","v":1},929,80,{"$f":"VLOOKUP(E931,'Ark1'!$C$2:$D$11,2,FALSE)","v":5},929,125,{"$f":"VLOOKUP(H931,'Ark1'!$C$2:$D$12,2,FALSE)","v":5}]
[930,20,{"$f":"VLOOKUP(B932,'Ark1'!C$2:D$11,2,FALSE)","v":1},930,80,{"$f":"VLOOKUP(E932,'Ark1'!$C$2:$D$11,2,FALSE)","v":5},930,125,{"$f":"VLOOKUP(H932,'Ark1'!$C$2:$D$12,2,FALSE)","v":5}]
[931,20,{"$f":"VLOOKUP(B933,'Ark1'!C$2:D$11,2,FALSE)","v":1},931,80,{"$f":"VLOOKUP(E933,'Ark1'!$C$2:$D$11,2,FALSE)","v":5},931,125,{"$f":"VLOOKUP(H933,'Ark1'!$C$2:$D$12,2,FALSE)","v":5}]
[932,20,{"$f":"VLOOKUP(B934,'Ark1'!C$2:D$11,2,FALSE)","v":1},932,80,{"$f":"VLOOKUP(E934,'Ark1'!$C$2:$D$11,2,FALSE)","v":5},932,125,{"$f":"VLOOKUP(H934,'Ark1'!$C$2:$D$12,2,FALSE)","v":5}]
[933,20,{"$f":"VLOOKUP(B935,'Ark1'!C$2:D$11,2,FALSE)","v":1},933,80,{"$f":"VLOOKUP(E935,'Ark1'!$C$2:$D$11,2,FALSE)","v":5},933,125,{"$f":"VLOOKUP(H935,'Ark1'!$C$2:$D$12,2,FALSE)","v":5}]
[934,20,{"$f":"VLOOKUP(B936,'Ark1'!C$2:D$11,2,FALSE)","v":1},934,80,{"$f":"VLOOKUP(E936,'Ark1'!$C$2:$D$11,2,FALSE)","v":5},934,125,{"$f":"VLOOKUP(H936,'Ark1'!$C$2:$D$12,2,FALSE)","v":5}]
[935,20,{"$f":"VLOOKUP(B937,'Ark1'!C$2:D$11,2,FALSE)","v":1},935,80,{"$f":"VLOOKUP(E937,'Ark1'!$C$2:$D$11,2,FALSE)","v":5},935,125,{"$f":"VLOOKUP(H937,'Ark1'!$C$2:$D$12,2,FALSE)","v":5}]
[936,20,{"$f":"VLOOKUP(B938,'Ark1'!C$2:D$11,2,FALSE)","v":1},936,80,{"$f":"VLOOKUP(E938,'Ark1'!$C$2:$D$11,2,FALSE)","v":5},936,125,{"$f":"VLOOKUP(H938,'Ark1'!$C$2:$D$12,2,FALSE)","v":5}]
[937,20,{"$f":"VLOOKUP(B939,'Ark1'!C$2:D$11,2,FALSE)","v":1},937,80,{"$f":"VLOOKUP(E939,'Ark1'!$C$2:$D$11,2,FALSE)","v":5},937,125,{"$f":"VLOOKUP(H939,'Ark1'!$C$2:$D$12,2,FALSE)","v":5}]
[938,20,{"$f":"VLOOKUP(B940,'Ark1'!C$2:D$11,2,FALSE)","v":1},938,80,{"$f":"VLOOKUP(E940,'Ark1'!$C$2:$D$11,2,FALSE)","v":5},938,125,{"$f":"VLOOKUP(H940,'Ark1'!$C$2:$D$12,2,FALSE)","v":5}]
[939,20,{"$f":"VLOOKUP(B941,'Ark1'!C$2:D$11,2,FALSE)","v":1},939,80,{"$f":"VLOOKUP(E941,'Ark1'!$C$2:$D$11,2,FALSE)","v":5},939,125,{"$f":"VLOOKUP(H941,'Ark1'!$C$2:$D$12,2,FALSE)","v":5}]
[940,20,{"$f":"VLOOKUP(B942,'Ark1'!C$2:D$11,2,FALSE)","v":1},940,80,{"$f":"VLOOKUP(E942,'Ark1'!$C$2:$D$11,2,FALSE)","v":5},940,125,{"$f":"VLOOKUP(H942,'Ark1'!$C$2:$D$12,2,FALSE)","v":5}]
[941,20,{"$f":"VLOOKUP(B943,'Ark1'!C$2:D$11,2,FALSE)","v":1},941,80,{"$f":"VLOOKUP(E943,'Ark1'!$C$2:$D$11,2,FALSE)","v":5},941,125,{"$f":"VLOOKUP(H943,'Ark1'!$C$2:$D$12,2,FALSE)","v":5}]
[942,20,{"$f":"VLOOKUP(B944,'Ark1'!C$2:D$11,2,FALSE)","v":1},942,80,{"$f":"VLOOKUP(E944,'Ark1'!$C$2:$D$11,2,FALSE)","v":5},942,125,{"$f":"VLOOKUP(H944,'Ark1'!$C$2:$D$12,2,FALSE)","v":5}]
[943,20,{"$f":"VLOOKUP(B945,'Ark1'!C$2:D$11,2,FALSE)","v":1},943,80,{"$f":"VLOOKUP(E945,'Ark1'!$C$2:$D$11,2,FALSE)","v":5},943,125,{"$f":"VLOOKUP(H945,'Ark1'!$C$2:$D$12,2,FALSE)","v":5}]
[944,20,{"$f":"VLOOKUP(B946,'Ark1'!C$2:D$11,2,FALSE)","v":1},944,80,{"$f":"VLOOKUP(E946,'Ark1'!$C$2:$D$11,2,FALSE)","v":5},944,125,{"$f":"VLOOKUP(H946,'Ark1'!$C$2:$D$12,2,FALSE)","v":5}]
[945,20,{"$f":"VLOOKUP(B947,'Ark1'!C$2:D$11,2,FALSE)","v":1},945,80,{"$f":"VLOOKUP(E947,'Ark1'!$C$2:$D$11,2,FALSE)","v":5},945,125,{"$f":"VLOOKUP(H947,'Ark1'!$C$2:$D$12,2,FALSE)","v":5}]
[946,20,{"$f":"VLOOKUP(B948,'Ark1'!C$2:D$11,2,FALSE)","v":1},946,80,{"$f":"VLOOKUP(E948,'Ark1'!$C$2:$D$11,2,FALSE)","v":5},946,125,{"$f":"VLOOKUP(H948,'Ark1'!$C$2:$D$12,2,FALSE)","v":5}]
[947,20,{"$f":"VLOOKUP(B949,'Ark1'!C$2:D$11,2,FALSE)","v":1},947,80,{"$f":"VLOOKUP(E949,'Ark1'!$C$2:$D$11,2,FALSE)","v":5},947,125,{"$f":"VLOOKUP(H949,'Ark1'!$C$2:$D$12,2,FALSE)","v":5}]
[948,20,{"$f":"VLOOKUP(B950,'Ark1'!C$2:D$11,2,FALSE)","v":1},948,80,{"$f":"VLOOKUP(E950,'Ark1'!$C$2:$D$11,2,FALSE)","v":5},948,125,{"$f":"VLOOKUP(H950,'Ark1'!$C$2:$D$12,2,FALSE)","v":5}]
[949,20,{"$f":"VLOOKUP(B951,'Ark1'!C$2:D$11,2,FALSE)","v":1},949,80,{"$f":"VLOOKUP(E951,'Ark1'!$C$2:$D$11,2,FALSE)","v":5},949,125,{"$f":"VLOOKUP(H951,'Ark1'!$C$2:$D$12,2,FALSE)","v":5}]
[950,20,{"$f":"VLOOKUP(B952,'Ark1'!C$2:D$11,2,FALSE)","v":1},950,80,{"$f":"VLOOKUP(E952,'Ark1'!$C$2:$D$11,2,FALSE)","v":5},950,125,{"$f":"VLOOKUP(H952,'Ark1'!$C$2:$D$12,2,FALSE)","v":5}]
[951,20,{"$f":"VLOOKUP(B953,'Ark1'!C$2:D$11,2,FALSE)","v":1},951,80,{"$f":"VLOOKUP(E953,'Ark1'!$C$2:$D$11,2,FALSE)","v":5},951,125,{"$f":"VLOOKUP(H953,'Ark1'!$C$2:$D$12,2,FALSE)","v":5}]
[952,20,{"$f":"VLOOKUP(B954,'Ark1'!C$2:D$11,2,FALSE)","v":1},952,80,{"$f":"VLOOKUP(E954,'Ark1'!$C$2:$D$11,2,FALSE)","v":5},952,125,{"$f":"VLOOKUP(H954,'Ark1'!$C$2:$D$12,2,FALSE)","v":5}]
[953,20,{"$f":"VLOOKUP(B955,'Ark1'!C$2:D$11,2,FALSE)","v":1},953,80,{"$f":"VLOOKUP(E955,'Ark1'!$C$2:$D$11,2,FALSE)","v":5},953,125,{"$f":"VLOOKUP(H955,'Ark1'!$C$2:$D$12,2,FALSE)","v":5}]
[954,20,{"$f":"VLOOKUP(B956,'Ark1'!C$2:D$11,2,FALSE)","v":1},954,80,{"$f":"VLOOKUP(E956,'Ark1'!$C$2:$D$11,2,FALSE)","v":5},954,125,{"$f":"VLOOKUP(H956,'Ark1'!$C$2:$D$12,2,FALSE)","v":5}]
[955,20,{"$f":"VLOOKUP(B957,'Ark1'!C$2:D$11,2,FALSE)","v":1},955,80,{"$f":"VLOOKUP(E957,'Ark1'!$C$2:$D$11,2,FALSE)","v":5},955,125,{"$f":"VLOOKUP(H957,'Ark1'!$C$2:$D$12,2,FALSE)","v":5}]
[956,20,{"$f":"VLOOKUP(B958,'Ark1'!C$2:D$11,2,FALSE)","v":1},956,80,{"$f":"VLOOKUP(E958,'Ark1'!$C$2:$D$11,2,FALSE)","v":5},956,125,{"$f":"VLOOKUP(H958,'Ark1'!$C$2:$D$12,2,FALSE)","v":5}]
[957,20,{"$f":"VLOOKUP(B959,'Ark1'!C$2:D$11,2,FALSE)","v":1},957,80,{"$f":"VLOOKUP(E959,'Ark1'!$C$2:$D$11,2,FALSE)","v":5},957,125,{"$f":"VLOOKUP(H959,'Ark1'!$C$2:$D$12,2,FALSE)","v":5}]
[958,20,{"$f":"VLOOKUP(B960,'Ark1'!C$2:D$11,2,FALSE)","v":1},958,80,{"$f":"VLOOKUP(E960,'Ark1'!$C$2:$D$11,2,FALSE)","v":5},958,125,{"$f":"VLOOKUP(H960,'Ark1'!$C$2:$D$12,2,FALSE)","v":5}]
[959,20,{"$f":"VLOOKUP(B961,'Ark1'!C$2:D$11,2,FALSE)","v":1},959,80,{"$f":"VLOOKUP(E961,'Ark1'!$C$2:$D$11,2,FALSE)","v":5},959,125,{"$f":"VLOOKUP(H961,'Ark1'!$C$2:$D$12,2,FALSE)","v":5}]
[960,20,{"$f":"VLOOKUP(B962,'Ark1'!C$2:D$11,2,FALSE)","v":1},960,80,{"$f":"VLOOKUP(E962,'Ark1'!$C$2:$D$11,2,FALSE)","v":5},960,125,{"$f":"VLOOKUP(H962,'Ark1'!$C$2:$D$12,2,FALSE)","v":5}]
[961,20,{"$f":"VLOOKUP(B963,'Ark1'!C$2:D$11,2,FALSE)","v":1},961,80,{"$f":"VLOOKUP(E963,'Ark1'!$C$2:$D$11,2,FALSE)","v":5},961,125,{"$f":"VLOOKUP(H963,'Ark1'!$C$2:$D$12,2,FALSE)","v":5}]
[962,20,{"$f":"VLOOKUP(B964,'Ark1'!C$2:D$11,2,FALSE)","v":1},962,80,{"$f":"VLOOKUP(E964,'Ark1'!$C$2:$D$11,2,FALSE)","v":5},962,125,{"$f":"VLOOKUP(H964,'Ark1'!$C$2:$D$12,2,FALSE)","v":5}]
[963,20,{"$f":"VLOOKUP(B965,'Ark1'!C$2:D$11,2,FALSE)","v":1},963,80,{"$f":"VLOOKUP(E965,'Ark1'!$C$2:$D$11,2,FALSE)","v":5},963,125,{"$f":"VLOOKUP(H965,'Ark1'!$C$2:$D$12,2,FALSE)","v":5}]
[964,20,{"$f":"VLOOKUP(B966,'Ark1'!C$2:D$11,2,FALSE)","v":1},964,80,{"$f":"VLOOKUP(E966,'Ark1'!$C$2:$D$11,2,FALSE)","v":5},964,125,{"$f":"VLOOKUP(H966,'Ark1'!$C$2:$D$12,2,FALSE)","v":5}]
[965,20,{"$f":"VLOOKUP(B967,'Ark1'!C$2:D$11,2,FALSE)","v":1},965,80,{"$f":"VLOOKUP(E967,'Ark1'!$C$2:$D$11,2,FALSE)","v":5},965,125,{"$f":"VLOOKUP(H967,'Ark1'!$C$2:$D$12,2,FALSE)","v":5}]
[966,20,{"$f":"VLOOKUP(B968,'Ark1'!C$2:D$11,2,FALSE)","v":1},966,80,{"$f":"VLOOKUP(E968,'Ark1'!$C$2:$D$11,2,FALSE)","v":5},966,125,{"$f":"VLOOKUP(H968,'Ark1'!$C$2:$D$12,2,FALSE)","v":5}]
[967,20,{"$f":"VLOOKUP(B969,'Ark1'!C$2:D$11,2,FALSE)","v":1},967,80,{"$f":"VLOOKUP(E969,'Ark1'!$C$2:$D$11,2,FALSE)","v":5},967,125,{"$f":"VLOOKUP(H969,'Ark1'!$C$2:$D$12,2,FALSE)","v":5}]
[968,20,{"$f":"VLOOKUP(B970,'Ark1'!C$2:D$11,2,FALSE)","v":1},968,80,{"$f":"VLOOKUP(E970,'Ark1'!$C$2:$D$11,2,FALSE)","v":5},968,125,{"$f":"VLOOKUP(H970,'Ark1'!$C$2:$D$12,2,FALSE)","v":5}]
[969,20,{"$f":"VLOOKUP(B971,'Ark1'!C$2:D$11,2,FALSE)","v":1},969,80,{"$f":"VLOOKUP(E971,'Ark1'!$C$2:$D$11,2,FALSE)","v":5},969,125,{"$f":"VLOOKUP(H971,'Ark1'!$C$2:$D$12,2,FALSE)","v":5}]
[970,20,{"$f":"VLOOKUP(B972,'Ark1'!C$2:D$11,2,FALSE)","v":1},970,80,{"$f":"VLOOKUP(E972,'Ark1'!$C$2:$D$11,2,FALSE)","v":5},970,125,{"$f":"VLOOKUP(H972,'Ark1'!$C$2:$D$12,2,FALSE)","v":5}]
[971,20,{"$f":"VLOOKUP(B973,'Ark1'!C$2:D$11,2,FALSE)","v":1},971,80,{"$f":"VLOOKUP(E973,'Ark1'!$C$2:$D$11,2,FALSE)","v":5},971,125,{"$f":"VLOOKUP(H973,'Ark1'!$C$2:$D$12,2,FALSE)","v":5}]
[972,20,{"$f":"VLOOKUP(B974,'Ark1'!C$2:D$11,2,FALSE)","v":1},972,80,{"$f":"VLOOKUP(E974,'Ark1'!$C$2:$D$11,2,FALSE)","v":5},972,125,{"$f":"VLOOKUP(H974,'Ark1'!$C$2:$D$12,2,FALSE)","v":5}]
[973,20,{"$f":"VLOOKUP(B975,'Ark1'!C$2:D$11,2,FALSE)","v":1},973,80,{"$f":"VLOOKUP(E975,'Ark1'!$C$2:$D$11,2,FALSE)","v":5},973,125,{"$f":"VLOOKUP(H975,'Ark1'!$C$2:$D$12,2,FALSE)","v":5}]
[974,20,{"$f":"VLOOKUP(B976,'Ark1'!C$2:D$11,2,FALSE)","v":1},974,80,{"$f":"VLOOKUP(E976,'Ark1'!$C$2:$D$11,2,FALSE)","v":5},974,125,{"$f":"VLOOKUP(H976,'Ark1'!$C$2:$D$12,2,FALSE)","v":5}]
[975,20,{"$f":"VLOOKUP(B977,'Ark1'!C$2:D$11,2,FALSE)","v":1},975,80,{"$f":"VLOOKUP(E977,'Ark1'!$C$2:$D$11,2,FALSE)","v":5},975,125,{"$f":"VLOOKUP(H977,'Ark1'!$C$2:$D$12,2,FALSE)","v":5}]
[976,20,{"$f":"VLOOKUP(B978,'Ark1'!C$2:D$11,2,FALSE)","v":1},976,80,{"$f":"VLOOKUP(E978,'Ark1'!$C$2:$D$11,2,FALSE)","v":5},976,125,{"$f":"VLOOKUP(H978,'Ark1'!$C$2:$D$12,2,FALSE)","v":5}]
[977,20,{"$f":"VLOOKUP(B979,'Ark1'!C$2:D$11,2,FALSE)","v":1},977,80,{"$f":"VLOOKUP(E979,'Ark1'!$C$2:$D$11,2,FALSE)","v":5},977,125,{"$f":"VLOOKUP(H979,'Ark1'!$C$2:$D$12,2,FALSE)","v":5}]
[978,20,{"$f":"VLOOKUP(B980,'Ark1'!C$2:D$11,2,FALSE)","v":1},978,80,{"$f":"VLOOKUP(E980,'Ark1'!$C$2:$D$11,2,FALSE)","v":5},978,125,{"$f":"VLOOKUP(H980,'Ark1'!$C$2:$D$12,2,FALSE)","v":5}]
[979,20,{"$f":"VLOOKUP(B981,'Ark1'!C$2:D$11,2,FALSE)","v":1},979,80,{"$f":"VLOOKUP(E981,'Ark1'!$C$2:$D$11,2,FALSE)","v":5},979,125,{"$f":"VLOOKUP(H981,'Ark1'!$C$2:$D$12,2,FALSE)","v":5}]
[980,20,{"$f":"VLOOKUP(B982,'Ark1'!C$2:D$11,2,FALSE)","v":1},980,80,{"$f":"VLOOKUP(E982,'Ark1'!$C$2:$D$11,2,FALSE)","v":5},980,125,{"$f":"VLOOKUP(H982,'Ark1'!$C$2:$D$12,2,FALSE)","v":5}]
[981,20,{"$f":"VLOOKUP(B983,'Ark1'!C$2:D$11,2,FALSE)","v":1},981,80,{"$f":"VLOOKUP(E983,'Ark1'!$C$2:$D$11,2,FALSE)","v":5},981,125,{"$f":"VLOOKUP(H983,'Ark1'!$C$2:$D$12,2,FALSE)","v":5}]
[982,20,{"$f":"VLOOKUP(B984,'Ark1'!C$2:D$11,2,FALSE)","v":1},982,80,{"$f":"VLOOKUP(E984,'Ark1'!$C$2:$D$11,2,FALSE)","v":5},982,125,{"$f":"VLOOKUP(H984,'Ark1'!$C$2:$D$12,2,FALSE)","v":5}]
[983,20,{"$f":"VLOOKUP(B985,'Ark1'!C$2:D$11,2,FALSE)","v":1},983,80,{"$f":"VLOOKUP(E985,'Ark1'!$C$2:$D$11,2,FALSE)","v":5},983,125,{"$f":"VLOOKUP(H985,'Ark1'!$C$2:$D$12,2,FALSE)","v":5}]
[984,20,{"$f":"VLOOKUP(B986,'Ark1'!C$2:D$11,2,FALSE)","v":1},984,80,{"$f":"VLOOKUP(E986,'Ark1'!$C$2:$D$11,2,FALSE)","v":5},984,125,{"$f":"VLOOKUP(H986,'Ark1'!$C$2:$D$12,2,FALSE)","v":5}]
[985,20,{"$f":"VLOOKUP(B987,'Ark1'!C$2:D$11,2,FALSE)","v":1},985,80,{"$f":"VLOOKUP(E987,'Ark1'!$C$2:$D$11,2,FALSE)","v":5},985,125,{"$f":"VLOOKUP(H987,'Ark1'!$C$2:$D$12,2,FALSE)","v":5}]
[986,20,{"$f":"VLOOKUP(B988,'Ark1'!C$2:D$11,2,FALSE)","v":1},986,80,{"$f":"VLOOKUP(E988,'Ark1'!$C$2:$D$11,2,FALSE)","v":5},986,125,{"$f":"VLOOKUP(H988,'Ark1'!$C$2:$D$12,2,FALSE)","v":5}]
[987,20,{"$f":"VLOOKUP(B989,'Ark1'!C$2:D$11,2,FALSE)","v":1},987,80,{"$f":"VLOOKUP(E989,'Ark1'!$C$2:$D$11,2,FALSE)","v":5},987,125,{"$f":"VLOOKUP(H989,'Ark1'!$C$2:$D$12,2,FALSE)","v":5}]
[988,20,{"$f":"VLOOKUP(B990,'Ark1'!C$2:D$11,2,FALSE)","v":1},988,80,{"$f":"VLOOKUP(E990,'Ark1'!$C$2:$D$11,2,FALSE)","v":5},988,125,{"$f":"VLOOKUP(H990,'Ark1'!$C$2:$D$12,2,FALSE)","v":5}]
[989,20,{"$f":"VLOOKUP(B991,'Ark1'!C$2:D$11,2,FALSE)","v":1},989,80,{"$f":"VLOOKUP(E991,'Ark1'!$C$2:$D$11,2,FALSE)","v":5},989,125,{"$f":"VLOOKUP(H991,'Ark1'!$C$2:$D$12,2,FALSE)","v":5}]
[990,20,{"$f":"VLOOKUP(B992,'Ark1'!C$2:D$11,2,FALSE)","v":1},990,80,{"$f":"VLOOKUP(E992,'Ark1'!$C$2:$D$11,2,FALSE)","v":5},990,125,{"$f":"VLOOKUP(H992,'Ark1'!$C$2:$D$12,2,FALSE)","v":5}]
[991,20,{"$f":"VLOOKUP(B993,'Ark1'!C$2:D$11,2,FALSE)","v":1},991,80,{"$f":"VLOOKUP(E993,'Ark1'!$C$2:$D$11,2,FALSE)","v":5},991,125,{"$f":"VLOOKUP(H993,'Ark1'!$C$2:$D$12,2,FALSE)","v":5}]
[992,20,{"$f":"VLOOKUP(B994,'Ark1'!C$2:D$11,2,FALSE)","v":1},992,80,{"$f":"VLOOKUP(E994,'Ark1'!$C$2:$D$11,2,FALSE)","v":5},992,125,{"$f":"VLOOKUP(H994,'Ark1'!$C$2:$D$12,2,FALSE)","v":5}]
[993,20,{"$f":"VLOOKUP(B995,'Ark1'!C$2:D$11,2,FALSE)","v":1},993,80,{"$f":"VLOOKUP(E995,'Ark1'!$C$2:$D$11,2,FALSE)","v":5},993,125,{"$f":"VLOOKUP(H995,'Ark1'!$C$2:$D$12,2,FALSE)","v":5}]
[994,20,{"$f":"VLOOKUP(B996,'Ark1'!C$2:D$11,2,FALSE)","v":1},994,80,{"$f":"VLOOKUP(E996,'Ark1'!$C$2:$D$11,2,FALSE)","v":5},994,125,{"$f":"VLOOKUP(H996,'Ark1'!$C$2:$D$12,2,FALSE)","v":5}]
[995,20,{"$f":"VLOOKUP(B997,'Ark1'!C$2:D$11,2,FALSE)","v":1},995,80,{"$f":"VLOOKUP(E997,'Ark1'!$C$2:$D$11,2,FALSE)","v":5},995,125,{"$f":"VLOOKUP(H997,'Ark1'!$C$2:$D$12,2,FALSE)","v":5}]
[996,20,{"$f":"VLOOKUP(B998,'Ark1'!C$2:D$11,2,FALSE)","v":1},996,80,{"$f":"VLOOKUP(E998,'Ark1'!$C$2:$D$11,2,FALSE)","v":5},996,125,{"$f":"VLOOKUP(H998,'Ark1'!$C$2:$D$12,2,FALSE)","v":5}]
[997,20,{"$f":"VLOOKUP(B999,'Ark1'!C$2:D$11,2,FALSE)","v":1},997,80,{"$f":"VLOOKUP(E999,'Ark1'!$C$2:$D$11,2,FALSE)","v":5},997,125,{"$f":"VLOOKUP(H999,'Ark1'!$C$2:$D$12,2,FALSE)","v":5}]
[998,20,{"$f":"VLOOKUP(B1000,'Ark1'!C$2:D$11,2,FALSE)","v":1},998,80,{"$f":"VLOOKUP(E1000,'Ark1'!$C$2:$D$11,2,FALSE)","v":5},998,125,{"$f":"VLOOKUP(H1000,'Ark1'!$C$2:$D$12,2,FALSE)","v":5}]
[999,20,{"$f":"VLOOKUP(B1001,'Ark1'!C$2:D$11,2,FALSE)","v":1},999,80,{"$f":"VLOOKUP(E1001,'Ark1'!$C$2:$D$11,2,FALSE)","v":5},999,125,{"$f":"VLOOKUP(H1001,'Ark1'!$C$2:$D$12,2,FALSE)","v":5}]
[1000,20,{"$f":"VLOOKUP(B1002,'Ark1'!C$2:D$11,2,FALSE)","v":1},1000,80,{"$f":"VLOOKUP(E1002,'Ark1'!$C$2:$D$11,2,FALSE)","v":5},1000,125,{"$f":"VLOOKUP(H1002,'Ark1'!$C$2:$D$12,2,FALSE)","v":5}]
[1001,20,{"$f":"VLOOKUP(B1003,'Ark1'!C$2:D$11,2,FALSE)","v":1},1001,80,{"$f":"VLOOKUP(E1003,'Ark1'!$C$2:$D$11,2,FALSE)","v":5},1001,125,{"$f":"VLOOKUP(H1003,'Ark1'!$C$2:$D$12,2,FALSE)","v":5}]
[1002,20,{"$f":"VLOOKUP(B1004,'Ark1'!C$2:D$11,2,FALSE)","v":1},1002,80,{"$f":"VLOOKUP(E1004,'Ark1'!$C$2:$D$11,2,FALSE)","v":5},1002,125,{"$f":"VLOOKUP(H1004,'Ark1'!$C$2:$D$12,2,FALSE)","v":5}]
[1003,20,{"$f":"VLOOKUP(B1005,'Ark1'!C$2:D$11,2,FALSE)","v":1},1003,80,{"$f":"VLOOKUP(E1005,'Ark1'!$C$2:$D$11,2,FALSE)","v":5},1003,125,{"$f":"VLOOKUP(H1005,'Ark1'!$C$2:$D$12,2,FALSE)","v":5}]
[1004,20,{"$f":"VLOOKUP(B1006,'Ark1'!C$2:D$11,2,FALSE)","v":1},1004,80,{"$f":"VLOOKUP(E1006,'Ark1'!$C$2:$D$11,2,FALSE)","v":5},1004,125,{"$f":"VLOOKUP(H1006,'Ark1'!$C$2:$D$12,2,FALSE)","v":5}]
[1005,20,{"$f":"VLOOKUP(B1007,'Ark1'!C$2:D$11,2,FALSE)","v":1},1005,80,{"$f":"VLOOKUP(E1007,'Ark1'!$C$2:$D$11,2,FALSE)","v":5},1005,125,{"$f":"VLOOKUP(H1007,'Ark1'!$C$2:$D$12,2,FALSE)","v":5}]
[1006,20,{"$f":"VLOOKUP(B1008,'Ark1'!C$2:D$11,2,FALSE)","v":1},1006,80,{"$f":"VLOOKUP(E1008,'Ark1'!$C$2:$D$11,2,FALSE)","v":5},1006,125,{"$f":"VLOOKUP(H1008,'Ark1'!$C$2:$D$12,2,FALSE)","v":5}]
[1007,20,{"$f":"VLOOKUP(B1009,'Ark1'!C$2:D$11,2,FALSE)","v":1},1007,80,{"$f":"VLOOKUP(E1009,'Ark1'!$C$2:$D$11,2,FALSE)","v":5},1007,125,{"$f":"VLOOKUP(H1009,'Ark1'!$C$2:$D$12,2,FALSE)","v":5}]
[1008,20,{"$f":"VLOOKUP(B1010,'Ark1'!C$2:D$11,2,FALSE)","v":1},1008,80,{"$f":"VLOOKUP(E1010,'Ark1'!$C$2:$D$11,2,FALSE)","v":5},1008,125,{"$f":"VLOOKUP(H1010,'Ark1'!$C$2:$D$12,2,FALSE)","v":5}]
[1009,20,{"$f":"VLOOKUP(B1011,'Ark1'!C$2:D$11,2,FALSE)","v":1},1009,80,{"$f":"VLOOKUP(E1011,'Ark1'!$C$2:$D$11,2,FALSE)","v":5},1009,125,{"$f":"VLOOKUP(H1011,'Ark1'!$C$2:$D$12,2,FALSE)","v":5}]
[1010,20,{"$f":"VLOOKUP(B1012,'Ark1'!C$2:D$11,2,FALSE)","v":1},1010,80,{"$f":"VLOOKUP(E1012,'Ark1'!$C$2:$D$11,2,FALSE)","v":5},1010,125,{"$f":"VLOOKUP(H1012,'Ark1'!$C$2:$D$12,2,FALSE)","v":5}]
[1011,20,{"$f":"VLOOKUP(B1013,'Ark1'!C$2:D$11,2,FALSE)","v":1},1011,80,{"$f":"VLOOKUP(E1013,'Ark1'!$C$2:$D$11,2,FALSE)","v":5},1011,125,{"$f":"VLOOKUP(H1013,'Ark1'!$C$2:$D$12,2,FALSE)","v":5}]
[1012,20,{"$f":"VLOOKUP(B1014,'Ark1'!C$2:D$11,2,FALSE)","v":1},1012,80,{"$f":"VLOOKUP(E1014,'Ark1'!$C$2:$D$11,2,FALSE)","v":5},1012,125,{"$f":"VLOOKUP(H1014,'Ark1'!$C$2:$D$12,2,FALSE)","v":5}]
[1013,20,{"$f":"VLOOKUP(B1015,'Ark1'!C$2:D$11,2,FALSE)","v":1},1013,80,{"$f":"VLOOKUP(E1015,'Ark1'!$C$2:$D$11,2,FALSE)","v":5},1013,125,{"$f":"VLOOKUP(H1015,'Ark1'!$C$2:$D$12,2,FALSE)","v":5}]
[1014,20,{"$f":"VLOOKUP(B1016,'Ark1'!C$2:D$11,2,FALSE)","v":1},1014,80,{"$f":"VLOOKUP(E1016,'Ark1'!$C$2:$D$11,2,FALSE)","v":5},1014,125,{"$f":"VLOOKUP(H1016,'Ark1'!$C$2:$D$12,2,FALSE)","v":5}]
[1015,20,{"$f":"VLOOKUP(B1017,'Ark1'!C$2:D$11,2,FALSE)","v":1},1015,80,{"$f":"VLOOKUP(E1017,'Ark1'!$C$2:$D$11,2,FALSE)","v":5},1015,125,{"$f":"VLOOKUP(H1017,'Ark1'!$C$2:$D$12,2,FALSE)","v":5}]
[1016,20,{"$f":"VLOOKUP(B1018,'Ark1'!C$2:D$11,2,FALSE)","v":1},1016,80,{"$f":"VLOOKUP(E1018,'Ark1'!$C$2:$D$11,2,FALSE)","v":5},1016,125,{"$f":"VLOOKUP(H1018,'Ark1'!$C$2:$D$12,2,FALSE)","v":5}]
[1017,20,{"$f":"VLOOKUP(B1019,'Ark1'!C$2:D$11,2,FALSE)","v":1},1017,80,{"$f":"VLOOKUP(E1019,'Ark1'!$C$2:$D$11,2,FALSE)","v":5},1017,125,{"$f":"VLOOKUP(H1019,'Ark1'!$C$2:$D$12,2,FALSE)","v":5}]
[1018,20,{"$f":"VLOOKUP(B1020,'Ark1'!C$2:D$11,2,FALSE)","v":1},1018,80,{"$f":"VLOOKUP(E1020,'Ark1'!$C$2:$D$11,2,FALSE)","v":5},1018,125,{"$f":"VLOOKUP(H1020,'Ark1'!$C$2:$D$12,2,FALSE)","v":5}]
[1019,20,{"$f":"VLOOKUP(B1021,'Ark1'!C$2:D$11,2,FALSE)","v":1},1019,80,{"$f":"VLOOKUP(E1021,'Ark1'!$C$2:$D$11,2,FALSE)","v":5},1019,125,{"$f":"VLOOKUP(H1021,'Ark1'!$C$2:$D$12,2,FALSE)","v":5}]
[1020,20,{"$f":"VLOOKUP(B1022,'Ark1'!C$2:D$11,2,FALSE)","v":1},1020,80,{"$f":"VLOOKUP(E1022,'Ark1'!$C$2:$D$11,2,FALSE)","v":5},1020,125,{"$f":"VLOOKUP(H1022,'Ark1'!$C$2:$D$12,2,FALSE)","v":5}]
[1021,20,{"$f":"VLOOKUP(B1023,'Ark1'!C$2:D$11,2,FALSE)","v":1},1021,80,{"$f":"VLOOKUP(E1023,'Ark1'!$C$2:$D$11,2,FALSE)","v":5},1021,125,{"$f":"VLOOKUP(H1023,'Ark1'!$C$2:$D$12,2,FALSE)","v":5}]
[1022,20,{"$f":"VLOOKUP(B1024,'Ark1'!C$2:D$11,2,FALSE)","v":1},1022,80,{"$f":"VLOOKUP(E1024,'Ark1'!$C$2:$D$11,2,FALSE)","v":5},1022,125,{"$f":"VLOOKUP(H1024,'Ark1'!$C$2:$D$12,2,FALSE)","v":5}]
[1023,20,{"$f":"VLOOKUP(B1025,'Ark1'!C$2:D$11,2,FALSE)","v":1},1023,80,{"$f":"VLOOKUP(E1025,'Ark1'!$C$2:$D$11,2,FALSE)","v":5},1023,125,{"$f":"VLOOKUP(H1025,'Ark1'!$C$2:$D$12,2,FALSE)","v":5}]
[1024,20,{"$f":"VLOOKUP(B1026,'Ark1'!C$2:D$11,2,FALSE)","v":1},1024,80,{"$f":"VLOOKUP(E1026,'Ark1'!$C$2:$D$11,2,FALSE)","v":5},1024,125,{"$f":"VLOOKUP(H1026,'Ark1'!$C$2:$D$12,2,FALSE)","v":5}]
[1025,20,{"$f":"VLOOKUP(B1027,'Ark1'!C$2:D$11,2,FALSE)","v":1},1025,80,{"$f":"VLOOKUP(E1027,'Ark1'!$C$2:$D$11,2,FALSE)","v":5},1025,125,{"$f":"VLOOKUP(H1027,'Ark1'!$C$2:$D$12,2,FALSE)","v":5}]
[1026,20,{"$f":"VLOOKUP(B1028,'Ark1'!C$2:D$11,2,FALSE)","v":1},1026,80,{"$f":"VLOOKUP(E1028,'Ark1'!$C$2:$D$11,2,FALSE)","v":5},1026,125,{"$f":"VLOOKUP(H1028,'Ark1'!$C$2:$D$12,2,FALSE)","v":5}]
[1027,20,{"$f":"VLOOKUP(B1029,'Ark1'!C$2:D$11,2,FALSE)","v":1},1027,80,{"$f":"VLOOKUP(E1029,'Ark1'!$C$2:$D$11,2,FALSE)","v":5},1027,125,{"$f":"VLOOKUP(H1029,'Ark1'!$C$2:$D$12,2,FALSE)","v":5}]
[1028,20,{"$f":"VLOOKUP(B1030,'Ark1'!C$2:D$11,2,FALSE)","v":1},1028,80,{"$f":"VLOOKUP(E1030,'Ark1'!$C$2:$D$11,2,FALSE)","v":5},1028,125,{"$f":"VLOOKUP(H1030,'Ark1'!$C$2:$D$12,2,FALSE)","v":5}]
[1029,20,{"$f":"VLOOKUP(B1031,'Ark1'!C$2:D$11,2,FALSE)","v":1},1029,80,{"$f":"VLOOKUP(E1031,'Ark1'!$C$2:$D$11,2,FALSE)","v":5},1029,125,{"$f":"VLOOKUP(H1031,'Ark1'!$C$2:$D$12,2,FALSE)","v":5}]
[1030,20,{"$f":"VLOOKUP(B1032,'Ark1'!C$2:D$11,2,FALSE)","v":1},1030,80,{"$f":"VLOOKUP(E1032,'Ark1'!$C$2:$D$11,2,FALSE)","v":5},1030,125,{"$f":"VLOOKUP(H1032,'Ark1'!$C$2:$D$12,2,FALSE)","v":5}]
[1031,20,{"$f":"VLOOKUP(B1033,'Ark1'!C$2:D$11,2,FALSE)","v":1},1031,80,{"$f":"VLOOKUP(E1033,'Ark1'!$C$2:$D$11,2,FALSE)","v":5},1031,125,{"$f":"VLOOKUP(H1033,'Ark1'!$C$2:$D$12,2,FALSE)","v":5}]
[1032,20,{"$f":"VLOOKUP(B1034,'Ark1'!C$2:D$11,2,FALSE)","v":1},1032,80,{"$f":"VLOOKUP(E1034,'Ark1'!$C$2:$D$11,2,FALSE)","v":5},1032,125,{"$f":"VLOOKUP(H1034,'Ark1'!$C$2:$D$12,2,FALSE)","v":5}]
[1033,20,{"$f":"VLOOKUP(B1035,'Ark1'!C$2:D$11,2,FALSE)","v":1},1033,80,{"$f":"VLOOKUP(E1035,'Ark1'!$C$2:$D$11,2,FALSE)","v":5},1033,125,{"$f":"VLOOKUP(H1035,'Ark1'!$C$2:$D$12,2,FALSE)","v":5}]
[1034,20,{"$f":"VLOOKUP(B1036,'Ark1'!C$2:D$11,2,FALSE)","v":1},1034,80,{"$f":"VLOOKUP(E1036,'Ark1'!$C$2:$D$11,2,FALSE)","v":5},1034,125,{"$f":"VLOOKUP(H1036,'Ark1'!$C$2:$D$12,2,FALSE)","v":5}]
[1035,20,{"$f":"VLOOKUP(B1037,'Ark1'!C$2:D$11,2,FALSE)","v":1},1035,80,{"$f":"VLOOKUP(E1037,'Ark1'!$C$2:$D$11,2,FALSE)","v":5},1035,125,{"$f":"VLOOKUP(H1037,'Ark1'!$C$2:$D$12,2,FALSE)","v":5}]
[1036,20,{"$f":"VLOOKUP(B1038,'Ark1'!C$2:D$11,2,FALSE)","v":1},1036,80,{"$f":"VLOOKUP(E1038,'Ark1'!$C$2:$D$11,2,FALSE)","v":5},1036,125,{"$f":"VLOOKUP(H1038,'Ark1'!$C$2:$D$12,2,FALSE)","v":5}]
[1037,20,{"$f":"VLOOKUP(B1039,'Ark1'!C$2:D$11,2,FALSE)","v":1},1037,80,{"$f":"VLOOKUP(E1039,'Ark1'!$C$2:$D$11,2,FALSE)","v":5},1037,125,{"$f":"VLOOKUP(H1039,'Ark1'!$C$2:$D$12,2,FALSE)","v":5}]
[1038,20,{"$f":"VLOOKUP(B1040,'Ark1'!C$2:D$11,2,FALSE)","v":1},1038,80,{"$f":"VLOOKUP(E1040,'Ark1'!$C$2:$D$11,2,FALSE)","v":5},1038,125,{"$f":"VLOOKUP(H1040,'Ark1'!$C$2:$D$12,2,FALSE)","v":5}]
[1039,20,{"$f":"VLOOKUP(B1041,'Ark1'!C$2:D$11,2,FALSE)","v":1},1039,80,{"$f":"VLOOKUP(E1041,'Ark1'!$C$2:$D$11,2,FALSE)","v":5},1039,125,{"$f":"VLOOKUP(H1041,'Ark1'!$C$2:$D$12,2,FALSE)","v":5}]
[1040,20,{"$f":"VLOOKUP(B1042,'Ark1'!C$2:D$11,2,FALSE)","v":1},1040,80,{"$f":"VLOOKUP(E1042,'Ark1'!$C$2:$D$11,2,FALSE)","v":5},1040,125,{"$f":"VLOOKUP(H1042,'Ark1'!$C$2:$D$12,2,FALSE)","v":5}]
[1041,20,{"$f":"VLOOKUP(B1043,'Ark1'!C$2:D$11,2,FALSE)","v":1},1041,80,{"$f":"VLOOKUP(E1043,'Ark1'!$C$2:$D$11,2,FALSE)","v":5},1041,125,{"$f":"VLOOKUP(H1043,'Ark1'!$C$2:$D$12,2,FALSE)","v":5}]
[1042,20,{"$f":"VLOOKUP(B1044,'Ark1'!C$2:D$11,2,FALSE)","v":1},1042,80,{"$f":"VLOOKUP(E1044,'Ark1'!$C$2:$D$11,2,FALSE)","v":5},1042,125,{"$f":"VLOOKUP(H1044,'Ark1'!$C$2:$D$12,2,FALSE)","v":5}]
[1043,20,{"$f":"VLOOKUP(B1045,'Ark1'!C$2:D$11,2,FALSE)","v":1},1043,80,{"$f":"VLOOKUP(E1045,'Ark1'!$C$2:$D$11,2,FALSE)","v":5},1043,125,{"$f":"VLOOKUP(H1045,'Ark1'!$C$2:$D$12,2,FALSE)","v":5}]
[1044,20,{"$f":"VLOOKUP(B1046,'Ark1'!C$2:D$11,2,FALSE)","v":1},1044,80,{"$f":"VLOOKUP(E1046,'Ark1'!$C$2:$D$11,2,FALSE)","v":5},1044,125,{"$f":"VLOOKUP(H1046,'Ark1'!$C$2:$D$12,2,FALSE)","v":5}]
[1045,20,{"$f":"VLOOKUP(B1047,'Ark1'!C$2:D$11,2,FALSE)","v":1},1045,80,{"$f":"VLOOKUP(E1047,'Ark1'!$C$2:$D$11,2,FALSE)","v":5},1045,125,{"$f":"VLOOKUP(H1047,'Ark1'!$C$2:$D$12,2,FALSE)","v":5}]
[1046,20,{"$f":"VLOOKUP(B1048,'Ark1'!C$2:D$11,2,FALSE)","v":1},1046,80,{"$f":"VLOOKUP(E1048,'Ark1'!$C$2:$D$11,2,FALSE)","v":5},1046,125,{"$f":"VLOOKUP(H1048,'Ark1'!$C$2:$D$12,2,FALSE)","v":5}]
[1047,20,{"$f":"VLOOKUP(B1049,'Ark1'!C$2:D$11,2,FALSE)","v":1},1047,80,{"$f":"VLOOKUP(E1049,'Ark1'!$C$2:$D$11,2,FALSE)","v":5},1047,125,{"$f":"VLOOKUP(H1049,'Ark1'!$C$2:$D$12,2,FALSE)","v":5}]
[1048,20,{"$f":"VLOOKUP(B1050,'Ark1'!C$2:D$11,2,FALSE)","v":1},1048,80,{"$f":"VLOOKUP(E1050,'Ark1'!$C$2:$D$11,2,FALSE)","v":5},1048,125,{"$f":"VLOOKUP(H1050,'Ark1'!$C$2:$D$12,2,FALSE)","v":5}]
[1049,20,{"$f":"VLOOKUP(B1051,'Ark1'!C$2:D$11,2,FALSE)","v":1},1049,80,{"$f":"VLOOKUP(E1051,'Ark1'!$C$2:$D$11,2,FALSE)","v":5},1049,125,{"$f":"VLOOKUP(H1051,'Ark1'!$C$2:$D$12,2,FALSE)","v":5}]
[1050,20,{"$f":"VLOOKUP(B1052,'Ark1'!C$2:D$11,2,FALSE)","v":1},1050,80,{"$f":"VLOOKUP(E1052,'Ark1'!$C$2:$D$11,2,FALSE)","v":5},1050,125,{"$f":"VLOOKUP(H1052,'Ark1'!$C$2:$D$12,2,FALSE)","v":5}]
[1051,20,{"$f":"VLOOKUP(B1053,'Ark1'!C$2:D$11,2,FALSE)","v":1},1051,80,{"$f":"VLOOKUP(E1053,'Ark1'!$C$2:$D$11,2,FALSE)","v":5},1051,125,{"$f":"VLOOKUP(H1053,'Ark1'!$C$2:$D$12,2,FALSE)","v":5}]
[1052,20,{"$f":"VLOOKUP(B1054,'Ark1'!C$2:D$11,2,FALSE)","v":1},1052,80,{"$f":"VLOOKUP(E1054,'Ark1'!$C$2:$D$11,2,FALSE)","v":5},1052,125,{"$f":"VLOOKUP(H1054,'Ark1'!$C$2:$D$12,2,FALSE)","v":5}]
[1053,20,{"$f":"VLOOKUP(B1055,'Ark1'!C$2:D$11,2,FALSE)","v":1},1053,80,{"$f":"VLOOKUP(E1055,'Ark1'!$C$2:$D$11,2,FALSE)","v":5},1053,125,{"$f":"VLOOKUP(H1055,'Ark1'!$C$2:$D$12,2,FALSE)","v":5}]
[1054,20,{"$f":"VLOOKUP(B1056,'Ark1'!C$2:D$11,2,FALSE)","v":1},1054,80,{"$f":"VLOOKUP(E1056,'Ark1'!$C$2:$D$11,2,FALSE)","v":5},1054,125,{"$f":"VLOOKUP(H1056,'Ark1'!$C$2:$D$12,2,FALSE)","v":5}]
[1055,20,{"$f":"VLOOKUP(B1057,'Ark1'!C$2:D$11,2,FALSE)","v":1},1055,80,{"$f":"VLOOKUP(E1057,'Ark1'!$C$2:$D$11,2,FALSE)","v":5},1055,125,{"$f":"VLOOKUP(H1057,'Ark1'!$C$2:$D$12,2,FALSE)","v":5}]
[1056,20,{"$f":"VLOOKUP(B1058,'Ark1'!C$2:D$11,2,FALSE)","v":1},1056,80,{"$f":"VLOOKUP(E1058,'Ark1'!$C$2:$D$11,2,FALSE)","v":5},1056,125,{"$f":"VLOOKUP(H1058,'Ark1'!$C$2:$D$12,2,FALSE)","v":5}]
[1057,20,{"$f":"VLOOKUP(B1059,'Ark1'!C$2:D$11,2,FALSE)","v":1},1057,80,{"$f":"VLOOKUP(E1059,'Ark1'!$C$2:$D$11,2,FALSE)","v":5},1057,125,{"$f":"VLOOKUP(H1059,'Ark1'!$C$2:$D$12,2,FALSE)","v":5}]
[1058,20,{"$f":"VLOOKUP(B1060,'Ark1'!C$2:D$11,2,FALSE)","v":1},1058,80,{"$f":"VLOOKUP(E1060,'Ark1'!$C$2:$D$11,2,FALSE)","v":5},1058,125,{"$f":"VLOOKUP(H1060,'Ark1'!$C$2:$D$12,2,FALSE)","v":5}]
[1059,20,{"$f":"VLOOKUP(B1061,'Ark1'!C$2:D$11,2,FALSE)","v":1},1059,80,{"$f":"VLOOKUP(E1061,'Ark1'!$C$2:$D$11,2,FALSE)","v":5},1059,125,{"$f":"VLOOKUP(H1061,'Ark1'!$C$2:$D$12,2,FALSE)","v":5}]
[1060,20,{"$f":"VLOOKUP(B1062,'Ark1'!C$2:D$11,2,FALSE)","v":1},1060,80,{"$f":"VLOOKUP(E1062,'Ark1'!$C$2:$D$11,2,FALSE)","v":5},1060,125,{"$f":"VLOOKUP(H1062,'Ark1'!$C$2:$D$12,2,FALSE)","v":5}]
[1061,20,{"$f":"VLOOKUP(B1063,'Ark1'!C$2:D$11,2,FALSE)","v":1},1061,80,{"$f":"VLOOKUP(E1063,'Ark1'!$C$2:$D$11,2,FALSE)","v":5},1061,125,{"$f":"VLOOKUP(H1063,'Ark1'!$C$2:$D$12,2,FALSE)","v":5}]
[1062,20,{"$f":"VLOOKUP(B1064,'Ark1'!C$2:D$11,2,FALSE)","v":1},1062,80,{"$f":"VLOOKUP(E1064,'Ark1'!$C$2:$D$11,2,FALSE)","v":5},1062,125,{"$f":"VLOOKUP(H1064,'Ark1'!$C$2:$D$12,2,FALSE)","v":5}]
[1063,20,{"$f":"VLOOKUP(B1065,'Ark1'!C$2:D$11,2,FALSE)","v":1},1063,80,{"$f":"VLOOKUP(E1065,'Ark1'!$C$2:$D$11,2,FALSE)","v":5},1063,125,{"$f":"VLOOKUP(H1065,'Ark1'!$C$2:$D$12,2,FALSE)","v":5}]
[1064,20,{"$f":"VLOOKUP(B1066,'Ark1'!C$2:D$11,2,FALSE)","v":1},1064,80,{"$f":"VLOOKUP(E1066,'Ark1'!$C$2:$D$11,2,FALSE)","v":5},1064,125,{"$f":"VLOOKUP(H1066,'Ark1'!$C$2:$D$12,2,FALSE)","v":5}]
[1065,20,{"$f":"VLOOKUP(B1067,'Ark1'!C$2:D$11,2,FALSE)","v":1},1065,80,{"$f":"VLOOKUP(E1067,'Ark1'!$C$2:$D$11,2,FALSE)","v":5},1065,125,{"$f":"VLOOKUP(H1067,'Ark1'!$C$2:$D$12,2,FALSE)","v":5}]
[1066,20,{"$f":"VLOOKUP(B1068,'Ark1'!C$2:D$11,2,FALSE)","v":1},1066,80,{"$f":"VLOOKUP(E1068,'Ark1'!$C$2:$D$11,2,FALSE)","v":5},1066,125,{"$f":"VLOOKUP(H1068,'Ark1'!$C$2:$D$12,2,FALSE)","v":5}]
[1067,20,{"$f":"VLOOKUP(B1069,'Ark1'!C$2:D$11,2,FALSE)","v":1},1067,80,{"$f":"VLOOKUP(E1069,'Ark1'!$C$2:$D$11,2,FALSE)","v":5},1067,125,{"$f":"VLOOKUP(H1069,'Ark1'!$C$2:$D$12,2,FALSE)","v":5}]
[1068,20,{"$f":"VLOOKUP(B1070,'Ark1'!C$2:D$11,2,FALSE)","v":1},1068,80,{"$f":"VLOOKUP(E1070,'Ark1'!$C$2:$D$11,2,FALSE)","v":5},1068,125,{"$f":"VLOOKUP(H1070,'Ark1'!$C$2:$D$12,2,FALSE)","v":5}]
[1069,20,{"$f":"VLOOKUP(B1071,'Ark1'!C$2:D$11,2,FALSE)","v":1},1069,80,{"$f":"VLOOKUP(E1071,'Ark1'!$C$2:$D$11,2,FALSE)","v":5},1069,125,{"$f":"VLOOKUP(H1071,'Ark1'!$C$2:$D$12,2,FALSE)","v":5}]
[1070,20,{"$f":"VLOOKUP(B1072,'Ark1'!C$2:D$11,2,FALSE)","v":1},1070,80,{"$f":"VLOOKUP(E1072,'Ark1'!$C$2:$D$11,2,FALSE)","v":5},1070,125,{"$f":"VLOOKUP(H1072,'Ark1'!$C$2:$D$12,2,FALSE)","v":5}]
[1071,20,{"$f":"VLOOKUP(B1073,'Ark1'!C$2:D$11,2,FALSE)","v":1},1071,80,{"$f":"VLOOKUP(E1073,'Ark1'!$C$2:$D$11,2,FALSE)","v":5},1071,125,{"$f":"VLOOKUP(H1073,'Ark1'!$C$2:$D$12,2,FALSE)","v":5}]
[1072,20,{"$f":"VLOOKUP(B1074,'Ark1'!C$2:D$11,2,FALSE)","v":1},1072,80,{"$f":"VLOOKUP(E1074,'Ark1'!$C$2:$D$11,2,FALSE)","v":5},1072,125,{"$f":"VLOOKUP(H1074,'Ark1'!$C$2:$D$12,2,FALSE)","v":5}]
[1073,20,{"$f":"VLOOKUP(B1075,'Ark1'!C$2:D$11,2,FALSE)","v":1},1073,80,{"$f":"VLOOKUP(E1075,'Ark1'!$C$2:$D$11,2,FALSE)","v":5},1073,125,{"$f":"VLOOKUP(H1075,'Ark1'!$C$2:$D$12,2,FALSE)","v":5}]
[1074,20,{"$f":"VLOOKUP(B1076,'Ark1'!C$2:D$11,2,FALSE)","v":1},1074,80,{"$f":"VLOOKUP(E1076,'Ark1'!$C$2:$D$11,2,FALSE)","v":5},1074,125,{"$f":"VLOOKUP(H1076,'Ark1'!$C$2:$D$12,2,FALSE)","v":5}]
[1075,20,{"$f":"VLOOKUP(B1077,'Ark1'!C$2:D$11,2,FALSE)","v":1},1075,80,{"$f":"VLOOKUP(E1077,'Ark1'!$C$2:$D$11,2,FALSE)","v":5},1075,125,{"$f":"VLOOKUP(H1077,'Ark1'!$C$2:$D$12,2,FALSE)","v":5}]
[1076,20,{"$f":"VLOOKUP(B1078,'Ark1'!C$2:D$11,2,FALSE)","v":1},1076,80,{"$f":"VLOOKUP(E1078,'Ark1'!$C$2:$D$11,2,FALSE)","v":5},1076,125,{"$f":"VLOOKUP(H1078,'Ark1'!$C$2:$D$12,2,FALSE)","v":5}]
[1077,20,{"$f":"VLOOKUP(B1079,'Ark1'!C$2:D$11,2,FALSE)","v":1},1077,80,{"$f":"VLOOKUP(E1079,'Ark1'!$C$2:$D$11,2,FALSE)","v":5},1077,125,{"$f":"VLOOKUP(H1079,'Ark1'!$C$2:$D$12,2,FALSE)","v":5}]
[1078,20,{"$f":"VLOOKUP(B1080,'Ark1'!C$2:D$11,2,FALSE)","v":1},1078,80,{"$f":"VLOOKUP(E1080,'Ark1'!$C$2:$D$11,2,FALSE)","v":5},1078,125,{"$f":"VLOOKUP(H1080,'Ark1'!$C$2:$D$12,2,FALSE)","v":5}]
[1079,20,{"$f":"VLOOKUP(B1081,'Ark1'!C$2:D$11,2,FALSE)","v":1},1079,80,{"$f":"VLOOKUP(E1081,'Ark1'!$C$2:$D$11,2,FALSE)","v":5},1079,125,{"$f":"VLOOKUP(H1081,'Ark1'!$C$2:$D$12,2,FALSE)","v":5}]
[1080,20,{"$f":"VLOOKUP(B1082,'Ark1'!C$2:D$11,2,FALSE)","v":1},1080,80,{"$f":"VLOOKUP(E1082,'Ark1'!$C$2:$D$11,2,FALSE)","v":5},1080,125,{"$f":"VLOOKUP(H1082,'Ark1'!$C$2:$D$12,2,FALSE)","v":5}]
[1081,20,{"$f":"VLOOKUP(B1083,'Ark1'!C$2:D$11,2,FALSE)","v":1},1081,80,{"$f":"VLOOKUP(E1083,'Ark1'!$C$2:$D$11,2,FALSE)","v":5},1081,125,{"$f":"VLOOKUP(H1083,'Ark1'!$C$2:$D$12,2,FALSE)","v":5}]
[1082,20,{"$f":"VLOOKUP(B1084,'Ark1'!C$2:D$11,2,FALSE)","v":1},1082,80,{"$f":"VLOOKUP(E1084,'Ark1'!$C$2:$D$11,2,FALSE)","v":5},1082,125,{"$f":"VLOOKUP(H1084,'Ark1'!$C$2:$D$12,2,FALSE)","v":5}]
[1083,20,{"$f":"VLOOKUP(B1085,'Ark1'!C$2:D$11,2,FALSE)","v":1},1083,80,{"$f":"VLOOKUP(E1085,'Ark1'!$C$2:$D$11,2,FALSE)","v":5},1083,125,{"$f":"VLOOKUP(H1085,'Ark1'!$C$2:$D$12,2,FALSE)","v":5}]
[1084,20,{"$f":"VLOOKUP(B1086,'Ark1'!C$2:D$11,2,FALSE)","v":1},1084,80,{"$f":"VLOOKUP(E1086,'Ark1'!$C$2:$D$11,2,FALSE)","v":5},1084,125,{"$f":"VLOOKUP(H1086,'Ark1'!$C$2:$D$12,2,FALSE)","v":5}]
[1085,20,{"$f":"VLOOKUP(B1087,'Ark1'!C$2:D$11,2,FALSE)","v":1},1085,80,{"$f":"VLOOKUP(E1087,'Ark1'!$C$2:$D$11,2,FALSE)","v":5},1085,125,{"$f":"VLOOKUP(H1087,'Ark1'!$C$2:$D$12,2,FALSE)","v":5}]
[1086,20,{"$f":"VLOOKUP(B1088,'Ark1'!C$2:D$11,2,FALSE)","v":1},1086,80,{"$f":"VLOOKUP(E1088,'Ark1'!$C$2:$D$11,2,FALSE)","v":5},1086,125,{"$f":"VLOOKUP(H1088,'Ark1'!$C$2:$D$12,2,FALSE)","v":5}]
[1087,20,{"$f":"VLOOKUP(B1089,'Ark1'!C$2:D$11,2,FALSE)","v":1},1087,80,{"$f":"VLOOKUP(E1089,'Ark1'!$C$2:$D$11,2,FALSE)","v":5},1087,125,{"$f":"VLOOKUP(H1089,'Ark1'!$C$2:$D$12,2,FALSE)","v":5}]
[1088,20,{"$f":"VLOOKUP(B1090,'Ark1'!C$2:D$11,2,FALSE)","v":1},1088,80,{"$f":"VLOOKUP(E1090,'Ark1'!$C$2:$D$11,2,FALSE)","v":5},1088,125,{"$f":"VLOOKUP(H1090,'Ark1'!$C$2:$D$12,2,FALSE)","v":5}]
[1089,20,{"$f":"VLOOKUP(B1091,'Ark1'!C$2:D$11,2,FALSE)","v":1},1089,80,{"$f":"VLOOKUP(E1091,'Ark1'!$C$2:$D$11,2,FALSE)","v":5},1089,125,{"$f":"VLOOKUP(H1091,'Ark1'!$C$2:$D$12,2,FALSE)","v":5}]
[1090,20,{"$f":"VLOOKUP(B1092,'Ark1'!C$2:D$11,2,FALSE)","v":1},1090,80,{"$f":"VLOOKUP(E1092,'Ark1'!$C$2:$D$11,2,FALSE)","v":5},1090,125,{"$f":"VLOOKUP(H1092,'Ark1'!$C$2:$D$12,2,FALSE)","v":5}]
[1091,20,{"$f":"VLOOKUP(B1093,'Ark1'!C$2:D$11,2,FALSE)","v":1},1091,80,{"$f":"VLOOKUP(E1093,'Ark1'!$C$2:$D$11,2,FALSE)","v":5},1091,125,{"$f":"VLOOKUP(H1093,'Ark1'!$C$2:$D$12,2,FALSE)","v":5}]
[1092,20,{"$f":"VLOOKUP(B1094,'Ark1'!C$2:D$11,2,FALSE)","v":1},1092,80,{"$f":"VLOOKUP(E1094,'Ark1'!$C$2:$D$11,2,FALSE)","v":5},1092,125,{"$f":"VLOOKUP(H1094,'Ark1'!$C$2:$D$12,2,FALSE)","v":5}]
[1093,20,{"$f":"VLOOKUP(B1095,'Ark1'!C$2:D$11,2,FALSE)","v":1},1093,80,{"$f":"VLOOKUP(E1095,'Ark1'!$C$2:$D$11,2,FALSE)","v":5},1093,125,{"$f":"VLOOKUP(H1095,'Ark1'!$C$2:$D$12,2,FALSE)","v":5}]
[1094,20,{"$f":"VLOOKUP(B1096,'Ark1'!C$2:D$11,2,FALSE)","v":1},1094,80,{"$f":"VLOOKUP(E1096,'Ark1'!$C$2:$D$11,2,FALSE)","v":5},1094,125,{"$f":"VLOOKUP(H1096,'Ark1'!$C$2:$D$12,2,FALSE)","v":5}]
[1095,20,{"$f":"VLOOKUP(B1097,'Ark1'!C$2:D$11,2,FALSE)","v":1},1095,80,{"$f":"VLOOKUP(E1097,'Ark1'!$C$2:$D$11,2,FALSE)","v":5},1095,125,{"$f":"VLOOKUP(H1097,'Ark1'!$C$2:$D$12,2,FALSE)","v":5}]
[1096,20,{"$f":"VLOOKUP(B1098,'Ark1'!C$2:D$11,2,FALSE)","v":1},1096,80,{"$f":"VLOOKUP(E1098,'Ark1'!$C$2:$D$11,2,FALSE)","v":5},1096,125,{"$f":"VLOOKUP(H1098,'Ark1'!$C$2:$D$12,2,FALSE)","v":5}]
[1097,20,{"$f":"VLOOKUP(B1099,'Ark1'!C$2:D$11,2,FALSE)","v":1},1097,80,{"$f":"VLOOKUP(E1099,'Ark1'!$C$2:$D$11,2,FALSE)","v":5},1097,125,{"$f":"VLOOKUP(H1099,'Ark1'!$C$2:$D$12,2,FALSE)","v":5}]
[1098,20,{"$f":"VLOOKUP(B1100,'Ark1'!C$2:D$11,2,FALSE)","v":1},1098,80,{"$f":"VLOOKUP(E1100,'Ark1'!$C$2:$D$11,2,FALSE)","v":5},1098,125,{"$f":"VLOOKUP(H1100,'Ark1'!$C$2:$D$12,2,FALSE)","v":5}]
[1099,20,{"$f":"VLOOKUP(B1101,'Ark1'!C$2:D$11,2,FALSE)","v":1},1099,80,{"$f":"VLOOKUP(E1101,'Ark1'!$C$2:$D$11,2,FALSE)","v":5},1099,125,{"$f":"VLOOKUP(H1101,'Ark1'!$C$2:$D$12,2,FALSE)","v":5}]
[1100,20,{"$f":"VLOOKUP(B1102,'Ark1'!C$2:D$11,2,FALSE)","v":1},1100,80,{"$f":"VLOOKUP(E1102,'Ark1'!$C$2:$D$11,2,FALSE)","v":5},1100,125,{"$f":"VLOOKUP(H1102,'Ark1'!$C$2:$D$12,2,FALSE)","v":5}]
[1101,20,{"$f":"VLOOKUP(B1103,'Ark1'!C$2:D$11,2,FALSE)","v":1},1101,80,{"$f":"VLOOKUP(E1103,'Ark1'!$C$2:$D$11,2,FALSE)","v":5},1101,125,{"$f":"VLOOKUP(H1103,'Ark1'!$C$2:$D$12,2,FALSE)","v":5}]
[1102,20,{"$f":"VLOOKUP(B1104,'Ark1'!C$2:D$11,2,FALSE)","v":1},1102,80,{"$f":"VLOOKUP(E1104,'Ark1'!$C$2:$D$11,2,FALSE)","v":5},1102,125,{"$f":"VLOOKUP(H1104,'Ark1'!$C$2:$D$12,2,FALSE)","v":5}]
[1103,20,{"$f":"VLOOKUP(B1105,'Ark1'!C$2:D$11,2,FALSE)","v":1},1103,80,{"$f":"VLOOKUP(E1105,'Ark1'!$C$2:$D$11,2,FALSE)","v":5},1103,125,{"$f":"VLOOKUP(H1105,'Ark1'!$C$2:$D$12,2,FALSE)","v":5}]
[1104,20,{"$f":"VLOOKUP(B1106,'Ark1'!C$2:D$11,2,FALSE)","v":1},1104,80,{"$f":"VLOOKUP(E1106,'Ark1'!$C$2:$D$11,2,FALSE)","v":5},1104,125,{"$f":"VLOOKUP(H1106,'Ark1'!$C$2:$D$12,2,FALSE)","v":5}]
[1105,20,{"$f":"VLOOKUP(B1107,'Ark1'!C$2:D$11,2,FALSE)","v":1},1105,80,{"$f":"VLOOKUP(E1107,'Ark1'!$C$2:$D$11,2,FALSE)","v":5},1105,125,{"$f":"VLOOKUP(H1107,'Ark1'!$C$2:$D$12,2,FALSE)","v":5}]
[1106,20,{"$f":"VLOOKUP(B1108,'Ark1'!C$2:D$11,2,FALSE)","v":1},1106,80,{"$f":"VLOOKUP(E1108,'Ark1'!$C$2:$D$11,2,FALSE)","v":5},1106,125,{"$f":"VLOOKUP(H1108,'Ark1'!$C$2:$D$12,2,FALSE)","v":5}]
[1107,20,{"$f":"VLOOKUP(B1109,'Ark1'!C$2:D$11,2,FALSE)","v":1},1107,80,{"$f":"VLOOKUP(E1109,'Ark1'!$C$2:$D$11,2,FALSE)","v":5},1107,125,{"$f":"VLOOKUP(H1109,'Ark1'!$C$2:$D$12,2,FALSE)","v":5}]
[1108,20,{"$f":"VLOOKUP(B1110,'Ark1'!C$2:D$11,2,FALSE)","v":1},1108,80,{"$f":"VLOOKUP(E1110,'Ark1'!$C$2:$D$11,2,FALSE)","v":5},1108,125,{"$f":"VLOOKUP(H1110,'Ark1'!$C$2:$D$12,2,FALSE)","v":5}]
[1109,20,{"$f":"VLOOKUP(B1111,'Ark1'!C$2:D$11,2,FALSE)","v":1},1109,80,{"$f":"VLOOKUP(E1111,'Ark1'!$C$2:$D$11,2,FALSE)","v":5},1109,125,{"$f":"VLOOKUP(H1111,'Ark1'!$C$2:$D$12,2,FALSE)","v":5}]
[1110,20,{"$f":"VLOOKUP(B1112,'Ark1'!C$2:D$11,2,FALSE)","v":1},1110,80,{"$f":"VLOOKUP(E1112,'Ark1'!$C$2:$D$11,2,FALSE)","v":5},1110,125,{"$f":"VLOOKUP(H1112,'Ark1'!$C$2:$D$12,2,FALSE)","v":5}]
[1111,20,{"$f":"VLOOKUP(B1113,'Ark1'!C$2:D$11,2,FALSE)","v":1},1111,80,{"$f":"VLOOKUP(E1113,'Ark1'!$C$2:$D$11,2,FALSE)","v":5},1111,125,{"$f":"VLOOKUP(H1113,'Ark1'!$C$2:$D$12,2,FALSE)","v":5}]
[1112,20,{"$f":"VLOOKUP(B1114,'Ark1'!C$2:D$11,2,FALSE)","v":1},1112,80,{"$f":"VLOOKUP(E1114,'Ark1'!$C$2:$D$11,2,FALSE)","v":5},1112,125,{"$f":"VLOOKUP(H1114,'Ark1'!$C$2:$D$12,2,FALSE)","v":5}]
[1113,20,{"$f":"VLOOKUP(B1115,'Ark1'!C$2:D$11,2,FALSE)","v":1},1113,80,{"$f":"VLOOKUP(E1115,'Ark1'!$C$2:$D$11,2,FALSE)","v":5},1113,125,{"$f":"VLOOKUP(H1115,'Ark1'!$C$2:$D$12,2,FALSE)","v":5}]
[1114,20,{"$f":"VLOOKUP(B1116,'Ark1'!C$2:D$11,2,FALSE)","v":1},1114,80,{"$f":"VLOOKUP(E1116,'Ark1'!$C$2:$D$11,2,FALSE)","v":5},1114,125,{"$f":"VLOOKUP(H1116,'Ark1'!$C$2:$D$12,2,FALSE)","v":5}]
[1115,20,{"$f":"VLOOKUP(B1117,'Ark1'!C$2:D$11,2,FALSE)","v":1},1115,80,{"$f":"VLOOKUP(E1117,'Ark1'!$C$2:$D$11,2,FALSE)","v":5},1115,125,{"$f":"VLOOKUP(H1117,'Ark1'!$C$2:$D$12,2,FALSE)","v":5}]
[1116,20,{"$f":"VLOOKUP(B1118,'Ark1'!C$2:D$11,2,FALSE)","v":1},1116,80,{"$f":"VLOOKUP(E1118,'Ark1'!$C$2:$D$11,2,FALSE)","v":5},1116,125,{"$f":"VLOOKUP(H1118,'Ark1'!$C$2:$D$12,2,FALSE)","v":5}]
[1117,20,{"$f":"VLOOKUP(B1119,'Ark1'!C$2:D$11,2,FALSE)","v":1},1117,80,{"$f":"VLOOKUP(E1119,'Ark1'!$C$2:$D$11,2,FALSE)","v":5},1117,125,{"$f":"VLOOKUP(H1119,'Ark1'!$C$2:$D$12,2,FALSE)","v":5}]
[1118,20,{"$f":"VLOOKUP(B1120,'Ark1'!C$2:D$11,2,FALSE)","v":1},1118,80,{"$f":"VLOOKUP(E1120,'Ark1'!$C$2:$D$11,2,FALSE)","v":5},1118,125,{"$f":"VLOOKUP(H1120,'Ark1'!$C$2:$D$12,2,FALSE)","v":5}]
[1119,20,{"$f":"VLOOKUP(B1121,'Ark1'!C$2:D$11,2,FALSE)","v":1},1119,80,{"$f":"VLOOKUP(E1121,'Ark1'!$C$2:$D$11,2,FALSE)","v":5},1119,125,{"$f":"VLOOKUP(H1121,'Ark1'!$C$2:$D$12,2,FALSE)","v":5}]
[1120,20,{"$f":"VLOOKUP(B1122,'Ark1'!C$2:D$11,2,FALSE)","v":1},1120,80,{"$f":"VLOOKUP(E1122,'Ark1'!$C$2:$D$11,2,FALSE)","v":5},1120,125,{"$f":"VLOOKUP(H1122,'Ark1'!$C$2:$D$12,2,FALSE)","v":5}]
[1121,20,{"$f":"VLOOKUP(B1123,'Ark1'!C$2:D$11,2,FALSE)","v":1},1121,80,{"$f":"VLOOKUP(E1123,'Ark1'!$C$2:$D$11,2,FALSE)","v":5},1121,125,{"$f":"VLOOKUP(H1123,'Ark1'!$C$2:$D$12,2,FALSE)","v":5}]
[1122,20,{"$f":"VLOOKUP(B1124,'Ark1'!C$2:D$11,2,FALSE)","v":1},1122,80,{"$f":"VLOOKUP(E1124,'Ark1'!$C$2:$D$11,2,FALSE)","v":5},1122,125,{"$f":"VLOOKUP(H1124,'Ark1'!$C$2:$D$12,2,FALSE)","v":5}]
[1123,20,{"$f":"VLOOKUP(B1125,'Ark1'!C$2:D$11,2,FALSE)","v":1},1123,80,{"$f":"VLOOKUP(E1125,'Ark1'!$C$2:$D$11,2,FALSE)","v":5},1123,125,{"$f":"VLOOKUP(H1125,'Ark1'!$C$2:$D$12,2,FALSE)","v":5}]
[1124,20,{"$f":"VLOOKUP(B1126,'Ark1'!C$2:D$11,2,FALSE)","v":1},1124,80,{"$f":"VLOOKUP(E1126,'Ark1'!$C$2:$D$11,2,FALSE)","v":5},1124,125,{"$f":"VLOOKUP(H1126,'Ark1'!$C$2:$D$12,2,FALSE)","v":5}]
[1125,20,{"$f":"VLOOKUP(B1127,'Ark1'!C$2:D$11,2,FALSE)","v":1},1125,80,{"$f":"VLOOKUP(E1127,'Ark1'!$C$2:$D$11,2,FALSE)","v":5},1125,125,{"$f":"VLOOKUP(H1127,'Ark1'!$C$2:$D$12,2,FALSE)","v":5}]
[1126,20,{"$f":"VLOOKUP(B1128,'Ark1'!C$2:D$11,2,FALSE)","v":1},1126,80,{"$f":"VLOOKUP(E1128,'Ark1'!$C$2:$D$11,2,FALSE)","v":5},1126,125,{"$f":"VLOOKUP(H1128,'Ark1'!$C$2:$D$12,2,FALSE)","v":5}]
[1127,20,{"$f":"VLOOKUP(B1129,'Ark1'!C$2:D$11,2,FALSE)","v":1},1127,80,{"$f":"VLOOKUP(E1129,'Ark1'!$C$2:$D$11,2,FALSE)","v":5},1127,125,{"$f":"VLOOKUP(H1129,'Ark1'!$C$2:$D$12,2,FALSE)","v":5}]
[1128,20,{"$f":"VLOOKUP(B1130,'Ark1'!C$2:D$11,2,FALSE)","v":1},1128,80,{"$f":"VLOOKUP(E1130,'Ark1'!$C$2:$D$11,2,FALSE)","v":5},1128,125,{"$f":"VLOOKUP(H1130,'Ark1'!$C$2:$D$12,2,FALSE)","v":5}]
[1129,20,{"$f":"VLOOKUP(B1131,'Ark1'!C$2:D$11,2,FALSE)","v":1},1129,80,{"$f":"VLOOKUP(E1131,'Ark1'!$C$2:$D$11,2,FALSE)","v":5},1129,125,{"$f":"VLOOKUP(H1131,'Ark1'!$C$2:$D$12,2,FALSE)","v":5}]
[1130,20,{"$f":"VLOOKUP(B1132,'Ark1'!C$2:D$11,2,FALSE)","v":1},1130,80,{"$f":"VLOOKUP(E1132,'Ark1'!$C$2:$D$11,2,FALSE)","v":5},1130,125,{"$f":"VLOOKUP(H1132,'Ark1'!$C$2:$D$12,2,FALSE)","v":5}]
[1131,20,{"$f":"VLOOKUP(B1133,'Ark1'!C$2:D$11,2,FALSE)","v":1},1131,80,{"$f":"VLOOKUP(E1133,'Ark1'!$C$2:$D$11,2,FALSE)","v":5},1131,125,{"$f":"VLOOKUP(H1133,'Ark1'!$C$2:$D$12,2,FALSE)","v":5}]
[1132,20,{"$f":"VLOOKUP(B1134,'Ark1'!C$2:D$11,2,FALSE)","v":1},1132,80,{"$f":"VLOOKUP(E1134,'Ark1'!$C$2:$D$11,2,FALSE)","v":5},1132,125,{"$f":"VLOOKUP(H1134,'Ark1'!$C$2:$D$12,2,FALSE)","v":5}]
[1133,20,{"$f":"VLOOKUP(B1135,'Ark1'!C$2:D$11,2,FALSE)","v":1},1133,80,{"$f":"VLOOKUP(E1135,'Ark1'!$C$2:$D$11,2,FALSE)","v":5},1133,125,{"$f":"VLOOKUP(H1135,'Ark1'!$C$2:$D$12,2,FALSE)","v":5}]
[1134,20,{"$f":"VLOOKUP(B1136,'Ark1'!C$2:D$11,2,FALSE)","v":1},1134,80,{"$f":"VLOOKUP(E1136,'Ark1'!$C$2:$D$11,2,FALSE)","v":5},1134,125,{"$f":"VLOOKUP(H1136,'Ark1'!$C$2:$D$12,2,FALSE)","v":5}]
[1135,20,{"$f":"VLOOKUP(B1137,'Ark1'!C$2:D$11,2,FALSE)","v":1},1135,80,{"$f":"VLOOKUP(E1137,'Ark1'!$C$2:$D$11,2,FALSE)","v":5},1135,125,{"$f":"VLOOKUP(H1137,'Ark1'!$C$2:$D$12,2,FALSE)","v":5}]
[1136,20,{"$f":"VLOOKUP(B1138,'Ark1'!C$2:D$11,2,FALSE)","v":1},1136,80,{"$f":"VLOOKUP(E1138,'Ark1'!$C$2:$D$11,2,FALSE)","v":5},1136,125,{"$f":"VLOOKUP(H1138,'Ark1'!$C$2:$D$12,2,FALSE)","v":5}]
[1137,20,{"$f":"VLOOKUP(B1139,'Ark1'!C$2:D$11,2,FALSE)","v":1},1137,80,{"$f":"VLOOKUP(E1139,'Ark1'!$C$2:$D$11,2,FALSE)","v":5},1137,125,{"$f":"VLOOKUP(H1139,'Ark1'!$C$2:$D$12,2,FALSE)","v":5}]
[1138,20,{"$f":"VLOOKUP(B1140,'Ark1'!C$2:D$11,2,FALSE)","v":1},1138,80,{"$f":"VLOOKUP(E1140,'Ark1'!$C$2:$D$11,2,FALSE)","v":5},1138,125,{"$f":"VLOOKUP(H1140,'Ark1'!$C$2:$D$12,2,FALSE)","v":5}]
[1139,20,{"$f":"VLOOKUP(B1141,'Ark1'!C$2:D$11,2,FALSE)","v":1},1139,80,{"$f":"VLOOKUP(E1141,'Ark1'!$C$2:$D$11,2,FALSE)","v":5},1139,125,{"$f":"VLOOKUP(H1141,'Ark1'!$C$2:$D$12,2,FALSE)","v":5}]
[1140,20,{"$f":"VLOOKUP(B1142,'Ark1'!C$2:D$11,2,FALSE)","v":1},1140,80,{"$f":"VLOOKUP(E1142,'Ark1'!$C$2:$D$11,2,FALSE)","v":5},1140,125,{"$f":"VLOOKUP(H1142,'Ark1'!$C$2:$D$12,2,FALSE)","v":5}]
[1141,20,{"$f":"VLOOKUP(B1143,'Ark1'!C$2:D$11,2,FALSE)","v":1},1141,80,{"$f":"VLOOKUP(E1143,'Ark1'!$C$2:$D$11,2,FALSE)","v":5},1141,125,{"$f":"VLOOKUP(H1143,'Ark1'!$C$2:$D$12,2,FALSE)","v":5}]
[1142,20,{"$f":"VLOOKUP(B1144,'Ark1'!C$2:D$11,2,FALSE)","v":1},1142,80,{"$f":"VLOOKUP(E1144,'Ark1'!$C$2:$D$11,2,FALSE)","v":5},1142,125,{"$f":"VLOOKUP(H1144,'Ark1'!$C$2:$D$12,2,FALSE)","v":5}]
[1143,20,{"$f":"VLOOKUP(B1145,'Ark1'!C$2:D$11,2,FALSE)","v":1},1143,80,{"$f":"VLOOKUP(E1145,'Ark1'!$C$2:$D$11,2,FALSE)","v":5},1143,125,{"$f":"VLOOKUP(H1145,'Ark1'!$C$2:$D$12,2,FALSE)","v":5}]
[1144,20,{"$f":"VLOOKUP(B1146,'Ark1'!C$2:D$11,2,FALSE)","v":1},1144,80,{"$f":"VLOOKUP(E1146,'Ark1'!$C$2:$D$11,2,FALSE)","v":5},1144,125,{"$f":"VLOOKUP(H1146,'Ark1'!$C$2:$D$12,2,FALSE)","v":5}]
[1145,20,{"$f":"VLOOKUP(B1147,'Ark1'!C$2:D$11,2,FALSE)","v":1},1145,80,{"$f":"VLOOKUP(E1147,'Ark1'!$C$2:$D$11,2,FALSE)","v":5},1145,125,{"$f":"VLOOKUP(H1147,'Ark1'!$C$2:$D$12,2,FALSE)","v":5}]
[1146,20,{"$f":"VLOOKUP(B1148,'Ark1'!C$2:D$11,2,FALSE)","v":1},1146,80,{"$f":"VLOOKUP(E1148,'Ark1'!$C$2:$D$11,2,FALSE)","v":5},1146,125,{"$f":"VLOOKUP(H1148,'Ark1'!$C$2:$D$12,2,FALSE)","v":5}]
[1147,20,{"$f":"VLOOKUP(B1149,'Ark1'!C$2:D$11,2,FALSE)","v":1},1147,80,{"$f":"VLOOKUP(E1149,'Ark1'!$C$2:$D$11,2,FALSE)","v":5},1147,125,{"$f":"VLOOKUP(H1149,'Ark1'!$C$2:$D$12,2,FALSE)","v":5}]
[1148,20,{"$f":"VLOOKUP(B1150,'Ark1'!C$2:D$11,2,FALSE)","v":1},1148,80,{"$f":"VLOOKUP(E1150,'Ark1'!$C$2:$D$11,2,FALSE)","v":5},1148,125,{"$f":"VLOOKUP(H1150,'Ark1'!$C$2:$D$12,2,FALSE)","v":5}]
[1149,20,{"$f":"VLOOKUP(B1151,'Ark1'!C$2:D$11,2,FALSE)","v":1},1149,80,{"$f":"VLOOKUP(E1151,'Ark1'!$C$2:$D$11,2,FALSE)","v":5},1149,125,{"$f":"VLOOKUP(H1151,'Ark1'!$C$2:$D$12,2,FALSE)","v":5}]
[1150,20,{"$f":"VLOOKUP(B1152,'Ark1'!C$2:D$11,2,FALSE)","v":1},1150,80,{"$f":"VLOOKUP(E1152,'Ark1'!$C$2:$D$11,2,FALSE)","v":5},1150,125,{"$f":"VLOOKUP(H1152,'Ark1'!$C$2:$D$12,2,FALSE)","v":5}]
[1151,20,{"$f":"VLOOKUP(B1153,'Ark1'!C$2:D$11,2,FALSE)","v":1},1151,80,{"$f":"VLOOKUP(E1153,'Ark1'!$C$2:$D$11,2,FALSE)","v":5},1151,125,{"$f":"VLOOKUP(H1153,'Ark1'!$C$2:$D$12,2,FALSE)","v":5}]
[1152,20,{"$f":"VLOOKUP(B1154,'Ark1'!C$2:D$11,2,FALSE)","v":1},1152,80,{"$f":"VLOOKUP(E1154,'Ark1'!$C$2:$D$11,2,FALSE)","v":5},1152,125,{"$f":"VLOOKUP(H1154,'Ark1'!$C$2:$D$12,2,FALSE)","v":5}]
[1153,20,{"$f":"VLOOKUP(B1155,'Ark1'!C$2:D$11,2,FALSE)","v":1},1153,80,{"$f":"VLOOKUP(E1155,'Ark1'!$C$2:$D$11,2,FALSE)","v":5},1153,125,{"$f":"VLOOKUP(H1155,'Ark1'!$C$2:$D$12,2,FALSE)","v":5}]
[1154,20,{"$f":"VLOOKUP(B1156,'Ark1'!C$2:D$11,2,FALSE)","v":1},1154,80,{"$f":"VLOOKUP(E1156,'Ark1'!$C$2:$D$11,2,FALSE)","v":5},1154,125,{"$f":"VLOOKUP(H1156,'Ark1'!$C$2:$D$12,2,FALSE)","v":5}]
[1155,20,{"$f":"VLOOKUP(B1157,'Ark1'!C$2:D$11,2,FALSE)","v":1},1155,80,{"$f":"VLOOKUP(E1157,'Ark1'!$C$2:$D$11,2,FALSE)","v":5},1155,125,{"$f":"VLOOKUP(H1157,'Ark1'!$C$2:$D$12,2,FALSE)","v":5}]
[1156,20,{"$f":"VLOOKUP(B1158,'Ark1'!C$2:D$11,2,FALSE)","v":1},1156,80,{"$f":"VLOOKUP(E1158,'Ark1'!$C$2:$D$11,2,FALSE)","v":5},1156,125,{"$f":"VLOOKUP(H1158,'Ark1'!$C$2:$D$12,2,FALSE)","v":5}]
[1157,20,{"$f":"VLOOKUP(B1159,'Ark1'!C$2:D$11,2,FALSE)","v":1},1157,80,{"$f":"VLOOKUP(E1159,'Ark1'!$C$2:$D$11,2,FALSE)","v":5},1157,125,{"$f":"VLOOKUP(H1159,'Ark1'!$C$2:$D$12,2,FALSE)","v":5}]
[1158,20,{"$f":"VLOOKUP(B1160,'Ark1'!C$2:D$11,2,FALSE)","v":1},1158,80,{"$f":"VLOOKUP(E1160,'Ark1'!$C$2:$D$11,2,FALSE)","v":5},1158,125,{"$f":"VLOOKUP(H1160,'Ark1'!$C$2:$D$12,2,FALSE)","v":5}]
[1159,20,{"$f":"VLOOKUP(B1161,'Ark1'!C$2:D$11,2,FALSE)","v":1},1159,80,{"$f":"VLOOKUP(E1161,'Ark1'!$C$2:$D$11,2,FALSE)","v":5},1159,125,{"$f":"VLOOKUP(H1161,'Ark1'!$C$2:$D$12,2,FALSE)","v":5}]
[1160,20,{"$f":"VLOOKUP(B1162,'Ark1'!C$2:D$11,2,FALSE)","v":1},1160,80,{"$f":"VLOOKUP(E1162,'Ark1'!$C$2:$D$11,2,FALSE)","v":5},1160,125,{"$f":"VLOOKUP(H1162,'Ark1'!$C$2:$D$12,2,FALSE)","v":5}]
[1161,20,{"$f":"VLOOKUP(B1163,'Ark1'!C$2:D$11,2,FALSE)","v":1},1161,80,{"$f":"VLOOKUP(E1163,'Ark1'!$C$2:$D$11,2,FALSE)","v":5},1161,125,{"$f":"VLOOKUP(H1163,'Ark1'!$C$2:$D$12,2,FALSE)","v":5}]
[1162,20,{"$f":"VLOOKUP(B1164,'Ark1'!C$2:D$11,2,FALSE)","v":1},1162,80,{"$f":"VLOOKUP(E1164,'Ark1'!$C$2:$D$11,2,FALSE)","v":5},1162,125,{"$f":"VLOOKUP(H1164,'Ark1'!$C$2:$D$12,2,FALSE)","v":5}]
[1163,20,{"$f":"VLOOKUP(B1165,'Ark1'!C$2:D$11,2,FALSE)","v":1},1163,80,{"$f":"VLOOKUP(E1165,'Ark1'!$C$2:$D$11,2,FALSE)","v":5},1163,125,{"$f":"VLOOKUP(H1165,'Ark1'!$C$2:$D$12,2,FALSE)","v":5}]
[1164,20,{"$f":"VLOOKUP(B1166,'Ark1'!C$2:D$11,2,FALSE)","v":1},1164,80,{"$f":"VLOOKUP(E1166,'Ark1'!$C$2:$D$11,2,FALSE)","v":5},1164,125,{"$f":"VLOOKUP(H1166,'Ark1'!$C$2:$D$12,2,FALSE)","v":5}]
[1165,20,{"$f":"VLOOKUP(B1167,'Ark1'!C$2:D$11,2,FALSE)","v":1},1165,80,{"$f":"VLOOKUP(E1167,'Ark1'!$C$2:$D$11,2,FALSE)","v":5},1165,125,{"$f":"VLOOKUP(H1167,'Ark1'!$C$2:$D$12,2,FALSE)","v":5}]
[1166,20,{"$f":"VLOOKUP(B1168,'Ark1'!C$2:D$11,2,FALSE)","v":1},1166,80,{"$f":"VLOOKUP(E1168,'Ark1'!$C$2:$D$11,2,FALSE)","v":5},1166,125,{"$f":"VLOOKUP(H1168,'Ark1'!$C$2:$D$12,2,FALSE)","v":5}]
[1167,20,{"$f":"VLOOKUP(B1169,'Ark1'!C$2:D$11,2,FALSE)","v":1},1167,80,{"$f":"VLOOKUP(E1169,'Ark1'!$C$2:$D$11,2,FALSE)","v":5},1167,125,{"$f":"VLOOKUP(H1169,'Ark1'!$C$2:$D$12,2,FALSE)","v":5}]
[1168,20,{"$f":"VLOOKUP(B1170,'Ark1'!C$2:D$11,2,FALSE)","v":1},1168,80,{"$f":"VLOOKUP(E1170,'Ark1'!$C$2:$D$11,2,FALSE)","v":5},1168,125,{"$f":"VLOOKUP(H1170,'Ark1'!$C$2:$D$12,2,FALSE)","v":5}]
[1169,20,{"$f":"VLOOKUP(B1171,'Ark1'!C$2:D$11,2,FALSE)","v":1},1169,80,{"$f":"VLOOKUP(E1171,'Ark1'!$C$2:$D$11,2,FALSE)","v":5},1169,125,{"$f":"VLOOKUP(H1171,'Ark1'!$C$2:$D$12,2,FALSE)","v":5}]
[1170,20,{"$f":"VLOOKUP(B1172,'Ark1'!C$2:D$11,2,FALSE)","v":1},1170,80,{"$f":"VLOOKUP(E1172,'Ark1'!$C$2:$D$11,2,FALSE)","v":5},1170,125,{"$f":"VLOOKUP(H1172,'Ark1'!$C$2:$D$12,2,FALSE)","v":5}]
[1171,20,{"$f":"VLOOKUP(B1173,'Ark1'!C$2:D$11,2,FALSE)","v":1},1171,80,{"$f":"VLOOKUP(E1173,'Ark1'!$C$2:$D$11,2,FALSE)","v":5},1171,125,{"$f":"VLOOKUP(H1173,'Ark1'!$C$2:$D$12,2,FALSE)","v":5}]
[1172,20,{"$f":"VLOOKUP(B1174,'Ark1'!C$2:D$11,2,FALSE)","v":1},1172,80,{"$f":"VLOOKUP(E1174,'Ark1'!$C$2:$D$11,2,FALSE)","v":5},1172,125,{"$f":"VLOOKUP(H1174,'Ark1'!$C$2:$D$12,2,FALSE)","v":5}]
[1173,20,{"$f":"VLOOKUP(B1175,'Ark1'!C$2:D$11,2,FALSE)","v":1},1173,80,{"$f":"VLOOKUP(E1175,'Ark1'!$C$2:$D$11,2,FALSE)","v":5},1173,125,{"$f":"VLOOKUP(H1175,'Ark1'!$C$2:$D$12,2,FALSE)","v":5}]
[1174,20,{"$f":"VLOOKUP(B1176,'Ark1'!C$2:D$11,2,FALSE)","v":1},1174,80,{"$f":"VLOOKUP(E1176,'Ark1'!$C$2:$D$11,2,FALSE)","v":5},1174,125,{"$f":"VLOOKUP(H1176,'Ark1'!$C$2:$D$12,2,FALSE)","v":5}]
[1175,20,{"$f":"VLOOKUP(B1177,'Ark1'!C$2:D$11,2,FALSE)","v":1},1175,80,{"$f":"VLOOKUP(E1177,'Ark1'!$C$2:$D$11,2,FALSE)","v":5},1175,125,{"$f":"VLOOKUP(H1177,'Ark1'!$C$2:$D$12,2,FALSE)","v":5}]
[1176,20,{"$f":"VLOOKUP(B1178,'Ark1'!C$2:D$11,2,FALSE)","v":1},1176,80,{"$f":"VLOOKUP(E1178,'Ark1'!$C$2:$D$11,2,FALSE)","v":5},1176,125,{"$f":"VLOOKUP(H1178,'Ark1'!$C$2:$D$12,2,FALSE)","v":5}]
[1177,20,{"$f":"VLOOKUP(B1179,'Ark1'!C$2:D$11,2,FALSE)","v":1},1177,80,{"$f":"VLOOKUP(E1179,'Ark1'!$C$2:$D$11,2,FALSE)","v":5},1177,125,{"$f":"VLOOKUP(H1179,'Ark1'!$C$2:$D$12,2,FALSE)","v":5}]
[1178,20,{"$f":"VLOOKUP(B1180,'Ark1'!C$2:D$11,2,FALSE)","v":1},1178,80,{"$f":"VLOOKUP(E1180,'Ark1'!$C$2:$D$11,2,FALSE)","v":5},1178,125,{"$f":"VLOOKUP(H1180,'Ark1'!$C$2:$D$12,2,FALSE)","v":5}]
[1179,20,{"$f":"VLOOKUP(B1181,'Ark1'!C$2:D$11,2,FALSE)","v":1},1179,80,{"$f":"VLOOKUP(E1181,'Ark1'!$C$2:$D$11,2,FALSE)","v":5},1179,125,{"$f":"VLOOKUP(H1181,'Ark1'!$C$2:$D$12,2,FALSE)","v":5}]
[1180,20,{"$f":"VLOOKUP(B1182,'Ark1'!C$2:D$11,2,FALSE)","v":1},1180,80,{"$f":"VLOOKUP(E1182,'Ark1'!$C$2:$D$11,2,FALSE)","v":5},1180,125,{"$f":"VLOOKUP(H1182,'Ark1'!$C$2:$D$12,2,FALSE)","v":5}]
[1181,20,{"$f":"VLOOKUP(B1183,'Ark1'!C$2:D$11,2,FALSE)","v":1},1181,80,{"$f":"VLOOKUP(E1183,'Ark1'!$C$2:$D$11,2,FALSE)","v":5},1181,125,{"$f":"VLOOKUP(H1183,'Ark1'!$C$2:$D$12,2,FALSE)","v":5}]
[1182,20,{"$f":"VLOOKUP(B1184,'Ark1'!C$2:D$11,2,FALSE)","v":1},1182,80,{"$f":"VLOOKUP(E1184,'Ark1'!$C$2:$D$11,2,FALSE)","v":5},1182,125,{"$f":"VLOOKUP(H1184,'Ark1'!$C$2:$D$12,2,FALSE)","v":5}]
[1183,20,{"$f":"VLOOKUP(B1185,'Ark1'!C$2:D$11,2,FALSE)","v":1},1183,80,{"$f":"VLOOKUP(E1185,'Ark1'!$C$2:$D$11,2,FALSE)","v":5},1183,125,{"$f":"VLOOKUP(H1185,'Ark1'!$C$2:$D$12,2,FALSE)","v":5}]
[1184,20,{"$f":"VLOOKUP(B1186,'Ark1'!C$2:D$11,2,FALSE)","v":1},1184,80,{"$f":"VLOOKUP(E1186,'Ark1'!$C$2:$D$11,2,FALSE)","v":5},1184,125,{"$f":"VLOOKUP(H1186,'Ark1'!$C$2:$D$12,2,FALSE)","v":5}]
[1185,20,{"$f":"VLOOKUP(B1187,'Ark1'!C$2:D$11,2,FALSE)","v":1},1185,80,{"$f":"VLOOKUP(E1187,'Ark1'!$C$2:$D$11,2,FALSE)","v":5},1185,125,{"$f":"VLOOKUP(H1187,'Ark1'!$C$2:$D$12,2,FALSE)","v":5}]
[1186,20,{"$f":"VLOOKUP(B1188,'Ark1'!C$2:D$11,2,FALSE)","v":1},1186,80,{"$f":"VLOOKUP(E1188,'Ark1'!$C$2:$D$11,2,FALSE)","v":5},1186,125,{"$f":"VLOOKUP(H1188,'Ark1'!$C$2:$D$12,2,FALSE)","v":5}]
[1187,20,{"$f":"VLOOKUP(B1189,'Ark1'!C$2:D$11,2,FALSE)","v":1},1187,80,{"$f":"VLOOKUP(E1189,'Ark1'!$C$2:$D$11,2,FALSE)","v":5},1187,125,{"$f":"VLOOKUP(H1189,'Ark1'!$C$2:$D$12,2,FALSE)","v":5}]
[1188,20,{"$f":"VLOOKUP(B1190,'Ark1'!C$2:D$11,2,FALSE)","v":1},1188,80,{"$f":"VLOOKUP(E1190,'Ark1'!$C$2:$D$11,2,FALSE)","v":5},1188,125,{"$f":"VLOOKUP(H1190,'Ark1'!$C$2:$D$12,2,FALSE)","v":5}]
[1189,20,{"$f":"VLOOKUP(B1191,'Ark1'!C$2:D$11,2,FALSE)","v":1},1189,80,{"$f":"VLOOKUP(E1191,'Ark1'!$C$2:$D$11,2,FALSE)","v":5},1189,125,{"$f":"VLOOKUP(H1191,'Ark1'!$C$2:$D$12,2,FALSE)","v":5}]
[1190,20,{"$f":"VLOOKUP(B1192,'Ark1'!C$2:D$11,2,FALSE)","v":1},1190,80,{"$f":"VLOOKUP(E1192,'Ark1'!$C$2:$D$11,2,FALSE)","v":5},1190,125,{"$f":"VLOOKUP(H1192,'Ark1'!$C$2:$D$12,2,FALSE)","v":5}]
[1191,20,{"$f":"VLOOKUP(B1193,'Ark1'!C$2:D$11,2,FALSE)","v":1},1191,80,{"$f":"VLOOKUP(E1193,'Ark1'!$C$2:$D$11,2,FALSE)","v":5},1191,125,{"$f":"VLOOKUP(H1193,'Ark1'!$C$2:$D$12,2,FALSE)","v":5}]
[1192,20,{"$f":"VLOOKUP(B1194,'Ark1'!C$2:D$11,2,FALSE)","v":1},1192,80,{"$f":"VLOOKUP(E1194,'Ark1'!$C$2:$D$11,2,FALSE)","v":5},1192,125,{"$f":"VLOOKUP(H1194,'Ark1'!$C$2:$D$12,2,FALSE)","v":5}]
[1193,20,{"$f":"VLOOKUP(B1195,'Ark1'!C$2:D$11,2,FALSE)","v":1},1193,80,{"$f":"VLOOKUP(E1195,'Ark1'!$C$2:$D$11,2,FALSE)","v":5},1193,125,{"$f":"VLOOKUP(H1195,'Ark1'!$C$2:$D$12,2,FALSE)","v":5}]
[1194,20,{"$f":"VLOOKUP(B1196,'Ark1'!C$2:D$11,2,FALSE)","v":1},1194,80,{"$f":"VLOOKUP(E1196,'Ark1'!$C$2:$D$11,2,FALSE)","v":5},1194,125,{"$f":"VLOOKUP(H1196,'Ark1'!$C$2:$D$12,2,FALSE)","v":5}]
[1195,20,{"$f":"VLOOKUP(B1197,'Ark1'!C$2:D$11,2,FALSE)","v":1},1195,80,{"$f":"VLOOKUP(E1197,'Ark1'!$C$2:$D$11,2,FALSE)","v":5},1195,125,{"$f":"VLOOKUP(H1197,'Ark1'!$C$2:$D$12,2,FALSE)","v":5}]
[1196,20,{"$f":"VLOOKUP(B1198,'Ark1'!C$2:D$11,2,FALSE)","v":1},1196,80,{"$f":"VLOOKUP(E1198,'Ark1'!$C$2:$D$11,2,FALSE)","v":5},1196,125,{"$f":"VLOOKUP(H1198,'Ark1'!$C$2:$D$12,2,FALSE)","v":5}]
[1197,20,{"$f":"VLOOKUP(B1199,'Ark1'!C$2:D$11,2,FALSE)","v":1},1197,80,{"$f":"VLOOKUP(E1199,'Ark1'!$C$2:$D$11,2,FALSE)","v":5},1197,125,{"$f":"VLOOKUP(H1199,'Ark1'!$C$2:$D$12,2,FALSE)","v":5}]
[1198,20,{"$f":"VLOOKUP(B1200,'Ark1'!C$2:D$11,2,FALSE)","v":1},1198,80,{"$f":"VLOOKUP(E1200,'Ark1'!$C$2:$D$11,2,FALSE)","v":5},1198,125,{"$f":"VLOOKUP(H1200,'Ark1'!$C$2:$D$12,2,FALSE)","v":5}]
[1199,20,{"$f":"VLOOKUP(B1201,'Ark1'!C$2:D$11,2,FALSE)","v":1},1199,80,{"$f":"VLOOKUP(E1201,'Ark1'!$C$2:$D$11,2,FALSE)","v":5},1199,125,{"$f":"VLOOKUP(H1201,'Ark1'!$C$2:$D$12,2,FALSE)","v":5}]
[1200,20,{"$f":"VLOOKUP(B1202,'Ark1'!C$2:D$11,2,FALSE)","v":1},1200,80,{"$f":"VLOOKUP(E1202,'Ark1'!$C$2:$D$11,2,FALSE)","v":5},1200,125,{"$f":"VLOOKUP(H1202,'Ark1'!$C$2:$D$12,2,FALSE)","v":5}]
[1201,32,{"$f":"VLOOKUP(B1203,'Ark1'!C$2:D$11,2,FALSE)","v":2},1201,125,{"$f":"VLOOKUP(E1203,'Ark1'!$C$2:$D$11,2,FALSE)","v":5},1201,200,{"$f":"VLOOKUP(H1203,'Ark1'!$C$2:$D$12,2,FALSE)","v":5}]
[1202,32,{"$f":"VLOOKUP(B1204,'Ark1'!C$2:D$11,2,FALSE)","v":2},1202,125,{"$f":"VLOOKUP(E1204,'Ark1'!$C$2:$D$11,2,FALSE)","v":5},1202,200,{"$f":"VLOOKUP(H1204,'Ark1'!$C$2:$D$12,2,FALSE)","v":5}]
[1203,32,{"$f":"VLOOKUP(B1205,'Ark1'!C$2:D$11,2,FALSE)","v":2},1203,125,{"$f":"VLOOKUP(E1205,'Ark1'!$C$2:$D$11,2,FALSE)","v":5},1203,200,{"$f":"VLOOKUP(H1205,'Ark1'!$C$2:$D$12,2,FALSE)","v":5}]
[1204,32,{"$f":"VLOOKUP(B1206,'Ark1'!C$2:D$11,2,FALSE)","v":2},1204,125,{"$f":"VLOOKUP(E1206,'Ark1'!$C$2:$D$11,2,FALSE)","v":5},1204,200,{"$f":"VLOOKUP(H1206,'Ark1'!$C$2:$D$12,2,FALSE)","v":5}]
[1205,32,{"$f":"VLOOKUP(B1207,'Ark1'!C$2:D$11,2,FALSE)","v":2},1205,125,{"$f":"VLOOKUP(E1207,'Ark1'!$C$2:$D$11,2,FALSE)","v":5},1205,200,{"$f":"VLOOKUP(H1207,'Ark1'!$C$2:$D$12,2,FALSE)","v":5}]
[1206,32,{"$f":"VLOOKUP(B1208,'Ark1'!C$2:D$11,2,FALSE)","v":2},1206,125,{"$f":"VLOOKUP(E1208,'Ark1'!$C$2:$D$11,2,FALSE)","v":5},1206,200,{"$f":"VLOOKUP(H1208,'Ark1'!$C$2:$D$12,2,FALSE)","v":5}]
[1207,32,{"$f":"VLOOKUP(B1209,'Ark1'!C$2:D$11,2,FALSE)","v":2},1207,125,{"$f":"VLOOKUP(E1209,'Ark1'!$C$2:$D$11,2,FALSE)","v":5},1207,200,{"$f":"VLOOKUP(H1209,'Ark1'!$C$2:$D$12,2,FALSE)","v":5}]
[1208,32,{"$f":"VLOOKUP(B1210,'Ark1'!C$2:D$11,2,FALSE)","v":2},1208,125,{"$f":"VLOOKUP(E1210,'Ark1'!$C$2:$D$11,2,FALSE)","v":5},1208,200,{"$f":"VLOOKUP(H1210,'Ark1'!$C$2:$D$12,2,FALSE)","v":5}]
[1209,32,{"$f":"VLOOKUP(B1211,'Ark1'!C$2:D$11,2,FALSE)","v":2},1209,125,{"$f":"VLOOKUP(E1211,'Ark1'!$C$2:$D$11,2,FALSE)","v":5},1209,200,{"$f":"VLOOKUP(H1211,'Ark1'!$C$2:$D$12,2,FALSE)","v":5}]
[1210,32,{"$f":"VLOOKUP(B1212,'Ark1'!C$2:D$11,2,FALSE)","v":2},1210,125,{"$f":"VLOOKUP(E1212,'Ark1'!$C$2:$D$11,2,FALSE)","v":5},1210,200,{"$f":"VLOOKUP(H1212,'Ark1'!$C$2:$D$12,2,FALSE)","v":5}]
[1211,32,{"$f":"VLOOKUP(B1213,'Ark1'!C$2:D$11,2,FALSE)","v":2},1211,125,{"$f":"VLOOKUP(E1213,'Ark1'!$C$2:$D$11,2,FALSE)","v":5},1211,200,{"$f":"VLOOKUP(H1213,'Ark1'!$C$2:$D$12,2,FALSE)","v":5}]
[1212,32,{"$f":"VLOOKUP(B1214,'Ark1'!C$2:D$11,2,FALSE)","v":2},1212,125,{"$f":"VLOOKUP(E1214,'Ark1'!$C$2:$D$11,2,FALSE)","v":5},1212,200,{"$f":"VLOOKUP(H1214,'Ark1'!$C$2:$D$12,2,FALSE)","v":5}]
[1213,32,{"$f":"VLOOKUP(B1215,'Ark1'!C$2:D$11,2,FALSE)","v":2},1213,125,{"$f":"VLOOKUP(E1215,'Ark1'!$C$2:$D$11,2,FALSE)","v":5},1213,200,{"$f":"VLOOKUP(H1215,'Ark1'!$C$2:$D$12,2,FALSE)","v":5}]
[1214,32,{"$f":"VLOOKUP(B1216,'Ark1'!C$2:D$11,2,FALSE)","v":2},1214,125,{"$f":"VLOOKUP(E1216,'Ark1'!$C$2:$D$11,2,FALSE)","v":5},1214,200,{"$f":"VLOOKUP(H1216,'Ark1'!$C$2:$D$12,2,FALSE)","v":5}]
[1215,32,{"$f":"VLOOKUP(B1217,'Ark1'!C$2:D$11,2,FALSE)","v":2},1215,125,{"$f":"VLOOKUP(E1217,'Ark1'!$C$2:$D$11,2,FALSE)","v":5},1215,200,{"$f":"VLOOKUP(H1217,'Ark1'!$C$2:$D$12,2,FALSE)","v":5}]
[1216,32,{"$f":"VLOOKUP(B1218,'Ark1'!C$2:D$11,2,FALSE)","v":2},1216,125,{"$f":"VLOOKUP(E1218,'Ark1'!$C$2:$D$11,2,FALSE)","v":5},1216,200,{"$f":"VLOOKUP(H1218,'Ark1'!$C$2:$D$12,2,FALSE)","v":5}]
[1217,32,{"$f":"VLOOKUP(B1219,'Ark1'!C$2:D$11,2,FALSE)","v":2},1217,125,{"$f":"VLOOKUP(E1219,'Ark1'!$C$2:$D$11,2,FALSE)","v":5},1217,200,{"$f":"VLOOKUP(H1219,'Ark1'!$C$2:$D$12,2,FALSE)","v":5}]
[1218,32,{"$f":"VLOOKUP(B1220,'Ark1'!C$2:D$11,2,FALSE)","v":2},1218,125,{"$f":"VLOOKUP(E1220,'Ark1'!$C$2:$D$11,2,FALSE)","v":5},1218,200,{"$f":"VLOOKUP(H1220,'Ark1'!$C$2:$D$12,2,FALSE)","v":5}]
[1219,32,{"$f":"VLOOKUP(B1221,'Ark1'!C$2:D$11,2,FALSE)","v":2},1219,125,{"$f":"VLOOKUP(E1221,'Ark1'!$C$2:$D$11,2,FALSE)","v":5},1219,200,{"$f":"VLOOKUP(H1221,'Ark1'!$C$2:$D$12,2,FALSE)","v":5}]
[1220,32,{"$f":"VLOOKUP(B1222,'Ark1'!C$2:D$11,2,FALSE)","v":2},1220,125,{"$f":"VLOOKUP(E1222,'Ark1'!$C$2:$D$11,2,FALSE)","v":5},1220,200,{"$f":"VLOOKUP(H1222,'Ark1'!$C$2:$D$12,2,FALSE)","v":5}]
[1221,32,{"$f":"VLOOKUP(B1223,'Ark1'!C$2:D$11,2,FALSE)","v":2},1221,125,{"$f":"VLOOKUP(E1223,'Ark1'!$C$2:$D$11,2,FALSE)","v":5},1221,200,{"$f":"VLOOKUP(H1223,'Ark1'!$C$2:$D$12,2,FALSE)","v":5}]
[1222,32,{"$f":"VLOOKUP(B1224,'Ark1'!C$2:D$11,2,FALSE)","v":2},1222,125,{"$f":"VLOOKUP(E1224,'Ark1'!$C$2:$D$11,2,FALSE)","v":5},1222,200,{"$f":"VLOOKUP(H1224,'Ark1'!$C$2:$D$12,2,FALSE)","v":5}]
[1223,32,{"$f":"VLOOKUP(B1225,'Ark1'!C$2:D$11,2,FALSE)","v":2},1223,125,{"$f":"VLOOKUP(E1225,'Ark1'!$C$2:$D$11,2,FALSE)","v":5},1223,200,{"$f":"VLOOKUP(H1225,'Ark1'!$C$2:$D$12,2,FALSE)","v":5}]
[1224,32,{"$f":"VLOOKUP(B1226,'Ark1'!C$2:D$11,2,FALSE)","v":2},1224,125,{"$f":"VLOOKUP(E1226,'Ark1'!$C$2:$D$11,2,FALSE)","v":5},1224,200,{"$f":"VLOOKUP(H1226,'Ark1'!$C$2:$D$12,2,FALSE)","v":5}]
[1225,32,{"$f":"VLOOKUP(B1227,'Ark1'!C$2:D$11,2,FALSE)","v":2},1225,125,{"$f":"VLOOKUP(E1227,'Ark1'!$C$2:$D$11,2,FALSE)","v":5},1225,200,{"$f":"VLOOKUP(H1227,'Ark1'!$C$2:$D$12,2,FALSE)","v":5}]
[1226,32,{"$f":"VLOOKUP(B1228,'Ark1'!C$2:D$11,2,FALSE)","v":2},1226,125,{"$f":"VLOOKUP(E1228,'Ark1'!$C$2:$D$11,2,FALSE)","v":5},1226,200,{"$f":"VLOOKUP(H1228,'Ark1'!$C$2:$D$12,2,FALSE)","v":5}]
[1227,32,{"$f":"VLOOKUP(B1229,'Ark1'!C$2:D$11,2,FALSE)","v":2},1227,125,{"$f":"VLOOKUP(E1229,'Ark1'!$C$2:$D$11,2,FALSE)","v":5},1227,200,{"$f":"VLOOKUP(H1229,'Ark1'!$C$2:$D$12,2,FALSE)","v":5}]
[1228,32,{"$f":"VLOOKUP(B1230,'Ark1'!C$2:D$11,2,FALSE)","v":2},1228,125,{"$f":"VLOOKUP(E1230,'Ark1'!$C$2:$D$11,2,FALSE)","v":5},1228,200,{"$f":"VLOOKUP(H1230,'Ark1'!$C$2:$D$12,2,FALSE)","v":5}]
[1229,32,{"$f":"VLOOKUP(B1231,'Ark1'!C$2:D$11,2,FALSE)","v":2},1229,125,{"$f":"VLOOKUP(E1231,'Ark1'!$C$2:$D$11,2,FALSE)","v":5},1229,200,{"$f":"VLOOKUP(H1231,'Ark1'!$C$2:$D$12,2,FALSE)","v":5}]
[1230,32,{"$f":"VLOOKUP(B1232,'Ark1'!C$2:D$11,2,FALSE)","v":2},1230,125,{"$f":"VLOOKUP(E1232,'Ark1'!$C$2:$D$11,2,FALSE)","v":5},1230,200,{"$f":"VLOOKUP(H1232,'Ark1'!$C$2:$D$12,2,FALSE)","v":5}]
[1231,32,{"$f":"VLOOKUP(B1233,'Ark1'!C$2:D$11,2,FALSE)","v":2},1231,125,{"$f":"VLOOKUP(E1233,'Ark1'!$C$2:$D$11,2,FALSE)","v":5},1231,200,{"$f":"VLOOKUP(H1233,'Ark1'!$C$2:$D$12,2,FALSE)","v":5}]
[1232,32,{"$f":"VLOOKUP(B1234,'Ark1'!C$2:D$11,2,FALSE)","v":2},1232,125,{"$f":"VLOOKUP(E1234,'Ark1'!$C$2:$D$11,2,FALSE)","v":5},1232,200,{"$f":"VLOOKUP(H1234,'Ark1'!$C$2:$D$12,2,FALSE)","v":5}]
[1233,32,{"$f":"VLOOKUP(B1235,'Ark1'!C$2:D$11,2,FALSE)","v":2},1233,125,{"$f":"VLOOKUP(E1235,'Ark1'!$C$2:$D$11,2,FALSE)","v":5},1233,200,{"$f":"VLOOKUP(H1235,'Ark1'!$C$2:$D$12,2,FALSE)","v":5}]
[1234,32,{"$f":"VLOOKUP(B1236,'Ark1'!C$2:D$11,2,FALSE)","v":2},1234,125,{"$f":"VLOOKUP(E1236,'Ark1'!$C$2:$D$11,2,FALSE)","v":5},1234,200,{"$f":"VLOOKUP(H1236,'Ark1'!$C$2:$D$12,2,FALSE)","v":5}]
[1235,32,{"$f":"VLOOKUP(B1237,'Ark1'!C$2:D$11,2,FALSE)","v":2},1235,125,{"$f":"VLOOKUP(E1237,'Ark1'!$C$2:$D$11,2,FALSE)","v":5},1235,200,{"$f":"VLOOKUP(H1237,'Ark1'!$C$2:$D$12,2,FALSE)","v":5}]
[1236,32,{"$f":"VLOOKUP(B1238,'Ark1'!C$2:D$11,2,FALSE)","v":2},1236,125,{"$f":"VLOOKUP(E1238,'Ark1'!$C$2:$D$11,2,FALSE)","v":5},1236,200,{"$f":"VLOOKUP(H1238,'Ark1'!$C$2:$D$12,2,FALSE)","v":5}]
[1237,32,{"$f":"VLOOKUP(B1239,'Ark1'!C$2:D$11,2,FALSE)","v":2},1237,125,{"$f":"VLOOKUP(E1239,'Ark1'!$C$2:$D$11,2,FALSE)","v":5},1237,200,{"$f":"VLOOKUP(H1239,'Ark1'!$C$2:$D$12,2,FALSE)","v":5}]
[1238,32,{"$f":"VLOOKUP(B1240,'Ark1'!C$2:D$11,2,FALSE)","v":2},1238,125,{"$f":"VLOOKUP(E1240,'Ark1'!$C$2:$D$11,2,FALSE)","v":5},1238,200,{"$f":"VLOOKUP(H1240,'Ark1'!$C$2:$D$12,2,FALSE)","v":5}]
[1239,32,{"$f":"VLOOKUP(B1241,'Ark1'!C$2:D$11,2,FALSE)","v":2},1239,125,{"$f":"VLOOKUP(E1241,'Ark1'!$C$2:$D$11,2,FALSE)","v":5},1239,200,{"$f":"VLOOKUP(H1241,'Ark1'!$C$2:$D$12,2,FALSE)","v":5}]
[1240,32,{"$f":"VLOOKUP(B1242,'Ark1'!C$2:D$11,2,FALSE)","v":2},1240,125,{"$f":"VLOOKUP(E1242,'Ark1'!$C$2:$D$11,2,FALSE)","v":5},1240,200,{"$f":"VLOOKUP(H1242,'Ark1'!$C$2:$D$12,2,FALSE)","v":5}]
[1241,32,{"$f":"VLOOKUP(B1243,'Ark1'!C$2:D$11,2,FALSE)","v":2},1241,125,{"$f":"VLOOKUP(E1243,'Ark1'!$C$2:$D$11,2,FALSE)","v":5},1241,200,{"$f":"VLOOKUP(H1243,'Ark1'!$C$2:$D$12,2,FALSE)","v":5}]
[1242,32,{"$f":"VLOOKUP(B1244,'Ark1'!C$2:D$11,2,FALSE)","v":2},1242,125,{"$f":"VLOOKUP(E1244,'Ark1'!$C$2:$D$11,2,FALSE)","v":5},1242,200,{"$f":"VLOOKUP(H1244,'Ark1'!$C$2:$D$12,2,FALSE)","v":5}]
[1243,32,{"$f":"VLOOKUP(B1245,'Ark1'!C$2:D$11,2,FALSE)","v":2},1243,125,{"$f":"VLOOKUP(E1245,'Ark1'!$C$2:$D$11,2,FALSE)","v":5},1243,200,{"$f":"VLOOKUP(H1245,'Ark1'!$C$2:$D$12,2,FALSE)","v":5}]
[1244,32,{"$f":"VLOOKUP(B1246,'Ark1'!C$2:D$11,2,FALSE)","v":2},1244,125,{"$f":"VLOOKUP(E1246,'Ark1'!$C$2:$D$11,2,FALSE)","v":5},1244,200,{"$f":"VLOOKUP(H1246,'Ark1'!$C$2:$D$12,2,FALSE)","v":5}]
[1245,32,{"$f":"VLOOKUP(B1247,'Ark1'!C$2:D$11,2,FALSE)","v":2},1245,125,{"$f":"VLOOKUP(E1247,'Ark1'!$C$2:$D$11,2,FALSE)","v":5},1245,200,{"$f":"VLOOKUP(H1247,'Ark1'!$C$2:$D$12,2,FALSE)","v":5}]
[1246,32,{"$f":"VLOOKUP(B1248,'Ark1'!C$2:D$11,2,FALSE)","v":2},1246,125,{"$f":"VLOOKUP(E1248,'Ark1'!$C$2:$D$11,2,FALSE)","v":5},1246,200,{"$f":"VLOOKUP(H1248,'Ark1'!$C$2:$D$12,2,FALSE)","v":5}]
[1247,32,{"$f":"VLOOKUP(B1249,'Ark1'!C$2:D$11,2,FALSE)","v":2},1247,125,{"$f":"VLOOKUP(E1249,'Ark1'!$C$2:$D$11,2,FALSE)","v":5},1247,200,{"$f":"VLOOKUP(H1249,'Ark1'!$C$2:$D$12,2,FALSE)","v":5}]
[1248,32,{"$f":"VLOOKUP(B1250,'Ark1'!C$2:D$11,2,FALSE)","v":2},1248,125,{"$f":"VLOOKUP(E1250,'Ark1'!$C$2:$D$11,2,FALSE)","v":5},1248,200,{"$f":"VLOOKUP(H1250,'Ark1'!$C$2:$D$12,2,FALSE)","v":5}]
[1249,32,{"$f":"VLOOKUP(B1251,'Ark1'!C$2:D$11,2,FALSE)","v":2},1249,125,{"$f":"VLOOKUP(E1251,'Ark1'!$C$2:$D$11,2,FALSE)","v":5},1249,200,{"$f":"VLOOKUP(H1251,'Ark1'!$C$2:$D$12,2,FALSE)","v":5}]
[1250,32,{"$f":"VLOOKUP(B1252,'Ark1'!C$2:D$11,2,FALSE)","v":2},1250,125,{"$f":"VLOOKUP(E1252,'Ark1'!$C$2:$D$11,2,FALSE)","v":5},1250,200,{"$f":"VLOOKUP(H1252,'Ark1'!$C$2:$D$12,2,FALSE)","v":5}]
[1251,32,{"$f":"VLOOKUP(B1253,'Ark1'!C$2:D$11,2,FALSE)","v":2},1251,125,{"$f":"VLOOKUP(E1253,'Ark1'!$C$2:$D$11,2,FALSE)","v":5},1251,200,{"$f":"VLOOKUP(H1253,'Ark1'!$C$2:$D$12,2,FALSE)","v":5}]
[1252,32,{"$f":"VLOOKUP(B1254,'Ark1'!C$2:D$11,2,FALSE)","v":2},1252,125,{"$f":"VLOOKUP(E1254,'Ark1'!$C$2:$D$11,2,FALSE)","v":5},1252,200,{"$f":"VLOOKUP(H1254,'Ark1'!$C$2:$D$12,2,FALSE)","v":5}]
[1253,32,{"$f":"VLOOKUP(B1255,'Ark1'!C$2:D$11,2,FALSE)","v":2},1253,125,{"$f":"VLOOKUP(E1255,'Ark1'!$C$2:$D$11,2,FALSE)","v":5},1253,200,{"$f":"VLOOKUP(H1255,'Ark1'!$C$2:$D$12,2,FALSE)","v":5}]
[1254,32,{"$f":"VLOOKUP(B1256,'Ark1'!C$2:D$11,2,FALSE)","v":2},1254,125,{"$f":"VLOOKUP(E1256,'Ark1'!$C$2:$D$11,2,FALSE)","v":5},1254,200,{"$f":"VLOOKUP(H1256,'Ark1'!$C$2:$D$12,2,FALSE)","v":5}]
[1255,32,{"$f":"VLOOKUP(B1257,'Ark1'!C$2:D$11,2,FALSE)","v":2},1255,125,{"$f":"VLOOKUP(E1257,'Ark1'!$C$2:$D$11,2,FALSE)","v":5},1255,200,{"$f":"VLOOKUP(H1257,'Ark1'!$C$2:$D$12,2,FALSE)","v":5}]
[1256,32,{"$f":"VLOOKUP(B1258,'Ark1'!C$2:D$11,2,FALSE)","v":2},1256,125,{"$f":"VLOOKUP(E1258,'Ark1'!$C$2:$D$11,2,FALSE)","v":5},1256,200,{"$f":"VLOOKUP(H1258,'Ark1'!$C$2:$D$12,2,FALSE)","v":5}]
[1257,32,{"$f":"VLOOKUP(B1259,'Ark1'!C$2:D$11,2,FALSE)","v":2},1257,125,{"$f":"VLOOKUP(E1259,'Ark1'!$C$2:$D$11,2,FALSE)","v":5},1257,200,{"$f":"VLOOKUP(H1259,'Ark1'!$C$2:$D$12,2,FALSE)","v":5}]
[1258,32,{"$f":"VLOOKUP(B1260,'Ark1'!C$2:D$11,2,FALSE)","v":2},1258,125,{"$f":"VLOOKUP(E1260,'Ark1'!$C$2:$D$11,2,FALSE)","v":5},1258,200,{"$f":"VLOOKUP(H1260,'Ark1'!$C$2:$D$12,2,FALSE)","v":5}]
[1259,32,{"$f":"VLOOKUP(B1261,'Ark1'!C$2:D$11,2,FALSE)","v":2},1259,125,{"$f":"VLOOKUP(E1261,'Ark1'!$C$2:$D$11,2,FALSE)","v":5},1259,200,{"$f":"VLOOKUP(H1261,'Ark1'!$C$2:$D$12,2,FALSE)","v":5}]
[1260,32,{"$f":"VLOOKUP(B1262,'Ark1'!C$2:D$11,2,FALSE)","v":2},1260,125,{"$f":"VLOOKUP(E1262,'Ark1'!$C$2:$D$11,2,FALSE)","v":5},1260,200,{"$f":"VLOOKUP(H1262,'Ark1'!$C$2:$D$12,2,FALSE)","v":5}]
[1261,32,{"$f":"VLOOKUP(B1263,'Ark1'!C$2:D$11,2,FALSE)","v":2},1261,125,{"$f":"VLOOKUP(E1263,'Ark1'!$C$2:$D$11,2,FALSE)","v":5},1261,200,{"$f":"VLOOKUP(H1263,'Ark1'!$C$2:$D$12,2,FALSE)","v":5}]
[1262,32,{"$f":"VLOOKUP(B1264,'Ark1'!C$2:D$11,2,FALSE)","v":2},1262,125,{"$f":"VLOOKUP(E1264,'Ark1'!$C$2:$D$11,2,FALSE)","v":5},1262,200,{"$f":"VLOOKUP(H1264,'Ark1'!$C$2:$D$12,2,FALSE)","v":5}]
[1263,32,{"$f":"VLOOKUP(B1265,'Ark1'!C$2:D$11,2,FALSE)","v":2},1263,125,{"$f":"VLOOKUP(E1265,'Ark1'!$C$2:$D$11,2,FALSE)","v":5},1263,200,{"$f":"VLOOKUP(H1265,'Ark1'!$C$2:$D$12,2,FALSE)","v":5}]
[1264,32,{"$f":"VLOOKUP(B1266,'Ark1'!C$2:D$11,2,FALSE)","v":2},1264,125,{"$f":"VLOOKUP(E1266,'Ark1'!$C$2:$D$11,2,FALSE)","v":5},1264,200,{"$f":"VLOOKUP(H1266,'Ark1'!$C$2:$D$12,2,FALSE)","v":5}]
[1265,32,{"$f":"VLOOKUP(B1267,'Ark1'!C$2:D$11,2,FALSE)","v":2},1265,125,{"$f":"VLOOKUP(E1267,'Ark1'!$C$2:$D$11,2,FALSE)","v":5},1265,200,{"$f":"VLOOKUP(H1267,'Ark1'!$C$2:$D$12,2,FALSE)","v":5}]
[1266,32,{"$f":"VLOOKUP(B1268,'Ark1'!C$2:D$11,2,FALSE)","v":2},1266,125,{"$f":"VLOOKUP(E1268,'Ark1'!$C$2:$D$11,2,FALSE)","v":5},1266,200,{"$f":"VLOOKUP(H1268,'Ark1'!$C$2:$D$12,2,FALSE)","v":5}]
[1267,32,{"$f":"VLOOKUP(B1269,'Ark1'!C$2:D$11,2,FALSE)","v":2},1267,125,{"$f":"VLOOKUP(E1269,'Ark1'!$C$2:$D$11,2,FALSE)","v":5},1267,200,{"$f":"VLOOKUP(H1269,'Ark1'!$C$2:$D$12,2,FALSE)","v":5}]
[1268,32,{"$f":"VLOOKUP(B1270,'Ark1'!C$2:D$11,2,FALSE)","v":2},1268,125,{"$f":"VLOOKUP(E1270,'Ark1'!$C$2:$D$11,2,FALSE)","v":5},1268,200,{"$f":"VLOOKUP(H1270,'Ark1'!$C$2:$D$12,2,FALSE)","v":5}]
[1269,32,{"$f":"VLOOKUP(B1271,'Ark1'!C$2:D$11,2,FALSE)","v":2},1269,125,{"$f":"VLOOKUP(E1271,'Ark1'!$C$2:$D$11,2,FALSE)","v":5},1269,200,{"$f":"VLOOKUP(H1271,'Ark1'!$C$2:$D$12,2,FALSE)","v":5}]
[1270,32,{"$f":"VLOOKUP(B1272,'Ark1'!C$2:D$11,2,FALSE)","v":2},1270,125,{"$f":"VLOOKUP(E1272,'Ark1'!$C$2:$D$11,2,FALSE)","v":5},1270,200,{"$f":"VLOOKUP(H1272,'Ark1'!$C$2:$D$12,2,FALSE)","v":5}]
[1271,32,{"$f":"VLOOKUP(B1273,'Ark1'!C$2:D$11,2,FALSE)","v":2},1271,125,{"$f":"VLOOKUP(E1273,'Ark1'!$C$2:$D$11,2,FALSE)","v":5},1271,200,{"$f":"VLOOKUP(H1273,'Ark1'!$C$2:$D$12,2,FALSE)","v":5}]
[1272,32,{"$f":"VLOOKUP(B1274,'Ark1'!C$2:D$11,2,FALSE)","v":2},1272,125,{"$f":"VLOOKUP(E1274,'Ark1'!$C$2:$D$11,2,FALSE)","v":5},1272,200,{"$f":"VLOOKUP(H1274,'Ark1'!$C$2:$D$12,2,FALSE)","v":5}]
[1273,32,{"$f":"VLOOKUP(B1275,'Ark1'!C$2:D$11,2,FALSE)","v":2},1273,125,{"$f":"VLOOKUP(E1275,'Ark1'!$C$2:$D$11,2,FALSE)","v":5},1273,200,{"$f":"VLOOKUP(H1275,'Ark1'!$C$2:$D$12,2,FALSE)","v":5}]
[1274,32,{"$f":"VLOOKUP(B1276,'Ark1'!C$2:D$11,2,FALSE)","v":2},1274,125,{"$f":"VLOOKUP(E1276,'Ark1'!$C$2:$D$11,2,FALSE)","v":5},1274,200,{"$f":"VLOOKUP(H1276,'Ark1'!$C$2:$D$12,2,FALSE)","v":5}]
[1275,32,{"$f":"VLOOKUP(B1277,'Ark1'!C$2:D$11,2,FALSE)","v":2},1275,125,{"$f":"VLOOKUP(E1277,'Ark1'!$C$2:$D$11,2,FALSE)","v":5},1275,200,{"$f":"VLOOKUP(H1277,'Ark1'!$C$2:$D$12,2,FALSE)","v":5}]
[1276,32,{"$f":"VLOOKUP(B1278,'Ark1'!C$2:D$11,2,FALSE)","v":2},1276,125,{"$f":"VLOOKUP(E1278,'Ark1'!$C$2:$D$11,2,FALSE)","v":5},1276,200,{"$f":"VLOOKUP(H1278,'Ark1'!$C$2:$D$12,2,FALSE)","v":5}]
[1277,32,{"$f":"VLOOKUP(B1279,'Ark1'!C$2:D$11,2,FALSE)","v":2},1277,125,{"$f":"VLOOKUP(E1279,'Ark1'!$C$2:$D$11,2,FALSE)","v":5},1277,200,{"$f":"VLOOKUP(H1279,'Ark1'!$C$2:$D$12,2,FALSE)","v":5}]
[1278,32,{"$f":"VLOOKUP(B1280,'Ark1'!C$2:D$11,2,FALSE)","v":2},1278,125,{"$f":"VLOOKUP(E1280,'Ark1'!$C$2:$D$11,2,FALSE)","v":5},1278,200,{"$f":"VLOOKUP(H1280,'Ark1'!$C$2:$D$12,2,FALSE)","v":5}]
[1279,32,{"$f":"VLOOKUP(B1281,'Ark1'!C$2:D$11,2,FALSE)","v":2},1279,125,{"$f":"VLOOKUP(E1281,'Ark1'!$C$2:$D$11,2,FALSE)","v":5},1279,200,{"$f":"VLOOKUP(H1281,'Ark1'!$C$2:$D$12,2,FALSE)","v":5}]
[1280,32,{"$f":"VLOOKUP(B1282,'Ark1'!C$2:D$11,2,FALSE)","v":2},1280,125,{"$f":"VLOOKUP(E1282,'Ark1'!$C$2:$D$11,2,FALSE)","v":5},1280,200,{"$f":"VLOOKUP(H1282,'Ark1'!$C$2:$D$12,2,FALSE)","v":5}]
[1281,32,{"$f":"VLOOKUP(B1283,'Ark1'!C$2:D$11,2,FALSE)","v":2},1281,125,{"$f":"VLOOKUP(E1283,'Ark1'!$C$2:$D$11,2,FALSE)","v":5},1281,200,{"$f":"VLOOKUP(H1283,'Ark1'!$C$2:$D$12,2,FALSE)","v":5}]
[1282,32,{"$f":"VLOOKUP(B1284,'Ark1'!C$2:D$11,2,FALSE)","v":2},1282,125,{"$f":"VLOOKUP(E1284,'Ark1'!$C$2:$D$11,2,FALSE)","v":5},1282,200,{"$f":"VLOOKUP(H1284,'Ark1'!$C$2:$D$12,2,FALSE)","v":5}]
[1283,32,{"$f":"VLOOKUP(B1285,'Ark1'!C$2:D$11,2,FALSE)","v":2},1283,125,{"$f":"VLOOKUP(E1285,'Ark1'!$C$2:$D$11,2,FALSE)","v":5},1283,200,{"$f":"VLOOKUP(H1285,'Ark1'!$C$2:$D$12,2,FALSE)","v":5}]
[1284,32,{"$f":"VLOOKUP(B1286,'Ark1'!C$2:D$11,2,FALSE)","v":2},1284,125,{"$f":"VLOOKUP(E1286,'Ark1'!$C$2:$D$11,2,FALSE)","v":5},1284,200,{"$f":"VLOOKUP(H1286,'Ark1'!$C$2:$D$12,2,FALSE)","v":5}]
[1285,32,{"$f":"VLOOKUP(B1287,'Ark1'!C$2:D$11,2,FALSE)","v":2},1285,125,{"$f":"VLOOKUP(E1287,'Ark1'!$C$2:$D$11,2,FALSE)","v":5},1285,200,{"$f":"VLOOKUP(H1287,'Ark1'!$C$2:$D$12,2,FALSE)","v":5}]
[1286,32,{"$f":"VLOOKUP(B1288,'Ark1'!C$2:D$11,2,FALSE)","v":2},1286,125,{"$f":"VLOOKUP(E1288,'Ark1'!$C$2:$D$11,2,FALSE)","v":5},1286,200,{"$f":"VLOOKUP(H1288,'Ark1'!$C$2:$D$12,2,FALSE)","v":5}]
[1287,32,{"$f":"VLOOKUP(B1289,'Ark1'!C$2:D$11,2,FALSE)","v":2},1287,125,{"$f":"VLOOKUP(E1289,'Ark1'!$C$2:$D$11,2,FALSE)","v":5},1287,200,{"$f":"VLOOKUP(H1289,'Ark1'!$C$2:$D$12,2,FALSE)","v":5}]
[1288,32,{"$f":"VLOOKUP(B1290,'Ark1'!C$2:D$11,2,FALSE)","v":2},1288,125,{"$f":"VLOOKUP(E1290,'Ark1'!$C$2:$D$11,2,FALSE)","v":5},1288,200,{"$f":"VLOOKUP(H1290,'Ark1'!$C$2:$D$12,2,FALSE)","v":5}]
[1289,32,{"$f":"VLOOKUP(B1291,'Ark1'!C$2:D$11,2,FALSE)","v":2},1289,125,{"$f":"VLOOKUP(E1291,'Ark1'!$C$2:$D$11,2,FALSE)","v":5},1289,200,{"$f":"VLOOKUP(H1291,'Ark1'!$C$2:$D$12,2,FALSE)","v":5}]
[1290,32,{"$f":"VLOOKUP(B1292,'Ark1'!C$2:D$11,2,FALSE)","v":2},1290,125,{"$f":"VLOOKUP(E1292,'Ark1'!$C$2:$D$11,2,FALSE)","v":5},1290,200,{"$f":"VLOOKUP(H1292,'Ark1'!$C$2:$D$12,2,FALSE)","v":5}]
[1291,32,{"$f":"VLOOKUP(B1293,'Ark1'!C$2:D$11,2,FALSE)","v":2},1291,125,{"$f":"VLOOKUP(E1293,'Ark1'!$C$2:$D$11,2,FALSE)","v":5},1291,200,{"$f":"VLOOKUP(H1293,'Ark1'!$C$2:$D$12,2,FALSE)","v":5}]
[1292,32,{"$f":"VLOOKUP(B1294,'Ark1'!C$2:D$11,2,FALSE)","v":2},1292,125,{"$f":"VLOOKUP(E1294,'Ark1'!$C$2:$D$11,2,FALSE)","v":5},1292,200,{"$f":"VLOOKUP(H1294,'Ark1'!$C$2:$D$12,2,FALSE)","v":5}]
[1293,32,{"$f":"VLOOKUP(B1295,'Ark1'!C$2:D$11,2,FALSE)","v":2},1293,125,{"$f":"VLOOKUP(E1295,'Ark1'!$C$2:$D$11,2,FALSE)","v":5},1293,200,{"$f":"VLOOKUP(H1295,'Ark1'!$C$2:$D$12,2,FALSE)","v":5}]
[1294,32,{"$f":"VLOOKUP(B1296,'Ark1'!C$2:D$11,2,FALSE)","v":2},1294,125,{"$f":"VLOOKUP(E1296,'Ark1'!$C$2:$D$11,2,FALSE)","v":5},1294,200,{"$f":"VLOOKUP(H1296,'Ark1'!$C$2:$D$12,2,FALSE)","v":5}]
[1295,32,{"$f":"VLOOKUP(B1297,'Ark1'!C$2:D$11,2,FALSE)","v":2},1295,125,{"$f":"VLOOKUP(E1297,'Ark1'!$C$2:$D$11,2,FALSE)","v":5},1295,200,{"$f":"VLOOKUP(H1297,'Ark1'!$C$2:$D$12,2,FALSE)","v":5}]
[1296,32,{"$f":"VLOOKUP(B1298,'Ark1'!C$2:D$11,2,FALSE)","v":2},1296,125,{"$f":"VLOOKUP(E1298,'Ark1'!$C$2:$D$11,2,FALSE)","v":5},1296,200,{"$f":"VLOOKUP(H1298,'Ark1'!$C$2:$D$12,2,FALSE)","v":5}]
[1297,32,{"$f":"VLOOKUP(B1299,'Ark1'!C$2:D$11,2,FALSE)","v":2},1297,125,{"$f":"VLOOKUP(E1299,'Ark1'!$C$2:$D$11,2,FALSE)","v":5},1297,200,{"$f":"VLOOKUP(H1299,'Ark1'!$C$2:$D$12,2,FALSE)","v":5}]
[1298,32,{"$f":"VLOOKUP(B1300,'Ark1'!C$2:D$11,2,FALSE)","v":2},1298,125,{"$f":"VLOOKUP(E1300,'Ark1'!$C$2:$D$11,2,FALSE)","v":5},1298,200,{"$f":"VLOOKUP(H1300,'Ark1'!$C$2:$D$12,2,FALSE)","v":5}]
[1299,32,{"$f":"VLOOKUP(B1301,'Ark1'!C$2:D$11,2,FALSE)","v":2},1299,125,{"$f":"VLOOKUP(E1301,'Ark1'!$C$2:$D$11,2,FALSE)","v":5},1299,200,{"$f":"VLOOKUP(H1301,'Ark1'!$C$2:$D$12,2,FALSE)","v":5}]
[1300,32,{"$f":"VLOOKUP(B1302,'Ark1'!C$2:D$11,2,FALSE)","v":2},1300,125,{"$f":"VLOOKUP(E1302,'Ark1'!$C$2:$D$11,2,FALSE)","v":5},1300,200,{"$f":"VLOOKUP(H1302,'Ark1'!$C$2:$D$12,2,FALSE)","v":5}]
[1301,32,{"$f":"VLOOKUP(B1303,'Ark1'!C$2:D$11,2,FALSE)","v":2},1301,125,{"$f":"VLOOKUP(E1303,'Ark1'!$C$2:$D$11,2,FALSE)","v":5},1301,200,{"$f":"VLOOKUP(H1303,'Ark1'!$C$2:$D$12,2,FALSE)","v":5}]
[1302,32,{"$f":"VLOOKUP(B1304,'Ark1'!C$2:D$11,2,FALSE)","v":2},1302,125,{"$f":"VLOOKUP(E1304,'Ark1'!$C$2:$D$11,2,FALSE)","v":5},1302,200,{"$f":"VLOOKUP(H1304,'Ark1'!$C$2:$D$12,2,FALSE)","v":5}]
[1303,32,{"$f":"VLOOKUP(B1305,'Ark1'!C$2:D$11,2,FALSE)","v":2},1303,125,{"$f":"VLOOKUP(E1305,'Ark1'!$C$2:$D$11,2,FALSE)","v":5},1303,200,{"$f":"VLOOKUP(H1305,'Ark1'!$C$2:$D$12,2,FALSE)","v":5}]
[1304,32,{"$f":"VLOOKUP(B1306,'Ark1'!C$2:D$11,2,FALSE)","v":2},1304,125,{"$f":"VLOOKUP(E1306,'Ark1'!$C$2:$D$11,2,FALSE)","v":5},1304,200,{"$f":"VLOOKUP(H1306,'Ark1'!$C$2:$D$12,2,FALSE)","v":5}]
[1305,32,{"$f":"VLOOKUP(B1307,'Ark1'!C$2:D$11,2,FALSE)","v":2},1305,125,{"$f":"VLOOKUP(E1307,'Ark1'!$C$2:$D$11,2,FALSE)","v":5},1305,200,{"$f":"VLOOKUP(H1307,'Ark1'!$C$2:$D$12,2,FALSE)","v":5}]
[1306,32,{"$f":"VLOOKUP(B1308,'Ark1'!C$2:D$11,2,FALSE)","v":2},1306,125,{"$f":"VLOOKUP(E1308,'Ark1'!$C$2:$D$11,2,FALSE)","v":5},1306,200,{"$f":"VLOOKUP(H1308,'Ark1'!$C$2:$D$12,2,FALSE)","v":5}]
[1307,32,{"$f":"VLOOKUP(B1309,'Ark1'!C$2:D$11,2,FALSE)","v":2},1307,125,{"$f":"VLOOKUP(E1309,'Ark1'!$C$2:$D$11,2,FALSE)","v":5},1307,200,{"$f":"VLOOKUP(H1309,'Ark1'!$C$2:$D$12,2,FALSE)","v":5}]
[1308,32,{"$f":"VLOOKUP(B1310,'Ark1'!C$2:D$11,2,FALSE)","v":2},1308,125,{"$f":"VLOOKUP(E1310,'Ark1'!$C$2:$D$11,2,FALSE)","v":5},1308,200,{"$f":"VLOOKUP(H1310,'Ark1'!$C$2:$D$12,2,FALSE)","v":5}]
[1309,32,{"$f":"VLOOKUP(B1311,'Ark1'!C$2:D$11,2,FALSE)","v":2},1309,125,{"$f":"VLOOKUP(E1311,'Ark1'!$C$2:$D$11,2,FALSE)","v":5},1309,200,{"$f":"VLOOKUP(H1311,'Ark1'!$C$2:$D$12,2,FALSE)","v":5}]
[1310,32,{"$f":"VLOOKUP(B1312,'Ark1'!C$2:D$11,2,FALSE)","v":2},1310,125,{"$f":"VLOOKUP(E1312,'Ark1'!$C$2:$D$11,2,FALSE)","v":5},1310,200,{"$f":"VLOOKUP(H1312,'Ark1'!$C$2:$D$12,2,FALSE)","v":5}]
[1311,32,{"$f":"VLOOKUP(B1313,'Ark1'!C$2:D$11,2,FALSE)","v":2},1311,125,{"$f":"VLOOKUP(E1313,'Ark1'!$C$2:$D$11,2,FALSE)","v":5},1311,200,{"$f":"VLOOKUP(H1313,'Ark1'!$C$2:$D$12,2,FALSE)","v":5}]
[1312,32,{"$f":"VLOOKUP(B1314,'Ark1'!C$2:D$11,2,FALSE)","v":2},1312,125,{"$f":"VLOOKUP(E1314,'Ark1'!$C$2:$D$11,2,FALSE)","v":5},1312,200,{"$f":"VLOOKUP(H1314,'Ark1'!$C$2:$D$12,2,FALSE)","v":5}]
[1313,32,{"$f":"VLOOKUP(B1315,'Ark1'!C$2:D$11,2,FALSE)","v":2},1313,125,{"$f":"VLOOKUP(E1315,'Ark1'!$C$2:$D$11,2,FALSE)","v":5},1313,200,{"$f":"VLOOKUP(H1315,'Ark1'!$C$2:$D$12,2,FALSE)","v":5}]
[1314,32,{"$f":"VLOOKUP(B1316,'Ark1'!C$2:D$11,2,FALSE)","v":2},1314,125,{"$f":"VLOOKUP(E1316,'Ark1'!$C$2:$D$11,2,FALSE)","v":5},1314,200,{"$f":"VLOOKUP(H1316,'Ark1'!$C$2:$D$12,2,FALSE)","v":5}]
[1315,32,{"$f":"VLOOKUP(B1317,'Ark1'!C$2:D$11,2,FALSE)","v":2},1315,125,{"$f":"VLOOKUP(E1317,'Ark1'!$C$2:$D$11,2,FALSE)","v":5},1315,200,{"$f":"VLOOKUP(H1317,'Ark1'!$C$2:$D$12,2,FALSE)","v":5}]
[1316,32,{"$f":"VLOOKUP(B1318,'Ark1'!C$2:D$11,2,FALSE)","v":2},1316,125,{"$f":"VLOOKUP(E1318,'Ark1'!$C$2:$D$11,2,FALSE)","v":5},1316,200,{"$f":"VLOOKUP(H1318,'Ark1'!$C$2:$D$12,2,FALSE)","v":5}]
[1317,32,{"$f":"VLOOKUP(B1319,'Ark1'!C$2:D$11,2,FALSE)","v":2},1317,125,{"$f":"VLOOKUP(E1319,'Ark1'!$C$2:$D$11,2,FALSE)","v":5},1317,200,{"$f":"VLOOKUP(H1319,'Ark1'!$C$2:$D$12,2,FALSE)","v":5}]
[1318,32,{"$f":"VLOOKUP(B1320,'Ark1'!C$2:D$11,2,FALSE)","v":2},1318,125,{"$f":"VLOOKUP(E1320,'Ark1'!$C$2:$D$11,2,FALSE)","v":5},1318,200,{"$f":"VLOOKUP(H1320,'Ark1'!$C$2:$D$12,2,FALSE)","v":5}]
[1319,32,{"$f":"VLOOKUP(B1321,'Ark1'!C$2:D$11,2,FALSE)","v":2},1319,125,{"$f":"VLOOKUP(E1321,'Ark1'!$C$2:$D$11,2,FALSE)","v":5},1319,200,{"$f":"VLOOKUP(H1321,'Ark1'!$C$2:$D$12,2,FALSE)","v":5}]
[1320,32,{"$f":"VLOOKUP(B1322,'Ark1'!C$2:D$11,2,FALSE)","v":2},1320,125,{"$f":"VLOOKUP(E1322,'Ark1'!$C$2:$D$11,2,FALSE)","v":5},1320,200,{"$f":"VLOOKUP(H1322,'Ark1'!$C$2:$D$12,2,FALSE)","v":5}]
[1321,32,{"$f":"VLOOKUP(B1323,'Ark1'!C$2:D$11,2,FALSE)","v":2},1321,125,{"$f":"VLOOKUP(E1323,'Ark1'!$C$2:$D$11,2,FALSE)","v":5},1321,200,{"$f":"VLOOKUP(H1323,'Ark1'!$C$2:$D$12,2,FALSE)","v":5}]
[1322,32,{"$f":"VLOOKUP(B1324,'Ark1'!C$2:D$11,2,FALSE)","v":2},1322,125,{"$f":"VLOOKUP(E1324,'Ark1'!$C$2:$D$11,2,FALSE)","v":5},1322,200,{"$f":"VLOOKUP(H1324,'Ark1'!$C$2:$D$12,2,FALSE)","v":5}]
[1323,32,{"$f":"VLOOKUP(B1325,'Ark1'!C$2:D$11,2,FALSE)","v":2},1323,125,{"$f":"VLOOKUP(E1325,'Ark1'!$C$2:$D$11,2,FALSE)","v":5},1323,200,{"$f":"VLOOKUP(H1325,'Ark1'!$C$2:$D$12,2,FALSE)","v":5}]
[1324,32,{"$f":"VLOOKUP(B1326,'Ark1'!C$2:D$11,2,FALSE)","v":2},1324,125,{"$f":"VLOOKUP(E1326,'Ark1'!$C$2:$D$11,2,FALSE)","v":5},1324,200,{"$f":"VLOOKUP(H1326,'Ark1'!$C$2:$D$12,2,FALSE)","v":5}]
[1325,32,{"$f":"VLOOKUP(B1327,'Ark1'!C$2:D$11,2,FALSE)","v":2},1325,125,{"$f":"VLOOKUP(E1327,'Ark1'!$C$2:$D$11,2,FALSE)","v":5},1325,200,{"$f":"VLOOKUP(H1327,'Ark1'!$C$2:$D$12,2,FALSE)","v":5}]
[1326,32,{"$f":"VLOOKUP(B1328,'Ark1'!C$2:D$11,2,FALSE)","v":2},1326,125,{"$f":"VLOOKUP(E1328,'Ark1'!$C$2:$D$11,2,FALSE)","v":5},1326,200,{"$f":"VLOOKUP(H1328,'Ark1'!$C$2:$D$12,2,FALSE)","v":5}]
[1327,32,{"$f":"VLOOKUP(B1329,'Ark1'!C$2:D$11,2,FALSE)","v":2},1327,125,{"$f":"VLOOKUP(E1329,'Ark1'!$C$2:$D$11,2,FALSE)","v":5},1327,200,{"$f":"VLOOKUP(H1329,'Ark1'!$C$2:$D$12,2,FALSE)","v":5}]
[1328,32,{"$f":"VLOOKUP(B1330,'Ark1'!C$2:D$11,2,FALSE)","v":2},1328,125,{"$f":"VLOOKUP(E1330,'Ark1'!$C$2:$D$11,2,FALSE)","v":5},1328,200,{"$f":"VLOOKUP(H1330,'Ark1'!$C$2:$D$12,2,FALSE)","v":5}]
[1329,32,{"$f":"VLOOKUP(B1331,'Ark1'!C$2:D$11,2,FALSE)","v":2},1329,125,{"$f":"VLOOKUP(E1331,'Ark1'!$C$2:$D$11,2,FALSE)","v":5},1329,200,{"$f":"VLOOKUP(H1331,'Ark1'!$C$2:$D$12,2,FALSE)","v":5}]
[1330,32,{"$f":"VLOOKUP(B1332,'Ark1'!C$2:D$11,2,FALSE)","v":2},1330,125,{"$f":"VLOOKUP(E1332,'Ark1'!$C$2:$D$11,2,FALSE)","v":5},1330,200,{"$f":"VLOOKUP(H1332,'Ark1'!$C$2:$D$12,2,FALSE)","v":5}]
[1331,32,{"$f":"VLOOKUP(B1333,'Ark1'!C$2:D$11,2,FALSE)","v":2},1331,125,{"$f":"VLOOKUP(E1333,'Ark1'!$C$2:$D$11,2,FALSE)","v":5},1331,200,{"$f":"VLOOKUP(H1333,'Ark1'!$C$2:$D$12,2,FALSE)","v":5}]
[1332,32,{"$f":"VLOOKUP(B1334,'Ark1'!C$2:D$11,2,FALSE)","v":2},1332,125,{"$f":"VLOOKUP(E1334,'Ark1'!$C$2:$D$11,2,FALSE)","v":5},1332,200,{"$f":"VLOOKUP(H1334,'Ark1'!$C$2:$D$12,2,FALSE)","v":5}]
[1333,32,{"$f":"VLOOKUP(B1335,'Ark1'!C$2:D$11,2,FALSE)","v":2},1333,125,{"$f":"VLOOKUP(E1335,'Ark1'!$C$2:$D$11,2,FALSE)","v":5},1333,200,{"$f":"VLOOKUP(H1335,'Ark1'!$C$2:$D$12,2,FALSE)","v":5}]
[1334,32,{"$f":"VLOOKUP(B1336,'Ark1'!C$2:D$11,2,FALSE)","v":2},1334,125,{"$f":"VLOOKUP(E1336,'Ark1'!$C$2:$D$11,2,FALSE)","v":5},1334,200,{"$f":"VLOOKUP(H1336,'Ark1'!$C$2:$D$12,2,FALSE)","v":5}]
[1335,32,{"$f":"VLOOKUP(B1337,'Ark1'!C$2:D$11,2,FALSE)","v":2},1335,125,{"$f":"VLOOKUP(E1337,'Ark1'!$C$2:$D$11,2,FALSE)","v":5},1335,200,{"$f":"VLOOKUP(H1337,'Ark1'!$C$2:$D$12,2,FALSE)","v":5}]
[1336,32,{"$f":"VLOOKUP(B1338,'Ark1'!C$2:D$11,2,FALSE)","v":2},1336,125,{"$f":"VLOOKUP(E1338,'Ark1'!$C$2:$D$11,2,FALSE)","v":5},1336,200,{"$f":"VLOOKUP(H1338,'Ark1'!$C$2:$D$12,2,FALSE)","v":5}]
[1337,32,{"$f":"VLOOKUP(B1339,'Ark1'!C$2:D$11,2,FALSE)","v":2},1337,125,{"$f":"VLOOKUP(E1339,'Ark1'!$C$2:$D$11,2,FALSE)","v":5},1337,200,{"$f":"VLOOKUP(H1339,'Ark1'!$C$2:$D$12,2,FALSE)","v":5}]
[1338,32,{"$f":"VLOOKUP(B1340,'Ark1'!C$2:D$11,2,FALSE)","v":2},1338,125,{"$f":"VLOOKUP(E1340,'Ark1'!$C$2:$D$11,2,FALSE)","v":5},1338,200,{"$f":"VLOOKUP(H1340,'Ark1'!$C$2:$D$12,2,FALSE)","v":5}]
[1339,32,{"$f":"VLOOKUP(B1341,'Ark1'!C$2:D$11,2,FALSE)","v":2},1339,125,{"$f":"VLOOKUP(E1341,'Ark1'!$C$2:$D$11,2,FALSE)","v":5},1339,200,{"$f":"VLOOKUP(H1341,'Ark1'!$C$2:$D$12,2,FALSE)","v":5}]
[1340,32,{"$f":"VLOOKUP(B1342,'Ark1'!C$2:D$11,2,FALSE)","v":2},1340,125,{"$f":"VLOOKUP(E1342,'Ark1'!$C$2:$D$11,2,FALSE)","v":5},1340,200,{"$f":"VLOOKUP(H1342,'Ark1'!$C$2:$D$12,2,FALSE)","v":5}]
[1341,32,{"$f":"VLOOKUP(B1343,'Ark1'!C$2:D$11,2,FALSE)","v":2},1341,125,{"$f":"VLOOKUP(E1343,'Ark1'!$C$2:$D$11,2,FALSE)","v":5},1341,200,{"$f":"VLOOKUP(H1343,'Ark1'!$C$2:$D$12,2,FALSE)","v":5}]
[1342,32,{"$f":"VLOOKUP(B1344,'Ark1'!C$2:D$11,2,FALSE)","v":2},1342,125,{"$f":"VLOOKUP(E1344,'Ark1'!$C$2:$D$11,2,FALSE)","v":5},1342,200,{"$f":"VLOOKUP(H1344,'Ark1'!$C$2:$D$12,2,FALSE)","v":5}]
[1343,32,{"$f":"VLOOKUP(B1345,'Ark1'!C$2:D$11,2,FALSE)","v":2},1343,125,{"$f":"VLOOKUP(E1345,'Ark1'!$C$2:$D$11,2,FALSE)","v":5},1343,200,{"$f":"VLOOKUP(H1345,'Ark1'!$C$2:$D$12,2,FALSE)","v":5}]
[1344,32,{"$f":"VLOOKUP(B1346,'Ark1'!C$2:D$11,2,FALSE)","v":2},1344,125,{"$f":"VLOOKUP(E1346,'Ark1'!$C$2:$D$11,2,FALSE)","v":5},1344,200,{"$f":"VLOOKUP(H1346,'Ark1'!$C$2:$D$12,2,FALSE)","v":5}]
[1345,32,{"$f":"VLOOKUP(B1347,'Ark1'!C$2:D$11,2,FALSE)","v":2},1345,125,{"$f":"VLOOKUP(E1347,'Ark1'!$C$2:$D$11,2,FALSE)","v":5},1345,200,{"$f":"VLOOKUP(H1347,'Ark1'!$C$2:$D$12,2,FALSE)","v":5}]
[1346,32,{"$f":"VLOOKUP(B1348,'Ark1'!C$2:D$11,2,FALSE)","v":2},1346,125,{"$f":"VLOOKUP(E1348,'Ark1'!$C$2:$D$11,2,FALSE)","v":5},1346,200,{"$f":"VLOOKUP(H1348,'Ark1'!$C$2:$D$12,2,FALSE)","v":5}]
[1347,32,{"$f":"VLOOKUP(B1349,'Ark1'!C$2:D$11,2,FALSE)","v":2},1347,125,{"$f":"VLOOKUP(E1349,'Ark1'!$C$2:$D$11,2,FALSE)","v":5},1347,200,{"$f":"VLOOKUP(H1349,'Ark1'!$C$2:$D$12,2,FALSE)","v":5}]
[1348,32,{"$f":"VLOOKUP(B1350,'Ark1'!C$2:D$11,2,FALSE)","v":2},1348,125,{"$f":"VLOOKUP(E1350,'Ark1'!$C$2:$D$11,2,FALSE)","v":5},1348,200,{"$f":"VLOOKUP(H1350,'Ark1'!$C$2:$D$12,2,FALSE)","v":5}]
[1349,32,{"$f":"VLOOKUP(B1351,'Ark1'!C$2:D$11,2,FALSE)","v":2},1349,125,{"$f":"VLOOKUP(E1351,'Ark1'!$C$2:$D$11,2,FALSE)","v":5},1349,200,{"$f":"VLOOKUP(H1351,'Ark1'!$C$2:$D$12,2,FALSE)","v":5}]
[1350,32,{"$f":"VLOOKUP(B1352,'Ark1'!C$2:D$11,2,FALSE)","v":2},1350,125,{"$f":"VLOOKUP(E1352,'Ark1'!$C$2:$D$11,2,FALSE)","v":5},1350,200,{"$f":"VLOOKUP(H1352,'Ark1'!$C$2:$D$12,2,FALSE)","v":5}]
[1351,32,{"$f":"VLOOKUP(B1353,'Ark1'!C$2:D$11,2,FALSE)","v":2},1351,125,{"$f":"VLOOKUP(E1353,'Ark1'!$C$2:$D$11,2,FALSE)","v":5},1351,200,{"$f":"VLOOKUP(H1353,'Ark1'!$C$2:$D$12,2,FALSE)","v":5}]
[1352,32,{"$f":"VLOOKUP(B1354,'Ark1'!C$2:D$11,2,FALSE)","v":2},1352,125,{"$f":"VLOOKUP(E1354,'Ark1'!$C$2:$D$11,2,FALSE)","v":5},1352,200,{"$f":"VLOOKUP(H1354,'Ark1'!$C$2:$D$12,2,FALSE)","v":5}]
[1353,32,{"$f":"VLOOKUP(B1355,'Ark1'!C$2:D$11,2,FALSE)","v":2},1353,125,{"$f":"VLOOKUP(E1355,'Ark1'!$C$2:$D$11,2,FALSE)","v":5},1353,200,{"$f":"VLOOKUP(H1355,'Ark1'!$C$2:$D$12,2,FALSE)","v":5}]
[1354,32,{"$f":"VLOOKUP(B1356,'Ark1'!C$2:D$11,2,FALSE)","v":2},1354,125,{"$f":"VLOOKUP(E1356,'Ark1'!$C$2:$D$11,2,FALSE)","v":5},1354,200,{"$f":"VLOOKUP(H1356,'Ark1'!$C$2:$D$12,2,FALSE)","v":5}]
[1355,32,{"$f":"VLOOKUP(B1357,'Ark1'!C$2:D$11,2,FALSE)","v":2},1355,125,{"$f":"VLOOKUP(E1357,'Ark1'!$C$2:$D$11,2,FALSE)","v":5},1355,200,{"$f":"VLOOKUP(H1357,'Ark1'!$C$2:$D$12,2,FALSE)","v":5}]
[1356,32,{"$f":"VLOOKUP(B1358,'Ark1'!C$2:D$11,2,FALSE)","v":2},1356,125,{"$f":"VLOOKUP(E1358,'Ark1'!$C$2:$D$11,2,FALSE)","v":5},1356,200,{"$f":"VLOOKUP(H1358,'Ark1'!$C$2:$D$12,2,FALSE)","v":5}]
[1357,32,{"$f":"VLOOKUP(B1359,'Ark1'!C$2:D$11,2,FALSE)","v":2},1357,125,{"$f":"VLOOKUP(E1359,'Ark1'!$C$2:$D$11,2,FALSE)","v":5},1357,200,{"$f":"VLOOKUP(H1359,'Ark1'!$C$2:$D$12,2,FALSE)","v":5}]
[1358,32,{"$f":"VLOOKUP(B1360,'Ark1'!C$2:D$11,2,FALSE)","v":2},1358,125,{"$f":"VLOOKUP(E1360,'Ark1'!$C$2:$D$11,2,FALSE)","v":5},1358,200,{"$f":"VLOOKUP(H1360,'Ark1'!$C$2:$D$12,2,FALSE)","v":5}]
[1359,32,{"$f":"VLOOKUP(B1361,'Ark1'!C$2:D$11,2,FALSE)","v":2},1359,125,{"$f":"VLOOKUP(E1361,'Ark1'!$C$2:$D$11,2,FALSE)","v":5},1359,200,{"$f":"VLOOKUP(H1361,'Ark1'!$C$2:$D$12,2,FALSE)","v":5}]
[1360,32,{"$f":"VLOOKUP(B1362,'Ark1'!C$2:D$11,2,FALSE)","v":2},1360,125,{"$f":"VLOOKUP(E1362,'Ark1'!$C$2:$D$11,2,FALSE)","v":5},1360,200,{"$f":"VLOOKUP(H1362,'Ark1'!$C$2:$D$12,2,FALSE)","v":5}]
[1361,32,{"$f":"VLOOKUP(B1363,'Ark1'!C$2:D$11,2,FALSE)","v":2},1361,125,{"$f":"VLOOKUP(E1363,'Ark1'!$C$2:$D$11,2,FALSE)","v":5},1361,200,{"$f":"VLOOKUP(H1363,'Ark1'!$C$2:$D$12,2,FALSE)","v":5}]
[1362,32,{"$f":"VLOOKUP(B1364,'Ark1'!C$2:D$11,2,FALSE)","v":2},1362,125,{"$f":"VLOOKUP(E1364,'Ark1'!$C$2:$D$11,2,FALSE)","v":5},1362,200,{"$f":"VLOOKUP(H1364,'Ark1'!$C$2:$D$12,2,FALSE)","v":5}]
[1363,32,{"$f":"VLOOKUP(B1365,'Ark1'!C$2:D$11,2,FALSE)","v":2},1363,125,{"$f":"VLOOKUP(E1365,'Ark1'!$C$2:$D$11,2,FALSE)","v":5},1363,200,{"$f":"VLOOKUP(H1365,'Ark1'!$C$2:$D$12,2,FALSE)","v":5}]
[1364,32,{"$f":"VLOOKUP(B1366,'Ark1'!C$2:D$11,2,FALSE)","v":2},1364,125,{"$f":"VLOOKUP(E1366,'Ark1'!$C$2:$D$11,2,FALSE)","v":5},1364,200,{"$f":"VLOOKUP(H1366,'Ark1'!$C$2:$D$12,2,FALSE)","v":5}]
[1365,32,{"$f":"VLOOKUP(B1367,'Ark1'!C$2:D$11,2,FALSE)","v":2},1365,125,{"$f":"VLOOKUP(E1367,'Ark1'!$C$2:$D$11,2,FALSE)","v":5},1365,200,{"$f":"VLOOKUP(H1367,'Ark1'!$C$2:$D$12,2,FALSE)","v":5}]
[1366,32,{"$f":"VLOOKUP(B1368,'Ark1'!C$2:D$11,2,FALSE)","v":2},1366,125,{"$f":"VLOOKUP(E1368,'Ark1'!$C$2:$D$11,2,FALSE)","v":5},1366,200,{"$f":"VLOOKUP(H1368,'Ark1'!$C$2:$D$12,2,FALSE)","v":5}]
[1367,32,{"$f":"VLOOKUP(B1369,'Ark1'!C$2:D$11,2,FALSE)","v":2},1367,125,{"$f":"VLOOKUP(E1369,'Ark1'!$C$2:$D$11,2,FALSE)","v":5},1367,200,{"$f":"VLOOKUP(H1369,'Ark1'!$C$2:$D$12,2,FALSE)","v":5}]
[1368,32,{"$f":"VLOOKUP(B1370,'Ark1'!C$2:D$11,2,FALSE)","v":2},1368,125,{"$f":"VLOOKUP(E1370,'Ark1'!$C$2:$D$11,2,FALSE)","v":5},1368,200,{"$f":"VLOOKUP(H1370,'Ark1'!$C$2:$D$12,2,FALSE)","v":5}]
[1369,32,{"$f":"VLOOKUP(B1371,'Ark1'!C$2:D$11,2,FALSE)","v":2},1369,125,{"$f":"VLOOKUP(E1371,'Ark1'!$C$2:$D$11,2,FALSE)","v":5},1369,200,{"$f":"VLOOKUP(H1371,'Ark1'!$C$2:$D$12,2,FALSE)","v":5}]
[1370,32,{"$f":"VLOOKUP(B1372,'Ark1'!C$2:D$11,2,FALSE)","v":2},1370,125,{"$f":"VLOOKUP(E1372,'Ark1'!$C$2:$D$11,2,FALSE)","v":5},1370,200,{"$f":"VLOOKUP(H1372,'Ark1'!$C$2:$D$12,2,FALSE)","v":5}]
[1371,32,{"$f":"VLOOKUP(B1373,'Ark1'!C$2:D$11,2,FALSE)","v":2},1371,125,{"$f":"VLOOKUP(E1373,'Ark1'!$C$2:$D$11,2,FALSE)","v":5},1371,200,{"$f":"VLOOKUP(H1373,'Ark1'!$C$2:$D$12,2,FALSE)","v":5}]
[1372,32,{"$f":"VLOOKUP(B1374,'Ark1'!C$2:D$11,2,FALSE)","v":2},1372,125,{"$f":"VLOOKUP(E1374,'Ark1'!$C$2:$D$11,2,FALSE)","v":5},1372,200,{"$f":"VLOOKUP(H1374,'Ark1'!$C$2:$D$12,2,FALSE)","v":5}]
[1373,32,{"$f":"VLOOKUP(B1375,'Ark1'!C$2:D$11,2,FALSE)","v":2},1373,125,{"$f":"VLOOKUP(E1375,'Ark1'!$C$2:$D$11,2,FALSE)","v":5},1373,200,{"$f":"VLOOKUP(H1375,'Ark1'!$C$2:$D$12,2,FALSE)","v":5}]
[1374,32,{"$f":"VLOOKUP(B1376,'Ark1'!C$2:D$11,2,FALSE)","v":2},1374,125,{"$f":"VLOOKUP(E1376,'Ark1'!$C$2:$D$11,2,FALSE)","v":5},1374,200,{"$f":"VLOOKUP(H1376,'Ark1'!$C$2:$D$12,2,FALSE)","v":5}]
[1375,32,{"$f":"VLOOKUP(B1377,'Ark1'!C$2:D$11,2,FALSE)","v":2},1375,125,{"$f":"VLOOKUP(E1377,'Ark1'!$C$2:$D$11,2,FALSE)","v":5},1375,200,{"$f":"VLOOKUP(H1377,'Ark1'!$C$2:$D$12,2,FALSE)","v":5}]
[1376,32,{"$f":"VLOOKUP(B1378,'Ark1'!C$2:D$11,2,FALSE)","v":2},1376,125,{"$f":"VLOOKUP(E1378,'Ark1'!$C$2:$D$11,2,FALSE)","v":5},1376,200,{"$f":"VLOOKUP(H1378,'Ark1'!$C$2:$D$12,2,FALSE)","v":5}]
[1377,32,{"$f":"VLOOKUP(B1379,'Ark1'!C$2:D$11,2,FALSE)","v":2},1377,125,{"$f":"VLOOKUP(E1379,'Ark1'!$C$2:$D$11,2,FALSE)","v":5},1377,200,{"$f":"VLOOKUP(H1379,'Ark1'!$C$2:$D$12,2,FALSE)","v":5}]
[1378,32,{"$f":"VLOOKUP(B1380,'Ark1'!C$2:D$11,2,FALSE)","v":2},1378,125,{"$f":"VLOOKUP(E1380,'Ark1'!$C$2:$D$11,2,FALSE)","v":5},1378,200,{"$f":"VLOOKUP(H1380,'Ark1'!$C$2:$D$12,2,FALSE)","v":5}]
[1379,32,{"$f":"VLOOKUP(B1381,'Ark1'!C$2:D$11,2,FALSE)","v":2},1379,125,{"$f":"VLOOKUP(E1381,'Ark1'!$C$2:$D$11,2,FALSE)","v":5},1379,200,{"$f":"VLOOKUP(H1381,'Ark1'!$C$2:$D$12,2,FALSE)","v":5}]
[1380,32,{"$f":"VLOOKUP(B1382,'Ark1'!C$2:D$11,2,FALSE)","v":2},1380,125,{"$f":"VLOOKUP(E1382,'Ark1'!$C$2:$D$11,2,FALSE)","v":5},1380,200,{"$f":"VLOOKUP(H1382,'Ark1'!$C$2:$D$12,2,FALSE)","v":5}]
[1381,32,{"$f":"VLOOKUP(B1383,'Ark1'!C$2:D$11,2,FALSE)","v":2},1381,125,{"$f":"VLOOKUP(E1383,'Ark1'!$C$2:$D$11,2,FALSE)","v":5},1381,200,{"$f":"VLOOKUP(H1383,'Ark1'!$C$2:$D$12,2,FALSE)","v":5}]
[1382,32,{"$f":"VLOOKUP(B1384,'Ark1'!C$2:D$11,2,FALSE)","v":2},1382,125,{"$f":"VLOOKUP(E1384,'Ark1'!$C$2:$D$11,2,FALSE)","v":5},1382,200,{"$f":"VLOOKUP(H1384,'Ark1'!$C$2:$D$12,2,FALSE)","v":5}]
[1383,32,{"$f":"VLOOKUP(B1385,'Ark1'!C$2:D$11,2,FALSE)","v":2},1383,125,{"$f":"VLOOKUP(E1385,'Ark1'!$C$2:$D$11,2,FALSE)","v":5},1383,200,{"$f":"VLOOKUP(H1385,'Ark1'!$C$2:$D$12,2,FALSE)","v":5}]
[1384,32,{"$f":"VLOOKUP(B1386,'Ark1'!C$2:D$11,2,FALSE)","v":2},1384,125,{"$f":"VLOOKUP(E1386,'Ark1'!$C$2:$D$11,2,FALSE)","v":5},1384,200,{"$f":"VLOOKUP(H1386,'Ark1'!$C$2:$D$12,2,FALSE)","v":5}]
[1385,32,{"$f":"VLOOKUP(B1387,'Ark1'!C$2:D$11,2,FALSE)","v":2},1385,125,{"$f":"VLOOKUP(E1387,'Ark1'!$C$2:$D$11,2,FALSE)","v":5},1385,200,{"$f":"VLOOKUP(H1387,'Ark1'!$C$2:$D$12,2,FALSE)","v":5}]
[1386,32,{"$f":"VLOOKUP(B1388,'Ark1'!C$2:D$11,2,FALSE)","v":2},1386,125,{"$f":"VLOOKUP(E1388,'Ark1'!$C$2:$D$11,2,FALSE)","v":5},1386,200,{"$f":"VLOOKUP(H1388,'Ark1'!$C$2:$D$12,2,FALSE)","v":5}]
[1387,32,{"$f":"VLOOKUP(B1389,'Ark1'!C$2:D$11,2,FALSE)","v":2},1387,125,{"$f":"VLOOKUP(E1389,'Ark1'!$C$2:$D$11,2,FALSE)","v":5},1387,200,{"$f":"VLOOKUP(H1389,'Ark1'!$C$2:$D$12,2,FALSE)","v":5}]
[1388,32,{"$f":"VLOOKUP(B1390,'Ark1'!C$2:D$11,2,FALSE)","v":2},1388,125,{"$f":"VLOOKUP(E1390,'Ark1'!$C$2:$D$11,2,FALSE)","v":5},1388,200,{"$f":"VLOOKUP(H1390,'Ark1'!$C$2:$D$12,2,FALSE)","v":5}]
[1389,32,{"$f":"VLOOKUP(B1391,'Ark1'!C$2:D$11,2,FALSE)","v":2},1389,125,{"$f":"VLOOKUP(E1391,'Ark1'!$C$2:$D$11,2,FALSE)","v":5},1389,200,{"$f":"VLOOKUP(H1391,'Ark1'!$C$2:$D$12,2,FALSE)","v":5}]
[1390,32,{"$f":"VLOOKUP(B1392,'Ark1'!C$2:D$11,2,FALSE)","v":2},1390,125,{"$f":"VLOOKUP(E1392,'Ark1'!$C$2:$D$11,2,FALSE)","v":5},1390,200,{"$f":"VLOOKUP(H1392,'Ark1'!$C$2:$D$12,2,FALSE)","v":5}]
[1391,32,{"$f":"VLOOKUP(B1393,'Ark1'!C$2:D$11,2,FALSE)","v":2},1391,125,{"$f":"VLOOKUP(E1393,'Ark1'!$C$2:$D$11,2,FALSE)","v":5},1391,200,{"$f":"VLOOKUP(H1393,'Ark1'!$C$2:$D$12,2,FALSE)","v":5}]
[1392,32,{"$f":"VLOOKUP(B1394,'Ark1'!C$2:D$11,2,FALSE)","v":2},1392,125,{"$f":"VLOOKUP(E1394,'Ark1'!$C$2:$D$11,2,FALSE)","v":5},1392,200,{"$f":"VLOOKUP(H1394,'Ark1'!$C$2:$D$12,2,FALSE)","v":5}]
[1393,32,{"$f":"VLOOKUP(B1395,'Ark1'!C$2:D$11,2,FALSE)","v":2},1393,125,{"$f":"VLOOKUP(E1395,'Ark1'!$C$2:$D$11,2,FALSE)","v":5},1393,200,{"$f":"VLOOKUP(H1395,'Ark1'!$C$2:$D$12,2,FALSE)","v":5}]
[1394,32,{"$f":"VLOOKUP(B1396,'Ark1'!C$2:D$11,2,FALSE)","v":2},1394,125,{"$f":"VLOOKUP(E1396,'Ark1'!$C$2:$D$11,2,FALSE)","v":5},1394,200,{"$f":"VLOOKUP(H1396,'Ark1'!$C$2:$D$12,2,FALSE)","v":5}]
[1395,32,{"$f":"VLOOKUP(B1397,'Ark1'!C$2:D$11,2,FALSE)","v":2},1395,125,{"$f":"VLOOKUP(E1397,'Ark1'!$C$2:$D$11,2,FALSE)","v":5},1395,200,{"$f":"VLOOKUP(H1397,'Ark1'!$C$2:$D$12,2,FALSE)","v":5}]
[1396,32,{"$f":"VLOOKUP(B1398,'Ark1'!C$2:D$11,2,FALSE)","v":2},1396,125,{"$f":"VLOOKUP(E1398,'Ark1'!$C$2:$D$11,2,FALSE)","v":5},1396,200,{"$f":"VLOOKUP(H1398,'Ark1'!$C$2:$D$12,2,FALSE)","v":5}]
[1397,32,{"$f":"VLOOKUP(B1399,'Ark1'!C$2:D$11,2,FALSE)","v":2},1397,125,{"$f":"VLOOKUP(E1399,'Ark1'!$C$2:$D$11,2,FALSE)","v":5},1397,200,{"$f":"VLOOKUP(H1399,'Ark1'!$C$2:$D$12,2,FALSE)","v":5}]
[1398,32,{"$f":"VLOOKUP(B1400,'Ark1'!C$2:D$11,2,FALSE)","v":2},1398,125,{"$f":"VLOOKUP(E1400,'Ark1'!$C$2:$D$11,2,FALSE)","v":5},1398,200,{"$f":"VLOOKUP(H1400,'Ark1'!$C$2:$D$12,2,FALSE)","v":5}]
[1399,32,{"$f":"VLOOKUP(B1401,'Ark1'!C$2:D$11,2,FALSE)","v":2},1399,125,{"$f":"VLOOKUP(E1401,'Ark1'!$C$2:$D$11,2,FALSE)","v":5},1399,200,{"$f":"VLOOKUP(H1401,'Ark1'!$C$2:$D$12,2,FALSE)","v":5}]
[1400,32,{"$f":"VLOOKUP(B1402,'Ark1'!C$2:D$11,2,FALSE)","v":2},1400,125,{"$f":"VLOOKUP(E1402,'Ark1'!$C$2:$D$11,2,FALSE)","v":5},1400,200,{"$f":"VLOOKUP(H1402,'Ark1'!$C$2:$D$12,2,FALSE)","v":5}]
[1401,32,{"$f":"VLOOKUP(B1403,'Ark1'!C$2:D$11,2,FALSE)","v":2},1401,125,{"$f":"VLOOKUP(E1403,'Ark1'!$C$2:$D$11,2,FALSE)","v":5},1401,200,{"$f":"VLOOKUP(H1403,'Ark1'!$C$2:$D$12,2,FALSE)","v":5}]
[1402,32,{"$f":"VLOOKUP(B1404,'Ark1'!C$2:D$11,2,FALSE)","v":2},1402,125,{"$f":"VLOOKUP(E1404,'Ark1'!$C$2:$D$11,2,FALSE)","v":5},1402,200,{"$f":"VLOOKUP(H1404,'Ark1'!$C$2:$D$12,2,FALSE)","v":5}]
[1403,32,{"$f":"VLOOKUP(B1405,'Ark1'!C$2:D$11,2,FALSE)","v":2},1403,125,{"$f":"VLOOKUP(E1405,'Ark1'!$C$2:$D$11,2,FALSE)","v":5},1403,200,{"$f":"VLOOKUP(H1405,'Ark1'!$C$2:$D$12,2,FALSE)","v":5}]
[1404,32,{"$f":"VLOOKUP(B1406,'Ark1'!C$2:D$11,2,FALSE)","v":2},1404,125,{"$f":"VLOOKUP(E1406,'Ark1'!$C$2:$D$11,2,FALSE)","v":5},1404,200,{"$f":"VLOOKUP(H1406,'Ark1'!$C$2:$D$12,2,FALSE)","v":5}]
[1405,32,{"$f":"VLOOKUP(B1407,'Ark1'!C$2:D$11,2,FALSE)","v":2},1405,125,{"$f":"VLOOKUP(E1407,'Ark1'!$C$2:$D$11,2,FALSE)","v":5},1405,200,{"$f":"VLOOKUP(H1407,'Ark1'!$C$2:$D$12,2,FALSE)","v":5}]
[1406,32,{"$f":"VLOOKUP(B1408,'Ark1'!C$2:D$11,2,FALSE)","v":2},1406,125,{"$f":"VLOOKUP(E1408,'Ark1'!$C$2:$D$11,2,FALSE)","v":5},1406,200,{"$f":"VLOOKUP(H1408,'Ark1'!$C$2:$D$12,2,FALSE)","v":5}]
[1407,32,{"$f":"VLOOKUP(B1409,'Ark1'!C$2:D$11,2,FALSE)","v":2},1407,125,{"$f":"VLOOKUP(E1409,'Ark1'!$C$2:$D$11,2,FALSE)","v":5},1407,200,{"$f":"VLOOKUP(H1409,'Ark1'!$C$2:$D$12,2,FALSE)","v":5}]
[1408,32,{"$f":"VLOOKUP(B1410,'Ark1'!C$2:D$11,2,FALSE)","v":2},1408,125,{"$f":"VLOOKUP(E1410,'Ark1'!$C$2:$D$11,2,FALSE)","v":5},1408,200,{"$f":"VLOOKUP(H1410,'Ark1'!$C$2:$D$12,2,FALSE)","v":5}]
[1409,32,{"$f":"VLOOKUP(B1411,'Ark1'!C$2:D$11,2,FALSE)","v":2},1409,125,{"$f":"VLOOKUP(E1411,'Ark1'!$C$2:$D$11,2,FALSE)","v":5},1409,200,{"$f":"VLOOKUP(H1411,'Ark1'!$C$2:$D$12,2,FALSE)","v":5}]
[1410,32,{"$f":"VLOOKUP(B1412,'Ark1'!C$2:D$11,2,FALSE)","v":2},1410,125,{"$f":"VLOOKUP(E1412,'Ark1'!$C$2:$D$11,2,FALSE)","v":5},1410,200,{"$f":"VLOOKUP(H1412,'Ark1'!$C$2:$D$12,2,FALSE)","v":5}]
[1411,32,{"$f":"VLOOKUP(B1413,'Ark1'!C$2:D$11,2,FALSE)","v":2},1411,125,{"$f":"VLOOKUP(E1413,'Ark1'!$C$2:$D$11,2,FALSE)","v":5},1411,200,{"$f":"VLOOKUP(H1413,'Ark1'!$C$2:$D$12,2,FALSE)","v":5}]
[1412,32,{"$f":"VLOOKUP(B1414,'Ark1'!C$2:D$11,2,FALSE)","v":2},1412,125,{"$f":"VLOOKUP(E1414,'Ark1'!$C$2:$D$11,2,FALSE)","v":5},1412,200,{"$f":"VLOOKUP(H1414,'Ark1'!$C$2:$D$12,2,FALSE)","v":5}]
[1413,32,{"$f":"VLOOKUP(B1415,'Ark1'!C$2:D$11,2,FALSE)","v":2},1413,125,{"$f":"VLOOKUP(E1415,'Ark1'!$C$2:$D$11,2,FALSE)","v":5},1413,200,{"$f":"VLOOKUP(H1415,'Ark1'!$C$2:$D$12,2,FALSE)","v":5}]
[1414,32,{"$f":"VLOOKUP(B1416,'Ark1'!C$2:D$11,2,FALSE)","v":2},1414,125,{"$f":"VLOOKUP(E1416,'Ark1'!$C$2:$D$11,2,FALSE)","v":5},1414,200,{"$f":"VLOOKUP(H1416,'Ark1'!$C$2:$D$12,2,FALSE)","v":5}]
[1415,32,{"$f":"VLOOKUP(B1417,'Ark1'!C$2:D$11,2,FALSE)","v":2},1415,125,{"$f":"VLOOKUP(E1417,'Ark1'!$C$2:$D$11,2,FALSE)","v":5},1415,200,{"$f":"VLOOKUP(H1417,'Ark1'!$C$2:$D$12,2,FALSE)","v":5}]
[1416,32,{"$f":"VLOOKUP(B1418,'Ark1'!C$2:D$11,2,FALSE)","v":2},1416,125,{"$f":"VLOOKUP(E1418,'Ark1'!$C$2:$D$11,2,FALSE)","v":5},1416,200,{"$f":"VLOOKUP(H1418,'Ark1'!$C$2:$D$12,2,FALSE)","v":5}]
[1417,32,{"$f":"VLOOKUP(B1419,'Ark1'!C$2:D$11,2,FALSE)","v":2},1417,125,{"$f":"VLOOKUP(E1419,'Ark1'!$C$2:$D$11,2,FALSE)","v":5},1417,200,{"$f":"VLOOKUP(H1419,'Ark1'!$C$2:$D$12,2,FALSE)","v":5}]
[1418,32,{"$f":"VLOOKUP(B1420,'Ark1'!C$2:D$11,2,FALSE)","v":2},1418,125,{"$f":"VLOOKUP(E1420,'Ark1'!$C$2:$D$11,2,FALSE)","v":5},1418,200,{"$f":"VLOOKUP(H1420,'Ark1'!$C$2:$D$12,2,FALSE)","v":5}]
[1419,32,{"$f":"VLOOKUP(B1421,'Ark1'!C$2:D$11,2,FALSE)","v":2},1419,125,{"$f":"VLOOKUP(E1421,'Ark1'!$C$2:$D$11,2,FALSE)","v":5},1419,200,{"$f":"VLOOKUP(H1421,'Ark1'!$C$2:$D$12,2,FALSE)","v":5}]
[1420,32,{"$f":"VLOOKUP(B1422,'Ark1'!C$2:D$11,2,FALSE)","v":2},1420,125,{"$f":"VLOOKUP(E1422,'Ark1'!$C$2:$D$11,2,FALSE)","v":5},1420,200,{"$f":"VLOOKUP(H1422,'Ark1'!$C$2:$D$12,2,FALSE)","v":5}]
[1421,32,{"$f":"VLOOKUP(B1423,'Ark1'!C$2:D$11,2,FALSE)","v":2},1421,125,{"$f":"VLOOKUP(E1423,'Ark1'!$C$2:$D$11,2,FALSE)","v":5},1421,200,{"$f":"VLOOKUP(H1423,'Ark1'!$C$2:$D$12,2,FALSE)","v":5}]
[1422,32,{"$f":"VLOOKUP(B1424,'Ark1'!C$2:D$11,2,FALSE)","v":2},1422,125,{"$f":"VLOOKUP(E1424,'Ark1'!$C$2:$D$11,2,FALSE)","v":5},1422,200,{"$f":"VLOOKUP(H1424,'Ark1'!$C$2:$D$12,2,FALSE)","v":5}]
[1423,32,{"$f":"VLOOKUP(B1425,'Ark1'!C$2:D$11,2,FALSE)","v":2},1423,125,{"$f":"VLOOKUP(E1425,'Ark1'!$C$2:$D$11,2,FALSE)","v":5},1423,200,{"$f":"VLOOKUP(H1425,'Ark1'!$C$2:$D$12,2,FALSE)","v":5}]
[1424,32,{"$f":"VLOOKUP(B1426,'Ark1'!C$2:D$11,2,FALSE)","v":2},1424,125,{"$f":"VLOOKUP(E1426,'Ark1'!$C$2:$D$11,2,FALSE)","v":5},1424,200,{"$f":"VLOOKUP(H1426,'Ark1'!$C$2:$D$12,2,FALSE)","v":5}]
[1425,32,{"$f":"VLOOKUP(B1427,'Ark1'!C$2:D$11,2,FALSE)","v":2},1425,125,{"$f":"VLOOKUP(E1427,'Ark1'!$C$2:$D$11,2,FALSE)","v":5},1425,200,{"$f":"VLOOKUP(H1427,'Ark1'!$C$2:$D$12,2,FALSE)","v":5}]
[1426,32,{"$f":"VLOOKUP(B1428,'Ark1'!C$2:D$11,2,FALSE)","v":2},1426,125,{"$f":"VLOOKUP(E1428,'Ark1'!$C$2:$D$11,2,FALSE)","v":5},1426,200,{"$f":"VLOOKUP(H1428,'Ark1'!$C$2:$D$12,2,FALSE)","v":5}]
[1427,32,{"$f":"VLOOKUP(B1429,'Ark1'!C$2:D$11,2,FALSE)","v":2},1427,125,{"$f":"VLOOKUP(E1429,'Ark1'!$C$2:$D$11,2,FALSE)","v":5},1427,200,{"$f":"VLOOKUP(H1429,'Ark1'!$C$2:$D$12,2,FALSE)","v":5}]
[1428,32,{"$f":"VLOOKUP(B1430,'Ark1'!C$2:D$11,2,FALSE)","v":2},1428,125,{"$f":"VLOOKUP(E1430,'Ark1'!$C$2:$D$11,2,FALSE)","v":5},1428,200,{"$f":"VLOOKUP(H1430,'Ark1'!$C$2:$D$12,2,FALSE)","v":5}]
[1429,32,{"$f":"VLOOKUP(B1431,'Ark1'!C$2:D$11,2,FALSE)","v":2},1429,125,{"$f":"VLOOKUP(E1431,'Ark1'!$C$2:$D$11,2,FALSE)","v":5},1429,200,{"$f":"VLOOKUP(H1431,'Ark1'!$C$2:$D$12,2,FALSE)","v":5}]
[1430,32,{"$f":"VLOOKUP(B1432,'Ark1'!C$2:D$11,2,FALSE)","v":2},1430,125,{"$f":"VLOOKUP(E1432,'Ark1'!$C$2:$D$11,2,FALSE)","v":5},1430,200,{"$f":"VLOOKUP(H1432,'Ark1'!$C$2:$D$12,2,FALSE)","v":5}]
[1431,32,{"$f":"VLOOKUP(B1433,'Ark1'!C$2:D$11,2,FALSE)","v":2},1431,125,{"$f":"VLOOKUP(E1433,'Ark1'!$C$2:$D$11,2,FALSE)","v":5},1431,200,{"$f":"VLOOKUP(H1433,'Ark1'!$C$2:$D$12,2,FALSE)","v":5}]
[1432,32,{"$f":"VLOOKUP(B1434,'Ark1'!C$2:D$11,2,FALSE)","v":2},1432,125,{"$f":"VLOOKUP(E1434,'Ark1'!$C$2:$D$11,2,FALSE)","v":5},1432,200,{"$f":"VLOOKUP(H1434,'Ark1'!$C$2:$D$12,2,FALSE)","v":5}]
[1433,32,{"$f":"VLOOKUP(B1435,'Ark1'!C$2:D$11,2,FALSE)","v":2},1433,125,{"$f":"VLOOKUP(E1435,'Ark1'!$C$2:$D$11,2,FALSE)","v":5},1433,200,{"$f":"VLOOKUP(H1435,'Ark1'!$C$2:$D$12,2,FALSE)","v":5}]
[1434,32,{"$f":"VLOOKUP(B1436,'Ark1'!C$2:D$11,2,FALSE)","v":2},1434,125,{"$f":"VLOOKUP(E1436,'Ark1'!$C$2:$D$11,2,FALSE)","v":5},1434,200,{"$f":"VLOOKUP(H1436,'Ark1'!$C$2:$D$12,2,FALSE)","v":5}]
[1435,32,{"$f":"VLOOKUP(B1437,'Ark1'!C$2:D$11,2,FALSE)","v":2},1435,125,{"$f":"VLOOKUP(E1437,'Ark1'!$C$2:$D$11,2,FALSE)","v":5},1435,200,{"$f":"VLOOKUP(H1437,'Ark1'!$C$2:$D$12,2,FALSE)","v":5}]
[1436,32,{"$f":"VLOOKUP(B1438,'Ark1'!C$2:D$11,2,FALSE)","v":2},1436,125,{"$f":"VLOOKUP(E1438,'Ark1'!$C$2:$D$11,2,FALSE)","v":5},1436,200,{"$f":"VLOOKUP(H1438,'Ark1'!$C$2:$D$12,2,FALSE)","v":5}]
[1437,32,{"$f":"VLOOKUP(B1439,'Ark1'!C$2:D$11,2,FALSE)","v":2},1437,125,{"$f":"VLOOKUP(E1439,'Ark1'!$C$2:$D$11,2,FALSE)","v":5},1437,200,{"$f":"VLOOKUP(H1439,'Ark1'!$C$2:$D$12,2,FALSE)","v":5}]
[1438,32,{"$f":"VLOOKUP(B1440,'Ark1'!C$2:D$11,2,FALSE)","v":2},1438,125,{"$f":"VLOOKUP(E1440,'Ark1'!$C$2:$D$11,2,FALSE)","v":5},1438,200,{"$f":"VLOOKUP(H1440,'Ark1'!$C$2:$D$12,2,FALSE)","v":5}]
[1439,32,{"$f":"VLOOKUP(B1441,'Ark1'!C$2:D$11,2,FALSE)","v":2},1439,125,{"$f":"VLOOKUP(E1441,'Ark1'!$C$2:$D$11,2,FALSE)","v":5},1439,200,{"$f":"VLOOKUP(H1441,'Ark1'!$C$2:$D$12,2,FALSE)","v":5}]
[1440,32,{"$f":"VLOOKUP(B1442,'Ark1'!C$2:D$11,2,FALSE)","v":2},1440,125,{"$f":"VLOOKUP(E1442,'Ark1'!$C$2:$D$11,2,FALSE)","v":5},1440,200,{"$f":"VLOOKUP(H1442,'Ark1'!$C$2:$D$12,2,FALSE)","v":5}]
[1441,32,{"$f":"VLOOKUP(B1443,'Ark1'!C$2:D$11,2,FALSE)","v":2},1441,125,{"$f":"VLOOKUP(E1443,'Ark1'!$C$2:$D$11,2,FALSE)","v":5},1441,200,{"$f":"VLOOKUP(H1443,'Ark1'!$C$2:$D$12,2,FALSE)","v":5}]
[1442,32,{"$f":"VLOOKUP(B1444,'Ark1'!C$2:D$11,2,FALSE)","v":2},1442,125,{"$f":"VLOOKUP(E1444,'Ark1'!$C$2:$D$11,2,FALSE)","v":5},1442,200,{"$f":"VLOOKUP(H1444,'Ark1'!$C$2:$D$12,2,FALSE)","v":5}]
[1443,32,{"$f":"VLOOKUP(B1445,'Ark1'!C$2:D$11,2,FALSE)","v":2},1443,125,{"$f":"VLOOKUP(E1445,'Ark1'!$C$2:$D$11,2,FALSE)","v":5},1443,200,{"$f":"VLOOKUP(H1445,'Ark1'!$C$2:$D$12,2,FALSE)","v":5}]
[1444,32,{"$f":"VLOOKUP(B1446,'Ark1'!C$2:D$11,2,FALSE)","v":2},1444,125,{"$f":"VLOOKUP(E1446,'Ark1'!$C$2:$D$11,2,FALSE)","v":5},1444,200,{"$f":"VLOOKUP(H1446,'Ark1'!$C$2:$D$12,2,FALSE)","v":5}]
[1445,32,{"$f":"VLOOKUP(B1447,'Ark1'!C$2:D$11,2,FALSE)","v":2},1445,125,{"$f":"VLOOKUP(E1447,'Ark1'!$C$2:$D$11,2,FALSE)","v":5},1445,200,{"$f":"VLOOKUP(H1447,'Ark1'!$C$2:$D$12,2,FALSE)","v":5}]
[1446,32,{"$f":"VLOOKUP(B1448,'Ark1'!C$2:D$11,2,FALSE)","v":2},1446,125,{"$f":"VLOOKUP(E1448,'Ark1'!$C$2:$D$11,2,FALSE)","v":5},1446,200,{"$f":"VLOOKUP(H1448,'Ark1'!$C$2:$D$12,2,FALSE)","v":5}]
[1447,32,{"$f":"VLOOKUP(B1449,'Ark1'!C$2:D$11,2,FALSE)","v":2},1447,125,{"$f":"VLOOKUP(E1449,'Ark1'!$C$2:$D$11,2,FALSE)","v":5},1447,200,{"$f":"VLOOKUP(H1449,'Ark1'!$C$2:$D$12,2,FALSE)","v":5}]
[1448,32,{"$f":"VLOOKUP(B1450,'Ark1'!C$2:D$11,2,FALSE)","v":2},1448,125,{"$f":"VLOOKUP(E1450,'Ark1'!$C$2:$D$11,2,FALSE)","v":5},1448,200,{"$f":"VLOOKUP(H1450,'Ark1'!$C$2:$D$12,2,FALSE)","v":5}]
[1449,32,{"$f":"VLOOKUP(B1451,'Ark1'!C$2:D$11,2,FALSE)","v":2},1449,125,{"$f":"VLOOKUP(E1451,'Ark1'!$C$2:$D$11,2,FALSE)","v":5},1449,200,{"$f":"VLOOKUP(H1451,'Ark1'!$C$2:$D$12,2,FALSE)","v":5}]
[1450,32,{"$f":"VLOOKUP(B1452,'Ark1'!C$2:D$11,2,FALSE)","v":2},1450,125,{"$f":"VLOOKUP(E1452,'Ark1'!$C$2:$D$11,2,FALSE)","v":5},1450,200,{"$f":"VLOOKUP(H1452,'Ark1'!$C$2:$D$12,2,FALSE)","v":5}]
[1451,32,{"$f":"VLOOKUP(B1453,'Ark1'!C$2:D$11,2,FALSE)","v":2},1451,125,{"$f":"VLOOKUP(E1453,'Ark1'!$C$2:$D$11,2,FALSE)","v":5},1451,200,{"$f":"VLOOKUP(H1453,'Ark1'!$C$2:$D$12,2,FALSE)","v":5}]
[1452,32,{"$f":"VLOOKUP(B1454,'Ark1'!C$2:D$11,2,FALSE)","v":2},1452,125,{"$f":"VLOOKUP(E1454,'Ark1'!$C$2:$D$11,2,FALSE)","v":5},1452,200,{"$f":"VLOOKUP(H1454,'Ark1'!$C$2:$D$12,2,FALSE)","v":5}]
[1453,32,{"$f":"VLOOKUP(B1455,'Ark1'!C$2:D$11,2,FALSE)","v":2},1453,125,{"$f":"VLOOKUP(E1455,'Ark1'!$C$2:$D$11,2,FALSE)","v":5},1453,200,{"$f":"VLOOKUP(H1455,'Ark1'!$C$2:$D$12,2,FALSE)","v":5}]
[1454,32,{"$f":"VLOOKUP(B1456,'Ark1'!C$2:D$11,2,FALSE)","v":2},1454,125,{"$f":"VLOOKUP(E1456,'Ark1'!$C$2:$D$11,2,FALSE)","v":5},1454,200,{"$f":"VLOOKUP(H1456,'Ark1'!$C$2:$D$12,2,FALSE)","v":5}]
[1455,32,{"$f":"VLOOKUP(B1457,'Ark1'!C$2:D$11,2,FALSE)","v":2},1455,125,{"$f":"VLOOKUP(E1457,'Ark1'!$C$2:$D$11,2,FALSE)","v":5},1455,200,{"$f":"VLOOKUP(H1457,'Ark1'!$C$2:$D$12,2,FALSE)","v":5}]
[1456,32,{"$f":"VLOOKUP(B1458,'Ark1'!C$2:D$11,2,FALSE)","v":2},1456,125,{"$f":"VLOOKUP(E1458,'Ark1'!$C$2:$D$11,2,FALSE)","v":5},1456,200,{"$f":"VLOOKUP(H1458,'Ark1'!$C$2:$D$12,2,FALSE)","v":5}]
[1457,32,{"$f":"VLOOKUP(B1459,'Ark1'!C$2:D$11,2,FALSE)","v":2},1457,125,{"$f":"VLOOKUP(E1459,'Ark1'!$C$2:$D$11,2,FALSE)","v":5},1457,200,{"$f":"VLOOKUP(H1459,'Ark1'!$C$2:$D$12,2,FALSE)","v":5}]
[1458,32,{"$f":"VLOOKUP(B1460,'Ark1'!C$2:D$11,2,FALSE)","v":2},1458,125,{"$f":"VLOOKUP(E1460,'Ark1'!$C$2:$D$11,2,FALSE)","v":5},1458,200,{"$f":"VLOOKUP(H1460,'Ark1'!$C$2:$D$12,2,FALSE)","v":5}]
[1459,32,{"$f":"VLOOKUP(B1461,'Ark1'!C$2:D$11,2,FALSE)","v":2},1459,125,{"$f":"VLOOKUP(E1461,'Ark1'!$C$2:$D$11,2,FALSE)","v":5},1459,200,{"$f":"VLOOKUP(H1461,'Ark1'!$C$2:$D$12,2,FALSE)","v":5}]
[1460,32,{"$f":"VLOOKUP(B1462,'Ark1'!C$2:D$11,2,FALSE)","v":2},1460,125,{"$f":"VLOOKUP(E1462,'Ark1'!$C$2:$D$11,2,FALSE)","v":5},1460,200,{"$f":"VLOOKUP(H1462,'Ark1'!$C$2:$D$12,2,FALSE)","v":5}]
[1461,32,{"$f":"VLOOKUP(B1463,'Ark1'!C$2:D$11,2,FALSE)","v":2},1461,125,{"$f":"VLOOKUP(E1463,'Ark1'!$C$2:$D$11,2,FALSE)","v":5},1461,200,{"$f":"VLOOKUP(H1463,'Ark1'!$C$2:$D$12,2,FALSE)","v":5}]
[1462,32,{"$f":"VLOOKUP(B1464,'Ark1'!C$2:D$11,2,FALSE)","v":2},1462,125,{"$f":"VLOOKUP(E1464,'Ark1'!$C$2:$D$11,2,FALSE)","v":5},1462,200,{"$f":"VLOOKUP(H1464,'Ark1'!$C$2:$D$12,2,FALSE)","v":5}]
[1463,32,{"$f":"VLOOKUP(B1465,'Ark1'!C$2:D$11,2,FALSE)","v":2},1463,125,{"$f":"VLOOKUP(E1465,'Ark1'!$C$2:$D$11,2,FALSE)","v":5},1463,200,{"$f":"VLOOKUP(H1465,'Ark1'!$C$2:$D$12,2,FALSE)","v":5}]
[1464,32,{"$f":"VLOOKUP(B1466,'Ark1'!C$2:D$11,2,FALSE)","v":2},1464,125,{"$f":"VLOOKUP(E1466,'Ark1'!$C$2:$D$11,2,FALSE)","v":5},1464,200,{"$f":"VLOOKUP(H1466,'Ark1'!$C$2:$D$12,2,FALSE)","v":5}]
[1465,32,{"$f":"VLOOKUP(B1467,'Ark1'!C$2:D$11,2,FALSE)","v":2},1465,125,{"$f":"VLOOKUP(E1467,'Ark1'!$C$2:$D$11,2,FALSE)","v":5},1465,200,{"$f":"VLOOKUP(H1467,'Ark1'!$C$2:$D$12,2,FALSE)","v":5}]
[1466,32,{"$f":"VLOOKUP(B1468,'Ark1'!C$2:D$11,2,FALSE)","v":2},1466,125,{"$f":"VLOOKUP(E1468,'Ark1'!$C$2:$D$11,2,FALSE)","v":5},1466,200,{"$f":"VLOOKUP(H1468,'Ark1'!$C$2:$D$12,2,FALSE)","v":5}]
[1467,32,{"$f":"VLOOKUP(B1469,'Ark1'!C$2:D$11,2,FALSE)","v":2},1467,125,{"$f":"VLOOKUP(E1469,'Ark1'!$C$2:$D$11,2,FALSE)","v":5},1467,200,{"$f":"VLOOKUP(H1469,'Ark1'!$C$2:$D$12,2,FALSE)","v":5}]
[1468,32,{"$f":"VLOOKUP(B1470,'Ark1'!C$2:D$11,2,FALSE)","v":2},1468,125,{"$f":"VLOOKUP(E1470,'Ark1'!$C$2:$D$11,2,FALSE)","v":5},1468,200,{"$f":"VLOOKUP(H1470,'Ark1'!$C$2:$D$12,2,FALSE)","v":5}]
[1469,32,{"$f":"VLOOKUP(B1471,'Ark1'!C$2:D$11,2,FALSE)","v":2},1469,125,{"$f":"VLOOKUP(E1471,'Ark1'!$C$2:$D$11,2,FALSE)","v":5},1469,200,{"$f":"VLOOKUP(H1471,'Ark1'!$C$2:$D$12,2,FALSE)","v":5}]
[1470,32,{"$f":"VLOOKUP(B1472,'Ark1'!C$2:D$11,2,FALSE)","v":2},1470,125,{"$f":"VLOOKUP(E1472,'Ark1'!$C$2:$D$11,2,FALSE)","v":5},1470,200,{"$f":"VLOOKUP(H1472,'Ark1'!$C$2:$D$12,2,FALSE)","v":5}]
[1471,32,{"$f":"VLOOKUP(B1473,'Ark1'!C$2:D$11,2,FALSE)","v":2},1471,125,{"$f":"VLOOKUP(E1473,'Ark1'!$C$2:$D$11,2,FALSE)","v":5},1471,200,{"$f":"VLOOKUP(H1473,'Ark1'!$C$2:$D$12,2,FALSE)","v":5}]
[1472,32,{"$f":"VLOOKUP(B1474,'Ark1'!C$2:D$11,2,FALSE)","v":2},1472,125,{"$f":"VLOOKUP(E1474,'Ark1'!$C$2:$D$11,2,FALSE)","v":5},1472,200,{"$f":"VLOOKUP(H1474,'Ark1'!$C$2:$D$12,2,FALSE)","v":5}]
[1473,32,{"$f":"VLOOKUP(B1475,'Ark1'!C$2:D$11,2,FALSE)","v":2},1473,125,{"$f":"VLOOKUP(E1475,'Ark1'!$C$2:$D$11,2,FALSE)","v":5},1473,200,{"$f":"VLOOKUP(H1475,'Ark1'!$C$2:$D$12,2,FALSE)","v":5}]
[1474,32,{"$f":"VLOOKUP(B1476,'Ark1'!C$2:D$11,2,FALSE)","v":2},1474,125,{"$f":"VLOOKUP(E1476,'Ark1'!$C$2:$D$11,2,FALSE)","v":5},1474,200,{"$f":"VLOOKUP(H1476,'Ark1'!$C$2:$D$12,2,FALSE)","v":5}]
[1475,32,{"$f":"VLOOKUP(B1477,'Ark1'!C$2:D$11,2,FALSE)","v":2},1475,125,{"$f":"VLOOKUP(E1477,'Ark1'!$C$2:$D$11,2,FALSE)","v":5},1475,200,{"$f":"VLOOKUP(H1477,'Ark1'!$C$2:$D$12,2,FALSE)","v":5}]
[1476,32,{"$f":"VLOOKUP(B1478,'Ark1'!C$2:D$11,2,FALSE)","v":2},1476,125,{"$f":"VLOOKUP(E1478,'Ark1'!$C$2:$D$11,2,FALSE)","v":5},1476,200,{"$f":"VLOOKUP(H1478,'Ark1'!$C$2:$D$12,2,FALSE)","v":5}]
[1477,32,{"$f":"VLOOKUP(B1479,'Ark1'!C$2:D$11,2,FALSE)","v":2},1477,125,{"$f":"VLOOKUP(E1479,'Ark1'!$C$2:$D$11,2,FALSE)","v":5},1477,200,{"$f":"VLOOKUP(H1479,'Ark1'!$C$2:$D$12,2,FALSE)","v":5}]
[1478,32,{"$f":"VLOOKUP(B1480,'Ark1'!C$2:D$11,2,FALSE)","v":2},1478,125,{"$f":"VLOOKUP(E1480,'Ark1'!$C$2:$D$11,2,FALSE)","v":5},1478,200,{"$f":"VLOOKUP(H1480,'Ark1'!$C$2:$D$12,2,FALSE)","v":5}]
[1479,32,{"$f":"VLOOKUP(B1481,'Ark1'!C$2:D$11,2,FALSE)","v":2},1479,125,{"$f":"VLOOKUP(E1481,'Ark1'!$C$2:$D$11,2,FALSE)","v":5},1479,200,{"$f":"VLOOKUP(H1481,'Ark1'!$C$2:$D$12,2,FALSE)","v":5}]
[1480,32,{"$f":"VLOOKUP(B1482,'Ark1'!C$2:D$11,2,FALSE)","v":2},1480,125,{"$f":"VLOOKUP(E1482,'Ark1'!$C$2:$D$11,2,FALSE)","v":5},1480,200,{"$f":"VLOOKUP(H1482,'Ark1'!$C$2:$D$12,2,FALSE)","v":5}]
[1481,32,{"$f":"VLOOKUP(B1483,'Ark1'!C$2:D$11,2,FALSE)","v":2},1481,125,{"$f":"VLOOKUP(E1483,'Ark1'!$C$2:$D$11,2,FALSE)","v":5},1481,200,{"$f":"VLOOKUP(H1483,'Ark1'!$C$2:$D$12,2,FALSE)","v":5}]
[1482,32,{"$f":"VLOOKUP(B1484,'Ark1'!C$2:D$11,2,FALSE)","v":2},1482,125,{"$f":"VLOOKUP(E1484,'Ark1'!$C$2:$D$11,2,FALSE)","v":5},1482,200,{"$f":"VLOOKUP(H1484,'Ark1'!$C$2:$D$12,2,FALSE)","v":5}]
[1483,32,{"$f":"VLOOKUP(B1485,'Ark1'!C$2:D$11,2,FALSE)","v":2},1483,125,{"$f":"VLOOKUP(E1485,'Ark1'!$C$2:$D$11,2,FALSE)","v":5},1483,200,{"$f":"VLOOKUP(H1485,'Ark1'!$C$2:$D$12,2,FALSE)","v":5}]
[1484,32,{"$f":"VLOOKUP(B1486,'Ark1'!C$2:D$11,2,FALSE)","v":2},1484,125,{"$f":"VLOOKUP(E1486,'Ark1'!$C$2:$D$11,2,FALSE)","v":5},1484,200,{"$f":"VLOOKUP(H1486,'Ark1'!$C$2:$D$12,2,FALSE)","v":5}]
[1485,32,{"$f":"VLOOKUP(B1487,'Ark1'!C$2:D$11,2,FALSE)","v":2},1485,125,{"$f":"VLOOKUP(E1487,'Ark1'!$C$2:$D$11,2,FALSE)","v":5},1485,200,{"$f":"VLOOKUP(H1487,'Ark1'!$C$2:$D$12,2,FALSE)","v":5}]
[1486,32,{"$f":"VLOOKUP(B1488,'Ark1'!C$2:D$11,2,FALSE)","v":2},1486,125,{"$f":"VLOOKUP(E1488,'Ark1'!$C$2:$D$11,2,FALSE)","v":5},1486,200,{"$f":"VLOOKUP(H1488,'Ark1'!$C$2:$D$12,2,FALSE)","v":5}]
[1487,32,{"$f":"VLOOKUP(B1489,'Ark1'!C$2:D$11,2,FALSE)","v":2},1487,125,{"$f":"VLOOKUP(E1489,'Ark1'!$C$2:$D$11,2,FALSE)","v":5},1487,200,{"$f":"VLOOKUP(H1489,'Ark1'!$C$2:$D$12,2,FALSE)","v":5}]
[1488,32,{"$f":"VLOOKUP(B1490,'Ark1'!C$2:D$11,2,FALSE)","v":2},1488,125,{"$f":"VLOOKUP(E1490,'Ark1'!$C$2:$D$11,2,FALSE)","v":5},1488,200,{"$f":"VLOOKUP(H1490,'Ark1'!$C$2:$D$12,2,FALSE)","v":5}]
[1489,32,{"$f":"VLOOKUP(B1491,'Ark1'!C$2:D$11,2,FALSE)","v":2},1489,125,{"$f":"VLOOKUP(E1491,'Ark1'!$C$2:$D$11,2,FALSE)","v":5},1489,200,{"$f":"VLOOKUP(H1491,'Ark1'!$C$2:$D$12,2,FALSE)","v":5}]
[1490,32,{"$f":"VLOOKUP(B1492,'Ark1'!C$2:D$11,2,FALSE)","v":2},1490,125,{"$f":"VLOOKUP(E1492,'Ark1'!$C$2:$D$11,2,FALSE)","v":5},1490,200,{"$f":"VLOOKUP(H1492,'Ark1'!$C$2:$D$12,2,FALSE)","v":5}]
[1491,32,{"$f":"VLOOKUP(B1493,'Ark1'!C$2:D$11,2,FALSE)","v":2},1491,125,{"$f":"VLOOKUP(E1493,'Ark1'!$C$2:$D$11,2,FALSE)","v":5},1491,200,{"$f":"VLOOKUP(H1493,'Ark1'!$C$2:$D$12,2,FALSE)","v":5}]
[1492,32,{"$f":"VLOOKUP(B1494,'Ark1'!C$2:D$11,2,FALSE)","v":2},1492,125,{"$f":"VLOOKUP(E1494,'Ark1'!$C$2:$D$11,2,FALSE)","v":5},1492,200,{"$f":"VLOOKUP(H1494,'Ark1'!$C$2:$D$12,2,FALSE)","v":5}]
[1493,32,{"$f":"VLOOKUP(B1495,'Ark1'!C$2:D$11,2,FALSE)","v":2},1493,125,{"$f":"VLOOKUP(E1495,'Ark1'!$C$2:$D$11,2,FALSE)","v":5},1493,200,{"$f":"VLOOKUP(H1495,'Ark1'!$C$2:$D$12,2,FALSE)","v":5}]
[1494,32,{"$f":"VLOOKUP(B1496,'Ark1'!C$2:D$11,2,FALSE)","v":2},1494,125,{"$f":"VLOOKUP(E1496,'Ark1'!$C$2:$D$11,2,FALSE)","v":5},1494,200,{"$f":"VLOOKUP(H1496,'Ark1'!$C$2:$D$12,2,FALSE)","v":5}]
[1495,32,{"$f":"VLOOKUP(B1497,'Ark1'!C$2:D$11,2,FALSE)","v":2},1495,125,{"$f":"VLOOKUP(E1497,'Ark1'!$C$2:$D$11,2,FALSE)","v":5},1495,200,{"$f":"VLOOKUP(H1497,'Ark1'!$C$2:$D$12,2,FALSE)","v":5}]
[1496,32,{"$f":"VLOOKUP(B1498,'Ark1'!C$2:D$11,2,FALSE)","v":2},1496,125,{"$f":"VLOOKUP(E1498,'Ark1'!$C$2:$D$11,2,FALSE)","v":5},1496,200,{"$f":"VLOOKUP(H1498,'Ark1'!$C$2:$D$12,2,FALSE)","v":5}]
[1497,32,{"$f":"VLOOKUP(B1499,'Ark1'!C$2:D$11,2,FALSE)","v":2},1497,125,{"$f":"VLOOKUP(E1499,'Ark1'!$C$2:$D$11,2,FALSE)","v":5},1497,200,{"$f":"VLOOKUP(H1499,'Ark1'!$C$2:$D$12,2,FALSE)","v":5}]
[1498,32,{"$f":"VLOOKUP(B1500,'Ark1'!C$2:D$11,2,FALSE)","v":2},1498,125,{"$f":"VLOOKUP(E1500,'Ark1'!$C$2:$D$11,2,FALSE)","v":5},1498,200,{"$f":"VLOOKUP(H1500,'Ark1'!$C$2:$D$12,2,FALSE)","v":5}]
[1499,32,{"$f":"VLOOKUP(B1501,'Ark1'!C$2:D$11,2,FALSE)","v":2},1499,125,{"$f":"VLOOKUP(E1501,'Ark1'!$C$2:$D$11,2,FALSE)","v":5},1499,200,{"$f":"VLOOKUP(H1501,'Ark1'!$C$2:$D$12,2,FALSE)","v":5}]
[1500,32,{"$f":"VLOOKUP(B1502,'Ark1'!C$2:D$11,2,FALSE)","v":2},1500,125,{"$f":"VLOOKUP(E1502,'Ark1'!$C$2:$D$11,2,FALSE)","v":5},1500,200,{"$f":"VLOOKUP(H1502,'Ark1'!$C$2:$D$12,2,FALSE)","v":5}]
[1501,32,{"$f":"VLOOKUP(B1503,'Ark1'!C$2:D$11,2,FALSE)","v":2},1501,125,{"$f":"VLOOKUP(E1503,'Ark1'!$C$2:$D$11,2,FALSE)","v":5},1501,200,{"$f":"VLOOKUP(H1503,'Ark1'!$C$2:$D$12,2,FALSE)","v":5}]
[1502,32,{"$f":"VLOOKUP(B1504,'Ark1'!C$2:D$11,2,FALSE)","v":2},1502,125,{"$f":"VLOOKUP(E1504,'Ark1'!$C$2:$D$11,2,FALSE)","v":5},1502,200,{"$f":"VLOOKUP(H1504,'Ark1'!$C$2:$D$12,2,FALSE)","v":5}]
[1503,32,{"$f":"VLOOKUP(B1505,'Ark1'!C$2:D$11,2,FALSE)","v":2},1503,125,{"$f":"VLOOKUP(E1505,'Ark1'!$C$2:$D$11,2,FALSE)","v":5},1503,200,{"$f":"VLOOKUP(H1505,'Ark1'!$C$2:$D$12,2,FALSE)","v":5}]
[1504,32,{"$f":"VLOOKUP(B1506,'Ark1'!C$2:D$11,2,FALSE)","v":2},1504,125,{"$f":"VLOOKUP(E1506,'Ark1'!$C$2:$D$11,2,FALSE)","v":5},1504,200,{"$f":"VLOOKUP(H1506,'Ark1'!$C$2:$D$12,2,FALSE)","v":5}]
[1505,32,{"$f":"VLOOKUP(B1507,'Ark1'!C$2:D$11,2,FALSE)","v":2},1505,125,{"$f":"VLOOKUP(E1507,'Ark1'!$C$2:$D$11,2,FALSE)","v":5},1505,200,{"$f":"VLOOKUP(H1507,'Ark1'!$C$2:$D$12,2,FALSE)","v":5}]
[1506,32,{"$f":"VLOOKUP(B1508,'Ark1'!C$2:D$11,2,FALSE)","v":2},1506,125,{"$f":"VLOOKUP(E1508,'Ark1'!$C$2:$D$11,2,FALSE)","v":5},1506,200,{"$f":"VLOOKUP(H1508,'Ark1'!$C$2:$D$12,2,FALSE)","v":5}]
[1507,32,{"$f":"VLOOKUP(B1509,'Ark1'!C$2:D$11,2,FALSE)","v":2},1507,125,{"$f":"VLOOKUP(E1509,'Ark1'!$C$2:$D$11,2,FALSE)","v":5},1507,200,{"$f":"VLOOKUP(H1509,'Ark1'!$C$2:$D$12,2,FALSE)","v":5}]
[1508,32,{"$f":"VLOOKUP(B1510,'Ark1'!C$2:D$11,2,FALSE)","v":2},1508,125,{"$f":"VLOOKUP(E1510,'Ark1'!$C$2:$D$11,2,FALSE)","v":5},1508,200,{"$f":"VLOOKUP(H1510,'Ark1'!$C$2:$D$12,2,FALSE)","v":5}]
[1509,32,{"$f":"VLOOKUP(B1511,'Ark1'!C$2:D$11,2,FALSE)","v":2},1509,125,{"$f":"VLOOKUP(E1511,'Ark1'!$C$2:$D$11,2,FALSE)","v":5},1509,200,{"$f":"VLOOKUP(H1511,'Ark1'!$C$2:$D$12,2,FALSE)","v":5}]
[1510,32,{"$f":"VLOOKUP(B1512,'Ark1'!C$2:D$11,2,FALSE)","v":2},1510,125,{"$f":"VLOOKUP(E1512,'Ark1'!$C$2:$D$11,2,FALSE)","v":5},1510,200,{"$f":"VLOOKUP(H1512,'Ark1'!$C$2:$D$12,2,FALSE)","v":5}]
[1511,32,{"$f":"VLOOKUP(B1513,'Ark1'!C$2:D$11,2,FALSE)","v":2},1511,125,{"$f":"VLOOKUP(E1513,'Ark1'!$C$2:$D$11,2,FALSE)","v":5},1511,200,{"$f":"VLOOKUP(H1513,'Ark1'!$C$2:$D$12,2,FALSE)","v":5}]
[1512,32,{"$f":"VLOOKUP(B1514,'Ark1'!C$2:D$11,2,FALSE)","v":2},1512,125,{"$f":"VLOOKUP(E1514,'Ark1'!$C$2:$D$11,2,FALSE)","v":5},1512,200,{"$f":"VLOOKUP(H1514,'Ark1'!$C$2:$D$12,2,FALSE)","v":5}]
[1513,32,{"$f":"VLOOKUP(B1515,'Ark1'!C$2:D$11,2,FALSE)","v":2},1513,125,{"$f":"VLOOKUP(E1515,'Ark1'!$C$2:$D$11,2,FALSE)","v":5},1513,200,{"$f":"VLOOKUP(H1515,'Ark1'!$C$2:$D$12,2,FALSE)","v":5}]
[1514,32,{"$f":"VLOOKUP(B1516,'Ark1'!C$2:D$11,2,FALSE)","v":2},1514,125,{"$f":"VLOOKUP(E1516,'Ark1'!$C$2:$D$11,2,FALSE)","v":5},1514,200,{"$f":"VLOOKUP(H1516,'Ark1'!$C$2:$D$12,2,FALSE)","v":5}]
[1515,32,{"$f":"VLOOKUP(B1517,'Ark1'!C$2:D$11,2,FALSE)","v":2},1515,125,{"$f":"VLOOKUP(E1517,'Ark1'!$C$2:$D$11,2,FALSE)","v":5},1515,200,{"$f":"VLOOKUP(H1517,'Ark1'!$C$2:$D$12,2,FALSE)","v":5}]
[1516,32,{"$f":"VLOOKUP(B1518,'Ark1'!C$2:D$11,2,FALSE)","v":2},1516,125,{"$f":"VLOOKUP(E1518,'Ark1'!$C$2:$D$11,2,FALSE)","v":5},1516,200,{"$f":"VLOOKUP(H1518,'Ark1'!$C$2:$D$12,2,FALSE)","v":5}]
[1517,32,{"$f":"VLOOKUP(B1519,'Ark1'!C$2:D$11,2,FALSE)","v":2},1517,125,{"$f":"VLOOKUP(E1519,'Ark1'!$C$2:$D$11,2,FALSE)","v":5},1517,200,{"$f":"VLOOKUP(H1519,'Ark1'!$C$2:$D$12,2,FALSE)","v":5}]
[1518,32,{"$f":"VLOOKUP(B1520,'Ark1'!C$2:D$11,2,FALSE)","v":2},1518,125,{"$f":"VLOOKUP(E1520,'Ark1'!$C$2:$D$11,2,FALSE)","v":5},1518,200,{"$f":"VLOOKUP(H1520,'Ark1'!$C$2:$D$12,2,FALSE)","v":5}]
[1519,32,{"$f":"VLOOKUP(B1521,'Ark1'!C$2:D$11,2,FALSE)","v":2},1519,125,{"$f":"VLOOKUP(E1521,'Ark1'!$C$2:$D$11,2,FALSE)","v":5},1519,200,{"$f":"VLOOKUP(H1521,'Ark1'!$C$2:$D$12,2,FALSE)","v":5}]
[1520,32,{"$f":"VLOOKUP(B1522,'Ark1'!C$2:D$11,2,FALSE)","v":2},1520,125,{"$f":"VLOOKUP(E1522,'Ark1'!$C$2:$D$11,2,FALSE)","v":5},1520,200,{"$f":"VLOOKUP(H1522,'Ark1'!$C$2:$D$12,2,FALSE)","v":5}]
[1521,32,{"$f":"VLOOKUP(B1523,'Ark1'!C$2:D$11,2,FALSE)","v":2},1521,125,{"$f":"VLOOKUP(E1523,'Ark1'!$C$2:$D$11,2,FALSE)","v":5},1521,200,{"$f":"VLOOKUP(H1523,'Ark1'!$C$2:$D$12,2,FALSE)","v":5}]
[1522,32,{"$f":"VLOOKUP(B1524,'Ark1'!C$2:D$11,2,FALSE)","v":2},1522,125,{"$f":"VLOOKUP(E1524,'Ark1'!$C$2:$D$11,2,FALSE)","v":5},1522,200,{"$f":"VLOOKUP(H1524,'Ark1'!$C$2:$D$12,2,FALSE)","v":5}]
[1523,32,{"$f":"VLOOKUP(B1525,'Ark1'!C$2:D$11,2,FALSE)","v":2},1523,125,{"$f":"VLOOKUP(E1525,'Ark1'!$C$2:$D$11,2,FALSE)","v":5},1523,200,{"$f":"VLOOKUP(H1525,'Ark1'!$C$2:$D$12,2,FALSE)","v":5}]
[1524,32,{"$f":"VLOOKUP(B1526,'Ark1'!C$2:D$11,2,FALSE)","v":2},1524,125,{"$f":"VLOOKUP(E1526,'Ark1'!$C$2:$D$11,2,FALSE)","v":5},1524,200,{"$f":"VLOOKUP(H1526,'Ark1'!$C$2:$D$12,2,FALSE)","v":5}]
[1525,32,{"$f":"VLOOKUP(B1527,'Ark1'!C$2:D$11,2,FALSE)","v":2},1525,125,{"$f":"VLOOKUP(E1527,'Ark1'!$C$2:$D$11,2,FALSE)","v":5},1525,200,{"$f":"VLOOKUP(H1527,'Ark1'!$C$2:$D$12,2,FALSE)","v":5}]
[1526,32,{"$f":"VLOOKUP(B1528,'Ark1'!C$2:D$11,2,FALSE)","v":2},1526,125,{"$f":"VLOOKUP(E1528,'Ark1'!$C$2:$D$11,2,FALSE)","v":5},1526,200,{"$f":"VLOOKUP(H1528,'Ark1'!$C$2:$D$12,2,FALSE)","v":5}]
[1527,32,{"$f":"VLOOKUP(B1529,'Ark1'!C$2:D$11,2,FALSE)","v":2},1527,125,{"$f":"VLOOKUP(E1529,'Ark1'!$C$2:$D$11,2,FALSE)","v":5},1527,200,{"$f":"VLOOKUP(H1529,'Ark1'!$C$2:$D$12,2,FALSE)","v":5}]
[1528,32,{"$f":"VLOOKUP(B1530,'Ark1'!C$2:D$11,2,FALSE)","v":2},1528,125,{"$f":"VLOOKUP(E1530,'Ark1'!$C$2:$D$11,2,FALSE)","v":5},1528,200,{"$f":"VLOOKUP(H1530,'Ark1'!$C$2:$D$12,2,FALSE)","v":5}]
[1529,32,{"$f":"VLOOKUP(B1531,'Ark1'!C$2:D$11,2,FALSE)","v":2},1529,125,{"$f":"VLOOKUP(E1531,'Ark1'!$C$2:$D$11,2,FALSE)","v":5},1529,200,{"$f":"VLOOKUP(H1531,'Ark1'!$C$2:$D$12,2,FALSE)","v":5}]
[1530,32,{"$f":"VLOOKUP(B1532,'Ark1'!C$2:D$11,2,FALSE)","v":2},1530,125,{"$f":"VLOOKUP(E1532,'Ark1'!$C$2:$D$11,2,FALSE)","v":5},1530,200,{"$f":"VLOOKUP(H1532,'Ark1'!$C$2:$D$12,2,FALSE)","v":5}]
[1531,32,{"$f":"VLOOKUP(B1533,'Ark1'!C$2:D$11,2,FALSE)","v":2},1531,125,{"$f":"VLOOKUP(E1533,'Ark1'!$C$2:$D$11,2,FALSE)","v":5},1531,200,{"$f":"VLOOKUP(H1533,'Ark1'!$C$2:$D$12,2,FALSE)","v":5}]
[1532,32,{"$f":"VLOOKUP(B1534,'Ark1'!C$2:D$11,2,FALSE)","v":2},1532,125,{"$f":"VLOOKUP(E1534,'Ark1'!$C$2:$D$11,2,FALSE)","v":5},1532,200,{"$f":"VLOOKUP(H1534,'Ark1'!$C$2:$D$12,2,FALSE)","v":5}]
[1533,32,{"$f":"VLOOKUP(B1535,'Ark1'!C$2:D$11,2,FALSE)","v":2},1533,125,{"$f":"VLOOKUP(E1535,'Ark1'!$C$2:$D$11,2,FALSE)","v":5},1533,200,{"$f":"VLOOKUP(H1535,'Ark1'!$C$2:$D$12,2,FALSE)","v":5}]
[1534,32,{"$f":"VLOOKUP(B1536,'Ark1'!C$2:D$11,2,FALSE)","v":2},1534,125,{"$f":"VLOOKUP(E1536,'Ark1'!$C$2:$D$11,2,FALSE)","v":5},1534,200,{"$f":"VLOOKUP(H1536,'Ark1'!$C$2:$D$12,2,FALSE)","v":5}]
[1535,32,{"$f":"VLOOKUP(B1537,'Ark1'!C$2:D$11,2,FALSE)","v":2},1535,125,{"$f":"VLOOKUP(E1537,'Ark1'!$C$2:$D$11,2,FALSE)","v":5},1535,200,{"$f":"VLOOKUP(H1537,'Ark1'!$C$2:$D$12,2,FALSE)","v":5}]
[1536,32,{"$f":"VLOOKUP(B1538,'Ark1'!C$2:D$11,2,FALSE)","v":2},1536,125,{"$f":"VLOOKUP(E1538,'Ark1'!$C$2:$D$11,2,FALSE)","v":5},1536,200,{"$f":"VLOOKUP(H1538,'Ark1'!$C$2:$D$12,2,FALSE)","v":5}]
[1537,32,{"$f":"VLOOKUP(B1539,'Ark1'!C$2:D$11,2,FALSE)","v":2},1537,125,{"$f":"VLOOKUP(E1539,'Ark1'!$C$2:$D$11,2,FALSE)","v":5},1537,200,{"$f":"VLOOKUP(H1539,'Ark1'!$C$2:$D$12,2,FALSE)","v":5}]
[1538,32,{"$f":"VLOOKUP(B1540,'Ark1'!C$2:D$11,2,FALSE)","v":2},1538,125,{"$f":"VLOOKUP(E1540,'Ark1'!$C$2:$D$11,2,FALSE)","v":5},1538,200,{"$f":"VLOOKUP(H1540,'Ark1'!$C$2:$D$12,2,FALSE)","v":5}]
[1539,32,{"$f":"VLOOKUP(B1541,'Ark1'!C$2:D$11,2,FALSE)","v":2},1539,125,{"$f":"VLOOKUP(E1541,'Ark1'!$C$2:$D$11,2,FALSE)","v":5},1539,200,{"$f":"VLOOKUP(H1541,'Ark1'!$C$2:$D$12,2,FALSE)","v":5}]
[1540,32,{"$f":"VLOOKUP(B1542,'Ark1'!C$2:D$11,2,FALSE)","v":2},1540,125,{"$f":"VLOOKUP(E1542,'Ark1'!$C$2:$D$11,2,FALSE)","v":5},1540,200,{"$f":"VLOOKUP(H1542,'Ark1'!$C$2:$D$12,2,FALSE)","v":5}]
[1541,32,{"$f":"VLOOKUP(B1543,'Ark1'!C$2:D$11,2,FALSE)","v":2},1541,125,{"$f":"VLOOKUP(E1543,'Ark1'!$C$2:$D$11,2,FALSE)","v":5},1541,200,{"$f":"VLOOKUP(H1543,'Ark1'!$C$2:$D$12,2,FALSE)","v":5}]
[1542,32,{"$f":"VLOOKUP(B1544,'Ark1'!C$2:D$11,2,FALSE)","v":2},1542,125,{"$f":"VLOOKUP(E1544,'Ark1'!$C$2:$D$11,2,FALSE)","v":5},1542,200,{"$f":"VLOOKUP(H1544,'Ark1'!$C$2:$D$12,2,FALSE)","v":5}]
[1543,32,{"$f":"VLOOKUP(B1545,'Ark1'!C$2:D$11,2,FALSE)","v":2},1543,125,{"$f":"VLOOKUP(E1545,'Ark1'!$C$2:$D$11,2,FALSE)","v":5},1543,200,{"$f":"VLOOKUP(H1545,'Ark1'!$C$2:$D$12,2,FALSE)","v":5}]
[1544,32,{"$f":"VLOOKUP(B1546,'Ark1'!C$2:D$11,2,FALSE)","v":2},1544,125,{"$f":"VLOOKUP(E1546,'Ark1'!$C$2:$D$11,2,FALSE)","v":5},1544,200,{"$f":"VLOOKUP(H1546,'Ark1'!$C$2:$D$12,2,FALSE)","v":5}]
[1545,32,{"$f":"VLOOKUP(B1547,'Ark1'!C$2:D$11,2,FALSE)","v":2},1545,125,{"$f":"VLOOKUP(E1547,'Ark1'!$C$2:$D$11,2,FALSE)","v":5},1545,200,{"$f":"VLOOKUP(H1547,'Ark1'!$C$2:$D$12,2,FALSE)","v":5}]
[1546,32,{"$f":"VLOOKUP(B1548,'Ark1'!C$2:D$11,2,FALSE)","v":2},1546,125,{"$f":"VLOOKUP(E1548,'Ark1'!$C$2:$D$11,2,FALSE)","v":5},1546,200,{"$f":"VLOOKUP(H1548,'Ark1'!$C$2:$D$12,2,FALSE)","v":5}]
[1547,32,{"$f":"VLOOKUP(B1549,'Ark1'!C$2:D$11,2,FALSE)","v":2},1547,125,{"$f":"VLOOKUP(E1549,'Ark1'!$C$2:$D$11,2,FALSE)","v":5},1547,200,{"$f":"VLOOKUP(H1549,'Ark1'!$C$2:$D$12,2,FALSE)","v":5}]
[1548,32,{"$f":"VLOOKUP(B1550,'Ark1'!C$2:D$11,2,FALSE)","v":2},1548,125,{"$f":"VLOOKUP(E1550,'Ark1'!$C$2:$D$11,2,FALSE)","v":5},1548,200,{"$f":"VLOOKUP(H1550,'Ark1'!$C$2:$D$12,2,FALSE)","v":5}]
[1549,32,{"$f":"VLOOKUP(B1551,'Ark1'!C$2:D$11,2,FALSE)","v":2},1549,125,{"$f":"VLOOKUP(E1551,'Ark1'!$C$2:$D$11,2,FALSE)","v":5},1549,200,{"$f":"VLOOKUP(H1551,'Ark1'!$C$2:$D$12,2,FALSE)","v":5}]
[1550,32,{"$f":"VLOOKUP(B1552,'Ark1'!C$2:D$11,2,FALSE)","v":2},1550,125,{"$f":"VLOOKUP(E1552,'Ark1'!$C$2:$D$11,2,FALSE)","v":5},1550,200,{"$f":"VLOOKUP(H1552,'Ark1'!$C$2:$D$12,2,FALSE)","v":5}]
[1551,32,{"$f":"VLOOKUP(B1553,'Ark1'!C$2:D$11,2,FALSE)","v":2},1551,125,{"$f":"VLOOKUP(E1553,'Ark1'!$C$2:$D$11,2,FALSE)","v":5},1551,200,{"$f":"VLOOKUP(H1553,'Ark1'!$C$2:$D$12,2,FALSE)","v":5}]
[1552,32,{"$f":"VLOOKUP(B1554,'Ark1'!C$2:D$11,2,FALSE)","v":2},1552,125,{"$f":"VLOOKUP(E1554,'Ark1'!$C$2:$D$11,2,FALSE)","v":5},1552,200,{"$f":"VLOOKUP(H1554,'Ark1'!$C$2:$D$12,2,FALSE)","v":5}]
[1553,32,{"$f":"VLOOKUP(B1555,'Ark1'!C$2:D$11,2,FALSE)","v":2},1553,125,{"$f":"VLOOKUP(E1555,'Ark1'!$C$2:$D$11,2,FALSE)","v":5},1553,200,{"$f":"VLOOKUP(H1555,'Ark1'!$C$2:$D$12,2,FALSE)","v":5}]
[1554,32,{"$f":"VLOOKUP(B1556,'Ark1'!C$2:D$11,2,FALSE)","v":2},1554,125,{"$f":"VLOOKUP(E1556,'Ark1'!$C$2:$D$11,2,FALSE)","v":5},1554,200,{"$f":"VLOOKUP(H1556,'Ark1'!$C$2:$D$12,2,FALSE)","v":5}]
[1555,32,{"$f":"VLOOKUP(B1557,'Ark1'!C$2:D$11,2,FALSE)","v":2},1555,125,{"$f":"VLOOKUP(E1557,'Ark1'!$C$2:$D$11,2,FALSE)","v":5},1555,200,{"$f":"VLOOKUP(H1557,'Ark1'!$C$2:$D$12,2,FALSE)","v":5}]
[1556,32,{"$f":"VLOOKUP(B1558,'Ark1'!C$2:D$11,2,FALSE)","v":2},1556,125,{"$f":"VLOOKUP(E1558,'Ark1'!$C$2:$D$11,2,FALSE)","v":5},1556,200,{"$f":"VLOOKUP(H1558,'Ark1'!$C$2:$D$12,2,FALSE)","v":5}]
[1557,32,{"$f":"VLOOKUP(B1559,'Ark1'!C$2:D$11,2,FALSE)","v":2},1557,125,{"$f":"VLOOKUP(E1559,'Ark1'!$C$2:$D$11,2,FALSE)","v":5},1557,200,{"$f":"VLOOKUP(H1559,'Ark1'!$C$2:$D$12,2,FALSE)","v":5}]
[1558,32,{"$f":"VLOOKUP(B1560,'Ark1'!C$2:D$11,2,FALSE)","v":2},1558,125,{"$f":"VLOOKUP(E1560,'Ark1'!$C$2:$D$11,2,FALSE)","v":5},1558,200,{"$f":"VLOOKUP(H1560,'Ark1'!$C$2:$D$12,2,FALSE)","v":5}]
[1559,32,{"$f":"VLOOKUP(B1561,'Ark1'!C$2:D$11,2,FALSE)","v":2},1559,125,{"$f":"VLOOKUP(E1561,'Ark1'!$C$2:$D$11,2,FALSE)","v":5},1559,200,{"$f":"VLOOKUP(H1561,'Ark1'!$C$2:$D$12,2,FALSE)","v":5}]
[1560,32,{"$f":"VLOOKUP(B1562,'Ark1'!C$2:D$11,2,FALSE)","v":2},1560,125,{"$f":"VLOOKUP(E1562,'Ark1'!$C$2:$D$11,2,FALSE)","v":5},1560,200,{"$f":"VLOOKUP(H1562,'Ark1'!$C$2:$D$12,2,FALSE)","v":5}]
[1561,32,{"$f":"VLOOKUP(B1563,'Ark1'!C$2:D$11,2,FALSE)","v":2},1561,125,{"$f":"VLOOKUP(E1563,'Ark1'!$C$2:$D$11,2,FALSE)","v":5},1561,200,{"$f":"VLOOKUP(H1563,'Ark1'!$C$2:$D$12,2,FALSE)","v":5}]
[1562,32,{"$f":"VLOOKUP(B1564,'Ark1'!C$2:D$11,2,FALSE)","v":2},1562,125,{"$f":"VLOOKUP(E1564,'Ark1'!$C$2:$D$11,2,FALSE)","v":5},1562,200,{"$f":"VLOOKUP(H1564,'Ark1'!$C$2:$D$12,2,FALSE)","v":5}]
[1563,32,{"$f":"VLOOKUP(B1565,'Ark1'!C$2:D$11,2,FALSE)","v":2},1563,125,{"$f":"VLOOKUP(E1565,'Ark1'!$C$2:$D$11,2,FALSE)","v":5},1563,200,{"$f":"VLOOKUP(H1565,'Ark1'!$C$2:$D$12,2,FALSE)","v":5}]
[1564,32,{"$f":"VLOOKUP(B1566,'Ark1'!C$2:D$11,2,FALSE)","v":2},1564,125,{"$f":"VLOOKUP(E1566,'Ark1'!$C$2:$D$11,2,FALSE)","v":5},1564,200,{"$f":"VLOOKUP(H1566,'Ark1'!$C$2:$D$12,2,FALSE)","v":5}]
[1565,32,{"$f":"VLOOKUP(B1567,'Ark1'!C$2:D$11,2,FALSE)","v":2},1565,125,{"$f":"VLOOKUP(E1567,'Ark1'!$C$2:$D$11,2,FALSE)","v":5},1565,200,{"$f":"VLOOKUP(H1567,'Ark1'!$C$2:$D$12,2,FALSE)","v":5}]
[1566,32,{"$f":"VLOOKUP(B1568,'Ark1'!C$2:D$11,2,FALSE)","v":2},1566,125,{"$f":"VLOOKUP(E1568,'Ark1'!$C$2:$D$11,2,FALSE)","v":5},1566,200,{"$f":"VLOOKUP(H1568,'Ark1'!$C$2:$D$12,2,FALSE)","v":5}]
[1567,32,{"$f":"VLOOKUP(B1569,'Ark1'!C$2:D$11,2,FALSE)","v":2},1567,125,{"$f":"VLOOKUP(E1569,'Ark1'!$C$2:$D$11,2,FALSE)","v":5},1567,200,{"$f":"VLOOKUP(H1569,'Ark1'!$C$2:$D$12,2,FALSE)","v":5}]
[1568,32,{"$f":"VLOOKUP(B1570,'Ark1'!C$2:D$11,2,FALSE)","v":2},1568,125,{"$f":"VLOOKUP(E1570,'Ark1'!$C$2:$D$11,2,FALSE)","v":5},1568,200,{"$f":"VLOOKUP(H1570,'Ark1'!$C$2:$D$12,2,FALSE)","v":5}]
[1569,32,{"$f":"VLOOKUP(B1571,'Ark1'!C$2:D$11,2,FALSE)","v":2},1569,125,{"$f":"VLOOKUP(E1571,'Ark1'!$C$2:$D$11,2,FALSE)","v":5},1569,200,{"$f":"VLOOKUP(H1571,'Ark1'!$C$2:$D$12,2,FALSE)","v":5}]
[1570,32,{"$f":"VLOOKUP(B1572,'Ark1'!C$2:D$11,2,FALSE)","v":2},1570,125,{"$f":"VLOOKUP(E1572,'Ark1'!$C$2:$D$11,2,FALSE)","v":5},1570,200,{"$f":"VLOOKUP(H1572,'Ark1'!$C$2:$D$12,2,FALSE)","v":5}]
[1571,32,{"$f":"VLOOKUP(B1573,'Ark1'!C$2:D$11,2,FALSE)","v":2},1571,125,{"$f":"VLOOKUP(E1573,'Ark1'!$C$2:$D$11,2,FALSE)","v":5},1571,200,{"$f":"VLOOKUP(H1573,'Ark1'!$C$2:$D$12,2,FALSE)","v":5}]
[1572,32,{"$f":"VLOOKUP(B1574,'Ark1'!C$2:D$11,2,FALSE)","v":2},1572,125,{"$f":"VLOOKUP(E1574,'Ark1'!$C$2:$D$11,2,FALSE)","v":5},1572,200,{"$f":"VLOOKUP(H1574,'Ark1'!$C$2:$D$12,2,FALSE)","v":5}]
[1573,32,{"$f":"VLOOKUP(B1575,'Ark1'!C$2:D$11,2,FALSE)","v":2},1573,125,{"$f":"VLOOKUP(E1575,'Ark1'!$C$2:$D$11,2,FALSE)","v":5},1573,200,{"$f":"VLOOKUP(H1575,'Ark1'!$C$2:$D$12,2,FALSE)","v":5}]
[1574,32,{"$f":"VLOOKUP(B1576,'Ark1'!C$2:D$11,2,FALSE)","v":2},1574,125,{"$f":"VLOOKUP(E1576,'Ark1'!$C$2:$D$11,2,FALSE)","v":5},1574,200,{"$f":"VLOOKUP(H1576,'Ark1'!$C$2:$D$12,2,FALSE)","v":5}]
[1575,32,{"$f":"VLOOKUP(B1577,'Ark1'!C$2:D$11,2,FALSE)","v":2},1575,125,{"$f":"VLOOKUP(E1577,'Ark1'!$C$2:$D$11,2,FALSE)","v":5},1575,200,{"$f":"VLOOKUP(H1577,'Ark1'!$C$2:$D$12,2,FALSE)","v":5}]
[1576,32,{"$f":"VLOOKUP(B1578,'Ark1'!C$2:D$11,2,FALSE)","v":2},1576,125,{"$f":"VLOOKUP(E1578,'Ark1'!$C$2:$D$11,2,FALSE)","v":5},1576,200,{"$f":"VLOOKUP(H1578,'Ark1'!$C$2:$D$12,2,FALSE)","v":5}]
[1577,32,{"$f":"VLOOKUP(B1579,'Ark1'!C$2:D$11,2,FALSE)","v":2},1577,125,{"$f":"VLOOKUP(E1579,'Ark1'!$C$2:$D$11,2,FALSE)","v":5},1577,200,{"$f":"VLOOKUP(H1579,'Ark1'!$C$2:$D$12,2,FALSE)","v":5}]
[1578,32,{"$f":"VLOOKUP(B1580,'Ark1'!C$2:D$11,2,FALSE)","v":2},1578,125,{"$f":"VLOOKUP(E1580,'Ark1'!$C$2:$D$11,2,FALSE)","v":5},1578,200,{"$f":"VLOOKUP(H1580,'Ark1'!$C$2:$D$12,2,FALSE)","v":5}]
[1579,32,{"$f":"VLOOKUP(B1581,'Ark1'!C$2:D$11,2,FALSE)","v":2},1579,125,{"$f":"VLOOKUP(E1581,'Ark1'!$C$2:$D$11,2,FALSE)","v":5},1579,200,{"$f":"VLOOKUP(H1581,'Ark1'!$C$2:$D$12,2,FALSE)","v":5}]
[1580,32,{"$f":"VLOOKUP(B1582,'Ark1'!C$2:D$11,2,FALSE)","v":2},1580,125,{"$f":"VLOOKUP(E1582,'Ark1'!$C$2:$D$11,2,FALSE)","v":5},1580,200,{"$f":"VLOOKUP(H1582,'Ark1'!$C$2:$D$12,2,FALSE)","v":5}]
[1581,32,{"$f":"VLOOKUP(B1583,'Ark1'!C$2:D$11,2,FALSE)","v":2},1581,125,{"$f":"VLOOKUP(E1583,'Ark1'!$C$2:$D$11,2,FALSE)","v":5},1581,200,{"$f":"VLOOKUP(H1583,'Ark1'!$C$2:$D$12,2,FALSE)","v":5}]
[1582,32,{"$f":"VLOOKUP(B1584,'Ark1'!C$2:D$11,2,FALSE)","v":2},1582,125,{"$f":"VLOOKUP(E1584,'Ark1'!$C$2:$D$11,2,FALSE)","v":5},1582,200,{"$f":"VLOOKUP(H1584,'Ark1'!$C$2:$D$12,2,FALSE)","v":5}]
[1583,32,{"$f":"VLOOKUP(B1585,'Ark1'!C$2:D$11,2,FALSE)","v":2},1583,125,{"$f":"VLOOKUP(E1585,'Ark1'!$C$2:$D$11,2,FALSE)","v":5},1583,200,{"$f":"VLOOKUP(H1585,'Ark1'!$C$2:$D$12,2,FALSE)","v":5}]
[1584,32,{"$f":"VLOOKUP(B1586,'Ark1'!C$2:D$11,2,FALSE)","v":2},1584,125,{"$f":"VLOOKUP(E1586,'Ark1'!$C$2:$D$11,2,FALSE)","v":5},1584,200,{"$f":"VLOOKUP(H1586,'Ark1'!$C$2:$D$12,2,FALSE)","v":5}]
[1585,32,{"$f":"VLOOKUP(B1587,'Ark1'!C$2:D$11,2,FALSE)","v":2},1585,125,{"$f":"VLOOKUP(E1587,'Ark1'!$C$2:$D$11,2,FALSE)","v":5},1585,200,{"$f":"VLOOKUP(H1587,'Ark1'!$C$2:$D$12,2,FALSE)","v":5}]
[1586,32,{"$f":"VLOOKUP(B1588,'Ark1'!C$2:D$11,2,FALSE)","v":2},1586,125,{"$f":"VLOOKUP(E1588,'Ark1'!$C$2:$D$11,2,FALSE)","v":5},1586,200,{"$f":"VLOOKUP(H1588,'Ark1'!$C$2:$D$12,2,FALSE)","v":5}]
[1587,32,{"$f":"VLOOKUP(B1589,'Ark1'!C$2:D$11,2,FALSE)","v":2},1587,125,{"$f":"VLOOKUP(E1589,'Ark1'!$C$2:$D$11,2,FALSE)","v":5},1587,200,{"$f":"VLOOKUP(H1589,'Ark1'!$C$2:$D$12,2,FALSE)","v":5}]
[1588,32,{"$f":"VLOOKUP(B1590,'Ark1'!C$2:D$11,2,FALSE)","v":2},1588,125,{"$f":"VLOOKUP(E1590,'Ark1'!$C$2:$D$11,2,FALSE)","v":5},1588,200,{"$f":"VLOOKUP(H1590,'Ark1'!$C$2:$D$12,2,FALSE)","v":5}]
[1589,32,{"$f":"VLOOKUP(B1591,'Ark1'!C$2:D$11,2,FALSE)","v":2},1589,125,{"$f":"VLOOKUP(E1591,'Ark1'!$C$2:$D$11,2,FALSE)","v":5},1589,200,{"$f":"VLOOKUP(H1591,'Ark1'!$C$2:$D$12,2,FALSE)","v":5}]
[1590,32,{"$f":"VLOOKUP(B1592,'Ark1'!C$2:D$11,2,FALSE)","v":2},1590,125,{"$f":"VLOOKUP(E1592,'Ark1'!$C$2:$D$11,2,FALSE)","v":5},1590,200,{"$f":"VLOOKUP(H1592,'Ark1'!$C$2:$D$12,2,FALSE)","v":5}]
[1591,32,{"$f":"VLOOKUP(B1593,'Ark1'!C$2:D$11,2,FALSE)","v":2},1591,125,{"$f":"VLOOKUP(E1593,'Ark1'!$C$2:$D$11,2,FALSE)","v":5},1591,200,{"$f":"VLOOKUP(H1593,'Ark1'!$C$2:$D$12,2,FALSE)","v":5}]
[1592,32,{"$f":"VLOOKUP(B1594,'Ark1'!C$2:D$11,2,FALSE)","v":2},1592,125,{"$f":"VLOOKUP(E1594,'Ark1'!$C$2:$D$11,2,FALSE)","v":5},1592,200,{"$f":"VLOOKUP(H1594,'Ark1'!$C$2:$D$12,2,FALSE)","v":5}]
[1593,32,{"$f":"VLOOKUP(B1595,'Ark1'!C$2:D$11,2,FALSE)","v":2},1593,125,{"$f":"VLOOKUP(E1595,'Ark1'!$C$2:$D$11,2,FALSE)","v":5},1593,200,{"$f":"VLOOKUP(H1595,'Ark1'!$C$2:$D$12,2,FALSE)","v":5}]
[1594,32,{"$f":"VLOOKUP(B1596,'Ark1'!C$2:D$11,2,FALSE)","v":2},1594,125,{"$f":"VLOOKUP(E1596,'Ark1'!$C$2:$D$11,2,FALSE)","v":5},1594,200,{"$f":"VLOOKUP(H1596,'Ark1'!$C$2:$D$12,2,FALSE)","v":5}]
[1595,32,{"$f":"VLOOKUP(B1597,'Ark1'!C$2:D$11,2,FALSE)","v":2},1595,125,{"$f":"VLOOKUP(E1597,'Ark1'!$C$2:$D$11,2,FALSE)","v":5},1595,200,{"$f":"VLOOKUP(H1597,'Ark1'!$C$2:$D$12,2,FALSE)","v":5}]
[1596,32,{"$f":"VLOOKUP(B1598,'Ark1'!C$2:D$11,2,FALSE)","v":2},1596,125,{"$f":"VLOOKUP(E1598,'Ark1'!$C$2:$D$11,2,FALSE)","v":5},1596,200,{"$f":"VLOOKUP(H1598,'Ark1'!$C$2:$D$12,2,FALSE)","v":5}]
[1597,32,{"$f":"VLOOKUP(B1599,'Ark1'!C$2:D$11,2,FALSE)","v":2},1597,125,{"$f":"VLOOKUP(E1599,'Ark1'!$C$2:$D$11,2,FALSE)","v":5},1597,200,{"$f":"VLOOKUP(H1599,'Ark1'!$C$2:$D$12,2,FALSE)","v":5}]
[1598,32,{"$f":"VLOOKUP(B1600,'Ark1'!C$2:D$11,2,FALSE)","v":2},1598,125,{"$f":"VLOOKUP(E1600,'Ark1'!$C$2:$D$11,2,FALSE)","v":5},1598,200,{"$f":"VLOOKUP(H1600,'Ark1'!$C$2:$D$12,2,FALSE)","v":5}]
[1599,32,{"$f":"VLOOKUP(B1601,'Ark1'!C$2:D$11,2,FALSE)","v":2},1599,125,{"$f":"VLOOKUP(E1601,'Ark1'!$C$2:$D$11,2,FALSE)","v":5},1599,200,{"$f":"VLOOKUP(H1601,'Ark1'!$C$2:$D$12,2,FALSE)","v":5}]
[1600,32,{"$f":"VLOOKUP(B1602,'Ark1'!C$2:D$11,2,FALSE)","v":2},1600,125,{"$f":"VLOOKUP(E1602,'Ark1'!$C$2:$D$11,2,FALSE)","v":5},1600,200,{"$f":"VLOOKUP(H1602,'Ark1'!$C$2:$D$12,2,FALSE)","v":5}]
[1601,32,{"$f":"VLOOKUP(B1603,'Ark1'!C$2:D$11,2,FALSE)","v":2},1601,125,{"$f":"VLOOKUP(E1603,'Ark1'!$C$2:$D$11,2,FALSE)","v":5},1601,200,{"$f":"VLOOKUP(H1603,'Ark1'!$C$2:$D$12,2,FALSE)","v":5}]
[1602,32,{"$f":"VLOOKUP(B1604,'Ark1'!C$2:D$11,2,FALSE)","v":2},1602,125,{"$f":"VLOOKUP(E1604,'Ark1'!$C$2:$D$11,2,FALSE)","v":5},1602,200,{"$f":"VLOOKUP(H1604,'Ark1'!$C$2:$D$12,2,FALSE)","v":5}]
[1603,32,{"$f":"VLOOKUP(B1605,'Ark1'!C$2:D$11,2,FALSE)","v":2},1603,125,{"$f":"VLOOKUP(E1605,'Ark1'!$C$2:$D$11,2,FALSE)","v":5},1603,200,{"$f":"VLOOKUP(H1605,'Ark1'!$C$2:$D$12,2,FALSE)","v":5}]
[1604,32,{"$f":"VLOOKUP(B1606,'Ark1'!C$2:D$11,2,FALSE)","v":2},1604,125,{"$f":"VLOOKUP(E1606,'Ark1'!$C$2:$D$11,2,FALSE)","v":5},1604,200,{"$f":"VLOOKUP(H1606,'Ark1'!$C$2:$D$12,2,FALSE)","v":5}]
[1605,32,{"$f":"VLOOKUP(B1607,'Ark1'!C$2:D$11,2,FALSE)","v":2},1605,125,{"$f":"VLOOKUP(E1607,'Ark1'!$C$2:$D$11,2,FALSE)","v":5},1605,200,{"$f":"VLOOKUP(H1607,'Ark1'!$C$2:$D$12,2,FALSE)","v":5}]
[1606,32,{"$f":"VLOOKUP(B1608,'Ark1'!C$2:D$11,2,FALSE)","v":2},1606,125,{"$f":"VLOOKUP(E1608,'Ark1'!$C$2:$D$11,2,FALSE)","v":5},1606,200,{"$f":"VLOOKUP(H1608,'Ark1'!$C$2:$D$12,2,FALSE)","v":5}]
[1607,32,{"$f":"VLOOKUP(B1609,'Ark1'!C$2:D$11,2,FALSE)","v":2},1607,125,{"$f":"VLOOKUP(E1609,'Ark1'!$C$2:$D$11,2,FALSE)","v":5},1607,200,{"$f":"VLOOKUP(H1609,'Ark1'!$C$2:$D$12,2,FALSE)","v":5}]
[1608,32,{"$f":"VLOOKUP(B1610,'Ark1'!C$2:D$11,2,FALSE)","v":2},1608,125,{"$f":"VLOOKUP(E1610,'Ark1'!$C$2:$D$11,2,FALSE)","v":5},1608,200,{"$f":"VLOOKUP(H1610,'Ark1'!$C$2:$D$12,2,FALSE)","v":5}]
[1609,32,{"$f":"VLOOKUP(B1611,'Ark1'!C$2:D$11,2,FALSE)","v":2},1609,125,{"$f":"VLOOKUP(E1611,'Ark1'!$C$2:$D$11,2,FALSE)","v":5},1609,200,{"$f":"VLOOKUP(H1611,'Ark1'!$C$2:$D$12,2,FALSE)","v":5}]
[1610,32,{"$f":"VLOOKUP(B1612,'Ark1'!C$2:D$11,2,FALSE)","v":2},1610,125,{"$f":"VLOOKUP(E1612,'Ark1'!$C$2:$D$11,2,FALSE)","v":5},1610,200,{"$f":"VLOOKUP(H1612,'Ark1'!$C$2:$D$12,2,FALSE)","v":5}]
[1611,32,{"$f":"VLOOKUP(B1613,'Ark1'!C$2:D$11,2,FALSE)","v":2},1611,125,{"$f":"VLOOKUP(E1613,'Ark1'!$C$2:$D$11,2,FALSE)","v":5},1611,200,{"$f":"VLOOKUP(H1613,'Ark1'!$C$2:$D$12,2,FALSE)","v":5}]
[1612,32,{"$f":"VLOOKUP(B1614,'Ark1'!C$2:D$11,2,FALSE)","v":2},1612,125,{"$f":"VLOOKUP(E1614,'Ark1'!$C$2:$D$11,2,FALSE)","v":5},1612,200,{"$f":"VLOOKUP(H1614,'Ark1'!$C$2:$D$12,2,FALSE)","v":5}]
[1613,32,{"$f":"VLOOKUP(B1615,'Ark1'!C$2:D$11,2,FALSE)","v":2},1613,125,{"$f":"VLOOKUP(E1615,'Ark1'!$C$2:$D$11,2,FALSE)","v":5},1613,200,{"$f":"VLOOKUP(H1615,'Ark1'!$C$2:$D$12,2,FALSE)","v":5}]
[1614,32,{"$f":"VLOOKUP(B1616,'Ark1'!C$2:D$11,2,FALSE)","v":2},1614,125,{"$f":"VLOOKUP(E1616,'Ark1'!$C$2:$D$11,2,FALSE)","v":5},1614,200,{"$f":"VLOOKUP(H1616,'Ark1'!$C$2:$D$12,2,FALSE)","v":5}]
[1615,32,{"$f":"VLOOKUP(B1617,'Ark1'!C$2:D$11,2,FALSE)","v":2},1615,125,{"$f":"VLOOKUP(E1617,'Ark1'!$C$2:$D$11,2,FALSE)","v":5},1615,200,{"$f":"VLOOKUP(H1617,'Ark1'!$C$2:$D$12,2,FALSE)","v":5}]
[1616,32,{"$f":"VLOOKUP(B1618,'Ark1'!C$2:D$11,2,FALSE)","v":2},1616,125,{"$f":"VLOOKUP(E1618,'Ark1'!$C$2:$D$11,2,FALSE)","v":5},1616,200,{"$f":"VLOOKUP(H1618,'Ark1'!$C$2:$D$12,2,FALSE)","v":5}]
[1617,32,{"$f":"VLOOKUP(B1619,'Ark1'!C$2:D$11,2,FALSE)","v":2},1617,125,{"$f":"VLOOKUP(E1619,'Ark1'!$C$2:$D$11,2,FALSE)","v":5},1617,200,{"$f":"VLOOKUP(H1619,'Ark1'!$C$2:$D$12,2,FALSE)","v":5}]
[1618,32,{"$f":"VLOOKUP(B1620,'Ark1'!C$2:D$11,2,FALSE)","v":2},1618,125,{"$f":"VLOOKUP(E1620,'Ark1'!$C$2:$D$11,2,FALSE)","v":5},1618,200,{"$f":"VLOOKUP(H1620,'Ark1'!$C$2:$D$12,2,FALSE)","v":5}]
[1619,32,{"$f":"VLOOKUP(B1621,'Ark1'!C$2:D$11,2,FALSE)","v":2},1619,125,{"$f":"VLOOKUP(E1621,'Ark1'!$C$2:$D$11,2,FALSE)","v":5},1619,200,{"$f":"VLOOKUP(H1621,'Ark1'!$C$2:$D$12,2,FALSE)","v":5}]
[1620,32,{"$f":"VLOOKUP(B1622,'Ark1'!C$2:D$11,2,FALSE)","v":2},1620,125,{"$f":"VLOOKUP(E1622,'Ark1'!$C$2:$D$11,2,FALSE)","v":5},1620,200,{"$f":"VLOOKUP(H1622,'Ark1'!$C$2:$D$12,2,FALSE)","v":5}]
[1621,32,{"$f":"VLOOKUP(B1623,'Ark1'!C$2:D$11,2,FALSE)","v":2},1621,125,{"$f":"VLOOKUP(E1623,'Ark1'!$C$2:$D$11,2,FALSE)","v":5},1621,200,{"$f":"VLOOKUP(H1623,'Ark1'!$C$2:$D$12,2,FALSE)","v":5}]
[1622,32,{"$f":"VLOOKUP(B1624,'Ark1'!C$2:D$11,2,FALSE)","v":2},1622,125,{"$f":"VLOOKUP(E1624,'Ark1'!$C$2:$D$11,2,FALSE)","v":5},1622,200,{"$f":"VLOOKUP(H1624,'Ark1'!$C$2:$D$12,2,FALSE)","v":5}]
[1623,32,{"$f":"VLOOKUP(B1625,'Ark1'!C$2:D$11,2,FALSE)","v":2},1623,125,{"$f":"VLOOKUP(E1625,'Ark1'!$C$2:$D$11,2,FALSE)","v":5},1623,200,{"$f":"VLOOKUP(H1625,'Ark1'!$C$2:$D$12,2,FALSE)","v":5}]
[1624,32,{"$f":"VLOOKUP(B1626,'Ark1'!C$2:D$11,2,FALSE)","v":2},1624,125,{"$f":"VLOOKUP(E1626,'Ark1'!$C$2:$D$11,2,FALSE)","v":5},1624,200,{"$f":"VLOOKUP(H1626,'Ark1'!$C$2:$D$12,2,FALSE)","v":5}]
[1625,32,{"$f":"VLOOKUP(B1627,'Ark1'!C$2:D$11,2,FALSE)","v":2},1625,125,{"$f":"VLOOKUP(E1627,'Ark1'!$C$2:$D$11,2,FALSE)","v":5},1625,200,{"$f":"VLOOKUP(H1627,'Ark1'!$C$2:$D$12,2,FALSE)","v":5}]
[1626,32,{"$f":"VLOOKUP(B1628,'Ark1'!C$2:D$11,2,FALSE)","v":2},1626,125,{"$f":"VLOOKUP(E1628,'Ark1'!$C$2:$D$11,2,FALSE)","v":5},1626,200,{"$f":"VLOOKUP(H1628,'Ark1'!$C$2:$D$12,2,FALSE)","v":5}]
[1627,32,{"$f":"VLOOKUP(B1629,'Ark1'!C$2:D$11,2,FALSE)","v":2},1627,125,{"$f":"VLOOKUP(E1629,'Ark1'!$C$2:$D$11,2,FALSE)","v":5},1627,200,{"$f":"VLOOKUP(H1629,'Ark1'!$C$2:$D$12,2,FALSE)","v":5}]
[1628,32,{"$f":"VLOOKUP(B1630,'Ark1'!C$2:D$11,2,FALSE)","v":2},1628,125,{"$f":"VLOOKUP(E1630,'Ark1'!$C$2:$D$11,2,FALSE)","v":5},1628,200,{"$f":"VLOOKUP(H1630,'Ark1'!$C$2:$D$12,2,FALSE)","v":5}]
[1629,32,{"$f":"VLOOKUP(B1631,'Ark1'!C$2:D$11,2,FALSE)","v":2},1629,125,{"$f":"VLOOKUP(E1631,'Ark1'!$C$2:$D$11,2,FALSE)","v":5},1629,200,{"$f":"VLOOKUP(H1631,'Ark1'!$C$2:$D$12,2,FALSE)","v":5}]
[1630,32,{"$f":"VLOOKUP(B1632,'Ark1'!C$2:D$11,2,FALSE)","v":2},1630,125,{"$f":"VLOOKUP(E1632,'Ark1'!$C$2:$D$11,2,FALSE)","v":5},1630,200,{"$f":"VLOOKUP(H1632,'Ark1'!$C$2:$D$12,2,FALSE)","v":5}]
[1631,32,{"$f":"VLOOKUP(B1633,'Ark1'!C$2:D$11,2,FALSE)","v":2},1631,125,{"$f":"VLOOKUP(E1633,'Ark1'!$C$2:$D$11,2,FALSE)","v":5},1631,200,{"$f":"VLOOKUP(H1633,'Ark1'!$C$2:$D$12,2,FALSE)","v":5}]
[1632,32,{"$f":"VLOOKUP(B1634,'Ark1'!C$2:D$11,2,FALSE)","v":2},1632,125,{"$f":"VLOOKUP(E1634,'Ark1'!$C$2:$D$11,2,FALSE)","v":5},1632,200,{"$f":"VLOOKUP(H1634,'Ark1'!$C$2:$D$12,2,FALSE)","v":5}]
[1633,32,{"$f":"VLOOKUP(B1635,'Ark1'!C$2:D$11,2,FALSE)","v":2},1633,125,{"$f":"VLOOKUP(E1635,'Ark1'!$C$2:$D$11,2,FALSE)","v":5},1633,200,{"$f":"VLOOKUP(H1635,'Ark1'!$C$2:$D$12,2,FALSE)","v":5}]
[1634,32,{"$f":"VLOOKUP(B1636,'Ark1'!C$2:D$11,2,FALSE)","v":2},1634,125,{"$f":"VLOOKUP(E1636,'Ark1'!$C$2:$D$11,2,FALSE)","v":5},1634,200,{"$f":"VLOOKUP(H1636,'Ark1'!$C$2:$D$12,2,FALSE)","v":5}]
[1635,32,{"$f":"VLOOKUP(B1637,'Ark1'!C$2:D$11,2,FALSE)","v":2},1635,125,{"$f":"VLOOKUP(E1637,'Ark1'!$C$2:$D$11,2,FALSE)","v":5},1635,200,{"$f":"VLOOKUP(H1637,'Ark1'!$C$2:$D$12,2,FALSE)","v":5}]
[1636,32,{"$f":"VLOOKUP(B1638,'Ark1'!C$2:D$11,2,FALSE)","v":2},1636,125,{"$f":"VLOOKUP(E1638,'Ark1'!$C$2:$D$11,2,FALSE)","v":5},1636,200,{"$f":"VLOOKUP(H1638,'Ark1'!$C$2:$D$12,2,FALSE)","v":5}]
[1637,32,{"$f":"VLOOKUP(B1639,'Ark1'!C$2:D$11,2,FALSE)","v":2},1637,125,{"$f":"VLOOKUP(E1639,'Ark1'!$C$2:$D$11,2,FALSE)","v":5},1637,200,{"$f":"VLOOKUP(H1639,'Ark1'!$C$2:$D$12,2,FALSE)","v":5}]
[1638,32,{"$f":"VLOOKUP(B1640,'Ark1'!C$2:D$11,2,FALSE)","v":2},1638,125,{"$f":"VLOOKUP(E1640,'Ark1'!$C$2:$D$11,2,FALSE)","v":5},1638,200,{"$f":"VLOOKUP(H1640,'Ark1'!$C$2:$D$12,2,FALSE)","v":5}]
[1639,32,{"$f":"VLOOKUP(B1641,'Ark1'!C$2:D$11,2,FALSE)","v":2},1639,125,{"$f":"VLOOKUP(E1641,'Ark1'!$C$2:$D$11,2,FALSE)","v":5},1639,200,{"$f":"VLOOKUP(H1641,'Ark1'!$C$2:$D$12,2,FALSE)","v":5}]
[1640,32,{"$f":"VLOOKUP(B1642,'Ark1'!C$2:D$11,2,FALSE)","v":2},1640,125,{"$f":"VLOOKUP(E1642,'Ark1'!$C$2:$D$11,2,FALSE)","v":5},1640,200,{"$f":"VLOOKUP(H1642,'Ark1'!$C$2:$D$12,2,FALSE)","v":5}]
[1641,32,{"$f":"VLOOKUP(B1643,'Ark1'!C$2:D$11,2,FALSE)","v":2},1641,125,{"$f":"VLOOKUP(E1643,'Ark1'!$C$2:$D$11,2,FALSE)","v":5},1641,200,{"$f":"VLOOKUP(H1643,'Ark1'!$C$2:$D$12,2,FALSE)","v":5}]
[1642,32,{"$f":"VLOOKUP(B1644,'Ark1'!C$2:D$11,2,FALSE)","v":2},1642,125,{"$f":"VLOOKUP(E1644,'Ark1'!$C$2:$D$11,2,FALSE)","v":5},1642,200,{"$f":"VLOOKUP(H1644,'Ark1'!$C$2:$D$12,2,FALSE)","v":5}]
[1643,32,{"$f":"VLOOKUP(B1645,'Ark1'!C$2:D$11,2,FALSE)","v":2},1643,125,{"$f":"VLOOKUP(E1645,'Ark1'!$C$2:$D$11,2,FALSE)","v":5},1643,200,{"$f":"VLOOKUP(H1645,'Ark1'!$C$2:$D$12,2,FALSE)","v":5}]
[1644,32,{"$f":"VLOOKUP(B1646,'Ark1'!C$2:D$11,2,FALSE)","v":2},1644,125,{"$f":"VLOOKUP(E1646,'Ark1'!$C$2:$D$11,2,FALSE)","v":5},1644,200,{"$f":"VLOOKUP(H1646,'Ark1'!$C$2:$D$12,2,FALSE)","v":5}]
[1645,32,{"$f":"VLOOKUP(B1647,'Ark1'!C$2:D$11,2,FALSE)","v":2},1645,125,{"$f":"VLOOKUP(E1647,'Ark1'!$C$2:$D$11,2,FALSE)","v":5},1645,200,{"$f":"VLOOKUP(H1647,'Ark1'!$C$2:$D$12,2,FALSE)","v":5}]
[1646,32,{"$f":"VLOOKUP(B1648,'Ark1'!C$2:D$11,2,FALSE)","v":2},1646,125,{"$f":"VLOOKUP(E1648,'Ark1'!$C$2:$D$11,2,FALSE)","v":5},1646,200,{"$f":"VLOOKUP(H1648,'Ark1'!$C$2:$D$12,2,FALSE)","v":5}]
[1647,32,{"$f":"VLOOKUP(B1649,'Ark1'!C$2:D$11,2,FALSE)","v":2},1647,125,{"$f":"VLOOKUP(E1649,'Ark1'!$C$2:$D$11,2,FALSE)","v":5},1647,200,{"$f":"VLOOKUP(H1649,'Ark1'!$C$2:$D$12,2,FALSE)","v":5}]
[1648,32,{"$f":"VLOOKUP(B1650,'Ark1'!C$2:D$11,2,FALSE)","v":2},1648,125,{"$f":"VLOOKUP(E1650,'Ark1'!$C$2:$D$11,2,FALSE)","v":5},1648,200,{"$f":"VLOOKUP(H1650,'Ark1'!$C$2:$D$12,2,FALSE)","v":5}]
[1649,32,{"$f":"VLOOKUP(B1651,'Ark1'!C$2:D$11,2,FALSE)","v":2},1649,125,{"$f":"VLOOKUP(E1651,'Ark1'!$C$2:$D$11,2,FALSE)","v":5},1649,200,{"$f":"VLOOKUP(H1651,'Ark1'!$C$2:$D$12,2,FALSE)","v":5}]
[1650,32,{"$f":"VLOOKUP(B1652,'Ark1'!C$2:D$11,2,FALSE)","v":2},1650,125,{"$f":"VLOOKUP(E1652,'Ark1'!$C$2:$D$11,2,FALSE)","v":5},1650,200,{"$f":"VLOOKUP(H1652,'Ark1'!$C$2:$D$12,2,FALSE)","v":5}]
[1651,32,{"$f":"VLOOKUP(B1653,'Ark1'!C$2:D$11,2,FALSE)","v":2},1651,125,{"$f":"VLOOKUP(E1653,'Ark1'!$C$2:$D$11,2,FALSE)","v":5},1651,200,{"$f":"VLOOKUP(H1653,'Ark1'!$C$2:$D$12,2,FALSE)","v":5}]
[1652,32,{"$f":"VLOOKUP(B1654,'Ark1'!C$2:D$11,2,FALSE)","v":2},1652,125,{"$f":"VLOOKUP(E1654,'Ark1'!$C$2:$D$11,2,FALSE)","v":5},1652,200,{"$f":"VLOOKUP(H1654,'Ark1'!$C$2:$D$12,2,FALSE)","v":5}]
[1653,32,{"$f":"VLOOKUP(B1655,'Ark1'!C$2:D$11,2,FALSE)","v":2},1653,125,{"$f":"VLOOKUP(E1655,'Ark1'!$C$2:$D$11,2,FALSE)","v":5},1653,200,{"$f":"VLOOKUP(H1655,'Ark1'!$C$2:$D$12,2,FALSE)","v":5}]
[1654,32,{"$f":"VLOOKUP(B1656,'Ark1'!C$2:D$11,2,FALSE)","v":2},1654,125,{"$f":"VLOOKUP(E1656,'Ark1'!$C$2:$D$11,2,FALSE)","v":5},1654,200,{"$f":"VLOOKUP(H1656,'Ark1'!$C$2:$D$12,2,FALSE)","v":5}]
[1655,32,{"$f":"VLOOKUP(B1657,'Ark1'!C$2:D$11,2,FALSE)","v":2},1655,125,{"$f":"VLOOKUP(E1657,'Ark1'!$C$2:$D$11,2,FALSE)","v":5},1655,200,{"$f":"VLOOKUP(H1657,'Ark1'!$C$2:$D$12,2,FALSE)","v":5}]
[1656,32,{"$f":"VLOOKUP(B1658,'Ark1'!C$2:D$11,2,FALSE)","v":2},1656,125,{"$f":"VLOOKUP(E1658,'Ark1'!$C$2:$D$11,2,FALSE)","v":5},1656,200,{"$f":"VLOOKUP(H1658,'Ark1'!$C$2:$D$12,2,FALSE)","v":5}]
[1657,32,{"$f":"VLOOKUP(B1659,'Ark1'!C$2:D$11,2,FALSE)","v":2},1657,125,{"$f":"VLOOKUP(E1659,'Ark1'!$C$2:$D$11,2,FALSE)","v":5},1657,200,{"$f":"VLOOKUP(H1659,'Ark1'!$C$2:$D$12,2,FALSE)","v":5}]
[1658,32,{"$f":"VLOOKUP(B1660,'Ark1'!C$2:D$11,2,FALSE)","v":2},1658,125,{"$f":"VLOOKUP(E1660,'Ark1'!$C$2:$D$11,2,FALSE)","v":5},1658,200,{"$f":"VLOOKUP(H1660,'Ark1'!$C$2:$D$12,2,FALSE)","v":5}]
[1659,32,{"$f":"VLOOKUP(B1661,'Ark1'!C$2:D$11,2,FALSE)","v":2},1659,125,{"$f":"VLOOKUP(E1661,'Ark1'!$C$2:$D$11,2,FALSE)","v":5},1659,200,{"$f":"VLOOKUP(H1661,'Ark1'!$C$2:$D$12,2,FALSE)","v":5}]
[1660,32,{"$f":"VLOOKUP(B1662,'Ark1'!C$2:D$11,2,FALSE)","v":2},1660,125,{"$f":"VLOOKUP(E1662,'Ark1'!$C$2:$D$11,2,FALSE)","v":5},1660,200,{"$f":"VLOOKUP(H1662,'Ark1'!$C$2:$D$12,2,FALSE)","v":5}]
[1661,32,{"$f":"VLOOKUP(B1663,'Ark1'!C$2:D$11,2,FALSE)","v":2},1661,125,{"$f":"VLOOKUP(E1663,'Ark1'!$C$2:$D$11,2,FALSE)","v":5},1661,200,{"$f":"VLOOKUP(H1663,'Ark1'!$C$2:$D$12,2,FALSE)","v":5}]
[1662,32,{"$f":"VLOOKUP(B1664,'Ark1'!C$2:D$11,2,FALSE)","v":2},1662,125,{"$f":"VLOOKUP(E1664,'Ark1'!$C$2:$D$11,2,FALSE)","v":5},1662,200,{"$f":"VLOOKUP(H1664,'Ark1'!$C$2:$D$12,2,FALSE)","v":5}]
[1663,32,{"$f":"VLOOKUP(B1665,'Ark1'!C$2:D$11,2,FALSE)","v":2},1663,125,{"$f":"VLOOKUP(E1665,'Ark1'!$C$2:$D$11,2,FALSE)","v":5},1663,200,{"$f":"VLOOKUP(H1665,'Ark1'!$C$2:$D$12,2,FALSE)","v":5}]
[1664,32,{"$f":"VLOOKUP(B1666,'Ark1'!C$2:D$11,2,FALSE)","v":2},1664,125,{"$f":"VLOOKUP(E1666,'Ark1'!$C$2:$D$11,2,FALSE)","v":5},1664,200,{"$f":"VLOOKUP(H1666,'Ark1'!$C$2:$D$12,2,FALSE)","v":5}]
[1665,32,{"$f":"VLOOKUP(B1667,'Ark1'!C$2:D$11,2,FALSE)","v":2},1665,125,{"$f":"VLOOKUP(E1667,'Ark1'!$C$2:$D$11,2,FALSE)","v":5},1665,200,{"$f":"VLOOKUP(H1667,'Ark1'!$C$2:$D$12,2,FALSE)","v":5}]
[1666,32,{"$f":"VLOOKUP(B1668,'Ark1'!C$2:D$11,2,FALSE)","v":2},1666,125,{"$f":"VLOOKUP(E1668,'Ark1'!$C$2:$D$11,2,FALSE)","v":5},1666,200,{"$f":"VLOOKUP(H1668,'Ark1'!$C$2:$D$12,2,FALSE)","v":5}]
[1667,32,{"$f":"VLOOKUP(B1669,'Ark1'!C$2:D$11,2,FALSE)","v":2},1667,125,{"$f":"VLOOKUP(E1669,'Ark1'!$C$2:$D$11,2,FALSE)","v":5},1667,200,{"$f":"VLOOKUP(H1669,'Ark1'!$C$2:$D$12,2,FALSE)","v":5}]
[1668,32,{"$f":"VLOOKUP(B1670,'Ark1'!C$2:D$11,2,FALSE)","v":2},1668,125,{"$f":"VLOOKUP(E1670,'Ark1'!$C$2:$D$11,2,FALSE)","v":5},1668,200,{"$f":"VLOOKUP(H1670,'Ark1'!$C$2:$D$12,2,FALSE)","v":5}]
[1669,32,{"$f":"VLOOKUP(B1671,'Ark1'!C$2:D$11,2,FALSE)","v":2},1669,125,{"$f":"VLOOKUP(E1671,'Ark1'!$C$2:$D$11,2,FALSE)","v":5},1669,200,{"$f":"VLOOKUP(H1671,'Ark1'!$C$2:$D$12,2,FALSE)","v":5}]
[1670,32,{"$f":"VLOOKUP(B1672,'Ark1'!C$2:D$11,2,FALSE)","v":2},1670,125,{"$f":"VLOOKUP(E1672,'Ark1'!$C$2:$D$11,2,FALSE)","v":5},1670,200,{"$f":"VLOOKUP(H1672,'Ark1'!$C$2:$D$12,2,FALSE)","v":5}]
[1671,32,{"$f":"VLOOKUP(B1673,'Ark1'!C$2:D$11,2,FALSE)","v":2},1671,125,{"$f":"VLOOKUP(E1673,'Ark1'!$C$2:$D$11,2,FALSE)","v":5},1671,200,{"$f":"VLOOKUP(H1673,'Ark1'!$C$2:$D$12,2,FALSE)","v":5}]
[1672,32,{"$f":"VLOOKUP(B1674,'Ark1'!C$2:D$11,2,FALSE)","v":2},1672,125,{"$f":"VLOOKUP(E1674,'Ark1'!$C$2:$D$11,2,FALSE)","v":5},1672,200,{"$f":"VLOOKUP(H1674,'Ark1'!$C$2:$D$12,2,FALSE)","v":5}]
[1673,32,{"$f":"VLOOKUP(B1675,'Ark1'!C$2:D$11,2,FALSE)","v":2},1673,125,{"$f":"VLOOKUP(E1675,'Ark1'!$C$2:$D$11,2,FALSE)","v":5},1673,200,{"$f":"VLOOKUP(H1675,'Ark1'!$C$2:$D$12,2,FALSE)","v":5}]
[1674,32,{"$f":"VLOOKUP(B1676,'Ark1'!C$2:D$11,2,FALSE)","v":2},1674,125,{"$f":"VLOOKUP(E1676,'Ark1'!$C$2:$D$11,2,FALSE)","v":5},1674,200,{"$f":"VLOOKUP(H1676,'Ark1'!$C$2:$D$12,2,FALSE)","v":5}]
[1675,32,{"$f":"VLOOKUP(B1677,'Ark1'!C$2:D$11,2,FALSE)","v":2},1675,125,{"$f":"VLOOKUP(E1677,'Ark1'!$C$2:$D$11,2,FALSE)","v":5},1675,200,{"$f":"VLOOKUP(H1677,'Ark1'!$C$2:$D$12,2,FALSE)","v":5}]
[1676,32,{"$f":"VLOOKUP(B1678,'Ark1'!C$2:D$11,2,FALSE)","v":2},1676,125,{"$f":"VLOOKUP(E1678,'Ark1'!$C$2:$D$11,2,FALSE)","v":5},1676,200,{"$f":"VLOOKUP(H1678,'Ark1'!$C$2:$D$12,2,FALSE)","v":5}]
[1677,32,{"$f":"VLOOKUP(B1679,'Ark1'!C$2:D$11,2,FALSE)","v":2},1677,125,{"$f":"VLOOKUP(E1679,'Ark1'!$C$2:$D$11,2,FALSE)","v":5},1677,200,{"$f":"VLOOKUP(H1679,'Ark1'!$C$2:$D$12,2,FALSE)","v":5}]
[1678,32,{"$f":"VLOOKUP(B1680,'Ark1'!C$2:D$11,2,FALSE)","v":2},1678,125,{"$f":"VLOOKUP(E1680,'Ark1'!$C$2:$D$11,2,FALSE)","v":5},1678,200,{"$f":"VLOOKUP(H1680,'Ark1'!$C$2:$D$12,2,FALSE)","v":5}]
[1679,32,{"$f":"VLOOKUP(B1681,'Ark1'!C$2:D$11,2,FALSE)","v":2},1679,125,{"$f":"VLOOKUP(E1681,'Ark1'!$C$2:$D$11,2,FALSE)","v":5},1679,200,{"$f":"VLOOKUP(H1681,'Ark1'!$C$2:$D$12,2,FALSE)","v":5}]
[1680,32,{"$f":"VLOOKUP(B1682,'Ark1'!C$2:D$11,2,FALSE)","v":2},1680,125,{"$f":"VLOOKUP(E1682,'Ark1'!$C$2:$D$11,2,FALSE)","v":5},1680,200,{"$f":"VLOOKUP(H1682,'Ark1'!$C$2:$D$12,2,FALSE)","v":5}]
[1681,32,{"$f":"VLOOKUP(B1683,'Ark1'!C$2:D$11,2,FALSE)","v":2},1681,125,{"$f":"VLOOKUP(E1683,'Ark1'!$C$2:$D$11,2,FALSE)","v":5},1681,200,{"$f":"VLOOKUP(H1683,'Ark1'!$C$2:$D$12,2,FALSE)","v":5}]
[1682,32,{"$f":"VLOOKUP(B1684,'Ark1'!C$2:D$11,2,FALSE)","v":2},1682,125,{"$f":"VLOOKUP(E1684,'Ark1'!$C$2:$D$11,2,FALSE)","v":5},1682,200,{"$f":"VLOOKUP(H1684,'Ark1'!$C$2:$D$12,2,FALSE)","v":5}]
[1683,32,{"$f":"VLOOKUP(B1685,'Ark1'!C$2:D$11,2,FALSE)","v":2},1683,125,{"$f":"VLOOKUP(E1685,'Ark1'!$C$2:$D$11,2,FALSE)","v":5},1683,200,{"$f":"VLOOKUP(H1685,'Ark1'!$C$2:$D$12,2,FALSE)","v":5}]
[1684,32,{"$f":"VLOOKUP(B1686,'Ark1'!C$2:D$11,2,FALSE)","v":2},1684,125,{"$f":"VLOOKUP(E1686,'Ark1'!$C$2:$D$11,2,FALSE)","v":5},1684,200,{"$f":"VLOOKUP(H1686,'Ark1'!$C$2:$D$12,2,FALSE)","v":5}]
[1685,32,{"$f":"VLOOKUP(B1687,'Ark1'!C$2:D$11,2,FALSE)","v":2},1685,125,{"$f":"VLOOKUP(E1687,'Ark1'!$C$2:$D$11,2,FALSE)","v":5},1685,200,{"$f":"VLOOKUP(H1687,'Ark1'!$C$2:$D$12,2,FALSE)","v":5}]
[1686,32,{"$f":"VLOOKUP(B1688,'Ark1'!C$2:D$11,2,FALSE)","v":2},1686,125,{"$f":"VLOOKUP(E1688,'Ark1'!$C$2:$D$11,2,FALSE)","v":5},1686,200,{"$f":"VLOOKUP(H1688,'Ark1'!$C$2:$D$12,2,FALSE)","v":5}]
[1687,32,{"$f":"VLOOKUP(B1689,'Ark1'!C$2:D$11,2,FALSE)","v":2},1687,125,{"$f":"VLOOKUP(E1689,'Ark1'!$C$2:$D$11,2,FALSE)","v":5},1687,200,{"$f":"VLOOKUP(H1689,'Ark1'!$C$2:$D$12,2,FALSE)","v":5}]
[1688,32,{"$f":"VLOOKUP(B1690,'Ark1'!C$2:D$11,2,FALSE)","v":2},1688,125,{"$f":"VLOOKUP(E1690,'Ark1'!$C$2:$D$11,2,FALSE)","v":5},1688,200,{"$f":"VLOOKUP(H1690,'Ark1'!$C$2:$D$12,2,FALSE)","v":5}]
[1689,32,{"$f":"VLOOKUP(B1691,'Ark1'!C$2:D$11,2,FALSE)","v":2},1689,125,{"$f":"VLOOKUP(E1691,'Ark1'!$C$2:$D$11,2,FALSE)","v":5},1689,200,{"$f":"VLOOKUP(H1691,'Ark1'!$C$2:$D$12,2,FALSE)","v":5}]
[1690,32,{"$f":"VLOOKUP(B1692,'Ark1'!C$2:D$11,2,FALSE)","v":2},1690,125,{"$f":"VLOOKUP(E1692,'Ark1'!$C$2:$D$11,2,FALSE)","v":5},1690,200,{"$f":"VLOOKUP(H1692,'Ark1'!$C$2:$D$12,2,FALSE)","v":5}]
[1691,32,{"$f":"VLOOKUP(B1693,'Ark1'!C$2:D$11,2,FALSE)","v":2},1691,125,{"$f":"VLOOKUP(E1693,'Ark1'!$C$2:$D$11,2,FALSE)","v":5},1691,200,{"$f":"VLOOKUP(H1693,'Ark1'!$C$2:$D$12,2,FALSE)","v":5}]
[1692,32,{"$f":"VLOOKUP(B1694,'Ark1'!C$2:D$11,2,FALSE)","v":2},1692,125,{"$f":"VLOOKUP(E1694,'Ark1'!$C$2:$D$11,2,FALSE)","v":5},1692,200,{"$f":"VLOOKUP(H1694,'Ark1'!$C$2:$D$12,2,FALSE)","v":5}]
[1693,32,{"$f":"VLOOKUP(B1695,'Ark1'!C$2:D$11,2,FALSE)","v":2},1693,125,{"$f":"VLOOKUP(E1695,'Ark1'!$C$2:$D$11,2,FALSE)","v":5},1693,200,{"$f":"VLOOKUP(H1695,'Ark1'!$C$2:$D$12,2,FALSE)","v":5}]
[1694,32,{"$f":"VLOOKUP(B1696,'Ark1'!C$2:D$11,2,FALSE)","v":2},1694,125,{"$f":"VLOOKUP(E1696,'Ark1'!$C$2:$D$11,2,FALSE)","v":5},1694,200,{"$f":"VLOOKUP(H1696,'Ark1'!$C$2:$D$12,2,FALSE)","v":5}]
[1695,32,{"$f":"VLOOKUP(B1697,'Ark1'!C$2:D$11,2,FALSE)","v":2},1695,125,{"$f":"VLOOKUP(E1697,'Ark1'!$C$2:$D$11,2,FALSE)","v":5},1695,200,{"$f":"VLOOKUP(H1697,'Ark1'!$C$2:$D$12,2,FALSE)","v":5}]
[1696,32,{"$f":"VLOOKUP(B1698,'Ark1'!C$2:D$11,2,FALSE)","v":2},1696,125,{"$f":"VLOOKUP(E1698,'Ark1'!$C$2:$D$11,2,FALSE)","v":5},1696,200,{"$f":"VLOOKUP(H1698,'Ark1'!$C$2:$D$12,2,FALSE)","v":5}]
[1697,32,{"$f":"VLOOKUP(B1699,'Ark1'!C$2:D$11,2,FALSE)","v":2},1697,125,{"$f":"VLOOKUP(E1699,'Ark1'!$C$2:$D$11,2,FALSE)","v":5},1697,200,{"$f":"VLOOKUP(H1699,'Ark1'!$C$2:$D$12,2,FALSE)","v":5}]
[1698,32,{"$f":"VLOOKUP(B1700,'Ark1'!C$2:D$11,2,FALSE)","v":2},1698,125,{"$f":"VLOOKUP(E1700,'Ark1'!$C$2:$D$11,2,FALSE)","v":5},1698,200,{"$f":"VLOOKUP(H1700,'Ark1'!$C$2:$D$12,2,FALSE)","v":5}]
[1699,32,{"$f":"VLOOKUP(B1701,'Ark1'!C$2:D$11,2,FALSE)","v":2},1699,125,{"$f":"VLOOKUP(E1701,'Ark1'!$C$2:$D$11,2,FALSE)","v":5},1699,200,{"$f":"VLOOKUP(H1701,'Ark1'!$C$2:$D$12,2,FALSE)","v":5}]
[1700,32,{"$f":"VLOOKUP(B1702,'Ark1'!C$2:D$11,2,FALSE)","v":2},1700,125,{"$f":"VLOOKUP(E1702,'Ark1'!$C$2:$D$11,2,FALSE)","v":5},1700,200,{"$f":"VLOOKUP(H1702,'Ark1'!$C$2:$D$12,2,FALSE)","v":5}]
[1701,32,{"$f":"VLOOKUP(B1703,'Ark1'!C$2:D$11,2,FALSE)","v":2},1701,125,{"$f":"VLOOKUP(E1703,'Ark1'!$C$2:$D$11,2,FALSE)","v":5},1701,200,{"$f":"VLOOKUP(H1703,'Ark1'!$C$2:$D$12,2,FALSE)","v":5}]
[1702,32,{"$f":"VLOOKUP(B1704,'Ark1'!C$2:D$11,2,FALSE)","v":2},1702,125,{"$f":"VLOOKUP(E1704,'Ark1'!$C$2:$D$11,2,FALSE)","v":5},1702,200,{"$f":"VLOOKUP(H1704,'Ark1'!$C$2:$D$12,2,FALSE)","v":5}]
[1703,32,{"$f":"VLOOKUP(B1705,'Ark1'!C$2:D$11,2,FALSE)","v":2},1703,125,{"$f":"VLOOKUP(E1705,'Ark1'!$C$2:$D$11,2,FALSE)","v":5},1703,200,{"$f":"VLOOKUP(H1705,'Ark1'!$C$2:$D$12,2,FALSE)","v":5}]
[1704,32,{"$f":"VLOOKUP(B1706,'Ark1'!C$2:D$11,2,FALSE)","v":2},1704,125,{"$f":"VLOOKUP(E1706,'Ark1'!$C$2:$D$11,2,FALSE)","v":5},1704,200,{"$f":"VLOOKUP(H1706,'Ark1'!$C$2:$D$12,2,FALSE)","v":5}]
[1705,32,{"$f":"VLOOKUP(B1707,'Ark1'!C$2:D$11,2,FALSE)","v":2},1705,125,{"$f":"VLOOKUP(E1707,'Ark1'!$C$2:$D$11,2,FALSE)","v":5},1705,200,{"$f":"VLOOKUP(H1707,'Ark1'!$C$2:$D$12,2,FALSE)","v":5}]
[1706,32,{"$f":"VLOOKUP(B1708,'Ark1'!C$2:D$11,2,FALSE)","v":2},1706,125,{"$f":"VLOOKUP(E1708,'Ark1'!$C$2:$D$11,2,FALSE)","v":5},1706,200,{"$f":"VLOOKUP(H1708,'Ark1'!$C$2:$D$12,2,FALSE)","v":5}]
[1707,32,{"$f":"VLOOKUP(B1709,'Ark1'!C$2:D$11,2,FALSE)","v":2},1707,125,{"$f":"VLOOKUP(E1709,'Ark1'!$C$2:$D$11,2,FALSE)","v":5},1707,200,{"$f":"VLOOKUP(H1709,'Ark1'!$C$2:$D$12,2,FALSE)","v":5}]
[1708,32,{"$f":"VLOOKUP(B1710,'Ark1'!C$2:D$11,2,FALSE)","v":2},1708,125,{"$f":"VLOOKUP(E1710,'Ark1'!$C$2:$D$11,2,FALSE)","v":5},1708,200,{"$f":"VLOOKUP(H1710,'Ark1'!$C$2:$D$12,2,FALSE)","v":5}]
[1709,32,{"$f":"VLOOKUP(B1711,'Ark1'!C$2:D$11,2,FALSE)","v":2},1709,125,{"$f":"VLOOKUP(E1711,'Ark1'!$C$2:$D$11,2,FALSE)","v":5},1709,200,{"$f":"VLOOKUP(H1711,'Ark1'!$C$2:$D$12,2,FALSE)","v":5}]
[1710,32,{"$f":"VLOOKUP(B1712,'Ark1'!C$2:D$11,2,FALSE)","v":2},1710,125,{"$f":"VLOOKUP(E1712,'Ark1'!$C$2:$D$11,2,FALSE)","v":5},1710,200,{"$f":"VLOOKUP(H1712,'Ark1'!$C$2:$D$12,2,FALSE)","v":5}]
[1711,32,{"$f":"VLOOKUP(B1713,'Ark1'!C$2:D$11,2,FALSE)","v":2},1711,125,{"$f":"VLOOKUP(E1713,'Ark1'!$C$2:$D$11,2,FALSE)","v":5},1711,200,{"$f":"VLOOKUP(H1713,'Ark1'!$C$2:$D$12,2,FALSE)","v":5}]
[1712,32,{"$f":"VLOOKUP(B1714,'Ark1'!C$2:D$11,2,FALSE)","v":2},1712,125,{"$f":"VLOOKUP(E1714,'Ark1'!$C$2:$D$11,2,FALSE)","v":5},1712,200,{"$f":"VLOOKUP(H1714,'Ark1'!$C$2:$D$12,2,FALSE)","v":5}]
[1713,32,{"$f":"VLOOKUP(B1715,'Ark1'!C$2:D$11,2,FALSE)","v":2},1713,125,{"$f":"VLOOKUP(E1715,'Ark1'!$C$2:$D$11,2,FALSE)","v":5},1713,200,{"$f":"VLOOKUP(H1715,'Ark1'!$C$2:$D$12,2,FALSE)","v":5}]
[1714,32,{"$f":"VLOOKUP(B1716,'Ark1'!C$2:D$11,2,FALSE)","v":2},1714,125,{"$f":"VLOOKUP(E1716,'Ark1'!$C$2:$D$11,2,FALSE)","v":5},1714,200,{"$f":"VLOOKUP(H1716,'Ark1'!$C$2:$D$12,2,FALSE)","v":5}]
[1715,32,{"$f":"VLOOKUP(B1717,'Ark1'!C$2:D$11,2,FALSE)","v":2},1715,125,{"$f":"VLOOKUP(E1717,'Ark1'!$C$2:$D$11,2,FALSE)","v":5},1715,200,{"$f":"VLOOKUP(H1717,'Ark1'!$C$2:$D$12,2,FALSE)","v":5}]
[1716,32,{"$f":"VLOOKUP(B1718,'Ark1'!C$2:D$11,2,FALSE)","v":2},1716,125,{"$f":"VLOOKUP(E1718,'Ark1'!$C$2:$D$11,2,FALSE)","v":5},1716,200,{"$f":"VLOOKUP(H1718,'Ark1'!$C$2:$D$12,2,FALSE)","v":5}]
[1717,32,{"$f":"VLOOKUP(B1719,'Ark1'!C$2:D$11,2,FALSE)","v":2},1717,125,{"$f":"VLOOKUP(E1719,'Ark1'!$C$2:$D$11,2,FALSE)","v":5},1717,200,{"$f":"VLOOKUP(H1719,'Ark1'!$C$2:$D$12,2,FALSE)","v":5}]
[1718,32,{"$f":"VLOOKUP(B1720,'Ark1'!C$2:D$11,2,FALSE)","v":2},1718,125,{"$f":"VLOOKUP(E1720,'Ark1'!$C$2:$D$11,2,FALSE)","v":5},1718,200,{"$f":"VLOOKUP(H1720,'Ark1'!$C$2:$D$12,2,FALSE)","v":5}]
[1719,32,{"$f":"VLOOKUP(B1721,'Ark1'!C$2:D$11,2,FALSE)","v":2},1719,125,{"$f":"VLOOKUP(E1721,'Ark1'!$C$2:$D$11,2,FALSE)","v":5},1719,200,{"$f":"VLOOKUP(H1721,'Ark1'!$C$2:$D$12,2,FALSE)","v":5}]
[1720,32,{"$f":"VLOOKUP(B1722,'Ark1'!C$2:D$11,2,FALSE)","v":2},1720,125,{"$f":"VLOOKUP(E1722,'Ark1'!$C$2:$D$11,2,FALSE)","v":5},1720,200,{"$f":"VLOOKUP(H1722,'Ark1'!$C$2:$D$12,2,FALSE)","v":5}]
[1721,32,{"$f":"VLOOKUP(B1723,'Ark1'!C$2:D$11,2,FALSE)","v":2},1721,125,{"$f":"VLOOKUP(E1723,'Ark1'!$C$2:$D$11,2,FALSE)","v":5},1721,200,{"$f":"VLOOKUP(H1723,'Ark1'!$C$2:$D$12,2,FALSE)","v":5}]
[1722,32,{"$f":"VLOOKUP(B1724,'Ark1'!C$2:D$11,2,FALSE)","v":2},1722,125,{"$f":"VLOOKUP(E1724,'Ark1'!$C$2:$D$11,2,FALSE)","v":5},1722,200,{"$f":"VLOOKUP(H1724,'Ark1'!$C$2:$D$12,2,FALSE)","v":5}]
[1723,32,{"$f":"VLOOKUP(B1725,'Ark1'!C$2:D$11,2,FALSE)","v":2},1723,125,{"$f":"VLOOKUP(E1725,'Ark1'!$C$2:$D$11,2,FALSE)","v":5},1723,200,{"$f":"VLOOKUP(H1725,'Ark1'!$C$2:$D$12,2,FALSE)","v":5}]
[1724,32,{"$f":"VLOOKUP(B1726,'Ark1'!C$2:D$11,2,FALSE)","v":2},1724,125,{"$f":"VLOOKUP(E1726,'Ark1'!$C$2:$D$11,2,FALSE)","v":5},1724,200,{"$f":"VLOOKUP(H1726,'Ark1'!$C$2:$D$12,2,FALSE)","v":5}]
[1725,32,{"$f":"VLOOKUP(B1727,'Ark1'!C$2:D$11,2,FALSE)","v":2},1725,125,{"$f":"VLOOKUP(E1727,'Ark1'!$C$2:$D$11,2,FALSE)","v":5},1725,200,{"$f":"VLOOKUP(H1727,'Ark1'!$C$2:$D$12,2,FALSE)","v":5}]
[1726,32,{"$f":"VLOOKUP(B1728,'Ark1'!C$2:D$11,2,FALSE)","v":2},1726,125,{"$f":"VLOOKUP(E1728,'Ark1'!$C$2:$D$11,2,FALSE)","v":5},1726,200,{"$f":"VLOOKUP(H1728,'Ark1'!$C$2:$D$12,2,FALSE)","v":5}]
[1727,32,{"$f":"VLOOKUP(B1729,'Ark1'!C$2:D$11,2,FALSE)","v":2},1727,125,{"$f":"VLOOKUP(E1729,'Ark1'!$C$2:$D$11,2,FALSE)","v":5},1727,200,{"$f":"VLOOKUP(H1729,'Ark1'!$C$2:$D$12,2,FALSE)","v":5}]
[1728,32,{"$f":"VLOOKUP(B1730,'Ark1'!C$2:D$11,2,FALSE)","v":2},1728,125,{"$f":"VLOOKUP(E1730,'Ark1'!$C$2:$D$11,2,FALSE)","v":5},1728,200,{"$f":"VLOOKUP(H1730,'Ark1'!$C$2:$D$12,2,FALSE)","v":5}]
[1729,32,{"$f":"VLOOKUP(B1731,'Ark1'!C$2:D$11,2,FALSE)","v":2},1729,125,{"$f":"VLOOKUP(E1731,'Ark1'!$C$2:$D$11,2,FALSE)","v":5},1729,200,{"$f":"VLOOKUP(H1731,'Ark1'!$C$2:$D$12,2,FALSE)","v":5}]
[1730,32,{"$f":"VLOOKUP(B1732,'Ark1'!C$2:D$11,2,FALSE)","v":2},1730,125,{"$f":"VLOOKUP(E1732,'Ark1'!$C$2:$D$11,2,FALSE)","v":5},1730,200,{"$f":"VLOOKUP(H1732,'Ark1'!$C$2:$D$12,2,FALSE)","v":5}]
[1731,32,{"$f":"VLOOKUP(B1733,'Ark1'!C$2:D$11,2,FALSE)","v":2},1731,125,{"$f":"VLOOKUP(E1733,'Ark1'!$C$2:$D$11,2,FALSE)","v":5},1731,200,{"$f":"VLOOKUP(H1733,'Ark1'!$C$2:$D$12,2,FALSE)","v":5}]
[1732,32,{"$f":"VLOOKUP(B1734,'Ark1'!C$2:D$11,2,FALSE)","v":2},1732,125,{"$f":"VLOOKUP(E1734,'Ark1'!$C$2:$D$11,2,FALSE)","v":5},1732,200,{"$f":"VLOOKUP(H1734,'Ark1'!$C$2:$D$12,2,FALSE)","v":5}]
[1733,32,{"$f":"VLOOKUP(B1735,'Ark1'!C$2:D$11,2,FALSE)","v":2},1733,125,{"$f":"VLOOKUP(E1735,'Ark1'!$C$2:$D$11,2,FALSE)","v":5},1733,200,{"$f":"VLOOKUP(H1735,'Ark1'!$C$2:$D$12,2,FALSE)","v":5}]
[1734,32,{"$f":"VLOOKUP(B1736,'Ark1'!C$2:D$11,2,FALSE)","v":2},1734,125,{"$f":"VLOOKUP(E1736,'Ark1'!$C$2:$D$11,2,FALSE)","v":5},1734,200,{"$f":"VLOOKUP(H1736,'Ark1'!$C$2:$D$12,2,FALSE)","v":5}]
[1735,32,{"$f":"VLOOKUP(B1737,'Ark1'!C$2:D$11,2,FALSE)","v":2},1735,125,{"$f":"VLOOKUP(E1737,'Ark1'!$C$2:$D$11,2,FALSE)","v":5},1735,200,{"$f":"VLOOKUP(H1737,'Ark1'!$C$2:$D$12,2,FALSE)","v":5}]
[1736,32,{"$f":"VLOOKUP(B1738,'Ark1'!C$2:D$11,2,FALSE)","v":2},1736,125,{"$f":"VLOOKUP(E1738,'Ark1'!$C$2:$D$11,2,FALSE)","v":5},1736,200,{"$f":"VLOOKUP(H1738,'Ark1'!$C$2:$D$12,2,FALSE)","v":5}]
[1737,32,{"$f":"VLOOKUP(B1739,'Ark1'!C$2:D$11,2,FALSE)","v":2},1737,125,{"$f":"VLOOKUP(E1739,'Ark1'!$C$2:$D$11,2,FALSE)","v":5},1737,200,{"$f":"VLOOKUP(H1739,'Ark1'!$C$2:$D$12,2,FALSE)","v":5}]
[1738,32,{"$f":"VLOOKUP(B1740,'Ark1'!C$2:D$11,2,FALSE)","v":2},1738,125,{"$f":"VLOOKUP(E1740,'Ark1'!$C$2:$D$11,2,FALSE)","v":5},1738,200,{"$f":"VLOOKUP(H1740,'Ark1'!$C$2:$D$12,2,FALSE)","v":5}]
[1739,32,{"$f":"VLOOKUP(B1741,'Ark1'!C$2:D$11,2,FALSE)","v":2},1739,125,{"$f":"VLOOKUP(E1741,'Ark1'!$C$2:$D$11,2,FALSE)","v":5},1739,200,{"$f":"VLOOKUP(H1741,'Ark1'!$C$2:$D$12,2,FALSE)","v":5}]
[1740,32,{"$f":"VLOOKUP(B1742,'Ark1'!C$2:D$11,2,FALSE)","v":2},1740,125,{"$f":"VLOOKUP(E1742,'Ark1'!$C$2:$D$11,2,FALSE)","v":5},1740,200,{"$f":"VLOOKUP(H1742,'Ark1'!$C$2:$D$12,2,FALSE)","v":5}]
[1741,32,{"$f":"VLOOKUP(B1743,'Ark1'!C$2:D$11,2,FALSE)","v":2},1741,125,{"$f":"VLOOKUP(E1743,'Ark1'!$C$2:$D$11,2,FALSE)","v":5},1741,200,{"$f":"VLOOKUP(H1743,'Ark1'!$C$2:$D$12,2,FALSE)","v":5}]
[1742,32,{"$f":"VLOOKUP(B1744,'Ark1'!C$2:D$11,2,FALSE)","v":2},1742,125,{"$f":"VLOOKUP(E1744,'Ark1'!$C$2:$D$11,2,FALSE)","v":5},1742,200,{"$f":"VLOOKUP(H1744,'Ark1'!$C$2:$D$12,2,FALSE)","v":5}]
[1743,32,{"$f":"VLOOKUP(B1745,'Ark1'!C$2:D$11,2,FALSE)","v":2},1743,125,{"$f":"VLOOKUP(E1745,'Ark1'!$C$2:$D$11,2,FALSE)","v":5},1743,200,{"$f":"VLOOKUP(H1745,'Ark1'!$C$2:$D$12,2,FALSE)","v":5}]
[1744,32,{"$f":"VLOOKUP(B1746,'Ark1'!C$2:D$11,2,FALSE)","v":2},1744,125,{"$f":"VLOOKUP(E1746,'Ark1'!$C$2:$D$11,2,FALSE)","v":5},1744,200,{"$f":"VLOOKUP(H1746,'Ark1'!$C$2:$D$12,2,FALSE)","v":5}]
[1745,32,{"$f":"VLOOKUP(B1747,'Ark1'!C$2:D$11,2,FALSE)","v":2},1745,125,{"$f":"VLOOKUP(E1747,'Ark1'!$C$2:$D$11,2,FALSE)","v":5},1745,200,{"$f":"VLOOKUP(H1747,'Ark1'!$C$2:$D$12,2,FALSE)","v":5}]
[1746,32,{"$f":"VLOOKUP(B1748,'Ark1'!C$2:D$11,2,FALSE)","v":2},1746,125,{"$f":"VLOOKUP(E1748,'Ark1'!$C$2:$D$11,2,FALSE)","v":5},1746,200,{"$f":"VLOOKUP(H1748,'Ark1'!$C$2:$D$12,2,FALSE)","v":5}]
[1747,32,{"$f":"VLOOKUP(B1749,'Ark1'!C$2:D$11,2,FALSE)","v":2},1747,125,{"$f":"VLOOKUP(E1749,'Ark1'!$C$2:$D$11,2,FALSE)","v":5},1747,200,{"$f":"VLOOKUP(H1749,'Ark1'!$C$2:$D$12,2,FALSE)","v":5}]
[1748,32,{"$f":"VLOOKUP(B1750,'Ark1'!C$2:D$11,2,FALSE)","v":2},1748,125,{"$f":"VLOOKUP(E1750,'Ark1'!$C$2:$D$11,2,FALSE)","v":5},1748,200,{"$f":"VLOOKUP(H1750,'Ark1'!$C$2:$D$12,2,FALSE)","v":5}]
[1749,32,{"$f":"VLOOKUP(B1751,'Ark1'!C$2:D$11,2,FALSE)","v":2},1749,125,{"$f":"VLOOKUP(E1751,'Ark1'!$C$2:$D$11,2,FALSE)","v":5},1749,200,{"$f":"VLOOKUP(H1751,'Ark1'!$C$2:$D$12,2,FALSE)","v":5}]
[1750,32,{"$f":"VLOOKUP(B1752,'Ark1'!C$2:D$11,2,FALSE)","v":2},1750,125,{"$f":"VLOOKUP(E1752,'Ark1'!$C$2:$D$11,2,FALSE)","v":5},1750,200,{"$f":"VLOOKUP(H1752,'Ark1'!$C$2:$D$12,2,FALSE)","v":5}]
[1751,32,{"$f":"VLOOKUP(B1753,'Ark1'!C$2:D$11,2,FALSE)","v":2},1751,125,{"$f":"VLOOKUP(E1753,'Ark1'!$C$2:$D$11,2,FALSE)","v":5},1751,200,{"$f":"VLOOKUP(H1753,'Ark1'!$C$2:$D$12,2,FALSE)","v":5}]
[1752,32,{"$f":"VLOOKUP(B1754,'Ark1'!C$2:D$11,2,FALSE)","v":2},1752,125,{"$f":"VLOOKUP(E1754,'Ark1'!$C$2:$D$11,2,FALSE)","v":5},1752,200,{"$f":"VLOOKUP(H1754,'Ark1'!$C$2:$D$12,2,FALSE)","v":5}]
[1753,32,{"$f":"VLOOKUP(B1755,'Ark1'!C$2:D$11,2,FALSE)","v":2},1753,125,{"$f":"VLOOKUP(E1755,'Ark1'!$C$2:$D$11,2,FALSE)","v":5},1753,200,{"$f":"VLOOKUP(H1755,'Ark1'!$C$2:$D$12,2,FALSE)","v":5}]
[1754,32,{"$f":"VLOOKUP(B1756,'Ark1'!C$2:D$11,2,FALSE)","v":2},1754,125,{"$f":"VLOOKUP(E1756,'Ark1'!$C$2:$D$11,2,FALSE)","v":5},1754,200,{"$f":"VLOOKUP(H1756,'Ark1'!$C$2:$D$12,2,FALSE)","v":5}]
[1755,32,{"$f":"VLOOKUP(B1757,'Ark1'!C$2:D$11,2,FALSE)","v":2},1755,125,{"$f":"VLOOKUP(E1757,'Ark1'!$C$2:$D$11,2,FALSE)","v":5},1755,200,{"$f":"VLOOKUP(H1757,'Ark1'!$C$2:$D$12,2,FALSE)","v":5}]
[1756,32,{"$f":"VLOOKUP(B1758,'Ark1'!C$2:D$11,2,FALSE)","v":2},1756,125,{"$f":"VLOOKUP(E1758,'Ark1'!$C$2:$D$11,2,FALSE)","v":5},1756,200,{"$f":"VLOOKUP(H1758,'Ark1'!$C$2:$D$12,2,FALSE)","v":5}]
[1757,32,{"$f":"VLOOKUP(B1759,'Ark1'!C$2:D$11,2,FALSE)","v":2},1757,125,{"$f":"VLOOKUP(E1759,'Ark1'!$C$2:$D$11,2,FALSE)","v":5},1757,200,{"$f":"VLOOKUP(H1759,'Ark1'!$C$2:$D$12,2,FALSE)","v":5}]
[1758,32,{"$f":"VLOOKUP(B1760,'Ark1'!C$2:D$11,2,FALSE)","v":2},1758,125,{"$f":"VLOOKUP(E1760,'Ark1'!$C$2:$D$11,2,FALSE)","v":5},1758,200,{"$f":"VLOOKUP(H1760,'Ark1'!$C$2:$D$12,2,FALSE)","v":5}]
[1759,32,{"$f":"VLOOKUP(B1761,'Ark1'!C$2:D$11,2,FALSE)","v":2},1759,125,{"$f":"VLOOKUP(E1761,'Ark1'!$C$2:$D$11,2,FALSE)","v":5},1759,200,{"$f":"VLOOKUP(H1761,'Ark1'!$C$2:$D$12,2,FALSE)","v":5}]
[1760,32,{"$f":"VLOOKUP(B1762,'Ark1'!C$2:D$11,2,FALSE)","v":2},1760,125,{"$f":"VLOOKUP(E1762,'Ark1'!$C$2:$D$11,2,FALSE)","v":5},1760,200,{"$f":"VLOOKUP(H1762,'Ark1'!$C$2:$D$12,2,FALSE)","v":5}]
[1761,32,{"$f":"VLOOKUP(B1763,'Ark1'!C$2:D$11,2,FALSE)","v":2},1761,125,{"$f":"VLOOKUP(E1763,'Ark1'!$C$2:$D$11,2,FALSE)","v":5},1761,200,{"$f":"VLOOKUP(H1763,'Ark1'!$C$2:$D$12,2,FALSE)","v":5}]
[1762,32,{"$f":"VLOOKUP(B1764,'Ark1'!C$2:D$11,2,FALSE)","v":2},1762,125,{"$f":"VLOOKUP(E1764,'Ark1'!$C$2:$D$11,2,FALSE)","v":5},1762,200,{"$f":"VLOOKUP(H1764,'Ark1'!$C$2:$D$12,2,FALSE)","v":5}]
[1763,32,{"$f":"VLOOKUP(B1765,'Ark1'!C$2:D$11,2,FALSE)","v":2},1763,125,{"$f":"VLOOKUP(E1765,'Ark1'!$C$2:$D$11,2,FALSE)","v":5},1763,200,{"$f":"VLOOKUP(H1765,'Ark1'!$C$2:$D$12,2,FALSE)","v":5}]
[1764,32,{"$f":"VLOOKUP(B1766,'Ark1'!C$2:D$11,2,FALSE)","v":2},1764,125,{"$f":"VLOOKUP(E1766,'Ark1'!$C$2:$D$11,2,FALSE)","v":5},1764,200,{"$f":"VLOOKUP(H1766,'Ark1'!$C$2:$D$12,2,FALSE)","v":5}]
[1765,32,{"$f":"VLOOKUP(B1767,'Ark1'!C$2:D$11,2,FALSE)","v":2},1765,125,{"$f":"VLOOKUP(E1767,'Ark1'!$C$2:$D$11,2,FALSE)","v":5},1765,200,{"$f":"VLOOKUP(H1767,'Ark1'!$C$2:$D$12,2,FALSE)","v":5}]
[1766,32,{"$f":"VLOOKUP(B1768,'Ark1'!C$2:D$11,2,FALSE)","v":2},1766,125,{"$f":"VLOOKUP(E1768,'Ark1'!$C$2:$D$11,2,FALSE)","v":5},1766,200,{"$f":"VLOOKUP(H1768,'Ark1'!$C$2:$D$12,2,FALSE)","v":5}]
[1767,32,{"$f":"VLOOKUP(B1769,'Ark1'!C$2:D$11,2,FALSE)","v":2},1767,125,{"$f":"VLOOKUP(E1769,'Ark1'!$C$2:$D$11,2,FALSE)","v":5},1767,200,{"$f":"VLOOKUP(H1769,'Ark1'!$C$2:$D$12,2,FALSE)","v":5}]
[1768,32,{"$f":"VLOOKUP(B1770,'Ark1'!C$2:D$11,2,FALSE)","v":2},1768,125,{"$f":"VLOOKUP(E1770,'Ark1'!$C$2:$D$11,2,FALSE)","v":5},1768,200,{"$f":"VLOOKUP(H1770,'Ark1'!$C$2:$D$12,2,FALSE)","v":5}]
[1769,32,{"$f":"VLOOKUP(B1771,'Ark1'!C$2:D$11,2,FALSE)","v":2},1769,125,{"$f":"VLOOKUP(E1771,'Ark1'!$C$2:$D$11,2,FALSE)","v":5},1769,200,{"$f":"VLOOKUP(H1771,'Ark1'!$C$2:$D$12,2,FALSE)","v":5}]
[1770,32,{"$f":"VLOOKUP(B1772,'Ark1'!C$2:D$11,2,FALSE)","v":2},1770,125,{"$f":"VLOOKUP(E1772,'Ark1'!$C$2:$D$11,2,FALSE)","v":5},1770,200,{"$f":"VLOOKUP(H1772,'Ark1'!$C$2:$D$12,2,FALSE)","v":5}]
[1771,32,{"$f":"VLOOKUP(B1773,'Ark1'!C$2:D$11,2,FALSE)","v":2},1771,125,{"$f":"VLOOKUP(E1773,'Ark1'!$C$2:$D$11,2,FALSE)","v":5},1771,200,{"$f":"VLOOKUP(H1773,'Ark1'!$C$2:$D$12,2,FALSE)","v":5}]
[1772,32,{"$f":"VLOOKUP(B1774,'Ark1'!C$2:D$11,2,FALSE)","v":2},1772,125,{"$f":"VLOOKUP(E1774,'Ark1'!$C$2:$D$11,2,FALSE)","v":5},1772,200,{"$f":"VLOOKUP(H1774,'Ark1'!$C$2:$D$12,2,FALSE)","v":5}]
[1773,32,{"$f":"VLOOKUP(B1775,'Ark1'!C$2:D$11,2,FALSE)","v":2},1773,125,{"$f":"VLOOKUP(E1775,'Ark1'!$C$2:$D$11,2,FALSE)","v":5},1773,200,{"$f":"VLOOKUP(H1775,'Ark1'!$C$2:$D$12,2,FALSE)","v":5}]
[1774,32,{"$f":"VLOOKUP(B1776,'Ark1'!C$2:D$11,2,FALSE)","v":2},1774,125,{"$f":"VLOOKUP(E1776,'Ark1'!$C$2:$D$11,2,FALSE)","v":5},1774,200,{"$f":"VLOOKUP(H1776,'Ark1'!$C$2:$D$12,2,FALSE)","v":5}]
[1775,32,{"$f":"VLOOKUP(B1777,'Ark1'!C$2:D$11,2,FALSE)","v":2},1775,125,{"$f":"VLOOKUP(E1777,'Ark1'!$C$2:$D$11,2,FALSE)","v":5},1775,200,{"$f":"VLOOKUP(H1777,'Ark1'!$C$2:$D$12,2,FALSE)","v":5}]
[1776,32,{"$f":"VLOOKUP(B1778,'Ark1'!C$2:D$11,2,FALSE)","v":2},1776,125,{"$f":"VLOOKUP(E1778,'Ark1'!$C$2:$D$11,2,FALSE)","v":5},1776,200,{"$f":"VLOOKUP(H1778,'Ark1'!$C$2:$D$12,2,FALSE)","v":5}]
[1777,32,{"$f":"VLOOKUP(B1779,'Ark1'!C$2:D$11,2,FALSE)","v":2},1777,125,{"$f":"VLOOKUP(E1779,'Ark1'!$C$2:$D$11,2,FALSE)","v":5},1777,200,{"$f":"VLOOKUP(H1779,'Ark1'!$C$2:$D$12,2,FALSE)","v":5}]
[1778,32,{"$f":"VLOOKUP(B1780,'Ark1'!C$2:D$11,2,FALSE)","v":2},1778,125,{"$f":"VLOOKUP(E1780,'Ark1'!$C$2:$D$11,2,FALSE)","v":5},1778,200,{"$f":"VLOOKUP(H1780,'Ark1'!$C$2:$D$12,2,FALSE)","v":5}]
[1779,32,{"$f":"VLOOKUP(B1781,'Ark1'!C$2:D$11,2,FALSE)","v":2},1779,125,{"$f":"VLOOKUP(E1781,'Ark1'!$C$2:$D$11,2,FALSE)","v":5},1779,200,{"$f":"VLOOKUP(H1781,'Ark1'!$C$2:$D$12,2,FALSE)","v":5}]
[1780,32,{"$f":"VLOOKUP(B1782,'Ark1'!C$2:D$11,2,FALSE)","v":2},1780,125,{"$f":"VLOOKUP(E1782,'Ark1'!$C$2:$D$11,2,FALSE)","v":5},1780,200,{"$f":"VLOOKUP(H1782,'Ark1'!$C$2:$D$12,2,FALSE)","v":5}]
[1781,32,{"$f":"VLOOKUP(B1783,'Ark1'!C$2:D$11,2,FALSE)","v":2},1781,125,{"$f":"VLOOKUP(E1783,'Ark1'!$C$2:$D$11,2,FALSE)","v":5},1781,200,{"$f":"VLOOKUP(H1783,'Ark1'!$C$2:$D$12,2,FALSE)","v":5}]
[1782,32,{"$f":"VLOOKUP(B1784,'Ark1'!C$2:D$11,2,FALSE)","v":2},1782,125,{"$f":"VLOOKUP(E1784,'Ark1'!$C$2:$D$11,2,FALSE)","v":5},1782,200,{"$f":"VLOOKUP(H1784,'Ark1'!$C$2:$D$12,2,FALSE)","v":5}]
[1783,32,{"$f":"VLOOKUP(B1785,'Ark1'!C$2:D$11,2,FALSE)","v":2},1783,125,{"$f":"VLOOKUP(E1785,'Ark1'!$C$2:$D$11,2,FALSE)","v":5},1783,200,{"$f":"VLOOKUP(H1785,'Ark1'!$C$2:$D$12,2,FALSE)","v":5}]
[1784,32,{"$f":"VLOOKUP(B1786,'Ark1'!C$2:D$11,2,FALSE)","v":2},1784,125,{"$f":"VLOOKUP(E1786,'Ark1'!$C$2:$D$11,2,FALSE)","v":5},1784,200,{"$f":"VLOOKUP(H1786,'Ark1'!$C$2:$D$12,2,FALSE)","v":5}]
[1785,32,{"$f":"VLOOKUP(B1787,'Ark1'!C$2:D$11,2,FALSE)","v":2},1785,125,{"$f":"VLOOKUP(E1787,'Ark1'!$C$2:$D$11,2,FALSE)","v":5},1785,200,{"$f":"VLOOKUP(H1787,'Ark1'!$C$2:$D$12,2,FALSE)","v":5}]
[1786,32,{"$f":"VLOOKUP(B1788,'Ark1'!C$2:D$11,2,FALSE)","v":2},1786,125,{"$f":"VLOOKUP(E1788,'Ark1'!$C$2:$D$11,2,FALSE)","v":5},1786,200,{"$f":"VLOOKUP(H1788,'Ark1'!$C$2:$D$12,2,FALSE)","v":5}]
[1787,32,{"$f":"VLOOKUP(B1789,'Ark1'!C$2:D$11,2,FALSE)","v":2},1787,125,{"$f":"VLOOKUP(E1789,'Ark1'!$C$2:$D$11,2,FALSE)","v":5},1787,200,{"$f":"VLOOKUP(H1789,'Ark1'!$C$2:$D$12,2,FALSE)","v":5}]
[1788,32,{"$f":"VLOOKUP(B1790,'Ark1'!C$2:D$11,2,FALSE)","v":2},1788,125,{"$f":"VLOOKUP(E1790,'Ark1'!$C$2:$D$11,2,FALSE)","v":5},1788,200,{"$f":"VLOOKUP(H1790,'Ark1'!$C$2:$D$12,2,FALSE)","v":5}]
[1789,32,{"$f":"VLOOKUP(B1791,'Ark1'!C$2:D$11,2,FALSE)","v":2},1789,125,{"$f":"VLOOKUP(E1791,'Ark1'!$C$2:$D$11,2,FALSE)","v":5},1789,200,{"$f":"VLOOKUP(H1791,'Ark1'!$C$2:$D$12,2,FALSE)","v":5}]
[1790,32,{"$f":"VLOOKUP(B1792,'Ark1'!C$2:D$11,2,FALSE)","v":2},1790,125,{"$f":"VLOOKUP(E1792,'Ark1'!$C$2:$D$11,2,FALSE)","v":5},1790,200,{"$f":"VLOOKUP(H1792,'Ark1'!$C$2:$D$12,2,FALSE)","v":5}]
[1791,32,{"$f":"VLOOKUP(B1793,'Ark1'!C$2:D$11,2,FALSE)","v":2},1791,125,{"$f":"VLOOKUP(E1793,'Ark1'!$C$2:$D$11,2,FALSE)","v":5},1791,200,{"$f":"VLOOKUP(H1793,'Ark1'!$C$2:$D$12,2,FALSE)","v":5}]
[1792,32,{"$f":"VLOOKUP(B1794,'Ark1'!C$2:D$11,2,FALSE)","v":2},1792,125,{"$f":"VLOOKUP(E1794,'Ark1'!$C$2:$D$11,2,FALSE)","v":5},1792,200,{"$f":"VLOOKUP(H1794,'Ark1'!$C$2:$D$12,2,FALSE)","v":5}]
[1793,32,{"$f":"VLOOKUP(B1795,'Ark1'!C$2:D$11,2,FALSE)","v":2},1793,125,{"$f":"VLOOKUP(E1795,'Ark1'!$C$2:$D$11,2,FALSE)","v":5},1793,200,{"$f":"VLOOKUP(H1795,'Ark1'!$C$2:$D$12,2,FALSE)","v":5}]
[1794,32,{"$f":"VLOOKUP(B1796,'Ark1'!C$2:D$11,2,FALSE)","v":2},1794,125,{"$f":"VLOOKUP(E1796,'Ark1'!$C$2:$D$11,2,FALSE)","v":5},1794,200,{"$f":"VLOOKUP(H1796,'Ark1'!$C$2:$D$12,2,FALSE)","v":5}]
[1795,32,{"$f":"VLOOKUP(B1797,'Ark1'!C$2:D$11,2,FALSE)","v":2},1795,125,{"$f":"VLOOKUP(E1797,'Ark1'!$C$2:$D$11,2,FALSE)","v":5},1795,200,{"$f":"VLOOKUP(H1797,'Ark1'!$C$2:$D$12,2,FALSE)","v":5}]
[1796,32,{"$f":"VLOOKUP(B1798,'Ark1'!C$2:D$11,2,FALSE)","v":2},1796,125,{"$f":"VLOOKUP(E1798,'Ark1'!$C$2:$D$11,2,FALSE)","v":5},1796,200,{"$f":"VLOOKUP(H1798,'Ark1'!$C$2:$D$12,2,FALSE)","v":5}]
[1797,32,{"$f":"VLOOKUP(B1799,'Ark1'!C$2:D$11,2,FALSE)","v":2},1797,125,{"$f":"VLOOKUP(E1799,'Ark1'!$C$2:$D$11,2,FALSE)","v":5},1797,200,{"$f":"VLOOKUP(H1799,'Ark1'!$C$2:$D$12,2,FALSE)","v":5}]
[1798,32,{"$f":"VLOOKUP(B1800,'Ark1'!C$2:D$11,2,FALSE)","v":2},1798,125,{"$f":"VLOOKUP(E1800,'Ark1'!$C$2:$D$11,2,FALSE)","v":5},1798,200,{"$f":"VLOOKUP(H1800,'Ark1'!$C$2:$D$12,2,FALSE)","v":5}]
[1799,32,{"$f":"VLOOKUP(B1801,'Ark1'!C$2:D$11,2,FALSE)","v":2},1799,125,{"$f":"VLOOKUP(E1801,'Ark1'!$C$2:$D$11,2,FALSE)","v":5},1799,200,{"$f":"VLOOKUP(H1801,'Ark1'!$C$2:$D$12,2,FALSE)","v":5}]
[1800,32,{"$f":"VLOOKUP(B1802,'Ark1'!C$2:D$11,2,FALSE)","v":2},1800,125,{"$f":"VLOOKUP(E1802,'Ark1'!$C$2:$D$11,2,FALSE)","v":5},1800,200,{"$f":"VLOOKUP(H1802,'Ark1'!$C$2:$D$12,2,FALSE)","v":5}]
[1801,32,{"$f":"VLOOKUP(B1803,'Ark1'!C$2:D$11,2,FALSE)","v":2},1801,125,{"$f":"VLOOKUP(E1803,'Ark1'!$C$2:$D$11,2,FALSE)","v":5},1801,200,{"$f":"VLOOKUP(H1803,'Ark1'!$C$2:$D$12,2,FALSE)","v":5}]
[1802,32,{"$f":"VLOOKUP(B1804,'Ark1'!C$2:D$11,2,FALSE)","v":2},1802,125,{"$f":"VLOOKUP(E1804,'Ark1'!$C$2:$D$11,2,FALSE)","v":5},1802,200,{"$f":"VLOOKUP(H1804,'Ark1'!$C$2:$D$12,2,FALSE)","v":5}]
[1803,32,{"$f":"VLOOKUP(B1805,'Ark1'!C$2:D$11,2,FALSE)","v":2},1803,125,{"$f":"VLOOKUP(E1805,'Ark1'!$C$2:$D$11,2,FALSE)","v":5},1803,200,{"$f":"VLOOKUP(H1805,'Ark1'!$C$2:$D$12,2,FALSE)","v":5}]
[1804,32,{"$f":"VLOOKUP(B1806,'Ark1'!C$2:D$11,2,FALSE)","v":2},1804,125,{"$f":"VLOOKUP(E1806,'Ark1'!$C$2:$D$11,2,FALSE)","v":5},1804,200,{"$f":"VLOOKUP(H1806,'Ark1'!$C$2:$D$12,2,FALSE)","v":5}]
[1805,32,{"$f":"VLOOKUP(B1807,'Ark1'!C$2:D$11,2,FALSE)","v":2},1805,125,{"$f":"VLOOKUP(E1807,'Ark1'!$C$2:$D$11,2,FALSE)","v":5},1805,200,{"$f":"VLOOKUP(H1807,'Ark1'!$C$2:$D$12,2,FALSE)","v":5}]
[1806,32,{"$f":"VLOOKUP(B1808,'Ark1'!C$2:D$11,2,FALSE)","v":2},1806,125,{"$f":"VLOOKUP(E1808,'Ark1'!$C$2:$D$11,2,FALSE)","v":5},1806,200,{"$f":"VLOOKUP(H1808,'Ark1'!$C$2:$D$12,2,FALSE)","v":5}]
[1807,32,{"$f":"VLOOKUP(B1809,'Ark1'!C$2:D$11,2,FALSE)","v":2},1807,125,{"$f":"VLOOKUP(E1809,'Ark1'!$C$2:$D$11,2,FALSE)","v":5},1807,200,{"$f":"VLOOKUP(H1809,'Ark1'!$C$2:$D$12,2,FALSE)","v":5}]
[1808,32,{"$f":"VLOOKUP(B1810,'Ark1'!C$2:D$11,2,FALSE)","v":2},1808,125,{"$f":"VLOOKUP(E1810,'Ark1'!$C$2:$D$11,2,FALSE)","v":5},1808,200,{"$f":"VLOOKUP(H1810,'Ark1'!$C$2:$D$12,2,FALSE)","v":5}]
[1809,32,{"$f":"VLOOKUP(B1811,'Ark1'!C$2:D$11,2,FALSE)","v":2},1809,125,{"$f":"VLOOKUP(E1811,'Ark1'!$C$2:$D$11,2,FALSE)","v":5},1809,200,{"$f":"VLOOKUP(H1811,'Ark1'!$C$2:$D$12,2,FALSE)","v":5}]
[1810,32,{"$f":"VLOOKUP(B1812,'Ark1'!C$2:D$11,2,FALSE)","v":2},1810,125,{"$f":"VLOOKUP(E1812,'Ark1'!$C$2:$D$11,2,FALSE)","v":5},1810,200,{"$f":"VLOOKUP(H1812,'Ark1'!$C$2:$D$12,2,FALSE)","v":5}]
[1811,32,{"$f":"VLOOKUP(B1813,'Ark1'!C$2:D$11,2,FALSE)","v":2},1811,125,{"$f":"VLOOKUP(E1813,'Ark1'!$C$2:$D$11,2,FALSE)","v":5},1811,200,{"$f":"VLOOKUP(H1813,'Ark1'!$C$2:$D$12,2,FALSE)","v":5}]
[1812,32,{"$f":"VLOOKUP(B1814,'Ark1'!C$2:D$11,2,FALSE)","v":2},1812,125,{"$f":"VLOOKUP(E1814,'Ark1'!$C$2:$D$11,2,FALSE)","v":5},1812,200,{"$f":"VLOOKUP(H1814,'Ark1'!$C$2:$D$12,2,FALSE)","v":5}]
[1813,32,{"$f":"VLOOKUP(B1815,'Ark1'!C$2:D$11,2,FALSE)","v":2},1813,125,{"$f":"VLOOKUP(E1815,'Ark1'!$C$2:$D$11,2,FALSE)","v":5},1813,200,{"$f":"VLOOKUP(H1815,'Ark1'!$C$2:$D$12,2,FALSE)","v":5}]
[1814,32,{"$f":"VLOOKUP(B1816,'Ark1'!C$2:D$11,2,FALSE)","v":2},1814,125,{"$f":"VLOOKUP(E1816,'Ark1'!$C$2:$D$11,2,FALSE)","v":5},1814,200,{"$f":"VLOOKUP(H1816,'Ark1'!$C$2:$D$12,2,FALSE)","v":5}]
[1815,32,{"$f":"VLOOKUP(B1817,'Ark1'!C$2:D$11,2,FALSE)","v":2},1815,125,{"$f":"VLOOKUP(E1817,'Ark1'!$C$2:$D$11,2,FALSE)","v":5},1815,200,{"$f":"VLOOKUP(H1817,'Ark1'!$C$2:$D$12,2,FALSE)","v":5}]
[1816,32,{"$f":"VLOOKUP(B1818,'Ark1'!C$2:D$11,2,FALSE)","v":2},1816,125,{"$f":"VLOOKUP(E1818,'Ark1'!$C$2:$D$11,2,FALSE)","v":5},1816,200,{"$f":"VLOOKUP(H1818,'Ark1'!$C$2:$D$12,2,FALSE)","v":5}]
[1817,32,{"$f":"VLOOKUP(B1819,'Ark1'!C$2:D$11,2,FALSE)","v":2},1817,125,{"$f":"VLOOKUP(E1819,'Ark1'!$C$2:$D$11,2,FALSE)","v":5},1817,200,{"$f":"VLOOKUP(H1819,'Ark1'!$C$2:$D$12,2,FALSE)","v":5}]
[1818,32,{"$f":"VLOOKUP(B1820,'Ark1'!C$2:D$11,2,FALSE)","v":2},1818,125,{"$f":"VLOOKUP(E1820,'Ark1'!$C$2:$D$11,2,FALSE)","v":5},1818,200,{"$f":"VLOOKUP(H1820,'Ark1'!$C$2:$D$12,2,FALSE)","v":5}]
[1819,32,{"$f":"VLOOKUP(B1821,'Ark1'!C$2:D$11,2,FALSE)","v":2},1819,125,{"$f":"VLOOKUP(E1821,'Ark1'!$C$2:$D$11,2,FALSE)","v":5},1819,200,{"$f":"VLOOKUP(H1821,'Ark1'!$C$2:$D$12,2,FALSE)","v":5}]
[1820,32,{"$f":"VLOOKUP(B1822,'Ark1'!C$2:D$11,2,FALSE)","v":2},1820,125,{"$f":"VLOOKUP(E1822,'Ark1'!$C$2:$D$11,2,FALSE)","v":5},1820,200,{"$f":"VLOOKUP(H1822,'Ark1'!$C$2:$D$12,2,FALSE)","v":5}]
[1821,32,{"$f":"VLOOKUP(B1823,'Ark1'!C$2:D$11,2,FALSE)","v":2},1821,125,{"$f":"VLOOKUP(E1823,'Ark1'!$C$2:$D$11,2,FALSE)","v":5},1821,200,{"$f":"VLOOKUP(H1823,'Ark1'!$C$2:$D$12,2,FALSE)","v":5}]
[1822,32,{"$f":"VLOOKUP(B1824,'Ark1'!C$2:D$11,2,FALSE)","v":2},1822,125,{"$f":"VLOOKUP(E1824,'Ark1'!$C$2:$D$11,2,FALSE)","v":5},1822,200,{"$f":"VLOOKUP(H1824,'Ark1'!$C$2:$D$12,2,FALSE)","v":5}]
[1823,32,{"$f":"VLOOKUP(B1825,'Ark1'!C$2:D$11,2,FALSE)","v":2},1823,125,{"$f":"VLOOKUP(E1825,'Ark1'!$C$2:$D$11,2,FALSE)","v":5},1823,200,{"$f":"VLOOKUP(H1825,'Ark1'!$C$2:$D$12,2,FALSE)","v":5}]
[1824,32,{"$f":"VLOOKUP(B1826,'Ark1'!C$2:D$11,2,FALSE)","v":2},1824,125,{"$f":"VLOOKUP(E1826,'Ark1'!$C$2:$D$11,2,FALSE)","v":5},1824,200,{"$f":"VLOOKUP(H1826,'Ark1'!$C$2:$D$12,2,FALSE)","v":5}]
[1825,32,{"$f":"VLOOKUP(B1827,'Ark1'!C$2:D$11,2,FALSE)","v":2},1825,125,{"$f":"VLOOKUP(E1827,'Ark1'!$C$2:$D$11,2,FALSE)","v":5},1825,200,{"$f":"VLOOKUP(H1827,'Ark1'!$C$2:$D$12,2,FALSE)","v":5}]
[1826,32,{"$f":"VLOOKUP(B1828,'Ark1'!C$2:D$11,2,FALSE)","v":2},1826,125,{"$f":"VLOOKUP(E1828,'Ark1'!$C$2:$D$11,2,FALSE)","v":5},1826,200,{"$f":"VLOOKUP(H1828,'Ark1'!$C$2:$D$12,2,FALSE)","v":5}]
[1827,32,{"$f":"VLOOKUP(B1829,'Ark1'!C$2:D$11,2,FALSE)","v":2},1827,125,{"$f":"VLOOKUP(E1829,'Ark1'!$C$2:$D$11,2,FALSE)","v":5},1827,200,{"$f":"VLOOKUP(H1829,'Ark1'!$C$2:$D$12,2,FALSE)","v":5}]
[1828,32,{"$f":"VLOOKUP(B1830,'Ark1'!C$2:D$11,2,FALSE)","v":2},1828,125,{"$f":"VLOOKUP(E1830,'Ark1'!$C$2:$D$11,2,FALSE)","v":5},1828,200,{"$f":"VLOOKUP(H1830,'Ark1'!$C$2:$D$12,2,FALSE)","v":5}]
[1829,32,{"$f":"VLOOKUP(B1831,'Ark1'!C$2:D$11,2,FALSE)","v":2},1829,125,{"$f":"VLOOKUP(E1831,'Ark1'!$C$2:$D$11,2,FALSE)","v":5},1829,200,{"$f":"VLOOKUP(H1831,'Ark1'!$C$2:$D$12,2,FALSE)","v":5}]
[1830,32,{"$f":"VLOOKUP(B1832,'Ark1'!C$2:D$11,2,FALSE)","v":2},1830,125,{"$f":"VLOOKUP(E1832,'Ark1'!$C$2:$D$11,2,FALSE)","v":5},1830,200,{"$f":"VLOOKUP(H1832,'Ark1'!$C$2:$D$12,2,FALSE)","v":5}]
[1831,32,{"$f":"VLOOKUP(B1833,'Ark1'!C$2:D$11,2,FALSE)","v":2},1831,125,{"$f":"VLOOKUP(E1833,'Ark1'!$C$2:$D$11,2,FALSE)","v":5},1831,200,{"$f":"VLOOKUP(H1833,'Ark1'!$C$2:$D$12,2,FALSE)","v":5}]
[1832,32,{"$f":"VLOOKUP(B1834,'Ark1'!C$2:D$11,2,FALSE)","v":2},1832,125,{"$f":"VLOOKUP(E1834,'Ark1'!$C$2:$D$11,2,FALSE)","v":5},1832,200,{"$f":"VLOOKUP(H1834,'Ark1'!$C$2:$D$12,2,FALSE)","v":5}]
[1833,32,{"$f":"VLOOKUP(B1835,'Ark1'!C$2:D$11,2,FALSE)","v":2},1833,125,{"$f":"VLOOKUP(E1835,'Ark1'!$C$2:$D$11,2,FALSE)","v":5},1833,200,{"$f":"VLOOKUP(H1835,'Ark1'!$C$2:$D$12,2,FALSE)","v":5}]
[1834,32,{"$f":"VLOOKUP(B1836,'Ark1'!C$2:D$11,2,FALSE)","v":2},1834,125,{"$f":"VLOOKUP(E1836,'Ark1'!$C$2:$D$11,2,FALSE)","v":5},1834,200,{"$f":"VLOOKUP(H1836,'Ark1'!$C$2:$D$12,2,FALSE)","v":5}]
[1835,32,{"$f":"VLOOKUP(B1837,'Ark1'!C$2:D$11,2,FALSE)","v":2},1835,125,{"$f":"VLOOKUP(E1837,'Ark1'!$C$2:$D$11,2,FALSE)","v":5},1835,200,{"$f":"VLOOKUP(H1837,'Ark1'!$C$2:$D$12,2,FALSE)","v":5}]
[1836,32,{"$f":"VLOOKUP(B1838,'Ark1'!C$2:D$11,2,FALSE)","v":2},1836,125,{"$f":"VLOOKUP(E1838,'Ark1'!$C$2:$D$11,2,FALSE)","v":5},1836,200,{"$f":"VLOOKUP(H1838,'Ark1'!$C$2:$D$12,2,FALSE)","v":5}]
[1837,32,{"$f":"VLOOKUP(B1839,'Ark1'!C$2:D$11,2,FALSE)","v":2},1837,125,{"$f":"VLOOKUP(E1839,'Ark1'!$C$2:$D$11,2,FALSE)","v":5},1837,200,{"$f":"VLOOKUP(H1839,'Ark1'!$C$2:$D$12,2,FALSE)","v":5}]
[1838,32,{"$f":"VLOOKUP(B1840,'Ark1'!C$2:D$11,2,FALSE)","v":2},1838,125,{"$f":"VLOOKUP(E1840,'Ark1'!$C$2:$D$11,2,FALSE)","v":5},1838,200,{"$f":"VLOOKUP(H1840,'Ark1'!$C$2:$D$12,2,FALSE)","v":5}]
[1839,32,{"$f":"VLOOKUP(B1841,'Ark1'!C$2:D$11,2,FALSE)","v":2},1839,125,{"$f":"VLOOKUP(E1841,'Ark1'!$C$2:$D$11,2,FALSE)","v":5},1839,200,{"$f":"VLOOKUP(H1841,'Ark1'!$C$2:$D$12,2,FALSE)","v":5}]
[1840,32,{"$f":"VLOOKUP(B1842,'Ark1'!C$2:D$11,2,FALSE)","v":2},1840,125,{"$f":"VLOOKUP(E1842,'Ark1'!$C$2:$D$11,2,FALSE)","v":5},1840,200,{"$f":"VLOOKUP(H1842,'Ark1'!$C$2:$D$12,2,FALSE)","v":5}]
[1841,32,{"$f":"VLOOKUP(B1843,'Ark1'!C$2:D$11,2,FALSE)","v":2},1841,125,{"$f":"VLOOKUP(E1843,'Ark1'!$C$2:$D$11,2,FALSE)","v":5},1841,200,{"$f":"VLOOKUP(H1843,'Ark1'!$C$2:$D$12,2,FALSE)","v":5}]
[1842,32,{"$f":"VLOOKUP(B1844,'Ark1'!C$2:D$11,2,FALSE)","v":2},1842,125,{"$f":"VLOOKUP(E1844,'Ark1'!$C$2:$D$11,2,FALSE)","v":5},1842,200,{"$f":"VLOOKUP(H1844,'Ark1'!$C$2:$D$12,2,FALSE)","v":5}]
[1843,32,{"$f":"VLOOKUP(B1845,'Ark1'!C$2:D$11,2,FALSE)","v":2},1843,125,{"$f":"VLOOKUP(E1845,'Ark1'!$C$2:$D$11,2,FALSE)","v":5},1843,200,{"$f":"VLOOKUP(H1845,'Ark1'!$C$2:$D$12,2,FALSE)","v":5}]
[1844,32,{"$f":"VLOOKUP(B1846,'Ark1'!C$2:D$11,2,FALSE)","v":2},1844,125,{"$f":"VLOOKUP(E1846,'Ark1'!$C$2:$D$11,2,FALSE)","v":5},1844,200,{"$f":"VLOOKUP(H1846,'Ark1'!$C$2:$D$12,2,FALSE)","v":5}]
[1845,32,{"$f":"VLOOKUP(B1847,'Ark1'!C$2:D$11,2,FALSE)","v":2},1845,125,{"$f":"VLOOKUP(E1847,'Ark1'!$C$2:$D$11,2,FALSE)","v":5},1845,200,{"$f":"VLOOKUP(H1847,'Ark1'!$C$2:$D$12,2,FALSE)","v":5}]
[1846,32,{"$f":"VLOOKUP(B1848,'Ark1'!C$2:D$11,2,FALSE)","v":2},1846,125,{"$f":"VLOOKUP(E1848,'Ark1'!$C$2:$D$11,2,FALSE)","v":5},1846,200,{"$f":"VLOOKUP(H1848,'Ark1'!$C$2:$D$12,2,FALSE)","v":5}]
[1847,32,{"$f":"VLOOKUP(B1849,'Ark1'!C$2:D$11,2,FALSE)","v":2},1847,125,{"$f":"VLOOKUP(E1849,'Ark1'!$C$2:$D$11,2,FALSE)","v":5},1847,200,{"$f":"VLOOKUP(H1849,'Ark1'!$C$2:$D$12,2,FALSE)","v":5}]
[1848,32,{"$f":"VLOOKUP(B1850,'Ark1'!C$2:D$11,2,FALSE)","v":2},1848,125,{"$f":"VLOOKUP(E1850,'Ark1'!$C$2:$D$11,2,FALSE)","v":5},1848,200,{"$f":"VLOOKUP(H1850,'Ark1'!$C$2:$D$12,2,FALSE)","v":5}]
[1849,32,{"$f":"VLOOKUP(B1851,'Ark1'!C$2:D$11,2,FALSE)","v":2},1849,125,{"$f":"VLOOKUP(E1851,'Ark1'!$C$2:$D$11,2,FALSE)","v":5},1849,200,{"$f":"VLOOKUP(H1851,'Ark1'!$C$2:$D$12,2,FALSE)","v":5}]
[1850,32,{"$f":"VLOOKUP(B1852,'Ark1'!C$2:D$11,2,FALSE)","v":2},1850,125,{"$f":"VLOOKUP(E1852,'Ark1'!$C$2:$D$11,2,FALSE)","v":5},1850,200,{"$f":"VLOOKUP(H1852,'Ark1'!$C$2:$D$12,2,FALSE)","v":5}]
[1851,32,{"$f":"VLOOKUP(B1853,'Ark1'!C$2:D$11,2,FALSE)","v":2},1851,125,{"$f":"VLOOKUP(E1853,'Ark1'!$C$2:$D$11,2,FALSE)","v":5},1851,200,{"$f":"VLOOKUP(H1853,'Ark1'!$C$2:$D$12,2,FALSE)","v":5}]
[1852,32,{"$f":"VLOOKUP(B1854,'Ark1'!C$2:D$11,2,FALSE)","v":2},1852,125,{"$f":"VLOOKUP(E1854,'Ark1'!$C$2:$D$11,2,FALSE)","v":5},1852,200,{"$f":"VLOOKUP(H1854,'Ark1'!$C$2:$D$12,2,FALSE)","v":5}]
[1853,32,{"$f":"VLOOKUP(B1855,'Ark1'!C$2:D$11,2,FALSE)","v":2},1853,125,{"$f":"VLOOKUP(E1855,'Ark1'!$C$2:$D$11,2,FALSE)","v":5},1853,200,{"$f":"VLOOKUP(H1855,'Ark1'!$C$2:$D$12,2,FALSE)","v":5}]
[1854,32,{"$f":"VLOOKUP(B1856,'Ark1'!C$2:D$11,2,FALSE)","v":2},1854,125,{"$f":"VLOOKUP(E1856,'Ark1'!$C$2:$D$11,2,FALSE)","v":5},1854,200,{"$f":"VLOOKUP(H1856,'Ark1'!$C$2:$D$12,2,FALSE)","v":5}]
[1855,32,{"$f":"VLOOKUP(B1857,'Ark1'!C$2:D$11,2,FALSE)","v":2},1855,125,{"$f":"VLOOKUP(E1857,'Ark1'!$C$2:$D$11,2,FALSE)","v":5},1855,200,{"$f":"VLOOKUP(H1857,'Ark1'!$C$2:$D$12,2,FALSE)","v":5}]
[1856,32,{"$f":"VLOOKUP(B1858,'Ark1'!C$2:D$11,2,FALSE)","v":2},1856,125,{"$f":"VLOOKUP(E1858,'Ark1'!$C$2:$D$11,2,FALSE)","v":5},1856,200,{"$f":"VLOOKUP(H1858,'Ark1'!$C$2:$D$12,2,FALSE)","v":5}]
[1857,32,{"$f":"VLOOKUP(B1859,'Ark1'!C$2:D$11,2,FALSE)","v":2},1857,125,{"$f":"VLOOKUP(E1859,'Ark1'!$C$2:$D$11,2,FALSE)","v":5},1857,200,{"$f":"VLOOKUP(H1859,'Ark1'!$C$2:$D$12,2,FALSE)","v":5}]
[1858,32,{"$f":"VLOOKUP(B1860,'Ark1'!C$2:D$11,2,FALSE)","v":2},1858,125,{"$f":"VLOOKUP(E1860,'Ark1'!$C$2:$D$11,2,FALSE)","v":5},1858,200,{"$f":"VLOOKUP(H1860,'Ark1'!$C$2:$D$12,2,FALSE)","v":5}]
[1859,32,{"$f":"VLOOKUP(B1861,'Ark1'!C$2:D$11,2,FALSE)","v":2},1859,125,{"$f":"VLOOKUP(E1861,'Ark1'!$C$2:$D$11,2,FALSE)","v":5},1859,200,{"$f":"VLOOKUP(H1861,'Ark1'!$C$2:$D$12,2,FALSE)","v":5}]
[1860,32,{"$f":"VLOOKUP(B1862,'Ark1'!C$2:D$11,2,FALSE)","v":2},1860,125,{"$f":"VLOOKUP(E1862,'Ark1'!$C$2:$D$11,2,FALSE)","v":5},1860,200,{"$f":"VLOOKUP(H1862,'Ark1'!$C$2:$D$12,2,FALSE)","v":5}]
[1861,32,{"$f":"VLOOKUP(B1863,'Ark1'!C$2:D$11,2,FALSE)","v":2},1861,125,{"$f":"VLOOKUP(E1863,'Ark1'!$C$2:$D$11,2,FALSE)","v":5},1861,200,{"$f":"VLOOKUP(H1863,'Ark1'!$C$2:$D$12,2,FALSE)","v":5}]
[1862,32,{"$f":"VLOOKUP(B1864,'Ark1'!C$2:D$11,2,FALSE)","v":2},1862,125,{"$f":"VLOOKUP(E1864,'Ark1'!$C$2:$D$11,2,FALSE)","v":5},1862,200,{"$f":"VLOOKUP(H1864,'Ark1'!$C$2:$D$12,2,FALSE)","v":5}]
[1863,32,{"$f":"VLOOKUP(B1865,'Ark1'!C$2:D$11,2,FALSE)","v":2},1863,125,{"$f":"VLOOKUP(E1865,'Ark1'!$C$2:$D$11,2,FALSE)","v":5},1863,200,{"$f":"VLOOKUP(H1865,'Ark1'!$C$2:$D$12,2,FALSE)","v":5}]
[1864,32,{"$f":"VLOOKUP(B1866,'Ark1'!C$2:D$11,2,FALSE)","v":2},1864,125,{"$f":"VLOOKUP(E1866,'Ark1'!$C$2:$D$11,2,FALSE)","v":5},1864,200,{"$f":"VLOOKUP(H1866,'Ark1'!$C$2:$D$12,2,FALSE)","v":5}]
[1865,32,{"$f":"VLOOKUP(B1867,'Ark1'!C$2:D$11,2,FALSE)","v":2},1865,125,{"$f":"VLOOKUP(E1867,'Ark1'!$C$2:$D$11,2,FALSE)","v":5},1865,200,{"$f":"VLOOKUP(H1867,'Ark1'!$C$2:$D$12,2,FALSE)","v":5}]
[1866,32,{"$f":"VLOOKUP(B1868,'Ark1'!C$2:D$11,2,FALSE)","v":2},1866,125,{"$f":"VLOOKUP(E1868,'Ark1'!$C$2:$D$11,2,FALSE)","v":5},1866,200,{"$f":"VLOOKUP(H1868,'Ark1'!$C$2:$D$12,2,FALSE)","v":5}]
[1867,32,{"$f":"VLOOKUP(B1869,'Ark1'!C$2:D$11,2,FALSE)","v":2},1867,125,{"$f":"VLOOKUP(E1869,'Ark1'!$C$2:$D$11,2,FALSE)","v":5},1867,200,{"$f":"VLOOKUP(H1869,'Ark1'!$C$2:$D$12,2,FALSE)","v":5}]
[1868,32,{"$f":"VLOOKUP(B1870,'Ark1'!C$2:D$11,2,FALSE)","v":2},1868,125,{"$f":"VLOOKUP(E1870,'Ark1'!$C$2:$D$11,2,FALSE)","v":5},1868,200,{"$f":"VLOOKUP(H1870,'Ark1'!$C$2:$D$12,2,FALSE)","v":5}]
[1869,32,{"$f":"VLOOKUP(B1871,'Ark1'!C$2:D$11,2,FALSE)","v":2},1869,125,{"$f":"VLOOKUP(E1871,'Ark1'!$C$2:$D$11,2,FALSE)","v":5},1869,200,{"$f":"VLOOKUP(H1871,'Ark1'!$C$2:$D$12,2,FALSE)","v":5}]
[1870,32,{"$f":"VLOOKUP(B1872,'Ark1'!C$2:D$11,2,FALSE)","v":2},1870,125,{"$f":"VLOOKUP(E1872,'Ark1'!$C$2:$D$11,2,FALSE)","v":5},1870,200,{"$f":"VLOOKUP(H1872,'Ark1'!$C$2:$D$12,2,FALSE)","v":5}]
[1871,32,{"$f":"VLOOKUP(B1873,'Ark1'!C$2:D$11,2,FALSE)","v":2},1871,125,{"$f":"VLOOKUP(E1873,'Ark1'!$C$2:$D$11,2,FALSE)","v":5},1871,200,{"$f":"VLOOKUP(H1873,'Ark1'!$C$2:$D$12,2,FALSE)","v":5}]
[1872,32,{"$f":"VLOOKUP(B1874,'Ark1'!C$2:D$11,2,FALSE)","v":2},1872,125,{"$f":"VLOOKUP(E1874,'Ark1'!$C$2:$D$11,2,FALSE)","v":5},1872,200,{"$f":"VLOOKUP(H1874,'Ark1'!$C$2:$D$12,2,FALSE)","v":5}]
[1873,32,{"$f":"VLOOKUP(B1875,'Ark1'!C$2:D$11,2,FALSE)","v":2},1873,125,{"$f":"VLOOKUP(E1875,'Ark1'!$C$2:$D$11,2,FALSE)","v":5},1873,200,{"$f":"VLOOKUP(H1875,'Ark1'!$C$2:$D$12,2,FALSE)","v":5}]
[1874,32,{"$f":"VLOOKUP(B1876,'Ark1'!C$2:D$11,2,FALSE)","v":2},1874,125,{"$f":"VLOOKUP(E1876,'Ark1'!$C$2:$D$11,2,FALSE)","v":5},1874,200,{"$f":"VLOOKUP(H1876,'Ark1'!$C$2:$D$12,2,FALSE)","v":5}]
[1875,32,{"$f":"VLOOKUP(B1877,'Ark1'!C$2:D$11,2,FALSE)","v":2},1875,125,{"$f":"VLOOKUP(E1877,'Ark1'!$C$2:$D$11,2,FALSE)","v":5},1875,200,{"$f":"VLOOKUP(H1877,'Ark1'!$C$2:$D$12,2,FALSE)","v":5}]
[1876,32,{"$f":"VLOOKUP(B1878,'Ark1'!C$2:D$11,2,FALSE)","v":2},1876,125,{"$f":"VLOOKUP(E1878,'Ark1'!$C$2:$D$11,2,FALSE)","v":5},1876,200,{"$f":"VLOOKUP(H1878,'Ark1'!$C$2:$D$12,2,FALSE)","v":5}]
[1877,32,{"$f":"VLOOKUP(B1879,'Ark1'!C$2:D$11,2,FALSE)","v":2},1877,125,{"$f":"VLOOKUP(E1879,'Ark1'!$C$2:$D$11,2,FALSE)","v":5},1877,200,{"$f":"VLOOKUP(H1879,'Ark1'!$C$2:$D$12,2,FALSE)","v":5}]
[1878,32,{"$f":"VLOOKUP(B1880,'Ark1'!C$2:D$11,2,FALSE)","v":2},1878,125,{"$f":"VLOOKUP(E1880,'Ark1'!$C$2:$D$11,2,FALSE)","v":5},1878,200,{"$f":"VLOOKUP(H1880,'Ark1'!$C$2:$D$12,2,FALSE)","v":5}]
[1879,32,{"$f":"VLOOKUP(B1881,'Ark1'!C$2:D$11,2,FALSE)","v":2},1879,125,{"$f":"VLOOKUP(E1881,'Ark1'!$C$2:$D$11,2,FALSE)","v":5},1879,200,{"$f":"VLOOKUP(H1881,'Ark1'!$C$2:$D$12,2,FALSE)","v":5}]
[1880,32,{"$f":"VLOOKUP(B1882,'Ark1'!C$2:D$11,2,FALSE)","v":2},1880,125,{"$f":"VLOOKUP(E1882,'Ark1'!$C$2:$D$11,2,FALSE)","v":5},1880,200,{"$f":"VLOOKUP(H1882,'Ark1'!$C$2:$D$12,2,FALSE)","v":5}]
[1881,32,{"$f":"VLOOKUP(B1883,'Ark1'!C$2:D$11,2,FALSE)","v":2},1881,125,{"$f":"VLOOKUP(E1883,'Ark1'!$C$2:$D$11,2,FALSE)","v":5},1881,200,{"$f":"VLOOKUP(H1883,'Ark1'!$C$2:$D$12,2,FALSE)","v":5}]
[1882,32,{"$f":"VLOOKUP(B1884,'Ark1'!C$2:D$11,2,FALSE)","v":2},1882,125,{"$f":"VLOOKUP(E1884,'Ark1'!$C$2:$D$11,2,FALSE)","v":5},1882,200,{"$f":"VLOOKUP(H1884,'Ark1'!$C$2:$D$12,2,FALSE)","v":5}]
[1883,32,{"$f":"VLOOKUP(B1885,'Ark1'!C$2:D$11,2,FALSE)","v":2},1883,125,{"$f":"VLOOKUP(E1885,'Ark1'!$C$2:$D$11,2,FALSE)","v":5},1883,200,{"$f":"VLOOKUP(H1885,'Ark1'!$C$2:$D$12,2,FALSE)","v":5}]
[1884,32,{"$f":"VLOOKUP(B1886,'Ark1'!C$2:D$11,2,FALSE)","v":2},1884,125,{"$f":"VLOOKUP(E1886,'Ark1'!$C$2:$D$11,2,FALSE)","v":5},1884,200,{"$f":"VLOOKUP(H1886,'Ark1'!$C$2:$D$12,2,FALSE)","v":5}]
[1885,32,{"$f":"VLOOKUP(B1887,'Ark1'!C$2:D$11,2,FALSE)","v":2},1885,125,{"$f":"VLOOKUP(E1887,'Ark1'!$C$2:$D$11,2,FALSE)","v":5},1885,200,{"$f":"VLOOKUP(H1887,'Ark1'!$C$2:$D$12,2,FALSE)","v":5}]
[1886,32,{"$f":"VLOOKUP(B1888,'Ark1'!C$2:D$11,2,FALSE)","v":2},1886,125,{"$f":"VLOOKUP(E1888,'Ark1'!$C$2:$D$11,2,FALSE)","v":5},1886,200,{"$f":"VLOOKUP(H1888,'Ark1'!$C$2:$D$12,2,FALSE)","v":5}]
[1887,32,{"$f":"VLOOKUP(B1889,'Ark1'!C$2:D$11,2,FALSE)","v":2},1887,125,{"$f":"VLOOKUP(E1889,'Ark1'!$C$2:$D$11,2,FALSE)","v":5},1887,200,{"$f":"VLOOKUP(H1889,'Ark1'!$C$2:$D$12,2,FALSE)","v":5}]
[1888,32,{"$f":"VLOOKUP(B1890,'Ark1'!C$2:D$11,2,FALSE)","v":2},1888,125,{"$f":"VLOOKUP(E1890,'Ark1'!$C$2:$D$11,2,FALSE)","v":5},1888,200,{"$f":"VLOOKUP(H1890,'Ark1'!$C$2:$D$12,2,FALSE)","v":5}]
[1889,32,{"$f":"VLOOKUP(B1891,'Ark1'!C$2:D$11,2,FALSE)","v":2},1889,125,{"$f":"VLOOKUP(E1891,'Ark1'!$C$2:$D$11,2,FALSE)","v":5},1889,200,{"$f":"VLOOKUP(H1891,'Ark1'!$C$2:$D$12,2,FALSE)","v":5}]
[1890,32,{"$f":"VLOOKUP(B1892,'Ark1'!C$2:D$11,2,FALSE)","v":2},1890,125,{"$f":"VLOOKUP(E1892,'Ark1'!$C$2:$D$11,2,FALSE)","v":5},1890,200,{"$f":"VLOOKUP(H1892,'Ark1'!$C$2:$D$12,2,FALSE)","v":5}]
[1891,32,{"$f":"VLOOKUP(B1893,'Ark1'!C$2:D$11,2,FALSE)","v":2},1891,125,{"$f":"VLOOKUP(E1893,'Ark1'!$C$2:$D$11,2,FALSE)","v":5},1891,200,{"$f":"VLOOKUP(H1893,'Ark1'!$C$2:$D$12,2,FALSE)","v":5}]
[1892,32,{"$f":"VLOOKUP(B1894,'Ark1'!C$2:D$11,2,FALSE)","v":2},1892,125,{"$f":"VLOOKUP(E1894,'Ark1'!$C$2:$D$11,2,FALSE)","v":5},1892,200,{"$f":"VLOOKUP(H1894,'Ark1'!$C$2:$D$12,2,FALSE)","v":5}]
[1893,32,{"$f":"VLOOKUP(B1895,'Ark1'!C$2:D$11,2,FALSE)","v":2},1893,125,{"$f":"VLOOKUP(E1895,'Ark1'!$C$2:$D$11,2,FALSE)","v":5},1893,200,{"$f":"VLOOKUP(H1895,'Ark1'!$C$2:$D$12,2,FALSE)","v":5}]
[1894,32,{"$f":"VLOOKUP(B1896,'Ark1'!C$2:D$11,2,FALSE)","v":2},1894,125,{"$f":"VLOOKUP(E1896,'Ark1'!$C$2:$D$11,2,FALSE)","v":5},1894,200,{"$f":"VLOOKUP(H1896,'Ark1'!$C$2:$D$12,2,FALSE)","v":5}]
[1895,32,{"$f":"VLOOKUP(B1897,'Ark1'!C$2:D$11,2,FALSE)","v":2},1895,125,{"$f":"VLOOKUP(E1897,'Ark1'!$C$2:$D$11,2,FALSE)","v":5},1895,200,{"$f":"VLOOKUP(H1897,'Ark1'!$C$2:$D$12,2,FALSE)","v":5}]
[1896,32,{"$f":"VLOOKUP(B1898,'Ark1'!C$2:D$11,2,FALSE)","v":2},1896,125,{"$f":"VLOOKUP(E1898,'Ark1'!$C$2:$D$11,2,FALSE)","v":5},1896,200,{"$f":"VLOOKUP(H1898,'Ark1'!$C$2:$D$12,2,FALSE)","v":5}]
[1897,32,{"$f":"VLOOKUP(B1899,'Ark1'!C$2:D$11,2,FALSE)","v":2},1897,125,{"$f":"VLOOKUP(E1899,'Ark1'!$C$2:$D$11,2,FALSE)","v":5},1897,200,{"$f":"VLOOKUP(H1899,'Ark1'!$C$2:$D$12,2,FALSE)","v":5}]
[1898,32,{"$f":"VLOOKUP(B1900,'Ark1'!C$2:D$11,2,FALSE)","v":2},1898,125,{"$f":"VLOOKUP(E1900,'Ark1'!$C$2:$D$11,2,FALSE)","v":5},1898,200,{"$f":"VLOOKUP(H1900,'Ark1'!$C$2:$D$12,2,FALSE)","v":5}]
[1899,32,{"$f":"VLOOKUP(B1901,'Ark1'!C$2:D$11,2,FALSE)","v":2},1899,125,{"$f":"VLOOKUP(E1901,'Ark1'!$C$2:$D$11,2,FALSE)","v":5},1899,200,{"$f":"VLOOKUP(H1901,'Ark1'!$C$2:$D$12,2,FALSE)","v":5}]
[1900,32,{"$f":"VLOOKUP(B1902,'Ark1'!C$2:D$11,2,FALSE)","v":2},1900,125,{"$f":"VLOOKUP(E1902,'Ark1'!$C$2:$D$11,2,FALSE)","v":5},1900,200,{"$f":"VLOOKUP(H1902,'Ark1'!$C$2:$D$12,2,FALSE)","v":5}]
[1901,32,{"$f":"VLOOKUP(B1903,'Ark1'!C$2:D$11,2,FALSE)","v":2},1901,125,{"$f":"VLOOKUP(E1903,'Ark1'!$C$2:$D$11,2,FALSE)","v":5},1901,200,{"$f":"VLOOKUP(H1903,'Ark1'!$C$2:$D$12,2,FALSE)","v":5}]
[1902,32,{"$f":"VLOOKUP(B1904,'Ark1'!C$2:D$11,2,FALSE)","v":2},1902,125,{"$f":"VLOOKUP(E1904,'Ark1'!$C$2:$D$11,2,FALSE)","v":5},1902,200,{"$f":"VLOOKUP(H1904,'Ark1'!$C$2:$D$12,2,FALSE)","v":5}]
[1903,32,{"$f":"VLOOKUP(B1905,'Ark1'!C$2:D$11,2,FALSE)","v":2},1903,125,{"$f":"VLOOKUP(E1905,'Ark1'!$C$2:$D$11,2,FALSE)","v":5},1903,200,{"$f":"VLOOKUP(H1905,'Ark1'!$C$2:$D$12,2,FALSE)","v":5}]
[1904,32,{"$f":"VLOOKUP(B1906,'Ark1'!C$2:D$11,2,FALSE)","v":2},1904,125,{"$f":"VLOOKUP(E1906,'Ark1'!$C$2:$D$11,2,FALSE)","v":5},1904,200,{"$f":"VLOOKUP(H1906,'Ark1'!$C$2:$D$12,2,FALSE)","v":5}]
[1905,32,{"$f":"VLOOKUP(B1907,'Ark1'!C$2:D$11,2,FALSE)","v":2},1905,125,{"$f":"VLOOKUP(E1907,'Ark1'!$C$2:$D$11,2,FALSE)","v":5},1905,200,{"$f":"VLOOKUP(H1907,'Ark1'!$C$2:$D$12,2,FALSE)","v":5}]
[1906,32,{"$f":"VLOOKUP(B1908,'Ark1'!C$2:D$11,2,FALSE)","v":2},1906,125,{"$f":"VLOOKUP(E1908,'Ark1'!$C$2:$D$11,2,FALSE)","v":5},1906,200,{"$f":"VLOOKUP(H1908,'Ark1'!$C$2:$D$12,2,FALSE)","v":5}]
[1907,32,{"$f":"VLOOKUP(B1909,'Ark1'!C$2:D$11,2,FALSE)","v":2},1907,125,{"$f":"VLOOKUP(E1909,'Ark1'!$C$2:$D$11,2,FALSE)","v":5},1907,200,{"$f":"VLOOKUP(H1909,'Ark1'!$C$2:$D$12,2,FALSE)","v":5}]
[1908,32,{"$f":"VLOOKUP(B1910,'Ark1'!C$2:D$11,2,FALSE)","v":2},1908,125,{"$f":"VLOOKUP(E1910,'Ark1'!$C$2:$D$11,2,FALSE)","v":5},1908,200,{"$f":"VLOOKUP(H1910,'Ark1'!$C$2:$D$12,2,FALSE)","v":5}]
[1909,32,{"$f":"VLOOKUP(B1911,'Ark1'!C$2:D$11,2,FALSE)","v":2},1909,125,{"$f":"VLOOKUP(E1911,'Ark1'!$C$2:$D$11,2,FALSE)","v":5},1909,200,{"$f":"VLOOKUP(H1911,'Ark1'!$C$2:$D$12,2,FALSE)","v":5}]
[1910,32,{"$f":"VLOOKUP(B1912,'Ark1'!C$2:D$11,2,FALSE)","v":2},1910,125,{"$f":"VLOOKUP(E1912,'Ark1'!$C$2:$D$11,2,FALSE)","v":5},1910,200,{"$f":"VLOOKUP(H1912,'Ark1'!$C$2:$D$12,2,FALSE)","v":5}]
[1911,32,{"$f":"VLOOKUP(B1913,'Ark1'!C$2:D$11,2,FALSE)","v":2},1911,125,{"$f":"VLOOKUP(E1913,'Ark1'!$C$2:$D$11,2,FALSE)","v":5},1911,200,{"$f":"VLOOKUP(H1913,'Ark1'!$C$2:$D$12,2,FALSE)","v":5}]
[1912,32,{"$f":"VLOOKUP(B1914,'Ark1'!C$2:D$11,2,FALSE)","v":2},1912,125,{"$f":"VLOOKUP(E1914,'Ark1'!$C$2:$D$11,2,FALSE)","v":5},1912,200,{"$f":"VLOOKUP(H1914,'Ark1'!$C$2:$D$12,2,FALSE)","v":5}]
[1913,32,{"$f":"VLOOKUP(B1915,'Ark1'!C$2:D$11,2,FALSE)","v":2},1913,125,{"$f":"VLOOKUP(E1915,'Ark1'!$C$2:$D$11,2,FALSE)","v":5},1913,200,{"$f":"VLOOKUP(H1915,'Ark1'!$C$2:$D$12,2,FALSE)","v":5}]
[1914,32,{"$f":"VLOOKUP(B1916,'Ark1'!C$2:D$11,2,FALSE)","v":2},1914,125,{"$f":"VLOOKUP(E1916,'Ark1'!$C$2:$D$11,2,FALSE)","v":5},1914,200,{"$f":"VLOOKUP(H1916,'Ark1'!$C$2:$D$12,2,FALSE)","v":5}]
[1915,32,{"$f":"VLOOKUP(B1917,'Ark1'!C$2:D$11,2,FALSE)","v":2},1915,125,{"$f":"VLOOKUP(E1917,'Ark1'!$C$2:$D$11,2,FALSE)","v":5},1915,200,{"$f":"VLOOKUP(H1917,'Ark1'!$C$2:$D$12,2,FALSE)","v":5}]
[1916,32,{"$f":"VLOOKUP(B1918,'Ark1'!C$2:D$11,2,FALSE)","v":2},1916,125,{"$f":"VLOOKUP(E1918,'Ark1'!$C$2:$D$11,2,FALSE)","v":5},1916,200,{"$f":"VLOOKUP(H1918,'Ark1'!$C$2:$D$12,2,FALSE)","v":5}]
[1917,32,{"$f":"VLOOKUP(B1919,'Ark1'!C$2:D$11,2,FALSE)","v":2},1917,125,{"$f":"VLOOKUP(E1919,'Ark1'!$C$2:$D$11,2,FALSE)","v":5},1917,200,{"$f":"VLOOKUP(H1919,'Ark1'!$C$2:$D$12,2,FALSE)","v":5}]
[1918,32,{"$f":"VLOOKUP(B1920,'Ark1'!C$2:D$11,2,FALSE)","v":2},1918,125,{"$f":"VLOOKUP(E1920,'Ark1'!$C$2:$D$11,2,FALSE)","v":5},1918,200,{"$f":"VLOOKUP(H1920,'Ark1'!$C$2:$D$12,2,FALSE)","v":5}]
[1919,32,{"$f":"VLOOKUP(B1921,'Ark1'!C$2:D$11,2,FALSE)","v":2},1919,125,{"$f":"VLOOKUP(E1921,'Ark1'!$C$2:$D$11,2,FALSE)","v":5},1919,200,{"$f":"VLOOKUP(H1921,'Ark1'!$C$2:$D$12,2,FALSE)","v":5}]
[1920,32,{"$f":"VLOOKUP(B1922,'Ark1'!C$2:D$11,2,FALSE)","v":2},1920,125,{"$f":"VLOOKUP(E1922,'Ark1'!$C$2:$D$11,2,FALSE)","v":5},1920,200,{"$f":"VLOOKUP(H1922,'Ark1'!$C$2:$D$12,2,FALSE)","v":5}]
[1921,32,{"$f":"VLOOKUP(B1923,'Ark1'!C$2:D$11,2,FALSE)","v":2},1921,125,{"$f":"VLOOKUP(E1923,'Ark1'!$C$2:$D$11,2,FALSE)","v":5},1921,200,{"$f":"VLOOKUP(H1923,'Ark1'!$C$2:$D$12,2,FALSE)","v":5}]
[1922,32,{"$f":"VLOOKUP(B1924,'Ark1'!C$2:D$11,2,FALSE)","v":2},1922,125,{"$f":"VLOOKUP(E1924,'Ark1'!$C$2:$D$11,2,FALSE)","v":5},1922,200,{"$f":"VLOOKUP(H1924,'Ark1'!$C$2:$D$12,2,FALSE)","v":5}]
[1923,32,{"$f":"VLOOKUP(B1925,'Ark1'!C$2:D$11,2,FALSE)","v":2},1923,125,{"$f":"VLOOKUP(E1925,'Ark1'!$C$2:$D$11,2,FALSE)","v":5},1923,200,{"$f":"VLOOKUP(H1925,'Ark1'!$C$2:$D$12,2,FALSE)","v":5}]
[1924,32,{"$f":"VLOOKUP(B1926,'Ark1'!C$2:D$11,2,FALSE)","v":2},1924,125,{"$f":"VLOOKUP(E1926,'Ark1'!$C$2:$D$11,2,FALSE)","v":5},1924,200,{"$f":"VLOOKUP(H1926,'Ark1'!$C$2:$D$12,2,FALSE)","v":5}]
[1925,32,{"$f":"VLOOKUP(B1927,'Ark1'!C$2:D$11,2,FALSE)","v":2},1925,125,{"$f":"VLOOKUP(E1927,'Ark1'!$C$2:$D$11,2,FALSE)","v":5},1925,200,{"$f":"VLOOKUP(H1927,'Ark1'!$C$2:$D$12,2,FALSE)","v":5}]
[1926,32,{"$f":"VLOOKUP(B1928,'Ark1'!C$2:D$11,2,FALSE)","v":2},1926,125,{"$f":"VLOOKUP(E1928,'Ark1'!$C$2:$D$11,2,FALSE)","v":5},1926,200,{"$f":"VLOOKUP(H1928,'Ark1'!$C$2:$D$12,2,FALSE)","v":5}]
[1927,32,{"$f":"VLOOKUP(B1929,'Ark1'!C$2:D$11,2,FALSE)","v":2},1927,125,{"$f":"VLOOKUP(E1929,'Ark1'!$C$2:$D$11,2,FALSE)","v":5},1927,200,{"$f":"VLOOKUP(H1929,'Ark1'!$C$2:$D$12,2,FALSE)","v":5}]
[1928,32,{"$f":"VLOOKUP(B1930,'Ark1'!C$2:D$11,2,FALSE)","v":2},1928,125,{"$f":"VLOOKUP(E1930,'Ark1'!$C$2:$D$11,2,FALSE)","v":5},1928,200,{"$f":"VLOOKUP(H1930,'Ark1'!$C$2:$D$12,2,FALSE)","v":5}]
[1929,32,{"$f":"VLOOKUP(B1931,'Ark1'!C$2:D$11,2,FALSE)","v":2},1929,125,{"$f":"VLOOKUP(E1931,'Ark1'!$C$2:$D$11,2,FALSE)","v":5},1929,200,{"$f":"VLOOKUP(H1931,'Ark1'!$C$2:$D$12,2,FALSE)","v":5}]
[1930,32,{"$f":"VLOOKUP(B1932,'Ark1'!C$2:D$11,2,FALSE)","v":2},1930,125,{"$f":"VLOOKUP(E1932,'Ark1'!$C$2:$D$11,2,FALSE)","v":5},1930,200,{"$f":"VLOOKUP(H1932,'Ark1'!$C$2:$D$12,2,FALSE)","v":5}]
[1931,32,{"$f":"VLOOKUP(B1933,'Ark1'!C$2:D$11,2,FALSE)","v":2},1931,125,{"$f":"VLOOKUP(E1933,'Ark1'!$C$2:$D$11,2,FALSE)","v":5},1931,200,{"$f":"VLOOKUP(H1933,'Ark1'!$C$2:$D$12,2,FALSE)","v":5}]
[1932,32,{"$f":"VLOOKUP(B1934,'Ark1'!C$2:D$11,2,FALSE)","v":2},1932,125,{"$f":"VLOOKUP(E1934,'Ark1'!$C$2:$D$11,2,FALSE)","v":5},1932,200,{"$f":"VLOOKUP(H1934,'Ark1'!$C$2:$D$12,2,FALSE)","v":5}]
[1933,32,{"$f":"VLOOKUP(B1935,'Ark1'!C$2:D$11,2,FALSE)","v":2},1933,125,{"$f":"VLOOKUP(E1935,'Ark1'!$C$2:$D$11,2,FALSE)","v":5},1933,200,{"$f":"VLOOKUP(H1935,'Ark1'!$C$2:$D$12,2,FALSE)","v":5}]
[1934,32,{"$f":"VLOOKUP(B1936,'Ark1'!C$2:D$11,2,FALSE)","v":2},1934,125,{"$f":"VLOOKUP(E1936,'Ark1'!$C$2:$D$11,2,FALSE)","v":5},1934,200,{"$f":"VLOOKUP(H1936,'Ark1'!$C$2:$D$12,2,FALSE)","v":5}]
[1935,32,{"$f":"VLOOKUP(B1937,'Ark1'!C$2:D$11,2,FALSE)","v":2},1935,125,{"$f":"VLOOKUP(E1937,'Ark1'!$C$2:$D$11,2,FALSE)","v":5},1935,200,{"$f":"VLOOKUP(H1937,'Ark1'!$C$2:$D$12,2,FALSE)","v":5}]
[1936,32,{"$f":"VLOOKUP(B1938,'Ark1'!C$2:D$11,2,FALSE)","v":2},1936,125,{"$f":"VLOOKUP(E1938,'Ark1'!$C$2:$D$11,2,FALSE)","v":5},1936,200,{"$f":"VLOOKUP(H1938,'Ark1'!$C$2:$D$12,2,FALSE)","v":5}]
[1937,32,{"$f":"VLOOKUP(B1939,'Ark1'!C$2:D$11,2,FALSE)","v":2},1937,125,{"$f":"VLOOKUP(E1939,'Ark1'!$C$2:$D$11,2,FALSE)","v":5},1937,200,{"$f":"VLOOKUP(H1939,'Ark1'!$C$2:$D$12,2,FALSE)","v":5}]
[1938,32,{"$f":"VLOOKUP(B1940,'Ark1'!C$2:D$11,2,FALSE)","v":2},1938,125,{"$f":"VLOOKUP(E1940,'Ark1'!$C$2:$D$11,2,FALSE)","v":5},1938,200,{"$f":"VLOOKUP(H1940,'Ark1'!$C$2:$D$12,2,FALSE)","v":5}]
[1939,32,{"$f":"VLOOKUP(B1941,'Ark1'!C$2:D$11,2,FALSE)","v":2},1939,125,{"$f":"VLOOKUP(E1941,'Ark1'!$C$2:$D$11,2,FALSE)","v":5},1939,200,{"$f":"VLOOKUP(H1941,'Ark1'!$C$2:$D$12,2,FALSE)","v":5}]
[1940,32,{"$f":"VLOOKUP(B1942,'Ark1'!C$2:D$11,2,FALSE)","v":2},1940,125,{"$f":"VLOOKUP(E1942,'Ark1'!$C$2:$D$11,2,FALSE)","v":5},1940,200,{"$f":"VLOOKUP(H1942,'Ark1'!$C$2:$D$12,2,FALSE)","v":5}]
[1941,32,{"$f":"VLOOKUP(B1943,'Ark1'!C$2:D$11,2,FALSE)","v":2},1941,125,{"$f":"VLOOKUP(E1943,'Ark1'!$C$2:$D$11,2,FALSE)","v":5},1941,200,{"$f":"VLOOKUP(H1943,'Ark1'!$C$2:$D$12,2,FALSE)","v":5}]
[1942,32,{"$f":"VLOOKUP(B1944,'Ark1'!C$2:D$11,2,FALSE)","v":2},1942,125,{"$f":"VLOOKUP(E1944,'Ark1'!$C$2:$D$11,2,FALSE)","v":5},1942,200,{"$f":"VLOOKUP(H1944,'Ark1'!$C$2:$D$12,2,FALSE)","v":5}]
[1943,32,{"$f":"VLOOKUP(B1945,'Ark1'!C$2:D$11,2,FALSE)","v":2},1943,125,{"$f":"VLOOKUP(E1945,'Ark1'!$C$2:$D$11,2,FALSE)","v":5},1943,200,{"$f":"VLOOKUP(H1945,'Ark1'!$C$2:$D$12,2,FALSE)","v":5}]
[1944,32,{"$f":"VLOOKUP(B1946,'Ark1'!C$2:D$11,2,FALSE)","v":2},1944,125,{"$f":"VLOOKUP(E1946,'Ark1'!$C$2:$D$11,2,FALSE)","v":5},1944,200,{"$f":"VLOOKUP(H1946,'Ark1'!$C$2:$D$12,2,FALSE)","v":5}]
[1945,32,{"$f":"VLOOKUP(B1947,'Ark1'!C$2:D$11,2,FALSE)","v":2},1945,125,{"$f":"VLOOKUP(E1947,'Ark1'!$C$2:$D$11,2,FALSE)","v":5},1945,200,{"$f":"VLOOKUP(H1947,'Ark1'!$C$2:$D$12,2,FALSE)","v":5}]
[1946,32,{"$f":"VLOOKUP(B1948,'Ark1'!C$2:D$11,2,FALSE)","v":2},1946,125,{"$f":"VLOOKUP(E1948,'Ark1'!$C$2:$D$11,2,FALSE)","v":5},1946,200,{"$f":"VLOOKUP(H1948,'Ark1'!$C$2:$D$12,2,FALSE)","v":5}]
[1947,32,{"$f":"VLOOKUP(B1949,'Ark1'!C$2:D$11,2,FALSE)","v":2},1947,125,{"$f":"VLOOKUP(E1949,'Ark1'!$C$2:$D$11,2,FALSE)","v":5},1947,200,{"$f":"VLOOKUP(H1949,'Ark1'!$C$2:$D$12,2,FALSE)","v":5}]
[1948,32,{"$f":"VLOOKUP(B1950,'Ark1'!C$2:D$11,2,FALSE)","v":2},1948,125,{"$f":"VLOOKUP(E1950,'Ark1'!$C$2:$D$11,2,FALSE)","v":5},1948,200,{"$f":"VLOOKUP(H1950,'Ark1'!$C$2:$D$12,2,FALSE)","v":5}]
[1949,32,{"$f":"VLOOKUP(B1951,'Ark1'!C$2:D$11,2,FALSE)","v":2},1949,125,{"$f":"VLOOKUP(E1951,'Ark1'!$C$2:$D$11,2,FALSE)","v":5},1949,200,{"$f":"VLOOKUP(H1951,'Ark1'!$C$2:$D$12,2,FALSE)","v":5}]
[1950,32,{"$f":"VLOOKUP(B1952,'Ark1'!C$2:D$11,2,FALSE)","v":2},1950,125,{"$f":"VLOOKUP(E1952,'Ark1'!$C$2:$D$11,2,FALSE)","v":5},1950,200,{"$f":"VLOOKUP(H1952,'Ark1'!$C$2:$D$12,2,FALSE)","v":5}]
[1951,32,{"$f":"VLOOKUP(B1953,'Ark1'!C$2:D$11,2,FALSE)","v":2},1951,125,{"$f":"VLOOKUP(E1953,'Ark1'!$C$2:$D$11,2,FALSE)","v":5},1951,200,{"$f":"VLOOKUP(H1953,'Ark1'!$C$2:$D$12,2,FALSE)","v":5}]
[1952,32,{"$f":"VLOOKUP(B1954,'Ark1'!C$2:D$11,2,FALSE)","v":2},1952,125,{"$f":"VLOOKUP(E1954,'Ark1'!$C$2:$D$11,2,FALSE)","v":5},1952,200,{"$f":"VLOOKUP(H1954,'Ark1'!$C$2:$D$12,2,FALSE)","v":5}]
[1953,32,{"$f":"VLOOKUP(B1955,'Ark1'!C$2:D$11,2,FALSE)","v":2},1953,125,{"$f":"VLOOKUP(E1955,'Ark1'!$C$2:$D$11,2,FALSE)","v":5},1953,200,{"$f":"VLOOKUP(H1955,'Ark1'!$C$2:$D$12,2,FALSE)","v":5}]
[1954,32,{"$f":"VLOOKUP(B1956,'Ark1'!C$2:D$11,2,FALSE)","v":2},1954,125,{"$f":"VLOOKUP(E1956,'Ark1'!$C$2:$D$11,2,FALSE)","v":5},1954,200,{"$f":"VLOOKUP(H1956,'Ark1'!$C$2:$D$12,2,FALSE)","v":5}]
[1955,32,{"$f":"VLOOKUP(B1957,'Ark1'!C$2:D$11,2,FALSE)","v":2},1955,125,{"$f":"VLOOKUP(E1957,'Ark1'!$C$2:$D$11,2,FALSE)","v":5},1955,200,{"$f":"VLOOKUP(H1957,'Ark1'!$C$2:$D$12,2,FALSE)","v":5}]
[1956,32,{"$f":"VLOOKUP(B1958,'Ark1'!C$2:D$11,2,FALSE)","v":2},1956,125,{"$f":"VLOOKUP(E1958,'Ark1'!$C$2:$D$11,2,FALSE)","v":5},1956,200,{"$f":"VLOOKUP(H1958,'Ark1'!$C$2:$D$12,2,FALSE)","v":5}]
[1957,32,{"$f":"VLOOKUP(B1959,'Ark1'!C$2:D$11,2,FALSE)","v":2},1957,125,{"$f":"VLOOKUP(E1959,'Ark1'!$C$2:$D$11,2,FALSE)","v":5},1957,200,{"$f":"VLOOKUP(H1959,'Ark1'!$C$2:$D$12,2,FALSE)","v":5}]
[1958,32,{"$f":"VLOOKUP(B1960,'Ark1'!C$2:D$11,2,FALSE)","v":2},1958,125,{"$f":"VLOOKUP(E1960,'Ark1'!$C$2:$D$11,2,FALSE)","v":5},1958,200,{"$f":"VLOOKUP(H1960,'Ark1'!$C$2:$D$12,2,FALSE)","v":5}]
[1959,32,{"$f":"VLOOKUP(B1961,'Ark1'!C$2:D$11,2,FALSE)","v":2},1959,125,{"$f":"VLOOKUP(E1961,'Ark1'!$C$2:$D$11,2,FALSE)","v":5},1959,200,{"$f":"VLOOKUP(H1961,'Ark1'!$C$2:$D$12,2,FALSE)","v":5}]
[1960,32,{"$f":"VLOOKUP(B1962,'Ark1'!C$2:D$11,2,FALSE)","v":2},1960,125,{"$f":"VLOOKUP(E1962,'Ark1'!$C$2:$D$11,2,FALSE)","v":5},1960,200,{"$f":"VLOOKUP(H1962,'Ark1'!$C$2:$D$12,2,FALSE)","v":5}]
[1961,32,{"$f":"VLOOKUP(B1963,'Ark1'!C$2:D$11,2,FALSE)","v":2},1961,125,{"$f":"VLOOKUP(E1963,'Ark1'!$C$2:$D$11,2,FALSE)","v":5},1961,200,{"$f":"VLOOKUP(H1963,'Ark1'!$C$2:$D$12,2,FALSE)","v":5}]
[1962,32,{"$f":"VLOOKUP(B1964,'Ark1'!C$2:D$11,2,FALSE)","v":2},1962,125,{"$f":"VLOOKUP(E1964,'Ark1'!$C$2:$D$11,2,FALSE)","v":5},1962,200,{"$f":"VLOOKUP(H1964,'Ark1'!$C$2:$D$12,2,FALSE)","v":5}]
[1963,32,{"$f":"VLOOKUP(B1965,'Ark1'!C$2:D$11,2,FALSE)","v":2},1963,125,{"$f":"VLOOKUP(E1965,'Ark1'!$C$2:$D$11,2,FALSE)","v":5},1963,200,{"$f":"VLOOKUP(H1965,'Ark1'!$C$2:$D$12,2,FALSE)","v":5}]
[1964,32,{"$f":"VLOOKUP(B1966,'Ark1'!C$2:D$11,2,FALSE)","v":2},1964,125,{"$f":"VLOOKUP(E1966,'Ark1'!$C$2:$D$11,2,FALSE)","v":5},1964,200,{"$f":"VLOOKUP(H1966,'Ark1'!$C$2:$D$12,2,FALSE)","v":5}]
[1965,32,{"$f":"VLOOKUP(B1967,'Ark1'!C$2:D$11,2,FALSE)","v":2},1965,125,{"$f":"VLOOKUP(E1967,'Ark1'!$C$2:$D$11,2,FALSE)","v":5},1965,200,{"$f":"VLOOKUP(H1967,'Ark1'!$C$2:$D$12,2,FALSE)","v":5}]
[1966,32,{"$f":"VLOOKUP(B1968,'Ark1'!C$2:D$11,2,FALSE)","v":2},1966,125,{"$f":"VLOOKUP(E1968,'Ark1'!$C$2:$D$11,2,FALSE)","v":5},1966,200,{"$f":"VLOOKUP(H1968,'Ark1'!$C$2:$D$12,2,FALSE)","v":5}]
[1967,32,{"$f":"VLOOKUP(B1969,'Ark1'!C$2:D$11,2,FALSE)","v":2},1967,125,{"$f":"VLOOKUP(E1969,'Ark1'!$C$2:$D$11,2,FALSE)","v":5},1967,200,{"$f":"VLOOKUP(H1969,'Ark1'!$C$2:$D$12,2,FALSE)","v":5}]
[1968,32,{"$f":"VLOOKUP(B1970,'Ark1'!C$2:D$11,2,FALSE)","v":2},1968,125,{"$f":"VLOOKUP(E1970,'Ark1'!$C$2:$D$11,2,FALSE)","v":5},1968,200,{"$f":"VLOOKUP(H1970,'Ark1'!$C$2:$D$12,2,FALSE)","v":5}]
[1969,32,{"$f":"VLOOKUP(B1971,'Ark1'!C$2:D$11,2,FALSE)","v":2},1969,125,{"$f":"VLOOKUP(E1971,'Ark1'!$C$2:$D$11,2,FALSE)","v":5},1969,200,{"$f":"VLOOKUP(H1971,'Ark1'!$C$2:$D$12,2,FALSE)","v":5}]
[1970,32,{"$f":"VLOOKUP(B1972,'Ark1'!C$2:D$11,2,FALSE)","v":2},1970,125,{"$f":"VLOOKUP(E1972,'Ark1'!$C$2:$D$11,2,FALSE)","v":5},1970,200,{"$f":"VLOOKUP(H1972,'Ark1'!$C$2:$D$12,2,FALSE)","v":5}]
[1971,32,{"$f":"VLOOKUP(B1973,'Ark1'!C$2:D$11,2,FALSE)","v":2},1971,125,{"$f":"VLOOKUP(E1973,'Ark1'!$C$2:$D$11,2,FALSE)","v":5},1971,200,{"$f":"VLOOKUP(H1973,'Ark1'!$C$2:$D$12,2,FALSE)","v":5}]
[1972,32,{"$f":"VLOOKUP(B1974,'Ark1'!C$2:D$11,2,FALSE)","v":2},1972,125,{"$f":"VLOOKUP(E1974,'Ark1'!$C$2:$D$11,2,FALSE)","v":5},1972,200,{"$f":"VLOOKUP(H1974,'Ark1'!$C$2:$D$12,2,FALSE)","v":5}]
[1973,32,{"$f":"VLOOKUP(B1975,'Ark1'!C$2:D$11,2,FALSE)","v":2},1973,125,{"$f":"VLOOKUP(E1975,'Ark1'!$C$2:$D$11,2,FALSE)","v":5},1973,200,{"$f":"VLOOKUP(H1975,'Ark1'!$C$2:$D$12,2,FALSE)","v":5}]
[1974,32,{"$f":"VLOOKUP(B1976,'Ark1'!C$2:D$11,2,FALSE)","v":2},1974,125,{"$f":"VLOOKUP(E1976,'Ark1'!$C$2:$D$11,2,FALSE)","v":5},1974,200,{"$f":"VLOOKUP(H1976,'Ark1'!$C$2:$D$12,2,FALSE)","v":5}]
[1975,32,{"$f":"VLOOKUP(B1977,'Ark1'!C$2:D$11,2,FALSE)","v":2},1975,125,{"$f":"VLOOKUP(E1977,'Ark1'!$C$2:$D$11,2,FALSE)","v":5},1975,200,{"$f":"VLOOKUP(H1977,'Ark1'!$C$2:$D$12,2,FALSE)","v":5}]
[1976,32,{"$f":"VLOOKUP(B1978,'Ark1'!C$2:D$11,2,FALSE)","v":2},1976,125,{"$f":"VLOOKUP(E1978,'Ark1'!$C$2:$D$11,2,FALSE)","v":5},1976,200,{"$f":"VLOOKUP(H1978,'Ark1'!$C$2:$D$12,2,FALSE)","v":5}]
[1977,32,{"$f":"VLOOKUP(B1979,'Ark1'!C$2:D$11,2,FALSE)","v":2},1977,125,{"$f":"VLOOKUP(E1979,'Ark1'!$C$2:$D$11,2,FALSE)","v":5},1977,200,{"$f":"VLOOKUP(H1979,'Ark1'!$C$2:$D$12,2,FALSE)","v":5}]
[1978,32,{"$f":"VLOOKUP(B1980,'Ark1'!C$2:D$11,2,FALSE)","v":2},1978,125,{"$f":"VLOOKUP(E1980,'Ark1'!$C$2:$D$11,2,FALSE)","v":5},1978,200,{"$f":"VLOOKUP(H1980,'Ark1'!$C$2:$D$12,2,FALSE)","v":5}]
[1979,32,{"$f":"VLOOKUP(B1981,'Ark1'!C$2:D$11,2,FALSE)","v":2},1979,125,{"$f":"VLOOKUP(E1981,'Ark1'!$C$2:$D$11,2,FALSE)","v":5},1979,200,{"$f":"VLOOKUP(H1981,'Ark1'!$C$2:$D$12,2,FALSE)","v":5}]
[1980,32,{"$f":"VLOOKUP(B1982,'Ark1'!C$2:D$11,2,FALSE)","v":2},1980,125,{"$f":"VLOOKUP(E1982,'Ark1'!$C$2:$D$11,2,FALSE)","v":5},1980,200,{"$f":"VLOOKUP(H1982,'Ark1'!$C$2:$D$12,2,FALSE)","v":5}]
[1981,32,{"$f":"VLOOKUP(B1983,'Ark1'!C$2:D$11,2,FALSE)","v":2},1981,125,{"$f":"VLOOKUP(E1983,'Ark1'!$C$2:$D$11,2,FALSE)","v":5},1981,200,{"$f":"VLOOKUP(H1983,'Ark1'!$C$2:$D$12,2,FALSE)","v":5}]
[1982,32,{"$f":"VLOOKUP(B1984,'Ark1'!C$2:D$11,2,FALSE)","v":2},1982,125,{"$f":"VLOOKUP(E1984,'Ark1'!$C$2:$D$11,2,FALSE)","v":5},1982,200,{"$f":"VLOOKUP(H1984,'Ark1'!$C$2:$D$12,2,FALSE)","v":5}]
[1983,32,{"$f":"VLOOKUP(B1985,'Ark1'!C$2:D$11,2,FALSE)","v":2},1983,125,{"$f":"VLOOKUP(E1985,'Ark1'!$C$2:$D$11,2,FALSE)","v":5},1983,200,{"$f":"VLOOKUP(H1985,'Ark1'!$C$2:$D$12,2,FALSE)","v":5}]
[1984,32,{"$f":"VLOOKUP(B1986,'Ark1'!C$2:D$11,2,FALSE)","v":2},1984,125,{"$f":"VLOOKUP(E1986,'Ark1'!$C$2:$D$11,2,FALSE)","v":5},1984,200,{"$f":"VLOOKUP(H1986,'Ark1'!$C$2:$D$12,2,FALSE)","v":5}]
[1985,32,{"$f":"VLOOKUP(B1987,'Ark1'!C$2:D$11,2,FALSE)","v":2},1985,125,{"$f":"VLOOKUP(E1987,'Ark1'!$C$2:$D$11,2,FALSE)","v":5},1985,200,{"$f":"VLOOKUP(H1987,'Ark1'!$C$2:$D$12,2,FALSE)","v":5}]
[1986,32,{"$f":"VLOOKUP(B1988,'Ark1'!C$2:D$11,2,FALSE)","v":2},1986,125,{"$f":"VLOOKUP(E1988,'Ark1'!$C$2:$D$11,2,FALSE)","v":5},1986,200,{"$f":"VLOOKUP(H1988,'Ark1'!$C$2:$D$12,2,FALSE)","v":5}]
[1987,32,{"$f":"VLOOKUP(B1989,'Ark1'!C$2:D$11,2,FALSE)","v":2},1987,125,{"$f":"VLOOKUP(E1989,'Ark1'!$C$2:$D$11,2,FALSE)","v":5},1987,200,{"$f":"VLOOKUP(H1989,'Ark1'!$C$2:$D$12,2,FALSE)","v":5}]
[1988,32,{"$f":"VLOOKUP(B1990,'Ark1'!C$2:D$11,2,FALSE)","v":2},1988,125,{"$f":"VLOOKUP(E1990,'Ark1'!$C$2:$D$11,2,FALSE)","v":5},1988,200,{"$f":"VLOOKUP(H1990,'Ark1'!$C$2:$D$12,2,FALSE)","v":5}]
[1989,32,{"$f":"VLOOKUP(B1991,'Ark1'!C$2:D$11,2,FALSE)","v":2},1989,125,{"$f":"VLOOKUP(E1991,'Ark1'!$C$2:$D$11,2,FALSE)","v":5},1989,200,{"$f":"VLOOKUP(H1991,'Ark1'!$C$2:$D$12,2,FALSE)","v":5}]
[1990,32,{"$f":"VLOOKUP(B1992,'Ark1'!C$2:D$11,2,FALSE)","v":2},1990,125,{"$f":"VLOOKUP(E1992,'Ark1'!$C$2:$D$11,2,FALSE)","v":5},1990,200,{"$f":"VLOOKUP(H1992,'Ark1'!$C$2:$D$12,2,FALSE)","v":5}]
[1991,32,{"$f":"VLOOKUP(B1993,'Ark1'!C$2:D$11,2,FALSE)","v":2},1991,125,{"$f":"VLOOKUP(E1993,'Ark1'!$C$2:$D$11,2,FALSE)","v":5},1991,200,{"$f":"VLOOKUP(H1993,'Ark1'!$C$2:$D$12,2,FALSE)","v":5}]
[1992,32,{"$f":"VLOOKUP(B1994,'Ark1'!C$2:D$11,2,FALSE)","v":2},1992,125,{"$f":"VLOOKUP(E1994,'Ark1'!$C$2:$D$11,2,FALSE)","v":5},1992,200,{"$f":"VLOOKUP(H1994,'Ark1'!$C$2:$D$12,2,FALSE)","v":5}]
[1993,32,{"$f":"VLOOKUP(B1995,'Ark1'!C$2:D$11,2,FALSE)","v":2},1993,125,{"$f":"VLOOKUP(E1995,'Ark1'!$C$2:$D$11,2,FALSE)","v":5},1993,200,{"$f":"VLOOKUP(H1995,'Ark1'!$C$2:$D$12,2,FALSE)","v":5}]
[1994,32,{"$f":"VLOOKUP(B1996,'Ark1'!C$2:D$11,2,FALSE)","v":2},1994,125,{"$f":"VLOOKUP(E1996,'Ark1'!$C$2:$D$11,2,FALSE)","v":5},1994,200,{"$f":"VLOOKUP(H1996,'Ark1'!$C$2:$D$12,2,FALSE)","v":5}]
[1995,32,{"$f":"VLOOKUP(B1997,'Ark1'!C$2:D$11,2,FALSE)","v":2},1995,125,{"$f":"VLOOKUP(E1997,'Ark1'!$C$2:$D$11,2,FALSE)","v":5},1995,200,{"$f":"VLOOKUP(H1997,'Ark1'!$C$2:$D$12,2,FALSE)","v":5}]
[1996,32,{"$f":"VLOOKUP(B1998,'Ark1'!C$2:D$11,2,FALSE)","v":2},1996,125,{"$f":"VLOOKUP(E1998,'Ark1'!$C$2:$D$11,2,FALSE)","v":5},1996,200,{"$f":"VLOOKUP(H1998,'Ark1'!$C$2:$D$12,2,FALSE)","v":5}]
[1997,32,{"$f":"VLOOKUP(B1999,'Ark1'!C$2:D$11,2,FALSE)","v":2},1997,125,{"$f":"VLOOKUP(E1999,'Ark1'!$C$2:$D$11,2,FALSE)","v":5},1997,200,{"$f":"VLOOKUP(H1999,'Ark1'!$C$2:$D$12,2,FALSE)","v":5}]
[1998,32,{"$f":"VLOOKUP(B2000,'Ark1'!C$2:D$11,2,FALSE)","v":2},1998,125,{"$f":"VLOOKUP(E2000,'Ark1'!$C$2:$D$11,2,FALSE)","v":5},1998,200,{"$f":"VLOOKUP(H2000,'Ark1'!$C$2:$D$12,2,FALSE)","v":5}]
[1999,32,{"$f":"VLOOKUP(B2001,'Ark1'!C$2:D$11,2,FALSE)","v":2},1999,125,{"$f":"VLOOKUP(E2001,'Ark1'!$C$2:$D$11,2,FALSE)","v":5},1999,200,{"$f":"VLOOKUP(H2001,'Ark1'!$C$2:$D$12,2,FALSE)","v":5}]
[2000,32,{"$f":"VLOOKUP(B2002,'Ark1'!C$2:D$11,2,FALSE)","v":2},2000,125,{"$f":"VLOOKUP(E2002,'Ark1'!$C$2:$D$11,2,FALSE)","v":5},2000,200,{"$f":"VLOOKUP(H2002,'Ark1'!$C$2:$D$12,2,FALSE)","v":5}]
[2001,32,{"$f":"VLOOKUP(B2003,'Ark1'!C$2:D$11,2,FALSE)","v":2},2001,125,{"$f":"VLOOKUP(E2003,'Ark1'!$C$2:$D$11,2,FALSE)","v":5},2001,200,{"$f":"VLOOKUP(H2003,'Ark1'!$C$2:$D$12,2,FALSE)","v":5}]
[2002,32,{"$f":"VLOOKUP(B2004,'Ark1'!C$2:D$11,2,FALSE)","v":2},2002,125,{"$f":"VLOOKUP(E2004,'Ark1'!$C$2:$D$11,2,FALSE)","v":5},2002,200,{"$f":"VLOOKUP(H2004,'Ark1'!$C$2:$D$12,2,FALSE)","v":5}]
[2003,32,{"$f":"VLOOKUP(B2005,'Ark1'!C$2:D$11,2,FALSE)","v":2},2003,125,{"$f":"VLOOKUP(E2005,'Ark1'!$C$2:$D$11,2,FALSE)","v":5},2003,200,{"$f":"VLOOKUP(H2005,'Ark1'!$C$2:$D$12,2,FALSE)","v":5}]
[2004,32,{"$f":"VLOOKUP(B2006,'Ark1'!C$2:D$11,2,FALSE)","v":2},2004,125,{"$f":"VLOOKUP(E2006,'Ark1'!$C$2:$D$11,2,FALSE)","v":5},2004,200,{"$f":"VLOOKUP(H2006,'Ark1'!$C$2:$D$12,2,FALSE)","v":5}]
[2005,32,{"$f":"VLOOKUP(B2007,'Ark1'!C$2:D$11,2,FALSE)","v":2},2005,125,{"$f":"VLOOKUP(E2007,'Ark1'!$C$2:$D$11,2,FALSE)","v":5},2005,200,{"$f":"VLOOKUP(H2007,'Ark1'!$C$2:$D$12,2,FALSE)","v":5}]
[2006,32,{"$f":"VLOOKUP(B2008,'Ark1'!C$2:D$11,2,FALSE)","v":2},2006,125,{"$f":"VLOOKUP(E2008,'Ark1'!$C$2:$D$11,2,FALSE)","v":5},2006,200,{"$f":"VLOOKUP(H2008,'Ark1'!$C$2:$D$12,2,FALSE)","v":5}]
[2007,32,{"$f":"VLOOKUP(B2009,'Ark1'!C$2:D$11,2,FALSE)","v":2},2007,125,{"$f":"VLOOKUP(E2009,'Ark1'!$C$2:$D$11,2,FALSE)","v":5},2007,200,{"$f":"VLOOKUP(H2009,'Ark1'!$C$2:$D$12,2,FALSE)","v":5}]
[2008,32,{"$f":"VLOOKUP(B2010,'Ark1'!C$2:D$11,2,FALSE)","v":2},2008,125,{"$f":"VLOOKUP(E2010,'Ark1'!$C$2:$D$11,2,FALSE)","v":5},2008,200,{"$f":"VLOOKUP(H2010,'Ark1'!$C$2:$D$12,2,FALSE)","v":5}]
[2009,32,{"$f":"VLOOKUP(B2011,'Ark1'!C$2:D$11,2,FALSE)","v":2},2009,125,{"$f":"VLOOKUP(E2011,'Ark1'!$C$2:$D$11,2,FALSE)","v":5},2009,200,{"$f":"VLOOKUP(H2011,'Ark1'!$C$2:$D$12,2,FALSE)","v":5}]
[2010,32,{"$f":"VLOOKUP(B2012,'Ark1'!C$2:D$11,2,FALSE)","v":2},2010,125,{"$f":"VLOOKUP(E2012,'Ark1'!$C$2:$D$11,2,FALSE)","v":5},2010,200,{"$f":"VLOOKUP(H2012,'Ark1'!$C$2:$D$12,2,FALSE)","v":5}]
[2011,32,{"$f":"VLOOKUP(B2013,'Ark1'!C$2:D$11,2,FALSE)","v":2},2011,125,{"$f":"VLOOKUP(E2013,'Ark1'!$C$2:$D$11,2,FALSE)","v":5},2011,200,{"$f":"VLOOKUP(H2013,'Ark1'!$C$2:$D$12,2,FALSE)","v":5}]
[2012,32,{"$f":"VLOOKUP(B2014,'Ark1'!C$2:D$11,2,FALSE)","v":2},2012,125,{"$f":"VLOOKUP(E2014,'Ark1'!$C$2:$D$11,2,FALSE)","v":5},2012,200,{"$f":"VLOOKUP(H2014,'Ark1'!$C$2:$D$12,2,FALSE)","v":5}]
[2013,32,{"$f":"VLOOKUP(B2015,'Ark1'!C$2:D$11,2,FALSE)","v":2},2013,125,{"$f":"VLOOKUP(E2015,'Ark1'!$C$2:$D$11,2,FALSE)","v":5},2013,200,{"$f":"VLOOKUP(H2015,'Ark1'!$C$2:$D$12,2,FALSE)","v":5}]
[2014,32,{"$f":"VLOOKUP(B2016,'Ark1'!C$2:D$11,2,FALSE)","v":2},2014,125,{"$f":"VLOOKUP(E2016,'Ark1'!$C$2:$D$11,2,FALSE)","v":5},2014,200,{"$f":"VLOOKUP(H2016,'Ark1'!$C$2:$D$12,2,FALSE)","v":5}]
[2015,32,{"$f":"VLOOKUP(B2017,'Ark1'!C$2:D$11,2,FALSE)","v":2},2015,125,{"$f":"VLOOKUP(E2017,'Ark1'!$C$2:$D$11,2,FALSE)","v":5},2015,200,{"$f":"VLOOKUP(H2017,'Ark1'!$C$2:$D$12,2,FALSE)","v":5}]
[2016,32,{"$f":"VLOOKUP(B2018,'Ark1'!C$2:D$11,2,FALSE)","v":2},2016,125,{"$f":"VLOOKUP(E2018,'Ark1'!$C$2:$D$11,2,FALSE)","v":5},2016,200,{"$f":"VLOOKUP(H2018,'Ark1'!$C$2:$D$12,2,FALSE)","v":5}]
[2017,32,{"$f":"VLOOKUP(B2019,'Ark1'!C$2:D$11,2,FALSE)","v":2},2017,125,{"$f":"VLOOKUP(E2019,'Ark1'!$C$2:$D$11,2,FALSE)","v":5},2017,200,{"$f":"VLOOKUP(H2019,'Ark1'!$C$2:$D$12,2,FALSE)","v":5}]
[2018,32,{"$f":"VLOOKUP(B2020,'Ark1'!C$2:D$11,2,FALSE)","v":2},2018,125,{"$f":"VLOOKUP(E2020,'Ark1'!$C$2:$D$11,2,FALSE)","v":5},2018,200,{"$f":"VLOOKUP(H2020,'Ark1'!$C$2:$D$12,2,FALSE)","v":5}]
[2019,32,{"$f":"VLOOKUP(B2021,'Ark1'!C$2:D$11,2,FALSE)","v":2},2019,125,{"$f":"VLOOKUP(E2021,'Ark1'!$C$2:$D$11,2,FALSE)","v":5},2019,200,{"$f":"VLOOKUP(H2021,'Ark1'!$C$2:$D$12,2,FALSE)","v":5}]
[2020,32,{"$f":"VLOOKUP(B2022,'Ark1'!C$2:D$11,2,FALSE)","v":2},2020,125,{"$f":"VLOOKUP(E2022,'Ark1'!$C$2:$D$11,2,FALSE)","v":5},2020,200,{"$f":"VLOOKUP(H2022,'Ark1'!$C$2:$D$12,2,FALSE)","v":5}]
[2021,32,{"$f":"VLOOKUP(B2023,'Ark1'!C$2:D$11,2,FALSE)","v":2},2021,125,{"$f":"VLOOKUP(E2023,'Ark1'!$C$2:$D$11,2,FALSE)","v":5},2021,200,{"$f":"VLOOKUP(H2023,'Ark1'!$C$2:$D$12,2,FALSE)","v":5}]
[2022,32,{"$f":"VLOOKUP(B2024,'Ark1'!C$2:D$11,2,FALSE)","v":2},2022,125,{"$f":"VLOOKUP(E2024,'Ark1'!$C$2:$D$11,2,FALSE)","v":5},2022,200,{"$f":"VLOOKUP(H2024,'Ark1'!$C$2:$D$12,2,FALSE)","v":5}]
[2023,32,{"$f":"VLOOKUP(B2025,'Ark1'!C$2:D$11,2,FALSE)","v":2},2023,125,{"$f":"VLOOKUP(E2025,'Ark1'!$C$2:$D$11,2,FALSE)","v":5},2023,200,{"$f":"VLOOKUP(H2025,'Ark1'!$C$2:$D$12,2,FALSE)","v":5}]
[2024,32,{"$f":"VLOOKUP(B2026,'Ark1'!C$2:D$11,2,FALSE)","v":2},2024,125,{"$f":"VLOOKUP(E2026,'Ark1'!$C$2:$D$11,2,FALSE)","v":5},2024,200,{"$f":"VLOOKUP(H2026,'Ark1'!$C$2:$D$12,2,FALSE)","v":5}]
[2025,32,{"$f":"VLOOKUP(B2027,'Ark1'!C$2:D$11,2,FALSE)","v":2},2025,125,{"$f":"VLOOKUP(E2027,'Ark1'!$C$2:$D$11,2,FALSE)","v":5},2025,200,{"$f":"VLOOKUP(H2027,'Ark1'!$C$2:$D$12,2,FALSE)","v":5}]
[2026,32,{"$f":"VLOOKUP(B2028,'Ark1'!C$2:D$11,2,FALSE)","v":2},2026,125,{"$f":"VLOOKUP(E2028,'Ark1'!$C$2:$D$11,2,FALSE)","v":5},2026,200,{"$f":"VLOOKUP(H2028,'Ark1'!$C$2:$D$12,2,FALSE)","v":5}]
[2027,32,{"$f":"VLOOKUP(B2029,'Ark1'!C$2:D$11,2,FALSE)","v":2},2027,125,{"$f":"VLOOKUP(E2029,'Ark1'!$C$2:$D$11,2,FALSE)","v":5},2027,200,{"$f":"VLOOKUP(H2029,'Ark1'!$C$2:$D$12,2,FALSE)","v":5}]
[2028,32,{"$f":"VLOOKUP(B2030,'Ark1'!C$2:D$11,2,FALSE)","v":2},2028,125,{"$f":"VLOOKUP(E2030,'Ark1'!$C$2:$D$11,2,FALSE)","v":5},2028,200,{"$f":"VLOOKUP(H2030,'Ark1'!$C$2:$D$12,2,FALSE)","v":5}]
[2029,32,{"$f":"VLOOKUP(B2031,'Ark1'!C$2:D$11,2,FALSE)","v":2},2029,125,{"$f":"VLOOKUP(E2031,'Ark1'!$C$2:$D$11,2,FALSE)","v":5},2029,200,{"$f":"VLOOKUP(H2031,'Ark1'!$C$2:$D$12,2,FALSE)","v":5}]
[2030,32,{"$f":"VLOOKUP(B2032,'Ark1'!C$2:D$11,2,FALSE)","v":2},2030,125,{"$f":"VLOOKUP(E2032,'Ark1'!$C$2:$D$11,2,FALSE)","v":5},2030,200,{"$f":"VLOOKUP(H2032,'Ark1'!$C$2:$D$12,2,FALSE)","v":5}]
[2031,32,{"$f":"VLOOKUP(B2033,'Ark1'!C$2:D$11,2,FALSE)","v":2},2031,125,{"$f":"VLOOKUP(E2033,'Ark1'!$C$2:$D$11,2,FALSE)","v":5},2031,200,{"$f":"VLOOKUP(H2033,'Ark1'!$C$2:$D$12,2,FALSE)","v":5}]
[2032,32,{"$f":"VLOOKUP(B2034,'Ark1'!C$2:D$11,2,FALSE)","v":2},2032,125,{"$f":"VLOOKUP(E2034,'Ark1'!$C$2:$D$11,2,FALSE)","v":5},2032,200,{"$f":"VLOOKUP(H2034,'Ark1'!$C$2:$D$12,2,FALSE)","v":5}]
[2033,32,{"$f":"VLOOKUP(B2035,'Ark1'!C$2:D$11,2,FALSE)","v":2},2033,125,{"$f":"VLOOKUP(E2035,'Ark1'!$C$2:$D$11,2,FALSE)","v":5},2033,200,{"$f":"VLOOKUP(H2035,'Ark1'!$C$2:$D$12,2,FALSE)","v":5}]
[2034,32,{"$f":"VLOOKUP(B2036,'Ark1'!C$2:D$11,2,FALSE)","v":2},2034,125,{"$f":"VLOOKUP(E2036,'Ark1'!$C$2:$D$11,2,FALSE)","v":5},2034,200,{"$f":"VLOOKUP(H2036,'Ark1'!$C$2:$D$12,2,FALSE)","v":5}]
[2035,32,{"$f":"VLOOKUP(B2037,'Ark1'!C$2:D$11,2,FALSE)","v":2},2035,125,{"$f":"VLOOKUP(E2037,'Ark1'!$C$2:$D$11,2,FALSE)","v":5},2035,200,{"$f":"VLOOKUP(H2037,'Ark1'!$C$2:$D$12,2,FALSE)","v":5}]
[2036,32,{"$f":"VLOOKUP(B2038,'Ark1'!C$2:D$11,2,FALSE)","v":2},2036,125,{"$f":"VLOOKUP(E2038,'Ark1'!$C$2:$D$11,2,FALSE)","v":5},2036,200,{"$f":"VLOOKUP(H2038,'Ark1'!$C$2:$D$12,2,FALSE)","v":5}]
[2037,32,{"$f":"VLOOKUP(B2039,'Ark1'!C$2:D$11,2,FALSE)","v":2},2037,125,{"$f":"VLOOKUP(E2039,'Ark1'!$C$2:$D$11,2,FALSE)","v":5},2037,200,{"$f":"VLOOKUP(H2039,'Ark1'!$C$2:$D$12,2,FALSE)","v":5}]
[2038,32,{"$f":"VLOOKUP(B2040,'Ark1'!C$2:D$11,2,FALSE)","v":2},2038,125,{"$f":"VLOOKUP(E2040,'Ark1'!$C$2:$D$11,2,FALSE)","v":5},2038,200,{"$f":"VLOOKUP(H2040,'Ark1'!$C$2:$D$12,2,FALSE)","v":5}]
[2039,32,{"$f":"VLOOKUP(B2041,'Ark1'!C$2:D$11,2,FALSE)","v":2},2039,125,{"$f":"VLOOKUP(E2041,'Ark1'!$C$2:$D$11,2,FALSE)","v":5},2039,200,{"$f":"VLOOKUP(H2041,'Ark1'!$C$2:$D$12,2,FALSE)","v":5}]
[2040,32,{"$f":"VLOOKUP(B2042,'Ark1'!C$2:D$11,2,FALSE)","v":2},2040,125,{"$f":"VLOOKUP(E2042,'Ark1'!$C$2:$D$11,2,FALSE)","v":5},2040,200,{"$f":"VLOOKUP(H2042,'Ark1'!$C$2:$D$12,2,FALSE)","v":5}]
[2041,32,{"$f":"VLOOKUP(B2043,'Ark1'!C$2:D$11,2,FALSE)","v":2},2041,125,{"$f":"VLOOKUP(E2043,'Ark1'!$C$2:$D$11,2,FALSE)","v":5},2041,200,{"$f":"VLOOKUP(H2043,'Ark1'!$C$2:$D$12,2,FALSE)","v":5}]
[2042,32,{"$f":"VLOOKUP(B2044,'Ark1'!C$2:D$11,2,FALSE)","v":2},2042,125,{"$f":"VLOOKUP(E2044,'Ark1'!$C$2:$D$11,2,FALSE)","v":5},2042,200,{"$f":"VLOOKUP(H2044,'Ark1'!$C$2:$D$12,2,FALSE)","v":5}]
[2043,32,{"$f":"VLOOKUP(B2045,'Ark1'!C$2:D$11,2,FALSE)","v":2},2043,125,{"$f":"VLOOKUP(E2045,'Ark1'!$C$2:$D$11,2,FALSE)","v":5},2043,200,{"$f":"VLOOKUP(H2045,'Ark1'!$C$2:$D$12,2,FALSE)","v":5}]
[2044,32,{"$f":"VLOOKUP(B2046,'Ark1'!C$2:D$11,2,FALSE)","v":2},2044,125,{"$f":"VLOOKUP(E2046,'Ark1'!$C$2:$D$11,2,FALSE)","v":5},2044,200,{"$f":"VLOOKUP(H2046,'Ark1'!$C$2:$D$12,2,FALSE)","v":5}]
[2045,32,{"$f":"VLOOKUP(B2047,'Ark1'!C$2:D$11,2,FALSE)","v":2},2045,125,{"$f":"VLOOKUP(E2047,'Ark1'!$C$2:$D$11,2,FALSE)","v":5},2045,200,{"$f":"VLOOKUP(H2047,'Ark1'!$C$2:$D$12,2,FALSE)","v":5}]
[2046,32,{"$f":"VLOOKUP(B2048,'Ark1'!C$2:D$11,2,FALSE)","v":2},2046,125,{"$f":"VLOOKUP(E2048,'Ark1'!$C$2:$D$11,2,FALSE)","v":5},2046,200,{"$f":"VLOOKUP(H2048,'Ark1'!$C$2:$D$12,2,FALSE)","v":5}]
[2047,32,{"$f":"VLOOKUP(B2049,'Ark1'!C$2:D$11,2,FALSE)","v":2},2047,125,{"$f":"VLOOKUP(E2049,'Ark1'!$C$2:$D$11,2,FALSE)","v":5},2047,200,{"$f":"VLOOKUP(H2049,'Ark1'!$C$2:$D$12,2,FALSE)","v":5}]
[2048,32,{"$f":"VLOOKUP(B2050,'Ark1'!C$2:D$11,2,FALSE)","v":2},2048,125,{"$f":"VLOOKUP(E2050,'Ark1'!$C$2:$D$11,2,FALSE)","v":5},2048,200,{"$f":"VLOOKUP(H2050,'Ark1'!$C$2:$D$12,2,FALSE)","v":5}]
[2049,32,{"$f":"VLOOKUP(B2051,'Ark1'!C$2:D$11,2,FALSE)","v":2},2049,125,{"$f":"VLOOKUP(E2051,'Ark1'!$C$2:$D$11,2,FALSE)","v":5},2049,200,{"$f":"VLOOKUP(H2051,'Ark1'!$C$2:$D$12,2,FALSE)","v":5}]
[2050,32,{"$f":"VLOOKUP(B2052,'Ark1'!C$2:D$11,2,FALSE)","v":2},2050,125,{"$f":"VLOOKUP(E2052,'Ark1'!$C$2:$D$11,2,FALSE)","v":5},2050,200,{"$f":"VLOOKUP(H2052,'Ark1'!$C$2:$D$12,2,FALSE)","v":5}]
[2051,32,{"$f":"VLOOKUP(B2053,'Ark1'!C$2:D$11,2,FALSE)","v":2},2051,125,{"$f":"VLOOKUP(E2053,'Ark1'!$C$2:$D$11,2,FALSE)","v":5},2051,200,{"$f":"VLOOKUP(H2053,'Ark1'!$C$2:$D$12,2,FALSE)","v":5}]
[2052,32,{"$f":"VLOOKUP(B2054,'Ark1'!C$2:D$11,2,FALSE)","v":2},2052,125,{"$f":"VLOOKUP(E2054,'Ark1'!$C$2:$D$11,2,FALSE)","v":5},2052,200,{"$f":"VLOOKUP(H2054,'Ark1'!$C$2:$D$12,2,FALSE)","v":5}]
[2053,32,{"$f":"VLOOKUP(B2055,'Ark1'!C$2:D$11,2,FALSE)","v":2},2053,125,{"$f":"VLOOKUP(E2055,'Ark1'!$C$2:$D$11,2,FALSE)","v":5},2053,200,{"$f":"VLOOKUP(H2055,'Ark1'!$C$2:$D$12,2,FALSE)","v":5}]
[2054,32,{"$f":"VLOOKUP(B2056,'Ark1'!C$2:D$11,2,FALSE)","v":2},2054,125,{"$f":"VLOOKUP(E2056,'Ark1'!$C$2:$D$11,2,FALSE)","v":5},2054,200,{"$f":"VLOOKUP(H2056,'Ark1'!$C$2:$D$12,2,FALSE)","v":5}]
[2055,32,{"$f":"VLOOKUP(B2057,'Ark1'!C$2:D$11,2,FALSE)","v":2},2055,125,{"$f":"VLOOKUP(E2057,'Ark1'!$C$2:$D$11,2,FALSE)","v":5},2055,200,{"$f":"VLOOKUP(H2057,'Ark1'!$C$2:$D$12,2,FALSE)","v":5}]
[2056,32,{"$f":"VLOOKUP(B2058,'Ark1'!C$2:D$11,2,FALSE)","v":2},2056,125,{"$f":"VLOOKUP(E2058,'Ark1'!$C$2:$D$11,2,FALSE)","v":5},2056,200,{"$f":"VLOOKUP(H2058,'Ark1'!$C$2:$D$12,2,FALSE)","v":5}]
[2057,32,{"$f":"VLOOKUP(B2059,'Ark1'!C$2:D$11,2,FALSE)","v":2},2057,125,{"$f":"VLOOKUP(E2059,'Ark1'!$C$2:$D$11,2,FALSE)","v":5},2057,200,{"$f":"VLOOKUP(H2059,'Ark1'!$C$2:$D$12,2,FALSE)","v":5}]
[2058,32,{"$f":"VLOOKUP(B2060,'Ark1'!C$2:D$11,2,FALSE)","v":2},2058,125,{"$f":"VLOOKUP(E2060,'Ark1'!$C$2:$D$11,2,FALSE)","v":5},2058,200,{"$f":"VLOOKUP(H2060,'Ark1'!$C$2:$D$12,2,FALSE)","v":5}]
[2059,32,{"$f":"VLOOKUP(B2061,'Ark1'!C$2:D$11,2,FALSE)","v":2},2059,125,{"$f":"VLOOKUP(E2061,'Ark1'!$C$2:$D$11,2,FALSE)","v":5},2059,200,{"$f":"VLOOKUP(H2061,'Ark1'!$C$2:$D$12,2,FALSE)","v":5}]
[2060,32,{"$f":"VLOOKUP(B2062,'Ark1'!C$2:D$11,2,FALSE)","v":2},2060,125,{"$f":"VLOOKUP(E2062,'Ark1'!$C$2:$D$11,2,FALSE)","v":5},2060,200,{"$f":"VLOOKUP(H2062,'Ark1'!$C$2:$D$12,2,FALSE)","v":5}]
[2061,32,{"$f":"VLOOKUP(B2063,'Ark1'!C$2:D$11,2,FALSE)","v":2},2061,125,{"$f":"VLOOKUP(E2063,'Ark1'!$C$2:$D$11,2,FALSE)","v":5},2061,200,{"$f":"VLOOKUP(H2063,'Ark1'!$C$2:$D$12,2,FALSE)","v":5}]
[2062,32,{"$f":"VLOOKUP(B2064,'Ark1'!C$2:D$11,2,FALSE)","v":2},2062,125,{"$f":"VLOOKUP(E2064,'Ark1'!$C$2:$D$11,2,FALSE)","v":5},2062,200,{"$f":"VLOOKUP(H2064,'Ark1'!$C$2:$D$12,2,FALSE)","v":5}]
[2063,32,{"$f":"VLOOKUP(B2065,'Ark1'!C$2:D$11,2,FALSE)","v":2},2063,125,{"$f":"VLOOKUP(E2065,'Ark1'!$C$2:$D$11,2,FALSE)","v":5},2063,200,{"$f":"VLOOKUP(H2065,'Ark1'!$C$2:$D$12,2,FALSE)","v":5}]
[2064,32,{"$f":"VLOOKUP(B2066,'Ark1'!C$2:D$11,2,FALSE)","v":2},2064,125,{"$f":"VLOOKUP(E2066,'Ark1'!$C$2:$D$11,2,FALSE)","v":5},2064,200,{"$f":"VLOOKUP(H2066,'Ark1'!$C$2:$D$12,2,FALSE)","v":5}]
[2065,32,{"$f":"VLOOKUP(B2067,'Ark1'!C$2:D$11,2,FALSE)","v":2},2065,125,{"$f":"VLOOKUP(E2067,'Ark1'!$C$2:$D$11,2,FALSE)","v":5},2065,200,{"$f":"VLOOKUP(H2067,'Ark1'!$C$2:$D$12,2,FALSE)","v":5}]
[2066,32,{"$f":"VLOOKUP(B2068,'Ark1'!C$2:D$11,2,FALSE)","v":2},2066,125,{"$f":"VLOOKUP(E2068,'Ark1'!$C$2:$D$11,2,FALSE)","v":5},2066,200,{"$f":"VLOOKUP(H2068,'Ark1'!$C$2:$D$12,2,FALSE)","v":5}]
[2067,32,{"$f":"VLOOKUP(B2069,'Ark1'!C$2:D$11,2,FALSE)","v":2},2067,125,{"$f":"VLOOKUP(E2069,'Ark1'!$C$2:$D$11,2,FALSE)","v":5},2067,200,{"$f":"VLOOKUP(H2069,'Ark1'!$C$2:$D$12,2,FALSE)","v":5}]
[2068,32,{"$f":"VLOOKUP(B2070,'Ark1'!C$2:D$11,2,FALSE)","v":2},2068,125,{"$f":"VLOOKUP(E2070,'Ark1'!$C$2:$D$11,2,FALSE)","v":5},2068,200,{"$f":"VLOOKUP(H2070,'Ark1'!$C$2:$D$12,2,FALSE)","v":5}]
[2069,32,{"$f":"VLOOKUP(B2071,'Ark1'!C$2:D$11,2,FALSE)","v":2},2069,125,{"$f":"VLOOKUP(E2071,'Ark1'!$C$2:$D$11,2,FALSE)","v":5},2069,200,{"$f":"VLOOKUP(H2071,'Ark1'!$C$2:$D$12,2,FALSE)","v":5}]
[2070,32,{"$f":"VLOOKUP(B2072,'Ark1'!C$2:D$11,2,FALSE)","v":2},2070,125,{"$f":"VLOOKUP(E2072,'Ark1'!$C$2:$D$11,2,FALSE)","v":5},2070,200,{"$f":"VLOOKUP(H2072,'Ark1'!$C$2:$D$12,2,FALSE)","v":5}]
[2071,32,{"$f":"VLOOKUP(B2073,'Ark1'!C$2:D$11,2,FALSE)","v":2},2071,125,{"$f":"VLOOKUP(E2073,'Ark1'!$C$2:$D$11,2,FALSE)","v":5},2071,200,{"$f":"VLOOKUP(H2073,'Ark1'!$C$2:$D$12,2,FALSE)","v":5}]
[2072,32,{"$f":"VLOOKUP(B2074,'Ark1'!C$2:D$11,2,FALSE)","v":2},2072,125,{"$f":"VLOOKUP(E2074,'Ark1'!$C$2:$D$11,2,FALSE)","v":5},2072,200,{"$f":"VLOOKUP(H2074,'Ark1'!$C$2:$D$12,2,FALSE)","v":5}]
[2073,32,{"$f":"VLOOKUP(B2075,'Ark1'!C$2:D$11,2,FALSE)","v":2},2073,125,{"$f":"VLOOKUP(E2075,'Ark1'!$C$2:$D$11,2,FALSE)","v":5},2073,200,{"$f":"VLOOKUP(H2075,'Ark1'!$C$2:$D$12,2,FALSE)","v":5}]
[2074,32,{"$f":"VLOOKUP(B2076,'Ark1'!C$2:D$11,2,FALSE)","v":2},2074,125,{"$f":"VLOOKUP(E2076,'Ark1'!$C$2:$D$11,2,FALSE)","v":5},2074,200,{"$f":"VLOOKUP(H2076,'Ark1'!$C$2:$D$12,2,FALSE)","v":5}]
[2075,32,{"$f":"VLOOKUP(B2077,'Ark1'!C$2:D$11,2,FALSE)","v":2},2075,125,{"$f":"VLOOKUP(E2077,'Ark1'!$C$2:$D$11,2,FALSE)","v":5},2075,200,{"$f":"VLOOKUP(H2077,'Ark1'!$C$2:$D$12,2,FALSE)","v":5}]
[2076,32,{"$f":"VLOOKUP(B2078,'Ark1'!C$2:D$11,2,FALSE)","v":2},2076,125,{"$f":"VLOOKUP(E2078,'Ark1'!$C$2:$D$11,2,FALSE)","v":5},2076,200,{"$f":"VLOOKUP(H2078,'Ark1'!$C$2:$D$12,2,FALSE)","v":5}]
[2077,32,{"$f":"VLOOKUP(B2079,'Ark1'!C$2:D$11,2,FALSE)","v":2},2077,125,{"$f":"VLOOKUP(E2079,'Ark1'!$C$2:$D$11,2,FALSE)","v":5},2077,200,{"$f":"VLOOKUP(H2079,'Ark1'!$C$2:$D$12,2,FALSE)","v":5}]
[2078,32,{"$f":"VLOOKUP(B2080,'Ark1'!C$2:D$11,2,FALSE)","v":2},2078,125,{"$f":"VLOOKUP(E2080,'Ark1'!$C$2:$D$11,2,FALSE)","v":5},2078,200,{"$f":"VLOOKUP(H2080,'Ark1'!$C$2:$D$12,2,FALSE)","v":5}]
[2079,32,{"$f":"VLOOKUP(B2081,'Ark1'!C$2:D$11,2,FALSE)","v":2},2079,125,{"$f":"VLOOKUP(E2081,'Ark1'!$C$2:$D$11,2,FALSE)","v":5},2079,200,{"$f":"VLOOKUP(H2081,'Ark1'!$C$2:$D$12,2,FALSE)","v":5}]
[2080,32,{"$f":"VLOOKUP(B2082,'Ark1'!C$2:D$11,2,FALSE)","v":2},2080,125,{"$f":"VLOOKUP(E2082,'Ark1'!$C$2:$D$11,2,FALSE)","v":5},2080,200,{"$f":"VLOOKUP(H2082,'Ark1'!$C$2:$D$12,2,FALSE)","v":5}]
[2081,32,{"$f":"VLOOKUP(B2083,'Ark1'!C$2:D$11,2,FALSE)","v":2},2081,125,{"$f":"VLOOKUP(E2083,'Ark1'!$C$2:$D$11,2,FALSE)","v":5},2081,200,{"$f":"VLOOKUP(H2083,'Ark1'!$C$2:$D$12,2,FALSE)","v":5}]
[2082,32,{"$f":"VLOOKUP(B2084,'Ark1'!C$2:D$11,2,FALSE)","v":2},2082,125,{"$f":"VLOOKUP(E2084,'Ark1'!$C$2:$D$11,2,FALSE)","v":5},2082,200,{"$f":"VLOOKUP(H2084,'Ark1'!$C$2:$D$12,2,FALSE)","v":5}]
[2083,32,{"$f":"VLOOKUP(B2085,'Ark1'!C$2:D$11,2,FALSE)","v":2},2083,125,{"$f":"VLOOKUP(E2085,'Ark1'!$C$2:$D$11,2,FALSE)","v":5},2083,200,{"$f":"VLOOKUP(H2085,'Ark1'!$C$2:$D$12,2,FALSE)","v":5}]
[2084,32,{"$f":"VLOOKUP(B2086,'Ark1'!C$2:D$11,2,FALSE)","v":2},2084,125,{"$f":"VLOOKUP(E2086,'Ark1'!$C$2:$D$11,2,FALSE)","v":5},2084,200,{"$f":"VLOOKUP(H2086,'Ark1'!$C$2:$D$12,2,FALSE)","v":5}]
[2085,32,{"$f":"VLOOKUP(B2087,'Ark1'!C$2:D$11,2,FALSE)","v":2},2085,125,{"$f":"VLOOKUP(E2087,'Ark1'!$C$2:$D$11,2,FALSE)","v":5},2085,200,{"$f":"VLOOKUP(H2087,'Ark1'!$C$2:$D$12,2,FALSE)","v":5}]
[2086,32,{"$f":"VLOOKUP(B2088,'Ark1'!C$2:D$11,2,FALSE)","v":2},2086,125,{"$f":"VLOOKUP(E2088,'Ark1'!$C$2:$D$11,2,FALSE)","v":5},2086,200,{"$f":"VLOOKUP(H2088,'Ark1'!$C$2:$D$12,2,FALSE)","v":5}]
[2087,32,{"$f":"VLOOKUP(B2089,'Ark1'!C$2:D$11,2,FALSE)","v":2},2087,125,{"$f":"VLOOKUP(E2089,'Ark1'!$C$2:$D$11,2,FALSE)","v":5},2087,200,{"$f":"VLOOKUP(H2089,'Ark1'!$C$2:$D$12,2,FALSE)","v":5}]
[2088,32,{"$f":"VLOOKUP(B2090,'Ark1'!C$2:D$11,2,FALSE)","v":2},2088,125,{"$f":"VLOOKUP(E2090,'Ark1'!$C$2:$D$11,2,FALSE)","v":5},2088,200,{"$f":"VLOOKUP(H2090,'Ark1'!$C$2:$D$12,2,FALSE)","v":5}]
[2089,32,{"$f":"VLOOKUP(B2091,'Ark1'!C$2:D$11,2,FALSE)","v":2},2089,125,{"$f":"VLOOKUP(E2091,'Ark1'!$C$2:$D$11,2,FALSE)","v":5},2089,200,{"$f":"VLOOKUP(H2091,'Ark1'!$C$2:$D$12,2,FALSE)","v":5}]
[2090,32,{"$f":"VLOOKUP(B2092,'Ark1'!C$2:D$11,2,FALSE)","v":2},2090,125,{"$f":"VLOOKUP(E2092,'Ark1'!$C$2:$D$11,2,FALSE)","v":5},2090,200,{"$f":"VLOOKUP(H2092,'Ark1'!$C$2:$D$12,2,FALSE)","v":5}]
[2091,32,{"$f":"VLOOKUP(B2093,'Ark1'!C$2:D$11,2,FALSE)","v":2},2091,125,{"$f":"VLOOKUP(E2093,'Ark1'!$C$2:$D$11,2,FALSE)","v":5},2091,200,{"$f":"VLOOKUP(H2093,'Ark1'!$C$2:$D$12,2,FALSE)","v":5}]
[2092,32,{"$f":"VLOOKUP(B2094,'Ark1'!C$2:D$11,2,FALSE)","v":2},2092,125,{"$f":"VLOOKUP(E2094,'Ark1'!$C$2:$D$11,2,FALSE)","v":5},2092,200,{"$f":"VLOOKUP(H2094,'Ark1'!$C$2:$D$12,2,FALSE)","v":5}]
[2093,32,{"$f":"VLOOKUP(B2095,'Ark1'!C$2:D$11,2,FALSE)","v":2},2093,125,{"$f":"VLOOKUP(E2095,'Ark1'!$C$2:$D$11,2,FALSE)","v":5},2093,200,{"$f":"VLOOKUP(H2095,'Ark1'!$C$2:$D$12,2,FALSE)","v":5}]
[2094,32,{"$f":"VLOOKUP(B2096,'Ark1'!C$2:D$11,2,FALSE)","v":2},2094,125,{"$f":"VLOOKUP(E2096,'Ark1'!$C$2:$D$11,2,FALSE)","v":5},2094,200,{"$f":"VLOOKUP(H2096,'Ark1'!$C$2:$D$12,2,FALSE)","v":5}]
[2095,32,{"$f":"VLOOKUP(B2097,'Ark1'!C$2:D$11,2,FALSE)","v":2},2095,125,{"$f":"VLOOKUP(E2097,'Ark1'!$C$2:$D$11,2,FALSE)","v":5},2095,200,{"$f":"VLOOKUP(H2097,'Ark1'!$C$2:$D$12,2,FALSE)","v":5}]
[2096,32,{"$f":"VLOOKUP(B2098,'Ark1'!C$2:D$11,2,FALSE)","v":2},2096,125,{"$f":"VLOOKUP(E2098,'Ark1'!$C$2:$D$11,2,FALSE)","v":5},2096,200,{"$f":"VLOOKUP(H2098,'Ark1'!$C$2:$D$12,2,FALSE)","v":5}]
[2097,32,{"$f":"VLOOKUP(B2099,'Ark1'!C$2:D$11,2,FALSE)","v":2},2097,125,{"$f":"VLOOKUP(E2099,'Ark1'!$C$2:$D$11,2,FALSE)","v":5},2097,200,{"$f":"VLOOKUP(H2099,'Ark1'!$C$2:$D$12,2,FALSE)","v":5}]
[2098,32,{"$f":"VLOOKUP(B2100,'Ark1'!C$2:D$11,2,FALSE)","v":2},2098,125,{"$f":"VLOOKUP(E2100,'Ark1'!$C$2:$D$11,2,FALSE)","v":5},2098,200,{"$f":"VLOOKUP(H2100,'Ark1'!$C$2:$D$12,2,FALSE)","v":5}]
[2099,32,{"$f":"VLOOKUP(B2101,'Ark1'!C$2:D$11,2,FALSE)","v":2},2099,125,{"$f":"VLOOKUP(E2101,'Ark1'!$C$2:$D$11,2,FALSE)","v":5},2099,200,{"$f":"VLOOKUP(H2101,'Ark1'!$C$2:$D$12,2,FALSE)","v":5}]
[2100,32,{"$f":"VLOOKUP(B2102,'Ark1'!C$2:D$11,2,FALSE)","v":2},2100,125,{"$f":"VLOOKUP(E2102,'Ark1'!$C$2:$D$11,2,FALSE)","v":5},2100,200,{"$f":"VLOOKUP(H2102,'Ark1'!$C$2:$D$12,2,FALSE)","v":5}]
[2101,32,{"$f":"VLOOKUP(B2103,'Ark1'!C$2:D$11,2,FALSE)","v":2},2101,125,{"$f":"VLOOKUP(E2103,'Ark1'!$C$2:$D$11,2,FALSE)","v":5},2101,200,{"$f":"VLOOKUP(H2103,'Ark1'!$C$2:$D$12,2,FALSE)","v":5}]
[2102,32,{"$f":"VLOOKUP(B2104,'Ark1'!C$2:D$11,2,FALSE)","v":2},2102,125,{"$f":"VLOOKUP(E2104,'Ark1'!$C$2:$D$11,2,FALSE)","v":5},2102,200,{"$f":"VLOOKUP(H2104,'Ark1'!$C$2:$D$12,2,FALSE)","v":5}]
[2103,32,{"$f":"VLOOKUP(B2105,'Ark1'!C$2:D$11,2,FALSE)","v":2},2103,125,{"$f":"VLOOKUP(E2105,'Ark1'!$C$2:$D$11,2,FALSE)","v":5},2103,200,{"$f":"VLOOKUP(H2105,'Ark1'!$C$2:$D$12,2,FALSE)","v":5}]
[2104,32,{"$f":"VLOOKUP(B2106,'Ark1'!C$2:D$11,2,FALSE)","v":2},2104,125,{"$f":"VLOOKUP(E2106,'Ark1'!$C$2:$D$11,2,FALSE)","v":5},2104,200,{"$f":"VLOOKUP(H2106,'Ark1'!$C$2:$D$12,2,FALSE)","v":5}]
[2105,32,{"$f":"VLOOKUP(B2107,'Ark1'!C$2:D$11,2,FALSE)","v":2},2105,125,{"$f":"VLOOKUP(E2107,'Ark1'!$C$2:$D$11,2,FALSE)","v":5},2105,200,{"$f":"VLOOKUP(H2107,'Ark1'!$C$2:$D$12,2,FALSE)","v":5}]
[2106,32,{"$f":"VLOOKUP(B2108,'Ark1'!C$2:D$11,2,FALSE)","v":2},2106,125,{"$f":"VLOOKUP(E2108,'Ark1'!$C$2:$D$11,2,FALSE)","v":5},2106,200,{"$f":"VLOOKUP(H2108,'Ark1'!$C$2:$D$12,2,FALSE)","v":5}]
[2107,32,{"$f":"VLOOKUP(B2109,'Ark1'!C$2:D$11,2,FALSE)","v":2},2107,125,{"$f":"VLOOKUP(E2109,'Ark1'!$C$2:$D$11,2,FALSE)","v":5},2107,200,{"$f":"VLOOKUP(H2109,'Ark1'!$C$2:$D$12,2,FALSE)","v":5}]
[2108,32,{"$f":"VLOOKUP(B2110,'Ark1'!C$2:D$11,2,FALSE)","v":2},2108,125,{"$f":"VLOOKUP(E2110,'Ark1'!$C$2:$D$11,2,FALSE)","v":5},2108,200,{"$f":"VLOOKUP(H2110,'Ark1'!$C$2:$D$12,2,FALSE)","v":5}]
[2109,32,{"$f":"VLOOKUP(B2111,'Ark1'!C$2:D$11,2,FALSE)","v":2},2109,125,{"$f":"VLOOKUP(E2111,'Ark1'!$C$2:$D$11,2,FALSE)","v":5},2109,200,{"$f":"VLOOKUP(H2111,'Ark1'!$C$2:$D$12,2,FALSE)","v":5}]
[2110,32,{"$f":"VLOOKUP(B2112,'Ark1'!C$2:D$11,2,FALSE)","v":2},2110,125,{"$f":"VLOOKUP(E2112,'Ark1'!$C$2:$D$11,2,FALSE)","v":5},2110,200,{"$f":"VLOOKUP(H2112,'Ark1'!$C$2:$D$12,2,FALSE)","v":5}]
[2111,32,{"$f":"VLOOKUP(B2113,'Ark1'!C$2:D$11,2,FALSE)","v":2},2111,125,{"$f":"VLOOKUP(E2113,'Ark1'!$C$2:$D$11,2,FALSE)","v":5},2111,200,{"$f":"VLOOKUP(H2113,'Ark1'!$C$2:$D$12,2,FALSE)","v":5}]
[2112,32,{"$f":"VLOOKUP(B2114,'Ark1'!C$2:D$11,2,FALSE)","v":2},2112,125,{"$f":"VLOOKUP(E2114,'Ark1'!$C$2:$D$11,2,FALSE)","v":5},2112,200,{"$f":"VLOOKUP(H2114,'Ark1'!$C$2:$D$12,2,FALSE)","v":5}]
[2113,32,{"$f":"VLOOKUP(B2115,'Ark1'!C$2:D$11,2,FALSE)","v":2},2113,125,{"$f":"VLOOKUP(E2115,'Ark1'!$C$2:$D$11,2,FALSE)","v":5},2113,200,{"$f":"VLOOKUP(H2115,'Ark1'!$C$2:$D$12,2,FALSE)","v":5}]
[2114,32,{"$f":"VLOOKUP(B2116,'Ark1'!C$2:D$11,2,FALSE)","v":2},2114,125,{"$f":"VLOOKUP(E2116,'Ark1'!$C$2:$D$11,2,FALSE)","v":5},2114,200,{"$f":"VLOOKUP(H2116,'Ark1'!$C$2:$D$12,2,FALSE)","v":5}]
[2115,32,{"$f":"VLOOKUP(B2117,'Ark1'!C$2:D$11,2,FALSE)","v":2},2115,125,{"$f":"VLOOKUP(E2117,'Ark1'!$C$2:$D$11,2,FALSE)","v":5},2115,200,{"$f":"VLOOKUP(H2117,'Ark1'!$C$2:$D$12,2,FALSE)","v":5}]
[2116,32,{"$f":"VLOOKUP(B2118,'Ark1'!C$2:D$11,2,FALSE)","v":2},2116,125,{"$f":"VLOOKUP(E2118,'Ark1'!$C$2:$D$11,2,FALSE)","v":5},2116,200,{"$f":"VLOOKUP(H2118,'Ark1'!$C$2:$D$12,2,FALSE)","v":5}]
[2117,32,{"$f":"VLOOKUP(B2119,'Ark1'!C$2:D$11,2,FALSE)","v":2},2117,125,{"$f":"VLOOKUP(E2119,'Ark1'!$C$2:$D$11,2,FALSE)","v":5},2117,200,{"$f":"VLOOKUP(H2119,'Ark1'!$C$2:$D$12,2,FALSE)","v":5}]
[2118,32,{"$f":"VLOOKUP(B2120,'Ark1'!C$2:D$11,2,FALSE)","v":2},2118,125,{"$f":"VLOOKUP(E2120,'Ark1'!$C$2:$D$11,2,FALSE)","v":5},2118,200,{"$f":"VLOOKUP(H2120,'Ark1'!$C$2:$D$12,2,FALSE)","v":5}]
[2119,32,{"$f":"VLOOKUP(B2121,'Ark1'!C$2:D$11,2,FALSE)","v":2},2119,125,{"$f":"VLOOKUP(E2121,'Ark1'!$C$2:$D$11,2,FALSE)","v":5},2119,200,{"$f":"VLOOKUP(H2121,'Ark1'!$C$2:$D$12,2,FALSE)","v":5}]
[2120,32,{"$f":"VLOOKUP(B2122,'Ark1'!C$2:D$11,2,FALSE)","v":2},2120,125,{"$f":"VLOOKUP(E2122,'Ark1'!$C$2:$D$11,2,FALSE)","v":5},2120,200,{"$f":"VLOOKUP(H2122,'Ark1'!$C$2:$D$12,2,FALSE)","v":5}]
[2121,32,{"$f":"VLOOKUP(B2123,'Ark1'!C$2:D$11,2,FALSE)","v":2},2121,125,{"$f":"VLOOKUP(E2123,'Ark1'!$C$2:$D$11,2,FALSE)","v":5},2121,200,{"$f":"VLOOKUP(H2123,'Ark1'!$C$2:$D$12,2,FALSE)","v":5}]
[2122,32,{"$f":"VLOOKUP(B2124,'Ark1'!C$2:D$11,2,FALSE)","v":2},2122,125,{"$f":"VLOOKUP(E2124,'Ark1'!$C$2:$D$11,2,FALSE)","v":5},2122,200,{"$f":"VLOOKUP(H2124,'Ark1'!$C$2:$D$12,2,FALSE)","v":5}]
[2123,32,{"$f":"VLOOKUP(B2125,'Ark1'!C$2:D$11,2,FALSE)","v":2},2123,125,{"$f":"VLOOKUP(E2125,'Ark1'!$C$2:$D$11,2,FALSE)","v":5},2123,200,{"$f":"VLOOKUP(H2125,'Ark1'!$C$2:$D$12,2,FALSE)","v":5}]
[2124,32,{"$f":"VLOOKUP(B2126,'Ark1'!C$2:D$11,2,FALSE)","v":2},2124,125,{"$f":"VLOOKUP(E2126,'Ark1'!$C$2:$D$11,2,FALSE)","v":5},2124,200,{"$f":"VLOOKUP(H2126,'Ark1'!$C$2:$D$12,2,FALSE)","v":5}]
[2125,32,{"$f":"VLOOKUP(B2127,'Ark1'!C$2:D$11,2,FALSE)","v":2},2125,125,{"$f":"VLOOKUP(E2127,'Ark1'!$C$2:$D$11,2,FALSE)","v":5},2125,200,{"$f":"VLOOKUP(H2127,'Ark1'!$C$2:$D$12,2,FALSE)","v":5}]
[2126,32,{"$f":"VLOOKUP(B2128,'Ark1'!C$2:D$11,2,FALSE)","v":2},2126,125,{"$f":"VLOOKUP(E2128,'Ark1'!$C$2:$D$11,2,FALSE)","v":5},2126,200,{"$f":"VLOOKUP(H2128,'Ark1'!$C$2:$D$12,2,FALSE)","v":5}]
[2127,32,{"$f":"VLOOKUP(B2129,'Ark1'!C$2:D$11,2,FALSE)","v":2},2127,125,{"$f":"VLOOKUP(E2129,'Ark1'!$C$2:$D$11,2,FALSE)","v":5},2127,200,{"$f":"VLOOKUP(H2129,'Ark1'!$C$2:$D$12,2,FALSE)","v":5}]
[2128,32,{"$f":"VLOOKUP(B2130,'Ark1'!C$2:D$11,2,FALSE)","v":2},2128,125,{"$f":"VLOOKUP(E2130,'Ark1'!$C$2:$D$11,2,FALSE)","v":5},2128,200,{"$f":"VLOOKUP(H2130,'Ark1'!$C$2:$D$12,2,FALSE)","v":5}]
[2129,32,{"$f":"VLOOKUP(B2131,'Ark1'!C$2:D$11,2,FALSE)","v":2},2129,125,{"$f":"VLOOKUP(E2131,'Ark1'!$C$2:$D$11,2,FALSE)","v":5},2129,200,{"$f":"VLOOKUP(H2131,'Ark1'!$C$2:$D$12,2,FALSE)","v":5}]
[2130,32,{"$f":"VLOOKUP(B2132,'Ark1'!C$2:D$11,2,FALSE)","v":2},2130,125,{"$f":"VLOOKUP(E2132,'Ark1'!$C$2:$D$11,2,FALSE)","v":5},2130,200,{"$f":"VLOOKUP(H2132,'Ark1'!$C$2:$D$12,2,FALSE)","v":5}]
[2131,32,{"$f":"VLOOKUP(B2133,'Ark1'!C$2:D$11,2,FALSE)","v":2},2131,125,{"$f":"VLOOKUP(E2133,'Ark1'!$C$2:$D$11,2,FALSE)","v":5},2131,200,{"$f":"VLOOKUP(H2133,'Ark1'!$C$2:$D$12,2,FALSE)","v":5}]
[2132,32,{"$f":"VLOOKUP(B2134,'Ark1'!C$2:D$11,2,FALSE)","v":2},2132,125,{"$f":"VLOOKUP(E2134,'Ark1'!$C$2:$D$11,2,FALSE)","v":5},2132,200,{"$f":"VLOOKUP(H2134,'Ark1'!$C$2:$D$12,2,FALSE)","v":5}]
[2133,32,{"$f":"VLOOKUP(B2135,'Ark1'!C$2:D$11,2,FALSE)","v":2},2133,125,{"$f":"VLOOKUP(E2135,'Ark1'!$C$2:$D$11,2,FALSE)","v":5},2133,200,{"$f":"VLOOKUP(H2135,'Ark1'!$C$2:$D$12,2,FALSE)","v":5}]
[2134,32,{"$f":"VLOOKUP(B2136,'Ark1'!C$2:D$11,2,FALSE)","v":2},2134,125,{"$f":"VLOOKUP(E2136,'Ark1'!$C$2:$D$11,2,FALSE)","v":5},2134,200,{"$f":"VLOOKUP(H2136,'Ark1'!$C$2:$D$12,2,FALSE)","v":5}]
[2135,32,{"$f":"VLOOKUP(B2137,'Ark1'!C$2:D$11,2,FALSE)","v":2},2135,125,{"$f":"VLOOKUP(E2137,'Ark1'!$C$2:$D$11,2,FALSE)","v":5},2135,200,{"$f":"VLOOKUP(H2137,'Ark1'!$C$2:$D$12,2,FALSE)","v":5}]
[2136,32,{"$f":"VLOOKUP(B2138,'Ark1'!C$2:D$11,2,FALSE)","v":2},2136,125,{"$f":"VLOOKUP(E2138,'Ark1'!$C$2:$D$11,2,FALSE)","v":5},2136,200,{"$f":"VLOOKUP(H2138,'Ark1'!$C$2:$D$12,2,FALSE)","v":5}]
[2137,32,{"$f":"VLOOKUP(B2139,'Ark1'!C$2:D$11,2,FALSE)","v":2},2137,125,{"$f":"VLOOKUP(E2139,'Ark1'!$C$2:$D$11,2,FALSE)","v":5},2137,200,{"$f":"VLOOKUP(H2139,'Ark1'!$C$2:$D$12,2,FALSE)","v":5}]
[2138,32,{"$f":"VLOOKUP(B2140,'Ark1'!C$2:D$11,2,FALSE)","v":2},2138,125,{"$f":"VLOOKUP(E2140,'Ark1'!$C$2:$D$11,2,FALSE)","v":5},2138,200,{"$f":"VLOOKUP(H2140,'Ark1'!$C$2:$D$12,2,FALSE)","v":5}]
[2139,32,{"$f":"VLOOKUP(B2141,'Ark1'!C$2:D$11,2,FALSE)","v":2},2139,125,{"$f":"VLOOKUP(E2141,'Ark1'!$C$2:$D$11,2,FALSE)","v":5},2139,200,{"$f":"VLOOKUP(H2141,'Ark1'!$C$2:$D$12,2,FALSE)","v":5}]
[2140,32,{"$f":"VLOOKUP(B2142,'Ark1'!C$2:D$11,2,FALSE)","v":2},2140,125,{"$f":"VLOOKUP(E2142,'Ark1'!$C$2:$D$11,2,FALSE)","v":5},2140,200,{"$f":"VLOOKUP(H2142,'Ark1'!$C$2:$D$12,2,FALSE)","v":5}]
[2141,32,{"$f":"VLOOKUP(B2143,'Ark1'!C$2:D$11,2,FALSE)","v":2},2141,125,{"$f":"VLOOKUP(E2143,'Ark1'!$C$2:$D$11,2,FALSE)","v":5},2141,200,{"$f":"VLOOKUP(H2143,'Ark1'!$C$2:$D$12,2,FALSE)","v":5}]
[2142,32,{"$f":"VLOOKUP(B2144,'Ark1'!C$2:D$11,2,FALSE)","v":2},2142,125,{"$f":"VLOOKUP(E2144,'Ark1'!$C$2:$D$11,2,FALSE)","v":5},2142,200,{"$f":"VLOOKUP(H2144,'Ark1'!$C$2:$D$12,2,FALSE)","v":5}]
[2143,32,{"$f":"VLOOKUP(B2145,'Ark1'!C$2:D$11,2,FALSE)","v":2},2143,125,{"$f":"VLOOKUP(E2145,'Ark1'!$C$2:$D$11,2,FALSE)","v":5},2143,200,{"$f":"VLOOKUP(H2145,'Ark1'!$C$2:$D$12,2,FALSE)","v":5}]
[2144,32,{"$f":"VLOOKUP(B2146,'Ark1'!C$2:D$11,2,FALSE)","v":2},2144,125,{"$f":"VLOOKUP(E2146,'Ark1'!$C$2:$D$11,2,FALSE)","v":5},2144,200,{"$f":"VLOOKUP(H2146,'Ark1'!$C$2:$D$12,2,FALSE)","v":5}]
[2145,32,{"$f":"VLOOKUP(B2147,'Ark1'!C$2:D$11,2,FALSE)","v":2},2145,125,{"$f":"VLOOKUP(E2147,'Ark1'!$C$2:$D$11,2,FALSE)","v":5},2145,200,{"$f":"VLOOKUP(H2147,'Ark1'!$C$2:$D$12,2,FALSE)","v":5}]
[2146,32,{"$f":"VLOOKUP(B2148,'Ark1'!C$2:D$11,2,FALSE)","v":2},2146,125,{"$f":"VLOOKUP(E2148,'Ark1'!$C$2:$D$11,2,FALSE)","v":5},2146,200,{"$f":"VLOOKUP(H2148,'Ark1'!$C$2:$D$12,2,FALSE)","v":5}]
[2147,32,{"$f":"VLOOKUP(B2149,'Ark1'!C$2:D$11,2,FALSE)","v":2},2147,125,{"$f":"VLOOKUP(E2149,'Ark1'!$C$2:$D$11,2,FALSE)","v":5},2147,200,{"$f":"VLOOKUP(H2149,'Ark1'!$C$2:$D$12,2,FALSE)","v":5}]
[2148,32,{"$f":"VLOOKUP(B2150,'Ark1'!C$2:D$11,2,FALSE)","v":2},2148,125,{"$f":"VLOOKUP(E2150,'Ark1'!$C$2:$D$11,2,FALSE)","v":5},2148,200,{"$f":"VLOOKUP(H2150,'Ark1'!$C$2:$D$12,2,FALSE)","v":5}]
[2149,32,{"$f":"VLOOKUP(B2151,'Ark1'!C$2:D$11,2,FALSE)","v":2},2149,125,{"$f":"VLOOKUP(E2151,'Ark1'!$C$2:$D$11,2,FALSE)","v":5},2149,200,{"$f":"VLOOKUP(H2151,'Ark1'!$C$2:$D$12,2,FALSE)","v":5}]
[2150,32,{"$f":"VLOOKUP(B2152,'Ark1'!C$2:D$11,2,FALSE)","v":2},2150,125,{"$f":"VLOOKUP(E2152,'Ark1'!$C$2:$D$11,2,FALSE)","v":5},2150,200,{"$f":"VLOOKUP(H2152,'Ark1'!$C$2:$D$12,2,FALSE)","v":5}]
[2151,32,{"$f":"VLOOKUP(B2153,'Ark1'!C$2:D$11,2,FALSE)","v":2},2151,125,{"$f":"VLOOKUP(E2153,'Ark1'!$C$2:$D$11,2,FALSE)","v":5},2151,200,{"$f":"VLOOKUP(H2153,'Ark1'!$C$2:$D$12,2,FALSE)","v":5}]
[2152,32,{"$f":"VLOOKUP(B2154,'Ark1'!C$2:D$11,2,FALSE)","v":2},2152,125,{"$f":"VLOOKUP(E2154,'Ark1'!$C$2:$D$11,2,FALSE)","v":5},2152,200,{"$f":"VLOOKUP(H2154,'Ark1'!$C$2:$D$12,2,FALSE)","v":5}]
[2153,32,{"$f":"VLOOKUP(B2155,'Ark1'!C$2:D$11,2,FALSE)","v":2},2153,125,{"$f":"VLOOKUP(E2155,'Ark1'!$C$2:$D$11,2,FALSE)","v":5},2153,200,{"$f":"VLOOKUP(H2155,'Ark1'!$C$2:$D$12,2,FALSE)","v":5}]
[2154,32,{"$f":"VLOOKUP(B2156,'Ark1'!C$2:D$11,2,FALSE)","v":2},2154,125,{"$f":"VLOOKUP(E2156,'Ark1'!$C$2:$D$11,2,FALSE)","v":5},2154,200,{"$f":"VLOOKUP(H2156,'Ark1'!$C$2:$D$12,2,FALSE)","v":5}]
[2155,32,{"$f":"VLOOKUP(B2157,'Ark1'!C$2:D$11,2,FALSE)","v":2},2155,125,{"$f":"VLOOKUP(E2157,'Ark1'!$C$2:$D$11,2,FALSE)","v":5},2155,200,{"$f":"VLOOKUP(H2157,'Ark1'!$C$2:$D$12,2,FALSE)","v":5}]
[2156,32,{"$f":"VLOOKUP(B2158,'Ark1'!C$2:D$11,2,FALSE)","v":2},2156,125,{"$f":"VLOOKUP(E2158,'Ark1'!$C$2:$D$11,2,FALSE)","v":5},2156,200,{"$f":"VLOOKUP(H2158,'Ark1'!$C$2:$D$12,2,FALSE)","v":5}]
[2157,32,{"$f":"VLOOKUP(B2159,'Ark1'!C$2:D$11,2,FALSE)","v":2},2157,125,{"$f":"VLOOKUP(E2159,'Ark1'!$C$2:$D$11,2,FALSE)","v":5},2157,200,{"$f":"VLOOKUP(H2159,'Ark1'!$C$2:$D$12,2,FALSE)","v":5}]
[2158,32,{"$f":"VLOOKUP(B2160,'Ark1'!C$2:D$11,2,FALSE)","v":2},2158,125,{"$f":"VLOOKUP(E2160,'Ark1'!$C$2:$D$11,2,FALSE)","v":5},2158,200,{"$f":"VLOOKUP(H2160,'Ark1'!$C$2:$D$12,2,FALSE)","v":5}]
[2159,32,{"$f":"VLOOKUP(B2161,'Ark1'!C$2:D$11,2,FALSE)","v":2},2159,125,{"$f":"VLOOKUP(E2161,'Ark1'!$C$2:$D$11,2,FALSE)","v":5},2159,200,{"$f":"VLOOKUP(H2161,'Ark1'!$C$2:$D$12,2,FALSE)","v":5}]
[2160,32,{"$f":"VLOOKUP(B2162,'Ark1'!C$2:D$11,2,FALSE)","v":2},2160,125,{"$f":"VLOOKUP(E2162,'Ark1'!$C$2:$D$11,2,FALSE)","v":5},2160,200,{"$f":"VLOOKUP(H2162,'Ark1'!$C$2:$D$12,2,FALSE)","v":5}]
[2161,32,{"$f":"VLOOKUP(B2163,'Ark1'!C$2:D$11,2,FALSE)","v":2},2161,125,{"$f":"VLOOKUP(E2163,'Ark1'!$C$2:$D$11,2,FALSE)","v":5},2161,200,{"$f":"VLOOKUP(H2163,'Ark1'!$C$2:$D$12,2,FALSE)","v":5}]
[2162,32,{"$f":"VLOOKUP(B2164,'Ark1'!C$2:D$11,2,FALSE)","v":2},2162,125,{"$f":"VLOOKUP(E2164,'Ark1'!$C$2:$D$11,2,FALSE)","v":5},2162,200,{"$f":"VLOOKUP(H2164,'Ark1'!$C$2:$D$12,2,FALSE)","v":5}]
[2163,32,{"$f":"VLOOKUP(B2165,'Ark1'!C$2:D$11,2,FALSE)","v":2},2163,125,{"$f":"VLOOKUP(E2165,'Ark1'!$C$2:$D$11,2,FALSE)","v":5},2163,200,{"$f":"VLOOKUP(H2165,'Ark1'!$C$2:$D$12,2,FALSE)","v":5}]
[2164,32,{"$f":"VLOOKUP(B2166,'Ark1'!C$2:D$11,2,FALSE)","v":2},2164,125,{"$f":"VLOOKUP(E2166,'Ark1'!$C$2:$D$11,2,FALSE)","v":5},2164,200,{"$f":"VLOOKUP(H2166,'Ark1'!$C$2:$D$12,2,FALSE)","v":5}]
[2165,32,{"$f":"VLOOKUP(B2167,'Ark1'!C$2:D$11,2,FALSE)","v":2},2165,125,{"$f":"VLOOKUP(E2167,'Ark1'!$C$2:$D$11,2,FALSE)","v":5},2165,200,{"$f":"VLOOKUP(H2167,'Ark1'!$C$2:$D$12,2,FALSE)","v":5}]
[2166,32,{"$f":"VLOOKUP(B2168,'Ark1'!C$2:D$11,2,FALSE)","v":2},2166,125,{"$f":"VLOOKUP(E2168,'Ark1'!$C$2:$D$11,2,FALSE)","v":5},2166,200,{"$f":"VLOOKUP(H2168,'Ark1'!$C$2:$D$12,2,FALSE)","v":5}]
[2167,32,{"$f":"VLOOKUP(B2169,'Ark1'!C$2:D$11,2,FALSE)","v":2},2167,125,{"$f":"VLOOKUP(E2169,'Ark1'!$C$2:$D$11,2,FALSE)","v":5},2167,200,{"$f":"VLOOKUP(H2169,'Ark1'!$C$2:$D$12,2,FALSE)","v":5}]
[2168,32,{"$f":"VLOOKUP(B2170,'Ark1'!C$2:D$11,2,FALSE)","v":2},2168,125,{"$f":"VLOOKUP(E2170,'Ark1'!$C$2:$D$11,2,FALSE)","v":5},2168,200,{"$f":"VLOOKUP(H2170,'Ark1'!$C$2:$D$12,2,FALSE)","v":5}]
[2169,32,{"$f":"VLOOKUP(B2171,'Ark1'!C$2:D$11,2,FALSE)","v":2},2169,125,{"$f":"VLOOKUP(E2171,'Ark1'!$C$2:$D$11,2,FALSE)","v":5},2169,200,{"$f":"VLOOKUP(H2171,'Ark1'!$C$2:$D$12,2,FALSE)","v":5}]
[2170,32,{"$f":"VLOOKUP(B2172,'Ark1'!C$2:D$11,2,FALSE)","v":2},2170,125,{"$f":"VLOOKUP(E2172,'Ark1'!$C$2:$D$11,2,FALSE)","v":5},2170,200,{"$f":"VLOOKUP(H2172,'Ark1'!$C$2:$D$12,2,FALSE)","v":5}]
[2171,32,{"$f":"VLOOKUP(B2173,'Ark1'!C$2:D$11,2,FALSE)","v":2},2171,125,{"$f":"VLOOKUP(E2173,'Ark1'!$C$2:$D$11,2,FALSE)","v":5},2171,200,{"$f":"VLOOKUP(H2173,'Ark1'!$C$2:$D$12,2,FALSE)","v":5}]
[2172,32,{"$f":"VLOOKUP(B2174,'Ark1'!C$2:D$11,2,FALSE)","v":2},2172,125,{"$f":"VLOOKUP(E2174,'Ark1'!$C$2:$D$11,2,FALSE)","v":5},2172,200,{"$f":"VLOOKUP(H2174,'Ark1'!$C$2:$D$12,2,FALSE)","v":5}]
[2173,32,{"$f":"VLOOKUP(B2175,'Ark1'!C$2:D$11,2,FALSE)","v":2},2173,125,{"$f":"VLOOKUP(E2175,'Ark1'!$C$2:$D$11,2,FALSE)","v":5},2173,200,{"$f":"VLOOKUP(H2175,'Ark1'!$C$2:$D$12,2,FALSE)","v":5}]
[2174,32,{"$f":"VLOOKUP(B2176,'Ark1'!C$2:D$11,2,FALSE)","v":2},2174,125,{"$f":"VLOOKUP(E2176,'Ark1'!$C$2:$D$11,2,FALSE)","v":5},2174,200,{"$f":"VLOOKUP(H2176,'Ark1'!$C$2:$D$12,2,FALSE)","v":5}]
[2175,32,{"$f":"VLOOKUP(B2177,'Ark1'!C$2:D$11,2,FALSE)","v":2},2175,125,{"$f":"VLOOKUP(E2177,'Ark1'!$C$2:$D$11,2,FALSE)","v":5},2175,200,{"$f":"VLOOKUP(H2177,'Ark1'!$C$2:$D$12,2,FALSE)","v":5}]
[2176,32,{"$f":"VLOOKUP(B2178,'Ark1'!C$2:D$11,2,FALSE)","v":2},2176,125,{"$f":"VLOOKUP(E2178,'Ark1'!$C$2:$D$11,2,FALSE)","v":5},2176,200,{"$f":"VLOOKUP(H2178,'Ark1'!$C$2:$D$12,2,FALSE)","v":5}]
[2177,32,{"$f":"VLOOKUP(B2179,'Ark1'!C$2:D$11,2,FALSE)","v":2},2177,125,{"$f":"VLOOKUP(E2179,'Ark1'!$C$2:$D$11,2,FALSE)","v":5},2177,200,{"$f":"VLOOKUP(H2179,'Ark1'!$C$2:$D$12,2,FALSE)","v":5}]
[2178,32,{"$f":"VLOOKUP(B2180,'Ark1'!C$2:D$11,2,FALSE)","v":2},2178,125,{"$f":"VLOOKUP(E2180,'Ark1'!$C$2:$D$11,2,FALSE)","v":5},2178,200,{"$f":"VLOOKUP(H2180,'Ark1'!$C$2:$D$12,2,FALSE)","v":5}]
[2179,32,{"$f":"VLOOKUP(B2181,'Ark1'!C$2:D$11,2,FALSE)","v":2},2179,125,{"$f":"VLOOKUP(E2181,'Ark1'!$C$2:$D$11,2,FALSE)","v":5},2179,200,{"$f":"VLOOKUP(H2181,'Ark1'!$C$2:$D$12,2,FALSE)","v":5}]
[2180,32,{"$f":"VLOOKUP(B2182,'Ark1'!C$2:D$11,2,FALSE)","v":2},2180,125,{"$f":"VLOOKUP(E2182,'Ark1'!$C$2:$D$11,2,FALSE)","v":5},2180,200,{"$f":"VLOOKUP(H2182,'Ark1'!$C$2:$D$12,2,FALSE)","v":5}]
[2181,32,{"$f":"VLOOKUP(B2183,'Ark1'!C$2:D$11,2,FALSE)","v":2},2181,125,{"$f":"VLOOKUP(E2183,'Ark1'!$C$2:$D$11,2,FALSE)","v":5},2181,200,{"$f":"VLOOKUP(H2183,'Ark1'!$C$2:$D$12,2,FALSE)","v":5}]
[2182,32,{"$f":"VLOOKUP(B2184,'Ark1'!C$2:D$11,2,FALSE)","v":2},2182,125,{"$f":"VLOOKUP(E2184,'Ark1'!$C$2:$D$11,2,FALSE)","v":5},2182,200,{"$f":"VLOOKUP(H2184,'Ark1'!$C$2:$D$12,2,FALSE)","v":5}]
[2183,32,{"$f":"VLOOKUP(B2185,'Ark1'!C$2:D$11,2,FALSE)","v":2},2183,125,{"$f":"VLOOKUP(E2185,'Ark1'!$C$2:$D$11,2,FALSE)","v":5},2183,200,{"$f":"VLOOKUP(H2185,'Ark1'!$C$2:$D$12,2,FALSE)","v":5}]
[2184,32,{"$f":"VLOOKUP(B2186,'Ark1'!C$2:D$11,2,FALSE)","v":2},2184,125,{"$f":"VLOOKUP(E2186,'Ark1'!$C$2:$D$11,2,FALSE)","v":5},2184,200,{"$f":"VLOOKUP(H2186,'Ark1'!$C$2:$D$12,2,FALSE)","v":5}]
[2185,32,{"$f":"VLOOKUP(B2187,'Ark1'!C$2:D$11,2,FALSE)","v":2},2185,125,{"$f":"VLOOKUP(E2187,'Ark1'!$C$2:$D$11,2,FALSE)","v":5},2185,200,{"$f":"VLOOKUP(H2187,'Ark1'!$C$2:$D$12,2,FALSE)","v":5}]
[2186,32,{"$f":"VLOOKUP(B2188,'Ark1'!C$2:D$11,2,FALSE)","v":2},2186,125,{"$f":"VLOOKUP(E2188,'Ark1'!$C$2:$D$11,2,FALSE)","v":5},2186,200,{"$f":"VLOOKUP(H2188,'Ark1'!$C$2:$D$12,2,FALSE)","v":5}]
[2187,32,{"$f":"VLOOKUP(B2189,'Ark1'!C$2:D$11,2,FALSE)","v":2},2187,125,{"$f":"VLOOKUP(E2189,'Ark1'!$C$2:$D$11,2,FALSE)","v":5},2187,200,{"$f":"VLOOKUP(H2189,'Ark1'!$C$2:$D$12,2,FALSE)","v":5}]
[2188,32,{"$f":"VLOOKUP(B2190,'Ark1'!C$2:D$11,2,FALSE)","v":2},2188,125,{"$f":"VLOOKUP(E2190,'Ark1'!$C$2:$D$11,2,FALSE)","v":5},2188,200,{"$f":"VLOOKUP(H2190,'Ark1'!$C$2:$D$12,2,FALSE)","v":5}]
[2189,32,{"$f":"VLOOKUP(B2191,'Ark1'!C$2:D$11,2,FALSE)","v":2},2189,125,{"$f":"VLOOKUP(E2191,'Ark1'!$C$2:$D$11,2,FALSE)","v":5},2189,200,{"$f":"VLOOKUP(H2191,'Ark1'!$C$2:$D$12,2,FALSE)","v":5}]
[2190,32,{"$f":"VLOOKUP(B2192,'Ark1'!C$2:D$11,2,FALSE)","v":2},2190,125,{"$f":"VLOOKUP(E2192,'Ark1'!$C$2:$D$11,2,FALSE)","v":5},2190,200,{"$f":"VLOOKUP(H2192,'Ark1'!$C$2:$D$12,2,FALSE)","v":5}]
[2191,32,{"$f":"VLOOKUP(B2193,'Ark1'!C$2:D$11,2,FALSE)","v":2},2191,125,{"$f":"VLOOKUP(E2193,'Ark1'!$C$2:$D$11,2,FALSE)","v":5},2191,200,{"$f":"VLOOKUP(H2193,'Ark1'!$C$2:$D$12,2,FALSE)","v":5}]
[2192,32,{"$f":"VLOOKUP(B2194,'Ark1'!C$2:D$11,2,FALSE)","v":2},2192,125,{"$f":"VLOOKUP(E2194,'Ark1'!$C$2:$D$11,2,FALSE)","v":5},2192,200,{"$f":"VLOOKUP(H2194,'Ark1'!$C$2:$D$12,2,FALSE)","v":5}]
[2193,32,{"$f":"VLOOKUP(B2195,'Ark1'!C$2:D$11,2,FALSE)","v":2},2193,125,{"$f":"VLOOKUP(E2195,'Ark1'!$C$2:$D$11,2,FALSE)","v":5},2193,200,{"$f":"VLOOKUP(H2195,'Ark1'!$C$2:$D$12,2,FALSE)","v":5}]
[2194,32,{"$f":"VLOOKUP(B2196,'Ark1'!C$2:D$11,2,FALSE)","v":2},2194,125,{"$f":"VLOOKUP(E2196,'Ark1'!$C$2:$D$11,2,FALSE)","v":5},2194,200,{"$f":"VLOOKUP(H2196,'Ark1'!$C$2:$D$12,2,FALSE)","v":5}]
[2195,32,{"$f":"VLOOKUP(B2197,'Ark1'!C$2:D$11,2,FALSE)","v":2},2195,125,{"$f":"VLOOKUP(E2197,'Ark1'!$C$2:$D$11,2,FALSE)","v":5},2195,200,{"$f":"VLOOKUP(H2197,'Ark1'!$C$2:$D$12,2,FALSE)","v":5}]
[2196,32,{"$f":"VLOOKUP(B2198,'Ark1'!C$2:D$11,2,FALSE)","v":2},2196,125,{"$f":"VLOOKUP(E2198,'Ark1'!$C$2:$D$11,2,FALSE)","v":5},2196,200,{"$f":"VLOOKUP(H2198,'Ark1'!$C$2:$D$12,2,FALSE)","v":5}]
[2197,32,{"$f":"VLOOKUP(B2199,'Ark1'!C$2:D$11,2,FALSE)","v":2},2197,125,{"$f":"VLOOKUP(E2199,'Ark1'!$C$2:$D$11,2,FALSE)","v":5},2197,200,{"$f":"VLOOKUP(H2199,'Ark1'!$C$2:$D$12,2,FALSE)","v":5}]
[2198,32,{"$f":"VLOOKUP(B2200,'Ark1'!C$2:D$11,2,FALSE)","v":2},2198,125,{"$f":"VLOOKUP(E2200,'Ark1'!$C$2:$D$11,2,FALSE)","v":5},2198,200,{"$f":"VLOOKUP(H2200,'Ark1'!$C$2:$D$12,2,FALSE)","v":5}]
[2199,32,{"$f":"VLOOKUP(B2201,'Ark1'!C$2:D$11,2,FALSE)","v":2},2199,125,{"$f":"VLOOKUP(E2201,'Ark1'!$C$2:$D$11,2,FALSE)","v":5},2199,200,{"$f":"VLOOKUP(H2201,'Ark1'!$C$2:$D$12,2,FALSE)","v":5}]
[2200,32,{"$f":"VLOOKUP(B2202,'Ark1'!C$2:D$11,2,FALSE)","v":2},2200,125,{"$f":"VLOOKUP(E2202,'Ark1'!$C$2:$D$11,2,FALSE)","v":5},2200,200,{"$f":"VLOOKUP(H2202,'Ark1'!$C$2:$D$12,2,FALSE)","v":5}]
[2201,32,{"$f":"VLOOKUP(B2203,'Ark1'!C$2:D$11,2,FALSE)","v":2},2201,125,{"$f":"VLOOKUP(E2203,'Ark1'!$C$2:$D$11,2,FALSE)","v":5},2201,200,{"$f":"VLOOKUP(H2203,'Ark1'!$C$2:$D$12,2,FALSE)","v":5}]
[2202,32,{"$f":"VLOOKUP(B2204,'Ark1'!C$2:D$11,2,FALSE)","v":2},2202,125,{"$f":"VLOOKUP(E2204,'Ark1'!$C$2:$D$11,2,FALSE)","v":5},2202,200,{"$f":"VLOOKUP(H2204,'Ark1'!$C$2:$D$12,2,FALSE)","v":5}]
[2203,32,{"$f":"VLOOKUP(B2205,'Ark1'!C$2:D$11,2,FALSE)","v":2},2203,125,{"$f":"VLOOKUP(E2205,'Ark1'!$C$2:$D$11,2,FALSE)","v":5},2203,200,{"$f":"VLOOKUP(H2205,'Ark1'!$C$2:$D$12,2,FALSE)","v":5}]
[2204,32,{"$f":"VLOOKUP(B2206,'Ark1'!C$2:D$11,2,FALSE)","v":2},2204,125,{"$f":"VLOOKUP(E2206,'Ark1'!$C$2:$D$11,2,FALSE)","v":5},2204,200,{"$f":"VLOOKUP(H2206,'Ark1'!$C$2:$D$12,2,FALSE)","v":5}]
[2205,32,{"$f":"VLOOKUP(B2207,'Ark1'!C$2:D$11,2,FALSE)","v":2},2205,125,{"$f":"VLOOKUP(E2207,'Ark1'!$C$2:$D$11,2,FALSE)","v":5},2205,200,{"$f":"VLOOKUP(H2207,'Ark1'!$C$2:$D$12,2,FALSE)","v":5}]
[2206,32,{"$f":"VLOOKUP(B2208,'Ark1'!C$2:D$11,2,FALSE)","v":2},2206,125,{"$f":"VLOOKUP(E2208,'Ark1'!$C$2:$D$11,2,FALSE)","v":5},2206,200,{"$f":"VLOOKUP(H2208,'Ark1'!$C$2:$D$12,2,FALSE)","v":5}]
[2207,32,{"$f":"VLOOKUP(B2209,'Ark1'!C$2:D$11,2,FALSE)","v":2},2207,125,{"$f":"VLOOKUP(E2209,'Ark1'!$C$2:$D$11,2,FALSE)","v":5},2207,200,{"$f":"VLOOKUP(H2209,'Ark1'!$C$2:$D$12,2,FALSE)","v":5}]
[2208,32,{"$f":"VLOOKUP(B2210,'Ark1'!C$2:D$11,2,FALSE)","v":2},2208,125,{"$f":"VLOOKUP(E2210,'Ark1'!$C$2:$D$11,2,FALSE)","v":5},2208,200,{"$f":"VLOOKUP(H2210,'Ark1'!$C$2:$D$12,2,FALSE)","v":5}]
[2209,32,{"$f":"VLOOKUP(B2211,'Ark1'!C$2:D$11,2,FALSE)","v":2},2209,125,{"$f":"VLOOKUP(E2211,'Ark1'!$C$2:$D$11,2,FALSE)","v":5},2209,200,{"$f":"VLOOKUP(H2211,'Ark1'!$C$2:$D$12,2,FALSE)","v":5}]
[2210,32,{"$f":"VLOOKUP(B2212,'Ark1'!C$2:D$11,2,FALSE)","v":2},2210,125,{"$f":"VLOOKUP(E2212,'Ark1'!$C$2:$D$11,2,FALSE)","v":5},2210,200,{"$f":"VLOOKUP(H2212,'Ark1'!$C$2:$D$12,2,FALSE)","v":5}]
[2211,32,{"$f":"VLOOKUP(B2213,'Ark1'!C$2:D$11,2,FALSE)","v":2},2211,125,{"$f":"VLOOKUP(E2213,'Ark1'!$C$2:$D$11,2,FALSE)","v":5},2211,200,{"$f":"VLOOKUP(H2213,'Ark1'!$C$2:$D$12,2,FALSE)","v":5}]
[2212,32,{"$f":"VLOOKUP(B2214,'Ark1'!C$2:D$11,2,FALSE)","v":2},2212,125,{"$f":"VLOOKUP(E2214,'Ark1'!$C$2:$D$11,2,FALSE)","v":5},2212,200,{"$f":"VLOOKUP(H2214,'Ark1'!$C$2:$D$12,2,FALSE)","v":5}]
[2213,32,{"$f":"VLOOKUP(B2215,'Ark1'!C$2:D$11,2,FALSE)","v":2},2213,125,{"$f":"VLOOKUP(E2215,'Ark1'!$C$2:$D$11,2,FALSE)","v":5},2213,200,{"$f":"VLOOKUP(H2215,'Ark1'!$C$2:$D$12,2,FALSE)","v":5}]
[2214,32,{"$f":"VLOOKUP(B2216,'Ark1'!C$2:D$11,2,FALSE)","v":2},2214,125,{"$f":"VLOOKUP(E2216,'Ark1'!$C$2:$D$11,2,FALSE)","v":5},2214,200,{"$f":"VLOOKUP(H2216,'Ark1'!$C$2:$D$12,2,FALSE)","v":5}]
[2215,32,{"$f":"VLOOKUP(B2217,'Ark1'!C$2:D$11,2,FALSE)","v":2},2215,125,{"$f":"VLOOKUP(E2217,'Ark1'!$C$2:$D$11,2,FALSE)","v":5},2215,200,{"$f":"VLOOKUP(H2217,'Ark1'!$C$2:$D$12,2,FALSE)","v":5}]
[2216,32,{"$f":"VLOOKUP(B2218,'Ark1'!C$2:D$11,2,FALSE)","v":2},2216,125,{"$f":"VLOOKUP(E2218,'Ark1'!$C$2:$D$11,2,FALSE)","v":5},2216,200,{"$f":"VLOOKUP(H2218,'Ark1'!$C$2:$D$12,2,FALSE)","v":5}]
[2217,32,{"$f":"VLOOKUP(B2219,'Ark1'!C$2:D$11,2,FALSE)","v":2},2217,125,{"$f":"VLOOKUP(E2219,'Ark1'!$C$2:$D$11,2,FALSE)","v":5},2217,200,{"$f":"VLOOKUP(H2219,'Ark1'!$C$2:$D$12,2,FALSE)","v":5}]
[2218,32,{"$f":"VLOOKUP(B2220,'Ark1'!C$2:D$11,2,FALSE)","v":2},2218,125,{"$f":"VLOOKUP(E2220,'Ark1'!$C$2:$D$11,2,FALSE)","v":5},2218,200,{"$f":"VLOOKUP(H2220,'Ark1'!$C$2:$D$12,2,FALSE)","v":5}]
[2219,32,{"$f":"VLOOKUP(B2221,'Ark1'!C$2:D$11,2,FALSE)","v":2},2219,125,{"$f":"VLOOKUP(E2221,'Ark1'!$C$2:$D$11,2,FALSE)","v":5},2219,200,{"$f":"VLOOKUP(H2221,'Ark1'!$C$2:$D$12,2,FALSE)","v":5}]
[2220,32,{"$f":"VLOOKUP(B2222,'Ark1'!C$2:D$11,2,FALSE)","v":2},2220,125,{"$f":"VLOOKUP(E2222,'Ark1'!$C$2:$D$11,2,FALSE)","v":5},2220,200,{"$f":"VLOOKUP(H2222,'Ark1'!$C$2:$D$12,2,FALSE)","v":5}]
[2221,32,{"$f":"VLOOKUP(B2223,'Ark1'!C$2:D$11,2,FALSE)","v":2},2221,125,{"$f":"VLOOKUP(E2223,'Ark1'!$C$2:$D$11,2,FALSE)","v":5},2221,200,{"$f":"VLOOKUP(H2223,'Ark1'!$C$2:$D$12,2,FALSE)","v":5}]
[2222,32,{"$f":"VLOOKUP(B2224,'Ark1'!C$2:D$11,2,FALSE)","v":2},2222,125,{"$f":"VLOOKUP(E2224,'Ark1'!$C$2:$D$11,2,FALSE)","v":5},2222,200,{"$f":"VLOOKUP(H2224,'Ark1'!$C$2:$D$12,2,FALSE)","v":5}]
[2223,32,{"$f":"VLOOKUP(B2225,'Ark1'!C$2:D$11,2,FALSE)","v":2},2223,125,{"$f":"VLOOKUP(E2225,'Ark1'!$C$2:$D$11,2,FALSE)","v":5},2223,200,{"$f":"VLOOKUP(H2225,'Ark1'!$C$2:$D$12,2,FALSE)","v":5}]
[2224,32,{"$f":"VLOOKUP(B2226,'Ark1'!C$2:D$11,2,FALSE)","v":2},2224,125,{"$f":"VLOOKUP(E2226,'Ark1'!$C$2:$D$11,2,FALSE)","v":5},2224,200,{"$f":"VLOOKUP(H2226,'Ark1'!$C$2:$D$12,2,FALSE)","v":5}]
[2225,32,{"$f":"VLOOKUP(B2227,'Ark1'!C$2:D$11,2,FALSE)","v":2},2225,125,{"$f":"VLOOKUP(E2227,'Ark1'!$C$2:$D$11,2,FALSE)","v":5},2225,200,{"$f":"VLOOKUP(H2227,'Ark1'!$C$2:$D$12,2,FALSE)","v":5}]
[2226,32,{"$f":"VLOOKUP(B2228,'Ark1'!C$2:D$11,2,FALSE)","v":2},2226,125,{"$f":"VLOOKUP(E2228,'Ark1'!$C$2:$D$11,2,FALSE)","v":5},2226,200,{"$f":"VLOOKUP(H2228,'Ark1'!$C$2:$D$12,2,FALSE)","v":5}]
[2227,32,{"$f":"VLOOKUP(B2229,'Ark1'!C$2:D$11,2,FALSE)","v":2},2227,125,{"$f":"VLOOKUP(E2229,'Ark1'!$C$2:$D$11,2,FALSE)","v":5},2227,200,{"$f":"VLOOKUP(H2229,'Ark1'!$C$2:$D$12,2,FALSE)","v":5}]
[2228,32,{"$f":"VLOOKUP(B2230,'Ark1'!C$2:D$11,2,FALSE)","v":2},2228,125,{"$f":"VLOOKUP(E2230,'Ark1'!$C$2:$D$11,2,FALSE)","v":5},2228,200,{"$f":"VLOOKUP(H2230,'Ark1'!$C$2:$D$12,2,FALSE)","v":5}]
[2229,32,{"$f":"VLOOKUP(B2231,'Ark1'!C$2:D$11,2,FALSE)","v":2},2229,125,{"$f":"VLOOKUP(E2231,'Ark1'!$C$2:$D$11,2,FALSE)","v":5},2229,200,{"$f":"VLOOKUP(H2231,'Ark1'!$C$2:$D$12,2,FALSE)","v":5}]
[2230,32,{"$f":"VLOOKUP(B2232,'Ark1'!C$2:D$11,2,FALSE)","v":2},2230,125,{"$f":"VLOOKUP(E2232,'Ark1'!$C$2:$D$11,2,FALSE)","v":5},2230,200,{"$f":"VLOOKUP(H2232,'Ark1'!$C$2:$D$12,2,FALSE)","v":5}]
[2231,32,{"$f":"VLOOKUP(B2233,'Ark1'!C$2:D$11,2,FALSE)","v":2},2231,125,{"$f":"VLOOKUP(E2233,'Ark1'!$C$2:$D$11,2,FALSE)","v":5},2231,200,{"$f":"VLOOKUP(H2233,'Ark1'!$C$2:$D$12,2,FALSE)","v":5}]
[2232,32,{"$f":"VLOOKUP(B2234,'Ark1'!C$2:D$11,2,FALSE)","v":2},2232,125,{"$f":"VLOOKUP(E2234,'Ark1'!$C$2:$D$11,2,FALSE)","v":5},2232,200,{"$f":"VLOOKUP(H2234,'Ark1'!$C$2:$D$12,2,FALSE)","v":5}]
[2233,32,{"$f":"VLOOKUP(B2235,'Ark1'!C$2:D$11,2,FALSE)","v":2},2233,125,{"$f":"VLOOKUP(E2235,'Ark1'!$C$2:$D$11,2,FALSE)","v":5},2233,200,{"$f":"VLOOKUP(H2235,'Ark1'!$C$2:$D$12,2,FALSE)","v":5}]
[2234,32,{"$f":"VLOOKUP(B2236,'Ark1'!C$2:D$11,2,FALSE)","v":2},2234,125,{"$f":"VLOOKUP(E2236,'Ark1'!$C$2:$D$11,2,FALSE)","v":5},2234,200,{"$f":"VLOOKUP(H2236,'Ark1'!$C$2:$D$12,2,FALSE)","v":5}]
[2235,32,{"$f":"VLOOKUP(B2237,'Ark1'!C$2:D$11,2,FALSE)","v":2},2235,125,{"$f":"VLOOKUP(E2237,'Ark1'!$C$2:$D$11,2,FALSE)","v":5},2235,200,{"$f":"VLOOKUP(H2237,'Ark1'!$C$2:$D$12,2,FALSE)","v":5}]
[2236,32,{"$f":"VLOOKUP(B2238,'Ark1'!C$2:D$11,2,FALSE)","v":2},2236,125,{"$f":"VLOOKUP(E2238,'Ark1'!$C$2:$D$11,2,FALSE)","v":5},2236,200,{"$f":"VLOOKUP(H2238,'Ark1'!$C$2:$D$12,2,FALSE)","v":5}]
[2237,32,{"$f":"VLOOKUP(B2239,'Ark1'!C$2:D$11,2,FALSE)","v":2},2237,125,{"$f":"VLOOKUP(E2239,'Ark1'!$C$2:$D$11,2,FALSE)","v":5},2237,200,{"$f":"VLOOKUP(H2239,'Ark1'!$C$2:$D$12,2,FALSE)","v":5}]
[2238,32,{"$f":"VLOOKUP(B2240,'Ark1'!C$2:D$11,2,FALSE)","v":2},2238,125,{"$f":"VLOOKUP(E2240,'Ark1'!$C$2:$D$11,2,FALSE)","v":5},2238,200,{"$f":"VLOOKUP(H2240,'Ark1'!$C$2:$D$12,2,FALSE)","v":5}]
[2239,32,{"$f":"VLOOKUP(B2241,'Ark1'!C$2:D$11,2,FALSE)","v":2},2239,125,{"$f":"VLOOKUP(E2241,'Ark1'!$C$2:$D$11,2,FALSE)","v":5},2239,200,{"$f":"VLOOKUP(H2241,'Ark1'!$C$2:$D$12,2,FALSE)","v":5}]
[2240,32,{"$f":"VLOOKUP(B2242,'Ark1'!C$2:D$11,2,FALSE)","v":2},2240,125,{"$f":"VLOOKUP(E2242,'Ark1'!$C$2:$D$11,2,FALSE)","v":5},2240,200,{"$f":"VLOOKUP(H2242,'Ark1'!$C$2:$D$12,2,FALSE)","v":5}]
[2241,32,{"$f":"VLOOKUP(B2243,'Ark1'!C$2:D$11,2,FALSE)","v":2},2241,125,{"$f":"VLOOKUP(E2243,'Ark1'!$C$2:$D$11,2,FALSE)","v":5},2241,200,{"$f":"VLOOKUP(H2243,'Ark1'!$C$2:$D$12,2,FALSE)","v":5}]
[2242,32,{"$f":"VLOOKUP(B2244,'Ark1'!C$2:D$11,2,FALSE)","v":2},2242,125,{"$f":"VLOOKUP(E2244,'Ark1'!$C$2:$D$11,2,FALSE)","v":5},2242,200,{"$f":"VLOOKUP(H2244,'Ark1'!$C$2:$D$12,2,FALSE)","v":5}]
[2243,32,{"$f":"VLOOKUP(B2245,'Ark1'!C$2:D$11,2,FALSE)","v":2},2243,125,{"$f":"VLOOKUP(E2245,'Ark1'!$C$2:$D$11,2,FALSE)","v":5},2243,200,{"$f":"VLOOKUP(H2245,'Ark1'!$C$2:$D$12,2,FALSE)","v":5}]
[2244,32,{"$f":"VLOOKUP(B2246,'Ark1'!C$2:D$11,2,FALSE)","v":2},2244,125,{"$f":"VLOOKUP(E2246,'Ark1'!$C$2:$D$11,2,FALSE)","v":5},2244,200,{"$f":"VLOOKUP(H2246,'Ark1'!$C$2:$D$12,2,FALSE)","v":5}]
[2245,32,{"$f":"VLOOKUP(B2247,'Ark1'!C$2:D$11,2,FALSE)","v":2},2245,125,{"$f":"VLOOKUP(E2247,'Ark1'!$C$2:$D$11,2,FALSE)","v":5},2245,200,{"$f":"VLOOKUP(H2247,'Ark1'!$C$2:$D$12,2,FALSE)","v":5}]
[2246,32,{"$f":"VLOOKUP(B2248,'Ark1'!C$2:D$11,2,FALSE)","v":2},2246,125,{"$f":"VLOOKUP(E2248,'Ark1'!$C$2:$D$11,2,FALSE)","v":5},2246,200,{"$f":"VLOOKUP(H2248,'Ark1'!$C$2:$D$12,2,FALSE)","v":5}]
[2247,32,{"$f":"VLOOKUP(B2249,'Ark1'!C$2:D$11,2,FALSE)","v":2},2247,125,{"$f":"VLOOKUP(E2249,'Ark1'!$C$2:$D$11,2,FALSE)","v":5},2247,200,{"$f":"VLOOKUP(H2249,'Ark1'!$C$2:$D$12,2,FALSE)","v":5}]
[2248,32,{"$f":"VLOOKUP(B2250,'Ark1'!C$2:D$11,2,FALSE)","v":2},2248,125,{"$f":"VLOOKUP(E2250,'Ark1'!$C$2:$D$11,2,FALSE)","v":5},2248,200,{"$f":"VLOOKUP(H2250,'Ark1'!$C$2:$D$12,2,FALSE)","v":5}]
[2249,32,{"$f":"VLOOKUP(B2251,'Ark1'!C$2:D$11,2,FALSE)","v":2},2249,125,{"$f":"VLOOKUP(E2251,'Ark1'!$C$2:$D$11,2,FALSE)","v":5},2249,200,{"$f":"VLOOKUP(H2251,'Ark1'!$C$2:$D$12,2,FALSE)","v":5}]
[2250,32,{"$f":"VLOOKUP(B2252,'Ark1'!C$2:D$11,2,FALSE)","v":2},2250,125,{"$f":"VLOOKUP(E2252,'Ark1'!$C$2:$D$11,2,FALSE)","v":5},2250,200,{"$f":"VLOOKUP(H2252,'Ark1'!$C$2:$D$12,2,FALSE)","v":5}]
[2251,32,{"$f":"VLOOKUP(B2253,'Ark1'!C$2:D$11,2,FALSE)","v":2},2251,125,{"$f":"VLOOKUP(E2253,'Ark1'!$C$2:$D$11,2,FALSE)","v":5},2251,200,{"$f":"VLOOKUP(H2253,'Ark1'!$C$2:$D$12,2,FALSE)","v":5}]
[2252,32,{"$f":"VLOOKUP(B2254,'Ark1'!C$2:D$11,2,FALSE)","v":2},2252,125,{"$f":"VLOOKUP(E2254,'Ark1'!$C$2:$D$11,2,FALSE)","v":5},2252,200,{"$f":"VLOOKUP(H2254,'Ark1'!$C$2:$D$12,2,FALSE)","v":5}]
[2253,32,{"$f":"VLOOKUP(B2255,'Ark1'!C$2:D$11,2,FALSE)","v":2},2253,125,{"$f":"VLOOKUP(E2255,'Ark1'!$C$2:$D$11,2,FALSE)","v":5},2253,200,{"$f":"VLOOKUP(H2255,'Ark1'!$C$2:$D$12,2,FALSE)","v":5}]
[2254,32,{"$f":"VLOOKUP(B2256,'Ark1'!C$2:D$11,2,FALSE)","v":2},2254,125,{"$f":"VLOOKUP(E2256,'Ark1'!$C$2:$D$11,2,FALSE)","v":5},2254,200,{"$f":"VLOOKUP(H2256,'Ark1'!$C$2:$D$12,2,FALSE)","v":5}]
[2255,32,{"$f":"VLOOKUP(B2257,'Ark1'!C$2:D$11,2,FALSE)","v":2},2255,125,{"$f":"VLOOKUP(E2257,'Ark1'!$C$2:$D$11,2,FALSE)","v":5},2255,200,{"$f":"VLOOKUP(H2257,'Ark1'!$C$2:$D$12,2,FALSE)","v":5}]
[2256,32,{"$f":"VLOOKUP(B2258,'Ark1'!C$2:D$11,2,FALSE)","v":2},2256,125,{"$f":"VLOOKUP(E2258,'Ark1'!$C$2:$D$11,2,FALSE)","v":5},2256,200,{"$f":"VLOOKUP(H2258,'Ark1'!$C$2:$D$12,2,FALSE)","v":5}]
[2257,32,{"$f":"VLOOKUP(B2259,'Ark1'!C$2:D$11,2,FALSE)","v":2},2257,125,{"$f":"VLOOKUP(E2259,'Ark1'!$C$2:$D$11,2,FALSE)","v":5},2257,200,{"$f":"VLOOKUP(H2259,'Ark1'!$C$2:$D$12,2,FALSE)","v":5}]
[2258,32,{"$f":"VLOOKUP(B2260,'Ark1'!C$2:D$11,2,FALSE)","v":2},2258,125,{"$f":"VLOOKUP(E2260,'Ark1'!$C$2:$D$11,2,FALSE)","v":5},2258,200,{"$f":"VLOOKUP(H2260,'Ark1'!$C$2:$D$12,2,FALSE)","v":5}]
[2259,32,{"$f":"VLOOKUP(B2261,'Ark1'!C$2:D$11,2,FALSE)","v":2},2259,125,{"$f":"VLOOKUP(E2261,'Ark1'!$C$2:$D$11,2,FALSE)","v":5},2259,200,{"$f":"VLOOKUP(H2261,'Ark1'!$C$2:$D$12,2,FALSE)","v":5}]
[2260,32,{"$f":"VLOOKUP(B2262,'Ark1'!C$2:D$11,2,FALSE)","v":2},2260,125,{"$f":"VLOOKUP(E2262,'Ark1'!$C$2:$D$11,2,FALSE)","v":5},2260,200,{"$f":"VLOOKUP(H2262,'Ark1'!$C$2:$D$12,2,FALSE)","v":5}]
[2261,32,{"$f":"VLOOKUP(B2263,'Ark1'!C$2:D$11,2,FALSE)","v":2},2261,125,{"$f":"VLOOKUP(E2263,'Ark1'!$C$2:$D$11,2,FALSE)","v":5},2261,200,{"$f":"VLOOKUP(H2263,'Ark1'!$C$2:$D$12,2,FALSE)","v":5}]
[2262,32,{"$f":"VLOOKUP(B2264,'Ark1'!C$2:D$11,2,FALSE)","v":2},2262,125,{"$f":"VLOOKUP(E2264,'Ark1'!$C$2:$D$11,2,FALSE)","v":5},2262,200,{"$f":"VLOOKUP(H2264,'Ark1'!$C$2:$D$12,2,FALSE)","v":5}]
[2263,32,{"$f":"VLOOKUP(B2265,'Ark1'!C$2:D$11,2,FALSE)","v":2},2263,125,{"$f":"VLOOKUP(E2265,'Ark1'!$C$2:$D$11,2,FALSE)","v":5},2263,200,{"$f":"VLOOKUP(H2265,'Ark1'!$C$2:$D$12,2,FALSE)","v":5}]
[2264,32,{"$f":"VLOOKUP(B2266,'Ark1'!C$2:D$11,2,FALSE)","v":2},2264,125,{"$f":"VLOOKUP(E2266,'Ark1'!$C$2:$D$11,2,FALSE)","v":5},2264,200,{"$f":"VLOOKUP(H2266,'Ark1'!$C$2:$D$12,2,FALSE)","v":5}]
[2265,32,{"$f":"VLOOKUP(B2267,'Ark1'!C$2:D$11,2,FALSE)","v":2},2265,125,{"$f":"VLOOKUP(E2267,'Ark1'!$C$2:$D$11,2,FALSE)","v":5},2265,200,{"$f":"VLOOKUP(H2267,'Ark1'!$C$2:$D$12,2,FALSE)","v":5}]
[2266,32,{"$f":"VLOOKUP(B2268,'Ark1'!C$2:D$11,2,FALSE)","v":2},2266,125,{"$f":"VLOOKUP(E2268,'Ark1'!$C$2:$D$11,2,FALSE)","v":5},2266,200,{"$f":"VLOOKUP(H2268,'Ark1'!$C$2:$D$12,2,FALSE)","v":5}]
[2267,32,{"$f":"VLOOKUP(B2269,'Ark1'!C$2:D$11,2,FALSE)","v":2},2267,125,{"$f":"VLOOKUP(E2269,'Ark1'!$C$2:$D$11,2,FALSE)","v":5},2267,200,{"$f":"VLOOKUP(H2269,'Ark1'!$C$2:$D$12,2,FALSE)","v":5}]
[2268,32,{"$f":"VLOOKUP(B2270,'Ark1'!C$2:D$11,2,FALSE)","v":2},2268,125,{"$f":"VLOOKUP(E2270,'Ark1'!$C$2:$D$11,2,FALSE)","v":5},2268,200,{"$f":"VLOOKUP(H2270,'Ark1'!$C$2:$D$12,2,FALSE)","v":5}]
[2269,32,{"$f":"VLOOKUP(B2271,'Ark1'!C$2:D$11,2,FALSE)","v":2},2269,125,{"$f":"VLOOKUP(E2271,'Ark1'!$C$2:$D$11,2,FALSE)","v":5},2269,200,{"$f":"VLOOKUP(H2271,'Ark1'!$C$2:$D$12,2,FALSE)","v":5}]
[2270,32,{"$f":"VLOOKUP(B2272,'Ark1'!C$2:D$11,2,FALSE)","v":2},2270,125,{"$f":"VLOOKUP(E2272,'Ark1'!$C$2:$D$11,2,FALSE)","v":5},2270,200,{"$f":"VLOOKUP(H2272,'Ark1'!$C$2:$D$12,2,FALSE)","v":5}]
[2271,32,{"$f":"VLOOKUP(B2273,'Ark1'!C$2:D$11,2,FALSE)","v":2},2271,125,{"$f":"VLOOKUP(E2273,'Ark1'!$C$2:$D$11,2,FALSE)","v":5},2271,200,{"$f":"VLOOKUP(H2273,'Ark1'!$C$2:$D$12,2,FALSE)","v":5}]
[2272,32,{"$f":"VLOOKUP(B2274,'Ark1'!C$2:D$11,2,FALSE)","v":2},2272,125,{"$f":"VLOOKUP(E2274,'Ark1'!$C$2:$D$11,2,FALSE)","v":5},2272,200,{"$f":"VLOOKUP(H2274,'Ark1'!$C$2:$D$12,2,FALSE)","v":5}]
[2273,32,{"$f":"VLOOKUP(B2275,'Ark1'!C$2:D$11,2,FALSE)","v":2},2273,125,{"$f":"VLOOKUP(E2275,'Ark1'!$C$2:$D$11,2,FALSE)","v":5},2273,200,{"$f":"VLOOKUP(H2275,'Ark1'!$C$2:$D$12,2,FALSE)","v":5}]
[2274,32,{"$f":"VLOOKUP(B2276,'Ark1'!C$2:D$11,2,FALSE)","v":2},2274,125,{"$f":"VLOOKUP(E2276,'Ark1'!$C$2:$D$11,2,FALSE)","v":5},2274,200,{"$f":"VLOOKUP(H2276,'Ark1'!$C$2:$D$12,2,FALSE)","v":5}]
[2275,32,{"$f":"VLOOKUP(B2277,'Ark1'!C$2:D$11,2,FALSE)","v":2},2275,125,{"$f":"VLOOKUP(E2277,'Ark1'!$C$2:$D$11,2,FALSE)","v":5},2275,200,{"$f":"VLOOKUP(H2277,'Ark1'!$C$2:$D$12,2,FALSE)","v":5}]
[2276,32,{"$f":"VLOOKUP(B2278,'Ark1'!C$2:D$11,2,FALSE)","v":2},2276,125,{"$f":"VLOOKUP(E2278,'Ark1'!$C$2:$D$11,2,FALSE)","v":5},2276,200,{"$f":"VLOOKUP(H2278,'Ark1'!$C$2:$D$12,2,FALSE)","v":5}]
[2277,32,{"$f":"VLOOKUP(B2279,'Ark1'!C$2:D$11,2,FALSE)","v":2},2277,125,{"$f":"VLOOKUP(E2279,'Ark1'!$C$2:$D$11,2,FALSE)","v":5},2277,200,{"$f":"VLOOKUP(H2279,'Ark1'!$C$2:$D$12,2,FALSE)","v":5}]
[2278,32,{"$f":"VLOOKUP(B2280,'Ark1'!C$2:D$11,2,FALSE)","v":2},2278,125,{"$f":"VLOOKUP(E2280,'Ark1'!$C$2:$D$11,2,FALSE)","v":5},2278,200,{"$f":"VLOOKUP(H2280,'Ark1'!$C$2:$D$12,2,FALSE)","v":5}]
[2279,32,{"$f":"VLOOKUP(B2281,'Ark1'!C$2:D$11,2,FALSE)","v":2},2279,125,{"$f":"VLOOKUP(E2281,'Ark1'!$C$2:$D$11,2,FALSE)","v":5},2279,200,{"$f":"VLOOKUP(H2281,'Ark1'!$C$2:$D$12,2,FALSE)","v":5}]
[2280,32,{"$f":"VLOOKUP(B2282,'Ark1'!C$2:D$11,2,FALSE)","v":2},2280,125,{"$f":"VLOOKUP(E2282,'Ark1'!$C$2:$D$11,2,FALSE)","v":5},2280,200,{"$f":"VLOOKUP(H2282,'Ark1'!$C$2:$D$12,2,FALSE)","v":5}]
[2281,32,{"$f":"VLOOKUP(B2283,'Ark1'!C$2:D$11,2,FALSE)","v":2},2281,125,{"$f":"VLOOKUP(E2283,'Ark1'!$C$2:$D$11,2,FALSE)","v":5},2281,200,{"$f":"VLOOKUP(H2283,'Ark1'!$C$2:$D$12,2,FALSE)","v":5}]
[2282,32,{"$f":"VLOOKUP(B2284,'Ark1'!C$2:D$11,2,FALSE)","v":2},2282,125,{"$f":"VLOOKUP(E2284,'Ark1'!$C$2:$D$11,2,FALSE)","v":5},2282,200,{"$f":"VLOOKUP(H2284,'Ark1'!$C$2:$D$12,2,FALSE)","v":5}]
[2283,32,{"$f":"VLOOKUP(B2285,'Ark1'!C$2:D$11,2,FALSE)","v":2},2283,125,{"$f":"VLOOKUP(E2285,'Ark1'!$C$2:$D$11,2,FALSE)","v":5},2283,200,{"$f":"VLOOKUP(H2285,'Ark1'!$C$2:$D$12,2,FALSE)","v":5}]
[2284,32,{"$f":"VLOOKUP(B2286,'Ark1'!C$2:D$11,2,FALSE)","v":2},2284,125,{"$f":"VLOOKUP(E2286,'Ark1'!$C$2:$D$11,2,FALSE)","v":5},2284,200,{"$f":"VLOOKUP(H2286,'Ark1'!$C$2:$D$12,2,FALSE)","v":5}]
[2285,32,{"$f":"VLOOKUP(B2287,'Ark1'!C$2:D$11,2,FALSE)","v":2},2285,125,{"$f":"VLOOKUP(E2287,'Ark1'!$C$2:$D$11,2,FALSE)","v":5},2285,200,{"$f":"VLOOKUP(H2287,'Ark1'!$C$2:$D$12,2,FALSE)","v":5}]
[2286,32,{"$f":"VLOOKUP(B2288,'Ark1'!C$2:D$11,2,FALSE)","v":2},2286,125,{"$f":"VLOOKUP(E2288,'Ark1'!$C$2:$D$11,2,FALSE)","v":5},2286,200,{"$f":"VLOOKUP(H2288,'Ark1'!$C$2:$D$12,2,FALSE)","v":5}]
[2287,32,{"$f":"VLOOKUP(B2289,'Ark1'!C$2:D$11,2,FALSE)","v":2},2287,125,{"$f":"VLOOKUP(E2289,'Ark1'!$C$2:$D$11,2,FALSE)","v":5},2287,200,{"$f":"VLOOKUP(H2289,'Ark1'!$C$2:$D$12,2,FALSE)","v":5}]
[2288,32,{"$f":"VLOOKUP(B2290,'Ark1'!C$2:D$11,2,FALSE)","v":2},2288,125,{"$f":"VLOOKUP(E2290,'Ark1'!$C$2:$D$11,2,FALSE)","v":5},2288,200,{"$f":"VLOOKUP(H2290,'Ark1'!$C$2:$D$12,2,FALSE)","v":5}]
[2289,32,{"$f":"VLOOKUP(B2291,'Ark1'!C$2:D$11,2,FALSE)","v":2},2289,125,{"$f":"VLOOKUP(E2291,'Ark1'!$C$2:$D$11,2,FALSE)","v":5},2289,200,{"$f":"VLOOKUP(H2291,'Ark1'!$C$2:$D$12,2,FALSE)","v":5}]
[2290,32,{"$f":"VLOOKUP(B2292,'Ark1'!C$2:D$11,2,FALSE)","v":2},2290,125,{"$f":"VLOOKUP(E2292,'Ark1'!$C$2:$D$11,2,FALSE)","v":5},2290,200,{"$f":"VLOOKUP(H2292,'Ark1'!$C$2:$D$12,2,FALSE)","v":5}]
[2291,32,{"$f":"VLOOKUP(B2293,'Ark1'!C$2:D$11,2,FALSE)","v":2},2291,125,{"$f":"VLOOKUP(E2293,'Ark1'!$C$2:$D$11,2,FALSE)","v":5},2291,200,{"$f":"VLOOKUP(H2293,'Ark1'!$C$2:$D$12,2,FALSE)","v":5}]
[2292,32,{"$f":"VLOOKUP(B2294,'Ark1'!C$2:D$11,2,FALSE)","v":2},2292,125,{"$f":"VLOOKUP(E2294,'Ark1'!$C$2:$D$11,2,FALSE)","v":5},2292,200,{"$f":"VLOOKUP(H2294,'Ark1'!$C$2:$D$12,2,FALSE)","v":5}]
[2293,32,{"$f":"VLOOKUP(B2295,'Ark1'!C$2:D$11,2,FALSE)","v":2},2293,125,{"$f":"VLOOKUP(E2295,'Ark1'!$C$2:$D$11,2,FALSE)","v":5},2293,200,{"$f":"VLOOKUP(H2295,'Ark1'!$C$2:$D$12,2,FALSE)","v":5}]
[2294,32,{"$f":"VLOOKUP(B2296,'Ark1'!C$2:D$11,2,FALSE)","v":2},2294,125,{"$f":"VLOOKUP(E2296,'Ark1'!$C$2:$D$11,2,FALSE)","v":5},2294,200,{"$f":"VLOOKUP(H2296,'Ark1'!$C$2:$D$12,2,FALSE)","v":5}]
[2295,32,{"$f":"VLOOKUP(B2297,'Ark1'!C$2:D$11,2,FALSE)","v":2},2295,125,{"$f":"VLOOKUP(E2297,'Ark1'!$C$2:$D$11,2,FALSE)","v":5},2295,200,{"$f":"VLOOKUP(H2297,'Ark1'!$C$2:$D$12,2,FALSE)","v":5}]
[2296,32,{"$f":"VLOOKUP(B2298,'Ark1'!C$2:D$11,2,FALSE)","v":2},2296,125,{"$f":"VLOOKUP(E2298,'Ark1'!$C$2:$D$11,2,FALSE)","v":5},2296,200,{"$f":"VLOOKUP(H2298,'Ark1'!$C$2:$D$12,2,FALSE)","v":5}]
[2297,32,{"$f":"VLOOKUP(B2299,'Ark1'!C$2:D$11,2,FALSE)","v":2},2297,125,{"$f":"VLOOKUP(E2299,'Ark1'!$C$2:$D$11,2,FALSE)","v":5},2297,200,{"$f":"VLOOKUP(H2299,'Ark1'!$C$2:$D$12,2,FALSE)","v":5}]
[2298,32,{"$f":"VLOOKUP(B2300,'Ark1'!C$2:D$11,2,FALSE)","v":2},2298,125,{"$f":"VLOOKUP(E2300,'Ark1'!$C$2:$D$11,2,FALSE)","v":5},2298,200,{"$f":"VLOOKUP(H2300,'Ark1'!$C$2:$D$12,2,FALSE)","v":5}]
[2299,32,{"$f":"VLOOKUP(B2301,'Ark1'!C$2:D$11,2,FALSE)","v":2},2299,125,{"$f":"VLOOKUP(E2301,'Ark1'!$C$2:$D$11,2,FALSE)","v":5},2299,200,{"$f":"VLOOKUP(H2301,'Ark1'!$C$2:$D$12,2,FALSE)","v":5}]
[2300,32,{"$f":"VLOOKUP(B2302,'Ark1'!C$2:D$11,2,FALSE)","v":2},2300,125,{"$f":"VLOOKUP(E2302,'Ark1'!$C$2:$D$11,2,FALSE)","v":5},2300,200,{"$f":"VLOOKUP(H2302,'Ark1'!$C$2:$D$12,2,FALSE)","v":5}]
[2301,32,{"$f":"VLOOKUP(B2303,'Ark1'!C$2:D$11,2,FALSE)","v":2},2301,125,{"$f":"VLOOKUP(E2303,'Ark1'!$C$2:$D$11,2,FALSE)","v":5},2301,200,{"$f":"VLOOKUP(H2303,'Ark1'!$C$2:$D$12,2,FALSE)","v":5}]
[2302,32,{"$f":"VLOOKUP(B2304,'Ark1'!C$2:D$11,2,FALSE)","v":2},2302,125,{"$f":"VLOOKUP(E2304,'Ark1'!$C$2:$D$11,2,FALSE)","v":5},2302,200,{"$f":"VLOOKUP(H2304,'Ark1'!$C$2:$D$12,2,FALSE)","v":5}]
[2303,32,{"$f":"VLOOKUP(B2305,'Ark1'!C$2:D$11,2,FALSE)","v":2},2303,125,{"$f":"VLOOKUP(E2305,'Ark1'!$C$2:$D$11,2,FALSE)","v":5},2303,200,{"$f":"VLOOKUP(H2305,'Ark1'!$C$2:$D$12,2,FALSE)","v":5}]
[2304,32,{"$f":"VLOOKUP(B2306,'Ark1'!C$2:D$11,2,FALSE)","v":2},2304,125,{"$f":"VLOOKUP(E2306,'Ark1'!$C$2:$D$11,2,FALSE)","v":5},2304,200,{"$f":"VLOOKUP(H2306,'Ark1'!$C$2:$D$12,2,FALSE)","v":5}]
[2305,32,{"$f":"VLOOKUP(B2307,'Ark1'!C$2:D$11,2,FALSE)","v":2},2305,125,{"$f":"VLOOKUP(E2307,'Ark1'!$C$2:$D$11,2,FALSE)","v":5},2305,200,{"$f":"VLOOKUP(H2307,'Ark1'!$C$2:$D$12,2,FALSE)","v":5}]
[2306,32,{"$f":"VLOOKUP(B2308,'Ark1'!C$2:D$11,2,FALSE)","v":2},2306,125,{"$f":"VLOOKUP(E2308,'Ark1'!$C$2:$D$11,2,FALSE)","v":5},2306,200,{"$f":"VLOOKUP(H2308,'Ark1'!$C$2:$D$12,2,FALSE)","v":5}]
[2307,32,{"$f":"VLOOKUP(B2309,'Ark1'!C$2:D$11,2,FALSE)","v":2},2307,125,{"$f":"VLOOKUP(E2309,'Ark1'!$C$2:$D$11,2,FALSE)","v":5},2307,200,{"$f":"VLOOKUP(H2309,'Ark1'!$C$2:$D$12,2,FALSE)","v":5}]
[2308,32,{"$f":"VLOOKUP(B2310,'Ark1'!C$2:D$11,2,FALSE)","v":2},2308,125,{"$f":"VLOOKUP(E2310,'Ark1'!$C$2:$D$11,2,FALSE)","v":5},2308,200,{"$f":"VLOOKUP(H2310,'Ark1'!$C$2:$D$12,2,FALSE)","v":5}]
[2309,32,{"$f":"VLOOKUP(B2311,'Ark1'!C$2:D$11,2,FALSE)","v":2},2309,125,{"$f":"VLOOKUP(E2311,'Ark1'!$C$2:$D$11,2,FALSE)","v":5},2309,200,{"$f":"VLOOKUP(H2311,'Ark1'!$C$2:$D$12,2,FALSE)","v":5}]
[2310,32,{"$f":"VLOOKUP(B2312,'Ark1'!C$2:D$11,2,FALSE)","v":2},2310,125,{"$f":"VLOOKUP(E2312,'Ark1'!$C$2:$D$11,2,FALSE)","v":5},2310,200,{"$f":"VLOOKUP(H2312,'Ark1'!$C$2:$D$12,2,FALSE)","v":5}]
[2311,32,{"$f":"VLOOKUP(B2313,'Ark1'!C$2:D$11,2,FALSE)","v":2},2311,125,{"$f":"VLOOKUP(E2313,'Ark1'!$C$2:$D$11,2,FALSE)","v":5},2311,200,{"$f":"VLOOKUP(H2313,'Ark1'!$C$2:$D$12,2,FALSE)","v":5}]
[2312,32,{"$f":"VLOOKUP(B2314,'Ark1'!C$2:D$11,2,FALSE)","v":2},2312,125,{"$f":"VLOOKUP(E2314,'Ark1'!$C$2:$D$11,2,FALSE)","v":5},2312,200,{"$f":"VLOOKUP(H2314,'Ark1'!$C$2:$D$12,2,FALSE)","v":5}]
[2313,32,{"$f":"VLOOKUP(B2315,'Ark1'!C$2:D$11,2,FALSE)","v":2},2313,125,{"$f":"VLOOKUP(E2315,'Ark1'!$C$2:$D$11,2,FALSE)","v":5},2313,200,{"$f":"VLOOKUP(H2315,'Ark1'!$C$2:$D$12,2,FALSE)","v":5}]
[2314,32,{"$f":"VLOOKUP(B2316,'Ark1'!C$2:D$11,2,FALSE)","v":2},2314,125,{"$f":"VLOOKUP(E2316,'Ark1'!$C$2:$D$11,2,FALSE)","v":5},2314,200,{"$f":"VLOOKUP(H2316,'Ark1'!$C$2:$D$12,2,FALSE)","v":5}]
[2315,32,{"$f":"VLOOKUP(B2317,'Ark1'!C$2:D$11,2,FALSE)","v":2},2315,125,{"$f":"VLOOKUP(E2317,'Ark1'!$C$2:$D$11,2,FALSE)","v":5},2315,200,{"$f":"VLOOKUP(H2317,'Ark1'!$C$2:$D$12,2,FALSE)","v":5}]
[2316,32,{"$f":"VLOOKUP(B2318,'Ark1'!C$2:D$11,2,FALSE)","v":2},2316,125,{"$f":"VLOOKUP(E2318,'Ark1'!$C$2:$D$11,2,FALSE)","v":5},2316,200,{"$f":"VLOOKUP(H2318,'Ark1'!$C$2:$D$12,2,FALSE)","v":5}]
[2317,32,{"$f":"VLOOKUP(B2319,'Ark1'!C$2:D$11,2,FALSE)","v":2},2317,125,{"$f":"VLOOKUP(E2319,'Ark1'!$C$2:$D$11,2,FALSE)","v":5},2317,200,{"$f":"VLOOKUP(H2319,'Ark1'!$C$2:$D$12,2,FALSE)","v":5}]
[2318,32,{"$f":"VLOOKUP(B2320,'Ark1'!C$2:D$11,2,FALSE)","v":2},2318,125,{"$f":"VLOOKUP(E2320,'Ark1'!$C$2:$D$11,2,FALSE)","v":5},2318,200,{"$f":"VLOOKUP(H2320,'Ark1'!$C$2:$D$12,2,FALSE)","v":5}]
[2319,32,{"$f":"VLOOKUP(B2321,'Ark1'!C$2:D$11,2,FALSE)","v":2},2319,125,{"$f":"VLOOKUP(E2321,'Ark1'!$C$2:$D$11,2,FALSE)","v":5},2319,200,{"$f":"VLOOKUP(H2321,'Ark1'!$C$2:$D$12,2,FALSE)","v":5}]
[2320,32,{"$f":"VLOOKUP(B2322,'Ark1'!C$2:D$11,2,FALSE)","v":2},2320,125,{"$f":"VLOOKUP(E2322,'Ark1'!$C$2:$D$11,2,FALSE)","v":5},2320,200,{"$f":"VLOOKUP(H2322,'Ark1'!$C$2:$D$12,2,FALSE)","v":5}]
[2321,32,{"$f":"VLOOKUP(B2323,'Ark1'!C$2:D$11,2,FALSE)","v":2},2321,125,{"$f":"VLOOKUP(E2323,'Ark1'!$C$2:$D$11,2,FALSE)","v":5},2321,200,{"$f":"VLOOKUP(H2323,'Ark1'!$C$2:$D$12,2,FALSE)","v":5}]
[2322,32,{"$f":"VLOOKUP(B2324,'Ark1'!C$2:D$11,2,FALSE)","v":2},2322,125,{"$f":"VLOOKUP(E2324,'Ark1'!$C$2:$D$11,2,FALSE)","v":5},2322,200,{"$f":"VLOOKUP(H2324,'Ark1'!$C$2:$D$12,2,FALSE)","v":5}]
[2323,32,{"$f":"VLOOKUP(B2325,'Ark1'!C$2:D$11,2,FALSE)","v":2},2323,125,{"$f":"VLOOKUP(E2325,'Ark1'!$C$2:$D$11,2,FALSE)","v":5},2323,200,{"$f":"VLOOKUP(H2325,'Ark1'!$C$2:$D$12,2,FALSE)","v":5}]
[2324,32,{"$f":"VLOOKUP(B2326,'Ark1'!C$2:D$11,2,FALSE)","v":2},2324,125,{"$f":"VLOOKUP(E2326,'Ark1'!$C$2:$D$11,2,FALSE)","v":5},2324,200,{"$f":"VLOOKUP(H2326,'Ark1'!$C$2:$D$12,2,FALSE)","v":5}]
[2325,32,{"$f":"VLOOKUP(B2327,'Ark1'!C$2:D$11,2,FALSE)","v":2},2325,125,{"$f":"VLOOKUP(E2327,'Ark1'!$C$2:$D$11,2,FALSE)","v":5},2325,200,{"$f":"VLOOKUP(H2327,'Ark1'!$C$2:$D$12,2,FALSE)","v":5}]
[2326,32,{"$f":"VLOOKUP(B2328,'Ark1'!C$2:D$11,2,FALSE)","v":2},2326,125,{"$f":"VLOOKUP(E2328,'Ark1'!$C$2:$D$11,2,FALSE)","v":5},2326,200,{"$f":"VLOOKUP(H2328,'Ark1'!$C$2:$D$12,2,FALSE)","v":5}]
[2327,32,{"$f":"VLOOKUP(B2329,'Ark1'!C$2:D$11,2,FALSE)","v":2},2327,125,{"$f":"VLOOKUP(E2329,'Ark1'!$C$2:$D$11,2,FALSE)","v":5},2327,200,{"$f":"VLOOKUP(H2329,'Ark1'!$C$2:$D$12,2,FALSE)","v":5}]
[2328,32,{"$f":"VLOOKUP(B2330,'Ark1'!C$2:D$11,2,FALSE)","v":2},2328,125,{"$f":"VLOOKUP(E2330,'Ark1'!$C$2:$D$11,2,FALSE)","v":5},2328,200,{"$f":"VLOOKUP(H2330,'Ark1'!$C$2:$D$12,2,FALSE)","v":5}]
[2329,32,{"$f":"VLOOKUP(B2331,'Ark1'!C$2:D$11,2,FALSE)","v":2},2329,125,{"$f":"VLOOKUP(E2331,'Ark1'!$C$2:$D$11,2,FALSE)","v":5},2329,200,{"$f":"VLOOKUP(H2331,'Ark1'!$C$2:$D$12,2,FALSE)","v":5}]
[2330,32,{"$f":"VLOOKUP(B2332,'Ark1'!C$2:D$11,2,FALSE)","v":2},2330,125,{"$f":"VLOOKUP(E2332,'Ark1'!$C$2:$D$11,2,FALSE)","v":5},2330,200,{"$f":"VLOOKUP(H2332,'Ark1'!$C$2:$D$12,2,FALSE)","v":5}]
[2331,32,{"$f":"VLOOKUP(B2333,'Ark1'!C$2:D$11,2,FALSE)","v":2},2331,125,{"$f":"VLOOKUP(E2333,'Ark1'!$C$2:$D$11,2,FALSE)","v":5},2331,200,{"$f":"VLOOKUP(H2333,'Ark1'!$C$2:$D$12,2,FALSE)","v":5}]
[2332,32,{"$f":"VLOOKUP(B2334,'Ark1'!C$2:D$11,2,FALSE)","v":2},2332,125,{"$f":"VLOOKUP(E2334,'Ark1'!$C$2:$D$11,2,FALSE)","v":5},2332,200,{"$f":"VLOOKUP(H2334,'Ark1'!$C$2:$D$12,2,FALSE)","v":5}]
[2333,32,{"$f":"VLOOKUP(B2335,'Ark1'!C$2:D$11,2,FALSE)","v":2},2333,125,{"$f":"VLOOKUP(E2335,'Ark1'!$C$2:$D$11,2,FALSE)","v":5},2333,200,{"$f":"VLOOKUP(H2335,'Ark1'!$C$2:$D$12,2,FALSE)","v":5}]
[2334,32,{"$f":"VLOOKUP(B2336,'Ark1'!C$2:D$11,2,FALSE)","v":2},2334,125,{"$f":"VLOOKUP(E2336,'Ark1'!$C$2:$D$11,2,FALSE)","v":5},2334,200,{"$f":"VLOOKUP(H2336,'Ark1'!$C$2:$D$12,2,FALSE)","v":5}]
[2335,32,{"$f":"VLOOKUP(B2337,'Ark1'!C$2:D$11,2,FALSE)","v":2},2335,125,{"$f":"VLOOKUP(E2337,'Ark1'!$C$2:$D$11,2,FALSE)","v":5},2335,200,{"$f":"VLOOKUP(H2337,'Ark1'!$C$2:$D$12,2,FALSE)","v":5}]
[2336,32,{"$f":"VLOOKUP(B2338,'Ark1'!C$2:D$11,2,FALSE)","v":2},2336,125,{"$f":"VLOOKUP(E2338,'Ark1'!$C$2:$D$11,2,FALSE)","v":5},2336,200,{"$f":"VLOOKUP(H2338,'Ark1'!$C$2:$D$12,2,FALSE)","v":5}]
[2337,32,{"$f":"VLOOKUP(B2339,'Ark1'!C$2:D$11,2,FALSE)","v":2},2337,125,{"$f":"VLOOKUP(E2339,'Ark1'!$C$2:$D$11,2,FALSE)","v":5},2337,200,{"$f":"VLOOKUP(H2339,'Ark1'!$C$2:$D$12,2,FALSE)","v":5}]
[2338,32,{"$f":"VLOOKUP(B2340,'Ark1'!C$2:D$11,2,FALSE)","v":2},2338,125,{"$f":"VLOOKUP(E2340,'Ark1'!$C$2:$D$11,2,FALSE)","v":5},2338,200,{"$f":"VLOOKUP(H2340,'Ark1'!$C$2:$D$12,2,FALSE)","v":5}]
[2339,32,{"$f":"VLOOKUP(B2341,'Ark1'!C$2:D$11,2,FALSE)","v":2},2339,125,{"$f":"VLOOKUP(E2341,'Ark1'!$C$2:$D$11,2,FALSE)","v":5},2339,200,{"$f":"VLOOKUP(H2341,'Ark1'!$C$2:$D$12,2,FALSE)","v":5}]
[2340,32,{"$f":"VLOOKUP(B2342,'Ark1'!C$2:D$11,2,FALSE)","v":2},2340,125,{"$f":"VLOOKUP(E2342,'Ark1'!$C$2:$D$11,2,FALSE)","v":5},2340,200,{"$f":"VLOOKUP(H2342,'Ark1'!$C$2:$D$12,2,FALSE)","v":5}]
[2341,32,{"$f":"VLOOKUP(B2343,'Ark1'!C$2:D$11,2,FALSE)","v":2},2341,125,{"$f":"VLOOKUP(E2343,'Ark1'!$C$2:$D$11,2,FALSE)","v":5},2341,200,{"$f":"VLOOKUP(H2343,'Ark1'!$C$2:$D$12,2,FALSE)","v":5}]
[2342,32,{"$f":"VLOOKUP(B2344,'Ark1'!C$2:D$11,2,FALSE)","v":2},2342,125,{"$f":"VLOOKUP(E2344,'Ark1'!$C$2:$D$11,2,FALSE)","v":5},2342,200,{"$f":"VLOOKUP(H2344,'Ark1'!$C$2:$D$12,2,FALSE)","v":5}]
[2343,32,{"$f":"VLOOKUP(B2345,'Ark1'!C$2:D$11,2,FALSE)","v":2},2343,125,{"$f":"VLOOKUP(E2345,'Ark1'!$C$2:$D$11,2,FALSE)","v":5},2343,200,{"$f":"VLOOKUP(H2345,'Ark1'!$C$2:$D$12,2,FALSE)","v":5}]
[2344,32,{"$f":"VLOOKUP(B2346,'Ark1'!C$2:D$11,2,FALSE)","v":2},2344,125,{"$f":"VLOOKUP(E2346,'Ark1'!$C$2:$D$11,2,FALSE)","v":5},2344,200,{"$f":"VLOOKUP(H2346,'Ark1'!$C$2:$D$12,2,FALSE)","v":5}]
[2345,32,{"$f":"VLOOKUP(B2347,'Ark1'!C$2:D$11,2,FALSE)","v":2},2345,125,{"$f":"VLOOKUP(E2347,'Ark1'!$C$2:$D$11,2,FALSE)","v":5},2345,200,{"$f":"VLOOKUP(H2347,'Ark1'!$C$2:$D$12,2,FALSE)","v":5}]
[2346,32,{"$f":"VLOOKUP(B2348,'Ark1'!C$2:D$11,2,FALSE)","v":2},2346,125,{"$f":"VLOOKUP(E2348,'Ark1'!$C$2:$D$11,2,FALSE)","v":5},2346,200,{"$f":"VLOOKUP(H2348,'Ark1'!$C$2:$D$12,2,FALSE)","v":5}]
[2347,32,{"$f":"VLOOKUP(B2349,'Ark1'!C$2:D$11,2,FALSE)","v":2},2347,125,{"$f":"VLOOKUP(E2349,'Ark1'!$C$2:$D$11,2,FALSE)","v":5},2347,200,{"$f":"VLOOKUP(H2349,'Ark1'!$C$2:$D$12,2,FALSE)","v":5}]
[2348,32,{"$f":"VLOOKUP(B2350,'Ark1'!C$2:D$11,2,FALSE)","v":2},2348,125,{"$f":"VLOOKUP(E2350,'Ark1'!$C$2:$D$11,2,FALSE)","v":5},2348,200,{"$f":"VLOOKUP(H2350,'Ark1'!$C$2:$D$12,2,FALSE)","v":5}]
[2349,32,{"$f":"VLOOKUP(B2351,'Ark1'!C$2:D$11,2,FALSE)","v":2},2349,125,{"$f":"VLOOKUP(E2351,'Ark1'!$C$2:$D$11,2,FALSE)","v":5},2349,200,{"$f":"VLOOKUP(H2351,'Ark1'!$C$2:$D$12,2,FALSE)","v":5}]
[2350,32,{"$f":"VLOOKUP(B2352,'Ark1'!C$2:D$11,2,FALSE)","v":2},2350,125,{"$f":"VLOOKUP(E2352,'Ark1'!$C$2:$D$11,2,FALSE)","v":5},2350,200,{"$f":"VLOOKUP(H2352,'Ark1'!$C$2:$D$12,2,FALSE)","v":5}]
[2351,32,{"$f":"VLOOKUP(B2353,'Ark1'!C$2:D$11,2,FALSE)","v":2},2351,125,{"$f":"VLOOKUP(E2353,'Ark1'!$C$2:$D$11,2,FALSE)","v":5},2351,200,{"$f":"VLOOKUP(H2353,'Ark1'!$C$2:$D$12,2,FALSE)","v":5}]
[2352,32,{"$f":"VLOOKUP(B2354,'Ark1'!C$2:D$11,2,FALSE)","v":2},2352,125,{"$f":"VLOOKUP(E2354,'Ark1'!$C$2:$D$11,2,FALSE)","v":5},2352,200,{"$f":"VLOOKUP(H2354,'Ark1'!$C$2:$D$12,2,FALSE)","v":5}]
[2353,32,{"$f":"VLOOKUP(B2355,'Ark1'!C$2:D$11,2,FALSE)","v":2},2353,125,{"$f":"VLOOKUP(E2355,'Ark1'!$C$2:$D$11,2,FALSE)","v":5},2353,200,{"$f":"VLOOKUP(H2355,'Ark1'!$C$2:$D$12,2,FALSE)","v":5}]
[2354,32,{"$f":"VLOOKUP(B2356,'Ark1'!C$2:D$11,2,FALSE)","v":2},2354,125,{"$f":"VLOOKUP(E2356,'Ark1'!$C$2:$D$11,2,FALSE)","v":5},2354,200,{"$f":"VLOOKUP(H2356,'Ark1'!$C$2:$D$12,2,FALSE)","v":5}]
[2355,32,{"$f":"VLOOKUP(B2357,'Ark1'!C$2:D$11,2,FALSE)","v":2},2355,125,{"$f":"VLOOKUP(E2357,'Ark1'!$C$2:$D$11,2,FALSE)","v":5},2355,200,{"$f":"VLOOKUP(H2357,'Ark1'!$C$2:$D$12,2,FALSE)","v":5}]
[2356,32,{"$f":"VLOOKUP(B2358,'Ark1'!C$2:D$11,2,FALSE)","v":2},2356,125,{"$f":"VLOOKUP(E2358,'Ark1'!$C$2:$D$11,2,FALSE)","v":5},2356,200,{"$f":"VLOOKUP(H2358,'Ark1'!$C$2:$D$12,2,FALSE)","v":5}]
[2357,32,{"$f":"VLOOKUP(B2359,'Ark1'!C$2:D$11,2,FALSE)","v":2},2357,125,{"$f":"VLOOKUP(E2359,'Ark1'!$C$2:$D$11,2,FALSE)","v":5},2357,200,{"$f":"VLOOKUP(H2359,'Ark1'!$C$2:$D$12,2,FALSE)","v":5}]
[2358,32,{"$f":"VLOOKUP(B2360,'Ark1'!C$2:D$11,2,FALSE)","v":2},2358,125,{"$f":"VLOOKUP(E2360,'Ark1'!$C$2:$D$11,2,FALSE)","v":5},2358,200,{"$f":"VLOOKUP(H2360,'Ark1'!$C$2:$D$12,2,FALSE)","v":5}]
[2359,32,{"$f":"VLOOKUP(B2361,'Ark1'!C$2:D$11,2,FALSE)","v":2},2359,125,{"$f":"VLOOKUP(E2361,'Ark1'!$C$2:$D$11,2,FALSE)","v":5},2359,200,{"$f":"VLOOKUP(H2361,'Ark1'!$C$2:$D$12,2,FALSE)","v":5}]
[2360,32,{"$f":"VLOOKUP(B2362,'Ark1'!C$2:D$11,2,FALSE)","v":2},2360,125,{"$f":"VLOOKUP(E2362,'Ark1'!$C$2:$D$11,2,FALSE)","v":5},2360,200,{"$f":"VLOOKUP(H2362,'Ark1'!$C$2:$D$12,2,FALSE)","v":5}]
[2361,32,{"$f":"VLOOKUP(B2363,'Ark1'!C$2:D$11,2,FALSE)","v":2},2361,125,{"$f":"VLOOKUP(E2363,'Ark1'!$C$2:$D$11,2,FALSE)","v":5},2361,200,{"$f":"VLOOKUP(H2363,'Ark1'!$C$2:$D$12,2,FALSE)","v":5}]
[2362,32,{"$f":"VLOOKUP(B2364,'Ark1'!C$2:D$11,2,FALSE)","v":2},2362,125,{"$f":"VLOOKUP(E2364,'Ark1'!$C$2:$D$11,2,FALSE)","v":5},2362,200,{"$f":"VLOOKUP(H2364,'Ark1'!$C$2:$D$12,2,FALSE)","v":5}]
[2363,32,{"$f":"VLOOKUP(B2365,'Ark1'!C$2:D$11,2,FALSE)","v":2},2363,125,{"$f":"VLOOKUP(E2365,'Ark1'!$C$2:$D$11,2,FALSE)","v":5},2363,200,{"$f":"VLOOKUP(H2365,'Ark1'!$C$2:$D$12,2,FALSE)","v":5}]
[2364,32,{"$f":"VLOOKUP(B2366,'Ark1'!C$2:D$11,2,FALSE)","v":2},2364,125,{"$f":"VLOOKUP(E2366,'Ark1'!$C$2:$D$11,2,FALSE)","v":5},2364,200,{"$f":"VLOOKUP(H2366,'Ark1'!$C$2:$D$12,2,FALSE)","v":5}]
[2365,32,{"$f":"VLOOKUP(B2367,'Ark1'!C$2:D$11,2,FALSE)","v":2},2365,125,{"$f":"VLOOKUP(E2367,'Ark1'!$C$2:$D$11,2,FALSE)","v":5},2365,200,{"$f":"VLOOKUP(H2367,'Ark1'!$C$2:$D$12,2,FALSE)","v":5}]
[2366,32,{"$f":"VLOOKUP(B2368,'Ark1'!C$2:D$11,2,FALSE)","v":2},2366,125,{"$f":"VLOOKUP(E2368,'Ark1'!$C$2:$D$11,2,FALSE)","v":5},2366,200,{"$f":"VLOOKUP(H2368,'Ark1'!$C$2:$D$12,2,FALSE)","v":5}]
[2367,32,{"$f":"VLOOKUP(B2369,'Ark1'!C$2:D$11,2,FALSE)","v":2},2367,125,{"$f":"VLOOKUP(E2369,'Ark1'!$C$2:$D$11,2,FALSE)","v":5},2367,200,{"$f":"VLOOKUP(H2369,'Ark1'!$C$2:$D$12,2,FALSE)","v":5}]
[2368,32,{"$f":"VLOOKUP(B2370,'Ark1'!C$2:D$11,2,FALSE)","v":2},2368,125,{"$f":"VLOOKUP(E2370,'Ark1'!$C$2:$D$11,2,FALSE)","v":5},2368,200,{"$f":"VLOOKUP(H2370,'Ark1'!$C$2:$D$12,2,FALSE)","v":5}]
[2369,32,{"$f":"VLOOKUP(B2371,'Ark1'!C$2:D$11,2,FALSE)","v":2},2369,125,{"$f":"VLOOKUP(E2371,'Ark1'!$C$2:$D$11,2,FALSE)","v":5},2369,200,{"$f":"VLOOKUP(H2371,'Ark1'!$C$2:$D$12,2,FALSE)","v":5}]
[2370,32,{"$f":"VLOOKUP(B2372,'Ark1'!C$2:D$11,2,FALSE)","v":2},2370,125,{"$f":"VLOOKUP(E2372,'Ark1'!$C$2:$D$11,2,FALSE)","v":5},2370,200,{"$f":"VLOOKUP(H2372,'Ark1'!$C$2:$D$12,2,FALSE)","v":5}]
[2371,32,{"$f":"VLOOKUP(B2373,'Ark1'!C$2:D$11,2,FALSE)","v":2},2371,125,{"$f":"VLOOKUP(E2373,'Ark1'!$C$2:$D$11,2,FALSE)","v":5},2371,200,{"$f":"VLOOKUP(H2373,'Ark1'!$C$2:$D$12,2,FALSE)","v":5}]
[2372,32,{"$f":"VLOOKUP(B2374,'Ark1'!C$2:D$11,2,FALSE)","v":2},2372,125,{"$f":"VLOOKUP(E2374,'Ark1'!$C$2:$D$11,2,FALSE)","v":5},2372,200,{"$f":"VLOOKUP(H2374,'Ark1'!$C$2:$D$12,2,FALSE)","v":5}]
[2373,32,{"$f":"VLOOKUP(B2375,'Ark1'!C$2:D$11,2,FALSE)","v":2},2373,125,{"$f":"VLOOKUP(E2375,'Ark1'!$C$2:$D$11,2,FALSE)","v":5},2373,200,{"$f":"VLOOKUP(H2375,'Ark1'!$C$2:$D$12,2,FALSE)","v":5}]
[2374,32,{"$f":"VLOOKUP(B2376,'Ark1'!C$2:D$11,2,FALSE)","v":2},2374,125,{"$f":"VLOOKUP(E2376,'Ark1'!$C$2:$D$11,2,FALSE)","v":5},2374,200,{"$f":"VLOOKUP(H2376,'Ark1'!$C$2:$D$12,2,FALSE)","v":5}]
[2375,32,{"$f":"VLOOKUP(B2377,'Ark1'!C$2:D$11,2,FALSE)","v":2},2375,125,{"$f":"VLOOKUP(E2377,'Ark1'!$C$2:$D$11,2,FALSE)","v":5},2375,200,{"$f":"VLOOKUP(H2377,'Ark1'!$C$2:$D$12,2,FALSE)","v":5}]
[2376,32,{"$f":"VLOOKUP(B2378,'Ark1'!C$2:D$11,2,FALSE)","v":2},2376,125,{"$f":"VLOOKUP(E2378,'Ark1'!$C$2:$D$11,2,FALSE)","v":5},2376,200,{"$f":"VLOOKUP(H2378,'Ark1'!$C$2:$D$12,2,FALSE)","v":5}]
[2377,32,{"$f":"VLOOKUP(B2379,'Ark1'!C$2:D$11,2,FALSE)","v":2},2377,125,{"$f":"VLOOKUP(E2379,'Ark1'!$C$2:$D$11,2,FALSE)","v":5},2377,200,{"$f":"VLOOKUP(H2379,'Ark1'!$C$2:$D$12,2,FALSE)","v":5}]
[2378,32,{"$f":"VLOOKUP(B2380,'Ark1'!C$2:D$11,2,FALSE)","v":2},2378,125,{"$f":"VLOOKUP(E2380,'Ark1'!$C$2:$D$11,2,FALSE)","v":5},2378,200,{"$f":"VLOOKUP(H2380,'Ark1'!$C$2:$D$12,2,FALSE)","v":5}]
[2379,32,{"$f":"VLOOKUP(B2381,'Ark1'!C$2:D$11,2,FALSE)","v":2},2379,125,{"$f":"VLOOKUP(E2381,'Ark1'!$C$2:$D$11,2,FALSE)","v":5},2379,200,{"$f":"VLOOKUP(H2381,'Ark1'!$C$2:$D$12,2,FALSE)","v":5}]
[2380,32,{"$f":"VLOOKUP(B2382,'Ark1'!C$2:D$11,2,FALSE)","v":2},2380,125,{"$f":"VLOOKUP(E2382,'Ark1'!$C$2:$D$11,2,FALSE)","v":5},2380,200,{"$f":"VLOOKUP(H2382,'Ark1'!$C$2:$D$12,2,FALSE)","v":5}]
[2381,32,{"$f":"VLOOKUP(B2383,'Ark1'!C$2:D$11,2,FALSE)","v":2},2381,125,{"$f":"VLOOKUP(E2383,'Ark1'!$C$2:$D$11,2,FALSE)","v":5},2381,200,{"$f":"VLOOKUP(H2383,'Ark1'!$C$2:$D$12,2,FALSE)","v":5}]
[2382,32,{"$f":"VLOOKUP(B2384,'Ark1'!C$2:D$11,2,FALSE)","v":2},2382,125,{"$f":"VLOOKUP(E2384,'Ark1'!$C$2:$D$11,2,FALSE)","v":5},2382,200,{"$f":"VLOOKUP(H2384,'Ark1'!$C$2:$D$12,2,FALSE)","v":5}]
[2383,32,{"$f":"VLOOKUP(B2385,'Ark1'!C$2:D$11,2,FALSE)","v":2},2383,125,{"$f":"VLOOKUP(E2385,'Ark1'!$C$2:$D$11,2,FALSE)","v":5},2383,200,{"$f":"VLOOKUP(H2385,'Ark1'!$C$2:$D$12,2,FALSE)","v":5}]
[2384,32,{"$f":"VLOOKUP(B2386,'Ark1'!C$2:D$11,2,FALSE)","v":2},2384,125,{"$f":"VLOOKUP(E2386,'Ark1'!$C$2:$D$11,2,FALSE)","v":5},2384,200,{"$f":"VLOOKUP(H2386,'Ark1'!$C$2:$D$12,2,FALSE)","v":5}]
[2385,32,{"$f":"VLOOKUP(B2387,'Ark1'!C$2:D$11,2,FALSE)","v":2},2385,125,{"$f":"VLOOKUP(E2387,'Ark1'!$C$2:$D$11,2,FALSE)","v":5},2385,200,{"$f":"VLOOKUP(H2387,'Ark1'!$C$2:$D$12,2,FALSE)","v":5}]
[2386,32,{"$f":"VLOOKUP(B2388,'Ark1'!C$2:D$11,2,FALSE)","v":2},2386,125,{"$f":"VLOOKUP(E2388,'Ark1'!$C$2:$D$11,2,FALSE)","v":5},2386,200,{"$f":"VLOOKUP(H2388,'Ark1'!$C$2:$D$12,2,FALSE)","v":5}]
[2387,32,{"$f":"VLOOKUP(B2389,'Ark1'!C$2:D$11,2,FALSE)","v":2},2387,125,{"$f":"VLOOKUP(E2389,'Ark1'!$C$2:$D$11,2,FALSE)","v":5},2387,200,{"$f":"VLOOKUP(H2389,'Ark1'!$C$2:$D$12,2,FALSE)","v":5}]
[2388,32,{"$f":"VLOOKUP(B2390,'Ark1'!C$2:D$11,2,FALSE)","v":2},2388,125,{"$f":"VLOOKUP(E2390,'Ark1'!$C$2:$D$11,2,FALSE)","v":5},2388,200,{"$f":"VLOOKUP(H2390,'Ark1'!$C$2:$D$12,2,FALSE)","v":5}]
[2389,32,{"$f":"VLOOKUP(B2391,'Ark1'!C$2:D$11,2,FALSE)","v":2},2389,125,{"$f":"VLOOKUP(E2391,'Ark1'!$C$2:$D$11,2,FALSE)","v":5},2389,200,{"$f":"VLOOKUP(H2391,'Ark1'!$C$2:$D$12,2,FALSE)","v":5}]
[2390,32,{"$f":"VLOOKUP(B2392,'Ark1'!C$2:D$11,2,FALSE)","v":2},2390,125,{"$f":"VLOOKUP(E2392,'Ark1'!$C$2:$D$11,2,FALSE)","v":5},2390,200,{"$f":"VLOOKUP(H2392,'Ark1'!$C$2:$D$12,2,FALSE)","v":5}]
[2391,32,{"$f":"VLOOKUP(B2393,'Ark1'!C$2:D$11,2,FALSE)","v":2},2391,125,{"$f":"VLOOKUP(E2393,'Ark1'!$C$2:$D$11,2,FALSE)","v":5},2391,200,{"$f":"VLOOKUP(H2393,'Ark1'!$C$2:$D$12,2,FALSE)","v":5}]
[2392,32,{"$f":"VLOOKUP(B2394,'Ark1'!C$2:D$11,2,FALSE)","v":2},2392,125,{"$f":"VLOOKUP(E2394,'Ark1'!$C$2:$D$11,2,FALSE)","v":5},2392,200,{"$f":"VLOOKUP(H2394,'Ark1'!$C$2:$D$12,2,FALSE)","v":5}]
[2393,32,{"$f":"VLOOKUP(B2395,'Ark1'!C$2:D$11,2,FALSE)","v":2},2393,125,{"$f":"VLOOKUP(E2395,'Ark1'!$C$2:$D$11,2,FALSE)","v":5},2393,200,{"$f":"VLOOKUP(H2395,'Ark1'!$C$2:$D$12,2,FALSE)","v":5}]
[2394,32,{"$f":"VLOOKUP(B2396,'Ark1'!C$2:D$11,2,FALSE)","v":2},2394,125,{"$f":"VLOOKUP(E2396,'Ark1'!$C$2:$D$11,2,FALSE)","v":5},2394,200,{"$f":"VLOOKUP(H2396,'Ark1'!$C$2:$D$12,2,FALSE)","v":5}]
[2395,32,{"$f":"VLOOKUP(B2397,'Ark1'!C$2:D$11,2,FALSE)","v":2},2395,125,{"$f":"VLOOKUP(E2397,'Ark1'!$C$2:$D$11,2,FALSE)","v":5},2395,200,{"$f":"VLOOKUP(H2397,'Ark1'!$C$2:$D$12,2,FALSE)","v":5}]
[2396,32,{"$f":"VLOOKUP(B2398,'Ark1'!C$2:D$11,2,FALSE)","v":2},2396,125,{"$f":"VLOOKUP(E2398,'Ark1'!$C$2:$D$11,2,FALSE)","v":5},2396,200,{"$f":"VLOOKUP(H2398,'Ark1'!$C$2:$D$12,2,FALSE)","v":5}]
[2397,32,{"$f":"VLOOKUP(B2399,'Ark1'!C$2:D$11,2,FALSE)","v":2},2397,125,{"$f":"VLOOKUP(E2399,'Ark1'!$C$2:$D$11,2,FALSE)","v":5},2397,200,{"$f":"VLOOKUP(H2399,'Ark1'!$C$2:$D$12,2,FALSE)","v":5}]
[2398,32,{"$f":"VLOOKUP(B2400,'Ark1'!C$2:D$11,2,FALSE)","v":2},2398,125,{"$f":"VLOOKUP(E2400,'Ark1'!$C$2:$D$11,2,FALSE)","v":5},2398,200,{"$f":"VLOOKUP(H2400,'Ark1'!$C$2:$D$12,2,FALSE)","v":5}]
[2399,32,{"$f":"VLOOKUP(B2401,'Ark1'!C$2:D$11,2,FALSE)","v":2},2399,125,{"$f":"VLOOKUP(E2401,'Ark1'!$C$2:$D$11,2,FALSE)","v":5},2399,200,{"$f":"VLOOKUP(H2401,'Ark1'!$C$2:$D$12,2,FALSE)","v":5}]
[2400,32,{"$f":"VLOOKUP(B2402,'Ark1'!C$2:D$11,2,FALSE)","v":2},2400,125,{"$f":"VLOOKUP(E2402,'Ark1'!$C$2:$D$11,2,FALSE)","v":5},2400,200,{"$f":"VLOOKUP(H2402,'Ark1'!$C$2:$D$12,2,FALSE)","v":5}]
[2401,32,{"$f":"VLOOKUP(B2403,'Ark1'!C$2:D$11,2,FALSE)","v":2},2401,125,{"$f":"VLOOKUP(E2403,'Ark1'!$C$2:$D$11,2,FALSE)","v":5},2401,200,{"$f":"VLOOKUP(H2403,'Ark1'!$C$2:$D$12,2,FALSE)","v":5}]
[2402,32,{"$f":"VLOOKUP(B2404,'Ark1'!C$2:D$11,2,FALSE)","v":2},2402,125,{"$f":"VLOOKUP(E2404,'Ark1'!$C$2:$D$11,2,FALSE)","v":5},2402,200,{"$f":"VLOOKUP(H2404,'Ark1'!$C$2:$D$12,2,FALSE)","v":5}]
[2403,32,{"$f":"VLOOKUP(B2405,'Ark1'!C$2:D$11,2,FALSE)","v":2},2403,125,{"$f":"VLOOKUP(E2405,'Ark1'!$C$2:$D$11,2,FALSE)","v":5},2403,200,{"$f":"VLOOKUP(H2405,'Ark1'!$C$2:$D$12,2,FALSE)","v":5}]
[2404,32,{"$f":"VLOOKUP(B2406,'Ark1'!C$2:D$11,2,FALSE)","v":2},2404,125,{"$f":"VLOOKUP(E2406,'Ark1'!$C$2:$D$11,2,FALSE)","v":5},2404,200,{"$f":"VLOOKUP(H2406,'Ark1'!$C$2:$D$12,2,FALSE)","v":5}]
[2405,32,{"$f":"VLOOKUP(B2407,'Ark1'!C$2:D$11,2,FALSE)","v":2},2405,125,{"$f":"VLOOKUP(E2407,'Ark1'!$C$2:$D$11,2,FALSE)","v":5},2405,200,{"$f":"VLOOKUP(H2407,'Ark1'!$C$2:$D$12,2,FALSE)","v":5}]
[2406,32,{"$f":"VLOOKUP(B2408,'Ark1'!C$2:D$11,2,FALSE)","v":2},2406,125,{"$f":"VLOOKUP(E2408,'Ark1'!$C$2:$D$11,2,FALSE)","v":5},2406,200,{"$f":"VLOOKUP(H2408,'Ark1'!$C$2:$D$12,2,FALSE)","v":5}]
[2407,32,{"$f":"VLOOKUP(B2409,'Ark1'!C$2:D$11,2,FALSE)","v":2},2407,125,{"$f":"VLOOKUP(E2409,'Ark1'!$C$2:$D$11,2,FALSE)","v":5},2407,200,{"$f":"VLOOKUP(H2409,'Ark1'!$C$2:$D$12,2,FALSE)","v":5}]
[2408,32,{"$f":"VLOOKUP(B2410,'Ark1'!C$2:D$11,2,FALSE)","v":2},2408,125,{"$f":"VLOOKUP(E2410,'Ark1'!$C$2:$D$11,2,FALSE)","v":5},2408,200,{"$f":"VLOOKUP(H2410,'Ark1'!$C$2:$D$12,2,FALSE)","v":5}]
[2409,32,{"$f":"VLOOKUP(B2411,'Ark1'!C$2:D$11,2,FALSE)","v":2},2409,125,{"$f":"VLOOKUP(E2411,'Ark1'!$C$2:$D$11,2,FALSE)","v":5},2409,200,{"$f":"VLOOKUP(H2411,'Ark1'!$C$2:$D$12,2,FALSE)","v":5}]
[2410,32,{"$f":"VLOOKUP(B2412,'Ark1'!C$2:D$11,2,FALSE)","v":2},2410,125,{"$f":"VLOOKUP(E2412,'Ark1'!$C$2:$D$11,2,FALSE)","v":5},2410,200,{"$f":"VLOOKUP(H2412,'Ark1'!$C$2:$D$12,2,FALSE)","v":5}]
[2411,32,{"$f":"VLOOKUP(B2413,'Ark1'!C$2:D$11,2,FALSE)","v":2},2411,125,{"$f":"VLOOKUP(E2413,'Ark1'!$C$2:$D$11,2,FALSE)","v":5},2411,200,{"$f":"VLOOKUP(H2413,'Ark1'!$C$2:$D$12,2,FALSE)","v":5}]
[2412,32,{"$f":"VLOOKUP(B2414,'Ark1'!C$2:D$11,2,FALSE)","v":2},2412,125,{"$f":"VLOOKUP(E2414,'Ark1'!$C$2:$D$11,2,FALSE)","v":5},2412,200,{"$f":"VLOOKUP(H2414,'Ark1'!$C$2:$D$12,2,FALSE)","v":5}]
[2413,32,{"$f":"VLOOKUP(B2415,'Ark1'!C$2:D$11,2,FALSE)","v":2},2413,125,{"$f":"VLOOKUP(E2415,'Ark1'!$C$2:$D$11,2,FALSE)","v":5},2413,200,{"$f":"VLOOKUP(H2415,'Ark1'!$C$2:$D$12,2,FALSE)","v":5}]
[2414,32,{"$f":"VLOOKUP(B2416,'Ark1'!C$2:D$11,2,FALSE)","v":2},2414,125,{"$f":"VLOOKUP(E2416,'Ark1'!$C$2:$D$11,2,FALSE)","v":5},2414,200,{"$f":"VLOOKUP(H2416,'Ark1'!$C$2:$D$12,2,FALSE)","v":5}]
[2415,32,{"$f":"VLOOKUP(B2417,'Ark1'!C$2:D$11,2,FALSE)","v":2},2415,125,{"$f":"VLOOKUP(E2417,'Ark1'!$C$2:$D$11,2,FALSE)","v":5},2415,200,{"$f":"VLOOKUP(H2417,'Ark1'!$C$2:$D$12,2,FALSE)","v":5}]
[2416,32,{"$f":"VLOOKUP(B2418,'Ark1'!C$2:D$11,2,FALSE)","v":2},2416,125,{"$f":"VLOOKUP(E2418,'Ark1'!$C$2:$D$11,2,FALSE)","v":5},2416,200,{"$f":"VLOOKUP(H2418,'Ark1'!$C$2:$D$12,2,FALSE)","v":5}]
[2417,32,{"$f":"VLOOKUP(B2419,'Ark1'!C$2:D$11,2,FALSE)","v":2},2417,125,{"$f":"VLOOKUP(E2419,'Ark1'!$C$2:$D$11,2,FALSE)","v":5},2417,200,{"$f":"VLOOKUP(H2419,'Ark1'!$C$2:$D$12,2,FALSE)","v":5}]
[2418,32,{"$f":"VLOOKUP(B2420,'Ark1'!C$2:D$11,2,FALSE)","v":2},2418,125,{"$f":"VLOOKUP(E2420,'Ark1'!$C$2:$D$11,2,FALSE)","v":5},2418,200,{"$f":"VLOOKUP(H2420,'Ark1'!$C$2:$D$12,2,FALSE)","v":5}]
[2419,32,{"$f":"VLOOKUP(B2421,'Ark1'!C$2:D$11,2,FALSE)","v":2},2419,125,{"$f":"VLOOKUP(E2421,'Ark1'!$C$2:$D$11,2,FALSE)","v":5},2419,200,{"$f":"VLOOKUP(H2421,'Ark1'!$C$2:$D$12,2,FALSE)","v":5}]
[2420,32,{"$f":"VLOOKUP(B2422,'Ark1'!C$2:D$11,2,FALSE)","v":2},2420,125,{"$f":"VLOOKUP(E2422,'Ark1'!$C$2:$D$11,2,FALSE)","v":5},2420,200,{"$f":"VLOOKUP(H2422,'Ark1'!$C$2:$D$12,2,FALSE)","v":5}]
[2421,32,{"$f":"VLOOKUP(B2423,'Ark1'!C$2:D$11,2,FALSE)","v":2},2421,125,{"$f":"VLOOKUP(E2423,'Ark1'!$C$2:$D$11,2,FALSE)","v":5},2421,200,{"$f":"VLOOKUP(H2423,'Ark1'!$C$2:$D$12,2,FALSE)","v":5}]
[2422,32,{"$f":"VLOOKUP(B2424,'Ark1'!C$2:D$11,2,FALSE)","v":2},2422,125,{"$f":"VLOOKUP(E2424,'Ark1'!$C$2:$D$11,2,FALSE)","v":5},2422,200,{"$f":"VLOOKUP(H2424,'Ark1'!$C$2:$D$12,2,FALSE)","v":5}]
[2423,32,{"$f":"VLOOKUP(B2425,'Ark1'!C$2:D$11,2,FALSE)","v":2},2423,125,{"$f":"VLOOKUP(E2425,'Ark1'!$C$2:$D$11,2,FALSE)","v":5},2423,200,{"$f":"VLOOKUP(H2425,'Ark1'!$C$2:$D$12,2,FALSE)","v":5}]
[2424,32,{"$f":"VLOOKUP(B2426,'Ark1'!C$2:D$11,2,FALSE)","v":2},2424,125,{"$f":"VLOOKUP(E2426,'Ark1'!$C$2:$D$11,2,FALSE)","v":5},2424,200,{"$f":"VLOOKUP(H2426,'Ark1'!$C$2:$D$12,2,FALSE)","v":5}]
[2425,32,{"$f":"VLOOKUP(B2427,'Ark1'!C$2:D$11,2,FALSE)","v":2},2425,125,{"$f":"VLOOKUP(E2427,'Ark1'!$C$2:$D$11,2,FALSE)","v":5},2425,200,{"$f":"VLOOKUP(H2427,'Ark1'!$C$2:$D$12,2,FALSE)","v":5}]
[2426,32,{"$f":"VLOOKUP(B2428,'Ark1'!C$2:D$11,2,FALSE)","v":2},2426,125,{"$f":"VLOOKUP(E2428,'Ark1'!$C$2:$D$11,2,FALSE)","v":5},2426,200,{"$f":"VLOOKUP(H2428,'Ark1'!$C$2:$D$12,2,FALSE)","v":5}]
[2427,32,{"$f":"VLOOKUP(B2429,'Ark1'!C$2:D$11,2,FALSE)","v":2},2427,125,{"$f":"VLOOKUP(E2429,'Ark1'!$C$2:$D$11,2,FALSE)","v":5},2427,200,{"$f":"VLOOKUP(H2429,'Ark1'!$C$2:$D$12,2,FALSE)","v":5}]
[2428,32,{"$f":"VLOOKUP(B2430,'Ark1'!C$2:D$11,2,FALSE)","v":2},2428,125,{"$f":"VLOOKUP(E2430,'Ark1'!$C$2:$D$11,2,FALSE)","v":5},2428,200,{"$f":"VLOOKUP(H2430,'Ark1'!$C$2:$D$12,2,FALSE)","v":5}]
[2429,32,{"$f":"VLOOKUP(B2431,'Ark1'!C$2:D$11,2,FALSE)","v":2},2429,125,{"$f":"VLOOKUP(E2431,'Ark1'!$C$2:$D$11,2,FALSE)","v":5},2429,200,{"$f":"VLOOKUP(H2431,'Ark1'!$C$2:$D$12,2,FALSE)","v":5}]
[2430,32,{"$f":"VLOOKUP(B2432,'Ark1'!C$2:D$11,2,FALSE)","v":2},2430,125,{"$f":"VLOOKUP(E2432,'Ark1'!$C$2:$D$11,2,FALSE)","v":5},2430,200,{"$f":"VLOOKUP(H2432,'Ark1'!$C$2:$D$12,2,FALSE)","v":5}]
[2431,32,{"$f":"VLOOKUP(B2433,'Ark1'!C$2:D$11,2,FALSE)","v":2},2431,125,{"$f":"VLOOKUP(E2433,'Ark1'!$C$2:$D$11,2,FALSE)","v":5},2431,200,{"$f":"VLOOKUP(H2433,'Ark1'!$C$2:$D$12,2,FALSE)","v":5}]
[2432,32,{"$f":"VLOOKUP(B2434,'Ark1'!C$2:D$11,2,FALSE)","v":2},2432,125,{"$f":"VLOOKUP(E2434,'Ark1'!$C$2:$D$11,2,FALSE)","v":5},2432,200,{"$f":"VLOOKUP(H2434,'Ark1'!$C$2:$D$12,2,FALSE)","v":5}]
[2433,32,{"$f":"VLOOKUP(B2435,'Ark1'!C$2:D$11,2,FALSE)","v":2},2433,125,{"$f":"VLOOKUP(E2435,'Ark1'!$C$2:$D$11,2,FALSE)","v":5},2433,200,{"$f":"VLOOKUP(H2435,'Ark1'!$C$2:$D$12,2,FALSE)","v":5}]
[2434,32,{"$f":"VLOOKUP(B2436,'Ark1'!C$2:D$11,2,FALSE)","v":2},2434,125,{"$f":"VLOOKUP(E2436,'Ark1'!$C$2:$D$11,2,FALSE)","v":5},2434,200,{"$f":"VLOOKUP(H2436,'Ark1'!$C$2:$D$12,2,FALSE)","v":5}]
[2435,32,{"$f":"VLOOKUP(B2437,'Ark1'!C$2:D$11,2,FALSE)","v":2},2435,125,{"$f":"VLOOKUP(E2437,'Ark1'!$C$2:$D$11,2,FALSE)","v":5},2435,200,{"$f":"VLOOKUP(H2437,'Ark1'!$C$2:$D$12,2,FALSE)","v":5}]
[2436,32,{"$f":"VLOOKUP(B2438,'Ark1'!C$2:D$11,2,FALSE)","v":2},2436,125,{"$f":"VLOOKUP(E2438,'Ark1'!$C$2:$D$11,2,FALSE)","v":5},2436,200,{"$f":"VLOOKUP(H2438,'Ark1'!$C$2:$D$12,2,FALSE)","v":5}]
[2437,32,{"$f":"VLOOKUP(B2439,'Ark1'!C$2:D$11,2,FALSE)","v":2},2437,125,{"$f":"VLOOKUP(E2439,'Ark1'!$C$2:$D$11,2,FALSE)","v":5},2437,200,{"$f":"VLOOKUP(H2439,'Ark1'!$C$2:$D$12,2,FALSE)","v":5}]
[2438,32,{"$f":"VLOOKUP(B2440,'Ark1'!C$2:D$11,2,FALSE)","v":2},2438,125,{"$f":"VLOOKUP(E2440,'Ark1'!$C$2:$D$11,2,FALSE)","v":5},2438,200,{"$f":"VLOOKUP(H2440,'Ark1'!$C$2:$D$12,2,FALSE)","v":5}]
[2439,32,{"$f":"VLOOKUP(B2441,'Ark1'!C$2:D$11,2,FALSE)","v":2},2439,125,{"$f":"VLOOKUP(E2441,'Ark1'!$C$2:$D$11,2,FALSE)","v":5},2439,200,{"$f":"VLOOKUP(H2441,'Ark1'!$C$2:$D$12,2,FALSE)","v":5}]
[2440,32,{"$f":"VLOOKUP(B2442,'Ark1'!C$2:D$11,2,FALSE)","v":2},2440,125,{"$f":"VLOOKUP(E2442,'Ark1'!$C$2:$D$11,2,FALSE)","v":5},2440,200,{"$f":"VLOOKUP(H2442,'Ark1'!$C$2:$D$12,2,FALSE)","v":5}]
[2441,32,{"$f":"VLOOKUP(B2443,'Ark1'!C$2:D$11,2,FALSE)","v":2},2441,125,{"$f":"VLOOKUP(E2443,'Ark1'!$C$2:$D$11,2,FALSE)","v":5},2441,200,{"$f":"VLOOKUP(H2443,'Ark1'!$C$2:$D$12,2,FALSE)","v":5}]
[2442,32,{"$f":"VLOOKUP(B2444,'Ark1'!C$2:D$11,2,FALSE)","v":2},2442,125,{"$f":"VLOOKUP(E2444,'Ark1'!$C$2:$D$11,2,FALSE)","v":5},2442,200,{"$f":"VLOOKUP(H2444,'Ark1'!$C$2:$D$12,2,FALSE)","v":5}]
[2443,32,{"$f":"VLOOKUP(B2445,'Ark1'!C$2:D$11,2,FALSE)","v":2},2443,125,{"$f":"VLOOKUP(E2445,'Ark1'!$C$2:$D$11,2,FALSE)","v":5},2443,200,{"$f":"VLOOKUP(H2445,'Ark1'!$C$2:$D$12,2,FALSE)","v":5}]
[2444,32,{"$f":"VLOOKUP(B2446,'Ark1'!C$2:D$11,2,FALSE)","v":2},2444,125,{"$f":"VLOOKUP(E2446,'Ark1'!$C$2:$D$11,2,FALSE)","v":5},2444,200,{"$f":"VLOOKUP(H2446,'Ark1'!$C$2:$D$12,2,FALSE)","v":5}]
[2445,32,{"$f":"VLOOKUP(B2447,'Ark1'!C$2:D$11,2,FALSE)","v":2},2445,125,{"$f":"VLOOKUP(E2447,'Ark1'!$C$2:$D$11,2,FALSE)","v":5},2445,200,{"$f":"VLOOKUP(H2447,'Ark1'!$C$2:$D$12,2,FALSE)","v":5}]
[2446,32,{"$f":"VLOOKUP(B2448,'Ark1'!C$2:D$11,2,FALSE)","v":2},2446,125,{"$f":"VLOOKUP(E2448,'Ark1'!$C$2:$D$11,2,FALSE)","v":5},2446,200,{"$f":"VLOOKUP(H2448,'Ark1'!$C$2:$D$12,2,FALSE)","v":5}]
[2447,32,{"$f":"VLOOKUP(B2449,'Ark1'!C$2:D$11,2,FALSE)","v":2},2447,125,{"$f":"VLOOKUP(E2449,'Ark1'!$C$2:$D$11,2,FALSE)","v":5},2447,200,{"$f":"VLOOKUP(H2449,'Ark1'!$C$2:$D$12,2,FALSE)","v":5}]
[2448,32,{"$f":"VLOOKUP(B2450,'Ark1'!C$2:D$11,2,FALSE)","v":2},2448,125,{"$f":"VLOOKUP(E2450,'Ark1'!$C$2:$D$11,2,FALSE)","v":5},2448,200,{"$f":"VLOOKUP(H2450,'Ark1'!$C$2:$D$12,2,FALSE)","v":5}]
[2449,32,{"$f":"VLOOKUP(B2451,'Ark1'!C$2:D$11,2,FALSE)","v":2},2449,125,{"$f":"VLOOKUP(E2451,'Ark1'!$C$2:$D$11,2,FALSE)","v":5},2449,200,{"$f":"VLOOKUP(H2451,'Ark1'!$C$2:$D$12,2,FALSE)","v":5}]
[2450,32,{"$f":"VLOOKUP(B2452,'Ark1'!C$2:D$11,2,FALSE)","v":2},2450,125,{"$f":"VLOOKUP(E2452,'Ark1'!$C$2:$D$11,2,FALSE)","v":5},2450,200,{"$f":"VLOOKUP(H2452,'Ark1'!$C$2:$D$12,2,FALSE)","v":5}]
[2451,32,{"$f":"VLOOKUP(B2453,'Ark1'!C$2:D$11,2,FALSE)","v":2},2451,125,{"$f":"VLOOKUP(E2453,'Ark1'!$C$2:$D$11,2,FALSE)","v":5},2451,200,{"$f":"VLOOKUP(H2453,'Ark1'!$C$2:$D$12,2,FALSE)","v":5}]
[2452,32,{"$f":"VLOOKUP(B2454,'Ark1'!C$2:D$11,2,FALSE)","v":2},2452,125,{"$f":"VLOOKUP(E2454,'Ark1'!$C$2:$D$11,2,FALSE)","v":5},2452,200,{"$f":"VLOOKUP(H2454,'Ark1'!$C$2:$D$12,2,FALSE)","v":5}]
[2453,32,{"$f":"VLOOKUP(B2455,'Ark1'!C$2:D$11,2,FALSE)","v":2},2453,125,{"$f":"VLOOKUP(E2455,'Ark1'!$C$2:$D$11,2,FALSE)","v":5},2453,200,{"$f":"VLOOKUP(H2455,'Ark1'!$C$2:$D$12,2,FALSE)","v":5}]
[2454,32,{"$f":"VLOOKUP(B2456,'Ark1'!C$2:D$11,2,FALSE)","v":2},2454,125,{"$f":"VLOOKUP(E2456,'Ark1'!$C$2:$D$11,2,FALSE)","v":5},2454,200,{"$f":"VLOOKUP(H2456,'Ark1'!$C$2:$D$12,2,FALSE)","v":5}]
[2455,32,{"$f":"VLOOKUP(B2457,'Ark1'!C$2:D$11,2,FALSE)","v":2},2455,125,{"$f":"VLOOKUP(E2457,'Ark1'!$C$2:$D$11,2,FALSE)","v":5},2455,200,{"$f":"VLOOKUP(H2457,'Ark1'!$C$2:$D$12,2,FALSE)","v":5}]
[2456,32,{"$f":"VLOOKUP(B2458,'Ark1'!C$2:D$11,2,FALSE)","v":2},2456,125,{"$f":"VLOOKUP(E2458,'Ark1'!$C$2:$D$11,2,FALSE)","v":5},2456,200,{"$f":"VLOOKUP(H2458,'Ark1'!$C$2:$D$12,2,FALSE)","v":5}]
[2457,32,{"$f":"VLOOKUP(B2459,'Ark1'!C$2:D$11,2,FALSE)","v":2},2457,125,{"$f":"VLOOKUP(E2459,'Ark1'!$C$2:$D$11,2,FALSE)","v":5},2457,200,{"$f":"VLOOKUP(H2459,'Ark1'!$C$2:$D$12,2,FALSE)","v":5}]
[2458,32,{"$f":"VLOOKUP(B2460,'Ark1'!C$2:D$11,2,FALSE)","v":2},2458,125,{"$f":"VLOOKUP(E2460,'Ark1'!$C$2:$D$11,2,FALSE)","v":5},2458,200,{"$f":"VLOOKUP(H2460,'Ark1'!$C$2:$D$12,2,FALSE)","v":5}]
[2459,32,{"$f":"VLOOKUP(B2461,'Ark1'!C$2:D$11,2,FALSE)","v":2},2459,125,{"$f":"VLOOKUP(E2461,'Ark1'!$C$2:$D$11,2,FALSE)","v":5},2459,200,{"$f":"VLOOKUP(H2461,'Ark1'!$C$2:$D$12,2,FALSE)","v":5}]
[2460,32,{"$f":"VLOOKUP(B2462,'Ark1'!C$2:D$11,2,FALSE)","v":2},2460,125,{"$f":"VLOOKUP(E2462,'Ark1'!$C$2:$D$11,2,FALSE)","v":5},2460,200,{"$f":"VLOOKUP(H2462,'Ark1'!$C$2:$D$12,2,FALSE)","v":5}]
[2461,32,{"$f":"VLOOKUP(B2463,'Ark1'!C$2:D$11,2,FALSE)","v":2},2461,125,{"$f":"VLOOKUP(E2463,'Ark1'!$C$2:$D$11,2,FALSE)","v":5},2461,200,{"$f":"VLOOKUP(H2463,'Ark1'!$C$2:$D$12,2,FALSE)","v":5}]
[2462,32,{"$f":"VLOOKUP(B2464,'Ark1'!C$2:D$11,2,FALSE)","v":2},2462,125,{"$f":"VLOOKUP(E2464,'Ark1'!$C$2:$D$11,2,FALSE)","v":5},2462,200,{"$f":"VLOOKUP(H2464,'Ark1'!$C$2:$D$12,2,FALSE)","v":5}]
[2463,32,{"$f":"VLOOKUP(B2465,'Ark1'!C$2:D$11,2,FALSE)","v":2},2463,125,{"$f":"VLOOKUP(E2465,'Ark1'!$C$2:$D$11,2,FALSE)","v":5},2463,200,{"$f":"VLOOKUP(H2465,'Ark1'!$C$2:$D$12,2,FALSE)","v":5}]
[2464,32,{"$f":"VLOOKUP(B2466,'Ark1'!C$2:D$11,2,FALSE)","v":2},2464,125,{"$f":"VLOOKUP(E2466,'Ark1'!$C$2:$D$11,2,FALSE)","v":5},2464,200,{"$f":"VLOOKUP(H2466,'Ark1'!$C$2:$D$12,2,FALSE)","v":5}]
[2465,32,{"$f":"VLOOKUP(B2467,'Ark1'!C$2:D$11,2,FALSE)","v":2},2465,125,{"$f":"VLOOKUP(E2467,'Ark1'!$C$2:$D$11,2,FALSE)","v":5},2465,200,{"$f":"VLOOKUP(H2467,'Ark1'!$C$2:$D$12,2,FALSE)","v":5}]
[2466,32,{"$f":"VLOOKUP(B2468,'Ark1'!C$2:D$11,2,FALSE)","v":2},2466,125,{"$f":"VLOOKUP(E2468,'Ark1'!$C$2:$D$11,2,FALSE)","v":5},2466,200,{"$f":"VLOOKUP(H2468,'Ark1'!$C$2:$D$12,2,FALSE)","v":5}]
[2467,32,{"$f":"VLOOKUP(B2469,'Ark1'!C$2:D$11,2,FALSE)","v":2},2467,125,{"$f":"VLOOKUP(E2469,'Ark1'!$C$2:$D$11,2,FALSE)","v":5},2467,200,{"$f":"VLOOKUP(H2469,'Ark1'!$C$2:$D$12,2,FALSE)","v":5}]
[2468,32,{"$f":"VLOOKUP(B2470,'Ark1'!C$2:D$11,2,FALSE)","v":2},2468,125,{"$f":"VLOOKUP(E2470,'Ark1'!$C$2:$D$11,2,FALSE)","v":5},2468,200,{"$f":"VLOOKUP(H2470,'Ark1'!$C$2:$D$12,2,FALSE)","v":5}]
[2469,32,{"$f":"VLOOKUP(B2471,'Ark1'!C$2:D$11,2,FALSE)","v":2},2469,125,{"$f":"VLOOKUP(E2471,'Ark1'!$C$2:$D$11,2,FALSE)","v":5},2469,200,{"$f":"VLOOKUP(H2471,'Ark1'!$C$2:$D$12,2,FALSE)","v":5}]
[2470,32,{"$f":"VLOOKUP(B2472,'Ark1'!C$2:D$11,2,FALSE)","v":2},2470,125,{"$f":"VLOOKUP(E2472,'Ark1'!$C$2:$D$11,2,FALSE)","v":5},2470,200,{"$f":"VLOOKUP(H2472,'Ark1'!$C$2:$D$12,2,FALSE)","v":5}]
[2471,32,{"$f":"VLOOKUP(B2473,'Ark1'!C$2:D$11,2,FALSE)","v":2},2471,125,{"$f":"VLOOKUP(E2473,'Ark1'!$C$2:$D$11,2,FALSE)","v":5},2471,200,{"$f":"VLOOKUP(H2473,'Ark1'!$C$2:$D$12,2,FALSE)","v":5}]
[2472,32,{"$f":"VLOOKUP(B2474,'Ark1'!C$2:D$11,2,FALSE)","v":2},2472,125,{"$f":"VLOOKUP(E2474,'Ark1'!$C$2:$D$11,2,FALSE)","v":5},2472,200,{"$f":"VLOOKUP(H2474,'Ark1'!$C$2:$D$12,2,FALSE)","v":5}]
[2473,32,{"$f":"VLOOKUP(B2475,'Ark1'!C$2:D$11,2,FALSE)","v":2},2473,125,{"$f":"VLOOKUP(E2475,'Ark1'!$C$2:$D$11,2,FALSE)","v":5},2473,200,{"$f":"VLOOKUP(H2475,'Ark1'!$C$2:$D$12,2,FALSE)","v":5}]
[2474,32,{"$f":"VLOOKUP(B2476,'Ark1'!C$2:D$11,2,FALSE)","v":2},2474,125,{"$f":"VLOOKUP(E2476,'Ark1'!$C$2:$D$11,2,FALSE)","v":5},2474,200,{"$f":"VLOOKUP(H2476,'Ark1'!$C$2:$D$12,2,FALSE)","v":5}]
[2475,32,{"$f":"VLOOKUP(B2477,'Ark1'!C$2:D$11,2,FALSE)","v":2},2475,125,{"$f":"VLOOKUP(E2477,'Ark1'!$C$2:$D$11,2,FALSE)","v":5},2475,200,{"$f":"VLOOKUP(H2477,'Ark1'!$C$2:$D$12,2,FALSE)","v":5}]
[2476,32,{"$f":"VLOOKUP(B2478,'Ark1'!C$2:D$11,2,FALSE)","v":2},2476,125,{"$f":"VLOOKUP(E2478,'Ark1'!$C$2:$D$11,2,FALSE)","v":5},2476,200,{"$f":"VLOOKUP(H2478,'Ark1'!$C$2:$D$12,2,FALSE)","v":5}]
[2477,32,{"$f":"VLOOKUP(B2479,'Ark1'!C$2:D$11,2,FALSE)","v":2},2477,125,{"$f":"VLOOKUP(E2479,'Ark1'!$C$2:$D$11,2,FALSE)","v":5},2477,200,{"$f":"VLOOKUP(H2479,'Ark1'!$C$2:$D$12,2,FALSE)","v":5}]
[2478,32,{"$f":"VLOOKUP(B2480,'Ark1'!C$2:D$11,2,FALSE)","v":2},2478,125,{"$f":"VLOOKUP(E2480,'Ark1'!$C$2:$D$11,2,FALSE)","v":5},2478,200,{"$f":"VLOOKUP(H2480,'Ark1'!$C$2:$D$12,2,FALSE)","v":5}]
[2479,32,{"$f":"VLOOKUP(B2481,'Ark1'!C$2:D$11,2,FALSE)","v":2},2479,125,{"$f":"VLOOKUP(E2481,'Ark1'!$C$2:$D$11,2,FALSE)","v":5},2479,200,{"$f":"VLOOKUP(H2481,'Ark1'!$C$2:$D$12,2,FALSE)","v":5}]
[2480,32,{"$f":"VLOOKUP(B2482,'Ark1'!C$2:D$11,2,FALSE)","v":2},2480,125,{"$f":"VLOOKUP(E2482,'Ark1'!$C$2:$D$11,2,FALSE)","v":5},2480,200,{"$f":"VLOOKUP(H2482,'Ark1'!$C$2:$D$12,2,FALSE)","v":5}]
[2481,32,{"$f":"VLOOKUP(B2483,'Ark1'!C$2:D$11,2,FALSE)","v":2},2481,125,{"$f":"VLOOKUP(E2483,'Ark1'!$C$2:$D$11,2,FALSE)","v":5},2481,200,{"$f":"VLOOKUP(H2483,'Ark1'!$C$2:$D$12,2,FALSE)","v":5}]
[2482,32,{"$f":"VLOOKUP(B2484,'Ark1'!C$2:D$11,2,FALSE)","v":2},2482,125,{"$f":"VLOOKUP(E2484,'Ark1'!$C$2:$D$11,2,FALSE)","v":5},2482,200,{"$f":"VLOOKUP(H2484,'Ark1'!$C$2:$D$12,2,FALSE)","v":5}]
[2483,32,{"$f":"VLOOKUP(B2485,'Ark1'!C$2:D$11,2,FALSE)","v":2},2483,125,{"$f":"VLOOKUP(E2485,'Ark1'!$C$2:$D$11,2,FALSE)","v":5},2483,200,{"$f":"VLOOKUP(H2485,'Ark1'!$C$2:$D$12,2,FALSE)","v":5}]
[2484,32,{"$f":"VLOOKUP(B2486,'Ark1'!C$2:D$11,2,FALSE)","v":2},2484,125,{"$f":"VLOOKUP(E2486,'Ark1'!$C$2:$D$11,2,FALSE)","v":5},2484,200,{"$f":"VLOOKUP(H2486,'Ark1'!$C$2:$D$12,2,FALSE)","v":5}]
[2485,32,{"$f":"VLOOKUP(B2487,'Ark1'!C$2:D$11,2,FALSE)","v":2},2485,125,{"$f":"VLOOKUP(E2487,'Ark1'!$C$2:$D$11,2,FALSE)","v":5},2485,200,{"$f":"VLOOKUP(H2487,'Ark1'!$C$2:$D$12,2,FALSE)","v":5}]
[2486,32,{"$f":"VLOOKUP(B2488,'Ark1'!C$2:D$11,2,FALSE)","v":2},2486,125,{"$f":"VLOOKUP(E2488,'Ark1'!$C$2:$D$11,2,FALSE)","v":5},2486,200,{"$f":"VLOOKUP(H2488,'Ark1'!$C$2:$D$12,2,FALSE)","v":5}]
[2487,32,{"$f":"VLOOKUP(B2489,'Ark1'!C$2:D$11,2,FALSE)","v":2},2487,125,{"$f":"VLOOKUP(E2489,'Ark1'!$C$2:$D$11,2,FALSE)","v":5},2487,200,{"$f":"VLOOKUP(H2489,'Ark1'!$C$2:$D$12,2,FALSE)","v":5}]
[2488,32,{"$f":"VLOOKUP(B2490,'Ark1'!C$2:D$11,2,FALSE)","v":2},2488,125,{"$f":"VLOOKUP(E2490,'Ark1'!$C$2:$D$11,2,FALSE)","v":5},2488,200,{"$f":"VLOOKUP(H2490,'Ark1'!$C$2:$D$12,2,FALSE)","v":5}]
[2489,32,{"$f":"VLOOKUP(B2491,'Ark1'!C$2:D$11,2,FALSE)","v":2},2489,125,{"$f":"VLOOKUP(E2491,'Ark1'!$C$2:$D$11,2,FALSE)","v":5},2489,200,{"$f":"VLOOKUP(H2491,'Ark1'!$C$2:$D$12,2,FALSE)","v":5}]
[2490,32,{"$f":"VLOOKUP(B2492,'Ark1'!C$2:D$11,2,FALSE)","v":2},2490,125,{"$f":"VLOOKUP(E2492,'Ark1'!$C$2:$D$11,2,FALSE)","v":5},2490,200,{"$f":"VLOOKUP(H2492,'Ark1'!$C$2:$D$12,2,FALSE)","v":5}]
[2491,32,{"$f":"VLOOKUP(B2493,'Ark1'!C$2:D$11,2,FALSE)","v":2},2491,125,{"$f":"VLOOKUP(E2493,'Ark1'!$C$2:$D$11,2,FALSE)","v":5},2491,200,{"$f":"VLOOKUP(H2493,'Ark1'!$C$2:$D$12,2,FALSE)","v":5}]
[2492,32,{"$f":"VLOOKUP(B2494,'Ark1'!C$2:D$11,2,FALSE)","v":2},2492,125,{"$f":"VLOOKUP(E2494,'Ark1'!$C$2:$D$11,2,FALSE)","v":5},2492,200,{"$f":"VLOOKUP(H2494,'Ark1'!$C$2:$D$12,2,FALSE)","v":5}]
[2493,32,{"$f":"VLOOKUP(B2495,'Ark1'!C$2:D$11,2,FALSE)","v":2},2493,125,{"$f":"VLOOKUP(E2495,'Ark1'!$C$2:$D$11,2,FALSE)","v":5},2493,200,{"$f":"VLOOKUP(H2495,'Ark1'!$C$2:$D$12,2,FALSE)","v":5}]
[2494,32,{"$f":"VLOOKUP(B2496,'Ark1'!C$2:D$11,2,FALSE)","v":2},2494,125,{"$f":"VLOOKUP(E2496,'Ark1'!$C$2:$D$11,2,FALSE)","v":5},2494,200,{"$f":"VLOOKUP(H2496,'Ark1'!$C$2:$D$12,2,FALSE)","v":5}]
[2495,32,{"$f":"VLOOKUP(B2497,'Ark1'!C$2:D$11,2,FALSE)","v":2},2495,125,{"$f":"VLOOKUP(E2497,'Ark1'!$C$2:$D$11,2,FALSE)","v":5},2495,200,{"$f":"VLOOKUP(H2497,'Ark1'!$C$2:$D$12,2,FALSE)","v":5}]
[2496,32,{"$f":"VLOOKUP(B2498,'Ark1'!C$2:D$11,2,FALSE)","v":2},2496,125,{"$f":"VLOOKUP(E2498,'Ark1'!$C$2:$D$11,2,FALSE)","v":5},2496,200,{"$f":"VLOOKUP(H2498,'Ark1'!$C$2:$D$12,2,FALSE)","v":5}]
[2497,32,{"$f":"VLOOKUP(B2499,'Ark1'!C$2:D$11,2,FALSE)","v":2},2497,125,{"$f":"VLOOKUP(E2499,'Ark1'!$C$2:$D$11,2,FALSE)","v":5},2497,200,{"$f":"VLOOKUP(H2499,'Ark1'!$C$2:$D$12,2,FALSE)","v":5}]
[2498,32,{"$f":"VLOOKUP(B2500,'Ark1'!C$2:D$11,2,FALSE)","v":2},2498,125,{"$f":"VLOOKUP(E2500,'Ark1'!$C$2:$D$11,2,FALSE)","v":5},2498,200,{"$f":"VLOOKUP(H2500,'Ark1'!$C$2:$D$12,2,FALSE)","v":5}]
[2499,32,{"$f":"VLOOKUP(B2501,'Ark1'!C$2:D$11,2,FALSE)","v":2},2499,125,{"$f":"VLOOKUP(E2501,'Ark1'!$C$2:$D$11,2,FALSE)","v":5},2499,200,{"$f":"VLOOKUP(H2501,'Ark1'!$C$2:$D$12,2,FALSE)","v":5}]
[2500,32,{"$f":"VLOOKUP(B2502,'Ark1'!C$2:D$11,2,FALSE)","v":2},2500,125,{"$f":"VLOOKUP(E2502,'Ark1'!$C$2:$D$11,2,FALSE)","v":5},2500,200,{"$f":"VLOOKUP(H2502,'Ark1'!$C$2:$D$12,2,FALSE)","v":5}]
[2501,32,{"$f":"VLOOKUP(B2503,'Ark1'!C$2:D$11,2,FALSE)","v":2},2501,125,{"$f":"VLOOKUP(E2503,'Ark1'!$C$2:$D$11,2,FALSE)","v":5},2501,200,{"$f":"VLOOKUP(H2503,'Ark1'!$C$2:$D$12,2,FALSE)","v":5}]
[2502,32,{"$f":"VLOOKUP(B2504,'Ark1'!C$2:D$11,2,FALSE)","v":2},2502,125,{"$f":"VLOOKUP(E2504,'Ark1'!$C$2:$D$11,2,FALSE)","v":5},2502,200,{"$f":"VLOOKUP(H2504,'Ark1'!$C$2:$D$12,2,FALSE)","v":5}]
[2503,32,{"$f":"VLOOKUP(B2505,'Ark1'!C$2:D$11,2,FALSE)","v":2},2503,125,{"$f":"VLOOKUP(E2505,'Ark1'!$C$2:$D$11,2,FALSE)","v":5},2503,200,{"$f":"VLOOKUP(H2505,'Ark1'!$C$2:$D$12,2,FALSE)","v":5}]
[2504,32,{"$f":"VLOOKUP(B2506,'Ark1'!C$2:D$11,2,FALSE)","v":2},2504,125,{"$f":"VLOOKUP(E2506,'Ark1'!$C$2:$D$11,2,FALSE)","v":5},2504,200,{"$f":"VLOOKUP(H2506,'Ark1'!$C$2:$D$12,2,FALSE)","v":5}]
[2505,32,{"$f":"VLOOKUP(B2507,'Ark1'!C$2:D$11,2,FALSE)","v":2},2505,125,{"$f":"VLOOKUP(E2507,'Ark1'!$C$2:$D$11,2,FALSE)","v":5},2505,200,{"$f":"VLOOKUP(H2507,'Ark1'!$C$2:$D$12,2,FALSE)","v":5}]
[2506,32,{"$f":"VLOOKUP(B2508,'Ark1'!C$2:D$11,2,FALSE)","v":2},2506,125,{"$f":"VLOOKUP(E2508,'Ark1'!$C$2:$D$11,2,FALSE)","v":5},2506,200,{"$f":"VLOOKUP(H2508,'Ark1'!$C$2:$D$12,2,FALSE)","v":5}]
[2507,32,{"$f":"VLOOKUP(B2509,'Ark1'!C$2:D$11,2,FALSE)","v":2},2507,125,{"$f":"VLOOKUP(E2509,'Ark1'!$C$2:$D$11,2,FALSE)","v":5},2507,200,{"$f":"VLOOKUP(H2509,'Ark1'!$C$2:$D$12,2,FALSE)","v":5}]
[2508,32,{"$f":"VLOOKUP(B2510,'Ark1'!C$2:D$11,2,FALSE)","v":2},2508,125,{"$f":"VLOOKUP(E2510,'Ark1'!$C$2:$D$11,2,FALSE)","v":5},2508,200,{"$f":"VLOOKUP(H2510,'Ark1'!$C$2:$D$12,2,FALSE)","v":5}]
[2509,32,{"$f":"VLOOKUP(B2511,'Ark1'!C$2:D$11,2,FALSE)","v":2},2509,125,{"$f":"VLOOKUP(E2511,'Ark1'!$C$2:$D$11,2,FALSE)","v":5},2509,200,{"$f":"VLOOKUP(H2511,'Ark1'!$C$2:$D$12,2,FALSE)","v":5}]
[2510,32,{"$f":"VLOOKUP(B2512,'Ark1'!C$2:D$11,2,FALSE)","v":2},2510,125,{"$f":"VLOOKUP(E2512,'Ark1'!$C$2:$D$11,2,FALSE)","v":5},2510,200,{"$f":"VLOOKUP(H2512,'Ark1'!$C$2:$D$12,2,FALSE)","v":5}]
[2511,32,{"$f":"VLOOKUP(B2513,'Ark1'!C$2:D$11,2,FALSE)","v":2},2511,125,{"$f":"VLOOKUP(E2513,'Ark1'!$C$2:$D$11,2,FALSE)","v":5},2511,200,{"$f":"VLOOKUP(H2513,'Ark1'!$C$2:$D$12,2,FALSE)","v":5}]
[2512,32,{"$f":"VLOOKUP(B2514,'Ark1'!C$2:D$11,2,FALSE)","v":2},2512,125,{"$f":"VLOOKUP(E2514,'Ark1'!$C$2:$D$11,2,FALSE)","v":5},2512,200,{"$f":"VLOOKUP(H2514,'Ark1'!$C$2:$D$12,2,FALSE)","v":5}]
[2513,32,{"$f":"VLOOKUP(B2515,'Ark1'!C$2:D$11,2,FALSE)","v":2},2513,125,{"$f":"VLOOKUP(E2515,'Ark1'!$C$2:$D$11,2,FALSE)","v":5},2513,200,{"$f":"VLOOKUP(H2515,'Ark1'!$C$2:$D$12,2,FALSE)","v":5}]
[2514,32,{"$f":"VLOOKUP(B2516,'Ark1'!C$2:D$11,2,FALSE)","v":2},2514,125,{"$f":"VLOOKUP(E2516,'Ark1'!$C$2:$D$11,2,FALSE)","v":5},2514,200,{"$f":"VLOOKUP(H2516,'Ark1'!$C$2:$D$12,2,FALSE)","v":5}]
[2515,32,{"$f":"VLOOKUP(B2517,'Ark1'!C$2:D$11,2,FALSE)","v":2},2515,125,{"$f":"VLOOKUP(E2517,'Ark1'!$C$2:$D$11,2,FALSE)","v":5},2515,200,{"$f":"VLOOKUP(H2517,'Ark1'!$C$2:$D$12,2,FALSE)","v":5}]
[2516,32,{"$f":"VLOOKUP(B2518,'Ark1'!C$2:D$11,2,FALSE)","v":2},2516,125,{"$f":"VLOOKUP(E2518,'Ark1'!$C$2:$D$11,2,FALSE)","v":5},2516,200,{"$f":"VLOOKUP(H2518,'Ark1'!$C$2:$D$12,2,FALSE)","v":5}]
[2517,32,{"$f":"VLOOKUP(B2519,'Ark1'!C$2:D$11,2,FALSE)","v":2},2517,125,{"$f":"VLOOKUP(E2519,'Ark1'!$C$2:$D$11,2,FALSE)","v":5},2517,200,{"$f":"VLOOKUP(H2519,'Ark1'!$C$2:$D$12,2,FALSE)","v":5}]
[2518,32,{"$f":"VLOOKUP(B2520,'Ark1'!C$2:D$11,2,FALSE)","v":2},2518,125,{"$f":"VLOOKUP(E2520,'Ark1'!$C$2:$D$11,2,FALSE)","v":5},2518,200,{"$f":"VLOOKUP(H2520,'Ark1'!$C$2:$D$12,2,FALSE)","v":5}]
[2519,32,{"$f":"VLOOKUP(B2521,'Ark1'!C$2:D$11,2,FALSE)","v":2},2519,125,{"$f":"VLOOKUP(E2521,'Ark1'!$C$2:$D$11,2,FALSE)","v":5},2519,200,{"$f":"VLOOKUP(H2521,'Ark1'!$C$2:$D$12,2,FALSE)","v":5}]
[2520,32,{"$f":"VLOOKUP(B2522,'Ark1'!C$2:D$11,2,FALSE)","v":2},2520,125,{"$f":"VLOOKUP(E2522,'Ark1'!$C$2:$D$11,2,FALSE)","v":5},2520,200,{"$f":"VLOOKUP(H2522,'Ark1'!$C$2:$D$12,2,FALSE)","v":5}]
[2521,32,{"$f":"VLOOKUP(B2523,'Ark1'!C$2:D$11,2,FALSE)","v":2},2521,125,{"$f":"VLOOKUP(E2523,'Ark1'!$C$2:$D$11,2,FALSE)","v":5},2521,200,{"$f":"VLOOKUP(H2523,'Ark1'!$C$2:$D$12,2,FALSE)","v":5}]
[2522,32,{"$f":"VLOOKUP(B2524,'Ark1'!C$2:D$11,2,FALSE)","v":2},2522,125,{"$f":"VLOOKUP(E2524,'Ark1'!$C$2:$D$11,2,FALSE)","v":5},2522,200,{"$f":"VLOOKUP(H2524,'Ark1'!$C$2:$D$12,2,FALSE)","v":5}]
[2523,32,{"$f":"VLOOKUP(B2525,'Ark1'!C$2:D$11,2,FALSE)","v":2},2523,125,{"$f":"VLOOKUP(E2525,'Ark1'!$C$2:$D$11,2,FALSE)","v":5},2523,200,{"$f":"VLOOKUP(H2525,'Ark1'!$C$2:$D$12,2,FALSE)","v":5}]
[2524,32,{"$f":"VLOOKUP(B2526,'Ark1'!C$2:D$11,2,FALSE)","v":2},2524,125,{"$f":"VLOOKUP(E2526,'Ark1'!$C$2:$D$11,2,FALSE)","v":5},2524,200,{"$f":"VLOOKUP(H2526,'Ark1'!$C$2:$D$12,2,FALSE)","v":5}]
[2525,32,{"$f":"VLOOKUP(B2527,'Ark1'!C$2:D$11,2,FALSE)","v":2},2525,125,{"$f":"VLOOKUP(E2527,'Ark1'!$C$2:$D$11,2,FALSE)","v":5},2525,200,{"$f":"VLOOKUP(H2527,'Ark1'!$C$2:$D$12,2,FALSE)","v":5}]
[2526,32,{"$f":"VLOOKUP(B2528,'Ark1'!C$2:D$11,2,FALSE)","v":2},2526,125,{"$f":"VLOOKUP(E2528,'Ark1'!$C$2:$D$11,2,FALSE)","v":5},2526,200,{"$f":"VLOOKUP(H2528,'Ark1'!$C$2:$D$12,2,FALSE)","v":5}]
[2527,32,{"$f":"VLOOKUP(B2529,'Ark1'!C$2:D$11,2,FALSE)","v":2},2527,125,{"$f":"VLOOKUP(E2529,'Ark1'!$C$2:$D$11,2,FALSE)","v":5},2527,200,{"$f":"VLOOKUP(H2529,'Ark1'!$C$2:$D$12,2,FALSE)","v":5}]
[2528,32,{"$f":"VLOOKUP(B2530,'Ark1'!C$2:D$11,2,FALSE)","v":2},2528,125,{"$f":"VLOOKUP(E2530,'Ark1'!$C$2:$D$11,2,FALSE)","v":5},2528,200,{"$f":"VLOOKUP(H2530,'Ark1'!$C$2:$D$12,2,FALSE)","v":5}]
[2529,32,{"$f":"VLOOKUP(B2531,'Ark1'!C$2:D$11,2,FALSE)","v":2},2529,125,{"$f":"VLOOKUP(E2531,'Ark1'!$C$2:$D$11,2,FALSE)","v":5},2529,200,{"$f":"VLOOKUP(H2531,'Ark1'!$C$2:$D$12,2,FALSE)","v":5}]
[2530,32,{"$f":"VLOOKUP(B2532,'Ark1'!C$2:D$11,2,FALSE)","v":2},2530,125,{"$f":"VLOOKUP(E2532,'Ark1'!$C$2:$D$11,2,FALSE)","v":5},2530,200,{"$f":"VLOOKUP(H2532,'Ark1'!$C$2:$D$12,2,FALSE)","v":5}]
[2531,32,{"$f":"VLOOKUP(B2533,'Ark1'!C$2:D$11,2,FALSE)","v":2},2531,125,{"$f":"VLOOKUP(E2533,'Ark1'!$C$2:$D$11,2,FALSE)","v":5},2531,200,{"$f":"VLOOKUP(H2533,'Ark1'!$C$2:$D$12,2,FALSE)","v":5}]
[2532,32,{"$f":"VLOOKUP(B2534,'Ark1'!C$2:D$11,2,FALSE)","v":2},2532,125,{"$f":"VLOOKUP(E2534,'Ark1'!$C$2:$D$11,2,FALSE)","v":5},2532,200,{"$f":"VLOOKUP(H2534,'Ark1'!$C$2:$D$12,2,FALSE)","v":5}]
[2533,32,{"$f":"VLOOKUP(B2535,'Ark1'!C$2:D$11,2,FALSE)","v":2},2533,125,{"$f":"VLOOKUP(E2535,'Ark1'!$C$2:$D$11,2,FALSE)","v":5},2533,200,{"$f":"VLOOKUP(H2535,'Ark1'!$C$2:$D$12,2,FALSE)","v":5}]
[2534,32,{"$f":"VLOOKUP(B2536,'Ark1'!C$2:D$11,2,FALSE)","v":2},2534,125,{"$f":"VLOOKUP(E2536,'Ark1'!$C$2:$D$11,2,FALSE)","v":5},2534,200,{"$f":"VLOOKUP(H2536,'Ark1'!$C$2:$D$12,2,FALSE)","v":5}]
[2535,32,{"$f":"VLOOKUP(B2537,'Ark1'!C$2:D$11,2,FALSE)","v":2},2535,125,{"$f":"VLOOKUP(E2537,'Ark1'!$C$2:$D$11,2,FALSE)","v":5},2535,200,{"$f":"VLOOKUP(H2537,'Ark1'!$C$2:$D$12,2,FALSE)","v":5}]
[2536,32,{"$f":"VLOOKUP(B2538,'Ark1'!C$2:D$11,2,FALSE)","v":2},2536,125,{"$f":"VLOOKUP(E2538,'Ark1'!$C$2:$D$11,2,FALSE)","v":5},2536,200,{"$f":"VLOOKUP(H2538,'Ark1'!$C$2:$D$12,2,FALSE)","v":5}]
[2537,32,{"$f":"VLOOKUP(B2539,'Ark1'!C$2:D$11,2,FALSE)","v":2},2537,125,{"$f":"VLOOKUP(E2539,'Ark1'!$C$2:$D$11,2,FALSE)","v":5},2537,200,{"$f":"VLOOKUP(H2539,'Ark1'!$C$2:$D$12,2,FALSE)","v":5}]
[2538,32,{"$f":"VLOOKUP(B2540,'Ark1'!C$2:D$11,2,FALSE)","v":2},2538,125,{"$f":"VLOOKUP(E2540,'Ark1'!$C$2:$D$11,2,FALSE)","v":5},2538,200,{"$f":"VLOOKUP(H2540,'Ark1'!$C$2:$D$12,2,FALSE)","v":5}]
[2539,32,{"$f":"VLOOKUP(B2541,'Ark1'!C$2:D$11,2,FALSE)","v":2},2539,125,{"$f":"VLOOKUP(E2541,'Ark1'!$C$2:$D$11,2,FALSE)","v":5},2539,200,{"$f":"VLOOKUP(H2541,'Ark1'!$C$2:$D$12,2,FALSE)","v":5}]
[2540,32,{"$f":"VLOOKUP(B2542,'Ark1'!C$2:D$11,2,FALSE)","v":2},2540,125,{"$f":"VLOOKUP(E2542,'Ark1'!$C$2:$D$11,2,FALSE)","v":5},2540,200,{"$f":"VLOOKUP(H2542,'Ark1'!$C$2:$D$12,2,FALSE)","v":5}]
[2541,32,{"$f":"VLOOKUP(B2543,'Ark1'!C$2:D$11,2,FALSE)","v":2},2541,125,{"$f":"VLOOKUP(E2543,'Ark1'!$C$2:$D$11,2,FALSE)","v":5},2541,200,{"$f":"VLOOKUP(H2543,'Ark1'!$C$2:$D$12,2,FALSE)","v":5}]
[2542,32,{"$f":"VLOOKUP(B2544,'Ark1'!C$2:D$11,2,FALSE)","v":2},2542,125,{"$f":"VLOOKUP(E2544,'Ark1'!$C$2:$D$11,2,FALSE)","v":5},2542,200,{"$f":"VLOOKUP(H2544,'Ark1'!$C$2:$D$12,2,FALSE)","v":5}]
[2543,32,{"$f":"VLOOKUP(B2545,'Ark1'!C$2:D$11,2,FALSE)","v":2},2543,125,{"$f":"VLOOKUP(E2545,'Ark1'!$C$2:$D$11,2,FALSE)","v":5},2543,200,{"$f":"VLOOKUP(H2545,'Ark1'!$C$2:$D$12,2,FALSE)","v":5}]
[2544,32,{"$f":"VLOOKUP(B2546,'Ark1'!C$2:D$11,2,FALSE)","v":2},2544,125,{"$f":"VLOOKUP(E2546,'Ark1'!$C$2:$D$11,2,FALSE)","v":5},2544,200,{"$f":"VLOOKUP(H2546,'Ark1'!$C$2:$D$12,2,FALSE)","v":5}]
[2545,32,{"$f":"VLOOKUP(B2547,'Ark1'!C$2:D$11,2,FALSE)","v":2},2545,125,{"$f":"VLOOKUP(E2547,'Ark1'!$C$2:$D$11,2,FALSE)","v":5},2545,200,{"$f":"VLOOKUP(H2547,'Ark1'!$C$2:$D$12,2,FALSE)","v":5}]
[2546,32,{"$f":"VLOOKUP(B2548,'Ark1'!C$2:D$11,2,FALSE)","v":2},2546,125,{"$f":"VLOOKUP(E2548,'Ark1'!$C$2:$D$11,2,FALSE)","v":5},2546,200,{"$f":"VLOOKUP(H2548,'Ark1'!$C$2:$D$12,2,FALSE)","v":5}]
[2547,32,{"$f":"VLOOKUP(B2549,'Ark1'!C$2:D$11,2,FALSE)","v":2},2547,125,{"$f":"VLOOKUP(E2549,'Ark1'!$C$2:$D$11,2,FALSE)","v":5},2547,200,{"$f":"VLOOKUP(H2549,'Ark1'!$C$2:$D$12,2,FALSE)","v":5}]
[2548,32,{"$f":"VLOOKUP(B2550,'Ark1'!C$2:D$11,2,FALSE)","v":2},2548,125,{"$f":"VLOOKUP(E2550,'Ark1'!$C$2:$D$11,2,FALSE)","v":5},2548,200,{"$f":"VLOOKUP(H2550,'Ark1'!$C$2:$D$12,2,FALSE)","v":5}]
[2549,32,{"$f":"VLOOKUP(B2551,'Ark1'!C$2:D$11,2,FALSE)","v":2},2549,125,{"$f":"VLOOKUP(E2551,'Ark1'!$C$2:$D$11,2,FALSE)","v":5},2549,200,{"$f":"VLOOKUP(H2551,'Ark1'!$C$2:$D$12,2,FALSE)","v":5}]
[2550,32,{"$f":"VLOOKUP(B2552,'Ark1'!C$2:D$11,2,FALSE)","v":2},2550,125,{"$f":"VLOOKUP(E2552,'Ark1'!$C$2:$D$11,2,FALSE)","v":5},2550,200,{"$f":"VLOOKUP(H2552,'Ark1'!$C$2:$D$12,2,FALSE)","v":5}]
[2551,32,{"$f":"VLOOKUP(B2553,'Ark1'!C$2:D$11,2,FALSE)","v":2},2551,125,{"$f":"VLOOKUP(E2553,'Ark1'!$C$2:$D$11,2,FALSE)","v":5},2551,200,{"$f":"VLOOKUP(H2553,'Ark1'!$C$2:$D$12,2,FALSE)","v":5}]
[2552,32,{"$f":"VLOOKUP(B2554,'Ark1'!C$2:D$11,2,FALSE)","v":2},2552,125,{"$f":"VLOOKUP(E2554,'Ark1'!$C$2:$D$11,2,FALSE)","v":5},2552,200,{"$f":"VLOOKUP(H2554,'Ark1'!$C$2:$D$12,2,FALSE)","v":5}]
[2553,32,{"$f":"VLOOKUP(B2555,'Ark1'!C$2:D$11,2,FALSE)","v":2},2553,125,{"$f":"VLOOKUP(E2555,'Ark1'!$C$2:$D$11,2,FALSE)","v":5},2553,200,{"$f":"VLOOKUP(H2555,'Ark1'!$C$2:$D$12,2,FALSE)","v":5}]
[2554,32,{"$f":"VLOOKUP(B2556,'Ark1'!C$2:D$11,2,FALSE)","v":2},2554,125,{"$f":"VLOOKUP(E2556,'Ark1'!$C$2:$D$11,2,FALSE)","v":5},2554,200,{"$f":"VLOOKUP(H2556,'Ark1'!$C$2:$D$12,2,FALSE)","v":5}]
[2555,32,{"$f":"VLOOKUP(B2557,'Ark1'!C$2:D$11,2,FALSE)","v":2},2555,125,{"$f":"VLOOKUP(E2557,'Ark1'!$C$2:$D$11,2,FALSE)","v":5},2555,200,{"$f":"VLOOKUP(H2557,'Ark1'!$C$2:$D$12,2,FALSE)","v":5}]
[2556,32,{"$f":"VLOOKUP(B2558,'Ark1'!C$2:D$11,2,FALSE)","v":2},2556,125,{"$f":"VLOOKUP(E2558,'Ark1'!$C$2:$D$11,2,FALSE)","v":5},2556,200,{"$f":"VLOOKUP(H2558,'Ark1'!$C$2:$D$12,2,FALSE)","v":5}]
[2557,32,{"$f":"VLOOKUP(B2559,'Ark1'!C$2:D$11,2,FALSE)","v":2},2557,125,{"$f":"VLOOKUP(E2559,'Ark1'!$C$2:$D$11,2,FALSE)","v":5},2557,200,{"$f":"VLOOKUP(H2559,'Ark1'!$C$2:$D$12,2,FALSE)","v":5}]
[2558,32,{"$f":"VLOOKUP(B2560,'Ark1'!C$2:D$11,2,FALSE)","v":2},2558,125,{"$f":"VLOOKUP(E2560,'Ark1'!$C$2:$D$11,2,FALSE)","v":5},2558,200,{"$f":"VLOOKUP(H2560,'Ark1'!$C$2:$D$12,2,FALSE)","v":5}]
[2559,32,{"$f":"VLOOKUP(B2561,'Ark1'!C$2:D$11,2,FALSE)","v":2},2559,125,{"$f":"VLOOKUP(E2561,'Ark1'!$C$2:$D$11,2,FALSE)","v":5},2559,200,{"$f":"VLOOKUP(H2561,'Ark1'!$C$2:$D$12,2,FALSE)","v":5}]
[2560,32,{"$f":"VLOOKUP(B2562,'Ark1'!C$2:D$11,2,FALSE)","v":2},2560,125,{"$f":"VLOOKUP(E2562,'Ark1'!$C$2:$D$11,2,FALSE)","v":5},2560,200,{"$f":"VLOOKUP(H2562,'Ark1'!$C$2:$D$12,2,FALSE)","v":5}]
[2561,32,{"$f":"VLOOKUP(B2563,'Ark1'!C$2:D$11,2,FALSE)","v":2},2561,125,{"$f":"VLOOKUP(E2563,'Ark1'!$C$2:$D$11,2,FALSE)","v":5},2561,200,{"$f":"VLOOKUP(H2563,'Ark1'!$C$2:$D$12,2,FALSE)","v":5}]
[2562,32,{"$f":"VLOOKUP(B2564,'Ark1'!C$2:D$11,2,FALSE)","v":2},2562,125,{"$f":"VLOOKUP(E2564,'Ark1'!$C$2:$D$11,2,FALSE)","v":5},2562,200,{"$f":"VLOOKUP(H2564,'Ark1'!$C$2:$D$12,2,FALSE)","v":5}]
[2563,32,{"$f":"VLOOKUP(B2565,'Ark1'!C$2:D$11,2,FALSE)","v":2},2563,125,{"$f":"VLOOKUP(E2565,'Ark1'!$C$2:$D$11,2,FALSE)","v":5},2563,200,{"$f":"VLOOKUP(H2565,'Ark1'!$C$2:$D$12,2,FALSE)","v":5}]
[2564,32,{"$f":"VLOOKUP(B2566,'Ark1'!C$2:D$11,2,FALSE)","v":2},2564,125,{"$f":"VLOOKUP(E2566,'Ark1'!$C$2:$D$11,2,FALSE)","v":5},2564,200,{"$f":"VLOOKUP(H2566,'Ark1'!$C$2:$D$12,2,FALSE)","v":5}]
[2565,32,{"$f":"VLOOKUP(B2567,'Ark1'!C$2:D$11,2,FALSE)","v":2},2565,125,{"$f":"VLOOKUP(E2567,'Ark1'!$C$2:$D$11,2,FALSE)","v":5},2565,200,{"$f":"VLOOKUP(H2567,'Ark1'!$C$2:$D$12,2,FALSE)","v":5}]
[2566,32,{"$f":"VLOOKUP(B2568,'Ark1'!C$2:D$11,2,FALSE)","v":2},2566,125,{"$f":"VLOOKUP(E2568,'Ark1'!$C$2:$D$11,2,FALSE)","v":5},2566,200,{"$f":"VLOOKUP(H2568,'Ark1'!$C$2:$D$12,2,FALSE)","v":5}]
[2567,32,{"$f":"VLOOKUP(B2569,'Ark1'!C$2:D$11,2,FALSE)","v":2},2567,125,{"$f":"VLOOKUP(E2569,'Ark1'!$C$2:$D$11,2,FALSE)","v":5},2567,200,{"$f":"VLOOKUP(H2569,'Ark1'!$C$2:$D$12,2,FALSE)","v":5}]
[2568,32,{"$f":"VLOOKUP(B2570,'Ark1'!C$2:D$11,2,FALSE)","v":2},2568,125,{"$f":"VLOOKUP(E2570,'Ark1'!$C$2:$D$11,2,FALSE)","v":5},2568,200,{"$f":"VLOOKUP(H2570,'Ark1'!$C$2:$D$12,2,FALSE)","v":5}]
[2569,32,{"$f":"VLOOKUP(B2571,'Ark1'!C$2:D$11,2,FALSE)","v":2},2569,125,{"$f":"VLOOKUP(E2571,'Ark1'!$C$2:$D$11,2,FALSE)","v":5},2569,200,{"$f":"VLOOKUP(H2571,'Ark1'!$C$2:$D$12,2,FALSE)","v":5}]
[2570,32,{"$f":"VLOOKUP(B2572,'Ark1'!C$2:D$11,2,FALSE)","v":2},2570,125,{"$f":"VLOOKUP(E2572,'Ark1'!$C$2:$D$11,2,FALSE)","v":5},2570,200,{"$f":"VLOOKUP(H2572,'Ark1'!$C$2:$D$12,2,FALSE)","v":5}]
[2571,32,{"$f":"VLOOKUP(B2573,'Ark1'!C$2:D$11,2,FALSE)","v":2},2571,125,{"$f":"VLOOKUP(E2573,'Ark1'!$C$2:$D$11,2,FALSE)","v":5},2571,200,{"$f":"VLOOKUP(H2573,'Ark1'!$C$2:$D$12,2,FALSE)","v":5}]
[2572,32,{"$f":"VLOOKUP(B2574,'Ark1'!C$2:D$11,2,FALSE)","v":2},2572,125,{"$f":"VLOOKUP(E2574,'Ark1'!$C$2:$D$11,2,FALSE)","v":5},2572,200,{"$f":"VLOOKUP(H2574,'Ark1'!$C$2:$D$12,2,FALSE)","v":5}]
[2573,32,{"$f":"VLOOKUP(B2575,'Ark1'!C$2:D$11,2,FALSE)","v":2},2573,125,{"$f":"VLOOKUP(E2575,'Ark1'!$C$2:$D$11,2,FALSE)","v":5},2573,200,{"$f":"VLOOKUP(H2575,'Ark1'!$C$2:$D$12,2,FALSE)","v":5}]
[2574,32,{"$f":"VLOOKUP(B2576,'Ark1'!C$2:D$11,2,FALSE)","v":2},2574,125,{"$f":"VLOOKUP(E2576,'Ark1'!$C$2:$D$11,2,FALSE)","v":5},2574,200,{"$f":"VLOOKUP(H2576,'Ark1'!$C$2:$D$12,2,FALSE)","v":5}]
[2575,32,{"$f":"VLOOKUP(B2577,'Ark1'!C$2:D$11,2,FALSE)","v":2},2575,125,{"$f":"VLOOKUP(E2577,'Ark1'!$C$2:$D$11,2,FALSE)","v":5},2575,200,{"$f":"VLOOKUP(H2577,'Ark1'!$C$2:$D$12,2,FALSE)","v":5}]
[2576,32,{"$f":"VLOOKUP(B2578,'Ark1'!C$2:D$11,2,FALSE)","v":2},2576,125,{"$f":"VLOOKUP(E2578,'Ark1'!$C$2:$D$11,2,FALSE)","v":5},2576,200,{"$f":"VLOOKUP(H2578,'Ark1'!$C$2:$D$12,2,FALSE)","v":5}]
[2577,32,{"$f":"VLOOKUP(B2579,'Ark1'!C$2:D$11,2,FALSE)","v":2},2577,125,{"$f":"VLOOKUP(E2579,'Ark1'!$C$2:$D$11,2,FALSE)","v":5},2577,200,{"$f":"VLOOKUP(H2579,'Ark1'!$C$2:$D$12,2,FALSE)","v":5}]
[2578,32,{"$f":"VLOOKUP(B2580,'Ark1'!C$2:D$11,2,FALSE)","v":2},2578,125,{"$f":"VLOOKUP(E2580,'Ark1'!$C$2:$D$11,2,FALSE)","v":5},2578,200,{"$f":"VLOOKUP(H2580,'Ark1'!$C$2:$D$12,2,FALSE)","v":5}]
[2579,32,{"$f":"VLOOKUP(B2581,'Ark1'!C$2:D$11,2,FALSE)","v":2},2579,125,{"$f":"VLOOKUP(E2581,'Ark1'!$C$2:$D$11,2,FALSE)","v":5},2579,200,{"$f":"VLOOKUP(H2581,'Ark1'!$C$2:$D$12,2,FALSE)","v":5}]
[2580,32,{"$f":"VLOOKUP(B2582,'Ark1'!C$2:D$11,2,FALSE)","v":2},2580,125,{"$f":"VLOOKUP(E2582,'Ark1'!$C$2:$D$11,2,FALSE)","v":5},2580,200,{"$f":"VLOOKUP(H2582,'Ark1'!$C$2:$D$12,2,FALSE)","v":5}]
[2581,32,{"$f":"VLOOKUP(B2583,'Ark1'!C$2:D$11,2,FALSE)","v":2},2581,125,{"$f":"VLOOKUP(E2583,'Ark1'!$C$2:$D$11,2,FALSE)","v":5},2581,200,{"$f":"VLOOKUP(H2583,'Ark1'!$C$2:$D$12,2,FALSE)","v":5}]
[2582,32,{"$f":"VLOOKUP(B2584,'Ark1'!C$2:D$11,2,FALSE)","v":2},2582,125,{"$f":"VLOOKUP(E2584,'Ark1'!$C$2:$D$11,2,FALSE)","v":5},2582,200,{"$f":"VLOOKUP(H2584,'Ark1'!$C$2:$D$12,2,FALSE)","v":5}]
[2583,32,{"$f":"VLOOKUP(B2585,'Ark1'!C$2:D$11,2,FALSE)","v":2},2583,125,{"$f":"VLOOKUP(E2585,'Ark1'!$C$2:$D$11,2,FALSE)","v":5},2583,200,{"$f":"VLOOKUP(H2585,'Ark1'!$C$2:$D$12,2,FALSE)","v":5}]
[2584,32,{"$f":"VLOOKUP(B2586,'Ark1'!C$2:D$11,2,FALSE)","v":2},2584,125,{"$f":"VLOOKUP(E2586,'Ark1'!$C$2:$D$11,2,FALSE)","v":5},2584,200,{"$f":"VLOOKUP(H2586,'Ark1'!$C$2:$D$12,2,FALSE)","v":5}]
[2585,32,{"$f":"VLOOKUP(B2587,'Ark1'!C$2:D$11,2,FALSE)","v":2},2585,125,{"$f":"VLOOKUP(E2587,'Ark1'!$C$2:$D$11,2,FALSE)","v":5},2585,200,{"$f":"VLOOKUP(H2587,'Ark1'!$C$2:$D$12,2,FALSE)","v":5}]
[2586,32,{"$f":"VLOOKUP(B2588,'Ark1'!C$2:D$11,2,FALSE)","v":2},2586,125,{"$f":"VLOOKUP(E2588,'Ark1'!$C$2:$D$11,2,FALSE)","v":5},2586,200,{"$f":"VLOOKUP(H2588,'Ark1'!$C$2:$D$12,2,FALSE)","v":5}]
[2587,32,{"$f":"VLOOKUP(B2589,'Ark1'!C$2:D$11,2,FALSE)","v":2},2587,125,{"$f":"VLOOKUP(E2589,'Ark1'!$C$2:$D$11,2,FALSE)","v":5},2587,200,{"$f":"VLOOKUP(H2589,'Ark1'!$C$2:$D$12,2,FALSE)","v":5}]
[2588,32,{"$f":"VLOOKUP(B2590,'Ark1'!C$2:D$11,2,FALSE)","v":2},2588,125,{"$f":"VLOOKUP(E2590,'Ark1'!$C$2:$D$11,2,FALSE)","v":5},2588,200,{"$f":"VLOOKUP(H2590,'Ark1'!$C$2:$D$12,2,FALSE)","v":5}]
[2589,32,{"$f":"VLOOKUP(B2591,'Ark1'!C$2:D$11,2,FALSE)","v":2},2589,125,{"$f":"VLOOKUP(E2591,'Ark1'!$C$2:$D$11,2,FALSE)","v":5},2589,200,{"$f":"VLOOKUP(H2591,'Ark1'!$C$2:$D$12,2,FALSE)","v":5}]
[2590,32,{"$f":"VLOOKUP(B2592,'Ark1'!C$2:D$11,2,FALSE)","v":2},2590,125,{"$f":"VLOOKUP(E2592,'Ark1'!$C$2:$D$11,2,FALSE)","v":5},2590,200,{"$f":"VLOOKUP(H2592,'Ark1'!$C$2:$D$12,2,FALSE)","v":5}]
[2591,32,{"$f":"VLOOKUP(B2593,'Ark1'!C$2:D$11,2,FALSE)","v":2},2591,125,{"$f":"VLOOKUP(E2593,'Ark1'!$C$2:$D$11,2,FALSE)","v":5},2591,200,{"$f":"VLOOKUP(H2593,'Ark1'!$C$2:$D$12,2,FALSE)","v":5}]
[2592,32,{"$f":"VLOOKUP(B2594,'Ark1'!C$2:D$11,2,FALSE)","v":2},2592,125,{"$f":"VLOOKUP(E2594,'Ark1'!$C$2:$D$11,2,FALSE)","v":5},2592,200,{"$f":"VLOOKUP(H2594,'Ark1'!$C$2:$D$12,2,FALSE)","v":5}]
[2593,32,{"$f":"VLOOKUP(B2595,'Ark1'!C$2:D$11,2,FALSE)","v":2},2593,125,{"$f":"VLOOKUP(E2595,'Ark1'!$C$2:$D$11,2,FALSE)","v":5},2593,200,{"$f":"VLOOKUP(H2595,'Ark1'!$C$2:$D$12,2,FALSE)","v":5}]
[2594,32,{"$f":"VLOOKUP(B2596,'Ark1'!C$2:D$11,2,FALSE)","v":2},2594,125,{"$f":"VLOOKUP(E2596,'Ark1'!$C$2:$D$11,2,FALSE)","v":5},2594,200,{"$f":"VLOOKUP(H2596,'Ark1'!$C$2:$D$12,2,FALSE)","v":5}]
[2595,32,{"$f":"VLOOKUP(B2597,'Ark1'!C$2:D$11,2,FALSE)","v":2},2595,125,{"$f":"VLOOKUP(E2597,'Ark1'!$C$2:$D$11,2,FALSE)","v":5},2595,200,{"$f":"VLOOKUP(H2597,'Ark1'!$C$2:$D$12,2,FALSE)","v":5}]
[2596,32,{"$f":"VLOOKUP(B2598,'Ark1'!C$2:D$11,2,FALSE)","v":2},2596,125,{"$f":"VLOOKUP(E2598,'Ark1'!$C$2:$D$11,2,FALSE)","v":5},2596,200,{"$f":"VLOOKUP(H2598,'Ark1'!$C$2:$D$12,2,FALSE)","v":5}]
[2597,32,{"$f":"VLOOKUP(B2599,'Ark1'!C$2:D$11,2,FALSE)","v":2},2597,125,{"$f":"VLOOKUP(E2599,'Ark1'!$C$2:$D$11,2,FALSE)","v":5},2597,200,{"$f":"VLOOKUP(H2599,'Ark1'!$C$2:$D$12,2,FALSE)","v":5}]
[2598,32,{"$f":"VLOOKUP(B2600,'Ark1'!C$2:D$11,2,FALSE)","v":2},2598,125,{"$f":"VLOOKUP(E2600,'Ark1'!$C$2:$D$11,2,FALSE)","v":5},2598,200,{"$f":"VLOOKUP(H2600,'Ark1'!$C$2:$D$12,2,FALSE)","v":5}]
[2599,32,{"$f":"VLOOKUP(B2601,'Ark1'!C$2:D$11,2,FALSE)","v":2},2599,125,{"$f":"VLOOKUP(E2601,'Ark1'!$C$2:$D$11,2,FALSE)","v":5},2599,200,{"$f":"VLOOKUP(H2601,'Ark1'!$C$2:$D$12,2,FALSE)","v":5}]
[2600,32,{"$f":"VLOOKUP(B2602,'Ark1'!C$2:D$11,2,FALSE)","v":2},2600,125,{"$f":"VLOOKUP(E2602,'Ark1'!$C$2:$D$11,2,FALSE)","v":5},2600,200,{"$f":"VLOOKUP(H2602,'Ark1'!$C$2:$D$12,2,FALSE)","v":5}]
[2601,32,{"$f":"VLOOKUP(B2603,'Ark1'!C$2:D$11,2,FALSE)","v":2},2601,125,{"$f":"VLOOKUP(E2603,'Ark1'!$C$2:$D$11,2,FALSE)","v":5},2601,200,{"$f":"VLOOKUP(H2603,'Ark1'!$C$2:$D$12,2,FALSE)","v":5}]
[2602,32,{"$f":"VLOOKUP(B2604,'Ark1'!C$2:D$11,2,FALSE)","v":2},2602,125,{"$f":"VLOOKUP(E2604,'Ark1'!$C$2:$D$11,2,FALSE)","v":5},2602,200,{"$f":"VLOOKUP(H2604,'Ark1'!$C$2:$D$12,2,FALSE)","v":5}]
[2603,32,{"$f":"VLOOKUP(B2605,'Ark1'!C$2:D$11,2,FALSE)","v":2},2603,125,{"$f":"VLOOKUP(E2605,'Ark1'!$C$2:$D$11,2,FALSE)","v":5},2603,200,{"$f":"VLOOKUP(H2605,'Ark1'!$C$2:$D$12,2,FALSE)","v":5}]
[2604,32,{"$f":"VLOOKUP(B2606,'Ark1'!C$2:D$11,2,FALSE)","v":2},2604,125,{"$f":"VLOOKUP(E2606,'Ark1'!$C$2:$D$11,2,FALSE)","v":5},2604,200,{"$f":"VLOOKUP(H2606,'Ark1'!$C$2:$D$12,2,FALSE)","v":5}]
[2605,32,{"$f":"VLOOKUP(B2607,'Ark1'!C$2:D$11,2,FALSE)","v":2},2605,125,{"$f":"VLOOKUP(E2607,'Ark1'!$C$2:$D$11,2,FALSE)","v":5},2605,200,{"$f":"VLOOKUP(H2607,'Ark1'!$C$2:$D$12,2,FALSE)","v":5}]
[2606,32,{"$f":"VLOOKUP(B2608,'Ark1'!C$2:D$11,2,FALSE)","v":2},2606,125,{"$f":"VLOOKUP(E2608,'Ark1'!$C$2:$D$11,2,FALSE)","v":5},2606,200,{"$f":"VLOOKUP(H2608,'Ark1'!$C$2:$D$12,2,FALSE)","v":5}]
[2607,32,{"$f":"VLOOKUP(B2609,'Ark1'!C$2:D$11,2,FALSE)","v":2},2607,125,{"$f":"VLOOKUP(E2609,'Ark1'!$C$2:$D$11,2,FALSE)","v":5},2607,200,{"$f":"VLOOKUP(H2609,'Ark1'!$C$2:$D$12,2,FALSE)","v":5}]
[2608,32,{"$f":"VLOOKUP(B2610,'Ark1'!C$2:D$11,2,FALSE)","v":2},2608,125,{"$f":"VLOOKUP(E2610,'Ark1'!$C$2:$D$11,2,FALSE)","v":5},2608,200,{"$f":"VLOOKUP(H2610,'Ark1'!$C$2:$D$12,2,FALSE)","v":5}]
[2609,32,{"$f":"VLOOKUP(B2611,'Ark1'!C$2:D$11,2,FALSE)","v":2},2609,125,{"$f":"VLOOKUP(E2611,'Ark1'!$C$2:$D$11,2,FALSE)","v":5},2609,200,{"$f":"VLOOKUP(H2611,'Ark1'!$C$2:$D$12,2,FALSE)","v":5}]
[2610,32,{"$f":"VLOOKUP(B2612,'Ark1'!C$2:D$11,2,FALSE)","v":2},2610,125,{"$f":"VLOOKUP(E2612,'Ark1'!$C$2:$D$11,2,FALSE)","v":5},2610,200,{"$f":"VLOOKUP(H2612,'Ark1'!$C$2:$D$12,2,FALSE)","v":5}]
[2611,32,{"$f":"VLOOKUP(B2613,'Ark1'!C$2:D$11,2,FALSE)","v":2},2611,125,{"$f":"VLOOKUP(E2613,'Ark1'!$C$2:$D$11,2,FALSE)","v":5},2611,200,{"$f":"VLOOKUP(H2613,'Ark1'!$C$2:$D$12,2,FALSE)","v":5}]
[2612,32,{"$f":"VLOOKUP(B2614,'Ark1'!C$2:D$11,2,FALSE)","v":2},2612,125,{"$f":"VLOOKUP(E2614,'Ark1'!$C$2:$D$11,2,FALSE)","v":5},2612,200,{"$f":"VLOOKUP(H2614,'Ark1'!$C$2:$D$12,2,FALSE)","v":5}]
[2613,32,{"$f":"VLOOKUP(B2615,'Ark1'!C$2:D$11,2,FALSE)","v":2},2613,125,{"$f":"VLOOKUP(E2615,'Ark1'!$C$2:$D$11,2,FALSE)","v":5},2613,200,{"$f":"VLOOKUP(H2615,'Ark1'!$C$2:$D$12,2,FALSE)","v":5}]
[2614,32,{"$f":"VLOOKUP(B2616,'Ark1'!C$2:D$11,2,FALSE)","v":2},2614,125,{"$f":"VLOOKUP(E2616,'Ark1'!$C$2:$D$11,2,FALSE)","v":5},2614,200,{"$f":"VLOOKUP(H2616,'Ark1'!$C$2:$D$12,2,FALSE)","v":5}]
[2615,32,{"$f":"VLOOKUP(B2617,'Ark1'!C$2:D$11,2,FALSE)","v":2},2615,125,{"$f":"VLOOKUP(E2617,'Ark1'!$C$2:$D$11,2,FALSE)","v":5},2615,200,{"$f":"VLOOKUP(H2617,'Ark1'!$C$2:$D$12,2,FALSE)","v":5}]
[2616,32,{"$f":"VLOOKUP(B2618,'Ark1'!C$2:D$11,2,FALSE)","v":2},2616,125,{"$f":"VLOOKUP(E2618,'Ark1'!$C$2:$D$11,2,FALSE)","v":5},2616,200,{"$f":"VLOOKUP(H2618,'Ark1'!$C$2:$D$12,2,FALSE)","v":5}]
[2617,32,{"$f":"VLOOKUP(B2619,'Ark1'!C$2:D$11,2,FALSE)","v":2},2617,125,{"$f":"VLOOKUP(E2619,'Ark1'!$C$2:$D$11,2,FALSE)","v":5},2617,200,{"$f":"VLOOKUP(H2619,'Ark1'!$C$2:$D$12,2,FALSE)","v":5}]
[2618,32,{"$f":"VLOOKUP(B2620,'Ark1'!C$2:D$11,2,FALSE)","v":2},2618,125,{"$f":"VLOOKUP(E2620,'Ark1'!$C$2:$D$11,2,FALSE)","v":5},2618,200,{"$f":"VLOOKUP(H2620,'Ark1'!$C$2:$D$12,2,FALSE)","v":5}]
[2619,32,{"$f":"VLOOKUP(B2621,'Ark1'!C$2:D$11,2,FALSE)","v":2},2619,125,{"$f":"VLOOKUP(E2621,'Ark1'!$C$2:$D$11,2,FALSE)","v":5},2619,200,{"$f":"VLOOKUP(H2621,'Ark1'!$C$2:$D$12,2,FALSE)","v":5}]
[2620,32,{"$f":"VLOOKUP(B2622,'Ark1'!C$2:D$11,2,FALSE)","v":2},2620,125,{"$f":"VLOOKUP(E2622,'Ark1'!$C$2:$D$11,2,FALSE)","v":5},2620,200,{"$f":"VLOOKUP(H2622,'Ark1'!$C$2:$D$12,2,FALSE)","v":5}]
[2621,32,{"$f":"VLOOKUP(B2623,'Ark1'!C$2:D$11,2,FALSE)","v":2},2621,125,{"$f":"VLOOKUP(E2623,'Ark1'!$C$2:$D$11,2,FALSE)","v":5},2621,200,{"$f":"VLOOKUP(H2623,'Ark1'!$C$2:$D$12,2,FALSE)","v":5}]
[2622,32,{"$f":"VLOOKUP(B2624,'Ark1'!C$2:D$11,2,FALSE)","v":2},2622,125,{"$f":"VLOOKUP(E2624,'Ark1'!$C$2:$D$11,2,FALSE)","v":5},2622,200,{"$f":"VLOOKUP(H2624,'Ark1'!$C$2:$D$12,2,FALSE)","v":5}]
[2623,32,{"$f":"VLOOKUP(B2625,'Ark1'!C$2:D$11,2,FALSE)","v":2},2623,125,{"$f":"VLOOKUP(E2625,'Ark1'!$C$2:$D$11,2,FALSE)","v":5},2623,200,{"$f":"VLOOKUP(H2625,'Ark1'!$C$2:$D$12,2,FALSE)","v":5}]
[2624,32,{"$f":"VLOOKUP(B2626,'Ark1'!C$2:D$11,2,FALSE)","v":2},2624,125,{"$f":"VLOOKUP(E2626,'Ark1'!$C$2:$D$11,2,FALSE)","v":5},2624,200,{"$f":"VLOOKUP(H2626,'Ark1'!$C$2:$D$12,2,FALSE)","v":5}]
[2625,32,{"$f":"VLOOKUP(B2627,'Ark1'!C$2:D$11,2,FALSE)","v":2},2625,125,{"$f":"VLOOKUP(E2627,'Ark1'!$C$2:$D$11,2,FALSE)","v":5},2625,200,{"$f":"VLOOKUP(H2627,'Ark1'!$C$2:$D$12,2,FALSE)","v":5}]
[2626,32,{"$f":"VLOOKUP(B2628,'Ark1'!C$2:D$11,2,FALSE)","v":2},2626,125,{"$f":"VLOOKUP(E2628,'Ark1'!$C$2:$D$11,2,FALSE)","v":5},2626,200,{"$f":"VLOOKUP(H2628,'Ark1'!$C$2:$D$12,2,FALSE)","v":5}]
[2627,32,{"$f":"VLOOKUP(B2629,'Ark1'!C$2:D$11,2,FALSE)","v":2},2627,125,{"$f":"VLOOKUP(E2629,'Ark1'!$C$2:$D$11,2,FALSE)","v":5},2627,200,{"$f":"VLOOKUP(H2629,'Ark1'!$C$2:$D$12,2,FALSE)","v":5}]
[2628,32,{"$f":"VLOOKUP(B2630,'Ark1'!C$2:D$11,2,FALSE)","v":2},2628,125,{"$f":"VLOOKUP(E2630,'Ark1'!$C$2:$D$11,2,FALSE)","v":5},2628,200,{"$f":"VLOOKUP(H2630,'Ark1'!$C$2:$D$12,2,FALSE)","v":5}]
[2629,32,{"$f":"VLOOKUP(B2631,'Ark1'!C$2:D$11,2,FALSE)","v":2},2629,125,{"$f":"VLOOKUP(E2631,'Ark1'!$C$2:$D$11,2,FALSE)","v":5},2629,200,{"$f":"VLOOKUP(H2631,'Ark1'!$C$2:$D$12,2,FALSE)","v":5}]
[2630,32,{"$f":"VLOOKUP(B2632,'Ark1'!C$2:D$11,2,FALSE)","v":2},2630,125,{"$f":"VLOOKUP(E2632,'Ark1'!$C$2:$D$11,2,FALSE)","v":5},2630,200,{"$f":"VLOOKUP(H2632,'Ark1'!$C$2:$D$12,2,FALSE)","v":5}]
[2631,32,{"$f":"VLOOKUP(B2633,'Ark1'!C$2:D$11,2,FALSE)","v":2},2631,125,{"$f":"VLOOKUP(E2633,'Ark1'!$C$2:$D$11,2,FALSE)","v":5},2631,200,{"$f":"VLOOKUP(H2633,'Ark1'!$C$2:$D$12,2,FALSE)","v":5}]
[2632,32,{"$f":"VLOOKUP(B2634,'Ark1'!C$2:D$11,2,FALSE)","v":2},2632,125,{"$f":"VLOOKUP(E2634,'Ark1'!$C$2:$D$11,2,FALSE)","v":5},2632,200,{"$f":"VLOOKUP(H2634,'Ark1'!$C$2:$D$12,2,FALSE)","v":5}]
[2633,32,{"$f":"VLOOKUP(B2635,'Ark1'!C$2:D$11,2,FALSE)","v":2},2633,125,{"$f":"VLOOKUP(E2635,'Ark1'!$C$2:$D$11,2,FALSE)","v":5},2633,200,{"$f":"VLOOKUP(H2635,'Ark1'!$C$2:$D$12,2,FALSE)","v":5}]
[2634,32,{"$f":"VLOOKUP(B2636,'Ark1'!C$2:D$11,2,FALSE)","v":2},2634,125,{"$f":"VLOOKUP(E2636,'Ark1'!$C$2:$D$11,2,FALSE)","v":5},2634,200,{"$f":"VLOOKUP(H2636,'Ark1'!$C$2:$D$12,2,FALSE)","v":5}]
[2635,32,{"$f":"VLOOKUP(B2637,'Ark1'!C$2:D$11,2,FALSE)","v":2},2635,125,{"$f":"VLOOKUP(E2637,'Ark1'!$C$2:$D$11,2,FALSE)","v":5},2635,200,{"$f":"VLOOKUP(H2637,'Ark1'!$C$2:$D$12,2,FALSE)","v":5}]
[2636,32,{"$f":"VLOOKUP(B2638,'Ark1'!C$2:D$11,2,FALSE)","v":2},2636,125,{"$f":"VLOOKUP(E2638,'Ark1'!$C$2:$D$11,2,FALSE)","v":5},2636,200,{"$f":"VLOOKUP(H2638,'Ark1'!$C$2:$D$12,2,FALSE)","v":5}]
[2637,32,{"$f":"VLOOKUP(B2639,'Ark1'!C$2:D$11,2,FALSE)","v":2},2637,125,{"$f":"VLOOKUP(E2639,'Ark1'!$C$2:$D$11,2,FALSE)","v":5},2637,200,{"$f":"VLOOKUP(H2639,'Ark1'!$C$2:$D$12,2,FALSE)","v":5}]
[2638,32,{"$f":"VLOOKUP(B2640,'Ark1'!C$2:D$11,2,FALSE)","v":2},2638,125,{"$f":"VLOOKUP(E2640,'Ark1'!$C$2:$D$11,2,FALSE)","v":5},2638,200,{"$f":"VLOOKUP(H2640,'Ark1'!$C$2:$D$12,2,FALSE)","v":5}]
[2639,32,{"$f":"VLOOKUP(B2641,'Ark1'!C$2:D$11,2,FALSE)","v":2},2639,125,{"$f":"VLOOKUP(E2641,'Ark1'!$C$2:$D$11,2,FALSE)","v":5},2639,200,{"$f":"VLOOKUP(H2641,'Ark1'!$C$2:$D$12,2,FALSE)","v":5}]
[2640,32,{"$f":"VLOOKUP(B2642,'Ark1'!C$2:D$11,2,FALSE)","v":2},2640,125,{"$f":"VLOOKUP(E2642,'Ark1'!$C$2:$D$11,2,FALSE)","v":5},2640,200,{"$f":"VLOOKUP(H2642,'Ark1'!$C$2:$D$12,2,FALSE)","v":5}]
[2641,32,{"$f":"VLOOKUP(B2643,'Ark1'!C$2:D$11,2,FALSE)","v":2},2641,125,{"$f":"VLOOKUP(E2643,'Ark1'!$C$2:$D$11,2,FALSE)","v":5},2641,200,{"$f":"VLOOKUP(H2643,'Ark1'!$C$2:$D$12,2,FALSE)","v":5}]
[2642,32,{"$f":"VLOOKUP(B2644,'Ark1'!C$2:D$11,2,FALSE)","v":2},2642,125,{"$f":"VLOOKUP(E2644,'Ark1'!$C$2:$D$11,2,FALSE)","v":5},2642,200,{"$f":"VLOOKUP(H2644,'Ark1'!$C$2:$D$12,2,FALSE)","v":5}]
[2643,32,{"$f":"VLOOKUP(B2645,'Ark1'!C$2:D$11,2,FALSE)","v":2},2643,125,{"$f":"VLOOKUP(E2645,'Ark1'!$C$2:$D$11,2,FALSE)","v":5},2643,200,{"$f":"VLOOKUP(H2645,'Ark1'!$C$2:$D$12,2,FALSE)","v":5}]
[2644,32,{"$f":"VLOOKUP(B2646,'Ark1'!C$2:D$11,2,FALSE)","v":2},2644,125,{"$f":"VLOOKUP(E2646,'Ark1'!$C$2:$D$11,2,FALSE)","v":5},2644,200,{"$f":"VLOOKUP(H2646,'Ark1'!$C$2:$D$12,2,FALSE)","v":5}]
[2645,32,{"$f":"VLOOKUP(B2647,'Ark1'!C$2:D$11,2,FALSE)","v":2},2645,125,{"$f":"VLOOKUP(E2647,'Ark1'!$C$2:$D$11,2,FALSE)","v":5},2645,200,{"$f":"VLOOKUP(H2647,'Ark1'!$C$2:$D$12,2,FALSE)","v":5}]
[2646,32,{"$f":"VLOOKUP(B2648,'Ark1'!C$2:D$11,2,FALSE)","v":2},2646,125,{"$f":"VLOOKUP(E2648,'Ark1'!$C$2:$D$11,2,FALSE)","v":5},2646,200,{"$f":"VLOOKUP(H2648,'Ark1'!$C$2:$D$12,2,FALSE)","v":5}]
[2647,32,{"$f":"VLOOKUP(B2649,'Ark1'!C$2:D$11,2,FALSE)","v":2},2647,125,{"$f":"VLOOKUP(E2649,'Ark1'!$C$2:$D$11,2,FALSE)","v":5},2647,200,{"$f":"VLOOKUP(H2649,'Ark1'!$C$2:$D$12,2,FALSE)","v":5}]
[2648,32,{"$f":"VLOOKUP(B2650,'Ark1'!C$2:D$11,2,FALSE)","v":2},2648,125,{"$f":"VLOOKUP(E2650,'Ark1'!$C$2:$D$11,2,FALSE)","v":5},2648,200,{"$f":"VLOOKUP(H2650,'Ark1'!$C$2:$D$12,2,FALSE)","v":5}]
[2649,32,{"$f":"VLOOKUP(B2651,'Ark1'!C$2:D$11,2,FALSE)","v":2},2649,125,{"$f":"VLOOKUP(E2651,'Ark1'!$C$2:$D$11,2,FALSE)","v":5},2649,200,{"$f":"VLOOKUP(H2651,'Ark1'!$C$2:$D$12,2,FALSE)","v":5}]
[2650,32,{"$f":"VLOOKUP(B2652,'Ark1'!C$2:D$11,2,FALSE)","v":2},2650,125,{"$f":"VLOOKUP(E2652,'Ark1'!$C$2:$D$11,2,FALSE)","v":5},2650,200,{"$f":"VLOOKUP(H2652,'Ark1'!$C$2:$D$12,2,FALSE)","v":5}]
[2651,32,{"$f":"VLOOKUP(B2653,'Ark1'!C$2:D$11,2,FALSE)","v":2},2651,125,{"$f":"VLOOKUP(E2653,'Ark1'!$C$2:$D$11,2,FALSE)","v":5},2651,200,{"$f":"VLOOKUP(H2653,'Ark1'!$C$2:$D$12,2,FALSE)","v":5}]
[2652,32,{"$f":"VLOOKUP(B2654,'Ark1'!C$2:D$11,2,FALSE)","v":2},2652,125,{"$f":"VLOOKUP(E2654,'Ark1'!$C$2:$D$11,2,FALSE)","v":5},2652,200,{"$f":"VLOOKUP(H2654,'Ark1'!$C$2:$D$12,2,FALSE)","v":5}]
[2653,32,{"$f":"VLOOKUP(B2655,'Ark1'!C$2:D$11,2,FALSE)","v":2},2653,125,{"$f":"VLOOKUP(E2655,'Ark1'!$C$2:$D$11,2,FALSE)","v":5},2653,200,{"$f":"VLOOKUP(H2655,'Ark1'!$C$2:$D$12,2,FALSE)","v":5}]
[2654,32,{"$f":"VLOOKUP(B2656,'Ark1'!C$2:D$11,2,FALSE)","v":2},2654,125,{"$f":"VLOOKUP(E2656,'Ark1'!$C$2:$D$11,2,FALSE)","v":5},2654,200,{"$f":"VLOOKUP(H2656,'Ark1'!$C$2:$D$12,2,FALSE)","v":5}]
[2655,32,{"$f":"VLOOKUP(B2657,'Ark1'!C$2:D$11,2,FALSE)","v":2},2655,125,{"$f":"VLOOKUP(E2657,'Ark1'!$C$2:$D$11,2,FALSE)","v":5},2655,200,{"$f":"VLOOKUP(H2657,'Ark1'!$C$2:$D$12,2,FALSE)","v":5}]
[2656,32,{"$f":"VLOOKUP(B2658,'Ark1'!C$2:D$11,2,FALSE)","v":2},2656,125,{"$f":"VLOOKUP(E2658,'Ark1'!$C$2:$D$11,2,FALSE)","v":5},2656,200,{"$f":"VLOOKUP(H2658,'Ark1'!$C$2:$D$12,2,FALSE)","v":5}]
[2657,32,{"$f":"VLOOKUP(B2659,'Ark1'!C$2:D$11,2,FALSE)","v":2},2657,125,{"$f":"VLOOKUP(E2659,'Ark1'!$C$2:$D$11,2,FALSE)","v":5},2657,200,{"$f":"VLOOKUP(H2659,'Ark1'!$C$2:$D$12,2,FALSE)","v":5}]
[2658,32,{"$f":"VLOOKUP(B2660,'Ark1'!C$2:D$11,2,FALSE)","v":2},2658,125,{"$f":"VLOOKUP(E2660,'Ark1'!$C$2:$D$11,2,FALSE)","v":5},2658,200,{"$f":"VLOOKUP(H2660,'Ark1'!$C$2:$D$12,2,FALSE)","v":5}]
[2659,32,{"$f":"VLOOKUP(B2661,'Ark1'!C$2:D$11,2,FALSE)","v":2},2659,125,{"$f":"VLOOKUP(E2661,'Ark1'!$C$2:$D$11,2,FALSE)","v":5},2659,200,{"$f":"VLOOKUP(H2661,'Ark1'!$C$2:$D$12,2,FALSE)","v":5}]
[2660,32,{"$f":"VLOOKUP(B2662,'Ark1'!C$2:D$11,2,FALSE)","v":2},2660,125,{"$f":"VLOOKUP(E2662,'Ark1'!$C$2:$D$11,2,FALSE)","v":5},2660,200,{"$f":"VLOOKUP(H2662,'Ark1'!$C$2:$D$12,2,FALSE)","v":5}]
[2661,32,{"$f":"VLOOKUP(B2663,'Ark1'!C$2:D$11,2,FALSE)","v":2},2661,125,{"$f":"VLOOKUP(E2663,'Ark1'!$C$2:$D$11,2,FALSE)","v":5},2661,200,{"$f":"VLOOKUP(H2663,'Ark1'!$C$2:$D$12,2,FALSE)","v":5}]
[2662,32,{"$f":"VLOOKUP(B2664,'Ark1'!C$2:D$11,2,FALSE)","v":2},2662,125,{"$f":"VLOOKUP(E2664,'Ark1'!$C$2:$D$11,2,FALSE)","v":5},2662,200,{"$f":"VLOOKUP(H2664,'Ark1'!$C$2:$D$12,2,FALSE)","v":5}]
[2663,32,{"$f":"VLOOKUP(B2665,'Ark1'!C$2:D$11,2,FALSE)","v":2},2663,125,{"$f":"VLOOKUP(E2665,'Ark1'!$C$2:$D$11,2,FALSE)","v":5},2663,200,{"$f":"VLOOKUP(H2665,'Ark1'!$C$2:$D$12,2,FALSE)","v":5}]
[2664,32,{"$f":"VLOOKUP(B2666,'Ark1'!C$2:D$11,2,FALSE)","v":2},2664,125,{"$f":"VLOOKUP(E2666,'Ark1'!$C$2:$D$11,2,FALSE)","v":5},2664,200,{"$f":"VLOOKUP(H2666,'Ark1'!$C$2:$D$12,2,FALSE)","v":5}]
[2665,32,{"$f":"VLOOKUP(B2667,'Ark1'!C$2:D$11,2,FALSE)","v":2},2665,125,{"$f":"VLOOKUP(E2667,'Ark1'!$C$2:$D$11,2,FALSE)","v":5},2665,200,{"$f":"VLOOKUP(H2667,'Ark1'!$C$2:$D$12,2,FALSE)","v":5}]
[2666,32,{"$f":"VLOOKUP(B2668,'Ark1'!C$2:D$11,2,FALSE)","v":2},2666,125,{"$f":"VLOOKUP(E2668,'Ark1'!$C$2:$D$11,2,FALSE)","v":5},2666,200,{"$f":"VLOOKUP(H2668,'Ark1'!$C$2:$D$12,2,FALSE)","v":5}]
[2667,32,{"$f":"VLOOKUP(B2669,'Ark1'!C$2:D$11,2,FALSE)","v":2},2667,125,{"$f":"VLOOKUP(E2669,'Ark1'!$C$2:$D$11,2,FALSE)","v":5},2667,200,{"$f":"VLOOKUP(H2669,'Ark1'!$C$2:$D$12,2,FALSE)","v":5}]
[2668,32,{"$f":"VLOOKUP(B2670,'Ark1'!C$2:D$11,2,FALSE)","v":2},2668,125,{"$f":"VLOOKUP(E2670,'Ark1'!$C$2:$D$11,2,FALSE)","v":5},2668,200,{"$f":"VLOOKUP(H2670,'Ark1'!$C$2:$D$12,2,FALSE)","v":5}]
[2669,32,{"$f":"VLOOKUP(B2671,'Ark1'!C$2:D$11,2,FALSE)","v":2},2669,125,{"$f":"VLOOKUP(E2671,'Ark1'!$C$2:$D$11,2,FALSE)","v":5},2669,200,{"$f":"VLOOKUP(H2671,'Ark1'!$C$2:$D$12,2,FALSE)","v":5}]
[2670,32,{"$f":"VLOOKUP(B2672,'Ark1'!C$2:D$11,2,FALSE)","v":2},2670,125,{"$f":"VLOOKUP(E2672,'Ark1'!$C$2:$D$11,2,FALSE)","v":5},2670,200,{"$f":"VLOOKUP(H2672,'Ark1'!$C$2:$D$12,2,FALSE)","v":5}]
[2671,32,{"$f":"VLOOKUP(B2673,'Ark1'!C$2:D$11,2,FALSE)","v":2},2671,125,{"$f":"VLOOKUP(E2673,'Ark1'!$C$2:$D$11,2,FALSE)","v":5},2671,200,{"$f":"VLOOKUP(H2673,'Ark1'!$C$2:$D$12,2,FALSE)","v":5}]
[2672,32,{"$f":"VLOOKUP(B2674,'Ark1'!C$2:D$11,2,FALSE)","v":2},2672,125,{"$f":"VLOOKUP(E2674,'Ark1'!$C$2:$D$11,2,FALSE)","v":5},2672,200,{"$f":"VLOOKUP(H2674,'Ark1'!$C$2:$D$12,2,FALSE)","v":5}]
[2673,32,{"$f":"VLOOKUP(B2675,'Ark1'!C$2:D$11,2,FALSE)","v":2},2673,125,{"$f":"VLOOKUP(E2675,'Ark1'!$C$2:$D$11,2,FALSE)","v":5},2673,200,{"$f":"VLOOKUP(H2675,'Ark1'!$C$2:$D$12,2,FALSE)","v":5}]
[2674,32,{"$f":"VLOOKUP(B2676,'Ark1'!C$2:D$11,2,FALSE)","v":2},2674,125,{"$f":"VLOOKUP(E2676,'Ark1'!$C$2:$D$11,2,FALSE)","v":5},2674,200,{"$f":"VLOOKUP(H2676,'Ark1'!$C$2:$D$12,2,FALSE)","v":5}]
[2675,32,{"$f":"VLOOKUP(B2677,'Ark1'!C$2:D$11,2,FALSE)","v":2},2675,125,{"$f":"VLOOKUP(E2677,'Ark1'!$C$2:$D$11,2,FALSE)","v":5},2675,200,{"$f":"VLOOKUP(H2677,'Ark1'!$C$2:$D$12,2,FALSE)","v":5}]
[2676,32,{"$f":"VLOOKUP(B2678,'Ark1'!C$2:D$11,2,FALSE)","v":2},2676,125,{"$f":"VLOOKUP(E2678,'Ark1'!$C$2:$D$11,2,FALSE)","v":5},2676,200,{"$f":"VLOOKUP(H2678,'Ark1'!$C$2:$D$12,2,FALSE)","v":5}]
[2677,32,{"$f":"VLOOKUP(B2679,'Ark1'!C$2:D$11,2,FALSE)","v":2},2677,125,{"$f":"VLOOKUP(E2679,'Ark1'!$C$2:$D$11,2,FALSE)","v":5},2677,200,{"$f":"VLOOKUP(H2679,'Ark1'!$C$2:$D$12,2,FALSE)","v":5}]
[2678,32,{"$f":"VLOOKUP(B2680,'Ark1'!C$2:D$11,2,FALSE)","v":2},2678,125,{"$f":"VLOOKUP(E2680,'Ark1'!$C$2:$D$11,2,FALSE)","v":5},2678,200,{"$f":"VLOOKUP(H2680,'Ark1'!$C$2:$D$12,2,FALSE)","v":5}]
[2679,32,{"$f":"VLOOKUP(B2681,'Ark1'!C$2:D$11,2,FALSE)","v":2},2679,125,{"$f":"VLOOKUP(E2681,'Ark1'!$C$2:$D$11,2,FALSE)","v":5},2679,200,{"$f":"VLOOKUP(H2681,'Ark1'!$C$2:$D$12,2,FALSE)","v":5}]
[2680,32,{"$f":"VLOOKUP(B2682,'Ark1'!C$2:D$11,2,FALSE)","v":2},2680,125,{"$f":"VLOOKUP(E2682,'Ark1'!$C$2:$D$11,2,FALSE)","v":5},2680,200,{"$f":"VLOOKUP(H2682,'Ark1'!$C$2:$D$12,2,FALSE)","v":5}]
[2681,32,{"$f":"VLOOKUP(B2683,'Ark1'!C$2:D$11,2,FALSE)","v":2},2681,125,{"$f":"VLOOKUP(E2683,'Ark1'!$C$2:$D$11,2,FALSE)","v":5},2681,200,{"$f":"VLOOKUP(H2683,'Ark1'!$C$2:$D$12,2,FALSE)","v":5}]
[2682,32,{"$f":"VLOOKUP(B2684,'Ark1'!C$2:D$11,2,FALSE)","v":2},2682,125,{"$f":"VLOOKUP(E2684,'Ark1'!$C$2:$D$11,2,FALSE)","v":5},2682,200,{"$f":"VLOOKUP(H2684,'Ark1'!$C$2:$D$12,2,FALSE)","v":5}]
[2683,32,{"$f":"VLOOKUP(B2685,'Ark1'!C$2:D$11,2,FALSE)","v":2},2683,125,{"$f":"VLOOKUP(E2685,'Ark1'!$C$2:$D$11,2,FALSE)","v":5},2683,200,{"$f":"VLOOKUP(H2685,'Ark1'!$C$2:$D$12,2,FALSE)","v":5}]
[2684,32,{"$f":"VLOOKUP(B2686,'Ark1'!C$2:D$11,2,FALSE)","v":2},2684,125,{"$f":"VLOOKUP(E2686,'Ark1'!$C$2:$D$11,2,FALSE)","v":5},2684,200,{"$f":"VLOOKUP(H2686,'Ark1'!$C$2:$D$12,2,FALSE)","v":5}]
[2685,32,{"$f":"VLOOKUP(B2687,'Ark1'!C$2:D$11,2,FALSE)","v":2},2685,125,{"$f":"VLOOKUP(E2687,'Ark1'!$C$2:$D$11,2,FALSE)","v":5},2685,200,{"$f":"VLOOKUP(H2687,'Ark1'!$C$2:$D$12,2,FALSE)","v":5}]
[2686,32,{"$f":"VLOOKUP(B2688,'Ark1'!C$2:D$11,2,FALSE)","v":2},2686,125,{"$f":"VLOOKUP(E2688,'Ark1'!$C$2:$D$11,2,FALSE)","v":5},2686,200,{"$f":"VLOOKUP(H2688,'Ark1'!$C$2:$D$12,2,FALSE)","v":5}]
[2687,32,{"$f":"VLOOKUP(B2689,'Ark1'!C$2:D$11,2,FALSE)","v":2},2687,125,{"$f":"VLOOKUP(E2689,'Ark1'!$C$2:$D$11,2,FALSE)","v":5},2687,200,{"$f":"VLOOKUP(H2689,'Ark1'!$C$2:$D$12,2,FALSE)","v":5}]
[2688,32,{"$f":"VLOOKUP(B2690,'Ark1'!C$2:D$11,2,FALSE)","v":2},2688,125,{"$f":"VLOOKUP(E2690,'Ark1'!$C$2:$D$11,2,FALSE)","v":5},2688,200,{"$f":"VLOOKUP(H2690,'Ark1'!$C$2:$D$12,2,FALSE)","v":5}]
[2689,32,{"$f":"VLOOKUP(B2691,'Ark1'!C$2:D$11,2,FALSE)","v":2},2689,125,{"$f":"VLOOKUP(E2691,'Ark1'!$C$2:$D$11,2,FALSE)","v":5},2689,200,{"$f":"VLOOKUP(H2691,'Ark1'!$C$2:$D$12,2,FALSE)","v":5}]
[2690,32,{"$f":"VLOOKUP(B2692,'Ark1'!C$2:D$11,2,FALSE)","v":2},2690,125,{"$f":"VLOOKUP(E2692,'Ark1'!$C$2:$D$11,2,FALSE)","v":5},2690,200,{"$f":"VLOOKUP(H2692,'Ark1'!$C$2:$D$12,2,FALSE)","v":5}]
[2691,32,{"$f":"VLOOKUP(B2693,'Ark1'!C$2:D$11,2,FALSE)","v":2},2691,125,{"$f":"VLOOKUP(E2693,'Ark1'!$C$2:$D$11,2,FALSE)","v":5},2691,200,{"$f":"VLOOKUP(H2693,'Ark1'!$C$2:$D$12,2,FALSE)","v":5}]
[2692,32,{"$f":"VLOOKUP(B2694,'Ark1'!C$2:D$11,2,FALSE)","v":2},2692,125,{"$f":"VLOOKUP(E2694,'Ark1'!$C$2:$D$11,2,FALSE)","v":5},2692,200,{"$f":"VLOOKUP(H2694,'Ark1'!$C$2:$D$12,2,FALSE)","v":5}]
[2693,32,{"$f":"VLOOKUP(B2695,'Ark1'!C$2:D$11,2,FALSE)","v":2},2693,125,{"$f":"VLOOKUP(E2695,'Ark1'!$C$2:$D$11,2,FALSE)","v":5},2693,200,{"$f":"VLOOKUP(H2695,'Ark1'!$C$2:$D$12,2,FALSE)","v":5}]
[2694,32,{"$f":"VLOOKUP(B2696,'Ark1'!C$2:D$11,2,FALSE)","v":2},2694,125,{"$f":"VLOOKUP(E2696,'Ark1'!$C$2:$D$11,2,FALSE)","v":5},2694,200,{"$f":"VLOOKUP(H2696,'Ark1'!$C$2:$D$12,2,FALSE)","v":5}]
[2695,32,{"$f":"VLOOKUP(B2697,'Ark1'!C$2:D$11,2,FALSE)","v":2},2695,125,{"$f":"VLOOKUP(E2697,'Ark1'!$C$2:$D$11,2,FALSE)","v":5},2695,200,{"$f":"VLOOKUP(H2697,'Ark1'!$C$2:$D$12,2,FALSE)","v":5}]
[2696,32,{"$f":"VLOOKUP(B2698,'Ark1'!C$2:D$11,2,FALSE)","v":2},2696,125,{"$f":"VLOOKUP(E2698,'Ark1'!$C$2:$D$11,2,FALSE)","v":5},2696,200,{"$f":"VLOOKUP(H2698,'Ark1'!$C$2:$D$12,2,FALSE)","v":5}]
[2697,32,{"$f":"VLOOKUP(B2699,'Ark1'!C$2:D$11,2,FALSE)","v":2},2697,125,{"$f":"VLOOKUP(E2699,'Ark1'!$C$2:$D$11,2,FALSE)","v":5},2697,200,{"$f":"VLOOKUP(H2699,'Ark1'!$C$2:$D$12,2,FALSE)","v":5}]
[2698,32,{"$f":"VLOOKUP(B2700,'Ark1'!C$2:D$11,2,FALSE)","v":2},2698,125,{"$f":"VLOOKUP(E2700,'Ark1'!$C$2:$D$11,2,FALSE)","v":5},2698,200,{"$f":"VLOOKUP(H2700,'Ark1'!$C$2:$D$12,2,FALSE)","v":5}]
[2699,32,{"$f":"VLOOKUP(B2701,'Ark1'!C$2:D$11,2,FALSE)","v":2},2699,125,{"$f":"VLOOKUP(E2701,'Ark1'!$C$2:$D$11,2,FALSE)","v":5},2699,200,{"$f":"VLOOKUP(H2701,'Ark1'!$C$2:$D$12,2,FALSE)","v":5}]
[2700,32,{"$f":"VLOOKUP(B2702,'Ark1'!C$2:D$11,2,FALSE)","v":2},2700,125,{"$f":"VLOOKUP(E2702,'Ark1'!$C$2:$D$11,2,FALSE)","v":5},2700,200,{"$f":"VLOOKUP(H2702,'Ark1'!$C$2:$D$12,2,FALSE)","v":5}]
[2701,32,{"$f":"VLOOKUP(B2703,'Ark1'!C$2:D$11,2,FALSE)","v":2},2701,125,{"$f":"VLOOKUP(E2703,'Ark1'!$C$2:$D$11,2,FALSE)","v":5},2701,200,{"$f":"VLOOKUP(H2703,'Ark1'!$C$2:$D$12,2,FALSE)","v":5}]
[2702,32,{"$f":"VLOOKUP(B2704,'Ark1'!C$2:D$11,2,FALSE)","v":2},2702,125,{"$f":"VLOOKUP(E2704,'Ark1'!$C$2:$D$11,2,FALSE)","v":5},2702,200,{"$f":"VLOOKUP(H2704,'Ark1'!$C$2:$D$12,2,FALSE)","v":5}]
[2703,32,{"$f":"VLOOKUP(B2705,'Ark1'!C$2:D$11,2,FALSE)","v":2},2703,125,{"$f":"VLOOKUP(E2705,'Ark1'!$C$2:$D$11,2,FALSE)","v":5},2703,200,{"$f":"VLOOKUP(H2705,'Ark1'!$C$2:$D$12,2,FALSE)","v":5}]
[2704,32,{"$f":"VLOOKUP(B2706,'Ark1'!C$2:D$11,2,FALSE)","v":2},2704,125,{"$f":"VLOOKUP(E2706,'Ark1'!$C$2:$D$11,2,FALSE)","v":5},2704,200,{"$f":"VLOOKUP(H2706,'Ark1'!$C$2:$D$12,2,FALSE)","v":5}]
[2705,32,{"$f":"VLOOKUP(B2707,'Ark1'!C$2:D$11,2,FALSE)","v":2},2705,125,{"$f":"VLOOKUP(E2707,'Ark1'!$C$2:$D$11,2,FALSE)","v":5},2705,200,{"$f":"VLOOKUP(H2707,'Ark1'!$C$2:$D$12,2,FALSE)","v":5}]
[2706,32,{"$f":"VLOOKUP(B2708,'Ark1'!C$2:D$11,2,FALSE)","v":2},2706,125,{"$f":"VLOOKUP(E2708,'Ark1'!$C$2:$D$11,2,FALSE)","v":5},2706,200,{"$f":"VLOOKUP(H2708,'Ark1'!$C$2:$D$12,2,FALSE)","v":5}]
[2707,32,{"$f":"VLOOKUP(B2709,'Ark1'!C$2:D$11,2,FALSE)","v":2},2707,125,{"$f":"VLOOKUP(E2709,'Ark1'!$C$2:$D$11,2,FALSE)","v":5},2707,200,{"$f":"VLOOKUP(H2709,'Ark1'!$C$2:$D$12,2,FALSE)","v":5}]
[2708,32,{"$f":"VLOOKUP(B2710,'Ark1'!C$2:D$11,2,FALSE)","v":2},2708,125,{"$f":"VLOOKUP(E2710,'Ark1'!$C$2:$D$11,2,FALSE)","v":5},2708,200,{"$f":"VLOOKUP(H2710,'Ark1'!$C$2:$D$12,2,FALSE)","v":5}]
[2709,32,{"$f":"VLOOKUP(B2711,'Ark1'!C$2:D$11,2,FALSE)","v":2},2709,125,{"$f":"VLOOKUP(E2711,'Ark1'!$C$2:$D$11,2,FALSE)","v":5},2709,200,{"$f":"VLOOKUP(H2711,'Ark1'!$C$2:$D$12,2,FALSE)","v":5}]
[2710,32,{"$f":"VLOOKUP(B2712,'Ark1'!C$2:D$11,2,FALSE)","v":2},2710,125,{"$f":"VLOOKUP(E2712,'Ark1'!$C$2:$D$11,2,FALSE)","v":5},2710,200,{"$f":"VLOOKUP(H2712,'Ark1'!$C$2:$D$12,2,FALSE)","v":5}]
[2711,32,{"$f":"VLOOKUP(B2713,'Ark1'!C$2:D$11,2,FALSE)","v":2},2711,125,{"$f":"VLOOKUP(E2713,'Ark1'!$C$2:$D$11,2,FALSE)","v":5},2711,200,{"$f":"VLOOKUP(H2713,'Ark1'!$C$2:$D$12,2,FALSE)","v":5}]
[2712,32,{"$f":"VLOOKUP(B2714,'Ark1'!C$2:D$11,2,FALSE)","v":2},2712,125,{"$f":"VLOOKUP(E2714,'Ark1'!$C$2:$D$11,2,FALSE)","v":5},2712,200,{"$f":"VLOOKUP(H2714,'Ark1'!$C$2:$D$12,2,FALSE)","v":5}]
[2713,32,{"$f":"VLOOKUP(B2715,'Ark1'!C$2:D$11,2,FALSE)","v":2},2713,125,{"$f":"VLOOKUP(E2715,'Ark1'!$C$2:$D$11,2,FALSE)","v":5},2713,200,{"$f":"VLOOKUP(H2715,'Ark1'!$C$2:$D$12,2,FALSE)","v":5}]
[2714,32,{"$f":"VLOOKUP(B2716,'Ark1'!C$2:D$11,2,FALSE)","v":2},2714,125,{"$f":"VLOOKUP(E2716,'Ark1'!$C$2:$D$11,2,FALSE)","v":5},2714,200,{"$f":"VLOOKUP(H2716,'Ark1'!$C$2:$D$12,2,FALSE)","v":5}]
[2715,32,{"$f":"VLOOKUP(B2717,'Ark1'!C$2:D$11,2,FALSE)","v":2},2715,125,{"$f":"VLOOKUP(E2717,'Ark1'!$C$2:$D$11,2,FALSE)","v":5},2715,200,{"$f":"VLOOKUP(H2717,'Ark1'!$C$2:$D$12,2,FALSE)","v":5}]
[2716,32,{"$f":"VLOOKUP(B2718,'Ark1'!C$2:D$11,2,FALSE)","v":2},2716,125,{"$f":"VLOOKUP(E2718,'Ark1'!$C$2:$D$11,2,FALSE)","v":5},2716,200,{"$f":"VLOOKUP(H2718,'Ark1'!$C$2:$D$12,2,FALSE)","v":5}]
[2717,32,{"$f":"VLOOKUP(B2719,'Ark1'!C$2:D$11,2,FALSE)","v":2},2717,125,{"$f":"VLOOKUP(E2719,'Ark1'!$C$2:$D$11,2,FALSE)","v":5},2717,200,{"$f":"VLOOKUP(H2719,'Ark1'!$C$2:$D$12,2,FALSE)","v":5}]
[2718,32,{"$f":"VLOOKUP(B2720,'Ark1'!C$2:D$11,2,FALSE)","v":2},2718,125,{"$f":"VLOOKUP(E2720,'Ark1'!$C$2:$D$11,2,FALSE)","v":5},2718,200,{"$f":"VLOOKUP(H2720,'Ark1'!$C$2:$D$12,2,FALSE)","v":5}]
[2719,32,{"$f":"VLOOKUP(B2721,'Ark1'!C$2:D$11,2,FALSE)","v":2},2719,125,{"$f":"VLOOKUP(E2721,'Ark1'!$C$2:$D$11,2,FALSE)","v":5},2719,200,{"$f":"VLOOKUP(H2721,'Ark1'!$C$2:$D$12,2,FALSE)","v":5}]
[2720,32,{"$f":"VLOOKUP(B2722,'Ark1'!C$2:D$11,2,FALSE)","v":2},2720,125,{"$f":"VLOOKUP(E2722,'Ark1'!$C$2:$D$11,2,FALSE)","v":5},2720,200,{"$f":"VLOOKUP(H2722,'Ark1'!$C$2:$D$12,2,FALSE)","v":5}]
[2721,32,{"$f":"VLOOKUP(B2723,'Ark1'!C$2:D$11,2,FALSE)","v":2},2721,125,{"$f":"VLOOKUP(E2723,'Ark1'!$C$2:$D$11,2,FALSE)","v":5},2721,200,{"$f":"VLOOKUP(H2723,'Ark1'!$C$2:$D$12,2,FALSE)","v":5}]
[2722,32,{"$f":"VLOOKUP(B2724,'Ark1'!C$2:D$11,2,FALSE)","v":2},2722,125,{"$f":"VLOOKUP(E2724,'Ark1'!$C$2:$D$11,2,FALSE)","v":5},2722,200,{"$f":"VLOOKUP(H2724,'Ark1'!$C$2:$D$12,2,FALSE)","v":5}]
[2723,32,{"$f":"VLOOKUP(B2725,'Ark1'!C$2:D$11,2,FALSE)","v":2},2723,125,{"$f":"VLOOKUP(E2725,'Ark1'!$C$2:$D$11,2,FALSE)","v":5},2723,200,{"$f":"VLOOKUP(H2725,'Ark1'!$C$2:$D$12,2,FALSE)","v":5}]
[2724,32,{"$f":"VLOOKUP(B2726,'Ark1'!C$2:D$11,2,FALSE)","v":2},2724,125,{"$f":"VLOOKUP(E2726,'Ark1'!$C$2:$D$11,2,FALSE)","v":5},2724,200,{"$f":"VLOOKUP(H2726,'Ark1'!$C$2:$D$12,2,FALSE)","v":5}]
[2725,32,{"$f":"VLOOKUP(B2727,'Ark1'!C$2:D$11,2,FALSE)","v":2},2725,125,{"$f":"VLOOKUP(E2727,'Ark1'!$C$2:$D$11,2,FALSE)","v":5},2725,200,{"$f":"VLOOKUP(H2727,'Ark1'!$C$2:$D$12,2,FALSE)","v":5}]
[2726,32,{"$f":"VLOOKUP(B2728,'Ark1'!C$2:D$11,2,FALSE)","v":2},2726,125,{"$f":"VLOOKUP(E2728,'Ark1'!$C$2:$D$11,2,FALSE)","v":5},2726,200,{"$f":"VLOOKUP(H2728,'Ark1'!$C$2:$D$12,2,FALSE)","v":5}]
[2727,32,{"$f":"VLOOKUP(B2729,'Ark1'!C$2:D$11,2,FALSE)","v":2},2727,125,{"$f":"VLOOKUP(E2729,'Ark1'!$C$2:$D$11,2,FALSE)","v":5},2727,200,{"$f":"VLOOKUP(H2729,'Ark1'!$C$2:$D$12,2,FALSE)","v":5}]
[2728,32,{"$f":"VLOOKUP(B2730,'Ark1'!C$2:D$11,2,FALSE)","v":2},2728,125,{"$f":"VLOOKUP(E2730,'Ark1'!$C$2:$D$11,2,FALSE)","v":5},2728,200,{"$f":"VLOOKUP(H2730,'Ark1'!$C$2:$D$12,2,FALSE)","v":5}]
[2729,32,{"$f":"VLOOKUP(B2731,'Ark1'!C$2:D$11,2,FALSE)","v":2},2729,125,{"$f":"VLOOKUP(E2731,'Ark1'!$C$2:$D$11,2,FALSE)","v":5},2729,200,{"$f":"VLOOKUP(H2731,'Ark1'!$C$2:$D$12,2,FALSE)","v":5}]
[2730,32,{"$f":"VLOOKUP(B2732,'Ark1'!C$2:D$11,2,FALSE)","v":2},2730,125,{"$f":"VLOOKUP(E2732,'Ark1'!$C$2:$D$11,2,FALSE)","v":5},2730,200,{"$f":"VLOOKUP(H2732,'Ark1'!$C$2:$D$12,2,FALSE)","v":5}]
[2731,32,{"$f":"VLOOKUP(B2733,'Ark1'!C$2:D$11,2,FALSE)","v":2},2731,125,{"$f":"VLOOKUP(E2733,'Ark1'!$C$2:$D$11,2,FALSE)","v":5},2731,200,{"$f":"VLOOKUP(H2733,'Ark1'!$C$2:$D$12,2,FALSE)","v":5}]
[2732,32,{"$f":"VLOOKUP(B2734,'Ark1'!C$2:D$11,2,FALSE)","v":2},2732,125,{"$f":"VLOOKUP(E2734,'Ark1'!$C$2:$D$11,2,FALSE)","v":5},2732,200,{"$f":"VLOOKUP(H2734,'Ark1'!$C$2:$D$12,2,FALSE)","v":5}]
[2733,32,{"$f":"VLOOKUP(B2735,'Ark1'!C$2:D$11,2,FALSE)","v":2},2733,125,{"$f":"VLOOKUP(E2735,'Ark1'!$C$2:$D$11,2,FALSE)","v":5},2733,200,{"$f":"VLOOKUP(H2735,'Ark1'!$C$2:$D$12,2,FALSE)","v":5}]
[2734,32,{"$f":"VLOOKUP(B2736,'Ark1'!C$2:D$11,2,FALSE)","v":2},2734,125,{"$f":"VLOOKUP(E2736,'Ark1'!$C$2:$D$11,2,FALSE)","v":5},2734,200,{"$f":"VLOOKUP(H2736,'Ark1'!$C$2:$D$12,2,FALSE)","v":5}]
[2735,32,{"$f":"VLOOKUP(B2737,'Ark1'!C$2:D$11,2,FALSE)","v":2},2735,125,{"$f":"VLOOKUP(E2737,'Ark1'!$C$2:$D$11,2,FALSE)","v":5},2735,200,{"$f":"VLOOKUP(H2737,'Ark1'!$C$2:$D$12,2,FALSE)","v":5}]
[2736,32,{"$f":"VLOOKUP(B2738,'Ark1'!C$2:D$11,2,FALSE)","v":2},2736,125,{"$f":"VLOOKUP(E2738,'Ark1'!$C$2:$D$11,2,FALSE)","v":5},2736,200,{"$f":"VLOOKUP(H2738,'Ark1'!$C$2:$D$12,2,FALSE)","v":5}]
[2737,32,{"$f":"VLOOKUP(B2739,'Ark1'!C$2:D$11,2,FALSE)","v":2},2737,125,{"$f":"VLOOKUP(E2739,'Ark1'!$C$2:$D$11,2,FALSE)","v":5},2737,200,{"$f":"VLOOKUP(H2739,'Ark1'!$C$2:$D$12,2,FALSE)","v":5}]
[2738,32,{"$f":"VLOOKUP(B2740,'Ark1'!C$2:D$11,2,FALSE)","v":2},2738,125,{"$f":"VLOOKUP(E2740,'Ark1'!$C$2:$D$11,2,FALSE)","v":5},2738,200,{"$f":"VLOOKUP(H2740,'Ark1'!$C$2:$D$12,2,FALSE)","v":5}]
[2739,32,{"$f":"VLOOKUP(B2741,'Ark1'!C$2:D$11,2,FALSE)","v":2},2739,125,{"$f":"VLOOKUP(E2741,'Ark1'!$C$2:$D$11,2,FALSE)","v":5},2739,200,{"$f":"VLOOKUP(H2741,'Ark1'!$C$2:$D$12,2,FALSE)","v":5}]
[2740,32,{"$f":"VLOOKUP(B2742,'Ark1'!C$2:D$11,2,FALSE)","v":2},2740,125,{"$f":"VLOOKUP(E2742,'Ark1'!$C$2:$D$11,2,FALSE)","v":5},2740,200,{"$f":"VLOOKUP(H2742,'Ark1'!$C$2:$D$12,2,FALSE)","v":5}]
[2741,32,{"$f":"VLOOKUP(B2743,'Ark1'!C$2:D$11,2,FALSE)","v":2},2741,125,{"$f":"VLOOKUP(E2743,'Ark1'!$C$2:$D$11,2,FALSE)","v":5},2741,200,{"$f":"VLOOKUP(H2743,'Ark1'!$C$2:$D$12,2,FALSE)","v":5}]
[2742,32,{"$f":"VLOOKUP(B2744,'Ark1'!C$2:D$11,2,FALSE)","v":2},2742,125,{"$f":"VLOOKUP(E2744,'Ark1'!$C$2:$D$11,2,FALSE)","v":5},2742,200,{"$f":"VLOOKUP(H2744,'Ark1'!$C$2:$D$12,2,FALSE)","v":5}]
[2743,32,{"$f":"VLOOKUP(B2745,'Ark1'!C$2:D$11,2,FALSE)","v":2},2743,125,{"$f":"VLOOKUP(E2745,'Ark1'!$C$2:$D$11,2,FALSE)","v":5},2743,200,{"$f":"VLOOKUP(H2745,'Ark1'!$C$2:$D$12,2,FALSE)","v":5}]
[2744,32,{"$f":"VLOOKUP(B2746,'Ark1'!C$2:D$11,2,FALSE)","v":2},2744,125,{"$f":"VLOOKUP(E2746,'Ark1'!$C$2:$D$11,2,FALSE)","v":5},2744,200,{"$f":"VLOOKUP(H2746,'Ark1'!$C$2:$D$12,2,FALSE)","v":5}]
[2745,32,{"$f":"VLOOKUP(B2747,'Ark1'!C$2:D$11,2,FALSE)","v":2},2745,125,{"$f":"VLOOKUP(E2747,'Ark1'!$C$2:$D$11,2,FALSE)","v":5},2745,200,{"$f":"VLOOKUP(H2747,'Ark1'!$C$2:$D$12,2,FALSE)","v":5}]
[2746,32,{"$f":"VLOOKUP(B2748,'Ark1'!C$2:D$11,2,FALSE)","v":2},2746,125,{"$f":"VLOOKUP(E2748,'Ark1'!$C$2:$D$11,2,FALSE)","v":5},2746,200,{"$f":"VLOOKUP(H2748,'Ark1'!$C$2:$D$12,2,FALSE)","v":5}]
[2747,32,{"$f":"VLOOKUP(B2749,'Ark1'!C$2:D$11,2,FALSE)","v":2},2747,125,{"$f":"VLOOKUP(E2749,'Ark1'!$C$2:$D$11,2,FALSE)","v":5},2747,200,{"$f":"VLOOKUP(H2749,'Ark1'!$C$2:$D$12,2,FALSE)","v":5}]
[2748,32,{"$f":"VLOOKUP(B2750,'Ark1'!C$2:D$11,2,FALSE)","v":2},2748,125,{"$f":"VLOOKUP(E2750,'Ark1'!$C$2:$D$11,2,FALSE)","v":5},2748,200,{"$f":"VLOOKUP(H2750,'Ark1'!$C$2:$D$12,2,FALSE)","v":5}]
[2749,32,{"$f":"VLOOKUP(B2751,'Ark1'!C$2:D$11,2,FALSE)","v":2},2749,125,{"$f":"VLOOKUP(E2751,'Ark1'!$C$2:$D$11,2,FALSE)","v":5},2749,200,{"$f":"VLOOKUP(H2751,'Ark1'!$C$2:$D$12,2,FALSE)","v":5}]
[2750,32,{"$f":"VLOOKUP(B2752,'Ark1'!C$2:D$11,2,FALSE)","v":2},2750,125,{"$f":"VLOOKUP(E2752,'Ark1'!$C$2:$D$11,2,FALSE)","v":5},2750,200,{"$f":"VLOOKUP(H2752,'Ark1'!$C$2:$D$12,2,FALSE)","v":5}]
[2751,32,{"$f":"VLOOKUP(B2753,'Ark1'!C$2:D$11,2,FALSE)","v":2},2751,125,{"$f":"VLOOKUP(E2753,'Ark1'!$C$2:$D$11,2,FALSE)","v":5},2751,200,{"$f":"VLOOKUP(H2753,'Ark1'!$C$2:$D$12,2,FALSE)","v":5}]
[2752,32,{"$f":"VLOOKUP(B2754,'Ark1'!C$2:D$11,2,FALSE)","v":2},2752,125,{"$f":"VLOOKUP(E2754,'Ark1'!$C$2:$D$11,2,FALSE)","v":5},2752,200,{"$f":"VLOOKUP(H2754,'Ark1'!$C$2:$D$12,2,FALSE)","v":5}]
[2753,32,{"$f":"VLOOKUP(B2755,'Ark1'!C$2:D$11,2,FALSE)","v":2},2753,125,{"$f":"VLOOKUP(E2755,'Ark1'!$C$2:$D$11,2,FALSE)","v":5},2753,200,{"$f":"VLOOKUP(H2755,'Ark1'!$C$2:$D$12,2,FALSE)","v":5}]
[2754,32,{"$f":"VLOOKUP(B2756,'Ark1'!C$2:D$11,2,FALSE)","v":2},2754,125,{"$f":"VLOOKUP(E2756,'Ark1'!$C$2:$D$11,2,FALSE)","v":5},2754,200,{"$f":"VLOOKUP(H2756,'Ark1'!$C$2:$D$12,2,FALSE)","v":5}]
[2755,32,{"$f":"VLOOKUP(B2757,'Ark1'!C$2:D$11,2,FALSE)","v":2},2755,125,{"$f":"VLOOKUP(E2757,'Ark1'!$C$2:$D$11,2,FALSE)","v":5},2755,200,{"$f":"VLOOKUP(H2757,'Ark1'!$C$2:$D$12,2,FALSE)","v":5}]
[2756,32,{"$f":"VLOOKUP(B2758,'Ark1'!C$2:D$11,2,FALSE)","v":2},2756,125,{"$f":"VLOOKUP(E2758,'Ark1'!$C$2:$D$11,2,FALSE)","v":5},2756,200,{"$f":"VLOOKUP(H2758,'Ark1'!$C$2:$D$12,2,FALSE)","v":5}]
[2757,32,{"$f":"VLOOKUP(B2759,'Ark1'!C$2:D$11,2,FALSE)","v":2},2757,125,{"$f":"VLOOKUP(E2759,'Ark1'!$C$2:$D$11,2,FALSE)","v":5},2757,200,{"$f":"VLOOKUP(H2759,'Ark1'!$C$2:$D$12,2,FALSE)","v":5}]
[2758,32,{"$f":"VLOOKUP(B2760,'Ark1'!C$2:D$11,2,FALSE)","v":2},2758,125,{"$f":"VLOOKUP(E2760,'Ark1'!$C$2:$D$11,2,FALSE)","v":5},2758,200,{"$f":"VLOOKUP(H2760,'Ark1'!$C$2:$D$12,2,FALSE)","v":5}]
[2759,32,{"$f":"VLOOKUP(B2761,'Ark1'!C$2:D$11,2,FALSE)","v":2},2759,125,{"$f":"VLOOKUP(E2761,'Ark1'!$C$2:$D$11,2,FALSE)","v":5},2759,200,{"$f":"VLOOKUP(H2761,'Ark1'!$C$2:$D$12,2,FALSE)","v":5}]
[2760,32,{"$f":"VLOOKUP(B2762,'Ark1'!C$2:D$11,2,FALSE)","v":2},2760,125,{"$f":"VLOOKUP(E2762,'Ark1'!$C$2:$D$11,2,FALSE)","v":5},2760,200,{"$f":"VLOOKUP(H2762,'Ark1'!$C$2:$D$12,2,FALSE)","v":5}]
[2761,32,{"$f":"VLOOKUP(B2763,'Ark1'!C$2:D$11,2,FALSE)","v":2},2761,125,{"$f":"VLOOKUP(E2763,'Ark1'!$C$2:$D$11,2,FALSE)","v":5},2761,200,{"$f":"VLOOKUP(H2763,'Ark1'!$C$2:$D$12,2,FALSE)","v":5}]
[2762,32,{"$f":"VLOOKUP(B2764,'Ark1'!C$2:D$11,2,FALSE)","v":2},2762,125,{"$f":"VLOOKUP(E2764,'Ark1'!$C$2:$D$11,2,FALSE)","v":5},2762,200,{"$f":"VLOOKUP(H2764,'Ark1'!$C$2:$D$12,2,FALSE)","v":5}]
[2763,32,{"$f":"VLOOKUP(B2765,'Ark1'!C$2:D$11,2,FALSE)","v":2},2763,125,{"$f":"VLOOKUP(E2765,'Ark1'!$C$2:$D$11,2,FALSE)","v":5},2763,200,{"$f":"VLOOKUP(H2765,'Ark1'!$C$2:$D$12,2,FALSE)","v":5}]
[2764,32,{"$f":"VLOOKUP(B2766,'Ark1'!C$2:D$11,2,FALSE)","v":2},2764,125,{"$f":"VLOOKUP(E2766,'Ark1'!$C$2:$D$11,2,FALSE)","v":5},2764,200,{"$f":"VLOOKUP(H2766,'Ark1'!$C$2:$D$12,2,FALSE)","v":5}]
[2765,32,{"$f":"VLOOKUP(B2767,'Ark1'!C$2:D$11,2,FALSE)","v":2},2765,125,{"$f":"VLOOKUP(E2767,'Ark1'!$C$2:$D$11,2,FALSE)","v":5},2765,200,{"$f":"VLOOKUP(H2767,'Ark1'!$C$2:$D$12,2,FALSE)","v":5}]
[2766,32,{"$f":"VLOOKUP(B2768,'Ark1'!C$2:D$11,2,FALSE)","v":2},2766,125,{"$f":"VLOOKUP(E2768,'Ark1'!$C$2:$D$11,2,FALSE)","v":5},2766,200,{"$f":"VLOOKUP(H2768,'Ark1'!$C$2:$D$12,2,FALSE)","v":5}]
[2767,32,{"$f":"VLOOKUP(B2769,'Ark1'!C$2:D$11,2,FALSE)","v":2},2767,125,{"$f":"VLOOKUP(E2769,'Ark1'!$C$2:$D$11,2,FALSE)","v":5},2767,200,{"$f":"VLOOKUP(H2769,'Ark1'!$C$2:$D$12,2,FALSE)","v":5}]
[2768,32,{"$f":"VLOOKUP(B2770,'Ark1'!C$2:D$11,2,FALSE)","v":2},2768,125,{"$f":"VLOOKUP(E2770,'Ark1'!$C$2:$D$11,2,FALSE)","v":5},2768,200,{"$f":"VLOOKUP(H2770,'Ark1'!$C$2:$D$12,2,FALSE)","v":5}]
[2769,32,{"$f":"VLOOKUP(B2771,'Ark1'!C$2:D$11,2,FALSE)","v":2},2769,125,{"$f":"VLOOKUP(E2771,'Ark1'!$C$2:$D$11,2,FALSE)","v":5},2769,200,{"$f":"VLOOKUP(H2771,'Ark1'!$C$2:$D$12,2,FALSE)","v":5}]
[2770,32,{"$f":"VLOOKUP(B2772,'Ark1'!C$2:D$11,2,FALSE)","v":2},2770,125,{"$f":"VLOOKUP(E2772,'Ark1'!$C$2:$D$11,2,FALSE)","v":5},2770,200,{"$f":"VLOOKUP(H2772,'Ark1'!$C$2:$D$12,2,FALSE)","v":5}]
[2771,32,{"$f":"VLOOKUP(B2773,'Ark1'!C$2:D$11,2,FALSE)","v":2},2771,125,{"$f":"VLOOKUP(E2773,'Ark1'!$C$2:$D$11,2,FALSE)","v":5},2771,200,{"$f":"VLOOKUP(H2773,'Ark1'!$C$2:$D$12,2,FALSE)","v":5}]
[2772,32,{"$f":"VLOOKUP(B2774,'Ark1'!C$2:D$11,2,FALSE)","v":2},2772,125,{"$f":"VLOOKUP(E2774,'Ark1'!$C$2:$D$11,2,FALSE)","v":5},2772,200,{"$f":"VLOOKUP(H2774,'Ark1'!$C$2:$D$12,2,FALSE)","v":5}]
[2773,32,{"$f":"VLOOKUP(B2775,'Ark1'!C$2:D$11,2,FALSE)","v":2},2773,125,{"$f":"VLOOKUP(E2775,'Ark1'!$C$2:$D$11,2,FALSE)","v":5},2773,200,{"$f":"VLOOKUP(H2775,'Ark1'!$C$2:$D$12,2,FALSE)","v":5}]
[2774,32,{"$f":"VLOOKUP(B2776,'Ark1'!C$2:D$11,2,FALSE)","v":2},2774,125,{"$f":"VLOOKUP(E2776,'Ark1'!$C$2:$D$11,2,FALSE)","v":5},2774,200,{"$f":"VLOOKUP(H2776,'Ark1'!$C$2:$D$12,2,FALSE)","v":5}]
[2775,32,{"$f":"VLOOKUP(B2777,'Ark1'!C$2:D$11,2,FALSE)","v":2},2775,125,{"$f":"VLOOKUP(E2777,'Ark1'!$C$2:$D$11,2,FALSE)","v":5},2775,200,{"$f":"VLOOKUP(H2777,'Ark1'!$C$2:$D$12,2,FALSE)","v":5}]
[2776,32,{"$f":"VLOOKUP(B2778,'Ark1'!C$2:D$11,2,FALSE)","v":2},2776,125,{"$f":"VLOOKUP(E2778,'Ark1'!$C$2:$D$11,2,FALSE)","v":5},2776,200,{"$f":"VLOOKUP(H2778,'Ark1'!$C$2:$D$12,2,FALSE)","v":5}]
[2777,32,{"$f":"VLOOKUP(B2779,'Ark1'!C$2:D$11,2,FALSE)","v":2},2777,125,{"$f":"VLOOKUP(E2779,'Ark1'!$C$2:$D$11,2,FALSE)","v":5},2777,200,{"$f":"VLOOKUP(H2779,'Ark1'!$C$2:$D$12,2,FALSE)","v":5}]
[2778,32,{"$f":"VLOOKUP(B2780,'Ark1'!C$2:D$11,2,FALSE)","v":2},2778,125,{"$f":"VLOOKUP(E2780,'Ark1'!$C$2:$D$11,2,FALSE)","v":5},2778,200,{"$f":"VLOOKUP(H2780,'Ark1'!$C$2:$D$12,2,FALSE)","v":5}]
[2779,32,{"$f":"VLOOKUP(B2781,'Ark1'!C$2:D$11,2,FALSE)","v":2},2779,125,{"$f":"VLOOKUP(E2781,'Ark1'!$C$2:$D$11,2,FALSE)","v":5},2779,200,{"$f":"VLOOKUP(H2781,'Ark1'!$C$2:$D$12,2,FALSE)","v":5}]
[2780,32,{"$f":"VLOOKUP(B2782,'Ark1'!C$2:D$11,2,FALSE)","v":2},2780,125,{"$f":"VLOOKUP(E2782,'Ark1'!$C$2:$D$11,2,FALSE)","v":5},2780,200,{"$f":"VLOOKUP(H2782,'Ark1'!$C$2:$D$12,2,FALSE)","v":5}]
[2781,32,{"$f":"VLOOKUP(B2783,'Ark1'!C$2:D$11,2,FALSE)","v":2},2781,125,{"$f":"VLOOKUP(E2783,'Ark1'!$C$2:$D$11,2,FALSE)","v":5},2781,200,{"$f":"VLOOKUP(H2783,'Ark1'!$C$2:$D$12,2,FALSE)","v":5}]
[2782,32,{"$f":"VLOOKUP(B2784,'Ark1'!C$2:D$11,2,FALSE)","v":2},2782,125,{"$f":"VLOOKUP(E2784,'Ark1'!$C$2:$D$11,2,FALSE)","v":5},2782,200,{"$f":"VLOOKUP(H2784,'Ark1'!$C$2:$D$12,2,FALSE)","v":5}]
[2783,32,{"$f":"VLOOKUP(B2785,'Ark1'!C$2:D$11,2,FALSE)","v":2},2783,125,{"$f":"VLOOKUP(E2785,'Ark1'!$C$2:$D$11,2,FALSE)","v":5},2783,200,{"$f":"VLOOKUP(H2785,'Ark1'!$C$2:$D$12,2,FALSE)","v":5}]
[2784,32,{"$f":"VLOOKUP(B2786,'Ark1'!C$2:D$11,2,FALSE)","v":2},2784,125,{"$f":"VLOOKUP(E2786,'Ark1'!$C$2:$D$11,2,FALSE)","v":5},2784,200,{"$f":"VLOOKUP(H2786,'Ark1'!$C$2:$D$12,2,FALSE)","v":5}]
[2785,32,{"$f":"VLOOKUP(B2787,'Ark1'!C$2:D$11,2,FALSE)","v":2},2785,125,{"$f":"VLOOKUP(E2787,'Ark1'!$C$2:$D$11,2,FALSE)","v":5},2785,200,{"$f":"VLOOKUP(H2787,'Ark1'!$C$2:$D$12,2,FALSE)","v":5}]
[2786,32,{"$f":"VLOOKUP(B2788,'Ark1'!C$2:D$11,2,FALSE)","v":2},2786,125,{"$f":"VLOOKUP(E2788,'Ark1'!$C$2:$D$11,2,FALSE)","v":5},2786,200,{"$f":"VLOOKUP(H2788,'Ark1'!$C$2:$D$12,2,FALSE)","v":5}]
[2787,32,{"$f":"VLOOKUP(B2789,'Ark1'!C$2:D$11,2,FALSE)","v":2},2787,125,{"$f":"VLOOKUP(E2789,'Ark1'!$C$2:$D$11,2,FALSE)","v":5},2787,200,{"$f":"VLOOKUP(H2789,'Ark1'!$C$2:$D$12,2,FALSE)","v":5}]
[2788,32,{"$f":"VLOOKUP(B2790,'Ark1'!C$2:D$11,2,FALSE)","v":2},2788,125,{"$f":"VLOOKUP(E2790,'Ark1'!$C$2:$D$11,2,FALSE)","v":5},2788,200,{"$f":"VLOOKUP(H2790,'Ark1'!$C$2:$D$12,2,FALSE)","v":5}]
[2789,32,{"$f":"VLOOKUP(B2791,'Ark1'!C$2:D$11,2,FALSE)","v":2},2789,125,{"$f":"VLOOKUP(E2791,'Ark1'!$C$2:$D$11,2,FALSE)","v":5},2789,200,{"$f":"VLOOKUP(H2791,'Ark1'!$C$2:$D$12,2,FALSE)","v":5}]
[2790,32,{"$f":"VLOOKUP(B2792,'Ark1'!C$2:D$11,2,FALSE)","v":2},2790,125,{"$f":"VLOOKUP(E2792,'Ark1'!$C$2:$D$11,2,FALSE)","v":5},2790,200,{"$f":"VLOOKUP(H2792,'Ark1'!$C$2:$D$12,2,FALSE)","v":5}]
[2791,32,{"$f":"VLOOKUP(B2793,'Ark1'!C$2:D$11,2,FALSE)","v":2},2791,125,{"$f":"VLOOKUP(E2793,'Ark1'!$C$2:$D$11,2,FALSE)","v":5},2791,200,{"$f":"VLOOKUP(H2793,'Ark1'!$C$2:$D$12,2,FALSE)","v":5}]
[2792,32,{"$f":"VLOOKUP(B2794,'Ark1'!C$2:D$11,2,FALSE)","v":2},2792,125,{"$f":"VLOOKUP(E2794,'Ark1'!$C$2:$D$11,2,FALSE)","v":5},2792,200,{"$f":"VLOOKUP(H2794,'Ark1'!$C$2:$D$12,2,FALSE)","v":5}]
[2793,32,{"$f":"VLOOKUP(B2795,'Ark1'!C$2:D$11,2,FALSE)","v":2},2793,125,{"$f":"VLOOKUP(E2795,'Ark1'!$C$2:$D$11,2,FALSE)","v":5},2793,200,{"$f":"VLOOKUP(H2795,'Ark1'!$C$2:$D$12,2,FALSE)","v":5}]
[2794,32,{"$f":"VLOOKUP(B2796,'Ark1'!C$2:D$11,2,FALSE)","v":2},2794,125,{"$f":"VLOOKUP(E2796,'Ark1'!$C$2:$D$11,2,FALSE)","v":5},2794,200,{"$f":"VLOOKUP(H2796,'Ark1'!$C$2:$D$12,2,FALSE)","v":5}]
[2795,32,{"$f":"VLOOKUP(B2797,'Ark1'!C$2:D$11,2,FALSE)","v":2},2795,125,{"$f":"VLOOKUP(E2797,'Ark1'!$C$2:$D$11,2,FALSE)","v":5},2795,200,{"$f":"VLOOKUP(H2797,'Ark1'!$C$2:$D$12,2,FALSE)","v":5}]
[2796,32,{"$f":"VLOOKUP(B2798,'Ark1'!C$2:D$11,2,FALSE)","v":2},2796,125,{"$f":"VLOOKUP(E2798,'Ark1'!$C$2:$D$11,2,FALSE)","v":5},2796,200,{"$f":"VLOOKUP(H2798,'Ark1'!$C$2:$D$12,2,FALSE)","v":5}]
[2797,32,{"$f":"VLOOKUP(B2799,'Ark1'!C$2:D$11,2,FALSE)","v":2},2797,125,{"$f":"VLOOKUP(E2799,'Ark1'!$C$2:$D$11,2,FALSE)","v":5},2797,200,{"$f":"VLOOKUP(H2799,'Ark1'!$C$2:$D$12,2,FALSE)","v":5}]
[2798,32,{"$f":"VLOOKUP(B2800,'Ark1'!C$2:D$11,2,FALSE)","v":2},2798,125,{"$f":"VLOOKUP(E2800,'Ark1'!$C$2:$D$11,2,FALSE)","v":5},2798,200,{"$f":"VLOOKUP(H2800,'Ark1'!$C$2:$D$12,2,FALSE)","v":5}]
[2799,32,{"$f":"VLOOKUP(B2801,'Ark1'!C$2:D$11,2,FALSE)","v":2},2799,125,{"$f":"VLOOKUP(E2801,'Ark1'!$C$2:$D$11,2,FALSE)","v":5},2799,200,{"$f":"VLOOKUP(H2801,'Ark1'!$C$2:$D$12,2,FALSE)","v":5}]
[2800,32,{"$f":"VLOOKUP(B2802,'Ark1'!C$2:D$11,2,FALSE)","v":2},2800,125,{"$f":"VLOOKUP(E2802,'Ark1'!$C$2:$D$11,2,FALSE)","v":5},2800,200,{"$f":"VLOOKUP(H2802,'Ark1'!$C$2:$D$12,2,FALSE)","v":5}]
[2801,32,{"$f":"VLOOKUP(B2803,'Ark1'!C$2:D$11,2,FALSE)","v":2},2801,125,{"$f":"VLOOKUP(E2803,'Ark1'!$C$2:$D$11,2,FALSE)","v":5},2801,200,{"$f":"VLOOKUP(H2803,'Ark1'!$C$2:$D$12,2,FALSE)","v":5}]
[2802,32,{"$f":"VLOOKUP(B2804,'Ark1'!C$2:D$11,2,FALSE)","v":2},2802,125,{"$f":"VLOOKUP(E2804,'Ark1'!$C$2:$D$11,2,FALSE)","v":5},2802,200,{"$f":"VLOOKUP(H2804,'Ark1'!$C$2:$D$12,2,FALSE)","v":5}]
[2803,32,{"$f":"VLOOKUP(B2805,'Ark1'!C$2:D$11,2,FALSE)","v":2},2803,125,{"$f":"VLOOKUP(E2805,'Ark1'!$C$2:$D$11,2,FALSE)","v":5},2803,200,{"$f":"VLOOKUP(H2805,'Ark1'!$C$2:$D$12,2,FALSE)","v":5}]
[2804,32,{"$f":"VLOOKUP(B2806,'Ark1'!C$2:D$11,2,FALSE)","v":2},2804,125,{"$f":"VLOOKUP(E2806,'Ark1'!$C$2:$D$11,2,FALSE)","v":5},2804,200,{"$f":"VLOOKUP(H2806,'Ark1'!$C$2:$D$12,2,FALSE)","v":5}]
[2805,32,{"$f":"VLOOKUP(B2807,'Ark1'!C$2:D$11,2,FALSE)","v":2},2805,125,{"$f":"VLOOKUP(E2807,'Ark1'!$C$2:$D$11,2,FALSE)","v":5},2805,200,{"$f":"VLOOKUP(H2807,'Ark1'!$C$2:$D$12,2,FALSE)","v":5}]
[2806,32,{"$f":"VLOOKUP(B2808,'Ark1'!C$2:D$11,2,FALSE)","v":2},2806,125,{"$f":"VLOOKUP(E2808,'Ark1'!$C$2:$D$11,2,FALSE)","v":5},2806,200,{"$f":"VLOOKUP(H2808,'Ark1'!$C$2:$D$12,2,FALSE)","v":5}]
[2807,32,{"$f":"VLOOKUP(B2809,'Ark1'!C$2:D$11,2,FALSE)","v":2},2807,125,{"$f":"VLOOKUP(E2809,'Ark1'!$C$2:$D$11,2,FALSE)","v":5},2807,200,{"$f":"VLOOKUP(H2809,'Ark1'!$C$2:$D$12,2,FALSE)","v":5}]
[2808,32,{"$f":"VLOOKUP(B2810,'Ark1'!C$2:D$11,2,FALSE)","v":2},2808,125,{"$f":"VLOOKUP(E2810,'Ark1'!$C$2:$D$11,2,FALSE)","v":5},2808,200,{"$f":"VLOOKUP(H2810,'Ark1'!$C$2:$D$12,2,FALSE)","v":5}]
[2809,32,{"$f":"VLOOKUP(B2811,'Ark1'!C$2:D$11,2,FALSE)","v":2},2809,125,{"$f":"VLOOKUP(E2811,'Ark1'!$C$2:$D$11,2,FALSE)","v":5},2809,200,{"$f":"VLOOKUP(H2811,'Ark1'!$C$2:$D$12,2,FALSE)","v":5}]
[2810,32,{"$f":"VLOOKUP(B2812,'Ark1'!C$2:D$11,2,FALSE)","v":2},2810,125,{"$f":"VLOOKUP(E2812,'Ark1'!$C$2:$D$11,2,FALSE)","v":5},2810,200,{"$f":"VLOOKUP(H2812,'Ark1'!$C$2:$D$12,2,FALSE)","v":5}]
[2811,32,{"$f":"VLOOKUP(B2813,'Ark1'!C$2:D$11,2,FALSE)","v":2},2811,125,{"$f":"VLOOKUP(E2813,'Ark1'!$C$2:$D$11,2,FALSE)","v":5},2811,200,{"$f":"VLOOKUP(H2813,'Ark1'!$C$2:$D$12,2,FALSE)","v":5}]
[2812,32,{"$f":"VLOOKUP(B2814,'Ark1'!C$2:D$11,2,FALSE)","v":2},2812,125,{"$f":"VLOOKUP(E2814,'Ark1'!$C$2:$D$11,2,FALSE)","v":5},2812,200,{"$f":"VLOOKUP(H2814,'Ark1'!$C$2:$D$12,2,FALSE)","v":5}]
[2813,32,{"$f":"VLOOKUP(B2815,'Ark1'!C$2:D$11,2,FALSE)","v":2},2813,125,{"$f":"VLOOKUP(E2815,'Ark1'!$C$2:$D$11,2,FALSE)","v":5},2813,200,{"$f":"VLOOKUP(H2815,'Ark1'!$C$2:$D$12,2,FALSE)","v":5}]
[2814,32,{"$f":"VLOOKUP(B2816,'Ark1'!C$2:D$11,2,FALSE)","v":2},2814,125,{"$f":"VLOOKUP(E2816,'Ark1'!$C$2:$D$11,2,FALSE)","v":5},2814,200,{"$f":"VLOOKUP(H2816,'Ark1'!$C$2:$D$12,2,FALSE)","v":5}]
[2815,32,{"$f":"VLOOKUP(B2817,'Ark1'!C$2:D$11,2,FALSE)","v":2},2815,125,{"$f":"VLOOKUP(E2817,'Ark1'!$C$2:$D$11,2,FALSE)","v":5},2815,200,{"$f":"VLOOKUP(H2817,'Ark1'!$C$2:$D$12,2,FALSE)","v":5}]
[2816,32,{"$f":"VLOOKUP(B2818,'Ark1'!C$2:D$11,2,FALSE)","v":2},2816,125,{"$f":"VLOOKUP(E2818,'Ark1'!$C$2:$D$11,2,FALSE)","v":5},2816,200,{"$f":"VLOOKUP(H2818,'Ark1'!$C$2:$D$12,2,FALSE)","v":5}]
[2817,32,{"$f":"VLOOKUP(B2819,'Ark1'!C$2:D$11,2,FALSE)","v":2},2817,125,{"$f":"VLOOKUP(E2819,'Ark1'!$C$2:$D$11,2,FALSE)","v":5},2817,200,{"$f":"VLOOKUP(H2819,'Ark1'!$C$2:$D$12,2,FALSE)","v":5}]
[2818,32,{"$f":"VLOOKUP(B2820,'Ark1'!C$2:D$11,2,FALSE)","v":2},2818,125,{"$f":"VLOOKUP(E2820,'Ark1'!$C$2:$D$11,2,FALSE)","v":5},2818,200,{"$f":"VLOOKUP(H2820,'Ark1'!$C$2:$D$12,2,FALSE)","v":5}]
[2819,32,{"$f":"VLOOKUP(B2821,'Ark1'!C$2:D$11,2,FALSE)","v":2},2819,125,{"$f":"VLOOKUP(E2821,'Ark1'!$C$2:$D$11,2,FALSE)","v":5},2819,200,{"$f":"VLOOKUP(H2821,'Ark1'!$C$2:$D$12,2,FALSE)","v":5}]
[2820,32,{"$f":"VLOOKUP(B2822,'Ark1'!C$2:D$11,2,FALSE)","v":2},2820,125,{"$f":"VLOOKUP(E2822,'Ark1'!$C$2:$D$11,2,FALSE)","v":5},2820,200,{"$f":"VLOOKUP(H2822,'Ark1'!$C$2:$D$12,2,FALSE)","v":5}]
[2821,32,{"$f":"VLOOKUP(B2823,'Ark1'!C$2:D$11,2,FALSE)","v":2},2821,125,{"$f":"VLOOKUP(E2823,'Ark1'!$C$2:$D$11,2,FALSE)","v":5},2821,200,{"$f":"VLOOKUP(H2823,'Ark1'!$C$2:$D$12,2,FALSE)","v":5}]
[2822,32,{"$f":"VLOOKUP(B2824,'Ark1'!C$2:D$11,2,FALSE)","v":2},2822,125,{"$f":"VLOOKUP(E2824,'Ark1'!$C$2:$D$11,2,FALSE)","v":5},2822,200,{"$f":"VLOOKUP(H2824,'Ark1'!$C$2:$D$12,2,FALSE)","v":5}]
[2823,32,{"$f":"VLOOKUP(B2825,'Ark1'!C$2:D$11,2,FALSE)","v":2},2823,125,{"$f":"VLOOKUP(E2825,'Ark1'!$C$2:$D$11,2,FALSE)","v":5},2823,200,{"$f":"VLOOKUP(H2825,'Ark1'!$C$2:$D$12,2,FALSE)","v":5}]
[2824,32,{"$f":"VLOOKUP(B2826,'Ark1'!C$2:D$11,2,FALSE)","v":2},2824,125,{"$f":"VLOOKUP(E2826,'Ark1'!$C$2:$D$11,2,FALSE)","v":5},2824,200,{"$f":"VLOOKUP(H2826,'Ark1'!$C$2:$D$12,2,FALSE)","v":5}]
[2825,32,{"$f":"VLOOKUP(B2827,'Ark1'!C$2:D$11,2,FALSE)","v":2},2825,125,{"$f":"VLOOKUP(E2827,'Ark1'!$C$2:$D$11,2,FALSE)","v":5},2825,200,{"$f":"VLOOKUP(H2827,'Ark1'!$C$2:$D$12,2,FALSE)","v":5}]
[2826,32,{"$f":"VLOOKUP(B2828,'Ark1'!C$2:D$11,2,FALSE)","v":2},2826,125,{"$f":"VLOOKUP(E2828,'Ark1'!$C$2:$D$11,2,FALSE)","v":5},2826,200,{"$f":"VLOOKUP(H2828,'Ark1'!$C$2:$D$12,2,FALSE)","v":5}]
[2827,32,{"$f":"VLOOKUP(B2829,'Ark1'!C$2:D$11,2,FALSE)","v":2},2827,125,{"$f":"VLOOKUP(E2829,'Ark1'!$C$2:$D$11,2,FALSE)","v":5},2827,200,{"$f":"VLOOKUP(H2829,'Ark1'!$C$2:$D$12,2,FALSE)","v":5}]
[2828,32,{"$f":"VLOOKUP(B2830,'Ark1'!C$2:D$11,2,FALSE)","v":2},2828,125,{"$f":"VLOOKUP(E2830,'Ark1'!$C$2:$D$11,2,FALSE)","v":5},2828,200,{"$f":"VLOOKUP(H2830,'Ark1'!$C$2:$D$12,2,FALSE)","v":5}]
[2829,32,{"$f":"VLOOKUP(B2831,'Ark1'!C$2:D$11,2,FALSE)","v":2},2829,125,{"$f":"VLOOKUP(E2831,'Ark1'!$C$2:$D$11,2,FALSE)","v":5},2829,200,{"$f":"VLOOKUP(H2831,'Ark1'!$C$2:$D$12,2,FALSE)","v":5}]
[2830,32,{"$f":"VLOOKUP(B2832,'Ark1'!C$2:D$11,2,FALSE)","v":2},2830,125,{"$f":"VLOOKUP(E2832,'Ark1'!$C$2:$D$11,2,FALSE)","v":5},2830,200,{"$f":"VLOOKUP(H2832,'Ark1'!$C$2:$D$12,2,FALSE)","v":5}]
[2831,32,{"$f":"VLOOKUP(B2833,'Ark1'!C$2:D$11,2,FALSE)","v":2},2831,125,{"$f":"VLOOKUP(E2833,'Ark1'!$C$2:$D$11,2,FALSE)","v":5},2831,200,{"$f":"VLOOKUP(H2833,'Ark1'!$C$2:$D$12,2,FALSE)","v":5}]
[2832,32,{"$f":"VLOOKUP(B2834,'Ark1'!C$2:D$11,2,FALSE)","v":2},2832,125,{"$f":"VLOOKUP(E2834,'Ark1'!$C$2:$D$11,2,FALSE)","v":5},2832,200,{"$f":"VLOOKUP(H2834,'Ark1'!$C$2:$D$12,2,FALSE)","v":5}]
[2833,32,{"$f":"VLOOKUP(B2835,'Ark1'!C$2:D$11,2,FALSE)","v":2},2833,125,{"$f":"VLOOKUP(E2835,'Ark1'!$C$2:$D$11,2,FALSE)","v":5},2833,200,{"$f":"VLOOKUP(H2835,'Ark1'!$C$2:$D$12,2,FALSE)","v":5}]
[2834,32,{"$f":"VLOOKUP(B2836,'Ark1'!C$2:D$11,2,FALSE)","v":2},2834,125,{"$f":"VLOOKUP(E2836,'Ark1'!$C$2:$D$11,2,FALSE)","v":5},2834,200,{"$f":"VLOOKUP(H2836,'Ark1'!$C$2:$D$12,2,FALSE)","v":5}]
[2835,32,{"$f":"VLOOKUP(B2837,'Ark1'!C$2:D$11,2,FALSE)","v":2},2835,125,{"$f":"VLOOKUP(E2837,'Ark1'!$C$2:$D$11,2,FALSE)","v":5},2835,200,{"$f":"VLOOKUP(H2837,'Ark1'!$C$2:$D$12,2,FALSE)","v":5}]
[2836,32,{"$f":"VLOOKUP(B2838,'Ark1'!C$2:D$11,2,FALSE)","v":2},2836,125,{"$f":"VLOOKUP(E2838,'Ark1'!$C$2:$D$11,2,FALSE)","v":5},2836,200,{"$f":"VLOOKUP(H2838,'Ark1'!$C$2:$D$12,2,FALSE)","v":5}]
[2837,32,{"$f":"VLOOKUP(B2839,'Ark1'!C$2:D$11,2,FALSE)","v":2},2837,125,{"$f":"VLOOKUP(E2839,'Ark1'!$C$2:$D$11,2,FALSE)","v":5},2837,200,{"$f":"VLOOKUP(H2839,'Ark1'!$C$2:$D$12,2,FALSE)","v":5}]
[2838,32,{"$f":"VLOOKUP(B2840,'Ark1'!C$2:D$11,2,FALSE)","v":2},2838,125,{"$f":"VLOOKUP(E2840,'Ark1'!$C$2:$D$11,2,FALSE)","v":5},2838,200,{"$f":"VLOOKUP(H2840,'Ark1'!$C$2:$D$12,2,FALSE)","v":5}]
[2839,32,{"$f":"VLOOKUP(B2841,'Ark1'!C$2:D$11,2,FALSE)","v":2},2839,125,{"$f":"VLOOKUP(E2841,'Ark1'!$C$2:$D$11,2,FALSE)","v":5},2839,200,{"$f":"VLOOKUP(H2841,'Ark1'!$C$2:$D$12,2,FALSE)","v":5}]
[2840,32,{"$f":"VLOOKUP(B2842,'Ark1'!C$2:D$11,2,FALSE)","v":2},2840,125,{"$f":"VLOOKUP(E2842,'Ark1'!$C$2:$D$11,2,FALSE)","v":5},2840,200,{"$f":"VLOOKUP(H2842,'Ark1'!$C$2:$D$12,2,FALSE)","v":5}]
[2841,32,{"$f":"VLOOKUP(B2843,'Ark1'!C$2:D$11,2,FALSE)","v":2},2841,125,{"$f":"VLOOKUP(E2843,'Ark1'!$C$2:$D$11,2,FALSE)","v":5},2841,200,{"$f":"VLOOKUP(H2843,'Ark1'!$C$2:$D$12,2,FALSE)","v":5}]
[2842,32,{"$f":"VLOOKUP(B2844,'Ark1'!C$2:D$11,2,FALSE)","v":2},2842,125,{"$f":"VLOOKUP(E2844,'Ark1'!$C$2:$D$11,2,FALSE)","v":5},2842,200,{"$f":"VLOOKUP(H2844,'Ark1'!$C$2:$D$12,2,FALSE)","v":5}]
[2843,32,{"$f":"VLOOKUP(B2845,'Ark1'!C$2:D$11,2,FALSE)","v":2},2843,125,{"$f":"VLOOKUP(E2845,'Ark1'!$C$2:$D$11,2,FALSE)","v":5},2843,200,{"$f":"VLOOKUP(H2845,'Ark1'!$C$2:$D$12,2,FALSE)","v":5}]
[2844,32,{"$f":"VLOOKUP(B2846,'Ark1'!C$2:D$11,2,FALSE)","v":2},2844,125,{"$f":"VLOOKUP(E2846,'Ark1'!$C$2:$D$11,2,FALSE)","v":5},2844,200,{"$f":"VLOOKUP(H2846,'Ark1'!$C$2:$D$12,2,FALSE)","v":5}]
[2845,32,{"$f":"VLOOKUP(B2847,'Ark1'!C$2:D$11,2,FALSE)","v":2},2845,125,{"$f":"VLOOKUP(E2847,'Ark1'!$C$2:$D$11,2,FALSE)","v":5},2845,200,{"$f":"VLOOKUP(H2847,'Ark1'!$C$2:$D$12,2,FALSE)","v":5}]
[2846,32,{"$f":"VLOOKUP(B2848,'Ark1'!C$2:D$11,2,FALSE)","v":2},2846,125,{"$f":"VLOOKUP(E2848,'Ark1'!$C$2:$D$11,2,FALSE)","v":5},2846,200,{"$f":"VLOOKUP(H2848,'Ark1'!$C$2:$D$12,2,FALSE)","v":5}]
[2847,32,{"$f":"VLOOKUP(B2849,'Ark1'!C$2:D$11,2,FALSE)","v":2},2847,125,{"$f":"VLOOKUP(E2849,'Ark1'!$C$2:$D$11,2,FALSE)","v":5},2847,200,{"$f":"VLOOKUP(H2849,'Ark1'!$C$2:$D$12,2,FALSE)","v":5}]
[2848,32,{"$f":"VLOOKUP(B2850,'Ark1'!C$2:D$11,2,FALSE)","v":2},2848,125,{"$f":"VLOOKUP(E2850,'Ark1'!$C$2:$D$11,2,FALSE)","v":5},2848,200,{"$f":"VLOOKUP(H2850,'Ark1'!$C$2:$D$12,2,FALSE)","v":5}]
[2849,32,{"$f":"VLOOKUP(B2851,'Ark1'!C$2:D$11,2,FALSE)","v":2},2849,125,{"$f":"VLOOKUP(E2851,'Ark1'!$C$2:$D$11,2,FALSE)","v":5},2849,200,{"$f":"VLOOKUP(H2851,'Ark1'!$C$2:$D$12,2,FALSE)","v":5}]
[2850,32,{"$f":"VLOOKUP(B2852,'Ark1'!C$2:D$11,2,FALSE)","v":2},2850,125,{"$f":"VLOOKUP(E2852,'Ark1'!$C$2:$D$11,2,FALSE)","v":5},2850,200,{"$f":"VLOOKUP(H2852,'Ark1'!$C$2:$D$12,2,FALSE)","v":5}]
[2851,32,{"$f":"VLOOKUP(B2853,'Ark1'!C$2:D$11,2,FALSE)","v":2},2851,125,{"$f":"VLOOKUP(E2853,'Ark1'!$C$2:$D$11,2,FALSE)","v":5},2851,200,{"$f":"VLOOKUP(H2853,'Ark1'!$C$2:$D$12,2,FALSE)","v":5}]
[2852,32,{"$f":"VLOOKUP(B2854,'Ark1'!C$2:D$11,2,FALSE)","v":2},2852,125,{"$f":"VLOOKUP(E2854,'Ark1'!$C$2:$D$11,2,FALSE)","v":5},2852,200,{"$f":"VLOOKUP(H2854,'Ark1'!$C$2:$D$12,2,FALSE)","v":5}]
[2853,32,{"$f":"VLOOKUP(B2855,'Ark1'!C$2:D$11,2,FALSE)","v":2},2853,125,{"$f":"VLOOKUP(E2855,'Ark1'!$C$2:$D$11,2,FALSE)","v":5},2853,200,{"$f":"VLOOKUP(H2855,'Ark1'!$C$2:$D$12,2,FALSE)","v":5}]
[2854,32,{"$f":"VLOOKUP(B2856,'Ark1'!C$2:D$11,2,FALSE)","v":2},2854,125,{"$f":"VLOOKUP(E2856,'Ark1'!$C$2:$D$11,2,FALSE)","v":5},2854,200,{"$f":"VLOOKUP(H2856,'Ark1'!$C$2:$D$12,2,FALSE)","v":5}]
[2855,32,{"$f":"VLOOKUP(B2857,'Ark1'!C$2:D$11,2,FALSE)","v":2},2855,125,{"$f":"VLOOKUP(E2857,'Ark1'!$C$2:$D$11,2,FALSE)","v":5},2855,200,{"$f":"VLOOKUP(H2857,'Ark1'!$C$2:$D$12,2,FALSE)","v":5}]
[2856,32,{"$f":"VLOOKUP(B2858,'Ark1'!C$2:D$11,2,FALSE)","v":2},2856,125,{"$f":"VLOOKUP(E2858,'Ark1'!$C$2:$D$11,2,FALSE)","v":5},2856,200,{"$f":"VLOOKUP(H2858,'Ark1'!$C$2:$D$12,2,FALSE)","v":5}]
[2857,32,{"$f":"VLOOKUP(B2859,'Ark1'!C$2:D$11,2,FALSE)","v":2},2857,125,{"$f":"VLOOKUP(E2859,'Ark1'!$C$2:$D$11,2,FALSE)","v":5},2857,200,{"$f":"VLOOKUP(H2859,'Ark1'!$C$2:$D$12,2,FALSE)","v":5}]
[2858,32,{"$f":"VLOOKUP(B2860,'Ark1'!C$2:D$11,2,FALSE)","v":2},2858,125,{"$f":"VLOOKUP(E2860,'Ark1'!$C$2:$D$11,2,FALSE)","v":5},2858,200,{"$f":"VLOOKUP(H2860,'Ark1'!$C$2:$D$12,2,FALSE)","v":5}]
[2859,32,{"$f":"VLOOKUP(B2861,'Ark1'!C$2:D$11,2,FALSE)","v":2},2859,125,{"$f":"VLOOKUP(E2861,'Ark1'!$C$2:$D$11,2,FALSE)","v":5},2859,200,{"$f":"VLOOKUP(H2861,'Ark1'!$C$2:$D$12,2,FALSE)","v":5}]
[2860,32,{"$f":"VLOOKUP(B2862,'Ark1'!C$2:D$11,2,FALSE)","v":2},2860,125,{"$f":"VLOOKUP(E2862,'Ark1'!$C$2:$D$11,2,FALSE)","v":5},2860,200,{"$f":"VLOOKUP(H2862,'Ark1'!$C$2:$D$12,2,FALSE)","v":5}]
[2861,32,{"$f":"VLOOKUP(B2863,'Ark1'!C$2:D$11,2,FALSE)","v":2},2861,125,{"$f":"VLOOKUP(E2863,'Ark1'!$C$2:$D$11,2,FALSE)","v":5},2861,200,{"$f":"VLOOKUP(H2863,'Ark1'!$C$2:$D$12,2,FALSE)","v":5}]
[2862,32,{"$f":"VLOOKUP(B2864,'Ark1'!C$2:D$11,2,FALSE)","v":2},2862,125,{"$f":"VLOOKUP(E2864,'Ark1'!$C$2:$D$11,2,FALSE)","v":5},2862,200,{"$f":"VLOOKUP(H2864,'Ark1'!$C$2:$D$12,2,FALSE)","v":5}]
[2863,32,{"$f":"VLOOKUP(B2865,'Ark1'!C$2:D$11,2,FALSE)","v":2},2863,125,{"$f":"VLOOKUP(E2865,'Ark1'!$C$2:$D$11,2,FALSE)","v":5},2863,200,{"$f":"VLOOKUP(H2865,'Ark1'!$C$2:$D$12,2,FALSE)","v":5}]
[2864,32,{"$f":"VLOOKUP(B2866,'Ark1'!C$2:D$11,2,FALSE)","v":2},2864,125,{"$f":"VLOOKUP(E2866,'Ark1'!$C$2:$D$11,2,FALSE)","v":5},2864,200,{"$f":"VLOOKUP(H2866,'Ark1'!$C$2:$D$12,2,FALSE)","v":5}]
[2865,32,{"$f":"VLOOKUP(B2867,'Ark1'!C$2:D$11,2,FALSE)","v":2},2865,125,{"$f":"VLOOKUP(E2867,'Ark1'!$C$2:$D$11,2,FALSE)","v":5},2865,200,{"$f":"VLOOKUP(H2867,'Ark1'!$C$2:$D$12,2,FALSE)","v":5}]
[2866,32,{"$f":"VLOOKUP(B2868,'Ark1'!C$2:D$11,2,FALSE)","v":2},2866,125,{"$f":"VLOOKUP(E2868,'Ark1'!$C$2:$D$11,2,FALSE)","v":5},2866,200,{"$f":"VLOOKUP(H2868,'Ark1'!$C$2:$D$12,2,FALSE)","v":5}]
[2867,32,{"$f":"VLOOKUP(B2869,'Ark1'!C$2:D$11,2,FALSE)","v":2},2867,125,{"$f":"VLOOKUP(E2869,'Ark1'!$C$2:$D$11,2,FALSE)","v":5},2867,200,{"$f":"VLOOKUP(H2869,'Ark1'!$C$2:$D$12,2,FALSE)","v":5}]
[2868,32,{"$f":"VLOOKUP(B2870,'Ark1'!C$2:D$11,2,FALSE)","v":2},2868,125,{"$f":"VLOOKUP(E2870,'Ark1'!$C$2:$D$11,2,FALSE)","v":5},2868,200,{"$f":"VLOOKUP(H2870,'Ark1'!$C$2:$D$12,2,FALSE)","v":5}]
[2869,32,{"$f":"VLOOKUP(B2871,'Ark1'!C$2:D$11,2,FALSE)","v":2},2869,125,{"$f":"VLOOKUP(E2871,'Ark1'!$C$2:$D$11,2,FALSE)","v":5},2869,200,{"$f":"VLOOKUP(H2871,'Ark1'!$C$2:$D$12,2,FALSE)","v":5}]
[2870,32,{"$f":"VLOOKUP(B2872,'Ark1'!C$2:D$11,2,FALSE)","v":2},2870,125,{"$f":"VLOOKUP(E2872,'Ark1'!$C$2:$D$11,2,FALSE)","v":5},2870,200,{"$f":"VLOOKUP(H2872,'Ark1'!$C$2:$D$12,2,FALSE)","v":5}]
[2871,32,{"$f":"VLOOKUP(B2873,'Ark1'!C$2:D$11,2,FALSE)","v":2},2871,125,{"$f":"VLOOKUP(E2873,'Ark1'!$C$2:$D$11,2,FALSE)","v":5},2871,200,{"$f":"VLOOKUP(H2873,'Ark1'!$C$2:$D$12,2,FALSE)","v":5}]
[2872,32,{"$f":"VLOOKUP(B2874,'Ark1'!C$2:D$11,2,FALSE)","v":2},2872,125,{"$f":"VLOOKUP(E2874,'Ark1'!$C$2:$D$11,2,FALSE)","v":5},2872,200,{"$f":"VLOOKUP(H2874,'Ark1'!$C$2:$D$12,2,FALSE)","v":5}]
[2873,32,{"$f":"VLOOKUP(B2875,'Ark1'!C$2:D$11,2,FALSE)","v":2},2873,125,{"$f":"VLOOKUP(E2875,'Ark1'!$C$2:$D$11,2,FALSE)","v":5},2873,200,{"$f":"VLOOKUP(H2875,'Ark1'!$C$2:$D$12,2,FALSE)","v":5}]
[2874,32,{"$f":"VLOOKUP(B2876,'Ark1'!C$2:D$11,2,FALSE)","v":2},2874,125,{"$f":"VLOOKUP(E2876,'Ark1'!$C$2:$D$11,2,FALSE)","v":5},2874,200,{"$f":"VLOOKUP(H2876,'Ark1'!$C$2:$D$12,2,FALSE)","v":5}]
[2875,32,{"$f":"VLOOKUP(B2877,'Ark1'!C$2:D$11,2,FALSE)","v":2},2875,125,{"$f":"VLOOKUP(E2877,'Ark1'!$C$2:$D$11,2,FALSE)","v":5},2875,200,{"$f":"VLOOKUP(H2877,'Ark1'!$C$2:$D$12,2,FALSE)","v":5}]
[2876,32,{"$f":"VLOOKUP(B2878,'Ark1'!C$2:D$11,2,FALSE)","v":2},2876,125,{"$f":"VLOOKUP(E2878,'Ark1'!$C$2:$D$11,2,FALSE)","v":5},2876,200,{"$f":"VLOOKUP(H2878,'Ark1'!$C$2:$D$12,2,FALSE)","v":5}]
[2877,32,{"$f":"VLOOKUP(B2879,'Ark1'!C$2:D$11,2,FALSE)","v":2},2877,125,{"$f":"VLOOKUP(E2879,'Ark1'!$C$2:$D$11,2,FALSE)","v":5},2877,200,{"$f":"VLOOKUP(H2879,'Ark1'!$C$2:$D$12,2,FALSE)","v":5}]
[2878,32,{"$f":"VLOOKUP(B2880,'Ark1'!C$2:D$11,2,FALSE)","v":2},2878,125,{"$f":"VLOOKUP(E2880,'Ark1'!$C$2:$D$11,2,FALSE)","v":5},2878,200,{"$f":"VLOOKUP(H2880,'Ark1'!$C$2:$D$12,2,FALSE)","v":5}]
[2879,32,{"$f":"VLOOKUP(B2881,'Ark1'!C$2:D$11,2,FALSE)","v":2},2879,125,{"$f":"VLOOKUP(E2881,'Ark1'!$C$2:$D$11,2,FALSE)","v":5},2879,200,{"$f":"VLOOKUP(H2881,'Ark1'!$C$2:$D$12,2,FALSE)","v":5}]
[2880,32,{"$f":"VLOOKUP(B2882,'Ark1'!C$2:D$11,2,FALSE)","v":2},2880,125,{"$f":"VLOOKUP(E2882,'Ark1'!$C$2:$D$11,2,FALSE)","v":5},2880,200,{"$f":"VLOOKUP(H2882,'Ark1'!$C$2:$D$12,2,FALSE)","v":5}]
[2881,32,{"$f":"VLOOKUP(B2883,'Ark1'!C$2:D$11,2,FALSE)","v":2},2881,125,{"$f":"VLOOKUP(E2883,'Ark1'!$C$2:$D$11,2,FALSE)","v":5},2881,200,{"$f":"VLOOKUP(H2883,'Ark1'!$C$2:$D$12,2,FALSE)","v":5}]
[2882,32,{"$f":"VLOOKUP(B2884,'Ark1'!C$2:D$11,2,FALSE)","v":2},2882,125,{"$f":"VLOOKUP(E2884,'Ark1'!$C$2:$D$11,2,FALSE)","v":5},2882,200,{"$f":"VLOOKUP(H2884,'Ark1'!$C$2:$D$12,2,FALSE)","v":5}]
[2883,32,{"$f":"VLOOKUP(B2885,'Ark1'!C$2:D$11,2,FALSE)","v":2},2883,125,{"$f":"VLOOKUP(E2885,'Ark1'!$C$2:$D$11,2,FALSE)","v":5},2883,200,{"$f":"VLOOKUP(H2885,'Ark1'!$C$2:$D$12,2,FALSE)","v":5}]
[2884,32,{"$f":"VLOOKUP(B2886,'Ark1'!C$2:D$11,2,FALSE)","v":2},2884,125,{"$f":"VLOOKUP(E2886,'Ark1'!$C$2:$D$11,2,FALSE)","v":5},2884,200,{"$f":"VLOOKUP(H2886,'Ark1'!$C$2:$D$12,2,FALSE)","v":5}]
[2885,32,{"$f":"VLOOKUP(B2887,'Ark1'!C$2:D$11,2,FALSE)","v":2},2885,125,{"$f":"VLOOKUP(E2887,'Ark1'!$C$2:$D$11,2,FALSE)","v":5},2885,200,{"$f":"VLOOKUP(H2887,'Ark1'!$C$2:$D$12,2,FALSE)","v":5}]
[2886,32,{"$f":"VLOOKUP(B2888,'Ark1'!C$2:D$11,2,FALSE)","v":2},2886,125,{"$f":"VLOOKUP(E2888,'Ark1'!$C$2:$D$11,2,FALSE)","v":5},2886,200,{"$f":"VLOOKUP(H2888,'Ark1'!$C$2:$D$12,2,FALSE)","v":5}]
[2887,32,{"$f":"VLOOKUP(B2889,'Ark1'!C$2:D$11,2,FALSE)","v":2},2887,125,{"$f":"VLOOKUP(E2889,'Ark1'!$C$2:$D$11,2,FALSE)","v":5},2887,200,{"$f":"VLOOKUP(H2889,'Ark1'!$C$2:$D$12,2,FALSE)","v":5}]
[2888,32,{"$f":"VLOOKUP(B2890,'Ark1'!C$2:D$11,2,FALSE)","v":2},2888,125,{"$f":"VLOOKUP(E2890,'Ark1'!$C$2:$D$11,2,FALSE)","v":5},2888,200,{"$f":"VLOOKUP(H2890,'Ark1'!$C$2:$D$12,2,FALSE)","v":5}]
[2889,32,{"$f":"VLOOKUP(B2891,'Ark1'!C$2:D$11,2,FALSE)","v":2},2889,125,{"$f":"VLOOKUP(E2891,'Ark1'!$C$2:$D$11,2,FALSE)","v":5},2889,200,{"$f":"VLOOKUP(H2891,'Ark1'!$C$2:$D$12,2,FALSE)","v":5}]
[2890,32,{"$f":"VLOOKUP(B2892,'Ark1'!C$2:D$11,2,FALSE)","v":2},2890,125,{"$f":"VLOOKUP(E2892,'Ark1'!$C$2:$D$11,2,FALSE)","v":5},2890,200,{"$f":"VLOOKUP(H2892,'Ark1'!$C$2:$D$12,2,FALSE)","v":5}]
[2891,32,{"$f":"VLOOKUP(B2893,'Ark1'!C$2:D$11,2,FALSE)","v":2},2891,125,{"$f":"VLOOKUP(E2893,'Ark1'!$C$2:$D$11,2,FALSE)","v":5},2891,200,{"$f":"VLOOKUP(H2893,'Ark1'!$C$2:$D$12,2,FALSE)","v":5}]
[2892,32,{"$f":"VLOOKUP(B2894,'Ark1'!C$2:D$11,2,FALSE)","v":2},2892,125,{"$f":"VLOOKUP(E2894,'Ark1'!$C$2:$D$11,2,FALSE)","v":5},2892,200,{"$f":"VLOOKUP(H2894,'Ark1'!$C$2:$D$12,2,FALSE)","v":5}]
[2893,32,{"$f":"VLOOKUP(B2895,'Ark1'!C$2:D$11,2,FALSE)","v":2},2893,125,{"$f":"VLOOKUP(E2895,'Ark1'!$C$2:$D$11,2,FALSE)","v":5},2893,200,{"$f":"VLOOKUP(H2895,'Ark1'!$C$2:$D$12,2,FALSE)","v":5}]
[2894,32,{"$f":"VLOOKUP(B2896,'Ark1'!C$2:D$11,2,FALSE)","v":2},2894,125,{"$f":"VLOOKUP(E2896,'Ark1'!$C$2:$D$11,2,FALSE)","v":5},2894,200,{"$f":"VLOOKUP(H2896,'Ark1'!$C$2:$D$12,2,FALSE)","v":5}]
[2895,32,{"$f":"VLOOKUP(B2897,'Ark1'!C$2:D$11,2,FALSE)","v":2},2895,125,{"$f":"VLOOKUP(E2897,'Ark1'!$C$2:$D$11,2,FALSE)","v":5},2895,200,{"$f":"VLOOKUP(H2897,'Ark1'!$C$2:$D$12,2,FALSE)","v":5}]
[2896,32,{"$f":"VLOOKUP(B2898,'Ark1'!C$2:D$11,2,FALSE)","v":2},2896,125,{"$f":"VLOOKUP(E2898,'Ark1'!$C$2:$D$11,2,FALSE)","v":5},2896,200,{"$f":"VLOOKUP(H2898,'Ark1'!$C$2:$D$12,2,FALSE)","v":5}]
[2897,32,{"$f":"VLOOKUP(B2899,'Ark1'!C$2:D$11,2,FALSE)","v":2},2897,125,{"$f":"VLOOKUP(E2899,'Ark1'!$C$2:$D$11,2,FALSE)","v":5},2897,200,{"$f":"VLOOKUP(H2899,'Ark1'!$C$2:$D$12,2,FALSE)","v":5}]
[2898,32,{"$f":"VLOOKUP(B2900,'Ark1'!C$2:D$11,2,FALSE)","v":2},2898,125,{"$f":"VLOOKUP(E2900,'Ark1'!$C$2:$D$11,2,FALSE)","v":5},2898,200,{"$f":"VLOOKUP(H2900,'Ark1'!$C$2:$D$12,2,FALSE)","v":5}]
[2899,32,{"$f":"VLOOKUP(B2901,'Ark1'!C$2:D$11,2,FALSE)","v":2},2899,125,{"$f":"VLOOKUP(E2901,'Ark1'!$C$2:$D$11,2,FALSE)","v":5},2899,200,{"$f":"VLOOKUP(H2901,'Ark1'!$C$2:$D$12,2,FALSE)","v":5}]
[2900,32,{"$f":"VLOOKUP(B2902,'Ark1'!C$2:D$11,2,FALSE)","v":2},2900,125,{"$f":"VLOOKUP(E2902,'Ark1'!$C$2:$D$11,2,FALSE)","v":5},2900,200,{"$f":"VLOOKUP(H2902,'Ark1'!$C$2:$D$12,2,FALSE)","v":5}]
[2901,32,{"$f":"VLOOKUP(B2903,'Ark1'!C$2:D$11,2,FALSE)","v":2},2901,125,{"$f":"VLOOKUP(E2903,'Ark1'!$C$2:$D$11,2,FALSE)","v":5},2901,200,{"$f":"VLOOKUP(H2903,'Ark1'!$C$2:$D$12,2,FALSE)","v":5}]
[2902,32,{"$f":"VLOOKUP(B2904,'Ark1'!C$2:D$11,2,FALSE)","v":2},2902,125,{"$f":"VLOOKUP(E2904,'Ark1'!$C$2:$D$11,2,FALSE)","v":5},2902,200,{"$f":"VLOOKUP(H2904,'Ark1'!$C$2:$D$12,2,FALSE)","v":5}]
[2903,32,{"$f":"VLOOKUP(B2905,'Ark1'!C$2:D$11,2,FALSE)","v":2},2903,125,{"$f":"VLOOKUP(E2905,'Ark1'!$C$2:$D$11,2,FALSE)","v":5},2903,200,{"$f":"VLOOKUP(H2905,'Ark1'!$C$2:$D$12,2,FALSE)","v":5}]
[2904,32,{"$f":"VLOOKUP(B2906,'Ark1'!C$2:D$11,2,FALSE)","v":2},2904,125,{"$f":"VLOOKUP(E2906,'Ark1'!$C$2:$D$11,2,FALSE)","v":5},2904,200,{"$f":"VLOOKUP(H2906,'Ark1'!$C$2:$D$12,2,FALSE)","v":5}]
[2905,32,{"$f":"VLOOKUP(B2907,'Ark1'!C$2:D$11,2,FALSE)","v":2},2905,125,{"$f":"VLOOKUP(E2907,'Ark1'!$C$2:$D$11,2,FALSE)","v":5},2905,200,{"$f":"VLOOKUP(H2907,'Ark1'!$C$2:$D$12,2,FALSE)","v":5}]
[2906,32,{"$f":"VLOOKUP(B2908,'Ark1'!C$2:D$11,2,FALSE)","v":2},2906,125,{"$f":"VLOOKUP(E2908,'Ark1'!$C$2:$D$11,2,FALSE)","v":5},2906,200,{"$f":"VLOOKUP(H2908,'Ark1'!$C$2:$D$12,2,FALSE)","v":5}]
[2907,32,{"$f":"VLOOKUP(B2909,'Ark1'!C$2:D$11,2,FALSE)","v":2},2907,125,{"$f":"VLOOKUP(E2909,'Ark1'!$C$2:$D$11,2,FALSE)","v":5},2907,200,{"$f":"VLOOKUP(H2909,'Ark1'!$C$2:$D$12,2,FALSE)","v":5}]
[2908,32,{"$f":"VLOOKUP(B2910,'Ark1'!C$2:D$11,2,FALSE)","v":2},2908,125,{"$f":"VLOOKUP(E2910,'Ark1'!$C$2:$D$11,2,FALSE)","v":5},2908,200,{"$f":"VLOOKUP(H2910,'Ark1'!$C$2:$D$12,2,FALSE)","v":5}]
[2909,32,{"$f":"VLOOKUP(B2911,'Ark1'!C$2:D$11,2,FALSE)","v":2},2909,125,{"$f":"VLOOKUP(E2911,'Ark1'!$C$2:$D$11,2,FALSE)","v":5},2909,200,{"$f":"VLOOKUP(H2911,'Ark1'!$C$2:$D$12,2,FALSE)","v":5}]
[2910,32,{"$f":"VLOOKUP(B2912,'Ark1'!C$2:D$11,2,FALSE)","v":2},2910,125,{"$f":"VLOOKUP(E2912,'Ark1'!$C$2:$D$11,2,FALSE)","v":5},2910,200,{"$f":"VLOOKUP(H2912,'Ark1'!$C$2:$D$12,2,FALSE)","v":5}]
[2911,32,{"$f":"VLOOKUP(B2913,'Ark1'!C$2:D$11,2,FALSE)","v":2},2911,125,{"$f":"VLOOKUP(E2913,'Ark1'!$C$2:$D$11,2,FALSE)","v":5},2911,200,{"$f":"VLOOKUP(H2913,'Ark1'!$C$2:$D$12,2,FALSE)","v":5}]
[2912,32,{"$f":"VLOOKUP(B2914,'Ark1'!C$2:D$11,2,FALSE)","v":2},2912,125,{"$f":"VLOOKUP(E2914,'Ark1'!$C$2:$D$11,2,FALSE)","v":5},2912,200,{"$f":"VLOOKUP(H2914,'Ark1'!$C$2:$D$12,2,FALSE)","v":5}]
[2913,32,{"$f":"VLOOKUP(B2915,'Ark1'!C$2:D$11,2,FALSE)","v":2},2913,125,{"$f":"VLOOKUP(E2915,'Ark1'!$C$2:$D$11,2,FALSE)","v":5},2913,200,{"$f":"VLOOKUP(H2915,'Ark1'!$C$2:$D$12,2,FALSE)","v":5}]
[2914,32,{"$f":"VLOOKUP(B2916,'Ark1'!C$2:D$11,2,FALSE)","v":2},2914,125,{"$f":"VLOOKUP(E2916,'Ark1'!$C$2:$D$11,2,FALSE)","v":5},2914,200,{"$f":"VLOOKUP(H2916,'Ark1'!$C$2:$D$12,2,FALSE)","v":5}]
[2915,32,{"$f":"VLOOKUP(B2917,'Ark1'!C$2:D$11,2,FALSE)","v":2},2915,125,{"$f":"VLOOKUP(E2917,'Ark1'!$C$2:$D$11,2,FALSE)","v":5},2915,200,{"$f":"VLOOKUP(H2917,'Ark1'!$C$2:$D$12,2,FALSE)","v":5}]
[2916,32,{"$f":"VLOOKUP(B2918,'Ark1'!C$2:D$11,2,FALSE)","v":2},2916,125,{"$f":"VLOOKUP(E2918,'Ark1'!$C$2:$D$11,2,FALSE)","v":5},2916,200,{"$f":"VLOOKUP(H2918,'Ark1'!$C$2:$D$12,2,FALSE)","v":5}]
[2917,32,{"$f":"VLOOKUP(B2919,'Ark1'!C$2:D$11,2,FALSE)","v":2},2917,125,{"$f":"VLOOKUP(E2919,'Ark1'!$C$2:$D$11,2,FALSE)","v":5},2917,200,{"$f":"VLOOKUP(H2919,'Ark1'!$C$2:$D$12,2,FALSE)","v":5}]
[2918,32,{"$f":"VLOOKUP(B2920,'Ark1'!C$2:D$11,2,FALSE)","v":2},2918,125,{"$f":"VLOOKUP(E2920,'Ark1'!$C$2:$D$11,2,FALSE)","v":5},2918,200,{"$f":"VLOOKUP(H2920,'Ark1'!$C$2:$D$12,2,FALSE)","v":5}]
[2919,32,{"$f":"VLOOKUP(B2921,'Ark1'!C$2:D$11,2,FALSE)","v":2},2919,125,{"$f":"VLOOKUP(E2921,'Ark1'!$C$2:$D$11,2,FALSE)","v":5},2919,200,{"$f":"VLOOKUP(H2921,'Ark1'!$C$2:$D$12,2,FALSE)","v":5}]
[2920,32,{"$f":"VLOOKUP(B2922,'Ark1'!C$2:D$11,2,FALSE)","v":2},2920,125,{"$f":"VLOOKUP(E2922,'Ark1'!$C$2:$D$11,2,FALSE)","v":5},2920,200,{"$f":"VLOOKUP(H2922,'Ark1'!$C$2:$D$12,2,FALSE)","v":5}]
[2921,32,{"$f":"VLOOKUP(B2923,'Ark1'!C$2:D$11,2,FALSE)","v":2},2921,125,{"$f":"VLOOKUP(E2923,'Ark1'!$C$2:$D$11,2,FALSE)","v":5},2921,200,{"$f":"VLOOKUP(H2923,'Ark1'!$C$2:$D$12,2,FALSE)","v":5}]
[2922,32,{"$f":"VLOOKUP(B2924,'Ark1'!C$2:D$11,2,FALSE)","v":2},2922,125,{"$f":"VLOOKUP(E2924,'Ark1'!$C$2:$D$11,2,FALSE)","v":5},2922,200,{"$f":"VLOOKUP(H2924,'Ark1'!$C$2:$D$12,2,FALSE)","v":5}]
[2923,32,{"$f":"VLOOKUP(B2925,'Ark1'!C$2:D$11,2,FALSE)","v":2},2923,125,{"$f":"VLOOKUP(E2925,'Ark1'!$C$2:$D$11,2,FALSE)","v":5},2923,200,{"$f":"VLOOKUP(H2925,'Ark1'!$C$2:$D$12,2,FALSE)","v":5}]
[2924,32,{"$f":"VLOOKUP(B2926,'Ark1'!C$2:D$11,2,FALSE)","v":2},2924,125,{"$f":"VLOOKUP(E2926,'Ark1'!$C$2:$D$11,2,FALSE)","v":5},2924,200,{"$f":"VLOOKUP(H2926,'Ark1'!$C$2:$D$12,2,FALSE)","v":5}]
[2925,32,{"$f":"VLOOKUP(B2927,'Ark1'!C$2:D$11,2,FALSE)","v":2},2925,125,{"$f":"VLOOKUP(E2927,'Ark1'!$C$2:$D$11,2,FALSE)","v":5},2925,200,{"$f":"VLOOKUP(H2927,'Ark1'!$C$2:$D$12,2,FALSE)","v":5}]
[2926,32,{"$f":"VLOOKUP(B2928,'Ark1'!C$2:D$11,2,FALSE)","v":2},2926,125,{"$f":"VLOOKUP(E2928,'Ark1'!$C$2:$D$11,2,FALSE)","v":5},2926,200,{"$f":"VLOOKUP(H2928,'Ark1'!$C$2:$D$12,2,FALSE)","v":5}]
[2927,32,{"$f":"VLOOKUP(B2929,'Ark1'!C$2:D$11,2,FALSE)","v":2},2927,125,{"$f":"VLOOKUP(E2929,'Ark1'!$C$2:$D$11,2,FALSE)","v":5},2927,200,{"$f":"VLOOKUP(H2929,'Ark1'!$C$2:$D$12,2,FALSE)","v":5}]
[2928,32,{"$f":"VLOOKUP(B2930,'Ark1'!C$2:D$11,2,FALSE)","v":2},2928,125,{"$f":"VLOOKUP(E2930,'Ark1'!$C$2:$D$11,2,FALSE)","v":5},2928,200,{"$f":"VLOOKUP(H2930,'Ark1'!$C$2:$D$12,2,FALSE)","v":5}]
[2929,32,{"$f":"VLOOKUP(B2931,'Ark1'!C$2:D$11,2,FALSE)","v":2},2929,125,{"$f":"VLOOKUP(E2931,'Ark1'!$C$2:$D$11,2,FALSE)","v":5},2929,200,{"$f":"VLOOKUP(H2931,'Ark1'!$C$2:$D$12,2,FALSE)","v":5}]
[2930,32,{"$f":"VLOOKUP(B2932,'Ark1'!C$2:D$11,2,FALSE)","v":2},2930,125,{"$f":"VLOOKUP(E2932,'Ark1'!$C$2:$D$11,2,FALSE)","v":5},2930,200,{"$f":"VLOOKUP(H2932,'Ark1'!$C$2:$D$12,2,FALSE)","v":5}]
[2931,32,{"$f":"VLOOKUP(B2933,'Ark1'!C$2:D$11,2,FALSE)","v":2},2931,125,{"$f":"VLOOKUP(E2933,'Ark1'!$C$2:$D$11,2,FALSE)","v":5},2931,200,{"$f":"VLOOKUP(H2933,'Ark1'!$C$2:$D$12,2,FALSE)","v":5}]
[2932,32,{"$f":"VLOOKUP(B2934,'Ark1'!C$2:D$11,2,FALSE)","v":2},2932,125,{"$f":"VLOOKUP(E2934,'Ark1'!$C$2:$D$11,2,FALSE)","v":5},2932,200,{"$f":"VLOOKUP(H2934,'Ark1'!$C$2:$D$12,2,FALSE)","v":5}]
[2933,32,{"$f":"VLOOKUP(B2935,'Ark1'!C$2:D$11,2,FALSE)","v":2},2933,125,{"$f":"VLOOKUP(E2935,'Ark1'!$C$2:$D$11,2,FALSE)","v":5},2933,200,{"$f":"VLOOKUP(H2935,'Ark1'!$C$2:$D$12,2,FALSE)","v":5}]
[2934,32,{"$f":"VLOOKUP(B2936,'Ark1'!C$2:D$11,2,FALSE)","v":2},2934,125,{"$f":"VLOOKUP(E2936,'Ark1'!$C$2:$D$11,2,FALSE)","v":5},2934,200,{"$f":"VLOOKUP(H2936,'Ark1'!$C$2:$D$12,2,FALSE)","v":5}]
[2935,32,{"$f":"VLOOKUP(B2937,'Ark1'!C$2:D$11,2,FALSE)","v":2},2935,125,{"$f":"VLOOKUP(E2937,'Ark1'!$C$2:$D$11,2,FALSE)","v":5},2935,200,{"$f":"VLOOKUP(H2937,'Ark1'!$C$2:$D$12,2,FALSE)","v":5}]
[2936,32,{"$f":"VLOOKUP(B2938,'Ark1'!C$2:D$11,2,FALSE)","v":2},2936,125,{"$f":"VLOOKUP(E2938,'Ark1'!$C$2:$D$11,2,FALSE)","v":5},2936,200,{"$f":"VLOOKUP(H2938,'Ark1'!$C$2:$D$12,2,FALSE)","v":5}]
[2937,32,{"$f":"VLOOKUP(B2939,'Ark1'!C$2:D$11,2,FALSE)","v":2},2937,125,{"$f":"VLOOKUP(E2939,'Ark1'!$C$2:$D$11,2,FALSE)","v":5},2937,200,{"$f":"VLOOKUP(H2939,'Ark1'!$C$2:$D$12,2,FALSE)","v":5}]
[2938,32,{"$f":"VLOOKUP(B2940,'Ark1'!C$2:D$11,2,FALSE)","v":2},2938,125,{"$f":"VLOOKUP(E2940,'Ark1'!$C$2:$D$11,2,FALSE)","v":5},2938,200,{"$f":"VLOOKUP(H2940,'Ark1'!$C$2:$D$12,2,FALSE)","v":5}]
[2939,32,{"$f":"VLOOKUP(B2941,'Ark1'!C$2:D$11,2,FALSE)","v":2},2939,125,{"$f":"VLOOKUP(E2941,'Ark1'!$C$2:$D$11,2,FALSE)","v":5},2939,200,{"$f":"VLOOKUP(H2941,'Ark1'!$C$2:$D$12,2,FALSE)","v":5}]
[2940,32,{"$f":"VLOOKUP(B2942,'Ark1'!C$2:D$11,2,FALSE)","v":2},2940,125,{"$f":"VLOOKUP(E2942,'Ark1'!$C$2:$D$11,2,FALSE)","v":5},2940,200,{"$f":"VLOOKUP(H2942,'Ark1'!$C$2:$D$12,2,FALSE)","v":5}]
[2941,32,{"$f":"VLOOKUP(B2943,'Ark1'!C$2:D$11,2,FALSE)","v":2},2941,125,{"$f":"VLOOKUP(E2943,'Ark1'!$C$2:$D$11,2,FALSE)","v":5},2941,200,{"$f":"VLOOKUP(H2943,'Ark1'!$C$2:$D$12,2,FALSE)","v":5}]
[2942,32,{"$f":"VLOOKUP(B2944,'Ark1'!C$2:D$11,2,FALSE)","v":2},2942,125,{"$f":"VLOOKUP(E2944,'Ark1'!$C$2:$D$11,2,FALSE)","v":5},2942,200,{"$f":"VLOOKUP(H2944,'Ark1'!$C$2:$D$12,2,FALSE)","v":5}]
[2943,32,{"$f":"VLOOKUP(B2945,'Ark1'!C$2:D$11,2,FALSE)","v":2},2943,125,{"$f":"VLOOKUP(E2945,'Ark1'!$C$2:$D$11,2,FALSE)","v":5},2943,200,{"$f":"VLOOKUP(H2945,'Ark1'!$C$2:$D$12,2,FALSE)","v":5}]
[2944,32,{"$f":"VLOOKUP(B2946,'Ark1'!C$2:D$11,2,FALSE)","v":2},2944,125,{"$f":"VLOOKUP(E2946,'Ark1'!$C$2:$D$11,2,FALSE)","v":5},2944,200,{"$f":"VLOOKUP(H2946,'Ark1'!$C$2:$D$12,2,FALSE)","v":5}]
[2945,32,{"$f":"VLOOKUP(B2947,'Ark1'!C$2:D$11,2,FALSE)","v":2},2945,125,{"$f":"VLOOKUP(E2947,'Ark1'!$C$2:$D$11,2,FALSE)","v":5},2945,200,{"$f":"VLOOKUP(H2947,'Ark1'!$C$2:$D$12,2,FALSE)","v":5}]
[2946,32,{"$f":"VLOOKUP(B2948,'Ark1'!C$2:D$11,2,FALSE)","v":2},2946,125,{"$f":"VLOOKUP(E2948,'Ark1'!$C$2:$D$11,2,FALSE)","v":5},2946,200,{"$f":"VLOOKUP(H2948,'Ark1'!$C$2:$D$12,2,FALSE)","v":5}]
[2947,32,{"$f":"VLOOKUP(B2949,'Ark1'!C$2:D$11,2,FALSE)","v":2},2947,125,{"$f":"VLOOKUP(E2949,'Ark1'!$C$2:$D$11,2,FALSE)","v":5},2947,200,{"$f":"VLOOKUP(H2949,'Ark1'!$C$2:$D$12,2,FALSE)","v":5}]
[2948,32,{"$f":"VLOOKUP(B2950,'Ark1'!C$2:D$11,2,FALSE)","v":2},2948,125,{"$f":"VLOOKUP(E2950,'Ark1'!$C$2:$D$11,2,FALSE)","v":5},2948,200,{"$f":"VLOOKUP(H2950,'Ark1'!$C$2:$D$12,2,FALSE)","v":5}]
[2949,32,{"$f":"VLOOKUP(B2951,'Ark1'!C$2:D$11,2,FALSE)","v":2},2949,125,{"$f":"VLOOKUP(E2951,'Ark1'!$C$2:$D$11,2,FALSE)","v":5},2949,200,{"$f":"VLOOKUP(H2951,'Ark1'!$C$2:$D$12,2,FALSE)","v":5}]
[2950,32,{"$f":"VLOOKUP(B2952,'Ark1'!C$2:D$11,2,FALSE)","v":2},2950,125,{"$f":"VLOOKUP(E2952,'Ark1'!$C$2:$D$11,2,FALSE)","v":5},2950,200,{"$f":"VLOOKUP(H2952,'Ark1'!$C$2:$D$12,2,FALSE)","v":5}]
[2951,32,{"$f":"VLOOKUP(B2953,'Ark1'!C$2:D$11,2,FALSE)","v":2},2951,125,{"$f":"VLOOKUP(E2953,'Ark1'!$C$2:$D$11,2,FALSE)","v":5},2951,200,{"$f":"VLOOKUP(H2953,'Ark1'!$C$2:$D$12,2,FALSE)","v":5}]
[2952,32,{"$f":"VLOOKUP(B2954,'Ark1'!C$2:D$11,2,FALSE)","v":2},2952,125,{"$f":"VLOOKUP(E2954,'Ark1'!$C$2:$D$11,2,FALSE)","v":5},2952,200,{"$f":"VLOOKUP(H2954,'Ark1'!$C$2:$D$12,2,FALSE)","v":5}]
[2953,32,{"$f":"VLOOKUP(B2955,'Ark1'!C$2:D$11,2,FALSE)","v":2},2953,125,{"$f":"VLOOKUP(E2955,'Ark1'!$C$2:$D$11,2,FALSE)","v":5},2953,200,{"$f":"VLOOKUP(H2955,'Ark1'!$C$2:$D$12,2,FALSE)","v":5}]
[2954,32,{"$f":"VLOOKUP(B2956,'Ark1'!C$2:D$11,2,FALSE)","v":2},2954,125,{"$f":"VLOOKUP(E2956,'Ark1'!$C$2:$D$11,2,FALSE)","v":5},2954,200,{"$f":"VLOOKUP(H2956,'Ark1'!$C$2:$D$12,2,FALSE)","v":5}]
[2955,32,{"$f":"VLOOKUP(B2957,'Ark1'!C$2:D$11,2,FALSE)","v":2},2955,125,{"$f":"VLOOKUP(E2957,'Ark1'!$C$2:$D$11,2,FALSE)","v":5},2955,200,{"$f":"VLOOKUP(H2957,'Ark1'!$C$2:$D$12,2,FALSE)","v":5}]
[2956,32,{"$f":"VLOOKUP(B2958,'Ark1'!C$2:D$11,2,FALSE)","v":2},2956,125,{"$f":"VLOOKUP(E2958,'Ark1'!$C$2:$D$11,2,FALSE)","v":5},2956,200,{"$f":"VLOOKUP(H2958,'Ark1'!$C$2:$D$12,2,FALSE)","v":5}]
[2957,32,{"$f":"VLOOKUP(B2959,'Ark1'!C$2:D$11,2,FALSE)","v":2},2957,125,{"$f":"VLOOKUP(E2959,'Ark1'!$C$2:$D$11,2,FALSE)","v":5},2957,200,{"$f":"VLOOKUP(H2959,'Ark1'!$C$2:$D$12,2,FALSE)","v":5}]
[2958,32,{"$f":"VLOOKUP(B2960,'Ark1'!C$2:D$11,2,FALSE)","v":2},2958,125,{"$f":"VLOOKUP(E2960,'Ark1'!$C$2:$D$11,2,FALSE)","v":5},2958,200,{"$f":"VLOOKUP(H2960,'Ark1'!$C$2:$D$12,2,FALSE)","v":5}]
[2959,32,{"$f":"VLOOKUP(B2961,'Ark1'!C$2:D$11,2,FALSE)","v":2},2959,125,{"$f":"VLOOKUP(E2961,'Ark1'!$C$2:$D$11,2,FALSE)","v":5},2959,200,{"$f":"VLOOKUP(H2961,'Ark1'!$C$2:$D$12,2,FALSE)","v":5}]
[2960,32,{"$f":"VLOOKUP(B2962,'Ark1'!C$2:D$11,2,FALSE)","v":2},2960,125,{"$f":"VLOOKUP(E2962,'Ark1'!$C$2:$D$11,2,FALSE)","v":5},2960,200,{"$f":"VLOOKUP(H2962,'Ark1'!$C$2:$D$12,2,FALSE)","v":5}]
[2961,32,{"$f":"VLOOKUP(B2963,'Ark1'!C$2:D$11,2,FALSE)","v":2},2961,125,{"$f":"VLOOKUP(E2963,'Ark1'!$C$2:$D$11,2,FALSE)","v":5},2961,200,{"$f":"VLOOKUP(H2963,'Ark1'!$C$2:$D$12,2,FALSE)","v":5}]
[2962,32,{"$f":"VLOOKUP(B2964,'Ark1'!C$2:D$11,2,FALSE)","v":2},2962,125,{"$f":"VLOOKUP(E2964,'Ark1'!$C$2:$D$11,2,FALSE)","v":5},2962,200,{"$f":"VLOOKUP(H2964,'Ark1'!$C$2:$D$12,2,FALSE)","v":5}]
[2963,32,{"$f":"VLOOKUP(B2965,'Ark1'!C$2:D$11,2,FALSE)","v":2},2963,125,{"$f":"VLOOKUP(E2965,'Ark1'!$C$2:$D$11,2,FALSE)","v":5},2963,200,{"$f":"VLOOKUP(H2965,'Ark1'!$C$2:$D$12,2,FALSE)","v":5}]
[2964,32,{"$f":"VLOOKUP(B2966,'Ark1'!C$2:D$11,2,FALSE)","v":2},2964,125,{"$f":"VLOOKUP(E2966,'Ark1'!$C$2:$D$11,2,FALSE)","v":5},2964,200,{"$f":"VLOOKUP(H2966,'Ark1'!$C$2:$D$12,2,FALSE)","v":5}]
[2965,32,{"$f":"VLOOKUP(B2967,'Ark1'!C$2:D$11,2,FALSE)","v":2},2965,125,{"$f":"VLOOKUP(E2967,'Ark1'!$C$2:$D$11,2,FALSE)","v":5},2965,200,{"$f":"VLOOKUP(H2967,'Ark1'!$C$2:$D$12,2,FALSE)","v":5}]
[2966,32,{"$f":"VLOOKUP(B2968,'Ark1'!C$2:D$11,2,FALSE)","v":2},2966,125,{"$f":"VLOOKUP(E2968,'Ark1'!$C$2:$D$11,2,FALSE)","v":5},2966,200,{"$f":"VLOOKUP(H2968,'Ark1'!$C$2:$D$12,2,FALSE)","v":5}]
[2967,32,{"$f":"VLOOKUP(B2969,'Ark1'!C$2:D$11,2,FALSE)","v":2},2967,125,{"$f":"VLOOKUP(E2969,'Ark1'!$C$2:$D$11,2,FALSE)","v":5},2967,200,{"$f":"VLOOKUP(H2969,'Ark1'!$C$2:$D$12,2,FALSE)","v":5}]
[2968,32,{"$f":"VLOOKUP(B2970,'Ark1'!C$2:D$11,2,FALSE)","v":2},2968,125,{"$f":"VLOOKUP(E2970,'Ark1'!$C$2:$D$11,2,FALSE)","v":5},2968,200,{"$f":"VLOOKUP(H2970,'Ark1'!$C$2:$D$12,2,FALSE)","v":5}]
[2969,32,{"$f":"VLOOKUP(B2971,'Ark1'!C$2:D$11,2,FALSE)","v":2},2969,125,{"$f":"VLOOKUP(E2971,'Ark1'!$C$2:$D$11,2,FALSE)","v":5},2969,200,{"$f":"VLOOKUP(H2971,'Ark1'!$C$2:$D$12,2,FALSE)","v":5}]
[2970,32,{"$f":"VLOOKUP(B2972,'Ark1'!C$2:D$11,2,FALSE)","v":2},2970,125,{"$f":"VLOOKUP(E2972,'Ark1'!$C$2:$D$11,2,FALSE)","v":5},2970,200,{"$f":"VLOOKUP(H2972,'Ark1'!$C$2:$D$12,2,FALSE)","v":5}]
[2971,32,{"$f":"VLOOKUP(B2973,'Ark1'!C$2:D$11,2,FALSE)","v":2},2971,125,{"$f":"VLOOKUP(E2973,'Ark1'!$C$2:$D$11,2,FALSE)","v":5},2971,200,{"$f":"VLOOKUP(H2973,'Ark1'!$C$2:$D$12,2,FALSE)","v":5}]
[2972,32,{"$f":"VLOOKUP(B2974,'Ark1'!C$2:D$11,2,FALSE)","v":2},2972,125,{"$f":"VLOOKUP(E2974,'Ark1'!$C$2:$D$11,2,FALSE)","v":5},2972,200,{"$f":"VLOOKUP(H2974,'Ark1'!$C$2:$D$12,2,FALSE)","v":5}]
[2973,32,{"$f":"VLOOKUP(B2975,'Ark1'!C$2:D$11,2,FALSE)","v":2},2973,125,{"$f":"VLOOKUP(E2975,'Ark1'!$C$2:$D$11,2,FALSE)","v":5},2973,200,{"$f":"VLOOKUP(H2975,'Ark1'!$C$2:$D$12,2,FALSE)","v":5}]
[2974,32,{"$f":"VLOOKUP(B2976,'Ark1'!C$2:D$11,2,FALSE)","v":2},2974,125,{"$f":"VLOOKUP(E2976,'Ark1'!$C$2:$D$11,2,FALSE)","v":5},2974,200,{"$f":"VLOOKUP(H2976,'Ark1'!$C$2:$D$12,2,FALSE)","v":5}]
[2975,32,{"$f":"VLOOKUP(B2977,'Ark1'!C$2:D$11,2,FALSE)","v":2},2975,125,{"$f":"VLOOKUP(E2977,'Ark1'!$C$2:$D$11,2,FALSE)","v":5},2975,200,{"$f":"VLOOKUP(H2977,'Ark1'!$C$2:$D$12,2,FALSE)","v":5}]
[2976,32,{"$f":"VLOOKUP(B2978,'Ark1'!C$2:D$11,2,FALSE)","v":2},2976,125,{"$f":"VLOOKUP(E2978,'Ark1'!$C$2:$D$11,2,FALSE)","v":5},2976,200,{"$f":"VLOOKUP(H2978,'Ark1'!$C$2:$D$12,2,FALSE)","v":5}]
[2977,32,{"$f":"VLOOKUP(B2979,'Ark1'!C$2:D$11,2,FALSE)","v":2},2977,125,{"$f":"VLOOKUP(E2979,'Ark1'!$C$2:$D$11,2,FALSE)","v":5},2977,200,{"$f":"VLOOKUP(H2979,'Ark1'!$C$2:$D$12,2,FALSE)","v":5}]
[2978,32,{"$f":"VLOOKUP(B2980,'Ark1'!C$2:D$11,2,FALSE)","v":2},2978,125,{"$f":"VLOOKUP(E2980,'Ark1'!$C$2:$D$11,2,FALSE)","v":5},2978,200,{"$f":"VLOOKUP(H2980,'Ark1'!$C$2:$D$12,2,FALSE)","v":5}]
[2979,32,{"$f":"VLOOKUP(B2981,'Ark1'!C$2:D$11,2,FALSE)","v":2},2979,125,{"$f":"VLOOKUP(E2981,'Ark1'!$C$2:$D$11,2,FALSE)","v":5},2979,200,{"$f":"VLOOKUP(H2981,'Ark1'!$C$2:$D$12,2,FALSE)","v":5}]
[2980,32,{"$f":"VLOOKUP(B2982,'Ark1'!C$2:D$11,2,FALSE)","v":2},2980,125,{"$f":"VLOOKUP(E2982,'Ark1'!$C$2:$D$11,2,FALSE)","v":5},2980,200,{"$f":"VLOOKUP(H2982,'Ark1'!$C$2:$D$12,2,FALSE)","v":5}]
[2981,32,{"$f":"VLOOKUP(B2983,'Ark1'!C$2:D$11,2,FALSE)","v":2},2981,125,{"$f":"VLOOKUP(E2983,'Ark1'!$C$2:$D$11,2,FALSE)","v":5},2981,200,{"$f":"VLOOKUP(H2983,'Ark1'!$C$2:$D$12,2,FALSE)","v":5}]
[2982,32,{"$f":"VLOOKUP(B2984,'Ark1'!C$2:D$11,2,FALSE)","v":2},2982,125,{"$f":"VLOOKUP(E2984,'Ark1'!$C$2:$D$11,2,FALSE)","v":5},2982,200,{"$f":"VLOOKUP(H2984,'Ark1'!$C$2:$D$12,2,FALSE)","v":5}]
[2983,32,{"$f":"VLOOKUP(B2985,'Ark1'!C$2:D$11,2,FALSE)","v":2},2983,125,{"$f":"VLOOKUP(E2985,'Ark1'!$C$2:$D$11,2,FALSE)","v":5},2983,200,{"$f":"VLOOKUP(H2985,'Ark1'!$C$2:$D$12,2,FALSE)","v":5}]
[2984,32,{"$f":"VLOOKUP(B2986,'Ark1'!C$2:D$11,2,FALSE)","v":2},2984,125,{"$f":"VLOOKUP(E2986,'Ark1'!$C$2:$D$11,2,FALSE)","v":5},2984,200,{"$f":"VLOOKUP(H2986,'Ark1'!$C$2:$D$12,2,FALSE)","v":5}]
[2985,32,{"$f":"VLOOKUP(B2987,'Ark1'!C$2:D$11,2,FALSE)","v":2},2985,125,{"$f":"VLOOKUP(E2987,'Ark1'!$C$2:$D$11,2,FALSE)","v":5},2985,200,{"$f":"VLOOKUP(H2987,'Ark1'!$C$2:$D$12,2,FALSE)","v":5}]
[2986,32,{"$f":"VLOOKUP(B2988,'Ark1'!C$2:D$11,2,FALSE)","v":2},2986,125,{"$f":"VLOOKUP(E2988,'Ark1'!$C$2:$D$11,2,FALSE)","v":5},2986,200,{"$f":"VLOOKUP(H2988,'Ark1'!$C$2:$D$12,2,FALSE)","v":5}]
[2987,32,{"$f":"VLOOKUP(B2989,'Ark1'!C$2:D$11,2,FALSE)","v":2},2987,125,{"$f":"VLOOKUP(E2989,'Ark1'!$C$2:$D$11,2,FALSE)","v":5},2987,200,{"$f":"VLOOKUP(H2989,'Ark1'!$C$2:$D$12,2,FALSE)","v":5}]
[2988,32,{"$f":"VLOOKUP(B2990,'Ark1'!C$2:D$11,2,FALSE)","v":2},2988,125,{"$f":"VLOOKUP(E2990,'Ark1'!$C$2:$D$11,2,FALSE)","v":5},2988,200,{"$f":"VLOOKUP(H2990,'Ark1'!$C$2:$D$12,2,FALSE)","v":5}]
[2989,32,{"$f":"VLOOKUP(B2991,'Ark1'!C$2:D$11,2,FALSE)","v":2},2989,125,{"$f":"VLOOKUP(E2991,'Ark1'!$C$2:$D$11,2,FALSE)","v":5},2989,200,{"$f":"VLOOKUP(H2991,'Ark1'!$C$2:$D$12,2,FALSE)","v":5}]
[2990,32,{"$f":"VLOOKUP(B2992,'Ark1'!C$2:D$11,2,FALSE)","v":2},2990,125,{"$f":"VLOOKUP(E2992,'Ark1'!$C$2:$D$11,2,FALSE)","v":5},2990,200,{"$f":"VLOOKUP(H2992,'Ark1'!$C$2:$D$12,2,FALSE)","v":5}]
[2991,32,{"$f":"VLOOKUP(B2993,'Ark1'!C$2:D$11,2,FALSE)","v":2},2991,125,{"$f":"VLOOKUP(E2993,'Ark1'!$C$2:$D$11,2,FALSE)","v":5},2991,200,{"$f":"VLOOKUP(H2993,'Ark1'!$C$2:$D$12,2,FALSE)","v":5}]
[2992,32,{"$f":"VLOOKUP(B2994,'Ark1'!C$2:D$11,2,FALSE)","v":2},2992,125,{"$f":"VLOOKUP(E2994,'Ark1'!$C$2:$D$11,2,FALSE)","v":5},2992,200,{"$f":"VLOOKUP(H2994,'Ark1'!$C$2:$D$12,2,FALSE)","v":5}]
[2993,32,{"$f":"VLOOKUP(B2995,'Ark1'!C$2:D$11,2,FALSE)","v":2},2993,125,{"$f":"VLOOKUP(E2995,'Ark1'!$C$2:$D$11,2,FALSE)","v":5},2993,200,{"$f":"VLOOKUP(H2995,'Ark1'!$C$2:$D$12,2,FALSE)","v":5}]
[2994,32,{"$f":"VLOOKUP(B2996,'Ark1'!C$2:D$11,2,FALSE)","v":2},2994,125,{"$f":"VLOOKUP(E2996,'Ark1'!$C$2:$D$11,2,FALSE)","v":5},2994,200,{"$f":"VLOOKUP(H2996,'Ark1'!$C$2:$D$12,2,FALSE)","v":5}]
[2995,32,{"$f":"VLOOKUP(B2997,'Ark1'!C$2:D$11,2,FALSE)","v":2},2995,125,{"$f":"VLOOKUP(E2997,'Ark1'!$C$2:$D$11,2,FALSE)","v":5},2995,200,{"$f":"VLOOKUP(H2997,'Ark1'!$C$2:$D$12,2,FALSE)","v":5}]
[2996,32,{"$f":"VLOOKUP(B2998,'Ark1'!C$2:D$11,2,FALSE)","v":2},2996,125,{"$f":"VLOOKUP(E2998,'Ark1'!$C$2:$D$11,2,FALSE)","v":5},2996,200,{"$f":"VLOOKUP(H2998,'Ark1'!$C$2:$D$12,2,FALSE)","v":5}]
[2997,32,{"$f":"VLOOKUP(B2999,'Ark1'!C$2:D$11,2,FALSE)","v":2},2997,125,{"$f":"VLOOKUP(E2999,'Ark1'!$C$2:$D$11,2,FALSE)","v":5},2997,200,{"$f":"VLOOKUP(H2999,'Ark1'!$C$2:$D$12,2,FALSE)","v":5}]
[2998,32,{"$f":"VLOOKUP(B3000,'Ark1'!C$2:D$11,2,FALSE)","v":2},2998,125,{"$f":"VLOOKUP(E3000,'Ark1'!$C$2:$D$11,2,FALSE)","v":5},2998,200,{"$f":"VLOOKUP(H3000,'Ark1'!$C$2:$D$12,2,FALSE)","v":5}]
[2999,32,{"$f":"VLOOKUP(B3001,'Ark1'!C$2:D$11,2,FALSE)","v":2},2999,125,{"$f":"VLOOKUP(E3001,'Ark1'!$C$2:$D$11,2,FALSE)","v":5},2999,200,{"$f":"VLOOKUP(H3001,'Ark1'!$C$2:$D$12,2,FALSE)","v":5}]
[3000,32,{"$f":"VLOOKUP(B3002,'Ark1'!C$2:D$11,2,FALSE)","v":2},3000,125,{"$f":"VLOOKUP(E3002,'Ark1'!$C$2:$D$11,2,FALSE)","v":5},3000,200,{"$f":"VLOOKUP(H3002,'Ark1'!$C$2:$D$12,2,FALSE)","v":5}]
[3001,32,{"$f":"VLOOKUP(B3003,'Ark1'!C$2:D$11,2,FALSE)","v":2},3001,125,{"$f":"VLOOKUP(E3003,'Ark1'!$C$2:$D$11,2,FALSE)","v":5},3001,200,{"$f":"VLOOKUP(H3003,'Ark1'!$C$2:$D$12,2,FALSE)","v":5}]
[3002,32,{"$f":"VLOOKUP(B3004,'Ark1'!C$2:D$11,2,FALSE)","v":2},3002,125,{"$f":"VLOOKUP(E3004,'Ark1'!$C$2:$D$11,2,FALSE)","v":5},3002,200,{"$f":"VLOOKUP(H3004,'Ark1'!$C$2:$D$12,2,FALSE)","v":5}]
[3003,32,{"$f":"VLOOKUP(B3005,'Ark1'!C$2:D$11,2,FALSE)","v":2},3003,125,{"$f":"VLOOKUP(E3005,'Ark1'!$C$2:$D$11,2,FALSE)","v":5},3003,200,{"$f":"VLOOKUP(H3005,'Ark1'!$C$2:$D$12,2,FALSE)","v":5}]
[3004,32,{"$f":"VLOOKUP(B3006,'Ark1'!C$2:D$11,2,FALSE)","v":2},3004,125,{"$f":"VLOOKUP(E3006,'Ark1'!$C$2:$D$11,2,FALSE)","v":5},3004,200,{"$f":"VLOOKUP(H3006,'Ark1'!$C$2:$D$12,2,FALSE)","v":5}]
[3005,32,{"$f":"VLOOKUP(B3007,'Ark1'!C$2:D$11,2,FALSE)","v":2},3005,125,{"$f":"VLOOKUP(E3007,'Ark1'!$C$2:$D$11,2,FALSE)","v":5},3005,200,{"$f":"VLOOKUP(H3007,'Ark1'!$C$2:$D$12,2,FALSE)","v":5}]
[3006,32,{"$f":"VLOOKUP(B3008,'Ark1'!C$2:D$11,2,FALSE)","v":2},3006,125,{"$f":"VLOOKUP(E3008,'Ark1'!$C$2:$D$11,2,FALSE)","v":5},3006,200,{"$f":"VLOOKUP(H3008,'Ark1'!$C$2:$D$12,2,FALSE)","v":5}]
[3007,32,{"$f":"VLOOKUP(B3009,'Ark1'!C$2:D$11,2,FALSE)","v":2},3007,125,{"$f":"VLOOKUP(E3009,'Ark1'!$C$2:$D$11,2,FALSE)","v":5},3007,200,{"$f":"VLOOKUP(H3009,'Ark1'!$C$2:$D$12,2,FALSE)","v":5}]
[3008,32,{"$f":"VLOOKUP(B3010,'Ark1'!C$2:D$11,2,FALSE)","v":2},3008,125,{"$f":"VLOOKUP(E3010,'Ark1'!$C$2:$D$11,2,FALSE)","v":5},3008,200,{"$f":"VLOOKUP(H3010,'Ark1'!$C$2:$D$12,2,FALSE)","v":5}]
[3009,32,{"$f":"VLOOKUP(B3011,'Ark1'!C$2:D$11,2,FALSE)","v":2},3009,125,{"$f":"VLOOKUP(E3011,'Ark1'!$C$2:$D$11,2,FALSE)","v":5},3009,200,{"$f":"VLOOKUP(H3011,'Ark1'!$C$2:$D$12,2,FALSE)","v":5}]
[3010,32,{"$f":"VLOOKUP(B3012,'Ark1'!C$2:D$11,2,FALSE)","v":2},3010,125,{"$f":"VLOOKUP(E3012,'Ark1'!$C$2:$D$11,2,FALSE)","v":5},3010,200,{"$f":"VLOOKUP(H3012,'Ark1'!$C$2:$D$12,2,FALSE)","v":5}]
[3011,32,{"$f":"VLOOKUP(B3013,'Ark1'!C$2:D$11,2,FALSE)","v":2},3011,125,{"$f":"VLOOKUP(E3013,'Ark1'!$C$2:$D$11,2,FALSE)","v":5},3011,200,{"$f":"VLOOKUP(H3013,'Ark1'!$C$2:$D$12,2,FALSE)","v":5}]
[3012,32,{"$f":"VLOOKUP(B3014,'Ark1'!C$2:D$11,2,FALSE)","v":2},3012,125,{"$f":"VLOOKUP(E3014,'Ark1'!$C$2:$D$11,2,FALSE)","v":5},3012,200,{"$f":"VLOOKUP(H3014,'Ark1'!$C$2:$D$12,2,FALSE)","v":5}]
[3013,32,{"$f":"VLOOKUP(B3015,'Ark1'!C$2:D$11,2,FALSE)","v":2},3013,125,{"$f":"VLOOKUP(E3015,'Ark1'!$C$2:$D$11,2,FALSE)","v":5},3013,200,{"$f":"VLOOKUP(H3015,'Ark1'!$C$2:$D$12,2,FALSE)","v":5}]
[3014,32,{"$f":"VLOOKUP(B3016,'Ark1'!C$2:D$11,2,FALSE)","v":2},3014,125,{"$f":"VLOOKUP(E3016,'Ark1'!$C$2:$D$11,2,FALSE)","v":5},3014,200,{"$f":"VLOOKUP(H3016,'Ark1'!$C$2:$D$12,2,FALSE)","v":5}]
[3015,32,{"$f":"VLOOKUP(B3017,'Ark1'!C$2:D$11,2,FALSE)","v":2},3015,125,{"$f":"VLOOKUP(E3017,'Ark1'!$C$2:$D$11,2,FALSE)","v":5},3015,200,{"$f":"VLOOKUP(H3017,'Ark1'!$C$2:$D$12,2,FALSE)","v":5}]
[3016,32,{"$f":"VLOOKUP(B3018,'Ark1'!C$2:D$11,2,FALSE)","v":2},3016,125,{"$f":"VLOOKUP(E3018,'Ark1'!$C$2:$D$11,2,FALSE)","v":5},3016,200,{"$f":"VLOOKUP(H3018,'Ark1'!$C$2:$D$12,2,FALSE)","v":5}]
[3017,32,{"$f":"VLOOKUP(B3019,'Ark1'!C$2:D$11,2,FALSE)","v":2},3017,125,{"$f":"VLOOKUP(E3019,'Ark1'!$C$2:$D$11,2,FALSE)","v":5},3017,200,{"$f":"VLOOKUP(H3019,'Ark1'!$C$2:$D$12,2,FALSE)","v":5}]
[3018,32,{"$f":"VLOOKUP(B3020,'Ark1'!C$2:D$11,2,FALSE)","v":2},3018,125,{"$f":"VLOOKUP(E3020,'Ark1'!$C$2:$D$11,2,FALSE)","v":5},3018,200,{"$f":"VLOOKUP(H3020,'Ark1'!$C$2:$D$12,2,FALSE)","v":5}]
[3019,32,{"$f":"VLOOKUP(B3021,'Ark1'!C$2:D$11,2,FALSE)","v":2},3019,125,{"$f":"VLOOKUP(E3021,'Ark1'!$C$2:$D$11,2,FALSE)","v":5},3019,200,{"$f":"VLOOKUP(H3021,'Ark1'!$C$2:$D$12,2,FALSE)","v":5}]
[3020,32,{"$f":"VLOOKUP(B3022,'Ark1'!C$2:D$11,2,FALSE)","v":2},3020,125,{"$f":"VLOOKUP(E3022,'Ark1'!$C$2:$D$11,2,FALSE)","v":5},3020,200,{"$f":"VLOOKUP(H3022,'Ark1'!$C$2:$D$12,2,FALSE)","v":5}]
[3021,32,{"$f":"VLOOKUP(B3023,'Ark1'!C$2:D$11,2,FALSE)","v":2},3021,125,{"$f":"VLOOKUP(E3023,'Ark1'!$C$2:$D$11,2,FALSE)","v":5},3021,200,{"$f":"VLOOKUP(H3023,'Ark1'!$C$2:$D$12,2,FALSE)","v":5}]
[3022,32,{"$f":"VLOOKUP(B3024,'Ark1'!C$2:D$11,2,FALSE)","v":2},3022,125,{"$f":"VLOOKUP(E3024,'Ark1'!$C$2:$D$11,2,FALSE)","v":5},3022,200,{"$f":"VLOOKUP(H3024,'Ark1'!$C$2:$D$12,2,FALSE)","v":5}]
[3023,32,{"$f":"VLOOKUP(B3025,'Ark1'!C$2:D$11,2,FALSE)","v":2},3023,125,{"$f":"VLOOKUP(E3025,'Ark1'!$C$2:$D$11,2,FALSE)","v":5},3023,200,{"$f":"VLOOKUP(H3025,'Ark1'!$C$2:$D$12,2,FALSE)","v":5}]
[3024,32,{"$f":"VLOOKUP(B3026,'Ark1'!C$2:D$11,2,FALSE)","v":2},3024,125,{"$f":"VLOOKUP(E3026,'Ark1'!$C$2:$D$11,2,FALSE)","v":5},3024,200,{"$f":"VLOOKUP(H3026,'Ark1'!$C$2:$D$12,2,FALSE)","v":5}]
[3025,32,{"$f":"VLOOKUP(B3027,'Ark1'!C$2:D$11,2,FALSE)","v":2},3025,125,{"$f":"VLOOKUP(E3027,'Ark1'!$C$2:$D$11,2,FALSE)","v":5},3025,200,{"$f":"VLOOKUP(H3027,'Ark1'!$C$2:$D$12,2,FALSE)","v":5}]
[3026,32,{"$f":"VLOOKUP(B3028,'Ark1'!C$2:D$11,2,FALSE)","v":2},3026,125,{"$f":"VLOOKUP(E3028,'Ark1'!$C$2:$D$11,2,FALSE)","v":5},3026,200,{"$f":"VLOOKUP(H3028,'Ark1'!$C$2:$D$12,2,FALSE)","v":5}]
[3027,32,{"$f":"VLOOKUP(B3029,'Ark1'!C$2:D$11,2,FALSE)","v":2},3027,125,{"$f":"VLOOKUP(E3029,'Ark1'!$C$2:$D$11,2,FALSE)","v":5},3027,200,{"$f":"VLOOKUP(H3029,'Ark1'!$C$2:$D$12,2,FALSE)","v":5}]
[3028,32,{"$f":"VLOOKUP(B3030,'Ark1'!C$2:D$11,2,FALSE)","v":2},3028,125,{"$f":"VLOOKUP(E3030,'Ark1'!$C$2:$D$11,2,FALSE)","v":5},3028,200,{"$f":"VLOOKUP(H3030,'Ark1'!$C$2:$D$12,2,FALSE)","v":5}]
[3029,32,{"$f":"VLOOKUP(B3031,'Ark1'!C$2:D$11,2,FALSE)","v":2},3029,125,{"$f":"VLOOKUP(E3031,'Ark1'!$C$2:$D$11,2,FALSE)","v":5},3029,200,{"$f":"VLOOKUP(H3031,'Ark1'!$C$2:$D$12,2,FALSE)","v":5}]
[3030,32,{"$f":"VLOOKUP(B3032,'Ark1'!C$2:D$11,2,FALSE)","v":2},3030,125,{"$f":"VLOOKUP(E3032,'Ark1'!$C$2:$D$11,2,FALSE)","v":5},3030,200,{"$f":"VLOOKUP(H3032,'Ark1'!$C$2:$D$12,2,FALSE)","v":5}]
[3031,32,{"$f":"VLOOKUP(B3033,'Ark1'!C$2:D$11,2,FALSE)","v":2},3031,125,{"$f":"VLOOKUP(E3033,'Ark1'!$C$2:$D$11,2,FALSE)","v":5},3031,200,{"$f":"VLOOKUP(H3033,'Ark1'!$C$2:$D$12,2,FALSE)","v":5}]
[3032,32,{"$f":"VLOOKUP(B3034,'Ark1'!C$2:D$11,2,FALSE)","v":2},3032,125,{"$f":"VLOOKUP(E3034,'Ark1'!$C$2:$D$11,2,FALSE)","v":5},3032,200,{"$f":"VLOOKUP(H3034,'Ark1'!$C$2:$D$12,2,FALSE)","v":5}]
[3033,32,{"$f":"VLOOKUP(B3035,'Ark1'!C$2:D$11,2,FALSE)","v":2},3033,125,{"$f":"VLOOKUP(E3035,'Ark1'!$C$2:$D$11,2,FALSE)","v":5},3033,200,{"$f":"VLOOKUP(H3035,'Ark1'!$C$2:$D$12,2,FALSE)","v":5}]
[3034,32,{"$f":"VLOOKUP(B3036,'Ark1'!C$2:D$11,2,FALSE)","v":2},3034,125,{"$f":"VLOOKUP(E3036,'Ark1'!$C$2:$D$11,2,FALSE)","v":5},3034,200,{"$f":"VLOOKUP(H3036,'Ark1'!$C$2:$D$12,2,FALSE)","v":5}]
[3035,32,{"$f":"VLOOKUP(B3037,'Ark1'!C$2:D$11,2,FALSE)","v":2},3035,125,{"$f":"VLOOKUP(E3037,'Ark1'!$C$2:$D$11,2,FALSE)","v":5},3035,200,{"$f":"VLOOKUP(H3037,'Ark1'!$C$2:$D$12,2,FALSE)","v":5}]
[3036,32,{"$f":"VLOOKUP(B3038,'Ark1'!C$2:D$11,2,FALSE)","v":2},3036,125,{"$f":"VLOOKUP(E3038,'Ark1'!$C$2:$D$11,2,FALSE)","v":5},3036,200,{"$f":"VLOOKUP(H3038,'Ark1'!$C$2:$D$12,2,FALSE)","v":5}]
[3037,32,{"$f":"VLOOKUP(B3039,'Ark1'!C$2:D$11,2,FALSE)","v":2},3037,125,{"$f":"VLOOKUP(E3039,'Ark1'!$C$2:$D$11,2,FALSE)","v":5},3037,200,{"$f":"VLOOKUP(H3039,'Ark1'!$C$2:$D$12,2,FALSE)","v":5}]
[3038,32,{"$f":"VLOOKUP(B3040,'Ark1'!C$2:D$11,2,FALSE)","v":2},3038,125,{"$f":"VLOOKUP(E3040,'Ark1'!$C$2:$D$11,2,FALSE)","v":5},3038,200,{"$f":"VLOOKUP(H3040,'Ark1'!$C$2:$D$12,2,FALSE)","v":5}]
[3039,32,{"$f":"VLOOKUP(B3041,'Ark1'!C$2:D$11,2,FALSE)","v":2},3039,125,{"$f":"VLOOKUP(E3041,'Ark1'!$C$2:$D$11,2,FALSE)","v":5},3039,200,{"$f":"VLOOKUP(H3041,'Ark1'!$C$2:$D$12,2,FALSE)","v":5}]
[3040,32,{"$f":"VLOOKUP(B3042,'Ark1'!C$2:D$11,2,FALSE)","v":2},3040,125,{"$f":"VLOOKUP(E3042,'Ark1'!$C$2:$D$11,2,FALSE)","v":5},3040,200,{"$f":"VLOOKUP(H3042,'Ark1'!$C$2:$D$12,2,FALSE)","v":5}]
[3041,32,{"$f":"VLOOKUP(B3043,'Ark1'!C$2:D$11,2,FALSE)","v":2},3041,125,{"$f":"VLOOKUP(E3043,'Ark1'!$C$2:$D$11,2,FALSE)","v":5},3041,200,{"$f":"VLOOKUP(H3043,'Ark1'!$C$2:$D$12,2,FALSE)","v":5}]
[3042,32,{"$f":"VLOOKUP(B3044,'Ark1'!C$2:D$11,2,FALSE)","v":2},3042,125,{"$f":"VLOOKUP(E3044,'Ark1'!$C$2:$D$11,2,FALSE)","v":5},3042,200,{"$f":"VLOOKUP(H3044,'Ark1'!$C$2:$D$12,2,FALSE)","v":5}]
[3043,32,{"$f":"VLOOKUP(B3045,'Ark1'!C$2:D$11,2,FALSE)","v":2},3043,125,{"$f":"VLOOKUP(E3045,'Ark1'!$C$2:$D$11,2,FALSE)","v":5},3043,200,{"$f":"VLOOKUP(H3045,'Ark1'!$C$2:$D$12,2,FALSE)","v":5}]
[3044,32,{"$f":"VLOOKUP(B3046,'Ark1'!C$2:D$11,2,FALSE)","v":2},3044,125,{"$f":"VLOOKUP(E3046,'Ark1'!$C$2:$D$11,2,FALSE)","v":5},3044,200,{"$f":"VLOOKUP(H3046,'Ark1'!$C$2:$D$12,2,FALSE)","v":5}]
[3045,32,{"$f":"VLOOKUP(B3047,'Ark1'!C$2:D$11,2,FALSE)","v":2},3045,125,{"$f":"VLOOKUP(E3047,'Ark1'!$C$2:$D$11,2,FALSE)","v":5},3045,200,{"$f":"VLOOKUP(H3047,'Ark1'!$C$2:$D$12,2,FALSE)","v":5}]
[3046,32,{"$f":"VLOOKUP(B3048,'Ark1'!C$2:D$11,2,FALSE)","v":2},3046,125,{"$f":"VLOOKUP(E3048,'Ark1'!$C$2:$D$11,2,FALSE)","v":5},3046,200,{"$f":"VLOOKUP(H3048,'Ark1'!$C$2:$D$12,2,FALSE)","v":5}]
[3047,32,{"$f":"VLOOKUP(B3049,'Ark1'!C$2:D$11,2,FALSE)","v":2},3047,125,{"$f":"VLOOKUP(E3049,'Ark1'!$C$2:$D$11,2,FALSE)","v":5},3047,200,{"$f":"VLOOKUP(H3049,'Ark1'!$C$2:$D$12,2,FALSE)","v":5}]
[3048,32,{"$f":"VLOOKUP(B3050,'Ark1'!C$2:D$11,2,FALSE)","v":2},3048,125,{"$f":"VLOOKUP(E3050,'Ark1'!$C$2:$D$11,2,FALSE)","v":5},3048,200,{"$f":"VLOOKUP(H3050,'Ark1'!$C$2:$D$12,2,FALSE)","v":5}]
[3049,32,{"$f":"VLOOKUP(B3051,'Ark1'!C$2:D$11,2,FALSE)","v":2},3049,125,{"$f":"VLOOKUP(E3051,'Ark1'!$C$2:$D$11,2,FALSE)","v":5},3049,200,{"$f":"VLOOKUP(H3051,'Ark1'!$C$2:$D$12,2,FALSE)","v":5}]
[3050,32,{"$f":"VLOOKUP(B3052,'Ark1'!C$2:D$11,2,FALSE)","v":2},3050,125,{"$f":"VLOOKUP(E3052,'Ark1'!$C$2:$D$11,2,FALSE)","v":5},3050,200,{"$f":"VLOOKUP(H3052,'Ark1'!$C$2:$D$12,2,FALSE)","v":5}]
[3051,32,{"$f":"VLOOKUP(B3053,'Ark1'!C$2:D$11,2,FALSE)","v":2},3051,125,{"$f":"VLOOKUP(E3053,'Ark1'!$C$2:$D$11,2,FALSE)","v":5},3051,200,{"$f":"VLOOKUP(H3053,'Ark1'!$C$2:$D$12,2,FALSE)","v":5}]
[3052,32,{"$f":"VLOOKUP(B3054,'Ark1'!C$2:D$11,2,FALSE)","v":2},3052,125,{"$f":"VLOOKUP(E3054,'Ark1'!$C$2:$D$11,2,FALSE)","v":5},3052,200,{"$f":"VLOOKUP(H3054,'Ark1'!$C$2:$D$12,2,FALSE)","v":5}]
[3053,32,{"$f":"VLOOKUP(B3055,'Ark1'!C$2:D$11,2,FALSE)","v":2},3053,125,{"$f":"VLOOKUP(E3055,'Ark1'!$C$2:$D$11,2,FALSE)","v":5},3053,200,{"$f":"VLOOKUP(H3055,'Ark1'!$C$2:$D$12,2,FALSE)","v":5}]
[3054,32,{"$f":"VLOOKUP(B3056,'Ark1'!C$2:D$11,2,FALSE)","v":2},3054,125,{"$f":"VLOOKUP(E3056,'Ark1'!$C$2:$D$11,2,FALSE)","v":5},3054,200,{"$f":"VLOOKUP(H3056,'Ark1'!$C$2:$D$12,2,FALSE)","v":5}]
[3055,32,{"$f":"VLOOKUP(B3057,'Ark1'!C$2:D$11,2,FALSE)","v":2},3055,125,{"$f":"VLOOKUP(E3057,'Ark1'!$C$2:$D$11,2,FALSE)","v":5},3055,200,{"$f":"VLOOKUP(H3057,'Ark1'!$C$2:$D$12,2,FALSE)","v":5}]
[3056,32,{"$f":"VLOOKUP(B3058,'Ark1'!C$2:D$11,2,FALSE)","v":2},3056,125,{"$f":"VLOOKUP(E3058,'Ark1'!$C$2:$D$11,2,FALSE)","v":5},3056,200,{"$f":"VLOOKUP(H3058,'Ark1'!$C$2:$D$12,2,FALSE)","v":5}]
[3057,32,{"$f":"VLOOKUP(B3059,'Ark1'!C$2:D$11,2,FALSE)","v":2},3057,125,{"$f":"VLOOKUP(E3059,'Ark1'!$C$2:$D$11,2,FALSE)","v":5},3057,200,{"$f":"VLOOKUP(H3059,'Ark1'!$C$2:$D$12,2,FALSE)","v":5}]
[3058,32,{"$f":"VLOOKUP(B3060,'Ark1'!C$2:D$11,2,FALSE)","v":2},3058,125,{"$f":"VLOOKUP(E3060,'Ark1'!$C$2:$D$11,2,FALSE)","v":5},3058,200,{"$f":"VLOOKUP(H3060,'Ark1'!$C$2:$D$12,2,FALSE)","v":5}]
[3059,32,{"$f":"VLOOKUP(B3061,'Ark1'!C$2:D$11,2,FALSE)","v":2},3059,125,{"$f":"VLOOKUP(E3061,'Ark1'!$C$2:$D$11,2,FALSE)","v":5},3059,200,{"$f":"VLOOKUP(H3061,'Ark1'!$C$2:$D$12,2,FALSE)","v":5}]
[3060,32,{"$f":"VLOOKUP(B3062,'Ark1'!C$2:D$11,2,FALSE)","v":2},3060,125,{"$f":"VLOOKUP(E3062,'Ark1'!$C$2:$D$11,2,FALSE)","v":5},3060,200,{"$f":"VLOOKUP(H3062,'Ark1'!$C$2:$D$12,2,FALSE)","v":5}]
[3061,32,{"$f":"VLOOKUP(B3063,'Ark1'!C$2:D$11,2,FALSE)","v":2},3061,125,{"$f":"VLOOKUP(E3063,'Ark1'!$C$2:$D$11,2,FALSE)","v":5},3061,200,{"$f":"VLOOKUP(H3063,'Ark1'!$C$2:$D$12,2,FALSE)","v":5}]
[3062,32,{"$f":"VLOOKUP(B3064,'Ark1'!C$2:D$11,2,FALSE)","v":2},3062,125,{"$f":"VLOOKUP(E3064,'Ark1'!$C$2:$D$11,2,FALSE)","v":5},3062,200,{"$f":"VLOOKUP(H3064,'Ark1'!$C$2:$D$12,2,FALSE)","v":5}]
[3063,32,{"$f":"VLOOKUP(B3065,'Ark1'!C$2:D$11,2,FALSE)","v":2},3063,125,{"$f":"VLOOKUP(E3065,'Ark1'!$C$2:$D$11,2,FALSE)","v":5},3063,200,{"$f":"VLOOKUP(H3065,'Ark1'!$C$2:$D$12,2,FALSE)","v":5}]
[3064,32,{"$f":"VLOOKUP(B3066,'Ark1'!C$2:D$11,2,FALSE)","v":2},3064,125,{"$f":"VLOOKUP(E3066,'Ark1'!$C$2:$D$11,2,FALSE)","v":5},3064,200,{"$f":"VLOOKUP(H3066,'Ark1'!$C$2:$D$12,2,FALSE)","v":5}]
[3065,32,{"$f":"VLOOKUP(B3067,'Ark1'!C$2:D$11,2,FALSE)","v":2},3065,125,{"$f":"VLOOKUP(E3067,'Ark1'!$C$2:$D$11,2,FALSE)","v":5},3065,200,{"$f":"VLOOKUP(H3067,'Ark1'!$C$2:$D$12,2,FALSE)","v":5}]
[3066,32,{"$f":"VLOOKUP(B3068,'Ark1'!C$2:D$11,2,FALSE)","v":2},3066,125,{"$f":"VLOOKUP(E3068,'Ark1'!$C$2:$D$11,2,FALSE)","v":5},3066,200,{"$f":"VLOOKUP(H3068,'Ark1'!$C$2:$D$12,2,FALSE)","v":5}]
[3067,32,{"$f":"VLOOKUP(B3069,'Ark1'!C$2:D$11,2,FALSE)","v":2},3067,125,{"$f":"VLOOKUP(E3069,'Ark1'!$C$2:$D$11,2,FALSE)","v":5},3067,200,{"$f":"VLOOKUP(H3069,'Ark1'!$C$2:$D$12,2,FALSE)","v":5}]
[3068,32,{"$f":"VLOOKUP(B3070,'Ark1'!C$2:D$11,2,FALSE)","v":2},3068,125,{"$f":"VLOOKUP(E3070,'Ark1'!$C$2:$D$11,2,FALSE)","v":5},3068,200,{"$f":"VLOOKUP(H3070,'Ark1'!$C$2:$D$12,2,FALSE)","v":5}]
[3069,32,{"$f":"VLOOKUP(B3071,'Ark1'!C$2:D$11,2,FALSE)","v":2},3069,125,{"$f":"VLOOKUP(E3071,'Ark1'!$C$2:$D$11,2,FALSE)","v":5},3069,200,{"$f":"VLOOKUP(H3071,'Ark1'!$C$2:$D$12,2,FALSE)","v":5}]
[3070,32,{"$f":"VLOOKUP(B3072,'Ark1'!C$2:D$11,2,FALSE)","v":2},3070,125,{"$f":"VLOOKUP(E3072,'Ark1'!$C$2:$D$11,2,FALSE)","v":5},3070,200,{"$f":"VLOOKUP(H3072,'Ark1'!$C$2:$D$12,2,FALSE)","v":5}]
[3071,32,{"$f":"VLOOKUP(B3073,'Ark1'!C$2:D$11,2,FALSE)","v":2},3071,125,{"$f":"VLOOKUP(E3073,'Ark1'!$C$2:$D$11,2,FALSE)","v":5},3071,200,{"$f":"VLOOKUP(H3073,'Ark1'!$C$2:$D$12,2,FALSE)","v":5}]
[3072,32,{"$f":"VLOOKUP(B3074,'Ark1'!C$2:D$11,2,FALSE)","v":2},3072,125,{"$f":"VLOOKUP(E3074,'Ark1'!$C$2:$D$11,2,FALSE)","v":5},3072,200,{"$f":"VLOOKUP(H3074,'Ark1'!$C$2:$D$12,2,FALSE)","v":5}]
[3073,32,{"$f":"VLOOKUP(B3075,'Ark1'!C$2:D$11,2,FALSE)","v":2},3073,125,{"$f":"VLOOKUP(E3075,'Ark1'!$C$2:$D$11,2,FALSE)","v":5},3073,200,{"$f":"VLOOKUP(H3075,'Ark1'!$C$2:$D$12,2,FALSE)","v":5}]
[3074,32,{"$f":"VLOOKUP(B3076,'Ark1'!C$2:D$11,2,FALSE)","v":2},3074,125,{"$f":"VLOOKUP(E3076,'Ark1'!$C$2:$D$11,2,FALSE)","v":5},3074,200,{"$f":"VLOOKUP(H3076,'Ark1'!$C$2:$D$12,2,FALSE)","v":5}]
[3075,32,{"$f":"VLOOKUP(B3077,'Ark1'!C$2:D$11,2,FALSE)","v":2},3075,125,{"$f":"VLOOKUP(E3077,'Ark1'!$C$2:$D$11,2,FALSE)","v":5},3075,200,{"$f":"VLOOKUP(H3077,'Ark1'!$C$2:$D$12,2,FALSE)","v":5}]
[3076,32,{"$f":"VLOOKUP(B3078,'Ark1'!C$2:D$11,2,FALSE)","v":2},3076,125,{"$f":"VLOOKUP(E3078,'Ark1'!$C$2:$D$11,2,FALSE)","v":5},3076,200,{"$f":"VLOOKUP(H3078,'Ark1'!$C$2:$D$12,2,FALSE)","v":5}]
[3077,32,{"$f":"VLOOKUP(B3079,'Ark1'!C$2:D$11,2,FALSE)","v":2},3077,125,{"$f":"VLOOKUP(E3079,'Ark1'!$C$2:$D$11,2,FALSE)","v":5},3077,200,{"$f":"VLOOKUP(H3079,'Ark1'!$C$2:$D$12,2,FALSE)","v":5}]
[3078,32,{"$f":"VLOOKUP(B3080,'Ark1'!C$2:D$11,2,FALSE)","v":2},3078,125,{"$f":"VLOOKUP(E3080,'Ark1'!$C$2:$D$11,2,FALSE)","v":5},3078,200,{"$f":"VLOOKUP(H3080,'Ark1'!$C$2:$D$12,2,FALSE)","v":5}]
[3079,32,{"$f":"VLOOKUP(B3081,'Ark1'!C$2:D$11,2,FALSE)","v":2},3079,125,{"$f":"VLOOKUP(E3081,'Ark1'!$C$2:$D$11,2,FALSE)","v":5},3079,200,{"$f":"VLOOKUP(H3081,'Ark1'!$C$2:$D$12,2,FALSE)","v":5}]
[3080,32,{"$f":"VLOOKUP(B3082,'Ark1'!C$2:D$11,2,FALSE)","v":2},3080,125,{"$f":"VLOOKUP(E3082,'Ark1'!$C$2:$D$11,2,FALSE)","v":5},3080,200,{"$f":"VLOOKUP(H3082,'Ark1'!$C$2:$D$12,2,FALSE)","v":5}]
[3081,32,{"$f":"VLOOKUP(B3083,'Ark1'!C$2:D$11,2,FALSE)","v":2},3081,125,{"$f":"VLOOKUP(E3083,'Ark1'!$C$2:$D$11,2,FALSE)","v":5},3081,200,{"$f":"VLOOKUP(H3083,'Ark1'!$C$2:$D$12,2,FALSE)","v":5}]
[3082,32,{"$f":"VLOOKUP(B3084,'Ark1'!C$2:D$11,2,FALSE)","v":2},3082,125,{"$f":"VLOOKUP(E3084,'Ark1'!$C$2:$D$11,2,FALSE)","v":5},3082,200,{"$f":"VLOOKUP(H3084,'Ark1'!$C$2:$D$12,2,FALSE)","v":5}]
[3083,32,{"$f":"VLOOKUP(B3085,'Ark1'!C$2:D$11,2,FALSE)","v":2},3083,125,{"$f":"VLOOKUP(E3085,'Ark1'!$C$2:$D$11,2,FALSE)","v":5},3083,200,{"$f":"VLOOKUP(H3085,'Ark1'!$C$2:$D$12,2,FALSE)","v":5}]
[3084,32,{"$f":"VLOOKUP(B3086,'Ark1'!C$2:D$11,2,FALSE)","v":2},3084,125,{"$f":"VLOOKUP(E3086,'Ark1'!$C$2:$D$11,2,FALSE)","v":5},3084,200,{"$f":"VLOOKUP(H3086,'Ark1'!$C$2:$D$12,2,FALSE)","v":5}]
[3085,32,{"$f":"VLOOKUP(B3087,'Ark1'!C$2:D$11,2,FALSE)","v":2},3085,125,{"$f":"VLOOKUP(E3087,'Ark1'!$C$2:$D$11,2,FALSE)","v":5},3085,200,{"$f":"VLOOKUP(H3087,'Ark1'!$C$2:$D$12,2,FALSE)","v":5}]
[3086,32,{"$f":"VLOOKUP(B3088,'Ark1'!C$2:D$11,2,FALSE)","v":2},3086,125,{"$f":"VLOOKUP(E3088,'Ark1'!$C$2:$D$11,2,FALSE)","v":5},3086,200,{"$f":"VLOOKUP(H3088,'Ark1'!$C$2:$D$12,2,FALSE)","v":5}]
[3087,32,{"$f":"VLOOKUP(B3089,'Ark1'!C$2:D$11,2,FALSE)","v":2},3087,125,{"$f":"VLOOKUP(E3089,'Ark1'!$C$2:$D$11,2,FALSE)","v":5},3087,200,{"$f":"VLOOKUP(H3089,'Ark1'!$C$2:$D$12,2,FALSE)","v":5}]
[3088,32,{"$f":"VLOOKUP(B3090,'Ark1'!C$2:D$11,2,FALSE)","v":2},3088,125,{"$f":"VLOOKUP(E3090,'Ark1'!$C$2:$D$11,2,FALSE)","v":5},3088,200,{"$f":"VLOOKUP(H3090,'Ark1'!$C$2:$D$12,2,FALSE)","v":5}]
[3089,32,{"$f":"VLOOKUP(B3091,'Ark1'!C$2:D$11,2,FALSE)","v":2},3089,125,{"$f":"VLOOKUP(E3091,'Ark1'!$C$2:$D$11,2,FALSE)","v":5},3089,200,{"$f":"VLOOKUP(H3091,'Ark1'!$C$2:$D$12,2,FALSE)","v":5}]
[3090,32,{"$f":"VLOOKUP(B3092,'Ark1'!C$2:D$11,2,FALSE)","v":2},3090,125,{"$f":"VLOOKUP(E3092,'Ark1'!$C$2:$D$11,2,FALSE)","v":5},3090,200,{"$f":"VLOOKUP(H3092,'Ark1'!$C$2:$D$12,2,FALSE)","v":5}]
[3091,32,{"$f":"VLOOKUP(B3093,'Ark1'!C$2:D$11,2,FALSE)","v":2},3091,125,{"$f":"VLOOKUP(E3093,'Ark1'!$C$2:$D$11,2,FALSE)","v":5},3091,200,{"$f":"VLOOKUP(H3093,'Ark1'!$C$2:$D$12,2,FALSE)","v":5}]
[3092,32,{"$f":"VLOOKUP(B3094,'Ark1'!C$2:D$11,2,FALSE)","v":2},3092,125,{"$f":"VLOOKUP(E3094,'Ark1'!$C$2:$D$11,2,FALSE)","v":5},3092,200,{"$f":"VLOOKUP(H3094,'Ark1'!$C$2:$D$12,2,FALSE)","v":5}]
[3093,32,{"$f":"VLOOKUP(B3095,'Ark1'!C$2:D$11,2,FALSE)","v":2},3093,125,{"$f":"VLOOKUP(E3095,'Ark1'!$C$2:$D$11,2,FALSE)","v":5},3093,200,{"$f":"VLOOKUP(H3095,'Ark1'!$C$2:$D$12,2,FALSE)","v":5}]
[3094,32,{"$f":"VLOOKUP(B3096,'Ark1'!C$2:D$11,2,FALSE)","v":2},3094,125,{"$f":"VLOOKUP(E3096,'Ark1'!$C$2:$D$11,2,FALSE)","v":5},3094,200,{"$f":"VLOOKUP(H3096,'Ark1'!$C$2:$D$12,2,FALSE)","v":5}]
[3095,32,{"$f":"VLOOKUP(B3097,'Ark1'!C$2:D$11,2,FALSE)","v":2},3095,125,{"$f":"VLOOKUP(E3097,'Ark1'!$C$2:$D$11,2,FALSE)","v":5},3095,200,{"$f":"VLOOKUP(H3097,'Ark1'!$C$2:$D$12,2,FALSE)","v":5}]
[3096,32,{"$f":"VLOOKUP(B3098,'Ark1'!C$2:D$11,2,FALSE)","v":2},3096,125,{"$f":"VLOOKUP(E3098,'Ark1'!$C$2:$D$11,2,FALSE)","v":5},3096,200,{"$f":"VLOOKUP(H3098,'Ark1'!$C$2:$D$12,2,FALSE)","v":5}]
[3097,32,{"$f":"VLOOKUP(B3099,'Ark1'!C$2:D$11,2,FALSE)","v":2},3097,125,{"$f":"VLOOKUP(E3099,'Ark1'!$C$2:$D$11,2,FALSE)","v":5},3097,200,{"$f":"VLOOKUP(H3099,'Ark1'!$C$2:$D$12,2,FALSE)","v":5}]
[3098,32,{"$f":"VLOOKUP(B3100,'Ark1'!C$2:D$11,2,FALSE)","v":2},3098,125,{"$f":"VLOOKUP(E3100,'Ark1'!$C$2:$D$11,2,FALSE)","v":5},3098,200,{"$f":"VLOOKUP(H3100,'Ark1'!$C$2:$D$12,2,FALSE)","v":5}]
[3099,32,{"$f":"VLOOKUP(B3101,'Ark1'!C$2:D$11,2,FALSE)","v":2},3099,125,{"$f":"VLOOKUP(E3101,'Ark1'!$C$2:$D$11,2,FALSE)","v":5},3099,200,{"$f":"VLOOKUP(H3101,'Ark1'!$C$2:$D$12,2,FALSE)","v":5}]
[3100,32,{"$f":"VLOOKUP(B3102,'Ark1'!C$2:D$11,2,FALSE)","v":2},3100,125,{"$f":"VLOOKUP(E3102,'Ark1'!$C$2:$D$11,2,FALSE)","v":5},3100,200,{"$f":"VLOOKUP(H3102,'Ark1'!$C$2:$D$12,2,FALSE)","v":5}]
[3101,32,{"$f":"VLOOKUP(B3103,'Ark1'!C$2:D$11,2,FALSE)","v":2},3101,125,{"$f":"VLOOKUP(E3103,'Ark1'!$C$2:$D$11,2,FALSE)","v":5},3101,200,{"$f":"VLOOKUP(H3103,'Ark1'!$C$2:$D$12,2,FALSE)","v":5}]
[3102,32,{"$f":"VLOOKUP(B3104,'Ark1'!C$2:D$11,2,FALSE)","v":2},3102,125,{"$f":"VLOOKUP(E3104,'Ark1'!$C$2:$D$11,2,FALSE)","v":5},3102,200,{"$f":"VLOOKUP(H3104,'Ark1'!$C$2:$D$12,2,FALSE)","v":5}]
[3103,32,{"$f":"VLOOKUP(B3105,'Ark1'!C$2:D$11,2,FALSE)","v":2},3103,125,{"$f":"VLOOKUP(E3105,'Ark1'!$C$2:$D$11,2,FALSE)","v":5},3103,200,{"$f":"VLOOKUP(H3105,'Ark1'!$C$2:$D$12,2,FALSE)","v":5}]
[3104,32,{"$f":"VLOOKUP(B3106,'Ark1'!C$2:D$11,2,FALSE)","v":2},3104,125,{"$f":"VLOOKUP(E3106,'Ark1'!$C$2:$D$11,2,FALSE)","v":5},3104,200,{"$f":"VLOOKUP(H3106,'Ark1'!$C$2:$D$12,2,FALSE)","v":5}]
[3105,32,{"$f":"VLOOKUP(B3107,'Ark1'!C$2:D$11,2,FALSE)","v":2},3105,125,{"$f":"VLOOKUP(E3107,'Ark1'!$C$2:$D$11,2,FALSE)","v":5},3105,200,{"$f":"VLOOKUP(H3107,'Ark1'!$C$2:$D$12,2,FALSE)","v":5}]
[3106,32,{"$f":"VLOOKUP(B3108,'Ark1'!C$2:D$11,2,FALSE)","v":2},3106,125,{"$f":"VLOOKUP(E3108,'Ark1'!$C$2:$D$11,2,FALSE)","v":5},3106,200,{"$f":"VLOOKUP(H3108,'Ark1'!$C$2:$D$12,2,FALSE)","v":5}]
[3107,32,{"$f":"VLOOKUP(B3109,'Ark1'!C$2:D$11,2,FALSE)","v":2},3107,125,{"$f":"VLOOKUP(E3109,'Ark1'!$C$2:$D$11,2,FALSE)","v":5},3107,200,{"$f":"VLOOKUP(H3109,'Ark1'!$C$2:$D$12,2,FALSE)","v":5}]
[3108,32,{"$f":"VLOOKUP(B3110,'Ark1'!C$2:D$11,2,FALSE)","v":2},3108,125,{"$f":"VLOOKUP(E3110,'Ark1'!$C$2:$D$11,2,FALSE)","v":5},3108,200,{"$f":"VLOOKUP(H3110,'Ark1'!$C$2:$D$12,2,FALSE)","v":5}]
[3109,32,{"$f":"VLOOKUP(B3111,'Ark1'!C$2:D$11,2,FALSE)","v":2},3109,125,{"$f":"VLOOKUP(E3111,'Ark1'!$C$2:$D$11,2,FALSE)","v":5},3109,200,{"$f":"VLOOKUP(H3111,'Ark1'!$C$2:$D$12,2,FALSE)","v":5}]
[3110,32,{"$f":"VLOOKUP(B3112,'Ark1'!C$2:D$11,2,FALSE)","v":2},3110,125,{"$f":"VLOOKUP(E3112,'Ark1'!$C$2:$D$11,2,FALSE)","v":5},3110,200,{"$f":"VLOOKUP(H3112,'Ark1'!$C$2:$D$12,2,FALSE)","v":5}]
[3111,32,{"$f":"VLOOKUP(B3113,'Ark1'!C$2:D$11,2,FALSE)","v":2},3111,125,{"$f":"VLOOKUP(E3113,'Ark1'!$C$2:$D$11,2,FALSE)","v":5},3111,200,{"$f":"VLOOKUP(H3113,'Ark1'!$C$2:$D$12,2,FALSE)","v":5}]
[3112,32,{"$f":"VLOOKUP(B3114,'Ark1'!C$2:D$11,2,FALSE)","v":2},3112,125,{"$f":"VLOOKUP(E3114,'Ark1'!$C$2:$D$11,2,FALSE)","v":5},3112,200,{"$f":"VLOOKUP(H3114,'Ark1'!$C$2:$D$12,2,FALSE)","v":5}]
[3113,32,{"$f":"VLOOKUP(B3115,'Ark1'!C$2:D$11,2,FALSE)","v":2},3113,125,{"$f":"VLOOKUP(E3115,'Ark1'!$C$2:$D$11,2,FALSE)","v":5},3113,200,{"$f":"VLOOKUP(H3115,'Ark1'!$C$2:$D$12,2,FALSE)","v":5}]
[3114,32,{"$f":"VLOOKUP(B3116,'Ark1'!C$2:D$11,2,FALSE)","v":2},3114,125,{"$f":"VLOOKUP(E3116,'Ark1'!$C$2:$D$11,2,FALSE)","v":5},3114,200,{"$f":"VLOOKUP(H3116,'Ark1'!$C$2:$D$12,2,FALSE)","v":5}]
[3115,32,{"$f":"VLOOKUP(B3117,'Ark1'!C$2:D$11,2,FALSE)","v":2},3115,125,{"$f":"VLOOKUP(E3117,'Ark1'!$C$2:$D$11,2,FALSE)","v":5},3115,200,{"$f":"VLOOKUP(H3117,'Ark1'!$C$2:$D$12,2,FALSE)","v":5}]
[3116,32,{"$f":"VLOOKUP(B3118,'Ark1'!C$2:D$11,2,FALSE)","v":2},3116,125,{"$f":"VLOOKUP(E3118,'Ark1'!$C$2:$D$11,2,FALSE)","v":5},3116,200,{"$f":"VLOOKUP(H3118,'Ark1'!$C$2:$D$12,2,FALSE)","v":5}]
[3117,32,{"$f":"VLOOKUP(B3119,'Ark1'!C$2:D$11,2,FALSE)","v":2},3117,125,{"$f":"VLOOKUP(E3119,'Ark1'!$C$2:$D$11,2,FALSE)","v":5},3117,200,{"$f":"VLOOKUP(H3119,'Ark1'!$C$2:$D$12,2,FALSE)","v":5}]
[3118,32,{"$f":"VLOOKUP(B3120,'Ark1'!C$2:D$11,2,FALSE)","v":2},3118,125,{"$f":"VLOOKUP(E3120,'Ark1'!$C$2:$D$11,2,FALSE)","v":5},3118,200,{"$f":"VLOOKUP(H3120,'Ark1'!$C$2:$D$12,2,FALSE)","v":5}]
[3119,32,{"$f":"VLOOKUP(B3121,'Ark1'!C$2:D$11,2,FALSE)","v":2},3119,125,{"$f":"VLOOKUP(E3121,'Ark1'!$C$2:$D$11,2,FALSE)","v":5},3119,200,{"$f":"VLOOKUP(H3121,'Ark1'!$C$2:$D$12,2,FALSE)","v":5}]
[3120,32,{"$f":"VLOOKUP(B3122,'Ark1'!C$2:D$11,2,FALSE)","v":2},3120,125,{"$f":"VLOOKUP(E3122,'Ark1'!$C$2:$D$11,2,FALSE)","v":5},3120,200,{"$f":"VLOOKUP(H3122,'Ark1'!$C$2:$D$12,2,FALSE)","v":5}]
[3121,32,{"$f":"VLOOKUP(B3123,'Ark1'!C$2:D$11,2,FALSE)","v":2},3121,125,{"$f":"VLOOKUP(E3123,'Ark1'!$C$2:$D$11,2,FALSE)","v":5},3121,200,{"$f":"VLOOKUP(H3123,'Ark1'!$C$2:$D$12,2,FALSE)","v":5}]
[3122,32,{"$f":"VLOOKUP(B3124,'Ark1'!C$2:D$11,2,FALSE)","v":2},3122,125,{"$f":"VLOOKUP(E3124,'Ark1'!$C$2:$D$11,2,FALSE)","v":5},3122,200,{"$f":"VLOOKUP(H3124,'Ark1'!$C$2:$D$12,2,FALSE)","v":5}]
[3123,32,{"$f":"VLOOKUP(B3125,'Ark1'!C$2:D$11,2,FALSE)","v":2},3123,125,{"$f":"VLOOKUP(E3125,'Ark1'!$C$2:$D$11,2,FALSE)","v":5},3123,200,{"$f":"VLOOKUP(H3125,'Ark1'!$C$2:$D$12,2,FALSE)","v":5}]
[3124,32,{"$f":"VLOOKUP(B3126,'Ark1'!C$2:D$11,2,FALSE)","v":2},3124,125,{"$f":"VLOOKUP(E3126,'Ark1'!$C$2:$D$11,2,FALSE)","v":5},3124,200,{"$f":"VLOOKUP(H3126,'Ark1'!$C$2:$D$12,2,FALSE)","v":5}]
[3125,32,{"$f":"VLOOKUP(B3127,'Ark1'!C$2:D$11,2,FALSE)","v":2},3125,125,{"$f":"VLOOKUP(E3127,'Ark1'!$C$2:$D$11,2,FALSE)","v":5},3125,200,{"$f":"VLOOKUP(H3127,'Ark1'!$C$2:$D$12,2,FALSE)","v":5}]
[3126,32,{"$f":"VLOOKUP(B3128,'Ark1'!C$2:D$11,2,FALSE)","v":2},3126,125,{"$f":"VLOOKUP(E3128,'Ark1'!$C$2:$D$11,2,FALSE)","v":5},3126,200,{"$f":"VLOOKUP(H3128,'Ark1'!$C$2:$D$12,2,FALSE)","v":5}]
[3127,32,{"$f":"VLOOKUP(B3129,'Ark1'!C$2:D$11,2,FALSE)","v":2},3127,125,{"$f":"VLOOKUP(E3129,'Ark1'!$C$2:$D$11,2,FALSE)","v":5},3127,200,{"$f":"VLOOKUP(H3129,'Ark1'!$C$2:$D$12,2,FALSE)","v":5}]
[3128,32,{"$f":"VLOOKUP(B3130,'Ark1'!C$2:D$11,2,FALSE)","v":2},3128,125,{"$f":"VLOOKUP(E3130,'Ark1'!$C$2:$D$11,2,FALSE)","v":5},3128,200,{"$f":"VLOOKUP(H3130,'Ark1'!$C$2:$D$12,2,FALSE)","v":5}]
[3129,32,{"$f":"VLOOKUP(B3131,'Ark1'!C$2:D$11,2,FALSE)","v":2},3129,125,{"$f":"VLOOKUP(E3131,'Ark1'!$C$2:$D$11,2,FALSE)","v":5},3129,200,{"$f":"VLOOKUP(H3131,'Ark1'!$C$2:$D$12,2,FALSE)","v":5}]
[3130,32,{"$f":"VLOOKUP(B3132,'Ark1'!C$2:D$11,2,FALSE)","v":2},3130,125,{"$f":"VLOOKUP(E3132,'Ark1'!$C$2:$D$11,2,FALSE)","v":5},3130,200,{"$f":"VLOOKUP(H3132,'Ark1'!$C$2:$D$12,2,FALSE)","v":5}]
[3131,32,{"$f":"VLOOKUP(B3133,'Ark1'!C$2:D$11,2,FALSE)","v":2},3131,125,{"$f":"VLOOKUP(E3133,'Ark1'!$C$2:$D$11,2,FALSE)","v":5},3131,200,{"$f":"VLOOKUP(H3133,'Ark1'!$C$2:$D$12,2,FALSE)","v":5}]
[3132,32,{"$f":"VLOOKUP(B3134,'Ark1'!C$2:D$11,2,FALSE)","v":2},3132,125,{"$f":"VLOOKUP(E3134,'Ark1'!$C$2:$D$11,2,FALSE)","v":5},3132,200,{"$f":"VLOOKUP(H3134,'Ark1'!$C$2:$D$12,2,FALSE)","v":5}]
[3133,32,{"$f":"VLOOKUP(B3135,'Ark1'!C$2:D$11,2,FALSE)","v":2},3133,125,{"$f":"VLOOKUP(E3135,'Ark1'!$C$2:$D$11,2,FALSE)","v":5},3133,200,{"$f":"VLOOKUP(H3135,'Ark1'!$C$2:$D$12,2,FALSE)","v":5}]
[3134,32,{"$f":"VLOOKUP(B3136,'Ark1'!C$2:D$11,2,FALSE)","v":2},3134,125,{"$f":"VLOOKUP(E3136,'Ark1'!$C$2:$D$11,2,FALSE)","v":5},3134,200,{"$f":"VLOOKUP(H3136,'Ark1'!$C$2:$D$12,2,FALSE)","v":5}]
[3135,32,{"$f":"VLOOKUP(B3137,'Ark1'!C$2:D$11,2,FALSE)","v":2},3135,125,{"$f":"VLOOKUP(E3137,'Ark1'!$C$2:$D$11,2,FALSE)","v":5},3135,200,{"$f":"VLOOKUP(H3137,'Ark1'!$C$2:$D$12,2,FALSE)","v":5}]
[3136,32,{"$f":"VLOOKUP(B3138,'Ark1'!C$2:D$11,2,FALSE)","v":2},3136,125,{"$f":"VLOOKUP(E3138,'Ark1'!$C$2:$D$11,2,FALSE)","v":5},3136,200,{"$f":"VLOOKUP(H3138,'Ark1'!$C$2:$D$12,2,FALSE)","v":5}]
[3137,32,{"$f":"VLOOKUP(B3139,'Ark1'!C$2:D$11,2,FALSE)","v":2},3137,125,{"$f":"VLOOKUP(E3139,'Ark1'!$C$2:$D$11,2,FALSE)","v":5},3137,200,{"$f":"VLOOKUP(H3139,'Ark1'!$C$2:$D$12,2,FALSE)","v":5}]
[3138,32,{"$f":"VLOOKUP(B3140,'Ark1'!C$2:D$11,2,FALSE)","v":2},3138,125,{"$f":"VLOOKUP(E3140,'Ark1'!$C$2:$D$11,2,FALSE)","v":5},3138,200,{"$f":"VLOOKUP(H3140,'Ark1'!$C$2:$D$12,2,FALSE)","v":5}]
[3139,32,{"$f":"VLOOKUP(B3141,'Ark1'!C$2:D$11,2,FALSE)","v":2},3139,125,{"$f":"VLOOKUP(E3141,'Ark1'!$C$2:$D$11,2,FALSE)","v":5},3139,200,{"$f":"VLOOKUP(H3141,'Ark1'!$C$2:$D$12,2,FALSE)","v":5}]
[3140,32,{"$f":"VLOOKUP(B3142,'Ark1'!C$2:D$11,2,FALSE)","v":2},3140,125,{"$f":"VLOOKUP(E3142,'Ark1'!$C$2:$D$11,2,FALSE)","v":5},3140,200,{"$f":"VLOOKUP(H3142,'Ark1'!$C$2:$D$12,2,FALSE)","v":5}]
[3141,32,{"$f":"VLOOKUP(B3143,'Ark1'!C$2:D$11,2,FALSE)","v":2},3141,125,{"$f":"VLOOKUP(E3143,'Ark1'!$C$2:$D$11,2,FALSE)","v":5},3141,200,{"$f":"VLOOKUP(H3143,'Ark1'!$C$2:$D$12,2,FALSE)","v":5}]
[3142,32,{"$f":"VLOOKUP(B3144,'Ark1'!C$2:D$11,2,FALSE)","v":2},3142,125,{"$f":"VLOOKUP(E3144,'Ark1'!$C$2:$D$11,2,FALSE)","v":5},3142,200,{"$f":"VLOOKUP(H3144,'Ark1'!$C$2:$D$12,2,FALSE)","v":5}]
[3143,32,{"$f":"VLOOKUP(B3145,'Ark1'!C$2:D$11,2,FALSE)","v":2},3143,125,{"$f":"VLOOKUP(E3145,'Ark1'!$C$2:$D$11,2,FALSE)","v":5},3143,200,{"$f":"VLOOKUP(H3145,'Ark1'!$C$2:$D$12,2,FALSE)","v":5}]
[3144,32,{"$f":"VLOOKUP(B3146,'Ark1'!C$2:D$11,2,FALSE)","v":2},3144,125,{"$f":"VLOOKUP(E3146,'Ark1'!$C$2:$D$11,2,FALSE)","v":5},3144,200,{"$f":"VLOOKUP(H3146,'Ark1'!$C$2:$D$12,2,FALSE)","v":5}]
[3145,32,{"$f":"VLOOKUP(B3147,'Ark1'!C$2:D$11,2,FALSE)","v":2},3145,125,{"$f":"VLOOKUP(E3147,'Ark1'!$C$2:$D$11,2,FALSE)","v":5},3145,200,{"$f":"VLOOKUP(H3147,'Ark1'!$C$2:$D$12,2,FALSE)","v":5}]
[3146,32,{"$f":"VLOOKUP(B3148,'Ark1'!C$2:D$11,2,FALSE)","v":2},3146,125,{"$f":"VLOOKUP(E3148,'Ark1'!$C$2:$D$11,2,FALSE)","v":5},3146,200,{"$f":"VLOOKUP(H3148,'Ark1'!$C$2:$D$12,2,FALSE)","v":5}]
[3147,32,{"$f":"VLOOKUP(B3149,'Ark1'!C$2:D$11,2,FALSE)","v":2},3147,125,{"$f":"VLOOKUP(E3149,'Ark1'!$C$2:$D$11,2,FALSE)","v":5},3147,200,{"$f":"VLOOKUP(H3149,'Ark1'!$C$2:$D$12,2,FALSE)","v":5}]
[3148,32,{"$f":"VLOOKUP(B3150,'Ark1'!C$2:D$11,2,FALSE)","v":2},3148,125,{"$f":"VLOOKUP(E3150,'Ark1'!$C$2:$D$11,2,FALSE)","v":5},3148,200,{"$f":"VLOOKUP(H3150,'Ark1'!$C$2:$D$12,2,FALSE)","v":5}]
[3149,32,{"$f":"VLOOKUP(B3151,'Ark1'!C$2:D$11,2,FALSE)","v":2},3149,125,{"$f":"VLOOKUP(E3151,'Ark1'!$C$2:$D$11,2,FALSE)","v":5},3149,200,{"$f":"VLOOKUP(H3151,'Ark1'!$C$2:$D$12,2,FALSE)","v":5}]
[3150,32,{"$f":"VLOOKUP(B3152,'Ark1'!C$2:D$11,2,FALSE)","v":2},3150,125,{"$f":"VLOOKUP(E3152,'Ark1'!$C$2:$D$11,2,FALSE)","v":5},3150,200,{"$f":"VLOOKUP(H3152,'Ark1'!$C$2:$D$12,2,FALSE)","v":5}]
[3151,32,{"$f":"VLOOKUP(B3153,'Ark1'!C$2:D$11,2,FALSE)","v":2},3151,125,{"$f":"VLOOKUP(E3153,'Ark1'!$C$2:$D$11,2,FALSE)","v":5},3151,200,{"$f":"VLOOKUP(H3153,'Ark1'!$C$2:$D$12,2,FALSE)","v":5}]
[3152,32,{"$f":"VLOOKUP(B3154,'Ark1'!C$2:D$11,2,FALSE)","v":2},3152,125,{"$f":"VLOOKUP(E3154,'Ark1'!$C$2:$D$11,2,FALSE)","v":5},3152,200,{"$f":"VLOOKUP(H3154,'Ark1'!$C$2:$D$12,2,FALSE)","v":5}]
[3153,32,{"$f":"VLOOKUP(B3155,'Ark1'!C$2:D$11,2,FALSE)","v":2},3153,125,{"$f":"VLOOKUP(E3155,'Ark1'!$C$2:$D$11,2,FALSE)","v":5},3153,200,{"$f":"VLOOKUP(H3155,'Ark1'!$C$2:$D$12,2,FALSE)","v":5}]
[3154,32,{"$f":"VLOOKUP(B3156,'Ark1'!C$2:D$11,2,FALSE)","v":2},3154,125,{"$f":"VLOOKUP(E3156,'Ark1'!$C$2:$D$11,2,FALSE)","v":5},3154,200,{"$f":"VLOOKUP(H3156,'Ark1'!$C$2:$D$12,2,FALSE)","v":5}]
[3155,32,{"$f":"VLOOKUP(B3157,'Ark1'!C$2:D$11,2,FALSE)","v":2},3155,125,{"$f":"VLOOKUP(E3157,'Ark1'!$C$2:$D$11,2,FALSE)","v":5},3155,200,{"$f":"VLOOKUP(H3157,'Ark1'!$C$2:$D$12,2,FALSE)","v":5}]
[3156,32,{"$f":"VLOOKUP(B3158,'Ark1'!C$2:D$11,2,FALSE)","v":2},3156,125,{"$f":"VLOOKUP(E3158,'Ark1'!$C$2:$D$11,2,FALSE)","v":5},3156,200,{"$f":"VLOOKUP(H3158,'Ark1'!$C$2:$D$12,2,FALSE)","v":5}]
[3157,32,{"$f":"VLOOKUP(B3159,'Ark1'!C$2:D$11,2,FALSE)","v":2},3157,125,{"$f":"VLOOKUP(E3159,'Ark1'!$C$2:$D$11,2,FALSE)","v":5},3157,200,{"$f":"VLOOKUP(H3159,'Ark1'!$C$2:$D$12,2,FALSE)","v":5}]
[3158,32,{"$f":"VLOOKUP(B3160,'Ark1'!C$2:D$11,2,FALSE)","v":2},3158,125,{"$f":"VLOOKUP(E3160,'Ark1'!$C$2:$D$11,2,FALSE)","v":5},3158,200,{"$f":"VLOOKUP(H3160,'Ark1'!$C$2:$D$12,2,FALSE)","v":5}]
[3159,32,{"$f":"VLOOKUP(B3161,'Ark1'!C$2:D$11,2,FALSE)","v":2},3159,125,{"$f":"VLOOKUP(E3161,'Ark1'!$C$2:$D$11,2,FALSE)","v":5},3159,200,{"$f":"VLOOKUP(H3161,'Ark1'!$C$2:$D$12,2,FALSE)","v":5}]
[3160,32,{"$f":"VLOOKUP(B3162,'Ark1'!C$2:D$11,2,FALSE)","v":2},3160,125,{"$f":"VLOOKUP(E3162,'Ark1'!$C$2:$D$11,2,FALSE)","v":5},3160,200,{"$f":"VLOOKUP(H3162,'Ark1'!$C$2:$D$12,2,FALSE)","v":5}]
[3161,32,{"$f":"VLOOKUP(B3163,'Ark1'!C$2:D$11,2,FALSE)","v":2},3161,125,{"$f":"VLOOKUP(E3163,'Ark1'!$C$2:$D$11,2,FALSE)","v":5},3161,200,{"$f":"VLOOKUP(H3163,'Ark1'!$C$2:$D$12,2,FALSE)","v":5}]
[3162,32,{"$f":"VLOOKUP(B3164,'Ark1'!C$2:D$11,2,FALSE)","v":2},3162,125,{"$f":"VLOOKUP(E3164,'Ark1'!$C$2:$D$11,2,FALSE)","v":5},3162,200,{"$f":"VLOOKUP(H3164,'Ark1'!$C$2:$D$12,2,FALSE)","v":5}]
[3163,32,{"$f":"VLOOKUP(B3165,'Ark1'!C$2:D$11,2,FALSE)","v":2},3163,125,{"$f":"VLOOKUP(E3165,'Ark1'!$C$2:$D$11,2,FALSE)","v":5},3163,200,{"$f":"VLOOKUP(H3165,'Ark1'!$C$2:$D$12,2,FALSE)","v":5}]
[3164,32,{"$f":"VLOOKUP(B3166,'Ark1'!C$2:D$11,2,FALSE)","v":2},3164,125,{"$f":"VLOOKUP(E3166,'Ark1'!$C$2:$D$11,2,FALSE)","v":5},3164,200,{"$f":"VLOOKUP(H3166,'Ark1'!$C$2:$D$12,2,FALSE)","v":5}]
[3165,32,{"$f":"VLOOKUP(B3167,'Ark1'!C$2:D$11,2,FALSE)","v":2},3165,125,{"$f":"VLOOKUP(E3167,'Ark1'!$C$2:$D$11,2,FALSE)","v":5},3165,200,{"$f":"VLOOKUP(H3167,'Ark1'!$C$2:$D$12,2,FALSE)","v":5}]
[3166,32,{"$f":"VLOOKUP(B3168,'Ark1'!C$2:D$11,2,FALSE)","v":2},3166,125,{"$f":"VLOOKUP(E3168,'Ark1'!$C$2:$D$11,2,FALSE)","v":5},3166,200,{"$f":"VLOOKUP(H3168,'Ark1'!$C$2:$D$12,2,FALSE)","v":5}]
[3167,32,{"$f":"VLOOKUP(B3169,'Ark1'!C$2:D$11,2,FALSE)","v":2},3167,125,{"$f":"VLOOKUP(E3169,'Ark1'!$C$2:$D$11,2,FALSE)","v":5},3167,200,{"$f":"VLOOKUP(H3169,'Ark1'!$C$2:$D$12,2,FALSE)","v":5}]
[3168,32,{"$f":"VLOOKUP(B3170,'Ark1'!C$2:D$11,2,FALSE)","v":2},3168,125,{"$f":"VLOOKUP(E3170,'Ark1'!$C$2:$D$11,2,FALSE)","v":5},3168,200,{"$f":"VLOOKUP(H3170,'Ark1'!$C$2:$D$12,2,FALSE)","v":5}]
[3169,32,{"$f":"VLOOKUP(B3171,'Ark1'!C$2:D$11,2,FALSE)","v":2},3169,125,{"$f":"VLOOKUP(E3171,'Ark1'!$C$2:$D$11,2,FALSE)","v":5},3169,200,{"$f":"VLOOKUP(H3171,'Ark1'!$C$2:$D$12,2,FALSE)","v":5}]
[3170,32,{"$f":"VLOOKUP(B3172,'Ark1'!C$2:D$11,2,FALSE)","v":2},3170,125,{"$f":"VLOOKUP(E3172,'Ark1'!$C$2:$D$11,2,FALSE)","v":5},3170,200,{"$f":"VLOOKUP(H3172,'Ark1'!$C$2:$D$12,2,FALSE)","v":5}]
[3171,32,{"$f":"VLOOKUP(B3173,'Ark1'!C$2:D$11,2,FALSE)","v":2},3171,125,{"$f":"VLOOKUP(E3173,'Ark1'!$C$2:$D$11,2,FALSE)","v":5},3171,200,{"$f":"VLOOKUP(H3173,'Ark1'!$C$2:$D$12,2,FALSE)","v":5}]
[3172,32,{"$f":"VLOOKUP(B3174,'Ark1'!C$2:D$11,2,FALSE)","v":2},3172,125,{"$f":"VLOOKUP(E3174,'Ark1'!$C$2:$D$11,2,FALSE)","v":5},3172,200,{"$f":"VLOOKUP(H3174,'Ark1'!$C$2:$D$12,2,FALSE)","v":5}]
[3173,32,{"$f":"VLOOKUP(B3175,'Ark1'!C$2:D$11,2,FALSE)","v":2},3173,125,{"$f":"VLOOKUP(E3175,'Ark1'!$C$2:$D$11,2,FALSE)","v":5},3173,200,{"$f":"VLOOKUP(H3175,'Ark1'!$C$2:$D$12,2,FALSE)","v":5}]
[3174,32,{"$f":"VLOOKUP(B3176,'Ark1'!C$2:D$11,2,FALSE)","v":2},3174,125,{"$f":"VLOOKUP(E3176,'Ark1'!$C$2:$D$11,2,FALSE)","v":5},3174,200,{"$f":"VLOOKUP(H3176,'Ark1'!$C$2:$D$12,2,FALSE)","v":5}]
[3175,32,{"$f":"VLOOKUP(B3177,'Ark1'!C$2:D$11,2,FALSE)","v":2},3175,125,{"$f":"VLOOKUP(E3177,'Ark1'!$C$2:$D$11,2,FALSE)","v":5},3175,200,{"$f":"VLOOKUP(H3177,'Ark1'!$C$2:$D$12,2,FALSE)","v":5}]
[3176,32,{"$f":"VLOOKUP(B3178,'Ark1'!C$2:D$11,2,FALSE)","v":2},3176,125,{"$f":"VLOOKUP(E3178,'Ark1'!$C$2:$D$11,2,FALSE)","v":5},3176,200,{"$f":"VLOOKUP(H3178,'Ark1'!$C$2:$D$12,2,FALSE)","v":5}]
[3177,32,{"$f":"VLOOKUP(B3179,'Ark1'!C$2:D$11,2,FALSE)","v":2},3177,125,{"$f":"VLOOKUP(E3179,'Ark1'!$C$2:$D$11,2,FALSE)","v":5},3177,200,{"$f":"VLOOKUP(H3179,'Ark1'!$C$2:$D$12,2,FALSE)","v":5}]
[3178,32,{"$f":"VLOOKUP(B3180,'Ark1'!C$2:D$11,2,FALSE)","v":2},3178,125,{"$f":"VLOOKUP(E3180,'Ark1'!$C$2:$D$11,2,FALSE)","v":5},3178,200,{"$f":"VLOOKUP(H3180,'Ark1'!$C$2:$D$12,2,FALSE)","v":5}]
[3179,32,{"$f":"VLOOKUP(B3181,'Ark1'!C$2:D$11,2,FALSE)","v":2},3179,125,{"$f":"VLOOKUP(E3181,'Ark1'!$C$2:$D$11,2,FALSE)","v":5},3179,200,{"$f":"VLOOKUP(H3181,'Ark1'!$C$2:$D$12,2,FALSE)","v":5}]
[3180,32,{"$f":"VLOOKUP(B3182,'Ark1'!C$2:D$11,2,FALSE)","v":2},3180,125,{"$f":"VLOOKUP(E3182,'Ark1'!$C$2:$D$11,2,FALSE)","v":5},3180,200,{"$f":"VLOOKUP(H3182,'Ark1'!$C$2:$D$12,2,FALSE)","v":5}]
[3181,32,{"$f":"VLOOKUP(B3183,'Ark1'!C$2:D$11,2,FALSE)","v":2},3181,125,{"$f":"VLOOKUP(E3183,'Ark1'!$C$2:$D$11,2,FALSE)","v":5},3181,200,{"$f":"VLOOKUP(H3183,'Ark1'!$C$2:$D$12,2,FALSE)","v":5}]
[3182,32,{"$f":"VLOOKUP(B3184,'Ark1'!C$2:D$11,2,FALSE)","v":2},3182,125,{"$f":"VLOOKUP(E3184,'Ark1'!$C$2:$D$11,2,FALSE)","v":5},3182,200,{"$f":"VLOOKUP(H3184,'Ark1'!$C$2:$D$12,2,FALSE)","v":5}]
[3183,32,{"$f":"VLOOKUP(B3185,'Ark1'!C$2:D$11,2,FALSE)","v":2},3183,125,{"$f":"VLOOKUP(E3185,'Ark1'!$C$2:$D$11,2,FALSE)","v":5},3183,200,{"$f":"VLOOKUP(H3185,'Ark1'!$C$2:$D$12,2,FALSE)","v":5}]
[3184,32,{"$f":"VLOOKUP(B3186,'Ark1'!C$2:D$11,2,FALSE)","v":2},3184,125,{"$f":"VLOOKUP(E3186,'Ark1'!$C$2:$D$11,2,FALSE)","v":5},3184,200,{"$f":"VLOOKUP(H3186,'Ark1'!$C$2:$D$12,2,FALSE)","v":5}]
[3185,32,{"$f":"VLOOKUP(B3187,'Ark1'!C$2:D$11,2,FALSE)","v":2},3185,125,{"$f":"VLOOKUP(E3187,'Ark1'!$C$2:$D$11,2,FALSE)","v":5},3185,200,{"$f":"VLOOKUP(H3187,'Ark1'!$C$2:$D$12,2,FALSE)","v":5}]
[3186,32,{"$f":"VLOOKUP(B3188,'Ark1'!C$2:D$11,2,FALSE)","v":2},3186,125,{"$f":"VLOOKUP(E3188,'Ark1'!$C$2:$D$11,2,FALSE)","v":5},3186,200,{"$f":"VLOOKUP(H3188,'Ark1'!$C$2:$D$12,2,FALSE)","v":5}]
[3187,32,{"$f":"VLOOKUP(B3189,'Ark1'!C$2:D$11,2,FALSE)","v":2},3187,125,{"$f":"VLOOKUP(E3189,'Ark1'!$C$2:$D$11,2,FALSE)","v":5},3187,200,{"$f":"VLOOKUP(H3189,'Ark1'!$C$2:$D$12,2,FALSE)","v":5}]
[3188,32,{"$f":"VLOOKUP(B3190,'Ark1'!C$2:D$11,2,FALSE)","v":2},3188,125,{"$f":"VLOOKUP(E3190,'Ark1'!$C$2:$D$11,2,FALSE)","v":5},3188,200,{"$f":"VLOOKUP(H3190,'Ark1'!$C$2:$D$12,2,FALSE)","v":5}]
[3189,32,{"$f":"VLOOKUP(B3191,'Ark1'!C$2:D$11,2,FALSE)","v":2},3189,125,{"$f":"VLOOKUP(E3191,'Ark1'!$C$2:$D$11,2,FALSE)","v":5},3189,200,{"$f":"VLOOKUP(H3191,'Ark1'!$C$2:$D$12,2,FALSE)","v":5}]
[3190,32,{"$f":"VLOOKUP(B3192,'Ark1'!C$2:D$11,2,FALSE)","v":2},3190,125,{"$f":"VLOOKUP(E3192,'Ark1'!$C$2:$D$11,2,FALSE)","v":5},3190,200,{"$f":"VLOOKUP(H3192,'Ark1'!$C$2:$D$12,2,FALSE)","v":5}]
[3191,32,{"$f":"VLOOKUP(B3193,'Ark1'!C$2:D$11,2,FALSE)","v":2},3191,125,{"$f":"VLOOKUP(E3193,'Ark1'!$C$2:$D$11,2,FALSE)","v":5},3191,200,{"$f":"VLOOKUP(H3193,'Ark1'!$C$2:$D$12,2,FALSE)","v":5}]
[3192,32,{"$f":"VLOOKUP(B3194,'Ark1'!C$2:D$11,2,FALSE)","v":2},3192,125,{"$f":"VLOOKUP(E3194,'Ark1'!$C$2:$D$11,2,FALSE)","v":5},3192,200,{"$f":"VLOOKUP(H3194,'Ark1'!$C$2:$D$12,2,FALSE)","v":5}]
[3193,32,{"$f":"VLOOKUP(B3195,'Ark1'!C$2:D$11,2,FALSE)","v":2},3193,125,{"$f":"VLOOKUP(E3195,'Ark1'!$C$2:$D$11,2,FALSE)","v":5},3193,200,{"$f":"VLOOKUP(H3195,'Ark1'!$C$2:$D$12,2,FALSE)","v":5}]
[3194,32,{"$f":"VLOOKUP(B3196,'Ark1'!C$2:D$11,2,FALSE)","v":2},3194,125,{"$f":"VLOOKUP(E3196,'Ark1'!$C$2:$D$11,2,FALSE)","v":5},3194,200,{"$f":"VLOOKUP(H3196,'Ark1'!$C$2:$D$12,2,FALSE)","v":5}]
[3195,32,{"$f":"VLOOKUP(B3197,'Ark1'!C$2:D$11,2,FALSE)","v":2},3195,125,{"$f":"VLOOKUP(E3197,'Ark1'!$C$2:$D$11,2,FALSE)","v":5},3195,200,{"$f":"VLOOKUP(H3197,'Ark1'!$C$2:$D$12,2,FALSE)","v":5}]
[3196,32,{"$f":"VLOOKUP(B3198,'Ark1'!C$2:D$11,2,FALSE)","v":2},3196,125,{"$f":"VLOOKUP(E3198,'Ark1'!$C$2:$D$11,2,FALSE)","v":5},3196,200,{"$f":"VLOOKUP(H3198,'Ark1'!$C$2:$D$12,2,FALSE)","v":5}]
[3197,32,{"$f":"VLOOKUP(B3199,'Ark1'!C$2:D$11,2,FALSE)","v":2},3197,125,{"$f":"VLOOKUP(E3199,'Ark1'!$C$2:$D$11,2,FALSE)","v":5},3197,200,{"$f":"VLOOKUP(H3199,'Ark1'!$C$2:$D$12,2,FALSE)","v":5}]
[3198,32,{"$f":"VLOOKUP(B3200,'Ark1'!C$2:D$11,2,FALSE)","v":2},3198,125,{"$f":"VLOOKUP(E3200,'Ark1'!$C$2:$D$11,2,FALSE)","v":5},3198,200,{"$f":"VLOOKUP(H3200,'Ark1'!$C$2:$D$12,2,FALSE)","v":5}]
[3199,32,{"$f":"VLOOKUP(B3201,'Ark1'!C$2:D$11,2,FALSE)","v":2},3199,125,{"$f":"VLOOKUP(E3201,'Ark1'!$C$2:$D$11,2,FALSE)","v":5},3199,200,{"$f":"VLOOKUP(H3201,'Ark1'!$C$2:$D$12,2,FALSE)","v":5}]
[3200,32,{"$f":"VLOOKUP(B3202,'Ark1'!C$2:D$11,2,FALSE)","v":2},3200,125,{"$f":"VLOOKUP(E3202,'Ark1'!$C$2:$D$11,2,FALSE)","v":5},3200,200,{"$f":"VLOOKUP(H3202,'Ark1'!$C$2:$D$12,2,FALSE)","v":5}]
[3201,32,{"$f":"VLOOKUP(B3203,'Ark1'!C$2:D$11,2,FALSE)","v":2},3201,125,{"$f":"VLOOKUP(E3203,'Ark1'!$C$2:$D$11,2,FALSE)","v":5},3201,200,{"$f":"VLOOKUP(H3203,'Ark1'!$C$2:$D$12,2,FALSE)","v":5}]
[3202,32,{"$f":"VLOOKUP(B3204,'Ark1'!C$2:D$11,2,FALSE)","v":2},3202,125,{"$f":"VLOOKUP(E3204,'Ark1'!$C$2:$D$11,2,FALSE)","v":5},3202,200,{"$f":"VLOOKUP(H3204,'Ark1'!$C$2:$D$12,2,FALSE)","v":5}]
[3203,32,{"$f":"VLOOKUP(B3205,'Ark1'!C$2:D$11,2,FALSE)","v":2},3203,125,{"$f":"VLOOKUP(E3205,'Ark1'!$C$2:$D$11,2,FALSE)","v":5},3203,200,{"$f":"VLOOKUP(H3205,'Ark1'!$C$2:$D$12,2,FALSE)","v":5}]
[3204,32,{"$f":"VLOOKUP(B3206,'Ark1'!C$2:D$11,2,FALSE)","v":2},3204,125,{"$f":"VLOOKUP(E3206,'Ark1'!$C$2:$D$11,2,FALSE)","v":5},3204,200,{"$f":"VLOOKUP(H3206,'Ark1'!$C$2:$D$12,2,FALSE)","v":5}]
[3205,32,{"$f":"VLOOKUP(B3207,'Ark1'!C$2:D$11,2,FALSE)","v":2},3205,125,{"$f":"VLOOKUP(E3207,'Ark1'!$C$2:$D$11,2,FALSE)","v":5},3205,200,{"$f":"VLOOKUP(H3207,'Ark1'!$C$2:$D$12,2,FALSE)","v":5}]
[3206,32,{"$f":"VLOOKUP(B3208,'Ark1'!C$2:D$11,2,FALSE)","v":2},3206,125,{"$f":"VLOOKUP(E3208,'Ark1'!$C$2:$D$11,2,FALSE)","v":5},3206,200,{"$f":"VLOOKUP(H3208,'Ark1'!$C$2:$D$12,2,FALSE)","v":5}]
[3207,32,{"$f":"VLOOKUP(B3209,'Ark1'!C$2:D$11,2,FALSE)","v":2},3207,125,{"$f":"VLOOKUP(E3209,'Ark1'!$C$2:$D$11,2,FALSE)","v":5},3207,200,{"$f":"VLOOKUP(H3209,'Ark1'!$C$2:$D$12,2,FALSE)","v":5}]
[3208,32,{"$f":"VLOOKUP(B3210,'Ark1'!C$2:D$11,2,FALSE)","v":2},3208,125,{"$f":"VLOOKUP(E3210,'Ark1'!$C$2:$D$11,2,FALSE)","v":5},3208,200,{"$f":"VLOOKUP(H3210,'Ark1'!$C$2:$D$12,2,FALSE)","v":5}]
[3209,32,{"$f":"VLOOKUP(B3211,'Ark1'!C$2:D$11,2,FALSE)","v":2},3209,125,{"$f":"VLOOKUP(E3211,'Ark1'!$C$2:$D$11,2,FALSE)","v":5},3209,200,{"$f":"VLOOKUP(H3211,'Ark1'!$C$2:$D$12,2,FALSE)","v":5}]
[3210,32,{"$f":"VLOOKUP(B3212,'Ark1'!C$2:D$11,2,FALSE)","v":2},3210,125,{"$f":"VLOOKUP(E3212,'Ark1'!$C$2:$D$11,2,FALSE)","v":5},3210,200,{"$f":"VLOOKUP(H3212,'Ark1'!$C$2:$D$12,2,FALSE)","v":5}]
[3211,32,{"$f":"VLOOKUP(B3213,'Ark1'!C$2:D$11,2,FALSE)","v":2},3211,125,{"$f":"VLOOKUP(E3213,'Ark1'!$C$2:$D$11,2,FALSE)","v":5},3211,200,{"$f":"VLOOKUP(H3213,'Ark1'!$C$2:$D$12,2,FALSE)","v":5}]
[3212,32,{"$f":"VLOOKUP(B3214,'Ark1'!C$2:D$11,2,FALSE)","v":2},3212,125,{"$f":"VLOOKUP(E3214,'Ark1'!$C$2:$D$11,2,FALSE)","v":5},3212,200,{"$f":"VLOOKUP(H3214,'Ark1'!$C$2:$D$12,2,FALSE)","v":5}]
[3213,32,{"$f":"VLOOKUP(B3215,'Ark1'!C$2:D$11,2,FALSE)","v":2},3213,125,{"$f":"VLOOKUP(E3215,'Ark1'!$C$2:$D$11,2,FALSE)","v":5},3213,200,{"$f":"VLOOKUP(H3215,'Ark1'!$C$2:$D$12,2,FALSE)","v":5}]
[3214,32,{"$f":"VLOOKUP(B3216,'Ark1'!C$2:D$11,2,FALSE)","v":2},3214,125,{"$f":"VLOOKUP(E3216,'Ark1'!$C$2:$D$11,2,FALSE)","v":5},3214,200,{"$f":"VLOOKUP(H3216,'Ark1'!$C$2:$D$12,2,FALSE)","v":5}]
[3215,32,{"$f":"VLOOKUP(B3217,'Ark1'!C$2:D$11,2,FALSE)","v":2},3215,125,{"$f":"VLOOKUP(E3217,'Ark1'!$C$2:$D$11,2,FALSE)","v":5},3215,200,{"$f":"VLOOKUP(H3217,'Ark1'!$C$2:$D$12,2,FALSE)","v":5}]
[3216,32,{"$f":"VLOOKUP(B3218,'Ark1'!C$2:D$11,2,FALSE)","v":2},3216,125,{"$f":"VLOOKUP(E3218,'Ark1'!$C$2:$D$11,2,FALSE)","v":5},3216,200,{"$f":"VLOOKUP(H3218,'Ark1'!$C$2:$D$12,2,FALSE)","v":5}]
[3217,32,{"$f":"VLOOKUP(B3219,'Ark1'!C$2:D$11,2,FALSE)","v":2},3217,125,{"$f":"VLOOKUP(E3219,'Ark1'!$C$2:$D$11,2,FALSE)","v":5},3217,200,{"$f":"VLOOKUP(H3219,'Ark1'!$C$2:$D$12,2,FALSE)","v":5}]
[3218,32,{"$f":"VLOOKUP(B3220,'Ark1'!C$2:D$11,2,FALSE)","v":2},3218,125,{"$f":"VLOOKUP(E3220,'Ark1'!$C$2:$D$11,2,FALSE)","v":5},3218,200,{"$f":"VLOOKUP(H3220,'Ark1'!$C$2:$D$12,2,FALSE)","v":5}]
[3219,32,{"$f":"VLOOKUP(B3221,'Ark1'!C$2:D$11,2,FALSE)","v":2},3219,125,{"$f":"VLOOKUP(E3221,'Ark1'!$C$2:$D$11,2,FALSE)","v":5},3219,200,{"$f":"VLOOKUP(H3221,'Ark1'!$C$2:$D$12,2,FALSE)","v":5}]
[3220,32,{"$f":"VLOOKUP(B3222,'Ark1'!C$2:D$11,2,FALSE)","v":2},3220,125,{"$f":"VLOOKUP(E3222,'Ark1'!$C$2:$D$11,2,FALSE)","v":5},3220,200,{"$f":"VLOOKUP(H3222,'Ark1'!$C$2:$D$12,2,FALSE)","v":5}]
[3221,32,{"$f":"VLOOKUP(B3223,'Ark1'!C$2:D$11,2,FALSE)","v":2},3221,125,{"$f":"VLOOKUP(E3223,'Ark1'!$C$2:$D$11,2,FALSE)","v":5},3221,200,{"$f":"VLOOKUP(H3223,'Ark1'!$C$2:$D$12,2,FALSE)","v":5}]
[3222,32,{"$f":"VLOOKUP(B3224,'Ark1'!C$2:D$11,2,FALSE)","v":2},3222,125,{"$f":"VLOOKUP(E3224,'Ark1'!$C$2:$D$11,2,FALSE)","v":5},3222,200,{"$f":"VLOOKUP(H3224,'Ark1'!$C$2:$D$12,2,FALSE)","v":5}]
[3223,32,{"$f":"VLOOKUP(B3225,'Ark1'!C$2:D$11,2,FALSE)","v":2},3223,125,{"$f":"VLOOKUP(E3225,'Ark1'!$C$2:$D$11,2,FALSE)","v":5},3223,200,{"$f":"VLOOKUP(H3225,'Ark1'!$C$2:$D$12,2,FALSE)","v":5}]
[3224,32,{"$f":"VLOOKUP(B3226,'Ark1'!C$2:D$11,2,FALSE)","v":2},3224,125,{"$f":"VLOOKUP(E3226,'Ark1'!$C$2:$D$11,2,FALSE)","v":5},3224,200,{"$f":"VLOOKUP(H3226,'Ark1'!$C$2:$D$12,2,FALSE)","v":5}]
[3225,32,{"$f":"VLOOKUP(B3227,'Ark1'!C$2:D$11,2,FALSE)","v":2},3225,125,{"$f":"VLOOKUP(E3227,'Ark1'!$C$2:$D$11,2,FALSE)","v":5},3225,200,{"$f":"VLOOKUP(H3227,'Ark1'!$C$2:$D$12,2,FALSE)","v":5}]
[3226,32,{"$f":"VLOOKUP(B3228,'Ark1'!C$2:D$11,2,FALSE)","v":2},3226,125,{"$f":"VLOOKUP(E3228,'Ark1'!$C$2:$D$11,2,FALSE)","v":5},3226,200,{"$f":"VLOOKUP(H3228,'Ark1'!$C$2:$D$12,2,FALSE)","v":5}]
[3227,32,{"$f":"VLOOKUP(B3229,'Ark1'!C$2:D$11,2,FALSE)","v":2},3227,125,{"$f":"VLOOKUP(E3229,'Ark1'!$C$2:$D$11,2,FALSE)","v":5},3227,200,{"$f":"VLOOKUP(H3229,'Ark1'!$C$2:$D$12,2,FALSE)","v":5}]
[3228,32,{"$f":"VLOOKUP(B3230,'Ark1'!C$2:D$11,2,FALSE)","v":2},3228,125,{"$f":"VLOOKUP(E3230,'Ark1'!$C$2:$D$11,2,FALSE)","v":5},3228,200,{"$f":"VLOOKUP(H3230,'Ark1'!$C$2:$D$12,2,FALSE)","v":5}]
[3229,32,{"$f":"VLOOKUP(B3231,'Ark1'!C$2:D$11,2,FALSE)","v":2},3229,125,{"$f":"VLOOKUP(E3231,'Ark1'!$C$2:$D$11,2,FALSE)","v":5},3229,200,{"$f":"VLOOKUP(H3231,'Ark1'!$C$2:$D$12,2,FALSE)","v":5}]
[3230,32,{"$f":"VLOOKUP(B3232,'Ark1'!C$2:D$11,2,FALSE)","v":2},3230,125,{"$f":"VLOOKUP(E3232,'Ark1'!$C$2:$D$11,2,FALSE)","v":5},3230,200,{"$f":"VLOOKUP(H3232,'Ark1'!$C$2:$D$12,2,FALSE)","v":5}]
[3231,32,{"$f":"VLOOKUP(B3233,'Ark1'!C$2:D$11,2,FALSE)","v":2},3231,125,{"$f":"VLOOKUP(E3233,'Ark1'!$C$2:$D$11,2,FALSE)","v":5},3231,200,{"$f":"VLOOKUP(H3233,'Ark1'!$C$2:$D$12,2,FALSE)","v":5}]
[3232,32,{"$f":"VLOOKUP(B3234,'Ark1'!C$2:D$11,2,FALSE)","v":2},3232,125,{"$f":"VLOOKUP(E3234,'Ark1'!$C$2:$D$11,2,FALSE)","v":5},3232,200,{"$f":"VLOOKUP(H3234,'Ark1'!$C$2:$D$12,2,FALSE)","v":5}]
[3233,32,{"$f":"VLOOKUP(B3235,'Ark1'!C$2:D$11,2,FALSE)","v":2},3233,125,{"$f":"VLOOKUP(E3235,'Ark1'!$C$2:$D$11,2,FALSE)","v":5},3233,200,{"$f":"VLOOKUP(H3235,'Ark1'!$C$2:$D$12,2,FALSE)","v":5}]
[3234,32,{"$f":"VLOOKUP(B3236,'Ark1'!C$2:D$11,2,FALSE)","v":2},3234,125,{"$f":"VLOOKUP(E3236,'Ark1'!$C$2:$D$11,2,FALSE)","v":5},3234,200,{"$f":"VLOOKUP(H3236,'Ark1'!$C$2:$D$12,2,FALSE)","v":5}]
[3235,32,{"$f":"VLOOKUP(B3237,'Ark1'!C$2:D$11,2,FALSE)","v":2},3235,125,{"$f":"VLOOKUP(E3237,'Ark1'!$C$2:$D$11,2,FALSE)","v":5},3235,200,{"$f":"VLOOKUP(H3237,'Ark1'!$C$2:$D$12,2,FALSE)","v":5}]
[3236,32,{"$f":"VLOOKUP(B3238,'Ark1'!C$2:D$11,2,FALSE)","v":2},3236,125,{"$f":"VLOOKUP(E3238,'Ark1'!$C$2:$D$11,2,FALSE)","v":5},3236,200,{"$f":"VLOOKUP(H3238,'Ark1'!$C$2:$D$12,2,FALSE)","v":5}]
[3237,32,{"$f":"VLOOKUP(B3239,'Ark1'!C$2:D$11,2,FALSE)","v":2},3237,125,{"$f":"VLOOKUP(E3239,'Ark1'!$C$2:$D$11,2,FALSE)","v":5},3237,200,{"$f":"VLOOKUP(H3239,'Ark1'!$C$2:$D$12,2,FALSE)","v":5}]
[3238,32,{"$f":"VLOOKUP(B3240,'Ark1'!C$2:D$11,2,FALSE)","v":2},3238,125,{"$f":"VLOOKUP(E3240,'Ark1'!$C$2:$D$11,2,FALSE)","v":5},3238,200,{"$f":"VLOOKUP(H3240,'Ark1'!$C$2:$D$12,2,FALSE)","v":5}]
[3239,32,{"$f":"VLOOKUP(B3241,'Ark1'!C$2:D$11,2,FALSE)","v":2},3239,125,{"$f":"VLOOKUP(E3241,'Ark1'!$C$2:$D$11,2,FALSE)","v":5},3239,200,{"$f":"VLOOKUP(H3241,'Ark1'!$C$2:$D$12,2,FALSE)","v":5}]
[3240,32,{"$f":"VLOOKUP(B3242,'Ark1'!C$2:D$11,2,FALSE)","v":2},3240,125,{"$f":"VLOOKUP(E3242,'Ark1'!$C$2:$D$11,2,FALSE)","v":5},3240,200,{"$f":"VLOOKUP(H3242,'Ark1'!$C$2:$D$12,2,FALSE)","v":5}]
[3241,32,{"$f":"VLOOKUP(B3243,'Ark1'!C$2:D$11,2,FALSE)","v":2},3241,125,{"$f":"VLOOKUP(E3243,'Ark1'!$C$2:$D$11,2,FALSE)","v":5},3241,200,{"$f":"VLOOKUP(H3243,'Ark1'!$C$2:$D$12,2,FALSE)","v":5}]
[3242,32,{"$f":"VLOOKUP(B3244,'Ark1'!C$2:D$11,2,FALSE)","v":2},3242,125,{"$f":"VLOOKUP(E3244,'Ark1'!$C$2:$D$11,2,FALSE)","v":5},3242,200,{"$f":"VLOOKUP(H3244,'Ark1'!$C$2:$D$12,2,FALSE)","v":5}]
[3243,32,{"$f":"VLOOKUP(B3245,'Ark1'!C$2:D$11,2,FALSE)","v":2},3243,125,{"$f":"VLOOKUP(E3245,'Ark1'!$C$2:$D$11,2,FALSE)","v":5},3243,200,{"$f":"VLOOKUP(H3245,'Ark1'!$C$2:$D$12,2,FALSE)","v":5}]
[3244,32,{"$f":"VLOOKUP(B3246,'Ark1'!C$2:D$11,2,FALSE)","v":2},3244,125,{"$f":"VLOOKUP(E3246,'Ark1'!$C$2:$D$11,2,FALSE)","v":5},3244,200,{"$f":"VLOOKUP(H3246,'Ark1'!$C$2:$D$12,2,FALSE)","v":5}]
[3245,32,{"$f":"VLOOKUP(B3247,'Ark1'!C$2:D$11,2,FALSE)","v":2},3245,125,{"$f":"VLOOKUP(E3247,'Ark1'!$C$2:$D$11,2,FALSE)","v":5},3245,200,{"$f":"VLOOKUP(H3247,'Ark1'!$C$2:$D$12,2,FALSE)","v":5}]
[3246,32,{"$f":"VLOOKUP(B3248,'Ark1'!C$2:D$11,2,FALSE)","v":2},3246,125,{"$f":"VLOOKUP(E3248,'Ark1'!$C$2:$D$11,2,FALSE)","v":5},3246,200,{"$f":"VLOOKUP(H3248,'Ark1'!$C$2:$D$12,2,FALSE)","v":5}]
[3247,32,{"$f":"VLOOKUP(B3249,'Ark1'!C$2:D$11,2,FALSE)","v":2},3247,125,{"$f":"VLOOKUP(E3249,'Ark1'!$C$2:$D$11,2,FALSE)","v":5},3247,200,{"$f":"VLOOKUP(H3249,'Ark1'!$C$2:$D$12,2,FALSE)","v":5}]
[3248,32,{"$f":"VLOOKUP(B3250,'Ark1'!C$2:D$11,2,FALSE)","v":2},3248,125,{"$f":"VLOOKUP(E3250,'Ark1'!$C$2:$D$11,2,FALSE)","v":5},3248,200,{"$f":"VLOOKUP(H3250,'Ark1'!$C$2:$D$12,2,FALSE)","v":5}]
[3249,32,{"$f":"VLOOKUP(B3251,'Ark1'!C$2:D$11,2,FALSE)","v":2},3249,125,{"$f":"VLOOKUP(E3251,'Ark1'!$C$2:$D$11,2,FALSE)","v":5},3249,200,{"$f":"VLOOKUP(H3251,'Ark1'!$C$2:$D$12,2,FALSE)","v":5}]
[3250,32,{"$f":"VLOOKUP(B3252,'Ark1'!C$2:D$11,2,FALSE)","v":2},3250,125,{"$f":"VLOOKUP(E3252,'Ark1'!$C$2:$D$11,2,FALSE)","v":5},3250,200,{"$f":"VLOOKUP(H3252,'Ark1'!$C$2:$D$12,2,FALSE)","v":5}]
[3251,32,{"$f":"VLOOKUP(B3253,'Ark1'!C$2:D$11,2,FALSE)","v":2},3251,125,{"$f":"VLOOKUP(E3253,'Ark1'!$C$2:$D$11,2,FALSE)","v":5},3251,200,{"$f":"VLOOKUP(H3253,'Ark1'!$C$2:$D$12,2,FALSE)","v":5}]
[3252,32,{"$f":"VLOOKUP(B3254,'Ark1'!C$2:D$11,2,FALSE)","v":2},3252,125,{"$f":"VLOOKUP(E3254,'Ark1'!$C$2:$D$11,2,FALSE)","v":5},3252,200,{"$f":"VLOOKUP(H3254,'Ark1'!$C$2:$D$12,2,FALSE)","v":5}]
[3253,32,{"$f":"VLOOKUP(B3255,'Ark1'!C$2:D$11,2,FALSE)","v":2},3253,125,{"$f":"VLOOKUP(E3255,'Ark1'!$C$2:$D$11,2,FALSE)","v":5},3253,200,{"$f":"VLOOKUP(H3255,'Ark1'!$C$2:$D$12,2,FALSE)","v":5}]
[3254,32,{"$f":"VLOOKUP(B3256,'Ark1'!C$2:D$11,2,FALSE)","v":2},3254,125,{"$f":"VLOOKUP(E3256,'Ark1'!$C$2:$D$11,2,FALSE)","v":5},3254,200,{"$f":"VLOOKUP(H3256,'Ark1'!$C$2:$D$12,2,FALSE)","v":5}]
[3255,32,{"$f":"VLOOKUP(B3257,'Ark1'!C$2:D$11,2,FALSE)","v":2},3255,125,{"$f":"VLOOKUP(E3257,'Ark1'!$C$2:$D$11,2,FALSE)","v":5},3255,200,{"$f":"VLOOKUP(H3257,'Ark1'!$C$2:$D$12,2,FALSE)","v":5}]
[3256,32,{"$f":"VLOOKUP(B3258,'Ark1'!C$2:D$11,2,FALSE)","v":2},3256,125,{"$f":"VLOOKUP(E3258,'Ark1'!$C$2:$D$11,2,FALSE)","v":5},3256,200,{"$f":"VLOOKUP(H3258,'Ark1'!$C$2:$D$12,2,FALSE)","v":5}]
[3257,32,{"$f":"VLOOKUP(B3259,'Ark1'!C$2:D$11,2,FALSE)","v":2},3257,125,{"$f":"VLOOKUP(E3259,'Ark1'!$C$2:$D$11,2,FALSE)","v":5},3257,200,{"$f":"VLOOKUP(H3259,'Ark1'!$C$2:$D$12,2,FALSE)","v":5}]
[3258,32,{"$f":"VLOOKUP(B3260,'Ark1'!C$2:D$11,2,FALSE)","v":2},3258,125,{"$f":"VLOOKUP(E3260,'Ark1'!$C$2:$D$11,2,FALSE)","v":5},3258,200,{"$f":"VLOOKUP(H3260,'Ark1'!$C$2:$D$12,2,FALSE)","v":5}]
[3259,32,{"$f":"VLOOKUP(B3261,'Ark1'!C$2:D$11,2,FALSE)","v":2},3259,125,{"$f":"VLOOKUP(E3261,'Ark1'!$C$2:$D$11,2,FALSE)","v":5},3259,200,{"$f":"VLOOKUP(H3261,'Ark1'!$C$2:$D$12,2,FALSE)","v":5}]
[3260,32,{"$f":"VLOOKUP(B3262,'Ark1'!C$2:D$11,2,FALSE)","v":2},3260,125,{"$f":"VLOOKUP(E3262,'Ark1'!$C$2:$D$11,2,FALSE)","v":5},3260,200,{"$f":"VLOOKUP(H3262,'Ark1'!$C$2:$D$12,2,FALSE)","v":5}]
[3261,32,{"$f":"VLOOKUP(B3263,'Ark1'!C$2:D$11,2,FALSE)","v":2},3261,125,{"$f":"VLOOKUP(E3263,'Ark1'!$C$2:$D$11,2,FALSE)","v":5},3261,200,{"$f":"VLOOKUP(H3263,'Ark1'!$C$2:$D$12,2,FALSE)","v":5}]
[3262,32,{"$f":"VLOOKUP(B3264,'Ark1'!C$2:D$11,2,FALSE)","v":2},3262,125,{"$f":"VLOOKUP(E3264,'Ark1'!$C$2:$D$11,2,FALSE)","v":5},3262,200,{"$f":"VLOOKUP(H3264,'Ark1'!$C$2:$D$12,2,FALSE)","v":5}]
[3263,32,{"$f":"VLOOKUP(B3265,'Ark1'!C$2:D$11,2,FALSE)","v":2},3263,125,{"$f":"VLOOKUP(E3265,'Ark1'!$C$2:$D$11,2,FALSE)","v":5},3263,200,{"$f":"VLOOKUP(H3265,'Ark1'!$C$2:$D$12,2,FALSE)","v":5}]
[3264,32,{"$f":"VLOOKUP(B3266,'Ark1'!C$2:D$11,2,FALSE)","v":2},3264,125,{"$f":"VLOOKUP(E3266,'Ark1'!$C$2:$D$11,2,FALSE)","v":5},3264,200,{"$f":"VLOOKUP(H3266,'Ark1'!$C$2:$D$12,2,FALSE)","v":5}]
[3265,32,{"$f":"VLOOKUP(B3267,'Ark1'!C$2:D$11,2,FALSE)","v":2},3265,125,{"$f":"VLOOKUP(E3267,'Ark1'!$C$2:$D$11,2,FALSE)","v":5},3265,200,{"$f":"VLOOKUP(H3267,'Ark1'!$C$2:$D$12,2,FALSE)","v":5}]
[3266,32,{"$f":"VLOOKUP(B3268,'Ark1'!C$2:D$11,2,FALSE)","v":2},3266,125,{"$f":"VLOOKUP(E3268,'Ark1'!$C$2:$D$11,2,FALSE)","v":5},3266,200,{"$f":"VLOOKUP(H3268,'Ark1'!$C$2:$D$12,2,FALSE)","v":5}]
[3267,32,{"$f":"VLOOKUP(B3269,'Ark1'!C$2:D$11,2,FALSE)","v":2},3267,125,{"$f":"VLOOKUP(E3269,'Ark1'!$C$2:$D$11,2,FALSE)","v":5},3267,200,{"$f":"VLOOKUP(H3269,'Ark1'!$C$2:$D$12,2,FALSE)","v":5}]
[3268,32,{"$f":"VLOOKUP(B3270,'Ark1'!C$2:D$11,2,FALSE)","v":2},3268,125,{"$f":"VLOOKUP(E3270,'Ark1'!$C$2:$D$11,2,FALSE)","v":5},3268,200,{"$f":"VLOOKUP(H3270,'Ark1'!$C$2:$D$12,2,FALSE)","v":5}]
[3269,32,{"$f":"VLOOKUP(B3271,'Ark1'!C$2:D$11,2,FALSE)","v":2},3269,125,{"$f":"VLOOKUP(E3271,'Ark1'!$C$2:$D$11,2,FALSE)","v":5},3269,200,{"$f":"VLOOKUP(H3271,'Ark1'!$C$2:$D$12,2,FALSE)","v":5}]
[3270,32,{"$f":"VLOOKUP(B3272,'Ark1'!C$2:D$11,2,FALSE)","v":2},3270,125,{"$f":"VLOOKUP(E3272,'Ark1'!$C$2:$D$11,2,FALSE)","v":5},3270,200,{"$f":"VLOOKUP(H3272,'Ark1'!$C$2:$D$12,2,FALSE)","v":5}]
[3271,32,{"$f":"VLOOKUP(B3273,'Ark1'!C$2:D$11,2,FALSE)","v":2},3271,125,{"$f":"VLOOKUP(E3273,'Ark1'!$C$2:$D$11,2,FALSE)","v":5},3271,200,{"$f":"VLOOKUP(H3273,'Ark1'!$C$2:$D$12,2,FALSE)","v":5}]
[3272,32,{"$f":"VLOOKUP(B3274,'Ark1'!C$2:D$11,2,FALSE)","v":2},3272,125,{"$f":"VLOOKUP(E3274,'Ark1'!$C$2:$D$11,2,FALSE)","v":5},3272,200,{"$f":"VLOOKUP(H3274,'Ark1'!$C$2:$D$12,2,FALSE)","v":5}]
[3273,32,{"$f":"VLOOKUP(B3275,'Ark1'!C$2:D$11,2,FALSE)","v":2},3273,125,{"$f":"VLOOKUP(E3275,'Ark1'!$C$2:$D$11,2,FALSE)","v":5},3273,200,{"$f":"VLOOKUP(H3275,'Ark1'!$C$2:$D$12,2,FALSE)","v":5}]
[3274,32,{"$f":"VLOOKUP(B3276,'Ark1'!C$2:D$11,2,FALSE)","v":2},3274,125,{"$f":"VLOOKUP(E3276,'Ark1'!$C$2:$D$11,2,FALSE)","v":5},3274,200,{"$f":"VLOOKUP(H3276,'Ark1'!$C$2:$D$12,2,FALSE)","v":5}]
[3275,32,{"$f":"VLOOKUP(B3277,'Ark1'!C$2:D$11,2,FALSE)","v":2},3275,125,{"$f":"VLOOKUP(E3277,'Ark1'!$C$2:$D$11,2,FALSE)","v":5},3275,200,{"$f":"VLOOKUP(H3277,'Ark1'!$C$2:$D$12,2,FALSE)","v":5}]
[3276,32,{"$f":"VLOOKUP(B3278,'Ark1'!C$2:D$11,2,FALSE)","v":2},3276,125,{"$f":"VLOOKUP(E3278,'Ark1'!$C$2:$D$11,2,FALSE)","v":5},3276,200,{"$f":"VLOOKUP(H3278,'Ark1'!$C$2:$D$12,2,FALSE)","v":5}]
[3277,32,{"$f":"VLOOKUP(B3279,'Ark1'!C$2:D$11,2,FALSE)","v":2},3277,125,{"$f":"VLOOKUP(E3279,'Ark1'!$C$2:$D$11,2,FALSE)","v":5},3277,200,{"$f":"VLOOKUP(H3279,'Ark1'!$C$2:$D$12,2,FALSE)","v":5}]
[3278,32,{"$f":"VLOOKUP(B3280,'Ark1'!C$2:D$11,2,FALSE)","v":2},3278,125,{"$f":"VLOOKUP(E3280,'Ark1'!$C$2:$D$11,2,FALSE)","v":5},3278,200,{"$f":"VLOOKUP(H3280,'Ark1'!$C$2:$D$12,2,FALSE)","v":5}]
[3279,32,{"$f":"VLOOKUP(B3281,'Ark1'!C$2:D$11,2,FALSE)","v":2},3279,125,{"$f":"VLOOKUP(E3281,'Ark1'!$C$2:$D$11,2,FALSE)","v":5},3279,200,{"$f":"VLOOKUP(H3281,'Ark1'!$C$2:$D$12,2,FALSE)","v":5}]
[3280,32,{"$f":"VLOOKUP(B3282,'Ark1'!C$2:D$11,2,FALSE)","v":2},3280,125,{"$f":"VLOOKUP(E3282,'Ark1'!$C$2:$D$11,2,FALSE)","v":5},3280,200,{"$f":"VLOOKUP(H3282,'Ark1'!$C$2:$D$12,2,FALSE)","v":5}]
[3281,32,{"$f":"VLOOKUP(B3283,'Ark1'!C$2:D$11,2,FALSE)","v":2},3281,125,{"$f":"VLOOKUP(E3283,'Ark1'!$C$2:$D$11,2,FALSE)","v":5},3281,200,{"$f":"VLOOKUP(H3283,'Ark1'!$C$2:$D$12,2,FALSE)","v":5}]
[3282,32,{"$f":"VLOOKUP(B3284,'Ark1'!C$2:D$11,2,FALSE)","v":2},3282,125,{"$f":"VLOOKUP(E3284,'Ark1'!$C$2:$D$11,2,FALSE)","v":5},3282,200,{"$f":"VLOOKUP(H3284,'Ark1'!$C$2:$D$12,2,FALSE)","v":5}]
[3283,32,{"$f":"VLOOKUP(B3285,'Ark1'!C$2:D$11,2,FALSE)","v":2},3283,125,{"$f":"VLOOKUP(E3285,'Ark1'!$C$2:$D$11,2,FALSE)","v":5},3283,200,{"$f":"VLOOKUP(H3285,'Ark1'!$C$2:$D$12,2,FALSE)","v":5}]
[3284,32,{"$f":"VLOOKUP(B3286,'Ark1'!C$2:D$11,2,FALSE)","v":2},3284,125,{"$f":"VLOOKUP(E3286,'Ark1'!$C$2:$D$11,2,FALSE)","v":5},3284,200,{"$f":"VLOOKUP(H3286,'Ark1'!$C$2:$D$12,2,FALSE)","v":5}]
[3285,32,{"$f":"VLOOKUP(B3287,'Ark1'!C$2:D$11,2,FALSE)","v":2},3285,125,{"$f":"VLOOKUP(E3287,'Ark1'!$C$2:$D$11,2,FALSE)","v":5},3285,200,{"$f":"VLOOKUP(H3287,'Ark1'!$C$2:$D$12,2,FALSE)","v":5}]
[3286,32,{"$f":"VLOOKUP(B3288,'Ark1'!C$2:D$11,2,FALSE)","v":2},3286,125,{"$f":"VLOOKUP(E3288,'Ark1'!$C$2:$D$11,2,FALSE)","v":5},3286,200,{"$f":"VLOOKUP(H3288,'Ark1'!$C$2:$D$12,2,FALSE)","v":5}]
[3287,32,{"$f":"VLOOKUP(B3289,'Ark1'!C$2:D$11,2,FALSE)","v":2},3287,125,{"$f":"VLOOKUP(E3289,'Ark1'!$C$2:$D$11,2,FALSE)","v":5},3287,200,{"$f":"VLOOKUP(H3289,'Ark1'!$C$2:$D$12,2,FALSE)","v":5}]
[3288,32,{"$f":"VLOOKUP(B3290,'Ark1'!C$2:D$11,2,FALSE)","v":2},3288,125,{"$f":"VLOOKUP(E3290,'Ark1'!$C$2:$D$11,2,FALSE)","v":5},3288,200,{"$f":"VLOOKUP(H3290,'Ark1'!$C$2:$D$12,2,FALSE)","v":5}]
[3289,32,{"$f":"VLOOKUP(B3291,'Ark1'!C$2:D$11,2,FALSE)","v":2},3289,125,{"$f":"VLOOKUP(E3291,'Ark1'!$C$2:$D$11,2,FALSE)","v":5},3289,200,{"$f":"VLOOKUP(H3291,'Ark1'!$C$2:$D$12,2,FALSE)","v":5}]
[3290,32,{"$f":"VLOOKUP(B3292,'Ark1'!C$2:D$11,2,FALSE)","v":2},3290,125,{"$f":"VLOOKUP(E3292,'Ark1'!$C$2:$D$11,2,FALSE)","v":5},3290,200,{"$f":"VLOOKUP(H3292,'Ark1'!$C$2:$D$12,2,FALSE)","v":5}]
[3291,32,{"$f":"VLOOKUP(B3293,'Ark1'!C$2:D$11,2,FALSE)","v":2},3291,125,{"$f":"VLOOKUP(E3293,'Ark1'!$C$2:$D$11,2,FALSE)","v":5},3291,200,{"$f":"VLOOKUP(H3293,'Ark1'!$C$2:$D$12,2,FALSE)","v":5}]
[3292,32,{"$f":"VLOOKUP(B3294,'Ark1'!C$2:D$11,2,FALSE)","v":2},3292,125,{"$f":"VLOOKUP(E3294,'Ark1'!$C$2:$D$11,2,FALSE)","v":5},3292,200,{"$f":"VLOOKUP(H3294,'Ark1'!$C$2:$D$12,2,FALSE)","v":5}]
[3293,32,{"$f":"VLOOKUP(B3295,'Ark1'!C$2:D$11,2,FALSE)","v":2},3293,125,{"$f":"VLOOKUP(E3295,'Ark1'!$C$2:$D$11,2,FALSE)","v":5},3293,200,{"$f":"VLOOKUP(H3295,'Ark1'!$C$2:$D$12,2,FALSE)","v":5}]
[3294,32,{"$f":"VLOOKUP(B3296,'Ark1'!C$2:D$11,2,FALSE)","v":2},3294,125,{"$f":"VLOOKUP(E3296,'Ark1'!$C$2:$D$11,2,FALSE)","v":5},3294,200,{"$f":"VLOOKUP(H3296,'Ark1'!$C$2:$D$12,2,FALSE)","v":5}]
[3295,32,{"$f":"VLOOKUP(B3297,'Ark1'!C$2:D$11,2,FALSE)","v":2},3295,125,{"$f":"VLOOKUP(E3297,'Ark1'!$C$2:$D$11,2,FALSE)","v":5},3295,200,{"$f":"VLOOKUP(H3297,'Ark1'!$C$2:$D$12,2,FALSE)","v":5}]
[3296,32,{"$f":"VLOOKUP(B3298,'Ark1'!C$2:D$11,2,FALSE)","v":2},3296,125,{"$f":"VLOOKUP(E3298,'Ark1'!$C$2:$D$11,2,FALSE)","v":5},3296,200,{"$f":"VLOOKUP(H3298,'Ark1'!$C$2:$D$12,2,FALSE)","v":5}]
[3297,32,{"$f":"VLOOKUP(B3299,'Ark1'!C$2:D$11,2,FALSE)","v":2},3297,125,{"$f":"VLOOKUP(E3299,'Ark1'!$C$2:$D$11,2,FALSE)","v":5},3297,200,{"$f":"VLOOKUP(H3299,'Ark1'!$C$2:$D$12,2,FALSE)","v":5}]
[3298,32,{"$f":"VLOOKUP(B3300,'Ark1'!C$2:D$11,2,FALSE)","v":2},3298,125,{"$f":"VLOOKUP(E3300,'Ark1'!$C$2:$D$11,2,FALSE)","v":5},3298,200,{"$f":"VLOOKUP(H3300,'Ark1'!$C$2:$D$12,2,FALSE)","v":5}]
[3299,32,{"$f":"VLOOKUP(B3301,'Ark1'!C$2:D$11,2,FALSE)","v":2},3299,125,{"$f":"VLOOKUP(E3301,'Ark1'!$C$2:$D$11,2,FALSE)","v":5},3299,200,{"$f":"VLOOKUP(H3301,'Ark1'!$C$2:$D$12,2,FALSE)","v":5}]
[3300,32,{"$f":"VLOOKUP(B3302,'Ark1'!C$2:D$11,2,FALSE)","v":2},3300,125,{"$f":"VLOOKUP(E3302,'Ark1'!$C$2:$D$11,2,FALSE)","v":5},3300,200,{"$f":"VLOOKUP(H3302,'Ark1'!$C$2:$D$12,2,FALSE)","v":5}]
[3301,32,{"$f":"VLOOKUP(B3303,'Ark1'!C$2:D$11,2,FALSE)","v":2},3301,125,{"$f":"VLOOKUP(E3303,'Ark1'!$C$2:$D$11,2,FALSE)","v":5},3301,200,{"$f":"VLOOKUP(H3303,'Ark1'!$C$2:$D$12,2,FALSE)","v":5}]
[3302,32,{"$f":"VLOOKUP(B3304,'Ark1'!C$2:D$11,2,FALSE)","v":2},3302,125,{"$f":"VLOOKUP(E3304,'Ark1'!$C$2:$D$11,2,FALSE)","v":5},3302,200,{"$f":"VLOOKUP(H3304,'Ark1'!$C$2:$D$12,2,FALSE)","v":5}]
[3303,32,{"$f":"VLOOKUP(B3305,'Ark1'!C$2:D$11,2,FALSE)","v":2},3303,125,{"$f":"VLOOKUP(E3305,'Ark1'!$C$2:$D$11,2,FALSE)","v":5},3303,200,{"$f":"VLOOKUP(H3305,'Ark1'!$C$2:$D$12,2,FALSE)","v":5}]
[3304,32,{"$f":"VLOOKUP(B3306,'Ark1'!C$2:D$11,2,FALSE)","v":2},3304,125,{"$f":"VLOOKUP(E3306,'Ark1'!$C$2:$D$11,2,FALSE)","v":5},3304,200,{"$f":"VLOOKUP(H3306,'Ark1'!$C$2:$D$12,2,FALSE)","v":5}]
[3305,32,{"$f":"VLOOKUP(B3307,'Ark1'!C$2:D$11,2,FALSE)","v":2},3305,125,{"$f":"VLOOKUP(E3307,'Ark1'!$C$2:$D$11,2,FALSE)","v":5},3305,200,{"$f":"VLOOKUP(H3307,'Ark1'!$C$2:$D$12,2,FALSE)","v":5}]
[3306,32,{"$f":"VLOOKUP(B3308,'Ark1'!C$2:D$11,2,FALSE)","v":2},3306,125,{"$f":"VLOOKUP(E3308,'Ark1'!$C$2:$D$11,2,FALSE)","v":5},3306,200,{"$f":"VLOOKUP(H3308,'Ark1'!$C$2:$D$12,2,FALSE)","v":5}]
[3307,32,{"$f":"VLOOKUP(B3309,'Ark1'!C$2:D$11,2,FALSE)","v":2},3307,125,{"$f":"VLOOKUP(E3309,'Ark1'!$C$2:$D$11,2,FALSE)","v":5},3307,200,{"$f":"VLOOKUP(H3309,'Ark1'!$C$2:$D$12,2,FALSE)","v":5}]
[3308,32,{"$f":"VLOOKUP(B3310,'Ark1'!C$2:D$11,2,FALSE)","v":2},3308,125,{"$f":"VLOOKUP(E3310,'Ark1'!$C$2:$D$11,2,FALSE)","v":5},3308,200,{"$f":"VLOOKUP(H3310,'Ark1'!$C$2:$D$12,2,FALSE)","v":5}]
[3309,32,{"$f":"VLOOKUP(B3311,'Ark1'!C$2:D$11,2,FALSE)","v":2},3309,125,{"$f":"VLOOKUP(E3311,'Ark1'!$C$2:$D$11,2,FALSE)","v":5},3309,200,{"$f":"VLOOKUP(H3311,'Ark1'!$C$2:$D$12,2,FALSE)","v":5}]
[3310,32,{"$f":"VLOOKUP(B3312,'Ark1'!C$2:D$11,2,FALSE)","v":2},3310,125,{"$f":"VLOOKUP(E3312,'Ark1'!$C$2:$D$11,2,FALSE)","v":5},3310,200,{"$f":"VLOOKUP(H3312,'Ark1'!$C$2:$D$12,2,FALSE)","v":5}]
[3311,32,{"$f":"VLOOKUP(B3313,'Ark1'!C$2:D$11,2,FALSE)","v":2},3311,125,{"$f":"VLOOKUP(E3313,'Ark1'!$C$2:$D$11,2,FALSE)","v":5},3311,200,{"$f":"VLOOKUP(H3313,'Ark1'!$C$2:$D$12,2,FALSE)","v":5}]
[3312,32,{"$f":"VLOOKUP(B3314,'Ark1'!C$2:D$11,2,FALSE)","v":2},3312,125,{"$f":"VLOOKUP(E3314,'Ark1'!$C$2:$D$11,2,FALSE)","v":5},3312,200,{"$f":"VLOOKUP(H3314,'Ark1'!$C$2:$D$12,2,FALSE)","v":5}]
[3313,32,{"$f":"VLOOKUP(B3315,'Ark1'!C$2:D$11,2,FALSE)","v":2},3313,125,{"$f":"VLOOKUP(E3315,'Ark1'!$C$2:$D$11,2,FALSE)","v":5},3313,200,{"$f":"VLOOKUP(H3315,'Ark1'!$C$2:$D$12,2,FALSE)","v":5}]
[3314,32,{"$f":"VLOOKUP(B3316,'Ark1'!C$2:D$11,2,FALSE)","v":2},3314,125,{"$f":"VLOOKUP(E3316,'Ark1'!$C$2:$D$11,2,FALSE)","v":5},3314,200,{"$f":"VLOOKUP(H3316,'Ark1'!$C$2:$D$12,2,FALSE)","v":5}]
[3315,32,{"$f":"VLOOKUP(B3317,'Ark1'!C$2:D$11,2,FALSE)","v":2},3315,125,{"$f":"VLOOKUP(E3317,'Ark1'!$C$2:$D$11,2,FALSE)","v":5},3315,200,{"$f":"VLOOKUP(H3317,'Ark1'!$C$2:$D$12,2,FALSE)","v":5}]
[3316,32,{"$f":"VLOOKUP(B3318,'Ark1'!C$2:D$11,2,FALSE)","v":2},3316,125,{"$f":"VLOOKUP(E3318,'Ark1'!$C$2:$D$11,2,FALSE)","v":5},3316,200,{"$f":"VLOOKUP(H3318,'Ark1'!$C$2:$D$12,2,FALSE)","v":5}]
[3317,32,{"$f":"VLOOKUP(B3319,'Ark1'!C$2:D$11,2,FALSE)","v":2},3317,125,{"$f":"VLOOKUP(E3319,'Ark1'!$C$2:$D$11,2,FALSE)","v":5},3317,200,{"$f":"VLOOKUP(H3319,'Ark1'!$C$2:$D$12,2,FALSE)","v":5}]
[3318,32,{"$f":"VLOOKUP(B3320,'Ark1'!C$2:D$11,2,FALSE)","v":2},3318,125,{"$f":"VLOOKUP(E3320,'Ark1'!$C$2:$D$11,2,FALSE)","v":5},3318,200,{"$f":"VLOOKUP(H3320,'Ark1'!$C$2:$D$12,2,FALSE)","v":5}]
[3319,32,{"$f":"VLOOKUP(B3321,'Ark1'!C$2:D$11,2,FALSE)","v":2},3319,125,{"$f":"VLOOKUP(E3321,'Ark1'!$C$2:$D$11,2,FALSE)","v":5},3319,200,{"$f":"VLOOKUP(H3321,'Ark1'!$C$2:$D$12,2,FALSE)","v":5}]
[3320,32,{"$f":"VLOOKUP(B3322,'Ark1'!C$2:D$11,2,FALSE)","v":2},3320,125,{"$f":"VLOOKUP(E3322,'Ark1'!$C$2:$D$11,2,FALSE)","v":5},3320,200,{"$f":"VLOOKUP(H3322,'Ark1'!$C$2:$D$12,2,FALSE)","v":5}]
[3321,32,{"$f":"VLOOKUP(B3323,'Ark1'!C$2:D$11,2,FALSE)","v":2},3321,125,{"$f":"VLOOKUP(E3323,'Ark1'!$C$2:$D$11,2,FALSE)","v":5},3321,200,{"$f":"VLOOKUP(H3323,'Ark1'!$C$2:$D$12,2,FALSE)","v":5}]
[3322,32,{"$f":"VLOOKUP(B3324,'Ark1'!C$2:D$11,2,FALSE)","v":2},3322,125,{"$f":"VLOOKUP(E3324,'Ark1'!$C$2:$D$11,2,FALSE)","v":5},3322,200,{"$f":"VLOOKUP(H3324,'Ark1'!$C$2:$D$12,2,FALSE)","v":5}]
[3323,32,{"$f":"VLOOKUP(B3325,'Ark1'!C$2:D$11,2,FALSE)","v":2},3323,125,{"$f":"VLOOKUP(E3325,'Ark1'!$C$2:$D$11,2,FALSE)","v":5},3323,200,{"$f":"VLOOKUP(H3325,'Ark1'!$C$2:$D$12,2,FALSE)","v":5}]
[3324,32,{"$f":"VLOOKUP(B3326,'Ark1'!C$2:D$11,2,FALSE)","v":2},3324,125,{"$f":"VLOOKUP(E3326,'Ark1'!$C$2:$D$11,2,FALSE)","v":5},3324,200,{"$f":"VLOOKUP(H3326,'Ark1'!$C$2:$D$12,2,FALSE)","v":5}]
[3325,32,{"$f":"VLOOKUP(B3327,'Ark1'!C$2:D$11,2,FALSE)","v":2},3325,125,{"$f":"VLOOKUP(E3327,'Ark1'!$C$2:$D$11,2,FALSE)","v":5},3325,200,{"$f":"VLOOKUP(H3327,'Ark1'!$C$2:$D$12,2,FALSE)","v":5}]
[3326,32,{"$f":"VLOOKUP(B3328,'Ark1'!C$2:D$11,2,FALSE)","v":2},3326,125,{"$f":"VLOOKUP(E3328,'Ark1'!$C$2:$D$11,2,FALSE)","v":5},3326,200,{"$f":"VLOOKUP(H3328,'Ark1'!$C$2:$D$12,2,FALSE)","v":5}]
[3327,32,{"$f":"VLOOKUP(B3329,'Ark1'!C$2:D$11,2,FALSE)","v":2},3327,125,{"$f":"VLOOKUP(E3329,'Ark1'!$C$2:$D$11,2,FALSE)","v":5},3327,200,{"$f":"VLOOKUP(H3329,'Ark1'!$C$2:$D$12,2,FALSE)","v":5}]
[3328,32,{"$f":"VLOOKUP(B3330,'Ark1'!C$2:D$11,2,FALSE)","v":2},3328,125,{"$f":"VLOOKUP(E3330,'Ark1'!$C$2:$D$11,2,FALSE)","v":5},3328,200,{"$f":"VLOOKUP(H3330,'Ark1'!$C$2:$D$12,2,FALSE)","v":5}]
[3329,32,{"$f":"VLOOKUP(B3331,'Ark1'!C$2:D$11,2,FALSE)","v":2},3329,125,{"$f":"VLOOKUP(E3331,'Ark1'!$C$2:$D$11,2,FALSE)","v":5},3329,200,{"$f":"VLOOKUP(H3331,'Ark1'!$C$2:$D$12,2,FALSE)","v":5}]
[3330,32,{"$f":"VLOOKUP(B3332,'Ark1'!C$2:D$11,2,FALSE)","v":2},3330,125,{"$f":"VLOOKUP(E3332,'Ark1'!$C$2:$D$11,2,FALSE)","v":5},3330,200,{"$f":"VLOOKUP(H3332,'Ark1'!$C$2:$D$12,2,FALSE)","v":5}]
[3331,32,{"$f":"VLOOKUP(B3333,'Ark1'!C$2:D$11,2,FALSE)","v":2},3331,125,{"$f":"VLOOKUP(E3333,'Ark1'!$C$2:$D$11,2,FALSE)","v":5},3331,200,{"$f":"VLOOKUP(H3333,'Ark1'!$C$2:$D$12,2,FALSE)","v":5}]
[3332,32,{"$f":"VLOOKUP(B3334,'Ark1'!C$2:D$11,2,FALSE)","v":2},3332,125,{"$f":"VLOOKUP(E3334,'Ark1'!$C$2:$D$11,2,FALSE)","v":5},3332,200,{"$f":"VLOOKUP(H3334,'Ark1'!$C$2:$D$12,2,FALSE)","v":5}]
[3333,32,{"$f":"VLOOKUP(B3335,'Ark1'!C$2:D$11,2,FALSE)","v":2},3333,125,{"$f":"VLOOKUP(E3335,'Ark1'!$C$2:$D$11,2,FALSE)","v":5},3333,200,{"$f":"VLOOKUP(H3335,'Ark1'!$C$2:$D$12,2,FALSE)","v":5}]
[3334,32,{"$f":"VLOOKUP(B3336,'Ark1'!C$2:D$11,2,FALSE)","v":2},3334,125,{"$f":"VLOOKUP(E3336,'Ark1'!$C$2:$D$11,2,FALSE)","v":5},3334,200,{"$f":"VLOOKUP(H3336,'Ark1'!$C$2:$D$12,2,FALSE)","v":5}]
[3335,32,{"$f":"VLOOKUP(B3337,'Ark1'!C$2:D$11,2,FALSE)","v":2},3335,125,{"$f":"VLOOKUP(E3337,'Ark1'!$C$2:$D$11,2,FALSE)","v":5},3335,200,{"$f":"VLOOKUP(H3337,'Ark1'!$C$2:$D$12,2,FALSE)","v":5}]
[3336,32,{"$f":"VLOOKUP(B3338,'Ark1'!C$2:D$11,2,FALSE)","v":2},3336,125,{"$f":"VLOOKUP(E3338,'Ark1'!$C$2:$D$11,2,FALSE)","v":5},3336,200,{"$f":"VLOOKUP(H3338,'Ark1'!$C$2:$D$12,2,FALSE)","v":5}]
[3337,32,{"$f":"VLOOKUP(B3339,'Ark1'!C$2:D$11,2,FALSE)","v":2},3337,125,{"$f":"VLOOKUP(E3339,'Ark1'!$C$2:$D$11,2,FALSE)","v":5},3337,200,{"$f":"VLOOKUP(H3339,'Ark1'!$C$2:$D$12,2,FALSE)","v":5}]
[3338,32,{"$f":"VLOOKUP(B3340,'Ark1'!C$2:D$11,2,FALSE)","v":2},3338,125,{"$f":"VLOOKUP(E3340,'Ark1'!$C$2:$D$11,2,FALSE)","v":5},3338,200,{"$f":"VLOOKUP(H3340,'Ark1'!$C$2:$D$12,2,FALSE)","v":5}]
[3339,32,{"$f":"VLOOKUP(B3341,'Ark1'!C$2:D$11,2,FALSE)","v":2},3339,125,{"$f":"VLOOKUP(E3341,'Ark1'!$C$2:$D$11,2,FALSE)","v":5},3339,200,{"$f":"VLOOKUP(H3341,'Ark1'!$C$2:$D$12,2,FALSE)","v":5}]
[3340,32,{"$f":"VLOOKUP(B3342,'Ark1'!C$2:D$11,2,FALSE)","v":2},3340,125,{"$f":"VLOOKUP(E3342,'Ark1'!$C$2:$D$11,2,FALSE)","v":5},3340,200,{"$f":"VLOOKUP(H3342,'Ark1'!$C$2:$D$12,2,FALSE)","v":5}]
[3341,32,{"$f":"VLOOKUP(B3343,'Ark1'!C$2:D$11,2,FALSE)","v":2},3341,125,{"$f":"VLOOKUP(E3343,'Ark1'!$C$2:$D$11,2,FALSE)","v":5},3341,200,{"$f":"VLOOKUP(H3343,'Ark1'!$C$2:$D$12,2,FALSE)","v":5}]
[3342,32,{"$f":"VLOOKUP(B3344,'Ark1'!C$2:D$11,2,FALSE)","v":2},3342,125,{"$f":"VLOOKUP(E3344,'Ark1'!$C$2:$D$11,2,FALSE)","v":5},3342,200,{"$f":"VLOOKUP(H3344,'Ark1'!$C$2:$D$12,2,FALSE)","v":5}]
[3343,32,{"$f":"VLOOKUP(B3345,'Ark1'!C$2:D$11,2,FALSE)","v":2},3343,125,{"$f":"VLOOKUP(E3345,'Ark1'!$C$2:$D$11,2,FALSE)","v":5},3343,200,{"$f":"VLOOKUP(H3345,'Ark1'!$C$2:$D$12,2,FALSE)","v":5}]
[3344,32,{"$f":"VLOOKUP(B3346,'Ark1'!C$2:D$11,2,FALSE)","v":2},3344,125,{"$f":"VLOOKUP(E3346,'Ark1'!$C$2:$D$11,2,FALSE)","v":5},3344,200,{"$f":"VLOOKUP(H3346,'Ark1'!$C$2:$D$12,2,FALSE)","v":5}]
[3345,32,{"$f":"VLOOKUP(B3347,'Ark1'!C$2:D$11,2,FALSE)","v":2},3345,125,{"$f":"VLOOKUP(E3347,'Ark1'!$C$2:$D$11,2,FALSE)","v":5},3345,200,{"$f":"VLOOKUP(H3347,'Ark1'!$C$2:$D$12,2,FALSE)","v":5}]
[3346,32,{"$f":"VLOOKUP(B3348,'Ark1'!C$2:D$11,2,FALSE)","v":2},3346,125,{"$f":"VLOOKUP(E3348,'Ark1'!$C$2:$D$11,2,FALSE)","v":5},3346,200,{"$f":"VLOOKUP(H3348,'Ark1'!$C$2:$D$12,2,FALSE)","v":5}]
[3347,32,{"$f":"VLOOKUP(B3349,'Ark1'!C$2:D$11,2,FALSE)","v":2},3347,125,{"$f":"VLOOKUP(E3349,'Ark1'!$C$2:$D$11,2,FALSE)","v":5},3347,200,{"$f":"VLOOKUP(H3349,'Ark1'!$C$2:$D$12,2,FALSE)","v":5}]
[3348,32,{"$f":"VLOOKUP(B3350,'Ark1'!C$2:D$11,2,FALSE)","v":2},3348,125,{"$f":"VLOOKUP(E3350,'Ark1'!$C$2:$D$11,2,FALSE)","v":5},3348,200,{"$f":"VLOOKUP(H3350,'Ark1'!$C$2:$D$12,2,FALSE)","v":5}]
[3349,32,{"$f":"VLOOKUP(B3351,'Ark1'!C$2:D$11,2,FALSE)","v":2},3349,125,{"$f":"VLOOKUP(E3351,'Ark1'!$C$2:$D$11,2,FALSE)","v":5},3349,200,{"$f":"VLOOKUP(H3351,'Ark1'!$C$2:$D$12,2,FALSE)","v":5}]
[3350,32,{"$f":"VLOOKUP(B3352,'Ark1'!C$2:D$11,2,FALSE)","v":2},3350,125,{"$f":"VLOOKUP(E3352,'Ark1'!$C$2:$D$11,2,FALSE)","v":5},3350,200,{"$f":"VLOOKUP(H3352,'Ark1'!$C$2:$D$12,2,FALSE)","v":5}]
[3351,32,{"$f":"VLOOKUP(B3353,'Ark1'!C$2:D$11,2,FALSE)","v":2},3351,125,{"$f":"VLOOKUP(E3353,'Ark1'!$C$2:$D$11,2,FALSE)","v":5},3351,200,{"$f":"VLOOKUP(H3353,'Ark1'!$C$2:$D$12,2,FALSE)","v":5}]
[3352,32,{"$f":"VLOOKUP(B3354,'Ark1'!C$2:D$11,2,FALSE)","v":2},3352,125,{"$f":"VLOOKUP(E3354,'Ark1'!$C$2:$D$11,2,FALSE)","v":5},3352,200,{"$f":"VLOOKUP(H3354,'Ark1'!$C$2:$D$12,2,FALSE)","v":5}]
[3353,32,{"$f":"VLOOKUP(B3355,'Ark1'!C$2:D$11,2,FALSE)","v":2},3353,125,{"$f":"VLOOKUP(E3355,'Ark1'!$C$2:$D$11,2,FALSE)","v":5},3353,200,{"$f":"VLOOKUP(H3355,'Ark1'!$C$2:$D$12,2,FALSE)","v":5}]
[3354,32,{"$f":"VLOOKUP(B3356,'Ark1'!C$2:D$11,2,FALSE)","v":2},3354,125,{"$f":"VLOOKUP(E3356,'Ark1'!$C$2:$D$11,2,FALSE)","v":5},3354,200,{"$f":"VLOOKUP(H3356,'Ark1'!$C$2:$D$12,2,FALSE)","v":5}]
[3355,32,{"$f":"VLOOKUP(B3357,'Ark1'!C$2:D$11,2,FALSE)","v":2},3355,125,{"$f":"VLOOKUP(E3357,'Ark1'!$C$2:$D$11,2,FALSE)","v":5},3355,200,{"$f":"VLOOKUP(H3357,'Ark1'!$C$2:$D$12,2,FALSE)","v":5}]
[3356,32,{"$f":"VLOOKUP(B3358,'Ark1'!C$2:D$11,2,FALSE)","v":2},3356,125,{"$f":"VLOOKUP(E3358,'Ark1'!$C$2:$D$11,2,FALSE)","v":5},3356,200,{"$f":"VLOOKUP(H3358,'Ark1'!$C$2:$D$12,2,FALSE)","v":5}]
[3357,32,{"$f":"VLOOKUP(B3359,'Ark1'!C$2:D$11,2,FALSE)","v":2},3357,125,{"$f":"VLOOKUP(E3359,'Ark1'!$C$2:$D$11,2,FALSE)","v":5},3357,200,{"$f":"VLOOKUP(H3359,'Ark1'!$C$2:$D$12,2,FALSE)","v":5}]
[3358,32,{"$f":"VLOOKUP(B3360,'Ark1'!C$2:D$11,2,FALSE)","v":2},3358,125,{"$f":"VLOOKUP(E3360,'Ark1'!$C$2:$D$11,2,FALSE)","v":5},3358,200,{"$f":"VLOOKUP(H3360,'Ark1'!$C$2:$D$12,2,FALSE)","v":5}]
[3359,32,{"$f":"VLOOKUP(B3361,'Ark1'!C$2:D$11,2,FALSE)","v":2},3359,125,{"$f":"VLOOKUP(E3361,'Ark1'!$C$2:$D$11,2,FALSE)","v":5},3359,200,{"$f":"VLOOKUP(H3361,'Ark1'!$C$2:$D$12,2,FALSE)","v":5}]
[3360,32,{"$f":"VLOOKUP(B3362,'Ark1'!C$2:D$11,2,FALSE)","v":2},3360,125,{"$f":"VLOOKUP(E3362,'Ark1'!$C$2:$D$11,2,FALSE)","v":5},3360,200,{"$f":"VLOOKUP(H3362,'Ark1'!$C$2:$D$12,2,FALSE)","v":5}]
[3361,32,{"$f":"VLOOKUP(B3363,'Ark1'!C$2:D$11,2,FALSE)","v":2},3361,125,{"$f":"VLOOKUP(E3363,'Ark1'!$C$2:$D$11,2,FALSE)","v":5},3361,200,{"$f":"VLOOKUP(H3363,'Ark1'!$C$2:$D$12,2,FALSE)","v":5}]
[3362,32,{"$f":"VLOOKUP(B3364,'Ark1'!C$2:D$11,2,FALSE)","v":2},3362,125,{"$f":"VLOOKUP(E3364,'Ark1'!$C$2:$D$11,2,FALSE)","v":5},3362,200,{"$f":"VLOOKUP(H3364,'Ark1'!$C$2:$D$12,2,FALSE)","v":5}]
[3363,32,{"$f":"VLOOKUP(B3365,'Ark1'!C$2:D$11,2,FALSE)","v":2},3363,125,{"$f":"VLOOKUP(E3365,'Ark1'!$C$2:$D$11,2,FALSE)","v":5},3363,200,{"$f":"VLOOKUP(H3365,'Ark1'!$C$2:$D$12,2,FALSE)","v":5}]
[3364,32,{"$f":"VLOOKUP(B3366,'Ark1'!C$2:D$11,2,FALSE)","v":2},3364,125,{"$f":"VLOOKUP(E3366,'Ark1'!$C$2:$D$11,2,FALSE)","v":5},3364,200,{"$f":"VLOOKUP(H3366,'Ark1'!$C$2:$D$12,2,FALSE)","v":5}]
[3365,32,{"$f":"VLOOKUP(B3367,'Ark1'!C$2:D$11,2,FALSE)","v":2},3365,125,{"$f":"VLOOKUP(E3367,'Ark1'!$C$2:$D$11,2,FALSE)","v":5},3365,200,{"$f":"VLOOKUP(H3367,'Ark1'!$C$2:$D$12,2,FALSE)","v":5}]
[3366,32,{"$f":"VLOOKUP(B3368,'Ark1'!C$2:D$11,2,FALSE)","v":2},3366,125,{"$f":"VLOOKUP(E3368,'Ark1'!$C$2:$D$11,2,FALSE)","v":5},3366,200,{"$f":"VLOOKUP(H3368,'Ark1'!$C$2:$D$12,2,FALSE)","v":5}]
[3367,32,{"$f":"VLOOKUP(B3369,'Ark1'!C$2:D$11,2,FALSE)","v":2},3367,125,{"$f":"VLOOKUP(E3369,'Ark1'!$C$2:$D$11,2,FALSE)","v":5},3367,200,{"$f":"VLOOKUP(H3369,'Ark1'!$C$2:$D$12,2,FALSE)","v":5}]
[3368,32,{"$f":"VLOOKUP(B3370,'Ark1'!C$2:D$11,2,FALSE)","v":2},3368,125,{"$f":"VLOOKUP(E3370,'Ark1'!$C$2:$D$11,2,FALSE)","v":5},3368,200,{"$f":"VLOOKUP(H3370,'Ark1'!$C$2:$D$12,2,FALSE)","v":5}]
[3369,32,{"$f":"VLOOKUP(B3371,'Ark1'!C$2:D$11,2,FALSE)","v":2},3369,125,{"$f":"VLOOKUP(E3371,'Ark1'!$C$2:$D$11,2,FALSE)","v":5},3369,200,{"$f":"VLOOKUP(H3371,'Ark1'!$C$2:$D$12,2,FALSE)","v":5}]
[3370,32,{"$f":"VLOOKUP(B3372,'Ark1'!C$2:D$11,2,FALSE)","v":2},3370,125,{"$f":"VLOOKUP(E3372,'Ark1'!$C$2:$D$11,2,FALSE)","v":5},3370,200,{"$f":"VLOOKUP(H3372,'Ark1'!$C$2:$D$12,2,FALSE)","v":5}]
[3371,32,{"$f":"VLOOKUP(B3373,'Ark1'!C$2:D$11,2,FALSE)","v":2},3371,125,{"$f":"VLOOKUP(E3373,'Ark1'!$C$2:$D$11,2,FALSE)","v":5},3371,200,{"$f":"VLOOKUP(H3373,'Ark1'!$C$2:$D$12,2,FALSE)","v":5}]
[3372,32,{"$f":"VLOOKUP(B3374,'Ark1'!C$2:D$11,2,FALSE)","v":2},3372,125,{"$f":"VLOOKUP(E3374,'Ark1'!$C$2:$D$11,2,FALSE)","v":5},3372,200,{"$f":"VLOOKUP(H3374,'Ark1'!$C$2:$D$12,2,FALSE)","v":5}]
[3373,32,{"$f":"VLOOKUP(B3375,'Ark1'!C$2:D$11,2,FALSE)","v":2},3373,125,{"$f":"VLOOKUP(E3375,'Ark1'!$C$2:$D$11,2,FALSE)","v":5},3373,200,{"$f":"VLOOKUP(H3375,'Ark1'!$C$2:$D$12,2,FALSE)","v":5}]
[3374,32,{"$f":"VLOOKUP(B3376,'Ark1'!C$2:D$11,2,FALSE)","v":2},3374,125,{"$f":"VLOOKUP(E3376,'Ark1'!$C$2:$D$11,2,FALSE)","v":5},3374,200,{"$f":"VLOOKUP(H3376,'Ark1'!$C$2:$D$12,2,FALSE)","v":5}]
[3375,32,{"$f":"VLOOKUP(B3377,'Ark1'!C$2:D$11,2,FALSE)","v":2},3375,125,{"$f":"VLOOKUP(E3377,'Ark1'!$C$2:$D$11,2,FALSE)","v":5},3375,200,{"$f":"VLOOKUP(H3377,'Ark1'!$C$2:$D$12,2,FALSE)","v":5}]
[3376,32,{"$f":"VLOOKUP(B3378,'Ark1'!C$2:D$11,2,FALSE)","v":2},3376,125,{"$f":"VLOOKUP(E3378,'Ark1'!$C$2:$D$11,2,FALSE)","v":5},3376,200,{"$f":"VLOOKUP(H3378,'Ark1'!$C$2:$D$12,2,FALSE)","v":5}]
[3377,32,{"$f":"VLOOKUP(B3379,'Ark1'!C$2:D$11,2,FALSE)","v":2},3377,125,{"$f":"VLOOKUP(E3379,'Ark1'!$C$2:$D$11,2,FALSE)","v":5},3377,200,{"$f":"VLOOKUP(H3379,'Ark1'!$C$2:$D$12,2,FALSE)","v":5}]
[3378,32,{"$f":"VLOOKUP(B3380,'Ark1'!C$2:D$11,2,FALSE)","v":2},3378,125,{"$f":"VLOOKUP(E3380,'Ark1'!$C$2:$D$11,2,FALSE)","v":5},3378,200,{"$f":"VLOOKUP(H3380,'Ark1'!$C$2:$D$12,2,FALSE)","v":5}]
[3379,32,{"$f":"VLOOKUP(B3381,'Ark1'!C$2:D$11,2,FALSE)","v":2},3379,125,{"$f":"VLOOKUP(E3381,'Ark1'!$C$2:$D$11,2,FALSE)","v":5},3379,200,{"$f":"VLOOKUP(H3381,'Ark1'!$C$2:$D$12,2,FALSE)","v":5}]
[3380,32,{"$f":"VLOOKUP(B3382,'Ark1'!C$2:D$11,2,FALSE)","v":2},3380,125,{"$f":"VLOOKUP(E3382,'Ark1'!$C$2:$D$11,2,FALSE)","v":5},3380,200,{"$f":"VLOOKUP(H3382,'Ark1'!$C$2:$D$12,2,FALSE)","v":5}]
[3381,32,{"$f":"VLOOKUP(B3383,'Ark1'!C$2:D$11,2,FALSE)","v":2},3381,125,{"$f":"VLOOKUP(E3383,'Ark1'!$C$2:$D$11,2,FALSE)","v":5},3381,200,{"$f":"VLOOKUP(H3383,'Ark1'!$C$2:$D$12,2,FALSE)","v":5}]
[3382,32,{"$f":"VLOOKUP(B3384,'Ark1'!C$2:D$11,2,FALSE)","v":2},3382,125,{"$f":"VLOOKUP(E3384,'Ark1'!$C$2:$D$11,2,FALSE)","v":5},3382,200,{"$f":"VLOOKUP(H3384,'Ark1'!$C$2:$D$12,2,FALSE)","v":5}]
[3383,32,{"$f":"VLOOKUP(B3385,'Ark1'!C$2:D$11,2,FALSE)","v":2},3383,125,{"$f":"VLOOKUP(E3385,'Ark1'!$C$2:$D$11,2,FALSE)","v":5},3383,200,{"$f":"VLOOKUP(H3385,'Ark1'!$C$2:$D$12,2,FALSE)","v":5}]
[3384,32,{"$f":"VLOOKUP(B3386,'Ark1'!C$2:D$11,2,FALSE)","v":2},3384,125,{"$f":"VLOOKUP(E3386,'Ark1'!$C$2:$D$11,2,FALSE)","v":5},3384,200,{"$f":"VLOOKUP(H3386,'Ark1'!$C$2:$D$12,2,FALSE)","v":5}]
[3385,32,{"$f":"VLOOKUP(B3387,'Ark1'!C$2:D$11,2,FALSE)","v":2},3385,125,{"$f":"VLOOKUP(E3387,'Ark1'!$C$2:$D$11,2,FALSE)","v":5},3385,200,{"$f":"VLOOKUP(H3387,'Ark1'!$C$2:$D$12,2,FALSE)","v":5}]
[3386,32,{"$f":"VLOOKUP(B3388,'Ark1'!C$2:D$11,2,FALSE)","v":2},3386,125,{"$f":"VLOOKUP(E3388,'Ark1'!$C$2:$D$11,2,FALSE)","v":5},3386,200,{"$f":"VLOOKUP(H3388,'Ark1'!$C$2:$D$12,2,FALSE)","v":5}]
[3387,32,{"$f":"VLOOKUP(B3389,'Ark1'!C$2:D$11,2,FALSE)","v":2},3387,125,{"$f":"VLOOKUP(E3389,'Ark1'!$C$2:$D$11,2,FALSE)","v":5},3387,200,{"$f":"VLOOKUP(H3389,'Ark1'!$C$2:$D$12,2,FALSE)","v":5}]
[3388,32,{"$f":"VLOOKUP(B3390,'Ark1'!C$2:D$11,2,FALSE)","v":2},3388,125,{"$f":"VLOOKUP(E3390,'Ark1'!$C$2:$D$11,2,FALSE)","v":5},3388,200,{"$f":"VLOOKUP(H3390,'Ark1'!$C$2:$D$12,2,FALSE)","v":5}]
[3389,32,{"$f":"VLOOKUP(B3391,'Ark1'!C$2:D$11,2,FALSE)","v":2},3389,125,{"$f":"VLOOKUP(E3391,'Ark1'!$C$2:$D$11,2,FALSE)","v":5},3389,200,{"$f":"VLOOKUP(H3391,'Ark1'!$C$2:$D$12,2,FALSE)","v":5}]
[3390,32,{"$f":"VLOOKUP(B3392,'Ark1'!C$2:D$11,2,FALSE)","v":2},3390,125,{"$f":"VLOOKUP(E3392,'Ark1'!$C$2:$D$11,2,FALSE)","v":5},3390,200,{"$f":"VLOOKUP(H3392,'Ark1'!$C$2:$D$12,2,FALSE)","v":5}]
[3391,32,{"$f":"VLOOKUP(B3393,'Ark1'!C$2:D$11,2,FALSE)","v":2},3391,125,{"$f":"VLOOKUP(E3393,'Ark1'!$C$2:$D$11,2,FALSE)","v":5},3391,200,{"$f":"VLOOKUP(H3393,'Ark1'!$C$2:$D$12,2,FALSE)","v":5}]
[3392,32,{"$f":"VLOOKUP(B3394,'Ark1'!C$2:D$11,2,FALSE)","v":2},3392,125,{"$f":"VLOOKUP(E3394,'Ark1'!$C$2:$D$11,2,FALSE)","v":5},3392,200,{"$f":"VLOOKUP(H3394,'Ark1'!$C$2:$D$12,2,FALSE)","v":5}]
[3393,32,{"$f":"VLOOKUP(B3395,'Ark1'!C$2:D$11,2,FALSE)","v":2},3393,125,{"$f":"VLOOKUP(E3395,'Ark1'!$C$2:$D$11,2,FALSE)","v":5},3393,200,{"$f":"VLOOKUP(H3395,'Ark1'!$C$2:$D$12,2,FALSE)","v":5}]
[3394,32,{"$f":"VLOOKUP(B3396,'Ark1'!C$2:D$11,2,FALSE)","v":2},3394,125,{"$f":"VLOOKUP(E3396,'Ark1'!$C$2:$D$11,2,FALSE)","v":5},3394,200,{"$f":"VLOOKUP(H3396,'Ark1'!$C$2:$D$12,2,FALSE)","v":5}]
[3395,32,{"$f":"VLOOKUP(B3397,'Ark1'!C$2:D$11,2,FALSE)","v":2},3395,125,{"$f":"VLOOKUP(E3397,'Ark1'!$C$2:$D$11,2,FALSE)","v":5},3395,200,{"$f":"VLOOKUP(H3397,'Ark1'!$C$2:$D$12,2,FALSE)","v":5}]
[3396,32,{"$f":"VLOOKUP(B3398,'Ark1'!C$2:D$11,2,FALSE)","v":2},3396,125,{"$f":"VLOOKUP(E3398,'Ark1'!$C$2:$D$11,2,FALSE)","v":5},3396,200,{"$f":"VLOOKUP(H3398,'Ark1'!$C$2:$D$12,2,FALSE)","v":5}]
[3397,32,{"$f":"VLOOKUP(B3399,'Ark1'!C$2:D$11,2,FALSE)","v":2},3397,125,{"$f":"VLOOKUP(E3399,'Ark1'!$C$2:$D$11,2,FALSE)","v":5},3397,200,{"$f":"VLOOKUP(H3399,'Ark1'!$C$2:$D$12,2,FALSE)","v":5}]
[3398,32,{"$f":"VLOOKUP(B3400,'Ark1'!C$2:D$11,2,FALSE)","v":2},3398,125,{"$f":"VLOOKUP(E3400,'Ark1'!$C$2:$D$11,2,FALSE)","v":5},3398,200,{"$f":"VLOOKUP(H3400,'Ark1'!$C$2:$D$12,2,FALSE)","v":5}]
[3399,32,{"$f":"VLOOKUP(B3401,'Ark1'!C$2:D$11,2,FALSE)","v":2},3399,125,{"$f":"VLOOKUP(E3401,'Ark1'!$C$2:$D$11,2,FALSE)","v":5},3399,200,{"$f":"VLOOKUP(H3401,'Ark1'!$C$2:$D$12,2,FALSE)","v":5}]
[3400,32,{"$f":"VLOOKUP(B3402,'Ark1'!C$2:D$11,2,FALSE)","v":2},3400,125,{"$f":"VLOOKUP(E3402,'Ark1'!$C$2:$D$11,2,FALSE)","v":5},3400,200,{"$f":"VLOOKUP(H3402,'Ark1'!$C$2:$D$12,2,FALSE)","v":5}]
[3401,32,{"$f":"VLOOKUP(B3403,'Ark1'!C$2:D$11,2,FALSE)","v":2},3401,125,{"$f":"VLOOKUP(E3403,'Ark1'!$C$2:$D$11,2,FALSE)","v":5},3401,200,{"$f":"VLOOKUP(H3403,'Ark1'!$C$2:$D$12,2,FALSE)","v":5}]
[3402,32,{"$f":"VLOOKUP(B3404,'Ark1'!C$2:D$11,2,FALSE)","v":2},3402,125,{"$f":"VLOOKUP(E3404,'Ark1'!$C$2:$D$11,2,FALSE)","v":5},3402,200,{"$f":"VLOOKUP(H3404,'Ark1'!$C$2:$D$12,2,FALSE)","v":5}]
[3403,32,{"$f":"VLOOKUP(B3405,'Ark1'!C$2:D$11,2,FALSE)","v":2},3403,125,{"$f":"VLOOKUP(E3405,'Ark1'!$C$2:$D$11,2,FALSE)","v":5},3403,200,{"$f":"VLOOKUP(H3405,'Ark1'!$C$2:$D$12,2,FALSE)","v":5}]
[3404,32,{"$f":"VLOOKUP(B3406,'Ark1'!C$2:D$11,2,FALSE)","v":2},3404,125,{"$f":"VLOOKUP(E3406,'Ark1'!$C$2:$D$11,2,FALSE)","v":5},3404,200,{"$f":"VLOOKUP(H3406,'Ark1'!$C$2:$D$12,2,FALSE)","v":5}]
[3405,32,{"$f":"VLOOKUP(B3407,'Ark1'!C$2:D$11,2,FALSE)","v":2},3405,125,{"$f":"VLOOKUP(E3407,'Ark1'!$C$2:$D$11,2,FALSE)","v":5},3405,200,{"$f":"VLOOKUP(H3407,'Ark1'!$C$2:$D$12,2,FALSE)","v":5}]
[3406,32,{"$f":"VLOOKUP(B3408,'Ark1'!C$2:D$11,2,FALSE)","v":2},3406,125,{"$f":"VLOOKUP(E3408,'Ark1'!$C$2:$D$11,2,FALSE)","v":5},3406,200,{"$f":"VLOOKUP(H3408,'Ark1'!$C$2:$D$12,2,FALSE)","v":5}]
[3407,32,{"$f":"VLOOKUP(B3409,'Ark1'!C$2:D$11,2,FALSE)","v":2},3407,125,{"$f":"VLOOKUP(E3409,'Ark1'!$C$2:$D$11,2,FALSE)","v":5},3407,200,{"$f":"VLOOKUP(H3409,'Ark1'!$C$2:$D$12,2,FALSE)","v":5}]
[3408,32,{"$f":"VLOOKUP(B3410,'Ark1'!C$2:D$11,2,FALSE)","v":2},3408,125,{"$f":"VLOOKUP(E3410,'Ark1'!$C$2:$D$11,2,FALSE)","v":5},3408,200,{"$f":"VLOOKUP(H3410,'Ark1'!$C$2:$D$12,2,FALSE)","v":5}]
[3409,32,{"$f":"VLOOKUP(B3411,'Ark1'!C$2:D$11,2,FALSE)","v":2},3409,125,{"$f":"VLOOKUP(E3411,'Ark1'!$C$2:$D$11,2,FALSE)","v":5},3409,200,{"$f":"VLOOKUP(H3411,'Ark1'!$C$2:$D$12,2,FALSE)","v":5}]
[3410,32,{"$f":"VLOOKUP(B3412,'Ark1'!C$2:D$11,2,FALSE)","v":2},3410,125,{"$f":"VLOOKUP(E3412,'Ark1'!$C$2:$D$11,2,FALSE)","v":5},3410,200,{"$f":"VLOOKUP(H3412,'Ark1'!$C$2:$D$12,2,FALSE)","v":5}]
[3411,32,{"$f":"VLOOKUP(B3413,'Ark1'!C$2:D$11,2,FALSE)","v":2},3411,125,{"$f":"VLOOKUP(E3413,'Ark1'!$C$2:$D$11,2,FALSE)","v":5},3411,200,{"$f":"VLOOKUP(H3413,'Ark1'!$C$2:$D$12,2,FALSE)","v":5}]
[3412,32,{"$f":"VLOOKUP(B3414,'Ark1'!C$2:D$11,2,FALSE)","v":2},3412,125,{"$f":"VLOOKUP(E3414,'Ark1'!$C$2:$D$11,2,FALSE)","v":5},3412,200,{"$f":"VLOOKUP(H3414,'Ark1'!$C$2:$D$12,2,FALSE)","v":5}]
[3413,32,{"$f":"VLOOKUP(B3415,'Ark1'!C$2:D$11,2,FALSE)","v":2},3413,125,{"$f":"VLOOKUP(E3415,'Ark1'!$C$2:$D$11,2,FALSE)","v":5},3413,200,{"$f":"VLOOKUP(H3415,'Ark1'!$C$2:$D$12,2,FALSE)","v":5}]
[3414,32,{"$f":"VLOOKUP(B3416,'Ark1'!C$2:D$11,2,FALSE)","v":2},3414,125,{"$f":"VLOOKUP(E3416,'Ark1'!$C$2:$D$11,2,FALSE)","v":5},3414,200,{"$f":"VLOOKUP(H3416,'Ark1'!$C$2:$D$12,2,FALSE)","v":5}]
[3415,32,{"$f":"VLOOKUP(B3417,'Ark1'!C$2:D$11,2,FALSE)","v":2},3415,125,{"$f":"VLOOKUP(E3417,'Ark1'!$C$2:$D$11,2,FALSE)","v":5},3415,200,{"$f":"VLOOKUP(H3417,'Ark1'!$C$2:$D$12,2,FALSE)","v":5}]
[3416,32,{"$f":"VLOOKUP(B3418,'Ark1'!C$2:D$11,2,FALSE)","v":2},3416,125,{"$f":"VLOOKUP(E3418,'Ark1'!$C$2:$D$11,2,FALSE)","v":5},3416,200,{"$f":"VLOOKUP(H3418,'Ark1'!$C$2:$D$12,2,FALSE)","v":5}]
[3417,32,{"$f":"VLOOKUP(B3419,'Ark1'!C$2:D$11,2,FALSE)","v":2},3417,125,{"$f":"VLOOKUP(E3419,'Ark1'!$C$2:$D$11,2,FALSE)","v":5},3417,200,{"$f":"VLOOKUP(H3419,'Ark1'!$C$2:$D$12,2,FALSE)","v":5}]
[3418,32,{"$f":"VLOOKUP(B3420,'Ark1'!C$2:D$11,2,FALSE)","v":2},3418,125,{"$f":"VLOOKUP(E3420,'Ark1'!$C$2:$D$11,2,FALSE)","v":5},3418,200,{"$f":"VLOOKUP(H3420,'Ark1'!$C$2:$D$12,2,FALSE)","v":5}]
[3419,32,{"$f":"VLOOKUP(B3421,'Ark1'!C$2:D$11,2,FALSE)","v":2},3419,125,{"$f":"VLOOKUP(E3421,'Ark1'!$C$2:$D$11,2,FALSE)","v":5},3419,200,{"$f":"VLOOKUP(H3421,'Ark1'!$C$2:$D$12,2,FALSE)","v":5}]
[3420,32,{"$f":"VLOOKUP(B3422,'Ark1'!C$2:D$11,2,FALSE)","v":2},3420,125,{"$f":"VLOOKUP(E3422,'Ark1'!$C$2:$D$11,2,FALSE)","v":5},3420,200,{"$f":"VLOOKUP(H3422,'Ark1'!$C$2:$D$12,2,FALSE)","v":5}]
[3421,32,{"$f":"VLOOKUP(B3423,'Ark1'!C$2:D$11,2,FALSE)","v":2},3421,125,{"$f":"VLOOKUP(E3423,'Ark1'!$C$2:$D$11,2,FALSE)","v":5},3421,200,{"$f":"VLOOKUP(H3423,'Ark1'!$C$2:$D$12,2,FALSE)","v":5}]
[3422,32,{"$f":"VLOOKUP(B3424,'Ark1'!C$2:D$11,2,FALSE)","v":2},3422,125,{"$f":"VLOOKUP(E3424,'Ark1'!$C$2:$D$11,2,FALSE)","v":5},3422,200,{"$f":"VLOOKUP(H3424,'Ark1'!$C$2:$D$12,2,FALSE)","v":5}]
[3423,32,{"$f":"VLOOKUP(B3425,'Ark1'!C$2:D$11,2,FALSE)","v":2},3423,125,{"$f":"VLOOKUP(E3425,'Ark1'!$C$2:$D$11,2,FALSE)","v":5},3423,200,{"$f":"VLOOKUP(H3425,'Ark1'!$C$2:$D$12,2,FALSE)","v":5}]
[3424,32,{"$f":"VLOOKUP(B3426,'Ark1'!C$2:D$11,2,FALSE)","v":2},3424,125,{"$f":"VLOOKUP(E3426,'Ark1'!$C$2:$D$11,2,FALSE)","v":5},3424,200,{"$f":"VLOOKUP(H3426,'Ark1'!$C$2:$D$12,2,FALSE)","v":5}]
[3425,32,{"$f":"VLOOKUP(B3427,'Ark1'!C$2:D$11,2,FALSE)","v":2},3425,125,{"$f":"VLOOKUP(E3427,'Ark1'!$C$2:$D$11,2,FALSE)","v":5},3425,200,{"$f":"VLOOKUP(H3427,'Ark1'!$C$2:$D$12,2,FALSE)","v":5}]
[3426,32,{"$f":"VLOOKUP(B3428,'Ark1'!C$2:D$11,2,FALSE)","v":2},3426,125,{"$f":"VLOOKUP(E3428,'Ark1'!$C$2:$D$11,2,FALSE)","v":5},3426,200,{"$f":"VLOOKUP(H3428,'Ark1'!$C$2:$D$12,2,FALSE)","v":5}]
[3427,32,{"$f":"VLOOKUP(B3429,'Ark1'!C$2:D$11,2,FALSE)","v":2},3427,125,{"$f":"VLOOKUP(E3429,'Ark1'!$C$2:$D$11,2,FALSE)","v":5},3427,200,{"$f":"VLOOKUP(H3429,'Ark1'!$C$2:$D$12,2,FALSE)","v":5}]
[3428,32,{"$f":"VLOOKUP(B3430,'Ark1'!C$2:D$11,2,FALSE)","v":2},3428,125,{"$f":"VLOOKUP(E3430,'Ark1'!$C$2:$D$11,2,FALSE)","v":5},3428,200,{"$f":"VLOOKUP(H3430,'Ark1'!$C$2:$D$12,2,FALSE)","v":5}]
[3429,32,{"$f":"VLOOKUP(B3431,'Ark1'!C$2:D$11,2,FALSE)","v":2},3429,125,{"$f":"VLOOKUP(E3431,'Ark1'!$C$2:$D$11,2,FALSE)","v":5},3429,200,{"$f":"VLOOKUP(H3431,'Ark1'!$C$2:$D$12,2,FALSE)","v":5}]
[3430,32,{"$f":"VLOOKUP(B3432,'Ark1'!C$2:D$11,2,FALSE)","v":2},3430,125,{"$f":"VLOOKUP(E3432,'Ark1'!$C$2:$D$11,2,FALSE)","v":5},3430,200,{"$f":"VLOOKUP(H3432,'Ark1'!$C$2:$D$12,2,FALSE)","v":5}]
[3431,32,{"$f":"VLOOKUP(B3433,'Ark1'!C$2:D$11,2,FALSE)","v":2},3431,125,{"$f":"VLOOKUP(E3433,'Ark1'!$C$2:$D$11,2,FALSE)","v":5},3431,200,{"$f":"VLOOKUP(H3433,'Ark1'!$C$2:$D$12,2,FALSE)","v":5}]
[3432,32,{"$f":"VLOOKUP(B3434,'Ark1'!C$2:D$11,2,FALSE)","v":2},3432,125,{"$f":"VLOOKUP(E3434,'Ark1'!$C$2:$D$11,2,FALSE)","v":5},3432,200,{"$f":"VLOOKUP(H3434,'Ark1'!$C$2:$D$12,2,FALSE)","v":5}]
[3433,32,{"$f":"VLOOKUP(B3435,'Ark1'!C$2:D$11,2,FALSE)","v":2},3433,125,{"$f":"VLOOKUP(E3435,'Ark1'!$C$2:$D$11,2,FALSE)","v":5},3433,200,{"$f":"VLOOKUP(H3435,'Ark1'!$C$2:$D$12,2,FALSE)","v":5}]
[3434,32,{"$f":"VLOOKUP(B3436,'Ark1'!C$2:D$11,2,FALSE)","v":2},3434,125,{"$f":"VLOOKUP(E3436,'Ark1'!$C$2:$D$11,2,FALSE)","v":5},3434,200,{"$f":"VLOOKUP(H3436,'Ark1'!$C$2:$D$12,2,FALSE)","v":5}]
[3435,32,{"$f":"VLOOKUP(B3437,'Ark1'!C$2:D$11,2,FALSE)","v":2},3435,125,{"$f":"VLOOKUP(E3437,'Ark1'!$C$2:$D$11,2,FALSE)","v":5},3435,200,{"$f":"VLOOKUP(H3437,'Ark1'!$C$2:$D$12,2,FALSE)","v":5}]
[3436,32,{"$f":"VLOOKUP(B3438,'Ark1'!C$2:D$11,2,FALSE)","v":2},3436,125,{"$f":"VLOOKUP(E3438,'Ark1'!$C$2:$D$11,2,FALSE)","v":5},3436,200,{"$f":"VLOOKUP(H3438,'Ark1'!$C$2:$D$12,2,FALSE)","v":5}]
[3437,32,{"$f":"VLOOKUP(B3439,'Ark1'!C$2:D$11,2,FALSE)","v":2},3437,125,{"$f":"VLOOKUP(E3439,'Ark1'!$C$2:$D$11,2,FALSE)","v":5},3437,200,{"$f":"VLOOKUP(H3439,'Ark1'!$C$2:$D$12,2,FALSE)","v":5}]
[3438,32,{"$f":"VLOOKUP(B3440,'Ark1'!C$2:D$11,2,FALSE)","v":2},3438,125,{"$f":"VLOOKUP(E3440,'Ark1'!$C$2:$D$11,2,FALSE)","v":5},3438,200,{"$f":"VLOOKUP(H3440,'Ark1'!$C$2:$D$12,2,FALSE)","v":5}]
[3439,32,{"$f":"VLOOKUP(B3441,'Ark1'!C$2:D$11,2,FALSE)","v":2},3439,125,{"$f":"VLOOKUP(E3441,'Ark1'!$C$2:$D$11,2,FALSE)","v":5},3439,200,{"$f":"VLOOKUP(H3441,'Ark1'!$C$2:$D$12,2,FALSE)","v":5}]
[3440,32,{"$f":"VLOOKUP(B3442,'Ark1'!C$2:D$11,2,FALSE)","v":2},3440,125,{"$f":"VLOOKUP(E3442,'Ark1'!$C$2:$D$11,2,FALSE)","v":5},3440,200,{"$f":"VLOOKUP(H3442,'Ark1'!$C$2:$D$12,2,FALSE)","v":5}]
[3441,32,{"$f":"VLOOKUP(B3443,'Ark1'!C$2:D$11,2,FALSE)","v":2},3441,125,{"$f":"VLOOKUP(E3443,'Ark1'!$C$2:$D$11,2,FALSE)","v":5},3441,200,{"$f":"VLOOKUP(H3443,'Ark1'!$C$2:$D$12,2,FALSE)","v":5}]
[3442,32,{"$f":"VLOOKUP(B3444,'Ark1'!C$2:D$11,2,FALSE)","v":2},3442,125,{"$f":"VLOOKUP(E3444,'Ark1'!$C$2:$D$11,2,FALSE)","v":5},3442,200,{"$f":"VLOOKUP(H3444,'Ark1'!$C$2:$D$12,2,FALSE)","v":5}]
[3443,32,{"$f":"VLOOKUP(B3445,'Ark1'!C$2:D$11,2,FALSE)","v":2},3443,125,{"$f":"VLOOKUP(E3445,'Ark1'!$C$2:$D$11,2,FALSE)","v":5},3443,200,{"$f":"VLOOKUP(H3445,'Ark1'!$C$2:$D$12,2,FALSE)","v":5}]
[3444,32,{"$f":"VLOOKUP(B3446,'Ark1'!C$2:D$11,2,FALSE)","v":2},3444,125,{"$f":"VLOOKUP(E3446,'Ark1'!$C$2:$D$11,2,FALSE)","v":5},3444,200,{"$f":"VLOOKUP(H3446,'Ark1'!$C$2:$D$12,2,FALSE)","v":5}]
[3445,32,{"$f":"VLOOKUP(B3447,'Ark1'!C$2:D$11,2,FALSE)","v":2},3445,125,{"$f":"VLOOKUP(E3447,'Ark1'!$C$2:$D$11,2,FALSE)","v":5},3445,200,{"$f":"VLOOKUP(H3447,'Ark1'!$C$2:$D$12,2,FALSE)","v":5}]
[3446,32,{"$f":"VLOOKUP(B3448,'Ark1'!C$2:D$11,2,FALSE)","v":2},3446,125,{"$f":"VLOOKUP(E3448,'Ark1'!$C$2:$D$11,2,FALSE)","v":5},3446,200,{"$f":"VLOOKUP(H3448,'Ark1'!$C$2:$D$12,2,FALSE)","v":5}]
[3447,32,{"$f":"VLOOKUP(B3449,'Ark1'!C$2:D$11,2,FALSE)","v":2},3447,125,{"$f":"VLOOKUP(E3449,'Ark1'!$C$2:$D$11,2,FALSE)","v":5},3447,200,{"$f":"VLOOKUP(H3449,'Ark1'!$C$2:$D$12,2,FALSE)","v":5}]
[3448,32,{"$f":"VLOOKUP(B3450,'Ark1'!C$2:D$11,2,FALSE)","v":2},3448,125,{"$f":"VLOOKUP(E3450,'Ark1'!$C$2:$D$11,2,FALSE)","v":5},3448,200,{"$f":"VLOOKUP(H3450,'Ark1'!$C$2:$D$12,2,FALSE)","v":5}]
[3449,32,{"$f":"VLOOKUP(B3451,'Ark1'!C$2:D$11,2,FALSE)","v":2},3449,125,{"$f":"VLOOKUP(E3451,'Ark1'!$C$2:$D$11,2,FALSE)","v":5},3449,200,{"$f":"VLOOKUP(H3451,'Ark1'!$C$2:$D$12,2,FALSE)","v":5}]
[3450,32,{"$f":"VLOOKUP(B3452,'Ark1'!C$2:D$11,2,FALSE)","v":2},3450,125,{"$f":"VLOOKUP(E3452,'Ark1'!$C$2:$D$11,2,FALSE)","v":5},3450,200,{"$f":"VLOOKUP(H3452,'Ark1'!$C$2:$D$12,2,FALSE)","v":5}]
[3451,32,{"$f":"VLOOKUP(B3453,'Ark1'!C$2:D$11,2,FALSE)","v":2},3451,125,{"$f":"VLOOKUP(E3453,'Ark1'!$C$2:$D$11,2,FALSE)","v":5},3451,200,{"$f":"VLOOKUP(H3453,'Ark1'!$C$2:$D$12,2,FALSE)","v":5}]
[3452,32,{"$f":"VLOOKUP(B3454,'Ark1'!C$2:D$11,2,FALSE)","v":2},3452,125,{"$f":"VLOOKUP(E3454,'Ark1'!$C$2:$D$11,2,FALSE)","v":5},3452,200,{"$f":"VLOOKUP(H3454,'Ark1'!$C$2:$D$12,2,FALSE)","v":5}]
[3453,32,{"$f":"VLOOKUP(B3455,'Ark1'!C$2:D$11,2,FALSE)","v":2},3453,125,{"$f":"VLOOKUP(E3455,'Ark1'!$C$2:$D$11,2,FALSE)","v":5},3453,200,{"$f":"VLOOKUP(H3455,'Ark1'!$C$2:$D$12,2,FALSE)","v":5}]
[3454,32,{"$f":"VLOOKUP(B3456,'Ark1'!C$2:D$11,2,FALSE)","v":2},3454,125,{"$f":"VLOOKUP(E3456,'Ark1'!$C$2:$D$11,2,FALSE)","v":5},3454,200,{"$f":"VLOOKUP(H3456,'Ark1'!$C$2:$D$12,2,FALSE)","v":5}]
[3455,32,{"$f":"VLOOKUP(B3457,'Ark1'!C$2:D$11,2,FALSE)","v":2},3455,125,{"$f":"VLOOKUP(E3457,'Ark1'!$C$2:$D$11,2,FALSE)","v":5},3455,200,{"$f":"VLOOKUP(H3457,'Ark1'!$C$2:$D$12,2,FALSE)","v":5}]
[3456,32,{"$f":"VLOOKUP(B3458,'Ark1'!C$2:D$11,2,FALSE)","v":2},3456,125,{"$f":"VLOOKUP(E3458,'Ark1'!$C$2:$D$11,2,FALSE)","v":5},3456,200,{"$f":"VLOOKUP(H3458,'Ark1'!$C$2:$D$12,2,FALSE)","v":5}]
[3457,32,{"$f":"VLOOKUP(B3459,'Ark1'!C$2:D$11,2,FALSE)","v":2},3457,125,{"$f":"VLOOKUP(E3459,'Ark1'!$C$2:$D$11,2,FALSE)","v":5},3457,200,{"$f":"VLOOKUP(H3459,'Ark1'!$C$2:$D$12,2,FALSE)","v":5}]
[3458,32,{"$f":"VLOOKUP(B3460,'Ark1'!C$2:D$11,2,FALSE)","v":2},3458,125,{"$f":"VLOOKUP(E3460,'Ark1'!$C$2:$D$11,2,FALSE)","v":5},3458,200,{"$f":"VLOOKUP(H3460,'Ark1'!$C$2:$D$12,2,FALSE)","v":5}]
[3459,32,{"$f":"VLOOKUP(B3461,'Ark1'!C$2:D$11,2,FALSE)","v":2},3459,125,{"$f":"VLOOKUP(E3461,'Ark1'!$C$2:$D$11,2,FALSE)","v":5},3459,200,{"$f":"VLOOKUP(H3461,'Ark1'!$C$2:$D$12,2,FALSE)","v":5}]
[3460,32,{"$f":"VLOOKUP(B3462,'Ark1'!C$2:D$11,2,FALSE)","v":2},3460,125,{"$f":"VLOOKUP(E3462,'Ark1'!$C$2:$D$11,2,FALSE)","v":5},3460,200,{"$f":"VLOOKUP(H3462,'Ark1'!$C$2:$D$12,2,FALSE)","v":5}]
[3461,32,{"$f":"VLOOKUP(B3463,'Ark1'!C$2:D$11,2,FALSE)","v":2},3461,125,{"$f":"VLOOKUP(E3463,'Ark1'!$C$2:$D$11,2,FALSE)","v":5},3461,200,{"$f":"VLOOKUP(H3463,'Ark1'!$C$2:$D$12,2,FALSE)","v":5}]
[3462,32,{"$f":"VLOOKUP(B3464,'Ark1'!C$2:D$11,2,FALSE)","v":2},3462,125,{"$f":"VLOOKUP(E3464,'Ark1'!$C$2:$D$11,2,FALSE)","v":5},3462,200,{"$f":"VLOOKUP(H3464,'Ark1'!$C$2:$D$12,2,FALSE)","v":5}]
[3463,32,{"$f":"VLOOKUP(B3465,'Ark1'!C$2:D$11,2,FALSE)","v":2},3463,125,{"$f":"VLOOKUP(E3465,'Ark1'!$C$2:$D$11,2,FALSE)","v":5},3463,200,{"$f":"VLOOKUP(H3465,'Ark1'!$C$2:$D$12,2,FALSE)","v":5}]
[3464,32,{"$f":"VLOOKUP(B3466,'Ark1'!C$2:D$11,2,FALSE)","v":2},3464,125,{"$f":"VLOOKUP(E3466,'Ark1'!$C$2:$D$11,2,FALSE)","v":5},3464,200,{"$f":"VLOOKUP(H3466,'Ark1'!$C$2:$D$12,2,FALSE)","v":5}]
[3465,32,{"$f":"VLOOKUP(B3467,'Ark1'!C$2:D$11,2,FALSE)","v":2},3465,125,{"$f":"VLOOKUP(E3467,'Ark1'!$C$2:$D$11,2,FALSE)","v":5},3465,200,{"$f":"VLOOKUP(H3467,'Ark1'!$C$2:$D$12,2,FALSE)","v":5}]
[3466,32,{"$f":"VLOOKUP(B3468,'Ark1'!C$2:D$11,2,FALSE)","v":2},3466,125,{"$f":"VLOOKUP(E3468,'Ark1'!$C$2:$D$11,2,FALSE)","v":5},3466,200,{"$f":"VLOOKUP(H3468,'Ark1'!$C$2:$D$12,2,FALSE)","v":5}]
[3467,32,{"$f":"VLOOKUP(B3469,'Ark1'!C$2:D$11,2,FALSE)","v":2},3467,125,{"$f":"VLOOKUP(E3469,'Ark1'!$C$2:$D$11,2,FALSE)","v":5},3467,200,{"$f":"VLOOKUP(H3469,'Ark1'!$C$2:$D$12,2,FALSE)","v":5}]
[3468,32,{"$f":"VLOOKUP(B3470,'Ark1'!C$2:D$11,2,FALSE)","v":2},3468,125,{"$f":"VLOOKUP(E3470,'Ark1'!$C$2:$D$11,2,FALSE)","v":5},3468,200,{"$f":"VLOOKUP(H3470,'Ark1'!$C$2:$D$12,2,FALSE)","v":5}]
[3469,32,{"$f":"VLOOKUP(B3471,'Ark1'!C$2:D$11,2,FALSE)","v":2},3469,125,{"$f":"VLOOKUP(E3471,'Ark1'!$C$2:$D$11,2,FALSE)","v":5},3469,200,{"$f":"VLOOKUP(H3471,'Ark1'!$C$2:$D$12,2,FALSE)","v":5}]
[3470,32,{"$f":"VLOOKUP(B3472,'Ark1'!C$2:D$11,2,FALSE)","v":2},3470,125,{"$f":"VLOOKUP(E3472,'Ark1'!$C$2:$D$11,2,FALSE)","v":5},3470,200,{"$f":"VLOOKUP(H3472,'Ark1'!$C$2:$D$12,2,FALSE)","v":5}]
[3471,32,{"$f":"VLOOKUP(B3473,'Ark1'!C$2:D$11,2,FALSE)","v":2},3471,125,{"$f":"VLOOKUP(E3473,'Ark1'!$C$2:$D$11,2,FALSE)","v":5},3471,200,{"$f":"VLOOKUP(H3473,'Ark1'!$C$2:$D$12,2,FALSE)","v":5}]
[3472,32,{"$f":"VLOOKUP(B3474,'Ark1'!C$2:D$11,2,FALSE)","v":2},3472,125,{"$f":"VLOOKUP(E3474,'Ark1'!$C$2:$D$11,2,FALSE)","v":5},3472,200,{"$f":"VLOOKUP(H3474,'Ark1'!$C$2:$D$12,2,FALSE)","v":5}]
[3473,32,{"$f":"VLOOKUP(B3475,'Ark1'!C$2:D$11,2,FALSE)","v":2},3473,125,{"$f":"VLOOKUP(E3475,'Ark1'!$C$2:$D$11,2,FALSE)","v":5},3473,200,{"$f":"VLOOKUP(H3475,'Ark1'!$C$2:$D$12,2,FALSE)","v":5}]
[3474,32,{"$f":"VLOOKUP(B3476,'Ark1'!C$2:D$11,2,FALSE)","v":2},3474,125,{"$f":"VLOOKUP(E3476,'Ark1'!$C$2:$D$11,2,FALSE)","v":5},3474,200,{"$f":"VLOOKUP(H3476,'Ark1'!$C$2:$D$12,2,FALSE)","v":5}]
[3475,32,{"$f":"VLOOKUP(B3477,'Ark1'!C$2:D$11,2,FALSE)","v":2},3475,125,{"$f":"VLOOKUP(E3477,'Ark1'!$C$2:$D$11,2,FALSE)","v":5},3475,200,{"$f":"VLOOKUP(H3477,'Ark1'!$C$2:$D$12,2,FALSE)","v":5}]
[3476,32,{"$f":"VLOOKUP(B3478,'Ark1'!C$2:D$11,2,FALSE)","v":2},3476,125,{"$f":"VLOOKUP(E3478,'Ark1'!$C$2:$D$11,2,FALSE)","v":5},3476,200,{"$f":"VLOOKUP(H3478,'Ark1'!$C$2:$D$12,2,FALSE)","v":5}]
[3477,32,{"$f":"VLOOKUP(B3479,'Ark1'!C$2:D$11,2,FALSE)","v":2},3477,125,{"$f":"VLOOKUP(E3479,'Ark1'!$C$2:$D$11,2,FALSE)","v":5},3477,200,{"$f":"VLOOKUP(H3479,'Ark1'!$C$2:$D$12,2,FALSE)","v":5}]
[3478,32,{"$f":"VLOOKUP(B3480,'Ark1'!C$2:D$11,2,FALSE)","v":2},3478,125,{"$f":"VLOOKUP(E3480,'Ark1'!$C$2:$D$11,2,FALSE)","v":5},3478,200,{"$f":"VLOOKUP(H3480,'Ark1'!$C$2:$D$12,2,FALSE)","v":5}]
[3479,32,{"$f":"VLOOKUP(B3481,'Ark1'!C$2:D$11,2,FALSE)","v":2},3479,125,{"$f":"VLOOKUP(E3481,'Ark1'!$C$2:$D$11,2,FALSE)","v":5},3479,200,{"$f":"VLOOKUP(H3481,'Ark1'!$C$2:$D$12,2,FALSE)","v":5}]
[3480,32,{"$f":"VLOOKUP(B3482,'Ark1'!C$2:D$11,2,FALSE)","v":2},3480,125,{"$f":"VLOOKUP(E3482,'Ark1'!$C$2:$D$11,2,FALSE)","v":5},3480,200,{"$f":"VLOOKUP(H3482,'Ark1'!$C$2:$D$12,2,FALSE)","v":5}]
[3481,32,{"$f":"VLOOKUP(B3483,'Ark1'!C$2:D$11,2,FALSE)","v":2},3481,125,{"$f":"VLOOKUP(E3483,'Ark1'!$C$2:$D$11,2,FALSE)","v":5},3481,200,{"$f":"VLOOKUP(H3483,'Ark1'!$C$2:$D$12,2,FALSE)","v":5}]
[3482,32,{"$f":"VLOOKUP(B3484,'Ark1'!C$2:D$11,2,FALSE)","v":2},3482,125,{"$f":"VLOOKUP(E3484,'Ark1'!$C$2:$D$11,2,FALSE)","v":5},3482,200,{"$f":"VLOOKUP(H3484,'Ark1'!$C$2:$D$12,2,FALSE)","v":5}]
[3483,32,{"$f":"VLOOKUP(B3485,'Ark1'!C$2:D$11,2,FALSE)","v":2},3483,125,{"$f":"VLOOKUP(E3485,'Ark1'!$C$2:$D$11,2,FALSE)","v":5},3483,200,{"$f":"VLOOKUP(H3485,'Ark1'!$C$2:$D$12,2,FALSE)","v":5}]
[3484,32,{"$f":"VLOOKUP(B3486,'Ark1'!C$2:D$11,2,FALSE)","v":2},3484,125,{"$f":"VLOOKUP(E3486,'Ark1'!$C$2:$D$11,2,FALSE)","v":5},3484,200,{"$f":"VLOOKUP(H3486,'Ark1'!$C$2:$D$12,2,FALSE)","v":5}]
[3485,32,{"$f":"VLOOKUP(B3487,'Ark1'!C$2:D$11,2,FALSE)","v":2},3485,125,{"$f":"VLOOKUP(E3487,'Ark1'!$C$2:$D$11,2,FALSE)","v":5},3485,200,{"$f":"VLOOKUP(H3487,'Ark1'!$C$2:$D$12,2,FALSE)","v":5}]
[3486,32,{"$f":"VLOOKUP(B3488,'Ark1'!C$2:D$11,2,FALSE)","v":2},3486,125,{"$f":"VLOOKUP(E3488,'Ark1'!$C$2:$D$11,2,FALSE)","v":5},3486,200,{"$f":"VLOOKUP(H3488,'Ark1'!$C$2:$D$12,2,FALSE)","v":5}]
[3487,32,{"$f":"VLOOKUP(B3489,'Ark1'!C$2:D$11,2,FALSE)","v":2},3487,125,{"$f":"VLOOKUP(E3489,'Ark1'!$C$2:$D$11,2,FALSE)","v":5},3487,200,{"$f":"VLOOKUP(H3489,'Ark1'!$C$2:$D$12,2,FALSE)","v":5}]
[3488,32,{"$f":"VLOOKUP(B3490,'Ark1'!C$2:D$11,2,FALSE)","v":2},3488,125,{"$f":"VLOOKUP(E3490,'Ark1'!$C$2:$D$11,2,FALSE)","v":5},3488,200,{"$f":"VLOOKUP(H3490,'Ark1'!$C$2:$D$12,2,FALSE)","v":5}]
[3489,32,{"$f":"VLOOKUP(B3491,'Ark1'!C$2:D$11,2,FALSE)","v":2},3489,125,{"$f":"VLOOKUP(E3491,'Ark1'!$C$2:$D$11,2,FALSE)","v":5},3489,200,{"$f":"VLOOKUP(H3491,'Ark1'!$C$2:$D$12,2,FALSE)","v":5}]
[3490,32,{"$f":"VLOOKUP(B3492,'Ark1'!C$2:D$11,2,FALSE)","v":2},3490,125,{"$f":"VLOOKUP(E3492,'Ark1'!$C$2:$D$11,2,FALSE)","v":5},3490,200,{"$f":"VLOOKUP(H3492,'Ark1'!$C$2:$D$12,2,FALSE)","v":5}]
[3491,32,{"$f":"VLOOKUP(B3493,'Ark1'!C$2:D$11,2,FALSE)","v":2},3491,125,{"$f":"VLOOKUP(E3493,'Ark1'!$C$2:$D$11,2,FALSE)","v":5},3491,200,{"$f":"VLOOKUP(H3493,'Ark1'!$C$2:$D$12,2,FALSE)","v":5}]
[3492,32,{"$f":"VLOOKUP(B3494,'Ark1'!C$2:D$11,2,FALSE)","v":2},3492,125,{"$f":"VLOOKUP(E3494,'Ark1'!$C$2:$D$11,2,FALSE)","v":5},3492,200,{"$f":"VLOOKUP(H3494,'Ark1'!$C$2:$D$12,2,FALSE)","v":5}]
[3493,32,{"$f":"VLOOKUP(B3495,'Ark1'!C$2:D$11,2,FALSE)","v":2},3493,125,{"$f":"VLOOKUP(E3495,'Ark1'!$C$2:$D$11,2,FALSE)","v":5},3493,200,{"$f":"VLOOKUP(H3495,'Ark1'!$C$2:$D$12,2,FALSE)","v":5}]
[3494,32,{"$f":"VLOOKUP(B3496,'Ark1'!C$2:D$11,2,FALSE)","v":2},3494,125,{"$f":"VLOOKUP(E3496,'Ark1'!$C$2:$D$11,2,FALSE)","v":5},3494,200,{"$f":"VLOOKUP(H3496,'Ark1'!$C$2:$D$12,2,FALSE)","v":5}]
[3495,32,{"$f":"VLOOKUP(B3497,'Ark1'!C$2:D$11,2,FALSE)","v":2},3495,125,{"$f":"VLOOKUP(E3497,'Ark1'!$C$2:$D$11,2,FALSE)","v":5},3495,200,{"$f":"VLOOKUP(H3497,'Ark1'!$C$2:$D$12,2,FALSE)","v":5}]
[3496,32,{"$f":"VLOOKUP(B3498,'Ark1'!C$2:D$11,2,FALSE)","v":2},3496,125,{"$f":"VLOOKUP(E3498,'Ark1'!$C$2:$D$11,2,FALSE)","v":5},3496,200,{"$f":"VLOOKUP(H3498,'Ark1'!$C$2:$D$12,2,FALSE)","v":5}]
[3497,32,{"$f":"VLOOKUP(B3499,'Ark1'!C$2:D$11,2,FALSE)","v":2},3497,125,{"$f":"VLOOKUP(E3499,'Ark1'!$C$2:$D$11,2,FALSE)","v":5},3497,200,{"$f":"VLOOKUP(H3499,'Ark1'!$C$2:$D$12,2,FALSE)","v":5}]
[3498,32,{"$f":"VLOOKUP(B3500,'Ark1'!C$2:D$11,2,FALSE)","v":2},3498,125,{"$f":"VLOOKUP(E3500,'Ark1'!$C$2:$D$11,2,FALSE)","v":5},3498,200,{"$f":"VLOOKUP(H3500,'Ark1'!$C$2:$D$12,2,FALSE)","v":5}]
[3499,32,{"$f":"VLOOKUP(B3501,'Ark1'!C$2:D$11,2,FALSE)","v":2},3499,125,{"$f":"VLOOKUP(E3501,'Ark1'!$C$2:$D$11,2,FALSE)","v":5},3499,200,{"$f":"VLOOKUP(H3501,'Ark1'!$C$2:$D$12,2,FALSE)","v":5}]
[3500,32,{"$f":"VLOOKUP(B3502,'Ark1'!C$2:D$11,2,FALSE)","v":2},3500,125,{"$f":"VLOOKUP(E3502,'Ark1'!$C$2:$D$11,2,FALSE)","v":5},3500,200,{"$f":"VLOOKUP(H3502,'Ark1'!$C$2:$D$12,2,FALSE)","v":5}]
[3501,32,{"$f":"VLOOKUP(B3503,'Ark1'!C$2:D$11,2,FALSE)","v":2},3501,125,{"$f":"VLOOKUP(E3503,'Ark1'!$C$2:$D$11,2,FALSE)","v":5},3501,200,{"$f":"VLOOKUP(H3503,'Ark1'!$C$2:$D$12,2,FALSE)","v":5}]
[3502,32,{"$f":"VLOOKUP(B3504,'Ark1'!C$2:D$11,2,FALSE)","v":2},3502,125,{"$f":"VLOOKUP(E3504,'Ark1'!$C$2:$D$11,2,FALSE)","v":5},3502,200,{"$f":"VLOOKUP(H3504,'Ark1'!$C$2:$D$12,2,FALSE)","v":5}]
[3503,32,{"$f":"VLOOKUP(B3505,'Ark1'!C$2:D$11,2,FALSE)","v":2},3503,125,{"$f":"VLOOKUP(E3505,'Ark1'!$C$2:$D$11,2,FALSE)","v":5},3503,200,{"$f":"VLOOKUP(H3505,'Ark1'!$C$2:$D$12,2,FALSE)","v":5}]
[3504,32,{"$f":"VLOOKUP(B3506,'Ark1'!C$2:D$11,2,FALSE)","v":2},3504,125,{"$f":"VLOOKUP(E3506,'Ark1'!$C$2:$D$11,2,FALSE)","v":5},3504,200,{"$f":"VLOOKUP(H3506,'Ark1'!$C$2:$D$12,2,FALSE)","v":5}]
[3505,32,{"$f":"VLOOKUP(B3507,'Ark1'!C$2:D$11,2,FALSE)","v":2},3505,125,{"$f":"VLOOKUP(E3507,'Ark1'!$C$2:$D$11,2,FALSE)","v":5},3505,200,{"$f":"VLOOKUP(H3507,'Ark1'!$C$2:$D$12,2,FALSE)","v":5}]
[3506,32,{"$f":"VLOOKUP(B3508,'Ark1'!C$2:D$11,2,FALSE)","v":2},3506,125,{"$f":"VLOOKUP(E3508,'Ark1'!$C$2:$D$11,2,FALSE)","v":5},3506,200,{"$f":"VLOOKUP(H3508,'Ark1'!$C$2:$D$12,2,FALSE)","v":5}]
[3507,32,{"$f":"VLOOKUP(B3509,'Ark1'!C$2:D$11,2,FALSE)","v":2},3507,125,{"$f":"VLOOKUP(E3509,'Ark1'!$C$2:$D$11,2,FALSE)","v":5},3507,200,{"$f":"VLOOKUP(H3509,'Ark1'!$C$2:$D$12,2,FALSE)","v":5}]
[3508,32,{"$f":"VLOOKUP(B3510,'Ark1'!C$2:D$11,2,FALSE)","v":2},3508,125,{"$f":"VLOOKUP(E3510,'Ark1'!$C$2:$D$11,2,FALSE)","v":5},3508,200,{"$f":"VLOOKUP(H3510,'Ark1'!$C$2:$D$12,2,FALSE)","v":5}]
[3509,32,{"$f":"VLOOKUP(B3511,'Ark1'!C$2:D$11,2,FALSE)","v":2},3509,125,{"$f":"VLOOKUP(E3511,'Ark1'!$C$2:$D$11,2,FALSE)","v":5},3509,200,{"$f":"VLOOKUP(H3511,'Ark1'!$C$2:$D$12,2,FALSE)","v":5}]
[3510,32,{"$f":"VLOOKUP(B3512,'Ark1'!C$2:D$11,2,FALSE)","v":2},3510,125,{"$f":"VLOOKUP(E3512,'Ark1'!$C$2:$D$11,2,FALSE)","v":5},3510,200,{"$f":"VLOOKUP(H3512,'Ark1'!$C$2:$D$12,2,FALSE)","v":5}]
[3511,32,{"$f":"VLOOKUP(B3513,'Ark1'!C$2:D$11,2,FALSE)","v":2},3511,125,{"$f":"VLOOKUP(E3513,'Ark1'!$C$2:$D$11,2,FALSE)","v":5},3511,200,{"$f":"VLOOKUP(H3513,'Ark1'!$C$2:$D$12,2,FALSE)","v":5}]
[3512,32,{"$f":"VLOOKUP(B3514,'Ark1'!C$2:D$11,2,FALSE)","v":2},3512,125,{"$f":"VLOOKUP(E3514,'Ark1'!$C$2:$D$11,2,FALSE)","v":5},3512,200,{"$f":"VLOOKUP(H3514,'Ark1'!$C$2:$D$12,2,FALSE)","v":5}]
[3513,32,{"$f":"VLOOKUP(B3515,'Ark1'!C$2:D$11,2,FALSE)","v":2},3513,125,{"$f":"VLOOKUP(E3515,'Ark1'!$C$2:$D$11,2,FALSE)","v":5},3513,200,{"$f":"VLOOKUP(H3515,'Ark1'!$C$2:$D$12,2,FALSE)","v":5}]
[3514,32,{"$f":"VLOOKUP(B3516,'Ark1'!C$2:D$11,2,FALSE)","v":2},3514,125,{"$f":"VLOOKUP(E3516,'Ark1'!$C$2:$D$11,2,FALSE)","v":5},3514,200,{"$f":"VLOOKUP(H3516,'Ark1'!$C$2:$D$12,2,FALSE)","v":5}]
[3515,32,{"$f":"VLOOKUP(B3517,'Ark1'!C$2:D$11,2,FALSE)","v":2},3515,125,{"$f":"VLOOKUP(E3517,'Ark1'!$C$2:$D$11,2,FALSE)","v":5},3515,200,{"$f":"VLOOKUP(H3517,'Ark1'!$C$2:$D$12,2,FALSE)","v":5}]
[3516,32,{"$f":"VLOOKUP(B3518,'Ark1'!C$2:D$11,2,FALSE)","v":2},3516,125,{"$f":"VLOOKUP(E3518,'Ark1'!$C$2:$D$11,2,FALSE)","v":5},3516,200,{"$f":"VLOOKUP(H3518,'Ark1'!$C$2:$D$12,2,FALSE)","v":5}]
[3517,32,{"$f":"VLOOKUP(B3519,'Ark1'!C$2:D$11,2,FALSE)","v":2},3517,125,{"$f":"VLOOKUP(E3519,'Ark1'!$C$2:$D$11,2,FALSE)","v":5},3517,200,{"$f":"VLOOKUP(H3519,'Ark1'!$C$2:$D$12,2,FALSE)","v":5}]
[3518,32,{"$f":"VLOOKUP(B3520,'Ark1'!C$2:D$11,2,FALSE)","v":2},3518,125,{"$f":"VLOOKUP(E3520,'Ark1'!$C$2:$D$11,2,FALSE)","v":5},3518,200,{"$f":"VLOOKUP(H3520,'Ark1'!$C$2:$D$12,2,FALSE)","v":5}]
[3519,32,{"$f":"VLOOKUP(B3521,'Ark1'!C$2:D$11,2,FALSE)","v":2},3519,125,{"$f":"VLOOKUP(E3521,'Ark1'!$C$2:$D$11,2,FALSE)","v":5},3519,200,{"$f":"VLOOKUP(H3521,'Ark1'!$C$2:$D$12,2,FALSE)","v":5}]
[3520,32,{"$f":"VLOOKUP(B3522,'Ark1'!C$2:D$11,2,FALSE)","v":2},3520,125,{"$f":"VLOOKUP(E3522,'Ark1'!$C$2:$D$11,2,FALSE)","v":5},3520,200,{"$f":"VLOOKUP(H3522,'Ark1'!$C$2:$D$12,2,FALSE)","v":5}]
[3521,32,{"$f":"VLOOKUP(B3523,'Ark1'!C$2:D$11,2,FALSE)","v":2},3521,125,{"$f":"VLOOKUP(E3523,'Ark1'!$C$2:$D$11,2,FALSE)","v":5},3521,200,{"$f":"VLOOKUP(H3523,'Ark1'!$C$2:$D$12,2,FALSE)","v":5}]
[3522,32,{"$f":"VLOOKUP(B3524,'Ark1'!C$2:D$11,2,FALSE)","v":2},3522,125,{"$f":"VLOOKUP(E3524,'Ark1'!$C$2:$D$11,2,FALSE)","v":5},3522,200,{"$f":"VLOOKUP(H3524,'Ark1'!$C$2:$D$12,2,FALSE)","v":5}]
[3523,32,{"$f":"VLOOKUP(B3525,'Ark1'!C$2:D$11,2,FALSE)","v":2},3523,125,{"$f":"VLOOKUP(E3525,'Ark1'!$C$2:$D$11,2,FALSE)","v":5},3523,200,{"$f":"VLOOKUP(H3525,'Ark1'!$C$2:$D$12,2,FALSE)","v":5}]
[3524,32,{"$f":"VLOOKUP(B3526,'Ark1'!C$2:D$11,2,FALSE)","v":2},3524,125,{"$f":"VLOOKUP(E3526,'Ark1'!$C$2:$D$11,2,FALSE)","v":5},3524,200,{"$f":"VLOOKUP(H3526,'Ark1'!$C$2:$D$12,2,FALSE)","v":5}]
[3525,32,{"$f":"VLOOKUP(B3527,'Ark1'!C$2:D$11,2,FALSE)","v":2},3525,125,{"$f":"VLOOKUP(E3527,'Ark1'!$C$2:$D$11,2,FALSE)","v":5},3525,200,{"$f":"VLOOKUP(H3527,'Ark1'!$C$2:$D$12,2,FALSE)","v":5}]
[3526,32,{"$f":"VLOOKUP(B3528,'Ark1'!C$2:D$11,2,FALSE)","v":2},3526,125,{"$f":"VLOOKUP(E3528,'Ark1'!$C$2:$D$11,2,FALSE)","v":5},3526,200,{"$f":"VLOOKUP(H3528,'Ark1'!$C$2:$D$12,2,FALSE)","v":5}]
[3527,32,{"$f":"VLOOKUP(B3529,'Ark1'!C$2:D$11,2,FALSE)","v":2},3527,125,{"$f":"VLOOKUP(E3529,'Ark1'!$C$2:$D$11,2,FALSE)","v":5},3527,200,{"$f":"VLOOKUP(H3529,'Ark1'!$C$2:$D$12,2,FALSE)","v":5}]
[3528,32,{"$f":"VLOOKUP(B3530,'Ark1'!C$2:D$11,2,FALSE)","v":2},3528,125,{"$f":"VLOOKUP(E3530,'Ark1'!$C$2:$D$11,2,FALSE)","v":5},3528,200,{"$f":"VLOOKUP(H3530,'Ark1'!$C$2:$D$12,2,FALSE)","v":5}]
[3529,32,{"$f":"VLOOKUP(B3531,'Ark1'!C$2:D$11,2,FALSE)","v":2},3529,125,{"$f":"VLOOKUP(E3531,'Ark1'!$C$2:$D$11,2,FALSE)","v":5},3529,200,{"$f":"VLOOKUP(H3531,'Ark1'!$C$2:$D$12,2,FALSE)","v":5}]
[3530,32,{"$f":"VLOOKUP(B3532,'Ark1'!C$2:D$11,2,FALSE)","v":2},3530,125,{"$f":"VLOOKUP(E3532,'Ark1'!$C$2:$D$11,2,FALSE)","v":5},3530,200,{"$f":"VLOOKUP(H3532,'Ark1'!$C$2:$D$12,2,FALSE)","v":5}]
[3531,32,{"$f":"VLOOKUP(B3533,'Ark1'!C$2:D$11,2,FALSE)","v":2},3531,125,{"$f":"VLOOKUP(E3533,'Ark1'!$C$2:$D$11,2,FALSE)","v":5},3531,200,{"$f":"VLOOKUP(H3533,'Ark1'!$C$2:$D$12,2,FALSE)","v":5}]
[3532,32,{"$f":"VLOOKUP(B3534,'Ark1'!C$2:D$11,2,FALSE)","v":2},3532,125,{"$f":"VLOOKUP(E3534,'Ark1'!$C$2:$D$11,2,FALSE)","v":5},3532,200,{"$f":"VLOOKUP(H3534,'Ark1'!$C$2:$D$12,2,FALSE)","v":5}]
[3533,32,{"$f":"VLOOKUP(B3535,'Ark1'!C$2:D$11,2,FALSE)","v":2},3533,125,{"$f":"VLOOKUP(E3535,'Ark1'!$C$2:$D$11,2,FALSE)","v":5},3533,200,{"$f":"VLOOKUP(H3535,'Ark1'!$C$2:$D$12,2,FALSE)","v":5}]
[3534,32,{"$f":"VLOOKUP(B3536,'Ark1'!C$2:D$11,2,FALSE)","v":2},3534,125,{"$f":"VLOOKUP(E3536,'Ark1'!$C$2:$D$11,2,FALSE)","v":5},3534,200,{"$f":"VLOOKUP(H3536,'Ark1'!$C$2:$D$12,2,FALSE)","v":5}]
[3535,32,{"$f":"VLOOKUP(B3537,'Ark1'!C$2:D$11,2,FALSE)","v":2},3535,125,{"$f":"VLOOKUP(E3537,'Ark1'!$C$2:$D$11,2,FALSE)","v":5},3535,200,{"$f":"VLOOKUP(H3537,'Ark1'!$C$2:$D$12,2,FALSE)","v":5}]
[3536,32,{"$f":"VLOOKUP(B3538,'Ark1'!C$2:D$11,2,FALSE)","v":2},3536,125,{"$f":"VLOOKUP(E3538,'Ark1'!$C$2:$D$11,2,FALSE)","v":5},3536,200,{"$f":"VLOOKUP(H3538,'Ark1'!$C$2:$D$12,2,FALSE)","v":5}]
[3537,32,{"$f":"VLOOKUP(B3539,'Ark1'!C$2:D$11,2,FALSE)","v":2},3537,125,{"$f":"VLOOKUP(E3539,'Ark1'!$C$2:$D$11,2,FALSE)","v":5},3537,200,{"$f":"VLOOKUP(H3539,'Ark1'!$C$2:$D$12,2,FALSE)","v":5}]
[3538,32,{"$f":"VLOOKUP(B3540,'Ark1'!C$2:D$11,2,FALSE)","v":2},3538,125,{"$f":"VLOOKUP(E3540,'Ark1'!$C$2:$D$11,2,FALSE)","v":5},3538,200,{"$f":"VLOOKUP(H3540,'Ark1'!$C$2:$D$12,2,FALSE)","v":5}]
[3539,32,{"$f":"VLOOKUP(B3541,'Ark1'!C$2:D$11,2,FALSE)","v":2},3539,125,{"$f":"VLOOKUP(E3541,'Ark1'!$C$2:$D$11,2,FALSE)","v":5},3539,200,{"$f":"VLOOKUP(H3541,'Ark1'!$C$2:$D$12,2,FALSE)","v":5}]
[3540,32,{"$f":"VLOOKUP(B3542,'Ark1'!C$2:D$11,2,FALSE)","v":2},3540,125,{"$f":"VLOOKUP(E3542,'Ark1'!$C$2:$D$11,2,FALSE)","v":5},3540,200,{"$f":"VLOOKUP(H3542,'Ark1'!$C$2:$D$12,2,FALSE)","v":5}]
[3541,32,{"$f":"VLOOKUP(B3543,'Ark1'!C$2:D$11,2,FALSE)","v":2},3541,125,{"$f":"VLOOKUP(E3543,'Ark1'!$C$2:$D$11,2,FALSE)","v":5},3541,200,{"$f":"VLOOKUP(H3543,'Ark1'!$C$2:$D$12,2,FALSE)","v":5}]
[3542,32,{"$f":"VLOOKUP(B3544,'Ark1'!C$2:D$11,2,FALSE)","v":2},3542,125,{"$f":"VLOOKUP(E3544,'Ark1'!$C$2:$D$11,2,FALSE)","v":5},3542,200,{"$f":"VLOOKUP(H3544,'Ark1'!$C$2:$D$12,2,FALSE)","v":5}]
[3543,32,{"$f":"VLOOKUP(B3545,'Ark1'!C$2:D$11,2,FALSE)","v":2},3543,125,{"$f":"VLOOKUP(E3545,'Ark1'!$C$2:$D$11,2,FALSE)","v":5},3543,200,{"$f":"VLOOKUP(H3545,'Ark1'!$C$2:$D$12,2,FALSE)","v":5}]
[3544,32,{"$f":"VLOOKUP(B3546,'Ark1'!C$2:D$11,2,FALSE)","v":2},3544,125,{"$f":"VLOOKUP(E3546,'Ark1'!$C$2:$D$11,2,FALSE)","v":5},3544,200,{"$f":"VLOOKUP(H3546,'Ark1'!$C$2:$D$12,2,FALSE)","v":5}]
[3545,32,{"$f":"VLOOKUP(B3547,'Ark1'!C$2:D$11,2,FALSE)","v":2},3545,125,{"$f":"VLOOKUP(E3547,'Ark1'!$C$2:$D$11,2,FALSE)","v":5},3545,200,{"$f":"VLOOKUP(H3547,'Ark1'!$C$2:$D$12,2,FALSE)","v":5}]
[3546,32,{"$f":"VLOOKUP(B3548,'Ark1'!C$2:D$11,2,FALSE)","v":2},3546,125,{"$f":"VLOOKUP(E3548,'Ark1'!$C$2:$D$11,2,FALSE)","v":5},3546,200,{"$f":"VLOOKUP(H3548,'Ark1'!$C$2:$D$12,2,FALSE)","v":5}]
[3547,32,{"$f":"VLOOKUP(B3549,'Ark1'!C$2:D$11,2,FALSE)","v":2},3547,125,{"$f":"VLOOKUP(E3549,'Ark1'!$C$2:$D$11,2,FALSE)","v":5},3547,200,{"$f":"VLOOKUP(H3549,'Ark1'!$C$2:$D$12,2,FALSE)","v":5}]
[3548,32,{"$f":"VLOOKUP(B3550,'Ark1'!C$2:D$11,2,FALSE)","v":2},3548,125,{"$f":"VLOOKUP(E3550,'Ark1'!$C$2:$D$11,2,FALSE)","v":5},3548,200,{"$f":"VLOOKUP(H3550,'Ark1'!$C$2:$D$12,2,FALSE)","v":5}]
[3549,32,{"$f":"VLOOKUP(B3551,'Ark1'!C$2:D$11,2,FALSE)","v":2},3549,125,{"$f":"VLOOKUP(E3551,'Ark1'!$C$2:$D$11,2,FALSE)","v":5},3549,200,{"$f":"VLOOKUP(H3551,'Ark1'!$C$2:$D$12,2,FALSE)","v":5}]
[3550,32,{"$f":"VLOOKUP(B3552,'Ark1'!C$2:D$11,2,FALSE)","v":2},3550,125,{"$f":"VLOOKUP(E3552,'Ark1'!$C$2:$D$11,2,FALSE)","v":5},3550,200,{"$f":"VLOOKUP(H3552,'Ark1'!$C$2:$D$12,2,FALSE)","v":5}]
[3551,32,{"$f":"VLOOKUP(B3553,'Ark1'!C$2:D$11,2,FALSE)","v":2},3551,125,{"$f":"VLOOKUP(E3553,'Ark1'!$C$2:$D$11,2,FALSE)","v":5},3551,200,{"$f":"VLOOKUP(H3553,'Ark1'!$C$2:$D$12,2,FALSE)","v":5}]
[3552,32,{"$f":"VLOOKUP(B3554,'Ark1'!C$2:D$11,2,FALSE)","v":2},3552,125,{"$f":"VLOOKUP(E3554,'Ark1'!$C$2:$D$11,2,FALSE)","v":5},3552,200,{"$f":"VLOOKUP(H3554,'Ark1'!$C$2:$D$12,2,FALSE)","v":5}]
[3553,32,{"$f":"VLOOKUP(B3555,'Ark1'!C$2:D$11,2,FALSE)","v":2},3553,125,{"$f":"VLOOKUP(E3555,'Ark1'!$C$2:$D$11,2,FALSE)","v":5},3553,200,{"$f":"VLOOKUP(H3555,'Ark1'!$C$2:$D$12,2,FALSE)","v":5}]
[3554,32,{"$f":"VLOOKUP(B3556,'Ark1'!C$2:D$11,2,FALSE)","v":2},3554,125,{"$f":"VLOOKUP(E3556,'Ark1'!$C$2:$D$11,2,FALSE)","v":5},3554,200,{"$f":"VLOOKUP(H3556,'Ark1'!$C$2:$D$12,2,FALSE)","v":5}]
[3555,32,{"$f":"VLOOKUP(B3557,'Ark1'!C$2:D$11,2,FALSE)","v":2},3555,125,{"$f":"VLOOKUP(E3557,'Ark1'!$C$2:$D$11,2,FALSE)","v":5},3555,200,{"$f":"VLOOKUP(H3557,'Ark1'!$C$2:$D$12,2,FALSE)","v":5}]
[3556,32,{"$f":"VLOOKUP(B3558,'Ark1'!C$2:D$11,2,FALSE)","v":2},3556,125,{"$f":"VLOOKUP(E3558,'Ark1'!$C$2:$D$11,2,FALSE)","v":5},3556,200,{"$f":"VLOOKUP(H3558,'Ark1'!$C$2:$D$12,2,FALSE)","v":5}]
[3557,32,{"$f":"VLOOKUP(B3559,'Ark1'!C$2:D$11,2,FALSE)","v":2},3557,125,{"$f":"VLOOKUP(E3559,'Ark1'!$C$2:$D$11,2,FALSE)","v":5},3557,200,{"$f":"VLOOKUP(H3559,'Ark1'!$C$2:$D$12,2,FALSE)","v":5}]
[3558,32,{"$f":"VLOOKUP(B3560,'Ark1'!C$2:D$11,2,FALSE)","v":2},3558,125,{"$f":"VLOOKUP(E3560,'Ark1'!$C$2:$D$11,2,FALSE)","v":5},3558,200,{"$f":"VLOOKUP(H3560,'Ark1'!$C$2:$D$12,2,FALSE)","v":5}]
[3559,32,{"$f":"VLOOKUP(B3561,'Ark1'!C$2:D$11,2,FALSE)","v":2},3559,125,{"$f":"VLOOKUP(E3561,'Ark1'!$C$2:$D$11,2,FALSE)","v":5},3559,200,{"$f":"VLOOKUP(H3561,'Ark1'!$C$2:$D$12,2,FALSE)","v":5}]
[3560,32,{"$f":"VLOOKUP(B3562,'Ark1'!C$2:D$11,2,FALSE)","v":2},3560,125,{"$f":"VLOOKUP(E3562,'Ark1'!$C$2:$D$11,2,FALSE)","v":5},3560,200,{"$f":"VLOOKUP(H3562,'Ark1'!$C$2:$D$12,2,FALSE)","v":5}]
[3561,32,{"$f":"VLOOKUP(B3563,'Ark1'!C$2:D$11,2,FALSE)","v":2},3561,125,{"$f":"VLOOKUP(E3563,'Ark1'!$C$2:$D$11,2,FALSE)","v":5},3561,200,{"$f":"VLOOKUP(H3563,'Ark1'!$C$2:$D$12,2,FALSE)","v":5}]
[3562,32,{"$f":"VLOOKUP(B3564,'Ark1'!C$2:D$11,2,FALSE)","v":2},3562,125,{"$f":"VLOOKUP(E3564,'Ark1'!$C$2:$D$11,2,FALSE)","v":5},3562,200,{"$f":"VLOOKUP(H3564,'Ark1'!$C$2:$D$12,2,FALSE)","v":5}]
[3563,32,{"$f":"VLOOKUP(B3565,'Ark1'!C$2:D$11,2,FALSE)","v":2},3563,125,{"$f":"VLOOKUP(E3565,'Ark1'!$C$2:$D$11,2,FALSE)","v":5},3563,200,{"$f":"VLOOKUP(H3565,'Ark1'!$C$2:$D$12,2,FALSE)","v":5}]
[3564,32,{"$f":"VLOOKUP(B3566,'Ark1'!C$2:D$11,2,FALSE)","v":2},3564,125,{"$f":"VLOOKUP(E3566,'Ark1'!$C$2:$D$11,2,FALSE)","v":5},3564,200,{"$f":"VLOOKUP(H3566,'Ark1'!$C$2:$D$12,2,FALSE)","v":5}]
[3565,32,{"$f":"VLOOKUP(B3567,'Ark1'!C$2:D$11,2,FALSE)","v":2},3565,125,{"$f":"VLOOKUP(E3567,'Ark1'!$C$2:$D$11,2,FALSE)","v":5},3565,200,{"$f":"VLOOKUP(H3567,'Ark1'!$C$2:$D$12,2,FALSE)","v":5}]
[3566,32,{"$f":"VLOOKUP(B3568,'Ark1'!C$2:D$11,2,FALSE)","v":2},3566,125,{"$f":"VLOOKUP(E3568,'Ark1'!$C$2:$D$11,2,FALSE)","v":5},3566,200,{"$f":"VLOOKUP(H3568,'Ark1'!$C$2:$D$12,2,FALSE)","v":5}]
[3567,32,{"$f":"VLOOKUP(B3569,'Ark1'!C$2:D$11,2,FALSE)","v":2},3567,125,{"$f":"VLOOKUP(E3569,'Ark1'!$C$2:$D$11,2,FALSE)","v":5},3567,200,{"$f":"VLOOKUP(H3569,'Ark1'!$C$2:$D$12,2,FALSE)","v":5}]
[3568,32,{"$f":"VLOOKUP(B3570,'Ark1'!C$2:D$11,2,FALSE)","v":2},3568,125,{"$f":"VLOOKUP(E3570,'Ark1'!$C$2:$D$11,2,FALSE)","v":5},3568,200,{"$f":"VLOOKUP(H3570,'Ark1'!$C$2:$D$12,2,FALSE)","v":5}]
[3569,32,{"$f":"VLOOKUP(B3571,'Ark1'!C$2:D$11,2,FALSE)","v":2},3569,125,{"$f":"VLOOKUP(E3571,'Ark1'!$C$2:$D$11,2,FALSE)","v":5},3569,200,{"$f":"VLOOKUP(H3571,'Ark1'!$C$2:$D$12,2,FALSE)","v":5}]
[3570,32,{"$f":"VLOOKUP(B3572,'Ark1'!C$2:D$11,2,FALSE)","v":2},3570,125,{"$f":"VLOOKUP(E3572,'Ark1'!$C$2:$D$11,2,FALSE)","v":5},3570,200,{"$f":"VLOOKUP(H3572,'Ark1'!$C$2:$D$12,2,FALSE)","v":5}]
[3571,32,{"$f":"VLOOKUP(B3573,'Ark1'!C$2:D$11,2,FALSE)","v":2},3571,125,{"$f":"VLOOKUP(E3573,'Ark1'!$C$2:$D$11,2,FALSE)","v":5},3571,200,{"$f":"VLOOKUP(H3573,'Ark1'!$C$2:$D$12,2,FALSE)","v":5}]
[3572,32,{"$f":"VLOOKUP(B3574,'Ark1'!C$2:D$11,2,FALSE)","v":2},3572,125,{"$f":"VLOOKUP(E3574,'Ark1'!$C$2:$D$11,2,FALSE)","v":5},3572,200,{"$f":"VLOOKUP(H3574,'Ark1'!$C$2:$D$12,2,FALSE)","v":5}]
[3573,32,{"$f":"VLOOKUP(B3575,'Ark1'!C$2:D$11,2,FALSE)","v":2},3573,125,{"$f":"VLOOKUP(E3575,'Ark1'!$C$2:$D$11,2,FALSE)","v":5},3573,200,{"$f":"VLOOKUP(H3575,'Ark1'!$C$2:$D$12,2,FALSE)","v":5}]
[3574,32,{"$f":"VLOOKUP(B3576,'Ark1'!C$2:D$11,2,FALSE)","v":2},3574,125,{"$f":"VLOOKUP(E3576,'Ark1'!$C$2:$D$11,2,FALSE)","v":5},3574,200,{"$f":"VLOOKUP(H3576,'Ark1'!$C$2:$D$12,2,FALSE)","v":5}]
[3575,32,{"$f":"VLOOKUP(B3577,'Ark1'!C$2:D$11,2,FALSE)","v":2},3575,125,{"$f":"VLOOKUP(E3577,'Ark1'!$C$2:$D$11,2,FALSE)","v":5},3575,200,{"$f":"VLOOKUP(H3577,'Ark1'!$C$2:$D$12,2,FALSE)","v":5}]
[3576,32,{"$f":"VLOOKUP(B3578,'Ark1'!C$2:D$11,2,FALSE)","v":2},3576,125,{"$f":"VLOOKUP(E3578,'Ark1'!$C$2:$D$11,2,FALSE)","v":5},3576,200,{"$f":"VLOOKUP(H3578,'Ark1'!$C$2:$D$12,2,FALSE)","v":5}]
[3577,32,{"$f":"VLOOKUP(B3579,'Ark1'!C$2:D$11,2,FALSE)","v":2},3577,125,{"$f":"VLOOKUP(E3579,'Ark1'!$C$2:$D$11,2,FALSE)","v":5},3577,200,{"$f":"VLOOKUP(H3579,'Ark1'!$C$2:$D$12,2,FALSE)","v":5}]
[3578,32,{"$f":"VLOOKUP(B3580,'Ark1'!C$2:D$11,2,FALSE)","v":2},3578,125,{"$f":"VLOOKUP(E3580,'Ark1'!$C$2:$D$11,2,FALSE)","v":5},3578,200,{"$f":"VLOOKUP(H3580,'Ark1'!$C$2:$D$12,2,FALSE)","v":5}]
[3579,32,{"$f":"VLOOKUP(B3581,'Ark1'!C$2:D$11,2,FALSE)","v":2},3579,125,{"$f":"VLOOKUP(E3581,'Ark1'!$C$2:$D$11,2,FALSE)","v":5},3579,200,{"$f":"VLOOKUP(H3581,'Ark1'!$C$2:$D$12,2,FALSE)","v":5}]
[3580,32,{"$f":"VLOOKUP(B3582,'Ark1'!C$2:D$11,2,FALSE)","v":2},3580,125,{"$f":"VLOOKUP(E3582,'Ark1'!$C$2:$D$11,2,FALSE)","v":5},3580,200,{"$f":"VLOOKUP(H3582,'Ark1'!$C$2:$D$12,2,FALSE)","v":5}]
[3581,32,{"$f":"VLOOKUP(B3583,'Ark1'!C$2:D$11,2,FALSE)","v":2},3581,125,{"$f":"VLOOKUP(E3583,'Ark1'!$C$2:$D$11,2,FALSE)","v":5},3581,200,{"$f":"VLOOKUP(H3583,'Ark1'!$C$2:$D$12,2,FALSE)","v":5}]
[3582,32,{"$f":"VLOOKUP(B3584,'Ark1'!C$2:D$11,2,FALSE)","v":2},3582,125,{"$f":"VLOOKUP(E3584,'Ark1'!$C$2:$D$11,2,FALSE)","v":5},3582,200,{"$f":"VLOOKUP(H3584,'Ark1'!$C$2:$D$12,2,FALSE)","v":5}]
[3583,32,{"$f":"VLOOKUP(B3585,'Ark1'!C$2:D$11,2,FALSE)","v":2},3583,125,{"$f":"VLOOKUP(E3585,'Ark1'!$C$2:$D$11,2,FALSE)","v":5},3583,200,{"$f":"VLOOKUP(H3585,'Ark1'!$C$2:$D$12,2,FALSE)","v":5}]
[3584,32,{"$f":"VLOOKUP(B3586,'Ark1'!C$2:D$11,2,FALSE)","v":2},3584,125,{"$f":"VLOOKUP(E3586,'Ark1'!$C$2:$D$11,2,FALSE)","v":5},3584,200,{"$f":"VLOOKUP(H3586,'Ark1'!$C$2:$D$12,2,FALSE)","v":5}]
[3585,32,{"$f":"VLOOKUP(B3587,'Ark1'!C$2:D$11,2,FALSE)","v":2},3585,125,{"$f":"VLOOKUP(E3587,'Ark1'!$C$2:$D$11,2,FALSE)","v":5},3585,200,{"$f":"VLOOKUP(H3587,'Ark1'!$C$2:$D$12,2,FALSE)","v":5}]
[3586,32,{"$f":"VLOOKUP(B3588,'Ark1'!C$2:D$11,2,FALSE)","v":2},3586,125,{"$f":"VLOOKUP(E3588,'Ark1'!$C$2:$D$11,2,FALSE)","v":5},3586,200,{"$f":"VLOOKUP(H3588,'Ark1'!$C$2:$D$12,2,FALSE)","v":5}]
[3587,32,{"$f":"VLOOKUP(B3589,'Ark1'!C$2:D$11,2,FALSE)","v":2},3587,125,{"$f":"VLOOKUP(E3589,'Ark1'!$C$2:$D$11,2,FALSE)","v":5},3587,200,{"$f":"VLOOKUP(H3589,'Ark1'!$C$2:$D$12,2,FALSE)","v":5}]
[3588,32,{"$f":"VLOOKUP(B3590,'Ark1'!C$2:D$11,2,FALSE)","v":2},3588,125,{"$f":"VLOOKUP(E3590,'Ark1'!$C$2:$D$11,2,FALSE)","v":5},3588,200,{"$f":"VLOOKUP(H3590,'Ark1'!$C$2:$D$12,2,FALSE)","v":5}]
[3589,32,{"$f":"VLOOKUP(B3591,'Ark1'!C$2:D$11,2,FALSE)","v":2},3589,125,{"$f":"VLOOKUP(E3591,'Ark1'!$C$2:$D$11,2,FALSE)","v":5},3589,200,{"$f":"VLOOKUP(H3591,'Ark1'!$C$2:$D$12,2,FALSE)","v":5}]
[3590,32,{"$f":"VLOOKUP(B3592,'Ark1'!C$2:D$11,2,FALSE)","v":2},3590,125,{"$f":"VLOOKUP(E3592,'Ark1'!$C$2:$D$11,2,FALSE)","v":5},3590,200,{"$f":"VLOOKUP(H3592,'Ark1'!$C$2:$D$12,2,FALSE)","v":5}]
[3591,32,{"$f":"VLOOKUP(B3593,'Ark1'!C$2:D$11,2,FALSE)","v":2},3591,125,{"$f":"VLOOKUP(E3593,'Ark1'!$C$2:$D$11,2,FALSE)","v":5},3591,200,{"$f":"VLOOKUP(H3593,'Ark1'!$C$2:$D$12,2,FALSE)","v":5}]
[3592,32,{"$f":"VLOOKUP(B3594,'Ark1'!C$2:D$11,2,FALSE)","v":2},3592,125,{"$f":"VLOOKUP(E3594,'Ark1'!$C$2:$D$11,2,FALSE)","v":5},3592,200,{"$f":"VLOOKUP(H3594,'Ark1'!$C$2:$D$12,2,FALSE)","v":5}]
[3593,32,{"$f":"VLOOKUP(B3595,'Ark1'!C$2:D$11,2,FALSE)","v":2},3593,125,{"$f":"VLOOKUP(E3595,'Ark1'!$C$2:$D$11,2,FALSE)","v":5},3593,200,{"$f":"VLOOKUP(H3595,'Ark1'!$C$2:$D$12,2,FALSE)","v":5}]
[3594,32,{"$f":"VLOOKUP(B3596,'Ark1'!C$2:D$11,2,FALSE)","v":2},3594,125,{"$f":"VLOOKUP(E3596,'Ark1'!$C$2:$D$11,2,FALSE)","v":5},3594,200,{"$f":"VLOOKUP(H3596,'Ark1'!$C$2:$D$12,2,FALSE)","v":5}]
[3595,32,{"$f":"VLOOKUP(B3597,'Ark1'!C$2:D$11,2,FALSE)","v":2},3595,125,{"$f":"VLOOKUP(E3597,'Ark1'!$C$2:$D$11,2,FALSE)","v":5},3595,200,{"$f":"VLOOKUP(H3597,'Ark1'!$C$2:$D$12,2,FALSE)","v":5}]
[3596,32,{"$f":"VLOOKUP(B3598,'Ark1'!C$2:D$11,2,FALSE)","v":2},3596,125,{"$f":"VLOOKUP(E3598,'Ark1'!$C$2:$D$11,2,FALSE)","v":5},3596,200,{"$f":"VLOOKUP(H3598,'Ark1'!$C$2:$D$12,2,FALSE)","v":5}]
[3597,32,{"$f":"VLOOKUP(B3599,'Ark1'!C$2:D$11,2,FALSE)","v":2},3597,125,{"$f":"VLOOKUP(E3599,'Ark1'!$C$2:$D$11,2,FALSE)","v":5},3597,200,{"$f":"VLOOKUP(H3599,'Ark1'!$C$2:$D$12,2,FALSE)","v":5}]
[3598,32,{"$f":"VLOOKUP(B3600,'Ark1'!C$2:D$11,2,FALSE)","v":2},3598,125,{"$f":"VLOOKUP(E3600,'Ark1'!$C$2:$D$11,2,FALSE)","v":5},3598,200,{"$f":"VLOOKUP(H3600,'Ark1'!$C$2:$D$12,2,FALSE)","v":5}]
[3599,32,{"$f":"VLOOKUP(B3601,'Ark1'!C$2:D$11,2,FALSE)","v":2},3599,125,{"$f":"VLOOKUP(E3601,'Ark1'!$C$2:$D$11,2,FALSE)","v":5},3599,200,{"$f":"VLOOKUP(H3601,'Ark1'!$C$2:$D$12,2,FALSE)","v":5}]
[3600,32,{"$f":"VLOOKUP(B3602,'Ark1'!C$2:D$11,2,FALSE)","v":2},3600,125,{"$f":"VLOOKUP(E3602,'Ark1'!$C$2:$D$11,2,FALSE)","v":5},3600,200,{"$f":"VLOOKUP(H3602,'Ark1'!$C$2:$D$12,2,FALSE)","v":5}]
[3601,32,{"$f":"VLOOKUP(B3603,'Ark1'!C$2:D$11,2,FALSE)","v":2},3601,125,{"$f":"VLOOKUP(E3603,'Ark1'!$C$2:$D$11,2,FALSE)","v":5},3601,200,{"$f":"VLOOKUP(H3603,'Ark1'!$C$2:$D$12,2,FALSE)","v":5}]
[3602,32,{"$f":"VLOOKUP(B3604,'Ark1'!C$2:D$11,2,FALSE)","v":2},3602,125,{"$f":"VLOOKUP(E3604,'Ark1'!$C$2:$D$11,2,FALSE)","v":5},3602,200,{"$f":"VLOOKUP(H3604,'Ark1'!$C$2:$D$12,2,FALSE)","v":5}]
[3603,32,{"$f":"VLOOKUP(B3605,'Ark1'!C$2:D$11,2,FALSE)","v":2},3603,125,{"$f":"VLOOKUP(E3605,'Ark1'!$C$2:$D$11,2,FALSE)","v":5},3603,200,{"$f":"VLOOKUP(H3605,'Ark1'!$C$2:$D$12,2,FALSE)","v":5}]
[3604,32,{"$f":"VLOOKUP(B3606,'Ark1'!C$2:D$11,2,FALSE)","v":2},3604,125,{"$f":"VLOOKUP(E3606,'Ark1'!$C$2:$D$11,2,FALSE)","v":5},3604,200,{"$f":"VLOOKUP(H3606,'Ark1'!$C$2:$D$12,2,FALSE)","v":5}]
[3605,32,{"$f":"VLOOKUP(B3607,'Ark1'!C$2:D$11,2,FALSE)","v":2},3605,125,{"$f":"VLOOKUP(E3607,'Ark1'!$C$2:$D$11,2,FALSE)","v":5},3605,200,{"$f":"VLOOKUP(H3607,'Ark1'!$C$2:$D$12,2,FALSE)","v":5}]
[3606,32,{"$f":"VLOOKUP(B3608,'Ark1'!C$2:D$11,2,FALSE)","v":2},3606,125,{"$f":"VLOOKUP(E3608,'Ark1'!$C$2:$D$11,2,FALSE)","v":5},3606,200,{"$f":"VLOOKUP(H3608,'Ark1'!$C$2:$D$12,2,FALSE)","v":5}]
[3607,32,{"$f":"VLOOKUP(B3609,'Ark1'!C$2:D$11,2,FALSE)","v":2},3607,125,{"$f":"VLOOKUP(E3609,'Ark1'!$C$2:$D$11,2,FALSE)","v":5},3607,200,{"$f":"VLOOKUP(H3609,'Ark1'!$C$2:$D$12,2,FALSE)","v":5}]
[3608,32,{"$f":"VLOOKUP(B3610,'Ark1'!C$2:D$11,2,FALSE)","v":2},3608,125,{"$f":"VLOOKUP(E3610,'Ark1'!$C$2:$D$11,2,FALSE)","v":5},3608,200,{"$f":"VLOOKUP(H3610,'Ark1'!$C$2:$D$12,2,FALSE)","v":5}]
[3609,32,{"$f":"VLOOKUP(B3611,'Ark1'!C$2:D$11,2,FALSE)","v":2},3609,125,{"$f":"VLOOKUP(E3611,'Ark1'!$C$2:$D$11,2,FALSE)","v":5},3609,200,{"$f":"VLOOKUP(H3611,'Ark1'!$C$2:$D$12,2,FALSE)","v":5}]
[3610,32,{"$f":"VLOOKUP(B3612,'Ark1'!C$2:D$11,2,FALSE)","v":2},3610,125,{"$f":"VLOOKUP(E3612,'Ark1'!$C$2:$D$11,2,FALSE)","v":5},3610,200,{"$f":"VLOOKUP(H3612,'Ark1'!$C$2:$D$12,2,FALSE)","v":5}]
[3611,32,{"$f":"VLOOKUP(B3613,'Ark1'!C$2:D$11,2,FALSE)","v":2},3611,125,{"$f":"VLOOKUP(E3613,'Ark1'!$C$2:$D$11,2,FALSE)","v":5},3611,200,{"$f":"VLOOKUP(H3613,'Ark1'!$C$2:$D$12,2,FALSE)","v":5}]
[3612,32,{"$f":"VLOOKUP(B3614,'Ark1'!C$2:D$11,2,FALSE)","v":2},3612,125,{"$f":"VLOOKUP(E3614,'Ark1'!$C$2:$D$11,2,FALSE)","v":5},3612,200,{"$f":"VLOOKUP(H3614,'Ark1'!$C$2:$D$12,2,FALSE)","v":5}]
[3613,32,{"$f":"VLOOKUP(B3615,'Ark1'!C$2:D$11,2,FALSE)","v":2},3613,125,{"$f":"VLOOKUP(E3615,'Ark1'!$C$2:$D$11,2,FALSE)","v":5},3613,200,{"$f":"VLOOKUP(H3615,'Ark1'!$C$2:$D$12,2,FALSE)","v":5}]
[3614,32,{"$f":"VLOOKUP(B3616,'Ark1'!C$2:D$11,2,FALSE)","v":2},3614,125,{"$f":"VLOOKUP(E3616,'Ark1'!$C$2:$D$11,2,FALSE)","v":5},3614,200,{"$f":"VLOOKUP(H3616,'Ark1'!$C$2:$D$12,2,FALSE)","v":5}]
[3615,32,{"$f":"VLOOKUP(B3617,'Ark1'!C$2:D$11,2,FALSE)","v":2},3615,125,{"$f":"VLOOKUP(E3617,'Ark1'!$C$2:$D$11,2,FALSE)","v":5},3615,200,{"$f":"VLOOKUP(H3617,'Ark1'!$C$2:$D$12,2,FALSE)","v":5}]
[3616,32,{"$f":"VLOOKUP(B3618,'Ark1'!C$2:D$11,2,FALSE)","v":2},3616,125,{"$f":"VLOOKUP(E3618,'Ark1'!$C$2:$D$11,2,FALSE)","v":5},3616,200,{"$f":"VLOOKUP(H3618,'Ark1'!$C$2:$D$12,2,FALSE)","v":5}]
[3617,32,{"$f":"VLOOKUP(B3619,'Ark1'!C$2:D$11,2,FALSE)","v":2},3617,125,{"$f":"VLOOKUP(E3619,'Ark1'!$C$2:$D$11,2,FALSE)","v":5},3617,200,{"$f":"VLOOKUP(H3619,'Ark1'!$C$2:$D$12,2,FALSE)","v":5}]
[3618,32,{"$f":"VLOOKUP(B3620,'Ark1'!C$2:D$11,2,FALSE)","v":2},3618,125,{"$f":"VLOOKUP(E3620,'Ark1'!$C$2:$D$11,2,FALSE)","v":5},3618,200,{"$f":"VLOOKUP(H3620,'Ark1'!$C$2:$D$12,2,FALSE)","v":5}]
[3619,32,{"$f":"VLOOKUP(B3621,'Ark1'!C$2:D$11,2,FALSE)","v":2},3619,125,{"$f":"VLOOKUP(E3621,'Ark1'!$C$2:$D$11,2,FALSE)","v":5},3619,200,{"$f":"VLOOKUP(H3621,'Ark1'!$C$2:$D$12,2,FALSE)","v":5}]
[3620,32,{"$f":"VLOOKUP(B3622,'Ark1'!C$2:D$11,2,FALSE)","v":2},3620,125,{"$f":"VLOOKUP(E3622,'Ark1'!$C$2:$D$11,2,FALSE)","v":5},3620,200,{"$f":"VLOOKUP(H3622,'Ark1'!$C$2:$D$12,2,FALSE)","v":5}]
[3621,32,{"$f":"VLOOKUP(B3623,'Ark1'!C$2:D$11,2,FALSE)","v":2},3621,125,{"$f":"VLOOKUP(E3623,'Ark1'!$C$2:$D$11,2,FALSE)","v":5},3621,200,{"$f":"VLOOKUP(H3623,'Ark1'!$C$2:$D$12,2,FALSE)","v":5}]
[3622,32,{"$f":"VLOOKUP(B3624,'Ark1'!C$2:D$11,2,FALSE)","v":2},3622,125,{"$f":"VLOOKUP(E3624,'Ark1'!$C$2:$D$11,2,FALSE)","v":5},3622,200,{"$f":"VLOOKUP(H3624,'Ark1'!$C$2:$D$12,2,FALSE)","v":5}]
[3623,32,{"$f":"VLOOKUP(B3625,'Ark1'!C$2:D$11,2,FALSE)","v":2},3623,125,{"$f":"VLOOKUP(E3625,'Ark1'!$C$2:$D$11,2,FALSE)","v":5},3623,200,{"$f":"VLOOKUP(H3625,'Ark1'!$C$2:$D$12,2,FALSE)","v":5}]
[3624,32,{"$f":"VLOOKUP(B3626,'Ark1'!C$2:D$11,2,FALSE)","v":2},3624,125,{"$f":"VLOOKUP(E3626,'Ark1'!$C$2:$D$11,2,FALSE)","v":5},3624,200,{"$f":"VLOOKUP(H3626,'Ark1'!$C$2:$D$12,2,FALSE)","v":5}]
[3625,32,{"$f":"VLOOKUP(B3627,'Ark1'!C$2:D$11,2,FALSE)","v":2},3625,125,{"$f":"VLOOKUP(E3627,'Ark1'!$C$2:$D$11,2,FALSE)","v":5},3625,200,{"$f":"VLOOKUP(H3627,'Ark1'!$C$2:$D$12,2,FALSE)","v":5}]
[3626,32,{"$f":"VLOOKUP(B3628,'Ark1'!C$2:D$11,2,FALSE)","v":2},3626,125,{"$f":"VLOOKUP(E3628,'Ark1'!$C$2:$D$11,2,FALSE)","v":5},3626,200,{"$f":"VLOOKUP(H3628,'Ark1'!$C$2:$D$12,2,FALSE)","v":5}]
[3627,32,{"$f":"VLOOKUP(B3629,'Ark1'!C$2:D$11,2,FALSE)","v":2},3627,125,{"$f":"VLOOKUP(E3629,'Ark1'!$C$2:$D$11,2,FALSE)","v":5},3627,200,{"$f":"VLOOKUP(H3629,'Ark1'!$C$2:$D$12,2,FALSE)","v":5}]
[3628,32,{"$f":"VLOOKUP(B3630,'Ark1'!C$2:D$11,2,FALSE)","v":2},3628,125,{"$f":"VLOOKUP(E3630,'Ark1'!$C$2:$D$11,2,FALSE)","v":5},3628,200,{"$f":"VLOOKUP(H3630,'Ark1'!$C$2:$D$12,2,FALSE)","v":5}]
[3629,32,{"$f":"VLOOKUP(B3631,'Ark1'!C$2:D$11,2,FALSE)","v":2},3629,125,{"$f":"VLOOKUP(E3631,'Ark1'!$C$2:$D$11,2,FALSE)","v":5},3629,200,{"$f":"VLOOKUP(H3631,'Ark1'!$C$2:$D$12,2,FALSE)","v":5}]
[3630,32,{"$f":"VLOOKUP(B3632,'Ark1'!C$2:D$11,2,FALSE)","v":2},3630,125,{"$f":"VLOOKUP(E3632,'Ark1'!$C$2:$D$11,2,FALSE)","v":5},3630,200,{"$f":"VLOOKUP(H3632,'Ark1'!$C$2:$D$12,2,FALSE)","v":5}]
[3631,32,{"$f":"VLOOKUP(B3633,'Ark1'!C$2:D$11,2,FALSE)","v":2},3631,125,{"$f":"VLOOKUP(E3633,'Ark1'!$C$2:$D$11,2,FALSE)","v":5},3631,200,{"$f":"VLOOKUP(H3633,'Ark1'!$C$2:$D$12,2,FALSE)","v":5}]
[3632,32,{"$f":"VLOOKUP(B3634,'Ark1'!C$2:D$11,2,FALSE)","v":2},3632,125,{"$f":"VLOOKUP(E3634,'Ark1'!$C$2:$D$11,2,FALSE)","v":5},3632,200,{"$f":"VLOOKUP(H3634,'Ark1'!$C$2:$D$12,2,FALSE)","v":5}]
[3633,32,{"$f":"VLOOKUP(B3635,'Ark1'!C$2:D$11,2,FALSE)","v":2},3633,125,{"$f":"VLOOKUP(E3635,'Ark1'!$C$2:$D$11,2,FALSE)","v":5},3633,200,{"$f":"VLOOKUP(H3635,'Ark1'!$C$2:$D$12,2,FALSE)","v":5}]
[3634,32,{"$f":"VLOOKUP(B3636,'Ark1'!C$2:D$11,2,FALSE)","v":2},3634,125,{"$f":"VLOOKUP(E3636,'Ark1'!$C$2:$D$11,2,FALSE)","v":5},3634,200,{"$f":"VLOOKUP(H3636,'Ark1'!$C$2:$D$12,2,FALSE)","v":5}]
[3635,32,{"$f":"VLOOKUP(B3637,'Ark1'!C$2:D$11,2,FALSE)","v":2},3635,125,{"$f":"VLOOKUP(E3637,'Ark1'!$C$2:$D$11,2,FALSE)","v":5},3635,200,{"$f":"VLOOKUP(H3637,'Ark1'!$C$2:$D$12,2,FALSE)","v":5}]
[3636,32,{"$f":"VLOOKUP(B3638,'Ark1'!C$2:D$11,2,FALSE)","v":2},3636,125,{"$f":"VLOOKUP(E3638,'Ark1'!$C$2:$D$11,2,FALSE)","v":5},3636,200,{"$f":"VLOOKUP(H3638,'Ark1'!$C$2:$D$12,2,FALSE)","v":5}]
[3637,32,{"$f":"VLOOKUP(B3639,'Ark1'!C$2:D$11,2,FALSE)","v":2},3637,125,{"$f":"VLOOKUP(E3639,'Ark1'!$C$2:$D$11,2,FALSE)","v":5},3637,200,{"$f":"VLOOKUP(H3639,'Ark1'!$C$2:$D$12,2,FALSE)","v":5}]
[3638,32,{"$f":"VLOOKUP(B3640,'Ark1'!C$2:D$11,2,FALSE)","v":2},3638,125,{"$f":"VLOOKUP(E3640,'Ark1'!$C$2:$D$11,2,FALSE)","v":5},3638,200,{"$f":"VLOOKUP(H3640,'Ark1'!$C$2:$D$12,2,FALSE)","v":5}]
[3639,32,{"$f":"VLOOKUP(B3641,'Ark1'!C$2:D$11,2,FALSE)","v":2},3639,125,{"$f":"VLOOKUP(E3641,'Ark1'!$C$2:$D$11,2,FALSE)","v":5},3639,200,{"$f":"VLOOKUP(H3641,'Ark1'!$C$2:$D$12,2,FALSE)","v":5}]
[3640,32,{"$f":"VLOOKUP(B3642,'Ark1'!C$2:D$11,2,FALSE)","v":2},3640,125,{"$f":"VLOOKUP(E3642,'Ark1'!$C$2:$D$11,2,FALSE)","v":5},3640,200,{"$f":"VLOOKUP(H3642,'Ark1'!$C$2:$D$12,2,FALSE)","v":5}]
[3641,32,{"$f":"VLOOKUP(B3643,'Ark1'!C$2:D$11,2,FALSE)","v":2},3641,125,{"$f":"VLOOKUP(E3643,'Ark1'!$C$2:$D$11,2,FALSE)","v":5},3641,200,{"$f":"VLOOKUP(H3643,'Ark1'!$C$2:$D$12,2,FALSE)","v":5}]
[3642,32,{"$f":"VLOOKUP(B3644,'Ark1'!C$2:D$11,2,FALSE)","v":2},3642,125,{"$f":"VLOOKUP(E3644,'Ark1'!$C$2:$D$11,2,FALSE)","v":5},3642,200,{"$f":"VLOOKUP(H3644,'Ark1'!$C$2:$D$12,2,FALSE)","v":5}]
[3643,32,{"$f":"VLOOKUP(B3645,'Ark1'!C$2:D$11,2,FALSE)","v":2},3643,125,{"$f":"VLOOKUP(E3645,'Ark1'!$C$2:$D$11,2,FALSE)","v":5},3643,200,{"$f":"VLOOKUP(H3645,'Ark1'!$C$2:$D$12,2,FALSE)","v":5}]
[3644,32,{"$f":"VLOOKUP(B3646,'Ark1'!C$2:D$11,2,FALSE)","v":2},3644,125,{"$f":"VLOOKUP(E3646,'Ark1'!$C$2:$D$11,2,FALSE)","v":5},3644,200,{"$f":"VLOOKUP(H3646,'Ark1'!$C$2:$D$12,2,FALSE)","v":5}]
[3645,32,{"$f":"VLOOKUP(B3647,'Ark1'!C$2:D$11,2,FALSE)","v":2},3645,125,{"$f":"VLOOKUP(E3647,'Ark1'!$C$2:$D$11,2,FALSE)","v":5},3645,200,{"$f":"VLOOKUP(H3647,'Ark1'!$C$2:$D$12,2,FALSE)","v":5}]
[3646,32,{"$f":"VLOOKUP(B3648,'Ark1'!C$2:D$11,2,FALSE)","v":2},3646,125,{"$f":"VLOOKUP(E3648,'Ark1'!$C$2:$D$11,2,FALSE)","v":5},3646,200,{"$f":"VLOOKUP(H3648,'Ark1'!$C$2:$D$12,2,FALSE)","v":5}]
[3647,32,{"$f":"VLOOKUP(B3649,'Ark1'!C$2:D$11,2,FALSE)","v":2},3647,125,{"$f":"VLOOKUP(E3649,'Ark1'!$C$2:$D$11,2,FALSE)","v":5},3647,200,{"$f":"VLOOKUP(H3649,'Ark1'!$C$2:$D$12,2,FALSE)","v":5}]
[3648,32,{"$f":"VLOOKUP(B3650,'Ark1'!C$2:D$11,2,FALSE)","v":2},3648,125,{"$f":"VLOOKUP(E3650,'Ark1'!$C$2:$D$11,2,FALSE)","v":5},3648,200,{"$f":"VLOOKUP(H3650,'Ark1'!$C$2:$D$12,2,FALSE)","v":5}]
[3649,32,{"$f":"VLOOKUP(B3651,'Ark1'!C$2:D$11,2,FALSE)","v":2},3649,125,{"$f":"VLOOKUP(E3651,'Ark1'!$C$2:$D$11,2,FALSE)","v":5},3649,200,{"$f":"VLOOKUP(H3651,'Ark1'!$C$2:$D$12,2,FALSE)","v":5}]
[3650,32,{"$f":"VLOOKUP(B3652,'Ark1'!C$2:D$11,2,FALSE)","v":2},3650,125,{"$f":"VLOOKUP(E3652,'Ark1'!$C$2:$D$11,2,FALSE)","v":5},3650,200,{"$f":"VLOOKUP(H3652,'Ark1'!$C$2:$D$12,2,FALSE)","v":5}]
[3651,32,{"$f":"VLOOKUP(B3653,'Ark1'!C$2:D$11,2,FALSE)","v":2},3651,125,{"$f":"VLOOKUP(E3653,'Ark1'!$C$2:$D$11,2,FALSE)","v":5},3651,200,{"$f":"VLOOKUP(H3653,'Ark1'!$C$2:$D$12,2,FALSE)","v":5}]
[3652,32,{"$f":"VLOOKUP(B3654,'Ark1'!C$2:D$11,2,FALSE)","v":2},3652,125,{"$f":"VLOOKUP(E3654,'Ark1'!$C$2:$D$11,2,FALSE)","v":5},3652,200,{"$f":"VLOOKUP(H3654,'Ark1'!$C$2:$D$12,2,FALSE)","v":5}]
[3653,32,{"$f":"VLOOKUP(B3655,'Ark1'!C$2:D$11,2,FALSE)","v":2},3653,125,{"$f":"VLOOKUP(E3655,'Ark1'!$C$2:$D$11,2,FALSE)","v":5},3653,200,{"$f":"VLOOKUP(H3655,'Ark1'!$C$2:$D$12,2,FALSE)","v":5}]
[3654,32,{"$f":"VLOOKUP(B3656,'Ark1'!C$2:D$11,2,FALSE)","v":2},3654,125,{"$f":"VLOOKUP(E3656,'Ark1'!$C$2:$D$11,2,FALSE)","v":5},3654,200,{"$f":"VLOOKUP(H3656,'Ark1'!$C$2:$D$12,2,FALSE)","v":5}]
[3655,32,{"$f":"VLOOKUP(B3657,'Ark1'!C$2:D$11,2,FALSE)","v":2},3655,125,{"$f":"VLOOKUP(E3657,'Ark1'!$C$2:$D$11,2,FALSE)","v":5},3655,200,{"$f":"VLOOKUP(H3657,'Ark1'!$C$2:$D$12,2,FALSE)","v":5}]
[3656,32,{"$f":"VLOOKUP(B3658,'Ark1'!C$2:D$11,2,FALSE)","v":2},3656,125,{"$f":"VLOOKUP(E3658,'Ark1'!$C$2:$D$11,2,FALSE)","v":5},3656,200,{"$f":"VLOOKUP(H3658,'Ark1'!$C$2:$D$12,2,FALSE)","v":5}]
[3657,32,{"$f":"VLOOKUP(B3659,'Ark1'!C$2:D$11,2,FALSE)","v":2},3657,125,{"$f":"VLOOKUP(E3659,'Ark1'!$C$2:$D$11,2,FALSE)","v":5},3657,200,{"$f":"VLOOKUP(H3659,'Ark1'!$C$2:$D$12,2,FALSE)","v":5}]
[3658,32,{"$f":"VLOOKUP(B3660,'Ark1'!C$2:D$11,2,FALSE)","v":2},3658,125,{"$f":"VLOOKUP(E3660,'Ark1'!$C$2:$D$11,2,FALSE)","v":5},3658,200,{"$f":"VLOOKUP(H3660,'Ark1'!$C$2:$D$12,2,FALSE)","v":5}]
[3659,32,{"$f":"VLOOKUP(B3661,'Ark1'!C$2:D$11,2,FALSE)","v":2},3659,125,{"$f":"VLOOKUP(E3661,'Ark1'!$C$2:$D$11,2,FALSE)","v":5},3659,200,{"$f":"VLOOKUP(H3661,'Ark1'!$C$2:$D$12,2,FALSE)","v":5}]
[3660,32,{"$f":"VLOOKUP(B3662,'Ark1'!C$2:D$11,2,FALSE)","v":2},3660,125,{"$f":"VLOOKUP(E3662,'Ark1'!$C$2:$D$11,2,FALSE)","v":5},3660,200,{"$f":"VLOOKUP(H3662,'Ark1'!$C$2:$D$12,2,FALSE)","v":5}]
[3661,32,{"$f":"VLOOKUP(B3663,'Ark1'!C$2:D$11,2,FALSE)","v":2},3661,125,{"$f":"VLOOKUP(E3663,'Ark1'!$C$2:$D$11,2,FALSE)","v":5},3661,200,{"$f":"VLOOKUP(H3663,'Ark1'!$C$2:$D$12,2,FALSE)","v":5}]
[3662,32,{"$f":"VLOOKUP(B3664,'Ark1'!C$2:D$11,2,FALSE)","v":2},3662,125,{"$f":"VLOOKUP(E3664,'Ark1'!$C$2:$D$11,2,FALSE)","v":5},3662,200,{"$f":"VLOOKUP(H3664,'Ark1'!$C$2:$D$12,2,FALSE)","v":5}]
[3663,32,{"$f":"VLOOKUP(B3665,'Ark1'!C$2:D$11,2,FALSE)","v":2},3663,125,{"$f":"VLOOKUP(E3665,'Ark1'!$C$2:$D$11,2,FALSE)","v":5},3663,200,{"$f":"VLOOKUP(H3665,'Ark1'!$C$2:$D$12,2,FALSE)","v":5}]
[3664,32,{"$f":"VLOOKUP(B3666,'Ark1'!C$2:D$11,2,FALSE)","v":2},3664,125,{"$f":"VLOOKUP(E3666,'Ark1'!$C$2:$D$11,2,FALSE)","v":5},3664,200,{"$f":"VLOOKUP(H3666,'Ark1'!$C$2:$D$12,2,FALSE)","v":5}]
[3665,32,{"$f":"VLOOKUP(B3667,'Ark1'!C$2:D$11,2,FALSE)","v":2},3665,125,{"$f":"VLOOKUP(E3667,'Ark1'!$C$2:$D$11,2,FALSE)","v":5},3665,200,{"$f":"VLOOKUP(H3667,'Ark1'!$C$2:$D$12,2,FALSE)","v":5}]
[3666,32,{"$f":"VLOOKUP(B3668,'Ark1'!C$2:D$11,2,FALSE)","v":2},3666,125,{"$f":"VLOOKUP(E3668,'Ark1'!$C$2:$D$11,2,FALSE)","v":5},3666,200,{"$f":"VLOOKUP(H3668,'Ark1'!$C$2:$D$12,2,FALSE)","v":5}]
[3667,32,{"$f":"VLOOKUP(B3669,'Ark1'!C$2:D$11,2,FALSE)","v":2},3667,125,{"$f":"VLOOKUP(E3669,'Ark1'!$C$2:$D$11,2,FALSE)","v":5},3667,200,{"$f":"VLOOKUP(H3669,'Ark1'!$C$2:$D$12,2,FALSE)","v":5}]
[3668,32,{"$f":"VLOOKUP(B3670,'Ark1'!C$2:D$11,2,FALSE)","v":2},3668,125,{"$f":"VLOOKUP(E3670,'Ark1'!$C$2:$D$11,2,FALSE)","v":5},3668,200,{"$f":"VLOOKUP(H3670,'Ark1'!$C$2:$D$12,2,FALSE)","v":5}]
[3669,32,{"$f":"VLOOKUP(B3671,'Ark1'!C$2:D$11,2,FALSE)","v":2},3669,125,{"$f":"VLOOKUP(E3671,'Ark1'!$C$2:$D$11,2,FALSE)","v":5},3669,200,{"$f":"VLOOKUP(H3671,'Ark1'!$C$2:$D$12,2,FALSE)","v":5}]
[3670,32,{"$f":"VLOOKUP(B3672,'Ark1'!C$2:D$11,2,FALSE)","v":2},3670,125,{"$f":"VLOOKUP(E3672,'Ark1'!$C$2:$D$11,2,FALSE)","v":5},3670,200,{"$f":"VLOOKUP(H3672,'Ark1'!$C$2:$D$12,2,FALSE)","v":5}]
[3671,32,{"$f":"VLOOKUP(B3673,'Ark1'!C$2:D$11,2,FALSE)","v":2},3671,125,{"$f":"VLOOKUP(E3673,'Ark1'!$C$2:$D$11,2,FALSE)","v":5},3671,200,{"$f":"VLOOKUP(H3673,'Ark1'!$C$2:$D$12,2,FALSE)","v":5}]
[3672,32,{"$f":"VLOOKUP(B3674,'Ark1'!C$2:D$11,2,FALSE)","v":2},3672,125,{"$f":"VLOOKUP(E3674,'Ark1'!$C$2:$D$11,2,FALSE)","v":5},3672,200,{"$f":"VLOOKUP(H3674,'Ark1'!$C$2:$D$12,2,FALSE)","v":5}]
[3673,32,{"$f":"VLOOKUP(B3675,'Ark1'!C$2:D$11,2,FALSE)","v":2},3673,125,{"$f":"VLOOKUP(E3675,'Ark1'!$C$2:$D$11,2,FALSE)","v":5},3673,200,{"$f":"VLOOKUP(H3675,'Ark1'!$C$2:$D$12,2,FALSE)","v":5}]
[3674,32,{"$f":"VLOOKUP(B3676,'Ark1'!C$2:D$11,2,FALSE)","v":2},3674,125,{"$f":"VLOOKUP(E3676,'Ark1'!$C$2:$D$11,2,FALSE)","v":5},3674,200,{"$f":"VLOOKUP(H3676,'Ark1'!$C$2:$D$12,2,FALSE)","v":5}]
[3675,32,{"$f":"VLOOKUP(B3677,'Ark1'!C$2:D$11,2,FALSE)","v":2},3675,125,{"$f":"VLOOKUP(E3677,'Ark1'!$C$2:$D$11,2,FALSE)","v":5},3675,200,{"$f":"VLOOKUP(H3677,'Ark1'!$C$2:$D$12,2,FALSE)","v":5}]
[3676,32,{"$f":"VLOOKUP(B3678,'Ark1'!C$2:D$11,2,FALSE)","v":2},3676,125,{"$f":"VLOOKUP(E3678,'Ark1'!$C$2:$D$11,2,FALSE)","v":5},3676,200,{"$f":"VLOOKUP(H3678,'Ark1'!$C$2:$D$12,2,FALSE)","v":5}]
[3677,32,{"$f":"VLOOKUP(B3679,'Ark1'!C$2:D$11,2,FALSE)","v":2},3677,125,{"$f":"VLOOKUP(E3679,'Ark1'!$C$2:$D$11,2,FALSE)","v":5},3677,200,{"$f":"VLOOKUP(H3679,'Ark1'!$C$2:$D$12,2,FALSE)","v":5}]
[3678,32,{"$f":"VLOOKUP(B3680,'Ark1'!C$2:D$11,2,FALSE)","v":2},3678,125,{"$f":"VLOOKUP(E3680,'Ark1'!$C$2:$D$11,2,FALSE)","v":5},3678,200,{"$f":"VLOOKUP(H3680,'Ark1'!$C$2:$D$12,2,FALSE)","v":5}]
[3679,32,{"$f":"VLOOKUP(B3681,'Ark1'!C$2:D$11,2,FALSE)","v":2},3679,125,{"$f":"VLOOKUP(E3681,'Ark1'!$C$2:$D$11,2,FALSE)","v":5},3679,200,{"$f":"VLOOKUP(H3681,'Ark1'!$C$2:$D$12,2,FALSE)","v":5}]
[3680,32,{"$f":"VLOOKUP(B3682,'Ark1'!C$2:D$11,2,FALSE)","v":2},3680,125,{"$f":"VLOOKUP(E3682,'Ark1'!$C$2:$D$11,2,FALSE)","v":5},3680,200,{"$f":"VLOOKUP(H3682,'Ark1'!$C$2:$D$12,2,FALSE)","v":5}]
[3681,32,{"$f":"VLOOKUP(B3683,'Ark1'!C$2:D$11,2,FALSE)","v":2},3681,125,{"$f":"VLOOKUP(E3683,'Ark1'!$C$2:$D$11,2,FALSE)","v":5},3681,200,{"$f":"VLOOKUP(H3683,'Ark1'!$C$2:$D$12,2,FALSE)","v":5}]
[3682,32,{"$f":"VLOOKUP(B3684,'Ark1'!C$2:D$11,2,FALSE)","v":2},3682,125,{"$f":"VLOOKUP(E3684,'Ark1'!$C$2:$D$11,2,FALSE)","v":5},3682,200,{"$f":"VLOOKUP(H3684,'Ark1'!$C$2:$D$12,2,FALSE)","v":5}]
[3683,32,{"$f":"VLOOKUP(B3685,'Ark1'!C$2:D$11,2,FALSE)","v":2},3683,125,{"$f":"VLOOKUP(E3685,'Ark1'!$C$2:$D$11,2,FALSE)","v":5},3683,200,{"$f":"VLOOKUP(H3685,'Ark1'!$C$2:$D$12,2,FALSE)","v":5}]
[3684,32,{"$f":"VLOOKUP(B3686,'Ark1'!C$2:D$11,2,FALSE)","v":2},3684,125,{"$f":"VLOOKUP(E3686,'Ark1'!$C$2:$D$11,2,FALSE)","v":5},3684,200,{"$f":"VLOOKUP(H3686,'Ark1'!$C$2:$D$12,2,FALSE)","v":5}]
[3685,32,{"$f":"VLOOKUP(B3687,'Ark1'!C$2:D$11,2,FALSE)","v":2},3685,125,{"$f":"VLOOKUP(E3687,'Ark1'!$C$2:$D$11,2,FALSE)","v":5},3685,200,{"$f":"VLOOKUP(H3687,'Ark1'!$C$2:$D$12,2,FALSE)","v":5}]
[3686,32,{"$f":"VLOOKUP(B3688,'Ark1'!C$2:D$11,2,FALSE)","v":2},3686,125,{"$f":"VLOOKUP(E3688,'Ark1'!$C$2:$D$11,2,FALSE)","v":5},3686,200,{"$f":"VLOOKUP(H3688,'Ark1'!$C$2:$D$12,2,FALSE)","v":5}]
[3687,32,{"$f":"VLOOKUP(B3689,'Ark1'!C$2:D$11,2,FALSE)","v":2},3687,125,{"$f":"VLOOKUP(E3689,'Ark1'!$C$2:$D$11,2,FALSE)","v":5},3687,200,{"$f":"VLOOKUP(H3689,'Ark1'!$C$2:$D$12,2,FALSE)","v":5}]
[3688,32,{"$f":"VLOOKUP(B3690,'Ark1'!C$2:D$11,2,FALSE)","v":2},3688,125,{"$f":"VLOOKUP(E3690,'Ark1'!$C$2:$D$11,2,FALSE)","v":5},3688,200,{"$f":"VLOOKUP(H3690,'Ark1'!$C$2:$D$12,2,FALSE)","v":5}]
[3689,32,{"$f":"VLOOKUP(B3691,'Ark1'!C$2:D$11,2,FALSE)","v":2},3689,125,{"$f":"VLOOKUP(E3691,'Ark1'!$C$2:$D$11,2,FALSE)","v":5},3689,200,{"$f":"VLOOKUP(H3691,'Ark1'!$C$2:$D$12,2,FALSE)","v":5}]
[3690,32,{"$f":"VLOOKUP(B3692,'Ark1'!C$2:D$11,2,FALSE)","v":2},3690,125,{"$f":"VLOOKUP(E3692,'Ark1'!$C$2:$D$11,2,FALSE)","v":5},3690,200,{"$f":"VLOOKUP(H3692,'Ark1'!$C$2:$D$12,2,FALSE)","v":5}]
[3691,32,{"$f":"VLOOKUP(B3693,'Ark1'!C$2:D$11,2,FALSE)","v":2},3691,125,{"$f":"VLOOKUP(E3693,'Ark1'!$C$2:$D$11,2,FALSE)","v":5},3691,200,{"$f":"VLOOKUP(H3693,'Ark1'!$C$2:$D$12,2,FALSE)","v":5}]
[3692,32,{"$f":"VLOOKUP(B3694,'Ark1'!C$2:D$11,2,FALSE)","v":2},3692,125,{"$f":"VLOOKUP(E3694,'Ark1'!$C$2:$D$11,2,FALSE)","v":5},3692,200,{"$f":"VLOOKUP(H3694,'Ark1'!$C$2:$D$12,2,FALSE)","v":5}]
[3693,32,{"$f":"VLOOKUP(B3695,'Ark1'!C$2:D$11,2,FALSE)","v":2},3693,125,{"$f":"VLOOKUP(E3695,'Ark1'!$C$2:$D$11,2,FALSE)","v":5},3693,200,{"$f":"VLOOKUP(H3695,'Ark1'!$C$2:$D$12,2,FALSE)","v":5}]
[3694,32,{"$f":"VLOOKUP(B3696,'Ark1'!C$2:D$11,2,FALSE)","v":2},3694,125,{"$f":"VLOOKUP(E3696,'Ark1'!$C$2:$D$11,2,FALSE)","v":5},3694,200,{"$f":"VLOOKUP(H3696,'Ark1'!$C$2:$D$12,2,FALSE)","v":5}]
[3695,32,{"$f":"VLOOKUP(B3697,'Ark1'!C$2:D$11,2,FALSE)","v":2},3695,125,{"$f":"VLOOKUP(E3697,'Ark1'!$C$2:$D$11,2,FALSE)","v":5},3695,200,{"$f":"VLOOKUP(H3697,'Ark1'!$C$2:$D$12,2,FALSE)","v":5}]
[3696,32,{"$f":"VLOOKUP(B3698,'Ark1'!C$2:D$11,2,FALSE)","v":2},3696,125,{"$f":"VLOOKUP(E3698,'Ark1'!$C$2:$D$11,2,FALSE)","v":5},3696,200,{"$f":"VLOOKUP(H3698,'Ark1'!$C$2:$D$12,2,FALSE)","v":5}]
[3697,32,{"$f":"VLOOKUP(B3699,'Ark1'!C$2:D$11,2,FALSE)","v":2},3697,125,{"$f":"VLOOKUP(E3699,'Ark1'!$C$2:$D$11,2,FALSE)","v":5},3697,200,{"$f":"VLOOKUP(H3699,'Ark1'!$C$2:$D$12,2,FALSE)","v":5}]
[3698,32,{"$f":"VLOOKUP(B3700,'Ark1'!C$2:D$11,2,FALSE)","v":2},3698,125,{"$f":"VLOOKUP(E3700,'Ark1'!$C$2:$D$11,2,FALSE)","v":5},3698,200,{"$f":"VLOOKUP(H3700,'Ark1'!$C$2:$D$12,2,FALSE)","v":5}]
[3699,32,{"$f":"VLOOKUP(B3701,'Ark1'!C$2:D$11,2,FALSE)","v":2},3699,125,{"$f":"VLOOKUP(E3701,'Ark1'!$C$2:$D$11,2,FALSE)","v":5},3699,200,{"$f":"VLOOKUP(H3701,'Ark1'!$C$2:$D$12,2,FALSE)","v":5}]
[3700,32,{"$f":"VLOOKUP(B3702,'Ark1'!C$2:D$11,2,FALSE)","v":2},3700,125,{"$f":"VLOOKUP(E3702,'Ark1'!$C$2:$D$11,2,FALSE)","v":5},3700,200,{"$f":"VLOOKUP(H3702,'Ark1'!$C$2:$D$12,2,FALSE)","v":5}]
[3701,32,{"$f":"VLOOKUP(B3703,'Ark1'!C$2:D$11,2,FALSE)","v":2},3701,125,{"$f":"VLOOKUP(E3703,'Ark1'!$C$2:$D$11,2,FALSE)","v":5},3701,200,{"$f":"VLOOKUP(H3703,'Ark1'!$C$2:$D$12,2,FALSE)","v":5}]
[3702,32,{"$f":"VLOOKUP(B3704,'Ark1'!C$2:D$11,2,FALSE)","v":2},3702,125,{"$f":"VLOOKUP(E3704,'Ark1'!$C$2:$D$11,2,FALSE)","v":5},3702,200,{"$f":"VLOOKUP(H3704,'Ark1'!$C$2:$D$12,2,FALSE)","v":5}]
[3703,32,{"$f":"VLOOKUP(B3705,'Ark1'!C$2:D$11,2,FALSE)","v":2},3703,125,{"$f":"VLOOKUP(E3705,'Ark1'!$C$2:$D$11,2,FALSE)","v":5},3703,200,{"$f":"VLOOKUP(H3705,'Ark1'!$C$2:$D$12,2,FALSE)","v":5}]
[3704,32,{"$f":"VLOOKUP(B3706,'Ark1'!C$2:D$11,2,FALSE)","v":2},3704,125,{"$f":"VLOOKUP(E3706,'Ark1'!$C$2:$D$11,2,FALSE)","v":5},3704,200,{"$f":"VLOOKUP(H3706,'Ark1'!$C$2:$D$12,2,FALSE)","v":5}]
[3705,32,{"$f":"VLOOKUP(B3707,'Ark1'!C$2:D$11,2,FALSE)","v":2},3705,125,{"$f":"VLOOKUP(E3707,'Ark1'!$C$2:$D$11,2,FALSE)","v":5},3705,200,{"$f":"VLOOKUP(H3707,'Ark1'!$C$2:$D$12,2,FALSE)","v":5}]
[3706,32,{"$f":"VLOOKUP(B3708,'Ark1'!C$2:D$11,2,FALSE)","v":2},3706,125,{"$f":"VLOOKUP(E3708,'Ark1'!$C$2:$D$11,2,FALSE)","v":5},3706,200,{"$f":"VLOOKUP(H3708,'Ark1'!$C$2:$D$12,2,FALSE)","v":5}]
[3707,32,{"$f":"VLOOKUP(B3709,'Ark1'!C$2:D$11,2,FALSE)","v":2},3707,125,{"$f":"VLOOKUP(E3709,'Ark1'!$C$2:$D$11,2,FALSE)","v":5},3707,200,{"$f":"VLOOKUP(H3709,'Ark1'!$C$2:$D$12,2,FALSE)","v":5}]
[3708,32,{"$f":"VLOOKUP(B3710,'Ark1'!C$2:D$11,2,FALSE)","v":2},3708,125,{"$f":"VLOOKUP(E3710,'Ark1'!$C$2:$D$11,2,FALSE)","v":5},3708,200,{"$f":"VLOOKUP(H3710,'Ark1'!$C$2:$D$12,2,FALSE)","v":5}]
[3709,32,{"$f":"VLOOKUP(B3711,'Ark1'!C$2:D$11,2,FALSE)","v":2},3709,125,{"$f":"VLOOKUP(E3711,'Ark1'!$C$2:$D$11,2,FALSE)","v":5},3709,200,{"$f":"VLOOKUP(H3711,'Ark1'!$C$2:$D$12,2,FALSE)","v":5}]
[3710,32,{"$f":"VLOOKUP(B3712,'Ark1'!C$2:D$11,2,FALSE)","v":2},3710,125,{"$f":"VLOOKUP(E3712,'Ark1'!$C$2:$D$11,2,FALSE)","v":5},3710,200,{"$f":"VLOOKUP(H3712,'Ark1'!$C$2:$D$12,2,FALSE)","v":5}]
[3711,32,{"$f":"VLOOKUP(B3713,'Ark1'!C$2:D$11,2,FALSE)","v":2},3711,125,{"$f":"VLOOKUP(E3713,'Ark1'!$C$2:$D$11,2,FALSE)","v":5},3711,200,{"$f":"VLOOKUP(H3713,'Ark1'!$C$2:$D$12,2,FALSE)","v":5}]
[3712,32,{"$f":"VLOOKUP(B3714,'Ark1'!C$2:D$11,2,FALSE)","v":2},3712,125,{"$f":"VLOOKUP(E3714,'Ark1'!$C$2:$D$11,2,FALSE)","v":5},3712,200,{"$f":"VLOOKUP(H3714,'Ark1'!$C$2:$D$12,2,FALSE)","v":5}]
[3713,32,{"$f":"VLOOKUP(B3715,'Ark1'!C$2:D$11,2,FALSE)","v":2},3713,125,{"$f":"VLOOKUP(E3715,'Ark1'!$C$2:$D$11,2,FALSE)","v":5},3713,200,{"$f":"VLOOKUP(H3715,'Ark1'!$C$2:$D$12,2,FALSE)","v":5}]
[3714,32,{"$f":"VLOOKUP(B3716,'Ark1'!C$2:D$11,2,FALSE)","v":2},3714,125,{"$f":"VLOOKUP(E3716,'Ark1'!$C$2:$D$11,2,FALSE)","v":5},3714,200,{"$f":"VLOOKUP(H3716,'Ark1'!$C$2:$D$12,2,FALSE)","v":5}]
[3715,32,{"$f":"VLOOKUP(B3717,'Ark1'!C$2:D$11,2,FALSE)","v":2},3715,125,{"$f":"VLOOKUP(E3717,'Ark1'!$C$2:$D$11,2,FALSE)","v":5},3715,200,{"$f":"VLOOKUP(H3717,'Ark1'!$C$2:$D$12,2,FALSE)","v":5}]
[3716,32,{"$f":"VLOOKUP(B3718,'Ark1'!C$2:D$11,2,FALSE)","v":2},3716,125,{"$f":"VLOOKUP(E3718,'Ark1'!$C$2:$D$11,2,FALSE)","v":5},3716,200,{"$f":"VLOOKUP(H3718,'Ark1'!$C$2:$D$12,2,FALSE)","v":5}]
[3717,32,{"$f":"VLOOKUP(B3719,'Ark1'!C$2:D$11,2,FALSE)","v":2},3717,125,{"$f":"VLOOKUP(E3719,'Ark1'!$C$2:$D$11,2,FALSE)","v":5},3717,200,{"$f":"VLOOKUP(H3719,'Ark1'!$C$2:$D$12,2,FALSE)","v":5}]
[3718,32,{"$f":"VLOOKUP(B3720,'Ark1'!C$2:D$11,2,FALSE)","v":2},3718,125,{"$f":"VLOOKUP(E3720,'Ark1'!$C$2:$D$11,2,FALSE)","v":5},3718,200,{"$f":"VLOOKUP(H3720,'Ark1'!$C$2:$D$12,2,FALSE)","v":5}]
[3719,32,{"$f":"VLOOKUP(B3721,'Ark1'!C$2:D$11,2,FALSE)","v":2},3719,125,{"$f":"VLOOKUP(E3721,'Ark1'!$C$2:$D$11,2,FALSE)","v":5},3719,200,{"$f":"VLOOKUP(H3721,'Ark1'!$C$2:$D$12,2,FALSE)","v":5}]
[3720,32,{"$f":"VLOOKUP(B3722,'Ark1'!C$2:D$11,2,FALSE)","v":2},3720,125,{"$f":"VLOOKUP(E3722,'Ark1'!$C$2:$D$11,2,FALSE)","v":5},3720,200,{"$f":"VLOOKUP(H3722,'Ark1'!$C$2:$D$12,2,FALSE)","v":5}]
[3721,32,{"$f":"VLOOKUP(B3723,'Ark1'!C$2:D$11,2,FALSE)","v":2},3721,125,{"$f":"VLOOKUP(E3723,'Ark1'!$C$2:$D$11,2,FALSE)","v":5},3721,200,{"$f":"VLOOKUP(H3723,'Ark1'!$C$2:$D$12,2,FALSE)","v":5}]
[3722,32,{"$f":"VLOOKUP(B3724,'Ark1'!C$2:D$11,2,FALSE)","v":2},3722,125,{"$f":"VLOOKUP(E3724,'Ark1'!$C$2:$D$11,2,FALSE)","v":5},3722,200,{"$f":"VLOOKUP(H3724,'Ark1'!$C$2:$D$12,2,FALSE)","v":5}]
[3723,32,{"$f":"VLOOKUP(B3725,'Ark1'!C$2:D$11,2,FALSE)","v":2},3723,125,{"$f":"VLOOKUP(E3725,'Ark1'!$C$2:$D$11,2,FALSE)","v":5},3723,200,{"$f":"VLOOKUP(H3725,'Ark1'!$C$2:$D$12,2,FALSE)","v":5}]
[3724,32,{"$f":"VLOOKUP(B3726,'Ark1'!C$2:D$11,2,FALSE)","v":2},3724,125,{"$f":"VLOOKUP(E3726,'Ark1'!$C$2:$D$11,2,FALSE)","v":5},3724,200,{"$f":"VLOOKUP(H3726,'Ark1'!$C$2:$D$12,2,FALSE)","v":5}]
[3725,32,{"$f":"VLOOKUP(B3727,'Ark1'!C$2:D$11,2,FALSE)","v":2},3725,125,{"$f":"VLOOKUP(E3727,'Ark1'!$C$2:$D$11,2,FALSE)","v":5},3725,200,{"$f":"VLOOKUP(H3727,'Ark1'!$C$2:$D$12,2,FALSE)","v":5}]
[3726,32,{"$f":"VLOOKUP(B3728,'Ark1'!C$2:D$11,2,FALSE)","v":2},3726,125,{"$f":"VLOOKUP(E3728,'Ark1'!$C$2:$D$11,2,FALSE)","v":5},3726,200,{"$f":"VLOOKUP(H3728,'Ark1'!$C$2:$D$12,2,FALSE)","v":5}]
[3727,32,{"$f":"VLOOKUP(B3729,'Ark1'!C$2:D$11,2,FALSE)","v":2},3727,125,{"$f":"VLOOKUP(E3729,'Ark1'!$C$2:$D$11,2,FALSE)","v":5},3727,200,{"$f":"VLOOKUP(H3729,'Ark1'!$C$2:$D$12,2,FALSE)","v":5}]
[3728,32,{"$f":"VLOOKUP(B3730,'Ark1'!C$2:D$11,2,FALSE)","v":2},3728,125,{"$f":"VLOOKUP(E3730,'Ark1'!$C$2:$D$11,2,FALSE)","v":5},3728,200,{"$f":"VLOOKUP(H3730,'Ark1'!$C$2:$D$12,2,FALSE)","v":5}]
[3729,32,{"$f":"VLOOKUP(B3731,'Ark1'!C$2:D$11,2,FALSE)","v":2},3729,125,{"$f":"VLOOKUP(E3731,'Ark1'!$C$2:$D$11,2,FALSE)","v":5},3729,200,{"$f":"VLOOKUP(H3731,'Ark1'!$C$2:$D$12,2,FALSE)","v":5}]
[3730,32,{"$f":"VLOOKUP(B3732,'Ark1'!C$2:D$11,2,FALSE)","v":2},3730,125,{"$f":"VLOOKUP(E3732,'Ark1'!$C$2:$D$11,2,FALSE)","v":5},3730,200,{"$f":"VLOOKUP(H3732,'Ark1'!$C$2:$D$12,2,FALSE)","v":5}]
[3731,32,{"$f":"VLOOKUP(B3733,'Ark1'!C$2:D$11,2,FALSE)","v":2},3731,125,{"$f":"VLOOKUP(E3733,'Ark1'!$C$2:$D$11,2,FALSE)","v":5},3731,200,{"$f":"VLOOKUP(H3733,'Ark1'!$C$2:$D$12,2,FALSE)","v":5}]
[3732,32,{"$f":"VLOOKUP(B3734,'Ark1'!C$2:D$11,2,FALSE)","v":2},3732,125,{"$f":"VLOOKUP(E3734,'Ark1'!$C$2:$D$11,2,FALSE)","v":5},3732,200,{"$f":"VLOOKUP(H3734,'Ark1'!$C$2:$D$12,2,FALSE)","v":5}]
[3733,32,{"$f":"VLOOKUP(B3735,'Ark1'!C$2:D$11,2,FALSE)","v":2},3733,125,{"$f":"VLOOKUP(E3735,'Ark1'!$C$2:$D$11,2,FALSE)","v":5},3733,200,{"$f":"VLOOKUP(H3735,'Ark1'!$C$2:$D$12,2,FALSE)","v":5}]
[3734,32,{"$f":"VLOOKUP(B3736,'Ark1'!C$2:D$11,2,FALSE)","v":2},3734,125,{"$f":"VLOOKUP(E3736,'Ark1'!$C$2:$D$11,2,FALSE)","v":5},3734,200,{"$f":"VLOOKUP(H3736,'Ark1'!$C$2:$D$12,2,FALSE)","v":5}]
[3735,32,{"$f":"VLOOKUP(B3737,'Ark1'!C$2:D$11,2,FALSE)","v":2},3735,125,{"$f":"VLOOKUP(E3737,'Ark1'!$C$2:$D$11,2,FALSE)","v":5},3735,200,{"$f":"VLOOKUP(H3737,'Ark1'!$C$2:$D$12,2,FALSE)","v":5}]
[3736,32,{"$f":"VLOOKUP(B3738,'Ark1'!C$2:D$11,2,FALSE)","v":2},3736,125,{"$f":"VLOOKUP(E3738,'Ark1'!$C$2:$D$11,2,FALSE)","v":5},3736,200,{"$f":"VLOOKUP(H3738,'Ark1'!$C$2:$D$12,2,FALSE)","v":5}]
[3737,32,{"$f":"VLOOKUP(B3739,'Ark1'!C$2:D$11,2,FALSE)","v":2},3737,125,{"$f":"VLOOKUP(E3739,'Ark1'!$C$2:$D$11,2,FALSE)","v":5},3737,200,{"$f":"VLOOKUP(H3739,'Ark1'!$C$2:$D$12,2,FALSE)","v":5}]
[3738,32,{"$f":"VLOOKUP(B3740,'Ark1'!C$2:D$11,2,FALSE)","v":2},3738,125,{"$f":"VLOOKUP(E3740,'Ark1'!$C$2:$D$11,2,FALSE)","v":5},3738,200,{"$f":"VLOOKUP(H3740,'Ark1'!$C$2:$D$12,2,FALSE)","v":5}]
[3739,32,{"$f":"VLOOKUP(B3741,'Ark1'!C$2:D$11,2,FALSE)","v":2},3739,125,{"$f":"VLOOKUP(E3741,'Ark1'!$C$2:$D$11,2,FALSE)","v":5},3739,200,{"$f":"VLOOKUP(H3741,'Ark1'!$C$2:$D$12,2,FALSE)","v":5}]
[3740,32,{"$f":"VLOOKUP(B3742,'Ark1'!C$2:D$11,2,FALSE)","v":2},3740,125,{"$f":"VLOOKUP(E3742,'Ark1'!$C$2:$D$11,2,FALSE)","v":5},3740,200,{"$f":"VLOOKUP(H3742,'Ark1'!$C$2:$D$12,2,FALSE)","v":5}]
[3741,32,{"$f":"VLOOKUP(B3743,'Ark1'!C$2:D$11,2,FALSE)","v":2},3741,125,{"$f":"VLOOKUP(E3743,'Ark1'!$C$2:$D$11,2,FALSE)","v":5},3741,200,{"$f":"VLOOKUP(H3743,'Ark1'!$C$2:$D$12,2,FALSE)","v":5}]
[3742,32,{"$f":"VLOOKUP(B3744,'Ark1'!C$2:D$11,2,FALSE)","v":2},3742,125,{"$f":"VLOOKUP(E3744,'Ark1'!$C$2:$D$11,2,FALSE)","v":5},3742,200,{"$f":"VLOOKUP(H3744,'Ark1'!$C$2:$D$12,2,FALSE)","v":5}]
[3743,32,{"$f":"VLOOKUP(B3745,'Ark1'!C$2:D$11,2,FALSE)","v":2},3743,125,{"$f":"VLOOKUP(E3745,'Ark1'!$C$2:$D$11,2,FALSE)","v":5},3743,200,{"$f":"VLOOKUP(H3745,'Ark1'!$C$2:$D$12,2,FALSE)","v":5}]
[3744,32,{"$f":"VLOOKUP(B3746,'Ark1'!C$2:D$11,2,FALSE)","v":2},3744,125,{"$f":"VLOOKUP(E3746,'Ark1'!$C$2:$D$11,2,FALSE)","v":5},3744,200,{"$f":"VLOOKUP(H3746,'Ark1'!$C$2:$D$12,2,FALSE)","v":5}]
[3745,32,{"$f":"VLOOKUP(B3747,'Ark1'!C$2:D$11,2,FALSE)","v":2},3745,125,{"$f":"VLOOKUP(E3747,'Ark1'!$C$2:$D$11,2,FALSE)","v":5},3745,200,{"$f":"VLOOKUP(H3747,'Ark1'!$C$2:$D$12,2,FALSE)","v":5}]
[3746,32,{"$f":"VLOOKUP(B3748,'Ark1'!C$2:D$11,2,FALSE)","v":2},3746,125,{"$f":"VLOOKUP(E3748,'Ark1'!$C$2:$D$11,2,FALSE)","v":5},3746,200,{"$f":"VLOOKUP(H3748,'Ark1'!$C$2:$D$12,2,FALSE)","v":5}]
[3747,32,{"$f":"VLOOKUP(B3749,'Ark1'!C$2:D$11,2,FALSE)","v":2},3747,125,{"$f":"VLOOKUP(E3749,'Ark1'!$C$2:$D$11,2,FALSE)","v":5},3747,200,{"$f":"VLOOKUP(H3749,'Ark1'!$C$2:$D$12,2,FALSE)","v":5}]
[3748,32,{"$f":"VLOOKUP(B3750,'Ark1'!C$2:D$11,2,FALSE)","v":2},3748,125,{"$f":"VLOOKUP(E3750,'Ark1'!$C$2:$D$11,2,FALSE)","v":5},3748,200,{"$f":"VLOOKUP(H3750,'Ark1'!$C$2:$D$12,2,FALSE)","v":5}]
[3749,32,{"$f":"VLOOKUP(B3751,'Ark1'!C$2:D$11,2,FALSE)","v":2},3749,125,{"$f":"VLOOKUP(E3751,'Ark1'!$C$2:$D$11,2,FALSE)","v":5},3749,200,{"$f":"VLOOKUP(H3751,'Ark1'!$C$2:$D$12,2,FALSE)","v":5}]
[3750,32,{"$f":"VLOOKUP(B3752,'Ark1'!C$2:D$11,2,FALSE)","v":2},3750,125,{"$f":"VLOOKUP(E3752,'Ark1'!$C$2:$D$11,2,FALSE)","v":5},3750,200,{"$f":"VLOOKUP(H3752,'Ark1'!$C$2:$D$12,2,FALSE)","v":5}]
[3751,32,{"$f":"VLOOKUP(B3753,'Ark1'!C$2:D$11,2,FALSE)","v":2},3751,125,{"$f":"VLOOKUP(E3753,'Ark1'!$C$2:$D$11,2,FALSE)","v":5},3751,200,{"$f":"VLOOKUP(H3753,'Ark1'!$C$2:$D$12,2,FALSE)","v":5}]
[3752,32,{"$f":"VLOOKUP(B3754,'Ark1'!C$2:D$11,2,FALSE)","v":2},3752,125,{"$f":"VLOOKUP(E3754,'Ark1'!$C$2:$D$11,2,FALSE)","v":5},3752,200,{"$f":"VLOOKUP(H3754,'Ark1'!$C$2:$D$12,2,FALSE)","v":5}]
[3753,32,{"$f":"VLOOKUP(B3755,'Ark1'!C$2:D$11,2,FALSE)","v":2},3753,125,{"$f":"VLOOKUP(E3755,'Ark1'!$C$2:$D$11,2,FALSE)","v":5},3753,200,{"$f":"VLOOKUP(H3755,'Ark1'!$C$2:$D$12,2,FALSE)","v":5}]
[3754,32,{"$f":"VLOOKUP(B3756,'Ark1'!C$2:D$11,2,FALSE)","v":2},3754,125,{"$f":"VLOOKUP(E3756,'Ark1'!$C$2:$D$11,2,FALSE)","v":5},3754,200,{"$f":"VLOOKUP(H3756,'Ark1'!$C$2:$D$12,2,FALSE)","v":5}]
[3755,32,{"$f":"VLOOKUP(B3757,'Ark1'!C$2:D$11,2,FALSE)","v":2},3755,125,{"$f":"VLOOKUP(E3757,'Ark1'!$C$2:$D$11,2,FALSE)","v":5},3755,200,{"$f":"VLOOKUP(H3757,'Ark1'!$C$2:$D$12,2,FALSE)","v":5}]
[3756,32,{"$f":"VLOOKUP(B3758,'Ark1'!C$2:D$11,2,FALSE)","v":2},3756,125,{"$f":"VLOOKUP(E3758,'Ark1'!$C$2:$D$11,2,FALSE)","v":5},3756,200,{"$f":"VLOOKUP(H3758,'Ark1'!$C$2:$D$12,2,FALSE)","v":5}]
[3757,32,{"$f":"VLOOKUP(B3759,'Ark1'!C$2:D$11,2,FALSE)","v":2},3757,125,{"$f":"VLOOKUP(E3759,'Ark1'!$C$2:$D$11,2,FALSE)","v":5},3757,200,{"$f":"VLOOKUP(H3759,'Ark1'!$C$2:$D$12,2,FALSE)","v":5}]
[3758,32,{"$f":"VLOOKUP(B3760,'Ark1'!C$2:D$11,2,FALSE)","v":2},3758,125,{"$f":"VLOOKUP(E3760,'Ark1'!$C$2:$D$11,2,FALSE)","v":5},3758,200,{"$f":"VLOOKUP(H3760,'Ark1'!$C$2:$D$12,2,FALSE)","v":5}]
[3759,32,{"$f":"VLOOKUP(B3761,'Ark1'!C$2:D$11,2,FALSE)","v":2},3759,125,{"$f":"VLOOKUP(E3761,'Ark1'!$C$2:$D$11,2,FALSE)","v":5},3759,200,{"$f":"VLOOKUP(H3761,'Ark1'!$C$2:$D$12,2,FALSE)","v":5}]
[3760,32,{"$f":"VLOOKUP(B3762,'Ark1'!C$2:D$11,2,FALSE)","v":2},3760,125,{"$f":"VLOOKUP(E3762,'Ark1'!$C$2:$D$11,2,FALSE)","v":5},3760,200,{"$f":"VLOOKUP(H3762,'Ark1'!$C$2:$D$12,2,FALSE)","v":5}]
[3761,32,{"$f":"VLOOKUP(B3763,'Ark1'!C$2:D$11,2,FALSE)","v":2},3761,125,{"$f":"VLOOKUP(E3763,'Ark1'!$C$2:$D$11,2,FALSE)","v":5},3761,200,{"$f":"VLOOKUP(H3763,'Ark1'!$C$2:$D$12,2,FALSE)","v":5}]
[3762,32,{"$f":"VLOOKUP(B3764,'Ark1'!C$2:D$11,2,FALSE)","v":2},3762,125,{"$f":"VLOOKUP(E3764,'Ark1'!$C$2:$D$11,2,FALSE)","v":5},3762,200,{"$f":"VLOOKUP(H3764,'Ark1'!$C$2:$D$12,2,FALSE)","v":5}]
[3763,32,{"$f":"VLOOKUP(B3765,'Ark1'!C$2:D$11,2,FALSE)","v":2},3763,125,{"$f":"VLOOKUP(E3765,'Ark1'!$C$2:$D$11,2,FALSE)","v":5},3763,200,{"$f":"VLOOKUP(H3765,'Ark1'!$C$2:$D$12,2,FALSE)","v":5}]
[3764,32,{"$f":"VLOOKUP(B3766,'Ark1'!C$2:D$11,2,FALSE)","v":2},3764,125,{"$f":"VLOOKUP(E3766,'Ark1'!$C$2:$D$11,2,FALSE)","v":5},3764,200,{"$f":"VLOOKUP(H3766,'Ark1'!$C$2:$D$12,2,FALSE)","v":5}]
[3765,32,{"$f":"VLOOKUP(B3767,'Ark1'!C$2:D$11,2,FALSE)","v":2},3765,125,{"$f":"VLOOKUP(E3767,'Ark1'!$C$2:$D$11,2,FALSE)","v":5},3765,200,{"$f":"VLOOKUP(H3767,'Ark1'!$C$2:$D$12,2,FALSE)","v":5}]
[3766,32,{"$f":"VLOOKUP(B3768,'Ark1'!C$2:D$11,2,FALSE)","v":2},3766,125,{"$f":"VLOOKUP(E3768,'Ark1'!$C$2:$D$11,2,FALSE)","v":5},3766,200,{"$f":"VLOOKUP(H3768,'Ark1'!$C$2:$D$12,2,FALSE)","v":5}]
[3767,32,{"$f":"VLOOKUP(B3769,'Ark1'!C$2:D$11,2,FALSE)","v":2},3767,125,{"$f":"VLOOKUP(E3769,'Ark1'!$C$2:$D$11,2,FALSE)","v":5},3767,200,{"$f":"VLOOKUP(H3769,'Ark1'!$C$2:$D$12,2,FALSE)","v":5}]
[3768,32,{"$f":"VLOOKUP(B3770,'Ark1'!C$2:D$11,2,FALSE)","v":2},3768,125,{"$f":"VLOOKUP(E3770,'Ark1'!$C$2:$D$11,2,FALSE)","v":5},3768,200,{"$f":"VLOOKUP(H3770,'Ark1'!$C$2:$D$12,2,FALSE)","v":5}]
[3769,32,{"$f":"VLOOKUP(B3771,'Ark1'!C$2:D$11,2,FALSE)","v":2},3769,125,{"$f":"VLOOKUP(E3771,'Ark1'!$C$2:$D$11,2,FALSE)","v":5},3769,200,{"$f":"VLOOKUP(H3771,'Ark1'!$C$2:$D$12,2,FALSE)","v":5}]
[3770,32,{"$f":"VLOOKUP(B3772,'Ark1'!C$2:D$11,2,FALSE)","v":2},3770,125,{"$f":"VLOOKUP(E3772,'Ark1'!$C$2:$D$11,2,FALSE)","v":5},3770,200,{"$f":"VLOOKUP(H3772,'Ark1'!$C$2:$D$12,2,FALSE)","v":5}]
[3771,32,{"$f":"VLOOKUP(B3773,'Ark1'!C$2:D$11,2,FALSE)","v":2},3771,125,{"$f":"VLOOKUP(E3773,'Ark1'!$C$2:$D$11,2,FALSE)","v":5},3771,200,{"$f":"VLOOKUP(H3773,'Ark1'!$C$2:$D$12,2,FALSE)","v":5}]
[3772,32,{"$f":"VLOOKUP(B3774,'Ark1'!C$2:D$11,2,FALSE)","v":2},3772,125,{"$f":"VLOOKUP(E3774,'Ark1'!$C$2:$D$11,2,FALSE)","v":5},3772,200,{"$f":"VLOOKUP(H3774,'Ark1'!$C$2:$D$12,2,FALSE)","v":5}]
[3773,32,{"$f":"VLOOKUP(B3775,'Ark1'!C$2:D$11,2,FALSE)","v":2},3773,125,{"$f":"VLOOKUP(E3775,'Ark1'!$C$2:$D$11,2,FALSE)","v":5},3773,200,{"$f":"VLOOKUP(H3775,'Ark1'!$C$2:$D$12,2,FALSE)","v":5}]
[3774,32,{"$f":"VLOOKUP(B3776,'Ark1'!C$2:D$11,2,FALSE)","v":2},3774,125,{"$f":"VLOOKUP(E3776,'Ark1'!$C$2:$D$11,2,FALSE)","v":5},3774,200,{"$f":"VLOOKUP(H3776,'Ark1'!$C$2:$D$12,2,FALSE)","v":5}]
[3775,32,{"$f":"VLOOKUP(B3777,'Ark1'!C$2:D$11,2,FALSE)","v":2},3775,125,{"$f":"VLOOKUP(E3777,'Ark1'!$C$2:$D$11,2,FALSE)","v":5},3775,200,{"$f":"VLOOKUP(H3777,'Ark1'!$C$2:$D$12,2,FALSE)","v":5}]
[3776,32,{"$f":"VLOOKUP(B3778,'Ark1'!C$2:D$11,2,FALSE)","v":2},3776,125,{"$f":"VLOOKUP(E3778,'Ark1'!$C$2:$D$11,2,FALSE)","v":5},3776,200,{"$f":"VLOOKUP(H3778,'Ark1'!$C$2:$D$12,2,FALSE)","v":5}]
[3777,32,{"$f":"VLOOKUP(B3779,'Ark1'!C$2:D$11,2,FALSE)","v":2},3777,125,{"$f":"VLOOKUP(E3779,'Ark1'!$C$2:$D$11,2,FALSE)","v":5},3777,200,{"$f":"VLOOKUP(H3779,'Ark1'!$C$2:$D$12,2,FALSE)","v":5}]
[3778,32,{"$f":"VLOOKUP(B3780,'Ark1'!C$2:D$11,2,FALSE)","v":2},3778,125,{"$f":"VLOOKUP(E3780,'Ark1'!$C$2:$D$11,2,FALSE)","v":5},3778,200,{"$f":"VLOOKUP(H3780,'Ark1'!$C$2:$D$12,2,FALSE)","v":5}]
[3779,32,{"$f":"VLOOKUP(B3781,'Ark1'!C$2:D$11,2,FALSE)","v":2},3779,125,{"$f":"VLOOKUP(E3781,'Ark1'!$C$2:$D$11,2,FALSE)","v":5},3779,200,{"$f":"VLOOKUP(H3781,'Ark1'!$C$2:$D$12,2,FALSE)","v":5}]
[3780,32,{"$f":"VLOOKUP(B3782,'Ark1'!C$2:D$11,2,FALSE)","v":2},3780,125,{"$f":"VLOOKUP(E3782,'Ark1'!$C$2:$D$11,2,FALSE)","v":5},3780,200,{"$f":"VLOOKUP(H3782,'Ark1'!$C$2:$D$12,2,FALSE)","v":5}]
[3781,32,{"$f":"VLOOKUP(B3783,'Ark1'!C$2:D$11,2,FALSE)","v":2},3781,125,{"$f":"VLOOKUP(E3783,'Ark1'!$C$2:$D$11,2,FALSE)","v":5},3781,200,{"$f":"VLOOKUP(H3783,'Ark1'!$C$2:$D$12,2,FALSE)","v":5}]
[3782,32,{"$f":"VLOOKUP(B3784,'Ark1'!C$2:D$11,2,FALSE)","v":2},3782,125,{"$f":"VLOOKUP(E3784,'Ark1'!$C$2:$D$11,2,FALSE)","v":5},3782,200,{"$f":"VLOOKUP(H3784,'Ark1'!$C$2:$D$12,2,FALSE)","v":5}]
[3783,32,{"$f":"VLOOKUP(B3785,'Ark1'!C$2:D$11,2,FALSE)","v":2},3783,125,{"$f":"VLOOKUP(E3785,'Ark1'!$C$2:$D$11,2,FALSE)","v":5},3783,200,{"$f":"VLOOKUP(H3785,'Ark1'!$C$2:$D$12,2,FALSE)","v":5}]
[3784,32,{"$f":"VLOOKUP(B3786,'Ark1'!C$2:D$11,2,FALSE)","v":2},3784,125,{"$f":"VLOOKUP(E3786,'Ark1'!$C$2:$D$11,2,FALSE)","v":5},3784,200,{"$f":"VLOOKUP(H3786,'Ark1'!$C$2:$D$12,2,FALSE)","v":5}]
[3785,32,{"$f":"VLOOKUP(B3787,'Ark1'!C$2:D$11,2,FALSE)","v":2},3785,125,{"$f":"VLOOKUP(E3787,'Ark1'!$C$2:$D$11,2,FALSE)","v":5},3785,200,{"$f":"VLOOKUP(H3787,'Ark1'!$C$2:$D$12,2,FALSE)","v":5}]
[3786,32,{"$f":"VLOOKUP(B3788,'Ark1'!C$2:D$11,2,FALSE)","v":2},3786,125,{"$f":"VLOOKUP(E3788,'Ark1'!$C$2:$D$11,2,FALSE)","v":5},3786,200,{"$f":"VLOOKUP(H3788,'Ark1'!$C$2:$D$12,2,FALSE)","v":5}]
[3787,32,{"$f":"VLOOKUP(B3789,'Ark1'!C$2:D$11,2,FALSE)","v":2},3787,125,{"$f":"VLOOKUP(E3789,'Ark1'!$C$2:$D$11,2,FALSE)","v":5},3787,200,{"$f":"VLOOKUP(H3789,'Ark1'!$C$2:$D$12,2,FALSE)","v":5}]
[3788,32,{"$f":"VLOOKUP(B3790,'Ark1'!C$2:D$11,2,FALSE)","v":2},3788,125,{"$f":"VLOOKUP(E3790,'Ark1'!$C$2:$D$11,2,FALSE)","v":5},3788,200,{"$f":"VLOOKUP(H3790,'Ark1'!$C$2:$D$12,2,FALSE)","v":5}]
[3789,32,{"$f":"VLOOKUP(B3791,'Ark1'!C$2:D$11,2,FALSE)","v":2},3789,125,{"$f":"VLOOKUP(E3791,'Ark1'!$C$2:$D$11,2,FALSE)","v":5},3789,200,{"$f":"VLOOKUP(H3791,'Ark1'!$C$2:$D$12,2,FALSE)","v":5}]
[3790,32,{"$f":"VLOOKUP(B3792,'Ark1'!C$2:D$11,2,FALSE)","v":2},3790,125,{"$f":"VLOOKUP(E3792,'Ark1'!$C$2:$D$11,2,FALSE)","v":5},3790,200,{"$f":"VLOOKUP(H3792,'Ark1'!$C$2:$D$12,2,FALSE)","v":5}]
[3791,32,{"$f":"VLOOKUP(B3793,'Ark1'!C$2:D$11,2,FALSE)","v":2},3791,125,{"$f":"VLOOKUP(E3793,'Ark1'!$C$2:$D$11,2,FALSE)","v":5},3791,200,{"$f":"VLOOKUP(H3793,'Ark1'!$C$2:$D$12,2,FALSE)","v":5}]
[3792,32,{"$f":"VLOOKUP(B3794,'Ark1'!C$2:D$11,2,FALSE)","v":2},3792,125,{"$f":"VLOOKUP(E3794,'Ark1'!$C$2:$D$11,2,FALSE)","v":5},3792,200,{"$f":"VLOOKUP(H3794,'Ark1'!$C$2:$D$12,2,FALSE)","v":5}]
[3793,32,{"$f":"VLOOKUP(B3795,'Ark1'!C$2:D$11,2,FALSE)","v":2},3793,125,{"$f":"VLOOKUP(E3795,'Ark1'!$C$2:$D$11,2,FALSE)","v":5},3793,200,{"$f":"VLOOKUP(H3795,'Ark1'!$C$2:$D$12,2,FALSE)","v":5}]
[3794,32,{"$f":"VLOOKUP(B3796,'Ark1'!C$2:D$11,2,FALSE)","v":2},3794,125,{"$f":"VLOOKUP(E3796,'Ark1'!$C$2:$D$11,2,FALSE)","v":5},3794,200,{"$f":"VLOOKUP(H3796,'Ark1'!$C$2:$D$12,2,FALSE)","v":5}]
[3795,32,{"$f":"VLOOKUP(B3797,'Ark1'!C$2:D$11,2,FALSE)","v":2},3795,125,{"$f":"VLOOKUP(E3797,'Ark1'!$C$2:$D$11,2,FALSE)","v":5},3795,200,{"$f":"VLOOKUP(H3797,'Ark1'!$C$2:$D$12,2,FALSE)","v":5}]
[3796,32,{"$f":"VLOOKUP(B3798,'Ark1'!C$2:D$11,2,FALSE)","v":2},3796,125,{"$f":"VLOOKUP(E3798,'Ark1'!$C$2:$D$11,2,FALSE)","v":5},3796,200,{"$f":"VLOOKUP(H3798,'Ark1'!$C$2:$D$12,2,FALSE)","v":5}]
[3797,32,{"$f":"VLOOKUP(B3799,'Ark1'!C$2:D$11,2,FALSE)","v":2},3797,125,{"$f":"VLOOKUP(E3799,'Ark1'!$C$2:$D$11,2,FALSE)","v":5},3797,200,{"$f":"VLOOKUP(H3799,'Ark1'!$C$2:$D$12,2,FALSE)","v":5}]
[3798,32,{"$f":"VLOOKUP(B3800,'Ark1'!C$2:D$11,2,FALSE)","v":2},3798,125,{"$f":"VLOOKUP(E3800,'Ark1'!$C$2:$D$11,2,FALSE)","v":5},3798,200,{"$f":"VLOOKUP(H3800,'Ark1'!$C$2:$D$12,2,FALSE)","v":5}]
[3799,32,{"$f":"VLOOKUP(B3801,'Ark1'!C$2:D$11,2,FALSE)","v":2},3799,125,{"$f":"VLOOKUP(E3801,'Ark1'!$C$2:$D$11,2,FALSE)","v":5},3799,200,{"$f":"VLOOKUP(H3801,'Ark1'!$C$2:$D$12,2,FALSE)","v":5}]
[3800,32,{"$f":"VLOOKUP(B3802,'Ark1'!C$2:D$11,2,FALSE)","v":2},3800,125,{"$f":"VLOOKUP(E3802,'Ark1'!$C$2:$D$11,2,FALSE)","v":5},3800,200,{"$f":"VLOOKUP(H3802,'Ark1'!$C$2:$D$12,2,FALSE)","v":5}]
[3801,32,{"$f":"VLOOKUP(B3803,'Ark1'!C$2:D$11,2,FALSE)","v":2},3801,125,{"$f":"VLOOKUP(E3803,'Ark1'!$C$2:$D$11,2,FALSE)","v":5},3801,200,{"$f":"VLOOKUP(H3803,'Ark1'!$C$2:$D$12,2,FALSE)","v":5}]
[3802,32,{"$f":"VLOOKUP(B3804,'Ark1'!C$2:D$11,2,FALSE)","v":2},3802,125,{"$f":"VLOOKUP(E3804,'Ark1'!$C$2:$D$11,2,FALSE)","v":5},3802,200,{"$f":"VLOOKUP(H3804,'Ark1'!$C$2:$D$12,2,FALSE)","v":5}]
[3803,32,{"$f":"VLOOKUP(B3805,'Ark1'!C$2:D$11,2,FALSE)","v":2},3803,125,{"$f":"VLOOKUP(E3805,'Ark1'!$C$2:$D$11,2,FALSE)","v":5},3803,200,{"$f":"VLOOKUP(H3805,'Ark1'!$C$2:$D$12,2,FALSE)","v":5}]
[3804,32,{"$f":"VLOOKUP(B3806,'Ark1'!C$2:D$11,2,FALSE)","v":2},3804,125,{"$f":"VLOOKUP(E3806,'Ark1'!$C$2:$D$11,2,FALSE)","v":5},3804,200,{"$f":"VLOOKUP(H3806,'Ark1'!$C$2:$D$12,2,FALSE)","v":5}]
[3805,32,{"$f":"VLOOKUP(B3807,'Ark1'!C$2:D$11,2,FALSE)","v":2},3805,125,{"$f":"VLOOKUP(E3807,'Ark1'!$C$2:$D$11,2,FALSE)","v":5},3805,200,{"$f":"VLOOKUP(H3807,'Ark1'!$C$2:$D$12,2,FALSE)","v":5}]
[3806,32,{"$f":"VLOOKUP(B3808,'Ark1'!C$2:D$11,2,FALSE)","v":2},3806,125,{"$f":"VLOOKUP(E3808,'Ark1'!$C$2:$D$11,2,FALSE)","v":5},3806,200,{"$f":"VLOOKUP(H3808,'Ark1'!$C$2:$D$12,2,FALSE)","v":5}]
[3807,32,{"$f":"VLOOKUP(B3809,'Ark1'!C$2:D$11,2,FALSE)","v":2},3807,125,{"$f":"VLOOKUP(E3809,'Ark1'!$C$2:$D$11,2,FALSE)","v":5},3807,200,{"$f":"VLOOKUP(H3809,'Ark1'!$C$2:$D$12,2,FALSE)","v":5}]
[3808,32,{"$f":"VLOOKUP(B3810,'Ark1'!C$2:D$11,2,FALSE)","v":2},3808,125,{"$f":"VLOOKUP(E3810,'Ark1'!$C$2:$D$11,2,FALSE)","v":5},3808,200,{"$f":"VLOOKUP(H3810,'Ark1'!$C$2:$D$12,2,FALSE)","v":5}]
[3809,32,{"$f":"VLOOKUP(B3811,'Ark1'!C$2:D$11,2,FALSE)","v":2},3809,125,{"$f":"VLOOKUP(E3811,'Ark1'!$C$2:$D$11,2,FALSE)","v":5},3809,200,{"$f":"VLOOKUP(H3811,'Ark1'!$C$2:$D$12,2,FALSE)","v":5}]
[3810,32,{"$f":"VLOOKUP(B3812,'Ark1'!C$2:D$11,2,FALSE)","v":2},3810,125,{"$f":"VLOOKUP(E3812,'Ark1'!$C$2:$D$11,2,FALSE)","v":5},3810,200,{"$f":"VLOOKUP(H3812,'Ark1'!$C$2:$D$12,2,FALSE)","v":5}]
[3811,32,{"$f":"VLOOKUP(B3813,'Ark1'!C$2:D$11,2,FALSE)","v":2},3811,125,{"$f":"VLOOKUP(E3813,'Ark1'!$C$2:$D$11,2,FALSE)","v":5},3811,200,{"$f":"VLOOKUP(H3813,'Ark1'!$C$2:$D$12,2,FALSE)","v":5}]
[3812,32,{"$f":"VLOOKUP(B3814,'Ark1'!C$2:D$11,2,FALSE)","v":2},3812,125,{"$f":"VLOOKUP(E3814,'Ark1'!$C$2:$D$11,2,FALSE)","v":5},3812,200,{"$f":"VLOOKUP(H3814,'Ark1'!$C$2:$D$12,2,FALSE)","v":5}]
[3813,32,{"$f":"VLOOKUP(B3815,'Ark1'!C$2:D$11,2,FALSE)","v":2},3813,125,{"$f":"VLOOKUP(E3815,'Ark1'!$C$2:$D$11,2,FALSE)","v":5},3813,200,{"$f":"VLOOKUP(H3815,'Ark1'!$C$2:$D$12,2,FALSE)","v":5}]
[3814,32,{"$f":"VLOOKUP(B3816,'Ark1'!C$2:D$11,2,FALSE)","v":2},3814,125,{"$f":"VLOOKUP(E3816,'Ark1'!$C$2:$D$11,2,FALSE)","v":5},3814,200,{"$f":"VLOOKUP(H3816,'Ark1'!$C$2:$D$12,2,FALSE)","v":5}]
[3815,32,{"$f":"VLOOKUP(B3817,'Ark1'!C$2:D$11,2,FALSE)","v":2},3815,125,{"$f":"VLOOKUP(E3817,'Ark1'!$C$2:$D$11,2,FALSE)","v":5},3815,200,{"$f":"VLOOKUP(H3817,'Ark1'!$C$2:$D$12,2,FALSE)","v":5}]
[3816,32,{"$f":"VLOOKUP(B3818,'Ark1'!C$2:D$11,2,FALSE)","v":2},3816,125,{"$f":"VLOOKUP(E3818,'Ark1'!$C$2:$D$11,2,FALSE)","v":5},3816,200,{"$f":"VLOOKUP(H3818,'Ark1'!$C$2:$D$12,2,FALSE)","v":5}]
[3817,32,{"$f":"VLOOKUP(B3819,'Ark1'!C$2:D$11,2,FALSE)","v":2},3817,125,{"$f":"VLOOKUP(E3819,'Ark1'!$C$2:$D$11,2,FALSE)","v":5},3817,200,{"$f":"VLOOKUP(H3819,'Ark1'!$C$2:$D$12,2,FALSE)","v":5}]
[3818,32,{"$f":"VLOOKUP(B3820,'Ark1'!C$2:D$11,2,FALSE)","v":2},3818,125,{"$f":"VLOOKUP(E3820,'Ark1'!$C$2:$D$11,2,FALSE)","v":5},3818,200,{"$f":"VLOOKUP(H3820,'Ark1'!$C$2:$D$12,2,FALSE)","v":5}]
[3819,32,{"$f":"VLOOKUP(B3821,'Ark1'!C$2:D$11,2,FALSE)","v":2},3819,125,{"$f":"VLOOKUP(E3821,'Ark1'!$C$2:$D$11,2,FALSE)","v":5},3819,200,{"$f":"VLOOKUP(H3821,'Ark1'!$C$2:$D$12,2,FALSE)","v":5}]
[3820,32,{"$f":"VLOOKUP(B3822,'Ark1'!C$2:D$11,2,FALSE)","v":2},3820,125,{"$f":"VLOOKUP(E3822,'Ark1'!$C$2:$D$11,2,FALSE)","v":5},3820,200,{"$f":"VLOOKUP(H3822,'Ark1'!$C$2:$D$12,2,FALSE)","v":5}]
[3821,32,{"$f":"VLOOKUP(B3823,'Ark1'!C$2:D$11,2,FALSE)","v":2},3821,125,{"$f":"VLOOKUP(E3823,'Ark1'!$C$2:$D$11,2,FALSE)","v":5},3821,200,{"$f":"VLOOKUP(H3823,'Ark1'!$C$2:$D$12,2,FALSE)","v":5}]
[3822,32,{"$f":"VLOOKUP(B3824,'Ark1'!C$2:D$11,2,FALSE)","v":2},3822,125,{"$f":"VLOOKUP(E3824,'Ark1'!$C$2:$D$11,2,FALSE)","v":5},3822,200,{"$f":"VLOOKUP(H3824,'Ark1'!$C$2:$D$12,2,FALSE)","v":5}]
[3823,32,{"$f":"VLOOKUP(B3825,'Ark1'!C$2:D$11,2,FALSE)","v":2},3823,125,{"$f":"VLOOKUP(E3825,'Ark1'!$C$2:$D$11,2,FALSE)","v":5},3823,200,{"$f":"VLOOKUP(H3825,'Ark1'!$C$2:$D$12,2,FALSE)","v":5}]
[3824,32,{"$f":"VLOOKUP(B3826,'Ark1'!C$2:D$11,2,FALSE)","v":2},3824,125,{"$f":"VLOOKUP(E3826,'Ark1'!$C$2:$D$11,2,FALSE)","v":5},3824,200,{"$f":"VLOOKUP(H3826,'Ark1'!$C$2:$D$12,2,FALSE)","v":5}]
[3825,32,{"$f":"VLOOKUP(B3827,'Ark1'!C$2:D$11,2,FALSE)","v":2},3825,125,{"$f":"VLOOKUP(E3827,'Ark1'!$C$2:$D$11,2,FALSE)","v":5},3825,200,{"$f":"VLOOKUP(H3827,'Ark1'!$C$2:$D$12,2,FALSE)","v":5}]
[3826,32,{"$f":"VLOOKUP(B3828,'Ark1'!C$2:D$11,2,FALSE)","v":2},3826,125,{"$f":"VLOOKUP(E3828,'Ark1'!$C$2:$D$11,2,FALSE)","v":5},3826,200,{"$f":"VLOOKUP(H3828,'Ark1'!$C$2:$D$12,2,FALSE)","v":5}]
[3827,32,{"$f":"VLOOKUP(B3829,'Ark1'!C$2:D$11,2,FALSE)","v":2},3827,125,{"$f":"VLOOKUP(E3829,'Ark1'!$C$2:$D$11,2,FALSE)","v":5},3827,200,{"$f":"VLOOKUP(H3829,'Ark1'!$C$2:$D$12,2,FALSE)","v":5}]
[3828,32,{"$f":"VLOOKUP(B3830,'Ark1'!C$2:D$11,2,FALSE)","v":2},3828,125,{"$f":"VLOOKUP(E3830,'Ark1'!$C$2:$D$11,2,FALSE)","v":5},3828,200,{"$f":"VLOOKUP(H3830,'Ark1'!$C$2:$D$12,2,FALSE)","v":5}]
[3829,32,{"$f":"VLOOKUP(B3831,'Ark1'!C$2:D$11,2,FALSE)","v":2},3829,125,{"$f":"VLOOKUP(E3831,'Ark1'!$C$2:$D$11,2,FALSE)","v":5},3829,200,{"$f":"VLOOKUP(H3831,'Ark1'!$C$2:$D$12,2,FALSE)","v":5}]
[3830,32,{"$f":"VLOOKUP(B3832,'Ark1'!C$2:D$11,2,FALSE)","v":2},3830,125,{"$f":"VLOOKUP(E3832,'Ark1'!$C$2:$D$11,2,FALSE)","v":5},3830,200,{"$f":"VLOOKUP(H3832,'Ark1'!$C$2:$D$12,2,FALSE)","v":5}]
[3831,32,{"$f":"VLOOKUP(B3833,'Ark1'!C$2:D$11,2,FALSE)","v":2},3831,125,{"$f":"VLOOKUP(E3833,'Ark1'!$C$2:$D$11,2,FALSE)","v":5},3831,200,{"$f":"VLOOKUP(H3833,'Ark1'!$C$2:$D$12,2,FALSE)","v":5}]
[3832,32,{"$f":"VLOOKUP(B3834,'Ark1'!C$2:D$11,2,FALSE)","v":2},3832,125,{"$f":"VLOOKUP(E3834,'Ark1'!$C$2:$D$11,2,FALSE)","v":5},3832,200,{"$f":"VLOOKUP(H3834,'Ark1'!$C$2:$D$12,2,FALSE)","v":5}]
[3833,32,{"$f":"VLOOKUP(B3835,'Ark1'!C$2:D$11,2,FALSE)","v":2},3833,125,{"$f":"VLOOKUP(E3835,'Ark1'!$C$2:$D$11,2,FALSE)","v":5},3833,200,{"$f":"VLOOKUP(H3835,'Ark1'!$C$2:$D$12,2,FALSE)","v":5}]
[3834,32,{"$f":"VLOOKUP(B3836,'Ark1'!C$2:D$11,2,FALSE)","v":2},3834,125,{"$f":"VLOOKUP(E3836,'Ark1'!$C$2:$D$11,2,FALSE)","v":5},3834,200,{"$f":"VLOOKUP(H3836,'Ark1'!$C$2:$D$12,2,FALSE)","v":5}]
[3835,32,{"$f":"VLOOKUP(B3837,'Ark1'!C$2:D$11,2,FALSE)","v":2},3835,125,{"$f":"VLOOKUP(E3837,'Ark1'!$C$2:$D$11,2,FALSE)","v":5},3835,200,{"$f":"VLOOKUP(H3837,'Ark1'!$C$2:$D$12,2,FALSE)","v":5}]
[3836,32,{"$f":"VLOOKUP(B3838,'Ark1'!C$2:D$11,2,FALSE)","v":2},3836,125,{"$f":"VLOOKUP(E3838,'Ark1'!$C$2:$D$11,2,FALSE)","v":5},3836,200,{"$f":"VLOOKUP(H3838,'Ark1'!$C$2:$D$12,2,FALSE)","v":5}]
[3837,32,{"$f":"VLOOKUP(B3839,'Ark1'!C$2:D$11,2,FALSE)","v":2},3837,125,{"$f":"VLOOKUP(E3839,'Ark1'!$C$2:$D$11,2,FALSE)","v":5},3837,200,{"$f":"VLOOKUP(H3839,'Ark1'!$C$2:$D$12,2,FALSE)","v":5}]
[3838,32,{"$f":"VLOOKUP(B3840,'Ark1'!C$2:D$11,2,FALSE)","v":2},3838,125,{"$f":"VLOOKUP(E3840,'Ark1'!$C$2:$D$11,2,FALSE)","v":5},3838,200,{"$f":"VLOOKUP(H3840,'Ark1'!$C$2:$D$12,2,FALSE)","v":5}]
[3839,32,{"$f":"VLOOKUP(B3841,'Ark1'!C$2:D$11,2,FALSE)","v":2},3839,125,{"$f":"VLOOKUP(E3841,'Ark1'!$C$2:$D$11,2,FALSE)","v":5},3839,200,{"$f":"VLOOKUP(H3841,'Ark1'!$C$2:$D$12,2,FALSE)","v":5}]
[3840,32,{"$f":"VLOOKUP(B3842,'Ark1'!C$2:D$11,2,FALSE)","v":2},3840,125,{"$f":"VLOOKUP(E3842,'Ark1'!$C$2:$D$11,2,FALSE)","v":5},3840,200,{"$f":"VLOOKUP(H3842,'Ark1'!$C$2:$D$12,2,FALSE)","v":5}]
[3841,32,{"$f":"VLOOKUP(B3843,'Ark1'!C$2:D$11,2,FALSE)","v":2},3841,125,{"$f":"VLOOKUP(E3843,'Ark1'!$C$2:$D$11,2,FALSE)","v":5},3841,200,{"$f":"VLOOKUP(H3843,'Ark1'!$C$2:$D$12,2,FALSE)","v":5}]
[3842,32,{"$f":"VLOOKUP(B3844,'Ark1'!C$2:D$11,2,FALSE)","v":2},3842,125,{"$f":"VLOOKUP(E3844,'Ark1'!$C$2:$D$11,2,FALSE)","v":5},3842,200,{"$f":"VLOOKUP(H3844,'Ark1'!$C$2:$D$12,2,FALSE)","v":5}]
[3843,32,{"$f":"VLOOKUP(B3845,'Ark1'!C$2:D$11,2,FALSE)","v":2},3843,125,{"$f":"VLOOKUP(E3845,'Ark1'!$C$2:$D$11,2,FALSE)","v":5},3843,200,{"$f":"VLOOKUP(H3845,'Ark1'!$C$2:$D$12,2,FALSE)","v":5}]
[3844,32,{"$f":"VLOOKUP(B3846,'Ark1'!C$2:D$11,2,FALSE)","v":2},3844,125,{"$f":"VLOOKUP(E3846,'Ark1'!$C$2:$D$11,2,FALSE)","v":5},3844,200,{"$f":"VLOOKUP(H3846,'Ark1'!$C$2:$D$12,2,FALSE)","v":5}]
[3845,32,{"$f":"VLOOKUP(B3847,'Ark1'!C$2:D$11,2,FALSE)","v":2},3845,125,{"$f":"VLOOKUP(E3847,'Ark1'!$C$2:$D$11,2,FALSE)","v":5},3845,200,{"$f":"VLOOKUP(H3847,'Ark1'!$C$2:$D$12,2,FALSE)","v":5}]
[3846,32,{"$f":"VLOOKUP(B3848,'Ark1'!C$2:D$11,2,FALSE)","v":2},3846,125,{"$f":"VLOOKUP(E3848,'Ark1'!$C$2:$D$11,2,FALSE)","v":5},3846,200,{"$f":"VLOOKUP(H3848,'Ark1'!$C$2:$D$12,2,FALSE)","v":5}]
[3847,32,{"$f":"VLOOKUP(B3849,'Ark1'!C$2:D$11,2,FALSE)","v":2},3847,125,{"$f":"VLOOKUP(E3849,'Ark1'!$C$2:$D$11,2,FALSE)","v":5},3847,200,{"$f":"VLOOKUP(H3849,'Ark1'!$C$2:$D$12,2,FALSE)","v":5}]
[3848,32,{"$f":"VLOOKUP(B3850,'Ark1'!C$2:D$11,2,FALSE)","v":2},3848,125,{"$f":"VLOOKUP(E3850,'Ark1'!$C$2:$D$11,2,FALSE)","v":5},3848,200,{"$f":"VLOOKUP(H3850,'Ark1'!$C$2:$D$12,2,FALSE)","v":5}]
[3849,32,{"$f":"VLOOKUP(B3851,'Ark1'!C$2:D$11,2,FALSE)","v":2},3849,125,{"$f":"VLOOKUP(E3851,'Ark1'!$C$2:$D$11,2,FALSE)","v":5},3849,200,{"$f":"VLOOKUP(H3851,'Ark1'!$C$2:$D$12,2,FALSE)","v":5}]
[3850,32,{"$f":"VLOOKUP(B3852,'Ark1'!C$2:D$11,2,FALSE)","v":2},3850,125,{"$f":"VLOOKUP(E3852,'Ark1'!$C$2:$D$11,2,FALSE)","v":5},3850,200,{"$f":"VLOOKUP(H3852,'Ark1'!$C$2:$D$12,2,FALSE)","v":5}]
[3851,32,{"$f":"VLOOKUP(B3853,'Ark1'!C$2:D$11,2,FALSE)","v":2},3851,125,{"$f":"VLOOKUP(E3853,'Ark1'!$C$2:$D$11,2,FALSE)","v":5},3851,200,{"$f":"VLOOKUP(H3853,'Ark1'!$C$2:$D$12,2,FALSE)","v":5}]
[3852,32,{"$f":"VLOOKUP(B3854,'Ark1'!C$2:D$11,2,FALSE)","v":2},3852,125,{"$f":"VLOOKUP(E3854,'Ark1'!$C$2:$D$11,2,FALSE)","v":5},3852,200,{"$f":"VLOOKUP(H3854,'Ark1'!$C$2:$D$12,2,FALSE)","v":5}]
[3853,32,{"$f":"VLOOKUP(B3855,'Ark1'!C$2:D$11,2,FALSE)","v":2},3853,125,{"$f":"VLOOKUP(E3855,'Ark1'!$C$2:$D$11,2,FALSE)","v":5},3853,200,{"$f":"VLOOKUP(H3855,'Ark1'!$C$2:$D$12,2,FALSE)","v":5}]
[3854,32,{"$f":"VLOOKUP(B3856,'Ark1'!C$2:D$11,2,FALSE)","v":2},3854,125,{"$f":"VLOOKUP(E3856,'Ark1'!$C$2:$D$11,2,FALSE)","v":5},3854,200,{"$f":"VLOOKUP(H3856,'Ark1'!$C$2:$D$12,2,FALSE)","v":5}]
[3855,32,{"$f":"VLOOKUP(B3857,'Ark1'!C$2:D$11,2,FALSE)","v":2},3855,125,{"$f":"VLOOKUP(E3857,'Ark1'!$C$2:$D$11,2,FALSE)","v":5},3855,200,{"$f":"VLOOKUP(H3857,'Ark1'!$C$2:$D$12,2,FALSE)","v":5}]
[3856,32,{"$f":"VLOOKUP(B3858,'Ark1'!C$2:D$11,2,FALSE)","v":2},3856,125,{"$f":"VLOOKUP(E3858,'Ark1'!$C$2:$D$11,2,FALSE)","v":5},3856,200,{"$f":"VLOOKUP(H3858,'Ark1'!$C$2:$D$12,2,FALSE)","v":5}]
[3857,32,{"$f":"VLOOKUP(B3859,'Ark1'!C$2:D$11,2,FALSE)","v":2},3857,125,{"$f":"VLOOKUP(E3859,'Ark1'!$C$2:$D$11,2,FALSE)","v":5},3857,200,{"$f":"VLOOKUP(H3859,'Ark1'!$C$2:$D$12,2,FALSE)","v":5}]
[3858,32,{"$f":"VLOOKUP(B3860,'Ark1'!C$2:D$11,2,FALSE)","v":2},3858,125,{"$f":"VLOOKUP(E3860,'Ark1'!$C$2:$D$11,2,FALSE)","v":5},3858,200,{"$f":"VLOOKUP(H3860,'Ark1'!$C$2:$D$12,2,FALSE)","v":5}]
[3859,32,{"$f":"VLOOKUP(B3861,'Ark1'!C$2:D$11,2,FALSE)","v":2},3859,125,{"$f":"VLOOKUP(E3861,'Ark1'!$C$2:$D$11,2,FALSE)","v":5},3859,200,{"$f":"VLOOKUP(H3861,'Ark1'!$C$2:$D$12,2,FALSE)","v":5}]
[3860,32,{"$f":"VLOOKUP(B3862,'Ark1'!C$2:D$11,2,FALSE)","v":2},3860,125,{"$f":"VLOOKUP(E3862,'Ark1'!$C$2:$D$11,2,FALSE)","v":5},3860,200,{"$f":"VLOOKUP(H3862,'Ark1'!$C$2:$D$12,2,FALSE)","v":5}]
[3861,32,{"$f":"VLOOKUP(B3863,'Ark1'!C$2:D$11,2,FALSE)","v":2},3861,125,{"$f":"VLOOKUP(E3863,'Ark1'!$C$2:$D$11,2,FALSE)","v":5},3861,200,{"$f":"VLOOKUP(H3863,'Ark1'!$C$2:$D$12,2,FALSE)","v":5}]
[3862,32,{"$f":"VLOOKUP(B3864,'Ark1'!C$2:D$11,2,FALSE)","v":2},3862,125,{"$f":"VLOOKUP(E3864,'Ark1'!$C$2:$D$11,2,FALSE)","v":5},3862,200,{"$f":"VLOOKUP(H3864,'Ark1'!$C$2:$D$12,2,FALSE)","v":5}]
[3863,32,{"$f":"VLOOKUP(B3865,'Ark1'!C$2:D$11,2,FALSE)","v":2},3863,125,{"$f":"VLOOKUP(E3865,'Ark1'!$C$2:$D$11,2,FALSE)","v":5},3863,200,{"$f":"VLOOKUP(H3865,'Ark1'!$C$2:$D$12,2,FALSE)","v":5}]

{"sheet":"Feriedag","index":3,"n_rows":22,"n_cols":1,"rows_kept":22,"cut":false,"hidden":false,"merged":[]}
["feriedag"]
["2015-01-01"]
["2015-04-02"]
["2015-04-03"]
["2015-04-06"]
["2015-05-01"]
["2015-05-14"]
["2015-05-15"]
["2015-05-25"]
["2015-06-05"]
["2015-12-25"]
["2015-12-31"]
["2015-12-24"]
["2016-01-01"]
["2016-03-24"]
["2016-03-25"]
["2016-03-28"]
["2016-04-22"]
["2016-05-05"]
["2016-05-16"]
["2016-12-24"]
["2016-12-31"]

{"sheet":"tæller (2016)","index":4,"n_rows":247,"n_cols":14,"rows_kept":247,"cut":false,"hidden":false,"merged":[]}
[null,"Part Number","Antal modtaget i QC","Antal modtaget med bemærkninger:","Bemærkninger på ifh til modtaget","Antal ordre lev. I 2016 vare",2016,"Supplier","Antal modtaget til kontrol","Antal modtaget med bemærkninger:","Bemærkninger på ifh til modtaget","Antal ordre lev. I 2016",{"$f":"SUM(I2:I49)","v":0},{"$f":"SUM(L2:L49)","v":0}]
[{"$f":"VLOOKUP(B2,Slåop!A:B,2,FALSE)","v":{"$error":"#N/A"}},797648,{"$f":"IF(B2<>\"\",COUNTIFS(Registion!H:H,B2,Registion!Z:Z,$G$1),\"\")","v":0},{"$f":"IF(B2<>\"\",COUNTIFS(Registion!H:H,B2,Registion!P:P,\">0,9\",Registion!Z:Z,$G$1),\"\")","v":0},{"$f":"IF(C2<>0,IF(B2<>\"\",D2/C2,\"\"),\"\")","v":""},{"$f":"COUNTIFS('Ordre kommet i 2016'!H:H,B2)","v":0},{"$f":"VLOOKUP(H2,Vendor,2,FALSE)","v":{"$error":"#N/A"}},null,{"$f":"IF(H2<>\"\",COUNTIFS(Registion!F:F,H2,Registion!Z:Z,$G$1),\"\")","v":""},{"$f":"IF(H2<>\"\",COUNTIFS(Registion!F:F,H2,Registion!P:P,\">0,9\",Registion!Z:Z,$G$1),\"\")","v":""},{"$f":"IF(I2<>0,IF(H2<>\"\",J2/I2,\"\"),\"\")","v":""},{"$f":"COUNTIFS('Ordre kommet i 2016'!A:A,H2)","v":0}]
[{"$f":"VLOOKUP(B3,Slåop!A:B,2,FALSE)","v":{"$error":"#N/A"}},786263,{"$f":"IF(B3<>\"\",COUNTIFS(Registion!H:H,B3,Registion!Z:Z,$G$1),\"\")","v":0},{"$f":"IF(B3<>\"\",COUNTIFS(Registion!H:H,B3,Registion!P:P,\">0,9\",Registion!Z:Z,$G$1),\"\")","v":0},"",{"$f":"COUNTIFS('Ordre kommet i 2016'!H:H,B3)","v":0},0,"test",{"$f":"IF(H3<>\"\",COUNTIFS(Registion!F:F,H3,Registion!Z:Z,$G$1),\"\")","v":0},{"$f":"IF(H3<>\"\",COUNTIFS(Registion!F:F,H3,Registion!P:P,\">0,9\",Registion!Z:Z,$G$1),\"\")","v":0},"",{"$f":"COUNTIFS('Ordre kommet i 2016'!A:A,H3)","v":0}]
[{"$f":"VLOOKUP(B4,Slåop!A:B,2,FALSE)","v":{"$error":"#N/A"}},777401,{"$f":"IF(B4<>\"\",COUNTIFS(Registion!H:H,B4,Registion!Z:Z,$G$1),\"\")","v":0},{"$f":"IF(B4<>\"\",COUNTIFS(Registion!H:H,B4,Registion!P:P,\">0,9\",Registion!Z:Z,$G$1),\"\")","v":0},"",{"$f":"COUNTIFS('Ordre kommet i 2016'!H:H,B4)","v":0},{"$error":"#N/A"},"??",{"$f":"IF(H4<>\"\",COUNTIFS(Registion!F:F,H4,Registion!Z:Z,$G$1),\"\")","v":0},{"$f":"IF(H4<>\"\",COUNTIFS(Registion!F:F,H4,Registion!P:P,\">0,9\",Registion!Z:Z,$G$1),\"\")","v":0},"",{"$f":"COUNTIFS('Ordre kommet i 2016'!A:A,H4)","v":0}]
[{"$f":"VLOOKUP(B5,Slåop!A:B,2,FALSE)","v":{"$error":"#N/A"}},767145,{"$f":"IF(B5<>\"\",COUNTIFS(Registion!H:H,B5,Registion!Z:Z,$G$1),\"\")","v":0},{"$f":"IF(B5<>\"\",COUNTIFS(Registion!H:H,B5,Registion!P:P,\">0,9\",Registion!Z:Z,$G$1),\"\")","v":0},"",{"$f":"COUNTIFS('Ordre kommet i 2016'!H:H,B5)","v":0},0,303001,{"$f":"IF(H5<>\"\",COUNTIFS(Registion!F:F,H5,Registion!Z:Z,$G$1),\"\")","v":0},{"$f":"IF(H5<>\"\",COUNTIFS(Registion!F:F,H5,Registion!P:P,\">0,9\",Registion!Z:Z,$G$1),\"\")","v":0},"",{"$f":"COUNTIFS('Ordre kommet i 2016'!A:A,H5)","v":0}]
[{"$f":"VLOOKUP(B6,Slåop!A:B,2,FALSE)","v":{"$error":"#N/A"}},749103,{"$f":"IF(B6<>\"\",COUNTIFS(Registion!H:H,B6,Registion!Z:Z,$G$1),\"\")","v":0},{"$f":"IF(B6<>\"\",COUNTIFS(Registion!H:H,B6,Registion!P:P,\">0,9\",Registion!Z:Z,$G$1),\"\")","v":0},"",{"$f":"COUNTIFS('Ordre kommet i 2016'!H:H,B6)","v":0},0,343438,{"$f":"IF(H6<>\"\",COUNTIFS(Registion!F:F,H6,Registion!Z:Z,$G$1),\"\")","v":0},{"$f":"IF(H6<>\"\",COUNTIFS(Registion!F:F,H6,Registion!P:P,\">0,9\",Registion!Z:Z,$G$1),\"\")","v":0},"",{"$f":"COUNTIFS('Ordre kommet i 2016'!A:A,H6)","v":0}]
[{"$f":"VLOOKUP(B7,Slåop!A:B,2,FALSE)","v":{"$error":"#N/A"}},786397,{"$f":"IF(B7<>\"\",COUNTIFS(Registion!H:H,B7,Registion!Z:Z,$G$1),\"\")","v":0},{"$f":"IF(B7<>\"\",COUNTIFS(Registion!H:H,B7,Registion!P:P,\">0,9\",Registion!Z:Z,$G$1),\"\")","v":0},"",{"$f":"COUNTIFS('Ordre kommet i 2016'!H:H,B7)","v":0},0,"Retur vare",{"$f":"IF(H7<>\"\",COUNTIFS(Registion!F:F,H7,Registion!Z:Z,$G$1),\"\")","v":0},{"$f":"IF(H7<>\"\",COUNTIFS(Registion!F:F,H7,Registion!P:P,\">0,9\",Registion!Z:Z,$G$1),\"\")","v":0},"",{"$f":"COUNTIFS('Ordre kommet i 2016'!A:A,H7)","v":0}]
[{"$f":"VLOOKUP(B8,Slåop!A:B,2,FALSE)","v":{"$error":"#N/A"}},805275,{"$f":"IF(B8<>\"\",COUNTIFS(Registion!H:H,B8,Registion!Z:Z,$G$1),\"\")","v":0},{"$f":"IF(B8<>\"\",COUNTIFS(Registion!H:H,B8,Registion!P:P,\">0,9\",Registion!Z:Z,$G$1),\"\")","v":0},"",{"$f":"COUNTIFS('Ordre kommet i 2016'!H:H,B8)","v":0},0,343698,{"$f":"IF(H8<>\"\",COUNTIFS(Registion!F:F,H8,Registion!Z:Z,$G$1),\"\")","v":0},{"$f":"IF(H8<>\"\",COUNTIFS(Registion!F:F,H8,Registion!P:P,\">0,9\",Registion!Z:Z,$G$1),\"\")","v":0},"",{"$f":"COUNTIFS('Ordre kommet i 2016'!A:A,H8)","v":0}]
[{"$f":"VLOOKUP(B9,Slåop!A:B,2,FALSE)","v":{"$error":"#N/A"}},761085,{"$f":"IF(B9<>\"\",COUNTIFS(Registion!H:H,B9,Registion!Z:Z,$G$1),\"\")","v":0},{"$f":"IF(B9<>\"\",COUNTIFS(Registion!H:H,B9,Registion!P:P,\">0,9\",Registion!Z:Z,$G$1),\"\")","v":0},"",{"$f":"COUNTIFS('Ordre kommet i 2016'!H:H,B9)","v":0},{"$error":"#N/A"},"ingen",{"$f":"IF(H9<>\"\",COUNTIFS(Registion!F:F,H9,Registion!Z:Z,$G$1),\"\")","v":0},{"$f":"IF(H9<>\"\",COUNTIFS(Registion!F:F,H9,Registion!P:P,\">0,9\",Registion!Z:Z,$G$1),\"\")","v":0},"",{"$f":"COUNTIFS('Ordre kommet i 2016'!A:A,H9)","v":0}]
[{"$f":"VLOOKUP(B10,Slåop!A:B,2,FALSE)","v":{"$error":"#N/A"}},760870,{"$f":"IF(B10<>\"\",COUNTIFS(Registion!H:H,B10,Registion!Z:Z,$G$1),\"\")","v":0},{"$f":"IF(B10<>\"\",COUNTIFS(Registion!H:H,B10,Registion!P:P,\">0,9\",Registion!Z:Z,$G$1),\"\")","v":0},"",{"$f":"COUNTIFS('Ordre kommet i 2016'!H:H,B10)","v":0},0,343137,{"$f":"IF(H10<>\"\",COUNTIFS(Registion!F:F,H10,Registion!Z:Z,$G$1),\"\")","v":0},{"$f":"IF(H10<>\"\",COUNTIFS(Registion!F:F,H10,Registion!P:P,\">0,9\",Registion!Z:Z,$G$1),\"\")","v":0},"",{"$f":"COUNTIFS('Ordre kommet i 2016'!A:A,H10)","v":0}]
[{"$f":"VLOOKUP(B11,Slåop!A:B,2,FALSE)","v":{"$error":"#N/A"}},788087,{"$f":"IF(B11<>\"\",COUNTIFS(Registion!H:H,B11,Registion!Z:Z,$G$1),\"\")","v":0},{"$f":"IF(B11<>\"\",COUNTIFS(Registion!H:H,B11,Registion!P:P,\">0,9\",Registion!Z:Z,$G$1),\"\")","v":0},"",{"$f":"COUNTIFS('Ordre kommet i 2016'!H:H,B11)","v":0},0,343708,{"$f":"IF(H11<>\"\",COUNTIFS(Registion!F:F,H11,Registion!Z:Z,$G$1),\"\")","v":0},{"$f":"IF(H11<>\"\",COUNTIFS(Registion!F:F,H11,Registion!P:P,\">0,9\",Registion!Z:Z,$G$1),\"\")","v":0},"",{"$f":"COUNTIFS('Ordre kommet i 2016'!A:A,H11)","v":0}]
[{"$f":"VLOOKUP(B12,Slåop!A:B,2,FALSE)","v":{"$error":"#N/A"}},833891,{"$f":"IF(B12<>\"\",COUNTIFS(Registion!H:H,B12,Registion!Z:Z,$G$1),\"\")","v":0},{"$f":"IF(B12<>\"\",COUNTIFS(Registion!H:H,B12,Registion!P:P,\">0,9\",Registion!Z:Z,$G$1),\"\")","v":0},"",{"$f":"COUNTIFS('Ordre kommet i 2016'!H:H,B12)","v":0},0,343022,{"$f":"IF(H12<>\"\",COUNTIFS(Registion!F:F,H12,Registion!Z:Z,$G$1),\"\")","v":0},{"$f":"IF(H12<>\"\",COUNTIFS(Registion!F:F,H12,Registion!P:P,\">0,9\",Registion!Z:Z,$G$1),\"\")","v":0},"",{"$f":"COUNTIFS('Ordre kommet i 2016'!A:A,H12)","v":0}]
[{"$f":"VLOOKUP(B13,Slåop!A:B,2,FALSE)","v":{"$error":"#N/A"}},823461,{"$f":"IF(B13<>\"\",COUNTIFS(Registion!H:H,B13,Registion!Z:Z,$G$1),\"\")","v":0},{"$f":"IF(B13<>\"\",COUNTIFS(Registion!H:H,B13,Registion!P:P,\">0,9\",Registion!Z:Z,$G$1),\"\")","v":0},"",{"$f":"COUNTIFS('Ordre kommet i 2016'!H:H,B13)","v":0},0,343352,{"$f":"IF(H13<>\"\",COUNTIFS(Registion!F:F,H13,Registion!Z:Z,$G$1),\"\")","v":0},{"$f":"IF(H13<>\"\",COUNTIFS(Registion!F:F,H13,Registion!P:P,\">0,9\",Registion!Z:Z,$G$1),\"\")","v":0},"",{"$f":"COUNTIFS('Ordre kommet i 2016'!A:A,H13)","v":0}]
[{"$f":"VLOOKUP(B14,Slåop!A:B,2,FALSE)","v":{"$error":"#N/A"}},811006,{"$f":"IF(B14<>\"\",COUNTIFS(Registion!H:H,B14,Registion!Z:Z,$G$1),\"\")","v":0},{"$f":"IF(B14<>\"\",COUNTIFS(Registion!H:H,B14,Registion!P:P,\">0,9\",Registion!Z:Z,$G$1),\"\")","v":0},"",{"$f":"COUNTIFS('Ordre kommet i 2016'!H:H,B14)","v":0},0,343030,{"$f":"IF(H14<>\"\",COUNTIFS(Registion!F:F,H14,Registion!Z:Z,$G$1),\"\")","v":0},{"$f":"IF(H14<>\"\",COUNTIFS(Registion!F:F,H14,Registion!P:P,\">0,9\",Registion!Z:Z,$G$1),\"\")","v":0},"",{"$f":"COUNTIFS('Ordre kommet i 2016'!A:A,H14)","v":0}]
[{"$f":"VLOOKUP(B15,Slåop!A:B,2,FALSE)","v":{"$error":"#N/A"}},786554,{"$f":"IF(B15<>\"\",COUNTIFS(Registion!H:H,B15,Registion!Z:Z,$G$1),\"\")","v":0},{"$f":"IF(B15<>\"\",COUNTIFS(Registion!H:H,B15,Registion!P:P,\">0,9\",Registion!Z:Z,$G$1),\"\")","v":0},"",{"$f":"COUNTIFS('Ordre kommet i 2016'!H:H,B15)","v":0},0,343149,{"$f":"IF(H15<>\"\",COUNTIFS(Registion!F:F,H15,Registion!Z:Z,$G$1),\"\")","v":0},{"$f":"IF(H15<>\"\",COUNTIFS(Registion!F:F,H15,Registion!P:P,\">0,9\",Registion!Z:Z,$G$1),\"\")","v":0},"",{"$f":"COUNTIFS('Ordre kommet i 2016'!A:A,H15)","v":0}]
[{"$f":"VLOOKUP(B16,Slåop!A:B,2,FALSE)","v":{"$error":"#N/A"}},786585,{"$f":"IF(B16<>\"\",COUNTIFS(Registion!H:H,B16,Registion!Z:Z,$G$1),\"\")","v":0},{"$f":"IF(B16<>\"\",COUNTIFS(Registion!H:H,B16,Registion!P:P,\">0,9\",Registion!Z:Z,$G$1),\"\")","v":0},"",{"$f":"COUNTIFS('Ordre kommet i 2016'!H:H,B16)","v":0},0,343042,{"$f":"IF(H16<>\"\",COUNTIFS(Registion!F:F,H16,Registion!Z:Z,$G$1),\"\")","v":0},{"$f":"IF(H16<>\"\",COUNTIFS(Registion!F:F,H16,Registion!P:P,\">0,9\",Registion!Z:Z,$G$1),\"\")","v":0},"",{"$f":"COUNTIFS('Ordre kommet i 2016'!A:A,H16)","v":0}]
[{"$f":"VLOOKUP(B17,Slåop!A:B,2,FALSE)","v":{"$error":"#N/A"}},832662,{"$f":"IF(B17<>\"\",COUNTIFS(Registion!H:H,B17,Registion!Z:Z,$G$1),\"\")","v":0},{"$f":"IF(B17<>\"\",COUNTIFS(Registion!H:H,B17,Registion!P:P,\">0,9\",Registion!Z:Z,$G$1),\"\")","v":0},"",{"$f":"COUNTIFS('Ordre kommet i 2016'!H:H,B17)","v":0},0,343231,{"$f":"IF(H17<>\"\",COUNTIFS(Registion!F:F,H17,Registion!Z:Z,$G$1),\"\")","v":0},{"$f":"IF(H17<>\"\",COUNTIFS(Registion!F:F,H17,Registion!P:P,\">0,9\",Registion!Z:Z,$G$1),\"\")","v":0},"",{"$f":"COUNTIFS('Ordre kommet i 2016'!A:A,H17)","v":0}]
[{"$f":"VLOOKUP(B18,Slåop!A:B,2,FALSE)","v":{"$error":"#N/A"}},829727,{"$f":"IF(B18<>\"\",COUNTIFS(Registion!H:H,B18,Registion!Z:Z,$G$1),\"\")","v":0},{"$f":"IF(B18<>\"\",COUNTIFS(Registion!H:H,B18,Registion!P:P,\">0,9\",Registion!Z:Z,$G$1),\"\")","v":0},"",{"$f":"COUNTIFS('Ordre kommet i 2016'!H:H,B18)","v":0},0,343235,{"$f":"IF(H18<>\"\",COUNTIFS(Registion!F:F,H18,Registion!Z:Z,$G$1),\"\")","v":0},{"$f":"IF(H18<>\"\",COUNTIFS(Registion!F:F,H18,Registion!P:P,\">0,9\",Registion!Z:Z,$G$1),\"\")","v":0},"",{"$f":"COUNTIFS('Ordre kommet i 2016'!A:A,H18)","v":0}]
[{"$f":"VLOOKUP(B19,Slåop!A:B,2,FALSE)","v":{"$error":"#N/A"}},797658,{"$f":"IF(B19<>\"\",COUNTIFS(Registion!H:H,B19,Registion!Z:Z,$G$1),\"\")","v":0},{"$f":"IF(B19<>\"\",COUNTIFS(Registion!H:H,B19,Registion!P:P,\">0,9\",Registion!Z:Z,$G$1),\"\")","v":0},"",{"$f":"COUNTIFS('Ordre kommet i 2016'!H:H,B19)","v":0},0,365122,{"$f":"IF(H19<>\"\",COUNTIFS(Registion!F:F,H19,Registion!Z:Z,$G$1),\"\")","v":0},{"$f":"IF(H19<>\"\",COUNTIFS(Registion!F:F,H19,Registion!P:P,\">0,9\",Registion!Z:Z,$G$1),\"\")","v":0},"",{"$f":"COUNTIFS('Ordre kommet i 2016'!A:A,H19)","v":0}]
[{"$f":"VLOOKUP(B20,Slåop!A:B,2,FALSE)","v":{"$error":"#N/A"}},787023,{"$f":"IF(B20<>\"\",COUNTIFS(Registion!H:H,B20,Registion!Z:Z,$G$1),\"\")","v":0},{"$f":"IF(B20<>\"\",COUNTIFS(Registion!H:H,B20,Registion!P:P,\">0,9\",Registion!Z:Z,$G$1),\"\")","v":0},"",{"$f":"COUNTIFS('Ordre kommet i 2016'!H:H,B20)","v":0},0,343538,{"$f":"IF(H20<>\"\",COUNTIFS(Registion!F:F,H20,Registion!Z:Z,$G$1),\"\")","v":0},{"$f":"IF(H20<>\"\",COUNTIFS(Registion!F:F,H20,Registion!P:P,\">0,9\",Registion!Z:Z,$G$1),\"\")","v":0},"",{"$f":"COUNTIFS('Ordre kommet i 2016'!A:A,H20)","v":0}]
[{"$f":"VLOOKUP(B21,Slåop!A:B,2,FALSE)","v":{"$error":"#N/A"}},795528,{"$f":"IF(B21<>\"\",COUNTIFS(Registion!H:H,B21,Registion!Z:Z,$G$1),\"\")","v":0},{"$f":"IF(B21<>\"\",COUNTIFS(Registion!H:H,B21,Registion!P:P,\">0,9\",Registion!Z:Z,$G$1),\"\")","v":0},"",{"$f":"COUNTIFS('Ordre kommet i 2016'!H:H,B21)","v":0},0,343505,{"$f":"IF(H21<>\"\",COUNTIFS(Registion!F:F,H21,Registion!Z:Z,$G$1),\"\")","v":0},{"$f":"IF(H21<>\"\",COUNTIFS(Registion!F:F,H21,Registion!P:P,\">0,9\",Registion!Z:Z,$G$1),\"\")","v":0},"",{"$f":"COUNTIFS('Ordre kommet i 2016'!A:A,H21)","v":0}]
[{"$f":"VLOOKUP(B22,Slåop!A:B,2,FALSE)","v":{"$error":"#N/A"}},779051,{"$f":"IF(B22<>\"\",COUNTIFS(Registion!H:H,B22,Registion!Z:Z,$G$1),\"\")","v":0},{"$f":"IF(B22<>\"\",COUNTIFS(Registion!H:H,B22,Registion!P:P,\">0,9\",Registion!Z:Z,$G$1),\"\")","v":0},"",{"$f":"COUNTIFS('Ordre kommet i 2016'!H:H,B22)","v":0},0,343002,{"$f":"IF(H22<>\"\",COUNTIFS(Registion!F:F,H22,Registion!Z:Z,$G$1),\"\")","v":0},{"$f":"IF(H22<>\"\",COUNTIFS(Registion!F:F,H22,Registion!P:P,\">0,9\",Registion!Z:Z,$G$1),\"\")","v":0},"",{"$f":"COUNTIFS('Ordre kommet i 2016'!A:A,H22)","v":0}]
[{"$f":"VLOOKUP(B23,Slåop!A:B,2,FALSE)","v":{"$error":"#N/A"}},820528,{"$f":"IF(B23<>\"\",COUNTIFS(Registion!H:H,B23,Registion!Z:Z,$G$1),\"\")","v":0},{"$f":"IF(B23<>\"\",COUNTIFS(Registion!H:H,B23,Registion!P:P,\">0,9\",Registion!Z:Z,$G$1),\"\")","v":0},"",{"$f":"COUNTIFS('Ordre kommet i 2016'!H:H,B23)","v":0},0,343001,{"$f":"IF(H23<>\"\",COUNTIFS(Registion!F:F,H23,Registion!Z:Z,$G$1),\"\")","v":0},{"$f":"IF(H23<>\"\",COUNTIFS(Registion!F:F,H23,Registion!P:P,\">0,9\",Registion!Z:Z,$G$1),\"\")","v":0},"",{"$f":"COUNTIFS('Ordre kommet i 2016'!A:A,H23)","v":0}]
[{"$f":"VLOOKUP(B24,Slåop!A:B,2,FALSE)","v":{"$error":"#N/A"}},823513,{"$f":"IF(B24<>\"\",COUNTIFS(Registion!H:H,B24,Registion!Z:Z,$G$1),\"\")","v":0},{"$f":"IF(B24<>\"\",COUNTIFS(Registion!H:H,B24,Registion!P:P,\">0,9\",Registion!Z:Z,$G$1),\"\")","v":0},"",{"$f":"COUNTIFS('Ordre kommet i 2016'!H:H,B24)","v":0},0,343252,{"$f":"IF(H24<>\"\",COUNTIFS(Registion!F:F,H24,Registion!Z:Z,$G$1),\"\")","v":0},{"$f":"IF(H24<>\"\",COUNTIFS(Registion!F:F,H24,Registion!P:P,\">0,9\",Registion!Z:Z,$G$1),\"\")","v":0},"",{"$f":"COUNTIFS('Ordre kommet i 2016'!A:A,H24)","v":0}]
[{"$f":"VLOOKUP(B25,Slåop!A:B,2,FALSE)","v":{"$error":"#N/A"}},823514,{"$f":"IF(B25<>\"\",COUNTIFS(Registion!H:H,B25,Registion!Z:Z,$G$1),\"\")","v":0},{"$f":"IF(B25<>\"\",COUNTIFS(Registion!H:H,B25,Registion!P:P,\">0,9\",Registion!Z:Z,$G$1),\"\")","v":0},"",{"$f":"COUNTIFS('Ordre kommet i 2016'!H:H,B25)","v":0},0,343320,{"$f":"IF(H25<>\"\",COUNTIFS(Registion!F:F,H25,Registion!Z:Z,$G$1),\"\")","v":0},{"$f":"IF(H25<>\"\",COUNTIFS(Registion!F:F,H25,Registion!P:P,\">0,9\",Registion!Z:Z,$G$1),\"\")","v":0},"",{"$f":"COUNTIFS('Ordre kommet i 2016'!A:A,H25)","v":0}]
[{"$f":"VLOOKUP(B26,Slåop!A:B,2,FALSE)","v":{"$error":"#N/A"}},762584,{"$f":"IF(B26<>\"\",COUNTIFS(Registion!H:H,B26,Registion!Z:Z,$G$1),\"\")","v":0},{"$f":"IF(B26<>\"\",COUNTIFS(Registion!H:H,B26,Registion!P:P,\">0,9\",Registion!Z:Z,$G$1),\"\")","v":0},"",{"$f":"COUNTIFS('Ordre kommet i 2016'!H:H,B26)","v":0},0,365123,{"$f":"IF(H26<>\"\",COUNTIFS(Registion!F:F,H26,Registion!Z:Z,$G$1),\"\")","v":0},{"$f":"IF(H26<>\"\",COUNTIFS(Registion!F:F,H26,Registion!P:P,\">0,9\",Registion!Z:Z,$G$1),\"\")","v":0},"",{"$f":"COUNTIFS('Ordre kommet i 2016'!A:A,H26)","v":0}]
[{"$f":"VLOOKUP(B27,Slåop!A:B,2,FALSE)","v":{"$error":"#N/A"}},829729,{"$f":"IF(B27<>\"\",COUNTIFS(Registion!H:H,B27,Registion!Z:Z,$G$1),\"\")","v":0},{"$f":"IF(B27<>\"\",COUNTIFS(Registion!H:H,B27,Registion!P:P,\">0,9\",Registion!Z:Z,$G$1),\"\")","v":0},"",{"$f":"COUNTIFS('Ordre kommet i 2016'!H:H,B27)","v":0},0,115163,{"$f":"IF(H27<>\"\",COUNTIFS(Registion!F:F,H27,Registion!Z:Z,$G$1),\"\")","v":0},{"$f":"IF(H27<>\"\",COUNTIFS(Registion!F:F,H27,Registion!P:P,\">0,9\",Registion!Z:Z,$G$1),\"\")","v":0},"",{"$f":"COUNTIFS('Ordre kommet i 2016'!A:A,H27)","v":0}]
[{"$f":"VLOOKUP(B28,Slåop!A:B,2,FALSE)","v":{"$error":"#N/A"}},829730,{"$f":"IF(B28<>\"\",COUNTIFS(Registion!H:H,B28,Registion!Z:Z,$G$1),\"\")","v":0},{"$f":"IF(B28<>\"\",COUNTIFS(Registion!H:H,B28,Registion!P:P,\">0,9\",Registion!Z:Z,$G$1),\"\")","v":0},"",{"$f":"COUNTIFS('Ordre kommet i 2016'!H:H,B28)","v":0},0,343003,{"$f":"IF(H28<>\"\",COUNTIFS(Registion!F:F,H28,Registion!Z:Z,$G$1),\"\")","v":0},{"$f":"IF(H28<>\"\",COUNTIFS(Registion!F:F,H28,Registion!P:P,\">0,9\",Registion!Z:Z,$G$1),\"\")","v":0},"",{"$f":"COUNTIFS('Ordre kommet i 2016'!A:A,H28)","v":0}]
[{"$f":"VLOOKUP(B29,Slåop!A:B,2,FALSE)","v":{"$error":"#N/A"}},761508,{"$f":"IF(B29<>\"\",COUNTIFS(Registion!H:H,B29,Registion!Z:Z,$G$1),\"\")","v":0},{"$f":"IF(B29<>\"\",COUNTIFS(Registion!H:H,B29,Registion!P:P,\">0,9\",Registion!Z:Z,$G$1),\"\")","v":0},"",{"$f":"COUNTIFS('Ordre kommet i 2016'!H:H,B29)","v":0},{"$error":"#N/A"},"REWORK ORDRE",{"$f":"IF(H29<>\"\",COUNTIFS(Registion!F:F,H29,Registion!Z:Z,$G$1),\"\")","v":0},{"$f":"IF(H29<>\"\",COUNTIFS(Registion!F:F,H29,Registion!P:P,\">0,9\",Registion!Z:Z,$G$1),\"\")","v":0},"",{"$f":"COUNTIFS('Ordre kommet i 2016'!A:A,H29)","v":0}]
[{"$f":"VLOOKUP(B30,Slåop!A:B,2,FALSE)","v":{"$error":"#N/A"}},797656,{"$f":"IF(B30<>\"\",COUNTIFS(Registion!H:H,B30,Registion!Z:Z,$G$1),\"\")","v":0},{"$f":"IF(B30<>\"\",COUNTIFS(Registion!H:H,B30,Registion!P:P,\">0,9\",Registion!Z:Z,$G$1),\"\")","v":0},"",{"$f":"COUNTIFS('Ordre kommet i 2016'!H:H,B30)","v":0},0,343006,{"$f":"IF(H30<>\"\",COUNTIFS(Registion!F:F,H30,Registion!Z:Z,$G$1),\"\")","v":0},{"$f":"IF(H30<>\"\",COUNTIFS(Registion!F:F,H30,Registion!P:P,\">0,9\",Registion!Z:Z,$G$1),\"\")","v":0},"",{"$f":"COUNTIFS('Ordre kommet i 2016'!A:A,H30)","v":0}]
[{"$f":"VLOOKUP(B31,Slåop!A:B,2,FALSE)","v":{"$error":"#N/A"}},774576,{"$f":"IF(B31<>\"\",COUNTIFS(Registion!H:H,B31,Registion!Z:Z,$G$1),\"\")","v":0},{"$f":"IF(B31<>\"\",COUNTIFS(Registion!H:H,B31,Registion!P:P,\">0,9\",Registion!Z:Z,$G$1),\"\")","v":0},"",{"$f":"COUNTIFS('Ordre kommet i 2016'!H:H,B31)","v":0},"Leica Geosystems 2","001500",{"$f":"IF(H31<>\"\",COUNTIFS(Registion!F:F,H31,Registion!Z:Z,$G$1),\"\")","v":0},{"$f":"IF(H31<>\"\",COUNTIFS(Registion!F:F,H31,Registion!P:P,\">0,9\",Registion!Z:Z,$G$1),\"\")","v":0},"",{"$f":"COUNTIFS('Ordre kommet i 2016'!A:A,H31)","v":0}]
[{"$f":"VLOOKUP(B32,Slåop!A:B,2,FALSE)","v":{"$error":"#N/A"}},786356,{"$f":"IF(B32<>\"\",COUNTIFS(Registion!H:H,B32,Registion!Z:Z,$G$1),\"\")","v":0},{"$f":"IF(B32<>\"\",COUNTIFS(Registion!H:H,B32,Registion!P:P,\">0,9\",Registion!Z:Z,$G$1),\"\")","v":0},"",{"$f":"COUNTIFS('Ordre kommet i 2016'!H:H,B32)","v":0},0,604401,{"$f":"IF(H32<>\"\",COUNTIFS(Registion!F:F,H32,Registion!Z:Z,$G$1),\"\")","v":0},{"$f":"IF(H32<>\"\",COUNTIFS(Registion!F:F,H32,Registion!P:P,\">0,9\",Registion!Z:Z,$G$1),\"\")","v":0},"",{"$f":"COUNTIFS('Ordre kommet i 2016'!A:A,H32)","v":0}]
[{"$f":"VLOOKUP(B33,Slåop!A:B,2,FALSE)","v":{"$error":"#N/A"}},765639,{"$f":"IF(B33<>\"\",COUNTIFS(Registion!H:H,B33,Registion!Z:Z,$G$1),\"\")","v":0},{"$f":"IF(B33<>\"\",COUNTIFS(Registion!H:H,B33,Registion!P:P,\">0,9\",Registion!Z:Z,$G$1),\"\")","v":0},"",{"$f":"COUNTIFS('Ordre kommet i 2016'!H:H,B33)","v":0},0,343012,{"$f":"IF(H33<>\"\",COUNTIFS(Registion!F:F,H33,Registion!Z:Z,$G$1),\"\")","v":0},{"$f":"IF(H33<>\"\",COUNTIFS(Registion!F:F,H33,Registion!P:P,\">0,9\",Registion!Z:Z,$G$1),\"\")","v":0},"",{"$f":"COUNTIFS('Ordre kommet i 2016'!A:A,H33)","v":0}]
[{"$f":"VLOOKUP(B34,Slåop!A:B,2,FALSE)","v":{"$error":"#N/A"}},765199,{"$f":"IF(B34<>\"\",COUNTIFS(Registion!H:H,B34,Registion!Z:Z,$G$1),\"\")","v":0},{"$f":"IF(B34<>\"\",COUNTIFS(Registion!H:H,B34,Registion!P:P,\">0,9\",Registion!Z:Z,$G$1),\"\")","v":0},"",{"$f":"COUNTIFS('Ordre kommet i 2016'!H:H,B34)","v":0},0,343678,{"$f":"IF(H34<>\"\",COUNTIFS(Registion!F:F,H34,Registion!Z:Z,$G$1),\"\")","v":0},{"$f":"IF(H34<>\"\",COUNTIFS(Registion!F:F,H34,Registion!P:P,\">0,9\",Registion!Z:Z,$G$1),\"\")","v":0},{"$f":"IF(I34<>0,IF(H34<>\"\",J34/I34,\"\"),\"\")","v":""},{"$f":"COUNTIFS('Ordre kommet i 2016'!A:A,H34)","v":0}]
[{"$f":"VLOOKUP(B35,Slåop!A:B,2,FALSE)","v":{"$error":"#N/A"}},797659,{"$f":"IF(B35<>\"\",COUNTIFS(Registion!H:H,B35,Registion!Z:Z,$G$1),\"\")","v":0},{"$f":"IF(B35<>\"\",COUNTIFS(Registion!H:H,B35,Registion!P:P,\">0,9\",Registion!Z:Z,$G$1),\"\")","v":0},"",{"$f":"COUNTIFS('Ordre kommet i 2016'!H:H,B35)","v":0},0,343244,{"$f":"IF(H35<>\"\",COUNTIFS(Registion!F:F,H35,Registion!Z:Z,$G$1),\"\")","v":0},{"$f":"IF(H35<>\"\",COUNTIFS(Registion!F:F,H35,Registion!P:P,\">0,9\",Registion!Z:Z,$G$1),\"\")","v":0},"",{"$f":"COUNTIFS('Ordre kommet i 2016'!A:A,H35)","v":0}]
[{"$f":"VLOOKUP(B36,Slåop!A:B,2,FALSE)","v":{"$error":"#N/A"}},789471,{"$f":"IF(B36<>\"\",COUNTIFS(Registion!H:H,B36,Registion!Z:Z,$G$1),\"\")","v":0},{"$f":"IF(B36<>\"\",COUNTIFS(Registion!H:H,B36,Registion!P:P,\">0,9\",Registion!Z:Z,$G$1),\"\")","v":0},"",{"$f":"COUNTIFS('Ordre kommet i 2016'!H:H,B36)","v":0},0,343200,{"$f":"IF(H36<>\"\",COUNTIFS(Registion!F:F,H36,Registion!Z:Z,$G$1),\"\")","v":0},{"$f":"IF(H36<>\"\",COUNTIFS(Registion!F:F,H36,Registion!P:P,\">0,9\",Registion!Z:Z,$G$1),\"\")","v":0},"",{"$f":"COUNTIFS('Ordre kommet i 2016'!A:A,H36)","v":0}]
[{"$f":"VLOOKUP(B37,Slåop!A:B,2,FALSE)","v":{"$error":"#N/A"}},818971,{"$f":"IF(B37<>\"\",COUNTIFS(Registion!H:H,B37,Registion!Z:Z,$G$1),\"\")","v":0},{"$f":"IF(B37<>\"\",COUNTIFS(Registion!H:H,B37,Registion!P:P,\">0,9\",Registion!Z:Z,$G$1),\"\")","v":0},"",{"$f":"COUNTIFS('Ordre kommet i 2016'!H:H,B37)","v":0},0,343069,{"$f":"IF(H37<>\"\",COUNTIFS(Registion!F:F,H37,Registion!Z:Z,$G$1),\"\")","v":0},{"$f":"IF(H37<>\"\",COUNTIFS(Registion!F:F,H37,Registion!P:P,\">0,9\",Registion!Z:Z,$G$1),\"\")","v":0},"",{"$f":"COUNTIFS('Ordre kommet i 2016'!A:A,H37)","v":0}]
[{"$f":"VLOOKUP(B38,Slåop!A:B,2,FALSE)","v":{"$error":"#N/A"}},786530,{"$f":"IF(B38<>\"\",COUNTIFS(Registion!H:H,B38,Registion!Z:Z,$G$1),\"\")","v":0},{"$f":"IF(B38<>\"\",COUNTIFS(Registion!H:H,B38,Registion!P:P,\">0,9\",Registion!Z:Z,$G$1),\"\")","v":0},"",{"$f":"COUNTIFS('Ordre kommet i 2016'!H:H,B38)","v":0},0,343227,{"$f":"IF(H38<>\"\",COUNTIFS(Registion!F:F,H38,Registion!Z:Z,$G$1),\"\")","v":0},{"$f":"IF(H38<>\"\",COUNTIFS(Registion!F:F,H38,Registion!P:P,\">0,9\",Registion!Z:Z,$G$1),\"\")","v":0},"",{"$f":"COUNTIFS('Ordre kommet i 2016'!A:A,H38)","v":0}]
[{"$f":"VLOOKUP(B39,Slåop!A:B,2,FALSE)","v":{"$error":"#N/A"}},786481,{"$f":"IF(B39<>\"\",COUNTIFS(Registion!H:H,B39,Registion!Z:Z,$G$1),\"\")","v":0},{"$f":"IF(B39<>\"\",COUNTIFS(Registion!H:H,B39,Registion!P:P,\">0,9\",Registion!Z:Z,$G$1),\"\")","v":0},"",{"$f":"COUNTIFS('Ordre kommet i 2016'!H:H,B39)","v":0},0,343168,{"$f":"IF(H39<>\"\",COUNTIFS(Registion!F:F,H39,Registion!Z:Z,$G$1),\"\")","v":0},{"$f":"IF(H39<>\"\",COUNTIFS(Registion!F:F,H39,Registion!P:P,\">0,9\",Registion!Z:Z,$G$1),\"\")","v":0},"",{"$f":"COUNTIFS('Ordre kommet i 2016'!A:A,H39)","v":0}]
[{"$f":"VLOOKUP(B40,Slåop!A:B,2,FALSE)","v":{"$error":"#N/A"}},732675,{"$f":"IF(B40<>\"\",COUNTIFS(Registion!H:H,B40,Registion!Z:Z,$G$1),\"\")","v":0},{"$f":"IF(B40<>\"\",COUNTIFS(Registion!H:H,B40,Registion!P:P,\">0,9\",Registion!Z:Z,$G$1),\"\")","v":0},"",{"$f":"COUNTIFS('Ordre kommet i 2016'!H:H,B40)","v":0},0,343174,{"$f":"IF(H40<>\"\",COUNTIFS(Registion!F:F,H40,Registion!Z:Z,$G$1),\"\")","v":0},{"$f":"IF(H40<>\"\",COUNTIFS(Registion!F:F,H40,Registion!P:P,\">0,9\",Registion!Z:Z,$G$1),\"\")","v":0},"",{"$f":"COUNTIFS('Ordre kommet i 2016'!A:A,H40)","v":0}]
[{"$f":"VLOOKUP(B41,Slåop!A:B,2,FALSE)","v":{"$error":"#N/A"}},786523,{"$f":"IF(B41<>\"\",COUNTIFS(Registion!H:H,B41,Registion!Z:Z,$G$1),\"\")","v":0},{"$f":"IF(B41<>\"\",COUNTIFS(Registion!H:H,B41,Registion!P:P,\">0,9\",Registion!Z:Z,$G$1),\"\")","v":0},"",{"$f":"COUNTIFS('Ordre kommet i 2016'!H:H,B41)","v":0},0,343632,{"$f":"IF(H41<>\"\",COUNTIFS(Registion!F:F,H41,Registion!Z:Z,$G$1),\"\")","v":0},{"$f":"IF(H41<>\"\",COUNTIFS(Registion!F:F,H41,Registion!P:P,\">0,9\",Registion!Z:Z,$G$1),\"\")","v":0},"",{"$f":"COUNTIFS('Ordre kommet i 2016'!A:A,H41)","v":0}]
[{"$f":"VLOOKUP(B42,Slåop!A:B,2,FALSE)","v":{"$error":"#N/A"}},779049,{"$f":"IF(B42<>\"\",COUNTIFS(Registion!H:H,B42,Registion!Z:Z,$G$1),\"\")","v":0},{"$f":"IF(B42<>\"\",COUNTIFS(Registion!H:H,B42,Registion!P:P,\">0,9\",Registion!Z:Z,$G$1),\"\")","v":0},"",{"$f":"COUNTIFS('Ordre kommet i 2016'!H:H,B42)","v":0},0,343044,{"$f":"IF(H42<>\"\",COUNTIFS(Registion!F:F,H42,Registion!Z:Z,$G$1),\"\")","v":0},{"$f":"IF(H42<>\"\",COUNTIFS(Registion!F:F,H42,Registion!P:P,\">0,9\",Registion!Z:Z,$G$1),\"\")","v":0},"",{"$f":"COUNTIFS('Ordre kommet i 2016'!A:A,H42)","v":0}]
[{"$f":"VLOOKUP(B43,Slåop!A:B,2,FALSE)","v":{"$error":"#N/A"}},761064,{"$f":"IF(B43<>\"\",COUNTIFS(Registion!H:H,B43,Registion!Z:Z,$G$1),\"\")","v":0},{"$f":"IF(B43<>\"\",COUNTIFS(Registion!H:H,B43,Registion!P:P,\">0,9\",Registion!Z:Z,$G$1),\"\")","v":0},"",{"$f":"COUNTIFS('Ordre kommet i 2016'!H:H,B43)","v":0},{"$error":"#N/A"},"fra lager",{"$f":"IF(H43<>\"\",COUNTIFS(Registion!F:F,H43,Registion!Z:Z,$G$1),\"\")","v":0},{"$f":"IF(H43<>\"\",COUNTIFS(Registion!F:F,H43,Registion!P:P,\">0,9\",Registion!Z:Z,$G$1),\"\")","v":0},"",{"$f":"COUNTIFS('Ordre kommet i 2016'!A:A,H43)","v":0}]
[{"$f":"VLOOKUP(B44,Slåop!A:B,2,FALSE)","v":{"$error":"#N/A"}},804596,{"$f":"IF(B44<>\"\",COUNTIFS(Registion!H:H,B44,Registion!Z:Z,$G$1),\"\")","v":0},{"$f":"IF(B44<>\"\",COUNTIFS(Registion!H:H,B44,Registion!P:P,\">0,9\",Registion!Z:Z,$G$1),\"\")","v":0},"",{"$f":"COUNTIFS('Ordre kommet i 2016'!H:H,B44)","v":0},0,343158,{"$f":"IF(H44<>\"\",COUNTIFS(Registion!F:F,H44,Registion!Z:Z,$G$1),\"\")","v":0},{"$f":"IF(H44<>\"\",COUNTIFS(Registion!F:F,H44,Registion!P:P,\">0,9\",Registion!Z:Z,$G$1),\"\")","v":0},"",{"$f":"COUNTIFS('Ordre kommet i 2016'!A:A,H44)","v":0}]
[{"$f":"VLOOKUP(B45,Slåop!A:B,2,FALSE)","v":{"$error":"#N/A"}},776882,{"$f":"IF(B45<>\"\",COUNTIFS(Registion!H:H,B45,Registion!Z:Z,$G$1),\"\")","v":0},{"$f":"IF(B45<>\"\",COUNTIFS(Registion!H:H,B45,Registion!P:P,\">0,9\",Registion!Z:Z,$G$1),\"\")","v":0},"",{"$f":"COUNTIFS('Ordre kommet i 2016'!H:H,B45)","v":0},0,343359,{"$f":"IF(H45<>\"\",COUNTIFS(Registion!F:F,H45,Registion!Z:Z,$G$1),\"\")","v":0},{"$f":"IF(H45<>\"\",COUNTIFS(Registion!F:F,H45,Registion!P:P,\">0,9\",Registion!Z:Z,$G$1),\"\")","v":0},"",{"$f":"COUNTIFS('Ordre kommet i 2016'!A:A,H45)","v":0}]
[{"$f":"VLOOKUP(B46,Slåop!A:B,2,FALSE)","v":{"$error":"#N/A"}},818307,{"$f":"IF(B46<>\"\",COUNTIFS(Registion!H:H,B46,Registion!Z:Z,$G$1),\"\")","v":0},{"$f":"IF(B46<>\"\",COUNTIFS(Registion!H:H,B46,Registion!P:P,\">0,9\",Registion!Z:Z,$G$1),\"\")","v":0},"",{"$f":"COUNTIFS('Ordre kommet i 2016'!H:H,B46)","v":0},0,343082,{"$f":"IF(H46<>\"\",COUNTIFS(Registion!F:F,H46,Registion!Z:Z,$G$1),\"\")","v":0},{"$f":"IF(H46<>\"\",COUNTIFS(Registion!F:F,H46,Registion!P:P,\">0,9\",Registion!Z:Z,$G$1),\"\")","v":0},"",{"$f":"COUNTIFS('Ordre kommet i 2016'!A:A,H46)","v":0}]
[{"$f":"VLOOKUP(B47,Slåop!A:B,2,FALSE)","v":{"$error":"#N/A"}},818304,{"$f":"IF(B47<>\"\",COUNTIFS(Registion!H:H,B47,Registion!Z:Z,$G$1),\"\")","v":0},{"$f":"IF(B47<>\"\",COUNTIFS(Registion!H:H,B47,Registion!P:P,\">0,9\",Registion!Z:Z,$G$1),\"\")","v":0},"",{"$f":"COUNTIFS('Ordre kommet i 2016'!H:H,B47)","v":0},0,343017,{"$f":"IF(H47<>\"\",COUNTIFS(Registion!F:F,H47,Registion!Z:Z,$G$1),\"\")","v":0},{"$f":"IF(H47<>\"\",COUNTIFS(Registion!F:F,H47,Registion!P:P,\">0,9\",Registion!Z:Z,$G$1),\"\")","v":0},"",{"$f":"COUNTIFS('Ordre kommet i 2016'!A:A,H47)","v":0}]
[{"$f":"VLOOKUP(B48,Slåop!A:B,2,FALSE)","v":{"$error":"#N/A"}},765638,{"$f":"IF(B48<>\"\",COUNTIFS(Registion!H:H,B48,Registion!Z:Z,$G$1),\"\")","v":0},{"$f":"IF(B48<>\"\",COUNTIFS(Registion!H:H,B48,Registion!P:P,\">0,9\",Registion!Z:Z,$G$1),\"\")","v":0},"",{"$f":"COUNTIFS('Ordre kommet i 2016'!H:H,B48)","v":0},{"$error":"#N/A"},1002,{"$f":"IF(H48<>\"\",COUNTIFS(Registion!F:F,H48,Registion!Z:Z,$G$1),\"\")","v":0},{"$f":"IF(H48<>\"\",COUNTIFS(Registion!F:F,H48,Registion!P:P,\">0,9\",Registion!Z:Z,$G$1),\"\")","v":0},"",{"$f":"COUNTIFS('Ordre kommet i 2016'!A:A,H48)","v":0}]
[{"$f":"VLOOKUP(B49,Slåop!A:B,2,FALSE)","v":{"$error":"#N/A"}},767346,{"$f":"IF(B49<>\"\",COUNTIFS(Registion!H:H,B49,Registion!Z:Z,$G$1),\"\")","v":0},{"$f":"IF(B49<>\"\",COUNTIFS(Registion!H:H,B49,Registion!P:P,\">0,9\",Registion!Z:Z,$G$1),\"\")","v":0},"",{"$f":"COUNTIFS('Ordre kommet i 2016'!H:H,B49)","v":0},{"$error":"#N/A"},14866,{"$f":"IF(H49<>\"\",COUNTIFS(Registion!F:F,H49,Registion!Z:Z,$G$1),\"\")","v":0},{"$f":"IF(H49<>\"\",COUNTIFS(Registion!F:F,H49,Registion!P:P,\">0,9\",Registion!Z:Z,$G$1),\"\")","v":0},"",{"$f":"COUNTIFS('Ordre kommet i 2016'!A:A,H49)","v":0}]
[{"$f":"VLOOKUP(B50,Slåop!A:B,2,FALSE)","v":{"$error":"#N/A"}},818369,{"$f":"IF(B50<>\"\",COUNTIFS(Registion!H:H,B50,Registion!Z:Z,$G$1),\"\")","v":0},{"$f":"IF(B50<>\"\",COUNTIFS(Registion!H:H,B50,Registion!P:P,\">0,9\",Registion!Z:Z,$G$1),\"\")","v":0},"",{"$f":"COUNTIFS('Ordre kommet i 2016'!H:H,B50)","v":0},0,343379,{"$f":"IF(H50<>\"\",COUNTIFS(Registion!F:F,H50,Registion!Z:Z,$G$1),\"\")","v":0},{"$f":"IF(H50<>\"\",COUNTIFS(Registion!F:F,H50,Registion!P:P,\">0,9\",Registion!Z:Z,$G$1),\"\")","v":0},"",{"$f":"COUNTIFS('Ordre kommet i 2016'!A:A,H50)","v":0}]
[{"$f":"VLOOKUP(B51,Slåop!A:B,2,FALSE)","v":{"$error":"#N/A"}},766045,{"$f":"IF(B51<>\"\",COUNTIFS(Registion!H:H,B51,Registion!Z:Z,$G$1),\"\")","v":0},{"$f":"IF(B51<>\"\",COUNTIFS(Registion!H:H,B51,Registion!P:P,\">0,9\",Registion!Z:Z,$G$1),\"\")","v":0},"",{"$f":"COUNTIFS('Ordre kommet i 2016'!H:H,B51)","v":0},0,"prøver",{"$f":"IF(H51<>\"\",COUNTIFS(Registion!F:F,H51,Registion!Z:Z,$G$1),\"\")","v":0},{"$f":"IF(H51<>\"\",COUNTIFS(Registion!F:F,H51,Registion!P:P,\">0,9\",Registion!Z:Z,$G$1),\"\")","v":0},"",{"$f":"COUNTIFS('Ordre kommet i 2016'!A:A,H51)","v":0}]
[{"$f":"VLOOKUP(B52,Slåop!A:B,2,FALSE)","v":{"$error":"#N/A"}},797684,{"$f":"IF(B52<>\"\",COUNTIFS(Registion!H:H,B52,Registion!Z:Z,$G$1),\"\")","v":0},{"$f":"IF(B52<>\"\",COUNTIFS(Registion!H:H,B52,Registion!P:P,\">0,9\",Registion!Z:Z,$G$1),\"\")","v":0},"",{"$f":"COUNTIFS('Ordre kommet i 2016'!H:H,B52)","v":0},0,340048,{"$f":"IF(H52<>\"\",COUNTIFS(Registion!F:F,H52,Registion!Z:Z,$G$1),\"\")","v":0},{"$f":"IF(H52<>\"\",COUNTIFS(Registion!F:F,H52,Registion!P:P,\">0,9\",Registion!Z:Z,$G$1),\"\")","v":0},"",{"$f":"COUNTIFS('Ordre kommet i 2016'!A:A,H52)","v":0}]
[{"$f":"VLOOKUP(B53,Slåop!A:B,2,FALSE)","v":{"$error":"#N/A"}},737277,{"$f":"IF(B53<>\"\",COUNTIFS(Registion!H:H,B53,Registion!Z:Z,$G$1),\"\")","v":0},{"$f":"IF(B53<>\"\",COUNTIFS(Registion!H:H,B53,Registion!P:P,\">0,9\",Registion!Z:Z,$G$1),\"\")","v":0},"",{"$f":"COUNTIFS('Ordre kommet i 2016'!H:H,B53)","v":0},0,611427,{"$f":"IF(H53<>\"\",COUNTIFS(Registion!F:F,H53,Registion!Z:Z,$G$1),\"\")","v":0},{"$f":"IF(H53<>\"\",COUNTIFS(Registion!F:F,H53,Registion!P:P,\">0,9\",Registion!Z:Z,$G$1),\"\")","v":0},"",{"$f":"COUNTIFS('Ordre kommet i 2016'!A:A,H53)","v":0}]
[{"$f":"VLOOKUP(B54,Slåop!A:B,2,FALSE)","v":{"$error":"#N/A"}},732685,{"$f":"IF(B54<>\"\",COUNTIFS(Registion!H:H,B54,Registion!Z:Z,$G$1),\"\")","v":0},{"$f":"IF(B54<>\"\",COUNTIFS(Registion!H:H,B54,Registion!P:P,\">0,9\",Registion!Z:Z,$G$1),\"\")","v":0},"",{"$f":"COUNTIFS('Ordre kommet i 2016'!H:H,B54)","v":0}]
[{"$f":"VLOOKUP(B55,Slåop!A:B,2,FALSE)","v":{"$error":"#N/A"}},806491,{"$f":"IF(B55<>\"\",COUNTIFS(Registion!H:H,B55,Registion!Z:Z,$G$1),\"\")","v":0},{"$f":"IF(B55<>\"\",COUNTIFS(Registion!H:H,B55,Registion!P:P,\">0,9\",Registion!Z:Z,$G$1),\"\")","v":0},"",{"$f":"COUNTIFS('Ordre kommet i 2016'!H:H,B55)","v":0}]
[{"$f":"VLOOKUP(B56,Slåop!A:B,2,FALSE)","v":{"$error":"#N/A"}},761509,{"$f":"IF(B56<>\"\",COUNTIFS(Registion!H:H,B56,Registion!Z:Z,$G$1),\"\")","v":0},{"$f":"IF(B56<>\"\",COUNTIFS(Registion!H:H,B56,Registion!P:P,\">0,9\",Registion!Z:Z,$G$1),\"\")","v":0},"",{"$f":"COUNTIFS('Ordre kommet i 2016'!H:H,B56)","v":0}]
[{"$f":"VLOOKUP(B57,Slåop!A:B,2,FALSE)","v":{"$error":"#N/A"}},786536,{"$f":"IF(B57<>\"\",COUNTIFS(Registion!H:H,B57,Registion!Z:Z,$G$1),\"\")","v":0},{"$f":"IF(B57<>\"\",COUNTIFS(Registion!H:H,B57,Registion!P:P,\">0,9\",Registion!Z:Z,$G$1),\"\")","v":0},"",{"$f":"COUNTIFS('Ordre kommet i 2016'!H:H,B57)","v":0}]
[{"$f":"VLOOKUP(B58,Slåop!A:B,2,FALSE)","v":{"$error":"#N/A"}},767518,{"$f":"IF(B58<>\"\",COUNTIFS(Registion!H:H,B58,Registion!Z:Z,$G$1),\"\")","v":0},{"$f":"IF(B58<>\"\",COUNTIFS(Registion!H:H,B58,Registion!P:P,\">0,9\",Registion!Z:Z,$G$1),\"\")","v":0},"",{"$f":"COUNTIFS('Ordre kommet i 2016'!H:H,B58)","v":0}]
[{"$f":"VLOOKUP(B59,Slåop!A:B,2,FALSE)","v":{"$error":"#N/A"}},804895,{"$f":"IF(B59<>\"\",COUNTIFS(Registion!H:H,B59,Registion!Z:Z,$G$1),\"\")","v":0},{"$f":"IF(B59<>\"\",COUNTIFS(Registion!H:H,B59,Registion!P:P,\">0,9\",Registion!Z:Z,$G$1),\"\")","v":0},"",{"$f":"COUNTIFS('Ordre kommet i 2016'!H:H,B59)","v":0}]
[{"$f":"VLOOKUP(B60,Slåop!A:B,2,FALSE)","v":{"$error":"#N/A"}},820246,{"$f":"IF(B60<>\"\",COUNTIFS(Registion!H:H,B60,Registion!Z:Z,$G$1),\"\")","v":0},{"$f":"IF(B60<>\"\",COUNTIFS(Registion!H:H,B60,Registion!P:P,\">0,9\",Registion!Z:Z,$G$1),\"\")","v":0},"",{"$f":"COUNTIFS('Ordre kommet i 2016'!H:H,B60)","v":0}]
[{"$f":"VLOOKUP(B61,Slåop!A:B,2,FALSE)","v":{"$error":"#N/A"}},732659,{"$f":"IF(B61<>\"\",COUNTIFS(Registion!H:H,B61,Registion!Z:Z,$G$1),\"\")","v":0},{"$f":"IF(B61<>\"\",COUNTIFS(Registion!H:H,B61,Registion!P:P,\">0,9\",Registion!Z:Z,$G$1),\"\")","v":0},"",{"$f":"COUNTIFS('Ordre kommet i 2016'!H:H,B61)","v":0}]
[{"$f":"VLOOKUP(B62,Slåop!A:B,2,FALSE)","v":{"$error":"#N/A"}},764911,{"$f":"IF(B62<>\"\",COUNTIFS(Registion!H:H,B62,Registion!Z:Z,$G$1),\"\")","v":0},{"$f":"IF(B62<>\"\",COUNTIFS(Registion!H:H,B62,Registion!P:P,\">0,9\",Registion!Z:Z,$G$1),\"\")","v":0},"",{"$f":"COUNTIFS('Ordre kommet i 2016'!H:H,B62)","v":0}]
[{"$f":"VLOOKUP(B63,Slåop!A:B,2,FALSE)","v":"Vare 5"},722428,{"$f":"IF(B63<>\"\",COUNTIFS(Registion!H:H,B63,Registion!Z:Z,$G$1),\"\")","v":0},{"$f":"IF(B63<>\"\",COUNTIFS(Registion!H:H,B63,Registion!P:P,\">0,9\",Registion!Z:Z,$G$1),\"\")","v":0},"",{"$f":"COUNTIFS('Ordre kommet i 2016'!H:H,B63)","v":0}]
[{"$f":"VLOOKUP(B64,Slåop!A:B,2,FALSE)","v":{"$error":"#N/A"}},812341,{"$f":"IF(B64<>\"\",COUNTIFS(Registion!H:H,B64,Registion!Z:Z,$G$1),\"\")","v":0},{"$f":"IF(B64<>\"\",COUNTIFS(Registion!H:H,B64,Registion!P:P,\">0,9\",Registion!Z:Z,$G$1),\"\")","v":0},"",{"$f":"COUNTIFS('Ordre kommet i 2016'!H:H,B64)","v":0}]
[{"$f":"VLOOKUP(B65,Slåop!A:B,2,FALSE)","v":{"$error":"#N/A"}},766856,{"$f":"IF(B65<>\"\",COUNTIFS(Registion!H:H,B65,Registion!Z:Z,$G$1),\"\")","v":0},{"$f":"IF(B65<>\"\",COUNTIFS(Registion!H:H,B65,Registion!P:P,\">0,9\",Registion!Z:Z,$G$1),\"\")","v":0},"",{"$f":"COUNTIFS('Ordre kommet i 2016'!H:H,B65)","v":0}]
[{"$f":"VLOOKUP(B66,Slåop!A:B,2,FALSE)","v":{"$error":"#N/A"}},786587,{"$f":"IF(B66<>\"\",COUNTIFS(Registion!H:H,B66,Registion!Z:Z,$G$1),\"\")","v":0},{"$f":"IF(B66<>\"\",COUNTIFS(Registion!H:H,B66,Registion!P:P,\">0,9\",Registion!Z:Z,$G$1),\"\")","v":0},{"$f":"IF(C66<>0,IF(B66<>\"\",D66/C66,\"\"),\"\")","v":""},{"$f":"COUNTIFS('Ordre kommet i 2016'!H:H,B66)","v":0}]
[{"$f":"VLOOKUP(B67,Slåop!A:B,2,FALSE)","v":{"$error":"#N/A"}},774380,{"$f":"IF(B67<>\"\",COUNTIFS(Registion!H:H,B67,Registion!Z:Z,$G$1),\"\")","v":0},{"$f":"IF(B67<>\"\",COUNTIFS(Registion!H:H,B67,Registion!P:P,\">0,9\",Registion!Z:Z,$G$1),\"\")","v":0},"",{"$f":"COUNTIFS('Ordre kommet i 2016'!H:H,B67)","v":0}]
[{"$f":"VLOOKUP(B68,Slåop!A:B,2,FALSE)","v":{"$error":"#N/A"}},812360,{"$f":"IF(B68<>\"\",COUNTIFS(Registion!H:H,B68,Registion!Z:Z,$G$1),\"\")","v":0},{"$f":"IF(B68<>\"\",COUNTIFS(Registion!H:H,B68,Registion!P:P,\">0,9\",Registion!Z:Z,$G$1),\"\")","v":0},"",{"$f":"COUNTIFS('Ordre kommet i 2016'!H:H,B68)","v":0}]
[{"$f":"VLOOKUP(B69,Slåop!A:B,2,FALSE)","v":{"$error":"#N/A"}},779694,{"$f":"IF(B69<>\"\",COUNTIFS(Registion!H:H,B69,Registion!Z:Z,$G$1),\"\")","v":0},{"$f":"IF(B69<>\"\",COUNTIFS(Registion!H:H,B69,Registion!P:P,\">0,9\",Registion!Z:Z,$G$1),\"\")","v":0},"",{"$f":"COUNTIFS('Ordre kommet i 2016'!H:H,B69)","v":0}]
[{"$f":"VLOOKUP(B70,Slåop!A:B,2,FALSE)","v":{"$error":"#N/A"}},732679,{"$f":"IF(B70<>\"\",COUNTIFS(Registion!H:H,B70,Registion!Z:Z,$G$1),\"\")","v":0},{"$f":"IF(B70<>\"\",COUNTIFS(Registion!H:H,B70,Registion!P:P,\">0,9\",Registion!Z:Z,$G$1),\"\")","v":0},"",{"$f":"COUNTIFS('Ordre kommet i 2016'!H:H,B70)","v":0}]
[{"$f":"VLOOKUP(B71,Slåop!A:B,2,FALSE)","v":{"$error":"#N/A"}},763533,{"$f":"IF(B71<>\"\",COUNTIFS(Registion!H:H,B71,Registion!Z:Z,$G$1),\"\")","v":0},{"$f":"IF(B71<>\"\",COUNTIFS(Registion!H:H,B71,Registion!P:P,\">0,9\",Registion!Z:Z,$G$1),\"\")","v":0},"",{"$f":"COUNTIFS('Ordre kommet i 2016'!H:H,B71)","v":0}]
[{"$f":"VLOOKUP(B72,Slåop!A:B,2,FALSE)","v":{"$error":"#N/A"}},777174,{"$f":"IF(B72<>\"\",COUNTIFS(Registion!H:H,B72,Registion!Z:Z,$G$1),\"\")","v":0},{"$f":"IF(B72<>\"\",COUNTIFS(Registion!H:H,B72,Registion!P:P,\">0,9\",Registion!Z:Z,$G$1),\"\")","v":0},"",{"$f":"COUNTIFS('Ordre kommet i 2016'!H:H,B72)","v":0}]
[{"$f":"VLOOKUP(B73,Slåop!A:B,2,FALSE)","v":{"$error":"#N/A"}},829566,{"$f":"IF(B73<>\"\",COUNTIFS(Registion!H:H,B73,Registion!Z:Z,$G$1),\"\")","v":0},{"$f":"IF(B73<>\"\",COUNTIFS(Registion!H:H,B73,Registion!P:P,\">0,9\",Registion!Z:Z,$G$1),\"\")","v":0},"",{"$f":"COUNTIFS('Ordre kommet i 2016'!H:H,B73)","v":0}]
[{"$f":"VLOOKUP(B74,Slåop!A:B,2,FALSE)","v":{"$error":"#N/A"}},767434,{"$f":"IF(B74<>\"\",COUNTIFS(Registion!H:H,B74,Registion!Z:Z,$G$1),\"\")","v":0},{"$f":"IF(B74<>\"\",COUNTIFS(Registion!H:H,B74,Registion!P:P,\">0,9\",Registion!Z:Z,$G$1),\"\")","v":0},"",{"$f":"COUNTIFS('Ordre kommet i 2016'!H:H,B74)","v":0}]
[{"$f":"VLOOKUP(B75,Slåop!A:B,2,FALSE)","v":{"$error":"#N/A"}},786517,{"$f":"IF(B75<>\"\",COUNTIFS(Registion!H:H,B75,Registion!Z:Z,$G$1),\"\")","v":0},{"$f":"IF(B75<>\"\",COUNTIFS(Registion!H:H,B75,Registion!P:P,\">0,9\",Registion!Z:Z,$G$1),\"\")","v":0},"",{"$f":"COUNTIFS('Ordre kommet i 2016'!H:H,B75)","v":0}]
[{"$f":"VLOOKUP(B76,Slåop!A:B,2,FALSE)","v":{"$error":"#N/A"}},786518,{"$f":"IF(B76<>\"\",COUNTIFS(Registion!H:H,B76,Registion!Z:Z,$G$1),\"\")","v":0},{"$f":"IF(B76<>\"\",COUNTIFS(Registion!H:H,B76,Registion!P:P,\">0,9\",Registion!Z:Z,$G$1),\"\")","v":0},"",{"$f":"COUNTIFS('Ordre kommet i 2016'!H:H,B76)","v":0}]
[{"$f":"VLOOKUP(B77,Slåop!A:B,2,FALSE)","v":{"$error":"#N/A"}},788686,{"$f":"IF(B77<>\"\",COUNTIFS(Registion!H:H,B77,Registion!Z:Z,$G$1),\"\")","v":0},{"$f":"IF(B77<>\"\",COUNTIFS(Registion!H:H,B77,Registion!P:P,\">0,9\",Registion!Z:Z,$G$1),\"\")","v":0},"",{"$f":"COUNTIFS('Ordre kommet i 2016'!H:H,B77)","v":0}]
[{"$f":"VLOOKUP(B78,Slåop!A:B,2,FALSE)","v":{"$error":"#N/A"}},789465,{"$f":"IF(B78<>\"\",COUNTIFS(Registion!H:H,B78,Registion!Z:Z,$G$1),\"\")","v":0},{"$f":"IF(B78<>\"\",COUNTIFS(Registion!H:H,B78,Registion!P:P,\">0,9\",Registion!Z:Z,$G$1),\"\")","v":0},"",{"$f":"COUNTIFS('Ordre kommet i 2016'!H:H,B78)","v":0}]
[{"$f":"VLOOKUP(B79,Slåop!A:B,2,FALSE)","v":{"$error":"#N/A"}},819961,{"$f":"IF(B79<>\"\",COUNTIFS(Registion!H:H,B79,Registion!Z:Z,$G$1),\"\")","v":0},{"$f":"IF(B79<>\"\",COUNTIFS(Registion!H:H,B79,Registion!P:P,\">0,9\",Registion!Z:Z,$G$1),\"\")","v":0},"",{"$f":"COUNTIFS('Ordre kommet i 2016'!H:H,B79)","v":0}]
[{"$f":"VLOOKUP(B80,Slåop!A:B,2,FALSE)","v":{"$error":"#N/A"}},819959,{"$f":"IF(B80<>\"\",COUNTIFS(Registion!H:H,B80,Registion!Z:Z,$G$1),\"\")","v":0},{"$f":"IF(B80<>\"\",COUNTIFS(Registion!H:H,B80,Registion!P:P,\">0,9\",Registion!Z:Z,$G$1),\"\")","v":0},"",{"$f":"COUNTIFS('Ordre kommet i 2016'!H:H,B80)","v":0}]
[{"$f":"VLOOKUP(B81,Slåop!A:B,2,FALSE)","v":{"$error":"#N/A"}},797762,{"$f":"IF(B81<>\"\",COUNTIFS(Registion!H:H,B81,Registion!Z:Z,$G$1),\"\")","v":0},{"$f":"IF(B81<>\"\",COUNTIFS(Registion!H:H,B81,Registion!P:P,\">0,9\",Registion!Z:Z,$G$1),\"\")","v":0},"",{"$f":"COUNTIFS('Ordre kommet i 2016'!H:H,B81)","v":0}]
[{"$f":"VLOOKUP(B82,Slåop!A:B,2,FALSE)","v":{"$error":"#N/A"}},786464,{"$f":"IF(B82<>\"\",COUNTIFS(Registion!H:H,B82,Registion!Z:Z,$G$1),\"\")","v":0},{"$f":"IF(B82<>\"\",COUNTIFS(Registion!H:H,B82,Registion!P:P,\">0,9\",Registion!Z:Z,$G$1),\"\")","v":0},"",{"$f":"COUNTIFS('Ordre kommet i 2016'!H:H,B82)","v":0}]
[{"$f":"VLOOKUP(B83,Slåop!A:B,2,FALSE)","v":{"$error":"#N/A"}},779105,{"$f":"IF(B83<>\"\",COUNTIFS(Registion!H:H,B83,Registion!Z:Z,$G$1),\"\")","v":0},{"$f":"IF(B83<>\"\",COUNTIFS(Registion!H:H,B83,Registion!P:P,\">0,9\",Registion!Z:Z,$G$1),\"\")","v":0},"",{"$f":"COUNTIFS('Ordre kommet i 2016'!H:H,B83)","v":0}]
[{"$f":"VLOOKUP(B84,Slåop!A:B,2,FALSE)","v":{"$error":"#N/A"}},805248,{"$f":"IF(B84<>\"\",COUNTIFS(Registion!H:H,B84,Registion!Z:Z,$G$1),\"\")","v":0},{"$f":"IF(B84<>\"\",COUNTIFS(Registion!H:H,B84,Registion!P:P,\">0,9\",Registion!Z:Z,$G$1),\"\")","v":0},"",{"$f":"COUNTIFS('Ordre kommet i 2016'!H:H,B84)","v":0}]
[{"$f":"VLOOKUP(B85,Slåop!A:B,2,FALSE)","v":{"$error":"#N/A"}},797058,{"$f":"IF(B85<>\"\",COUNTIFS(Registion!H:H,B85,Registion!Z:Z,$G$1),\"\")","v":0},{"$f":"IF(B85<>\"\",COUNTIFS(Registion!H:H,B85,Registion!P:P,\">0,9\",Registion!Z:Z,$G$1),\"\")","v":0},"",{"$f":"COUNTIFS('Ordre kommet i 2016'!H:H,B85)","v":0}]
[{"$f":"VLOOKUP(B86,Slåop!A:B,2,FALSE)","v":{"$error":"#N/A"}},787026,{"$f":"IF(B86<>\"\",COUNTIFS(Registion!H:H,B86,Registion!Z:Z,$G$1),\"\")","v":0},{"$f":"IF(B86<>\"\",COUNTIFS(Registion!H:H,B86,Registion!P:P,\">0,9\",Registion!Z:Z,$G$1),\"\")","v":0},"",{"$f":"COUNTIFS('Ordre kommet i 2016'!H:H,B86)","v":0}]
[{"$f":"VLOOKUP(B87,Slåop!A:B,2,FALSE)","v":{"$error":"#N/A"}},820527,{"$f":"IF(B87<>\"\",COUNTIFS(Registion!H:H,B87,Registion!Z:Z,$G$1),\"\")","v":0},{"$f":"IF(B87<>\"\",COUNTIFS(Registion!H:H,B87,Registion!P:P,\">0,9\",Registion!Z:Z,$G$1),\"\")","v":0},"",{"$f":"COUNTIFS('Ordre kommet i 2016'!H:H,B87)","v":0}]
[{"$f":"VLOOKUP(B88,Slåop!A:B,2,FALSE)","v":{"$error":"#N/A"}},798810,{"$f":"IF(B88<>\"\",COUNTIFS(Registion!H:H,B88,Registion!Z:Z,$G$1),\"\")","v":0},{"$f":"IF(B88<>\"\",COUNTIFS(Registion!H:H,B88,Registion!P:P,\">0,9\",Registion!Z:Z,$G$1),\"\")","v":0},"",{"$f":"COUNTIFS('Ordre kommet i 2016'!H:H,B88)","v":0}]
[{"$f":"VLOOKUP(B89,Slåop!A:B,2,FALSE)","v":{"$error":"#N/A"}},818827,{"$f":"IF(B89<>\"\",COUNTIFS(Registion!H:H,B89,Registion!Z:Z,$G$1),\"\")","v":0},{"$f":"IF(B89<>\"\",COUNTIFS(Registion!H:H,B89,Registion!P:P,\">0,9\",Registion!Z:Z,$G$1),\"\")","v":0},"",{"$f":"COUNTIFS('Ordre kommet i 2016'!H:H,B89)","v":0}]
[{"$f":"VLOOKUP(B90,Slåop!A:B,2,FALSE)","v":{"$error":"#N/A"}},818828,{"$f":"IF(B90<>\"\",COUNTIFS(Registion!H:H,B90,Registion!Z:Z,$G$1),\"\")","v":0},{"$f":"IF(B90<>\"\",COUNTIFS(Registion!H:H,B90,Registion!P:P,\">0,9\",Registion!Z:Z,$G$1),\"\")","v":0},"",{"$f":"COUNTIFS('Ordre kommet i 2016'!H:H,B90)","v":0}]
[{"$f":"VLOOKUP(B91,Slåop!A:B,2,FALSE)","v":{"$error":"#N/A"}},777680,{"$f":"IF(B91<>\"\",COUNTIFS(Registion!H:H,B91,Registion!Z:Z,$G$1),\"\")","v":0},{"$f":"IF(B91<>\"\",COUNTIFS(Registion!H:H,B91,Registion!P:P,\">0,9\",Registion!Z:Z,$G$1),\"\")","v":0},"",{"$f":"COUNTIFS('Ordre kommet i 2016'!H:H,B91)","v":0}]
[{"$f":"VLOOKUP(B92,Slåop!A:B,2,FALSE)","v":{"$error":"#N/A"}},805282,{"$f":"IF(B92<>\"\",COUNTIFS(Registion!H:H,B92,Registion!Z:Z,$G$1),\"\")","v":0},{"$f":"IF(B92<>\"\",COUNTIFS(Registion!H:H,B92,Registion!P:P,\">0,9\",Registion!Z:Z,$G$1),\"\")","v":0},"",{"$f":"COUNTIFS('Ordre kommet i 2016'!H:H,B92)","v":0}]
[{"$f":"VLOOKUP(B93,Slåop!A:B,2,FALSE)","v":{"$error":"#N/A"}},819030,{"$f":"IF(B93<>\"\",COUNTIFS(Registion!H:H,B93,Registion!Z:Z,$G$1),\"\")","v":0},{"$f":"IF(B93<>\"\",COUNTIFS(Registion!H:H,B93,Registion!P:P,\">0,9\",Registion!Z:Z,$G$1),\"\")","v":0},"",{"$f":"COUNTIFS('Ordre kommet i 2016'!H:H,B93)","v":0}]
[{"$f":"VLOOKUP(B94,Slåop!A:B,2,FALSE)","v":{"$error":"#N/A"}},818972,{"$f":"IF(B94<>\"\",COUNTIFS(Registion!H:H,B94,Registion!Z:Z,$G$1),\"\")","v":0},{"$f":"IF(B94<>\"\",COUNTIFS(Registion!H:H,B94,Registion!P:P,\">0,9\",Registion!Z:Z,$G$1),\"\")","v":0},"",{"$f":"COUNTIFS('Ordre kommet i 2016'!H:H,B94)","v":0}]
[{"$f":"VLOOKUP(B95,Slåop!A:B,2,FALSE)","v":{"$error":"#N/A"}},761057,{"$f":"IF(B95<>\"\",COUNTIFS(Registion!H:H,B95,Registion!Z:Z,$G$1),\"\")","v":0},{"$f":"IF(B95<>\"\",COUNTIFS(Registion!H:H,B95,Registion!P:P,\">0,9\",Registion!Z:Z,$G$1),\"\")","v":0},"",{"$f":"COUNTIFS('Ordre kommet i 2016'!H:H,B95)","v":0}]
[{"$f":"VLOOKUP(B96,Slåop!A:B,2,FALSE)","v":{"$error":"#N/A"}},767861,{"$f":"IF(B96<>\"\",COUNTIFS(Registion!H:H,B96,Registion!Z:Z,$G$1),\"\")","v":0},{"$f":"IF(B96<>\"\",COUNTIFS(Registion!H:H,B96,Registion!P:P,\">0,9\",Registion!Z:Z,$G$1),\"\")","v":0},"",{"$f":"COUNTIFS('Ordre kommet i 2016'!H:H,B96)","v":0}]
[{"$f":"VLOOKUP(B97,Slåop!A:B,2,FALSE)","v":{"$error":"#N/A"}},829728,{"$f":"IF(B97<>\"\",COUNTIFS(Registion!H:H,B97,Registion!Z:Z,$G$1),\"\")","v":0},{"$f":"IF(B97<>\"\",COUNTIFS(Registion!H:H,B97,Registion!P:P,\">0,9\",Registion!Z:Z,$G$1),\"\")","v":0},"",{"$f":"COUNTIFS('Ordre kommet i 2016'!H:H,B97)","v":0}]
[{"$f":"VLOOKUP(B98,Slåop!A:B,2,FALSE)","v":{"$error":"#N/A"}},776496,{"$f":"IF(B98<>\"\",COUNTIFS(Registion!H:H,B98,Registion!Z:Z,$G$1),\"\")","v":0},{"$f":"IF(B98<>\"\",COUNTIFS(Registion!H:H,B98,Registion!P:P,\">0,9\",Registion!Z:Z,$G$1),\"\")","v":0},"",{"$f":"COUNTIFS('Ordre kommet i 2016'!H:H,B98)","v":0}]
[{"$f":"VLOOKUP(B99,Slåop!A:B,2,FALSE)","v":{"$error":"#N/A"}},840805,{"$f":"IF(B99<>\"\",COUNTIFS(Registion!H:H,B99,Registion!Z:Z,$G$1),\"\")","v":0},{"$f":"IF(B99<>\"\",COUNTIFS(Registion!H:H,B99,Registion!P:P,\">0,9\",Registion!Z:Z,$G$1),\"\")","v":0},"",{"$f":"COUNTIFS('Ordre kommet i 2016'!H:H,B99)","v":0}]
[{"$f":"VLOOKUP(B100,Slåop!A:B,2,FALSE)","v":{"$error":"#N/A"}},840733,{"$f":"IF(B100<>\"\",COUNTIFS(Registion!H:H,B100,Registion!Z:Z,$G$1),\"\")","v":0},{"$f":"IF(B100<>\"\",COUNTIFS(Registion!H:H,B100,Registion!P:P,\">0,9\",Registion!Z:Z,$G$1),\"\")","v":0},"",{"$f":"COUNTIFS('Ordre kommet i 2016'!H:H,B100)","v":0}]
[{"$f":"VLOOKUP(B101,Slåop!A:B,2,FALSE)","v":{"$error":"#N/A"}},838787,{"$f":"IF(B101<>\"\",COUNTIFS(Registion!H:H,B101,Registion!Z:Z,$G$1),\"\")","v":0},{"$f":"IF(B101<>\"\",COUNTIFS(Registion!H:H,B101,Registion!P:P,\">0,9\",Registion!Z:Z,$G$1),\"\")","v":0},"",{"$f":"COUNTIFS('Ordre kommet i 2016'!H:H,B101)","v":0}]
[{"$f":"VLOOKUP(B102,Slåop!A:B,2,FALSE)","v":{"$error":"#N/A"}},838786,{"$f":"IF(B102<>\"\",COUNTIFS(Registion!H:H,B102,Registion!Z:Z,$G$1),\"\")","v":0},{"$f":"IF(B102<>\"\",COUNTIFS(Registion!H:H,B102,Registion!P:P,\">0,9\",Registion!Z:Z,$G$1),\"\")","v":0},"",{"$f":"COUNTIFS('Ordre kommet i 2016'!H:H,B102)","v":0}]
[{"$f":"VLOOKUP(B103,Slåop!A:B,2,FALSE)","v":{"$error":"#N/A"}},786982,{"$f":"IF(B103<>\"\",COUNTIFS(Registion!H:H,B103,Registion!Z:Z,$G$1),\"\")","v":0},{"$f":"IF(B103<>\"\",COUNTIFS(Registion!H:H,B103,Registion!P:P,\">0,9\",Registion!Z:Z,$G$1),\"\")","v":0},"",{"$f":"COUNTIFS('Ordre kommet i 2016'!H:H,B103)","v":0}]
[{"$f":"VLOOKUP(B104,Slåop!A:B,2,FALSE)","v":{"$error":"#N/A"}},817018,{"$f":"IF(B104<>\"\",COUNTIFS(Registion!H:H,B104,Registion!Z:Z,$G$1),\"\")","v":0},{"$f":"IF(B104<>\"\",COUNTIFS(Registion!H:H,B104,Registion!P:P,\">0,9\",Registion!Z:Z,$G$1),\"\")","v":0},"",{"$f":"COUNTIFS('Ordre kommet i 2016'!H:H,B104)","v":0}]
[{"$f":"VLOOKUP(B105,Slåop!A:B,2,FALSE)","v":{"$error":"#N/A"}},828457,{"$f":"IF(B105<>\"\",COUNTIFS(Registion!H:H,B105,Registion!Z:Z,$G$1),\"\")","v":0},{"$f":"IF(B105<>\"\",COUNTIFS(Registion!H:H,B105,Registion!P:P,\">0,9\",Registion!Z:Z,$G$1),\"\")","v":0},"",{"$f":"COUNTIFS('Ordre kommet i 2016'!H:H,B105)","v":0}]
[{"$f":"VLOOKUP(B106,Slåop!A:B,2,FALSE)","v":{"$error":"#N/A"}},833866,{"$f":"IF(B106<>\"\",COUNTIFS(Registion!H:H,B106,Registion!Z:Z,$G$1),\"\")","v":0},{"$f":"IF(B106<>\"\",COUNTIFS(Registion!H:H,B106,Registion!P:P,\">0,9\",Registion!Z:Z,$G$1),\"\")","v":0},"",{"$f":"COUNTIFS('Ordre kommet i 2016'!H:H,B106)","v":0}]
[{"$f":"VLOOKUP(B107,Slåop!A:B,2,FALSE)","v":{"$error":"#N/A"}},795526,{"$f":"IF(B107<>\"\",COUNTIFS(Registion!H:H,B107,Registion!Z:Z,$G$1),\"\")","v":0},{"$f":"IF(B107<>\"\",COUNTIFS(Registion!H:H,B107,Registion!P:P,\">0,9\",Registion!Z:Z,$G$1),\"\")","v":0},"",{"$f":"COUNTIFS('Ordre kommet i 2016'!H:H,B107)","v":0}]
[{"$f":"VLOOKUP(B108,Slåop!A:B,2,FALSE)","v":{"$error":"#N/A"}},786574,{"$f":"IF(B108<>\"\",COUNTIFS(Registion!H:H,B108,Registion!Z:Z,$G$1),\"\")","v":0},{"$f":"IF(B108<>\"\",COUNTIFS(Registion!H:H,B108,Registion!P:P,\">0,9\",Registion!Z:Z,$G$1),\"\")","v":0},"",{"$f":"COUNTIFS('Ordre kommet i 2016'!H:H,B108)","v":0}]
[{"$f":"VLOOKUP(B109,Slåop!A:B,2,FALSE)","v":{"$error":"#N/A"}},761541,{"$f":"IF(B109<>\"\",COUNTIFS(Registion!H:H,B109,Registion!Z:Z,$G$1),\"\")","v":0},{"$f":"IF(B109<>\"\",COUNTIFS(Registion!H:H,B109,Registion!P:P,\">0,9\",Registion!Z:Z,$G$1),\"\")","v":0},"",{"$f":"COUNTIFS('Ordre kommet i 2016'!H:H,B109)","v":0}]
[{"$f":"VLOOKUP(B110,Slåop!A:B,2,FALSE)","v":{"$error":"#N/A"}},821149,{"$f":"IF(B110<>\"\",COUNTIFS(Registion!H:H,B110,Registion!Z:Z,$G$1),\"\")","v":0},{"$f":"IF(B110<>\"\",COUNTIFS(Registion!H:H,B110,Registion!P:P,\">0,9\",Registion!Z:Z,$G$1),\"\")","v":0},"",{"$f":"COUNTIFS('Ordre kommet i 2016'!H:H,B110)","v":0}]
[{"$f":"VLOOKUP(B111,Slåop!A:B,2,FALSE)","v":{"$error":"#N/A"}},796322,{"$f":"IF(B111<>\"\",COUNTIFS(Registion!H:H,B111,Registion!Z:Z,$G$1),\"\")","v":0},{"$f":"IF(B111<>\"\",COUNTIFS(Registion!H:H,B111,Registion!P:P,\">0,9\",Registion!Z:Z,$G$1),\"\")","v":0},"",{"$f":"COUNTIFS('Ordre kommet i 2016'!H:H,B111)","v":0}]
[{"$f":"VLOOKUP(B112,Slåop!A:B,2,FALSE)","v":{"$error":"#N/A"}},783974,{"$f":"IF(B112<>\"\",COUNTIFS(Registion!H:H,B112,Registion!Z:Z,$G$1),\"\")","v":0},{"$f":"IF(B112<>\"\",COUNTIFS(Registion!H:H,B112,Registion!P:P,\">0,9\",Registion!Z:Z,$G$1),\"\")","v":0},"",{"$f":"COUNTIFS('Ordre kommet i 2016'!H:H,B112)","v":0}]
[{"$f":"VLOOKUP(B113,Slåop!A:B,2,FALSE)","v":{"$error":"#N/A"}},833801,{"$f":"IF(B113<>\"\",COUNTIFS(Registion!H:H,B113,Registion!Z:Z,$G$1),\"\")","v":0},{"$f":"IF(B113<>\"\",COUNTIFS(Registion!H:H,B113,Registion!P:P,\">0,9\",Registion!Z:Z,$G$1),\"\")","v":0},"",{"$f":"COUNTIFS('Ordre kommet i 2016'!H:H,B113)","v":0}]
[{"$f":"VLOOKUP(B114,Slåop!A:B,2,FALSE)","v":{"$error":"#N/A"}},786485,{"$f":"IF(B114<>\"\",COUNTIFS(Registion!H:H,B114,Registion!Z:Z,$G$1),\"\")","v":0},{"$f":"IF(B114<>\"\",COUNTIFS(Registion!H:H,B114,Registion!P:P,\">0,9\",Registion!Z:Z,$G$1),\"\")","v":0},"",{"$f":"COUNTIFS('Ordre kommet i 2016'!H:H,B114)","v":0}]
[{"$f":"VLOOKUP(B115,Slåop!A:B,2,FALSE)","v":{"$error":"#N/A"}},817710,{"$f":"IF(B115<>\"\",COUNTIFS(Registion!H:H,B115,Registion!Z:Z,$G$1),\"\")","v":0},{"$f":"IF(B115<>\"\",COUNTIFS(Registion!H:H,B115,Registion!P:P,\">0,9\",Registion!Z:Z,$G$1),\"\")","v":0},"",{"$f":"COUNTIFS('Ordre kommet i 2016'!H:H,B115)","v":0}]
[{"$f":"VLOOKUP(B116,Slåop!A:B,2,FALSE)","v":{"$error":"#N/A"}},774567,{"$f":"IF(B116<>\"\",COUNTIFS(Registion!H:H,B116,Registion!Z:Z,$G$1),\"\")","v":0},{"$f":"IF(B116<>\"\",COUNTIFS(Registion!H:H,B116,Registion!P:P,\">0,9\",Registion!Z:Z,$G$1),\"\")","v":0},"",{"$f":"COUNTIFS('Ordre kommet i 2016'!H:H,B116)","v":0}]
[{"$f":"VLOOKUP(B117,Slåop!A:B,2,FALSE)","v":{"$error":"#N/A"}},788687,{"$f":"IF(B117<>\"\",COUNTIFS(Registion!H:H,B117,Registion!Z:Z,$G$1),\"\")","v":0},{"$f":"IF(B117<>\"\",COUNTIFS(Registion!H:H,B117,Registion!P:P,\">0,9\",Registion!Z:Z,$G$1),\"\")","v":0},"",{"$f":"COUNTIFS('Ordre kommet i 2016'!H:H,B117)","v":0}]
[{"$f":"VLOOKUP(B118,Slåop!A:B,2,FALSE)","v":{"$error":"#N/A"}},786456,{"$f":"IF(B118<>\"\",COUNTIFS(Registion!H:H,B118,Registion!Z:Z,$G$1),\"\")","v":0},{"$f":"IF(B118<>\"\",COUNTIFS(Registion!H:H,B118,Registion!P:P,\">0,9\",Registion!Z:Z,$G$1),\"\")","v":0},"",{"$f":"COUNTIFS('Ordre kommet i 2016'!H:H,B118)","v":0}]
[{"$f":"VLOOKUP(B119,Slåop!A:B,2,FALSE)","v":{"$error":"#N/A"}},786605,{"$f":"IF(B119<>\"\",COUNTIFS(Registion!H:H,B119,Registion!Z:Z,$G$1),\"\")","v":0},{"$f":"IF(B119<>\"\",COUNTIFS(Registion!H:H,B119,Registion!P:P,\">0,9\",Registion!Z:Z,$G$1),\"\")","v":0},"",{"$f":"COUNTIFS('Ordre kommet i 2016'!H:H,B119)","v":0}]
[{"$f":"VLOOKUP(B120,Slåop!A:B,2,FALSE)","v":{"$error":"#N/A"}},787928,{"$f":"IF(B120<>\"\",COUNTIFS(Registion!H:H,B120,Registion!Z:Z,$G$1),\"\")","v":0},{"$f":"IF(B120<>\"\",COUNTIFS(Registion!H:H,B120,Registion!P:P,\">0,9\",Registion!Z:Z,$G$1),\"\")","v":0},"",{"$f":"COUNTIFS('Ordre kommet i 2016'!H:H,B120)","v":0}]
[{"$f":"VLOOKUP(B121,Slåop!A:B,2,FALSE)","v":{"$error":"#N/A"}},827789,{"$f":"IF(B121<>\"\",COUNTIFS(Registion!H:H,B121,Registion!Z:Z,$G$1),\"\")","v":0},{"$f":"IF(B121<>\"\",COUNTIFS(Registion!H:H,B121,Registion!P:P,\">0,9\",Registion!Z:Z,$G$1),\"\")","v":0},"",{"$f":"COUNTIFS('Ordre kommet i 2016'!H:H,B121)","v":0}]
[{"$f":"VLOOKUP(B122,Slåop!A:B,2,FALSE)","v":{"$error":"#N/A"}},774574,{"$f":"IF(B122<>\"\",COUNTIFS(Registion!H:H,B122,Registion!Z:Z,$G$1),\"\")","v":0},{"$f":"IF(B122<>\"\",COUNTIFS(Registion!H:H,B122,Registion!P:P,\">0,9\",Registion!Z:Z,$G$1),\"\")","v":0},"",{"$f":"COUNTIFS('Ordre kommet i 2016'!H:H,B122)","v":0}]
[{"$f":"VLOOKUP(B123,Slåop!A:B,2,FALSE)","v":{"$error":"#N/A"}},790157,{"$f":"IF(B123<>\"\",COUNTIFS(Registion!H:H,B123,Registion!Z:Z,$G$1),\"\")","v":0},{"$f":"IF(B123<>\"\",COUNTIFS(Registion!H:H,B123,Registion!P:P,\">0,9\",Registion!Z:Z,$G$1),\"\")","v":0},"",{"$f":"COUNTIFS('Ordre kommet i 2016'!H:H,B123)","v":0}]
[{"$f":"VLOOKUP(B124,Slåop!A:B,2,FALSE)","v":{"$error":"#N/A"}},786473,{"$f":"IF(B124<>\"\",COUNTIFS(Registion!H:H,B124,Registion!Z:Z,$G$1),\"\")","v":0},{"$f":"IF(B124<>\"\",COUNTIFS(Registion!H:H,B124,Registion!P:P,\">0,9\",Registion!Z:Z,$G$1),\"\")","v":0},"",{"$f":"COUNTIFS('Ordre kommet i 2016'!H:H,B124)","v":0}]
[{"$f":"VLOOKUP(B125,Slåop!A:B,2,FALSE)","v":{"$error":"#N/A"}},786370,{"$f":"IF(B125<>\"\",COUNTIFS(Registion!H:H,B125,Registion!Z:Z,$G$1),\"\")","v":0},{"$f":"IF(B125<>\"\",COUNTIFS(Registion!H:H,B125,Registion!P:P,\">0,9\",Registion!Z:Z,$G$1),\"\")","v":0},"",{"$f":"COUNTIFS('Ordre kommet i 2016'!H:H,B125)","v":0}]
[{"$f":"VLOOKUP(B126,Slåop!A:B,2,FALSE)","v":{"$error":"#N/A"}},786472,{"$f":"IF(B126<>\"\",COUNTIFS(Registion!H:H,B126,Registion!Z:Z,$G$1),\"\")","v":0},{"$f":"IF(B126<>\"\",COUNTIFS(Registion!H:H,B126,Registion!P:P,\">0,9\",Registion!Z:Z,$G$1),\"\")","v":0},"",{"$f":"COUNTIFS('Ordre kommet i 2016'!H:H,B126)","v":0}]
[{"$f":"VLOOKUP(B127,Slåop!A:B,2,FALSE)","v":{"$error":"#N/A"}},789457,{"$f":"IF(B127<>\"\",COUNTIFS(Registion!H:H,B127,Registion!Z:Z,$G$1),\"\")","v":0},{"$f":"IF(B127<>\"\",COUNTIFS(Registion!H:H,B127,Registion!P:P,\">0,9\",Registion!Z:Z,$G$1),\"\")","v":0},"",{"$f":"COUNTIFS('Ordre kommet i 2016'!H:H,B127)","v":0}]
[{"$f":"VLOOKUP(B128,Slåop!A:B,2,FALSE)","v":{"$error":"#N/A"}},796363,{"$f":"IF(B128<>\"\",COUNTIFS(Registion!H:H,B128,Registion!Z:Z,$G$1),\"\")","v":0},{"$f":"IF(B128<>\"\",COUNTIFS(Registion!H:H,B128,Registion!P:P,\">0,9\",Registion!Z:Z,$G$1),\"\")","v":0},"",{"$f":"COUNTIFS('Ordre kommet i 2016'!H:H,B128)","v":0}]
[{"$f":"VLOOKUP(B129,Slåop!A:B,2,FALSE)","v":{"$error":"#N/A"}},795527,{"$f":"IF(B129<>\"\",COUNTIFS(Registion!H:H,B129,Registion!Z:Z,$G$1),\"\")","v":0},{"$f":"IF(B129<>\"\",COUNTIFS(Registion!H:H,B129,Registion!P:P,\">0,9\",Registion!Z:Z,$G$1),\"\")","v":0},"",{"$f":"COUNTIFS('Ordre kommet i 2016'!H:H,B129)","v":0}]
[{"$f":"VLOOKUP(B130,Slåop!A:B,2,FALSE)","v":{"$error":"#N/A"}},761563,{"$f":"IF(B130<>\"\",COUNTIFS(Registion!H:H,B130,Registion!Z:Z,$G$1),\"\")","v":0},{"$f":"IF(B130<>\"\",COUNTIFS(Registion!H:H,B130,Registion!P:P,\">0,9\",Registion!Z:Z,$G$1),\"\")","v":0},{"$f":"IF(C130<>0,IF(B130<>\"\",D130/C130,\"\"),\"\")","v":""},{"$f":"COUNTIFS('Ordre kommet i 2016'!H:H,B130)","v":0}]
[{"$f":"VLOOKUP(B131,Slåop!A:B,2,FALSE)","v":{"$error":"#N/A"}},807459,{"$f":"IF(B131<>\"\",COUNTIFS(Registion!H:H,B131,Registion!Z:Z,$G$1),\"\")","v":0},{"$f":"IF(B131<>\"\",COUNTIFS(Registion!H:H,B131,Registion!P:P,\">0,9\",Registion!Z:Z,$G$1),\"\")","v":0},"",{"$f":"COUNTIFS('Ordre kommet i 2016'!H:H,B131)","v":0}]
[{"$f":"VLOOKUP(B132,Slåop!A:B,2,FALSE)","v":{"$error":"#N/A"}},797649,{"$f":"IF(B132<>\"\",COUNTIFS(Registion!H:H,B132,Registion!Z:Z,$G$1),\"\")","v":0},{"$f":"IF(B132<>\"\",COUNTIFS(Registion!H:H,B132,Registion!P:P,\">0,9\",Registion!Z:Z,$G$1),\"\")","v":0},"",{"$f":"COUNTIFS('Ordre kommet i 2016'!H:H,B132)","v":0}]
[{"$f":"VLOOKUP(B133,Slåop!A:B,2,FALSE)","v":{"$error":"#N/A"}},810517,{"$f":"IF(B133<>\"\",COUNTIFS(Registion!H:H,B133,Registion!Z:Z,$G$1),\"\")","v":0},{"$f":"IF(B133<>\"\",COUNTIFS(Registion!H:H,B133,Registion!P:P,\">0,9\",Registion!Z:Z,$G$1),\"\")","v":0},"",{"$f":"COUNTIFS('Ordre kommet i 2016'!H:H,B133)","v":0}]
[{"$f":"VLOOKUP(B134,Slåop!A:B,2,FALSE)","v":{"$error":"#N/A"}},766089,{"$f":"IF(B134<>\"\",COUNTIFS(Registion!H:H,B134,Registion!Z:Z,$G$1),\"\")","v":0},{"$f":"IF(B134<>\"\",COUNTIFS(Registion!H:H,B134,Registion!P:P,\">0,9\",Registion!Z:Z,$G$1),\"\")","v":0},"",{"$f":"COUNTIFS('Ordre kommet i 2016'!H:H,B134)","v":0}]
[{"$f":"VLOOKUP(B135,Slåop!A:B,2,FALSE)","v":{"$error":"#N/A"}},786568,{"$f":"IF(B135<>\"\",COUNTIFS(Registion!H:H,B135,Registion!Z:Z,$G$1),\"\")","v":0},{"$f":"IF(B135<>\"\",COUNTIFS(Registion!H:H,B135,Registion!P:P,\">0,9\",Registion!Z:Z,$G$1),\"\")","v":0},"",{"$f":"COUNTIFS('Ordre kommet i 2016'!H:H,B135)","v":0}]
[{"$f":"VLOOKUP(B136,Slåop!A:B,2,FALSE)","v":{"$error":"#N/A"}},797652,{"$f":"IF(B136<>\"\",COUNTIFS(Registion!H:H,B136,Registion!Z:Z,$G$1),\"\")","v":0},{"$f":"IF(B136<>\"\",COUNTIFS(Registion!H:H,B136,Registion!P:P,\">0,9\",Registion!Z:Z,$G$1),\"\")","v":0},"",{"$f":"COUNTIFS('Ordre kommet i 2016'!H:H,B136)","v":0}]
[{"$f":"VLOOKUP(B137,Slåop!A:B,2,FALSE)","v":{"$error":"#N/A"}},807460,{"$f":"IF(B137<>\"\",COUNTIFS(Registion!H:H,B137,Registion!Z:Z,$G$1),\"\")","v":0},{"$f":"IF(B137<>\"\",COUNTIFS(Registion!H:H,B137,Registion!P:P,\">0,9\",Registion!Z:Z,$G$1),\"\")","v":0},"",{"$f":"COUNTIFS('Ordre kommet i 2016'!H:H,B137)","v":0}]
[{"$f":"VLOOKUP(B138,Slåop!A:B,2,FALSE)","v":{"$error":"#N/A"}},787141,{"$f":"IF(B138<>\"\",COUNTIFS(Registion!H:H,B138,Registion!Z:Z,$G$1),\"\")","v":0},{"$f":"IF(B138<>\"\",COUNTIFS(Registion!H:H,B138,Registion!P:P,\">0,9\",Registion!Z:Z,$G$1),\"\")","v":0},"",{"$f":"COUNTIFS('Ordre kommet i 2016'!H:H,B138)","v":0}]
[{"$f":"VLOOKUP(B139,Slåop!A:B,2,FALSE)","v":{"$error":"#N/A"}},783975,{"$f":"IF(B139<>\"\",COUNTIFS(Registion!H:H,B139,Registion!Z:Z,$G$1),\"\")","v":0},{"$f":"IF(B139<>\"\",COUNTIFS(Registion!H:H,B139,Registion!P:P,\">0,9\",Registion!Z:Z,$G$1),\"\")","v":0},"",{"$f":"COUNTIFS('Ordre kommet i 2016'!H:H,B139)","v":0}]
[{"$f":"VLOOKUP(B140,Slåop!A:B,2,FALSE)","v":{"$error":"#N/A"}},786379,{"$f":"IF(B140<>\"\",COUNTIFS(Registion!H:H,B140,Registion!Z:Z,$G$1),\"\")","v":0},{"$f":"IF(B140<>\"\",COUNTIFS(Registion!H:H,B140,Registion!P:P,\">0,9\",Registion!Z:Z,$G$1),\"\")","v":0},"",{"$f":"COUNTIFS('Ordre kommet i 2016'!H:H,B140)","v":0}]
[{"$f":"VLOOKUP(B141,Slåop!A:B,2,FALSE)","v":{"$error":"#N/A"}},776489,{"$f":"IF(B141<>\"\",COUNTIFS(Registion!H:H,B141,Registion!Z:Z,$G$1),\"\")","v":0},{"$f":"IF(B141<>\"\",COUNTIFS(Registion!H:H,B141,Registion!P:P,\">0,9\",Registion!Z:Z,$G$1),\"\")","v":0},"",{"$f":"COUNTIFS('Ordre kommet i 2016'!H:H,B141)","v":0}]
[{"$f":"VLOOKUP(B142,Slåop!A:B,2,FALSE)","v":{"$error":"#N/A"}},786545,{"$f":"IF(B142<>\"\",COUNTIFS(Registion!H:H,B142,Registion!Z:Z,$G$1),\"\")","v":0},{"$f":"IF(B142<>\"\",COUNTIFS(Registion!H:H,B142,Registion!P:P,\">0,9\",Registion!Z:Z,$G$1),\"\")","v":0},"",{"$f":"COUNTIFS('Ordre kommet i 2016'!H:H,B142)","v":0}]
[{"$f":"VLOOKUP(B143,Slåop!A:B,2,FALSE)","v":{"$error":"#N/A"}},786564,{"$f":"IF(B143<>\"\",COUNTIFS(Registion!H:H,B143,Registion!Z:Z,$G$1),\"\")","v":0},{"$f":"IF(B143<>\"\",COUNTIFS(Registion!H:H,B143,Registion!P:P,\">0,9\",Registion!Z:Z,$G$1),\"\")","v":0},"",{"$f":"COUNTIFS('Ordre kommet i 2016'!H:H,B143)","v":0}]
[{"$f":"VLOOKUP(B144,Slåop!A:B,2,FALSE)","v":{"$error":"#N/A"}},797660,{"$f":"IF(B144<>\"\",COUNTIFS(Registion!H:H,B144,Registion!Z:Z,$G$1),\"\")","v":0},{"$f":"IF(B144<>\"\",COUNTIFS(Registion!H:H,B144,Registion!P:P,\">0,9\",Registion!Z:Z,$G$1),\"\")","v":0},"",{"$f":"COUNTIFS('Ordre kommet i 2016'!H:H,B144)","v":0}]
[{"$f":"VLOOKUP(B145,Slåop!A:B,2,FALSE)","v":{"$error":"#N/A"}},820235,{"$f":"IF(B145<>\"\",COUNTIFS(Registion!H:H,B145,Registion!Z:Z,$G$1),\"\")","v":0},{"$f":"IF(B145<>\"\",COUNTIFS(Registion!H:H,B145,Registion!P:P,\">0,9\",Registion!Z:Z,$G$1),\"\")","v":0},"",{"$f":"COUNTIFS('Ordre kommet i 2016'!H:H,B145)","v":0}]
[{"$f":"VLOOKUP(B146,Slåop!A:B,2,FALSE)","v":{"$error":"#N/A"}},818050,{"$f":"IF(B146<>\"\",COUNTIFS(Registion!H:H,B146,Registion!Z:Z,$G$1),\"\")","v":0},{"$f":"IF(B146<>\"\",COUNTIFS(Registion!H:H,B146,Registion!P:P,\">0,9\",Registion!Z:Z,$G$1),\"\")","v":0},"",{"$f":"COUNTIFS('Ordre kommet i 2016'!H:H,B146)","v":0}]
[{"$f":"VLOOKUP(B147,Slåop!A:B,2,FALSE)","v":{"$error":"#N/A"}},795524,{"$f":"IF(B147<>\"\",COUNTIFS(Registion!H:H,B147,Registion!Z:Z,$G$1),\"\")","v":0},{"$f":"IF(B147<>\"\",COUNTIFS(Registion!H:H,B147,Registion!P:P,\">0,9\",Registion!Z:Z,$G$1),\"\")","v":0},"",{"$f":"COUNTIFS('Ordre kommet i 2016'!H:H,B147)","v":0}]
[{"$f":"VLOOKUP(B148,Slåop!A:B,2,FALSE)","v":{"$error":"#N/A"}},823543,{"$f":"IF(B148<>\"\",COUNTIFS(Registion!H:H,B148,Registion!Z:Z,$G$1),\"\")","v":0},{"$f":"IF(B148<>\"\",COUNTIFS(Registion!H:H,B148,Registion!P:P,\">0,9\",Registion!Z:Z,$G$1),\"\")","v":0},"",{"$f":"COUNTIFS('Ordre kommet i 2016'!H:H,B148)","v":0}]
[{"$f":"VLOOKUP(B149,Slåop!A:B,2,FALSE)","v":{"$error":"#N/A"}},786430,{"$f":"IF(B149<>\"\",COUNTIFS(Registion!H:H,B149,Registion!Z:Z,$G$1),\"\")","v":0},{"$f":"IF(B149<>\"\",COUNTIFS(Registion!H:H,B149,Registion!P:P,\">0,9\",Registion!Z:Z,$G$1),\"\")","v":0},"",{"$f":"COUNTIFS('Ordre kommet i 2016'!H:H,B149)","v":0}]
[{"$f":"VLOOKUP(B150,Slåop!A:B,2,FALSE)","v":{"$error":"#N/A"}},789472,{"$f":"IF(B150<>\"\",COUNTIFS(Registion!H:H,B150,Registion!Z:Z,$G$1),\"\")","v":0},{"$f":"IF(B150<>\"\",COUNTIFS(Registion!H:H,B150,Registion!P:P,\">0,9\",Registion!Z:Z,$G$1),\"\")","v":0},"",{"$f":"COUNTIFS('Ordre kommet i 2016'!H:H,B150)","v":0}]
[{"$f":"VLOOKUP(B151,Slåop!A:B,2,FALSE)","v":{"$error":"#N/A"}},812343,{"$f":"IF(B151<>\"\",COUNTIFS(Registion!H:H,B151,Registion!Z:Z,$G$1),\"\")","v":0},{"$f":"IF(B151<>\"\",COUNTIFS(Registion!H:H,B151,Registion!P:P,\">0,9\",Registion!Z:Z,$G$1),\"\")","v":0},"",{"$f":"COUNTIFS('Ordre kommet i 2016'!H:H,B151)","v":0}]
[{"$f":"VLOOKUP(B152,Slåop!A:B,2,FALSE)","v":{"$error":"#N/A"}},761699,{"$f":"IF(B152<>\"\",COUNTIFS(Registion!H:H,B152,Registion!Z:Z,$G$1),\"\")","v":0},{"$f":"IF(B152<>\"\",COUNTIFS(Registion!H:H,B152,Registion!P:P,\">0,9\",Registion!Z:Z,$G$1),\"\")","v":0},"",{"$f":"COUNTIFS('Ordre kommet i 2016'!H:H,B152)","v":0}]
[{"$f":"VLOOKUP(B153,Slåop!A:B,2,FALSE)","v":{"$error":"#N/A"}},761698,{"$f":"IF(B153<>\"\",COUNTIFS(Registion!H:H,B153,Registion!Z:Z,$G$1),\"\")","v":0},{"$f":"IF(B153<>\"\",COUNTIFS(Registion!H:H,B153,Registion!P:P,\">0,9\",Registion!Z:Z,$G$1),\"\")","v":0},"",{"$f":"COUNTIFS('Ordre kommet i 2016'!H:H,B153)","v":0}]
[{"$f":"VLOOKUP(B154,Slåop!A:B,2,FALSE)","v":{"$error":"#N/A"}},786376,{"$f":"IF(B154<>\"\",COUNTIFS(Registion!H:H,B154,Registion!Z:Z,$G$1),\"\")","v":0},{"$f":"IF(B154<>\"\",COUNTIFS(Registion!H:H,B154,Registion!P:P,\">0,9\",Registion!Z:Z,$G$1),\"\")","v":0},"",{"$f":"COUNTIFS('Ordre kommet i 2016'!H:H,B154)","v":0}]
[{"$f":"VLOOKUP(B155,Slåop!A:B,2,FALSE)","v":{"$error":"#N/A"}},795525,{"$f":"IF(B155<>\"\",COUNTIFS(Registion!H:H,B155,Registion!Z:Z,$G$1),\"\")","v":0},{"$f":"IF(B155<>\"\",COUNTIFS(Registion!H:H,B155,Registion!P:P,\">0,9\",Registion!Z:Z,$G$1),\"\")","v":0},"",{"$f":"COUNTIFS('Ordre kommet i 2016'!H:H,B155)","v":0}]
[{"$f":"VLOOKUP(B156,Slåop!A:B,2,FALSE)","v":{"$error":"#N/A"}},807367,{"$f":"IF(B156<>\"\",COUNTIFS(Registion!H:H,B156,Registion!Z:Z,$G$1),\"\")","v":0},{"$f":"IF(B156<>\"\",COUNTIFS(Registion!H:H,B156,Registion!P:P,\">0,9\",Registion!Z:Z,$G$1),\"\")","v":0},"",{"$f":"COUNTIFS('Ordre kommet i 2016'!H:H,B156)","v":0}]
[{"$f":"VLOOKUP(B157,Slåop!A:B,2,FALSE)","v":{"$error":"#N/A"}},818808,{"$f":"IF(B157<>\"\",COUNTIFS(Registion!H:H,B157,Registion!Z:Z,$G$1),\"\")","v":0},{"$f":"IF(B157<>\"\",COUNTIFS(Registion!H:H,B157,Registion!P:P,\">0,9\",Registion!Z:Z,$G$1),\"\")","v":0},"",{"$f":"COUNTIFS('Ordre kommet i 2016'!H:H,B157)","v":0}]
[{"$f":"VLOOKUP(B158,Slåop!A:B,2,FALSE)","v":{"$error":"#N/A"}},812186,{"$f":"IF(B158<>\"\",COUNTIFS(Registion!H:H,B158,Registion!Z:Z,$G$1),\"\")","v":0},{"$f":"IF(B158<>\"\",COUNTIFS(Registion!H:H,B158,Registion!P:P,\">0,9\",Registion!Z:Z,$G$1),\"\")","v":0},"",{"$f":"COUNTIFS('Ordre kommet i 2016'!H:H,B158)","v":0}]
[{"$f":"VLOOKUP(B159,Slåop!A:B,2,FALSE)","v":{"$error":"#N/A"}},774575,{"$f":"IF(B159<>\"\",COUNTIFS(Registion!H:H,B159,Registion!Z:Z,$G$1),\"\")","v":0},{"$f":"IF(B159<>\"\",COUNTIFS(Registion!H:H,B159,Registion!P:P,\">0,9\",Registion!Z:Z,$G$1),\"\")","v":0},"",{"$f":"COUNTIFS('Ordre kommet i 2016'!H:H,B159)","v":0}]
[{"$f":"VLOOKUP(B160,Slåop!A:B,2,FALSE)","v":{"$error":"#N/A"}},810906,{"$f":"IF(B160<>\"\",COUNTIFS(Registion!H:H,B160,Registion!Z:Z,$G$1),\"\")","v":0},{"$f":"IF(B160<>\"\",COUNTIFS(Registion!H:H,B160,Registion!P:P,\">0,9\",Registion!Z:Z,$G$1),\"\")","v":0},"",{"$f":"COUNTIFS('Ordre kommet i 2016'!H:H,B160)","v":0}]
[{"$f":"VLOOKUP(B161,Slåop!A:B,2,FALSE)","v":{"$error":"#N/A"}},786474,{"$f":"IF(B161<>\"\",COUNTIFS(Registion!H:H,B161,Registion!Z:Z,$G$1),\"\")","v":0},{"$f":"IF(B161<>\"\",COUNTIFS(Registion!H:H,B161,Registion!P:P,\">0,9\",Registion!Z:Z,$G$1),\"\")","v":0},"",{"$f":"COUNTIFS('Ordre kommet i 2016'!H:H,B161)","v":0}]
[{"$f":"VLOOKUP(B162,Slåop!A:B,2,FALSE)","v":{"$error":"#N/A"}},786979,{"$f":"IF(B162<>\"\",COUNTIFS(Registion!H:H,B162,Registion!Z:Z,$G$1),\"\")","v":0},{"$f":"IF(B162<>\"\",COUNTIFS(Registion!H:H,B162,Registion!P:P,\">0,9\",Registion!Z:Z,$G$1),\"\")","v":0},"",{"$f":"COUNTIFS('Ordre kommet i 2016'!H:H,B162)","v":0}]
[{"$f":"VLOOKUP(B163,Slåop!A:B,2,FALSE)","v":{"$error":"#N/A"}},776487,{"$f":"IF(B163<>\"\",COUNTIFS(Registion!H:H,B163,Registion!Z:Z,$G$1),\"\")","v":0},{"$f":"IF(B163<>\"\",COUNTIFS(Registion!H:H,B163,Registion!P:P,\">0,9\",Registion!Z:Z,$G$1),\"\")","v":0},"",{"$f":"COUNTIFS('Ordre kommet i 2016'!H:H,B163)","v":0}]
[{"$f":"VLOOKUP(B164,Slåop!A:B,2,FALSE)","v":{"$error":"#N/A"}},776495,{"$f":"IF(B164<>\"\",COUNTIFS(Registion!H:H,B164,Registion!Z:Z,$G$1),\"\")","v":0},{"$f":"IF(B164<>\"\",COUNTIFS(Registion!H:H,B164,Registion!P:P,\">0,9\",Registion!Z:Z,$G$1),\"\")","v":0},"",{"$f":"COUNTIFS('Ordre kommet i 2016'!H:H,B164)","v":0}]
[{"$f":"VLOOKUP(B165,Slåop!A:B,2,FALSE)","v":{"$error":"#N/A"}},777176,{"$f":"IF(B165<>\"\",COUNTIFS(Registion!H:H,B165,Registion!Z:Z,$G$1),\"\")","v":0},{"$f":"IF(B165<>\"\",COUNTIFS(Registion!H:H,B165,Registion!P:P,\">0,9\",Registion!Z:Z,$G$1),\"\")","v":0},"",{"$f":"COUNTIFS('Ordre kommet i 2016'!H:H,B165)","v":0}]
[{"$f":"VLOOKUP(B166,Slåop!A:B,2,FALSE)","v":{"$error":"#N/A"}},810904,{"$f":"IF(B166<>\"\",COUNTIFS(Registion!H:H,B166,Registion!Z:Z,$G$1),\"\")","v":0},{"$f":"IF(B166<>\"\",COUNTIFS(Registion!H:H,B166,Registion!P:P,\">0,9\",Registion!Z:Z,$G$1),\"\")","v":0},"",{"$f":"COUNTIFS('Ordre kommet i 2016'!H:H,B166)","v":0}]
[{"$f":"VLOOKUP(B167,Slåop!A:B,2,FALSE)","v":{"$error":"#N/A"}},810908,{"$f":"IF(B167<>\"\",COUNTIFS(Registion!H:H,B167,Registion!Z:Z,$G$1),\"\")","v":0},{"$f":"IF(B167<>\"\",COUNTIFS(Registion!H:H,B167,Registion!P:P,\">0,9\",Registion!Z:Z,$G$1),\"\")","v":0},"",{"$f":"COUNTIFS('Ordre kommet i 2016'!H:H,B167)","v":0}]
[{"$f":"VLOOKUP(B168,Slåop!A:B,2,FALSE)","v":{"$error":"#N/A"}},786601,{"$f":"IF(B168<>\"\",COUNTIFS(Registion!H:H,B168,Registion!Z:Z,$G$1),\"\")","v":0},{"$f":"IF(B168<>\"\",COUNTIFS(Registion!H:H,B168,Registion!P:P,\">0,9\",Registion!Z:Z,$G$1),\"\")","v":0},"",{"$f":"COUNTIFS('Ordre kommet i 2016'!H:H,B168)","v":0}]
[{"$f":"VLOOKUP(B169,Slåop!A:B,2,FALSE)","v":{"$error":"#N/A"}},786600,{"$f":"IF(B169<>\"\",COUNTIFS(Registion!H:H,B169,Registion!Z:Z,$G$1),\"\")","v":0},{"$f":"IF(B169<>\"\",COUNTIFS(Registion!H:H,B169,Registion!P:P,\">0,9\",Registion!Z:Z,$G$1),\"\")","v":0},"",{"$f":"COUNTIFS('Ordre kommet i 2016'!H:H,B169)","v":0}]
[{"$f":"VLOOKUP(B170,Slåop!A:B,2,FALSE)","v":{"$error":"#N/A"}},810878,{"$f":"IF(B170<>\"\",COUNTIFS(Registion!H:H,B170,Registion!Z:Z,$G$1),\"\")","v":0},{"$f":"IF(B170<>\"\",COUNTIFS(Registion!H:H,B170,Registion!P:P,\">0,9\",Registion!Z:Z,$G$1),\"\")","v":0},"",{"$f":"COUNTIFS('Ordre kommet i 2016'!H:H,B170)","v":0}]
[{"$f":"VLOOKUP(B171,Slåop!A:B,2,FALSE)","v":{"$error":"#N/A"}},810879,{"$f":"IF(B171<>\"\",COUNTIFS(Registion!H:H,B171,Registion!Z:Z,$G$1),\"\")","v":0},{"$f":"IF(B171<>\"\",COUNTIFS(Registion!H:H,B171,Registion!P:P,\">0,9\",Registion!Z:Z,$G$1),\"\")","v":0},"",{"$f":"COUNTIFS('Ordre kommet i 2016'!H:H,B171)","v":0}]
[{"$f":"VLOOKUP(B172,Slåop!A:B,2,FALSE)","v":{"$error":"#N/A"}},786477,{"$f":"IF(B172<>\"\",COUNTIFS(Registion!H:H,B172,Registion!Z:Z,$G$1),\"\")","v":0},{"$f":"IF(B172<>\"\",COUNTIFS(Registion!H:H,B172,Registion!P:P,\">0,9\",Registion!Z:Z,$G$1),\"\")","v":0},"",{"$f":"COUNTIFS('Ordre kommet i 2016'!H:H,B172)","v":0}]
[{"$f":"VLOOKUP(B173,Slåop!A:B,2,FALSE)","v":{"$error":"#N/A"}},786380,{"$f":"IF(B173<>\"\",COUNTIFS(Registion!H:H,B173,Registion!Z:Z,$G$1),\"\")","v":0},{"$f":"IF(B173<>\"\",COUNTIFS(Registion!H:H,B173,Registion!P:P,\">0,9\",Registion!Z:Z,$G$1),\"\")","v":0},"",{"$f":"COUNTIFS('Ordre kommet i 2016'!H:H,B173)","v":0}]
[{"$f":"VLOOKUP(B174,Slåop!A:B,2,FALSE)","v":{"$error":"#N/A"}},818991,{"$f":"IF(B174<>\"\",COUNTIFS(Registion!H:H,B174,Registion!Z:Z,$G$1),\"\")","v":0},{"$f":"IF(B174<>\"\",COUNTIFS(Registion!H:H,B174,Registion!P:P,\">0,9\",Registion!Z:Z,$G$1),\"\")","v":0},"",{"$f":"COUNTIFS('Ordre kommet i 2016'!H:H,B174)","v":0}]
[{"$f":"VLOOKUP(B175,Slåop!A:B,2,FALSE)","v":{"$error":"#N/A"}},777177,{"$f":"IF(B175<>\"\",COUNTIFS(Registion!H:H,B175,Registion!Z:Z,$G$1),\"\")","v":0},{"$f":"IF(B175<>\"\",COUNTIFS(Registion!H:H,B175,Registion!P:P,\">0,9\",Registion!Z:Z,$G$1),\"\")","v":0},"",{"$f":"COUNTIFS('Ordre kommet i 2016'!H:H,B175)","v":0}]
[{"$f":"VLOOKUP(B176,Slåop!A:B,2,FALSE)","v":{"$error":"#N/A"}},774565,{"$f":"IF(B176<>\"\",COUNTIFS(Registion!H:H,B176,Registion!Z:Z,$G$1),\"\")","v":0},{"$f":"IF(B176<>\"\",COUNTIFS(Registion!H:H,B176,Registion!P:P,\">0,9\",Registion!Z:Z,$G$1),\"\")","v":0},"",{"$f":"COUNTIFS('Ordre kommet i 2016'!H:H,B176)","v":0}]
[{"$f":"VLOOKUP(B177,Slåop!A:B,2,FALSE)","v":{"$error":"#N/A"}},786903,{"$f":"IF(B177<>\"\",COUNTIFS(Registion!H:H,B177,Registion!Z:Z,$G$1),\"\")","v":0},{"$f":"IF(B177<>\"\",COUNTIFS(Registion!H:H,B177,Registion!P:P,\">0,9\",Registion!Z:Z,$G$1),\"\")","v":0},"",{"$f":"COUNTIFS('Ordre kommet i 2016'!H:H,B177)","v":0}]
[{"$f":"VLOOKUP(B178,Slåop!A:B,2,FALSE)","v":{"$error":"#N/A"}},804885,{"$f":"IF(B178<>\"\",COUNTIFS(Registion!H:H,B178,Registion!Z:Z,$G$1),\"\")","v":0},{"$f":"IF(B178<>\"\",COUNTIFS(Registion!H:H,B178,Registion!P:P,\">0,9\",Registion!Z:Z,$G$1),\"\")","v":0},"",{"$f":"COUNTIFS('Ordre kommet i 2016'!H:H,B178)","v":0}]
[{"$f":"VLOOKUP(B179,Slåop!A:B,2,FALSE)","v":{"$error":"#N/A"}},819565,{"$f":"IF(B179<>\"\",COUNTIFS(Registion!H:H,B179,Registion!Z:Z,$G$1),\"\")","v":0},{"$f":"IF(B179<>\"\",COUNTIFS(Registion!H:H,B179,Registion!P:P,\">0,9\",Registion!Z:Z,$G$1),\"\")","v":0},"",{"$f":"COUNTIFS('Ordre kommet i 2016'!H:H,B179)","v":0}]
[{"$f":"VLOOKUP(B180,Slåop!A:B,2,FALSE)","v":{"$error":"#N/A"}},786553,{"$f":"IF(B180<>\"\",COUNTIFS(Registion!H:H,B180,Registion!Z:Z,$G$1),\"\")","v":0},{"$f":"IF(B180<>\"\",COUNTIFS(Registion!H:H,B180,Registion!P:P,\">0,9\",Registion!Z:Z,$G$1),\"\")","v":0},"",{"$f":"COUNTIFS('Ordre kommet i 2016'!H:H,B180)","v":0}]
[{"$f":"VLOOKUP(B181,Slåop!A:B,2,FALSE)","v":{"$error":"#N/A"}},786552,{"$f":"IF(B181<>\"\",COUNTIFS(Registion!H:H,B181,Registion!Z:Z,$G$1),\"\")","v":0},{"$f":"IF(B181<>\"\",COUNTIFS(Registion!H:H,B181,Registion!P:P,\">0,9\",Registion!Z:Z,$G$1),\"\")","v":0},"",{"$f":"COUNTIFS('Ordre kommet i 2016'!H:H,B181)","v":0}]
[{"$f":"VLOOKUP(B182,Slåop!A:B,2,FALSE)","v":{"$error":"#N/A"}},793111,{"$f":"IF(B182<>\"\",COUNTIFS(Registion!H:H,B182,Registion!Z:Z,$G$1),\"\")","v":0},{"$f":"IF(B182<>\"\",COUNTIFS(Registion!H:H,B182,Registion!P:P,\">0,9\",Registion!Z:Z,$G$1),\"\")","v":0},"",{"$f":"COUNTIFS('Ordre kommet i 2016'!H:H,B182)","v":0}]
[{"$f":"VLOOKUP(B183,Slåop!A:B,2,FALSE)","v":{"$error":"#N/A"}},770406,{"$f":"IF(B183<>\"\",COUNTIFS(Registion!H:H,B183,Registion!Z:Z,$G$1),\"\")","v":0},{"$f":"IF(B183<>\"\",COUNTIFS(Registion!H:H,B183,Registion!P:P,\">0,9\",Registion!Z:Z,$G$1),\"\")","v":0},"",{"$f":"COUNTIFS('Ordre kommet i 2016'!H:H,B183)","v":0}]
[{"$f":"VLOOKUP(B184,Slåop!A:B,2,FALSE)","v":{"$error":"#N/A"}},797651,{"$f":"IF(B184<>\"\",COUNTIFS(Registion!H:H,B184,Registion!Z:Z,$G$1),\"\")","v":0},{"$f":"IF(B184<>\"\",COUNTIFS(Registion!H:H,B184,Registion!P:P,\">0,9\",Registion!Z:Z,$G$1),\"\")","v":0},"",{"$f":"COUNTIFS('Ordre kommet i 2016'!H:H,B184)","v":0}]
[{"$f":"VLOOKUP(B185,Slåop!A:B,2,FALSE)","v":{"$error":"#N/A"}},787085,{"$f":"IF(B185<>\"\",COUNTIFS(Registion!H:H,B185,Registion!Z:Z,$G$1),\"\")","v":0},{"$f":"IF(B185<>\"\",COUNTIFS(Registion!H:H,B185,Registion!P:P,\">0,9\",Registion!Z:Z,$G$1),\"\")","v":0},"",{"$f":"COUNTIFS('Ordre kommet i 2016'!H:H,B185)","v":0}]
[{"$f":"VLOOKUP(B186,Slåop!A:B,2,FALSE)","v":{"$error":"#N/A"}},761568,{"$f":"IF(B186<>\"\",COUNTIFS(Registion!H:H,B186,Registion!Z:Z,$G$1),\"\")","v":0},{"$f":"IF(B186<>\"\",COUNTIFS(Registion!H:H,B186,Registion!P:P,\">0,9\",Registion!Z:Z,$G$1),\"\")","v":0},"",{"$f":"COUNTIFS('Ordre kommet i 2016'!H:H,B186)","v":0}]
[{"$f":"VLOOKUP(B187,Slåop!A:B,2,FALSE)","v":{"$error":"#N/A"}},787034,{"$f":"IF(B187<>\"\",COUNTIFS(Registion!H:H,B187,Registion!Z:Z,$G$1),\"\")","v":0},{"$f":"IF(B187<>\"\",COUNTIFS(Registion!H:H,B187,Registion!P:P,\">0,9\",Registion!Z:Z,$G$1),\"\")","v":0},"",{"$f":"COUNTIFS('Ordre kommet i 2016'!H:H,B187)","v":0}]
[{"$f":"VLOOKUP(B188,Slåop!A:B,2,FALSE)","v":{"$error":"#N/A"}},786358,{"$f":"IF(B188<>\"\",COUNTIFS(Registion!H:H,B188,Registion!Z:Z,$G$1),\"\")","v":0},{"$f":"IF(B188<>\"\",COUNTIFS(Registion!H:H,B188,Registion!P:P,\">0,9\",Registion!Z:Z,$G$1),\"\")","v":0},"",{"$f":"COUNTIFS('Ordre kommet i 2016'!H:H,B188)","v":0}]
[{"$f":"VLOOKUP(B189,Slåop!A:B,2,FALSE)","v":{"$error":"#N/A"}},797661,{"$f":"IF(B189<>\"\",COUNTIFS(Registion!H:H,B189,Registion!Z:Z,$G$1),\"\")","v":0},{"$f":"IF(B189<>\"\",COUNTIFS(Registion!H:H,B189,Registion!P:P,\">0,9\",Registion!Z:Z,$G$1),\"\")","v":0},"",{"$f":"COUNTIFS('Ordre kommet i 2016'!H:H,B189)","v":0}]
[{"$f":"VLOOKUP(B190,Slåop!A:B,2,FALSE)","v":{"$error":"#N/A"}},786606,{"$f":"IF(B190<>\"\",COUNTIFS(Registion!H:H,B190,Registion!Z:Z,$G$1),\"\")","v":0},{"$f":"IF(B190<>\"\",COUNTIFS(Registion!H:H,B190,Registion!P:P,\">0,9\",Registion!Z:Z,$G$1),\"\")","v":0},"",{"$f":"COUNTIFS('Ordre kommet i 2016'!H:H,B190)","v":0}]
[{"$f":"VLOOKUP(B191,Slåop!A:B,2,FALSE)","v":{"$error":"#N/A"}},812342,{"$f":"IF(B191<>\"\",COUNTIFS(Registion!H:H,B191,Registion!Z:Z,$G$1),\"\")","v":0},{"$f":"IF(B191<>\"\",COUNTIFS(Registion!H:H,B191,Registion!P:P,\">0,9\",Registion!Z:Z,$G$1),\"\")","v":0},"",{"$f":"COUNTIFS('Ordre kommet i 2016'!H:H,B191)","v":0}]
[{"$f":"VLOOKUP(B192,Slåop!A:B,2,FALSE)","v":{"$error":"#N/A"}},786479,{"$f":"IF(B192<>\"\",COUNTIFS(Registion!H:H,B192,Registion!Z:Z,$G$1),\"\")","v":0},{"$f":"IF(B192<>\"\",COUNTIFS(Registion!H:H,B192,Registion!P:P,\">0,9\",Registion!Z:Z,$G$1),\"\")","v":0},"",{"$f":"COUNTIFS('Ordre kommet i 2016'!H:H,B192)","v":0}]
[{"$f":"VLOOKUP(B193,Slåop!A:B,2,FALSE)","v":{"$error":"#N/A"}},786598,{"$f":"IF(B193<>\"\",COUNTIFS(Registion!H:H,B193,Registion!Z:Z,$G$1),\"\")","v":0},{"$f":"IF(B193<>\"\",COUNTIFS(Registion!H:H,B193,Registion!P:P,\">0,9\",Registion!Z:Z,$G$1),\"\")","v":0},"",{"$f":"COUNTIFS('Ordre kommet i 2016'!H:H,B193)","v":0}]
[{"$f":"VLOOKUP(B194,Slåop!A:B,2,FALSE)","v":{"$error":"#N/A"}},786550,{"$f":"IF(B194<>\"\",COUNTIFS(Registion!H:H,B194,Registion!Z:Z,$G$1),\"\")","v":0},{"$f":"IF(B194<>\"\",COUNTIFS(Registion!H:H,B194,Registion!P:P,\">0,9\",Registion!Z:Z,$G$1),\"\")","v":0},{"$f":"IF(C194<>0,IF(B194<>\"\",D194/C194,\"\"),\"\")","v":""},{"$f":"COUNTIFS('Ordre kommet i 2016'!H:H,B194)","v":0}]
[{"$f":"VLOOKUP(B195,Slåop!A:B,2,FALSE)","v":{"$error":"#N/A"}},786288,{"$f":"IF(B195<>\"\",COUNTIFS(Registion!H:H,B195,Registion!Z:Z,$G$1),\"\")","v":0},{"$f":"IF(B195<>\"\",COUNTIFS(Registion!H:H,B195,Registion!P:P,\">0,9\",Registion!Z:Z,$G$1),\"\")","v":0},"",{"$f":"COUNTIFS('Ordre kommet i 2016'!H:H,B195)","v":0}]
[{"$f":"VLOOKUP(B196,Slåop!A:B,2,FALSE)","v":{"$error":"#N/A"}},787025,{"$f":"IF(B196<>\"\",COUNTIFS(Registion!H:H,B196,Registion!Z:Z,$G$1),\"\")","v":0},{"$f":"IF(B196<>\"\",COUNTIFS(Registion!H:H,B196,Registion!P:P,\">0,9\",Registion!Z:Z,$G$1),\"\")","v":0},"",{"$f":"COUNTIFS('Ordre kommet i 2016'!H:H,B196)","v":0}]
[{"$f":"VLOOKUP(B197,Slåop!A:B,2,FALSE)","v":{"$error":"#N/A"}},799532,{"$f":"IF(B197<>\"\",COUNTIFS(Registion!H:H,B197,Registion!Z:Z,$G$1),\"\")","v":0},{"$f":"IF(B197<>\"\",COUNTIFS(Registion!H:H,B197,Registion!P:P,\">0,9\",Registion!Z:Z,$G$1),\"\")","v":0},"",{"$f":"COUNTIFS('Ordre kommet i 2016'!H:H,B197)","v":0}]
[{"$f":"VLOOKUP(B198,Slåop!A:B,2,FALSE)","v":{"$error":"#N/A"}},786297,{"$f":"IF(B198<>\"\",COUNTIFS(Registion!H:H,B198,Registion!Z:Z,$G$1),\"\")","v":0},{"$f":"IF(B198<>\"\",COUNTIFS(Registion!H:H,B198,Registion!P:P,\">0,9\",Registion!Z:Z,$G$1),\"\")","v":0},"",{"$f":"COUNTIFS('Ordre kommet i 2016'!H:H,B198)","v":0}]
[{"$f":"VLOOKUP(B199,Slåop!A:B,2,FALSE)","v":{"$error":"#N/A"}},804898,{"$f":"IF(B199<>\"\",COUNTIFS(Registion!H:H,B199,Registion!Z:Z,$G$1),\"\")","v":0},{"$f":"IF(B199<>\"\",COUNTIFS(Registion!H:H,B199,Registion!P:P,\">0,9\",Registion!Z:Z,$G$1),\"\")","v":0},"",{"$f":"COUNTIFS('Ordre kommet i 2016'!H:H,B199)","v":0}]
[{"$f":"VLOOKUP(B200,Slåop!A:B,2,FALSE)","v":{"$error":"#N/A"}},797650,{"$f":"IF(B200<>\"\",COUNTIFS(Registion!H:H,B200,Registion!Z:Z,$G$1),\"\")","v":0},{"$f":"IF(B200<>\"\",COUNTIFS(Registion!H:H,B200,Registion!P:P,\">0,9\",Registion!Z:Z,$G$1),\"\")","v":0},"",{"$f":"COUNTIFS('Ordre kommet i 2016'!H:H,B200)","v":0}]
[{"$f":"VLOOKUP(B201,Slåop!A:B,2,FALSE)","v":{"$error":"#N/A"}},807412,{"$f":"IF(B201<>\"\",COUNTIFS(Registion!H:H,B201,Registion!Z:Z,$G$1),\"\")","v":0},{"$f":"IF(B201<>\"\",COUNTIFS(Registion!H:H,B201,Registion!P:P,\">0,9\",Registion!Z:Z,$G$1),\"\")","v":0},"",{"$f":"COUNTIFS('Ordre kommet i 2016'!H:H,B201)","v":0}]
[{"$f":"VLOOKUP(B202,Slåop!A:B,2,FALSE)","v":{"$error":"#N/A"}},823261,{"$f":"IF(B202<>\"\",COUNTIFS(Registion!H:H,B202,Registion!Z:Z,$G$1),\"\")","v":0},{"$f":"IF(B202<>\"\",COUNTIFS(Registion!H:H,B202,Registion!P:P,\">0,9\",Registion!Z:Z,$G$1),\"\")","v":0},"",{"$f":"COUNTIFS('Ordre kommet i 2016'!H:H,B202)","v":0}]
[{"$f":"VLOOKUP(B203,Slåop!A:B,2,FALSE)","v":{"$error":"#N/A"}},786351,{"$f":"IF(B203<>\"\",COUNTIFS(Registion!H:H,B203,Registion!Z:Z,$G$1),\"\")","v":0},{"$f":"IF(B203<>\"\",COUNTIFS(Registion!H:H,B203,Registion!P:P,\">0,9\",Registion!Z:Z,$G$1),\"\")","v":0},"",{"$f":"COUNTIFS('Ordre kommet i 2016'!H:H,B203)","v":0}]
[{"$f":"VLOOKUP(B204,Slåop!A:B,2,FALSE)","v":{"$error":"#N/A"}},786374,{"$f":"IF(B204<>\"\",COUNTIFS(Registion!H:H,B204,Registion!Z:Z,$G$1),\"\")","v":0},{"$f":"IF(B204<>\"\",COUNTIFS(Registion!H:H,B204,Registion!P:P,\">0,9\",Registion!Z:Z,$G$1),\"\")","v":0},"",{"$f":"COUNTIFS('Ordre kommet i 2016'!H:H,B204)","v":0}]
[{"$f":"VLOOKUP(B205,Slåop!A:B,2,FALSE)","v":{"$error":"#N/A"}},799206,{"$f":"IF(B205<>\"\",COUNTIFS(Registion!H:H,B205,Registion!Z:Z,$G$1),\"\")","v":0},{"$f":"IF(B205<>\"\",COUNTIFS(Registion!H:H,B205,Registion!P:P,\">0,9\",Registion!Z:Z,$G$1),\"\")","v":0},"",{"$f":"COUNTIFS('Ordre kommet i 2016'!H:H,B205)","v":0}]
[{"$f":"VLOOKUP(B206,Slåop!A:B,2,FALSE)","v":"Vare 9"},726089,{"$f":"IF(B206<>\"\",COUNTIFS(Registion!H:H,B206,Registion!Z:Z,$G$1),\"\")","v":0},{"$f":"IF(B206<>\"\",COUNTIFS(Registion!H:H,B206,Registion!P:P,\">0,9\",Registion!Z:Z,$G$1),\"\")","v":0},"",{"$f":"COUNTIFS('Ordre kommet i 2016'!H:H,B206)","v":0}]
[{"$f":"VLOOKUP(B207,Slåop!A:B,2,FALSE)","v":{"$error":"#N/A"}},786608,{"$f":"IF(B207<>\"\",COUNTIFS(Registion!H:H,B207,Registion!Z:Z,$G$1),\"\")","v":0},{"$f":"IF(B207<>\"\",COUNTIFS(Registion!H:H,B207,Registion!P:P,\">0,9\",Registion!Z:Z,$G$1),\"\")","v":0},"",{"$f":"COUNTIFS('Ordre kommet i 2016'!H:H,B207)","v":0}]
[{"$f":"VLOOKUP(B208,Slåop!A:B,2,FALSE)","v":{"$error":"#N/A"}},786900,{"$f":"IF(B208<>\"\",COUNTIFS(Registion!H:H,B208,Registion!Z:Z,$G$1),\"\")","v":0},{"$f":"IF(B208<>\"\",COUNTIFS(Registion!H:H,B208,Registion!P:P,\">0,9\",Registion!Z:Z,$G$1),\"\")","v":0},"",{"$f":"COUNTIFS('Ordre kommet i 2016'!H:H,B208)","v":0}]
[{"$f":"VLOOKUP(B209,Slåop!A:B,2,FALSE)","v":{"$error":"#N/A"}},810948,{"$f":"IF(B209<>\"\",COUNTIFS(Registion!H:H,B209,Registion!Z:Z,$G$1),\"\")","v":0},{"$f":"IF(B209<>\"\",COUNTIFS(Registion!H:H,B209,Registion!P:P,\">0,9\",Registion!Z:Z,$G$1),\"\")","v":0},"",{"$f":"COUNTIFS('Ordre kommet i 2016'!H:H,B209)","v":0}]
[{"$f":"VLOOKUP(B210,Slåop!A:B,2,FALSE)","v":{"$error":"#N/A"}},786426,{"$f":"IF(B210<>\"\",COUNTIFS(Registion!H:H,B210,Registion!Z:Z,$G$1),\"\")","v":0},{"$f":"IF(B210<>\"\",COUNTIFS(Registion!H:H,B210,Registion!P:P,\">0,9\",Registion!Z:Z,$G$1),\"\")","v":0},"",{"$f":"COUNTIFS('Ordre kommet i 2016'!H:H,B210)","v":0}]
[{"$f":"VLOOKUP(B211,Slåop!A:B,2,FALSE)","v":{"$error":"#N/A"}},786395,{"$f":"IF(B211<>\"\",COUNTIFS(Registion!H:H,B211,Registion!Z:Z,$G$1),\"\")","v":0},{"$f":"IF(B211<>\"\",COUNTIFS(Registion!H:H,B211,Registion!P:P,\">0,9\",Registion!Z:Z,$G$1),\"\")","v":0},"",{"$f":"COUNTIFS('Ordre kommet i 2016'!H:H,B211)","v":0}]
[{"$f":"VLOOKUP(B212,Slåop!A:B,2,FALSE)","v":{"$error":"#N/A"}},789456,{"$f":"IF(B212<>\"\",COUNTIFS(Registion!H:H,B212,Registion!Z:Z,$G$1),\"\")","v":0},{"$f":"IF(B212<>\"\",COUNTIFS(Registion!H:H,B212,Registion!P:P,\">0,9\",Registion!Z:Z,$G$1),\"\")","v":0},"",{"$f":"COUNTIFS('Ordre kommet i 2016'!H:H,B212)","v":0}]
[{"$f":"VLOOKUP(B213,Slåop!A:B,2,FALSE)","v":{"$error":"#N/A"}},832295,{"$f":"IF(B213<>\"\",COUNTIFS(Registion!H:H,B213,Registion!Z:Z,$G$1),\"\")","v":0},{"$f":"IF(B213<>\"\",COUNTIFS(Registion!H:H,B213,Registion!P:P,\">0,9\",Registion!Z:Z,$G$1),\"\")","v":0},"",{"$f":"COUNTIFS('Ordre kommet i 2016'!H:H,B213)","v":0}]
[{"$f":"VLOOKUP(B214,Slåop!A:B,2,FALSE)","v":{"$error":"#N/A"}},786942,{"$f":"IF(B214<>\"\",COUNTIFS(Registion!H:H,B214,Registion!Z:Z,$G$1),\"\")","v":0},{"$f":"IF(B214<>\"\",COUNTIFS(Registion!H:H,B214,Registion!P:P,\">0,9\",Registion!Z:Z,$G$1),\"\")","v":0},"",{"$f":"COUNTIFS('Ordre kommet i 2016'!H:H,B214)","v":0}]
[{"$f":"VLOOKUP(B215,Slåop!A:B,2,FALSE)","v":{"$error":"#N/A"}},786431,{"$f":"IF(B215<>\"\",COUNTIFS(Registion!H:H,B215,Registion!Z:Z,$G$1),\"\")","v":0},{"$f":"IF(B215<>\"\",COUNTIFS(Registion!H:H,B215,Registion!P:P,\">0,9\",Registion!Z:Z,$G$1),\"\")","v":0},"",{"$f":"COUNTIFS('Ordre kommet i 2016'!H:H,B215)","v":0}]
[{"$f":"VLOOKUP(B216,Slåop!A:B,2,FALSE)","v":{"$error":"#N/A"}},761062,{"$f":"IF(B216<>\"\",COUNTIFS(Registion!H:H,B216,Registion!Z:Z,$G$1),\"\")","v":0},{"$f":"IF(B216<>\"\",COUNTIFS(Registion!H:H,B216,Registion!P:P,\">0,9\",Registion!Z:Z,$G$1),\"\")","v":0},"",{"$f":"COUNTIFS('Ordre kommet i 2016'!H:H,B216)","v":0}]
[{"$f":"VLOOKUP(B217,Slåop!A:B,2,FALSE)","v":{"$error":"#N/A"}},817709,{"$f":"IF(B217<>\"\",COUNTIFS(Registion!H:H,B217,Registion!Z:Z,$G$1),\"\")","v":0},{"$f":"IF(B217<>\"\",COUNTIFS(Registion!H:H,B217,Registion!P:P,\">0,9\",Registion!Z:Z,$G$1),\"\")","v":0},"",{"$f":"COUNTIFS('Ordre kommet i 2016'!H:H,B217)","v":0}]
[{"$f":"VLOOKUP(B218,Slåop!A:B,2,FALSE)","v":{"$error":"#N/A"}},818788,{"$f":"IF(B218<>\"\",COUNTIFS(Registion!H:H,B218,Registion!Z:Z,$G$1),\"\")","v":0},{"$f":"IF(B218<>\"\",COUNTIFS(Registion!H:H,B218,Registion!P:P,\">0,9\",Registion!Z:Z,$G$1),\"\")","v":0},"",{"$f":"COUNTIFS('Ordre kommet i 2016'!H:H,B218)","v":0}]
[{"$f":"VLOOKUP(B219,Slåop!A:B,2,FALSE)","v":{"$error":"#N/A"}},782090,{"$f":"IF(B219<>\"\",COUNTIFS(Registion!H:H,B219,Registion!Z:Z,$G$1),\"\")","v":0},{"$f":"IF(B219<>\"\",COUNTIFS(Registion!H:H,B219,Registion!P:P,\">0,9\",Registion!Z:Z,$G$1),\"\")","v":0},"",{"$f":"COUNTIFS('Ordre kommet i 2016'!H:H,B219)","v":0}]
[{"$f":"VLOOKUP(B220,Slåop!A:B,2,FALSE)","v":{"$error":"#N/A"}},786490,{"$f":"IF(B220<>\"\",COUNTIFS(Registion!H:H,B220,Registion!Z:Z,$G$1),\"\")","v":0},{"$f":"IF(B220<>\"\",COUNTIFS(Registion!H:H,B220,Registion!P:P,\">0,9\",Registion!Z:Z,$G$1),\"\")","v":0},"",{"$f":"COUNTIFS('Ordre kommet i 2016'!H:H,B220)","v":0}]
[{"$f":"VLOOKUP(B221,Slåop!A:B,2,FALSE)","v":{"$error":"#N/A"}},776482,{"$f":"IF(B221<>\"\",COUNTIFS(Registion!H:H,B221,Registion!Z:Z,$G$1),\"\")","v":0},{"$f":"IF(B221<>\"\",COUNTIFS(Registion!H:H,B221,Registion!P:P,\">0,9\",Registion!Z:Z,$G$1),\"\")","v":0},"",{"$f":"COUNTIFS('Ordre kommet i 2016'!H:H,B221)","v":0}]
[{"$f":"VLOOKUP(B222,Slåop!A:B,2,FALSE)","v":{"$error":"#N/A"}},776481,{"$f":"IF(B222<>\"\",COUNTIFS(Registion!H:H,B222,Registion!Z:Z,$G$1),\"\")","v":0},{"$f":"IF(B222<>\"\",COUNTIFS(Registion!H:H,B222,Registion!P:P,\">0,9\",Registion!Z:Z,$G$1),\"\")","v":0},"",{"$f":"COUNTIFS('Ordre kommet i 2016'!H:H,B222)","v":0}]
[{"$f":"VLOOKUP(B223,Slåop!A:B,2,FALSE)","v":{"$error":"#N/A"}},838606,{"$f":"IF(B223<>\"\",COUNTIFS(Registion!H:H,B223,Registion!Z:Z,$G$1),\"\")","v":0},{"$f":"IF(B223<>\"\",COUNTIFS(Registion!H:H,B223,Registion!P:P,\">0,9\",Registion!Z:Z,$G$1),\"\")","v":0},"",{"$f":"COUNTIFS('Ordre kommet i 2016'!H:H,B223)","v":0}]
[{"$f":"VLOOKUP(B224,Slåop!A:B,2,FALSE)","v":{"$error":"#N/A"}},837697,{"$f":"IF(B224<>\"\",COUNTIFS(Registion!H:H,B224,Registion!Z:Z,$G$1),\"\")","v":0},{"$f":"IF(B224<>\"\",COUNTIFS(Registion!H:H,B224,Registion!P:P,\">0,9\",Registion!Z:Z,$G$1),\"\")","v":0},"",{"$f":"COUNTIFS('Ordre kommet i 2016'!H:H,B224)","v":0}]
[{"$f":"VLOOKUP(B225,Slåop!A:B,2,FALSE)","v":{"$error":"#N/A"}},786154,{"$f":"IF(B225<>\"\",COUNTIFS(Registion!H:H,B225,Registion!Z:Z,$G$1),\"\")","v":0},{"$f":"IF(B225<>\"\",COUNTIFS(Registion!H:H,B225,Registion!P:P,\">0,9\",Registion!Z:Z,$G$1),\"\")","v":0},"",{"$f":"COUNTIFS('Ordre kommet i 2016'!H:H,B225)","v":0}]
[{"$f":"VLOOKUP(B226,Slåop!A:B,2,FALSE)","v":{"$error":"#N/A"}},786845,{"$f":"IF(B226<>\"\",COUNTIFS(Registion!H:H,B226,Registion!Z:Z,$G$1),\"\")","v":0},{"$f":"IF(B226<>\"\",COUNTIFS(Registion!H:H,B226,Registion!P:P,\">0,9\",Registion!Z:Z,$G$1),\"\")","v":0},"",{"$f":"COUNTIFS('Ordre kommet i 2016'!H:H,B226)","v":0}]
[{"$f":"VLOOKUP(B227,Slåop!A:B,2,FALSE)","v":{"$error":"#N/A"}},842027,{"$f":"IF(B227<>\"\",COUNTIFS(Registion!H:H,B227,Registion!Z:Z,$G$1),\"\")","v":0},{"$f":"IF(B227<>\"\",COUNTIFS(Registion!H:H,B227,Registion!P:P,\">0,9\",Registion!Z:Z,$G$1),\"\")","v":0},"",{"$f":"COUNTIFS('Ordre kommet i 2016'!H:H,B227)","v":0}]
[{"$f":"VLOOKUP(B228,Slåop!A:B,2,FALSE)","v":{"$error":"#N/A"}},796365,{"$f":"IF(B228<>\"\",COUNTIFS(Registion!H:H,B228,Registion!Z:Z,$G$1),\"\")","v":0},{"$f":"IF(B228<>\"\",COUNTIFS(Registion!H:H,B228,Registion!P:P,\">0,9\",Registion!Z:Z,$G$1),\"\")","v":0},"",{"$f":"COUNTIFS('Ordre kommet i 2016'!H:H,B228)","v":0}]
[{"$f":"VLOOKUP(B229,Slåop!A:B,2,FALSE)","v":{"$error":"#N/A"}},781288,{"$f":"IF(B229<>\"\",COUNTIFS(Registion!H:H,B229,Registion!Z:Z,$G$1),\"\")","v":0},{"$f":"IF(B229<>\"\",COUNTIFS(Registion!H:H,B229,Registion!P:P,\">0,9\",Registion!Z:Z,$G$1),\"\")","v":0},"",{"$f":"COUNTIFS('Ordre kommet i 2016'!H:H,B229)","v":0}]
[{"$f":"VLOOKUP(B230,Slåop!A:B,2,FALSE)","v":{"$error":"#N/A"}},787022,{"$f":"IF(B230<>\"\",COUNTIFS(Registion!H:H,B230,Registion!Z:Z,$G$1),\"\")","v":0},{"$f":"IF(B230<>\"\",COUNTIFS(Registion!H:H,B230,Registion!P:P,\">0,9\",Registion!Z:Z,$G$1),\"\")","v":0},"",{"$f":"COUNTIFS('Ordre kommet i 2016'!H:H,B230)","v":0}]
[{"$f":"VLOOKUP(B231,Slåop!A:B,2,FALSE)","v":{"$error":"#N/A"}},763873,{"$f":"IF(B231<>\"\",COUNTIFS(Registion!H:H,B231,Registion!Z:Z,$G$1),\"\")","v":0},{"$f":"IF(B231<>\"\",COUNTIFS(Registion!H:H,B231,Registion!P:P,\">0,9\",Registion!Z:Z,$G$1),\"\")","v":0},"",{"$f":"COUNTIFS('Ordre kommet i 2016'!H:H,B231)","v":0}]
[{"$f":"VLOOKUP(B232,Slåop!A:B,2,FALSE)","v":{"$error":"#N/A"}},789443,{"$f":"IF(B232<>\"\",COUNTIFS(Registion!H:H,B232,Registion!Z:Z,$G$1),\"\")","v":0},{"$f":"IF(B232<>\"\",COUNTIFS(Registion!H:H,B232,Registion!P:P,\">0,9\",Registion!Z:Z,$G$1),\"\")","v":0},"",{"$f":"COUNTIFS('Ordre kommet i 2016'!H:H,B232)","v":0}]
[{"$f":"VLOOKUP(B233,Slåop!A:B,2,FALSE)","v":{"$error":"#N/A"}},786471,{"$f":"IF(B233<>\"\",COUNTIFS(Registion!H:H,B233,Registion!Z:Z,$G$1),\"\")","v":0},{"$f":"IF(B233<>\"\",COUNTIFS(Registion!H:H,B233,Registion!P:P,\">0,9\",Registion!Z:Z,$G$1),\"\")","v":0},"",{"$f":"COUNTIFS('Ordre kommet i 2016'!H:H,B233)","v":0}]
[{"$f":"VLOOKUP(B234,Slåop!A:B,2,FALSE)","v":{"$error":"#N/A"}},786580,{"$f":"IF(B234<>\"\",COUNTIFS(Registion!H:H,B234,Registion!Z:Z,$G$1),\"\")","v":0},{"$f":"IF(B234<>\"\",COUNTIFS(Registion!H:H,B234,Registion!P:P,\">0,9\",Registion!Z:Z,$G$1),\"\")","v":0},"",{"$f":"COUNTIFS('Ordre kommet i 2016'!H:H,B234)","v":0}]
[{"$f":"VLOOKUP(B235,Slåop!A:B,2,FALSE)","v":{"$error":"#N/A"}},786469,{"$f":"IF(B235<>\"\",COUNTIFS(Registion!H:H,B235,Registion!Z:Z,$G$1),\"\")","v":0},{"$f":"IF(B235<>\"\",COUNTIFS(Registion!H:H,B235,Registion!P:P,\">0,9\",Registion!Z:Z,$G$1),\"\")","v":0},"",{"$f":"COUNTIFS('Ordre kommet i 2016'!H:H,B235)","v":0}]
[{"$f":"VLOOKUP(B236,Slåop!A:B,2,FALSE)","v":{"$error":"#N/A"}},776491,{"$f":"IF(B236<>\"\",COUNTIFS(Registion!H:H,B236,Registion!Z:Z,$G$1),\"\")","v":0},{"$f":"IF(B236<>\"\",COUNTIFS(Registion!H:H,B236,Registion!P:P,\">0,9\",Registion!Z:Z,$G$1),\"\")","v":0},"",{"$f":"COUNTIFS('Ordre kommet i 2016'!H:H,B236)","v":0}]
[{"$f":"VLOOKUP(B237,Slåop!A:B,2,FALSE)","v":{"$error":"#N/A"}},776488,{"$f":"IF(B237<>\"\",COUNTIFS(Registion!H:H,B237,Registion!Z:Z,$G$1),\"\")","v":0},{"$f":"IF(B237<>\"\",COUNTIFS(Registion!H:H,B237,Registion!P:P,\">0,9\",Registion!Z:Z,$G$1),\"\")","v":0},"",{"$f":"COUNTIFS('Ordre kommet i 2016'!H:H,B237)","v":0}]
[{"$f":"VLOOKUP(B238,Slåop!A:B,2,FALSE)","v":{"$error":"#N/A"}},820394,{"$f":"IF(B238<>\"\",COUNTIFS(Registion!H:H,B238,Registion!Z:Z,$G$1),\"\")","v":0},{"$f":"IF(B238<>\"\",COUNTIFS(Registion!H:H,B238,Registion!P:P,\">0,9\",Registion!Z:Z,$G$1),\"\")","v":0},"",{"$f":"COUNTIFS('Ordre kommet i 2016'!H:H,B238)","v":0}]
[{"$f":"VLOOKUP(B239,Slåop!A:B,2,FALSE)","v":{"$error":"#N/A"}},817015,{"$f":"IF(B239<>\"\",COUNTIFS(Registion!H:H,B239,Registion!Z:Z,$G$1),\"\")","v":0},{"$f":"IF(B239<>\"\",COUNTIFS(Registion!H:H,B239,Registion!P:P,\">0,9\",Registion!Z:Z,$G$1),\"\")","v":0},"",{"$f":"COUNTIFS('Ordre kommet i 2016'!H:H,B239)","v":0}]
[{"$f":"VLOOKUP(B240,Slåop!A:B,2,FALSE)","v":{"$error":"#N/A"}},846490,{"$f":"IF(B240<>\"\",COUNTIFS(Registion!H:H,B240,Registion!Z:Z,$G$1),\"\")","v":0},{"$f":"IF(B240<>\"\",COUNTIFS(Registion!H:H,B240,Registion!P:P,\">0,9\",Registion!Z:Z,$G$1),\"\")","v":0},"",{"$f":"COUNTIFS('Ordre kommet i 2016'!H:H,B240)","v":0}]
[{"$f":"VLOOKUP(B241,Slåop!A:B,2,FALSE)","v":{"$error":"#N/A"}},823294,{"$f":"IF(B241<>\"\",COUNTIFS(Registion!H:H,B241,Registion!Z:Z,$G$1),\"\")","v":0},{"$f":"IF(B241<>\"\",COUNTIFS(Registion!H:H,B241,Registion!P:P,\">0,9\",Registion!Z:Z,$G$1),\"\")","v":0},"",{"$f":"COUNTIFS('Ordre kommet i 2016'!H:H,B241)","v":0}]
[{"$f":"VLOOKUP(B242,Slåop!A:B,2,FALSE)","v":{"$error":"#N/A"}},841263,{"$f":"IF(B242<>\"\",COUNTIFS(Registion!H:H,B242,Registion!Z:Z,$G$1),\"\")","v":0},{"$f":"IF(B242<>\"\",COUNTIFS(Registion!H:H,B242,Registion!P:P,\">0,9\",Registion!Z:Z,$G$1),\"\")","v":0},"",{"$f":"COUNTIFS('Ordre kommet i 2016'!H:H,B242)","v":0}]
[{"$f":"VLOOKUP(B243,Slåop!A:B,2,FALSE)","v":{"$error":"#N/A"}},827634,{"$f":"IF(B243<>\"\",COUNTIFS(Registion!H:H,B243,Registion!Z:Z,$G$1),\"\")","v":0},{"$f":"IF(B243<>\"\",COUNTIFS(Registion!H:H,B243,Registion!P:P,\">0,9\",Registion!Z:Z,$G$1),\"\")","v":0},"",{"$f":"COUNTIFS('Ordre kommet i 2016'!H:H,B243)","v":0}]
[{"$f":"VLOOKUP(B244,Slåop!A:B,2,FALSE)","v":{"$error":"#N/A"}},833861,{"$f":"IF(B244<>\"\",COUNTIFS(Registion!H:H,B244,Registion!Z:Z,$G$1),\"\")","v":0},{"$f":"IF(B244<>\"\",COUNTIFS(Registion!H:H,B244,Registion!P:P,\">0,9\",Registion!Z:Z,$G$1),\"\")","v":0},"",{"$f":"COUNTIFS('Ordre kommet i 2016'!H:H,B244)","v":0}]
[{"$f":"VLOOKUP(B245,Slåop!A:B,2,FALSE)","v":{"$error":"#N/A"}},810552,{"$f":"IF(B245<>\"\",COUNTIFS(Registion!H:H,B245,Registion!Z:Z,$G$1),\"\")","v":0},{"$f":"IF(B245<>\"\",COUNTIFS(Registion!H:H,B245,Registion!P:P,\">0,9\",Registion!Z:Z,$G$1),\"\")","v":0},"",{"$f":"COUNTIFS('Ordre kommet i 2016'!H:H,B245)","v":0}]
[{"$f":"VLOOKUP(B246,Slåop!A:B,2,FALSE)","v":{"$error":"#N/A"}},810909,{"$f":"IF(B246<>\"\",COUNTIFS(Registion!H:H,B246,Registion!Z:Z,$G$1),\"\")","v":0},{"$f":"IF(B246<>\"\",COUNTIFS(Registion!H:H,B246,Registion!P:P,\">0,9\",Registion!Z:Z,$G$1),\"\")","v":0},"",{"$f":"COUNTIFS('Ordre kommet i 2016'!H:H,B246)","v":0}]
[{"$f":"VLOOKUP(B247,Slåop!A:B,2,FALSE)","v":{"$error":"#N/A"}},810910,{"$f":"IF(B247<>\"\",COUNTIFS(Registion!H:H,B247,Registion!Z:Z,$G$1),\"\")","v":0},{"$f":"IF(B247<>\"\",COUNTIFS(Registion!H:H,B247,Registion!P:P,\">0,9\",Registion!Z:Z,$G$1),\"\")","v":0},"",{"$f":"COUNTIFS('Ordre kommet i 2016'!H:H,B247)","v":0}]

{"sheet":"tæller (2015)","index":5,"n_rows":212,"n_cols":11,"rows_kept":212,"cut":false,"hidden":false,"merged":[]}
[null,"Part Number","Antal modtaget","Antal modtaget med bemærkninger:","Bemærkninger på ifh til modtaget",null,2015,"Supplier","Antal modtaget","Antal modtaget med bemærkninger:","Bemærkninger på ifh til modtaget"]
[{"$f":"VLOOKUP(B2,Slåop!A:B,2,FALSE)","v":{"$error":"#N/A"}},776495,{"$f":"IF(B2<>\"\",COUNTIFS(Registion!H:H,B2,Registion!Z:Z,$G$1),\"\")","v":0},{"$f":"IF(B2<>\"\",COUNTIFS(Registion!H:H,B2,Registion!P:P,\">0,9\",Registion!Z:Z,$G$1),\"\")","v":0},{"$f":"IF(B2<>\"\",D2/C2,\"\")","v":{"$error":"#DIV/0!"}},null,{"$f":"VLOOKUP(H2,Vendor,2,FALSE)","v":0},343379,{"$f":"IF(H2<>\"\",COUNTIFS(Registion!F:F,H2,Registion!Z:Z,$G$1),\"\")","v":0},{"$f":"IF(H2<>\"\",COUNTIFS(Registion!F:F,H2,Registion!P:P,\">0,9\",Registion!Z:Z,$G$1),\"\")","v":0},{"$f":"IF(H2<>\"\",J2/I2,\"\")","v":{"$error":"#DIV/0!"}}]
[{"$f":"VLOOKUP(B3,Slåop!A:B,2,FALSE)","v":{"$error":"#N/A"}},761508,{"$f":"IF(B3<>\"\",COUNTIFS(Registion!H:H,B3,Registion!Z:Z,$G$1),\"\")","v":0},{"$f":"IF(B3<>\"\",COUNTIFS(Registion!H:H,B3,Registion!P:P,\">0,9\",Registion!Z:Z,$G$1),\"\")","v":0},{"$error":"#DIV/0!"},null,{"$error":"#N/A"},null,{"$f":"IF(H3<>\"\",COUNTIFS(Registion!F:F,H3,Registion!Z:Z,$G$1),\"\")","v":""},{"$f":"IF(H3<>\"\",COUNTIFS(Registion!F:F,H3,Registion!P:P,\">0,9\",Registion!Z:Z,$G$1),\"\")","v":""},""]
[{"$f":"VLOOKUP(B4,Slåop!A:B,2,FALSE)","v":{"$error":"#N/A"}},818369,{"$f":"IF(B4<>\"\",COUNTIFS(Registion!H:H,B4,Registion!Z:Z,$G$1),\"\")","v":0},{"$f":"IF(B4<>\"\",COUNTIFS(Registion!H:H,B4,Registion!P:P,\">0,9\",Registion!Z:Z,$G$1),\"\")","v":0},{"$error":"#DIV/0!"},null,0,343235,{"$f":"IF(H4<>\"\",COUNTIFS(Registion!F:F,H4,Registion!Z:Z,$G$1),\"\")","v":0},{"$f":"IF(H4<>\"\",COUNTIFS(Registion!F:F,H4,Registion!P:P,\">0,9\",Registion!Z:Z,$G$1),\"\")","v":0},{"$error":"#DIV/0!"}]
[{"$f":"VLOOKUP(B5,Slåop!A:B,2,FALSE)","v":{"$error":"#N/A"}},766045,{"$f":"IF(B5<>\"\",COUNTIFS(Registion!H:H,B5,Registion!Z:Z,$G$1),\"\")","v":0},{"$f":"IF(B5<>\"\",COUNTIFS(Registion!H:H,B5,Registion!P:P,\">0,9\",Registion!Z:Z,$G$1),\"\")","v":0},{"$error":"#DIV/0!"},null,0,343017,{"$f":"IF(H5<>\"\",COUNTIFS(Registion!F:F,H5,Registion!Z:Z,$G$1),\"\")","v":0},{"$f":"IF(H5<>\"\",COUNTIFS(Registion!F:F,H5,Registion!P:P,\">0,9\",Registion!Z:Z,$G$1),\"\")","v":0},{"$error":"#DIV/0!"}]
[{"$f":"VLOOKUP(B6,Slåop!A:B,2,FALSE)","v":{"$error":"#N/A"}},732685,{"$f":"IF(B6<>\"\",COUNTIFS(Registion!H:H,B6,Registion!Z:Z,$G$1),\"\")","v":0},{"$f":"IF(B6<>\"\",COUNTIFS(Registion!H:H,B6,Registion!P:P,\">0,9\",Registion!Z:Z,$G$1),\"\")","v":0},{"$error":"#DIV/0!"},null,0,343137,{"$f":"IF(H6<>\"\",COUNTIFS(Registion!F:F,H6,Registion!Z:Z,$G$1),\"\")","v":0},{"$f":"IF(H6<>\"\",COUNTIFS(Registion!F:F,H6,Registion!P:P,\">0,9\",Registion!Z:Z,$G$1),\"\")","v":0},{"$error":"#DIV/0!"}]
[{"$f":"VLOOKUP(B7,Slåop!A:B,2,FALSE)","v":{"$error":"#N/A"}},787928,{"$f":"IF(B7<>\"\",COUNTIFS(Registion!H:H,B7,Registion!Z:Z,$G$1),\"\")","v":0},{"$f":"IF(B7<>\"\",COUNTIFS(Registion!H:H,B7,Registion!P:P,\">0,9\",Registion!Z:Z,$G$1),\"\")","v":0},{"$error":"#DIV/0!"},null,0,"Retur vare",{"$f":"IF(H7<>\"\",COUNTIFS(Registion!F:F,H7,Registion!Z:Z,$G$1),\"\")","v":0},{"$f":"IF(H7<>\"\",COUNTIFS(Registion!F:F,H7,Registion!P:P,\">0,9\",Registion!Z:Z,$G$1),\"\")","v":0},{"$error":"#DIV/0!"}]
[{"$f":"VLOOKUP(B8,Slåop!A:B,2,FALSE)","v":{"$error":"#N/A"}},806491,{"$f":"IF(B8<>\"\",COUNTIFS(Registion!H:H,B8,Registion!Z:Z,$G$1),\"\")","v":0},{"$f":"IF(B8<>\"\",COUNTIFS(Registion!H:H,B8,Registion!P:P,\">0,9\",Registion!Z:Z,$G$1),\"\")","v":0},{"$error":"#DIV/0!"},null,0,343069,{"$f":"IF(H8<>\"\",COUNTIFS(Registion!F:F,H8,Registion!Z:Z,$G$1),\"\")","v":0},{"$f":"IF(H8<>\"\",COUNTIFS(Registion!F:F,H8,Registion!P:P,\">0,9\",Registion!Z:Z,$G$1),\"\")","v":0},{"$error":"#DIV/0!"}]
[{"$f":"VLOOKUP(B9,Slåop!A:B,2,FALSE)","v":{"$error":"#N/A"}},766856,{"$f":"IF(B9<>\"\",COUNTIFS(Registion!H:H,B9,Registion!Z:Z,$G$1),\"\")","v":0},{"$f":"IF(B9<>\"\",COUNTIFS(Registion!H:H,B9,Registion!P:P,\">0,9\",Registion!Z:Z,$G$1),\"\")","v":0},{"$error":"#DIV/0!"},null,0,343042,{"$f":"IF(H9<>\"\",COUNTIFS(Registion!F:F,H9,Registion!Z:Z,$G$1),\"\")","v":0},{"$f":"IF(H9<>\"\",COUNTIFS(Registion!F:F,H9,Registion!P:P,\">0,9\",Registion!Z:Z,$G$1),\"\")","v":0},{"$error":"#DIV/0!"}]
[{"$f":"VLOOKUP(B10,Slåop!A:B,2,FALSE)","v":{"$error":"#N/A"}},774380,{"$f":"IF(B10<>\"\",COUNTIFS(Registion!H:H,B10,Registion!Z:Z,$G$1),\"\")","v":0},{"$f":"IF(B10<>\"\",COUNTIFS(Registion!H:H,B10,Registion!P:P,\">0,9\",Registion!Z:Z,$G$1),\"\")","v":0},{"$error":"#DIV/0!"},null,0,343678,{"$f":"IF(H10<>\"\",COUNTIFS(Registion!F:F,H10,Registion!Z:Z,$G$1),\"\")","v":0},{"$f":"IF(H10<>\"\",COUNTIFS(Registion!F:F,H10,Registion!P:P,\">0,9\",Registion!Z:Z,$G$1),\"\")","v":0},{"$error":"#DIV/0!"}]
[{"$f":"VLOOKUP(B11,Slåop!A:B,2,FALSE)","v":{"$error":"#N/A"}},812360,{"$f":"IF(B11<>\"\",COUNTIFS(Registion!H:H,B11,Registion!Z:Z,$G$1),\"\")","v":0},{"$f":"IF(B11<>\"\",COUNTIFS(Registion!H:H,B11,Registion!P:P,\">0,9\",Registion!Z:Z,$G$1),\"\")","v":0},{"$error":"#DIV/0!"},null,0,343030,{"$f":"IF(H11<>\"\",COUNTIFS(Registion!F:F,H11,Registion!Z:Z,$G$1),\"\")","v":0},{"$f":"IF(H11<>\"\",COUNTIFS(Registion!F:F,H11,Registion!P:P,\">0,9\",Registion!Z:Z,$G$1),\"\")","v":0},{"$error":"#DIV/0!"}]
[{"$f":"VLOOKUP(B12,Slåop!A:B,2,FALSE)","v":{"$error":"#N/A"}},779694,{"$f":"IF(B12<>\"\",COUNTIFS(Registion!H:H,B12,Registion!Z:Z,$G$1),\"\")","v":0},{"$f":"IF(B12<>\"\",COUNTIFS(Registion!H:H,B12,Registion!P:P,\">0,9\",Registion!Z:Z,$G$1),\"\")","v":0},{"$error":"#DIV/0!"},null,0,343538,{"$f":"IF(H12<>\"\",COUNTIFS(Registion!F:F,H12,Registion!Z:Z,$G$1),\"\")","v":0},{"$f":"IF(H12<>\"\",COUNTIFS(Registion!F:F,H12,Registion!P:P,\">0,9\",Registion!Z:Z,$G$1),\"\")","v":0},{"$error":"#DIV/0!"}]
[{"$f":"VLOOKUP(B13,Slåop!A:B,2,FALSE)","v":{"$error":"#N/A"}},797762,{"$f":"IF(B13<>\"\",COUNTIFS(Registion!H:H,B13,Registion!Z:Z,$G$1),\"\")","v":0},{"$f":"IF(B13<>\"\",COUNTIFS(Registion!H:H,B13,Registion!P:P,\">0,9\",Registion!Z:Z,$G$1),\"\")","v":0},{"$error":"#DIV/0!"},null,0,115163,{"$f":"IF(H13<>\"\",COUNTIFS(Registion!F:F,H13,Registion!Z:Z,$G$1),\"\")","v":0},{"$f":"IF(H13<>\"\",COUNTIFS(Registion!F:F,H13,Registion!P:P,\">0,9\",Registion!Z:Z,$G$1),\"\")","v":0},{"$error":"#DIV/0!"}]
[{"$f":"VLOOKUP(B14,Slåop!A:B,2,FALSE)","v":{"$error":"#N/A"}},796363,{"$f":"IF(B14<>\"\",COUNTIFS(Registion!H:H,B14,Registion!Z:Z,$G$1),\"\")","v":1},{"$f":"IF(B14<>\"\",COUNTIFS(Registion!H:H,B14,Registion!P:P,\">0,9\",Registion!Z:Z,$G$1),\"\")","v":1},1,null,0,343200,{"$f":"IF(H14<>\"\",COUNTIFS(Registion!F:F,H14,Registion!Z:Z,$G$1),\"\")","v":0},{"$f":"IF(H14<>\"\",COUNTIFS(Registion!F:F,H14,Registion!P:P,\">0,9\",Registion!Z:Z,$G$1),\"\")","v":0},{"$error":"#DIV/0!"}]
[{"$f":"VLOOKUP(B15,Slåop!A:B,2,FALSE)","v":{"$error":"#N/A"}},786485,{"$f":"IF(B15<>\"\",COUNTIFS(Registion!H:H,B15,Registion!Z:Z,$G$1),\"\")","v":0},{"$f":"IF(B15<>\"\",COUNTIFS(Registion!H:H,B15,Registion!P:P,\">0,9\",Registion!Z:Z,$G$1),\"\")","v":0},{"$error":"#DIV/0!"},null,0,343158,{"$f":"IF(H15<>\"\",COUNTIFS(Registion!F:F,H15,Registion!Z:Z,$G$1),\"\")","v":0},{"$f":"IF(H15<>\"\",COUNTIFS(Registion!F:F,H15,Registion!P:P,\">0,9\",Registion!Z:Z,$G$1),\"\")","v":0},{"$error":"#DIV/0!"}]
[{"$f":"VLOOKUP(B16,Slåop!A:B,2,FALSE)","v":{"$error":"#N/A"}},786568,{"$f":"IF(B16<>\"\",COUNTIFS(Registion!H:H,B16,Registion!Z:Z,$G$1),\"\")","v":0},{"$f":"IF(B16<>\"\",COUNTIFS(Registion!H:H,B16,Registion!P:P,\">0,9\",Registion!Z:Z,$G$1),\"\")","v":0},{"$error":"#DIV/0!"},null,{"$error":"#N/A"},"REWORK ORDRE",{"$f":"IF(H16<>\"\",COUNTIFS(Registion!F:F,H16,Registion!Z:Z,$G$1),\"\")","v":0},{"$f":"IF(H16<>\"\",COUNTIFS(Registion!F:F,H16,Registion!P:P,\">0,9\",Registion!Z:Z,$G$1),\"\")","v":0},{"$error":"#DIV/0!"}]
[{"$f":"VLOOKUP(B17,Slåop!A:B,2,FALSE)","v":{"$error":"#N/A"}},811006,{"$f":"IF(B17<>\"\",COUNTIFS(Registion!H:H,B17,Registion!Z:Z,$G$1),\"\")","v":0},{"$f":"IF(B17<>\"\",COUNTIFS(Registion!H:H,B17,Registion!P:P,\">0,9\",Registion!Z:Z,$G$1),\"\")","v":0},{"$error":"#DIV/0!"},null,0,343252,{"$f":"IF(H17<>\"\",COUNTIFS(Registion!F:F,H17,Registion!Z:Z,$G$1),\"\")","v":0},{"$f":"IF(H17<>\"\",COUNTIFS(Registion!F:F,H17,Registion!P:P,\">0,9\",Registion!Z:Z,$G$1),\"\")","v":0},{"$error":"#DIV/0!"}]
[{"$f":"VLOOKUP(B18,Slåop!A:B,2,FALSE)","v":{"$error":"#N/A"}},786456,{"$f":"IF(B18<>\"\",COUNTIFS(Registion!H:H,B18,Registion!Z:Z,$G$1),\"\")","v":0},{"$f":"IF(B18<>\"\",COUNTIFS(Registion!H:H,B18,Registion!P:P,\">0,9\",Registion!Z:Z,$G$1),\"\")","v":0},{"$error":"#DIV/0!"},null,0,343012,{"$f":"IF(H18<>\"\",COUNTIFS(Registion!F:F,H18,Registion!Z:Z,$G$1),\"\")","v":0},{"$f":"IF(H18<>\"\",COUNTIFS(Registion!F:F,H18,Registion!P:P,\">0,9\",Registion!Z:Z,$G$1),\"\")","v":0},{"$error":"#DIV/0!"}]
[{"$f":"VLOOKUP(B19,Slåop!A:B,2,FALSE)","v":{"$error":"#N/A"}},774575,{"$f":"IF(B19<>\"\",COUNTIFS(Registion!H:H,B19,Registion!Z:Z,$G$1),\"\")","v":0},{"$f":"IF(B19<>\"\",COUNTIFS(Registion!H:H,B19,Registion!P:P,\">0,9\",Registion!Z:Z,$G$1),\"\")","v":0},{"$error":"#DIV/0!"},null,0,343231,{"$f":"IF(H19<>\"\",COUNTIFS(Registion!F:F,H19,Registion!Z:Z,$G$1),\"\")","v":0},{"$f":"IF(H19<>\"\",COUNTIFS(Registion!F:F,H19,Registion!P:P,\">0,9\",Registion!Z:Z,$G$1),\"\")","v":0},{"$error":"#DIV/0!"}]
[{"$f":"VLOOKUP(B20,Slåop!A:B,2,FALSE)","v":{"$error":"#N/A"}},786481,{"$f":"IF(B20<>\"\",COUNTIFS(Registion!H:H,B20,Registion!Z:Z,$G$1),\"\")","v":0},{"$f":"IF(B20<>\"\",COUNTIFS(Registion!H:H,B20,Registion!P:P,\">0,9\",Registion!Z:Z,$G$1),\"\")","v":0},{"$error":"#DIV/0!"},null,0,343001,{"$f":"IF(H20<>\"\",COUNTIFS(Registion!F:F,H20,Registion!Z:Z,$G$1),\"\")","v":0},{"$f":"IF(H20<>\"\",COUNTIFS(Registion!F:F,H20,Registion!P:P,\">0,9\",Registion!Z:Z,$G$1),\"\")","v":0},{"$error":"#DIV/0!"}]
[{"$f":"VLOOKUP(B21,Slåop!A:B,2,FALSE)","v":{"$error":"#N/A"}},732675,{"$f":"IF(B21<>\"\",COUNTIFS(Registion!H:H,B21,Registion!Z:Z,$G$1),\"\")","v":0},{"$f":"IF(B21<>\"\",COUNTIFS(Registion!H:H,B21,Registion!P:P,\">0,9\",Registion!Z:Z,$G$1),\"\")","v":0},{"$error":"#DIV/0!"},null,0,343002,{"$f":"IF(H21<>\"\",COUNTIFS(Registion!F:F,H21,Registion!Z:Z,$G$1),\"\")","v":0},{"$f":"IF(H21<>\"\",COUNTIFS(Registion!F:F,H21,Registion!P:P,\">0,9\",Registion!Z:Z,$G$1),\"\")","v":0},{"$error":"#DIV/0!"}]
[{"$f":"VLOOKUP(B22,Slåop!A:B,2,FALSE)","v":{"$error":"#N/A"}},779049,{"$f":"IF(B22<>\"\",COUNTIFS(Registion!H:H,B22,Registion!Z:Z,$G$1),\"\")","v":0},{"$f":"IF(B22<>\"\",COUNTIFS(Registion!H:H,B22,Registion!P:P,\">0,9\",Registion!Z:Z,$G$1),\"\")","v":0},{"$error":"#DIV/0!"},null,{"$error":"#N/A"},"fra lager",{"$f":"IF(H22<>\"\",COUNTIFS(Registion!F:F,H22,Registion!Z:Z,$G$1),\"\")","v":0},{"$f":"IF(H22<>\"\",COUNTIFS(Registion!F:F,H22,Registion!P:P,\">0,9\",Registion!Z:Z,$G$1),\"\")","v":0},{"$error":"#DIV/0!"}]
[{"$f":"VLOOKUP(B23,Slåop!A:B,2,FALSE)","v":{"$error":"#N/A"}},804596,{"$f":"IF(B23<>\"\",COUNTIFS(Registion!H:H,B23,Registion!Z:Z,$G$1),\"\")","v":0},{"$f":"IF(B23<>\"\",COUNTIFS(Registion!H:H,B23,Registion!P:P,\">0,9\",Registion!Z:Z,$G$1),\"\")","v":0},{"$error":"#DIV/0!"},null,0,365122,{"$f":"IF(H23<>\"\",COUNTIFS(Registion!F:F,H23,Registion!Z:Z,$G$1),\"\")","v":0},{"$f":"IF(H23<>\"\",COUNTIFS(Registion!F:F,H23,Registion!P:P,\">0,9\",Registion!Z:Z,$G$1),\"\")","v":0},{"$error":"#DIV/0!"}]
[{"$f":"VLOOKUP(B24,Slåop!A:B,2,FALSE)","v":{"$error":"#N/A"}},764911,{"$f":"IF(B24<>\"\",COUNTIFS(Registion!H:H,B24,Registion!Z:Z,$G$1),\"\")","v":0},{"$f":"IF(B24<>\"\",COUNTIFS(Registion!H:H,B24,Registion!P:P,\">0,9\",Registion!Z:Z,$G$1),\"\")","v":0},{"$error":"#DIV/0!"},null,0,365123,{"$f":"IF(H24<>\"\",COUNTIFS(Registion!F:F,H24,Registion!Z:Z,$G$1),\"\")","v":0},{"$f":"IF(H24<>\"\",COUNTIFS(Registion!F:F,H24,Registion!P:P,\">0,9\",Registion!Z:Z,$G$1),\"\")","v":0},{"$error":"#DIV/0!"}]
[{"$f":"VLOOKUP(B25,Slåop!A:B,2,FALSE)","v":{"$error":"#N/A"}},812341,{"$f":"IF(B25<>\"\",COUNTIFS(Registion!H:H,B25,Registion!Z:Z,$G$1),\"\")","v":0},{"$f":"IF(B25<>\"\",COUNTIFS(Registion!H:H,B25,Registion!P:P,\">0,9\",Registion!Z:Z,$G$1),\"\")","v":0},{"$error":"#DIV/0!"},null,0,343505,{"$f":"IF(H25<>\"\",COUNTIFS(Registion!F:F,H25,Registion!Z:Z,$G$1),\"\")","v":0},{"$f":"IF(H25<>\"\",COUNTIFS(Registion!F:F,H25,Registion!P:P,\">0,9\",Registion!Z:Z,$G$1),\"\")","v":0},{"$error":"#DIV/0!"}]
[{"$f":"VLOOKUP(B26,Slåop!A:B,2,FALSE)","v":{"$error":"#N/A"}},761699,{"$f":"IF(B26<>\"\",COUNTIFS(Registion!H:H,B26,Registion!Z:Z,$G$1),\"\")","v":0},{"$f":"IF(B26<>\"\",COUNTIFS(Registion!H:H,B26,Registion!P:P,\">0,9\",Registion!Z:Z,$G$1),\"\")","v":0},{"$error":"#DIV/0!"},null,0,343003,{"$f":"IF(H26<>\"\",COUNTIFS(Registion!F:F,H26,Registion!Z:Z,$G$1),\"\")","v":0},{"$f":"IF(H26<>\"\",COUNTIFS(Registion!F:F,H26,Registion!P:P,\">0,9\",Registion!Z:Z,$G$1),\"\")","v":0},{"$error":"#DIV/0!"}]
[{"$f":"VLOOKUP(B27,Slåop!A:B,2,FALSE)","v":{"$error":"#N/A"}},774574,{"$f":"IF(B27<>\"\",COUNTIFS(Registion!H:H,B27,Registion!Z:Z,$G$1),\"\")","v":0},{"$f":"IF(B27<>\"\",COUNTIFS(Registion!H:H,B27,Registion!P:P,\">0,9\",Registion!Z:Z,$G$1),\"\")","v":0},{"$error":"#DIV/0!"},null,0,343320,{"$f":"IF(H27<>\"\",COUNTIFS(Registion!F:F,H27,Registion!Z:Z,$G$1),\"\")","v":0},{"$f":"IF(H27<>\"\",COUNTIFS(Registion!F:F,H27,Registion!P:P,\">0,9\",Registion!Z:Z,$G$1),\"\")","v":0},{"$error":"#DIV/0!"}]
[{"$f":"VLOOKUP(B28,Slåop!A:B,2,FALSE)","v":{"$error":"#N/A"}},810908,{"$f":"IF(B28<>\"\",COUNTIFS(Registion!H:H,B28,Registion!Z:Z,$G$1),\"\")","v":0},{"$f":"IF(B28<>\"\",COUNTIFS(Registion!H:H,B28,Registion!P:P,\">0,9\",Registion!Z:Z,$G$1),\"\")","v":0},{"$error":"#DIV/0!"},null,"Leica Geosystems 2","001500",{"$f":"IF(H28<>\"\",COUNTIFS(Registion!F:F,H28,Registion!Z:Z,$G$1),\"\")","v":0},{"$f":"IF(H28<>\"\",COUNTIFS(Registion!F:F,H28,Registion!P:P,\">0,9\",Registion!Z:Z,$G$1),\"\")","v":0},{"$error":"#DIV/0!"}]
[{"$f":"VLOOKUP(B29,Slåop!A:B,2,FALSE)","v":{"$error":"#N/A"}},786600,{"$f":"IF(B29<>\"\",COUNTIFS(Registion!H:H,B29,Registion!Z:Z,$G$1),\"\")","v":0},{"$f":"IF(B29<>\"\",COUNTIFS(Registion!H:H,B29,Registion!P:P,\">0,9\",Registion!Z:Z,$G$1),\"\")","v":0},{"$error":"#DIV/0!"},null,0,343006,{"$f":"IF(H29<>\"\",COUNTIFS(Registion!F:F,H29,Registion!Z:Z,$G$1),\"\")","v":0},{"$f":"IF(H29<>\"\",COUNTIFS(Registion!F:F,H29,Registion!P:P,\">0,9\",Registion!Z:Z,$G$1),\"\")","v":0},{"$error":"#DIV/0!"}]
[{"$f":"VLOOKUP(B30,Slåop!A:B,2,FALSE)","v":{"$error":"#N/A"}},786477,{"$f":"IF(B30<>\"\",COUNTIFS(Registion!H:H,B30,Registion!Z:Z,$G$1),\"\")","v":0},{"$f":"IF(B30<>\"\",COUNTIFS(Registion!H:H,B30,Registion!P:P,\">0,9\",Registion!Z:Z,$G$1),\"\")","v":0},{"$error":"#DIV/0!"},null,0,343082,{"$f":"IF(H30<>\"\",COUNTIFS(Registion!F:F,H30,Registion!Z:Z,$G$1),\"\")","v":0},{"$f":"IF(H30<>\"\",COUNTIFS(Registion!F:F,H30,Registion!P:P,\">0,9\",Registion!Z:Z,$G$1),\"\")","v":0},{"$error":"#DIV/0!"}]
[{"$f":"VLOOKUP(B31,Slåop!A:B,2,FALSE)","v":{"$error":"#N/A"}},774565,{"$f":"IF(B31<>\"\",COUNTIFS(Registion!H:H,B31,Registion!Z:Z,$G$1),\"\")","v":0},{"$f":"IF(B31<>\"\",COUNTIFS(Registion!H:H,B31,Registion!P:P,\">0,9\",Registion!Z:Z,$G$1),\"\")","v":0},{"$error":"#DIV/0!"},null,0,343168,{"$f":"IF(H31<>\"\",COUNTIFS(Registion!F:F,H31,Registion!Z:Z,$G$1),\"\")","v":0},{"$f":"IF(H31<>\"\",COUNTIFS(Registion!F:F,H31,Registion!P:P,\">0,9\",Registion!Z:Z,$G$1),\"\")","v":0},{"$error":"#DIV/0!"}]
[{"$f":"VLOOKUP(B32,Slåop!A:B,2,FALSE)","v":{"$error":"#N/A"}},762584,{"$f":"IF(B32<>\"\",COUNTIFS(Registion!H:H,B32,Registion!Z:Z,$G$1),\"\")","v":0},{"$f":"IF(B32<>\"\",COUNTIFS(Registion!H:H,B32,Registion!P:P,\">0,9\",Registion!Z:Z,$G$1),\"\")","v":0},{"$error":"#DIV/0!"},null,0,343044,{"$f":"IF(H32<>\"\",COUNTIFS(Registion!F:F,H32,Registion!Z:Z,$G$1),\"\")","v":0},{"$f":"IF(H32<>\"\",COUNTIFS(Registion!F:F,H32,Registion!P:P,\">0,9\",Registion!Z:Z,$G$1),\"\")","v":0},{"$error":"#DIV/0!"}]
[{"$f":"VLOOKUP(B33,Slåop!A:B,2,FALSE)","v":{"$error":"#N/A"}},765638,{"$f":"IF(B33<>\"\",COUNTIFS(Registion!H:H,B33,Registion!Z:Z,$G$1),\"\")","v":0},{"$f":"IF(B33<>\"\",COUNTIFS(Registion!H:H,B33,Registion!P:P,\">0,9\",Registion!Z:Z,$G$1),\"\")","v":0},{"$error":"#DIV/0!"},null,0,343359,{"$f":"IF(H33<>\"\",COUNTIFS(Registion!F:F,H33,Registion!Z:Z,$G$1),\"\")","v":0},{"$f":"IF(H33<>\"\",COUNTIFS(Registion!F:F,H33,Registion!P:P,\">0,9\",Registion!Z:Z,$G$1),\"\")","v":0},{"$error":"#DIV/0!"}]
[{"$f":"VLOOKUP(B34,Slåop!A:B,2,FALSE)","v":{"$error":"#N/A"}},786608,{"$f":"IF(B34<>\"\",COUNTIFS(Registion!H:H,B34,Registion!Z:Z,$G$1),\"\")","v":0},{"$f":"IF(B34<>\"\",COUNTIFS(Registion!H:H,B34,Registion!P:P,\">0,9\",Registion!Z:Z,$G$1),\"\")","v":0},{"$error":"#DIV/0!"},null,0,604401,{"$f":"IF(H34<>\"\",COUNTIFS(Registion!F:F,H34,Registion!Z:Z,$G$1),\"\")","v":0},{"$f":"IF(H34<>\"\",COUNTIFS(Registion!F:F,H34,Registion!P:P,\">0,9\",Registion!Z:Z,$G$1),\"\")","v":0},{"$f":"IF(H34<>\"\",J34/I34,\"\")","v":{"$error":"#DIV/0!"}}]
[{"$f":"VLOOKUP(B35,Slåop!A:B,2,FALSE)","v":{"$error":"#N/A"}},833866,{"$f":"IF(B35<>\"\",COUNTIFS(Registion!H:H,B35,Registion!Z:Z,$G$1),\"\")","v":0},{"$f":"IF(B35<>\"\",COUNTIFS(Registion!H:H,B35,Registion!P:P,\">0,9\",Registion!Z:Z,$G$1),\"\")","v":0},{"$error":"#DIV/0!"},null,0,343227,{"$f":"IF(H35<>\"\",COUNTIFS(Registion!F:F,H35,Registion!Z:Z,$G$1),\"\")","v":0},{"$f":"IF(H35<>\"\",COUNTIFS(Registion!F:F,H35,Registion!P:P,\">0,9\",Registion!Z:Z,$G$1),\"\")","v":0},{"$error":"#DIV/0!"}]
[{"$f":"VLOOKUP(B36,Slåop!A:B,2,FALSE)","v":{"$error":"#N/A"}},786473,{"$f":"IF(B36<>\"\",COUNTIFS(Registion!H:H,B36,Registion!Z:Z,$G$1),\"\")","v":0},{"$f":"IF(B36<>\"\",COUNTIFS(Registion!H:H,B36,Registion!P:P,\">0,9\",Registion!Z:Z,$G$1),\"\")","v":0},{"$error":"#DIV/0!"},null,0,343174,{"$f":"IF(H36<>\"\",COUNTIFS(Registion!F:F,H36,Registion!Z:Z,$G$1),\"\")","v":0},{"$f":"IF(H36<>\"\",COUNTIFS(Registion!F:F,H36,Registion!P:P,\">0,9\",Registion!Z:Z,$G$1),\"\")","v":0},{"$error":"#DIV/0!"}]
[{"$f":"VLOOKUP(B37,Slåop!A:B,2,FALSE)","v":{"$error":"#N/A"}},786545,{"$f":"IF(B37<>\"\",COUNTIFS(Registion!H:H,B37,Registion!Z:Z,$G$1),\"\")","v":0},{"$f":"IF(B37<>\"\",COUNTIFS(Registion!H:H,B37,Registion!P:P,\">0,9\",Registion!Z:Z,$G$1),\"\")","v":0},{"$error":"#DIV/0!"},null,0,343632,{"$f":"IF(H37<>\"\",COUNTIFS(Registion!F:F,H37,Registion!Z:Z,$G$1),\"\")","v":0},{"$f":"IF(H37<>\"\",COUNTIFS(Registion!F:F,H37,Registion!P:P,\">0,9\",Registion!Z:Z,$G$1),\"\")","v":0},{"$error":"#DIV/0!"}]
[{"$f":"VLOOKUP(B38,Slåop!A:B,2,FALSE)","v":{"$error":"#N/A"}},812186,{"$f":"IF(B38<>\"\",COUNTIFS(Registion!H:H,B38,Registion!Z:Z,$G$1),\"\")","v":0},{"$f":"IF(B38<>\"\",COUNTIFS(Registion!H:H,B38,Registion!P:P,\">0,9\",Registion!Z:Z,$G$1),\"\")","v":0},{"$error":"#DIV/0!"},null,0,343149,{"$f":"IF(H38<>\"\",COUNTIFS(Registion!F:F,H38,Registion!Z:Z,$G$1),\"\")","v":0},{"$f":"IF(H38<>\"\",COUNTIFS(Registion!F:F,H38,Registion!P:P,\">0,9\",Registion!Z:Z,$G$1),\"\")","v":0},{"$error":"#DIV/0!"}]
[{"$f":"VLOOKUP(B39,Slåop!A:B,2,FALSE)","v":{"$error":"#N/A"}},810904,{"$f":"IF(B39<>\"\",COUNTIFS(Registion!H:H,B39,Registion!Z:Z,$G$1),\"\")","v":0},{"$f":"IF(B39<>\"\",COUNTIFS(Registion!H:H,B39,Registion!P:P,\">0,9\",Registion!Z:Z,$G$1),\"\")","v":0},{"$error":"#DIV/0!"},null,{"$error":"#N/A"},1002,{"$f":"IF(H39<>\"\",COUNTIFS(Registion!F:F,H39,Registion!Z:Z,$G$1),\"\")","v":0},{"$f":"IF(H39<>\"\",COUNTIFS(Registion!F:F,H39,Registion!P:P,\">0,9\",Registion!Z:Z,$G$1),\"\")","v":0},{"$error":"#DIV/0!"}]
[{"$f":"VLOOKUP(B40,Slåop!A:B,2,FALSE)","v":{"$error":"#N/A"}},765639,{"$f":"IF(B40<>\"\",COUNTIFS(Registion!H:H,B40,Registion!Z:Z,$G$1),\"\")","v":0},{"$f":"IF(B40<>\"\",COUNTIFS(Registion!H:H,B40,Registion!P:P,\">0,9\",Registion!Z:Z,$G$1),\"\")","v":0},{"$error":"#DIV/0!"},null,0,343244,{"$f":"IF(H40<>\"\",COUNTIFS(Registion!F:F,H40,Registion!Z:Z,$G$1),\"\")","v":0},{"$f":"IF(H40<>\"\",COUNTIFS(Registion!F:F,H40,Registion!P:P,\">0,9\",Registion!Z:Z,$G$1),\"\")","v":0},{"$error":"#DIV/0!"}]
[{"$f":"VLOOKUP(B41,Slåop!A:B,2,FALSE)","v":{"$error":"#N/A"}},796322,{"$f":"IF(B41<>\"\",COUNTIFS(Registion!H:H,B41,Registion!Z:Z,$G$1),\"\")","v":0},{"$f":"IF(B41<>\"\",COUNTIFS(Registion!H:H,B41,Registion!P:P,\">0,9\",Registion!Z:Z,$G$1),\"\")","v":0},{"$error":"#DIV/0!"},null,0,343698,{"$f":"IF(H41<>\"\",COUNTIFS(Registion!F:F,H41,Registion!Z:Z,$G$1),\"\")","v":0},{"$f":"IF(H41<>\"\",COUNTIFS(Registion!F:F,H41,Registion!P:P,\">0,9\",Registion!Z:Z,$G$1),\"\")","v":0},{"$error":"#DIV/0!"}]
[{"$f":"VLOOKUP(B42,Slåop!A:B,2,FALSE)","v":{"$error":"#N/A"}},786598,{"$f":"IF(B42<>\"\",COUNTIFS(Registion!H:H,B42,Registion!Z:Z,$G$1),\"\")","v":0},{"$f":"IF(B42<>\"\",COUNTIFS(Registion!H:H,B42,Registion!P:P,\">0,9\",Registion!Z:Z,$G$1),\"\")","v":0},{"$error":"#DIV/0!"},null,{"$error":"#N/A"},"ingen",{"$f":"IF(H42<>\"\",COUNTIFS(Registion!F:F,H42,Registion!Z:Z,$G$1),\"\")","v":0},{"$f":"IF(H42<>\"\",COUNTIFS(Registion!F:F,H42,Registion!P:P,\">0,9\",Registion!Z:Z,$G$1),\"\")","v":0},{"$error":"#DIV/0!"}]
[{"$f":"VLOOKUP(B43,Slåop!A:B,2,FALSE)","v":{"$error":"#N/A"}},786430,{"$f":"IF(B43<>\"\",COUNTIFS(Registion!H:H,B43,Registion!Z:Z,$G$1),\"\")","v":0},{"$f":"IF(B43<>\"\",COUNTIFS(Registion!H:H,B43,Registion!P:P,\">0,9\",Registion!Z:Z,$G$1),\"\")","v":0},{"$error":"#DIV/0!"},null,{"$error":"#N/A"},"??",{"$f":"IF(H43<>\"\",COUNTIFS(Registion!F:F,H43,Registion!Z:Z,$G$1),\"\")","v":0},{"$f":"IF(H43<>\"\",COUNTIFS(Registion!F:F,H43,Registion!P:P,\">0,9\",Registion!Z:Z,$G$1),\"\")","v":0},{"$error":"#DIV/0!"}]
[{"$f":"VLOOKUP(B44,Slåop!A:B,2,FALSE)","v":{"$error":"#N/A"}},786370,{"$f":"IF(B44<>\"\",COUNTIFS(Registion!H:H,B44,Registion!Z:Z,$G$1),\"\")","v":0},{"$f":"IF(B44<>\"\",COUNTIFS(Registion!H:H,B44,Registion!P:P,\">0,9\",Registion!Z:Z,$G$1),\"\")","v":0},{"$error":"#DIV/0!"},null,{"$error":"#N/A"},353438,{"$f":"IF(H44<>\"\",COUNTIFS(Registion!F:F,H44,Registion!Z:Z,$G$1),\"\")","v":0},{"$f":"IF(H44<>\"\",COUNTIFS(Registion!F:F,H44,Registion!P:P,\">0,9\",Registion!Z:Z,$G$1),\"\")","v":0},{"$error":"#DIV/0!"}]
[{"$f":"VLOOKUP(B45,Slåop!A:B,2,FALSE)","v":{"$error":"#N/A"}},786601,{"$f":"IF(B45<>\"\",COUNTIFS(Registion!H:H,B45,Registion!Z:Z,$G$1),\"\")","v":0},{"$f":"IF(B45<>\"\",COUNTIFS(Registion!H:H,B45,Registion!P:P,\">0,9\",Registion!Z:Z,$G$1),\"\")","v":0},{"$error":"#DIV/0!"},null,{"$error":"#N/A"},345338,{"$f":"IF(H45<>\"\",COUNTIFS(Registion!F:F,H45,Registion!Z:Z,$G$1),\"\")","v":0},{"$f":"IF(H45<>\"\",COUNTIFS(Registion!F:F,H45,Registion!P:P,\">0,9\",Registion!Z:Z,$G$1),\"\")","v":0},{"$error":"#DIV/0!"}]
[{"$f":"VLOOKUP(B46,Slåop!A:B,2,FALSE)","v":{"$error":"#N/A"}},821149,{"$f":"IF(B46<>\"\",COUNTIFS(Registion!H:H,B46,Registion!Z:Z,$G$1),\"\")","v":0},{"$f":"IF(B46<>\"\",COUNTIFS(Registion!H:H,B46,Registion!P:P,\">0,9\",Registion!Z:Z,$G$1),\"\")","v":0},{"$error":"#DIV/0!"},null,0,303001,{"$f":"IF(H46<>\"\",COUNTIFS(Registion!F:F,H46,Registion!Z:Z,$G$1),\"\")","v":0},{"$f":"IF(H46<>\"\",COUNTIFS(Registion!F:F,H46,Registion!P:P,\">0,9\",Registion!Z:Z,$G$1),\"\")","v":0},{"$error":"#DIV/0!"}]
[{"$f":"VLOOKUP(B47,Slåop!A:B,2,FALSE)","v":{"$error":"#N/A"}},786431,{"$f":"IF(B47<>\"\",COUNTIFS(Registion!H:H,B47,Registion!Z:Z,$G$1),\"\")","v":0},{"$f":"IF(B47<>\"\",COUNTIFS(Registion!H:H,B47,Registion!P:P,\">0,9\",Registion!Z:Z,$G$1),\"\")","v":0},{"$error":"#DIV/0!"},null,0,343438,{"$f":"IF(H47<>\"\",COUNTIFS(Registion!F:F,H47,Registion!Z:Z,$G$1),\"\")","v":0},{"$f":"IF(H47<>\"\",COUNTIFS(Registion!F:F,H47,Registion!P:P,\">0,9\",Registion!Z:Z,$G$1),\"\")","v":0},{"$error":"#DIV/0!"}]
[{"$f":"VLOOKUP(B48,Slåop!A:B,2,FALSE)","v":{"$error":"#N/A"}},790157,{"$f":"IF(B48<>\"\",COUNTIFS(Registion!H:H,B48,Registion!Z:Z,$G$1),\"\")","v":0},{"$f":"IF(B48<>\"\",COUNTIFS(Registion!H:H,B48,Registion!P:P,\">0,9\",Registion!Z:Z,$G$1),\"\")","v":0},{"$error":"#DIV/0!"},null,0,343584,{"$f":"IF(H48<>\"\",COUNTIFS(Registion!F:F,H48,Registion!Z:Z,$G$1),\"\")","v":0},{"$f":"IF(H48<>\"\",COUNTIFS(Registion!F:F,H48,Registion!P:P,\">0,9\",Registion!Z:Z,$G$1),\"\")","v":0},{"$error":"#DIV/0!"}]
[{"$f":"VLOOKUP(B49,Slåop!A:B,2,FALSE)","v":{"$error":"#N/A"}},786474,{"$f":"IF(B49<>\"\",COUNTIFS(Registion!H:H,B49,Registion!Z:Z,$G$1),\"\")","v":0},{"$f":"IF(B49<>\"\",COUNTIFS(Registion!H:H,B49,Registion!P:P,\">0,9\",Registion!Z:Z,$G$1),\"\")","v":0},{"$error":"#DIV/0!"},null,{"$error":"#N/A"},14866,{"$f":"IF(H49<>\"\",COUNTIFS(Registion!F:F,H49,Registion!Z:Z,$G$1),\"\")","v":0},{"$f":"IF(H49<>\"\",COUNTIFS(Registion!F:F,H49,Registion!P:P,\">0,9\",Registion!Z:Z,$G$1),\"\")","v":0},{"$error":"#DIV/0!"}]
[{"$f":"VLOOKUP(B50,Slåop!A:B,2,FALSE)","v":{"$error":"#N/A"}},789457,{"$f":"IF(B50<>\"\",COUNTIFS(Registion!H:H,B50,Registion!Z:Z,$G$1),\"\")","v":0},{"$f":"IF(B50<>\"\",COUNTIFS(Registion!H:H,B50,Registion!P:P,\">0,9\",Registion!Z:Z,$G$1),\"\")","v":0},{"$error":"#DIV/0!"},null,0,343708,{"$f":"IF(H50<>\"\",COUNTIFS(Registion!F:F,H50,Registion!Z:Z,$G$1),\"\")","v":0},{"$f":"IF(H50<>\"\",COUNTIFS(Registion!F:F,H50,Registion!P:P,\">0,9\",Registion!Z:Z,$G$1),\"\")","v":0},{"$error":"#DIV/0!"}]
[{"$f":"VLOOKUP(B51,Slåop!A:B,2,FALSE)","v":{"$error":"#N/A"}},786472,{"$f":"IF(B51<>\"\",COUNTIFS(Registion!H:H,B51,Registion!Z:Z,$G$1),\"\")","v":0},{"$f":"IF(B51<>\"\",COUNTIFS(Registion!H:H,B51,Registion!P:P,\">0,9\",Registion!Z:Z,$G$1),\"\")","v":0},{"$error":"#DIV/0!"},null,{"$error":"#N/A"},null,null,{"$f":"IF(H51<>\"\",COUNTIFS(Registion!F:F,H51,Registion!P:P,\">0,9\",Registion!Z:Z,$G$1),\"\")","v":""}]
[{"$f":"VLOOKUP(B52,Slåop!A:B,2,FALSE)","v":{"$error":"#N/A"}},786479,{"$f":"IF(B52<>\"\",COUNTIFS(Registion!H:H,B52,Registion!Z:Z,$G$1),\"\")","v":0},{"$f":"IF(B52<>\"\",COUNTIFS(Registion!H:H,B52,Registion!P:P,\">0,9\",Registion!Z:Z,$G$1),\"\")","v":0},{"$error":"#DIV/0!"},null,{"$error":"#N/A"}]
[{"$f":"VLOOKUP(B53,Slåop!A:B,2,FALSE)","v":{"$error":"#N/A"}},810906,{"$f":"IF(B53<>\"\",COUNTIFS(Registion!H:H,B53,Registion!Z:Z,$G$1),\"\")","v":0},{"$f":"IF(B53<>\"\",COUNTIFS(Registion!H:H,B53,Registion!P:P,\">0,9\",Registion!Z:Z,$G$1),\"\")","v":0},{"$error":"#DIV/0!"},null,{"$error":"#N/A"}]
[{"$f":"VLOOKUP(B54,Slåop!A:B,2,FALSE)","v":{"$error":"#N/A"}},797648,{"$f":"IF(B54<>\"\",COUNTIFS(Registion!H:H,B54,Registion!Z:Z,$G$1),\"\")","v":0},{"$f":"IF(B54<>\"\",COUNTIFS(Registion!H:H,B54,Registion!P:P,\">0,9\",Registion!Z:Z,$G$1),\"\")","v":0},{"$error":"#DIV/0!"},null,{"$error":"#N/A"}]
[{"$f":"VLOOKUP(B55,Slåop!A:B,2,FALSE)","v":{"$error":"#N/A"}},786263,{"$f":"IF(B55<>\"\",COUNTIFS(Registion!H:H,B55,Registion!Z:Z,$G$1),\"\")","v":0},{"$f":"IF(B55<>\"\",COUNTIFS(Registion!H:H,B55,Registion!P:P,\">0,9\",Registion!Z:Z,$G$1),\"\")","v":0},{"$error":"#DIV/0!"},null,{"$error":"#N/A"}]
[{"$f":"VLOOKUP(B56,Slåop!A:B,2,FALSE)","v":{"$error":"#N/A"}},795527,{"$f":"IF(B56<>\"\",COUNTIFS(Registion!H:H,B56,Registion!Z:Z,$G$1),\"\")","v":0},{"$f":"IF(B56<>\"\",COUNTIFS(Registion!H:H,B56,Registion!P:P,\">0,9\",Registion!Z:Z,$G$1),\"\")","v":0},{"$error":"#DIV/0!"},null,{"$error":"#N/A"}]
[{"$f":"VLOOKUP(B57,Slåop!A:B,2,FALSE)","v":{"$error":"#N/A"}},761563,{"$f":"IF(B57<>\"\",COUNTIFS(Registion!H:H,B57,Registion!Z:Z,$G$1),\"\")","v":0},{"$f":"IF(B57<>\"\",COUNTIFS(Registion!H:H,B57,Registion!P:P,\">0,9\",Registion!Z:Z,$G$1),\"\")","v":0},{"$error":"#DIV/0!"},null,{"$error":"#N/A"}]
[{"$f":"VLOOKUP(B58,Slåop!A:B,2,FALSE)","v":{"$error":"#N/A"}},795526,{"$f":"IF(B58<>\"\",COUNTIFS(Registion!H:H,B58,Registion!Z:Z,$G$1),\"\")","v":0},{"$f":"IF(B58<>\"\",COUNTIFS(Registion!H:H,B58,Registion!P:P,\">0,9\",Registion!Z:Z,$G$1),\"\")","v":0},{"$error":"#DIV/0!"},null,{"$error":"#N/A"}]
[{"$f":"VLOOKUP(B59,Slåop!A:B,2,FALSE)","v":{"$error":"#N/A"}},777401,{"$f":"IF(B59<>\"\",COUNTIFS(Registion!H:H,B59,Registion!Z:Z,$G$1),\"\")","v":0},{"$f":"IF(B59<>\"\",COUNTIFS(Registion!H:H,B59,Registion!P:P,\">0,9\",Registion!Z:Z,$G$1),\"\")","v":0},{"$error":"#DIV/0!"},null,{"$error":"#N/A"}]
[{"$f":"VLOOKUP(B60,Slåop!A:B,2,FALSE)","v":{"$error":"#N/A"}},767145,{"$f":"IF(B60<>\"\",COUNTIFS(Registion!H:H,B60,Registion!Z:Z,$G$1),\"\")","v":0},{"$f":"IF(B60<>\"\",COUNTIFS(Registion!H:H,B60,Registion!P:P,\">0,9\",Registion!Z:Z,$G$1),\"\")","v":0},{"$error":"#DIV/0!"},null,{"$error":"#N/A"}]
[{"$f":"VLOOKUP(B61,Slåop!A:B,2,FALSE)","v":{"$error":"#N/A"}},807459,{"$f":"IF(B61<>\"\",COUNTIFS(Registion!H:H,B61,Registion!Z:Z,$G$1),\"\")","v":0},{"$f":"IF(B61<>\"\",COUNTIFS(Registion!H:H,B61,Registion!P:P,\">0,9\",Registion!Z:Z,$G$1),\"\")","v":0},{"$error":"#DIV/0!"},null,{"$error":"#N/A"}]
[{"$f":"VLOOKUP(B62,Slåop!A:B,2,FALSE)","v":{"$error":"#N/A"}},797649,{"$f":"IF(B62<>\"\",COUNTIFS(Registion!H:H,B62,Registion!Z:Z,$G$1),\"\")","v":0},{"$f":"IF(B62<>\"\",COUNTIFS(Registion!H:H,B62,Registion!P:P,\">0,9\",Registion!Z:Z,$G$1),\"\")","v":0},{"$error":"#DIV/0!"},null,{"$error":"#N/A"}]
[{"$f":"VLOOKUP(B63,Slåop!A:B,2,FALSE)","v":{"$error":"#N/A"}},810517,{"$f":"IF(B63<>\"\",COUNTIFS(Registion!H:H,B63,Registion!Z:Z,$G$1),\"\")","v":0},{"$f":"IF(B63<>\"\",COUNTIFS(Registion!H:H,B63,Registion!P:P,\">0,9\",Registion!Z:Z,$G$1),\"\")","v":0},{"$error":"#DIV/0!"},null,{"$error":"#N/A"}]
[{"$f":"VLOOKUP(B64,Slåop!A:B,2,FALSE)","v":{"$error":"#N/A"}},749103,{"$f":"IF(B64<>\"\",COUNTIFS(Registion!H:H,B64,Registion!Z:Z,$G$1),\"\")","v":0},{"$f":"IF(B64<>\"\",COUNTIFS(Registion!H:H,B64,Registion!P:P,\">0,9\",Registion!Z:Z,$G$1),\"\")","v":0},{"$error":"#DIV/0!"},null,{"$error":"#N/A"}]
[{"$f":"VLOOKUP(B65,Slåop!A:B,2,FALSE)","v":{"$error":"#N/A"}},766089,{"$f":"IF(B65<>\"\",COUNTIFS(Registion!H:H,B65,Registion!Z:Z,$G$1),\"\")","v":0},{"$f":"IF(B65<>\"\",COUNTIFS(Registion!H:H,B65,Registion!P:P,\">0,9\",Registion!Z:Z,$G$1),\"\")","v":0},{"$error":"#DIV/0!"},null,{"$error":"#N/A"}]
[{"$f":"VLOOKUP(B66,Slåop!A:B,2,FALSE)","v":{"$error":"#N/A"}},797652,{"$f":"IF(B66<>\"\",COUNTIFS(Registion!H:H,B66,Registion!Z:Z,$G$1),\"\")","v":0},{"$f":"IF(B66<>\"\",COUNTIFS(Registion!H:H,B66,Registion!P:P,\">0,9\",Registion!Z:Z,$G$1),\"\")","v":0},{"$f":"IF(B66<>\"\",D66/C66,\"\")","v":{"$error":"#DIV/0!"}},null,{"$f":"VLOOKUP(H66,Vendor,2,FALSE)","v":{"$error":"#N/A"}}]
[{"$f":"VLOOKUP(B67,Slåop!A:B,2,FALSE)","v":{"$error":"#N/A"}},807460,{"$f":"IF(B67<>\"\",COUNTIFS(Registion!H:H,B67,Registion!Z:Z,$G$1),\"\")","v":0},{"$f":"IF(B67<>\"\",COUNTIFS(Registion!H:H,B67,Registion!P:P,\">0,9\",Registion!Z:Z,$G$1),\"\")","v":0},{"$error":"#DIV/0!"},null,{"$error":"#N/A"}]
[{"$f":"VLOOKUP(B68,Slåop!A:B,2,FALSE)","v":{"$error":"#N/A"}},787141,{"$f":"IF(B68<>\"\",COUNTIFS(Registion!H:H,B68,Registion!Z:Z,$G$1),\"\")","v":0},{"$f":"IF(B68<>\"\",COUNTIFS(Registion!H:H,B68,Registion!P:P,\">0,9\",Registion!Z:Z,$G$1),\"\")","v":0},{"$error":"#DIV/0!"},null,{"$error":"#N/A"}]
[{"$f":"VLOOKUP(B69,Slåop!A:B,2,FALSE)","v":{"$error":"#N/A"}},786397,{"$f":"IF(B69<>\"\",COUNTIFS(Registion!H:H,B69,Registion!Z:Z,$G$1),\"\")","v":0},{"$f":"IF(B69<>\"\",COUNTIFS(Registion!H:H,B69,Registion!P:P,\">0,9\",Registion!Z:Z,$G$1),\"\")","v":0},{"$error":"#DIV/0!"},null,{"$error":"#N/A"}]
[{"$f":"VLOOKUP(B70,Slåop!A:B,2,FALSE)","v":{"$error":"#N/A"}},783975,{"$f":"IF(B70<>\"\",COUNTIFS(Registion!H:H,B70,Registion!Z:Z,$G$1),\"\")","v":0},{"$f":"IF(B70<>\"\",COUNTIFS(Registion!H:H,B70,Registion!P:P,\">0,9\",Registion!Z:Z,$G$1),\"\")","v":0},{"$error":"#DIV/0!"},null,{"$error":"#N/A"}]
[{"$f":"VLOOKUP(B71,Slåop!A:B,2,FALSE)","v":{"$error":"#N/A"}},786379,{"$f":"IF(B71<>\"\",COUNTIFS(Registion!H:H,B71,Registion!Z:Z,$G$1),\"\")","v":0},{"$f":"IF(B71<>\"\",COUNTIFS(Registion!H:H,B71,Registion!P:P,\">0,9\",Registion!Z:Z,$G$1),\"\")","v":0},{"$error":"#DIV/0!"},null,{"$error":"#N/A"}]
[{"$f":"VLOOKUP(B72,Slåop!A:B,2,FALSE)","v":{"$error":"#N/A"}},805275,{"$f":"IF(B72<>\"\",COUNTIFS(Registion!H:H,B72,Registion!Z:Z,$G$1),\"\")","v":0},{"$f":"IF(B72<>\"\",COUNTIFS(Registion!H:H,B72,Registion!P:P,\">0,9\",Registion!Z:Z,$G$1),\"\")","v":0},{"$error":"#DIV/0!"},null,{"$error":"#N/A"}]
[{"$f":"VLOOKUP(B73,Slåop!A:B,2,FALSE)","v":{"$error":"#N/A"}},761085,{"$f":"IF(B73<>\"\",COUNTIFS(Registion!H:H,B73,Registion!Z:Z,$G$1),\"\")","v":0},{"$f":"IF(B73<>\"\",COUNTIFS(Registion!H:H,B73,Registion!P:P,\">0,9\",Registion!Z:Z,$G$1),\"\")","v":0},{"$error":"#DIV/0!"},null,{"$error":"#N/A"}]
[{"$f":"VLOOKUP(B74,Slåop!A:B,2,FALSE)","v":{"$error":"#N/A"}},760870,{"$f":"IF(B74<>\"\",COUNTIFS(Registion!H:H,B74,Registion!Z:Z,$G$1),\"\")","v":0},{"$f":"IF(B74<>\"\",COUNTIFS(Registion!H:H,B74,Registion!P:P,\">0,9\",Registion!Z:Z,$G$1),\"\")","v":0},{"$error":"#DIV/0!"},null,{"$error":"#N/A"}]
[{"$f":"VLOOKUP(B75,Slåop!A:B,2,FALSE)","v":{"$error":"#N/A"}},786574,{"$f":"IF(B75<>\"\",COUNTIFS(Registion!H:H,B75,Registion!Z:Z,$G$1),\"\")","v":0},{"$f":"IF(B75<>\"\",COUNTIFS(Registion!H:H,B75,Registion!P:P,\">0,9\",Registion!Z:Z,$G$1),\"\")","v":0},{"$error":"#DIV/0!"},null,{"$error":"#N/A"}]
[{"$f":"VLOOKUP(B76,Slåop!A:B,2,FALSE)","v":{"$error":"#N/A"}},776489,{"$f":"IF(B76<>\"\",COUNTIFS(Registion!H:H,B76,Registion!Z:Z,$G$1),\"\")","v":0},{"$f":"IF(B76<>\"\",COUNTIFS(Registion!H:H,B76,Registion!P:P,\">0,9\",Registion!Z:Z,$G$1),\"\")","v":0},{"$error":"#DIV/0!"},null,{"$error":"#N/A"}]
[{"$f":"VLOOKUP(B77,Slåop!A:B,2,FALSE)","v":{"$error":"#N/A"}},788087,{"$f":"IF(B77<>\"\",COUNTIFS(Registion!H:H,B77,Registion!Z:Z,$G$1),\"\")","v":0},{"$f":"IF(B77<>\"\",COUNTIFS(Registion!H:H,B77,Registion!P:P,\">0,9\",Registion!Z:Z,$G$1),\"\")","v":0},{"$error":"#DIV/0!"}]
[{"$f":"VLOOKUP(B78,Slåop!A:B,2,FALSE)","v":{"$error":"#N/A"}},786564,{"$f":"IF(B78<>\"\",COUNTIFS(Registion!H:H,B78,Registion!Z:Z,$G$1),\"\")","v":0},{"$f":"IF(B78<>\"\",COUNTIFS(Registion!H:H,B78,Registion!P:P,\">0,9\",Registion!Z:Z,$G$1),\"\")","v":0},{"$error":"#DIV/0!"}]
[{"$f":"VLOOKUP(B79,Slåop!A:B,2,FALSE)","v":{"$error":"#N/A"}},797660,{"$f":"IF(B79<>\"\",COUNTIFS(Registion!H:H,B79,Registion!Z:Z,$G$1),\"\")","v":0},{"$f":"IF(B79<>\"\",COUNTIFS(Registion!H:H,B79,Registion!P:P,\">0,9\",Registion!Z:Z,$G$1),\"\")","v":0},{"$error":"#DIV/0!"}]
[{"$f":"VLOOKUP(B80,Slåop!A:B,2,FALSE)","v":{"$error":"#N/A"}},820235,{"$f":"IF(B80<>\"\",COUNTIFS(Registion!H:H,B80,Registion!Z:Z,$G$1),\"\")","v":0},{"$f":"IF(B80<>\"\",COUNTIFS(Registion!H:H,B80,Registion!P:P,\">0,9\",Registion!Z:Z,$G$1),\"\")","v":0},{"$error":"#DIV/0!"}]
[{"$f":"VLOOKUP(B81,Slåop!A:B,2,FALSE)","v":{"$error":"#N/A"}},818050,{"$f":"IF(B81<>\"\",COUNTIFS(Registion!H:H,B81,Registion!Z:Z,$G$1),\"\")","v":0},{"$f":"IF(B81<>\"\",COUNTIFS(Registion!H:H,B81,Registion!P:P,\">0,9\",Registion!Z:Z,$G$1),\"\")","v":0},{"$error":"#DIV/0!"}]
[{"$f":"VLOOKUP(B82,Slåop!A:B,2,FALSE)","v":{"$error":"#N/A"}},795524,{"$f":"IF(B82<>\"\",COUNTIFS(Registion!H:H,B82,Registion!Z:Z,$G$1),\"\")","v":0},{"$f":"IF(B82<>\"\",COUNTIFS(Registion!H:H,B82,Registion!P:P,\">0,9\",Registion!Z:Z,$G$1),\"\")","v":0},{"$error":"#DIV/0!"}]
[{"$f":"VLOOKUP(B83,Slåop!A:B,2,FALSE)","v":{"$error":"#N/A"}},833891,{"$f":"IF(B83<>\"\",COUNTIFS(Registion!H:H,B83,Registion!Z:Z,$G$1),\"\")","v":0},{"$f":"IF(B83<>\"\",COUNTIFS(Registion!H:H,B83,Registion!P:P,\">0,9\",Registion!Z:Z,$G$1),\"\")","v":0},{"$error":"#DIV/0!"}]
[{"$f":"VLOOKUP(B84,Slåop!A:B,2,FALSE)","v":{"$error":"#N/A"}},823543,{"$f":"IF(B84<>\"\",COUNTIFS(Registion!H:H,B84,Registion!Z:Z,$G$1),\"\")","v":0},{"$f":"IF(B84<>\"\",COUNTIFS(Registion!H:H,B84,Registion!P:P,\">0,9\",Registion!Z:Z,$G$1),\"\")","v":0},{"$error":"#DIV/0!"}]
[{"$f":"VLOOKUP(B85,Slåop!A:B,2,FALSE)","v":{"$error":"#N/A"}},823461,{"$f":"IF(B85<>\"\",COUNTIFS(Registion!H:H,B85,Registion!Z:Z,$G$1),\"\")","v":0},{"$f":"IF(B85<>\"\",COUNTIFS(Registion!H:H,B85,Registion!P:P,\">0,9\",Registion!Z:Z,$G$1),\"\")","v":0},{"$error":"#DIV/0!"}]
[{"$f":"VLOOKUP(B86,Slåop!A:B,2,FALSE)","v":{"$error":"#N/A"}},789472,{"$f":"IF(B86<>\"\",COUNTIFS(Registion!H:H,B86,Registion!Z:Z,$G$1),\"\")","v":0},{"$f":"IF(B86<>\"\",COUNTIFS(Registion!H:H,B86,Registion!P:P,\">0,9\",Registion!Z:Z,$G$1),\"\")","v":0},{"$error":"#DIV/0!"}]
[{"$f":"VLOOKUP(B87,Slåop!A:B,2,FALSE)","v":{"$error":"#N/A"}},812343,{"$f":"IF(B87<>\"\",COUNTIFS(Registion!H:H,B87,Registion!Z:Z,$G$1),\"\")","v":0},{"$f":"IF(B87<>\"\",COUNTIFS(Registion!H:H,B87,Registion!P:P,\">0,9\",Registion!Z:Z,$G$1),\"\")","v":0},{"$error":"#DIV/0!"}]
[{"$f":"VLOOKUP(B88,Slåop!A:B,2,FALSE)","v":{"$error":"#N/A"}},761698,{"$f":"IF(B88<>\"\",COUNTIFS(Registion!H:H,B88,Registion!Z:Z,$G$1),\"\")","v":0},{"$f":"IF(B88<>\"\",COUNTIFS(Registion!H:H,B88,Registion!P:P,\">0,9\",Registion!Z:Z,$G$1),\"\")","v":0},{"$error":"#DIV/0!"}]
[{"$f":"VLOOKUP(B89,Slåop!A:B,2,FALSE)","v":{"$error":"#N/A"}},786376,{"$f":"IF(B89<>\"\",COUNTIFS(Registion!H:H,B89,Registion!Z:Z,$G$1),\"\")","v":0},{"$f":"IF(B89<>\"\",COUNTIFS(Registion!H:H,B89,Registion!P:P,\">0,9\",Registion!Z:Z,$G$1),\"\")","v":0},{"$error":"#DIV/0!"}]
[{"$f":"VLOOKUP(B90,Slåop!A:B,2,FALSE)","v":{"$error":"#N/A"}},795525,{"$f":"IF(B90<>\"\",COUNTIFS(Registion!H:H,B90,Registion!Z:Z,$G$1),\"\")","v":0},{"$f":"IF(B90<>\"\",COUNTIFS(Registion!H:H,B90,Registion!P:P,\">0,9\",Registion!Z:Z,$G$1),\"\")","v":0},{"$error":"#DIV/0!"}]
[{"$f":"VLOOKUP(B91,Slåop!A:B,2,FALSE)","v":{"$error":"#N/A"}},807367,{"$f":"IF(B91<>\"\",COUNTIFS(Registion!H:H,B91,Registion!Z:Z,$G$1),\"\")","v":0},{"$f":"IF(B91<>\"\",COUNTIFS(Registion!H:H,B91,Registion!P:P,\">0,9\",Registion!Z:Z,$G$1),\"\")","v":0},{"$error":"#DIV/0!"}]
[{"$f":"VLOOKUP(B92,Slåop!A:B,2,FALSE)","v":{"$error":"#N/A"}},818808,{"$f":"IF(B92<>\"\",COUNTIFS(Registion!H:H,B92,Registion!Z:Z,$G$1),\"\")","v":0},{"$f":"IF(B92<>\"\",COUNTIFS(Registion!H:H,B92,Registion!P:P,\">0,9\",Registion!Z:Z,$G$1),\"\")","v":0},{"$error":"#DIV/0!"}]
[{"$f":"VLOOKUP(B93,Slåop!A:B,2,FALSE)","v":{"$error":"#N/A"}},786554,{"$f":"IF(B93<>\"\",COUNTIFS(Registion!H:H,B93,Registion!Z:Z,$G$1),\"\")","v":0},{"$f":"IF(B93<>\"\",COUNTIFS(Registion!H:H,B93,Registion!P:P,\">0,9\",Registion!Z:Z,$G$1),\"\")","v":0},{"$error":"#DIV/0!"}]
[{"$f":"VLOOKUP(B94,Slåop!A:B,2,FALSE)","v":{"$error":"#N/A"}},786979,{"$f":"IF(B94<>\"\",COUNTIFS(Registion!H:H,B94,Registion!Z:Z,$G$1),\"\")","v":0},{"$f":"IF(B94<>\"\",COUNTIFS(Registion!H:H,B94,Registion!P:P,\">0,9\",Registion!Z:Z,$G$1),\"\")","v":0},{"$error":"#DIV/0!"}]
[{"$f":"VLOOKUP(B95,Slåop!A:B,2,FALSE)","v":{"$error":"#N/A"}},776487,{"$f":"IF(B95<>\"\",COUNTIFS(Registion!H:H,B95,Registion!Z:Z,$G$1),\"\")","v":0},{"$f":"IF(B95<>\"\",COUNTIFS(Registion!H:H,B95,Registion!P:P,\">0,9\",Registion!Z:Z,$G$1),\"\")","v":0},{"$error":"#DIV/0!"}]
[{"$f":"VLOOKUP(B96,Slåop!A:B,2,FALSE)","v":{"$error":"#N/A"}},786585,{"$f":"IF(B96<>\"\",COUNTIFS(Registion!H:H,B96,Registion!Z:Z,$G$1),\"\")","v":0},{"$f":"IF(B96<>\"\",COUNTIFS(Registion!H:H,B96,Registion!P:P,\">0,9\",Registion!Z:Z,$G$1),\"\")","v":0},{"$error":"#DIV/0!"}]
[{"$f":"VLOOKUP(B97,Slåop!A:B,2,FALSE)","v":{"$error":"#N/A"}},777176,{"$f":"IF(B97<>\"\",COUNTIFS(Registion!H:H,B97,Registion!Z:Z,$G$1),\"\")","v":0},{"$f":"IF(B97<>\"\",COUNTIFS(Registion!H:H,B97,Registion!P:P,\">0,9\",Registion!Z:Z,$G$1),\"\")","v":0},{"$error":"#DIV/0!"}]
[{"$f":"VLOOKUP(B98,Slåop!A:B,2,FALSE)","v":{"$error":"#N/A"}},810878,{"$f":"IF(B98<>\"\",COUNTIFS(Registion!H:H,B98,Registion!Z:Z,$G$1),\"\")","v":0},{"$f":"IF(B98<>\"\",COUNTIFS(Registion!H:H,B98,Registion!P:P,\">0,9\",Registion!Z:Z,$G$1),\"\")","v":0},{"$error":"#DIV/0!"}]
[{"$f":"VLOOKUP(B99,Slåop!A:B,2,FALSE)","v":{"$error":"#N/A"}},810879,{"$f":"IF(B99<>\"\",COUNTIFS(Registion!H:H,B99,Registion!Z:Z,$G$1),\"\")","v":0},{"$f":"IF(B99<>\"\",COUNTIFS(Registion!H:H,B99,Registion!P:P,\">0,9\",Registion!Z:Z,$G$1),\"\")","v":0},{"$error":"#DIV/0!"}]
[{"$f":"VLOOKUP(B100,Slåop!A:B,2,FALSE)","v":{"$error":"#N/A"}},786380,{"$f":"IF(B100<>\"\",COUNTIFS(Registion!H:H,B100,Registion!Z:Z,$G$1),\"\")","v":0},{"$f":"IF(B100<>\"\",COUNTIFS(Registion!H:H,B100,Registion!P:P,\">0,9\",Registion!Z:Z,$G$1),\"\")","v":0},{"$error":"#DIV/0!"}]
[{"$f":"VLOOKUP(B101,Slåop!A:B,2,FALSE)","v":{"$error":"#N/A"}},832662,{"$f":"IF(B101<>\"\",COUNTIFS(Registion!H:H,B101,Registion!Z:Z,$G$1),\"\")","v":0},{"$f":"IF(B101<>\"\",COUNTIFS(Registion!H:H,B101,Registion!P:P,\">0,9\",Registion!Z:Z,$G$1),\"\")","v":0},{"$error":"#DIV/0!"}]
[{"$f":"VLOOKUP(B102,Slåop!A:B,2,FALSE)","v":{"$error":"#N/A"}},818991,{"$f":"IF(B102<>\"\",COUNTIFS(Registion!H:H,B102,Registion!Z:Z,$G$1),\"\")","v":0},{"$f":"IF(B102<>\"\",COUNTIFS(Registion!H:H,B102,Registion!P:P,\">0,9\",Registion!Z:Z,$G$1),\"\")","v":0},{"$error":"#DIV/0!"}]
[{"$f":"VLOOKUP(B103,Slåop!A:B,2,FALSE)","v":{"$error":"#N/A"}},829727,{"$f":"IF(B103<>\"\",COUNTIFS(Registion!H:H,B103,Registion!Z:Z,$G$1),\"\")","v":0},{"$f":"IF(B103<>\"\",COUNTIFS(Registion!H:H,B103,Registion!P:P,\">0,9\",Registion!Z:Z,$G$1),\"\")","v":0},{"$error":"#DIV/0!"}]
[{"$f":"VLOOKUP(B104,Slåop!A:B,2,FALSE)","v":{"$error":"#N/A"}},777177,{"$f":"IF(B104<>\"\",COUNTIFS(Registion!H:H,B104,Registion!Z:Z,$G$1),\"\")","v":0},{"$f":"IF(B104<>\"\",COUNTIFS(Registion!H:H,B104,Registion!P:P,\">0,9\",Registion!Z:Z,$G$1),\"\")","v":0},{"$error":"#DIV/0!"}]
[{"$f":"VLOOKUP(B105,Slåop!A:B,2,FALSE)","v":{"$error":"#N/A"}},797658,{"$f":"IF(B105<>\"\",COUNTIFS(Registion!H:H,B105,Registion!Z:Z,$G$1),\"\")","v":0},{"$f":"IF(B105<>\"\",COUNTIFS(Registion!H:H,B105,Registion!P:P,\">0,9\",Registion!Z:Z,$G$1),\"\")","v":0},{"$error":"#DIV/0!"}]
[{"$f":"VLOOKUP(B106,Slåop!A:B,2,FALSE)","v":{"$error":"#N/A"}},761541,{"$f":"IF(B106<>\"\",COUNTIFS(Registion!H:H,B106,Registion!Z:Z,$G$1),\"\")","v":0},{"$f":"IF(B106<>\"\",COUNTIFS(Registion!H:H,B106,Registion!P:P,\">0,9\",Registion!Z:Z,$G$1),\"\")","v":0},{"$error":"#DIV/0!"}]
[{"$f":"VLOOKUP(B107,Slåop!A:B,2,FALSE)","v":{"$error":"#N/A"}},788687,{"$f":"IF(B107<>\"\",COUNTIFS(Registion!H:H,B107,Registion!Z:Z,$G$1),\"\")","v":0},{"$f":"IF(B107<>\"\",COUNTIFS(Registion!H:H,B107,Registion!P:P,\">0,9\",Registion!Z:Z,$G$1),\"\")","v":0},{"$error":"#DIV/0!"}]
[{"$f":"VLOOKUP(B108,Slåop!A:B,2,FALSE)","v":{"$error":"#N/A"}},786903,{"$f":"IF(B108<>\"\",COUNTIFS(Registion!H:H,B108,Registion!Z:Z,$G$1),\"\")","v":0},{"$f":"IF(B108<>\"\",COUNTIFS(Registion!H:H,B108,Registion!P:P,\">0,9\",Registion!Z:Z,$G$1),\"\")","v":0},{"$error":"#DIV/0!"}]
[{"$f":"VLOOKUP(B109,Slåop!A:B,2,FALSE)","v":{"$error":"#N/A"}},787023,{"$f":"IF(B109<>\"\",COUNTIFS(Registion!H:H,B109,Registion!Z:Z,$G$1),\"\")","v":0},{"$f":"IF(B109<>\"\",COUNTIFS(Registion!H:H,B109,Registion!P:P,\">0,9\",Registion!Z:Z,$G$1),\"\")","v":0},{"$error":"#DIV/0!"}]
[{"$f":"VLOOKUP(B110,Slåop!A:B,2,FALSE)","v":{"$error":"#N/A"}},804885,{"$f":"IF(B110<>\"\",COUNTIFS(Registion!H:H,B110,Registion!Z:Z,$G$1),\"\")","v":0},{"$f":"IF(B110<>\"\",COUNTIFS(Registion!H:H,B110,Registion!P:P,\">0,9\",Registion!Z:Z,$G$1),\"\")","v":0},{"$error":"#DIV/0!"}]
[{"$f":"VLOOKUP(B111,Slåop!A:B,2,FALSE)","v":{"$error":"#N/A"}},795528,{"$f":"IF(B111<>\"\",COUNTIFS(Registion!H:H,B111,Registion!Z:Z,$G$1),\"\")","v":0},{"$f":"IF(B111<>\"\",COUNTIFS(Registion!H:H,B111,Registion!P:P,\">0,9\",Registion!Z:Z,$G$1),\"\")","v":0},{"$error":"#DIV/0!"}]
[{"$f":"VLOOKUP(B112,Slåop!A:B,2,FALSE)","v":{"$error":"#N/A"}},819565,{"$f":"IF(B112<>\"\",COUNTIFS(Registion!H:H,B112,Registion!Z:Z,$G$1),\"\")","v":0},{"$f":"IF(B112<>\"\",COUNTIFS(Registion!H:H,B112,Registion!P:P,\">0,9\",Registion!Z:Z,$G$1),\"\")","v":0},{"$error":"#DIV/0!"}]
[{"$f":"VLOOKUP(B113,Slåop!A:B,2,FALSE)","v":{"$error":"#N/A"}},779051,{"$f":"IF(B113<>\"\",COUNTIFS(Registion!H:H,B113,Registion!Z:Z,$G$1),\"\")","v":0},{"$f":"IF(B113<>\"\",COUNTIFS(Registion!H:H,B113,Registion!P:P,\">0,9\",Registion!Z:Z,$G$1),\"\")","v":0},{"$error":"#DIV/0!"}]
[{"$f":"VLOOKUP(B114,Slåop!A:B,2,FALSE)","v":{"$error":"#N/A"}},786605,{"$f":"IF(B114<>\"\",COUNTIFS(Registion!H:H,B114,Registion!Z:Z,$G$1),\"\")","v":0},{"$f":"IF(B114<>\"\",COUNTIFS(Registion!H:H,B114,Registion!P:P,\">0,9\",Registion!Z:Z,$G$1),\"\")","v":0},{"$error":"#DIV/0!"}]
[{"$f":"VLOOKUP(B115,Slåop!A:B,2,FALSE)","v":{"$error":"#N/A"}},786553,{"$f":"IF(B115<>\"\",COUNTIFS(Registion!H:H,B115,Registion!Z:Z,$G$1),\"\")","v":0},{"$f":"IF(B115<>\"\",COUNTIFS(Registion!H:H,B115,Registion!P:P,\">0,9\",Registion!Z:Z,$G$1),\"\")","v":0},{"$error":"#DIV/0!"}]
[{"$f":"VLOOKUP(B116,Slåop!A:B,2,FALSE)","v":{"$error":"#N/A"}},786552,{"$f":"IF(B116<>\"\",COUNTIFS(Registion!H:H,B116,Registion!Z:Z,$G$1),\"\")","v":0},{"$f":"IF(B116<>\"\",COUNTIFS(Registion!H:H,B116,Registion!P:P,\">0,9\",Registion!Z:Z,$G$1),\"\")","v":0},{"$error":"#DIV/0!"}]
[{"$f":"VLOOKUP(B117,Slåop!A:B,2,FALSE)","v":{"$error":"#N/A"}},793111,{"$f":"IF(B117<>\"\",COUNTIFS(Registion!H:H,B117,Registion!Z:Z,$G$1),\"\")","v":0},{"$f":"IF(B117<>\"\",COUNTIFS(Registion!H:H,B117,Registion!P:P,\">0,9\",Registion!Z:Z,$G$1),\"\")","v":0},{"$error":"#DIV/0!"}]
[{"$f":"VLOOKUP(B118,Slåop!A:B,2,FALSE)","v":{"$error":"#N/A"}},820528,{"$f":"IF(B118<>\"\",COUNTIFS(Registion!H:H,B118,Registion!Z:Z,$G$1),\"\")","v":0},{"$f":"IF(B118<>\"\",COUNTIFS(Registion!H:H,B118,Registion!P:P,\">0,9\",Registion!Z:Z,$G$1),\"\")","v":0},{"$error":"#DIV/0!"}]
[{"$f":"VLOOKUP(B119,Slåop!A:B,2,FALSE)","v":{"$error":"#N/A"}},770406,{"$f":"IF(B119<>\"\",COUNTIFS(Registion!H:H,B119,Registion!Z:Z,$G$1),\"\")","v":0},{"$f":"IF(B119<>\"\",COUNTIFS(Registion!H:H,B119,Registion!P:P,\">0,9\",Registion!Z:Z,$G$1),\"\")","v":0},{"$error":"#DIV/0!"}]
[{"$f":"VLOOKUP(B120,Slåop!A:B,2,FALSE)","v":{"$error":"#N/A"}},797651,{"$f":"IF(B120<>\"\",COUNTIFS(Registion!H:H,B120,Registion!Z:Z,$G$1),\"\")","v":0},{"$f":"IF(B120<>\"\",COUNTIFS(Registion!H:H,B120,Registion!P:P,\">0,9\",Registion!Z:Z,$G$1),\"\")","v":0},{"$error":"#DIV/0!"}]
[{"$f":"VLOOKUP(B121,Slåop!A:B,2,FALSE)","v":{"$error":"#N/A"}},823513,{"$f":"IF(B121<>\"\",COUNTIFS(Registion!H:H,B121,Registion!Z:Z,$G$1),\"\")","v":0},{"$f":"IF(B121<>\"\",COUNTIFS(Registion!H:H,B121,Registion!P:P,\">0,9\",Registion!Z:Z,$G$1),\"\")","v":0},{"$error":"#DIV/0!"}]
[{"$f":"VLOOKUP(B122,Slåop!A:B,2,FALSE)","v":{"$error":"#N/A"}},823514,{"$f":"IF(B122<>\"\",COUNTIFS(Registion!H:H,B122,Registion!Z:Z,$G$1),\"\")","v":0},{"$f":"IF(B122<>\"\",COUNTIFS(Registion!H:H,B122,Registion!P:P,\">0,9\",Registion!Z:Z,$G$1),\"\")","v":0},{"$error":"#DIV/0!"}]
[{"$f":"VLOOKUP(B123,Slåop!A:B,2,FALSE)","v":{"$error":"#N/A"}},829729,{"$f":"IF(B123<>\"\",COUNTIFS(Registion!H:H,B123,Registion!Z:Z,$G$1),\"\")","v":0},{"$f":"IF(B123<>\"\",COUNTIFS(Registion!H:H,B123,Registion!P:P,\">0,9\",Registion!Z:Z,$G$1),\"\")","v":0},{"$error":"#DIV/0!"}]
[{"$f":"VLOOKUP(B124,Slåop!A:B,2,FALSE)","v":{"$error":"#N/A"}},829730,{"$f":"IF(B124<>\"\",COUNTIFS(Registion!H:H,B124,Registion!Z:Z,$G$1),\"\")","v":0},{"$f":"IF(B124<>\"\",COUNTIFS(Registion!H:H,B124,Registion!P:P,\">0,9\",Registion!Z:Z,$G$1),\"\")","v":0},{"$error":"#DIV/0!"}]
[{"$f":"VLOOKUP(B125,Slåop!A:B,2,FALSE)","v":{"$error":"#N/A"}},787085,{"$f":"IF(B125<>\"\",COUNTIFS(Registion!H:H,B125,Registion!Z:Z,$G$1),\"\")","v":0},{"$f":"IF(B125<>\"\",COUNTIFS(Registion!H:H,B125,Registion!P:P,\">0,9\",Registion!Z:Z,$G$1),\"\")","v":0},{"$error":"#DIV/0!"}]
[{"$f":"VLOOKUP(B126,Slåop!A:B,2,FALSE)","v":{"$error":"#N/A"}},761568,{"$f":"IF(B126<>\"\",COUNTIFS(Registion!H:H,B126,Registion!Z:Z,$G$1),\"\")","v":0},{"$f":"IF(B126<>\"\",COUNTIFS(Registion!H:H,B126,Registion!P:P,\">0,9\",Registion!Z:Z,$G$1),\"\")","v":0},{"$error":"#DIV/0!"}]
[{"$f":"VLOOKUP(B127,Slåop!A:B,2,FALSE)","v":{"$error":"#N/A"}},797656,{"$f":"IF(B127<>\"\",COUNTIFS(Registion!H:H,B127,Registion!Z:Z,$G$1),\"\")","v":0},{"$f":"IF(B127<>\"\",COUNTIFS(Registion!H:H,B127,Registion!P:P,\">0,9\",Registion!Z:Z,$G$1),\"\")","v":0},{"$error":"#DIV/0!"}]
[{"$f":"VLOOKUP(B128,Slåop!A:B,2,FALSE)","v":{"$error":"#N/A"}},774576,{"$f":"IF(B128<>\"\",COUNTIFS(Registion!H:H,B128,Registion!Z:Z,$G$1),\"\")","v":0},{"$f":"IF(B128<>\"\",COUNTIFS(Registion!H:H,B128,Registion!P:P,\">0,9\",Registion!Z:Z,$G$1),\"\")","v":0},{"$error":"#DIV/0!"}]
[{"$f":"VLOOKUP(B129,Slåop!A:B,2,FALSE)","v":{"$error":"#N/A"}},786356,{"$f":"IF(B129<>\"\",COUNTIFS(Registion!H:H,B129,Registion!Z:Z,$G$1),\"\")","v":0},{"$f":"IF(B129<>\"\",COUNTIFS(Registion!H:H,B129,Registion!P:P,\">0,9\",Registion!Z:Z,$G$1),\"\")","v":0},{"$error":"#DIV/0!"}]
[{"$f":"VLOOKUP(B130,Slåop!A:B,2,FALSE)","v":{"$error":"#N/A"}},787034,{"$f":"IF(B130<>\"\",COUNTIFS(Registion!H:H,B130,Registion!Z:Z,$G$1),\"\")","v":0},{"$f":"IF(B130<>\"\",COUNTIFS(Registion!H:H,B130,Registion!P:P,\">0,9\",Registion!Z:Z,$G$1),\"\")","v":0},{"$f":"IF(B130<>\"\",D130/C130,\"\")","v":{"$error":"#DIV/0!"}}]
[{"$f":"VLOOKUP(B131,Slåop!A:B,2,FALSE)","v":{"$error":"#N/A"}},786358,{"$f":"IF(B131<>\"\",COUNTIFS(Registion!H:H,B131,Registion!Z:Z,$G$1),\"\")","v":0},{"$f":"IF(B131<>\"\",COUNTIFS(Registion!H:H,B131,Registion!P:P,\">0,9\",Registion!Z:Z,$G$1),\"\")","v":0},{"$error":"#DIV/0!"}]
[{"$f":"VLOOKUP(B132,Slåop!A:B,2,FALSE)","v":{"$error":"#N/A"}},765199,{"$f":"IF(B132<>\"\",COUNTIFS(Registion!H:H,B132,Registion!Z:Z,$G$1),\"\")","v":0},{"$f":"IF(B132<>\"\",COUNTIFS(Registion!H:H,B132,Registion!P:P,\">0,9\",Registion!Z:Z,$G$1),\"\")","v":0},{"$error":"#DIV/0!"}]
[{"$f":"VLOOKUP(B133,Slåop!A:B,2,FALSE)","v":{"$error":"#N/A"}},797661,{"$f":"IF(B133<>\"\",COUNTIFS(Registion!H:H,B133,Registion!Z:Z,$G$1),\"\")","v":0},{"$f":"IF(B133<>\"\",COUNTIFS(Registion!H:H,B133,Registion!P:P,\">0,9\",Registion!Z:Z,$G$1),\"\")","v":0},{"$error":"#DIV/0!"}]
[{"$f":"VLOOKUP(B134,Slåop!A:B,2,FALSE)","v":{"$error":"#N/A"}},797659,{"$f":"IF(B134<>\"\",COUNTIFS(Registion!H:H,B134,Registion!Z:Z,$G$1),\"\")","v":0},{"$f":"IF(B134<>\"\",COUNTIFS(Registion!H:H,B134,Registion!P:P,\">0,9\",Registion!Z:Z,$G$1),\"\")","v":0},{"$error":"#DIV/0!"}]
[{"$f":"VLOOKUP(B135,Slåop!A:B,2,FALSE)","v":{"$error":"#N/A"}},786606,{"$f":"IF(B135<>\"\",COUNTIFS(Registion!H:H,B135,Registion!Z:Z,$G$1),\"\")","v":0},{"$f":"IF(B135<>\"\",COUNTIFS(Registion!H:H,B135,Registion!P:P,\">0,9\",Registion!Z:Z,$G$1),\"\")","v":0},{"$error":"#DIV/0!"}]
[{"$f":"VLOOKUP(B136,Slåop!A:B,2,FALSE)","v":{"$error":"#N/A"}},789471,{"$f":"IF(B136<>\"\",COUNTIFS(Registion!H:H,B136,Registion!Z:Z,$G$1),\"\")","v":0},{"$f":"IF(B136<>\"\",COUNTIFS(Registion!H:H,B136,Registion!P:P,\">0,9\",Registion!Z:Z,$G$1),\"\")","v":0},{"$error":"#DIV/0!"}]
[{"$f":"VLOOKUP(B137,Slåop!A:B,2,FALSE)","v":{"$error":"#N/A"}},818971,{"$f":"IF(B137<>\"\",COUNTIFS(Registion!H:H,B137,Registion!Z:Z,$G$1),\"\")","v":0},{"$f":"IF(B137<>\"\",COUNTIFS(Registion!H:H,B137,Registion!P:P,\">0,9\",Registion!Z:Z,$G$1),\"\")","v":0},{"$error":"#DIV/0!"}]
[{"$f":"VLOOKUP(B138,Slåop!A:B,2,FALSE)","v":{"$error":"#N/A"}},786530,{"$f":"IF(B138<>\"\",COUNTIFS(Registion!H:H,B138,Registion!Z:Z,$G$1),\"\")","v":0},{"$f":"IF(B138<>\"\",COUNTIFS(Registion!H:H,B138,Registion!P:P,\">0,9\",Registion!Z:Z,$G$1),\"\")","v":0},{"$error":"#DIV/0!"}]
[{"$f":"VLOOKUP(B139,Slåop!A:B,2,FALSE)","v":{"$error":"#N/A"}},812342,{"$f":"IF(B139<>\"\",COUNTIFS(Registion!H:H,B139,Registion!Z:Z,$G$1),\"\")","v":0},{"$f":"IF(B139<>\"\",COUNTIFS(Registion!H:H,B139,Registion!P:P,\">0,9\",Registion!Z:Z,$G$1),\"\")","v":0},{"$error":"#DIV/0!"}]
[{"$f":"VLOOKUP(B140,Slåop!A:B,2,FALSE)","v":{"$error":"#N/A"}},786523,{"$f":"IF(B140<>\"\",COUNTIFS(Registion!H:H,B140,Registion!Z:Z,$G$1),\"\")","v":0},{"$f":"IF(B140<>\"\",COUNTIFS(Registion!H:H,B140,Registion!P:P,\">0,9\",Registion!Z:Z,$G$1),\"\")","v":0},{"$error":"#DIV/0!"}]
[{"$f":"VLOOKUP(B141,Slåop!A:B,2,FALSE)","v":{"$error":"#N/A"}},761064,{"$f":"IF(B141<>\"\",COUNTIFS(Registion!H:H,B141,Registion!Z:Z,$G$1),\"\")","v":0},{"$f":"IF(B141<>\"\",COUNTIFS(Registion!H:H,B141,Registion!P:P,\">0,9\",Registion!Z:Z,$G$1),\"\")","v":0},{"$error":"#DIV/0!"}]
[{"$f":"VLOOKUP(B142,Slåop!A:B,2,FALSE)","v":{"$error":"#N/A"}},776882,{"$f":"IF(B142<>\"\",COUNTIFS(Registion!H:H,B142,Registion!Z:Z,$G$1),\"\")","v":0},{"$f":"IF(B142<>\"\",COUNTIFS(Registion!H:H,B142,Registion!P:P,\">0,9\",Registion!Z:Z,$G$1),\"\")","v":0},{"$error":"#DIV/0!"}]
[{"$f":"VLOOKUP(B143,Slåop!A:B,2,FALSE)","v":{"$error":"#N/A"}},786550,{"$f":"IF(B143<>\"\",COUNTIFS(Registion!H:H,B143,Registion!Z:Z,$G$1),\"\")","v":0},{"$f":"IF(B143<>\"\",COUNTIFS(Registion!H:H,B143,Registion!P:P,\">0,9\",Registion!Z:Z,$G$1),\"\")","v":0},{"$error":"#DIV/0!"}]
[{"$f":"VLOOKUP(B144,Slåop!A:B,2,FALSE)","v":{"$error":"#N/A"}},786288,{"$f":"IF(B144<>\"\",COUNTIFS(Registion!H:H,B144,Registion!Z:Z,$G$1),\"\")","v":0},{"$f":"IF(B144<>\"\",COUNTIFS(Registion!H:H,B144,Registion!P:P,\">0,9\",Registion!Z:Z,$G$1),\"\")","v":0},{"$error":"#DIV/0!"}]
[{"$f":"VLOOKUP(B145,Slåop!A:B,2,FALSE)","v":{"$error":"#N/A"}},818307,{"$f":"IF(B145<>\"\",COUNTIFS(Registion!H:H,B145,Registion!Z:Z,$G$1),\"\")","v":0},{"$f":"IF(B145<>\"\",COUNTIFS(Registion!H:H,B145,Registion!P:P,\">0,9\",Registion!Z:Z,$G$1),\"\")","v":0},{"$error":"#DIV/0!"}]
[{"$f":"VLOOKUP(B146,Slåop!A:B,2,FALSE)","v":{"$error":"#N/A"}},787025,{"$f":"IF(B146<>\"\",COUNTIFS(Registion!H:H,B146,Registion!Z:Z,$G$1),\"\")","v":0},{"$f":"IF(B146<>\"\",COUNTIFS(Registion!H:H,B146,Registion!P:P,\">0,9\",Registion!Z:Z,$G$1),\"\")","v":0},{"$error":"#DIV/0!"}]
[{"$f":"VLOOKUP(B147,Slåop!A:B,2,FALSE)","v":{"$error":"#N/A"}},818304,{"$f":"IF(B147<>\"\",COUNTIFS(Registion!H:H,B147,Registion!Z:Z,$G$1),\"\")","v":0},{"$f":"IF(B147<>\"\",COUNTIFS(Registion!H:H,B147,Registion!P:P,\">0,9\",Registion!Z:Z,$G$1),\"\")","v":0},{"$error":"#DIV/0!"}]
[{"$f":"VLOOKUP(B148,Slåop!A:B,2,FALSE)","v":{"$error":"#N/A"}},767346,{"$f":"IF(B148<>\"\",COUNTIFS(Registion!H:H,B148,Registion!Z:Z,$G$1),\"\")","v":0},{"$f":"IF(B148<>\"\",COUNTIFS(Registion!H:H,B148,Registion!P:P,\">0,9\",Registion!Z:Z,$G$1),\"\")","v":0},{"$error":"#DIV/0!"}]
[{"$f":"VLOOKUP(B149,Slåop!A:B,2,FALSE)","v":{"$error":"#N/A"}},799532,{"$f":"IF(B149<>\"\",COUNTIFS(Registion!H:H,B149,Registion!Z:Z,$G$1),\"\")","v":0},{"$f":"IF(B149<>\"\",COUNTIFS(Registion!H:H,B149,Registion!P:P,\">0,9\",Registion!Z:Z,$G$1),\"\")","v":0},{"$error":"#DIV/0!"}]
[{"$f":"VLOOKUP(B150,Slåop!A:B,2,FALSE)","v":{"$error":"#N/A"}},786297,{"$f":"IF(B150<>\"\",COUNTIFS(Registion!H:H,B150,Registion!Z:Z,$G$1),\"\")","v":0},{"$f":"IF(B150<>\"\",COUNTIFS(Registion!H:H,B150,Registion!P:P,\">0,9\",Registion!Z:Z,$G$1),\"\")","v":0},{"$error":"#DIV/0!"}]
[{"$f":"VLOOKUP(B151,Slåop!A:B,2,FALSE)","v":{"$error":"#N/A"}},804898,{"$f":"IF(B151<>\"\",COUNTIFS(Registion!H:H,B151,Registion!Z:Z,$G$1),\"\")","v":0},{"$f":"IF(B151<>\"\",COUNTIFS(Registion!H:H,B151,Registion!P:P,\">0,9\",Registion!Z:Z,$G$1),\"\")","v":0},{"$error":"#DIV/0!"}]
[{"$f":"VLOOKUP(B152,Slåop!A:B,2,FALSE)","v":{"$error":"#N/A"}},797684,{"$f":"IF(B152<>\"\",COUNTIFS(Registion!H:H,B152,Registion!Z:Z,$G$1),\"\")","v":0},{"$f":"IF(B152<>\"\",COUNTIFS(Registion!H:H,B152,Registion!P:P,\">0,9\",Registion!Z:Z,$G$1),\"\")","v":0},{"$error":"#DIV/0!"}]
[{"$f":"VLOOKUP(B153,Slåop!A:B,2,FALSE)","v":{"$error":"#N/A"}},797650,{"$f":"IF(B153<>\"\",COUNTIFS(Registion!H:H,B153,Registion!Z:Z,$G$1),\"\")","v":0},{"$f":"IF(B153<>\"\",COUNTIFS(Registion!H:H,B153,Registion!P:P,\">0,9\",Registion!Z:Z,$G$1),\"\")","v":0},{"$error":"#DIV/0!"}]
[{"$f":"VLOOKUP(B154,Slåop!A:B,2,FALSE)","v":{"$error":"#N/A"}},737277,{"$f":"IF(B154<>\"\",COUNTIFS(Registion!H:H,B154,Registion!Z:Z,$G$1),\"\")","v":0},{"$f":"IF(B154<>\"\",COUNTIFS(Registion!H:H,B154,Registion!P:P,\">0,9\",Registion!Z:Z,$G$1),\"\")","v":0},{"$error":"#DIV/0!"}]
[{"$f":"VLOOKUP(B155,Slåop!A:B,2,FALSE)","v":{"$error":"#N/A"}},807412,{"$f":"IF(B155<>\"\",COUNTIFS(Registion!H:H,B155,Registion!Z:Z,$G$1),\"\")","v":0},{"$f":"IF(B155<>\"\",COUNTIFS(Registion!H:H,B155,Registion!P:P,\">0,9\",Registion!Z:Z,$G$1),\"\")","v":0},{"$error":"#DIV/0!"}]
[{"$f":"VLOOKUP(B156,Slåop!A:B,2,FALSE)","v":{"$error":"#N/A"}},761509,{"$f":"IF(B156<>\"\",COUNTIFS(Registion!H:H,B156,Registion!Z:Z,$G$1),\"\")","v":0},{"$f":"IF(B156<>\"\",COUNTIFS(Registion!H:H,B156,Registion!P:P,\">0,9\",Registion!Z:Z,$G$1),\"\")","v":0},{"$error":"#DIV/0!"}]
[{"$f":"VLOOKUP(B157,Slåop!A:B,2,FALSE)","v":{"$error":"#N/A"}},786536,{"$f":"IF(B157<>\"\",COUNTIFS(Registion!H:H,B157,Registion!Z:Z,$G$1),\"\")","v":0},{"$f":"IF(B157<>\"\",COUNTIFS(Registion!H:H,B157,Registion!P:P,\">0,9\",Registion!Z:Z,$G$1),\"\")","v":0},{"$error":"#DIV/0!"}]
[{"$f":"VLOOKUP(B158,Slåop!A:B,2,FALSE)","v":{"$error":"#N/A"}},767518,{"$f":"IF(B158<>\"\",COUNTIFS(Registion!H:H,B158,Registion!Z:Z,$G$1),\"\")","v":0},{"$f":"IF(B158<>\"\",COUNTIFS(Registion!H:H,B158,Registion!P:P,\">0,9\",Registion!Z:Z,$G$1),\"\")","v":0},{"$error":"#DIV/0!"}]
[{"$f":"VLOOKUP(B159,Slåop!A:B,2,FALSE)","v":{"$error":"#N/A"}},823261,{"$f":"IF(B159<>\"\",COUNTIFS(Registion!H:H,B159,Registion!Z:Z,$G$1),\"\")","v":0},{"$f":"IF(B159<>\"\",COUNTIFS(Registion!H:H,B159,Registion!P:P,\">0,9\",Registion!Z:Z,$G$1),\"\")","v":0},{"$error":"#DIV/0!"}]
[{"$f":"VLOOKUP(B160,Slåop!A:B,2,FALSE)","v":{"$error":"#N/A"}},786351,{"$f":"IF(B160<>\"\",COUNTIFS(Registion!H:H,B160,Registion!Z:Z,$G$1),\"\")","v":0},{"$f":"IF(B160<>\"\",COUNTIFS(Registion!H:H,B160,Registion!P:P,\">0,9\",Registion!Z:Z,$G$1),\"\")","v":0},{"$error":"#DIV/0!"}]
[{"$f":"VLOOKUP(B161,Slåop!A:B,2,FALSE)","v":{"$error":"#N/A"}},786374,{"$f":"IF(B161<>\"\",COUNTIFS(Registion!H:H,B161,Registion!Z:Z,$G$1),\"\")","v":0},{"$f":"IF(B161<>\"\",COUNTIFS(Registion!H:H,B161,Registion!P:P,\">0,9\",Registion!Z:Z,$G$1),\"\")","v":0},{"$error":"#DIV/0!"}]
[{"$f":"VLOOKUP(B162,Slåop!A:B,2,FALSE)","v":{"$error":"#N/A"}},804895,{"$f":"IF(B162<>\"\",COUNTIFS(Registion!H:H,B162,Registion!Z:Z,$G$1),\"\")","v":0},{"$f":"IF(B162<>\"\",COUNTIFS(Registion!H:H,B162,Registion!P:P,\">0,9\",Registion!Z:Z,$G$1),\"\")","v":0},{"$error":"#DIV/0!"}]
[{"$f":"VLOOKUP(B163,Slåop!A:B,2,FALSE)","v":{"$error":"#N/A"}},820246,{"$f":"IF(B163<>\"\",COUNTIFS(Registion!H:H,B163,Registion!Z:Z,$G$1),\"\")","v":0},{"$f":"IF(B163<>\"\",COUNTIFS(Registion!H:H,B163,Registion!P:P,\">0,9\",Registion!Z:Z,$G$1),\"\")","v":0},{"$error":"#DIV/0!"}]
[{"$f":"VLOOKUP(B164,Slåop!A:B,2,FALSE)","v":{"$error":"#N/A"}},732659,{"$f":"IF(B164<>\"\",COUNTIFS(Registion!H:H,B164,Registion!Z:Z,$G$1),\"\")","v":0},{"$f":"IF(B164<>\"\",COUNTIFS(Registion!H:H,B164,Registion!P:P,\">0,9\",Registion!Z:Z,$G$1),\"\")","v":0},{"$error":"#DIV/0!"}]
[{"$f":"VLOOKUP(B165,Slåop!A:B,2,FALSE)","v":"Vare 5"},722428,{"$f":"IF(B165<>\"\",COUNTIFS(Registion!H:H,B165,Registion!Z:Z,$G$1),\"\")","v":0},{"$f":"IF(B165<>\"\",COUNTIFS(Registion!H:H,B165,Registion!P:P,\">0,9\",Registion!Z:Z,$G$1),\"\")","v":0},{"$error":"#DIV/0!"}]
[{"$f":"VLOOKUP(B166,Slåop!A:B,2,FALSE)","v":{"$error":"#N/A"}},786587,{"$f":"IF(B166<>\"\",COUNTIFS(Registion!H:H,B166,Registion!Z:Z,$G$1),\"\")","v":0},{"$f":"IF(B166<>\"\",COUNTIFS(Registion!H:H,B166,Registion!P:P,\">0,9\",Registion!Z:Z,$G$1),\"\")","v":0},{"$error":"#DIV/0!"}]
[{"$f":"VLOOKUP(B167,Slåop!A:B,2,FALSE)","v":{"$error":"#N/A"}},799206,{"$f":"IF(B167<>\"\",COUNTIFS(Registion!H:H,B167,Registion!Z:Z,$G$1),\"\")","v":0},{"$f":"IF(B167<>\"\",COUNTIFS(Registion!H:H,B167,Registion!P:P,\">0,9\",Registion!Z:Z,$G$1),\"\")","v":0},{"$error":"#DIV/0!"}]
[{"$f":"VLOOKUP(B168,Slåop!A:B,2,FALSE)","v":"Vare 9"},726089,{"$f":"IF(B168<>\"\",COUNTIFS(Registion!H:H,B168,Registion!Z:Z,$G$1),\"\")","v":0},{"$f":"IF(B168<>\"\",COUNTIFS(Registion!H:H,B168,Registion!P:P,\">0,9\",Registion!Z:Z,$G$1),\"\")","v":0},{"$error":"#DIV/0!"}]
[{"$f":"VLOOKUP(B169,Slåop!A:B,2,FALSE)","v":{"$error":"#N/A"}},732679,{"$f":"IF(B169<>\"\",COUNTIFS(Registion!H:H,B169,Registion!Z:Z,$G$1),\"\")","v":0},{"$f":"IF(B169<>\"\",COUNTIFS(Registion!H:H,B169,Registion!P:P,\">0,9\",Registion!Z:Z,$G$1),\"\")","v":0},{"$error":"#DIV/0!"}]
[{"$f":"VLOOKUP(B170,Slåop!A:B,2,FALSE)","v":{"$error":"#N/A"}},763533,{"$f":"IF(B170<>\"\",COUNTIFS(Registion!H:H,B170,Registion!Z:Z,$G$1),\"\")","v":0},{"$f":"IF(B170<>\"\",COUNTIFS(Registion!H:H,B170,Registion!P:P,\">0,9\",Registion!Z:Z,$G$1),\"\")","v":0},{"$error":"#DIV/0!"}]
[{"$f":"VLOOKUP(B171,Slåop!A:B,2,FALSE)","v":{"$error":"#N/A"}},777174,{"$f":"IF(B171<>\"\",COUNTIFS(Registion!H:H,B171,Registion!Z:Z,$G$1),\"\")","v":0},{"$f":"IF(B171<>\"\",COUNTIFS(Registion!H:H,B171,Registion!P:P,\">0,9\",Registion!Z:Z,$G$1),\"\")","v":0},{"$error":"#DIV/0!"}]
[{"$f":"VLOOKUP(B172,Slåop!A:B,2,FALSE)","v":{"$error":"#N/A"}},829566,{"$f":"IF(B172<>\"\",COUNTIFS(Registion!H:H,B172,Registion!Z:Z,$G$1),\"\")","v":0},{"$f":"IF(B172<>\"\",COUNTIFS(Registion!H:H,B172,Registion!P:P,\">0,9\",Registion!Z:Z,$G$1),\"\")","v":0},{"$error":"#DIV/0!"}]
[{"$f":"VLOOKUP(B173,Slåop!A:B,2,FALSE)","v":{"$error":"#N/A"}},786900,{"$f":"IF(B173<>\"\",COUNTIFS(Registion!H:H,B173,Registion!Z:Z,$G$1),\"\")","v":0},{"$f":"IF(B173<>\"\",COUNTIFS(Registion!H:H,B173,Registion!P:P,\">0,9\",Registion!Z:Z,$G$1),\"\")","v":0},{"$error":"#DIV/0!"}]
[{"$f":"VLOOKUP(B174,Slåop!A:B,2,FALSE)","v":{"$error":"#N/A"}},767434,{"$f":"IF(B174<>\"\",COUNTIFS(Registion!H:H,B174,Registion!Z:Z,$G$1),\"\")","v":0},{"$f":"IF(B174<>\"\",COUNTIFS(Registion!H:H,B174,Registion!P:P,\">0,9\",Registion!Z:Z,$G$1),\"\")","v":0},{"$error":"#DIV/0!"}]
[{"$f":"VLOOKUP(B175,Slåop!A:B,2,FALSE)","v":{"$error":"#N/A"}},786517,{"$f":"IF(B175<>\"\",COUNTIFS(Registion!H:H,B175,Registion!Z:Z,$G$1),\"\")","v":0},{"$f":"IF(B175<>\"\",COUNTIFS(Registion!H:H,B175,Registion!P:P,\">0,9\",Registion!Z:Z,$G$1),\"\")","v":0},{"$error":"#DIV/0!"}]
[{"$f":"VLOOKUP(B176,Slåop!A:B,2,FALSE)","v":{"$error":"#N/A"}},786518,{"$f":"IF(B176<>\"\",COUNTIFS(Registion!H:H,B176,Registion!Z:Z,$G$1),\"\")","v":0},{"$f":"IF(B176<>\"\",COUNTIFS(Registion!H:H,B176,Registion!P:P,\">0,9\",Registion!Z:Z,$G$1),\"\")","v":0},{"$error":"#DIV/0!"}]
[{"$f":"VLOOKUP(B177,Slåop!A:B,2,FALSE)","v":{"$error":"#N/A"}},788686,{"$f":"IF(B177<>\"\",COUNTIFS(Registion!H:H,B177,Registion!Z:Z,$G$1),\"\")","v":0},{"$f":"IF(B177<>\"\",COUNTIFS(Registion!H:H,B177,Registion!P:P,\">0,9\",Registion!Z:Z,$G$1),\"\")","v":0},{"$error":"#DIV/0!"}]
[{"$f":"VLOOKUP(B178,Slåop!A:B,2,FALSE)","v":{"$error":"#N/A"}},789465,{"$f":"IF(B178<>\"\",COUNTIFS(Registion!H:H,B178,Registion!Z:Z,$G$1),\"\")","v":0},{"$f":"IF(B178<>\"\",COUNTIFS(Registion!H:H,B178,Registion!P:P,\">0,9\",Registion!Z:Z,$G$1),\"\")","v":0},{"$error":"#DIV/0!"}]
[{"$f":"VLOOKUP(B179,Slåop!A:B,2,FALSE)","v":{"$error":"#N/A"}},810948,{"$f":"IF(B179<>\"\",COUNTIFS(Registion!H:H,B179,Registion!Z:Z,$G$1),\"\")","v":0},{"$f":"IF(B179<>\"\",COUNTIFS(Registion!H:H,B179,Registion!P:P,\">0,9\",Registion!Z:Z,$G$1),\"\")","v":0},{"$error":"#DIV/0!"}]
[{"$f":"VLOOKUP(B180,Slåop!A:B,2,FALSE)","v":{"$error":"#N/A"}},819961,{"$f":"IF(B180<>\"\",COUNTIFS(Registion!H:H,B180,Registion!Z:Z,$G$1),\"\")","v":0},{"$f":"IF(B180<>\"\",COUNTIFS(Registion!H:H,B180,Registion!P:P,\">0,9\",Registion!Z:Z,$G$1),\"\")","v":0},{"$error":"#DIV/0!"}]
[{"$f":"VLOOKUP(B181,Slåop!A:B,2,FALSE)","v":{"$error":"#N/A"}},819959,{"$f":"IF(B181<>\"\",COUNTIFS(Registion!H:H,B181,Registion!Z:Z,$G$1),\"\")","v":0},{"$f":"IF(B181<>\"\",COUNTIFS(Registion!H:H,B181,Registion!P:P,\">0,9\",Registion!Z:Z,$G$1),\"\")","v":0},{"$error":"#DIV/0!"}]
[{"$f":"VLOOKUP(B182,Slåop!A:B,2,FALSE)","v":{"$error":"#N/A"}},786426,{"$f":"IF(B182<>\"\",COUNTIFS(Registion!H:H,B182,Registion!Z:Z,$G$1),\"\")","v":0},{"$f":"IF(B182<>\"\",COUNTIFS(Registion!H:H,B182,Registion!P:P,\">0,9\",Registion!Z:Z,$G$1),\"\")","v":0},{"$error":"#DIV/0!"}]
[{"$f":"VLOOKUP(B183,Slåop!A:B,2,FALSE)","v":{"$error":"#N/A"}},786395,{"$f":"IF(B183<>\"\",COUNTIFS(Registion!H:H,B183,Registion!Z:Z,$G$1),\"\")","v":0},{"$f":"IF(B183<>\"\",COUNTIFS(Registion!H:H,B183,Registion!P:P,\">0,9\",Registion!Z:Z,$G$1),\"\")","v":0},{"$error":"#DIV/0!"}]
[{"$f":"VLOOKUP(B184,Slåop!A:B,2,FALSE)","v":{"$error":"#N/A"}},789456,{"$f":"IF(B184<>\"\",COUNTIFS(Registion!H:H,B184,Registion!Z:Z,$G$1),\"\")","v":0},{"$f":"IF(B184<>\"\",COUNTIFS(Registion!H:H,B184,Registion!P:P,\">0,9\",Registion!Z:Z,$G$1),\"\")","v":0},{"$error":"#DIV/0!"}]
[{"$f":"VLOOKUP(B185,Slåop!A:B,2,FALSE)","v":{"$error":"#N/A"}},832295,{"$f":"IF(B185<>\"\",COUNTIFS(Registion!H:H,B185,Registion!Z:Z,$G$1),\"\")","v":0},{"$f":"IF(B185<>\"\",COUNTIFS(Registion!H:H,B185,Registion!P:P,\">0,9\",Registion!Z:Z,$G$1),\"\")","v":0},{"$error":"#DIV/0!"}]
[{"$f":"VLOOKUP(B186,Slåop!A:B,2,FALSE)","v":{"$error":"#N/A"}},786464,{"$f":"IF(B186<>\"\",COUNTIFS(Registion!H:H,B186,Registion!Z:Z,$G$1),\"\")","v":0},{"$f":"IF(B186<>\"\",COUNTIFS(Registion!H:H,B186,Registion!P:P,\">0,9\",Registion!Z:Z,$G$1),\"\")","v":0},{"$error":"#DIV/0!"}]
[{"$f":"VLOOKUP(B187,Slåop!A:B,2,FALSE)","v":{"$error":"#N/A"}},779105,{"$f":"IF(B187<>\"\",COUNTIFS(Registion!H:H,B187,Registion!Z:Z,$G$1),\"\")","v":0},{"$f":"IF(B187<>\"\",COUNTIFS(Registion!H:H,B187,Registion!P:P,\">0,9\",Registion!Z:Z,$G$1),\"\")","v":0},{"$error":"#DIV/0!"}]
[{"$f":"VLOOKUP(B188,Slåop!A:B,2,FALSE)","v":{"$error":"#N/A"}},805248,{"$f":"IF(B188<>\"\",COUNTIFS(Registion!H:H,B188,Registion!Z:Z,$G$1),\"\")","v":0},{"$f":"IF(B188<>\"\",COUNTIFS(Registion!H:H,B188,Registion!P:P,\">0,9\",Registion!Z:Z,$G$1),\"\")","v":0},{"$error":"#DIV/0!"}]
[{"$f":"VLOOKUP(B189,Slåop!A:B,2,FALSE)","v":{"$error":"#N/A"}},817710,{"$f":"IF(B189<>\"\",COUNTIFS(Registion!H:H,B189,Registion!Z:Z,$G$1),\"\")","v":0},{"$f":"IF(B189<>\"\",COUNTIFS(Registion!H:H,B189,Registion!P:P,\">0,9\",Registion!Z:Z,$G$1),\"\")","v":0},{"$error":"#DIV/0!"}]
[{"$f":"VLOOKUP(B190,Slåop!A:B,2,FALSE)","v":{"$error":"#N/A"}},797058,{"$f":"IF(B190<>\"\",COUNTIFS(Registion!H:H,B190,Registion!Z:Z,$G$1),\"\")","v":0},{"$f":"IF(B190<>\"\",COUNTIFS(Registion!H:H,B190,Registion!P:P,\">0,9\",Registion!Z:Z,$G$1),\"\")","v":0},{"$error":"#DIV/0!"}]
[{"$f":"VLOOKUP(B191,Slåop!A:B,2,FALSE)","v":{"$error":"#N/A"}},786942,{"$f":"IF(B191<>\"\",COUNTIFS(Registion!H:H,B191,Registion!Z:Z,$G$1),\"\")","v":0},{"$f":"IF(B191<>\"\",COUNTIFS(Registion!H:H,B191,Registion!P:P,\">0,9\",Registion!Z:Z,$G$1),\"\")","v":0},{"$error":"#DIV/0!"}]
[{"$f":"VLOOKUP(B192,Slåop!A:B,2,FALSE)","v":{"$error":"#N/A"}},787026,{"$f":"IF(B192<>\"\",COUNTIFS(Registion!H:H,B192,Registion!Z:Z,$G$1),\"\")","v":0},{"$f":"IF(B192<>\"\",COUNTIFS(Registion!H:H,B192,Registion!P:P,\">0,9\",Registion!Z:Z,$G$1),\"\")","v":0},{"$error":"#DIV/0!"}]
[{"$f":"VLOOKUP(B193,Slåop!A:B,2,FALSE)","v":{"$error":"#N/A"}},820527,{"$f":"IF(B193<>\"\",COUNTIFS(Registion!H:H,B193,Registion!Z:Z,$G$1),\"\")","v":0},{"$f":"IF(B193<>\"\",COUNTIFS(Registion!H:H,B193,Registion!P:P,\">0,9\",Registion!Z:Z,$G$1),\"\")","v":0},{"$error":"#DIV/0!"}]
[{"$f":"VLOOKUP(B194,Slåop!A:B,2,FALSE)","v":{"$error":"#N/A"}},798810,{"$f":"IF(B194<>\"\",COUNTIFS(Registion!H:H,B194,Registion!Z:Z,$G$1),\"\")","v":0},{"$f":"IF(B194<>\"\",COUNTIFS(Registion!H:H,B194,Registion!P:P,\">0,9\",Registion!Z:Z,$G$1),\"\")","v":0},{"$f":"IF(B194<>\"\",D194/C194,\"\")","v":{"$error":"#DIV/0!"}}]
[{"$f":"VLOOKUP(B195,Slåop!A:B,2,FALSE)","v":{"$error":"#N/A"}},818827,{"$f":"IF(B195<>\"\",COUNTIFS(Registion!H:H,B195,Registion!Z:Z,$G$1),\"\")","v":0},{"$f":"IF(B195<>\"\",COUNTIFS(Registion!H:H,B195,Registion!P:P,\">0,9\",Registion!Z:Z,$G$1),\"\")","v":0},{"$error":"#DIV/0!"}]
[{"$f":"VLOOKUP(B196,Slåop!A:B,2,FALSE)","v":{"$error":"#N/A"}},818828,{"$f":"IF(B196<>\"\",COUNTIFS(Registion!H:H,B196,Registion!Z:Z,$G$1),\"\")","v":0},{"$f":"IF(B196<>\"\",COUNTIFS(Registion!H:H,B196,Registion!P:P,\">0,9\",Registion!Z:Z,$G$1),\"\")","v":0},{"$error":"#DIV/0!"}]
[{"$f":"VLOOKUP(B197,Slåop!A:B,2,FALSE)","v":{"$error":"#N/A"}},777680,{"$f":"IF(B197<>\"\",COUNTIFS(Registion!H:H,B197,Registion!Z:Z,$G$1),\"\")","v":0},{"$f":"IF(B197<>\"\",COUNTIFS(Registion!H:H,B197,Registion!P:P,\">0,9\",Registion!Z:Z,$G$1),\"\")","v":0},{"$error":"#DIV/0!"}]
[{"$f":"VLOOKUP(B198,Slåop!A:B,2,FALSE)","v":{"$error":"#N/A"}},805282,{"$f":"IF(B198<>\"\",COUNTIFS(Registion!H:H,B198,Registion!Z:Z,$G$1),\"\")","v":0},{"$f":"IF(B198<>\"\",COUNTIFS(Registion!H:H,B198,Registion!P:P,\">0,9\",Registion!Z:Z,$G$1),\"\")","v":0},{"$error":"#DIV/0!"}]
[{"$f":"VLOOKUP(B199,Slåop!A:B,2,FALSE)","v":{"$error":"#N/A"}},819030,{"$f":"IF(B199<>\"\",COUNTIFS(Registion!H:H,B199,Registion!Z:Z,$G$1),\"\")","v":0},{"$f":"IF(B199<>\"\",COUNTIFS(Registion!H:H,B199,Registion!P:P,\">0,9\",Registion!Z:Z,$G$1),\"\")","v":0},{"$error":"#DIV/0!"}]
[{"$f":"VLOOKUP(B200,Slåop!A:B,2,FALSE)","v":{"$error":"#N/A"}},818972,{"$f":"IF(B200<>\"\",COUNTIFS(Registion!H:H,B200,Registion!Z:Z,$G$1),\"\")","v":0},{"$f":"IF(B200<>\"\",COUNTIFS(Registion!H:H,B200,Registion!P:P,\">0,9\",Registion!Z:Z,$G$1),\"\")","v":0},{"$error":"#DIV/0!"}]
[{"$f":"VLOOKUP(B201,Slåop!A:B,2,FALSE)","v":{"$error":"#N/A"}},761057,{"$f":"IF(B201<>\"\",COUNTIFS(Registion!H:H,B201,Registion!Z:Z,$G$1),\"\")","v":0},{"$f":"IF(B201<>\"\",COUNTIFS(Registion!H:H,B201,Registion!P:P,\">0,9\",Registion!Z:Z,$G$1),\"\")","v":0},{"$error":"#DIV/0!"}]
[{"$f":"VLOOKUP(B202,Slåop!A:B,2,FALSE)","v":{"$error":"#N/A"}},767861,{"$f":"IF(B202<>\"\",COUNTIFS(Registion!H:H,B202,Registion!Z:Z,$G$1),\"\")","v":0},{"$f":"IF(B202<>\"\",COUNTIFS(Registion!H:H,B202,Registion!P:P,\">0,9\",Registion!Z:Z,$G$1),\"\")","v":0},{"$error":"#DIV/0!"}]
[{"$f":"VLOOKUP(B203,Slåop!A:B,2,FALSE)","v":{"$error":"#N/A"}},829728,{"$f":"IF(B203<>\"\",COUNTIFS(Registion!H:H,B203,Registion!Z:Z,$G$1),\"\")","v":0},{"$f":"IF(B203<>\"\",COUNTIFS(Registion!H:H,B203,Registion!P:P,\">0,9\",Registion!Z:Z,$G$1),\"\")","v":0},{"$error":"#DIV/0!"}]
[{"$f":"VLOOKUP(B204,Slåop!A:B,2,FALSE)","v":{"$error":"#N/A"}},761062,{"$f":"IF(B204<>\"\",COUNTIFS(Registion!H:H,B204,Registion!Z:Z,$G$1),\"\")","v":0},{"$f":"IF(B204<>\"\",COUNTIFS(Registion!H:H,B204,Registion!P:P,\">0,9\",Registion!Z:Z,$G$1),\"\")","v":0},{"$error":"#DIV/0!"}]
[{"$f":"VLOOKUP(B205,Slåop!A:B,2,FALSE)","v":{"$error":"#N/A"}},776496,{"$f":"IF(B205<>\"\",COUNTIFS(Registion!H:H,B205,Registion!Z:Z,$G$1),\"\")","v":0},{"$f":"IF(B205<>\"\",COUNTIFS(Registion!H:H,B205,Registion!P:P,\">0,9\",Registion!Z:Z,$G$1),\"\")","v":0},{"$error":"#DIV/0!"}]
[{"$f":"VLOOKUP(B206,Slåop!A:B,2,FALSE)","v":{"$error":"#N/A"}},817709,{"$f":"IF(B206<>\"\",COUNTIFS(Registion!H:H,B206,Registion!Z:Z,$G$1),\"\")","v":0},{"$f":"IF(B206<>\"\",COUNTIFS(Registion!H:H,B206,Registion!P:P,\">0,9\",Registion!Z:Z,$G$1),\"\")","v":0},{"$error":"#DIV/0!"}]
[{"$f":"VLOOKUP(B207,Slåop!A:B,2,FALSE)","v":{"$error":"#N/A"}},840805,{"$f":"IF(B207<>\"\",COUNTIFS(Registion!H:H,B207,Registion!Z:Z,$G$1),\"\")","v":0},{"$f":"IF(B207<>\"\",COUNTIFS(Registion!H:H,B207,Registion!P:P,\">0,9\",Registion!Z:Z,$G$1),\"\")","v":0},{"$error":"#DIV/0!"}]
[{"$f":"VLOOKUP(B208,Slåop!A:B,2,FALSE)","v":{"$error":"#N/A"}},840733,{"$f":"IF(B208<>\"\",COUNTIFS(Registion!H:H,B208,Registion!Z:Z,$G$1),\"\")","v":0},{"$f":"IF(B208<>\"\",COUNTIFS(Registion!H:H,B208,Registion!P:P,\">0,9\",Registion!Z:Z,$G$1),\"\")","v":0},{"$error":"#DIV/0!"}]
[{"$f":"VLOOKUP(B209,Slåop!A:B,2,FALSE)","v":{"$error":"#N/A"}},838787,{"$f":"IF(B209<>\"\",COUNTIFS(Registion!H:H,B209,Registion!Z:Z,$G$1),\"\")","v":0},{"$f":"IF(B209<>\"\",COUNTIFS(Registion!H:H,B209,Registion!P:P,\">0,9\",Registion!Z:Z,$G$1),\"\")","v":0},{"$error":"#DIV/0!"}]
[{"$f":"VLOOKUP(B210,Slåop!A:B,2,FALSE)","v":{"$error":"#N/A"}},838786,{"$f":"IF(B210<>\"\",COUNTIFS(Registion!H:H,B210,Registion!Z:Z,$G$1),\"\")","v":0},{"$f":"IF(B210<>\"\",COUNTIFS(Registion!H:H,B210,Registion!P:P,\">0,9\",Registion!Z:Z,$G$1),\"\")","v":0},{"$error":"#DIV/0!"}]
[null,783974]
[null,818788]

{"sheet":"Behandlingsdag","index":6,"n_rows":5,"n_cols":12,"rows_kept":5,"cut":false,"hidden":false,"merged":[]}
[]
["Antal behandlingsdage","Samme dag\n0","under 24 timer",2,3,4,"5 eller mere",null,null,null,"Rækkenavne","Antal af Vent dag på Kontrol"]
["antal kontrol",{"$f":"COUNTIFS(Registion!$AC:$AC,\"0\",Registion!$Z:$Z,2015)","v":0},{"$f":"COUNTIFS(Registion!$AC:$AC,\"1\",Registion!$Z:$Z,2015)","v":1},{"$f":"COUNTIFS(Registion!$AC:$AC,\"2\",Registion!$Z:$Z,2015)","v":0},{"$f":"COUNTIFS(Registion!$AC:$AC,\"3\",Registion!$Z:$Z,2015)","v":0},{"$f":"COUNTIFS(Registion!$AC:$AC,\"4\",Registion!$Z:$Z,2015)","v":0},{"$f":"COUNTIFS(Registion!$AC:$AC,\">4,9\",Registion!$Z:$Z,2015)","v":0},{"$f":"SUM(B3:G3)","v":1},null,null,"Hovedtotal"]
["Antal behandlingsdage","Samme dag\n0","under 24 timer",2,3,4,"5 eller mere"]
["antal kontrol",{"$f":"COUNTIFS(Registion!$AC:$AC,\"0\",Registion!$Z:$Z,2016)","v":0},{"$f":"COUNTIFS(Registion!$AC:$AC,\"1\",Registion!$Z:$Z,2016)","v":0},{"$f":"COUNTIFS(Registion!$AC:$AC,\"2\",Registion!$Z:$Z,2016)","v":0},{"$f":"COUNTIFS(Registion!$AC:$AC,\"3\",Registion!$Z:$Z,2016)","v":0},{"$f":"COUNTIFS(Registion!$AC:$AC,\"4\",Registion!$Z:$Z,2016)","v":0},{"$f":"COUNTIFS(Registion!$AC:$AC,\">4,9\",Registion!$Z:$Z,2016)","v":0},{"$f":"SUM(B5:G5)","v":0}]

{"sheet":"Pivot - Error Code","index":7,"n_rows":20,"n_cols":2,"rows_kept":20,"cut":false,"hidden":false,"merged":[]}
["Count of Antal af Fejl \nQTY of NC","Kolonnenavne"]
[null,1]
["Rækkenavne",2015]
["emballage Fejl / packaging Error",1]
[]
[]
[]
[]
[]
[]
[]
[]
[]
[]
[]
[]
[]
[]
[]
["Rækkenavne","Antal af Antal af Fejl \nQTY of NC"]

{"sheet":"Pivot - Supplier","index":8,"n_rows":20,"n_cols":5,"rows_kept":20,"cut":false,"hidden":false,"merged":[]}
["Count of Antal af Fejl \nQTY of NC","Kolonnenavne"]
["Rækkenavne",2,"(tom)",29,30]
["(tom)",1,0,0,0]
[]
[]
[]
[]
[]
[]
[]
[]
[]
[]
[]
[]
[]
[]
["Antal af Fejl \nQTY of NC","(Alle)"]
[]
["Rækkenavne","Sum af Antal af Fejl "]

{"sheet":"Pivot - antal","index":9,"n_rows":29,"n_cols":4,"rows_kept":29,"cut":false,"hidden":false,"merged":[]}
["Rækkenavne","Antal Fejl emner ","Antal test","Antal Emner til kontrol"]
[14,0,0,0]
[15,0,0,0]
[16,0,0,0]
[17,0,0,0]
[18,0,0,0]
[19,0,0,0]
[20,0,0,0]
[21,0,0,0]
[22,0,0,0]
["Hovedtotal",0,0,0]
[]
[]
[]
[]
[]
[]
[]
[]
[]
[]
[]
["Rækkenavne","Sum af emner til kontrol i MD","Sum af Fejl emner pr MD","Sum af Antal test gang pr MD"]
[18]
[19]
[20]
[21]
[22]
["Hovedtotal"]

{"sheet":"Pivot antal fejl-emne","index":10,"n_rows":2,"n_cols":3,"rows_kept":2,"cut":false,"hidden":false,"merged":[]}
["Rækkenavne","Antal med Fejl ","Antal prøver"]
["Hovedtotal"]

{"sheet":"Antal kontroller","index":11,"n_rows":4,"n_cols":4,"rows_kept":4,"cut":false,"hidden":false,"merged":[]}
[]
[]
["Rækkenavne","Sum af Antal af Fejl ","Sum af AQL","Sum af QTY of batch"]
["Hovedtotal"]

{"sheet":"Antal test og emner","index":12,"n_rows":53,"n_cols":11,"rows_kept":53,"cut":false,"hidden":false,"merged":[]}
["UGE nr.","emner til kontrol i uge","Fejl emner ","Antal test gang","Måned","emner til kontrol i MD","Fejl emner pr MD","Antal test gang pr MD","TOM","TOM1",2016]
[1,{"$f":"SUMIFS(Registion!N:N,Registion!AB:AB,A2,Registion!Z:Z,$K$1)","v":0},{"$f":"SUMIFS(Registion!P:P,Registion!AB:AB,A2,Registion!Z:Z,$K$1,Registion!P:P,\">0,5\")","v":0},{"$f":"COUNTIFS(Registion!AB:AB,A2,Registion!Z:Z,$K$1)","v":0},"JAN",{"$f":"SUMIFS(Registion!N:N,Registion!AA:AA,A2,Registion!Z:Z,$K$1)","v":0},{"$f":"SUMIFS(Registion!P:P,Registion!AA:AA,A2,Registion!Z:Z,$K$1,Registion!P:P,\">0,5\")","v":0},{"$f":"COUNTIFS(Registion!AA:AA,A2,Registion!Z:Z,$K$1)","v":0}]
[2,{"$f":"SUMIFS(Registion!N:N,Registion!AB:AB,A3,Registion!Z:Z,$K$1)","v":0},{"$f":"SUMIFS(Registion!P:P,Registion!AB:AB,A3,Registion!Z:Z,$K$1,Registion!P:P,\">0,5\")","v":0},{"$f":"COUNTIFS(Registion!AB:AB,A3,Registion!Z:Z,$K$1)","v":0},"FEB",{"$f":"SUMIFS(Registion!N:N,Registion!AA:AA,A3,Registion!Z:Z,$K$1)","v":0},{"$f":"SUMIFS(Registion!P:P,Registion!AA:AA,A3,Registion!Z:Z,$K$1,Registion!P:P,\">0,5\")","v":0},{"$f":"COUNTIFS(Registion!AA:AA,A3,Registion!Z:Z,$K$1)","v":0}]
[3,{"$f":"SUMIFS(Registion!N:N,Registion!AB:AB,A4,Registion!Z:Z,$K$1)","v":0},{"$f":"SUMIFS(Registion!P:P,Registion!AB:AB,A4,Registion!Z:Z,$K$1,Registion!P:P,\">0,5\")","v":0},{"$f":"COUNTIFS(Registion!AB:AB,A4,Registion!Z:Z,$K$1)","v":0},"MAR",{"$f":"SUMIFS(Registion!N:N,Registion!AA:AA,A4,Registion!Z:Z,$K$1)","v":0},{"$f":"SUMIFS(Registion!P:P,Registion!AA:AA,A4,Registion!Z:Z,$K$1,Registion!P:P,\">0,5\")","v":0},{"$f":"COUNTIFS(Registion!AA:AA,A4,Registion!Z:Z,$K$1)","v":0}]
[4,{"$f":"SUMIFS(Registion!N:N,Registion!AB:AB,A5,Registion!Z:Z,$K$1)","v":0},{"$f":"SUMIFS(Registion!P:P,Registion!AB:AB,A5,Registion!Z:Z,$K$1,Registion!P:P,\">0,5\")","v":0},{"$f":"COUNTIFS(Registion!AB:AB,A5,Registion!Z:Z,$K$1)","v":0},"APR",{"$f":"SUMIFS(Registion!N:N,Registion!AA:AA,A5,Registion!Z:Z,$K$1)","v":0},{"$f":"SUMIFS(Registion!P:P,Registion!AA:AA,A5,Registion!Z:Z,$K$1,Registion!P:P,\">0,5\")","v":0},{"$f":"COUNTIFS(Registion!AA:AA,A5,Registion!Z:Z,$K$1)","v":0}]
[5,{"$f":"SUMIFS(Registion!N:N,Registion!AB:AB,A6,Registion!Z:Z,$K$1)","v":0},{"$f":"SUMIFS(Registion!P:P,Registion!AB:AB,A6,Registion!Z:Z,$K$1,Registion!P:P,\">0,5\")","v":0},{"$f":"COUNTIFS(Registion!AB:AB,A6,Registion!Z:Z,$K$1)","v":0},"MAJ",{"$f":"SUMIFS(Registion!N:N,Registion!AA:AA,A6,Registion!Z:Z,$K$1)","v":0},{"$f":"SUMIFS(Registion!P:P,Registion!AA:AA,A6,Registion!Z:Z,$K$1,Registion!P:P,\">0,5\")","v":0},{"$f":"COUNTIFS(Registion!AA:AA,A6,Registion!Z:Z,$K$1)","v":0}]
[6,{"$f":"SUMIFS(Registion!N:N,Registion!AB:AB,A7,Registion!Z:Z,$K$1)","v":0},{"$f":"SUMIFS(Registion!P:P,Registion!AB:AB,A7,Registion!Z:Z,$K$1,Registion!P:P,\">0,5\")","v":0},{"$f":"COUNTIFS(Registion!AB:AB,A7,Registion!Z:Z,$K$1)","v":0},"JUN",{"$f":"SUMIFS(Registion!N:N,Registion!AA:AA,A7,Registion!Z:Z,$K$1)","v":0},{"$f":"SUMIFS(Registion!P:P,Registion!AA:AA,A7,Registion!Z:Z,$K$1,Registion!P:P,\">0,5\")","v":0},{"$f":"COUNTIFS(Registion!AA:AA,A7,Registion!Z:Z,$K$1)","v":0}]
[7,{"$f":"SUMIFS(Registion!N:N,Registion!AB:AB,A8,Registion!Z:Z,$K$1)","v":0},{"$f":"SUMIFS(Registion!P:P,Registion!AB:AB,A8,Registion!Z:Z,$K$1,Registion!P:P,\">0,5\")","v":0},{"$f":"COUNTIFS(Registion!AB:AB,A8,Registion!Z:Z,$K$1)","v":0},"JUL",{"$f":"SUMIFS(Registion!N:N,Registion!AA:AA,A8,Registion!Z:Z,$K$1)","v":0},{"$f":"SUMIFS(Registion!P:P,Registion!AA:AA,A8,Registion!Z:Z,$K$1,Registion!P:P,\">0,5\")","v":0},{"$f":"COUNTIFS(Registion!AA:AA,A8,Registion!Z:Z,$K$1)","v":0}]
[8,{"$f":"SUMIFS(Registion!N:N,Registion!AB:AB,A9,Registion!Z:Z,$K$1)","v":0},{"$f":"SUMIFS(Registion!P:P,Registion!AB:AB,A9,Registion!Z:Z,$K$1,Registion!P:P,\">0,5\")","v":0},{"$f":"COUNTIFS(Registion!AB:AB,A9,Registion!Z:Z,$K$1)","v":0},"SEP",{"$f":"SUMIFS(Registion!N:N,Registion!AA:AA,A9,Registion!Z:Z,$K$1)","v":0},{"$f":"SUMIFS(Registion!P:P,Registion!AA:AA,A9,Registion!Z:Z,$K$1,Registion!P:P,\">0,5\")","v":0},{"$f":"COUNTIFS(Registion!AA:AA,A9,Registion!Z:Z,$K$1)","v":0}]
[9,{"$f":"SUMIFS(Registion!N:N,Registion!AB:AB,A10,Registion!Z:Z,$K$1)","v":0},{"$f":"SUMIFS(Registion!P:P,Registion!AB:AB,A10,Registion!Z:Z,$K$1,Registion!P:P,\">0,5\")","v":0},{"$f":"COUNTIFS(Registion!AB:AB,A10,Registion!Z:Z,$K$1)","v":0},"OKT",{"$f":"SUMIFS(Registion!N:N,Registion!AA:AA,A10,Registion!Z:Z,$K$1)","v":0},{"$f":"SUMIFS(Registion!P:P,Registion!AA:AA,A10,Registion!Z:Z,$K$1,Registion!P:P,\">0,5\")","v":0},{"$f":"COUNTIFS(Registion!AA:AA,A10,Registion!Z:Z,$K$1)","v":0}]
[10,{"$f":"SUMIFS(Registion!N:N,Registion!AB:AB,A11,Registion!Z:Z,$K$1)","v":0},{"$f":"SUMIFS(Registion!P:P,Registion!AB:AB,A11,Registion!Z:Z,$K$1,Registion!P:P,\">0,5\")","v":0},{"$f":"COUNTIFS(Registion!AB:AB,A11,Registion!Z:Z,$K$1)","v":0},"NOV",{"$f":"SUMIFS(Registion!N:N,Registion!AA:AA,A11,Registion!Z:Z,$K$1)","v":0},{"$f":"SUMIFS(Registion!P:P,Registion!AA:AA,A11,Registion!Z:Z,$K$1,Registion!P:P,\">0,5\")","v":0},{"$f":"COUNTIFS(Registion!AA:AA,A11,Registion!Z:Z,$K$1)","v":0}]
[11,{"$f":"SUMIFS(Registion!N:N,Registion!AB:AB,A12,Registion!Z:Z,$K$1)","v":0},{"$f":"SUMIFS(Registion!P:P,Registion!AB:AB,A12,Registion!Z:Z,$K$1,Registion!P:P,\">0,5\")","v":0},{"$f":"COUNTIFS(Registion!AB:AB,A12,Registion!Z:Z,$K$1)","v":0},"DEC",{"$f":"SUMIFS(Registion!N:N,Registion!AA:AA,A12,Registion!Z:Z,$K$1)","v":0},{"$f":"SUMIFS(Registion!P:P,Registion!AA:AA,A12,Registion!Z:Z,$K$1,Registion!P:P,\">0,5\")","v":0},{"$f":"COUNTIFS(Registion!AA:AA,A12,Registion!Z:Z,$K$1)","v":0}]
[12,{"$f":"SUMIFS(Registion!N:N,Registion!AB:AB,A13,Registion!Z:Z,$K$1)","v":0},{"$f":"SUMIFS(Registion!P:P,Registion!AB:AB,A13,Registion!Z:Z,$K$1,Registion!P:P,\">0,5\")","v":0},{"$f":"COUNTIFS(Registion!AB:AB,A13,Registion!Z:Z,$K$1)","v":0}]
[13,{"$f":"SUMIFS(Registion!N:N,Registion!AB:AB,A14,Registion!Z:Z,$K$1)","v":0},{"$f":"SUMIFS(Registion!P:P,Registion!AB:AB,A14,Registion!Z:Z,$K$1,Registion!P:P,\">0,5\")","v":0},{"$f":"COUNTIFS(Registion!AB:AB,A14,Registion!Z:Z,$K$1)","v":0}]
[14,{"$f":"SUMIFS(Registion!N:N,Registion!AB:AB,A15,Registion!Z:Z,$K$1)","v":0},{"$f":"SUMIFS(Registion!P:P,Registion!AB:AB,A15,Registion!Z:Z,$K$1,Registion!P:P,\">0,5\")","v":0},{"$f":"COUNTIFS(Registion!AB:AB,A15,Registion!Z:Z,$K$1)","v":0}]
[15,{"$f":"SUMIFS(Registion!N:N,Registion!AB:AB,A16,Registion!Z:Z,$K$1)","v":0},{"$f":"SUMIFS(Registion!P:P,Registion!AB:AB,A16,Registion!Z:Z,$K$1,Registion!P:P,\">0,5\")","v":0},{"$f":"COUNTIFS(Registion!AB:AB,A16,Registion!Z:Z,$K$1)","v":0}]
[16,{"$f":"SUMIFS(Registion!N:N,Registion!AB:AB,A17,Registion!Z:Z,$K$1)","v":0},{"$f":"SUMIFS(Registion!P:P,Registion!AB:AB,A17,Registion!Z:Z,$K$1,Registion!P:P,\">0,5\")","v":0},{"$f":"COUNTIFS(Registion!AB:AB,A17,Registion!Z:Z,$K$1)","v":0}]
[17,{"$f":"SUMIFS(Registion!N:N,Registion!AB:AB,A18,Registion!Z:Z,$K$1)","v":0},{"$f":"SUMIFS(Registion!P:P,Registion!AB:AB,A18,Registion!Z:Z,$K$1,Registion!P:P,\">0,5\")","v":0},{"$f":"COUNTIFS(Registion!AB:AB,A18,Registion!Z:Z,$K$1)","v":0},null,"Rækkenavne","Sum af emner til kontrol i MD","Sum af Fejl emner pr MD","Sum af Antal test gang pr MD"]
[18,{"$f":"SUMIFS(Registion!N:N,Registion!AB:AB,A19,Registion!Z:Z,$K$1)","v":0},{"$f":"SUMIFS(Registion!P:P,Registion!AB:AB,A19,Registion!Z:Z,$K$1,Registion!P:P,\">0,5\")","v":0},{"$f":"COUNTIFS(Registion!AB:AB,A19,Registion!Z:Z,$K$1)","v":0},null,"APR",0,0,0]
[19,{"$f":"SUMIFS(Registion!N:N,Registion!AB:AB,A20,Registion!Z:Z,$K$1)","v":0},{"$f":"SUMIFS(Registion!P:P,Registion!AB:AB,A20,Registion!Z:Z,$K$1,Registion!P:P,\">0,5\")","v":0},{"$f":"COUNTIFS(Registion!AB:AB,A20,Registion!Z:Z,$K$1)","v":0},null,"MAJ",0,0,0]
[20,{"$f":"SUMIFS(Registion!N:N,Registion!AB:AB,A21,Registion!Z:Z,$K$1)","v":0},{"$f":"SUMIFS(Registion!P:P,Registion!AB:AB,A21,Registion!Z:Z,$K$1,Registion!P:P,\">0,5\")","v":0},{"$f":"COUNTIFS(Registion!AB:AB,A21,Registion!Z:Z,$K$1)","v":0},null,"JUN",0,0,0]
[21,{"$f":"SUMIFS(Registion!N:N,Registion!AB:AB,A22,Registion!Z:Z,$K$1)","v":0},{"$f":"SUMIFS(Registion!P:P,Registion!AB:AB,A22,Registion!Z:Z,$K$1,Registion!P:P,\">0,5\")","v":0},{"$f":"COUNTIFS(Registion!AB:AB,A22,Registion!Z:Z,$K$1)","v":0},null,"Hovedtotal",0,0,0]
[22,{"$f":"SUMIFS(Registion!N:N,Registion!AB:AB,A23,Registion!Z:Z,$K$1)","v":0},{"$f":"SUMIFS(Registion!P:P,Registion!AB:AB,A23,Registion!Z:Z,$K$1,Registion!P:P,\">0,5\")","v":0},{"$f":"COUNTIFS(Registion!AB:AB,A23,Registion!Z:Z,$K$1)","v":0}]
[23,{"$f":"SUMIFS(Registion!N:N,Registion!AB:AB,A24,Registion!Z:Z,$K$1)","v":0},{"$f":"SUMIFS(Registion!P:P,Registion!AB:AB,A24,Registion!Z:Z,$K$1,Registion!P:P,\">0,5\")","v":0},{"$f":"COUNTIFS(Registion!AB:AB,A24,Registion!Z:Z,$K$1)","v":0}]
[24,{"$f":"SUMIFS(Registion!N:N,Registion!AB:AB,A25,Registion!Z:Z,$K$1)","v":0},{"$f":"SUMIFS(Registion!P:P,Registion!AB:AB,A25,Registion!Z:Z,$K$1,Registion!P:P,\">0,5\")","v":0},{"$f":"COUNTIFS(Registion!AB:AB,A25,Registion!Z:Z,$K$1)","v":0}]
[25,{"$f":"SUMIFS(Registion!N:N,Registion!AB:AB,A26,Registion!Z:Z,$K$1)","v":0},{"$f":"SUMIFS(Registion!P:P,Registion!AB:AB,A26,Registion!Z:Z,$K$1,Registion!P:P,\">0,5\")","v":0},{"$f":"COUNTIFS(Registion!AB:AB,A26,Registion!Z:Z,$K$1)","v":0}]
[26,{"$f":"SUMIFS(Registion!N:N,Registion!AB:AB,A27,Registion!Z:Z,$K$1)","v":0},{"$f":"SUMIFS(Registion!P:P,Registion!AB:AB,A27,Registion!Z:Z,$K$1,Registion!P:P,\">0,5\")","v":0},{"$f":"COUNTIFS(Registion!AB:AB,A27,Registion!Z:Z,$K$1)","v":0}]
[27,{"$f":"SUMIFS(Registion!N:N,Registion!AB:AB,A28,Registion!Z:Z,$K$1)","v":0},{"$f":"SUMIFS(Registion!P:P,Registion!AB:AB,A28,Registion!Z:Z,$K$1,Registion!P:P,\">0,5\")","v":0},{"$f":"COUNTIFS(Registion!AB:AB,A28,Registion!Z:Z,$K$1)","v":0}]
[28,{"$f":"SUMIFS(Registion!N:N,Registion!AB:AB,A29,Registion!Z:Z,$K$1)","v":0},{"$f":"SUMIFS(Registion!P:P,Registion!AB:AB,A29,Registion!Z:Z,$K$1,Registion!P:P,\">0,5\")","v":0},{"$f":"COUNTIFS(Registion!AB:AB,A29,Registion!Z:Z,$K$1)","v":0}]
[29,{"$f":"SUMIFS(Registion!N:N,Registion!AB:AB,A30,Registion!Z:Z,$K$1)","v":0},{"$f":"SUMIFS(Registion!P:P,Registion!AB:AB,A30,Registion!Z:Z,$K$1,Registion!P:P,\">0,5\")","v":0},{"$f":"COUNTIFS(Registion!AB:AB,A30,Registion!Z:Z,$K$1)","v":0}]
[30,{"$f":"SUMIFS(Registion!N:N,Registion!AB:AB,A31,Registion!Z:Z,$K$1)","v":0},{"$f":"SUMIFS(Registion!P:P,Registion!AB:AB,A31,Registion!Z:Z,$K$1,Registion!P:P,\">0,5\")","v":0},{"$f":"COUNTIFS(Registion!AB:AB,A31,Registion!Z:Z,$K$1)","v":0}]
[31,{"$f":"SUMIFS(Registion!N:N,Registion!AB:AB,A32,Registion!Z:Z,$K$1)","v":0},{"$f":"SUMIFS(Registion!P:P,Registion!AB:AB,A32,Registion!Z:Z,$K$1,Registion!P:P,\">0,5\")","v":0},{"$f":"COUNTIFS(Registion!AB:AB,A32,Registion!Z:Z,$K$1)","v":0}]
[32,{"$f":"SUMIFS(Registion!N:N,Registion!AB:AB,A33,Registion!Z:Z,$K$1)","v":0},{"$f":"SUMIFS(Registion!P:P,Registion!AB:AB,A33,Registion!Z:Z,$K$1,Registion!P:P,\">0,5\")","v":0},{"$f":"COUNTIFS(Registion!AB:AB,A33,Registion!Z:Z,$K$1)","v":0}]
[33,{"$f":"SUMIFS(Registion!N:N,Registion!AB:AB,A34,Registion!Z:Z,$K$1)","v":0},{"$f":"SUMIFS(Registion!P:P,Registion!AB:AB,A34,Registion!Z:Z,$K$1,Registion!P:P,\">0,5\")","v":0},{"$f":"COUNTIFS(Registion!AB:AB,A34,Registion!Z:Z,$K$1)","v":0}]
[34,{"$f":"SUMIFS(Registion!N:N,Registion!AB:AB,A35,Registion!Z:Z,$K$1)","v":0},{"$f":"SUMIFS(Registion!P:P,Registion!AB:AB,A35,Registion!Z:Z,$K$1,Registion!P:P,\">0,5\")","v":0},{"$f":"COUNTIFS(Registion!AB:AB,A35,Registion!Z:Z,$K$1)","v":0}]
[35,{"$f":"SUMIFS(Registion!N:N,Registion!AB:AB,A36,Registion!Z:Z,$K$1)","v":0},{"$f":"SUMIFS(Registion!P:P,Registion!AB:AB,A36,Registion!Z:Z,$K$1,Registion!P:P,\">0,5\")","v":0},{"$f":"COUNTIFS(Registion!AB:AB,A36,Registion!Z:Z,$K$1)","v":0}]
[36,{"$f":"SUMIFS(Registion!N:N,Registion!AB:AB,A37,Registion!Z:Z,$K$1)","v":0},{"$f":"SUMIFS(Registion!P:P,Registion!AB:AB,A37,Registion!Z:Z,$K$1,Registion!P:P,\">0,5\")","v":0},{"$f":"COUNTIFS(Registion!AB:AB,A37,Registion!Z:Z,$K$1)","v":0}]
[37,{"$f":"SUMIFS(Registion!N:N,Registion!AB:AB,A38,Registion!Z:Z,$K$1)","v":0},{"$f":"SUMIFS(Registion!P:P,Registion!AB:AB,A38,Registion!Z:Z,$K$1,Registion!P:P,\">0,5\")","v":0},{"$f":"COUNTIFS(Registion!AB:AB,A38,Registion!Z:Z,$K$1)","v":0}]
[38,{"$f":"SUMIFS(Registion!N:N,Registion!AB:AB,A39,Registion!Z:Z,$K$1)","v":0},{"$f":"SUMIFS(Registion!P:P,Registion!AB:AB,A39,Registion!Z:Z,$K$1,Registion!P:P,\">0,5\")","v":0},{"$f":"COUNTIFS(Registion!AB:AB,A39,Registion!Z:Z,$K$1)","v":0}]
[39,{"$f":"SUMIFS(Registion!N:N,Registion!AB:AB,A40,Registion!Z:Z,$K$1)","v":0},{"$f":"SUMIFS(Registion!P:P,Registion!AB:AB,A40,Registion!Z:Z,$K$1,Registion!P:P,\">0,5\")","v":0},{"$f":"COUNTIFS(Registion!AB:AB,A40,Registion!Z:Z,$K$1)","v":0}]
[40,{"$f":"SUMIFS(Registion!N:N,Registion!AB:AB,A41,Registion!Z:Z,$K$1)","v":0},{"$f":"SUMIFS(Registion!P:P,Registion!AB:AB,A41,Registion!Z:Z,$K$1,Registion!P:P,\">0,5\")","v":0},{"$f":"COUNTIFS(Registion!AB:AB,A41,Registion!Z:Z,$K$1)","v":0}]
[41,{"$f":"SUMIFS(Registion!N:N,Registion!AB:AB,A42,Registion!Z:Z,$K$1)","v":0},{"$f":"SUMIFS(Registion!P:P,Registion!AB:AB,A42,Registion!Z:Z,$K$1,Registion!P:P,\">0,5\")","v":0},{"$f":"COUNTIFS(Registion!AB:AB,A42,Registion!Z:Z,$K$1)","v":0}]
[42,{"$f":"SUMIFS(Registion!N:N,Registion!AB:AB,A43,Registion!Z:Z,$K$1)","v":0},{"$f":"SUMIFS(Registion!P:P,Registion!AB:AB,A43,Registion!Z:Z,$K$1,Registion!P:P,\">0,5\")","v":0},{"$f":"COUNTIFS(Registion!AB:AB,A43,Registion!Z:Z,$K$1)","v":0}]
[43,{"$f":"SUMIFS(Registion!N:N,Registion!AB:AB,A44,Registion!Z:Z,$K$1)","v":0},{"$f":"SUMIFS(Registion!P:P,Registion!AB:AB,A44,Registion!Z:Z,$K$1,Registion!P:P,\">0,5\")","v":0},{"$f":"COUNTIFS(Registion!AB:AB,A44,Registion!Z:Z,$K$1)","v":0}]
[44,{"$f":"SUMIFS(Registion!N:N,Registion!AB:AB,A45,Registion!Z:Z,$K$1)","v":0},{"$f":"SUMIFS(Registion!P:P,Registion!AB:AB,A45,Registion!Z:Z,$K$1,Registion!P:P,\">0,5\")","v":0},{"$f":"COUNTIFS(Registion!AB:AB,A45,Registion!Z:Z,$K$1)","v":0}]
[45,{"$f":"SUMIFS(Registion!N:N,Registion!AB:AB,A46,Registion!Z:Z,$K$1)","v":0},{"$f":"SUMIFS(Registion!P:P,Registion!AB:AB,A46,Registion!Z:Z,$K$1,Registion!P:P,\">0,5\")","v":0},{"$f":"COUNTIFS(Registion!AB:AB,A46,Registion!Z:Z,$K$1)","v":0}]
[46,{"$f":"SUMIFS(Registion!N:N,Registion!AB:AB,A47,Registion!Z:Z,$K$1)","v":0},{"$f":"SUMIFS(Registion!P:P,Registion!AB:AB,A47,Registion!Z:Z,$K$1,Registion!P:P,\">0,5\")","v":0},{"$f":"COUNTIFS(Registion!AB:AB,A47,Registion!Z:Z,$K$1)","v":0}]
[47,{"$f":"SUMIFS(Registion!N:N,Registion!AB:AB,A48,Registion!Z:Z,$K$1)","v":0},{"$f":"SUMIFS(Registion!P:P,Registion!AB:AB,A48,Registion!Z:Z,$K$1,Registion!P:P,\">0,5\")","v":0},{"$f":"COUNTIFS(Registion!AB:AB,A48,Registion!Z:Z,$K$1)","v":0}]
[48,{"$f":"SUMIFS(Registion!N:N,Registion!AB:AB,A49,Registion!Z:Z,$K$1)","v":0},{"$f":"SUMIFS(Registion!P:P,Registion!AB:AB,A49,Registion!Z:Z,$K$1,Registion!P:P,\">0,5\")","v":0},{"$f":"COUNTIFS(Registion!AB:AB,A49,Registion!Z:Z,$K$1)","v":0}]
[49,{"$f":"SUMIFS(Registion!N:N,Registion!AB:AB,A50,Registion!Z:Z,$K$1)","v":0},{"$f":"SUMIFS(Registion!P:P,Registion!AB:AB,A50,Registion!Z:Z,$K$1,Registion!P:P,\">0,5\")","v":0},{"$f":"COUNTIFS(Registion!AB:AB,A50,Registion!Z:Z,$K$1)","v":0}]
[50,{"$f":"SUMIFS(Registion!N:N,Registion!AB:AB,A51,Registion!Z:Z,$K$1)","v":0},{"$f":"SUMIFS(Registion!P:P,Registion!AB:AB,A51,Registion!Z:Z,$K$1,Registion!P:P,\">0,5\")","v":0},{"$f":"COUNTIFS(Registion!AB:AB,A51,Registion!Z:Z,$K$1)","v":0}]
[51,{"$f":"SUMIFS(Registion!N:N,Registion!AB:AB,A52,Registion!Z:Z,$K$1)","v":0},{"$f":"SUMIFS(Registion!P:P,Registion!AB:AB,A52,Registion!Z:Z,$K$1,Registion!P:P,\">0,5\")","v":0},{"$f":"COUNTIFS(Registion!AB:AB,A52,Registion!Z:Z,$K$1)","v":0}]
[52,{"$f":"SUMIFS(Registion!N:N,Registion!AB:AB,A53,Registion!Z:Z,$K$1)","v":0},{"$f":"SUMIFS(Registion!P:P,Registion!AB:AB,A53,Registion!Z:Z,$K$1,Registion!P:P,\">0,5\")","v":0},{"$f":"COUNTIFS(Registion!AB:AB,A53,Registion!Z:Z,$K$1)","v":0}]

{"sheet":"Ordre kommet i 2016","index":13,"n_rows":4285,"n_cols":1,"rows_kept":4285,"cut":false,"hidden":false,"merged":[]}
[]
[]
[{"$f":"IF(B3<>\"\",LEFT(C3,6),\"\")","v":""}]
[{"$f":"IF(B4<>\"\",LEFT(C4,6),\"\")","v":""}]
[""]
[""]
[""]
[""]
[""]
[""]
[""]
[""]
[""]
[""]
[""]
[""]
[""]
[""]
[""]
[""]
[""]
[""]
[""]
[""]
[""]
[""]
[""]
[""]
[""]
[""]
[""]
[""]
[""]
[""]
[""]
[""]
[""]
[""]
[""]
[""]
[""]
[""]
[""]
[""]
[""]
[""]
[""]
[""]
[""]
[""]
[""]
[""]
[""]
[""]
[""]
[""]
[""]
[""]
[""]
[""]
[""]
[""]
[""]
[""]
[""]
[""]
[""]
[{"$f":"IF(B68<>\"\",LEFT(C68,6),\"\")","v":""}]
[""]
[""]
[""]
[""]
[""]
[""]
[""]
[""]
[""]
[""]
[""]
[""]
[""]
[""]
[""]
[""]
[""]
[""]
[""]
[""]
[""]
[""]
[""]
[""]
[""]
[""]
[""]
[""]
[""]
[""]
[""]
[""]
[""]
[""]
[""]
[""]
[""]
[""]
[""]
[""]
[""]
[""]
[""]
[""]
[""]
[""]
[""]
[""]
[""]
[""]
[""]
[""]
[""]
[""]
[""]
[""]
[""]
[""]
[""]
[""]
[""]
[""]
[""]
[{"$f":"IF(B132<>\"\",LEFT(C132,6),\"\")","v":""}]
[""]
[""]
[""]
[""]
[""]
[""]
[""]
[""]
[""]
[""]
[""]
[""]
[""]
[""]
[""]
[""]
[""]
[""]
[""]
[""]
[""]
[""]
[""]
[""]
[""]
[""]
[""]
[""]
[""]
[""]
[""]
[""]
[""]
[""]
[""]
[""]
[""]
[""]
[""]
[""]
[""]
[""]
[""]
[""]
[""]
[""]
[""]
[""]
[""]
[""]
[""]
[""]
[""]
[""]
[""]
[""]
[""]
[""]
[""]
[""]
[""]
[""]
[""]
[{"$f":"IF(B196<>\"\",LEFT(C196,6),\"\")","v":""}]
[""]
[""]
[""]
[""]
[""]
[""]
[""]
[""]
[""]
[""]
[""]
[""]
[""]
[""]
[""]
[""]
[""]
[""]
[""]
[""]
[""]
[""]
[""]
[""]
[""]
[""]
[""]
[""]
[""]
[""]
[""]
[""]
[""]
[""]
[""]
[""]
[""]
[""]
[""]
[""]
[""]
[""]
[""]
[""]
[""]
[""]
[""]
[""]
[""]
[""]
[""]
[""]
[""]
[""]
[""]
[""]
[""]
[""]
[""]
[""]
[""]
[""]
[""]
[{"$f":"IF(B260<>\"\",LEFT(C260,6),\"\")","v":""}]
[""]
[""]
[""]
[""]
[""]
[""]
[""]
[""]
[""]
[""]
[""]
[""]
[""]
[""]
[""]
[""]
[""]
[""]
[""]
[""]
[""]
[""]
[""]
[""]
[""]
[""]
[""]
[""]
[""]
[""]
[""]
[""]
[""]
[""]
[""]
[""]
[""]
[""]
[""]
[""]
[""]
[""]
[""]
[""]
[""]
[""]
[""]
[""]
[""]
[""]
[""]
[""]
[""]
[""]
[""]
[""]
[""]
[""]
[""]
[""]
[""]
[""]
[""]
[{"$f":"IF(B324<>\"\",LEFT(C324,6),\"\")","v":""}]
[""]
[""]
[""]
[""]
[""]
[""]
[""]
[""]
[""]
[""]
[""]
[""]
[""]
[""]
[""]
[""]
[""]
[""]
[""]
[""]
[""]
[""]
[""]
[""]
[""]
[""]
[""]
[""]
[""]
[""]
[""]
[""]
[""]
[""]
[""]
[""]
[""]
[""]
[""]
[""]
[""]
[""]
[""]
[""]
[""]
[""]
[""]
[""]
[""]
[""]
[""]
[""]
[""]
[""]
[""]
[""]
[""]
[""]
[""]
[""]
[""]
[""]
[""]
[{"$f":"IF(B388<>\"\",LEFT(C388,6),\"\")","v":""}]
[""]
[""]
[""]
[""]
[""]
[""]
[""]
[""]
[""]
[""]
[""]
[""]
[""]
[""]
[""]
[""]
[""]
[""]
[""]
[""]
[""]
[""]
[""]
[""]
[""]
[""]
[""]
[""]
[""]
[""]
[""]
[""]
[""]
[""]
[""]
[""]
[""]
[""]
[""]
[""]
[""]
[""]
[""]
[""]
[""]
[""]
[""]
[""]
[""]
[""]
[""]
[""]
[""]
[""]
[""]
[""]
[""]
[""]
[""]
[""]
[""]
[""]
[""]
[{"$f":"IF(B452<>\"\",LEFT(C452,6),\"\")","v":""}]
[""]
[""]
[""]
[""]
[""]
[""]
[""]
[""]
[""]
[""]
[""]
[""]
[""]
[""]
[""]
[""]
[""]
[""]
[""]
[""]
[""]
[""]
[""]
[""]
[""]
[""]
[""]
[""]
[""]
[""]
[""]
[""]
[""]
[""]
[""]
[""]
[""]
[""]
[""]
[""]
[""]
[""]
[""]
[""]
[""]
[""]
[""]
[""]
[""]
[""]
[""]
[""]
[""]
[""]
[""]
[""]
[""]
[""]
[""]
[""]
[""]
[""]
[""]
[{"$f":"IF(B516<>\"\",LEFT(C516,6),\"\")","v":""}]
[""]
[""]
[""]
[""]
[""]
[""]
[""]
[""]
[""]
[""]
[""]
[""]
[""]
[""]
[""]
[""]
[""]
[""]
[""]
[""]
[""]
[""]
[""]
[""]
[""]
[""]
[""]
[""]
[""]
[""]
[""]
[""]
[""]
[""]
[""]
[""]
[""]
[""]
[""]
[""]
[""]
[""]
[""]
[""]
[""]
[""]
[""]
[""]
[""]
[""]
[""]
[""]
[""]
[""]
[""]
[""]
[""]
[""]
[""]
[""]
[""]
[""]
[""]
[{"$f":"IF(B580<>\"\",LEFT(C580,6),\"\")","v":""}]
[""]
[""]
[""]
[""]
[""]
[""]
[""]
[""]
[""]
[""]
[""]
[""]
[""]
[""]
[""]
[""]
[""]
[""]
[""]
[""]
[""]
[""]
[""]
[""]
[""]
[""]
[""]
[""]
[""]
[""]
[""]
[""]
[""]
[""]
[""]
[""]
[""]
[""]
[""]
[""]
[""]
[""]
[""]
[""]
[""]
[""]
[""]
[""]
[""]
[""]
[""]
[""]
[""]
[""]
[""]
[""]
[""]
[""]
[""]
[""]
[""]
[""]
[""]
[{"$f":"IF(B644<>\"\",LEFT(C644,6),\"\")","v":""}]
[""]
[""]
[""]
[""]
[""]
[""]
[""]
[""]
[""]
[""]
[""]
[""]
[""]
[""]
[""]
[""]
[""]
[""]
[""]
[""]
[""]
[""]
[""]
[""]
[""]
[""]
[""]
[""]
[""]
[""]
[""]
[""]
[""]
[""]
[""]
[""]
[""]
[""]
[""]
[""]
[""]
[""]
[""]
[""]
[""]
[""]
[""]
[""]
[""]
[""]
[""]
[""]
[""]
[""]
[""]
[""]
[""]
[""]
[""]
[""]
[""]
[""]
[""]
[{"$f":"IF(B708<>\"\",LEFT(C708,6),\"\")","v":""}]
[""]
[""]
[""]
[""]
[""]
[""]
[""]
[""]
[""]
[""]
[""]
[""]
[""]
[""]
[""]
[""]
[""]
[""]
[""]
[""]
[""]
[""]
[""]
[""]
[""]
[""]
[""]
[""]
[""]
[""]
[""]
[""]
[""]
[""]
[""]
[""]
[""]
[""]
[""]
[""]
[""]
[""]
[""]
[""]
[""]
[""]
[""]
[""]
[""]
[""]
[""]
[""]
[""]
[{"$f":"IF(B762<>\"\",LEFT(C762,6),\"\")","v":""}]
[""]
[""]
[""]
[""]
[""]
[""]
[""]
[""]
[""]
[{"$f":"IF(B772<>\"\",LEFT(C772,6),\"\")","v":""}]
[""]
[""]
[""]
[""]
[""]
[""]
[""]
[""]
[""]
[""]
[""]
[""]
[""]
[""]
[""]
[""]
[""]
[""]
[""]
[""]
[""]
[""]
[""]
[""]
[""]
[""]
[""]
[""]
[""]
[""]
[""]
[""]
[""]
[""]
[""]
[""]
[""]
[""]
[""]
[""]
[""]
[""]
[""]
[""]
[""]
[""]
[""]
[""]
[""]
[""]
[""]
[""]
[""]
[""]
[""]
[""]
[""]
[""]
[""]
[""]
[""]
[""]
[""]
[{"$f":"IF(B836<>\"\",LEFT(C836,6),\"\")","v":""}]
[""]
[""]
[""]
[""]
[""]
[""]
[""]
[""]
[""]
[""]
[""]
[""]
[""]
[""]
[""]
[""]
[""]
[""]
[""]
[""]
[""]
[""]
[""]
[""]
[""]
[""]
[""]
[""]
[""]
[""]
[""]
[""]
[""]
[""]
[""]
[""]
[""]
[""]
[""]
[""]
[""]
[""]
[""]
[""]
[""]
[""]
[""]
[""]
[""]
[""]
[""]
[""]
[""]
[""]
[""]
[""]
[""]
[""]
[""]
[""]
[""]
[""]
[""]
[{"$f":"IF(B900<>\"\",LEFT(C900,6),\"\")","v":""}]
[""]
[""]
[""]
[""]
[""]
[""]
[""]
[""]
[""]
[""]
[""]
[""]
[""]
[""]
[""]
[""]
[""]
[""]
[""]
[""]
[""]
[""]
[""]
[""]
[""]
[""]
[""]
[""]
[""]
[""]
[""]
[""]
[""]
[""]
[""]
[""]
[""]
[""]
[""]
[""]
[""]
[""]
[""]
[""]
[""]
[""]
[""]
[""]
[""]
[""]
[""]
[""]
[""]
[""]
[""]
[""]
[""]
[""]
[""]
[""]
[""]
[""]
[""]
[{"$f":"IF(B964<>\"\",LEFT(C964,6),\"\")","v":""}]
[""]
[""]
[""]
[""]
[""]
[""]
[""]
[""]
[""]
[""]
[""]
[""]
[""]
[""]
[""]
[""]
[""]
[""]
[""]
[""]
[""]
[""]
[""]
[""]
[""]
[""]
[""]
[""]
[""]
[""]
[""]
[""]
[""]
[""]
[""]
[""]
[""]
[""]
[""]
[""]
[""]
[""]
[""]
[""]
[""]
[""]
[""]
[""]
[""]
[""]
[""]
[""]
[""]
[""]
[""]
[""]
[""]
[""]
[""]
[""]
[""]
[""]
[""]
[{"$f":"IF(B1028<>\"\",LEFT(C1028,6),\"\")","v":""}]
[""]
[""]
[""]
[""]
[""]
[""]
[""]
[""]
[""]
[""]
[""]
[""]
[""]
[""]
[""]
[""]
[""]
[""]
[""]
[""]
[""]
[""]
[""]
[""]
[""]
[""]
[""]
[""]
[""]
[""]
[""]
[""]
[""]
[""]
[""]
[""]
[""]
[""]
[""]
[""]
[""]
[""]
[""]
[""]
[""]
[""]
[""]
[""]
[""]
[""]
[""]
[""]
[""]
[""]
[""]
[""]
[""]
[""]
[""]
[""]
[""]
[""]
[""]
[{"$f":"IF(B1092<>\"\",LEFT(C1092,6),\"\")","v":""}]
[""]
[""]
[""]
[""]
[""]
[""]
[""]
[""]
[""]
[""]
[""]
[""]
[""]
[""]
[""]
[""]
[""]
[""]
[""]
[""]
[""]
[""]
[""]
[""]
[""]
[""]
[""]
[""]
[""]
[""]
[""]
[""]
[""]
[""]
[""]
[""]
[""]
[""]
[""]
[""]
[""]
[""]
[""]
[""]
[""]
[""]
[""]
[""]
[""]
[""]
[""]
[""]
[""]
[""]
[""]
[""]
[""]
[""]
[""]
[""]
[""]
[""]
[""]
[{"$f":"IF(B1156<>\"\",LEFT(C1156,6),\"\")","v":""}]
[""]
[""]
[""]
[""]
[""]
[""]
[""]
[""]
[""]
[""]
[""]
[""]
[""]
[""]
[""]
[""]
[""]
[""]
[""]
[""]
[""]
[""]
[""]
[""]
[""]
[""]
[""]
[""]
[""]
[""]
[""]
[""]
[""]
[""]
[""]
[""]
[""]
[""]
[""]
[""]
[""]
[""]
[""]
[""]
[""]
[""]
[""]
[""]
[""]
[""]
[""]
[""]
[""]
[""]
[""]
[""]
[""]
[""]
[""]
[""]
[""]
[""]
[""]
[{"$f":"IF(B1220<>\"\",LEFT(C1220,6),\"\")","v":""}]
[""]
[""]
[""]
[""]
[""]
[""]
[""]
[""]
[""]
[""]
[""]
[""]
[""]
[""]
[""]
[""]
[""]
[""]
[""]
[""]
[""]
[""]
[""]
[""]
[""]
[""]
[""]
[""]
[""]
[""]
[""]
[""]
[""]
[""]
[""]
[""]
[""]
[""]
[""]
[""]
[""]
[""]
[""]
[""]
[""]
[""]
[""]
[""]
[""]
[""]
[""]
[""]
[""]
[""]
[""]
[""]
[""]
[""]
[""]
[""]
[""]
[""]
[""]
[{"$f":"IF(B1284<>\"\",LEFT(C1284,6),\"\")","v":""}]
[""]
[""]
[""]
[""]
[""]
[""]
[""]
[""]
[""]
[""]
[""]
[""]
[""]
[""]
[""]
[""]
[""]
[""]
[""]
[""]
[""]
[""]
[""]
[""]
[""]
[""]
[""]
[""]
[""]
[""]
[""]
[""]
[""]
[""]
[""]
[""]
[""]
[""]
[""]
[""]
[""]
[""]
[""]
[""]
[""]
[""]
[""]
[""]
[""]
[""]
[""]
[""]
[""]
[""]
[""]
[""]
[""]
[""]
[""]
[""]
[""]
[""]
[""]
[{"$f":"IF(B1348<>\"\",LEFT(C1348,6),\"\")","v":""}]
[""]
[""]
[""]
[""]
[""]
[""]
[""]
[""]
[""]
[""]
[""]
[""]
[""]
[""]
[""]
[""]
[""]
[""]
[""]
[""]
[""]
[""]
[""]
[""]
[""]
[""]
[""]
[""]
[""]
[""]
[""]
[""]
[""]
[""]
[""]
[""]
[""]
[""]
[""]
[""]
[""]
[""]
[""]
[""]
[""]
[""]
[""]
[""]
[""]
[""]
[""]
[""]
[""]
[""]
[""]
[""]
[""]
[""]
[""]
[""]
[""]
[""]
[""]
[{"$f":"IF(B1412<>\"\",LEFT(C1412,6),\"\")","v":""}]
[""]
[""]
[""]
[""]
[""]
[""]
[""]
[""]
[""]
[""]
[""]
[""]
[""]
[""]
[""]
[""]
[""]
[""]
[""]
[""]
[""]
[""]
[""]
[""]
[""]
[""]
[""]
[""]
[""]
[""]
[""]
[""]
[""]
[""]
[""]
[""]
[""]
[""]
[""]
[""]
[""]
[""]
[""]
[""]
[""]
[""]
[""]
[""]
[""]
[""]
[""]
[""]
[""]
[""]
[""]
[""]
[""]
[""]
[""]
[""]
[""]
[""]
[""]
[{"$f":"IF(B1476<>\"\",LEFT(C1476,6),\"\")","v":""}]
[""]
[""]
[""]
[""]
[""]
[""]
[""]
[""]
[""]
[""]
[""]
[""]
[""]
[""]
[""]
[""]
[""]
[""]
[""]
[""]
[""]
[""]
[""]
[""]
[""]
[""]
[""]
[""]
[""]
[""]
[""]
[""]
[""]
[""]
[""]
[""]
[""]
[""]
[""]
[""]
[""]
[""]
[""]
[""]
[""]
[""]
[""]
[""]
[""]
[""]
[""]
[""]
[""]
[""]
[""]
[""]
[""]
[""]
[""]
[""]
[""]
[""]
[""]
[{"$f":"IF(B1540<>\"\",LEFT(C1540,6),\"\")","v":""}]
[""]
[""]
[""]
[""]
[""]
[""]
[""]
[""]
[""]
[""]
[""]
[""]
[""]
[""]
[""]
[""]
[""]
[""]
[""]
[""]
[""]
[""]
[""]
[""]
[""]
[""]
[""]
[""]
[""]
[""]
[""]
[""]
[""]
[""]
[""]
[""]
[""]
[""]
[""]
[""]
[""]
[""]
[""]
[""]
[""]
[""]
[""]
[""]
[""]
[""]
[""]
[""]
[""]
[""]
[""]
[""]
[""]
[""]
[""]
[""]
[""]
[""]
[""]
[{"$f":"IF(B1604<>\"\",LEFT(C1604,6),\"\")","v":""}]
[""]
[""]
[""]
[""]
[""]
[""]
[""]
[""]
[""]
[""]
[""]
[""]
[""]
[""]
[""]
[""]
[""]
[""]
[""]
[""]
[""]
[""]
[""]
[""]
[""]
[""]
[""]
[""]
[""]
[""]
[""]
[""]
[""]
[""]
[""]
[""]
[""]
[""]
[""]
[""]
[""]
[""]
[""]
[""]
[""]
[""]
[""]
[""]
[""]
[""]
[""]
[""]
[""]
[""]
[""]
[""]
[""]
[""]
[""]
[""]
[""]
[""]
[""]
[{"$f":"IF(B1668<>\"\",LEFT(C1668,6),\"\")","v":""}]
[""]
[""]
[""]
[""]
[""]
[""]
[""]
[""]
[""]
[""]
[""]
[""]
[""]
[""]
[""]
[""]
[""]
[""]
[""]
[""]
[""]
[""]
[""]
[""]
[""]
[""]
[""]
[""]
[""]
[""]
[""]
[""]
[""]
[""]
[""]
[""]
[""]
[""]
[""]
[""]
[""]
[""]
[""]
[""]
[""]
[""]
[""]
[""]
[""]
[""]
[""]
[""]
[""]
[""]
[""]
[""]
[""]
[""]
[""]
[""]
[""]
[""]
[""]
[{"$f":"IF(B1732<>\"\",LEFT(C1732,6),\"\")","v":""}]
[""]
[""]
[""]
[""]
[""]
[""]
[""]
[""]
[""]
[""]
[""]
[""]
[""]
[""]
[""]
[""]
[""]
[""]
[""]
[""]
[""]
[""]
[""]
[""]
[""]
[""]
[""]
[""]
[""]
[""]
[""]
[""]
[""]
[""]
[""]
[""]
[""]
[""]
[""]
[""]
[""]
[""]
[""]
[""]
[""]
[""]
[""]
[""]
[""]
[""]
[""]
[""]
[""]
[""]
[""]
[""]
[""]
[""]
[""]
[""]
[""]
[""]
[""]
[{"$f":"IF(B1796<>\"\",LEFT(C1796,6),\"\")","v":""}]
[""]
[""]
[""]
[""]
[""]
[""]
[""]
[""]
[""]
[""]
[""]
[""]
[""]
[""]
[""]
[""]
[""]
[""]
[""]
[""]
[""]
[""]
[""]
[""]
[""]
[""]
[""]
[""]
[""]
[""]
[""]
[""]
[""]
[""]
[""]
[""]
[""]
[""]
[""]
[""]
[""]
[""]
[""]
[""]
[""]
[""]
[""]
[""]
[""]
[""]
[""]
[""]
[""]
[""]
[""]
[""]
[""]
[""]
[""]
[""]
[""]
[""]
[""]
[{"$f":"IF(B1860<>\"\",LEFT(C1860,6),\"\")","v":""}]
[""]
[""]
[""]
[""]
[""]
[""]
[""]
[""]
[""]
[""]
[""]
[""]
[""]
[""]
[""]
[""]
[""]
[""]
[""]
[""]
[""]
[""]
[""]
[""]
[""]
[""]
[""]
[""]
[""]
[""]
[""]
[""]
[""]
[""]
[""]
[""]
[""]
[""]
[""]
[""]
[""]
[""]
[""]
[""]
[""]
[""]
[""]
[""]
[""]
[""]
[""]
[""]
[""]
[""]
[""]
[""]
[""]
[""]
[""]
[""]
[""]
[""]
[""]
[{"$f":"IF(B1924<>\"\",LEFT(C1924,6),\"\")","v":""}]
[""]
[""]
[""]
[""]
[""]
[""]
[""]
[""]
[""]
[""]
[""]
[""]
[""]
[""]
[""]
[""]
[""]
[""]
[""]
[""]
[""]
[""]
[""]
[""]
[""]
[""]
[""]
[""]
[""]
[""]
[""]
[""]
[""]
[""]
[""]
[""]
[""]
[""]
[""]
[""]
[""]
[""]
[""]
[""]
[""]
[""]
[""]
[""]
[""]
[""]
[""]
[""]
[""]
[""]
[""]
[""]
[""]
[""]
[""]
[""]
[""]
[""]
[""]
[{"$f":"IF(B1988<>\"\",LEFT(C1988,6),\"\")","v":""}]
[""]
[""]
[""]
[""]
[""]
[""]
[""]
[""]
[""]
[""]
[""]
[""]
[""]
[""]
[""]
[""]
[""]
[""]
[""]
[""]
[""]
[""]
[""]
[""]
[""]
[""]
[""]
[""]
[""]
[""]
[""]
[""]
[""]
[""]
[""]
[""]
[""]
[""]
[""]
[""]
[""]
[""]
[""]
[""]
[""]
[""]
[""]
[""]
[""]
[""]
[""]
[""]
[""]
[""]
[""]
[""]
[""]
[""]
[""]
[""]
[""]
[""]
[""]
[{"$f":"IF(B2052<>\"\",LEFT(C2052,6),\"\")","v":""}]
[""]
[""]
[""]
[""]
[""]
[""]
[""]
[""]
[""]
[""]
[""]
[""]
[""]
[""]
[""]
[""]
[""]
[""]
[""]
[""]
[""]
[""]
[""]
[""]
[""]
[""]
[""]
[""]
[""]
[""]
[""]
[""]
[""]
[""]
[""]
[""]
[""]
[""]
[""]
[""]
[""]
[""]
[""]
[""]
[""]
[""]
[""]
[""]
[""]
[""]
[""]
[""]
[""]
[""]
[""]
[""]
[""]
[""]
[""]
[""]
[""]
[""]
[""]
[{"$f":"IF(B2116<>\"\",LEFT(C2116,6),\"\")","v":""}]
[""]
[""]
[""]
[""]
[""]
[""]
[""]
[""]
[""]
[""]
[""]
[""]
[""]
[""]
[""]
[""]
[""]
[""]
[""]
[""]
[""]
[""]
[""]
[""]
[""]
[""]
[""]
[""]
[""]
[""]
[""]
[""]
[""]
[""]
[""]
[""]
[""]
[""]
[""]
[""]
[""]
[""]
[""]
[""]
[""]
[""]
[""]
[""]
[""]
[""]
[""]
[""]
[""]
[""]
[""]
[""]
[""]
[""]
[""]
[""]
[""]
[""]
[""]
[{"$f":"IF(B2180<>\"\",LEFT(C2180,6),\"\")","v":""}]
[""]
[""]
[""]
[""]
[""]
[""]
[""]
[""]
[""]
[""]
[""]
[""]
[""]
[""]
[""]
[""]
[""]
[""]
[""]
[""]
[""]
[""]
[""]
[""]
[""]
[""]
[""]
[""]
[""]
[""]
[""]
[""]
[""]
[""]
[""]
[""]
[""]
[""]
[""]
[""]
[""]
[""]
[""]
[""]
[""]
[""]
[""]
[""]
[""]
[""]
[""]
[""]
[""]
[""]
[""]
[""]
[""]
[""]
[""]
[""]
[""]
[""]
[""]
[{"$f":"IF(B2244<>\"\",LEFT(C2244,6),\"\")","v":""}]
[""]
[""]
[""]
[""]
[""]
[""]
[""]
[""]
[""]
[""]
[""]
[""]
[""]
[""]
[""]
[""]
[""]
[""]
[""]
[""]
[""]
[""]
[""]
[""]
[""]
[""]
[""]
[""]
[""]
[""]
[""]
[""]
[""]
[""]
[""]
[""]
[""]
[""]
[""]
[""]
[""]
[""]
[""]
[""]
[""]
[""]
[""]
[""]
[""]
[""]
[""]
[""]
[""]
[""]
[""]
[""]
[""]
[""]
[""]
[""]
[""]
[""]
[""]
[{"$f":"IF(B2308<>\"\",LEFT(C2308,6),\"\")","v":""}]
[""]
[""]
[""]
[""]
[""]
[""]
[""]
[""]
[""]
[""]
[""]
[""]
[""]
[""]
[""]
[""]
[""]
[""]
[""]
[""]
[""]
[""]
[""]
[""]
[""]
[""]
[""]
[""]
[""]
[""]
[""]
[""]
[""]
[""]
[""]
[""]
[""]
[""]
[""]
[""]
[""]
[""]
[""]
[""]
[""]
[""]
[""]
[""]
[""]
[""]
[""]
[""]
[""]
[""]
[""]
[""]
[""]
[""]
[""]
[""]
[""]
[""]
[""]
[{"$f":"IF(B2372<>\"\",LEFT(C2372,6),\"\")","v":""}]
[""]
[""]
[""]
[""]
[""]
[""]
[""]
[""]
[""]
[""]
[""]
[""]
[""]
[""]
[""]
[""]
[""]
[""]
[""]
[""]
[""]
[""]
[""]
[""]
[""]
[""]
[""]
[""]
[""]
[""]
[""]
[""]
[""]
[""]
[""]
[""]
[""]
[""]
[""]
[""]
[""]
[""]
[""]
[""]
[""]
[""]
[""]
[""]
[""]
[""]
[""]
[""]
[""]
[""]
[""]
[""]
[""]
[""]
[""]
[""]
[""]
[""]
[""]
[{"$f":"IF(B2436<>\"\",LEFT(C2436,6),\"\")","v":""}]
[""]
[""]
[""]
[""]
[""]
[""]
[""]
[""]
[""]
[""]
[""]
[""]
[""]
[""]
[""]
[""]
[""]
[""]
[""]
[""]
[""]
[""]
[""]
[""]
[""]
[""]
[""]
[""]
[""]
[""]
[""]
[""]
[""]
[""]
[""]
[""]
[""]
[""]
[""]
[""]
[""]
[""]
[""]
[""]
[""]
[""]
[""]
[""]
[""]
[""]
[""]
[""]
[""]
[""]
[""]
[""]
[""]
[""]
[""]
[""]
[""]
[""]
[""]
[{"$f":"IF(B2500<>\"\",LEFT(C2500,6),\"\")","v":""}]
[""]
[""]
[""]
[""]
[""]
[""]
[""]
[""]
[""]
[""]
[""]
[""]
[""]
[""]
[""]
[""]
[""]
[""]
[""]
[""]
[""]
[""]
[""]
[""]
[""]
[""]
[""]
[""]
[""]
[""]
[""]
[""]
[""]
[""]
[""]
[""]
[""]
[""]
[""]
[""]
[""]
[""]
[""]
[""]
[""]
[""]
[""]
[""]
[""]
[""]
[""]
[""]
[""]
[""]
[""]
[""]
[""]
[""]
[""]
[""]
[""]
[""]
[""]
[{"$f":"IF(B2564<>\"\",LEFT(C2564,6),\"\")","v":""}]
[""]
[""]
[""]
[""]
[""]
[""]
[""]
[""]
[""]
[""]
[""]
[""]
[""]
[""]
[""]
[""]
[""]
[""]
[""]
[""]
[""]
[""]
[""]
[""]
[""]
[""]
[""]
[""]
[""]
[""]
[""]
[""]
[""]
[""]
[""]
[""]
[""]
[""]
[""]
[""]
[""]
[""]
[""]
[""]
[""]
[""]
[""]
[""]
[""]
[""]
[""]
[""]
[""]
[""]
[""]
[""]
[""]
[""]
[""]
[""]
[""]
[""]
[""]
[{"$f":"IF(B2628<>\"\",LEFT(C2628,6),\"\")","v":""}]
[""]
[""]
[""]
[""]
[""]
[""]
[""]
[""]
[""]
[""]
[""]
[""]
[""]
[""]
[""]
[""]
[""]
[""]
[""]
[""]
[""]
[""]
[""]
[""]
[""]
[""]
[""]
[""]
[""]
[""]
[""]
[""]
[""]
[""]
[""]
[""]
[""]
[""]
[""]
[""]
[""]
[""]
[""]
[""]
[""]
[""]
[""]
[""]
[""]
[""]
[""]
[""]
[""]
[""]
[""]
[""]
[""]
[""]
[""]
[""]
[""]
[""]
[""]
[{"$f":"IF(B2692<>\"\",LEFT(C2692,6),\"\")","v":""}]
[""]
[""]
[""]
[""]
[""]
[""]
[""]
[""]
[""]
[""]
[""]
[""]
[""]
[""]
[""]
[""]
[""]
[""]
[""]
[""]
[""]
[""]
[""]
[""]
[""]
[""]
[""]
[""]
[""]
[""]
[""]
[""]
[""]
[""]
[""]
[""]
[""]
[""]
[""]
[""]
[""]
[""]
[""]
[""]
[""]
[""]
[""]
[""]
[""]
[""]
[""]
[""]
[""]
[""]
[""]
[""]
[""]
[""]
[""]
[""]
[""]
[""]
[""]
[{"$f":"IF(B2756<>\"\",LEFT(C2756,6),\"\")","v":""}]
[""]
[""]
[""]
[""]
[""]
[""]
[""]
[""]
[""]
[""]
[""]
[""]
[""]
[""]
[""]
[""]
[""]
[""]
[""]
[""]
[""]
[""]
[""]
[""]
[""]
[""]
[""]
[""]
[""]
[""]
[""]
[""]
[""]
[""]
[""]
[""]
[""]
[""]
[""]
[""]
[""]
[""]
[""]
[""]
[""]
[""]
[""]
[""]
[""]
[""]
[""]
[""]
[""]
[""]
[""]
[""]
[""]
[""]
[""]
[""]
[""]
[""]
[""]
[{"$f":"IF(B2820<>\"\",LEFT(C2820,6),\"\")","v":""}]
[""]
[""]
[""]
[""]
[""]
[""]
[""]
[""]
[""]
[""]
[""]
[""]
[""]
[""]
[""]
[""]
[""]
[""]
[""]
[""]
[""]
[""]
[""]
[""]
[""]
[""]
[""]
[""]
[""]
[""]
[""]
[""]
[""]
[""]
[""]
[""]
[""]
[""]
[""]
[""]
[""]
[""]
[""]
[""]
[""]
[""]
[""]
[""]
[""]
[""]
[""]
[""]
[""]
[""]
[""]
[""]
[""]
[""]
[""]
[""]
[""]
[""]
[""]
[{"$f":"IF(B2884<>\"\",LEFT(C2884,6),\"\")","v":""}]
[""]
[""]
[""]
[""]
[""]
[""]
[""]
[""]
[""]
[""]
[""]
[""]
[""]
[""]
[""]
[""]
[""]
[""]
[""]
[""]
[""]
[""]
[""]
[""]
[""]
[""]
[""]
[""]
[""]
[""]
[""]
[""]
[""]
[""]
[""]
[""]
[""]
[""]
[""]
[""]
[""]
[""]
[""]
[""]
[""]
[""]
[""]
[""]
[""]
[""]
[""]
[""]
[""]
[""]
[""]
[""]
[""]
[""]
[""]
[""]
[""]
[""]
[""]
[{"$f":"IF(B2948<>\"\",LEFT(C2948,6),\"\")","v":""}]
[""]
[""]
[""]
[""]
[""]
[""]
[""]
[""]
[""]
[""]
[""]
[""]
[""]
[""]
[""]
[""]
[""]
[""]
[""]
[""]
[""]
[""]
[""]
[""]
[""]
[""]
[""]
[""]
[""]
[""]
[""]
[""]
[""]
[""]
[""]
[""]
[""]
[""]
[""]
[""]
[""]
[""]
[""]
[""]
[""]
[""]
[""]
[""]
[""]
[""]
[""]
[""]
[""]
[""]
[""]
[""]
[""]
[""]
[""]
[""]
[""]
[""]
[""]
[{"$f":"IF(B3012<>\"\",LEFT(C3012,6),\"\")","v":""}]
[""]
[""]
[""]
[""]
[""]
[""]
[""]
[""]
[""]
[""]
[""]
[""]
[""]
[""]
[""]
[""]
[""]
[""]
[""]
[""]
[""]
[""]
[""]
[""]
[""]
[""]
[""]
[""]
[""]
[""]
[""]
[""]
[""]
[""]
[""]
[""]
[""]
[""]
[""]
[""]
[""]
[""]
[""]
[""]
[""]
[""]
[""]
[""]
[""]
[""]
[""]
[""]
[""]
[""]
[""]
[""]
[""]
[""]
[""]
[""]
[""]
[""]
[""]
[{"$f":"IF(B3076<>\"\",LEFT(C3076,6),\"\")","v":""}]
[""]
[""]
[""]
[""]
[""]
[""]
[""]
[""]
[""]
[""]
[""]
[""]
[""]
[""]
[""]
[""]
[""]
[""]
[""]
[""]
[""]
[""]
[""]
[""]
[""]
[""]
[""]
[""]
[""]
[""]
[""]
[""]
[""]
[""]
[""]
[""]
[""]
[""]
[""]
[""]
[""]
[""]
[""]
[""]
[""]
[""]
[""]
[""]
[""]
[""]
[""]
[""]
[""]
[""]
[""]
[""]
[""]
[""]
[""]
[""]
[""]
[""]
[""]
[{"$f":"IF(B3140<>\"\",LEFT(C3140,6),\"\")","v":""}]
[""]
[""]
[""]
[""]
[""]
[""]
[""]
[""]
[""]
[""]
[""]
[""]
[""]
[""]
[""]
[""]
[""]
[""]
[""]
[""]
[""]
[""]
[""]
[""]
[""]
[""]
[""]
[""]
[""]
[""]
[""]
[""]
[""]
[""]
[""]
[""]
[""]
[""]
[""]
[""]
[""]
[""]
[""]
[""]
[""]
[""]
[""]
[""]
[""]
[""]
[""]
[""]
[""]
[""]
[""]
[""]
[""]
[""]
[""]
[""]
[""]
[""]
[""]
[{"$f":"IF(B3204<>\"\",LEFT(C3204,6),\"\")","v":""}]
[""]
[""]
[""]
[""]
[""]
[""]
[""]
[""]
[""]
[""]
[""]
[""]
[""]
[""]
[""]
[""]
[""]
[""]
[""]
[""]
[""]
[""]
[""]
[""]
[""]
[""]
[""]
[""]
[""]
[""]
[""]
[""]
[""]
[""]
[""]
[""]
[""]
[""]
[""]
[""]
[""]
[""]
[""]
[""]
[""]
[""]
[""]
[""]
[""]
[""]
[""]
[""]
[""]
[""]
[""]
[""]
[""]
[""]
[""]
[""]
[""]
[""]
[""]
[{"$f":"IF(B3268<>\"\",LEFT(C3268,6),\"\")","v":""}]
[""]
[""]
[""]
[""]
[""]
[""]
[""]
[""]
[""]
[""]
[""]
[""]
[""]
[""]
[""]
[""]
[""]
[""]
[""]
[""]
[""]
[""]
[""]
[""]
[""]
[""]
[""]
[""]
[""]
[""]
[""]
[""]
[""]
[""]
[""]
[""]
[""]
[""]
[""]
[""]
[""]
[""]
[""]
[""]
[""]
[""]
[""]
[""]
[""]
[""]
[""]
[""]
[""]
[""]
[""]
[""]
[""]
[""]
[""]
[""]
[""]
[""]
[""]
[{"$f":"IF(B3332<>\"\",LEFT(C3332,6),\"\")","v":""}]
[""]
[""]
[""]
[""]
[""]
[""]
[""]
[""]
[""]
[""]
[""]
[""]
[""]
[""]
[""]
[""]
[""]
[""]
[""]
[""]
[""]
[""]
[""]
[""]
[""]
[""]
[""]
[""]
[""]
[""]
[""]
[""]
[""]
[""]
[""]
[""]
[""]
[""]
[""]
[""]
[""]
[""]
[""]
[""]
[""]
[""]
[""]
[""]
[""]
[""]
[""]
[""]
[""]
[""]
[""]
[""]
[""]
[""]
[""]
[""]
[""]
[""]
[""]
[{"$f":"IF(B3396<>\"\",LEFT(C3396,6),\"\")","v":""}]
[""]
[""]
[""]
[""]
[""]
[""]
[""]
[""]
[""]
[""]
[""]
[""]
[""]
[""]
[""]
[""]
[""]
[""]
[""]
[""]
[""]
[""]
[""]
[""]
[""]
[""]
[""]
[""]
[""]
[""]
[""]
[""]
[""]
[""]
[""]
[""]
[""]
[""]
[""]
[""]
[""]
[""]
[""]
[""]
[""]
[""]
[""]
[""]
[""]
[""]
[""]
[""]
[""]
[""]
[""]
[""]
[""]
[""]
[""]
[""]
[""]
[""]
[""]
[{"$f":"IF(B3460<>\"\",LEFT(C3460,6),\"\")","v":""}]
[""]
[""]
[""]
[""]
[""]
[""]
[""]
[""]
[""]
[""]
[""]
[""]
[""]
[""]
[""]
[""]
[""]
[""]
[""]
[""]
[""]
[""]
[""]
[""]
[""]
[""]
[""]
[""]
[""]
[""]
[""]
[""]
[""]
[""]
[""]
[""]
[""]
[""]
[""]
[""]
[""]
[""]
[""]
[""]
[""]
[""]
[""]
[""]
[""]
[""]
[""]
[""]
[""]
[""]
[""]
[""]
[""]
[""]
[""]
[""]
[""]
[""]
[""]
[{"$f":"IF(B3524<>\"\",LEFT(C3524,6),\"\")","v":""}]
[""]
[""]
[""]
[""]
[""]
[""]
[""]
[""]
[""]
[""]
[""]
[""]
[""]
[""]
[""]
[""]
[""]
[""]
[""]
[""]
[""]
[""]
[""]
[""]
[""]
[""]
[""]
[""]
[""]
[""]
[""]
[""]
[""]
[""]
[""]
[""]
[""]
[""]
[""]
[""]
[""]
[""]
[""]
[""]
[""]
[""]
[""]
[""]
[""]
[""]
[""]
[""]
[""]
[""]
[""]
[""]
[""]
[""]
[""]
[""]
[""]
[""]
[""]
[{"$f":"IF(B3588<>\"\",LEFT(C3588,6),\"\")","v":""}]
[""]
[""]
[""]
[""]
[""]
[""]
[""]
[""]
[""]
[""]
[""]
[""]
[""]
[""]
[""]
[""]
[""]
[""]
[""]
[""]
[""]
[""]
[""]
[""]
[""]
[""]
[""]
[""]
[""]
[""]
[""]
[""]
[""]
[""]
[""]
[""]
[""]
[""]
[""]
[""]
[""]
[""]
[""]
[""]
[""]
[""]
[""]
[""]
[""]
[""]
[""]
[""]
[""]
[""]
[""]
[""]
[""]
[""]
[""]
[""]
[""]
[""]
[""]
[{"$f":"IF(B3652<>\"\",LEFT(C3652,6),\"\")","v":""}]
[""]
[""]
[""]
[""]
[""]
[""]
[""]
[""]
[""]
[""]
[""]
[""]
[""]
[""]
[""]
[""]
[""]
[""]
[""]
[""]
[""]
[""]
[""]
[""]
[""]
[""]
[""]
[""]
[""]
[""]
[""]
[""]
[""]
[""]
[""]
[""]
[""]
[""]
[""]
[""]
[""]
[""]
[""]
[""]
[""]
[""]
[""]
[""]
[""]
[""]
[""]
[""]
[""]
[""]
[""]
[""]
[""]
[""]
[""]
[""]
[""]
[""]
[""]
[{"$f":"IF(B3716<>\"\",LEFT(C3716,6),\"\")","v":""}]
[""]
[""]
[""]
[""]
[""]
[""]
[""]
[""]
[""]
[""]
[""]
[""]
[""]
[""]
[""]
[""]
[""]
[""]
[""]
[""]
[""]
[""]
[""]
[""]
[""]
[""]
[""]
[""]
[""]
[""]
[""]
[""]
[""]
[""]
[""]
[""]
[""]
[""]
[""]
[""]
[""]
[""]
[""]
[""]
[""]
[""]
[""]
[""]
[""]
[""]
[""]
[""]
[""]
[""]
[""]
[""]
[""]
[""]
[""]
[""]
[""]
[""]
[""]
[{"$f":"IF(B3780<>\"\",LEFT(C3780,6),\"\")","v":""}]
[""]
[""]
[""]
[""]
[""]
[""]
[""]
[""]
[""]
[""]
[""]
[""]
[""]
[""]
[""]
[""]
[""]
[""]
[""]
[""]
[""]
[""]
[""]
[""]
[""]
[""]
[""]
[""]
[""]
[""]
[""]
[""]
[""]
[""]
[""]
[""]
[""]
[""]
[""]
[""]
[""]
[""]
[""]
[""]
[""]
[""]
[""]
[""]
[""]
[""]
[""]
[""]
[""]
[""]
[""]
[""]
[""]
[""]
[""]
[""]
[""]
[""]
[""]
[{"$f":"IF(B3844<>\"\",LEFT(C3844,6),\"\")","v":""}]
[""]
[""]
[""]
[""]
[""]
[""]
[""]
[""]
[""]
[""]
[""]
[""]
[""]
[""]
[""]
[""]
[""]
[""]
[""]
[""]
[""]
[""]
[""]
[""]
[""]
[""]
[""]
[""]
[""]
[""]
[""]
[""]
[""]
[""]
[""]
[""]
[""]
[""]
[""]
[""]
[""]
[""]
[""]
[""]
[""]
[""]
[""]
[""]
[""]
[""]
[""]
[""]
[""]
[""]
[""]
[""]
[""]
[""]
[""]
[""]
[""]
[""]
[""]
[{"$f":"IF(B3908<>\"\",LEFT(C3908,6),\"\")","v":""}]
[""]
[""]
[""]
[""]
[""]
[""]
[""]
[""]
[""]
[""]
[""]
[""]
[""]
[""]
[""]
[""]
[""]
[""]
[""]
[""]
[""]
[""]
[""]
[""]
[""]
[""]
[""]
[""]
[""]
[""]
[""]
[""]
[""]
[""]
[""]
[""]
[""]
[""]
[""]
[""]
[""]
[""]
[""]
[""]
[""]
[""]
[""]
[""]
[""]
[""]
[""]
[""]
[""]
[""]
[""]
[""]
[""]
[""]
[""]
[""]
[""]
[""]
[""]
[{"$f":"IF(B3972<>\"\",LEFT(C3972,6),\"\")","v":""}]
[""]
[""]
[""]
[""]
[""]
[""]
[""]
[""]
[""]
[""]
[""]
[""]
[""]
[""]
[""]
[""]
[""]
[""]
[""]
[""]
[""]
[""]
[""]
[""]
[""]
[""]
[""]
[""]
[""]
[""]
[""]
[""]
[""]
[""]
[""]
[""]
[""]
[""]
[""]
[""]
[""]
[""]
[""]
[""]
[""]
[""]
[""]
[""]
[""]
[""]
[""]
[""]
[""]
[""]
[""]
[""]
[""]
[""]
[""]
[""]
[""]
[""]
[""]
[{"$f":"IF(B4036<>\"\",LEFT(C4036,6),\"\")","v":""}]
[""]
[""]
[""]
[""]
[""]
[""]
[""]
[""]
[""]
[""]
[""]
[""]
[""]
[""]
[""]
[""]
[""]
[""]
[""]
[""]
[""]
[""]
[""]
[""]
[""]
[""]
[""]
[""]
[""]
[""]
[""]
[""]
[""]
[""]
[""]
[""]
[""]
[""]
[""]
[""]
[""]
[""]
[""]
[""]
[""]
[""]
[""]
[""]
[""]
[""]
[""]
[""]
[""]
[""]
[""]
[""]
[""]
[""]
[""]
[""]
[""]
[""]
[""]
[{"$f":"IF(B4100<>\"\",LEFT(C4100,6),\"\")","v":""}]
[""]
[""]
[""]
[""]
[""]
[""]
[""]
[""]
[""]
[""]
[""]
[""]
[""]
[""]
[""]
[""]
[""]
[""]
[""]
[""]
[""]
[""]
[""]
[""]
[""]
[""]
[""]
[""]
[""]
[""]
[""]
[""]
[""]
[""]
[""]
[""]
[""]
[""]
[""]
[""]
[""]
[""]
[""]
[""]
[""]
[""]
[""]
[""]
[""]
[""]
[""]
[""]
[""]
[""]
[""]
[""]
[""]
[""]
[""]
[""]
[""]
[""]
[""]
[{"$f":"IF(B4164<>\"\",LEFT(C4164,6),\"\")","v":""}]
[""]
[""]
[""]
[""]
[""]
[""]
[""]
[""]
[""]
[""]
[""]
[""]
[""]
[""]
[""]
[""]
[""]
[""]
[""]
[""]
[""]
[""]
[""]
[""]
[""]
[""]
[""]
[""]
[""]
[""]
[""]
[""]
[""]
[""]
[""]
[""]
[""]
[""]
[""]
[""]
[""]
[""]
[""]
[""]
[""]
[""]
[""]
[""]
[""]
[""]
[""]
[""]
[""]
[""]
[""]
[""]
[""]
[""]
[""]
[""]
[""]
[""]
[""]
[{"$f":"IF(B4228<>\"\",LEFT(C4228,6),\"\")","v":""}]
[""]
[""]
[""]
[""]
[""]
[""]
[""]
[""]
[""]
[""]
[""]
[""]
[""]
[""]
[""]
[""]
[""]
[""]
[""]
[""]
[""]
[""]
[""]
[""]
[""]
[""]
[""]
[""]
[""]
[""]
[""]
[""]
[""]
[""]
[""]
[""]
[""]
[""]
[""]
[""]
[""]
[""]
[""]
[""]
[""]
[""]
[""]
[""]
[""]
[""]
[""]
[""]
[""]
[""]
[""]
[""]
[""]

{"sheet":"Ark1","index":14,"n_rows":3865,"n_cols":17,"rows_kept":3865,"cut":false,"hidden":false,"merged":[[0,12,0,16],[32,2,32,6],[32,0,33,0],[32,1,33,1],[12,0,12,2],[31,0,31,2],[13,0,14,2],[13,3,13,5]]}
["Serie-størrelse fra","Seriestørrelse til","Antal emner til kontrol","max tilladt antal emner med fejl ",null,null,null,null,"Genelle inspektionsniveauer",null,null,null,"AQL Størrelse"]
[0,8,2,0,null,null,null,null,null,null,null,null,1,1.5,2.5,4,6.5]
[9,15,3,0,null,null,null,null,null,null,null,null,0,0,0,0,0]
[16,25,5,0,null,null,null,null,null,null,null,null,0,0,0,0,0]
[26,50,8,0,null,null,null,null,null,null,null,null,0,0,0,0,0]
[51,90,13,0,null,null,null,null,null,null,null,null,0,0,0,0,0]
[91,150,20,1,null,null,null,null,null,null,null,null,0,0,0,0,0]
[151,280,32,2,null,null,null,null,null,null,null,null,0,0,0,0,0]
[281,500,50,3,null,null,null,null,null,null,null,null,0,0,0,0,0]
[501,1200,80,5,null,null,null,null,null,null,null,null,0,0,0,0,0]
[null,null,125,5,null,null,null,null,null,null,null,null,0]
[null,null,200,5,null,null,null,null,null,null,null,null,0]
["Batchstørrelsen",null,null,null,null,null,null,null,null,null,null,null,0]
["Batchstørrelsen\nantal i ordren",null,null,"Genelle inspektionsniveauer",null,null,null,null,null,null,null,null,0]
[null,null,null,"I","II","III ",null,null,null,null,null,null,0]
[2,"til",8,"A","A","B",null,null,null,null,null,null,0]
[9,"til",15,"A","B","C",null,null,null,null,null,null,0]
[16,"til",25,"B","C","D",null,null,null,null,null,null,0]
[26,"til",50,"C","D","E",null,null,null,null,null,null,0]
[51,"til",90,"C","E","F",null,null,null,null,null,null,0]
[91,"til",150,"D","F","G",null,null,null,null,null,null,0]
[151,"til",280,"E","G","H",null,null,null,null,null,null,0]
[281,"til",500,"F","H","J",null,null,null,null,null,null,0]
[501,"til",1200,"G ","J","K",null,null,null,null,null,null,0]
[1201,"til",3200,"H","K","L",null,null,null,null,null,null,0]
[3201,"til",10000,"J","L","M",null,null,null,null,null,null,0]
[10001,"til",35000,"K","M","N",null,null,null,null,null,null,0]
[35001,"til",150000,"L","N","P",null,null,null,null,null,null,0]
[150001,"til",500000,"M","P","Q",null,null,null,null,null,null,0]
[500001,"og derover",null,"N","Q","R",null,null,null,null,null,null,0]
[null,null,null,null,null,null,null,null,null,null,null,null,0]
["Prøveudtagningsplan ",null,null,null,null,null,null,null,null,null,null,null,0]
["Bogstav","Stikprøve","AQL Størrelse",null,null,null,null,null,null,null,null,null,0]
[null,null,1,1.5,2.5,4,6.5,null,null,null,null,null,0]
["A",2,"≤ 0","≤ 0","≤ 0","≤ 0","≤ 0",null,null,null,null,null,0]
["B ",3,"≤ 0","≤ 0","≤ 0","≤ 0","≤ 0",null,null,null,null,null,0]
["C",5,"≤ 0","≤ 0","≤ 0","≤ 0","≤ 1",null,null,null,null,null,0]
["D",8,"≤ 0","≤ 0","≤ 0","≤ 1","≤ 1",null,null,null,null,null,0]
["E",13,"≤ 0","≤ 0","≤ 1","≤ 1","≤ 2",null,null,null,null,null,0]
["F",20,"≤ 0","≤ 1","≤ 1","≤ 2","≤ 3",null,null,null,null,null,0]
["G",32,"≤ 1","≤ 1","≤ 2","≤ 3","≤ 5",null,null,null,null,null,0]
["H",50,"≤ 1","≤ 2","≤ 3","≤ 5","≤ 7",null,null,null,null,null,0]
["J",80,"≤ 2","≤ 3","≤ 5","≤ 7","≤ 10",null,null,null,null,null,0]
["K",125,"≤ 3","≤ 5","≤ 7","≤ 10","≤ 14",null,null,null,null,null,0]
["L",200,"≤ 5","≤ 7","≤ 10","≤ 14","≤ 21",null,null,null,null,null,0]
["M",315,"≤ 7","≤ 10","≤ 14","≤ 21","≤ 21",null,null,null,null,null,0]
["N",500,"≤ 10","≤ 14","≤ 21","≤ 21","≤ 21",null,null,null,null,null,0]
["P",800,"≤ 14","≤ 21","≤ 21","≤ 21","≤ 21",null,null,null,null,null,0]
["Q",1250,"≤ 21","≤ 21","≤ 21","≤ 21","≤ 21",null,null,null,null,null,0]
["R",2000,"≤ 21","≤ 21","≤ 21","≤ 21","≤ 21",null,null,null,null,null,0]
[null,null,null,null,null,null,null,null,null,null,null,null,0]
[null,null,null,null,null,null,null,null,null,null,null,null,0]
[null,null,null,null,null,null,null,null,null,null,null,null,0]
[null,null,null,null,null,null,null,null,null,null,null,null,0]
[null,null,null,null,null,null,null,null,null,null,null,null,0]
[null,null,null,null,null,null,null,null,null,null,null,null,0]
[null,null,null,null,null,null,null,null,null,null,null,null,0]
[null,null,null,null,null,null,null,null,null,null,null,null,0]
[null,null,null,null,null,null,null,null,null,null,null,null,0]
[null,null,null,null,null,null,null,null,null,null,null,null,0]
[null,null,null,null,null,null,null,null,null,null,null,null,0]
[null,null,null,null,null,null,null,null,null,null,null,null,0]
[null,null,null,null,null,null,null,null,null,null,null,null,0]
[null,null,null,null,null,null,null,null,null,null,null,null,0]
[null,null,null,null,null,null,null,null,null,null,null,null,0]
[null,null,null,null,null,null,null,null,null,null,null,null,0]
[null,null,null,null,null,null,null,null,null,null,null,null,0]
[null,null,null,null,null,null,null,null,null,null,null,null,0]
[null,null,null,null,null,null,null,null,null,null,null,null,0]
[null,null,null,null,null,null,null,null,null,null,null,null,0]
[null,null,null,null,null,null,null,null,null,null,null,null,0]
[null,null,null,null,null,null,null,null,null,null,null,null,0]
[null,null,null,null,null,null,null,null,null,null,null,null,0]
[null,null,null,null,null,null,null,null,null,null,null,null,0]
[null,null,null,null,null,null,null,null,null,null,null,null,0]
[null,null,null,null,null,null,null,null,null,null,null,null,0]
[null,null,null,null,null,null,null,null,null,null,null,null,0]
[null,null,null,null,null,null,null,null,null,null,null,null,0]
[null,null,null,null,null,null,null,null,null,null,null,null,0]
[null,null,null,null,null,null,null,null,null,null,null,null,0]
[null,null,null,null,null,null,null,null,null,null,null,null,0]
[null,null,null,null,null,null,null,null,null,null,null,null,0]
[null,null,null,null,null,null,null,null,null,null,null,null,0]
[null,null,null,null,null,null,null,null,null,null,null,null,0]
[null,null,null,null,null,null,null,null,null,null,null,null,0]
[null,null,null,null,null,null,null,null,null,null,null,null,0]
[null,null,null,null,null,null,null,null,null,null,null,null,0]
[null,null,null,null,null,null,null,null,null,null,null,null,0]
[null,null,null,null,null,null,null,null,null,null,null,null,0]
[null,null,null,null,null,null,null,null,null,null,null,null,0]
[null,null,null,null,null,null,null,null,null,null,null,null,0]
[null,null,null,null,null,null,null,null,null,null,null,null,0]
[null,null,null,null,null,null,null,null,null,null,null,null,0]
[null,null,null,null,null,null,null,null,null,null,null,null,0]
[null,null,null,null,null,null,null,null,null,null,null,null,0]
[null,null,null,null,null,null,null,null,null,null,null,null,0]
[null,null,null,null,null,null,null,null,null,null,null,null,0]
[null,null,null,null,null,null,null,null,null,null,null,null,0]
[null,null,null,null,null,null,null,null,null,null,null,null,0]
[null,null,null,null,null,null,null,null,null,null,null,null,0]
[null,null,null,null,null,null,null,null,null,null,null,null,0]
[null,null,null,null,null,null,null,null,null,null,null,null,0]
[null,null,null,null,null,null,null,null,null,null,null,null,0]
[null,null,null,null,null,null,null,null,null,null,null,null,0]
[null,null,null,null,null,null,null,null,null,null,null,null,0]
[null,null,null,null,null,null,null,null,null,null,null,null,0]
[null,null,null,null,null,null,null,null,null,null,null,null,0]
[null,null,null,null,null,null,null,null,null,null,null,null,0]
[null,null,null,null,null,null,null,null,null,null,null,null,0]
[null,null,null,null,null,null,null,null,null,null,null,null,0]
[null,null,null,null,null,null,null,null,null,null,null,null,0]
[null,null,null,null,null,null,null,null,null,null,null,null,0]
[null,null,null,null,null,null,null,null,null,null,null,null,0]
[null,null,null,null,null,null,null,null,null,null,null,null,0]
[null,null,null,null,null,null,null,null,null,null,null,null,0]
[null,null,null,null,null,null,null,null,null,null,null,null,0]
[null,null,null,null,null,null,null,null,null,null,null,null,0]
[null,null,null,null,null,null,null,null,null,null,null,null,0]
[null,null,null,null,null,null,null,null,null,null,null,null,0]
[null,null,null,null,null,null,null,null,null,null,null,null,0]
[null,null,null,null,null,null,null,null,null,null,null,null,0]
[null,null,null,null,null,null,null,null,null,null,null,null,0]
[null,null,null,null,null,null,null,null,null,null,null,null,0]
[null,null,null,null,null,null,null,null,null,null,null,null,0]
[null,null,null,null,null,null,null,null,null,null,null,null,0]
[null,null,null,null,null,null,null,null,null,null,null,null,0]
[null,null,null,null,null,null,null,null,null,null,null,null,0]
[null,null,null,null,null,null,null,null,null,null,null,null,0]
[null,null,null,null,null,null,null,null,null,null,null,null,0]
[null,null,null,null,null,null,null,null,null,null,null,null,0]
[null,null,null,null,null,null,null,null,null,null,null,null,0]
[null,null,null,null,null,null,null,null,null,null,null,null,0]
[null,null,null,null,null,null,null,null,null,null,null,null,0]
[null,null,null,null,null,null,null,null,null,null,null,null,0]
[null,null,null,null,null,null,null,null,null,null,null,null,0]
[null,null,null,null,null,null,null,null,null,null,null,null,0]
[null,null,null,null,null,null,null,null,null,null,null,null,0]
[null,null,null,null,null,null,null,null,null,null,null,null,0]
[null,null,null,null,null,null,null,null,null,null,null,null,0]
[null,null,null,null,null,null,null,null,null,null,null,null,0]
[null,null,null,null,null,null,null,null,null,null,null,null,0]
[null,null,null,null,null,null,null,null,null,null,null,null,0]
[null,null,null,null,null,null,null,null,null,null,null,null,0]
[null,null,null,null,null,null,null,null,null,null,null,null,0]
[null,null,null,null,null,null,null,null,null,null,null,null,0]
[null,null,null,null,null,null,null,null,null,null,null,null,0]
[null,null,null,null,null,null,null,null,null,null,null,null,0]
[null,null,null,null,null,null,null,null,null,null,null,null,0]
[null,null,null,null,null,null,null,null,null,null,null,null,0]
[null,null,null,null,null,null,null,null,null,null,null,null,0]
[null,null,null,null,null,null,null,null,null,null,null,null,0]
[null,null,null,null,null,null,null,null,null,null,null,null,0]
[null,null,null,null,null,null,null,null,null,null,null,null,0]
[null,null,null,null,null,null,null,null,null,null,null,null,0]
[null,null,null,null,null,null,null,null,null,null,null,null,0]
[null,null,null,null,null,null,null,null,null,null,null,null,0]
[null,null,null,null,null,null,null,null,null,null,null,null,0]
[null,null,null,null,null,null,null,null,null,null,null,null,0]
[null,null,null,null,null,null,null,null,null,null,null,null,0]
[null,null,null,null,null,null,null,null,null,null,null,null,0]
[null,null,null,null,null,null,null,null,null,null,null,null,0]
[null,null,null,null,null,null,null,null,null,null,null,null,0]
[null,null,null,null,null,null,null,null,null,null,null,null,0]
[null,null,null,null,null,null,null,null,null,null,null,null,0]
[null,null,null,null,null,null,null,null,null,null,null,null,0]
[null,null,null,null,null,null,null,null,null,null,null,null,0]
[null,null,null,null,null,null,null,null,null,null,null,null,0]
[null,null,null,null,null,null,null,null,null,null,null,null,0]
[null,null,null,null,null,null,null,null,null,null,null,null,0]
[null,null,null,null,null,null,null,null,null,null,null,null,0]
[null,null,null,null,null,null,null,null,null,null,null,null,0]
[null,null,null,null,null,null,null,null,null,null,null,null,0]
[null,null,null,null,null,null,null,null,null,null,null,null,0]
[null,null,null,null,null,null,null,null,null,null,null,null,0]
[null,null,null,null,null,null,null,null,null,null,null,null,0]
[null,null,null,null,null,null,null,null,null,null,null,null,0]
[null,null,null,null,null,null,null,null,null,null,null,null,0]
[null,null,null,null,null,null,null,null,null,null,null,null,0]
[null,null,null,null,null,null,null,null,null,null,null,null,0]
[null,null,null,null,null,null,null,null,null,null,null,null,0]
[null,null,null,null,null,null,null,null,null,null,null,null,0]
[null,null,null,null,null,null,null,null,null,null,null,null,0]
[null,null,null,null,null,null,null,null,null,null,null,null,0]
[null,null,null,null,null,null,null,null,null,null,null,null,0]
[null,null,null,null,null,null,null,null,null,null,null,null,0]
[null,null,null,null,null,null,null,null,null,null,null,null,0]
[null,null,null,null,null,null,null,null,null,null,null,null,0]
[null,null,null,null,null,null,null,null,null,null,null,null,0]
[null,null,null,null,null,null,null,null,null,null,null,null,0]
[null,null,null,null,null,null,null,null,null,null,null,null,0]
[null,null,null,null,null,null,null,null,null,null,null,null,0]
[null,null,null,null,null,null,null,null,null,null,null,null,0]
[null,null,null,null,null,null,null,null,null,null,null,null,0]
[null,null,null,null,null,null,null,null,null,null,null,null,0]
[null,null,null,null,null,null,null,null,null,null,null,null,0]
[null,null,null,null,null,null,null,null,null,null,null,null,0]
[null,null,null,null,null,null,null,null,null,null,null,null,0]
[null,null,null,null,null,null,null,null,null,null,null,null,0]
[null,null,null,null,null,null,null,null,null,null,null,null,0]
[null,null,null,null,null,null,null,null,null,null,null,null,0]
[null,null,null,null,null,null,null,null,null,null,null,null,0]
[null,null,null,null,null,null,null,null,null,null,null,null,0]
[null,null,null,null,null,null,null,null,null,null,null,null,0]
[null,null,null,null,null,null,null,null,null,null,null,null,0]
[null,null,null,null,null,null,null,null,null,null,null,null,0]
[null,null,null,null,null,null,null,null,null,null,null,null,0]
[null,null,null,null,null,null,null,null,null,null,null,null,0]
[null,null,null,null,null,null,null,null,null,null,null,null,0]
[null,null,null,null,null,null,null,null,null,null,null,null,0]
[null,null,null,null,null,null,null,null,null,null,null,null,0]
[null,null,null,null,null,null,null,null,null,null,null,null,0]
[null,null,null,null,null,null,null,null,null,null,null,null,0]
[null,null,null,null,null,null,null,null,null,null,null,null,0]
[null,null,null,null,null,null,null,null,null,null,null,null,0]
[null,null,null,null,null,null,null,null,null,null,null,null,0]
[null,null,null,null,null,null,null,null,null,null,null,null,0]
[null,null,null,null,null,null,null,null,null,null,null,null,0]
[null,null,null,null,null,null,null,null,null,null,null,null,0]
[null,null,null,null,null,null,null,null,null,null,null,null,0]
[null,null,null,null,null,null,null,null,null,null,null,null,0]
[null,null,null,null,null,null,null,null,null,null,null,null,0]
[null,null,null,null,null,null,null,null,null,null,null,null,0]
[null,null,null,null,null,null,null,null,null,null,null,null,0]
[null,null,null,null,null,null,null,null,null,null,null,null,0]
[null,null,null,null,null,null,null,null,null,null,null,null,0]
[null,null,null,null,null,null,null,null,null,null,null,null,0]
[null,null,null,null,null,null,null,null,null,null,null,null,0]
[null,null,null,null,null,null,null,null,null,null,null,null,0]
[null,null,null,null,null,null,null,null,null,null,null,null,0]
[null,null,null,null,null,null,null,null,null,null,null,null,0]
[null,null,null,null,null,null,null,null,null,null,null,null,0]
[null,null,null,null,null,null,null,null,null,null,null,null,0]
[null,null,null,null,null,null,null,null,null,null,null,null,0]
[null,null,null,null,null,null,null,null,null,null,null,null,0]
[null,null,null,null,null,null,null,null,null,null,null,null,0]
[null,null,null,null,null,null,null,null,null,null,null,null,0]
[null,null,null,null,null,null,null,null,null,null,null,null,0]
[null,null,null,null,null,null,null,null,null,null,null,null,0]
[null,null,null,null,null,null,null,null,null,null,null,null,0]
[null,null,null,null,null,null,null,null,null,null,null,null,0]
[null,null,null,null,null,null,null,null,null,null,null,null,0]
[null,null,null,null,null,null,null,null,null,null,null,null,0]
[null,null,null,null,null,null,null,null,null,null,null,null,0]
[null,null,null,null,null,null,null,null,null,null,null,null,0]
[null,null,null,null,null,null,null,null,null,null,null,null,0]
[null,null,null,null,null,null,null,null,null,null,null,null,0]
[null,null,null,null,null,null,null,null,null,null,null,null,0]
[null,null,null,null,null,null,null,null,null,null,null,null,0]
[null,null,null,null,null,null,null,null,null,null,null,null,0]
[null,null,null,null,null,null,null,null,null,null,null,null,0]
[null,null,null,null,null,null,null,null,null,null,null,null,0]
[null,null,null,null,null,null,null,null,null,null,null,null,0]
[null,null,null,null,null,null,null,null,null,null,null,null,0]
[null,null,null,null,null,null,null,null,null,null,null,null,0]
[null,null,null,null,null,null,null,null,null,null,null,null,0]
[null,null,null,null,null,null,null,null,null,null,null,null,0]
[null,null,null,null,null,null,null,null,null,null,null,null,0]
[null,null,null,null,null,null,null,null,null,null,null,null,0]
[null,null,null,null,null,null,null,null,null,null,null,null,0]
[null,null,null,null,null,null,null,null,null,null,null,null,0]
[null,null,null,null,null,null,null,null,null,null,null,null,0]
[null,null,null,null,null,null,null,null,null,null,null,null,0]
[null,null,null,null,null,null,null,null,null,null,null,null,0]
[null,null,null,null,null,null,null,null,null,null,null,null,0]
[null,null,null,null,null,null,null,null,null,null,null,null,0]
[null,null,null,null,null,null,null,null,null,null,null,null,0]
[null,null,null,null,null,null,null,null,null,null,null,null,0]
[null,null,null,null,null,null,null,null,null,null,null,null,0]
[null,null,null,null,null,null,null,null,null,null,null,null,0]
[null,null,null,null,null,null,null,null,null,null,null,null,0]
[null,null,null,null,null,null,null,null,null,null,null,null,0]
[null,null,null,null,null,null,null,null,null,null,null,null,0]
[null,null,null,null,null,null,null,null,null,null,null,null,0]
[null,null,null,null,null,null,null,null,null,null,null,null,0]
[null,null,null,null,null,null,null,null,null,null,null,null,0]
[null,null,null,null,null,null,null,null,null,null,null,null,0]
[null,null,null,null,null,null,null,null,null,null,null,null,0]
[null,null,null,null,null,null,null,null,null,null,null,null,0]
[null,null,null,null,null,null,null,null,null,null,null,null,0]
[null,null,null,null,null,null,null,null,null,null,null,null,0]
[null,null,null,null,null,null,null,null,null,null,null,null,0]
[null,null,null,null,null,null,null,null,null,null,null,null,0]
[null,null,null,null,null,null,null,null,null,null,null,null,0]
[null,null,null,null,null,null,null,null,null,null,null,null,0]
[null,null,null,null,null,null,null,null,null,null,null,null,0]
[null,null,null,null,null,null,null,null,null,null,null,null,0]
[null,null,null,null,null,null,null,null,null,null,null,null,0]
[null,null,null,null,null,null,null,null,null,null,null,null,0]
[null,null,null,null,null,null,null,null,null,null,null,null,0]
[null,null,null,null,null,null,null,null,null,null,null,null,0]
[null,null,null,null,null,null,null,null,null,null,null,null,0]
[null,null,null,null,null,null,null,null,null,null,null,null,0]
[null,null,null,null,null,null,null,null,null,null,null,null,0]
[null,null,null,null,null,null,null,null,null,null,null,null,0]
[null,null,null,null,null,null,null,null,null,null,null,null,0]
[null,null,null,null,null,null,null,null,null,null,null,null,0]
[null,null,null,null,null,null,null,null,null,null,null,null,0]
[null,null,null,null,null,null,null,null,null,null,null,null,0]
[null,null,null,null,null,null,null,null,null,null,null,null,0]
[null,null,null,null,null,null,null,null,null,null,null,null,0]
[null,null,null,null,null,null,null,null,null,null,null,null,0]
[null,null,null,null,null,null,null,null,null,null,null,null,0]
[null,null,null,null,null,null,null,null,null,null,null,null,0]
[null,null,null,null,null,null,null,null,null,null,null,null,0]
[null,null,null,null,null,null,null,null,null,null,null,null,0]
[null,null,null,null,null,null,null,null,null,null,null,null,0]
[null,null,null,null,null,null,null,null,null,null,null,null,0]
[null,null,null,null,null,null,null,null,null,null,null,null,0]
[null,null,null,null,null,null,null,null,null,null,null,null,0]
[null,null,null,null,null,null,null,null,null,null,null,null,0]
[null,null,null,null,null,null,null,null,null,null,null,null,0]
[null,null,null,null,null,null,null,null,null,null,null,null,0]
[null,null,null,null,null,null,null,null,null,null,null,null,0]
[null,null,null,null,null,null,null,null,null,null,null,null,0]
[null,null,null,null,null,null,null,null,null,null,null,null,0]
[null,null,null,null,null,null,null,null,null,null,null,null,0]
[null,null,null,null,null,null,null,null,null,null,null,null,0]
[null,null,null,null,null,null,null,null,null,null,null,null,0]
[null,null,null,null,null,null,null,null,null,null,null,null,0]
[null,null,null,null,null,null,null,null,null,null,null,null,0]
[null,null,null,null,null,null,null,null,null,null,null,null,0]
[null,null,null,null,null,null,null,null,null,null,null,null,0]
[null,null,null,null,null,null,null,null,null,null,null,null,0]
[null,null,null,null,null,null,null,null,null,null,null,null,0]
[null,null,null,null,null,null,null,null,null,null,null,null,0]
[null,null,null,null,null,null,null,null,null,null,null,null,0]
[null,null,null,null,null,null,null,null,null,null,null,null,0]
[null,null,null,null,null,null,null,null,null,null,null,null,0]
[null,null,null,null,null,null,null,null,null,null,null,null,0]
[null,null,null,null,null,null,null,null,null,null,null,null,0]
[null,null,null,null,null,null,null,null,null,null,null,null,0]
[null,null,null,null,null,null,null,null,null,null,null,null,0]
[null,null,null,null,null,null,null,null,null,null,null,null,0]
[null,null,null,null,null,null,null,null,null,null,null,null,0]
[null,null,null,null,null,null,null,null,null,null,null,null,0]
[null,null,null,null,null,null,null,null,null,null,null,null,0]
[null,null,null,null,null,null,null,null,null,null,null,null,0]
[null,null,null,null,null,null,null,null,null,null,null,null,0]
[null,null,null,null,null,null,null,null,null,null,null,null,0]
[null,null,null,null,null,null,null,null,null,null,null,null,0]
[null,null,null,null,null,null,null,null,null,null,null,null,0]
[null,null,null,null,null,null,null,null,null,null,null,null,0]
[null,null,null,null,null,null,null,null,null,null,null,null,0]
[null,null,null,null,null,null,null,null,null,null,null,null,0]
[null,null,null,null,null,null,null,null,null,null,null,null,0]
[null,null,null,null,null,null,null,null,null,null,null,null,0]
[null,null,null,null,null,null,null,null,null,null,null,null,0]
[null,null,null,null,null,null,null,null,null,null,null,null,0]
[null,null,null,null,null,null,null,null,null,null,null,null,0]
[null,null,null,null,null,null,null,null,null,null,null,null,0]
[null,null,null,null,null,null,null,null,null,null,null,null,0]
[null,null,null,null,null,null,null,null,null,null,null,null,0]
[null,null,null,null,null,null,null,null,null,null,null,null,0]
[null,null,null,null,null,null,null,null,null,null,null,null,0]
[null,null,null,null,null,null,null,null,null,null,null,null,0]
[null,null,null,null,null,null,null,null,null,null,null,null,0]
[null,null,null,null,null,null,null,null,null,null,null,null,0]
[null,null,null,null,null,null,null,null,null,null,null,null,0]
[null,null,null,null,null,null,null,null,null,null,null,null,0]
[null,null,null,null,null,null,null,null,null,null,null,null,0]
[null,null,null,null,null,null,null,null,null,null,null,null,0]
[null,null,null,null,null,null,null,null,null,null,null,null,0]
[null,null,null,null,null,null,null,null,null,null,null,null,0]
[null,null,null,null,null,null,null,null,null,null,null,null,0]
[null,null,null,null,null,null,null,null,null,null,null,null,0]
[null,null,null,null,null,null,null,null,null,null,null,null,0]
[null,null,null,null,null,null,null,null,null,null,null,null,0]
[null,null,null,null,null,null,null,null,null,null,null,null,0]
[null,null,null,null,null,null,null,null,null,null,null,null,0]
[null,null,null,null,null,null,null,null,null,null,null,null,0]
[null,null,null,null,null,null,null,null,null,null,null,null,0]
[null,null,null,null,null,null,null,null,null,null,null,null,0]
[null,null,null,null,null,null,null,null,null,null,null,null,0]
[null,null,null,null,null,null,null,null,null,null,null,null,0]
[null,null,null,null,null,null,null,null,null,null,null,null,0]
[null,null,null,null,null,null,null,null,null,null,null,null,0]
[null,null,null,null,null,null,null,null,null,null,null,null,0]
[null,null,null,null,null,null,null,null,null,null,null,null,0]
[null,null,null,null,null,null,null,null,null,null,null,null,0]
[null,null,null,null,null,null,null,null,null,null,null,null,0]
[null,null,null,null,null,null,null,null,null,null,null,null,0]
[null,null,null,null,null,null,null,null,null,null,null,null,0]
[null,null,null,null,null,null,null,null,null,null,null,null,0]
[null,null,null,null,null,null,null,null,null,null,null,null,0]
[null,null,null,null,null,null,null,null,null,null,null,null,0]
[null,null,null,null,null,null,null,null,null,null,null,null,0]
[null,null,null,null,null,null,null,null,null,null,null,null,0]
[null,null,null,null,null,null,null,null,null,null,null,null,0]
[null,null,null,null,null,null,null,null,null,null,null,null,0]
[null,null,null,null,null,null,null,null,null,null,null,null,0]
[null,null,null,null,null,null,null,null,null,null,null,null,0]
[null,null,null,null,null,null,null,null,null,null,null,null,0]
[null,null,null,null,null,null,null,null,null,null,null,null,0]
[null,null,null,null,null,null,null,null,null,null,null,null,0]
[null,null,null,null,null,null,null,null,null,null,null,null,0]
[null,null,null,null,null,null,null,null,null,null,null,null,0]
[null,null,null,null,null,null,null,null,null,null,null,null,0]
[null,null,null,null,null,null,null,null,null,null,null,null,0]
[null,null,null,null,null,null,null,null,null,null,null,null,0]
[null,null,null,null,null,null,null,null,null,null,null,null,0]
[null,null,null,null,null,null,null,null,null,null,null,null,0]
[null,null,null,null,null,null,null,null,null,null,null,null,0]
[null,null,null,null,null,null,null,null,null,null,null,null,0]
[null,null,null,null,null,null,null,null,null,null,null,null,0]
[null,null,null,null,null,null,null,null,null,null,null,null,0]
[null,null,null,null,null,null,null,null,null,null,null,null,0]
[null,null,null,null,null,null,null,null,null,null,null,null,0]
[null,null,null,null,null,null,null,null,null,null,null,null,0]
[null,null,null,null,null,null,null,null,null,null,null,null,0]
[null,null,null,null,null,null,null,null,null,null,null,null,0]
[null,null,null,null,null,null,null,null,null,null,null,null,0]
[null,null,null,null,null,null,null,null,null,null,null,null,0]
[null,null,null,null,null,null,null,null,null,null,null,null,0]
[null,null,null,null,null,null,null,null,null,null,null,null,0]
[null,null,null,null,null,null,null,null,null,null,null,null,0]
[null,null,null,null,null,null,null,null,null,null,null,null,0]
[null,null,null,null,null,null,null,null,null,null,null,null,0]
[null,null,null,null,null,null,null,null,null,null,null,null,0]
[null,null,null,null,null,null,null,null,null,null,null,null,0]
[null,null,null,null,null,null,null,null,null,null,null,null,0]
[null,null,null,null,null,null,null,null,null,null,null,null,0]
[null,null,null,null,null,null,null,null,null,null,null,null,0]
[null,null,null,null,null,null,null,null,null,null,null,null,0]
[null,null,null,null,null,null,null,null,null,null,null,null,0]
[null,null,null,null,null,null,null,null,null,null,null,null,0]
[null,null,null,null,null,null,null,null,null,null,null,null,0]
[null,null,null,null,null,null,null,null,null,null,null,null,0]
[null,null,null,null,null,null,null,null,null,null,null,null,0]
[null,null,null,null,null,null,null,null,null,null,null,null,0]
[null,null,null,null,null,null,null,null,null,null,null,null,0]
[null,null,null,null,null,null,null,null,null,null,null,null,0]
[null,null,null,null,null,null,null,null,null,null,null,null,0]
[null,null,null,null,null,null,null,null,null,null,null,null,0]
[null,null,null,null,null,null,null,null,null,null,null,null,0]
[null,null,null,null,null,null,null,null,null,null,null,null,0]
[null,null,null,null,null,null,null,null,null,null,null,null,0]
[null,null,null,null,null,null,null,null,null,null,null,null,0]
[null,null,null,null,null,null,null,null,null,null,null,null,0]
[null,null,null,null,null,null,null,null,null,null,null,null,0]
[null,null,null,null,null,null,null,null,null,null,null,null,0]
[null,null,null,null,null,null,null,null,null,null,null,null,0]
[null,null,null,null,null,null,null,null,null,null,null,null,0]
[null,null,null,null,null,null,null,null,null,null,null,null,0]
[null,null,null,null,null,null,null,null,null,null,null,null,0]
[null,null,null,null,null,null,null,null,null,null,null,null,0]
[null,null,null,null,null,null,null,null,null,null,null,null,0]
[null,null,null,null,null,null,null,null,null,null,null,null,0]
[null,null,null,null,null,null,null,null,null,null,null,null,0]
[null,null,null,null,null,null,null,null,null,null,null,null,0]
[null,null,null,null,null,null,null,null,null,null,null,null,0]
[null,null,null,null,null,null,null,null,null,null,null,null,0]
[null,null,null,null,null,null,null,null,null,null,null,null,0]
[null,null,null,null,null,null,null,null,null,null,null,null,0]
[null,null,null,null,null,null,null,null,null,null,null,null,0]
[null,null,null,null,null,null,null,null,null,null,null,null,0]
[null,null,null,null,null,null,null,null,null,null,null,null,0]
[null,null,null,null,null,null,null,null,null,null,null,null,0]
[null,null,null,null,null,null,null,null,null,null,null,null,0]
[null,null,null,null,null,null,null,null,null,null,null,null,0]
[null,null,null,null,null,null,null,null,null,null,null,null,0]
[null,null,null,null,null,null,null,null,null,null,null,null,0]
[null,null,null,null,null,null,null,null,null,null,null,null,0]
[null,null,null,null,null,null,null,null,null,null,null,null,0]
[null,null,null,null,null,null,null,null,null,null,null,null,0]
[null,null,null,null,null,null,null,null,null,null,null,null,0]
[null,null,null,null,null,null,null,null,null,null,null,null,0]
[null,null,null,null,null,null,null,null,null,null,null,null,0]
[null,null,null,null,null,null,null,null,null,null,null,null,0]
[null,null,null,null,null,null,null,null,null,null,null,null,0]
[null,null,null,null,null,null,null,null,null,null,null,null,0]
[null,null,null,null,null,null,null,null,null,null,null,null,0]
[null,null,null,null,null,null,null,null,null,null,null,null,0]
[null,null,null,null,null,null,null,null,null,null,null,null,0]
[null,null,null,null,null,null,null,null,null,null,null,null,0]
[null,null,null,null,null,null,null,null,null,null,null,null,0]
[null,null,null,null,null,null,null,null,null,null,null,null,0]
[null,null,null,null,null,null,null,null,null,null,null,null,0]
[null,null,null,null,null,null,null,null,null,null,null,null,0]
[null,null,null,null,null,null,null,null,null,null,null,null,0]
[null,null,null,null,null,null,null,null,null,null,null,null,0]
[null,null,null,null,null,null,null,null,null,null,null,null,0]
[null,null,null,null,null,null,null,null,null,null,null,null,0]
[null,null,null,null,null,null,null,null,null,null,null,null,0]
[null,null,null,null,null,null,null,null,null,null,null,null,0]
[null,null,null,null,null,null,null,null,null,null,null,null,0]
[null,null,null,null,null,null,null,null,null,null,null,null,0]
[null,null,null,null,null,null,null,null,null,null,null,null,0]
[null,null,null,null,null,null,null,null,null,null,null,null,0]
[null,null,null,null,null,null,null,null,null,null,null,null,0]
[null,null,null,null,null,null,null,null,null,null,null,null,0]
[null,null,null,null,null,null,null,null,null,null,null,null,0]
[null,null,null,null,null,null,null,null,null,null,null,null,0]
[null,null,null,null,null,null,null,null,null,null,null,null,0]
[null,null,null,null,null,null,null,null,null,null,null,null,0]
[null,null,null,null,null,null,null,null,null,null,null,null,0]
[null,null,null,null,null,null,null,null,null,null,null,null,0]
[null,null,null,null,null,null,null,null,null,null,null,null,0]
[null,null,null,null,null,null,null,null,null,null,null,null,0]
[null,null,null,null,null,null,null,null,null,null,null,null,0]
[null,null,null,null,null,null,null,null,null,null,null,null,0]
[null,null,null,null,null,null,null,null,null,null,null,null,0]
[null,null,null,null,null,null,null,null,null,null,null,null,0]
[null,null,null,null,null,null,null,null,null,null,null,null,0]
[null,null,null,null,null,null,null,null,null,null,null,null,0]
[null,null,null,null,null,null,null,null,null,null,null,null,0]
[null,null,null,null,null,null,null,null,null,null,null,null,0]
[null,null,null,null,null,null,null,null,null,null,null,null,0]
[null,null,null,null,null,null,null,null,null,null,null,null,0]
[null,null,null,null,null,null,null,null,null,null,null,null,0]
[null,null,null,null,null,null,null,null,null,null,null,null,0]
[null,null,null,null,null,null,null,null,null,null,null,null,0]
[null,null,null,null,null,null,null,null,null,null,null,null,0]
[null,null,null,null,null,null,null,null,null,null,null,null,0]
[null,null,null,null,null,null,null,null,null,null,null,null,0]
[null,null,null,null,null,null,null,null,null,null,null,null,0]
[null,null,null,null,null,null,null,null,null,null,null,null,0]
[null,null,null,null,null,null,null,null,null,null,null,null,0]
[null,null,null,null,null,null,null,null,null,null,null,null,0]
[null,null,null,null,null,null,null,null,null,null,null,null,0]
[null,null,null,null,null,null,null,null,null,null,null,null,0]
[null,null,null,null,null,null,null,null,null,null,null,null,0]
[null,null,null,null,null,null,null,null,null,null,null,null,0]
[null,null,null,null,null,null,null,null,null,null,null,null,0]
[null,null,null,null,null,null,null,null,null,null,null,null,0]
[null,null,null,null,null,null,null,null,null,null,null,null,0]
[null,null,null,null,null,null,null,null,null,null,null,null,0]
[null,null,null,null,null,null,null,null,null,null,null,null,0]
[null,null,null,null,null,null,null,null,null,null,null,null,0]
[null,null,null,null,null,null,null,null,null,null,null,null,0]
[null,null,null,null,null,null,null,null,null,null,null,null,0]
[null,null,null,null,null,null,null,null,null,null,null,null,0]
[null,null,null,null,null,null,null,null,null,null,null,null,0]
[null,null,null,null,null,null,null,null,null,null,null,null,0]
[null,null,null,null,null,null,null,null,null,null,null,null,0]
[null,null,null,null,null,null,null,null,null,null,null,null,0]
[null,null,null,null,null,null,null,null,null,null,null,null,0]
[null,null,null,null,null,null,null,null,null,null,null,null,0]
[null,null,null,null,null,null,null,null,null,null,null,null,0]
[null,null,null,null,null,null,null,null,null,null,null,null,0]
[null,null,null,null,null,null,null,null,null,null,null,null,0]
[null,null,null,null,null,null,null,null,null,null,null,null,0]
[null,null,null,null,null,null,null,null,null,null,null,null,0]
[null,null,null,null,null,null,null,null,null,null,null,null,0]
[null,null,null,null,null,null,null,null,null,null,null,null,0]
[null,null,null,null,null,null,null,null,null,null,null,null,0]
[null,null,null,null,null,null,null,null,null,null,null,null,0]
[null,null,null,null,null,null,null,null,null,null,null,null,0]
[null,null,null,null,null,null,null,null,null,null,null,null,0]
[null,null,null,null,null,null,null,null,null,null,null,null,0]
[null,null,null,null,null,null,null,null,null,null,null,null,0]
[null,null,null,null,null,null,null,null,null,null,null,null,0]
[null,null,null,null,null,null,null,null,null,null,null,null,0]
[null,null,null,null,null,null,null,null,null,null,null,null,0]
[null,null,null,null,null,null,null,null,null,null,null,null,0]
[null,null,null,null,null,null,null,null,null,null,null,null,0]
[null,null,null,null,null,null,null,null,null,null,null,null,0]
[null,null,null,null,null,null,null,null,null,null,null,null,0]
[null,null,null,null,null,null,null,null,null,null,null,null,0]
[null,null,null,null,null,null,null,null,null,null,null,null,0]
[null,null,null,null,null,null,null,null,null,null,null,null,0]
[null,null,null,null,null,null,null,null,null,null,null,null,0]
[null,null,null,null,null,null,null,null,null,null,null,null,0]
[null,null,null,null,null,null,null,null,null,null,null,null,0]
[null,null,null,null,null,null,null,null,null,null,null,null,0]
[null,null,null,null,null,null,null,null,null,null,null,null,0]
[null,null,null,null,null,null,null,null,null,null,null,null,0]
[null,null,null,null,null,null,null,null,null,null,null,null,0]
[null,null,null,null,null,null,null,null,null,null,null,null,0]
[null,null,null,null,null,null,null,null,null,null,null,null,0]
[null,null,null,null,null,null,null,null,null,null,null,null,0]
[null,null,null,null,null,null,null,null,null,null,null,null,0]
[null,null,null,null,null,null,null,null,null,null,null,null,0]
[null,null,null,null,null,null,null,null,null,null,null,null,0]
[null,null,null,null,null,null,null,null,null,null,null,null,0]
[null,null,null,null,null,null,null,null,null,null,null,null,0]
[null,null,null,null,null,null,null,null,null,null,null,null,0]
[null,null,null,null,null,null,null,null,null,null,null,null,0]
[null,null,null,null,null,null,null,null,null,null,null,null,0]
[null,null,null,null,null,null,null,null,null,null,null,null,0]
[null,null,null,null,null,null,null,null,null,null,null,null,0]
[null,null,null,null,null,null,null,null,null,null,null,null,0]
[null,null,null,null,null,null,null,null,null,null,null,null,0]
[null,null,null,null,null,null,null,null,null,null,null,null,0]
[null,null,null,null,null,null,null,null,null,null,null,null,0]
[null,null,null,null,null,null,null,null,null,null,null,null,0]
[null,null,null,null,null,null,null,null,null,null,null,null,0]
[null,null,null,null,null,null,null,null,null,null,null,null,0]
[null,null,null,null,null,null,null,null,null,null,null,null,0]
[null,null,null,null,null,null,null,null,null,null,null,null,0]
[null,null,null,null,null,null,null,null,null,null,null,null,0]
[null,null,null,null,null,null,null,null,null,null,null,null,0]
[null,null,null,null,null,null,null,null,null,null,null,null,0]
[null,null,null,null,null,null,null,null,null,null,null,null,0]
[null,null,null,null,null,null,null,null,null,null,null,null,0]
[null,null,null,null,null,null,null,null,null,null,null,null,0]
[null,null,null,null,null,null,null,null,null,null,null,null,0]
[null,null,null,null,null,null,null,null,null,null,null,null,0]
[null,null,null,null,null,null,null,null,null,null,null,null,0]
[null,null,null,null,null,null,null,null,null,null,null,null,0]
[null,null,null,null,null,null,null,null,null,null,null,null,0]
[null,null,null,null,null,null,null,null,null,null,null,null,0]
[null,null,null,null,null,null,null,null,null,null,null,null,0]
[null,null,null,null,null,null,null,null,null,null,null,null,0]
[null,null,null,null,null,null,null,null,null,null,null,null,0]
[null,null,null,null,null,null,null,null,null,null,null,null,0]
[null,null,null,null,null,null,null,null,null,null,null,null,0]
[null,null,null,null,null,null,null,null,null,null,null,null,0]
[null,null,null,null,null,null,null,null,null,null,null,null,0]
[null,null,null,null,null,null,null,null,null,null,null,null,0]
[null,null,null,null,null,null,null,null,null,null,null,null,0]
[null,null,null,null,null,null,null,null,null,null,null,null,0]
[null,null,null,null,null,null,null,null,null,null,null,null,0]
[null,null,null,null,null,null,null,null,null,null,null,null,0]
[null,null,null,null,null,null,null,null,null,null,null,null,0]
[null,null,null,null,null,null,null,null,null,null,null,null,0]
[null,null,null,null,null,null,null,null,null,null,null,null,0]
[null,null,null,null,null,null,null,null,null,null,null,null,0]
[null,null,null,null,null,null,null,null,null,null,null,null,0]
[null,null,null,null,null,null,null,null,null,null,null,null,0]
[null,null,null,null,null,null,null,null,null,null,null,null,0]
[null,null,null,null,null,null,null,null,null,null,null,null,0]
[null,null,null,null,null,null,null,null,null,null,null,null,0]
[null,null,null,null,null,null,null,null,null,null,null,null,0]
[null,null,null,null,null,null,null,null,null,null,null,null,0]
[null,null,null,null,null,null,null,null,null,null,null,null,0]
[null,null,null,null,null,null,null,null,null,null,null,null,0]
[null,null,null,null,null,null,null,null,null,null,null,null,0]
[null,null,null,null,null,null,null,null,null,null,null,null,0]
[null,null,null,null,null,null,null,null,null,null,null,null,0]
[null,null,null,null,null,null,null,null,null,null,null,null,0]
[null,null,null,null,null,null,null,null,null,null,null,null,0]
[null,null,null,null,null,null,null,null,null,null,null,null,0]
[null,null,null,null,null,null,null,null,null,null,null,null,0]
[null,null,null,null,null,null,null,null,null,null,null,null,0]
[null,null,null,null,null,null,null,null,null,null,null,null,0]
[null,null,null,null,null,null,null,null,null,null,null,null,0]
[null,null,null,null,null,null,null,null,null,null,null,null,0]
[null,null,null,null,null,null,null,null,null,null,null,null,0]
[null,null,null,null,null,null,null,null,null,null,null,null,0]
[null,null,null,null,null,null,null,null,null,null,null,null,0]
[null,null,null,null,null,null,null,null,null,null,null,null,0]
[null,null,null,null,null,null,null,null,null,null,null,null,0]
[null,null,null,null,null,null,null,null,null,null,null,null,0]
[null,null,null,null,null,null,null,null,null,null,null,null,0]
[null,null,null,null,null,null,null,null,null,null,null,null,0]
[null,null,null,null,null,null,null,null,null,null,null,null,0]
[null,null,null,null,null,null,null,null,null,null,null,null,0]
[null,null,null,null,null,null,null,null,null,null,null,null,0]
[null,null,null,null,null,null,null,null,null,null,null,null,0]
[null,null,null,null,null,null,null,null,null,null,null,null,0]
[null,null,null,null,null,null,null,null,null,null,null,null,0]
[null,null,null,null,null,null,null,null,null,null,null,null,0]
[null,null,null,null,null,null,null,null,null,null,null,null,0]
[null,null,null,null,null,null,null,null,null,null,null,null,0]
[null,null,null,null,null,null,null,null,null,null,null,null,0]
[null,null,null,null,null,null,null,null,null,null,null,null,0]
[null,null,null,null,null,null,null,null,null,null,null,null,0]
[null,null,null,null,null,null,null,null,null,null,null,null,0]
[null,null,null,null,null,null,null,null,null,null,null,null,0]
[null,null,null,null,null,null,null,null,null,null,null,null,0]
[null,null,null,null,null,null,null,null,null,null,null,null,0]
[null,null,null,null,null,null,null,null,null,null,null,null,0]
[null,null,null,null,null,null,null,null,null,null,null,null,0]
[null,null,null,null,null,null,null,null,null,null,null,null,0]
[null,null,null,null,null,null,null,null,null,null,null,null,0]
[null,null,null,null,null,null,null,null,null,null,null,null,0]
[null,null,null,null,null,null,null,null,null,null,null,null,0]
[null,null,null,null,null,null,null,null,null,null,null,null,0]
[null,null,null,null,null,null,null,null,null,null,null,null,0]
[null,null,null,null,null,null,null,null,null,null,null,null,0]
[null,null,null,null,null,null,null,null,null,null,null,null,0]
[null,null,null,null,null,null,null,null,null,null,null,null,0]
[null,null,null,null,null,null,null,null,null,null,null,null,0]
[null,null,null,null,null,null,null,null,null,null,null,null,0]
[null,null,null,null,null,null,null,null,null,null,null,null,0]
[null,null,null,null,null,null,null,null,null,null,null,null,0]
[null,null,null,null,null,null,null,null,null,null,null,null,0]
[null,null,null,null,null,null,null,null,null,null,null,null,0]
[null,null,null,null,null,null,null,null,null,null,null,null,0]
[null,null,null,null,null,null,null,null,null,null,null,null,0]
[null,null,null,null,null,null,null,null,null,null,null,null,0]
[null,null,null,null,null,null,null,null,null,null,null,null,0]
[null,null,null,null,null,null,null,null,null,null,null,null,0]
[null,null,null,null,null,null,null,null,null,null,null,null,0]
[null,null,null,null,null,null,null,null,null,null,null,null,0]
[null,null,null,null,null,null,null,null,null,null,null,null,0]
[null,null,null,null,null,null,null,null,null,null,null,null,0]
[null,null,null,null,null,null,null,null,null,null,null,null,0]
[null,null,null,null,null,null,null,null,null,null,null,null,0]
[null,null,null,null,null,null,null,null,null,null,null,null,0]
[null,null,null,null,null,null,null,null,null,null,null,null,0]
[null,null,null,null,null,null,null,null,null,null,null,null,0]
[null,null,null,null,null,null,null,null,null,null,null,null,0]
[null,null,null,null,null,null,null,null,null,null,null,null,0]
[null,null,null,null,null,null,null,null,null,null,null,null,0]
[null,null,null,null,null,null,null,null,null,null,null,null,0]
[null,null,null,null,null,null,null,null,null,null,null,null,0]
[null,null,null,null,null,null,null,null,null,null,null,null,0]
[null,null,null,null,null,null,null,null,null,null,null,null,0]
[null,null,null,null,null,null,null,null,null,null,null,null,0]
[null,null,null,null,null,null,null,null,null,null,null,null,0]
[null,null,null,null,null,null,null,null,null,null,null,null,0]
[null,null,null,null,null,null,null,null,null,null,null,null,0]
[null,null,null,null,null,null,null,null,null,null,null,null,0]
[null,null,null,null,null,null,null,null,null,null,null,null,0]
[null,null,null,null,null,null,null,null,null,null,null,null,0]
[null,null,null,null,null,null,null,null,null,null,null,null,0]
[null,null,null,null,null,null,null,null,null,null,null,null,0]
[null,null,null,null,null,null,null,null,null,null,null,null,0]
[null,null,null,null,null,null,null,null,null,null,null,null,0]
[null,null,null,null,null,null,null,null,null,null,null,null,0]
[null,null,null,null,null,null,null,null,null,null,null,null,0]
[null,null,null,null,null,null,null,null,null,null,null,null,0]
[null,null,null,null,null,null,null,null,null,null,null,null,0]
[null,null,null,null,null,null,null,null,null,null,null,null,0]
[null,null,null,null,null,null,null,null,null,null,null,null,0]
[null,null,null,null,null,null,null,null,null,null,null,null,0]
[null,null,null,null,null,null,null,null,null,null,null,null,0]
[null,null,null,null,null,null,null,null,null,null,null,null,0]
[null,null,null,null,null,null,null,null,null,null,null,null,0]
[null,null,null,null,null,null,null,null,null,null,null,null,0]
[null,null,null,null,null,null,null,null,null,null,null,null,0]
[null,null,null,null,null,null,null,null,null,null,null,null,0]
[null,null,null,null,null,null,null,null,null,null,null,null,0]
[null,null,null,null,null,null,null,null,null,null,null,null,0]
[null,null,null,null,null,null,null,null,null,null,null,null,0]
[null,null,null,null,null,null,null,null,null,null,null,null,0]
[null,null,null,null,null,null,null,null,null,null,null,null,0]
[null,null,null,null,null,null,null,null,null,null,null,null,0]
[null,null,null,null,null,null,null,null,null,null,null,null,0]
[null,null,null,null,null,null,null,null,null,null,null,null,0]
[null,null,null,null,null,null,null,null,null,null,null,null,0]
[null,null,null,null,null,null,null,null,null,null,null,null,0]
[null,null,null,null,null,null,null,null,null,null,null,null,0]
[null,null,null,null,null,null,null,null,null,null,null,null,0]
[null,null,null,null,null,null,null,null,null,null,null,null,0]
[null,null,null,null,null,null,null,null,null,null,null,null,0]
[null,null,null,null,null,null,null,null,null,null,null,null,0]
[null,null,null,null,null,null,null,null,null,null,null,null,0]
[null,null,null,null,null,null,null,null,null,null,null,null,0]
[null,null,null,null,null,null,null,null,null,null,null,null,0]
[null,null,null,null,null,null,null,null,null,null,null,null,0]
[null,null,null,null,null,null,null,null,null,null,null,null,0]
[null,null,null,null,null,null,null,null,null,null,null,null,0]
[null,null,null,null,null,null,null,null,null,null,null,null,0]
[null,null,null,null,null,null,null,null,null,null,null,null,0]
[null,null,null,null,null,null,null,null,null,null,null,null,0]
[null,null,null,null,null,null,null,null,null,null,null,null,0]
[null,null,null,null,null,null,null,null,null,null,null,null,0]
[null,null,null,null,null,null,null,null,null,null,null,null,0]
[null,null,null,null,null,null,null,null,null,null,null,null,0]
[null,null,null,null,null,null,null,null,null,null,null,null,0]
[null,null,null,null,null,null,null,null,null,null,null,null,0]
[null,null,null,null,null,null,null,null,null,null,null,null,0]
[null,null,null,null,null,null,null,null,null,null,null,null,0]
[null,null,null,null,null,null,null,null,null,null,null,null,0]
[null,null,null,null,null,null,null,null,null,null,null,null,0]
[null,null,null,null,null,null,null,null,null,null,null,null,0]
[null,null,null,null,null,null,null,null,null,null,null,null,0]
[null,null,null,null,null,null,null,null,null,null,null,null,0]
[null,null,null,null,null,null,null,null,null,null,null,null,0]
[null,null,null,null,null,null,null,null,null,null,null,null,0]
[null,null,null,null,null,null,null,null,null,null,null,null,0]
[null,null,null,null,null,null,null,null,null,null,null,null,0]
[null,null,null,null,null,null,null,null,null,null,null,null,0]
[null,null,null,null,null,null,null,null,null,null,null,null,0]
[null,null,null,null,null,null,null,null,null,null,null,null,0]
[null,null,null,null,null,null,null,null,null,null,null,null,0]
[null,null,null,null,null,null,null,null,null,null,null,null,0]
[null,null,null,null,null,null,null,null,null,null,null,null,0]
[null,null,null,null,null,null,null,null,null,null,null,null,0]
[null,null,null,null,null,null,null,null,null,null,null,null,0]
[null,null,null,null,null,null,null,null,null,null,null,null,0]
[null,null,null,null,null,null,null,null,null,null,null,null,0]
[null,null,null,null,null,null,null,null,null,null,null,null,0]
[null,null,null,null,null,null,null,null,null,null,null,null,0]
[null,null,null,null,null,null,null,null,null,null,null,null,0]
[null,null,null,null,null,null,null,null,null,null,null,null,0]
[null,null,null,null,null,null,null,null,null,null,null,null,0]
[null,null,null,null,null,null,null,null,null,null,null,null,0]
[null,null,null,null,null,null,null,null,null,null,null,null,0]
[null,null,null,null,null,null,null,null,null,null,null,null,0]
[null,null,null,null,null,null,null,null,null,null,null,null,0]
[null,null,null,null,null,null,null,null,null,null,null,null,0]
[null,null,null,null,null,null,null,null,null,null,null,null,0]
[null,null,null,null,null,null,null,null,null,null,null,null,0]
[null,null,null,null,null,null,null,null,null,null,null,null,0]
[null,null,null,null,null,null,null,null,null,null,null,null,0]
[null,null,null,null,null,null,null,null,null,null,null,null,0]
[null,null,null,null,null,null,null,null,null,null,null,null,0]
[null,null,null,null,null,null,null,null,null,null,null,null,0]
[null,null,null,null,null,null,null,null,null,null,null,null,0]
[null,null,null,null,null,null,null,null,null,null,null,null,0]
[null,null,null,null,null,null,null,null,null,null,null,null,0]
[null,null,null,null,null,null,null,null,null,null,null,null,0]
[null,null,null,null,null,null,null,null,null,null,null,null,0]
[null,null,null,null,null,null,null,null,null,null,null,null,0]
[null,null,null,null,null,null,null,null,null,null,null,null,0]
[null,null,null,null,null,null,null,null,null,null,null,null,0]
[null,null,null,null,null,null,null,null,null,null,null,null,0]
[null,null,null,null,null,null,null,null,null,null,null,null,0]
[null,null,null,null,null,null,null,null,null,null,null,null,0]
[null,null,null,null,null,null,null,null,null,null,null,null,0]
[null,null,null,null,null,null,null,null,null,null,null,null,0]
[null,null,null,null,null,null,null,null,null,null,null,null,0]
[null,null,null,null,null,null,null,null,null,null,null,null,0]
[null,null,null,null,null,null,null,null,null,null,null,null,0]
[null,null,null,null,null,null,null,null,null,null,null,null,0]
[null,null,null,null,null,null,null,null,null,null,null,null,0]
[null,null,null,null,null,null,null,null,null,null,null,null,0]
[null,null,null,null,null,null,null,null,null,null,null,null,0]
[null,null,null,null,null,null,null,null,null,null,null,null,0]
[null,null,null,null,null,null,null,null,null,null,null,null,0]
[null,null,null,null,null,null,null,null,null,null,null,null,0]
[null,null,null,null,null,null,null,null,null,null,null,null,0]
[null,null,null,null,null,null,null,null,null,null,null,null,0]
[null,null,null,null,null,null,null,null,null,null,null,null,0]
[null,null,null,null,null,null,null,null,null,null,null,null,0]
[null,null,null,null,null,null,null,null,null,null,null,null,0]
[null,null,null,null,null,null,null,null,null,null,null,null,0]
[null,null,null,null,null,null,null,null,null,null,null,null,0]
[null,null,null,null,null,null,null,null,null,null,null,null,0]
[null,null,null,null,null,null,null,null,null,null,null,null,0]
[null,null,null,null,null,null,null,null,null,null,null,null,0]
[null,null,null,null,null,null,null,null,null,null,null,null,0]
[null,null,null,null,null,null,null,null,null,null,null,null,0]
[null,null,null,null,null,null,null,null,null,null,null,null,0]
[null,null,null,null,null,null,null,null,null,null,null,null,0]
[null,null,null,null,null,null,null,null,null,null,null,null,0]
[null,null,null,null,null,null,null,null,null,null,null,null,0]
[null,null,null,null,null,null,null,null,null,null,null,null,0]
[null,null,null,null,null,null,null,null,null,null,null,null,0]
[null,null,null,null,null,null,null,null,null,null,null,null,0]
[null,null,null,null,null,null,null,null,null,null,null,null,0]
[null,null,null,null,null,null,null,null,null,null,null,null,0]
[null,null,null,null,null,null,null,null,null,null,null,null,0]
[null,null,null,null,null,null,null,null,null,null,null,null,0]
[null,null,null,null,null,null,null,null,null,null,null,null,0]
[null,null,null,null,null,null,null,null,null,null,null,null,0]
[null,null,null,null,null,null,null,null,null,null,null,null,0]
[null,null,null,null,null,null,null,null,null,null,null,null,0]
[null,null,null,null,null,null,null,null,null,null,null,null,0]
[null,null,null,null,null,null,null,null,null,null,null,null,0]
[null,null,null,null,null,null,null,null,null,null,null,null,0]
[null,null,null,null,null,null,null,null,null,null,null,null,0]
[null,null,null,null,null,null,null,null,null,null,null,null,0]
[null,null,null,null,null,null,null,null,null,null,null,null,0]
[null,null,null,null,null,null,null,null,null,null,null,null,0]
[null,null,null,null,null,null,null,null,null,null,null,null,0]
[null,null,null,null,null,null,null,null,null,null,null,null,0]
[null,null,null,null,null,null,null,null,null,null,null,null,0]
[null,null,null,null,null,null,null,null,null,null,null,null,0]
[null,null,null,null,null,null,null,null,null,null,null,null,0]
[null,null,null,null,null,null,null,null,null,null,null,null,0]
[null,null,null,null,null,null,null,null,null,null,null,null,0]
[null,null,null,null,null,null,null,null,null,null,null,null,0]
[null,null,null,null,null,null,null,null,null,null,null,null,0]
[null,null,null,null,null,null,null,null,null,null,null,null,0]
[null,null,null,null,null,null,null,null,null,null,null,null,0]
[null,null,null,null,null,null,null,null,null,null,null,null,0]
[null,null,null,null,null,null,null,null,null,null,null,null,0]
[null,null,null,null,null,null,null,null,null,null,null,null,0]
[null,null,null,null,null,null,null,null,null,null,null,null,0]
[null,null,null,null,null,null,null,null,null,null,null,null,0]
[null,null,null,null,null,null,null,null,null,null,null,null,0]
[null,null,null,null,null,null,null,null,null,null,null,null,0]
[null,null,null,null,null,null,null,null,null,null,null,null,0]
[null,null,null,null,null,null,null,null,null,null,null,null,0]
[null,null,null,null,null,null,null,null,null,null,null,null,0]
[null,null,null,null,null,null,null,null,null,null,null,null,0]
[null,null,null,null,null,null,null,null,null,null,null,null,0]
[null,null,null,null,null,null,null,null,null,null,null,null,0]
[null,null,null,null,null,null,null,null,null,null,null,null,0]
[null,null,null,null,null,null,null,null,null,null,null,null,0]
[null,null,null,null,null,null,null,null,null,null,null,null,0]
[null,null,null,null,null,null,null,null,null,null,null,null,0]
[null,null,null,null,null,null,null,null,null,null,null,null,0]
[null,null,null,null,null,null,null,null,null,null,null,null,0]
[null,null,null,null,null,null,null,null,null,null,null,null,0]
[null,null,null,null,null,null,null,null,null,null,null,null,0]
[null,null,null,null,null,null,null,null,null,null,null,null,0]
[null,null,null,null,null,null,null,null,null,null,null,null,0]
[null,null,null,null,null,null,null,null,null,null,null,null,0]
[null,null,null,null,null,null,null,null,null,null,null,null,0]
[null,null,null,null,null,null,null,null,null,null,null,null,0]
[null,null,null,null,null,null,null,null,null,null,null,null,0]
[null,null,null,null,null,null,null,null,null,null,null,null,0]
[null,null,null,null,null,null,null,null,null,null,null,null,0]
[null,null,null,null,null,null,null,null,null,null,null,null,0]
[null,null,null,null,null,null,null,null,null,null,null,null,0]
[null,null,null,null,null,null,null,null,null,null,null,null,0]
[null,null,null,null,null,null,null,null,null,null,null,null,0]
[null,null,null,null,null,null,null,null,null,null,null,null,0]
[null,null,null,null,null,null,null,null,null,null,null,null,0]
[null,null,null,null,null,null,null,null,null,null,null,null,0]
[null,null,null,null,null,null,null,null,null,null,null,null,0]
[null,null,null,null,null,null,null,null,null,null,null,null,0]
[null,null,null,null,null,null,null,null,null,null,null,null,0]
[null,null,null,null,null,null,null,null,null,null,null,null,0]
[null,null,null,null,null,null,null,null,null,null,null,null,0]
[null,null,null,null,null,null,null,null,null,null,null,null,0]
[null,null,null,null,null,null,null,null,null,null,null,null,0]
[null,null,null,null,null,null,null,null,null,null,null,null,0]
[null,null,null,null,null,null,null,null,null,null,null,null,0]
[null,null,null,null,null,null,null,null,null,null,null,null,0]
[null,null,null,null,null,null,null,null,null,null,null,null,0]
[null,null,null,null,null,null,null,null,null,null,null,null,0]
[null,null,null,null,null,null,null,null,null,null,null,null,0]
[null,null,null,null,null,null,null,null,null,null,null,null,0]
[null,null,null,null,null,null,null,null,null,null,null,null,0]
[null,null,null,null,null,null,null,null,null,null,null,null,0]
[null,null,null,null,null,null,null,null,null,null,null,null,0]
[null,null,null,null,null,null,null,null,null,null,null,null,0]
[null,null,null,null,null,null,null,null,null,null,null,null,0]
[null,null,null,null,null,null,null,null,null,null,null,null,0]
[null,null,null,null,null,null,null,null,null,null,null,null,0]
[null,null,null,null,null,null,null,null,null,null,null,null,0]
[null,null,null,null,null,null,null,null,null,null,null,null,0]
[null,null,null,null,null,null,null,null,null,null,null,null,0]
[null,null,null,null,null,null,null,null,null,null,null,null,0]
[null,null,null,null,null,null,null,null,null,null,null,null,0]
[null,null,null,null,null,null,null,null,null,null,null,null,0]
[null,null,null,null,null,null,null,null,null,null,null,null,0]
[null,null,null,null,null,null,null,null,null,null,null,null,0]
[null,null,null,null,null,null,null,null,null,null,null,null,0]
[null,null,null,null,null,null,null,null,null,null,null,null,0]
[null,null,null,null,null,null,null,null,null,null,null,null,0]
[null,null,null,null,null,null,null,null,null,null,null,null,0]
[null,null,null,null,null,null,null,null,null,null,null,null,0]
[null,null,null,null,null,null,null,null,null,null,null,null,0]
[null,null,null,null,null,null,null,null,null,null,null,null,0]
[null,null,null,null,null,null,null,null,null,null,null,null,0]
[null,null,null,null,null,null,null,null,null,null,null,null,0]
[null,null,null,null,null,null,null,null,null,null,null,null,0]
[null,null,null,null,null,null,null,null,null,null,null,null,0]
[null,null,null,null,null,null,null,null,null,null,null,null,0]
[null,null,null,null,null,null,null,null,null,null,null,null,0]
[null,null,null,null,null,null,null,null,null,null,null,null,0]
[null,null,null,null,null,null,null,null,null,null,null,null,0]
[null,null,null,null,null,null,null,null,null,null,null,null,0]
[null,null,null,null,null,null,null,null,null,null,null,null,0]
[null,null,null,null,null,null,null,null,null,null,null,null,0]
[null,null,null,null,null,null,null,null,null,null,null,null,0]
[null,null,null,null,null,null,null,null,null,null,null,null,0]
[null,null,null,null,null,null,null,null,null,null,null,null,0]
[null,null,null,null,null,null,null,null,null,null,null,null,0]
[null,null,null,null,null,null,null,null,null,null,null,null,0]
[null,null,null,null,null,null,null,null,null,null,null,null,0]
[null,null,null,null,null,null,null,null,null,null,null,null,0]
[null,null,null,null,null,null,null,null,null,null,null,null,0]
[null,null,null,null,null,null,null,null,null,null,null,null,0]
[null,null,null,null,null,null,null,null,null,null,null,null,0]
[null,null,null,null,null,null,null,null,null,null,null,null,0]
[null,null,null,null,null,null,null,null,null,null,null,null,0]
[null,null,null,null,null,null,null,null,null,null,null,null,0]
[null,null,null,null,null,null,null,null,null,null,null,null,0]
[null,null,null,null,null,null,null,null,null,null,null,null,0]
[null,null,null,null,null,null,null,null,null,null,null,null,0]
[null,null,null,null,null,null,null,null,null,null,null,null,0]
[null,null,null,null,null,null,null,null,null,null,null,null,0]
[null,null,null,null,null,null,null,null,null,null,null,null,0]
[null,null,null,null,null,null,null,null,null,null,null,null,0]
[null,null,null,null,null,null,null,null,null,null,null,null,0]
[null,null,null,null,null,null,null,null,null,null,null,null,0]
[null,null,null,null,null,null,null,null,null,null,null,null,0]
[null,null,null,null,null,null,null,null,null,null,null,null,0]
[null,null,null,null,null,null,null,null,null,null,null,null,0]
[null,null,null,null,null,null,null,null,null,null,null,null,0]
[null,null,null,null,null,null,null,null,null,null,null,null,0]
[null,null,null,null,null,null,null,null,null,null,null,null,0]
[null,null,null,null,null,null,null,null,null,null,null,null,0]
[null,null,null,null,null,null,null,null,null,null,null,null,0]
[null,null,null,null,null,null,null,null,null,null,null,null,0]
[null,null,null,null,null,null,null,null,null,null,null,null,0]
[null,null,null,null,null,null,null,null,null,null,null,null,0]
[null,null,null,null,null,null,null,null,null,null,null,null,0]
[null,null,null,null,null,null,null,null,null,null,null,null,0]
[null,null,null,null,null,null,null,null,null,null,null,null,0]
[null,null,null,null,null,null,null,null,null,null,null,null,0]
[null,null,null,null,null,null,null,null,null,null,null,null,0]
[null,null,null,null,null,null,null,null,null,null,null,null,0]
[null,null,null,null,null,null,null,null,null,null,null,null,0]
[null,null,null,null,null,null,null,null,null,null,null,null,0]
[null,null,null,null,null,null,null,null,null,null,null,null,0]
[null,null,null,null,null,null,null,null,null,null,null,null,0]
[null,null,null,null,null,null,null,null,null,null,null,null,0]
[null,null,null,null,null,null,null,null,null,null,null,null,0]
[null,null,null,null,null,null,null,null,null,null,null,null,0]
[null,null,null,null,null,null,null,null,null,null,null,null,0]
[null,null,null,null,null,null,null,null,null,null,null,null,0]
[null,null,null,null,null,null,null,null,null,null,null,null,0]
[null,null,null,null,null,null,null,null,null,null,null,null,0]
[null,null,null,null,null,null,null,null,null,null,null,null,0]
[null,null,null,null,null,null,null,null,null,null,null,null,0]
[null,null,null,null,null,null,null,null,null,null,null,null,0]
[null,null,null,null,null,null,null,null,null,null,null,null,0]
[null,null,null,null,null,null,null,null,null,null,null,null,0]
[null,null,null,null,null,null,null,null,null,null,null,null,0]
[null,null,null,null,null,null,null,null,null,null,null,null,0]
[null,null,null,null,null,null,null,null,null,null,null,null,0]
[null,null,null,null,null,null,null,null,null,null,null,null,0]
[null,null,null,null,null,null,null,null,null,null,null,null,0]
[null,null,null,null,null,null,null,null,null,null,null,null,0]
[null,null,null,null,null,null,null,null,null,null,null,null,0]
[null,null,null,null,null,null,null,null,null,null,null,null,0]
[null,null,null,null,null,null,null,null,null,null,null,null,0]
[null,null,null,null,null,null,null,null,null,null,null,null,0]
[null,null,null,null,null,null,null,null,null,null,null,null,0]
[null,null,null,null,null,null,null,null,null,null,null,null,0]
[null,null,null,null,null,null,null,null,null,null,null,null,0]
[null,null,null,null,null,null,null,null,null,null,null,null,0]
[null,null,null,null,null,null,null,null,null,null,null,null,0]
[null,null,null,null,null,null,null,null,null,null,null,null,0]
[null,null,null,null,null,null,null,null,null,null,null,null,0]
[null,null,null,null,null,null,null,null,null,null,null,null,0]
[null,null,null,null,null,null,null,null,null,null,null,null,0]
[null,null,null,null,null,null,null,null,null,null,null,null,0]
[null,null,null,null,null,null,null,null,null,null,null,null,0]
[null,null,null,null,null,null,null,null,null,null,null,null,0]
[null,null,null,null,null,null,null,null,null,null,null,null,0]
[null,null,null,null,null,null,null,null,null,null,null,null,0]
[null,null,null,null,null,null,null,null,null,null,null,null,0]
[null,null,null,null,null,null,null,null,null,null,null,null,0]
[null,null,null,null,null,null,null,null,null,null,null,null,0]
[null,null,null,null,null,null,null,null,null,null,null,null,0]
[null,null,null,null,null,null,null,null,null,null,null,null,0]
[null,null,null,null,null,null,null,null,null,null,null,null,0]
[null,null,null,null,null,null,null,null,null,null,null,null,0]
[null,null,null,null,null,null,null,null,null,null,null,null,0]
[null,null,null,null,null,null,null,null,null,null,null,null,0]
[null,null,null,null,null,null,null,null,null,null,null,null,0]
[null,null,null,null,null,null,null,null,null,null,null,null,0]
[null,null,null,null,null,null,null,null,null,null,null,null,0]
[null,null,null,null,null,null,null,null,null,null,null,null,0]
[null,null,null,null,null,null,null,null,null,null,null,null,0]
[null,null,null,null,null,null,null,null,null,null,null,null,0]
[null,null,null,null,null,null,null,null,null,null,null,null,0]
[null,null,null,null,null,null,null,null,null,null,null,null,0]
[null,null,null,null,null,null,null,null,null,null,null,null,0]
[null,null,null,null,null,null,null,null,null,null,null,null,0]
[null,null,null,null,null,null,null,null,null,null,null,null,0]
[null,null,null,null,null,null,null,null,null,null,null,null,0]
[null,null,null,null,null,null,null,null,null,null,null,null,0]
[null,null,null,null,null,null,null,null,null,null,null,null,0]
[null,null,null,null,null,null,null,null,null,null,null,null,0]
[null,null,null,null,null,null,null,null,null,null,null,null,0]
[null,null,null,null,null,null,null,null,null,null,null,null,0]
[null,null,null,null,null,null,null,null,null,null,null,null,0]
[null,null,null,null,null,null,null,null,null,null,null,null,0]
[null,null,null,null,null,null,null,null,null,null,null,null,0]
[null,null,null,null,null,null,null,null,null,null,null,null,0]
[null,null,null,null,null,null,null,null,null,null,null,null,0]
[null,null,null,null,null,null,null,null,null,null,null,null,0]
[null,null,null,null,null,null,null,null,null,null,null,null,0]
[null,null,null,null,null,null,null,null,null,null,null,null,0]
[null,null,null,null,null,null,null,null,null,null,null,null,0]
[null,null,null,null,null,null,null,null,null,null,null,null,0]
[null,null,null,null,null,null,null,null,null,null,null,null,0]
[null,null,null,null,null,null,null,null,null,null,null,null,0]
[null,null,null,null,null,null,null,null,null,null,null,null,0]
[null,null,null,null,null,null,null,null,null,null,null,null,0]
[null,null,null,null,null,null,null,null,null,null,null,null,0]
[null,null,null,null,null,null,null,null,null,null,null,null,0]
[null,null,null,null,null,null,null,null,null,null,null,null,0]
[null,null,null,null,null,null,null,null,null,null,null,null,0]
[null,null,null,null,null,null,null,null,null,null,null,null,0]
[null,null,null,null,null,null,null,null,null,null,null,null,0]
[null,null,null,null,null,null,null,null,null,null,null,null,0]
[null,null,null,null,null,null,null,null,null,null,null,null,0]
[null,null,null,null,null,null,null,null,null,null,null,null,0]
[null,null,null,null,null,null,null,null,null,null,null,null,0]
[null,null,null,null,null,null,null,null,null,null,null,null,0]
[null,null,null,null,null,null,null,null,null,null,null,null,0]
[null,null,null,null,null,null,null,null,null,null,null,null,0]
[null,null,null,null,null,null,null,null,null,null,null,null,0]
[null,null,null,null,null,null,null,null,null,null,null,null,0]
[null,null,null,null,null,null,null,null,null,null,null,null,0]
[null,null,null,null,null,null,null,null,null,null,null,null,0]
[null,null,null,null,null,null,null,null,null,null,null,null,0]
[null,null,null,null,null,null,null,null,null,null,null,null,0]
[null,null,null,null,null,null,null,null,null,null,null,null,0]
[null,null,null,null,null,null,null,null,null,null,null,null,0]
[null,null,null,null,null,null,null,null,null,null,null,null,0]
[null,null,null,null,null,null,null,null,null,null,null,null,0]
[null,null,null,null,null,null,null,null,null,null,null,null,0]
[null,null,null,null,null,null,null,null,null,null,null,null,0]
[null,null,null,null,null,null,null,null,null,null,null,null,0]
[null,null,null,null,null,null,null,null,null,null,null,null,0]
[null,null,null,null,null,null,null,null,null,null,null,null,0]
[null,null,null,null,null,null,null,null,null,null,null,null,0]
[null,null,null,null,null,null,null,null,null,null,null,null,0]
[null,null,null,null,null,null,null,null,null,null,null,null,0]
[null,null,null,null,null,null,null,null,null,null,null,null,0]
[null,null,null,null,null,null,null,null,null,null,null,null,0]
[null,null,null,null,null,null,null,null,null,null,null,null,0]
[null,null,null,null,null,null,null,null,null,null,null,null,0]
[null,null,null,null,null,null,null,null,null,null,null,null,0]
[null,null,null,null,null,null,null,null,null,null,null,null,0]
[null,null,null,null,null,null,null,null,null,null,null,null,0]
[null,null,null,null,null,null,null,null,null,null,null,null,0]
[null,null,null,null,null,null,null,null,null,null,null,null,0]
[null,null,null,null,null,null,null,null,null,null,null,null,0]
[null,null,null,null,null,null,null,null,null,null,null,null,0]
[null,null,null,null,null,null,null,null,null,null,null,null,0]
[null,null,null,null,null,null,null,null,null,null,null,null,0]
[null,null,null,null,null,null,null,null,null,null,null,null,0]
[null,null,null,null,null,null,null,null,null,null,null,null,0]
[null,null,null,null,null,null,null,null,null,null,null,null,0]
[null,null,null,null,null,null,null,null,null,null,null,null,0]
[null,null,null,null,null,null,null,null,null,null,null,null,0]
[null,null,null,null,null,null,null,null,null,null,null,null,0]
[null,null,null,null,null,null,null,null,null,null,null,null,0]
[null,null,null,null,null,null,null,null,null,null,null,null,0]
[null,null,null,null,null,null,null,null,null,null,null,null,0]
[null,null,null,null,null,null,null,null,null,null,null,null,0]
[null,null,null,null,null,null,null,null,null,null,null,null,0]
[null,null,null,null,null,null,null,null,null,null,null,null,0]
[null,null,null,null,null,null,null,null,null,null,null,null,0]
[null,null,null,null,null,null,null,null,null,null,null,null,0]
[null,null,null,null,null,null,null,null,null,null,null,null,0]
[null,null,null,null,null,null,null,null,null,null,null,null,0]
[null,null,null,null,null,null,null,null,null,null,null,null,0]
[null,null,null,null,null,null,null,null,null,null,null,null,0]
[null,null,null,null,null,null,null,null,null,null,null,null,0]
[null,null,null,null,null,null,null,null,null,null,null,null,0]
[null,null,null,null,null,null,null,null,null,null,null,null,0]
[null,null,null,null,null,null,null,null,null,null,null,null,0]
[null,null,null,null,null,null,null,null,null,null,null,null,0]
[null,null,null,null,null,null,null,null,null,null,null,null,0]
[null,null,null,null,null,null,null,null,null,null,null,null,0]
[null,null,null,null,null,null,null,null,null,null,null,null,0]
[null,null,null,null,null,null,null,null,null,null,null,null,0]
[null,null,null,null,null,null,null,null,null,null,null,null,0]
[null,null,null,null,null,null,null,null,null,null,null,null,0]
[null,null,null,null,null,null,null,null,null,null,null,null,0]
[null,null,null,null,null,null,null,null,null,null,null,null,0]
[null,null,null,null,null,null,null,null,null,null,null,null,0]
[null,null,null,null,null,null,null,null,null,null,null,null,0]
[null,null,null,null,null,null,null,null,null,null,null,null,0]
[null,null,null,null,null,null,null,null,null,null,null,null,0]
[null,null,null,null,null,null,null,null,null,null,null,null,0]
[null,null,null,null,null,null,null,null,null,null,null,null,0]
[null,null,null,null,null,null,null,null,null,null,null,null,0]
[null,null,null,null,null,null,null,null,null,null,null,null,0]
[null,null,null,null,null,null,null,null,null,null,null,null,0]
[null,null,null,null,null,null,null,null,null,null,null,null,0]
[null,null,null,null,null,null,null,null,null,null,null,null,0]
[null,null,null,null,null,null,null,null,null,null,null,null,0]
[null,null,null,null,null,null,null,null,null,null,null,null,0]
[null,null,null,null,null,null,null,null,null,null,null,null,0]
[null,null,null,null,null,null,null,null,null,null,null,null,0]
[null,null,null,null,null,null,null,null,null,null,null,null,0]
[null,null,null,null,null,null,null,null,null,null,null,null,0]
[null,null,null,null,null,null,null,null,null,null,null,null,0]
[null,null,null,null,null,null,null,null,null,null,null,null,0]
[null,null,null,null,null,null,null,null,null,null,null,null,0]
[null,null,null,null,null,null,null,null,null,null,null,null,0]
[null,null,null,null,null,null,null,null,null,null,null,null,0]
[null,null,null,null,null,null,null,null,null,null,null,null,0]
[null,null,null,null,null,null,null,null,null,null,null,null,0]
[null,null,null,null,null,null,null,null,null,null,null,null,0]
[null,null,null,null,null,null,null,null,null,null,null,null,0]
[null,null,null,null,null,null,null,null,null,null,null,null,0]
[null,null,null,null,null,null,null,null,null,null,null,null,0]
[null,null,null,null,null,null,null,null,null,null,null,null,0]
[null,null,null,null,null,null,null,null,null,null,null,null,0]
[null,null,null,null,null,null,null,null,null,null,null,null,0]
[null,null,null,null,null,null,null,null,null,null,null,null,0]
[null,null,null,null,null,null,null,null,null,null,null,null,0]
[null,null,null,null,null,null,null,null,null,null,null,null,0]
[null,null,null,null,null,null,null,null,null,null,null,null,0]
[null,null,null,null,null,null,null,null,null,null,null,null,0]
[null,null,null,null,null,null,null,null,null,null,null,null,0]
[null,null,null,null,null,null,null,null,null,null,null,null,0]
[null,null,null,null,null,null,null,null,null,null,null,null,0]
[null,null,null,null,null,null,null,null,null,null,null,null,0]
[null,null,null,null,null,null,null,null,null,null,null,null,0]
[null,null,null,null,null,null,null,null,null,null,null,null,0]
[null,null,null,null,null,null,null,null,null,null,null,null,0]
[null,null,null,null,null,null,null,null,null,null,null,null,0]
[null,null,null,null,null,null,null,null,null,null,null,null,0]
[null,null,null,null,null,null,null,null,null,null,null,null,0]
[null,null,null,null,null,null,null,null,null,null,null,null,0]
[null,null,null,null,null,null,null,null,null,null,null,null,0]
[null,null,null,null,null,null,null,null,null,null,null,null,0]
[null,null,null,null,null,null,null,null,null,null,null,null,0]
[null,null,null,null,null,null,null,null,null,null,null,null,0]
[null,null,null,null,null,null,null,null,null,null,null,null,0]
[null,null,null,null,null,null,null,null,null,null,null,null,0]
[null,null,null,null,null,null,null,null,null,null,null,null,0]
[null,null,null,null,null,null,null,null,null,null,null,null,0]
[null,null,null,null,null,null,null,null,null,null,null,null,0]
[null,null,null,null,null,null,null,null,null,null,null,null,0]
[null,null,null,null,null,null,null,null,null,null,null,null,0]
[null,null,null,null,null,null,null,null,null,null,null,null,0]
[null,null,null,null,null,null,null,null,null,null,null,null,0]
[null,null,null,null,null,null,null,null,null,null,null,null,0]
[null,null,null,null,null,null,null,null,null,null,null,null,0]
[null,null,null,null,null,null,null,null,null,null,null,null,0]
[null,null,null,null,null,null,null,null,null,null,null,null,0]
[null,null,null,null,null,null,null,null,null,null,null,null,0]
[null,null,null,null,null,null,null,null,null,null,null,null,0]
[null,null,null,null,null,null,null,null,null,null,null,null,0]
[null,null,null,null,null,null,null,null,null,null,null,null,0]
[null,null,null,null,null,null,null,null,null,null,null,null,0]
[null,null,null,null,null,null,null,null,null,null,null,null,0]
[null,null,null,null,null,null,null,null,null,null,null,null,0]
[null,null,null,null,null,null,null,null,null,null,null,null,0]
[null,null,null,null,null,null,null,null,null,null,null,null,0]
[null,null,null,null,null,null,null,null,null,null,null,null,0]
[null,null,null,null,null,null,null,null,null,null,null,null,0]
[null,null,null,null,null,null,null,null,null,null,null,null,0]
[null,null,null,null,null,null,null,null,null,null,null,null,0]
[null,null,null,null,null,null,null,null,null,null,null,null,0]
[null,null,null,null,null,null,null,null,null,null,null,null,0]
[null,null,null,null,null,null,null,null,null,null,null,null,0]
[null,null,null,null,null,null,null,null,null,null,null,null,0]
[null,null,null,null,null,null,null,null,null,null,null,null,0]
[null,null,null,null,null,null,null,null,null,null,null,null,0]
[null,null,null,null,null,null,null,null,null,null,null,null,0]
[null,null,null,null,null,null,null,null,null,null,null,null,0]
[null,null,null,null,null,null,null,null,null,null,null,null,0]
[null,null,null,null,null,null,null,null,null,null,null,null,0]
[null,null,null,null,null,null,null,null,null,null,null,null,0]
[null,null,null,null,null,null,null,null,null,null,null,null,0]
[null,null,null,null,null,null,null,null,null,null,null,null,0]
[null,null,null,null,null,null,null,null,null,null,null,null,0]
[null,null,null,null,null,null,null,null,null,null,null,null,0]
[null,null,null,null,null,null,null,null,null,null,null,null,0]
[null,null,null,null,null,null,null,null,null,null,null,null,0]
[null,null,null,null,null,null,null,null,null,null,null,null,0]
[null,null,null,null,null,null,null,null,null,null,null,null,0]
[null,null,null,null,null,null,null,null,null,null,null,null,0]
[null,null,null,null,null,null,null,null,null,null,null,null,0]
[null,null,null,null,null,null,null,null,null,null,null,null,0]
[null,null,null,null,null,null,null,null,null,null,null,null,0]
[null,null,null,null,null,null,null,null,null,null,null,null,0]
[null,null,null,null,null,null,null,null,null,null,null,null,0]
[null,null,null,null,null,null,null,null,null,null,null,null,0]
[null,null,null,null,null,null,null,null,null,null,null,null,0]
[null,null,null,null,null,null,null,null,null,null,null,null,0]
[null,null,null,null,null,null,null,null,null,null,null,null,0]
[null,null,null,null,null,null,null,null,null,null,null,null,0]
[null,null,null,null,null,null,null,null,null,null,null,null,0]
[null,null,null,null,null,null,null,null,null,null,null,null,0]
[null,null,null,null,null,null,null,null,null,null,null,null,0]
[null,null,null,null,null,null,null,null,null,null,null,null,0]
[null,null,null,null,null,null,null,null,null,null,null,null,0]
[null,null,null,null,null,null,null,null,null,null,null,null,0]
[null,null,null,null,null,null,null,null,null,null,null,null,0]
[null,null,null,null,null,null,null,null,null,null,null,null,0]
[null,null,null,null,null,null,null,null,null,null,null,null,0]
[null,null,null,null,null,null,null,null,null,null,null,null,0]
[null,null,null,null,null,null,null,null,null,null,null,null,0]
[null,null,null,null,null,null,null,null,null,null,null,null,0]
[null,null,null,null,null,null,null,null,null,null,null,null,0]
[null,null,null,null,null,null,null,null,null,null,null,null,0]
[null,null,null,null,null,null,null,null,null,null,null,null,0]
[null,null,null,null,null,null,null,null,null,null,null,null,0]
[null,null,null,null,null,null,null,null,null,null,null,null,0]
[null,null,null,null,null,null,null,null,null,null,null,null,0]
[null,null,null,null,null,null,null,null,null,null,null,null,0]
[null,null,null,null,null,null,null,null,null,null,null,null,0]
[null,null,null,null,null,null,null,null,null,null,null,null,0]
[null,null,null,null,null,null,null,null,null,null,null,null,0]
[null,null,null,null,null,null,null,null,null,null,null,null,0]
[null,null,null,null,null,null,null,null,null,null,null,null,0]
[null,null,null,null,null,null,null,null,null,null,null,null,0]
[null,null,null,null,null,null,null,null,null,null,null,null,0]
[null,null,null,null,null,null,null,null,null,null,null,null,0]
[null,null,null,null,null,null,null,null,null,null,null,null,0]
[null,null,null,null,null,null,null,null,null,null,null,null,0]
[null,null,null,null,null,null,null,null,null,null,null,null,0]
[null,null,null,null,null,null,null,null,null,null,null,null,0]
[null,null,null,null,null,null,null,null,null,null,null,null,0]
[null,null,null,null,null,null,null,null,null,null,null,null,0]
[null,null,null,null,null,null,null,null,null,null,null,null,0]
[null,null,null,null,null,null,null,null,null,null,null,null,0]
[null,null,null,null,null,null,null,null,null,null,null,null,0]
[null,null,null,null,null,null,null,null,null,null,null,null,0]
[null,null,null,null,null,null,null,null,null,null,null,null,0]
[null,null,null,null,null,null,null,null,null,null,null,null,0]
[null,null,null,null,null,null,null,null,null,null,null,null,0]
[null,null,null,null,null,null,null,null,null,null,null,null,0]
[null,null,null,null,null,null,null,null,null,null,null,null,0]
[null,null,null,null,null,null,null,null,null,null,null,null,0]
[null,null,null,null,null,null,null,null,null,null,null,null,0]
[null,null,null,null,null,null,null,null,null,null,null,null,0]
[null,null,null,null,null,null,null,null,null,null,null,null,0]
[null,null,null,null,null,null,null,null,null,null,null,null,0]
[null,null,null,null,null,null,null,null,null,null,null,null,0]
[null,null,null,null,null,null,null,null,null,null,null,null,0]
[null,null,null,null,null,null,null,null,null,null,null,null,0]
[null,null,null,null,null,null,null,null,null,null,null,null,0]
[null,null,null,null,null,null,null,null,null,null,null,null,0]
[null,null,null,null,null,null,null,null,null,null,null,null,0]
[null,null,null,null,null,null,null,null,null,null,null,null,0]
[null,null,null,null,null,null,null,null,null,null,null,null,0]
[null,null,null,null,null,null,null,null,null,null,null,null,0]
[null,null,null,null,null,null,null,null,null,null,null,null,0]
[null,null,null,null,null,null,null,null,null,null,null,null,0]
[null,null,null,null,null,null,null,null,null,null,null,null,0]
[null,null,null,null,null,null,null,null,null,null,null,null,0]
[null,null,null,null,null,null,null,null,null,null,null,null,0]
[null,null,null,null,null,null,null,null,null,null,null,null,0]
[null,null,null,null,null,null,null,null,null,null,null,null,0]
[null,null,null,null,null,null,null,null,null,null,null,null,0]
[null,null,null,null,null,null,null,null,null,null,null,null,0]
[null,null,null,null,null,null,null,null,null,null,null,null,0]
[null,null,null,null,null,null,null,null,null,null,null,null,0]
[null,null,null,null,null,null,null,null,null,null,null,null,0]
[null,null,null,null,null,null,null,null,null,null,null,null,0]
[null,null,null,null,null,null,null,null,null,null,null,null,0]
[null,null,null,null,null,null,null,null,null,null,null,null,0]
[null,null,null,null,null,null,null,null,null,null,null,null,0]
[null,null,null,null,null,null,null,null,null,null,null,null,0]
[null,null,null,null,null,null,null,null,null,null,null,null,0]
[null,null,null,null,null,null,null,null,null,null,null,null,0]
[null,null,null,null,null,null,null,null,null,null,null,null,0]
[null,null,null,null,null,null,null,null,null,null,null,null,0]
[null,null,null,null,null,null,null,null,null,null,null,null,0]
[null,null,null,null,null,null,null,null,null,null,null,null,0]
[null,null,null,null,null,null,null,null,null,null,null,null,0]
[null,null,null,null,null,null,null,null,null,null,null,null,0]
[null,null,null,null,null,null,null,null,null,null,null,null,0]
[null,null,null,null,null,null,null,null,null,null,null,null,0]
[null,null,null,null,null,null,null,null,null,null,null,null,0]
[null,null,null,null,null,null,null,null,null,null,null,null,0]
[null,null,null,null,null,null,null,null,null,null,null,null,0]
[null,null,null,null,null,null,null,null,null,null,null,null,0]
[null,null,null,null,null,null,null,null,null,null,null,null,0]
[null,null,null,null,null,null,null,null,null,null,null,null,0]
[null,null,null,null,null,null,null,null,null,null,null,null,0]
[null,null,null,null,null,null,null,null,null,null,null,null,0]
[null,null,null,null,null,null,null,null,null,null,null,null,0]
[null,null,null,null,null,null,null,null,null,null,null,null,0]
[null,null,null,null,null,null,null,null,null,null,null,null,0]
[null,null,null,null,null,null,null,null,null,null,null,null,0]
[null,null,null,null,null,null,null,null,null,null,null,null,0]
[null,null,null,null,null,null,null,null,null,null,null,null,0]
[null,null,null,null,null,null,null,null,null,null,null,null,0]
[null,null,null,null,null,null,null,null,null,null,null,null,0]
[null,null,null,null,null,null,null,null,null,null,null,null,0]
[null,null,null,null,null,null,null,null,null,null,null,null,0]
[null,null,null,null,null,null,null,null,null,null,null,null,0]
[null,null,null,null,null,null,null,null,null,null,null,null,0]
[null,null,null,null,null,null,null,null,null,null,null,null,0]
[null,null,null,null,null,null,null,null,null,null,null,null,0]
[null,null,null,null,null,null,null,null,null,null,null,null,0]
[null,null,null,null,null,null,null,null,null,null,null,null,0]
[null,null,null,null,null,null,null,null,null,null,null,null,0]
[null,null,null,null,null,null,null,null,null,null,null,null,0]
[null,null,null,null,null,null,null,null,null,null,null,null,0]
[null,null,null,null,null,null,null,null,null,null,null,null,0]
[null,null,null,null,null,null,null,null,null,null,null,null,0]
[null,null,null,null,null,null,null,null,null,null,null,null,0]
[null,null,null,null,null,null,null,null,null,null,null,null,0]
[null,null,null,null,null,null,null,null,null,null,null,null,0]
[null,null,null,null,null,null,null,null,null,null,null,null,0]
[null,null,null,null,null,null,null,null,null,null,null,null,0]
[null,null,null,null,null,null,null,null,null,null,null,null,0]
[null,null,null,null,null,null,null,null,null,null,null,null,0]
[null,null,null,null,null,null,null,null,null,null,null,null,0]
[null,null,null,null,null,null,null,null,null,null,null,null,0]
[null,null,null,null,null,null,null,null,null,null,null,null,0]
[null,null,null,null,null,null,null,null,null,null,null,null,0]
[null,null,null,null,null,null,null,null,null,null,null,null,0]
[null,null,null,null,null,null,null,null,null,null,null,null,0]
[null,null,null,null,null,null,null,null,null,null,null,null,0]
[null,null,null,null,null,null,null,null,null,null,null,null,0]
[null,null,null,null,null,null,null,null,null,null,null,null,0]
[null,null,null,null,null,null,null,null,null,null,null,null,0]
[null,null,null,null,null,null,null,null,null,null,null,null,0]
[null,null,null,null,null,null,null,null,null,null,null,null,0]
[null,null,null,null,null,null,null,null,null,null,null,null,0]
[null,null,null,null,null,null,null,null,null,null,null,null,0]
[null,null,null,null,null,null,null,null,null,null,null,null,0]
[null,null,null,null,null,null,null,null,null,null,null,null,0]
[null,null,null,null,null,null,null,null,null,null,null,null,0]
[null,null,null,null,null,null,null,null,null,null,null,null,0]
[null,null,null,null,null,null,null,null,null,null,null,null,0]
[null,null,null,null,null,null,null,null,null,null,null,null,0]
[null,null,null,null,null,null,null,null,null,null,null,null,0]
[null,null,null,null,null,null,null,null,null,null,null,null,0]
[null,null,null,null,null,null,null,null,null,null,null,null,0]
[null,null,null,null,null,null,null,null,null,null,null,null,0]
[null,null,null,null,null,null,null,null,null,null,null,null,0]
[null,null,null,null,null,null,null,null,null,null,null,null,0]
[null,null,null,null,null,null,null,null,null,null,null,null,0]
[null,null,null,null,null,null,null,null,null,null,null,null,0]
[null,null,null,null,null,null,null,null,null,null,null,null,0]
[null,null,null,null,null,null,null,null,null,null,null,null,0]
[null,null,null,null,null,null,null,null,null,null,null,null,0]
[null,null,null,null,null,null,null,null,null,null,null,null,0]
[null,null,null,null,null,null,null,null,null,null,null,null,0]
[null,null,null,null,null,null,null,null,null,null,null,null,0]
[null,null,null,null,null,null,null,null,null,null,null,null,0]
[null,null,null,null,null,null,null,null,null,null,null,null,0]
[null,null,null,null,null,null,null,null,null,null,null,null,0]
[null,null,null,null,null,null,null,null,null,null,null,null,0]
[null,null,null,null,null,null,null,null,null,null,null,null,0]
[null,null,null,null,null,null,null,null,null,null,null,null,0]
[null,null,null,null,null,null,null,null,null,null,null,null,0]
[null,null,null,null,null,null,null,null,null,null,null,null,0]
[null,null,null,null,null,null,null,null,null,null,null,null,0]
[null,null,null,null,null,null,null,null,null,null,null,null,0]
[null,null,null,null,null,null,null,null,null,null,null,null,0]
[null,null,null,null,null,null,null,null,null,null,null,null,0]
[null,null,null,null,null,null,null,null,null,null,null,null,0]
[null,null,null,null,null,null,null,null,null,null,null,null,0]
[null,null,null,null,null,null,null,null,null,null,null,null,0]
[null,null,null,null,null,null,null,null,null,null,null,null,0]
[null,null,null,null,null,null,null,null,null,null,null,null,0]
[null,null,null,null,null,null,null,null,null,null,null,null,0]
[null,null,null,null,null,null,null,null,null,null,null,null,0]
[null,null,null,null,null,null,null,null,null,null,null,null,0]
[null,null,null,null,null,null,null,null,null,null,null,null,0]
[null,null,null,null,null,null,null,null,null,null,null,null,0]
[null,null,null,null,null,null,null,null,null,null,null,null,0]
[null,null,null,null,null,null,null,null,null,null,null,null,0]
[null,null,null,null,null,null,null,null,null,null,null,null,0]
[null,null,null,null,null,null,null,null,null,null,null,null,0]
[null,null,null,null,null,null,null,null,null,null,null,null,0]
[null,null,null,null,null,null,null,null,null,null,null,null,0]
[null,null,null,null,null,null,null,null,null,null,null,null,0]
[null,null,null,null,null,null,null,null,null,null,null,null,0]
[null,null,null,null,null,null,null,null,null,null,null,null,0]
[null,null,null,null,null,null,null,null,null,null,null,null,0]
[null,null,null,null,null,null,null,null,null,null,null,null,0]
[null,null,null,null,null,null,null,null,null,null,null,null,0]
[null,null,null,null,null,null,null,null,null,null,null,null,0]
[null,null,null,null,null,null,null,null,null,null,null,null,0]
[null,null,null,null,null,null,null,null,null,null,null,null,0]
[null,null,null,null,null,null,null,null,null,null,null,null,0]
[null,null,null,null,null,null,null,null,null,null,null,null,0]
[null,null,null,null,null,null,null,null,null,null,null,null,0]
[null,null,null,null,null,null,null,null,null,null,null,null,0]
[null,null,null,null,null,null,null,null,null,null,null,null,0]
[null,null,null,null,null,null,null,null,null,null,null,null,0]
[null,null,null,null,null,null,null,null,null,null,null,null,0]
[null,null,null,null,null,null,null,null,null,null,null,null,0]
[null,null,null,null,null,null,null,null,null,null,null,null,0]
[null,null,null,null,null,null,null,null,null,null,null,null,0]
[null,null,null,null,null,null,null,null,null,null,null,null,0]
[null,null,null,null,null,null,null,null,null,null,null,null,0]
[null,null,null,null,null,null,null,null,null,null,null,null,0]
[null,null,null,null,null,null,null,null,null,null,null,null,0]
[null,null,null,null,null,null,null,null,null,null,null,null,0]
[null,null,null,null,null,null,null,null,null,null,null,null,0]
[null,null,null,null,null,null,null,null,null,null,null,null,0]
[null,null,null,null,null,null,null,null,null,null,null,null,0]
[null,null,null,null,null,null,null,null,null,null,null,null,0]
[null,null,null,null,null,null,null,null,null,null,null,null,0]
[null,null,null,null,null,null,null,null,null,null,null,null,0]
[null,null,null,null,null,null,null,null,null,null,null,null,0]
[null,null,null,null,null,null,null,null,null,null,null,null,0]
[null,null,null,null,null,null,null,null,null,null,null,null,0]
[null,null,null,null,null,null,null,null,null,null,null,null,0]
[null,null,null,null,null,null,null,null,null,null,null,null,0]
[null,null,null,null,null,null,null,null,null,null,null,null,0]
[null,null,null,null,null,null,null,null,null,null,null,null,0]
[null,null,null,null,null,null,null,null,null,null,null,null,0]
[null,null,null,null,null,null,null,null,null,null,null,null,0]
[null,null,null,null,null,null,null,null,null,null,null,null,0]
[null,null,null,null,null,null,null,null,null,null,null,null,0]
[null,null,null,null,null,null,null,null,null,null,null,null,0]
[null,null,null,null,null,null,null,null,null,null,null,null,0]
[null,null,null,null,null,null,null,null,null,null,null,null,0]
[null,null,null,null,null,null,null,null,null,null,null,null,0]
[null,null,null,null,null,null,null,null,null,null,null,null,0]
[null,null,null,null,null,null,null,null,null,null,null,null,0]
[null,null,null,null,null,null,null,null,null,null,null,null,0]
[null,null,null,null,null,null,null,null,null,null,null,null,0]
[null,null,null,null,null,null,null,null,null,null,null,null,0]
[null,null,null,null,null,null,null,null,null,null,null,null,0]
[null,null,null,null,null,null,null,null,null,null,null,null,0]
[null,null,null,null,null,null,null,null,null,null,null,null,0]
[null,null,null,null,null,null,null,null,null,null,null,null,0]
[null,null,null,null,null,null,null,null,null,null,null,null,0]
[null,null,null,null,null,null,null,null,null,null,null,null,0]
[null,null,null,null,null,null,null,null,null,null,null,null,0]
[null,null,null,null,null,null,null,null,null,null,null,null,0]
[null,null,null,null,null,null,null,null,null,null,null,null,0]
[null,null,null,null,null,null,null,null,null,null,null,null,0]
[null,null,null,null,null,null,null,null,null,null,null,null,0]
[null,null,null,null,null,null,null,null,null,null,null,null,0]
[null,null,null,null,null,null,null,null,null,null,null,null,0]
[null,null,null,null,null,null,null,null,null,null,null,null,0]
[null,null,null,null,null,null,null,null,null,null,null,null,0]
[null,null,null,null,null,null,null,null,null,null,null,null,0]
[null,null,null,null,null,null,null,null,null,null,null,null,0]
[null,null,null,null,null,null,null,null,null,null,null,null,0]
[null,null,null,null,null,null,null,null,null,null,null,null,0]
[null,null,null,null,null,null,null,null,null,null,null,null,0]
[null,null,null,null,null,null,null,null,null,null,null,null,0]
[null,null,null,null,null,null,null,null,null,null,null,null,0]
[null,null,null,null,null,null,null,null,null,null,null,null,0]
[null,null,null,null,null,null,null,null,null,null,null,null,0]
[null,null,null,null,null,null,null,null,null,null,null,null,0]
[null,null,null,null,null,null,null,null,null,null,null,null,0]
[null,null,null,null,null,null,null,null,null,null,null,null,0]
[null,null,null,null,null,null,null,null,null,null,null,null,0]
[null,null,null,null,null,null,null,null,null,null,null,null,0]
[null,null,null,null,null,null,null,null,null,null,null,null,0]
[null,null,null,null,null,null,null,null,null,null,null,null,0]
[null,null,null,null,null,null,null,null,null,null,null,null,0]
[null,null,null,null,null,null,null,null,null,null,null,null,0]
[null,null,null,null,null,null,null,null,null,null,null,null,0]
[null,null,null,null,null,null,null,null,null,null,null,null,0]
[null,null,null,null,null,null,null,null,null,null,null,null,0]
[null,null,null,null,null,null,null,null,null,null,null,null,0]
[null,null,null,null,null,null,null,null,null,null,null,null,0]
[null,null,null,null,null,null,null,null,null,null,null,null,0]
[null,null,null,null,null,null,null,null,null,null,null,null,0]
[null,null,null,null,null,null,null,null,null,null,null,null,0]
[null,null,null,null,null,null,null,null,null,null,null,null,0]
[null,null,null,null,null,null,null,null,null,null,null,null,0]
[null,null,null,null,null,null,null,null,null,null,null,null,0]
[null,null,null,null,null,null,null,null,null,null,null,null,0]
[null,null,null,null,null,null,null,null,null,null,null,null,0]
[null,null,null,null,null,null,null,null,null,null,null,null,0]
[null,null,null,null,null,null,null,null,null,null,null,null,0]
[null,null,null,null,null,null,null,null,null,null,null,null,0]
[null,null,null,null,null,null,null,null,null,null,null,null,0]
[null,null,null,null,null,null,null,null,null,null,null,null,0]
[null,null,null,null,null,null,null,null,null,null,null,null,0]
[null,null,null,null,null,null,null,null,null,null,null,null,0]
[null,null,null,null,null,null,null,null,null,null,null,null,0]
[null,null,null,null,null,null,null,null,null,null,null,null,0]
[null,null,null,null,null,null,null,null,null,null,null,null,0]
[null,null,null,null,null,null,null,null,null,null,null,null,0]
[null,null,null,null,null,null,null,null,null,null,null,null,0]
[null,null,null,null,null,null,null,null,null,null,null,null,0]
[null,null,null,null,null,null,null,null,null,null,null,null,0]
[null,null,null,null,null,null,null,null,null,null,null,null,0]
[null,null,null,null,null,null,null,null,null,null,null,null,0]
[null,null,null,null,null,null,null,null,null,null,null,null,0]
[null,null,null,null,null,null,null,null,null,null,null,null,0]
[null,null,null,null,null,null,null,null,null,null,null,null,0]
[null,null,null,null,null,null,null,null,null,null,null,null,0]
[null,null,null,null,null,null,null,null,null,null,null,null,0]
[null,null,null,null,null,null,null,null,null,null,null,null,0]
[null,null,null,null,null,null,null,null,null,null,null,null,0]
[null,null,null,null,null,null,null,null,null,null,null,null,0]
[null,null,null,null,null,null,null,null,null,null,null,null,0]
[null,null,null,null,null,null,null,null,null,null,null,null,0]
[null,null,null,null,null,null,null,null,null,null,null,null,0]
[null,null,null,null,null,null,null,null,null,null,null,null,0]
[null,null,null,null,null,null,null,null,null,null,null,null,0]
[null,null,null,null,null,null,null,null,null,null,null,null,0]
[null,null,null,null,null,null,null,null,null,null,null,null,0]
[null,null,null,null,null,null,null,null,null,null,null,null,0]
[null,null,null,null,null,null,null,null,null,null,null,null,0]
[null,null,null,null,null,null,null,null,null,null,null,null,0]
[null,null,null,null,null,null,null,null,null,null,null,null,0]
[null,null,null,null,null,null,null,null,null,null,null,null,0]
[null,null,null,null,null,null,null,null,null,null,null,null,0]
[null,null,null,null,null,null,null,null,null,null,null,null,0]
[null,null,null,null,null,null,null,null,null,null,null,null,0]
[null,null,null,null,null,null,null,null,null,null,null,null,0]
[null,null,null,null,null,null,null,null,null,null,null,null,0]
[null,null,null,null,null,null,null,null,null,null,null,null,0]
[null,null,null,null,null,null,null,null,null,null,null,null,0]
[null,null,null,null,null,null,null,null,null,null,null,null,0]
[null,null,null,null,null,null,null,null,null,null,null,null,0]
[null,null,null,null,null,null,null,null,null,null,null,null,0]
[null,null,null,null,null,null,null,null,null,null,null,null,0]
[null,null,null,null,null,null,null,null,null,null,null,null,0]
[null,null,null,null,null,null,null,null,null,null,null,null,0]
[null,null,null,null,null,null,null,null,null,null,null,null,0]
[null,null,null,null,null,null,null,null,null,null,null,null,0]
[null,null,null,null,null,null,null,null,null,null,null,null,0]
[null,null,null,null,null,null,null,null,null,null,null,null,0]
[null,null,null,null,null,null,null,null,null,null,null,null,0]
[null,null,null,null,null,null,null,null,null,null,null,null,0]
[null,null,null,null,null,null,null,null,null,null,null,null,0]
[null,null,null,null,null,null,null,null,null,null,null,null,0]
[null,null,null,null,null,null,null,null,null,null,null,null,0]
[null,null,null,null,null,null,null,null,null,null,null,null,0]
[null,null,null,null,null,null,null,null,null,null,null,null,0]
[null,null,null,null,null,null,null,null,null,null,null,null,0]
[null,null,null,null,null,null,null,null,null,null,null,null,0]
[null,null,null,null,null,null,null,null,null,null,null,null,0]
[null,null,null,null,null,null,null,null,null,null,null,null,0]
[null,null,null,null,null,null,null,null,null,null,null,null,0]
[null,null,null,null,null,null,null,null,null,null,null,null,0]
[null,null,null,null,null,null,null,null,null,null,null,null,0]
[null,null,null,null,null,null,null,null,null,null,null,null,0]
[null,null,null,null,null,null,null,null,null,null,null,null,0]
[null,null,null,null,null,null,null,null,null,null,null,null,0]
[null,null,null,null,null,null,null,null,null,null,null,null,0]
[null,null,null,null,null,null,null,null,null,null,null,null,0]
[null,null,null,null,null,null,null,null,null,null,null,null,0]
[null,null,null,null,null,null,null,null,null,null,null,null,0]
[null,null,null,null,null,null,null,null,null,null,null,null,0]
[null,null,null,null,null,null,null,null,null,null,null,null,0]
[null,null,null,null,null,null,null,null,null,null,null,null,0]
[null,null,null,null,null,null,null,null,null,null,null,null,0]
[null,null,null,null,null,null,null,null,null,null,null,null,0]
[null,null,null,null,null,null,null,null,null,null,null,null,0]
[null,null,null,null,null,null,null,null,null,null,null,null,0]
[null,null,null,null,null,null,null,null,null,null,null,null,0]
[null,null,null,null,null,null,null,null,null,null,null,null,0]
[null,null,null,null,null,null,null,null,null,null,null,null,0]
[null,null,null,null,null,null,null,null,null,null,null,null,0]
[null,null,null,null,null,null,null,null,null,null,null,null,0]
[null,null,null,null,null,null,null,null,null,null,null,null,0]
[null,null,null,null,null,null,null,null,null,null,null,null,0]
[null,null,null,null,null,null,null,null,null,null,null,null,0]
[null,null,null,null,null,null,null,null,null,null,null,null,0]
[null,null,null,null,null,null,null,null,null,null,null,null,0]
[null,null,null,null,null,null,null,null,null,null,null,null,0]
[null,null,null,null,null,null,null,null,null,null,null,null,0]
[null,null,null,null,null,null,null,null,null,null,null,null,0]
[null,null,null,null,null,null,null,null,null,null,null,null,0]
[null,null,null,null,null,null,null,null,null,null,null,null,0]
[null,null,null,null,null,null,null,null,null,null,null,null,0]
[null,null,null,null,null,null,null,null,null,null,null,null,0]
[null,null,null,null,null,null,null,null,null,null,null,null,0]
[null,null,null,null,null,null,null,null,null,null,null,null,0]
[null,null,null,null,null,null,null,null,null,null,null,null,0]
[null,null,null,null,null,null,null,null,null,null,null,null,0]
[null,null,null,null,null,null,null,null,null,null,null,null,0]
[null,null,null,null,null,null,null,null,null,null,null,null,0]
[null,null,null,null,null,null,null,null,null,null,null,null,0]
[null,null,null,null,null,null,null,null,null,null,null,null,0]
[null,null,null,null,null,null,null,null,null,null,null,null,0]
[null,null,null,null,null,null,null,null,null,null,null,null,0]
[null,null,null,null,null,null,null,null,null,null,null,null,0]
[null,null,null,null,null,null,null,null,null,null,null,null,0]
[null,null,null,null,null,null,null,null,null,null,null,null,0]
[null,null,null,null,null,null,null,null,null,null,null,null,0]
[null,null,null,null,null,null,null,null,null,null,null,null,0]
[null,null,null,null,null,null,null,null,null,null,null,null,0]
[null,null,null,null,null,null,null,null,null,null,null,null,0]
[null,null,null,null,null,null,null,null,null,null,null,null,0]
[null,null,null,null,null,null,null,null,null,null,null,null,0]
[null,null,null,null,null,null,null,null,null,null,null,null,0]
[null,null,null,null,null,null,null,null,null,null,null,null,0]
[null,null,null,null,null,null,null,null,null,null,null,null,0]
[null,null,null,null,null,null,null,null,null,null,null,null,0]
[null,null,null,null,null,null,null,null,null,null,null,null,0]
[null,null,null,null,null,null,null,null,null,null,null,null,0]
[null,null,null,null,null,null,null,null,null,null,null,null,0]
[null,null,null,null,null,null,null,null,null,null,null,null,0]
[null,null,null,null,null,null,null,null,null,null,null,null,0]
[null,null,null,null,null,null,null,null,null,null,null,null,0]
[null,null,null,null,null,null,null,null,null,null,null,null,0]
[null,null,null,null,null,null,null,null,null,null,null,null,0]
[null,null,null,null,null,null,null,null,null,null,null,null,0]
[null,null,null,null,null,null,null,null,null,null,null,null,0]
[null,null,null,null,null,null,null,null,null,null,null,null,0]
[null,null,null,null,null,null,null,null,null,null,null,null,0]
[null,null,null,null,null,null,null,null,null,null,null,null,0]
[null,null,null,null,null,null,null,null,null,null,null,null,0]
[null,null,null,null,null,null,null,null,null,null,null,null,0]
[null,null,null,null,null,null,null,null,null,null,null,null,0]
[null,null,null,null,null,null,null,null,null,null,null,null,0]
[null,null,null,null,null,null,null,null,null,null,null,null,0]
[null,null,null,null,null,null,null,null,null,null,null,null,0]
[null,null,null,null,null,null,null,null,null,null,null,null,0]
[null,null,null,null,null,null,null,null,null,null,null,null,0]
[null,null,null,null,null,null,null,null,null,null,null,null,0]
[null,null,null,null,null,null,null,null,null,null,null,null,0]
[null,null,null,null,null,null,null,null,null,null,null,null,0]
[null,null,null,null,null,null,null,null,null,null,null,null,0]
[null,null,null,null,null,null,null,null,null,null,null,null,0]
[null,null,null,null,null,null,null,null,null,null,null,null,0]
[null,null,null,null,null,null,null,null,null,null,null,null,0]
[null,null,null,null,null,null,null,null,null,null,null,null,0]
[null,null,null,null,null,null,null,null,null,null,null,null,0]
[null,null,null,null,null,null,null,null,null,null,null,null,0]
[null,null,null,null,null,null,null,null,null,null,null,null,0]
[null,null,null,null,null,null,null,null,null,null,null,null,0]
[null,null,null,null,null,null,null,null,null,null,null,null,0]
[null,null,null,null,null,null,null,null,null,null,null,null,0]
[null,null,null,null,null,null,null,null,null,null,null,null,0]
[null,null,null,null,null,null,null,null,null,null,null,null,0]
[null,null,null,null,null,null,null,null,null,null,null,null,0]
[null,null,null,null,null,null,null,null,null,null,null,null,0]
[null,null,null,null,null,null,null,null,null,null,null,null,0]
[null,null,null,null,null,null,null,null,null,null,null,null,0]
[null,null,null,null,null,null,null,null,null,null,null,null,0]
[null,null,null,null,null,null,null,null,null,null,null,null,0]
[null,null,null,null,null,null,null,null,null,null,null,null,0]
[null,null,null,null,null,null,null,null,null,null,null,null,0]
[null,null,null,null,null,null,null,null,null,null,null,null,0]
[null,null,null,null,null,null,null,null,null,null,null,null,0]
[null,null,null,null,null,null,null,null,null,null,null,null,0]
[null,null,null,null,null,null,null,null,null,null,null,null,0]
[null,null,null,null,null,null,null,null,null,null,null,null,0]
[null,null,null,null,null,null,null,null,null,null,null,null,0]
[null,null,null,null,null,null,null,null,null,null,null,null,0]
[null,null,null,null,null,null,null,null,null,null,null,null,0]
[null,null,null,null,null,null,null,null,null,null,null,null,0]
[null,null,null,null,null,null,null,null,null,null,null,null,0]
[null,null,null,null,null,null,null,null,null,null,null,null,0]
[null,null,null,null,null,null,null,null,null,null,null,null,0]
[null,null,null,null,null,null,null,null,null,null,null,null,0]
[null,null,null,null,null,null,null,null,null,null,null,null,0]
[null,null,null,null,null,null,null,null,null,null,null,null,0]
[null,null,null,null,null,null,null,null,null,null,null,null,0]
[null,null,null,null,null,null,null,null,null,null,null,null,0]
[null,null,null,null,null,null,null,null,null,null,null,null,0]
[null,null,null,null,null,null,null,null,null,null,null,null,0]
[null,null,null,null,null,null,null,null,null,null,null,null,0]
[null,null,null,null,null,null,null,null,null,null,null,null,0]
[null,null,null,null,null,null,null,null,null,null,null,null,0]
[null,null,null,null,null,null,null,null,null,null,null,null,0]
[null,null,null,null,null,null,null,null,null,null,null,null,0]
[null,null,null,null,null,null,null,null,null,null,null,null,0]
[null,null,null,null,null,null,null,null,null,null,null,null,0]
[null,null,null,null,null,null,null,null,null,null,null,null,0]
[null,null,null,null,null,null,null,null,null,null,null,null,0]
[null,null,null,null,null,null,null,null,null,null,null,null,0]
[null,null,null,null,null,null,null,null,null,null,null,null,0]
[null,null,null,null,null,null,null,null,null,null,null,null,0]
[null,null,null,null,null,null,null,null,null,null,null,null,0]
[null,null,null,null,null,null,null,null,null,null,null,null,0]
[null,null,null,null,null,null,null,null,null,null,null,null,0]
[null,null,null,null,null,null,null,null,null,null,null,null,0]
[null,null,null,null,null,null,null,null,null,null,null,null,0]
[null,null,null,null,null,null,null,null,null,null,null,null,0]
[null,null,null,null,null,null,null,null,null,null,null,null,0]
[null,null,null,null,null,null,null,null,null,null,null,null,0]
[null,null,null,null,null,null,null,null,null,null,null,null,0]
[null,null,null,null,null,null,null,null,null,null,null,null,0]
[null,null,null,null,null,null,null,null,null,null,null,null,0]
[null,null,null,null,null,null,null,null,null,null,null,null,0]
[null,null,null,null,null,null,null,null,null,null,null,null,0]
[null,null,null,null,null,null,null,null,null,null,null,null,0]
[null,null,null,null,null,null,null,null,null,null,null,null,0]
[null,null,null,null,null,null,null,null,null,null,null,null,0]
[null,null,null,null,null,null,null,null,null,null,null,null,0]
[null,null,null,null,null,null,null,null,null,null,null,null,0]
[null,null,null,null,null,null,null,null,null,null,null,null,0]
[null,null,null,null,null,null,null,null,null,null,null,null,0]
[null,null,null,null,null,null,null,null,null,null,null,null,0]
[null,null,null,null,null,null,null,null,null,null,null,null,0]
[null,null,null,null,null,null,null,null,null,null,null,null,0]
[null,null,null,null,null,null,null,null,null,null,null,null,0]
[null,null,null,null,null,null,null,null,null,null,null,null,0]
[null,null,null,null,null,null,null,null,null,null,null,null,0]
[null,null,null,null,null,null,null,null,null,null,null,null,0]
[null,null,null,null,null,null,null,null,null,null,null,null,0]
[null,null,null,null,null,null,null,null,null,null,null,null,0]
[null,null,null,null,null,null,null,null,null,null,null,null,0]
[null,null,null,null,null,null,null,null,null,null,null,null,0]
[null,null,null,null,null,null,null,null,null,null,null,null,0]
[null,null,null,null,null,null,null,null,null,null,null,null,0]
[null,null,null,null,null,null,null,null,null,null,null,null,0]
[null,null,null,null,null,null,null,null,null,null,null,null,0]
[null,null,null,null,null,null,null,null,null,null,null,null,0]
[null,null,null,null,null,null,null,null,null,null,null,null,0]
[null,null,null,null,null,null,null,null,null,null,null,null,0]
[null,null,null,null,null,null,null,null,null,null,null,null,0]
[null,null,null,null,null,null,null,null,null,null,null,null,0]
[null,null,null,null,null,null,null,null,null,null,null,null,0]
[null,null,null,null,null,null,null,null,null,null,null,null,0]
[null,null,null,null,null,null,null,null,null,null,null,null,0]
[null,null,null,null,null,null,null,null,null,null,null,null,0]
[null,null,null,null,null,null,null,null,null,null,null,null,0]
[null,null,null,null,null,null,null,null,null,null,null,null,0]
[null,null,null,null,null,null,null,null,null,null,null,null,0]
[null,null,null,null,null,null,null,null,null,null,null,null,0]
[null,null,null,null,null,null,null,null,null,null,null,null,0]
[null,null,null,null,null,null,null,null,null,null,null,null,0]
[null,null,null,null,null,null,null,null,null,null,null,null,0]
[null,null,null,null,null,null,null,null,null,null,null,null,0]
[null,null,null,null,null,null,null,null,null,null,null,null,0]
[null,null,null,null,null,null,null,null,null,null,null,null,0]
[null,null,null,null,null,null,null,null,null,null,null,null,0]
[null,null,null,null,null,null,null,null,null,null,null,null,0]
[null,null,null,null,null,null,null,null,null,null,null,null,0]
[null,null,null,null,null,null,null,null,null,null,null,null,0]
[null,null,null,null,null,null,null,null,null,null,null,null,0]
[null,null,null,null,null,null,null,null,null,null,null,null,0]
[null,null,null,null,null,null,null,null,null,null,null,null,0]
[null,null,null,null,null,null,null,null,null,null,null,null,0]
[null,null,null,null,null,null,null,null,null,null,null,null,0]
[null,null,null,null,null,null,null,null,null,null,null,null,0]
[null,null,null,null,null,null,null,null,null,null,null,null,0]
[null,null,null,null,null,null,null,null,null,null,null,null,0]
[null,null,null,null,null,null,null,null,null,null,null,null,0]
[null,null,null,null,null,null,null,null,null,null,null,null,0]
[null,null,null,null,null,null,null,null,null,null,null,null,0]
[null,null,null,null,null,null,null,null,null,null,null,null,0]
[null,null,null,null,null,null,null,null,null,null,null,null,0]
[null,null,null,null,null,null,null,null,null,null,null,null,0]
[null,null,null,null,null,null,null,null,null,null,null,null,0]
[null,null,null,null,null,null,null,null,null,null,null,null,0]
[null,null,null,null,null,null,null,null,null,null,null,null,0]
[null,null,null,null,null,null,null,null,null,null,null,null,0]
[null,null,null,null,null,null,null,null,null,null,null,null,0]
[null,null,null,null,null,null,null,null,null,null,null,null,0]
[null,null,null,null,null,null,null,null,null,null,null,null,0]
[null,null,null,null,null,null,null,null,null,null,null,null,0]
[null,null,null,null,null,null,null,null,null,null,null,null,0]
[null,null,null,null,null,null,null,null,null,null,null,null,0]
[null,null,null,null,null,null,null,null,null,null,null,null,0]
[null,null,null,null,null,null,null,null,null,null,null,null,0]
[null,null,null,null,null,null,null,null,null,null,null,null,0]
[null,null,null,null,null,null,null,null,null,null,null,null,0]
[null,null,null,null,null,null,null,null,null,null,null,null,0]
[null,null,null,null,null,null,null,null,null,null,null,null,0]
[null,null,null,null,null,null,null,null,null,null,null,null,0]
[null,null,null,null,null,null,null,null,null,null,null,null,0]
[null,null,null,null,null,null,null,null,null,null,null,null,0]
[null,null,null,null,null,null,null,null,null,null,null,null,0]
[null,null,null,null,null,null,null,null,null,null,null,null,0]
[null,null,null,null,null,null,null,null,null,null,null,null,0]
[null,null,null,null,null,null,null,null,null,null,null,null,0]
[null,null,null,null,null,null,null,null,null,null,null,null,0]
[null,null,null,null,null,null,null,null,null,null,null,null,0]
[null,null,null,null,null,null,null,null,null,null,null,null,0]
[null,null,null,null,null,null,null,null,null,null,null,null,0]
[null,null,null,null,null,null,null,null,null,null,null,null,0]
[null,null,null,null,null,null,null,null,null,null,null,null,0]
[null,null,null,null,null,null,null,null,null,null,null,null,0]
[null,null,null,null,null,null,null,null,null,null,null,null,0]
[null,null,null,null,null,null,null,null,null,null,null,null,0]
[null,null,null,null,null,null,null,null,null,null,null,null,0]
[null,null,null,null,null,null,null,null,null,null,null,null,0]
[null,null,null,null,null,null,null,null,null,null,null,null,0]
[null,null,null,null,null,null,null,null,null,null,null,null,0]
[null,null,null,null,null,null,null,null,null,null,null,null,0]
[null,null,null,null,null,null,null,null,null,null,null,null,0]
[null,null,null,null,null,null,null,null,null,null,null,null,0]
[null,null,null,null,null,null,null,null,null,null,null,null,0]
[null,null,null,null,null,null,null,null,null,null,null,null,0]
[null,null,null,null,null,null,null,null,null,null,null,null,0]
[null,null,null,null,null,null,null,null,null,null,null,null,0]
[null,null,null,null,null,null,null,null,null,null,null,null,0]
[null,null,null,null,null,null,null,null,null,null,null,null,0]
[null,null,null,null,null,null,null,null,null,null,null,null,0]
[null,null,null,null,null,null,null,null,null,null,null,null,0]
[null,null,null,null,null,null,null,null,null,null,null,null,0]
[null,null,null,null,null,null,null,null,null,null,null,null,0]
[null,null,null,null,null,null,null,null,null,null,null,null,0]
[null,null,null,null,null,null,null,null,null,null,null,null,0]
[null,null,null,null,null,null,null,null,null,null,null,null,0]
[null,null,null,null,null,null,null,null,null,null,null,null,0]
[null,null,null,null,null,null,null,null,null,null,null,null,0]
[null,null,null,null,null,null,null,null,null,null,null,null,0]
[null,null,null,null,null,null,null,null,null,null,null,null,0]
[null,null,null,null,null,null,null,null,null,null,null,null,0]
[null,null,null,null,null,null,null,null,null,null,null,null,0]
[null,null,null,null,null,null,null,null,null,null,null,null,0]
[null,null,null,null,null,null,null,null,null,null,null,null,0]
[null,null,null,null,null,null,null,null,null,null,null,null,0]
[null,null,null,null,null,null,null,null,null,null,null,null,0]
[null,null,null,null,null,null,null,null,null,null,null,null,0]
[null,null,null,null,null,null,null,null,null,null,null,null,0]
[null,null,null,null,null,null,null,null,null,null,null,null,0]
[null,null,null,null,null,null,null,null,null,null,null,null,0]
[null,null,null,null,null,null,null,null,null,null,null,null,0]
[null,null,null,null,null,null,null,null,null,null,null,null,0]
[null,null,null,null,null,null,null,null,null,null,null,null,0]
[null,null,null,null,null,null,null,null,null,null,null,null,0]
[null,null,null,null,null,null,null,null,null,null,null,null,0]
[null,null,null,null,null,null,null,null,null,null,null,null,0]
[null,null,null,null,null,null,null,null,null,null,null,null,0]
[null,null,null,null,null,null,null,null,null,null,null,null,0]
[null,null,null,null,null,null,null,null,null,null,null,null,0]
[null,null,null,null,null,null,null,null,null,null,null,null,0]
[null,null,null,null,null,null,null,null,null,null,null,null,0]
[null,null,null,null,null,null,null,null,null,null,null,null,0]
[null,null,null,null,null,null,null,null,null,null,null,null,0]
[null,null,null,null,null,null,null,null,null,null,null,null,0]
[null,null,null,null,null,null,null,null,null,null,null,null,0]
[null,null,null,null,null,null,null,null,null,null,null,null,0]
[null,null,null,null,null,null,null,null,null,null,null,null,0]
[null,null,null,null,null,null,null,null,null,null,null,null,0]
[null,null,null,null,null,null,null,null,null,null,null,null,0]
[null,null,null,null,null,null,null,null,null,null,null,null,0]
[null,null,null,null,null,null,null,null,null,null,null,null,0]
[null,null,null,null,null,null,null,null,null,null,null,null,0]
[null,null,null,null,null,null,null,null,null,null,null,null,0]
[null,null,null,null,null,null,null,null,null,null,null,null,0]
[null,null,null,null,null,null,null,null,null,null,null,null,0]
[null,null,null,null,null,null,null,null,null,null,null,null,0]
[null,null,null,null,null,null,null,null,null,null,null,null,0]
[null,null,null,null,null,null,null,null,null,null,null,null,0]
[null,null,null,null,null,null,null,null,null,null,null,null,0]
[null,null,null,null,null,null,null,null,null,null,null,null,0]
[null,null,null,null,null,null,null,null,null,null,null,null,0]
[null,null,null,null,null,null,null,null,null,null,null,null,0]
[null,null,null,null,null,null,null,null,null,null,null,null,0]
[null,null,null,null,null,null,null,null,null,null,null,null,0]
[null,null,null,null,null,null,null,null,null,null,null,null,0]
[null,null,null,null,null,null,null,null,null,null,null,null,0]
[null,null,null,null,null,null,null,null,null,null,null,null,0]
[null,null,null,null,null,null,null,null,null,null,null,null,0]
[null,null,null,null,null,null,null,null,null,null,null,null,0]
[null,null,null,null,null,null,null,null,null,null,null,null,0]
[null,null,null,null,null,null,null,null,null,null,null,null,0]
[null,null,null,null,null,null,null,null,null,null,null,null,0]
[null,null,null,null,null,null,null,null,null,null,null,null,0]
[null,null,null,null,null,null,null,null,null,null,null,null,0]
[null,null,null,null,null,null,null,null,null,null,null,null,0]
[null,null,null,null,null,null,null,null,null,null,null,null,0]
[null,null,null,null,null,null,null,null,null,null,null,null,0]
[null,null,null,null,null,null,null,null,null,null,null,null,0]
[null,null,null,null,null,null,null,null,null,null,null,null,0]
[null,null,null,null,null,null,null,null,null,null,null,null,0]
[null,null,null,null,null,null,null,null,null,null,null,null,0]
[null,null,null,null,null,null,null,null,null,null,null,null,0]
[null,null,null,null,null,null,null,null,null,null,null,null,0]
[null,null,null,null,null,null,null,null,null,null,null,null,0]
[null,null,null,null,null,null,null,null,null,null,null,null,0]
[null,null,null,null,null,null,null,null,null,null,null,null,0]
[null,null,null,null,null,null,null,null,null,null,null,null,0]
[null,null,null,null,null,null,null,null,null,null,null,null,0]
[null,null,null,null,null,null,null,null,null,null,null,null,0]
[null,null,null,null,null,null,null,null,null,null,null,null,0]
[null,null,null,null,null,null,null,null,null,null,null,null,0]
[null,null,null,null,null,null,null,null,null,null,null,null,0]
[null,null,null,null,null,null,null,null,null,null,null,null,0]
[null,null,null,null,null,null,null,null,null,null,null,null,0]
[null,null,null,null,null,null,null,null,null,null,null,null,0]
[null,null,null,null,null,null,null,null,null,null,null,null,0]
[null,null,null,null,null,null,null,null,null,null,null,null,0]
[null,null,null,null,null,null,null,null,null,null,null,null,0]
[null,null,null,null,null,null,null,null,null,null,null,null,0]
[null,null,null,null,null,null,null,null,null,null,null,null,0]
[null,null,null,null,null,null,null,null,null,null,null,null,0]
[null,null,null,null,null,null,null,null,null,null,null,null,0]
[null,null,null,null,null,null,null,null,null,null,null,null,0]
[null,null,null,null,null,null,null,null,null,null,null,null,0]
[null,null,null,null,null,null,null,null,null,null,null,null,0]
[null,null,null,null,null,null,null,null,null,null,null,null,0]
[null,null,null,null,null,null,null,null,null,null,null,null,0]
[null,null,null,null,null,null,null,null,null,null,null,null,0]
[null,null,null,null,null,null,null,null,null,null,null,null,0]
[null,null,null,null,null,null,null,null,null,null,null,null,0]
[null,null,null,null,null,null,null,null,null,null,null,null,0]
[null,null,null,null,null,null,null,null,null,null,null,null,0]
[null,null,null,null,null,null,null,null,null,null,null,null,0]
[null,null,null,null,null,null,null,null,null,null,null,null,0]
[null,null,null,null,null,null,null,null,null,null,null,null,0]
[null,null,null,null,null,null,null,null,null,null,null,null,0]
[null,null,null,null,null,null,null,null,null,null,null,null,0]
[null,null,null,null,null,null,null,null,null,null,null,null,0]
[null,null,null,null,null,null,null,null,null,null,null,null,0]
[null,null,null,null,null,null,null,null,null,null,null,null,0]
[null,null,null,null,null,null,null,null,null,null,null,null,0]
[null,null,null,null,null,null,null,null,null,null,null,null,0]
[null,null,null,null,null,null,null,null,null,null,null,null,0]
[null,null,null,null,null,null,null,null,null,null,null,null,0]
[null,null,null,null,null,null,null,null,null,null,null,null,0]
[null,null,null,null,null,null,null,null,null,null,null,null,0]
[null,null,null,null,null,null,null,null,null,null,null,null,0]
[null,null,null,null,null,null,null,null,null,null,null,null,0]
[null,null,null,null,null,null,null,null,null,null,null,null,0]
[null,null,null,null,null,null,null,null,null,null,null,null,0]
[null,null,null,null,null,null,null,null,null,null,null,null,0]
[null,null,null,null,null,null,null,null,null,null,null,null,0]
[null,null,null,null,null,null,null,null,null,null,null,null,0]
[null,null,null,null,null,null,null,null,null,null,null,null,0]
[null,null,null,null,null,null,null,null,null,null,null,null,0]
[null,null,null,null,null,null,null,null,null,null,null,null,0]
[null,null,null,null,null,null,null,null,null,null,null,null,0]
[null,null,null,null,null,null,null,null,null,null,null,null,0]
[null,null,null,null,null,null,null,null,null,null,null,null,0]
[null,null,null,null,null,null,null,null,null,null,null,null,0]
[null,null,null,null,null,null,null,null,null,null,null,null,0]
[null,null,null,null,null,null,null,null,null,null,null,null,0]
[null,null,null,null,null,null,null,null,null,null,null,null,0]
[null,null,null,null,null,null,null,null,null,null,null,null,0]
[null,null,null,null,null,null,null,null,null,null,null,null,0]
[null,null,null,null,null,null,null,null,null,null,null,null,0]
[null,null,null,null,null,null,null,null,null,null,null,null,0]
[null,null,null,null,null,null,null,null,null,null,null,null,0]
[null,null,null,null,null,null,null,null,null,null,null,null,0]
[null,null,null,null,null,null,null,null,null,null,null,null,0]
[null,null,null,null,null,null,null,null,null,null,null,null,0]
[null,null,null,null,null,null,null,null,null,null,null,null,0]
[null,null,null,null,null,null,null,null,null,null,null,null,0]
[null,null,null,null,null,null,null,null,null,null,null,null,0]
[null,null,null,null,null,null,null,null,null,null,null,null,0]
[null,null,null,null,null,null,null,null,null,null,null,null,0]
[null,null,null,null,null,null,null,null,null,null,null,null,0]
[null,null,null,null,null,null,null,null,null,null,null,null,0]
[null,null,null,null,null,null,null,null,null,null,null,null,0]
[null,null,null,null,null,null,null,null,null,null,null,null,0]
[null,null,null,null,null,null,null,null,null,null,null,null,0]
[null,null,null,null,null,null,null,null,null,null,null,null,0]
[null,null,null,null,null,null,null,null,null,null,null,null,0]
[null,null,null,null,null,null,null,null,null,null,null,null,0]
[null,null,null,null,null,null,null,null,null,null,null,null,0]
[null,null,null,null,null,null,null,null,null,null,null,null,0]
[null,null,null,null,null,null,null,null,null,null,null,null,0]
[null,null,null,null,null,null,null,null,null,null,null,null,0]
[null,null,null,null,null,null,null,null,null,null,null,null,0]
[null,null,null,null,null,null,null,null,null,null,null,null,0]
[null,null,null,null,null,null,null,null,null,null,null,null,0]
[null,null,null,null,null,null,null,null,null,null,null,null,0]
[null,null,null,null,null,null,null,null,null,null,null,null,0]
[null,null,null,null,null,null,null,null,null,null,null,null,0]
[null,null,null,null,null,null,null,null,null,null,null,null,0]
[null,null,null,null,null,null,null,null,null,null,null,null,0]
[null,null,null,null,null,null,null,null,null,null,null,null,0]
[null,null,null,null,null,null,null,null,null,null,null,null,0]
[null,null,null,null,null,null,null,null,null,null,null,null,0]
[null,null,null,null,null,null,null,null,null,null,null,null,0]
[null,null,null,null,null,null,null,null,null,null,null,null,0]
[null,null,null,null,null,null,null,null,null,null,null,null,0]
[null,null,null,null,null,null,null,null,null,null,null,null,0]
[null,null,null,null,null,null,null,null,null,null,null,null,0]
[null,null,null,null,null,null,null,null,null,null,null,null,0]
[null,null,null,null,null,null,null,null,null,null,null,null,0]
[null,null,null,null,null,null,null,null,null,null,null,null,0]
[null,null,null,null,null,null,null,null,null,null,null,null,0]
[null,null,null,null,null,null,null,null,null,null,null,null,0]
[null,null,null,null,null,null,null,null,null,null,null,null,0]
[null,null,null,null,null,null,null,null,null,null,null,null,0]
[null,null,null,null,null,null,null,null,null,null,null,null,0]
[null,null,null,null,null,null,null,null,null,null,null,null,0]
[null,null,null,null,null,null,null,null,null,null,null,null,0]
[null,null,null,null,null,null,null,null,null,null,null,null,0]
[null,null,null,null,null,null,null,null,null,null,null,null,0]
[null,null,null,null,null,null,null,null,null,null,null,null,0]
[null,null,null,null,null,null,null,null,null,null,null,null,0]
[null,null,null,null,null,null,null,null,null,null,null,null,0]
[null,null,null,null,null,null,null,null,null,null,null,null,0]
[null,null,null,null,null,null,null,null,null,null,null,null,0]
[null,null,null,null,null,null,null,null,null,null,null,null,0]
[null,null,null,null,null,null,null,null,null,null,null,null,0]
[null,null,null,null,null,null,null,null,null,null,null,null,0]
[null,null,null,null,null,null,null,null,null,null,null,null,0]
[null,null,null,null,null,null,null,null,null,null,null,null,0]
[null,null,null,null,null,null,null,null,null,null,null,null,0]
[null,null,null,null,null,null,null,null,null,null,null,null,0]
[null,null,null,null,null,null,null,null,null,null,null,null,0]
[null,null,null,null,null,null,null,null,null,null,null,null,0]
[null,null,null,null,null,null,null,null,null,null,null,null,0]
[null,null,null,null,null,null,null,null,null,null,null,null,0]
[null,null,null,null,null,null,null,null,null,null,null,null,0]
[null,null,null,null,null,null,null,null,null,null,null,null,0]
[null,null,null,null,null,null,null,null,null,null,null,null,0]
[null,null,null,null,null,null,null,null,null,null,null,null,0]
[null,null,null,null,null,null,null,null,null,null,null,null,0]
[null,null,null,null,null,null,null,null,null,null,null,null,0]
[null,null,null,null,null,null,null,null,null,null,null,null,0]
[null,null,null,null,null,null,null,null,null,null,null,null,0]
[null,null,null,null,null,null,null,null,null,null,null,null,0]
[null,null,null,null,null,null,null,null,null,null,null,null,0]
[null,null,null,null,null,null,null,null,null,null,null,null,0]
[null,null,null,null,null,null,null,null,null,null,null,null,0]
[null,null,null,null,null,null,null,null,null,null,null,null,0]
[null,null,null,null,null,null,null,null,null,null,null,null,0]
[null,null,null,null,null,null,null,null,null,null,null,null,0]
[null,null,null,null,null,null,null,null,null,null,null,null,0]
[null,null,null,null,null,null,null,null,null,null,null,null,0]
[null,null,null,null,null,null,null,null,null,null,null,null,0]
[null,null,null,null,null,null,null,null,null,null,null,null,0]
[null,null,null,null,null,null,null,null,null,null,null,null,0]
[null,null,null,null,null,null,null,null,null,null,null,null,0]
[null,null,null,null,null,null,null,null,null,null,null,null,0]
[null,null,null,null,null,null,null,null,null,null,null,null,0]
[null,null,null,null,null,null,null,null,null,null,null,null,0]
[null,null,null,null,null,null,null,null,null,null,null,null,0]
[null,null,null,null,null,null,null,null,null,null,null,null,0]
[null,null,null,null,null,null,null,null,null,null,null,null,0]
[null,null,null,null,null,null,null,null,null,null,null,null,0]
[null,null,null,null,null,null,null,null,null,null,null,null,0]
[null,null,null,null,null,null,null,null,null,null,null,null,0]
[null,null,null,null,null,null,null,null,null,null,null,null,0]
[null,null,null,null,null,null,null,null,null,null,null,null,0]
[null,null,null,null,null,null,null,null,null,null,null,null,0]
[null,null,null,null,null,null,null,null,null,null,null,null,0]
[null,null,null,null,null,null,null,null,null,null,null,null,0]
[null,null,null,null,null,null,null,null,null,null,null,null,0]
[null,null,null,null,null,null,null,null,null,null,null,null,0]
[null,null,null,null,null,null,null,null,null,null,null,null,0]
[null,null,null,null,null,null,null,null,null,null,null,null,0]
[null,null,null,null,null,null,null,null,null,null,null,null,0]
[null,null,null,null,null,null,null,null,null,null,null,null,0]
[null,null,null,null,null,null,null,null,null,null,null,null,0]
[null,null,null,null,null,null,null,null,null,null,null,null,0]
[null,null,null,null,null,null,null,null,null,null,null,null,0]
[null,null,null,null,null,null,null,null,null,null,null,null,0]
[null,null,null,null,null,null,null,null,null,null,null,null,0]
[null,null,null,null,null,null,null,null,null,null,null,null,0]
[null,null,null,null,null,null,null,null,null,null,null,null,0]
[null,null,null,null,null,null,null,null,null,null,null,null,0]
[null,null,null,null,null,null,null,null,null,null,null,null,0]
[null,null,null,null,null,null,null,null,null,null,null,null,0]
[null,null,null,null,null,null,null,null,null,null,null,null,0]
[null,null,null,null,null,null,null,null,null,null,null,null,0]
[null,null,null,null,null,null,null,null,null,null,null,null,0]
[null,null,null,null,null,null,null,null,null,null,null,null,0]
[null,null,null,null,null,null,null,null,null,null,null,null,0]
[null,null,null,null,null,null,null,null,null,null,null,null,0]
[null,null,null,null,null,null,null,null,null,null,null,null,0]
[null,null,null,null,null,null,null,null,null,null,null,null,0]
[null,null,null,null,null,null,null,null,null,null,null,null,0]
[null,null,null,null,null,null,null,null,null,null,null,null,0]
[null,null,null,null,null,null,null,null,null,null,null,null,0]
[null,null,null,null,null,null,null,null,null,null,null,null,0]
[null,null,null,null,null,null,null,null,null,null,null,null,0]
[null,null,null,null,null,null,null,null,null,null,null,null,0]
[null,null,null,null,null,null,null,null,null,null,null,null,0]
[null,null,null,null,null,null,null,null,null,null,null,null,0]
[null,null,null,null,null,null,null,null,null,null,null,null,0]
[null,null,null,null,null,null,null,null,null,null,null,null,0]
[null,null,null,null,null,null,null,null,null,null,null,null,0]
[null,null,null,null,null,null,null,null,null,null,null,null,0]
[null,null,null,null,null,null,null,null,null,null,null,null,0]
[null,null,null,null,null,null,null,null,null,null,null,null,0]
[null,null,null,null,null,null,null,null,null,null,null,null,0]
[null,null,null,null,null,null,null,null,null,null,null,null,0]
[null,null,null,null,null,null,null,null,null,null,null,null,0]
[null,null,null,null,null,null,null,null,null,null,null,null,0]
[null,null,null,null,null,null,null,null,null,null,null,null,0]
[null,null,null,null,null,null,null,null,null,null,null,null,0]
[null,null,null,null,null,null,null,null,null,null,null,null,0]
[null,null,null,null,null,null,null,null,null,null,null,null,0]
[null,null,null,null,null,null,null,null,null,null,null,null,0]
[null,null,null,null,null,null,null,null,null,null,null,null,0]
[null,null,null,null,null,null,null,null,null,null,null,null,0]
[null,null,null,null,null,null,null,null,null,null,null,null,0]
[null,null,null,null,null,null,null,null,null,null,null,null,0]
[null,null,null,null,null,null,null,null,null,null,null,null,0]
[null,null,null,null,null,null,null,null,null,null,null,null,0]
[null,null,null,null,null,null,null,null,null,null,null,null,0]
[null,null,null,null,null,null,null,null,null,null,null,null,0]
[null,null,null,null,null,null,null,null,null,null,null,null,0]
[null,null,null,null,null,null,null,null,null,null,null,null,0]
[null,null,null,null,null,null,null,null,null,null,null,null,0]
[null,null,null,null,null,null,null,null,null,null,null,null,0]
[null,null,null,null,null,null,null,null,null,null,null,null,0]
[null,null,null,null,null,null,null,null,null,null,null,null,0]
[null,null,null,null,null,null,null,null,null,null,null,null,0]
[null,null,null,null,null,null,null,null,null,null,null,null,0]
[null,null,null,null,null,null,null,null,null,null,null,null,0]
[null,null,null,null,null,null,null,null,null,null,null,null,0]
[null,null,null,null,null,null,null,null,null,null,null,null,0]
[null,null,null,null,null,null,null,null,null,null,null,null,0]
[null,null,null,null,null,null,null,null,null,null,null,null,0]
[null,null,null,null,null,null,null,null,null,null,null,null,0]
[null,null,null,null,null,null,null,null,null,null,null,null,0]
[null,null,null,null,null,null,null,null,null,null,null,null,0]
[null,null,null,null,null,null,null,null,null,null,null,null,0]
[null,null,null,null,null,null,null,null,null,null,null,null,0]
[null,null,null,null,null,null,null,null,null,null,null,null,0]
[null,null,null,null,null,null,null,null,null,null,null,null,0]
[null,null,null,null,null,null,null,null,null,null,null,null,0]
[null,null,null,null,null,null,null,null,null,null,null,null,0]
[null,null,null,null,null,null,null,null,null,null,null,null,0]
[null,null,null,null,null,null,null,null,null,null,null,null,0]
[null,null,null,null,null,null,null,null,null,null,null,null,0]
[null,null,null,null,null,null,null,null,null,null,null,null,0]
[null,null,null,null,null,null,null,null,null,null,null,null,0]
[null,null,null,null,null,null,null,null,null,null,null,null,0]
[null,null,null,null,null,null,null,null,null,null,null,null,0]
[null,null,null,null,null,null,null,null,null,null,null,null,0]
[null,null,null,null,null,null,null,null,null,null,null,null,0]
[null,null,null,null,null,null,null,null,null,null,null,null,0]
[null,null,null,null,null,null,null,null,null,null,null,null,0]
[null,null,null,null,null,null,null,null,null,null,null,null,0]
[null,null,null,null,null,null,null,null,null,null,null,null,0]
[null,null,null,null,null,null,null,null,null,null,null,null,0]
[null,null,null,null,null,null,null,null,null,null,null,null,0]
[null,null,null,null,null,null,null,null,null,null,null,null,0]
[null,null,null,null,null,null,null,null,null,null,null,null,0]
[null,null,null,null,null,null,null,null,null,null,null,null,0]
[null,null,null,null,null,null,null,null,null,null,null,null,0]
[null,null,null,null,null,null,null,null,null,null,null,null,0]
[null,null,null,null,null,null,null,null,null,null,null,null,0]
[null,null,null,null,null,null,null,null,null,null,null,null,0]
[null,null,null,null,null,null,null,null,null,null,null,null,0]
[null,null,null,null,null,null,null,null,null,null,null,null,0]
[null,null,null,null,null,null,null,null,null,null,null,null,0]
[null,null,null,null,null,null,null,null,null,null,null,null,0]
[null,null,null,null,null,null,null,null,null,null,null,null,0]
[null,null,null,null,null,null,null,null,null,null,null,null,0]
[null,null,null,null,null,null,null,null,null,null,null,null,0]
[null,null,null,null,null,null,null,null,null,null,null,null,0]
[null,null,null,null,null,null,null,null,null,null,null,null,0]
[null,null,null,null,null,null,null,null,null,null,null,null,0]
[null,null,null,null,null,null,null,null,null,null,null,null,0]
[null,null,null,null,null,null,null,null,null,null,null,null,0]
[null,null,null,null,null,null,null,null,null,null,null,null,0]
[null,null,null,null,null,null,null,null,null,null,null,null,0]
[null,null,null,null,null,null,null,null,null,null,null,null,0]
[null,null,null,null,null,null,null,null,null,null,null,null,0]
[null,null,null,null,null,null,null,null,null,null,null,null,0]
[null,null,null,null,null,null,null,null,null,null,null,null,0]
[null,null,null,null,null,null,null,null,null,null,null,null,0]
[null,null,null,null,null,null,null,null,null,null,null,null,0]
[null,null,null,null,null,null,null,null,null,null,null,null,0]
[null,null,null,null,null,null,null,null,null,null,null,null,0]
[null,null,null,null,null,null,null,null,null,null,null,null,0]
[null,null,null,null,null,null,null,null,null,null,null,null,0]
[null,null,null,null,null,null,null,null,null,null,null,null,0]
[null,null,null,null,null,null,null,null,null,null,null,null,0]
[null,null,null,null,null,null,null,null,null,null,null,null,0]
[null,null,null,null,null,null,null,null,null,null,null,null,0]
[null,null,null,null,null,null,null,null,null,null,null,null,0]
[null,null,null,null,null,null,null,null,null,null,null,null,0]
[null,null,null,null,null,null,null,null,null,null,null,null,0]
[null,null,null,null,null,null,null,null,null,null,null,null,0]
[null,null,null,null,null,null,null,null,null,null,null,null,0]
[null,null,null,null,null,null,null,null,null,null,null,null,0]
[null,null,null,null,null,null,null,null,null,null,null,null,0]
[null,null,null,null,null,null,null,null,null,null,null,null,0]
[null,null,null,null,null,null,null,null,null,null,null,null,0]
[null,null,null,null,null,null,null,null,null,null,null,null,0]
[null,null,null,null,null,null,null,null,null,null,null,null,0]
[null,null,null,null,null,null,null,null,null,null,null,null,0]
[null,null,null,null,null,null,null,null,null,null,null,null,0]
[null,null,null,null,null,null,null,null,null,null,null,null,0]
[null,null,null,null,null,null,null,null,null,null,null,null,0]
[null,null,null,null,null,null,null,null,null,null,null,null,0]
[null,null,null,null,null,null,null,null,null,null,null,null,0]
[null,null,null,null,null,null,null,null,null,null,null,null,0]
[null,null,null,null,null,null,null,null,null,null,null,null,0]
[null,null,null,null,null,null,null,null,null,null,null,null,0]
[null,null,null,null,null,null,null,null,null,null,null,null,0]
[null,null,null,null,null,null,null,null,null,null,null,null,0]
[null,null,null,null,null,null,null,null,null,null,null,null,0]
[null,null,null,null,null,null,null,null,null,null,null,null,0]
[null,null,null,null,null,null,null,null,null,null,null,null,0]
[null,null,null,null,null,null,null,null,null,null,null,null,0]
[null,null,null,null,null,null,null,null,null,null,null,null,0]
[null,null,null,null,null,null,null,null,null,null,null,null,0]
[null,null,null,null,null,null,null,null,null,null,null,null,0]
[null,null,null,null,null,null,null,null,null,null,null,null,0]
[null,null,null,null,null,null,null,null,null,null,null,null,0]
[null,null,null,null,null,null,null,null,null,null,null,null,0]
[null,null,null,null,null,null,null,null,null,null,null,null,0]
[null,null,null,null,null,null,null,null,null,null,null,null,0]
[null,null,null,null,null,null,null,null,null,null,null,null,0]
[null,null,null,null,null,null,null,null,null,null,null,null,0]
[null,null,null,null,null,null,null,null,null,null,null,null,0]
[null,null,null,null,null,null,null,null,null,null,null,null,0]
[null,null,null,null,null,null,null,null,null,null,null,null,0]
[null,null,null,null,null,null,null,null,null,null,null,null,0]
[null,null,null,null,null,null,null,null,null,null,null,null,0]
[null,null,null,null,null,null,null,null,null,null,null,null,0]
[null,null,null,null,null,null,null,null,null,null,null,null,0]
[null,null,null,null,null,null,null,null,null,null,null,null,0]
[null,null,null,null,null,null,null,null,null,null,null,null,0]
[null,null,null,null,null,null,null,null,null,null,null,null,0]
[null,null,null,null,null,null,null,null,null,null,null,null,0]
[null,null,null,null,null,null,null,null,null,null,null,null,0]
[null,null,null,null,null,null,null,null,null,null,null,null,0]
[null,null,null,null,null,null,null,null,null,null,null,null,0]
[null,null,null,null,null,null,null,null,null,null,null,null,0]
[null,null,null,null,null,null,null,null,null,null,null,null,0]
[null,null,null,null,null,null,null,null,null,null,null,null,0]
[null,null,null,null,null,null,null,null,null,null,null,null,0]
[null,null,null,null,null,null,null,null,null,null,null,null,0]
[null,null,null,null,null,null,null,null,null,null,null,null,0]
[null,null,null,null,null,null,null,null,null,null,null,null,0]
[null,null,null,null,null,null,null,null,null,null,null,null,0]
[null,null,null,null,null,null,null,null,null,null,null,null,0]
[null,null,null,null,null,null,null,null,null,null,null,null,0]
[null,null,null,null,null,null,null,null,null,null,null,null,0]
[null,null,null,null,null,null,null,null,null,null,null,null,0]
[null,null,null,null,null,null,null,null,null,null,null,null,0]
[null,null,null,null,null,null,null,null,null,null,null,null,0]
[null,null,null,null,null,null,null,null,null,null,null,null,0]
[null,null,null,null,null,null,null,null,null,null,null,null,0]
[null,null,null,null,null,null,null,null,null,null,null,null,0]
[null,null,null,null,null,null,null,null,null,null,null,null,0]
[null,null,null,null,null,null,null,null,null,null,null,null,0]
[null,null,null,null,null,null,null,null,null,null,null,null,0]
[null,null,null,null,null,null,null,null,null,null,null,null,0]
[null,null,null,null,null,null,null,null,null,null,null,null,0]
[null,null,null,null,null,null,null,null,null,null,null,null,0]
[null,null,null,null,null,null,null,null,null,null,null,null,0]
[null,null,null,null,null,null,null,null,null,null,null,null,0]
[null,null,null,null,null,null,null,null,null,null,null,null,0]
[null,null,null,null,null,null,null,null,null,null,null,null,0]
[null,null,null,null,null,null,null,null,null,null,null,null,0]
[null,null,null,null,null,null,null,null,null,null,null,null,0]
[null,null,null,null,null,null,null,null,null,null,null,null,0]
[null,null,null,null,null,null,null,null,null,null,null,null,0]
[null,null,null,null,null,null,null,null,null,null,null,null,0]
[null,null,null,null,null,null,null,null,null,null,null,null,0]
[null,null,null,null,null,null,null,null,null,null,null,null,0]
[null,null,null,null,null,null,null,null,null,null,null,null,0]
[null,null,null,null,null,null,null,null,null,null,null,null,0]
[null,null,null,null,null,null,null,null,null,null,null,null,0]
[null,null,null,null,null,null,null,null,null,null,null,null,0]
[null,null,null,null,null,null,null,null,null,null,null,null,0]
[null,null,null,null,null,null,null,null,null,null,null,null,0]
[null,null,null,null,null,null,null,null,null,null,null,null,0]
[null,null,null,null,null,null,null,null,null,null,null,null,0]
[null,null,null,null,null,null,null,null,null,null,null,null,0]
[null,null,null,null,null,null,null,null,null,null,null,null,0]
[null,null,null,null,null,null,null,null,null,null,null,null,0]
[null,null,null,null,null,null,null,null,null,null,null,null,0]
[null,null,null,null,null,null,null,null,null,null,null,null,0]
[null,null,null,null,null,null,null,null,null,null,null,null,0]
[null,null,null,null,null,null,null,null,null,null,null,null,0]
[null,null,null,null,null,null,null,null,null,null,null,null,0]
[null,null,null,null,null,null,null,null,null,null,null,null,0]
[null,null,null,null,null,null,null,null,null,null,null,null,0]
[null,null,null,null,null,null,null,null,null,null,null,null,0]
[null,null,null,null,null,null,null,null,null,null,null,null,0]
[null,null,null,null,null,null,null,null,null,null,null,null,0]
[null,null,null,null,null,null,null,null,null,null,null,null,0]
[null,null,null,null,null,null,null,null,null,null,null,null,0]
[null,null,null,null,null,null,null,null,null,null,null,null,0]
[null,null,null,null,null,null,null,null,null,null,null,null,0]
[null,null,null,null,null,null,null,null,null,null,null,null,0]
[null,null,null,null,null,null,null,null,null,null,null,null,0]
[null,null,null,null,null,null,null,null,null,null,null,null,0]
[null,null,null,null,null,null,null,null,null,null,null,null,0]
[null,null,null,null,null,null,null,null,null,null,null,null,0]
[null,null,null,null,null,null,null,null,null,null,null,null,0]
[null,null,null,null,null,null,null,null,null,null,null,null,0]
[null,null,null,null,null,null,null,null,null,null,null,null,0]
[null,null,null,null,null,null,null,null,null,null,null,null,0]
[null,null,null,null,null,null,null,null,null,null,null,null,0]
[null,null,null,null,null,null,null,null,null,null,null,null,0]
[null,null,null,null,null,null,null,null,null,null,null,null,0]
[null,null,null,null,null,null,null,null,null,null,null,null,0]
[null,null,null,null,null,null,null,null,null,null,null,null,0]
[null,null,null,null,null,null,null,null,null,null,null,null,0]
[null,null,null,null,null,null,null,null,null,null,null,null,0]
[null,null,null,null,null,null,null,null,null,null,null,null,0]
[null,null,null,null,null,null,null,null,null,null,null,null,0]
[null,null,null,null,null,null,null,null,null,null,null,null,0]
[null,null,null,null,null,null,null,null,null,null,null,null,0]
[null,null,null,null,null,null,null,null,null,null,null,null,0]
[null,null,null,null,null,null,null,null,null,null,null,null,0]
[null,null,null,null,null,null,null,null,null,null,null,null,0]
[null,null,null,null,null,null,null,null,null,null,null,null,0]
[null,null,null,null,null,null,null,null,null,null,null,null,0]
[null,null,null,null,null,null,null,null,null,null,null,null,0]
[null,null,null,null,null,null,null,null,null,null,null,null,0]
[null,null,null,null,null,null,null,null,null,null,null,null,0]
[null,null,null,null,null,null,null,null,null,null,null,null,0]
[null,null,null,null,null,null,null,null,null,null,null,null,0]
[null,null,null,null,null,null,null,null,null,null,null,null,0]
[null,null,null,null,null,null,null,null,null,null,null,null,0]
[null,null,null,null,null,null,null,null,null,null,null,null,0]
[null,null,null,null,null,null,null,null,null,null,null,null,0]
[null,null,null,null,null,null,null,null,null,null,null,null,0]
[null,null,null,null,null,null,null,null,null,null,null,null,0]
[null,null,null,null,null,null,null,null,null,null,null,null,0]
[null,null,null,null,null,null,null,null,null,null,null,null,0]
[null,null,null,null,null,null,null,null,null,null,null,null,0]
[null,null,null,null,null,null,null,null,null,null,null,null,0]
[null,null,null,null,null,null,null,null,null,null,null,null,0]
[null,null,null,null,null,null,null,null,null,null,null,null,0]
[null,null,null,null,null,null,null,null,null,null,null,null,0]
[null,null,null,null,null,null,null,null,null,null,null,null,0]
[null,null,null,null,null,null,null,null,null,null,null,null,0]
[null,null,null,null,null,null,null,null,null,null,null,null,0]
[null,null,null,null,null,null,null,null,null,null,null,null,0]
[null,null,null,null,null,null,null,null,null,null,null,null,0]
[null,null,null,null,null,null,null,null,null,null,null,null,0]
[null,null,null,null,null,null,null,null,null,null,null,null,0]
[null,null,null,null,null,null,null,null,null,null,null,null,0]
[null,null,null,null,null,null,null,null,null,null,null,null,0]
[null,null,null,null,null,null,null,null,null,null,null,null,0]
[null,null,null,null,null,null,null,null,null,null,null,null,0]
[null,null,null,null,null,null,null,null,null,null,null,null,0]
[null,null,null,null,null,null,null,null,null,null,null,null,0]
[null,null,null,null,null,null,null,null,null,null,null,null,0]
[null,null,null,null,null,null,null,null,null,null,null,null,0]
[null,null,null,null,null,null,null,null,null,null,null,null,0]
[null,null,null,null,null,null,null,null,null,null,null,null,0]
[null,null,null,null,null,null,null,null,null,null,null,null,0]
[null,null,null,null,null,null,null,null,null,null,null,null,0]
[null,null,null,null,null,null,null,null,null,null,null,null,0]
[null,null,null,null,null,null,null,null,null,null,null,null,0]
[null,null,null,null,null,null,null,null,null,null,null,null,0]
[null,null,null,null,null,null,null,null,null,null,null,null,0]
[null,null,null,null,null,null,null,null,null,null,null,null,0]
[null,null,null,null,null,null,null,null,null,null,null,null,0]
[null,null,null,null,null,null,null,null,null,null,null,null,0]
[null,null,null,null,null,null,null,null,null,null,null,null,0]
[null,null,null,null,null,null,null,null,null,null,null,null,0]
[null,null,null,null,null,null,null,null,null,null,null,null,0]
[null,null,null,null,null,null,null,null,null,null,null,null,0]
[null,null,null,null,null,null,null,null,null,null,null,null,0]
[null,null,null,null,null,null,null,null,null,null,null,null,0]
[null,null,null,null,null,null,null,null,null,null,null,null,0]
[null,null,null,null,null,null,null,null,null,null,null,null,0]
[null,null,null,null,null,null,null,null,null,null,null,null,0]
[null,null,null,null,null,null,null,null,null,null,null,null,0]
[null,null,null,null,null,null,null,null,null,null,null,null,0]
[null,null,null,null,null,null,null,null,null,null,null,null,0]
[null,null,null,null,null,null,null,null,null,null,null,null,0]
[null,null,null,null,null,null,null,null,null,null,null,null,0]
[null,null,null,null,null,null,null,null,null,null,null,null,0]
[null,null,null,null,null,null,null,null,null,null,null,null,0]
[null,null,null,null,null,null,null,null,null,null,null,null,0]
[null,null,null,null,null,null,null,null,null,null,null,null,0]
[null,null,null,null,null,null,null,null,null,null,null,null,0]
[null,null,null,null,null,null,null,null,null,null,null,null,0]
[null,null,null,null,null,null,null,null,null,null,null,null,0]
[null,null,null,null,null,null,null,null,null,null,null,null,0]
[null,null,null,null,null,null,null,null,null,null,null,null,0]
[null,null,null,null,null,null,null,null,null,null,null,null,0]
[null,null,null,null,null,null,null,null,null,null,null,null,0]
[null,null,null,null,null,null,null,null,null,null,null,null,0]
[null,null,null,null,null,null,null,null,null,null,null,null,0]
[null,null,null,null,null,null,null,null,null,null,null,null,0]
[null,null,null,null,null,null,null,null,null,null,null,null,0]
[null,null,null,null,null,null,null,null,null,null,null,null,0]
[null,null,null,null,null,null,null,null,null,null,null,null,0]
[null,null,null,null,null,null,null,null,null,null,null,null,0]
[null,null,null,null,null,null,null,null,null,null,null,null,0]
[null,null,null,null,null,null,null,null,null,null,null,null,0]
[null,null,null,null,null,null,null,null,null,null,null,null,0]
[null,null,null,null,null,null,null,null,null,null,null,null,0]
[null,null,null,null,null,null,null,null,null,null,null,null,0]
[null,null,null,null,null,null,null,null,null,null,null,null,0]
[null,null,null,null,null,null,null,null,null,null,null,null,0]
[null,null,null,null,null,null,null,null,null,null,null,null,0]
[null,null,null,null,null,null,null,null,null,null,null,null,0]
[null,null,null,null,null,null,null,null,null,null,null,null,0]
[null,null,null,null,null,null,null,null,null,null,null,null,0]
[null,null,null,null,null,null,null,null,null,null,null,null,0]
[null,null,null,null,null,null,null,null,null,null,null,null,0]
[null,null,null,null,null,null,null,null,null,null,null,null,0]
[null,null,null,null,null,null,null,null,null,null,null,null,0]
[null,null,null,null,null,null,null,null,null,null,null,null,0]
[null,null,null,null,null,null,null,null,null,null,null,null,0]
[null,null,null,null,null,null,null,null,null,null,null,null,0]
[null,null,null,null,null,null,null,null,null,null,null,null,0]
[null,null,null,null,null,null,null,null,null,null,null,null,0]
[null,null,null,null,null,null,null,null,null,null,null,null,0]
[null,null,null,null,null,null,null,null,null,null,null,null,0]
[null,null,null,null,null,null,null,null,null,null,null,null,0]
[null,null,null,null,null,null,null,null,null,null,null,null,0]
[null,null,null,null,null,null,null,null,null,null,null,null,0]
[null,null,null,null,null,null,null,null,null,null,null,null,0]
[null,null,null,null,null,null,null,null,null,null,null,null,0]
[null,null,null,null,null,null,null,null,null,null,null,null,0]
[null,null,null,null,null,null,null,null,null,null,null,null,0]
[null,null,null,null,null,null,null,null,null,null,null,null,0]
[null,null,null,null,null,null,null,null,null,null,null,null,0]
[null,null,null,null,null,null,null,null,null,null,null,null,0]
[null,null,null,null,null,null,null,null,null,null,null,null,0]
[null,null,null,null,null,null,null,null,null,null,null,null,0]
[null,null,null,null,null,null,null,null,null,null,null,null,0]
[null,null,null,null,null,null,null,null,null,null,null,null,0]
[null,null,null,null,null,null,null,null,null,null,null,null,0]
[null,null,null,null,null,null,null,null,null,null,null,null,0]
[null,null,null,null,null,null,null,null,null,null,null,null,0]
[null,null,null,null,null,null,null,null,null,null,null,null,0]
[null,null,null,null,null,null,null,null,null,null,null,null,0]
[null,null,null,null,null,null,null,null,null,null,null,null,0]
[null,null,null,null,null,null,null,null,null,null,null,null,0]
[null,null,null,null,null,null,null,null,null,null,null,null,0]
[null,null,null,null,null,null,null,null,null,null,null,null,0]
[null,null,null,null,null,null,null,null,null,null,null,null,0]
[null,null,null,null,null,null,null,null,null,null,null,null,0]
[null,null,null,null,null,null,null,null,null,null,null,null,0]
[null,null,null,null,null,null,null,null,null,null,null,null,0]
[null,null,null,null,null,null,null,null,null,null,null,null,0]
[null,null,null,null,null,null,null,null,null,null,null,null,0]
[null,null,null,null,null,null,null,null,null,null,null,null,0]
[null,null,null,null,null,null,null,null,null,null,null,null,0]
[null,null,null,null,null,null,null,null,null,null,null,null,0]
[null,null,null,null,null,null,null,null,null,null,null,null,0]
[null,null,null,null,null,null,null,null,null,null,null,null,0]
[null,null,null,null,null,null,null,null,null,null,null,null,0]
[null,null,null,null,null,null,null,null,null,null,null,null,0]
[null,null,null,null,null,null,null,null,null,null,null,null,0]
[null,null,null,null,null,null,null,null,null,null,null,null,0]
[null,null,null,null,null,null,null,null,null,null,null,null,0]
[null,null,null,null,null,null,null,null,null,null,null,null,0]
[null,null,null,null,null,null,null,null,null,null,null,null,0]
[null,null,null,null,null,null,null,null,null,null,null,null,0]
[null,null,null,null,null,null,null,null,null,null,null,null,0]
[null,null,null,null,null,null,null,null,null,null,null,null,0]
[null,null,null,null,null,null,null,null,null,null,null,null,0]
[null,null,null,null,null,null,null,null,null,null,null,null,0]
[null,null,null,null,null,null,null,null,null,null,null,null,0]
[null,null,null,null,null,null,null,null,null,null,null,null,0]
[null,null,null,null,null,null,null,null,null,null,null,null,0]
[null,null,null,null,null,null,null,null,null,null,null,null,0]
[null,null,null,null,null,null,null,null,null,null,null,null,0]
[null,null,null,null,null,null,null,null,null,null,null,null,0]
[null,null,null,null,null,null,null,null,null,null,null,null,0]
[null,null,null,null,null,null,null,null,null,null,null,null,0]
[null,null,null,null,null,null,null,null,null,null,null,null,0]
[null,null,null,null,null,null,null,null,null,null,null,null,0]
[null,null,null,null,null,null,null,null,null,null,null,null,0]
[null,null,null,null,null,null,null,null,null,null,null,null,0]
[null,null,null,null,null,null,null,null,null,null,null,null,0]
[null,null,null,null,null,null,null,null,null,null,null,null,0]
[null,null,null,null,null,null,null,null,null,null,null,null,0]
[null,null,null,null,null,null,null,null,null,null,null,null,0]
[null,null,null,null,null,null,null,null,null,null,null,null,0]
[null,null,null,null,null,null,null,null,null,null,null,null,0]
[null,null,null,null,null,null,null,null,null,null,null,null,0]
[null,null,null,null,null,null,null,null,null,null,null,null,0]
[null,null,null,null,null,null,null,null,null,null,null,null,0]
[null,null,null,null,null,null,null,null,null,null,null,null,0]
[null,null,null,null,null,null,null,null,null,null,null,null,0]
[null,null,null,null,null,null,null,null,null,null,null,null,0]
[null,null,null,null,null,null,null,null,null,null,null,null,0]
[null,null,null,null,null,null,null,null,null,null,null,null,0]
[null,null,null,null,null,null,null,null,null,null,null,null,0]
[null,null,null,null,null,null,null,null,null,null,null,null,0]
[null,null,null,null,null,null,null,null,null,null,null,null,0]
[null,null,null,null,null,null,null,null,null,null,null,null,0]
[null,null,null,null,null,null,null,null,null,null,null,null,0]
[null,null,null,null,null,null,null,null,null,null,null,null,0]
[null,null,null,null,null,null,null,null,null,null,null,null,0]
[null,null,null,null,null,null,null,null,null,null,null,null,0]
[null,null,null,null,null,null,null,null,null,null,null,null,0]
[null,null,null,null,null,null,null,null,null,null,null,null,0]
[null,null,null,null,null,null,null,null,null,null,null,null,0]
[null,null,null,null,null,null,null,null,null,null,null,null,0]
[null,null,null,null,null,null,null,null,null,null,null,null,0]
[null,null,null,null,null,null,null,null,null,null,null,null,0]
[null,null,null,null,null,null,null,null,null,null,null,null,0]
[null,null,null,null,null,null,null,null,null,null,null,null,0]
[null,null,null,null,null,null,null,null,null,null,null,null,0]
[null,null,null,null,null,null,null,null,null,null,null,null,0]
[null,null,null,null,null,null,null,null,null,null,null,null,0]
[null,null,null,null,null,null,null,null,null,null,null,null,0]
[null,null,null,null,null,null,null,null,null,null,null,null,0]
[null,null,null,null,null,null,null,null,null,null,null,null,0]
[null,null,null,null,null,null,null,null,null,null,null,null,0]
[null,null,null,null,null,null,null,null,null,null,null,null,0]
[null,null,null,null,null,null,null,null,null,null,null,null,0]
[null,null,null,null,null,null,null,null,null,null,null,null,0]
[null,null,null,null,null,null,null,null,null,null,null,null,0]
[null,null,null,null,null,null,null,null,null,null,null,null,0]
[null,null,null,null,null,null,null,null,null,null,null,null,0]
[null,null,null,null,null,null,null,null,null,null,null,null,0]
[null,null,null,null,null,null,null,null,null,null,null,null,0]
[null,null,null,null,null,null,null,null,null,null,null,null,0]
[null,null,null,null,null,null,null,null,null,null,null,null,0]
[null,null,null,null,null,null,null,null,null,null,null,null,0]
[null,null,null,null,null,null,null,null,null,null,null,null,0]
[null,null,null,null,null,null,null,null,null,null,null,null,0]
[null,null,null,null,null,null,null,null,null,null,null,null,0]
[null,null,null,null,null,null,null,null,null,null,null,null,0]
[null,null,null,null,null,null,null,null,null,null,null,null,0]
[null,null,null,null,null,null,null,null,null,null,null,null,0]
[null,null,null,null,null,null,null,null,null,null,null,null,0]
[null,null,null,null,null,null,null,null,null,null,null,null,0]
[null,null,null,null,null,null,null,null,null,null,null,null,0]
[null,null,null,null,null,null,null,null,null,null,null,null,0]
[null,null,null,null,null,null,null,null,null,null,null,null,0]
[null,null,null,null,null,null,null,null,null,null,null,null,0]
[null,null,null,null,null,null,null,null,null,null,null,null,0]
[null,null,null,null,null,null,null,null,null,null,null,null,0]
[null,null,null,null,null,null,null,null,null,null,null,null,0]
[null,null,null,null,null,null,null,null,null,null,null,null,0]
[null,null,null,null,null,null,null,null,null,null,null,null,0]
[null,null,null,null,null,null,null,null,null,null,null,null,0]
[null,null,null,null,null,null,null,null,null,null,null,null,0]
[null,null,null,null,null,null,null,null,null,null,null,null,0]
[null,null,null,null,null,null,null,null,null,null,null,null,0]
[null,null,null,null,null,null,null,null,null,null,null,null,0]
[null,null,null,null,null,null,null,null,null,null,null,null,0]
[null,null,null,null,null,null,null,null,null,null,null,null,0]
[null,null,null,null,null,null,null,null,null,null,null,null,0]
[null,null,null,null,null,null,null,null,null,null,null,null,0]
[null,null,null,null,null,null,null,null,null,null,null,null,0]
[null,null,null,null,null,null,null,null,null,null,null,null,0]
[null,null,null,null,null,null,null,null,null,null,null,null,0]
[null,null,null,null,null,null,null,null,null,null,null,null,0]
[null,null,null,null,null,null,null,null,null,null,null,null,0]
[null,null,null,null,null,null,null,null,null,null,null,null,0]
[null,null,null,null,null,null,null,null,null,null,null,null,0]
[null,null,null,null,null,null,null,null,null,null,null,null,0]
[null,null,null,null,null,null,null,null,null,null,null,null,0]
[null,null,null,null,null,null,null,null,null,null,null,null,0]
[null,null,null,null,null,null,null,null,null,null,null,null,0]
[null,null,null,null,null,null,null,null,null,null,null,null,0]
[null,null,null,null,null,null,null,null,null,null,null,null,0]
[null,null,null,null,null,null,null,null,null,null,null,null,0]
[null,null,null,null,null,null,null,null,null,null,null,null,0]
[null,null,null,null,null,null,null,null,null,null,null,null,0]
[null,null,null,null,null,null,null,null,null,null,null,null,0]
[null,null,null,null,null,null,null,null,null,null,null,null,0]
[null,null,null,null,null,null,null,null,null,null,null,null,0]
[null,null,null,null,null,null,null,null,null,null,null,null,0]
[null,null,null,null,null,null,null,null,null,null,null,null,0]
[null,null,null,null,null,null,null,null,null,null,null,null,0]
[null,null,null,null,null,null,null,null,null,null,null,null,0]
[null,null,null,null,null,null,null,null,null,null,null,null,0]
[null,null,null,null,null,null,null,null,null,null,null,null,0]
[null,null,null,null,null,null,null,null,null,null,null,null,0]
[null,null,null,null,null,null,null,null,null,null,null,null,0]
[null,null,null,null,null,null,null,null,null,null,null,null,0]
[null,null,null,null,null,null,null,null,null,null,null,null,0]
[null,null,null,null,null,null,null,null,null,null,null,null,0]
[null,null,null,null,null,null,null,null,null,null,null,null,0]
[null,null,null,null,null,null,null,null,null,null,null,null,0]
[null,null,null,null,null,null,null,null,null,null,null,null,0]
[null,null,null,null,null,null,null,null,null,null,null,null,0]
[null,null,null,null,null,null,null,null,null,null,null,null,0]
[null,null,null,null,null,null,null,null,null,null,null,null,0]
[null,null,null,null,null,null,null,null,null,null,null,null,0]
[null,null,null,null,null,null,null,null,null,null,null,null,0]
[null,null,null,null,null,null,null,null,null,null,null,null,0]
[null,null,null,null,null,null,null,null,null,null,null,null,0]
[null,null,null,null,null,null,null,null,null,null,null,null,0]
[null,null,null,null,null,null,null,null,null,null,null,null,0]
[null,null,null,null,null,null,null,null,null,null,null,null,0]
[null,null,null,null,null,null,null,null,null,null,null,null,0]
[null,null,null,null,null,null,null,null,null,null,null,null,0]
[null,null,null,null,null,null,null,null,null,null,null,null,0]
[null,null,null,null,null,null,null,null,null,null,null,null,0]
[null,null,null,null,null,null,null,null,null,null,null,null,0]
[null,null,null,null,null,null,null,null,null,null,null,null,0]
[null,null,null,null,null,null,null,null,null,null,null,null,0]
[null,null,null,null,null,null,null,null,null,null,null,null,0]
[null,null,null,null,null,null,null,null,null,null,null,null,0]
[null,null,null,null,null,null,null,null,null,null,null,null,0]
[null,null,null,null,null,null,null,null,null,null,null,null,0]
[null,null,null,null,null,null,null,null,null,null,null,null,0]
[null,null,null,null,null,null,null,null,null,null,null,null,0]
[null,null,null,null,null,null,null,null,null,null,null,null,0]
[null,null,null,null,null,null,null,null,null,null,null,null,0]
[null,null,null,null,null,null,null,null,null,null,null,null,0]
[null,null,null,null,null,null,null,null,null,null,null,null,0]
[null,null,null,null,null,null,null,null,null,null,null,null,0]
[null,null,null,null,null,null,null,null,null,null,null,null,0]
[null,null,null,null,null,null,null,null,null,null,null,null,0]
[null,null,null,null,null,null,null,null,null,null,null,null,0]
[null,null,null,null,null,null,null,null,null,null,null,null,0]
[null,null,null,null,null,null,null,null,null,null,null,null,0]
[null,null,null,null,null,null,null,null,null,null,null,null,0]
[null,null,null,null,null,null,null,null,null,null,null,null,0]
[null,null,null,null,null,null,null,null,null,null,null,null,0]
[null,null,null,null,null,null,null,null,null,null,null,null,0]
[null,null,null,null,null,null,null,null,null,null,null,null,0]
[null,null,null,null,null,null,null,null,null,null,null,null,0]
[null,null,null,null,null,null,null,null,null,null,null,null,0]
[null,null,null,null,null,null,null,null,null,null,null,null,0]
[null,null,null,null,null,null,null,null,null,null,null,null,0]
[null,null,null,null,null,null,null,null,null,null,null,null,0]
[null,null,null,null,null,null,null,null,null,null,null,null,0]
[null,null,null,null,null,null,null,null,null,null,null,null,0]
[null,null,null,null,null,null,null,null,null,null,null,null,0]
[null,null,null,null,null,null,null,null,null,null,null,null,0]
[null,null,null,null,null,null,null,null,null,null,null,null,0]
[null,null,null,null,null,null,null,null,null,null,null,null,0]
[null,null,null,null,null,null,null,null,null,null,null,null,0]
[null,null,null,null,null,null,null,null,null,null,null,null,0]
[null,null,null,null,null,null,null,null,null,null,null,null,0]
[null,null,null,null,null,null,null,null,null,null,null,null,0]
[null,null,null,null,null,null,null,null,null,null,null,null,0]
[null,null,null,null,null,null,null,null,null,null,null,null,0]
[null,null,null,null,null,null,null,null,null,null,null,null,0]
[null,null,null,null,null,null,null,null,null,null,null,null,0]
[null,null,null,null,null,null,null,null,null,null,null,null,0]
[null,null,null,null,null,null,null,null,null,null,null,null,0]
[null,null,null,null,null,null,null,null,null,null,null,null,0]
[null,null,null,null,null,null,null,null,null,null,null,null,0]
[null,null,null,null,null,null,null,null,null,null,null,null,0]
[null,null,null,null,null,null,null,null,null,null,null,null,0]
[null,null,null,null,null,null,null,null,null,null,null,null,0]
[null,null,null,null,null,null,null,null,null,null,null,null,0]
[null,null,null,null,null,null,null,null,null,null,null,null,0]
[null,null,null,null,null,null,null,null,null,null,null,null,0]
[null,null,null,null,null,null,null,null,null,null,null,null,0]
[null,null,null,null,null,null,null,null,null,null,null,null,0]
[null,null,null,null,null,null,null,null,null,null,null,null,0]
[null,null,null,null,null,null,null,null,null,null,null,null,0]
[null,null,null,null,null,null,null,null,null,null,null,null,0]
[null,null,null,null,null,null,null,null,null,null,null,null,0]
[null,null,null,null,null,null,null,null,null,null,null,null,0]
[null,null,null,null,null,null,null,null,null,null,null,null,0]
[null,null,null,null,null,null,null,null,null,null,null,null,0]
[null,null,null,null,null,null,null,null,null,null,null,null,0]
[null,null,null,null,null,null,null,null,null,null,null,null,0]
[null,null,null,null,null,null,null,null,null,null,null,null,0]
[null,null,null,null,null,null,null,null,null,null,null,null,0]
[null,null,null,null,null,null,null,null,null,null,null,null,0]
[null,null,null,null,null,null,null,null,null,null,null,null,0]
[null,null,null,null,null,null,null,null,null,null,null,null,0]
[null,null,null,null,null,null,null,null,null,null,null,null,0]
[null,null,null,null,null,null,null,null,null,null,null,null,0]
[null,null,null,null,null,null,null,null,null,null,null,null,0]
[null,null,null,null,null,null,null,null,null,null,null,null,0]
[null,null,null,null,null,null,null,null,null,null,null,null,0]
[null,null,null,null,null,null,null,null,null,null,null,null,0]
[null,null,null,null,null,null,null,null,null,null,null,null,0]
[null,null,null,null,null,null,null,null,null,null,null,null,0]
[null,null,null,null,null,null,null,null,null,null,null,null,0]
[null,null,null,null,null,null,null,null,null,null,null,null,0]
[null,null,null,null,null,null,null,null,null,null,null,null,0]
[null,null,null,null,null,null,null,null,null,null,null,null,0]
[null,null,null,null,null,null,null,null,null,null,null,null,0]
[null,null,null,null,null,null,null,null,null,null,null,null,0]
[null,null,null,null,null,null,null,null,null,null,null,null,0]
[null,null,null,null,null,null,null,null,null,null,null,null,0]
[null,null,null,null,null,null,null,null,null,null,null,null,0]
[null,null,null,null,null,null,null,null,null,null,null,null,0]
[null,null,null,null,null,null,null,null,null,null,null,null,0]
[null,null,null,null,null,null,null,null,null,null,null,null,0]
[null,null,null,null,null,null,null,null,null,null,null,null,0]
[null,null,null,null,null,null,null,null,null,null,null,null,0]
[null,null,null,null,null,null,null,null,null,null,null,null,0]
[null,null,null,null,null,null,null,null,null,null,null,null,0]
[null,null,null,null,null,null,null,null,null,null,null,null,0]
[null,null,null,null,null,null,null,null,null,null,null,null,0]
[null,null,null,null,null,null,null,null,null,null,null,null,0]
[null,null,null,null,null,null,null,null,null,null,null,null,0]
[null,null,null,null,null,null,null,null,null,null,null,null,0]
[null,null,null,null,null,null,null,null,null,null,null,null,0]
[null,null,null,null,null,null,null,null,null,null,null,null,0]
[null,null,null,null,null,null,null,null,null,null,null,null,0]
[null,null,null,null,null,null,null,null,null,null,null,null,0]
[null,null,null,null,null,null,null,null,null,null,null,null,0]
[null,null,null,null,null,null,null,null,null,null,null,null,0]
[null,null,null,null,null,null,null,null,null,null,null,null,0]
[null,null,null,null,null,null,null,null,null,null,null,null,0]
[null,null,null,null,null,null,null,null,null,null,null,null,0]
[null,null,null,null,null,null,null,null,null,null,null,null,0]
[null,null,null,null,null,null,null,null,null,null,null,null,0]
[null,null,null,null,null,null,null,null,null,null,null,null,0]
[null,null,null,null,null,null,null,null,null,null,null,null,0]
[null,null,null,null,null,null,null,null,null,null,null,null,0]
[null,null,null,null,null,null,null,null,null,null,null,null,0]
[null,null,null,null,null,null,null,null,null,null,null,null,0]
[null,null,null,null,null,null,null,null,null,null,null,null,0]
[null,null,null,null,null,null,null,null,null,null,null,null,0]
[null,null,null,null,null,null,null,null,null,null,null,null,0]
[null,null,null,null,null,null,null,null,null,null,null,null,0]
[null,null,null,null,null,null,null,null,null,null,null,null,0]
[null,null,null,null,null,null,null,null,null,null,null,null,0]
[null,null,null,null,null,null,null,null,null,null,null,null,0]
[null,null,null,null,null,null,null,null,null,null,null,null,0]
[null,null,null,null,null,null,null,null,null,null,null,null,0]
[null,null,null,null,null,null,null,null,null,null,null,null,0]
[null,null,null,null,null,null,null,null,null,null,null,null,0]
[null,null,null,null,null,null,null,null,null,null,null,null,0]
[null,null,null,null,null,null,null,null,null,null,null,null,0]
[null,null,null,null,null,null,null,null,null,null,null,null,0]
[null,null,null,null,null,null,null,null,null,null,null,null,0]
[null,null,null,null,null,null,null,null,null,null,null,null,0]
[null,null,null,null,null,null,null,null,null,null,null,null,0]
[null,null,null,null,null,null,null,null,null,null,null,null,0]
[null,null,null,null,null,null,null,null,null,null,null,null,0]
[null,null,null,null,null,null,null,null,null,null,null,null,0]
[null,null,null,null,null,null,null,null,null,null,null,null,0]
[null,null,null,null,null,null,null,null,null,null,null,null,0]
[null,null,null,null,null,null,null,null,null,null,null,null,0]
[null,null,null,null,null,null,null,null,null,null,null,null,0]
[null,null,null,null,null,null,null,null,null,null,null,null,0]
[null,null,null,null,null,null,null,null,null,null,null,null,0]
[null,null,null,null,null,null,null,null,null,null,null,null,0]
[null,null,null,null,null,null,null,null,null,null,null,null,0]
[null,null,null,null,null,null,null,null,null,null,null,null,0]
[null,null,null,null,null,null,null,null,null,null,null,null,0]
[null,null,null,null,null,null,null,null,null,null,null,null,0]
[null,null,null,null,null,null,null,null,null,null,null,null,0]
[null,null,null,null,null,null,null,null,null,null,null,null,0]
[null,null,null,null,null,null,null,null,null,null,null,null,0]
[null,null,null,null,null,null,null,null,null,null,null,null,0]
[null,null,null,null,null,null,null,null,null,null,null,null,0]
[null,null,null,null,null,null,null,null,null,null,null,null,0]
[null,null,null,null,null,null,null,null,null,null,null,null,0]
[null,null,null,null,null,null,null,null,null,null,null,null,0]
[null,null,null,null,null,null,null,null,null,null,null,null,0]
[null,null,null,null,null,null,null,null,null,null,null,null,0]
[null,null,null,null,null,null,null,null,null,null,null,null,0]
[null,null,null,null,null,null,null,null,null,null,null,null,0]
[null,null,null,null,null,null,null,null,null,null,null,null,0]
[null,null,null,null,null,null,null,null,null,null,null,null,0]
[null,null,null,null,null,null,null,null,null,null,null,null,0]
[null,null,null,null,null,null,null,null,null,null,null,null,0]
[null,null,null,null,null,null,null,null,null,null,null,null,0]
[null,null,null,null,null,null,null,null,null,null,null,null,0]
[null,null,null,null,null,null,null,null,null,null,null,null,0]
[null,null,null,null,null,null,null,null,null,null,null,null,0]
[null,null,null,null,null,null,null,null,null,null,null,null,0]
[null,null,null,null,null,null,null,null,null,null,null,null,0]
[null,null,null,null,null,null,null,null,null,null,null,null,0]
[null,null,null,null,null,null,null,null,null,null,null,null,0]
[null,null,null,null,null,null,null,null,null,null,null,null,0]
[null,null,null,null,null,null,null,null,null,null,null,null,0]
[null,null,null,null,null,null,null,null,null,null,null,null,0]
[null,null,null,null,null,null,null,null,null,null,null,null,0]
[null,null,null,null,null,null,null,null,null,null,null,null,0]
[null,null,null,null,null,null,null,null,null,null,null,null,0]
[null,null,null,null,null,null,null,null,null,null,null,null,0]
[null,null,null,null,null,null,null,null,null,null,null,null,0]
[null,null,null,null,null,null,null,null,null,null,null,null,0]
[null,null,null,null,null,null,null,null,null,null,null,null,0]
[null,null,null,null,null,null,null,null,null,null,null,null,0]
[null,null,null,null,null,null,null,null,null,null,null,null,0]
[null,null,null,null,null,null,null,null,null,null,null,null,0]
[null,null,null,null,null,null,null,null,null,null,null,null,0]
[null,null,null,null,null,null,null,null,null,null,null,null,0]
[null,null,null,null,null,null,null,null,null,null,null,null,0]
[null,null,null,null,null,null,null,null,null,null,null,null,0]
[null,null,null,null,null,null,null,null,null,null,null,null,0]
[null,null,null,null,null,null,null,null,null,null,null,null,0]
[null,null,null,null,null,null,null,null,null,null,null,null,0]
[null,null,null,null,null,null,null,null,null,null,null,null,0]
[null,null,null,null,null,null,null,null,null,null,null,null,0]
[null,null,null,null,null,null,null,null,null,null,null,null,0]
[null,null,null,null,null,null,null,null,null,null,null,null,0]
[null,null,null,null,null,null,null,null,null,null,null,null,0]
[null,null,null,null,null,null,null,null,null,null,null,null,0]
[null,null,null,null,null,null,null,null,null,null,null,null,0]
[null,null,null,null,null,null,null,null,null,null,null,null,0]
[null,null,null,null,null,null,null,null,null,null,null,null,0]
[null,null,null,null,null,null,null,null,null,null,null,null,0]
[null,null,null,null,null,null,null,null,null,null,null,null,0]
[null,null,null,null,null,null,null,null,null,null,null,null,0]
[null,null,null,null,null,null,null,null,null,null,null,null,0]
[null,null,null,null,null,null,null,null,null,null,null,null,0]
[null,null,null,null,null,null,null,null,null,null,null,null,0]
[null,null,null,null,null,null,null,null,null,null,null,null,0]
[null,null,null,null,null,null,null,null,null,null,null,null,0]
[null,null,null,null,null,null,null,null,null,null,null,null,0]
[null,null,null,null,null,null,null,null,null,null,null,null,0]
[null,null,null,null,null,null,null,null,null,null,null,null,0]
[null,null,null,null,null,null,null,null,null,null,null,null,0]
[null,null,null,null,null,null,null,null,null,null,null,null,0]
[null,null,null,null,null,null,null,null,null,null,null,null,0]
[null,null,null,null,null,null,null,null,null,null,null,null,0]
[null,null,null,null,null,null,null,null,null,null,null,null,0]
[null,null,null,null,null,null,null,null,null,null,null,null,0]
[null,null,null,null,null,null,null,null,null,null,null,null,0]
[null,null,null,null,null,null,null,null,null,null,null,null,0]
[null,null,null,null,null,null,null,null,null,null,null,null,0]
[null,null,null,null,null,null,null,null,null,null,null,null,0]
[null,null,null,null,null,null,null,null,null,null,null,null,0]
[null,null,null,null,null,null,null,null,null,null,null,null,0]
[null,null,null,null,null,null,null,null,null,null,null,null,0]
[null,null,null,null,null,null,null,null,null,null,null,null,0]
[null,null,null,null,null,null,null,null,null,null,null,null,0]
[null,null,null,null,null,null,null,null,null,null,null,null,0]
[null,null,null,null,null,null,null,null,null,null,null,null,0]
[null,null,null,null,null,null,null,null,null,null,null,null,0]
[null,null,null,null,null,null,null,null,null,null,null,null,0]
[null,null,null,null,null,null,null,null,null,null,null,null,0]
[null,null,null,null,null,null,null,null,null,null,null,null,0]
[null,null,null,null,null,null,null,null,null,null,null,null,0]
[null,null,null,null,null,null,null,null,null,null,null,null,0]
[null,null,null,null,null,null,null,null,null,null,null,null,0]
[null,null,null,null,null,null,null,null,null,null,null,null,0]
[null,null,null,null,null,null,null,null,null,null,null,null,0]
[null,null,null,null,null,null,null,null,null,null,null,null,0]
[null,null,null,null,null,null,null,null,null,null,null,null,0]
[null,null,null,null,null,null,null,null,null,null,null,null,0]
[null,null,null,null,null,null,null,null,null,null,null,null,0]
[null,null,null,null,null,null,null,null,null,null,null,null,0]
[null,null,null,null,null,null,null,null,null,null,null,null,0]
[null,null,null,null,null,null,null,null,null,null,null,null,0]
[null,null,null,null,null,null,null,null,null,null,null,null,0]
[null,null,null,null,null,null,null,null,null,null,null,null,0]
[null,null,null,null,null,null,null,null,null,null,null,null,0]
[null,null,null,null,null,null,null,null,null,null,null,null,0]
[null,null,null,null,null,null,null,null,null,null,null,null,0]
[null,null,null,null,null,null,null,null,null,null,null,null,0]
[null,null,null,null,null,null,null,null,null,null,null,null,0]
[null,null,null,null,null,null,null,null,null,null,null,null,0]
[null,null,null,null,null,null,null,null,null,null,null,null,0]
[null,null,null,null,null,null,null,null,null,null,null,null,0]
[null,null,null,null,null,null,null,null,null,null,null,null,0]
[null,null,null,null,null,null,null,null,null,null,null,null,0]
[null,null,null,null,null,null,null,null,null,null,null,null,0]
[null,null,null,null,null,null,null,null,null,null,null,null,0]
[null,null,null,null,null,null,null,null,null,null,null,null,0]
[null,null,null,null,null,null,null,null,null,null,null,null,0]
[null,null,null,null,null,null,null,null,null,null,null,null,0]
[null,null,null,null,null,null,null,null,null,null,null,null,0]
[null,null,null,null,null,null,null,null,null,null,null,null,0]
[null,null,null,null,null,null,null,null,null,null,null,null,0]
[null,null,null,null,null,null,null,null,null,null,null,null,0]
[null,null,null,null,null,null,null,null,null,null,null,null,0]
[null,null,null,null,null,null,null,null,null,null,null,null,0]
[null,null,null,null,null,null,null,null,null,null,null,null,0]
[null,null,null,null,null,null,null,null,null,null,null,null,0]
[null,null,null,null,null,null,null,null,null,null,null,null,0]
[null,null,null,null,null,null,null,null,null,null,null,null,0]
[null,null,null,null,null,null,null,null,null,null,null,null,0]
[null,null,null,null,null,null,null,null,null,null,null,null,0]
[null,null,null,null,null,null,null,null,null,null,null,null,0]
[null,null,null,null,null,null,null,null,null,null,null,null,0]
[null,null,null,null,null,null,null,null,null,null,null,null,0]
[null,null,null,null,null,null,null,null,null,null,null,null,0]
[null,null,null,null,null,null,null,null,null,null,null,null,0]
[null,null,null,null,null,null,null,null,null,null,null,null,0]
[null,null,null,null,null,null,null,null,null,null,null,null,0]
[null,null,null,null,null,null,null,null,null,null,null,null,0]
[null,null,null,null,null,null,null,null,null,null,null,null,0]
[null,null,null,null,null,null,null,null,null,null,null,null,0]
[null,null,null,null,null,null,null,null,null,null,null,null,0]
[null,null,null,null,null,null,null,null,null,null,null,null,0]
[null,null,null,null,null,null,null,null,null,null,null,null,0]
[null,null,null,null,null,null,null,null,null,null,null,null,0]
[null,null,null,null,null,null,null,null,null,null,null,null,0]
[null,null,null,null,null,null,null,null,null,null,null,null,0]
[null,null,null,null,null,null,null,null,null,null,null,null,0]
[null,null,null,null,null,null,null,null,null,null,null,null,0]
[null,null,null,null,null,null,null,null,null,null,null,null,0]
[null,null,null,null,null,null,null,null,null,null,null,null,0]
[null,null,null,null,null,null,null,null,null,null,null,null,0]
[null,null,null,null,null,null,null,null,null,null,null,null,0]
[null,null,null,null,null,null,null,null,null,null,null,null,0]
[null,null,null,null,null,null,null,null,null,null,null,null,0]
[null,null,null,null,null,null,null,null,null,null,null,null,0]
[null,null,null,null,null,null,null,null,null,null,null,null,0]
[null,null,null,null,null,null,null,null,null,null,null,null,0]
[null,null,null,null,null,null,null,null,null,null,null,null,0]
[null,null,null,null,null,null,null,null,null,null,null,null,0]
[null,null,null,null,null,null,null,null,null,null,null,null,0]
[null,null,null,null,null,null,null,null,null,null,null,null,0]
[null,null,null,null,null,null,null,null,null,null,null,null,0]
[null,null,null,null,null,null,null,null,null,null,null,null,0]
[null,null,null,null,null,null,null,null,null,null,null,null,0]
[null,null,null,null,null,null,null,null,null,null,null,null,0]
[null,null,null,null,null,null,null,null,null,null,null,null,0]
[null,null,null,null,null,null,null,null,null,null,null,null,0]
[null,null,null,null,null,null,null,null,null,null,null,null,0]
[null,null,null,null,null,null,null,null,null,null,null,null,0]
[null,null,null,null,null,null,null,null,null,null,null,null,0]
[null,null,null,null,null,null,null,null,null,null,null,null,0]
[null,null,null,null,null,null,null,null,null,null,null,null,0]
[null,null,null,null,null,null,null,null,null,null,null,null,0]
[null,null,null,null,null,null,null,null,null,null,null,null,0]
[null,null,null,null,null,null,null,null,null,null,null,null,0]
[null,null,null,null,null,null,null,null,null,null,null,null,0]
[null,null,null,null,null,null,null,null,null,null,null,null,0]
[null,null,null,null,null,null,null,null,null,null,null,null,0]
[null,null,null,null,null,null,null,null,null,null,null,null,0]
[null,null,null,null,null,null,null,null,null,null,null,null,0]
[null,null,null,null,null,null,null,null,null,null,null,null,0]
[null,null,null,null,null,null,null,null,null,null,null,null,0]
[null,null,null,null,null,null,null,null,null,null,null,null,0]
[null,null,null,null,null,null,null,null,null,null,null,null,0]
[null,null,null,null,null,null,null,null,null,null,null,null,0]
[null,null,null,null,null,null,null,null,null,null,null,null,0]
[null,null,null,null,null,null,null,null,null,null,null,null,0]
[null,null,null,null,null,null,null,null,null,null,null,null,0]
[null,null,null,null,null,null,null,null,null,null,null,null,0]
[null,null,null,null,null,null,null,null,null,null,null,null,0]
[null,null,null,null,null,null,null,null,null,null,null,null,0]
[null,null,null,null,null,null,null,null,null,null,null,null,0]
[null,null,null,null,null,null,null,null,null,null,null,null,0]
[null,null,null,null,null,null,null,null,null,null,null,null,0]
[null,null,null,null,null,null,null,null,null,null,null,null,0]
[null,null,null,null,null,null,null,null,null,null,null,null,0]
[null,null,null,null,null,null,null,null,null,null,null,null,0]
[null,null,null,null,null,null,null,null,null,null,null,null,0]
[null,null,null,null,null,null,null,null,null,null,null,null,0]
[null,null,null,null,null,null,null,null,null,null,null,null,0]
[null,null,null,null,null,null,null,null,null,null,null,null,0]
[null,null,null,null,null,null,null,null,null,null,null,null,0]
[null,null,null,null,null,null,null,null,null,null,null,null,0]
[null,null,null,null,null,null,null,null,null,null,null,null,0]
[null,null,null,null,null,null,null,null,null,null,null,null,0]
[null,null,null,null,null,null,null,null,null,null,null,null,0]
[null,null,null,null,null,null,null,null,null,null,null,null,0]
[null,null,null,null,null,null,null,null,null,null,null,null,0]
[null,null,null,null,null,null,null,null,null,null,null,null,0]
[null,null,null,null,null,null,null,null,null,null,null,null,0]
[null,null,null,null,null,null,null,null,null,null,null,null,0]
[null,null,null,null,null,null,null,null,null,null,null,null,0]
[null,null,null,null,null,null,null,null,null,null,null,null,0]
[null,null,null,null,null,null,null,null,null,null,null,null,0]
[null,null,null,null,null,null,null,null,null,null,null,null,0]
[null,null,null,null,null,null,null,null,null,null,null,null,0]
[null,null,null,null,null,null,null,null,null,null,null,null,0]
[null,null,null,null,null,null,null,null,null,null,null,null,0]
[null,null,null,null,null,null,null,null,null,null,null,null,0]
[null,null,null,null,null,null,null,null,null,null,null,null,0]
[null,null,null,null,null,null,null,null,null,null,null,null,0]
[null,null,null,null,null,null,null,null,null,null,null,null,0]
[null,null,null,null,null,null,null,null,null,null,null,null,0]
[null,null,null,null,null,null,null,null,null,null,null,null,0]
[null,null,null,null,null,null,null,null,null,null,null,null,0]
[null,null,null,null,null,null,null,null,null,null,null,null,0]
[null,null,null,null,null,null,null,null,null,null,null,null,0]
[null,null,null,null,null,null,null,null,null,null,null,null,0]
[null,null,null,null,null,null,null,null,null,null,null,null,0]
[null,null,null,null,null,null,null,null,null,null,null,null,0]
[null,null,null,null,null,null,null,null,null,null,null,null,0]
[null,null,null,null,null,null,null,null,null,null,null,null,0]
[null,null,null,null,null,null,null,null,null,null,null,null,0]
[null,null,null,null,null,null,null,null,null,null,null,null,0]
[null,null,null,null,null,null,null,null,null,null,null,null,0]
[null,null,null,null,null,null,null,null,null,null,null,null,0]
[null,null,null,null,null,null,null,null,null,null,null,null,0]
[null,null,null,null,null,null,null,null,null,null,null,null,0]
[null,null,null,null,null,null,null,null,null,null,null,null,0]
[null,null,null,null,null,null,null,null,null,null,null,null,0]
[null,null,null,null,null,null,null,null,null,null,null,null,0]
[null,null,null,null,null,null,null,null,null,null,null,null,0]
[null,null,null,null,null,null,null,null,null,null,null,null,0]
[null,null,null,null,null,null,null,null,null,null,null,null,0]
[null,null,null,null,null,null,null,null,null,null,null,null,0]
[null,null,null,null,null,null,null,null,null,null,null,null,0]
[null,null,null,null,null,null,null,null,null,null,null,null,0]
[null,null,null,null,null,null,null,null,null,null,null,null,0]
[null,null,null,null,null,null,null,null,null,null,null,null,0]
[null,null,null,null,null,null,null,null,null,null,null,null,0]
[null,null,null,null,null,null,null,null,null,null,null,null,0]
[null,null,null,null,null,null,null,null,null,null,null,null,0]
[null,null,null,null,null,null,null,null,null,null,null,null,0]
[null,null,null,null,null,null,null,null,null,null,null,null,0]
[null,null,null,null,null,null,null,null,null,null,null,null,0]
[null,null,null,null,null,null,null,null,null,null,null,null,0]
[null,null,null,null,null,null,null,null,null,null,null,null,0]
[null,null,null,null,null,null,null,null,null,null,null,null,0]
[null,null,null,null,null,null,null,null,null,null,null,null,0]
[null,null,null,null,null,null,null,null,null,null,null,null,0]
[null,null,null,null,null,null,null,null,null,null,null,null,0]
[null,null,null,null,null,null,null,null,null,null,null,null,0]
[null,null,null,null,null,null,null,null,null,null,null,null,0]
[null,null,null,null,null,null,null,null,null,null,null,null,0]
[null,null,null,null,null,null,null,null,null,null,null,null,0]
[null,null,null,null,null,null,null,null,null,null,null,null,0]
[null,null,null,null,null,null,null,null,null,null,null,null,0]
[null,null,null,null,null,null,null,null,null,null,null,null,0]
[null,null,null,null,null,null,null,null,null,null,null,null,0]
[null,null,null,null,null,null,null,null,null,null,null,null,0]
[null,null,null,null,null,null,null,null,null,null,null,null,0]
[null,null,null,null,null,null,null,null,null,null,null,null,0]
[null,null,null,null,null,null,null,null,null,null,null,null,0]
[null,null,null,null,null,null,null,null,null,null,null,null,0]
[null,null,null,null,null,null,null,null,null,null,null,null,0]
[null,null,null,null,null,null,null,null,null,null,null,null,0]
[null,null,null,null,null,null,null,null,null,null,null,null,0]
[null,null,null,null,null,null,null,null,null,null,null,null,0]
[null,null,null,null,null,null,null,null,null,null,null,null,0]
[null,null,null,null,null,null,null,null,null,null,null,null,0]
[null,null,null,null,null,null,null,null,null,null,null,null,0]
[null,null,null,null,null,null,null,null,null,null,null,null,0]
[null,null,null,null,null,null,null,null,null,null,null,null,0]
[null,null,null,null,null,null,null,null,null,null,null,null,0]
[null,null,null,null,null,null,null,null,null,null,null,null,0]
[null,null,null,null,null,null,null,null,null,null,null,null,0]
[null,null,null,null,null,null,null,null,null,null,null,null,0]
[null,null,null,null,null,null,null,null,null,null,null,null,0]
[null,null,null,null,null,null,null,null,null,null,null,null,0]
[null,null,null,null,null,null,null,null,null,null,null,null,0]
[null,null,null,null,null,null,null,null,null,null,null,null,0]
[null,null,null,null,null,null,null,null,null,null,null,null,0]
[null,null,null,null,null,null,null,null,null,null,null,null,0]
[null,null,null,null,null,null,null,null,null,null,null,null,0]
[null,null,null,null,null,null,null,null,null,null,null,null,0]
[null,null,null,null,null,null,null,null,null,null,null,null,0]
[null,null,null,null,null,null,null,null,null,null,null,null,0]
[null,null,null,null,null,null,null,null,null,null,null,null,0]
[null,null,null,null,null,null,null,null,null,null,null,null,0]
[null,null,null,null,null,null,null,null,null,null,null,null,0]
[null,null,null,null,null,null,null,null,null,null,null,null,0]
[null,null,null,null,null,null,null,null,null,null,null,null,0]
[null,null,null,null,null,null,null,null,null,null,null,null,0]
[null,null,null,null,null,null,null,null,null,null,null,null,0]
[null,null,null,null,null,null,null,null,null,null,null,null,0]
[null,null,null,null,null,null,null,null,null,null,null,null,0]
[null,null,null,null,null,null,null,null,null,null,null,null,0]
[null,null,null,null,null,null,null,null,null,null,null,null,0]
[null,null,null,null,null,null,null,null,null,null,null,null,0]
[null,null,null,null,null,null,null,null,null,null,null,null,0]
[null,null,null,null,null,null,null,null,null,null,null,null,0]
[null,null,null,null,null,null,null,null,null,null,null,null,0]
[null,null,null,null,null,null,null,null,null,null,null,null,0]
[null,null,null,null,null,null,null,null,null,null,null,null,0]
[null,null,null,null,null,null,null,null,null,null,null,null,0]
[null,null,null,null,null,null,null,null,null,null,null,null,0]
[null,null,null,null,null,null,null,null,null,null,null,null,0]
[null,null,null,null,null,null,null,null,null,null,null,null,0]
[null,null,null,null,null,null,null,null,null,null,null,null,0]
[null,null,null,null,null,null,null,null,null,null,null,null,0]
[null,null,null,null,null,null,null,null,null,null,null,null,0]
[null,null,null,null,null,null,null,null,null,null,null,null,0]
[null,null,null,null,null,null,null,null,null,null,null,null,0]
[null,null,null,null,null,null,null,null,null,null,null,null,0]
[null,null,null,null,null,null,null,null,null,null,null,null,0]
[null,null,null,null,null,null,null,null,null,null,null,null,0]
[null,null,null,null,null,null,null,null,null,null,null,null,0]
[null,null,null,null,null,null,null,null,null,null,null,null,0]
[null,null,null,null,null,null,null,null,null,null,null,null,0]
[null,null,null,null,null,null,null,null,null,null,null,null,0]
[null,null,null,null,null,null,null,null,null,null,null,null,0]
[null,null,null,null,null,null,null,null,null,null,null,null,0]
[null,null,null,null,null,null,null,null,null,null,null,null,0]
[null,null,null,null,null,null,null,null,null,null,null,null,0]
[null,null,null,null,null,null,null,null,null,null,null,null,0]
[null,null,null,null,null,null,null,null,null,null,null,null,0]
[null,null,null,null,null,null,null,null,null,null,null,null,0]
[null,null,null,null,null,null,null,null,null,null,null,null,0]
[null,null,null,null,null,null,null,null,null,null,null,null,0]
[null,null,null,null,null,null,null,null,null,null,null,null,0]
[null,null,null,null,null,null,null,null,null,null,null,null,0]
[null,null,null,null,null,null,null,null,null,null,null,null,0]
[null,null,null,null,null,null,null,null,null,null,null,null,0]
[null,null,null,null,null,null,null,null,null,null,null,null,0]
[null,null,null,null,null,null,null,null,null,null,null,null,0]
[null,null,null,null,null,null,null,null,null,null,null,null,0]
[null,null,null,null,null,null,null,null,null,null,null,null,0]
[null,null,null,null,null,null,null,null,null,null,null,null,0]
[null,null,null,null,null,null,null,null,null,null,null,null,0]
[null,null,null,null,null,null,null,null,null,null,null,null,0]
[null,null,null,null,null,null,null,null,null,null,null,null,0]
[null,null,null,null,null,null,null,null,null,null,null,null,0]
[null,null,null,null,null,null,null,null,null,null,null,null,0]
[null,null,null,null,null,null,null,null,null,null,null,null,0]
[null,null,null,null,null,null,null,null,null,null,null,null,0]
[null,null,null,null,null,null,null,null,null,null,null,null,0]
[null,null,null,null,null,null,null,null,null,null,null,null,0]
[null,null,null,null,null,null,null,null,null,null,null,null,0]
[null,null,null,null,null,null,null,null,null,null,null,null,0]
[null,null,null,null,null,null,null,null,null,null,null,null,0]
[null,null,null,null,null,null,null,null,null,null,null,null,0]
[null,null,null,null,null,null,null,null,null,null,null,null,0]
[null,null,null,null,null,null,null,null,null,null,null,null,0]
[null,null,null,null,null,null,null,null,null,null,null,null,0]
[null,null,null,null,null,null,null,null,null,null,null,null,0]
[null,null,null,null,null,null,null,null,null,null,null,null,0]
[null,null,null,null,null,null,null,null,null,null,null,null,0]
[null,null,null,null,null,null,null,null,null,null,null,null,0]
[null,null,null,null,null,null,null,null,null,null,null,null,0]
[null,null,null,null,null,null,null,null,null,null,null,null,0]
[null,null,null,null,null,null,null,null,null,null,null,null,0]
[null,null,null,null,null,null,null,null,null,null,null,null,0]
[null,null,null,null,null,null,null,null,null,null,null,null,0]
[null,null,null,null,null,null,null,null,null,null,null,null,0]
[null,null,null,null,null,null,null,null,null,null,null,null,0]
[null,null,null,null,null,null,null,null,null,null,null,null,0]
[null,null,null,null,null,null,null,null,null,null,null,null,0]
[null,null,null,null,null,null,null,null,null,null,null,null,0]
[null,null,null,null,null,null,null,null,null,null,null,null,0]
[null,null,null,null,null,null,null,null,null,null,null,null,0]
[null,null,null,null,null,null,null,null,null,null,null,null,0]
[null,null,null,null,null,null,null,null,null,null,null,null,0]
[null,null,null,null,null,null,null,null,null,null,null,null,0]
[null,null,null,null,null,null,null,null,null,null,null,null,0]
[null,null,null,null,null,null,null,null,null,null,null,null,0]
[null,null,null,null,null,null,null,null,null,null,null,null,0]
[null,null,null,null,null,null,null,null,null,null,null,null,0]
[null,null,null,null,null,null,null,null,null,null,null,null,0]
[null,null,null,null,null,null,null,null,null,null,null,null,0]
[null,null,null,null,null,null,null,null,null,null,null,null,0]
[null,null,null,null,null,null,null,null,null,null,null,null,0]
[null,null,null,null,null,null,null,null,null,null,null,null,0]
[null,null,null,null,null,null,null,null,null,null,null,null,0]
[null,null,null,null,null,null,null,null,null,null,null,null,0]
[null,null,null,null,null,null,null,null,null,null,null,null,0]
[null,null,null,null,null,null,null,null,null,null,null,null,0]
[null,null,null,null,null,null,null,null,null,null,null,null,0]
[null,null,null,null,null,null,null,null,null,null,null,null,0]
[null,null,null,null,null,null,null,null,null,null,null,null,0]
[null,null,null,null,null,null,null,null,null,null,null,null,0]
[null,null,null,null,null,null,null,null,null,null,null,null,0]
[null,null,null,null,null,null,null,null,null,null,null,null,0]
[null,null,null,null,null,null,null,null,null,null,null,null,0]
[null,null,null,null,null,null,null,null,null,null,null,null,0]
[null,null,null,null,null,null,null,null,null,null,null,null,0]
[null,null,null,null,null,null,null,null,null,null,null,null,0]
[null,null,null,null,null,null,null,null,null,null,null,null,0]
[null,null,null,null,null,null,null,null,null,null,null,null,0]
[null,null,null,null,null,null,null,null,null,null,null,null,0]
[null,null,null,null,null,null,null,null,null,null,null,null,0]
[null,null,null,null,null,null,null,null,null,null,null,null,0]
[null,null,null,null,null,null,null,null,null,null,null,null,0]
[null,null,null,null,null,null,null,null,null,null,null,null,0]
[null,null,null,null,null,null,null,null,null,null,null,null,0]
[null,null,null,null,null,null,null,null,null,null,null,null,0]
[null,null,null,null,null,null,null,null,null,null,null,null,0]
[null,null,null,null,null,null,null,null,null,null,null,null,0]
[null,null,null,null,null,null,null,null,null,null,null,null,0]
[null,null,null,null,null,null,null,null,null,null,null,null,0]
[null,null,null,null,null,null,null,null,null,null,null,null,0]
[null,null,null,null,null,null,null,null,null,null,null,null,0]
[null,null,null,null,null,null,null,null,null,null,null,null,0]
[null,null,null,null,null,null,null,null,null,null,null,null,0]
[null,null,null,null,null,null,null,null,null,null,null,null,0]
[null,null,null,null,null,null,null,null,null,null,null,null,0]
[null,null,null,null,null,null,null,null,null,null,null,null,0]
[null,null,null,null,null,null,null,null,null,null,null,null,0]
[null,null,null,null,null,null,null,null,null,null,null,null,0]
[null,null,null,null,null,null,null,null,null,null,null,null,0]
[null,null,null,null,null,null,null,null,null,null,null,null,0]
[null,null,null,null,null,null,null,null,null,null,null,null,0]
[null,null,null,null,null,null,null,null,null,null,null,null,0]
[null,null,null,null,null,null,null,null,null,null,null,null,0]
[null,null,null,null,null,null,null,null,null,null,null,null,0]
[null,null,null,null,null,null,null,null,null,null,null,null,0]
[null,null,null,null,null,null,null,null,null,null,null,null,0]
[null,null,null,null,null,null,null,null,null,null,null,null,0]
[null,null,null,null,null,null,null,null,null,null,null,null,0]
[null,null,null,null,null,null,null,null,null,null,null,null,0]
[null,null,null,null,null,null,null,null,null,null,null,null,0]
[null,null,null,null,null,null,null,null,null,null,null,null,0]
[null,null,null,null,null,null,null,null,null,null,null,null,0]
[null,null,null,null,null,null,null,null,null,null,null,null,0]
[null,null,null,null,null,null,null,null,null,null,null,null,0]
[null,null,null,null,null,null,null,null,null,null,null,null,0]
[null,null,null,null,null,null,null,null,null,null,null,null,0]
[null,null,null,null,null,null,null,null,null,null,null,null,0]
[null,null,null,null,null,null,null,null,null,null,null,null,0]
[null,null,null,null,null,null,null,null,null,null,null,null,0]
[null,null,null,null,null,null,null,null,null,null,null,null,0]
[null,null,null,null,null,null,null,null,null,null,null,null,0]
[null,null,null,null,null,null,null,null,null,null,null,null,0]
[null,null,null,null,null,null,null,null,null,null,null,null,0]
[null,null,null,null,null,null,null,null,null,null,null,null,0]
[null,null,null,null,null,null,null,null,null,null,null,null,0]
[null,null,null,null,null,null,null,null,null,null,null,null,0]
[null,null,null,null,null,null,null,null,null,null,null,null,0]
[null,null,null,null,null,null,null,null,null,null,null,null,0]
[null,null,null,null,null,null,null,null,null,null,null,null,0]
[null,null,null,null,null,null,null,null,null,null,null,null,0]
[null,null,null,null,null,null,null,null,null,null,null,null,0]
[null,null,null,null,null,null,null,null,null,null,null,null,0]
[null,null,null,null,null,null,null,null,null,null,null,null,0]
[null,null,null,null,null,null,null,null,null,null,null,null,0]
[null,null,null,null,null,null,null,null,null,null,null,null,0]
[null,null,null,null,null,null,null,null,null,null,null,null,0]
[null,null,null,null,null,null,null,null,null,null,null,null,0]
[null,null,null,null,null,null,null,null,null,null,null,null,0]
[null,null,null,null,null,null,null,null,null,null,null,null,0]
[null,null,null,null,null,null,null,null,null,null,null,null,0]
[null,null,null,null,null,null,null,null,null,null,null,null,0]
[null,null,null,null,null,null,null,null,null,null,null,null,0]
[null,null,null,null,null,null,null,null,null,null,null,null,0]
[null,null,null,null,null,null,null,null,null,null,null,null,0]
[null,null,null,null,null,null,null,null,null,null,null,null,0]
[null,null,null,null,null,null,null,null,null,null,null,null,0]
[null,null,null,null,null,null,null,null,null,null,null,null,0]
[null,null,null,null,null,null,null,null,null,null,null,null,0]
[null,null,null,null,null,null,null,null,null,null,null,null,0]
[null,null,null,null,null,null,null,null,null,null,null,null,0]
[null,null,null,null,null,null,null,null,null,null,null,null,0]
[null,null,null,null,null,null,null,null,null,null,null,null,0]
[null,null,null,null,null,null,null,null,null,null,null,null,0]
[null,null,null,null,null,null,null,null,null,null,null,null,0]
[null,null,null,null,null,null,null,null,null,null,null,null,0]
[null,null,null,null,null,null,null,null,null,null,null,null,0]
[null,null,null,null,null,null,null,null,null,null,null,null,0]
[null,null,null,null,null,null,null,null,null,null,null,null,0]
[null,null,null,null,null,null,null,null,null,null,null,null,0]
[null,null,null,null,null,null,null,null,null,null,null,null,0]
[null,null,null,null,null,null,null,null,null,null,null,null,0]
[null,null,null,null,null,null,null,null,null,null,null,null,0]
[null,null,null,null,null,null,null,null,null,null,null,null,0]
[null,null,null,null,null,null,null,null,null,null,null,null,0]
[null,null,null,null,null,null,null,null,null,null,null,null,0]
[null,null,null,null,null,null,null,null,null,null,null,null,0]
[null,null,null,null,null,null,null,null,null,null,null,null,0]
[null,null,null,null,null,null,null,null,null,null,null,null,0]
[null,null,null,null,null,null,null,null,null,null,null,null,0]
[null,null,null,null,null,null,null,null,null,null,null,null,0]
[null,null,null,null,null,null,null,null,null,null,null,null,0]
[null,null,null,null,null,null,null,null,null,null,null,null,0]
[null,null,null,null,null,null,null,null,null,null,null,null,0]
[null,null,null,null,null,null,null,null,null,null,null,null,0]
[null,null,null,null,null,null,null,null,null,null,null,null,0]
[null,null,null,null,null,null,null,null,null,null,null,null,0]
[null,null,null,null,null,null,null,null,null,null,null,null,0]
[null,null,null,null,null,null,null,null,null,null,null,null,0]
[null,null,null,null,null,null,null,null,null,null,null,null,0]
[null,null,null,null,null,null,null,null,null,null,null,null,0]
[null,null,null,null,null,null,null,null,null,null,null,null,0]
[null,null,null,null,null,null,null,null,null,null,null,null,0]
[null,null,null,null,null,null,null,null,null,null,null,null,0]
[null,null,null,null,null,null,null,null,null,null,null,null,0]
[null,null,null,null,null,null,null,null,null,null,null,null,0]
[null,null,null,null,null,null,null,null,null,null,null,null,0]
[null,null,null,null,null,null,null,null,null,null,null,null,0]
[null,null,null,null,null,null,null,null,null,null,null,null,0]
[null,null,null,null,null,null,null,null,null,null,null,null,0]
[null,null,null,null,null,null,null,null,null,null,null,null,0]
[null,null,null,null,null,null,null,null,null,null,null,null,0]
[null,null,null,null,null,null,null,null,null,null,null,null,0]
[null,null,null,null,null,null,null,null,null,null,null,null,0]
[null,null,null,null,null,null,null,null,null,null,null,null,0]
[null,null,null,null,null,null,null,null,null,null,null,null,0]
[null,null,null,null,null,null,null,null,null,null,null,null,0]
[null,null,null,null,null,null,null,null,null,null,null,null,0]
[null,null,null,null,null,null,null,null,null,null,null,null,0]
[null,null,null,null,null,null,null,null,null,null,null,null,0]
[null,null,null,null,null,null,null,null,null,null,null,null,0]
[null,null,null,null,null,null,null,null,null,null,null,null,0]
[null,null,null,null,null,null,null,null,null,null,null,null,0]
[null,null,null,null,null,null,null,null,null,null,null,null,0]
[null,null,null,null,null,null,null,null,null,null,null,null,0]
[null,null,null,null,null,null,null,null,null,null,null,null,0]
[null,null,null,null,null,null,null,null,null,null,null,null,0]
[null,null,null,null,null,null,null,null,null,null,null,null,0]
[null,null,null,null,null,null,null,null,null,null,null,null,0]
[null,null,null,null,null,null,null,null,null,null,null,null,0]
[null,null,null,null,null,null,null,null,null,null,null,null,0]
[null,null,null,null,null,null,null,null,null,null,null,null,0]
[null,null,null,null,null,null,null,null,null,null,null,null,0]
[null,null,null,null,null,null,null,null,null,null,null,null,0]
[null,null,null,null,null,null,null,null,null,null,null,null,0]
[null,null,null,null,null,null,null,null,null,null,null,null,0]
[null,null,null,null,null,null,null,null,null,null,null,null,0]
[null,null,null,null,null,null,null,null,null,null,null,null,0]
[null,null,null,null,null,null,null,null,null,null,null,null,0]
[null,null,null,null,null,null,null,null,null,null,null,null,0]
[null,null,null,null,null,null,null,null,null,null,null,null,0]
[null,null,null,null,null,null,null,null,null,null,null,null,0]
[null,null,null,null,null,null,null,null,null,null,null,null,0]
[null,null,null,null,null,null,null,null,null,null,null,null,0]
[null,null,null,null,null,null,null,null,null,null,null,null,0]
[null,null,null,null,null,null,null,null,null,null,null,null,0]
[null,null,null,null,null,null,null,null,null,null,null,null,0]
[null,null,null,null,null,null,null,null,null,null,null,null,0]
[null,null,null,null,null,null,null,null,null,null,null,null,0]
[null,null,null,null,null,null,null,null,null,null,null,null,0]
[null,null,null,null,null,null,null,null,null,null,null,null,0]
[null,null,null,null,null,null,null,null,null,null,null,null,0]
[null,null,null,null,null,null,null,null,null,null,null,null,0]
[null,null,null,null,null,null,null,null,null,null,null,null,0]
[null,null,null,null,null,null,null,null,null,null,null,null,0]
[null,null,null,null,null,null,null,null,null,null,null,null,0]
[null,null,null,null,null,null,null,null,null,null,null,null,0]
[null,null,null,null,null,null,null,null,null,null,null,null,0]
[null,null,null,null,null,null,null,null,null,null,null,null,0]
[null,null,null,null,null,null,null,null,null,null,null,null,0]
[null,null,null,null,null,null,null,null,null,null,null,null,0]
[null,null,null,null,null,null,null,null,null,null,null,null,0]
[null,null,null,null,null,null,null,null,null,null,null,null,0]
[null,null,null,null,null,null,null,null,null,null,null,null,0]
[null,null,null,null,null,null,null,null,null,null,null,null,0]
[null,null,null,null,null,null,null,null,null,null,null,null,0]
[null,null,null,null,null,null,null,null,null,null,null,null,0]
[null,null,null,null,null,null,null,null,null,null,null,null,0]
[null,null,null,null,null,null,null,null,null,null,null,null,0]
[null,null,null,null,null,null,null,null,null,null,null,null,0]
[null,null,null,null,null,null,null,null,null,null,null,null,0]
[null,null,null,null,null,null,null,null,null,null,null,null,0]
[null,null,null,null,null,null,null,null,null,null,null,null,0]
[null,null,null,null,null,null,null,null,null,null,null,null,0]
[null,null,null,null,null,null,null,null,null,null,null,null,0]
[null,null,null,null,null,null,null,null,null,null,null,null,0]
[null,null,null,null,null,null,null,null,null,null,null,null,0]
[null,null,null,null,null,null,null,null,null,null,null,null,0]
[null,null,null,null,null,null,null,null,null,null,null,null,0]
[null,null,null,null,null,null,null,null,null,null,null,null,0]
[null,null,null,null,null,null,null,null,null,null,null,null,0]
[null,null,null,null,null,null,null,null,null,null,null,null,0]
[null,null,null,null,null,null,null,null,null,null,null,null,0]
[null,null,null,null,null,null,null,null,null,null,null,null,0]
[null,null,null,null,null,null,null,null,null,null,null,null,0]
[null,null,null,null,null,null,null,null,null,null,null,null,0]
[null,null,null,null,null,null,null,null,null,null,null,null,0]
[null,null,null,null,null,null,null,null,null,null,null,null,0]
[null,null,null,null,null,null,null,null,null,null,null,null,0]
[null,null,null,null,null,null,null,null,null,null,null,null,0]
[null,null,null,null,null,null,null,null,null,null,null,null,0]
[null,null,null,null,null,null,null,null,null,null,null,null,0]
[null,null,null,null,null,null,null,null,null,null,null,null,0]
[null,null,null,null,null,null,null,null,null,null,null,null,0]
[null,null,null,null,null,null,null,null,null,null,null,null,0]
[null,null,null,null,null,null,null,null,null,null,null,null,0]
[null,null,null,null,null,null,null,null,null,null,null,null,0]
[null,null,null,null,null,null,null,null,null,null,null,null,0]
[null,null,null,null,null,null,null,null,null,null,null,null,0]
[null,null,null,null,null,null,null,null,null,null,null,null,0]
[null,null,null,null,null,null,null,null,null,null,null,null,0]
[null,null,null,null,null,null,null,null,null,null,null,null,0]
[null,null,null,null,null,null,null,null,null,null,null,null,0]
[null,null,null,null,null,null,null,null,null,null,null,null,0]
[null,null,null,null,null,null,null,null,null,null,null,null,0]
[null,null,null,null,null,null,null,null,null,null,null,null,0]
[null,null,null,null,null,null,null,null,null,null,null,null,0]
[null,null,null,null,null,null,null,null,null,null,null,null,0]
[null,null,null,null,null,null,null,null,null,null,null,null,0]
[null,null,null,null,null,null,null,null,null,null,null,null,0]
[null,null,null,null,null,null,null,null,null,null,null,null,0]
[null,null,null,null,null,null,null,null,null,null,null,null,0]
[null,null,null,null,null,null,null,null,null,null,null,null,0]
[null,null,null,null,null,null,null,null,null,null,null,null,0]
[null,null,null,null,null,null,null,null,null,null,null,null,0]
[null,null,null,null,null,null,null,null,null,null,null,null,0]
[null,null,null,null,null,null,null,null,null,null,null,null,0]
[null,null,null,null,null,null,null,null,null,null,null,null,0]
[null,null,null,null,null,null,null,null,null,null,null,null,0]
[null,null,null,null,null,null,null,null,null,null,null,null,0]
[null,null,null,null,null,null,null,null,null,null,null,null,0]
[null,null,null,null,null,null,null,null,null,null,null,null,0]
[null,null,null,null,null,null,null,null,null,null,null,null,0]
[null,null,null,null,null,null,null,null,null,null,null,null,0]
[null,null,null,null,null,null,null,null,null,null,null,null,0]
[null,null,null,null,null,null,null,null,null,null,null,null,0]
[null,null,null,null,null,null,null,null,null,null,null,null,0]
[null,null,null,null,null,null,null,null,null,null,null,null,0]
[null,null,null,null,null,null,null,null,null,null,null,null,0]
[null,null,null,null,null,null,null,null,null,null,null,null,0]
[null,null,null,null,null,null,null,null,null,null,null,null,0]
[null,null,null,null,null,null,null,null,null,null,null,null,0]
[null,null,null,null,null,null,null,null,null,null,null,null,0]
[null,null,null,null,null,null,null,null,null,null,null,null,0]
[null,null,null,null,null,null,null,null,null,null,null,null,0]
[null,null,null,null,null,null,null,null,null,null,null,null,0]
[null,null,null,null,null,null,null,null,null,null,null,null,0]
[null,null,null,null,null,null,null,null,null,null,null,null,0]
[null,null,null,null,null,null,null,null,null,null,null,null,0]
[null,null,null,null,null,null,null,null,null,null,null,null,0]
[null,null,null,null,null,null,null,null,null,null,null,null,0]
[null,null,null,null,null,null,null,null,null,null,null,null,0]
[null,null,null,null,null,null,null,null,null,null,null,null,0]
[null,null,null,null,null,null,null,null,null,null,null,null,0]
[null,null,null,null,null,null,null,null,null,null,null,null,0]
[null,null,null,null,null,null,null,null,null,null,null,null,0]
[null,null,null,null,null,null,null,null,null,null,null,null,0]
[null,null,null,null,null,null,null,null,null,null,null,null,0]
[null,null,null,null,null,null,null,null,null,null,null,null,0]
[null,null,null,null,null,null,null,null,null,null,null,null,0]
[null,null,null,null,null,null,null,null,null,null,null,null,0]
[null,null,null,null,null,null,null,null,null,null,null,null,0]
[null,null,null,null,null,null,null,null,null,null,null,null,0]
[null,null,null,null,null,null,null,null,null,null,null,null,0]
[null,null,null,null,null,null,null,null,null,null,null,null,0]
[null,null,null,null,null,null,null,null,null,null,null,null,0]
[null,null,null,null,null,null,null,null,null,null,null,null,0]
[null,null,null,null,null,null,null,null,null,null,null,null,0]
[null,null,null,null,null,null,null,null,null,null,null,null,0]
[null,null,null,null,null,null,null,null,null,null,null,null,0]
[null,null,null,null,null,null,null,null,null,null,null,null,0]
[null,null,null,null,null,null,null,null,null,null,null,null,0]
[null,null,null,null,null,null,null,null,null,null,null,null,0]
[null,null,null,null,null,null,null,null,null,null,null,null,0]
[null,null,null,null,null,null,null,null,null,null,null,null,0]
[null,null,null,null,null,null,null,null,null,null,null,null,0]
[null,null,null,null,null,null,null,null,null,null,null,null,0]
[null,null,null,null,null,null,null,null,null,null,null,null,0]
[null,null,null,null,null,null,null,null,null,null,null,null,0]
[null,null,null,null,null,null,null,null,null,null,null,null,0]
[null,null,null,null,null,null,null,null,null,null,null,null,0]
[null,null,null,null,null,null,null,null,null,null,null,null,0]
[null,null,null,null,null,null,null,null,null,null,null,null,0]
[null,null,null,null,null,null,null,null,null,null,null,null,0]
[null,null,null,null,null,null,null,null,null,null,null,null,0]
[null,null,null,null,null,null,null,null,null,null,null,null,0]
[null,null,null,null,null,null,null,null,null,null,null,null,0]
[null,null,null,null,null,null,null,null,null,null,null,null,0]
[null,null,null,null,null,null,null,null,null,null,null,null,0]
[null,null,null,null,null,null,null,null,null,null,null,null,0]
[null,null,null,null,null,null,null,null,null,null,null,null,0]
[null,null,null,null,null,null,null,null,null,null,null,null,0]
[null,null,null,null,null,null,null,null,null,null,null,null,0]
[null,null,null,null,null,null,null,null,null,null,null,null,0]
[null,null,null,null,null,null,null,null,null,null,null,null,0]
[null,null,null,null,null,null,null,null,null,null,null,null,0]
[null,null,null,null,null,null,null,null,null,null,null,null,0]
[null,null,null,null,null,null,null,null,null,null,null,null,0]
[null,null,null,null,null,null,null,null,null,null,null,null,0]
[null,null,null,null,null,null,null,null,null,null,null,null,0]
[null,null,null,null,null,null,null,null,null,null,null,null,0]
[null,null,null,null,null,null,null,null,null,null,null,null,0]
[null,null,null,null,null,null,null,null,null,null,null,null,0]
[null,null,null,null,null,null,null,null,null,null,null,null,0]
[null,null,null,null,null,null,null,null,null,null,null,null,0]
[null,null,null,null,null,null,null,null,null,null,null,null,0]
[null,null,null,null,null,null,null,null,null,null,null,null,0]
[null,null,null,null,null,null,null,null,null,null,null,null,0]
[null,null,null,null,null,null,null,null,null,null,null,null,0]
[null,null,null,null,null,null,null,null,null,null,null,null,0]
[null,null,null,null,null,null,null,null,null,null,null,null,0]
[null,null,null,null,null,null,null,null,null,null,null,null,0]
[null,null,null,null,null,null,null,null,null,null,null,null,0]
[null,null,null,null,null,null,null,null,null,null,null,null,0]
[null,null,null,null,null,null,null,null,null,null,null,null,0]
[null,null,null,null,null,null,null,null,null,null,null,null,0]
[null,null,null,null,null,null,null,null,null,null,null,null,0]
[null,null,null,null,null,null,null,null,null,null,null,null,0]
[null,null,null,null,null,null,null,null,null,null,null,null,0]
[null,null,null,null,null,null,null,null,null,null,null,null,0]
[null,null,null,null,null,null,null,null,null,null,null,null,0]
[null,null,null,null,null,null,null,null,null,null,null,null,0]
[null,null,null,null,null,null,null,null,null,null,null,null,0]
[null,null,null,null,null,null,null,null,null,null,null,null,0]
[null,null,null,null,null,null,null,null,null,null,null,null,0]
[null,null,null,null,null,null,null,null,null,null,null,null,0]
[null,null,null,null,null,null,null,null,null,null,null,null,0]
[null,null,null,null,null,null,null,null,null,null,null,null,0]
[null,null,null,null,null,null,null,null,null,null,null,null,0]
[null,null,null,null,null,null,null,null,null,null,null,null,0]
[null,null,null,null,null,null,null,null,null,null,null,null,0]
[null,null,null,null,null,null,null,null,null,null,null,null,0]
[null,null,null,null,null,null,null,null,null,null,null,null,0]
[null,null,null,null,null,null,null,null,null,null,null,null,0]
[null,null,null,null,null,null,null,null,null,null,null,null,0]
[null,null,null,null,null,null,null,null,null,null,null,null,0]
[null,null,null,null,null,null,null,null,null,null,null,null,0]
[null,null,null,null,null,null,null,null,null,null,null,null,0]
[null,null,null,null,null,null,null,null,null,null,null,null,0]
[null,null,null,null,null,null,null,null,null,null,null,null,0]
[null,null,null,null,null,null,null,null,null,null,null,null,0]
[null,null,null,null,null,null,null,null,null,null,null,null,0]
[null,null,null,null,null,null,null,null,null,null,null,null,0]
[null,null,null,null,null,null,null,null,null,null,null,null,0]
[null,null,null,null,null,null,null,null,null,null,null,null,0]
[null,null,null,null,null,null,null,null,null,null,null,null,0]
[null,null,null,null,null,null,null,null,null,null,null,null,0]
[null,null,null,null,null,null,null,null,null,null,null,null,0]
[null,null,null,null,null,null,null,null,null,null,null,null,0]
[null,null,null,null,null,null,null,null,null,null,null,null,0]
[null,null,null,null,null,null,null,null,null,null,null,null,0]
[null,null,null,null,null,null,null,null,null,null,null,null,0]
[null,null,null,null,null,null,null,null,null,null,null,null,0]
[null,null,null,null,null,null,null,null,null,null,null,null,0]
[null,null,null,null,null,null,null,null,null,null,null,null,0]
[null,null,null,null,null,null,null,null,null,null,null,null,0]
[null,null,null,null,null,null,null,null,null,null,null,null,0]
[null,null,null,null,null,null,null,null,null,null,null,null,0]
[null,null,null,null,null,null,null,null,null,null,null,null,0]
[null,null,null,null,null,null,null,null,null,null,null,null,0]
[null,null,null,null,null,null,null,null,null,null,null,null,0]
[null,null,null,null,null,null,null,null,null,null,null,null,0]
[null,null,null,null,null,null,null,null,null,null,null,null,0]
[null,null,null,null,null,null,null,null,null,null,null,null,0]
[null,null,null,null,null,null,null,null,null,null,null,null,0]
[null,null,null,null,null,null,null,null,null,null,null,null,0]
[null,null,null,null,null,null,null,null,null,null,null,null,0]
[null,null,null,null,null,null,null,null,null,null,null,null,0]
[null,null,null,null,null,null,null,null,null,null,null,null,0]
[null,null,null,null,null,null,null,null,null,null,null,null,0]
[null,null,null,null,null,null,null,null,null,null,null,null,0]
[null,null,null,null,null,null,null,null,null,null,null,null,0]
[null,null,null,null,null,null,null,null,null,null,null,null,0]
[null,null,null,null,null,null,null,null,null,null,null,null,0]
[null,null,null,null,null,null,null,null,null,null,null,null,0]
[null,null,null,null,null,null,null,null,null,null,null,null,0]
[null,null,null,null,null,null,null,null,null,null,null,null,0]
[null,null,null,null,null,null,null,null,null,null,null,null,0]
[null,null,null,null,null,null,null,null,null,null,null,null,0]
[null,null,null,null,null,null,null,null,null,null,null,null,0]
[null,null,null,null,null,null,null,null,null,null,null,null,0]
[null,null,null,null,null,null,null,null,null,null,null,null,0]
[null,null,null,null,null,null,null,null,null,null,null,null,0]
[null,null,null,null,null,null,null,null,null,null,null,null,0]
[null,null,null,null,null,null,null,null,null,null,null,null,0]
[null,null,null,null,null,null,null,null,null,null,null,null,0]
[null,null,null,null,null,null,null,null,null,null,null,null,0]
[null,null,null,null,null,null,null,null,null,null,null,null,0]
[null,null,null,null,null,null,null,null,null,null,null,null,0]
[null,null,null,null,null,null,null,null,null,null,null,null,0]
[null,null,null,null,null,null,null,null,null,null,null,null,0]
[null,null,null,null,null,null,null,null,null,null,null,null,0]
[null,null,null,null,null,null,null,null,null,null,null,null,0]
[null,null,null,null,null,null,null,null,null,null,null,null,0]
[null,null,null,null,null,null,null,null,null,null,null,null,0]
[null,null,null,null,null,null,null,null,null,null,null,null,0]
[null,null,null,null,null,null,null,null,null,null,null,null,0]
[null,null,null,null,null,null,null,null,null,null,null,null,0]
[null,null,null,null,null,null,null,null,null,null,null,null,0]
[null,null,null,null,null,null,null,null,null,null,null,null,0]
[null,null,null,null,null,null,null,null,null,null,null,null,0]
[null,null,null,null,null,null,null,null,null,null,null,null,0]
[null,null,null,null,null,null,null,null,null,null,null,null,0]
[null,null,null,null,null,null,null,null,null,null,null,null,0]
[null,null,null,null,null,null,null,null,null,null,null,null,0]
[null,null,null,null,null,null,null,null,null,null,null,null,0]
[null,null,null,null,null,null,null,null,null,null,null,null,0]
[null,null,null,null,null,null,null,null,null,null,null,null,0]
[null,null,null,null,null,null,null,null,null,null,null,null,0]
[null,null,null,null,null,null,null,null,null,null,null,null,0]
[null,null,null,null,null,null,null,null,null,null,null,null,0]
[null,null,null,null,null,null,null,null,null,null,null,null,0]
[null,null,null,null,null,null,null,null,null,null,null,null,0]
[null,null,null,null,null,null,null,null,null,null,null,null,0]
[null,null,null,null,null,null,null,null,null,null,null,null,0]
[null,null,null,null,null,null,null,null,null,null,null,null,0]
[null,null,null,null,null,null,null,null,null,null,null,null,0]
[null,null,null,null,null,null,null,null,null,null,null,null,0]
[null,null,null,null,null,null,null,null,null,null,null,null,0]
[null,null,null,null,null,null,null,null,null,null,null,null,0]
[null,null,null,null,null,null,null,null,null,null,null,null,0]
[null,null,null,null,null,null,null,null,null,null,null,null,0]
[null,null,null,null,null,null,null,null,null,null,null,null,0]
[null,null,null,null,null,null,null,null,null,null,null,null,0]
[null,null,null,null,null,null,null,null,null,null,null,null,0]
[null,null,null,null,null,null,null,null,null,null,null,null,0]
[null,null,null,null,null,null,null,null,null,null,null,null,0]
[null,null,null,null,null,null,null,null,null,null,null,null,0]
[null,null,null,null,null,null,null,null,null,null,null,null,0]
[null,null,null,null,null,null,null,null,null,null,null,null,0]
[null,null,null,null,null,null,null,null,null,null,null,null,0]
[null,null,null,null,null,null,null,null,null,null,null,null,0]
[null,null,null,null,null,null,null,null,null,null,null,null,0]
[null,null,null,null,null,null,null,null,null,null,null,null,0]
[null,null,null,null,null,null,null,null,null,null,null,null,0]
[null,null,null,null,null,null,null,null,null,null,null,null,0]
[null,null,null,null,null,null,null,null,null,null,null,null,0]
[null,null,null,null,null,null,null,null,null,null,null,null,0]
[null,null,null,null,null,null,null,null,null,null,null,null,0]
[null,null,null,null,null,null,null,null,null,null,null,null,0]
[null,null,null,null,null,null,null,null,null,null,null,null,0]
[null,null,null,null,null,null,null,null,null,null,null,null,0]
[null,null,null,null,null,null,null,null,null,null,null,null,0]
[null,null,null,null,null,null,null,null,null,null,null,null,0]
[null,null,null,null,null,null,null,null,null,null,null,null,0]
[null,null,null,null,null,null,null,null,null,null,null,null,0]
[null,null,null,null,null,null,null,null,null,null,null,null,0]
[null,null,null,null,null,null,null,null,null,null,null,null,0]
[null,null,null,null,null,null,null,null,null,null,null,null,0]
[null,null,null,null,null,null,null,null,null,null,null,null,0]
[null,null,null,null,null,null,null,null,null,null,null,null,0]
[null,null,null,null,null,null,null,null,null,null,null,null,0]
[null,null,null,null,null,null,null,null,null,null,null,null,0]
[null,null,null,null,null,null,null,null,null,null,null,null,0]
[null,null,null,null,null,null,null,null,null,null,null,null,0]
[null,null,null,null,null,null,null,null,null,null,null,null,0]
[null,null,null,null,null,null,null,null,null,null,null,null,0]
[null,null,null,null,null,null,null,null,null,null,null,null,0]
[null,null,null,null,null,null,null,null,null,null,null,null,0]
[null,null,null,null,null,null,null,null,null,null,null,null,0]
[null,null,null,null,null,null,null,null,null,null,null,null,0]
[null,null,null,null,null,null,null,null,null,null,null,null,0]
[null,null,null,null,null,null,null,null,null,null,null,null,0]
[null,null,null,null,null,null,null,null,null,null,null,null,0]
[null,null,null,null,null,null,null,null,null,null,null,null,0]
[null,null,null,null,null,null,null,null,null,null,null,null,0]
[null,null,null,null,null,null,null,null,null,null,null,null,0]
[null,null,null,null,null,null,null,null,null,null,null,null,0]
[null,null,null,null,null,null,null,null,null,null,null,null,0]
[null,null,null,null,null,null,null,null,null,null,null,null,0]
[null,null,null,null,null,null,null,null,null,null,null,null,0]
[null,null,null,null,null,null,null,null,null,null,null,null,0]
[null,null,null,null,null,null,null,null,null,null,null,null,0]
[null,null,null,null,null,null,null,null,null,null,null,null,0]
[null,null,null,null,null,null,null,null,null,null,null,null,0]
[null,null,null,null,null,null,null,null,null,null,null,null,0]
[null,null,null,null,null,null,null,null,null,null,null,null,0]
[null,null,null,null,null,null,null,null,null,null,null,null,0]
[null,null,null,null,null,null,null,null,null,null,null,null,0]
[null,null,null,null,null,null,null,null,null,null,null,null,0]
[null,null,null,null,null,null,null,null,null,null,null,null,0]
[null,null,null,null,null,null,null,null,null,null,null,null,0]
[null,null,null,null,null,null,null,null,null,null,null,null,0]
[null,null,null,null,null,null,null,null,null,null,null,null,0]
[null,null,null,null,null,null,null,null,null,null,null,null,0]
[null,null,null,null,null,null,null,null,null,null,null,null,0]
[null,null,null,null,null,null,null,null,null,null,null,null,0]
[null,null,null,null,null,null,null,null,null,null,null,null,0]
[null,null,null,null,null,null,null,null,null,null,null,null,0]
[null,null,null,null,null,null,null,null,null,null,null,null,0]
[null,null,null,null,null,null,null,null,null,null,null,null,0]
[null,null,null,null,null,null,null,null,null,null,null,null,0]
[null,null,null,null,null,null,null,null,null,null,null,null,0]
[null,null,null,null,null,null,null,null,null,null,null,null,0]
[null,null,null,null,null,null,null,null,null,null,null,null,0]
[null,null,null,null,null,null,null,null,null,null,null,null,0]
[null,null,null,null,null,null,null,null,null,null,null,null,0]
[null,null,null,null,null,null,null,null,null,null,null,null,0]
[null,null,null,null,null,null,null,null,null,null,null,null,0]
[null,null,null,null,null,null,null,null,null,null,null,null,0]
[null,null,null,null,null,null,null,null,null,null,null,null,0]
[null,null,null,null,null,null,null,null,null,null,null,null,0]
[null,null,null,null,null,null,null,null,null,null,null,null,0]
[null,null,null,null,null,null,null,null,null,null,null,null,0]
[null,null,null,null,null,null,null,null,null,null,null,null,0]
[null,null,null,null,null,null,null,null,null,null,null,null,0]
[null,null,null,null,null,null,null,null,null,null,null,null,0]
[null,null,null,null,null,null,null,null,null,null,null,null,0]
[null,null,null,null,null,null,null,null,null,null,null,null,0]
[null,null,null,null,null,null,null,null,null,null,null,null,0]
[null,null,null,null,null,null,null,null,null,null,null,null,0]
[null,null,null,null,null,null,null,null,null,null,null,null,0]
[null,null,null,null,null,null,null,null,null,null,null,null,0]
[null,null,null,null,null,null,null,null,null,null,null,null,0]
[null,null,null,null,null,null,null,null,null,null,null,null,0]
[null,null,null,null,null,null,null,null,null,null,null,null,0]
[null,null,null,null,null,null,null,null,null,null,null,null,0]
[null,null,null,null,null,null,null,null,null,null,null,null,0]
[null,null,null,null,null,null,null,null,null,null,null,null,0]
[null,null,null,null,null,null,null,null,null,null,null,null,0]
[null,null,null,null,null,null,null,null,null,null,null,null,0]
[null,null,null,null,null,null,null,null,null,null,null,null,0]
[null,null,null,null,null,null,null,null,null,null,null,null,0]
[null,null,null,null,null,null,null,null,null,null,null,null,0]
[null,null,null,null,null,null,null,null,null,null,null,null,0]
[null,null,null,null,null,null,null,null,null,null,null,null,0]
[null,null,null,null,null,null,null,null,null,null,null,null,0]
[null,null,null,null,null,null,null,null,null,null,null,null,0]
[null,null,null,null,null,null,null,null,null,null,null,null,0]
[null,null,null,null,null,null,null,null,null,null,null,null,0]
[null,null,null,null,null,null,null,null,null,null,null,null,0]
[null,null,null,null,null,null,null,null,null,null,null,null,0]
[null,null,null,null,null,null,null,null,null,null,null,null,0]
[null,null,null,null,null,null,null,null,null,null,null,null,0]
[null,null,null,null,null,null,null,null,null,null,null,null,0]
[null,null,null,null,null,null,null,null,null,null,null,null,0]
[null,null,null,null,null,null,null,null,null,null,null,null,0]
[null,null,null,null,null,null,null,null,null,null,null,null,0]
[null,null,null,null,null,null,null,null,null,null,null,null,0]
[null,null,null,null,null,null,null,null,null,null,null,null,0]
[null,null,null,null,null,null,null,null,null,null,null,null,0]
[null,null,null,null,null,null,null,null,null,null,null,null,0]
[null,null,null,null,null,null,null,null,null,null,null,null,0]
[null,null,null,null,null,null,null,null,null,null,null,null,0]
[null,null,null,null,null,null,null,null,null,null,null,null,0]
[null,null,null,null,null,null,null,null,null,null,null,null,0]
[null,null,null,null,null,null,null,null,null,null,null,null,0]
[null,null,null,null,null,null,null,null,null,null,null,null,0]
[null,null,null,null,null,null,null,null,null,null,null,null,0]
[null,null,null,null,null,null,null,null,null,null,null,null,0]
[null,null,null,null,null,null,null,null,null,null,null,null,0]
[null,null,null,null,null,null,null,null,null,null,null,null,0]
[null,null,null,null,null,null,null,null,null,null,null,null,0]
[null,null,null,null,null,null,null,null,null,null,null,null,0]
[null,null,null,null,null,null,null,null,null,null,null,null,0]
[null,null,null,null,null,null,null,null,null,null,null,null,0]
[null,null,null,null,null,null,null,null,null,null,null,null,0]
[null,null,null,null,null,null,null,null,null,null,null,null,0]
[null,null,null,null,null,null,null,null,null,null,null,null,0]
[null,null,null,null,null,null,null,null,null,null,null,null,0]
[null,null,null,null,null,null,null,null,null,null,null,null,0]
[null,null,null,null,null,null,null,null,null,null,null,null,0]
[null,null,null,null,null,null,null,null,null,null,null,null,0]
[null,null,null,null,null,null,null,null,null,null,null,null,0]
[null,null,null,null,null,null,null,null,null,null,null,null,0]
[null,null,null,null,null,null,null,null,null,null,null,null,0]
[null,null,null,null,null,null,null,null,null,null,null,null,0]
[null,null,null,null,null,null,null,null,null,null,null,null,0]
[null,null,null,null,null,null,null,null,null,null,null,null,0]
[null,null,null,null,null,null,null,null,null,null,null,null,0]
[null,null,null,null,null,null,null,null,null,null,null,null,0]
[null,null,null,null,null,null,null,null,null,null,null,null,0]
[null,null,null,null,null,null,null,null,null,null,null,null,0]
[null,null,null,null,null,null,null,null,null,null,null,null,0]
[null,null,null,null,null,null,null,null,null,null,null,null,0]
[null,null,null,null,null,null,null,null,null,null,null,null,0]
[null,null,null,null,null,null,null,null,null,null,null,null,0]
[null,null,null,null,null,null,null,null,null,null,null,null,0]
[null,null,null,null,null,null,null,null,null,null,null,null,0]
[null,null,null,null,null,null,null,null,null,null,null,null,0]
[null,null,null,null,null,null,null,null,null,null,null,null,0]
[null,null,null,null,null,null,null,null,null,null,null,null,0]
[null,null,null,null,null,null,null,null,null,null,null,null,0]
[null,null,null,null,null,null,null,null,null,null,null,null,0]
[null,null,null,null,null,null,null,null,null,null,null,null,0]
[null,null,null,null,null,null,null,null,null,null,null,null,0]
[null,null,null,null,null,null,null,null,null,null,null,null,0]
[null,null,null,null,null,null,null,null,null,null,null,null,0]
[null,null,null,null,null,null,null,null,null,null,null,null,0]
[null,null,null,null,null,null,null,null,null,null,null,null,0]
[null,null,null,null,null,null,null,null,null,null,null,null,0]
[null,null,null,null,null,null,null,null,null,null,null,null,0]
[null,null,null,null,null,null,null,null,null,null,null,null,0]
[null,null,null,null,null,null,null,null,null,null,null,null,0]
[null,null,null,null,null,null,null,null,null,null,null,null,0]
[null,null,null,null,null,null,null,null,null,null,null,null,0]
[null,null,null,null,null,null,null,null,null,null,null,null,0]
[null,null,null,null,null,null,null,null,null,null,null,null,0]
[null,null,null,null,null,null,null,null,null,null,null,null,0]
[null,null,null,null,null,null,null,null,null,null,null,null,0]
[null,null,null,null,null,null,null,null,null,null,null,null,0]
[null,null,null,null,null,null,null,null,null,null,null,null,0]
[null,null,null,null,null,null,null,null,null,null,null,null,0]
[null,null,null,null,null,null,null,null,null,null,null,null,0]
[null,null,null,null,null,null,null,null,null,null,null,null,0]
[null,null,null,null,null,null,null,null,null,null,null,null,0]
[null,null,null,null,null,null,null,null,null,null,null,null,0]
[null,null,null,null,null,null,null,null,null,null,null,null,0]
[null,null,null,null,null,null,null,null,null,null,null,null,0]
[null,null,null,null,null,null,null,null,null,null,null,null,0]
[null,null,null,null,null,null,null,null,null,null,null,null,0]
[null,null,null,null,null,null,null,null,null,null,null,null,0]
[null,null,null,null,null,null,null,null,null,null,null,null,0]
[null,null,null,null,null,null,null,null,null,null,null,null,0]
[null,null,null,null,null,null,null,null,null,null,null,null,0]
[null,null,null,null,null,null,null,null,null,null,null,null,0]
[null,null,null,null,null,null,null,null,null,null,null,null,0]
[null,null,null,null,null,null,null,null,null,null,null,null,0]
[null,null,null,null,null,null,null,null,null,null,null,null,0]
[null,null,null,null,null,null,null,null,null,null,null,null,0]
[null,null,null,null,null,null,null,null,null,null,null,null,0]
[null,null,null,null,null,null,null,null,null,null,null,null,0]
[null,null,null,null,null,null,null,null,null,null,null,null,0]
[null,null,null,null,null,null,null,null,null,null,null,null,0]
[null,null,null,null,null,null,null,null,null,null,null,null,0]
[null,null,null,null,null,null,null,null,null,null,null,null,0]
[null,null,null,null,null,null,null,null,null,null,null,null,0]
[null,null,null,null,null,null,null,null,null,null,null,null,0]
[null,null,null,null,null,null,null,null,null,null,null,null,0]
[null,null,null,null,null,null,null,null,null,null,null,null,0]
[null,null,null,null,null,null,null,null,null,null,null,null,0]
[null,null,null,null,null,null,null,null,null,null,null,null,0]
[null,null,null,null,null,null,null,null,null,null,null,null,0]
[null,null,null,null,null,null,null,null,null,null,null,null,0]
[null,null,null,null,null,null,null,null,null,null,null,null,0]
[null,null,null,null,null,null,null,null,null,null,null,null,0]
[null,null,null,null,null,null,null,null,null,null,null,null,0]
[null,null,null,null,null,null,null,null,null,null,null,null,0]
[null,null,null,null,null,null,null,null,null,null,null,null,0]
[null,null,null,null,null,null,null,null,null,null,null,null,0]
[null,null,null,null,null,null,null,null,null,null,null,null,0]
[null,null,null,null,null,null,null,null,null,null,null,null,0]
[null,null,null,null,null,null,null,null,null,null,null,null,0]
[null,null,null,null,null,null,null,null,null,null,null,null,0]
[null,null,null,null,null,null,null,null,null,null,null,null,0]
[null,null,null,null,null,null,null,null,null,null,null,null,0]
[null,null,null,null,null,null,null,null,null,null,null,null,0]
[null,null,null,null,null,null,null,null,null,null,null,null,0]
[null,null,null,null,null,null,null,null,null,null,null,null,0]
[null,null,null,null,null,null,null,null,null,null,null,null,0]
[null,null,null,null,null,null,null,null,null,null,null,null,0]
[null,null,null,null,null,null,null,null,null,null,null,null,0]
[null,null,null,null,null,null,null,null,null,null,null,null,0]
[null,null,null,null,null,null,null,null,null,null,null,null,0]
[null,null,null,null,null,null,null,null,null,null,null,null,0]
[null,null,null,null,null,null,null,null,null,null,null,null,0]
[null,null,null,null,null,null,null,null,null,null,null,null,0]
[null,null,null,null,null,null,null,null,null,null,null,null,0]
[null,null,null,null,null,null,null,null,null,null,null,null,0]
[null,null,null,null,null,null,null,null,null,null,null,null,0]
[null,null,null,null,null,null,null,null,null,null,null,null,0]
[null,null,null,null,null,null,null,null,null,null,null,null,0]
[null,null,null,null,null,null,null,null,null,null,null,null,0]
[null,null,null,null,null,null,null,null,null,null,null,null,0]
[null,null,null,null,null,null,null,null,null,null,null,null,0]
[null,null,null,null,null,null,null,null,null,null,null,null,0]
[null,null,null,null,null,null,null,null,null,null,null,null,0]
[null,null,null,null,null,null,null,null,null,null,null,null,0]
[null,null,null,null,null,null,null,null,null,null,null,null,0]
[null,null,null,null,null,null,null,null,null,null,null,null,0]
[null,null,null,null,null,null,null,null,null,null,null,null,0]
[null,null,null,null,null,null,null,null,null,null,null,null,0]
[null,null,null,null,null,null,null,null,null,null,null,null,0]
[null,null,null,null,null,null,null,null,null,null,null,null,0]
[null,null,null,null,null,null,null,null,null,null,null,null,0]
[null,null,null,null,null,null,null,null,null,null,null,null,0]
[null,null,null,null,null,null,null,null,null,null,null,null,0]
[null,null,null,null,null,null,null,null,null,null,null,null,0]
[null,null,null,null,null,null,null,null,null,null,null,null,0]
[null,null,null,null,null,null,null,null,null,null,null,null,0]
[null,null,null,null,null,null,null,null,null,null,null,null,0]
[null,null,null,null,null,null,null,null,null,null,null,null,0]
[null,null,null,null,null,null,null,null,null,null,null,null,0]
[null,null,null,null,null,null,null,null,null,null,null,null,0]
[null,null,null,null,null,null,null,null,null,null,null,null,0]
[null,null,null,null,null,null,null,null,null,null,null,null,0]
[null,null,null,null,null,null,null,null,null,null,null,null,0]
[null,null,null,null,null,null,null,null,null,null,null,null,0]
[null,null,null,null,null,null,null,null,null,null,null,null,0]
[null,null,null,null,null,null,null,null,null,null,null,null,0]
[null,null,null,null,null,null,null,null,null,null,null,null,0]
[null,null,null,null,null,null,null,null,null,null,null,null,0]
[null,null,null,null,null,null,null,null,null,null,null,null,0]
[null,null,null,null,null,null,null,null,null,null,null,null,0]
[null,null,null,null,null,null,null,null,null,null,null,null,0]
[null,null,null,null,null,null,null,null,null,null,null,null,0]
[null,null,null,null,null,null,null,null,null,null,null,null,0]
[null,null,null,null,null,null,null,null,null,null,null,null,0]
[null,null,null,null,null,null,null,null,null,null,null,null,0]
[null,null,null,null,null,null,null,null,null,null,null,null,0]
[null,null,null,null,null,null,null,null,null,null,null,null,0]
[null,null,null,null,null,null,null,null,null,null,null,null,0]
[null,null,null,null,null,null,null,null,null,null,null,null,0]
[null,null,null,null,null,null,null,null,null,null,null,null,0]
[null,null,null,null,null,null,null,null,null,null,null,null,0]
[null,null,null,null,null,null,null,null,null,null,null,null,0]
[null,null,null,null,null,null,null,null,null,null,null,null,0]
[null,null,null,null,null,null,null,null,null,null,null,null,0]
[null,null,null,null,null,null,null,null,null,null,null,null,0]
[null,null,null,null,null,null,null,null,null,null,null,null,0]
[null,null,null,null,null,null,null,null,null,null,null,null,0]
[null,null,null,null,null,null,null,null,null,null,null,null,0]
[null,null,null,null,null,null,null,null,null,null,null,null,0]
[null,null,null,null,null,null,null,null,null,null,null,null,0]
[null,null,null,null,null,null,null,null,null,null,null,null,0]