{"text_format":"1","workbook":"xlsx","n_sheets":3,"sheets":["Indtast data","Leaderboard","Data"],"not_rendered":{"charts":0,"images":0,"macros":1,"external_links":0,"defined_names":0,"comments":0,"pivot_tables":0},"unopened":[],"bounds":{"document_bytes":16777216,"sheet_cells":100000,"rows_first":2000,"rows_last":500,"rows_between":2000,"halvings":0,"cell_chars":16384,"cell_head_chars":4096},"cells_cut":0,"cells_raw":0,"read":"whole","date_system":"1900"}

{"sheet":"Indtast data","index":0,"n_rows":38,"n_cols":26,"rows_kept":38,"cut":false,"hidden":false,"merged":[]}
["Navne","Medlems Nr.","Total point","Kamp 1","kamp 2","Kamp 3","Kamp 4","Kamp 5","Kamp 6","Kamp 7","Kamp 8","Kamp 9","Kamp 10","Kamp 11","Kamp 12","Kamp 13","Kamp 14","Kamp 15","Kamp 16","Kamp 17","Kamp 18","Kamp 19","Kamp 20","Kamp 21","Kamp 22","Kamp 23"]
["Spiller 1","A-1",{"$f":"SUM(D2:Z2)","v":105},37,12,56]
["Spiller 2","A-2",{"$f":"SUM(D3:Z3)","v":102},36,11,55]
["Spiller 3","A-3",99,35,10,54]
["Spiller 4","A-4",96,34,9,53]
["Spiller 5","A-5",93,33,8,52]
["Spiller 6","A-6",90,32,7,51]
["Spiller 7","A-7",87,31,6,50]
["Spiller 8","A-8",84,30,5,49]
["Spiller 9","A-9",81,29,4,48]
["Spiller 10","A-10",78,28,3,47]
["Spiller 11","A-11",77,27,4,46]
["Spiller 12","A-12",76,26,5,45]
["Spiller 13","A-13",106,25,37,44]
["Spiller 14","A-14",103,24,36,43]
["Spiller 15","A-15",100,23,35,42]
["Spiller 16","A-16",97,22,34,41]
["Spiller 17","A-17",94,21,33,40]
["Spiller 18","A-18",91,20,32,39]
["Spiller 19","A-19",88,19,31,38]
["Spiller 20","A-20",85,18,30,37]
["Spiller 21","A-21",82,17,29,36]
["Spiller 22","A-22",79,16,28,35]
["Spiller 23","A-23",76,15,27,34]
["Spiller 24","A-24",73,14,26,33]
["Spiller 25","A-25",70,13,25,32]
["Spiller 26","A-26",67,12,24,31]
["Spiller 27","A-27",64,11,23,30]
["Spiller 28","A-28",61,10,22,29]
["Spiller 29","A-29",58,9,21,28]
["Spiller 30","A-30",55,8,20,27]
["Spiller 31","A-31",52,7,19,26]
["Spiller 32","A-32",49,6,18,25]
["Spiller 33","A-33",46,5,17,24]
["Spiller 34","A-34",43,4,16,23]
["Spiller 35","A-35",40,3,15,22]
["Spiller 36","A-36",37,2,14,21]
["Spiller 37","A-37",34,1,13,20]

{"sheet":"Leaderboard","index":1,"n_rows":38,"n_cols":9,"rows_kept":38,"cut":false,"hidden":false,"merged":[[37,1,37,3],[37,4,37,7],[37,8,37,10],[0,0,1,10],[35,1,35,3],[35,4,35,7],[35,8,35,10],[36,1,36,3],[36,4,36,7],[36,8,36,10],[33,1,33,3],[33,4,33,7],[33,8,33,10],[34,1,34,3],[34,4,34,7],[34,8,34,10],[31,1,31,3],[31,4,31,7],[31,8,31,10],[32,1,32,3],[32,4,32,7],[32,8,32,10],[29,1,29,3],[29,4,29,7],[29,8,29,10],[30,1,30,3],[30,4,30,7],[30,8,30,10],[27,1,27,3],[27,4,27,7],[27,8,27,10],[28,1,28,3],[28,4,28,7],[28,8,28,10],[25,1,25,3],[25,4,25,7],[25,8,25,10],[26,1,26,3],[26,4,26,7],[26,8,26,10],[23,1,23,3],[23,4,23,7],[23,8,23,10],[24,1,24,3],[24,4,24,7],[24,8,24,10],[21,1,21,3],[21,4,21,7],[21,8,21,10],[22,1,22,3],[22,4,22,7],[22,8,22,10],[19,1,19,3],[19,4,19,7],[19,8,19,10],[20,1,20,3],[20,4,20,7],[20,8,20,10],[17,1,17,3],[17,4,17,7],[17,8,17,10],[18,1,18,3],[18,4,18,7],[18,8,18,10],[15,1,15,3],[15,4,15,7],[15,8,15,10],[16,1,16,3],[16,4,16,7],[16,8,16,10],[13,1,13,3],[13,4,13,7],[13,8,13,10],[14,1,14,3],[14,4,14,7],[14,8,14,10],[11,1,11,3],[11,4,11,7],[11,8,11,10],[12,1,12,3],[12,4,12,7],[12,8,12,10],[9,1,9,3],[9,4,9,7],[9,8,9,10],[10,1,10,3],[10,4,10,7],[10,8,10,10],[7,1,7,3],[7,4,7,7],[7,8,7,10],[8,1,8,3],[8,4,8,7],[8,8,8,10],[5,1,5,3],[5,4,5,7],[5,8,5,10],[6,1,6,3],[6,4,6,7],[6,8,6,10],[2,0,3,0],[2,1,3,3],[2,4,3,7],[2,8,3,10],[4,1,4,3],[4,4,4,7],[4,8,4,10]]}
["Leaderboard"]
[]
["Nr.","Bevægelse",null,null,"Navne",null,null,null,"Total point"]
[]
[1,"⇚  (1)",null,null,"Spiller 13",null,null,null,"106  (44)"]
[2,"ᗑ  (8)",null,null,"Spiller 1",null,null,null,"105  (56)"]
[3,"ᗐ  (2)",null,null,"Spiller 14",null,null,null,"103  (43)"]
[4,"ᗑ  (10)",null,null,"Spiller 2",null,null,null,"102  (55)"]
[5,"ᗐ  (3)",null,null,"Spiller 15",null,null,null,"100  (42)"]
[6,"ᗑ  (12)",null,null,"Spiller 3",null,null,null,"99  (54)"]
[7,"ᗐ  (4)",null,null,"Spiller 16",null,null,null,"97  (41)"]
[8,"ᗑ  (14)",null,null,"Spiller 4",null,null,null,"96  (53)"]
[9,"ᗐ  (5)",null,null,"Spiller 17",null,null,null,"94  (40)"]
[10,"ᗑ  (16)",null,null,"Spiller 5",null,null,null,"93  (52)"]
[11,"ᗐ  (6)",null,null,"Spiller 18",null,null,null,"91  (39)"]
[12,"ᗑ  (18)",null,null,"Spiller 6",null,null,null,"90  (51)"]
[13,"ᗐ  (7)",null,null,"Spiller 19",null,null,null,"88  (38)"]
[14,"ᗑ  (20)",null,null,"Spiller 7",null,null,null,"87  (50)"]
[15,"ᗐ  (9)",null,null,"Spiller 20",null,null,null,"85  (37)"]
[16,"ᗑ  (22)",null,null,"Spiller 8",null,null,null,"84  (49)"]
[17,"ᗐ  (11)",null,null,"Spiller 21",null,null,null,"82  (36)"]
[18,"ᗑ  (24)",null,null,"Spiller 9",null,null,null,"81  (48)"]
[19,"ᗐ  (13)",null,null,"Spiller 22",null,null,null,"79  (35)"]
[20,"ᗑ  (26)",null,null,"Spiller 10",null,null,null,"78  (47)"]
[21,"ᗑ  (26)",null,null,"Spiller 11",null,null,null,"77  (46)"]
[22,"ᗑ  (26)",null,null,"Spiller 12",null,null,null,"76  (45)"]
[null,"ᗐ  (15)",null,null,"Spiller 23",null,null,null,"76  (34)"]
[24,"ᗐ  (17)",null,null,"Spiller 24",null,null,null,"73  (33)"]
[25,"ᗐ  (19)",null,null,"Spiller 25",null,null,null,"70  (32)"]
[26,"ᗐ  (21)",null,null,"Spiller 26",null,null,null,"67  (31)"]
[27,"ᗐ  (23)",null,null,"Spiller 27",null,null,null,"64  (30)"]
[28,"ᗐ  (25)",null,null,"Spiller 28",null,null,null,"61  (29)"]
[29,"⇚  (29)",null,null,"Spiller 29",null,null,null,"58  (28)"]
[30,"⇚  (30)",null,null,"Spiller 30",null,null,null,"55  (27)"]
[31,"⇚  (31)",null,null,"Spiller 31",null,null,null,"52  (26)"]
[32,"⇚  (32)",null,null,"Spiller 32",null,null,null,"49  (25)"]
[33,"⇚  (33)",null,null,"Spiller 33",null,null,null,"46  (24)"]
[34,"⇚  (34)",null,null,"Spiller 34",null,null,null,"43  (23)"]

{"sheet":"Data","index":2,"n_rows":46,"n_cols":26,"rows_kept":46,"cut":false,"hidden":false,"merged":[[0,24,0,25],[0,2,0,3],[0,4,0,5],[0,6,0,7],[0,8,0,9],[0,10,0,11],[0,12,0,13],[0,14,0,15],[0,16,0,17],[0,18,0,19],[0,20,0,21],[0,22,0,23]]}
[null,null,"Kamp 1",null,"Kamp 2",null,"Kamp 3",null,"Kamp 4",null,"Kamp 5",null,"Kamp 6",null,"Kamp 7",null,"Kamp 8",null,"Kamp 9",null,"Kamp 10",null,"Kamp 11",null,"Kamp 12"]
["Spiller","Medlems nr","Point","Placering","Point","Placering","Point","Placering","Point","Placering","Point","Placering","Point","Placering","Point","Placering","Point","Placering","Point","Placering","Point","Placering","Point","Placering","Point","Placering"]
[{"$f":"'Indtast data'!A2","v":"Spiller 1"},{"$f":"'Indtast data'!B2","v":"A-1"},37,1,49,8,105,2]
[{"$f":"'Indtast data'!A3","v":"Spiller 2"},{"$f":"'Indtast data'!B3","v":"A-2"},36,2,47,10,102,4]
[{"$f":"'Indtast data'!A4","v":"Spiller 3"},{"$f":"'Indtast data'!B4","v":"A-3"},35,3,45,12,99,6]
[{"$f":"'Indtast data'!A5","v":"Spiller 4"},{"$f":"'Indtast data'!B5","v":"A-4"},34,4,43,14,96,8]
[{"$f":"'Indtast data'!A6","v":"Spiller 5"},{"$f":"'Indtast data'!B6","v":"A-5"},33,5,41,16,93,10]
[{"$f":"'Indtast data'!A7","v":"Spiller 6"},{"$f":"'Indtast data'!B7","v":"A-6"},32,6,39,18,90,12]
[{"$f":"'Indtast data'!A8","v":"Spiller 7"},{"$f":"'Indtast data'!B8","v":"A-7"},31,7,37,20,87,14]
[{"$f":"'Indtast data'!A9","v":"Spiller 8"},{"$f":"'Indtast data'!B9","v":"A-8"},30,8,35,22,84,16]
[{"$f":"'Indtast data'!A10","v":"Spiller 9"},{"$f":"'Indtast data'!B10","v":"A-9"},29,9,33,24,81,18]
[{"$f":"'Indtast data'!A11","v":"Spiller 10"},{"$f":"'Indtast data'!B11","v":"A-10"},28,10,31,26,78,20]
[{"$f":"'Indtast data'!A12","v":"Spiller 11"},{"$f":"'Indtast data'!B12","v":"A-11"},27,11,31,26,77,21]
[{"$f":"'Indtast data'!A13","v":"Spiller 12"},{"$f":"'Indtast data'!B13","v":"A-12"},26,12,31,26,76,22]
[{"$f":"'Indtast data'!A14","v":"Spiller 13"},{"$f":"'Indtast data'!B14","v":"A-13"},25,13,62,1,106,1]
[{"$f":"'Indtast data'!A15","v":"Spiller 14"},{"$f":"'Indtast data'!B15","v":"A-14"},24,14,60,2,103,3]
[{"$f":"'Indtast data'!A16","v":"Spiller 15"},{"$f":"'Indtast data'!B16","v":"A-15"},23,15,58,3,100,5]
[{"$f":"'Indtast data'!A17","v":"Spiller 16"},{"$f":"'Indtast data'!B17","v":"A-16"},22,16,56,4,97,7]
[{"$f":"'Indtast data'!A18","v":"Spiller 17"},{"$f":"'Indtast data'!B18","v":"A-17"},21,17,54,5,94,9]
[{"$f":"'Indtast data'!A19","v":"Spiller 18"},{"$f":"'Indtast data'!B19","v":"A-18"},20,18,52,6,91,11]
[{"$f":"'Indtast data'!A20","v":"Spiller 19"},{"$f":"'Indtast data'!B20","v":"A-19"},19,19,50,7,88,13]
[{"$f":"'Indtast data'!A21","v":"Spiller 20"},{"$f":"'Indtast data'!B21","v":"A-20"},18,20,48,9,85,15]
[{"$f":"'Indtast data'!A22","v":"Spiller 21"},{"$f":"'Indtast data'!B22","v":"A-21"},17,21,46,11,82,17]
[{"$f":"'Indtast data'!A23","v":"Spiller 22"},{"$f":"'Indtast data'!B23","v":"A-22"},16,22,44,13,79,19]
[{"$f":"'Indtast data'!A24","v":"Spiller 23"},{"$f":"'Indtast data'!B24","v":"A-23"},15,23,42,15,76,22]
[{"$f":"'Indtast data'!A25","v":"Spiller 24"},{"$f":"'Indtast data'!B25","v":"A-24"},14,24,40,17,73,24]
[{"$f":"'Indtast data'!A26","v":"Spiller 25"},{"$f":"'Indtast data'!B26","v":"A-25"},13,25,38,19,70,25]
[{"$f":"'Indtast data'!A27","v":"Spiller 26"},{"$f":"'Indtast data'!B27","v":"A-26"},12,26,36,21,67,26]
[{"$f":"'Indtast data'!A28","v":"Spiller 27"},{"$f":"'Indtast data'!B28","v":"A-27"},11,27,34,23,64,27]
[{"$f":"'Indtast data'!A29","v":"Spiller 28"},{"$f":"'Indtast data'!B29","v":"A-28"},10,28,32,25,61,28]
[{"$f":"'Indtast data'!A30","v":"Spiller 29"},{"$f":"'Indtast data'!B30","v":"A-29"},9,29,30,29,58,29]
[{"$f":"'Indtast data'!A31","v":"Spiller 30"},{"$f":"'Indtast data'!B31","v":"A-30"},8,30,28,30,55,30]
[{"$f":"'Indtast data'!A32","v":"Spiller 31"},{"$f":"'Indtast data'!B32","v":"A-31"},7,31,26,31,52,31]
[{"$f":"'Indtast data'!A33","v":"Spiller 32"},{"$f":"'Indtast data'!B33","v":"A-32"},6,32,24,32,49,32]
[{"$f":"'Indtast data'!A34","v":"Spiller 33"},{"$f":"'Indtast data'!B34","v":"A-33"},5,33,22,33,46,33]
[{"$f":"'Indtast data'!A35","v":"Spiller 34"},{"$f":"'Indtast data'!B35","v":"A-34"},4,34,20,34,43,34]
[{"$f":"'Indtast data'!A36","v":"Spiller 35"},{"$f":"'Indtast data'!B36","v":"A-35"},3,35,18,35,40,35]
[{"$f":"'Indtast data'!A37","v":"Spiller 36"},{"$f":"'Indtast data'!B37","v":"A-36"},2,36,16,36,37,36]
[{"$f":"'Indtast data'!A38","v":"Spiller 37"},{"$f":"'Indtast data'!B38","v":"A-37"},1,37,14,37,34,37]
[]
[]
[]
[]
[{"$f":"_xlfn.UNICHAR(5585)","v":"ᗑ"}]
[{"$f":"_xlfn.UNICHAR(5584)","v":"ᗐ"}]
[{"$f":"_xlfn.UNICHAR(8666)","v":"⇚"}]