{"text_format":"1","workbook":"xlsx","n_sheets":6,"sheets":["januar","tomt1","Satser","Afspasering opgørelse","Norm","Ark1"],"not_rendered":{"charts":0,"images":0,"macros":1,"external_links":0,"defined_names":4,"comments":0,"pivot_tables":0},"unopened":[],"bounds":{"document_bytes":16777216,"sheet_cells":100000,"rows_first":2000,"rows_last":500,"rows_between":2000,"halvings":0,"cell_chars":16384,"cell_head_chars":4096},"cells_cut":0,"cells_raw":0,"read":"whole","date_system":"1904"}

{"sheet":"januar","index":0,"n_rows":21,"n_cols":18,"rows_kept":21,"cut":false,"hidden":false,"merged":[[1,0,1,14],[0,0,0,14],[2,0,2,14],[19,0,19,5],[20,0,20,5],[3,1,3,2],[17,0,17,3],[18,0,18,5]]}
[{"$f":"PROPER(TEXT(A5,\"dd mmmm åååå\")) & PROPER(TEXT(EOMONTH(A11,0),\"  -  dd mmmm åååå\"))","v":"25 December 2017  -  31 December 2017"}]
["Navn "]
["Arbejdsplads"]
["Dato","Dag",null,"Bemærk. Syg, ferie eller afsp.","Start","Slut","Timer",null,"Flexsaldo","Overtid          1-3 time","Overtid            4 - time","Optjent afspadsering","Afholdt afspadsering","Syg","Bemærk.","Normtimer"]
["2017-12-25",{"$f":"PROPER(TEXT(A5,\"ddd\"))","v":"Ma"},{"$f":"HelligdagsNavn(A5,0,0)","v":"1. Juledag"},null,null,null,{"$f":"IF(D5=\"Ferie\",0,IF(C5<>\"\",P5/24,IF(E5=\"\",0,(((F5-E5)+(E5>F5))))))","v":0.33333333333333331},{"$f":"G5*24","v":8},{"$f":"IF(G5=0,\"\",(H5-P5))","v":0},null,null,{"$f":"IF(D5<>\"Lukker Skolen\",IF(SUM(J5:K5)=0,\"\",(J5*1.5+K5*2)),IF(SUM(J5:K5)=0,\"\",(J5+K5)))","v":""},{"$f":"IF(D5=\"afsp.\",P5-G5,\"\")","v":""},{"$f":"IF(D5=\"syg\",P5-G5,\"\")","v":""},null,{"$f":"CHOOSE(WEEKDAY(A5,2),Norm!B$1,Norm!B$2,Norm!B$3,Norm!B$4,Norm!B$5,Norm!B$6,Norm!B$7)","v":8},null,10]
[{"$f":"IF(A5=\"\",\"\",IF(DAY(A5+1)=20,\"\",A5+1))","v":"2017-12-26"},"Ti",null,"ferie","08:00:00","15:30:00",{"$f":"IF(D6=\"Ferie\",0,IF(C6<>\"\",P6/24,IF(E6=\"\",0,(((F6-E6)+(E6>F6))))))","v":0},{"$f":"G6*24","v":0},{"$f":"IF(G6=0,\"\",(H6-P6))","v":""},null,null,{"$f":"IF(D6<>\"Lukker Skolen\",IF(SUM(J6:K6)=0,\"\",(J6*1.5+K6*2)),IF(SUM(J6:K6)=0,\"\",(J6+K6)))","v":""},"","",null,{"$f":"CHOOSE(WEEKDAY(A6,2),Norm!B$1,Norm!B$2,Norm!B$3,Norm!B$4,Norm!B$5,Norm!B$6,Norm!B$7)","v":8}]
["2017-12-27","On","","syg",null,null,0,{"$f":"G7*24","v":0},{"$f":"IF(G7=0,\"\",(H7-P7))","v":""},null,null,"","",8,null,{"$f":"CHOOSE(WEEKDAY(A7,2),Norm!B$1,Norm!B$2,Norm!B$3,Norm!B$4,Norm!B$5,Norm!B$6,Norm!B$7)","v":8}]
["2017-12-28","To","",null,null,null,0,0,"",{"$f":"IF(AND(I8>0,I8<3),I8,IF(I8>=3,3,\"\"))","v":3},{"$f":"IF(I8>3,I8-J8,\"\")","v":{"$error":"#VALUE!"}},{"$error":"#VALUE!"},"","",null,{"$f":"CHOOSE(WEEKDAY(A8,2),Norm!B$1,Norm!B$2,Norm!B$3,Norm!B$4,Norm!B$5,Norm!B$6,Norm!B$7)","v":8}]
["2017-12-29","Fr","",null,"07:00:00","15:00:00",0.33333333333333331,8,0.5,{"$f":"IF(AND(I9>3,I9>0),IF(I9=3,0,3-J8),IF(AND(I8<0,I9>3),3,IF(AND(I8<0,I9<0),\"\",IF(AND(I8<0,I9<3),I9,I9-I8))))","v":{"$error":"#VALUE!"}},{"$f":"IF(AND(I9>3,I8<0),I9-J9,IF(I9<3,\"\",I9-I8-J9))","v":""},{"$error":"#VALUE!"},"","",null,{"$f":"CHOOSE(WEEKDAY(A9,2),Norm!B$1,Norm!B$2,Norm!B$3,Norm!B$4,Norm!B$5,Norm!B$6,Norm!B$7)","v":7.5}]
["2017-12-30","Lø","",null,"07:00:00","11:00:00",0.16666666666666663,3.9999999999999991,3.9999999999999991,{"$f":"IF(I10=\"\",\"\",IF(AND(I10>3,I9<=0),3,IF(SUM(J8:J9)=3,0,IF(AND(I9<0,I10>3),3,IF(AND(I10>3,J9<3),3-J9,I10-I9)))))","v":{"$error":"#VALUE!"}},{"$f":"IF(J10=\"\",\"\",I10-I9-J10)","v":{"$error":"#VALUE!"}},{"$f":"IF(D10<>\"Lukker Skolen\",IF(SUM(J10:K10)=0,\"\",(J10*1.5+K10*2)),IF(SUM(J10:K10)=0,\"\",(J10+K10)))","v":{"$error":"#VALUE!"}},"","",null,{"$f":"CHOOSE(WEEKDAY(A10,2),Norm!B$1,Norm!B$2,Norm!B$3,Norm!B$4,Norm!B$5,Norm!B$6,Norm!B$7)","v":0}]
["2017-12-31","Sø","Nytårsaftensdag",null,"07:00:00","12:00:00",0,0,"",{"$f":"IF(I11=\"\",\"\",IF(AND(I11>3,I10<=0),3,IF(SUM(J9:J10)=3,0,IF(AND(I10<0,I11>3),3,IF(AND(I11>3,J10<3),3-J10,I11-I10)))))","v":""},{"$f":"IF(J11=\"\",\"\",I11-I10-J11)","v":""},{"$f":"IF(D11<>\"Lukker Skolen\",IF(SUM(J11:K11)=0,\"\",(J11*1.5+K11*2)),IF(SUM(J11:K11)=0,\"\",(J11+K11)))","v":""},"","",null,{"$f":"CHOOSE(WEEKDAY(A11,2),Norm!B$1,Norm!B$2,Norm!B$3,Norm!B$4,Norm!B$5,Norm!B$6,Norm!B$7)","v":0}]
[null,{"$f":"IF(A12=\"\",\"\",PROPER(TEXT(A12,\"ddd\")))","v":""},null,null,null,null,null,null,null,null,null,{"$f":"IF(SUM(I12:K12)=0,\"\",SUM(I12:K12))","v":""},{"$f":"IF(D12=\"afsp.\",G12,\"\")","v":""}]
["Total timer",null,null,null,null,null,{"$f":"IF(SUM(G8:G12)<>\"0\",SUM(G5:G12),\"\")","v":0.83333333333333326},null,{"$f":"SUM(I5:I11)","v":4.4999999999999991},{"$f":"IF(SUM(J5:J12)<>\"0\",SUM(J5:J12),\"\")","v":{"$error":"#VALUE!"}},{"$f":"IF(SUM(K5:K12)<>\"0\",SUM(K5:K12),\"\")","v":{"$error":"#VALUE!"}},{"$f":"SUM(L5:L12)","v":{"$error":"#VALUE!"}},{"$f":"SUM(M5:M12)","v":0},{"$f":"SUM(N5:N12)","v":8}]
[null,null,null,null,null,null,null,null,{"$f":"I13/24","v":0.18749999999999997}]
[]
[]
[]
["Afspadserings opgørelse:"]
["Optjent afspadsering",null,null,null,null,null,{"$f":"L13","v":{"$error":"#VALUE!"}}]
["Afholdt afspadsering",null,null,null,null,null,{"$f":"-M13","v":0}]
["+/-Timer til afspadsering",null,null,null,null,null,{"$f":"SUM(G19:G20)","v":{"$error":"#VALUE!"}}]

{"sheet":"tomt1","index":1,"n_rows":45,"n_cols":15,"rows_kept":45,"cut":false,"hidden":false,"merged":[[0,0,0,14],[1,0,1,14],[2,0,2,14],[44,0,44,6],[43,0,43,6],[3,1,3,2],[41,0,41,3],[42,0,42,6]]}
[{"$f":"PROPER(TEXT(A5,\"dd mmmm åååå\")) & PROPER(TEXT(EOMONTH(A5,0),\"  -  dd mmmm åååå\"))","v":"02 Januar 2015  -  31 Januar 2015"}]
["Navn"]
["arbejdsplads"]
["Dato","Dag",null,"Bemærk. Syg, ferie eller afsp.","Start","Slut","Pause","Timer","Overtid           1-3 time","Overtid            4 - time","Optjent afspadsering","Afholdt afspadsering","Syg","Bemærk.","Normtimer"]
["2015-01-02",{"$f":"PROPER(TEXT(A5,\"ddd\"))","v":"Fr"},{"$f":"HelligdagsNavn(A5,0,0)","v":""},null,null,null,null,{"$f":"IF(D5=\"Ferie\",0,IF(E5=\"\",0,(((F5-E5)-G5)+(E5>F5))*24))","v":0},{"$f":"IF(H5=0,\"\",IF(WEEKDAY(A5,2)=7,0,IF(H5>O5,MIN(H5-O5,3),\"\")))","v":""},{"$f":"IF(I5=\"\",\"\",IF(H5>O5+I5,H5-(O5+I5),0))","v":""},{"$f":"IF(D5<>\"Lukker Skolen\",IF(SUM(I5:J5)=0,\"\",(I5*1.5+J5*2)),IF(SUM(I5:J5)=0,\"\",(I5+J5)))","v":""},{"$f":"IF(D5=\"afsp.\",O5-H5,\"\")","v":""},{"$f":"IF(D5=\"syg\",O5-H5,\"\")","v":""},null,{"$f":"CHOOSE(WEEKDAY(A5,2),Norm!B$1,Norm!B$2,Norm!B$3,Norm!B$4,Norm!B$5,Norm!B$6,Norm!B$7)","v":7.5}]
[{"$f":"IF(A5=\"\",\"\",IF(DAY(A5+1)=20,\"\",A5+1))","v":"2015-01-03"},{"$f":"PROPER(TEXT(A6,\"ddd\"))","v":"Lø"},{"$f":"HelligdagsNavn(A6,0,0)","v":""},null,null,null,null,{"$f":"IF(D6=\"Ferie\",0,IF(E6=\"\",0,(((F6-E6)-G6)+(E6>F6))*24))","v":0},"","",{"$f":"IF(D6<>\"Lukker Skolen\",IF(SUM(I6:J6)=0,\"\",(I6*1.5+J6*2)),IF(SUM(I6:J6)=0,\"\",(I6+J6)))","v":""},"",{"$f":"IF(D6=\"syg\",O6-H6,\"\")","v":""},null,{"$f":"CHOOSE(WEEKDAY(A6,2),Norm!B$1,Norm!B$2,Norm!B$3,Norm!B$4,Norm!B$5,Norm!B$6,Norm!B$7)","v":0}]
[{"$f":"IF(A6=\"\",\"\",IF(DAY(A6+1)=20,\"\",A6+1))","v":"2015-01-04"},{"$f":"PROPER(TEXT(A7,\"ddd\"))","v":"Sø"},"",null,null,null,null,0,"","","","","",null,{"$f":"CHOOSE(WEEKDAY(A7,2),Norm!B$1,Norm!B$2,Norm!B$3,Norm!B$4,Norm!B$5,Norm!B$6,Norm!B$7)","v":0}]
["2015-01-05","Ma","",null,null,null,null,0,"","","","","",null,{"$f":"CHOOSE(WEEKDAY(A8,2),Norm!B$1,Norm!B$2,Norm!B$3,Norm!B$4,Norm!B$5,Norm!B$6,Norm!B$7)","v":8}]
["2015-01-06","Ti","",null,null,null,null,0,"","","","","",null,{"$f":"CHOOSE(WEEKDAY(A9,2),Norm!B$1,Norm!B$2,Norm!B$3,Norm!B$4,Norm!B$5,Norm!B$6,Norm!B$7)","v":8}]
["2015-01-07","On","",null,null,null,null,0,"","","","","",null,{"$f":"CHOOSE(WEEKDAY(A10,2),Norm!B$1,Norm!B$2,Norm!B$3,Norm!B$4,Norm!B$5,Norm!B$6,Norm!B$7)","v":8}]
["2015-01-08","To","",null,null,null,null,0,"","","","","",null,{"$f":"CHOOSE(WEEKDAY(A11,2),Norm!B$1,Norm!B$2,Norm!B$3,Norm!B$4,Norm!B$5,Norm!B$6,Norm!B$7)","v":8}]
["2015-01-09","Fr","",null,null,null,null,0,"","","","","",null,{"$f":"CHOOSE(WEEKDAY(A12,2),Norm!B$1,Norm!B$2,Norm!B$3,Norm!B$4,Norm!B$5,Norm!B$6,Norm!B$7)","v":7.5}]
["2015-01-10","Lø","",null,null,null,null,0,"","","","","",null,{"$f":"CHOOSE(WEEKDAY(A13,2),Norm!B$1,Norm!B$2,Norm!B$3,Norm!B$4,Norm!B$5,Norm!B$6,Norm!B$7)","v":0}]
["2015-01-11","Sø","",null,null,null,null,0,"","","","","",null,{"$f":"CHOOSE(WEEKDAY(A14,2),Norm!B$1,Norm!B$2,Norm!B$3,Norm!B$4,Norm!B$5,Norm!B$6,Norm!B$7)","v":0}]
["2015-01-12","Ma","",null,null,null,null,0,"","","","","",null,{"$f":"CHOOSE(WEEKDAY(A15,2),Norm!B$1,Norm!B$2,Norm!B$3,Norm!B$4,Norm!B$5,Norm!B$6,Norm!B$7)","v":8}]
["2015-01-13","Ti","",null,null,null,null,0,"","","","","",null,{"$f":"CHOOSE(WEEKDAY(A16,2),Norm!B$1,Norm!B$2,Norm!B$3,Norm!B$4,Norm!B$5,Norm!B$6,Norm!B$7)","v":8}]
["2015-01-14","On","",null,null,null,null,0,"","","","","",null,{"$f":"CHOOSE(WEEKDAY(A17,2),Norm!B$1,Norm!B$2,Norm!B$3,Norm!B$4,Norm!B$5,Norm!B$6,Norm!B$7)","v":8}]
["2015-01-15","To","",null,null,null,null,0,"","","","","",null,{"$f":"CHOOSE(WEEKDAY(A18,2),Norm!B$1,Norm!B$2,Norm!B$3,Norm!B$4,Norm!B$5,Norm!B$6,Norm!B$7)","v":8}]
["2015-01-16","Fr","",null,null,null,null,0,"","","","","",null,{"$f":"CHOOSE(WEEKDAY(A19,2),Norm!B$1,Norm!B$2,Norm!B$3,Norm!B$4,Norm!B$5,Norm!B$6,Norm!B$7)","v":7.5}]
["2015-01-17","Lø","",null,null,null,null,0,"","","","","",null,{"$f":"CHOOSE(WEEKDAY(A20,2),Norm!B$1,Norm!B$2,Norm!B$3,Norm!B$4,Norm!B$5,Norm!B$6,Norm!B$7)","v":0}]
["2015-01-18","Sø","",null,null,null,null,0,"","","","","",null,{"$f":"CHOOSE(WEEKDAY(A21,2),Norm!B$1,Norm!B$2,Norm!B$3,Norm!B$4,Norm!B$5,Norm!B$6,Norm!B$7)","v":0}]
["2015-01-19","Ma","",null,null,null,null,0,"","","","","",null,{"$f":"CHOOSE(WEEKDAY(A22,2),Norm!B$1,Norm!B$2,Norm!B$3,Norm!B$4,Norm!B$5,Norm!B$6,Norm!B$7)","v":8}]
[{"$f":"IF(A22=\"\",\"\",IF(DAY(A22+1)=31,\"\",A22+1))","v":"2015-01-20"},"Ti","",null,null,null,null,0,"","","","",{"$f":"IF(D23=\"syg\",O23-H23,\"\")","v":""},null,{"$f":"CHOOSE(WEEKDAY(A23,2),Norm!B$1,Norm!B$2,Norm!B$3,Norm!B$4,Norm!B$5,Norm!B$6,Norm!B$7)","v":8}]
[{"$f":"IF(A23=\"\",\"\",IF(DAY(A23+1)=31,\"\",A23+1))","v":"2015-01-21"},"On","",null,null,null,null,0,"","","","",{"$f":"IF(D24=\"syg\",O24-H24,\"\")","v":""},null,{"$f":"CHOOSE(WEEKDAY(A24,2),Norm!B$1,Norm!B$2,Norm!B$3,Norm!B$4,Norm!B$5,Norm!B$6,Norm!B$7)","v":8}]
["2015-01-22","To","",null,null,null,null,0,"","","","",{"$f":"IF(D25=\"syg\",O25-H25,\"\")","v":""},null,{"$f":"CHOOSE(WEEKDAY(A25,2),Norm!B$1,Norm!B$2,Norm!B$3,Norm!B$4,Norm!B$5,Norm!B$6,Norm!B$7)","v":8}]
["2015-01-23","Fr","",null,null,null,null,0,"","","","","",null,{"$f":"CHOOSE(WEEKDAY(A26,2),Norm!B$1,Norm!B$2,Norm!B$3,Norm!B$4,Norm!B$5,Norm!B$6,Norm!B$7)","v":7.5}]
["2015-01-24","Lø","",null,null,null,null,0,"","","","","",null,{"$f":"CHOOSE(WEEKDAY(A27,2),Norm!B$1,Norm!B$2,Norm!B$3,Norm!B$4,Norm!B$5,Norm!B$6,Norm!B$7)","v":0}]
["2015-01-25","Sø","",null,null,null,null,0,"","","","","",null,{"$f":"CHOOSE(WEEKDAY(A28,2),Norm!B$1,Norm!B$2,Norm!B$3,Norm!B$4,Norm!B$5,Norm!B$6,Norm!B$7)","v":0}]
["2015-01-26","Ma","",null,null,null,null,0,"","","","","",null,{"$f":"CHOOSE(WEEKDAY(A29,2),Norm!B$1,Norm!B$2,Norm!B$3,Norm!B$4,Norm!B$5,Norm!B$6,Norm!B$7)","v":8}]
["2015-01-27","Ti","",null,null,null,null,0,"","","","","",null,{"$f":"CHOOSE(WEEKDAY(A30,2),Norm!B$1,Norm!B$2,Norm!B$3,Norm!B$4,Norm!B$5,Norm!B$6,Norm!B$7)","v":8}]
["2015-01-28","On","",null,null,null,null,0,"","","","","",null,{"$f":"CHOOSE(WEEKDAY(A31,2),Norm!B$1,Norm!B$2,Norm!B$3,Norm!B$4,Norm!B$5,Norm!B$6,Norm!B$7)","v":8}]
["2015-01-29","To","",null,null,null,null,0,"","","","","",null,{"$f":"CHOOSE(WEEKDAY(A32,2),Norm!B$1,Norm!B$2,Norm!B$3,Norm!B$4,Norm!B$5,Norm!B$6,Norm!B$7)","v":8}]
[{"$f":"IF(A32=\"\",\"\",IF(MONTH(A32+1)>MONTH(A$5),\"\",A32+1))","v":"2015-01-30"},{"$f":"IF(A33=\"\",\"\",PROPER(TEXT(A33,\"ddd\")))","v":"Fr"},{"$f":"IF(A33=\"\",\"\",HelligdagsNavn(A33,0,0))","v":""},null,null,null,null,0,"",{"$f":"IF(I33=\"\",\"\",IF(H33>O33+I35,H33-(O33+I35),0))","v":""},{"$f":"IF(D33<>\"Lukker Skolen\",IF(SUM(I33:J33)=0,\"\",(I33*1.5+J33*2)),IF(SUM(I33:J33)=0,\"\",(I33+J33)))","v":""},"","",null,{"$f":"IF(A33=\"\",\"\",CHOOSE(WEEKDAY(A33,2),Norm!B$1,Norm!B$2,Norm!B$3,Norm!B$4,Norm!B$5,Norm!B$6,Norm!B$7))","v":7.5}]
[{"$f":"IF(A33=\"\",\"\",IF(MONTH(A33+1)>MONTH(A$5),\"\",A33+1))","v":"2015-01-31"},{"$f":"IF(A34=\"\",\"\",PROPER(TEXT(A34,\"ddd\")))","v":"Lø"},{"$f":"IF(A34=\"\",\"\",HelligdagsNavn(A34,0,0))","v":""},null,null,null,null,0,"",{"$f":"IF(I34=\"\",\"\",IF(H34>O34+I36,H34-(O34+I36),0))","v":""},"","","",null,{"$f":"IF(A34=\"\",\"\",CHOOSE(WEEKDAY(A34,2),Norm!B$1,Norm!B$2,Norm!B$3,Norm!B$4,Norm!B$5,Norm!B$6,Norm!B$7))","v":0}]
[{"$f":"IF(A34=\"\",\"\",IF(MONTH(A34+1)>MONTH(A$5),\"\",A34+1))","v":""},"","",null,null,null,null,0,{"$f":"IF(H35=0,\"\",IF(WEEKDAY(A35,2)=7,0,IF(H35>O35,MIN(H35-O35,3),\"\")))","v":""},{"$f":"IF(I35=\"\",\"\",IF(H35>O35+I37,H35-(O35+I37),0))","v":""},"","","",null,{"$f":"IF(A35=\"\",\"\",CHOOSE(WEEKDAY(A35,2),Norm!B$1,Norm!B$2,Norm!B$3,Norm!B$4,Norm!B$5,Norm!B$6,Norm!B$7))","v":""}]
[null,"",null,null,null,null,null,null,null,null,{"$f":"IF(SUM(I36:J36)=0,\"\",SUM(I36:J36))","v":""},{"$f":"IF(D36=\"afsp.\",H36,\"\")","v":""}]
["Total timer",null,null,null,null,null,null,{"$f":"IF(SUM(H10:H36)<>\"0\",SUM(H5:H36),\"\")","v":0},{"$f":"IF(SUM(I5:I36)<>\"0\",SUM(I5:I36),\"\")","v":0},0,{"$f":"SUM(K5:K36)","v":0},{"$f":"SUM(L5:L36)","v":0},{"$f":"SUM(M5:M36)","v":0}]
[]
[]
[]
[]
["Afspadserings opgørelse:"]
["Optjent afspadsering",null,null,null,null,null,null,{"$f":"K37","v":0}]
["Afholdt afspadsering",null,null,null,null,null,null,{"$f":"-L37","v":0}]
["+/-Timer til afspadsering",null,null,null,null,null,null,{"$f":"SUM(H43:H44)","v":0}]

{"sheet":"Satser","index":2,"n_rows":21,"n_cols":4,"rows_kept":21,"cut":false,"hidden":false,"merged":[]}
[]
[]
["Timeløn",119.62]
["specielt tillæg",1.19]
["Chauffør tillæg",4.95]
[]
["Samlet timeløn",{"$f":"SUM(B3:B5)","v":125.76}]
[]
["overtidstillæg 50%",59.81]
["pr. time",{"$f":"B7+B9","v":185.57}]
[]
["overtidstillæg 100%",119.62]
["pr. time",{"$f":"B12+B7","v":245.38}]
[]
["Aftentillæg",18.8,null,"Arbejde mellem 18:00 og 24:00, lørdag dog fra kl 14:00"]
["Nattillæg",21.81,null,"Arbejde mellem 24:00 og 06:00"]
["Søndagstillæg",28.68]
[]
["Ledbus",3]
["Trafiktælling",5]
["Delt tjeneste",67,null,"pr. arbejdsdag"]

{"sheet":"Afspasering opgørelse","index":3,"n_rows":15,"n_cols":2,"rows_kept":15,"cut":false,"hidden":false,"merged":[]}
["Måned","Afsp."]
["Overført fra sidste år",0]
["Januar",{"$f":"januar!G21","v":{"$error":"#VALUE!"}}]
["februar",{"$f":"#REF!","v":{"$error":"#REF!"}}]
["Marts",{"$f":"#REF!","v":{"$error":"#REF!"}}]
["April",{"$f":"#REF!","v":{"$error":"#REF!"}}]
["Maj",{"$f":"#REF!","v":{"$error":"#REF!"}}]
["Juni",{"$f":"#REF!","v":{"$error":"#REF!"}}]
["Juli",{"$f":"#REF!","v":{"$error":"#REF!"}}]
["August",{"$f":"#REF!","v":{"$error":"#REF!"}}]
["September",{"$f":"#REF!","v":{"$error":"#REF!"}}]
["Oktober",{"$f":"#REF!","v":{"$error":"#REF!"}}]
["November",{"$f":"#REF!","v":{"$error":"#REF!"}}]
["December",{"$f":"#REF!","v":{"$error":"#REF!"}}]
["Afspadserings Salto",{"$f":"SUM(B2:B14)","v":{"$error":"#VALUE!"}}]

{"sheet":"Norm","index":4,"n_rows":9,"n_cols":2,"rows_kept":9,"cut":false,"hidden":false,"merged":[]}
["mandag",8]
["tirsdag",8]
["onsdag",8]
["torsdag",8]
["fredag",7.5]
["lørdag",0]
["søndag",0]
[]
["Uge Norm",1.5416666666666667]

{"sheet":"Ark1","index":5,"n_rows":7,"n_cols":2,"rows_kept":7,"cut":false,"hidden":false,"merged":[]}
[]
["Salt og snerydning"]
[]
["Arrangementer","afsp."]
["Høstfest","ferie"]
["Dimissionsfest","syg"]
["juleklip"]