{"text_format":"1","workbook":"xlsx","n_sheets":7,"sheets":["I alt sag","Dato","1. Kvt","2. Kvt","3. Kvt","4. Kvt","01-01"],"not_rendered":{"charts":0,"images":0,"macros":1,"external_links":0,"defined_names":6,"comments":0,"pivot_tables":0},"unopened":[],"bounds":{"document_bytes":16777216,"sheet_cells":100000,"rows_first":2000,"rows_last":500,"rows_between":2000,"halvings":0,"cell_chars":16384,"cell_head_chars":4096},"cells_cut":0,"cells_raw":0,"read":"whole","date_system":"1900"}

{"sheet":"I alt sag","index":0,"n_rows":7,"n_cols":7,"rows_kept":7,"cut":false,"hidden":false,"merged":[[5,2,5,4],[4,2,4,4],[6,2,6,4]]}
[]
[]
[null,"Timer i alt ",{"$f":"SUM('1. Kvt'!D35+'1. Kvt'!G35+'1. Kvt'!J35+'2. Kvt'!D35+'2. Kvt'!G35+'2. Kvt'!J35+'3. Kvt'!D35+'3. Kvt'!G35+'3. Kvt'!J35+'4. Kvt'!D35+'4. Kvt'!G35+'4. Kvt'!J35)","v":-0.50000000000000089}]
[]
[null,"Sag. Nr ","2000-HN"]
[null,"Sags navn ","Rundetårn",null,null," "," "]
[null,"Montør Navn ","Gert Berg"]

{"sheet":"Dato","index":1,"n_rows":34,"n_cols":13,"rows_kept":34,"cut":false,"hidden":false,"merged":[[0,1,0,12]]}
[null,"Fremstilling/montagerapporter "]
[null,"Januar","Februar","Marts ","April","Maj ","Juni ","Juli ","August","September","Oktober ","November ","December "]
[null,"2011-01-01","2011-02-01","2011-03-01"]
[null,"2011-01-02","2011-02-02","2011-03-02"]
[null,"2011-01-03","2011-02-03","2011-03-03"]
[null,"2011-01-04","2011-02-04","2011-03-04"]
[null,"2011-01-05","2011-02-05","2011-03-05"]
[null,"2011-01-06","2011-02-06","2011-03-06"]
[null,"2011-01-07","2011-02-07","2011-03-07"]
[null,"2011-01-08","2011-02-08","2011-03-08"]
[null,"2011-01-09","2011-02-09","2011-03-09"]
[null,"2011-01-10","2011-02-10","2011-03-10"]
[null,"2011-01-11","2011-02-11","2011-03-11"]
[null,"2011-01-12","2011-02-12","2011-03-12"]
[null,"2011-01-13","2011-02-13","2011-03-13"]
[null,"2011-01-14","2011-02-14","2011-03-14"]
[null,"2011-01-15","2011-02-15","2011-03-15"]
[null,"2011-01-16","2011-02-16","2011-03-16"]
[null,"2011-01-17","2011-02-17","2011-03-17"]
[null,"2011-01-18","2011-02-18","2011-03-18"]
[null,"2011-01-19","2011-02-19","2011-03-19"]
[null,"2011-01-20","2011-02-20","2011-03-20"]
[null,"2011-01-21","2011-02-21","2011-03-21"]
[null,"2011-01-22","2011-02-22","2011-03-22"]
[null,"2011-01-23","2011-02-23","2011-03-23"]
[null,"2011-01-24","2011-02-24","2011-03-24"]
[null,"2011-01-25","2011-02-25","2011-03-25"]
[null,"2011-01-26","2011-02-26","2011-03-26"]
[null,"2011-01-27","2011-02-27","2011-03-27"]
[null,"2011-01-28","2011-02-28","2011-03-28"]
[null,"2011-01-29",null,"2011-03-29"]
[null,"2011-01-30",null,"2011-03-30"]
[null,"2011-01-31",null,"2011-03-31"]
[null,"Januar\nMåned","Februar\nMåned ","Marts\nMåned ","April\nMåned ","Maj\nMåned ","Juni\nMåned ","Juli\nMåned ","August\nMåned ","September\nMåned ","oktober\nMåned ","November\nMåned ","December\nMåned "]

{"sheet":"1. Kvt","index":2,"n_rows":36,"n_cols":10,"rows_kept":36,"cut":false,"hidden":false,"merged":[[35,8,35,9],[0,3,0,5],[1,3,1,5],[0,6,1,9],[34,1,34,2],[34,4,34,5],[34,7,34,8],[0,1,0,2],[1,1,1,2]]}
[null,"Sag ",null,{"$f":"'I alt sag'!C6","v":"Rundetårn"},null,null,"1. Kvartal"]
[null,"Sags. nr. ",null,{"$f":"'I alt sag'!C5","v":"2000-HN"}]
[null,"Dag ","Måned ","Timer","Dag ","Måned ","Timer","Dag ","Måned ","Timer"]
[null,1,"Januar ",{"$f":"SUM('01-01'!L8)","v":-0.50000000000000089},1,"februar",0,1,"Marts",0]
[null,{"$f":"SUM(B4)+1","v":2},"Januar ",0,{"$f":"SUM(E4)+1","v":2},"februar",0,{"$f":"SUM(H4)+1","v":2},"Marts",0]
[null,{"$f":"SUM(B5)+1","v":3},"Januar ",0,{"$f":"SUM(E5)+1","v":3},"februar",0,{"$f":"SUM(H5)+1","v":3},"Marts",0]
[null,4,"Januar ",0,4,"februar",0,4,"Marts",0]
[null,5,"Januar ",0,5,"februar",0,5,"Marts",0]
[null,6,"Januar ",0,6,"februar",0,6,"Marts",0]
[null,7,"Januar ",0,7,"februar",0,7,"Marts",0]
[null,8,"Januar ",0,8,"februar",0,8,"Marts",0]
[null,9,"Januar ",0,9,"februar",0,9,"Marts",0]
[null,10,"Januar ",0,10,"februar",0,10,"Marts",0]
[null,11,"Januar ",0,11,"februar",0,11,"Marts",0]
[null,12,"Januar ",0,12,"februar",0,12,"Marts",0]
[null,13,"Januar ",0,13,"februar",0,13,"Marts",0]
[null,14,"Januar ",0,14,"februar",0,14,"Marts",0]
[null,15,"Januar ",0,15,"februar",0,15,"Marts",0]
[null,16,"Januar ",0,16,"februar",0,16,"Marts",0]
[null,17,"Januar ",0,17,"februar",0,17,"Marts",0]
[null,18,"Januar ",0,18,"februar",0,18,"Marts",0]
[null,19,"Januar ",0,19,"februar",0,19,"Marts",0]
[null,20,"Januar ",0,20,"februar",0,20,"Marts",0]
[null,21,"Januar ",0,21,"februar",0,21,"Marts",0]
[null,22,"Januar ",0,22,"februar",0,22,"Marts",0]
[null,23,"Januar ",0,23,"februar",0,23,"Marts",0]
[null,24,"Januar ",0,24,"februar",0,24,"Marts",0]
[null,25,"Januar ",0,25,"februar",0,25,"Marts",0]
[null,26,"Januar ",0,26,"februar",0,26,"Marts",0]
[null,27,"Januar ",0,27,"februar",0,27,"Marts",0]
[null,28,"Januar ",0,28,"februar",0,28,"Marts",0]
[null,29,"Januar ",0,null,null,0,29,"Marts",0]
[null,30,"Januar ",0,null,null,0,30,"Marts",0]
[null,31,"Januar ",0,null,null,0,31,"Marts",0]
[null,"Timer Januar ",null,{"$f":"SUM(D4:D34)","v":-0.50000000000000089},"Timer Februar  ",null,{"$f":"SUM(G4:G34)","v":0},"Timer Marts  ",null,{"$f":"SUM(J4:J34)","v":0}]
[null,null,null,null,null,null,null,null,"Afslut"]

{"sheet":"2. Kvt","index":3,"n_rows":36,"n_cols":10,"rows_kept":36,"cut":false,"hidden":false,"merged":[[35,8,35,9],[0,1,0,2],[0,3,0,5],[0,6,1,9],[1,1,1,2],[1,3,1,5],[34,1,34,2],[34,4,34,5],[34,7,34,8]]}
[null,"Sag ",null,{"$f":"'I alt sag'!C6","v":"Rundetårn"},null,null,"2. Kvartal"]
[null,"Sags. nr. ",null,{"$f":"'I alt sag'!C5","v":"2000-HN"}]
[null,"Dag ","Måned ","Timer","Dag ","Måned ","Timer","Dag ","Måned ","Timer"]
[null,1,"April",0,1,"Maj",0,1,"Juni ",0]
[null,{"$f":"SUM(B4)+1","v":2},"April",0,{"$f":"SUM(E4)+1","v":2},"Maj",0,{"$f":"SUM(H4)+1","v":2},"Juni ",0]
[null,{"$f":"SUM(B5)+1","v":3},"April",0,{"$f":"SUM(E5)+1","v":3},"Maj",0,{"$f":"SUM(H5)+1","v":3},"Juni ",0]
[null,4,"April",0,4,"Maj",0,4,"Juni ",0]
[null,5,"April",0,5,"Maj",0,5,"Juni ",0]
[null,6,"April",0,6,"Maj",0,6,"Juni ",0]
[null,7,"April",0,7,"Maj",0,7,"Juni ",0]
[null,8,"April",0,8,"Maj",0,8,"Juni ",0]
[null,9,"April",0,9,"Maj",0,9,"Juni ",0]
[null,10,"April",0,10,"Maj",0,10,"Juni ",0]
[null,11,"April",0,11,"Maj",0,11,"Juni ",0]
[null,12,"April",0,12,"Maj",0,12,"Juni ",0]
[null,13,"April",0,13,"Maj",0,13,"Juni ",0]
[null,14,"April",0,14,"Maj",0,14,"Juni ",0]
[null,15,"April",0,15,"Maj",0,15,"Juni ",0]
[null,16,"April",0,16,"Maj",0,16,"Juni ",0]
[null,17,"April",0,17,"Maj",0,17,"Juni ",0]
[null,18,"April",0,18,"Maj",0,18,"Juni ",0]
[null,19,"April",0,19,"Maj",0,19,"Juni ",0]
[null,20,"April",0,20,"Maj",0,20,"Juni ",0]
[null,21,"April",0,21,"Maj",0,21,"Juni ",0]
[null,22,"April",0,22,"Maj",0,22,"Juni ",0]
[null,23,"April",0,23,"Maj",0,23,"Juni ",0]
[null,24,"April",0,24,"Maj",0,24,"Juni ",0]
[null,25,"April",0,25,"Maj",0,25,"Juni ",0]
[null,26,"April",0,26,"Maj",0,26,"Juni ",0]
[null,27,"April",0,27,"Maj",0,27,"Juni ",0]
[null,28,"April",0,28,"Maj",0,28,"Juni ",0]
[null,29,"April",0,29,"Maj",0,29,"Juni ",0]
[null,30,"April",0,30,"Maj",0,30,"Juni ",0]
[null,null,null,null,31,"Maj",0," "," "," "]
[null,"Timer April ",null,{"$f":"SUM(D4:D34)","v":0},"Timer Maj  ",null,{"$f":"SUM(G4:G34)","v":0},"Timer Juni ",null,{"$f":"SUM(J4:J34)","v":0}]
[null,null,null,null,null,null,null,null,"Afslut"]

{"sheet":"3. Kvt","index":4,"n_rows":36,"n_cols":10,"rows_kept":36,"cut":false,"hidden":false,"merged":[[35,8,35,9],[0,1,0,2],[0,3,0,5],[0,6,1,9],[1,1,1,2],[1,3,1,5],[34,1,34,2],[34,4,34,5],[34,7,34,8]]}
[null,"Sag ",null,{"$f":"'I alt sag'!C6","v":"Rundetårn"},null,null,"3. Kvartal"]
[null,"Sags. nr. ",null,{"$f":"'I alt sag'!C5","v":"2000-HN"}]
[null,"Dag ","Måned ","Timer","Dag ","Måned ","Timer","Dag ","Måned ","Timer"]
[null,1,"Juli",0,1,"August",0,1,"September",0]
[null,{"$f":"SUM(B4)+1","v":2},"Juli",0,{"$f":"SUM(E4)+1","v":2},"August",0,{"$f":"SUM(H4)+1","v":2},"September",0]
[null,{"$f":"SUM(B5)+1","v":3},"Juli",0,{"$f":"SUM(E5)+1","v":3},"August",0,{"$f":"SUM(H5)+1","v":3},"September",0]
[null,4,"Juli",0,4,"August",0,4,"September",0]
[null,5,"Juli",0,5,"August",0,5,"September",0]
[null,6,"Juli",0,6,"August",0,6,"September",0]
[null,7,"Juli",0,7,"August",0,7,"September",0]
[null,8,"Juli",0,8,"August",0,8,"September",0]
[null,9,"Juli",0,9,"August",0,9,"September",0]
[null,10,"Juli",0,10,"August",0,10,"September",0]
[null,11,"Juli",0,11,"August",0,11,"September",0]
[null,12,"Juli",0,12,"August",0,12,"September",0]
[null,13,"Juli",0,13,"August",0,13,"September",0]
[null,14,"Juli",0,14,"August",0,14,"September",0]
[null,15,"Juli",0,15,"August",0,15,"September",0]
[null,16,"Juli",0,16,"August",0,16,"September",0]
[null,17,"Juli",0,17,"August",0,17,"September",0]
[null,18,"Juli",0,18,"August",0,18,"September",0]
[null,19,"Juli",0,19,"August",0,19,"September",0]
[null,20,"Juli",0,20,"August",0,20,"September",0]
[null,21,"Juli",0,21,"August",0,21,"September",0]
[null,22,"Juli",0,22,"August",0,22,"September",0]
[null,23,"Juli",0,23,"August",0,23,"September",0]
[null,24,"Juli",0,24,"August",0,24,"September",0]
[null,25,"Juli",0,25,"August",0,25,"September",0]
[null,26,"Juli",0,26,"August",0,26,"September",0]
[null,27,"Juli",0,27,"August",0,27,"September",0]
[null,28,"Juli",0,28,"August",0,28,"September",0]
[null,29,"Juli",0,29,"August",0,29,"September",0]
[null,30,"Juli",0,30,"August",0,30,"September",0]
[null,31,"Juli",0,31,"August",0," "," "," "]
[null,"Timer Juli",null,{"$f":"SUM(D4:D34)","v":0},"Timer August  ",null,{"$f":"SUM(G4:G34)","v":0},"Timer September ",null,{"$f":"SUM(J4:J34)","v":0}]
[null,null,null,null,null,null,null,null,"Afslut"]

{"sheet":"4. Kvt","index":5,"n_rows":36,"n_cols":10,"rows_kept":36,"cut":false,"hidden":false,"merged":[[35,8,35,9],[0,1,0,2],[0,3,0,5],[0,6,1,9],[1,1,1,2],[1,3,1,5],[34,1,34,2],[34,4,34,5],[34,7,34,8]]}
[null,"Sag ",null,{"$f":"'I alt sag'!C6","v":"Rundetårn"},null,null,"4. Kvartal"]
[null,"Sags. nr. ",null,{"$f":"'I alt sag'!C5","v":"2000-HN"}]
[null,"Dag ","Måned ","Timer","Dag ","Måned ","Timer","Dag ","Måned ","Timer"]
[null,1,"Oktober",0,1,"November",0,1,"December",0]
[null,{"$f":"SUM(B4)+1","v":2},"Oktober",0,{"$f":"SUM(E4)+1","v":2},"November",0,{"$f":"SUM(H4)+1","v":2},"December",0]
[null,{"$f":"SUM(B5)+1","v":3},"Oktober",0,{"$f":"SUM(E5)+1","v":3},"November",0,{"$f":"SUM(H5)+1","v":3},"December",0]
[null,4,"Oktober",0,4,"November",0,4,"December",0]
[null,5,"Oktober",0,5,"November",0,5,"December",0]
[null,6,"Oktober",0,6,"November",0,6,"December",0]
[null,7,"Oktober",0,7,"November",0,7,"December",0]
[null,8,"Oktober",0,8,"November",0,8,"December",0]
[null,9,"Oktober",0,9,"November",0,9,"December",0]
[null,10,"Oktober",0,10,"November",0,10,"December",0]
[null,11,"Oktober",0,11,"November",0,11,"December",0]
[null,12,"Oktober",0,12,"November",0,12,"December",0]
[null,13,"Oktober",0,13,"November",0,13,"December",0]
[null,14,"Oktober",0,14,"November",0,14,"December",0]
[null,15,"Oktober",0,15,"November",0,15,"December",0]
[null,16,"Oktober",0,16,"November",0,16,"December",0]
[null,17,"Oktober",0,17,"November",0,17,"December",0]
[null,18,"Oktober",0,18,"November",0,18,"December",0]
[null,19,"Oktober",0,19,"November",0,19,"December",0]
[null,20,"Oktober",0,20,"November",0,20,"December",0]
[null,21,"Oktober",0,21,"November",0,21,"December",0]
[null,22,"Oktober",0,22,"November",0,22,"December",0]
[null,23,"Oktober",0,23,"November",0,23,"December",0]
[null,24,"Oktober",0,24,"November",0,24,"December",0]
[null,25,"Oktober",0,25,"November",0,25,"December",0]
[null,26,"Oktober",0,26,"November",0,26,"December",0]
[null,27,"Oktober",0,27,"November",0,27,"December",0]
[null,28,"Oktober",0,28,"November",0,28,"December",0]
[null,29,"Oktober",0,29,"November",0,29,"December",0]
[null,30,"Oktober",0,30,"November",0,30,"December",0]
[null,31,"Oktober",0,null,null,0,31,"December",0]
[null,"Timer Oktober ",null,{"$f":"SUM(D4:D34)","v":0},"Timer November ",null,{"$f":"SUM(G4:G34)","v":0},"Timer December",null,{"$f":"SUM(J4:J34)","v":0}]
[null,null,null,null,null,null,null,null,"Afslut"]

{"sheet":"01-01","index":6,"n_rows":43,"n_cols":17,"rows_kept":43,"cut":false,"hidden":false,"merged":[[8,1,8,11],[11,8,11,11],[12,8,18,11],[12,1,18,5],[9,1,9,2],[10,1,10,2],[10,3,10,5],[9,3,9,5],[19,1,19,11],[20,1,20,11],[9,6,10,7],[12,6,18,7],[11,1,11,7],[33,1,33,11],[25,1,25,11],[28,1,28,11],[30,1,30,11],[26,1,26,11],[27,1,27,11],[31,1,31,11],[32,1,32,11],[21,1,21,11],[22,1,22,11],[23,1,23,11],[24,1,24,11],[29,1,29,11],[40,1,40,11],[41,1,41,11],[34,1,34,11],[35,1,35,11],[38,1,38,11],[37,1,37,11],[39,1,39,11],[36,1,36,11],[1,1,2,5],[4,8,4,9],[4,11,6,11],[4,1,4,3],[4,4,4,5],[4,6,4,7],[1,8,2,11],[3,1,3,5],[3,8,3,11],[1,6,3,7]]}
[]
[null,"Fremstilling/montagerapport ",null,null,null,null,null,null,"Stålkon"]
[]
[null,{"$f":"'I alt sag'!C7","v":"Gert Berg"}]
[" ",null,null,null,"Frokost ",null,"Middag",null,"Eftermiddag ",null,null,"Timer\ni alt "]
[null,"Dag ","Måned ","Mødetid","Pause fra ","Pause til","Pause fra ","Pause til","Pause fra ","Pause til","Sluttid"]
[]
[null,1,"Januar ","00:00:00","00:00:00","00:00:00","12:00:00","12:30:00","00:00:00","00:00:00","00:00:00",{"$f":"SUM(M8)-N8-O8-P8","v":-0.50000000000000089},{"$f":"SUM(K8-D8)*24","v":0},{"$f":"SUM(F8-E8)*24","v":0},{"$f":"SUM(H8-G8)*24","v":0.50000000000000089},{"$f":"SUM(J8-I8)*24","v":0}]
[]
[null,"   Sag nr.",null,{"$f":"'I alt sag'!C5","v":"2000-HN"},null,null,null,null,"Kran:",null,"I alt ",{"$f":"SUM(L11-J11)*24","v":0}]
[null,"   Sags navn ",null,{"$f":"'I alt sag'!C6","v":"Rundetårn"},null,null,null,null,"Ankomst:","00:00:00","Afgang:","00:00:00"]
[null,null,null,null,null,null,null,null,"Bemærkninger "]
[null,null,null,null,null,null,null,null,"           "]
[]
[]
[]
[]
[]
[]
[null,"Montageforløb:"]
[null," "]
[]
[]
[]
[]
[]
[]
[null,"Problemer:"]
[]
[]
[]
[]
[null," "]
[]
[]
[]
[null,"Aftale:"]
[]
[]
[]
[]
[]
[null,null,null,null,null,null,null,null,null,null,"Lås ","Afslut",null,null,null,null,"Lås op"]