{"text_format":"1","workbook":"xlsx","n_sheets":3,"sheets":["1. halvår","2. halvår","Indstil"],"not_rendered":{"charts":0,"images":0,"macros":1,"external_links":0,"defined_names":2,"comments":0,"pivot_tables":0},"unopened":[],"bounds":{"document_bytes":16777216,"sheet_cells":100000,"rows_first":2000,"rows_last":500,"rows_between":2000,"halvings":0,"cell_chars":16384,"cell_head_chars":4096},"cells_cut":0,"cells_raw":0,"read":"whole","date_system":"1900"}

{"sheet":"1. halvår","index":0,"n_rows":33,"n_cols":26,"rows_kept":33,"cut":false,"hidden":false,"merged":[[0,24,0,25],[0,11,0,16],[1,23,1,25],[1,3,1,5],[1,7,1,9],[1,11,1,13],[1,15,1,17],[1,19,1,21]]}
[null,null,null,null,null,null,null,null,null,null,null,{"$f":"IF(Indstil!B5=\"\",\"Tast et årstal\",Indstil!B5)","v":"2020"},null,null,null,null,null,null,null,null,null,null,null,null,"1. Halvår"]
[null,null,null,{"$f":"\"Januar \"&Indstil!$B$5","v":"Januar 2020"},null,null,null,{"$f":"\"Februar \"&Indstil!$B$5","v":"Februar 2020"},null,null,null,{"$f":"\"Marts \"&Indstil!$B$5","v":"Marts 2020"},null,null,null,{"$f":"\"April \"&Indstil!$B$5","v":"April 2020"},null,null,null,{"$f":"\"Maj \"&Indstil!$B$5","v":"Maj 2020"},null,null,null,{"$f":"\"Juni \"&Indstil!$B$5","v":"Juni 2020"}]
[null,null,{"$f":"WEEKDAY(D3,1)","v":"1900-01-04"},{"$f":"DATE(Indstil!$B$5,1,1)","v":"2020-01-01"},{"$f":"IFERROR(HelligdagsNavn(D3,0,0),\"\")","v":"Nytårsdag"},{"$f":"IF(WEEKDAY(D3,2)=1,WEEKNUM(D3,2),\"\")","v":""},{"$f":"WEEKDAY(H3,1)","v":"1900-01-07"},{"$f":"DATE(Indstil!$B$5,2,1)","v":"2020-02-01"},{"$f":"IFERROR(HelligdagsNavn(H3,0,0),\"\")","v":""},{"$f":"IF(WEEKDAY(H3,2)=1,WEEKNUM(H3,2),\"\")","v":""},{"$f":"WEEKDAY(L3,1)","v":"1900-01-01"},{"$f":"DATE(Indstil!$B$5,3,1)","v":"2020-03-01"},{"$f":"IFERROR(HelligdagsNavn(L3,0,0),\"\")","v":""},{"$f":"IF(WEEKDAY(L3,2)=1,WEEKNUM(L3,2),\"\")","v":""},{"$f":"WEEKDAY(P3,1)","v":"1900-01-04"},{"$f":"DATE(Indstil!$B$5,4,1)","v":"2020-04-01"},{"$f":"IFERROR(HelligdagsNavn(P3,0,0),\"\")","v":""},{"$f":"IF(WEEKDAY(P3,2)=1,WEEKNUM(P3,2),\"\")","v":""},{"$f":"WEEKDAY(T3,1)","v":"1900-01-06"},{"$f":"DATE(Indstil!$B$5,5,1)","v":"2020-05-01"},{"$f":"IFERROR(HelligdagsNavn(T3,0,0),\"\")","v":"Arbejdernes Kampdag"},{"$f":"IF(WEEKDAY(T3,2)=1,WEEKNUM(T3,2),\"\")","v":""},{"$f":"WEEKDAY(X3,1)","v":"1900-01-02"},{"$f":"DATE(Indstil!$B$5,6,1)","v":"2020-06-01"},{"$f":"IFERROR(HelligdagsNavn(X3,0,0),\"\")","v":"2. Pinsedag"},{"$f":"IF(WEEKDAY(X3,2)=1,WEEKNUM(X3,2),\"\")","v":23}]
[null,null,{"$f":"WEEKDAY(D4,1)","v":"1900-01-05"},{"$f":"D3+1","v":"2020-01-02"},{"$f":"IFERROR(HelligdagsNavn(D4,0,0),\"\")","v":""},{"$f":"IF(WEEKDAY(D4,2)=1,WEEKNUM(D4,2),\"\")","v":""},"1900-01-01",{"$f":"H3+1","v":"2020-02-02"},{"$f":"IFERROR(HelligdagsNavn(H4,0,0),\"\")","v":"Kyndelmisse"},"","1900-01-02",{"$f":"L3+1","v":"2020-03-02"},{"$f":"IFERROR(HelligdagsNavn(L4,0,0),\"\")","v":""},10,"1900-01-05",{"$f":"P3+1","v":"2020-04-02"},{"$f":"IFERROR(HelligdagsNavn(P4,0,0),\"\")","v":""},"","1900-01-07",{"$f":"T3+1","v":"2020-05-02"},{"$f":"IFERROR(HelligdagsNavn(T4,0,0),\"\")","v":""},"","1900-01-03",{"$f":"X3+1","v":"2020-06-02"},{"$f":"IFERROR(HelligdagsNavn(X4,0,0),\"\")","v":"3. Pinsedag"},""]
[null,null,"1900-01-06",{"$f":"D4+1","v":"2020-01-03"},{"$f":"IFERROR(HelligdagsNavn(D5,0,0),\"\")","v":""},"","1900-01-02","2020-02-03",{"$f":"IFERROR(HelligdagsNavn(H5,0,0),\"\")","v":""},6,"1900-01-03","2020-03-03",{"$f":"IFERROR(HelligdagsNavn(L5,0,0),\"\")","v":""},"","1900-01-06","2020-04-03",{"$f":"IFERROR(HelligdagsNavn(P5,0,0),\"\")","v":""},"","1900-01-01","2020-05-03",{"$f":"IFERROR(HelligdagsNavn(T5,0,0),\"\")","v":""},"","1900-01-04","2020-06-03",{"$f":"IFERROR(HelligdagsNavn(X5,0,0),\"\")","v":""},""]
[null,null,"1900-01-03","2020-01-04",{"$f":"IFERROR(HelligdagsNavn(D6,0,0),\"\")","v":""},"","1900-01-03","2020-02-04",{"$f":"IFERROR(HelligdagsNavn(H6,0,0),\"\")","v":""},"","1900-01-04","2020-03-04",{"$f":"IFERROR(HelligdagsNavn(L6,0,0),\"\")","v":""},"","1900-01-07","2020-04-04",{"$f":"IFERROR(HelligdagsNavn(P6,0,0),\"\")","v":""},"","1900-01-02","2020-05-04",{"$f":"IFERROR(HelligdagsNavn(T6,0,0),\"\")","v":""},19,"1900-01-05","2020-06-04",{"$f":"IFERROR(HelligdagsNavn(X6,0,0),\"\")","v":""},""]
[null,null,"1900-01-01","2020-01-05",{"$f":"IFERROR(HelligdagsNavn(D7,0,0),\"\")","v":"Helligtrekongersaften"},"","1900-01-04","2020-02-05",{"$f":"IFERROR(HelligdagsNavn(H7,0,0),\"\")","v":""},"","1900-01-05","2020-03-05",{"$f":"IFERROR(HelligdagsNavn(L7,0,0),\"\")","v":""},"","1900-01-01","2020-04-05",{"$f":"IFERROR(HelligdagsNavn(P7,0,0),\"\")","v":"Palmesøndag"},"","1900-01-03","2020-05-05",{"$f":"IFERROR(HelligdagsNavn(T7,0,0),\"\")","v":"Danmarks Befrielse"},"","1900-01-06","2020-06-05",{"$f":"IFERROR(HelligdagsNavn(X7,0,0),\"\")","v":"Grundlovsdag"},""]
[null,null,"1900-01-02","2020-01-06",{"$f":"IFERROR(HelligdagsNavn(D8,0,0),\"\")","v":"Helligtrekongersdag"},2,"1900-01-05","2020-02-06",{"$f":"IFERROR(HelligdagsNavn(H8,0,0),\"\")","v":""},"","1900-01-06","2020-03-06",{"$f":"IFERROR(HelligdagsNavn(L8,0,0),\"\")","v":""},"","1900-01-02","2020-04-06",{"$f":"IFERROR(HelligdagsNavn(P8,0,0),\"\")","v":""},15,"1900-01-04","2020-05-06",{"$f":"IFERROR(HelligdagsNavn(T8,0,0),\"\")","v":""},"","1900-01-07","2020-06-06",{"$f":"IFERROR(HelligdagsNavn(X8,0,0),\"\")","v":""},""]
[null,null,"1900-01-03","2020-01-07",{"$f":"IFERROR(HelligdagsNavn(D9,0,0),\"\")","v":""},"","1900-01-06","2020-02-07",{"$f":"IFERROR(HelligdagsNavn(H9,0,0),\"\")","v":""},"","1900-01-07","2020-03-07",{"$f":"IFERROR(HelligdagsNavn(L9,0,0),\"\")","v":""},"","1900-01-03","2020-04-07",{"$f":"IFERROR(HelligdagsNavn(P9,0,0),\"\")","v":""},"","1900-01-05","2020-05-07",{"$f":"IFERROR(HelligdagsNavn(T9,0,0),\"\")","v":""},"","1900-01-01","2020-06-07",{"$f":"IFERROR(HelligdagsNavn(X9,0,0),\"\")","v":""},""]
[null,null,"1900-01-04","2020-01-08",{"$f":"IFERROR(HelligdagsNavn(D10,0,0),\"\")","v":""},"","1900-01-07","2020-02-08",{"$f":"IFERROR(HelligdagsNavn(H10,0,0),\"\")","v":""},"","1900-01-01","2020-03-08",{"$f":"IFERROR(HelligdagsNavn(L10,0,0),\"\")","v":""},"","1900-01-04","2020-04-08",{"$f":"IFERROR(HelligdagsNavn(P10,0,0),\"\")","v":""},"","1900-01-06","2020-05-08",{"$f":"IFERROR(HelligdagsNavn(T10,0,0),\"\")","v":"Store Bededag"},"","1900-01-02","2020-06-08",{"$f":"IFERROR(HelligdagsNavn(X10,0,0),\"\")","v":""},24]
[null,null,"1900-01-05","2020-01-09",{"$f":"IFERROR(HelligdagsNavn(D11,0,0),\"\")","v":""},"","1900-01-01","2020-02-09",{"$f":"IFERROR(HelligdagsNavn(H11,0,0),\"\")","v":""},"","1900-01-02","2020-03-09",{"$f":"IFERROR(HelligdagsNavn(L11,0,0),\"\")","v":""},11,"1900-01-05","2020-04-09",{"$f":"IFERROR(HelligdagsNavn(P11,0,0),\"\")","v":"Danmarks Besættelse"},"","1900-01-07","2020-05-09",{"$f":"IFERROR(HelligdagsNavn(T11,0,0),\"\")","v":""},"","1900-01-03","2020-06-09",{"$f":"IFERROR(HelligdagsNavn(X11,0,0),\"\")","v":""},""]
[null,null,"1900-01-06","2020-01-10",{"$f":"IFERROR(HelligdagsNavn(D12,0,0),\"\")","v":""},"","1900-01-02","2020-02-10",{"$f":"IFERROR(HelligdagsNavn(H12,0,0),\"\")","v":""},7,"1900-01-03","2020-03-10",{"$f":"IFERROR(HelligdagsNavn(L12,0,0),\"\")","v":""},"","1900-01-06","2020-04-10",{"$f":"IFERROR(HelligdagsNavn(P12,0,0),\"\")","v":"Langfredag"},"","1900-01-01","2020-05-10",{"$f":"IFERROR(HelligdagsNavn(T12,0,0),\"\")","v":"Mors Dag"},"","1900-01-04","2020-06-10",{"$f":"IFERROR(HelligdagsNavn(X12,0,0),\"\")","v":""},""]
[null,null,"1900-01-07","2020-01-11",{"$f":"IFERROR(HelligdagsNavn(D13,0,0),\"\")","v":""},"","1900-01-03","2020-02-11",{"$f":"IFERROR(HelligdagsNavn(H13,0,0),\"\")","v":""},"","1900-01-04","2020-03-11",{"$f":"IFERROR(HelligdagsNavn(L13,0,0),\"\")","v":""},"","1900-01-07","2020-04-11",{"$f":"IFERROR(HelligdagsNavn(P13,0,0),\"\")","v":""},"","1900-01-02","2020-05-11",{"$f":"IFERROR(HelligdagsNavn(T13,0,0),\"\")","v":""},20,"1900-01-05","2020-06-11",{"$f":"IFERROR(HelligdagsNavn(X13,0,0),\"\")","v":""},""]
[null,null,"1900-01-01","2020-01-12",{"$f":"IFERROR(HelligdagsNavn(D14,0,0),\"\")","v":""},"","1900-01-04","2020-02-12",{"$f":"IFERROR(HelligdagsNavn(H14,0,0),\"\")","v":""},"","1900-01-05","2020-03-12",{"$f":"IFERROR(HelligdagsNavn(L14,0,0),\"\")","v":""},"","1900-01-01","2020-04-12",{"$f":"IFERROR(HelligdagsNavn(P14,0,0),\"\")","v":"Påskedag"},"","1900-01-03","2020-05-12",{"$f":"IFERROR(HelligdagsNavn(T14,0,0),\"\")","v":""},"","1900-01-06","2020-06-12",{"$f":"IFERROR(HelligdagsNavn(X14,0,0),\"\")","v":""},""]
[null,null,"1900-01-02","2020-01-13",{"$f":"IFERROR(HelligdagsNavn(D15,0,0),\"\")","v":""},3,"1900-01-05","2020-02-13",{"$f":"IFERROR(HelligdagsNavn(H15,0,0),\"\")","v":""},"","1900-01-06","2020-03-13",{"$f":"IFERROR(HelligdagsNavn(L15,0,0),\"\")","v":""},"","1900-01-02","2020-04-13",{"$f":"IFERROR(HelligdagsNavn(P15,0,0),\"\")","v":"2. Påskedag"},16,"1900-01-04","2020-05-13",{"$f":"IFERROR(HelligdagsNavn(T15,0,0),\"\")","v":""},"","1900-01-07","2020-06-13",{"$f":"IFERROR(HelligdagsNavn(X15,0,0),\"\")","v":""},""]
[null,null,"1900-01-03","2020-01-14",{"$f":"IFERROR(HelligdagsNavn(D16,0,0),\"\")","v":""},"","1900-01-06","2020-02-14",{"$f":"IFERROR(HelligdagsNavn(H16,0,0),\"\")","v":"Valentinsdag"},"","1900-01-07","2020-03-14",{"$f":"IFERROR(HelligdagsNavn(L16,0,0),\"\")","v":""},"","1900-01-03","2020-04-14",{"$f":"IFERROR(HelligdagsNavn(P16,0,0),\"\")","v":"3. Påskedag"},"","1900-01-05","2020-05-14",{"$f":"IFERROR(HelligdagsNavn(T16,0,0),\"\")","v":""},"","1900-01-01","2020-06-14",{"$f":"IFERROR(HelligdagsNavn(X16,0,0),\"\")","v":""},""]
[null,null,"1900-01-04","2020-01-15",{"$f":"IFERROR(HelligdagsNavn(D17,0,0),\"\")","v":""},"","1900-01-07","2020-02-15",{"$f":"IFERROR(HelligdagsNavn(H17,0,0),\"\")","v":""},"","1900-01-01","2020-03-15",{"$f":"IFERROR(HelligdagsNavn(L17,0,0),\"\")","v":""},"","1900-01-04","2020-04-15",{"$f":"IFERROR(HelligdagsNavn(P17,0,0),\"\")","v":""},"","1900-01-06","2020-05-15",{"$f":"IFERROR(HelligdagsNavn(T17,0,0),\"\")","v":""},"","1900-01-02","2020-06-15",{"$f":"IFERROR(HelligdagsNavn(X17,0,0),\"\")","v":"Valdemarsdag"},25]
[null,null,"1900-01-05","2020-01-16",{"$f":"IFERROR(HelligdagsNavn(D18,0,0),\"\")","v":""},"","1900-01-01","2020-02-16",{"$f":"IFERROR(HelligdagsNavn(H18,0,0),\"\")","v":""},"","1900-01-02","2020-03-16",{"$f":"IFERROR(HelligdagsNavn(L18,0,0),\"\")","v":""},12,"1900-01-05","2020-04-16",{"$f":"IFERROR(HelligdagsNavn(P18,0,0),\"\")","v":""},"","1900-01-07","2020-05-16",{"$f":"IFERROR(HelligdagsNavn(T18,0,0),\"\")","v":""},"","1900-01-03","2020-06-16",{"$f":"IFERROR(HelligdagsNavn(X18,0,0),\"\")","v":""},""]
[null,null,"1900-01-06","2020-01-17",{"$f":"IFERROR(HelligdagsNavn(D19,0,0),\"\")","v":""},"","1900-01-02","2020-02-17",{"$f":"IFERROR(HelligdagsNavn(H19,0,0),\"\")","v":""},8,"1900-01-03","2020-03-17",{"$f":"IFERROR(HelligdagsNavn(L19,0,0),\"\")","v":""},"","1900-01-06","2020-04-17",{"$f":"IFERROR(HelligdagsNavn(P19,0,0),\"\")","v":""},"","1900-01-01","2020-05-17",{"$f":"IFERROR(HelligdagsNavn(T19,0,0),\"\")","v":""},"","1900-01-04","2020-06-17",{"$f":"IFERROR(HelligdagsNavn(X19,0,0),\"\")","v":""},""]
[null,null,"1900-01-07","2020-01-18",{"$f":"IFERROR(HelligdagsNavn(D20,0,0),\"\")","v":""},"","1900-01-03","2020-02-18",{"$f":"IFERROR(HelligdagsNavn(H20,0,0),\"\")","v":""},"","1900-01-04","2020-03-18",{"$f":"IFERROR(HelligdagsNavn(L20,0,0),\"\")","v":""},"","1900-01-07","2020-04-18",{"$f":"IFERROR(HelligdagsNavn(P20,0,0),\"\")","v":""},"","1900-01-02","2020-05-18",{"$f":"IFERROR(HelligdagsNavn(T20,0,0),\"\")","v":""},21,"1900-01-05","2020-06-18",{"$f":"IFERROR(HelligdagsNavn(X20,0,0),\"\")","v":""},""]
[null,null,"1900-01-01","2020-01-19",{"$f":"IFERROR(HelligdagsNavn(D21,0,0),\"\")","v":""},"","1900-01-04","2020-02-19",{"$f":"IFERROR(HelligdagsNavn(H21,0,0),\"\")","v":""},"","1900-01-05","2020-03-19",{"$f":"IFERROR(HelligdagsNavn(L21,0,0),\"\")","v":""},"","1900-01-01","2020-04-19",{"$f":"IFERROR(HelligdagsNavn(P21,0,0),\"\")","v":""},"","1900-01-03","2020-05-19",{"$f":"IFERROR(HelligdagsNavn(T21,0,0),\"\")","v":""},"","1900-01-06","2020-06-19",{"$f":"IFERROR(HelligdagsNavn(X21,0,0),\"\")","v":""},""]
[null,null,"1900-01-02","2020-01-20",{"$f":"IFERROR(HelligdagsNavn(D22,0,0),\"\")","v":""},4,"1900-01-05","2020-02-20",{"$f":"IFERROR(HelligdagsNavn(H22,0,0),\"\")","v":""},"","1900-01-06","2020-03-20",{"$f":"IFERROR(HelligdagsNavn(L22,0,0),\"\")","v":""},"","1900-01-02","2020-04-20",{"$f":"IFERROR(HelligdagsNavn(P22,0,0),\"\")","v":""},17,"1900-01-04","2020-05-20",{"$f":"IFERROR(HelligdagsNavn(T22,0,0),\"\")","v":""},"","1900-01-07","2020-06-20",{"$f":"IFERROR(HelligdagsNavn(X22,0,0),\"\")","v":""},""]
[null,null,"1900-01-03","2020-01-21",{"$f":"IFERROR(HelligdagsNavn(D23,0,0),\"\")","v":""},"","1900-01-06","2020-02-21",{"$f":"IFERROR(HelligdagsNavn(H23,0,0),\"\")","v":""},"","1900-01-07","2020-03-21",{"$f":"IFERROR(HelligdagsNavn(L23,0,0),\"\")","v":""},"","1900-01-03","2020-04-21",{"$f":"IFERROR(HelligdagsNavn(P23,0,0),\"\")","v":""},"","1900-01-05","2020-05-21",{"$f":"IFERROR(HelligdagsNavn(T23,0,0),\"\")","v":"Kristi Himmelfartsdag"},"","1900-01-01","2020-06-21",{"$f":"IFERROR(HelligdagsNavn(X23,0,0),\"\")","v":""},""]
[null,null,"1900-01-04","2020-01-22",{"$f":"IFERROR(HelligdagsNavn(D24,0,0),\"\")","v":""},"","1900-01-07","2020-02-22",{"$f":"IFERROR(HelligdagsNavn(H24,0,0),\"\")","v":""},"","1900-01-01","2020-03-22",{"$f":"IFERROR(HelligdagsNavn(L24,0,0),\"\")","v":""},"","1900-01-04","2020-04-22",{"$f":"IFERROR(HelligdagsNavn(P24,0,0),\"\")","v":""},"","1900-01-06","2020-05-22",{"$f":"IFERROR(HelligdagsNavn(T24,0,0),\"\")","v":""},"","1900-01-02","2020-06-22",{"$f":"IFERROR(HelligdagsNavn(X24,0,0),\"\")","v":""},26]
[null,null,"1900-01-05","2020-01-23",{"$f":"IFERROR(HelligdagsNavn(D25,0,0),\"\")","v":""},"","1900-01-01","2020-02-23",{"$f":"IFERROR(HelligdagsNavn(H25,0,0),\"\")","v":"Fastelavn"},"","1900-01-02","2020-03-23",{"$f":"IFERROR(HelligdagsNavn(L25,0,0),\"\")","v":""},13,"1900-01-05","2020-04-23",{"$f":"IFERROR(HelligdagsNavn(P25,0,0),\"\")","v":""},"","1900-01-07","2020-05-23",{"$f":"IFERROR(HelligdagsNavn(T25,0,0),\"\")","v":""},"","1900-01-03","2020-06-23",{"$f":"IFERROR(HelligdagsNavn(X25,0,0),\"\")","v":"Sankt Hansaften"},""]
[null,null,"1900-01-06","2020-01-24",{"$f":"IFERROR(HelligdagsNavn(D26,0,0),\"\")","v":""},"","1900-01-02","2020-02-24",{"$f":"IFERROR(HelligdagsNavn(H26,0,0),\"\")","v":""},9,"1900-01-03","2020-03-24",{"$f":"IFERROR(HelligdagsNavn(L26,0,0),\"\")","v":""},"","1900-01-06","2020-04-24",{"$f":"IFERROR(HelligdagsNavn(P26,0,0),\"\")","v":""},"","1900-01-01","2020-05-24",{"$f":"IFERROR(HelligdagsNavn(T26,0,0),\"\")","v":""},"","1900-01-04","2020-06-24",{"$f":"IFERROR(HelligdagsNavn(X26,0,0),\"\")","v":"Sankt Hansdag"},""]
[null,null,"1900-01-07","2020-01-25",{"$f":"IFERROR(HelligdagsNavn(D27,0,0),\"\")","v":""},"","1900-01-03","2020-02-25",{"$f":"IFERROR(HelligdagsNavn(H27,0,0),\"\")","v":""},"","1900-01-04","2020-03-25",{"$f":"IFERROR(HelligdagsNavn(L27,0,0),\"\")","v":"Maria Bebudelsesdag"},"","1900-01-07","2020-04-25",{"$f":"IFERROR(HelligdagsNavn(P27,0,0),\"\")","v":""},"","1900-01-02","2020-05-25",{"$f":"IFERROR(HelligdagsNavn(T27,0,0),\"\")","v":""},22,"1900-01-05","2020-06-25",{"$f":"IFERROR(HelligdagsNavn(X27,0,0),\"\")","v":""},""]
[null,null,"1900-01-01","2020-01-26",{"$f":"IFERROR(HelligdagsNavn(D28,0,0),\"\")","v":""},"","1900-01-04","2020-02-26",{"$f":"IFERROR(HelligdagsNavn(H28,0,0),\"\")","v":""},"","1900-01-05","2020-03-26",{"$f":"IFERROR(HelligdagsNavn(L28,0,0),\"\")","v":""},"","1900-01-01","2020-04-26",{"$f":"IFERROR(HelligdagsNavn(P28,0,0),\"\")","v":""},"","1900-01-03","2020-05-26",{"$f":"IFERROR(HelligdagsNavn(T28,0,0),\"\")","v":""},"","1900-01-06","2020-06-26",{"$f":"IFERROR(HelligdagsNavn(X28,0,0),\"\")","v":""},""]
[null,null,"1900-01-02","2020-01-27",{"$f":"IFERROR(HelligdagsNavn(D29,0,0),\"\")","v":""},5,"1900-01-05","2020-02-27",{"$f":"IFERROR(HelligdagsNavn(H29,0,0),\"\")","v":""},"","1900-01-06","2020-03-27",{"$f":"IFERROR(HelligdagsNavn(L29,0,0),\"\")","v":""},"","1900-01-02","2020-04-27",{"$f":"IFERROR(HelligdagsNavn(P29,0,0),\"\")","v":""},18,"1900-01-04","2020-05-27",{"$f":"IFERROR(HelligdagsNavn(T29,0,0),\"\")","v":""},"","1900-01-07","2020-06-27",{"$f":"IFERROR(HelligdagsNavn(X29,0,0),\"\")","v":""},""]
[null,null,"1900-01-03","2020-01-28",{"$f":"IFERROR(HelligdagsNavn(D30,0,0),\"\")","v":""},"","1900-01-06","2020-02-28",{"$f":"IFERROR(HelligdagsNavn(H30,0,0),\"\")","v":""},"","1900-01-07","2020-03-28",{"$f":"IFERROR(HelligdagsNavn(L30,0,0),\"\")","v":""},"","1900-01-03","2020-04-28",{"$f":"IFERROR(HelligdagsNavn(P30,0,0),\"\")","v":""},"","1900-01-05","2020-05-28",{"$f":"IFERROR(HelligdagsNavn(T30,0,0),\"\")","v":""},"","1900-01-01","2020-06-28",{"$f":"IFERROR(HelligdagsNavn(X30,0,0),\"\")","v":""},""]
[null,null,"1900-01-04","2020-01-29",{"$f":"IFERROR(HelligdagsNavn(D31,0,0),\"\")","v":""},"",{"$f":"IFERROR(WEEKDAY(H31,1),\"\")","v":"1900-01-07"},{"$f":"IF(MONTH(H30+1)>MONTH(H30),\"\",H30+1)","v":"2020-02-29"},{"$f":"IFERROR(HelligdagsNavn(H31,0,0),\"\")","v":""},{"$f":"IFERROR(IF(WEEKDAY(H31,2)=1,WEEKNUM(H31,2),\"\"),\"\")","v":""},"1900-01-01","2020-03-29",{"$f":"IFERROR(HelligdagsNavn(L31,0,0),\"\")","v":"Sommertid kl. 02 til 03"},"","1900-01-04","2020-04-29",{"$f":"IFERROR(HelligdagsNavn(P31,0,0),\"\")","v":""},"","1900-01-06","2020-05-29",{"$f":"IFERROR(HelligdagsNavn(T31,0,0),\"\")","v":""},"","1900-01-02","2020-06-29",{"$f":"IFERROR(HelligdagsNavn(X31,0,0),\"\")","v":""},27]
[null,null,"1900-01-05","2020-01-30",{"$f":"IFERROR(HelligdagsNavn(D32,0,0),\"\")","v":""},"",null,null,null,null,"1900-01-02","2020-03-30",{"$f":"IFERROR(HelligdagsNavn(L32,0,0),\"\")","v":""},14,"1900-01-05","2020-04-30",{"$f":"IFERROR(HelligdagsNavn(P32,0,0),\"\")","v":""},"","1900-01-07","2020-05-30",{"$f":"IFERROR(HelligdagsNavn(T32,0,0),\"\")","v":""},"","1900-01-03","2020-06-30",{"$f":"IFERROR(HelligdagsNavn(X32,0,0),\"\")","v":""},""]
[null,null,"1900-01-06","2020-01-31",{"$f":"IFERROR(HelligdagsNavn(D33,0,0),\"\")","v":""},"",null,null,null,null,"1900-01-03","2020-03-31",{"$f":"IFERROR(HelligdagsNavn(L33,0,0),\"\")","v":""},"",null,null,null,null,"1900-01-01","2020-05-31",{"$f":"IFERROR(HelligdagsNavn(T33,0,0),\"\")","v":"Pinsedag"},"",null,null,null,""]

{"sheet":"2. halvår","index":1,"n_rows":33,"n_cols":26,"rows_kept":33,"cut":false,"hidden":false,"merged":[[0,11,0,16],[0,24,0,25],[1,19,1,21],[1,23,1,25],[1,3,1,5],[1,7,1,9],[1,11,1,13],[1,15,1,17]]}
[null,null,null,null,null,null,null,null,null,null,null,{"$f":"IF(Indstil!B5=\"\",\"Tast et årstal\",Indstil!B5)","v":"2020"},null,null,null,null,null,null,null,null,null,null,null,null,"2. Halvår"]
[null,null,null,{"$f":"\"Juli \"&Indstil!$B$5","v":"Juli 2020"},null,null,null,{"$f":"\"August \"&Indstil!$B$5","v":"August 2020"},null,null,null,{"$f":"\"September \"&Indstil!$B$5","v":"September 2020"},null,null,null,{"$f":"\"Oktober \"&Indstil!$B$5","v":"Oktober 2020"},null,null,null,{"$f":"\"November \"&Indstil!$B$5","v":"November 2020"},null,null,null,{"$f":"\"December \"&Indstil!$B$5","v":"December 2020"}]
[null,null,{"$f":"WEEKDAY(D3,1)","v":"1900-01-04"},{"$f":"DATE(Indstil!$B$5,7,1)","v":"2020-07-01"},{"$f":"IFERROR(HelligdagsNavn(D3,0,0),\"\")","v":""},{"$f":"IF(WEEKDAY(D3,2)=1,WEEKNUM(D3,2),\"\")","v":""},{"$f":"WEEKDAY(H3,1)","v":"1900-01-07"},{"$f":"DATE(Indstil!$B$5,8,1)","v":"2020-08-01"},{"$f":"IFERROR(HelligdagsNavn(H3,0,0),\"\")","v":""},{"$f":"IF(WEEKDAY(H3,2)=1,WEEKNUM(H3,2),\"\")","v":""},{"$f":"WEEKDAY(L3,1)","v":"1900-01-03"},{"$f":"DATE(Indstil!$B$5,9,1)","v":"2020-09-01"},{"$f":"IFERROR(HelligdagsNavn(L3,0,0),\"\")","v":""},{"$f":"IF(WEEKDAY(L3,2)=1,WEEKNUM(L3,2),\"\")","v":""},{"$f":"WEEKDAY(P3,1)","v":"1900-01-05"},{"$f":"DATE(Indstil!$B$5,10,1)","v":"2020-10-01"},{"$f":"IFERROR(HelligdagsNavn(P3,0,0),\"\")","v":""},{"$f":"IF(WEEKDAY(P3,2)=1,WEEKNUM(P3,2),\"\")","v":""},{"$f":"WEEKDAY(T3,1)","v":"1900-01-01"},{"$f":"DATE(Indstil!$B$5,11,1)","v":"2020-11-01"},{"$f":"IFERROR(HelligdagsNavn(T3,0,0),\"\")","v":"Allehelgensdag"},{"$f":"IF(WEEKDAY(T3,2)=1,WEEKNUM(T3,2),\"\")","v":""},{"$f":"WEEKDAY(X3,1)","v":"1900-01-03"},{"$f":"DATE(Indstil!$B$5,12,1)","v":"2020-12-01"},{"$f":"IFERROR(HelligdagsNavn(X3,0,0),\"\")","v":""},{"$f":"IF(WEEKDAY(X3,2)=1,WEEKNUM(X3,2),\"\")","v":""}]
[null,null,{"$f":"WEEKDAY(D4,1)","v":"1900-01-05"},{"$f":"D3+1","v":"2020-07-02"},{"$f":"IFERROR(HelligdagsNavn(D4,0,0),\"\")","v":"Maria Besøgelsesdag"},{"$f":"IF(WEEKDAY(D4,2)=1,WEEKNUM(D4,2),\"\")","v":""},"1900-01-01",{"$f":"H3+1","v":"2020-08-02"},{"$f":"IFERROR(HelligdagsNavn(H4,0,0),\"\")","v":""},"","1900-01-04",{"$f":"L3+1","v":"2020-09-02"},{"$f":"IFERROR(HelligdagsNavn(L4,0,0),\"\")","v":""},"","1900-01-06",{"$f":"P3+1","v":"2020-10-02"},{"$f":"IFERROR(HelligdagsNavn(P4,0,0),\"\")","v":""},"","1900-01-02",{"$f":"T3+1","v":"2020-11-02"},{"$f":"IFERROR(HelligdagsNavn(T4,0,0),\"\")","v":"Allesjælesdag"},45,"1900-01-04",{"$f":"X3+1","v":"2020-12-02"},{"$f":"IFERROR(HelligdagsNavn(X4,0,0),\"\")","v":""},""]
[null,null,"1900-01-06",{"$f":"D4+1","v":"2020-07-03"},{"$f":"IFERROR(HelligdagsNavn(D5,0,0),\"\")","v":""},"","1900-01-02","2020-08-03",{"$f":"IFERROR(HelligdagsNavn(H5,0,0),\"\")","v":""},32,"1900-01-05","2020-09-03",{"$f":"IFERROR(HelligdagsNavn(L5,0,0),\"\")","v":""},"","1900-01-07","2020-10-03",{"$f":"IFERROR(HelligdagsNavn(P5,0,0),\"\")","v":""},"","1900-01-03","2020-11-03",{"$f":"IFERROR(HelligdagsNavn(T5,0,0),\"\")","v":""},"","1900-01-05","2020-12-03",{"$f":"IFERROR(HelligdagsNavn(X5,0,0),\"\")","v":""},""]
[null,null,"1900-01-07","2020-07-04",{"$f":"IFERROR(HelligdagsNavn(D6,0,0),\"\")","v":""},"","1900-01-03","2020-08-04",{"$f":"IFERROR(HelligdagsNavn(H6,0,0),\"\")","v":""},"","1900-01-06","2020-09-04",{"$f":"IFERROR(HelligdagsNavn(L6,0,0),\"\")","v":""},"","1900-01-01","2020-10-04",{"$f":"IFERROR(HelligdagsNavn(P6,0,0),\"\")","v":""},"","1900-01-04","2020-11-04",{"$f":"IFERROR(HelligdagsNavn(T6,0,0),\"\")","v":""},"","1900-01-06","2020-12-04",{"$f":"IFERROR(HelligdagsNavn(X6,0,0),\"\")","v":""},""]
[null,null,"1900-01-01","2020-07-05",{"$f":"IFERROR(HelligdagsNavn(D7,0,0),\"\")","v":""},"","1900-01-04","2020-08-05",{"$f":"IFERROR(HelligdagsNavn(H7,0,0),\"\")","v":""},"","1900-01-07","2020-09-05",{"$f":"IFERROR(HelligdagsNavn(L7,0,0),\"\")","v":""},"","1900-01-02","2020-10-05",{"$f":"IFERROR(HelligdagsNavn(P7,0,0),\"\")","v":""},41,"1900-01-05","2020-11-05",{"$f":"IFERROR(HelligdagsNavn(T7,0,0),\"\")","v":""},"","1900-01-07","2020-12-05",{"$f":"IFERROR(HelligdagsNavn(X7,0,0),\"\")","v":""},""]
[null,null,"1900-01-02","2020-07-06",{"$f":"IFERROR(HelligdagsNavn(D8,0,0),\"\")","v":""},28,"1900-01-05","2020-08-06",{"$f":"IFERROR(HelligdagsNavn(H8,0,0),\"\")","v":""},"","1900-01-01","2020-09-06",{"$f":"IFERROR(HelligdagsNavn(L8,0,0),\"\")","v":""},"","1900-01-03","2020-10-06",{"$f":"IFERROR(HelligdagsNavn(P8,0,0),\"\")","v":""},"","1900-01-06","2020-11-06",{"$f":"IFERROR(HelligdagsNavn(T8,0,0),\"\")","v":""},"","1900-01-01","2020-12-06",{"$f":"IFERROR(HelligdagsNavn(X8,0,0),\"\")","v":"2. Advent"},""]
[null,null,"1900-01-03","2020-07-07",{"$f":"IFERROR(HelligdagsNavn(D9,0,0),\"\")","v":""},"","1900-01-06","2020-08-07",{"$f":"IFERROR(HelligdagsNavn(H9,0,0),\"\")","v":""},"","1900-01-02","2020-09-07",{"$f":"IFERROR(HelligdagsNavn(L9,0,0),\"\")","v":""},37,"1900-01-04","2020-10-07",{"$f":"IFERROR(HelligdagsNavn(P9,0,0),\"\")","v":""},"","1900-01-07","2020-11-07",{"$f":"IFERROR(HelligdagsNavn(T9,0,0),\"\")","v":""},"","1900-01-02","2020-12-07",{"$f":"IFERROR(HelligdagsNavn(X9,0,0),\"\")","v":""},50]
[null,null,"1900-01-04","2020-07-08",{"$f":"IFERROR(HelligdagsNavn(D10,0,0),\"\")","v":""},"","1900-01-07","2020-08-08",{"$f":"IFERROR(HelligdagsNavn(H10,0,0),\"\")","v":""},"","1900-01-03","2020-09-08",{"$f":"IFERROR(HelligdagsNavn(L10,0,0),\"\")","v":""},"","1900-01-05","2020-10-08",{"$f":"IFERROR(HelligdagsNavn(P10,0,0),\"\")","v":""},"","1900-01-01","2020-11-08",{"$f":"IFERROR(HelligdagsNavn(T10,0,0),\"\")","v":""},"","1900-01-03","2020-12-08",{"$f":"IFERROR(HelligdagsNavn(X10,0,0),\"\")","v":""},""]
[null,null,"1900-01-05","2020-07-09",{"$f":"IFERROR(HelligdagsNavn(D11,0,0),\"\")","v":""},"","1900-01-01","2020-08-09",{"$f":"IFERROR(HelligdagsNavn(H11,0,0),\"\")","v":""},"","1900-01-04","2020-09-09",{"$f":"IFERROR(HelligdagsNavn(L11,0,0),\"\")","v":""},"","1900-01-06","2020-10-09",{"$f":"IFERROR(HelligdagsNavn(P11,0,0),\"\")","v":""},"","1900-01-02","2020-11-09",{"$f":"IFERROR(HelligdagsNavn(T11,0,0),\"\")","v":""},46,"1900-01-04","2020-12-09",{"$f":"IFERROR(HelligdagsNavn(X11,0,0),\"\")","v":""},""]
[null,null,"1900-01-06","2020-07-10",{"$f":"IFERROR(HelligdagsNavn(D12,0,0),\"\")","v":""},"","1900-01-02","2020-08-10",{"$f":"IFERROR(HelligdagsNavn(H12,0,0),\"\")","v":""},33,"1900-01-05","2020-09-10",{"$f":"IFERROR(HelligdagsNavn(L12,0,0),\"\")","v":""},"","1900-01-07","2020-10-10",{"$f":"IFERROR(HelligdagsNavn(P12,0,0),\"\")","v":""},"","1900-01-03","2020-11-10",{"$f":"IFERROR(HelligdagsNavn(T12,0,0),\"\")","v":"Mortensaften"},"","1900-01-05","2020-12-10",{"$f":"IFERROR(HelligdagsNavn(X12,0,0),\"\")","v":""},""]
[null,null,"1900-01-07","2020-07-11",{"$f":"IFERROR(HelligdagsNavn(D13,0,0),\"\")","v":""},"","1900-01-03","2020-08-11",{"$f":"IFERROR(HelligdagsNavn(H13,0,0),\"\")","v":""},"","1900-01-06","2020-09-11",{"$f":"IFERROR(HelligdagsNavn(L13,0,0),\"\")","v":""},"","1900-01-01","2020-10-11",{"$f":"IFERROR(HelligdagsNavn(P13,0,0),\"\")","v":""},"","1900-01-04","2020-11-11",{"$f":"IFERROR(HelligdagsNavn(T13,0,0),\"\")","v":"Mortensdag"},"","1900-01-06","2020-12-11",{"$f":"IFERROR(HelligdagsNavn(X13,0,0),\"\")","v":""},""]
[null,null,"1900-01-01","2020-07-12",{"$f":"IFERROR(HelligdagsNavn(D14,0,0),\"\")","v":""},"","1900-01-04","2020-08-12",{"$f":"IFERROR(HelligdagsNavn(H14,0,0),\"\")","v":""},"","1900-01-07","2020-09-12",{"$f":"IFERROR(HelligdagsNavn(L14,0,0),\"\")","v":""},"","1900-01-02","2020-10-12",{"$f":"IFERROR(HelligdagsNavn(P14,0,0),\"\")","v":""},42,"1900-01-05","2020-11-12",{"$f":"IFERROR(HelligdagsNavn(T14,0,0),\"\")","v":""},"","1900-01-07","2020-12-12",{"$f":"IFERROR(HelligdagsNavn(X14,0,0),\"\")","v":""},""]
[null,null,"1900-01-02","2020-07-13",{"$f":"IFERROR(HelligdagsNavn(D15,0,0),\"\")","v":""},29,"1900-01-05","2020-08-13",{"$f":"IFERROR(HelligdagsNavn(H15,0,0),\"\")","v":""},"","1900-01-01","2020-09-13",{"$f":"IFERROR(HelligdagsNavn(L15,0,0),\"\")","v":""},"","1900-01-03","2020-10-13",{"$f":"IFERROR(HelligdagsNavn(P15,0,0),\"\")","v":""},"","1900-01-06","2020-11-13",{"$f":"IFERROR(HelligdagsNavn(T15,0,0),\"\")","v":""},"","1900-01-01","2020-12-13",{"$f":"IFERROR(HelligdagsNavn(X15,0,0),\"\")","v":"Sankta Luciadag"},""]
[null,null,"1900-01-03","2020-07-14",{"$f":"IFERROR(HelligdagsNavn(D16,0,0),\"\")","v":""},"","1900-01-06","2020-08-14",{"$f":"IFERROR(HelligdagsNavn(H16,0,0),\"\")","v":""},"","1900-01-02","2020-09-14",{"$f":"IFERROR(HelligdagsNavn(L16,0,0),\"\")","v":""},38,"1900-01-04","2020-10-14",{"$f":"IFERROR(HelligdagsNavn(P16,0,0),\"\")","v":""},"","1900-01-07","2020-11-14",{"$f":"IFERROR(HelligdagsNavn(T16,0,0),\"\")","v":""},"","1900-01-02","2020-12-14",{"$f":"IFERROR(HelligdagsNavn(X16,0,0),\"\")","v":""},51]
[null,null,"1900-01-04","2020-07-15",{"$f":"IFERROR(HelligdagsNavn(D17,0,0),\"\")","v":""},"","1900-01-07","2020-08-15",{"$f":"IFERROR(HelligdagsNavn(H17,0,0),\"\")","v":""},"","1900-01-03","2020-09-15",{"$f":"IFERROR(HelligdagsNavn(L17,0,0),\"\")","v":""},"","1900-01-05","2020-10-15",{"$f":"IFERROR(HelligdagsNavn(P17,0,0),\"\")","v":""},"","1900-01-01","2020-11-15",{"$f":"IFERROR(HelligdagsNavn(T17,0,0),\"\")","v":""},"","1900-01-03","2020-12-15",{"$f":"IFERROR(HelligdagsNavn(X17,0,0),\"\")","v":""},""]
[null,null,"1900-01-05","2020-07-16",{"$f":"IFERROR(HelligdagsNavn(D18,0,0),\"\")","v":""},"","1900-01-01","2020-08-16",{"$f":"IFERROR(HelligdagsNavn(H18,0,0),\"\")","v":""},"","1900-01-04","2020-09-16",{"$f":"IFERROR(HelligdagsNavn(L18,0,0),\"\")","v":""},"","1900-01-06","2020-10-16",{"$f":"IFERROR(HelligdagsNavn(P18,0,0),\"\")","v":""},"","1900-01-02","2020-11-16",{"$f":"IFERROR(HelligdagsNavn(T18,0,0),\"\")","v":""},47,"1900-01-04","2020-12-16",{"$f":"IFERROR(HelligdagsNavn(X18,0,0),\"\")","v":""},""]
[null,null,"1900-01-06","2020-07-17",{"$f":"IFERROR(HelligdagsNavn(D19,0,0),\"\")","v":""},"","1900-01-02","2020-08-17",{"$f":"IFERROR(HelligdagsNavn(H19,0,0),\"\")","v":""},34,"1900-01-05","2020-09-17",{"$f":"IFERROR(HelligdagsNavn(L19,0,0),\"\")","v":""},"","1900-01-07","2020-10-17",{"$f":"IFERROR(HelligdagsNavn(P19,0,0),\"\")","v":"Int. Regnearksdag"},"","1900-01-03","2020-11-17",{"$f":"IFERROR(HelligdagsNavn(T19,0,0),\"\")","v":""},"","1900-01-05","2020-12-17",{"$f":"IFERROR(HelligdagsNavn(X19,0,0),\"\")","v":""},""]
[null,null,"1900-01-07","2020-07-18",{"$f":"IFERROR(HelligdagsNavn(D20,0,0),\"\")","v":""},"","1900-01-03","2020-08-18",{"$f":"IFERROR(HelligdagsNavn(H20,0,0),\"\")","v":""},"","1900-01-06","2020-09-18",{"$f":"IFERROR(HelligdagsNavn(L20,0,0),\"\")","v":""},"","1900-01-01","2020-10-18",{"$f":"IFERROR(HelligdagsNavn(P20,0,0),\"\")","v":""},"","1900-01-04","2020-11-18",{"$f":"IFERROR(HelligdagsNavn(T20,0,0),\"\")","v":""},"","1900-01-06","2020-12-18",{"$f":"IFERROR(HelligdagsNavn(X20,0,0),\"\")","v":""},""]
[null,null,"1900-01-01","2020-07-19",{"$f":"IFERROR(HelligdagsNavn(D21,0,0),\"\")","v":""},"","1900-01-04","2020-08-19",{"$f":"IFERROR(HelligdagsNavn(H21,0,0),\"\")","v":""},"","1900-01-07","2020-09-19",{"$f":"IFERROR(HelligdagsNavn(L21,0,0),\"\")","v":""},"","1900-01-02","2020-10-19",{"$f":"IFERROR(HelligdagsNavn(P21,0,0),\"\")","v":""},43,"1900-01-05","2020-11-19",{"$f":"IFERROR(HelligdagsNavn(T21,0,0),\"\")","v":""},"","1900-01-07","2020-12-19",{"$f":"IFERROR(HelligdagsNavn(X21,0,0),\"\")","v":""},""]
[null,null,"1900-01-02","2020-07-20",{"$f":"IFERROR(HelligdagsNavn(D22,0,0),\"\")","v":""},30,"1900-01-05","2020-08-20",{"$f":"IFERROR(HelligdagsNavn(H22,0,0),\"\")","v":""},"","1900-01-01","2020-09-20",{"$f":"IFERROR(HelligdagsNavn(L22,0,0),\"\")","v":""},"","1900-01-03","2020-10-20",{"$f":"IFERROR(HelligdagsNavn(P22,0,0),\"\")","v":""},"","1900-01-06","2020-11-20",{"$f":"IFERROR(HelligdagsNavn(T22,0,0),\"\")","v":""},"","1900-01-01","2020-12-20",{"$f":"IFERROR(HelligdagsNavn(X22,0,0),\"\")","v":"4. Advent"},""]
[null,null,"1900-01-03","2020-07-21",{"$f":"IFERROR(HelligdagsNavn(D23,0,0),\"\")","v":""},"","1900-01-06","2020-08-21",{"$f":"IFERROR(HelligdagsNavn(H23,0,0),\"\")","v":""},"","1900-01-02","2020-09-21",{"$f":"IFERROR(HelligdagsNavn(L23,0,0),\"\")","v":""},39,"1900-01-04","2020-10-21",{"$f":"IFERROR(HelligdagsNavn(P23,0,0),\"\")","v":""},"","1900-01-07","2020-11-21",{"$f":"IFERROR(HelligdagsNavn(T23,0,0),\"\")","v":""},"","1900-01-02","2020-12-21",{"$f":"IFERROR(HelligdagsNavn(X23,0,0),\"\")","v":""},52]
[null,null,"1900-01-04","2020-07-22",{"$f":"IFERROR(HelligdagsNavn(D24,0,0),\"\")","v":""},"","1900-01-07","2020-08-22",{"$f":"IFERROR(HelligdagsNavn(H24,0,0),\"\")","v":""},"","1900-01-03","2020-09-22",{"$f":"IFERROR(HelligdagsNavn(L24,0,0),\"\")","v":""},"","1900-01-05","2020-10-22",{"$f":"IFERROR(HelligdagsNavn(P24,0,0),\"\")","v":""},"","1900-01-01","2020-11-22",{"$f":"IFERROR(HelligdagsNavn(T24,0,0),\"\")","v":""},"","1900-01-03","2020-12-22",{"$f":"IFERROR(HelligdagsNavn(X24,0,0),\"\")","v":""},""]
[null,null,"1900-01-05","2020-07-23",{"$f":"IFERROR(HelligdagsNavn(D25,0,0),\"\")","v":""},"","1900-01-01","2020-08-23",{"$f":"IFERROR(HelligdagsNavn(H25,0,0),\"\")","v":""},"","1900-01-04","2020-09-23",{"$f":"IFERROR(HelligdagsNavn(L25,0,0),\"\")","v":""},"","1900-01-06","2020-10-23",{"$f":"IFERROR(HelligdagsNavn(P25,0,0),\"\")","v":""},"","1900-01-02","2020-11-23",{"$f":"IFERROR(HelligdagsNavn(T25,0,0),\"\")","v":""},48,"1900-01-04","2020-12-23",{"$f":"IFERROR(HelligdagsNavn(X25,0,0),\"\")","v":""},""]
[null,null,"1900-01-06","2020-07-24",{"$f":"IFERROR(HelligdagsNavn(D26,0,0),\"\")","v":""},"","1900-01-02","2020-08-24",{"$f":"IFERROR(HelligdagsNavn(H26,0,0),\"\")","v":""},35,"1900-01-05","2020-09-24",{"$f":"IFERROR(HelligdagsNavn(L26,0,0),\"\")","v":""},"","1900-01-07","2020-10-24",{"$f":"IFERROR(HelligdagsNavn(P26,0,0),\"\")","v":"FN-Dag"},"","1900-01-03","2020-11-24",{"$f":"IFERROR(HelligdagsNavn(T26,0,0),\"\")","v":""},"","1900-01-05","2020-12-24",{"$f":"IFERROR(HelligdagsNavn(X26,0,0),\"\")","v":"Julaftensdag"},""]
[null,null,"1900-01-07","2020-07-25",{"$f":"IFERROR(HelligdagsNavn(D27,0,0),\"\")","v":""},"","1900-01-03","2020-08-25",{"$f":"IFERROR(HelligdagsNavn(H27,0,0),\"\")","v":""},"","1900-01-06","2020-09-25",{"$f":"IFERROR(HelligdagsNavn(L27,0,0),\"\")","v":""},"","1900-01-01","2020-10-25",{"$f":"IFERROR(HelligdagsNavn(P27,0,0),\"\")","v":"Sommertid kl. 03 til 02"},"","1900-01-04","2020-11-25",{"$f":"IFERROR(HelligdagsNavn(T27,0,0),\"\")","v":""},"","1900-01-06","2020-12-25",{"$f":"IFERROR(HelligdagsNavn(X27,0,0),\"\")","v":"1. Juledag"},""]
[null,null,"1900-01-01","2020-07-26",{"$f":"IFERROR(HelligdagsNavn(D28,0,0),\"\")","v":""},"","1900-01-04","2020-08-26",{"$f":"IFERROR(HelligdagsNavn(H28,0,0),\"\")","v":""},"","1900-01-07","2020-09-26",{"$f":"IFERROR(HelligdagsNavn(L28,0,0),\"\")","v":""},"","1900-01-02","2020-10-26",{"$f":"IFERROR(HelligdagsNavn(P28,0,0),\"\")","v":""},44,"1900-01-05","2020-11-26",{"$f":"IFERROR(HelligdagsNavn(T28,0,0),\"\")","v":""},"","1900-01-07","2020-12-26",{"$f":"IFERROR(HelligdagsNavn(X28,0,0),\"\")","v":"2. Juledag"},""]
[null,null,"1900-01-02","2020-07-27",{"$f":"IFERROR(HelligdagsNavn(D29,0,0),\"\")","v":""},31,"1900-01-05","2020-08-27",{"$f":"IFERROR(HelligdagsNavn(H29,0,0),\"\")","v":""},"","1900-01-01","2020-09-27",{"$f":"IFERROR(HelligdagsNavn(L29,0,0),\"\")","v":""},"","1900-01-03","2020-10-27",{"$f":"IFERROR(HelligdagsNavn(P29,0,0),\"\")","v":""},"","1900-01-06","2020-11-27",{"$f":"IFERROR(HelligdagsNavn(T29,0,0),\"\")","v":""},"","1900-01-01","2020-12-27",{"$f":"IFERROR(HelligdagsNavn(X29,0,0),\"\")","v":"3. juledag"},""]
[null,null,"1900-01-03","2020-07-28",{"$f":"IFERROR(HelligdagsNavn(D30,0,0),\"\")","v":""},"","1900-01-06","2020-08-28",{"$f":"IFERROR(HelligdagsNavn(H30,0,0),\"\")","v":""},"","1900-01-02","2020-09-28",{"$f":"IFERROR(HelligdagsNavn(L30,0,0),\"\")","v":""},40,"1900-01-04","2020-10-28",{"$f":"IFERROR(HelligdagsNavn(P30,0,0),\"\")","v":""},"","1900-01-07","2020-11-28",{"$f":"IFERROR(HelligdagsNavn(T30,0,0),\"\")","v":""},"","1900-01-02","2020-12-28",{"$f":"IFERROR(HelligdagsNavn(X30,0,0),\"\")","v":""},53]
[null,null,"1900-01-04","2020-07-29",{"$f":"IFERROR(HelligdagsNavn(D31,0,0),\"\")","v":""},"","1900-01-07","2020-08-29",{"$f":"IFERROR(HelligdagsNavn(H31,0,0),\"\")","v":""},"","1900-01-03","2020-09-29",{"$f":"IFERROR(HelligdagsNavn(L31,0,0),\"\")","v":"Mikkelsdag"},"","1900-01-05","2020-10-29",{"$f":"IFERROR(HelligdagsNavn(P31,0,0),\"\")","v":""},"","1900-01-01","2020-11-29",{"$f":"IFERROR(HelligdagsNavn(T31,0,0),\"\")","v":"1. Advent"},"","1900-01-03","2020-12-29",{"$f":"IFERROR(HelligdagsNavn(X31,0,0),\"\")","v":""},""]
[null,null,"1900-01-05","2020-07-30",{"$f":"IFERROR(HelligdagsNavn(D32,0,0),\"\")","v":""},"","1900-01-01","2020-08-30",{"$f":"IFERROR(HelligdagsNavn(H32,0,0),\"\")","v":""},"","1900-01-04","2020-09-30",{"$f":"IFERROR(HelligdagsNavn(L32,0,0),\"\")","v":""},"","1900-01-06","2020-10-30",{"$f":"IFERROR(HelligdagsNavn(P32,0,0),\"\")","v":""},"","1900-01-02","2020-11-30",{"$f":"IFERROR(HelligdagsNavn(T32,0,0),\"\")","v":""},49,"1900-01-04","2020-12-30",{"$f":"IFERROR(HelligdagsNavn(X32,0,0),\"\")","v":""},""]
[null,null,"1900-01-06","2020-07-31",{"$f":"IFERROR(HelligdagsNavn(D33,0,0),\"\")","v":""},"","1900-01-02","2020-08-31",{"$f":"IFERROR(HelligdagsNavn(H33,0,0),\"\")","v":""},36,null,null,null,"","1900-01-07","2020-10-31",{"$f":"IFERROR(HelligdagsNavn(P33,0,0),\"\")","v":"Halloween"},"",null,null,null,"","1900-01-05","2020-12-31",{"$f":"IFERROR(HelligdagsNavn(X33,0,0),\"\")","v":"Nytårsaftensdag"},""]

{"sheet":"Indstil","index":2,"n_rows":7,"n_cols":3,"rows_kept":7,"cut":false,"hidden":false,"merged":[[0,1,0,2],[1,1,1,2],[2,1,2,2]]}
["Password","Admin",1]
["Nyt"]
["Gentag"]
["Årstal -1",{"$f":"B5-1","v":2019},"I dag/år"]
["Årstal","2020",{"$f":"TEXT(TODAY(),\"åååå\")","v":"2020"}]
["Årstal +1",{"$f":"B5+1","v":2021}]
["Zoom",90]