{"text_format":"1","workbook":"xlsx","n_sheets":2,"sheets":["Drop","Liste"],"not_rendered":{"charts":0,"images":1,"macros":1,"external_links":0,"defined_names":2,"comments":0,"pivot_tables":0},"unopened":[],"bounds":{"document_bytes":16777216,"sheet_cells":100000,"rows_first":2000,"rows_last":500,"rows_between":2000,"halvings":0,"cell_chars":16384,"cell_head_chars":4096},"cells_cut":0,"cells_raw":0,"read":"whole","date_system":"1900"}

{"sheet":"Drop","index":0,"n_rows":21,"n_cols":24,"rows_kept":21,"cut":false,"hidden":false,"merged":[]}
[]
[null,null,null,null,null,null,null,null,null,null,null,null,null,null,null,null,null,null,null,null,null,null,null,""]
[null,null,"Anders"]
[null,null,"Peter"]
[null,null,"Søren"]
[null,null,"Morten"]
[null,null,"Christian"]
[]
[null,null,"Frederik"]
[null,null,"Christian"]
[]
[]
[null,null,"Christian"]
[null,null,"Claes"]
[null,null,"Claes"]
[null,null,"Kristian"]
[null,null,"Mogens"]
[]
[]
["Navn","Efternavn ","Telefon","ADR","Post nr."]
["Anders","Henter fra liste","Henter fra liste","Henter fra liste","Henter fra liste"]

{"sheet":"Liste","index":1,"n_rows":1000,"n_cols":12,"rows_kept":1000,"cut":false,"hidden":false,"merged":[]}
["Navn","Efternavn ","Telefon","ADR","Post nr."]
["Anders","Hansen ","66 66 66 66 ","Hansenvej 1",5777,null,null,null,null,null,{"$f":"IF(ISNUMBER(SEARCH(Drop!$X$2,Liste!A2)),MAX(Liste!$K$1:'Liste'!K1)+1,\"\")","v":1},{"$f":"IFERROR(INDEX($A$2:$A$1000,MATCH(ROWS($K$2:K2),$K$2:$K$1048576,0)),\"\")","v":"Anders"}]
["Peter","Jensen","44 44 44 44 ","Jensenvej",6888,null,null,null,null,null,{"$f":"IF(ISNUMBER(SEARCH(Drop!$X$2,Liste!A3)),MAX(Liste!$K$1:'Liste'!K2)+1,\"\")","v":2},{"$f":"IFERROR(INDEX($A$2:$A$1000,MATCH(ROWS($K$2:K3),$K$2:$K$1048576,0)),\"\")","v":"Peter"}]
["Søren",null,null,null,null,null,null,null,null,null,{"$f":"IF(ISNUMBER(SEARCH(Drop!$X$2,Liste!A4)),MAX(Liste!$K$1:'Liste'!K3)+1,\"\")","v":3},{"$f":"IFERROR(INDEX($A$2:$A$1000,MATCH(ROWS($K$2:K4),$K$2:$K$1048576,0)),\"\")","v":"Søren"}]
["Morten",null,null,null,null,null,null,null,null,null,{"$f":"IF(ISNUMBER(SEARCH(Drop!$X$2,Liste!A5)),MAX(Liste!$K$1:'Liste'!K4)+1,\"\")","v":4},{"$f":"IFERROR(INDEX($A$2:$A$1000,MATCH(ROWS($K$2:K5),$K$2:$K$1048576,0)),\"\")","v":"Morten"}]
["Per",null,null,null,null,null,null,null,null,null,{"$f":"IF(ISNUMBER(SEARCH(Drop!$X$2,Liste!A6)),MAX(Liste!$K$1:'Liste'!K5)+1,\"\")","v":5},{"$f":"IFERROR(INDEX($A$2:$A$1000,MATCH(ROWS($K$2:K6),$K$2:$K$1048576,0)),\"\")","v":"Per"}]
["Mogens",null,null,null,null,null,null,null,null,null,{"$f":"IF(ISNUMBER(SEARCH(Drop!$X$2,Liste!A7)),MAX(Liste!$K$1:'Liste'!K6)+1,\"\")","v":6},{"$f":"IFERROR(INDEX($A$2:$A$1000,MATCH(ROWS($K$2:K7),$K$2:$K$1048576,0)),\"\")","v":"Mogens"}]
["Hans",null,null,null,null,null,null,null,null,null,{"$f":"IF(ISNUMBER(SEARCH(Drop!$X$2,Liste!A8)),MAX(Liste!$K$1:'Liste'!K7)+1,\"\")","v":7},{"$f":"IFERROR(INDEX($A$2:$A$1000,MATCH(ROWS($K$2:K8),$K$2:$K$1048576,0)),\"\")","v":"Hans"}]
["Pia",null,null,null,null,null,null,null,null,null,{"$f":"IF(ISNUMBER(SEARCH(Drop!$X$2,Liste!A9)),MAX(Liste!$K$1:'Liste'!K8)+1,\"\")","v":8},{"$f":"IFERROR(INDEX($A$2:$A$1000,MATCH(ROWS($K$2:K9),$K$2:$K$1048576,0)),\"\")","v":"Pia"}]
["Ole",null,null,null,null,null,null,null,null,null,{"$f":"IF(ISNUMBER(SEARCH(Drop!$X$2,Liste!A10)),MAX(Liste!$K$1:'Liste'!K9)+1,\"\")","v":9},{"$f":"IFERROR(INDEX($A$2:$A$1000,MATCH(ROWS($K$2:K10),$K$2:$K$1048576,0)),\"\")","v":"Ole"}]
["Henrik",null,null,null,null,null,null,null,null,null,{"$f":"IF(ISNUMBER(SEARCH(Drop!$X$2,Liste!A11)),MAX(Liste!$K$1:'Liste'!K10)+1,\"\")","v":10},{"$f":"IFERROR(INDEX($A$2:$A$1000,MATCH(ROWS($K$2:K11),$K$2:$K$1048576,0)),\"\")","v":"Henrik"}]
["Frederik",null,null,null,null,null,null,null,null,null,{"$f":"IF(ISNUMBER(SEARCH(Drop!$X$2,Liste!A12)),MAX(Liste!$K$1:'Liste'!K11)+1,\"\")","v":11},{"$f":"IFERROR(INDEX($A$2:$A$1000,MATCH(ROWS($K$2:K12),$K$2:$K$1048576,0)),\"\")","v":"Frederik"}]
["Kristian",null,null,null,null,null,null,null,null,null,{"$f":"IF(ISNUMBER(SEARCH(Drop!$X$2,Liste!A13)),MAX(Liste!$K$1:'Liste'!K12)+1,\"\")","v":12},{"$f":"IFERROR(INDEX($A$2:$A$1000,MATCH(ROWS($K$2:K13),$K$2:$K$1048576,0)),\"\")","v":"Kristian"}]
["Christian",null,null,null,null,null,null,null,null,null,{"$f":"IF(ISNUMBER(SEARCH(Drop!$X$2,Liste!A14)),MAX(Liste!$K$1:'Liste'!K13)+1,\"\")","v":13},{"$f":"IFERROR(INDEX($A$2:$A$1000,MATCH(ROWS($K$2:K14),$K$2:$K$1048576,0)),\"\")","v":"Christian"}]
["Lars",null,null,null,null,null,null,null,null,null,{"$f":"IF(ISNUMBER(SEARCH(Drop!$X$2,Liste!A15)),MAX(Liste!$K$1:'Liste'!K14)+1,\"\")","v":14},{"$f":"IFERROR(INDEX($A$2:$A$1000,MATCH(ROWS($K$2:K15),$K$2:$K$1048576,0)),\"\")","v":"Lars"}]
["Claes",null,null,null,null,null,null,null,null,null,{"$f":"IF(ISNUMBER(SEARCH(Drop!$X$2,Liste!A16)),MAX(Liste!$K$1:'Liste'!K15)+1,\"\")","v":15},{"$f":"IFERROR(INDEX($A$2:$A$1000,MATCH(ROWS($K$2:K16),$K$2:$K$1048576,0)),\"\")","v":"Claes"}]
["Casper",null,null,null,null,null,null,null,null,null,{"$f":"IF(ISNUMBER(SEARCH(Drop!$X$2,Liste!A17)),MAX(Liste!$K$1:'Liste'!K16)+1,\"\")","v":16},{"$f":"IFERROR(INDEX($A$2:$A$1000,MATCH(ROWS($K$2:K17),$K$2:$K$1048576,0)),\"\")","v":"Casper"}]
["Kasper",null,null,null,null,null,null,null,null,null,{"$f":"IF(ISNUMBER(SEARCH(Drop!$X$2,Liste!A18)),MAX(Liste!$K$1:'Liste'!K17)+1,\"\")","v":17},{"$f":"IFERROR(INDEX($A$2:$A$1000,MATCH(ROWS($K$2:K18),$K$2:$K$1048576,0)),\"\")","v":"Kasper"}]
["Brian",null,null,null,null,null,null,null,null,null,{"$f":"IF(ISNUMBER(SEARCH(Drop!$X$2,Liste!A19)),MAX(Liste!$K$1:'Liste'!K18)+1,\"\")","v":18},{"$f":"IFERROR(INDEX($A$2:$A$1000,MATCH(ROWS($K$2:K19),$K$2:$K$1048576,0)),\"\")","v":"Brian"}]
["Simon",null,null,null,null,null,null,null,null,null,{"$f":"IF(ISNUMBER(SEARCH(Drop!$X$2,Liste!A20)),MAX(Liste!$K$1:'Liste'!K19)+1,\"\")","v":19},{"$f":"IFERROR(INDEX($A$2:$A$1000,MATCH(ROWS($K$2:K20),$K$2:$K$1048576,0)),\"\")","v":"Simon"}]
["Andreas",null,null,null,null,null,null,null,null,null,{"$f":"IF(ISNUMBER(SEARCH(Drop!$X$2,Liste!A21)),MAX(Liste!$K$1:'Liste'!K20)+1,\"\")","v":20},{"$f":"IFERROR(INDEX($A$2:$A$1000,MATCH(ROWS($K$2:K21),$K$2:$K$1048576,0)),\"\")","v":"Andreas"}]
["Ulrik",null,null,null,null,null,null,null,null,null,{"$f":"IF(ISNUMBER(SEARCH(Drop!$X$2,Liste!A22)),MAX(Liste!$K$1:'Liste'!K21)+1,\"\")","v":21},{"$f":"IFERROR(INDEX($A$2:$A$1000,MATCH(ROWS($K$2:K22),$K$2:$K$1048576,0)),\"\")","v":"Ulrik"}]
["Esben",null,null,null,null,null,null,null,null,null,{"$f":"IF(ISNUMBER(SEARCH(Drop!$X$2,Liste!A23)),MAX(Liste!$K$1:'Liste'!K22)+1,\"\")","v":22},{"$f":"IFERROR(INDEX($A$2:$A$1000,MATCH(ROWS($K$2:K23),$K$2:$K$1048576,0)),\"\")","v":"Esben"}]
["Frank",null,null,null,null,null,null,null,null,null,{"$f":"IF(ISNUMBER(SEARCH(Drop!$X$2,Liste!A24)),MAX(Liste!$K$1:'Liste'!K23)+1,\"\")","v":23},{"$f":"IFERROR(INDEX($A$2:$A$1000,MATCH(ROWS($K$2:K24),$K$2:$K$1048576,0)),\"\")","v":"Frank"}]
["Mads",null,null,null,null,null,null,null,null,null,{"$f":"IF(ISNUMBER(SEARCH(Drop!$X$2,Liste!A25)),MAX(Liste!$K$1:'Liste'!K24)+1,\"\")","v":24},{"$f":"IFERROR(INDEX($A$2:$A$1000,MATCH(ROWS($K$2:K25),$K$2:$K$1048576,0)),\"\")","v":"Mads"}]
["Karsten",null,null,null,null,null,null,null,null,null,{"$f":"IF(ISNUMBER(SEARCH(Drop!$X$2,Liste!A26)),MAX(Liste!$K$1:'Liste'!K25)+1,\"\")","v":25},{"$f":"IFERROR(INDEX($A$2:$A$1000,MATCH(ROWS($K$2:K26),$K$2:$K$1048576,0)),\"\")","v":"Karsten"}]
["Carsten",null,null,null,null,null,null,null,null,null,{"$f":"IF(ISNUMBER(SEARCH(Drop!$X$2,Liste!A27)),MAX(Liste!$K$1:'Liste'!K26)+1,\"\")","v":26},{"$f":"IFERROR(INDEX($A$2:$A$1000,MATCH(ROWS($K$2:K27),$K$2:$K$1048576,0)),\"\")","v":"Carsten"}]
["Jens",null,null,null,null,null,null,null,null,null,{"$f":"IF(ISNUMBER(SEARCH(Drop!$X$2,Liste!A28)),MAX(Liste!$K$1:'Liste'!K27)+1,\"\")","v":27},{"$f":"IFERROR(INDEX($A$2:$A$1000,MATCH(ROWS($K$2:K28),$K$2:$K$1048576,0)),\"\")","v":"Jens"}]
["Lasse",null,null,null,null,null,null,null,null,null,{"$f":"IF(ISNUMBER(SEARCH(Drop!$X$2,Liste!A29)),MAX(Liste!$K$1:'Liste'!K28)+1,\"\")","v":28},{"$f":"IFERROR(INDEX($A$2:$A$1000,MATCH(ROWS($K$2:K29),$K$2:$K$1048576,0)),\"\")","v":"Lasse"}]
["Thomas",null,null,null,null,null,null,null,null,null,{"$f":"IF(ISNUMBER(SEARCH(Drop!$X$2,Liste!A30)),MAX(Liste!$K$1:'Liste'!K29)+1,\"\")","v":29},{"$f":"IFERROR(INDEX($A$2:$A$1000,MATCH(ROWS($K$2:K30),$K$2:$K$1048576,0)),\"\")","v":"Thomas"}]
["Michael",null,null,null,null,null,null,null,null,null,{"$f":"IF(ISNUMBER(SEARCH(Drop!$X$2,Liste!A31)),MAX(Liste!$K$1:'Liste'!K30)+1,\"\")","v":30},{"$f":"IFERROR(INDEX($A$2:$A$1000,MATCH(ROWS($K$2:K31),$K$2:$K$1048576,0)),\"\")","v":"Michael"}]
[null,null,null,null,null,null,null,null,null,null,{"$f":"IF(ISNUMBER(SEARCH(Drop!$X$2,Liste!A32)),MAX(Liste!$K$1:'Liste'!K31)+1,\"\")","v":""},{"$f":"IFERROR(INDEX($A$2:$A$1000,MATCH(ROWS($K$2:K32),$K$2:$K$1048576,0)),\"\")","v":""}]
[null,null,null,null,null,null,null,null,null,null,{"$f":"IF(ISNUMBER(SEARCH(Drop!$X$2,Liste!A33)),MAX(Liste!$K$1:'Liste'!K32)+1,\"\")","v":""},{"$f":"IFERROR(INDEX($A$2:$A$1000,MATCH(ROWS($K$2:K33),$K$2:$K$1048576,0)),\"\")","v":""}]
[null,null,null,null,null,null,null,null,null,null,{"$f":"IF(ISNUMBER(SEARCH(Drop!$X$2,Liste!A34)),MAX(Liste!$K$1:'Liste'!K33)+1,\"\")","v":""},{"$f":"IFERROR(INDEX($A$2:$A$1000,MATCH(ROWS($K$2:K34),$K$2:$K$1048576,0)),\"\")","v":""}]
[null,null,null,null,null,null,null,null,null,null,{"$f":"IF(ISNUMBER(SEARCH(Drop!$X$2,Liste!A35)),MAX(Liste!$K$1:'Liste'!K34)+1,\"\")","v":""},{"$f":"IFERROR(INDEX($A$2:$A$1000,MATCH(ROWS($K$2:K35),$K$2:$K$1048576,0)),\"\")","v":""}]
[null,null,null,null,null,null,null,null,null,null,{"$f":"IF(ISNUMBER(SEARCH(Drop!$X$2,Liste!A36)),MAX(Liste!$K$1:'Liste'!K35)+1,\"\")","v":""},{"$f":"IFERROR(INDEX($A$2:$A$1000,MATCH(ROWS($K$2:K36),$K$2:$K$1048576,0)),\"\")","v":""}]
[null,null,null,null,null,null,null,null,null,null,{"$f":"IF(ISNUMBER(SEARCH(Drop!$X$2,Liste!A37)),MAX(Liste!$K$1:'Liste'!K36)+1,\"\")","v":""},{"$f":"IFERROR(INDEX($A$2:$A$1000,MATCH(ROWS($K$2:K37),$K$2:$K$1048576,0)),\"\")","v":""}]
[null,null,null,null,null,null,null,null,null,null,{"$f":"IF(ISNUMBER(SEARCH(Drop!$X$2,Liste!A38)),MAX(Liste!$K$1:'Liste'!K37)+1,\"\")","v":""},{"$f":"IFERROR(INDEX($A$2:$A$1000,MATCH(ROWS($K$2:K38),$K$2:$K$1048576,0)),\"\")","v":""}]
[null,null,null,null,null,null,null,null,null,null,{"$f":"IF(ISNUMBER(SEARCH(Drop!$X$2,Liste!A39)),MAX(Liste!$K$1:'Liste'!K38)+1,\"\")","v":""},{"$f":"IFERROR(INDEX($A$2:$A$1000,MATCH(ROWS($K$2:K39),$K$2:$K$1048576,0)),\"\")","v":""}]
[null,null,null,null,null,null,null,null,null,null,{"$f":"IF(ISNUMBER(SEARCH(Drop!$X$2,Liste!A40)),MAX(Liste!$K$1:'Liste'!K39)+1,\"\")","v":""},{"$f":"IFERROR(INDEX($A$2:$A$1000,MATCH(ROWS($K$2:K40),$K$2:$K$1048576,0)),\"\")","v":""}]
[null,null,null,null,null,null,null,null,null,null,{"$f":"IF(ISNUMBER(SEARCH(Drop!$X$2,Liste!A41)),MAX(Liste!$K$1:'Liste'!K40)+1,\"\")","v":""},{"$f":"IFERROR(INDEX($A$2:$A$1000,MATCH(ROWS($K$2:K41),$K$2:$K$1048576,0)),\"\")","v":""}]
[null,null,null,null,null,null,null,null,null,null,{"$f":"IF(ISNUMBER(SEARCH(Drop!$X$2,Liste!A42)),MAX(Liste!$K$1:'Liste'!K41)+1,\"\")","v":""},{"$f":"IFERROR(INDEX($A$2:$A$1000,MATCH(ROWS($K$2:K42),$K$2:$K$1048576,0)),\"\")","v":""}]
[null,null,null,null,null,null,null,null,null,null,{"$f":"IF(ISNUMBER(SEARCH(Drop!$X$2,Liste!A43)),MAX(Liste!$K$1:'Liste'!K42)+1,\"\")","v":""},{"$f":"IFERROR(INDEX($A$2:$A$1000,MATCH(ROWS($K$2:K43),$K$2:$K$1048576,0)),\"\")","v":""}]
[null,null,null,null,null,null,null,null,null,null,{"$f":"IF(ISNUMBER(SEARCH(Drop!$X$2,Liste!A44)),MAX(Liste!$K$1:'Liste'!K43)+1,\"\")","v":""},{"$f":"IFERROR(INDEX($A$2:$A$1000,MATCH(ROWS($K$2:K44),$K$2:$K$1048576,0)),\"\")","v":""}]
[null,null,null,null,null,null,null,null,null,null,{"$f":"IF(ISNUMBER(SEARCH(Drop!$X$2,Liste!A45)),MAX(Liste!$K$1:'Liste'!K44)+1,\"\")","v":""},{"$f":"IFERROR(INDEX($A$2:$A$1000,MATCH(ROWS($K$2:K45),$K$2:$K$1048576,0)),\"\")","v":""}]
[null,null,null,null,null,null,null,null,null,null,{"$f":"IF(ISNUMBER(SEARCH(Drop!$X$2,Liste!A46)),MAX(Liste!$K$1:'Liste'!K45)+1,\"\")","v":""},{"$f":"IFERROR(INDEX($A$2:$A$1000,MATCH(ROWS($K$2:K46),$K$2:$K$1048576,0)),\"\")","v":""}]
[null,null,null,null,null,null,null,null,null,null,{"$f":"IF(ISNUMBER(SEARCH(Drop!$X$2,Liste!A47)),MAX(Liste!$K$1:'Liste'!K46)+1,\"\")","v":""},{"$f":"IFERROR(INDEX($A$2:$A$1000,MATCH(ROWS($K$2:K47),$K$2:$K$1048576,0)),\"\")","v":""}]
[null,null,null,null,null,null,null,null,null,null,{"$f":"IF(ISNUMBER(SEARCH(Drop!$X$2,Liste!A48)),MAX(Liste!$K$1:'Liste'!K47)+1,\"\")","v":""},{"$f":"IFERROR(INDEX($A$2:$A$1000,MATCH(ROWS($K$2:K48),$K$2:$K$1048576,0)),\"\")","v":""}]
[null,null,null,null,null,null,null,null,null,null,{"$f":"IF(ISNUMBER(SEARCH(Drop!$X$2,Liste!A49)),MAX(Liste!$K$1:'Liste'!K48)+1,\"\")","v":""},{"$f":"IFERROR(INDEX($A$2:$A$1000,MATCH(ROWS($K$2:K49),$K$2:$K$1048576,0)),\"\")","v":""}]
[null,null,null,null,null,null,null,null,null,null,{"$f":"IF(ISNUMBER(SEARCH(Drop!$X$2,Liste!A50)),MAX(Liste!$K$1:'Liste'!K49)+1,\"\")","v":""},{"$f":"IFERROR(INDEX($A$2:$A$1000,MATCH(ROWS($K$2:K50),$K$2:$K$1048576,0)),\"\")","v":""}]
[null,null,null,null,null,null,null,null,null,null,{"$f":"IF(ISNUMBER(SEARCH(Drop!$X$2,Liste!A51)),MAX(Liste!$K$1:'Liste'!K50)+1,\"\")","v":""},{"$f":"IFERROR(INDEX($A$2:$A$1000,MATCH(ROWS($K$2:K51),$K$2:$K$1048576,0)),\"\")","v":""}]
[null,null,null,null,null,null,null,null,null,null,{"$f":"IF(ISNUMBER(SEARCH(Drop!$X$2,Liste!A52)),MAX(Liste!$K$1:'Liste'!K51)+1,\"\")","v":""},{"$f":"IFERROR(INDEX($A$2:$A$1000,MATCH(ROWS($K$2:K52),$K$2:$K$1048576,0)),\"\")","v":""}]
[null,null,null,null,null,null,null,null,null,null,{"$f":"IF(ISNUMBER(SEARCH(Drop!$X$2,Liste!A53)),MAX(Liste!$K$1:'Liste'!K52)+1,\"\")","v":""},{"$f":"IFERROR(INDEX($A$2:$A$1000,MATCH(ROWS($K$2:K53),$K$2:$K$1048576,0)),\"\")","v":""}]
[null,null,null,null,null,null,null,null,null,null,{"$f":"IF(ISNUMBER(SEARCH(Drop!$X$2,Liste!A54)),MAX(Liste!$K$1:'Liste'!K53)+1,\"\")","v":""},{"$f":"IFERROR(INDEX($A$2:$A$1000,MATCH(ROWS($K$2:K54),$K$2:$K$1048576,0)),\"\")","v":""}]
[null,null,null,null,null,null,null,null,null,null,{"$f":"IF(ISNUMBER(SEARCH(Drop!$X$2,Liste!A55)),MAX(Liste!$K$1:'Liste'!K54)+1,\"\")","v":""},{"$f":"IFERROR(INDEX($A$2:$A$1000,MATCH(ROWS($K$2:K55),$K$2:$K$1048576,0)),\"\")","v":""}]
[null,null,null,null,null,null,null,null,null,null,{"$f":"IF(ISNUMBER(SEARCH(Drop!$X$2,Liste!A56)),MAX(Liste!$K$1:'Liste'!K55)+1,\"\")","v":""},{"$f":"IFERROR(INDEX($A$2:$A$1000,MATCH(ROWS($K$2:K56),$K$2:$K$1048576,0)),\"\")","v":""}]
[null,null,null,null,null,null,null,null,null,null,{"$f":"IF(ISNUMBER(SEARCH(Drop!$X$2,Liste!A57)),MAX(Liste!$K$1:'Liste'!K56)+1,\"\")","v":""},{"$f":"IFERROR(INDEX($A$2:$A$1000,MATCH(ROWS($K$2:K57),$K$2:$K$1048576,0)),\"\")","v":""}]
[null,null,null,null,null,null,null,null,null,null,{"$f":"IF(ISNUMBER(SEARCH(Drop!$X$2,Liste!A58)),MAX(Liste!$K$1:'Liste'!K57)+1,\"\")","v":""},{"$f":"IFERROR(INDEX($A$2:$A$1000,MATCH(ROWS($K$2:K58),$K$2:$K$1048576,0)),\"\")","v":""}]
[null,null,null,null,null,null,null,null,null,null,{"$f":"IF(ISNUMBER(SEARCH(Drop!$X$2,Liste!A59)),MAX(Liste!$K$1:'Liste'!K58)+1,\"\")","v":""},{"$f":"IFERROR(INDEX($A$2:$A$1000,MATCH(ROWS($K$2:K59),$K$2:$K$1048576,0)),\"\")","v":""}]
[null,null,null,null,null,null,null,null,null,null,{"$f":"IF(ISNUMBER(SEARCH(Drop!$X$2,Liste!A60)),MAX(Liste!$K$1:'Liste'!K59)+1,\"\")","v":""},{"$f":"IFERROR(INDEX($A$2:$A$1000,MATCH(ROWS($K$2:K60),$K$2:$K$1048576,0)),\"\")","v":""}]
[null,null,null,null,null,null,null,null,null,null,{"$f":"IF(ISNUMBER(SEARCH(Drop!$X$2,Liste!A61)),MAX(Liste!$K$1:'Liste'!K60)+1,\"\")","v":""},{"$f":"IFERROR(INDEX($A$2:$A$1000,MATCH(ROWS($K$2:K61),$K$2:$K$1048576,0)),\"\")","v":""}]
[null,null,null,null,null,null,null,null,null,null,{"$f":"IF(ISNUMBER(SEARCH(Drop!$X$2,Liste!A62)),MAX(Liste!$K$1:'Liste'!K61)+1,\"\")","v":""},{"$f":"IFERROR(INDEX($A$2:$A$1000,MATCH(ROWS($K$2:K62),$K$2:$K$1048576,0)),\"\")","v":""}]
[null,null,null,null,null,null,null,null,null,null,{"$f":"IF(ISNUMBER(SEARCH(Drop!$X$2,Liste!A63)),MAX(Liste!$K$1:'Liste'!K62)+1,\"\")","v":""},{"$f":"IFERROR(INDEX($A$2:$A$1000,MATCH(ROWS($K$2:K63),$K$2:$K$1048576,0)),\"\")","v":""}]
[null,null,null,null,null,null,null,null,null,null,{"$f":"IF(ISNUMBER(SEARCH(Drop!$X$2,Liste!A64)),MAX(Liste!$K$1:'Liste'!K63)+1,\"\")","v":""},{"$f":"IFERROR(INDEX($A$2:$A$1000,MATCH(ROWS($K$2:K64),$K$2:$K$1048576,0)),\"\")","v":""}]
[null,null,null,null,null,null,null,null,null,null,{"$f":"IF(ISNUMBER(SEARCH(Drop!$X$2,Liste!A65)),MAX(Liste!$K$1:'Liste'!K64)+1,\"\")","v":""},{"$f":"IFERROR(INDEX($A$2:$A$1000,MATCH(ROWS($K$2:K65),$K$2:$K$1048576,0)),\"\")","v":""}]
[null,null,null,null,null,null,null,null,null,null,{"$f":"IF(ISNUMBER(SEARCH(Drop!$X$2,Liste!A66)),MAX(Liste!$K$1:'Liste'!K65)+1,\"\")","v":""},{"$f":"IFERROR(INDEX($A$2:$A$1000,MATCH(ROWS($K$2:K66),$K$2:$K$1048576,0)),\"\")","v":""}]
[null,null,null,null,null,null,null,null,null,null,{"$f":"IF(ISNUMBER(SEARCH(Drop!$X$2,Liste!A67)),MAX(Liste!$K$1:'Liste'!K66)+1,\"\")","v":""},{"$f":"IFERROR(INDEX($A$2:$A$1000,MATCH(ROWS($K$2:K67),$K$2:$K$1048576,0)),\"\")","v":""}]
[null,null,null,null,null,null,null,null,null,null,{"$f":"IF(ISNUMBER(SEARCH(Drop!$X$2,Liste!A68)),MAX(Liste!$K$1:'Liste'!K67)+1,\"\")","v":""},{"$f":"IFERROR(INDEX($A$2:$A$1000,MATCH(ROWS($K$2:K68),$K$2:$K$1048576,0)),\"\")","v":""}]
[null,null,null,null,null,null,null,null,null,null,{"$f":"IF(ISNUMBER(SEARCH(Drop!$X$2,Liste!A69)),MAX(Liste!$K$1:'Liste'!K68)+1,\"\")","v":""},{"$f":"IFERROR(INDEX($A$2:$A$1000,MATCH(ROWS($K$2:K69),$K$2:$K$1048576,0)),\"\")","v":""}]
[null,null,null,null,null,null,null,null,null,null,{"$f":"IF(ISNUMBER(SEARCH(Drop!$X$2,Liste!A70)),MAX(Liste!$K$1:'Liste'!K69)+1,\"\")","v":""},{"$f":"IFERROR(INDEX($A$2:$A$1000,MATCH(ROWS($K$2:K70),$K$2:$K$1048576,0)),\"\")","v":""}]
[null,null,null,null,null,null,null,null,null,null,{"$f":"IF(ISNUMBER(SEARCH(Drop!$X$2,Liste!A71)),MAX(Liste!$K$1:'Liste'!K70)+1,\"\")","v":""},{"$f":"IFERROR(INDEX($A$2:$A$1000,MATCH(ROWS($K$2:K71),$K$2:$K$1048576,0)),\"\")","v":""}]
[null,null,null,null,null,null,null,null,null,null,{"$f":"IF(ISNUMBER(SEARCH(Drop!$X$2,Liste!A72)),MAX(Liste!$K$1:'Liste'!K71)+1,\"\")","v":""},{"$f":"IFERROR(INDEX($A$2:$A$1000,MATCH(ROWS($K$2:K72),$K$2:$K$1048576,0)),\"\")","v":""}]
[null,null,null,null,null,null,null,null,null,null,{"$f":"IF(ISNUMBER(SEARCH(Drop!$X$2,Liste!A73)),MAX(Liste!$K$1:'Liste'!K72)+1,\"\")","v":""},{"$f":"IFERROR(INDEX($A$2:$A$1000,MATCH(ROWS($K$2:K73),$K$2:$K$1048576,0)),\"\")","v":""}]
[null,null,null,null,null,null,null,null,null,null,{"$f":"IF(ISNUMBER(SEARCH(Drop!$X$2,Liste!A74)),MAX(Liste!$K$1:'Liste'!K73)+1,\"\")","v":""},{"$f":"IFERROR(INDEX($A$2:$A$1000,MATCH(ROWS($K$2:K74),$K$2:$K$1048576,0)),\"\")","v":""}]
[null,null,null,null,null,null,null,null,null,null,{"$f":"IF(ISNUMBER(SEARCH(Drop!$X$2,Liste!A75)),MAX(Liste!$K$1:'Liste'!K74)+1,\"\")","v":""},{"$f":"IFERROR(INDEX($A$2:$A$1000,MATCH(ROWS($K$2:K75),$K$2:$K$1048576,0)),\"\")","v":""}]
[null,null,null,null,null,null,null,null,null,null,{"$f":"IF(ISNUMBER(SEARCH(Drop!$X$2,Liste!A76)),MAX(Liste!$K$1:'Liste'!K75)+1,\"\")","v":""},{"$f":"IFERROR(INDEX($A$2:$A$1000,MATCH(ROWS($K$2:K76),$K$2:$K$1048576,0)),\"\")","v":""}]
[null,null,null,null,null,null,null,null,null,null,{"$f":"IF(ISNUMBER(SEARCH(Drop!$X$2,Liste!A77)),MAX(Liste!$K$1:'Liste'!K76)+1,\"\")","v":""},{"$f":"IFERROR(INDEX($A$2:$A$1000,MATCH(ROWS($K$2:K77),$K$2:$K$1048576,0)),\"\")","v":""}]
[null,null,null,null,null,null,null,null,null,null,{"$f":"IF(ISNUMBER(SEARCH(Drop!$X$2,Liste!A78)),MAX(Liste!$K$1:'Liste'!K77)+1,\"\")","v":""},{"$f":"IFERROR(INDEX($A$2:$A$1000,MATCH(ROWS($K$2:K78),$K$2:$K$1048576,0)),\"\")","v":""}]
[null,null,null,null,null,null,null,null,null,null,{"$f":"IF(ISNUMBER(SEARCH(Drop!$X$2,Liste!A79)),MAX(Liste!$K$1:'Liste'!K78)+1,\"\")","v":""},{"$f":"IFERROR(INDEX($A$2:$A$1000,MATCH(ROWS($K$2:K79),$K$2:$K$1048576,0)),\"\")","v":""}]
[null,null,null,null,null,null,null,null,null,null,{"$f":"IF(ISNUMBER(SEARCH(Drop!$X$2,Liste!A80)),MAX(Liste!$K$1:'Liste'!K79)+1,\"\")","v":""},{"$f":"IFERROR(INDEX($A$2:$A$1000,MATCH(ROWS($K$2:K80),$K$2:$K$1048576,0)),\"\")","v":""}]
[null,null,null,null,null,null,null,null,null,null,{"$f":"IF(ISNUMBER(SEARCH(Drop!$X$2,Liste!A81)),MAX(Liste!$K$1:'Liste'!K80)+1,\"\")","v":""},{"$f":"IFERROR(INDEX($A$2:$A$1000,MATCH(ROWS($K$2:K81),$K$2:$K$1048576,0)),\"\")","v":""}]
[null,null,null,null,null,null,null,null,null,null,{"$f":"IF(ISNUMBER(SEARCH(Drop!$X$2,Liste!A82)),MAX(Liste!$K$1:'Liste'!K81)+1,\"\")","v":""},{"$f":"IFERROR(INDEX($A$2:$A$1000,MATCH(ROWS($K$2:K82),$K$2:$K$1048576,0)),\"\")","v":""}]
[null,null,null,null,null,null,null,null,null,null,{"$f":"IF(ISNUMBER(SEARCH(Drop!$X$2,Liste!A83)),MAX(Liste!$K$1:'Liste'!K82)+1,\"\")","v":""},{"$f":"IFERROR(INDEX($A$2:$A$1000,MATCH(ROWS($K$2:K83),$K$2:$K$1048576,0)),\"\")","v":""}]
[null,null,null,null,null,null,null,null,null,null,{"$f":"IF(ISNUMBER(SEARCH(Drop!$X$2,Liste!A84)),MAX(Liste!$K$1:'Liste'!K83)+1,\"\")","v":""},{"$f":"IFERROR(INDEX($A$2:$A$1000,MATCH(ROWS($K$2:K84),$K$2:$K$1048576,0)),\"\")","v":""}]
[null,null,null,null,null,null,null,null,null,null,{"$f":"IF(ISNUMBER(SEARCH(Drop!$X$2,Liste!A85)),MAX(Liste!$K$1:'Liste'!K84)+1,\"\")","v":""},{"$f":"IFERROR(INDEX($A$2:$A$1000,MATCH(ROWS($K$2:K85),$K$2:$K$1048576,0)),\"\")","v":""}]
[null,null,null,null,null,null,null,null,null,null,{"$f":"IF(ISNUMBER(SEARCH(Drop!$X$2,Liste!A86)),MAX(Liste!$K$1:'Liste'!K85)+1,\"\")","v":""},{"$f":"IFERROR(INDEX($A$2:$A$1000,MATCH(ROWS($K$2:K86),$K$2:$K$1048576,0)),\"\")","v":""}]
[null,null,null,null,null,null,null,null,null,null,{"$f":"IF(ISNUMBER(SEARCH(Drop!$X$2,Liste!A87)),MAX(Liste!$K$1:'Liste'!K86)+1,\"\")","v":""},{"$f":"IFERROR(INDEX($A$2:$A$1000,MATCH(ROWS($K$2:K87),$K$2:$K$1048576,0)),\"\")","v":""}]
[null,null,null,null,null,null,null,null,null,null,{"$f":"IF(ISNUMBER(SEARCH(Drop!$X$2,Liste!A88)),MAX(Liste!$K$1:'Liste'!K87)+1,\"\")","v":""},{"$f":"IFERROR(INDEX($A$2:$A$1000,MATCH(ROWS($K$2:K88),$K$2:$K$1048576,0)),\"\")","v":""}]
[null,null,null,null,null,null,null,null,null,null,{"$f":"IF(ISNUMBER(SEARCH(Drop!$X$2,Liste!A89)),MAX(Liste!$K$1:'Liste'!K88)+1,\"\")","v":""},{"$f":"IFERROR(INDEX($A$2:$A$1000,MATCH(ROWS($K$2:K89),$K$2:$K$1048576,0)),\"\")","v":""}]
[null,null,null,null,null,null,null,null,null,null,{"$f":"IF(ISNUMBER(SEARCH(Drop!$X$2,Liste!A90)),MAX(Liste!$K$1:'Liste'!K89)+1,\"\")","v":""},{"$f":"IFERROR(INDEX($A$2:$A$1000,MATCH(ROWS($K$2:K90),$K$2:$K$1048576,0)),\"\")","v":""}]
[null,null,null,null,null,null,null,null,null,null,{"$f":"IF(ISNUMBER(SEARCH(Drop!$X$2,Liste!A91)),MAX(Liste!$K$1:'Liste'!K90)+1,\"\")","v":""},{"$f":"IFERROR(INDEX($A$2:$A$1000,MATCH(ROWS($K$2:K91),$K$2:$K$1048576,0)),\"\")","v":""}]
[null,null,null,null,null,null,null,null,null,null,{"$f":"IF(ISNUMBER(SEARCH(Drop!$X$2,Liste!A92)),MAX(Liste!$K$1:'Liste'!K91)+1,\"\")","v":""},{"$f":"IFERROR(INDEX($A$2:$A$1000,MATCH(ROWS($K$2:K92),$K$2:$K$1048576,0)),\"\")","v":""}]
[null,null,null,null,null,null,null,null,null,null,{"$f":"IF(ISNUMBER(SEARCH(Drop!$X$2,Liste!A93)),MAX(Liste!$K$1:'Liste'!K92)+1,\"\")","v":""},{"$f":"IFERROR(INDEX($A$2:$A$1000,MATCH(ROWS($K$2:K93),$K$2:$K$1048576,0)),\"\")","v":""}]
[null,null,null,null,null,null,null,null,null,null,{"$f":"IF(ISNUMBER(SEARCH(Drop!$X$2,Liste!A94)),MAX(Liste!$K$1:'Liste'!K93)+1,\"\")","v":""},{"$f":"IFERROR(INDEX($A$2:$A$1000,MATCH(ROWS($K$2:K94),$K$2:$K$1048576,0)),\"\")","v":""}]
[null,null,null,null,null,null,null,null,null,null,{"$f":"IF(ISNUMBER(SEARCH(Drop!$X$2,Liste!A95)),MAX(Liste!$K$1:'Liste'!K94)+1,\"\")","v":""},{"$f":"IFERROR(INDEX($A$2:$A$1000,MATCH(ROWS($K$2:K95),$K$2:$K$1048576,0)),\"\")","v":""}]
[null,null,null,null,null,null,null,null,null,null,{"$f":"IF(ISNUMBER(SEARCH(Drop!$X$2,Liste!A96)),MAX(Liste!$K$1:'Liste'!K95)+1,\"\")","v":""},{"$f":"IFERROR(INDEX($A$2:$A$1000,MATCH(ROWS($K$2:K96),$K$2:$K$1048576,0)),\"\")","v":""}]
[null,null,null,null,null,null,null,null,null,null,{"$f":"IF(ISNUMBER(SEARCH(Drop!$X$2,Liste!A97)),MAX(Liste!$K$1:'Liste'!K96)+1,\"\")","v":""},{"$f":"IFERROR(INDEX($A$2:$A$1000,MATCH(ROWS($K$2:K97),$K$2:$K$1048576,0)),\"\")","v":""}]
[null,null,null,null,null,null,null,null,null,null,{"$f":"IF(ISNUMBER(SEARCH(Drop!$X$2,Liste!A98)),MAX(Liste!$K$1:'Liste'!K97)+1,\"\")","v":""},{"$f":"IFERROR(INDEX($A$2:$A$1000,MATCH(ROWS($K$2:K98),$K$2:$K$1048576,0)),\"\")","v":""}]
[null,null,null,null,null,null,null,null,null,null,{"$f":"IF(ISNUMBER(SEARCH(Drop!$X$2,Liste!A99)),MAX(Liste!$K$1:'Liste'!K98)+1,\"\")","v":""},{"$f":"IFERROR(INDEX($A$2:$A$1000,MATCH(ROWS($K$2:K99),$K$2:$K$1048576,0)),\"\")","v":""}]
[null,null,null,null,null,null,null,null,null,null,{"$f":"IF(ISNUMBER(SEARCH(Drop!$X$2,Liste!A100)),MAX(Liste!$K$1:'Liste'!K99)+1,\"\")","v":""},{"$f":"IFERROR(INDEX($A$2:$A$1000,MATCH(ROWS($K$2:K100),$K$2:$K$1048576,0)),\"\")","v":""}]
[null,null,null,null,null,null,null,null,null,null,{"$f":"IF(ISNUMBER(SEARCH(Drop!$X$2,Liste!A101)),MAX(Liste!$K$1:'Liste'!K100)+1,\"\")","v":""},{"$f":"IFERROR(INDEX($A$2:$A$1000,MATCH(ROWS($K$2:K101),$K$2:$K$1048576,0)),\"\")","v":""}]
[null,null,null,null,null,null,null,null,null,null,{"$f":"IF(ISNUMBER(SEARCH(Drop!$X$2,Liste!A102)),MAX(Liste!$K$1:'Liste'!K101)+1,\"\")","v":""},{"$f":"IFERROR(INDEX($A$2:$A$1000,MATCH(ROWS($K$2:K102),$K$2:$K$1048576,0)),\"\")","v":""}]
[null,null,null,null,null,null,null,null,null,null,{"$f":"IF(ISNUMBER(SEARCH(Drop!$X$2,Liste!A103)),MAX(Liste!$K$1:'Liste'!K102)+1,\"\")","v":""},{"$f":"IFERROR(INDEX($A$2:$A$1000,MATCH(ROWS($K$2:K103),$K$2:$K$1048576,0)),\"\")","v":""}]
[null,null,null,null,null,null,null,null,null,null,{"$f":"IF(ISNUMBER(SEARCH(Drop!$X$2,Liste!A104)),MAX(Liste!$K$1:'Liste'!K103)+1,\"\")","v":""},{"$f":"IFERROR(INDEX($A$2:$A$1000,MATCH(ROWS($K$2:K104),$K$2:$K$1048576,0)),\"\")","v":""}]
[null,null,null,null,null,null,null,null,null,null,{"$f":"IF(ISNUMBER(SEARCH(Drop!$X$2,Liste!A105)),MAX(Liste!$K$1:'Liste'!K104)+1,\"\")","v":""},{"$f":"IFERROR(INDEX($A$2:$A$1000,MATCH(ROWS($K$2:K105),$K$2:$K$1048576,0)),\"\")","v":""}]
[null,null,null,null,null,null,null,null,null,null,{"$f":"IF(ISNUMBER(SEARCH(Drop!$X$2,Liste!A106)),MAX(Liste!$K$1:'Liste'!K105)+1,\"\")","v":""},{"$f":"IFERROR(INDEX($A$2:$A$1000,MATCH(ROWS($K$2:K106),$K$2:$K$1048576,0)),\"\")","v":""}]
[null,null,null,null,null,null,null,null,null,null,{"$f":"IF(ISNUMBER(SEARCH(Drop!$X$2,Liste!A107)),MAX(Liste!$K$1:'Liste'!K106)+1,\"\")","v":""},{"$f":"IFERROR(INDEX($A$2:$A$1000,MATCH(ROWS($K$2:K107),$K$2:$K$1048576,0)),\"\")","v":""}]
[null,null,null,null,null,null,null,null,null,null,{"$f":"IF(ISNUMBER(SEARCH(Drop!$X$2,Liste!A108)),MAX(Liste!$K$1:'Liste'!K107)+1,\"\")","v":""},{"$f":"IFERROR(INDEX($A$2:$A$1000,MATCH(ROWS($K$2:K108),$K$2:$K$1048576,0)),\"\")","v":""}]
[null,null,null,null,null,null,null,null,null,null,{"$f":"IF(ISNUMBER(SEARCH(Drop!$X$2,Liste!A109)),MAX(Liste!$K$1:'Liste'!K108)+1,\"\")","v":""},{"$f":"IFERROR(INDEX($A$2:$A$1000,MATCH(ROWS($K$2:K109),$K$2:$K$1048576,0)),\"\")","v":""}]
[null,null,null,null,null,null,null,null,null,null,{"$f":"IF(ISNUMBER(SEARCH(Drop!$X$2,Liste!A110)),MAX(Liste!$K$1:'Liste'!K109)+1,\"\")","v":""},{"$f":"IFERROR(INDEX($A$2:$A$1000,MATCH(ROWS($K$2:K110),$K$2:$K$1048576,0)),\"\")","v":""}]
[null,null,null,null,null,null,null,null,null,null,{"$f":"IF(ISNUMBER(SEARCH(Drop!$X$2,Liste!A111)),MAX(Liste!$K$1:'Liste'!K110)+1,\"\")","v":""},{"$f":"IFERROR(INDEX($A$2:$A$1000,MATCH(ROWS($K$2:K111),$K$2:$K$1048576,0)),\"\")","v":""}]
[null,null,null,null,null,null,null,null,null,null,{"$f":"IF(ISNUMBER(SEARCH(Drop!$X$2,Liste!A112)),MAX(Liste!$K$1:'Liste'!K111)+1,\"\")","v":""},{"$f":"IFERROR(INDEX($A$2:$A$1000,MATCH(ROWS($K$2:K112),$K$2:$K$1048576,0)),\"\")","v":""}]
[null,null,null,null,null,null,null,null,null,null,{"$f":"IF(ISNUMBER(SEARCH(Drop!$X$2,Liste!A113)),MAX(Liste!$K$1:'Liste'!K112)+1,\"\")","v":""},{"$f":"IFERROR(INDEX($A$2:$A$1000,MATCH(ROWS($K$2:K113),$K$2:$K$1048576,0)),\"\")","v":""}]
[null,null,null,null,null,null,null,null,null,null,{"$f":"IF(ISNUMBER(SEARCH(Drop!$X$2,Liste!A114)),MAX(Liste!$K$1:'Liste'!K113)+1,\"\")","v":""},{"$f":"IFERROR(INDEX($A$2:$A$1000,MATCH(ROWS($K$2:K114),$K$2:$K$1048576,0)),\"\")","v":""}]
[null,null,null,null,null,null,null,null,null,null,{"$f":"IF(ISNUMBER(SEARCH(Drop!$X$2,Liste!A115)),MAX(Liste!$K$1:'Liste'!K114)+1,\"\")","v":""},{"$f":"IFERROR(INDEX($A$2:$A$1000,MATCH(ROWS($K$2:K115),$K$2:$K$1048576,0)),\"\")","v":""}]
[null,null,null,null,null,null,null,null,null,null,{"$f":"IF(ISNUMBER(SEARCH(Drop!$X$2,Liste!A116)),MAX(Liste!$K$1:'Liste'!K115)+1,\"\")","v":""},{"$f":"IFERROR(INDEX($A$2:$A$1000,MATCH(ROWS($K$2:K116),$K$2:$K$1048576,0)),\"\")","v":""}]
[null,null,null,null,null,null,null,null,null,null,{"$f":"IF(ISNUMBER(SEARCH(Drop!$X$2,Liste!A117)),MAX(Liste!$K$1:'Liste'!K116)+1,\"\")","v":""},{"$f":"IFERROR(INDEX($A$2:$A$1000,MATCH(ROWS($K$2:K117),$K$2:$K$1048576,0)),\"\")","v":""}]
[null,null,null,null,null,null,null,null,null,null,{"$f":"IF(ISNUMBER(SEARCH(Drop!$X$2,Liste!A118)),MAX(Liste!$K$1:'Liste'!K117)+1,\"\")","v":""},{"$f":"IFERROR(INDEX($A$2:$A$1000,MATCH(ROWS($K$2:K118),$K$2:$K$1048576,0)),\"\")","v":""}]
[null,null,null,null,null,null,null,null,null,null,{"$f":"IF(ISNUMBER(SEARCH(Drop!$X$2,Liste!A119)),MAX(Liste!$K$1:'Liste'!K118)+1,\"\")","v":""},{"$f":"IFERROR(INDEX($A$2:$A$1000,MATCH(ROWS($K$2:K119),$K$2:$K$1048576,0)),\"\")","v":""}]
[null,null,null,null,null,null,null,null,null,null,{"$f":"IF(ISNUMBER(SEARCH(Drop!$X$2,Liste!A120)),MAX(Liste!$K$1:'Liste'!K119)+1,\"\")","v":""},{"$f":"IFERROR(INDEX($A$2:$A$1000,MATCH(ROWS($K$2:K120),$K$2:$K$1048576,0)),\"\")","v":""}]
[null,null,null,null,null,null,null,null,null,null,{"$f":"IF(ISNUMBER(SEARCH(Drop!$X$2,Liste!A121)),MAX(Liste!$K$1:'Liste'!K120)+1,\"\")","v":""},{"$f":"IFERROR(INDEX($A$2:$A$1000,MATCH(ROWS($K$2:K121),$K$2:$K$1048576,0)),\"\")","v":""}]
[null,null,null,null,null,null,null,null,null,null,{"$f":"IF(ISNUMBER(SEARCH(Drop!$X$2,Liste!A122)),MAX(Liste!$K$1:'Liste'!K121)+1,\"\")","v":""},{"$f":"IFERROR(INDEX($A$2:$A$1000,MATCH(ROWS($K$2:K122),$K$2:$K$1048576,0)),\"\")","v":""}]
[null,null,null,null,null,null,null,null,null,null,{"$f":"IF(ISNUMBER(SEARCH(Drop!$X$2,Liste!A123)),MAX(Liste!$K$1:'Liste'!K122)+1,\"\")","v":""},{"$f":"IFERROR(INDEX($A$2:$A$1000,MATCH(ROWS($K$2:K123),$K$2:$K$1048576,0)),\"\")","v":""}]
[null,null,null,null,null,null,null,null,null,null,{"$f":"IF(ISNUMBER(SEARCH(Drop!$X$2,Liste!A124)),MAX(Liste!$K$1:'Liste'!K123)+1,\"\")","v":""},{"$f":"IFERROR(INDEX($A$2:$A$1000,MATCH(ROWS($K$2:K124),$K$2:$K$1048576,0)),\"\")","v":""}]
[null,null,null,null,null,null,null,null,null,null,{"$f":"IF(ISNUMBER(SEARCH(Drop!$X$2,Liste!A125)),MAX(Liste!$K$1:'Liste'!K124)+1,\"\")","v":""},{"$f":"IFERROR(INDEX($A$2:$A$1000,MATCH(ROWS($K$2:K125),$K$2:$K$1048576,0)),\"\")","v":""}]
[null,null,null,null,null,null,null,null,null,null,{"$f":"IF(ISNUMBER(SEARCH(Drop!$X$2,Liste!A126)),MAX(Liste!$K$1:'Liste'!K125)+1,\"\")","v":""},{"$f":"IFERROR(INDEX($A$2:$A$1000,MATCH(ROWS($K$2:K126),$K$2:$K$1048576,0)),\"\")","v":""}]
[null,null,null,null,null,null,null,null,null,null,{"$f":"IF(ISNUMBER(SEARCH(Drop!$X$2,Liste!A127)),MAX(Liste!$K$1:'Liste'!K126)+1,\"\")","v":""},{"$f":"IFERROR(INDEX($A$2:$A$1000,MATCH(ROWS($K$2:K127),$K$2:$K$1048576,0)),\"\")","v":""}]
[null,null,null,null,null,null,null,null,null,null,{"$f":"IF(ISNUMBER(SEARCH(Drop!$X$2,Liste!A128)),MAX(Liste!$K$1:'Liste'!K127)+1,\"\")","v":""},{"$f":"IFERROR(INDEX($A$2:$A$1000,MATCH(ROWS($K$2:K128),$K$2:$K$1048576,0)),\"\")","v":""}]
[null,null,null,null,null,null,null,null,null,null,{"$f":"IF(ISNUMBER(SEARCH(Drop!$X$2,Liste!A129)),MAX(Liste!$K$1:'Liste'!K128)+1,\"\")","v":""},{"$f":"IFERROR(INDEX($A$2:$A$1000,MATCH(ROWS($K$2:K129),$K$2:$K$1048576,0)),\"\")","v":""}]
[null,null,null,null,null,null,null,null,null,null,{"$f":"IF(ISNUMBER(SEARCH(Drop!$X$2,Liste!A130)),MAX(Liste!$K$1:'Liste'!K129)+1,\"\")","v":""},{"$f":"IFERROR(INDEX($A$2:$A$1000,MATCH(ROWS($K$2:K130),$K$2:$K$1048576,0)),\"\")","v":""}]
[null,null,null,null,null,null,null,null,null,null,{"$f":"IF(ISNUMBER(SEARCH(Drop!$X$2,Liste!A131)),MAX(Liste!$K$1:'Liste'!K130)+1,\"\")","v":""},{"$f":"IFERROR(INDEX($A$2:$A$1000,MATCH(ROWS($K$2:K131),$K$2:$K$1048576,0)),\"\")","v":""}]
[null,null,null,null,null,null,null,null,null,null,{"$f":"IF(ISNUMBER(SEARCH(Drop!$X$2,Liste!A132)),MAX(Liste!$K$1:'Liste'!K131)+1,\"\")","v":""},{"$f":"IFERROR(INDEX($A$2:$A$1000,MATCH(ROWS($K$2:K132),$K$2:$K$1048576,0)),\"\")","v":""}]
[null,null,null,null,null,null,null,null,null,null,{"$f":"IF(ISNUMBER(SEARCH(Drop!$X$2,Liste!A133)),MAX(Liste!$K$1:'Liste'!K132)+1,\"\")","v":""},{"$f":"IFERROR(INDEX($A$2:$A$1000,MATCH(ROWS($K$2:K133),$K$2:$K$1048576,0)),\"\")","v":""}]
[null,null,null,null,null,null,null,null,null,null,{"$f":"IF(ISNUMBER(SEARCH(Drop!$X$2,Liste!A134)),MAX(Liste!$K$1:'Liste'!K133)+1,\"\")","v":""},{"$f":"IFERROR(INDEX($A$2:$A$1000,MATCH(ROWS($K$2:K134),$K$2:$K$1048576,0)),\"\")","v":""}]
[null,null,null,null,null,null,null,null,null,null,{"$f":"IF(ISNUMBER(SEARCH(Drop!$X$2,Liste!A135)),MAX(Liste!$K$1:'Liste'!K134)+1,\"\")","v":""},{"$f":"IFERROR(INDEX($A$2:$A$1000,MATCH(ROWS($K$2:K135),$K$2:$K$1048576,0)),\"\")","v":""}]
[null,null,null,null,null,null,null,null,null,null,{"$f":"IF(ISNUMBER(SEARCH(Drop!$X$2,Liste!A136)),MAX(Liste!$K$1:'Liste'!K135)+1,\"\")","v":""},{"$f":"IFERROR(INDEX($A$2:$A$1000,MATCH(ROWS($K$2:K136),$K$2:$K$1048576,0)),\"\")","v":""}]
[null,null,null,null,null,null,null,null,null,null,{"$f":"IF(ISNUMBER(SEARCH(Drop!$X$2,Liste!A137)),MAX(Liste!$K$1:'Liste'!K136)+1,\"\")","v":""},{"$f":"IFERROR(INDEX($A$2:$A$1000,MATCH(ROWS($K$2:K137),$K$2:$K$1048576,0)),\"\")","v":""}]
[null,null,null,null,null,null,null,null,null,null,{"$f":"IF(ISNUMBER(SEARCH(Drop!$X$2,Liste!A138)),MAX(Liste!$K$1:'Liste'!K137)+1,\"\")","v":""},{"$f":"IFERROR(INDEX($A$2:$A$1000,MATCH(ROWS($K$2:K138),$K$2:$K$1048576,0)),\"\")","v":""}]
[null,null,null,null,null,null,null,null,null,null,{"$f":"IF(ISNUMBER(SEARCH(Drop!$X$2,Liste!A139)),MAX(Liste!$K$1:'Liste'!K138)+1,\"\")","v":""},{"$f":"IFERROR(INDEX($A$2:$A$1000,MATCH(ROWS($K$2:K139),$K$2:$K$1048576,0)),\"\")","v":""}]
[null,null,null,null,null,null,null,null,null,null,{"$f":"IF(ISNUMBER(SEARCH(Drop!$X$2,Liste!A140)),MAX(Liste!$K$1:'Liste'!K139)+1,\"\")","v":""},{"$f":"IFERROR(INDEX($A$2:$A$1000,MATCH(ROWS($K$2:K140),$K$2:$K$1048576,0)),\"\")","v":""}]
[null,null,null,null,null,null,null,null,null,null,{"$f":"IF(ISNUMBER(SEARCH(Drop!$X$2,Liste!A141)),MAX(Liste!$K$1:'Liste'!K140)+1,\"\")","v":""},{"$f":"IFERROR(INDEX($A$2:$A$1000,MATCH(ROWS($K$2:K141),$K$2:$K$1048576,0)),\"\")","v":""}]
[null,null,null,null,null,null,null,null,null,null,{"$f":"IF(ISNUMBER(SEARCH(Drop!$X$2,Liste!A142)),MAX(Liste!$K$1:'Liste'!K141)+1,\"\")","v":""},{"$f":"IFERROR(INDEX($A$2:$A$1000,MATCH(ROWS($K$2:K142),$K$2:$K$1048576,0)),\"\")","v":""}]
[null,null,null,null,null,null,null,null,null,null,{"$f":"IF(ISNUMBER(SEARCH(Drop!$X$2,Liste!A143)),MAX(Liste!$K$1:'Liste'!K142)+1,\"\")","v":""},{"$f":"IFERROR(INDEX($A$2:$A$1000,MATCH(ROWS($K$2:K143),$K$2:$K$1048576,0)),\"\")","v":""}]
[null,null,null,null,null,null,null,null,null,null,{"$f":"IF(ISNUMBER(SEARCH(Drop!$X$2,Liste!A144)),MAX(Liste!$K$1:'Liste'!K143)+1,\"\")","v":""},{"$f":"IFERROR(INDEX($A$2:$A$1000,MATCH(ROWS($K$2:K144),$K$2:$K$1048576,0)),\"\")","v":""}]
[null,null,null,null,null,null,null,null,null,null,{"$f":"IF(ISNUMBER(SEARCH(Drop!$X$2,Liste!A145)),MAX(Liste!$K$1:'Liste'!K144)+1,\"\")","v":""},{"$f":"IFERROR(INDEX($A$2:$A$1000,MATCH(ROWS($K$2:K145),$K$2:$K$1048576,0)),\"\")","v":""}]
[null,null,null,null,null,null,null,null,null,null,{"$f":"IF(ISNUMBER(SEARCH(Drop!$X$2,Liste!A146)),MAX(Liste!$K$1:'Liste'!K145)+1,\"\")","v":""},{"$f":"IFERROR(INDEX($A$2:$A$1000,MATCH(ROWS($K$2:K146),$K$2:$K$1048576,0)),\"\")","v":""}]
[null,null,null,null,null,null,null,null,null,null,{"$f":"IF(ISNUMBER(SEARCH(Drop!$X$2,Liste!A147)),MAX(Liste!$K$1:'Liste'!K146)+1,\"\")","v":""},{"$f":"IFERROR(INDEX($A$2:$A$1000,MATCH(ROWS($K$2:K147),$K$2:$K$1048576,0)),\"\")","v":""}]
[null,null,null,null,null,null,null,null,null,null,{"$f":"IF(ISNUMBER(SEARCH(Drop!$X$2,Liste!A148)),MAX(Liste!$K$1:'Liste'!K147)+1,\"\")","v":""},{"$f":"IFERROR(INDEX($A$2:$A$1000,MATCH(ROWS($K$2:K148),$K$2:$K$1048576,0)),\"\")","v":""}]
[null,null,null,null,null,null,null,null,null,null,{"$f":"IF(ISNUMBER(SEARCH(Drop!$X$2,Liste!A149)),MAX(Liste!$K$1:'Liste'!K148)+1,\"\")","v":""},{"$f":"IFERROR(INDEX($A$2:$A$1000,MATCH(ROWS($K$2:K149),$K$2:$K$1048576,0)),\"\")","v":""}]
[null,null,null,null,null,null,null,null,null,null,{"$f":"IF(ISNUMBER(SEARCH(Drop!$X$2,Liste!A150)),MAX(Liste!$K$1:'Liste'!K149)+1,\"\")","v":""},{"$f":"IFERROR(INDEX($A$2:$A$1000,MATCH(ROWS($K$2:K150),$K$2:$K$1048576,0)),\"\")","v":""}]
[null,null,null,null,null,null,null,null,null,null,{"$f":"IF(ISNUMBER(SEARCH(Drop!$X$2,Liste!A151)),MAX(Liste!$K$1:'Liste'!K150)+1,\"\")","v":""},{"$f":"IFERROR(INDEX($A$2:$A$1000,MATCH(ROWS($K$2:K151),$K$2:$K$1048576,0)),\"\")","v":""}]
[null,null,null,null,null,null,null,null,null,null,{"$f":"IF(ISNUMBER(SEARCH(Drop!$X$2,Liste!A152)),MAX(Liste!$K$1:'Liste'!K151)+1,\"\")","v":""},{"$f":"IFERROR(INDEX($A$2:$A$1000,MATCH(ROWS($K$2:K152),$K$2:$K$1048576,0)),\"\")","v":""}]
[null,null,null,null,null,null,null,null,null,null,{"$f":"IF(ISNUMBER(SEARCH(Drop!$X$2,Liste!A153)),MAX(Liste!$K$1:'Liste'!K152)+1,\"\")","v":""},{"$f":"IFERROR(INDEX($A$2:$A$1000,MATCH(ROWS($K$2:K153),$K$2:$K$1048576,0)),\"\")","v":""}]
[null,null,null,null,null,null,null,null,null,null,{"$f":"IF(ISNUMBER(SEARCH(Drop!$X$2,Liste!A154)),MAX(Liste!$K$1:'Liste'!K153)+1,\"\")","v":""},{"$f":"IFERROR(INDEX($A$2:$A$1000,MATCH(ROWS($K$2:K154),$K$2:$K$1048576,0)),\"\")","v":""}]
[null,null,null,null,null,null,null,null,null,null,{"$f":"IF(ISNUMBER(SEARCH(Drop!$X$2,Liste!A155)),MAX(Liste!$K$1:'Liste'!K154)+1,\"\")","v":""},{"$f":"IFERROR(INDEX($A$2:$A$1000,MATCH(ROWS($K$2:K155),$K$2:$K$1048576,0)),\"\")","v":""}]
[null,null,null,null,null,null,null,null,null,null,{"$f":"IF(ISNUMBER(SEARCH(Drop!$X$2,Liste!A156)),MAX(Liste!$K$1:'Liste'!K155)+1,\"\")","v":""},{"$f":"IFERROR(INDEX($A$2:$A$1000,MATCH(ROWS($K$2:K156),$K$2:$K$1048576,0)),\"\")","v":""}]
[null,null,null,null,null,null,null,null,null,null,{"$f":"IF(ISNUMBER(SEARCH(Drop!$X$2,Liste!A157)),MAX(Liste!$K$1:'Liste'!K156)+1,\"\")","v":""},{"$f":"IFERROR(INDEX($A$2:$A$1000,MATCH(ROWS($K$2:K157),$K$2:$K$1048576,0)),\"\")","v":""}]
[null,null,null,null,null,null,null,null,null,null,{"$f":"IF(ISNUMBER(SEARCH(Drop!$X$2,Liste!A158)),MAX(Liste!$K$1:'Liste'!K157)+1,\"\")","v":""},{"$f":"IFERROR(INDEX($A$2:$A$1000,MATCH(ROWS($K$2:K158),$K$2:$K$1048576,0)),\"\")","v":""}]
[null,null,null,null,null,null,null,null,null,null,{"$f":"IF(ISNUMBER(SEARCH(Drop!$X$2,Liste!A159)),MAX(Liste!$K$1:'Liste'!K158)+1,\"\")","v":""},{"$f":"IFERROR(INDEX($A$2:$A$1000,MATCH(ROWS($K$2:K159),$K$2:$K$1048576,0)),\"\")","v":""}]
[null,null,null,null,null,null,null,null,null,null,{"$f":"IF(ISNUMBER(SEARCH(Drop!$X$2,Liste!A160)),MAX(Liste!$K$1:'Liste'!K159)+1,\"\")","v":""},{"$f":"IFERROR(INDEX($A$2:$A$1000,MATCH(ROWS($K$2:K160),$K$2:$K$1048576,0)),\"\")","v":""}]
[null,null,null,null,null,null,null,null,null,null,{"$f":"IF(ISNUMBER(SEARCH(Drop!$X$2,Liste!A161)),MAX(Liste!$K$1:'Liste'!K160)+1,\"\")","v":""},{"$f":"IFERROR(INDEX($A$2:$A$1000,MATCH(ROWS($K$2:K161),$K$2:$K$1048576,0)),\"\")","v":""}]
[null,null,null,null,null,null,null,null,null,null,{"$f":"IF(ISNUMBER(SEARCH(Drop!$X$2,Liste!A162)),MAX(Liste!$K$1:'Liste'!K161)+1,\"\")","v":""},{"$f":"IFERROR(INDEX($A$2:$A$1000,MATCH(ROWS($K$2:K162),$K$2:$K$1048576,0)),\"\")","v":""}]
[null,null,null,null,null,null,null,null,null,null,{"$f":"IF(ISNUMBER(SEARCH(Drop!$X$2,Liste!A163)),MAX(Liste!$K$1:'Liste'!K162)+1,\"\")","v":""},{"$f":"IFERROR(INDEX($A$2:$A$1000,MATCH(ROWS($K$2:K163),$K$2:$K$1048576,0)),\"\")","v":""}]
[null,null,null,null,null,null,null,null,null,null,{"$f":"IF(ISNUMBER(SEARCH(Drop!$X$2,Liste!A164)),MAX(Liste!$K$1:'Liste'!K163)+1,\"\")","v":""},{"$f":"IFERROR(INDEX($A$2:$A$1000,MATCH(ROWS($K$2:K164),$K$2:$K$1048576,0)),\"\")","v":""}]
[null,null,null,null,null,null,null,null,null,null,{"$f":"IF(ISNUMBER(SEARCH(Drop!$X$2,Liste!A165)),MAX(Liste!$K$1:'Liste'!K164)+1,\"\")","v":""},{"$f":"IFERROR(INDEX($A$2:$A$1000,MATCH(ROWS($K$2:K165),$K$2:$K$1048576,0)),\"\")","v":""}]
[null,null,null,null,null,null,null,null,null,null,{"$f":"IF(ISNUMBER(SEARCH(Drop!$X$2,Liste!A166)),MAX(Liste!$K$1:'Liste'!K165)+1,\"\")","v":""},{"$f":"IFERROR(INDEX($A$2:$A$1000,MATCH(ROWS($K$2:K166),$K$2:$K$1048576,0)),\"\")","v":""}]
[null,null,null,null,null,null,null,null,null,null,{"$f":"IF(ISNUMBER(SEARCH(Drop!$X$2,Liste!A167)),MAX(Liste!$K$1:'Liste'!K166)+1,\"\")","v":""},{"$f":"IFERROR(INDEX($A$2:$A$1000,MATCH(ROWS($K$2:K167),$K$2:$K$1048576,0)),\"\")","v":""}]
[null,null,null,null,null,null,null,null,null,null,{"$f":"IF(ISNUMBER(SEARCH(Drop!$X$2,Liste!A168)),MAX(Liste!$K$1:'Liste'!K167)+1,\"\")","v":""},{"$f":"IFERROR(INDEX($A$2:$A$1000,MATCH(ROWS($K$2:K168),$K$2:$K$1048576,0)),\"\")","v":""}]
[null,null,null,null,null,null,null,null,null,null,{"$f":"IF(ISNUMBER(SEARCH(Drop!$X$2,Liste!A169)),MAX(Liste!$K$1:'Liste'!K168)+1,\"\")","v":""},{"$f":"IFERROR(INDEX($A$2:$A$1000,MATCH(ROWS($K$2:K169),$K$2:$K$1048576,0)),\"\")","v":""}]
[null,null,null,null,null,null,null,null,null,null,{"$f":"IF(ISNUMBER(SEARCH(Drop!$X$2,Liste!A170)),MAX(Liste!$K$1:'Liste'!K169)+1,\"\")","v":""},{"$f":"IFERROR(INDEX($A$2:$A$1000,MATCH(ROWS($K$2:K170),$K$2:$K$1048576,0)),\"\")","v":""}]
[null,null,null,null,null,null,null,null,null,null,{"$f":"IF(ISNUMBER(SEARCH(Drop!$X$2,Liste!A171)),MAX(Liste!$K$1:'Liste'!K170)+1,\"\")","v":""},{"$f":"IFERROR(INDEX($A$2:$A$1000,MATCH(ROWS($K$2:K171),$K$2:$K$1048576,0)),\"\")","v":""}]
[null,null,null,null,null,null,null,null,null,null,{"$f":"IF(ISNUMBER(SEARCH(Drop!$X$2,Liste!A172)),MAX(Liste!$K$1:'Liste'!K171)+1,\"\")","v":""},{"$f":"IFERROR(INDEX($A$2:$A$1000,MATCH(ROWS($K$2:K172),$K$2:$K$1048576,0)),\"\")","v":""}]
[null,null,null,null,null,null,null,null,null,null,{"$f":"IF(ISNUMBER(SEARCH(Drop!$X$2,Liste!A173)),MAX(Liste!$K$1:'Liste'!K172)+1,\"\")","v":""},{"$f":"IFERROR(INDEX($A$2:$A$1000,MATCH(ROWS($K$2:K173),$K$2:$K$1048576,0)),\"\")","v":""}]
[null,null,null,null,null,null,null,null,null,null,{"$f":"IF(ISNUMBER(SEARCH(Drop!$X$2,Liste!A174)),MAX(Liste!$K$1:'Liste'!K173)+1,\"\")","v":""},{"$f":"IFERROR(INDEX($A$2:$A$1000,MATCH(ROWS($K$2:K174),$K$2:$K$1048576,0)),\"\")","v":""}]
[null,null,null,null,null,null,null,null,null,null,{"$f":"IF(ISNUMBER(SEARCH(Drop!$X$2,Liste!A175)),MAX(Liste!$K$1:'Liste'!K174)+1,\"\")","v":""},{"$f":"IFERROR(INDEX($A$2:$A$1000,MATCH(ROWS($K$2:K175),$K$2:$K$1048576,0)),\"\")","v":""}]
[null,null,null,null,null,null,null,null,null,null,{"$f":"IF(ISNUMBER(SEARCH(Drop!$X$2,Liste!A176)),MAX(Liste!$K$1:'Liste'!K175)+1,\"\")","v":""},{"$f":"IFERROR(INDEX($A$2:$A$1000,MATCH(ROWS($K$2:K176),$K$2:$K$1048576,0)),\"\")","v":""}]
[null,null,null,null,null,null,null,null,null,null,{"$f":"IF(ISNUMBER(SEARCH(Drop!$X$2,Liste!A177)),MAX(Liste!$K$1:'Liste'!K176)+1,\"\")","v":""},{"$f":"IFERROR(INDEX($A$2:$A$1000,MATCH(ROWS($K$2:K177),$K$2:$K$1048576,0)),\"\")","v":""}]
[null,null,null,null,null,null,null,null,null,null,{"$f":"IF(ISNUMBER(SEARCH(Drop!$X$2,Liste!A178)),MAX(Liste!$K$1:'Liste'!K177)+1,\"\")","v":""},{"$f":"IFERROR(INDEX($A$2:$A$1000,MATCH(ROWS($K$2:K178),$K$2:$K$1048576,0)),\"\")","v":""}]
[null,null,null,null,null,null,null,null,null,null,{"$f":"IF(ISNUMBER(SEARCH(Drop!$X$2,Liste!A179)),MAX(Liste!$K$1:'Liste'!K178)+1,\"\")","v":""},{"$f":"IFERROR(INDEX($A$2:$A$1000,MATCH(ROWS($K$2:K179),$K$2:$K$1048576,0)),\"\")","v":""}]
[null,null,null,null,null,null,null,null,null,null,{"$f":"IF(ISNUMBER(SEARCH(Drop!$X$2,Liste!A180)),MAX(Liste!$K$1:'Liste'!K179)+1,\"\")","v":""},{"$f":"IFERROR(INDEX($A$2:$A$1000,MATCH(ROWS($K$2:K180),$K$2:$K$1048576,0)),\"\")","v":""}]
[null,null,null,null,null,null,null,null,null,null,{"$f":"IF(ISNUMBER(SEARCH(Drop!$X$2,Liste!A181)),MAX(Liste!$K$1:'Liste'!K180)+1,\"\")","v":""},{"$f":"IFERROR(INDEX($A$2:$A$1000,MATCH(ROWS($K$2:K181),$K$2:$K$1048576,0)),\"\")","v":""}]
[null,null,null,null,null,null,null,null,null,null,{"$f":"IF(ISNUMBER(SEARCH(Drop!$X$2,Liste!A182)),MAX(Liste!$K$1:'Liste'!K181)+1,\"\")","v":""},{"$f":"IFERROR(INDEX($A$2:$A$1000,MATCH(ROWS($K$2:K182),$K$2:$K$1048576,0)),\"\")","v":""}]
[null,null,null,null,null,null,null,null,null,null,{"$f":"IF(ISNUMBER(SEARCH(Drop!$X$2,Liste!A183)),MAX(Liste!$K$1:'Liste'!K182)+1,\"\")","v":""},{"$f":"IFERROR(INDEX($A$2:$A$1000,MATCH(ROWS($K$2:K183),$K$2:$K$1048576,0)),\"\")","v":""}]
[null,null,null,null,null,null,null,null,null,null,{"$f":"IF(ISNUMBER(SEARCH(Drop!$X$2,Liste!A184)),MAX(Liste!$K$1:'Liste'!K183)+1,\"\")","v":""},{"$f":"IFERROR(INDEX($A$2:$A$1000,MATCH(ROWS($K$2:K184),$K$2:$K$1048576,0)),\"\")","v":""}]
[null,null,null,null,null,null,null,null,null,null,{"$f":"IF(ISNUMBER(SEARCH(Drop!$X$2,Liste!A185)),MAX(Liste!$K$1:'Liste'!K184)+1,\"\")","v":""},{"$f":"IFERROR(INDEX($A$2:$A$1000,MATCH(ROWS($K$2:K185),$K$2:$K$1048576,0)),\"\")","v":""}]
[null,null,null,null,null,null,null,null,null,null,{"$f":"IF(ISNUMBER(SEARCH(Drop!$X$2,Liste!A186)),MAX(Liste!$K$1:'Liste'!K185)+1,\"\")","v":""},{"$f":"IFERROR(INDEX($A$2:$A$1000,MATCH(ROWS($K$2:K186),$K$2:$K$1048576,0)),\"\")","v":""}]
[null,null,null,null,null,null,null,null,null,null,{"$f":"IF(ISNUMBER(SEARCH(Drop!$X$2,Liste!A187)),MAX(Liste!$K$1:'Liste'!K186)+1,\"\")","v":""},{"$f":"IFERROR(INDEX($A$2:$A$1000,MATCH(ROWS($K$2:K187),$K$2:$K$1048576,0)),\"\")","v":""}]
[null,null,null,null,null,null,null,null,null,null,{"$f":"IF(ISNUMBER(SEARCH(Drop!$X$2,Liste!A188)),MAX(Liste!$K$1:'Liste'!K187)+1,\"\")","v":""},{"$f":"IFERROR(INDEX($A$2:$A$1000,MATCH(ROWS($K$2:K188),$K$2:$K$1048576,0)),\"\")","v":""}]
[null,null,null,null,null,null,null,null,null,null,{"$f":"IF(ISNUMBER(SEARCH(Drop!$X$2,Liste!A189)),MAX(Liste!$K$1:'Liste'!K188)+1,\"\")","v":""},{"$f":"IFERROR(INDEX($A$2:$A$1000,MATCH(ROWS($K$2:K189),$K$2:$K$1048576,0)),\"\")","v":""}]
[null,null,null,null,null,null,null,null,null,null,{"$f":"IF(ISNUMBER(SEARCH(Drop!$X$2,Liste!A190)),MAX(Liste!$K$1:'Liste'!K189)+1,\"\")","v":""},{"$f":"IFERROR(INDEX($A$2:$A$1000,MATCH(ROWS($K$2:K190),$K$2:$K$1048576,0)),\"\")","v":""}]
[null,null,null,null,null,null,null,null,null,null,{"$f":"IF(ISNUMBER(SEARCH(Drop!$X$2,Liste!A191)),MAX(Liste!$K$1:'Liste'!K190)+1,\"\")","v":""},{"$f":"IFERROR(INDEX($A$2:$A$1000,MATCH(ROWS($K$2:K191),$K$2:$K$1048576,0)),\"\")","v":""}]
[null,null,null,null,null,null,null,null,null,null,{"$f":"IF(ISNUMBER(SEARCH(Drop!$X$2,Liste!A192)),MAX(Liste!$K$1:'Liste'!K191)+1,\"\")","v":""},{"$f":"IFERROR(INDEX($A$2:$A$1000,MATCH(ROWS($K$2:K192),$K$2:$K$1048576,0)),\"\")","v":""}]
[null,null,null,null,null,null,null,null,null,null,{"$f":"IF(ISNUMBER(SEARCH(Drop!$X$2,Liste!A193)),MAX(Liste!$K$1:'Liste'!K192)+1,\"\")","v":""},{"$f":"IFERROR(INDEX($A$2:$A$1000,MATCH(ROWS($K$2:K193),$K$2:$K$1048576,0)),\"\")","v":""}]
[null,null,null,null,null,null,null,null,null,null,{"$f":"IF(ISNUMBER(SEARCH(Drop!$X$2,Liste!A194)),MAX(Liste!$K$1:'Liste'!K193)+1,\"\")","v":""},{"$f":"IFERROR(INDEX($A$2:$A$1000,MATCH(ROWS($K$2:K194),$K$2:$K$1048576,0)),\"\")","v":""}]
[null,null,null,null,null,null,null,null,null,null,{"$f":"IF(ISNUMBER(SEARCH(Drop!$X$2,Liste!A195)),MAX(Liste!$K$1:'Liste'!K194)+1,\"\")","v":""},{"$f":"IFERROR(INDEX($A$2:$A$1000,MATCH(ROWS($K$2:K195),$K$2:$K$1048576,0)),\"\")","v":""}]
[null,null,null,null,null,null,null,null,null,null,{"$f":"IF(ISNUMBER(SEARCH(Drop!$X$2,Liste!A196)),MAX(Liste!$K$1:'Liste'!K195)+1,\"\")","v":""},{"$f":"IFERROR(INDEX($A$2:$A$1000,MATCH(ROWS($K$2:K196),$K$2:$K$1048576,0)),\"\")","v":""}]
[null,null,null,null,null,null,null,null,null,null,{"$f":"IF(ISNUMBER(SEARCH(Drop!$X$2,Liste!A197)),MAX(Liste!$K$1:'Liste'!K196)+1,\"\")","v":""},{"$f":"IFERROR(INDEX($A$2:$A$1000,MATCH(ROWS($K$2:K197),$K$2:$K$1048576,0)),\"\")","v":""}]
[null,null,null,null,null,null,null,null,null,null,{"$f":"IF(ISNUMBER(SEARCH(Drop!$X$2,Liste!A198)),MAX(Liste!$K$1:'Liste'!K197)+1,\"\")","v":""},{"$f":"IFERROR(INDEX($A$2:$A$1000,MATCH(ROWS($K$2:K198),$K$2:$K$1048576,0)),\"\")","v":""}]
[null,null,null,null,null,null,null,null,null,null,{"$f":"IF(ISNUMBER(SEARCH(Drop!$X$2,Liste!A199)),MAX(Liste!$K$1:'Liste'!K198)+1,\"\")","v":""},{"$f":"IFERROR(INDEX($A$2:$A$1000,MATCH(ROWS($K$2:K199),$K$2:$K$1048576,0)),\"\")","v":""}]
[null,null,null,null,null,null,null,null,null,null,{"$f":"IF(ISNUMBER(SEARCH(Drop!$X$2,Liste!A200)),MAX(Liste!$K$1:'Liste'!K199)+1,\"\")","v":""},{"$f":"IFERROR(INDEX($A$2:$A$1000,MATCH(ROWS($K$2:K200),$K$2:$K$1048576,0)),\"\")","v":""}]
[null,null,null,null,null,null,null,null,null,null,{"$f":"IF(ISNUMBER(SEARCH(Drop!$X$2,Liste!A201)),MAX(Liste!$K$1:'Liste'!K200)+1,\"\")","v":""},{"$f":"IFERROR(INDEX($A$2:$A$1000,MATCH(ROWS($K$2:K201),$K$2:$K$1048576,0)),\"\")","v":""}]
[null,null,null,null,null,null,null,null,null,null,{"$f":"IF(ISNUMBER(SEARCH(Drop!$X$2,Liste!A202)),MAX(Liste!$K$1:'Liste'!K201)+1,\"\")","v":""},{"$f":"IFERROR(INDEX($A$2:$A$1000,MATCH(ROWS($K$2:K202),$K$2:$K$1048576,0)),\"\")","v":""}]
[null,null,null,null,null,null,null,null,null,null,{"$f":"IF(ISNUMBER(SEARCH(Drop!$X$2,Liste!A203)),MAX(Liste!$K$1:'Liste'!K202)+1,\"\")","v":""},{"$f":"IFERROR(INDEX($A$2:$A$1000,MATCH(ROWS($K$2:K203),$K$2:$K$1048576,0)),\"\")","v":""}]
[null,null,null,null,null,null,null,null,null,null,{"$f":"IF(ISNUMBER(SEARCH(Drop!$X$2,Liste!A204)),MAX(Liste!$K$1:'Liste'!K203)+1,\"\")","v":""},{"$f":"IFERROR(INDEX($A$2:$A$1000,MATCH(ROWS($K$2:K204),$K$2:$K$1048576,0)),\"\")","v":""}]
[null,null,null,null,null,null,null,null,null,null,{"$f":"IF(ISNUMBER(SEARCH(Drop!$X$2,Liste!A205)),MAX(Liste!$K$1:'Liste'!K204)+1,\"\")","v":""},{"$f":"IFERROR(INDEX($A$2:$A$1000,MATCH(ROWS($K$2:K205),$K$2:$K$1048576,0)),\"\")","v":""}]
[null,null,null,null,null,null,null,null,null,null,{"$f":"IF(ISNUMBER(SEARCH(Drop!$X$2,Liste!A206)),MAX(Liste!$K$1:'Liste'!K205)+1,\"\")","v":""},{"$f":"IFERROR(INDEX($A$2:$A$1000,MATCH(ROWS($K$2:K206),$K$2:$K$1048576,0)),\"\")","v":""}]
[null,null,null,null,null,null,null,null,null,null,{"$f":"IF(ISNUMBER(SEARCH(Drop!$X$2,Liste!A207)),MAX(Liste!$K$1:'Liste'!K206)+1,\"\")","v":""},{"$f":"IFERROR(INDEX($A$2:$A$1000,MATCH(ROWS($K$2:K207),$K$2:$K$1048576,0)),\"\")","v":""}]
[null,null,null,null,null,null,null,null,null,null,{"$f":"IF(ISNUMBER(SEARCH(Drop!$X$2,Liste!A208)),MAX(Liste!$K$1:'Liste'!K207)+1,\"\")","v":""},{"$f":"IFERROR(INDEX($A$2:$A$1000,MATCH(ROWS($K$2:K208),$K$2:$K$1048576,0)),\"\")","v":""}]
[null,null,null,null,null,null,null,null,null,null,{"$f":"IF(ISNUMBER(SEARCH(Drop!$X$2,Liste!A209)),MAX(Liste!$K$1:'Liste'!K208)+1,\"\")","v":""},{"$f":"IFERROR(INDEX($A$2:$A$1000,MATCH(ROWS($K$2:K209),$K$2:$K$1048576,0)),\"\")","v":""}]
[null,null,null,null,null,null,null,null,null,null,{"$f":"IF(ISNUMBER(SEARCH(Drop!$X$2,Liste!A210)),MAX(Liste!$K$1:'Liste'!K209)+1,\"\")","v":""},{"$f":"IFERROR(INDEX($A$2:$A$1000,MATCH(ROWS($K$2:K210),$K$2:$K$1048576,0)),\"\")","v":""}]
[null,null,null,null,null,null,null,null,null,null,{"$f":"IF(ISNUMBER(SEARCH(Drop!$X$2,Liste!A211)),MAX(Liste!$K$1:'Liste'!K210)+1,\"\")","v":""},{"$f":"IFERROR(INDEX($A$2:$A$1000,MATCH(ROWS($K$2:K211),$K$2:$K$1048576,0)),\"\")","v":""}]
[null,null,null,null,null,null,null,null,null,null,{"$f":"IF(ISNUMBER(SEARCH(Drop!$X$2,Liste!A212)),MAX(Liste!$K$1:'Liste'!K211)+1,\"\")","v":""},{"$f":"IFERROR(INDEX($A$2:$A$1000,MATCH(ROWS($K$2:K212),$K$2:$K$1048576,0)),\"\")","v":""}]
[null,null,null,null,null,null,null,null,null,null,{"$f":"IF(ISNUMBER(SEARCH(Drop!$X$2,Liste!A213)),MAX(Liste!$K$1:'Liste'!K212)+1,\"\")","v":""},{"$f":"IFERROR(INDEX($A$2:$A$1000,MATCH(ROWS($K$2:K213),$K$2:$K$1048576,0)),\"\")","v":""}]
[null,null,null,null,null,null,null,null,null,null,{"$f":"IF(ISNUMBER(SEARCH(Drop!$X$2,Liste!A214)),MAX(Liste!$K$1:'Liste'!K213)+1,\"\")","v":""},{"$f":"IFERROR(INDEX($A$2:$A$1000,MATCH(ROWS($K$2:K214),$K$2:$K$1048576,0)),\"\")","v":""}]
[null,null,null,null,null,null,null,null,null,null,{"$f":"IF(ISNUMBER(SEARCH(Drop!$X$2,Liste!A215)),MAX(Liste!$K$1:'Liste'!K214)+1,\"\")","v":""},{"$f":"IFERROR(INDEX($A$2:$A$1000,MATCH(ROWS($K$2:K215),$K$2:$K$1048576,0)),\"\")","v":""}]
[null,null,null,null,null,null,null,null,null,null,{"$f":"IF(ISNUMBER(SEARCH(Drop!$X$2,Liste!A216)),MAX(Liste!$K$1:'Liste'!K215)+1,\"\")","v":""},{"$f":"IFERROR(INDEX($A$2:$A$1000,MATCH(ROWS($K$2:K216),$K$2:$K$1048576,0)),\"\")","v":""}]
[null,null,null,null,null,null,null,null,null,null,{"$f":"IF(ISNUMBER(SEARCH(Drop!$X$2,Liste!A217)),MAX(Liste!$K$1:'Liste'!K216)+1,\"\")","v":""},{"$f":"IFERROR(INDEX($A$2:$A$1000,MATCH(ROWS($K$2:K217),$K$2:$K$1048576,0)),\"\")","v":""}]
[null,null,null,null,null,null,null,null,null,null,{"$f":"IF(ISNUMBER(SEARCH(Drop!$X$2,Liste!A218)),MAX(Liste!$K$1:'Liste'!K217)+1,\"\")","v":""},{"$f":"IFERROR(INDEX($A$2:$A$1000,MATCH(ROWS($K$2:K218),$K$2:$K$1048576,0)),\"\")","v":""}]
[null,null,null,null,null,null,null,null,null,null,{"$f":"IF(ISNUMBER(SEARCH(Drop!$X$2,Liste!A219)),MAX(Liste!$K$1:'Liste'!K218)+1,\"\")","v":""},{"$f":"IFERROR(INDEX($A$2:$A$1000,MATCH(ROWS($K$2:K219),$K$2:$K$1048576,0)),\"\")","v":""}]
[null,null,null,null,null,null,null,null,null,null,{"$f":"IF(ISNUMBER(SEARCH(Drop!$X$2,Liste!A220)),MAX(Liste!$K$1:'Liste'!K219)+1,\"\")","v":""},{"$f":"IFERROR(INDEX($A$2:$A$1000,MATCH(ROWS($K$2:K220),$K$2:$K$1048576,0)),\"\")","v":""}]
[null,null,null,null,null,null,null,null,null,null,{"$f":"IF(ISNUMBER(SEARCH(Drop!$X$2,Liste!A221)),MAX(Liste!$K$1:'Liste'!K220)+1,\"\")","v":""},{"$f":"IFERROR(INDEX($A$2:$A$1000,MATCH(ROWS($K$2:K221),$K$2:$K$1048576,0)),\"\")","v":""}]
[null,null,null,null,null,null,null,null,null,null,{"$f":"IF(ISNUMBER(SEARCH(Drop!$X$2,Liste!A222)),MAX(Liste!$K$1:'Liste'!K221)+1,\"\")","v":""},{"$f":"IFERROR(INDEX($A$2:$A$1000,MATCH(ROWS($K$2:K222),$K$2:$K$1048576,0)),\"\")","v":""}]
[null,null,null,null,null,null,null,null,null,null,{"$f":"IF(ISNUMBER(SEARCH(Drop!$X$2,Liste!A223)),MAX(Liste!$K$1:'Liste'!K222)+1,\"\")","v":""},{"$f":"IFERROR(INDEX($A$2:$A$1000,MATCH(ROWS($K$2:K223),$K$2:$K$1048576,0)),\"\")","v":""}]
[null,null,null,null,null,null,null,null,null,null,{"$f":"IF(ISNUMBER(SEARCH(Drop!$X$2,Liste!A224)),MAX(Liste!$K$1:'Liste'!K223)+1,\"\")","v":""},{"$f":"IFERROR(INDEX($A$2:$A$1000,MATCH(ROWS($K$2:K224),$K$2:$K$1048576,0)),\"\")","v":""}]
[null,null,null,null,null,null,null,null,null,null,{"$f":"IF(ISNUMBER(SEARCH(Drop!$X$2,Liste!A225)),MAX(Liste!$K$1:'Liste'!K224)+1,\"\")","v":""},{"$f":"IFERROR(INDEX($A$2:$A$1000,MATCH(ROWS($K$2:K225),$K$2:$K$1048576,0)),\"\")","v":""}]
[null,null,null,null,null,null,null,null,null,null,{"$f":"IF(ISNUMBER(SEARCH(Drop!$X$2,Liste!A226)),MAX(Liste!$K$1:'Liste'!K225)+1,\"\")","v":""},{"$f":"IFERROR(INDEX($A$2:$A$1000,MATCH(ROWS($K$2:K226),$K$2:$K$1048576,0)),\"\")","v":""}]
[null,null,null,null,null,null,null,null,null,null,{"$f":"IF(ISNUMBER(SEARCH(Drop!$X$2,Liste!A227)),MAX(Liste!$K$1:'Liste'!K226)+1,\"\")","v":""},{"$f":"IFERROR(INDEX($A$2:$A$1000,MATCH(ROWS($K$2:K227),$K$2:$K$1048576,0)),\"\")","v":""}]
[null,null,null,null,null,null,null,null,null,null,{"$f":"IF(ISNUMBER(SEARCH(Drop!$X$2,Liste!A228)),MAX(Liste!$K$1:'Liste'!K227)+1,\"\")","v":""},{"$f":"IFERROR(INDEX($A$2:$A$1000,MATCH(ROWS($K$2:K228),$K$2:$K$1048576,0)),\"\")","v":""}]
[null,null,null,null,null,null,null,null,null,null,{"$f":"IF(ISNUMBER(SEARCH(Drop!$X$2,Liste!A229)),MAX(Liste!$K$1:'Liste'!K228)+1,\"\")","v":""},{"$f":"IFERROR(INDEX($A$2:$A$1000,MATCH(ROWS($K$2:K229),$K$2:$K$1048576,0)),\"\")","v":""}]
[null,null,null,null,null,null,null,null,null,null,{"$f":"IF(ISNUMBER(SEARCH(Drop!$X$2,Liste!A230)),MAX(Liste!$K$1:'Liste'!K229)+1,\"\")","v":""},{"$f":"IFERROR(INDEX($A$2:$A$1000,MATCH(ROWS($K$2:K230),$K$2:$K$1048576,0)),\"\")","v":""}]
[null,null,null,null,null,null,null,null,null,null,{"$f":"IF(ISNUMBER(SEARCH(Drop!$X$2,Liste!A231)),MAX(Liste!$K$1:'Liste'!K230)+1,\"\")","v":""},{"$f":"IFERROR(INDEX($A$2:$A$1000,MATCH(ROWS($K$2:K231),$K$2:$K$1048576,0)),\"\")","v":""}]
[null,null,null,null,null,null,null,null,null,null,{"$f":"IF(ISNUMBER(SEARCH(Drop!$X$2,Liste!A232)),MAX(Liste!$K$1:'Liste'!K231)+1,\"\")","v":""},{"$f":"IFERROR(INDEX($A$2:$A$1000,MATCH(ROWS($K$2:K232),$K$2:$K$1048576,0)),\"\")","v":""}]
[null,null,null,null,null,null,null,null,null,null,{"$f":"IF(ISNUMBER(SEARCH(Drop!$X$2,Liste!A233)),MAX(Liste!$K$1:'Liste'!K232)+1,\"\")","v":""},{"$f":"IFERROR(INDEX($A$2:$A$1000,MATCH(ROWS($K$2:K233),$K$2:$K$1048576,0)),\"\")","v":""}]
[null,null,null,null,null,null,null,null,null,null,{"$f":"IF(ISNUMBER(SEARCH(Drop!$X$2,Liste!A234)),MAX(Liste!$K$1:'Liste'!K233)+1,\"\")","v":""},{"$f":"IFERROR(INDEX($A$2:$A$1000,MATCH(ROWS($K$2:K234),$K$2:$K$1048576,0)),\"\")","v":""}]
[null,null,null,null,null,null,null,null,null,null,{"$f":"IF(ISNUMBER(SEARCH(Drop!$X$2,Liste!A235)),MAX(Liste!$K$1:'Liste'!K234)+1,\"\")","v":""},{"$f":"IFERROR(INDEX($A$2:$A$1000,MATCH(ROWS($K$2:K235),$K$2:$K$1048576,0)),\"\")","v":""}]
[null,null,null,null,null,null,null,null,null,null,{"$f":"IF(ISNUMBER(SEARCH(Drop!$X$2,Liste!A236)),MAX(Liste!$K$1:'Liste'!K235)+1,\"\")","v":""},{"$f":"IFERROR(INDEX($A$2:$A$1000,MATCH(ROWS($K$2:K236),$K$2:$K$1048576,0)),\"\")","v":""}]
[null,null,null,null,null,null,null,null,null,null,{"$f":"IF(ISNUMBER(SEARCH(Drop!$X$2,Liste!A237)),MAX(Liste!$K$1:'Liste'!K236)+1,\"\")","v":""},{"$f":"IFERROR(INDEX($A$2:$A$1000,MATCH(ROWS($K$2:K237),$K$2:$K$1048576,0)),\"\")","v":""}]
[null,null,null,null,null,null,null,null,null,null,{"$f":"IF(ISNUMBER(SEARCH(Drop!$X$2,Liste!A238)),MAX(Liste!$K$1:'Liste'!K237)+1,\"\")","v":""},{"$f":"IFERROR(INDEX($A$2:$A$1000,MATCH(ROWS($K$2:K238),$K$2:$K$1048576,0)),\"\")","v":""}]
[null,null,null,null,null,null,null,null,null,null,{"$f":"IF(ISNUMBER(SEARCH(Drop!$X$2,Liste!A239)),MAX(Liste!$K$1:'Liste'!K238)+1,\"\")","v":""},{"$f":"IFERROR(INDEX($A$2:$A$1000,MATCH(ROWS($K$2:K239),$K$2:$K$1048576,0)),\"\")","v":""}]
[null,null,null,null,null,null,null,null,null,null,{"$f":"IF(ISNUMBER(SEARCH(Drop!$X$2,Liste!A240)),MAX(Liste!$K$1:'Liste'!K239)+1,\"\")","v":""},{"$f":"IFERROR(INDEX($A$2:$A$1000,MATCH(ROWS($K$2:K240),$K$2:$K$1048576,0)),\"\")","v":""}]
[null,null,null,null,null,null,null,null,null,null,{"$f":"IF(ISNUMBER(SEARCH(Drop!$X$2,Liste!A241)),MAX(Liste!$K$1:'Liste'!K240)+1,\"\")","v":""},{"$f":"IFERROR(INDEX($A$2:$A$1000,MATCH(ROWS($K$2:K241),$K$2:$K$1048576,0)),\"\")","v":""}]
[null,null,null,null,null,null,null,null,null,null,{"$f":"IF(ISNUMBER(SEARCH(Drop!$X$2,Liste!A242)),MAX(Liste!$K$1:'Liste'!K241)+1,\"\")","v":""},{"$f":"IFERROR(INDEX($A$2:$A$1000,MATCH(ROWS($K$2:K242),$K$2:$K$1048576,0)),\"\")","v":""}]
[null,null,null,null,null,null,null,null,null,null,{"$f":"IF(ISNUMBER(SEARCH(Drop!$X$2,Liste!A243)),MAX(Liste!$K$1:'Liste'!K242)+1,\"\")","v":""},{"$f":"IFERROR(INDEX($A$2:$A$1000,MATCH(ROWS($K$2:K243),$K$2:$K$1048576,0)),\"\")","v":""}]
[null,null,null,null,null,null,null,null,null,null,{"$f":"IF(ISNUMBER(SEARCH(Drop!$X$2,Liste!A244)),MAX(Liste!$K$1:'Liste'!K243)+1,\"\")","v":""},{"$f":"IFERROR(INDEX($A$2:$A$1000,MATCH(ROWS($K$2:K244),$K$2:$K$1048576,0)),\"\")","v":""}]
[null,null,null,null,null,null,null,null,null,null,{"$f":"IF(ISNUMBER(SEARCH(Drop!$X$2,Liste!A245)),MAX(Liste!$K$1:'Liste'!K244)+1,\"\")","v":""},{"$f":"IFERROR(INDEX($A$2:$A$1000,MATCH(ROWS($K$2:K245),$K$2:$K$1048576,0)),\"\")","v":""}]
[null,null,null,null,null,null,null,null,null,null,{"$f":"IF(ISNUMBER(SEARCH(Drop!$X$2,Liste!A246)),MAX(Liste!$K$1:'Liste'!K245)+1,\"\")","v":""},{"$f":"IFERROR(INDEX($A$2:$A$1000,MATCH(ROWS($K$2:K246),$K$2:$K$1048576,0)),\"\")","v":""}]
[null,null,null,null,null,null,null,null,null,null,{"$f":"IF(ISNUMBER(SEARCH(Drop!$X$2,Liste!A247)),MAX(Liste!$K$1:'Liste'!K246)+1,\"\")","v":""},{"$f":"IFERROR(INDEX($A$2:$A$1000,MATCH(ROWS($K$2:K247),$K$2:$K$1048576,0)),\"\")","v":""}]
[null,null,null,null,null,null,null,null,null,null,{"$f":"IF(ISNUMBER(SEARCH(Drop!$X$2,Liste!A248)),MAX(Liste!$K$1:'Liste'!K247)+1,\"\")","v":""},{"$f":"IFERROR(INDEX($A$2:$A$1000,MATCH(ROWS($K$2:K248),$K$2:$K$1048576,0)),\"\")","v":""}]
[null,null,null,null,null,null,null,null,null,null,{"$f":"IF(ISNUMBER(SEARCH(Drop!$X$2,Liste!A249)),MAX(Liste!$K$1:'Liste'!K248)+1,\"\")","v":""},{"$f":"IFERROR(INDEX($A$2:$A$1000,MATCH(ROWS($K$2:K249),$K$2:$K$1048576,0)),\"\")","v":""}]
[null,null,null,null,null,null,null,null,null,null,{"$f":"IF(ISNUMBER(SEARCH(Drop!$X$2,Liste!A250)),MAX(Liste!$K$1:'Liste'!K249)+1,\"\")","v":""},{"$f":"IFERROR(INDEX($A$2:$A$1000,MATCH(ROWS($K$2:K250),$K$2:$K$1048576,0)),\"\")","v":""}]
[null,null,null,null,null,null,null,null,null,null,{"$f":"IF(ISNUMBER(SEARCH(Drop!$X$2,Liste!A251)),MAX(Liste!$K$1:'Liste'!K250)+1,\"\")","v":""},{"$f":"IFERROR(INDEX($A$2:$A$1000,MATCH(ROWS($K$2:K251),$K$2:$K$1048576,0)),\"\")","v":""}]
[null,null,null,null,null,null,null,null,null,null,{"$f":"IF(ISNUMBER(SEARCH(Drop!$X$2,Liste!A252)),MAX(Liste!$K$1:'Liste'!K251)+1,\"\")","v":""},{"$f":"IFERROR(INDEX($A$2:$A$1000,MATCH(ROWS($K$2:K252),$K$2:$K$1048576,0)),\"\")","v":""}]
[null,null,null,null,null,null,null,null,null,null,{"$f":"IF(ISNUMBER(SEARCH(Drop!$X$2,Liste!A253)),MAX(Liste!$K$1:'Liste'!K252)+1,\"\")","v":""},{"$f":"IFERROR(INDEX($A$2:$A$1000,MATCH(ROWS($K$2:K253),$K$2:$K$1048576,0)),\"\")","v":""}]
[null,null,null,null,null,null,null,null,null,null,{"$f":"IF(ISNUMBER(SEARCH(Drop!$X$2,Liste!A254)),MAX(Liste!$K$1:'Liste'!K253)+1,\"\")","v":""},{"$f":"IFERROR(INDEX($A$2:$A$1000,MATCH(ROWS($K$2:K254),$K$2:$K$1048576,0)),\"\")","v":""}]
[null,null,null,null,null,null,null,null,null,null,{"$f":"IF(ISNUMBER(SEARCH(Drop!$X$2,Liste!A255)),MAX(Liste!$K$1:'Liste'!K254)+1,\"\")","v":""},{"$f":"IFERROR(INDEX($A$2:$A$1000,MATCH(ROWS($K$2:K255),$K$2:$K$1048576,0)),\"\")","v":""}]
[null,null,null,null,null,null,null,null,null,null,{"$f":"IF(ISNUMBER(SEARCH(Drop!$X$2,Liste!A256)),MAX(Liste!$K$1:'Liste'!K255)+1,\"\")","v":""},{"$f":"IFERROR(INDEX($A$2:$A$1000,MATCH(ROWS($K$2:K256),$K$2:$K$1048576,0)),\"\")","v":""}]
[null,null,null,null,null,null,null,null,null,null,{"$f":"IF(ISNUMBER(SEARCH(Drop!$X$2,Liste!A257)),MAX(Liste!$K$1:'Liste'!K256)+1,\"\")","v":""},{"$f":"IFERROR(INDEX($A$2:$A$1000,MATCH(ROWS($K$2:K257),$K$2:$K$1048576,0)),\"\")","v":""}]
[null,null,null,null,null,null,null,null,null,null,{"$f":"IF(ISNUMBER(SEARCH(Drop!$X$2,Liste!A258)),MAX(Liste!$K$1:'Liste'!K257)+1,\"\")","v":""},{"$f":"IFERROR(INDEX($A$2:$A$1000,MATCH(ROWS($K$2:K258),$K$2:$K$1048576,0)),\"\")","v":""}]
[null,null,null,null,null,null,null,null,null,null,{"$f":"IF(ISNUMBER(SEARCH(Drop!$X$2,Liste!A259)),MAX(Liste!$K$1:'Liste'!K258)+1,\"\")","v":""},{"$f":"IFERROR(INDEX($A$2:$A$1000,MATCH(ROWS($K$2:K259),$K$2:$K$1048576,0)),\"\")","v":""}]
[null,null,null,null,null,null,null,null,null,null,{"$f":"IF(ISNUMBER(SEARCH(Drop!$X$2,Liste!A260)),MAX(Liste!$K$1:'Liste'!K259)+1,\"\")","v":""},{"$f":"IFERROR(INDEX($A$2:$A$1000,MATCH(ROWS($K$2:K260),$K$2:$K$1048576,0)),\"\")","v":""}]
[null,null,null,null,null,null,null,null,null,null,{"$f":"IF(ISNUMBER(SEARCH(Drop!$X$2,Liste!A261)),MAX(Liste!$K$1:'Liste'!K260)+1,\"\")","v":""},{"$f":"IFERROR(INDEX($A$2:$A$1000,MATCH(ROWS($K$2:K261),$K$2:$K$1048576,0)),\"\")","v":""}]
[null,null,null,null,null,null,null,null,null,null,{"$f":"IF(ISNUMBER(SEARCH(Drop!$X$2,Liste!A262)),MAX(Liste!$K$1:'Liste'!K261)+1,\"\")","v":""},{"$f":"IFERROR(INDEX($A$2:$A$1000,MATCH(ROWS($K$2:K262),$K$2:$K$1048576,0)),\"\")","v":""}]
[null,null,null,null,null,null,null,null,null,null,{"$f":"IF(ISNUMBER(SEARCH(Drop!$X$2,Liste!A263)),MAX(Liste!$K$1:'Liste'!K262)+1,\"\")","v":""},{"$f":"IFERROR(INDEX($A$2:$A$1000,MATCH(ROWS($K$2:K263),$K$2:$K$1048576,0)),\"\")","v":""}]
[null,null,null,null,null,null,null,null,null,null,{"$f":"IF(ISNUMBER(SEARCH(Drop!$X$2,Liste!A264)),MAX(Liste!$K$1:'Liste'!K263)+1,\"\")","v":""},{"$f":"IFERROR(INDEX($A$2:$A$1000,MATCH(ROWS($K$2:K264),$K$2:$K$1048576,0)),\"\")","v":""}]
[null,null,null,null,null,null,null,null,null,null,{"$f":"IF(ISNUMBER(SEARCH(Drop!$X$2,Liste!A265)),MAX(Liste!$K$1:'Liste'!K264)+1,\"\")","v":""},{"$f":"IFERROR(INDEX($A$2:$A$1000,MATCH(ROWS($K$2:K265),$K$2:$K$1048576,0)),\"\")","v":""}]
[null,null,null,null,null,null,null,null,null,null,{"$f":"IF(ISNUMBER(SEARCH(Drop!$X$2,Liste!A266)),MAX(Liste!$K$1:'Liste'!K265)+1,\"\")","v":""},{"$f":"IFERROR(INDEX($A$2:$A$1000,MATCH(ROWS($K$2:K266),$K$2:$K$1048576,0)),\"\")","v":""}]
[null,null,null,null,null,null,null,null,null,null,{"$f":"IF(ISNUMBER(SEARCH(Drop!$X$2,Liste!A267)),MAX(Liste!$K$1:'Liste'!K266)+1,\"\")","v":""},{"$f":"IFERROR(INDEX($A$2:$A$1000,MATCH(ROWS($K$2:K267),$K$2:$K$1048576,0)),\"\")","v":""}]
[null,null,null,null,null,null,null,null,null,null,{"$f":"IF(ISNUMBER(SEARCH(Drop!$X$2,Liste!A268)),MAX(Liste!$K$1:'Liste'!K267)+1,\"\")","v":""},{"$f":"IFERROR(INDEX($A$2:$A$1000,MATCH(ROWS($K$2:K268),$K$2:$K$1048576,0)),\"\")","v":""}]
[null,null,null,null,null,null,null,null,null,null,{"$f":"IF(ISNUMBER(SEARCH(Drop!$X$2,Liste!A269)),MAX(Liste!$K$1:'Liste'!K268)+1,\"\")","v":""},{"$f":"IFERROR(INDEX($A$2:$A$1000,MATCH(ROWS($K$2:K269),$K$2:$K$1048576,0)),\"\")","v":""}]
[null,null,null,null,null,null,null,null,null,null,{"$f":"IF(ISNUMBER(SEARCH(Drop!$X$2,Liste!A270)),MAX(Liste!$K$1:'Liste'!K269)+1,\"\")","v":""},{"$f":"IFERROR(INDEX($A$2:$A$1000,MATCH(ROWS($K$2:K270),$K$2:$K$1048576,0)),\"\")","v":""}]
[null,null,null,null,null,null,null,null,null,null,{"$f":"IF(ISNUMBER(SEARCH(Drop!$X$2,Liste!A271)),MAX(Liste!$K$1:'Liste'!K270)+1,\"\")","v":""},{"$f":"IFERROR(INDEX($A$2:$A$1000,MATCH(ROWS($K$2:K271),$K$2:$K$1048576,0)),\"\")","v":""}]
[null,null,null,null,null,null,null,null,null,null,{"$f":"IF(ISNUMBER(SEARCH(Drop!$X$2,Liste!A272)),MAX(Liste!$K$1:'Liste'!K271)+1,\"\")","v":""},{"$f":"IFERROR(INDEX($A$2:$A$1000,MATCH(ROWS($K$2:K272),$K$2:$K$1048576,0)),\"\")","v":""}]
[null,null,null,null,null,null,null,null,null,null,{"$f":"IF(ISNUMBER(SEARCH(Drop!$X$2,Liste!A273)),MAX(Liste!$K$1:'Liste'!K272)+1,\"\")","v":""},{"$f":"IFERROR(INDEX($A$2:$A$1000,MATCH(ROWS($K$2:K273),$K$2:$K$1048576,0)),\"\")","v":""}]
[null,null,null,null,null,null,null,null,null,null,{"$f":"IF(ISNUMBER(SEARCH(Drop!$X$2,Liste!A274)),MAX(Liste!$K$1:'Liste'!K273)+1,\"\")","v":""},{"$f":"IFERROR(INDEX($A$2:$A$1000,MATCH(ROWS($K$2:K274),$K$2:$K$1048576,0)),\"\")","v":""}]
[null,null,null,null,null,null,null,null,null,null,{"$f":"IF(ISNUMBER(SEARCH(Drop!$X$2,Liste!A275)),MAX(Liste!$K$1:'Liste'!K274)+1,\"\")","v":""},{"$f":"IFERROR(INDEX($A$2:$A$1000,MATCH(ROWS($K$2:K275),$K$2:$K$1048576,0)),\"\")","v":""}]
[null,null,null,null,null,null,null,null,null,null,{"$f":"IF(ISNUMBER(SEARCH(Drop!$X$2,Liste!A276)),MAX(Liste!$K$1:'Liste'!K275)+1,\"\")","v":""},{"$f":"IFERROR(INDEX($A$2:$A$1000,MATCH(ROWS($K$2:K276),$K$2:$K$1048576,0)),\"\")","v":""}]
[null,null,null,null,null,null,null,null,null,null,{"$f":"IF(ISNUMBER(SEARCH(Drop!$X$2,Liste!A277)),MAX(Liste!$K$1:'Liste'!K276)+1,\"\")","v":""},{"$f":"IFERROR(INDEX($A$2:$A$1000,MATCH(ROWS($K$2:K277),$K$2:$K$1048576,0)),\"\")","v":""}]
[null,null,null,null,null,null,null,null,null,null,{"$f":"IF(ISNUMBER(SEARCH(Drop!$X$2,Liste!A278)),MAX(Liste!$K$1:'Liste'!K277)+1,\"\")","v":""},{"$f":"IFERROR(INDEX($A$2:$A$1000,MATCH(ROWS($K$2:K278),$K$2:$K$1048576,0)),\"\")","v":""}]
[null,null,null,null,null,null,null,null,null,null,{"$f":"IF(ISNUMBER(SEARCH(Drop!$X$2,Liste!A279)),MAX(Liste!$K$1:'Liste'!K278)+1,\"\")","v":""},{"$f":"IFERROR(INDEX($A$2:$A$1000,MATCH(ROWS($K$2:K279),$K$2:$K$1048576,0)),\"\")","v":""}]
[null,null,null,null,null,null,null,null,null,null,{"$f":"IF(ISNUMBER(SEARCH(Drop!$X$2,Liste!A280)),MAX(Liste!$K$1:'Liste'!K279)+1,\"\")","v":""},{"$f":"IFERROR(INDEX($A$2:$A$1000,MATCH(ROWS($K$2:K280),$K$2:$K$1048576,0)),\"\")","v":""}]
[null,null,null,null,null,null,null,null,null,null,{"$f":"IF(ISNUMBER(SEARCH(Drop!$X$2,Liste!A281)),MAX(Liste!$K$1:'Liste'!K280)+1,\"\")","v":""},{"$f":"IFERROR(INDEX($A$2:$A$1000,MATCH(ROWS($K$2:K281),$K$2:$K$1048576,0)),\"\")","v":""}]
[null,null,null,null,null,null,null,null,null,null,{"$f":"IF(ISNUMBER(SEARCH(Drop!$X$2,Liste!A282)),MAX(Liste!$K$1:'Liste'!K281)+1,\"\")","v":""},{"$f":"IFERROR(INDEX($A$2:$A$1000,MATCH(ROWS($K$2:K282),$K$2:$K$1048576,0)),\"\")","v":""}]
[null,null,null,null,null,null,null,null,null,null,{"$f":"IF(ISNUMBER(SEARCH(Drop!$X$2,Liste!A283)),MAX(Liste!$K$1:'Liste'!K282)+1,\"\")","v":""},{"$f":"IFERROR(INDEX($A$2:$A$1000,MATCH(ROWS($K$2:K283),$K$2:$K$1048576,0)),\"\")","v":""}]
[null,null,null,null,null,null,null,null,null,null,{"$f":"IF(ISNUMBER(SEARCH(Drop!$X$2,Liste!A284)),MAX(Liste!$K$1:'Liste'!K283)+1,\"\")","v":""},{"$f":"IFERROR(INDEX($A$2:$A$1000,MATCH(ROWS($K$2:K284),$K$2:$K$1048576,0)),\"\")","v":""}]
[null,null,null,null,null,null,null,null,null,null,{"$f":"IF(ISNUMBER(SEARCH(Drop!$X$2,Liste!A285)),MAX(Liste!$K$1:'Liste'!K284)+1,\"\")","v":""},{"$f":"IFERROR(INDEX($A$2:$A$1000,MATCH(ROWS($K$2:K285),$K$2:$K$1048576,0)),\"\")","v":""}]
[null,null,null,null,null,null,null,null,null,null,{"$f":"IF(ISNUMBER(SEARCH(Drop!$X$2,Liste!A286)),MAX(Liste!$K$1:'Liste'!K285)+1,\"\")","v":""},{"$f":"IFERROR(INDEX($A$2:$A$1000,MATCH(ROWS($K$2:K286),$K$2:$K$1048576,0)),\"\")","v":""}]
[null,null,null,null,null,null,null,null,null,null,{"$f":"IF(ISNUMBER(SEARCH(Drop!$X$2,Liste!A287)),MAX(Liste!$K$1:'Liste'!K286)+1,\"\")","v":""},{"$f":"IFERROR(INDEX($A$2:$A$1000,MATCH(ROWS($K$2:K287),$K$2:$K$1048576,0)),\"\")","v":""}]
[null,null,null,null,null,null,null,null,null,null,{"$f":"IF(ISNUMBER(SEARCH(Drop!$X$2,Liste!A288)),MAX(Liste!$K$1:'Liste'!K287)+1,\"\")","v":""},{"$f":"IFERROR(INDEX($A$2:$A$1000,MATCH(ROWS($K$2:K288),$K$2:$K$1048576,0)),\"\")","v":""}]
[null,null,null,null,null,null,null,null,null,null,{"$f":"IF(ISNUMBER(SEARCH(Drop!$X$2,Liste!A289)),MAX(Liste!$K$1:'Liste'!K288)+1,\"\")","v":""},{"$f":"IFERROR(INDEX($A$2:$A$1000,MATCH(ROWS($K$2:K289),$K$2:$K$1048576,0)),\"\")","v":""}]
[null,null,null,null,null,null,null,null,null,null,{"$f":"IF(ISNUMBER(SEARCH(Drop!$X$2,Liste!A290)),MAX(Liste!$K$1:'Liste'!K289)+1,\"\")","v":""},{"$f":"IFERROR(INDEX($A$2:$A$1000,MATCH(ROWS($K$2:K290),$K$2:$K$1048576,0)),\"\")","v":""}]
[null,null,null,null,null,null,null,null,null,null,{"$f":"IF(ISNUMBER(SEARCH(Drop!$X$2,Liste!A291)),MAX(Liste!$K$1:'Liste'!K290)+1,\"\")","v":""},{"$f":"IFERROR(INDEX($A$2:$A$1000,MATCH(ROWS($K$2:K291),$K$2:$K$1048576,0)),\"\")","v":""}]
[null,null,null,null,null,null,null,null,null,null,{"$f":"IF(ISNUMBER(SEARCH(Drop!$X$2,Liste!A292)),MAX(Liste!$K$1:'Liste'!K291)+1,\"\")","v":""},{"$f":"IFERROR(INDEX($A$2:$A$1000,MATCH(ROWS($K$2:K292),$K$2:$K$1048576,0)),\"\")","v":""}]
[null,null,null,null,null,null,null,null,null,null,{"$f":"IF(ISNUMBER(SEARCH(Drop!$X$2,Liste!A293)),MAX(Liste!$K$1:'Liste'!K292)+1,\"\")","v":""},{"$f":"IFERROR(INDEX($A$2:$A$1000,MATCH(ROWS($K$2:K293),$K$2:$K$1048576,0)),\"\")","v":""}]
[null,null,null,null,null,null,null,null,null,null,{"$f":"IF(ISNUMBER(SEARCH(Drop!$X$2,Liste!A294)),MAX(Liste!$K$1:'Liste'!K293)+1,\"\")","v":""},{"$f":"IFERROR(INDEX($A$2:$A$1000,MATCH(ROWS($K$2:K294),$K$2:$K$1048576,0)),\"\")","v":""}]
[null,null,null,null,null,null,null,null,null,null,{"$f":"IF(ISNUMBER(SEARCH(Drop!$X$2,Liste!A295)),MAX(Liste!$K$1:'Liste'!K294)+1,\"\")","v":""},{"$f":"IFERROR(INDEX($A$2:$A$1000,MATCH(ROWS($K$2:K295),$K$2:$K$1048576,0)),\"\")","v":""}]
[null,null,null,null,null,null,null,null,null,null,{"$f":"IF(ISNUMBER(SEARCH(Drop!$X$2,Liste!A296)),MAX(Liste!$K$1:'Liste'!K295)+1,\"\")","v":""},{"$f":"IFERROR(INDEX($A$2:$A$1000,MATCH(ROWS($K$2:K296),$K$2:$K$1048576,0)),\"\")","v":""}]
[null,null,null,null,null,null,null,null,null,null,{"$f":"IF(ISNUMBER(SEARCH(Drop!$X$2,Liste!A297)),MAX(Liste!$K$1:'Liste'!K296)+1,\"\")","v":""},{"$f":"IFERROR(INDEX($A$2:$A$1000,MATCH(ROWS($K$2:K297),$K$2:$K$1048576,0)),\"\")","v":""}]
[null,null,null,null,null,null,null,null,null,null,{"$f":"IF(ISNUMBER(SEARCH(Drop!$X$2,Liste!A298)),MAX(Liste!$K$1:'Liste'!K297)+1,\"\")","v":""},{"$f":"IFERROR(INDEX($A$2:$A$1000,MATCH(ROWS($K$2:K298),$K$2:$K$1048576,0)),\"\")","v":""}]
[null,null,null,null,null,null,null,null,null,null,{"$f":"IF(ISNUMBER(SEARCH(Drop!$X$2,Liste!A299)),MAX(Liste!$K$1:'Liste'!K298)+1,\"\")","v":""},{"$f":"IFERROR(INDEX($A$2:$A$1000,MATCH(ROWS($K$2:K299),$K$2:$K$1048576,0)),\"\")","v":""}]
[null,null,null,null,null,null,null,null,null,null,{"$f":"IF(ISNUMBER(SEARCH(Drop!$X$2,Liste!A300)),MAX(Liste!$K$1:'Liste'!K299)+1,\"\")","v":""},{"$f":"IFERROR(INDEX($A$2:$A$1000,MATCH(ROWS($K$2:K300),$K$2:$K$1048576,0)),\"\")","v":""}]
[null,null,null,null,null,null,null,null,null,null,{"$f":"IF(ISNUMBER(SEARCH(Drop!$X$2,Liste!A301)),MAX(Liste!$K$1:'Liste'!K300)+1,\"\")","v":""},{"$f":"IFERROR(INDEX($A$2:$A$1000,MATCH(ROWS($K$2:K301),$K$2:$K$1048576,0)),\"\")","v":""}]
[null,null,null,null,null,null,null,null,null,null,{"$f":"IF(ISNUMBER(SEARCH(Drop!$X$2,Liste!A302)),MAX(Liste!$K$1:'Liste'!K301)+1,\"\")","v":""},{"$f":"IFERROR(INDEX($A$2:$A$1000,MATCH(ROWS($K$2:K302),$K$2:$K$1048576,0)),\"\")","v":""}]
[null,null,null,null,null,null,null,null,null,null,{"$f":"IF(ISNUMBER(SEARCH(Drop!$X$2,Liste!A303)),MAX(Liste!$K$1:'Liste'!K302)+1,\"\")","v":""},{"$f":"IFERROR(INDEX($A$2:$A$1000,MATCH(ROWS($K$2:K303),$K$2:$K$1048576,0)),\"\")","v":""}]
[null,null,null,null,null,null,null,null,null,null,{"$f":"IF(ISNUMBER(SEARCH(Drop!$X$2,Liste!A304)),MAX(Liste!$K$1:'Liste'!K303)+1,\"\")","v":""},{"$f":"IFERROR(INDEX($A$2:$A$1000,MATCH(ROWS($K$2:K304),$K$2:$K$1048576,0)),\"\")","v":""}]
[null,null,null,null,null,null,null,null,null,null,{"$f":"IF(ISNUMBER(SEARCH(Drop!$X$2,Liste!A305)),MAX(Liste!$K$1:'Liste'!K304)+1,\"\")","v":""},{"$f":"IFERROR(INDEX($A$2:$A$1000,MATCH(ROWS($K$2:K305),$K$2:$K$1048576,0)),\"\")","v":""}]
[null,null,null,null,null,null,null,null,null,null,{"$f":"IF(ISNUMBER(SEARCH(Drop!$X$2,Liste!A306)),MAX(Liste!$K$1:'Liste'!K305)+1,\"\")","v":""},{"$f":"IFERROR(INDEX($A$2:$A$1000,MATCH(ROWS($K$2:K306),$K$2:$K$1048576,0)),\"\")","v":""}]
[null,null,null,null,null,null,null,null,null,null,{"$f":"IF(ISNUMBER(SEARCH(Drop!$X$2,Liste!A307)),MAX(Liste!$K$1:'Liste'!K306)+1,\"\")","v":""},{"$f":"IFERROR(INDEX($A$2:$A$1000,MATCH(ROWS($K$2:K307),$K$2:$K$1048576,0)),\"\")","v":""}]
[null,null,null,null,null,null,null,null,null,null,{"$f":"IF(ISNUMBER(SEARCH(Drop!$X$2,Liste!A308)),MAX(Liste!$K$1:'Liste'!K307)+1,\"\")","v":""},{"$f":"IFERROR(INDEX($A$2:$A$1000,MATCH(ROWS($K$2:K308),$K$2:$K$1048576,0)),\"\")","v":""}]
[null,null,null,null,null,null,null,null,null,null,{"$f":"IF(ISNUMBER(SEARCH(Drop!$X$2,Liste!A309)),MAX(Liste!$K$1:'Liste'!K308)+1,\"\")","v":""},{"$f":"IFERROR(INDEX($A$2:$A$1000,MATCH(ROWS($K$2:K309),$K$2:$K$1048576,0)),\"\")","v":""}]
[null,null,null,null,null,null,null,null,null,null,{"$f":"IF(ISNUMBER(SEARCH(Drop!$X$2,Liste!A310)),MAX(Liste!$K$1:'Liste'!K309)+1,\"\")","v":""},{"$f":"IFERROR(INDEX($A$2:$A$1000,MATCH(ROWS($K$2:K310),$K$2:$K$1048576,0)),\"\")","v":""}]
[null,null,null,null,null,null,null,null,null,null,{"$f":"IF(ISNUMBER(SEARCH(Drop!$X$2,Liste!A311)),MAX(Liste!$K$1:'Liste'!K310)+1,\"\")","v":""},{"$f":"IFERROR(INDEX($A$2:$A$1000,MATCH(ROWS($K$2:K311),$K$2:$K$1048576,0)),\"\")","v":""}]
[null,null,null,null,null,null,null,null,null,null,{"$f":"IF(ISNUMBER(SEARCH(Drop!$X$2,Liste!A312)),MAX(Liste!$K$1:'Liste'!K311)+1,\"\")","v":""},{"$f":"IFERROR(INDEX($A$2:$A$1000,MATCH(ROWS($K$2:K312),$K$2:$K$1048576,0)),\"\")","v":""}]
[null,null,null,null,null,null,null,null,null,null,{"$f":"IF(ISNUMBER(SEARCH(Drop!$X$2,Liste!A313)),MAX(Liste!$K$1:'Liste'!K312)+1,\"\")","v":""},{"$f":"IFERROR(INDEX($A$2:$A$1000,MATCH(ROWS($K$2:K313),$K$2:$K$1048576,0)),\"\")","v":""}]
[null,null,null,null,null,null,null,null,null,null,{"$f":"IF(ISNUMBER(SEARCH(Drop!$X$2,Liste!A314)),MAX(Liste!$K$1:'Liste'!K313)+1,\"\")","v":""},{"$f":"IFERROR(INDEX($A$2:$A$1000,MATCH(ROWS($K$2:K314),$K$2:$K$1048576,0)),\"\")","v":""}]
[null,null,null,null,null,null,null,null,null,null,{"$f":"IF(ISNUMBER(SEARCH(Drop!$X$2,Liste!A315)),MAX(Liste!$K$1:'Liste'!K314)+1,\"\")","v":""},{"$f":"IFERROR(INDEX($A$2:$A$1000,MATCH(ROWS($K$2:K315),$K$2:$K$1048576,0)),\"\")","v":""}]
[null,null,null,null,null,null,null,null,null,null,{"$f":"IF(ISNUMBER(SEARCH(Drop!$X$2,Liste!A316)),MAX(Liste!$K$1:'Liste'!K315)+1,\"\")","v":""},{"$f":"IFERROR(INDEX($A$2:$A$1000,MATCH(ROWS($K$2:K316),$K$2:$K$1048576,0)),\"\")","v":""}]
[null,null,null,null,null,null,null,null,null,null,{"$f":"IF(ISNUMBER(SEARCH(Drop!$X$2,Liste!A317)),MAX(Liste!$K$1:'Liste'!K316)+1,\"\")","v":""},{"$f":"IFERROR(INDEX($A$2:$A$1000,MATCH(ROWS($K$2:K317),$K$2:$K$1048576,0)),\"\")","v":""}]
[null,null,null,null,null,null,null,null,null,null,{"$f":"IF(ISNUMBER(SEARCH(Drop!$X$2,Liste!A318)),MAX(Liste!$K$1:'Liste'!K317)+1,\"\")","v":""},{"$f":"IFERROR(INDEX($A$2:$A$1000,MATCH(ROWS($K$2:K318),$K$2:$K$1048576,0)),\"\")","v":""}]
[null,null,null,null,null,null,null,null,null,null,{"$f":"IF(ISNUMBER(SEARCH(Drop!$X$2,Liste!A319)),MAX(Liste!$K$1:'Liste'!K318)+1,\"\")","v":""},{"$f":"IFERROR(INDEX($A$2:$A$1000,MATCH(ROWS($K$2:K319),$K$2:$K$1048576,0)),\"\")","v":""}]
[null,null,null,null,null,null,null,null,null,null,{"$f":"IF(ISNUMBER(SEARCH(Drop!$X$2,Liste!A320)),MAX(Liste!$K$1:'Liste'!K319)+1,\"\")","v":""},{"$f":"IFERROR(INDEX($A$2:$A$1000,MATCH(ROWS($K$2:K320),$K$2:$K$1048576,0)),\"\")","v":""}]
[null,null,null,null,null,null,null,null,null,null,{"$f":"IF(ISNUMBER(SEARCH(Drop!$X$2,Liste!A321)),MAX(Liste!$K$1:'Liste'!K320)+1,\"\")","v":""},{"$f":"IFERROR(INDEX($A$2:$A$1000,MATCH(ROWS($K$2:K321),$K$2:$K$1048576,0)),\"\")","v":""}]
[null,null,null,null,null,null,null,null,null,null,{"$f":"IF(ISNUMBER(SEARCH(Drop!$X$2,Liste!A322)),MAX(Liste!$K$1:'Liste'!K321)+1,\"\")","v":""},{"$f":"IFERROR(INDEX($A$2:$A$1000,MATCH(ROWS($K$2:K322),$K$2:$K$1048576,0)),\"\")","v":""}]
[null,null,null,null,null,null,null,null,null,null,{"$f":"IF(ISNUMBER(SEARCH(Drop!$X$2,Liste!A323)),MAX(Liste!$K$1:'Liste'!K322)+1,\"\")","v":""},{"$f":"IFERROR(INDEX($A$2:$A$1000,MATCH(ROWS($K$2:K323),$K$2:$K$1048576,0)),\"\")","v":""}]
[null,null,null,null,null,null,null,null,null,null,{"$f":"IF(ISNUMBER(SEARCH(Drop!$X$2,Liste!A324)),MAX(Liste!$K$1:'Liste'!K323)+1,\"\")","v":""},{"$f":"IFERROR(INDEX($A$2:$A$1000,MATCH(ROWS($K$2:K324),$K$2:$K$1048576,0)),\"\")","v":""}]
[null,null,null,null,null,null,null,null,null,null,{"$f":"IF(ISNUMBER(SEARCH(Drop!$X$2,Liste!A325)),MAX(Liste!$K$1:'Liste'!K324)+1,\"\")","v":""},{"$f":"IFERROR(INDEX($A$2:$A$1000,MATCH(ROWS($K$2:K325),$K$2:$K$1048576,0)),\"\")","v":""}]
[null,null,null,null,null,null,null,null,null,null,{"$f":"IF(ISNUMBER(SEARCH(Drop!$X$2,Liste!A326)),MAX(Liste!$K$1:'Liste'!K325)+1,\"\")","v":""},{"$f":"IFERROR(INDEX($A$2:$A$1000,MATCH(ROWS($K$2:K326),$K$2:$K$1048576,0)),\"\")","v":""}]
[null,null,null,null,null,null,null,null,null,null,{"$f":"IF(ISNUMBER(SEARCH(Drop!$X$2,Liste!A327)),MAX(Liste!$K$1:'Liste'!K326)+1,\"\")","v":""},{"$f":"IFERROR(INDEX($A$2:$A$1000,MATCH(ROWS($K$2:K327),$K$2:$K$1048576,0)),\"\")","v":""}]
[null,null,null,null,null,null,null,null,null,null,{"$f":"IF(ISNUMBER(SEARCH(Drop!$X$2,Liste!A328)),MAX(Liste!$K$1:'Liste'!K327)+1,\"\")","v":""},{"$f":"IFERROR(INDEX($A$2:$A$1000,MATCH(ROWS($K$2:K328),$K$2:$K$1048576,0)),\"\")","v":""}]
[null,null,null,null,null,null,null,null,null,null,{"$f":"IF(ISNUMBER(SEARCH(Drop!$X$2,Liste!A329)),MAX(Liste!$K$1:'Liste'!K328)+1,\"\")","v":""},{"$f":"IFERROR(INDEX($A$2:$A$1000,MATCH(ROWS($K$2:K329),$K$2:$K$1048576,0)),\"\")","v":""}]
[null,null,null,null,null,null,null,null,null,null,{"$f":"IF(ISNUMBER(SEARCH(Drop!$X$2,Liste!A330)),MAX(Liste!$K$1:'Liste'!K329)+1,\"\")","v":""},{"$f":"IFERROR(INDEX($A$2:$A$1000,MATCH(ROWS($K$2:K330),$K$2:$K$1048576,0)),\"\")","v":""}]
[null,null,null,null,null,null,null,null,null,null,{"$f":"IF(ISNUMBER(SEARCH(Drop!$X$2,Liste!A331)),MAX(Liste!$K$1:'Liste'!K330)+1,\"\")","v":""},{"$f":"IFERROR(INDEX($A$2:$A$1000,MATCH(ROWS($K$2:K331),$K$2:$K$1048576,0)),\"\")","v":""}]
[null,null,null,null,null,null,null,null,null,null,{"$f":"IF(ISNUMBER(SEARCH(Drop!$X$2,Liste!A332)),MAX(Liste!$K$1:'Liste'!K331)+1,\"\")","v":""},{"$f":"IFERROR(INDEX($A$2:$A$1000,MATCH(ROWS($K$2:K332),$K$2:$K$1048576,0)),\"\")","v":""}]
[null,null,null,null,null,null,null,null,null,null,{"$f":"IF(ISNUMBER(SEARCH(Drop!$X$2,Liste!A333)),MAX(Liste!$K$1:'Liste'!K332)+1,\"\")","v":""},{"$f":"IFERROR(INDEX($A$2:$A$1000,MATCH(ROWS($K$2:K333),$K$2:$K$1048576,0)),\"\")","v":""}]
[null,null,null,null,null,null,null,null,null,null,{"$f":"IF(ISNUMBER(SEARCH(Drop!$X$2,Liste!A334)),MAX(Liste!$K$1:'Liste'!K333)+1,\"\")","v":""},{"$f":"IFERROR(INDEX($A$2:$A$1000,MATCH(ROWS($K$2:K334),$K$2:$K$1048576,0)),\"\")","v":""}]
[null,null,null,null,null,null,null,null,null,null,{"$f":"IF(ISNUMBER(SEARCH(Drop!$X$2,Liste!A335)),MAX(Liste!$K$1:'Liste'!K334)+1,\"\")","v":""},{"$f":"IFERROR(INDEX($A$2:$A$1000,MATCH(ROWS($K$2:K335),$K$2:$K$1048576,0)),\"\")","v":""}]
[null,null,null,null,null,null,null,null,null,null,{"$f":"IF(ISNUMBER(SEARCH(Drop!$X$2,Liste!A336)),MAX(Liste!$K$1:'Liste'!K335)+1,\"\")","v":""},{"$f":"IFERROR(INDEX($A$2:$A$1000,MATCH(ROWS($K$2:K336),$K$2:$K$1048576,0)),\"\")","v":""}]
[null,null,null,null,null,null,null,null,null,null,{"$f":"IF(ISNUMBER(SEARCH(Drop!$X$2,Liste!A337)),MAX(Liste!$K$1:'Liste'!K336)+1,\"\")","v":""},{"$f":"IFERROR(INDEX($A$2:$A$1000,MATCH(ROWS($K$2:K337),$K$2:$K$1048576,0)),\"\")","v":""}]
[null,null,null,null,null,null,null,null,null,null,{"$f":"IF(ISNUMBER(SEARCH(Drop!$X$2,Liste!A338)),MAX(Liste!$K$1:'Liste'!K337)+1,\"\")","v":""},{"$f":"IFERROR(INDEX($A$2:$A$1000,MATCH(ROWS($K$2:K338),$K$2:$K$1048576,0)),\"\")","v":""}]
[null,null,null,null,null,null,null,null,null,null,{"$f":"IF(ISNUMBER(SEARCH(Drop!$X$2,Liste!A339)),MAX(Liste!$K$1:'Liste'!K338)+1,\"\")","v":""},{"$f":"IFERROR(INDEX($A$2:$A$1000,MATCH(ROWS($K$2:K339),$K$2:$K$1048576,0)),\"\")","v":""}]
[null,null,null,null,null,null,null,null,null,null,{"$f":"IF(ISNUMBER(SEARCH(Drop!$X$2,Liste!A340)),MAX(Liste!$K$1:'Liste'!K339)+1,\"\")","v":""},{"$f":"IFERROR(INDEX($A$2:$A$1000,MATCH(ROWS($K$2:K340),$K$2:$K$1048576,0)),\"\")","v":""}]
[null,null,null,null,null,null,null,null,null,null,{"$f":"IF(ISNUMBER(SEARCH(Drop!$X$2,Liste!A341)),MAX(Liste!$K$1:'Liste'!K340)+1,\"\")","v":""},{"$f":"IFERROR(INDEX($A$2:$A$1000,MATCH(ROWS($K$2:K341),$K$2:$K$1048576,0)),\"\")","v":""}]
[null,null,null,null,null,null,null,null,null,null,{"$f":"IF(ISNUMBER(SEARCH(Drop!$X$2,Liste!A342)),MAX(Liste!$K$1:'Liste'!K341)+1,\"\")","v":""},{"$f":"IFERROR(INDEX($A$2:$A$1000,MATCH(ROWS($K$2:K342),$K$2:$K$1048576,0)),\"\")","v":""}]
[null,null,null,null,null,null,null,null,null,null,{"$f":"IF(ISNUMBER(SEARCH(Drop!$X$2,Liste!A343)),MAX(Liste!$K$1:'Liste'!K342)+1,\"\")","v":""},{"$f":"IFERROR(INDEX($A$2:$A$1000,MATCH(ROWS($K$2:K343),$K$2:$K$1048576,0)),\"\")","v":""}]
[null,null,null,null,null,null,null,null,null,null,{"$f":"IF(ISNUMBER(SEARCH(Drop!$X$2,Liste!A344)),MAX(Liste!$K$1:'Liste'!K343)+1,\"\")","v":""},{"$f":"IFERROR(INDEX($A$2:$A$1000,MATCH(ROWS($K$2:K344),$K$2:$K$1048576,0)),\"\")","v":""}]
[null,null,null,null,null,null,null,null,null,null,{"$f":"IF(ISNUMBER(SEARCH(Drop!$X$2,Liste!A345)),MAX(Liste!$K$1:'Liste'!K344)+1,\"\")","v":""},{"$f":"IFERROR(INDEX($A$2:$A$1000,MATCH(ROWS($K$2:K345),$K$2:$K$1048576,0)),\"\")","v":""}]
[null,null,null,null,null,null,null,null,null,null,{"$f":"IF(ISNUMBER(SEARCH(Drop!$X$2,Liste!A346)),MAX(Liste!$K$1:'Liste'!K345)+1,\"\")","v":""},{"$f":"IFERROR(INDEX($A$2:$A$1000,MATCH(ROWS($K$2:K346),$K$2:$K$1048576,0)),\"\")","v":""}]
[null,null,null,null,null,null,null,null,null,null,{"$f":"IF(ISNUMBER(SEARCH(Drop!$X$2,Liste!A347)),MAX(Liste!$K$1:'Liste'!K346)+1,\"\")","v":""},{"$f":"IFERROR(INDEX($A$2:$A$1000,MATCH(ROWS($K$2:K347),$K$2:$K$1048576,0)),\"\")","v":""}]
[null,null,null,null,null,null,null,null,null,null,{"$f":"IF(ISNUMBER(SEARCH(Drop!$X$2,Liste!A348)),MAX(Liste!$K$1:'Liste'!K347)+1,\"\")","v":""},{"$f":"IFERROR(INDEX($A$2:$A$1000,MATCH(ROWS($K$2:K348),$K$2:$K$1048576,0)),\"\")","v":""}]
[null,null,null,null,null,null,null,null,null,null,{"$f":"IF(ISNUMBER(SEARCH(Drop!$X$2,Liste!A349)),MAX(Liste!$K$1:'Liste'!K348)+1,\"\")","v":""},{"$f":"IFERROR(INDEX($A$2:$A$1000,MATCH(ROWS($K$2:K349),$K$2:$K$1048576,0)),\"\")","v":""}]
[null,null,null,null,null,null,null,null,null,null,{"$f":"IF(ISNUMBER(SEARCH(Drop!$X$2,Liste!A350)),MAX(Liste!$K$1:'Liste'!K349)+1,\"\")","v":""},{"$f":"IFERROR(INDEX($A$2:$A$1000,MATCH(ROWS($K$2:K350),$K$2:$K$1048576,0)),\"\")","v":""}]
[null,null,null,null,null,null,null,null,null,null,{"$f":"IF(ISNUMBER(SEARCH(Drop!$X$2,Liste!A351)),MAX(Liste!$K$1:'Liste'!K350)+1,\"\")","v":""},{"$f":"IFERROR(INDEX($A$2:$A$1000,MATCH(ROWS($K$2:K351),$K$2:$K$1048576,0)),\"\")","v":""}]
[null,null,null,null,null,null,null,null,null,null,{"$f":"IF(ISNUMBER(SEARCH(Drop!$X$2,Liste!A352)),MAX(Liste!$K$1:'Liste'!K351)+1,\"\")","v":""},{"$f":"IFERROR(INDEX($A$2:$A$1000,MATCH(ROWS($K$2:K352),$K$2:$K$1048576,0)),\"\")","v":""}]
[null,null,null,null,null,null,null,null,null,null,{"$f":"IF(ISNUMBER(SEARCH(Drop!$X$2,Liste!A353)),MAX(Liste!$K$1:'Liste'!K352)+1,\"\")","v":""},{"$f":"IFERROR(INDEX($A$2:$A$1000,MATCH(ROWS($K$2:K353),$K$2:$K$1048576,0)),\"\")","v":""}]
[null,null,null,null,null,null,null,null,null,null,{"$f":"IF(ISNUMBER(SEARCH(Drop!$X$2,Liste!A354)),MAX(Liste!$K$1:'Liste'!K353)+1,\"\")","v":""},{"$f":"IFERROR(INDEX($A$2:$A$1000,MATCH(ROWS($K$2:K354),$K$2:$K$1048576,0)),\"\")","v":""}]
[null,null,null,null,null,null,null,null,null,null,{"$f":"IF(ISNUMBER(SEARCH(Drop!$X$2,Liste!A355)),MAX(Liste!$K$1:'Liste'!K354)+1,\"\")","v":""},{"$f":"IFERROR(INDEX($A$2:$A$1000,MATCH(ROWS($K$2:K355),$K$2:$K$1048576,0)),\"\")","v":""}]
[null,null,null,null,null,null,null,null,null,null,{"$f":"IF(ISNUMBER(SEARCH(Drop!$X$2,Liste!A356)),MAX(Liste!$K$1:'Liste'!K355)+1,\"\")","v":""},{"$f":"IFERROR(INDEX($A$2:$A$1000,MATCH(ROWS($K$2:K356),$K$2:$K$1048576,0)),\"\")","v":""}]
[null,null,null,null,null,null,null,null,null,null,{"$f":"IF(ISNUMBER(SEARCH(Drop!$X$2,Liste!A357)),MAX(Liste!$K$1:'Liste'!K356)+1,\"\")","v":""},{"$f":"IFERROR(INDEX($A$2:$A$1000,MATCH(ROWS($K$2:K357),$K$2:$K$1048576,0)),\"\")","v":""}]
[null,null,null,null,null,null,null,null,null,null,{"$f":"IF(ISNUMBER(SEARCH(Drop!$X$2,Liste!A358)),MAX(Liste!$K$1:'Liste'!K357)+1,\"\")","v":""},{"$f":"IFERROR(INDEX($A$2:$A$1000,MATCH(ROWS($K$2:K358),$K$2:$K$1048576,0)),\"\")","v":""}]
[null,null,null,null,null,null,null,null,null,null,{"$f":"IF(ISNUMBER(SEARCH(Drop!$X$2,Liste!A359)),MAX(Liste!$K$1:'Liste'!K358)+1,\"\")","v":""},{"$f":"IFERROR(INDEX($A$2:$A$1000,MATCH(ROWS($K$2:K359),$K$2:$K$1048576,0)),\"\")","v":""}]
[null,null,null,null,null,null,null,null,null,null,{"$f":"IF(ISNUMBER(SEARCH(Drop!$X$2,Liste!A360)),MAX(Liste!$K$1:'Liste'!K359)+1,\"\")","v":""},{"$f":"IFERROR(INDEX($A$2:$A$1000,MATCH(ROWS($K$2:K360),$K$2:$K$1048576,0)),\"\")","v":""}]
[null,null,null,null,null,null,null,null,null,null,{"$f":"IF(ISNUMBER(SEARCH(Drop!$X$2,Liste!A361)),MAX(Liste!$K$1:'Liste'!K360)+1,\"\")","v":""},{"$f":"IFERROR(INDEX($A$2:$A$1000,MATCH(ROWS($K$2:K361),$K$2:$K$1048576,0)),\"\")","v":""}]
[null,null,null,null,null,null,null,null,null,null,{"$f":"IF(ISNUMBER(SEARCH(Drop!$X$2,Liste!A362)),MAX(Liste!$K$1:'Liste'!K361)+1,\"\")","v":""},{"$f":"IFERROR(INDEX($A$2:$A$1000,MATCH(ROWS($K$2:K362),$K$2:$K$1048576,0)),\"\")","v":""}]
[null,null,null,null,null,null,null,null,null,null,{"$f":"IF(ISNUMBER(SEARCH(Drop!$X$2,Liste!A363)),MAX(Liste!$K$1:'Liste'!K362)+1,\"\")","v":""},{"$f":"IFERROR(INDEX($A$2:$A$1000,MATCH(ROWS($K$2:K363),$K$2:$K$1048576,0)),\"\")","v":""}]
[null,null,null,null,null,null,null,null,null,null,{"$f":"IF(ISNUMBER(SEARCH(Drop!$X$2,Liste!A364)),MAX(Liste!$K$1:'Liste'!K363)+1,\"\")","v":""},{"$f":"IFERROR(INDEX($A$2:$A$1000,MATCH(ROWS($K$2:K364),$K$2:$K$1048576,0)),\"\")","v":""}]
[null,null,null,null,null,null,null,null,null,null,{"$f":"IF(ISNUMBER(SEARCH(Drop!$X$2,Liste!A365)),MAX(Liste!$K$1:'Liste'!K364)+1,\"\")","v":""},{"$f":"IFERROR(INDEX($A$2:$A$1000,MATCH(ROWS($K$2:K365),$K$2:$K$1048576,0)),\"\")","v":""}]
[null,null,null,null,null,null,null,null,null,null,{"$f":"IF(ISNUMBER(SEARCH(Drop!$X$2,Liste!A366)),MAX(Liste!$K$1:'Liste'!K365)+1,\"\")","v":""},{"$f":"IFERROR(INDEX($A$2:$A$1000,MATCH(ROWS($K$2:K366),$K$2:$K$1048576,0)),\"\")","v":""}]
[null,null,null,null,null,null,null,null,null,null,{"$f":"IF(ISNUMBER(SEARCH(Drop!$X$2,Liste!A367)),MAX(Liste!$K$1:'Liste'!K366)+1,\"\")","v":""},{"$f":"IFERROR(INDEX($A$2:$A$1000,MATCH(ROWS($K$2:K367),$K$2:$K$1048576,0)),\"\")","v":""}]
[null,null,null,null,null,null,null,null,null,null,{"$f":"IF(ISNUMBER(SEARCH(Drop!$X$2,Liste!A368)),MAX(Liste!$K$1:'Liste'!K367)+1,\"\")","v":""},{"$f":"IFERROR(INDEX($A$2:$A$1000,MATCH(ROWS($K$2:K368),$K$2:$K$1048576,0)),\"\")","v":""}]
[null,null,null,null,null,null,null,null,null,null,{"$f":"IF(ISNUMBER(SEARCH(Drop!$X$2,Liste!A369)),MAX(Liste!$K$1:'Liste'!K368)+1,\"\")","v":""},{"$f":"IFERROR(INDEX($A$2:$A$1000,MATCH(ROWS($K$2:K369),$K$2:$K$1048576,0)),\"\")","v":""}]
[null,null,null,null,null,null,null,null,null,null,{"$f":"IF(ISNUMBER(SEARCH(Drop!$X$2,Liste!A370)),MAX(Liste!$K$1:'Liste'!K369)+1,\"\")","v":""},{"$f":"IFERROR(INDEX($A$2:$A$1000,MATCH(ROWS($K$2:K370),$K$2:$K$1048576,0)),\"\")","v":""}]
[null,null,null,null,null,null,null,null,null,null,{"$f":"IF(ISNUMBER(SEARCH(Drop!$X$2,Liste!A371)),MAX(Liste!$K$1:'Liste'!K370)+1,\"\")","v":""},{"$f":"IFERROR(INDEX($A$2:$A$1000,MATCH(ROWS($K$2:K371),$K$2:$K$1048576,0)),\"\")","v":""}]
[null,null,null,null,null,null,null,null,null,null,{"$f":"IF(ISNUMBER(SEARCH(Drop!$X$2,Liste!A372)),MAX(Liste!$K$1:'Liste'!K371)+1,\"\")","v":""},{"$f":"IFERROR(INDEX($A$2:$A$1000,MATCH(ROWS($K$2:K372),$K$2:$K$1048576,0)),\"\")","v":""}]
[null,null,null,null,null,null,null,null,null,null,{"$f":"IF(ISNUMBER(SEARCH(Drop!$X$2,Liste!A373)),MAX(Liste!$K$1:'Liste'!K372)+1,\"\")","v":""},{"$f":"IFERROR(INDEX($A$2:$A$1000,MATCH(ROWS($K$2:K373),$K$2:$K$1048576,0)),\"\")","v":""}]
[null,null,null,null,null,null,null,null,null,null,{"$f":"IF(ISNUMBER(SEARCH(Drop!$X$2,Liste!A374)),MAX(Liste!$K$1:'Liste'!K373)+1,\"\")","v":""},{"$f":"IFERROR(INDEX($A$2:$A$1000,MATCH(ROWS($K$2:K374),$K$2:$K$1048576,0)),\"\")","v":""}]
[null,null,null,null,null,null,null,null,null,null,{"$f":"IF(ISNUMBER(SEARCH(Drop!$X$2,Liste!A375)),MAX(Liste!$K$1:'Liste'!K374)+1,\"\")","v":""},{"$f":"IFERROR(INDEX($A$2:$A$1000,MATCH(ROWS($K$2:K375),$K$2:$K$1048576,0)),\"\")","v":""}]
[null,null,null,null,null,null,null,null,null,null,{"$f":"IF(ISNUMBER(SEARCH(Drop!$X$2,Liste!A376)),MAX(Liste!$K$1:'Liste'!K375)+1,\"\")","v":""},{"$f":"IFERROR(INDEX($A$2:$A$1000,MATCH(ROWS($K$2:K376),$K$2:$K$1048576,0)),\"\")","v":""}]
[null,null,null,null,null,null,null,null,null,null,{"$f":"IF(ISNUMBER(SEARCH(Drop!$X$2,Liste!A377)),MAX(Liste!$K$1:'Liste'!K376)+1,\"\")","v":""},{"$f":"IFERROR(INDEX($A$2:$A$1000,MATCH(ROWS($K$2:K377),$K$2:$K$1048576,0)),\"\")","v":""}]
[null,null,null,null,null,null,null,null,null,null,{"$f":"IF(ISNUMBER(SEARCH(Drop!$X$2,Liste!A378)),MAX(Liste!$K$1:'Liste'!K377)+1,\"\")","v":""},{"$f":"IFERROR(INDEX($A$2:$A$1000,MATCH(ROWS($K$2:K378),$K$2:$K$1048576,0)),\"\")","v":""}]
[null,null,null,null,null,null,null,null,null,null,{"$f":"IF(ISNUMBER(SEARCH(Drop!$X$2,Liste!A379)),MAX(Liste!$K$1:'Liste'!K378)+1,\"\")","v":""},{"$f":"IFERROR(INDEX($A$2:$A$1000,MATCH(ROWS($K$2:K379),$K$2:$K$1048576,0)),\"\")","v":""}]
[null,null,null,null,null,null,null,null,null,null,{"$f":"IF(ISNUMBER(SEARCH(Drop!$X$2,Liste!A380)),MAX(Liste!$K$1:'Liste'!K379)+1,\"\")","v":""},{"$f":"IFERROR(INDEX($A$2:$A$1000,MATCH(ROWS($K$2:K380),$K$2:$K$1048576,0)),\"\")","v":""}]
[null,null,null,null,null,null,null,null,null,null,{"$f":"IF(ISNUMBER(SEARCH(Drop!$X$2,Liste!A381)),MAX(Liste!$K$1:'Liste'!K380)+1,\"\")","v":""},{"$f":"IFERROR(INDEX($A$2:$A$1000,MATCH(ROWS($K$2:K381),$K$2:$K$1048576,0)),\"\")","v":""}]
[null,null,null,null,null,null,null,null,null,null,{"$f":"IF(ISNUMBER(SEARCH(Drop!$X$2,Liste!A382)),MAX(Liste!$K$1:'Liste'!K381)+1,\"\")","v":""},{"$f":"IFERROR(INDEX($A$2:$A$1000,MATCH(ROWS($K$2:K382),$K$2:$K$1048576,0)),\"\")","v":""}]
[null,null,null,null,null,null,null,null,null,null,{"$f":"IF(ISNUMBER(SEARCH(Drop!$X$2,Liste!A383)),MAX(Liste!$K$1:'Liste'!K382)+1,\"\")","v":""},{"$f":"IFERROR(INDEX($A$2:$A$1000,MATCH(ROWS($K$2:K383),$K$2:$K$1048576,0)),\"\")","v":""}]
[null,null,null,null,null,null,null,null,null,null,{"$f":"IF(ISNUMBER(SEARCH(Drop!$X$2,Liste!A384)),MAX(Liste!$K$1:'Liste'!K383)+1,\"\")","v":""},{"$f":"IFERROR(INDEX($A$2:$A$1000,MATCH(ROWS($K$2:K384),$K$2:$K$1048576,0)),\"\")","v":""}]
[null,null,null,null,null,null,null,null,null,null,{"$f":"IF(ISNUMBER(SEARCH(Drop!$X$2,Liste!A385)),MAX(Liste!$K$1:'Liste'!K384)+1,\"\")","v":""},{"$f":"IFERROR(INDEX($A$2:$A$1000,MATCH(ROWS($K$2:K385),$K$2:$K$1048576,0)),\"\")","v":""}]
[null,null,null,null,null,null,null,null,null,null,{"$f":"IF(ISNUMBER(SEARCH(Drop!$X$2,Liste!A386)),MAX(Liste!$K$1:'Liste'!K385)+1,\"\")","v":""},{"$f":"IFERROR(INDEX($A$2:$A$1000,MATCH(ROWS($K$2:K386),$K$2:$K$1048576,0)),\"\")","v":""}]
[null,null,null,null,null,null,null,null,null,null,{"$f":"IF(ISNUMBER(SEARCH(Drop!$X$2,Liste!A387)),MAX(Liste!$K$1:'Liste'!K386)+1,\"\")","v":""},{"$f":"IFERROR(INDEX($A$2:$A$1000,MATCH(ROWS($K$2:K387),$K$2:$K$1048576,0)),\"\")","v":""}]
[null,null,null,null,null,null,null,null,null,null,{"$f":"IF(ISNUMBER(SEARCH(Drop!$X$2,Liste!A388)),MAX(Liste!$K$1:'Liste'!K387)+1,\"\")","v":""},{"$f":"IFERROR(INDEX($A$2:$A$1000,MATCH(ROWS($K$2:K388),$K$2:$K$1048576,0)),\"\")","v":""}]
[null,null,null,null,null,null,null,null,null,null,{"$f":"IF(ISNUMBER(SEARCH(Drop!$X$2,Liste!A389)),MAX(Liste!$K$1:'Liste'!K388)+1,\"\")","v":""},{"$f":"IFERROR(INDEX($A$2:$A$1000,MATCH(ROWS($K$2:K389),$K$2:$K$1048576,0)),\"\")","v":""}]
[null,null,null,null,null,null,null,null,null,null,{"$f":"IF(ISNUMBER(SEARCH(Drop!$X$2,Liste!A390)),MAX(Liste!$K$1:'Liste'!K389)+1,\"\")","v":""},{"$f":"IFERROR(INDEX($A$2:$A$1000,MATCH(ROWS($K$2:K390),$K$2:$K$1048576,0)),\"\")","v":""}]
[null,null,null,null,null,null,null,null,null,null,{"$f":"IF(ISNUMBER(SEARCH(Drop!$X$2,Liste!A391)),MAX(Liste!$K$1:'Liste'!K390)+1,\"\")","v":""},{"$f":"IFERROR(INDEX($A$2:$A$1000,MATCH(ROWS($K$2:K391),$K$2:$K$1048576,0)),\"\")","v":""}]
[null,null,null,null,null,null,null,null,null,null,{"$f":"IF(ISNUMBER(SEARCH(Drop!$X$2,Liste!A392)),MAX(Liste!$K$1:'Liste'!K391)+1,\"\")","v":""},{"$f":"IFERROR(INDEX($A$2:$A$1000,MATCH(ROWS($K$2:K392),$K$2:$K$1048576,0)),\"\")","v":""}]
[null,null,null,null,null,null,null,null,null,null,{"$f":"IF(ISNUMBER(SEARCH(Drop!$X$2,Liste!A393)),MAX(Liste!$K$1:'Liste'!K392)+1,\"\")","v":""},{"$f":"IFERROR(INDEX($A$2:$A$1000,MATCH(ROWS($K$2:K393),$K$2:$K$1048576,0)),\"\")","v":""}]
[null,null,null,null,null,null,null,null,null,null,{"$f":"IF(ISNUMBER(SEARCH(Drop!$X$2,Liste!A394)),MAX(Liste!$K$1:'Liste'!K393)+1,\"\")","v":""},{"$f":"IFERROR(INDEX($A$2:$A$1000,MATCH(ROWS($K$2:K394),$K$2:$K$1048576,0)),\"\")","v":""}]
[null,null,null,null,null,null,null,null,null,null,{"$f":"IF(ISNUMBER(SEARCH(Drop!$X$2,Liste!A395)),MAX(Liste!$K$1:'Liste'!K394)+1,\"\")","v":""},{"$f":"IFERROR(INDEX($A$2:$A$1000,MATCH(ROWS($K$2:K395),$K$2:$K$1048576,0)),\"\")","v":""}]
[null,null,null,null,null,null,null,null,null,null,{"$f":"IF(ISNUMBER(SEARCH(Drop!$X$2,Liste!A396)),MAX(Liste!$K$1:'Liste'!K395)+1,\"\")","v":""},{"$f":"IFERROR(INDEX($A$2:$A$1000,MATCH(ROWS($K$2:K396),$K$2:$K$1048576,0)),\"\")","v":""}]
[null,null,null,null,null,null,null,null,null,null,{"$f":"IF(ISNUMBER(SEARCH(Drop!$X$2,Liste!A397)),MAX(Liste!$K$1:'Liste'!K396)+1,\"\")","v":""},{"$f":"IFERROR(INDEX($A$2:$A$1000,MATCH(ROWS($K$2:K397),$K$2:$K$1048576,0)),\"\")","v":""}]
[null,null,null,null,null,null,null,null,null,null,{"$f":"IF(ISNUMBER(SEARCH(Drop!$X$2,Liste!A398)),MAX(Liste!$K$1:'Liste'!K397)+1,\"\")","v":""},{"$f":"IFERROR(INDEX($A$2:$A$1000,MATCH(ROWS($K$2:K398),$K$2:$K$1048576,0)),\"\")","v":""}]
[null,null,null,null,null,null,null,null,null,null,{"$f":"IF(ISNUMBER(SEARCH(Drop!$X$2,Liste!A399)),MAX(Liste!$K$1:'Liste'!K398)+1,\"\")","v":""},{"$f":"IFERROR(INDEX($A$2:$A$1000,MATCH(ROWS($K$2:K399),$K$2:$K$1048576,0)),\"\")","v":""}]
[null,null,null,null,null,null,null,null,null,null,{"$f":"IF(ISNUMBER(SEARCH(Drop!$X$2,Liste!A400)),MAX(Liste!$K$1:'Liste'!K399)+1,\"\")","v":""},{"$f":"IFERROR(INDEX($A$2:$A$1000,MATCH(ROWS($K$2:K400),$K$2:$K$1048576,0)),\"\")","v":""}]
[null,null,null,null,null,null,null,null,null,null,{"$f":"IF(ISNUMBER(SEARCH(Drop!$X$2,Liste!A401)),MAX(Liste!$K$1:'Liste'!K400)+1,\"\")","v":""},{"$f":"IFERROR(INDEX($A$2:$A$1000,MATCH(ROWS($K$2:K401),$K$2:$K$1048576,0)),\"\")","v":""}]
[null,null,null,null,null,null,null,null,null,null,{"$f":"IF(ISNUMBER(SEARCH(Drop!$X$2,Liste!A402)),MAX(Liste!$K$1:'Liste'!K401)+1,\"\")","v":""},{"$f":"IFERROR(INDEX($A$2:$A$1000,MATCH(ROWS($K$2:K402),$K$2:$K$1048576,0)),\"\")","v":""}]
[null,null,null,null,null,null,null,null,null,null,{"$f":"IF(ISNUMBER(SEARCH(Drop!$X$2,Liste!A403)),MAX(Liste!$K$1:'Liste'!K402)+1,\"\")","v":""},{"$f":"IFERROR(INDEX($A$2:$A$1000,MATCH(ROWS($K$2:K403),$K$2:$K$1048576,0)),\"\")","v":""}]
[null,null,null,null,null,null,null,null,null,null,{"$f":"IF(ISNUMBER(SEARCH(Drop!$X$2,Liste!A404)),MAX(Liste!$K$1:'Liste'!K403)+1,\"\")","v":""},{"$f":"IFERROR(INDEX($A$2:$A$1000,MATCH(ROWS($K$2:K404),$K$2:$K$1048576,0)),\"\")","v":""}]
[null,null,null,null,null,null,null,null,null,null,{"$f":"IF(ISNUMBER(SEARCH(Drop!$X$2,Liste!A405)),MAX(Liste!$K$1:'Liste'!K404)+1,\"\")","v":""},{"$f":"IFERROR(INDEX($A$2:$A$1000,MATCH(ROWS($K$2:K405),$K$2:$K$1048576,0)),\"\")","v":""}]
[null,null,null,null,null,null,null,null,null,null,{"$f":"IF(ISNUMBER(SEARCH(Drop!$X$2,Liste!A406)),MAX(Liste!$K$1:'Liste'!K405)+1,\"\")","v":""},{"$f":"IFERROR(INDEX($A$2:$A$1000,MATCH(ROWS($K$2:K406),$K$2:$K$1048576,0)),\"\")","v":""}]
[null,null,null,null,null,null,null,null,null,null,{"$f":"IF(ISNUMBER(SEARCH(Drop!$X$2,Liste!A407)),MAX(Liste!$K$1:'Liste'!K406)+1,\"\")","v":""},{"$f":"IFERROR(INDEX($A$2:$A$1000,MATCH(ROWS($K$2:K407),$K$2:$K$1048576,0)),\"\")","v":""}]
[null,null,null,null,null,null,null,null,null,null,{"$f":"IF(ISNUMBER(SEARCH(Drop!$X$2,Liste!A408)),MAX(Liste!$K$1:'Liste'!K407)+1,\"\")","v":""},{"$f":"IFERROR(INDEX($A$2:$A$1000,MATCH(ROWS($K$2:K408),$K$2:$K$1048576,0)),\"\")","v":""}]
[null,null,null,null,null,null,null,null,null,null,{"$f":"IF(ISNUMBER(SEARCH(Drop!$X$2,Liste!A409)),MAX(Liste!$K$1:'Liste'!K408)+1,\"\")","v":""},{"$f":"IFERROR(INDEX($A$2:$A$1000,MATCH(ROWS($K$2:K409),$K$2:$K$1048576,0)),\"\")","v":""}]
[null,null,null,null,null,null,null,null,null,null,{"$f":"IF(ISNUMBER(SEARCH(Drop!$X$2,Liste!A410)),MAX(Liste!$K$1:'Liste'!K409)+1,\"\")","v":""},{"$f":"IFERROR(INDEX($A$2:$A$1000,MATCH(ROWS($K$2:K410),$K$2:$K$1048576,0)),\"\")","v":""}]
[null,null,null,null,null,null,null,null,null,null,{"$f":"IF(ISNUMBER(SEARCH(Drop!$X$2,Liste!A411)),MAX(Liste!$K$1:'Liste'!K410)+1,\"\")","v":""},{"$f":"IFERROR(INDEX($A$2:$A$1000,MATCH(ROWS($K$2:K411),$K$2:$K$1048576,0)),\"\")","v":""}]
[null,null,null,null,null,null,null,null,null,null,{"$f":"IF(ISNUMBER(SEARCH(Drop!$X$2,Liste!A412)),MAX(Liste!$K$1:'Liste'!K411)+1,\"\")","v":""},{"$f":"IFERROR(INDEX($A$2:$A$1000,MATCH(ROWS($K$2:K412),$K$2:$K$1048576,0)),\"\")","v":""}]
[null,null,null,null,null,null,null,null,null,null,{"$f":"IF(ISNUMBER(SEARCH(Drop!$X$2,Liste!A413)),MAX(Liste!$K$1:'Liste'!K412)+1,\"\")","v":""},{"$f":"IFERROR(INDEX($A$2:$A$1000,MATCH(ROWS($K$2:K413),$K$2:$K$1048576,0)),\"\")","v":""}]
[null,null,null,null,null,null,null,null,null,null,{"$f":"IF(ISNUMBER(SEARCH(Drop!$X$2,Liste!A414)),MAX(Liste!$K$1:'Liste'!K413)+1,\"\")","v":""},{"$f":"IFERROR(INDEX($A$2:$A$1000,MATCH(ROWS($K$2:K414),$K$2:$K$1048576,0)),\"\")","v":""}]
[null,null,null,null,null,null,null,null,null,null,{"$f":"IF(ISNUMBER(SEARCH(Drop!$X$2,Liste!A415)),MAX(Liste!$K$1:'Liste'!K414)+1,\"\")","v":""},{"$f":"IFERROR(INDEX($A$2:$A$1000,MATCH(ROWS($K$2:K415),$K$2:$K$1048576,0)),\"\")","v":""}]
[null,null,null,null,null,null,null,null,null,null,{"$f":"IF(ISNUMBER(SEARCH(Drop!$X$2,Liste!A416)),MAX(Liste!$K$1:'Liste'!K415)+1,\"\")","v":""},{"$f":"IFERROR(INDEX($A$2:$A$1000,MATCH(ROWS($K$2:K416),$K$2:$K$1048576,0)),\"\")","v":""}]
[null,null,null,null,null,null,null,null,null,null,{"$f":"IF(ISNUMBER(SEARCH(Drop!$X$2,Liste!A417)),MAX(Liste!$K$1:'Liste'!K416)+1,\"\")","v":""},{"$f":"IFERROR(INDEX($A$2:$A$1000,MATCH(ROWS($K$2:K417),$K$2:$K$1048576,0)),\"\")","v":""}]
[null,null,null,null,null,null,null,null,null,null,{"$f":"IF(ISNUMBER(SEARCH(Drop!$X$2,Liste!A418)),MAX(Liste!$K$1:'Liste'!K417)+1,\"\")","v":""},{"$f":"IFERROR(INDEX($A$2:$A$1000,MATCH(ROWS($K$2:K418),$K$2:$K$1048576,0)),\"\")","v":""}]
[null,null,null,null,null,null,null,null,null,null,{"$f":"IF(ISNUMBER(SEARCH(Drop!$X$2,Liste!A419)),MAX(Liste!$K$1:'Liste'!K418)+1,\"\")","v":""},{"$f":"IFERROR(INDEX($A$2:$A$1000,MATCH(ROWS($K$2:K419),$K$2:$K$1048576,0)),\"\")","v":""}]
[null,null,null,null,null,null,null,null,null,null,{"$f":"IF(ISNUMBER(SEARCH(Drop!$X$2,Liste!A420)),MAX(Liste!$K$1:'Liste'!K419)+1,\"\")","v":""},{"$f":"IFERROR(INDEX($A$2:$A$1000,MATCH(ROWS($K$2:K420),$K$2:$K$1048576,0)),\"\")","v":""}]
[null,null,null,null,null,null,null,null,null,null,{"$f":"IF(ISNUMBER(SEARCH(Drop!$X$2,Liste!A421)),MAX(Liste!$K$1:'Liste'!K420)+1,\"\")","v":""},{"$f":"IFERROR(INDEX($A$2:$A$1000,MATCH(ROWS($K$2:K421),$K$2:$K$1048576,0)),\"\")","v":""}]
[null,null,null,null,null,null,null,null,null,null,{"$f":"IF(ISNUMBER(SEARCH(Drop!$X$2,Liste!A422)),MAX(Liste!$K$1:'Liste'!K421)+1,\"\")","v":""},{"$f":"IFERROR(INDEX($A$2:$A$1000,MATCH(ROWS($K$2:K422),$K$2:$K$1048576,0)),\"\")","v":""}]
[null,null,null,null,null,null,null,null,null,null,{"$f":"IF(ISNUMBER(SEARCH(Drop!$X$2,Liste!A423)),MAX(Liste!$K$1:'Liste'!K422)+1,\"\")","v":""},{"$f":"IFERROR(INDEX($A$2:$A$1000,MATCH(ROWS($K$2:K423),$K$2:$K$1048576,0)),\"\")","v":""}]
[null,null,null,null,null,null,null,null,null,null,{"$f":"IF(ISNUMBER(SEARCH(Drop!$X$2,Liste!A424)),MAX(Liste!$K$1:'Liste'!K423)+1,\"\")","v":""},{"$f":"IFERROR(INDEX($A$2:$A$1000,MATCH(ROWS($K$2:K424),$K$2:$K$1048576,0)),\"\")","v":""}]
[null,null,null,null,null,null,null,null,null,null,{"$f":"IF(ISNUMBER(SEARCH(Drop!$X$2,Liste!A425)),MAX(Liste!$K$1:'Liste'!K424)+1,\"\")","v":""},{"$f":"IFERROR(INDEX($A$2:$A$1000,MATCH(ROWS($K$2:K425),$K$2:$K$1048576,0)),\"\")","v":""}]
[null,null,null,null,null,null,null,null,null,null,{"$f":"IF(ISNUMBER(SEARCH(Drop!$X$2,Liste!A426)),MAX(Liste!$K$1:'Liste'!K425)+1,\"\")","v":""},{"$f":"IFERROR(INDEX($A$2:$A$1000,MATCH(ROWS($K$2:K426),$K$2:$K$1048576,0)),\"\")","v":""}]
[null,null,null,null,null,null,null,null,null,null,{"$f":"IF(ISNUMBER(SEARCH(Drop!$X$2,Liste!A427)),MAX(Liste!$K$1:'Liste'!K426)+1,\"\")","v":""},{"$f":"IFERROR(INDEX($A$2:$A$1000,MATCH(ROWS($K$2:K427),$K$2:$K$1048576,0)),\"\")","v":""}]
[null,null,null,null,null,null,null,null,null,null,{"$f":"IF(ISNUMBER(SEARCH(Drop!$X$2,Liste!A428)),MAX(Liste!$K$1:'Liste'!K427)+1,\"\")","v":""},{"$f":"IFERROR(INDEX($A$2:$A$1000,MATCH(ROWS($K$2:K428),$K$2:$K$1048576,0)),\"\")","v":""}]
[null,null,null,null,null,null,null,null,null,null,{"$f":"IF(ISNUMBER(SEARCH(Drop!$X$2,Liste!A429)),MAX(Liste!$K$1:'Liste'!K428)+1,\"\")","v":""},{"$f":"IFERROR(INDEX($A$2:$A$1000,MATCH(ROWS($K$2:K429),$K$2:$K$1048576,0)),\"\")","v":""}]
[null,null,null,null,null,null,null,null,null,null,{"$f":"IF(ISNUMBER(SEARCH(Drop!$X$2,Liste!A430)),MAX(Liste!$K$1:'Liste'!K429)+1,\"\")","v":""},{"$f":"IFERROR(INDEX($A$2:$A$1000,MATCH(ROWS($K$2:K430),$K$2:$K$1048576,0)),\"\")","v":""}]
[null,null,null,null,null,null,null,null,null,null,{"$f":"IF(ISNUMBER(SEARCH(Drop!$X$2,Liste!A431)),MAX(Liste!$K$1:'Liste'!K430)+1,\"\")","v":""},{"$f":"IFERROR(INDEX($A$2:$A$1000,MATCH(ROWS($K$2:K431),$K$2:$K$1048576,0)),\"\")","v":""}]
[null,null,null,null,null,null,null,null,null,null,{"$f":"IF(ISNUMBER(SEARCH(Drop!$X$2,Liste!A432)),MAX(Liste!$K$1:'Liste'!K431)+1,\"\")","v":""},{"$f":"IFERROR(INDEX($A$2:$A$1000,MATCH(ROWS($K$2:K432),$K$2:$K$1048576,0)),\"\")","v":""}]
[null,null,null,null,null,null,null,null,null,null,{"$f":"IF(ISNUMBER(SEARCH(Drop!$X$2,Liste!A433)),MAX(Liste!$K$1:'Liste'!K432)+1,\"\")","v":""},{"$f":"IFERROR(INDEX($A$2:$A$1000,MATCH(ROWS($K$2:K433),$K$2:$K$1048576,0)),\"\")","v":""}]
[null,null,null,null,null,null,null,null,null,null,{"$f":"IF(ISNUMBER(SEARCH(Drop!$X$2,Liste!A434)),MAX(Liste!$K$1:'Liste'!K433)+1,\"\")","v":""},{"$f":"IFERROR(INDEX($A$2:$A$1000,MATCH(ROWS($K$2:K434),$K$2:$K$1048576,0)),\"\")","v":""}]
[null,null,null,null,null,null,null,null,null,null,{"$f":"IF(ISNUMBER(SEARCH(Drop!$X$2,Liste!A435)),MAX(Liste!$K$1:'Liste'!K434)+1,\"\")","v":""},{"$f":"IFERROR(INDEX($A$2:$A$1000,MATCH(ROWS($K$2:K435),$K$2:$K$1048576,0)),\"\")","v":""}]
[null,null,null,null,null,null,null,null,null,null,{"$f":"IF(ISNUMBER(SEARCH(Drop!$X$2,Liste!A436)),MAX(Liste!$K$1:'Liste'!K435)+1,\"\")","v":""},{"$f":"IFERROR(INDEX($A$2:$A$1000,MATCH(ROWS($K$2:K436),$K$2:$K$1048576,0)),\"\")","v":""}]
[null,null,null,null,null,null,null,null,null,null,{"$f":"IF(ISNUMBER(SEARCH(Drop!$X$2,Liste!A437)),MAX(Liste!$K$1:'Liste'!K436)+1,\"\")","v":""},{"$f":"IFERROR(INDEX($A$2:$A$1000,MATCH(ROWS($K$2:K437),$K$2:$K$1048576,0)),\"\")","v":""}]
[null,null,null,null,null,null,null,null,null,null,{"$f":"IF(ISNUMBER(SEARCH(Drop!$X$2,Liste!A438)),MAX(Liste!$K$1:'Liste'!K437)+1,\"\")","v":""},{"$f":"IFERROR(INDEX($A$2:$A$1000,MATCH(ROWS($K$2:K438),$K$2:$K$1048576,0)),\"\")","v":""}]
[null,null,null,null,null,null,null,null,null,null,{"$f":"IF(ISNUMBER(SEARCH(Drop!$X$2,Liste!A439)),MAX(Liste!$K$1:'Liste'!K438)+1,\"\")","v":""},{"$f":"IFERROR(INDEX($A$2:$A$1000,MATCH(ROWS($K$2:K439),$K$2:$K$1048576,0)),\"\")","v":""}]
[null,null,null,null,null,null,null,null,null,null,{"$f":"IF(ISNUMBER(SEARCH(Drop!$X$2,Liste!A440)),MAX(Liste!$K$1:'Liste'!K439)+1,\"\")","v":""},{"$f":"IFERROR(INDEX($A$2:$A$1000,MATCH(ROWS($K$2:K440),$K$2:$K$1048576,0)),\"\")","v":""}]
[null,null,null,null,null,null,null,null,null,null,{"$f":"IF(ISNUMBER(SEARCH(Drop!$X$2,Liste!A441)),MAX(Liste!$K$1:'Liste'!K440)+1,\"\")","v":""},{"$f":"IFERROR(INDEX($A$2:$A$1000,MATCH(ROWS($K$2:K441),$K$2:$K$1048576,0)),\"\")","v":""}]
[null,null,null,null,null,null,null,null,null,null,{"$f":"IF(ISNUMBER(SEARCH(Drop!$X$2,Liste!A442)),MAX(Liste!$K$1:'Liste'!K441)+1,\"\")","v":""},{"$f":"IFERROR(INDEX($A$2:$A$1000,MATCH(ROWS($K$2:K442),$K$2:$K$1048576,0)),\"\")","v":""}]
[null,null,null,null,null,null,null,null,null,null,{"$f":"IF(ISNUMBER(SEARCH(Drop!$X$2,Liste!A443)),MAX(Liste!$K$1:'Liste'!K442)+1,\"\")","v":""},{"$f":"IFERROR(INDEX($A$2:$A$1000,MATCH(ROWS($K$2:K443),$K$2:$K$1048576,0)),\"\")","v":""}]
[null,null,null,null,null,null,null,null,null,null,{"$f":"IF(ISNUMBER(SEARCH(Drop!$X$2,Liste!A444)),MAX(Liste!$K$1:'Liste'!K443)+1,\"\")","v":""},{"$f":"IFERROR(INDEX($A$2:$A$1000,MATCH(ROWS($K$2:K444),$K$2:$K$1048576,0)),\"\")","v":""}]
[null,null,null,null,null,null,null,null,null,null,{"$f":"IF(ISNUMBER(SEARCH(Drop!$X$2,Liste!A445)),MAX(Liste!$K$1:'Liste'!K444)+1,\"\")","v":""},{"$f":"IFERROR(INDEX($A$2:$A$1000,MATCH(ROWS($K$2:K445),$K$2:$K$1048576,0)),\"\")","v":""}]
[null,null,null,null,null,null,null,null,null,null,{"$f":"IF(ISNUMBER(SEARCH(Drop!$X$2,Liste!A446)),MAX(Liste!$K$1:'Liste'!K445)+1,\"\")","v":""},{"$f":"IFERROR(INDEX($A$2:$A$1000,MATCH(ROWS($K$2:K446),$K$2:$K$1048576,0)),\"\")","v":""}]
[null,null,null,null,null,null,null,null,null,null,{"$f":"IF(ISNUMBER(SEARCH(Drop!$X$2,Liste!A447)),MAX(Liste!$K$1:'Liste'!K446)+1,\"\")","v":""},{"$f":"IFERROR(INDEX($A$2:$A$1000,MATCH(ROWS($K$2:K447),$K$2:$K$1048576,0)),\"\")","v":""}]
[null,null,null,null,null,null,null,null,null,null,{"$f":"IF(ISNUMBER(SEARCH(Drop!$X$2,Liste!A448)),MAX(Liste!$K$1:'Liste'!K447)+1,\"\")","v":""},{"$f":"IFERROR(INDEX($A$2:$A$1000,MATCH(ROWS($K$2:K448),$K$2:$K$1048576,0)),\"\")","v":""}]
[null,null,null,null,null,null,null,null,null,null,{"$f":"IF(ISNUMBER(SEARCH(Drop!$X$2,Liste!A449)),MAX(Liste!$K$1:'Liste'!K448)+1,\"\")","v":""},{"$f":"IFERROR(INDEX($A$2:$A$1000,MATCH(ROWS($K$2:K449),$K$2:$K$1048576,0)),\"\")","v":""}]
[null,null,null,null,null,null,null,null,null,null,{"$f":"IF(ISNUMBER(SEARCH(Drop!$X$2,Liste!A450)),MAX(Liste!$K$1:'Liste'!K449)+1,\"\")","v":""},{"$f":"IFERROR(INDEX($A$2:$A$1000,MATCH(ROWS($K$2:K450),$K$2:$K$1048576,0)),\"\")","v":""}]
[null,null,null,null,null,null,null,null,null,null,{"$f":"IF(ISNUMBER(SEARCH(Drop!$X$2,Liste!A451)),MAX(Liste!$K$1:'Liste'!K450)+1,\"\")","v":""},{"$f":"IFERROR(INDEX($A$2:$A$1000,MATCH(ROWS($K$2:K451),$K$2:$K$1048576,0)),\"\")","v":""}]
[null,null,null,null,null,null,null,null,null,null,{"$f":"IF(ISNUMBER(SEARCH(Drop!$X$2,Liste!A452)),MAX(Liste!$K$1:'Liste'!K451)+1,\"\")","v":""},{"$f":"IFERROR(INDEX($A$2:$A$1000,MATCH(ROWS($K$2:K452),$K$2:$K$1048576,0)),\"\")","v":""}]
[null,null,null,null,null,null,null,null,null,null,{"$f":"IF(ISNUMBER(SEARCH(Drop!$X$2,Liste!A453)),MAX(Liste!$K$1:'Liste'!K452)+1,\"\")","v":""},{"$f":"IFERROR(INDEX($A$2:$A$1000,MATCH(ROWS($K$2:K453),$K$2:$K$1048576,0)),\"\")","v":""}]
[null,null,null,null,null,null,null,null,null,null,{"$f":"IF(ISNUMBER(SEARCH(Drop!$X$2,Liste!A454)),MAX(Liste!$K$1:'Liste'!K453)+1,\"\")","v":""},{"$f":"IFERROR(INDEX($A$2:$A$1000,MATCH(ROWS($K$2:K454),$K$2:$K$1048576,0)),\"\")","v":""}]
[null,null,null,null,null,null,null,null,null,null,{"$f":"IF(ISNUMBER(SEARCH(Drop!$X$2,Liste!A455)),MAX(Liste!$K$1:'Liste'!K454)+1,\"\")","v":""},{"$f":"IFERROR(INDEX($A$2:$A$1000,MATCH(ROWS($K$2:K455),$K$2:$K$1048576,0)),\"\")","v":""}]
[null,null,null,null,null,null,null,null,null,null,{"$f":"IF(ISNUMBER(SEARCH(Drop!$X$2,Liste!A456)),MAX(Liste!$K$1:'Liste'!K455)+1,\"\")","v":""},{"$f":"IFERROR(INDEX($A$2:$A$1000,MATCH(ROWS($K$2:K456),$K$2:$K$1048576,0)),\"\")","v":""}]
[null,null,null,null,null,null,null,null,null,null,{"$f":"IF(ISNUMBER(SEARCH(Drop!$X$2,Liste!A457)),MAX(Liste!$K$1:'Liste'!K456)+1,\"\")","v":""},{"$f":"IFERROR(INDEX($A$2:$A$1000,MATCH(ROWS($K$2:K457),$K$2:$K$1048576,0)),\"\")","v":""}]
[null,null,null,null,null,null,null,null,null,null,{"$f":"IF(ISNUMBER(SEARCH(Drop!$X$2,Liste!A458)),MAX(Liste!$K$1:'Liste'!K457)+1,\"\")","v":""},{"$f":"IFERROR(INDEX($A$2:$A$1000,MATCH(ROWS($K$2:K458),$K$2:$K$1048576,0)),\"\")","v":""}]
[null,null,null,null,null,null,null,null,null,null,{"$f":"IF(ISNUMBER(SEARCH(Drop!$X$2,Liste!A459)),MAX(Liste!$K$1:'Liste'!K458)+1,\"\")","v":""},{"$f":"IFERROR(INDEX($A$2:$A$1000,MATCH(ROWS($K$2:K459),$K$2:$K$1048576,0)),\"\")","v":""}]
[null,null,null,null,null,null,null,null,null,null,{"$f":"IF(ISNUMBER(SEARCH(Drop!$X$2,Liste!A460)),MAX(Liste!$K$1:'Liste'!K459)+1,\"\")","v":""},{"$f":"IFERROR(INDEX($A$2:$A$1000,MATCH(ROWS($K$2:K460),$K$2:$K$1048576,0)),\"\")","v":""}]
[null,null,null,null,null,null,null,null,null,null,{"$f":"IF(ISNUMBER(SEARCH(Drop!$X$2,Liste!A461)),MAX(Liste!$K$1:'Liste'!K460)+1,\"\")","v":""},{"$f":"IFERROR(INDEX($A$2:$A$1000,MATCH(ROWS($K$2:K461),$K$2:$K$1048576,0)),\"\")","v":""}]
[null,null,null,null,null,null,null,null,null,null,{"$f":"IF(ISNUMBER(SEARCH(Drop!$X$2,Liste!A462)),MAX(Liste!$K$1:'Liste'!K461)+1,\"\")","v":""},{"$f":"IFERROR(INDEX($A$2:$A$1000,MATCH(ROWS($K$2:K462),$K$2:$K$1048576,0)),\"\")","v":""}]
[null,null,null,null,null,null,null,null,null,null,{"$f":"IF(ISNUMBER(SEARCH(Drop!$X$2,Liste!A463)),MAX(Liste!$K$1:'Liste'!K462)+1,\"\")","v":""},{"$f":"IFERROR(INDEX($A$2:$A$1000,MATCH(ROWS($K$2:K463),$K$2:$K$1048576,0)),\"\")","v":""}]
[null,null,null,null,null,null,null,null,null,null,{"$f":"IF(ISNUMBER(SEARCH(Drop!$X$2,Liste!A464)),MAX(Liste!$K$1:'Liste'!K463)+1,\"\")","v":""},{"$f":"IFERROR(INDEX($A$2:$A$1000,MATCH(ROWS($K$2:K464),$K$2:$K$1048576,0)),\"\")","v":""}]
[null,null,null,null,null,null,null,null,null,null,{"$f":"IF(ISNUMBER(SEARCH(Drop!$X$2,Liste!A465)),MAX(Liste!$K$1:'Liste'!K464)+1,\"\")","v":""},{"$f":"IFERROR(INDEX($A$2:$A$1000,MATCH(ROWS($K$2:K465),$K$2:$K$1048576,0)),\"\")","v":""}]
[null,null,null,null,null,null,null,null,null,null,{"$f":"IF(ISNUMBER(SEARCH(Drop!$X$2,Liste!A466)),MAX(Liste!$K$1:'Liste'!K465)+1,\"\")","v":""},{"$f":"IFERROR(INDEX($A$2:$A$1000,MATCH(ROWS($K$2:K466),$K$2:$K$1048576,0)),\"\")","v":""}]
[null,null,null,null,null,null,null,null,null,null,{"$f":"IF(ISNUMBER(SEARCH(Drop!$X$2,Liste!A467)),MAX(Liste!$K$1:'Liste'!K466)+1,\"\")","v":""},{"$f":"IFERROR(INDEX($A$2:$A$1000,MATCH(ROWS($K$2:K467),$K$2:$K$1048576,0)),\"\")","v":""}]
[null,null,null,null,null,null,null,null,null,null,{"$f":"IF(ISNUMBER(SEARCH(Drop!$X$2,Liste!A468)),MAX(Liste!$K$1:'Liste'!K467)+1,\"\")","v":""},{"$f":"IFERROR(INDEX($A$2:$A$1000,MATCH(ROWS($K$2:K468),$K$2:$K$1048576,0)),\"\")","v":""}]
[null,null,null,null,null,null,null,null,null,null,{"$f":"IF(ISNUMBER(SEARCH(Drop!$X$2,Liste!A469)),MAX(Liste!$K$1:'Liste'!K468)+1,\"\")","v":""},{"$f":"IFERROR(INDEX($A$2:$A$1000,MATCH(ROWS($K$2:K469),$K$2:$K$1048576,0)),\"\")","v":""}]
[null,null,null,null,null,null,null,null,null,null,{"$f":"IF(ISNUMBER(SEARCH(Drop!$X$2,Liste!A470)),MAX(Liste!$K$1:'Liste'!K469)+1,\"\")","v":""},{"$f":"IFERROR(INDEX($A$2:$A$1000,MATCH(ROWS($K$2:K470),$K$2:$K$1048576,0)),\"\")","v":""}]
[null,null,null,null,null,null,null,null,null,null,{"$f":"IF(ISNUMBER(SEARCH(Drop!$X$2,Liste!A471)),MAX(Liste!$K$1:'Liste'!K470)+1,\"\")","v":""},{"$f":"IFERROR(INDEX($A$2:$A$1000,MATCH(ROWS($K$2:K471),$K$2:$K$1048576,0)),\"\")","v":""}]
[null,null,null,null,null,null,null,null,null,null,{"$f":"IF(ISNUMBER(SEARCH(Drop!$X$2,Liste!A472)),MAX(Liste!$K$1:'Liste'!K471)+1,\"\")","v":""},{"$f":"IFERROR(INDEX($A$2:$A$1000,MATCH(ROWS($K$2:K472),$K$2:$K$1048576,0)),\"\")","v":""}]
[null,null,null,null,null,null,null,null,null,null,{"$f":"IF(ISNUMBER(SEARCH(Drop!$X$2,Liste!A473)),MAX(Liste!$K$1:'Liste'!K472)+1,\"\")","v":""},{"$f":"IFERROR(INDEX($A$2:$A$1000,MATCH(ROWS($K$2:K473),$K$2:$K$1048576,0)),\"\")","v":""}]
[null,null,null,null,null,null,null,null,null,null,{"$f":"IF(ISNUMBER(SEARCH(Drop!$X$2,Liste!A474)),MAX(Liste!$K$1:'Liste'!K473)+1,\"\")","v":""},{"$f":"IFERROR(INDEX($A$2:$A$1000,MATCH(ROWS($K$2:K474),$K$2:$K$1048576,0)),\"\")","v":""}]
[null,null,null,null,null,null,null,null,null,null,{"$f":"IF(ISNUMBER(SEARCH(Drop!$X$2,Liste!A475)),MAX(Liste!$K$1:'Liste'!K474)+1,\"\")","v":""},{"$f":"IFERROR(INDEX($A$2:$A$1000,MATCH(ROWS($K$2:K475),$K$2:$K$1048576,0)),\"\")","v":""}]
[null,null,null,null,null,null,null,null,null,null,{"$f":"IF(ISNUMBER(SEARCH(Drop!$X$2,Liste!A476)),MAX(Liste!$K$1:'Liste'!K475)+1,\"\")","v":""},{"$f":"IFERROR(INDEX($A$2:$A$1000,MATCH(ROWS($K$2:K476),$K$2:$K$1048576,0)),\"\")","v":""}]
[null,null,null,null,null,null,null,null,null,null,{"$f":"IF(ISNUMBER(SEARCH(Drop!$X$2,Liste!A477)),MAX(Liste!$K$1:'Liste'!K476)+1,\"\")","v":""},{"$f":"IFERROR(INDEX($A$2:$A$1000,MATCH(ROWS($K$2:K477),$K$2:$K$1048576,0)),\"\")","v":""}]
[null,null,null,null,null,null,null,null,null,null,{"$f":"IF(ISNUMBER(SEARCH(Drop!$X$2,Liste!A478)),MAX(Liste!$K$1:'Liste'!K477)+1,\"\")","v":""},{"$f":"IFERROR(INDEX($A$2:$A$1000,MATCH(ROWS($K$2:K478),$K$2:$K$1048576,0)),\"\")","v":""}]
[null,null,null,null,null,null,null,null,null,null,{"$f":"IF(ISNUMBER(SEARCH(Drop!$X$2,Liste!A479)),MAX(Liste!$K$1:'Liste'!K478)+1,\"\")","v":""},{"$f":"IFERROR(INDEX($A$2:$A$1000,MATCH(ROWS($K$2:K479),$K$2:$K$1048576,0)),\"\")","v":""}]
[null,null,null,null,null,null,null,null,null,null,{"$f":"IF(ISNUMBER(SEARCH(Drop!$X$2,Liste!A480)),MAX(Liste!$K$1:'Liste'!K479)+1,\"\")","v":""},{"$f":"IFERROR(INDEX($A$2:$A$1000,MATCH(ROWS($K$2:K480),$K$2:$K$1048576,0)),\"\")","v":""}]
[null,null,null,null,null,null,null,null,null,null,{"$f":"IF(ISNUMBER(SEARCH(Drop!$X$2,Liste!A481)),MAX(Liste!$K$1:'Liste'!K480)+1,\"\")","v":""},{"$f":"IFERROR(INDEX($A$2:$A$1000,MATCH(ROWS($K$2:K481),$K$2:$K$1048576,0)),\"\")","v":""}]
[null,null,null,null,null,null,null,null,null,null,{"$f":"IF(ISNUMBER(SEARCH(Drop!$X$2,Liste!A482)),MAX(Liste!$K$1:'Liste'!K481)+1,\"\")","v":""},{"$f":"IFERROR(INDEX($A$2:$A$1000,MATCH(ROWS($K$2:K482),$K$2:$K$1048576,0)),\"\")","v":""}]
[null,null,null,null,null,null,null,null,null,null,{"$f":"IF(ISNUMBER(SEARCH(Drop!$X$2,Liste!A483)),MAX(Liste!$K$1:'Liste'!K482)+1,\"\")","v":""},{"$f":"IFERROR(INDEX($A$2:$A$1000,MATCH(ROWS($K$2:K483),$K$2:$K$1048576,0)),\"\")","v":""}]
[null,null,null,null,null,null,null,null,null,null,{"$f":"IF(ISNUMBER(SEARCH(Drop!$X$2,Liste!A484)),MAX(Liste!$K$1:'Liste'!K483)+1,\"\")","v":""},{"$f":"IFERROR(INDEX($A$2:$A$1000,MATCH(ROWS($K$2:K484),$K$2:$K$1048576,0)),\"\")","v":""}]
[null,null,null,null,null,null,null,null,null,null,{"$f":"IF(ISNUMBER(SEARCH(Drop!$X$2,Liste!A485)),MAX(Liste!$K$1:'Liste'!K484)+1,\"\")","v":""},{"$f":"IFERROR(INDEX($A$2:$A$1000,MATCH(ROWS($K$2:K485),$K$2:$K$1048576,0)),\"\")","v":""}]
[null,null,null,null,null,null,null,null,null,null,{"$f":"IF(ISNUMBER(SEARCH(Drop!$X$2,Liste!A486)),MAX(Liste!$K$1:'Liste'!K485)+1,\"\")","v":""},{"$f":"IFERROR(INDEX($A$2:$A$1000,MATCH(ROWS($K$2:K486),$K$2:$K$1048576,0)),\"\")","v":""}]
[null,null,null,null,null,null,null,null,null,null,{"$f":"IF(ISNUMBER(SEARCH(Drop!$X$2,Liste!A487)),MAX(Liste!$K$1:'Liste'!K486)+1,\"\")","v":""},{"$f":"IFERROR(INDEX($A$2:$A$1000,MATCH(ROWS($K$2:K487),$K$2:$K$1048576,0)),\"\")","v":""}]
[null,null,null,null,null,null,null,null,null,null,{"$f":"IF(ISNUMBER(SEARCH(Drop!$X$2,Liste!A488)),MAX(Liste!$K$1:'Liste'!K487)+1,\"\")","v":""},{"$f":"IFERROR(INDEX($A$2:$A$1000,MATCH(ROWS($K$2:K488),$K$2:$K$1048576,0)),\"\")","v":""}]
[null,null,null,null,null,null,null,null,null,null,{"$f":"IF(ISNUMBER(SEARCH(Drop!$X$2,Liste!A489)),MAX(Liste!$K$1:'Liste'!K488)+1,\"\")","v":""},{"$f":"IFERROR(INDEX($A$2:$A$1000,MATCH(ROWS($K$2:K489),$K$2:$K$1048576,0)),\"\")","v":""}]
[null,null,null,null,null,null,null,null,null,null,{"$f":"IF(ISNUMBER(SEARCH(Drop!$X$2,Liste!A490)),MAX(Liste!$K$1:'Liste'!K489)+1,\"\")","v":""},{"$f":"IFERROR(INDEX($A$2:$A$1000,MATCH(ROWS($K$2:K490),$K$2:$K$1048576,0)),\"\")","v":""}]
[null,null,null,null,null,null,null,null,null,null,{"$f":"IF(ISNUMBER(SEARCH(Drop!$X$2,Liste!A491)),MAX(Liste!$K$1:'Liste'!K490)+1,\"\")","v":""},{"$f":"IFERROR(INDEX($A$2:$A$1000,MATCH(ROWS($K$2:K491),$K$2:$K$1048576,0)),\"\")","v":""}]
[null,null,null,null,null,null,null,null,null,null,{"$f":"IF(ISNUMBER(SEARCH(Drop!$X$2,Liste!A492)),MAX(Liste!$K$1:'Liste'!K491)+1,\"\")","v":""},{"$f":"IFERROR(INDEX($A$2:$A$1000,MATCH(ROWS($K$2:K492),$K$2:$K$1048576,0)),\"\")","v":""}]
[null,null,null,null,null,null,null,null,null,null,{"$f":"IF(ISNUMBER(SEARCH(Drop!$X$2,Liste!A493)),MAX(Liste!$K$1:'Liste'!K492)+1,\"\")","v":""},{"$f":"IFERROR(INDEX($A$2:$A$1000,MATCH(ROWS($K$2:K493),$K$2:$K$1048576,0)),\"\")","v":""}]
[null,null,null,null,null,null,null,null,null,null,{"$f":"IF(ISNUMBER(SEARCH(Drop!$X$2,Liste!A494)),MAX(Liste!$K$1:'Liste'!K493)+1,\"\")","v":""},{"$f":"IFERROR(INDEX($A$2:$A$1000,MATCH(ROWS($K$2:K494),$K$2:$K$1048576,0)),\"\")","v":""}]
[null,null,null,null,null,null,null,null,null,null,{"$f":"IF(ISNUMBER(SEARCH(Drop!$X$2,Liste!A495)),MAX(Liste!$K$1:'Liste'!K494)+1,\"\")","v":""},{"$f":"IFERROR(INDEX($A$2:$A$1000,MATCH(ROWS($K$2:K495),$K$2:$K$1048576,0)),\"\")","v":""}]
[null,null,null,null,null,null,null,null,null,null,{"$f":"IF(ISNUMBER(SEARCH(Drop!$X$2,Liste!A496)),MAX(Liste!$K$1:'Liste'!K495)+1,\"\")","v":""},{"$f":"IFERROR(INDEX($A$2:$A$1000,MATCH(ROWS($K$2:K496),$K$2:$K$1048576,0)),\"\")","v":""}]
[null,null,null,null,null,null,null,null,null,null,{"$f":"IF(ISNUMBER(SEARCH(Drop!$X$2,Liste!A497)),MAX(Liste!$K$1:'Liste'!K496)+1,\"\")","v":""},{"$f":"IFERROR(INDEX($A$2:$A$1000,MATCH(ROWS($K$2:K497),$K$2:$K$1048576,0)),\"\")","v":""}]
[null,null,null,null,null,null,null,null,null,null,{"$f":"IF(ISNUMBER(SEARCH(Drop!$X$2,Liste!A498)),MAX(Liste!$K$1:'Liste'!K497)+1,\"\")","v":""},{"$f":"IFERROR(INDEX($A$2:$A$1000,MATCH(ROWS($K$2:K498),$K$2:$K$1048576,0)),\"\")","v":""}]
[null,null,null,null,null,null,null,null,null,null,{"$f":"IF(ISNUMBER(SEARCH(Drop!$X$2,Liste!A499)),MAX(Liste!$K$1:'Liste'!K498)+1,\"\")","v":""},{"$f":"IFERROR(INDEX($A$2:$A$1000,MATCH(ROWS($K$2:K499),$K$2:$K$1048576,0)),\"\")","v":""}]
[null,null,null,null,null,null,null,null,null,null,{"$f":"IF(ISNUMBER(SEARCH(Drop!$X$2,Liste!A500)),MAX(Liste!$K$1:'Liste'!K499)+1,\"\")","v":""},{"$f":"IFERROR(INDEX($A$2:$A$1000,MATCH(ROWS($K$2:K500),$K$2:$K$1048576,0)),\"\")","v":""}]
[null,null,null,null,null,null,null,null,null,null,{"$f":"IF(ISNUMBER(SEARCH(Drop!$X$2,Liste!A501)),MAX(Liste!$K$1:'Liste'!K500)+1,\"\")","v":""},{"$f":"IFERROR(INDEX($A$2:$A$1000,MATCH(ROWS($K$2:K501),$K$2:$K$1048576,0)),\"\")","v":""}]
[null,null,null,null,null,null,null,null,null,null,{"$f":"IF(ISNUMBER(SEARCH(Drop!$X$2,Liste!A502)),MAX(Liste!$K$1:'Liste'!K501)+1,\"\")","v":""},{"$f":"IFERROR(INDEX($A$2:$A$1000,MATCH(ROWS($K$2:K502),$K$2:$K$1048576,0)),\"\")","v":""}]
[null,null,null,null,null,null,null,null,null,null,{"$f":"IF(ISNUMBER(SEARCH(Drop!$X$2,Liste!A503)),MAX(Liste!$K$1:'Liste'!K502)+1,\"\")","v":""},{"$f":"IFERROR(INDEX($A$2:$A$1000,MATCH(ROWS($K$2:K503),$K$2:$K$1048576,0)),\"\")","v":""}]
[null,null,null,null,null,null,null,null,null,null,{"$f":"IF(ISNUMBER(SEARCH(Drop!$X$2,Liste!A504)),MAX(Liste!$K$1:'Liste'!K503)+1,\"\")","v":""},{"$f":"IFERROR(INDEX($A$2:$A$1000,MATCH(ROWS($K$2:K504),$K$2:$K$1048576,0)),\"\")","v":""}]
[null,null,null,null,null,null,null,null,null,null,{"$f":"IF(ISNUMBER(SEARCH(Drop!$X$2,Liste!A505)),MAX(Liste!$K$1:'Liste'!K504)+1,\"\")","v":""},{"$f":"IFERROR(INDEX($A$2:$A$1000,MATCH(ROWS($K$2:K505),$K$2:$K$1048576,0)),\"\")","v":""}]
[null,null,null,null,null,null,null,null,null,null,{"$f":"IF(ISNUMBER(SEARCH(Drop!$X$2,Liste!A506)),MAX(Liste!$K$1:'Liste'!K505)+1,\"\")","v":""},{"$f":"IFERROR(INDEX($A$2:$A$1000,MATCH(ROWS($K$2:K506),$K$2:$K$1048576,0)),\"\")","v":""}]
[null,null,null,null,null,null,null,null,null,null,{"$f":"IF(ISNUMBER(SEARCH(Drop!$X$2,Liste!A507)),MAX(Liste!$K$1:'Liste'!K506)+1,\"\")","v":""},{"$f":"IFERROR(INDEX($A$2:$A$1000,MATCH(ROWS($K$2:K507),$K$2:$K$1048576,0)),\"\")","v":""}]
[null,null,null,null,null,null,null,null,null,null,{"$f":"IF(ISNUMBER(SEARCH(Drop!$X$2,Liste!A508)),MAX(Liste!$K$1:'Liste'!K507)+1,\"\")","v":""},{"$f":"IFERROR(INDEX($A$2:$A$1000,MATCH(ROWS($K$2:K508),$K$2:$K$1048576,0)),\"\")","v":""}]
[null,null,null,null,null,null,null,null,null,null,{"$f":"IF(ISNUMBER(SEARCH(Drop!$X$2,Liste!A509)),MAX(Liste!$K$1:'Liste'!K508)+1,\"\")","v":""},{"$f":"IFERROR(INDEX($A$2:$A$1000,MATCH(ROWS($K$2:K509),$K$2:$K$1048576,0)),\"\")","v":""}]
[null,null,null,null,null,null,null,null,null,null,{"$f":"IF(ISNUMBER(SEARCH(Drop!$X$2,Liste!A510)),MAX(Liste!$K$1:'Liste'!K509)+1,\"\")","v":""},{"$f":"IFERROR(INDEX($A$2:$A$1000,MATCH(ROWS($K$2:K510),$K$2:$K$1048576,0)),\"\")","v":""}]
[null,null,null,null,null,null,null,null,null,null,{"$f":"IF(ISNUMBER(SEARCH(Drop!$X$2,Liste!A511)),MAX(Liste!$K$1:'Liste'!K510)+1,\"\")","v":""},{"$f":"IFERROR(INDEX($A$2:$A$1000,MATCH(ROWS($K$2:K511),$K$2:$K$1048576,0)),\"\")","v":""}]
[null,null,null,null,null,null,null,null,null,null,{"$f":"IF(ISNUMBER(SEARCH(Drop!$X$2,Liste!A512)),MAX(Liste!$K$1:'Liste'!K511)+1,\"\")","v":""},{"$f":"IFERROR(INDEX($A$2:$A$1000,MATCH(ROWS($K$2:K512),$K$2:$K$1048576,0)),\"\")","v":""}]
[null,null,null,null,null,null,null,null,null,null,{"$f":"IF(ISNUMBER(SEARCH(Drop!$X$2,Liste!A513)),MAX(Liste!$K$1:'Liste'!K512)+1,\"\")","v":""},{"$f":"IFERROR(INDEX($A$2:$A$1000,MATCH(ROWS($K$2:K513),$K$2:$K$1048576,0)),\"\")","v":""}]
[null,null,null,null,null,null,null,null,null,null,{"$f":"IF(ISNUMBER(SEARCH(Drop!$X$2,Liste!A514)),MAX(Liste!$K$1:'Liste'!K513)+1,\"\")","v":""},{"$f":"IFERROR(INDEX($A$2:$A$1000,MATCH(ROWS($K$2:K514),$K$2:$K$1048576,0)),\"\")","v":""}]
[null,null,null,null,null,null,null,null,null,null,{"$f":"IF(ISNUMBER(SEARCH(Drop!$X$2,Liste!A515)),MAX(Liste!$K$1:'Liste'!K514)+1,\"\")","v":""},{"$f":"IFERROR(INDEX($A$2:$A$1000,MATCH(ROWS($K$2:K515),$K$2:$K$1048576,0)),\"\")","v":""}]
[null,null,null,null,null,null,null,null,null,null,{"$f":"IF(ISNUMBER(SEARCH(Drop!$X$2,Liste!A516)),MAX(Liste!$K$1:'Liste'!K515)+1,\"\")","v":""},{"$f":"IFERROR(INDEX($A$2:$A$1000,MATCH(ROWS($K$2:K516),$K$2:$K$1048576,0)),\"\")","v":""}]
[null,null,null,null,null,null,null,null,null,null,{"$f":"IF(ISNUMBER(SEARCH(Drop!$X$2,Liste!A517)),MAX(Liste!$K$1:'Liste'!K516)+1,\"\")","v":""},{"$f":"IFERROR(INDEX($A$2:$A$1000,MATCH(ROWS($K$2:K517),$K$2:$K$1048576,0)),\"\")","v":""}]
[null,null,null,null,null,null,null,null,null,null,{"$f":"IF(ISNUMBER(SEARCH(Drop!$X$2,Liste!A518)),MAX(Liste!$K$1:'Liste'!K517)+1,\"\")","v":""},{"$f":"IFERROR(INDEX($A$2:$A$1000,MATCH(ROWS($K$2:K518),$K$2:$K$1048576,0)),\"\")","v":""}]
[null,null,null,null,null,null,null,null,null,null,{"$f":"IF(ISNUMBER(SEARCH(Drop!$X$2,Liste!A519)),MAX(Liste!$K$1:'Liste'!K518)+1,\"\")","v":""},{"$f":"IFERROR(INDEX($A$2:$A$1000,MATCH(ROWS($K$2:K519),$K$2:$K$1048576,0)),\"\")","v":""}]
[null,null,null,null,null,null,null,null,null,null,{"$f":"IF(ISNUMBER(SEARCH(Drop!$X$2,Liste!A520)),MAX(Liste!$K$1:'Liste'!K519)+1,\"\")","v":""},{"$f":"IFERROR(INDEX($A$2:$A$1000,MATCH(ROWS($K$2:K520),$K$2:$K$1048576,0)),\"\")","v":""}]
[null,null,null,null,null,null,null,null,null,null,{"$f":"IF(ISNUMBER(SEARCH(Drop!$X$2,Liste!A521)),MAX(Liste!$K$1:'Liste'!K520)+1,\"\")","v":""},{"$f":"IFERROR(INDEX($A$2:$A$1000,MATCH(ROWS($K$2:K521),$K$2:$K$1048576,0)),\"\")","v":""}]
[null,null,null,null,null,null,null,null,null,null,{"$f":"IF(ISNUMBER(SEARCH(Drop!$X$2,Liste!A522)),MAX(Liste!$K$1:'Liste'!K521)+1,\"\")","v":""},{"$f":"IFERROR(INDEX($A$2:$A$1000,MATCH(ROWS($K$2:K522),$K$2:$K$1048576,0)),\"\")","v":""}]
[null,null,null,null,null,null,null,null,null,null,{"$f":"IF(ISNUMBER(SEARCH(Drop!$X$2,Liste!A523)),MAX(Liste!$K$1:'Liste'!K522)+1,\"\")","v":""},{"$f":"IFERROR(INDEX($A$2:$A$1000,MATCH(ROWS($K$2:K523),$K$2:$K$1048576,0)),\"\")","v":""}]
[null,null,null,null,null,null,null,null,null,null,{"$f":"IF(ISNUMBER(SEARCH(Drop!$X$2,Liste!A524)),MAX(Liste!$K$1:'Liste'!K523)+1,\"\")","v":""},{"$f":"IFERROR(INDEX($A$2:$A$1000,MATCH(ROWS($K$2:K524),$K$2:$K$1048576,0)),\"\")","v":""}]
[null,null,null,null,null,null,null,null,null,null,{"$f":"IF(ISNUMBER(SEARCH(Drop!$X$2,Liste!A525)),MAX(Liste!$K$1:'Liste'!K524)+1,\"\")","v":""},{"$f":"IFERROR(INDEX($A$2:$A$1000,MATCH(ROWS($K$2:K525),$K$2:$K$1048576,0)),\"\")","v":""}]
[null,null,null,null,null,null,null,null,null,null,{"$f":"IF(ISNUMBER(SEARCH(Drop!$X$2,Liste!A526)),MAX(Liste!$K$1:'Liste'!K525)+1,\"\")","v":""},{"$f":"IFERROR(INDEX($A$2:$A$1000,MATCH(ROWS($K$2:K526),$K$2:$K$1048576,0)),\"\")","v":""}]
[null,null,null,null,null,null,null,null,null,null,{"$f":"IF(ISNUMBER(SEARCH(Drop!$X$2,Liste!A527)),MAX(Liste!$K$1:'Liste'!K526)+1,\"\")","v":""},{"$f":"IFERROR(INDEX($A$2:$A$1000,MATCH(ROWS($K$2:K527),$K$2:$K$1048576,0)),\"\")","v":""}]
[null,null,null,null,null,null,null,null,null,null,{"$f":"IF(ISNUMBER(SEARCH(Drop!$X$2,Liste!A528)),MAX(Liste!$K$1:'Liste'!K527)+1,\"\")","v":""},{"$f":"IFERROR(INDEX($A$2:$A$1000,MATCH(ROWS($K$2:K528),$K$2:$K$1048576,0)),\"\")","v":""}]
[null,null,null,null,null,null,null,null,null,null,{"$f":"IF(ISNUMBER(SEARCH(Drop!$X$2,Liste!A529)),MAX(Liste!$K$1:'Liste'!K528)+1,\"\")","v":""},{"$f":"IFERROR(INDEX($A$2:$A$1000,MATCH(ROWS($K$2:K529),$K$2:$K$1048576,0)),\"\")","v":""}]
[null,null,null,null,null,null,null,null,null,null,{"$f":"IF(ISNUMBER(SEARCH(Drop!$X$2,Liste!A530)),MAX(Liste!$K$1:'Liste'!K529)+1,\"\")","v":""},{"$f":"IFERROR(INDEX($A$2:$A$1000,MATCH(ROWS($K$2:K530),$K$2:$K$1048576,0)),\"\")","v":""}]
[null,null,null,null,null,null,null,null,null,null,{"$f":"IF(ISNUMBER(SEARCH(Drop!$X$2,Liste!A531)),MAX(Liste!$K$1:'Liste'!K530)+1,\"\")","v":""},{"$f":"IFERROR(INDEX($A$2:$A$1000,MATCH(ROWS($K$2:K531),$K$2:$K$1048576,0)),\"\")","v":""}]
[null,null,null,null,null,null,null,null,null,null,{"$f":"IF(ISNUMBER(SEARCH(Drop!$X$2,Liste!A532)),MAX(Liste!$K$1:'Liste'!K531)+1,\"\")","v":""},{"$f":"IFERROR(INDEX($A$2:$A$1000,MATCH(ROWS($K$2:K532),$K$2:$K$1048576,0)),\"\")","v":""}]
[null,null,null,null,null,null,null,null,null,null,{"$f":"IF(ISNUMBER(SEARCH(Drop!$X$2,Liste!A533)),MAX(Liste!$K$1:'Liste'!K532)+1,\"\")","v":""},{"$f":"IFERROR(INDEX($A$2:$A$1000,MATCH(ROWS($K$2:K533),$K$2:$K$1048576,0)),\"\")","v":""}]
[null,null,null,null,null,null,null,null,null,null,{"$f":"IF(ISNUMBER(SEARCH(Drop!$X$2,Liste!A534)),MAX(Liste!$K$1:'Liste'!K533)+1,\"\")","v":""},{"$f":"IFERROR(INDEX($A$2:$A$1000,MATCH(ROWS($K$2:K534),$K$2:$K$1048576,0)),\"\")","v":""}]
[null,null,null,null,null,null,null,null,null,null,{"$f":"IF(ISNUMBER(SEARCH(Drop!$X$2,Liste!A535)),MAX(Liste!$K$1:'Liste'!K534)+1,\"\")","v":""},{"$f":"IFERROR(INDEX($A$2:$A$1000,MATCH(ROWS($K$2:K535),$K$2:$K$1048576,0)),\"\")","v":""}]
[null,null,null,null,null,null,null,null,null,null,{"$f":"IF(ISNUMBER(SEARCH(Drop!$X$2,Liste!A536)),MAX(Liste!$K$1:'Liste'!K535)+1,\"\")","v":""},{"$f":"IFERROR(INDEX($A$2:$A$1000,MATCH(ROWS($K$2:K536),$K$2:$K$1048576,0)),\"\")","v":""}]
[null,null,null,null,null,null,null,null,null,null,{"$f":"IF(ISNUMBER(SEARCH(Drop!$X$2,Liste!A537)),MAX(Liste!$K$1:'Liste'!K536)+1,\"\")","v":""},{"$f":"IFERROR(INDEX($A$2:$A$1000,MATCH(ROWS($K$2:K537),$K$2:$K$1048576,0)),\"\")","v":""}]
[null,null,null,null,null,null,null,null,null,null,{"$f":"IF(ISNUMBER(SEARCH(Drop!$X$2,Liste!A538)),MAX(Liste!$K$1:'Liste'!K537)+1,\"\")","v":""},{"$f":"IFERROR(INDEX($A$2:$A$1000,MATCH(ROWS($K$2:K538),$K$2:$K$1048576,0)),\"\")","v":""}]
[null,null,null,null,null,null,null,null,null,null,{"$f":"IF(ISNUMBER(SEARCH(Drop!$X$2,Liste!A539)),MAX(Liste!$K$1:'Liste'!K538)+1,\"\")","v":""},{"$f":"IFERROR(INDEX($A$2:$A$1000,MATCH(ROWS($K$2:K539),$K$2:$K$1048576,0)),\"\")","v":""}]
[null,null,null,null,null,null,null,null,null,null,{"$f":"IF(ISNUMBER(SEARCH(Drop!$X$2,Liste!A540)),MAX(Liste!$K$1:'Liste'!K539)+1,\"\")","v":""},{"$f":"IFERROR(INDEX($A$2:$A$1000,MATCH(ROWS($K$2:K540),$K$2:$K$1048576,0)),\"\")","v":""}]
[null,null,null,null,null,null,null,null,null,null,{"$f":"IF(ISNUMBER(SEARCH(Drop!$X$2,Liste!A541)),MAX(Liste!$K$1:'Liste'!K540)+1,\"\")","v":""},{"$f":"IFERROR(INDEX($A$2:$A$1000,MATCH(ROWS($K$2:K541),$K$2:$K$1048576,0)),\"\")","v":""}]
[null,null,null,null,null,null,null,null,null,null,{"$f":"IF(ISNUMBER(SEARCH(Drop!$X$2,Liste!A542)),MAX(Liste!$K$1:'Liste'!K541)+1,\"\")","v":""},{"$f":"IFERROR(INDEX($A$2:$A$1000,MATCH(ROWS($K$2:K542),$K$2:$K$1048576,0)),\"\")","v":""}]
[null,null,null,null,null,null,null,null,null,null,{"$f":"IF(ISNUMBER(SEARCH(Drop!$X$2,Liste!A543)),MAX(Liste!$K$1:'Liste'!K542)+1,\"\")","v":""},{"$f":"IFERROR(INDEX($A$2:$A$1000,MATCH(ROWS($K$2:K543),$K$2:$K$1048576,0)),\"\")","v":""}]
[null,null,null,null,null,null,null,null,null,null,{"$f":"IF(ISNUMBER(SEARCH(Drop!$X$2,Liste!A544)),MAX(Liste!$K$1:'Liste'!K543)+1,\"\")","v":""},{"$f":"IFERROR(INDEX($A$2:$A$1000,MATCH(ROWS($K$2:K544),$K$2:$K$1048576,0)),\"\")","v":""}]
[null,null,null,null,null,null,null,null,null,null,{"$f":"IF(ISNUMBER(SEARCH(Drop!$X$2,Liste!A545)),MAX(Liste!$K$1:'Liste'!K544)+1,\"\")","v":""},{"$f":"IFERROR(INDEX($A$2:$A$1000,MATCH(ROWS($K$2:K545),$K$2:$K$1048576,0)),\"\")","v":""}]
[null,null,null,null,null,null,null,null,null,null,{"$f":"IF(ISNUMBER(SEARCH(Drop!$X$2,Liste!A546)),MAX(Liste!$K$1:'Liste'!K545)+1,\"\")","v":""},{"$f":"IFERROR(INDEX($A$2:$A$1000,MATCH(ROWS($K$2:K546),$K$2:$K$1048576,0)),\"\")","v":""}]
[null,null,null,null,null,null,null,null,null,null,{"$f":"IF(ISNUMBER(SEARCH(Drop!$X$2,Liste!A547)),MAX(Liste!$K$1:'Liste'!K546)+1,\"\")","v":""},{"$f":"IFERROR(INDEX($A$2:$A$1000,MATCH(ROWS($K$2:K547),$K$2:$K$1048576,0)),\"\")","v":""}]
[null,null,null,null,null,null,null,null,null,null,{"$f":"IF(ISNUMBER(SEARCH(Drop!$X$2,Liste!A548)),MAX(Liste!$K$1:'Liste'!K547)+1,\"\")","v":""},{"$f":"IFERROR(INDEX($A$2:$A$1000,MATCH(ROWS($K$2:K548),$K$2:$K$1048576,0)),\"\")","v":""}]
[null,null,null,null,null,null,null,null,null,null,{"$f":"IF(ISNUMBER(SEARCH(Drop!$X$2,Liste!A549)),MAX(Liste!$K$1:'Liste'!K548)+1,\"\")","v":""},{"$f":"IFERROR(INDEX($A$2:$A$1000,MATCH(ROWS($K$2:K549),$K$2:$K$1048576,0)),\"\")","v":""}]
[null,null,null,null,null,null,null,null,null,null,{"$f":"IF(ISNUMBER(SEARCH(Drop!$X$2,Liste!A550)),MAX(Liste!$K$1:'Liste'!K549)+1,\"\")","v":""},{"$f":"IFERROR(INDEX($A$2:$A$1000,MATCH(ROWS($K$2:K550),$K$2:$K$1048576,0)),\"\")","v":""}]
[null,null,null,null,null,null,null,null,null,null,{"$f":"IF(ISNUMBER(SEARCH(Drop!$X$2,Liste!A551)),MAX(Liste!$K$1:'Liste'!K550)+1,\"\")","v":""},{"$f":"IFERROR(INDEX($A$2:$A$1000,MATCH(ROWS($K$2:K551),$K$2:$K$1048576,0)),\"\")","v":""}]
[null,null,null,null,null,null,null,null,null,null,{"$f":"IF(ISNUMBER(SEARCH(Drop!$X$2,Liste!A552)),MAX(Liste!$K$1:'Liste'!K551)+1,\"\")","v":""},{"$f":"IFERROR(INDEX($A$2:$A$1000,MATCH(ROWS($K$2:K552),$K$2:$K$1048576,0)),\"\")","v":""}]
[null,null,null,null,null,null,null,null,null,null,{"$f":"IF(ISNUMBER(SEARCH(Drop!$X$2,Liste!A553)),MAX(Liste!$K$1:'Liste'!K552)+1,\"\")","v":""},{"$f":"IFERROR(INDEX($A$2:$A$1000,MATCH(ROWS($K$2:K553),$K$2:$K$1048576,0)),\"\")","v":""}]
[null,null,null,null,null,null,null,null,null,null,{"$f":"IF(ISNUMBER(SEARCH(Drop!$X$2,Liste!A554)),MAX(Liste!$K$1:'Liste'!K553)+1,\"\")","v":""},{"$f":"IFERROR(INDEX($A$2:$A$1000,MATCH(ROWS($K$2:K554),$K$2:$K$1048576,0)),\"\")","v":""}]
[null,null,null,null,null,null,null,null,null,null,{"$f":"IF(ISNUMBER(SEARCH(Drop!$X$2,Liste!A555)),MAX(Liste!$K$1:'Liste'!K554)+1,\"\")","v":""},{"$f":"IFERROR(INDEX($A$2:$A$1000,MATCH(ROWS($K$2:K555),$K$2:$K$1048576,0)),\"\")","v":""}]
[null,null,null,null,null,null,null,null,null,null,{"$f":"IF(ISNUMBER(SEARCH(Drop!$X$2,Liste!A556)),MAX(Liste!$K$1:'Liste'!K555)+1,\"\")","v":""},{"$f":"IFERROR(INDEX($A$2:$A$1000,MATCH(ROWS($K$2:K556),$K$2:$K$1048576,0)),\"\")","v":""}]
[null,null,null,null,null,null,null,null,null,null,{"$f":"IF(ISNUMBER(SEARCH(Drop!$X$2,Liste!A557)),MAX(Liste!$K$1:'Liste'!K556)+1,\"\")","v":""},{"$f":"IFERROR(INDEX($A$2:$A$1000,MATCH(ROWS($K$2:K557),$K$2:$K$1048576,0)),\"\")","v":""}]
[null,null,null,null,null,null,null,null,null,null,{"$f":"IF(ISNUMBER(SEARCH(Drop!$X$2,Liste!A558)),MAX(Liste!$K$1:'Liste'!K557)+1,\"\")","v":""},{"$f":"IFERROR(INDEX($A$2:$A$1000,MATCH(ROWS($K$2:K558),$K$2:$K$1048576,0)),\"\")","v":""}]
[null,null,null,null,null,null,null,null,null,null,{"$f":"IF(ISNUMBER(SEARCH(Drop!$X$2,Liste!A559)),MAX(Liste!$K$1:'Liste'!K558)+1,\"\")","v":""},{"$f":"IFERROR(INDEX($A$2:$A$1000,MATCH(ROWS($K$2:K559),$K$2:$K$1048576,0)),\"\")","v":""}]
[null,null,null,null,null,null,null,null,null,null,{"$f":"IF(ISNUMBER(SEARCH(Drop!$X$2,Liste!A560)),MAX(Liste!$K$1:'Liste'!K559)+1,\"\")","v":""},{"$f":"IFERROR(INDEX($A$2:$A$1000,MATCH(ROWS($K$2:K560),$K$2:$K$1048576,0)),\"\")","v":""}]
[null,null,null,null,null,null,null,null,null,null,{"$f":"IF(ISNUMBER(SEARCH(Drop!$X$2,Liste!A561)),MAX(Liste!$K$1:'Liste'!K560)+1,\"\")","v":""},{"$f":"IFERROR(INDEX($A$2:$A$1000,MATCH(ROWS($K$2:K561),$K$2:$K$1048576,0)),\"\")","v":""}]
[null,null,null,null,null,null,null,null,null,null,{"$f":"IF(ISNUMBER(SEARCH(Drop!$X$2,Liste!A562)),MAX(Liste!$K$1:'Liste'!K561)+1,\"\")","v":""},{"$f":"IFERROR(INDEX($A$2:$A$1000,MATCH(ROWS($K$2:K562),$K$2:$K$1048576,0)),\"\")","v":""}]
[null,null,null,null,null,null,null,null,null,null,{"$f":"IF(ISNUMBER(SEARCH(Drop!$X$2,Liste!A563)),MAX(Liste!$K$1:'Liste'!K562)+1,\"\")","v":""},{"$f":"IFERROR(INDEX($A$2:$A$1000,MATCH(ROWS($K$2:K563),$K$2:$K$1048576,0)),\"\")","v":""}]
[null,null,null,null,null,null,null,null,null,null,{"$f":"IF(ISNUMBER(SEARCH(Drop!$X$2,Liste!A564)),MAX(Liste!$K$1:'Liste'!K563)+1,\"\")","v":""},{"$f":"IFERROR(INDEX($A$2:$A$1000,MATCH(ROWS($K$2:K564),$K$2:$K$1048576,0)),\"\")","v":""}]
[null,null,null,null,null,null,null,null,null,null,{"$f":"IF(ISNUMBER(SEARCH(Drop!$X$2,Liste!A565)),MAX(Liste!$K$1:'Liste'!K564)+1,\"\")","v":""},{"$f":"IFERROR(INDEX($A$2:$A$1000,MATCH(ROWS($K$2:K565),$K$2:$K$1048576,0)),\"\")","v":""}]
[null,null,null,null,null,null,null,null,null,null,{"$f":"IF(ISNUMBER(SEARCH(Drop!$X$2,Liste!A566)),MAX(Liste!$K$1:'Liste'!K565)+1,\"\")","v":""},{"$f":"IFERROR(INDEX($A$2:$A$1000,MATCH(ROWS($K$2:K566),$K$2:$K$1048576,0)),\"\")","v":""}]
[null,null,null,null,null,null,null,null,null,null,{"$f":"IF(ISNUMBER(SEARCH(Drop!$X$2,Liste!A567)),MAX(Liste!$K$1:'Liste'!K566)+1,\"\")","v":""},{"$f":"IFERROR(INDEX($A$2:$A$1000,MATCH(ROWS($K$2:K567),$K$2:$K$1048576,0)),\"\")","v":""}]
[null,null,null,null,null,null,null,null,null,null,{"$f":"IF(ISNUMBER(SEARCH(Drop!$X$2,Liste!A568)),MAX(Liste!$K$1:'Liste'!K567)+1,\"\")","v":""},{"$f":"IFERROR(INDEX($A$2:$A$1000,MATCH(ROWS($K$2:K568),$K$2:$K$1048576,0)),\"\")","v":""}]
[null,null,null,null,null,null,null,null,null,null,{"$f":"IF(ISNUMBER(SEARCH(Drop!$X$2,Liste!A569)),MAX(Liste!$K$1:'Liste'!K568)+1,\"\")","v":""},{"$f":"IFERROR(INDEX($A$2:$A$1000,MATCH(ROWS($K$2:K569),$K$2:$K$1048576,0)),\"\")","v":""}]
[null,null,null,null,null,null,null,null,null,null,{"$f":"IF(ISNUMBER(SEARCH(Drop!$X$2,Liste!A570)),MAX(Liste!$K$1:'Liste'!K569)+1,\"\")","v":""},{"$f":"IFERROR(INDEX($A$2:$A$1000,MATCH(ROWS($K$2:K570),$K$2:$K$1048576,0)),\"\")","v":""}]
[null,null,null,null,null,null,null,null,null,null,{"$f":"IF(ISNUMBER(SEARCH(Drop!$X$2,Liste!A571)),MAX(Liste!$K$1:'Liste'!K570)+1,\"\")","v":""},{"$f":"IFERROR(INDEX($A$2:$A$1000,MATCH(ROWS($K$2:K571),$K$2:$K$1048576,0)),\"\")","v":""}]
[null,null,null,null,null,null,null,null,null,null,{"$f":"IF(ISNUMBER(SEARCH(Drop!$X$2,Liste!A572)),MAX(Liste!$K$1:'Liste'!K571)+1,\"\")","v":""},{"$f":"IFERROR(INDEX($A$2:$A$1000,MATCH(ROWS($K$2:K572),$K$2:$K$1048576,0)),\"\")","v":""}]
[null,null,null,null,null,null,null,null,null,null,{"$f":"IF(ISNUMBER(SEARCH(Drop!$X$2,Liste!A573)),MAX(Liste!$K$1:'Liste'!K572)+1,\"\")","v":""},{"$f":"IFERROR(INDEX($A$2:$A$1000,MATCH(ROWS($K$2:K573),$K$2:$K$1048576,0)),\"\")","v":""}]
[null,null,null,null,null,null,null,null,null,null,{"$f":"IF(ISNUMBER(SEARCH(Drop!$X$2,Liste!A574)),MAX(Liste!$K$1:'Liste'!K573)+1,\"\")","v":""},{"$f":"IFERROR(INDEX($A$2:$A$1000,MATCH(ROWS($K$2:K574),$K$2:$K$1048576,0)),\"\")","v":""}]
[null,null,null,null,null,null,null,null,null,null,{"$f":"IF(ISNUMBER(SEARCH(Drop!$X$2,Liste!A575)),MAX(Liste!$K$1:'Liste'!K574)+1,\"\")","v":""},{"$f":"IFERROR(INDEX($A$2:$A$1000,MATCH(ROWS($K$2:K575),$K$2:$K$1048576,0)),\"\")","v":""}]
[null,null,null,null,null,null,null,null,null,null,{"$f":"IF(ISNUMBER(SEARCH(Drop!$X$2,Liste!A576)),MAX(Liste!$K$1:'Liste'!K575)+1,\"\")","v":""},{"$f":"IFERROR(INDEX($A$2:$A$1000,MATCH(ROWS($K$2:K576),$K$2:$K$1048576,0)),\"\")","v":""}]
[null,null,null,null,null,null,null,null,null,null,{"$f":"IF(ISNUMBER(SEARCH(Drop!$X$2,Liste!A577)),MAX(Liste!$K$1:'Liste'!K576)+1,\"\")","v":""},{"$f":"IFERROR(INDEX($A$2:$A$1000,MATCH(ROWS($K$2:K577),$K$2:$K$1048576,0)),\"\")","v":""}]
[null,null,null,null,null,null,null,null,null,null,{"$f":"IF(ISNUMBER(SEARCH(Drop!$X$2,Liste!A578)),MAX(Liste!$K$1:'Liste'!K577)+1,\"\")","v":""},{"$f":"IFERROR(INDEX($A$2:$A$1000,MATCH(ROWS($K$2:K578),$K$2:$K$1048576,0)),\"\")","v":""}]
[null,null,null,null,null,null,null,null,null,null,{"$f":"IF(ISNUMBER(SEARCH(Drop!$X$2,Liste!A579)),MAX(Liste!$K$1:'Liste'!K578)+1,\"\")","v":""},{"$f":"IFERROR(INDEX($A$2:$A$1000,MATCH(ROWS($K$2:K579),$K$2:$K$1048576,0)),\"\")","v":""}]
[null,null,null,null,null,null,null,null,null,null,{"$f":"IF(ISNUMBER(SEARCH(Drop!$X$2,Liste!A580)),MAX(Liste!$K$1:'Liste'!K579)+1,\"\")","v":""},{"$f":"IFERROR(INDEX($A$2:$A$1000,MATCH(ROWS($K$2:K580),$K$2:$K$1048576,0)),\"\")","v":""}]
[null,null,null,null,null,null,null,null,null,null,{"$f":"IF(ISNUMBER(SEARCH(Drop!$X$2,Liste!A581)),MAX(Liste!$K$1:'Liste'!K580)+1,\"\")","v":""},{"$f":"IFERROR(INDEX($A$2:$A$1000,MATCH(ROWS($K$2:K581),$K$2:$K$1048576,0)),\"\")","v":""}]
[null,null,null,null,null,null,null,null,null,null,{"$f":"IF(ISNUMBER(SEARCH(Drop!$X$2,Liste!A582)),MAX(Liste!$K$1:'Liste'!K581)+1,\"\")","v":""},{"$f":"IFERROR(INDEX($A$2:$A$1000,MATCH(ROWS($K$2:K582),$K$2:$K$1048576,0)),\"\")","v":""}]
[null,null,null,null,null,null,null,null,null,null,{"$f":"IF(ISNUMBER(SEARCH(Drop!$X$2,Liste!A583)),MAX(Liste!$K$1:'Liste'!K582)+1,\"\")","v":""},{"$f":"IFERROR(INDEX($A$2:$A$1000,MATCH(ROWS($K$2:K583),$K$2:$K$1048576,0)),\"\")","v":""}]
[null,null,null,null,null,null,null,null,null,null,{"$f":"IF(ISNUMBER(SEARCH(Drop!$X$2,Liste!A584)),MAX(Liste!$K$1:'Liste'!K583)+1,\"\")","v":""},{"$f":"IFERROR(INDEX($A$2:$A$1000,MATCH(ROWS($K$2:K584),$K$2:$K$1048576,0)),\"\")","v":""}]
[null,null,null,null,null,null,null,null,null,null,{"$f":"IF(ISNUMBER(SEARCH(Drop!$X$2,Liste!A585)),MAX(Liste!$K$1:'Liste'!K584)+1,\"\")","v":""},{"$f":"IFERROR(INDEX($A$2:$A$1000,MATCH(ROWS($K$2:K585),$K$2:$K$1048576,0)),\"\")","v":""}]
[null,null,null,null,null,null,null,null,null,null,{"$f":"IF(ISNUMBER(SEARCH(Drop!$X$2,Liste!A586)),MAX(Liste!$K$1:'Liste'!K585)+1,\"\")","v":""},{"$f":"IFERROR(INDEX($A$2:$A$1000,MATCH(ROWS($K$2:K586),$K$2:$K$1048576,0)),\"\")","v":""}]
[null,null,null,null,null,null,null,null,null,null,{"$f":"IF(ISNUMBER(SEARCH(Drop!$X$2,Liste!A587)),MAX(Liste!$K$1:'Liste'!K586)+1,\"\")","v":""},{"$f":"IFERROR(INDEX($A$2:$A$1000,MATCH(ROWS($K$2:K587),$K$2:$K$1048576,0)),\"\")","v":""}]
[null,null,null,null,null,null,null,null,null,null,{"$f":"IF(ISNUMBER(SEARCH(Drop!$X$2,Liste!A588)),MAX(Liste!$K$1:'Liste'!K587)+1,\"\")","v":""},{"$f":"IFERROR(INDEX($A$2:$A$1000,MATCH(ROWS($K$2:K588),$K$2:$K$1048576,0)),\"\")","v":""}]
[null,null,null,null,null,null,null,null,null,null,{"$f":"IF(ISNUMBER(SEARCH(Drop!$X$2,Liste!A589)),MAX(Liste!$K$1:'Liste'!K588)+1,\"\")","v":""},{"$f":"IFERROR(INDEX($A$2:$A$1000,MATCH(ROWS($K$2:K589),$K$2:$K$1048576,0)),\"\")","v":""}]
[null,null,null,null,null,null,null,null,null,null,{"$f":"IF(ISNUMBER(SEARCH(Drop!$X$2,Liste!A590)),MAX(Liste!$K$1:'Liste'!K589)+1,\"\")","v":""},{"$f":"IFERROR(INDEX($A$2:$A$1000,MATCH(ROWS($K$2:K590),$K$2:$K$1048576,0)),\"\")","v":""}]
[null,null,null,null,null,null,null,null,null,null,{"$f":"IF(ISNUMBER(SEARCH(Drop!$X$2,Liste!A591)),MAX(Liste!$K$1:'Liste'!K590)+1,\"\")","v":""},{"$f":"IFERROR(INDEX($A$2:$A$1000,MATCH(ROWS($K$2:K591),$K$2:$K$1048576,0)),\"\")","v":""}]
[null,null,null,null,null,null,null,null,null,null,{"$f":"IF(ISNUMBER(SEARCH(Drop!$X$2,Liste!A592)),MAX(Liste!$K$1:'Liste'!K591)+1,\"\")","v":""},{"$f":"IFERROR(INDEX($A$2:$A$1000,MATCH(ROWS($K$2:K592),$K$2:$K$1048576,0)),\"\")","v":""}]
[null,null,null,null,null,null,null,null,null,null,{"$f":"IF(ISNUMBER(SEARCH(Drop!$X$2,Liste!A593)),MAX(Liste!$K$1:'Liste'!K592)+1,\"\")","v":""},{"$f":"IFERROR(INDEX($A$2:$A$1000,MATCH(ROWS($K$2:K593),$K$2:$K$1048576,0)),\"\")","v":""}]
[null,null,null,null,null,null,null,null,null,null,{"$f":"IF(ISNUMBER(SEARCH(Drop!$X$2,Liste!A594)),MAX(Liste!$K$1:'Liste'!K593)+1,\"\")","v":""},{"$f":"IFERROR(INDEX($A$2:$A$1000,MATCH(ROWS($K$2:K594),$K$2:$K$1048576,0)),\"\")","v":""}]
[null,null,null,null,null,null,null,null,null,null,{"$f":"IF(ISNUMBER(SEARCH(Drop!$X$2,Liste!A595)),MAX(Liste!$K$1:'Liste'!K594)+1,\"\")","v":""},{"$f":"IFERROR(INDEX($A$2:$A$1000,MATCH(ROWS($K$2:K595),$K$2:$K$1048576,0)),\"\")","v":""}]
[null,null,null,null,null,null,null,null,null,null,{"$f":"IF(ISNUMBER(SEARCH(Drop!$X$2,Liste!A596)),MAX(Liste!$K$1:'Liste'!K595)+1,\"\")","v":""},{"$f":"IFERROR(INDEX($A$2:$A$1000,MATCH(ROWS($K$2:K596),$K$2:$K$1048576,0)),\"\")","v":""}]
[null,null,null,null,null,null,null,null,null,null,{"$f":"IF(ISNUMBER(SEARCH(Drop!$X$2,Liste!A597)),MAX(Liste!$K$1:'Liste'!K596)+1,\"\")","v":""},{"$f":"IFERROR(INDEX($A$2:$A$1000,MATCH(ROWS($K$2:K597),$K$2:$K$1048576,0)),\"\")","v":""}]
[null,null,null,null,null,null,null,null,null,null,{"$f":"IF(ISNUMBER(SEARCH(Drop!$X$2,Liste!A598)),MAX(Liste!$K$1:'Liste'!K597)+1,\"\")","v":""},{"$f":"IFERROR(INDEX($A$2:$A$1000,MATCH(ROWS($K$2:K598),$K$2:$K$1048576,0)),\"\")","v":""}]
[null,null,null,null,null,null,null,null,null,null,{"$f":"IF(ISNUMBER(SEARCH(Drop!$X$2,Liste!A599)),MAX(Liste!$K$1:'Liste'!K598)+1,\"\")","v":""},{"$f":"IFERROR(INDEX($A$2:$A$1000,MATCH(ROWS($K$2:K599),$K$2:$K$1048576,0)),\"\")","v":""}]
[null,null,null,null,null,null,null,null,null,null,{"$f":"IF(ISNUMBER(SEARCH(Drop!$X$2,Liste!A600)),MAX(Liste!$K$1:'Liste'!K599)+1,\"\")","v":""},{"$f":"IFERROR(INDEX($A$2:$A$1000,MATCH(ROWS($K$2:K600),$K$2:$K$1048576,0)),\"\")","v":""}]
[null,null,null,null,null,null,null,null,null,null,{"$f":"IF(ISNUMBER(SEARCH(Drop!$X$2,Liste!A601)),MAX(Liste!$K$1:'Liste'!K600)+1,\"\")","v":""},{"$f":"IFERROR(INDEX($A$2:$A$1000,MATCH(ROWS($K$2:K601),$K$2:$K$1048576,0)),\"\")","v":""}]
[null,null,null,null,null,null,null,null,null,null,{"$f":"IF(ISNUMBER(SEARCH(Drop!$X$2,Liste!A602)),MAX(Liste!$K$1:'Liste'!K601)+1,\"\")","v":""},{"$f":"IFERROR(INDEX($A$2:$A$1000,MATCH(ROWS($K$2:K602),$K$2:$K$1048576,0)),\"\")","v":""}]
[null,null,null,null,null,null,null,null,null,null,{"$f":"IF(ISNUMBER(SEARCH(Drop!$X$2,Liste!A603)),MAX(Liste!$K$1:'Liste'!K602)+1,\"\")","v":""},{"$f":"IFERROR(INDEX($A$2:$A$1000,MATCH(ROWS($K$2:K603),$K$2:$K$1048576,0)),\"\")","v":""}]
[null,null,null,null,null,null,null,null,null,null,{"$f":"IF(ISNUMBER(SEARCH(Drop!$X$2,Liste!A604)),MAX(Liste!$K$1:'Liste'!K603)+1,\"\")","v":""},{"$f":"IFERROR(INDEX($A$2:$A$1000,MATCH(ROWS($K$2:K604),$K$2:$K$1048576,0)),\"\")","v":""}]
[null,null,null,null,null,null,null,null,null,null,{"$f":"IF(ISNUMBER(SEARCH(Drop!$X$2,Liste!A605)),MAX(Liste!$K$1:'Liste'!K604)+1,\"\")","v":""},{"$f":"IFERROR(INDEX($A$2:$A$1000,MATCH(ROWS($K$2:K605),$K$2:$K$1048576,0)),\"\")","v":""}]
[null,null,null,null,null,null,null,null,null,null,{"$f":"IF(ISNUMBER(SEARCH(Drop!$X$2,Liste!A606)),MAX(Liste!$K$1:'Liste'!K605)+1,\"\")","v":""},{"$f":"IFERROR(INDEX($A$2:$A$1000,MATCH(ROWS($K$2:K606),$K$2:$K$1048576,0)),\"\")","v":""}]
[null,null,null,null,null,null,null,null,null,null,{"$f":"IF(ISNUMBER(SEARCH(Drop!$X$2,Liste!A607)),MAX(Liste!$K$1:'Liste'!K606)+1,\"\")","v":""},{"$f":"IFERROR(INDEX($A$2:$A$1000,MATCH(ROWS($K$2:K607),$K$2:$K$1048576,0)),\"\")","v":""}]
[null,null,null,null,null,null,null,null,null,null,{"$f":"IF(ISNUMBER(SEARCH(Drop!$X$2,Liste!A608)),MAX(Liste!$K$1:'Liste'!K607)+1,\"\")","v":""},{"$f":"IFERROR(INDEX($A$2:$A$1000,MATCH(ROWS($K$2:K608),$K$2:$K$1048576,0)),\"\")","v":""}]
[null,null,null,null,null,null,null,null,null,null,{"$f":"IF(ISNUMBER(SEARCH(Drop!$X$2,Liste!A609)),MAX(Liste!$K$1:'Liste'!K608)+1,\"\")","v":""},{"$f":"IFERROR(INDEX($A$2:$A$1000,MATCH(ROWS($K$2:K609),$K$2:$K$1048576,0)),\"\")","v":""}]
[null,null,null,null,null,null,null,null,null,null,{"$f":"IF(ISNUMBER(SEARCH(Drop!$X$2,Liste!A610)),MAX(Liste!$K$1:'Liste'!K609)+1,\"\")","v":""},{"$f":"IFERROR(INDEX($A$2:$A$1000,MATCH(ROWS($K$2:K610),$K$2:$K$1048576,0)),\"\")","v":""}]
[null,null,null,null,null,null,null,null,null,null,{"$f":"IF(ISNUMBER(SEARCH(Drop!$X$2,Liste!A611)),MAX(Liste!$K$1:'Liste'!K610)+1,\"\")","v":""},{"$f":"IFERROR(INDEX($A$2:$A$1000,MATCH(ROWS($K$2:K611),$K$2:$K$1048576,0)),\"\")","v":""}]
[null,null,null,null,null,null,null,null,null,null,{"$f":"IF(ISNUMBER(SEARCH(Drop!$X$2,Liste!A612)),MAX(Liste!$K$1:'Liste'!K611)+1,\"\")","v":""},{"$f":"IFERROR(INDEX($A$2:$A$1000,MATCH(ROWS($K$2:K612),$K$2:$K$1048576,0)),\"\")","v":""}]
[null,null,null,null,null,null,null,null,null,null,{"$f":"IF(ISNUMBER(SEARCH(Drop!$X$2,Liste!A613)),MAX(Liste!$K$1:'Liste'!K612)+1,\"\")","v":""},{"$f":"IFERROR(INDEX($A$2:$A$1000,MATCH(ROWS($K$2:K613),$K$2:$K$1048576,0)),\"\")","v":""}]
[null,null,null,null,null,null,null,null,null,null,{"$f":"IF(ISNUMBER(SEARCH(Drop!$X$2,Liste!A614)),MAX(Liste!$K$1:'Liste'!K613)+1,\"\")","v":""},{"$f":"IFERROR(INDEX($A$2:$A$1000,MATCH(ROWS($K$2:K614),$K$2:$K$1048576,0)),\"\")","v":""}]
[null,null,null,null,null,null,null,null,null,null,{"$f":"IF(ISNUMBER(SEARCH(Drop!$X$2,Liste!A615)),MAX(Liste!$K$1:'Liste'!K614)+1,\"\")","v":""},{"$f":"IFERROR(INDEX($A$2:$A$1000,MATCH(ROWS($K$2:K615),$K$2:$K$1048576,0)),\"\")","v":""}]
[null,null,null,null,null,null,null,null,null,null,{"$f":"IF(ISNUMBER(SEARCH(Drop!$X$2,Liste!A616)),MAX(Liste!$K$1:'Liste'!K615)+1,\"\")","v":""},{"$f":"IFERROR(INDEX($A$2:$A$1000,MATCH(ROWS($K$2:K616),$K$2:$K$1048576,0)),\"\")","v":""}]
[null,null,null,null,null,null,null,null,null,null,{"$f":"IF(ISNUMBER(SEARCH(Drop!$X$2,Liste!A617)),MAX(Liste!$K$1:'Liste'!K616)+1,\"\")","v":""},{"$f":"IFERROR(INDEX($A$2:$A$1000,MATCH(ROWS($K$2:K617),$K$2:$K$1048576,0)),\"\")","v":""}]
[null,null,null,null,null,null,null,null,null,null,{"$f":"IF(ISNUMBER(SEARCH(Drop!$X$2,Liste!A618)),MAX(Liste!$K$1:'Liste'!K617)+1,\"\")","v":""},{"$f":"IFERROR(INDEX($A$2:$A$1000,MATCH(ROWS($K$2:K618),$K$2:$K$1048576,0)),\"\")","v":""}]
[null,null,null,null,null,null,null,null,null,null,{"$f":"IF(ISNUMBER(SEARCH(Drop!$X$2,Liste!A619)),MAX(Liste!$K$1:'Liste'!K618)+1,\"\")","v":""},{"$f":"IFERROR(INDEX($A$2:$A$1000,MATCH(ROWS($K$2:K619),$K$2:$K$1048576,0)),\"\")","v":""}]
[null,null,null,null,null,null,null,null,null,null,{"$f":"IF(ISNUMBER(SEARCH(Drop!$X$2,Liste!A620)),MAX(Liste!$K$1:'Liste'!K619)+1,\"\")","v":""},{"$f":"IFERROR(INDEX($A$2:$A$1000,MATCH(ROWS($K$2:K620),$K$2:$K$1048576,0)),\"\")","v":""}]
[null,null,null,null,null,null,null,null,null,null,{"$f":"IF(ISNUMBER(SEARCH(Drop!$X$2,Liste!A621)),MAX(Liste!$K$1:'Liste'!K620)+1,\"\")","v":""},{"$f":"IFERROR(INDEX($A$2:$A$1000,MATCH(ROWS($K$2:K621),$K$2:$K$1048576,0)),\"\")","v":""}]
[null,null,null,null,null,null,null,null,null,null,{"$f":"IF(ISNUMBER(SEARCH(Drop!$X$2,Liste!A622)),MAX(Liste!$K$1:'Liste'!K621)+1,\"\")","v":""},{"$f":"IFERROR(INDEX($A$2:$A$1000,MATCH(ROWS($K$2:K622),$K$2:$K$1048576,0)),\"\")","v":""}]
[null,null,null,null,null,null,null,null,null,null,{"$f":"IF(ISNUMBER(SEARCH(Drop!$X$2,Liste!A623)),MAX(Liste!$K$1:'Liste'!K622)+1,\"\")","v":""},{"$f":"IFERROR(INDEX($A$2:$A$1000,MATCH(ROWS($K$2:K623),$K$2:$K$1048576,0)),\"\")","v":""}]
[null,null,null,null,null,null,null,null,null,null,{"$f":"IF(ISNUMBER(SEARCH(Drop!$X$2,Liste!A624)),MAX(Liste!$K$1:'Liste'!K623)+1,\"\")","v":""},{"$f":"IFERROR(INDEX($A$2:$A$1000,MATCH(ROWS($K$2:K624),$K$2:$K$1048576,0)),\"\")","v":""}]
[null,null,null,null,null,null,null,null,null,null,{"$f":"IF(ISNUMBER(SEARCH(Drop!$X$2,Liste!A625)),MAX(Liste!$K$1:'Liste'!K624)+1,\"\")","v":""},{"$f":"IFERROR(INDEX($A$2:$A$1000,MATCH(ROWS($K$2:K625),$K$2:$K$1048576,0)),\"\")","v":""}]
[null,null,null,null,null,null,null,null,null,null,{"$f":"IF(ISNUMBER(SEARCH(Drop!$X$2,Liste!A626)),MAX(Liste!$K$1:'Liste'!K625)+1,\"\")","v":""},{"$f":"IFERROR(INDEX($A$2:$A$1000,MATCH(ROWS($K$2:K626),$K$2:$K$1048576,0)),\"\")","v":""}]
[null,null,null,null,null,null,null,null,null,null,{"$f":"IF(ISNUMBER(SEARCH(Drop!$X$2,Liste!A627)),MAX(Liste!$K$1:'Liste'!K626)+1,\"\")","v":""},{"$f":"IFERROR(INDEX($A$2:$A$1000,MATCH(ROWS($K$2:K627),$K$2:$K$1048576,0)),\"\")","v":""}]
[null,null,null,null,null,null,null,null,null,null,{"$f":"IF(ISNUMBER(SEARCH(Drop!$X$2,Liste!A628)),MAX(Liste!$K$1:'Liste'!K627)+1,\"\")","v":""},{"$f":"IFERROR(INDEX($A$2:$A$1000,MATCH(ROWS($K$2:K628),$K$2:$K$1048576,0)),\"\")","v":""}]
[null,null,null,null,null,null,null,null,null,null,{"$f":"IF(ISNUMBER(SEARCH(Drop!$X$2,Liste!A629)),MAX(Liste!$K$1:'Liste'!K628)+1,\"\")","v":""},{"$f":"IFERROR(INDEX($A$2:$A$1000,MATCH(ROWS($K$2:K629),$K$2:$K$1048576,0)),\"\")","v":""}]
[null,null,null,null,null,null,null,null,null,null,{"$f":"IF(ISNUMBER(SEARCH(Drop!$X$2,Liste!A630)),MAX(Liste!$K$1:'Liste'!K629)+1,\"\")","v":""},{"$f":"IFERROR(INDEX($A$2:$A$1000,MATCH(ROWS($K$2:K630),$K$2:$K$1048576,0)),\"\")","v":""}]
[null,null,null,null,null,null,null,null,null,null,{"$f":"IF(ISNUMBER(SEARCH(Drop!$X$2,Liste!A631)),MAX(Liste!$K$1:'Liste'!K630)+1,\"\")","v":""},{"$f":"IFERROR(INDEX($A$2:$A$1000,MATCH(ROWS($K$2:K631),$K$2:$K$1048576,0)),\"\")","v":""}]
[null,null,null,null,null,null,null,null,null,null,{"$f":"IF(ISNUMBER(SEARCH(Drop!$X$2,Liste!A632)),MAX(Liste!$K$1:'Liste'!K631)+1,\"\")","v":""},{"$f":"IFERROR(INDEX($A$2:$A$1000,MATCH(ROWS($K$2:K632),$K$2:$K$1048576,0)),\"\")","v":""}]
[null,null,null,null,null,null,null,null,null,null,{"$f":"IF(ISNUMBER(SEARCH(Drop!$X$2,Liste!A633)),MAX(Liste!$K$1:'Liste'!K632)+1,\"\")","v":""},{"$f":"IFERROR(INDEX($A$2:$A$1000,MATCH(ROWS($K$2:K633),$K$2:$K$1048576,0)),\"\")","v":""}]
[null,null,null,null,null,null,null,null,null,null,{"$f":"IF(ISNUMBER(SEARCH(Drop!$X$2,Liste!A634)),MAX(Liste!$K$1:'Liste'!K633)+1,\"\")","v":""},{"$f":"IFERROR(INDEX($A$2:$A$1000,MATCH(ROWS($K$2:K634),$K$2:$K$1048576,0)),\"\")","v":""}]
[null,null,null,null,null,null,null,null,null,null,{"$f":"IF(ISNUMBER(SEARCH(Drop!$X$2,Liste!A635)),MAX(Liste!$K$1:'Liste'!K634)+1,\"\")","v":""},{"$f":"IFERROR(INDEX($A$2:$A$1000,MATCH(ROWS($K$2:K635),$K$2:$K$1048576,0)),\"\")","v":""}]
[null,null,null,null,null,null,null,null,null,null,{"$f":"IF(ISNUMBER(SEARCH(Drop!$X$2,Liste!A636)),MAX(Liste!$K$1:'Liste'!K635)+1,\"\")","v":""},{"$f":"IFERROR(INDEX($A$2:$A$1000,MATCH(ROWS($K$2:K636),$K$2:$K$1048576,0)),\"\")","v":""}]
[null,null,null,null,null,null,null,null,null,null,{"$f":"IF(ISNUMBER(SEARCH(Drop!$X$2,Liste!A637)),MAX(Liste!$K$1:'Liste'!K636)+1,\"\")","v":""},{"$f":"IFERROR(INDEX($A$2:$A$1000,MATCH(ROWS($K$2:K637),$K$2:$K$1048576,0)),\"\")","v":""}]
[null,null,null,null,null,null,null,null,null,null,{"$f":"IF(ISNUMBER(SEARCH(Drop!$X$2,Liste!A638)),MAX(Liste!$K$1:'Liste'!K637)+1,\"\")","v":""},{"$f":"IFERROR(INDEX($A$2:$A$1000,MATCH(ROWS($K$2:K638),$K$2:$K$1048576,0)),\"\")","v":""}]
[null,null,null,null,null,null,null,null,null,null,{"$f":"IF(ISNUMBER(SEARCH(Drop!$X$2,Liste!A639)),MAX(Liste!$K$1:'Liste'!K638)+1,\"\")","v":""},{"$f":"IFERROR(INDEX($A$2:$A$1000,MATCH(ROWS($K$2:K639),$K$2:$K$1048576,0)),\"\")","v":""}]
[null,null,null,null,null,null,null,null,null,null,{"$f":"IF(ISNUMBER(SEARCH(Drop!$X$2,Liste!A640)),MAX(Liste!$K$1:'Liste'!K639)+1,\"\")","v":""},{"$f":"IFERROR(INDEX($A$2:$A$1000,MATCH(ROWS($K$2:K640),$K$2:$K$1048576,0)),\"\")","v":""}]
[null,null,null,null,null,null,null,null,null,null,{"$f":"IF(ISNUMBER(SEARCH(Drop!$X$2,Liste!A641)),MAX(Liste!$K$1:'Liste'!K640)+1,\"\")","v":""},{"$f":"IFERROR(INDEX($A$2:$A$1000,MATCH(ROWS($K$2:K641),$K$2:$K$1048576,0)),\"\")","v":""}]
[null,null,null,null,null,null,null,null,null,null,{"$f":"IF(ISNUMBER(SEARCH(Drop!$X$2,Liste!A642)),MAX(Liste!$K$1:'Liste'!K641)+1,\"\")","v":""},{"$f":"IFERROR(INDEX($A$2:$A$1000,MATCH(ROWS($K$2:K642),$K$2:$K$1048576,0)),\"\")","v":""}]
[null,null,null,null,null,null,null,null,null,null,{"$f":"IF(ISNUMBER(SEARCH(Drop!$X$2,Liste!A643)),MAX(Liste!$K$1:'Liste'!K642)+1,\"\")","v":""},{"$f":"IFERROR(INDEX($A$2:$A$1000,MATCH(ROWS($K$2:K643),$K$2:$K$1048576,0)),\"\")","v":""}]
[null,null,null,null,null,null,null,null,null,null,{"$f":"IF(ISNUMBER(SEARCH(Drop!$X$2,Liste!A644)),MAX(Liste!$K$1:'Liste'!K643)+1,\"\")","v":""},{"$f":"IFERROR(INDEX($A$2:$A$1000,MATCH(ROWS($K$2:K644),$K$2:$K$1048576,0)),\"\")","v":""}]
[null,null,null,null,null,null,null,null,null,null,{"$f":"IF(ISNUMBER(SEARCH(Drop!$X$2,Liste!A645)),MAX(Liste!$K$1:'Liste'!K644)+1,\"\")","v":""},{"$f":"IFERROR(INDEX($A$2:$A$1000,MATCH(ROWS($K$2:K645),$K$2:$K$1048576,0)),\"\")","v":""}]
[null,null,null,null,null,null,null,null,null,null,{"$f":"IF(ISNUMBER(SEARCH(Drop!$X$2,Liste!A646)),MAX(Liste!$K$1:'Liste'!K645)+1,\"\")","v":""},{"$f":"IFERROR(INDEX($A$2:$A$1000,MATCH(ROWS($K$2:K646),$K$2:$K$1048576,0)),\"\")","v":""}]
[null,null,null,null,null,null,null,null,null,null,{"$f":"IF(ISNUMBER(SEARCH(Drop!$X$2,Liste!A647)),MAX(Liste!$K$1:'Liste'!K646)+1,\"\")","v":""},{"$f":"IFERROR(INDEX($A$2:$A$1000,MATCH(ROWS($K$2:K647),$K$2:$K$1048576,0)),\"\")","v":""}]
[null,null,null,null,null,null,null,null,null,null,{"$f":"IF(ISNUMBER(SEARCH(Drop!$X$2,Liste!A648)),MAX(Liste!$K$1:'Liste'!K647)+1,\"\")","v":""},{"$f":"IFERROR(INDEX($A$2:$A$1000,MATCH(ROWS($K$2:K648),$K$2:$K$1048576,0)),\"\")","v":""}]
[null,null,null,null,null,null,null,null,null,null,{"$f":"IF(ISNUMBER(SEARCH(Drop!$X$2,Liste!A649)),MAX(Liste!$K$1:'Liste'!K648)+1,\"\")","v":""},{"$f":"IFERROR(INDEX($A$2:$A$1000,MATCH(ROWS($K$2:K649),$K$2:$K$1048576,0)),\"\")","v":""}]
[null,null,null,null,null,null,null,null,null,null,{"$f":"IF(ISNUMBER(SEARCH(Drop!$X$2,Liste!A650)),MAX(Liste!$K$1:'Liste'!K649)+1,\"\")","v":""},{"$f":"IFERROR(INDEX($A$2:$A$1000,MATCH(ROWS($K$2:K650),$K$2:$K$1048576,0)),\"\")","v":""}]
[null,null,null,null,null,null,null,null,null,null,{"$f":"IF(ISNUMBER(SEARCH(Drop!$X$2,Liste!A651)),MAX(Liste!$K$1:'Liste'!K650)+1,\"\")","v":""},{"$f":"IFERROR(INDEX($A$2:$A$1000,MATCH(ROWS($K$2:K651),$K$2:$K$1048576,0)),\"\")","v":""}]
[null,null,null,null,null,null,null,null,null,null,{"$f":"IF(ISNUMBER(SEARCH(Drop!$X$2,Liste!A652)),MAX(Liste!$K$1:'Liste'!K651)+1,\"\")","v":""},{"$f":"IFERROR(INDEX($A$2:$A$1000,MATCH(ROWS($K$2:K652),$K$2:$K$1048576,0)),\"\")","v":""}]
[null,null,null,null,null,null,null,null,null,null,{"$f":"IF(ISNUMBER(SEARCH(Drop!$X$2,Liste!A653)),MAX(Liste!$K$1:'Liste'!K652)+1,\"\")","v":""},{"$f":"IFERROR(INDEX($A$2:$A$1000,MATCH(ROWS($K$2:K653),$K$2:$K$1048576,0)),\"\")","v":""}]
[null,null,null,null,null,null,null,null,null,null,{"$f":"IF(ISNUMBER(SEARCH(Drop!$X$2,Liste!A654)),MAX(Liste!$K$1:'Liste'!K653)+1,\"\")","v":""},{"$f":"IFERROR(INDEX($A$2:$A$1000,MATCH(ROWS($K$2:K654),$K$2:$K$1048576,0)),\"\")","v":""}]
[null,null,null,null,null,null,null,null,null,null,{"$f":"IF(ISNUMBER(SEARCH(Drop!$X$2,Liste!A655)),MAX(Liste!$K$1:'Liste'!K654)+1,\"\")","v":""},{"$f":"IFERROR(INDEX($A$2:$A$1000,MATCH(ROWS($K$2:K655),$K$2:$K$1048576,0)),\"\")","v":""}]
[null,null,null,null,null,null,null,null,null,null,{"$f":"IF(ISNUMBER(SEARCH(Drop!$X$2,Liste!A656)),MAX(Liste!$K$1:'Liste'!K655)+1,\"\")","v":""},{"$f":"IFERROR(INDEX($A$2:$A$1000,MATCH(ROWS($K$2:K656),$K$2:$K$1048576,0)),\"\")","v":""}]
[null,null,null,null,null,null,null,null,null,null,{"$f":"IF(ISNUMBER(SEARCH(Drop!$X$2,Liste!A657)),MAX(Liste!$K$1:'Liste'!K656)+1,\"\")","v":""},{"$f":"IFERROR(INDEX($A$2:$A$1000,MATCH(ROWS($K$2:K657),$K$2:$K$1048576,0)),\"\")","v":""}]
[null,null,null,null,null,null,null,null,null,null,{"$f":"IF(ISNUMBER(SEARCH(Drop!$X$2,Liste!A658)),MAX(Liste!$K$1:'Liste'!K657)+1,\"\")","v":""},{"$f":"IFERROR(INDEX($A$2:$A$1000,MATCH(ROWS($K$2:K658),$K$2:$K$1048576,0)),\"\")","v":""}]
[null,null,null,null,null,null,null,null,null,null,{"$f":"IF(ISNUMBER(SEARCH(Drop!$X$2,Liste!A659)),MAX(Liste!$K$1:'Liste'!K658)+1,\"\")","v":""},{"$f":"IFERROR(INDEX($A$2:$A$1000,MATCH(ROWS($K$2:K659),$K$2:$K$1048576,0)),\"\")","v":""}]
[null,null,null,null,null,null,null,null,null,null,{"$f":"IF(ISNUMBER(SEARCH(Drop!$X$2,Liste!A660)),MAX(Liste!$K$1:'Liste'!K659)+1,\"\")","v":""},{"$f":"IFERROR(INDEX($A$2:$A$1000,MATCH(ROWS($K$2:K660),$K$2:$K$1048576,0)),\"\")","v":""}]
[null,null,null,null,null,null,null,null,null,null,{"$f":"IF(ISNUMBER(SEARCH(Drop!$X$2,Liste!A661)),MAX(Liste!$K$1:'Liste'!K660)+1,\"\")","v":""},{"$f":"IFERROR(INDEX($A$2:$A$1000,MATCH(ROWS($K$2:K661),$K$2:$K$1048576,0)),\"\")","v":""}]
[null,null,null,null,null,null,null,null,null,null,{"$f":"IF(ISNUMBER(SEARCH(Drop!$X$2,Liste!A662)),MAX(Liste!$K$1:'Liste'!K661)+1,\"\")","v":""},{"$f":"IFERROR(INDEX($A$2:$A$1000,MATCH(ROWS($K$2:K662),$K$2:$K$1048576,0)),\"\")","v":""}]
[null,null,null,null,null,null,null,null,null,null,{"$f":"IF(ISNUMBER(SEARCH(Drop!$X$2,Liste!A663)),MAX(Liste!$K$1:'Liste'!K662)+1,\"\")","v":""},{"$f":"IFERROR(INDEX($A$2:$A$1000,MATCH(ROWS($K$2:K663),$K$2:$K$1048576,0)),\"\")","v":""}]
[null,null,null,null,null,null,null,null,null,null,{"$f":"IF(ISNUMBER(SEARCH(Drop!$X$2,Liste!A664)),MAX(Liste!$K$1:'Liste'!K663)+1,\"\")","v":""},{"$f":"IFERROR(INDEX($A$2:$A$1000,MATCH(ROWS($K$2:K664),$K$2:$K$1048576,0)),\"\")","v":""}]
[null,null,null,null,null,null,null,null,null,null,{"$f":"IF(ISNUMBER(SEARCH(Drop!$X$2,Liste!A665)),MAX(Liste!$K$1:'Liste'!K664)+1,\"\")","v":""},{"$f":"IFERROR(INDEX($A$2:$A$1000,MATCH(ROWS($K$2:K665),$K$2:$K$1048576,0)),\"\")","v":""}]
[null,null,null,null,null,null,null,null,null,null,{"$f":"IF(ISNUMBER(SEARCH(Drop!$X$2,Liste!A666)),MAX(Liste!$K$1:'Liste'!K665)+1,\"\")","v":""},{"$f":"IFERROR(INDEX($A$2:$A$1000,MATCH(ROWS($K$2:K666),$K$2:$K$1048576,0)),\"\")","v":""}]
[null,null,null,null,null,null,null,null,null,null,{"$f":"IF(ISNUMBER(SEARCH(Drop!$X$2,Liste!A667)),MAX(Liste!$K$1:'Liste'!K666)+1,\"\")","v":""},{"$f":"IFERROR(INDEX($A$2:$A$1000,MATCH(ROWS($K$2:K667),$K$2:$K$1048576,0)),\"\")","v":""}]
[null,null,null,null,null,null,null,null,null,null,{"$f":"IF(ISNUMBER(SEARCH(Drop!$X$2,Liste!A668)),MAX(Liste!$K$1:'Liste'!K667)+1,\"\")","v":""},{"$f":"IFERROR(INDEX($A$2:$A$1000,MATCH(ROWS($K$2:K668),$K$2:$K$1048576,0)),\"\")","v":""}]
[null,null,null,null,null,null,null,null,null,null,{"$f":"IF(ISNUMBER(SEARCH(Drop!$X$2,Liste!A669)),MAX(Liste!$K$1:'Liste'!K668)+1,\"\")","v":""},{"$f":"IFERROR(INDEX($A$2:$A$1000,MATCH(ROWS($K$2:K669),$K$2:$K$1048576,0)),\"\")","v":""}]
[null,null,null,null,null,null,null,null,null,null,{"$f":"IF(ISNUMBER(SEARCH(Drop!$X$2,Liste!A670)),MAX(Liste!$K$1:'Liste'!K669)+1,\"\")","v":""},{"$f":"IFERROR(INDEX($A$2:$A$1000,MATCH(ROWS($K$2:K670),$K$2:$K$1048576,0)),\"\")","v":""}]
[null,null,null,null,null,null,null,null,null,null,{"$f":"IF(ISNUMBER(SEARCH(Drop!$X$2,Liste!A671)),MAX(Liste!$K$1:'Liste'!K670)+1,\"\")","v":""},{"$f":"IFERROR(INDEX($A$2:$A$1000,MATCH(ROWS($K$2:K671),$K$2:$K$1048576,0)),\"\")","v":""}]
[null,null,null,null,null,null,null,null,null,null,{"$f":"IF(ISNUMBER(SEARCH(Drop!$X$2,Liste!A672)),MAX(Liste!$K$1:'Liste'!K671)+1,\"\")","v":""},{"$f":"IFERROR(INDEX($A$2:$A$1000,MATCH(ROWS($K$2:K672),$K$2:$K$1048576,0)),\"\")","v":""}]
[null,null,null,null,null,null,null,null,null,null,{"$f":"IF(ISNUMBER(SEARCH(Drop!$X$2,Liste!A673)),MAX(Liste!$K$1:'Liste'!K672)+1,\"\")","v":""},{"$f":"IFERROR(INDEX($A$2:$A$1000,MATCH(ROWS($K$2:K673),$K$2:$K$1048576,0)),\"\")","v":""}]
[null,null,null,null,null,null,null,null,null,null,{"$f":"IF(ISNUMBER(SEARCH(Drop!$X$2,Liste!A674)),MAX(Liste!$K$1:'Liste'!K673)+1,\"\")","v":""},{"$f":"IFERROR(INDEX($A$2:$A$1000,MATCH(ROWS($K$2:K674),$K$2:$K$1048576,0)),\"\")","v":""}]
[null,null,null,null,null,null,null,null,null,null,{"$f":"IF(ISNUMBER(SEARCH(Drop!$X$2,Liste!A675)),MAX(Liste!$K$1:'Liste'!K674)+1,\"\")","v":""},{"$f":"IFERROR(INDEX($A$2:$A$1000,MATCH(ROWS($K$2:K675),$K$2:$K$1048576,0)),\"\")","v":""}]
[null,null,null,null,null,null,null,null,null,null,{"$f":"IF(ISNUMBER(SEARCH(Drop!$X$2,Liste!A676)),MAX(Liste!$K$1:'Liste'!K675)+1,\"\")","v":""},{"$f":"IFERROR(INDEX($A$2:$A$1000,MATCH(ROWS($K$2:K676),$K$2:$K$1048576,0)),\"\")","v":""}]
[null,null,null,null,null,null,null,null,null,null,{"$f":"IF(ISNUMBER(SEARCH(Drop!$X$2,Liste!A677)),MAX(Liste!$K$1:'Liste'!K676)+1,\"\")","v":""},{"$f":"IFERROR(INDEX($A$2:$A$1000,MATCH(ROWS($K$2:K677),$K$2:$K$1048576,0)),\"\")","v":""}]
[null,null,null,null,null,null,null,null,null,null,{"$f":"IF(ISNUMBER(SEARCH(Drop!$X$2,Liste!A678)),MAX(Liste!$K$1:'Liste'!K677)+1,\"\")","v":""},{"$f":"IFERROR(INDEX($A$2:$A$1000,MATCH(ROWS($K$2:K678),$K$2:$K$1048576,0)),\"\")","v":""}]
[null,null,null,null,null,null,null,null,null,null,{"$f":"IF(ISNUMBER(SEARCH(Drop!$X$2,Liste!A679)),MAX(Liste!$K$1:'Liste'!K678)+1,\"\")","v":""},{"$f":"IFERROR(INDEX($A$2:$A$1000,MATCH(ROWS($K$2:K679),$K$2:$K$1048576,0)),\"\")","v":""}]
[null,null,null,null,null,null,null,null,null,null,{"$f":"IF(ISNUMBER(SEARCH(Drop!$X$2,Liste!A680)),MAX(Liste!$K$1:'Liste'!K679)+1,\"\")","v":""},{"$f":"IFERROR(INDEX($A$2:$A$1000,MATCH(ROWS($K$2:K680),$K$2:$K$1048576,0)),\"\")","v":""}]
[null,null,null,null,null,null,null,null,null,null,{"$f":"IF(ISNUMBER(SEARCH(Drop!$X$2,Liste!A681)),MAX(Liste!$K$1:'Liste'!K680)+1,\"\")","v":""},{"$f":"IFERROR(INDEX($A$2:$A$1000,MATCH(ROWS($K$2:K681),$K$2:$K$1048576,0)),\"\")","v":""}]
[null,null,null,null,null,null,null,null,null,null,{"$f":"IF(ISNUMBER(SEARCH(Drop!$X$2,Liste!A682)),MAX(Liste!$K$1:'Liste'!K681)+1,\"\")","v":""},{"$f":"IFERROR(INDEX($A$2:$A$1000,MATCH(ROWS($K$2:K682),$K$2:$K$1048576,0)),\"\")","v":""}]
[null,null,null,null,null,null,null,null,null,null,{"$f":"IF(ISNUMBER(SEARCH(Drop!$X$2,Liste!A683)),MAX(Liste!$K$1:'Liste'!K682)+1,\"\")","v":""},{"$f":"IFERROR(INDEX($A$2:$A$1000,MATCH(ROWS($K$2:K683),$K$2:$K$1048576,0)),\"\")","v":""}]
[null,null,null,null,null,null,null,null,null,null,{"$f":"IF(ISNUMBER(SEARCH(Drop!$X$2,Liste!A684)),MAX(Liste!$K$1:'Liste'!K683)+1,\"\")","v":""},{"$f":"IFERROR(INDEX($A$2:$A$1000,MATCH(ROWS($K$2:K684),$K$2:$K$1048576,0)),\"\")","v":""}]
[null,null,null,null,null,null,null,null,null,null,{"$f":"IF(ISNUMBER(SEARCH(Drop!$X$2,Liste!A685)),MAX(Liste!$K$1:'Liste'!K684)+1,\"\")","v":""},{"$f":"IFERROR(INDEX($A$2:$A$1000,MATCH(ROWS($K$2:K685),$K$2:$K$1048576,0)),\"\")","v":""}]
[null,null,null,null,null,null,null,null,null,null,{"$f":"IF(ISNUMBER(SEARCH(Drop!$X$2,Liste!A686)),MAX(Liste!$K$1:'Liste'!K685)+1,\"\")","v":""},{"$f":"IFERROR(INDEX($A$2:$A$1000,MATCH(ROWS($K$2:K686),$K$2:$K$1048576,0)),\"\")","v":""}]
[null,null,null,null,null,null,null,null,null,null,{"$f":"IF(ISNUMBER(SEARCH(Drop!$X$2,Liste!A687)),MAX(Liste!$K$1:'Liste'!K686)+1,\"\")","v":""},{"$f":"IFERROR(INDEX($A$2:$A$1000,MATCH(ROWS($K$2:K687),$K$2:$K$1048576,0)),\"\")","v":""}]
[null,null,null,null,null,null,null,null,null,null,{"$f":"IF(ISNUMBER(SEARCH(Drop!$X$2,Liste!A688)),MAX(Liste!$K$1:'Liste'!K687)+1,\"\")","v":""},{"$f":"IFERROR(INDEX($A$2:$A$1000,MATCH(ROWS($K$2:K688),$K$2:$K$1048576,0)),\"\")","v":""}]
[null,null,null,null,null,null,null,null,null,null,{"$f":"IF(ISNUMBER(SEARCH(Drop!$X$2,Liste!A689)),MAX(Liste!$K$1:'Liste'!K688)+1,\"\")","v":""},{"$f":"IFERROR(INDEX($A$2:$A$1000,MATCH(ROWS($K$2:K689),$K$2:$K$1048576,0)),\"\")","v":""}]
[null,null,null,null,null,null,null,null,null,null,{"$f":"IF(ISNUMBER(SEARCH(Drop!$X$2,Liste!A690)),MAX(Liste!$K$1:'Liste'!K689)+1,\"\")","v":""},{"$f":"IFERROR(INDEX($A$2:$A$1000,MATCH(ROWS($K$2:K690),$K$2:$K$1048576,0)),\"\")","v":""}]
[null,null,null,null,null,null,null,null,null,null,{"$f":"IF(ISNUMBER(SEARCH(Drop!$X$2,Liste!A691)),MAX(Liste!$K$1:'Liste'!K690)+1,\"\")","v":""},{"$f":"IFERROR(INDEX($A$2:$A$1000,MATCH(ROWS($K$2:K691),$K$2:$K$1048576,0)),\"\")","v":""}]
[null,null,null,null,null,null,null,null,null,null,{"$f":"IF(ISNUMBER(SEARCH(Drop!$X$2,Liste!A692)),MAX(Liste!$K$1:'Liste'!K691)+1,\"\")","v":""},{"$f":"IFERROR(INDEX($A$2:$A$1000,MATCH(ROWS($K$2:K692),$K$2:$K$1048576,0)),\"\")","v":""}]
[null,null,null,null,null,null,null,null,null,null,{"$f":"IF(ISNUMBER(SEARCH(Drop!$X$2,Liste!A693)),MAX(Liste!$K$1:'Liste'!K692)+1,\"\")","v":""},{"$f":"IFERROR(INDEX($A$2:$A$1000,MATCH(ROWS($K$2:K693),$K$2:$K$1048576,0)),\"\")","v":""}]
[null,null,null,null,null,null,null,null,null,null,{"$f":"IF(ISNUMBER(SEARCH(Drop!$X$2,Liste!A694)),MAX(Liste!$K$1:'Liste'!K693)+1,\"\")","v":""},{"$f":"IFERROR(INDEX($A$2:$A$1000,MATCH(ROWS($K$2:K694),$K$2:$K$1048576,0)),\"\")","v":""}]
[null,null,null,null,null,null,null,null,null,null,{"$f":"IF(ISNUMBER(SEARCH(Drop!$X$2,Liste!A695)),MAX(Liste!$K$1:'Liste'!K694)+1,\"\")","v":""},{"$f":"IFERROR(INDEX($A$2:$A$1000,MATCH(ROWS($K$2:K695),$K$2:$K$1048576,0)),\"\")","v":""}]
[null,null,null,null,null,null,null,null,null,null,{"$f":"IF(ISNUMBER(SEARCH(Drop!$X$2,Liste!A696)),MAX(Liste!$K$1:'Liste'!K695)+1,\"\")","v":""},{"$f":"IFERROR(INDEX($A$2:$A$1000,MATCH(ROWS($K$2:K696),$K$2:$K$1048576,0)),\"\")","v":""}]
[null,null,null,null,null,null,null,null,null,null,{"$f":"IF(ISNUMBER(SEARCH(Drop!$X$2,Liste!A697)),MAX(Liste!$K$1:'Liste'!K696)+1,\"\")","v":""},{"$f":"IFERROR(INDEX($A$2:$A$1000,MATCH(ROWS($K$2:K697),$K$2:$K$1048576,0)),\"\")","v":""}]
[null,null,null,null,null,null,null,null,null,null,{"$f":"IF(ISNUMBER(SEARCH(Drop!$X$2,Liste!A698)),MAX(Liste!$K$1:'Liste'!K697)+1,\"\")","v":""},{"$f":"IFERROR(INDEX($A$2:$A$1000,MATCH(ROWS($K$2:K698),$K$2:$K$1048576,0)),\"\")","v":""}]
[null,null,null,null,null,null,null,null,null,null,{"$f":"IF(ISNUMBER(SEARCH(Drop!$X$2,Liste!A699)),MAX(Liste!$K$1:'Liste'!K698)+1,\"\")","v":""},{"$f":"IFERROR(INDEX($A$2:$A$1000,MATCH(ROWS($K$2:K699),$K$2:$K$1048576,0)),\"\")","v":""}]
[null,null,null,null,null,null,null,null,null,null,{"$f":"IF(ISNUMBER(SEARCH(Drop!$X$2,Liste!A700)),MAX(Liste!$K$1:'Liste'!K699)+1,\"\")","v":""},{"$f":"IFERROR(INDEX($A$2:$A$1000,MATCH(ROWS($K$2:K700),$K$2:$K$1048576,0)),\"\")","v":""}]
[null,null,null,null,null,null,null,null,null,null,{"$f":"IF(ISNUMBER(SEARCH(Drop!$X$2,Liste!A701)),MAX(Liste!$K$1:'Liste'!K700)+1,\"\")","v":""},{"$f":"IFERROR(INDEX($A$2:$A$1000,MATCH(ROWS($K$2:K701),$K$2:$K$1048576,0)),\"\")","v":""}]
[null,null,null,null,null,null,null,null,null,null,{"$f":"IF(ISNUMBER(SEARCH(Drop!$X$2,Liste!A702)),MAX(Liste!$K$1:'Liste'!K701)+1,\"\")","v":""},{"$f":"IFERROR(INDEX($A$2:$A$1000,MATCH(ROWS($K$2:K702),$K$2:$K$1048576,0)),\"\")","v":""}]
[null,null,null,null,null,null,null,null,null,null,{"$f":"IF(ISNUMBER(SEARCH(Drop!$X$2,Liste!A703)),MAX(Liste!$K$1:'Liste'!K702)+1,\"\")","v":""},{"$f":"IFERROR(INDEX($A$2:$A$1000,MATCH(ROWS($K$2:K703),$K$2:$K$1048576,0)),\"\")","v":""}]
[null,null,null,null,null,null,null,null,null,null,{"$f":"IF(ISNUMBER(SEARCH(Drop!$X$2,Liste!A704)),MAX(Liste!$K$1:'Liste'!K703)+1,\"\")","v":""},{"$f":"IFERROR(INDEX($A$2:$A$1000,MATCH(ROWS($K$2:K704),$K$2:$K$1048576,0)),\"\")","v":""}]
[null,null,null,null,null,null,null,null,null,null,{"$f":"IF(ISNUMBER(SEARCH(Drop!$X$2,Liste!A705)),MAX(Liste!$K$1:'Liste'!K704)+1,\"\")","v":""},{"$f":"IFERROR(INDEX($A$2:$A$1000,MATCH(ROWS($K$2:K705),$K$2:$K$1048576,0)),\"\")","v":""}]
[null,null,null,null,null,null,null,null,null,null,{"$f":"IF(ISNUMBER(SEARCH(Drop!$X$2,Liste!A706)),MAX(Liste!$K$1:'Liste'!K705)+1,\"\")","v":""},{"$f":"IFERROR(INDEX($A$2:$A$1000,MATCH(ROWS($K$2:K706),$K$2:$K$1048576,0)),\"\")","v":""}]
[null,null,null,null,null,null,null,null,null,null,{"$f":"IF(ISNUMBER(SEARCH(Drop!$X$2,Liste!A707)),MAX(Liste!$K$1:'Liste'!K706)+1,\"\")","v":""},{"$f":"IFERROR(INDEX($A$2:$A$1000,MATCH(ROWS($K$2:K707),$K$2:$K$1048576,0)),\"\")","v":""}]
[null,null,null,null,null,null,null,null,null,null,{"$f":"IF(ISNUMBER(SEARCH(Drop!$X$2,Liste!A708)),MAX(Liste!$K$1:'Liste'!K707)+1,\"\")","v":""},{"$f":"IFERROR(INDEX($A$2:$A$1000,MATCH(ROWS($K$2:K708),$K$2:$K$1048576,0)),\"\")","v":""}]
[null,null,null,null,null,null,null,null,null,null,{"$f":"IF(ISNUMBER(SEARCH(Drop!$X$2,Liste!A709)),MAX(Liste!$K$1:'Liste'!K708)+1,\"\")","v":""},{"$f":"IFERROR(INDEX($A$2:$A$1000,MATCH(ROWS($K$2:K709),$K$2:$K$1048576,0)),\"\")","v":""}]
[null,null,null,null,null,null,null,null,null,null,{"$f":"IF(ISNUMBER(SEARCH(Drop!$X$2,Liste!A710)),MAX(Liste!$K$1:'Liste'!K709)+1,\"\")","v":""},{"$f":"IFERROR(INDEX($A$2:$A$1000,MATCH(ROWS($K$2:K710),$K$2:$K$1048576,0)),\"\")","v":""}]
[null,null,null,null,null,null,null,null,null,null,{"$f":"IF(ISNUMBER(SEARCH(Drop!$X$2,Liste!A711)),MAX(Liste!$K$1:'Liste'!K710)+1,\"\")","v":""},{"$f":"IFERROR(INDEX($A$2:$A$1000,MATCH(ROWS($K$2:K711),$K$2:$K$1048576,0)),\"\")","v":""}]
[null,null,null,null,null,null,null,null,null,null,{"$f":"IF(ISNUMBER(SEARCH(Drop!$X$2,Liste!A712)),MAX(Liste!$K$1:'Liste'!K711)+1,\"\")","v":""},{"$f":"IFERROR(INDEX($A$2:$A$1000,MATCH(ROWS($K$2:K712),$K$2:$K$1048576,0)),\"\")","v":""}]
[null,null,null,null,null,null,null,null,null,null,{"$f":"IF(ISNUMBER(SEARCH(Drop!$X$2,Liste!A713)),MAX(Liste!$K$1:'Liste'!K712)+1,\"\")","v":""},{"$f":"IFERROR(INDEX($A$2:$A$1000,MATCH(ROWS($K$2:K713),$K$2:$K$1048576,0)),\"\")","v":""}]
[null,null,null,null,null,null,null,null,null,null,{"$f":"IF(ISNUMBER(SEARCH(Drop!$X$2,Liste!A714)),MAX(Liste!$K$1:'Liste'!K713)+1,\"\")","v":""},{"$f":"IFERROR(INDEX($A$2:$A$1000,MATCH(ROWS($K$2:K714),$K$2:$K$1048576,0)),\"\")","v":""}]
[null,null,null,null,null,null,null,null,null,null,{"$f":"IF(ISNUMBER(SEARCH(Drop!$X$2,Liste!A715)),MAX(Liste!$K$1:'Liste'!K714)+1,\"\")","v":""},{"$f":"IFERROR(INDEX($A$2:$A$1000,MATCH(ROWS($K$2:K715),$K$2:$K$1048576,0)),\"\")","v":""}]
[null,null,null,null,null,null,null,null,null,null,{"$f":"IF(ISNUMBER(SEARCH(Drop!$X$2,Liste!A716)),MAX(Liste!$K$1:'Liste'!K715)+1,\"\")","v":""},{"$f":"IFERROR(INDEX($A$2:$A$1000,MATCH(ROWS($K$2:K716),$K$2:$K$1048576,0)),\"\")","v":""}]
[null,null,null,null,null,null,null,null,null,null,{"$f":"IF(ISNUMBER(SEARCH(Drop!$X$2,Liste!A717)),MAX(Liste!$K$1:'Liste'!K716)+1,\"\")","v":""},{"$f":"IFERROR(INDEX($A$2:$A$1000,MATCH(ROWS($K$2:K717),$K$2:$K$1048576,0)),\"\")","v":""}]
[null,null,null,null,null,null,null,null,null,null,{"$f":"IF(ISNUMBER(SEARCH(Drop!$X$2,Liste!A718)),MAX(Liste!$K$1:'Liste'!K717)+1,\"\")","v":""},{"$f":"IFERROR(INDEX($A$2:$A$1000,MATCH(ROWS($K$2:K718),$K$2:$K$1048576,0)),\"\")","v":""}]
[null,null,null,null,null,null,null,null,null,null,{"$f":"IF(ISNUMBER(SEARCH(Drop!$X$2,Liste!A719)),MAX(Liste!$K$1:'Liste'!K718)+1,\"\")","v":""},{"$f":"IFERROR(INDEX($A$2:$A$1000,MATCH(ROWS($K$2:K719),$K$2:$K$1048576,0)),\"\")","v":""}]
[null,null,null,null,null,null,null,null,null,null,{"$f":"IF(ISNUMBER(SEARCH(Drop!$X$2,Liste!A720)),MAX(Liste!$K$1:'Liste'!K719)+1,\"\")","v":""},{"$f":"IFERROR(INDEX($A$2:$A$1000,MATCH(ROWS($K$2:K720),$K$2:$K$1048576,0)),\"\")","v":""}]
[null,null,null,null,null,null,null,null,null,null,{"$f":"IF(ISNUMBER(SEARCH(Drop!$X$2,Liste!A721)),MAX(Liste!$K$1:'Liste'!K720)+1,\"\")","v":""},{"$f":"IFERROR(INDEX($A$2:$A$1000,MATCH(ROWS($K$2:K721),$K$2:$K$1048576,0)),\"\")","v":""}]
[null,null,null,null,null,null,null,null,null,null,{"$f":"IF(ISNUMBER(SEARCH(Drop!$X$2,Liste!A722)),MAX(Liste!$K$1:'Liste'!K721)+1,\"\")","v":""},{"$f":"IFERROR(INDEX($A$2:$A$1000,MATCH(ROWS($K$2:K722),$K$2:$K$1048576,0)),\"\")","v":""}]
[null,null,null,null,null,null,null,null,null,null,{"$f":"IF(ISNUMBER(SEARCH(Drop!$X$2,Liste!A723)),MAX(Liste!$K$1:'Liste'!K722)+1,\"\")","v":""},{"$f":"IFERROR(INDEX($A$2:$A$1000,MATCH(ROWS($K$2:K723),$K$2:$K$1048576,0)),\"\")","v":""}]
[null,null,null,null,null,null,null,null,null,null,{"$f":"IF(ISNUMBER(SEARCH(Drop!$X$2,Liste!A724)),MAX(Liste!$K$1:'Liste'!K723)+1,\"\")","v":""},{"$f":"IFERROR(INDEX($A$2:$A$1000,MATCH(ROWS($K$2:K724),$K$2:$K$1048576,0)),\"\")","v":""}]
[null,null,null,null,null,null,null,null,null,null,{"$f":"IF(ISNUMBER(SEARCH(Drop!$X$2,Liste!A725)),MAX(Liste!$K$1:'Liste'!K724)+1,\"\")","v":""},{"$f":"IFERROR(INDEX($A$2:$A$1000,MATCH(ROWS($K$2:K725),$K$2:$K$1048576,0)),\"\")","v":""}]
[null,null,null,null,null,null,null,null,null,null,{"$f":"IF(ISNUMBER(SEARCH(Drop!$X$2,Liste!A726)),MAX(Liste!$K$1:'Liste'!K725)+1,\"\")","v":""},{"$f":"IFERROR(INDEX($A$2:$A$1000,MATCH(ROWS($K$2:K726),$K$2:$K$1048576,0)),\"\")","v":""}]
[null,null,null,null,null,null,null,null,null,null,{"$f":"IF(ISNUMBER(SEARCH(Drop!$X$2,Liste!A727)),MAX(Liste!$K$1:'Liste'!K726)+1,\"\")","v":""},{"$f":"IFERROR(INDEX($A$2:$A$1000,MATCH(ROWS($K$2:K727),$K$2:$K$1048576,0)),\"\")","v":""}]
[null,null,null,null,null,null,null,null,null,null,{"$f":"IF(ISNUMBER(SEARCH(Drop!$X$2,Liste!A728)),MAX(Liste!$K$1:'Liste'!K727)+1,\"\")","v":""},{"$f":"IFERROR(INDEX($A$2:$A$1000,MATCH(ROWS($K$2:K728),$K$2:$K$1048576,0)),\"\")","v":""}]
[null,null,null,null,null,null,null,null,null,null,{"$f":"IF(ISNUMBER(SEARCH(Drop!$X$2,Liste!A729)),MAX(Liste!$K$1:'Liste'!K728)+1,\"\")","v":""},{"$f":"IFERROR(INDEX($A$2:$A$1000,MATCH(ROWS($K$2:K729),$K$2:$K$1048576,0)),\"\")","v":""}]
[null,null,null,null,null,null,null,null,null,null,{"$f":"IF(ISNUMBER(SEARCH(Drop!$X$2,Liste!A730)),MAX(Liste!$K$1:'Liste'!K729)+1,\"\")","v":""},{"$f":"IFERROR(INDEX($A$2:$A$1000,MATCH(ROWS($K$2:K730),$K$2:$K$1048576,0)),\"\")","v":""}]
[null,null,null,null,null,null,null,null,null,null,{"$f":"IF(ISNUMBER(SEARCH(Drop!$X$2,Liste!A731)),MAX(Liste!$K$1:'Liste'!K730)+1,\"\")","v":""},{"$f":"IFERROR(INDEX($A$2:$A$1000,MATCH(ROWS($K$2:K731),$K$2:$K$1048576,0)),\"\")","v":""}]
[null,null,null,null,null,null,null,null,null,null,{"$f":"IF(ISNUMBER(SEARCH(Drop!$X$2,Liste!A732)),MAX(Liste!$K$1:'Liste'!K731)+1,\"\")","v":""},{"$f":"IFERROR(INDEX($A$2:$A$1000,MATCH(ROWS($K$2:K732),$K$2:$K$1048576,0)),\"\")","v":""}]
[null,null,null,null,null,null,null,null,null,null,{"$f":"IF(ISNUMBER(SEARCH(Drop!$X$2,Liste!A733)),MAX(Liste!$K$1:'Liste'!K732)+1,\"\")","v":""},{"$f":"IFERROR(INDEX($A$2:$A$1000,MATCH(ROWS($K$2:K733),$K$2:$K$1048576,0)),\"\")","v":""}]
[null,null,null,null,null,null,null,null,null,null,{"$f":"IF(ISNUMBER(SEARCH(Drop!$X$2,Liste!A734)),MAX(Liste!$K$1:'Liste'!K733)+1,\"\")","v":""},{"$f":"IFERROR(INDEX($A$2:$A$1000,MATCH(ROWS($K$2:K734),$K$2:$K$1048576,0)),\"\")","v":""}]
[null,null,null,null,null,null,null,null,null,null,{"$f":"IF(ISNUMBER(SEARCH(Drop!$X$2,Liste!A735)),MAX(Liste!$K$1:'Liste'!K734)+1,\"\")","v":""},{"$f":"IFERROR(INDEX($A$2:$A$1000,MATCH(ROWS($K$2:K735),$K$2:$K$1048576,0)),\"\")","v":""}]
[null,null,null,null,null,null,null,null,null,null,{"$f":"IF(ISNUMBER(SEARCH(Drop!$X$2,Liste!A736)),MAX(Liste!$K$1:'Liste'!K735)+1,\"\")","v":""},{"$f":"IFERROR(INDEX($A$2:$A$1000,MATCH(ROWS($K$2:K736),$K$2:$K$1048576,0)),\"\")","v":""}]
[null,null,null,null,null,null,null,null,null,null,{"$f":"IF(ISNUMBER(SEARCH(Drop!$X$2,Liste!A737)),MAX(Liste!$K$1:'Liste'!K736)+1,\"\")","v":""},{"$f":"IFERROR(INDEX($A$2:$A$1000,MATCH(ROWS($K$2:K737),$K$2:$K$1048576,0)),\"\")","v":""}]
[null,null,null,null,null,null,null,null,null,null,{"$f":"IF(ISNUMBER(SEARCH(Drop!$X$2,Liste!A738)),MAX(Liste!$K$1:'Liste'!K737)+1,\"\")","v":""},{"$f":"IFERROR(INDEX($A$2:$A$1000,MATCH(ROWS($K$2:K738),$K$2:$K$1048576,0)),\"\")","v":""}]
[null,null,null,null,null,null,null,null,null,null,{"$f":"IF(ISNUMBER(SEARCH(Drop!$X$2,Liste!A739)),MAX(Liste!$K$1:'Liste'!K738)+1,\"\")","v":""},{"$f":"IFERROR(INDEX($A$2:$A$1000,MATCH(ROWS($K$2:K739),$K$2:$K$1048576,0)),\"\")","v":""}]
[null,null,null,null,null,null,null,null,null,null,{"$f":"IF(ISNUMBER(SEARCH(Drop!$X$2,Liste!A740)),MAX(Liste!$K$1:'Liste'!K739)+1,\"\")","v":""},{"$f":"IFERROR(INDEX($A$2:$A$1000,MATCH(ROWS($K$2:K740),$K$2:$K$1048576,0)),\"\")","v":""}]
[null,null,null,null,null,null,null,null,null,null,{"$f":"IF(ISNUMBER(SEARCH(Drop!$X$2,Liste!A741)),MAX(Liste!$K$1:'Liste'!K740)+1,\"\")","v":""},{"$f":"IFERROR(INDEX($A$2:$A$1000,MATCH(ROWS($K$2:K741),$K$2:$K$1048576,0)),\"\")","v":""}]
[null,null,null,null,null,null,null,null,null,null,{"$f":"IF(ISNUMBER(SEARCH(Drop!$X$2,Liste!A742)),MAX(Liste!$K$1:'Liste'!K741)+1,\"\")","v":""},{"$f":"IFERROR(INDEX($A$2:$A$1000,MATCH(ROWS($K$2:K742),$K$2:$K$1048576,0)),\"\")","v":""}]
[null,null,null,null,null,null,null,null,null,null,{"$f":"IF(ISNUMBER(SEARCH(Drop!$X$2,Liste!A743)),MAX(Liste!$K$1:'Liste'!K742)+1,\"\")","v":""},{"$f":"IFERROR(INDEX($A$2:$A$1000,MATCH(ROWS($K$2:K743),$K$2:$K$1048576,0)),\"\")","v":""}]
[null,null,null,null,null,null,null,null,null,null,{"$f":"IF(ISNUMBER(SEARCH(Drop!$X$2,Liste!A744)),MAX(Liste!$K$1:'Liste'!K743)+1,\"\")","v":""},{"$f":"IFERROR(INDEX($A$2:$A$1000,MATCH(ROWS($K$2:K744),$K$2:$K$1048576,0)),\"\")","v":""}]
[null,null,null,null,null,null,null,null,null,null,{"$f":"IF(ISNUMBER(SEARCH(Drop!$X$2,Liste!A745)),MAX(Liste!$K$1:'Liste'!K744)+1,\"\")","v":""},{"$f":"IFERROR(INDEX($A$2:$A$1000,MATCH(ROWS($K$2:K745),$K$2:$K$1048576,0)),\"\")","v":""}]
[null,null,null,null,null,null,null,null,null,null,{"$f":"IF(ISNUMBER(SEARCH(Drop!$X$2,Liste!A746)),MAX(Liste!$K$1:'Liste'!K745)+1,\"\")","v":""},{"$f":"IFERROR(INDEX($A$2:$A$1000,MATCH(ROWS($K$2:K746),$K$2:$K$1048576,0)),\"\")","v":""}]
[null,null,null,null,null,null,null,null,null,null,{"$f":"IF(ISNUMBER(SEARCH(Drop!$X$2,Liste!A747)),MAX(Liste!$K$1:'Liste'!K746)+1,\"\")","v":""},{"$f":"IFERROR(INDEX($A$2:$A$1000,MATCH(ROWS($K$2:K747),$K$2:$K$1048576,0)),\"\")","v":""}]
[null,null,null,null,null,null,null,null,null,null,{"$f":"IF(ISNUMBER(SEARCH(Drop!$X$2,Liste!A748)),MAX(Liste!$K$1:'Liste'!K747)+1,\"\")","v":""},{"$f":"IFERROR(INDEX($A$2:$A$1000,MATCH(ROWS($K$2:K748),$K$2:$K$1048576,0)),\"\")","v":""}]
[null,null,null,null,null,null,null,null,null,null,{"$f":"IF(ISNUMBER(SEARCH(Drop!$X$2,Liste!A749)),MAX(Liste!$K$1:'Liste'!K748)+1,\"\")","v":""},{"$f":"IFERROR(INDEX($A$2:$A$1000,MATCH(ROWS($K$2:K749),$K$2:$K$1048576,0)),\"\")","v":""}]
[null,null,null,null,null,null,null,null,null,null,{"$f":"IF(ISNUMBER(SEARCH(Drop!$X$2,Liste!A750)),MAX(Liste!$K$1:'Liste'!K749)+1,\"\")","v":""},{"$f":"IFERROR(INDEX($A$2:$A$1000,MATCH(ROWS($K$2:K750),$K$2:$K$1048576,0)),\"\")","v":""}]
[null,null,null,null,null,null,null,null,null,null,{"$f":"IF(ISNUMBER(SEARCH(Drop!$X$2,Liste!A751)),MAX(Liste!$K$1:'Liste'!K750)+1,\"\")","v":""},{"$f":"IFERROR(INDEX($A$2:$A$1000,MATCH(ROWS($K$2:K751),$K$2:$K$1048576,0)),\"\")","v":""}]
[null,null,null,null,null,null,null,null,null,null,{"$f":"IF(ISNUMBER(SEARCH(Drop!$X$2,Liste!A752)),MAX(Liste!$K$1:'Liste'!K751)+1,\"\")","v":""},{"$f":"IFERROR(INDEX($A$2:$A$1000,MATCH(ROWS($K$2:K752),$K$2:$K$1048576,0)),\"\")","v":""}]
[null,null,null,null,null,null,null,null,null,null,{"$f":"IF(ISNUMBER(SEARCH(Drop!$X$2,Liste!A753)),MAX(Liste!$K$1:'Liste'!K752)+1,\"\")","v":""},{"$f":"IFERROR(INDEX($A$2:$A$1000,MATCH(ROWS($K$2:K753),$K$2:$K$1048576,0)),\"\")","v":""}]
[null,null,null,null,null,null,null,null,null,null,{"$f":"IF(ISNUMBER(SEARCH(Drop!$X$2,Liste!A754)),MAX(Liste!$K$1:'Liste'!K753)+1,\"\")","v":""},{"$f":"IFERROR(INDEX($A$2:$A$1000,MATCH(ROWS($K$2:K754),$K$2:$K$1048576,0)),\"\")","v":""}]
[null,null,null,null,null,null,null,null,null,null,{"$f":"IF(ISNUMBER(SEARCH(Drop!$X$2,Liste!A755)),MAX(Liste!$K$1:'Liste'!K754)+1,\"\")","v":""},{"$f":"IFERROR(INDEX($A$2:$A$1000,MATCH(ROWS($K$2:K755),$K$2:$K$1048576,0)),\"\")","v":""}]
[null,null,null,null,null,null,null,null,null,null,{"$f":"IF(ISNUMBER(SEARCH(Drop!$X$2,Liste!A756)),MAX(Liste!$K$1:'Liste'!K755)+1,\"\")","v":""},{"$f":"IFERROR(INDEX($A$2:$A$1000,MATCH(ROWS($K$2:K756),$K$2:$K$1048576,0)),\"\")","v":""}]
[null,null,null,null,null,null,null,null,null,null,{"$f":"IF(ISNUMBER(SEARCH(Drop!$X$2,Liste!A757)),MAX(Liste!$K$1:'Liste'!K756)+1,\"\")","v":""},{"$f":"IFERROR(INDEX($A$2:$A$1000,MATCH(ROWS($K$2:K757),$K$2:$K$1048576,0)),\"\")","v":""}]
[null,null,null,null,null,null,null,null,null,null,{"$f":"IF(ISNUMBER(SEARCH(Drop!$X$2,Liste!A758)),MAX(Liste!$K$1:'Liste'!K757)+1,\"\")","v":""},{"$f":"IFERROR(INDEX($A$2:$A$1000,MATCH(ROWS($K$2:K758),$K$2:$K$1048576,0)),\"\")","v":""}]
[null,null,null,null,null,null,null,null,null,null,{"$f":"IF(ISNUMBER(SEARCH(Drop!$X$2,Liste!A759)),MAX(Liste!$K$1:'Liste'!K758)+1,\"\")","v":""},{"$f":"IFERROR(INDEX($A$2:$A$1000,MATCH(ROWS($K$2:K759),$K$2:$K$1048576,0)),\"\")","v":""}]
[null,null,null,null,null,null,null,null,null,null,{"$f":"IF(ISNUMBER(SEARCH(Drop!$X$2,Liste!A760)),MAX(Liste!$K$1:'Liste'!K759)+1,\"\")","v":""},{"$f":"IFERROR(INDEX($A$2:$A$1000,MATCH(ROWS($K$2:K760),$K$2:$K$1048576,0)),\"\")","v":""}]
[null,null,null,null,null,null,null,null,null,null,{"$f":"IF(ISNUMBER(SEARCH(Drop!$X$2,Liste!A761)),MAX(Liste!$K$1:'Liste'!K760)+1,\"\")","v":""},{"$f":"IFERROR(INDEX($A$2:$A$1000,MATCH(ROWS($K$2:K761),$K$2:$K$1048576,0)),\"\")","v":""}]
[null,null,null,null,null,null,null,null,null,null,{"$f":"IF(ISNUMBER(SEARCH(Drop!$X$2,Liste!A762)),MAX(Liste!$K$1:'Liste'!K761)+1,\"\")","v":""},{"$f":"IFERROR(INDEX($A$2:$A$1000,MATCH(ROWS($K$2:K762),$K$2:$K$1048576,0)),\"\")","v":""}]
[null,null,null,null,null,null,null,null,null,null,{"$f":"IF(ISNUMBER(SEARCH(Drop!$X$2,Liste!A763)),MAX(Liste!$K$1:'Liste'!K762)+1,\"\")","v":""},{"$f":"IFERROR(INDEX($A$2:$A$1000,MATCH(ROWS($K$2:K763),$K$2:$K$1048576,0)),\"\")","v":""}]
[null,null,null,null,null,null,null,null,null,null,{"$f":"IF(ISNUMBER(SEARCH(Drop!$X$2,Liste!A764)),MAX(Liste!$K$1:'Liste'!K763)+1,\"\")","v":""},{"$f":"IFERROR(INDEX($A$2:$A$1000,MATCH(ROWS($K$2:K764),$K$2:$K$1048576,0)),\"\")","v":""}]
[null,null,null,null,null,null,null,null,null,null,{"$f":"IF(ISNUMBER(SEARCH(Drop!$X$2,Liste!A765)),MAX(Liste!$K$1:'Liste'!K764)+1,\"\")","v":""},{"$f":"IFERROR(INDEX($A$2:$A$1000,MATCH(ROWS($K$2:K765),$K$2:$K$1048576,0)),\"\")","v":""}]
[null,null,null,null,null,null,null,null,null,null,{"$f":"IF(ISNUMBER(SEARCH(Drop!$X$2,Liste!A766)),MAX(Liste!$K$1:'Liste'!K765)+1,\"\")","v":""},{"$f":"IFERROR(INDEX($A$2:$A$1000,MATCH(ROWS($K$2:K766),$K$2:$K$1048576,0)),\"\")","v":""}]
[null,null,null,null,null,null,null,null,null,null,{"$f":"IF(ISNUMBER(SEARCH(Drop!$X$2,Liste!A767)),MAX(Liste!$K$1:'Liste'!K766)+1,\"\")","v":""},{"$f":"IFERROR(INDEX($A$2:$A$1000,MATCH(ROWS($K$2:K767),$K$2:$K$1048576,0)),\"\")","v":""}]
[null,null,null,null,null,null,null,null,null,null,{"$f":"IF(ISNUMBER(SEARCH(Drop!$X$2,Liste!A768)),MAX(Liste!$K$1:'Liste'!K767)+1,\"\")","v":""},{"$f":"IFERROR(INDEX($A$2:$A$1000,MATCH(ROWS($K$2:K768),$K$2:$K$1048576,0)),\"\")","v":""}]
[null,null,null,null,null,null,null,null,null,null,{"$f":"IF(ISNUMBER(SEARCH(Drop!$X$2,Liste!A769)),MAX(Liste!$K$1:'Liste'!K768)+1,\"\")","v":""},{"$f":"IFERROR(INDEX($A$2:$A$1000,MATCH(ROWS($K$2:K769),$K$2:$K$1048576,0)),\"\")","v":""}]
[null,null,null,null,null,null,null,null,null,null,{"$f":"IF(ISNUMBER(SEARCH(Drop!$X$2,Liste!A770)),MAX(Liste!$K$1:'Liste'!K769)+1,\"\")","v":""},{"$f":"IFERROR(INDEX($A$2:$A$1000,MATCH(ROWS($K$2:K770),$K$2:$K$1048576,0)),\"\")","v":""}]
[null,null,null,null,null,null,null,null,null,null,{"$f":"IF(ISNUMBER(SEARCH(Drop!$X$2,Liste!A771)),MAX(Liste!$K$1:'Liste'!K770)+1,\"\")","v":""},{"$f":"IFERROR(INDEX($A$2:$A$1000,MATCH(ROWS($K$2:K771),$K$2:$K$1048576,0)),\"\")","v":""}]
[null,null,null,null,null,null,null,null,null,null,{"$f":"IF(ISNUMBER(SEARCH(Drop!$X$2,Liste!A772)),MAX(Liste!$K$1:'Liste'!K771)+1,\"\")","v":""},{"$f":"IFERROR(INDEX($A$2:$A$1000,MATCH(ROWS($K$2:K772),$K$2:$K$1048576,0)),\"\")","v":""}]
[null,null,null,null,null,null,null,null,null,null,{"$f":"IF(ISNUMBER(SEARCH(Drop!$X$2,Liste!A773)),MAX(Liste!$K$1:'Liste'!K772)+1,\"\")","v":""},{"$f":"IFERROR(INDEX($A$2:$A$1000,MATCH(ROWS($K$2:K773),$K$2:$K$1048576,0)),\"\")","v":""}]
[null,null,null,null,null,null,null,null,null,null,{"$f":"IF(ISNUMBER(SEARCH(Drop!$X$2,Liste!A774)),MAX(Liste!$K$1:'Liste'!K773)+1,\"\")","v":""},{"$f":"IFERROR(INDEX($A$2:$A$1000,MATCH(ROWS($K$2:K774),$K$2:$K$1048576,0)),\"\")","v":""}]
[null,null,null,null,null,null,null,null,null,null,{"$f":"IF(ISNUMBER(SEARCH(Drop!$X$2,Liste!A775)),MAX(Liste!$K$1:'Liste'!K774)+1,\"\")","v":""},{"$f":"IFERROR(INDEX($A$2:$A$1000,MATCH(ROWS($K$2:K775),$K$2:$K$1048576,0)),\"\")","v":""}]
[null,null,null,null,null,null,null,null,null,null,{"$f":"IF(ISNUMBER(SEARCH(Drop!$X$2,Liste!A776)),MAX(Liste!$K$1:'Liste'!K775)+1,\"\")","v":""},{"$f":"IFERROR(INDEX($A$2:$A$1000,MATCH(ROWS($K$2:K776),$K$2:$K$1048576,0)),\"\")","v":""}]
[null,null,null,null,null,null,null,null,null,null,{"$f":"IF(ISNUMBER(SEARCH(Drop!$X$2,Liste!A777)),MAX(Liste!$K$1:'Liste'!K776)+1,\"\")","v":""},{"$f":"IFERROR(INDEX($A$2:$A$1000,MATCH(ROWS($K$2:K777),$K$2:$K$1048576,0)),\"\")","v":""}]
[null,null,null,null,null,null,null,null,null,null,{"$f":"IF(ISNUMBER(SEARCH(Drop!$X$2,Liste!A778)),MAX(Liste!$K$1:'Liste'!K777)+1,\"\")","v":""},{"$f":"IFERROR(INDEX($A$2:$A$1000,MATCH(ROWS($K$2:K778),$K$2:$K$1048576,0)),\"\")","v":""}]
[null,null,null,null,null,null,null,null,null,null,{"$f":"IF(ISNUMBER(SEARCH(Drop!$X$2,Liste!A779)),MAX(Liste!$K$1:'Liste'!K778)+1,\"\")","v":""},{"$f":"IFERROR(INDEX($A$2:$A$1000,MATCH(ROWS($K$2:K779),$K$2:$K$1048576,0)),\"\")","v":""}]
[null,null,null,null,null,null,null,null,null,null,{"$f":"IF(ISNUMBER(SEARCH(Drop!$X$2,Liste!A780)),MAX(Liste!$K$1:'Liste'!K779)+1,\"\")","v":""},{"$f":"IFERROR(INDEX($A$2:$A$1000,MATCH(ROWS($K$2:K780),$K$2:$K$1048576,0)),\"\")","v":""}]
[null,null,null,null,null,null,null,null,null,null,{"$f":"IF(ISNUMBER(SEARCH(Drop!$X$2,Liste!A781)),MAX(Liste!$K$1:'Liste'!K780)+1,\"\")","v":""},{"$f":"IFERROR(INDEX($A$2:$A$1000,MATCH(ROWS($K$2:K781),$K$2:$K$1048576,0)),\"\")","v":""}]
[null,null,null,null,null,null,null,null,null,null,{"$f":"IF(ISNUMBER(SEARCH(Drop!$X$2,Liste!A782)),MAX(Liste!$K$1:'Liste'!K781)+1,\"\")","v":""},{"$f":"IFERROR(INDEX($A$2:$A$1000,MATCH(ROWS($K$2:K782),$K$2:$K$1048576,0)),\"\")","v":""}]
[null,null,null,null,null,null,null,null,null,null,{"$f":"IF(ISNUMBER(SEARCH(Drop!$X$2,Liste!A783)),MAX(Liste!$K$1:'Liste'!K782)+1,\"\")","v":""},{"$f":"IFERROR(INDEX($A$2:$A$1000,MATCH(ROWS($K$2:K783),$K$2:$K$1048576,0)),\"\")","v":""}]
[null,null,null,null,null,null,null,null,null,null,{"$f":"IF(ISNUMBER(SEARCH(Drop!$X$2,Liste!A784)),MAX(Liste!$K$1:'Liste'!K783)+1,\"\")","v":""},{"$f":"IFERROR(INDEX($A$2:$A$1000,MATCH(ROWS($K$2:K784),$K$2:$K$1048576,0)),\"\")","v":""}]
[null,null,null,null,null,null,null,null,null,null,{"$f":"IF(ISNUMBER(SEARCH(Drop!$X$2,Liste!A785)),MAX(Liste!$K$1:'Liste'!K784)+1,\"\")","v":""},{"$f":"IFERROR(INDEX($A$2:$A$1000,MATCH(ROWS($K$2:K785),$K$2:$K$1048576,0)),\"\")","v":""}]
[null,null,null,null,null,null,null,null,null,null,{"$f":"IF(ISNUMBER(SEARCH(Drop!$X$2,Liste!A786)),MAX(Liste!$K$1:'Liste'!K785)+1,\"\")","v":""},{"$f":"IFERROR(INDEX($A$2:$A$1000,MATCH(ROWS($K$2:K786),$K$2:$K$1048576,0)),\"\")","v":""}]
[null,null,null,null,null,null,null,null,null,null,{"$f":"IF(ISNUMBER(SEARCH(Drop!$X$2,Liste!A787)),MAX(Liste!$K$1:'Liste'!K786)+1,\"\")","v":""},{"$f":"IFERROR(INDEX($A$2:$A$1000,MATCH(ROWS($K$2:K787),$K$2:$K$1048576,0)),\"\")","v":""}]
[null,null,null,null,null,null,null,null,null,null,{"$f":"IF(ISNUMBER(SEARCH(Drop!$X$2,Liste!A788)),MAX(Liste!$K$1:'Liste'!K787)+1,\"\")","v":""},{"$f":"IFERROR(INDEX($A$2:$A$1000,MATCH(ROWS($K$2:K788),$K$2:$K$1048576,0)),\"\")","v":""}]
[null,null,null,null,null,null,null,null,null,null,{"$f":"IF(ISNUMBER(SEARCH(Drop!$X$2,Liste!A789)),MAX(Liste!$K$1:'Liste'!K788)+1,\"\")","v":""},{"$f":"IFERROR(INDEX($A$2:$A$1000,MATCH(ROWS($K$2:K789),$K$2:$K$1048576,0)),\"\")","v":""}]
[null,null,null,null,null,null,null,null,null,null,{"$f":"IF(ISNUMBER(SEARCH(Drop!$X$2,Liste!A790)),MAX(Liste!$K$1:'Liste'!K789)+1,\"\")","v":""},{"$f":"IFERROR(INDEX($A$2:$A$1000,MATCH(ROWS($K$2:K790),$K$2:$K$1048576,0)),\"\")","v":""}]
[null,null,null,null,null,null,null,null,null,null,{"$f":"IF(ISNUMBER(SEARCH(Drop!$X$2,Liste!A791)),MAX(Liste!$K$1:'Liste'!K790)+1,\"\")","v":""},{"$f":"IFERROR(INDEX($A$2:$A$1000,MATCH(ROWS($K$2:K791),$K$2:$K$1048576,0)),\"\")","v":""}]
[null,null,null,null,null,null,null,null,null,null,{"$f":"IF(ISNUMBER(SEARCH(Drop!$X$2,Liste!A792)),MAX(Liste!$K$1:'Liste'!K791)+1,\"\")","v":""},{"$f":"IFERROR(INDEX($A$2:$A$1000,MATCH(ROWS($K$2:K792),$K$2:$K$1048576,0)),\"\")","v":""}]
[null,null,null,null,null,null,null,null,null,null,{"$f":"IF(ISNUMBER(SEARCH(Drop!$X$2,Liste!A793)),MAX(Liste!$K$1:'Liste'!K792)+1,\"\")","v":""},{"$f":"IFERROR(INDEX($A$2:$A$1000,MATCH(ROWS($K$2:K793),$K$2:$K$1048576,0)),\"\")","v":""}]
[null,null,null,null,null,null,null,null,null,null,{"$f":"IF(ISNUMBER(SEARCH(Drop!$X$2,Liste!A794)),MAX(Liste!$K$1:'Liste'!K793)+1,\"\")","v":""},{"$f":"IFERROR(INDEX($A$2:$A$1000,MATCH(ROWS($K$2:K794),$K$2:$K$1048576,0)),\"\")","v":""}]
[null,null,null,null,null,null,null,null,null,null,{"$f":"IF(ISNUMBER(SEARCH(Drop!$X$2,Liste!A795)),MAX(Liste!$K$1:'Liste'!K794)+1,\"\")","v":""},{"$f":"IFERROR(INDEX($A$2:$A$1000,MATCH(ROWS($K$2:K795),$K$2:$K$1048576,0)),\"\")","v":""}]
[null,null,null,null,null,null,null,null,null,null,{"$f":"IF(ISNUMBER(SEARCH(Drop!$X$2,Liste!A796)),MAX(Liste!$K$1:'Liste'!K795)+1,\"\")","v":""},{"$f":"IFERROR(INDEX($A$2:$A$1000,MATCH(ROWS($K$2:K796),$K$2:$K$1048576,0)),\"\")","v":""}]
[null,null,null,null,null,null,null,null,null,null,{"$f":"IF(ISNUMBER(SEARCH(Drop!$X$2,Liste!A797)),MAX(Liste!$K$1:'Liste'!K796)+1,\"\")","v":""},{"$f":"IFERROR(INDEX($A$2:$A$1000,MATCH(ROWS($K$2:K797),$K$2:$K$1048576,0)),\"\")","v":""}]
[null,null,null,null,null,null,null,null,null,null,{"$f":"IF(ISNUMBER(SEARCH(Drop!$X$2,Liste!A798)),MAX(Liste!$K$1:'Liste'!K797)+1,\"\")","v":""},{"$f":"IFERROR(INDEX($A$2:$A$1000,MATCH(ROWS($K$2:K798),$K$2:$K$1048576,0)),\"\")","v":""}]
[null,null,null,null,null,null,null,null,null,null,{"$f":"IF(ISNUMBER(SEARCH(Drop!$X$2,Liste!A799)),MAX(Liste!$K$1:'Liste'!K798)+1,\"\")","v":""},{"$f":"IFERROR(INDEX($A$2:$A$1000,MATCH(ROWS($K$2:K799),$K$2:$K$1048576,0)),\"\")","v":""}]
[null,null,null,null,null,null,null,null,null,null,{"$f":"IF(ISNUMBER(SEARCH(Drop!$X$2,Liste!A800)),MAX(Liste!$K$1:'Liste'!K799)+1,\"\")","v":""},{"$f":"IFERROR(INDEX($A$2:$A$1000,MATCH(ROWS($K$2:K800),$K$2:$K$1048576,0)),\"\")","v":""}]
[null,null,null,null,null,null,null,null,null,null,{"$f":"IF(ISNUMBER(SEARCH(Drop!$X$2,Liste!A801)),MAX(Liste!$K$1:'Liste'!K800)+1,\"\")","v":""},{"$f":"IFERROR(INDEX($A$2:$A$1000,MATCH(ROWS($K$2:K801),$K$2:$K$1048576,0)),\"\")","v":""}]
[null,null,null,null,null,null,null,null,null,null,{"$f":"IF(ISNUMBER(SEARCH(Drop!$X$2,Liste!A802)),MAX(Liste!$K$1:'Liste'!K801)+1,\"\")","v":""},{"$f":"IFERROR(INDEX($A$2:$A$1000,MATCH(ROWS($K$2:K802),$K$2:$K$1048576,0)),\"\")","v":""}]
[null,null,null,null,null,null,null,null,null,null,{"$f":"IF(ISNUMBER(SEARCH(Drop!$X$2,Liste!A803)),MAX(Liste!$K$1:'Liste'!K802)+1,\"\")","v":""},{"$f":"IFERROR(INDEX($A$2:$A$1000,MATCH(ROWS($K$2:K803),$K$2:$K$1048576,0)),\"\")","v":""}]
[null,null,null,null,null,null,null,null,null,null,{"$f":"IF(ISNUMBER(SEARCH(Drop!$X$2,Liste!A804)),MAX(Liste!$K$1:'Liste'!K803)+1,\"\")","v":""},{"$f":"IFERROR(INDEX($A$2:$A$1000,MATCH(ROWS($K$2:K804),$K$2:$K$1048576,0)),\"\")","v":""}]
[null,null,null,null,null,null,null,null,null,null,{"$f":"IF(ISNUMBER(SEARCH(Drop!$X$2,Liste!A805)),MAX(Liste!$K$1:'Liste'!K804)+1,\"\")","v":""},{"$f":"IFERROR(INDEX($A$2:$A$1000,MATCH(ROWS($K$2:K805),$K$2:$K$1048576,0)),\"\")","v":""}]
[null,null,null,null,null,null,null,null,null,null,{"$f":"IF(ISNUMBER(SEARCH(Drop!$X$2,Liste!A806)),MAX(Liste!$K$1:'Liste'!K805)+1,\"\")","v":""},{"$f":"IFERROR(INDEX($A$2:$A$1000,MATCH(ROWS($K$2:K806),$K$2:$K$1048576,0)),\"\")","v":""}]
[null,null,null,null,null,null,null,null,null,null,{"$f":"IF(ISNUMBER(SEARCH(Drop!$X$2,Liste!A807)),MAX(Liste!$K$1:'Liste'!K806)+1,\"\")","v":""},{"$f":"IFERROR(INDEX($A$2:$A$1000,MATCH(ROWS($K$2:K807),$K$2:$K$1048576,0)),\"\")","v":""}]
[null,null,null,null,null,null,null,null,null,null,{"$f":"IF(ISNUMBER(SEARCH(Drop!$X$2,Liste!A808)),MAX(Liste!$K$1:'Liste'!K807)+1,\"\")","v":""},{"$f":"IFERROR(INDEX($A$2:$A$1000,MATCH(ROWS($K$2:K808),$K$2:$K$1048576,0)),\"\")","v":""}]
[null,null,null,null,null,null,null,null,null,null,{"$f":"IF(ISNUMBER(SEARCH(Drop!$X$2,Liste!A809)),MAX(Liste!$K$1:'Liste'!K808)+1,\"\")","v":""},{"$f":"IFERROR(INDEX($A$2:$A$1000,MATCH(ROWS($K$2:K809),$K$2:$K$1048576,0)),\"\")","v":""}]
[null,null,null,null,null,null,null,null,null,null,{"$f":"IF(ISNUMBER(SEARCH(Drop!$X$2,Liste!A810)),MAX(Liste!$K$1:'Liste'!K809)+1,\"\")","v":""},{"$f":"IFERROR(INDEX($A$2:$A$1000,MATCH(ROWS($K$2:K810),$K$2:$K$1048576,0)),\"\")","v":""}]
[null,null,null,null,null,null,null,null,null,null,{"$f":"IF(ISNUMBER(SEARCH(Drop!$X$2,Liste!A811)),MAX(Liste!$K$1:'Liste'!K810)+1,\"\")","v":""},{"$f":"IFERROR(INDEX($A$2:$A$1000,MATCH(ROWS($K$2:K811),$K$2:$K$1048576,0)),\"\")","v":""}]
[null,null,null,null,null,null,null,null,null,null,{"$f":"IF(ISNUMBER(SEARCH(Drop!$X$2,Liste!A812)),MAX(Liste!$K$1:'Liste'!K811)+1,\"\")","v":""},{"$f":"IFERROR(INDEX($A$2:$A$1000,MATCH(ROWS($K$2:K812),$K$2:$K$1048576,0)),\"\")","v":""}]
[null,null,null,null,null,null,null,null,null,null,{"$f":"IF(ISNUMBER(SEARCH(Drop!$X$2,Liste!A813)),MAX(Liste!$K$1:'Liste'!K812)+1,\"\")","v":""},{"$f":"IFERROR(INDEX($A$2:$A$1000,MATCH(ROWS($K$2:K813),$K$2:$K$1048576,0)),\"\")","v":""}]
[null,null,null,null,null,null,null,null,null,null,{"$f":"IF(ISNUMBER(SEARCH(Drop!$X$2,Liste!A814)),MAX(Liste!$K$1:'Liste'!K813)+1,\"\")","v":""},{"$f":"IFERROR(INDEX($A$2:$A$1000,MATCH(ROWS($K$2:K814),$K$2:$K$1048576,0)),\"\")","v":""}]
[null,null,null,null,null,null,null,null,null,null,{"$f":"IF(ISNUMBER(SEARCH(Drop!$X$2,Liste!A815)),MAX(Liste!$K$1:'Liste'!K814)+1,\"\")","v":""},{"$f":"IFERROR(INDEX($A$2:$A$1000,MATCH(ROWS($K$2:K815),$K$2:$K$1048576,0)),\"\")","v":""}]
[null,null,null,null,null,null,null,null,null,null,{"$f":"IF(ISNUMBER(SEARCH(Drop!$X$2,Liste!A816)),MAX(Liste!$K$1:'Liste'!K815)+1,\"\")","v":""},{"$f":"IFERROR(INDEX($A$2:$A$1000,MATCH(ROWS($K$2:K816),$K$2:$K$1048576,0)),\"\")","v":""}]
[null,null,null,null,null,null,null,null,null,null,{"$f":"IF(ISNUMBER(SEARCH(Drop!$X$2,Liste!A817)),MAX(Liste!$K$1:'Liste'!K816)+1,\"\")","v":""},{"$f":"IFERROR(INDEX($A$2:$A$1000,MATCH(ROWS($K$2:K817),$K$2:$K$1048576,0)),\"\")","v":""}]
[null,null,null,null,null,null,null,null,null,null,{"$f":"IF(ISNUMBER(SEARCH(Drop!$X$2,Liste!A818)),MAX(Liste!$K$1:'Liste'!K817)+1,\"\")","v":""},{"$f":"IFERROR(INDEX($A$2:$A$1000,MATCH(ROWS($K$2:K818),$K$2:$K$1048576,0)),\"\")","v":""}]
[null,null,null,null,null,null,null,null,null,null,{"$f":"IF(ISNUMBER(SEARCH(Drop!$X$2,Liste!A819)),MAX(Liste!$K$1:'Liste'!K818)+1,\"\")","v":""},{"$f":"IFERROR(INDEX($A$2:$A$1000,MATCH(ROWS($K$2:K819),$K$2:$K$1048576,0)),\"\")","v":""}]
[null,null,null,null,null,null,null,null,null,null,{"$f":"IF(ISNUMBER(SEARCH(Drop!$X$2,Liste!A820)),MAX(Liste!$K$1:'Liste'!K819)+1,\"\")","v":""},{"$f":"IFERROR(INDEX($A$2:$A$1000,MATCH(ROWS($K$2:K820),$K$2:$K$1048576,0)),\"\")","v":""}]
[null,null,null,null,null,null,null,null,null,null,{"$f":"IF(ISNUMBER(SEARCH(Drop!$X$2,Liste!A821)),MAX(Liste!$K$1:'Liste'!K820)+1,\"\")","v":""},{"$f":"IFERROR(INDEX($A$2:$A$1000,MATCH(ROWS($K$2:K821),$K$2:$K$1048576,0)),\"\")","v":""}]
[null,null,null,null,null,null,null,null,null,null,{"$f":"IF(ISNUMBER(SEARCH(Drop!$X$2,Liste!A822)),MAX(Liste!$K$1:'Liste'!K821)+1,\"\")","v":""},{"$f":"IFERROR(INDEX($A$2:$A$1000,MATCH(ROWS($K$2:K822),$K$2:$K$1048576,0)),\"\")","v":""}]
[null,null,null,null,null,null,null,null,null,null,{"$f":"IF(ISNUMBER(SEARCH(Drop!$X$2,Liste!A823)),MAX(Liste!$K$1:'Liste'!K822)+1,\"\")","v":""},{"$f":"IFERROR(INDEX($A$2:$A$1000,MATCH(ROWS($K$2:K823),$K$2:$K$1048576,0)),\"\")","v":""}]
[null,null,null,null,null,null,null,null,null,null,{"$f":"IF(ISNUMBER(SEARCH(Drop!$X$2,Liste!A824)),MAX(Liste!$K$1:'Liste'!K823)+1,\"\")","v":""},{"$f":"IFERROR(INDEX($A$2:$A$1000,MATCH(ROWS($K$2:K824),$K$2:$K$1048576,0)),\"\")","v":""}]
[null,null,null,null,null,null,null,null,null,null,{"$f":"IF(ISNUMBER(SEARCH(Drop!$X$2,Liste!A825)),MAX(Liste!$K$1:'Liste'!K824)+1,\"\")","v":""},{"$f":"IFERROR(INDEX($A$2:$A$1000,MATCH(ROWS($K$2:K825),$K$2:$K$1048576,0)),\"\")","v":""}]
[null,null,null,null,null,null,null,null,null,null,{"$f":"IF(ISNUMBER(SEARCH(Drop!$X$2,Liste!A826)),MAX(Liste!$K$1:'Liste'!K825)+1,\"\")","v":""},{"$f":"IFERROR(INDEX($A$2:$A$1000,MATCH(ROWS($K$2:K826),$K$2:$K$1048576,0)),\"\")","v":""}]
[null,null,null,null,null,null,null,null,null,null,{"$f":"IF(ISNUMBER(SEARCH(Drop!$X$2,Liste!A827)),MAX(Liste!$K$1:'Liste'!K826)+1,\"\")","v":""},{"$f":"IFERROR(INDEX($A$2:$A$1000,MATCH(ROWS($K$2:K827),$K$2:$K$1048576,0)),\"\")","v":""}]
[null,null,null,null,null,null,null,null,null,null,{"$f":"IF(ISNUMBER(SEARCH(Drop!$X$2,Liste!A828)),MAX(Liste!$K$1:'Liste'!K827)+1,\"\")","v":""},{"$f":"IFERROR(INDEX($A$2:$A$1000,MATCH(ROWS($K$2:K828),$K$2:$K$1048576,0)),\"\")","v":""}]
[null,null,null,null,null,null,null,null,null,null,{"$f":"IF(ISNUMBER(SEARCH(Drop!$X$2,Liste!A829)),MAX(Liste!$K$1:'Liste'!K828)+1,\"\")","v":""},{"$f":"IFERROR(INDEX($A$2:$A$1000,MATCH(ROWS($K$2:K829),$K$2:$K$1048576,0)),\"\")","v":""}]
[null,null,null,null,null,null,null,null,null,null,{"$f":"IF(ISNUMBER(SEARCH(Drop!$X$2,Liste!A830)),MAX(Liste!$K$1:'Liste'!K829)+1,\"\")","v":""},{"$f":"IFERROR(INDEX($A$2:$A$1000,MATCH(ROWS($K$2:K830),$K$2:$K$1048576,0)),\"\")","v":""}]
[null,null,null,null,null,null,null,null,null,null,{"$f":"IF(ISNUMBER(SEARCH(Drop!$X$2,Liste!A831)),MAX(Liste!$K$1:'Liste'!K830)+1,\"\")","v":""},{"$f":"IFERROR(INDEX($A$2:$A$1000,MATCH(ROWS($K$2:K831),$K$2:$K$1048576,0)),\"\")","v":""}]
[null,null,null,null,null,null,null,null,null,null,{"$f":"IF(ISNUMBER(SEARCH(Drop!$X$2,Liste!A832)),MAX(Liste!$K$1:'Liste'!K831)+1,\"\")","v":""},{"$f":"IFERROR(INDEX($A$2:$A$1000,MATCH(ROWS($K$2:K832),$K$2:$K$1048576,0)),\"\")","v":""}]
[null,null,null,null,null,null,null,null,null,null,{"$f":"IF(ISNUMBER(SEARCH(Drop!$X$2,Liste!A833)),MAX(Liste!$K$1:'Liste'!K832)+1,\"\")","v":""},{"$f":"IFERROR(INDEX($A$2:$A$1000,MATCH(ROWS($K$2:K833),$K$2:$K$1048576,0)),\"\")","v":""}]
[null,null,null,null,null,null,null,null,null,null,{"$f":"IF(ISNUMBER(SEARCH(Drop!$X$2,Liste!A834)),MAX(Liste!$K$1:'Liste'!K833)+1,\"\")","v":""},{"$f":"IFERROR(INDEX($A$2:$A$1000,MATCH(ROWS($K$2:K834),$K$2:$K$1048576,0)),\"\")","v":""}]
[null,null,null,null,null,null,null,null,null,null,{"$f":"IF(ISNUMBER(SEARCH(Drop!$X$2,Liste!A835)),MAX(Liste!$K$1:'Liste'!K834)+1,\"\")","v":""},{"$f":"IFERROR(INDEX($A$2:$A$1000,MATCH(ROWS($K$2:K835),$K$2:$K$1048576,0)),\"\")","v":""}]
[null,null,null,null,null,null,null,null,null,null,{"$f":"IF(ISNUMBER(SEARCH(Drop!$X$2,Liste!A836)),MAX(Liste!$K$1:'Liste'!K835)+1,\"\")","v":""},{"$f":"IFERROR(INDEX($A$2:$A$1000,MATCH(ROWS($K$2:K836),$K$2:$K$1048576,0)),\"\")","v":""}]
[null,null,null,null,null,null,null,null,null,null,{"$f":"IF(ISNUMBER(SEARCH(Drop!$X$2,Liste!A837)),MAX(Liste!$K$1:'Liste'!K836)+1,\"\")","v":""},{"$f":"IFERROR(INDEX($A$2:$A$1000,MATCH(ROWS($K$2:K837),$K$2:$K$1048576,0)),\"\")","v":""}]
[null,null,null,null,null,null,null,null,null,null,{"$f":"IF(ISNUMBER(SEARCH(Drop!$X$2,Liste!A838)),MAX(Liste!$K$1:'Liste'!K837)+1,\"\")","v":""},{"$f":"IFERROR(INDEX($A$2:$A$1000,MATCH(ROWS($K$2:K838),$K$2:$K$1048576,0)),\"\")","v":""}]
[null,null,null,null,null,null,null,null,null,null,{"$f":"IF(ISNUMBER(SEARCH(Drop!$X$2,Liste!A839)),MAX(Liste!$K$1:'Liste'!K838)+1,\"\")","v":""},{"$f":"IFERROR(INDEX($A$2:$A$1000,MATCH(ROWS($K$2:K839),$K$2:$K$1048576,0)),\"\")","v":""}]
[null,null,null,null,null,null,null,null,null,null,{"$f":"IF(ISNUMBER(SEARCH(Drop!$X$2,Liste!A840)),MAX(Liste!$K$1:'Liste'!K839)+1,\"\")","v":""},{"$f":"IFERROR(INDEX($A$2:$A$1000,MATCH(ROWS($K$2:K840),$K$2:$K$1048576,0)),\"\")","v":""}]
[null,null,null,null,null,null,null,null,null,null,{"$f":"IF(ISNUMBER(SEARCH(Drop!$X$2,Liste!A841)),MAX(Liste!$K$1:'Liste'!K840)+1,\"\")","v":""},{"$f":"IFERROR(INDEX($A$2:$A$1000,MATCH(ROWS($K$2:K841),$K$2:$K$1048576,0)),\"\")","v":""}]
[null,null,null,null,null,null,null,null,null,null,{"$f":"IF(ISNUMBER(SEARCH(Drop!$X$2,Liste!A842)),MAX(Liste!$K$1:'Liste'!K841)+1,\"\")","v":""},{"$f":"IFERROR(INDEX($A$2:$A$1000,MATCH(ROWS($K$2:K842),$K$2:$K$1048576,0)),\"\")","v":""}]
[null,null,null,null,null,null,null,null,null,null,{"$f":"IF(ISNUMBER(SEARCH(Drop!$X$2,Liste!A843)),MAX(Liste!$K$1:'Liste'!K842)+1,\"\")","v":""},{"$f":"IFERROR(INDEX($A$2:$A$1000,MATCH(ROWS($K$2:K843),$K$2:$K$1048576,0)),\"\")","v":""}]
[null,null,null,null,null,null,null,null,null,null,{"$f":"IF(ISNUMBER(SEARCH(Drop!$X$2,Liste!A844)),MAX(Liste!$K$1:'Liste'!K843)+1,\"\")","v":""},{"$f":"IFERROR(INDEX($A$2:$A$1000,MATCH(ROWS($K$2:K844),$K$2:$K$1048576,0)),\"\")","v":""}]
[null,null,null,null,null,null,null,null,null,null,{"$f":"IF(ISNUMBER(SEARCH(Drop!$X$2,Liste!A845)),MAX(Liste!$K$1:'Liste'!K844)+1,\"\")","v":""},{"$f":"IFERROR(INDEX($A$2:$A$1000,MATCH(ROWS($K$2:K845),$K$2:$K$1048576,0)),\"\")","v":""}]
[null,null,null,null,null,null,null,null,null,null,{"$f":"IF(ISNUMBER(SEARCH(Drop!$X$2,Liste!A846)),MAX(Liste!$K$1:'Liste'!K845)+1,\"\")","v":""},{"$f":"IFERROR(INDEX($A$2:$A$1000,MATCH(ROWS($K$2:K846),$K$2:$K$1048576,0)),\"\")","v":""}]
[null,null,null,null,null,null,null,null,null,null,{"$f":"IF(ISNUMBER(SEARCH(Drop!$X$2,Liste!A847)),MAX(Liste!$K$1:'Liste'!K846)+1,\"\")","v":""},{"$f":"IFERROR(INDEX($A$2:$A$1000,MATCH(ROWS($K$2:K847),$K$2:$K$1048576,0)),\"\")","v":""}]
[null,null,null,null,null,null,null,null,null,null,{"$f":"IF(ISNUMBER(SEARCH(Drop!$X$2,Liste!A848)),MAX(Liste!$K$1:'Liste'!K847)+1,\"\")","v":""},{"$f":"IFERROR(INDEX($A$2:$A$1000,MATCH(ROWS($K$2:K848),$K$2:$K$1048576,0)),\"\")","v":""}]
[null,null,null,null,null,null,null,null,null,null,{"$f":"IF(ISNUMBER(SEARCH(Drop!$X$2,Liste!A849)),MAX(Liste!$K$1:'Liste'!K848)+1,\"\")","v":""},{"$f":"IFERROR(INDEX($A$2:$A$1000,MATCH(ROWS($K$2:K849),$K$2:$K$1048576,0)),\"\")","v":""}]
[null,null,null,null,null,null,null,null,null,null,{"$f":"IF(ISNUMBER(SEARCH(Drop!$X$2,Liste!A850)),MAX(Liste!$K$1:'Liste'!K849)+1,\"\")","v":""},{"$f":"IFERROR(INDEX($A$2:$A$1000,MATCH(ROWS($K$2:K850),$K$2:$K$1048576,0)),\"\")","v":""}]
[null,null,null,null,null,null,null,null,null,null,{"$f":"IF(ISNUMBER(SEARCH(Drop!$X$2,Liste!A851)),MAX(Liste!$K$1:'Liste'!K850)+1,\"\")","v":""},{"$f":"IFERROR(INDEX($A$2:$A$1000,MATCH(ROWS($K$2:K851),$K$2:$K$1048576,0)),\"\")","v":""}]
[null,null,null,null,null,null,null,null,null,null,{"$f":"IF(ISNUMBER(SEARCH(Drop!$X$2,Liste!A852)),MAX(Liste!$K$1:'Liste'!K851)+1,\"\")","v":""},{"$f":"IFERROR(INDEX($A$2:$A$1000,MATCH(ROWS($K$2:K852),$K$2:$K$1048576,0)),\"\")","v":""}]
[null,null,null,null,null,null,null,null,null,null,{"$f":"IF(ISNUMBER(SEARCH(Drop!$X$2,Liste!A853)),MAX(Liste!$K$1:'Liste'!K852)+1,\"\")","v":""},{"$f":"IFERROR(INDEX($A$2:$A$1000,MATCH(ROWS($K$2:K853),$K$2:$K$1048576,0)),\"\")","v":""}]
[null,null,null,null,null,null,null,null,null,null,{"$f":"IF(ISNUMBER(SEARCH(Drop!$X$2,Liste!A854)),MAX(Liste!$K$1:'Liste'!K853)+1,\"\")","v":""},{"$f":"IFERROR(INDEX($A$2:$A$1000,MATCH(ROWS($K$2:K854),$K$2:$K$1048576,0)),\"\")","v":""}]
[null,null,null,null,null,null,null,null,null,null,{"$f":"IF(ISNUMBER(SEARCH(Drop!$X$2,Liste!A855)),MAX(Liste!$K$1:'Liste'!K854)+1,\"\")","v":""},{"$f":"IFERROR(INDEX($A$2:$A$1000,MATCH(ROWS($K$2:K855),$K$2:$K$1048576,0)),\"\")","v":""}]
[null,null,null,null,null,null,null,null,null,null,{"$f":"IF(ISNUMBER(SEARCH(Drop!$X$2,Liste!A856)),MAX(Liste!$K$1:'Liste'!K855)+1,\"\")","v":""},{"$f":"IFERROR(INDEX($A$2:$A$1000,MATCH(ROWS($K$2:K856),$K$2:$K$1048576,0)),\"\")","v":""}]
[null,null,null,null,null,null,null,null,null,null,{"$f":"IF(ISNUMBER(SEARCH(Drop!$X$2,Liste!A857)),MAX(Liste!$K$1:'Liste'!K856)+1,\"\")","v":""},{"$f":"IFERROR(INDEX($A$2:$A$1000,MATCH(ROWS($K$2:K857),$K$2:$K$1048576,0)),\"\")","v":""}]
[null,null,null,null,null,null,null,null,null,null,{"$f":"IF(ISNUMBER(SEARCH(Drop!$X$2,Liste!A858)),MAX(Liste!$K$1:'Liste'!K857)+1,\"\")","v":""},{"$f":"IFERROR(INDEX($A$2:$A$1000,MATCH(ROWS($K$2:K858),$K$2:$K$1048576,0)),\"\")","v":""}]
[null,null,null,null,null,null,null,null,null,null,{"$f":"IF(ISNUMBER(SEARCH(Drop!$X$2,Liste!A859)),MAX(Liste!$K$1:'Liste'!K858)+1,\"\")","v":""},{"$f":"IFERROR(INDEX($A$2:$A$1000,MATCH(ROWS($K$2:K859),$K$2:$K$1048576,0)),\"\")","v":""}]
[null,null,null,null,null,null,null,null,null,null,{"$f":"IF(ISNUMBER(SEARCH(Drop!$X$2,Liste!A860)),MAX(Liste!$K$1:'Liste'!K859)+1,\"\")","v":""},{"$f":"IFERROR(INDEX($A$2:$A$1000,MATCH(ROWS($K$2:K860),$K$2:$K$1048576,0)),\"\")","v":""}]
[null,null,null,null,null,null,null,null,null,null,{"$f":"IF(ISNUMBER(SEARCH(Drop!$X$2,Liste!A861)),MAX(Liste!$K$1:'Liste'!K860)+1,\"\")","v":""},{"$f":"IFERROR(INDEX($A$2:$A$1000,MATCH(ROWS($K$2:K861),$K$2:$K$1048576,0)),\"\")","v":""}]
[null,null,null,null,null,null,null,null,null,null,{"$f":"IF(ISNUMBER(SEARCH(Drop!$X$2,Liste!A862)),MAX(Liste!$K$1:'Liste'!K861)+1,\"\")","v":""},{"$f":"IFERROR(INDEX($A$2:$A$1000,MATCH(ROWS($K$2:K862),$K$2:$K$1048576,0)),\"\")","v":""}]
[null,null,null,null,null,null,null,null,null,null,{"$f":"IF(ISNUMBER(SEARCH(Drop!$X$2,Liste!A863)),MAX(Liste!$K$1:'Liste'!K862)+1,\"\")","v":""},{"$f":"IFERROR(INDEX($A$2:$A$1000,MATCH(ROWS($K$2:K863),$K$2:$K$1048576,0)),\"\")","v":""}]
[null,null,null,null,null,null,null,null,null,null,{"$f":"IF(ISNUMBER(SEARCH(Drop!$X$2,Liste!A864)),MAX(Liste!$K$1:'Liste'!K863)+1,\"\")","v":""},{"$f":"IFERROR(INDEX($A$2:$A$1000,MATCH(ROWS($K$2:K864),$K$2:$K$1048576,0)),\"\")","v":""}]
[null,null,null,null,null,null,null,null,null,null,{"$f":"IF(ISNUMBER(SEARCH(Drop!$X$2,Liste!A865)),MAX(Liste!$K$1:'Liste'!K864)+1,\"\")","v":""},{"$f":"IFERROR(INDEX($A$2:$A$1000,MATCH(ROWS($K$2:K865),$K$2:$K$1048576,0)),\"\")","v":""}]
[null,null,null,null,null,null,null,null,null,null,{"$f":"IF(ISNUMBER(SEARCH(Drop!$X$2,Liste!A866)),MAX(Liste!$K$1:'Liste'!K865)+1,\"\")","v":""},{"$f":"IFERROR(INDEX($A$2:$A$1000,MATCH(ROWS($K$2:K866),$K$2:$K$1048576,0)),\"\")","v":""}]
[null,null,null,null,null,null,null,null,null,null,{"$f":"IF(ISNUMBER(SEARCH(Drop!$X$2,Liste!A867)),MAX(Liste!$K$1:'Liste'!K866)+1,\"\")","v":""},{"$f":"IFERROR(INDEX($A$2:$A$1000,MATCH(ROWS($K$2:K867),$K$2:$K$1048576,0)),\"\")","v":""}]
[null,null,null,null,null,null,null,null,null,null,{"$f":"IF(ISNUMBER(SEARCH(Drop!$X$2,Liste!A868)),MAX(Liste!$K$1:'Liste'!K867)+1,\"\")","v":""},{"$f":"IFERROR(INDEX($A$2:$A$1000,MATCH(ROWS($K$2:K868),$K$2:$K$1048576,0)),\"\")","v":""}]
[null,null,null,null,null,null,null,null,null,null,{"$f":"IF(ISNUMBER(SEARCH(Drop!$X$2,Liste!A869)),MAX(Liste!$K$1:'Liste'!K868)+1,\"\")","v":""},{"$f":"IFERROR(INDEX($A$2:$A$1000,MATCH(ROWS($K$2:K869),$K$2:$K$1048576,0)),\"\")","v":""}]
[null,null,null,null,null,null,null,null,null,null,{"$f":"IF(ISNUMBER(SEARCH(Drop!$X$2,Liste!A870)),MAX(Liste!$K$1:'Liste'!K869)+1,\"\")","v":""},{"$f":"IFERROR(INDEX($A$2:$A$1000,MATCH(ROWS($K$2:K870),$K$2:$K$1048576,0)),\"\")","v":""}]
[null,null,null,null,null,null,null,null,null,null,{"$f":"IF(ISNUMBER(SEARCH(Drop!$X$2,Liste!A871)),MAX(Liste!$K$1:'Liste'!K870)+1,\"\")","v":""},{"$f":"IFERROR(INDEX($A$2:$A$1000,MATCH(ROWS($K$2:K871),$K$2:$K$1048576,0)),\"\")","v":""}]
[null,null,null,null,null,null,null,null,null,null,{"$f":"IF(ISNUMBER(SEARCH(Drop!$X$2,Liste!A872)),MAX(Liste!$K$1:'Liste'!K871)+1,\"\")","v":""},{"$f":"IFERROR(INDEX($A$2:$A$1000,MATCH(ROWS($K$2:K872),$K$2:$K$1048576,0)),\"\")","v":""}]
[null,null,null,null,null,null,null,null,null,null,{"$f":"IF(ISNUMBER(SEARCH(Drop!$X$2,Liste!A873)),MAX(Liste!$K$1:'Liste'!K872)+1,\"\")","v":""},{"$f":"IFERROR(INDEX($A$2:$A$1000,MATCH(ROWS($K$2:K873),$K$2:$K$1048576,0)),\"\")","v":""}]
[null,null,null,null,null,null,null,null,null,null,{"$f":"IF(ISNUMBER(SEARCH(Drop!$X$2,Liste!A874)),MAX(Liste!$K$1:'Liste'!K873)+1,\"\")","v":""},{"$f":"IFERROR(INDEX($A$2:$A$1000,MATCH(ROWS($K$2:K874),$K$2:$K$1048576,0)),\"\")","v":""}]
[null,null,null,null,null,null,null,null,null,null,{"$f":"IF(ISNUMBER(SEARCH(Drop!$X$2,Liste!A875)),MAX(Liste!$K$1:'Liste'!K874)+1,\"\")","v":""},{"$f":"IFERROR(INDEX($A$2:$A$1000,MATCH(ROWS($K$2:K875),$K$2:$K$1048576,0)),\"\")","v":""}]
[null,null,null,null,null,null,null,null,null,null,{"$f":"IF(ISNUMBER(SEARCH(Drop!$X$2,Liste!A876)),MAX(Liste!$K$1:'Liste'!K875)+1,\"\")","v":""},{"$f":"IFERROR(INDEX($A$2:$A$1000,MATCH(ROWS($K$2:K876),$K$2:$K$1048576,0)),\"\")","v":""}]
[null,null,null,null,null,null,null,null,null,null,{"$f":"IF(ISNUMBER(SEARCH(Drop!$X$2,Liste!A877)),MAX(Liste!$K$1:'Liste'!K876)+1,\"\")","v":""},{"$f":"IFERROR(INDEX($A$2:$A$1000,MATCH(ROWS($K$2:K877),$K$2:$K$1048576,0)),\"\")","v":""}]
[null,null,null,null,null,null,null,null,null,null,{"$f":"IF(ISNUMBER(SEARCH(Drop!$X$2,Liste!A878)),MAX(Liste!$K$1:'Liste'!K877)+1,\"\")","v":""},{"$f":"IFERROR(INDEX($A$2:$A$1000,MATCH(ROWS($K$2:K878),$K$2:$K$1048576,0)),\"\")","v":""}]
[null,null,null,null,null,null,null,null,null,null,{"$f":"IF(ISNUMBER(SEARCH(Drop!$X$2,Liste!A879)),MAX(Liste!$K$1:'Liste'!K878)+1,\"\")","v":""},{"$f":"IFERROR(INDEX($A$2:$A$1000,MATCH(ROWS($K$2:K879),$K$2:$K$1048576,0)),\"\")","v":""}]
[null,null,null,null,null,null,null,null,null,null,{"$f":"IF(ISNUMBER(SEARCH(Drop!$X$2,Liste!A880)),MAX(Liste!$K$1:'Liste'!K879)+1,\"\")","v":""},{"$f":"IFERROR(INDEX($A$2:$A$1000,MATCH(ROWS($K$2:K880),$K$2:$K$1048576,0)),\"\")","v":""}]
[null,null,null,null,null,null,null,null,null,null,{"$f":"IF(ISNUMBER(SEARCH(Drop!$X$2,Liste!A881)),MAX(Liste!$K$1:'Liste'!K880)+1,\"\")","v":""},{"$f":"IFERROR(INDEX($A$2:$A$1000,MATCH(ROWS($K$2:K881),$K$2:$K$1048576,0)),\"\")","v":""}]
[null,null,null,null,null,null,null,null,null,null,{"$f":"IF(ISNUMBER(SEARCH(Drop!$X$2,Liste!A882)),MAX(Liste!$K$1:'Liste'!K881)+1,\"\")","v":""},{"$f":"IFERROR(INDEX($A$2:$A$1000,MATCH(ROWS($K$2:K882),$K$2:$K$1048576,0)),\"\")","v":""}]
[null,null,null,null,null,null,null,null,null,null,{"$f":"IF(ISNUMBER(SEARCH(Drop!$X$2,Liste!A883)),MAX(Liste!$K$1:'Liste'!K882)+1,\"\")","v":""},{"$f":"IFERROR(INDEX($A$2:$A$1000,MATCH(ROWS($K$2:K883),$K$2:$K$1048576,0)),\"\")","v":""}]
[null,null,null,null,null,null,null,null,null,null,{"$f":"IF(ISNUMBER(SEARCH(Drop!$X$2,Liste!A884)),MAX(Liste!$K$1:'Liste'!K883)+1,\"\")","v":""},{"$f":"IFERROR(INDEX($A$2:$A$1000,MATCH(ROWS($K$2:K884),$K$2:$K$1048576,0)),\"\")","v":""}]
[null,null,null,null,null,null,null,null,null,null,{"$f":"IF(ISNUMBER(SEARCH(Drop!$X$2,Liste!A885)),MAX(Liste!$K$1:'Liste'!K884)+1,\"\")","v":""},{"$f":"IFERROR(INDEX($A$2:$A$1000,MATCH(ROWS($K$2:K885),$K$2:$K$1048576,0)),\"\")","v":""}]
[null,null,null,null,null,null,null,null,null,null,{"$f":"IF(ISNUMBER(SEARCH(Drop!$X$2,Liste!A886)),MAX(Liste!$K$1:'Liste'!K885)+1,\"\")","v":""},{"$f":"IFERROR(INDEX($A$2:$A$1000,MATCH(ROWS($K$2:K886),$K$2:$K$1048576,0)),\"\")","v":""}]
[null,null,null,null,null,null,null,null,null,null,{"$f":"IF(ISNUMBER(SEARCH(Drop!$X$2,Liste!A887)),MAX(Liste!$K$1:'Liste'!K886)+1,\"\")","v":""},{"$f":"IFERROR(INDEX($A$2:$A$1000,MATCH(ROWS($K$2:K887),$K$2:$K$1048576,0)),\"\")","v":""}]
[null,null,null,null,null,null,null,null,null,null,{"$f":"IF(ISNUMBER(SEARCH(Drop!$X$2,Liste!A888)),MAX(Liste!$K$1:'Liste'!K887)+1,\"\")","v":""},{"$f":"IFERROR(INDEX($A$2:$A$1000,MATCH(ROWS($K$2:K888),$K$2:$K$1048576,0)),\"\")","v":""}]
[null,null,null,null,null,null,null,null,null,null,{"$f":"IF(ISNUMBER(SEARCH(Drop!$X$2,Liste!A889)),MAX(Liste!$K$1:'Liste'!K888)+1,\"\")","v":""},{"$f":"IFERROR(INDEX($A$2:$A$1000,MATCH(ROWS($K$2:K889),$K$2:$K$1048576,0)),\"\")","v":""}]
[null,null,null,null,null,null,null,null,null,null,{"$f":"IF(ISNUMBER(SEARCH(Drop!$X$2,Liste!A890)),MAX(Liste!$K$1:'Liste'!K889)+1,\"\")","v":""},{"$f":"IFERROR(INDEX($A$2:$A$1000,MATCH(ROWS($K$2:K890),$K$2:$K$1048576,0)),\"\")","v":""}]
[null,null,null,null,null,null,null,null,null,null,{"$f":"IF(ISNUMBER(SEARCH(Drop!$X$2,Liste!A891)),MAX(Liste!$K$1:'Liste'!K890)+1,\"\")","v":""},{"$f":"IFERROR(INDEX($A$2:$A$1000,MATCH(ROWS($K$2:K891),$K$2:$K$1048576,0)),\"\")","v":""}]
[null,null,null,null,null,null,null,null,null,null,{"$f":"IF(ISNUMBER(SEARCH(Drop!$X$2,Liste!A892)),MAX(Liste!$K$1:'Liste'!K891)+1,\"\")","v":""},{"$f":"IFERROR(INDEX($A$2:$A$1000,MATCH(ROWS($K$2:K892),$K$2:$K$1048576,0)),\"\")","v":""}]
[null,null,null,null,null,null,null,null,null,null,{"$f":"IF(ISNUMBER(SEARCH(Drop!$X$2,Liste!A893)),MAX(Liste!$K$1:'Liste'!K892)+1,\"\")","v":""},{"$f":"IFERROR(INDEX($A$2:$A$1000,MATCH(ROWS($K$2:K893),$K$2:$K$1048576,0)),\"\")","v":""}]
[null,null,null,null,null,null,null,null,null,null,{"$f":"IF(ISNUMBER(SEARCH(Drop!$X$2,Liste!A894)),MAX(Liste!$K$1:'Liste'!K893)+1,\"\")","v":""},{"$f":"IFERROR(INDEX($A$2:$A$1000,MATCH(ROWS($K$2:K894),$K$2:$K$1048576,0)),\"\")","v":""}]
[null,null,null,null,null,null,null,null,null,null,{"$f":"IF(ISNUMBER(SEARCH(Drop!$X$2,Liste!A895)),MAX(Liste!$K$1:'Liste'!K894)+1,\"\")","v":""},{"$f":"IFERROR(INDEX($A$2:$A$1000,MATCH(ROWS($K$2:K895),$K$2:$K$1048576,0)),\"\")","v":""}]
[null,null,null,null,null,null,null,null,null,null,{"$f":"IF(ISNUMBER(SEARCH(Drop!$X$2,Liste!A896)),MAX(Liste!$K$1:'Liste'!K895)+1,\"\")","v":""},{"$f":"IFERROR(INDEX($A$2:$A$1000,MATCH(ROWS($K$2:K896),$K$2:$K$1048576,0)),\"\")","v":""}]
[null,null,null,null,null,null,null,null,null,null,{"$f":"IF(ISNUMBER(SEARCH(Drop!$X$2,Liste!A897)),MAX(Liste!$K$1:'Liste'!K896)+1,\"\")","v":""},{"$f":"IFERROR(INDEX($A$2:$A$1000,MATCH(ROWS($K$2:K897),$K$2:$K$1048576,0)),\"\")","v":""}]
[null,null,null,null,null,null,null,null,null,null,{"$f":"IF(ISNUMBER(SEARCH(Drop!$X$2,Liste!A898)),MAX(Liste!$K$1:'Liste'!K897)+1,\"\")","v":""},{"$f":"IFERROR(INDEX($A$2:$A$1000,MATCH(ROWS($K$2:K898),$K$2:$K$1048576,0)),\"\")","v":""}]
[null,null,null,null,null,null,null,null,null,null,{"$f":"IF(ISNUMBER(SEARCH(Drop!$X$2,Liste!A899)),MAX(Liste!$K$1:'Liste'!K898)+1,\"\")","v":""},{"$f":"IFERROR(INDEX($A$2:$A$1000,MATCH(ROWS($K$2:K899),$K$2:$K$1048576,0)),\"\")","v":""}]
[null,null,null,null,null,null,null,null,null,null,{"$f":"IF(ISNUMBER(SEARCH(Drop!$X$2,Liste!A900)),MAX(Liste!$K$1:'Liste'!K899)+1,\"\")","v":""},{"$f":"IFERROR(INDEX($A$2:$A$1000,MATCH(ROWS($K$2:K900),$K$2:$K$1048576,0)),\"\")","v":""}]
[null,null,null,null,null,null,null,null,null,null,{"$f":"IF(ISNUMBER(SEARCH(Drop!$X$2,Liste!A901)),MAX(Liste!$K$1:'Liste'!K900)+1,\"\")","v":""},{"$f":"IFERROR(INDEX($A$2:$A$1000,MATCH(ROWS($K$2:K901),$K$2:$K$1048576,0)),\"\")","v":""}]
[null,null,null,null,null,null,null,null,null,null,{"$f":"IF(ISNUMBER(SEARCH(Drop!$X$2,Liste!A902)),MAX(Liste!$K$1:'Liste'!K901)+1,\"\")","v":""},{"$f":"IFERROR(INDEX($A$2:$A$1000,MATCH(ROWS($K$2:K902),$K$2:$K$1048576,0)),\"\")","v":""}]
[null,null,null,null,null,null,null,null,null,null,{"$f":"IF(ISNUMBER(SEARCH(Drop!$X$2,Liste!A903)),MAX(Liste!$K$1:'Liste'!K902)+1,\"\")","v":""},{"$f":"IFERROR(INDEX($A$2:$A$1000,MATCH(ROWS($K$2:K903),$K$2:$K$1048576,0)),\"\")","v":""}]
[null,null,null,null,null,null,null,null,null,null,{"$f":"IF(ISNUMBER(SEARCH(Drop!$X$2,Liste!A904)),MAX(Liste!$K$1:'Liste'!K903)+1,\"\")","v":""},{"$f":"IFERROR(INDEX($A$2:$A$1000,MATCH(ROWS($K$2:K904),$K$2:$K$1048576,0)),\"\")","v":""}]
[null,null,null,null,null,null,null,null,null,null,{"$f":"IF(ISNUMBER(SEARCH(Drop!$X$2,Liste!A905)),MAX(Liste!$K$1:'Liste'!K904)+1,\"\")","v":""},{"$f":"IFERROR(INDEX($A$2:$A$1000,MATCH(ROWS($K$2:K905),$K$2:$K$1048576,0)),\"\")","v":""}]
[null,null,null,null,null,null,null,null,null,null,{"$f":"IF(ISNUMBER(SEARCH(Drop!$X$2,Liste!A906)),MAX(Liste!$K$1:'Liste'!K905)+1,\"\")","v":""},{"$f":"IFERROR(INDEX($A$2:$A$1000,MATCH(ROWS($K$2:K906),$K$2:$K$1048576,0)),\"\")","v":""}]
[null,null,null,null,null,null,null,null,null,null,{"$f":"IF(ISNUMBER(SEARCH(Drop!$X$2,Liste!A907)),MAX(Liste!$K$1:'Liste'!K906)+1,\"\")","v":""},{"$f":"IFERROR(INDEX($A$2:$A$1000,MATCH(ROWS($K$2:K907),$K$2:$K$1048576,0)),\"\")","v":""}]
[null,null,null,null,null,null,null,null,null,null,{"$f":"IF(ISNUMBER(SEARCH(Drop!$X$2,Liste!A908)),MAX(Liste!$K$1:'Liste'!K907)+1,\"\")","v":""},{"$f":"IFERROR(INDEX($A$2:$A$1000,MATCH(ROWS($K$2:K908),$K$2:$K$1048576,0)),\"\")","v":""}]
[null,null,null,null,null,null,null,null,null,null,{"$f":"IF(ISNUMBER(SEARCH(Drop!$X$2,Liste!A909)),MAX(Liste!$K$1:'Liste'!K908)+1,\"\")","v":""},{"$f":"IFERROR(INDEX($A$2:$A$1000,MATCH(ROWS($K$2:K909),$K$2:$K$1048576,0)),\"\")","v":""}]
[null,null,null,null,null,null,null,null,null,null,{"$f":"IF(ISNUMBER(SEARCH(Drop!$X$2,Liste!A910)),MAX(Liste!$K$1:'Liste'!K909)+1,\"\")","v":""},{"$f":"IFERROR(INDEX($A$2:$A$1000,MATCH(ROWS($K$2:K910),$K$2:$K$1048576,0)),\"\")","v":""}]
[null,null,null,null,null,null,null,null,null,null,{"$f":"IF(ISNUMBER(SEARCH(Drop!$X$2,Liste!A911)),MAX(Liste!$K$1:'Liste'!K910)+1,\"\")","v":""},{"$f":"IFERROR(INDEX($A$2:$A$1000,MATCH(ROWS($K$2:K911),$K$2:$K$1048576,0)),\"\")","v":""}]
[null,null,null,null,null,null,null,null,null,null,{"$f":"IF(ISNUMBER(SEARCH(Drop!$X$2,Liste!A912)),MAX(Liste!$K$1:'Liste'!K911)+1,\"\")","v":""},{"$f":"IFERROR(INDEX($A$2:$A$1000,MATCH(ROWS($K$2:K912),$K$2:$K$1048576,0)),\"\")","v":""}]
[null,null,null,null,null,null,null,null,null,null,{"$f":"IF(ISNUMBER(SEARCH(Drop!$X$2,Liste!A913)),MAX(Liste!$K$1:'Liste'!K912)+1,\"\")","v":""},{"$f":"IFERROR(INDEX($A$2:$A$1000,MATCH(ROWS($K$2:K913),$K$2:$K$1048576,0)),\"\")","v":""}]
[null,null,null,null,null,null,null,null,null,null,{"$f":"IF(ISNUMBER(SEARCH(Drop!$X$2,Liste!A914)),MAX(Liste!$K$1:'Liste'!K913)+1,\"\")","v":""},{"$f":"IFERROR(INDEX($A$2:$A$1000,MATCH(ROWS($K$2:K914),$K$2:$K$1048576,0)),\"\")","v":""}]
[null,null,null,null,null,null,null,null,null,null,{"$f":"IF(ISNUMBER(SEARCH(Drop!$X$2,Liste!A915)),MAX(Liste!$K$1:'Liste'!K914)+1,\"\")","v":""},{"$f":"IFERROR(INDEX($A$2:$A$1000,MATCH(ROWS($K$2:K915),$K$2:$K$1048576,0)),\"\")","v":""}]
[null,null,null,null,null,null,null,null,null,null,{"$f":"IF(ISNUMBER(SEARCH(Drop!$X$2,Liste!A916)),MAX(Liste!$K$1:'Liste'!K915)+1,\"\")","v":""},{"$f":"IFERROR(INDEX($A$2:$A$1000,MATCH(ROWS($K$2:K916),$K$2:$K$1048576,0)),\"\")","v":""}]
[null,null,null,null,null,null,null,null,null,null,{"$f":"IF(ISNUMBER(SEARCH(Drop!$X$2,Liste!A917)),MAX(Liste!$K$1:'Liste'!K916)+1,\"\")","v":""},{"$f":"IFERROR(INDEX($A$2:$A$1000,MATCH(ROWS($K$2:K917),$K$2:$K$1048576,0)),\"\")","v":""}]
[null,null,null,null,null,null,null,null,null,null,{"$f":"IF(ISNUMBER(SEARCH(Drop!$X$2,Liste!A918)),MAX(Liste!$K$1:'Liste'!K917)+1,\"\")","v":""},{"$f":"IFERROR(INDEX($A$2:$A$1000,MATCH(ROWS($K$2:K918),$K$2:$K$1048576,0)),\"\")","v":""}]
[null,null,null,null,null,null,null,null,null,null,{"$f":"IF(ISNUMBER(SEARCH(Drop!$X$2,Liste!A919)),MAX(Liste!$K$1:'Liste'!K918)+1,\"\")","v":""},{"$f":"IFERROR(INDEX($A$2:$A$1000,MATCH(ROWS($K$2:K919),$K$2:$K$1048576,0)),\"\")","v":""}]
[null,null,null,null,null,null,null,null,null,null,{"$f":"IF(ISNUMBER(SEARCH(Drop!$X$2,Liste!A920)),MAX(Liste!$K$1:'Liste'!K919)+1,\"\")","v":""},{"$f":"IFERROR(INDEX($A$2:$A$1000,MATCH(ROWS($K$2:K920),$K$2:$K$1048576,0)),\"\")","v":""}]
[null,null,null,null,null,null,null,null,null,null,{"$f":"IF(ISNUMBER(SEARCH(Drop!$X$2,Liste!A921)),MAX(Liste!$K$1:'Liste'!K920)+1,\"\")","v":""},{"$f":"IFERROR(INDEX($A$2:$A$1000,MATCH(ROWS($K$2:K921),$K$2:$K$1048576,0)),\"\")","v":""}]
[null,null,null,null,null,null,null,null,null,null,{"$f":"IF(ISNUMBER(SEARCH(Drop!$X$2,Liste!A922)),MAX(Liste!$K$1:'Liste'!K921)+1,\"\")","v":""},{"$f":"IFERROR(INDEX($A$2:$A$1000,MATCH(ROWS($K$2:K922),$K$2:$K$1048576,0)),\"\")","v":""}]
[null,null,null,null,null,null,null,null,null,null,{"$f":"IF(ISNUMBER(SEARCH(Drop!$X$2,Liste!A923)),MAX(Liste!$K$1:'Liste'!K922)+1,\"\")","v":""},{"$f":"IFERROR(INDEX($A$2:$A$1000,MATCH(ROWS($K$2:K923),$K$2:$K$1048576,0)),\"\")","v":""}]
[null,null,null,null,null,null,null,null,null,null,{"$f":"IF(ISNUMBER(SEARCH(Drop!$X$2,Liste!A924)),MAX(Liste!$K$1:'Liste'!K923)+1,\"\")","v":""},{"$f":"IFERROR(INDEX($A$2:$A$1000,MATCH(ROWS($K$2:K924),$K$2:$K$1048576,0)),\"\")","v":""}]
[null,null,null,null,null,null,null,null,null,null,{"$f":"IF(ISNUMBER(SEARCH(Drop!$X$2,Liste!A925)),MAX(Liste!$K$1:'Liste'!K924)+1,\"\")","v":""},{"$f":"IFERROR(INDEX($A$2:$A$1000,MATCH(ROWS($K$2:K925),$K$2:$K$1048576,0)),\"\")","v":""}]
[null,null,null,null,null,null,null,null,null,null,{"$f":"IF(ISNUMBER(SEARCH(Drop!$X$2,Liste!A926)),MAX(Liste!$K$1:'Liste'!K925)+1,\"\")","v":""},{"$f":"IFERROR(INDEX($A$2:$A$1000,MATCH(ROWS($K$2:K926),$K$2:$K$1048576,0)),\"\")","v":""}]
[null,null,null,null,null,null,null,null,null,null,{"$f":"IF(ISNUMBER(SEARCH(Drop!$X$2,Liste!A927)),MAX(Liste!$K$1:'Liste'!K926)+1,\"\")","v":""},{"$f":"IFERROR(INDEX($A$2:$A$1000,MATCH(ROWS($K$2:K927),$K$2:$K$1048576,0)),\"\")","v":""}]
[null,null,null,null,null,null,null,null,null,null,{"$f":"IF(ISNUMBER(SEARCH(Drop!$X$2,Liste!A928)),MAX(Liste!$K$1:'Liste'!K927)+1,\"\")","v":""},{"$f":"IFERROR(INDEX($A$2:$A$1000,MATCH(ROWS($K$2:K928),$K$2:$K$1048576,0)),\"\")","v":""}]
[null,null,null,null,null,null,null,null,null,null,{"$f":"IF(ISNUMBER(SEARCH(Drop!$X$2,Liste!A929)),MAX(Liste!$K$1:'Liste'!K928)+1,\"\")","v":""},{"$f":"IFERROR(INDEX($A$2:$A$1000,MATCH(ROWS($K$2:K929),$K$2:$K$1048576,0)),\"\")","v":""}]
[null,null,null,null,null,null,null,null,null,null,{"$f":"IF(ISNUMBER(SEARCH(Drop!$X$2,Liste!A930)),MAX(Liste!$K$1:'Liste'!K929)+1,\"\")","v":""},{"$f":"IFERROR(INDEX($A$2:$A$1000,MATCH(ROWS($K$2:K930),$K$2:$K$1048576,0)),\"\")","v":""}]
[null,null,null,null,null,null,null,null,null,null,{"$f":"IF(ISNUMBER(SEARCH(Drop!$X$2,Liste!A931)),MAX(Liste!$K$1:'Liste'!K930)+1,\"\")","v":""},{"$f":"IFERROR(INDEX($A$2:$A$1000,MATCH(ROWS($K$2:K931),$K$2:$K$1048576,0)),\"\")","v":""}]
[null,null,null,null,null,null,null,null,null,null,{"$f":"IF(ISNUMBER(SEARCH(Drop!$X$2,Liste!A932)),MAX(Liste!$K$1:'Liste'!K931)+1,\"\")","v":""},{"$f":"IFERROR(INDEX($A$2:$A$1000,MATCH(ROWS($K$2:K932),$K$2:$K$1048576,0)),\"\")","v":""}]
[null,null,null,null,null,null,null,null,null,null,{"$f":"IF(ISNUMBER(SEARCH(Drop!$X$2,Liste!A933)),MAX(Liste!$K$1:'Liste'!K932)+1,\"\")","v":""},{"$f":"IFERROR(INDEX($A$2:$A$1000,MATCH(ROWS($K$2:K933),$K$2:$K$1048576,0)),\"\")","v":""}]
[null,null,null,null,null,null,null,null,null,null,{"$f":"IF(ISNUMBER(SEARCH(Drop!$X$2,Liste!A934)),MAX(Liste!$K$1:'Liste'!K933)+1,\"\")","v":""},{"$f":"IFERROR(INDEX($A$2:$A$1000,MATCH(ROWS($K$2:K934),$K$2:$K$1048576,0)),\"\")","v":""}]
[null,null,null,null,null,null,null,null,null,null,{"$f":"IF(ISNUMBER(SEARCH(Drop!$X$2,Liste!A935)),MAX(Liste!$K$1:'Liste'!K934)+1,\"\")","v":""},{"$f":"IFERROR(INDEX($A$2:$A$1000,MATCH(ROWS($K$2:K935),$K$2:$K$1048576,0)),\"\")","v":""}]
[null,null,null,null,null,null,null,null,null,null,{"$f":"IF(ISNUMBER(SEARCH(Drop!$X$2,Liste!A936)),MAX(Liste!$K$1:'Liste'!K935)+1,\"\")","v":""},{"$f":"IFERROR(INDEX($A$2:$A$1000,MATCH(ROWS($K$2:K936),$K$2:$K$1048576,0)),\"\")","v":""}]
[null,null,null,null,null,null,null,null,null,null,{"$f":"IF(ISNUMBER(SEARCH(Drop!$X$2,Liste!A937)),MAX(Liste!$K$1:'Liste'!K936)+1,\"\")","v":""},{"$f":"IFERROR(INDEX($A$2:$A$1000,MATCH(ROWS($K$2:K937),$K$2:$K$1048576,0)),\"\")","v":""}]
[null,null,null,null,null,null,null,null,null,null,{"$f":"IF(ISNUMBER(SEARCH(Drop!$X$2,Liste!A938)),MAX(Liste!$K$1:'Liste'!K937)+1,\"\")","v":""},{"$f":"IFERROR(INDEX($A$2:$A$1000,MATCH(ROWS($K$2:K938),$K$2:$K$1048576,0)),\"\")","v":""}]
[null,null,null,null,null,null,null,null,null,null,{"$f":"IF(ISNUMBER(SEARCH(Drop!$X$2,Liste!A939)),MAX(Liste!$K$1:'Liste'!K938)+1,\"\")","v":""},{"$f":"IFERROR(INDEX($A$2:$A$1000,MATCH(ROWS($K$2:K939),$K$2:$K$1048576,0)),\"\")","v":""}]
[null,null,null,null,null,null,null,null,null,null,{"$f":"IF(ISNUMBER(SEARCH(Drop!$X$2,Liste!A940)),MAX(Liste!$K$1:'Liste'!K939)+1,\"\")","v":""},{"$f":"IFERROR(INDEX($A$2:$A$1000,MATCH(ROWS($K$2:K940),$K$2:$K$1048576,0)),\"\")","v":""}]
[null,null,null,null,null,null,null,null,null,null,{"$f":"IF(ISNUMBER(SEARCH(Drop!$X$2,Liste!A941)),MAX(Liste!$K$1:'Liste'!K940)+1,\"\")","v":""},{"$f":"IFERROR(INDEX($A$2:$A$1000,MATCH(ROWS($K$2:K941),$K$2:$K$1048576,0)),\"\")","v":""}]
[null,null,null,null,null,null,null,null,null,null,{"$f":"IF(ISNUMBER(SEARCH(Drop!$X$2,Liste!A942)),MAX(Liste!$K$1:'Liste'!K941)+1,\"\")","v":""},{"$f":"IFERROR(INDEX($A$2:$A$1000,MATCH(ROWS($K$2:K942),$K$2:$K$1048576,0)),\"\")","v":""}]
[null,null,null,null,null,null,null,null,null,null,{"$f":"IF(ISNUMBER(SEARCH(Drop!$X$2,Liste!A943)),MAX(Liste!$K$1:'Liste'!K942)+1,\"\")","v":""},{"$f":"IFERROR(INDEX($A$2:$A$1000,MATCH(ROWS($K$2:K943),$K$2:$K$1048576,0)),\"\")","v":""}]
[null,null,null,null,null,null,null,null,null,null,{"$f":"IF(ISNUMBER(SEARCH(Drop!$X$2,Liste!A944)),MAX(Liste!$K$1:'Liste'!K943)+1,\"\")","v":""},{"$f":"IFERROR(INDEX($A$2:$A$1000,MATCH(ROWS($K$2:K944),$K$2:$K$1048576,0)),\"\")","v":""}]
[null,null,null,null,null,null,null,null,null,null,{"$f":"IF(ISNUMBER(SEARCH(Drop!$X$2,Liste!A945)),MAX(Liste!$K$1:'Liste'!K944)+1,\"\")","v":""},{"$f":"IFERROR(INDEX($A$2:$A$1000,MATCH(ROWS($K$2:K945),$K$2:$K$1048576,0)),\"\")","v":""}]
[null,null,null,null,null,null,null,null,null,null,{"$f":"IF(ISNUMBER(SEARCH(Drop!$X$2,Liste!A946)),MAX(Liste!$K$1:'Liste'!K945)+1,\"\")","v":""},{"$f":"IFERROR(INDEX($A$2:$A$1000,MATCH(ROWS($K$2:K946),$K$2:$K$1048576,0)),\"\")","v":""}]
[null,null,null,null,null,null,null,null,null,null,{"$f":"IF(ISNUMBER(SEARCH(Drop!$X$2,Liste!A947)),MAX(Liste!$K$1:'Liste'!K946)+1,\"\")","v":""},{"$f":"IFERROR(INDEX($A$2:$A$1000,MATCH(ROWS($K$2:K947),$K$2:$K$1048576,0)),\"\")","v":""}]
[null,null,null,null,null,null,null,null,null,null,{"$f":"IF(ISNUMBER(SEARCH(Drop!$X$2,Liste!A948)),MAX(Liste!$K$1:'Liste'!K947)+1,\"\")","v":""},{"$f":"IFERROR(INDEX($A$2:$A$1000,MATCH(ROWS($K$2:K948),$K$2:$K$1048576,0)),\"\")","v":""}]
[null,null,null,null,null,null,null,null,null,null,{"$f":"IF(ISNUMBER(SEARCH(Drop!$X$2,Liste!A949)),MAX(Liste!$K$1:'Liste'!K948)+1,\"\")","v":""},{"$f":"IFERROR(INDEX($A$2:$A$1000,MATCH(ROWS($K$2:K949),$K$2:$K$1048576,0)),\"\")","v":""}]
[null,null,null,null,null,null,null,null,null,null,{"$f":"IF(ISNUMBER(SEARCH(Drop!$X$2,Liste!A950)),MAX(Liste!$K$1:'Liste'!K949)+1,\"\")","v":""},{"$f":"IFERROR(INDEX($A$2:$A$1000,MATCH(ROWS($K$2:K950),$K$2:$K$1048576,0)),\"\")","v":""}]
[null,null,null,null,null,null,null,null,null,null,{"$f":"IF(ISNUMBER(SEARCH(Drop!$X$2,Liste!A951)),MAX(Liste!$K$1:'Liste'!K950)+1,\"\")","v":""},{"$f":"IFERROR(INDEX($A$2:$A$1000,MATCH(ROWS($K$2:K951),$K$2:$K$1048576,0)),\"\")","v":""}]
[null,null,null,null,null,null,null,null,null,null,{"$f":"IF(ISNUMBER(SEARCH(Drop!$X$2,Liste!A952)),MAX(Liste!$K$1:'Liste'!K951)+1,\"\")","v":""},{"$f":"IFERROR(INDEX($A$2:$A$1000,MATCH(ROWS($K$2:K952),$K$2:$K$1048576,0)),\"\")","v":""}]
[null,null,null,null,null,null,null,null,null,null,{"$f":"IF(ISNUMBER(SEARCH(Drop!$X$2,Liste!A953)),MAX(Liste!$K$1:'Liste'!K952)+1,\"\")","v":""},{"$f":"IFERROR(INDEX($A$2:$A$1000,MATCH(ROWS($K$2:K953),$K$2:$K$1048576,0)),\"\")","v":""}]
[null,null,null,null,null,null,null,null,null,null,{"$f":"IF(ISNUMBER(SEARCH(Drop!$X$2,Liste!A954)),MAX(Liste!$K$1:'Liste'!K953)+1,\"\")","v":""},{"$f":"IFERROR(INDEX($A$2:$A$1000,MATCH(ROWS($K$2:K954),$K$2:$K$1048576,0)),\"\")","v":""}]
[null,null,null,null,null,null,null,null,null,null,{"$f":"IF(ISNUMBER(SEARCH(Drop!$X$2,Liste!A955)),MAX(Liste!$K$1:'Liste'!K954)+1,\"\")","v":""},{"$f":"IFERROR(INDEX($A$2:$A$1000,MATCH(ROWS($K$2:K955),$K$2:$K$1048576,0)),\"\")","v":""}]
[null,null,null,null,null,null,null,null,null,null,{"$f":"IF(ISNUMBER(SEARCH(Drop!$X$2,Liste!A956)),MAX(Liste!$K$1:'Liste'!K955)+1,\"\")","v":""},{"$f":"IFERROR(INDEX($A$2:$A$1000,MATCH(ROWS($K$2:K956),$K$2:$K$1048576,0)),\"\")","v":""}]
[null,null,null,null,null,null,null,null,null,null,{"$f":"IF(ISNUMBER(SEARCH(Drop!$X$2,Liste!A957)),MAX(Liste!$K$1:'Liste'!K956)+1,\"\")","v":""},{"$f":"IFERROR(INDEX($A$2:$A$1000,MATCH(ROWS($K$2:K957),$K$2:$K$1048576,0)),\"\")","v":""}]
[null,null,null,null,null,null,null,null,null,null,{"$f":"IF(ISNUMBER(SEARCH(Drop!$X$2,Liste!A958)),MAX(Liste!$K$1:'Liste'!K957)+1,\"\")","v":""},{"$f":"IFERROR(INDEX($A$2:$A$1000,MATCH(ROWS($K$2:K958),$K$2:$K$1048576,0)),\"\")","v":""}]
[null,null,null,null,null,null,null,null,null,null,{"$f":"IF(ISNUMBER(SEARCH(Drop!$X$2,Liste!A959)),MAX(Liste!$K$1:'Liste'!K958)+1,\"\")","v":""},{"$f":"IFERROR(INDEX($A$2:$A$1000,MATCH(ROWS($K$2:K959),$K$2:$K$1048576,0)),\"\")","v":""}]
[null,null,null,null,null,null,null,null,null,null,{"$f":"IF(ISNUMBER(SEARCH(Drop!$X$2,Liste!A960)),MAX(Liste!$K$1:'Liste'!K959)+1,\"\")","v":""},{"$f":"IFERROR(INDEX($A$2:$A$1000,MATCH(ROWS($K$2:K960),$K$2:$K$1048576,0)),\"\")","v":""}]
[null,null,null,null,null,null,null,null,null,null,{"$f":"IF(ISNUMBER(SEARCH(Drop!$X$2,Liste!A961)),MAX(Liste!$K$1:'Liste'!K960)+1,\"\")","v":""},{"$f":"IFERROR(INDEX($A$2:$A$1000,MATCH(ROWS($K$2:K961),$K$2:$K$1048576,0)),\"\")","v":""}]
[null,null,null,null,null,null,null,null,null,null,{"$f":"IF(ISNUMBER(SEARCH(Drop!$X$2,Liste!A962)),MAX(Liste!$K$1:'Liste'!K961)+1,\"\")","v":""},{"$f":"IFERROR(INDEX($A$2:$A$1000,MATCH(ROWS($K$2:K962),$K$2:$K$1048576,0)),\"\")","v":""}]
[null,null,null,null,null,null,null,null,null,null,{"$f":"IF(ISNUMBER(SEARCH(Drop!$X$2,Liste!A963)),MAX(Liste!$K$1:'Liste'!K962)+1,\"\")","v":""},{"$f":"IFERROR(INDEX($A$2:$A$1000,MATCH(ROWS($K$2:K963),$K$2:$K$1048576,0)),\"\")","v":""}]
[null,null,null,null,null,null,null,null,null,null,{"$f":"IF(ISNUMBER(SEARCH(Drop!$X$2,Liste!A964)),MAX(Liste!$K$1:'Liste'!K963)+1,\"\")","v":""},{"$f":"IFERROR(INDEX($A$2:$A$1000,MATCH(ROWS($K$2:K964),$K$2:$K$1048576,0)),\"\")","v":""}]
[null,null,null,null,null,null,null,null,null,null,{"$f":"IF(ISNUMBER(SEARCH(Drop!$X$2,Liste!A965)),MAX(Liste!$K$1:'Liste'!K964)+1,\"\")","v":""},{"$f":"IFERROR(INDEX($A$2:$A$1000,MATCH(ROWS($K$2:K965),$K$2:$K$1048576,0)),\"\")","v":""}]
[null,null,null,null,null,null,null,null,null,null,{"$f":"IF(ISNUMBER(SEARCH(Drop!$X$2,Liste!A966)),MAX(Liste!$K$1:'Liste'!K965)+1,\"\")","v":""},{"$f":"IFERROR(INDEX($A$2:$A$1000,MATCH(ROWS($K$2:K966),$K$2:$K$1048576,0)),\"\")","v":""}]
[null,null,null,null,null,null,null,null,null,null,{"$f":"IF(ISNUMBER(SEARCH(Drop!$X$2,Liste!A967)),MAX(Liste!$K$1:'Liste'!K966)+1,\"\")","v":""},{"$f":"IFERROR(INDEX($A$2:$A$1000,MATCH(ROWS($K$2:K967),$K$2:$K$1048576,0)),\"\")","v":""}]
[null,null,null,null,null,null,null,null,null,null,{"$f":"IF(ISNUMBER(SEARCH(Drop!$X$2,Liste!A968)),MAX(Liste!$K$1:'Liste'!K967)+1,\"\")","v":""},{"$f":"IFERROR(INDEX($A$2:$A$1000,MATCH(ROWS($K$2:K968),$K$2:$K$1048576,0)),\"\")","v":""}]
[null,null,null,null,null,null,null,null,null,null,{"$f":"IF(ISNUMBER(SEARCH(Drop!$X$2,Liste!A969)),MAX(Liste!$K$1:'Liste'!K968)+1,\"\")","v":""},{"$f":"IFERROR(INDEX($A$2:$A$1000,MATCH(ROWS($K$2:K969),$K$2:$K$1048576,0)),\"\")","v":""}]
[null,null,null,null,null,null,null,null,null,null,{"$f":"IF(ISNUMBER(SEARCH(Drop!$X$2,Liste!A970)),MAX(Liste!$K$1:'Liste'!K969)+1,\"\")","v":""},{"$f":"IFERROR(INDEX($A$2:$A$1000,MATCH(ROWS($K$2:K970),$K$2:$K$1048576,0)),\"\")","v":""}]
[null,null,null,null,null,null,null,null,null,null,{"$f":"IF(ISNUMBER(SEARCH(Drop!$X$2,Liste!A971)),MAX(Liste!$K$1:'Liste'!K970)+1,\"\")","v":""},{"$f":"IFERROR(INDEX($A$2:$A$1000,MATCH(ROWS($K$2:K971),$K$2:$K$1048576,0)),\"\")","v":""}]
[null,null,null,null,null,null,null,null,null,null,{"$f":"IF(ISNUMBER(SEARCH(Drop!$X$2,Liste!A972)),MAX(Liste!$K$1:'Liste'!K971)+1,\"\")","v":""},{"$f":"IFERROR(INDEX($A$2:$A$1000,MATCH(ROWS($K$2:K972),$K$2:$K$1048576,0)),\"\")","v":""}]
[null,null,null,null,null,null,null,null,null,null,{"$f":"IF(ISNUMBER(SEARCH(Drop!$X$2,Liste!A973)),MAX(Liste!$K$1:'Liste'!K972)+1,\"\")","v":""},{"$f":"IFERROR(INDEX($A$2:$A$1000,MATCH(ROWS($K$2:K973),$K$2:$K$1048576,0)),\"\")","v":""}]
[null,null,null,null,null,null,null,null,null,null,{"$f":"IF(ISNUMBER(SEARCH(Drop!$X$2,Liste!A974)),MAX(Liste!$K$1:'Liste'!K973)+1,\"\")","v":""},{"$f":"IFERROR(INDEX($A$2:$A$1000,MATCH(ROWS($K$2:K974),$K$2:$K$1048576,0)),\"\")","v":""}]
[null,null,null,null,null,null,null,null,null,null,{"$f":"IF(ISNUMBER(SEARCH(Drop!$X$2,Liste!A975)),MAX(Liste!$K$1:'Liste'!K974)+1,\"\")","v":""},{"$f":"IFERROR(INDEX($A$2:$A$1000,MATCH(ROWS($K$2:K975),$K$2:$K$1048576,0)),\"\")","v":""}]
[null,null,null,null,null,null,null,null,null,null,{"$f":"IF(ISNUMBER(SEARCH(Drop!$X$2,Liste!A976)),MAX(Liste!$K$1:'Liste'!K975)+1,\"\")","v":""},{"$f":"IFERROR(INDEX($A$2:$A$1000,MATCH(ROWS($K$2:K976),$K$2:$K$1048576,0)),\"\")","v":""}]
[null,null,null,null,null,null,null,null,null,null,{"$f":"IF(ISNUMBER(SEARCH(Drop!$X$2,Liste!A977)),MAX(Liste!$K$1:'Liste'!K976)+1,\"\")","v":""},{"$f":"IFERROR(INDEX($A$2:$A$1000,MATCH(ROWS($K$2:K977),$K$2:$K$1048576,0)),\"\")","v":""}]
[null,null,null,null,null,null,null,null,null,null,{"$f":"IF(ISNUMBER(SEARCH(Drop!$X$2,Liste!A978)),MAX(Liste!$K$1:'Liste'!K977)+1,\"\")","v":""},{"$f":"IFERROR(INDEX($A$2:$A$1000,MATCH(ROWS($K$2:K978),$K$2:$K$1048576,0)),\"\")","v":""}]
[null,null,null,null,null,null,null,null,null,null,{"$f":"IF(ISNUMBER(SEARCH(Drop!$X$2,Liste!A979)),MAX(Liste!$K$1:'Liste'!K978)+1,\"\")","v":""},{"$f":"IFERROR(INDEX($A$2:$A$1000,MATCH(ROWS($K$2:K979),$K$2:$K$1048576,0)),\"\")","v":""}]
[null,null,null,null,null,null,null,null,null,null,{"$f":"IF(ISNUMBER(SEARCH(Drop!$X$2,Liste!A980)),MAX(Liste!$K$1:'Liste'!K979)+1,\"\")","v":""},{"$f":"IFERROR(INDEX($A$2:$A$1000,MATCH(ROWS($K$2:K980),$K$2:$K$1048576,0)),\"\")","v":""}]
[null,null,null,null,null,null,null,null,null,null,{"$f":"IF(ISNUMBER(SEARCH(Drop!$X$2,Liste!A981)),MAX(Liste!$K$1:'Liste'!K980)+1,\"\")","v":""},{"$f":"IFERROR(INDEX($A$2:$A$1000,MATCH(ROWS($K$2:K981),$K$2:$K$1048576,0)),\"\")","v":""}]
[null,null,null,null,null,null,null,null,null,null,{"$f":"IF(ISNUMBER(SEARCH(Drop!$X$2,Liste!A982)),MAX(Liste!$K$1:'Liste'!K981)+1,\"\")","v":""},{"$f":"IFERROR(INDEX($A$2:$A$1000,MATCH(ROWS($K$2:K982),$K$2:$K$1048576,0)),\"\")","v":""}]
[null,null,null,null,null,null,null,null,null,null,{"$f":"IF(ISNUMBER(SEARCH(Drop!$X$2,Liste!A983)),MAX(Liste!$K$1:'Liste'!K982)+1,\"\")","v":""},{"$f":"IFERROR(INDEX($A$2:$A$1000,MATCH(ROWS($K$2:K983),$K$2:$K$1048576,0)),\"\")","v":""}]
[null,null,null,null,null,null,null,null,null,null,{"$f":"IF(ISNUMBER(SEARCH(Drop!$X$2,Liste!A984)),MAX(Liste!$K$1:'Liste'!K983)+1,\"\")","v":""},{"$f":"IFERROR(INDEX($A$2:$A$1000,MATCH(ROWS($K$2:K984),$K$2:$K$1048576,0)),\"\")","v":""}]
[null,null,null,null,null,null,null,null,null,null,{"$f":"IF(ISNUMBER(SEARCH(Drop!$X$2,Liste!A985)),MAX(Liste!$K$1:'Liste'!K984)+1,\"\")","v":""},{"$f":"IFERROR(INDEX($A$2:$A$1000,MATCH(ROWS($K$2:K985),$K$2:$K$1048576,0)),\"\")","v":""}]
[null,null,null,null,null,null,null,null,null,null,{"$f":"IF(ISNUMBER(SEARCH(Drop!$X$2,Liste!A986)),MAX(Liste!$K$1:'Liste'!K985)+1,\"\")","v":""},{"$f":"IFERROR(INDEX($A$2:$A$1000,MATCH(ROWS($K$2:K986),$K$2:$K$1048576,0)),\"\")","v":""}]
[null,null,null,null,null,null,null,null,null,null,{"$f":"IF(ISNUMBER(SEARCH(Drop!$X$2,Liste!A987)),MAX(Liste!$K$1:'Liste'!K986)+1,\"\")","v":""},{"$f":"IFERROR(INDEX($A$2:$A$1000,MATCH(ROWS($K$2:K987),$K$2:$K$1048576,0)),\"\")","v":""}]
[null,null,null,null,null,null,null,null,null,null,{"$f":"IF(ISNUMBER(SEARCH(Drop!$X$2,Liste!A988)),MAX(Liste!$K$1:'Liste'!K987)+1,\"\")","v":""},{"$f":"IFERROR(INDEX($A$2:$A$1000,MATCH(ROWS($K$2:K988),$K$2:$K$1048576,0)),\"\")","v":""}]
[null,null,null,null,null,null,null,null,null,null,{"$f":"IF(ISNUMBER(SEARCH(Drop!$X$2,Liste!A989)),MAX(Liste!$K$1:'Liste'!K988)+1,\"\")","v":""},{"$f":"IFERROR(INDEX($A$2:$A$1000,MATCH(ROWS($K$2:K989),$K$2:$K$1048576,0)),\"\")","v":""}]
[null,null,null,null,null,null,null,null,null,null,{"$f":"IF(ISNUMBER(SEARCH(Drop!$X$2,Liste!A990)),MAX(Liste!$K$1:'Liste'!K989)+1,\"\")","v":""},{"$f":"IFERROR(INDEX($A$2:$A$1000,MATCH(ROWS($K$2:K990),$K$2:$K$1048576,0)),\"\")","v":""}]
[null,null,null,null,null,null,null,null,null,null,{"$f":"IF(ISNUMBER(SEARCH(Drop!$X$2,Liste!A991)),MAX(Liste!$K$1:'Liste'!K990)+1,\"\")","v":""},{"$f":"IFERROR(INDEX($A$2:$A$1000,MATCH(ROWS($K$2:K991),$K$2:$K$1048576,0)),\"\")","v":""}]
[null,null,null,null,null,null,null,null,null,null,{"$f":"IF(ISNUMBER(SEARCH(Drop!$X$2,Liste!A992)),MAX(Liste!$K$1:'Liste'!K991)+1,\"\")","v":""},{"$f":"IFERROR(INDEX($A$2:$A$1000,MATCH(ROWS($K$2:K992),$K$2:$K$1048576,0)),\"\")","v":""}]
[null,null,null,null,null,null,null,null,null,null,{"$f":"IF(ISNUMBER(SEARCH(Drop!$X$2,Liste!A993)),MAX(Liste!$K$1:'Liste'!K992)+1,\"\")","v":""},{"$f":"IFERROR(INDEX($A$2:$A$1000,MATCH(ROWS($K$2:K993),$K$2:$K$1048576,0)),\"\")","v":""}]
[null,null,null,null,null,null,null,null,null,null,{"$f":"IF(ISNUMBER(SEARCH(Drop!$X$2,Liste!A994)),MAX(Liste!$K$1:'Liste'!K993)+1,\"\")","v":""},{"$f":"IFERROR(INDEX($A$2:$A$1000,MATCH(ROWS($K$2:K994),$K$2:$K$1048576,0)),\"\")","v":""}]
[null,null,null,null,null,null,null,null,null,null,{"$f":"IF(ISNUMBER(SEARCH(Drop!$X$2,Liste!A995)),MAX(Liste!$K$1:'Liste'!K994)+1,\"\")","v":""},{"$f":"IFERROR(INDEX($A$2:$A$1000,MATCH(ROWS($K$2:K995),$K$2:$K$1048576,0)),\"\")","v":""}]
[null,null,null,null,null,null,null,null,null,null,{"$f":"IF(ISNUMBER(SEARCH(Drop!$X$2,Liste!A996)),MAX(Liste!$K$1:'Liste'!K995)+1,\"\")","v":""},{"$f":"IFERROR(INDEX($A$2:$A$1000,MATCH(ROWS($K$2:K996),$K$2:$K$1048576,0)),\"\")","v":""}]
[null,null,null,null,null,null,null,null,null,null,{"$f":"IF(ISNUMBER(SEARCH(Drop!$X$2,Liste!A997)),MAX(Liste!$K$1:'Liste'!K996)+1,\"\")","v":""},{"$f":"IFERROR(INDEX($A$2:$A$1000,MATCH(ROWS($K$2:K997),$K$2:$K$1048576,0)),\"\")","v":""}]
[null,null,null,null,null,null,null,null,null,null,{"$f":"IF(ISNUMBER(SEARCH(Drop!$X$2,Liste!A998)),MAX(Liste!$K$1:'Liste'!K997)+1,\"\")","v":""},{"$f":"IFERROR(INDEX($A$2:$A$1000,MATCH(ROWS($K$2:K998),$K$2:$K$1048576,0)),\"\")","v":""}]
[null,null,null,null,null,null,null,null,null,null,{"$f":"IF(ISNUMBER(SEARCH(Drop!$X$2,Liste!A999)),MAX(Liste!$K$1:'Liste'!K998)+1,\"\")","v":""},{"$f":"IFERROR(INDEX($A$2:$A$1000,MATCH(ROWS($K$2:K999),$K$2:$K$1048576,0)),\"\")","v":""}]
[null,null,null,null,null,null,null,null,null,null,{"$f":"IF(ISNUMBER(SEARCH(Drop!$X$2,Liste!A1000)),MAX(Liste!$K$1:'Liste'!K999)+1,\"\")","v":""},{"$f":"IFERROR(INDEX($A$2:$A$1000,MATCH(ROWS($K$2:K1000),$K$2:$K$1048576,0)),\"\")","v":""}]