{"text_format":"1","workbook":"xlsx","n_sheets":14,"sheets":["januar","februar","marts","april","maj","juni","juli","august","september","oktober","november","december","Variable","Decentral"],"not_rendered":{"charts":0,"images":0,"macros":1,"external_links":0,"defined_names":0,"comments":0,"pivot_tables":0},"unopened":[],"bounds":{"document_bytes":16777216,"sheet_cells":100000,"rows_first":2000,"rows_last":500,"rows_between":2000,"halvings":0,"cell_chars":16384,"cell_head_chars":4096},"cells_cut":0,"cells_raw":0,"read":"whole","date_system":"1900"}

{"sheet":"januar","index":0,"n_rows":56,"n_cols":16,"rows_kept":56,"cut":false,"hidden":false,"merged":[]}
["Medarb. nr.","Navn","Selsk.","Bonus 1181 Kr.","Tekst","Udlæg 9100 Kr.","Tekst","Fradr. net 9471 Kr.","Tekst","Fratrædg. 5500 Kr.","Km-godt. 9011 Km.","Km-godtg. - Tekst","25% Rejseg. 9030 Kr.","Rejseg. Tekst","Timelønnede\nantal timer","Kommentarer"]
[10035,"Pia",1]
[10299,"Inge",1]
[10912,"Anette",1]
[10923,"John",1]
[10947,"Bente",1]
[]
[10946,"Dorte",6]
[31917,"Pontus",6,null,null,null,null,null,null,null,null,null,-3331.04,"Dobbelt okt/nov."]
[60027,"Martin",6,null,null,null,null,null,null,null,null,null,-123.23,"Dobbelt okt/nov."]
[60027,"Martin",6,null,null,null,null,null,null,null,null,null,1194.3800000000001,"Sept.Okt."]
[60027,"Martin",6]
[60132,"Kent",6]
[60909,"Martin",6]
[60910,"Birgitte",6]
[60912,"Mette",6]
[60913,"Henriette",6]
[60919,"Ralph",6]
[60920,"Jette",6]
[60921,"Thomas",6]
[]
[80010,"Peder",8,6179,"Bonus Q2 iflg aftale"]
[80011,"Henrik",8]
[80012,"Poul",8]
[80013,"Rune",8]
[80014,"Peter",8]
[80016,"Martin",8]
[80017,"Camilla",8]
[80018,"Birgit",8]
[80019,"Amalie",8]
[80020,"Steffen",8]
[]
[]
[90001,"Jens",9,null,null,462.29,"Faktura 25"]
[90003,"Peter",9]
[]
[100001,"Thor",10]
[100002,"Lita",10]
[100003,"Bettina",10]
[100004,"Erik",10,null,null,null,null,null,null,null,null,null,137.44999999999999,"Oslo"]
[100007,"Nete",10,null,null,null,null,null,null,null,null,null,1004.79,"Singapore/Hongkong"]
[100011,"Milos",10]
[100012,"Lars",10]
[100013,"Brian",10]
[100014,"Andreas",10]
[100015,"Bent",10]
[]
[60140,"Torben",11,63750,"Bonus 2011 iflg. Aftale",null,null,43,"Køb af GBP",null,null,null,-137.44999999999999,"Dobbelt okt/nov"]
[60159,"Kirstine",11,null,null,null,null,null,null,null,null,null,450.26,"Geneve Berlin"]
[60175,"Søren",11]
[60903,"Jacob",11]
[60915,"Camilla",11]
[60916,"Mette",11]
[100009,"Kenneth",11,null,null,null,null,null,null,null,null,null,-161.15,"Dobbelt okt/nov"]
[100009,"Kenneth",11,null,null,null,null,null,null,null,null,null,213.28,"Norge"]
[110003,"Kaspar",11]

{"sheet":"februar","index":1,"n_rows":56,"n_cols":16,"rows_kept":56,"cut":false,"hidden":false,"merged":[]}
["Medarb. nr.","Navn","Selsk.","Bonus 1181 Kr.","Tekst","Udlæg 9100 Kr.","Tekst","Fradr. net 9471 Kr.","Tekst","Fratrædg. 5500 Kr.","Km-godt. 9011 Km.","Km-godtg. - Tekst","25% Rejseg. 9030 Kr.","Rejseg. Tekst","Timelønnede\nantal timer","Kommentarer"]
[10035,"Pia",1]
[10299,"Inge",1]
[10912,"Anette",1]
[10923,"John",1]
[10947,"Bente",1]
[]
[10946,"Dorte",6]
[31917,"Pontus",6]
[60027,"Martin",6]
[60027,"Martin",6]
[60027,"Martin",6]
[60132,"Kent",6]
[60909,"Martin",6]
[60910,"Birgitte",6]
[60912,"Mette",6]
[60913,"Henriette",6]
[60919,"Ralph",6]
[60920,"Jette",6]
[60921,"Thomas",6]
[]
[80010,"Peder",8]
[80011,"Henrik",8]
[80012,"Poul",8]
[80013,"Rune",8]
[80014,"Peter",8]
[80016,"Martin",8]
[80017,"Camilla",8]
[80018,"Birgit",8]
[80019,"Amalie",8]
[80020,"Steffen",8]
[]
[]
[90001,"Jens",9]
[90003,"Peter",9]
[]
[100001,"Thor",10]
[100002,"Lita",10]
[100003,"Bettina",10]
[100004,"Erik",10]
[100007,"Nete",10]
[100011,"Milos",10]
[100012,"Lars",10]
[100013,"Brian",10]
[100014,"Andreas",10]
[100015,"Bent",10]
[]
[60140,"Torben",11]
[60159,"Kirstine",11]
[60175,"Søren",11]
[60903,"Jacob",11]
[60915,"Camilla",11]
[60916,"Mette",11]
[100009,"Kenneth",11]
[100009,"Kenneth",11]
[110003,"Kaspar",11]

{"sheet":"marts","index":2,"n_rows":56,"n_cols":16,"rows_kept":56,"cut":false,"hidden":false,"merged":[]}
["Medarb. nr.","Navn","Selsk.","Bonus 1181 Kr.","Tekst","Udlæg 9100 Kr.","Tekst","Fradr. net 9471 Kr.","Tekst","Fratrædg. 5500 Kr.","Km-godt. 9011 Km.","Km-godtg. - Tekst","25% Rejseg. 9030 Kr.","Rejseg. Tekst","Timelønnede\nantal timer","Kommentarer"]
[10035,"Pia",1]
[10299,"Inge",1]
[10912,"Anette",1]
[10923,"John",1]
[10947,"Bente",1]
[]
[10946,"Dorte",6]
[31917,"Pontus",6]
[60027,"Martin",6]
[60027,"Martin",6]
[60027,"Martin",6]
[60132,"Kent",6]
[60909,"Martin",6]
[60910,"Birgitte",6]
[60912,"Mette",6]
[60913,"Henriette",6]
[60919,"Ralph",6]
[60920,"Jette",6]
[60921,"Thomas",6]
[]
[80010,"Peder",8]
[80011,"Henrik",8]
[80012,"Poul",8]
[80013,"Rune",8]
[80014,"Peter",8]
[80016,"Martin",8]
[80017,"Camilla",8]
[80018,"Birgit",8]
[80019,"Amalie",8]
[80020,"Steffen",8]
[]
[]
[90001,"Jens",9]
[90003,"Peter",9]
[]
[100001,"Thor",10]
[100002,"Lita",10]
[100003,"Bettina",10]
[100004,"Erik",10]
[100007,"Nete",10]
[100011,"Milos",10]
[100012,"Lars",10]
[100013,"Brian",10]
[100014,"Andreas",10]
[100015,"Bent",10]
[]
[60140,"Torben",11]
[60159,"Kirstine",11]
[60175,"Søren",11]
[60903,"Jacob",11]
[60915,"Camilla",11]
[60916,"Mette",11]
[100009,"Kenneth",11]
[100009,"Kenneth",11]
[110003,"Kaspar",11]

{"sheet":"april","index":3,"n_rows":56,"n_cols":16,"rows_kept":56,"cut":false,"hidden":false,"merged":[]}
["Medarb. nr.","Navn","Selsk.","Bonus 1181 Kr.","Tekst","Udlæg 9100 Kr.","Tekst","Fradr. net 9471 Kr.","Tekst","Fratrædg. 5500 Kr.","Km-godt. 9011 Km.","Km-godtg. - Tekst","25% Rejseg. 9030 Kr.","Rejseg. Tekst","Timelønnede\nantal timer","Kommentarer"]
[10035,"Pia",1]
[10299,"Inge",1]
[10912,"Anette",1]
[10923,"John",1]
[10947,"Bente",1]
[]
[10946,"Dorte",6]
[31917,"Pontus",6]
[60027,"Martin",6]
[60027,"Martin",6]
[60027,"Martin",6]
[60132,"Kent",6]
[60909,"Martin",6]
[60910,"Birgitte",6]
[60912,"Mette",6]
[60913,"Henriette",6]
[60919,"Ralph",6]
[60920,"Jette",6]
[60921,"Thomas",6]
[]
[80010,"Peder",8]
[80011,"Henrik",8]
[80012,"Poul",8]
[80013,"Rune",8]
[80014,"Peter",8]
[80016,"Martin",8]
[80017,"Camilla",8]
[80018,"Birgit",8]
[80019,"Amalie",8]
[80020,"Steffen",8]
[]
[]
[90001,"Jens",9]
[90003,"Peter",9]
[]
[100001,"Thor",10]
[100002,"Lita",10]
[100003,"Bettina",10]
[100004,"Erik",10]
[100007,"Nete",10]
[100011,"Milos",10]
[100012,"Lars",10]
[100013,"Brian",10]
[100014,"Andreas",10]
[100015,"Bent",10]
[]
[60140,"Torben",11]
[60159,"Kirstine",11]
[60175,"Søren",11]
[60903,"Jacob",11]
[60915,"Camilla",11]
[60916,"Mette",11]
[100009,"Kenneth",11]
[100009,"Kenneth",11]
[110003,"Kaspar",11]

{"sheet":"maj","index":4,"n_rows":56,"n_cols":16,"rows_kept":56,"cut":false,"hidden":false,"merged":[]}
["Medarb. nr.","Navn","Selsk.","Bonus 1181 Kr.","Tekst","Udlæg 9100 Kr.","Tekst","Fradr. net 9471 Kr.","Tekst","Fratrædg. 5500 Kr.","Km-godt. 9011 Km.","Km-godtg. - Tekst","25% Rejseg. 9030 Kr.","Rejseg. Tekst","Timelønnede\nantal timer","Kommentarer"]
[10035,"Pia",1]
[10299,"Inge",1]
[10912,"Anette",1]
[10923,"John",1]
[10947,"Bente",1]
[]
[10946,"Dorte",6]
[31917,"Pontus",6]
[60027,"Martin",6]
[60027,"Martin",6]
[60027,"Martin",6]
[60132,"Kent",6]
[60909,"Martin",6]
[60910,"Birgitte",6]
[60912,"Mette",6]
[60913,"Henriette",6]
[60919,"Ralph",6]
[60920,"Jette",6]
[60921,"Thomas",6]
[]
[80010,"Peder",8]
[80011,"Henrik",8]
[80012,"Poul",8]
[80013,"Rune",8]
[80014,"Peter",8]
[80016,"Martin",8]
[80017,"Camilla",8]
[80018,"Birgit",8]
[80019,"Amalie",8]
[80020,"Steffen",8]
[]
[]
[90001,"Jens",9]
[90003,"Peter",9]
[]
[100001,"Thor",10]
[100002,"Lita",10]
[100003,"Bettina",10]
[100004,"Erik",10]
[100007,"Nete",10]
[100011,"Milos",10]
[100012,"Lars",10]
[100013,"Brian",10]
[100014,"Andreas",10]
[100015,"Bent",10]
[]
[60140,"Torben",11]
[60159,"Kirstine",11]
[60175,"Søren",11]
[60903,"Jacob",11]
[60915,"Camilla",11]
[60916,"Mette",11]
[100009,"Kenneth",11]
[100009,"Kenneth",11]
[110003,"Kaspar",11]

{"sheet":"juni","index":5,"n_rows":56,"n_cols":16,"rows_kept":56,"cut":false,"hidden":false,"merged":[]}
["Medarb. nr.","Navn","Selsk.","Bonus 1181 Kr.","Tekst","Udlæg 9100 Kr.","Tekst","Fradr. net 9471 Kr.","Tekst","Fratrædg. 5500 Kr.","Km-godt. 9011 Km.","Km-godtg. - Tekst","25% Rejseg. 9030 Kr.","Rejseg. Tekst","Timelønnede\nantal timer","Kommentarer"]
[10035,"Pia",1]
[10299,"Inge",1]
[10912,"Anette",1]
[10923,"John",1]
[10947,"Bente",1]
[]
[10946,"Dorte",6]
[31917,"Pontus",6]
[60027,"Martin",6]
[60027,"Martin",6]
[60027,"Martin",6]
[60132,"Kent",6]
[60909,"Martin",6]
[60910,"Birgitte",6]
[60912,"Mette",6]
[60913,"Henriette",6]
[60919,"Ralph",6]
[60920,"Jette",6]
[60921,"Thomas",6]
[]
[80010,"Peder",8]
[80011,"Henrik",8]
[80012,"Poul",8]
[80013,"Rune",8]
[80014,"Peter",8]
[80016,"Martin",8]
[80017,"Camilla",8]
[80018,"Birgit",8]
[80019,"Amalie",8]
[80020,"Steffen",8]
[]
[]
[90001,"Jens",9]
[90003,"Peter",9]
[]
[100001,"Thor",10]
[100002,"Lita",10]
[100003,"Bettina",10]
[100004,"Erik",10]
[100007,"Nete",10]
[100011,"Milos",10]
[100012,"Lars",10]
[100013,"Brian",10]
[100014,"Andreas",10]
[100015,"Bent",10]
[]
[60140,"Torben",11]
[60159,"Kirstine",11]
[60175,"Søren",11]
[60903,"Jacob",11]
[60915,"Camilla",11]
[60916,"Mette",11]
[100009,"Kenneth",11]
[100009,"Kenneth",11]
[110003,"Kaspar",11]

{"sheet":"juli","index":6,"n_rows":56,"n_cols":16,"rows_kept":56,"cut":false,"hidden":false,"merged":[]}
["Medarb. nr.","Navn","Selsk.","Bonus 1181 Kr.","Tekst","Udlæg 9100 Kr.","Tekst","Fradr. net 9471 Kr.","Tekst","Fratrædg. 5500 Kr.","Km-godt. 9011 Km.","Km-godtg. - Tekst","25% Rejseg. 9030 Kr.","Rejseg. Tekst","Timelønnede\nantal timer","Kommentarer"]
[10035,"Pia",1]
[10299,"Inge",1]
[10912,"Anette",1]
[10923,"John",1]
[10947,"Bente",1]
[]
[10946,"Dorte",6]
[31917,"Pontus",6]
[60027,"Martin",6]
[60027,"Martin",6]
[60027,"Martin",6]
[60132,"Kent",6]
[60909,"Martin",6]
[60910,"Birgitte",6]
[60912,"Mette",6]
[60913,"Henriette",6]
[60919,"Ralph",6]
[60920,"Jette",6]
[60921,"Thomas",6]
[]
[80010,"Peder",8]
[80011,"Henrik",8]
[80012,"Poul",8]
[80013,"Rune",8]
[80014,"Peter",8]
[80016,"Martin",8]
[80017,"Camilla",8]
[80018,"Birgit",8]
[80019,"Amalie",8]
[80020,"Steffen",8]
[]
[]
[90001,"Jens",9]
[90003,"Peter",9]
[]
[100001,"Thor",10]
[100002,"Lita",10]
[100003,"Bettina",10]
[100004,"Erik",10]
[100007,"Nete",10]
[100011,"Milos",10]
[100012,"Lars",10]
[100013,"Brian",10]
[100014,"Andreas",10]
[100015,"Bent",10]
[]
[60140,"Torben",11]
[60159,"Kirstine",11]
[60175,"Søren",11]
[60903,"Jacob",11]
[60915,"Camilla",11]
[60916,"Mette",11]
[100009,"Kenneth",11]
[100009,"Kenneth",11]
[110003,"Kaspar",11]

{"sheet":"august","index":7,"n_rows":56,"n_cols":16,"rows_kept":56,"cut":false,"hidden":false,"merged":[]}
["Medarb. nr.","Navn","Selsk.","Bonus 1181 Kr.","Tekst","Udlæg 9100 Kr.","Tekst","Fradr. net 9471 Kr.","Tekst","Fratrædg. 5500 Kr.","Km-godt. 9011 Km.","Km-godtg. - Tekst","25% Rejseg. 9030 Kr.","Rejseg. Tekst","Timelønnede\nantal timer","Kommentarer"]
[10035,"Pia",1]
[10299,"Inge",1]
[10912,"Anette",1]
[10923,"John",1]
[10947,"Bente",1]
[]
[10946,"Dorte",6]
[31917,"Pontus",6]
[60027,"Martin",6]
[60027,"Martin",6]
[60027,"Martin",6]
[60132,"Kent",6]
[60909,"Martin",6]
[60910,"Birgitte",6]
[60912,"Mette",6]
[60913,"Henriette",6]
[60919,"Ralph",6]
[60920,"Jette",6]
[60921,"Thomas",6]
[]
[80010,"Peder",8]
[80011,"Henrik",8]
[80012,"Poul",8]
[80013,"Rune",8]
[80014,"Peter",8]
[80016,"Martin",8]
[80017,"Camilla",8]
[80018,"Birgit",8]
[80019,"Amalie",8]
[80020,"Steffen",8]
[]
[]
[90001,"Jens",9]
[90003,"Peter",9]
[]
[100001,"Thor",10]
[100002,"Lita",10]
[100003,"Bettina",10]
[100004,"Erik",10]
[100007,"Nete",10]
[100011,"Milos",10]
[100012,"Lars",10]
[100013,"Brian",10]
[100014,"Andreas",10]
[100015,"Bent",10]
[]
[60140,"Torben",11]
[60159,"Kirstine",11]
[60175,"Søren",11]
[60903,"Jacob",11]
[60915,"Camilla",11]
[60916,"Mette",11]
[100009,"Kenneth",11]
[100009,"Kenneth",11]
[110003,"Kaspar",11]

{"sheet":"september","index":8,"n_rows":56,"n_cols":16,"rows_kept":56,"cut":false,"hidden":false,"merged":[]}
["Medarb. nr.","Navn","Selsk.","Bonus 1181 Kr.","Tekst","Udlæg 9100 Kr.","Tekst","Fradr. net 9471 Kr.","Tekst","Fratrædg. 5500 Kr.","Km-godt. 9011 Km.","Km-godtg. - Tekst","25% Rejseg. 9030 Kr.","Rejseg. Tekst","Timelønnede\nantal timer","Kommentarer"]
[10035,"Pia",1]
[10299,"Inge",1]
[10912,"Anette",1]
[10923,"John",1]
[10947,"Bente",1]
[]
[10946,"Dorte",6]
[31917,"Pontus",6]
[60027,"Martin",6]
[60027,"Martin",6]
[60027,"Martin",6]
[60132,"Kent",6]
[60909,"Martin",6]
[60910,"Birgitte",6]
[60912,"Mette",6]
[60913,"Henriette",6]
[60919,"Ralph",6]
[60920,"Jette",6]
[60921,"Thomas",6]
[]
[80010,"Peder",8]
[80011,"Henrik",8]
[80012,"Poul",8]
[80013,"Rune",8]
[80014,"Peter",8]
[80016,"Martin",8]
[80017,"Camilla",8]
[80018,"Birgit",8]
[80019,"Amalie",8]
[80020,"Steffen",8]
[]
[]
[90001,"Jens",9]
[90003,"Peter",9]
[]
[100001,"Thor",10]
[100002,"Lita",10]
[100003,"Bettina",10]
[100004,"Erik",10]
[100007,"Nete",10]
[100011,"Milos",10]
[100012,"Lars",10]
[100013,"Brian",10]
[100014,"Andreas",10]
[100015,"Bent",10]
[]
[60140,"Torben",11]
[60159,"Kirstine",11]
[60175,"Søren",11]
[60903,"Jacob",11]
[60915,"Camilla",11]
[60916,"Mette",11]
[100009,"Kenneth",11]
[100009,"Kenneth",11]
[110003,"Kaspar",11]

{"sheet":"oktober","index":9,"n_rows":56,"n_cols":16,"rows_kept":56,"cut":false,"hidden":false,"merged":[]}
["Medarb. nr.","Navn","Selsk.","Bonus 1181 Kr.","Tekst","Udlæg 9100 Kr.","Tekst","Fradr. net 9471 Kr.","Tekst","Fratrædg. 5500 Kr.","Km-godt. 9011 Km.","Km-godtg. - Tekst","25% Rejseg. 9030 Kr.","Rejseg. Tekst","Timelønnede\nantal timer","Kommentarer"]
[10035,"Pia",1]
[10299,"Inge",1]
[10912,"Anette",1]
[10923,"John",1]
[10947,"Bente",1]
[]
[10946,"Dorte",6]
[31917,"Pontus",6]
[60027,"Martin",6]
[60027,"Martin",6]
[60027,"Martin",6]
[60132,"Kent",6]
[60909,"Martin",6]
[60910,"Birgitte",6]
[60912,"Mette",6]
[60913,"Henriette",6]
[60919,"Ralph",6]
[60920,"Jette",6]
[60921,"Thomas",6]
[]
[80010,"Peder",8]
[80011,"Henrik",8]
[80012,"Poul",8]
[80013,"Rune",8]
[80014,"Peter",8]
[80016,"Martin",8]
[80017,"Camilla",8]
[80018,"Birgit",8]
[80019,"Amalie",8]
[80020,"Steffen",8]
[]
[]
[90001,"Jens",9]
[90003,"Peter",9]
[]
[100001,"Thor",10]
[100002,"Lita",10]
[100003,"Bettina",10]
[100004,"Erik",10]
[100007,"Nete",10]
[100011,"Milos",10]
[100012,"Lars",10]
[100013,"Brian",10]
[100014,"Andreas",10]
[100015,"Bent",10]
[]
[60140,"Torben",11]
[60159,"Kirstine",11]
[60175,"Søren",11]
[60903,"Jacob",11]
[60915,"Camilla",11]
[60916,"Mette",11]
[100009,"Kenneth",11]
[100009,"Kenneth",11]
[110003,"Kaspar",11]

{"sheet":"november","index":10,"n_rows":56,"n_cols":16,"rows_kept":56,"cut":false,"hidden":false,"merged":[]}
["Medarb. nr.","Navn","Selsk.","Bonus 1181 Kr.","Tekst","Udlæg 9100 Kr.","Tekst","Fradr. net 9471 Kr.","Tekst","Fratrædg. 5500 Kr.","Km-godt. 9011 Km.","Km-godtg. - Tekst","25% Rejseg. 9030 Kr.","Rejseg. Tekst","Timelønnede\nantal timer","Kommentarer"]
[10035,"Pia",1]
[10299,"Inge",1]
[10912,"Anette",1]
[10923,"John",1]
[10947,"Bente",1]
[]
[10946,"Dorte",6]
[31917,"Pontus",6]
[60027,"Martin",6]
[60027,"Martin",6]
[60027,"Martin",6]
[60132,"Kent",6]
[60909,"Martin",6]
[60910,"Birgitte",6]
[60912,"Mette",6]
[60913,"Henriette",6]
[60919,"Ralph",6]
[60920,"Jette",6]
[60921,"Thomas",6]
[]
[80010,"Peder",8]
[80011,"Henrik",8]
[80012,"Poul",8]
[80013,"Rune",8]
[80014,"Peter",8]
[80016,"Martin",8]
[80017,"Camilla",8]
[80018,"Birgit",8]
[80019,"Amalie",8]
[80020,"Steffen",8]
[]
[]
[90001,"Jens",9]
[90003,"Peter",9]
[]
[100001,"Thor",10]
[100002,"Lita",10]
[100003,"Bettina",10]
[100004,"Erik",10]
[100007,"Nete",10]
[100011,"Milos",10]
[100012,"Lars",10]
[100013,"Brian",10]
[100014,"Andreas",10]
[100015,"Bent",10]
[]
[60140,"Torben",11]
[60159,"Kirstine",11]
[60175,"Søren",11]
[60903,"Jacob",11]
[60915,"Camilla",11]
[60916,"Mette",11]
[100009,"Kenneth",11]
[100009,"Kenneth",11]
[110003,"Kaspar",11]

{"sheet":"december","index":11,"n_rows":56,"n_cols":16,"rows_kept":56,"cut":false,"hidden":false,"merged":[]}
["Medarb. nr.","Navn","Selsk.","Bonus 1181 Kr.","Tekst","Udlæg 9100 Kr.","Tekst","Fradr. net 9471 Kr.","Tekst","Fratrædg. 5500 Kr.","Km-godt. 9011 Km.","Km-godtg. - Tekst","25% Rejseg. 9030 Kr.","Rejseg. Tekst","Timelønnede\nantal timer","Kommentarer"]
[10035,"Pia",1]
[10299,"Inge",1]
[10912,"Anette",1]
[10923,"John",1]
[10947,"Bente",1]
[]
[10946,"Dorte",6]
[31917,"Pontus",6,6179,"Bonus Q2 iflg aftale"]
[60027,"Martin",6]
[60027,"Martin",6]
[60027,"Martin",6]
[60132,"Kent",6]
[60909,"Martin",6]
[60910,"Birgitte",6]
[60912,"Mette",6]
[60913,"Henriette",6]
[60919,"Ralph",6]
[60920,"Jette",6]
[60921,"Thomas",6]
[]
[80010,"Peder",8]
[80011,"Henrik",8]
[80012,"Poul",8]
[80013,"Rune",8]
[80014,"Peter",8]
[80016,"Martin",8]
[80017,"Camilla",8]
[80018,"Birgit",8]
[80019,"Amalie",8]
[80020,"Steffen",8,null,null,null,null,null,null,null,null,null,-3331.04,"Dobbelt okt/nov."]
[]
[]
[90001,"Jens",9]
[90003,"Peter",9]
[]
[100001,"Thor",10]
[100002,"Lita",10]
[100003,"Bettina",10]
[100004,"Erik",10]
[100007,"Nete",10]
[100011,"Milos",10]
[100012,"Lars",10]
[100013,"Brian",10]
[100014,"Andreas",10]
[100015,"Bent",10]
[]
[60140,"Torben",11]
[60159,"Kirstine",11]
[60175,"Søren",11]
[60903,"Jacob",11]
[60915,"Camilla",11]
[60916,"Mette",11,null,null,null,null,462.29,"Faktura 25"]
[100009,"Kenneth",11]
[100009,"Kenneth",11]
[110003,"Kaspar",11]

{"sheet":"Variable","index":12,"n_rows":703,"n_cols":11,"rows_kept":703,"cut":false,"hidden":false,"merged":[]}
["Kundeforholdnr.","Arbejdsgivernr.","Variabel","Medarbejdernr.","Fradato","Tildato"]
[3,null,null,null,{"$f":"TODAY()-28","v":"2011-12-15"},{"$f":"TODAY()","v":"2012-01-12"}]
["Bonus:",null,null,null,{"$f":"TEXT(E2,\"MMmm\")","v":"december"},{"$f":"TEXT(F2,\"MMmm\")","v":"januar"}]
[{"$f":"IF($D4=\"\",\"\",$A$2)","v":""},{"$f":"IF($D4=\"\",\"\",INDEX(december!$A:$O,ROW()-2,COLUMN($C:$C)))","v":""},"Variabel",{"$f":"IF(INDEX(december!$A:$O,ROW()-2,COLUMN(D:D))=\"\",\"\",IF(INDEX(december!$A:$O,ROW()-2,COLUMN(A:A))=\"\",\"\",INDEX(december!$A:$O,ROW()-2,COLUMN(A:A))))","v":""},{"$f":"IF($D4=\"\",\"\",$F$2)","v":""},null,{"$f":"IF($D4=\"\",\"\",1181)","v":""},{"$f":"IF($D4=\"\",\"\",IF(INDEX(december!$A:$O,ROW()-2,COLUMN($E:$E))=\"\",\"\",INDEX(december!$A:$O,ROW()-2,COLUMN($E:$E))))","v":""},null,null,{"$f":"IF($D4=\"\",\"\",IF(INDEX(december!$A:$O,ROW()-2,COLUMN($D:$D))=\"\",\"\",INDEX(december!$A:$O,ROW()-2,COLUMN($D:$D))))","v":""}]
["",{"$f":"IF($D5=\"\",\"\",INDEX(december!$A:$O,ROW()-2,COLUMN($C:$C)))","v":""},"Variabel",{"$f":"IF(INDEX(december!$A:$O,ROW()-2,COLUMN(D:D))=\"\",\"\",IF(INDEX(december!$A:$O,ROW()-2,COLUMN(A:A))=\"\",\"\",INDEX(december!$A:$O,ROW()-2,COLUMN(A:A))))","v":""},"",null,"",{"$f":"IF($D5=\"\",\"\",IF(INDEX(december!$A:$O,ROW()-2,COLUMN($E:$E))=\"\",\"\",INDEX(december!$A:$O,ROW()-2,COLUMN($E:$E))))","v":""},null,null,{"$f":"IF($D5=\"\",\"\",IF(INDEX(december!$A:$O,ROW()-2,COLUMN($D:$D))=\"\",\"\",INDEX(december!$A:$O,ROW()-2,COLUMN($D:$D))))","v":""}]
["",{"$f":"IF($D6=\"\",\"\",INDEX(december!$A:$O,ROW()-2,COLUMN($C:$C)))","v":""},"Variabel",{"$f":"IF(INDEX(december!$A:$O,ROW()-2,COLUMN(D:D))=\"\",\"\",IF(INDEX(december!$A:$O,ROW()-2,COLUMN(A:A))=\"\",\"\",INDEX(december!$A:$O,ROW()-2,COLUMN(A:A))))","v":""},"",null,"",{"$f":"IF($D6=\"\",\"\",IF(INDEX(december!$A:$O,ROW()-2,COLUMN($E:$E))=\"\",\"\",INDEX(december!$A:$O,ROW()-2,COLUMN($E:$E))))","v":""},null,null,{"$f":"IF($D6=\"\",\"\",IF(INDEX(december!$A:$O,ROW()-2,COLUMN($D:$D))=\"\",\"\",INDEX(december!$A:$O,ROW()-2,COLUMN($D:$D))))","v":""}]
["",{"$f":"IF($D7=\"\",\"\",INDEX(december!$A:$O,ROW()-2,COLUMN($C:$C)))","v":""},"Variabel",{"$f":"IF(INDEX(december!$A:$O,ROW()-2,COLUMN(D:D))=\"\",\"\",IF(INDEX(december!$A:$O,ROW()-2,COLUMN(A:A))=\"\",\"\",INDEX(december!$A:$O,ROW()-2,COLUMN(A:A))))","v":""},"",null,"",{"$f":"IF($D7=\"\",\"\",IF(INDEX(december!$A:$O,ROW()-2,COLUMN($E:$E))=\"\",\"\",INDEX(december!$A:$O,ROW()-2,COLUMN($E:$E))))","v":""},null,null,{"$f":"IF($D7=\"\",\"\",IF(INDEX(december!$A:$O,ROW()-2,COLUMN($D:$D))=\"\",\"\",INDEX(december!$A:$O,ROW()-2,COLUMN($D:$D))))","v":""}]
["",{"$f":"IF($D8=\"\",\"\",INDEX(december!$A:$O,ROW()-2,COLUMN($C:$C)))","v":""},"Variabel",{"$f":"IF(INDEX(december!$A:$O,ROW()-2,COLUMN(D:D))=\"\",\"\",IF(INDEX(december!$A:$O,ROW()-2,COLUMN(A:A))=\"\",\"\",INDEX(december!$A:$O,ROW()-2,COLUMN(A:A))))","v":""},"",null,"",{"$f":"IF($D8=\"\",\"\",IF(INDEX(december!$A:$O,ROW()-2,COLUMN($E:$E))=\"\",\"\",INDEX(december!$A:$O,ROW()-2,COLUMN($E:$E))))","v":""},null,null,{"$f":"IF($D8=\"\",\"\",IF(INDEX(december!$A:$O,ROW()-2,COLUMN($D:$D))=\"\",\"\",INDEX(december!$A:$O,ROW()-2,COLUMN($D:$D))))","v":""}]
["",{"$f":"IF($D9=\"\",\"\",INDEX(december!$A:$O,ROW()-2,COLUMN($C:$C)))","v":""},"Variabel",{"$f":"IF(INDEX(december!$A:$O,ROW()-2,COLUMN(D:D))=\"\",\"\",IF(INDEX(december!$A:$O,ROW()-2,COLUMN(A:A))=\"\",\"\",INDEX(december!$A:$O,ROW()-2,COLUMN(A:A))))","v":""},"",null,"",{"$f":"IF($D9=\"\",\"\",IF(INDEX(december!$A:$O,ROW()-2,COLUMN($E:$E))=\"\",\"\",INDEX(december!$A:$O,ROW()-2,COLUMN($E:$E))))","v":""},null,null,{"$f":"IF($D9=\"\",\"\",IF(INDEX(december!$A:$O,ROW()-2,COLUMN($D:$D))=\"\",\"\",INDEX(december!$A:$O,ROW()-2,COLUMN($D:$D))))","v":""}]
["",{"$f":"IF($D10=\"\",\"\",INDEX(december!$A:$O,ROW()-2,COLUMN($C:$C)))","v":""},"Variabel",{"$f":"IF(INDEX(december!$A:$O,ROW()-2,COLUMN(D:D))=\"\",\"\",IF(INDEX(december!$A:$O,ROW()-2,COLUMN(A:A))=\"\",\"\",INDEX(december!$A:$O,ROW()-2,COLUMN(A:A))))","v":""},"",null,"",{"$f":"IF($D10=\"\",\"\",IF(INDEX(december!$A:$O,ROW()-2,COLUMN($E:$E))=\"\",\"\",INDEX(december!$A:$O,ROW()-2,COLUMN($E:$E))))","v":""},null,null,{"$f":"IF($D10=\"\",\"\",IF(INDEX(december!$A:$O,ROW()-2,COLUMN($D:$D))=\"\",\"\",INDEX(december!$A:$O,ROW()-2,COLUMN($D:$D))))","v":""}]
[3,{"$f":"IF($D11=\"\",\"\",INDEX(december!$A:$O,ROW()-2,COLUMN($C:$C)))","v":6},"Variabel",{"$f":"IF(INDEX(december!$A:$O,ROW()-2,COLUMN(D:D))=\"\",\"\",IF(INDEX(december!$A:$O,ROW()-2,COLUMN(A:A))=\"\",\"\",INDEX(december!$A:$O,ROW()-2,COLUMN(A:A))))","v":31917},"2012-01-12",null,1181,{"$f":"IF($D11=\"\",\"\",IF(INDEX(december!$A:$O,ROW()-2,COLUMN($E:$E))=\"\",\"\",INDEX(december!$A:$O,ROW()-2,COLUMN($E:$E))))","v":"Bonus Q2 iflg aftale"},null,null,{"$f":"IF($D11=\"\",\"\",IF(INDEX(december!$A:$O,ROW()-2,COLUMN($D:$D))=\"\",\"\",INDEX(december!$A:$O,ROW()-2,COLUMN($D:$D))))","v":6179}]
["",{"$f":"IF($D12=\"\",\"\",INDEX(december!$A:$O,ROW()-2,COLUMN($C:$C)))","v":""},"Variabel",{"$f":"IF(INDEX(december!$A:$O,ROW()-2,COLUMN(D:D))=\"\",\"\",IF(INDEX(december!$A:$O,ROW()-2,COLUMN(A:A))=\"\",\"\",INDEX(december!$A:$O,ROW()-2,COLUMN(A:A))))","v":""},"",null,"",{"$f":"IF($D12=\"\",\"\",IF(INDEX(december!$A:$O,ROW()-2,COLUMN($E:$E))=\"\",\"\",INDEX(december!$A:$O,ROW()-2,COLUMN($E:$E))))","v":""},null,null,{"$f":"IF($D12=\"\",\"\",IF(INDEX(december!$A:$O,ROW()-2,COLUMN($D:$D))=\"\",\"\",INDEX(december!$A:$O,ROW()-2,COLUMN($D:$D))))","v":""}]
["",{"$f":"IF($D13=\"\",\"\",INDEX(december!$A:$O,ROW()-2,COLUMN($C:$C)))","v":""},"Variabel",{"$f":"IF(INDEX(december!$A:$O,ROW()-2,COLUMN(D:D))=\"\",\"\",IF(INDEX(december!$A:$O,ROW()-2,COLUMN(A:A))=\"\",\"\",INDEX(december!$A:$O,ROW()-2,COLUMN(A:A))))","v":""},"",null,"",{"$f":"IF($D13=\"\",\"\",IF(INDEX(december!$A:$O,ROW()-2,COLUMN($E:$E))=\"\",\"\",INDEX(december!$A:$O,ROW()-2,COLUMN($E:$E))))","v":""},null,null,{"$f":"IF($D13=\"\",\"\",IF(INDEX(december!$A:$O,ROW()-2,COLUMN($D:$D))=\"\",\"\",INDEX(december!$A:$O,ROW()-2,COLUMN($D:$D))))","v":""}]
["",{"$f":"IF($D14=\"\",\"\",INDEX(december!$A:$O,ROW()-2,COLUMN($C:$C)))","v":""},"Variabel",{"$f":"IF(INDEX(december!$A:$O,ROW()-2,COLUMN(D:D))=\"\",\"\",IF(INDEX(december!$A:$O,ROW()-2,COLUMN(A:A))=\"\",\"\",INDEX(december!$A:$O,ROW()-2,COLUMN(A:A))))","v":""},"",null,"",{"$f":"IF($D14=\"\",\"\",IF(INDEX(december!$A:$O,ROW()-2,COLUMN($E:$E))=\"\",\"\",INDEX(december!$A:$O,ROW()-2,COLUMN($E:$E))))","v":""},null,null,{"$f":"IF($D14=\"\",\"\",IF(INDEX(december!$A:$O,ROW()-2,COLUMN($D:$D))=\"\",\"\",INDEX(december!$A:$O,ROW()-2,COLUMN($D:$D))))","v":""}]
["",{"$f":"IF($D15=\"\",\"\",INDEX(december!$A:$O,ROW()-2,COLUMN($C:$C)))","v":""},"Variabel",{"$f":"IF(INDEX(december!$A:$O,ROW()-2,COLUMN(D:D))=\"\",\"\",IF(INDEX(december!$A:$O,ROW()-2,COLUMN(A:A))=\"\",\"\",INDEX(december!$A:$O,ROW()-2,COLUMN(A:A))))","v":""},"",null,"",{"$f":"IF($D15=\"\",\"\",IF(INDEX(december!$A:$O,ROW()-2,COLUMN($E:$E))=\"\",\"\",INDEX(december!$A:$O,ROW()-2,COLUMN($E:$E))))","v":""},null,null,{"$f":"IF($D15=\"\",\"\",IF(INDEX(december!$A:$O,ROW()-2,COLUMN($D:$D))=\"\",\"\",INDEX(december!$A:$O,ROW()-2,COLUMN($D:$D))))","v":""}]
["",{"$f":"IF($D16=\"\",\"\",INDEX(december!$A:$O,ROW()-2,COLUMN($C:$C)))","v":""},"Variabel",{"$f":"IF(INDEX(december!$A:$O,ROW()-2,COLUMN(D:D))=\"\",\"\",IF(INDEX(december!$A:$O,ROW()-2,COLUMN(A:A))=\"\",\"\",INDEX(december!$A:$O,ROW()-2,COLUMN(A:A))))","v":""},"",null,"",{"$f":"IF($D16=\"\",\"\",IF(INDEX(december!$A:$O,ROW()-2,COLUMN($E:$E))=\"\",\"\",INDEX(december!$A:$O,ROW()-2,COLUMN($E:$E))))","v":""},null,null,{"$f":"IF($D16=\"\",\"\",IF(INDEX(december!$A:$O,ROW()-2,COLUMN($D:$D))=\"\",\"\",INDEX(december!$A:$O,ROW()-2,COLUMN($D:$D))))","v":""}]
["",{"$f":"IF($D17=\"\",\"\",INDEX(december!$A:$O,ROW()-2,COLUMN($C:$C)))","v":""},"Variabel",{"$f":"IF(INDEX(december!$A:$O,ROW()-2,COLUMN(D:D))=\"\",\"\",IF(INDEX(december!$A:$O,ROW()-2,COLUMN(A:A))=\"\",\"\",INDEX(december!$A:$O,ROW()-2,COLUMN(A:A))))","v":""},"",null,"",{"$f":"IF($D17=\"\",\"\",IF(INDEX(december!$A:$O,ROW()-2,COLUMN($E:$E))=\"\",\"\",INDEX(december!$A:$O,ROW()-2,COLUMN($E:$E))))","v":""},null,null,{"$f":"IF($D17=\"\",\"\",IF(INDEX(december!$A:$O,ROW()-2,COLUMN($D:$D))=\"\",\"\",INDEX(december!$A:$O,ROW()-2,COLUMN($D:$D))))","v":""}]
["",{"$f":"IF($D18=\"\",\"\",INDEX(december!$A:$O,ROW()-2,COLUMN($C:$C)))","v":""},"Variabel",{"$f":"IF(INDEX(december!$A:$O,ROW()-2,COLUMN(D:D))=\"\",\"\",IF(INDEX(december!$A:$O,ROW()-2,COLUMN(A:A))=\"\",\"\",INDEX(december!$A:$O,ROW()-2,COLUMN(A:A))))","v":""},"",null,"",{"$f":"IF($D18=\"\",\"\",IF(INDEX(december!$A:$O,ROW()-2,COLUMN($E:$E))=\"\",\"\",INDEX(december!$A:$O,ROW()-2,COLUMN($E:$E))))","v":""},null,null,{"$f":"IF($D18=\"\",\"\",IF(INDEX(december!$A:$O,ROW()-2,COLUMN($D:$D))=\"\",\"\",INDEX(december!$A:$O,ROW()-2,COLUMN($D:$D))))","v":""}]
["",{"$f":"IF($D19=\"\",\"\",INDEX(december!$A:$O,ROW()-2,COLUMN($C:$C)))","v":""},"Variabel",{"$f":"IF(INDEX(december!$A:$O,ROW()-2,COLUMN(D:D))=\"\",\"\",IF(INDEX(december!$A:$O,ROW()-2,COLUMN(A:A))=\"\",\"\",INDEX(december!$A:$O,ROW()-2,COLUMN(A:A))))","v":""},"",null,"",{"$f":"IF($D19=\"\",\"\",IF(INDEX(december!$A:$O,ROW()-2,COLUMN($E:$E))=\"\",\"\",INDEX(december!$A:$O,ROW()-2,COLUMN($E:$E))))","v":""},null,null,{"$f":"IF($D19=\"\",\"\",IF(INDEX(december!$A:$O,ROW()-2,COLUMN($D:$D))=\"\",\"\",INDEX(december!$A:$O,ROW()-2,COLUMN($D:$D))))","v":""}]
["",{"$f":"IF($D20=\"\",\"\",INDEX(december!$A:$O,ROW()-2,COLUMN($C:$C)))","v":""},"Variabel",{"$f":"IF(INDEX(december!$A:$O,ROW()-2,COLUMN(D:D))=\"\",\"\",IF(INDEX(december!$A:$O,ROW()-2,COLUMN(A:A))=\"\",\"\",INDEX(december!$A:$O,ROW()-2,COLUMN(A:A))))","v":""},"",null,"",{"$f":"IF($D20=\"\",\"\",IF(INDEX(december!$A:$O,ROW()-2,COLUMN($E:$E))=\"\",\"\",INDEX(december!$A:$O,ROW()-2,COLUMN($E:$E))))","v":""},null,null,{"$f":"IF($D20=\"\",\"\",IF(INDEX(december!$A:$O,ROW()-2,COLUMN($D:$D))=\"\",\"\",INDEX(december!$A:$O,ROW()-2,COLUMN($D:$D))))","v":""}]
["",{"$f":"IF($D21=\"\",\"\",INDEX(december!$A:$O,ROW()-2,COLUMN($C:$C)))","v":""},"Variabel",{"$f":"IF(INDEX(december!$A:$O,ROW()-2,COLUMN(D:D))=\"\",\"\",IF(INDEX(december!$A:$O,ROW()-2,COLUMN(A:A))=\"\",\"\",INDEX(december!$A:$O,ROW()-2,COLUMN(A:A))))","v":""},"",null,"",{"$f":"IF($D21=\"\",\"\",IF(INDEX(december!$A:$O,ROW()-2,COLUMN($E:$E))=\"\",\"\",INDEX(december!$A:$O,ROW()-2,COLUMN($E:$E))))","v":""},null,null,{"$f":"IF($D21=\"\",\"\",IF(INDEX(december!$A:$O,ROW()-2,COLUMN($D:$D))=\"\",\"\",INDEX(december!$A:$O,ROW()-2,COLUMN($D:$D))))","v":""}]
["",{"$f":"IF($D22=\"\",\"\",INDEX(december!$A:$O,ROW()-2,COLUMN($C:$C)))","v":""},"Variabel",{"$f":"IF(INDEX(december!$A:$O,ROW()-2,COLUMN(D:D))=\"\",\"\",IF(INDEX(december!$A:$O,ROW()-2,COLUMN(A:A))=\"\",\"\",INDEX(december!$A:$O,ROW()-2,COLUMN(A:A))))","v":""},"",null,"",{"$f":"IF($D22=\"\",\"\",IF(INDEX(december!$A:$O,ROW()-2,COLUMN($E:$E))=\"\",\"\",INDEX(december!$A:$O,ROW()-2,COLUMN($E:$E))))","v":""},null,null,{"$f":"IF($D22=\"\",\"\",IF(INDEX(december!$A:$O,ROW()-2,COLUMN($D:$D))=\"\",\"\",INDEX(december!$A:$O,ROW()-2,COLUMN($D:$D))))","v":""}]
["",{"$f":"IF($D23=\"\",\"\",INDEX(december!$A:$O,ROW()-2,COLUMN($C:$C)))","v":""},"Variabel",{"$f":"IF(INDEX(december!$A:$O,ROW()-2,COLUMN(D:D))=\"\",\"\",IF(INDEX(december!$A:$O,ROW()-2,COLUMN(A:A))=\"\",\"\",INDEX(december!$A:$O,ROW()-2,COLUMN(A:A))))","v":""},"",null,"",{"$f":"IF($D23=\"\",\"\",IF(INDEX(december!$A:$O,ROW()-2,COLUMN($E:$E))=\"\",\"\",INDEX(december!$A:$O,ROW()-2,COLUMN($E:$E))))","v":""},null,null,{"$f":"IF($D23=\"\",\"\",IF(INDEX(december!$A:$O,ROW()-2,COLUMN($D:$D))=\"\",\"\",INDEX(december!$A:$O,ROW()-2,COLUMN($D:$D))))","v":""}]
["",{"$f":"IF($D24=\"\",\"\",INDEX(december!$A:$O,ROW()-2,COLUMN($C:$C)))","v":""},"Variabel",{"$f":"IF(INDEX(december!$A:$O,ROW()-2,COLUMN(D:D))=\"\",\"\",IF(INDEX(december!$A:$O,ROW()-2,COLUMN(A:A))=\"\",\"\",INDEX(december!$A:$O,ROW()-2,COLUMN(A:A))))","v":""},"",null,"",{"$f":"IF($D24=\"\",\"\",IF(INDEX(december!$A:$O,ROW()-2,COLUMN($E:$E))=\"\",\"\",INDEX(december!$A:$O,ROW()-2,COLUMN($E:$E))))","v":""},null,null,{"$f":"IF($D24=\"\",\"\",IF(INDEX(december!$A:$O,ROW()-2,COLUMN($D:$D))=\"\",\"\",INDEX(december!$A:$O,ROW()-2,COLUMN($D:$D))))","v":""}]
["",{"$f":"IF($D25=\"\",\"\",INDEX(december!$A:$O,ROW()-2,COLUMN($C:$C)))","v":""},"Variabel",{"$f":"IF(INDEX(december!$A:$O,ROW()-2,COLUMN(D:D))=\"\",\"\",IF(INDEX(december!$A:$O,ROW()-2,COLUMN(A:A))=\"\",\"\",INDEX(december!$A:$O,ROW()-2,COLUMN(A:A))))","v":""},"",null,"",{"$f":"IF($D25=\"\",\"\",IF(INDEX(december!$A:$O,ROW()-2,COLUMN($E:$E))=\"\",\"\",INDEX(december!$A:$O,ROW()-2,COLUMN($E:$E))))","v":""},null,null,{"$f":"IF($D25=\"\",\"\",IF(INDEX(december!$A:$O,ROW()-2,COLUMN($D:$D))=\"\",\"\",INDEX(december!$A:$O,ROW()-2,COLUMN($D:$D))))","v":""}]
["",{"$f":"IF($D26=\"\",\"\",INDEX(december!$A:$O,ROW()-2,COLUMN($C:$C)))","v":""},"Variabel",{"$f":"IF(INDEX(december!$A:$O,ROW()-2,COLUMN(D:D))=\"\",\"\",IF(INDEX(december!$A:$O,ROW()-2,COLUMN(A:A))=\"\",\"\",INDEX(december!$A:$O,ROW()-2,COLUMN(A:A))))","v":""},"",null,"",{"$f":"IF($D26=\"\",\"\",IF(INDEX(december!$A:$O,ROW()-2,COLUMN($E:$E))=\"\",\"\",INDEX(december!$A:$O,ROW()-2,COLUMN($E:$E))))","v":""},null,null,{"$f":"IF($D26=\"\",\"\",IF(INDEX(december!$A:$O,ROW()-2,COLUMN($D:$D))=\"\",\"\",INDEX(december!$A:$O,ROW()-2,COLUMN($D:$D))))","v":""}]
["",{"$f":"IF($D27=\"\",\"\",INDEX(december!$A:$O,ROW()-2,COLUMN($C:$C)))","v":""},"Variabel",{"$f":"IF(INDEX(december!$A:$O,ROW()-2,COLUMN(D:D))=\"\",\"\",IF(INDEX(december!$A:$O,ROW()-2,COLUMN(A:A))=\"\",\"\",INDEX(december!$A:$O,ROW()-2,COLUMN(A:A))))","v":""},"",null,"",{"$f":"IF($D27=\"\",\"\",IF(INDEX(december!$A:$O,ROW()-2,COLUMN($E:$E))=\"\",\"\",INDEX(december!$A:$O,ROW()-2,COLUMN($E:$E))))","v":""},null,null,{"$f":"IF($D27=\"\",\"\",IF(INDEX(december!$A:$O,ROW()-2,COLUMN($D:$D))=\"\",\"\",INDEX(december!$A:$O,ROW()-2,COLUMN($D:$D))))","v":""}]
["",{"$f":"IF($D28=\"\",\"\",INDEX(december!$A:$O,ROW()-2,COLUMN($C:$C)))","v":""},"Variabel",{"$f":"IF(INDEX(december!$A:$O,ROW()-2,COLUMN(D:D))=\"\",\"\",IF(INDEX(december!$A:$O,ROW()-2,COLUMN(A:A))=\"\",\"\",INDEX(december!$A:$O,ROW()-2,COLUMN(A:A))))","v":""},"",null,"",{"$f":"IF($D28=\"\",\"\",IF(INDEX(december!$A:$O,ROW()-2,COLUMN($E:$E))=\"\",\"\",INDEX(december!$A:$O,ROW()-2,COLUMN($E:$E))))","v":""},null,null,{"$f":"IF($D28=\"\",\"\",IF(INDEX(december!$A:$O,ROW()-2,COLUMN($D:$D))=\"\",\"\",INDEX(december!$A:$O,ROW()-2,COLUMN($D:$D))))","v":""}]
["",{"$f":"IF($D29=\"\",\"\",INDEX(december!$A:$O,ROW()-2,COLUMN($C:$C)))","v":""},"Variabel",{"$f":"IF(INDEX(december!$A:$O,ROW()-2,COLUMN(D:D))=\"\",\"\",IF(INDEX(december!$A:$O,ROW()-2,COLUMN(A:A))=\"\",\"\",INDEX(december!$A:$O,ROW()-2,COLUMN(A:A))))","v":""},"",null,"",{"$f":"IF($D29=\"\",\"\",IF(INDEX(december!$A:$O,ROW()-2,COLUMN($E:$E))=\"\",\"\",INDEX(december!$A:$O,ROW()-2,COLUMN($E:$E))))","v":""},null,null,{"$f":"IF($D29=\"\",\"\",IF(INDEX(december!$A:$O,ROW()-2,COLUMN($D:$D))=\"\",\"\",INDEX(december!$A:$O,ROW()-2,COLUMN($D:$D))))","v":""}]
["",{"$f":"IF($D30=\"\",\"\",INDEX(december!$A:$O,ROW()-2,COLUMN($C:$C)))","v":""},"Variabel",{"$f":"IF(INDEX(december!$A:$O,ROW()-2,COLUMN(D:D))=\"\",\"\",IF(INDEX(december!$A:$O,ROW()-2,COLUMN(A:A))=\"\",\"\",INDEX(december!$A:$O,ROW()-2,COLUMN(A:A))))","v":""},"",null,"",{"$f":"IF($D30=\"\",\"\",IF(INDEX(december!$A:$O,ROW()-2,COLUMN($E:$E))=\"\",\"\",INDEX(december!$A:$O,ROW()-2,COLUMN($E:$E))))","v":""},null,null,{"$f":"IF($D30=\"\",\"\",IF(INDEX(december!$A:$O,ROW()-2,COLUMN($D:$D))=\"\",\"\",INDEX(december!$A:$O,ROW()-2,COLUMN($D:$D))))","v":""}]
["",{"$f":"IF($D31=\"\",\"\",INDEX(december!$A:$O,ROW()-2,COLUMN($C:$C)))","v":""},"Variabel",{"$f":"IF(INDEX(december!$A:$O,ROW()-2,COLUMN(D:D))=\"\",\"\",IF(INDEX(december!$A:$O,ROW()-2,COLUMN(A:A))=\"\",\"\",INDEX(december!$A:$O,ROW()-2,COLUMN(A:A))))","v":""},"",null,"",{"$f":"IF($D31=\"\",\"\",IF(INDEX(december!$A:$O,ROW()-2,COLUMN($E:$E))=\"\",\"\",INDEX(december!$A:$O,ROW()-2,COLUMN($E:$E))))","v":""},null,null,{"$f":"IF($D31=\"\",\"\",IF(INDEX(december!$A:$O,ROW()-2,COLUMN($D:$D))=\"\",\"\",INDEX(december!$A:$O,ROW()-2,COLUMN($D:$D))))","v":""}]
["",{"$f":"IF($D32=\"\",\"\",INDEX(december!$A:$O,ROW()-2,COLUMN($C:$C)))","v":""},"Variabel",{"$f":"IF(INDEX(december!$A:$O,ROW()-2,COLUMN(D:D))=\"\",\"\",IF(INDEX(december!$A:$O,ROW()-2,COLUMN(A:A))=\"\",\"\",INDEX(december!$A:$O,ROW()-2,COLUMN(A:A))))","v":""},"",null,"",{"$f":"IF($D32=\"\",\"\",IF(INDEX(december!$A:$O,ROW()-2,COLUMN($E:$E))=\"\",\"\",INDEX(december!$A:$O,ROW()-2,COLUMN($E:$E))))","v":""},null,null,{"$f":"IF($D32=\"\",\"\",IF(INDEX(december!$A:$O,ROW()-2,COLUMN($D:$D))=\"\",\"\",INDEX(december!$A:$O,ROW()-2,COLUMN($D:$D))))","v":""}]
["",{"$f":"IF($D33=\"\",\"\",INDEX(december!$A:$O,ROW()-2,COLUMN($C:$C)))","v":""},"Variabel",{"$f":"IF(INDEX(december!$A:$O,ROW()-2,COLUMN(D:D))=\"\",\"\",IF(INDEX(december!$A:$O,ROW()-2,COLUMN(A:A))=\"\",\"\",INDEX(december!$A:$O,ROW()-2,COLUMN(A:A))))","v":""},"",null,"",{"$f":"IF($D33=\"\",\"\",IF(INDEX(december!$A:$O,ROW()-2,COLUMN($E:$E))=\"\",\"\",INDEX(december!$A:$O,ROW()-2,COLUMN($E:$E))))","v":""},null,null,{"$f":"IF($D33=\"\",\"\",IF(INDEX(december!$A:$O,ROW()-2,COLUMN($D:$D))=\"\",\"\",INDEX(december!$A:$O,ROW()-2,COLUMN($D:$D))))","v":""}]
["",{"$f":"IF($D34=\"\",\"\",INDEX(december!$A:$O,ROW()-2,COLUMN($C:$C)))","v":""},"Variabel",{"$f":"IF(INDEX(december!$A:$O,ROW()-2,COLUMN(D:D))=\"\",\"\",IF(INDEX(december!$A:$O,ROW()-2,COLUMN(A:A))=\"\",\"\",INDEX(december!$A:$O,ROW()-2,COLUMN(A:A))))","v":""},"",null,"",{"$f":"IF($D34=\"\",\"\",IF(INDEX(december!$A:$O,ROW()-2,COLUMN($E:$E))=\"\",\"\",INDEX(december!$A:$O,ROW()-2,COLUMN($E:$E))))","v":""},null,null,{"$f":"IF($D34=\"\",\"\",IF(INDEX(december!$A:$O,ROW()-2,COLUMN($D:$D))=\"\",\"\",INDEX(december!$A:$O,ROW()-2,COLUMN($D:$D))))","v":""}]
["",{"$f":"IF($D35=\"\",\"\",INDEX(december!$A:$O,ROW()-2,COLUMN($C:$C)))","v":""},"Variabel",{"$f":"IF(INDEX(december!$A:$O,ROW()-2,COLUMN(D:D))=\"\",\"\",IF(INDEX(december!$A:$O,ROW()-2,COLUMN(A:A))=\"\",\"\",INDEX(december!$A:$O,ROW()-2,COLUMN(A:A))))","v":""},"",null,"",{"$f":"IF($D35=\"\",\"\",IF(INDEX(december!$A:$O,ROW()-2,COLUMN($E:$E))=\"\",\"\",INDEX(december!$A:$O,ROW()-2,COLUMN($E:$E))))","v":""},null,null,{"$f":"IF($D35=\"\",\"\",IF(INDEX(december!$A:$O,ROW()-2,COLUMN($D:$D))=\"\",\"\",INDEX(december!$A:$O,ROW()-2,COLUMN($D:$D))))","v":""}]
[{"$f":"IF($D36=\"\",\"\",$A$2)","v":""},{"$f":"IF($D36=\"\",\"\",INDEX(december!$A:$O,ROW()-2,COLUMN($C:$C)))","v":""},"Variabel",{"$f":"IF(INDEX(december!$A:$O,ROW()-2,COLUMN(D:D))=\"\",\"\",IF(INDEX(december!$A:$O,ROW()-2,COLUMN(A:A))=\"\",\"\",INDEX(december!$A:$O,ROW()-2,COLUMN(A:A))))","v":""},{"$f":"IF($D36=\"\",\"\",$F$2)","v":""},null,"",{"$f":"IF($D36=\"\",\"\",IF(INDEX(december!$A:$O,ROW()-2,COLUMN($E:$E))=\"\",\"\",INDEX(december!$A:$O,ROW()-2,COLUMN($E:$E))))","v":""},null,null,{"$f":"IF($D36=\"\",\"\",IF(INDEX(december!$A:$O,ROW()-2,COLUMN($D:$D))=\"\",\"\",INDEX(december!$A:$O,ROW()-2,COLUMN($D:$D))))","v":""}]
["",{"$f":"IF($D37=\"\",\"\",INDEX(december!$A:$O,ROW()-2,COLUMN($C:$C)))","v":""},"Variabel",{"$f":"IF(INDEX(december!$A:$O,ROW()-2,COLUMN(D:D))=\"\",\"\",IF(INDEX(december!$A:$O,ROW()-2,COLUMN(A:A))=\"\",\"\",INDEX(december!$A:$O,ROW()-2,COLUMN(A:A))))","v":""},"",null,"",{"$f":"IF($D37=\"\",\"\",IF(INDEX(december!$A:$O,ROW()-2,COLUMN($E:$E))=\"\",\"\",INDEX(december!$A:$O,ROW()-2,COLUMN($E:$E))))","v":""},null,null,{"$f":"IF($D37=\"\",\"\",IF(INDEX(december!$A:$O,ROW()-2,COLUMN($D:$D))=\"\",\"\",INDEX(december!$A:$O,ROW()-2,COLUMN($D:$D))))","v":""}]
["",{"$f":"IF($D38=\"\",\"\",INDEX(december!$A:$O,ROW()-2,COLUMN($C:$C)))","v":""},"Variabel",{"$f":"IF(INDEX(december!$A:$O,ROW()-2,COLUMN(D:D))=\"\",\"\",IF(INDEX(december!$A:$O,ROW()-2,COLUMN(A:A))=\"\",\"\",INDEX(december!$A:$O,ROW()-2,COLUMN(A:A))))","v":""},"",null,"",{"$f":"IF($D38=\"\",\"\",IF(INDEX(december!$A:$O,ROW()-2,COLUMN($E:$E))=\"\",\"\",INDEX(december!$A:$O,ROW()-2,COLUMN($E:$E))))","v":""},null,null,{"$f":"IF($D38=\"\",\"\",IF(INDEX(december!$A:$O,ROW()-2,COLUMN($D:$D))=\"\",\"\",INDEX(december!$A:$O,ROW()-2,COLUMN($D:$D))))","v":""}]
["",{"$f":"IF($D39=\"\",\"\",INDEX(december!$A:$O,ROW()-2,COLUMN($C:$C)))","v":""},"Variabel",{"$f":"IF(INDEX(december!$A:$O,ROW()-2,COLUMN(D:D))=\"\",\"\",IF(INDEX(december!$A:$O,ROW()-2,COLUMN(A:A))=\"\",\"\",INDEX(december!$A:$O,ROW()-2,COLUMN(A:A))))","v":""},"",null,"",{"$f":"IF($D39=\"\",\"\",IF(INDEX(december!$A:$O,ROW()-2,COLUMN($E:$E))=\"\",\"\",INDEX(december!$A:$O,ROW()-2,COLUMN($E:$E))))","v":""},null,null,{"$f":"IF($D39=\"\",\"\",IF(INDEX(december!$A:$O,ROW()-2,COLUMN($D:$D))=\"\",\"\",INDEX(december!$A:$O,ROW()-2,COLUMN($D:$D))))","v":""}]
["",{"$f":"IF($D40=\"\",\"\",INDEX(december!$A:$O,ROW()-2,COLUMN($C:$C)))","v":""},"Variabel",{"$f":"IF(INDEX(december!$A:$O,ROW()-2,COLUMN(D:D))=\"\",\"\",IF(INDEX(december!$A:$O,ROW()-2,COLUMN(A:A))=\"\",\"\",INDEX(december!$A:$O,ROW()-2,COLUMN(A:A))))","v":""},"",null,"",{"$f":"IF($D40=\"\",\"\",IF(INDEX(december!$A:$O,ROW()-2,COLUMN($E:$E))=\"\",\"\",INDEX(december!$A:$O,ROW()-2,COLUMN($E:$E))))","v":""},null,null,{"$f":"IF($D40=\"\",\"\",IF(INDEX(december!$A:$O,ROW()-2,COLUMN($D:$D))=\"\",\"\",INDEX(december!$A:$O,ROW()-2,COLUMN($D:$D))))","v":""}]
["",{"$f":"IF($D41=\"\",\"\",INDEX(december!$A:$O,ROW()-2,COLUMN($C:$C)))","v":""},"Variabel",{"$f":"IF(INDEX(december!$A:$O,ROW()-2,COLUMN(D:D))=\"\",\"\",IF(INDEX(december!$A:$O,ROW()-2,COLUMN(A:A))=\"\",\"\",INDEX(december!$A:$O,ROW()-2,COLUMN(A:A))))","v":""},"",null,"",{"$f":"IF($D41=\"\",\"\",IF(INDEX(december!$A:$O,ROW()-2,COLUMN($E:$E))=\"\",\"\",INDEX(december!$A:$O,ROW()-2,COLUMN($E:$E))))","v":""},null,null,{"$f":"IF($D41=\"\",\"\",IF(INDEX(december!$A:$O,ROW()-2,COLUMN($D:$D))=\"\",\"\",INDEX(december!$A:$O,ROW()-2,COLUMN($D:$D))))","v":""}]
["",{"$f":"IF($D42=\"\",\"\",INDEX(december!$A:$O,ROW()-2,COLUMN($C:$C)))","v":""},"Variabel",{"$f":"IF(INDEX(december!$A:$O,ROW()-2,COLUMN(D:D))=\"\",\"\",IF(INDEX(december!$A:$O,ROW()-2,COLUMN(A:A))=\"\",\"\",INDEX(december!$A:$O,ROW()-2,COLUMN(A:A))))","v":""},"",null,"",{"$f":"IF($D42=\"\",\"\",IF(INDEX(december!$A:$O,ROW()-2,COLUMN($E:$E))=\"\",\"\",INDEX(december!$A:$O,ROW()-2,COLUMN($E:$E))))","v":""},null,null,{"$f":"IF($D42=\"\",\"\",IF(INDEX(december!$A:$O,ROW()-2,COLUMN($D:$D))=\"\",\"\",INDEX(december!$A:$O,ROW()-2,COLUMN($D:$D))))","v":""}]
["",{"$f":"IF($D43=\"\",\"\",INDEX(december!$A:$O,ROW()-2,COLUMN($C:$C)))","v":""},"Variabel",{"$f":"IF(INDEX(december!$A:$O,ROW()-2,COLUMN(D:D))=\"\",\"\",IF(INDEX(december!$A:$O,ROW()-2,COLUMN(A:A))=\"\",\"\",INDEX(december!$A:$O,ROW()-2,COLUMN(A:A))))","v":""},"",null,"",{"$f":"IF($D43=\"\",\"\",IF(INDEX(december!$A:$O,ROW()-2,COLUMN($E:$E))=\"\",\"\",INDEX(december!$A:$O,ROW()-2,COLUMN($E:$E))))","v":""},null,null,{"$f":"IF($D43=\"\",\"\",IF(INDEX(december!$A:$O,ROW()-2,COLUMN($D:$D))=\"\",\"\",INDEX(december!$A:$O,ROW()-2,COLUMN($D:$D))))","v":""}]
["",{"$f":"IF($D44=\"\",\"\",INDEX(december!$A:$O,ROW()-2,COLUMN($C:$C)))","v":""},"Variabel",{"$f":"IF(INDEX(december!$A:$O,ROW()-2,COLUMN(D:D))=\"\",\"\",IF(INDEX(december!$A:$O,ROW()-2,COLUMN(A:A))=\"\",\"\",INDEX(december!$A:$O,ROW()-2,COLUMN(A:A))))","v":""},"",null,"",{"$f":"IF($D44=\"\",\"\",IF(INDEX(december!$A:$O,ROW()-2,COLUMN($E:$E))=\"\",\"\",INDEX(december!$A:$O,ROW()-2,COLUMN($E:$E))))","v":""},null,null,{"$f":"IF($D44=\"\",\"\",IF(INDEX(december!$A:$O,ROW()-2,COLUMN($D:$D))=\"\",\"\",INDEX(december!$A:$O,ROW()-2,COLUMN($D:$D))))","v":""}]
["",{"$f":"IF($D45=\"\",\"\",INDEX(december!$A:$O,ROW()-2,COLUMN($C:$C)))","v":""},"Variabel",{"$f":"IF(INDEX(december!$A:$O,ROW()-2,COLUMN(D:D))=\"\",\"\",IF(INDEX(december!$A:$O,ROW()-2,COLUMN(A:A))=\"\",\"\",INDEX(december!$A:$O,ROW()-2,COLUMN(A:A))))","v":""},"",null,"",{"$f":"IF($D45=\"\",\"\",IF(INDEX(december!$A:$O,ROW()-2,COLUMN($E:$E))=\"\",\"\",INDEX(december!$A:$O,ROW()-2,COLUMN($E:$E))))","v":""},null,null,{"$f":"IF($D45=\"\",\"\",IF(INDEX(december!$A:$O,ROW()-2,COLUMN($D:$D))=\"\",\"\",INDEX(december!$A:$O,ROW()-2,COLUMN($D:$D))))","v":""}]
["",{"$f":"IF($D46=\"\",\"\",INDEX(december!$A:$O,ROW()-2,COLUMN($C:$C)))","v":""},"Variabel",{"$f":"IF(INDEX(december!$A:$O,ROW()-2,COLUMN(D:D))=\"\",\"\",IF(INDEX(december!$A:$O,ROW()-2,COLUMN(A:A))=\"\",\"\",INDEX(december!$A:$O,ROW()-2,COLUMN(A:A))))","v":""},"",null,"",{"$f":"IF($D46=\"\",\"\",IF(INDEX(december!$A:$O,ROW()-2,COLUMN($E:$E))=\"\",\"\",INDEX(december!$A:$O,ROW()-2,COLUMN($E:$E))))","v":""},null,null,{"$f":"IF($D46=\"\",\"\",IF(INDEX(december!$A:$O,ROW()-2,COLUMN($D:$D))=\"\",\"\",INDEX(december!$A:$O,ROW()-2,COLUMN($D:$D))))","v":""}]
["",{"$f":"IF($D47=\"\",\"\",INDEX(december!$A:$O,ROW()-2,COLUMN($C:$C)))","v":""},"Variabel",{"$f":"IF(INDEX(december!$A:$O,ROW()-2,COLUMN(D:D))=\"\",\"\",IF(INDEX(december!$A:$O,ROW()-2,COLUMN(A:A))=\"\",\"\",INDEX(december!$A:$O,ROW()-2,COLUMN(A:A))))","v":""},"",null,"",{"$f":"IF($D47=\"\",\"\",IF(INDEX(december!$A:$O,ROW()-2,COLUMN($E:$E))=\"\",\"\",INDEX(december!$A:$O,ROW()-2,COLUMN($E:$E))))","v":""},null,null,{"$f":"IF($D47=\"\",\"\",IF(INDEX(december!$A:$O,ROW()-2,COLUMN($D:$D))=\"\",\"\",INDEX(december!$A:$O,ROW()-2,COLUMN($D:$D))))","v":""}]
["",{"$f":"IF($D48=\"\",\"\",INDEX(december!$A:$O,ROW()-2,COLUMN($C:$C)))","v":""},"Variabel",{"$f":"IF(INDEX(december!$A:$O,ROW()-2,COLUMN(D:D))=\"\",\"\",IF(INDEX(december!$A:$O,ROW()-2,COLUMN(A:A))=\"\",\"\",INDEX(december!$A:$O,ROW()-2,COLUMN(A:A))))","v":""},"",null,"",{"$f":"IF($D48=\"\",\"\",IF(INDEX(december!$A:$O,ROW()-2,COLUMN($E:$E))=\"\",\"\",INDEX(december!$A:$O,ROW()-2,COLUMN($E:$E))))","v":""},null,null,{"$f":"IF($D48=\"\",\"\",IF(INDEX(december!$A:$O,ROW()-2,COLUMN($D:$D))=\"\",\"\",INDEX(december!$A:$O,ROW()-2,COLUMN($D:$D))))","v":""}]
["",{"$f":"IF($D49=\"\",\"\",INDEX(december!$A:$O,ROW()-2,COLUMN($C:$C)))","v":""},"Variabel",{"$f":"IF(INDEX(december!$A:$O,ROW()-2,COLUMN(D:D))=\"\",\"\",IF(INDEX(december!$A:$O,ROW()-2,COLUMN(A:A))=\"\",\"\",INDEX(december!$A:$O,ROW()-2,COLUMN(A:A))))","v":""},"",null,"",{"$f":"IF($D49=\"\",\"\",IF(INDEX(december!$A:$O,ROW()-2,COLUMN($E:$E))=\"\",\"\",INDEX(december!$A:$O,ROW()-2,COLUMN($E:$E))))","v":""},null,null,{"$f":"IF($D49=\"\",\"\",IF(INDEX(december!$A:$O,ROW()-2,COLUMN($D:$D))=\"\",\"\",INDEX(december!$A:$O,ROW()-2,COLUMN($D:$D))))","v":""}]
["",{"$f":"IF($D50=\"\",\"\",INDEX(december!$A:$O,ROW()-2,COLUMN($C:$C)))","v":""},"Variabel",{"$f":"IF(INDEX(december!$A:$O,ROW()-2,COLUMN(D:D))=\"\",\"\",IF(INDEX(december!$A:$O,ROW()-2,COLUMN(A:A))=\"\",\"\",INDEX(december!$A:$O,ROW()-2,COLUMN(A:A))))","v":""},"",null,"",{"$f":"IF($D50=\"\",\"\",IF(INDEX(december!$A:$O,ROW()-2,COLUMN($E:$E))=\"\",\"\",INDEX(december!$A:$O,ROW()-2,COLUMN($E:$E))))","v":""},null,null,{"$f":"IF($D50=\"\",\"\",IF(INDEX(december!$A:$O,ROW()-2,COLUMN($D:$D))=\"\",\"\",INDEX(december!$A:$O,ROW()-2,COLUMN($D:$D))))","v":""}]
["",{"$f":"IF($D51=\"\",\"\",INDEX(december!$A:$O,ROW()-2,COLUMN($C:$C)))","v":""},"Variabel",{"$f":"IF(INDEX(december!$A:$O,ROW()-2,COLUMN(D:D))=\"\",\"\",IF(INDEX(december!$A:$O,ROW()-2,COLUMN(A:A))=\"\",\"\",INDEX(december!$A:$O,ROW()-2,COLUMN(A:A))))","v":""},"",null,"",{"$f":"IF($D51=\"\",\"\",IF(INDEX(december!$A:$O,ROW()-2,COLUMN($E:$E))=\"\",\"\",INDEX(december!$A:$O,ROW()-2,COLUMN($E:$E))))","v":""},null,null,{"$f":"IF($D51=\"\",\"\",IF(INDEX(december!$A:$O,ROW()-2,COLUMN($D:$D))=\"\",\"\",INDEX(december!$A:$O,ROW()-2,COLUMN($D:$D))))","v":""}]
["",{"$f":"IF($D52=\"\",\"\",INDEX(december!$A:$O,ROW()-2,COLUMN($C:$C)))","v":""},"Variabel",{"$f":"IF(INDEX(december!$A:$O,ROW()-2,COLUMN(D:D))=\"\",\"\",IF(INDEX(december!$A:$O,ROW()-2,COLUMN(A:A))=\"\",\"\",INDEX(december!$A:$O,ROW()-2,COLUMN(A:A))))","v":""},"",null,"",{"$f":"IF($D52=\"\",\"\",IF(INDEX(december!$A:$O,ROW()-2,COLUMN($E:$E))=\"\",\"\",INDEX(december!$A:$O,ROW()-2,COLUMN($E:$E))))","v":""},null,null,{"$f":"IF($D52=\"\",\"\",IF(INDEX(december!$A:$O,ROW()-2,COLUMN($D:$D))=\"\",\"\",INDEX(december!$A:$O,ROW()-2,COLUMN($D:$D))))","v":""}]
["",{"$f":"IF($D53=\"\",\"\",INDEX(december!$A:$O,ROW()-2,COLUMN($C:$C)))","v":""},"Variabel",{"$f":"IF(INDEX(december!$A:$O,ROW()-2,COLUMN(D:D))=\"\",\"\",IF(INDEX(december!$A:$O,ROW()-2,COLUMN(A:A))=\"\",\"\",INDEX(december!$A:$O,ROW()-2,COLUMN(A:A))))","v":""},"",null,"",{"$f":"IF($D53=\"\",\"\",IF(INDEX(december!$A:$O,ROW()-2,COLUMN($E:$E))=\"\",\"\",INDEX(december!$A:$O,ROW()-2,COLUMN($E:$E))))","v":""},null,null,{"$f":"IF($D53=\"\",\"\",IF(INDEX(december!$A:$O,ROW()-2,COLUMN($D:$D))=\"\",\"\",INDEX(december!$A:$O,ROW()-2,COLUMN($D:$D))))","v":""}]
["",{"$f":"IF($D54=\"\",\"\",INDEX(december!$A:$O,ROW()-2,COLUMN($C:$C)))","v":""},"Variabel",{"$f":"IF(INDEX(december!$A:$O,ROW()-2,COLUMN(D:D))=\"\",\"\",IF(INDEX(december!$A:$O,ROW()-2,COLUMN(A:A))=\"\",\"\",INDEX(december!$A:$O,ROW()-2,COLUMN(A:A))))","v":""},"",null,"",{"$f":"IF($D54=\"\",\"\",IF(INDEX(december!$A:$O,ROW()-2,COLUMN($E:$E))=\"\",\"\",INDEX(december!$A:$O,ROW()-2,COLUMN($E:$E))))","v":""},null,null,{"$f":"IF($D54=\"\",\"\",IF(INDEX(december!$A:$O,ROW()-2,COLUMN($D:$D))=\"\",\"\",INDEX(december!$A:$O,ROW()-2,COLUMN($D:$D))))","v":""}]
["",{"$f":"IF($D55=\"\",\"\",INDEX(december!$A:$O,ROW()-2,COLUMN($C:$C)))","v":""},"Variabel",{"$f":"IF(INDEX(december!$A:$O,ROW()-2,COLUMN(D:D))=\"\",\"\",IF(INDEX(december!$A:$O,ROW()-2,COLUMN(A:A))=\"\",\"\",INDEX(december!$A:$O,ROW()-2,COLUMN(A:A))))","v":""},"",null,"",{"$f":"IF($D55=\"\",\"\",IF(INDEX(december!$A:$O,ROW()-2,COLUMN($E:$E))=\"\",\"\",INDEX(december!$A:$O,ROW()-2,COLUMN($E:$E))))","v":""},null,null,{"$f":"IF($D55=\"\",\"\",IF(INDEX(december!$A:$O,ROW()-2,COLUMN($D:$D))=\"\",\"\",INDEX(december!$A:$O,ROW()-2,COLUMN($D:$D))))","v":""}]
["",{"$f":"IF($D56=\"\",\"\",INDEX(december!$A:$O,ROW()-2,COLUMN($C:$C)))","v":""},"Variabel",{"$f":"IF(INDEX(december!$A:$O,ROW()-2,COLUMN(D:D))=\"\",\"\",IF(INDEX(december!$A:$O,ROW()-2,COLUMN(A:A))=\"\",\"\",INDEX(december!$A:$O,ROW()-2,COLUMN(A:A))))","v":""},"",null,"",{"$f":"IF($D56=\"\",\"\",IF(INDEX(december!$A:$O,ROW()-2,COLUMN($E:$E))=\"\",\"\",INDEX(december!$A:$O,ROW()-2,COLUMN($E:$E))))","v":""},null,null,{"$f":"IF($D56=\"\",\"\",IF(INDEX(december!$A:$O,ROW()-2,COLUMN($D:$D))=\"\",\"\",INDEX(december!$A:$O,ROW()-2,COLUMN($D:$D))))","v":""}]
["",{"$f":"IF($D57=\"\",\"\",INDEX(december!$A:$O,ROW()-2,COLUMN($C:$C)))","v":""},"Variabel",{"$f":"IF(INDEX(december!$A:$O,ROW()-2,COLUMN(D:D))=\"\",\"\",IF(INDEX(december!$A:$O,ROW()-2,COLUMN(A:A))=\"\",\"\",INDEX(december!$A:$O,ROW()-2,COLUMN(A:A))))","v":""},"",null,"",{"$f":"IF($D57=\"\",\"\",IF(INDEX(december!$A:$O,ROW()-2,COLUMN($E:$E))=\"\",\"\",INDEX(december!$A:$O,ROW()-2,COLUMN($E:$E))))","v":""},null,null,{"$f":"IF($D57=\"\",\"\",IF(INDEX(december!$A:$O,ROW()-2,COLUMN($D:$D))=\"\",\"\",INDEX(december!$A:$O,ROW()-2,COLUMN($D:$D))))","v":""}]
["",{"$f":"IF($D58=\"\",\"\",INDEX(december!$A:$O,ROW()-2,COLUMN($C:$C)))","v":""},"Variabel",{"$f":"IF(INDEX(december!$A:$O,ROW()-2,COLUMN(D:D))=\"\",\"\",IF(INDEX(december!$A:$O,ROW()-2,COLUMN(A:A))=\"\",\"\",INDEX(december!$A:$O,ROW()-2,COLUMN(A:A))))","v":""},"",null,"",{"$f":"IF($D58=\"\",\"\",IF(INDEX(december!$A:$O,ROW()-2,COLUMN($E:$E))=\"\",\"\",INDEX(december!$A:$O,ROW()-2,COLUMN($E:$E))))","v":""},null,null,{"$f":"IF($D58=\"\",\"\",IF(INDEX(december!$A:$O,ROW()-2,COLUMN($D:$D))=\"\",\"\",INDEX(december!$A:$O,ROW()-2,COLUMN($D:$D))))","v":""}]
["",{"$f":"IF($D59=\"\",\"\",INDEX(december!$A:$O,ROW()-2,COLUMN($C:$C)))","v":""},"Variabel",{"$f":"IF(INDEX(december!$A:$O,ROW()-2,COLUMN(D:D))=\"\",\"\",IF(INDEX(december!$A:$O,ROW()-2,COLUMN(A:A))=\"\",\"\",INDEX(december!$A:$O,ROW()-2,COLUMN(A:A))))","v":""},"",null,"",{"$f":"IF($D59=\"\",\"\",IF(INDEX(december!$A:$O,ROW()-2,COLUMN($E:$E))=\"\",\"\",INDEX(december!$A:$O,ROW()-2,COLUMN($E:$E))))","v":""},null,null,{"$f":"IF($D59=\"\",\"\",IF(INDEX(december!$A:$O,ROW()-2,COLUMN($D:$D))=\"\",\"\",INDEX(december!$A:$O,ROW()-2,COLUMN($D:$D))))","v":""}]
["",{"$f":"IF($D60=\"\",\"\",INDEX(december!$A:$O,ROW()-2,COLUMN($C:$C)))","v":""},"Variabel",{"$f":"IF(INDEX(december!$A:$O,ROW()-2,COLUMN(D:D))=\"\",\"\",IF(INDEX(december!$A:$O,ROW()-2,COLUMN(A:A))=\"\",\"\",INDEX(december!$A:$O,ROW()-2,COLUMN(A:A))))","v":""},"",null,"",{"$f":"IF($D60=\"\",\"\",IF(INDEX(december!$A:$O,ROW()-2,COLUMN($E:$E))=\"\",\"\",INDEX(december!$A:$O,ROW()-2,COLUMN($E:$E))))","v":""},null,null,{"$f":"IF($D60=\"\",\"\",IF(INDEX(december!$A:$O,ROW()-2,COLUMN($D:$D))=\"\",\"\",INDEX(december!$A:$O,ROW()-2,COLUMN($D:$D))))","v":""}]
["",{"$f":"IF($D61=\"\",\"\",INDEX(december!$A:$O,ROW()-2,COLUMN($C:$C)))","v":""},"Variabel",{"$f":"IF(INDEX(december!$A:$O,ROW()-2,COLUMN(D:D))=\"\",\"\",IF(INDEX(december!$A:$O,ROW()-2,COLUMN(A:A))=\"\",\"\",INDEX(december!$A:$O,ROW()-2,COLUMN(A:A))))","v":""},"",null,"",{"$f":"IF($D61=\"\",\"\",IF(INDEX(december!$A:$O,ROW()-2,COLUMN($E:$E))=\"\",\"\",INDEX(december!$A:$O,ROW()-2,COLUMN($E:$E))))","v":""},null,null,{"$f":"IF($D61=\"\",\"\",IF(INDEX(december!$A:$O,ROW()-2,COLUMN($D:$D))=\"\",\"\",INDEX(december!$A:$O,ROW()-2,COLUMN($D:$D))))","v":""}]
["",{"$f":"IF($D62=\"\",\"\",INDEX(december!$A:$O,ROW()-2,COLUMN($C:$C)))","v":""},"Variabel",{"$f":"IF(INDEX(december!$A:$O,ROW()-2,COLUMN(D:D))=\"\",\"\",IF(INDEX(december!$A:$O,ROW()-2,COLUMN(A:A))=\"\",\"\",INDEX(december!$A:$O,ROW()-2,COLUMN(A:A))))","v":""},"",null,"",{"$f":"IF($D62=\"\",\"\",IF(INDEX(december!$A:$O,ROW()-2,COLUMN($E:$E))=\"\",\"\",INDEX(december!$A:$O,ROW()-2,COLUMN($E:$E))))","v":""},null,null,{"$f":"IF($D62=\"\",\"\",IF(INDEX(december!$A:$O,ROW()-2,COLUMN($D:$D))=\"\",\"\",INDEX(december!$A:$O,ROW()-2,COLUMN($D:$D))))","v":""}]
["",{"$f":"IF($D63=\"\",\"\",INDEX(december!$A:$O,ROW()-2,COLUMN($C:$C)))","v":""},"Variabel",{"$f":"IF(INDEX(december!$A:$O,ROW()-2,COLUMN(D:D))=\"\",\"\",IF(INDEX(december!$A:$O,ROW()-2,COLUMN(A:A))=\"\",\"\",INDEX(december!$A:$O,ROW()-2,COLUMN(A:A))))","v":""},"",null,"",{"$f":"IF($D63=\"\",\"\",IF(INDEX(december!$A:$O,ROW()-2,COLUMN($E:$E))=\"\",\"\",INDEX(december!$A:$O,ROW()-2,COLUMN($E:$E))))","v":""},null,null,{"$f":"IF($D63=\"\",\"\",IF(INDEX(december!$A:$O,ROW()-2,COLUMN($D:$D))=\"\",\"\",INDEX(december!$A:$O,ROW()-2,COLUMN($D:$D))))","v":""}]
["",{"$f":"IF($D64=\"\",\"\",INDEX(december!$A:$O,ROW()-2,COLUMN($C:$C)))","v":""},"Variabel",{"$f":"IF(INDEX(december!$A:$O,ROW()-2,COLUMN(D:D))=\"\",\"\",IF(INDEX(december!$A:$O,ROW()-2,COLUMN(A:A))=\"\",\"\",INDEX(december!$A:$O,ROW()-2,COLUMN(A:A))))","v":""},"",null,"",{"$f":"IF($D64=\"\",\"\",IF(INDEX(december!$A:$O,ROW()-2,COLUMN($E:$E))=\"\",\"\",INDEX(december!$A:$O,ROW()-2,COLUMN($E:$E))))","v":""},null,null,{"$f":"IF($D64=\"\",\"\",IF(INDEX(december!$A:$O,ROW()-2,COLUMN($D:$D))=\"\",\"\",INDEX(december!$A:$O,ROW()-2,COLUMN($D:$D))))","v":""}]
["",{"$f":"IF($D65=\"\",\"\",INDEX(december!$A:$O,ROW()-2,COLUMN($C:$C)))","v":""},"Variabel",{"$f":"IF(INDEX(december!$A:$O,ROW()-2,COLUMN(D:D))=\"\",\"\",IF(INDEX(december!$A:$O,ROW()-2,COLUMN(A:A))=\"\",\"\",INDEX(december!$A:$O,ROW()-2,COLUMN(A:A))))","v":""},"",null,"",{"$f":"IF($D65=\"\",\"\",IF(INDEX(december!$A:$O,ROW()-2,COLUMN($E:$E))=\"\",\"\",INDEX(december!$A:$O,ROW()-2,COLUMN($E:$E))))","v":""},null,null,{"$f":"IF($D65=\"\",\"\",IF(INDEX(december!$A:$O,ROW()-2,COLUMN($D:$D))=\"\",\"\",INDEX(december!$A:$O,ROW()-2,COLUMN($D:$D))))","v":""}]
["",{"$f":"IF($D66=\"\",\"\",INDEX(december!$A:$O,ROW()-2,COLUMN($C:$C)))","v":""},"Variabel",{"$f":"IF(INDEX(december!$A:$O,ROW()-2,COLUMN(D:D))=\"\",\"\",IF(INDEX(december!$A:$O,ROW()-2,COLUMN(A:A))=\"\",\"\",INDEX(december!$A:$O,ROW()-2,COLUMN(A:A))))","v":""},"",null,"",{"$f":"IF($D66=\"\",\"\",IF(INDEX(december!$A:$O,ROW()-2,COLUMN($E:$E))=\"\",\"\",INDEX(december!$A:$O,ROW()-2,COLUMN($E:$E))))","v":""},null,null,{"$f":"IF($D66=\"\",\"\",IF(INDEX(december!$A:$O,ROW()-2,COLUMN($D:$D))=\"\",\"\",INDEX(december!$A:$O,ROW()-2,COLUMN($D:$D))))","v":""}]
["",{"$f":"IF($D67=\"\",\"\",INDEX(december!$A:$O,ROW()-2,COLUMN($C:$C)))","v":""},"Variabel",{"$f":"IF(INDEX(december!$A:$O,ROW()-2,COLUMN(D:D))=\"\",\"\",IF(INDEX(december!$A:$O,ROW()-2,COLUMN(A:A))=\"\",\"\",INDEX(december!$A:$O,ROW()-2,COLUMN(A:A))))","v":""},"",null,"",{"$f":"IF($D67=\"\",\"\",IF(INDEX(december!$A:$O,ROW()-2,COLUMN($E:$E))=\"\",\"\",INDEX(december!$A:$O,ROW()-2,COLUMN($E:$E))))","v":""},null,null,{"$f":"IF($D67=\"\",\"\",IF(INDEX(december!$A:$O,ROW()-2,COLUMN($D:$D))=\"\",\"\",INDEX(december!$A:$O,ROW()-2,COLUMN($D:$D))))","v":""}]
[{"$f":"IF($D68=\"\",\"\",$A$2)","v":""},{"$f":"IF($D68=\"\",\"\",INDEX(december!$A:$O,ROW()-2,COLUMN($C:$C)))","v":""},"Variabel",{"$f":"IF(INDEX(december!$A:$O,ROW()-2,COLUMN(D:D))=\"\",\"\",IF(INDEX(december!$A:$O,ROW()-2,COLUMN(A:A))=\"\",\"\",INDEX(december!$A:$O,ROW()-2,COLUMN(A:A))))","v":""},{"$f":"IF($D68=\"\",\"\",$F$2)","v":""},null,"",{"$f":"IF($D68=\"\",\"\",IF(INDEX(december!$A:$O,ROW()-2,COLUMN($E:$E))=\"\",\"\",INDEX(december!$A:$O,ROW()-2,COLUMN($E:$E))))","v":""},null,null,{"$f":"IF($D68=\"\",\"\",IF(INDEX(december!$A:$O,ROW()-2,COLUMN($D:$D))=\"\",\"\",INDEX(december!$A:$O,ROW()-2,COLUMN($D:$D))))","v":""}]
["",{"$f":"IF($D69=\"\",\"\",INDEX(december!$A:$O,ROW()-2,COLUMN($C:$C)))","v":""},"Variabel",{"$f":"IF(INDEX(december!$A:$O,ROW()-2,COLUMN(D:D))=\"\",\"\",IF(INDEX(december!$A:$O,ROW()-2,COLUMN(A:A))=\"\",\"\",INDEX(december!$A:$O,ROW()-2,COLUMN(A:A))))","v":""},"",null,{"$f":"IF($D69=\"\",\"\",1181)","v":""},{"$f":"IF($D69=\"\",\"\",IF(INDEX(december!$A:$O,ROW()-2,COLUMN($E:$E))=\"\",\"\",INDEX(december!$A:$O,ROW()-2,COLUMN($E:$E))))","v":""},null,null,{"$f":"IF($D69=\"\",\"\",IF(INDEX(december!$A:$O,ROW()-2,COLUMN($D:$D))=\"\",\"\",INDEX(december!$A:$O,ROW()-2,COLUMN($D:$D))))","v":""}]
["",{"$f":"IF($D70=\"\",\"\",INDEX(december!$A:$O,ROW()-2,COLUMN($C:$C)))","v":""},"Variabel",{"$f":"IF(INDEX(december!$A:$O,ROW()-2,COLUMN(D:D))=\"\",\"\",IF(INDEX(december!$A:$O,ROW()-2,COLUMN(A:A))=\"\",\"\",INDEX(december!$A:$O,ROW()-2,COLUMN(A:A))))","v":""},"",null,"",{"$f":"IF($D70=\"\",\"\",IF(INDEX(december!$A:$O,ROW()-2,COLUMN($E:$E))=\"\",\"\",INDEX(december!$A:$O,ROW()-2,COLUMN($E:$E))))","v":""},null,null,{"$f":"IF($D70=\"\",\"\",IF(INDEX(december!$A:$O,ROW()-2,COLUMN($D:$D))=\"\",\"\",INDEX(december!$A:$O,ROW()-2,COLUMN($D:$D))))","v":""}]
["",{"$f":"IF($D71=\"\",\"\",INDEX(december!$A:$O,ROW()-2,COLUMN($C:$C)))","v":""},"Variabel",{"$f":"IF(INDEX(december!$A:$O,ROW()-2,COLUMN(D:D))=\"\",\"\",IF(INDEX(december!$A:$O,ROW()-2,COLUMN(A:A))=\"\",\"\",INDEX(december!$A:$O,ROW()-2,COLUMN(A:A))))","v":""},"",null,"",{"$f":"IF($D71=\"\",\"\",IF(INDEX(december!$A:$O,ROW()-2,COLUMN($E:$E))=\"\",\"\",INDEX(december!$A:$O,ROW()-2,COLUMN($E:$E))))","v":""},null,null,{"$f":"IF($D71=\"\",\"\",IF(INDEX(december!$A:$O,ROW()-2,COLUMN($D:$D))=\"\",\"\",INDEX(december!$A:$O,ROW()-2,COLUMN($D:$D))))","v":""}]
["",{"$f":"IF($D72=\"\",\"\",INDEX(december!$A:$O,ROW()-2,COLUMN($C:$C)))","v":""},"Variabel",{"$f":"IF(INDEX(december!$A:$O,ROW()-2,COLUMN(D:D))=\"\",\"\",IF(INDEX(december!$A:$O,ROW()-2,COLUMN(A:A))=\"\",\"\",INDEX(december!$A:$O,ROW()-2,COLUMN(A:A))))","v":""},"",null,"",{"$f":"IF($D72=\"\",\"\",IF(INDEX(december!$A:$O,ROW()-2,COLUMN($E:$E))=\"\",\"\",INDEX(december!$A:$O,ROW()-2,COLUMN($E:$E))))","v":""},null,null,{"$f":"IF($D72=\"\",\"\",IF(INDEX(december!$A:$O,ROW()-2,COLUMN($D:$D))=\"\",\"\",INDEX(december!$A:$O,ROW()-2,COLUMN($D:$D))))","v":""}]
["",{"$f":"IF($D73=\"\",\"\",INDEX(december!$A:$O,ROW()-2,COLUMN($C:$C)))","v":""},"Variabel",{"$f":"IF(INDEX(december!$A:$O,ROW()-2,COLUMN(D:D))=\"\",\"\",IF(INDEX(december!$A:$O,ROW()-2,COLUMN(A:A))=\"\",\"\",INDEX(december!$A:$O,ROW()-2,COLUMN(A:A))))","v":""},"",null,"",{"$f":"IF($D73=\"\",\"\",IF(INDEX(december!$A:$O,ROW()-2,COLUMN($E:$E))=\"\",\"\",INDEX(december!$A:$O,ROW()-2,COLUMN($E:$E))))","v":""},null,null,{"$f":"IF($D73=\"\",\"\",IF(INDEX(december!$A:$O,ROW()-2,COLUMN($D:$D))=\"\",\"\",INDEX(december!$A:$O,ROW()-2,COLUMN($D:$D))))","v":""}]
["",{"$f":"IF($D74=\"\",\"\",INDEX(december!$A:$O,ROW()-2,COLUMN($C:$C)))","v":""},"Variabel",{"$f":"IF(INDEX(december!$A:$O,ROW()-2,COLUMN(D:D))=\"\",\"\",IF(INDEX(december!$A:$O,ROW()-2,COLUMN(A:A))=\"\",\"\",INDEX(december!$A:$O,ROW()-2,COLUMN(A:A))))","v":""},"",null,"",{"$f":"IF($D74=\"\",\"\",IF(INDEX(december!$A:$O,ROW()-2,COLUMN($E:$E))=\"\",\"\",INDEX(december!$A:$O,ROW()-2,COLUMN($E:$E))))","v":""},null,null,{"$f":"IF($D74=\"\",\"\",IF(INDEX(december!$A:$O,ROW()-2,COLUMN($D:$D))=\"\",\"\",INDEX(december!$A:$O,ROW()-2,COLUMN($D:$D))))","v":""}]
["",{"$f":"IF($D75=\"\",\"\",INDEX(december!$A:$O,ROW()-2,COLUMN($C:$C)))","v":""},"Variabel",{"$f":"IF(INDEX(december!$A:$O,ROW()-2,COLUMN(D:D))=\"\",\"\",IF(INDEX(december!$A:$O,ROW()-2,COLUMN(A:A))=\"\",\"\",INDEX(december!$A:$O,ROW()-2,COLUMN(A:A))))","v":""},"",null,"",{"$f":"IF($D75=\"\",\"\",IF(INDEX(december!$A:$O,ROW()-2,COLUMN($E:$E))=\"\",\"\",INDEX(december!$A:$O,ROW()-2,COLUMN($E:$E))))","v":""},null,null,{"$f":"IF($D75=\"\",\"\",IF(INDEX(december!$A:$O,ROW()-2,COLUMN($D:$D))=\"\",\"\",INDEX(december!$A:$O,ROW()-2,COLUMN($D:$D))))","v":""}]
["",{"$f":"IF($D76=\"\",\"\",INDEX(december!$A:$O,ROW()-2,COLUMN($C:$C)))","v":""},"Variabel",{"$f":"IF(INDEX(december!$A:$O,ROW()-2,COLUMN(D:D))=\"\",\"\",IF(INDEX(december!$A:$O,ROW()-2,COLUMN(A:A))=\"\",\"\",INDEX(december!$A:$O,ROW()-2,COLUMN(A:A))))","v":""},"",null,"",{"$f":"IF($D76=\"\",\"\",IF(INDEX(december!$A:$O,ROW()-2,COLUMN($E:$E))=\"\",\"\",INDEX(december!$A:$O,ROW()-2,COLUMN($E:$E))))","v":""},null,null,{"$f":"IF($D76=\"\",\"\",IF(INDEX(december!$A:$O,ROW()-2,COLUMN($D:$D))=\"\",\"\",INDEX(december!$A:$O,ROW()-2,COLUMN($D:$D))))","v":""}]
["",{"$f":"IF($D77=\"\",\"\",INDEX(december!$A:$O,ROW()-2,COLUMN($C:$C)))","v":""},"Variabel",{"$f":"IF(INDEX(december!$A:$O,ROW()-2,COLUMN(D:D))=\"\",\"\",IF(INDEX(december!$A:$O,ROW()-2,COLUMN(A:A))=\"\",\"\",INDEX(december!$A:$O,ROW()-2,COLUMN(A:A))))","v":""},"",null,"",{"$f":"IF($D77=\"\",\"\",IF(INDEX(december!$A:$O,ROW()-2,COLUMN($E:$E))=\"\",\"\",INDEX(december!$A:$O,ROW()-2,COLUMN($E:$E))))","v":""},null,null,{"$f":"IF($D77=\"\",\"\",IF(INDEX(december!$A:$O,ROW()-2,COLUMN($D:$D))=\"\",\"\",INDEX(december!$A:$O,ROW()-2,COLUMN($D:$D))))","v":""}]
["",{"$f":"IF($D78=\"\",\"\",INDEX(december!$A:$O,ROW()-2,COLUMN($C:$C)))","v":""},"Variabel",{"$f":"IF(INDEX(december!$A:$O,ROW()-2,COLUMN(D:D))=\"\",\"\",IF(INDEX(december!$A:$O,ROW()-2,COLUMN(A:A))=\"\",\"\",INDEX(december!$A:$O,ROW()-2,COLUMN(A:A))))","v":""},"",null,"",{"$f":"IF($D78=\"\",\"\",IF(INDEX(december!$A:$O,ROW()-2,COLUMN($E:$E))=\"\",\"\",INDEX(december!$A:$O,ROW()-2,COLUMN($E:$E))))","v":""},null,null,{"$f":"IF($D78=\"\",\"\",IF(INDEX(december!$A:$O,ROW()-2,COLUMN($D:$D))=\"\",\"\",INDEX(december!$A:$O,ROW()-2,COLUMN($D:$D))))","v":""}]
["",{"$f":"IF($D79=\"\",\"\",INDEX(december!$A:$O,ROW()-2,COLUMN($C:$C)))","v":""},"Variabel",{"$f":"IF(INDEX(december!$A:$O,ROW()-2,COLUMN(D:D))=\"\",\"\",IF(INDEX(december!$A:$O,ROW()-2,COLUMN(A:A))=\"\",\"\",INDEX(december!$A:$O,ROW()-2,COLUMN(A:A))))","v":""},"",null,"",{"$f":"IF($D79=\"\",\"\",IF(INDEX(december!$A:$O,ROW()-2,COLUMN($E:$E))=\"\",\"\",INDEX(december!$A:$O,ROW()-2,COLUMN($E:$E))))","v":""},null,null,{"$f":"IF($D79=\"\",\"\",IF(INDEX(december!$A:$O,ROW()-2,COLUMN($D:$D))=\"\",\"\",INDEX(december!$A:$O,ROW()-2,COLUMN($D:$D))))","v":""}]
["",{"$f":"IF($D80=\"\",\"\",INDEX(december!$A:$O,ROW()-2,COLUMN($C:$C)))","v":""},"Variabel",{"$f":"IF(INDEX(december!$A:$O,ROW()-2,COLUMN(D:D))=\"\",\"\",IF(INDEX(december!$A:$O,ROW()-2,COLUMN(A:A))=\"\",\"\",INDEX(december!$A:$O,ROW()-2,COLUMN(A:A))))","v":""},"",null,"",{"$f":"IF($D80=\"\",\"\",IF(INDEX(december!$A:$O,ROW()-2,COLUMN($E:$E))=\"\",\"\",INDEX(december!$A:$O,ROW()-2,COLUMN($E:$E))))","v":""},null,null,{"$f":"IF($D80=\"\",\"\",IF(INDEX(december!$A:$O,ROW()-2,COLUMN($D:$D))=\"\",\"\",INDEX(december!$A:$O,ROW()-2,COLUMN($D:$D))))","v":""}]
["",{"$f":"IF($D81=\"\",\"\",INDEX(december!$A:$O,ROW()-2,COLUMN($C:$C)))","v":""},"Variabel",{"$f":"IF(INDEX(december!$A:$O,ROW()-2,COLUMN(D:D))=\"\",\"\",IF(INDEX(december!$A:$O,ROW()-2,COLUMN(A:A))=\"\",\"\",INDEX(december!$A:$O,ROW()-2,COLUMN(A:A))))","v":""},"",null,"",{"$f":"IF($D81=\"\",\"\",IF(INDEX(december!$A:$O,ROW()-2,COLUMN($E:$E))=\"\",\"\",INDEX(december!$A:$O,ROW()-2,COLUMN($E:$E))))","v":""},null,null,{"$f":"IF($D81=\"\",\"\",IF(INDEX(december!$A:$O,ROW()-2,COLUMN($D:$D))=\"\",\"\",INDEX(december!$A:$O,ROW()-2,COLUMN($D:$D))))","v":""}]
["",{"$f":"IF($D82=\"\",\"\",INDEX(december!$A:$O,ROW()-2,COLUMN($C:$C)))","v":""},"Variabel",{"$f":"IF(INDEX(december!$A:$O,ROW()-2,COLUMN(D:D))=\"\",\"\",IF(INDEX(december!$A:$O,ROW()-2,COLUMN(A:A))=\"\",\"\",INDEX(december!$A:$O,ROW()-2,COLUMN(A:A))))","v":""},"",null,"",{"$f":"IF($D82=\"\",\"\",IF(INDEX(december!$A:$O,ROW()-2,COLUMN($E:$E))=\"\",\"\",INDEX(december!$A:$O,ROW()-2,COLUMN($E:$E))))","v":""},null,null,{"$f":"IF($D82=\"\",\"\",IF(INDEX(december!$A:$O,ROW()-2,COLUMN($D:$D))=\"\",\"\",INDEX(december!$A:$O,ROW()-2,COLUMN($D:$D))))","v":""}]
["",{"$f":"IF($D83=\"\",\"\",INDEX(december!$A:$O,ROW()-2,COLUMN($C:$C)))","v":""},"Variabel",{"$f":"IF(INDEX(december!$A:$O,ROW()-2,COLUMN(D:D))=\"\",\"\",IF(INDEX(december!$A:$O,ROW()-2,COLUMN(A:A))=\"\",\"\",INDEX(december!$A:$O,ROW()-2,COLUMN(A:A))))","v":""},"",null,"",{"$f":"IF($D83=\"\",\"\",IF(INDEX(december!$A:$O,ROW()-2,COLUMN($E:$E))=\"\",\"\",INDEX(december!$A:$O,ROW()-2,COLUMN($E:$E))))","v":""},null,null,{"$f":"IF($D83=\"\",\"\",IF(INDEX(december!$A:$O,ROW()-2,COLUMN($D:$D))=\"\",\"\",INDEX(december!$A:$O,ROW()-2,COLUMN($D:$D))))","v":""}]
["",{"$f":"IF($D84=\"\",\"\",INDEX(december!$A:$O,ROW()-2,COLUMN($C:$C)))","v":""},"Variabel",{"$f":"IF(INDEX(december!$A:$O,ROW()-2,COLUMN(D:D))=\"\",\"\",IF(INDEX(december!$A:$O,ROW()-2,COLUMN(A:A))=\"\",\"\",INDEX(december!$A:$O,ROW()-2,COLUMN(A:A))))","v":""},"",null,"",{"$f":"IF($D84=\"\",\"\",IF(INDEX(december!$A:$O,ROW()-2,COLUMN($E:$E))=\"\",\"\",INDEX(december!$A:$O,ROW()-2,COLUMN($E:$E))))","v":""},null,null,{"$f":"IF($D84=\"\",\"\",IF(INDEX(december!$A:$O,ROW()-2,COLUMN($D:$D))=\"\",\"\",INDEX(december!$A:$O,ROW()-2,COLUMN($D:$D))))","v":""}]
["",{"$f":"IF($D85=\"\",\"\",INDEX(december!$A:$O,ROW()-2,COLUMN($C:$C)))","v":""},"Variabel",{"$f":"IF(INDEX(december!$A:$O,ROW()-2,COLUMN(D:D))=\"\",\"\",IF(INDEX(december!$A:$O,ROW()-2,COLUMN(A:A))=\"\",\"\",INDEX(december!$A:$O,ROW()-2,COLUMN(A:A))))","v":""},"",null,"",{"$f":"IF($D85=\"\",\"\",IF(INDEX(december!$A:$O,ROW()-2,COLUMN($E:$E))=\"\",\"\",INDEX(december!$A:$O,ROW()-2,COLUMN($E:$E))))","v":""},null,null,{"$f":"IF($D85=\"\",\"\",IF(INDEX(december!$A:$O,ROW()-2,COLUMN($D:$D))=\"\",\"\",INDEX(december!$A:$O,ROW()-2,COLUMN($D:$D))))","v":""}]
["",{"$f":"IF($D86=\"\",\"\",INDEX(december!$A:$O,ROW()-2,COLUMN($C:$C)))","v":""},"Variabel",{"$f":"IF(INDEX(december!$A:$O,ROW()-2,COLUMN(D:D))=\"\",\"\",IF(INDEX(december!$A:$O,ROW()-2,COLUMN(A:A))=\"\",\"\",INDEX(december!$A:$O,ROW()-2,COLUMN(A:A))))","v":""},"",null,"",{"$f":"IF($D86=\"\",\"\",IF(INDEX(december!$A:$O,ROW()-2,COLUMN($E:$E))=\"\",\"\",INDEX(december!$A:$O,ROW()-2,COLUMN($E:$E))))","v":""},null,null,{"$f":"IF($D86=\"\",\"\",IF(INDEX(december!$A:$O,ROW()-2,COLUMN($D:$D))=\"\",\"\",INDEX(december!$A:$O,ROW()-2,COLUMN($D:$D))))","v":""}]
["",{"$f":"IF($D87=\"\",\"\",INDEX(december!$A:$O,ROW()-2,COLUMN($C:$C)))","v":""},"Variabel",{"$f":"IF(INDEX(december!$A:$O,ROW()-2,COLUMN(D:D))=\"\",\"\",IF(INDEX(december!$A:$O,ROW()-2,COLUMN(A:A))=\"\",\"\",INDEX(december!$A:$O,ROW()-2,COLUMN(A:A))))","v":""},"",null,"",{"$f":"IF($D87=\"\",\"\",IF(INDEX(december!$A:$O,ROW()-2,COLUMN($E:$E))=\"\",\"\",INDEX(december!$A:$O,ROW()-2,COLUMN($E:$E))))","v":""},null,null,{"$f":"IF($D87=\"\",\"\",IF(INDEX(december!$A:$O,ROW()-2,COLUMN($D:$D))=\"\",\"\",INDEX(december!$A:$O,ROW()-2,COLUMN($D:$D))))","v":""}]
["",{"$f":"IF($D88=\"\",\"\",INDEX(december!$A:$O,ROW()-2,COLUMN($C:$C)))","v":""},"Variabel",{"$f":"IF(INDEX(december!$A:$O,ROW()-2,COLUMN(D:D))=\"\",\"\",IF(INDEX(december!$A:$O,ROW()-2,COLUMN(A:A))=\"\",\"\",INDEX(december!$A:$O,ROW()-2,COLUMN(A:A))))","v":""},"",null,"",{"$f":"IF($D88=\"\",\"\",IF(INDEX(december!$A:$O,ROW()-2,COLUMN($E:$E))=\"\",\"\",INDEX(december!$A:$O,ROW()-2,COLUMN($E:$E))))","v":""},null,null,{"$f":"IF($D88=\"\",\"\",IF(INDEX(december!$A:$O,ROW()-2,COLUMN($D:$D))=\"\",\"\",INDEX(december!$A:$O,ROW()-2,COLUMN($D:$D))))","v":""}]
["",{"$f":"IF($D89=\"\",\"\",INDEX(december!$A:$O,ROW()-2,COLUMN($C:$C)))","v":""},"Variabel",{"$f":"IF(INDEX(december!$A:$O,ROW()-2,COLUMN(D:D))=\"\",\"\",IF(INDEX(december!$A:$O,ROW()-2,COLUMN(A:A))=\"\",\"\",INDEX(december!$A:$O,ROW()-2,COLUMN(A:A))))","v":""},"",null,"",{"$f":"IF($D89=\"\",\"\",IF(INDEX(december!$A:$O,ROW()-2,COLUMN($E:$E))=\"\",\"\",INDEX(december!$A:$O,ROW()-2,COLUMN($E:$E))))","v":""},null,null,{"$f":"IF($D89=\"\",\"\",IF(INDEX(december!$A:$O,ROW()-2,COLUMN($D:$D))=\"\",\"\",INDEX(december!$A:$O,ROW()-2,COLUMN($D:$D))))","v":""}]
["",{"$f":"IF($D90=\"\",\"\",INDEX(december!$A:$O,ROW()-2,COLUMN($C:$C)))","v":""},"Variabel",{"$f":"IF(INDEX(december!$A:$O,ROW()-2,COLUMN(D:D))=\"\",\"\",IF(INDEX(december!$A:$O,ROW()-2,COLUMN(A:A))=\"\",\"\",INDEX(december!$A:$O,ROW()-2,COLUMN(A:A))))","v":""},"",null,"",{"$f":"IF($D90=\"\",\"\",IF(INDEX(december!$A:$O,ROW()-2,COLUMN($E:$E))=\"\",\"\",INDEX(december!$A:$O,ROW()-2,COLUMN($E:$E))))","v":""},null,null,{"$f":"IF($D90=\"\",\"\",IF(INDEX(december!$A:$O,ROW()-2,COLUMN($D:$D))=\"\",\"\",INDEX(december!$A:$O,ROW()-2,COLUMN($D:$D))))","v":""}]
["",{"$f":"IF($D91=\"\",\"\",INDEX(december!$A:$O,ROW()-2,COLUMN($C:$C)))","v":""},"Variabel",{"$f":"IF(INDEX(december!$A:$O,ROW()-2,COLUMN(D:D))=\"\",\"\",IF(INDEX(december!$A:$O,ROW()-2,COLUMN(A:A))=\"\",\"\",INDEX(december!$A:$O,ROW()-2,COLUMN(A:A))))","v":""},"",null,"",{"$f":"IF($D91=\"\",\"\",IF(INDEX(december!$A:$O,ROW()-2,COLUMN($E:$E))=\"\",\"\",INDEX(december!$A:$O,ROW()-2,COLUMN($E:$E))))","v":""},null,null,{"$f":"IF($D91=\"\",\"\",IF(INDEX(december!$A:$O,ROW()-2,COLUMN($D:$D))=\"\",\"\",INDEX(december!$A:$O,ROW()-2,COLUMN($D:$D))))","v":""}]
["",{"$f":"IF($D92=\"\",\"\",INDEX(december!$A:$O,ROW()-2,COLUMN($C:$C)))","v":""},"Variabel",{"$f":"IF(INDEX(december!$A:$O,ROW()-2,COLUMN(D:D))=\"\",\"\",IF(INDEX(december!$A:$O,ROW()-2,COLUMN(A:A))=\"\",\"\",INDEX(december!$A:$O,ROW()-2,COLUMN(A:A))))","v":""},"",null,"",{"$f":"IF($D92=\"\",\"\",IF(INDEX(december!$A:$O,ROW()-2,COLUMN($E:$E))=\"\",\"\",INDEX(december!$A:$O,ROW()-2,COLUMN($E:$E))))","v":""},null,null,{"$f":"IF($D92=\"\",\"\",IF(INDEX(december!$A:$O,ROW()-2,COLUMN($D:$D))=\"\",\"\",INDEX(december!$A:$O,ROW()-2,COLUMN($D:$D))))","v":""}]
["",{"$f":"IF($D93=\"\",\"\",INDEX(december!$A:$O,ROW()-2,COLUMN($C:$C)))","v":""},"Variabel",{"$f":"IF(INDEX(december!$A:$O,ROW()-2,COLUMN(D:D))=\"\",\"\",IF(INDEX(december!$A:$O,ROW()-2,COLUMN(A:A))=\"\",\"\",INDEX(december!$A:$O,ROW()-2,COLUMN(A:A))))","v":""},"",null,"",{"$f":"IF($D93=\"\",\"\",IF(INDEX(december!$A:$O,ROW()-2,COLUMN($E:$E))=\"\",\"\",INDEX(december!$A:$O,ROW()-2,COLUMN($E:$E))))","v":""},null,null,{"$f":"IF($D93=\"\",\"\",IF(INDEX(december!$A:$O,ROW()-2,COLUMN($D:$D))=\"\",\"\",INDEX(december!$A:$O,ROW()-2,COLUMN($D:$D))))","v":""}]
["",{"$f":"IF($D94=\"\",\"\",INDEX(december!$A:$O,ROW()-2,COLUMN($C:$C)))","v":""},"Variabel",{"$f":"IF(INDEX(december!$A:$O,ROW()-2,COLUMN(D:D))=\"\",\"\",IF(INDEX(december!$A:$O,ROW()-2,COLUMN(A:A))=\"\",\"\",INDEX(december!$A:$O,ROW()-2,COLUMN(A:A))))","v":""},"",null,"",{"$f":"IF($D94=\"\",\"\",IF(INDEX(december!$A:$O,ROW()-2,COLUMN($E:$E))=\"\",\"\",INDEX(december!$A:$O,ROW()-2,COLUMN($E:$E))))","v":""},null,null,{"$f":"IF($D94=\"\",\"\",IF(INDEX(december!$A:$O,ROW()-2,COLUMN($D:$D))=\"\",\"\",INDEX(december!$A:$O,ROW()-2,COLUMN($D:$D))))","v":""}]
["",{"$f":"IF($D95=\"\",\"\",INDEX(december!$A:$O,ROW()-2,COLUMN($C:$C)))","v":""},"Variabel",{"$f":"IF(INDEX(december!$A:$O,ROW()-2,COLUMN(D:D))=\"\",\"\",IF(INDEX(december!$A:$O,ROW()-2,COLUMN(A:A))=\"\",\"\",INDEX(december!$A:$O,ROW()-2,COLUMN(A:A))))","v":""},"",null,"",{"$f":"IF($D95=\"\",\"\",IF(INDEX(december!$A:$O,ROW()-2,COLUMN($E:$E))=\"\",\"\",INDEX(december!$A:$O,ROW()-2,COLUMN($E:$E))))","v":""},null,null,{"$f":"IF($D95=\"\",\"\",IF(INDEX(december!$A:$O,ROW()-2,COLUMN($D:$D))=\"\",\"\",INDEX(december!$A:$O,ROW()-2,COLUMN($D:$D))))","v":""}]
["",{"$f":"IF($D96=\"\",\"\",INDEX(december!$A:$O,ROW()-2,COLUMN($C:$C)))","v":""},"Variabel",{"$f":"IF(INDEX(december!$A:$O,ROW()-2,COLUMN(D:D))=\"\",\"\",IF(INDEX(december!$A:$O,ROW()-2,COLUMN(A:A))=\"\",\"\",INDEX(december!$A:$O,ROW()-2,COLUMN(A:A))))","v":""},"",null,"",{"$f":"IF($D96=\"\",\"\",IF(INDEX(december!$A:$O,ROW()-2,COLUMN($E:$E))=\"\",\"\",INDEX(december!$A:$O,ROW()-2,COLUMN($E:$E))))","v":""},null,null,{"$f":"IF($D96=\"\",\"\",IF(INDEX(december!$A:$O,ROW()-2,COLUMN($D:$D))=\"\",\"\",INDEX(december!$A:$O,ROW()-2,COLUMN($D:$D))))","v":""}]
["",{"$f":"IF($D97=\"\",\"\",INDEX(december!$A:$O,ROW()-2,COLUMN($C:$C)))","v":""},"Variabel",{"$f":"IF(INDEX(december!$A:$O,ROW()-2,COLUMN(D:D))=\"\",\"\",IF(INDEX(december!$A:$O,ROW()-2,COLUMN(A:A))=\"\",\"\",INDEX(december!$A:$O,ROW()-2,COLUMN(A:A))))","v":""},"",null,"",{"$f":"IF($D97=\"\",\"\",IF(INDEX(december!$A:$O,ROW()-2,COLUMN($E:$E))=\"\",\"\",INDEX(december!$A:$O,ROW()-2,COLUMN($E:$E))))","v":""},null,null,{"$f":"IF($D97=\"\",\"\",IF(INDEX(december!$A:$O,ROW()-2,COLUMN($D:$D))=\"\",\"\",INDEX(december!$A:$O,ROW()-2,COLUMN($D:$D))))","v":""}]
["",{"$f":"IF($D98=\"\",\"\",INDEX(december!$A:$O,ROW()-2,COLUMN($C:$C)))","v":""},"Variabel",{"$f":"IF(INDEX(december!$A:$O,ROW()-2,COLUMN(D:D))=\"\",\"\",IF(INDEX(december!$A:$O,ROW()-2,COLUMN(A:A))=\"\",\"\",INDEX(december!$A:$O,ROW()-2,COLUMN(A:A))))","v":""},"",null,"",{"$f":"IF($D98=\"\",\"\",IF(INDEX(december!$A:$O,ROW()-2,COLUMN($E:$E))=\"\",\"\",INDEX(december!$A:$O,ROW()-2,COLUMN($E:$E))))","v":""},null,null,{"$f":"IF($D98=\"\",\"\",IF(INDEX(december!$A:$O,ROW()-2,COLUMN($D:$D))=\"\",\"\",INDEX(december!$A:$O,ROW()-2,COLUMN($D:$D))))","v":""}]
["",{"$f":"IF($D99=\"\",\"\",INDEX(december!$A:$O,ROW()-2,COLUMN($C:$C)))","v":""},"Variabel",{"$f":"IF(INDEX(december!$A:$O,ROW()-2,COLUMN(D:D))=\"\",\"\",IF(INDEX(december!$A:$O,ROW()-2,COLUMN(A:A))=\"\",\"\",INDEX(december!$A:$O,ROW()-2,COLUMN(A:A))))","v":""},"",null,"",{"$f":"IF($D99=\"\",\"\",IF(INDEX(december!$A:$O,ROW()-2,COLUMN($E:$E))=\"\",\"\",INDEX(december!$A:$O,ROW()-2,COLUMN($E:$E))))","v":""},null,null,{"$f":"IF($D99=\"\",\"\",IF(INDEX(december!$A:$O,ROW()-2,COLUMN($D:$D))=\"\",\"\",INDEX(december!$A:$O,ROW()-2,COLUMN($D:$D))))","v":""}]
["",{"$f":"IF($D100=\"\",\"\",INDEX(december!$A:$O,ROW()-2,COLUMN($C:$C)))","v":""},"Variabel",{"$f":"IF(INDEX(december!$A:$O,ROW()-2,COLUMN(D:D))=\"\",\"\",IF(INDEX(december!$A:$O,ROW()-2,COLUMN(A:A))=\"\",\"\",INDEX(december!$A:$O,ROW()-2,COLUMN(A:A))))","v":""},"",null,"",{"$f":"IF($D100=\"\",\"\",IF(INDEX(december!$A:$O,ROW()-2,COLUMN($E:$E))=\"\",\"\",INDEX(december!$A:$O,ROW()-2,COLUMN($E:$E))))","v":""},null,null,{"$f":"IF($D100=\"\",\"\",IF(INDEX(december!$A:$O,ROW()-2,COLUMN($D:$D))=\"\",\"\",INDEX(december!$A:$O,ROW()-2,COLUMN($D:$D))))","v":""}]
["",{"$f":"IF($D101=\"\",\"\",INDEX(december!$A:$O,ROW()-2,COLUMN($C:$C)))","v":""},"Variabel",{"$f":"IF(INDEX(december!$A:$O,ROW()-2,COLUMN(D:D))=\"\",\"\",IF(INDEX(december!$A:$O,ROW()-2,COLUMN(A:A))=\"\",\"\",INDEX(december!$A:$O,ROW()-2,COLUMN(A:A))))","v":""},"",null,"",{"$f":"IF($D101=\"\",\"\",IF(INDEX(december!$A:$O,ROW()-2,COLUMN($E:$E))=\"\",\"\",INDEX(december!$A:$O,ROW()-2,COLUMN($E:$E))))","v":""},null,null,{"$f":"IF($D101=\"\",\"\",IF(INDEX(december!$A:$O,ROW()-2,COLUMN($D:$D))=\"\",\"\",INDEX(december!$A:$O,ROW()-2,COLUMN($D:$D))))","v":""}]
["",{"$f":"IF($D102=\"\",\"\",INDEX(december!$A:$O,ROW()-2,COLUMN($C:$C)))","v":""},"Variabel",{"$f":"IF(INDEX(december!$A:$O,ROW()-2,COLUMN(D:D))=\"\",\"\",IF(INDEX(december!$A:$O,ROW()-2,COLUMN(A:A))=\"\",\"\",INDEX(december!$A:$O,ROW()-2,COLUMN(A:A))))","v":""},"",null,"",{"$f":"IF($D102=\"\",\"\",IF(INDEX(december!$A:$O,ROW()-2,COLUMN($E:$E))=\"\",\"\",INDEX(december!$A:$O,ROW()-2,COLUMN($E:$E))))","v":""},null,null,{"$f":"IF($D102=\"\",\"\",IF(INDEX(december!$A:$O,ROW()-2,COLUMN($D:$D))=\"\",\"\",INDEX(december!$A:$O,ROW()-2,COLUMN($D:$D))))","v":""}]
["",{"$f":"IF($D103=\"\",\"\",INDEX(december!$A:$O,ROW()-2,COLUMN($C:$C)))","v":""},"Variabel",{"$f":"IF(INDEX(december!$A:$O,ROW()-2,COLUMN(D:D))=\"\",\"\",IF(INDEX(december!$A:$O,ROW()-2,COLUMN(A:A))=\"\",\"\",INDEX(december!$A:$O,ROW()-2,COLUMN(A:A))))","v":""},"",null,"",{"$f":"IF($D103=\"\",\"\",IF(INDEX(december!$A:$O,ROW()-2,COLUMN($E:$E))=\"\",\"\",INDEX(december!$A:$O,ROW()-2,COLUMN($E:$E))))","v":""},null,null,{"$f":"IF($D103=\"\",\"\",IF(INDEX(december!$A:$O,ROW()-2,COLUMN($D:$D))=\"\",\"\",INDEX(december!$A:$O,ROW()-2,COLUMN($D:$D))))","v":""}]
[]
[null,"Udlæg:"]
[{"$f":"IF($D106=\"\",\"\",$A$2)","v":""},{"$f":"IF($D106=\"\",\"\",INDEX(december!$A:$O,ROW()-104,COLUMN($C:$C)))","v":""},"Variabel",{"$f":"IF(INDEX(december!$A:$O,ROW()-104,COLUMN(F:F))=\"\",\"\",IF(INDEX(december!$A:$O,ROW()-104,COLUMN(A:A))=\"\",\"\",INDEX(december!$A:$O,ROW()-104,COLUMN(A:A))))","v":""},{"$f":"IF($D106=\"\",\"\",$F$2)","v":""},null,{"$f":"IF($D106=\"\",\"\",9100)","v":""},{"$f":"IF($D106=\"\",\"\",IF(INDEX(december!$A:$O,ROW()-104,COLUMN($G:$G))=\"\",\"\",INDEX(december!$A:$O,ROW()-104,COLUMN($G:$G))))","v":""},null,null,{"$f":"IF($D106=\"\",\"\",IF(INDEX(december!$A:$O,ROW()-104,COLUMN($F:$F))=\"\",\"\",INDEX(december!$A:$O,ROW()-104,COLUMN($F:$F))))","v":""}]
["",{"$f":"IF($D107=\"\",\"\",INDEX(december!$A:$O,ROW()-104,COLUMN($C:$C)))","v":""},"Variabel",{"$f":"IF(INDEX(december!$A:$O,ROW()-104,COLUMN(F:F))=\"\",\"\",IF(INDEX(december!$A:$O,ROW()-104,COLUMN(A:A))=\"\",\"\",INDEX(december!$A:$O,ROW()-104,COLUMN(A:A))))","v":""},"",null,{"$f":"IF($D107=\"\",\"\",9100)","v":""},{"$f":"IF($D107=\"\",\"\",IF(INDEX(december!$A:$O,ROW()-104,COLUMN($G:$G))=\"\",\"\",INDEX(december!$A:$O,ROW()-104,COLUMN($G:$G))))","v":""},null,null,{"$f":"IF($D107=\"\",\"\",IF(INDEX(december!$A:$O,ROW()-104,COLUMN($F:$F))=\"\",\"\",INDEX(december!$A:$O,ROW()-104,COLUMN($F:$F))))","v":""}]
["",{"$f":"IF($D108=\"\",\"\",INDEX(december!$A:$O,ROW()-104,COLUMN($C:$C)))","v":""},"Variabel",{"$f":"IF(INDEX(december!$A:$O,ROW()-104,COLUMN(F:F))=\"\",\"\",IF(INDEX(december!$A:$O,ROW()-104,COLUMN(A:A))=\"\",\"\",INDEX(december!$A:$O,ROW()-104,COLUMN(A:A))))","v":""},"",null,"",{"$f":"IF($D108=\"\",\"\",IF(INDEX(december!$A:$O,ROW()-104,COLUMN($G:$G))=\"\",\"\",INDEX(december!$A:$O,ROW()-104,COLUMN($G:$G))))","v":""},null,null,{"$f":"IF($D108=\"\",\"\",IF(INDEX(december!$A:$O,ROW()-104,COLUMN($F:$F))=\"\",\"\",INDEX(december!$A:$O,ROW()-104,COLUMN($F:$F))))","v":""}]
["",{"$f":"IF($D109=\"\",\"\",INDEX(december!$A:$O,ROW()-104,COLUMN($C:$C)))","v":""},"Variabel",{"$f":"IF(INDEX(december!$A:$O,ROW()-104,COLUMN(F:F))=\"\",\"\",IF(INDEX(december!$A:$O,ROW()-104,COLUMN(A:A))=\"\",\"\",INDEX(december!$A:$O,ROW()-104,COLUMN(A:A))))","v":""},"",null,"",{"$f":"IF($D109=\"\",\"\",IF(INDEX(december!$A:$O,ROW()-104,COLUMN($G:$G))=\"\",\"\",INDEX(december!$A:$O,ROW()-104,COLUMN($G:$G))))","v":""},null,null,{"$f":"IF($D109=\"\",\"\",IF(INDEX(december!$A:$O,ROW()-104,COLUMN($F:$F))=\"\",\"\",INDEX(december!$A:$O,ROW()-104,COLUMN($F:$F))))","v":""}]
["",{"$f":"IF($D110=\"\",\"\",INDEX(december!$A:$O,ROW()-104,COLUMN($C:$C)))","v":""},"Variabel",{"$f":"IF(INDEX(december!$A:$O,ROW()-104,COLUMN(F:F))=\"\",\"\",IF(INDEX(december!$A:$O,ROW()-104,COLUMN(A:A))=\"\",\"\",INDEX(december!$A:$O,ROW()-104,COLUMN(A:A))))","v":""},"",null,"",{"$f":"IF($D110=\"\",\"\",IF(INDEX(december!$A:$O,ROW()-104,COLUMN($G:$G))=\"\",\"\",INDEX(december!$A:$O,ROW()-104,COLUMN($G:$G))))","v":""},null,null,{"$f":"IF($D110=\"\",\"\",IF(INDEX(december!$A:$O,ROW()-104,COLUMN($F:$F))=\"\",\"\",INDEX(december!$A:$O,ROW()-104,COLUMN($F:$F))))","v":""}]
["",{"$f":"IF($D111=\"\",\"\",INDEX(december!$A:$O,ROW()-104,COLUMN($C:$C)))","v":""},"Variabel",{"$f":"IF(INDEX(december!$A:$O,ROW()-104,COLUMN(F:F))=\"\",\"\",IF(INDEX(december!$A:$O,ROW()-104,COLUMN(A:A))=\"\",\"\",INDEX(december!$A:$O,ROW()-104,COLUMN(A:A))))","v":""},"",null,"",{"$f":"IF($D111=\"\",\"\",IF(INDEX(december!$A:$O,ROW()-104,COLUMN($G:$G))=\"\",\"\",INDEX(december!$A:$O,ROW()-104,COLUMN($G:$G))))","v":""},null,null,{"$f":"IF($D111=\"\",\"\",IF(INDEX(december!$A:$O,ROW()-104,COLUMN($F:$F))=\"\",\"\",INDEX(december!$A:$O,ROW()-104,COLUMN($F:$F))))","v":""}]
["",{"$f":"IF($D112=\"\",\"\",INDEX(december!$A:$O,ROW()-104,COLUMN($C:$C)))","v":""},"Variabel",{"$f":"IF(INDEX(december!$A:$O,ROW()-104,COLUMN(F:F))=\"\",\"\",IF(INDEX(december!$A:$O,ROW()-104,COLUMN(A:A))=\"\",\"\",INDEX(december!$A:$O,ROW()-104,COLUMN(A:A))))","v":""},"",null,"",{"$f":"IF($D112=\"\",\"\",IF(INDEX(december!$A:$O,ROW()-104,COLUMN($G:$G))=\"\",\"\",INDEX(december!$A:$O,ROW()-104,COLUMN($G:$G))))","v":""},null,null,{"$f":"IF($D112=\"\",\"\",IF(INDEX(december!$A:$O,ROW()-104,COLUMN($F:$F))=\"\",\"\",INDEX(december!$A:$O,ROW()-104,COLUMN($F:$F))))","v":""}]
["",{"$f":"IF($D113=\"\",\"\",INDEX(december!$A:$O,ROW()-104,COLUMN($C:$C)))","v":""},"Variabel",{"$f":"IF(INDEX(december!$A:$O,ROW()-104,COLUMN(F:F))=\"\",\"\",IF(INDEX(december!$A:$O,ROW()-104,COLUMN(A:A))=\"\",\"\",INDEX(december!$A:$O,ROW()-104,COLUMN(A:A))))","v":""},"",null,"",{"$f":"IF($D113=\"\",\"\",IF(INDEX(december!$A:$O,ROW()-104,COLUMN($G:$G))=\"\",\"\",INDEX(december!$A:$O,ROW()-104,COLUMN($G:$G))))","v":""},null,null,{"$f":"IF($D113=\"\",\"\",IF(INDEX(december!$A:$O,ROW()-104,COLUMN($F:$F))=\"\",\"\",INDEX(december!$A:$O,ROW()-104,COLUMN($F:$F))))","v":""}]
["",{"$f":"IF($D114=\"\",\"\",INDEX(december!$A:$O,ROW()-104,COLUMN($C:$C)))","v":""},"Variabel",{"$f":"IF(INDEX(december!$A:$O,ROW()-104,COLUMN(F:F))=\"\",\"\",IF(INDEX(december!$A:$O,ROW()-104,COLUMN(A:A))=\"\",\"\",INDEX(december!$A:$O,ROW()-104,COLUMN(A:A))))","v":""},"",null,"",{"$f":"IF($D114=\"\",\"\",IF(INDEX(december!$A:$O,ROW()-104,COLUMN($G:$G))=\"\",\"\",INDEX(december!$A:$O,ROW()-104,COLUMN($G:$G))))","v":""},null,null,{"$f":"IF($D114=\"\",\"\",IF(INDEX(december!$A:$O,ROW()-104,COLUMN($F:$F))=\"\",\"\",INDEX(december!$A:$O,ROW()-104,COLUMN($F:$F))))","v":""}]
["",{"$f":"IF($D115=\"\",\"\",INDEX(december!$A:$O,ROW()-104,COLUMN($C:$C)))","v":""},"Variabel",{"$f":"IF(INDEX(december!$A:$O,ROW()-104,COLUMN(F:F))=\"\",\"\",IF(INDEX(december!$A:$O,ROW()-104,COLUMN(A:A))=\"\",\"\",INDEX(december!$A:$O,ROW()-104,COLUMN(A:A))))","v":""},"",null,"",{"$f":"IF($D115=\"\",\"\",IF(INDEX(december!$A:$O,ROW()-104,COLUMN($G:$G))=\"\",\"\",INDEX(december!$A:$O,ROW()-104,COLUMN($G:$G))))","v":""},null,null,{"$f":"IF($D115=\"\",\"\",IF(INDEX(december!$A:$O,ROW()-104,COLUMN($F:$F))=\"\",\"\",INDEX(december!$A:$O,ROW()-104,COLUMN($F:$F))))","v":""}]
["",{"$f":"IF($D116=\"\",\"\",INDEX(december!$A:$O,ROW()-104,COLUMN($C:$C)))","v":""},"Variabel",{"$f":"IF(INDEX(december!$A:$O,ROW()-104,COLUMN(F:F))=\"\",\"\",IF(INDEX(december!$A:$O,ROW()-104,COLUMN(A:A))=\"\",\"\",INDEX(december!$A:$O,ROW()-104,COLUMN(A:A))))","v":""},"",null,"",{"$f":"IF($D116=\"\",\"\",IF(INDEX(december!$A:$O,ROW()-104,COLUMN($G:$G))=\"\",\"\",INDEX(december!$A:$O,ROW()-104,COLUMN($G:$G))))","v":""},null,null,{"$f":"IF($D116=\"\",\"\",IF(INDEX(december!$A:$O,ROW()-104,COLUMN($F:$F))=\"\",\"\",INDEX(december!$A:$O,ROW()-104,COLUMN($F:$F))))","v":""}]
["",{"$f":"IF($D117=\"\",\"\",INDEX(december!$A:$O,ROW()-104,COLUMN($C:$C)))","v":""},"Variabel",{"$f":"IF(INDEX(december!$A:$O,ROW()-104,COLUMN(F:F))=\"\",\"\",IF(INDEX(december!$A:$O,ROW()-104,COLUMN(A:A))=\"\",\"\",INDEX(december!$A:$O,ROW()-104,COLUMN(A:A))))","v":""},"",null,"",{"$f":"IF($D117=\"\",\"\",IF(INDEX(december!$A:$O,ROW()-104,COLUMN($G:$G))=\"\",\"\",INDEX(december!$A:$O,ROW()-104,COLUMN($G:$G))))","v":""},null,null,{"$f":"IF($D117=\"\",\"\",IF(INDEX(december!$A:$O,ROW()-104,COLUMN($F:$F))=\"\",\"\",INDEX(december!$A:$O,ROW()-104,COLUMN($F:$F))))","v":""}]
["",{"$f":"IF($D118=\"\",\"\",INDEX(december!$A:$O,ROW()-104,COLUMN($C:$C)))","v":""},"Variabel",{"$f":"IF(INDEX(december!$A:$O,ROW()-104,COLUMN(F:F))=\"\",\"\",IF(INDEX(december!$A:$O,ROW()-104,COLUMN(A:A))=\"\",\"\",INDEX(december!$A:$O,ROW()-104,COLUMN(A:A))))","v":""},"",null,"",{"$f":"IF($D118=\"\",\"\",IF(INDEX(december!$A:$O,ROW()-104,COLUMN($G:$G))=\"\",\"\",INDEX(december!$A:$O,ROW()-104,COLUMN($G:$G))))","v":""},null,null,{"$f":"IF($D118=\"\",\"\",IF(INDEX(december!$A:$O,ROW()-104,COLUMN($F:$F))=\"\",\"\",INDEX(december!$A:$O,ROW()-104,COLUMN($F:$F))))","v":""}]
["",{"$f":"IF($D119=\"\",\"\",INDEX(december!$A:$O,ROW()-104,COLUMN($C:$C)))","v":""},"Variabel",{"$f":"IF(INDEX(december!$A:$O,ROW()-104,COLUMN(F:F))=\"\",\"\",IF(INDEX(december!$A:$O,ROW()-104,COLUMN(A:A))=\"\",\"\",INDEX(december!$A:$O,ROW()-104,COLUMN(A:A))))","v":""},"",null,"",{"$f":"IF($D119=\"\",\"\",IF(INDEX(december!$A:$O,ROW()-104,COLUMN($G:$G))=\"\",\"\",INDEX(december!$A:$O,ROW()-104,COLUMN($G:$G))))","v":""},null,null,{"$f":"IF($D119=\"\",\"\",IF(INDEX(december!$A:$O,ROW()-104,COLUMN($F:$F))=\"\",\"\",INDEX(december!$A:$O,ROW()-104,COLUMN($F:$F))))","v":""}]
["",{"$f":"IF($D120=\"\",\"\",INDEX(december!$A:$O,ROW()-104,COLUMN($C:$C)))","v":""},"Variabel",{"$f":"IF(INDEX(december!$A:$O,ROW()-104,COLUMN(F:F))=\"\",\"\",IF(INDEX(december!$A:$O,ROW()-104,COLUMN(A:A))=\"\",\"\",INDEX(december!$A:$O,ROW()-104,COLUMN(A:A))))","v":""},"",null,"",{"$f":"IF($D120=\"\",\"\",IF(INDEX(december!$A:$O,ROW()-104,COLUMN($G:$G))=\"\",\"\",INDEX(december!$A:$O,ROW()-104,COLUMN($G:$G))))","v":""},null,null,{"$f":"IF($D120=\"\",\"\",IF(INDEX(december!$A:$O,ROW()-104,COLUMN($F:$F))=\"\",\"\",INDEX(december!$A:$O,ROW()-104,COLUMN($F:$F))))","v":""}]
["",{"$f":"IF($D121=\"\",\"\",INDEX(december!$A:$O,ROW()-104,COLUMN($C:$C)))","v":""},"Variabel",{"$f":"IF(INDEX(december!$A:$O,ROW()-104,COLUMN(F:F))=\"\",\"\",IF(INDEX(december!$A:$O,ROW()-104,COLUMN(A:A))=\"\",\"\",INDEX(december!$A:$O,ROW()-104,COLUMN(A:A))))","v":""},"",null,"",{"$f":"IF($D121=\"\",\"\",IF(INDEX(december!$A:$O,ROW()-104,COLUMN($G:$G))=\"\",\"\",INDEX(december!$A:$O,ROW()-104,COLUMN($G:$G))))","v":""},null,null,{"$f":"IF($D121=\"\",\"\",IF(INDEX(december!$A:$O,ROW()-104,COLUMN($F:$F))=\"\",\"\",INDEX(december!$A:$O,ROW()-104,COLUMN($F:$F))))","v":""}]
["",{"$f":"IF($D122=\"\",\"\",INDEX(december!$A:$O,ROW()-104,COLUMN($C:$C)))","v":""},"Variabel",{"$f":"IF(INDEX(december!$A:$O,ROW()-104,COLUMN(F:F))=\"\",\"\",IF(INDEX(december!$A:$O,ROW()-104,COLUMN(A:A))=\"\",\"\",INDEX(december!$A:$O,ROW()-104,COLUMN(A:A))))","v":""},"",null,"",{"$f":"IF($D122=\"\",\"\",IF(INDEX(december!$A:$O,ROW()-104,COLUMN($G:$G))=\"\",\"\",INDEX(december!$A:$O,ROW()-104,COLUMN($G:$G))))","v":""},null,null,{"$f":"IF($D122=\"\",\"\",IF(INDEX(december!$A:$O,ROW()-104,COLUMN($F:$F))=\"\",\"\",INDEX(december!$A:$O,ROW()-104,COLUMN($F:$F))))","v":""}]
["",{"$f":"IF($D123=\"\",\"\",INDEX(december!$A:$O,ROW()-104,COLUMN($C:$C)))","v":""},"Variabel",{"$f":"IF(INDEX(december!$A:$O,ROW()-104,COLUMN(F:F))=\"\",\"\",IF(INDEX(december!$A:$O,ROW()-104,COLUMN(A:A))=\"\",\"\",INDEX(december!$A:$O,ROW()-104,COLUMN(A:A))))","v":""},"",null,"",{"$f":"IF($D123=\"\",\"\",IF(INDEX(december!$A:$O,ROW()-104,COLUMN($G:$G))=\"\",\"\",INDEX(december!$A:$O,ROW()-104,COLUMN($G:$G))))","v":""},null,null,{"$f":"IF($D123=\"\",\"\",IF(INDEX(december!$A:$O,ROW()-104,COLUMN($F:$F))=\"\",\"\",INDEX(december!$A:$O,ROW()-104,COLUMN($F:$F))))","v":""}]
["",{"$f":"IF($D124=\"\",\"\",INDEX(december!$A:$O,ROW()-104,COLUMN($C:$C)))","v":""},"Variabel",{"$f":"IF(INDEX(december!$A:$O,ROW()-104,COLUMN(F:F))=\"\",\"\",IF(INDEX(december!$A:$O,ROW()-104,COLUMN(A:A))=\"\",\"\",INDEX(december!$A:$O,ROW()-104,COLUMN(A:A))))","v":""},"",null,"",{"$f":"IF($D124=\"\",\"\",IF(INDEX(december!$A:$O,ROW()-104,COLUMN($G:$G))=\"\",\"\",INDEX(december!$A:$O,ROW()-104,COLUMN($G:$G))))","v":""},null,null,{"$f":"IF($D124=\"\",\"\",IF(INDEX(december!$A:$O,ROW()-104,COLUMN($F:$F))=\"\",\"\",INDEX(december!$A:$O,ROW()-104,COLUMN($F:$F))))","v":""}]
["",{"$f":"IF($D125=\"\",\"\",INDEX(december!$A:$O,ROW()-104,COLUMN($C:$C)))","v":""},"Variabel",{"$f":"IF(INDEX(december!$A:$O,ROW()-104,COLUMN(F:F))=\"\",\"\",IF(INDEX(december!$A:$O,ROW()-104,COLUMN(A:A))=\"\",\"\",INDEX(december!$A:$O,ROW()-104,COLUMN(A:A))))","v":""},"",null,"",{"$f":"IF($D125=\"\",\"\",IF(INDEX(december!$A:$O,ROW()-104,COLUMN($G:$G))=\"\",\"\",INDEX(december!$A:$O,ROW()-104,COLUMN($G:$G))))","v":""},null,null,{"$f":"IF($D125=\"\",\"\",IF(INDEX(december!$A:$O,ROW()-104,COLUMN($F:$F))=\"\",\"\",INDEX(december!$A:$O,ROW()-104,COLUMN($F:$F))))","v":""}]
["",{"$f":"IF($D126=\"\",\"\",INDEX(december!$A:$O,ROW()-104,COLUMN($C:$C)))","v":""},"Variabel",{"$f":"IF(INDEX(december!$A:$O,ROW()-104,COLUMN(F:F))=\"\",\"\",IF(INDEX(december!$A:$O,ROW()-104,COLUMN(A:A))=\"\",\"\",INDEX(december!$A:$O,ROW()-104,COLUMN(A:A))))","v":""},"",null,"",{"$f":"IF($D126=\"\",\"\",IF(INDEX(december!$A:$O,ROW()-104,COLUMN($G:$G))=\"\",\"\",INDEX(december!$A:$O,ROW()-104,COLUMN($G:$G))))","v":""},null,null,{"$f":"IF($D126=\"\",\"\",IF(INDEX(december!$A:$O,ROW()-104,COLUMN($F:$F))=\"\",\"\",INDEX(december!$A:$O,ROW()-104,COLUMN($F:$F))))","v":""}]
["",{"$f":"IF($D127=\"\",\"\",INDEX(december!$A:$O,ROW()-104,COLUMN($C:$C)))","v":""},"Variabel",{"$f":"IF(INDEX(december!$A:$O,ROW()-104,COLUMN(F:F))=\"\",\"\",IF(INDEX(december!$A:$O,ROW()-104,COLUMN(A:A))=\"\",\"\",INDEX(december!$A:$O,ROW()-104,COLUMN(A:A))))","v":""},"",null,"",{"$f":"IF($D127=\"\",\"\",IF(INDEX(december!$A:$O,ROW()-104,COLUMN($G:$G))=\"\",\"\",INDEX(december!$A:$O,ROW()-104,COLUMN($G:$G))))","v":""},null,null,{"$f":"IF($D127=\"\",\"\",IF(INDEX(december!$A:$O,ROW()-104,COLUMN($F:$F))=\"\",\"\",INDEX(december!$A:$O,ROW()-104,COLUMN($F:$F))))","v":""}]
["",{"$f":"IF($D128=\"\",\"\",INDEX(december!$A:$O,ROW()-104,COLUMN($C:$C)))","v":""},"Variabel",{"$f":"IF(INDEX(december!$A:$O,ROW()-104,COLUMN(F:F))=\"\",\"\",IF(INDEX(december!$A:$O,ROW()-104,COLUMN(A:A))=\"\",\"\",INDEX(december!$A:$O,ROW()-104,COLUMN(A:A))))","v":""},"",null,"",{"$f":"IF($D128=\"\",\"\",IF(INDEX(december!$A:$O,ROW()-104,COLUMN($G:$G))=\"\",\"\",INDEX(december!$A:$O,ROW()-104,COLUMN($G:$G))))","v":""},null,null,{"$f":"IF($D128=\"\",\"\",IF(INDEX(december!$A:$O,ROW()-104,COLUMN($F:$F))=\"\",\"\",INDEX(december!$A:$O,ROW()-104,COLUMN($F:$F))))","v":""}]
["",{"$f":"IF($D129=\"\",\"\",INDEX(december!$A:$O,ROW()-104,COLUMN($C:$C)))","v":""},"Variabel",{"$f":"IF(INDEX(december!$A:$O,ROW()-104,COLUMN(F:F))=\"\",\"\",IF(INDEX(december!$A:$O,ROW()-104,COLUMN(A:A))=\"\",\"\",INDEX(december!$A:$O,ROW()-104,COLUMN(A:A))))","v":""},"",null,"",{"$f":"IF($D129=\"\",\"\",IF(INDEX(december!$A:$O,ROW()-104,COLUMN($G:$G))=\"\",\"\",INDEX(december!$A:$O,ROW()-104,COLUMN($G:$G))))","v":""},null,null,{"$f":"IF($D129=\"\",\"\",IF(INDEX(december!$A:$O,ROW()-104,COLUMN($F:$F))=\"\",\"\",INDEX(december!$A:$O,ROW()-104,COLUMN($F:$F))))","v":""}]
["",{"$f":"IF($D130=\"\",\"\",INDEX(december!$A:$O,ROW()-104,COLUMN($C:$C)))","v":""},"Variabel",{"$f":"IF(INDEX(december!$A:$O,ROW()-104,COLUMN(F:F))=\"\",\"\",IF(INDEX(december!$A:$O,ROW()-104,COLUMN(A:A))=\"\",\"\",INDEX(december!$A:$O,ROW()-104,COLUMN(A:A))))","v":""},"",null,"",{"$f":"IF($D130=\"\",\"\",IF(INDEX(december!$A:$O,ROW()-104,COLUMN($G:$G))=\"\",\"\",INDEX(december!$A:$O,ROW()-104,COLUMN($G:$G))))","v":""},null,null,{"$f":"IF($D130=\"\",\"\",IF(INDEX(december!$A:$O,ROW()-104,COLUMN($F:$F))=\"\",\"\",INDEX(december!$A:$O,ROW()-104,COLUMN($F:$F))))","v":""}]
["",{"$f":"IF($D131=\"\",\"\",INDEX(december!$A:$O,ROW()-104,COLUMN($C:$C)))","v":""},"Variabel",{"$f":"IF(INDEX(december!$A:$O,ROW()-104,COLUMN(F:F))=\"\",\"\",IF(INDEX(december!$A:$O,ROW()-104,COLUMN(A:A))=\"\",\"\",INDEX(december!$A:$O,ROW()-104,COLUMN(A:A))))","v":""},"",null,"",{"$f":"IF($D131=\"\",\"\",IF(INDEX(december!$A:$O,ROW()-104,COLUMN($G:$G))=\"\",\"\",INDEX(december!$A:$O,ROW()-104,COLUMN($G:$G))))","v":""},null,null,{"$f":"IF($D131=\"\",\"\",IF(INDEX(december!$A:$O,ROW()-104,COLUMN($F:$F))=\"\",\"\",INDEX(december!$A:$O,ROW()-104,COLUMN($F:$F))))","v":""}]
["",{"$f":"IF($D132=\"\",\"\",INDEX(december!$A:$O,ROW()-104,COLUMN($C:$C)))","v":""},"Variabel",{"$f":"IF(INDEX(december!$A:$O,ROW()-104,COLUMN(F:F))=\"\",\"\",IF(INDEX(december!$A:$O,ROW()-104,COLUMN(A:A))=\"\",\"\",INDEX(december!$A:$O,ROW()-104,COLUMN(A:A))))","v":""},"",null,"",{"$f":"IF($D132=\"\",\"\",IF(INDEX(december!$A:$O,ROW()-104,COLUMN($G:$G))=\"\",\"\",INDEX(december!$A:$O,ROW()-104,COLUMN($G:$G))))","v":""},null,null,{"$f":"IF($D132=\"\",\"\",IF(INDEX(december!$A:$O,ROW()-104,COLUMN($F:$F))=\"\",\"\",INDEX(december!$A:$O,ROW()-104,COLUMN($F:$F))))","v":""}]
["",{"$f":"IF($D133=\"\",\"\",INDEX(december!$A:$O,ROW()-104,COLUMN($C:$C)))","v":""},"Variabel",{"$f":"IF(INDEX(december!$A:$O,ROW()-104,COLUMN(F:F))=\"\",\"\",IF(INDEX(december!$A:$O,ROW()-104,COLUMN(A:A))=\"\",\"\",INDEX(december!$A:$O,ROW()-104,COLUMN(A:A))))","v":""},"",null,"",{"$f":"IF($D133=\"\",\"\",IF(INDEX(december!$A:$O,ROW()-104,COLUMN($G:$G))=\"\",\"\",INDEX(december!$A:$O,ROW()-104,COLUMN($G:$G))))","v":""},null,null,{"$f":"IF($D133=\"\",\"\",IF(INDEX(december!$A:$O,ROW()-104,COLUMN($F:$F))=\"\",\"\",INDEX(december!$A:$O,ROW()-104,COLUMN($F:$F))))","v":""}]
["",{"$f":"IF($D134=\"\",\"\",INDEX(december!$A:$O,ROW()-104,COLUMN($C:$C)))","v":""},"Variabel",{"$f":"IF(INDEX(december!$A:$O,ROW()-104,COLUMN(F:F))=\"\",\"\",IF(INDEX(december!$A:$O,ROW()-104,COLUMN(A:A))=\"\",\"\",INDEX(december!$A:$O,ROW()-104,COLUMN(A:A))))","v":""},"",null,"",{"$f":"IF($D134=\"\",\"\",IF(INDEX(december!$A:$O,ROW()-104,COLUMN($G:$G))=\"\",\"\",INDEX(december!$A:$O,ROW()-104,COLUMN($G:$G))))","v":""},null,null,{"$f":"IF($D134=\"\",\"\",IF(INDEX(december!$A:$O,ROW()-104,COLUMN($F:$F))=\"\",\"\",INDEX(december!$A:$O,ROW()-104,COLUMN($F:$F))))","v":""}]
["",{"$f":"IF($D135=\"\",\"\",INDEX(december!$A:$O,ROW()-104,COLUMN($C:$C)))","v":""},"Variabel",{"$f":"IF(INDEX(december!$A:$O,ROW()-104,COLUMN(F:F))=\"\",\"\",IF(INDEX(december!$A:$O,ROW()-104,COLUMN(A:A))=\"\",\"\",INDEX(december!$A:$O,ROW()-104,COLUMN(A:A))))","v":""},"",null,"",{"$f":"IF($D135=\"\",\"\",IF(INDEX(december!$A:$O,ROW()-104,COLUMN($G:$G))=\"\",\"\",INDEX(december!$A:$O,ROW()-104,COLUMN($G:$G))))","v":""},null,null,{"$f":"IF($D135=\"\",\"\",IF(INDEX(december!$A:$O,ROW()-104,COLUMN($F:$F))=\"\",\"\",INDEX(december!$A:$O,ROW()-104,COLUMN($F:$F))))","v":""}]
["",{"$f":"IF($D136=\"\",\"\",INDEX(december!$A:$O,ROW()-104,COLUMN($C:$C)))","v":""},"Variabel",{"$f":"IF(INDEX(december!$A:$O,ROW()-104,COLUMN(F:F))=\"\",\"\",IF(INDEX(december!$A:$O,ROW()-104,COLUMN(A:A))=\"\",\"\",INDEX(december!$A:$O,ROW()-104,COLUMN(A:A))))","v":""},"",null,"",{"$f":"IF($D136=\"\",\"\",IF(INDEX(december!$A:$O,ROW()-104,COLUMN($G:$G))=\"\",\"\",INDEX(december!$A:$O,ROW()-104,COLUMN($G:$G))))","v":""},null,null,{"$f":"IF($D136=\"\",\"\",IF(INDEX(december!$A:$O,ROW()-104,COLUMN($F:$F))=\"\",\"\",INDEX(december!$A:$O,ROW()-104,COLUMN($F:$F))))","v":""}]
["",{"$f":"IF($D137=\"\",\"\",INDEX(december!$A:$O,ROW()-104,COLUMN($C:$C)))","v":""},"Variabel",{"$f":"IF(INDEX(december!$A:$O,ROW()-104,COLUMN(F:F))=\"\",\"\",IF(INDEX(december!$A:$O,ROW()-104,COLUMN(A:A))=\"\",\"\",INDEX(december!$A:$O,ROW()-104,COLUMN(A:A))))","v":""},"",null,"",{"$f":"IF($D137=\"\",\"\",IF(INDEX(december!$A:$O,ROW()-104,COLUMN($G:$G))=\"\",\"\",INDEX(december!$A:$O,ROW()-104,COLUMN($G:$G))))","v":""},null,null,{"$f":"IF($D137=\"\",\"\",IF(INDEX(december!$A:$O,ROW()-104,COLUMN($F:$F))=\"\",\"\",INDEX(december!$A:$O,ROW()-104,COLUMN($F:$F))))","v":""}]
[{"$f":"IF($D138=\"\",\"\",$A$2)","v":""},{"$f":"IF($D138=\"\",\"\",INDEX(december!$A:$O,ROW()-104,COLUMN($C:$C)))","v":""},"Variabel",{"$f":"IF(INDEX(december!$A:$O,ROW()-104,COLUMN(F:F))=\"\",\"\",IF(INDEX(december!$A:$O,ROW()-104,COLUMN(A:A))=\"\",\"\",INDEX(december!$A:$O,ROW()-104,COLUMN(A:A))))","v":""},{"$f":"IF($D138=\"\",\"\",$F$2)","v":""},null,"",{"$f":"IF($D138=\"\",\"\",IF(INDEX(december!$A:$O,ROW()-104,COLUMN($G:$G))=\"\",\"\",INDEX(december!$A:$O,ROW()-104,COLUMN($G:$G))))","v":""},null,null,{"$f":"IF($D138=\"\",\"\",IF(INDEX(december!$A:$O,ROW()-104,COLUMN($F:$F))=\"\",\"\",INDEX(december!$A:$O,ROW()-104,COLUMN($F:$F))))","v":""}]
["",{"$f":"IF($D139=\"\",\"\",INDEX(december!$A:$O,ROW()-104,COLUMN($C:$C)))","v":""},"Variabel",{"$f":"IF(INDEX(december!$A:$O,ROW()-104,COLUMN(F:F))=\"\",\"\",IF(INDEX(december!$A:$O,ROW()-104,COLUMN(A:A))=\"\",\"\",INDEX(december!$A:$O,ROW()-104,COLUMN(A:A))))","v":""},"",null,"",{"$f":"IF($D139=\"\",\"\",IF(INDEX(december!$A:$O,ROW()-104,COLUMN($G:$G))=\"\",\"\",INDEX(december!$A:$O,ROW()-104,COLUMN($G:$G))))","v":""},null,null,{"$f":"IF($D139=\"\",\"\",IF(INDEX(december!$A:$O,ROW()-104,COLUMN($F:$F))=\"\",\"\",INDEX(december!$A:$O,ROW()-104,COLUMN($F:$F))))","v":""}]
["",{"$f":"IF($D140=\"\",\"\",INDEX(december!$A:$O,ROW()-104,COLUMN($C:$C)))","v":""},"Variabel",{"$f":"IF(INDEX(december!$A:$O,ROW()-104,COLUMN(F:F))=\"\",\"\",IF(INDEX(december!$A:$O,ROW()-104,COLUMN(A:A))=\"\",\"\",INDEX(december!$A:$O,ROW()-104,COLUMN(A:A))))","v":""},"",null,"",{"$f":"IF($D140=\"\",\"\",IF(INDEX(december!$A:$O,ROW()-104,COLUMN($G:$G))=\"\",\"\",INDEX(december!$A:$O,ROW()-104,COLUMN($G:$G))))","v":""},null,null,{"$f":"IF($D140=\"\",\"\",IF(INDEX(december!$A:$O,ROW()-104,COLUMN($F:$F))=\"\",\"\",INDEX(december!$A:$O,ROW()-104,COLUMN($F:$F))))","v":""}]
["",{"$f":"IF($D141=\"\",\"\",INDEX(december!$A:$O,ROW()-104,COLUMN($C:$C)))","v":""},"Variabel",{"$f":"IF(INDEX(december!$A:$O,ROW()-104,COLUMN(F:F))=\"\",\"\",IF(INDEX(december!$A:$O,ROW()-104,COLUMN(A:A))=\"\",\"\",INDEX(december!$A:$O,ROW()-104,COLUMN(A:A))))","v":""},"",null,"",{"$f":"IF($D141=\"\",\"\",IF(INDEX(december!$A:$O,ROW()-104,COLUMN($G:$G))=\"\",\"\",INDEX(december!$A:$O,ROW()-104,COLUMN($G:$G))))","v":""},null,null,{"$f":"IF($D141=\"\",\"\",IF(INDEX(december!$A:$O,ROW()-104,COLUMN($F:$F))=\"\",\"\",INDEX(december!$A:$O,ROW()-104,COLUMN($F:$F))))","v":""}]
["",{"$f":"IF($D142=\"\",\"\",INDEX(december!$A:$O,ROW()-104,COLUMN($C:$C)))","v":""},"Variabel",{"$f":"IF(INDEX(december!$A:$O,ROW()-104,COLUMN(F:F))=\"\",\"\",IF(INDEX(december!$A:$O,ROW()-104,COLUMN(A:A))=\"\",\"\",INDEX(december!$A:$O,ROW()-104,COLUMN(A:A))))","v":""},"",null,"",{"$f":"IF($D142=\"\",\"\",IF(INDEX(december!$A:$O,ROW()-104,COLUMN($G:$G))=\"\",\"\",INDEX(december!$A:$O,ROW()-104,COLUMN($G:$G))))","v":""},null,null,{"$f":"IF($D142=\"\",\"\",IF(INDEX(december!$A:$O,ROW()-104,COLUMN($F:$F))=\"\",\"\",INDEX(december!$A:$O,ROW()-104,COLUMN($F:$F))))","v":""}]
["",{"$f":"IF($D143=\"\",\"\",INDEX(december!$A:$O,ROW()-104,COLUMN($C:$C)))","v":""},"Variabel",{"$f":"IF(INDEX(december!$A:$O,ROW()-104,COLUMN(F:F))=\"\",\"\",IF(INDEX(december!$A:$O,ROW()-104,COLUMN(A:A))=\"\",\"\",INDEX(december!$A:$O,ROW()-104,COLUMN(A:A))))","v":""},"",null,"",{"$f":"IF($D143=\"\",\"\",IF(INDEX(december!$A:$O,ROW()-104,COLUMN($G:$G))=\"\",\"\",INDEX(december!$A:$O,ROW()-104,COLUMN($G:$G))))","v":""},null,null,{"$f":"IF($D143=\"\",\"\",IF(INDEX(december!$A:$O,ROW()-104,COLUMN($F:$F))=\"\",\"\",INDEX(december!$A:$O,ROW()-104,COLUMN($F:$F))))","v":""}]
["",{"$f":"IF($D144=\"\",\"\",INDEX(december!$A:$O,ROW()-104,COLUMN($C:$C)))","v":""},"Variabel",{"$f":"IF(INDEX(december!$A:$O,ROW()-104,COLUMN(F:F))=\"\",\"\",IF(INDEX(december!$A:$O,ROW()-104,COLUMN(A:A))=\"\",\"\",INDEX(december!$A:$O,ROW()-104,COLUMN(A:A))))","v":""},"",null,"",{"$f":"IF($D144=\"\",\"\",IF(INDEX(december!$A:$O,ROW()-104,COLUMN($G:$G))=\"\",\"\",INDEX(december!$A:$O,ROW()-104,COLUMN($G:$G))))","v":""},null,null,{"$f":"IF($D144=\"\",\"\",IF(INDEX(december!$A:$O,ROW()-104,COLUMN($F:$F))=\"\",\"\",INDEX(december!$A:$O,ROW()-104,COLUMN($F:$F))))","v":""}]
["",{"$f":"IF($D145=\"\",\"\",INDEX(december!$A:$O,ROW()-104,COLUMN($C:$C)))","v":""},"Variabel",{"$f":"IF(INDEX(december!$A:$O,ROW()-104,COLUMN(F:F))=\"\",\"\",IF(INDEX(december!$A:$O,ROW()-104,COLUMN(A:A))=\"\",\"\",INDEX(december!$A:$O,ROW()-104,COLUMN(A:A))))","v":""},"",null,"",{"$f":"IF($D145=\"\",\"\",IF(INDEX(december!$A:$O,ROW()-104,COLUMN($G:$G))=\"\",\"\",INDEX(december!$A:$O,ROW()-104,COLUMN($G:$G))))","v":""},null,null,{"$f":"IF($D145=\"\",\"\",IF(INDEX(december!$A:$O,ROW()-104,COLUMN($F:$F))=\"\",\"\",INDEX(december!$A:$O,ROW()-104,COLUMN($F:$F))))","v":""}]
["",{"$f":"IF($D146=\"\",\"\",INDEX(december!$A:$O,ROW()-104,COLUMN($C:$C)))","v":""},"Variabel",{"$f":"IF(INDEX(december!$A:$O,ROW()-104,COLUMN(F:F))=\"\",\"\",IF(INDEX(december!$A:$O,ROW()-104,COLUMN(A:A))=\"\",\"\",INDEX(december!$A:$O,ROW()-104,COLUMN(A:A))))","v":""},"",null,"",{"$f":"IF($D146=\"\",\"\",IF(INDEX(december!$A:$O,ROW()-104,COLUMN($G:$G))=\"\",\"\",INDEX(december!$A:$O,ROW()-104,COLUMN($G:$G))))","v":""},null,null,{"$f":"IF($D146=\"\",\"\",IF(INDEX(december!$A:$O,ROW()-104,COLUMN($F:$F))=\"\",\"\",INDEX(december!$A:$O,ROW()-104,COLUMN($F:$F))))","v":""}]
["",{"$f":"IF($D147=\"\",\"\",INDEX(december!$A:$O,ROW()-104,COLUMN($C:$C)))","v":""},"Variabel",{"$f":"IF(INDEX(december!$A:$O,ROW()-104,COLUMN(F:F))=\"\",\"\",IF(INDEX(december!$A:$O,ROW()-104,COLUMN(A:A))=\"\",\"\",INDEX(december!$A:$O,ROW()-104,COLUMN(A:A))))","v":""},"",null,"",{"$f":"IF($D147=\"\",\"\",IF(INDEX(december!$A:$O,ROW()-104,COLUMN($G:$G))=\"\",\"\",INDEX(december!$A:$O,ROW()-104,COLUMN($G:$G))))","v":""},null,null,{"$f":"IF($D147=\"\",\"\",IF(INDEX(december!$A:$O,ROW()-104,COLUMN($F:$F))=\"\",\"\",INDEX(december!$A:$O,ROW()-104,COLUMN($F:$F))))","v":""}]
["",{"$f":"IF($D148=\"\",\"\",INDEX(december!$A:$O,ROW()-104,COLUMN($C:$C)))","v":""},"Variabel",{"$f":"IF(INDEX(december!$A:$O,ROW()-104,COLUMN(F:F))=\"\",\"\",IF(INDEX(december!$A:$O,ROW()-104,COLUMN(A:A))=\"\",\"\",INDEX(december!$A:$O,ROW()-104,COLUMN(A:A))))","v":""},"",null,"",{"$f":"IF($D148=\"\",\"\",IF(INDEX(december!$A:$O,ROW()-104,COLUMN($G:$G))=\"\",\"\",INDEX(december!$A:$O,ROW()-104,COLUMN($G:$G))))","v":""},null,null,{"$f":"IF($D148=\"\",\"\",IF(INDEX(december!$A:$O,ROW()-104,COLUMN($F:$F))=\"\",\"\",INDEX(december!$A:$O,ROW()-104,COLUMN($F:$F))))","v":""}]
["",{"$f":"IF($D149=\"\",\"\",INDEX(december!$A:$O,ROW()-104,COLUMN($C:$C)))","v":""},"Variabel",{"$f":"IF(INDEX(december!$A:$O,ROW()-104,COLUMN(F:F))=\"\",\"\",IF(INDEX(december!$A:$O,ROW()-104,COLUMN(A:A))=\"\",\"\",INDEX(december!$A:$O,ROW()-104,COLUMN(A:A))))","v":""},"",null,"",{"$f":"IF($D149=\"\",\"\",IF(INDEX(december!$A:$O,ROW()-104,COLUMN($G:$G))=\"\",\"\",INDEX(december!$A:$O,ROW()-104,COLUMN($G:$G))))","v":""},null,null,{"$f":"IF($D149=\"\",\"\",IF(INDEX(december!$A:$O,ROW()-104,COLUMN($F:$F))=\"\",\"\",INDEX(december!$A:$O,ROW()-104,COLUMN($F:$F))))","v":""}]
["",{"$f":"IF($D150=\"\",\"\",INDEX(december!$A:$O,ROW()-104,COLUMN($C:$C)))","v":""},"Variabel",{"$f":"IF(INDEX(december!$A:$O,ROW()-104,COLUMN(F:F))=\"\",\"\",IF(INDEX(december!$A:$O,ROW()-104,COLUMN(A:A))=\"\",\"\",INDEX(december!$A:$O,ROW()-104,COLUMN(A:A))))","v":""},"",null,"",{"$f":"IF($D150=\"\",\"\",IF(INDEX(december!$A:$O,ROW()-104,COLUMN($G:$G))=\"\",\"\",INDEX(december!$A:$O,ROW()-104,COLUMN($G:$G))))","v":""},null,null,{"$f":"IF($D150=\"\",\"\",IF(INDEX(december!$A:$O,ROW()-104,COLUMN($F:$F))=\"\",\"\",INDEX(december!$A:$O,ROW()-104,COLUMN($F:$F))))","v":""}]
["",{"$f":"IF($D151=\"\",\"\",INDEX(december!$A:$O,ROW()-104,COLUMN($C:$C)))","v":""},"Variabel",{"$f":"IF(INDEX(december!$A:$O,ROW()-104,COLUMN(F:F))=\"\",\"\",IF(INDEX(december!$A:$O,ROW()-104,COLUMN(A:A))=\"\",\"\",INDEX(december!$A:$O,ROW()-104,COLUMN(A:A))))","v":""},"",null,"",{"$f":"IF($D151=\"\",\"\",IF(INDEX(december!$A:$O,ROW()-104,COLUMN($G:$G))=\"\",\"\",INDEX(december!$A:$O,ROW()-104,COLUMN($G:$G))))","v":""},null,null,{"$f":"IF($D151=\"\",\"\",IF(INDEX(december!$A:$O,ROW()-104,COLUMN($F:$F))=\"\",\"\",INDEX(december!$A:$O,ROW()-104,COLUMN($F:$F))))","v":""}]
["",{"$f":"IF($D152=\"\",\"\",INDEX(december!$A:$O,ROW()-104,COLUMN($C:$C)))","v":""},"Variabel",{"$f":"IF(INDEX(december!$A:$O,ROW()-104,COLUMN(F:F))=\"\",\"\",IF(INDEX(december!$A:$O,ROW()-104,COLUMN(A:A))=\"\",\"\",INDEX(december!$A:$O,ROW()-104,COLUMN(A:A))))","v":""},"",null,"",{"$f":"IF($D152=\"\",\"\",IF(INDEX(december!$A:$O,ROW()-104,COLUMN($G:$G))=\"\",\"\",INDEX(december!$A:$O,ROW()-104,COLUMN($G:$G))))","v":""},null,null,{"$f":"IF($D152=\"\",\"\",IF(INDEX(december!$A:$O,ROW()-104,COLUMN($F:$F))=\"\",\"\",INDEX(december!$A:$O,ROW()-104,COLUMN($F:$F))))","v":""}]
["",{"$f":"IF($D153=\"\",\"\",INDEX(december!$A:$O,ROW()-104,COLUMN($C:$C)))","v":""},"Variabel",{"$f":"IF(INDEX(december!$A:$O,ROW()-104,COLUMN(F:F))=\"\",\"\",IF(INDEX(december!$A:$O,ROW()-104,COLUMN(A:A))=\"\",\"\",INDEX(december!$A:$O,ROW()-104,COLUMN(A:A))))","v":""},"",null,"",{"$f":"IF($D153=\"\",\"\",IF(INDEX(december!$A:$O,ROW()-104,COLUMN($G:$G))=\"\",\"\",INDEX(december!$A:$O,ROW()-104,COLUMN($G:$G))))","v":""},null,null,{"$f":"IF($D153=\"\",\"\",IF(INDEX(december!$A:$O,ROW()-104,COLUMN($F:$F))=\"\",\"\",INDEX(december!$A:$O,ROW()-104,COLUMN($F:$F))))","v":""}]
["",{"$f":"IF($D154=\"\",\"\",INDEX(december!$A:$O,ROW()-104,COLUMN($C:$C)))","v":""},"Variabel",{"$f":"IF(INDEX(december!$A:$O,ROW()-104,COLUMN(F:F))=\"\",\"\",IF(INDEX(december!$A:$O,ROW()-104,COLUMN(A:A))=\"\",\"\",INDEX(december!$A:$O,ROW()-104,COLUMN(A:A))))","v":""},"",null,"",{"$f":"IF($D154=\"\",\"\",IF(INDEX(december!$A:$O,ROW()-104,COLUMN($G:$G))=\"\",\"\",INDEX(december!$A:$O,ROW()-104,COLUMN($G:$G))))","v":""},null,null,{"$f":"IF($D154=\"\",\"\",IF(INDEX(december!$A:$O,ROW()-104,COLUMN($F:$F))=\"\",\"\",INDEX(december!$A:$O,ROW()-104,COLUMN($F:$F))))","v":""}]
["",{"$f":"IF($D155=\"\",\"\",INDEX(december!$A:$O,ROW()-104,COLUMN($C:$C)))","v":""},"Variabel",{"$f":"IF(INDEX(december!$A:$O,ROW()-104,COLUMN(F:F))=\"\",\"\",IF(INDEX(december!$A:$O,ROW()-104,COLUMN(A:A))=\"\",\"\",INDEX(december!$A:$O,ROW()-104,COLUMN(A:A))))","v":""},"",null,"",{"$f":"IF($D155=\"\",\"\",IF(INDEX(december!$A:$O,ROW()-104,COLUMN($G:$G))=\"\",\"\",INDEX(december!$A:$O,ROW()-104,COLUMN($G:$G))))","v":""},null,null,{"$f":"IF($D155=\"\",\"\",IF(INDEX(december!$A:$O,ROW()-104,COLUMN($F:$F))=\"\",\"\",INDEX(december!$A:$O,ROW()-104,COLUMN($F:$F))))","v":""}]
["",{"$f":"IF($D156=\"\",\"\",INDEX(december!$A:$O,ROW()-104,COLUMN($C:$C)))","v":""},"Variabel",{"$f":"IF(INDEX(december!$A:$O,ROW()-104,COLUMN(F:F))=\"\",\"\",IF(INDEX(december!$A:$O,ROW()-104,COLUMN(A:A))=\"\",\"\",INDEX(december!$A:$O,ROW()-104,COLUMN(A:A))))","v":""},"",null,"",{"$f":"IF($D156=\"\",\"\",IF(INDEX(december!$A:$O,ROW()-104,COLUMN($G:$G))=\"\",\"\",INDEX(december!$A:$O,ROW()-104,COLUMN($G:$G))))","v":""},null,null,{"$f":"IF($D156=\"\",\"\",IF(INDEX(december!$A:$O,ROW()-104,COLUMN($F:$F))=\"\",\"\",INDEX(december!$A:$O,ROW()-104,COLUMN($F:$F))))","v":""}]
["",{"$f":"IF($D157=\"\",\"\",INDEX(december!$A:$O,ROW()-104,COLUMN($C:$C)))","v":""},"Variabel",{"$f":"IF(INDEX(december!$A:$O,ROW()-104,COLUMN(F:F))=\"\",\"\",IF(INDEX(december!$A:$O,ROW()-104,COLUMN(A:A))=\"\",\"\",INDEX(december!$A:$O,ROW()-104,COLUMN(A:A))))","v":""},"",null,"",{"$f":"IF($D157=\"\",\"\",IF(INDEX(december!$A:$O,ROW()-104,COLUMN($G:$G))=\"\",\"\",INDEX(december!$A:$O,ROW()-104,COLUMN($G:$G))))","v":""},null,null,{"$f":"IF($D157=\"\",\"\",IF(INDEX(december!$A:$O,ROW()-104,COLUMN($F:$F))=\"\",\"\",INDEX(december!$A:$O,ROW()-104,COLUMN($F:$F))))","v":""}]
["",{"$f":"IF($D158=\"\",\"\",INDEX(december!$A:$O,ROW()-104,COLUMN($C:$C)))","v":""},"Variabel",{"$f":"IF(INDEX(december!$A:$O,ROW()-104,COLUMN(F:F))=\"\",\"\",IF(INDEX(december!$A:$O,ROW()-104,COLUMN(A:A))=\"\",\"\",INDEX(december!$A:$O,ROW()-104,COLUMN(A:A))))","v":""},"",null,"",{"$f":"IF($D158=\"\",\"\",IF(INDEX(december!$A:$O,ROW()-104,COLUMN($G:$G))=\"\",\"\",INDEX(december!$A:$O,ROW()-104,COLUMN($G:$G))))","v":""},null,null,{"$f":"IF($D158=\"\",\"\",IF(INDEX(december!$A:$O,ROW()-104,COLUMN($F:$F))=\"\",\"\",INDEX(december!$A:$O,ROW()-104,COLUMN($F:$F))))","v":""}]
["",{"$f":"IF($D159=\"\",\"\",INDEX(december!$A:$O,ROW()-104,COLUMN($C:$C)))","v":""},"Variabel",{"$f":"IF(INDEX(december!$A:$O,ROW()-104,COLUMN(F:F))=\"\",\"\",IF(INDEX(december!$A:$O,ROW()-104,COLUMN(A:A))=\"\",\"\",INDEX(december!$A:$O,ROW()-104,COLUMN(A:A))))","v":""},"",null,"",{"$f":"IF($D159=\"\",\"\",IF(INDEX(december!$A:$O,ROW()-104,COLUMN($G:$G))=\"\",\"\",INDEX(december!$A:$O,ROW()-104,COLUMN($G:$G))))","v":""},null,null,{"$f":"IF($D159=\"\",\"\",IF(INDEX(december!$A:$O,ROW()-104,COLUMN($F:$F))=\"\",\"\",INDEX(december!$A:$O,ROW()-104,COLUMN($F:$F))))","v":""}]
["",{"$f":"IF($D160=\"\",\"\",INDEX(december!$A:$O,ROW()-104,COLUMN($C:$C)))","v":""},"Variabel",{"$f":"IF(INDEX(december!$A:$O,ROW()-104,COLUMN(F:F))=\"\",\"\",IF(INDEX(december!$A:$O,ROW()-104,COLUMN(A:A))=\"\",\"\",INDEX(december!$A:$O,ROW()-104,COLUMN(A:A))))","v":""},"",null,"",{"$f":"IF($D160=\"\",\"\",IF(INDEX(december!$A:$O,ROW()-104,COLUMN($G:$G))=\"\",\"\",INDEX(december!$A:$O,ROW()-104,COLUMN($G:$G))))","v":""},null,null,{"$f":"IF($D160=\"\",\"\",IF(INDEX(december!$A:$O,ROW()-104,COLUMN($F:$F))=\"\",\"\",INDEX(december!$A:$O,ROW()-104,COLUMN($F:$F))))","v":""}]
["",{"$f":"IF($D161=\"\",\"\",INDEX(december!$A:$O,ROW()-104,COLUMN($C:$C)))","v":""},"Variabel",{"$f":"IF(INDEX(december!$A:$O,ROW()-104,COLUMN(F:F))=\"\",\"\",IF(INDEX(december!$A:$O,ROW()-104,COLUMN(A:A))=\"\",\"\",INDEX(december!$A:$O,ROW()-104,COLUMN(A:A))))","v":""},"",null,"",{"$f":"IF($D161=\"\",\"\",IF(INDEX(december!$A:$O,ROW()-104,COLUMN($G:$G))=\"\",\"\",INDEX(december!$A:$O,ROW()-104,COLUMN($G:$G))))","v":""},null,null,{"$f":"IF($D161=\"\",\"\",IF(INDEX(december!$A:$O,ROW()-104,COLUMN($F:$F))=\"\",\"\",INDEX(december!$A:$O,ROW()-104,COLUMN($F:$F))))","v":""}]
["",{"$f":"IF($D162=\"\",\"\",INDEX(december!$A:$O,ROW()-104,COLUMN($C:$C)))","v":""},"Variabel",{"$f":"IF(INDEX(december!$A:$O,ROW()-104,COLUMN(F:F))=\"\",\"\",IF(INDEX(december!$A:$O,ROW()-104,COLUMN(A:A))=\"\",\"\",INDEX(december!$A:$O,ROW()-104,COLUMN(A:A))))","v":""},"",null,"",{"$f":"IF($D162=\"\",\"\",IF(INDEX(december!$A:$O,ROW()-104,COLUMN($G:$G))=\"\",\"\",INDEX(december!$A:$O,ROW()-104,COLUMN($G:$G))))","v":""},null,null,{"$f":"IF($D162=\"\",\"\",IF(INDEX(december!$A:$O,ROW()-104,COLUMN($F:$F))=\"\",\"\",INDEX(december!$A:$O,ROW()-104,COLUMN($F:$F))))","v":""}]
["",{"$f":"IF($D163=\"\",\"\",INDEX(december!$A:$O,ROW()-104,COLUMN($C:$C)))","v":""},"Variabel",{"$f":"IF(INDEX(december!$A:$O,ROW()-104,COLUMN(F:F))=\"\",\"\",IF(INDEX(december!$A:$O,ROW()-104,COLUMN(A:A))=\"\",\"\",INDEX(december!$A:$O,ROW()-104,COLUMN(A:A))))","v":""},"",null,"",{"$f":"IF($D163=\"\",\"\",IF(INDEX(december!$A:$O,ROW()-104,COLUMN($G:$G))=\"\",\"\",INDEX(december!$A:$O,ROW()-104,COLUMN($G:$G))))","v":""},null,null,{"$f":"IF($D163=\"\",\"\",IF(INDEX(december!$A:$O,ROW()-104,COLUMN($F:$F))=\"\",\"\",INDEX(december!$A:$O,ROW()-104,COLUMN($F:$F))))","v":""}]
["",{"$f":"IF($D164=\"\",\"\",INDEX(december!$A:$O,ROW()-104,COLUMN($C:$C)))","v":""},"Variabel",{"$f":"IF(INDEX(december!$A:$O,ROW()-104,COLUMN(F:F))=\"\",\"\",IF(INDEX(december!$A:$O,ROW()-104,COLUMN(A:A))=\"\",\"\",INDEX(december!$A:$O,ROW()-104,COLUMN(A:A))))","v":""},"",null,"",{"$f":"IF($D164=\"\",\"\",IF(INDEX(december!$A:$O,ROW()-104,COLUMN($G:$G))=\"\",\"\",INDEX(december!$A:$O,ROW()-104,COLUMN($G:$G))))","v":""},null,null,{"$f":"IF($D164=\"\",\"\",IF(INDEX(december!$A:$O,ROW()-104,COLUMN($F:$F))=\"\",\"\",INDEX(december!$A:$O,ROW()-104,COLUMN($F:$F))))","v":""}]
["",{"$f":"IF($D165=\"\",\"\",INDEX(december!$A:$O,ROW()-104,COLUMN($C:$C)))","v":""},"Variabel",{"$f":"IF(INDEX(december!$A:$O,ROW()-104,COLUMN(F:F))=\"\",\"\",IF(INDEX(december!$A:$O,ROW()-104,COLUMN(A:A))=\"\",\"\",INDEX(december!$A:$O,ROW()-104,COLUMN(A:A))))","v":""},"",null,"",{"$f":"IF($D165=\"\",\"\",IF(INDEX(december!$A:$O,ROW()-104,COLUMN($G:$G))=\"\",\"\",INDEX(december!$A:$O,ROW()-104,COLUMN($G:$G))))","v":""},null,null,{"$f":"IF($D165=\"\",\"\",IF(INDEX(december!$A:$O,ROW()-104,COLUMN($F:$F))=\"\",\"\",INDEX(december!$A:$O,ROW()-104,COLUMN($F:$F))))","v":""}]
["",{"$f":"IF($D166=\"\",\"\",INDEX(december!$A:$O,ROW()-104,COLUMN($C:$C)))","v":""},"Variabel",{"$f":"IF(INDEX(december!$A:$O,ROW()-104,COLUMN(F:F))=\"\",\"\",IF(INDEX(december!$A:$O,ROW()-104,COLUMN(A:A))=\"\",\"\",INDEX(december!$A:$O,ROW()-104,COLUMN(A:A))))","v":""},"",null,"",{"$f":"IF($D166=\"\",\"\",IF(INDEX(december!$A:$O,ROW()-104,COLUMN($G:$G))=\"\",\"\",INDEX(december!$A:$O,ROW()-104,COLUMN($G:$G))))","v":""},null,null,{"$f":"IF($D166=\"\",\"\",IF(INDEX(december!$A:$O,ROW()-104,COLUMN($F:$F))=\"\",\"\",INDEX(december!$A:$O,ROW()-104,COLUMN($F:$F))))","v":""}]
["",{"$f":"IF($D167=\"\",\"\",INDEX(december!$A:$O,ROW()-104,COLUMN($C:$C)))","v":""},"Variabel",{"$f":"IF(INDEX(december!$A:$O,ROW()-104,COLUMN(F:F))=\"\",\"\",IF(INDEX(december!$A:$O,ROW()-104,COLUMN(A:A))=\"\",\"\",INDEX(december!$A:$O,ROW()-104,COLUMN(A:A))))","v":""},"",null,"",{"$f":"IF($D167=\"\",\"\",IF(INDEX(december!$A:$O,ROW()-104,COLUMN($G:$G))=\"\",\"\",INDEX(december!$A:$O,ROW()-104,COLUMN($G:$G))))","v":""},null,null,{"$f":"IF($D167=\"\",\"\",IF(INDEX(december!$A:$O,ROW()-104,COLUMN($F:$F))=\"\",\"\",INDEX(december!$A:$O,ROW()-104,COLUMN($F:$F))))","v":""}]
["",{"$f":"IF($D168=\"\",\"\",INDEX(december!$A:$O,ROW()-104,COLUMN($C:$C)))","v":""},"Variabel",{"$f":"IF(INDEX(december!$A:$O,ROW()-104,COLUMN(F:F))=\"\",\"\",IF(INDEX(december!$A:$O,ROW()-104,COLUMN(A:A))=\"\",\"\",INDEX(december!$A:$O,ROW()-104,COLUMN(A:A))))","v":""},"",null,"",{"$f":"IF($D168=\"\",\"\",IF(INDEX(december!$A:$O,ROW()-104,COLUMN($G:$G))=\"\",\"\",INDEX(december!$A:$O,ROW()-104,COLUMN($G:$G))))","v":""},null,null,{"$f":"IF($D168=\"\",\"\",IF(INDEX(december!$A:$O,ROW()-104,COLUMN($F:$F))=\"\",\"\",INDEX(december!$A:$O,ROW()-104,COLUMN($F:$F))))","v":""}]
["",{"$f":"IF($D169=\"\",\"\",INDEX(december!$A:$O,ROW()-104,COLUMN($C:$C)))","v":""},"Variabel",{"$f":"IF(INDEX(december!$A:$O,ROW()-104,COLUMN(F:F))=\"\",\"\",IF(INDEX(december!$A:$O,ROW()-104,COLUMN(A:A))=\"\",\"\",INDEX(december!$A:$O,ROW()-104,COLUMN(A:A))))","v":""},"",null,"",{"$f":"IF($D169=\"\",\"\",IF(INDEX(december!$A:$O,ROW()-104,COLUMN($G:$G))=\"\",\"\",INDEX(december!$A:$O,ROW()-104,COLUMN($G:$G))))","v":""},null,null,{"$f":"IF($D169=\"\",\"\",IF(INDEX(december!$A:$O,ROW()-104,COLUMN($F:$F))=\"\",\"\",INDEX(december!$A:$O,ROW()-104,COLUMN($F:$F))))","v":""}]
[{"$f":"IF($D170=\"\",\"\",$A$2)","v":""},{"$f":"IF($D170=\"\",\"\",INDEX(december!$A:$O,ROW()-104,COLUMN($C:$C)))","v":""},"Variabel",{"$f":"IF(INDEX(december!$A:$O,ROW()-104,COLUMN(F:F))=\"\",\"\",IF(INDEX(december!$A:$O,ROW()-104,COLUMN(A:A))=\"\",\"\",INDEX(december!$A:$O,ROW()-104,COLUMN(A:A))))","v":""},{"$f":"IF($D170=\"\",\"\",$F$2)","v":""},null,"",{"$f":"IF($D170=\"\",\"\",IF(INDEX(december!$A:$O,ROW()-104,COLUMN($G:$G))=\"\",\"\",INDEX(december!$A:$O,ROW()-104,COLUMN($G:$G))))","v":""},null,null,{"$f":"IF($D170=\"\",\"\",IF(INDEX(december!$A:$O,ROW()-104,COLUMN($F:$F))=\"\",\"\",INDEX(december!$A:$O,ROW()-104,COLUMN($F:$F))))","v":""}]
["",{"$f":"IF($D171=\"\",\"\",INDEX(december!$A:$O,ROW()-104,COLUMN($C:$C)))","v":""},"Variabel",{"$f":"IF(INDEX(december!$A:$O,ROW()-104,COLUMN(F:F))=\"\",\"\",IF(INDEX(december!$A:$O,ROW()-104,COLUMN(A:A))=\"\",\"\",INDEX(december!$A:$O,ROW()-104,COLUMN(A:A))))","v":""},"",null,{"$f":"IF($D171=\"\",\"\",9100)","v":""},{"$f":"IF($D171=\"\",\"\",IF(INDEX(december!$A:$O,ROW()-104,COLUMN($G:$G))=\"\",\"\",INDEX(december!$A:$O,ROW()-104,COLUMN($G:$G))))","v":""},null,null,{"$f":"IF($D171=\"\",\"\",IF(INDEX(december!$A:$O,ROW()-104,COLUMN($F:$F))=\"\",\"\",INDEX(december!$A:$O,ROW()-104,COLUMN($F:$F))))","v":""}]
["",{"$f":"IF($D172=\"\",\"\",INDEX(december!$A:$O,ROW()-104,COLUMN($C:$C)))","v":""},"Variabel",{"$f":"IF(INDEX(december!$A:$O,ROW()-104,COLUMN(F:F))=\"\",\"\",IF(INDEX(december!$A:$O,ROW()-104,COLUMN(A:A))=\"\",\"\",INDEX(december!$A:$O,ROW()-104,COLUMN(A:A))))","v":""},"",null,"",{"$f":"IF($D172=\"\",\"\",IF(INDEX(december!$A:$O,ROW()-104,COLUMN($G:$G))=\"\",\"\",INDEX(december!$A:$O,ROW()-104,COLUMN($G:$G))))","v":""},null,null,{"$f":"IF($D172=\"\",\"\",IF(INDEX(december!$A:$O,ROW()-104,COLUMN($F:$F))=\"\",\"\",INDEX(december!$A:$O,ROW()-104,COLUMN($F:$F))))","v":""}]
["",{"$f":"IF($D173=\"\",\"\",INDEX(december!$A:$O,ROW()-104,COLUMN($C:$C)))","v":""},"Variabel",{"$f":"IF(INDEX(december!$A:$O,ROW()-104,COLUMN(F:F))=\"\",\"\",IF(INDEX(december!$A:$O,ROW()-104,COLUMN(A:A))=\"\",\"\",INDEX(december!$A:$O,ROW()-104,COLUMN(A:A))))","v":""},"",null,"",{"$f":"IF($D173=\"\",\"\",IF(INDEX(december!$A:$O,ROW()-104,COLUMN($G:$G))=\"\",\"\",INDEX(december!$A:$O,ROW()-104,COLUMN($G:$G))))","v":""},null,null,{"$f":"IF($D173=\"\",\"\",IF(INDEX(december!$A:$O,ROW()-104,COLUMN($F:$F))=\"\",\"\",INDEX(december!$A:$O,ROW()-104,COLUMN($F:$F))))","v":""}]
["",{"$f":"IF($D174=\"\",\"\",INDEX(december!$A:$O,ROW()-104,COLUMN($C:$C)))","v":""},"Variabel",{"$f":"IF(INDEX(december!$A:$O,ROW()-104,COLUMN(F:F))=\"\",\"\",IF(INDEX(december!$A:$O,ROW()-104,COLUMN(A:A))=\"\",\"\",INDEX(december!$A:$O,ROW()-104,COLUMN(A:A))))","v":""},"",null,"",{"$f":"IF($D174=\"\",\"\",IF(INDEX(december!$A:$O,ROW()-104,COLUMN($G:$G))=\"\",\"\",INDEX(december!$A:$O,ROW()-104,COLUMN($G:$G))))","v":""},null,null,{"$f":"IF($D174=\"\",\"\",IF(INDEX(december!$A:$O,ROW()-104,COLUMN($F:$F))=\"\",\"\",INDEX(december!$A:$O,ROW()-104,COLUMN($F:$F))))","v":""}]
["",{"$f":"IF($D175=\"\",\"\",INDEX(december!$A:$O,ROW()-104,COLUMN($C:$C)))","v":""},"Variabel",{"$f":"IF(INDEX(december!$A:$O,ROW()-104,COLUMN(F:F))=\"\",\"\",IF(INDEX(december!$A:$O,ROW()-104,COLUMN(A:A))=\"\",\"\",INDEX(december!$A:$O,ROW()-104,COLUMN(A:A))))","v":""},"",null,"",{"$f":"IF($D175=\"\",\"\",IF(INDEX(december!$A:$O,ROW()-104,COLUMN($G:$G))=\"\",\"\",INDEX(december!$A:$O,ROW()-104,COLUMN($G:$G))))","v":""},null,null,{"$f":"IF($D175=\"\",\"\",IF(INDEX(december!$A:$O,ROW()-104,COLUMN($F:$F))=\"\",\"\",INDEX(december!$A:$O,ROW()-104,COLUMN($F:$F))))","v":""}]
["",{"$f":"IF($D176=\"\",\"\",INDEX(december!$A:$O,ROW()-104,COLUMN($C:$C)))","v":""},"Variabel",{"$f":"IF(INDEX(december!$A:$O,ROW()-104,COLUMN(F:F))=\"\",\"\",IF(INDEX(december!$A:$O,ROW()-104,COLUMN(A:A))=\"\",\"\",INDEX(december!$A:$O,ROW()-104,COLUMN(A:A))))","v":""},"",null,"",{"$f":"IF($D176=\"\",\"\",IF(INDEX(december!$A:$O,ROW()-104,COLUMN($G:$G))=\"\",\"\",INDEX(december!$A:$O,ROW()-104,COLUMN($G:$G))))","v":""},null,null,{"$f":"IF($D176=\"\",\"\",IF(INDEX(december!$A:$O,ROW()-104,COLUMN($F:$F))=\"\",\"\",INDEX(december!$A:$O,ROW()-104,COLUMN($F:$F))))","v":""}]
["",{"$f":"IF($D177=\"\",\"\",INDEX(december!$A:$O,ROW()-104,COLUMN($C:$C)))","v":""},"Variabel",{"$f":"IF(INDEX(december!$A:$O,ROW()-104,COLUMN(F:F))=\"\",\"\",IF(INDEX(december!$A:$O,ROW()-104,COLUMN(A:A))=\"\",\"\",INDEX(december!$A:$O,ROW()-104,COLUMN(A:A))))","v":""},"",null,"",{"$f":"IF($D177=\"\",\"\",IF(INDEX(december!$A:$O,ROW()-104,COLUMN($G:$G))=\"\",\"\",INDEX(december!$A:$O,ROW()-104,COLUMN($G:$G))))","v":""},null,null,{"$f":"IF($D177=\"\",\"\",IF(INDEX(december!$A:$O,ROW()-104,COLUMN($F:$F))=\"\",\"\",INDEX(december!$A:$O,ROW()-104,COLUMN($F:$F))))","v":""}]
["",{"$f":"IF($D178=\"\",\"\",INDEX(december!$A:$O,ROW()-104,COLUMN($C:$C)))","v":""},"Variabel",{"$f":"IF(INDEX(december!$A:$O,ROW()-104,COLUMN(F:F))=\"\",\"\",IF(INDEX(december!$A:$O,ROW()-104,COLUMN(A:A))=\"\",\"\",INDEX(december!$A:$O,ROW()-104,COLUMN(A:A))))","v":""},"",null,"",{"$f":"IF($D178=\"\",\"\",IF(INDEX(december!$A:$O,ROW()-104,COLUMN($G:$G))=\"\",\"\",INDEX(december!$A:$O,ROW()-104,COLUMN($G:$G))))","v":""},null,null,{"$f":"IF($D178=\"\",\"\",IF(INDEX(december!$A:$O,ROW()-104,COLUMN($F:$F))=\"\",\"\",INDEX(december!$A:$O,ROW()-104,COLUMN($F:$F))))","v":""}]
["",{"$f":"IF($D179=\"\",\"\",INDEX(december!$A:$O,ROW()-104,COLUMN($C:$C)))","v":""},"Variabel",{"$f":"IF(INDEX(december!$A:$O,ROW()-104,COLUMN(F:F))=\"\",\"\",IF(INDEX(december!$A:$O,ROW()-104,COLUMN(A:A))=\"\",\"\",INDEX(december!$A:$O,ROW()-104,COLUMN(A:A))))","v":""},"",null,"",{"$f":"IF($D179=\"\",\"\",IF(INDEX(december!$A:$O,ROW()-104,COLUMN($G:$G))=\"\",\"\",INDEX(december!$A:$O,ROW()-104,COLUMN($G:$G))))","v":""},null,null,{"$f":"IF($D179=\"\",\"\",IF(INDEX(december!$A:$O,ROW()-104,COLUMN($F:$F))=\"\",\"\",INDEX(december!$A:$O,ROW()-104,COLUMN($F:$F))))","v":""}]
["",{"$f":"IF($D180=\"\",\"\",INDEX(december!$A:$O,ROW()-104,COLUMN($C:$C)))","v":""},"Variabel",{"$f":"IF(INDEX(december!$A:$O,ROW()-104,COLUMN(F:F))=\"\",\"\",IF(INDEX(december!$A:$O,ROW()-104,COLUMN(A:A))=\"\",\"\",INDEX(december!$A:$O,ROW()-104,COLUMN(A:A))))","v":""},"",null,"",{"$f":"IF($D180=\"\",\"\",IF(INDEX(december!$A:$O,ROW()-104,COLUMN($G:$G))=\"\",\"\",INDEX(december!$A:$O,ROW()-104,COLUMN($G:$G))))","v":""},null,null,{"$f":"IF($D180=\"\",\"\",IF(INDEX(december!$A:$O,ROW()-104,COLUMN($F:$F))=\"\",\"\",INDEX(december!$A:$O,ROW()-104,COLUMN($F:$F))))","v":""}]
["",{"$f":"IF($D181=\"\",\"\",INDEX(december!$A:$O,ROW()-104,COLUMN($C:$C)))","v":""},"Variabel",{"$f":"IF(INDEX(december!$A:$O,ROW()-104,COLUMN(F:F))=\"\",\"\",IF(INDEX(december!$A:$O,ROW()-104,COLUMN(A:A))=\"\",\"\",INDEX(december!$A:$O,ROW()-104,COLUMN(A:A))))","v":""},"",null,"",{"$f":"IF($D181=\"\",\"\",IF(INDEX(december!$A:$O,ROW()-104,COLUMN($G:$G))=\"\",\"\",INDEX(december!$A:$O,ROW()-104,COLUMN($G:$G))))","v":""},null,null,{"$f":"IF($D181=\"\",\"\",IF(INDEX(december!$A:$O,ROW()-104,COLUMN($F:$F))=\"\",\"\",INDEX(december!$A:$O,ROW()-104,COLUMN($F:$F))))","v":""}]
["",{"$f":"IF($D182=\"\",\"\",INDEX(december!$A:$O,ROW()-104,COLUMN($C:$C)))","v":""},"Variabel",{"$f":"IF(INDEX(december!$A:$O,ROW()-104,COLUMN(F:F))=\"\",\"\",IF(INDEX(december!$A:$O,ROW()-104,COLUMN(A:A))=\"\",\"\",INDEX(december!$A:$O,ROW()-104,COLUMN(A:A))))","v":""},"",null,"",{"$f":"IF($D182=\"\",\"\",IF(INDEX(december!$A:$O,ROW()-104,COLUMN($G:$G))=\"\",\"\",INDEX(december!$A:$O,ROW()-104,COLUMN($G:$G))))","v":""},null,null,{"$f":"IF($D182=\"\",\"\",IF(INDEX(december!$A:$O,ROW()-104,COLUMN($F:$F))=\"\",\"\",INDEX(december!$A:$O,ROW()-104,COLUMN($F:$F))))","v":""}]
["",{"$f":"IF($D183=\"\",\"\",INDEX(december!$A:$O,ROW()-104,COLUMN($C:$C)))","v":""},"Variabel",{"$f":"IF(INDEX(december!$A:$O,ROW()-104,COLUMN(F:F))=\"\",\"\",IF(INDEX(december!$A:$O,ROW()-104,COLUMN(A:A))=\"\",\"\",INDEX(december!$A:$O,ROW()-104,COLUMN(A:A))))","v":""},"",null,"",{"$f":"IF($D183=\"\",\"\",IF(INDEX(december!$A:$O,ROW()-104,COLUMN($G:$G))=\"\",\"\",INDEX(december!$A:$O,ROW()-104,COLUMN($G:$G))))","v":""},null,null,{"$f":"IF($D183=\"\",\"\",IF(INDEX(december!$A:$O,ROW()-104,COLUMN($F:$F))=\"\",\"\",INDEX(december!$A:$O,ROW()-104,COLUMN($F:$F))))","v":""}]
["",{"$f":"IF($D184=\"\",\"\",INDEX(december!$A:$O,ROW()-104,COLUMN($C:$C)))","v":""},"Variabel",{"$f":"IF(INDEX(december!$A:$O,ROW()-104,COLUMN(F:F))=\"\",\"\",IF(INDEX(december!$A:$O,ROW()-104,COLUMN(A:A))=\"\",\"\",INDEX(december!$A:$O,ROW()-104,COLUMN(A:A))))","v":""},"",null,"",{"$f":"IF($D184=\"\",\"\",IF(INDEX(december!$A:$O,ROW()-104,COLUMN($G:$G))=\"\",\"\",INDEX(december!$A:$O,ROW()-104,COLUMN($G:$G))))","v":""},null,null,{"$f":"IF($D184=\"\",\"\",IF(INDEX(december!$A:$O,ROW()-104,COLUMN($F:$F))=\"\",\"\",INDEX(december!$A:$O,ROW()-104,COLUMN($F:$F))))","v":""}]
["",{"$f":"IF($D185=\"\",\"\",INDEX(december!$A:$O,ROW()-104,COLUMN($C:$C)))","v":""},"Variabel",{"$f":"IF(INDEX(december!$A:$O,ROW()-104,COLUMN(F:F))=\"\",\"\",IF(INDEX(december!$A:$O,ROW()-104,COLUMN(A:A))=\"\",\"\",INDEX(december!$A:$O,ROW()-104,COLUMN(A:A))))","v":""},"",null,"",{"$f":"IF($D185=\"\",\"\",IF(INDEX(december!$A:$O,ROW()-104,COLUMN($G:$G))=\"\",\"\",INDEX(december!$A:$O,ROW()-104,COLUMN($G:$G))))","v":""},null,null,{"$f":"IF($D185=\"\",\"\",IF(INDEX(december!$A:$O,ROW()-104,COLUMN($F:$F))=\"\",\"\",INDEX(december!$A:$O,ROW()-104,COLUMN($F:$F))))","v":""}]
["",{"$f":"IF($D186=\"\",\"\",INDEX(december!$A:$O,ROW()-104,COLUMN($C:$C)))","v":""},"Variabel",{"$f":"IF(INDEX(december!$A:$O,ROW()-104,COLUMN(F:F))=\"\",\"\",IF(INDEX(december!$A:$O,ROW()-104,COLUMN(A:A))=\"\",\"\",INDEX(december!$A:$O,ROW()-104,COLUMN(A:A))))","v":""},"",null,"",{"$f":"IF($D186=\"\",\"\",IF(INDEX(december!$A:$O,ROW()-104,COLUMN($G:$G))=\"\",\"\",INDEX(december!$A:$O,ROW()-104,COLUMN($G:$G))))","v":""},null,null,{"$f":"IF($D186=\"\",\"\",IF(INDEX(december!$A:$O,ROW()-104,COLUMN($F:$F))=\"\",\"\",INDEX(december!$A:$O,ROW()-104,COLUMN($F:$F))))","v":""}]
["",{"$f":"IF($D187=\"\",\"\",INDEX(december!$A:$O,ROW()-104,COLUMN($C:$C)))","v":""},"Variabel",{"$f":"IF(INDEX(december!$A:$O,ROW()-104,COLUMN(F:F))=\"\",\"\",IF(INDEX(december!$A:$O,ROW()-104,COLUMN(A:A))=\"\",\"\",INDEX(december!$A:$O,ROW()-104,COLUMN(A:A))))","v":""},"",null,"",{"$f":"IF($D187=\"\",\"\",IF(INDEX(december!$A:$O,ROW()-104,COLUMN($G:$G))=\"\",\"\",INDEX(december!$A:$O,ROW()-104,COLUMN($G:$G))))","v":""},null,null,{"$f":"IF($D187=\"\",\"\",IF(INDEX(december!$A:$O,ROW()-104,COLUMN($F:$F))=\"\",\"\",INDEX(december!$A:$O,ROW()-104,COLUMN($F:$F))))","v":""}]
["",{"$f":"IF($D188=\"\",\"\",INDEX(december!$A:$O,ROW()-104,COLUMN($C:$C)))","v":""},"Variabel",{"$f":"IF(INDEX(december!$A:$O,ROW()-104,COLUMN(F:F))=\"\",\"\",IF(INDEX(december!$A:$O,ROW()-104,COLUMN(A:A))=\"\",\"\",INDEX(december!$A:$O,ROW()-104,COLUMN(A:A))))","v":""},"",null,"",{"$f":"IF($D188=\"\",\"\",IF(INDEX(december!$A:$O,ROW()-104,COLUMN($G:$G))=\"\",\"\",INDEX(december!$A:$O,ROW()-104,COLUMN($G:$G))))","v":""},null,null,{"$f":"IF($D188=\"\",\"\",IF(INDEX(december!$A:$O,ROW()-104,COLUMN($F:$F))=\"\",\"\",INDEX(december!$A:$O,ROW()-104,COLUMN($F:$F))))","v":""}]
["",{"$f":"IF($D189=\"\",\"\",INDEX(december!$A:$O,ROW()-104,COLUMN($C:$C)))","v":""},"Variabel",{"$f":"IF(INDEX(december!$A:$O,ROW()-104,COLUMN(F:F))=\"\",\"\",IF(INDEX(december!$A:$O,ROW()-104,COLUMN(A:A))=\"\",\"\",INDEX(december!$A:$O,ROW()-104,COLUMN(A:A))))","v":""},"",null,"",{"$f":"IF($D189=\"\",\"\",IF(INDEX(december!$A:$O,ROW()-104,COLUMN($G:$G))=\"\",\"\",INDEX(december!$A:$O,ROW()-104,COLUMN($G:$G))))","v":""},null,null,{"$f":"IF($D189=\"\",\"\",IF(INDEX(december!$A:$O,ROW()-104,COLUMN($F:$F))=\"\",\"\",INDEX(december!$A:$O,ROW()-104,COLUMN($F:$F))))","v":""}]
["",{"$f":"IF($D190=\"\",\"\",INDEX(december!$A:$O,ROW()-104,COLUMN($C:$C)))","v":""},"Variabel",{"$f":"IF(INDEX(december!$A:$O,ROW()-104,COLUMN(F:F))=\"\",\"\",IF(INDEX(december!$A:$O,ROW()-104,COLUMN(A:A))=\"\",\"\",INDEX(december!$A:$O,ROW()-104,COLUMN(A:A))))","v":""},"",null,"",{"$f":"IF($D190=\"\",\"\",IF(INDEX(december!$A:$O,ROW()-104,COLUMN($G:$G))=\"\",\"\",INDEX(december!$A:$O,ROW()-104,COLUMN($G:$G))))","v":""},null,null,{"$f":"IF($D190=\"\",\"\",IF(INDEX(december!$A:$O,ROW()-104,COLUMN($F:$F))=\"\",\"\",INDEX(december!$A:$O,ROW()-104,COLUMN($F:$F))))","v":""}]
["",{"$f":"IF($D191=\"\",\"\",INDEX(december!$A:$O,ROW()-104,COLUMN($C:$C)))","v":""},"Variabel",{"$f":"IF(INDEX(december!$A:$O,ROW()-104,COLUMN(F:F))=\"\",\"\",IF(INDEX(december!$A:$O,ROW()-104,COLUMN(A:A))=\"\",\"\",INDEX(december!$A:$O,ROW()-104,COLUMN(A:A))))","v":""},"",null,"",{"$f":"IF($D191=\"\",\"\",IF(INDEX(december!$A:$O,ROW()-104,COLUMN($G:$G))=\"\",\"\",INDEX(december!$A:$O,ROW()-104,COLUMN($G:$G))))","v":""},null,null,{"$f":"IF($D191=\"\",\"\",IF(INDEX(december!$A:$O,ROW()-104,COLUMN($F:$F))=\"\",\"\",INDEX(december!$A:$O,ROW()-104,COLUMN($F:$F))))","v":""}]
["",{"$f":"IF($D192=\"\",\"\",INDEX(december!$A:$O,ROW()-104,COLUMN($C:$C)))","v":""},"Variabel",{"$f":"IF(INDEX(december!$A:$O,ROW()-104,COLUMN(F:F))=\"\",\"\",IF(INDEX(december!$A:$O,ROW()-104,COLUMN(A:A))=\"\",\"\",INDEX(december!$A:$O,ROW()-104,COLUMN(A:A))))","v":""},"",null,"",{"$f":"IF($D192=\"\",\"\",IF(INDEX(december!$A:$O,ROW()-104,COLUMN($G:$G))=\"\",\"\",INDEX(december!$A:$O,ROW()-104,COLUMN($G:$G))))","v":""},null,null,{"$f":"IF($D192=\"\",\"\",IF(INDEX(december!$A:$O,ROW()-104,COLUMN($F:$F))=\"\",\"\",INDEX(december!$A:$O,ROW()-104,COLUMN($F:$F))))","v":""}]
["",{"$f":"IF($D193=\"\",\"\",INDEX(december!$A:$O,ROW()-104,COLUMN($C:$C)))","v":""},"Variabel",{"$f":"IF(INDEX(december!$A:$O,ROW()-104,COLUMN(F:F))=\"\",\"\",IF(INDEX(december!$A:$O,ROW()-104,COLUMN(A:A))=\"\",\"\",INDEX(december!$A:$O,ROW()-104,COLUMN(A:A))))","v":""},"",null,"",{"$f":"IF($D193=\"\",\"\",IF(INDEX(december!$A:$O,ROW()-104,COLUMN($G:$G))=\"\",\"\",INDEX(december!$A:$O,ROW()-104,COLUMN($G:$G))))","v":""},null,null,{"$f":"IF($D193=\"\",\"\",IF(INDEX(december!$A:$O,ROW()-104,COLUMN($F:$F))=\"\",\"\",INDEX(december!$A:$O,ROW()-104,COLUMN($F:$F))))","v":""}]
["",{"$f":"IF($D194=\"\",\"\",INDEX(december!$A:$O,ROW()-104,COLUMN($C:$C)))","v":""},"Variabel",{"$f":"IF(INDEX(december!$A:$O,ROW()-104,COLUMN(F:F))=\"\",\"\",IF(INDEX(december!$A:$O,ROW()-104,COLUMN(A:A))=\"\",\"\",INDEX(december!$A:$O,ROW()-104,COLUMN(A:A))))","v":""},"",null,"",{"$f":"IF($D194=\"\",\"\",IF(INDEX(december!$A:$O,ROW()-104,COLUMN($G:$G))=\"\",\"\",INDEX(december!$A:$O,ROW()-104,COLUMN($G:$G))))","v":""},null,null,{"$f":"IF($D194=\"\",\"\",IF(INDEX(december!$A:$O,ROW()-104,COLUMN($F:$F))=\"\",\"\",INDEX(december!$A:$O,ROW()-104,COLUMN($F:$F))))","v":""}]
["",{"$f":"IF($D195=\"\",\"\",INDEX(december!$A:$O,ROW()-104,COLUMN($C:$C)))","v":""},"Variabel",{"$f":"IF(INDEX(december!$A:$O,ROW()-104,COLUMN(F:F))=\"\",\"\",IF(INDEX(december!$A:$O,ROW()-104,COLUMN(A:A))=\"\",\"\",INDEX(december!$A:$O,ROW()-104,COLUMN(A:A))))","v":""},"",null,"",{"$f":"IF($D195=\"\",\"\",IF(INDEX(december!$A:$O,ROW()-104,COLUMN($G:$G))=\"\",\"\",INDEX(december!$A:$O,ROW()-104,COLUMN($G:$G))))","v":""},null,null,{"$f":"IF($D195=\"\",\"\",IF(INDEX(december!$A:$O,ROW()-104,COLUMN($F:$F))=\"\",\"\",INDEX(december!$A:$O,ROW()-104,COLUMN($F:$F))))","v":""}]
["",{"$f":"IF($D196=\"\",\"\",INDEX(december!$A:$O,ROW()-104,COLUMN($C:$C)))","v":""},"Variabel",{"$f":"IF(INDEX(december!$A:$O,ROW()-104,COLUMN(F:F))=\"\",\"\",IF(INDEX(december!$A:$O,ROW()-104,COLUMN(A:A))=\"\",\"\",INDEX(december!$A:$O,ROW()-104,COLUMN(A:A))))","v":""},"",null,"",{"$f":"IF($D196=\"\",\"\",IF(INDEX(december!$A:$O,ROW()-104,COLUMN($G:$G))=\"\",\"\",INDEX(december!$A:$O,ROW()-104,COLUMN($G:$G))))","v":""},null,null,{"$f":"IF($D196=\"\",\"\",IF(INDEX(december!$A:$O,ROW()-104,COLUMN($F:$F))=\"\",\"\",INDEX(december!$A:$O,ROW()-104,COLUMN($F:$F))))","v":""}]
["",{"$f":"IF($D197=\"\",\"\",INDEX(december!$A:$O,ROW()-104,COLUMN($C:$C)))","v":""},"Variabel",{"$f":"IF(INDEX(december!$A:$O,ROW()-104,COLUMN(F:F))=\"\",\"\",IF(INDEX(december!$A:$O,ROW()-104,COLUMN(A:A))=\"\",\"\",INDEX(december!$A:$O,ROW()-104,COLUMN(A:A))))","v":""},"",null,"",{"$f":"IF($D197=\"\",\"\",IF(INDEX(december!$A:$O,ROW()-104,COLUMN($G:$G))=\"\",\"\",INDEX(december!$A:$O,ROW()-104,COLUMN($G:$G))))","v":""},null,null,{"$f":"IF($D197=\"\",\"\",IF(INDEX(december!$A:$O,ROW()-104,COLUMN($F:$F))=\"\",\"\",INDEX(december!$A:$O,ROW()-104,COLUMN($F:$F))))","v":""}]
["",{"$f":"IF($D198=\"\",\"\",INDEX(december!$A:$O,ROW()-104,COLUMN($C:$C)))","v":""},"Variabel",{"$f":"IF(INDEX(december!$A:$O,ROW()-104,COLUMN(F:F))=\"\",\"\",IF(INDEX(december!$A:$O,ROW()-104,COLUMN(A:A))=\"\",\"\",INDEX(december!$A:$O,ROW()-104,COLUMN(A:A))))","v":""},"",null,"",{"$f":"IF($D198=\"\",\"\",IF(INDEX(december!$A:$O,ROW()-104,COLUMN($G:$G))=\"\",\"\",INDEX(december!$A:$O,ROW()-104,COLUMN($G:$G))))","v":""},null,null,{"$f":"IF($D198=\"\",\"\",IF(INDEX(december!$A:$O,ROW()-104,COLUMN($F:$F))=\"\",\"\",INDEX(december!$A:$O,ROW()-104,COLUMN($F:$F))))","v":""}]
["",{"$f":"IF($D199=\"\",\"\",INDEX(december!$A:$O,ROW()-104,COLUMN($C:$C)))","v":""},"Variabel",{"$f":"IF(INDEX(december!$A:$O,ROW()-104,COLUMN(F:F))=\"\",\"\",IF(INDEX(december!$A:$O,ROW()-104,COLUMN(A:A))=\"\",\"\",INDEX(december!$A:$O,ROW()-104,COLUMN(A:A))))","v":""},"",null,"",{"$f":"IF($D199=\"\",\"\",IF(INDEX(december!$A:$O,ROW()-104,COLUMN($G:$G))=\"\",\"\",INDEX(december!$A:$O,ROW()-104,COLUMN($G:$G))))","v":""},null,null,{"$f":"IF($D199=\"\",\"\",IF(INDEX(december!$A:$O,ROW()-104,COLUMN($F:$F))=\"\",\"\",INDEX(december!$A:$O,ROW()-104,COLUMN($F:$F))))","v":""}]
["",{"$f":"IF($D200=\"\",\"\",INDEX(december!$A:$O,ROW()-104,COLUMN($C:$C)))","v":""},"Variabel",{"$f":"IF(INDEX(december!$A:$O,ROW()-104,COLUMN(F:F))=\"\",\"\",IF(INDEX(december!$A:$O,ROW()-104,COLUMN(A:A))=\"\",\"\",INDEX(december!$A:$O,ROW()-104,COLUMN(A:A))))","v":""},"",null,"",{"$f":"IF($D200=\"\",\"\",IF(INDEX(december!$A:$O,ROW()-104,COLUMN($G:$G))=\"\",\"\",INDEX(december!$A:$O,ROW()-104,COLUMN($G:$G))))","v":""},null,null,{"$f":"IF($D200=\"\",\"\",IF(INDEX(december!$A:$O,ROW()-104,COLUMN($F:$F))=\"\",\"\",INDEX(december!$A:$O,ROW()-104,COLUMN($F:$F))))","v":""}]
["",{"$f":"IF($D201=\"\",\"\",INDEX(december!$A:$O,ROW()-104,COLUMN($C:$C)))","v":""},"Variabel",{"$f":"IF(INDEX(december!$A:$O,ROW()-104,COLUMN(F:F))=\"\",\"\",IF(INDEX(december!$A:$O,ROW()-104,COLUMN(A:A))=\"\",\"\",INDEX(december!$A:$O,ROW()-104,COLUMN(A:A))))","v":""},"",null,"",{"$f":"IF($D201=\"\",\"\",IF(INDEX(december!$A:$O,ROW()-104,COLUMN($G:$G))=\"\",\"\",INDEX(december!$A:$O,ROW()-104,COLUMN($G:$G))))","v":""},null,null,{"$f":"IF($D201=\"\",\"\",IF(INDEX(december!$A:$O,ROW()-104,COLUMN($F:$F))=\"\",\"\",INDEX(december!$A:$O,ROW()-104,COLUMN($F:$F))))","v":""}]
["",{"$f":"IF($D202=\"\",\"\",INDEX(december!$A:$O,ROW()-104,COLUMN($C:$C)))","v":""},"Variabel",{"$f":"IF(INDEX(december!$A:$O,ROW()-104,COLUMN(F:F))=\"\",\"\",IF(INDEX(december!$A:$O,ROW()-104,COLUMN(A:A))=\"\",\"\",INDEX(december!$A:$O,ROW()-104,COLUMN(A:A))))","v":""},"",null,"",{"$f":"IF($D202=\"\",\"\",IF(INDEX(december!$A:$O,ROW()-104,COLUMN($G:$G))=\"\",\"\",INDEX(december!$A:$O,ROW()-104,COLUMN($G:$G))))","v":""},null,null,{"$f":"IF($D202=\"\",\"\",IF(INDEX(december!$A:$O,ROW()-104,COLUMN($F:$F))=\"\",\"\",INDEX(december!$A:$O,ROW()-104,COLUMN($F:$F))))","v":""}]
["",{"$f":"IF($D203=\"\",\"\",INDEX(december!$A:$O,ROW()-104,COLUMN($C:$C)))","v":""},"Variabel",{"$f":"IF(INDEX(december!$A:$O,ROW()-104,COLUMN(F:F))=\"\",\"\",IF(INDEX(december!$A:$O,ROW()-104,COLUMN(A:A))=\"\",\"\",INDEX(december!$A:$O,ROW()-104,COLUMN(A:A))))","v":""},"",null,"",{"$f":"IF($D203=\"\",\"\",IF(INDEX(december!$A:$O,ROW()-104,COLUMN($G:$G))=\"\",\"\",INDEX(december!$A:$O,ROW()-104,COLUMN($G:$G))))","v":""},null,null,{"$f":"IF($D203=\"\",\"\",IF(INDEX(december!$A:$O,ROW()-104,COLUMN($F:$F))=\"\",\"\",INDEX(december!$A:$O,ROW()-104,COLUMN($F:$F))))","v":""}]
[]
[null,"Fradrag netto:"]
[{"$f":"IF($D206=\"\",\"\",$A$2)","v":""},{"$f":"IF($D206=\"\",\"\",INDEX(december!$A:$O,ROW()-204,COLUMN($C:$C)))","v":""},"Variabel",{"$f":"IF(INDEX(december!$A:$O,ROW()-204,COLUMN(H:H))=\"\",\"\",IF(INDEX(december!$A:$O,ROW()-204,COLUMN(A:A))=\"\",\"\",INDEX(december!$A:$O,ROW()-204,COLUMN(A:A))))","v":""},{"$f":"IF($D206=\"\",\"\",$F$2)","v":""},null,{"$f":"IF($D206=\"\",\"\",9471)","v":""},{"$f":"IF($D206=\"\",\"\",IF(INDEX(december!$A:$O,ROW()-204,COLUMN($I:$I))=\"\",\"\",INDEX(december!$A:$O,ROW()-204,COLUMN($I:$I))))","v":""},null,null,{"$f":"IF($D206=\"\",\"\",IF(INDEX(december!$A:$O,ROW()-204,COLUMN($H:$H))=\"\",\"\",INDEX(december!$A:$O,ROW()-204,COLUMN($H:$H))))","v":""}]
["",{"$f":"IF($D207=\"\",\"\",INDEX(december!$A:$O,ROW()-204,COLUMN($C:$C)))","v":""},"Variabel",{"$f":"IF(INDEX(december!$A:$O,ROW()-204,COLUMN(H:H))=\"\",\"\",IF(INDEX(december!$A:$O,ROW()-204,COLUMN(A:A))=\"\",\"\",INDEX(december!$A:$O,ROW()-204,COLUMN(A:A))))","v":""},"",null,{"$f":"IF($D207=\"\",\"\",9471)","v":""},{"$f":"IF($D207=\"\",\"\",IF(INDEX(december!$A:$O,ROW()-204,COLUMN($I:$I))=\"\",\"\",INDEX(december!$A:$O,ROW()-204,COLUMN($I:$I))))","v":""},null,null,{"$f":"IF($D207=\"\",\"\",IF(INDEX(december!$A:$O,ROW()-204,COLUMN($H:$H))=\"\",\"\",INDEX(december!$A:$O,ROW()-204,COLUMN($H:$H))))","v":""}]
["",{"$f":"IF($D208=\"\",\"\",INDEX(december!$A:$O,ROW()-204,COLUMN($C:$C)))","v":""},"Variabel",{"$f":"IF(INDEX(december!$A:$O,ROW()-204,COLUMN(H:H))=\"\",\"\",IF(INDEX(december!$A:$O,ROW()-204,COLUMN(A:A))=\"\",\"\",INDEX(december!$A:$O,ROW()-204,COLUMN(A:A))))","v":""},"",null,"",{"$f":"IF($D208=\"\",\"\",IF(INDEX(december!$A:$O,ROW()-204,COLUMN($I:$I))=\"\",\"\",INDEX(december!$A:$O,ROW()-204,COLUMN($I:$I))))","v":""},null,null,{"$f":"IF($D208=\"\",\"\",IF(INDEX(december!$A:$O,ROW()-204,COLUMN($H:$H))=\"\",\"\",INDEX(december!$A:$O,ROW()-204,COLUMN($H:$H))))","v":""}]
["",{"$f":"IF($D209=\"\",\"\",INDEX(december!$A:$O,ROW()-204,COLUMN($C:$C)))","v":""},"Variabel",{"$f":"IF(INDEX(december!$A:$O,ROW()-204,COLUMN(H:H))=\"\",\"\",IF(INDEX(december!$A:$O,ROW()-204,COLUMN(A:A))=\"\",\"\",INDEX(december!$A:$O,ROW()-204,COLUMN(A:A))))","v":""},"",null,"",{"$f":"IF($D209=\"\",\"\",IF(INDEX(december!$A:$O,ROW()-204,COLUMN($I:$I))=\"\",\"\",INDEX(december!$A:$O,ROW()-204,COLUMN($I:$I))))","v":""},null,null,{"$f":"IF($D209=\"\",\"\",IF(INDEX(december!$A:$O,ROW()-204,COLUMN($H:$H))=\"\",\"\",INDEX(december!$A:$O,ROW()-204,COLUMN($H:$H))))","v":""}]
["",{"$f":"IF($D210=\"\",\"\",INDEX(december!$A:$O,ROW()-204,COLUMN($C:$C)))","v":""},"Variabel",{"$f":"IF(INDEX(december!$A:$O,ROW()-204,COLUMN(H:H))=\"\",\"\",IF(INDEX(december!$A:$O,ROW()-204,COLUMN(A:A))=\"\",\"\",INDEX(december!$A:$O,ROW()-204,COLUMN(A:A))))","v":""},"",null,"",{"$f":"IF($D210=\"\",\"\",IF(INDEX(december!$A:$O,ROW()-204,COLUMN($I:$I))=\"\",\"\",INDEX(december!$A:$O,ROW()-204,COLUMN($I:$I))))","v":""},null,null,{"$f":"IF($D210=\"\",\"\",IF(INDEX(december!$A:$O,ROW()-204,COLUMN($H:$H))=\"\",\"\",INDEX(december!$A:$O,ROW()-204,COLUMN($H:$H))))","v":""}]
["",{"$f":"IF($D211=\"\",\"\",INDEX(december!$A:$O,ROW()-204,COLUMN($C:$C)))","v":""},"Variabel",{"$f":"IF(INDEX(december!$A:$O,ROW()-204,COLUMN(H:H))=\"\",\"\",IF(INDEX(december!$A:$O,ROW()-204,COLUMN(A:A))=\"\",\"\",INDEX(december!$A:$O,ROW()-204,COLUMN(A:A))))","v":""},"",null,"",{"$f":"IF($D211=\"\",\"\",IF(INDEX(december!$A:$O,ROW()-204,COLUMN($I:$I))=\"\",\"\",INDEX(december!$A:$O,ROW()-204,COLUMN($I:$I))))","v":""},null,null,{"$f":"IF($D211=\"\",\"\",IF(INDEX(december!$A:$O,ROW()-204,COLUMN($H:$H))=\"\",\"\",INDEX(december!$A:$O,ROW()-204,COLUMN($H:$H))))","v":""}]
["",{"$f":"IF($D212=\"\",\"\",INDEX(december!$A:$O,ROW()-204,COLUMN($C:$C)))","v":""},"Variabel",{"$f":"IF(INDEX(december!$A:$O,ROW()-204,COLUMN(H:H))=\"\",\"\",IF(INDEX(december!$A:$O,ROW()-204,COLUMN(A:A))=\"\",\"\",INDEX(december!$A:$O,ROW()-204,COLUMN(A:A))))","v":""},"",null,"",{"$f":"IF($D212=\"\",\"\",IF(INDEX(december!$A:$O,ROW()-204,COLUMN($I:$I))=\"\",\"\",INDEX(december!$A:$O,ROW()-204,COLUMN($I:$I))))","v":""},null,null,{"$f":"IF($D212=\"\",\"\",IF(INDEX(december!$A:$O,ROW()-204,COLUMN($H:$H))=\"\",\"\",INDEX(december!$A:$O,ROW()-204,COLUMN($H:$H))))","v":""}]
["",{"$f":"IF($D213=\"\",\"\",INDEX(december!$A:$O,ROW()-204,COLUMN($C:$C)))","v":""},"Variabel",{"$f":"IF(INDEX(december!$A:$O,ROW()-204,COLUMN(H:H))=\"\",\"\",IF(INDEX(december!$A:$O,ROW()-204,COLUMN(A:A))=\"\",\"\",INDEX(december!$A:$O,ROW()-204,COLUMN(A:A))))","v":""},"",null,"",{"$f":"IF($D213=\"\",\"\",IF(INDEX(december!$A:$O,ROW()-204,COLUMN($I:$I))=\"\",\"\",INDEX(december!$A:$O,ROW()-204,COLUMN($I:$I))))","v":""},null,null,{"$f":"IF($D213=\"\",\"\",IF(INDEX(december!$A:$O,ROW()-204,COLUMN($H:$H))=\"\",\"\",INDEX(december!$A:$O,ROW()-204,COLUMN($H:$H))))","v":""}]
["",{"$f":"IF($D214=\"\",\"\",INDEX(december!$A:$O,ROW()-204,COLUMN($C:$C)))","v":""},"Variabel",{"$f":"IF(INDEX(december!$A:$O,ROW()-204,COLUMN(H:H))=\"\",\"\",IF(INDEX(december!$A:$O,ROW()-204,COLUMN(A:A))=\"\",\"\",INDEX(december!$A:$O,ROW()-204,COLUMN(A:A))))","v":""},"",null,"",{"$f":"IF($D214=\"\",\"\",IF(INDEX(december!$A:$O,ROW()-204,COLUMN($I:$I))=\"\",\"\",INDEX(december!$A:$O,ROW()-204,COLUMN($I:$I))))","v":""},null,null,{"$f":"IF($D214=\"\",\"\",IF(INDEX(december!$A:$O,ROW()-204,COLUMN($H:$H))=\"\",\"\",INDEX(december!$A:$O,ROW()-204,COLUMN($H:$H))))","v":""}]
["",{"$f":"IF($D215=\"\",\"\",INDEX(december!$A:$O,ROW()-204,COLUMN($C:$C)))","v":""},"Variabel",{"$f":"IF(INDEX(december!$A:$O,ROW()-204,COLUMN(H:H))=\"\",\"\",IF(INDEX(december!$A:$O,ROW()-204,COLUMN(A:A))=\"\",\"\",INDEX(december!$A:$O,ROW()-204,COLUMN(A:A))))","v":""},"",null,"",{"$f":"IF($D215=\"\",\"\",IF(INDEX(december!$A:$O,ROW()-204,COLUMN($I:$I))=\"\",\"\",INDEX(december!$A:$O,ROW()-204,COLUMN($I:$I))))","v":""},null,null,{"$f":"IF($D215=\"\",\"\",IF(INDEX(december!$A:$O,ROW()-204,COLUMN($H:$H))=\"\",\"\",INDEX(december!$A:$O,ROW()-204,COLUMN($H:$H))))","v":""}]
["",{"$f":"IF($D216=\"\",\"\",INDEX(december!$A:$O,ROW()-204,COLUMN($C:$C)))","v":""},"Variabel",{"$f":"IF(INDEX(december!$A:$O,ROW()-204,COLUMN(H:H))=\"\",\"\",IF(INDEX(december!$A:$O,ROW()-204,COLUMN(A:A))=\"\",\"\",INDEX(december!$A:$O,ROW()-204,COLUMN(A:A))))","v":""},"",null,"",{"$f":"IF($D216=\"\",\"\",IF(INDEX(december!$A:$O,ROW()-204,COLUMN($I:$I))=\"\",\"\",INDEX(december!$A:$O,ROW()-204,COLUMN($I:$I))))","v":""},null,null,{"$f":"IF($D216=\"\",\"\",IF(INDEX(december!$A:$O,ROW()-204,COLUMN($H:$H))=\"\",\"\",INDEX(december!$A:$O,ROW()-204,COLUMN($H:$H))))","v":""}]
["",{"$f":"IF($D217=\"\",\"\",INDEX(december!$A:$O,ROW()-204,COLUMN($C:$C)))","v":""},"Variabel",{"$f":"IF(INDEX(december!$A:$O,ROW()-204,COLUMN(H:H))=\"\",\"\",IF(INDEX(december!$A:$O,ROW()-204,COLUMN(A:A))=\"\",\"\",INDEX(december!$A:$O,ROW()-204,COLUMN(A:A))))","v":""},"",null,"",{"$f":"IF($D217=\"\",\"\",IF(INDEX(december!$A:$O,ROW()-204,COLUMN($I:$I))=\"\",\"\",INDEX(december!$A:$O,ROW()-204,COLUMN($I:$I))))","v":""},null,null,{"$f":"IF($D217=\"\",\"\",IF(INDEX(december!$A:$O,ROW()-204,COLUMN($H:$H))=\"\",\"\",INDEX(december!$A:$O,ROW()-204,COLUMN($H:$H))))","v":""}]
["",{"$f":"IF($D218=\"\",\"\",INDEX(december!$A:$O,ROW()-204,COLUMN($C:$C)))","v":""},"Variabel",{"$f":"IF(INDEX(december!$A:$O,ROW()-204,COLUMN(H:H))=\"\",\"\",IF(INDEX(december!$A:$O,ROW()-204,COLUMN(A:A))=\"\",\"\",INDEX(december!$A:$O,ROW()-204,COLUMN(A:A))))","v":""},"",null,"",{"$f":"IF($D218=\"\",\"\",IF(INDEX(december!$A:$O,ROW()-204,COLUMN($I:$I))=\"\",\"\",INDEX(december!$A:$O,ROW()-204,COLUMN($I:$I))))","v":""},null,null,{"$f":"IF($D218=\"\",\"\",IF(INDEX(december!$A:$O,ROW()-204,COLUMN($H:$H))=\"\",\"\",INDEX(december!$A:$O,ROW()-204,COLUMN($H:$H))))","v":""}]
["",{"$f":"IF($D219=\"\",\"\",INDEX(december!$A:$O,ROW()-204,COLUMN($C:$C)))","v":""},"Variabel",{"$f":"IF(INDEX(december!$A:$O,ROW()-204,COLUMN(H:H))=\"\",\"\",IF(INDEX(december!$A:$O,ROW()-204,COLUMN(A:A))=\"\",\"\",INDEX(december!$A:$O,ROW()-204,COLUMN(A:A))))","v":""},"",null,"",{"$f":"IF($D219=\"\",\"\",IF(INDEX(december!$A:$O,ROW()-204,COLUMN($I:$I))=\"\",\"\",INDEX(december!$A:$O,ROW()-204,COLUMN($I:$I))))","v":""},null,null,{"$f":"IF($D219=\"\",\"\",IF(INDEX(december!$A:$O,ROW()-204,COLUMN($H:$H))=\"\",\"\",INDEX(december!$A:$O,ROW()-204,COLUMN($H:$H))))","v":""}]
["",{"$f":"IF($D220=\"\",\"\",INDEX(december!$A:$O,ROW()-204,COLUMN($C:$C)))","v":""},"Variabel",{"$f":"IF(INDEX(december!$A:$O,ROW()-204,COLUMN(H:H))=\"\",\"\",IF(INDEX(december!$A:$O,ROW()-204,COLUMN(A:A))=\"\",\"\",INDEX(december!$A:$O,ROW()-204,COLUMN(A:A))))","v":""},"",null,"",{"$f":"IF($D220=\"\",\"\",IF(INDEX(december!$A:$O,ROW()-204,COLUMN($I:$I))=\"\",\"\",INDEX(december!$A:$O,ROW()-204,COLUMN($I:$I))))","v":""},null,null,{"$f":"IF($D220=\"\",\"\",IF(INDEX(december!$A:$O,ROW()-204,COLUMN($H:$H))=\"\",\"\",INDEX(december!$A:$O,ROW()-204,COLUMN($H:$H))))","v":""}]
["",{"$f":"IF($D221=\"\",\"\",INDEX(december!$A:$O,ROW()-204,COLUMN($C:$C)))","v":""},"Variabel",{"$f":"IF(INDEX(december!$A:$O,ROW()-204,COLUMN(H:H))=\"\",\"\",IF(INDEX(december!$A:$O,ROW()-204,COLUMN(A:A))=\"\",\"\",INDEX(december!$A:$O,ROW()-204,COLUMN(A:A))))","v":""},"",null,"",{"$f":"IF($D221=\"\",\"\",IF(INDEX(december!$A:$O,ROW()-204,COLUMN($I:$I))=\"\",\"\",INDEX(december!$A:$O,ROW()-204,COLUMN($I:$I))))","v":""},null,null,{"$f":"IF($D221=\"\",\"\",IF(INDEX(december!$A:$O,ROW()-204,COLUMN($H:$H))=\"\",\"\",INDEX(december!$A:$O,ROW()-204,COLUMN($H:$H))))","v":""}]
["",{"$f":"IF($D222=\"\",\"\",INDEX(december!$A:$O,ROW()-204,COLUMN($C:$C)))","v":""},"Variabel",{"$f":"IF(INDEX(december!$A:$O,ROW()-204,COLUMN(H:H))=\"\",\"\",IF(INDEX(december!$A:$O,ROW()-204,COLUMN(A:A))=\"\",\"\",INDEX(december!$A:$O,ROW()-204,COLUMN(A:A))))","v":""},"",null,"",{"$f":"IF($D222=\"\",\"\",IF(INDEX(december!$A:$O,ROW()-204,COLUMN($I:$I))=\"\",\"\",INDEX(december!$A:$O,ROW()-204,COLUMN($I:$I))))","v":""},null,null,{"$f":"IF($D222=\"\",\"\",IF(INDEX(december!$A:$O,ROW()-204,COLUMN($H:$H))=\"\",\"\",INDEX(december!$A:$O,ROW()-204,COLUMN($H:$H))))","v":""}]
["",{"$f":"IF($D223=\"\",\"\",INDEX(december!$A:$O,ROW()-204,COLUMN($C:$C)))","v":""},"Variabel",{"$f":"IF(INDEX(december!$A:$O,ROW()-204,COLUMN(H:H))=\"\",\"\",IF(INDEX(december!$A:$O,ROW()-204,COLUMN(A:A))=\"\",\"\",INDEX(december!$A:$O,ROW()-204,COLUMN(A:A))))","v":""},"",null,"",{"$f":"IF($D223=\"\",\"\",IF(INDEX(december!$A:$O,ROW()-204,COLUMN($I:$I))=\"\",\"\",INDEX(december!$A:$O,ROW()-204,COLUMN($I:$I))))","v":""},null,null,{"$f":"IF($D223=\"\",\"\",IF(INDEX(december!$A:$O,ROW()-204,COLUMN($H:$H))=\"\",\"\",INDEX(december!$A:$O,ROW()-204,COLUMN($H:$H))))","v":""}]
["",{"$f":"IF($D224=\"\",\"\",INDEX(december!$A:$O,ROW()-204,COLUMN($C:$C)))","v":""},"Variabel",{"$f":"IF(INDEX(december!$A:$O,ROW()-204,COLUMN(H:H))=\"\",\"\",IF(INDEX(december!$A:$O,ROW()-204,COLUMN(A:A))=\"\",\"\",INDEX(december!$A:$O,ROW()-204,COLUMN(A:A))))","v":""},"",null,"",{"$f":"IF($D224=\"\",\"\",IF(INDEX(december!$A:$O,ROW()-204,COLUMN($I:$I))=\"\",\"\",INDEX(december!$A:$O,ROW()-204,COLUMN($I:$I))))","v":""},null,null,{"$f":"IF($D224=\"\",\"\",IF(INDEX(december!$A:$O,ROW()-204,COLUMN($H:$H))=\"\",\"\",INDEX(december!$A:$O,ROW()-204,COLUMN($H:$H))))","v":""}]
["",{"$f":"IF($D225=\"\",\"\",INDEX(december!$A:$O,ROW()-204,COLUMN($C:$C)))","v":""},"Variabel",{"$f":"IF(INDEX(december!$A:$O,ROW()-204,COLUMN(H:H))=\"\",\"\",IF(INDEX(december!$A:$O,ROW()-204,COLUMN(A:A))=\"\",\"\",INDEX(december!$A:$O,ROW()-204,COLUMN(A:A))))","v":""},"",null,"",{"$f":"IF($D225=\"\",\"\",IF(INDEX(december!$A:$O,ROW()-204,COLUMN($I:$I))=\"\",\"\",INDEX(december!$A:$O,ROW()-204,COLUMN($I:$I))))","v":""},null,null,{"$f":"IF($D225=\"\",\"\",IF(INDEX(december!$A:$O,ROW()-204,COLUMN($H:$H))=\"\",\"\",INDEX(december!$A:$O,ROW()-204,COLUMN($H:$H))))","v":""}]
["",{"$f":"IF($D226=\"\",\"\",INDEX(december!$A:$O,ROW()-204,COLUMN($C:$C)))","v":""},"Variabel",{"$f":"IF(INDEX(december!$A:$O,ROW()-204,COLUMN(H:H))=\"\",\"\",IF(INDEX(december!$A:$O,ROW()-204,COLUMN(A:A))=\"\",\"\",INDEX(december!$A:$O,ROW()-204,COLUMN(A:A))))","v":""},"",null,"",{"$f":"IF($D226=\"\",\"\",IF(INDEX(december!$A:$O,ROW()-204,COLUMN($I:$I))=\"\",\"\",INDEX(december!$A:$O,ROW()-204,COLUMN($I:$I))))","v":""},null,null,{"$f":"IF($D226=\"\",\"\",IF(INDEX(december!$A:$O,ROW()-204,COLUMN($H:$H))=\"\",\"\",INDEX(december!$A:$O,ROW()-204,COLUMN($H:$H))))","v":""}]
["",{"$f":"IF($D227=\"\",\"\",INDEX(december!$A:$O,ROW()-204,COLUMN($C:$C)))","v":""},"Variabel",{"$f":"IF(INDEX(december!$A:$O,ROW()-204,COLUMN(H:H))=\"\",\"\",IF(INDEX(december!$A:$O,ROW()-204,COLUMN(A:A))=\"\",\"\",INDEX(december!$A:$O,ROW()-204,COLUMN(A:A))))","v":""},"",null,"",{"$f":"IF($D227=\"\",\"\",IF(INDEX(december!$A:$O,ROW()-204,COLUMN($I:$I))=\"\",\"\",INDEX(december!$A:$O,ROW()-204,COLUMN($I:$I))))","v":""},null,null,{"$f":"IF($D227=\"\",\"\",IF(INDEX(december!$A:$O,ROW()-204,COLUMN($H:$H))=\"\",\"\",INDEX(december!$A:$O,ROW()-204,COLUMN($H:$H))))","v":""}]
["",{"$f":"IF($D228=\"\",\"\",INDEX(december!$A:$O,ROW()-204,COLUMN($C:$C)))","v":""},"Variabel",{"$f":"IF(INDEX(december!$A:$O,ROW()-204,COLUMN(H:H))=\"\",\"\",IF(INDEX(december!$A:$O,ROW()-204,COLUMN(A:A))=\"\",\"\",INDEX(december!$A:$O,ROW()-204,COLUMN(A:A))))","v":""},"",null,"",{"$f":"IF($D228=\"\",\"\",IF(INDEX(december!$A:$O,ROW()-204,COLUMN($I:$I))=\"\",\"\",INDEX(december!$A:$O,ROW()-204,COLUMN($I:$I))))","v":""},null,null,{"$f":"IF($D228=\"\",\"\",IF(INDEX(december!$A:$O,ROW()-204,COLUMN($H:$H))=\"\",\"\",INDEX(december!$A:$O,ROW()-204,COLUMN($H:$H))))","v":""}]
["",{"$f":"IF($D229=\"\",\"\",INDEX(december!$A:$O,ROW()-204,COLUMN($C:$C)))","v":""},"Variabel",{"$f":"IF(INDEX(december!$A:$O,ROW()-204,COLUMN(H:H))=\"\",\"\",IF(INDEX(december!$A:$O,ROW()-204,COLUMN(A:A))=\"\",\"\",INDEX(december!$A:$O,ROW()-204,COLUMN(A:A))))","v":""},"",null,"",{"$f":"IF($D229=\"\",\"\",IF(INDEX(december!$A:$O,ROW()-204,COLUMN($I:$I))=\"\",\"\",INDEX(december!$A:$O,ROW()-204,COLUMN($I:$I))))","v":""},null,null,{"$f":"IF($D229=\"\",\"\",IF(INDEX(december!$A:$O,ROW()-204,COLUMN($H:$H))=\"\",\"\",INDEX(december!$A:$O,ROW()-204,COLUMN($H:$H))))","v":""}]
["",{"$f":"IF($D230=\"\",\"\",INDEX(december!$A:$O,ROW()-204,COLUMN($C:$C)))","v":""},"Variabel",{"$f":"IF(INDEX(december!$A:$O,ROW()-204,COLUMN(H:H))=\"\",\"\",IF(INDEX(december!$A:$O,ROW()-204,COLUMN(A:A))=\"\",\"\",INDEX(december!$A:$O,ROW()-204,COLUMN(A:A))))","v":""},"",null,"",{"$f":"IF($D230=\"\",\"\",IF(INDEX(december!$A:$O,ROW()-204,COLUMN($I:$I))=\"\",\"\",INDEX(december!$A:$O,ROW()-204,COLUMN($I:$I))))","v":""},null,null,{"$f":"IF($D230=\"\",\"\",IF(INDEX(december!$A:$O,ROW()-204,COLUMN($H:$H))=\"\",\"\",INDEX(december!$A:$O,ROW()-204,COLUMN($H:$H))))","v":""}]
["",{"$f":"IF($D231=\"\",\"\",INDEX(december!$A:$O,ROW()-204,COLUMN($C:$C)))","v":""},"Variabel",{"$f":"IF(INDEX(december!$A:$O,ROW()-204,COLUMN(H:H))=\"\",\"\",IF(INDEX(december!$A:$O,ROW()-204,COLUMN(A:A))=\"\",\"\",INDEX(december!$A:$O,ROW()-204,COLUMN(A:A))))","v":""},"",null,"",{"$f":"IF($D231=\"\",\"\",IF(INDEX(december!$A:$O,ROW()-204,COLUMN($I:$I))=\"\",\"\",INDEX(december!$A:$O,ROW()-204,COLUMN($I:$I))))","v":""},null,null,{"$f":"IF($D231=\"\",\"\",IF(INDEX(december!$A:$O,ROW()-204,COLUMN($H:$H))=\"\",\"\",INDEX(december!$A:$O,ROW()-204,COLUMN($H:$H))))","v":""}]
["",{"$f":"IF($D232=\"\",\"\",INDEX(december!$A:$O,ROW()-204,COLUMN($C:$C)))","v":""},"Variabel",{"$f":"IF(INDEX(december!$A:$O,ROW()-204,COLUMN(H:H))=\"\",\"\",IF(INDEX(december!$A:$O,ROW()-204,COLUMN(A:A))=\"\",\"\",INDEX(december!$A:$O,ROW()-204,COLUMN(A:A))))","v":""},"",null,"",{"$f":"IF($D232=\"\",\"\",IF(INDEX(december!$A:$O,ROW()-204,COLUMN($I:$I))=\"\",\"\",INDEX(december!$A:$O,ROW()-204,COLUMN($I:$I))))","v":""},null,null,{"$f":"IF($D232=\"\",\"\",IF(INDEX(december!$A:$O,ROW()-204,COLUMN($H:$H))=\"\",\"\",INDEX(december!$A:$O,ROW()-204,COLUMN($H:$H))))","v":""}]
["",{"$f":"IF($D233=\"\",\"\",INDEX(december!$A:$O,ROW()-204,COLUMN($C:$C)))","v":""},"Variabel",{"$f":"IF(INDEX(december!$A:$O,ROW()-204,COLUMN(H:H))=\"\",\"\",IF(INDEX(december!$A:$O,ROW()-204,COLUMN(A:A))=\"\",\"\",INDEX(december!$A:$O,ROW()-204,COLUMN(A:A))))","v":""},"",null,"",{"$f":"IF($D233=\"\",\"\",IF(INDEX(december!$A:$O,ROW()-204,COLUMN($I:$I))=\"\",\"\",INDEX(december!$A:$O,ROW()-204,COLUMN($I:$I))))","v":""},null,null,{"$f":"IF($D233=\"\",\"\",IF(INDEX(december!$A:$O,ROW()-204,COLUMN($H:$H))=\"\",\"\",INDEX(december!$A:$O,ROW()-204,COLUMN($H:$H))))","v":""}]
["",{"$f":"IF($D234=\"\",\"\",INDEX(december!$A:$O,ROW()-204,COLUMN($C:$C)))","v":""},"Variabel",{"$f":"IF(INDEX(december!$A:$O,ROW()-204,COLUMN(H:H))=\"\",\"\",IF(INDEX(december!$A:$O,ROW()-204,COLUMN(A:A))=\"\",\"\",INDEX(december!$A:$O,ROW()-204,COLUMN(A:A))))","v":""},"",null,"",{"$f":"IF($D234=\"\",\"\",IF(INDEX(december!$A:$O,ROW()-204,COLUMN($I:$I))=\"\",\"\",INDEX(december!$A:$O,ROW()-204,COLUMN($I:$I))))","v":""},null,null,{"$f":"IF($D234=\"\",\"\",IF(INDEX(december!$A:$O,ROW()-204,COLUMN($H:$H))=\"\",\"\",INDEX(december!$A:$O,ROW()-204,COLUMN($H:$H))))","v":""}]
["",{"$f":"IF($D235=\"\",\"\",INDEX(december!$A:$O,ROW()-204,COLUMN($C:$C)))","v":""},"Variabel",{"$f":"IF(INDEX(december!$A:$O,ROW()-204,COLUMN(H:H))=\"\",\"\",IF(INDEX(december!$A:$O,ROW()-204,COLUMN(A:A))=\"\",\"\",INDEX(december!$A:$O,ROW()-204,COLUMN(A:A))))","v":""},"",null,"",{"$f":"IF($D235=\"\",\"\",IF(INDEX(december!$A:$O,ROW()-204,COLUMN($I:$I))=\"\",\"\",INDEX(december!$A:$O,ROW()-204,COLUMN($I:$I))))","v":""},null,null,{"$f":"IF($D235=\"\",\"\",IF(INDEX(december!$A:$O,ROW()-204,COLUMN($H:$H))=\"\",\"\",INDEX(december!$A:$O,ROW()-204,COLUMN($H:$H))))","v":""}]
["",{"$f":"IF($D236=\"\",\"\",INDEX(december!$A:$O,ROW()-204,COLUMN($C:$C)))","v":""},"Variabel",{"$f":"IF(INDEX(december!$A:$O,ROW()-204,COLUMN(H:H))=\"\",\"\",IF(INDEX(december!$A:$O,ROW()-204,COLUMN(A:A))=\"\",\"\",INDEX(december!$A:$O,ROW()-204,COLUMN(A:A))))","v":""},"",null,"",{"$f":"IF($D236=\"\",\"\",IF(INDEX(december!$A:$O,ROW()-204,COLUMN($I:$I))=\"\",\"\",INDEX(december!$A:$O,ROW()-204,COLUMN($I:$I))))","v":""},null,null,{"$f":"IF($D236=\"\",\"\",IF(INDEX(december!$A:$O,ROW()-204,COLUMN($H:$H))=\"\",\"\",INDEX(december!$A:$O,ROW()-204,COLUMN($H:$H))))","v":""}]
["",{"$f":"IF($D237=\"\",\"\",INDEX(december!$A:$O,ROW()-204,COLUMN($C:$C)))","v":""},"Variabel",{"$f":"IF(INDEX(december!$A:$O,ROW()-204,COLUMN(H:H))=\"\",\"\",IF(INDEX(december!$A:$O,ROW()-204,COLUMN(A:A))=\"\",\"\",INDEX(december!$A:$O,ROW()-204,COLUMN(A:A))))","v":""},"",null,"",{"$f":"IF($D237=\"\",\"\",IF(INDEX(december!$A:$O,ROW()-204,COLUMN($I:$I))=\"\",\"\",INDEX(december!$A:$O,ROW()-204,COLUMN($I:$I))))","v":""},null,null,{"$f":"IF($D237=\"\",\"\",IF(INDEX(december!$A:$O,ROW()-204,COLUMN($H:$H))=\"\",\"\",INDEX(december!$A:$O,ROW()-204,COLUMN($H:$H))))","v":""}]
[{"$f":"IF($D238=\"\",\"\",$A$2)","v":""},{"$f":"IF($D238=\"\",\"\",INDEX(december!$A:$O,ROW()-204,COLUMN($C:$C)))","v":""},"Variabel",{"$f":"IF(INDEX(december!$A:$O,ROW()-204,COLUMN(H:H))=\"\",\"\",IF(INDEX(december!$A:$O,ROW()-204,COLUMN(A:A))=\"\",\"\",INDEX(december!$A:$O,ROW()-204,COLUMN(A:A))))","v":""},{"$f":"IF($D238=\"\",\"\",$F$2)","v":""},null,"",{"$f":"IF($D238=\"\",\"\",IF(INDEX(december!$A:$O,ROW()-204,COLUMN($I:$I))=\"\",\"\",INDEX(december!$A:$O,ROW()-204,COLUMN($I:$I))))","v":""},null,null,{"$f":"IF($D238=\"\",\"\",IF(INDEX(december!$A:$O,ROW()-204,COLUMN($H:$H))=\"\",\"\",INDEX(december!$A:$O,ROW()-204,COLUMN($H:$H))))","v":""}]
["",{"$f":"IF($D239=\"\",\"\",INDEX(december!$A:$O,ROW()-204,COLUMN($C:$C)))","v":""},"Variabel",{"$f":"IF(INDEX(december!$A:$O,ROW()-204,COLUMN(H:H))=\"\",\"\",IF(INDEX(december!$A:$O,ROW()-204,COLUMN(A:A))=\"\",\"\",INDEX(december!$A:$O,ROW()-204,COLUMN(A:A))))","v":""},"",null,"",{"$f":"IF($D239=\"\",\"\",IF(INDEX(december!$A:$O,ROW()-204,COLUMN($I:$I))=\"\",\"\",INDEX(december!$A:$O,ROW()-204,COLUMN($I:$I))))","v":""},null,null,{"$f":"IF($D239=\"\",\"\",IF(INDEX(december!$A:$O,ROW()-204,COLUMN($H:$H))=\"\",\"\",INDEX(december!$A:$O,ROW()-204,COLUMN($H:$H))))","v":""}]
["",{"$f":"IF($D240=\"\",\"\",INDEX(december!$A:$O,ROW()-204,COLUMN($C:$C)))","v":""},"Variabel",{"$f":"IF(INDEX(december!$A:$O,ROW()-204,COLUMN(H:H))=\"\",\"\",IF(INDEX(december!$A:$O,ROW()-204,COLUMN(A:A))=\"\",\"\",INDEX(december!$A:$O,ROW()-204,COLUMN(A:A))))","v":""},"",null,"",{"$f":"IF($D240=\"\",\"\",IF(INDEX(december!$A:$O,ROW()-204,COLUMN($I:$I))=\"\",\"\",INDEX(december!$A:$O,ROW()-204,COLUMN($I:$I))))","v":""},null,null,{"$f":"IF($D240=\"\",\"\",IF(INDEX(december!$A:$O,ROW()-204,COLUMN($H:$H))=\"\",\"\",INDEX(december!$A:$O,ROW()-204,COLUMN($H:$H))))","v":""}]
["",{"$f":"IF($D241=\"\",\"\",INDEX(december!$A:$O,ROW()-204,COLUMN($C:$C)))","v":""},"Variabel",{"$f":"IF(INDEX(december!$A:$O,ROW()-204,COLUMN(H:H))=\"\",\"\",IF(INDEX(december!$A:$O,ROW()-204,COLUMN(A:A))=\"\",\"\",INDEX(december!$A:$O,ROW()-204,COLUMN(A:A))))","v":""},"",null,"",{"$f":"IF($D241=\"\",\"\",IF(INDEX(december!$A:$O,ROW()-204,COLUMN($I:$I))=\"\",\"\",INDEX(december!$A:$O,ROW()-204,COLUMN($I:$I))))","v":""},null,null,{"$f":"IF($D241=\"\",\"\",IF(INDEX(december!$A:$O,ROW()-204,COLUMN($H:$H))=\"\",\"\",INDEX(december!$A:$O,ROW()-204,COLUMN($H:$H))))","v":""}]
["",{"$f":"IF($D242=\"\",\"\",INDEX(december!$A:$O,ROW()-204,COLUMN($C:$C)))","v":""},"Variabel",{"$f":"IF(INDEX(december!$A:$O,ROW()-204,COLUMN(H:H))=\"\",\"\",IF(INDEX(december!$A:$O,ROW()-204,COLUMN(A:A))=\"\",\"\",INDEX(december!$A:$O,ROW()-204,COLUMN(A:A))))","v":""},"",null,"",{"$f":"IF($D242=\"\",\"\",IF(INDEX(december!$A:$O,ROW()-204,COLUMN($I:$I))=\"\",\"\",INDEX(december!$A:$O,ROW()-204,COLUMN($I:$I))))","v":""},null,null,{"$f":"IF($D242=\"\",\"\",IF(INDEX(december!$A:$O,ROW()-204,COLUMN($H:$H))=\"\",\"\",INDEX(december!$A:$O,ROW()-204,COLUMN($H:$H))))","v":""}]
["",{"$f":"IF($D243=\"\",\"\",INDEX(december!$A:$O,ROW()-204,COLUMN($C:$C)))","v":""},"Variabel",{"$f":"IF(INDEX(december!$A:$O,ROW()-204,COLUMN(H:H))=\"\",\"\",IF(INDEX(december!$A:$O,ROW()-204,COLUMN(A:A))=\"\",\"\",INDEX(december!$A:$O,ROW()-204,COLUMN(A:A))))","v":""},"",null,"",{"$f":"IF($D243=\"\",\"\",IF(INDEX(december!$A:$O,ROW()-204,COLUMN($I:$I))=\"\",\"\",INDEX(december!$A:$O,ROW()-204,COLUMN($I:$I))))","v":""},null,null,{"$f":"IF($D243=\"\",\"\",IF(INDEX(december!$A:$O,ROW()-204,COLUMN($H:$H))=\"\",\"\",INDEX(december!$A:$O,ROW()-204,COLUMN($H:$H))))","v":""}]
["",{"$f":"IF($D244=\"\",\"\",INDEX(december!$A:$O,ROW()-204,COLUMN($C:$C)))","v":""},"Variabel",{"$f":"IF(INDEX(december!$A:$O,ROW()-204,COLUMN(H:H))=\"\",\"\",IF(INDEX(december!$A:$O,ROW()-204,COLUMN(A:A))=\"\",\"\",INDEX(december!$A:$O,ROW()-204,COLUMN(A:A))))","v":""},"",null,"",{"$f":"IF($D244=\"\",\"\",IF(INDEX(december!$A:$O,ROW()-204,COLUMN($I:$I))=\"\",\"\",INDEX(december!$A:$O,ROW()-204,COLUMN($I:$I))))","v":""},null,null,{"$f":"IF($D244=\"\",\"\",IF(INDEX(december!$A:$O,ROW()-204,COLUMN($H:$H))=\"\",\"\",INDEX(december!$A:$O,ROW()-204,COLUMN($H:$H))))","v":""}]
["",{"$f":"IF($D245=\"\",\"\",INDEX(december!$A:$O,ROW()-204,COLUMN($C:$C)))","v":""},"Variabel",{"$f":"IF(INDEX(december!$A:$O,ROW()-204,COLUMN(H:H))=\"\",\"\",IF(INDEX(december!$A:$O,ROW()-204,COLUMN(A:A))=\"\",\"\",INDEX(december!$A:$O,ROW()-204,COLUMN(A:A))))","v":""},"",null,"",{"$f":"IF($D245=\"\",\"\",IF(INDEX(december!$A:$O,ROW()-204,COLUMN($I:$I))=\"\",\"\",INDEX(december!$A:$O,ROW()-204,COLUMN($I:$I))))","v":""},null,null,{"$f":"IF($D245=\"\",\"\",IF(INDEX(december!$A:$O,ROW()-204,COLUMN($H:$H))=\"\",\"\",INDEX(december!$A:$O,ROW()-204,COLUMN($H:$H))))","v":""}]
["",{"$f":"IF($D246=\"\",\"\",INDEX(december!$A:$O,ROW()-204,COLUMN($C:$C)))","v":""},"Variabel",{"$f":"IF(INDEX(december!$A:$O,ROW()-204,COLUMN(H:H))=\"\",\"\",IF(INDEX(december!$A:$O,ROW()-204,COLUMN(A:A))=\"\",\"\",INDEX(december!$A:$O,ROW()-204,COLUMN(A:A))))","v":""},"",null,"",{"$f":"IF($D246=\"\",\"\",IF(INDEX(december!$A:$O,ROW()-204,COLUMN($I:$I))=\"\",\"\",INDEX(december!$A:$O,ROW()-204,COLUMN($I:$I))))","v":""},null,null,{"$f":"IF($D246=\"\",\"\",IF(INDEX(december!$A:$O,ROW()-204,COLUMN($H:$H))=\"\",\"\",INDEX(december!$A:$O,ROW()-204,COLUMN($H:$H))))","v":""}]
["",{"$f":"IF($D247=\"\",\"\",INDEX(december!$A:$O,ROW()-204,COLUMN($C:$C)))","v":""},"Variabel",{"$f":"IF(INDEX(december!$A:$O,ROW()-204,COLUMN(H:H))=\"\",\"\",IF(INDEX(december!$A:$O,ROW()-204,COLUMN(A:A))=\"\",\"\",INDEX(december!$A:$O,ROW()-204,COLUMN(A:A))))","v":""},"",null,"",{"$f":"IF($D247=\"\",\"\",IF(INDEX(december!$A:$O,ROW()-204,COLUMN($I:$I))=\"\",\"\",INDEX(december!$A:$O,ROW()-204,COLUMN($I:$I))))","v":""},null,null,{"$f":"IF($D247=\"\",\"\",IF(INDEX(december!$A:$O,ROW()-204,COLUMN($H:$H))=\"\",\"\",INDEX(december!$A:$O,ROW()-204,COLUMN($H:$H))))","v":""}]
["",{"$f":"IF($D248=\"\",\"\",INDEX(december!$A:$O,ROW()-204,COLUMN($C:$C)))","v":""},"Variabel",{"$f":"IF(INDEX(december!$A:$O,ROW()-204,COLUMN(H:H))=\"\",\"\",IF(INDEX(december!$A:$O,ROW()-204,COLUMN(A:A))=\"\",\"\",INDEX(december!$A:$O,ROW()-204,COLUMN(A:A))))","v":""},"",null,"",{"$f":"IF($D248=\"\",\"\",IF(INDEX(december!$A:$O,ROW()-204,COLUMN($I:$I))=\"\",\"\",INDEX(december!$A:$O,ROW()-204,COLUMN($I:$I))))","v":""},null,null,{"$f":"IF($D248=\"\",\"\",IF(INDEX(december!$A:$O,ROW()-204,COLUMN($H:$H))=\"\",\"\",INDEX(december!$A:$O,ROW()-204,COLUMN($H:$H))))","v":""}]
["",{"$f":"IF($D249=\"\",\"\",INDEX(december!$A:$O,ROW()-204,COLUMN($C:$C)))","v":""},"Variabel",{"$f":"IF(INDEX(december!$A:$O,ROW()-204,COLUMN(H:H))=\"\",\"\",IF(INDEX(december!$A:$O,ROW()-204,COLUMN(A:A))=\"\",\"\",INDEX(december!$A:$O,ROW()-204,COLUMN(A:A))))","v":""},"",null,"",{"$f":"IF($D249=\"\",\"\",IF(INDEX(december!$A:$O,ROW()-204,COLUMN($I:$I))=\"\",\"\",INDEX(december!$A:$O,ROW()-204,COLUMN($I:$I))))","v":""},null,null,{"$f":"IF($D249=\"\",\"\",IF(INDEX(december!$A:$O,ROW()-204,COLUMN($H:$H))=\"\",\"\",INDEX(december!$A:$O,ROW()-204,COLUMN($H:$H))))","v":""}]
["",{"$f":"IF($D250=\"\",\"\",INDEX(december!$A:$O,ROW()-204,COLUMN($C:$C)))","v":""},"Variabel",{"$f":"IF(INDEX(december!$A:$O,ROW()-204,COLUMN(H:H))=\"\",\"\",IF(INDEX(december!$A:$O,ROW()-204,COLUMN(A:A))=\"\",\"\",INDEX(december!$A:$O,ROW()-204,COLUMN(A:A))))","v":""},"",null,"",{"$f":"IF($D250=\"\",\"\",IF(INDEX(december!$A:$O,ROW()-204,COLUMN($I:$I))=\"\",\"\",INDEX(december!$A:$O,ROW()-204,COLUMN($I:$I))))","v":""},null,null,{"$f":"IF($D250=\"\",\"\",IF(INDEX(december!$A:$O,ROW()-204,COLUMN($H:$H))=\"\",\"\",INDEX(december!$A:$O,ROW()-204,COLUMN($H:$H))))","v":""}]
["",{"$f":"IF($D251=\"\",\"\",INDEX(december!$A:$O,ROW()-204,COLUMN($C:$C)))","v":""},"Variabel",{"$f":"IF(INDEX(december!$A:$O,ROW()-204,COLUMN(H:H))=\"\",\"\",IF(INDEX(december!$A:$O,ROW()-204,COLUMN(A:A))=\"\",\"\",INDEX(december!$A:$O,ROW()-204,COLUMN(A:A))))","v":""},"",null,"",{"$f":"IF($D251=\"\",\"\",IF(INDEX(december!$A:$O,ROW()-204,COLUMN($I:$I))=\"\",\"\",INDEX(december!$A:$O,ROW()-204,COLUMN($I:$I))))","v":""},null,null,{"$f":"IF($D251=\"\",\"\",IF(INDEX(december!$A:$O,ROW()-204,COLUMN($H:$H))=\"\",\"\",INDEX(december!$A:$O,ROW()-204,COLUMN($H:$H))))","v":""}]
["",{"$f":"IF($D252=\"\",\"\",INDEX(december!$A:$O,ROW()-204,COLUMN($C:$C)))","v":""},"Variabel",{"$f":"IF(INDEX(december!$A:$O,ROW()-204,COLUMN(H:H))=\"\",\"\",IF(INDEX(december!$A:$O,ROW()-204,COLUMN(A:A))=\"\",\"\",INDEX(december!$A:$O,ROW()-204,COLUMN(A:A))))","v":""},"",null,"",{"$f":"IF($D252=\"\",\"\",IF(INDEX(december!$A:$O,ROW()-204,COLUMN($I:$I))=\"\",\"\",INDEX(december!$A:$O,ROW()-204,COLUMN($I:$I))))","v":""},null,null,{"$f":"IF($D252=\"\",\"\",IF(INDEX(december!$A:$O,ROW()-204,COLUMN($H:$H))=\"\",\"\",INDEX(december!$A:$O,ROW()-204,COLUMN($H:$H))))","v":""}]
["",{"$f":"IF($D253=\"\",\"\",INDEX(december!$A:$O,ROW()-204,COLUMN($C:$C)))","v":""},"Variabel",{"$f":"IF(INDEX(december!$A:$O,ROW()-204,COLUMN(H:H))=\"\",\"\",IF(INDEX(december!$A:$O,ROW()-204,COLUMN(A:A))=\"\",\"\",INDEX(december!$A:$O,ROW()-204,COLUMN(A:A))))","v":""},"",null,"",{"$f":"IF($D253=\"\",\"\",IF(INDEX(december!$A:$O,ROW()-204,COLUMN($I:$I))=\"\",\"\",INDEX(december!$A:$O,ROW()-204,COLUMN($I:$I))))","v":""},null,null,{"$f":"IF($D253=\"\",\"\",IF(INDEX(december!$A:$O,ROW()-204,COLUMN($H:$H))=\"\",\"\",INDEX(december!$A:$O,ROW()-204,COLUMN($H:$H))))","v":""}]
["",{"$f":"IF($D254=\"\",\"\",INDEX(december!$A:$O,ROW()-204,COLUMN($C:$C)))","v":""},"Variabel",{"$f":"IF(INDEX(december!$A:$O,ROW()-204,COLUMN(H:H))=\"\",\"\",IF(INDEX(december!$A:$O,ROW()-204,COLUMN(A:A))=\"\",\"\",INDEX(december!$A:$O,ROW()-204,COLUMN(A:A))))","v":""},"",null,"",{"$f":"IF($D254=\"\",\"\",IF(INDEX(december!$A:$O,ROW()-204,COLUMN($I:$I))=\"\",\"\",INDEX(december!$A:$O,ROW()-204,COLUMN($I:$I))))","v":""},null,null,{"$f":"IF($D254=\"\",\"\",IF(INDEX(december!$A:$O,ROW()-204,COLUMN($H:$H))=\"\",\"\",INDEX(december!$A:$O,ROW()-204,COLUMN($H:$H))))","v":""}]
["",{"$f":"IF($D255=\"\",\"\",INDEX(december!$A:$O,ROW()-204,COLUMN($C:$C)))","v":""},"Variabel",{"$f":"IF(INDEX(december!$A:$O,ROW()-204,COLUMN(H:H))=\"\",\"\",IF(INDEX(december!$A:$O,ROW()-204,COLUMN(A:A))=\"\",\"\",INDEX(december!$A:$O,ROW()-204,COLUMN(A:A))))","v":""},"",null,"",{"$f":"IF($D255=\"\",\"\",IF(INDEX(december!$A:$O,ROW()-204,COLUMN($I:$I))=\"\",\"\",INDEX(december!$A:$O,ROW()-204,COLUMN($I:$I))))","v":""},null,null,{"$f":"IF($D255=\"\",\"\",IF(INDEX(december!$A:$O,ROW()-204,COLUMN($H:$H))=\"\",\"\",INDEX(december!$A:$O,ROW()-204,COLUMN($H:$H))))","v":""}]
["",{"$f":"IF($D256=\"\",\"\",INDEX(december!$A:$O,ROW()-204,COLUMN($C:$C)))","v":""},"Variabel",{"$f":"IF(INDEX(december!$A:$O,ROW()-204,COLUMN(H:H))=\"\",\"\",IF(INDEX(december!$A:$O,ROW()-204,COLUMN(A:A))=\"\",\"\",INDEX(december!$A:$O,ROW()-204,COLUMN(A:A))))","v":""},"",null,"",{"$f":"IF($D256=\"\",\"\",IF(INDEX(december!$A:$O,ROW()-204,COLUMN($I:$I))=\"\",\"\",INDEX(december!$A:$O,ROW()-204,COLUMN($I:$I))))","v":""},null,null,{"$f":"IF($D256=\"\",\"\",IF(INDEX(december!$A:$O,ROW()-204,COLUMN($H:$H))=\"\",\"\",INDEX(december!$A:$O,ROW()-204,COLUMN($H:$H))))","v":""}]
[3,{"$f":"IF($D257=\"\",\"\",INDEX(december!$A:$O,ROW()-204,COLUMN($C:$C)))","v":11},"Variabel",{"$f":"IF(INDEX(december!$A:$O,ROW()-204,COLUMN(H:H))=\"\",\"\",IF(INDEX(december!$A:$O,ROW()-204,COLUMN(A:A))=\"\",\"\",INDEX(december!$A:$O,ROW()-204,COLUMN(A:A))))","v":60916},"2012-01-12",null,9471,{"$f":"IF($D257=\"\",\"\",IF(INDEX(december!$A:$O,ROW()-204,COLUMN($I:$I))=\"\",\"\",INDEX(december!$A:$O,ROW()-204,COLUMN($I:$I))))","v":"Faktura 25"},null,null,{"$f":"IF($D257=\"\",\"\",IF(INDEX(december!$A:$O,ROW()-204,COLUMN($H:$H))=\"\",\"\",INDEX(december!$A:$O,ROW()-204,COLUMN($H:$H))))","v":462.29}]
["",{"$f":"IF($D258=\"\",\"\",INDEX(december!$A:$O,ROW()-204,COLUMN($C:$C)))","v":""},"Variabel",{"$f":"IF(INDEX(december!$A:$O,ROW()-204,COLUMN(H:H))=\"\",\"\",IF(INDEX(december!$A:$O,ROW()-204,COLUMN(A:A))=\"\",\"\",INDEX(december!$A:$O,ROW()-204,COLUMN(A:A))))","v":""},"",null,"",{"$f":"IF($D258=\"\",\"\",IF(INDEX(december!$A:$O,ROW()-204,COLUMN($I:$I))=\"\",\"\",INDEX(december!$A:$O,ROW()-204,COLUMN($I:$I))))","v":""},null,null,{"$f":"IF($D258=\"\",\"\",IF(INDEX(december!$A:$O,ROW()-204,COLUMN($H:$H))=\"\",\"\",INDEX(december!$A:$O,ROW()-204,COLUMN($H:$H))))","v":""}]
["",{"$f":"IF($D259=\"\",\"\",INDEX(december!$A:$O,ROW()-204,COLUMN($C:$C)))","v":""},"Variabel",{"$f":"IF(INDEX(december!$A:$O,ROW()-204,COLUMN(H:H))=\"\",\"\",IF(INDEX(december!$A:$O,ROW()-204,COLUMN(A:A))=\"\",\"\",INDEX(december!$A:$O,ROW()-204,COLUMN(A:A))))","v":""},"",null,"",{"$f":"IF($D259=\"\",\"\",IF(INDEX(december!$A:$O,ROW()-204,COLUMN($I:$I))=\"\",\"\",INDEX(december!$A:$O,ROW()-204,COLUMN($I:$I))))","v":""},null,null,{"$f":"IF($D259=\"\",\"\",IF(INDEX(december!$A:$O,ROW()-204,COLUMN($H:$H))=\"\",\"\",INDEX(december!$A:$O,ROW()-204,COLUMN($H:$H))))","v":""}]
["",{"$f":"IF($D260=\"\",\"\",INDEX(december!$A:$O,ROW()-204,COLUMN($C:$C)))","v":""},"Variabel",{"$f":"IF(INDEX(december!$A:$O,ROW()-204,COLUMN(H:H))=\"\",\"\",IF(INDEX(december!$A:$O,ROW()-204,COLUMN(A:A))=\"\",\"\",INDEX(december!$A:$O,ROW()-204,COLUMN(A:A))))","v":""},"",null,"",{"$f":"IF($D260=\"\",\"\",IF(INDEX(december!$A:$O,ROW()-204,COLUMN($I:$I))=\"\",\"\",INDEX(december!$A:$O,ROW()-204,COLUMN($I:$I))))","v":""},null,null,{"$f":"IF($D260=\"\",\"\",IF(INDEX(december!$A:$O,ROW()-204,COLUMN($H:$H))=\"\",\"\",INDEX(december!$A:$O,ROW()-204,COLUMN($H:$H))))","v":""}]
["",{"$f":"IF($D261=\"\",\"\",INDEX(december!$A:$O,ROW()-204,COLUMN($C:$C)))","v":""},"Variabel",{"$f":"IF(INDEX(december!$A:$O,ROW()-204,COLUMN(H:H))=\"\",\"\",IF(INDEX(december!$A:$O,ROW()-204,COLUMN(A:A))=\"\",\"\",INDEX(december!$A:$O,ROW()-204,COLUMN(A:A))))","v":""},"",null,"",{"$f":"IF($D261=\"\",\"\",IF(INDEX(december!$A:$O,ROW()-204,COLUMN($I:$I))=\"\",\"\",INDEX(december!$A:$O,ROW()-204,COLUMN($I:$I))))","v":""},null,null,{"$f":"IF($D261=\"\",\"\",IF(INDEX(december!$A:$O,ROW()-204,COLUMN($H:$H))=\"\",\"\",INDEX(december!$A:$O,ROW()-204,COLUMN($H:$H))))","v":""}]
["",{"$f":"IF($D262=\"\",\"\",INDEX(december!$A:$O,ROW()-204,COLUMN($C:$C)))","v":""},"Variabel",{"$f":"IF(INDEX(december!$A:$O,ROW()-204,COLUMN(H:H))=\"\",\"\",IF(INDEX(december!$A:$O,ROW()-204,COLUMN(A:A))=\"\",\"\",INDEX(december!$A:$O,ROW()-204,COLUMN(A:A))))","v":""},"",null,"",{"$f":"IF($D262=\"\",\"\",IF(INDEX(december!$A:$O,ROW()-204,COLUMN($I:$I))=\"\",\"\",INDEX(december!$A:$O,ROW()-204,COLUMN($I:$I))))","v":""},null,null,{"$f":"IF($D262=\"\",\"\",IF(INDEX(december!$A:$O,ROW()-204,COLUMN($H:$H))=\"\",\"\",INDEX(december!$A:$O,ROW()-204,COLUMN($H:$H))))","v":""}]
["",{"$f":"IF($D263=\"\",\"\",INDEX(december!$A:$O,ROW()-204,COLUMN($C:$C)))","v":""},"Variabel",{"$f":"IF(INDEX(december!$A:$O,ROW()-204,COLUMN(H:H))=\"\",\"\",IF(INDEX(december!$A:$O,ROW()-204,COLUMN(A:A))=\"\",\"\",INDEX(december!$A:$O,ROW()-204,COLUMN(A:A))))","v":""},"",null,"",{"$f":"IF($D263=\"\",\"\",IF(INDEX(december!$A:$O,ROW()-204,COLUMN($I:$I))=\"\",\"\",INDEX(december!$A:$O,ROW()-204,COLUMN($I:$I))))","v":""},null,null,{"$f":"IF($D263=\"\",\"\",IF(INDEX(december!$A:$O,ROW()-204,COLUMN($H:$H))=\"\",\"\",INDEX(december!$A:$O,ROW()-204,COLUMN($H:$H))))","v":""}]
["",{"$f":"IF($D264=\"\",\"\",INDEX(december!$A:$O,ROW()-204,COLUMN($C:$C)))","v":""},"Variabel",{"$f":"IF(INDEX(december!$A:$O,ROW()-204,COLUMN(H:H))=\"\",\"\",IF(INDEX(december!$A:$O,ROW()-204,COLUMN(A:A))=\"\",\"\",INDEX(december!$A:$O,ROW()-204,COLUMN(A:A))))","v":""},"",null,"",{"$f":"IF($D264=\"\",\"\",IF(INDEX(december!$A:$O,ROW()-204,COLUMN($I:$I))=\"\",\"\",INDEX(december!$A:$O,ROW()-204,COLUMN($I:$I))))","v":""},null,null,{"$f":"IF($D264=\"\",\"\",IF(INDEX(december!$A:$O,ROW()-204,COLUMN($H:$H))=\"\",\"\",INDEX(december!$A:$O,ROW()-204,COLUMN($H:$H))))","v":""}]
["",{"$f":"IF($D265=\"\",\"\",INDEX(december!$A:$O,ROW()-204,COLUMN($C:$C)))","v":""},"Variabel",{"$f":"IF(INDEX(december!$A:$O,ROW()-204,COLUMN(H:H))=\"\",\"\",IF(INDEX(december!$A:$O,ROW()-204,COLUMN(A:A))=\"\",\"\",INDEX(december!$A:$O,ROW()-204,COLUMN(A:A))))","v":""},"",null,"",{"$f":"IF($D265=\"\",\"\",IF(INDEX(december!$A:$O,ROW()-204,COLUMN($I:$I))=\"\",\"\",INDEX(december!$A:$O,ROW()-204,COLUMN($I:$I))))","v":""},null,null,{"$f":"IF($D265=\"\",\"\",IF(INDEX(december!$A:$O,ROW()-204,COLUMN($H:$H))=\"\",\"\",INDEX(december!$A:$O,ROW()-204,COLUMN($H:$H))))","v":""}]
["",{"$f":"IF($D266=\"\",\"\",INDEX(december!$A:$O,ROW()-204,COLUMN($C:$C)))","v":""},"Variabel",{"$f":"IF(INDEX(december!$A:$O,ROW()-204,COLUMN(H:H))=\"\",\"\",IF(INDEX(december!$A:$O,ROW()-204,COLUMN(A:A))=\"\",\"\",INDEX(december!$A:$O,ROW()-204,COLUMN(A:A))))","v":""},"",null,"",{"$f":"IF($D266=\"\",\"\",IF(INDEX(december!$A:$O,ROW()-204,COLUMN($I:$I))=\"\",\"\",INDEX(december!$A:$O,ROW()-204,COLUMN($I:$I))))","v":""},null,null,{"$f":"IF($D266=\"\",\"\",IF(INDEX(december!$A:$O,ROW()-204,COLUMN($H:$H))=\"\",\"\",INDEX(december!$A:$O,ROW()-204,COLUMN($H:$H))))","v":""}]
["",{"$f":"IF($D267=\"\",\"\",INDEX(december!$A:$O,ROW()-204,COLUMN($C:$C)))","v":""},"Variabel",{"$f":"IF(INDEX(december!$A:$O,ROW()-204,COLUMN(H:H))=\"\",\"\",IF(INDEX(december!$A:$O,ROW()-204,COLUMN(A:A))=\"\",\"\",INDEX(december!$A:$O,ROW()-204,COLUMN(A:A))))","v":""},"",null,"",{"$f":"IF($D267=\"\",\"\",IF(INDEX(december!$A:$O,ROW()-204,COLUMN($I:$I))=\"\",\"\",INDEX(december!$A:$O,ROW()-204,COLUMN($I:$I))))","v":""},null,null,{"$f":"IF($D267=\"\",\"\",IF(INDEX(december!$A:$O,ROW()-204,COLUMN($H:$H))=\"\",\"\",INDEX(december!$A:$O,ROW()-204,COLUMN($H:$H))))","v":""}]
["",{"$f":"IF($D268=\"\",\"\",INDEX(december!$A:$O,ROW()-204,COLUMN($C:$C)))","v":""},"Variabel",{"$f":"IF(INDEX(december!$A:$O,ROW()-204,COLUMN(H:H))=\"\",\"\",IF(INDEX(december!$A:$O,ROW()-204,COLUMN(A:A))=\"\",\"\",INDEX(december!$A:$O,ROW()-204,COLUMN(A:A))))","v":""},"",null,"",{"$f":"IF($D268=\"\",\"\",IF(INDEX(december!$A:$O,ROW()-204,COLUMN($I:$I))=\"\",\"\",INDEX(december!$A:$O,ROW()-204,COLUMN($I:$I))))","v":""},null,null,{"$f":"IF($D268=\"\",\"\",IF(INDEX(december!$A:$O,ROW()-204,COLUMN($H:$H))=\"\",\"\",INDEX(december!$A:$O,ROW()-204,COLUMN($H:$H))))","v":""}]
["",{"$f":"IF($D269=\"\",\"\",INDEX(december!$A:$O,ROW()-204,COLUMN($C:$C)))","v":""},"Variabel",{"$f":"IF(INDEX(december!$A:$O,ROW()-204,COLUMN(H:H))=\"\",\"\",IF(INDEX(december!$A:$O,ROW()-204,COLUMN(A:A))=\"\",\"\",INDEX(december!$A:$O,ROW()-204,COLUMN(A:A))))","v":""},"",null,"",{"$f":"IF($D269=\"\",\"\",IF(INDEX(december!$A:$O,ROW()-204,COLUMN($I:$I))=\"\",\"\",INDEX(december!$A:$O,ROW()-204,COLUMN($I:$I))))","v":""},null,null,{"$f":"IF($D269=\"\",\"\",IF(INDEX(december!$A:$O,ROW()-204,COLUMN($H:$H))=\"\",\"\",INDEX(december!$A:$O,ROW()-204,COLUMN($H:$H))))","v":""}]
[{"$f":"IF($D270=\"\",\"\",$A$2)","v":""},{"$f":"IF($D270=\"\",\"\",INDEX(december!$A:$O,ROW()-204,COLUMN($C:$C)))","v":""},"Variabel",{"$f":"IF(INDEX(december!$A:$O,ROW()-204,COLUMN(H:H))=\"\",\"\",IF(INDEX(december!$A:$O,ROW()-204,COLUMN(A:A))=\"\",\"\",INDEX(december!$A:$O,ROW()-204,COLUMN(A:A))))","v":""},{"$f":"IF($D270=\"\",\"\",$F$2)","v":""},null,"",{"$f":"IF($D270=\"\",\"\",IF(INDEX(december!$A:$O,ROW()-204,COLUMN($I:$I))=\"\",\"\",INDEX(december!$A:$O,ROW()-204,COLUMN($I:$I))))","v":""},null,null,{"$f":"IF($D270=\"\",\"\",IF(INDEX(december!$A:$O,ROW()-204,COLUMN($H:$H))=\"\",\"\",INDEX(december!$A:$O,ROW()-204,COLUMN($H:$H))))","v":""}]
["",{"$f":"IF($D271=\"\",\"\",INDEX(december!$A:$O,ROW()-204,COLUMN($C:$C)))","v":""},"Variabel",{"$f":"IF(INDEX(december!$A:$O,ROW()-204,COLUMN(H:H))=\"\",\"\",IF(INDEX(december!$A:$O,ROW()-204,COLUMN(A:A))=\"\",\"\",INDEX(december!$A:$O,ROW()-204,COLUMN(A:A))))","v":""},"",null,{"$f":"IF($D271=\"\",\"\",9471)","v":""},{"$f":"IF($D271=\"\",\"\",IF(INDEX(december!$A:$O,ROW()-204,COLUMN($I:$I))=\"\",\"\",INDEX(december!$A:$O,ROW()-204,COLUMN($I:$I))))","v":""},null,null,{"$f":"IF($D271=\"\",\"\",IF(INDEX(december!$A:$O,ROW()-204,COLUMN($H:$H))=\"\",\"\",INDEX(december!$A:$O,ROW()-204,COLUMN($H:$H))))","v":""}]
["",{"$f":"IF($D272=\"\",\"\",INDEX(december!$A:$O,ROW()-204,COLUMN($C:$C)))","v":""},"Variabel",{"$f":"IF(INDEX(december!$A:$O,ROW()-204,COLUMN(H:H))=\"\",\"\",IF(INDEX(december!$A:$O,ROW()-204,COLUMN(A:A))=\"\",\"\",INDEX(december!$A:$O,ROW()-204,COLUMN(A:A))))","v":""},"",null,"",{"$f":"IF($D272=\"\",\"\",IF(INDEX(december!$A:$O,ROW()-204,COLUMN($I:$I))=\"\",\"\",INDEX(december!$A:$O,ROW()-204,COLUMN($I:$I))))","v":""},null,null,{"$f":"IF($D272=\"\",\"\",IF(INDEX(december!$A:$O,ROW()-204,COLUMN($H:$H))=\"\",\"\",INDEX(december!$A:$O,ROW()-204,COLUMN($H:$H))))","v":""}]
["",{"$f":"IF($D273=\"\",\"\",INDEX(december!$A:$O,ROW()-204,COLUMN($C:$C)))","v":""},"Variabel",{"$f":"IF(INDEX(december!$A:$O,ROW()-204,COLUMN(H:H))=\"\",\"\",IF(INDEX(december!$A:$O,ROW()-204,COLUMN(A:A))=\"\",\"\",INDEX(december!$A:$O,ROW()-204,COLUMN(A:A))))","v":""},"",null,"",{"$f":"IF($D273=\"\",\"\",IF(INDEX(december!$A:$O,ROW()-204,COLUMN($I:$I))=\"\",\"\",INDEX(december!$A:$O,ROW()-204,COLUMN($I:$I))))","v":""},null,null,{"$f":"IF($D273=\"\",\"\",IF(INDEX(december!$A:$O,ROW()-204,COLUMN($H:$H))=\"\",\"\",INDEX(december!$A:$O,ROW()-204,COLUMN($H:$H))))","v":""}]
["",{"$f":"IF($D274=\"\",\"\",INDEX(december!$A:$O,ROW()-204,COLUMN($C:$C)))","v":""},"Variabel",{"$f":"IF(INDEX(december!$A:$O,ROW()-204,COLUMN(H:H))=\"\",\"\",IF(INDEX(december!$A:$O,ROW()-204,COLUMN(A:A))=\"\",\"\",INDEX(december!$A:$O,ROW()-204,COLUMN(A:A))))","v":""},"",null,"",{"$f":"IF($D274=\"\",\"\",IF(INDEX(december!$A:$O,ROW()-204,COLUMN($I:$I))=\"\",\"\",INDEX(december!$A:$O,ROW()-204,COLUMN($I:$I))))","v":""},null,null,{"$f":"IF($D274=\"\",\"\",IF(INDEX(december!$A:$O,ROW()-204,COLUMN($H:$H))=\"\",\"\",INDEX(december!$A:$O,ROW()-204,COLUMN($H:$H))))","v":""}]
["",{"$f":"IF($D275=\"\",\"\",INDEX(december!$A:$O,ROW()-204,COLUMN($C:$C)))","v":""},"Variabel",{"$f":"IF(INDEX(december!$A:$O,ROW()-204,COLUMN(H:H))=\"\",\"\",IF(INDEX(december!$A:$O,ROW()-204,COLUMN(A:A))=\"\",\"\",INDEX(december!$A:$O,ROW()-204,COLUMN(A:A))))","v":""},"",null,"",{"$f":"IF($D275=\"\",\"\",IF(INDEX(december!$A:$O,ROW()-204,COLUMN($I:$I))=\"\",\"\",INDEX(december!$A:$O,ROW()-204,COLUMN($I:$I))))","v":""},null,null,{"$f":"IF($D275=\"\",\"\",IF(INDEX(december!$A:$O,ROW()-204,COLUMN($H:$H))=\"\",\"\",INDEX(december!$A:$O,ROW()-204,COLUMN($H:$H))))","v":""}]
["",{"$f":"IF($D276=\"\",\"\",INDEX(december!$A:$O,ROW()-204,COLUMN($C:$C)))","v":""},"Variabel",{"$f":"IF(INDEX(december!$A:$O,ROW()-204,COLUMN(H:H))=\"\",\"\",IF(INDEX(december!$A:$O,ROW()-204,COLUMN(A:A))=\"\",\"\",INDEX(december!$A:$O,ROW()-204,COLUMN(A:A))))","v":""},"",null,"",{"$f":"IF($D276=\"\",\"\",IF(INDEX(december!$A:$O,ROW()-204,COLUMN($I:$I))=\"\",\"\",INDEX(december!$A:$O,ROW()-204,COLUMN($I:$I))))","v":""},null,null,{"$f":"IF($D276=\"\",\"\",IF(INDEX(december!$A:$O,ROW()-204,COLUMN($H:$H))=\"\",\"\",INDEX(december!$A:$O,ROW()-204,COLUMN($H:$H))))","v":""}]
["",{"$f":"IF($D277=\"\",\"\",INDEX(december!$A:$O,ROW()-204,COLUMN($C:$C)))","v":""},"Variabel",{"$f":"IF(INDEX(december!$A:$O,ROW()-204,COLUMN(H:H))=\"\",\"\",IF(INDEX(december!$A:$O,ROW()-204,COLUMN(A:A))=\"\",\"\",INDEX(december!$A:$O,ROW()-204,COLUMN(A:A))))","v":""},"",null,"",{"$f":"IF($D277=\"\",\"\",IF(INDEX(december!$A:$O,ROW()-204,COLUMN($I:$I))=\"\",\"\",INDEX(december!$A:$O,ROW()-204,COLUMN($I:$I))))","v":""},null,null,{"$f":"IF($D277=\"\",\"\",IF(INDEX(december!$A:$O,ROW()-204,COLUMN($H:$H))=\"\",\"\",INDEX(december!$A:$O,ROW()-204,COLUMN($H:$H))))","v":""}]
["",{"$f":"IF($D278=\"\",\"\",INDEX(december!$A:$O,ROW()-204,COLUMN($C:$C)))","v":""},"Variabel",{"$f":"IF(INDEX(december!$A:$O,ROW()-204,COLUMN(H:H))=\"\",\"\",IF(INDEX(december!$A:$O,ROW()-204,COLUMN(A:A))=\"\",\"\",INDEX(december!$A:$O,ROW()-204,COLUMN(A:A))))","v":""},"",null,"",{"$f":"IF($D278=\"\",\"\",IF(INDEX(december!$A:$O,ROW()-204,COLUMN($I:$I))=\"\",\"\",INDEX(december!$A:$O,ROW()-204,COLUMN($I:$I))))","v":""},null,null,{"$f":"IF($D278=\"\",\"\",IF(INDEX(december!$A:$O,ROW()-204,COLUMN($H:$H))=\"\",\"\",INDEX(december!$A:$O,ROW()-204,COLUMN($H:$H))))","v":""}]
["",{"$f":"IF($D279=\"\",\"\",INDEX(december!$A:$O,ROW()-204,COLUMN($C:$C)))","v":""},"Variabel",{"$f":"IF(INDEX(december!$A:$O,ROW()-204,COLUMN(H:H))=\"\",\"\",IF(INDEX(december!$A:$O,ROW()-204,COLUMN(A:A))=\"\",\"\",INDEX(december!$A:$O,ROW()-204,COLUMN(A:A))))","v":""},"",null,"",{"$f":"IF($D279=\"\",\"\",IF(INDEX(december!$A:$O,ROW()-204,COLUMN($I:$I))=\"\",\"\",INDEX(december!$A:$O,ROW()-204,COLUMN($I:$I))))","v":""},null,null,{"$f":"IF($D279=\"\",\"\",IF(INDEX(december!$A:$O,ROW()-204,COLUMN($H:$H))=\"\",\"\",INDEX(december!$A:$O,ROW()-204,COLUMN($H:$H))))","v":""}]
["",{"$f":"IF($D280=\"\",\"\",INDEX(december!$A:$O,ROW()-204,COLUMN($C:$C)))","v":""},"Variabel",{"$f":"IF(INDEX(december!$A:$O,ROW()-204,COLUMN(H:H))=\"\",\"\",IF(INDEX(december!$A:$O,ROW()-204,COLUMN(A:A))=\"\",\"\",INDEX(december!$A:$O,ROW()-204,COLUMN(A:A))))","v":""},"",null,"",{"$f":"IF($D280=\"\",\"\",IF(INDEX(december!$A:$O,ROW()-204,COLUMN($I:$I))=\"\",\"\",INDEX(december!$A:$O,ROW()-204,COLUMN($I:$I))))","v":""},null,null,{"$f":"IF($D280=\"\",\"\",IF(INDEX(december!$A:$O,ROW()-204,COLUMN($H:$H))=\"\",\"\",INDEX(december!$A:$O,ROW()-204,COLUMN($H:$H))))","v":""}]
["",{"$f":"IF($D281=\"\",\"\",INDEX(december!$A:$O,ROW()-204,COLUMN($C:$C)))","v":""},"Variabel",{"$f":"IF(INDEX(december!$A:$O,ROW()-204,COLUMN(H:H))=\"\",\"\",IF(INDEX(december!$A:$O,ROW()-204,COLUMN(A:A))=\"\",\"\",INDEX(december!$A:$O,ROW()-204,COLUMN(A:A))))","v":""},"",null,"",{"$f":"IF($D281=\"\",\"\",IF(INDEX(december!$A:$O,ROW()-204,COLUMN($I:$I))=\"\",\"\",INDEX(december!$A:$O,ROW()-204,COLUMN($I:$I))))","v":""},null,null,{"$f":"IF($D281=\"\",\"\",IF(INDEX(december!$A:$O,ROW()-204,COLUMN($H:$H))=\"\",\"\",INDEX(december!$A:$O,ROW()-204,COLUMN($H:$H))))","v":""}]
["",{"$f":"IF($D282=\"\",\"\",INDEX(december!$A:$O,ROW()-204,COLUMN($C:$C)))","v":""},"Variabel",{"$f":"IF(INDEX(december!$A:$O,ROW()-204,COLUMN(H:H))=\"\",\"\",IF(INDEX(december!$A:$O,ROW()-204,COLUMN(A:A))=\"\",\"\",INDEX(december!$A:$O,ROW()-204,COLUMN(A:A))))","v":""},"",null,"",{"$f":"IF($D282=\"\",\"\",IF(INDEX(december!$A:$O,ROW()-204,COLUMN($I:$I))=\"\",\"\",INDEX(december!$A:$O,ROW()-204,COLUMN($I:$I))))","v":""},null,null,{"$f":"IF($D282=\"\",\"\",IF(INDEX(december!$A:$O,ROW()-204,COLUMN($H:$H))=\"\",\"\",INDEX(december!$A:$O,ROW()-204,COLUMN($H:$H))))","v":""}]
["",{"$f":"IF($D283=\"\",\"\",INDEX(december!$A:$O,ROW()-204,COLUMN($C:$C)))","v":""},"Variabel",{"$f":"IF(INDEX(december!$A:$O,ROW()-204,COLUMN(H:H))=\"\",\"\",IF(INDEX(december!$A:$O,ROW()-204,COLUMN(A:A))=\"\",\"\",INDEX(december!$A:$O,ROW()-204,COLUMN(A:A))))","v":""},"",null,"",{"$f":"IF($D283=\"\",\"\",IF(INDEX(december!$A:$O,ROW()-204,COLUMN($I:$I))=\"\",\"\",INDEX(december!$A:$O,ROW()-204,COLUMN($I:$I))))","v":""},null,null,{"$f":"IF($D283=\"\",\"\",IF(INDEX(december!$A:$O,ROW()-204,COLUMN($H:$H))=\"\",\"\",INDEX(december!$A:$O,ROW()-204,COLUMN($H:$H))))","v":""}]
["",{"$f":"IF($D284=\"\",\"\",INDEX(december!$A:$O,ROW()-204,COLUMN($C:$C)))","v":""},"Variabel",{"$f":"IF(INDEX(december!$A:$O,ROW()-204,COLUMN(H:H))=\"\",\"\",IF(INDEX(december!$A:$O,ROW()-204,COLUMN(A:A))=\"\",\"\",INDEX(december!$A:$O,ROW()-204,COLUMN(A:A))))","v":""},"",null,"",{"$f":"IF($D284=\"\",\"\",IF(INDEX(december!$A:$O,ROW()-204,COLUMN($I:$I))=\"\",\"\",INDEX(december!$A:$O,ROW()-204,COLUMN($I:$I))))","v":""},null,null,{"$f":"IF($D284=\"\",\"\",IF(INDEX(december!$A:$O,ROW()-204,COLUMN($H:$H))=\"\",\"\",INDEX(december!$A:$O,ROW()-204,COLUMN($H:$H))))","v":""}]
["",{"$f":"IF($D285=\"\",\"\",INDEX(december!$A:$O,ROW()-204,COLUMN($C:$C)))","v":""},"Variabel",{"$f":"IF(INDEX(december!$A:$O,ROW()-204,COLUMN(H:H))=\"\",\"\",IF(INDEX(december!$A:$O,ROW()-204,COLUMN(A:A))=\"\",\"\",INDEX(december!$A:$O,ROW()-204,COLUMN(A:A))))","v":""},"",null,"",{"$f":"IF($D285=\"\",\"\",IF(INDEX(december!$A:$O,ROW()-204,COLUMN($I:$I))=\"\",\"\",INDEX(december!$A:$O,ROW()-204,COLUMN($I:$I))))","v":""},null,null,{"$f":"IF($D285=\"\",\"\",IF(INDEX(december!$A:$O,ROW()-204,COLUMN($H:$H))=\"\",\"\",INDEX(december!$A:$O,ROW()-204,COLUMN($H:$H))))","v":""}]
["",{"$f":"IF($D286=\"\",\"\",INDEX(december!$A:$O,ROW()-204,COLUMN($C:$C)))","v":""},"Variabel",{"$f":"IF(INDEX(december!$A:$O,ROW()-204,COLUMN(H:H))=\"\",\"\",IF(INDEX(december!$A:$O,ROW()-204,COLUMN(A:A))=\"\",\"\",INDEX(december!$A:$O,ROW()-204,COLUMN(A:A))))","v":""},"",null,"",{"$f":"IF($D286=\"\",\"\",IF(INDEX(december!$A:$O,ROW()-204,COLUMN($I:$I))=\"\",\"\",INDEX(december!$A:$O,ROW()-204,COLUMN($I:$I))))","v":""},null,null,{"$f":"IF($D286=\"\",\"\",IF(INDEX(december!$A:$O,ROW()-204,COLUMN($H:$H))=\"\",\"\",INDEX(december!$A:$O,ROW()-204,COLUMN($H:$H))))","v":""}]
["",{"$f":"IF($D287=\"\",\"\",INDEX(december!$A:$O,ROW()-204,COLUMN($C:$C)))","v":""},"Variabel",{"$f":"IF(INDEX(december!$A:$O,ROW()-204,COLUMN(H:H))=\"\",\"\",IF(INDEX(december!$A:$O,ROW()-204,COLUMN(A:A))=\"\",\"\",INDEX(december!$A:$O,ROW()-204,COLUMN(A:A))))","v":""},"",null,"",{"$f":"IF($D287=\"\",\"\",IF(INDEX(december!$A:$O,ROW()-204,COLUMN($I:$I))=\"\",\"\",INDEX(december!$A:$O,ROW()-204,COLUMN($I:$I))))","v":""},null,null,{"$f":"IF($D287=\"\",\"\",IF(INDEX(december!$A:$O,ROW()-204,COLUMN($H:$H))=\"\",\"\",INDEX(december!$A:$O,ROW()-204,COLUMN($H:$H))))","v":""}]
["",{"$f":"IF($D288=\"\",\"\",INDEX(december!$A:$O,ROW()-204,COLUMN($C:$C)))","v":""},"Variabel",{"$f":"IF(INDEX(december!$A:$O,ROW()-204,COLUMN(H:H))=\"\",\"\",IF(INDEX(december!$A:$O,ROW()-204,COLUMN(A:A))=\"\",\"\",INDEX(december!$A:$O,ROW()-204,COLUMN(A:A))))","v":""},"",null,"",{"$f":"IF($D288=\"\",\"\",IF(INDEX(december!$A:$O,ROW()-204,COLUMN($I:$I))=\"\",\"\",INDEX(december!$A:$O,ROW()-204,COLUMN($I:$I))))","v":""},null,null,{"$f":"IF($D288=\"\",\"\",IF(INDEX(december!$A:$O,ROW()-204,COLUMN($H:$H))=\"\",\"\",INDEX(december!$A:$O,ROW()-204,COLUMN($H:$H))))","v":""}]
["",{"$f":"IF($D289=\"\",\"\",INDEX(december!$A:$O,ROW()-204,COLUMN($C:$C)))","v":""},"Variabel",{"$f":"IF(INDEX(december!$A:$O,ROW()-204,COLUMN(H:H))=\"\",\"\",IF(INDEX(december!$A:$O,ROW()-204,COLUMN(A:A))=\"\",\"\",INDEX(december!$A:$O,ROW()-204,COLUMN(A:A))))","v":""},"",null,"",{"$f":"IF($D289=\"\",\"\",IF(INDEX(december!$A:$O,ROW()-204,COLUMN($I:$I))=\"\",\"\",INDEX(december!$A:$O,ROW()-204,COLUMN($I:$I))))","v":""},null,null,{"$f":"IF($D289=\"\",\"\",IF(INDEX(december!$A:$O,ROW()-204,COLUMN($H:$H))=\"\",\"\",INDEX(december!$A:$O,ROW()-204,COLUMN($H:$H))))","v":""}]
["",{"$f":"IF($D290=\"\",\"\",INDEX(december!$A:$O,ROW()-204,COLUMN($C:$C)))","v":""},"Variabel",{"$f":"IF(INDEX(december!$A:$O,ROW()-204,COLUMN(H:H))=\"\",\"\",IF(INDEX(december!$A:$O,ROW()-204,COLUMN(A:A))=\"\",\"\",INDEX(december!$A:$O,ROW()-204,COLUMN(A:A))))","v":""},"",null,"",{"$f":"IF($D290=\"\",\"\",IF(INDEX(december!$A:$O,ROW()-204,COLUMN($I:$I))=\"\",\"\",INDEX(december!$A:$O,ROW()-204,COLUMN($I:$I))))","v":""},null,null,{"$f":"IF($D290=\"\",\"\",IF(INDEX(december!$A:$O,ROW()-204,COLUMN($H:$H))=\"\",\"\",INDEX(december!$A:$O,ROW()-204,COLUMN($H:$H))))","v":""}]
["",{"$f":"IF($D291=\"\",\"\",INDEX(december!$A:$O,ROW()-204,COLUMN($C:$C)))","v":""},"Variabel",{"$f":"IF(INDEX(december!$A:$O,ROW()-204,COLUMN(H:H))=\"\",\"\",IF(INDEX(december!$A:$O,ROW()-204,COLUMN(A:A))=\"\",\"\",INDEX(december!$A:$O,ROW()-204,COLUMN(A:A))))","v":""},"",null,"",{"$f":"IF($D291=\"\",\"\",IF(INDEX(december!$A:$O,ROW()-204,COLUMN($I:$I))=\"\",\"\",INDEX(december!$A:$O,ROW()-204,COLUMN($I:$I))))","v":""},null,null,{"$f":"IF($D291=\"\",\"\",IF(INDEX(december!$A:$O,ROW()-204,COLUMN($H:$H))=\"\",\"\",INDEX(december!$A:$O,ROW()-204,COLUMN($H:$H))))","v":""}]
["",{"$f":"IF($D292=\"\",\"\",INDEX(december!$A:$O,ROW()-204,COLUMN($C:$C)))","v":""},"Variabel",{"$f":"IF(INDEX(december!$A:$O,ROW()-204,COLUMN(H:H))=\"\",\"\",IF(INDEX(december!$A:$O,ROW()-204,COLUMN(A:A))=\"\",\"\",INDEX(december!$A:$O,ROW()-204,COLUMN(A:A))))","v":""},"",null,"",{"$f":"IF($D292=\"\",\"\",IF(INDEX(december!$A:$O,ROW()-204,COLUMN($I:$I))=\"\",\"\",INDEX(december!$A:$O,ROW()-204,COLUMN($I:$I))))","v":""},null,null,{"$f":"IF($D292=\"\",\"\",IF(INDEX(december!$A:$O,ROW()-204,COLUMN($H:$H))=\"\",\"\",INDEX(december!$A:$O,ROW()-204,COLUMN($H:$H))))","v":""}]
["",{"$f":"IF($D293=\"\",\"\",INDEX(december!$A:$O,ROW()-204,COLUMN($C:$C)))","v":""},"Variabel",{"$f":"IF(INDEX(december!$A:$O,ROW()-204,COLUMN(H:H))=\"\",\"\",IF(INDEX(december!$A:$O,ROW()-204,COLUMN(A:A))=\"\",\"\",INDEX(december!$A:$O,ROW()-204,COLUMN(A:A))))","v":""},"",null,"",{"$f":"IF($D293=\"\",\"\",IF(INDEX(december!$A:$O,ROW()-204,COLUMN($I:$I))=\"\",\"\",INDEX(december!$A:$O,ROW()-204,COLUMN($I:$I))))","v":""},null,null,{"$f":"IF($D293=\"\",\"\",IF(INDEX(december!$A:$O,ROW()-204,COLUMN($H:$H))=\"\",\"\",INDEX(december!$A:$O,ROW()-204,COLUMN($H:$H))))","v":""}]
["",{"$f":"IF($D294=\"\",\"\",INDEX(december!$A:$O,ROW()-204,COLUMN($C:$C)))","v":""},"Variabel",{"$f":"IF(INDEX(december!$A:$O,ROW()-204,COLUMN(H:H))=\"\",\"\",IF(INDEX(december!$A:$O,ROW()-204,COLUMN(A:A))=\"\",\"\",INDEX(december!$A:$O,ROW()-204,COLUMN(A:A))))","v":""},"",null,"",{"$f":"IF($D294=\"\",\"\",IF(INDEX(december!$A:$O,ROW()-204,COLUMN($I:$I))=\"\",\"\",INDEX(december!$A:$O,ROW()-204,COLUMN($I:$I))))","v":""},null,null,{"$f":"IF($D294=\"\",\"\",IF(INDEX(december!$A:$O,ROW()-204,COLUMN($H:$H))=\"\",\"\",INDEX(december!$A:$O,ROW()-204,COLUMN($H:$H))))","v":""}]
["",{"$f":"IF($D295=\"\",\"\",INDEX(december!$A:$O,ROW()-204,COLUMN($C:$C)))","v":""},"Variabel",{"$f":"IF(INDEX(december!$A:$O,ROW()-204,COLUMN(H:H))=\"\",\"\",IF(INDEX(december!$A:$O,ROW()-204,COLUMN(A:A))=\"\",\"\",INDEX(december!$A:$O,ROW()-204,COLUMN(A:A))))","v":""},"",null,"",{"$f":"IF($D295=\"\",\"\",IF(INDEX(december!$A:$O,ROW()-204,COLUMN($I:$I))=\"\",\"\",INDEX(december!$A:$O,ROW()-204,COLUMN($I:$I))))","v":""},null,null,{"$f":"IF($D295=\"\",\"\",IF(INDEX(december!$A:$O,ROW()-204,COLUMN($H:$H))=\"\",\"\",INDEX(december!$A:$O,ROW()-204,COLUMN($H:$H))))","v":""}]
["",{"$f":"IF($D296=\"\",\"\",INDEX(december!$A:$O,ROW()-204,COLUMN($C:$C)))","v":""},"Variabel",{"$f":"IF(INDEX(december!$A:$O,ROW()-204,COLUMN(H:H))=\"\",\"\",IF(INDEX(december!$A:$O,ROW()-204,COLUMN(A:A))=\"\",\"\",INDEX(december!$A:$O,ROW()-204,COLUMN(A:A))))","v":""},"",null,"",{"$f":"IF($D296=\"\",\"\",IF(INDEX(december!$A:$O,ROW()-204,COLUMN($I:$I))=\"\",\"\",INDEX(december!$A:$O,ROW()-204,COLUMN($I:$I))))","v":""},null,null,{"$f":"IF($D296=\"\",\"\",IF(INDEX(december!$A:$O,ROW()-204,COLUMN($H:$H))=\"\",\"\",INDEX(december!$A:$O,ROW()-204,COLUMN($H:$H))))","v":""}]
["",{"$f":"IF($D297=\"\",\"\",INDEX(december!$A:$O,ROW()-204,COLUMN($C:$C)))","v":""},"Variabel",{"$f":"IF(INDEX(december!$A:$O,ROW()-204,COLUMN(H:H))=\"\",\"\",IF(INDEX(december!$A:$O,ROW()-204,COLUMN(A:A))=\"\",\"\",INDEX(december!$A:$O,ROW()-204,COLUMN(A:A))))","v":""},"",null,"",{"$f":"IF($D297=\"\",\"\",IF(INDEX(december!$A:$O,ROW()-204,COLUMN($I:$I))=\"\",\"\",INDEX(december!$A:$O,ROW()-204,COLUMN($I:$I))))","v":""},null,null,{"$f":"IF($D297=\"\",\"\",IF(INDEX(december!$A:$O,ROW()-204,COLUMN($H:$H))=\"\",\"\",INDEX(december!$A:$O,ROW()-204,COLUMN($H:$H))))","v":""}]
["",{"$f":"IF($D298=\"\",\"\",INDEX(december!$A:$O,ROW()-204,COLUMN($C:$C)))","v":""},"Variabel",{"$f":"IF(INDEX(december!$A:$O,ROW()-204,COLUMN(H:H))=\"\",\"\",IF(INDEX(december!$A:$O,ROW()-204,COLUMN(A:A))=\"\",\"\",INDEX(december!$A:$O,ROW()-204,COLUMN(A:A))))","v":""},"",null,"",{"$f":"IF($D298=\"\",\"\",IF(INDEX(december!$A:$O,ROW()-204,COLUMN($I:$I))=\"\",\"\",INDEX(december!$A:$O,ROW()-204,COLUMN($I:$I))))","v":""},null,null,{"$f":"IF($D298=\"\",\"\",IF(INDEX(december!$A:$O,ROW()-204,COLUMN($H:$H))=\"\",\"\",INDEX(december!$A:$O,ROW()-204,COLUMN($H:$H))))","v":""}]
["",{"$f":"IF($D299=\"\",\"\",INDEX(december!$A:$O,ROW()-204,COLUMN($C:$C)))","v":""},"Variabel",{"$f":"IF(INDEX(december!$A:$O,ROW()-204,COLUMN(H:H))=\"\",\"\",IF(INDEX(december!$A:$O,ROW()-204,COLUMN(A:A))=\"\",\"\",INDEX(december!$A:$O,ROW()-204,COLUMN(A:A))))","v":""},"",null,"",{"$f":"IF($D299=\"\",\"\",IF(INDEX(december!$A:$O,ROW()-204,COLUMN($I:$I))=\"\",\"\",INDEX(december!$A:$O,ROW()-204,COLUMN($I:$I))))","v":""},null,null,{"$f":"IF($D299=\"\",\"\",IF(INDEX(december!$A:$O,ROW()-204,COLUMN($H:$H))=\"\",\"\",INDEX(december!$A:$O,ROW()-204,COLUMN($H:$H))))","v":""}]
["",{"$f":"IF($D300=\"\",\"\",INDEX(december!$A:$O,ROW()-204,COLUMN($C:$C)))","v":""},"Variabel",{"$f":"IF(INDEX(december!$A:$O,ROW()-204,COLUMN(H:H))=\"\",\"\",IF(INDEX(december!$A:$O,ROW()-204,COLUMN(A:A))=\"\",\"\",INDEX(december!$A:$O,ROW()-204,COLUMN(A:A))))","v":""},"",null,"",{"$f":"IF($D300=\"\",\"\",IF(INDEX(december!$A:$O,ROW()-204,COLUMN($I:$I))=\"\",\"\",INDEX(december!$A:$O,ROW()-204,COLUMN($I:$I))))","v":""},null,null,{"$f":"IF($D300=\"\",\"\",IF(INDEX(december!$A:$O,ROW()-204,COLUMN($H:$H))=\"\",\"\",INDEX(december!$A:$O,ROW()-204,COLUMN($H:$H))))","v":""}]
["",{"$f":"IF($D301=\"\",\"\",INDEX(december!$A:$O,ROW()-204,COLUMN($C:$C)))","v":""},"Variabel",{"$f":"IF(INDEX(december!$A:$O,ROW()-204,COLUMN(H:H))=\"\",\"\",IF(INDEX(december!$A:$O,ROW()-204,COLUMN(A:A))=\"\",\"\",INDEX(december!$A:$O,ROW()-204,COLUMN(A:A))))","v":""},"",null,"",{"$f":"IF($D301=\"\",\"\",IF(INDEX(december!$A:$O,ROW()-204,COLUMN($I:$I))=\"\",\"\",INDEX(december!$A:$O,ROW()-204,COLUMN($I:$I))))","v":""},null,null,{"$f":"IF($D301=\"\",\"\",IF(INDEX(december!$A:$O,ROW()-204,COLUMN($H:$H))=\"\",\"\",INDEX(december!$A:$O,ROW()-204,COLUMN($H:$H))))","v":""}]
["",{"$f":"IF($D302=\"\",\"\",INDEX(december!$A:$O,ROW()-204,COLUMN($C:$C)))","v":""},"Variabel",{"$f":"IF(INDEX(december!$A:$O,ROW()-204,COLUMN(H:H))=\"\",\"\",IF(INDEX(december!$A:$O,ROW()-204,COLUMN(A:A))=\"\",\"\",INDEX(december!$A:$O,ROW()-204,COLUMN(A:A))))","v":""},"",null,"",{"$f":"IF($D302=\"\",\"\",IF(INDEX(december!$A:$O,ROW()-204,COLUMN($I:$I))=\"\",\"\",INDEX(december!$A:$O,ROW()-204,COLUMN($I:$I))))","v":""},null,null,{"$f":"IF($D302=\"\",\"\",IF(INDEX(december!$A:$O,ROW()-204,COLUMN($H:$H))=\"\",\"\",INDEX(december!$A:$O,ROW()-204,COLUMN($H:$H))))","v":""}]
["",{"$f":"IF($D303=\"\",\"\",INDEX(december!$A:$O,ROW()-204,COLUMN($C:$C)))","v":""},"Variabel",{"$f":"IF(INDEX(december!$A:$O,ROW()-204,COLUMN(H:H))=\"\",\"\",IF(INDEX(december!$A:$O,ROW()-204,COLUMN(A:A))=\"\",\"\",INDEX(december!$A:$O,ROW()-204,COLUMN(A:A))))","v":""},"",null,"",{"$f":"IF($D303=\"\",\"\",IF(INDEX(december!$A:$O,ROW()-204,COLUMN($I:$I))=\"\",\"\",INDEX(december!$A:$O,ROW()-204,COLUMN($I:$I))))","v":""},null,null,{"$f":"IF($D303=\"\",\"\",IF(INDEX(december!$A:$O,ROW()-204,COLUMN($H:$H))=\"\",\"\",INDEX(december!$A:$O,ROW()-204,COLUMN($H:$H))))","v":""}]
[]
[null,"Fratrædelsesgodtgørelse:"]
[{"$f":"IF($D306=\"\",\"\",$A$2)","v":""},{"$f":"IF($D306=\"\",\"\",INDEX(december!$A:$O,ROW()-304,COLUMN($C:$C)))","v":""},"Variabel",{"$f":"IF(INDEX(december!$A:$O,ROW()-304,COLUMN(J:J))=\"\",\"\",IF(INDEX(december!$A:$O,ROW()-304,COLUMN(A:A))=\"\",\"\",INDEX(december!$A:$O,ROW()-304,COLUMN(A:A))))","v":""},{"$f":"IF($D306=\"\",\"\",$F$2)","v":""},null,{"$f":"IF($D306=\"\",\"\",5500)","v":""},null,null,null,{"$f":"IF($D306=\"\",\"\",IF(INDEX(december!$A:$O,ROW()-304,COLUMN($J:$J))=\"\",\"\",INDEX(december!$A:$O,ROW()-304,COLUMN($J:$J))))","v":""}]
["",{"$f":"IF($D307=\"\",\"\",INDEX(december!$A:$O,ROW()-304,COLUMN($C:$C)))","v":""},"Variabel",{"$f":"IF(INDEX(december!$A:$O,ROW()-304,COLUMN(J:J))=\"\",\"\",IF(INDEX(december!$A:$O,ROW()-304,COLUMN(A:A))=\"\",\"\",INDEX(december!$A:$O,ROW()-304,COLUMN(A:A))))","v":""},"",null,{"$f":"IF($D307=\"\",\"\",5500)","v":""},null,null,null,{"$f":"IF($D307=\"\",\"\",IF(INDEX(december!$A:$O,ROW()-304,COLUMN($J:$J))=\"\",\"\",INDEX(december!$A:$O,ROW()-304,COLUMN($J:$J))))","v":""}]
["",{"$f":"IF($D308=\"\",\"\",INDEX(december!$A:$O,ROW()-304,COLUMN($C:$C)))","v":""},"Variabel",{"$f":"IF(INDEX(december!$A:$O,ROW()-304,COLUMN(J:J))=\"\",\"\",IF(INDEX(december!$A:$O,ROW()-304,COLUMN(A:A))=\"\",\"\",INDEX(december!$A:$O,ROW()-304,COLUMN(A:A))))","v":""},"",null,"",null,null,null,{"$f":"IF($D308=\"\",\"\",IF(INDEX(december!$A:$O,ROW()-304,COLUMN($J:$J))=\"\",\"\",INDEX(december!$A:$O,ROW()-304,COLUMN($J:$J))))","v":""}]
["",{"$f":"IF($D309=\"\",\"\",INDEX(december!$A:$O,ROW()-304,COLUMN($C:$C)))","v":""},"Variabel",{"$f":"IF(INDEX(december!$A:$O,ROW()-304,COLUMN(J:J))=\"\",\"\",IF(INDEX(december!$A:$O,ROW()-304,COLUMN(A:A))=\"\",\"\",INDEX(december!$A:$O,ROW()-304,COLUMN(A:A))))","v":""},"",null,"",null,null,null,{"$f":"IF($D309=\"\",\"\",IF(INDEX(december!$A:$O,ROW()-304,COLUMN($J:$J))=\"\",\"\",INDEX(december!$A:$O,ROW()-304,COLUMN($J:$J))))","v":""}]
["",{"$f":"IF($D310=\"\",\"\",INDEX(december!$A:$O,ROW()-304,COLUMN($C:$C)))","v":""},"Variabel",{"$f":"IF(INDEX(december!$A:$O,ROW()-304,COLUMN(J:J))=\"\",\"\",IF(INDEX(december!$A:$O,ROW()-304,COLUMN(A:A))=\"\",\"\",INDEX(december!$A:$O,ROW()-304,COLUMN(A:A))))","v":""},"",null,"",null,null,null,{"$f":"IF($D310=\"\",\"\",IF(INDEX(december!$A:$O,ROW()-304,COLUMN($J:$J))=\"\",\"\",INDEX(december!$A:$O,ROW()-304,COLUMN($J:$J))))","v":""}]
["",{"$f":"IF($D311=\"\",\"\",INDEX(december!$A:$O,ROW()-304,COLUMN($C:$C)))","v":""},"Variabel",{"$f":"IF(INDEX(december!$A:$O,ROW()-304,COLUMN(J:J))=\"\",\"\",IF(INDEX(december!$A:$O,ROW()-304,COLUMN(A:A))=\"\",\"\",INDEX(december!$A:$O,ROW()-304,COLUMN(A:A))))","v":""},"",null,"",null,null,null,{"$f":"IF($D311=\"\",\"\",IF(INDEX(december!$A:$O,ROW()-304,COLUMN($J:$J))=\"\",\"\",INDEX(december!$A:$O,ROW()-304,COLUMN($J:$J))))","v":""}]
["",{"$f":"IF($D312=\"\",\"\",INDEX(december!$A:$O,ROW()-304,COLUMN($C:$C)))","v":""},"Variabel",{"$f":"IF(INDEX(december!$A:$O,ROW()-304,COLUMN(J:J))=\"\",\"\",IF(INDEX(december!$A:$O,ROW()-304,COLUMN(A:A))=\"\",\"\",INDEX(december!$A:$O,ROW()-304,COLUMN(A:A))))","v":""},"",null,"",null,null,null,{"$f":"IF($D312=\"\",\"\",IF(INDEX(december!$A:$O,ROW()-304,COLUMN($J:$J))=\"\",\"\",INDEX(december!$A:$O,ROW()-304,COLUMN($J:$J))))","v":""}]
["",{"$f":"IF($D313=\"\",\"\",INDEX(december!$A:$O,ROW()-304,COLUMN($C:$C)))","v":""},"Variabel",{"$f":"IF(INDEX(december!$A:$O,ROW()-304,COLUMN(J:J))=\"\",\"\",IF(INDEX(december!$A:$O,ROW()-304,COLUMN(A:A))=\"\",\"\",INDEX(december!$A:$O,ROW()-304,COLUMN(A:A))))","v":""},"",null,"",null,null,null,{"$f":"IF($D313=\"\",\"\",IF(INDEX(december!$A:$O,ROW()-304,COLUMN($J:$J))=\"\",\"\",INDEX(december!$A:$O,ROW()-304,COLUMN($J:$J))))","v":""}]
["",{"$f":"IF($D314=\"\",\"\",INDEX(december!$A:$O,ROW()-304,COLUMN($C:$C)))","v":""},"Variabel",{"$f":"IF(INDEX(december!$A:$O,ROW()-304,COLUMN(J:J))=\"\",\"\",IF(INDEX(december!$A:$O,ROW()-304,COLUMN(A:A))=\"\",\"\",INDEX(december!$A:$O,ROW()-304,COLUMN(A:A))))","v":""},"",null,"",null,null,null,{"$f":"IF($D314=\"\",\"\",IF(INDEX(december!$A:$O,ROW()-304,COLUMN($J:$J))=\"\",\"\",INDEX(december!$A:$O,ROW()-304,COLUMN($J:$J))))","v":""}]
["",{"$f":"IF($D315=\"\",\"\",INDEX(december!$A:$O,ROW()-304,COLUMN($C:$C)))","v":""},"Variabel",{"$f":"IF(INDEX(december!$A:$O,ROW()-304,COLUMN(J:J))=\"\",\"\",IF(INDEX(december!$A:$O,ROW()-304,COLUMN(A:A))=\"\",\"\",INDEX(december!$A:$O,ROW()-304,COLUMN(A:A))))","v":""},"",null,"",null,null,null,{"$f":"IF($D315=\"\",\"\",IF(INDEX(december!$A:$O,ROW()-304,COLUMN($J:$J))=\"\",\"\",INDEX(december!$A:$O,ROW()-304,COLUMN($J:$J))))","v":""}]
["",{"$f":"IF($D316=\"\",\"\",INDEX(december!$A:$O,ROW()-304,COLUMN($C:$C)))","v":""},"Variabel",{"$f":"IF(INDEX(december!$A:$O,ROW()-304,COLUMN(J:J))=\"\",\"\",IF(INDEX(december!$A:$O,ROW()-304,COLUMN(A:A))=\"\",\"\",INDEX(december!$A:$O,ROW()-304,COLUMN(A:A))))","v":""},"",null,"",null,null,null,{"$f":"IF($D316=\"\",\"\",IF(INDEX(december!$A:$O,ROW()-304,COLUMN($J:$J))=\"\",\"\",INDEX(december!$A:$O,ROW()-304,COLUMN($J:$J))))","v":""}]
["",{"$f":"IF($D317=\"\",\"\",INDEX(december!$A:$O,ROW()-304,COLUMN($C:$C)))","v":""},"Variabel",{"$f":"IF(INDEX(december!$A:$O,ROW()-304,COLUMN(J:J))=\"\",\"\",IF(INDEX(december!$A:$O,ROW()-304,COLUMN(A:A))=\"\",\"\",INDEX(december!$A:$O,ROW()-304,COLUMN(A:A))))","v":""},"",null,"",null,null,null,{"$f":"IF($D317=\"\",\"\",IF(INDEX(december!$A:$O,ROW()-304,COLUMN($J:$J))=\"\",\"\",INDEX(december!$A:$O,ROW()-304,COLUMN($J:$J))))","v":""}]
["",{"$f":"IF($D318=\"\",\"\",INDEX(december!$A:$O,ROW()-304,COLUMN($C:$C)))","v":""},"Variabel",{"$f":"IF(INDEX(december!$A:$O,ROW()-304,COLUMN(J:J))=\"\",\"\",IF(INDEX(december!$A:$O,ROW()-304,COLUMN(A:A))=\"\",\"\",INDEX(december!$A:$O,ROW()-304,COLUMN(A:A))))","v":""},"",null,"",null,null,null,{"$f":"IF($D318=\"\",\"\",IF(INDEX(december!$A:$O,ROW()-304,COLUMN($J:$J))=\"\",\"\",INDEX(december!$A:$O,ROW()-304,COLUMN($J:$J))))","v":""}]
["",{"$f":"IF($D319=\"\",\"\",INDEX(december!$A:$O,ROW()-304,COLUMN($C:$C)))","v":""},"Variabel",{"$f":"IF(INDEX(december!$A:$O,ROW()-304,COLUMN(J:J))=\"\",\"\",IF(INDEX(december!$A:$O,ROW()-304,COLUMN(A:A))=\"\",\"\",INDEX(december!$A:$O,ROW()-304,COLUMN(A:A))))","v":""},"",null,"",null,null,null,{"$f":"IF($D319=\"\",\"\",IF(INDEX(december!$A:$O,ROW()-304,COLUMN($J:$J))=\"\",\"\",INDEX(december!$A:$O,ROW()-304,COLUMN($J:$J))))","v":""}]
["",{"$f":"IF($D320=\"\",\"\",INDEX(december!$A:$O,ROW()-304,COLUMN($C:$C)))","v":""},"Variabel",{"$f":"IF(INDEX(december!$A:$O,ROW()-304,COLUMN(J:J))=\"\",\"\",IF(INDEX(december!$A:$O,ROW()-304,COLUMN(A:A))=\"\",\"\",INDEX(december!$A:$O,ROW()-304,COLUMN(A:A))))","v":""},"",null,"",null,null,null,{"$f":"IF($D320=\"\",\"\",IF(INDEX(december!$A:$O,ROW()-304,COLUMN($J:$J))=\"\",\"\",INDEX(december!$A:$O,ROW()-304,COLUMN($J:$J))))","v":""}]
["",{"$f":"IF($D321=\"\",\"\",INDEX(december!$A:$O,ROW()-304,COLUMN($C:$C)))","v":""},"Variabel",{"$f":"IF(INDEX(december!$A:$O,ROW()-304,COLUMN(J:J))=\"\",\"\",IF(INDEX(december!$A:$O,ROW()-304,COLUMN(A:A))=\"\",\"\",INDEX(december!$A:$O,ROW()-304,COLUMN(A:A))))","v":""},"",null,"",null,null,null,{"$f":"IF($D321=\"\",\"\",IF(INDEX(december!$A:$O,ROW()-304,COLUMN($J:$J))=\"\",\"\",INDEX(december!$A:$O,ROW()-304,COLUMN($J:$J))))","v":""}]
["",{"$f":"IF($D322=\"\",\"\",INDEX(december!$A:$O,ROW()-304,COLUMN($C:$C)))","v":""},"Variabel",{"$f":"IF(INDEX(december!$A:$O,ROW()-304,COLUMN(J:J))=\"\",\"\",IF(INDEX(december!$A:$O,ROW()-304,COLUMN(A:A))=\"\",\"\",INDEX(december!$A:$O,ROW()-304,COLUMN(A:A))))","v":""},"",null,"",null,null,null,{"$f":"IF($D322=\"\",\"\",IF(INDEX(december!$A:$O,ROW()-304,COLUMN($J:$J))=\"\",\"\",INDEX(december!$A:$O,ROW()-304,COLUMN($J:$J))))","v":""}]
["",{"$f":"IF($D323=\"\",\"\",INDEX(december!$A:$O,ROW()-304,COLUMN($C:$C)))","v":""},"Variabel",{"$f":"IF(INDEX(december!$A:$O,ROW()-304,COLUMN(J:J))=\"\",\"\",IF(INDEX(december!$A:$O,ROW()-304,COLUMN(A:A))=\"\",\"\",INDEX(december!$A:$O,ROW()-304,COLUMN(A:A))))","v":""},"",null,"",null,null,null,{"$f":"IF($D323=\"\",\"\",IF(INDEX(december!$A:$O,ROW()-304,COLUMN($J:$J))=\"\",\"\",INDEX(december!$A:$O,ROW()-304,COLUMN($J:$J))))","v":""}]
["",{"$f":"IF($D324=\"\",\"\",INDEX(december!$A:$O,ROW()-304,COLUMN($C:$C)))","v":""},"Variabel",{"$f":"IF(INDEX(december!$A:$O,ROW()-304,COLUMN(J:J))=\"\",\"\",IF(INDEX(december!$A:$O,ROW()-304,COLUMN(A:A))=\"\",\"\",INDEX(december!$A:$O,ROW()-304,COLUMN(A:A))))","v":""},"",null,"",null,null,null,{"$f":"IF($D324=\"\",\"\",IF(INDEX(december!$A:$O,ROW()-304,COLUMN($J:$J))=\"\",\"\",INDEX(december!$A:$O,ROW()-304,COLUMN($J:$J))))","v":""}]
["",{"$f":"IF($D325=\"\",\"\",INDEX(december!$A:$O,ROW()-304,COLUMN($C:$C)))","v":""},"Variabel",{"$f":"IF(INDEX(december!$A:$O,ROW()-304,COLUMN(J:J))=\"\",\"\",IF(INDEX(december!$A:$O,ROW()-304,COLUMN(A:A))=\"\",\"\",INDEX(december!$A:$O,ROW()-304,COLUMN(A:A))))","v":""},"",null,"",null,null,null,{"$f":"IF($D325=\"\",\"\",IF(INDEX(december!$A:$O,ROW()-304,COLUMN($J:$J))=\"\",\"\",INDEX(december!$A:$O,ROW()-304,COLUMN($J:$J))))","v":""}]
["",{"$f":"IF($D326=\"\",\"\",INDEX(december!$A:$O,ROW()-304,COLUMN($C:$C)))","v":""},"Variabel",{"$f":"IF(INDEX(december!$A:$O,ROW()-304,COLUMN(J:J))=\"\",\"\",IF(INDEX(december!$A:$O,ROW()-304,COLUMN(A:A))=\"\",\"\",INDEX(december!$A:$O,ROW()-304,COLUMN(A:A))))","v":""},"",null,"",null,null,null,{"$f":"IF($D326=\"\",\"\",IF(INDEX(december!$A:$O,ROW()-304,COLUMN($J:$J))=\"\",\"\",INDEX(december!$A:$O,ROW()-304,COLUMN($J:$J))))","v":""}]
["",{"$f":"IF($D327=\"\",\"\",INDEX(december!$A:$O,ROW()-304,COLUMN($C:$C)))","v":""},"Variabel",{"$f":"IF(INDEX(december!$A:$O,ROW()-304,COLUMN(J:J))=\"\",\"\",IF(INDEX(december!$A:$O,ROW()-304,COLUMN(A:A))=\"\",\"\",INDEX(december!$A:$O,ROW()-304,COLUMN(A:A))))","v":""},"",null,"",null,null,null,{"$f":"IF($D327=\"\",\"\",IF(INDEX(december!$A:$O,ROW()-304,COLUMN($J:$J))=\"\",\"\",INDEX(december!$A:$O,ROW()-304,COLUMN($J:$J))))","v":""}]
["",{"$f":"IF($D328=\"\",\"\",INDEX(december!$A:$O,ROW()-304,COLUMN($C:$C)))","v":""},"Variabel",{"$f":"IF(INDEX(december!$A:$O,ROW()-304,COLUMN(J:J))=\"\",\"\",IF(INDEX(december!$A:$O,ROW()-304,COLUMN(A:A))=\"\",\"\",INDEX(december!$A:$O,ROW()-304,COLUMN(A:A))))","v":""},"",null,"",null,null,null,{"$f":"IF($D328=\"\",\"\",IF(INDEX(december!$A:$O,ROW()-304,COLUMN($J:$J))=\"\",\"\",INDEX(december!$A:$O,ROW()-304,COLUMN($J:$J))))","v":""}]
["",{"$f":"IF($D329=\"\",\"\",INDEX(december!$A:$O,ROW()-304,COLUMN($C:$C)))","v":""},"Variabel",{"$f":"IF(INDEX(december!$A:$O,ROW()-304,COLUMN(J:J))=\"\",\"\",IF(INDEX(december!$A:$O,ROW()-304,COLUMN(A:A))=\"\",\"\",INDEX(december!$A:$O,ROW()-304,COLUMN(A:A))))","v":""},"",null,"",null,null,null,{"$f":"IF($D329=\"\",\"\",IF(INDEX(december!$A:$O,ROW()-304,COLUMN($J:$J))=\"\",\"\",INDEX(december!$A:$O,ROW()-304,COLUMN($J:$J))))","v":""}]
["",{"$f":"IF($D330=\"\",\"\",INDEX(december!$A:$O,ROW()-304,COLUMN($C:$C)))","v":""},"Variabel",{"$f":"IF(INDEX(december!$A:$O,ROW()-304,COLUMN(J:J))=\"\",\"\",IF(INDEX(december!$A:$O,ROW()-304,COLUMN(A:A))=\"\",\"\",INDEX(december!$A:$O,ROW()-304,COLUMN(A:A))))","v":""},"",null,"",null,null,null,{"$f":"IF($D330=\"\",\"\",IF(INDEX(december!$A:$O,ROW()-304,COLUMN($J:$J))=\"\",\"\",INDEX(december!$A:$O,ROW()-304,COLUMN($J:$J))))","v":""}]
["",{"$f":"IF($D331=\"\",\"\",INDEX(december!$A:$O,ROW()-304,COLUMN($C:$C)))","v":""},"Variabel",{"$f":"IF(INDEX(december!$A:$O,ROW()-304,COLUMN(J:J))=\"\",\"\",IF(INDEX(december!$A:$O,ROW()-304,COLUMN(A:A))=\"\",\"\",INDEX(december!$A:$O,ROW()-304,COLUMN(A:A))))","v":""},"",null,"",null,null,null,{"$f":"IF($D331=\"\",\"\",IF(INDEX(december!$A:$O,ROW()-304,COLUMN($J:$J))=\"\",\"\",INDEX(december!$A:$O,ROW()-304,COLUMN($J:$J))))","v":""}]
["",{"$f":"IF($D332=\"\",\"\",INDEX(december!$A:$O,ROW()-304,COLUMN($C:$C)))","v":""},"Variabel",{"$f":"IF(INDEX(december!$A:$O,ROW()-304,COLUMN(J:J))=\"\",\"\",IF(INDEX(december!$A:$O,ROW()-304,COLUMN(A:A))=\"\",\"\",INDEX(december!$A:$O,ROW()-304,COLUMN(A:A))))","v":""},"",null,"",null,null,null,{"$f":"IF($D332=\"\",\"\",IF(INDEX(december!$A:$O,ROW()-304,COLUMN($J:$J))=\"\",\"\",INDEX(december!$A:$O,ROW()-304,COLUMN($J:$J))))","v":""}]
["",{"$f":"IF($D333=\"\",\"\",INDEX(december!$A:$O,ROW()-304,COLUMN($C:$C)))","v":""},"Variabel",{"$f":"IF(INDEX(december!$A:$O,ROW()-304,COLUMN(J:J))=\"\",\"\",IF(INDEX(december!$A:$O,ROW()-304,COLUMN(A:A))=\"\",\"\",INDEX(december!$A:$O,ROW()-304,COLUMN(A:A))))","v":""},"",null,"",null,null,null,{"$f":"IF($D333=\"\",\"\",IF(INDEX(december!$A:$O,ROW()-304,COLUMN($J:$J))=\"\",\"\",INDEX(december!$A:$O,ROW()-304,COLUMN($J:$J))))","v":""}]
["",{"$f":"IF($D334=\"\",\"\",INDEX(december!$A:$O,ROW()-304,COLUMN($C:$C)))","v":""},"Variabel",{"$f":"IF(INDEX(december!$A:$O,ROW()-304,COLUMN(J:J))=\"\",\"\",IF(INDEX(december!$A:$O,ROW()-304,COLUMN(A:A))=\"\",\"\",INDEX(december!$A:$O,ROW()-304,COLUMN(A:A))))","v":""},"",null,"",null,null,null,{"$f":"IF($D334=\"\",\"\",IF(INDEX(december!$A:$O,ROW()-304,COLUMN($J:$J))=\"\",\"\",INDEX(december!$A:$O,ROW()-304,COLUMN($J:$J))))","v":""}]
["",{"$f":"IF($D335=\"\",\"\",INDEX(december!$A:$O,ROW()-304,COLUMN($C:$C)))","v":""},"Variabel",{"$f":"IF(INDEX(december!$A:$O,ROW()-304,COLUMN(J:J))=\"\",\"\",IF(INDEX(december!$A:$O,ROW()-304,COLUMN(A:A))=\"\",\"\",INDEX(december!$A:$O,ROW()-304,COLUMN(A:A))))","v":""},"",null,"",null,null,null,{"$f":"IF($D335=\"\",\"\",IF(INDEX(december!$A:$O,ROW()-304,COLUMN($J:$J))=\"\",\"\",INDEX(december!$A:$O,ROW()-304,COLUMN($J:$J))))","v":""}]
["",{"$f":"IF($D336=\"\",\"\",INDEX(december!$A:$O,ROW()-304,COLUMN($C:$C)))","v":""},"Variabel",{"$f":"IF(INDEX(december!$A:$O,ROW()-304,COLUMN(J:J))=\"\",\"\",IF(INDEX(december!$A:$O,ROW()-304,COLUMN(A:A))=\"\",\"\",INDEX(december!$A:$O,ROW()-304,COLUMN(A:A))))","v":""},"",null,"",null,null,null,{"$f":"IF($D336=\"\",\"\",IF(INDEX(december!$A:$O,ROW()-304,COLUMN($J:$J))=\"\",\"\",INDEX(december!$A:$O,ROW()-304,COLUMN($J:$J))))","v":""}]
["",{"$f":"IF($D337=\"\",\"\",INDEX(december!$A:$O,ROW()-304,COLUMN($C:$C)))","v":""},"Variabel",{"$f":"IF(INDEX(december!$A:$O,ROW()-304,COLUMN(J:J))=\"\",\"\",IF(INDEX(december!$A:$O,ROW()-304,COLUMN(A:A))=\"\",\"\",INDEX(december!$A:$O,ROW()-304,COLUMN(A:A))))","v":""},"",null,"",null,null,null,{"$f":"IF($D337=\"\",\"\",IF(INDEX(december!$A:$O,ROW()-304,COLUMN($J:$J))=\"\",\"\",INDEX(december!$A:$O,ROW()-304,COLUMN($J:$J))))","v":""}]
[{"$f":"IF($D338=\"\",\"\",$A$2)","v":""},{"$f":"IF($D338=\"\",\"\",INDEX(december!$A:$O,ROW()-304,COLUMN($C:$C)))","v":""},"Variabel",{"$f":"IF(INDEX(december!$A:$O,ROW()-304,COLUMN(J:J))=\"\",\"\",IF(INDEX(december!$A:$O,ROW()-304,COLUMN(A:A))=\"\",\"\",INDEX(december!$A:$O,ROW()-304,COLUMN(A:A))))","v":""},{"$f":"IF($D338=\"\",\"\",$F$2)","v":""},null,"",null,null,null,{"$f":"IF($D338=\"\",\"\",IF(INDEX(december!$A:$O,ROW()-304,COLUMN($J:$J))=\"\",\"\",INDEX(december!$A:$O,ROW()-304,COLUMN($J:$J))))","v":""}]
["",{"$f":"IF($D339=\"\",\"\",INDEX(december!$A:$O,ROW()-304,COLUMN($C:$C)))","v":""},"Variabel",{"$f":"IF(INDEX(december!$A:$O,ROW()-304,COLUMN(J:J))=\"\",\"\",IF(INDEX(december!$A:$O,ROW()-304,COLUMN(A:A))=\"\",\"\",INDEX(december!$A:$O,ROW()-304,COLUMN(A:A))))","v":""},"",null,"",null,null,null,{"$f":"IF($D339=\"\",\"\",IF(INDEX(december!$A:$O,ROW()-304,COLUMN($J:$J))=\"\",\"\",INDEX(december!$A:$O,ROW()-304,COLUMN($J:$J))))","v":""}]
["",{"$f":"IF($D340=\"\",\"\",INDEX(december!$A:$O,ROW()-304,COLUMN($C:$C)))","v":""},"Variabel",{"$f":"IF(INDEX(december!$A:$O,ROW()-304,COLUMN(J:J))=\"\",\"\",IF(INDEX(december!$A:$O,ROW()-304,COLUMN(A:A))=\"\",\"\",INDEX(december!$A:$O,ROW()-304,COLUMN(A:A))))","v":""},"",null,"",null,null,null,{"$f":"IF($D340=\"\",\"\",IF(INDEX(december!$A:$O,ROW()-304,COLUMN($J:$J))=\"\",\"\",INDEX(december!$A:$O,ROW()-304,COLUMN($J:$J))))","v":""}]
["",{"$f":"IF($D341=\"\",\"\",INDEX(december!$A:$O,ROW()-304,COLUMN($C:$C)))","v":""},"Variabel",{"$f":"IF(INDEX(december!$A:$O,ROW()-304,COLUMN(J:J))=\"\",\"\",IF(INDEX(december!$A:$O,ROW()-304,COLUMN(A:A))=\"\",\"\",INDEX(december!$A:$O,ROW()-304,COLUMN(A:A))))","v":""},"",null,"",null,null,null,{"$f":"IF($D341=\"\",\"\",IF(INDEX(december!$A:$O,ROW()-304,COLUMN($J:$J))=\"\",\"\",INDEX(december!$A:$O,ROW()-304,COLUMN($J:$J))))","v":""}]
["",{"$f":"IF($D342=\"\",\"\",INDEX(december!$A:$O,ROW()-304,COLUMN($C:$C)))","v":""},"Variabel",{"$f":"IF(INDEX(december!$A:$O,ROW()-304,COLUMN(J:J))=\"\",\"\",IF(INDEX(december!$A:$O,ROW()-304,COLUMN(A:A))=\"\",\"\",INDEX(december!$A:$O,ROW()-304,COLUMN(A:A))))","v":""},"",null,"",null,null,null,{"$f":"IF($D342=\"\",\"\",IF(INDEX(december!$A:$O,ROW()-304,COLUMN($J:$J))=\"\",\"\",INDEX(december!$A:$O,ROW()-304,COLUMN($J:$J))))","v":""}]
["",{"$f":"IF($D343=\"\",\"\",INDEX(december!$A:$O,ROW()-304,COLUMN($C:$C)))","v":""},"Variabel",{"$f":"IF(INDEX(december!$A:$O,ROW()-304,COLUMN(J:J))=\"\",\"\",IF(INDEX(december!$A:$O,ROW()-304,COLUMN(A:A))=\"\",\"\",INDEX(december!$A:$O,ROW()-304,COLUMN(A:A))))","v":""},"",null,"",null,null,null,{"$f":"IF($D343=\"\",\"\",IF(INDEX(december!$A:$O,ROW()-304,COLUMN($J:$J))=\"\",\"\",INDEX(december!$A:$O,ROW()-304,COLUMN($J:$J))))","v":""}]
["",{"$f":"IF($D344=\"\",\"\",INDEX(december!$A:$O,ROW()-304,COLUMN($C:$C)))","v":""},"Variabel",{"$f":"IF(INDEX(december!$A:$O,ROW()-304,COLUMN(J:J))=\"\",\"\",IF(INDEX(december!$A:$O,ROW()-304,COLUMN(A:A))=\"\",\"\",INDEX(december!$A:$O,ROW()-304,COLUMN(A:A))))","v":""},"",null,"",null,null,null,{"$f":"IF($D344=\"\",\"\",IF(INDEX(december!$A:$O,ROW()-304,COLUMN($J:$J))=\"\",\"\",INDEX(december!$A:$O,ROW()-304,COLUMN($J:$J))))","v":""}]
["",{"$f":"IF($D345=\"\",\"\",INDEX(december!$A:$O,ROW()-304,COLUMN($C:$C)))","v":""},"Variabel",{"$f":"IF(INDEX(december!$A:$O,ROW()-304,COLUMN(J:J))=\"\",\"\",IF(INDEX(december!$A:$O,ROW()-304,COLUMN(A:A))=\"\",\"\",INDEX(december!$A:$O,ROW()-304,COLUMN(A:A))))","v":""},"",null,"",null,null,null,{"$f":"IF($D345=\"\",\"\",IF(INDEX(december!$A:$O,ROW()-304,COLUMN($J:$J))=\"\",\"\",INDEX(december!$A:$O,ROW()-304,COLUMN($J:$J))))","v":""}]
["",{"$f":"IF($D346=\"\",\"\",INDEX(december!$A:$O,ROW()-304,COLUMN($C:$C)))","v":""},"Variabel",{"$f":"IF(INDEX(december!$A:$O,ROW()-304,COLUMN(J:J))=\"\",\"\",IF(INDEX(december!$A:$O,ROW()-304,COLUMN(A:A))=\"\",\"\",INDEX(december!$A:$O,ROW()-304,COLUMN(A:A))))","v":""},"",null,"",null,null,null,{"$f":"IF($D346=\"\",\"\",IF(INDEX(december!$A:$O,ROW()-304,COLUMN($J:$J))=\"\",\"\",INDEX(december!$A:$O,ROW()-304,COLUMN($J:$J))))","v":""}]
["",{"$f":"IF($D347=\"\",\"\",INDEX(december!$A:$O,ROW()-304,COLUMN($C:$C)))","v":""},"Variabel",{"$f":"IF(INDEX(december!$A:$O,ROW()-304,COLUMN(J:J))=\"\",\"\",IF(INDEX(december!$A:$O,ROW()-304,COLUMN(A:A))=\"\",\"\",INDEX(december!$A:$O,ROW()-304,COLUMN(A:A))))","v":""},"",null,"",null,null,null,{"$f":"IF($D347=\"\",\"\",IF(INDEX(december!$A:$O,ROW()-304,COLUMN($J:$J))=\"\",\"\",INDEX(december!$A:$O,ROW()-304,COLUMN($J:$J))))","v":""}]
["",{"$f":"IF($D348=\"\",\"\",INDEX(december!$A:$O,ROW()-304,COLUMN($C:$C)))","v":""},"Variabel",{"$f":"IF(INDEX(december!$A:$O,ROW()-304,COLUMN(J:J))=\"\",\"\",IF(INDEX(december!$A:$O,ROW()-304,COLUMN(A:A))=\"\",\"\",INDEX(december!$A:$O,ROW()-304,COLUMN(A:A))))","v":""},"",null,"",null,null,null,{"$f":"IF($D348=\"\",\"\",IF(INDEX(december!$A:$O,ROW()-304,COLUMN($J:$J))=\"\",\"\",INDEX(december!$A:$O,ROW()-304,COLUMN($J:$J))))","v":""}]
["",{"$f":"IF($D349=\"\",\"\",INDEX(december!$A:$O,ROW()-304,COLUMN($C:$C)))","v":""},"Variabel",{"$f":"IF(INDEX(december!$A:$O,ROW()-304,COLUMN(J:J))=\"\",\"\",IF(INDEX(december!$A:$O,ROW()-304,COLUMN(A:A))=\"\",\"\",INDEX(december!$A:$O,ROW()-304,COLUMN(A:A))))","v":""},"",null,"",null,null,null,{"$f":"IF($D349=\"\",\"\",IF(INDEX(december!$A:$O,ROW()-304,COLUMN($J:$J))=\"\",\"\",INDEX(december!$A:$O,ROW()-304,COLUMN($J:$J))))","v":""}]
["",{"$f":"IF($D350=\"\",\"\",INDEX(december!$A:$O,ROW()-304,COLUMN($C:$C)))","v":""},"Variabel",{"$f":"IF(INDEX(december!$A:$O,ROW()-304,COLUMN(J:J))=\"\",\"\",IF(INDEX(december!$A:$O,ROW()-304,COLUMN(A:A))=\"\",\"\",INDEX(december!$A:$O,ROW()-304,COLUMN(A:A))))","v":""},"",null,"",null,null,null,{"$f":"IF($D350=\"\",\"\",IF(INDEX(december!$A:$O,ROW()-304,COLUMN($J:$J))=\"\",\"\",INDEX(december!$A:$O,ROW()-304,COLUMN($J:$J))))","v":""}]
["",{"$f":"IF($D351=\"\",\"\",INDEX(december!$A:$O,ROW()-304,COLUMN($C:$C)))","v":""},"Variabel",{"$f":"IF(INDEX(december!$A:$O,ROW()-304,COLUMN(J:J))=\"\",\"\",IF(INDEX(december!$A:$O,ROW()-304,COLUMN(A:A))=\"\",\"\",INDEX(december!$A:$O,ROW()-304,COLUMN(A:A))))","v":""},"",null,"",null,null,null,{"$f":"IF($D351=\"\",\"\",IF(INDEX(december!$A:$O,ROW()-304,COLUMN($J:$J))=\"\",\"\",INDEX(december!$A:$O,ROW()-304,COLUMN($J:$J))))","v":""}]
["",{"$f":"IF($D352=\"\",\"\",INDEX(december!$A:$O,ROW()-304,COLUMN($C:$C)))","v":""},"Variabel",{"$f":"IF(INDEX(december!$A:$O,ROW()-304,COLUMN(J:J))=\"\",\"\",IF(INDEX(december!$A:$O,ROW()-304,COLUMN(A:A))=\"\",\"\",INDEX(december!$A:$O,ROW()-304,COLUMN(A:A))))","v":""},"",null,"",null,null,null,{"$f":"IF($D352=\"\",\"\",IF(INDEX(december!$A:$O,ROW()-304,COLUMN($J:$J))=\"\",\"\",INDEX(december!$A:$O,ROW()-304,COLUMN($J:$J))))","v":""}]
["",{"$f":"IF($D353=\"\",\"\",INDEX(december!$A:$O,ROW()-304,COLUMN($C:$C)))","v":""},"Variabel",{"$f":"IF(INDEX(december!$A:$O,ROW()-304,COLUMN(J:J))=\"\",\"\",IF(INDEX(december!$A:$O,ROW()-304,COLUMN(A:A))=\"\",\"\",INDEX(december!$A:$O,ROW()-304,COLUMN(A:A))))","v":""},"",null,"",null,null,null,{"$f":"IF($D353=\"\",\"\",IF(INDEX(december!$A:$O,ROW()-304,COLUMN($J:$J))=\"\",\"\",INDEX(december!$A:$O,ROW()-304,COLUMN($J:$J))))","v":""}]
["",{"$f":"IF($D354=\"\",\"\",INDEX(december!$A:$O,ROW()-304,COLUMN($C:$C)))","v":""},"Variabel",{"$f":"IF(INDEX(december!$A:$O,ROW()-304,COLUMN(J:J))=\"\",\"\",IF(INDEX(december!$A:$O,ROW()-304,COLUMN(A:A))=\"\",\"\",INDEX(december!$A:$O,ROW()-304,COLUMN(A:A))))","v":""},"",null,"",null,null,null,{"$f":"IF($D354=\"\",\"\",IF(INDEX(december!$A:$O,ROW()-304,COLUMN($J:$J))=\"\",\"\",INDEX(december!$A:$O,ROW()-304,COLUMN($J:$J))))","v":""}]
["",{"$f":"IF($D355=\"\",\"\",INDEX(december!$A:$O,ROW()-304,COLUMN($C:$C)))","v":""},"Variabel",{"$f":"IF(INDEX(december!$A:$O,ROW()-304,COLUMN(J:J))=\"\",\"\",IF(INDEX(december!$A:$O,ROW()-304,COLUMN(A:A))=\"\",\"\",INDEX(december!$A:$O,ROW()-304,COLUMN(A:A))))","v":""},"",null,"",null,null,null,{"$f":"IF($D355=\"\",\"\",IF(INDEX(december!$A:$O,ROW()-304,COLUMN($J:$J))=\"\",\"\",INDEX(december!$A:$O,ROW()-304,COLUMN($J:$J))))","v":""}]
["",{"$f":"IF($D356=\"\",\"\",INDEX(december!$A:$O,ROW()-304,COLUMN($C:$C)))","v":""},"Variabel",{"$f":"IF(INDEX(december!$A:$O,ROW()-304,COLUMN(J:J))=\"\",\"\",IF(INDEX(december!$A:$O,ROW()-304,COLUMN(A:A))=\"\",\"\",INDEX(december!$A:$O,ROW()-304,COLUMN(A:A))))","v":""},"",null,"",null,null,null,{"$f":"IF($D356=\"\",\"\",IF(INDEX(december!$A:$O,ROW()-304,COLUMN($J:$J))=\"\",\"\",INDEX(december!$A:$O,ROW()-304,COLUMN($J:$J))))","v":""}]
["",{"$f":"IF($D357=\"\",\"\",INDEX(december!$A:$O,ROW()-304,COLUMN($C:$C)))","v":""},"Variabel",{"$f":"IF(INDEX(december!$A:$O,ROW()-304,COLUMN(J:J))=\"\",\"\",IF(INDEX(december!$A:$O,ROW()-304,COLUMN(A:A))=\"\",\"\",INDEX(december!$A:$O,ROW()-304,COLUMN(A:A))))","v":""},"",null,"",null,null,null,{"$f":"IF($D357=\"\",\"\",IF(INDEX(december!$A:$O,ROW()-304,COLUMN($J:$J))=\"\",\"\",INDEX(december!$A:$O,ROW()-304,COLUMN($J:$J))))","v":""}]
["",{"$f":"IF($D358=\"\",\"\",INDEX(december!$A:$O,ROW()-304,COLUMN($C:$C)))","v":""},"Variabel",{"$f":"IF(INDEX(december!$A:$O,ROW()-304,COLUMN(J:J))=\"\",\"\",IF(INDEX(december!$A:$O,ROW()-304,COLUMN(A:A))=\"\",\"\",INDEX(december!$A:$O,ROW()-304,COLUMN(A:A))))","v":""},"",null,"",null,null,null,{"$f":"IF($D358=\"\",\"\",IF(INDEX(december!$A:$O,ROW()-304,COLUMN($J:$J))=\"\",\"\",INDEX(december!$A:$O,ROW()-304,COLUMN($J:$J))))","v":""}]
["",{"$f":"IF($D359=\"\",\"\",INDEX(december!$A:$O,ROW()-304,COLUMN($C:$C)))","v":""},"Variabel",{"$f":"IF(INDEX(december!$A:$O,ROW()-304,COLUMN(J:J))=\"\",\"\",IF(INDEX(december!$A:$O,ROW()-304,COLUMN(A:A))=\"\",\"\",INDEX(december!$A:$O,ROW()-304,COLUMN(A:A))))","v":""},"",null,"",null,null,null,{"$f":"IF($D359=\"\",\"\",IF(INDEX(december!$A:$O,ROW()-304,COLUMN($J:$J))=\"\",\"\",INDEX(december!$A:$O,ROW()-304,COLUMN($J:$J))))","v":""}]
["",{"$f":"IF($D360=\"\",\"\",INDEX(december!$A:$O,ROW()-304,COLUMN($C:$C)))","v":""},"Variabel",{"$f":"IF(INDEX(december!$A:$O,ROW()-304,COLUMN(J:J))=\"\",\"\",IF(INDEX(december!$A:$O,ROW()-304,COLUMN(A:A))=\"\",\"\",INDEX(december!$A:$O,ROW()-304,COLUMN(A:A))))","v":""},"",null,"",null,null,null,{"$f":"IF($D360=\"\",\"\",IF(INDEX(december!$A:$O,ROW()-304,COLUMN($J:$J))=\"\",\"\",INDEX(december!$A:$O,ROW()-304,COLUMN($J:$J))))","v":""}]
["",{"$f":"IF($D361=\"\",\"\",INDEX(december!$A:$O,ROW()-304,COLUMN($C:$C)))","v":""},"Variabel",{"$f":"IF(INDEX(december!$A:$O,ROW()-304,COLUMN(J:J))=\"\",\"\",IF(INDEX(december!$A:$O,ROW()-304,COLUMN(A:A))=\"\",\"\",INDEX(december!$A:$O,ROW()-304,COLUMN(A:A))))","v":""},"",null,"",null,null,null,{"$f":"IF($D361=\"\",\"\",IF(INDEX(december!$A:$O,ROW()-304,COLUMN($J:$J))=\"\",\"\",INDEX(december!$A:$O,ROW()-304,COLUMN($J:$J))))","v":""}]
["",{"$f":"IF($D362=\"\",\"\",INDEX(december!$A:$O,ROW()-304,COLUMN($C:$C)))","v":""},"Variabel",{"$f":"IF(INDEX(december!$A:$O,ROW()-304,COLUMN(J:J))=\"\",\"\",IF(INDEX(december!$A:$O,ROW()-304,COLUMN(A:A))=\"\",\"\",INDEX(december!$A:$O,ROW()-304,COLUMN(A:A))))","v":""},"",null,"",null,null,null,{"$f":"IF($D362=\"\",\"\",IF(INDEX(december!$A:$O,ROW()-304,COLUMN($J:$J))=\"\",\"\",INDEX(december!$A:$O,ROW()-304,COLUMN($J:$J))))","v":""}]
["",{"$f":"IF($D363=\"\",\"\",INDEX(december!$A:$O,ROW()-304,COLUMN($C:$C)))","v":""},"Variabel",{"$f":"IF(INDEX(december!$A:$O,ROW()-304,COLUMN(J:J))=\"\",\"\",IF(INDEX(december!$A:$O,ROW()-304,COLUMN(A:A))=\"\",\"\",INDEX(december!$A:$O,ROW()-304,COLUMN(A:A))))","v":""},"",null,"",null,null,null,{"$f":"IF($D363=\"\",\"\",IF(INDEX(december!$A:$O,ROW()-304,COLUMN($J:$J))=\"\",\"\",INDEX(december!$A:$O,ROW()-304,COLUMN($J:$J))))","v":""}]
["",{"$f":"IF($D364=\"\",\"\",INDEX(december!$A:$O,ROW()-304,COLUMN($C:$C)))","v":""},"Variabel",{"$f":"IF(INDEX(december!$A:$O,ROW()-304,COLUMN(J:J))=\"\",\"\",IF(INDEX(december!$A:$O,ROW()-304,COLUMN(A:A))=\"\",\"\",INDEX(december!$A:$O,ROW()-304,COLUMN(A:A))))","v":""},"",null,"",null,null,null,{"$f":"IF($D364=\"\",\"\",IF(INDEX(december!$A:$O,ROW()-304,COLUMN($J:$J))=\"\",\"\",INDEX(december!$A:$O,ROW()-304,COLUMN($J:$J))))","v":""}]
["",{"$f":"IF($D365=\"\",\"\",INDEX(december!$A:$O,ROW()-304,COLUMN($C:$C)))","v":""},"Variabel",{"$f":"IF(INDEX(december!$A:$O,ROW()-304,COLUMN(J:J))=\"\",\"\",IF(INDEX(december!$A:$O,ROW()-304,COLUMN(A:A))=\"\",\"\",INDEX(december!$A:$O,ROW()-304,COLUMN(A:A))))","v":""},"",null,"",null,null,null,{"$f":"IF($D365=\"\",\"\",IF(INDEX(december!$A:$O,ROW()-304,COLUMN($J:$J))=\"\",\"\",INDEX(december!$A:$O,ROW()-304,COLUMN($J:$J))))","v":""}]
["",{"$f":"IF($D366=\"\",\"\",INDEX(december!$A:$O,ROW()-304,COLUMN($C:$C)))","v":""},"Variabel",{"$f":"IF(INDEX(december!$A:$O,ROW()-304,COLUMN(J:J))=\"\",\"\",IF(INDEX(december!$A:$O,ROW()-304,COLUMN(A:A))=\"\",\"\",INDEX(december!$A:$O,ROW()-304,COLUMN(A:A))))","v":""},"",null,"",null,null,null,{"$f":"IF($D366=\"\",\"\",IF(INDEX(december!$A:$O,ROW()-304,COLUMN($J:$J))=\"\",\"\",INDEX(december!$A:$O,ROW()-304,COLUMN($J:$J))))","v":""}]
["",{"$f":"IF($D367=\"\",\"\",INDEX(december!$A:$O,ROW()-304,COLUMN($C:$C)))","v":""},"Variabel",{"$f":"IF(INDEX(december!$A:$O,ROW()-304,COLUMN(J:J))=\"\",\"\",IF(INDEX(december!$A:$O,ROW()-304,COLUMN(A:A))=\"\",\"\",INDEX(december!$A:$O,ROW()-304,COLUMN(A:A))))","v":""},"",null,"",null,null,null,{"$f":"IF($D367=\"\",\"\",IF(INDEX(december!$A:$O,ROW()-304,COLUMN($J:$J))=\"\",\"\",INDEX(december!$A:$O,ROW()-304,COLUMN($J:$J))))","v":""}]
["",{"$f":"IF($D368=\"\",\"\",INDEX(december!$A:$O,ROW()-304,COLUMN($C:$C)))","v":""},"Variabel",{"$f":"IF(INDEX(december!$A:$O,ROW()-304,COLUMN(J:J))=\"\",\"\",IF(INDEX(december!$A:$O,ROW()-304,COLUMN(A:A))=\"\",\"\",INDEX(december!$A:$O,ROW()-304,COLUMN(A:A))))","v":""},"",null,"",null,null,null,{"$f":"IF($D368=\"\",\"\",IF(INDEX(december!$A:$O,ROW()-304,COLUMN($J:$J))=\"\",\"\",INDEX(december!$A:$O,ROW()-304,COLUMN($J:$J))))","v":""}]
["",{"$f":"IF($D369=\"\",\"\",INDEX(december!$A:$O,ROW()-304,COLUMN($C:$C)))","v":""},"Variabel",{"$f":"IF(INDEX(december!$A:$O,ROW()-304,COLUMN(J:J))=\"\",\"\",IF(INDEX(december!$A:$O,ROW()-304,COLUMN(A:A))=\"\",\"\",INDEX(december!$A:$O,ROW()-304,COLUMN(A:A))))","v":""},"",null,"",null,null,null,{"$f":"IF($D369=\"\",\"\",IF(INDEX(december!$A:$O,ROW()-304,COLUMN($J:$J))=\"\",\"\",INDEX(december!$A:$O,ROW()-304,COLUMN($J:$J))))","v":""}]
[{"$f":"IF($D370=\"\",\"\",$A$2)","v":""},{"$f":"IF($D370=\"\",\"\",INDEX(december!$A:$O,ROW()-304,COLUMN($C:$C)))","v":""},"Variabel",{"$f":"IF(INDEX(december!$A:$O,ROW()-304,COLUMN(J:J))=\"\",\"\",IF(INDEX(december!$A:$O,ROW()-304,COLUMN(A:A))=\"\",\"\",INDEX(december!$A:$O,ROW()-304,COLUMN(A:A))))","v":""},{"$f":"IF($D370=\"\",\"\",$F$2)","v":""},null,"",null,null,null,{"$f":"IF($D370=\"\",\"\",IF(INDEX(december!$A:$O,ROW()-304,COLUMN($J:$J))=\"\",\"\",INDEX(december!$A:$O,ROW()-304,COLUMN($J:$J))))","v":""}]
["",{"$f":"IF($D371=\"\",\"\",INDEX(december!$A:$O,ROW()-304,COLUMN($C:$C)))","v":""},"Variabel",{"$f":"IF(INDEX(december!$A:$O,ROW()-304,COLUMN(J:J))=\"\",\"\",IF(INDEX(december!$A:$O,ROW()-304,COLUMN(A:A))=\"\",\"\",INDEX(december!$A:$O,ROW()-304,COLUMN(A:A))))","v":""},"",null,{"$f":"IF($D371=\"\",\"\",5500)","v":""},null,null,null,{"$f":"IF($D371=\"\",\"\",IF(INDEX(december!$A:$O,ROW()-304,COLUMN($J:$J))=\"\",\"\",INDEX(december!$A:$O,ROW()-304,COLUMN($J:$J))))","v":""}]
["",{"$f":"IF($D372=\"\",\"\",INDEX(december!$A:$O,ROW()-304,COLUMN($C:$C)))","v":""},"Variabel",{"$f":"IF(INDEX(december!$A:$O,ROW()-304,COLUMN(J:J))=\"\",\"\",IF(INDEX(december!$A:$O,ROW()-304,COLUMN(A:A))=\"\",\"\",INDEX(december!$A:$O,ROW()-304,COLUMN(A:A))))","v":""},"",null,"",null,null,null,{"$f":"IF($D372=\"\",\"\",IF(INDEX(december!$A:$O,ROW()-304,COLUMN($J:$J))=\"\",\"\",INDEX(december!$A:$O,ROW()-304,COLUMN($J:$J))))","v":""}]
["",{"$f":"IF($D373=\"\",\"\",INDEX(december!$A:$O,ROW()-304,COLUMN($C:$C)))","v":""},"Variabel",{"$f":"IF(INDEX(december!$A:$O,ROW()-304,COLUMN(J:J))=\"\",\"\",IF(INDEX(december!$A:$O,ROW()-304,COLUMN(A:A))=\"\",\"\",INDEX(december!$A:$O,ROW()-304,COLUMN(A:A))))","v":""},"",null,"",null,null,null,{"$f":"IF($D373=\"\",\"\",IF(INDEX(december!$A:$O,ROW()-304,COLUMN($J:$J))=\"\",\"\",INDEX(december!$A:$O,ROW()-304,COLUMN($J:$J))))","v":""}]
["",{"$f":"IF($D374=\"\",\"\",INDEX(december!$A:$O,ROW()-304,COLUMN($C:$C)))","v":""},"Variabel",{"$f":"IF(INDEX(december!$A:$O,ROW()-304,COLUMN(J:J))=\"\",\"\",IF(INDEX(december!$A:$O,ROW()-304,COLUMN(A:A))=\"\",\"\",INDEX(december!$A:$O,ROW()-304,COLUMN(A:A))))","v":""},"",null,"",null,null,null,{"$f":"IF($D374=\"\",\"\",IF(INDEX(december!$A:$O,ROW()-304,COLUMN($J:$J))=\"\",\"\",INDEX(december!$A:$O,ROW()-304,COLUMN($J:$J))))","v":""}]
["",{"$f":"IF($D375=\"\",\"\",INDEX(december!$A:$O,ROW()-304,COLUMN($C:$C)))","v":""},"Variabel",{"$f":"IF(INDEX(december!$A:$O,ROW()-304,COLUMN(J:J))=\"\",\"\",IF(INDEX(december!$A:$O,ROW()-304,COLUMN(A:A))=\"\",\"\",INDEX(december!$A:$O,ROW()-304,COLUMN(A:A))))","v":""},"",null,"",null,null,null,{"$f":"IF($D375=\"\",\"\",IF(INDEX(december!$A:$O,ROW()-304,COLUMN($J:$J))=\"\",\"\",INDEX(december!$A:$O,ROW()-304,COLUMN($J:$J))))","v":""}]
["",{"$f":"IF($D376=\"\",\"\",INDEX(december!$A:$O,ROW()-304,COLUMN($C:$C)))","v":""},"Variabel",{"$f":"IF(INDEX(december!$A:$O,ROW()-304,COLUMN(J:J))=\"\",\"\",IF(INDEX(december!$A:$O,ROW()-304,COLUMN(A:A))=\"\",\"\",INDEX(december!$A:$O,ROW()-304,COLUMN(A:A))))","v":""},"",null,"",null,null,null,{"$f":"IF($D376=\"\",\"\",IF(INDEX(december!$A:$O,ROW()-304,COLUMN($J:$J))=\"\",\"\",INDEX(december!$A:$O,ROW()-304,COLUMN($J:$J))))","v":""}]
["",{"$f":"IF($D377=\"\",\"\",INDEX(december!$A:$O,ROW()-304,COLUMN($C:$C)))","v":""},"Variabel",{"$f":"IF(INDEX(december!$A:$O,ROW()-304,COLUMN(J:J))=\"\",\"\",IF(INDEX(december!$A:$O,ROW()-304,COLUMN(A:A))=\"\",\"\",INDEX(december!$A:$O,ROW()-304,COLUMN(A:A))))","v":""},"",null,"",null,null,null,{"$f":"IF($D377=\"\",\"\",IF(INDEX(december!$A:$O,ROW()-304,COLUMN($J:$J))=\"\",\"\",INDEX(december!$A:$O,ROW()-304,COLUMN($J:$J))))","v":""}]
["",{"$f":"IF($D378=\"\",\"\",INDEX(december!$A:$O,ROW()-304,COLUMN($C:$C)))","v":""},"Variabel",{"$f":"IF(INDEX(december!$A:$O,ROW()-304,COLUMN(J:J))=\"\",\"\",IF(INDEX(december!$A:$O,ROW()-304,COLUMN(A:A))=\"\",\"\",INDEX(december!$A:$O,ROW()-304,COLUMN(A:A))))","v":""},"",null,"",null,null,null,{"$f":"IF($D378=\"\",\"\",IF(INDEX(december!$A:$O,ROW()-304,COLUMN($J:$J))=\"\",\"\",INDEX(december!$A:$O,ROW()-304,COLUMN($J:$J))))","v":""}]
["",{"$f":"IF($D379=\"\",\"\",INDEX(december!$A:$O,ROW()-304,COLUMN($C:$C)))","v":""},"Variabel",{"$f":"IF(INDEX(december!$A:$O,ROW()-304,COLUMN(J:J))=\"\",\"\",IF(INDEX(december!$A:$O,ROW()-304,COLUMN(A:A))=\"\",\"\",INDEX(december!$A:$O,ROW()-304,COLUMN(A:A))))","v":""},"",null,"",null,null,null,{"$f":"IF($D379=\"\",\"\",IF(INDEX(december!$A:$O,ROW()-304,COLUMN($J:$J))=\"\",\"\",INDEX(december!$A:$O,ROW()-304,COLUMN($J:$J))))","v":""}]
["",{"$f":"IF($D380=\"\",\"\",INDEX(december!$A:$O,ROW()-304,COLUMN($C:$C)))","v":""},"Variabel",{"$f":"IF(INDEX(december!$A:$O,ROW()-304,COLUMN(J:J))=\"\",\"\",IF(INDEX(december!$A:$O,ROW()-304,COLUMN(A:A))=\"\",\"\",INDEX(december!$A:$O,ROW()-304,COLUMN(A:A))))","v":""},"",null,"",null,null,null,{"$f":"IF($D380=\"\",\"\",IF(INDEX(december!$A:$O,ROW()-304,COLUMN($J:$J))=\"\",\"\",INDEX(december!$A:$O,ROW()-304,COLUMN($J:$J))))","v":""}]
["",{"$f":"IF($D381=\"\",\"\",INDEX(december!$A:$O,ROW()-304,COLUMN($C:$C)))","v":""},"Variabel",{"$f":"IF(INDEX(december!$A:$O,ROW()-304,COLUMN(J:J))=\"\",\"\",IF(INDEX(december!$A:$O,ROW()-304,COLUMN(A:A))=\"\",\"\",INDEX(december!$A:$O,ROW()-304,COLUMN(A:A))))","v":""},"",null,"",null,null,null,{"$f":"IF($D381=\"\",\"\",IF(INDEX(december!$A:$O,ROW()-304,COLUMN($J:$J))=\"\",\"\",INDEX(december!$A:$O,ROW()-304,COLUMN($J:$J))))","v":""}]
["",{"$f":"IF($D382=\"\",\"\",INDEX(december!$A:$O,ROW()-304,COLUMN($C:$C)))","v":""},"Variabel",{"$f":"IF(INDEX(december!$A:$O,ROW()-304,COLUMN(J:J))=\"\",\"\",IF(INDEX(december!$A:$O,ROW()-304,COLUMN(A:A))=\"\",\"\",INDEX(december!$A:$O,ROW()-304,COLUMN(A:A))))","v":""},"",null,"",null,null,null,{"$f":"IF($D382=\"\",\"\",IF(INDEX(december!$A:$O,ROW()-304,COLUMN($J:$J))=\"\",\"\",INDEX(december!$A:$O,ROW()-304,COLUMN($J:$J))))","v":""}]
["",{"$f":"IF($D383=\"\",\"\",INDEX(december!$A:$O,ROW()-304,COLUMN($C:$C)))","v":""},"Variabel",{"$f":"IF(INDEX(december!$A:$O,ROW()-304,COLUMN(J:J))=\"\",\"\",IF(INDEX(december!$A:$O,ROW()-304,COLUMN(A:A))=\"\",\"\",INDEX(december!$A:$O,ROW()-304,COLUMN(A:A))))","v":""},"",null,"",null,null,null,{"$f":"IF($D383=\"\",\"\",IF(INDEX(december!$A:$O,ROW()-304,COLUMN($J:$J))=\"\",\"\",INDEX(december!$A:$O,ROW()-304,COLUMN($J:$J))))","v":""}]
["",{"$f":"IF($D384=\"\",\"\",INDEX(december!$A:$O,ROW()-304,COLUMN($C:$C)))","v":""},"Variabel",{"$f":"IF(INDEX(december!$A:$O,ROW()-304,COLUMN(J:J))=\"\",\"\",IF(INDEX(december!$A:$O,ROW()-304,COLUMN(A:A))=\"\",\"\",INDEX(december!$A:$O,ROW()-304,COLUMN(A:A))))","v":""},"",null,"",null,null,null,{"$f":"IF($D384=\"\",\"\",IF(INDEX(december!$A:$O,ROW()-304,COLUMN($J:$J))=\"\",\"\",INDEX(december!$A:$O,ROW()-304,COLUMN($J:$J))))","v":""}]
["",{"$f":"IF($D385=\"\",\"\",INDEX(december!$A:$O,ROW()-304,COLUMN($C:$C)))","v":""},"Variabel",{"$f":"IF(INDEX(december!$A:$O,ROW()-304,COLUMN(J:J))=\"\",\"\",IF(INDEX(december!$A:$O,ROW()-304,COLUMN(A:A))=\"\",\"\",INDEX(december!$A:$O,ROW()-304,COLUMN(A:A))))","v":""},"",null,"",null,null,null,{"$f":"IF($D385=\"\",\"\",IF(INDEX(december!$A:$O,ROW()-304,COLUMN($J:$J))=\"\",\"\",INDEX(december!$A:$O,ROW()-304,COLUMN($J:$J))))","v":""}]
["",{"$f":"IF($D386=\"\",\"\",INDEX(december!$A:$O,ROW()-304,COLUMN($C:$C)))","v":""},"Variabel",{"$f":"IF(INDEX(december!$A:$O,ROW()-304,COLUMN(J:J))=\"\",\"\",IF(INDEX(december!$A:$O,ROW()-304,COLUMN(A:A))=\"\",\"\",INDEX(december!$A:$O,ROW()-304,COLUMN(A:A))))","v":""},"",null,"",null,null,null,{"$f":"IF($D386=\"\",\"\",IF(INDEX(december!$A:$O,ROW()-304,COLUMN($J:$J))=\"\",\"\",INDEX(december!$A:$O,ROW()-304,COLUMN($J:$J))))","v":""}]
["",{"$f":"IF($D387=\"\",\"\",INDEX(december!$A:$O,ROW()-304,COLUMN($C:$C)))","v":""},"Variabel",{"$f":"IF(INDEX(december!$A:$O,ROW()-304,COLUMN(J:J))=\"\",\"\",IF(INDEX(december!$A:$O,ROW()-304,COLUMN(A:A))=\"\",\"\",INDEX(december!$A:$O,ROW()-304,COLUMN(A:A))))","v":""},"",null,"",null,null,null,{"$f":"IF($D387=\"\",\"\",IF(INDEX(december!$A:$O,ROW()-304,COLUMN($J:$J))=\"\",\"\",INDEX(december!$A:$O,ROW()-304,COLUMN($J:$J))))","v":""}]
["",{"$f":"IF($D388=\"\",\"\",INDEX(december!$A:$O,ROW()-304,COLUMN($C:$C)))","v":""},"Variabel",{"$f":"IF(INDEX(december!$A:$O,ROW()-304,COLUMN(J:J))=\"\",\"\",IF(INDEX(december!$A:$O,ROW()-304,COLUMN(A:A))=\"\",\"\",INDEX(december!$A:$O,ROW()-304,COLUMN(A:A))))","v":""},"",null,"",null,null,null,{"$f":"IF($D388=\"\",\"\",IF(INDEX(december!$A:$O,ROW()-304,COLUMN($J:$J))=\"\",\"\",INDEX(december!$A:$O,ROW()-304,COLUMN($J:$J))))","v":""}]
["",{"$f":"IF($D389=\"\",\"\",INDEX(december!$A:$O,ROW()-304,COLUMN($C:$C)))","v":""},"Variabel",{"$f":"IF(INDEX(december!$A:$O,ROW()-304,COLUMN(J:J))=\"\",\"\",IF(INDEX(december!$A:$O,ROW()-304,COLUMN(A:A))=\"\",\"\",INDEX(december!$A:$O,ROW()-304,COLUMN(A:A))))","v":""},"",null,"",null,null,null,{"$f":"IF($D389=\"\",\"\",IF(INDEX(december!$A:$O,ROW()-304,COLUMN($J:$J))=\"\",\"\",INDEX(december!$A:$O,ROW()-304,COLUMN($J:$J))))","v":""}]
["",{"$f":"IF($D390=\"\",\"\",INDEX(december!$A:$O,ROW()-304,COLUMN($C:$C)))","v":""},"Variabel",{"$f":"IF(INDEX(december!$A:$O,ROW()-304,COLUMN(J:J))=\"\",\"\",IF(INDEX(december!$A:$O,ROW()-304,COLUMN(A:A))=\"\",\"\",INDEX(december!$A:$O,ROW()-304,COLUMN(A:A))))","v":""},"",null,"",null,null,null,{"$f":"IF($D390=\"\",\"\",IF(INDEX(december!$A:$O,ROW()-304,COLUMN($J:$J))=\"\",\"\",INDEX(december!$A:$O,ROW()-304,COLUMN($J:$J))))","v":""}]
["",{"$f":"IF($D391=\"\",\"\",INDEX(december!$A:$O,ROW()-304,COLUMN($C:$C)))","v":""},"Variabel",{"$f":"IF(INDEX(december!$A:$O,ROW()-304,COLUMN(J:J))=\"\",\"\",IF(INDEX(december!$A:$O,ROW()-304,COLUMN(A:A))=\"\",\"\",INDEX(december!$A:$O,ROW()-304,COLUMN(A:A))))","v":""},"",null,"",null,null,null,{"$f":"IF($D391=\"\",\"\",IF(INDEX(december!$A:$O,ROW()-304,COLUMN($J:$J))=\"\",\"\",INDEX(december!$A:$O,ROW()-304,COLUMN($J:$J))))","v":""}]
["",{"$f":"IF($D392=\"\",\"\",INDEX(december!$A:$O,ROW()-304,COLUMN($C:$C)))","v":""},"Variabel",{"$f":"IF(INDEX(december!$A:$O,ROW()-304,COLUMN(J:J))=\"\",\"\",IF(INDEX(december!$A:$O,ROW()-304,COLUMN(A:A))=\"\",\"\",INDEX(december!$A:$O,ROW()-304,COLUMN(A:A))))","v":""},"",null,"",null,null,null,{"$f":"IF($D392=\"\",\"\",IF(INDEX(december!$A:$O,ROW()-304,COLUMN($J:$J))=\"\",\"\",INDEX(december!$A:$O,ROW()-304,COLUMN($J:$J))))","v":""}]
["",{"$f":"IF($D393=\"\",\"\",INDEX(december!$A:$O,ROW()-304,COLUMN($C:$C)))","v":""},"Variabel",{"$f":"IF(INDEX(december!$A:$O,ROW()-304,COLUMN(J:J))=\"\",\"\",IF(INDEX(december!$A:$O,ROW()-304,COLUMN(A:A))=\"\",\"\",INDEX(december!$A:$O,ROW()-304,COLUMN(A:A))))","v":""},"",null,"",null,null,null,{"$f":"IF($D393=\"\",\"\",IF(INDEX(december!$A:$O,ROW()-304,COLUMN($J:$J))=\"\",\"\",INDEX(december!$A:$O,ROW()-304,COLUMN($J:$J))))","v":""}]
["",{"$f":"IF($D394=\"\",\"\",INDEX(december!$A:$O,ROW()-304,COLUMN($C:$C)))","v":""},"Variabel",{"$f":"IF(INDEX(december!$A:$O,ROW()-304,COLUMN(J:J))=\"\",\"\",IF(INDEX(december!$A:$O,ROW()-304,COLUMN(A:A))=\"\",\"\",INDEX(december!$A:$O,ROW()-304,COLUMN(A:A))))","v":""},"",null,"",null,null,null,{"$f":"IF($D394=\"\",\"\",IF(INDEX(december!$A:$O,ROW()-304,COLUMN($J:$J))=\"\",\"\",INDEX(december!$A:$O,ROW()-304,COLUMN($J:$J))))","v":""}]
["",{"$f":"IF($D395=\"\",\"\",INDEX(december!$A:$O,ROW()-304,COLUMN($C:$C)))","v":""},"Variabel",{"$f":"IF(INDEX(december!$A:$O,ROW()-304,COLUMN(J:J))=\"\",\"\",IF(INDEX(december!$A:$O,ROW()-304,COLUMN(A:A))=\"\",\"\",INDEX(december!$A:$O,ROW()-304,COLUMN(A:A))))","v":""},"",null,"",null,null,null,{"$f":"IF($D395=\"\",\"\",IF(INDEX(december!$A:$O,ROW()-304,COLUMN($J:$J))=\"\",\"\",INDEX(december!$A:$O,ROW()-304,COLUMN($J:$J))))","v":""}]
["",{"$f":"IF($D396=\"\",\"\",INDEX(december!$A:$O,ROW()-304,COLUMN($C:$C)))","v":""},"Variabel",{"$f":"IF(INDEX(december!$A:$O,ROW()-304,COLUMN(J:J))=\"\",\"\",IF(INDEX(december!$A:$O,ROW()-304,COLUMN(A:A))=\"\",\"\",INDEX(december!$A:$O,ROW()-304,COLUMN(A:A))))","v":""},"",null,"",null,null,null,{"$f":"IF($D396=\"\",\"\",IF(INDEX(december!$A:$O,ROW()-304,COLUMN($J:$J))=\"\",\"\",INDEX(december!$A:$O,ROW()-304,COLUMN($J:$J))))","v":""}]
["",{"$f":"IF($D397=\"\",\"\",INDEX(december!$A:$O,ROW()-304,COLUMN($C:$C)))","v":""},"Variabel",{"$f":"IF(INDEX(december!$A:$O,ROW()-304,COLUMN(J:J))=\"\",\"\",IF(INDEX(december!$A:$O,ROW()-304,COLUMN(A:A))=\"\",\"\",INDEX(december!$A:$O,ROW()-304,COLUMN(A:A))))","v":""},"",null,"",null,null,null,{"$f":"IF($D397=\"\",\"\",IF(INDEX(december!$A:$O,ROW()-304,COLUMN($J:$J))=\"\",\"\",INDEX(december!$A:$O,ROW()-304,COLUMN($J:$J))))","v":""}]
["",{"$f":"IF($D398=\"\",\"\",INDEX(december!$A:$O,ROW()-304,COLUMN($C:$C)))","v":""},"Variabel",{"$f":"IF(INDEX(december!$A:$O,ROW()-304,COLUMN(J:J))=\"\",\"\",IF(INDEX(december!$A:$O,ROW()-304,COLUMN(A:A))=\"\",\"\",INDEX(december!$A:$O,ROW()-304,COLUMN(A:A))))","v":""},"",null,"",null,null,null,{"$f":"IF($D398=\"\",\"\",IF(INDEX(december!$A:$O,ROW()-304,COLUMN($J:$J))=\"\",\"\",INDEX(december!$A:$O,ROW()-304,COLUMN($J:$J))))","v":""}]
["",{"$f":"IF($D399=\"\",\"\",INDEX(december!$A:$O,ROW()-304,COLUMN($C:$C)))","v":""},"Variabel",{"$f":"IF(INDEX(december!$A:$O,ROW()-304,COLUMN(J:J))=\"\",\"\",IF(INDEX(december!$A:$O,ROW()-304,COLUMN(A:A))=\"\",\"\",INDEX(december!$A:$O,ROW()-304,COLUMN(A:A))))","v":""},"",null,"",null,null,null,{"$f":"IF($D399=\"\",\"\",IF(INDEX(december!$A:$O,ROW()-304,COLUMN($J:$J))=\"\",\"\",INDEX(december!$A:$O,ROW()-304,COLUMN($J:$J))))","v":""}]
["",{"$f":"IF($D400=\"\",\"\",INDEX(december!$A:$O,ROW()-304,COLUMN($C:$C)))","v":""},"Variabel",{"$f":"IF(INDEX(december!$A:$O,ROW()-304,COLUMN(J:J))=\"\",\"\",IF(INDEX(december!$A:$O,ROW()-304,COLUMN(A:A))=\"\",\"\",INDEX(december!$A:$O,ROW()-304,COLUMN(A:A))))","v":""},"",null,"",null,null,null,{"$f":"IF($D400=\"\",\"\",IF(INDEX(december!$A:$O,ROW()-304,COLUMN($J:$J))=\"\",\"\",INDEX(december!$A:$O,ROW()-304,COLUMN($J:$J))))","v":""}]
["",{"$f":"IF($D401=\"\",\"\",INDEX(december!$A:$O,ROW()-304,COLUMN($C:$C)))","v":""},"Variabel",{"$f":"IF(INDEX(december!$A:$O,ROW()-304,COLUMN(J:J))=\"\",\"\",IF(INDEX(december!$A:$O,ROW()-304,COLUMN(A:A))=\"\",\"\",INDEX(december!$A:$O,ROW()-304,COLUMN(A:A))))","v":""},"",null,"",null,null,null,{"$f":"IF($D401=\"\",\"\",IF(INDEX(december!$A:$O,ROW()-304,COLUMN($J:$J))=\"\",\"\",INDEX(december!$A:$O,ROW()-304,COLUMN($J:$J))))","v":""}]
["",{"$f":"IF($D402=\"\",\"\",INDEX(december!$A:$O,ROW()-304,COLUMN($C:$C)))","v":""},"Variabel",{"$f":"IF(INDEX(december!$A:$O,ROW()-304,COLUMN(J:J))=\"\",\"\",IF(INDEX(december!$A:$O,ROW()-304,COLUMN(A:A))=\"\",\"\",INDEX(december!$A:$O,ROW()-304,COLUMN(A:A))))","v":""},"",null,"",null,null,null,{"$f":"IF($D402=\"\",\"\",IF(INDEX(december!$A:$O,ROW()-304,COLUMN($J:$J))=\"\",\"\",INDEX(december!$A:$O,ROW()-304,COLUMN($J:$J))))","v":""}]
["",{"$f":"IF($D403=\"\",\"\",INDEX(december!$A:$O,ROW()-304,COLUMN($C:$C)))","v":""},"Variabel",{"$f":"IF(INDEX(december!$A:$O,ROW()-304,COLUMN(J:J))=\"\",\"\",IF(INDEX(december!$A:$O,ROW()-304,COLUMN(A:A))=\"\",\"\",INDEX(december!$A:$O,ROW()-304,COLUMN(A:A))))","v":""},"",null,"",null,null,null,{"$f":"IF($D403=\"\",\"\",IF(INDEX(december!$A:$O,ROW()-304,COLUMN($J:$J))=\"\",\"\",INDEX(december!$A:$O,ROW()-304,COLUMN($J:$J))))","v":""}]
[]
[null,"Km-godtgørelse:"]
[{"$f":"IF($D406=\"\",\"\",$A$2)","v":""},{"$f":"IF($D406=\"\",\"\",INDEX(december!$A:$O,ROW()-404,COLUMN($C:$C)))","v":""},"Variabel",{"$f":"IF(INDEX(december!$A:$O,ROW()-404,COLUMN(K:K))=\"\",\"\",IF(INDEX(december!$A:$O,ROW()-404,COLUMN(A:A))=\"\",\"\",INDEX(december!$A:$O,ROW()-404,COLUMN(A:A))))","v":""},{"$f":"IF($D406=\"\",\"\",$F$2)","v":""},null,{"$f":"IF($D406=\"\",\"\",9011)","v":""},{"$f":"IF($D406=\"\",\"\",IF(INDEX(december!$A:$O,ROW()-404,COLUMN($L:$L))=\"\",\"\",INDEX(december!$A:$O,ROW()-404,COLUMN($L:$L))))","v":""},{"$f":"IF($D406=\"\",\"\",IF(INDEX(december!$A:$O,ROW()-404,COLUMN($H:$H))=\"\",\"\",INDEX(december!$A:$O,ROW()-404,COLUMN($H:$H))))","v":""}]
["",{"$f":"IF($D407=\"\",\"\",INDEX(december!$A:$O,ROW()-404,COLUMN($C:$C)))","v":""},"Variabel",{"$f":"IF(INDEX(december!$A:$O,ROW()-404,COLUMN(K:K))=\"\",\"\",IF(INDEX(december!$A:$O,ROW()-404,COLUMN(A:A))=\"\",\"\",INDEX(december!$A:$O,ROW()-404,COLUMN(A:A))))","v":""},"",null,{"$f":"IF($D407=\"\",\"\",9011)","v":""},{"$f":"IF($D407=\"\",\"\",IF(INDEX(december!$A:$O,ROW()-404,COLUMN($L:$L))=\"\",\"\",INDEX(december!$A:$O,ROW()-404,COLUMN($L:$L))))","v":""},{"$f":"IF($D407=\"\",\"\",IF(INDEX(december!$A:$O,ROW()-404,COLUMN($H:$H))=\"\",\"\",INDEX(december!$A:$O,ROW()-404,COLUMN($H:$H))))","v":""}]
["",{"$f":"IF($D408=\"\",\"\",INDEX(december!$A:$O,ROW()-404,COLUMN($C:$C)))","v":""},"Variabel",{"$f":"IF(INDEX(december!$A:$O,ROW()-404,COLUMN(K:K))=\"\",\"\",IF(INDEX(december!$A:$O,ROW()-404,COLUMN(A:A))=\"\",\"\",INDEX(december!$A:$O,ROW()-404,COLUMN(A:A))))","v":""},"",null,"",{"$f":"IF($D408=\"\",\"\",IF(INDEX(december!$A:$O,ROW()-404,COLUMN($L:$L))=\"\",\"\",INDEX(december!$A:$O,ROW()-404,COLUMN($L:$L))))","v":""},{"$f":"IF($D408=\"\",\"\",IF(INDEX(december!$A:$O,ROW()-404,COLUMN($H:$H))=\"\",\"\",INDEX(december!$A:$O,ROW()-404,COLUMN($H:$H))))","v":""}]
["",{"$f":"IF($D409=\"\",\"\",INDEX(december!$A:$O,ROW()-404,COLUMN($C:$C)))","v":""},"Variabel",{"$f":"IF(INDEX(december!$A:$O,ROW()-404,COLUMN(K:K))=\"\",\"\",IF(INDEX(december!$A:$O,ROW()-404,COLUMN(A:A))=\"\",\"\",INDEX(december!$A:$O,ROW()-404,COLUMN(A:A))))","v":""},"",null,"",{"$f":"IF($D409=\"\",\"\",IF(INDEX(december!$A:$O,ROW()-404,COLUMN($L:$L))=\"\",\"\",INDEX(december!$A:$O,ROW()-404,COLUMN($L:$L))))","v":""},{"$f":"IF($D409=\"\",\"\",IF(INDEX(december!$A:$O,ROW()-404,COLUMN($H:$H))=\"\",\"\",INDEX(december!$A:$O,ROW()-404,COLUMN($H:$H))))","v":""}]
["",{"$f":"IF($D410=\"\",\"\",INDEX(december!$A:$O,ROW()-404,COLUMN($C:$C)))","v":""},"Variabel",{"$f":"IF(INDEX(december!$A:$O,ROW()-404,COLUMN(K:K))=\"\",\"\",IF(INDEX(december!$A:$O,ROW()-404,COLUMN(A:A))=\"\",\"\",INDEX(december!$A:$O,ROW()-404,COLUMN(A:A))))","v":""},"",null,"",{"$f":"IF($D410=\"\",\"\",IF(INDEX(december!$A:$O,ROW()-404,COLUMN($L:$L))=\"\",\"\",INDEX(december!$A:$O,ROW()-404,COLUMN($L:$L))))","v":""},{"$f":"IF($D410=\"\",\"\",IF(INDEX(december!$A:$O,ROW()-404,COLUMN($H:$H))=\"\",\"\",INDEX(december!$A:$O,ROW()-404,COLUMN($H:$H))))","v":""}]
["",{"$f":"IF($D411=\"\",\"\",INDEX(december!$A:$O,ROW()-404,COLUMN($C:$C)))","v":""},"Variabel",{"$f":"IF(INDEX(december!$A:$O,ROW()-404,COLUMN(K:K))=\"\",\"\",IF(INDEX(december!$A:$O,ROW()-404,COLUMN(A:A))=\"\",\"\",INDEX(december!$A:$O,ROW()-404,COLUMN(A:A))))","v":""},"",null,"",{"$f":"IF($D411=\"\",\"\",IF(INDEX(december!$A:$O,ROW()-404,COLUMN($L:$L))=\"\",\"\",INDEX(december!$A:$O,ROW()-404,COLUMN($L:$L))))","v":""},{"$f":"IF($D411=\"\",\"\",IF(INDEX(december!$A:$O,ROW()-404,COLUMN($H:$H))=\"\",\"\",INDEX(december!$A:$O,ROW()-404,COLUMN($H:$H))))","v":""}]
["",{"$f":"IF($D412=\"\",\"\",INDEX(december!$A:$O,ROW()-404,COLUMN($C:$C)))","v":""},"Variabel",{"$f":"IF(INDEX(december!$A:$O,ROW()-404,COLUMN(K:K))=\"\",\"\",IF(INDEX(december!$A:$O,ROW()-404,COLUMN(A:A))=\"\",\"\",INDEX(december!$A:$O,ROW()-404,COLUMN(A:A))))","v":""},"",null,"",{"$f":"IF($D412=\"\",\"\",IF(INDEX(december!$A:$O,ROW()-404,COLUMN($L:$L))=\"\",\"\",INDEX(december!$A:$O,ROW()-404,COLUMN($L:$L))))","v":""},{"$f":"IF($D412=\"\",\"\",IF(INDEX(december!$A:$O,ROW()-404,COLUMN($H:$H))=\"\",\"\",INDEX(december!$A:$O,ROW()-404,COLUMN($H:$H))))","v":""}]
["",{"$f":"IF($D413=\"\",\"\",INDEX(december!$A:$O,ROW()-404,COLUMN($C:$C)))","v":""},"Variabel",{"$f":"IF(INDEX(december!$A:$O,ROW()-404,COLUMN(K:K))=\"\",\"\",IF(INDEX(december!$A:$O,ROW()-404,COLUMN(A:A))=\"\",\"\",INDEX(december!$A:$O,ROW()-404,COLUMN(A:A))))","v":""},"",null,"",{"$f":"IF($D413=\"\",\"\",IF(INDEX(december!$A:$O,ROW()-404,COLUMN($L:$L))=\"\",\"\",INDEX(december!$A:$O,ROW()-404,COLUMN($L:$L))))","v":""},{"$f":"IF($D413=\"\",\"\",IF(INDEX(december!$A:$O,ROW()-404,COLUMN($H:$H))=\"\",\"\",INDEX(december!$A:$O,ROW()-404,COLUMN($H:$H))))","v":""}]
["",{"$f":"IF($D414=\"\",\"\",INDEX(december!$A:$O,ROW()-404,COLUMN($C:$C)))","v":""},"Variabel",{"$f":"IF(INDEX(december!$A:$O,ROW()-404,COLUMN(K:K))=\"\",\"\",IF(INDEX(december!$A:$O,ROW()-404,COLUMN(A:A))=\"\",\"\",INDEX(december!$A:$O,ROW()-404,COLUMN(A:A))))","v":""},"",null,"",{"$f":"IF($D414=\"\",\"\",IF(INDEX(december!$A:$O,ROW()-404,COLUMN($L:$L))=\"\",\"\",INDEX(december!$A:$O,ROW()-404,COLUMN($L:$L))))","v":""},{"$f":"IF($D414=\"\",\"\",IF(INDEX(december!$A:$O,ROW()-404,COLUMN($H:$H))=\"\",\"\",INDEX(december!$A:$O,ROW()-404,COLUMN($H:$H))))","v":""}]
["",{"$f":"IF($D415=\"\",\"\",INDEX(december!$A:$O,ROW()-404,COLUMN($C:$C)))","v":""},"Variabel",{"$f":"IF(INDEX(december!$A:$O,ROW()-404,COLUMN(K:K))=\"\",\"\",IF(INDEX(december!$A:$O,ROW()-404,COLUMN(A:A))=\"\",\"\",INDEX(december!$A:$O,ROW()-404,COLUMN(A:A))))","v":""},"",null,"",{"$f":"IF($D415=\"\",\"\",IF(INDEX(december!$A:$O,ROW()-404,COLUMN($L:$L))=\"\",\"\",INDEX(december!$A:$O,ROW()-404,COLUMN($L:$L))))","v":""},{"$f":"IF($D415=\"\",\"\",IF(INDEX(december!$A:$O,ROW()-404,COLUMN($H:$H))=\"\",\"\",INDEX(december!$A:$O,ROW()-404,COLUMN($H:$H))))","v":""}]
["",{"$f":"IF($D416=\"\",\"\",INDEX(december!$A:$O,ROW()-404,COLUMN($C:$C)))","v":""},"Variabel",{"$f":"IF(INDEX(december!$A:$O,ROW()-404,COLUMN(K:K))=\"\",\"\",IF(INDEX(december!$A:$O,ROW()-404,COLUMN(A:A))=\"\",\"\",INDEX(december!$A:$O,ROW()-404,COLUMN(A:A))))","v":""},"",null,"",{"$f":"IF($D416=\"\",\"\",IF(INDEX(december!$A:$O,ROW()-404,COLUMN($L:$L))=\"\",\"\",INDEX(december!$A:$O,ROW()-404,COLUMN($L:$L))))","v":""},{"$f":"IF($D416=\"\",\"\",IF(INDEX(december!$A:$O,ROW()-404,COLUMN($H:$H))=\"\",\"\",INDEX(december!$A:$O,ROW()-404,COLUMN($H:$H))))","v":""}]
["",{"$f":"IF($D417=\"\",\"\",INDEX(december!$A:$O,ROW()-404,COLUMN($C:$C)))","v":""},"Variabel",{"$f":"IF(INDEX(december!$A:$O,ROW()-404,COLUMN(K:K))=\"\",\"\",IF(INDEX(december!$A:$O,ROW()-404,COLUMN(A:A))=\"\",\"\",INDEX(december!$A:$O,ROW()-404,COLUMN(A:A))))","v":""},"",null,"",{"$f":"IF($D417=\"\",\"\",IF(INDEX(december!$A:$O,ROW()-404,COLUMN($L:$L))=\"\",\"\",INDEX(december!$A:$O,ROW()-404,COLUMN($L:$L))))","v":""},{"$f":"IF($D417=\"\",\"\",IF(INDEX(december!$A:$O,ROW()-404,COLUMN($H:$H))=\"\",\"\",INDEX(december!$A:$O,ROW()-404,COLUMN($H:$H))))","v":""}]
["",{"$f":"IF($D418=\"\",\"\",INDEX(december!$A:$O,ROW()-404,COLUMN($C:$C)))","v":""},"Variabel",{"$f":"IF(INDEX(december!$A:$O,ROW()-404,COLUMN(K:K))=\"\",\"\",IF(INDEX(december!$A:$O,ROW()-404,COLUMN(A:A))=\"\",\"\",INDEX(december!$A:$O,ROW()-404,COLUMN(A:A))))","v":""},"",null,"",{"$f":"IF($D418=\"\",\"\",IF(INDEX(december!$A:$O,ROW()-404,COLUMN($L:$L))=\"\",\"\",INDEX(december!$A:$O,ROW()-404,COLUMN($L:$L))))","v":""},{"$f":"IF($D418=\"\",\"\",IF(INDEX(december!$A:$O,ROW()-404,COLUMN($H:$H))=\"\",\"\",INDEX(december!$A:$O,ROW()-404,COLUMN($H:$H))))","v":""}]
["",{"$f":"IF($D419=\"\",\"\",INDEX(december!$A:$O,ROW()-404,COLUMN($C:$C)))","v":""},"Variabel",{"$f":"IF(INDEX(december!$A:$O,ROW()-404,COLUMN(K:K))=\"\",\"\",IF(INDEX(december!$A:$O,ROW()-404,COLUMN(A:A))=\"\",\"\",INDEX(december!$A:$O,ROW()-404,COLUMN(A:A))))","v":""},"",null,"",{"$f":"IF($D419=\"\",\"\",IF(INDEX(december!$A:$O,ROW()-404,COLUMN($L:$L))=\"\",\"\",INDEX(december!$A:$O,ROW()-404,COLUMN($L:$L))))","v":""},{"$f":"IF($D419=\"\",\"\",IF(INDEX(december!$A:$O,ROW()-404,COLUMN($H:$H))=\"\",\"\",INDEX(december!$A:$O,ROW()-404,COLUMN($H:$H))))","v":""}]
["",{"$f":"IF($D420=\"\",\"\",INDEX(december!$A:$O,ROW()-404,COLUMN($C:$C)))","v":""},"Variabel",{"$f":"IF(INDEX(december!$A:$O,ROW()-404,COLUMN(K:K))=\"\",\"\",IF(INDEX(december!$A:$O,ROW()-404,COLUMN(A:A))=\"\",\"\",INDEX(december!$A:$O,ROW()-404,COLUMN(A:A))))","v":""},"",null,"",{"$f":"IF($D420=\"\",\"\",IF(INDEX(december!$A:$O,ROW()-404,COLUMN($L:$L))=\"\",\"\",INDEX(december!$A:$O,ROW()-404,COLUMN($L:$L))))","v":""},{"$f":"IF($D420=\"\",\"\",IF(INDEX(december!$A:$O,ROW()-404,COLUMN($H:$H))=\"\",\"\",INDEX(december!$A:$O,ROW()-404,COLUMN($H:$H))))","v":""}]
["",{"$f":"IF($D421=\"\",\"\",INDEX(december!$A:$O,ROW()-404,COLUMN($C:$C)))","v":""},"Variabel",{"$f":"IF(INDEX(december!$A:$O,ROW()-404,COLUMN(K:K))=\"\",\"\",IF(INDEX(december!$A:$O,ROW()-404,COLUMN(A:A))=\"\",\"\",INDEX(december!$A:$O,ROW()-404,COLUMN(A:A))))","v":""},"",null,"",{"$f":"IF($D421=\"\",\"\",IF(INDEX(december!$A:$O,ROW()-404,COLUMN($L:$L))=\"\",\"\",INDEX(december!$A:$O,ROW()-404,COLUMN($L:$L))))","v":""},{"$f":"IF($D421=\"\",\"\",IF(INDEX(december!$A:$O,ROW()-404,COLUMN($H:$H))=\"\",\"\",INDEX(december!$A:$O,ROW()-404,COLUMN($H:$H))))","v":""}]
["",{"$f":"IF($D422=\"\",\"\",INDEX(december!$A:$O,ROW()-404,COLUMN($C:$C)))","v":""},"Variabel",{"$f":"IF(INDEX(december!$A:$O,ROW()-404,COLUMN(K:K))=\"\",\"\",IF(INDEX(december!$A:$O,ROW()-404,COLUMN(A:A))=\"\",\"\",INDEX(december!$A:$O,ROW()-404,COLUMN(A:A))))","v":""},"",null,"",{"$f":"IF($D422=\"\",\"\",IF(INDEX(december!$A:$O,ROW()-404,COLUMN($L:$L))=\"\",\"\",INDEX(december!$A:$O,ROW()-404,COLUMN($L:$L))))","v":""},{"$f":"IF($D422=\"\",\"\",IF(INDEX(december!$A:$O,ROW()-404,COLUMN($H:$H))=\"\",\"\",INDEX(december!$A:$O,ROW()-404,COLUMN($H:$H))))","v":""}]
["",{"$f":"IF($D423=\"\",\"\",INDEX(december!$A:$O,ROW()-404,COLUMN($C:$C)))","v":""},"Variabel",{"$f":"IF(INDEX(december!$A:$O,ROW()-404,COLUMN(K:K))=\"\",\"\",IF(INDEX(december!$A:$O,ROW()-404,COLUMN(A:A))=\"\",\"\",INDEX(december!$A:$O,ROW()-404,COLUMN(A:A))))","v":""},"",null,"",{"$f":"IF($D423=\"\",\"\",IF(INDEX(december!$A:$O,ROW()-404,COLUMN($L:$L))=\"\",\"\",INDEX(december!$A:$O,ROW()-404,COLUMN($L:$L))))","v":""},{"$f":"IF($D423=\"\",\"\",IF(INDEX(december!$A:$O,ROW()-404,COLUMN($H:$H))=\"\",\"\",INDEX(december!$A:$O,ROW()-404,COLUMN($H:$H))))","v":""}]
["",{"$f":"IF($D424=\"\",\"\",INDEX(december!$A:$O,ROW()-404,COLUMN($C:$C)))","v":""},"Variabel",{"$f":"IF(INDEX(december!$A:$O,ROW()-404,COLUMN(K:K))=\"\",\"\",IF(INDEX(december!$A:$O,ROW()-404,COLUMN(A:A))=\"\",\"\",INDEX(december!$A:$O,ROW()-404,COLUMN(A:A))))","v":""},"",null,"",{"$f":"IF($D424=\"\",\"\",IF(INDEX(december!$A:$O,ROW()-404,COLUMN($L:$L))=\"\",\"\",INDEX(december!$A:$O,ROW()-404,COLUMN($L:$L))))","v":""},{"$f":"IF($D424=\"\",\"\",IF(INDEX(december!$A:$O,ROW()-404,COLUMN($H:$H))=\"\",\"\",INDEX(december!$A:$O,ROW()-404,COLUMN($H:$H))))","v":""}]
["",{"$f":"IF($D425=\"\",\"\",INDEX(december!$A:$O,ROW()-404,COLUMN($C:$C)))","v":""},"Variabel",{"$f":"IF(INDEX(december!$A:$O,ROW()-404,COLUMN(K:K))=\"\",\"\",IF(INDEX(december!$A:$O,ROW()-404,COLUMN(A:A))=\"\",\"\",INDEX(december!$A:$O,ROW()-404,COLUMN(A:A))))","v":""},"",null,"",{"$f":"IF($D425=\"\",\"\",IF(INDEX(december!$A:$O,ROW()-404,COLUMN($L:$L))=\"\",\"\",INDEX(december!$A:$O,ROW()-404,COLUMN($L:$L))))","v":""},{"$f":"IF($D425=\"\",\"\",IF(INDEX(december!$A:$O,ROW()-404,COLUMN($H:$H))=\"\",\"\",INDEX(december!$A:$O,ROW()-404,COLUMN($H:$H))))","v":""}]
["",{"$f":"IF($D426=\"\",\"\",INDEX(december!$A:$O,ROW()-404,COLUMN($C:$C)))","v":""},"Variabel",{"$f":"IF(INDEX(december!$A:$O,ROW()-404,COLUMN(K:K))=\"\",\"\",IF(INDEX(december!$A:$O,ROW()-404,COLUMN(A:A))=\"\",\"\",INDEX(december!$A:$O,ROW()-404,COLUMN(A:A))))","v":""},"",null,"",{"$f":"IF($D426=\"\",\"\",IF(INDEX(december!$A:$O,ROW()-404,COLUMN($L:$L))=\"\",\"\",INDEX(december!$A:$O,ROW()-404,COLUMN($L:$L))))","v":""},{"$f":"IF($D426=\"\",\"\",IF(INDEX(december!$A:$O,ROW()-404,COLUMN($H:$H))=\"\",\"\",INDEX(december!$A:$O,ROW()-404,COLUMN($H:$H))))","v":""}]
["",{"$f":"IF($D427=\"\",\"\",INDEX(december!$A:$O,ROW()-404,COLUMN($C:$C)))","v":""},"Variabel",{"$f":"IF(INDEX(december!$A:$O,ROW()-404,COLUMN(K:K))=\"\",\"\",IF(INDEX(december!$A:$O,ROW()-404,COLUMN(A:A))=\"\",\"\",INDEX(december!$A:$O,ROW()-404,COLUMN(A:A))))","v":""},"",null,"",{"$f":"IF($D427=\"\",\"\",IF(INDEX(december!$A:$O,ROW()-404,COLUMN($L:$L))=\"\",\"\",INDEX(december!$A:$O,ROW()-404,COLUMN($L:$L))))","v":""},{"$f":"IF($D427=\"\",\"\",IF(INDEX(december!$A:$O,ROW()-404,COLUMN($H:$H))=\"\",\"\",INDEX(december!$A:$O,ROW()-404,COLUMN($H:$H))))","v":""}]
["",{"$f":"IF($D428=\"\",\"\",INDEX(december!$A:$O,ROW()-404,COLUMN($C:$C)))","v":""},"Variabel",{"$f":"IF(INDEX(december!$A:$O,ROW()-404,COLUMN(K:K))=\"\",\"\",IF(INDEX(december!$A:$O,ROW()-404,COLUMN(A:A))=\"\",\"\",INDEX(december!$A:$O,ROW()-404,COLUMN(A:A))))","v":""},"",null,"",{"$f":"IF($D428=\"\",\"\",IF(INDEX(december!$A:$O,ROW()-404,COLUMN($L:$L))=\"\",\"\",INDEX(december!$A:$O,ROW()-404,COLUMN($L:$L))))","v":""},{"$f":"IF($D428=\"\",\"\",IF(INDEX(december!$A:$O,ROW()-404,COLUMN($H:$H))=\"\",\"\",INDEX(december!$A:$O,ROW()-404,COLUMN($H:$H))))","v":""}]
["",{"$f":"IF($D429=\"\",\"\",INDEX(december!$A:$O,ROW()-404,COLUMN($C:$C)))","v":""},"Variabel",{"$f":"IF(INDEX(december!$A:$O,ROW()-404,COLUMN(K:K))=\"\",\"\",IF(INDEX(december!$A:$O,ROW()-404,COLUMN(A:A))=\"\",\"\",INDEX(december!$A:$O,ROW()-404,COLUMN(A:A))))","v":""},"",null,"",{"$f":"IF($D429=\"\",\"\",IF(INDEX(december!$A:$O,ROW()-404,COLUMN($L:$L))=\"\",\"\",INDEX(december!$A:$O,ROW()-404,COLUMN($L:$L))))","v":""},{"$f":"IF($D429=\"\",\"\",IF(INDEX(december!$A:$O,ROW()-404,COLUMN($H:$H))=\"\",\"\",INDEX(december!$A:$O,ROW()-404,COLUMN($H:$H))))","v":""}]
["",{"$f":"IF($D430=\"\",\"\",INDEX(december!$A:$O,ROW()-404,COLUMN($C:$C)))","v":""},"Variabel",{"$f":"IF(INDEX(december!$A:$O,ROW()-404,COLUMN(K:K))=\"\",\"\",IF(INDEX(december!$A:$O,ROW()-404,COLUMN(A:A))=\"\",\"\",INDEX(december!$A:$O,ROW()-404,COLUMN(A:A))))","v":""},"",null,"",{"$f":"IF($D430=\"\",\"\",IF(INDEX(december!$A:$O,ROW()-404,COLUMN($L:$L))=\"\",\"\",INDEX(december!$A:$O,ROW()-404,COLUMN($L:$L))))","v":""},{"$f":"IF($D430=\"\",\"\",IF(INDEX(december!$A:$O,ROW()-404,COLUMN($H:$H))=\"\",\"\",INDEX(december!$A:$O,ROW()-404,COLUMN($H:$H))))","v":""}]
["",{"$f":"IF($D431=\"\",\"\",INDEX(december!$A:$O,ROW()-404,COLUMN($C:$C)))","v":""},"Variabel",{"$f":"IF(INDEX(december!$A:$O,ROW()-404,COLUMN(K:K))=\"\",\"\",IF(INDEX(december!$A:$O,ROW()-404,COLUMN(A:A))=\"\",\"\",INDEX(december!$A:$O,ROW()-404,COLUMN(A:A))))","v":""},"",null,"",{"$f":"IF($D431=\"\",\"\",IF(INDEX(december!$A:$O,ROW()-404,COLUMN($L:$L))=\"\",\"\",INDEX(december!$A:$O,ROW()-404,COLUMN($L:$L))))","v":""},{"$f":"IF($D431=\"\",\"\",IF(INDEX(december!$A:$O,ROW()-404,COLUMN($H:$H))=\"\",\"\",INDEX(december!$A:$O,ROW()-404,COLUMN($H:$H))))","v":""}]
["",{"$f":"IF($D432=\"\",\"\",INDEX(december!$A:$O,ROW()-404,COLUMN($C:$C)))","v":""},"Variabel",{"$f":"IF(INDEX(december!$A:$O,ROW()-404,COLUMN(K:K))=\"\",\"\",IF(INDEX(december!$A:$O,ROW()-404,COLUMN(A:A))=\"\",\"\",INDEX(december!$A:$O,ROW()-404,COLUMN(A:A))))","v":""},"",null,"",{"$f":"IF($D432=\"\",\"\",IF(INDEX(december!$A:$O,ROW()-404,COLUMN($L:$L))=\"\",\"\",INDEX(december!$A:$O,ROW()-404,COLUMN($L:$L))))","v":""},{"$f":"IF($D432=\"\",\"\",IF(INDEX(december!$A:$O,ROW()-404,COLUMN($H:$H))=\"\",\"\",INDEX(december!$A:$O,ROW()-404,COLUMN($H:$H))))","v":""}]
["",{"$f":"IF($D433=\"\",\"\",INDEX(december!$A:$O,ROW()-404,COLUMN($C:$C)))","v":""},"Variabel",{"$f":"IF(INDEX(december!$A:$O,ROW()-404,COLUMN(K:K))=\"\",\"\",IF(INDEX(december!$A:$O,ROW()-404,COLUMN(A:A))=\"\",\"\",INDEX(december!$A:$O,ROW()-404,COLUMN(A:A))))","v":""},"",null,"",{"$f":"IF($D433=\"\",\"\",IF(INDEX(december!$A:$O,ROW()-404,COLUMN($L:$L))=\"\",\"\",INDEX(december!$A:$O,ROW()-404,COLUMN($L:$L))))","v":""},{"$f":"IF($D433=\"\",\"\",IF(INDEX(december!$A:$O,ROW()-404,COLUMN($H:$H))=\"\",\"\",INDEX(december!$A:$O,ROW()-404,COLUMN($H:$H))))","v":""}]
["",{"$f":"IF($D434=\"\",\"\",INDEX(december!$A:$O,ROW()-404,COLUMN($C:$C)))","v":""},"Variabel",{"$f":"IF(INDEX(december!$A:$O,ROW()-404,COLUMN(K:K))=\"\",\"\",IF(INDEX(december!$A:$O,ROW()-404,COLUMN(A:A))=\"\",\"\",INDEX(december!$A:$O,ROW()-404,COLUMN(A:A))))","v":""},"",null,"",{"$f":"IF($D434=\"\",\"\",IF(INDEX(december!$A:$O,ROW()-404,COLUMN($L:$L))=\"\",\"\",INDEX(december!$A:$O,ROW()-404,COLUMN($L:$L))))","v":""},{"$f":"IF($D434=\"\",\"\",IF(INDEX(december!$A:$O,ROW()-404,COLUMN($H:$H))=\"\",\"\",INDEX(december!$A:$O,ROW()-404,COLUMN($H:$H))))","v":""}]
["",{"$f":"IF($D435=\"\",\"\",INDEX(december!$A:$O,ROW()-404,COLUMN($C:$C)))","v":""},"Variabel",{"$f":"IF(INDEX(december!$A:$O,ROW()-404,COLUMN(K:K))=\"\",\"\",IF(INDEX(december!$A:$O,ROW()-404,COLUMN(A:A))=\"\",\"\",INDEX(december!$A:$O,ROW()-404,COLUMN(A:A))))","v":""},"",null,"",{"$f":"IF($D435=\"\",\"\",IF(INDEX(december!$A:$O,ROW()-404,COLUMN($L:$L))=\"\",\"\",INDEX(december!$A:$O,ROW()-404,COLUMN($L:$L))))","v":""},{"$f":"IF($D435=\"\",\"\",IF(INDEX(december!$A:$O,ROW()-404,COLUMN($H:$H))=\"\",\"\",INDEX(december!$A:$O,ROW()-404,COLUMN($H:$H))))","v":""}]
["",{"$f":"IF($D436=\"\",\"\",INDEX(december!$A:$O,ROW()-404,COLUMN($C:$C)))","v":""},"Variabel",{"$f":"IF(INDEX(december!$A:$O,ROW()-404,COLUMN(K:K))=\"\",\"\",IF(INDEX(december!$A:$O,ROW()-404,COLUMN(A:A))=\"\",\"\",INDEX(december!$A:$O,ROW()-404,COLUMN(A:A))))","v":""},"",null,"",{"$f":"IF($D436=\"\",\"\",IF(INDEX(december!$A:$O,ROW()-404,COLUMN($L:$L))=\"\",\"\",INDEX(december!$A:$O,ROW()-404,COLUMN($L:$L))))","v":""},{"$f":"IF($D436=\"\",\"\",IF(INDEX(december!$A:$O,ROW()-404,COLUMN($H:$H))=\"\",\"\",INDEX(december!$A:$O,ROW()-404,COLUMN($H:$H))))","v":""}]
["",{"$f":"IF($D437=\"\",\"\",INDEX(december!$A:$O,ROW()-404,COLUMN($C:$C)))","v":""},"Variabel",{"$f":"IF(INDEX(december!$A:$O,ROW()-404,COLUMN(K:K))=\"\",\"\",IF(INDEX(december!$A:$O,ROW()-404,COLUMN(A:A))=\"\",\"\",INDEX(december!$A:$O,ROW()-404,COLUMN(A:A))))","v":""},"",null,"",{"$f":"IF($D437=\"\",\"\",IF(INDEX(december!$A:$O,ROW()-404,COLUMN($L:$L))=\"\",\"\",INDEX(december!$A:$O,ROW()-404,COLUMN($L:$L))))","v":""},{"$f":"IF($D437=\"\",\"\",IF(INDEX(december!$A:$O,ROW()-404,COLUMN($H:$H))=\"\",\"\",INDEX(december!$A:$O,ROW()-404,COLUMN($H:$H))))","v":""}]
[{"$f":"IF($D438=\"\",\"\",$A$2)","v":""},{"$f":"IF($D438=\"\",\"\",INDEX(december!$A:$O,ROW()-404,COLUMN($C:$C)))","v":""},"Variabel",{"$f":"IF(INDEX(december!$A:$O,ROW()-404,COLUMN(K:K))=\"\",\"\",IF(INDEX(december!$A:$O,ROW()-404,COLUMN(A:A))=\"\",\"\",INDEX(december!$A:$O,ROW()-404,COLUMN(A:A))))","v":""},{"$f":"IF($D438=\"\",\"\",$F$2)","v":""},null,"",{"$f":"IF($D438=\"\",\"\",IF(INDEX(december!$A:$O,ROW()-404,COLUMN($L:$L))=\"\",\"\",INDEX(december!$A:$O,ROW()-404,COLUMN($L:$L))))","v":""},{"$f":"IF($D438=\"\",\"\",IF(INDEX(december!$A:$O,ROW()-404,COLUMN($H:$H))=\"\",\"\",INDEX(december!$A:$O,ROW()-404,COLUMN($H:$H))))","v":""}]
["",{"$f":"IF($D439=\"\",\"\",INDEX(december!$A:$O,ROW()-404,COLUMN($C:$C)))","v":""},"Variabel",{"$f":"IF(INDEX(december!$A:$O,ROW()-404,COLUMN(K:K))=\"\",\"\",IF(INDEX(december!$A:$O,ROW()-404,COLUMN(A:A))=\"\",\"\",INDEX(december!$A:$O,ROW()-404,COLUMN(A:A))))","v":""},"",null,"",{"$f":"IF($D439=\"\",\"\",IF(INDEX(december!$A:$O,ROW()-404,COLUMN($L:$L))=\"\",\"\",INDEX(december!$A:$O,ROW()-404,COLUMN($L:$L))))","v":""},{"$f":"IF($D439=\"\",\"\",IF(INDEX(december!$A:$O,ROW()-404,COLUMN($H:$H))=\"\",\"\",INDEX(december!$A:$O,ROW()-404,COLUMN($H:$H))))","v":""}]
["",{"$f":"IF($D440=\"\",\"\",INDEX(december!$A:$O,ROW()-404,COLUMN($C:$C)))","v":""},"Variabel",{"$f":"IF(INDEX(december!$A:$O,ROW()-404,COLUMN(K:K))=\"\",\"\",IF(INDEX(december!$A:$O,ROW()-404,COLUMN(A:A))=\"\",\"\",INDEX(december!$A:$O,ROW()-404,COLUMN(A:A))))","v":""},"",null,"",{"$f":"IF($D440=\"\",\"\",IF(INDEX(december!$A:$O,ROW()-404,COLUMN($L:$L))=\"\",\"\",INDEX(december!$A:$O,ROW()-404,COLUMN($L:$L))))","v":""},{"$f":"IF($D440=\"\",\"\",IF(INDEX(december!$A:$O,ROW()-404,COLUMN($H:$H))=\"\",\"\",INDEX(december!$A:$O,ROW()-404,COLUMN($H:$H))))","v":""}]
["",{"$f":"IF($D441=\"\",\"\",INDEX(december!$A:$O,ROW()-404,COLUMN($C:$C)))","v":""},"Variabel",{"$f":"IF(INDEX(december!$A:$O,ROW()-404,COLUMN(K:K))=\"\",\"\",IF(INDEX(december!$A:$O,ROW()-404,COLUMN(A:A))=\"\",\"\",INDEX(december!$A:$O,ROW()-404,COLUMN(A:A))))","v":""},"",null,"",{"$f":"IF($D441=\"\",\"\",IF(INDEX(december!$A:$O,ROW()-404,COLUMN($L:$L))=\"\",\"\",INDEX(december!$A:$O,ROW()-404,COLUMN($L:$L))))","v":""},{"$f":"IF($D441=\"\",\"\",IF(INDEX(december!$A:$O,ROW()-404,COLUMN($H:$H))=\"\",\"\",INDEX(december!$A:$O,ROW()-404,COLUMN($H:$H))))","v":""}]
["",{"$f":"IF($D442=\"\",\"\",INDEX(december!$A:$O,ROW()-404,COLUMN($C:$C)))","v":""},"Variabel",{"$f":"IF(INDEX(december!$A:$O,ROW()-404,COLUMN(K:K))=\"\",\"\",IF(INDEX(december!$A:$O,ROW()-404,COLUMN(A:A))=\"\",\"\",INDEX(december!$A:$O,ROW()-404,COLUMN(A:A))))","v":""},"",null,"",{"$f":"IF($D442=\"\",\"\",IF(INDEX(december!$A:$O,ROW()-404,COLUMN($L:$L))=\"\",\"\",INDEX(december!$A:$O,ROW()-404,COLUMN($L:$L))))","v":""},{"$f":"IF($D442=\"\",\"\",IF(INDEX(december!$A:$O,ROW()-404,COLUMN($H:$H))=\"\",\"\",INDEX(december!$A:$O,ROW()-404,COLUMN($H:$H))))","v":""}]
["",{"$f":"IF($D443=\"\",\"\",INDEX(december!$A:$O,ROW()-404,COLUMN($C:$C)))","v":""},"Variabel",{"$f":"IF(INDEX(december!$A:$O,ROW()-404,COLUMN(K:K))=\"\",\"\",IF(INDEX(december!$A:$O,ROW()-404,COLUMN(A:A))=\"\",\"\",INDEX(december!$A:$O,ROW()-404,COLUMN(A:A))))","v":""},"",null,"",{"$f":"IF($D443=\"\",\"\",IF(INDEX(december!$A:$O,ROW()-404,COLUMN($L:$L))=\"\",\"\",INDEX(december!$A:$O,ROW()-404,COLUMN($L:$L))))","v":""},{"$f":"IF($D443=\"\",\"\",IF(INDEX(december!$A:$O,ROW()-404,COLUMN($H:$H))=\"\",\"\",INDEX(december!$A:$O,ROW()-404,COLUMN($H:$H))))","v":""}]
["",{"$f":"IF($D444=\"\",\"\",INDEX(december!$A:$O,ROW()-404,COLUMN($C:$C)))","v":""},"Variabel",{"$f":"IF(INDEX(december!$A:$O,ROW()-404,COLUMN(K:K))=\"\",\"\",IF(INDEX(december!$A:$O,ROW()-404,COLUMN(A:A))=\"\",\"\",INDEX(december!$A:$O,ROW()-404,COLUMN(A:A))))","v":""},"",null,"",{"$f":"IF($D444=\"\",\"\",IF(INDEX(december!$A:$O,ROW()-404,COLUMN($L:$L))=\"\",\"\",INDEX(december!$A:$O,ROW()-404,COLUMN($L:$L))))","v":""},{"$f":"IF($D444=\"\",\"\",IF(INDEX(december!$A:$O,ROW()-404,COLUMN($H:$H))=\"\",\"\",INDEX(december!$A:$O,ROW()-404,COLUMN($H:$H))))","v":""}]
["",{"$f":"IF($D445=\"\",\"\",INDEX(december!$A:$O,ROW()-404,COLUMN($C:$C)))","v":""},"Variabel",{"$f":"IF(INDEX(december!$A:$O,ROW()-404,COLUMN(K:K))=\"\",\"\",IF(INDEX(december!$A:$O,ROW()-404,COLUMN(A:A))=\"\",\"\",INDEX(december!$A:$O,ROW()-404,COLUMN(A:A))))","v":""},"",null,"",{"$f":"IF($D445=\"\",\"\",IF(INDEX(december!$A:$O,ROW()-404,COLUMN($L:$L))=\"\",\"\",INDEX(december!$A:$O,ROW()-404,COLUMN($L:$L))))","v":""},{"$f":"IF($D445=\"\",\"\",IF(INDEX(december!$A:$O,ROW()-404,COLUMN($H:$H))=\"\",\"\",INDEX(december!$A:$O,ROW()-404,COLUMN($H:$H))))","v":""}]
["",{"$f":"IF($D446=\"\",\"\",INDEX(december!$A:$O,ROW()-404,COLUMN($C:$C)))","v":""},"Variabel",{"$f":"IF(INDEX(december!$A:$O,ROW()-404,COLUMN(K:K))=\"\",\"\",IF(INDEX(december!$A:$O,ROW()-404,COLUMN(A:A))=\"\",\"\",INDEX(december!$A:$O,ROW()-404,COLUMN(A:A))))","v":""},"",null,"",{"$f":"IF($D446=\"\",\"\",IF(INDEX(december!$A:$O,ROW()-404,COLUMN($L:$L))=\"\",\"\",INDEX(december!$A:$O,ROW()-404,COLUMN($L:$L))))","v":""},{"$f":"IF($D446=\"\",\"\",IF(INDEX(december!$A:$O,ROW()-404,COLUMN($H:$H))=\"\",\"\",INDEX(december!$A:$O,ROW()-404,COLUMN($H:$H))))","v":""}]
["",{"$f":"IF($D447=\"\",\"\",INDEX(december!$A:$O,ROW()-404,COLUMN($C:$C)))","v":""},"Variabel",{"$f":"IF(INDEX(december!$A:$O,ROW()-404,COLUMN(K:K))=\"\",\"\",IF(INDEX(december!$A:$O,ROW()-404,COLUMN(A:A))=\"\",\"\",INDEX(december!$A:$O,ROW()-404,COLUMN(A:A))))","v":""},"",null,"",{"$f":"IF($D447=\"\",\"\",IF(INDEX(december!$A:$O,ROW()-404,COLUMN($L:$L))=\"\",\"\",INDEX(december!$A:$O,ROW()-404,COLUMN($L:$L))))","v":""},{"$f":"IF($D447=\"\",\"\",IF(INDEX(december!$A:$O,ROW()-404,COLUMN($H:$H))=\"\",\"\",INDEX(december!$A:$O,ROW()-404,COLUMN($H:$H))))","v":""}]
["",{"$f":"IF($D448=\"\",\"\",INDEX(december!$A:$O,ROW()-404,COLUMN($C:$C)))","v":""},"Variabel",{"$f":"IF(INDEX(december!$A:$O,ROW()-404,COLUMN(K:K))=\"\",\"\",IF(INDEX(december!$A:$O,ROW()-404,COLUMN(A:A))=\"\",\"\",INDEX(december!$A:$O,ROW()-404,COLUMN(A:A))))","v":""},"",null,"",{"$f":"IF($D448=\"\",\"\",IF(INDEX(december!$A:$O,ROW()-404,COLUMN($L:$L))=\"\",\"\",INDEX(december!$A:$O,ROW()-404,COLUMN($L:$L))))","v":""},{"$f":"IF($D448=\"\",\"\",IF(INDEX(december!$A:$O,ROW()-404,COLUMN($H:$H))=\"\",\"\",INDEX(december!$A:$O,ROW()-404,COLUMN($H:$H))))","v":""}]
["",{"$f":"IF($D449=\"\",\"\",INDEX(december!$A:$O,ROW()-404,COLUMN($C:$C)))","v":""},"Variabel",{"$f":"IF(INDEX(december!$A:$O,ROW()-404,COLUMN(K:K))=\"\",\"\",IF(INDEX(december!$A:$O,ROW()-404,COLUMN(A:A))=\"\",\"\",INDEX(december!$A:$O,ROW()-404,COLUMN(A:A))))","v":""},"",null,"",{"$f":"IF($D449=\"\",\"\",IF(INDEX(december!$A:$O,ROW()-404,COLUMN($L:$L))=\"\",\"\",INDEX(december!$A:$O,ROW()-404,COLUMN($L:$L))))","v":""},{"$f":"IF($D449=\"\",\"\",IF(INDEX(december!$A:$O,ROW()-404,COLUMN($H:$H))=\"\",\"\",INDEX(december!$A:$O,ROW()-404,COLUMN($H:$H))))","v":""}]
["",{"$f":"IF($D450=\"\",\"\",INDEX(december!$A:$O,ROW()-404,COLUMN($C:$C)))","v":""},"Variabel",{"$f":"IF(INDEX(december!$A:$O,ROW()-404,COLUMN(K:K))=\"\",\"\",IF(INDEX(december!$A:$O,ROW()-404,COLUMN(A:A))=\"\",\"\",INDEX(december!$A:$O,ROW()-404,COLUMN(A:A))))","v":""},"",null,"",{"$f":"IF($D450=\"\",\"\",IF(INDEX(december!$A:$O,ROW()-404,COLUMN($L:$L))=\"\",\"\",INDEX(december!$A:$O,ROW()-404,COLUMN($L:$L))))","v":""},{"$f":"IF($D450=\"\",\"\",IF(INDEX(december!$A:$O,ROW()-404,COLUMN($H:$H))=\"\",\"\",INDEX(december!$A:$O,ROW()-404,COLUMN($H:$H))))","v":""}]
["",{"$f":"IF($D451=\"\",\"\",INDEX(december!$A:$O,ROW()-404,COLUMN($C:$C)))","v":""},"Variabel",{"$f":"IF(INDEX(december!$A:$O,ROW()-404,COLUMN(K:K))=\"\",\"\",IF(INDEX(december!$A:$O,ROW()-404,COLUMN(A:A))=\"\",\"\",INDEX(december!$A:$O,ROW()-404,COLUMN(A:A))))","v":""},"",null,"",{"$f":"IF($D451=\"\",\"\",IF(INDEX(december!$A:$O,ROW()-404,COLUMN($L:$L))=\"\",\"\",INDEX(december!$A:$O,ROW()-404,COLUMN($L:$L))))","v":""},{"$f":"IF($D451=\"\",\"\",IF(INDEX(december!$A:$O,ROW()-404,COLUMN($H:$H))=\"\",\"\",INDEX(december!$A:$O,ROW()-404,COLUMN($H:$H))))","v":""}]
["",{"$f":"IF($D452=\"\",\"\",INDEX(december!$A:$O,ROW()-404,COLUMN($C:$C)))","v":""},"Variabel",{"$f":"IF(INDEX(december!$A:$O,ROW()-404,COLUMN(K:K))=\"\",\"\",IF(INDEX(december!$A:$O,ROW()-404,COLUMN(A:A))=\"\",\"\",INDEX(december!$A:$O,ROW()-404,COLUMN(A:A))))","v":""},"",null,"",{"$f":"IF($D452=\"\",\"\",IF(INDEX(december!$A:$O,ROW()-404,COLUMN($L:$L))=\"\",\"\",INDEX(december!$A:$O,ROW()-404,COLUMN($L:$L))))","v":""},{"$f":"IF($D452=\"\",\"\",IF(INDEX(december!$A:$O,ROW()-404,COLUMN($H:$H))=\"\",\"\",INDEX(december!$A:$O,ROW()-404,COLUMN($H:$H))))","v":""}]
["",{"$f":"IF($D453=\"\",\"\",INDEX(december!$A:$O,ROW()-404,COLUMN($C:$C)))","v":""},"Variabel",{"$f":"IF(INDEX(december!$A:$O,ROW()-404,COLUMN(K:K))=\"\",\"\",IF(INDEX(december!$A:$O,ROW()-404,COLUMN(A:A))=\"\",\"\",INDEX(december!$A:$O,ROW()-404,COLUMN(A:A))))","v":""},"",null,"",{"$f":"IF($D453=\"\",\"\",IF(INDEX(december!$A:$O,ROW()-404,COLUMN($L:$L))=\"\",\"\",INDEX(december!$A:$O,ROW()-404,COLUMN($L:$L))))","v":""},{"$f":"IF($D453=\"\",\"\",IF(INDEX(december!$A:$O,ROW()-404,COLUMN($H:$H))=\"\",\"\",INDEX(december!$A:$O,ROW()-404,COLUMN($H:$H))))","v":""}]
["",{"$f":"IF($D454=\"\",\"\",INDEX(december!$A:$O,ROW()-404,COLUMN($C:$C)))","v":""},"Variabel",{"$f":"IF(INDEX(december!$A:$O,ROW()-404,COLUMN(K:K))=\"\",\"\",IF(INDEX(december!$A:$O,ROW()-404,COLUMN(A:A))=\"\",\"\",INDEX(december!$A:$O,ROW()-404,COLUMN(A:A))))","v":""},"",null,"",{"$f":"IF($D454=\"\",\"\",IF(INDEX(december!$A:$O,ROW()-404,COLUMN($L:$L))=\"\",\"\",INDEX(december!$A:$O,ROW()-404,COLUMN($L:$L))))","v":""},{"$f":"IF($D454=\"\",\"\",IF(INDEX(december!$A:$O,ROW()-404,COLUMN($H:$H))=\"\",\"\",INDEX(december!$A:$O,ROW()-404,COLUMN($H:$H))))","v":""}]
["",{"$f":"IF($D455=\"\",\"\",INDEX(december!$A:$O,ROW()-404,COLUMN($C:$C)))","v":""},"Variabel",{"$f":"IF(INDEX(december!$A:$O,ROW()-404,COLUMN(K:K))=\"\",\"\",IF(INDEX(december!$A:$O,ROW()-404,COLUMN(A:A))=\"\",\"\",INDEX(december!$A:$O,ROW()-404,COLUMN(A:A))))","v":""},"",null,"",{"$f":"IF($D455=\"\",\"\",IF(INDEX(december!$A:$O,ROW()-404,COLUMN($L:$L))=\"\",\"\",INDEX(december!$A:$O,ROW()-404,COLUMN($L:$L))))","v":""},{"$f":"IF($D455=\"\",\"\",IF(INDEX(december!$A:$O,ROW()-404,COLUMN($H:$H))=\"\",\"\",INDEX(december!$A:$O,ROW()-404,COLUMN($H:$H))))","v":""}]
["",{"$f":"IF($D456=\"\",\"\",INDEX(december!$A:$O,ROW()-404,COLUMN($C:$C)))","v":""},"Variabel",{"$f":"IF(INDEX(december!$A:$O,ROW()-404,COLUMN(K:K))=\"\",\"\",IF(INDEX(december!$A:$O,ROW()-404,COLUMN(A:A))=\"\",\"\",INDEX(december!$A:$O,ROW()-404,COLUMN(A:A))))","v":""},"",null,"",{"$f":"IF($D456=\"\",\"\",IF(INDEX(december!$A:$O,ROW()-404,COLUMN($L:$L))=\"\",\"\",INDEX(december!$A:$O,ROW()-404,COLUMN($L:$L))))","v":""},{"$f":"IF($D456=\"\",\"\",IF(INDEX(december!$A:$O,ROW()-404,COLUMN($H:$H))=\"\",\"\",INDEX(december!$A:$O,ROW()-404,COLUMN($H:$H))))","v":""}]
["",{"$f":"IF($D457=\"\",\"\",INDEX(december!$A:$O,ROW()-404,COLUMN($C:$C)))","v":""},"Variabel",{"$f":"IF(INDEX(december!$A:$O,ROW()-404,COLUMN(K:K))=\"\",\"\",IF(INDEX(december!$A:$O,ROW()-404,COLUMN(A:A))=\"\",\"\",INDEX(december!$A:$O,ROW()-404,COLUMN(A:A))))","v":""},"",null,"",{"$f":"IF($D457=\"\",\"\",IF(INDEX(december!$A:$O,ROW()-404,COLUMN($L:$L))=\"\",\"\",INDEX(december!$A:$O,ROW()-404,COLUMN($L:$L))))","v":""},{"$f":"IF($D457=\"\",\"\",IF(INDEX(december!$A:$O,ROW()-404,COLUMN($H:$H))=\"\",\"\",INDEX(december!$A:$O,ROW()-404,COLUMN($H:$H))))","v":""}]
["",{"$f":"IF($D458=\"\",\"\",INDEX(december!$A:$O,ROW()-404,COLUMN($C:$C)))","v":""},"Variabel",{"$f":"IF(INDEX(december!$A:$O,ROW()-404,COLUMN(K:K))=\"\",\"\",IF(INDEX(december!$A:$O,ROW()-404,COLUMN(A:A))=\"\",\"\",INDEX(december!$A:$O,ROW()-404,COLUMN(A:A))))","v":""},"",null,"",{"$f":"IF($D458=\"\",\"\",IF(INDEX(december!$A:$O,ROW()-404,COLUMN($L:$L))=\"\",\"\",INDEX(december!$A:$O,ROW()-404,COLUMN($L:$L))))","v":""},{"$f":"IF($D458=\"\",\"\",IF(INDEX(december!$A:$O,ROW()-404,COLUMN($H:$H))=\"\",\"\",INDEX(december!$A:$O,ROW()-404,COLUMN($H:$H))))","v":""}]
["",{"$f":"IF($D459=\"\",\"\",INDEX(december!$A:$O,ROW()-404,COLUMN($C:$C)))","v":""},"Variabel",{"$f":"IF(INDEX(december!$A:$O,ROW()-404,COLUMN(K:K))=\"\",\"\",IF(INDEX(december!$A:$O,ROW()-404,COLUMN(A:A))=\"\",\"\",INDEX(december!$A:$O,ROW()-404,COLUMN(A:A))))","v":""},"",null,"",{"$f":"IF($D459=\"\",\"\",IF(INDEX(december!$A:$O,ROW()-404,COLUMN($L:$L))=\"\",\"\",INDEX(december!$A:$O,ROW()-404,COLUMN($L:$L))))","v":""},{"$f":"IF($D459=\"\",\"\",IF(INDEX(december!$A:$O,ROW()-404,COLUMN($H:$H))=\"\",\"\",INDEX(december!$A:$O,ROW()-404,COLUMN($H:$H))))","v":""}]
["",{"$f":"IF($D460=\"\",\"\",INDEX(december!$A:$O,ROW()-404,COLUMN($C:$C)))","v":""},"Variabel",{"$f":"IF(INDEX(december!$A:$O,ROW()-404,COLUMN(K:K))=\"\",\"\",IF(INDEX(december!$A:$O,ROW()-404,COLUMN(A:A))=\"\",\"\",INDEX(december!$A:$O,ROW()-404,COLUMN(A:A))))","v":""},"",null,"",{"$f":"IF($D460=\"\",\"\",IF(INDEX(december!$A:$O,ROW()-404,COLUMN($L:$L))=\"\",\"\",INDEX(december!$A:$O,ROW()-404,COLUMN($L:$L))))","v":""},{"$f":"IF($D460=\"\",\"\",IF(INDEX(december!$A:$O,ROW()-404,COLUMN($H:$H))=\"\",\"\",INDEX(december!$A:$O,ROW()-404,COLUMN($H:$H))))","v":""}]
["",{"$f":"IF($D461=\"\",\"\",INDEX(december!$A:$O,ROW()-404,COLUMN($C:$C)))","v":""},"Variabel",{"$f":"IF(INDEX(december!$A:$O,ROW()-404,COLUMN(K:K))=\"\",\"\",IF(INDEX(december!$A:$O,ROW()-404,COLUMN(A:A))=\"\",\"\",INDEX(december!$A:$O,ROW()-404,COLUMN(A:A))))","v":""},"",null,"",{"$f":"IF($D461=\"\",\"\",IF(INDEX(december!$A:$O,ROW()-404,COLUMN($L:$L))=\"\",\"\",INDEX(december!$A:$O,ROW()-404,COLUMN($L:$L))))","v":""},{"$f":"IF($D461=\"\",\"\",IF(INDEX(december!$A:$O,ROW()-404,COLUMN($H:$H))=\"\",\"\",INDEX(december!$A:$O,ROW()-404,COLUMN($H:$H))))","v":""}]
["",{"$f":"IF($D462=\"\",\"\",INDEX(december!$A:$O,ROW()-404,COLUMN($C:$C)))","v":""},"Variabel",{"$f":"IF(INDEX(december!$A:$O,ROW()-404,COLUMN(K:K))=\"\",\"\",IF(INDEX(december!$A:$O,ROW()-404,COLUMN(A:A))=\"\",\"\",INDEX(december!$A:$O,ROW()-404,COLUMN(A:A))))","v":""},"",null,"",{"$f":"IF($D462=\"\",\"\",IF(INDEX(december!$A:$O,ROW()-404,COLUMN($L:$L))=\"\",\"\",INDEX(december!$A:$O,ROW()-404,COLUMN($L:$L))))","v":""},{"$f":"IF($D462=\"\",\"\",IF(INDEX(december!$A:$O,ROW()-404,COLUMN($H:$H))=\"\",\"\",INDEX(december!$A:$O,ROW()-404,COLUMN($H:$H))))","v":""}]
["",{"$f":"IF($D463=\"\",\"\",INDEX(december!$A:$O,ROW()-404,COLUMN($C:$C)))","v":""},"Variabel",{"$f":"IF(INDEX(december!$A:$O,ROW()-404,COLUMN(K:K))=\"\",\"\",IF(INDEX(december!$A:$O,ROW()-404,COLUMN(A:A))=\"\",\"\",INDEX(december!$A:$O,ROW()-404,COLUMN(A:A))))","v":""},"",null,"",{"$f":"IF($D463=\"\",\"\",IF(INDEX(december!$A:$O,ROW()-404,COLUMN($L:$L))=\"\",\"\",INDEX(december!$A:$O,ROW()-404,COLUMN($L:$L))))","v":""},{"$f":"IF($D463=\"\",\"\",IF(INDEX(december!$A:$O,ROW()-404,COLUMN($H:$H))=\"\",\"\",INDEX(december!$A:$O,ROW()-404,COLUMN($H:$H))))","v":""}]
["",{"$f":"IF($D464=\"\",\"\",INDEX(december!$A:$O,ROW()-404,COLUMN($C:$C)))","v":""},"Variabel",{"$f":"IF(INDEX(december!$A:$O,ROW()-404,COLUMN(K:K))=\"\",\"\",IF(INDEX(december!$A:$O,ROW()-404,COLUMN(A:A))=\"\",\"\",INDEX(december!$A:$O,ROW()-404,COLUMN(A:A))))","v":""},"",null,"",{"$f":"IF($D464=\"\",\"\",IF(INDEX(december!$A:$O,ROW()-404,COLUMN($L:$L))=\"\",\"\",INDEX(december!$A:$O,ROW()-404,COLUMN($L:$L))))","v":""},{"$f":"IF($D464=\"\",\"\",IF(INDEX(december!$A:$O,ROW()-404,COLUMN($H:$H))=\"\",\"\",INDEX(december!$A:$O,ROW()-404,COLUMN($H:$H))))","v":""}]
["",{"$f":"IF($D465=\"\",\"\",INDEX(december!$A:$O,ROW()-404,COLUMN($C:$C)))","v":""},"Variabel",{"$f":"IF(INDEX(december!$A:$O,ROW()-404,COLUMN(K:K))=\"\",\"\",IF(INDEX(december!$A:$O,ROW()-404,COLUMN(A:A))=\"\",\"\",INDEX(december!$A:$O,ROW()-404,COLUMN(A:A))))","v":""},"",null,"",{"$f":"IF($D465=\"\",\"\",IF(INDEX(december!$A:$O,ROW()-404,COLUMN($L:$L))=\"\",\"\",INDEX(december!$A:$O,ROW()-404,COLUMN($L:$L))))","v":""},{"$f":"IF($D465=\"\",\"\",IF(INDEX(december!$A:$O,ROW()-404,COLUMN($H:$H))=\"\",\"\",INDEX(december!$A:$O,ROW()-404,COLUMN($H:$H))))","v":""}]
["",{"$f":"IF($D466=\"\",\"\",INDEX(december!$A:$O,ROW()-404,COLUMN($C:$C)))","v":""},"Variabel",{"$f":"IF(INDEX(december!$A:$O,ROW()-404,COLUMN(K:K))=\"\",\"\",IF(INDEX(december!$A:$O,ROW()-404,COLUMN(A:A))=\"\",\"\",INDEX(december!$A:$O,ROW()-404,COLUMN(A:A))))","v":""},"",null,"",{"$f":"IF($D466=\"\",\"\",IF(INDEX(december!$A:$O,ROW()-404,COLUMN($L:$L))=\"\",\"\",INDEX(december!$A:$O,ROW()-404,COLUMN($L:$L))))","v":""},{"$f":"IF($D466=\"\",\"\",IF(INDEX(december!$A:$O,ROW()-404,COLUMN($H:$H))=\"\",\"\",INDEX(december!$A:$O,ROW()-404,COLUMN($H:$H))))","v":""}]
["",{"$f":"IF($D467=\"\",\"\",INDEX(december!$A:$O,ROW()-404,COLUMN($C:$C)))","v":""},"Variabel",{"$f":"IF(INDEX(december!$A:$O,ROW()-404,COLUMN(K:K))=\"\",\"\",IF(INDEX(december!$A:$O,ROW()-404,COLUMN(A:A))=\"\",\"\",INDEX(december!$A:$O,ROW()-404,COLUMN(A:A))))","v":""},"",null,"",{"$f":"IF($D467=\"\",\"\",IF(INDEX(december!$A:$O,ROW()-404,COLUMN($L:$L))=\"\",\"\",INDEX(december!$A:$O,ROW()-404,COLUMN($L:$L))))","v":""},{"$f":"IF($D467=\"\",\"\",IF(INDEX(december!$A:$O,ROW()-404,COLUMN($H:$H))=\"\",\"\",INDEX(december!$A:$O,ROW()-404,COLUMN($H:$H))))","v":""}]
["",{"$f":"IF($D468=\"\",\"\",INDEX(december!$A:$O,ROW()-404,COLUMN($C:$C)))","v":""},"Variabel",{"$f":"IF(INDEX(december!$A:$O,ROW()-404,COLUMN(K:K))=\"\",\"\",IF(INDEX(december!$A:$O,ROW()-404,COLUMN(A:A))=\"\",\"\",INDEX(december!$A:$O,ROW()-404,COLUMN(A:A))))","v":""},"",null,"",{"$f":"IF($D468=\"\",\"\",IF(INDEX(december!$A:$O,ROW()-404,COLUMN($L:$L))=\"\",\"\",INDEX(december!$A:$O,ROW()-404,COLUMN($L:$L))))","v":""},{"$f":"IF($D468=\"\",\"\",IF(INDEX(december!$A:$O,ROW()-404,COLUMN($H:$H))=\"\",\"\",INDEX(december!$A:$O,ROW()-404,COLUMN($H:$H))))","v":""}]
["",{"$f":"IF($D469=\"\",\"\",INDEX(december!$A:$O,ROW()-404,COLUMN($C:$C)))","v":""},"Variabel",{"$f":"IF(INDEX(december!$A:$O,ROW()-404,COLUMN(K:K))=\"\",\"\",IF(INDEX(december!$A:$O,ROW()-404,COLUMN(A:A))=\"\",\"\",INDEX(december!$A:$O,ROW()-404,COLUMN(A:A))))","v":""},"",null,"",{"$f":"IF($D469=\"\",\"\",IF(INDEX(december!$A:$O,ROW()-404,COLUMN($L:$L))=\"\",\"\",INDEX(december!$A:$O,ROW()-404,COLUMN($L:$L))))","v":""},{"$f":"IF($D469=\"\",\"\",IF(INDEX(december!$A:$O,ROW()-404,COLUMN($H:$H))=\"\",\"\",INDEX(december!$A:$O,ROW()-404,COLUMN($H:$H))))","v":""}]
[{"$f":"IF($D470=\"\",\"\",$A$2)","v":""},{"$f":"IF($D470=\"\",\"\",INDEX(december!$A:$O,ROW()-404,COLUMN($C:$C)))","v":""},"Variabel",{"$f":"IF(INDEX(december!$A:$O,ROW()-404,COLUMN(K:K))=\"\",\"\",IF(INDEX(december!$A:$O,ROW()-404,COLUMN(A:A))=\"\",\"\",INDEX(december!$A:$O,ROW()-404,COLUMN(A:A))))","v":""},{"$f":"IF($D470=\"\",\"\",$F$2)","v":""},null,"",{"$f":"IF($D470=\"\",\"\",IF(INDEX(december!$A:$O,ROW()-404,COLUMN($L:$L))=\"\",\"\",INDEX(december!$A:$O,ROW()-404,COLUMN($L:$L))))","v":""},{"$f":"IF($D470=\"\",\"\",IF(INDEX(december!$A:$O,ROW()-404,COLUMN($H:$H))=\"\",\"\",INDEX(december!$A:$O,ROW()-404,COLUMN($H:$H))))","v":""}]
["",{"$f":"IF($D471=\"\",\"\",INDEX(december!$A:$O,ROW()-404,COLUMN($C:$C)))","v":""},"Variabel",{"$f":"IF(INDEX(december!$A:$O,ROW()-404,COLUMN(K:K))=\"\",\"\",IF(INDEX(december!$A:$O,ROW()-404,COLUMN(A:A))=\"\",\"\",INDEX(december!$A:$O,ROW()-404,COLUMN(A:A))))","v":""},"",null,{"$f":"IF($D471=\"\",\"\",9011)","v":""},{"$f":"IF($D471=\"\",\"\",IF(INDEX(december!$A:$O,ROW()-404,COLUMN($L:$L))=\"\",\"\",INDEX(december!$A:$O,ROW()-404,COLUMN($L:$L))))","v":""},{"$f":"IF($D471=\"\",\"\",IF(INDEX(december!$A:$O,ROW()-404,COLUMN($H:$H))=\"\",\"\",INDEX(december!$A:$O,ROW()-404,COLUMN($H:$H))))","v":""}]
["",{"$f":"IF($D472=\"\",\"\",INDEX(december!$A:$O,ROW()-404,COLUMN($C:$C)))","v":""},"Variabel",{"$f":"IF(INDEX(december!$A:$O,ROW()-404,COLUMN(K:K))=\"\",\"\",IF(INDEX(december!$A:$O,ROW()-404,COLUMN(A:A))=\"\",\"\",INDEX(december!$A:$O,ROW()-404,COLUMN(A:A))))","v":""},"",null,"",{"$f":"IF($D472=\"\",\"\",IF(INDEX(december!$A:$O,ROW()-404,COLUMN($L:$L))=\"\",\"\",INDEX(december!$A:$O,ROW()-404,COLUMN($L:$L))))","v":""},{"$f":"IF($D472=\"\",\"\",IF(INDEX(december!$A:$O,ROW()-404,COLUMN($H:$H))=\"\",\"\",INDEX(december!$A:$O,ROW()-404,COLUMN($H:$H))))","v":""}]
["",{"$f":"IF($D473=\"\",\"\",INDEX(december!$A:$O,ROW()-404,COLUMN($C:$C)))","v":""},"Variabel",{"$f":"IF(INDEX(december!$A:$O,ROW()-404,COLUMN(K:K))=\"\",\"\",IF(INDEX(december!$A:$O,ROW()-404,COLUMN(A:A))=\"\",\"\",INDEX(december!$A:$O,ROW()-404,COLUMN(A:A))))","v":""},"",null,"",{"$f":"IF($D473=\"\",\"\",IF(INDEX(december!$A:$O,ROW()-404,COLUMN($L:$L))=\"\",\"\",INDEX(december!$A:$O,ROW()-404,COLUMN($L:$L))))","v":""},{"$f":"IF($D473=\"\",\"\",IF(INDEX(december!$A:$O,ROW()-404,COLUMN($H:$H))=\"\",\"\",INDEX(december!$A:$O,ROW()-404,COLUMN($H:$H))))","v":""}]
["",{"$f":"IF($D474=\"\",\"\",INDEX(december!$A:$O,ROW()-404,COLUMN($C:$C)))","v":""},"Variabel",{"$f":"IF(INDEX(december!$A:$O,ROW()-404,COLUMN(K:K))=\"\",\"\",IF(INDEX(december!$A:$O,ROW()-404,COLUMN(A:A))=\"\",\"\",INDEX(december!$A:$O,ROW()-404,COLUMN(A:A))))","v":""},"",null,"",{"$f":"IF($D474=\"\",\"\",IF(INDEX(december!$A:$O,ROW()-404,COLUMN($L:$L))=\"\",\"\",INDEX(december!$A:$O,ROW()-404,COLUMN($L:$L))))","v":""},{"$f":"IF($D474=\"\",\"\",IF(INDEX(december!$A:$O,ROW()-404,COLUMN($H:$H))=\"\",\"\",INDEX(december!$A:$O,ROW()-404,COLUMN($H:$H))))","v":""}]
["",{"$f":"IF($D475=\"\",\"\",INDEX(december!$A:$O,ROW()-404,COLUMN($C:$C)))","v":""},"Variabel",{"$f":"IF(INDEX(december!$A:$O,ROW()-404,COLUMN(K:K))=\"\",\"\",IF(INDEX(december!$A:$O,ROW()-404,COLUMN(A:A))=\"\",\"\",INDEX(december!$A:$O,ROW()-404,COLUMN(A:A))))","v":""},"",null,"",{"$f":"IF($D475=\"\",\"\",IF(INDEX(december!$A:$O,ROW()-404,COLUMN($L:$L))=\"\",\"\",INDEX(december!$A:$O,ROW()-404,COLUMN($L:$L))))","v":""},{"$f":"IF($D475=\"\",\"\",IF(INDEX(december!$A:$O,ROW()-404,COLUMN($H:$H))=\"\",\"\",INDEX(december!$A:$O,ROW()-404,COLUMN($H:$H))))","v":""}]
["",{"$f":"IF($D476=\"\",\"\",INDEX(december!$A:$O,ROW()-404,COLUMN($C:$C)))","v":""},"Variabel",{"$f":"IF(INDEX(december!$A:$O,ROW()-404,COLUMN(K:K))=\"\",\"\",IF(INDEX(december!$A:$O,ROW()-404,COLUMN(A:A))=\"\",\"\",INDEX(december!$A:$O,ROW()-404,COLUMN(A:A))))","v":""},"",null,"",{"$f":"IF($D476=\"\",\"\",IF(INDEX(december!$A:$O,ROW()-404,COLUMN($L:$L))=\"\",\"\",INDEX(december!$A:$O,ROW()-404,COLUMN($L:$L))))","v":""},{"$f":"IF($D476=\"\",\"\",IF(INDEX(december!$A:$O,ROW()-404,COLUMN($H:$H))=\"\",\"\",INDEX(december!$A:$O,ROW()-404,COLUMN($H:$H))))","v":""}]
["",{"$f":"IF($D477=\"\",\"\",INDEX(december!$A:$O,ROW()-404,COLUMN($C:$C)))","v":""},"Variabel",{"$f":"IF(INDEX(december!$A:$O,ROW()-404,COLUMN(K:K))=\"\",\"\",IF(INDEX(december!$A:$O,ROW()-404,COLUMN(A:A))=\"\",\"\",INDEX(december!$A:$O,ROW()-404,COLUMN(A:A))))","v":""},"",null,"",{"$f":"IF($D477=\"\",\"\",IF(INDEX(december!$A:$O,ROW()-404,COLUMN($L:$L))=\"\",\"\",INDEX(december!$A:$O,ROW()-404,COLUMN($L:$L))))","v":""},{"$f":"IF($D477=\"\",\"\",IF(INDEX(december!$A:$O,ROW()-404,COLUMN($H:$H))=\"\",\"\",INDEX(december!$A:$O,ROW()-404,COLUMN($H:$H))))","v":""}]
["",{"$f":"IF($D478=\"\",\"\",INDEX(december!$A:$O,ROW()-404,COLUMN($C:$C)))","v":""},"Variabel",{"$f":"IF(INDEX(december!$A:$O,ROW()-404,COLUMN(K:K))=\"\",\"\",IF(INDEX(december!$A:$O,ROW()-404,COLUMN(A:A))=\"\",\"\",INDEX(december!$A:$O,ROW()-404,COLUMN(A:A))))","v":""},"",null,"",{"$f":"IF($D478=\"\",\"\",IF(INDEX(december!$A:$O,ROW()-404,COLUMN($L:$L))=\"\",\"\",INDEX(december!$A:$O,ROW()-404,COLUMN($L:$L))))","v":""},{"$f":"IF($D478=\"\",\"\",IF(INDEX(december!$A:$O,ROW()-404,COLUMN($H:$H))=\"\",\"\",INDEX(december!$A:$O,ROW()-404,COLUMN($H:$H))))","v":""}]
["",{"$f":"IF($D479=\"\",\"\",INDEX(december!$A:$O,ROW()-404,COLUMN($C:$C)))","v":""},"Variabel",{"$f":"IF(INDEX(december!$A:$O,ROW()-404,COLUMN(K:K))=\"\",\"\",IF(INDEX(december!$A:$O,ROW()-404,COLUMN(A:A))=\"\",\"\",INDEX(december!$A:$O,ROW()-404,COLUMN(A:A))))","v":""},"",null,"",{"$f":"IF($D479=\"\",\"\",IF(INDEX(december!$A:$O,ROW()-404,COLUMN($L:$L))=\"\",\"\",INDEX(december!$A:$O,ROW()-404,COLUMN($L:$L))))","v":""},{"$f":"IF($D479=\"\",\"\",IF(INDEX(december!$A:$O,ROW()-404,COLUMN($H:$H))=\"\",\"\",INDEX(december!$A:$O,ROW()-404,COLUMN($H:$H))))","v":""}]
["",{"$f":"IF($D480=\"\",\"\",INDEX(december!$A:$O,ROW()-404,COLUMN($C:$C)))","v":""},"Variabel",{"$f":"IF(INDEX(december!$A:$O,ROW()-404,COLUMN(K:K))=\"\",\"\",IF(INDEX(december!$A:$O,ROW()-404,COLUMN(A:A))=\"\",\"\",INDEX(december!$A:$O,ROW()-404,COLUMN(A:A))))","v":""},"",null,"",{"$f":"IF($D480=\"\",\"\",IF(INDEX(december!$A:$O,ROW()-404,COLUMN($L:$L))=\"\",\"\",INDEX(december!$A:$O,ROW()-404,COLUMN($L:$L))))","v":""},{"$f":"IF($D480=\"\",\"\",IF(INDEX(december!$A:$O,ROW()-404,COLUMN($H:$H))=\"\",\"\",INDEX(december!$A:$O,ROW()-404,COLUMN($H:$H))))","v":""}]
["",{"$f":"IF($D481=\"\",\"\",INDEX(december!$A:$O,ROW()-404,COLUMN($C:$C)))","v":""},"Variabel",{"$f":"IF(INDEX(december!$A:$O,ROW()-404,COLUMN(K:K))=\"\",\"\",IF(INDEX(december!$A:$O,ROW()-404,COLUMN(A:A))=\"\",\"\",INDEX(december!$A:$O,ROW()-404,COLUMN(A:A))))","v":""},"",null,"",{"$f":"IF($D481=\"\",\"\",IF(INDEX(december!$A:$O,ROW()-404,COLUMN($L:$L))=\"\",\"\",INDEX(december!$A:$O,ROW()-404,COLUMN($L:$L))))","v":""},{"$f":"IF($D481=\"\",\"\",IF(INDEX(december!$A:$O,ROW()-404,COLUMN($H:$H))=\"\",\"\",INDEX(december!$A:$O,ROW()-404,COLUMN($H:$H))))","v":""}]
["",{"$f":"IF($D482=\"\",\"\",INDEX(december!$A:$O,ROW()-404,COLUMN($C:$C)))","v":""},"Variabel",{"$f":"IF(INDEX(december!$A:$O,ROW()-404,COLUMN(K:K))=\"\",\"\",IF(INDEX(december!$A:$O,ROW()-404,COLUMN(A:A))=\"\",\"\",INDEX(december!$A:$O,ROW()-404,COLUMN(A:A))))","v":""},"",null,"",{"$f":"IF($D482=\"\",\"\",IF(INDEX(december!$A:$O,ROW()-404,COLUMN($L:$L))=\"\",\"\",INDEX(december!$A:$O,ROW()-404,COLUMN($L:$L))))","v":""},{"$f":"IF($D482=\"\",\"\",IF(INDEX(december!$A:$O,ROW()-404,COLUMN($H:$H))=\"\",\"\",INDEX(december!$A:$O,ROW()-404,COLUMN($H:$H))))","v":""}]
["",{"$f":"IF($D483=\"\",\"\",INDEX(december!$A:$O,ROW()-404,COLUMN($C:$C)))","v":""},"Variabel",{"$f":"IF(INDEX(december!$A:$O,ROW()-404,COLUMN(K:K))=\"\",\"\",IF(INDEX(december!$A:$O,ROW()-404,COLUMN(A:A))=\"\",\"\",INDEX(december!$A:$O,ROW()-404,COLUMN(A:A))))","v":""},"",null,"",{"$f":"IF($D483=\"\",\"\",IF(INDEX(december!$A:$O,ROW()-404,COLUMN($L:$L))=\"\",\"\",INDEX(december!$A:$O,ROW()-404,COLUMN($L:$L))))","v":""},{"$f":"IF($D483=\"\",\"\",IF(INDEX(december!$A:$O,ROW()-404,COLUMN($H:$H))=\"\",\"\",INDEX(december!$A:$O,ROW()-404,COLUMN($H:$H))))","v":""}]
["",{"$f":"IF($D484=\"\",\"\",INDEX(december!$A:$O,ROW()-404,COLUMN($C:$C)))","v":""},"Variabel",{"$f":"IF(INDEX(december!$A:$O,ROW()-404,COLUMN(K:K))=\"\",\"\",IF(INDEX(december!$A:$O,ROW()-404,COLUMN(A:A))=\"\",\"\",INDEX(december!$A:$O,ROW()-404,COLUMN(A:A))))","v":""},"",null,"",{"$f":"IF($D484=\"\",\"\",IF(INDEX(december!$A:$O,ROW()-404,COLUMN($L:$L))=\"\",\"\",INDEX(december!$A:$O,ROW()-404,COLUMN($L:$L))))","v":""},{"$f":"IF($D484=\"\",\"\",IF(INDEX(december!$A:$O,ROW()-404,COLUMN($H:$H))=\"\",\"\",INDEX(december!$A:$O,ROW()-404,COLUMN($H:$H))))","v":""}]
["",{"$f":"IF($D485=\"\",\"\",INDEX(december!$A:$O,ROW()-404,COLUMN($C:$C)))","v":""},"Variabel",{"$f":"IF(INDEX(december!$A:$O,ROW()-404,COLUMN(K:K))=\"\",\"\",IF(INDEX(december!$A:$O,ROW()-404,COLUMN(A:A))=\"\",\"\",INDEX(december!$A:$O,ROW()-404,COLUMN(A:A))))","v":""},"",null,"",{"$f":"IF($D485=\"\",\"\",IF(INDEX(december!$A:$O,ROW()-404,COLUMN($L:$L))=\"\",\"\",INDEX(december!$A:$O,ROW()-404,COLUMN($L:$L))))","v":""},{"$f":"IF($D485=\"\",\"\",IF(INDEX(december!$A:$O,ROW()-404,COLUMN($H:$H))=\"\",\"\",INDEX(december!$A:$O,ROW()-404,COLUMN($H:$H))))","v":""}]
["",{"$f":"IF($D486=\"\",\"\",INDEX(december!$A:$O,ROW()-404,COLUMN($C:$C)))","v":""},"Variabel",{"$f":"IF(INDEX(december!$A:$O,ROW()-404,COLUMN(K:K))=\"\",\"\",IF(INDEX(december!$A:$O,ROW()-404,COLUMN(A:A))=\"\",\"\",INDEX(december!$A:$O,ROW()-404,COLUMN(A:A))))","v":""},"",null,"",{"$f":"IF($D486=\"\",\"\",IF(INDEX(december!$A:$O,ROW()-404,COLUMN($L:$L))=\"\",\"\",INDEX(december!$A:$O,ROW()-404,COLUMN($L:$L))))","v":""},{"$f":"IF($D486=\"\",\"\",IF(INDEX(december!$A:$O,ROW()-404,COLUMN($H:$H))=\"\",\"\",INDEX(december!$A:$O,ROW()-404,COLUMN($H:$H))))","v":""}]
["",{"$f":"IF($D487=\"\",\"\",INDEX(december!$A:$O,ROW()-404,COLUMN($C:$C)))","v":""},"Variabel",{"$f":"IF(INDEX(december!$A:$O,ROW()-404,COLUMN(K:K))=\"\",\"\",IF(INDEX(december!$A:$O,ROW()-404,COLUMN(A:A))=\"\",\"\",INDEX(december!$A:$O,ROW()-404,COLUMN(A:A))))","v":""},"",null,"",{"$f":"IF($D487=\"\",\"\",IF(INDEX(december!$A:$O,ROW()-404,COLUMN($L:$L))=\"\",\"\",INDEX(december!$A:$O,ROW()-404,COLUMN($L:$L))))","v":""},{"$f":"IF($D487=\"\",\"\",IF(INDEX(december!$A:$O,ROW()-404,COLUMN($H:$H))=\"\",\"\",INDEX(december!$A:$O,ROW()-404,COLUMN($H:$H))))","v":""}]
["",{"$f":"IF($D488=\"\",\"\",INDEX(december!$A:$O,ROW()-404,COLUMN($C:$C)))","v":""},"Variabel",{"$f":"IF(INDEX(december!$A:$O,ROW()-404,COLUMN(K:K))=\"\",\"\",IF(INDEX(december!$A:$O,ROW()-404,COLUMN(A:A))=\"\",\"\",INDEX(december!$A:$O,ROW()-404,COLUMN(A:A))))","v":""},"",null,"",{"$f":"IF($D488=\"\",\"\",IF(INDEX(december!$A:$O,ROW()-404,COLUMN($L:$L))=\"\",\"\",INDEX(december!$A:$O,ROW()-404,COLUMN($L:$L))))","v":""},{"$f":"IF($D488=\"\",\"\",IF(INDEX(december!$A:$O,ROW()-404,COLUMN($H:$H))=\"\",\"\",INDEX(december!$A:$O,ROW()-404,COLUMN($H:$H))))","v":""}]
["",{"$f":"IF($D489=\"\",\"\",INDEX(december!$A:$O,ROW()-404,COLUMN($C:$C)))","v":""},"Variabel",{"$f":"IF(INDEX(december!$A:$O,ROW()-404,COLUMN(K:K))=\"\",\"\",IF(INDEX(december!$A:$O,ROW()-404,COLUMN(A:A))=\"\",\"\",INDEX(december!$A:$O,ROW()-404,COLUMN(A:A))))","v":""},"",null,"",{"$f":"IF($D489=\"\",\"\",IF(INDEX(december!$A:$O,ROW()-404,COLUMN($L:$L))=\"\",\"\",INDEX(december!$A:$O,ROW()-404,COLUMN($L:$L))))","v":""},{"$f":"IF($D489=\"\",\"\",IF(INDEX(december!$A:$O,ROW()-404,COLUMN($H:$H))=\"\",\"\",INDEX(december!$A:$O,ROW()-404,COLUMN($H:$H))))","v":""}]
["",{"$f":"IF($D490=\"\",\"\",INDEX(december!$A:$O,ROW()-404,COLUMN($C:$C)))","v":""},"Variabel",{"$f":"IF(INDEX(december!$A:$O,ROW()-404,COLUMN(K:K))=\"\",\"\",IF(INDEX(december!$A:$O,ROW()-404,COLUMN(A:A))=\"\",\"\",INDEX(december!$A:$O,ROW()-404,COLUMN(A:A))))","v":""},"",null,"",{"$f":"IF($D490=\"\",\"\",IF(INDEX(december!$A:$O,ROW()-404,COLUMN($L:$L))=\"\",\"\",INDEX(december!$A:$O,ROW()-404,COLUMN($L:$L))))","v":""},{"$f":"IF($D490=\"\",\"\",IF(INDEX(december!$A:$O,ROW()-404,COLUMN($H:$H))=\"\",\"\",INDEX(december!$A:$O,ROW()-404,COLUMN($H:$H))))","v":""}]
["",{"$f":"IF($D491=\"\",\"\",INDEX(december!$A:$O,ROW()-404,COLUMN($C:$C)))","v":""},"Variabel",{"$f":"IF(INDEX(december!$A:$O,ROW()-404,COLUMN(K:K))=\"\",\"\",IF(INDEX(december!$A:$O,ROW()-404,COLUMN(A:A))=\"\",\"\",INDEX(december!$A:$O,ROW()-404,COLUMN(A:A))))","v":""},"",null,"",{"$f":"IF($D491=\"\",\"\",IF(INDEX(december!$A:$O,ROW()-404,COLUMN($L:$L))=\"\",\"\",INDEX(december!$A:$O,ROW()-404,COLUMN($L:$L))))","v":""},{"$f":"IF($D491=\"\",\"\",IF(INDEX(december!$A:$O,ROW()-404,COLUMN($H:$H))=\"\",\"\",INDEX(december!$A:$O,ROW()-404,COLUMN($H:$H))))","v":""}]
["",{"$f":"IF($D492=\"\",\"\",INDEX(december!$A:$O,ROW()-404,COLUMN($C:$C)))","v":""},"Variabel",{"$f":"IF(INDEX(december!$A:$O,ROW()-404,COLUMN(K:K))=\"\",\"\",IF(INDEX(december!$A:$O,ROW()-404,COLUMN(A:A))=\"\",\"\",INDEX(december!$A:$O,ROW()-404,COLUMN(A:A))))","v":""},"",null,"",{"$f":"IF($D492=\"\",\"\",IF(INDEX(december!$A:$O,ROW()-404,COLUMN($L:$L))=\"\",\"\",INDEX(december!$A:$O,ROW()-404,COLUMN($L:$L))))","v":""},{"$f":"IF($D492=\"\",\"\",IF(INDEX(december!$A:$O,ROW()-404,COLUMN($H:$H))=\"\",\"\",INDEX(december!$A:$O,ROW()-404,COLUMN($H:$H))))","v":""}]
["",{"$f":"IF($D493=\"\",\"\",INDEX(december!$A:$O,ROW()-404,COLUMN($C:$C)))","v":""},"Variabel",{"$f":"IF(INDEX(december!$A:$O,ROW()-404,COLUMN(K:K))=\"\",\"\",IF(INDEX(december!$A:$O,ROW()-404,COLUMN(A:A))=\"\",\"\",INDEX(december!$A:$O,ROW()-404,COLUMN(A:A))))","v":""},"",null,"",{"$f":"IF($D493=\"\",\"\",IF(INDEX(december!$A:$O,ROW()-404,COLUMN($L:$L))=\"\",\"\",INDEX(december!$A:$O,ROW()-404,COLUMN($L:$L))))","v":""},{"$f":"IF($D493=\"\",\"\",IF(INDEX(december!$A:$O,ROW()-404,COLUMN($H:$H))=\"\",\"\",INDEX(december!$A:$O,ROW()-404,COLUMN($H:$H))))","v":""}]
["",{"$f":"IF($D494=\"\",\"\",INDEX(december!$A:$O,ROW()-404,COLUMN($C:$C)))","v":""},"Variabel",{"$f":"IF(INDEX(december!$A:$O,ROW()-404,COLUMN(K:K))=\"\",\"\",IF(INDEX(december!$A:$O,ROW()-404,COLUMN(A:A))=\"\",\"\",INDEX(december!$A:$O,ROW()-404,COLUMN(A:A))))","v":""},"",null,"",{"$f":"IF($D494=\"\",\"\",IF(INDEX(december!$A:$O,ROW()-404,COLUMN($L:$L))=\"\",\"\",INDEX(december!$A:$O,ROW()-404,COLUMN($L:$L))))","v":""},{"$f":"IF($D494=\"\",\"\",IF(INDEX(december!$A:$O,ROW()-404,COLUMN($H:$H))=\"\",\"\",INDEX(december!$A:$O,ROW()-404,COLUMN($H:$H))))","v":""}]
["",{"$f":"IF($D495=\"\",\"\",INDEX(december!$A:$O,ROW()-404,COLUMN($C:$C)))","v":""},"Variabel",{"$f":"IF(INDEX(december!$A:$O,ROW()-404,COLUMN(K:K))=\"\",\"\",IF(INDEX(december!$A:$O,ROW()-404,COLUMN(A:A))=\"\",\"\",INDEX(december!$A:$O,ROW()-404,COLUMN(A:A))))","v":""},"",null,"",{"$f":"IF($D495=\"\",\"\",IF(INDEX(december!$A:$O,ROW()-404,COLUMN($L:$L))=\"\",\"\",INDEX(december!$A:$O,ROW()-404,COLUMN($L:$L))))","v":""},{"$f":"IF($D495=\"\",\"\",IF(INDEX(december!$A:$O,ROW()-404,COLUMN($H:$H))=\"\",\"\",INDEX(december!$A:$O,ROW()-404,COLUMN($H:$H))))","v":""}]
["",{"$f":"IF($D496=\"\",\"\",INDEX(december!$A:$O,ROW()-404,COLUMN($C:$C)))","v":""},"Variabel",{"$f":"IF(INDEX(december!$A:$O,ROW()-404,COLUMN(K:K))=\"\",\"\",IF(INDEX(december!$A:$O,ROW()-404,COLUMN(A:A))=\"\",\"\",INDEX(december!$A:$O,ROW()-404,COLUMN(A:A))))","v":""},"",null,"",{"$f":"IF($D496=\"\",\"\",IF(INDEX(december!$A:$O,ROW()-404,COLUMN($L:$L))=\"\",\"\",INDEX(december!$A:$O,ROW()-404,COLUMN($L:$L))))","v":""},{"$f":"IF($D496=\"\",\"\",IF(INDEX(december!$A:$O,ROW()-404,COLUMN($H:$H))=\"\",\"\",INDEX(december!$A:$O,ROW()-404,COLUMN($H:$H))))","v":""}]
["",{"$f":"IF($D497=\"\",\"\",INDEX(december!$A:$O,ROW()-404,COLUMN($C:$C)))","v":""},"Variabel",{"$f":"IF(INDEX(december!$A:$O,ROW()-404,COLUMN(K:K))=\"\",\"\",IF(INDEX(december!$A:$O,ROW()-404,COLUMN(A:A))=\"\",\"\",INDEX(december!$A:$O,ROW()-404,COLUMN(A:A))))","v":""},"",null,"",{"$f":"IF($D497=\"\",\"\",IF(INDEX(december!$A:$O,ROW()-404,COLUMN($L:$L))=\"\",\"\",INDEX(december!$A:$O,ROW()-404,COLUMN($L:$L))))","v":""},{"$f":"IF($D497=\"\",\"\",IF(INDEX(december!$A:$O,ROW()-404,COLUMN($H:$H))=\"\",\"\",INDEX(december!$A:$O,ROW()-404,COLUMN($H:$H))))","v":""}]
["",{"$f":"IF($D498=\"\",\"\",INDEX(december!$A:$O,ROW()-404,COLUMN($C:$C)))","v":""},"Variabel",{"$f":"IF(INDEX(december!$A:$O,ROW()-404,COLUMN(K:K))=\"\",\"\",IF(INDEX(december!$A:$O,ROW()-404,COLUMN(A:A))=\"\",\"\",INDEX(december!$A:$O,ROW()-404,COLUMN(A:A))))","v":""},"",null,"",{"$f":"IF($D498=\"\",\"\",IF(INDEX(december!$A:$O,ROW()-404,COLUMN($L:$L))=\"\",\"\",INDEX(december!$A:$O,ROW()-404,COLUMN($L:$L))))","v":""},{"$f":"IF($D498=\"\",\"\",IF(INDEX(december!$A:$O,ROW()-404,COLUMN($H:$H))=\"\",\"\",INDEX(december!$A:$O,ROW()-404,COLUMN($H:$H))))","v":""}]
["",{"$f":"IF($D499=\"\",\"\",INDEX(december!$A:$O,ROW()-404,COLUMN($C:$C)))","v":""},"Variabel",{"$f":"IF(INDEX(december!$A:$O,ROW()-404,COLUMN(K:K))=\"\",\"\",IF(INDEX(december!$A:$O,ROW()-404,COLUMN(A:A))=\"\",\"\",INDEX(december!$A:$O,ROW()-404,COLUMN(A:A))))","v":""},"",null,"",{"$f":"IF($D499=\"\",\"\",IF(INDEX(december!$A:$O,ROW()-404,COLUMN($L:$L))=\"\",\"\",INDEX(december!$A:$O,ROW()-404,COLUMN($L:$L))))","v":""},{"$f":"IF($D499=\"\",\"\",IF(INDEX(december!$A:$O,ROW()-404,COLUMN($H:$H))=\"\",\"\",INDEX(december!$A:$O,ROW()-404,COLUMN($H:$H))))","v":""}]
["",{"$f":"IF($D500=\"\",\"\",INDEX(december!$A:$O,ROW()-404,COLUMN($C:$C)))","v":""},"Variabel",{"$f":"IF(INDEX(december!$A:$O,ROW()-404,COLUMN(K:K))=\"\",\"\",IF(INDEX(december!$A:$O,ROW()-404,COLUMN(A:A))=\"\",\"\",INDEX(december!$A:$O,ROW()-404,COLUMN(A:A))))","v":""},"",null,"",{"$f":"IF($D500=\"\",\"\",IF(INDEX(december!$A:$O,ROW()-404,COLUMN($L:$L))=\"\",\"\",INDEX(december!$A:$O,ROW()-404,COLUMN($L:$L))))","v":""},{"$f":"IF($D500=\"\",\"\",IF(INDEX(december!$A:$O,ROW()-404,COLUMN($H:$H))=\"\",\"\",INDEX(december!$A:$O,ROW()-404,COLUMN($H:$H))))","v":""}]
["",{"$f":"IF($D501=\"\",\"\",INDEX(december!$A:$O,ROW()-404,COLUMN($C:$C)))","v":""},"Variabel",{"$f":"IF(INDEX(december!$A:$O,ROW()-404,COLUMN(K:K))=\"\",\"\",IF(INDEX(december!$A:$O,ROW()-404,COLUMN(A:A))=\"\",\"\",INDEX(december!$A:$O,ROW()-404,COLUMN(A:A))))","v":""},"",null,"",{"$f":"IF($D501=\"\",\"\",IF(INDEX(december!$A:$O,ROW()-404,COLUMN($L:$L))=\"\",\"\",INDEX(december!$A:$O,ROW()-404,COLUMN($L:$L))))","v":""},{"$f":"IF($D501=\"\",\"\",IF(INDEX(december!$A:$O,ROW()-404,COLUMN($H:$H))=\"\",\"\",INDEX(december!$A:$O,ROW()-404,COLUMN($H:$H))))","v":""}]
["",{"$f":"IF($D502=\"\",\"\",INDEX(december!$A:$O,ROW()-404,COLUMN($C:$C)))","v":""},"Variabel",{"$f":"IF(INDEX(december!$A:$O,ROW()-404,COLUMN(K:K))=\"\",\"\",IF(INDEX(december!$A:$O,ROW()-404,COLUMN(A:A))=\"\",\"\",INDEX(december!$A:$O,ROW()-404,COLUMN(A:A))))","v":""},"",null,"",{"$f":"IF($D502=\"\",\"\",IF(INDEX(december!$A:$O,ROW()-404,COLUMN($L:$L))=\"\",\"\",INDEX(december!$A:$O,ROW()-404,COLUMN($L:$L))))","v":""},{"$f":"IF($D502=\"\",\"\",IF(INDEX(december!$A:$O,ROW()-404,COLUMN($H:$H))=\"\",\"\",INDEX(december!$A:$O,ROW()-404,COLUMN($H:$H))))","v":""}]
["",{"$f":"IF($D503=\"\",\"\",INDEX(december!$A:$O,ROW()-404,COLUMN($C:$C)))","v":""},"Variabel",{"$f":"IF(INDEX(december!$A:$O,ROW()-404,COLUMN(K:K))=\"\",\"\",IF(INDEX(december!$A:$O,ROW()-404,COLUMN(A:A))=\"\",\"\",INDEX(december!$A:$O,ROW()-404,COLUMN(A:A))))","v":""},"",null,"",{"$f":"IF($D503=\"\",\"\",IF(INDEX(december!$A:$O,ROW()-404,COLUMN($L:$L))=\"\",\"\",INDEX(december!$A:$O,ROW()-404,COLUMN($L:$L))))","v":""},{"$f":"IF($D503=\"\",\"\",IF(INDEX(december!$A:$O,ROW()-404,COLUMN($H:$H))=\"\",\"\",INDEX(december!$A:$O,ROW()-404,COLUMN($H:$H))))","v":""}]
[]
[null,"25% rejsegodtgørelse:"]
[{"$f":"IF($D506=\"\",\"\",$A$2)","v":""},{"$f":"IF($D506=\"\",\"\",INDEX(december!$A:$O,ROW()-504,COLUMN($C:$C)))","v":""},"Variabel",{"$f":"IF(INDEX(december!$A:$O,ROW()-504,COLUMN(M:M))=\"\",\"\",IF(INDEX(december!$A:$O,ROW()-504,COLUMN(A:A))=\"\",\"\",INDEX(december!$A:$O,ROW()-504,COLUMN(A:A))))","v":""},{"$f":"IF($D506=\"\",\"\",$F$2)","v":""},null,{"$f":"IF($D506=\"\",\"\",9030)","v":""},{"$f":"IF($D506=\"\",\"\",IF(INDEX(december!$A:$O,ROW()-504,COLUMN($N:$N))=\"\",\"\",INDEX(december!$A:$O,ROW()-504,COLUMN($N:$N))))","v":""},null,null,{"$f":"IF($D506=\"\",\"\",IF(INDEX(december!$A:$O,ROW()-504,COLUMN($M:$M))=\"\",\"\",INDEX(december!$A:$O,ROW()-504,COLUMN($M:$M))))","v":""}]
["",{"$f":"IF($D507=\"\",\"\",INDEX(december!$A:$O,ROW()-504,COLUMN($C:$C)))","v":""},"Variabel",{"$f":"IF(INDEX(december!$A:$O,ROW()-504,COLUMN(M:M))=\"\",\"\",IF(INDEX(december!$A:$O,ROW()-504,COLUMN(A:A))=\"\",\"\",INDEX(december!$A:$O,ROW()-504,COLUMN(A:A))))","v":""},"",null,{"$f":"IF($D507=\"\",\"\",9030)","v":""},{"$f":"IF($D507=\"\",\"\",IF(INDEX(december!$A:$O,ROW()-504,COLUMN($N:$N))=\"\",\"\",INDEX(december!$A:$O,ROW()-504,COLUMN($N:$N))))","v":""},null,null,{"$f":"IF($D507=\"\",\"\",IF(INDEX(december!$A:$O,ROW()-504,COLUMN($M:$M))=\"\",\"\",INDEX(december!$A:$O,ROW()-504,COLUMN($M:$M))))","v":""}]
["",{"$f":"IF($D508=\"\",\"\",INDEX(december!$A:$O,ROW()-504,COLUMN($C:$C)))","v":""},"Variabel",{"$f":"IF(INDEX(december!$A:$O,ROW()-504,COLUMN(M:M))=\"\",\"\",IF(INDEX(december!$A:$O,ROW()-504,COLUMN(A:A))=\"\",\"\",INDEX(december!$A:$O,ROW()-504,COLUMN(A:A))))","v":""},"",null,"",{"$f":"IF($D508=\"\",\"\",IF(INDEX(december!$A:$O,ROW()-504,COLUMN($N:$N))=\"\",\"\",INDEX(december!$A:$O,ROW()-504,COLUMN($N:$N))))","v":""},null,null,{"$f":"IF($D508=\"\",\"\",IF(INDEX(december!$A:$O,ROW()-504,COLUMN($M:$M))=\"\",\"\",INDEX(december!$A:$O,ROW()-504,COLUMN($M:$M))))","v":""}]
["",{"$f":"IF($D509=\"\",\"\",INDEX(december!$A:$O,ROW()-504,COLUMN($C:$C)))","v":""},"Variabel",{"$f":"IF(INDEX(december!$A:$O,ROW()-504,COLUMN(M:M))=\"\",\"\",IF(INDEX(december!$A:$O,ROW()-504,COLUMN(A:A))=\"\",\"\",INDEX(december!$A:$O,ROW()-504,COLUMN(A:A))))","v":""},"",null,"",{"$f":"IF($D509=\"\",\"\",IF(INDEX(december!$A:$O,ROW()-504,COLUMN($N:$N))=\"\",\"\",INDEX(december!$A:$O,ROW()-504,COLUMN($N:$N))))","v":""},null,null,{"$f":"IF($D509=\"\",\"\",IF(INDEX(december!$A:$O,ROW()-504,COLUMN($M:$M))=\"\",\"\",INDEX(december!$A:$O,ROW()-504,COLUMN($M:$M))))","v":""}]
["",{"$f":"IF($D510=\"\",\"\",INDEX(december!$A:$O,ROW()-504,COLUMN($C:$C)))","v":""},"Variabel",{"$f":"IF(INDEX(december!$A:$O,ROW()-504,COLUMN(M:M))=\"\",\"\",IF(INDEX(december!$A:$O,ROW()-504,COLUMN(A:A))=\"\",\"\",INDEX(december!$A:$O,ROW()-504,COLUMN(A:A))))","v":""},"",null,"",{"$f":"IF($D510=\"\",\"\",IF(INDEX(december!$A:$O,ROW()-504,COLUMN($N:$N))=\"\",\"\",INDEX(december!$A:$O,ROW()-504,COLUMN($N:$N))))","v":""},null,null,{"$f":"IF($D510=\"\",\"\",IF(INDEX(december!$A:$O,ROW()-504,COLUMN($M:$M))=\"\",\"\",INDEX(december!$A:$O,ROW()-504,COLUMN($M:$M))))","v":""}]
["",{"$f":"IF($D511=\"\",\"\",INDEX(december!$A:$O,ROW()-504,COLUMN($C:$C)))","v":""},"Variabel",{"$f":"IF(INDEX(december!$A:$O,ROW()-504,COLUMN(M:M))=\"\",\"\",IF(INDEX(december!$A:$O,ROW()-504,COLUMN(A:A))=\"\",\"\",INDEX(december!$A:$O,ROW()-504,COLUMN(A:A))))","v":""},"",null,"",{"$f":"IF($D511=\"\",\"\",IF(INDEX(december!$A:$O,ROW()-504,COLUMN($N:$N))=\"\",\"\",INDEX(december!$A:$O,ROW()-504,COLUMN($N:$N))))","v":""},null,null,{"$f":"IF($D511=\"\",\"\",IF(INDEX(december!$A:$O,ROW()-504,COLUMN($M:$M))=\"\",\"\",INDEX(december!$A:$O,ROW()-504,COLUMN($M:$M))))","v":""}]
["",{"$f":"IF($D512=\"\",\"\",INDEX(december!$A:$O,ROW()-504,COLUMN($C:$C)))","v":""},"Variabel",{"$f":"IF(INDEX(december!$A:$O,ROW()-504,COLUMN(M:M))=\"\",\"\",IF(INDEX(december!$A:$O,ROW()-504,COLUMN(A:A))=\"\",\"\",INDEX(december!$A:$O,ROW()-504,COLUMN(A:A))))","v":""},"",null,"",{"$f":"IF($D512=\"\",\"\",IF(INDEX(december!$A:$O,ROW()-504,COLUMN($N:$N))=\"\",\"\",INDEX(december!$A:$O,ROW()-504,COLUMN($N:$N))))","v":""},null,null,{"$f":"IF($D512=\"\",\"\",IF(INDEX(december!$A:$O,ROW()-504,COLUMN($M:$M))=\"\",\"\",INDEX(december!$A:$O,ROW()-504,COLUMN($M:$M))))","v":""}]
["",{"$f":"IF($D513=\"\",\"\",INDEX(december!$A:$O,ROW()-504,COLUMN($C:$C)))","v":""},"Variabel",{"$f":"IF(INDEX(december!$A:$O,ROW()-504,COLUMN(M:M))=\"\",\"\",IF(INDEX(december!$A:$O,ROW()-504,COLUMN(A:A))=\"\",\"\",INDEX(december!$A:$O,ROW()-504,COLUMN(A:A))))","v":""},"",null,"",{"$f":"IF($D513=\"\",\"\",IF(INDEX(december!$A:$O,ROW()-504,COLUMN($N:$N))=\"\",\"\",INDEX(december!$A:$O,ROW()-504,COLUMN($N:$N))))","v":""},null,null,{"$f":"IF($D513=\"\",\"\",IF(INDEX(december!$A:$O,ROW()-504,COLUMN($M:$M))=\"\",\"\",INDEX(december!$A:$O,ROW()-504,COLUMN($M:$M))))","v":""}]
["",{"$f":"IF($D514=\"\",\"\",INDEX(december!$A:$O,ROW()-504,COLUMN($C:$C)))","v":""},"Variabel",{"$f":"IF(INDEX(december!$A:$O,ROW()-504,COLUMN(M:M))=\"\",\"\",IF(INDEX(december!$A:$O,ROW()-504,COLUMN(A:A))=\"\",\"\",INDEX(december!$A:$O,ROW()-504,COLUMN(A:A))))","v":""},"",null,"",{"$f":"IF($D514=\"\",\"\",IF(INDEX(december!$A:$O,ROW()-504,COLUMN($N:$N))=\"\",\"\",INDEX(december!$A:$O,ROW()-504,COLUMN($N:$N))))","v":""},null,null,{"$f":"IF($D514=\"\",\"\",IF(INDEX(december!$A:$O,ROW()-504,COLUMN($M:$M))=\"\",\"\",INDEX(december!$A:$O,ROW()-504,COLUMN($M:$M))))","v":""}]
["",{"$f":"IF($D515=\"\",\"\",INDEX(december!$A:$O,ROW()-504,COLUMN($C:$C)))","v":""},"Variabel",{"$f":"IF(INDEX(december!$A:$O,ROW()-504,COLUMN(M:M))=\"\",\"\",IF(INDEX(december!$A:$O,ROW()-504,COLUMN(A:A))=\"\",\"\",INDEX(december!$A:$O,ROW()-504,COLUMN(A:A))))","v":""},"",null,"",{"$f":"IF($D515=\"\",\"\",IF(INDEX(december!$A:$O,ROW()-504,COLUMN($N:$N))=\"\",\"\",INDEX(december!$A:$O,ROW()-504,COLUMN($N:$N))))","v":""},null,null,{"$f":"IF($D515=\"\",\"\",IF(INDEX(december!$A:$O,ROW()-504,COLUMN($M:$M))=\"\",\"\",INDEX(december!$A:$O,ROW()-504,COLUMN($M:$M))))","v":""}]
["",{"$f":"IF($D516=\"\",\"\",INDEX(december!$A:$O,ROW()-504,COLUMN($C:$C)))","v":""},"Variabel",{"$f":"IF(INDEX(december!$A:$O,ROW()-504,COLUMN(M:M))=\"\",\"\",IF(INDEX(december!$A:$O,ROW()-504,COLUMN(A:A))=\"\",\"\",INDEX(december!$A:$O,ROW()-504,COLUMN(A:A))))","v":""},"",null,"",{"$f":"IF($D516=\"\",\"\",IF(INDEX(december!$A:$O,ROW()-504,COLUMN($N:$N))=\"\",\"\",INDEX(december!$A:$O,ROW()-504,COLUMN($N:$N))))","v":""},null,null,{"$f":"IF($D516=\"\",\"\",IF(INDEX(december!$A:$O,ROW()-504,COLUMN($M:$M))=\"\",\"\",INDEX(december!$A:$O,ROW()-504,COLUMN($M:$M))))","v":""}]
["",{"$f":"IF($D517=\"\",\"\",INDEX(december!$A:$O,ROW()-504,COLUMN($C:$C)))","v":""},"Variabel",{"$f":"IF(INDEX(december!$A:$O,ROW()-504,COLUMN(M:M))=\"\",\"\",IF(INDEX(december!$A:$O,ROW()-504,COLUMN(A:A))=\"\",\"\",INDEX(december!$A:$O,ROW()-504,COLUMN(A:A))))","v":""},"",null,"",{"$f":"IF($D517=\"\",\"\",IF(INDEX(december!$A:$O,ROW()-504,COLUMN($N:$N))=\"\",\"\",INDEX(december!$A:$O,ROW()-504,COLUMN($N:$N))))","v":""},null,null,{"$f":"IF($D517=\"\",\"\",IF(INDEX(december!$A:$O,ROW()-504,COLUMN($M:$M))=\"\",\"\",INDEX(december!$A:$O,ROW()-504,COLUMN($M:$M))))","v":""}]
["",{"$f":"IF($D518=\"\",\"\",INDEX(december!$A:$O,ROW()-504,COLUMN($C:$C)))","v":""},"Variabel",{"$f":"IF(INDEX(december!$A:$O,ROW()-504,COLUMN(M:M))=\"\",\"\",IF(INDEX(december!$A:$O,ROW()-504,COLUMN(A:A))=\"\",\"\",INDEX(december!$A:$O,ROW()-504,COLUMN(A:A))))","v":""},"",null,"",{"$f":"IF($D518=\"\",\"\",IF(INDEX(december!$A:$O,ROW()-504,COLUMN($N:$N))=\"\",\"\",INDEX(december!$A:$O,ROW()-504,COLUMN($N:$N))))","v":""},null,null,{"$f":"IF($D518=\"\",\"\",IF(INDEX(december!$A:$O,ROW()-504,COLUMN($M:$M))=\"\",\"\",INDEX(december!$A:$O,ROW()-504,COLUMN($M:$M))))","v":""}]
["",{"$f":"IF($D519=\"\",\"\",INDEX(december!$A:$O,ROW()-504,COLUMN($C:$C)))","v":""},"Variabel",{"$f":"IF(INDEX(december!$A:$O,ROW()-504,COLUMN(M:M))=\"\",\"\",IF(INDEX(december!$A:$O,ROW()-504,COLUMN(A:A))=\"\",\"\",INDEX(december!$A:$O,ROW()-504,COLUMN(A:A))))","v":""},"",null,"",{"$f":"IF($D519=\"\",\"\",IF(INDEX(december!$A:$O,ROW()-504,COLUMN($N:$N))=\"\",\"\",INDEX(december!$A:$O,ROW()-504,COLUMN($N:$N))))","v":""},null,null,{"$f":"IF($D519=\"\",\"\",IF(INDEX(december!$A:$O,ROW()-504,COLUMN($M:$M))=\"\",\"\",INDEX(december!$A:$O,ROW()-504,COLUMN($M:$M))))","v":""}]
["",{"$f":"IF($D520=\"\",\"\",INDEX(december!$A:$O,ROW()-504,COLUMN($C:$C)))","v":""},"Variabel",{"$f":"IF(INDEX(december!$A:$O,ROW()-504,COLUMN(M:M))=\"\",\"\",IF(INDEX(december!$A:$O,ROW()-504,COLUMN(A:A))=\"\",\"\",INDEX(december!$A:$O,ROW()-504,COLUMN(A:A))))","v":""},"",null,"",{"$f":"IF($D520=\"\",\"\",IF(INDEX(december!$A:$O,ROW()-504,COLUMN($N:$N))=\"\",\"\",INDEX(december!$A:$O,ROW()-504,COLUMN($N:$N))))","v":""},null,null,{"$f":"IF($D520=\"\",\"\",IF(INDEX(december!$A:$O,ROW()-504,COLUMN($M:$M))=\"\",\"\",INDEX(december!$A:$O,ROW()-504,COLUMN($M:$M))))","v":""}]
["",{"$f":"IF($D521=\"\",\"\",INDEX(december!$A:$O,ROW()-504,COLUMN($C:$C)))","v":""},"Variabel",{"$f":"IF(INDEX(december!$A:$O,ROW()-504,COLUMN(M:M))=\"\",\"\",IF(INDEX(december!$A:$O,ROW()-504,COLUMN(A:A))=\"\",\"\",INDEX(december!$A:$O,ROW()-504,COLUMN(A:A))))","v":""},"",null,"",{"$f":"IF($D521=\"\",\"\",IF(INDEX(december!$A:$O,ROW()-504,COLUMN($N:$N))=\"\",\"\",INDEX(december!$A:$O,ROW()-504,COLUMN($N:$N))))","v":""},null,null,{"$f":"IF($D521=\"\",\"\",IF(INDEX(december!$A:$O,ROW()-504,COLUMN($M:$M))=\"\",\"\",INDEX(december!$A:$O,ROW()-504,COLUMN($M:$M))))","v":""}]
["",{"$f":"IF($D522=\"\",\"\",INDEX(december!$A:$O,ROW()-504,COLUMN($C:$C)))","v":""},"Variabel",{"$f":"IF(INDEX(december!$A:$O,ROW()-504,COLUMN(M:M))=\"\",\"\",IF(INDEX(december!$A:$O,ROW()-504,COLUMN(A:A))=\"\",\"\",INDEX(december!$A:$O,ROW()-504,COLUMN(A:A))))","v":""},"",null,"",{"$f":"IF($D522=\"\",\"\",IF(INDEX(december!$A:$O,ROW()-504,COLUMN($N:$N))=\"\",\"\",INDEX(december!$A:$O,ROW()-504,COLUMN($N:$N))))","v":""},null,null,{"$f":"IF($D522=\"\",\"\",IF(INDEX(december!$A:$O,ROW()-504,COLUMN($M:$M))=\"\",\"\",INDEX(december!$A:$O,ROW()-504,COLUMN($M:$M))))","v":""}]
["",{"$f":"IF($D523=\"\",\"\",INDEX(december!$A:$O,ROW()-504,COLUMN($C:$C)))","v":""},"Variabel",{"$f":"IF(INDEX(december!$A:$O,ROW()-504,COLUMN(M:M))=\"\",\"\",IF(INDEX(december!$A:$O,ROW()-504,COLUMN(A:A))=\"\",\"\",INDEX(december!$A:$O,ROW()-504,COLUMN(A:A))))","v":""},"",null,"",{"$f":"IF($D523=\"\",\"\",IF(INDEX(december!$A:$O,ROW()-504,COLUMN($N:$N))=\"\",\"\",INDEX(december!$A:$O,ROW()-504,COLUMN($N:$N))))","v":""},null,null,{"$f":"IF($D523=\"\",\"\",IF(INDEX(december!$A:$O,ROW()-504,COLUMN($M:$M))=\"\",\"\",INDEX(december!$A:$O,ROW()-504,COLUMN($M:$M))))","v":""}]
["",{"$f":"IF($D524=\"\",\"\",INDEX(december!$A:$O,ROW()-504,COLUMN($C:$C)))","v":""},"Variabel",{"$f":"IF(INDEX(december!$A:$O,ROW()-504,COLUMN(M:M))=\"\",\"\",IF(INDEX(december!$A:$O,ROW()-504,COLUMN(A:A))=\"\",\"\",INDEX(december!$A:$O,ROW()-504,COLUMN(A:A))))","v":""},"",null,"",{"$f":"IF($D524=\"\",\"\",IF(INDEX(december!$A:$O,ROW()-504,COLUMN($N:$N))=\"\",\"\",INDEX(december!$A:$O,ROW()-504,COLUMN($N:$N))))","v":""},null,null,{"$f":"IF($D524=\"\",\"\",IF(INDEX(december!$A:$O,ROW()-504,COLUMN($M:$M))=\"\",\"\",INDEX(december!$A:$O,ROW()-504,COLUMN($M:$M))))","v":""}]
["",{"$f":"IF($D525=\"\",\"\",INDEX(december!$A:$O,ROW()-504,COLUMN($C:$C)))","v":""},"Variabel",{"$f":"IF(INDEX(december!$A:$O,ROW()-504,COLUMN(M:M))=\"\",\"\",IF(INDEX(december!$A:$O,ROW()-504,COLUMN(A:A))=\"\",\"\",INDEX(december!$A:$O,ROW()-504,COLUMN(A:A))))","v":""},"",null,"",{"$f":"IF($D525=\"\",\"\",IF(INDEX(december!$A:$O,ROW()-504,COLUMN($N:$N))=\"\",\"\",INDEX(december!$A:$O,ROW()-504,COLUMN($N:$N))))","v":""},null,null,{"$f":"IF($D525=\"\",\"\",IF(INDEX(december!$A:$O,ROW()-504,COLUMN($M:$M))=\"\",\"\",INDEX(december!$A:$O,ROW()-504,COLUMN($M:$M))))","v":""}]
["",{"$f":"IF($D526=\"\",\"\",INDEX(december!$A:$O,ROW()-504,COLUMN($C:$C)))","v":""},"Variabel",{"$f":"IF(INDEX(december!$A:$O,ROW()-504,COLUMN(M:M))=\"\",\"\",IF(INDEX(december!$A:$O,ROW()-504,COLUMN(A:A))=\"\",\"\",INDEX(december!$A:$O,ROW()-504,COLUMN(A:A))))","v":""},"",null,"",{"$f":"IF($D526=\"\",\"\",IF(INDEX(december!$A:$O,ROW()-504,COLUMN($N:$N))=\"\",\"\",INDEX(december!$A:$O,ROW()-504,COLUMN($N:$N))))","v":""},null,null,{"$f":"IF($D526=\"\",\"\",IF(INDEX(december!$A:$O,ROW()-504,COLUMN($M:$M))=\"\",\"\",INDEX(december!$A:$O,ROW()-504,COLUMN($M:$M))))","v":""}]
["",{"$f":"IF($D527=\"\",\"\",INDEX(december!$A:$O,ROW()-504,COLUMN($C:$C)))","v":""},"Variabel",{"$f":"IF(INDEX(december!$A:$O,ROW()-504,COLUMN(M:M))=\"\",\"\",IF(INDEX(december!$A:$O,ROW()-504,COLUMN(A:A))=\"\",\"\",INDEX(december!$A:$O,ROW()-504,COLUMN(A:A))))","v":""},"",null,"",{"$f":"IF($D527=\"\",\"\",IF(INDEX(december!$A:$O,ROW()-504,COLUMN($N:$N))=\"\",\"\",INDEX(december!$A:$O,ROW()-504,COLUMN($N:$N))))","v":""},null,null,{"$f":"IF($D527=\"\",\"\",IF(INDEX(december!$A:$O,ROW()-504,COLUMN($M:$M))=\"\",\"\",INDEX(december!$A:$O,ROW()-504,COLUMN($M:$M))))","v":""}]
["",{"$f":"IF($D528=\"\",\"\",INDEX(december!$A:$O,ROW()-504,COLUMN($C:$C)))","v":""},"Variabel",{"$f":"IF(INDEX(december!$A:$O,ROW()-504,COLUMN(M:M))=\"\",\"\",IF(INDEX(december!$A:$O,ROW()-504,COLUMN(A:A))=\"\",\"\",INDEX(december!$A:$O,ROW()-504,COLUMN(A:A))))","v":""},"",null,"",{"$f":"IF($D528=\"\",\"\",IF(INDEX(december!$A:$O,ROW()-504,COLUMN($N:$N))=\"\",\"\",INDEX(december!$A:$O,ROW()-504,COLUMN($N:$N))))","v":""},null,null,{"$f":"IF($D528=\"\",\"\",IF(INDEX(december!$A:$O,ROW()-504,COLUMN($M:$M))=\"\",\"\",INDEX(december!$A:$O,ROW()-504,COLUMN($M:$M))))","v":""}]
["",{"$f":"IF($D529=\"\",\"\",INDEX(december!$A:$O,ROW()-504,COLUMN($C:$C)))","v":""},"Variabel",{"$f":"IF(INDEX(december!$A:$O,ROW()-504,COLUMN(M:M))=\"\",\"\",IF(INDEX(december!$A:$O,ROW()-504,COLUMN(A:A))=\"\",\"\",INDEX(december!$A:$O,ROW()-504,COLUMN(A:A))))","v":""},"",null,"",{"$f":"IF($D529=\"\",\"\",IF(INDEX(december!$A:$O,ROW()-504,COLUMN($N:$N))=\"\",\"\",INDEX(december!$A:$O,ROW()-504,COLUMN($N:$N))))","v":""},null,null,{"$f":"IF($D529=\"\",\"\",IF(INDEX(december!$A:$O,ROW()-504,COLUMN($M:$M))=\"\",\"\",INDEX(december!$A:$O,ROW()-504,COLUMN($M:$M))))","v":""}]
["",{"$f":"IF($D530=\"\",\"\",INDEX(december!$A:$O,ROW()-504,COLUMN($C:$C)))","v":""},"Variabel",{"$f":"IF(INDEX(december!$A:$O,ROW()-504,COLUMN(M:M))=\"\",\"\",IF(INDEX(december!$A:$O,ROW()-504,COLUMN(A:A))=\"\",\"\",INDEX(december!$A:$O,ROW()-504,COLUMN(A:A))))","v":""},"",null,"",{"$f":"IF($D530=\"\",\"\",IF(INDEX(december!$A:$O,ROW()-504,COLUMN($N:$N))=\"\",\"\",INDEX(december!$A:$O,ROW()-504,COLUMN($N:$N))))","v":""},null,null,{"$f":"IF($D530=\"\",\"\",IF(INDEX(december!$A:$O,ROW()-504,COLUMN($M:$M))=\"\",\"\",INDEX(december!$A:$O,ROW()-504,COLUMN($M:$M))))","v":""}]
["",{"$f":"IF($D531=\"\",\"\",INDEX(december!$A:$O,ROW()-504,COLUMN($C:$C)))","v":""},"Variabel",{"$f":"IF(INDEX(december!$A:$O,ROW()-504,COLUMN(M:M))=\"\",\"\",IF(INDEX(december!$A:$O,ROW()-504,COLUMN(A:A))=\"\",\"\",INDEX(december!$A:$O,ROW()-504,COLUMN(A:A))))","v":""},"",null,"",{"$f":"IF($D531=\"\",\"\",IF(INDEX(december!$A:$O,ROW()-504,COLUMN($N:$N))=\"\",\"\",INDEX(december!$A:$O,ROW()-504,COLUMN($N:$N))))","v":""},null,null,{"$f":"IF($D531=\"\",\"\",IF(INDEX(december!$A:$O,ROW()-504,COLUMN($M:$M))=\"\",\"\",INDEX(december!$A:$O,ROW()-504,COLUMN($M:$M))))","v":""}]
["",{"$f":"IF($D532=\"\",\"\",INDEX(december!$A:$O,ROW()-504,COLUMN($C:$C)))","v":""},"Variabel",{"$f":"IF(INDEX(december!$A:$O,ROW()-504,COLUMN(M:M))=\"\",\"\",IF(INDEX(december!$A:$O,ROW()-504,COLUMN(A:A))=\"\",\"\",INDEX(december!$A:$O,ROW()-504,COLUMN(A:A))))","v":""},"",null,"",{"$f":"IF($D532=\"\",\"\",IF(INDEX(december!$A:$O,ROW()-504,COLUMN($N:$N))=\"\",\"\",INDEX(december!$A:$O,ROW()-504,COLUMN($N:$N))))","v":""},null,null,{"$f":"IF($D532=\"\",\"\",IF(INDEX(december!$A:$O,ROW()-504,COLUMN($M:$M))=\"\",\"\",INDEX(december!$A:$O,ROW()-504,COLUMN($M:$M))))","v":""}]
["",{"$f":"IF($D533=\"\",\"\",INDEX(december!$A:$O,ROW()-504,COLUMN($C:$C)))","v":""},"Variabel",{"$f":"IF(INDEX(december!$A:$O,ROW()-504,COLUMN(M:M))=\"\",\"\",IF(INDEX(december!$A:$O,ROW()-504,COLUMN(A:A))=\"\",\"\",INDEX(december!$A:$O,ROW()-504,COLUMN(A:A))))","v":""},"",null,"",{"$f":"IF($D533=\"\",\"\",IF(INDEX(december!$A:$O,ROW()-504,COLUMN($N:$N))=\"\",\"\",INDEX(december!$A:$O,ROW()-504,COLUMN($N:$N))))","v":""},null,null,{"$f":"IF($D533=\"\",\"\",IF(INDEX(december!$A:$O,ROW()-504,COLUMN($M:$M))=\"\",\"\",INDEX(december!$A:$O,ROW()-504,COLUMN($M:$M))))","v":""}]
["",{"$f":"IF($D534=\"\",\"\",INDEX(december!$A:$O,ROW()-504,COLUMN($C:$C)))","v":""},"Variabel",{"$f":"IF(INDEX(december!$A:$O,ROW()-504,COLUMN(M:M))=\"\",\"\",IF(INDEX(december!$A:$O,ROW()-504,COLUMN(A:A))=\"\",\"\",INDEX(december!$A:$O,ROW()-504,COLUMN(A:A))))","v":""},"",null,"",{"$f":"IF($D534=\"\",\"\",IF(INDEX(december!$A:$O,ROW()-504,COLUMN($N:$N))=\"\",\"\",INDEX(december!$A:$O,ROW()-504,COLUMN($N:$N))))","v":""},null,null,{"$f":"IF($D534=\"\",\"\",IF(INDEX(december!$A:$O,ROW()-504,COLUMN($M:$M))=\"\",\"\",INDEX(december!$A:$O,ROW()-504,COLUMN($M:$M))))","v":""}]
[3,{"$f":"IF($D535=\"\",\"\",INDEX(december!$A:$O,ROW()-504,COLUMN($C:$C)))","v":8},"Variabel",{"$f":"IF(INDEX(december!$A:$O,ROW()-504,COLUMN(M:M))=\"\",\"\",IF(INDEX(december!$A:$O,ROW()-504,COLUMN(A:A))=\"\",\"\",INDEX(december!$A:$O,ROW()-504,COLUMN(A:A))))","v":80020},"2012-01-12",null,9030,{"$f":"IF($D535=\"\",\"\",IF(INDEX(december!$A:$O,ROW()-504,COLUMN($N:$N))=\"\",\"\",INDEX(december!$A:$O,ROW()-504,COLUMN($N:$N))))","v":"Dobbelt okt/nov."},null,null,{"$f":"IF($D535=\"\",\"\",IF(INDEX(december!$A:$O,ROW()-504,COLUMN($M:$M))=\"\",\"\",INDEX(december!$A:$O,ROW()-504,COLUMN($M:$M))))","v":-3331.04}]
["",{"$f":"IF($D536=\"\",\"\",INDEX(december!$A:$O,ROW()-504,COLUMN($C:$C)))","v":""},"Variabel",{"$f":"IF(INDEX(december!$A:$O,ROW()-504,COLUMN(M:M))=\"\",\"\",IF(INDEX(december!$A:$O,ROW()-504,COLUMN(A:A))=\"\",\"\",INDEX(december!$A:$O,ROW()-504,COLUMN(A:A))))","v":""},"",null,"",{"$f":"IF($D536=\"\",\"\",IF(INDEX(december!$A:$O,ROW()-504,COLUMN($N:$N))=\"\",\"\",INDEX(december!$A:$O,ROW()-504,COLUMN($N:$N))))","v":""},null,null,{"$f":"IF($D536=\"\",\"\",IF(INDEX(december!$A:$O,ROW()-504,COLUMN($M:$M))=\"\",\"\",INDEX(december!$A:$O,ROW()-504,COLUMN($M:$M))))","v":""}]
["",{"$f":"IF($D537=\"\",\"\",INDEX(december!$A:$O,ROW()-504,COLUMN($C:$C)))","v":""},"Variabel",{"$f":"IF(INDEX(december!$A:$O,ROW()-504,COLUMN(M:M))=\"\",\"\",IF(INDEX(december!$A:$O,ROW()-504,COLUMN(A:A))=\"\",\"\",INDEX(december!$A:$O,ROW()-504,COLUMN(A:A))))","v":""},"",null,"",{"$f":"IF($D537=\"\",\"\",IF(INDEX(december!$A:$O,ROW()-504,COLUMN($N:$N))=\"\",\"\",INDEX(december!$A:$O,ROW()-504,COLUMN($N:$N))))","v":""},null,null,{"$f":"IF($D537=\"\",\"\",IF(INDEX(december!$A:$O,ROW()-504,COLUMN($M:$M))=\"\",\"\",INDEX(december!$A:$O,ROW()-504,COLUMN($M:$M))))","v":""}]
[{"$f":"IF($D538=\"\",\"\",$A$2)","v":""},{"$f":"IF($D538=\"\",\"\",INDEX(december!$A:$O,ROW()-504,COLUMN($C:$C)))","v":""},"Variabel",{"$f":"IF(INDEX(december!$A:$O,ROW()-504,COLUMN(M:M))=\"\",\"\",IF(INDEX(december!$A:$O,ROW()-504,COLUMN(A:A))=\"\",\"\",INDEX(december!$A:$O,ROW()-504,COLUMN(A:A))))","v":""},{"$f":"IF($D538=\"\",\"\",$F$2)","v":""},null,"",{"$f":"IF($D538=\"\",\"\",IF(INDEX(december!$A:$O,ROW()-504,COLUMN($N:$N))=\"\",\"\",INDEX(december!$A:$O,ROW()-504,COLUMN($N:$N))))","v":""},null,null,{"$f":"IF($D538=\"\",\"\",IF(INDEX(december!$A:$O,ROW()-504,COLUMN($M:$M))=\"\",\"\",INDEX(december!$A:$O,ROW()-504,COLUMN($M:$M))))","v":""}]
["",{"$f":"IF($D539=\"\",\"\",INDEX(december!$A:$O,ROW()-504,COLUMN($C:$C)))","v":""},"Variabel",{"$f":"IF(INDEX(december!$A:$O,ROW()-504,COLUMN(M:M))=\"\",\"\",IF(INDEX(december!$A:$O,ROW()-504,COLUMN(A:A))=\"\",\"\",INDEX(december!$A:$O,ROW()-504,COLUMN(A:A))))","v":""},"",null,"",{"$f":"IF($D539=\"\",\"\",IF(INDEX(december!$A:$O,ROW()-504,COLUMN($N:$N))=\"\",\"\",INDEX(december!$A:$O,ROW()-504,COLUMN($N:$N))))","v":""},null,null,{"$f":"IF($D539=\"\",\"\",IF(INDEX(december!$A:$O,ROW()-504,COLUMN($M:$M))=\"\",\"\",INDEX(december!$A:$O,ROW()-504,COLUMN($M:$M))))","v":""}]
["",{"$f":"IF($D540=\"\",\"\",INDEX(december!$A:$O,ROW()-504,COLUMN($C:$C)))","v":""},"Variabel",{"$f":"IF(INDEX(december!$A:$O,ROW()-504,COLUMN(M:M))=\"\",\"\",IF(INDEX(december!$A:$O,ROW()-504,COLUMN(A:A))=\"\",\"\",INDEX(december!$A:$O,ROW()-504,COLUMN(A:A))))","v":""},"",null,"",{"$f":"IF($D540=\"\",\"\",IF(INDEX(december!$A:$O,ROW()-504,COLUMN($N:$N))=\"\",\"\",INDEX(december!$A:$O,ROW()-504,COLUMN($N:$N))))","v":""},null,null,{"$f":"IF($D540=\"\",\"\",IF(INDEX(december!$A:$O,ROW()-504,COLUMN($M:$M))=\"\",\"\",INDEX(december!$A:$O,ROW()-504,COLUMN($M:$M))))","v":""}]
["",{"$f":"IF($D541=\"\",\"\",INDEX(december!$A:$O,ROW()-504,COLUMN($C:$C)))","v":""},"Variabel",{"$f":"IF(INDEX(december!$A:$O,ROW()-504,COLUMN(M:M))=\"\",\"\",IF(INDEX(december!$A:$O,ROW()-504,COLUMN(A:A))=\"\",\"\",INDEX(december!$A:$O,ROW()-504,COLUMN(A:A))))","v":""},"",null,"",{"$f":"IF($D541=\"\",\"\",IF(INDEX(december!$A:$O,ROW()-504,COLUMN($N:$N))=\"\",\"\",INDEX(december!$A:$O,ROW()-504,COLUMN($N:$N))))","v":""},null,null,{"$f":"IF($D541=\"\",\"\",IF(INDEX(december!$A:$O,ROW()-504,COLUMN($M:$M))=\"\",\"\",INDEX(december!$A:$O,ROW()-504,COLUMN($M:$M))))","v":""}]
["",{"$f":"IF($D542=\"\",\"\",INDEX(december!$A:$O,ROW()-504,COLUMN($C:$C)))","v":""},"Variabel",{"$f":"IF(INDEX(december!$A:$O,ROW()-504,COLUMN(M:M))=\"\",\"\",IF(INDEX(december!$A:$O,ROW()-504,COLUMN(A:A))=\"\",\"\",INDEX(december!$A:$O,ROW()-504,COLUMN(A:A))))","v":""},"",null,"",{"$f":"IF($D542=\"\",\"\",IF(INDEX(december!$A:$O,ROW()-504,COLUMN($N:$N))=\"\",\"\",INDEX(december!$A:$O,ROW()-504,COLUMN($N:$N))))","v":""},null,null,{"$f":"IF($D542=\"\",\"\",IF(INDEX(december!$A:$O,ROW()-504,COLUMN($M:$M))=\"\",\"\",INDEX(december!$A:$O,ROW()-504,COLUMN($M:$M))))","v":""}]
["",{"$f":"IF($D543=\"\",\"\",INDEX(december!$A:$O,ROW()-504,COLUMN($C:$C)))","v":""},"Variabel",{"$f":"IF(INDEX(december!$A:$O,ROW()-504,COLUMN(M:M))=\"\",\"\",IF(INDEX(december!$A:$O,ROW()-504,COLUMN(A:A))=\"\",\"\",INDEX(december!$A:$O,ROW()-504,COLUMN(A:A))))","v":""},"",null,"",{"$f":"IF($D543=\"\",\"\",IF(INDEX(december!$A:$O,ROW()-504,COLUMN($N:$N))=\"\",\"\",INDEX(december!$A:$O,ROW()-504,COLUMN($N:$N))))","v":""},null,null,{"$f":"IF($D543=\"\",\"\",IF(INDEX(december!$A:$O,ROW()-504,COLUMN($M:$M))=\"\",\"\",INDEX(december!$A:$O,ROW()-504,COLUMN($M:$M))))","v":""}]
["",{"$f":"IF($D544=\"\",\"\",INDEX(december!$A:$O,ROW()-504,COLUMN($C:$C)))","v":""},"Variabel",{"$f":"IF(INDEX(december!$A:$O,ROW()-504,COLUMN(M:M))=\"\",\"\",IF(INDEX(december!$A:$O,ROW()-504,COLUMN(A:A))=\"\",\"\",INDEX(december!$A:$O,ROW()-504,COLUMN(A:A))))","v":""},"",null,"",{"$f":"IF($D544=\"\",\"\",IF(INDEX(december!$A:$O,ROW()-504,COLUMN($N:$N))=\"\",\"\",INDEX(december!$A:$O,ROW()-504,COLUMN($N:$N))))","v":""},null,null,{"$f":"IF($D544=\"\",\"\",IF(INDEX(december!$A:$O,ROW()-504,COLUMN($M:$M))=\"\",\"\",INDEX(december!$A:$O,ROW()-504,COLUMN($M:$M))))","v":""}]
["",{"$f":"IF($D545=\"\",\"\",INDEX(december!$A:$O,ROW()-504,COLUMN($C:$C)))","v":""},"Variabel",{"$f":"IF(INDEX(december!$A:$O,ROW()-504,COLUMN(M:M))=\"\",\"\",IF(INDEX(december!$A:$O,ROW()-504,COLUMN(A:A))=\"\",\"\",INDEX(december!$A:$O,ROW()-504,COLUMN(A:A))))","v":""},"",null,"",{"$f":"IF($D545=\"\",\"\",IF(INDEX(december!$A:$O,ROW()-504,COLUMN($N:$N))=\"\",\"\",INDEX(december!$A:$O,ROW()-504,COLUMN($N:$N))))","v":""},null,null,{"$f":"IF($D545=\"\",\"\",IF(INDEX(december!$A:$O,ROW()-504,COLUMN($M:$M))=\"\",\"\",INDEX(december!$A:$O,ROW()-504,COLUMN($M:$M))))","v":""}]
["",{"$f":"IF($D546=\"\",\"\",INDEX(december!$A:$O,ROW()-504,COLUMN($C:$C)))","v":""},"Variabel",{"$f":"IF(INDEX(december!$A:$O,ROW()-504,COLUMN(M:M))=\"\",\"\",IF(INDEX(december!$A:$O,ROW()-504,COLUMN(A:A))=\"\",\"\",INDEX(december!$A:$O,ROW()-504,COLUMN(A:A))))","v":""},"",null,"",{"$f":"IF($D546=\"\",\"\",IF(INDEX(december!$A:$O,ROW()-504,COLUMN($N:$N))=\"\",\"\",INDEX(december!$A:$O,ROW()-504,COLUMN($N:$N))))","v":""},null,null,{"$f":"IF($D546=\"\",\"\",IF(INDEX(december!$A:$O,ROW()-504,COLUMN($M:$M))=\"\",\"\",INDEX(december!$A:$O,ROW()-504,COLUMN($M:$M))))","v":""}]
["",{"$f":"IF($D547=\"\",\"\",INDEX(december!$A:$O,ROW()-504,COLUMN($C:$C)))","v":""},"Variabel",{"$f":"IF(INDEX(december!$A:$O,ROW()-504,COLUMN(M:M))=\"\",\"\",IF(INDEX(december!$A:$O,ROW()-504,COLUMN(A:A))=\"\",\"\",INDEX(december!$A:$O,ROW()-504,COLUMN(A:A))))","v":""},"",null,"",{"$f":"IF($D547=\"\",\"\",IF(INDEX(december!$A:$O,ROW()-504,COLUMN($N:$N))=\"\",\"\",INDEX(december!$A:$O,ROW()-504,COLUMN($N:$N))))","v":""},null,null,{"$f":"IF($D547=\"\",\"\",IF(INDEX(december!$A:$O,ROW()-504,COLUMN($M:$M))=\"\",\"\",INDEX(december!$A:$O,ROW()-504,COLUMN($M:$M))))","v":""}]
["",{"$f":"IF($D548=\"\",\"\",INDEX(december!$A:$O,ROW()-504,COLUMN($C:$C)))","v":""},"Variabel",{"$f":"IF(INDEX(december!$A:$O,ROW()-504,COLUMN(M:M))=\"\",\"\",IF(INDEX(december!$A:$O,ROW()-504,COLUMN(A:A))=\"\",\"\",INDEX(december!$A:$O,ROW()-504,COLUMN(A:A))))","v":""},"",null,"",{"$f":"IF($D548=\"\",\"\",IF(INDEX(december!$A:$O,ROW()-504,COLUMN($N:$N))=\"\",\"\",INDEX(december!$A:$O,ROW()-504,COLUMN($N:$N))))","v":""},null,null,{"$f":"IF($D548=\"\",\"\",IF(INDEX(december!$A:$O,ROW()-504,COLUMN($M:$M))=\"\",\"\",INDEX(december!$A:$O,ROW()-504,COLUMN($M:$M))))","v":""}]
["",{"$f":"IF($D549=\"\",\"\",INDEX(december!$A:$O,ROW()-504,COLUMN($C:$C)))","v":""},"Variabel",{"$f":"IF(INDEX(december!$A:$O,ROW()-504,COLUMN(M:M))=\"\",\"\",IF(INDEX(december!$A:$O,ROW()-504,COLUMN(A:A))=\"\",\"\",INDEX(december!$A:$O,ROW()-504,COLUMN(A:A))))","v":""},"",null,"",{"$f":"IF($D549=\"\",\"\",IF(INDEX(december!$A:$O,ROW()-504,COLUMN($N:$N))=\"\",\"\",INDEX(december!$A:$O,ROW()-504,COLUMN($N:$N))))","v":""},null,null,{"$f":"IF($D549=\"\",\"\",IF(INDEX(december!$A:$O,ROW()-504,COLUMN($M:$M))=\"\",\"\",INDEX(december!$A:$O,ROW()-504,COLUMN($M:$M))))","v":""}]
["",{"$f":"IF($D550=\"\",\"\",INDEX(december!$A:$O,ROW()-504,COLUMN($C:$C)))","v":""},"Variabel",{"$f":"IF(INDEX(december!$A:$O,ROW()-504,COLUMN(M:M))=\"\",\"\",IF(INDEX(december!$A:$O,ROW()-504,COLUMN(A:A))=\"\",\"\",INDEX(december!$A:$O,ROW()-504,COLUMN(A:A))))","v":""},"",null,"",{"$f":"IF($D550=\"\",\"\",IF(INDEX(december!$A:$O,ROW()-504,COLUMN($N:$N))=\"\",\"\",INDEX(december!$A:$O,ROW()-504,COLUMN($N:$N))))","v":""},null,null,{"$f":"IF($D550=\"\",\"\",IF(INDEX(december!$A:$O,ROW()-504,COLUMN($M:$M))=\"\",\"\",INDEX(december!$A:$O,ROW()-504,COLUMN($M:$M))))","v":""}]
["",{"$f":"IF($D551=\"\",\"\",INDEX(december!$A:$O,ROW()-504,COLUMN($C:$C)))","v":""},"Variabel",{"$f":"IF(INDEX(december!$A:$O,ROW()-504,COLUMN(M:M))=\"\",\"\",IF(INDEX(december!$A:$O,ROW()-504,COLUMN(A:A))=\"\",\"\",INDEX(december!$A:$O,ROW()-504,COLUMN(A:A))))","v":""},"",null,"",{"$f":"IF($D551=\"\",\"\",IF(INDEX(december!$A:$O,ROW()-504,COLUMN($N:$N))=\"\",\"\",INDEX(december!$A:$O,ROW()-504,COLUMN($N:$N))))","v":""},null,null,{"$f":"IF($D551=\"\",\"\",IF(INDEX(december!$A:$O,ROW()-504,COLUMN($M:$M))=\"\",\"\",INDEX(december!$A:$O,ROW()-504,COLUMN($M:$M))))","v":""}]
["",{"$f":"IF($D552=\"\",\"\",INDEX(december!$A:$O,ROW()-504,COLUMN($C:$C)))","v":""},"Variabel",{"$f":"IF(INDEX(december!$A:$O,ROW()-504,COLUMN(M:M))=\"\",\"\",IF(INDEX(december!$A:$O,ROW()-504,COLUMN(A:A))=\"\",\"\",INDEX(december!$A:$O,ROW()-504,COLUMN(A:A))))","v":""},"",null,"",{"$f":"IF($D552=\"\",\"\",IF(INDEX(december!$A:$O,ROW()-504,COLUMN($N:$N))=\"\",\"\",INDEX(december!$A:$O,ROW()-504,COLUMN($N:$N))))","v":""},null,null,{"$f":"IF($D552=\"\",\"\",IF(INDEX(december!$A:$O,ROW()-504,COLUMN($M:$M))=\"\",\"\",INDEX(december!$A:$O,ROW()-504,COLUMN($M:$M))))","v":""}]
["",{"$f":"IF($D553=\"\",\"\",INDEX(december!$A:$O,ROW()-504,COLUMN($C:$C)))","v":""},"Variabel",{"$f":"IF(INDEX(december!$A:$O,ROW()-504,COLUMN(M:M))=\"\",\"\",IF(INDEX(december!$A:$O,ROW()-504,COLUMN(A:A))=\"\",\"\",INDEX(december!$A:$O,ROW()-504,COLUMN(A:A))))","v":""},"",null,"",{"$f":"IF($D553=\"\",\"\",IF(INDEX(december!$A:$O,ROW()-504,COLUMN($N:$N))=\"\",\"\",INDEX(december!$A:$O,ROW()-504,COLUMN($N:$N))))","v":""},null,null,{"$f":"IF($D553=\"\",\"\",IF(INDEX(december!$A:$O,ROW()-504,COLUMN($M:$M))=\"\",\"\",INDEX(december!$A:$O,ROW()-504,COLUMN($M:$M))))","v":""}]
["",{"$f":"IF($D554=\"\",\"\",INDEX(december!$A:$O,ROW()-504,COLUMN($C:$C)))","v":""},"Variabel",{"$f":"IF(INDEX(december!$A:$O,ROW()-504,COLUMN(M:M))=\"\",\"\",IF(INDEX(december!$A:$O,ROW()-504,COLUMN(A:A))=\"\",\"\",INDEX(december!$A:$O,ROW()-504,COLUMN(A:A))))","v":""},"",null,"",{"$f":"IF($D554=\"\",\"\",IF(INDEX(december!$A:$O,ROW()-504,COLUMN($N:$N))=\"\",\"\",INDEX(december!$A:$O,ROW()-504,COLUMN($N:$N))))","v":""},null,null,{"$f":"IF($D554=\"\",\"\",IF(INDEX(december!$A:$O,ROW()-504,COLUMN($M:$M))=\"\",\"\",INDEX(december!$A:$O,ROW()-504,COLUMN($M:$M))))","v":""}]
["",{"$f":"IF($D555=\"\",\"\",INDEX(december!$A:$O,ROW()-504,COLUMN($C:$C)))","v":""},"Variabel",{"$f":"IF(INDEX(december!$A:$O,ROW()-504,COLUMN(M:M))=\"\",\"\",IF(INDEX(december!$A:$O,ROW()-504,COLUMN(A:A))=\"\",\"\",INDEX(december!$A:$O,ROW()-504,COLUMN(A:A))))","v":""},"",null,"",{"$f":"IF($D555=\"\",\"\",IF(INDEX(december!$A:$O,ROW()-504,COLUMN($N:$N))=\"\",\"\",INDEX(december!$A:$O,ROW()-504,COLUMN($N:$N))))","v":""},null,null,{"$f":"IF($D555=\"\",\"\",IF(INDEX(december!$A:$O,ROW()-504,COLUMN($M:$M))=\"\",\"\",INDEX(december!$A:$O,ROW()-504,COLUMN($M:$M))))","v":""}]
["",{"$f":"IF($D556=\"\",\"\",INDEX(december!$A:$O,ROW()-504,COLUMN($C:$C)))","v":""},"Variabel",{"$f":"IF(INDEX(december!$A:$O,ROW()-504,COLUMN(M:M))=\"\",\"\",IF(INDEX(december!$A:$O,ROW()-504,COLUMN(A:A))=\"\",\"\",INDEX(december!$A:$O,ROW()-504,COLUMN(A:A))))","v":""},"",null,"",{"$f":"IF($D556=\"\",\"\",IF(INDEX(december!$A:$O,ROW()-504,COLUMN($N:$N))=\"\",\"\",INDEX(december!$A:$O,ROW()-504,COLUMN($N:$N))))","v":""},null,null,{"$f":"IF($D556=\"\",\"\",IF(INDEX(december!$A:$O,ROW()-504,COLUMN($M:$M))=\"\",\"\",INDEX(december!$A:$O,ROW()-504,COLUMN($M:$M))))","v":""}]
["",{"$f":"IF($D557=\"\",\"\",INDEX(december!$A:$O,ROW()-504,COLUMN($C:$C)))","v":""},"Variabel",{"$f":"IF(INDEX(december!$A:$O,ROW()-504,COLUMN(M:M))=\"\",\"\",IF(INDEX(december!$A:$O,ROW()-504,COLUMN(A:A))=\"\",\"\",INDEX(december!$A:$O,ROW()-504,COLUMN(A:A))))","v":""},"",null,"",{"$f":"IF($D557=\"\",\"\",IF(INDEX(december!$A:$O,ROW()-504,COLUMN($N:$N))=\"\",\"\",INDEX(december!$A:$O,ROW()-504,COLUMN($N:$N))))","v":""},null,null,{"$f":"IF($D557=\"\",\"\",IF(INDEX(december!$A:$O,ROW()-504,COLUMN($M:$M))=\"\",\"\",INDEX(december!$A:$O,ROW()-504,COLUMN($M:$M))))","v":""}]
["",{"$f":"IF($D558=\"\",\"\",INDEX(december!$A:$O,ROW()-504,COLUMN($C:$C)))","v":""},"Variabel",{"$f":"IF(INDEX(december!$A:$O,ROW()-504,COLUMN(M:M))=\"\",\"\",IF(INDEX(december!$A:$O,ROW()-504,COLUMN(A:A))=\"\",\"\",INDEX(december!$A:$O,ROW()-504,COLUMN(A:A))))","v":""},"",null,"",{"$f":"IF($D558=\"\",\"\",IF(INDEX(december!$A:$O,ROW()-504,COLUMN($N:$N))=\"\",\"\",INDEX(december!$A:$O,ROW()-504,COLUMN($N:$N))))","v":""},null,null,{"$f":"IF($D558=\"\",\"\",IF(INDEX(december!$A:$O,ROW()-504,COLUMN($M:$M))=\"\",\"\",INDEX(december!$A:$O,ROW()-504,COLUMN($M:$M))))","v":""}]
["",{"$f":"IF($D559=\"\",\"\",INDEX(december!$A:$O,ROW()-504,COLUMN($C:$C)))","v":""},"Variabel",{"$f":"IF(INDEX(december!$A:$O,ROW()-504,COLUMN(M:M))=\"\",\"\",IF(INDEX(december!$A:$O,ROW()-504,COLUMN(A:A))=\"\",\"\",INDEX(december!$A:$O,ROW()-504,COLUMN(A:A))))","v":""},"",null,"",{"$f":"IF($D559=\"\",\"\",IF(INDEX(december!$A:$O,ROW()-504,COLUMN($N:$N))=\"\",\"\",INDEX(december!$A:$O,ROW()-504,COLUMN($N:$N))))","v":""},null,null,{"$f":"IF($D559=\"\",\"\",IF(INDEX(december!$A:$O,ROW()-504,COLUMN($M:$M))=\"\",\"\",INDEX(december!$A:$O,ROW()-504,COLUMN($M:$M))))","v":""}]
["",{"$f":"IF($D560=\"\",\"\",INDEX(december!$A:$O,ROW()-504,COLUMN($C:$C)))","v":""},"Variabel",{"$f":"IF(INDEX(december!$A:$O,ROW()-504,COLUMN(M:M))=\"\",\"\",IF(INDEX(december!$A:$O,ROW()-504,COLUMN(A:A))=\"\",\"\",INDEX(december!$A:$O,ROW()-504,COLUMN(A:A))))","v":""},"",null,"",{"$f":"IF($D560=\"\",\"\",IF(INDEX(december!$A:$O,ROW()-504,COLUMN($N:$N))=\"\",\"\",INDEX(december!$A:$O,ROW()-504,COLUMN($N:$N))))","v":""},null,null,{"$f":"IF($D560=\"\",\"\",IF(INDEX(december!$A:$O,ROW()-504,COLUMN($M:$M))=\"\",\"\",INDEX(december!$A:$O,ROW()-504,COLUMN($M:$M))))","v":""}]
["",{"$f":"IF($D561=\"\",\"\",INDEX(december!$A:$O,ROW()-504,COLUMN($C:$C)))","v":""},"Variabel",{"$f":"IF(INDEX(december!$A:$O,ROW()-504,COLUMN(M:M))=\"\",\"\",IF(INDEX(december!$A:$O,ROW()-504,COLUMN(A:A))=\"\",\"\",INDEX(december!$A:$O,ROW()-504,COLUMN(A:A))))","v":""},"",null,"",{"$f":"IF($D561=\"\",\"\",IF(INDEX(december!$A:$O,ROW()-504,COLUMN($N:$N))=\"\",\"\",INDEX(december!$A:$O,ROW()-504,COLUMN($N:$N))))","v":""},null,null,{"$f":"IF($D561=\"\",\"\",IF(INDEX(december!$A:$O,ROW()-504,COLUMN($M:$M))=\"\",\"\",INDEX(december!$A:$O,ROW()-504,COLUMN($M:$M))))","v":""}]
["",{"$f":"IF($D562=\"\",\"\",INDEX(december!$A:$O,ROW()-504,COLUMN($C:$C)))","v":""},"Variabel",{"$f":"IF(INDEX(december!$A:$O,ROW()-504,COLUMN(M:M))=\"\",\"\",IF(INDEX(december!$A:$O,ROW()-504,COLUMN(A:A))=\"\",\"\",INDEX(december!$A:$O,ROW()-504,COLUMN(A:A))))","v":""},"",null,"",{"$f":"IF($D562=\"\",\"\",IF(INDEX(december!$A:$O,ROW()-504,COLUMN($N:$N))=\"\",\"\",INDEX(december!$A:$O,ROW()-504,COLUMN($N:$N))))","v":""},null,null,{"$f":"IF($D562=\"\",\"\",IF(INDEX(december!$A:$O,ROW()-504,COLUMN($M:$M))=\"\",\"\",INDEX(december!$A:$O,ROW()-504,COLUMN($M:$M))))","v":""}]
["",{"$f":"IF($D563=\"\",\"\",INDEX(december!$A:$O,ROW()-504,COLUMN($C:$C)))","v":""},"Variabel",{"$f":"IF(INDEX(december!$A:$O,ROW()-504,COLUMN(M:M))=\"\",\"\",IF(INDEX(december!$A:$O,ROW()-504,COLUMN(A:A))=\"\",\"\",INDEX(december!$A:$O,ROW()-504,COLUMN(A:A))))","v":""},"",null,"",{"$f":"IF($D563=\"\",\"\",IF(INDEX(december!$A:$O,ROW()-504,COLUMN($N:$N))=\"\",\"\",INDEX(december!$A:$O,ROW()-504,COLUMN($N:$N))))","v":""},null,null,{"$f":"IF($D563=\"\",\"\",IF(INDEX(december!$A:$O,ROW()-504,COLUMN($M:$M))=\"\",\"\",INDEX(december!$A:$O,ROW()-504,COLUMN($M:$M))))","v":""}]
["",{"$f":"IF($D564=\"\",\"\",INDEX(december!$A:$O,ROW()-504,COLUMN($C:$C)))","v":""},"Variabel",{"$f":"IF(INDEX(december!$A:$O,ROW()-504,COLUMN(M:M))=\"\",\"\",IF(INDEX(december!$A:$O,ROW()-504,COLUMN(A:A))=\"\",\"\",INDEX(december!$A:$O,ROW()-504,COLUMN(A:A))))","v":""},"",null,"",{"$f":"IF($D564=\"\",\"\",IF(INDEX(december!$A:$O,ROW()-504,COLUMN($N:$N))=\"\",\"\",INDEX(december!$A:$O,ROW()-504,COLUMN($N:$N))))","v":""},null,null,{"$f":"IF($D564=\"\",\"\",IF(INDEX(december!$A:$O,ROW()-504,COLUMN($M:$M))=\"\",\"\",INDEX(december!$A:$O,ROW()-504,COLUMN($M:$M))))","v":""}]
["",{"$f":"IF($D565=\"\",\"\",INDEX(december!$A:$O,ROW()-504,COLUMN($C:$C)))","v":""},"Variabel",{"$f":"IF(INDEX(december!$A:$O,ROW()-504,COLUMN(M:M))=\"\",\"\",IF(INDEX(december!$A:$O,ROW()-504,COLUMN(A:A))=\"\",\"\",INDEX(december!$A:$O,ROW()-504,COLUMN(A:A))))","v":""},"",null,"",{"$f":"IF($D565=\"\",\"\",IF(INDEX(december!$A:$O,ROW()-504,COLUMN($N:$N))=\"\",\"\",INDEX(december!$A:$O,ROW()-504,COLUMN($N:$N))))","v":""},null,null,{"$f":"IF($D565=\"\",\"\",IF(INDEX(december!$A:$O,ROW()-504,COLUMN($M:$M))=\"\",\"\",INDEX(december!$A:$O,ROW()-504,COLUMN($M:$M))))","v":""}]
["",{"$f":"IF($D566=\"\",\"\",INDEX(december!$A:$O,ROW()-504,COLUMN($C:$C)))","v":""},"Variabel",{"$f":"IF(INDEX(december!$A:$O,ROW()-504,COLUMN(M:M))=\"\",\"\",IF(INDEX(december!$A:$O,ROW()-504,COLUMN(A:A))=\"\",\"\",INDEX(december!$A:$O,ROW()-504,COLUMN(A:A))))","v":""},"",null,"",{"$f":"IF($D566=\"\",\"\",IF(INDEX(december!$A:$O,ROW()-504,COLUMN($N:$N))=\"\",\"\",INDEX(december!$A:$O,ROW()-504,COLUMN($N:$N))))","v":""},null,null,{"$f":"IF($D566=\"\",\"\",IF(INDEX(december!$A:$O,ROW()-504,COLUMN($M:$M))=\"\",\"\",INDEX(december!$A:$O,ROW()-504,COLUMN($M:$M))))","v":""}]
["",{"$f":"IF($D567=\"\",\"\",INDEX(december!$A:$O,ROW()-504,COLUMN($C:$C)))","v":""},"Variabel",{"$f":"IF(INDEX(december!$A:$O,ROW()-504,COLUMN(M:M))=\"\",\"\",IF(INDEX(december!$A:$O,ROW()-504,COLUMN(A:A))=\"\",\"\",INDEX(december!$A:$O,ROW()-504,COLUMN(A:A))))","v":""},"",null,"",{"$f":"IF($D567=\"\",\"\",IF(INDEX(december!$A:$O,ROW()-504,COLUMN($N:$N))=\"\",\"\",INDEX(december!$A:$O,ROW()-504,COLUMN($N:$N))))","v":""},null,null,{"$f":"IF($D567=\"\",\"\",IF(INDEX(december!$A:$O,ROW()-504,COLUMN($M:$M))=\"\",\"\",INDEX(december!$A:$O,ROW()-504,COLUMN($M:$M))))","v":""}]
["",{"$f":"IF($D568=\"\",\"\",INDEX(december!$A:$O,ROW()-504,COLUMN($C:$C)))","v":""},"Variabel",{"$f":"IF(INDEX(december!$A:$O,ROW()-504,COLUMN(M:M))=\"\",\"\",IF(INDEX(december!$A:$O,ROW()-504,COLUMN(A:A))=\"\",\"\",INDEX(december!$A:$O,ROW()-504,COLUMN(A:A))))","v":""},"",null,"",{"$f":"IF($D568=\"\",\"\",IF(INDEX(december!$A:$O,ROW()-504,COLUMN($N:$N))=\"\",\"\",INDEX(december!$A:$O,ROW()-504,COLUMN($N:$N))))","v":""},null,null,{"$f":"IF($D568=\"\",\"\",IF(INDEX(december!$A:$O,ROW()-504,COLUMN($M:$M))=\"\",\"\",INDEX(december!$A:$O,ROW()-504,COLUMN($M:$M))))","v":""}]
["",{"$f":"IF($D569=\"\",\"\",INDEX(december!$A:$O,ROW()-504,COLUMN($C:$C)))","v":""},"Variabel",{"$f":"IF(INDEX(december!$A:$O,ROW()-504,COLUMN(M:M))=\"\",\"\",IF(INDEX(december!$A:$O,ROW()-504,COLUMN(A:A))=\"\",\"\",INDEX(december!$A:$O,ROW()-504,COLUMN(A:A))))","v":""},"",null,"",{"$f":"IF($D569=\"\",\"\",IF(INDEX(december!$A:$O,ROW()-504,COLUMN($N:$N))=\"\",\"\",INDEX(december!$A:$O,ROW()-504,COLUMN($N:$N))))","v":""},null,null,{"$f":"IF($D569=\"\",\"\",IF(INDEX(december!$A:$O,ROW()-504,COLUMN($M:$M))=\"\",\"\",INDEX(december!$A:$O,ROW()-504,COLUMN($M:$M))))","v":""}]
[{"$f":"IF($D570=\"\",\"\",$A$2)","v":""},{"$f":"IF($D570=\"\",\"\",INDEX(december!$A:$O,ROW()-504,COLUMN($C:$C)))","v":""},"Variabel",{"$f":"IF(INDEX(december!$A:$O,ROW()-504,COLUMN(M:M))=\"\",\"\",IF(INDEX(december!$A:$O,ROW()-504,COLUMN(A:A))=\"\",\"\",INDEX(december!$A:$O,ROW()-504,COLUMN(A:A))))","v":""},{"$f":"IF($D570=\"\",\"\",$F$2)","v":""},null,"",{"$f":"IF($D570=\"\",\"\",IF(INDEX(december!$A:$O,ROW()-504,COLUMN($N:$N))=\"\",\"\",INDEX(december!$A:$O,ROW()-504,COLUMN($N:$N))))","v":""},null,null,{"$f":"IF($D570=\"\",\"\",IF(INDEX(december!$A:$O,ROW()-504,COLUMN($M:$M))=\"\",\"\",INDEX(december!$A:$O,ROW()-504,COLUMN($M:$M))))","v":""}]
["",{"$f":"IF($D571=\"\",\"\",INDEX(december!$A:$O,ROW()-504,COLUMN($C:$C)))","v":""},"Variabel",{"$f":"IF(INDEX(december!$A:$O,ROW()-504,COLUMN(M:M))=\"\",\"\",IF(INDEX(december!$A:$O,ROW()-504,COLUMN(A:A))=\"\",\"\",INDEX(december!$A:$O,ROW()-504,COLUMN(A:A))))","v":""},"",null,{"$f":"IF($D571=\"\",\"\",9030)","v":""},{"$f":"IF($D571=\"\",\"\",IF(INDEX(december!$A:$O,ROW()-504,COLUMN($N:$N))=\"\",\"\",INDEX(december!$A:$O,ROW()-504,COLUMN($N:$N))))","v":""},null,null,{"$f":"IF($D571=\"\",\"\",IF(INDEX(december!$A:$O,ROW()-504,COLUMN($M:$M))=\"\",\"\",INDEX(december!$A:$O,ROW()-504,COLUMN($M:$M))))","v":""}]
["",{"$f":"IF($D572=\"\",\"\",INDEX(december!$A:$O,ROW()-504,COLUMN($C:$C)))","v":""},"Variabel",{"$f":"IF(INDEX(december!$A:$O,ROW()-504,COLUMN(M:M))=\"\",\"\",IF(INDEX(december!$A:$O,ROW()-504,COLUMN(A:A))=\"\",\"\",INDEX(december!$A:$O,ROW()-504,COLUMN(A:A))))","v":""},"",null,"",{"$f":"IF($D572=\"\",\"\",IF(INDEX(december!$A:$O,ROW()-504,COLUMN($N:$N))=\"\",\"\",INDEX(december!$A:$O,ROW()-504,COLUMN($N:$N))))","v":""},null,null,{"$f":"IF($D572=\"\",\"\",IF(INDEX(december!$A:$O,ROW()-504,COLUMN($M:$M))=\"\",\"\",INDEX(december!$A:$O,ROW()-504,COLUMN($M:$M))))","v":""}]
["",{"$f":"IF($D573=\"\",\"\",INDEX(december!$A:$O,ROW()-504,COLUMN($C:$C)))","v":""},"Variabel",{"$f":"IF(INDEX(december!$A:$O,ROW()-504,COLUMN(M:M))=\"\",\"\",IF(INDEX(december!$A:$O,ROW()-504,COLUMN(A:A))=\"\",\"\",INDEX(december!$A:$O,ROW()-504,COLUMN(A:A))))","v":""},"",null,"",{"$f":"IF($D573=\"\",\"\",IF(INDEX(december!$A:$O,ROW()-504,COLUMN($N:$N))=\"\",\"\",INDEX(december!$A:$O,ROW()-504,COLUMN($N:$N))))","v":""},null,null,{"$f":"IF($D573=\"\",\"\",IF(INDEX(december!$A:$O,ROW()-504,COLUMN($M:$M))=\"\",\"\",INDEX(december!$A:$O,ROW()-504,COLUMN($M:$M))))","v":""}]
["",{"$f":"IF($D574=\"\",\"\",INDEX(december!$A:$O,ROW()-504,COLUMN($C:$C)))","v":""},"Variabel",{"$f":"IF(INDEX(december!$A:$O,ROW()-504,COLUMN(M:M))=\"\",\"\",IF(INDEX(december!$A:$O,ROW()-504,COLUMN(A:A))=\"\",\"\",INDEX(december!$A:$O,ROW()-504,COLUMN(A:A))))","v":""},"",null,"",{"$f":"IF($D574=\"\",\"\",IF(INDEX(december!$A:$O,ROW()-504,COLUMN($N:$N))=\"\",\"\",INDEX(december!$A:$O,ROW()-504,COLUMN($N:$N))))","v":""},null,null,{"$f":"IF($D574=\"\",\"\",IF(INDEX(december!$A:$O,ROW()-504,COLUMN($M:$M))=\"\",\"\",INDEX(december!$A:$O,ROW()-504,COLUMN($M:$M))))","v":""}]
["",{"$f":"IF($D575=\"\",\"\",INDEX(december!$A:$O,ROW()-504,COLUMN($C:$C)))","v":""},"Variabel",{"$f":"IF(INDEX(december!$A:$O,ROW()-504,COLUMN(M:M))=\"\",\"\",IF(INDEX(december!$A:$O,ROW()-504,COLUMN(A:A))=\"\",\"\",INDEX(december!$A:$O,ROW()-504,COLUMN(A:A))))","v":""},"",null,"",{"$f":"IF($D575=\"\",\"\",IF(INDEX(december!$A:$O,ROW()-504,COLUMN($N:$N))=\"\",\"\",INDEX(december!$A:$O,ROW()-504,COLUMN($N:$N))))","v":""},null,null,{"$f":"IF($D575=\"\",\"\",IF(INDEX(december!$A:$O,ROW()-504,COLUMN($M:$M))=\"\",\"\",INDEX(december!$A:$O,ROW()-504,COLUMN($M:$M))))","v":""}]
["",{"$f":"IF($D576=\"\",\"\",INDEX(december!$A:$O,ROW()-504,COLUMN($C:$C)))","v":""},"Variabel",{"$f":"IF(INDEX(december!$A:$O,ROW()-504,COLUMN(M:M))=\"\",\"\",IF(INDEX(december!$A:$O,ROW()-504,COLUMN(A:A))=\"\",\"\",INDEX(december!$A:$O,ROW()-504,COLUMN(A:A))))","v":""},"",null,"",{"$f":"IF($D576=\"\",\"\",IF(INDEX(december!$A:$O,ROW()-504,COLUMN($N:$N))=\"\",\"\",INDEX(december!$A:$O,ROW()-504,COLUMN($N:$N))))","v":""},null,null,{"$f":"IF($D576=\"\",\"\",IF(INDEX(december!$A:$O,ROW()-504,COLUMN($M:$M))=\"\",\"\",INDEX(december!$A:$O,ROW()-504,COLUMN($M:$M))))","v":""}]
["",{"$f":"IF($D577=\"\",\"\",INDEX(december!$A:$O,ROW()-504,COLUMN($C:$C)))","v":""},"Variabel",{"$f":"IF(INDEX(december!$A:$O,ROW()-504,COLUMN(M:M))=\"\",\"\",IF(INDEX(december!$A:$O,ROW()-504,COLUMN(A:A))=\"\",\"\",INDEX(december!$A:$O,ROW()-504,COLUMN(A:A))))","v":""},"",null,"",{"$f":"IF($D577=\"\",\"\",IF(INDEX(december!$A:$O,ROW()-504,COLUMN($N:$N))=\"\",\"\",INDEX(december!$A:$O,ROW()-504,COLUMN($N:$N))))","v":""},null,null,{"$f":"IF($D577=\"\",\"\",IF(INDEX(december!$A:$O,ROW()-504,COLUMN($M:$M))=\"\",\"\",INDEX(december!$A:$O,ROW()-504,COLUMN($M:$M))))","v":""}]
["",{"$f":"IF($D578=\"\",\"\",INDEX(december!$A:$O,ROW()-504,COLUMN($C:$C)))","v":""},"Variabel",{"$f":"IF(INDEX(december!$A:$O,ROW()-504,COLUMN(M:M))=\"\",\"\",IF(INDEX(december!$A:$O,ROW()-504,COLUMN(A:A))=\"\",\"\",INDEX(december!$A:$O,ROW()-504,COLUMN(A:A))))","v":""},"",null,"",{"$f":"IF($D578=\"\",\"\",IF(INDEX(december!$A:$O,ROW()-504,COLUMN($N:$N))=\"\",\"\",INDEX(december!$A:$O,ROW()-504,COLUMN($N:$N))))","v":""},null,null,{"$f":"IF($D578=\"\",\"\",IF(INDEX(december!$A:$O,ROW()-504,COLUMN($M:$M))=\"\",\"\",INDEX(december!$A:$O,ROW()-504,COLUMN($M:$M))))","v":""}]
["",{"$f":"IF($D579=\"\",\"\",INDEX(december!$A:$O,ROW()-504,COLUMN($C:$C)))","v":""},"Variabel",{"$f":"IF(INDEX(december!$A:$O,ROW()-504,COLUMN(M:M))=\"\",\"\",IF(INDEX(december!$A:$O,ROW()-504,COLUMN(A:A))=\"\",\"\",INDEX(december!$A:$O,ROW()-504,COLUMN(A:A))))","v":""},"",null,"",{"$f":"IF($D579=\"\",\"\",IF(INDEX(december!$A:$O,ROW()-504,COLUMN($N:$N))=\"\",\"\",INDEX(december!$A:$O,ROW()-504,COLUMN($N:$N))))","v":""},null,null,{"$f":"IF($D579=\"\",\"\",IF(INDEX(december!$A:$O,ROW()-504,COLUMN($M:$M))=\"\",\"\",INDEX(december!$A:$O,ROW()-504,COLUMN($M:$M))))","v":""}]
["",{"$f":"IF($D580=\"\",\"\",INDEX(december!$A:$O,ROW()-504,COLUMN($C:$C)))","v":""},"Variabel",{"$f":"IF(INDEX(december!$A:$O,ROW()-504,COLUMN(M:M))=\"\",\"\",IF(INDEX(december!$A:$O,ROW()-504,COLUMN(A:A))=\"\",\"\",INDEX(december!$A:$O,ROW()-504,COLUMN(A:A))))","v":""},"",null,"",{"$f":"IF($D580=\"\",\"\",IF(INDEX(december!$A:$O,ROW()-504,COLUMN($N:$N))=\"\",\"\",INDEX(december!$A:$O,ROW()-504,COLUMN($N:$N))))","v":""},null,null,{"$f":"IF($D580=\"\",\"\",IF(INDEX(december!$A:$O,ROW()-504,COLUMN($M:$M))=\"\",\"\",INDEX(december!$A:$O,ROW()-504,COLUMN($M:$M))))","v":""}]
["",{"$f":"IF($D581=\"\",\"\",INDEX(december!$A:$O,ROW()-504,COLUMN($C:$C)))","v":""},"Variabel",{"$f":"IF(INDEX(december!$A:$O,ROW()-504,COLUMN(M:M))=\"\",\"\",IF(INDEX(december!$A:$O,ROW()-504,COLUMN(A:A))=\"\",\"\",INDEX(december!$A:$O,ROW()-504,COLUMN(A:A))))","v":""},"",null,"",{"$f":"IF($D581=\"\",\"\",IF(INDEX(december!$A:$O,ROW()-504,COLUMN($N:$N))=\"\",\"\",INDEX(december!$A:$O,ROW()-504,COLUMN($N:$N))))","v":""},null,null,{"$f":"IF($D581=\"\",\"\",IF(INDEX(december!$A:$O,ROW()-504,COLUMN($M:$M))=\"\",\"\",INDEX(december!$A:$O,ROW()-504,COLUMN($M:$M))))","v":""}]
["",{"$f":"IF($D582=\"\",\"\",INDEX(december!$A:$O,ROW()-504,COLUMN($C:$C)))","v":""},"Variabel",{"$f":"IF(INDEX(december!$A:$O,ROW()-504,COLUMN(M:M))=\"\",\"\",IF(INDEX(december!$A:$O,ROW()-504,COLUMN(A:A))=\"\",\"\",INDEX(december!$A:$O,ROW()-504,COLUMN(A:A))))","v":""},"",null,"",{"$f":"IF($D582=\"\",\"\",IF(INDEX(december!$A:$O,ROW()-504,COLUMN($N:$N))=\"\",\"\",INDEX(december!$A:$O,ROW()-504,COLUMN($N:$N))))","v":""},null,null,{"$f":"IF($D582=\"\",\"\",IF(INDEX(december!$A:$O,ROW()-504,COLUMN($M:$M))=\"\",\"\",INDEX(december!$A:$O,ROW()-504,COLUMN($M:$M))))","v":""}]
["",{"$f":"IF($D583=\"\",\"\",INDEX(december!$A:$O,ROW()-504,COLUMN($C:$C)))","v":""},"Variabel",{"$f":"IF(INDEX(december!$A:$O,ROW()-504,COLUMN(M:M))=\"\",\"\",IF(INDEX(december!$A:$O,ROW()-504,COLUMN(A:A))=\"\",\"\",INDEX(december!$A:$O,ROW()-504,COLUMN(A:A))))","v":""},"",null,"",{"$f":"IF($D583=\"\",\"\",IF(INDEX(december!$A:$O,ROW()-504,COLUMN($N:$N))=\"\",\"\",INDEX(december!$A:$O,ROW()-504,COLUMN($N:$N))))","v":""},null,null,{"$f":"IF($D583=\"\",\"\",IF(INDEX(december!$A:$O,ROW()-504,COLUMN($M:$M))=\"\",\"\",INDEX(december!$A:$O,ROW()-504,COLUMN($M:$M))))","v":""}]
["",{"$f":"IF($D584=\"\",\"\",INDEX(december!$A:$O,ROW()-504,COLUMN($C:$C)))","v":""},"Variabel",{"$f":"IF(INDEX(december!$A:$O,ROW()-504,COLUMN(M:M))=\"\",\"\",IF(INDEX(december!$A:$O,ROW()-504,COLUMN(A:A))=\"\",\"\",INDEX(december!$A:$O,ROW()-504,COLUMN(A:A))))","v":""},"",null,"",{"$f":"IF($D584=\"\",\"\",IF(INDEX(december!$A:$O,ROW()-504,COLUMN($N:$N))=\"\",\"\",INDEX(december!$A:$O,ROW()-504,COLUMN($N:$N))))","v":""},null,null,{"$f":"IF($D584=\"\",\"\",IF(INDEX(december!$A:$O,ROW()-504,COLUMN($M:$M))=\"\",\"\",INDEX(december!$A:$O,ROW()-504,COLUMN($M:$M))))","v":""}]
["",{"$f":"IF($D585=\"\",\"\",INDEX(december!$A:$O,ROW()-504,COLUMN($C:$C)))","v":""},"Variabel",{"$f":"IF(INDEX(december!$A:$O,ROW()-504,COLUMN(M:M))=\"\",\"\",IF(INDEX(december!$A:$O,ROW()-504,COLUMN(A:A))=\"\",\"\",INDEX(december!$A:$O,ROW()-504,COLUMN(A:A))))","v":""},"",null,"",{"$f":"IF($D585=\"\",\"\",IF(INDEX(december!$A:$O,ROW()-504,COLUMN($N:$N))=\"\",\"\",INDEX(december!$A:$O,ROW()-504,COLUMN($N:$N))))","v":""},null,null,{"$f":"IF($D585=\"\",\"\",IF(INDEX(december!$A:$O,ROW()-504,COLUMN($M:$M))=\"\",\"\",INDEX(december!$A:$O,ROW()-504,COLUMN($M:$M))))","v":""}]
["",{"$f":"IF($D586=\"\",\"\",INDEX(december!$A:$O,ROW()-504,COLUMN($C:$C)))","v":""},"Variabel",{"$f":"IF(INDEX(december!$A:$O,ROW()-504,COLUMN(M:M))=\"\",\"\",IF(INDEX(december!$A:$O,ROW()-504,COLUMN(A:A))=\"\",\"\",INDEX(december!$A:$O,ROW()-504,COLUMN(A:A))))","v":""},"",null,"",{"$f":"IF($D586=\"\",\"\",IF(INDEX(december!$A:$O,ROW()-504,COLUMN($N:$N))=\"\",\"\",INDEX(december!$A:$O,ROW()-504,COLUMN($N:$N))))","v":""},null,null,{"$f":"IF($D586=\"\",\"\",IF(INDEX(december!$A:$O,ROW()-504,COLUMN($M:$M))=\"\",\"\",INDEX(december!$A:$O,ROW()-504,COLUMN($M:$M))))","v":""}]
["",{"$f":"IF($D587=\"\",\"\",INDEX(december!$A:$O,ROW()-504,COLUMN($C:$C)))","v":""},"Variabel",{"$f":"IF(INDEX(december!$A:$O,ROW()-504,COLUMN(M:M))=\"\",\"\",IF(INDEX(december!$A:$O,ROW()-504,COLUMN(A:A))=\"\",\"\",INDEX(december!$A:$O,ROW()-504,COLUMN(A:A))))","v":""},"",null,"",{"$f":"IF($D587=\"\",\"\",IF(INDEX(december!$A:$O,ROW()-504,COLUMN($N:$N))=\"\",\"\",INDEX(december!$A:$O,ROW()-504,COLUMN($N:$N))))","v":""},null,null,{"$f":"IF($D587=\"\",\"\",IF(INDEX(december!$A:$O,ROW()-504,COLUMN($M:$M))=\"\",\"\",INDEX(december!$A:$O,ROW()-504,COLUMN($M:$M))))","v":""}]
["",{"$f":"IF($D588=\"\",\"\",INDEX(december!$A:$O,ROW()-504,COLUMN($C:$C)))","v":""},"Variabel",{"$f":"IF(INDEX(december!$A:$O,ROW()-504,COLUMN(M:M))=\"\",\"\",IF(INDEX(december!$A:$O,ROW()-504,COLUMN(A:A))=\"\",\"\",INDEX(december!$A:$O,ROW()-504,COLUMN(A:A))))","v":""},"",null,"",{"$f":"IF($D588=\"\",\"\",IF(INDEX(december!$A:$O,ROW()-504,COLUMN($N:$N))=\"\",\"\",INDEX(december!$A:$O,ROW()-504,COLUMN($N:$N))))","v":""},null,null,{"$f":"IF($D588=\"\",\"\",IF(INDEX(december!$A:$O,ROW()-504,COLUMN($M:$M))=\"\",\"\",INDEX(december!$A:$O,ROW()-504,COLUMN($M:$M))))","v":""}]
["",{"$f":"IF($D589=\"\",\"\",INDEX(december!$A:$O,ROW()-504,COLUMN($C:$C)))","v":""},"Variabel",{"$f":"IF(INDEX(december!$A:$O,ROW()-504,COLUMN(M:M))=\"\",\"\",IF(INDEX(december!$A:$O,ROW()-504,COLUMN(A:A))=\"\",\"\",INDEX(december!$A:$O,ROW()-504,COLUMN(A:A))))","v":""},"",null,"",{"$f":"IF($D589=\"\",\"\",IF(INDEX(december!$A:$O,ROW()-504,COLUMN($N:$N))=\"\",\"\",INDEX(december!$A:$O,ROW()-504,COLUMN($N:$N))))","v":""},null,null,{"$f":"IF($D589=\"\",\"\",IF(INDEX(december!$A:$O,ROW()-504,COLUMN($M:$M))=\"\",\"\",INDEX(december!$A:$O,ROW()-504,COLUMN($M:$M))))","v":""}]
["",{"$f":"IF($D590=\"\",\"\",INDEX(december!$A:$O,ROW()-504,COLUMN($C:$C)))","v":""},"Variabel",{"$f":"IF(INDEX(december!$A:$O,ROW()-504,COLUMN(M:M))=\"\",\"\",IF(INDEX(december!$A:$O,ROW()-504,COLUMN(A:A))=\"\",\"\",INDEX(december!$A:$O,ROW()-504,COLUMN(A:A))))","v":""},"",null,"",{"$f":"IF($D590=\"\",\"\",IF(INDEX(december!$A:$O,ROW()-504,COLUMN($N:$N))=\"\",\"\",INDEX(december!$A:$O,ROW()-504,COLUMN($N:$N))))","v":""},null,null,{"$f":"IF($D590=\"\",\"\",IF(INDEX(december!$A:$O,ROW()-504,COLUMN($M:$M))=\"\",\"\",INDEX(december!$A:$O,ROW()-504,COLUMN($M:$M))))","v":""}]
["",{"$f":"IF($D591=\"\",\"\",INDEX(december!$A:$O,ROW()-504,COLUMN($C:$C)))","v":""},"Variabel",{"$f":"IF(INDEX(december!$A:$O,ROW()-504,COLUMN(M:M))=\"\",\"\",IF(INDEX(december!$A:$O,ROW()-504,COLUMN(A:A))=\"\",\"\",INDEX(december!$A:$O,ROW()-504,COLUMN(A:A))))","v":""},"",null,"",{"$f":"IF($D591=\"\",\"\",IF(INDEX(december!$A:$O,ROW()-504,COLUMN($N:$N))=\"\",\"\",INDEX(december!$A:$O,ROW()-504,COLUMN($N:$N))))","v":""},null,null,{"$f":"IF($D591=\"\",\"\",IF(INDEX(december!$A:$O,ROW()-504,COLUMN($M:$M))=\"\",\"\",INDEX(december!$A:$O,ROW()-504,COLUMN($M:$M))))","v":""}]
["",{"$f":"IF($D592=\"\",\"\",INDEX(december!$A:$O,ROW()-504,COLUMN($C:$C)))","v":""},"Variabel",{"$f":"IF(INDEX(december!$A:$O,ROW()-504,COLUMN(M:M))=\"\",\"\",IF(INDEX(december!$A:$O,ROW()-504,COLUMN(A:A))=\"\",\"\",INDEX(december!$A:$O,ROW()-504,COLUMN(A:A))))","v":""},"",null,"",{"$f":"IF($D592=\"\",\"\",IF(INDEX(december!$A:$O,ROW()-504,COLUMN($N:$N))=\"\",\"\",INDEX(december!$A:$O,ROW()-504,COLUMN($N:$N))))","v":""},null,null,{"$f":"IF($D592=\"\",\"\",IF(INDEX(december!$A:$O,ROW()-504,COLUMN($M:$M))=\"\",\"\",INDEX(december!$A:$O,ROW()-504,COLUMN($M:$M))))","v":""}]
["",{"$f":"IF($D593=\"\",\"\",INDEX(december!$A:$O,ROW()-504,COLUMN($C:$C)))","v":""},"Variabel",{"$f":"IF(INDEX(december!$A:$O,ROW()-504,COLUMN(M:M))=\"\",\"\",IF(INDEX(december!$A:$O,ROW()-504,COLUMN(A:A))=\"\",\"\",INDEX(december!$A:$O,ROW()-504,COLUMN(A:A))))","v":""},"",null,"",{"$f":"IF($D593=\"\",\"\",IF(INDEX(december!$A:$O,ROW()-504,COLUMN($N:$N))=\"\",\"\",INDEX(december!$A:$O,ROW()-504,COLUMN($N:$N))))","v":""},null,null,{"$f":"IF($D593=\"\",\"\",IF(INDEX(december!$A:$O,ROW()-504,COLUMN($M:$M))=\"\",\"\",INDEX(december!$A:$O,ROW()-504,COLUMN($M:$M))))","v":""}]
["",{"$f":"IF($D594=\"\",\"\",INDEX(december!$A:$O,ROW()-504,COLUMN($C:$C)))","v":""},"Variabel",{"$f":"IF(INDEX(december!$A:$O,ROW()-504,COLUMN(M:M))=\"\",\"\",IF(INDEX(december!$A:$O,ROW()-504,COLUMN(A:A))=\"\",\"\",INDEX(december!$A:$O,ROW()-504,COLUMN(A:A))))","v":""},"",null,"",{"$f":"IF($D594=\"\",\"\",IF(INDEX(december!$A:$O,ROW()-504,COLUMN($N:$N))=\"\",\"\",INDEX(december!$A:$O,ROW()-504,COLUMN($N:$N))))","v":""},null,null,{"$f":"IF($D594=\"\",\"\",IF(INDEX(december!$A:$O,ROW()-504,COLUMN($M:$M))=\"\",\"\",INDEX(december!$A:$O,ROW()-504,COLUMN($M:$M))))","v":""}]
["",{"$f":"IF($D595=\"\",\"\",INDEX(december!$A:$O,ROW()-504,COLUMN($C:$C)))","v":""},"Variabel",{"$f":"IF(INDEX(december!$A:$O,ROW()-504,COLUMN(M:M))=\"\",\"\",IF(INDEX(december!$A:$O,ROW()-504,COLUMN(A:A))=\"\",\"\",INDEX(december!$A:$O,ROW()-504,COLUMN(A:A))))","v":""},"",null,"",{"$f":"IF($D595=\"\",\"\",IF(INDEX(december!$A:$O,ROW()-504,COLUMN($N:$N))=\"\",\"\",INDEX(december!$A:$O,ROW()-504,COLUMN($N:$N))))","v":""},null,null,{"$f":"IF($D595=\"\",\"\",IF(INDEX(december!$A:$O,ROW()-504,COLUMN($M:$M))=\"\",\"\",INDEX(december!$A:$O,ROW()-504,COLUMN($M:$M))))","v":""}]
["",{"$f":"IF($D596=\"\",\"\",INDEX(december!$A:$O,ROW()-504,COLUMN($C:$C)))","v":""},"Variabel",{"$f":"IF(INDEX(december!$A:$O,ROW()-504,COLUMN(M:M))=\"\",\"\",IF(INDEX(december!$A:$O,ROW()-504,COLUMN(A:A))=\"\",\"\",INDEX(december!$A:$O,ROW()-504,COLUMN(A:A))))","v":""},"",null,"",{"$f":"IF($D596=\"\",\"\",IF(INDEX(december!$A:$O,ROW()-504,COLUMN($N:$N))=\"\",\"\",INDEX(december!$A:$O,ROW()-504,COLUMN($N:$N))))","v":""},null,null,{"$f":"IF($D596=\"\",\"\",IF(INDEX(december!$A:$O,ROW()-504,COLUMN($M:$M))=\"\",\"\",INDEX(december!$A:$O,ROW()-504,COLUMN($M:$M))))","v":""}]
["",{"$f":"IF($D597=\"\",\"\",INDEX(december!$A:$O,ROW()-504,COLUMN($C:$C)))","v":""},"Variabel",{"$f":"IF(INDEX(december!$A:$O,ROW()-504,COLUMN(M:M))=\"\",\"\",IF(INDEX(december!$A:$O,ROW()-504,COLUMN(A:A))=\"\",\"\",INDEX(december!$A:$O,ROW()-504,COLUMN(A:A))))","v":""},"",null,"",{"$f":"IF($D597=\"\",\"\",IF(INDEX(december!$A:$O,ROW()-504,COLUMN($N:$N))=\"\",\"\",INDEX(december!$A:$O,ROW()-504,COLUMN($N:$N))))","v":""},null,null,{"$f":"IF($D597=\"\",\"\",IF(INDEX(december!$A:$O,ROW()-504,COLUMN($M:$M))=\"\",\"\",INDEX(december!$A:$O,ROW()-504,COLUMN($M:$M))))","v":""}]
["",{"$f":"IF($D598=\"\",\"\",INDEX(december!$A:$O,ROW()-504,COLUMN($C:$C)))","v":""},"Variabel",{"$f":"IF(INDEX(december!$A:$O,ROW()-504,COLUMN(M:M))=\"\",\"\",IF(INDEX(december!$A:$O,ROW()-504,COLUMN(A:A))=\"\",\"\",INDEX(december!$A:$O,ROW()-504,COLUMN(A:A))))","v":""},"",null,"",{"$f":"IF($D598=\"\",\"\",IF(INDEX(december!$A:$O,ROW()-504,COLUMN($N:$N))=\"\",\"\",INDEX(december!$A:$O,ROW()-504,COLUMN($N:$N))))","v":""},null,null,{"$f":"IF($D598=\"\",\"\",IF(INDEX(december!$A:$O,ROW()-504,COLUMN($M:$M))=\"\",\"\",INDEX(december!$A:$O,ROW()-504,COLUMN($M:$M))))","v":""}]
["",{"$f":"IF($D599=\"\",\"\",INDEX(december!$A:$O,ROW()-504,COLUMN($C:$C)))","v":""},"Variabel",{"$f":"IF(INDEX(december!$A:$O,ROW()-504,COLUMN(M:M))=\"\",\"\",IF(INDEX(december!$A:$O,ROW()-504,COLUMN(A:A))=\"\",\"\",INDEX(december!$A:$O,ROW()-504,COLUMN(A:A))))","v":""},"",null,"",{"$f":"IF($D599=\"\",\"\",IF(INDEX(december!$A:$O,ROW()-504,COLUMN($N:$N))=\"\",\"\",INDEX(december!$A:$O,ROW()-504,COLUMN($N:$N))))","v":""},null,null,{"$f":"IF($D599=\"\",\"\",IF(INDEX(december!$A:$O,ROW()-504,COLUMN($M:$M))=\"\",\"\",INDEX(december!$A:$O,ROW()-504,COLUMN($M:$M))))","v":""}]
["",{"$f":"IF($D600=\"\",\"\",INDEX(december!$A:$O,ROW()-504,COLUMN($C:$C)))","v":""},"Variabel",{"$f":"IF(INDEX(december!$A:$O,ROW()-504,COLUMN(M:M))=\"\",\"\",IF(INDEX(december!$A:$O,ROW()-504,COLUMN(A:A))=\"\",\"\",INDEX(december!$A:$O,ROW()-504,COLUMN(A:A))))","v":""},"",null,"",{"$f":"IF($D600=\"\",\"\",IF(INDEX(december!$A:$O,ROW()-504,COLUMN($N:$N))=\"\",\"\",INDEX(december!$A:$O,ROW()-504,COLUMN($N:$N))))","v":""},null,null,{"$f":"IF($D600=\"\",\"\",IF(INDEX(december!$A:$O,ROW()-504,COLUMN($M:$M))=\"\",\"\",INDEX(december!$A:$O,ROW()-504,COLUMN($M:$M))))","v":""}]
["",{"$f":"IF($D601=\"\",\"\",INDEX(december!$A:$O,ROW()-504,COLUMN($C:$C)))","v":""},"Variabel",{"$f":"IF(INDEX(december!$A:$O,ROW()-504,COLUMN(M:M))=\"\",\"\",IF(INDEX(december!$A:$O,ROW()-504,COLUMN(A:A))=\"\",\"\",INDEX(december!$A:$O,ROW()-504,COLUMN(A:A))))","v":""},"",null,"",{"$f":"IF($D601=\"\",\"\",IF(INDEX(december!$A:$O,ROW()-504,COLUMN($N:$N))=\"\",\"\",INDEX(december!$A:$O,ROW()-504,COLUMN($N:$N))))","v":""},null,null,{"$f":"IF($D601=\"\",\"\",IF(INDEX(december!$A:$O,ROW()-504,COLUMN($M:$M))=\"\",\"\",INDEX(december!$A:$O,ROW()-504,COLUMN($M:$M))))","v":""}]
["",{"$f":"IF($D602=\"\",\"\",INDEX(december!$A:$O,ROW()-504,COLUMN($C:$C)))","v":""},"Variabel",{"$f":"IF(INDEX(december!$A:$O,ROW()-504,COLUMN(M:M))=\"\",\"\",IF(INDEX(december!$A:$O,ROW()-504,COLUMN(A:A))=\"\",\"\",INDEX(december!$A:$O,ROW()-504,COLUMN(A:A))))","v":""},"",null,"",{"$f":"IF($D602=\"\",\"\",IF(INDEX(december!$A:$O,ROW()-504,COLUMN($N:$N))=\"\",\"\",INDEX(december!$A:$O,ROW()-504,COLUMN($N:$N))))","v":""},null,null,{"$f":"IF($D602=\"\",\"\",IF(INDEX(december!$A:$O,ROW()-504,COLUMN($M:$M))=\"\",\"\",INDEX(december!$A:$O,ROW()-504,COLUMN($M:$M))))","v":""}]
["",{"$f":"IF($D603=\"\",\"\",INDEX(december!$A:$O,ROW()-504,COLUMN($C:$C)))","v":""},"Variabel",{"$f":"IF(INDEX(december!$A:$O,ROW()-504,COLUMN(M:M))=\"\",\"\",IF(INDEX(december!$A:$O,ROW()-504,COLUMN(A:A))=\"\",\"\",INDEX(december!$A:$O,ROW()-504,COLUMN(A:A))))","v":""},"",null,"",{"$f":"IF($D603=\"\",\"\",IF(INDEX(december!$A:$O,ROW()-504,COLUMN($N:$N))=\"\",\"\",INDEX(december!$A:$O,ROW()-504,COLUMN($N:$N))))","v":""},null,null,{"$f":"IF($D603=\"\",\"\",IF(INDEX(december!$A:$O,ROW()-504,COLUMN($M:$M))=\"\",\"\",INDEX(december!$A:$O,ROW()-504,COLUMN($M:$M))))","v":""}]
[]
[null,"Timeløn:"]
[{"$f":"IF($D606=\"\",\"\",$A$2)","v":""},{"$f":"IF($D606=\"\",\"\",INDEX(december!$A:$O,ROW()-604,COLUMN($C:$C)))","v":""},"Variabel",{"$f":"IF(INDEX(december!$A:$O,ROW()-604,COLUMN(O:O))=\"\",\"\",IF(INDEX(december!$A:$O,ROW()-604,COLUMN(A:A))=\"\",\"\",INDEX(december!$A:$O,ROW()-604,COLUMN(A:A))))","v":""},{"$f":"IF($D606=\"\",\"\",$F$2)","v":""},null,{"$f":"IF($D606=\"\",\"\",1100)","v":""},null,{"$f":"IF($D606=\"\",\"\",IF(INDEX(december!$A:$O,ROW()-604,COLUMN($O:$O))=\"\",\"\",INDEX(december!$A:$O,ROW()-604,COLUMN($O:$O))))","v":""}]
["",{"$f":"IF($D607=\"\",\"\",INDEX(december!$A:$O,ROW()-604,COLUMN($C:$C)))","v":""},"Variabel",{"$f":"IF(INDEX(december!$A:$O,ROW()-604,COLUMN(O:O))=\"\",\"\",IF(INDEX(december!$A:$O,ROW()-604,COLUMN(A:A))=\"\",\"\",INDEX(december!$A:$O,ROW()-604,COLUMN(A:A))))","v":""},"",null,{"$f":"IF($D607=\"\",\"\",1100)","v":""},null,{"$f":"IF($D607=\"\",\"\",IF(INDEX(december!$A:$O,ROW()-604,COLUMN($O:$O))=\"\",\"\",INDEX(december!$A:$O,ROW()-604,COLUMN($O:$O))))","v":""}]
["",{"$f":"IF($D608=\"\",\"\",INDEX(december!$A:$O,ROW()-604,COLUMN($C:$C)))","v":""},"Variabel",{"$f":"IF(INDEX(december!$A:$O,ROW()-604,COLUMN(O:O))=\"\",\"\",IF(INDEX(december!$A:$O,ROW()-604,COLUMN(A:A))=\"\",\"\",INDEX(december!$A:$O,ROW()-604,COLUMN(A:A))))","v":""},"",null,"",null,{"$f":"IF($D608=\"\",\"\",IF(INDEX(december!$A:$O,ROW()-604,COLUMN($O:$O))=\"\",\"\",INDEX(december!$A:$O,ROW()-604,COLUMN($O:$O))))","v":""}]
["",{"$f":"IF($D609=\"\",\"\",INDEX(december!$A:$O,ROW()-604,COLUMN($C:$C)))","v":""},"Variabel",{"$f":"IF(INDEX(december!$A:$O,ROW()-604,COLUMN(O:O))=\"\",\"\",IF(INDEX(december!$A:$O,ROW()-604,COLUMN(A:A))=\"\",\"\",INDEX(december!$A:$O,ROW()-604,COLUMN(A:A))))","v":""},"",null,"",null,{"$f":"IF($D609=\"\",\"\",IF(INDEX(december!$A:$O,ROW()-604,COLUMN($O:$O))=\"\",\"\",INDEX(december!$A:$O,ROW()-604,COLUMN($O:$O))))","v":""}]
["",{"$f":"IF($D610=\"\",\"\",INDEX(december!$A:$O,ROW()-604,COLUMN($C:$C)))","v":""},"Variabel",{"$f":"IF(INDEX(december!$A:$O,ROW()-604,COLUMN(O:O))=\"\",\"\",IF(INDEX(december!$A:$O,ROW()-604,COLUMN(A:A))=\"\",\"\",INDEX(december!$A:$O,ROW()-604,COLUMN(A:A))))","v":""},"",null,"",null,{"$f":"IF($D610=\"\",\"\",IF(INDEX(december!$A:$O,ROW()-604,COLUMN($O:$O))=\"\",\"\",INDEX(december!$A:$O,ROW()-604,COLUMN($O:$O))))","v":""}]
["",{"$f":"IF($D611=\"\",\"\",INDEX(december!$A:$O,ROW()-604,COLUMN($C:$C)))","v":""},"Variabel",{"$f":"IF(INDEX(december!$A:$O,ROW()-604,COLUMN(O:O))=\"\",\"\",IF(INDEX(december!$A:$O,ROW()-604,COLUMN(A:A))=\"\",\"\",INDEX(december!$A:$O,ROW()-604,COLUMN(A:A))))","v":""},"",null,"",null,{"$f":"IF($D611=\"\",\"\",IF(INDEX(december!$A:$O,ROW()-604,COLUMN($O:$O))=\"\",\"\",INDEX(december!$A:$O,ROW()-604,COLUMN($O:$O))))","v":""}]
["",{"$f":"IF($D612=\"\",\"\",INDEX(december!$A:$O,ROW()-604,COLUMN($C:$C)))","v":""},"Variabel",{"$f":"IF(INDEX(december!$A:$O,ROW()-604,COLUMN(O:O))=\"\",\"\",IF(INDEX(december!$A:$O,ROW()-604,COLUMN(A:A))=\"\",\"\",INDEX(december!$A:$O,ROW()-604,COLUMN(A:A))))","v":""},"",null,"",null,{"$f":"IF($D612=\"\",\"\",IF(INDEX(december!$A:$O,ROW()-604,COLUMN($O:$O))=\"\",\"\",INDEX(december!$A:$O,ROW()-604,COLUMN($O:$O))))","v":""}]
["",{"$f":"IF($D613=\"\",\"\",INDEX(december!$A:$O,ROW()-604,COLUMN($C:$C)))","v":""},"Variabel",{"$f":"IF(INDEX(december!$A:$O,ROW()-604,COLUMN(O:O))=\"\",\"\",IF(INDEX(december!$A:$O,ROW()-604,COLUMN(A:A))=\"\",\"\",INDEX(december!$A:$O,ROW()-604,COLUMN(A:A))))","v":""},"",null,"",null,{"$f":"IF($D613=\"\",\"\",IF(INDEX(december!$A:$O,ROW()-604,COLUMN($O:$O))=\"\",\"\",INDEX(december!$A:$O,ROW()-604,COLUMN($O:$O))))","v":""}]
["",{"$f":"IF($D614=\"\",\"\",INDEX(december!$A:$O,ROW()-604,COLUMN($C:$C)))","v":""},"Variabel",{"$f":"IF(INDEX(december!$A:$O,ROW()-604,COLUMN(O:O))=\"\",\"\",IF(INDEX(december!$A:$O,ROW()-604,COLUMN(A:A))=\"\",\"\",INDEX(december!$A:$O,ROW()-604,COLUMN(A:A))))","v":""},"",null,"",null,{"$f":"IF($D614=\"\",\"\",IF(INDEX(december!$A:$O,ROW()-604,COLUMN($O:$O))=\"\",\"\",INDEX(december!$A:$O,ROW()-604,COLUMN($O:$O))))","v":""}]
["",{"$f":"IF($D615=\"\",\"\",INDEX(december!$A:$O,ROW()-604,COLUMN($C:$C)))","v":""},"Variabel",{"$f":"IF(INDEX(december!$A:$O,ROW()-604,COLUMN(O:O))=\"\",\"\",IF(INDEX(december!$A:$O,ROW()-604,COLUMN(A:A))=\"\",\"\",INDEX(december!$A:$O,ROW()-604,COLUMN(A:A))))","v":""},"",null,"",null,{"$f":"IF($D615=\"\",\"\",IF(INDEX(december!$A:$O,ROW()-604,COLUMN($O:$O))=\"\",\"\",INDEX(december!$A:$O,ROW()-604,COLUMN($O:$O))))","v":""}]
["",{"$f":"IF($D616=\"\",\"\",INDEX(december!$A:$O,ROW()-604,COLUMN($C:$C)))","v":""},"Variabel",{"$f":"IF(INDEX(december!$A:$O,ROW()-604,COLUMN(O:O))=\"\",\"\",IF(INDEX(december!$A:$O,ROW()-604,COLUMN(A:A))=\"\",\"\",INDEX(december!$A:$O,ROW()-604,COLUMN(A:A))))","v":""},"",null,"",null,{"$f":"IF($D616=\"\",\"\",IF(INDEX(december!$A:$O,ROW()-604,COLUMN($O:$O))=\"\",\"\",INDEX(december!$A:$O,ROW()-604,COLUMN($O:$O))))","v":""}]
["",{"$f":"IF($D617=\"\",\"\",INDEX(december!$A:$O,ROW()-604,COLUMN($C:$C)))","v":""},"Variabel",{"$f":"IF(INDEX(december!$A:$O,ROW()-604,COLUMN(O:O))=\"\",\"\",IF(INDEX(december!$A:$O,ROW()-604,COLUMN(A:A))=\"\",\"\",INDEX(december!$A:$O,ROW()-604,COLUMN(A:A))))","v":""},"",null,"",null,{"$f":"IF($D617=\"\",\"\",IF(INDEX(december!$A:$O,ROW()-604,COLUMN($O:$O))=\"\",\"\",INDEX(december!$A:$O,ROW()-604,COLUMN($O:$O))))","v":""}]
["",{"$f":"IF($D618=\"\",\"\",INDEX(december!$A:$O,ROW()-604,COLUMN($C:$C)))","v":""},"Variabel",{"$f":"IF(INDEX(december!$A:$O,ROW()-604,COLUMN(O:O))=\"\",\"\",IF(INDEX(december!$A:$O,ROW()-604,COLUMN(A:A))=\"\",\"\",INDEX(december!$A:$O,ROW()-604,COLUMN(A:A))))","v":""},"",null,"",null,{"$f":"IF($D618=\"\",\"\",IF(INDEX(december!$A:$O,ROW()-604,COLUMN($O:$O))=\"\",\"\",INDEX(december!$A:$O,ROW()-604,COLUMN($O:$O))))","v":""}]
["",{"$f":"IF($D619=\"\",\"\",INDEX(december!$A:$O,ROW()-604,COLUMN($C:$C)))","v":""},"Variabel",{"$f":"IF(INDEX(december!$A:$O,ROW()-604,COLUMN(O:O))=\"\",\"\",IF(INDEX(december!$A:$O,ROW()-604,COLUMN(A:A))=\"\",\"\",INDEX(december!$A:$O,ROW()-604,COLUMN(A:A))))","v":""},"",null,"",null,{"$f":"IF($D619=\"\",\"\",IF(INDEX(december!$A:$O,ROW()-604,COLUMN($O:$O))=\"\",\"\",INDEX(december!$A:$O,ROW()-604,COLUMN($O:$O))))","v":""}]
["",{"$f":"IF($D620=\"\",\"\",INDEX(december!$A:$O,ROW()-604,COLUMN($C:$C)))","v":""},"Variabel",{"$f":"IF(INDEX(december!$A:$O,ROW()-604,COLUMN(O:O))=\"\",\"\",IF(INDEX(december!$A:$O,ROW()-604,COLUMN(A:A))=\"\",\"\",INDEX(december!$A:$O,ROW()-604,COLUMN(A:A))))","v":""},"",null,"",null,{"$f":"IF($D620=\"\",\"\",IF(INDEX(december!$A:$O,ROW()-604,COLUMN($O:$O))=\"\",\"\",INDEX(december!$A:$O,ROW()-604,COLUMN($O:$O))))","v":""}]
["",{"$f":"IF($D621=\"\",\"\",INDEX(december!$A:$O,ROW()-604,COLUMN($C:$C)))","v":""},"Variabel",{"$f":"IF(INDEX(december!$A:$O,ROW()-604,COLUMN(O:O))=\"\",\"\",IF(INDEX(december!$A:$O,ROW()-604,COLUMN(A:A))=\"\",\"\",INDEX(december!$A:$O,ROW()-604,COLUMN(A:A))))","v":""},"",null,"",null,{"$f":"IF($D621=\"\",\"\",IF(INDEX(december!$A:$O,ROW()-604,COLUMN($O:$O))=\"\",\"\",INDEX(december!$A:$O,ROW()-604,COLUMN($O:$O))))","v":""}]
["",{"$f":"IF($D622=\"\",\"\",INDEX(december!$A:$O,ROW()-604,COLUMN($C:$C)))","v":""},"Variabel",{"$f":"IF(INDEX(december!$A:$O,ROW()-604,COLUMN(O:O))=\"\",\"\",IF(INDEX(december!$A:$O,ROW()-604,COLUMN(A:A))=\"\",\"\",INDEX(december!$A:$O,ROW()-604,COLUMN(A:A))))","v":""},"",null,"",null,{"$f":"IF($D622=\"\",\"\",IF(INDEX(december!$A:$O,ROW()-604,COLUMN($O:$O))=\"\",\"\",INDEX(december!$A:$O,ROW()-604,COLUMN($O:$O))))","v":""}]
["",{"$f":"IF($D623=\"\",\"\",INDEX(december!$A:$O,ROW()-604,COLUMN($C:$C)))","v":""},"Variabel",{"$f":"IF(INDEX(december!$A:$O,ROW()-604,COLUMN(O:O))=\"\",\"\",IF(INDEX(december!$A:$O,ROW()-604,COLUMN(A:A))=\"\",\"\",INDEX(december!$A:$O,ROW()-604,COLUMN(A:A))))","v":""},"",null,"",null,{"$f":"IF($D623=\"\",\"\",IF(INDEX(december!$A:$O,ROW()-604,COLUMN($O:$O))=\"\",\"\",INDEX(december!$A:$O,ROW()-604,COLUMN($O:$O))))","v":""}]
["",{"$f":"IF($D624=\"\",\"\",INDEX(december!$A:$O,ROW()-604,COLUMN($C:$C)))","v":""},"Variabel",{"$f":"IF(INDEX(december!$A:$O,ROW()-604,COLUMN(O:O))=\"\",\"\",IF(INDEX(december!$A:$O,ROW()-604,COLUMN(A:A))=\"\",\"\",INDEX(december!$A:$O,ROW()-604,COLUMN(A:A))))","v":""},"",null,"",null,{"$f":"IF($D624=\"\",\"\",IF(INDEX(december!$A:$O,ROW()-604,COLUMN($O:$O))=\"\",\"\",INDEX(december!$A:$O,ROW()-604,COLUMN($O:$O))))","v":""}]
["",{"$f":"IF($D625=\"\",\"\",INDEX(december!$A:$O,ROW()-604,COLUMN($C:$C)))","v":""},"Variabel",{"$f":"IF(INDEX(december!$A:$O,ROW()-604,COLUMN(O:O))=\"\",\"\",IF(INDEX(december!$A:$O,ROW()-604,COLUMN(A:A))=\"\",\"\",INDEX(december!$A:$O,ROW()-604,COLUMN(A:A))))","v":""},"",null,"",null,{"$f":"IF($D625=\"\",\"\",IF(INDEX(december!$A:$O,ROW()-604,COLUMN($O:$O))=\"\",\"\",INDEX(december!$A:$O,ROW()-604,COLUMN($O:$O))))","v":""}]
["",{"$f":"IF($D626=\"\",\"\",INDEX(december!$A:$O,ROW()-604,COLUMN($C:$C)))","v":""},"Variabel",{"$f":"IF(INDEX(december!$A:$O,ROW()-604,COLUMN(O:O))=\"\",\"\",IF(INDEX(december!$A:$O,ROW()-604,COLUMN(A:A))=\"\",\"\",INDEX(december!$A:$O,ROW()-604,COLUMN(A:A))))","v":""},"",null,"",null,{"$f":"IF($D626=\"\",\"\",IF(INDEX(december!$A:$O,ROW()-604,COLUMN($O:$O))=\"\",\"\",INDEX(december!$A:$O,ROW()-604,COLUMN($O:$O))))","v":""}]
["",{"$f":"IF($D627=\"\",\"\",INDEX(december!$A:$O,ROW()-604,COLUMN($C:$C)))","v":""},"Variabel",{"$f":"IF(INDEX(december!$A:$O,ROW()-604,COLUMN(O:O))=\"\",\"\",IF(INDEX(december!$A:$O,ROW()-604,COLUMN(A:A))=\"\",\"\",INDEX(december!$A:$O,ROW()-604,COLUMN(A:A))))","v":""},"",null,"",null,{"$f":"IF($D627=\"\",\"\",IF(INDEX(december!$A:$O,ROW()-604,COLUMN($O:$O))=\"\",\"\",INDEX(december!$A:$O,ROW()-604,COLUMN($O:$O))))","v":""}]
["",{"$f":"IF($D628=\"\",\"\",INDEX(december!$A:$O,ROW()-604,COLUMN($C:$C)))","v":""},"Variabel",{"$f":"IF(INDEX(december!$A:$O,ROW()-604,COLUMN(O:O))=\"\",\"\",IF(INDEX(december!$A:$O,ROW()-604,COLUMN(A:A))=\"\",\"\",INDEX(december!$A:$O,ROW()-604,COLUMN(A:A))))","v":""},"",null,"",null,{"$f":"IF($D628=\"\",\"\",IF(INDEX(december!$A:$O,ROW()-604,COLUMN($O:$O))=\"\",\"\",INDEX(december!$A:$O,ROW()-604,COLUMN($O:$O))))","v":""}]
["",{"$f":"IF($D629=\"\",\"\",INDEX(december!$A:$O,ROW()-604,COLUMN($C:$C)))","v":""},"Variabel",{"$f":"IF(INDEX(december!$A:$O,ROW()-604,COLUMN(O:O))=\"\",\"\",IF(INDEX(december!$A:$O,ROW()-604,COLUMN(A:A))=\"\",\"\",INDEX(december!$A:$O,ROW()-604,COLUMN(A:A))))","v":""},"",null,"",null,{"$f":"IF($D629=\"\",\"\",IF(INDEX(december!$A:$O,ROW()-604,COLUMN($O:$O))=\"\",\"\",INDEX(december!$A:$O,ROW()-604,COLUMN($O:$O))))","v":""}]
["",{"$f":"IF($D630=\"\",\"\",INDEX(december!$A:$O,ROW()-604,COLUMN($C:$C)))","v":""},"Variabel",{"$f":"IF(INDEX(december!$A:$O,ROW()-604,COLUMN(O:O))=\"\",\"\",IF(INDEX(december!$A:$O,ROW()-604,COLUMN(A:A))=\"\",\"\",INDEX(december!$A:$O,ROW()-604,COLUMN(A:A))))","v":""},"",null,"",null,{"$f":"IF($D630=\"\",\"\",IF(INDEX(december!$A:$O,ROW()-604,COLUMN($O:$O))=\"\",\"\",INDEX(december!$A:$O,ROW()-604,COLUMN($O:$O))))","v":""}]
["",{"$f":"IF($D631=\"\",\"\",INDEX(december!$A:$O,ROW()-604,COLUMN($C:$C)))","v":""},"Variabel",{"$f":"IF(INDEX(december!$A:$O,ROW()-604,COLUMN(O:O))=\"\",\"\",IF(INDEX(december!$A:$O,ROW()-604,COLUMN(A:A))=\"\",\"\",INDEX(december!$A:$O,ROW()-604,COLUMN(A:A))))","v":""},"",null,"",null,{"$f":"IF($D631=\"\",\"\",IF(INDEX(december!$A:$O,ROW()-604,COLUMN($O:$O))=\"\",\"\",INDEX(december!$A:$O,ROW()-604,COLUMN($O:$O))))","v":""}]
["",{"$f":"IF($D632=\"\",\"\",INDEX(december!$A:$O,ROW()-604,COLUMN($C:$C)))","v":""},"Variabel",{"$f":"IF(INDEX(december!$A:$O,ROW()-604,COLUMN(O:O))=\"\",\"\",IF(INDEX(december!$A:$O,ROW()-604,COLUMN(A:A))=\"\",\"\",INDEX(december!$A:$O,ROW()-604,COLUMN(A:A))))","v":""},"",null,"",null,{"$f":"IF($D632=\"\",\"\",IF(INDEX(december!$A:$O,ROW()-604,COLUMN($O:$O))=\"\",\"\",INDEX(december!$A:$O,ROW()-604,COLUMN($O:$O))))","v":""}]
["",{"$f":"IF($D633=\"\",\"\",INDEX(december!$A:$O,ROW()-604,COLUMN($C:$C)))","v":""},"Variabel",{"$f":"IF(INDEX(december!$A:$O,ROW()-604,COLUMN(O:O))=\"\",\"\",IF(INDEX(december!$A:$O,ROW()-604,COLUMN(A:A))=\"\",\"\",INDEX(december!$A:$O,ROW()-604,COLUMN(A:A))))","v":""},"",null,"",null,{"$f":"IF($D633=\"\",\"\",IF(INDEX(december!$A:$O,ROW()-604,COLUMN($O:$O))=\"\",\"\",INDEX(december!$A:$O,ROW()-604,COLUMN($O:$O))))","v":""}]
["",{"$f":"IF($D634=\"\",\"\",INDEX(december!$A:$O,ROW()-604,COLUMN($C:$C)))","v":""},"Variabel",{"$f":"IF(INDEX(december!$A:$O,ROW()-604,COLUMN(O:O))=\"\",\"\",IF(INDEX(december!$A:$O,ROW()-604,COLUMN(A:A))=\"\",\"\",INDEX(december!$A:$O,ROW()-604,COLUMN(A:A))))","v":""},"",null,"",null,{"$f":"IF($D634=\"\",\"\",IF(INDEX(december!$A:$O,ROW()-604,COLUMN($O:$O))=\"\",\"\",INDEX(december!$A:$O,ROW()-604,COLUMN($O:$O))))","v":""}]
["",{"$f":"IF($D635=\"\",\"\",INDEX(december!$A:$O,ROW()-604,COLUMN($C:$C)))","v":""},"Variabel",{"$f":"IF(INDEX(december!$A:$O,ROW()-604,COLUMN(O:O))=\"\",\"\",IF(INDEX(december!$A:$O,ROW()-604,COLUMN(A:A))=\"\",\"\",INDEX(december!$A:$O,ROW()-604,COLUMN(A:A))))","v":""},"",null,"",null,{"$f":"IF($D635=\"\",\"\",IF(INDEX(december!$A:$O,ROW()-604,COLUMN($O:$O))=\"\",\"\",INDEX(december!$A:$O,ROW()-604,COLUMN($O:$O))))","v":""}]
["",{"$f":"IF($D636=\"\",\"\",INDEX(december!$A:$O,ROW()-604,COLUMN($C:$C)))","v":""},"Variabel",{"$f":"IF(INDEX(december!$A:$O,ROW()-604,COLUMN(O:O))=\"\",\"\",IF(INDEX(december!$A:$O,ROW()-604,COLUMN(A:A))=\"\",\"\",INDEX(december!$A:$O,ROW()-604,COLUMN(A:A))))","v":""},"",null,"",null,{"$f":"IF($D636=\"\",\"\",IF(INDEX(december!$A:$O,ROW()-604,COLUMN($O:$O))=\"\",\"\",INDEX(december!$A:$O,ROW()-604,COLUMN($O:$O))))","v":""}]
["",{"$f":"IF($D637=\"\",\"\",INDEX(december!$A:$O,ROW()-604,COLUMN($C:$C)))","v":""},"Variabel",{"$f":"IF(INDEX(december!$A:$O,ROW()-604,COLUMN(O:O))=\"\",\"\",IF(INDEX(december!$A:$O,ROW()-604,COLUMN(A:A))=\"\",\"\",INDEX(december!$A:$O,ROW()-604,COLUMN(A:A))))","v":""},"",null,"",null,{"$f":"IF($D637=\"\",\"\",IF(INDEX(december!$A:$O,ROW()-604,COLUMN($O:$O))=\"\",\"\",INDEX(december!$A:$O,ROW()-604,COLUMN($O:$O))))","v":""}]
[{"$f":"IF($D638=\"\",\"\",$A$2)","v":""},{"$f":"IF($D638=\"\",\"\",INDEX(december!$A:$O,ROW()-604,COLUMN($C:$C)))","v":""},"Variabel",{"$f":"IF(INDEX(december!$A:$O,ROW()-604,COLUMN(O:O))=\"\",\"\",IF(INDEX(december!$A:$O,ROW()-604,COLUMN(A:A))=\"\",\"\",INDEX(december!$A:$O,ROW()-604,COLUMN(A:A))))","v":""},{"$f":"IF($D638=\"\",\"\",$F$2)","v":""},null,"",null,{"$f":"IF($D638=\"\",\"\",IF(INDEX(december!$A:$O,ROW()-604,COLUMN($O:$O))=\"\",\"\",INDEX(december!$A:$O,ROW()-604,COLUMN($O:$O))))","v":""}]
["",{"$f":"IF($D639=\"\",\"\",INDEX(december!$A:$O,ROW()-604,COLUMN($C:$C)))","v":""},"Variabel",{"$f":"IF(INDEX(december!$A:$O,ROW()-604,COLUMN(O:O))=\"\",\"\",IF(INDEX(december!$A:$O,ROW()-604,COLUMN(A:A))=\"\",\"\",INDEX(december!$A:$O,ROW()-604,COLUMN(A:A))))","v":""},"",null,"",null,{"$f":"IF($D639=\"\",\"\",IF(INDEX(december!$A:$O,ROW()-604,COLUMN($O:$O))=\"\",\"\",INDEX(december!$A:$O,ROW()-604,COLUMN($O:$O))))","v":""}]
["",{"$f":"IF($D640=\"\",\"\",INDEX(december!$A:$O,ROW()-604,COLUMN($C:$C)))","v":""},"Variabel",{"$f":"IF(INDEX(december!$A:$O,ROW()-604,COLUMN(O:O))=\"\",\"\",IF(INDEX(december!$A:$O,ROW()-604,COLUMN(A:A))=\"\",\"\",INDEX(december!$A:$O,ROW()-604,COLUMN(A:A))))","v":""},"",null,"",null,{"$f":"IF($D640=\"\",\"\",IF(INDEX(december!$A:$O,ROW()-604,COLUMN($O:$O))=\"\",\"\",INDEX(december!$A:$O,ROW()-604,COLUMN($O:$O))))","v":""}]
["",{"$f":"IF($D641=\"\",\"\",INDEX(december!$A:$O,ROW()-604,COLUMN($C:$C)))","v":""},"Variabel",{"$f":"IF(INDEX(december!$A:$O,ROW()-604,COLUMN(O:O))=\"\",\"\",IF(INDEX(december!$A:$O,ROW()-604,COLUMN(A:A))=\"\",\"\",INDEX(december!$A:$O,ROW()-604,COLUMN(A:A))))","v":""},"",null,"",null,{"$f":"IF($D641=\"\",\"\",IF(INDEX(december!$A:$O,ROW()-604,COLUMN($O:$O))=\"\",\"\",INDEX(december!$A:$O,ROW()-604,COLUMN($O:$O))))","v":""}]
["",{"$f":"IF($D642=\"\",\"\",INDEX(december!$A:$O,ROW()-604,COLUMN($C:$C)))","v":""},"Variabel",{"$f":"IF(INDEX(december!$A:$O,ROW()-604,COLUMN(O:O))=\"\",\"\",IF(INDEX(december!$A:$O,ROW()-604,COLUMN(A:A))=\"\",\"\",INDEX(december!$A:$O,ROW()-604,COLUMN(A:A))))","v":""},"",null,"",null,{"$f":"IF($D642=\"\",\"\",IF(INDEX(december!$A:$O,ROW()-604,COLUMN($O:$O))=\"\",\"\",INDEX(december!$A:$O,ROW()-604,COLUMN($O:$O))))","v":""}]
["",{"$f":"IF($D643=\"\",\"\",INDEX(december!$A:$O,ROW()-604,COLUMN($C:$C)))","v":""},"Variabel",{"$f":"IF(INDEX(december!$A:$O,ROW()-604,COLUMN(O:O))=\"\",\"\",IF(INDEX(december!$A:$O,ROW()-604,COLUMN(A:A))=\"\",\"\",INDEX(december!$A:$O,ROW()-604,COLUMN(A:A))))","v":""},"",null,"",null,{"$f":"IF($D643=\"\",\"\",IF(INDEX(december!$A:$O,ROW()-604,COLUMN($O:$O))=\"\",\"\",INDEX(december!$A:$O,ROW()-604,COLUMN($O:$O))))","v":""}]
["",{"$f":"IF($D644=\"\",\"\",INDEX(december!$A:$O,ROW()-604,COLUMN($C:$C)))","v":""},"Variabel",{"$f":"IF(INDEX(december!$A:$O,ROW()-604,COLUMN(O:O))=\"\",\"\",IF(INDEX(december!$A:$O,ROW()-604,COLUMN(A:A))=\"\",\"\",INDEX(december!$A:$O,ROW()-604,COLUMN(A:A))))","v":""},"",null,"",null,{"$f":"IF($D644=\"\",\"\",IF(INDEX(december!$A:$O,ROW()-604,COLUMN($O:$O))=\"\",\"\",INDEX(december!$A:$O,ROW()-604,COLUMN($O:$O))))","v":""}]
["",{"$f":"IF($D645=\"\",\"\",INDEX(december!$A:$O,ROW()-604,COLUMN($C:$C)))","v":""},"Variabel",{"$f":"IF(INDEX(december!$A:$O,ROW()-604,COLUMN(O:O))=\"\",\"\",IF(INDEX(december!$A:$O,ROW()-604,COLUMN(A:A))=\"\",\"\",INDEX(december!$A:$O,ROW()-604,COLUMN(A:A))))","v":""},"",null,"",null,{"$f":"IF($D645=\"\",\"\",IF(INDEX(december!$A:$O,ROW()-604,COLUMN($O:$O))=\"\",\"\",INDEX(december!$A:$O,ROW()-604,COLUMN($O:$O))))","v":""}]
["",{"$f":"IF($D646=\"\",\"\",INDEX(december!$A:$O,ROW()-604,COLUMN($C:$C)))","v":""},"Variabel",{"$f":"IF(INDEX(december!$A:$O,ROW()-604,COLUMN(O:O))=\"\",\"\",IF(INDEX(december!$A:$O,ROW()-604,COLUMN(A:A))=\"\",\"\",INDEX(december!$A:$O,ROW()-604,COLUMN(A:A))))","v":""},"",null,"",null,{"$f":"IF($D646=\"\",\"\",IF(INDEX(december!$A:$O,ROW()-604,COLUMN($O:$O))=\"\",\"\",INDEX(december!$A:$O,ROW()-604,COLUMN($O:$O))))","v":""}]
["",{"$f":"IF($D647=\"\",\"\",INDEX(december!$A:$O,ROW()-604,COLUMN($C:$C)))","v":""},"Variabel",{"$f":"IF(INDEX(december!$A:$O,ROW()-604,COLUMN(O:O))=\"\",\"\",IF(INDEX(december!$A:$O,ROW()-604,COLUMN(A:A))=\"\",\"\",INDEX(december!$A:$O,ROW()-604,COLUMN(A:A))))","v":""},"",null,"",null,{"$f":"IF($D647=\"\",\"\",IF(INDEX(december!$A:$O,ROW()-604,COLUMN($O:$O))=\"\",\"\",INDEX(december!$A:$O,ROW()-604,COLUMN($O:$O))))","v":""}]
["",{"$f":"IF($D648=\"\",\"\",INDEX(december!$A:$O,ROW()-604,COLUMN($C:$C)))","v":""},"Variabel",{"$f":"IF(INDEX(december!$A:$O,ROW()-604,COLUMN(O:O))=\"\",\"\",IF(INDEX(december!$A:$O,ROW()-604,COLUMN(A:A))=\"\",\"\",INDEX(december!$A:$O,ROW()-604,COLUMN(A:A))))","v":""},"",null,"",null,{"$f":"IF($D648=\"\",\"\",IF(INDEX(december!$A:$O,ROW()-604,COLUMN($O:$O))=\"\",\"\",INDEX(december!$A:$O,ROW()-604,COLUMN($O:$O))))","v":""}]
["",{"$f":"IF($D649=\"\",\"\",INDEX(december!$A:$O,ROW()-604,COLUMN($C:$C)))","v":""},"Variabel",{"$f":"IF(INDEX(december!$A:$O,ROW()-604,COLUMN(O:O))=\"\",\"\",IF(INDEX(december!$A:$O,ROW()-604,COLUMN(A:A))=\"\",\"\",INDEX(december!$A:$O,ROW()-604,COLUMN(A:A))))","v":""},"",null,"",null,{"$f":"IF($D649=\"\",\"\",IF(INDEX(december!$A:$O,ROW()-604,COLUMN($O:$O))=\"\",\"\",INDEX(december!$A:$O,ROW()-604,COLUMN($O:$O))))","v":""}]
["",{"$f":"IF($D650=\"\",\"\",INDEX(december!$A:$O,ROW()-604,COLUMN($C:$C)))","v":""},"Variabel",{"$f":"IF(INDEX(december!$A:$O,ROW()-604,COLUMN(O:O))=\"\",\"\",IF(INDEX(december!$A:$O,ROW()-604,COLUMN(A:A))=\"\",\"\",INDEX(december!$A:$O,ROW()-604,COLUMN(A:A))))","v":""},"",null,"",null,{"$f":"IF($D650=\"\",\"\",IF(INDEX(december!$A:$O,ROW()-604,COLUMN($O:$O))=\"\",\"\",INDEX(december!$A:$O,ROW()-604,COLUMN($O:$O))))","v":""}]
["",{"$f":"IF($D651=\"\",\"\",INDEX(december!$A:$O,ROW()-604,COLUMN($C:$C)))","v":""},"Variabel",{"$f":"IF(INDEX(december!$A:$O,ROW()-604,COLUMN(O:O))=\"\",\"\",IF(INDEX(december!$A:$O,ROW()-604,COLUMN(A:A))=\"\",\"\",INDEX(december!$A:$O,ROW()-604,COLUMN(A:A))))","v":""},"",null,"",null,{"$f":"IF($D651=\"\",\"\",IF(INDEX(december!$A:$O,ROW()-604,COLUMN($O:$O))=\"\",\"\",INDEX(december!$A:$O,ROW()-604,COLUMN($O:$O))))","v":""}]
["",{"$f":"IF($D652=\"\",\"\",INDEX(december!$A:$O,ROW()-604,COLUMN($C:$C)))","v":""},"Variabel",{"$f":"IF(INDEX(december!$A:$O,ROW()-604,COLUMN(O:O))=\"\",\"\",IF(INDEX(december!$A:$O,ROW()-604,COLUMN(A:A))=\"\",\"\",INDEX(december!$A:$O,ROW()-604,COLUMN(A:A))))","v":""},"",null,"",null,{"$f":"IF($D652=\"\",\"\",IF(INDEX(december!$A:$O,ROW()-604,COLUMN($O:$O))=\"\",\"\",INDEX(december!$A:$O,ROW()-604,COLUMN($O:$O))))","v":""}]
["",{"$f":"IF($D653=\"\",\"\",INDEX(december!$A:$O,ROW()-604,COLUMN($C:$C)))","v":""},"Variabel",{"$f":"IF(INDEX(december!$A:$O,ROW()-604,COLUMN(O:O))=\"\",\"\",IF(INDEX(december!$A:$O,ROW()-604,COLUMN(A:A))=\"\",\"\",INDEX(december!$A:$O,ROW()-604,COLUMN(A:A))))","v":""},"",null,"",null,{"$f":"IF($D653=\"\",\"\",IF(INDEX(december!$A:$O,ROW()-604,COLUMN($O:$O))=\"\",\"\",INDEX(december!$A:$O,ROW()-604,COLUMN($O:$O))))","v":""}]
["",{"$f":"IF($D654=\"\",\"\",INDEX(december!$A:$O,ROW()-604,COLUMN($C:$C)))","v":""},"Variabel",{"$f":"IF(INDEX(december!$A:$O,ROW()-604,COLUMN(O:O))=\"\",\"\",IF(INDEX(december!$A:$O,ROW()-604,COLUMN(A:A))=\"\",\"\",INDEX(december!$A:$O,ROW()-604,COLUMN(A:A))))","v":""},"",null,"",null,{"$f":"IF($D654=\"\",\"\",IF(INDEX(december!$A:$O,ROW()-604,COLUMN($O:$O))=\"\",\"\",INDEX(december!$A:$O,ROW()-604,COLUMN($O:$O))))","v":""}]
["",{"$f":"IF($D655=\"\",\"\",INDEX(december!$A:$O,ROW()-604,COLUMN($C:$C)))","v":""},"Variabel",{"$f":"IF(INDEX(december!$A:$O,ROW()-604,COLUMN(O:O))=\"\",\"\",IF(INDEX(december!$A:$O,ROW()-604,COLUMN(A:A))=\"\",\"\",INDEX(december!$A:$O,ROW()-604,COLUMN(A:A))))","v":""},"",null,"",null,{"$f":"IF($D655=\"\",\"\",IF(INDEX(december!$A:$O,ROW()-604,COLUMN($O:$O))=\"\",\"\",INDEX(december!$A:$O,ROW()-604,COLUMN($O:$O))))","v":""}]
["",{"$f":"IF($D656=\"\",\"\",INDEX(december!$A:$O,ROW()-604,COLUMN($C:$C)))","v":""},"Variabel",{"$f":"IF(INDEX(december!$A:$O,ROW()-604,COLUMN(O:O))=\"\",\"\",IF(INDEX(december!$A:$O,ROW()-604,COLUMN(A:A))=\"\",\"\",INDEX(december!$A:$O,ROW()-604,COLUMN(A:A))))","v":""},"",null,"",null,{"$f":"IF($D656=\"\",\"\",IF(INDEX(december!$A:$O,ROW()-604,COLUMN($O:$O))=\"\",\"\",INDEX(december!$A:$O,ROW()-604,COLUMN($O:$O))))","v":""}]
["",{"$f":"IF($D657=\"\",\"\",INDEX(december!$A:$O,ROW()-604,COLUMN($C:$C)))","v":""},"Variabel",{"$f":"IF(INDEX(december!$A:$O,ROW()-604,COLUMN(O:O))=\"\",\"\",IF(INDEX(december!$A:$O,ROW()-604,COLUMN(A:A))=\"\",\"\",INDEX(december!$A:$O,ROW()-604,COLUMN(A:A))))","v":""},"",null,"",null,{"$f":"IF($D657=\"\",\"\",IF(INDEX(december!$A:$O,ROW()-604,COLUMN($O:$O))=\"\",\"\",INDEX(december!$A:$O,ROW()-604,COLUMN($O:$O))))","v":""}]
["",{"$f":"IF($D658=\"\",\"\",INDEX(december!$A:$O,ROW()-604,COLUMN($C:$C)))","v":""},"Variabel",{"$f":"IF(INDEX(december!$A:$O,ROW()-604,COLUMN(O:O))=\"\",\"\",IF(INDEX(december!$A:$O,ROW()-604,COLUMN(A:A))=\"\",\"\",INDEX(december!$A:$O,ROW()-604,COLUMN(A:A))))","v":""},"",null,"",null,{"$f":"IF($D658=\"\",\"\",IF(INDEX(december!$A:$O,ROW()-604,COLUMN($O:$O))=\"\",\"\",INDEX(december!$A:$O,ROW()-604,COLUMN($O:$O))))","v":""}]
["",{"$f":"IF($D659=\"\",\"\",INDEX(december!$A:$O,ROW()-604,COLUMN($C:$C)))","v":""},"Variabel",{"$f":"IF(INDEX(december!$A:$O,ROW()-604,COLUMN(O:O))=\"\",\"\",IF(INDEX(december!$A:$O,ROW()-604,COLUMN(A:A))=\"\",\"\",INDEX(december!$A:$O,ROW()-604,COLUMN(A:A))))","v":""},"",null,"",null,{"$f":"IF($D659=\"\",\"\",IF(INDEX(december!$A:$O,ROW()-604,COLUMN($O:$O))=\"\",\"\",INDEX(december!$A:$O,ROW()-604,COLUMN($O:$O))))","v":""}]
["",{"$f":"IF($D660=\"\",\"\",INDEX(december!$A:$O,ROW()-604,COLUMN($C:$C)))","v":""},"Variabel",{"$f":"IF(INDEX(december!$A:$O,ROW()-604,COLUMN(O:O))=\"\",\"\",IF(INDEX(december!$A:$O,ROW()-604,COLUMN(A:A))=\"\",\"\",INDEX(december!$A:$O,ROW()-604,COLUMN(A:A))))","v":""},"",null,"",null,{"$f":"IF($D660=\"\",\"\",IF(INDEX(december!$A:$O,ROW()-604,COLUMN($O:$O))=\"\",\"\",INDEX(december!$A:$O,ROW()-604,COLUMN($O:$O))))","v":""}]
["",{"$f":"IF($D661=\"\",\"\",INDEX(december!$A:$O,ROW()-604,COLUMN($C:$C)))","v":""},"Variabel",{"$f":"IF(INDEX(december!$A:$O,ROW()-604,COLUMN(O:O))=\"\",\"\",IF(INDEX(december!$A:$O,ROW()-604,COLUMN(A:A))=\"\",\"\",INDEX(december!$A:$O,ROW()-604,COLUMN(A:A))))","v":""},"",null,"",null,{"$f":"IF($D661=\"\",\"\",IF(INDEX(december!$A:$O,ROW()-604,COLUMN($O:$O))=\"\",\"\",INDEX(december!$A:$O,ROW()-604,COLUMN($O:$O))))","v":""}]
["",{"$f":"IF($D662=\"\",\"\",INDEX(december!$A:$O,ROW()-604,COLUMN($C:$C)))","v":""},"Variabel",{"$f":"IF(INDEX(december!$A:$O,ROW()-604,COLUMN(O:O))=\"\",\"\",IF(INDEX(december!$A:$O,ROW()-604,COLUMN(A:A))=\"\",\"\",INDEX(december!$A:$O,ROW()-604,COLUMN(A:A))))","v":""},"",null,"",null,{"$f":"IF($D662=\"\",\"\",IF(INDEX(december!$A:$O,ROW()-604,COLUMN($O:$O))=\"\",\"\",INDEX(december!$A:$O,ROW()-604,COLUMN($O:$O))))","v":""}]
["",{"$f":"IF($D663=\"\",\"\",INDEX(december!$A:$O,ROW()-604,COLUMN($C:$C)))","v":""},"Variabel",{"$f":"IF(INDEX(december!$A:$O,ROW()-604,COLUMN(O:O))=\"\",\"\",IF(INDEX(december!$A:$O,ROW()-604,COLUMN(A:A))=\"\",\"\",INDEX(december!$A:$O,ROW()-604,COLUMN(A:A))))","v":""},"",null,"",null,{"$f":"IF($D663=\"\",\"\",IF(INDEX(december!$A:$O,ROW()-604,COLUMN($O:$O))=\"\",\"\",INDEX(december!$A:$O,ROW()-604,COLUMN($O:$O))))","v":""}]
["",{"$f":"IF($D664=\"\",\"\",INDEX(december!$A:$O,ROW()-604,COLUMN($C:$C)))","v":""},"Variabel",{"$f":"IF(INDEX(december!$A:$O,ROW()-604,COLUMN(O:O))=\"\",\"\",IF(INDEX(december!$A:$O,ROW()-604,COLUMN(A:A))=\"\",\"\",INDEX(december!$A:$O,ROW()-604,COLUMN(A:A))))","v":""},"",null,"",null,{"$f":"IF($D664=\"\",\"\",IF(INDEX(december!$A:$O,ROW()-604,COLUMN($O:$O))=\"\",\"\",INDEX(december!$A:$O,ROW()-604,COLUMN($O:$O))))","v":""}]
["",{"$f":"IF($D665=\"\",\"\",INDEX(december!$A:$O,ROW()-604,COLUMN($C:$C)))","v":""},"Variabel",{"$f":"IF(INDEX(december!$A:$O,ROW()-604,COLUMN(O:O))=\"\",\"\",IF(INDEX(december!$A:$O,ROW()-604,COLUMN(A:A))=\"\",\"\",INDEX(december!$A:$O,ROW()-604,COLUMN(A:A))))","v":""},"",null,"",null,{"$f":"IF($D665=\"\",\"\",IF(INDEX(december!$A:$O,ROW()-604,COLUMN($O:$O))=\"\",\"\",INDEX(december!$A:$O,ROW()-604,COLUMN($O:$O))))","v":""}]
["",{"$f":"IF($D666=\"\",\"\",INDEX(december!$A:$O,ROW()-604,COLUMN($C:$C)))","v":""},"Variabel",{"$f":"IF(INDEX(december!$A:$O,ROW()-604,COLUMN(O:O))=\"\",\"\",IF(INDEX(december!$A:$O,ROW()-604,COLUMN(A:A))=\"\",\"\",INDEX(december!$A:$O,ROW()-604,COLUMN(A:A))))","v":""},"",null,"",null,{"$f":"IF($D666=\"\",\"\",IF(INDEX(december!$A:$O,ROW()-604,COLUMN($O:$O))=\"\",\"\",INDEX(december!$A:$O,ROW()-604,COLUMN($O:$O))))","v":""}]
["",{"$f":"IF($D667=\"\",\"\",INDEX(december!$A:$O,ROW()-604,COLUMN($C:$C)))","v":""},"Variabel",{"$f":"IF(INDEX(december!$A:$O,ROW()-604,COLUMN(O:O))=\"\",\"\",IF(INDEX(december!$A:$O,ROW()-604,COLUMN(A:A))=\"\",\"\",INDEX(december!$A:$O,ROW()-604,COLUMN(A:A))))","v":""},"",null,"",null,{"$f":"IF($D667=\"\",\"\",IF(INDEX(december!$A:$O,ROW()-604,COLUMN($O:$O))=\"\",\"\",INDEX(december!$A:$O,ROW()-604,COLUMN($O:$O))))","v":""}]
["",{"$f":"IF($D668=\"\",\"\",INDEX(december!$A:$O,ROW()-604,COLUMN($C:$C)))","v":""},"Variabel",{"$f":"IF(INDEX(december!$A:$O,ROW()-604,COLUMN(O:O))=\"\",\"\",IF(INDEX(december!$A:$O,ROW()-604,COLUMN(A:A))=\"\",\"\",INDEX(december!$A:$O,ROW()-604,COLUMN(A:A))))","v":""},"",null,"",null,{"$f":"IF($D668=\"\",\"\",IF(INDEX(december!$A:$O,ROW()-604,COLUMN($O:$O))=\"\",\"\",INDEX(december!$A:$O,ROW()-604,COLUMN($O:$O))))","v":""}]
["",{"$f":"IF($D669=\"\",\"\",INDEX(december!$A:$O,ROW()-604,COLUMN($C:$C)))","v":""},"Variabel",{"$f":"IF(INDEX(december!$A:$O,ROW()-604,COLUMN(O:O))=\"\",\"\",IF(INDEX(december!$A:$O,ROW()-604,COLUMN(A:A))=\"\",\"\",INDEX(december!$A:$O,ROW()-604,COLUMN(A:A))))","v":""},"",null,"",null,{"$f":"IF($D669=\"\",\"\",IF(INDEX(december!$A:$O,ROW()-604,COLUMN($O:$O))=\"\",\"\",INDEX(december!$A:$O,ROW()-604,COLUMN($O:$O))))","v":""}]
[{"$f":"IF($D670=\"\",\"\",$A$2)","v":""},{"$f":"IF($D670=\"\",\"\",INDEX(december!$A:$O,ROW()-604,COLUMN($C:$C)))","v":""},"Variabel",{"$f":"IF(INDEX(december!$A:$O,ROW()-604,COLUMN(O:O))=\"\",\"\",IF(INDEX(december!$A:$O,ROW()-604,COLUMN(A:A))=\"\",\"\",INDEX(december!$A:$O,ROW()-604,COLUMN(A:A))))","v":""},{"$f":"IF($D670=\"\",\"\",$F$2)","v":""},null,"",null,{"$f":"IF($D670=\"\",\"\",IF(INDEX(december!$A:$O,ROW()-604,COLUMN($O:$O))=\"\",\"\",INDEX(december!$A:$O,ROW()-604,COLUMN($O:$O))))","v":""}]
["",{"$f":"IF($D671=\"\",\"\",INDEX(december!$A:$O,ROW()-604,COLUMN($C:$C)))","v":""},"Variabel",{"$f":"IF(INDEX(december!$A:$O,ROW()-604,COLUMN(O:O))=\"\",\"\",IF(INDEX(december!$A:$O,ROW()-604,COLUMN(A:A))=\"\",\"\",INDEX(december!$A:$O,ROW()-604,COLUMN(A:A))))","v":""},"",null,{"$f":"IF($D671=\"\",\"\",1100)","v":""},null,{"$f":"IF($D671=\"\",\"\",IF(INDEX(december!$A:$O,ROW()-604,COLUMN($O:$O))=\"\",\"\",INDEX(december!$A:$O,ROW()-604,COLUMN($O:$O))))","v":""}]
["",{"$f":"IF($D672=\"\",\"\",INDEX(december!$A:$O,ROW()-604,COLUMN($C:$C)))","v":""},"Variabel",{"$f":"IF(INDEX(december!$A:$O,ROW()-604,COLUMN(O:O))=\"\",\"\",IF(INDEX(december!$A:$O,ROW()-604,COLUMN(A:A))=\"\",\"\",INDEX(december!$A:$O,ROW()-604,COLUMN(A:A))))","v":""},"",null,"",null,{"$f":"IF($D672=\"\",\"\",IF(INDEX(december!$A:$O,ROW()-604,COLUMN($O:$O))=\"\",\"\",INDEX(december!$A:$O,ROW()-604,COLUMN($O:$O))))","v":""}]
["",{"$f":"IF($D673=\"\",\"\",INDEX(december!$A:$O,ROW()-604,COLUMN($C:$C)))","v":""},"Variabel",{"$f":"IF(INDEX(december!$A:$O,ROW()-604,COLUMN(O:O))=\"\",\"\",IF(INDEX(december!$A:$O,ROW()-604,COLUMN(A:A))=\"\",\"\",INDEX(december!$A:$O,ROW()-604,COLUMN(A:A))))","v":""},"",null,"",null,{"$f":"IF($D673=\"\",\"\",IF(INDEX(december!$A:$O,ROW()-604,COLUMN($O:$O))=\"\",\"\",INDEX(december!$A:$O,ROW()-604,COLUMN($O:$O))))","v":""}]
["",{"$f":"IF($D674=\"\",\"\",INDEX(december!$A:$O,ROW()-604,COLUMN($C:$C)))","v":""},"Variabel",{"$f":"IF(INDEX(december!$A:$O,ROW()-604,COLUMN(O:O))=\"\",\"\",IF(INDEX(december!$A:$O,ROW()-604,COLUMN(A:A))=\"\",\"\",INDEX(december!$A:$O,ROW()-604,COLUMN(A:A))))","v":""},"",null,"",null,{"$f":"IF($D674=\"\",\"\",IF(INDEX(december!$A:$O,ROW()-604,COLUMN($O:$O))=\"\",\"\",INDEX(december!$A:$O,ROW()-604,COLUMN($O:$O))))","v":""}]
["",{"$f":"IF($D675=\"\",\"\",INDEX(december!$A:$O,ROW()-604,COLUMN($C:$C)))","v":""},"Variabel",{"$f":"IF(INDEX(december!$A:$O,ROW()-604,COLUMN(O:O))=\"\",\"\",IF(INDEX(december!$A:$O,ROW()-604,COLUMN(A:A))=\"\",\"\",INDEX(december!$A:$O,ROW()-604,COLUMN(A:A))))","v":""},"",null,"",null,{"$f":"IF($D675=\"\",\"\",IF(INDEX(december!$A:$O,ROW()-604,COLUMN($O:$O))=\"\",\"\",INDEX(december!$A:$O,ROW()-604,COLUMN($O:$O))))","v":""}]
["",{"$f":"IF($D676=\"\",\"\",INDEX(december!$A:$O,ROW()-604,COLUMN($C:$C)))","v":""},"Variabel",{"$f":"IF(INDEX(december!$A:$O,ROW()-604,COLUMN(O:O))=\"\",\"\",IF(INDEX(december!$A:$O,ROW()-604,COLUMN(A:A))=\"\",\"\",INDEX(december!$A:$O,ROW()-604,COLUMN(A:A))))","v":""},"",null,"",null,{"$f":"IF($D676=\"\",\"\",IF(INDEX(december!$A:$O,ROW()-604,COLUMN($O:$O))=\"\",\"\",INDEX(december!$A:$O,ROW()-604,COLUMN($O:$O))))","v":""}]
["",{"$f":"IF($D677=\"\",\"\",INDEX(december!$A:$O,ROW()-604,COLUMN($C:$C)))","v":""},"Variabel",{"$f":"IF(INDEX(december!$A:$O,ROW()-604,COLUMN(O:O))=\"\",\"\",IF(INDEX(december!$A:$O,ROW()-604,COLUMN(A:A))=\"\",\"\",INDEX(december!$A:$O,ROW()-604,COLUMN(A:A))))","v":""},"",null,"",null,{"$f":"IF($D677=\"\",\"\",IF(INDEX(december!$A:$O,ROW()-604,COLUMN($O:$O))=\"\",\"\",INDEX(december!$A:$O,ROW()-604,COLUMN($O:$O))))","v":""}]
["",{"$f":"IF($D678=\"\",\"\",INDEX(december!$A:$O,ROW()-604,COLUMN($C:$C)))","v":""},"Variabel",{"$f":"IF(INDEX(december!$A:$O,ROW()-604,COLUMN(O:O))=\"\",\"\",IF(INDEX(december!$A:$O,ROW()-604,COLUMN(A:A))=\"\",\"\",INDEX(december!$A:$O,ROW()-604,COLUMN(A:A))))","v":""},"",null,"",null,{"$f":"IF($D678=\"\",\"\",IF(INDEX(december!$A:$O,ROW()-604,COLUMN($O:$O))=\"\",\"\",INDEX(december!$A:$O,ROW()-604,COLUMN($O:$O))))","v":""}]
["",{"$f":"IF($D679=\"\",\"\",INDEX(december!$A:$O,ROW()-604,COLUMN($C:$C)))","v":""},"Variabel",{"$f":"IF(INDEX(december!$A:$O,ROW()-604,COLUMN(O:O))=\"\",\"\",IF(INDEX(december!$A:$O,ROW()-604,COLUMN(A:A))=\"\",\"\",INDEX(december!$A:$O,ROW()-604,COLUMN(A:A))))","v":""},"",null,"",null,{"$f":"IF($D679=\"\",\"\",IF(INDEX(december!$A:$O,ROW()-604,COLUMN($O:$O))=\"\",\"\",INDEX(december!$A:$O,ROW()-604,COLUMN($O:$O))))","v":""}]
["",{"$f":"IF($D680=\"\",\"\",INDEX(december!$A:$O,ROW()-604,COLUMN($C:$C)))","v":""},"Variabel",{"$f":"IF(INDEX(december!$A:$O,ROW()-604,COLUMN(O:O))=\"\",\"\",IF(INDEX(december!$A:$O,ROW()-604,COLUMN(A:A))=\"\",\"\",INDEX(december!$A:$O,ROW()-604,COLUMN(A:A))))","v":""},"",null,"",null,{"$f":"IF($D680=\"\",\"\",IF(INDEX(december!$A:$O,ROW()-604,COLUMN($O:$O))=\"\",\"\",INDEX(december!$A:$O,ROW()-604,COLUMN($O:$O))))","v":""}]
["",{"$f":"IF($D681=\"\",\"\",INDEX(december!$A:$O,ROW()-604,COLUMN($C:$C)))","v":""},"Variabel",{"$f":"IF(INDEX(december!$A:$O,ROW()-604,COLUMN(O:O))=\"\",\"\",IF(INDEX(december!$A:$O,ROW()-604,COLUMN(A:A))=\"\",\"\",INDEX(december!$A:$O,ROW()-604,COLUMN(A:A))))","v":""},"",null,"",null,{"$f":"IF($D681=\"\",\"\",IF(INDEX(december!$A:$O,ROW()-604,COLUMN($O:$O))=\"\",\"\",INDEX(december!$A:$O,ROW()-604,COLUMN($O:$O))))","v":""}]
["",{"$f":"IF($D682=\"\",\"\",INDEX(december!$A:$O,ROW()-604,COLUMN($C:$C)))","v":""},"Variabel",{"$f":"IF(INDEX(december!$A:$O,ROW()-604,COLUMN(O:O))=\"\",\"\",IF(INDEX(december!$A:$O,ROW()-604,COLUMN(A:A))=\"\",\"\",INDEX(december!$A:$O,ROW()-604,COLUMN(A:A))))","v":""},"",null,"",null,{"$f":"IF($D682=\"\",\"\",IF(INDEX(december!$A:$O,ROW()-604,COLUMN($O:$O))=\"\",\"\",INDEX(december!$A:$O,ROW()-604,COLUMN($O:$O))))","v":""}]
["",{"$f":"IF($D683=\"\",\"\",INDEX(december!$A:$O,ROW()-604,COLUMN($C:$C)))","v":""},"Variabel",{"$f":"IF(INDEX(december!$A:$O,ROW()-604,COLUMN(O:O))=\"\",\"\",IF(INDEX(december!$A:$O,ROW()-604,COLUMN(A:A))=\"\",\"\",INDEX(december!$A:$O,ROW()-604,COLUMN(A:A))))","v":""},"",null,"",null,{"$f":"IF($D683=\"\",\"\",IF(INDEX(december!$A:$O,ROW()-604,COLUMN($O:$O))=\"\",\"\",INDEX(december!$A:$O,ROW()-604,COLUMN($O:$O))))","v":""}]
["",{"$f":"IF($D684=\"\",\"\",INDEX(december!$A:$O,ROW()-604,COLUMN($C:$C)))","v":""},"Variabel",{"$f":"IF(INDEX(december!$A:$O,ROW()-604,COLUMN(O:O))=\"\",\"\",IF(INDEX(december!$A:$O,ROW()-604,COLUMN(A:A))=\"\",\"\",INDEX(december!$A:$O,ROW()-604,COLUMN(A:A))))","v":""},"",null,"",null,{"$f":"IF($D684=\"\",\"\",IF(INDEX(december!$A:$O,ROW()-604,COLUMN($O:$O))=\"\",\"\",INDEX(december!$A:$O,ROW()-604,COLUMN($O:$O))))","v":""}]
["",{"$f":"IF($D685=\"\",\"\",INDEX(december!$A:$O,ROW()-604,COLUMN($C:$C)))","v":""},"Variabel",{"$f":"IF(INDEX(december!$A:$O,ROW()-604,COLUMN(O:O))=\"\",\"\",IF(INDEX(december!$A:$O,ROW()-604,COLUMN(A:A))=\"\",\"\",INDEX(december!$A:$O,ROW()-604,COLUMN(A:A))))","v":""},"",null,"",null,{"$f":"IF($D685=\"\",\"\",IF(INDEX(december!$A:$O,ROW()-604,COLUMN($O:$O))=\"\",\"\",INDEX(december!$A:$O,ROW()-604,COLUMN($O:$O))))","v":""}]
["",{"$f":"IF($D686=\"\",\"\",INDEX(december!$A:$O,ROW()-604,COLUMN($C:$C)))","v":""},"Variabel",{"$f":"IF(INDEX(december!$A:$O,ROW()-604,COLUMN(O:O))=\"\",\"\",IF(INDEX(december!$A:$O,ROW()-604,COLUMN(A:A))=\"\",\"\",INDEX(december!$A:$O,ROW()-604,COLUMN(A:A))))","v":""},"",null,"",null,{"$f":"IF($D686=\"\",\"\",IF(INDEX(december!$A:$O,ROW()-604,COLUMN($O:$O))=\"\",\"\",INDEX(december!$A:$O,ROW()-604,COLUMN($O:$O))))","v":""}]
["",{"$f":"IF($D687=\"\",\"\",INDEX(december!$A:$O,ROW()-604,COLUMN($C:$C)))","v":""},"Variabel",{"$f":"IF(INDEX(december!$A:$O,ROW()-604,COLUMN(O:O))=\"\",\"\",IF(INDEX(december!$A:$O,ROW()-604,COLUMN(A:A))=\"\",\"\",INDEX(december!$A:$O,ROW()-604,COLUMN(A:A))))","v":""},"",null,"",null,{"$f":"IF($D687=\"\",\"\",IF(INDEX(december!$A:$O,ROW()-604,COLUMN($O:$O))=\"\",\"\",INDEX(december!$A:$O,ROW()-604,COLUMN($O:$O))))","v":""}]
["",{"$f":"IF($D688=\"\",\"\",INDEX(december!$A:$O,ROW()-604,COLUMN($C:$C)))","v":""},"Variabel",{"$f":"IF(INDEX(december!$A:$O,ROW()-604,COLUMN(O:O))=\"\",\"\",IF(INDEX(december!$A:$O,ROW()-604,COLUMN(A:A))=\"\",\"\",INDEX(december!$A:$O,ROW()-604,COLUMN(A:A))))","v":""},"",null,"",null,{"$f":"IF($D688=\"\",\"\",IF(INDEX(december!$A:$O,ROW()-604,COLUMN($O:$O))=\"\",\"\",INDEX(december!$A:$O,ROW()-604,COLUMN($O:$O))))","v":""}]
["",{"$f":"IF($D689=\"\",\"\",INDEX(december!$A:$O,ROW()-604,COLUMN($C:$C)))","v":""},"Variabel",{"$f":"IF(INDEX(december!$A:$O,ROW()-604,COLUMN(O:O))=\"\",\"\",IF(INDEX(december!$A:$O,ROW()-604,COLUMN(A:A))=\"\",\"\",INDEX(december!$A:$O,ROW()-604,COLUMN(A:A))))","v":""},"",null,"",null,{"$f":"IF($D689=\"\",\"\",IF(INDEX(december!$A:$O,ROW()-604,COLUMN($O:$O))=\"\",\"\",INDEX(december!$A:$O,ROW()-604,COLUMN($O:$O))))","v":""}]
["",{"$f":"IF($D690=\"\",\"\",INDEX(december!$A:$O,ROW()-604,COLUMN($C:$C)))","v":""},"Variabel",{"$f":"IF(INDEX(december!$A:$O,ROW()-604,COLUMN(O:O))=\"\",\"\",IF(INDEX(december!$A:$O,ROW()-604,COLUMN(A:A))=\"\",\"\",INDEX(december!$A:$O,ROW()-604,COLUMN(A:A))))","v":""},"",null,"",null,{"$f":"IF($D690=\"\",\"\",IF(INDEX(december!$A:$O,ROW()-604,COLUMN($O:$O))=\"\",\"\",INDEX(december!$A:$O,ROW()-604,COLUMN($O:$O))))","v":""}]
["",{"$f":"IF($D691=\"\",\"\",INDEX(december!$A:$O,ROW()-604,COLUMN($C:$C)))","v":""},"Variabel",{"$f":"IF(INDEX(december!$A:$O,ROW()-604,COLUMN(O:O))=\"\",\"\",IF(INDEX(december!$A:$O,ROW()-604,COLUMN(A:A))=\"\",\"\",INDEX(december!$A:$O,ROW()-604,COLUMN(A:A))))","v":""},"",null,"",null,{"$f":"IF($D691=\"\",\"\",IF(INDEX(december!$A:$O,ROW()-604,COLUMN($O:$O))=\"\",\"\",INDEX(december!$A:$O,ROW()-604,COLUMN($O:$O))))","v":""}]
["",{"$f":"IF($D692=\"\",\"\",INDEX(december!$A:$O,ROW()-604,COLUMN($C:$C)))","v":""},"Variabel",{"$f":"IF(INDEX(december!$A:$O,ROW()-604,COLUMN(O:O))=\"\",\"\",IF(INDEX(december!$A:$O,ROW()-604,COLUMN(A:A))=\"\",\"\",INDEX(december!$A:$O,ROW()-604,COLUMN(A:A))))","v":""},"",null,"",null,{"$f":"IF($D692=\"\",\"\",IF(INDEX(december!$A:$O,ROW()-604,COLUMN($O:$O))=\"\",\"\",INDEX(december!$A:$O,ROW()-604,COLUMN($O:$O))))","v":""}]
["",{"$f":"IF($D693=\"\",\"\",INDEX(december!$A:$O,ROW()-604,COLUMN($C:$C)))","v":""},"Variabel",{"$f":"IF(INDEX(december!$A:$O,ROW()-604,COLUMN(O:O))=\"\",\"\",IF(INDEX(december!$A:$O,ROW()-604,COLUMN(A:A))=\"\",\"\",INDEX(december!$A:$O,ROW()-604,COLUMN(A:A))))","v":""},"",null,"",null,{"$f":"IF($D693=\"\",\"\",IF(INDEX(december!$A:$O,ROW()-604,COLUMN($O:$O))=\"\",\"\",INDEX(december!$A:$O,ROW()-604,COLUMN($O:$O))))","v":""}]
["",{"$f":"IF($D694=\"\",\"\",INDEX(december!$A:$O,ROW()-604,COLUMN($C:$C)))","v":""},"Variabel",{"$f":"IF(INDEX(december!$A:$O,ROW()-604,COLUMN(O:O))=\"\",\"\",IF(INDEX(december!$A:$O,ROW()-604,COLUMN(A:A))=\"\",\"\",INDEX(december!$A:$O,ROW()-604,COLUMN(A:A))))","v":""},"",null,"",null,{"$f":"IF($D694=\"\",\"\",IF(INDEX(december!$A:$O,ROW()-604,COLUMN($O:$O))=\"\",\"\",INDEX(december!$A:$O,ROW()-604,COLUMN($O:$O))))","v":""}]
["",{"$f":"IF($D695=\"\",\"\",INDEX(december!$A:$O,ROW()-604,COLUMN($C:$C)))","v":""},"Variabel",{"$f":"IF(INDEX(december!$A:$O,ROW()-604,COLUMN(O:O))=\"\",\"\",IF(INDEX(december!$A:$O,ROW()-604,COLUMN(A:A))=\"\",\"\",INDEX(december!$A:$O,ROW()-604,COLUMN(A:A))))","v":""},"",null,"",null,{"$f":"IF($D695=\"\",\"\",IF(INDEX(december!$A:$O,ROW()-604,COLUMN($O:$O))=\"\",\"\",INDEX(december!$A:$O,ROW()-604,COLUMN($O:$O))))","v":""}]
["",{"$f":"IF($D696=\"\",\"\",INDEX(december!$A:$O,ROW()-604,COLUMN($C:$C)))","v":""},"Variabel",{"$f":"IF(INDEX(december!$A:$O,ROW()-604,COLUMN(O:O))=\"\",\"\",IF(INDEX(december!$A:$O,ROW()-604,COLUMN(A:A))=\"\",\"\",INDEX(december!$A:$O,ROW()-604,COLUMN(A:A))))","v":""},"",null,"",null,{"$f":"IF($D696=\"\",\"\",IF(INDEX(december!$A:$O,ROW()-604,COLUMN($O:$O))=\"\",\"\",INDEX(december!$A:$O,ROW()-604,COLUMN($O:$O))))","v":""}]
["",{"$f":"IF($D697=\"\",\"\",INDEX(december!$A:$O,ROW()-604,COLUMN($C:$C)))","v":""},"Variabel",{"$f":"IF(INDEX(december!$A:$O,ROW()-604,COLUMN(O:O))=\"\",\"\",IF(INDEX(december!$A:$O,ROW()-604,COLUMN(A:A))=\"\",\"\",INDEX(december!$A:$O,ROW()-604,COLUMN(A:A))))","v":""},"",null,"",null,{"$f":"IF($D697=\"\",\"\",IF(INDEX(december!$A:$O,ROW()-604,COLUMN($O:$O))=\"\",\"\",INDEX(december!$A:$O,ROW()-604,COLUMN($O:$O))))","v":""}]
["",{"$f":"IF($D698=\"\",\"\",INDEX(december!$A:$O,ROW()-604,COLUMN($C:$C)))","v":""},"Variabel",{"$f":"IF(INDEX(december!$A:$O,ROW()-604,COLUMN(O:O))=\"\",\"\",IF(INDEX(december!$A:$O,ROW()-604,COLUMN(A:A))=\"\",\"\",INDEX(december!$A:$O,ROW()-604,COLUMN(A:A))))","v":""},"",null,"",null,{"$f":"IF($D698=\"\",\"\",IF(INDEX(december!$A:$O,ROW()-604,COLUMN($O:$O))=\"\",\"\",INDEX(december!$A:$O,ROW()-604,COLUMN($O:$O))))","v":""}]
["",{"$f":"IF($D699=\"\",\"\",INDEX(december!$A:$O,ROW()-604,COLUMN($C:$C)))","v":""},"Variabel",{"$f":"IF(INDEX(december!$A:$O,ROW()-604,COLUMN(O:O))=\"\",\"\",IF(INDEX(december!$A:$O,ROW()-604,COLUMN(A:A))=\"\",\"\",INDEX(december!$A:$O,ROW()-604,COLUMN(A:A))))","v":""},"",null,"",null,{"$f":"IF($D699=\"\",\"\",IF(INDEX(december!$A:$O,ROW()-604,COLUMN($O:$O))=\"\",\"\",INDEX(december!$A:$O,ROW()-604,COLUMN($O:$O))))","v":""}]
["",{"$f":"IF($D700=\"\",\"\",INDEX(december!$A:$O,ROW()-604,COLUMN($C:$C)))","v":""},"Variabel",{"$f":"IF(INDEX(december!$A:$O,ROW()-604,COLUMN(O:O))=\"\",\"\",IF(INDEX(december!$A:$O,ROW()-604,COLUMN(A:A))=\"\",\"\",INDEX(december!$A:$O,ROW()-604,COLUMN(A:A))))","v":""},"",null,"",null,{"$f":"IF($D700=\"\",\"\",IF(INDEX(december!$A:$O,ROW()-604,COLUMN($O:$O))=\"\",\"\",INDEX(december!$A:$O,ROW()-604,COLUMN($O:$O))))","v":""}]
["",{"$f":"IF($D701=\"\",\"\",INDEX(december!$A:$O,ROW()-604,COLUMN($C:$C)))","v":""},"Variabel",{"$f":"IF(INDEX(december!$A:$O,ROW()-604,COLUMN(O:O))=\"\",\"\",IF(INDEX(december!$A:$O,ROW()-604,COLUMN(A:A))=\"\",\"\",INDEX(december!$A:$O,ROW()-604,COLUMN(A:A))))","v":""},"",null,"",null,{"$f":"IF($D701=\"\",\"\",IF(INDEX(december!$A:$O,ROW()-604,COLUMN($O:$O))=\"\",\"\",INDEX(december!$A:$O,ROW()-604,COLUMN($O:$O))))","v":""}]
["",{"$f":"IF($D702=\"\",\"\",INDEX(december!$A:$O,ROW()-604,COLUMN($C:$C)))","v":""},"Variabel",{"$f":"IF(INDEX(december!$A:$O,ROW()-604,COLUMN(O:O))=\"\",\"\",IF(INDEX(december!$A:$O,ROW()-604,COLUMN(A:A))=\"\",\"\",INDEX(december!$A:$O,ROW()-604,COLUMN(A:A))))","v":""},"",null,"",null,{"$f":"IF($D702=\"\",\"\",IF(INDEX(december!$A:$O,ROW()-604,COLUMN($O:$O))=\"\",\"\",INDEX(december!$A:$O,ROW()-604,COLUMN($O:$O))))","v":""}]
["",{"$f":"IF($D703=\"\",\"\",INDEX(december!$A:$O,ROW()-604,COLUMN($C:$C)))","v":""},"Variabel",{"$f":"IF(INDEX(december!$A:$O,ROW()-604,COLUMN(O:O))=\"\",\"\",IF(INDEX(december!$A:$O,ROW()-604,COLUMN(A:A))=\"\",\"\",INDEX(december!$A:$O,ROW()-604,COLUMN(A:A))))","v":""},"",null,"",null,{"$f":"IF($D703=\"\",\"\",IF(INDEX(december!$A:$O,ROW()-604,COLUMN($O:$O))=\"\",\"\",INDEX(december!$A:$O,ROW()-604,COLUMN($O:$O))))","v":""}]

{"sheet":"Decentral","index":13,"n_rows":4,"n_cols":11,"rows_kept":4,"cut":false,"hidden":false,"merged":[]}
[]
[3,6,"Variabel",31917,"2012-01-12",null,1181,"Bonus Q2 iflg aftale",null,null,6179]
[3,11,"Variabel",60916,"2012-01-12",null,9471,"Faktura 25",null,null,462.29]
[3,8,"Variabel",80020,"2012-01-12",null,9030,"Dobbelt okt/nov.",null,null,-3331.04]