{"text_format":"1","workbook":"xlsx","n_sheets":6,"sheets":["Lønskema","Medarbejder","Opstart","Overenskomst","Hjælp","Helligdage"],"not_rendered":{"charts":0,"images":3,"macros":1,"external_links":0,"defined_names":31,"comments":2,"pivot_tables":0},"unopened":[],"bounds":{"document_bytes":16777216,"sheet_cells":100000,"rows_first":2000,"rows_last":500,"rows_between":2000,"halvings":0,"cell_chars":16384,"cell_head_chars":4096},"cells_cut":0,"cells_raw":0,"read":"whole","date_system":"1900"}

{"sheet":"Lønskema","index":0,"n_rows":467,"n_cols":125,"rows_kept":467,"cut":false,"hidden":false,"merged":[[420,35,420,38],[421,35,421,38],[428,35,428,38],[429,35,429,38],[430,35,430,38],[437,35,437,38],[438,35,438,38],[439,35,439,38],[446,35,446,38],[447,35,447,38],[448,35,448,38],[455,35,455,38],[456,35,456,38],[457,35,457,38],[464,35,464,38],[465,35,465,38],[466,35,466,38],[367,35,367,38],[374,35,374,38],[375,35,375,38],[376,35,376,38],[383,35,383,38],[384,35,384,38],[385,35,385,38],[392,35,392,38],[393,35,393,38],[394,35,394,38],[401,35,401,38],[402,35,402,38],[403,35,403,38],[410,35,410,38],[411,35,411,38],[412,35,412,38],[419,35,419,38],[320,35,320,38],[321,35,321,38],[322,35,322,38],[329,35,329,38],[330,35,330,38],[331,35,331,38],[338,35,338,38],[339,35,339,38],[340,35,340,38],[347,35,347,38],[348,35,348,38],[349,35,349,38],[356,35,356,38],[357,35,357,38],[358,35,358,38],[365,35,365,38],[366,35,366,38],[267,35,267,38],[268,35,268,38],[275,35,275,38],[276,35,276,38],[277,35,277,38],[284,35,284,38],[285,35,285,38],[286,35,286,38],[293,35,293,38],[294,35,294,38],[295,35,295,38],[302,35,302,38],[303,35,303,38],[304,35,304,38],[311,35,311,38],[312,35,312,38],[313,35,313,38],[214,35,214,38],[221,35,221,38],[222,35,222,38],[223,35,223,38],[230,35,230,38],[231,35,231,38],[232,35,232,38],[239,35,239,38],[240,35,240,38],[241,35,241,38],[248,35,248,38],[249,35,249,38],[250,35,250,38],[257,35,257,38],[258,35,258,38],[259,35,259,38],[266,35,266,38],[167,35,167,38],[168,35,168,38],[169,35,169,38],[176,35,176,38],[177,35,177,38],[178,35,178,38],[185,35,185,38],[186,35,186,38],[187,35,187,38],[194,35,194,38],[195,35,195,38],[196,35,196,38],[203,35,203,38],[204,35,204,38],[205,35,205,38],[212,35,212,38],[213,35,213,38],[114,35,114,38],[115,35,115,38],[122,35,122,38],[123,35,123,38],[124,35,124,38],[131,35,131,38],[132,35,132,38],[133,35,133,38],[140,35,140,38],[141,35,141,38],[142,35,142,38],[149,35,149,38],[150,35,150,38],[151,35,151,38],[158,35,158,38],[159,35,159,38],[160,35,160,38],[61,35,61,38],[68,35,68,38],[69,35,69,38],[70,35,70,38],[77,35,77,38],[78,35,78,38],[79,35,79,38],[86,35,86,38],[87,35,87,38],[88,35,88,38],[95,35,95,38],[96,35,96,38],[97,35,97,38],[104,35,104,38],[105,35,105,38],[106,35,106,38],[113,35,113,38],[23,35,23,38],[24,35,24,38],[25,35,25,38],[14,35,14,38],[15,35,15,38],[16,35,16,38],[32,35,32,38],[33,35,33,38],[34,35,34,38],[41,35,41,38],[42,35,42,38],[43,35,43,38],[50,35,50,38],[51,35,51,38],[52,35,52,38],[59,35,59,38],[60,35,60,38],[6,64,7,64],[6,65,7,65],[6,66,7,66],[5,68,5,70],[6,75,6,80],[114,0,114,1],[114,3,114,5],[114,8,114,12],[114,15,114,19],[114,22,114,26],[114,29,114,32],[115,0,115,1],[115,3,115,5],[115,8,115,12],[115,15,115,19],[115,22,115,26],[115,29,115,32],[106,0,106,1],[106,3,106,5],[106,8,106,12],[106,15,106,19],[106,22,106,26],[106,29,106,32],[108,0,108,2],[113,0,113,1],[113,3,113,5],[113,8,113,12],[113,15,113,19],[113,22,113,26],[113,29,113,32],[99,0,99,2],[104,0,104,1],[104,3,104,5],[104,8,104,12],[104,15,104,19],[104,22,104,26],[104,29,104,32],[105,0,105,1],[105,3,105,5],[105,8,105,12],[105,15,105,19],[105,22,105,26],[105,29,105,32],[6,69,7,69],[90,0,90,2],[95,0,95,1],[95,3,95,5],[95,8,95,12],[95,15,95,19],[95,22,95,26],[95,29,95,32],[96,0,96,1],[96,3,96,5],[96,8,96,12],[96,15,96,19],[96,22,96,26],[96,29,96,32],[97,0,97,1],[97,3,97,5],[97,8,97,12],[97,15,97,19],[97,22,97,26],[97,29,97,32],[81,0,81,2],[86,0,86,1],[86,3,86,5],[86,8,86,12],[86,15,86,19],[86,22,86,26],[86,29,86,32],[87,0,87,1],[87,3,87,5],[87,8,87,12],[87,15,87,19],[87,22,87,26],[87,29,87,32],[88,0,88,1],[88,3,88,5],[88,8,88,12],[88,15,88,19],[88,22,88,26],[88,29,88,32],[72,0,72,2],[77,0,77,1],[77,3,77,5],[77,8,77,12],[77,15,77,19],[77,22,77,26],[77,29,77,32],[78,0,78,1],[78,3,78,5],[78,8,78,12],[78,15,78,19],[78,22,78,26],[78,29,78,32],[79,0,79,1],[79,3,79,5],[79,8,79,12],[79,15,79,19],[79,22,79,26],[79,29,79,32],[63,0,63,2],[68,0,68,1],[68,3,68,5],[68,8,68,12],[68,15,68,19],[68,22,68,26],[68,29,68,32],[69,0,69,1],[69,3,69,5],[69,8,69,12],[69,15,69,19],[69,22,69,26],[69,29,69,32],[70,0,70,1],[70,3,70,5],[70,8,70,12],[70,15,70,19],[70,22,70,26],[70,29,70,32],[59,0,59,1],[59,3,59,5],[59,8,59,12],[59,15,59,19],[59,22,59,26],[59,29,59,32],[60,0,60,1],[60,3,60,5],[60,8,60,12],[60,15,60,19],[60,22,60,26],[60,29,60,32],[61,0,61,1],[61,3,61,5],[61,8,61,12],[61,15,61,19],[61,22,61,26],[61,29,61,32],[50,8,50,12],[50,15,50,19],[50,22,50,26],[50,29,50,32],[51,0,51,1],[51,3,51,5],[51,8,51,12],[51,15,51,19],[51,22,51,26],[51,29,51,32],[52,0,52,1],[52,3,52,5],[52,8,52,12],[52,15,52,19],[52,22,52,26],[52,29,52,32],[54,0,54,2],[0,0,0,2],[9,0,9,2],[0,9,0,15],[4,0,5,1],[4,2,5,2],[2,3,3,3],[2,4,3,4],[2,5,3,5],[2,6,3,6],[2,7,3,7],[2,8,3,8],[2,9,3,9],[2,10,3,10],[2,11,3,11],[2,12,3,12],[14,3,14,5],[43,29,43,32],[43,0,43,1],[43,3,43,5],[43,8,43,12],[43,15,43,19],[43,22,43,26],[41,22,41,26],[41,29,41,32],[42,0,42,1],[42,3,42,5],[42,8,42,12],[42,15,42,19],[42,22,42,26],[42,29,42,32],[15,22,15,26],[36,0,36,2],[14,29,14,32],[15,29,15,32],[16,29,16,32],[6,61,7,61],[2,0,3,2],[6,60,7,60],[2,13,3,13],[15,3,15,5],[16,3,16,5],[14,8,14,12],[15,8,15,12],[16,8,16,12],[14,15,14,19],[15,15,15,19],[16,15,16,19],[14,22,14,26],[16,22,16,26],[14,0,14,1],[15,0,15,1],[16,0,16,1],[6,46,7,46],[6,47,7,47],[6,48,7,48],[6,49,7,49],[25,29,25,32],[27,0,27,2],[32,0,32,1],[32,3,32,5],[32,8,32,12],[32,15,32,19],[32,22,32,26],[32,29,32,32],[25,0,25,1],[25,3,25,5],[25,8,25,12],[25,15,25,19],[25,22,25,26],[18,0,18,2],[23,0,23,1],[23,3,23,5],[23,8,23,12],[23,15,23,19],[23,22,23,26],[23,29,23,32],[24,0,24,1],[24,3,24,5],[24,8,24,12],[24,15,24,19],[24,22,24,26],[24,29,24,32],[117,0,117,2],[122,0,122,1],[122,3,122,5],[122,8,122,12],[122,15,122,19],[122,22,122,26],[122,29,122,32],[123,0,123,1],[123,3,123,5],[123,8,123,12],[123,15,123,19],[123,22,123,26],[123,29,123,32],[33,29,33,32],[34,0,34,1],[34,3,34,5],[34,8,34,12],[34,15,34,19],[34,22,34,26],[34,29,34,32],[33,0,33,1],[33,3,33,5],[33,8,33,12],[33,15,33,19],[33,22,33,26],[41,0,41,1],[41,3,41,5],[41,8,41,12],[41,15,41,19],[45,0,45,2],[50,0,50,1],[50,3,50,5],[132,0,132,1],[132,3,132,5],[132,8,132,12],[132,15,132,19],[132,22,132,26],[132,29,132,32],[133,0,133,1],[133,3,133,5],[133,8,133,12],[133,15,133,19],[133,22,133,26],[133,29,133,32],[124,0,124,1],[124,3,124,5],[124,8,124,12],[124,15,124,19],[124,22,124,26],[124,29,124,32],[126,0,126,2],[131,0,131,1],[131,3,131,5],[131,8,131,12],[131,15,131,19],[131,22,131,26],[131,29,131,32],[142,0,142,1],[142,3,142,5],[142,8,142,12],[142,15,142,19],[142,22,142,26],[142,29,142,32],[144,0,144,2],[149,0,149,1],[149,3,149,5],[149,8,149,12],[149,15,149,19],[149,22,149,26],[149,29,149,32],[135,0,135,2],[140,0,140,1],[140,3,140,5],[140,8,140,12],[140,15,140,19],[140,22,140,26],[140,29,140,32],[141,0,141,1],[141,3,141,5],[141,8,141,12],[141,15,141,19],[141,22,141,26],[141,29,141,32],[153,0,153,2],[158,0,158,1],[158,3,158,5],[158,8,158,12],[158,15,158,19],[158,22,158,26],[158,29,158,32],[159,0,159,1],[159,3,159,5],[159,8,159,12],[159,15,159,19],[159,22,159,26],[159,29,159,32],[150,0,150,1],[150,3,150,5],[150,8,150,12],[150,15,150,19],[150,22,150,26],[150,29,150,32],[151,0,151,1],[151,3,151,5],[151,8,151,12],[151,15,151,19],[151,22,151,26],[151,29,151,32],[168,0,168,1],[168,3,168,5],[168,8,168,12],[168,15,168,19],[168,22,168,26],[168,29,168,32],[169,0,169,1],[169,3,169,5],[169,8,169,12],[169,15,169,19],[169,22,169,26],[169,29,169,32],[160,0,160,1],[160,3,160,5],[160,8,160,12],[160,15,160,19],[160,22,160,26],[160,29,160,32],[162,0,162,2],[167,0,167,1],[167,3,167,5],[167,8,167,12],[167,15,167,19],[167,22,167,26],[167,29,167,32],[178,0,178,1],[178,3,178,5],[178,8,178,12],[178,15,178,19],[178,22,178,26],[178,29,178,32],[180,0,180,2],[185,0,185,1],[185,3,185,5],[185,8,185,12],[185,15,185,19],[185,22,185,26],[185,29,185,32],[171,0,171,2],[176,0,176,1],[176,3,176,5],[176,8,176,12],[176,15,176,19],[176,22,176,26],[176,29,176,32],[177,0,177,1],[177,3,177,5],[177,8,177,12],[177,15,177,19],[177,22,177,26],[177,29,177,32],[189,0,189,2],[194,0,194,1],[194,3,194,5],[194,8,194,12],[194,15,194,19],[194,22,194,26],[194,29,194,32],[195,0,195,1],[195,3,195,5],[195,8,195,12],[195,15,195,19],[195,22,195,26],[195,29,195,32],[186,0,186,1],[186,3,186,5],[186,8,186,12],[186,15,186,19],[186,22,186,26],[186,29,186,32],[187,0,187,1],[187,3,187,5],[187,8,187,12],[187,15,187,19],[187,22,187,26],[187,29,187,32],[204,0,204,1],[204,3,204,5],[204,8,204,12],[204,15,204,19],[204,22,204,26],[204,29,204,32],[205,0,205,1],[205,3,205,5],[205,8,205,12],[205,15,205,19],[205,22,205,26],[205,29,205,32],[196,0,196,1],[196,3,196,5],[196,8,196,12],[196,15,196,19],[196,22,196,26],[196,29,196,32],[198,0,198,2],[203,0,203,1],[203,3,203,5],[203,8,203,12],[203,15,203,19],[203,22,203,26],[203,29,203,32],[214,0,214,1],[214,3,214,5],[214,8,214,12],[214,15,214,19],[214,22,214,26],[214,29,214,32],[216,0,216,2],[221,0,221,1],[221,3,221,5],[221,8,221,12],[221,15,221,19],[221,22,221,26],[221,29,221,32],[207,0,207,2],[212,0,212,1],[212,3,212,5],[212,8,212,12],[212,15,212,19],[212,22,212,26],[212,29,212,32],[213,0,213,1],[213,3,213,5],[213,8,213,12],[213,15,213,19],[213,22,213,26],[213,29,213,32],[225,0,225,2],[230,0,230,1],[230,3,230,5],[230,8,230,12],[230,15,230,19],[230,22,230,26],[230,29,230,32],[231,0,231,1],[231,3,231,5],[231,8,231,12],[231,15,231,19],[231,22,231,26],[231,29,231,32],[222,0,222,1],[222,3,222,5],[222,8,222,12],[222,15,222,19],[222,22,222,26],[222,29,222,32],[223,0,223,1],[223,3,223,5],[223,8,223,12],[223,15,223,19],[223,22,223,26],[223,29,223,32],[240,0,240,1],[240,3,240,5],[240,8,240,12],[240,15,240,19],[240,22,240,26],[240,29,240,32],[241,0,241,1],[241,3,241,5],[241,8,241,12],[241,15,241,19],[241,22,241,26],[241,29,241,32],[232,0,232,1],[232,3,232,5],[232,8,232,12],[232,15,232,19],[232,22,232,26],[232,29,232,32],[234,0,234,2],[239,0,239,1],[239,3,239,5],[239,8,239,12],[239,15,239,19],[239,22,239,26],[239,29,239,32],[250,0,250,1],[250,3,250,5],[250,8,250,12],[250,15,250,19],[250,22,250,26],[250,29,250,32],[252,0,252,2],[257,0,257,1],[257,3,257,5],[257,8,257,12],[257,15,257,19],[257,22,257,26],[257,29,257,32],[243,0,243,2],[248,0,248,1],[248,3,248,5],[248,8,248,12],[248,15,248,19],[248,22,248,26],[248,29,248,32],[249,0,249,1],[249,3,249,5],[249,8,249,12],[249,15,249,19],[249,22,249,26],[249,29,249,32],[261,0,261,2],[266,0,266,1],[266,3,266,5],[266,8,266,12],[266,15,266,19],[266,22,266,26],[266,29,266,32],[267,0,267,1],[267,3,267,5],[267,8,267,12],[267,15,267,19],[267,22,267,26],[267,29,267,32],[258,0,258,1],[258,3,258,5],[258,8,258,12],[258,15,258,19],[258,22,258,26],[258,29,258,32],[259,0,259,1],[259,3,259,5],[259,8,259,12],[259,15,259,19],[259,22,259,26],[259,29,259,32],[276,0,276,1],[276,3,276,5],[276,8,276,12],[276,15,276,19],[276,22,276,26],[276,29,276,32],[277,0,277,1],[277,3,277,5],[277,8,277,12],[277,15,277,19],[277,22,277,26],[277,29,277,32],[268,0,268,1],[268,3,268,5],[268,8,268,12],[268,15,268,19],[268,22,268,26],[268,29,268,32],[270,0,270,2],[275,0,275,1],[275,3,275,5],[275,8,275,12],[275,15,275,19],[275,22,275,26],[275,29,275,32],[286,0,286,1],[286,3,286,5],[286,8,286,12],[286,15,286,19],[286,22,286,26],[286,29,286,32],[288,0,288,2],[293,0,293,1],[293,3,293,5],[293,8,293,12],[293,15,293,19],[293,22,293,26],[293,29,293,32],[279,0,279,2],[284,0,284,1],[284,3,284,5],[284,8,284,12],[284,15,284,19],[284,22,284,26],[284,29,284,32],[285,0,285,1],[285,3,285,5],[285,8,285,12],[285,15,285,19],[285,22,285,26],[285,29,285,32],[297,0,297,2],[302,0,302,1],[302,3,302,5],[302,8,302,12],[302,15,302,19],[302,22,302,26],[302,29,302,32],[303,0,303,1],[303,3,303,5],[303,8,303,12],[303,15,303,19],[303,22,303,26],[303,29,303,32],[294,0,294,1],[294,3,294,5],[294,8,294,12],[294,15,294,19],[294,22,294,26],[294,29,294,32],[295,0,295,1],[295,3,295,5],[295,8,295,12],[295,15,295,19],[295,22,295,26],[295,29,295,32],[312,0,312,1],[312,3,312,5],[312,8,312,12],[312,15,312,19],[312,22,312,26],[312,29,312,32],[313,0,313,1],[313,3,313,5],[313,8,313,12],[313,15,313,19],[313,22,313,26],[313,29,313,32],[304,0,304,1],[304,3,304,5],[304,8,304,12],[304,15,304,19],[304,22,304,26],[304,29,304,32],[306,0,306,2],[311,0,311,1],[311,3,311,5],[311,8,311,12],[311,15,311,19],[311,22,311,26],[311,29,311,32],[322,0,322,1],[322,3,322,5],[322,8,322,12],[322,15,322,19],[322,22,322,26],[322,29,322,32],[324,0,324,2],[329,0,329,1],[329,3,329,5],[329,8,329,12],[329,15,329,19],[329,22,329,26],[329,29,329,32],[315,0,315,2],[320,0,320,1],[320,3,320,5],[320,8,320,12],[320,15,320,19],[320,22,320,26],[320,29,320,32],[321,0,321,1],[321,3,321,5],[321,8,321,12],[321,15,321,19],[321,22,321,26],[321,29,321,32],[333,0,333,2],[338,0,338,1],[338,3,338,5],[338,8,338,12],[338,15,338,19],[338,22,338,26],[338,29,338,32],[339,0,339,1],[339,3,339,5],[339,8,339,12],[339,15,339,19],[339,22,339,26],[339,29,339,32],[330,0,330,1],[330,3,330,5],[330,8,330,12],[330,15,330,19],[330,22,330,26],[330,29,330,32],[331,0,331,1],[331,3,331,5],[331,8,331,12],[331,15,331,19],[331,22,331,26],[331,29,331,32],[348,0,348,1],[348,3,348,5],[348,8,348,12],[348,15,348,19],[348,22,348,26],[348,29,348,32],[349,0,349,1],[349,3,349,5],[349,8,349,12],[349,15,349,19],[349,22,349,26],[349,29,349,32],[340,0,340,1],[340,3,340,5],[340,8,340,12],[340,15,340,19],[340,22,340,26],[340,29,340,32],[342,0,342,2],[347,0,347,1],[347,3,347,5],[347,8,347,12],[347,15,347,19],[347,22,347,26],[347,29,347,32],[358,0,358,1],[358,3,358,5],[358,8,358,12],[358,15,358,19],[358,22,358,26],[358,29,358,32],[360,0,360,2],[365,0,365,1],[365,3,365,5],[365,8,365,12],[365,15,365,19],[365,22,365,26],[365,29,365,32],[351,0,351,2],[356,0,356,1],[356,3,356,5],[356,8,356,12],[356,15,356,19],[356,22,356,26],[356,29,356,32],[357,0,357,1],[357,3,357,5],[357,8,357,12],[357,15,357,19],[357,22,357,26],[357,29,357,32],[369,0,369,2],[374,0,374,1],[374,3,374,5],[374,8,374,12],[374,15,374,19],[374,22,374,26],[374,29,374,32],[375,0,375,1],[375,3,375,5],[375,8,375,12],[375,15,375,19],[375,22,375,26],[375,29,375,32],[366,0,366,1],[366,3,366,5],[366,8,366,12],[366,15,366,19],[366,22,366,26],[366,29,366,32],[367,0,367,1],[367,3,367,5],[367,8,367,12],[367,15,367,19],[367,22,367,26],[367,29,367,32],[384,0,384,1],[384,3,384,5],[384,8,384,12],[384,15,384,19],[384,22,384,26],[384,29,384,32],[385,0,385,1],[385,3,385,5],[385,8,385,12],[385,15,385,19],[385,22,385,26],[385,29,385,32],[376,0,376,1],[376,3,376,5],[376,8,376,12],[376,15,376,19],[376,22,376,26],[376,29,376,32],[378,0,378,2],[383,0,383,1],[383,3,383,5],[383,8,383,12],[383,15,383,19],[383,22,383,26],[383,29,383,32],[394,0,394,1],[394,3,394,5],[394,8,394,12],[394,15,394,19],[394,22,394,26],[394,29,394,32],[396,0,396,2],[401,0,401,1],[401,3,401,5],[401,8,401,12],[401,15,401,19],[401,22,401,26],[401,29,401,32],[387,0,387,2],[392,0,392,1],[392,3,392,5],[392,8,392,12],[392,15,392,19],[392,22,392,26],[392,29,392,32],[393,0,393,1]],"merged_total":1157,"flags":["merged_cut"]}
["Timeregistrering",null,null,null,null,null,null,null,null,{"$f":"Opstart!B2","v":"Firma Navn"}]
[]
["Registrerings Nøgle         >>>>>",null,null,"F              Ferie",null,"P Personlig",null,"S              Syg",null,"BS       Barn Syg",null,"FF Ferie Fridag",null,"G      Barsel"]
[]
[{"$f":"Opstart!E3","v":"April"},null,{"$f":"Opstart!E2","v":2025},{"$f":"WEEKNUM(D8,21)","v":14},{"$f":"WEEKNUM(E8,21)","v":14},14,14,14,14,15,15,15,15,15,15,15,16,16,16,16,16,16,16,17,17,17,17,17,17,17,18,{"$f":"IF(AF8=\"\",\"-\",WEEKNUM(AF8,21))","v":18},{"$f":"IF(AG8=\"\",\"-\",WEEKNUM(AG8,21))","v":18},{"$f":"IF(AH8=\"\",\"-\",WEEKNUM(AH8,21))","v":"-"}]
[null,null,null,{"$f":"IF(ISNUMBER(MATCH(D8,Helligdage!$A$3:$A$12,0)),INDEX(Helligdage!$B$3:$B$12,MATCH(D8,Helligdage!$A$3:$A$12,0)),\"\")","v":""},{"$f":"IF(ISNUMBER(MATCH(E8,Helligdage!$A$3:$A$12,0)),INDEX(Helligdage!$B$3:$B$12,MATCH(E8,Helligdage!$A$3:$A$12,0)),\"\")","v":""},{"$f":"IF(ISNUMBER(MATCH(F8,Helligdage!$A$3:$A$12,0)),INDEX(Helligdage!$B$3:$B$12,MATCH(F8,Helligdage!$A$3:$A$12,0)),\"\")","v":""},{"$f":"IF(ISNUMBER(MATCH(G8,Helligdage!$A$3:$A$12,0)),INDEX(Helligdage!$B$3:$B$12,MATCH(G8,Helligdage!$A$3:$A$12,0)),\"\")","v":""},{"$f":"IF(ISNUMBER(MATCH(H8,Helligdage!$A$3:$A$12,0)),INDEX(Helligdage!$B$3:$B$12,MATCH(H8,Helligdage!$A$3:$A$12,0)),\"\")","v":""},{"$f":"IF(ISNUMBER(MATCH(I8,Helligdage!$A$3:$A$12,0)),INDEX(Helligdage!$B$3:$B$12,MATCH(I8,Helligdage!$A$3:$A$12,0)),\"\")","v":""},{"$f":"IF(ISNUMBER(MATCH(J8,Helligdage!$A$3:$A$12,0)),INDEX(Helligdage!$B$3:$B$12,MATCH(J8,Helligdage!$A$3:$A$12,0)),\"\")","v":""},{"$f":"IF(ISNUMBER(MATCH(K8,Helligdage!$A$3:$A$12,0)),INDEX(Helligdage!$B$3:$B$12,MATCH(K8,Helligdage!$A$3:$A$12,0)),\"\")","v":""},{"$f":"IF(ISNUMBER(MATCH(L8,Helligdage!$A$3:$A$12,0)),INDEX(Helligdage!$B$3:$B$12,MATCH(L8,Helligdage!$A$3:$A$12,0)),\"\")","v":""},{"$f":"IF(ISNUMBER(MATCH(M8,Helligdage!$A$3:$A$12,0)),INDEX(Helligdage!$B$3:$B$12,MATCH(M8,Helligdage!$A$3:$A$12,0)),\"\")","v":""},{"$f":"IF(ISNUMBER(MATCH(N8,Helligdage!$A$3:$A$12,0)),INDEX(Helligdage!$B$3:$B$12,MATCH(N8,Helligdage!$A$3:$A$12,0)),\"\")","v":""},{"$f":"IF(ISNUMBER(MATCH(O8,Helligdage!$A$3:$A$12,0)),INDEX(Helligdage!$B$3:$B$12,MATCH(O8,Helligdage!$A$3:$A$12,0)),\"\")","v":""},{"$f":"IF(ISNUMBER(MATCH(P8,Helligdage!$A$3:$A$12,0)),INDEX(Helligdage!$B$3:$B$12,MATCH(P8,Helligdage!$A$3:$A$12,0)),\"\")","v":""},{"$f":"IF(ISNUMBER(MATCH(Q8,Helligdage!$A$3:$A$12,0)),INDEX(Helligdage!$B$3:$B$12,MATCH(Q8,Helligdage!$A$3:$A$12,0)),\"\")","v":""},{"$f":"IF(ISNUMBER(MATCH(R8,Helligdage!$A$3:$A$12,0)),INDEX(Helligdage!$B$3:$B$12,MATCH(R8,Helligdage!$A$3:$A$12,0)),\"\")","v":""},{"$f":"IF(ISNUMBER(MATCH(S8,Helligdage!$A$3:$A$12,0)),INDEX(Helligdage!$B$3:$B$12,MATCH(S8,Helligdage!$A$3:$A$12,0)),\"\")","v":""},{"$f":"IF(ISNUMBER(MATCH(T8,Helligdage!$A$3:$A$12,0)),INDEX(Helligdage!$B$3:$B$12,MATCH(T8,Helligdage!$A$3:$A$12,0)),\"\")","v":"skærtd"},{"$f":"IF(ISNUMBER(MATCH(U8,Helligdage!$A$3:$A$12,0)),INDEX(Helligdage!$B$3:$B$12,MATCH(U8,Helligdage!$A$3:$A$12,0)),\"\")","v":"langfd"},{"$f":"IF(ISNUMBER(MATCH(V8,Helligdage!$A$3:$A$12,0)),INDEX(Helligdage!$B$3:$B$12,MATCH(V8,Helligdage!$A$3:$A$12,0)),\"\")","v":""},{"$f":"IF(ISNUMBER(MATCH(W8,Helligdage!$A$3:$A$12,0)),INDEX(Helligdage!$B$3:$B$12,MATCH(W8,Helligdage!$A$3:$A$12,0)),\"\")","v":"1Påsked"},{"$f":"IF(ISNUMBER(MATCH(X8,Helligdage!$A$3:$A$12,0)),INDEX(Helligdage!$B$3:$B$12,MATCH(X8,Helligdage!$A$3:$A$12,0)),\"\")","v":"2Påsked"},{"$f":"IF(ISNUMBER(MATCH(Y8,Helligdage!$A$3:$A$12,0)),INDEX(Helligdage!$B$3:$B$12,MATCH(Y8,Helligdage!$A$3:$A$12,0)),\"\")","v":""},{"$f":"IF(ISNUMBER(MATCH(Z8,Helligdage!$A$3:$A$12,0)),INDEX(Helligdage!$B$3:$B$12,MATCH(Z8,Helligdage!$A$3:$A$12,0)),\"\")","v":""},{"$f":"IF(ISNUMBER(MATCH(AA8,Helligdage!$A$3:$A$12,0)),INDEX(Helligdage!$B$3:$B$12,MATCH(AA8,Helligdage!$A$3:$A$12,0)),\"\")","v":""},{"$f":"IF(ISNUMBER(MATCH(AB8,Helligdage!$A$3:$A$12,0)),INDEX(Helligdage!$B$3:$B$12,MATCH(AB8,Helligdage!$A$3:$A$12,0)),\"\")","v":""},{"$f":"IF(ISNUMBER(MATCH(AC8,Helligdage!$A$3:$A$12,0)),INDEX(Helligdage!$B$3:$B$12,MATCH(AC8,Helligdage!$A$3:$A$12,0)),\"\")","v":""},{"$f":"IF(ISNUMBER(MATCH(AD8,Helligdage!$A$3:$A$12,0)),INDEX(Helligdage!$B$3:$B$12,MATCH(AD8,Helligdage!$A$3:$A$12,0)),\"\")","v":""},{"$f":"IF(ISNUMBER(MATCH(AE8,Helligdage!$A$3:$A$12,0)),INDEX(Helligdage!$B$3:$B$12,MATCH(AE8,Helligdage!$A$3:$A$12,0)),\"\")","v":""},{"$f":"IF(ISNUMBER(MATCH(AF8,Helligdage!$A$3:$A$12,0)),INDEX(Helligdage!$B$3:$B$12,MATCH(AF8,Helligdage!$A$3:$A$12,0)),\"\")","v":""},{"$f":"IF(ISNUMBER(MATCH(AG8,Helligdage!$A$3:$A$12,0)),INDEX(Helligdage!$B$3:$B$12,MATCH(AG8,Helligdage!$A$3:$A$12,0)),\"\")","v":""},{"$f":"IF(ISNUMBER(MATCH(AH8,Helligdage!$A$3:$A$12,0)),INDEX(Helligdage!$B$3:$B$12,MATCH(AH8,Helligdage!$A$3:$A$12,0)),\"\")","v":""},null,null,null,null,null,null,null,null,null,null,null,null,null,null,null,null,null,null,null,null,null,null,null,null,null,null,null,null,null,null,null,null,null,null,"Helligdage"]
[null,{"$f":"TODAY()","v":"2025-04-11"},null,{"$f":"PROPER(TEXT(D8,\"dddd\"))","v":"Tirsdag"},{"$f":"PROPER(TEXT(E8,\"dddd\"))","v":"Onsdag"},"Torsdag","Fredag","Lørdag","Søndag","Mandag","Tirsdag","Onsdag","Torsdag","Fredag","Lørdag","Søndag","Mandag","Tirsdag","Onsdag","Torsdag","Fredag","Lørdag","Søndag","Mandag","Tirsdag","Onsdag","Torsdag","Fredag","Lørdag","Søndag","Mandag","Tirsdag","Onsdag","",null,null,null,null,null,null,"Kørsel","Kørsel","Uge","Personligt","Søn &",null,"Overtid 50%","Overtid 100%","Aften tillæg","Nat tillæg","Ferie Dage","Sygefravær","Sygefravær","Personlig","Barn Syg","Barn Syg",null,"Gravid /","Antal uger","Hellig dage","INFO ","Beløb",null,"Skærtorsdag","Langfredag","1 Påskedag","2 Påskedag","Kr himmelfart","Pinsedag","2 Pinsedag","1 juledag","2 juledag","Nytårsdag",null,null,"Arbejdstimer til registrering af overarbejde."]
["Lønnr.","Medarbejder","Stilling",{"$f":"IF(AND(DATE($C$5,Opstart!$F$3,COLUMN()-COLUMN($D$8)+1)>=DATE($C$5,Opstart!$F$3,1),DATE($C$5,Opstart!$F$3,COLUMN()-COLUMN($D$8)+1)<=DATE($C$5,Opstart!$F$3+1,0)),DATE($C$5,Opstart!$F$3,COLUMN()-COLUMN($D$8)+1),\"\")","v":"2025-04-01"},{"$f":"IF(AND(DATE($C$5,Opstart!$F$3,COLUMN()-COLUMN($D$8)+1)>=DATE($C$5,Opstart!$F$3,1),DATE($C$5,Opstart!$F$3,COLUMN()-COLUMN($D$8)+1)<=DATE($C$5,Opstart!$F$3+1,0)),DATE($C$5,Opstart!$F$3,COLUMN()-COLUMN($D$8)+1),\"\")","v":"2025-04-02"},{"$f":"IF(AND(DATE($C$5,Opstart!$F$3,COLUMN()-COLUMN($D$8)+1)>=DATE($C$5,Opstart!$F$3,1),DATE($C$5,Opstart!$F$3,COLUMN()-COLUMN($D$8)+1)<=DATE($C$5,Opstart!$F$3+1,0)),DATE($C$5,Opstart!$F$3,COLUMN()-COLUMN($D$8)+1),\"\")","v":"2025-04-03"},{"$f":"IF(AND(DATE($C$5,Opstart!$F$3,COLUMN()-COLUMN($D$8)+1)>=DATE($C$5,Opstart!$F$3,1),DATE($C$5,Opstart!$F$3,COLUMN()-COLUMN($D$8)+1)<=DATE($C$5,Opstart!$F$3+1,0)),DATE($C$5,Opstart!$F$3,COLUMN()-COLUMN($D$8)+1),\"\")","v":"2025-04-04"},{"$f":"IF(AND(DATE($C$5,Opstart!$F$3,COLUMN()-COLUMN($D$8)+1)>=DATE($C$5,Opstart!$F$3,1),DATE($C$5,Opstart!$F$3,COLUMN()-COLUMN($D$8)+1)<=DATE($C$5,Opstart!$F$3+1,0)),DATE($C$5,Opstart!$F$3,COLUMN()-COLUMN($D$8)+1),\"\")","v":"2025-04-05"},{"$f":"IF(AND(DATE($C$5,Opstart!$F$3,COLUMN()-COLUMN($D$8)+1)>=DATE($C$5,Opstart!$F$3,1),DATE($C$5,Opstart!$F$3,COLUMN()-COLUMN($D$8)+1)<=DATE($C$5,Opstart!$F$3+1,0)),DATE($C$5,Opstart!$F$3,COLUMN()-COLUMN($D$8)+1),\"\")","v":"2025-04-06"},{"$f":"IF(AND(DATE($C$5,Opstart!$F$3,COLUMN()-COLUMN($D$8)+1)>=DATE($C$5,Opstart!$F$3,1),DATE($C$5,Opstart!$F$3,COLUMN()-COLUMN($D$8)+1)<=DATE($C$5,Opstart!$F$3+1,0)),DATE($C$5,Opstart!$F$3,COLUMN()-COLUMN($D$8)+1),\"\")","v":"2025-04-07"},{"$f":"IF(AND(DATE($C$5,Opstart!$F$3,COLUMN()-COLUMN($D$8)+1)>=DATE($C$5,Opstart!$F$3,1),DATE($C$5,Opstart!$F$3,COLUMN()-COLUMN($D$8)+1)<=DATE($C$5,Opstart!$F$3+1,0)),DATE($C$5,Opstart!$F$3,COLUMN()-COLUMN($D$8)+1),\"\")","v":"2025-04-08"},{"$f":"IF(AND(DATE($C$5,Opstart!$F$3,COLUMN()-COLUMN($D$8)+1)>=DATE($C$5,Opstart!$F$3,1),DATE($C$5,Opstart!$F$3,COLUMN()-COLUMN($D$8)+1)<=DATE($C$5,Opstart!$F$3+1,0)),DATE($C$5,Opstart!$F$3,COLUMN()-COLUMN($D$8)+1),\"\")","v":"2025-04-09"},{"$f":"IF(AND(DATE($C$5,Opstart!$F$3,COLUMN()-COLUMN($D$8)+1)>=DATE($C$5,Opstart!$F$3,1),DATE($C$5,Opstart!$F$3,COLUMN()-COLUMN($D$8)+1)<=DATE($C$5,Opstart!$F$3+1,0)),DATE($C$5,Opstart!$F$3,COLUMN()-COLUMN($D$8)+1),\"\")","v":"2025-04-10"},{"$f":"IF(AND(DATE($C$5,Opstart!$F$3,COLUMN()-COLUMN($D$8)+1)>=DATE($C$5,Opstart!$F$3,1),DATE($C$5,Opstart!$F$3,COLUMN()-COLUMN($D$8)+1)<=DATE($C$5,Opstart!$F$3+1,0)),DATE($C$5,Opstart!$F$3,COLUMN()-COLUMN($D$8)+1),\"\")","v":"2025-04-11"},{"$f":"IF(AND(DATE($C$5,Opstart!$F$3,COLUMN()-COLUMN($D$8)+1)>=DATE($C$5,Opstart!$F$3,1),DATE($C$5,Opstart!$F$3,COLUMN()-COLUMN($D$8)+1)<=DATE($C$5,Opstart!$F$3+1,0)),DATE($C$5,Opstart!$F$3,COLUMN()-COLUMN($D$8)+1),\"\")","v":"2025-04-12"},{"$f":"IF(AND(DATE($C$5,Opstart!$F$3,COLUMN()-COLUMN($D$8)+1)>=DATE($C$5,Opstart!$F$3,1),DATE($C$5,Opstart!$F$3,COLUMN()-COLUMN($D$8)+1)<=DATE($C$5,Opstart!$F$3+1,0)),DATE($C$5,Opstart!$F$3,COLUMN()-COLUMN($D$8)+1),\"\")","v":"2025-04-13"},{"$f":"IF(AND(DATE($C$5,Opstart!$F$3,COLUMN()-COLUMN($D$8)+1)>=DATE($C$5,Opstart!$F$3,1),DATE($C$5,Opstart!$F$3,COLUMN()-COLUMN($D$8)+1)<=DATE($C$5,Opstart!$F$3+1,0)),DATE($C$5,Opstart!$F$3,COLUMN()-COLUMN($D$8)+1),\"\")","v":"2025-04-14"},{"$f":"IF(AND(DATE($C$5,Opstart!$F$3,COLUMN()-COLUMN($D$8)+1)>=DATE($C$5,Opstart!$F$3,1),DATE($C$5,Opstart!$F$3,COLUMN()-COLUMN($D$8)+1)<=DATE($C$5,Opstart!$F$3+1,0)),DATE($C$5,Opstart!$F$3,COLUMN()-COLUMN($D$8)+1),\"\")","v":"2025-04-15"},{"$f":"IF(AND(DATE($C$5,Opstart!$F$3,COLUMN()-COLUMN($D$8)+1)>=DATE($C$5,Opstart!$F$3,1),DATE($C$5,Opstart!$F$3,COLUMN()-COLUMN($D$8)+1)<=DATE($C$5,Opstart!$F$3+1,0)),DATE($C$5,Opstart!$F$3,COLUMN()-COLUMN($D$8)+1),\"\")","v":"2025-04-16"},{"$f":"IF(AND(DATE($C$5,Opstart!$F$3,COLUMN()-COLUMN($D$8)+1)>=DATE($C$5,Opstart!$F$3,1),DATE($C$5,Opstart!$F$3,COLUMN()-COLUMN($D$8)+1)<=DATE($C$5,Opstart!$F$3+1,0)),DATE($C$5,Opstart!$F$3,COLUMN()-COLUMN($D$8)+1),\"\")","v":"2025-04-17"},{"$f":"IF(AND(DATE($C$5,Opstart!$F$3,COLUMN()-COLUMN($D$8)+1)>=DATE($C$5,Opstart!$F$3,1),DATE($C$5,Opstart!$F$3,COLUMN()-COLUMN($D$8)+1)<=DATE($C$5,Opstart!$F$3+1,0)),DATE($C$5,Opstart!$F$3,COLUMN()-COLUMN($D$8)+1),\"\")","v":"2025-04-18"},{"$f":"IF(AND(DATE($C$5,Opstart!$F$3,COLUMN()-COLUMN($D$8)+1)>=DATE($C$5,Opstart!$F$3,1),DATE($C$5,Opstart!$F$3,COLUMN()-COLUMN($D$8)+1)<=DATE($C$5,Opstart!$F$3+1,0)),DATE($C$5,Opstart!$F$3,COLUMN()-COLUMN($D$8)+1),\"\")","v":"2025-04-19"},{"$f":"IF(AND(DATE($C$5,Opstart!$F$3,COLUMN()-COLUMN($D$8)+1)>=DATE($C$5,Opstart!$F$3,1),DATE($C$5,Opstart!$F$3,COLUMN()-COLUMN($D$8)+1)<=DATE($C$5,Opstart!$F$3+1,0)),DATE($C$5,Opstart!$F$3,COLUMN()-COLUMN($D$8)+1),\"\")","v":"2025-04-20"},{"$f":"IF(AND(DATE($C$5,Opstart!$F$3,COLUMN()-COLUMN($D$8)+1)>=DATE($C$5,Opstart!$F$3,1),DATE($C$5,Opstart!$F$3,COLUMN()-COLUMN($D$8)+1)<=DATE($C$5,Opstart!$F$3+1,0)),DATE($C$5,Opstart!$F$3,COLUMN()-COLUMN($D$8)+1),\"\")","v":"2025-04-21"},{"$f":"IF(AND(DATE($C$5,Opstart!$F$3,COLUMN()-COLUMN($D$8)+1)>=DATE($C$5,Opstart!$F$3,1),DATE($C$5,Opstart!$F$3,COLUMN()-COLUMN($D$8)+1)<=DATE($C$5,Opstart!$F$3+1,0)),DATE($C$5,Opstart!$F$3,COLUMN()-COLUMN($D$8)+1),\"\")","v":"2025-04-22"},{"$f":"IF(AND(DATE($C$5,Opstart!$F$3,COLUMN()-COLUMN($D$8)+1)>=DATE($C$5,Opstart!$F$3,1),DATE($C$5,Opstart!$F$3,COLUMN()-COLUMN($D$8)+1)<=DATE($C$5,Opstart!$F$3+1,0)),DATE($C$5,Opstart!$F$3,COLUMN()-COLUMN($D$8)+1),\"\")","v":"2025-04-23"},{"$f":"IF(AND(DATE($C$5,Opstart!$F$3,COLUMN()-COLUMN($D$8)+1)>=DATE($C$5,Opstart!$F$3,1),DATE($C$5,Opstart!$F$3,COLUMN()-COLUMN($D$8)+1)<=DATE($C$5,Opstart!$F$3+1,0)),DATE($C$5,Opstart!$F$3,COLUMN()-COLUMN($D$8)+1),\"\")","v":"2025-04-24"},{"$f":"IF(AND(DATE($C$5,Opstart!$F$3,COLUMN()-COLUMN($D$8)+1)>=DATE($C$5,Opstart!$F$3,1),DATE($C$5,Opstart!$F$3,COLUMN()-COLUMN($D$8)+1)<=DATE($C$5,Opstart!$F$3+1,0)),DATE($C$5,Opstart!$F$3,COLUMN()-COLUMN($D$8)+1),\"\")","v":"2025-04-25"},{"$f":"IF(AND(DATE($C$5,Opstart!$F$3,COLUMN()-COLUMN($D$8)+1)>=DATE($C$5,Opstart!$F$3,1),DATE($C$5,Opstart!$F$3,COLUMN()-COLUMN($D$8)+1)<=DATE($C$5,Opstart!$F$3+1,0)),DATE($C$5,Opstart!$F$3,COLUMN()-COLUMN($D$8)+1),\"\")","v":"2025-04-26"},{"$f":"IF(AND(DATE($C$5,Opstart!$F$3,COLUMN()-COLUMN($D$8)+1)>=DATE($C$5,Opstart!$F$3,1),DATE($C$5,Opstart!$F$3,COLUMN()-COLUMN($D$8)+1)<=DATE($C$5,Opstart!$F$3+1,0)),DATE($C$5,Opstart!$F$3,COLUMN()-COLUMN($D$8)+1),\"\")","v":"2025-04-27"},{"$f":"IF(AND(DATE($C$5,Opstart!$F$3,COLUMN()-COLUMN($D$8)+1)>=DATE($C$5,Opstart!$F$3,1),DATE($C$5,Opstart!$F$3,COLUMN()-COLUMN($D$8)+1)<=DATE($C$5,Opstart!$F$3+1,0)),DATE($C$5,Opstart!$F$3,COLUMN()-COLUMN($D$8)+1),\"\")","v":"2025-04-28"},{"$f":"IF(AND(DATE($C$5,Opstart!$F$3,COLUMN()-COLUMN($D$8)+1)>=DATE($C$5,Opstart!$F$3,1),DATE($C$5,Opstart!$F$3,COLUMN()-COLUMN($D$8)+1)<=DATE($C$5,Opstart!$F$3+1,0)),DATE($C$5,Opstart!$F$3,COLUMN()-COLUMN($D$8)+1),\"\")","v":"2025-04-29"},{"$f":"IF(AND(DATE($C$5,Opstart!$F$3,COLUMN()-COLUMN($D$8)+1)>=DATE($C$5,Opstart!$F$3,1),DATE($C$5,Opstart!$F$3,COLUMN()-COLUMN($D$8)+1)<=DATE($C$5,Opstart!$F$3+1,0)),DATE($C$5,Opstart!$F$3,COLUMN()-COLUMN($D$8)+1),\"\")","v":"2025-04-30"},{"$f":"IF(AND(DATE($C$5,Opstart!$F$3,COLUMN()-COLUMN($D$8)+1)>=DATE($C$5,Opstart!$F$3,1),DATE($C$5,Opstart!$F$3,COLUMN()-COLUMN($D$8)+1)<=DATE($C$5,Opstart!$F$3+1,0)),DATE($C$5,Opstart!$F$3,COLUMN()-COLUMN($D$8)+1),\"\")","v":""},null,null,null,null,null,null,"Kilometer","Beløb","Timer","Tillæg","Helligdag","Helligdage",null,null,null,null,"i alt","antal dage","Timer","fri","Dag","Timer","Ferie fridag","Barsel","Barsel",null,null,null,null,null,null,null,null,null,null,null,null,null,null,1,2,3,4,5,6,7,8,9,10,11,12,13,14,15,16,17,18,19,20,21,22,23,24,25,26,27,28,29,30,31,32,33,34,35,36,37,38,39,40,41,42,43,44,45,46,47,48,49,50,51,52]
[{"$f":"Medarbejder!A3","v":100},{"$f":"Medarbejder!B3","v":"Medarbejder"},{"$f":"Medarbejder!C3","v":"Timelønnet"},7.25,10,10,7.5,null,7.45,7,null,null,null,null,null,null,null,null,null,null,null,null,null,null,null,null,null,null,null,null,null,null,null,null,null,null,null,null,null,null,null,{"$f":"AO9*Overenskomst!$C$23","v":0},{"$f":"SUM($D9:$AH9)-$BA9-$BF9-$BD9","v":42.2},{"$f":"IF(Medarbejder!$J3=\"ja\",$AQ9,\"-\")","v":42.2},{"$f":"SUMIF($D$7:$AH$7,\"søndag\",$D9:$AH9)+$AT9","v":7.45},{"$f":"SUMIFS($D9:$AH9,$D13:$AH13,\"H\")","v":0},{"$f":"G16+N16+U16+AB16+AH16+AN16","v":3},{"$f":"G17+N17+U17+AB17+AH17+AN17","v":2.2000000000000028},{"$f":"SUM($D11:$AH11)","v":3},{"$f":"SUM($D12:$AH12)","v":2},{"$f":"COUNTIFS($D10:$AH10,\"F\")","v":0},{"$f":"COUNTIFS($D10:$AH10,\"S\")","v":1},{"$f":"SUMIF($D10:$AH10,\"S\",$D14:$AH14)","v":7},{"$f":"COUNTIFS($D10:$AH10,\"p\")","v":0},{"$f":"COUNTIFS($D10:$AH10,\"BS\")","v":0},{"$f":"SUMIF(D10:AH10,\"bs\",$D9:$AH9)","v":0},{"$f":"COUNTIFS($D10:$AH10,\"FF\")","v":1},{"$f":"SUMIF($D10:$AH10,\"g\",$D9:$AH9)","v":0},{"$f":"Medarbejder!$N3","v":"-"},{"$f":"SUM($BL9:$BU9)","v":4},null,null,null,{"$f":"COUNTIFS($D$6:$AH$6,\"skærtd\")","v":1},{"$f":"COUNTIFS($D$6:$AH$6,\"langfd\")","v":1},{"$f":"COUNTIFS($D$6:$AH$6,\"1påsked\")","v":1},{"$f":"COUNTIFS($D$6:$AH$6,\"2påsked\")","v":1},{"$f":"COUNTIFS($D$6:$AH$6,\"kr.himmelfart\")","v":0},{"$f":"COUNTIFS($D$6:$AH$6,\"1pinse\")","v":0},{"$f":"COUNTIFS($D$6:$AH$6,\"2pinse\")","v":0},{"$f":"COUNTIFS($D$6:$AH$6,\"1juledag\")","v":0},{"$f":"COUNTIFS($D$6:$AH$6,\"2juledag\")","v":0},{"$f":"COUNTIFS($D$6:$AH$6,\"nytårsdag\")","v":0},{"$f":"SUMIFS($D9:$AH9,Lønskema!$D$5:$AH$5,1)","v":0},{"$f":"SUMIFS($D9:$AH9,Lønskema!$D$5:$AH$5,2)","v":0},{"$f":"SUMIFS($D9:$AH9,Lønskema!$D$5:$AH$5,3)","v":0},{"$f":"SUMIFS($D9:$AH9,Lønskema!$D$5:$AH$5,4)","v":0},{"$f":"SUMIFS($D9:$AH9,Lønskema!$D$5:$AH$5,5)","v":0},{"$f":"SUMIFS($D9:$AH9,Lønskema!$D$5:$AH$5,6)","v":0},{"$f":"SUMIFS($D9:$AH9,Lønskema!$D$5:$AH$5,7)","v":0},{"$f":"SUMIFS($D9:$AH9,Lønskema!$D$5:$AH$5,8)","v":0},{"$f":"SUMIFS($D9:$AH9,Lønskema!$D$5:$AH$5,9)","v":0},{"$f":"SUMIFS($D9:$AH9,Lønskema!$D$5:$AH$5,10)","v":0},{"$f":"SUMIFS($D9:$AH9,Lønskema!$D$5:$AH$5,11)","v":0},{"$f":"SUMIFS($D9:$AH9,Lønskema!$D$5:$AH$5,12)","v":0},{"$f":"SUMIFS($D9:$AH9,Lønskema!$D$5:$AH$5,13)","v":0},{"$f":"SUMIFS($D9:$AH9,Lønskema!$D$5:$AH$5,14)","v":42.2},{"$f":"SUMIFS($D9:$AH9,Lønskema!$D$5:$AH$5,15)","v":7},{"$f":"SUMIFS($D9:$AH9,Lønskema!$D$5:$AH$5,16)","v":0},{"$f":"SUMIFS($D9:$AH9,Lønskema!$D$5:$AH$5,17)","v":0},{"$f":"SUMIFS($D9:$AH9,Lønskema!$D$5:$AH$5,18)","v":0},{"$f":"SUMIFS($D9:$AH9,Lønskema!$D$5:$AH$5,19)","v":0},{"$f":"SUMIFS($D9:$AH9,Lønskema!$D$5:$AH$5,20)","v":0},{"$f":"SUMIFS($D9:$AH9,Lønskema!$D$5:$AH$5,21)","v":0},{"$f":"SUMIFS($D9:$AH9,Lønskema!$D$5:$AH$5,22)","v":0},{"$f":"SUMIFS($D9:$AH9,Lønskema!$D$5:$AH$5,23)","v":0},{"$f":"SUMIFS($D9:$AH9,Lønskema!$D$5:$AH$5,24)","v":0},{"$f":"SUMIFS($D9:$AH9,Lønskema!$D$5:$AH$5,25)","v":0},{"$f":"SUMIFS($D9:$AH9,Lønskema!$D$5:$AH$5,26)","v":0},{"$f":"SUMIFS($D9:$AH9,Lønskema!$D$5:$AH$5,27)","v":0},{"$f":"SUMIFS($D9:$AH9,Lønskema!$D$5:$AH$5,28)","v":0},{"$f":"SUMIFS($D9:$AH9,Lønskema!$D$5:$AH$5,29)","v":0},{"$f":"SUMIFS($D9:$AH9,Lønskema!$D$5:$AH$5,30)","v":0},{"$f":"SUMIFS($D9:$AH9,Lønskema!$D$5:$AH$5,31)","v":0},{"$f":"SUMIFS($D9:$AH9,Lønskema!$D$5:$AH$5,32)","v":0},{"$f":"SUMIFS($D9:$AH9,Lønskema!$D$5:$AH$5,33)","v":0},{"$f":"SUMIFS($D9:$AH9,Lønskema!$D$5:$AH$5,34)","v":0},{"$f":"SUMIFS($D9:$AH9,Lønskema!$D$5:$AH$5,35)","v":0},{"$f":"SUMIFS($D9:$AH9,Lønskema!$D$5:$AH$5,36)","v":0},{"$f":"SUMIFS($D9:$AH9,Lønskema!$D$5:$AH$5,37)","v":0},{"$f":"SUMIFS($D9:$AH9,Lønskema!$D$5:$AH$5,38)","v":0},{"$f":"SUMIFS($D9:$AH9,Lønskema!$D$5:$AH$5,39)","v":0},{"$f":"SUMIFS($D9:$AH9,Lønskema!$D$5:$AH$5,40)","v":0},{"$f":"SUMIFS($D9:$AH9,Lønskema!$D$5:$AH$5,41)","v":0},{"$f":"SUMIFS($D9:$AH9,Lønskema!$D$5:$AH$5,42)","v":0},{"$f":"SUMIFS($D9:$AH9,Lønskema!$D$5:$AH$5,43)","v":0},{"$f":"SUMIFS($D9:$AH9,Lønskema!$D$5:$AH$5,44)","v":0},{"$f":"SUMIFS($D9:$AH9,Lønskema!$D$5:$AH$5,45)","v":0},{"$f":"SUMIFS($D9:$AH9,Lønskema!$D$5:$AH$5,46)","v":0},{"$f":"SUMIFS($D9:$AH9,Lønskema!$D$5:$AH$5,47)","v":0},{"$f":"SUMIFS($D9:$AH9,Lønskema!$D$5:$AH$5,48)","v":0},{"$f":"SUMIFS($D9:$AH9,Lønskema!$D$5:$AH$5,49)","v":0},{"$f":"SUMIFS($D9:$AH9,Lønskema!$D$5:$AH$5,50)","v":0},{"$f":"SUMIFS($D9:$AH9,Lønskema!$D$5:$AH$5,51)","v":0},{"$f":"SUMIFS($D9:$AH9,Lønskema!$D$5:$AH$5,52)","v":0}]
["Ferie - syg  mm. Registreres i denne række",null,null,null,null,null,null,null,null,"s",null,"ff"]
[null,"Aften",null,null,3]
[null,"Nat",null,null,null,2]
[null,"Helligdag",null,{"$f":"_xlfn.IFS(D$7=\"søndag\",\"-\",D$6=\"skærtd\",\"h\",D$6=\"langfd\",\"h\",D$6=\"1påsked\",\"h\",D$6=\"2påsked\",\"h\",D$6=\"kr.himmelfart\",\"h\",D$6=\"1pinse\",\"h\",D$6=\"2pinse\",\"h\",D$6=\"1juledag\",\"h\",D$6=\"2juledag\",\"h\",D$6=\"nytårsdag\",\"h\")","v":{"$error":"#N/A"}},{"$f":"_xlfn.IFS(E$7=\"søndag\",\"-\",E$6=\"skærtd\",\"h\",E$6=\"langfd\",\"h\",E$6=\"1påsked\",\"h\",E$6=\"2påsked\",\"h\",E$6=\"kr.himmelfart\",\"h\",E$6=\"1pinse\",\"h\",E$6=\"2pinse\",\"h\",E$6=\"1juledag\",\"h\",E$6=\"2juledag\",\"h\",E$6=\"nytårsdag\",\"h\")","v":{"$error":"#N/A"}},{"$f":"_xlfn.IFS(F$7=\"søndag\",\"-\",F$6=\"skærtd\",\"h\",F$6=\"langfd\",\"h\",F$6=\"1påsked\",\"h\",F$6=\"2påsked\",\"h\",F$6=\"kr.himmelfart\",\"h\",F$6=\"1pinse\",\"h\",F$6=\"2pinse\",\"h\",F$6=\"1juledag\",\"h\",F$6=\"2juledag\",\"h\",F$6=\"nytårsdag\",\"h\")","v":{"$error":"#N/A"}},{"$f":"_xlfn.IFS(G$7=\"søndag\",\"-\",G$6=\"skærtd\",\"h\",G$6=\"langfd\",\"h\",G$6=\"1påsked\",\"h\",G$6=\"2påsked\",\"h\",G$6=\"kr.himmelfart\",\"h\",G$6=\"1pinse\",\"h\",G$6=\"2pinse\",\"h\",G$6=\"1juledag\",\"h\",G$6=\"2juledag\",\"h\",G$6=\"nytårsdag\",\"h\")","v":{"$error":"#N/A"}},{"$f":"_xlfn.IFS(H$7=\"søndag\",\"-\",H$6=\"skærtd\",\"h\",H$6=\"langfd\",\"h\",H$6=\"1påsked\",\"h\",H$6=\"2påsked\",\"h\",H$6=\"kr.himmelfart\",\"h\",H$6=\"1pinse\",\"h\",H$6=\"2pinse\",\"h\",H$6=\"1juledag\",\"h\",H$6=\"2juledag\",\"h\",H$6=\"nytårsdag\",\"h\")","v":{"$error":"#N/A"}},{"$f":"_xlfn.IFS(I$7=\"søndag\",\"-\",I$6=\"skærtd\",\"h\",I$6=\"langfd\",\"h\",I$6=\"1påsked\",\"h\",I$6=\"2påsked\",\"h\",I$6=\"kr.himmelfart\",\"h\",I$6=\"1pinse\",\"h\",I$6=\"2pinse\",\"h\",I$6=\"1juledag\",\"h\",I$6=\"2juledag\",\"h\",I$6=\"nytårsdag\",\"h\")","v":"-"},{"$f":"_xlfn.IFS(J$7=\"søndag\",\"-\",J$6=\"skærtd\",\"h\",J$6=\"langfd\",\"h\",J$6=\"1påsked\",\"h\",J$6=\"2påsked\",\"h\",J$6=\"kr.himmelfart\",\"h\",J$6=\"1pinse\",\"h\",J$6=\"2pinse\",\"h\",J$6=\"1juledag\",\"h\",J$6=\"2juledag\",\"h\",J$6=\"nytårsdag\",\"h\")","v":{"$error":"#N/A"}},{"$f":"_xlfn.IFS(K$7=\"søndag\",\"-\",K$6=\"skærtd\",\"h\",K$6=\"langfd\",\"h\",K$6=\"1påsked\",\"h\",K$6=\"2påsked\",\"h\",K$6=\"kr.himmelfart\",\"h\",K$6=\"1pinse\",\"h\",K$6=\"2pinse\",\"h\",K$6=\"1juledag\",\"h\",K$6=\"2juledag\",\"h\",K$6=\"nytårsdag\",\"h\")","v":{"$error":"#N/A"}},{"$f":"_xlfn.IFS(L$7=\"søndag\",\"-\",L$6=\"skærtd\",\"h\",L$6=\"langfd\",\"h\",L$6=\"1påsked\",\"h\",L$6=\"2påsked\",\"h\",L$6=\"kr.himmelfart\",\"h\",L$6=\"1pinse\",\"h\",L$6=\"2pinse\",\"h\",L$6=\"1juledag\",\"h\",L$6=\"2juledag\",\"h\",L$6=\"nytårsdag\",\"h\")","v":{"$error":"#N/A"}},{"$f":"_xlfn.IFS(M$7=\"søndag\",\"-\",M$6=\"skærtd\",\"h\",M$6=\"langfd\",\"h\",M$6=\"1påsked\",\"h\",M$6=\"2påsked\",\"h\",M$6=\"kr.himmelfart\",\"h\",M$6=\"1pinse\",\"h\",M$6=\"2pinse\",\"h\",M$6=\"1juledag\",\"h\",M$6=\"2juledag\",\"h\",M$6=\"nytårsdag\",\"h\")","v":{"$error":"#N/A"}},{"$f":"_xlfn.IFS(N$7=\"søndag\",\"-\",N$6=\"skærtd\",\"h\",N$6=\"langfd\",\"h\",N$6=\"1påsked\",\"h\",N$6=\"2påsked\",\"h\",N$6=\"kr.himmelfart\",\"h\",N$6=\"1pinse\",\"h\",N$6=\"2pinse\",\"h\",N$6=\"1juledag\",\"h\",N$6=\"2juledag\",\"h\",N$6=\"nytårsdag\",\"h\")","v":{"$error":"#N/A"}},{"$f":"_xlfn.IFS(O$7=\"søndag\",\"-\",O$6=\"skærtd\",\"h\",O$6=\"langfd\",\"h\",O$6=\"1påsked\",\"h\",O$6=\"2påsked\",\"h\",O$6=\"kr.himmelfart\",\"h\",O$6=\"1pinse\",\"h\",O$6=\"2pinse\",\"h\",O$6=\"1juledag\",\"h\",O$6=\"2juledag\",\"h\",O$6=\"nytårsdag\",\"h\")","v":{"$error":"#N/A"}},{"$f":"_xlfn.IFS(P$7=\"søndag\",\"-\",P$6=\"skærtd\",\"h\",P$6=\"langfd\",\"h\",P$6=\"1påsked\",\"h\",P$6=\"2påsked\",\"h\",P$6=\"kr.himmelfart\",\"h\",P$6=\"1pinse\",\"h\",P$6=\"2pinse\",\"h\",P$6=\"1juledag\",\"h\",P$6=\"2juledag\",\"h\",P$6=\"nytårsdag\",\"h\")","v":"-"},{"$f":"_xlfn.IFS(Q$7=\"søndag\",\"-\",Q$6=\"skærtd\",\"h\",Q$6=\"langfd\",\"h\",Q$6=\"1påsked\",\"h\",Q$6=\"2påsked\",\"h\",Q$6=\"kr.himmelfart\",\"h\",Q$6=\"1pinse\",\"h\",Q$6=\"2pinse\",\"h\",Q$6=\"1juledag\",\"h\",Q$6=\"2juledag\",\"h\",Q$6=\"nytårsdag\",\"h\")","v":{"$error":"#N/A"}},{"$f":"_xlfn.IFS(R$7=\"søndag\",\"-\",R$6=\"skærtd\",\"h\",R$6=\"langfd\",\"h\",R$6=\"1påsked\",\"h\",R$6=\"2påsked\",\"h\",R$6=\"kr.himmelfart\",\"h\",R$6=\"1pinse\",\"h\",R$6=\"2pinse\",\"h\",R$6=\"1juledag\",\"h\",R$6=\"2juledag\",\"h\",R$6=\"nytårsdag\",\"h\")","v":{"$error":"#N/A"}},{"$f":"_xlfn.IFS(S$7=\"søndag\",\"-\",S$6=\"skærtd\",\"h\",S$6=\"langfd\",\"h\",S$6=\"1påsked\",\"h\",S$6=\"2påsked\",\"h\",S$6=\"kr.himmelfart\",\"h\",S$6=\"1pinse\",\"h\",S$6=\"2pinse\",\"h\",S$6=\"1juledag\",\"h\",S$6=\"2juledag\",\"h\",S$6=\"nytårsdag\",\"h\")","v":{"$error":"#N/A"}},{"$f":"_xlfn.IFS(T$7=\"søndag\",\"-\",T$6=\"skærtd\",\"h\",T$6=\"langfd\",\"h\",T$6=\"1påsked\",\"h\",T$6=\"2påsked\",\"h\",T$6=\"kr.himmelfart\",\"h\",T$6=\"1pinse\",\"h\",T$6=\"2pinse\",\"h\",T$6=\"1juledag\",\"h\",T$6=\"2juledag\",\"h\",T$6=\"nytårsdag\",\"h\")","v":"h"},{"$f":"_xlfn.IFS(U$7=\"søndag\",\"-\",U$6=\"skærtd\",\"h\",U$6=\"langfd\",\"h\",U$6=\"1påsked\",\"h\",U$6=\"2påsked\",\"h\",U$6=\"kr.himmelfart\",\"h\",U$6=\"1pinse\",\"h\",U$6=\"2pinse\",\"h\",U$6=\"1juledag\",\"h\",U$6=\"2juledag\",\"h\",U$6=\"nytårsdag\",\"h\")","v":"h"},{"$f":"_xlfn.IFS(V$7=\"søndag\",\"-\",V$6=\"skærtd\",\"h\",V$6=\"langfd\",\"h\",V$6=\"1påsked\",\"h\",V$6=\"2påsked\",\"h\",V$6=\"kr.himmelfart\",\"h\",V$6=\"1pinse\",\"h\",V$6=\"2pinse\",\"h\",V$6=\"1juledag\",\"h\",V$6=\"2juledag\",\"h\",V$6=\"nytårsdag\",\"h\")","v":{"$error":"#N/A"}},{"$f":"_xlfn.IFS(W$7=\"søndag\",\"-\",W$6=\"skærtd\",\"h\",W$6=\"langfd\",\"h\",W$6=\"1påsked\",\"h\",W$6=\"2påsked\",\"h\",W$6=\"kr.himmelfart\",\"h\",W$6=\"1pinse\",\"h\",W$6=\"2pinse\",\"h\",W$6=\"1juledag\",\"h\",W$6=\"2juledag\",\"h\",W$6=\"nytårsdag\",\"h\")","v":"-"},{"$f":"_xlfn.IFS(X$7=\"søndag\",\"-\",X$6=\"skærtd\",\"h\",X$6=\"langfd\",\"h\",X$6=\"1påsked\",\"h\",X$6=\"2påsked\",\"h\",X$6=\"kr.himmelfart\",\"h\",X$6=\"1pinse\",\"h\",X$6=\"2pinse\",\"h\",X$6=\"1juledag\",\"h\",X$6=\"2juledag\",\"h\",X$6=\"nytårsdag\",\"h\")","v":"h"},{"$f":"_xlfn.IFS(Y$7=\"søndag\",\"-\",Y$6=\"skærtd\",\"h\",Y$6=\"langfd\",\"h\",Y$6=\"1påsked\",\"h\",Y$6=\"2påsked\",\"h\",Y$6=\"kr.himmelfart\",\"h\",Y$6=\"1pinse\",\"h\",Y$6=\"2pinse\",\"h\",Y$6=\"1juledag\",\"h\",Y$6=\"2juledag\",\"h\",Y$6=\"nytårsdag\",\"h\")","v":{"$error":"#N/A"}},{"$f":"_xlfn.IFS(Z$7=\"søndag\",\"-\",Z$6=\"skærtd\",\"h\",Z$6=\"langfd\",\"h\",Z$6=\"1påsked\",\"h\",Z$6=\"2påsked\",\"h\",Z$6=\"kr.himmelfart\",\"h\",Z$6=\"1pinse\",\"h\",Z$6=\"2pinse\",\"h\",Z$6=\"1juledag\",\"h\",Z$6=\"2juledag\",\"h\",Z$6=\"nytårsdag\",\"h\")","v":{"$error":"#N/A"}},{"$f":"_xlfn.IFS(AA$7=\"søndag\",\"-\",AA$6=\"skærtd\",\"h\",AA$6=\"langfd\",\"h\",AA$6=\"1påsked\",\"h\",AA$6=\"2påsked\",\"h\",AA$6=\"kr.himmelfart\",\"h\",AA$6=\"1pinse\",\"h\",AA$6=\"2pinse\",\"h\",AA$6=\"1juledag\",\"h\",AA$6=\"2juledag\",\"h\",AA$6=\"nytårsdag\",\"h\")","v":{"$error":"#N/A"}},{"$f":"_xlfn.IFS(AB$7=\"søndag\",\"-\",AB$6=\"skærtd\",\"h\",AB$6=\"langfd\",\"h\",AB$6=\"1påsked\",\"h\",AB$6=\"2påsked\",\"h\",AB$6=\"kr.himmelfart\",\"h\",AB$6=\"1pinse\",\"h\",AB$6=\"2pinse\",\"h\",AB$6=\"1juledag\",\"h\",AB$6=\"2juledag\",\"h\",AB$6=\"nytårsdag\",\"h\")","v":{"$error":"#N/A"}},{"$f":"_xlfn.IFS(AC$7=\"søndag\",\"-\",AC$6=\"skærtd\",\"h\",AC$6=\"langfd\",\"h\",AC$6=\"1påsked\",\"h\",AC$6=\"2påsked\",\"h\",AC$6=\"kr.himmelfart\",\"h\",AC$6=\"1pinse\",\"h\",AC$6=\"2pinse\",\"h\",AC$6=\"1juledag\",\"h\",AC$6=\"2juledag\",\"h\",AC$6=\"nytårsdag\",\"h\")","v":{"$error":"#N/A"}},{"$f":"_xlfn.IFS(AD$7=\"søndag\",\"-\",AD$6=\"skærtd\",\"h\",AD$6=\"langfd\",\"h\",AD$6=\"1påsked\",\"h\",AD$6=\"2påsked\",\"h\",AD$6=\"kr.himmelfart\",\"h\",AD$6=\"1pinse\",\"h\",AD$6=\"2pinse\",\"h\",AD$6=\"1juledag\",\"h\",AD$6=\"2juledag\",\"h\",AD$6=\"nytårsdag\",\"h\")","v":"-"},{"$f":"_xlfn.IFS(AE$7=\"søndag\",\"-\",AE$6=\"skærtd\",\"h\",AE$6=\"langfd\",\"h\",AE$6=\"1påsked\",\"h\",AE$6=\"2påsked\",\"h\",AE$6=\"kr.himmelfart\",\"h\",AE$6=\"1pinse\",\"h\",AE$6=\"2pinse\",\"h\",AE$6=\"1juledag\",\"h\",AE$6=\"2juledag\",\"h\",AE$6=\"nytårsdag\",\"h\")","v":{"$error":"#N/A"}},{"$f":"_xlfn.IFS(AF$7=\"søndag\",\"-\",AF$6=\"skærtd\",\"h\",AF$6=\"langfd\",\"h\",AF$6=\"1påsked\",\"h\",AF$6=\"2påsked\",\"h\",AF$6=\"kr.himmelfart\",\"h\",AF$6=\"1pinse\",\"h\",AF$6=\"2pinse\",\"h\",AF$6=\"1juledag\",\"h\",AF$6=\"2juledag\",\"h\",AF$6=\"nytårsdag\",\"h\")","v":{"$error":"#N/A"}},{"$f":"_xlfn.IFS(AG$7=\"søndag\",\"-\",AG$6=\"skærtd\",\"h\",AG$6=\"langfd\",\"h\",AG$6=\"1påsked\",\"h\",AG$6=\"2påsked\",\"h\",AG$6=\"kr.himmelfart\",\"h\",AG$6=\"1pinse\",\"h\",AG$6=\"2pinse\",\"h\",AG$6=\"1juledag\",\"h\",AG$6=\"2juledag\",\"h\",AG$6=\"nytårsdag\",\"h\")","v":{"$error":"#N/A"}},{"$f":"_xlfn.IFS(AH$7=\"søndag\",\"-\",AH$6=\"skærtd\",\"h\",AH$6=\"langfd\",\"h\",AH$6=\"1påsked\",\"h\",AH$6=\"2påsked\",\"h\",AH$6=\"kr.himmelfart\",\"h\",AH$6=\"1pinse\",\"h\",AH$6=\"2pinse\",\"h\",AH$6=\"1juledag\",\"h\",AH$6=\"2juledag\",\"h\",AH$6=\"nytårsdag\",\"h\")","v":{"$error":"#N/A"}}]
[null,"Sygedage",null,{"$f":"IF(D10=\"s\",D9,\"-\")","v":"-"},{"$f":"IF(E10=\"s\",E9,\"-\")","v":"-"},"-","-","-","-",7,"-","-","-","-","-","-","-","-","-","-","-","-","-","-","-","-","-","-","-","-","-","-","-","-"]
[null,null,{"$f":"WEEKNUM(D8,2)","v":14},"Timer uge",null,null,{"$f":"SUMIF($D$5:$AH$5,C15,D9:AH9)","v":42.2},{"$f":"C15+1","v":15},{"$f":"D15","v":"Timer uge"},null,null,null,null,{"$f":"SUMIF($D$5:$AH$5,H15,D9:AH9)","v":7},{"$f":"C15+2","v":16},{"$f":"D15","v":"Timer uge"},null,null,null,null,{"$f":"SUMIF($D$5:$AH$5,O15,D9:AH9)","v":0},{"$f":"C15+3","v":17},{"$f":"D15","v":"Timer uge"},null,null,null,null,{"$f":"SUMIF($D$5:$AH$5,V15,D9:AH9)","v":0},{"$f":"C15+4","v":18},{"$f":"D15","v":"Timer uge"},null,null,null,{"$f":"SUMIF($D$5:$AH$5,AC15,D9:AH9)","v":0},{"$f":"C15+5","v":19},{"$f":"D15","v":"Timer uge"},null,null,null,{"$f":"SUMIF($D$5:$AH$5,AI15,D9:AH9)","v":0}]
[null,null,null,{"$f":"Opstart!E5","v":"Overtid 50%"},null,null,{"$f":"IF(G15>Opstart!$F$5,G15-Opstart!$F$5-G17,0)","v":3},null,{"$f":"D16","v":"Overtid 50%"},null,null,null,null,{"$f":"IF(N15>Opstart!$F$5,N15-Opstart!$F$5-N17,0)","v":0},null,{"$f":"D16","v":"Overtid 50%"},null,null,null,null,{"$f":"IF(U15>Opstart!$F$5,U15-Opstart!$F$5-U17,0)","v":0},null,{"$f":"D16","v":"Overtid 50%"},null,null,null,null,{"$f":"IF(AB15>Opstart!$F$5,AB15-Opstart!$F$5-AB17,0)","v":0},null,{"$f":"D16","v":"Overtid 50%"},null,null,null,{"$f":"IF(AH15>Opstart!$F$5,AH15-Opstart!$F$5-AH17,0)","v":0},null,{"$f":"D16","v":"Overtid 50%"},null,null,null,{"$f":"IF(AN15>Opstart!$F$5,AN15-Opstart!$F$5-AN17,0)","v":0}]
[null,null,null,{"$f":"Opstart!E6","v":"Overtid 100%"},null,null,{"$f":"IF(G15>Opstart!$F$6,G15-Opstart!$F$6,0)","v":2.2000000000000028},null,"Overtid 100%",null,null,null,null,{"$f":"IF(N15>Opstart!$F$6,N15-Opstart!$F$6,0)","v":0},null,"Overtid 100%",null,null,null,null,{"$f":"IF(U15>Opstart!$F$6,U15-Opstart!$F$6,0)","v":0},null,"Overtid 100%",null,null,null,null,{"$f":"IF(AB15>Opstart!$F$6,AB15-Opstart!$F$6,0)","v":0},null,"Overtid 100%",null,null,null,{"$f":"IF(AH15>Opstart!$F$6,AH15-Opstart!$F$6,0)","v":0},null,{"$f":"D17","v":"Overtid 100%"},null,null,null,{"$f":"IF(AN15>Opstart!$F$6,AN15-Opstart!$F$6,0)","v":0},null,null,null,null,null,null,null,null,null,null,null,null,null,null,null,null,null,null,null,null,null,null,null,null,null,null,null,null,null,null,null,null,null,1,2,3,4,5,6,7,8,9,10,11,12,13,14,15,16,17,18,19,20,21,22,23,24,25,26,27,28,29,30,31,32,33,34,35,36,37,38,39,40,41,42,43,44,45,46,47,48,49,50,51,52]
[{"$f":"Medarbejder!A4","v":0},{"$f":"Medarbejder!B4","v":0},{"$f":"Medarbejder!C4","v":"Afløser"},null,null,null,null,null,null,null,null,null,null,null,null,null,null,null,null,null,null,null,null,null,null,null,null,null,null,null,null,null,null,null,null,null,null,null,null,null,null,{"$f":"AO18*Overenskomst!$C$22","v":0},{"$f":"SUM($D18:$AH18)-$BA18-$BF18-$BD18","v":0},{"$f":"IF(Medarbejder!$J4=\"ja\",$AQ18,\"-\")","v":"-"},{"$f":"SUMIF($D$7:$AH$7,\"søndag\",$D18:$AH18)+$AT18","v":0},{"$f":"SUMIFS($D18:$AH18,$D22:$AH22,\"H\")","v":0},{"$f":"G25+N25+U25+AB25+AH25+AN25","v":0},{"$f":"G26+N26+U26+AB26+AH26+AN26","v":0},{"$f":"SUM($D20:$AH20)","v":0},{"$f":"SUM($D21:$AH21)","v":0},{"$f":"COUNTIFS($D19:$AH19,\"F\")","v":0},{"$f":"COUNTIFS($D19:$AH19,\"S\")","v":0},{"$f":"SUMIF($D19:$AH19,\"S\",$D23:$AH23)","v":0},{"$f":"COUNTIFS($D19:$AH19,\"p\")","v":0},{"$f":"COUNTIFS($D19:$AH19,\"BS\")","v":0},{"$f":"SUMIF(D19:AH19,\"bs\",$D18:$AH18)","v":0},{"$f":"COUNTIFS($D19:$AH19,\"FF\")","v":0},{"$f":"SUMIF($D19:$AH19,\"g\",$D18:$AH18)","v":0},{"$f":"Medarbejder!$N4","v":"-"},{"$f":"SUM($BL18:$BU18)","v":4},null,null,null,{"$f":"COUNTIFS($D$6:$AH$6,\"skærtd\")","v":1},{"$f":"COUNTIFS($D$6:$AH$6,\"langfd\")","v":1},{"$f":"COUNTIFS($D$6:$AH$6,\"1påsked\")","v":1},{"$f":"COUNTIFS($D$6:$AH$6,\"2påsked\")","v":1},{"$f":"COUNTIFS($D$6:$AH$6,\"kr.himmelfart\")","v":0},{"$f":"COUNTIFS($D$6:$AH$6,\"1pinse\")","v":0},{"$f":"COUNTIFS($D$6:$AH$6,\"2pinse\")","v":0},{"$f":"COUNTIFS($D$6:$AH$6,\"1juledag\")","v":0},{"$f":"COUNTIFS($D$6:$AH$6,\"2juledag\")","v":0},{"$f":"COUNTIFS($D$6:$AH$6,\"nytårsdag\")","v":0},{"$f":"SUMIFS($D18:$AH18,Lønskema!$D$5:$AH$5,1)","v":0},{"$f":"SUMIFS($D18:$AH18,Lønskema!$D$5:$AH$5,2)","v":0},{"$f":"SUMIFS($D18:$AH18,Lønskema!$D$5:$AH$5,3)","v":0},{"$f":"SUMIFS($D18:$AH18,Lønskema!$D$5:$AH$5,4)","v":0},{"$f":"SUMIFS($D18:$AH18,Lønskema!$D$5:$AH$5,5)","v":0},{"$f":"SUMIFS($D18:$AH18,Lønskema!$D$5:$AH$5,6)","v":0},{"$f":"SUMIFS($D18:$AH18,Lønskema!$D$5:$AH$5,7)","v":0},{"$f":"SUMIFS($D18:$AH18,Lønskema!$D$5:$AH$5,8)","v":0},{"$f":"SUMIFS($D18:$AH18,Lønskema!$D$5:$AH$5,9)","v":0},{"$f":"SUMIFS($D18:$AH18,Lønskema!$D$5:$AH$5,10)","v":0},{"$f":"SUMIFS($D18:$AH18,Lønskema!$D$5:$AH$5,11)","v":0},{"$f":"SUMIFS($D18:$AH18,Lønskema!$D$5:$AH$5,12)","v":0},{"$f":"SUMIFS($D18:$AH18,Lønskema!$D$5:$AH$5,13)","v":0},{"$f":"SUMIFS($D18:$AH18,Lønskema!$D$5:$AH$5,14)","v":0},{"$f":"SUMIFS($D18:$AH18,Lønskema!$D$5:$AH$5,15)","v":0},{"$f":"SUMIFS($D18:$AH18,Lønskema!$D$5:$AH$5,16)","v":0},{"$f":"SUMIFS($D18:$AH18,Lønskema!$D$5:$AH$5,17)","v":0},{"$f":"SUMIFS($D18:$AH18,Lønskema!$D$5:$AH$5,18)","v":0},{"$f":"SUMIFS($D18:$AH18,Lønskema!$D$5:$AH$5,19)","v":0},{"$f":"SUMIFS($D18:$AH18,Lønskema!$D$5:$AH$5,20)","v":0},{"$f":"SUMIFS($D18:$AH18,Lønskema!$D$5:$AH$5,21)","v":0},{"$f":"SUMIFS($D18:$AH18,Lønskema!$D$5:$AH$5,22)","v":0},{"$f":"SUMIFS($D18:$AH18,Lønskema!$D$5:$AH$5,23)","v":0},{"$f":"SUMIFS($D18:$AH18,Lønskema!$D$5:$AH$5,24)","v":0},{"$f":"SUMIFS($D18:$AH18,Lønskema!$D$5:$AH$5,25)","v":0},{"$f":"SUMIFS($D18:$AH18,Lønskema!$D$5:$AH$5,26)","v":0},{"$f":"SUMIFS($D18:$AH18,Lønskema!$D$5:$AH$5,27)","v":0},{"$f":"SUMIFS($D18:$AH18,Lønskema!$D$5:$AH$5,28)","v":0},{"$f":"SUMIFS($D18:$AH18,Lønskema!$D$5:$AH$5,29)","v":0},{"$f":"SUMIFS($D18:$AH18,Lønskema!$D$5:$AH$5,30)","v":0},{"$f":"SUMIFS($D18:$AH18,Lønskema!$D$5:$AH$5,31)","v":0},{"$f":"SUMIFS($D18:$AH18,Lønskema!$D$5:$AH$5,32)","v":0},{"$f":"SUMIFS($D18:$AH18,Lønskema!$D$5:$AH$5,33)","v":0},{"$f":"SUMIFS($D18:$AH18,Lønskema!$D$5:$AH$5,34)","v":0},{"$f":"SUMIFS($D18:$AH18,Lønskema!$D$5:$AH$5,35)","v":0},{"$f":"SUMIFS($D18:$AH18,Lønskema!$D$5:$AH$5,36)","v":0},{"$f":"SUMIFS($D18:$AH18,Lønskema!$D$5:$AH$5,37)","v":0},{"$f":"SUMIFS($D18:$AH18,Lønskema!$D$5:$AH$5,38)","v":0},{"$f":"SUMIFS($D18:$AH18,Lønskema!$D$5:$AH$5,39)","v":0},{"$f":"SUMIFS($D18:$AH18,Lønskema!$D$5:$AH$5,40)","v":0},{"$f":"SUMIFS($D18:$AH18,Lønskema!$D$5:$AH$5,41)","v":0},{"$f":"SUMIFS($D18:$AH18,Lønskema!$D$5:$AH$5,42)","v":0},{"$f":"SUMIFS($D18:$AH18,Lønskema!$D$5:$AH$5,43)","v":0},{"$f":"SUMIFS($D18:$AH18,Lønskema!$D$5:$AH$5,44)","v":0},{"$f":"SUMIFS($D18:$AH18,Lønskema!$D$5:$AH$5,45)","v":0},{"$f":"SUMIFS($D18:$AH18,Lønskema!$D$5:$AH$5,46)","v":0},{"$f":"SUMIFS($D18:$AH18,Lønskema!$D$5:$AH$5,47)","v":0},{"$f":"SUMIFS($D18:$AH18,Lønskema!$D$5:$AH$5,48)","v":0},{"$f":"SUMIFS($D18:$AH18,Lønskema!$D$5:$AH$5,49)","v":0},{"$f":"SUMIFS($D18:$AH18,Lønskema!$D$5:$AH$5,50)","v":0},{"$f":"SUMIFS($D18:$AH18,Lønskema!$D$5:$AH$5,51)","v":0},{"$f":"SUMIFS($D18:$AH18,Lønskema!$D$5:$AH$5,52)","v":0}]
["Ferie - syg  mm. Registreres i denne række"]
[null,"Aften"]
[null,"Nat"]
[null,"Helligdag",null,{"$f":"_xlfn.IFS(D$7=\"søndag\",\"-\",D$6=\"skærtd\",\"h\",D$6=\"langfd\",\"h\",D$6=\"1påsked\",\"h\",D$6=\"2påsked\",\"h\",D$6=\"kr.himmelfart\",\"h\",D$6=\"1pinse\",\"h\",D$6=\"2pinse\",\"h\",D$6=\"1juledag\",\"h\",D$6=\"2juledag\",\"h\",D$6=\"nytårsdag\",\"h\")","v":{"$error":"#N/A"}},{"$f":"_xlfn.IFS(E$7=\"søndag\",\"-\",E$6=\"skærtd\",\"h\",E$6=\"langfd\",\"h\",E$6=\"1påsked\",\"h\",E$6=\"2påsked\",\"h\",E$6=\"kr.himmelfart\",\"h\",E$6=\"1pinse\",\"h\",E$6=\"2pinse\",\"h\",E$6=\"1juledag\",\"h\",E$6=\"2juledag\",\"h\",E$6=\"nytårsdag\",\"h\")","v":{"$error":"#N/A"}},{"$f":"_xlfn.IFS(F$7=\"søndag\",\"-\",F$6=\"skærtd\",\"h\",F$6=\"langfd\",\"h\",F$6=\"1påsked\",\"h\",F$6=\"2påsked\",\"h\",F$6=\"kr.himmelfart\",\"h\",F$6=\"1pinse\",\"h\",F$6=\"2pinse\",\"h\",F$6=\"1juledag\",\"h\",F$6=\"2juledag\",\"h\",F$6=\"nytårsdag\",\"h\")","v":{"$error":"#N/A"}},{"$f":"_xlfn.IFS(G$7=\"søndag\",\"-\",G$6=\"skærtd\",\"h\",G$6=\"langfd\",\"h\",G$6=\"1påsked\",\"h\",G$6=\"2påsked\",\"h\",G$6=\"kr.himmelfart\",\"h\",G$6=\"1pinse\",\"h\",G$6=\"2pinse\",\"h\",G$6=\"1juledag\",\"h\",G$6=\"2juledag\",\"h\",G$6=\"nytårsdag\",\"h\")","v":{"$error":"#N/A"}},{"$f":"_xlfn.IFS(H$7=\"søndag\",\"-\",H$6=\"skærtd\",\"h\",H$6=\"langfd\",\"h\",H$6=\"1påsked\",\"h\",H$6=\"2påsked\",\"h\",H$6=\"kr.himmelfart\",\"h\",H$6=\"1pinse\",\"h\",H$6=\"2pinse\",\"h\",H$6=\"1juledag\",\"h\",H$6=\"2juledag\",\"h\",H$6=\"nytårsdag\",\"h\")","v":{"$error":"#N/A"}},{"$f":"_xlfn.IFS(I$7=\"søndag\",\"-\",I$6=\"skærtd\",\"h\",I$6=\"langfd\",\"h\",I$6=\"1påsked\",\"h\",I$6=\"2påsked\",\"h\",I$6=\"kr.himmelfart\",\"h\",I$6=\"1pinse\",\"h\",I$6=\"2pinse\",\"h\",I$6=\"1juledag\",\"h\",I$6=\"2juledag\",\"h\",I$6=\"nytårsdag\",\"h\")","v":"-"},{"$f":"_xlfn.IFS(J$7=\"søndag\",\"-\",J$6=\"skærtd\",\"h\",J$6=\"langfd\",\"h\",J$6=\"1påsked\",\"h\",J$6=\"2påsked\",\"h\",J$6=\"kr.himmelfart\",\"h\",J$6=\"1pinse\",\"h\",J$6=\"2pinse\",\"h\",J$6=\"1juledag\",\"h\",J$6=\"2juledag\",\"h\",J$6=\"nytårsdag\",\"h\")","v":{"$error":"#N/A"}},{"$f":"_xlfn.IFS(K$7=\"søndag\",\"-\",K$6=\"skærtd\",\"h\",K$6=\"langfd\",\"h\",K$6=\"1påsked\",\"h\",K$6=\"2påsked\",\"h\",K$6=\"kr.himmelfart\",\"h\",K$6=\"1pinse\",\"h\",K$6=\"2pinse\",\"h\",K$6=\"1juledag\",\"h\",K$6=\"2juledag\",\"h\",K$6=\"nytårsdag\",\"h\")","v":{"$error":"#N/A"}},{"$f":"_xlfn.IFS(L$7=\"søndag\",\"-\",L$6=\"skærtd\",\"h\",L$6=\"langfd\",\"h\",L$6=\"1påsked\",\"h\",L$6=\"2påsked\",\"h\",L$6=\"kr.himmelfart\",\"h\",L$6=\"1pinse\",\"h\",L$6=\"2pinse\",\"h\",L$6=\"1juledag\",\"h\",L$6=\"2juledag\",\"h\",L$6=\"nytårsdag\",\"h\")","v":{"$error":"#N/A"}},{"$f":"_xlfn.IFS(M$7=\"søndag\",\"-\",M$6=\"skærtd\",\"h\",M$6=\"langfd\",\"h\",M$6=\"1påsked\",\"h\",M$6=\"2påsked\",\"h\",M$6=\"kr.himmelfart\",\"h\",M$6=\"1pinse\",\"h\",M$6=\"2pinse\",\"h\",M$6=\"1juledag\",\"h\",M$6=\"2juledag\",\"h\",M$6=\"nytårsdag\",\"h\")","v":{"$error":"#N/A"}},{"$f":"_xlfn.IFS(N$7=\"søndag\",\"-\",N$6=\"skærtd\",\"h\",N$6=\"langfd\",\"h\",N$6=\"1påsked\",\"h\",N$6=\"2påsked\",\"h\",N$6=\"kr.himmelfart\",\"h\",N$6=\"1pinse\",\"h\",N$6=\"2pinse\",\"h\",N$6=\"1juledag\",\"h\",N$6=\"2juledag\",\"h\",N$6=\"nytårsdag\",\"h\")","v":{"$error":"#N/A"}},{"$f":"_xlfn.IFS(O$7=\"søndag\",\"-\",O$6=\"skærtd\",\"h\",O$6=\"langfd\",\"h\",O$6=\"1påsked\",\"h\",O$6=\"2påsked\",\"h\",O$6=\"kr.himmelfart\",\"h\",O$6=\"1pinse\",\"h\",O$6=\"2pinse\",\"h\",O$6=\"1juledag\",\"h\",O$6=\"2juledag\",\"h\",O$6=\"nytårsdag\",\"h\")","v":{"$error":"#N/A"}},{"$f":"_xlfn.IFS(P$7=\"søndag\",\"-\",P$6=\"skærtd\",\"h\",P$6=\"langfd\",\"h\",P$6=\"1påsked\",\"h\",P$6=\"2påsked\",\"h\",P$6=\"kr.himmelfart\",\"h\",P$6=\"1pinse\",\"h\",P$6=\"2pinse\",\"h\",P$6=\"1juledag\",\"h\",P$6=\"2juledag\",\"h\",P$6=\"nytårsdag\",\"h\")","v":"-"},{"$f":"_xlfn.IFS(Q$7=\"søndag\",\"-\",Q$6=\"skærtd\",\"h\",Q$6=\"langfd\",\"h\",Q$6=\"1påsked\",\"h\",Q$6=\"2påsked\",\"h\",Q$6=\"kr.himmelfart\",\"h\",Q$6=\"1pinse\",\"h\",Q$6=\"2pinse\",\"h\",Q$6=\"1juledag\",\"h\",Q$6=\"2juledag\",\"h\",Q$6=\"nytårsdag\",\"h\")","v":{"$error":"#N/A"}},{"$f":"_xlfn.IFS(R$7=\"søndag\",\"-\",R$6=\"skærtd\",\"h\",R$6=\"langfd\",\"h\",R$6=\"1påsked\",\"h\",R$6=\"2påsked\",\"h\",R$6=\"kr.himmelfart\",\"h\",R$6=\"1pinse\",\"h\",R$6=\"2pinse\",\"h\",R$6=\"1juledag\",\"h\",R$6=\"2juledag\",\"h\",R$6=\"nytårsdag\",\"h\")","v":{"$error":"#N/A"}},{"$f":"_xlfn.IFS(S$7=\"søndag\",\"-\",S$6=\"skærtd\",\"h\",S$6=\"langfd\",\"h\",S$6=\"1påsked\",\"h\",S$6=\"2påsked\",\"h\",S$6=\"kr.himmelfart\",\"h\",S$6=\"1pinse\",\"h\",S$6=\"2pinse\",\"h\",S$6=\"1juledag\",\"h\",S$6=\"2juledag\",\"h\",S$6=\"nytårsdag\",\"h\")","v":{"$error":"#N/A"}},{"$f":"_xlfn.IFS(T$7=\"søndag\",\"-\",T$6=\"skærtd\",\"h\",T$6=\"langfd\",\"h\",T$6=\"1påsked\",\"h\",T$6=\"2påsked\",\"h\",T$6=\"kr.himmelfart\",\"h\",T$6=\"1pinse\",\"h\",T$6=\"2pinse\",\"h\",T$6=\"1juledag\",\"h\",T$6=\"2juledag\",\"h\",T$6=\"nytårsdag\",\"h\")","v":"h"},{"$f":"_xlfn.IFS(U$7=\"søndag\",\"-\",U$6=\"skærtd\",\"h\",U$6=\"langfd\",\"h\",U$6=\"1påsked\",\"h\",U$6=\"2påsked\",\"h\",U$6=\"kr.himmelfart\",\"h\",U$6=\"1pinse\",\"h\",U$6=\"2pinse\",\"h\",U$6=\"1juledag\",\"h\",U$6=\"2juledag\",\"h\",U$6=\"nytårsdag\",\"h\")","v":"h"},{"$f":"_xlfn.IFS(V$7=\"søndag\",\"-\",V$6=\"skærtd\",\"h\",V$6=\"langfd\",\"h\",V$6=\"1påsked\",\"h\",V$6=\"2påsked\",\"h\",V$6=\"kr.himmelfart\",\"h\",V$6=\"1pinse\",\"h\",V$6=\"2pinse\",\"h\",V$6=\"1juledag\",\"h\",V$6=\"2juledag\",\"h\",V$6=\"nytårsdag\",\"h\")","v":{"$error":"#N/A"}},{"$f":"_xlfn.IFS(W$7=\"søndag\",\"-\",W$6=\"skærtd\",\"h\",W$6=\"langfd\",\"h\",W$6=\"1påsked\",\"h\",W$6=\"2påsked\",\"h\",W$6=\"kr.himmelfart\",\"h\",W$6=\"1pinse\",\"h\",W$6=\"2pinse\",\"h\",W$6=\"1juledag\",\"h\",W$6=\"2juledag\",\"h\",W$6=\"nytårsdag\",\"h\")","v":"-"},{"$f":"_xlfn.IFS(X$7=\"søndag\",\"-\",X$6=\"skærtd\",\"h\",X$6=\"langfd\",\"h\",X$6=\"1påsked\",\"h\",X$6=\"2påsked\",\"h\",X$6=\"kr.himmelfart\",\"h\",X$6=\"1pinse\",\"h\",X$6=\"2pinse\",\"h\",X$6=\"1juledag\",\"h\",X$6=\"2juledag\",\"h\",X$6=\"nytårsdag\",\"h\")","v":"h"},{"$f":"_xlfn.IFS(Y$7=\"søndag\",\"-\",Y$6=\"skærtd\",\"h\",Y$6=\"langfd\",\"h\",Y$6=\"1påsked\",\"h\",Y$6=\"2påsked\",\"h\",Y$6=\"kr.himmelfart\",\"h\",Y$6=\"1pinse\",\"h\",Y$6=\"2pinse\",\"h\",Y$6=\"1juledag\",\"h\",Y$6=\"2juledag\",\"h\",Y$6=\"nytårsdag\",\"h\")","v":{"$error":"#N/A"}},{"$f":"_xlfn.IFS(Z$7=\"søndag\",\"-\",Z$6=\"skærtd\",\"h\",Z$6=\"langfd\",\"h\",Z$6=\"1påsked\",\"h\",Z$6=\"2påsked\",\"h\",Z$6=\"kr.himmelfart\",\"h\",Z$6=\"1pinse\",\"h\",Z$6=\"2pinse\",\"h\",Z$6=\"1juledag\",\"h\",Z$6=\"2juledag\",\"h\",Z$6=\"nytårsdag\",\"h\")","v":{"$error":"#N/A"}},{"$f":"_xlfn.IFS(AA$7=\"søndag\",\"-\",AA$6=\"skærtd\",\"h\",AA$6=\"langfd\",\"h\",AA$6=\"1påsked\",\"h\",AA$6=\"2påsked\",\"h\",AA$6=\"kr.himmelfart\",\"h\",AA$6=\"1pinse\",\"h\",AA$6=\"2pinse\",\"h\",AA$6=\"1juledag\",\"h\",AA$6=\"2juledag\",\"h\",AA$6=\"nytårsdag\",\"h\")","v":{"$error":"#N/A"}},{"$f":"_xlfn.IFS(AB$7=\"søndag\",\"-\",AB$6=\"skærtd\",\"h\",AB$6=\"langfd\",\"h\",AB$6=\"1påsked\",\"h\",AB$6=\"2påsked\",\"h\",AB$6=\"kr.himmelfart\",\"h\",AB$6=\"1pinse\",\"h\",AB$6=\"2pinse\",\"h\",AB$6=\"1juledag\",\"h\",AB$6=\"2juledag\",\"h\",AB$6=\"nytårsdag\",\"h\")","v":{"$error":"#N/A"}},{"$f":"_xlfn.IFS(AC$7=\"søndag\",\"-\",AC$6=\"skærtd\",\"h\",AC$6=\"langfd\",\"h\",AC$6=\"1påsked\",\"h\",AC$6=\"2påsked\",\"h\",AC$6=\"kr.himmelfart\",\"h\",AC$6=\"1pinse\",\"h\",AC$6=\"2pinse\",\"h\",AC$6=\"1juledag\",\"h\",AC$6=\"2juledag\",\"h\",AC$6=\"nytårsdag\",\"h\")","v":{"$error":"#N/A"}},{"$f":"_xlfn.IFS(AD$7=\"søndag\",\"-\",AD$6=\"skærtd\",\"h\",AD$6=\"langfd\",\"h\",AD$6=\"1påsked\",\"h\",AD$6=\"2påsked\",\"h\",AD$6=\"kr.himmelfart\",\"h\",AD$6=\"1pinse\",\"h\",AD$6=\"2pinse\",\"h\",AD$6=\"1juledag\",\"h\",AD$6=\"2juledag\",\"h\",AD$6=\"nytårsdag\",\"h\")","v":"-"},{"$f":"_xlfn.IFS(AE$7=\"søndag\",\"-\",AE$6=\"skærtd\",\"h\",AE$6=\"langfd\",\"h\",AE$6=\"1påsked\",\"h\",AE$6=\"2påsked\",\"h\",AE$6=\"kr.himmelfart\",\"h\",AE$6=\"1pinse\",\"h\",AE$6=\"2pinse\",\"h\",AE$6=\"1juledag\",\"h\",AE$6=\"2juledag\",\"h\",AE$6=\"nytårsdag\",\"h\")","v":{"$error":"#N/A"}},{"$f":"_xlfn.IFS(AF$7=\"søndag\",\"-\",AF$6=\"skærtd\",\"h\",AF$6=\"langfd\",\"h\",AF$6=\"1påsked\",\"h\",AF$6=\"2påsked\",\"h\",AF$6=\"kr.himmelfart\",\"h\",AF$6=\"1pinse\",\"h\",AF$6=\"2pinse\",\"h\",AF$6=\"1juledag\",\"h\",AF$6=\"2juledag\",\"h\",AF$6=\"nytårsdag\",\"h\")","v":{"$error":"#N/A"}},{"$f":"_xlfn.IFS(AG$7=\"søndag\",\"-\",AG$6=\"skærtd\",\"h\",AG$6=\"langfd\",\"h\",AG$6=\"1påsked\",\"h\",AG$6=\"2påsked\",\"h\",AG$6=\"kr.himmelfart\",\"h\",AG$6=\"1pinse\",\"h\",AG$6=\"2pinse\",\"h\",AG$6=\"1juledag\",\"h\",AG$6=\"2juledag\",\"h\",AG$6=\"nytårsdag\",\"h\")","v":{"$error":"#N/A"}},{"$f":"_xlfn.IFS(AH$7=\"søndag\",\"-\",AH$6=\"skærtd\",\"h\",AH$6=\"langfd\",\"h\",AH$6=\"1påsked\",\"h\",AH$6=\"2påsked\",\"h\",AH$6=\"kr.himmelfart\",\"h\",AH$6=\"1pinse\",\"h\",AH$6=\"2pinse\",\"h\",AH$6=\"1juledag\",\"h\",AH$6=\"2juledag\",\"h\",AH$6=\"nytårsdag\",\"h\")","v":{"$error":"#N/A"}}]
[null,"Sygedage",null,{"$f":"IF(D19=\"s\",D18,\"-\")","v":"-"},"-","-","-","-","-","-","-","-","-","-","-","-","-","-","-","-","-","-","-","-","-","-","-","-","-","-","-","-","-","-"]
[null,null,{"$f":"$C$15","v":14},"Timer uge",null,null,{"$f":"SUMIF($D$5:$AH$5,C24,D18:AH18)","v":0},{"$f":"$H$15","v":15},{"$f":"D24","v":"Timer uge"},null,null,null,null,{"$f":"SUMIF($D$5:$AH$5,H24,D18:AH18)","v":0},{"$f":"$O$15","v":16},{"$f":"D24","v":"Timer uge"},null,null,null,null,{"$f":"_xlfn.IFS($O24=$BV17,$BV18,$O24=$BW17,Lønskema!$BW18,$O24=$BX17,$BX18,$O24=$BY17,$BY18,$O24=$BZ17,$BZ18,$O24=$CA17,$CA18,$O24=$CB17,$CB18,$O24=$CC17,$CC18,$O24=$CD17,$CD18,$O24=$CE17,$CE18,$O24=$CF17,$CF18,$O24=$CG17,$CF18,$O24=$CG17,$CG18,$O24=$CH17,$CH18,$O24=$CI17,$CI18,$O24=$CJ17,$CJ18,$O24=$CK17,$CK18,$O24=$CL17,$CL18,$O24=$CM17,$CM18,$O24=$CN17,$CN18,$O24=$CO17,$CO18,$O24=$CP17,$CP18,$O24=$CQ17,$CQ18,$O24=$CR17,$CR18,$O24=$CS17,$CS18,$O24=$CT17,$CT18,$O24=$CU17,$CU18,$O24=$CV17,$CV18,$O24=$CW17,$CW18,$O24=$CX17,$CX18,$O24=$CY17,$CY18,$O24=$CZ17,$CZ18,$O24=$DA17,$DA18,$O24=$DB17,$DB18,$O24=$DC17,$DC18,$O24=$DD17,$DD18,$O24=$DE17,$DE18,$O24=$DF17,$DF18,$O24=$DG17,$DG18,$O24=$DH17,$DH18,$O24=$DI17,$DI18,$O24=$DJ17,$DJ18,$O24=$DK17,$DK18,$O24=$DL17,$DL18,$O24=$DM17,$DM18,$O24=$DN17,$DN18,$O24=$DO17,$DO18,$O24=$DP17,$DP18,$O24=$DQ17,$DQ18,$O24=$DR17,$DR18,$O24=$DS17,$DS18,$O24=$DT17,$DT18,$O24=$DU17,$DU18)","v":0},{"$f":"$V$15","v":17},{"$f":"D24","v":"Timer uge"},null,null,null,null,{"$f":"SUMIF($D$5:$AH$5,V24,D18:AH18)","v":0},{"$f":"$AC$15","v":18},{"$f":"D24","v":"Timer uge"},null,null,null,{"$f":"SUMIF($D$5:$AH$5,AC24,D18:AH18)","v":0},{"$f":"$AI$15","v":19},{"$f":"D24","v":"Timer uge"},null,null,null,{"$f":"SUMIF($D$5:$AH$5,AI24,D18:AH18)","v":0}]
[null,null,null,"Overarbejde 50% 1-3 timer",null,null,{"$f":"IF(G24>Opstart!$F$5,G24-Opstart!$F$5-G26,0)","v":0},null,{"$f":"D25","v":"Overarbejde 50% 1-3 timer"},null,null,null,null,{"$f":"IF($N24>37,$N24-37-$N26,0)","v":0},null,{"$f":"D25","v":"Overarbejde 50% 1-3 timer"},null,null,null,null,{"$f":"IF($U24>37,$U24-37-$U26,0)","v":0},null,{"$f":"D25","v":"Overarbejde 50% 1-3 timer"},null,null,null,null,{"$f":"IF($AB24>37,$AB24-37-$AB26,0)","v":0},null,{"$f":"D25","v":"Overarbejde 50% 1-3 timer"},null,null,null,{"$f":"IF($AH24>37,$AH24-37-$AH26,0)","v":0},null,{"$f":"D25","v":"Overarbejde 50% 1-3 timer"},null,null,null,{"$f":"IF($AH24>37,$AH24-37-$AH26,0)","v":0}]
[null,null,null,"Overarbejde 100% over 3 timer",null,null,{"$f":"IF(G24>Opstart!$F$6,G24-Opstart!$F$6,0)","v":0},null,"Overarbejde 100% over 3 timer",null,null,null,null,{"$f":"IF($N24>40,$N24-40,0)","v":0},null,"Overarbejde 100% over 3 timer",null,null,null,null,{"$f":"IF($U24>40,$U24-40,0)","v":0},null,"Overarbejde 100% over 3 timer",null,null,null,null,{"$f":"IF($AB24>40,$AB24-40,0)","v":0},null,"Overarbejde 100% over 3 timer",null,null,null,{"$f":"IF($AH24>40,$AH24-40,0)","v":0},null,{"$f":"D26","v":"Overarbejde 100% over 3 timer"},null,null,null,{"$f":"IF($AH24>40,$AH24-40,0)","v":0},null,null,null,null,null,null,null,null,null,null,null,null,null,null,null,null,null,null,null,null,null,null,null,null,null,null,null,null,null,null,null,null,null,1,2,3,4,5,6,7,8,9,10,11,12,13,14,15,16,17,18,19,20,21,22,23,24,25,26,27,28,29,30,31,32,33,34,35,36,37,38,39,40,41,42,43,44,45,46,47,48,49,50,51,52]
[{"$f":"Medarbejder!A5","v":200},{"$f":"Medarbejder!B5","v":"Medarbejder 2"},{"$f":"Medarbejder!C5","v":"Barsel"},null,null,null,null,null,null,null,null,null,null,null,null,null,null,null,null,null,null,null,null,null,null,null,null,null,null,null,null,null,null,null,null,null,null,null,null,null,null,{"$f":"AO27*Overenskomst!$C$22","v":0},{"$f":"SUM($D27:$AH27)-$BA27-$BF27-$BD27","v":0},{"$f":"IF(Medarbejder!$J5=\"ja\",$AQ27,\"-\")","v":"-"},{"$f":"SUMIF($D$7:$AH$7,\"søndag\",$D27:$AH27)+$AT27","v":0},{"$f":"SUMIFS($D27:$AH27,$D31:$AH31,\"H\")","v":0},{"$f":"G34+N34+U34+AB34+AH34+AN34","v":0},{"$f":"G35+N35+U35+AB35+AH35+AN35","v":0},{"$f":"SUM($D29:$AH29)","v":0},{"$f":"SUM($D30:$AH30)","v":0},{"$f":"COUNTIFS($D28:$AH28,\"F\")","v":0},{"$f":"COUNTIFS($D28:$AH28,\"S\")","v":0},{"$f":"SUMIF($D28:$AH28,\"S\",$D32:$AH32)","v":0},{"$f":"COUNTIFS($D28:$AH28,\"p\")","v":0},{"$f":"COUNTIFS($D28:$AH28,\"BS\")","v":0},{"$f":"SUMIF(D28:AH28,\"bs\",$D27:$AH27)","v":0},{"$f":"COUNTIFS($D28:$AH28,\"FF\")","v":0},{"$f":"SUMIF($D28:$AH28,\"g\",$D27:$AH27)","v":0},{"$f":"Medarbejder!$N5","v":14.285714285714286},{"$f":"SUM($BL27:$BU27)","v":4},null,null,null,{"$f":"COUNTIFS($D$6:$AH$6,\"skærtd\")","v":1},{"$f":"COUNTIFS($D$6:$AH$6,\"langfd\")","v":1},{"$f":"COUNTIFS($D$6:$AH$6,\"1påsked\")","v":1},{"$f":"COUNTIFS($D$6:$AH$6,\"2påsked\")","v":1},{"$f":"COUNTIFS($D$6:$AH$6,\"kr.himmelfart\")","v":0},{"$f":"COUNTIFS($D$6:$AH$6,\"1pinse\")","v":0},{"$f":"COUNTIFS($D$6:$AH$6,\"2pinse\")","v":0},{"$f":"COUNTIFS($D$6:$AH$6,\"1juledag\")","v":0},{"$f":"COUNTIFS($D$6:$AH$6,\"2juledag\")","v":0},{"$f":"COUNTIFS($D$6:$AH$6,\"nytårsdag\")","v":0},{"$f":"SUMIFS($D27:$AH27,Lønskema!$D$5:$AH$5,1)","v":0},{"$f":"SUMIFS($D27:$AH27,Lønskema!$D$5:$AH$5,2)","v":0},{"$f":"SUMIFS($D27:$AH27,Lønskema!$D$5:$AH$5,3)","v":0},{"$f":"SUMIFS($D27:$AH27,Lønskema!$D$5:$AH$5,4)","v":0},{"$f":"SUMIFS($D27:$AH27,Lønskema!$D$5:$AH$5,5)","v":0},{"$f":"SUMIFS($D27:$AH27,Lønskema!$D$5:$AH$5,6)","v":0},{"$f":"SUMIFS($D27:$AH27,Lønskema!$D$5:$AH$5,7)","v":0},{"$f":"SUMIFS($D27:$AH27,Lønskema!$D$5:$AH$5,8)","v":0},{"$f":"SUMIFS($D27:$AH27,Lønskema!$D$5:$AH$5,9)","v":0},{"$f":"SUMIFS($D27:$AH27,Lønskema!$D$5:$AH$5,10)","v":0},{"$f":"SUMIFS($D27:$AH27,Lønskema!$D$5:$AH$5,11)","v":0},{"$f":"SUMIFS($D27:$AH27,Lønskema!$D$5:$AH$5,12)","v":0},{"$f":"SUMIFS($D27:$AH27,Lønskema!$D$5:$AH$5,13)","v":0},{"$f":"SUMIFS($D27:$AH27,Lønskema!$D$5:$AH$5,14)","v":0},{"$f":"SUMIFS($D27:$AH27,Lønskema!$D$5:$AH$5,15)","v":0},{"$f":"SUMIFS($D27:$AH27,Lønskema!$D$5:$AH$5,16)","v":0},{"$f":"SUMIFS($D27:$AH27,Lønskema!$D$5:$AH$5,17)","v":0},{"$f":"SUMIFS($D27:$AH27,Lønskema!$D$5:$AH$5,18)","v":0},{"$f":"SUMIFS($D27:$AH27,Lønskema!$D$5:$AH$5,19)","v":0},{"$f":"SUMIFS($D27:$AH27,Lønskema!$D$5:$AH$5,20)","v":0},{"$f":"SUMIFS($D27:$AH27,Lønskema!$D$5:$AH$5,21)","v":0},{"$f":"SUMIFS($D27:$AH27,Lønskema!$D$5:$AH$5,22)","v":0},{"$f":"SUMIFS($D27:$AH27,Lønskema!$D$5:$AH$5,23)","v":0},{"$f":"SUMIFS($D27:$AH27,Lønskema!$D$5:$AH$5,24)","v":0},{"$f":"SUMIFS($D27:$AH27,Lønskema!$D$5:$AH$5,25)","v":0},{"$f":"SUMIFS($D27:$AH27,Lønskema!$D$5:$AH$5,26)","v":0},{"$f":"SUMIFS($D27:$AH27,Lønskema!$D$5:$AH$5,27)","v":0},{"$f":"SUMIFS($D27:$AH27,Lønskema!$D$5:$AH$5,28)","v":0},{"$f":"SUMIFS($D27:$AH27,Lønskema!$D$5:$AH$5,29)","v":0},{"$f":"SUMIFS($D27:$AH27,Lønskema!$D$5:$AH$5,30)","v":0},{"$f":"SUMIFS($D27:$AH27,Lønskema!$D$5:$AH$5,31)","v":0},{"$f":"SUMIFS($D27:$AH27,Lønskema!$D$5:$AH$5,32)","v":0},{"$f":"SUMIFS($D27:$AH27,Lønskema!$D$5:$AH$5,33)","v":0},{"$f":"SUMIFS($D27:$AH27,Lønskema!$D$5:$AH$5,34)","v":0},{"$f":"SUMIFS($D27:$AH27,Lønskema!$D$5:$AH$5,35)","v":0},{"$f":"SUMIFS($D27:$AH27,Lønskema!$D$5:$AH$5,36)","v":0},{"$f":"SUMIFS($D27:$AH27,Lønskema!$D$5:$AH$5,37)","v":0},{"$f":"SUMIFS($D27:$AH27,Lønskema!$D$5:$AH$5,38)","v":0},{"$f":"SUMIFS($D27:$AH27,Lønskema!$D$5:$AH$5,39)","v":0},{"$f":"SUMIFS($D27:$AH27,Lønskema!$D$5:$AH$5,40)","v":0},{"$f":"SUMIFS($D27:$AH27,Lønskema!$D$5:$AH$5,41)","v":0},{"$f":"SUMIFS($D27:$AH27,Lønskema!$D$5:$AH$5,42)","v":0},{"$f":"SUMIFS($D27:$AH27,Lønskema!$D$5:$AH$5,43)","v":0},{"$f":"SUMIFS($D27:$AH27,Lønskema!$D$5:$AH$5,44)","v":0},{"$f":"SUMIFS($D27:$AH27,Lønskema!$D$5:$AH$5,45)","v":0},{"$f":"SUMIFS($D27:$AH27,Lønskema!$D$5:$AH$5,46)","v":0},{"$f":"SUMIFS($D27:$AH27,Lønskema!$D$5:$AH$5,47)","v":0},{"$f":"SUMIFS($D27:$AH27,Lønskema!$D$5:$AH$5,48)","v":0},{"$f":"SUMIFS($D27:$AH27,Lønskema!$D$5:$AH$5,49)","v":0},{"$f":"SUMIFS($D27:$AH27,Lønskema!$D$5:$AH$5,50)","v":0},{"$f":"SUMIFS($D27:$AH27,Lønskema!$D$5:$AH$5,51)","v":0},{"$f":"SUMIFS($D27:$AH27,Lønskema!$D$5:$AH$5,52)","v":0}]
["Ferie - syg  mm. Registreres i denne række"]
[null,"Aften"]
[null,"Nat"]
[null,"Helligdag",null,{"$f":"_xlfn.IFS(D$7=\"søndag\",\"-\",D$6=\"skærtd\",\"h\",D$6=\"langfd\",\"h\",D$6=\"1påsked\",\"h\",D$6=\"2påsked\",\"h\",D$6=\"kr.himmelfart\",\"h\",D$6=\"1pinse\",\"h\",D$6=\"2pinse\",\"h\",D$6=\"1juledag\",\"h\",D$6=\"2juledag\",\"h\",D$6=\"nytårsdag\",\"h\")","v":{"$error":"#N/A"}},{"$f":"_xlfn.IFS(E$7=\"søndag\",\"-\",E$6=\"skærtd\",\"h\",E$6=\"langfd\",\"h\",E$6=\"1påsked\",\"h\",E$6=\"2påsked\",\"h\",E$6=\"kr.himmelfart\",\"h\",E$6=\"1pinse\",\"h\",E$6=\"2pinse\",\"h\",E$6=\"1juledag\",\"h\",E$6=\"2juledag\",\"h\",E$6=\"nytårsdag\",\"h\")","v":{"$error":"#N/A"}},{"$f":"_xlfn.IFS(F$7=\"søndag\",\"-\",F$6=\"skærtd\",\"h\",F$6=\"langfd\",\"h\",F$6=\"1påsked\",\"h\",F$6=\"2påsked\",\"h\",F$6=\"kr.himmelfart\",\"h\",F$6=\"1pinse\",\"h\",F$6=\"2pinse\",\"h\",F$6=\"1juledag\",\"h\",F$6=\"2juledag\",\"h\",F$6=\"nytårsdag\",\"h\")","v":{"$error":"#N/A"}},{"$f":"_xlfn.IFS(G$7=\"søndag\",\"-\",G$6=\"skærtd\",\"h\",G$6=\"langfd\",\"h\",G$6=\"1påsked\",\"h\",G$6=\"2påsked\",\"h\",G$6=\"kr.himmelfart\",\"h\",G$6=\"1pinse\",\"h\",G$6=\"2pinse\",\"h\",G$6=\"1juledag\",\"h\",G$6=\"2juledag\",\"h\",G$6=\"nytårsdag\",\"h\")","v":{"$error":"#N/A"}},{"$f":"_xlfn.IFS(H$7=\"søndag\",\"-\",H$6=\"skærtd\",\"h\",H$6=\"langfd\",\"h\",H$6=\"1påsked\",\"h\",H$6=\"2påsked\",\"h\",H$6=\"kr.himmelfart\",\"h\",H$6=\"1pinse\",\"h\",H$6=\"2pinse\",\"h\",H$6=\"1juledag\",\"h\",H$6=\"2juledag\",\"h\",H$6=\"nytårsdag\",\"h\")","v":{"$error":"#N/A"}},{"$f":"_xlfn.IFS(I$7=\"søndag\",\"-\",I$6=\"skærtd\",\"h\",I$6=\"langfd\",\"h\",I$6=\"1påsked\",\"h\",I$6=\"2påsked\",\"h\",I$6=\"kr.himmelfart\",\"h\",I$6=\"1pinse\",\"h\",I$6=\"2pinse\",\"h\",I$6=\"1juledag\",\"h\",I$6=\"2juledag\",\"h\",I$6=\"nytårsdag\",\"h\")","v":"-"},{"$f":"_xlfn.IFS(J$7=\"søndag\",\"-\",J$6=\"skærtd\",\"h\",J$6=\"langfd\",\"h\",J$6=\"1påsked\",\"h\",J$6=\"2påsked\",\"h\",J$6=\"kr.himmelfart\",\"h\",J$6=\"1pinse\",\"h\",J$6=\"2pinse\",\"h\",J$6=\"1juledag\",\"h\",J$6=\"2juledag\",\"h\",J$6=\"nytårsdag\",\"h\")","v":{"$error":"#N/A"}},{"$f":"_xlfn.IFS(K$7=\"søndag\",\"-\",K$6=\"skærtd\",\"h\",K$6=\"langfd\",\"h\",K$6=\"1påsked\",\"h\",K$6=\"2påsked\",\"h\",K$6=\"kr.himmelfart\",\"h\",K$6=\"1pinse\",\"h\",K$6=\"2pinse\",\"h\",K$6=\"1juledag\",\"h\",K$6=\"2juledag\",\"h\",K$6=\"nytårsdag\",\"h\")","v":{"$error":"#N/A"}},{"$f":"_xlfn.IFS(L$7=\"søndag\",\"-\",L$6=\"skærtd\",\"h\",L$6=\"langfd\",\"h\",L$6=\"1påsked\",\"h\",L$6=\"2påsked\",\"h\",L$6=\"kr.himmelfart\",\"h\",L$6=\"1pinse\",\"h\",L$6=\"2pinse\",\"h\",L$6=\"1juledag\",\"h\",L$6=\"2juledag\",\"h\",L$6=\"nytårsdag\",\"h\")","v":{"$error":"#N/A"}},{"$f":"_xlfn.IFS(M$7=\"søndag\",\"-\",M$6=\"skærtd\",\"h\",M$6=\"langfd\",\"h\",M$6=\"1påsked\",\"h\",M$6=\"2påsked\",\"h\",M$6=\"kr.himmelfart\",\"h\",M$6=\"1pinse\",\"h\",M$6=\"2pinse\",\"h\",M$6=\"1juledag\",\"h\",M$6=\"2juledag\",\"h\",M$6=\"nytårsdag\",\"h\")","v":{"$error":"#N/A"}},{"$f":"_xlfn.IFS(N$7=\"søndag\",\"-\",N$6=\"skærtd\",\"h\",N$6=\"langfd\",\"h\",N$6=\"1påsked\",\"h\",N$6=\"2påsked\",\"h\",N$6=\"kr.himmelfart\",\"h\",N$6=\"1pinse\",\"h\",N$6=\"2pinse\",\"h\",N$6=\"1juledag\",\"h\",N$6=\"2juledag\",\"h\",N$6=\"nytårsdag\",\"h\")","v":{"$error":"#N/A"}},{"$f":"_xlfn.IFS(O$7=\"søndag\",\"-\",O$6=\"skærtd\",\"h\",O$6=\"langfd\",\"h\",O$6=\"1påsked\",\"h\",O$6=\"2påsked\",\"h\",O$6=\"kr.himmelfart\",\"h\",O$6=\"1pinse\",\"h\",O$6=\"2pinse\",\"h\",O$6=\"1juledag\",\"h\",O$6=\"2juledag\",\"h\",O$6=\"nytårsdag\",\"h\")","v":{"$error":"#N/A"}},{"$f":"_xlfn.IFS(P$7=\"søndag\",\"-\",P$6=\"skærtd\",\"h\",P$6=\"langfd\",\"h\",P$6=\"1påsked\",\"h\",P$6=\"2påsked\",\"h\",P$6=\"kr.himmelfart\",\"h\",P$6=\"1pinse\",\"h\",P$6=\"2pinse\",\"h\",P$6=\"1juledag\",\"h\",P$6=\"2juledag\",\"h\",P$6=\"nytårsdag\",\"h\")","v":"-"},{"$f":"_xlfn.IFS(Q$7=\"søndag\",\"-\",Q$6=\"skærtd\",\"h\",Q$6=\"langfd\",\"h\",Q$6=\"1påsked\",\"h\",Q$6=\"2påsked\",\"h\",Q$6=\"kr.himmelfart\",\"h\",Q$6=\"1pinse\",\"h\",Q$6=\"2pinse\",\"h\",Q$6=\"1juledag\",\"h\",Q$6=\"2juledag\",\"h\",Q$6=\"nytårsdag\",\"h\")","v":{"$error":"#N/A"}},{"$f":"_xlfn.IFS(R$7=\"søndag\",\"-\",R$6=\"skærtd\",\"h\",R$6=\"langfd\",\"h\",R$6=\"1påsked\",\"h\",R$6=\"2påsked\",\"h\",R$6=\"kr.himmelfart\",\"h\",R$6=\"1pinse\",\"h\",R$6=\"2pinse\",\"h\",R$6=\"1juledag\",\"h\",R$6=\"2juledag\",\"h\",R$6=\"nytårsdag\",\"h\")","v":{"$error":"#N/A"}},{"$f":"_xlfn.IFS(S$7=\"søndag\",\"-\",S$6=\"skærtd\",\"h\",S$6=\"langfd\",\"h\",S$6=\"1påsked\",\"h\",S$6=\"2påsked\",\"h\",S$6=\"kr.himmelfart\",\"h\",S$6=\"1pinse\",\"h\",S$6=\"2pinse\",\"h\",S$6=\"1juledag\",\"h\",S$6=\"2juledag\",\"h\",S$6=\"nytårsdag\",\"h\")","v":{"$error":"#N/A"}},{"$f":"_xlfn.IFS(T$7=\"søndag\",\"-\",T$6=\"skærtd\",\"h\",T$6=\"langfd\",\"h\",T$6=\"1påsked\",\"h\",T$6=\"2påsked\",\"h\",T$6=\"kr.himmelfart\",\"h\",T$6=\"1pinse\",\"h\",T$6=\"2pinse\",\"h\",T$6=\"1juledag\",\"h\",T$6=\"2juledag\",\"h\",T$6=\"nytårsdag\",\"h\")","v":"h"},{"$f":"_xlfn.IFS(U$7=\"søndag\",\"-\",U$6=\"skærtd\",\"h\",U$6=\"langfd\",\"h\",U$6=\"1påsked\",\"h\",U$6=\"2påsked\",\"h\",U$6=\"kr.himmelfart\",\"h\",U$6=\"1pinse\",\"h\",U$6=\"2pinse\",\"h\",U$6=\"1juledag\",\"h\",U$6=\"2juledag\",\"h\",U$6=\"nytårsdag\",\"h\")","v":"h"},{"$f":"_xlfn.IFS(V$7=\"søndag\",\"-\",V$6=\"skærtd\",\"h\",V$6=\"langfd\",\"h\",V$6=\"1påsked\",\"h\",V$6=\"2påsked\",\"h\",V$6=\"kr.himmelfart\",\"h\",V$6=\"1pinse\",\"h\",V$6=\"2pinse\",\"h\",V$6=\"1juledag\",\"h\",V$6=\"2juledag\",\"h\",V$6=\"nytårsdag\",\"h\")","v":{"$error":"#N/A"}},{"$f":"_xlfn.IFS(W$7=\"søndag\",\"-\",W$6=\"skærtd\",\"h\",W$6=\"langfd\",\"h\",W$6=\"1påsked\",\"h\",W$6=\"2påsked\",\"h\",W$6=\"kr.himmelfart\",\"h\",W$6=\"1pinse\",\"h\",W$6=\"2pinse\",\"h\",W$6=\"1juledag\",\"h\",W$6=\"2juledag\",\"h\",W$6=\"nytårsdag\",\"h\")","v":"-"},{"$f":"_xlfn.IFS(X$7=\"søndag\",\"-\",X$6=\"skærtd\",\"h\",X$6=\"langfd\",\"h\",X$6=\"1påsked\",\"h\",X$6=\"2påsked\",\"h\",X$6=\"kr.himmelfart\",\"h\",X$6=\"1pinse\",\"h\",X$6=\"2pinse\",\"h\",X$6=\"1juledag\",\"h\",X$6=\"2juledag\",\"h\",X$6=\"nytårsdag\",\"h\")","v":"h"},{"$f":"_xlfn.IFS(Y$7=\"søndag\",\"-\",Y$6=\"skærtd\",\"h\",Y$6=\"langfd\",\"h\",Y$6=\"1påsked\",\"h\",Y$6=\"2påsked\",\"h\",Y$6=\"kr.himmelfart\",\"h\",Y$6=\"1pinse\",\"h\",Y$6=\"2pinse\",\"h\",Y$6=\"1juledag\",\"h\",Y$6=\"2juledag\",\"h\",Y$6=\"nytårsdag\",\"h\")","v":{"$error":"#N/A"}},{"$f":"_xlfn.IFS(Z$7=\"søndag\",\"-\",Z$6=\"skærtd\",\"h\",Z$6=\"langfd\",\"h\",Z$6=\"1påsked\",\"h\",Z$6=\"2påsked\",\"h\",Z$6=\"kr.himmelfart\",\"h\",Z$6=\"1pinse\",\"h\",Z$6=\"2pinse\",\"h\",Z$6=\"1juledag\",\"h\",Z$6=\"2juledag\",\"h\",Z$6=\"nytårsdag\",\"h\")","v":{"$error":"#N/A"}},{"$f":"_xlfn.IFS(AA$7=\"søndag\",\"-\",AA$6=\"skærtd\",\"h\",AA$6=\"langfd\",\"h\",AA$6=\"1påsked\",\"h\",AA$6=\"2påsked\",\"h\",AA$6=\"kr.himmelfart\",\"h\",AA$6=\"1pinse\",\"h\",AA$6=\"2pinse\",\"h\",AA$6=\"1juledag\",\"h\",AA$6=\"2juledag\",\"h\",AA$6=\"nytårsdag\",\"h\")","v":{"$error":"#N/A"}},{"$f":"_xlfn.IFS(AB$7=\"søndag\",\"-\",AB$6=\"skærtd\",\"h\",AB$6=\"langfd\",\"h\",AB$6=\"1påsked\",\"h\",AB$6=\"2påsked\",\"h\",AB$6=\"kr.himmelfart\",\"h\",AB$6=\"1pinse\",\"h\",AB$6=\"2pinse\",\"h\",AB$6=\"1juledag\",\"h\",AB$6=\"2juledag\",\"h\",AB$6=\"nytårsdag\",\"h\")","v":{"$error":"#N/A"}},{"$f":"_xlfn.IFS(AC$7=\"søndag\",\"-\",AC$6=\"skærtd\",\"h\",AC$6=\"langfd\",\"h\",AC$6=\"1påsked\",\"h\",AC$6=\"2påsked\",\"h\",AC$6=\"kr.himmelfart\",\"h\",AC$6=\"1pinse\",\"h\",AC$6=\"2pinse\",\"h\",AC$6=\"1juledag\",\"h\",AC$6=\"2juledag\",\"h\",AC$6=\"nytårsdag\",\"h\")","v":{"$error":"#N/A"}},{"$f":"_xlfn.IFS(AD$7=\"søndag\",\"-\",AD$6=\"skærtd\",\"h\",AD$6=\"langfd\",\"h\",AD$6=\"1påsked\",\"h\",AD$6=\"2påsked\",\"h\",AD$6=\"kr.himmelfart\",\"h\",AD$6=\"1pinse\",\"h\",AD$6=\"2pinse\",\"h\",AD$6=\"1juledag\",\"h\",AD$6=\"2juledag\",\"h\",AD$6=\"nytårsdag\",\"h\")","v":"-"},{"$f":"_xlfn.IFS(AE$7=\"søndag\",\"-\",AE$6=\"skærtd\",\"h\",AE$6=\"langfd\",\"h\",AE$6=\"1påsked\",\"h\",AE$6=\"2påsked\",\"h\",AE$6=\"kr.himmelfart\",\"h\",AE$6=\"1pinse\",\"h\",AE$6=\"2pinse\",\"h\",AE$6=\"1juledag\",\"h\",AE$6=\"2juledag\",\"h\",AE$6=\"nytårsdag\",\"h\")","v":{"$error":"#N/A"}},{"$f":"_xlfn.IFS(AF$7=\"søndag\",\"-\",AF$6=\"skærtd\",\"h\",AF$6=\"langfd\",\"h\",AF$6=\"1påsked\",\"h\",AF$6=\"2påsked\",\"h\",AF$6=\"kr.himmelfart\",\"h\",AF$6=\"1pinse\",\"h\",AF$6=\"2pinse\",\"h\",AF$6=\"1juledag\",\"h\",AF$6=\"2juledag\",\"h\",AF$6=\"nytårsdag\",\"h\")","v":{"$error":"#N/A"}},{"$f":"_xlfn.IFS(AG$7=\"søndag\",\"-\",AG$6=\"skærtd\",\"h\",AG$6=\"langfd\",\"h\",AG$6=\"1påsked\",\"h\",AG$6=\"2påsked\",\"h\",AG$6=\"kr.himmelfart\",\"h\",AG$6=\"1pinse\",\"h\",AG$6=\"2pinse\",\"h\",AG$6=\"1juledag\",\"h\",AG$6=\"2juledag\",\"h\",AG$6=\"nytårsdag\",\"h\")","v":{"$error":"#N/A"}},{"$f":"_xlfn.IFS(AH$7=\"søndag\",\"-\",AH$6=\"skærtd\",\"h\",AH$6=\"langfd\",\"h\",AH$6=\"1påsked\",\"h\",AH$6=\"2påsked\",\"h\",AH$6=\"kr.himmelfart\",\"h\",AH$6=\"1pinse\",\"h\",AH$6=\"2pinse\",\"h\",AH$6=\"1juledag\",\"h\",AH$6=\"2juledag\",\"h\",AH$6=\"nytårsdag\",\"h\")","v":{"$error":"#N/A"}}]
[null,"Sygedage",null,{"$f":"IF(D28=\"s\",D27,\"-\")","v":"-"},{"$f":"IF(E28=\"s\",E27,\"-\")","v":"-"},"-","-","-","-","-","-","-","-","-","-","-","-","-","-","-","-","-","-","-","-","-","-","-","-","-","-","-","-","-"]
[null,null,{"$f":"$C$15","v":14},"Timer uge",null,null,{"$f":"SUMIF($D$5:$AH$5,C33,D27:AH27)","v":0},{"$f":"$H$15","v":15},{"$f":"D33","v":"Timer uge"},null,null,null,null,{"$f":"SUMIF($D$5:$AH$5,H33,D27:AH27)","v":0},{"$f":"$O$15","v":16},{"$f":"D33","v":"Timer uge"},null,null,null,null,{"$f":"_xlfn.IFS($O33=$BV26,$BV27,$O33=$BW26,Lønskema!$BW27,$O33=$BX26,$BX27,$O33=$BY26,$BY27,$O33=$BZ26,$BZ27,$O33=$CA26,$CA27,$O33=$CB26,$CB27,$O33=$CC26,$CC27,$O33=$CD26,$CD27,$O33=$CE26,$CE27,$O33=$CF26,$CF27,$O33=$CG26,$CF27,$O33=$CG26,$CG27,$O33=$CH26,$CH27,$O33=$CI26,$CI27,$O33=$CJ26,$CJ27,$O33=$CK26,$CK27,$O33=$CL26,$CL27,$O33=$CM26,$CM27,$O33=$CN26,$CN27,$O33=$CO26,$CO27,$O33=$CP26,$CP27,$O33=$CQ26,$CQ27,$O33=$CR26,$CR27,$O33=$CS26,$CS27,$O33=$CT26,$CT27,$O33=$CU26,$CU27,$O33=$CV26,$CV27,$O33=$CW26,$CW27,$O33=$CX26,$CX27,$O33=$CY26,$CY27,$O33=$CZ26,$CZ27,$O33=$DA26,$DA27,$O33=$DB26,$DB27,$O33=$DC26,$DC27,$O33=$DD26,$DD27,$O33=$DE26,$DE27,$O33=$DF26,$DF27,$O33=$DG26,$DG27,$O33=$DH26,$DH27,$O33=$DI26,$DI27,$O33=$DJ26,$DJ27,$O33=$DK26,$DK27,$O33=$DL26,$DL27,$O33=$DM26,$DM27,$O33=$DN26,$DN27,$O33=$DO26,$DO27,$O33=$DP26,$DP27,$O33=$DQ26,$DQ27,$O33=$DR26,$DR27,$O33=$DS26,$DS27,$O33=$DT26,$DT27,$O33=$DU26,$DU27)","v":0},{"$f":"$V$15","v":17},{"$f":"D33","v":"Timer uge"},null,null,null,null,{"$f":"SUMIF($D$5:$AH$5,V33,D27:AH27)","v":0},{"$f":"$AC$15","v":18},{"$f":"D33","v":"Timer uge"},null,null,null,{"$f":"SUMIF($D$5:$AH$5,AC33,D27:AH27)","v":0},{"$f":"$AI$15","v":19},{"$f":"D33","v":"Timer uge"},null,null,null,{"$f":"SUMIF($D$5:$AH$5,AI33,D27:AH27)","v":0}]
[null,null,null,"Overarbejde 50% 1-3 timer",null,null,{"$f":"IF($G33>37,$G33-37-$G35,0)","v":0},null,{"$f":"D34","v":"Overarbejde 50% 1-3 timer"},null,null,null,null,{"$f":"IF($N33>37,$N33-37-$N35,0)","v":0},null,{"$f":"D34","v":"Overarbejde 50% 1-3 timer"},null,null,null,null,{"$f":"IF($U33>37,$U33-37-$U35,0)","v":0},null,{"$f":"D34","v":"Overarbejde 50% 1-3 timer"},null,null,null,null,{"$f":"IF($AB33>37,$AB33-37-$AB35,0)","v":0},null,{"$f":"D34","v":"Overarbejde 50% 1-3 timer"},null,null,null,{"$f":"IF($AH33>37,$AH33-37-$AH35,0)","v":0},null,{"$f":"D34","v":"Overarbejde 50% 1-3 timer"},null,null,null,{"$f":"IF($AH33>37,$AH33-37-$AH35,0)","v":0}]
[null,null,null,"Overarbejde 100% over 3 timer",null,null,{"$f":"IF($G33>40,$G33-40,0)","v":0},null,"Overarbejde 100% over 3 timer",null,null,null,null,{"$f":"IF($N33>40,$N33-40,0)","v":0},null,"Overarbejde 100% over 3 timer",null,null,null,null,{"$f":"IF($U33>40,$U33-40,0)","v":0},null,"Overarbejde 100% over 3 timer",null,null,null,null,{"$f":"IF($AB33>40,$AB33-40,0)","v":0},null,"Overarbejde 100% over 3 timer",null,null,null,{"$f":"IF($AH33>40,$AH33-40,0)","v":0},null,{"$f":"D35","v":"Overarbejde 100% over 3 timer"},null,null,null,{"$f":"IF($AH33>40,$AH33-40,0)","v":0},null,null,null,null,null,null,null,null,null,null,null,null,null,null,null,null,null,null,null,null,null,null,null,null,null,null,null,null,null,null,null,null,null,1,2,3,4,5,6,7,8,9,10,11,12,13,14,15,16,17,18,19,20,21,22,23,24,25,26,27,28,29,30,31,32,33,34,35,36,37,38,39,40,41,42,43,44,45,46,47,48,49,50,51,52]
[{"$f":"Medarbejder!A6","v":0},{"$f":"Medarbejder!B6","v":0},{"$f":"Medarbejder!C6","v":"Funktionær"},null,null,null,null,null,null,null,null,null,null,null,null,null,null,null,null,null,null,null,null,null,null,null,null,null,null,null,null,null,null,null,null,null,null,null,null,null,null,{"$f":"AO36*Overenskomst!$C$22","v":0},{"$f":"SUM($D36:$AH36)-$BA36-$BF36-$BD36","v":0},{"$f":"IF(Medarbejder!$J6=\"ja\",$AQ36,\"-\")","v":"-"},{"$f":"SUMIF($D$7:$AH$7,\"søndag\",$D36:$AH36)+$AT36","v":0},{"$f":"SUMIFS($D36:$AH36,$D40:$AH40,\"H\")","v":0},{"$f":"G43+N43+U43+AB43+AH43+AN43","v":0},{"$f":"G44+N44+U44+AB44+AH44+AN44","v":0},{"$f":"SUM($D38:$AH38)","v":0},{"$f":"SUM($D39:$AH39)","v":0},{"$f":"COUNTIFS($D37:$AH37,\"F\")","v":0},{"$f":"COUNTIFS($D37:$AH37,\"S\")","v":0},{"$f":"SUMIF($D37:$AH37,\"S\",$D41:$AH41)","v":0},{"$f":"COUNTIFS($D37:$AH37,\"p\")","v":0},{"$f":"COUNTIFS($D37:$AH37,\"BS\")","v":0},{"$f":"SUMIF(D37:AH37,\"bs\",$D36:$AH36)","v":0},{"$f":"COUNTIFS($D37:$AH37,\"FF\")","v":0},{"$f":"SUMIF($D37:$AH37,\"g\",$D36:$AH36)","v":0},{"$f":"Medarbejder!$N6","v":"-"},{"$f":"SUM($BL36:$BU36)","v":4},null,null,null,{"$f":"COUNTIFS($D$6:$AH$6,\"skærtd\")","v":1},{"$f":"COUNTIFS($D$6:$AH$6,\"langfd\")","v":1},{"$f":"COUNTIFS($D$6:$AH$6,\"1påsked\")","v":1},{"$f":"COUNTIFS($D$6:$AH$6,\"2påsked\")","v":1},{"$f":"COUNTIFS($D$6:$AH$6,\"kr.himmelfart\")","v":0},{"$f":"COUNTIFS($D$6:$AH$6,\"1pinse\")","v":0},{"$f":"COUNTIFS($D$6:$AH$6,\"2pinse\")","v":0},{"$f":"COUNTIFS($D$6:$AH$6,\"1juledag\")","v":0},{"$f":"COUNTIFS($D$6:$AH$6,\"2juledag\")","v":0},{"$f":"COUNTIFS($D$6:$AH$6,\"nytårsdag\")","v":0},{"$f":"SUMIFS($D36:$AH36,Lønskema!$D$5:$AH$5,1)","v":0},{"$f":"SUMIFS($D36:$AH36,Lønskema!$D$5:$AH$5,2)","v":0},{"$f":"SUMIFS($D36:$AH36,Lønskema!$D$5:$AH$5,3)","v":0},{"$f":"SUMIFS($D36:$AH36,Lønskema!$D$5:$AH$5,4)","v":0},{"$f":"SUMIFS($D36:$AH36,Lønskema!$D$5:$AH$5,5)","v":0},{"$f":"SUMIFS($D36:$AH36,Lønskema!$D$5:$AH$5,6)","v":0},{"$f":"SUMIFS($D36:$AH36,Lønskema!$D$5:$AH$5,7)","v":0},{"$f":"SUMIFS($D36:$AH36,Lønskema!$D$5:$AH$5,8)","v":0},{"$f":"SUMIFS($D36:$AH36,Lønskema!$D$5:$AH$5,9)","v":0},{"$f":"SUMIFS($D36:$AH36,Lønskema!$D$5:$AH$5,10)","v":0},{"$f":"SUMIFS($D36:$AH36,Lønskema!$D$5:$AH$5,11)","v":0},{"$f":"SUMIFS($D36:$AH36,Lønskema!$D$5:$AH$5,12)","v":0},{"$f":"SUMIFS($D36:$AH36,Lønskema!$D$5:$AH$5,13)","v":0},{"$f":"SUMIFS($D36:$AH36,Lønskema!$D$5:$AH$5,14)","v":0},{"$f":"SUMIFS($D36:$AH36,Lønskema!$D$5:$AH$5,15)","v":0},{"$f":"SUMIFS($D36:$AH36,Lønskema!$D$5:$AH$5,16)","v":0},{"$f":"SUMIFS($D36:$AH36,Lønskema!$D$5:$AH$5,17)","v":0},{"$f":"SUMIFS($D36:$AH36,Lønskema!$D$5:$AH$5,18)","v":0},{"$f":"SUMIFS($D36:$AH36,Lønskema!$D$5:$AH$5,19)","v":0},{"$f":"SUMIFS($D36:$AH36,Lønskema!$D$5:$AH$5,20)","v":0},{"$f":"SUMIFS($D36:$AH36,Lønskema!$D$5:$AH$5,21)","v":0},{"$f":"SUMIFS($D36:$AH36,Lønskema!$D$5:$AH$5,22)","v":0},{"$f":"SUMIFS($D36:$AH36,Lønskema!$D$5:$AH$5,23)","v":0},{"$f":"SUMIFS($D36:$AH36,Lønskema!$D$5:$AH$5,24)","v":0},{"$f":"SUMIFS($D36:$AH36,Lønskema!$D$5:$AH$5,25)","v":0},{"$f":"SUMIFS($D36:$AH36,Lønskema!$D$5:$AH$5,26)","v":0},{"$f":"SUMIFS($D36:$AH36,Lønskema!$D$5:$AH$5,27)","v":0},{"$f":"SUMIFS($D36:$AH36,Lønskema!$D$5:$AH$5,28)","v":0},{"$f":"SUMIFS($D36:$AH36,Lønskema!$D$5:$AH$5,29)","v":0},{"$f":"SUMIFS($D36:$AH36,Lønskema!$D$5:$AH$5,30)","v":0},{"$f":"SUMIFS($D36:$AH36,Lønskema!$D$5:$AH$5,31)","v":0},{"$f":"SUMIFS($D36:$AH36,Lønskema!$D$5:$AH$5,32)","v":0},{"$f":"SUMIFS($D36:$AH36,Lønskema!$D$5:$AH$5,33)","v":0},{"$f":"SUMIFS($D36:$AH36,Lønskema!$D$5:$AH$5,34)","v":0},{"$f":"SUMIFS($D36:$AH36,Lønskema!$D$5:$AH$5,35)","v":0},{"$f":"SUMIFS($D36:$AH36,Lønskema!$D$5:$AH$5,36)","v":0},{"$f":"SUMIFS($D36:$AH36,Lønskema!$D$5:$AH$5,37)","v":0},{"$f":"SUMIFS($D36:$AH36,Lønskema!$D$5:$AH$5,38)","v":0},{"$f":"SUMIFS($D36:$AH36,Lønskema!$D$5:$AH$5,39)","v":0},{"$f":"SUMIFS($D36:$AH36,Lønskema!$D$5:$AH$5,40)","v":0},{"$f":"SUMIFS($D36:$AH36,Lønskema!$D$5:$AH$5,41)","v":0},{"$f":"SUMIFS($D36:$AH36,Lønskema!$D$5:$AH$5,42)","v":0},{"$f":"SUMIFS($D36:$AH36,Lønskema!$D$5:$AH$5,43)","v":0},{"$f":"SUMIFS($D36:$AH36,Lønskema!$D$5:$AH$5,44)","v":0},{"$f":"SUMIFS($D36:$AH36,Lønskema!$D$5:$AH$5,45)","v":0},{"$f":"SUMIFS($D36:$AH36,Lønskema!$D$5:$AH$5,46)","v":0},{"$f":"SUMIFS($D36:$AH36,Lønskema!$D$5:$AH$5,47)","v":0},{"$f":"SUMIFS($D36:$AH36,Lønskema!$D$5:$AH$5,48)","v":0},{"$f":"SUMIFS($D36:$AH36,Lønskema!$D$5:$AH$5,49)","v":0},{"$f":"SUMIFS($D36:$AH36,Lønskema!$D$5:$AH$5,50)","v":0},{"$f":"SUMIFS($D36:$AH36,Lønskema!$D$5:$AH$5,51)","v":0},{"$f":"SUMIFS($D36:$AH36,Lønskema!$D$5:$AH$5,52)","v":0}]
["Ferie - syg  mm. Registreres i denne række"]
[null,"Aften"]
[null,"Nat"]
[null,"Helligdag",null,{"$f":"_xlfn.IFS(D$7=\"søndag\",\"-\",D$6=\"skærtd\",\"h\",D$6=\"langfd\",\"h\",D$6=\"1påsked\",\"h\",D$6=\"2påsked\",\"h\",D$6=\"kr.himmelfart\",\"h\",D$6=\"1pinse\",\"h\",D$6=\"2pinse\",\"h\",D$6=\"1juledag\",\"h\",D$6=\"2juledag\",\"h\",D$6=\"nytårsdag\",\"h\")","v":{"$error":"#N/A"}},{"$f":"_xlfn.IFS(E$7=\"søndag\",\"-\",E$6=\"skærtd\",\"h\",E$6=\"langfd\",\"h\",E$6=\"1påsked\",\"h\",E$6=\"2påsked\",\"h\",E$6=\"kr.himmelfart\",\"h\",E$6=\"1pinse\",\"h\",E$6=\"2pinse\",\"h\",E$6=\"1juledag\",\"h\",E$6=\"2juledag\",\"h\",E$6=\"nytårsdag\",\"h\")","v":{"$error":"#N/A"}},{"$f":"_xlfn.IFS(F$7=\"søndag\",\"-\",F$6=\"skærtd\",\"h\",F$6=\"langfd\",\"h\",F$6=\"1påsked\",\"h\",F$6=\"2påsked\",\"h\",F$6=\"kr.himmelfart\",\"h\",F$6=\"1pinse\",\"h\",F$6=\"2pinse\",\"h\",F$6=\"1juledag\",\"h\",F$6=\"2juledag\",\"h\",F$6=\"nytårsdag\",\"h\")","v":{"$error":"#N/A"}},{"$f":"_xlfn.IFS(G$7=\"søndag\",\"-\",G$6=\"skærtd\",\"h\",G$6=\"langfd\",\"h\",G$6=\"1påsked\",\"h\",G$6=\"2påsked\",\"h\",G$6=\"kr.himmelfart\",\"h\",G$6=\"1pinse\",\"h\",G$6=\"2pinse\",\"h\",G$6=\"1juledag\",\"h\",G$6=\"2juledag\",\"h\",G$6=\"nytårsdag\",\"h\")","v":{"$error":"#N/A"}},{"$f":"_xlfn.IFS(H$7=\"søndag\",\"-\",H$6=\"skærtd\",\"h\",H$6=\"langfd\",\"h\",H$6=\"1påsked\",\"h\",H$6=\"2påsked\",\"h\",H$6=\"kr.himmelfart\",\"h\",H$6=\"1pinse\",\"h\",H$6=\"2pinse\",\"h\",H$6=\"1juledag\",\"h\",H$6=\"2juledag\",\"h\",H$6=\"nytårsdag\",\"h\")","v":{"$error":"#N/A"}},{"$f":"_xlfn.IFS(I$7=\"søndag\",\"-\",I$6=\"skærtd\",\"h\",I$6=\"langfd\",\"h\",I$6=\"1påsked\",\"h\",I$6=\"2påsked\",\"h\",I$6=\"kr.himmelfart\",\"h\",I$6=\"1pinse\",\"h\",I$6=\"2pinse\",\"h\",I$6=\"1juledag\",\"h\",I$6=\"2juledag\",\"h\",I$6=\"nytårsdag\",\"h\")","v":"-"},{"$f":"_xlfn.IFS(J$7=\"søndag\",\"-\",J$6=\"skærtd\",\"h\",J$6=\"langfd\",\"h\",J$6=\"1påsked\",\"h\",J$6=\"2påsked\",\"h\",J$6=\"kr.himmelfart\",\"h\",J$6=\"1pinse\",\"h\",J$6=\"2pinse\",\"h\",J$6=\"1juledag\",\"h\",J$6=\"2juledag\",\"h\",J$6=\"nytårsdag\",\"h\")","v":{"$error":"#N/A"}},{"$f":"_xlfn.IFS(K$7=\"søndag\",\"-\",K$6=\"skærtd\",\"h\",K$6=\"langfd\",\"h\",K$6=\"1påsked\",\"h\",K$6=\"2påsked\",\"h\",K$6=\"kr.himmelfart\",\"h\",K$6=\"1pinse\",\"h\",K$6=\"2pinse\",\"h\",K$6=\"1juledag\",\"h\",K$6=\"2juledag\",\"h\",K$6=\"nytårsdag\",\"h\")","v":{"$error":"#N/A"}},{"$f":"_xlfn.IFS(L$7=\"søndag\",\"-\",L$6=\"skærtd\",\"h\",L$6=\"langfd\",\"h\",L$6=\"1påsked\",\"h\",L$6=\"2påsked\",\"h\",L$6=\"kr.himmelfart\",\"h\",L$6=\"1pinse\",\"h\",L$6=\"2pinse\",\"h\",L$6=\"1juledag\",\"h\",L$6=\"2juledag\",\"h\",L$6=\"nytårsdag\",\"h\")","v":{"$error":"#N/A"}},{"$f":"_xlfn.IFS(M$7=\"søndag\",\"-\",M$6=\"skærtd\",\"h\",M$6=\"langfd\",\"h\",M$6=\"1påsked\",\"h\",M$6=\"2påsked\",\"h\",M$6=\"kr.himmelfart\",\"h\",M$6=\"1pinse\",\"h\",M$6=\"2pinse\",\"h\",M$6=\"1juledag\",\"h\",M$6=\"2juledag\",\"h\",M$6=\"nytårsdag\",\"h\")","v":{"$error":"#N/A"}},{"$f":"_xlfn.IFS(N$7=\"søndag\",\"-\",N$6=\"skærtd\",\"h\",N$6=\"langfd\",\"h\",N$6=\"1påsked\",\"h\",N$6=\"2påsked\",\"h\",N$6=\"kr.himmelfart\",\"h\",N$6=\"1pinse\",\"h\",N$6=\"2pinse\",\"h\",N$6=\"1juledag\",\"h\",N$6=\"2juledag\",\"h\",N$6=\"nytårsdag\",\"h\")","v":{"$error":"#N/A"}},{"$f":"_xlfn.IFS(O$7=\"søndag\",\"-\",O$6=\"skærtd\",\"h\",O$6=\"langfd\",\"h\",O$6=\"1påsked\",\"h\",O$6=\"2påsked\",\"h\",O$6=\"kr.himmelfart\",\"h\",O$6=\"1pinse\",\"h\",O$6=\"2pinse\",\"h\",O$6=\"1juledag\",\"h\",O$6=\"2juledag\",\"h\",O$6=\"nytårsdag\",\"h\")","v":{"$error":"#N/A"}},{"$f":"_xlfn.IFS(P$7=\"søndag\",\"-\",P$6=\"skærtd\",\"h\",P$6=\"langfd\",\"h\",P$6=\"1påsked\",\"h\",P$6=\"2påsked\",\"h\",P$6=\"kr.himmelfart\",\"h\",P$6=\"1pinse\",\"h\",P$6=\"2pinse\",\"h\",P$6=\"1juledag\",\"h\",P$6=\"2juledag\",\"h\",P$6=\"nytårsdag\",\"h\")","v":"-"},{"$f":"_xlfn.IFS(Q$7=\"søndag\",\"-\",Q$6=\"skærtd\",\"h\",Q$6=\"langfd\",\"h\",Q$6=\"1påsked\",\"h\",Q$6=\"2påsked\",\"h\",Q$6=\"kr.himmelfart\",\"h\",Q$6=\"1pinse\",\"h\",Q$6=\"2pinse\",\"h\",Q$6=\"1juledag\",\"h\",Q$6=\"2juledag\",\"h\",Q$6=\"nytårsdag\",\"h\")","v":{"$error":"#N/A"}},{"$f":"_xlfn.IFS(R$7=\"søndag\",\"-\",R$6=\"skærtd\",\"h\",R$6=\"langfd\",\"h\",R$6=\"1påsked\",\"h\",R$6=\"2påsked\",\"h\",R$6=\"kr.himmelfart\",\"h\",R$6=\"1pinse\",\"h\",R$6=\"2pinse\",\"h\",R$6=\"1juledag\",\"h\",R$6=\"2juledag\",\"h\",R$6=\"nytårsdag\",\"h\")","v":{"$error":"#N/A"}},{"$f":"_xlfn.IFS(S$7=\"søndag\",\"-\",S$6=\"skærtd\",\"h\",S$6=\"langfd\",\"h\",S$6=\"1påsked\",\"h\",S$6=\"2påsked\",\"h\",S$6=\"kr.himmelfart\",\"h\",S$6=\"1pinse\",\"h\",S$6=\"2pinse\",\"h\",S$6=\"1juledag\",\"h\",S$6=\"2juledag\",\"h\",S$6=\"nytårsdag\",\"h\")","v":{"$error":"#N/A"}},{"$f":"_xlfn.IFS(T$7=\"søndag\",\"-\",T$6=\"skærtd\",\"h\",T$6=\"langfd\",\"h\",T$6=\"1påsked\",\"h\",T$6=\"2påsked\",\"h\",T$6=\"kr.himmelfart\",\"h\",T$6=\"1pinse\",\"h\",T$6=\"2pinse\",\"h\",T$6=\"1juledag\",\"h\",T$6=\"2juledag\",\"h\",T$6=\"nytårsdag\",\"h\")","v":"h"},{"$f":"_xlfn.IFS(U$7=\"søndag\",\"-\",U$6=\"skærtd\",\"h\",U$6=\"langfd\",\"h\",U$6=\"1påsked\",\"h\",U$6=\"2påsked\",\"h\",U$6=\"kr.himmelfart\",\"h\",U$6=\"1pinse\",\"h\",U$6=\"2pinse\",\"h\",U$6=\"1juledag\",\"h\",U$6=\"2juledag\",\"h\",U$6=\"nytårsdag\",\"h\")","v":"h"},{"$f":"_xlfn.IFS(V$7=\"søndag\",\"-\",V$6=\"skærtd\",\"h\",V$6=\"langfd\",\"h\",V$6=\"1påsked\",\"h\",V$6=\"2påsked\",\"h\",V$6=\"kr.himmelfart\",\"h\",V$6=\"1pinse\",\"h\",V$6=\"2pinse\",\"h\",V$6=\"1juledag\",\"h\",V$6=\"2juledag\",\"h\",V$6=\"nytårsdag\",\"h\")","v":{"$error":"#N/A"}},{"$f":"_xlfn.IFS(W$7=\"søndag\",\"-\",W$6=\"skærtd\",\"h\",W$6=\"langfd\",\"h\",W$6=\"1påsked\",\"h\",W$6=\"2påsked\",\"h\",W$6=\"kr.himmelfart\",\"h\",W$6=\"1pinse\",\"h\",W$6=\"2pinse\",\"h\",W$6=\"1juledag\",\"h\",W$6=\"2juledag\",\"h\",W$6=\"nytårsdag\",\"h\")","v":"-"},{"$f":"_xlfn.IFS(X$7=\"søndag\",\"-\",X$6=\"skærtd\",\"h\",X$6=\"langfd\",\"h\",X$6=\"1påsked\",\"h\",X$6=\"2påsked\",\"h\",X$6=\"kr.himmelfart\",\"h\",X$6=\"1pinse\",\"h\",X$6=\"2pinse\",\"h\",X$6=\"1juledag\",\"h\",X$6=\"2juledag\",\"h\",X$6=\"nytårsdag\",\"h\")","v":"h"},{"$f":"_xlfn.IFS(Y$7=\"søndag\",\"-\",Y$6=\"skærtd\",\"h\",Y$6=\"langfd\",\"h\",Y$6=\"1påsked\",\"h\",Y$6=\"2påsked\",\"h\",Y$6=\"kr.himmelfart\",\"h\",Y$6=\"1pinse\",\"h\",Y$6=\"2pinse\",\"h\",Y$6=\"1juledag\",\"h\",Y$6=\"2juledag\",\"h\",Y$6=\"nytårsdag\",\"h\")","v":{"$error":"#N/A"}},{"$f":"_xlfn.IFS(Z$7=\"søndag\",\"-\",Z$6=\"skærtd\",\"h\",Z$6=\"langfd\",\"h\",Z$6=\"1påsked\",\"h\",Z$6=\"2påsked\",\"h\",Z$6=\"kr.himmelfart\",\"h\",Z$6=\"1pinse\",\"h\",Z$6=\"2pinse\",\"h\",Z$6=\"1juledag\",\"h\",Z$6=\"2juledag\",\"h\",Z$6=\"nytårsdag\",\"h\")","v":{"$error":"#N/A"}},{"$f":"_xlfn.IFS(AA$7=\"søndag\",\"-\",AA$6=\"skærtd\",\"h\",AA$6=\"langfd\",\"h\",AA$6=\"1påsked\",\"h\",AA$6=\"2påsked\",\"h\",AA$6=\"kr.himmelfart\",\"h\",AA$6=\"1pinse\",\"h\",AA$6=\"2pinse\",\"h\",AA$6=\"1juledag\",\"h\",AA$6=\"2juledag\",\"h\",AA$6=\"nytårsdag\",\"h\")","v":{"$error":"#N/A"}},{"$f":"_xlfn.IFS(AB$7=\"søndag\",\"-\",AB$6=\"skærtd\",\"h\",AB$6=\"langfd\",\"h\",AB$6=\"1påsked\",\"h\",AB$6=\"2påsked\",\"h\",AB$6=\"kr.himmelfart\",\"h\",AB$6=\"1pinse\",\"h\",AB$6=\"2pinse\",\"h\",AB$6=\"1juledag\",\"h\",AB$6=\"2juledag\",\"h\",AB$6=\"nytårsdag\",\"h\")","v":{"$error":"#N/A"}},{"$f":"_xlfn.IFS(AC$7=\"søndag\",\"-\",AC$6=\"skærtd\",\"h\",AC$6=\"langfd\",\"h\",AC$6=\"1påsked\",\"h\",AC$6=\"2påsked\",\"h\",AC$6=\"kr.himmelfart\",\"h\",AC$6=\"1pinse\",\"h\",AC$6=\"2pinse\",\"h\",AC$6=\"1juledag\",\"h\",AC$6=\"2juledag\",\"h\",AC$6=\"nytårsdag\",\"h\")","v":{"$error":"#N/A"}},{"$f":"_xlfn.IFS(AD$7=\"søndag\",\"-\",AD$6=\"skærtd\",\"h\",AD$6=\"langfd\",\"h\",AD$6=\"1påsked\",\"h\",AD$6=\"2påsked\",\"h\",AD$6=\"kr.himmelfart\",\"h\",AD$6=\"1pinse\",\"h\",AD$6=\"2pinse\",\"h\",AD$6=\"1juledag\",\"h\",AD$6=\"2juledag\",\"h\",AD$6=\"nytårsdag\",\"h\")","v":"-"},{"$f":"_xlfn.IFS(AE$7=\"søndag\",\"-\",AE$6=\"skærtd\",\"h\",AE$6=\"langfd\",\"h\",AE$6=\"1påsked\",\"h\",AE$6=\"2påsked\",\"h\",AE$6=\"kr.himmelfart\",\"h\",AE$6=\"1pinse\",\"h\",AE$6=\"2pinse\",\"h\",AE$6=\"1juledag\",\"h\",AE$6=\"2juledag\",\"h\",AE$6=\"nytårsdag\",\"h\")","v":{"$error":"#N/A"}},{"$f":"_xlfn.IFS(AF$7=\"søndag\",\"-\",AF$6=\"skærtd\",\"h\",AF$6=\"langfd\",\"h\",AF$6=\"1påsked\",\"h\",AF$6=\"2påsked\",\"h\",AF$6=\"kr.himmelfart\",\"h\",AF$6=\"1pinse\",\"h\",AF$6=\"2pinse\",\"h\",AF$6=\"1juledag\",\"h\",AF$6=\"2juledag\",\"h\",AF$6=\"nytårsdag\",\"h\")","v":{"$error":"#N/A"}},{"$f":"_xlfn.IFS(AG$7=\"søndag\",\"-\",AG$6=\"skærtd\",\"h\",AG$6=\"langfd\",\"h\",AG$6=\"1påsked\",\"h\",AG$6=\"2påsked\",\"h\",AG$6=\"kr.himmelfart\",\"h\",AG$6=\"1pinse\",\"h\",AG$6=\"2pinse\",\"h\",AG$6=\"1juledag\",\"h\",AG$6=\"2juledag\",\"h\",AG$6=\"nytårsdag\",\"h\")","v":{"$error":"#N/A"}},{"$f":"_xlfn.IFS(AH$7=\"søndag\",\"-\",AH$6=\"skærtd\",\"h\",AH$6=\"langfd\",\"h\",AH$6=\"1påsked\",\"h\",AH$6=\"2påsked\",\"h\",AH$6=\"kr.himmelfart\",\"h\",AH$6=\"1pinse\",\"h\",AH$6=\"2pinse\",\"h\",AH$6=\"1juledag\",\"h\",AH$6=\"2juledag\",\"h\",AH$6=\"nytårsdag\",\"h\")","v":{"$error":"#N/A"}}]
[null,"Sygedage",null,{"$f":"IF(D37=\"s\",D36,\"-\")","v":"-"},{"$f":"IF(E37=\"s\",E36,\"-\")","v":"-"},"-","-","-","-","-","-","-","-","-","-","-","-","-","-","-","-","-","-","-","-","-","-","-","-","-","-","-","-","-"]
[null,null,{"$f":"$C$15","v":14},"Timer uge",null,null,{"$f":"SUMIF($D$5:$AH$5,C42,D36:AH36)","v":0},{"$f":"$H$15","v":15},{"$f":"D42","v":"Timer uge"},null,null,null,null,{"$f":"SUMIF($D$5:$AH$5,H42,D36:AH36)","v":0},{"$f":"$O$15","v":16},{"$f":"D42","v":"Timer uge"},null,null,null,null,{"$f":"_xlfn.IFS($O42=$BV35,$BV36,$O42=$BW35,Lønskema!$BW36,$O42=$BX35,$BX36,$O42=$BY35,$BY36,$O42=$BZ35,$BZ36,$O42=$CA35,$CA36,$O42=$CB35,$CB36,$O42=$CC35,$CC36,$O42=$CD35,$CD36,$O42=$CE35,$CE36,$O42=$CF35,$CF36,$O42=$CG35,$CF36,$O42=$CG35,$CG36,$O42=$CH35,$CH36,$O42=$CI35,$CI36,$O42=$CJ35,$CJ36,$O42=$CK35,$CK36,$O42=$CL35,$CL36,$O42=$CM35,$CM36,$O42=$CN35,$CN36,$O42=$CO35,$CO36,$O42=$CP35,$CP36,$O42=$CQ35,$CQ36,$O42=$CR35,$CR36,$O42=$CS35,$CS36,$O42=$CT35,$CT36,$O42=$CU35,$CU36,$O42=$CV35,$CV36,$O42=$CW35,$CW36,$O42=$CX35,$CX36,$O42=$CY35,$CY36,$O42=$CZ35,$CZ36,$O42=$DA35,$DA36,$O42=$DB35,$DB36,$O42=$DC35,$DC36,$O42=$DD35,$DD36,$O42=$DE35,$DE36,$O42=$DF35,$DF36,$O42=$DG35,$DG36,$O42=$DH35,$DH36,$O42=$DI35,$DI36,$O42=$DJ35,$DJ36,$O42=$DK35,$DK36,$O42=$DL35,$DL36,$O42=$DM35,$DM36,$O42=$DN35,$DN36,$O42=$DO35,$DO36,$O42=$DP35,$DP36,$O42=$DQ35,$DQ36,$O42=$DR35,$DR36,$O42=$DS35,$DS36,$O42=$DT35,$DT36,$O42=$DU35,$DU36)","v":0},{"$f":"$V$15","v":17},{"$f":"D42","v":"Timer uge"},null,null,null,null,{"$f":"SUMIF($D$5:$AH$5,V42,D36:AH36)","v":0},{"$f":"$AC$15","v":18},{"$f":"D42","v":"Timer uge"},null,null,null,{"$f":"SUMIF($D$5:$AH$5,AC42,D36:AH36)","v":0},{"$f":"$AI$15","v":19},{"$f":"D42","v":"Timer uge"},null,null,null,{"$f":"SUMIF($D$5:$AH$5,AI42,D36:AH36)","v":0}]
[null,null,null,"Overarbejde 50% 1-3 timer",null,null,{"$f":"IF($G42>37,$G42-37-$G44,0)","v":0},null,{"$f":"D43","v":"Overarbejde 50% 1-3 timer"},null,null,null,null,{"$f":"IF($N42>37,$N42-37-$N44,0)","v":0},null,{"$f":"D43","v":"Overarbejde 50% 1-3 timer"},null,null,null,null,{"$f":"IF($U42>37,$U42-37-$U44,0)","v":0},null,{"$f":"D43","v":"Overarbejde 50% 1-3 timer"},null,null,null,null,{"$f":"IF($AB42>37,$AB42-37-$AB44,0)","v":0},null,{"$f":"D43","v":"Overarbejde 50% 1-3 timer"},null,null,null,{"$f":"IF($AH42>37,$AH42-37-$AH44,0)","v":0},null,{"$f":"D43","v":"Overarbejde 50% 1-3 timer"},null,null,null,{"$f":"IF($AH42>37,$AH42-37-$AH44,0)","v":0}]
[null,null,null,"Overarbejde 100% over 3 timer",null,null,{"$f":"IF($G42>40,$G42-40,0)","v":0},null,"Overarbejde 100% over 3 timer",null,null,null,null,{"$f":"IF($N42>40,$N42-40,0)","v":0},null,"Overarbejde 100% over 3 timer",null,null,null,null,{"$f":"IF($U42>40,$U42-40,0)","v":0},null,"Overarbejde 100% over 3 timer",null,null,null,null,{"$f":"IF($AB42>40,$AB42-40,0)","v":0},null,"Overarbejde 100% over 3 timer",null,null,null,{"$f":"IF($AH42>40,$AH42-40,0)","v":0},null,{"$f":"D44","v":"Overarbejde 100% over 3 timer"},null,null,null,{"$f":"IF($AH42>40,$AH42-40,0)","v":0},null,null,null,null,null,null,null,null,null,null,null,null,null,null,null,null,null,null,null,null,null,null,null,null,null,null,null,null,null,null,null,null,null,1,2,3,4,5,6,7,8,9,10,11,12,13,14,15,16,17,18,19,20,21,22,23,24,25,26,27,28,29,30,31,32,33,34,35,36,37,38,39,40,41,42,43,44,45,46,47,48,49,50,51,52]
[{"$f":"Medarbejder!A7","v":0},{"$f":"Medarbejder!B7","v":0},{"$f":"Medarbejder!C7","v":"Stopper"},null,null,null,null,null,null,null,null,null,null,null,null,null,null,null,null,null,null,null,null,null,null,null,null,null,null,null,null,null,null,null,null,null,null,null,null,null,null,{"$f":"AO45*Overenskomst!$C$22","v":0},{"$f":"SUM($D45:$AH45)-$BA45-$BF45-$BD45","v":0},{"$f":"IF(Medarbejder!$J7=\"ja\",$AQ45,\"-\")","v":"-"},{"$f":"SUMIF($D$7:$AH$7,\"søndag\",$D45:$AH45)+$AT45","v":0},{"$f":"SUMIFS($D45:$AH45,$D49:$AH49,\"H\")","v":0},{"$f":"G52+N52+U52+AB52+AH52+AN52","v":0},{"$f":"G53+N53+U53+AB53+AH53+AN53","v":0},{"$f":"SUM($D47:$AH47)","v":0},{"$f":"SUM($D48:$AH48)","v":0},{"$f":"COUNTIFS($D46:$AH46,\"F\")","v":0},{"$f":"COUNTIFS($D46:$AH46,\"S\")","v":0},{"$f":"SUMIF($D46:$AH46,\"S\",$D50:$AH50)","v":0},{"$f":"COUNTIFS($D46:$AH46,\"p\")","v":0},{"$f":"COUNTIFS($D46:$AH46,\"BS\")","v":0},{"$f":"SUMIF(D46:AH46,\"bs\",$D45:$AH45)","v":0},{"$f":"COUNTIFS($D46:$AH46,\"FF\")","v":0},{"$f":"SUMIF($D46:$AH46,\"g\",$D45:$AH45)","v":0},{"$f":"Medarbejder!$N7","v":"-"},{"$f":"SUM($BL45:$BU45)","v":4},null,null,null,{"$f":"COUNTIFS($D$6:$AH$6,\"skærtd\")","v":1},{"$f":"COUNTIFS($D$6:$AH$6,\"langfd\")","v":1},{"$f":"COUNTIFS($D$6:$AH$6,\"1påsked\")","v":1},{"$f":"COUNTIFS($D$6:$AH$6,\"2påsked\")","v":1},{"$f":"COUNTIFS($D$6:$AH$6,\"kr.himmelfart\")","v":0},{"$f":"COUNTIFS($D$6:$AH$6,\"1pinse\")","v":0},{"$f":"COUNTIFS($D$6:$AH$6,\"2pinse\")","v":0},{"$f":"COUNTIFS($D$6:$AH$6,\"1juledag\")","v":0},{"$f":"COUNTIFS($D$6:$AH$6,\"2juledag\")","v":0},{"$f":"COUNTIFS($D$6:$AH$6,\"nytårsdag\")","v":0},{"$f":"SUMIFS($D45:$AH45,Lønskema!$D$5:$AH$5,1)","v":0},{"$f":"SUMIFS($D45:$AH45,Lønskema!$D$5:$AH$5,2)","v":0},{"$f":"SUMIFS($D45:$AH45,Lønskema!$D$5:$AH$5,3)","v":0},{"$f":"SUMIFS($D45:$AH45,Lønskema!$D$5:$AH$5,4)","v":0},{"$f":"SUMIFS($D45:$AH45,Lønskema!$D$5:$AH$5,5)","v":0},{"$f":"SUMIFS($D45:$AH45,Lønskema!$D$5:$AH$5,6)","v":0},{"$f":"SUMIFS($D45:$AH45,Lønskema!$D$5:$AH$5,7)","v":0},{"$f":"SUMIFS($D45:$AH45,Lønskema!$D$5:$AH$5,8)","v":0},{"$f":"SUMIFS($D45:$AH45,Lønskema!$D$5:$AH$5,9)","v":0},{"$f":"SUMIFS($D45:$AH45,Lønskema!$D$5:$AH$5,10)","v":0},{"$f":"SUMIFS($D45:$AH45,Lønskema!$D$5:$AH$5,11)","v":0},{"$f":"SUMIFS($D45:$AH45,Lønskema!$D$5:$AH$5,12)","v":0},{"$f":"SUMIFS($D45:$AH45,Lønskema!$D$5:$AH$5,13)","v":0},{"$f":"SUMIFS($D45:$AH45,Lønskema!$D$5:$AH$5,14)","v":0},{"$f":"SUMIFS($D45:$AH45,Lønskema!$D$5:$AH$5,15)","v":0},{"$f":"SUMIFS($D45:$AH45,Lønskema!$D$5:$AH$5,16)","v":0},{"$f":"SUMIFS($D45:$AH45,Lønskema!$D$5:$AH$5,17)","v":0},{"$f":"SUMIFS($D45:$AH45,Lønskema!$D$5:$AH$5,18)","v":0},{"$f":"SUMIFS($D45:$AH45,Lønskema!$D$5:$AH$5,19)","v":0},{"$f":"SUMIFS($D45:$AH45,Lønskema!$D$5:$AH$5,20)","v":0},{"$f":"SUMIFS($D45:$AH45,Lønskema!$D$5:$AH$5,21)","v":0},{"$f":"SUMIFS($D45:$AH45,Lønskema!$D$5:$AH$5,22)","v":0},{"$f":"SUMIFS($D45:$AH45,Lønskema!$D$5:$AH$5,23)","v":0},{"$f":"SUMIFS($D45:$AH45,Lønskema!$D$5:$AH$5,24)","v":0},{"$f":"SUMIFS($D45:$AH45,Lønskema!$D$5:$AH$5,25)","v":0},{"$f":"SUMIFS($D45:$AH45,Lønskema!$D$5:$AH$5,26)","v":0},{"$f":"SUMIFS($D45:$AH45,Lønskema!$D$5:$AH$5,27)","v":0},{"$f":"SUMIFS($D45:$AH45,Lønskema!$D$5:$AH$5,28)","v":0},{"$f":"SUMIFS($D45:$AH45,Lønskema!$D$5:$AH$5,29)","v":0},{"$f":"SUMIFS($D45:$AH45,Lønskema!$D$5:$AH$5,30)","v":0},{"$f":"SUMIFS($D45:$AH45,Lønskema!$D$5:$AH$5,31)","v":0},{"$f":"SUMIFS($D45:$AH45,Lønskema!$D$5:$AH$5,32)","v":0},{"$f":"SUMIFS($D45:$AH45,Lønskema!$D$5:$AH$5,33)","v":0},{"$f":"SUMIFS($D45:$AH45,Lønskema!$D$5:$AH$5,34)","v":0},{"$f":"SUMIFS($D45:$AH45,Lønskema!$D$5:$AH$5,35)","v":0},{"$f":"SUMIFS($D45:$AH45,Lønskema!$D$5:$AH$5,36)","v":0},{"$f":"SUMIFS($D45:$AH45,Lønskema!$D$5:$AH$5,37)","v":0},{"$f":"SUMIFS($D45:$AH45,Lønskema!$D$5:$AH$5,38)","v":0},{"$f":"SUMIFS($D45:$AH45,Lønskema!$D$5:$AH$5,39)","v":0},{"$f":"SUMIFS($D45:$AH45,Lønskema!$D$5:$AH$5,40)","v":0},{"$f":"SUMIFS($D45:$AH45,Lønskema!$D$5:$AH$5,41)","v":0},{"$f":"SUMIFS($D45:$AH45,Lønskema!$D$5:$AH$5,42)","v":0},{"$f":"SUMIFS($D45:$AH45,Lønskema!$D$5:$AH$5,43)","v":0},{"$f":"SUMIFS($D45:$AH45,Lønskema!$D$5:$AH$5,44)","v":0},{"$f":"SUMIFS($D45:$AH45,Lønskema!$D$5:$AH$5,45)","v":0},{"$f":"SUMIFS($D45:$AH45,Lønskema!$D$5:$AH$5,46)","v":0},{"$f":"SUMIFS($D45:$AH45,Lønskema!$D$5:$AH$5,47)","v":0},{"$f":"SUMIFS($D45:$AH45,Lønskema!$D$5:$AH$5,48)","v":0},{"$f":"SUMIFS($D45:$AH45,Lønskema!$D$5:$AH$5,49)","v":0},{"$f":"SUMIFS($D45:$AH45,Lønskema!$D$5:$AH$5,50)","v":0},{"$f":"SUMIFS($D45:$AH45,Lønskema!$D$5:$AH$5,51)","v":0},{"$f":"SUMIFS($D45:$AH45,Lønskema!$D$5:$AH$5,52)","v":0}]
["Ferie - syg  mm. Registreres i denne række"]
[null,"Aften"]
[null,"Nat"]
[null,"Helligdag",null,{"$f":"_xlfn.IFS(D$7=\"søndag\",\"-\",D$6=\"skærtd\",\"h\",D$6=\"langfd\",\"h\",D$6=\"1påsked\",\"h\",D$6=\"2påsked\",\"h\",D$6=\"kr.himmelfart\",\"h\",D$6=\"1pinse\",\"h\",D$6=\"2pinse\",\"h\",D$6=\"1juledag\",\"h\",D$6=\"2juledag\",\"h\",D$6=\"nytårsdag\",\"h\")","v":{"$error":"#N/A"}},{"$f":"_xlfn.IFS(E$7=\"søndag\",\"-\",E$6=\"skærtd\",\"h\",E$6=\"langfd\",\"h\",E$6=\"1påsked\",\"h\",E$6=\"2påsked\",\"h\",E$6=\"kr.himmelfart\",\"h\",E$6=\"1pinse\",\"h\",E$6=\"2pinse\",\"h\",E$6=\"1juledag\",\"h\",E$6=\"2juledag\",\"h\",E$6=\"nytårsdag\",\"h\")","v":{"$error":"#N/A"}},{"$f":"_xlfn.IFS(F$7=\"søndag\",\"-\",F$6=\"skærtd\",\"h\",F$6=\"langfd\",\"h\",F$6=\"1påsked\",\"h\",F$6=\"2påsked\",\"h\",F$6=\"kr.himmelfart\",\"h\",F$6=\"1pinse\",\"h\",F$6=\"2pinse\",\"h\",F$6=\"1juledag\",\"h\",F$6=\"2juledag\",\"h\",F$6=\"nytårsdag\",\"h\")","v":{"$error":"#N/A"}},{"$f":"_xlfn.IFS(G$7=\"søndag\",\"-\",G$6=\"skærtd\",\"h\",G$6=\"langfd\",\"h\",G$6=\"1påsked\",\"h\",G$6=\"2påsked\",\"h\",G$6=\"kr.himmelfart\",\"h\",G$6=\"1pinse\",\"h\",G$6=\"2pinse\",\"h\",G$6=\"1juledag\",\"h\",G$6=\"2juledag\",\"h\",G$6=\"nytårsdag\",\"h\")","v":{"$error":"#N/A"}},{"$f":"_xlfn.IFS(H$7=\"søndag\",\"-\",H$6=\"skærtd\",\"h\",H$6=\"langfd\",\"h\",H$6=\"1påsked\",\"h\",H$6=\"2påsked\",\"h\",H$6=\"kr.himmelfart\",\"h\",H$6=\"1pinse\",\"h\",H$6=\"2pinse\",\"h\",H$6=\"1juledag\",\"h\",H$6=\"2juledag\",\"h\",H$6=\"nytårsdag\",\"h\")","v":{"$error":"#N/A"}},{"$f":"_xlfn.IFS(I$7=\"søndag\",\"-\",I$6=\"skærtd\",\"h\",I$6=\"langfd\",\"h\",I$6=\"1påsked\",\"h\",I$6=\"2påsked\",\"h\",I$6=\"kr.himmelfart\",\"h\",I$6=\"1pinse\",\"h\",I$6=\"2pinse\",\"h\",I$6=\"1juledag\",\"h\",I$6=\"2juledag\",\"h\",I$6=\"nytårsdag\",\"h\")","v":"-"},{"$f":"_xlfn.IFS(J$7=\"søndag\",\"-\",J$6=\"skærtd\",\"h\",J$6=\"langfd\",\"h\",J$6=\"1påsked\",\"h\",J$6=\"2påsked\",\"h\",J$6=\"kr.himmelfart\",\"h\",J$6=\"1pinse\",\"h\",J$6=\"2pinse\",\"h\",J$6=\"1juledag\",\"h\",J$6=\"2juledag\",\"h\",J$6=\"nytårsdag\",\"h\")","v":{"$error":"#N/A"}},{"$f":"_xlfn.IFS(K$7=\"søndag\",\"-\",K$6=\"skærtd\",\"h\",K$6=\"langfd\",\"h\",K$6=\"1påsked\",\"h\",K$6=\"2påsked\",\"h\",K$6=\"kr.himmelfart\",\"h\",K$6=\"1pinse\",\"h\",K$6=\"2pinse\",\"h\",K$6=\"1juledag\",\"h\",K$6=\"2juledag\",\"h\",K$6=\"nytårsdag\",\"h\")","v":{"$error":"#N/A"}},{"$f":"_xlfn.IFS(L$7=\"søndag\",\"-\",L$6=\"skærtd\",\"h\",L$6=\"langfd\",\"h\",L$6=\"1påsked\",\"h\",L$6=\"2påsked\",\"h\",L$6=\"kr.himmelfart\",\"h\",L$6=\"1pinse\",\"h\",L$6=\"2pinse\",\"h\",L$6=\"1juledag\",\"h\",L$6=\"2juledag\",\"h\",L$6=\"nytårsdag\",\"h\")","v":{"$error":"#N/A"}},{"$f":"_xlfn.IFS(M$7=\"søndag\",\"-\",M$6=\"skærtd\",\"h\",M$6=\"langfd\",\"h\",M$6=\"1påsked\",\"h\",M$6=\"2påsked\",\"h\",M$6=\"kr.himmelfart\",\"h\",M$6=\"1pinse\",\"h\",M$6=\"2pinse\",\"h\",M$6=\"1juledag\",\"h\",M$6=\"2juledag\",\"h\",M$6=\"nytårsdag\",\"h\")","v":{"$error":"#N/A"}},{"$f":"_xlfn.IFS(N$7=\"søndag\",\"-\",N$6=\"skærtd\",\"h\",N$6=\"langfd\",\"h\",N$6=\"1påsked\",\"h\",N$6=\"2påsked\",\"h\",N$6=\"kr.himmelfart\",\"h\",N$6=\"1pinse\",\"h\",N$6=\"2pinse\",\"h\",N$6=\"1juledag\",\"h\",N$6=\"2juledag\",\"h\",N$6=\"nytårsdag\",\"h\")","v":{"$error":"#N/A"}},{"$f":"_xlfn.IFS(O$7=\"søndag\",\"-\",O$6=\"skærtd\",\"h\",O$6=\"langfd\",\"h\",O$6=\"1påsked\",\"h\",O$6=\"2påsked\",\"h\",O$6=\"kr.himmelfart\",\"h\",O$6=\"1pinse\",\"h\",O$6=\"2pinse\",\"h\",O$6=\"1juledag\",\"h\",O$6=\"2juledag\",\"h\",O$6=\"nytårsdag\",\"h\")","v":{"$error":"#N/A"}},{"$f":"_xlfn.IFS(P$7=\"søndag\",\"-\",P$6=\"skærtd\",\"h\",P$6=\"langfd\",\"h\",P$6=\"1påsked\",\"h\",P$6=\"2påsked\",\"h\",P$6=\"kr.himmelfart\",\"h\",P$6=\"1pinse\",\"h\",P$6=\"2pinse\",\"h\",P$6=\"1juledag\",\"h\",P$6=\"2juledag\",\"h\",P$6=\"nytårsdag\",\"h\")","v":"-"},{"$f":"_xlfn.IFS(Q$7=\"søndag\",\"-\",Q$6=\"skærtd\",\"h\",Q$6=\"langfd\",\"h\",Q$6=\"1påsked\",\"h\",Q$6=\"2påsked\",\"h\",Q$6=\"kr.himmelfart\",\"h\",Q$6=\"1pinse\",\"h\",Q$6=\"2pinse\",\"h\",Q$6=\"1juledag\",\"h\",Q$6=\"2juledag\",\"h\",Q$6=\"nytårsdag\",\"h\")","v":{"$error":"#N/A"}},{"$f":"_xlfn.IFS(R$7=\"søndag\",\"-\",R$6=\"skærtd\",\"h\",R$6=\"langfd\",\"h\",R$6=\"1påsked\",\"h\",R$6=\"2påsked\",\"h\",R$6=\"kr.himmelfart\",\"h\",R$6=\"1pinse\",\"h\",R$6=\"2pinse\",\"h\",R$6=\"1juledag\",\"h\",R$6=\"2juledag\",\"h\",R$6=\"nytårsdag\",\"h\")","v":{"$error":"#N/A"}},{"$f":"_xlfn.IFS(S$7=\"søndag\",\"-\",S$6=\"skærtd\",\"h\",S$6=\"langfd\",\"h\",S$6=\"1påsked\",\"h\",S$6=\"2påsked\",\"h\",S$6=\"kr.himmelfart\",\"h\",S$6=\"1pinse\",\"h\",S$6=\"2pinse\",\"h\",S$6=\"1juledag\",\"h\",S$6=\"2juledag\",\"h\",S$6=\"nytårsdag\",\"h\")","v":{"$error":"#N/A"}},{"$f":"_xlfn.IFS(T$7=\"søndag\",\"-\",T$6=\"skærtd\",\"h\",T$6=\"langfd\",\"h\",T$6=\"1påsked\",\"h\",T$6=\"2påsked\",\"h\",T$6=\"kr.himmelfart\",\"h\",T$6=\"1pinse\",\"h\",T$6=\"2pinse\",\"h\",T$6=\"1juledag\",\"h\",T$6=\"2juledag\",\"h\",T$6=\"nytårsdag\",\"h\")","v":"h"},{"$f":"_xlfn.IFS(U$7=\"søndag\",\"-\",U$6=\"skærtd\",\"h\",U$6=\"langfd\",\"h\",U$6=\"1påsked\",\"h\",U$6=\"2påsked\",\"h\",U$6=\"kr.himmelfart\",\"h\",U$6=\"1pinse\",\"h\",U$6=\"2pinse\",\"h\",U$6=\"1juledag\",\"h\",U$6=\"2juledag\",\"h\",U$6=\"nytårsdag\",\"h\")","v":"h"},{"$f":"_xlfn.IFS(V$7=\"søndag\",\"-\",V$6=\"skærtd\",\"h\",V$6=\"langfd\",\"h\",V$6=\"1påsked\",\"h\",V$6=\"2påsked\",\"h\",V$6=\"kr.himmelfart\",\"h\",V$6=\"1pinse\",\"h\",V$6=\"2pinse\",\"h\",V$6=\"1juledag\",\"h\",V$6=\"2juledag\",\"h\",V$6=\"nytårsdag\",\"h\")","v":{"$error":"#N/A"}},{"$f":"_xlfn.IFS(W$7=\"søndag\",\"-\",W$6=\"skærtd\",\"h\",W$6=\"langfd\",\"h\",W$6=\"1påsked\",\"h\",W$6=\"2påsked\",\"h\",W$6=\"kr.himmelfart\",\"h\",W$6=\"1pinse\",\"h\",W$6=\"2pinse\",\"h\",W$6=\"1juledag\",\"h\",W$6=\"2juledag\",\"h\",W$6=\"nytårsdag\",\"h\")","v":"-"},{"$f":"_xlfn.IFS(X$7=\"søndag\",\"-\",X$6=\"skærtd\",\"h\",X$6=\"langfd\",\"h\",X$6=\"1påsked\",\"h\",X$6=\"2påsked\",\"h\",X$6=\"kr.himmelfart\",\"h\",X$6=\"1pinse\",\"h\",X$6=\"2pinse\",\"h\",X$6=\"1juledag\",\"h\",X$6=\"2juledag\",\"h\",X$6=\"nytårsdag\",\"h\")","v":"h"},{"$f":"_xlfn.IFS(Y$7=\"søndag\",\"-\",Y$6=\"skærtd\",\"h\",Y$6=\"langfd\",\"h\",Y$6=\"1påsked\",\"h\",Y$6=\"2påsked\",\"h\",Y$6=\"kr.himmelfart\",\"h\",Y$6=\"1pinse\",\"h\",Y$6=\"2pinse\",\"h\",Y$6=\"1juledag\",\"h\",Y$6=\"2juledag\",\"h\",Y$6=\"nytårsdag\",\"h\")","v":{"$error":"#N/A"}},{"$f":"_xlfn.IFS(Z$7=\"søndag\",\"-\",Z$6=\"skærtd\",\"h\",Z$6=\"langfd\",\"h\",Z$6=\"1påsked\",\"h\",Z$6=\"2påsked\",\"h\",Z$6=\"kr.himmelfart\",\"h\",Z$6=\"1pinse\",\"h\",Z$6=\"2pinse\",\"h\",Z$6=\"1juledag\",\"h\",Z$6=\"2juledag\",\"h\",Z$6=\"nytårsdag\",\"h\")","v":{"$error":"#N/A"}},{"$f":"_xlfn.IFS(AA$7=\"søndag\",\"-\",AA$6=\"skærtd\",\"h\",AA$6=\"langfd\",\"h\",AA$6=\"1påsked\",\"h\",AA$6=\"2påsked\",\"h\",AA$6=\"kr.himmelfart\",\"h\",AA$6=\"1pinse\",\"h\",AA$6=\"2pinse\",\"h\",AA$6=\"1juledag\",\"h\",AA$6=\"2juledag\",\"h\",AA$6=\"nytårsdag\",\"h\")","v":{"$error":"#N/A"}},{"$f":"_xlfn.IFS(AB$7=\"søndag\",\"-\",AB$6=\"skærtd\",\"h\",AB$6=\"langfd\",\"h\",AB$6=\"1påsked\",\"h\",AB$6=\"2påsked\",\"h\",AB$6=\"kr.himmelfart\",\"h\",AB$6=\"1pinse\",\"h\",AB$6=\"2pinse\",\"h\",AB$6=\"1juledag\",\"h\",AB$6=\"2juledag\",\"h\",AB$6=\"nytårsdag\",\"h\")","v":{"$error":"#N/A"}},{"$f":"_xlfn.IFS(AC$7=\"søndag\",\"-\",AC$6=\"skærtd\",\"h\",AC$6=\"langfd\",\"h\",AC$6=\"1påsked\",\"h\",AC$6=\"2påsked\",\"h\",AC$6=\"kr.himmelfart\",\"h\",AC$6=\"1pinse\",\"h\",AC$6=\"2pinse\",\"h\",AC$6=\"1juledag\",\"h\",AC$6=\"2juledag\",\"h\",AC$6=\"nytårsdag\",\"h\")","v":{"$error":"#N/A"}},{"$f":"_xlfn.IFS(AD$7=\"søndag\",\"-\",AD$6=\"skærtd\",\"h\",AD$6=\"langfd\",\"h\",AD$6=\"1påsked\",\"h\",AD$6=\"2påsked\",\"h\",AD$6=\"kr.himmelfart\",\"h\",AD$6=\"1pinse\",\"h\",AD$6=\"2pinse\",\"h\",AD$6=\"1juledag\",\"h\",AD$6=\"2juledag\",\"h\",AD$6=\"nytårsdag\",\"h\")","v":"-"},{"$f":"_xlfn.IFS(AE$7=\"søndag\",\"-\",AE$6=\"skærtd\",\"h\",AE$6=\"langfd\",\"h\",AE$6=\"1påsked\",\"h\",AE$6=\"2påsked\",\"h\",AE$6=\"kr.himmelfart\",\"h\",AE$6=\"1pinse\",\"h\",AE$6=\"2pinse\",\"h\",AE$6=\"1juledag\",\"h\",AE$6=\"2juledag\",\"h\",AE$6=\"nytårsdag\",\"h\")","v":{"$error":"#N/A"}},{"$f":"_xlfn.IFS(AF$7=\"søndag\",\"-\",AF$6=\"skærtd\",\"h\",AF$6=\"langfd\",\"h\",AF$6=\"1påsked\",\"h\",AF$6=\"2påsked\",\"h\",AF$6=\"kr.himmelfart\",\"h\",AF$6=\"1pinse\",\"h\",AF$6=\"2pinse\",\"h\",AF$6=\"1juledag\",\"h\",AF$6=\"2juledag\",\"h\",AF$6=\"nytårsdag\",\"h\")","v":{"$error":"#N/A"}},{"$f":"_xlfn.IFS(AG$7=\"søndag\",\"-\",AG$6=\"skærtd\",\"h\",AG$6=\"langfd\",\"h\",AG$6=\"1påsked\",\"h\",AG$6=\"2påsked\",\"h\",AG$6=\"kr.himmelfart\",\"h\",AG$6=\"1pinse\",\"h\",AG$6=\"2pinse\",\"h\",AG$6=\"1juledag\",\"h\",AG$6=\"2juledag\",\"h\",AG$6=\"nytårsdag\",\"h\")","v":{"$error":"#N/A"}},{"$f":"_xlfn.IFS(AH$7=\"søndag\",\"-\",AH$6=\"skærtd\",\"h\",AH$6=\"langfd\",\"h\",AH$6=\"1påsked\",\"h\",AH$6=\"2påsked\",\"h\",AH$6=\"kr.himmelfart\",\"h\",AH$6=\"1pinse\",\"h\",AH$6=\"2pinse\",\"h\",AH$6=\"1juledag\",\"h\",AH$6=\"2juledag\",\"h\",AH$6=\"nytårsdag\",\"h\")","v":{"$error":"#N/A"}}]
[null,"Sygedage",null,{"$f":"IF(D46=\"s\",D45,\"-\")","v":"-"},{"$f":"IF(E46=\"s\",E45,\"-\")","v":"-"},"-","-","-","-","-","-","-","-","-","-","-","-","-","-","-","-","-","-","-","-","-","-","-","-","-","-","-","-","-"]
[null,null,{"$f":"$C$15","v":14},"Timer uge",null,null,{"$f":"SUMIF($D$5:$AH$5,C51,D45:AH45)","v":0},{"$f":"$H$15","v":15},{"$f":"D51","v":"Timer uge"},null,null,null,null,{"$f":"SUMIF($D$5:$AH$5,H51,D45:AH45)","v":0},{"$f":"$O$15","v":16},{"$f":"D51","v":"Timer uge"},null,null,null,null,{"$f":"_xlfn.IFS($O51=$BV44,$BV45,$O51=$BW44,Lønskema!$BW45,$O51=$BX44,$BX45,$O51=$BY44,$BY45,$O51=$BZ44,$BZ45,$O51=$CA44,$CA45,$O51=$CB44,$CB45,$O51=$CC44,$CC45,$O51=$CD44,$CD45,$O51=$CE44,$CE45,$O51=$CF44,$CF45,$O51=$CG44,$CF45,$O51=$CG44,$CG45,$O51=$CH44,$CH45,$O51=$CI44,$CI45,$O51=$CJ44,$CJ45,$O51=$CK44,$CK45,$O51=$CL44,$CL45,$O51=$CM44,$CM45,$O51=$CN44,$CN45,$O51=$CO44,$CO45,$O51=$CP44,$CP45,$O51=$CQ44,$CQ45,$O51=$CR44,$CR45,$O51=$CS44,$CS45,$O51=$CT44,$CT45,$O51=$CU44,$CU45,$O51=$CV44,$CV45,$O51=$CW44,$CW45,$O51=$CX44,$CX45,$O51=$CY44,$CY45,$O51=$CZ44,$CZ45,$O51=$DA44,$DA45,$O51=$DB44,$DB45,$O51=$DC44,$DC45,$O51=$DD44,$DD45,$O51=$DE44,$DE45,$O51=$DF44,$DF45,$O51=$DG44,$DG45,$O51=$DH44,$DH45,$O51=$DI44,$DI45,$O51=$DJ44,$DJ45,$O51=$DK44,$DK45,$O51=$DL44,$DL45,$O51=$DM44,$DM45,$O51=$DN44,$DN45,$O51=$DO44,$DO45,$O51=$DP44,$DP45,$O51=$DQ44,$DQ45,$O51=$DR44,$DR45,$O51=$DS44,$DS45,$O51=$DT44,$DT45,$O51=$DU44,$DU45)","v":0},{"$f":"$V$15","v":17},{"$f":"D51","v":"Timer uge"},null,null,null,null,{"$f":"SUMIF($D$5:$AH$5,V51,D45:AH45)","v":0},{"$f":"$AC$15","v":18},{"$f":"D51","v":"Timer uge"},null,null,null,{"$f":"SUMIF($D$5:$AH$5,AC51,D45:AH45)","v":0},{"$f":"$AI$15","v":19},{"$f":"D51","v":"Timer uge"},null,null,null,{"$f":"SUMIF($D$5:$AH$5,AI51,D45:AH45)","v":0}]
[null,null,null,"Overarbejde 50% 1-3 timer",null,null,{"$f":"IF($G51>37,$G51-37-$G53,0)","v":0},null,{"$f":"D52","v":"Overarbejde 50% 1-3 timer"},null,null,null,null,{"$f":"IF($N51>37,$N51-37-$N53,0)","v":0},null,{"$f":"D52","v":"Overarbejde 50% 1-3 timer"},null,null,null,null,{"$f":"IF($U51>37,$U51-37-$U53,0)","v":0},null,{"$f":"D52","v":"Overarbejde 50% 1-3 timer"},null,null,null,null,{"$f":"IF($AB51>37,$AB51-37-$AB53,0)","v":0},null,{"$f":"D52","v":"Overarbejde 50% 1-3 timer"},null,null,null,{"$f":"IF($AH51>37,$AH51-37-$AH53,0)","v":0},null,{"$f":"D52","v":"Overarbejde 50% 1-3 timer"},null,null,null,{"$f":"IF($AH51>37,$AH51-37-$AH53,0)","v":0}]
[null,null,null,"Overarbejde 100% over 3 timer",null,null,{"$f":"IF($G51>40,$G51-40,0)","v":0},null,"Overarbejde 100% over 3 timer",null,null,null,null,{"$f":"IF($N51>40,$N51-40,0)","v":0},null,"Overarbejde 100% over 3 timer",null,null,null,null,{"$f":"IF($U51>40,$U51-40,0)","v":0},null,"Overarbejde 100% over 3 timer",null,null,null,null,{"$f":"IF($AB51>40,$AB51-40,0)","v":0},null,"Overarbejde 100% over 3 timer",null,null,null,{"$f":"IF($AH51>40,$AH51-40,0)","v":0},null,{"$f":"D53","v":"Overarbejde 100% over 3 timer"},null,null,null,{"$f":"IF($AH51>40,$AH51-40,0)","v":0},null,null,null,null,null,null,null,null,null,null,null,null,null,null,null,null,null,null,null,null,null,null,null,null,null,null,null,null,null,null,null,null,null,1,2,3,4,5,6,7,8,9,10,11,12,13,14,15,16,17,18,19,20,21,22,23,24,25,26,27,28,29,30,31,32,33,34,35,36,37,38,39,40,41,42,43,44,45,46,47,48,49,50,51,52]
[{"$f":"Medarbejder!A8","v":0},{"$f":"Medarbejder!B8","v":0},{"$f":"Medarbejder!C8","v":"-"},null,null,null,null,null,null,null,null,null,null,null,null,null,null,null,null,null,null,null,null,null,null,null,null,null,null,null,null,null,null,null,null,null,null,null,null,null,null,{"$f":"AO54*Overenskomst!$C$22","v":0},{"$f":"SUM($D54:$AH54)-$BA54-$BF54-$BD54","v":0},{"$f":"IF(Medarbejder!$J8=\"ja\",$AQ54,\"-\")","v":"-"},{"$f":"SUMIF($D$7:$AH$7,\"søndag\",$D54:$AH54)+$AT54","v":0},{"$f":"SUMIFS($D54:$AH54,$D58:$AH58,\"H\")","v":0},{"$f":"G61+N61+U61+AB61+AH61+AN61","v":0},{"$f":"G62+N62+U62+AB62+AH62+AN62","v":0},{"$f":"SUM($D56:$AH56)","v":0},{"$f":"SUM($D57:$AH57)","v":0},{"$f":"COUNTIFS($D55:$AH55,\"F\")","v":0},{"$f":"COUNTIFS($D55:$AH55,\"S\")","v":0},{"$f":"SUMIF($D55:$AH55,\"S\",$D59:$AH59)","v":0},{"$f":"COUNTIFS($D55:$AH55,\"p\")","v":0},{"$f":"COUNTIFS($D55:$AH55,\"BS\")","v":0},{"$f":"SUMIF(D55:AH55,\"bs\",$D54:$AH54)","v":0},{"$f":"COUNTIFS($D55:$AH55,\"FF\")","v":0},{"$f":"SUMIF($D55:$AH55,\"g\",$D54:$AH54)","v":0},{"$f":"Medarbejder!$N7","v":"-"},{"$f":"SUM($BL54:$BU54)","v":4},null,null,null,{"$f":"COUNTIFS($D$6:$AH$6,\"skærtd\")","v":1},{"$f":"COUNTIFS($D$6:$AH$6,\"langfd\")","v":1},{"$f":"COUNTIFS($D$6:$AH$6,\"1påsked\")","v":1},{"$f":"COUNTIFS($D$6:$AH$6,\"2påsked\")","v":1},{"$f":"COUNTIFS($D$6:$AH$6,\"kr.himmelfart\")","v":0},{"$f":"COUNTIFS($D$6:$AH$6,\"1pinse\")","v":0},{"$f":"COUNTIFS($D$6:$AH$6,\"2pinse\")","v":0},{"$f":"COUNTIFS($D$6:$AH$6,\"1juledag\")","v":0},{"$f":"COUNTIFS($D$6:$AH$6,\"2juledag\")","v":0},{"$f":"COUNTIFS($D$6:$AH$6,\"nytårsdag\")","v":0},{"$f":"SUMIFS($D54:$AH54,Lønskema!$D$5:$AH$5,1)","v":0},{"$f":"SUMIFS($D54:$AH54,Lønskema!$D$5:$AH$5,2)","v":0},{"$f":"SUMIFS($D54:$AH54,Lønskema!$D$5:$AH$5,3)","v":0},{"$f":"SUMIFS($D54:$AH54,Lønskema!$D$5:$AH$5,4)","v":0},{"$f":"SUMIFS($D54:$AH54,Lønskema!$D$5:$AH$5,5)","v":0},{"$f":"SUMIFS($D54:$AH54,Lønskema!$D$5:$AH$5,6)","v":0},{"$f":"SUMIFS($D54:$AH54,Lønskema!$D$5:$AH$5,7)","v":0},{"$f":"SUMIFS($D54:$AH54,Lønskema!$D$5:$AH$5,8)","v":0},{"$f":"SUMIFS($D54:$AH54,Lønskema!$D$5:$AH$5,9)","v":0},{"$f":"SUMIFS($D54:$AH54,Lønskema!$D$5:$AH$5,10)","v":0},{"$f":"SUMIFS($D54:$AH54,Lønskema!$D$5:$AH$5,11)","v":0},{"$f":"SUMIFS($D54:$AH54,Lønskema!$D$5:$AH$5,12)","v":0},{"$f":"SUMIFS($D54:$AH54,Lønskema!$D$5:$AH$5,13)","v":0},{"$f":"SUMIFS($D54:$AH54,Lønskema!$D$5:$AH$5,14)","v":0},{"$f":"SUMIFS($D54:$AH54,Lønskema!$D$5:$AH$5,15)","v":0},{"$f":"SUMIFS($D54:$AH54,Lønskema!$D$5:$AH$5,16)","v":0},{"$f":"SUMIFS($D54:$AH54,Lønskema!$D$5:$AH$5,17)","v":0},{"$f":"SUMIFS($D54:$AH54,Lønskema!$D$5:$AH$5,18)","v":0},{"$f":"SUMIFS($D54:$AH54,Lønskema!$D$5:$AH$5,19)","v":0},{"$f":"SUMIFS($D54:$AH54,Lønskema!$D$5:$AH$5,20)","v":0},{"$f":"SUMIFS($D54:$AH54,Lønskema!$D$5:$AH$5,21)","v":0},{"$f":"SUMIFS($D54:$AH54,Lønskema!$D$5:$AH$5,22)","v":0},{"$f":"SUMIFS($D54:$AH54,Lønskema!$D$5:$AH$5,23)","v":0},{"$f":"SUMIFS($D54:$AH54,Lønskema!$D$5:$AH$5,24)","v":0},{"$f":"SUMIFS($D54:$AH54,Lønskema!$D$5:$AH$5,25)","v":0},{"$f":"SUMIFS($D54:$AH54,Lønskema!$D$5:$AH$5,26)","v":0},{"$f":"SUMIFS($D54:$AH54,Lønskema!$D$5:$AH$5,27)","v":0},{"$f":"SUMIFS($D54:$AH54,Lønskema!$D$5:$AH$5,28)","v":0},{"$f":"SUMIFS($D54:$AH54,Lønskema!$D$5:$AH$5,29)","v":0},{"$f":"SUMIFS($D54:$AH54,Lønskema!$D$5:$AH$5,30)","v":0},{"$f":"SUMIFS($D54:$AH54,Lønskema!$D$5:$AH$5,31)","v":0},{"$f":"SUMIFS($D54:$AH54,Lønskema!$D$5:$AH$5,32)","v":0},{"$f":"SUMIFS($D54:$AH54,Lønskema!$D$5:$AH$5,33)","v":0},{"$f":"SUMIFS($D54:$AH54,Lønskema!$D$5:$AH$5,34)","v":0},{"$f":"SUMIFS($D54:$AH54,Lønskema!$D$5:$AH$5,35)","v":0},{"$f":"SUMIFS($D54:$AH54,Lønskema!$D$5:$AH$5,36)","v":0},{"$f":"SUMIFS($D54:$AH54,Lønskema!$D$5:$AH$5,37)","v":0},{"$f":"SUMIFS($D54:$AH54,Lønskema!$D$5:$AH$5,38)","v":0},{"$f":"SUMIFS($D54:$AH54,Lønskema!$D$5:$AH$5,39)","v":0},{"$f":"SUMIFS($D54:$AH54,Lønskema!$D$5:$AH$5,40)","v":0},{"$f":"SUMIFS($D54:$AH54,Lønskema!$D$5:$AH$5,41)","v":0},{"$f":"SUMIFS($D54:$AH54,Lønskema!$D$5:$AH$5,42)","v":0},{"$f":"SUMIFS($D54:$AH54,Lønskema!$D$5:$AH$5,43)","v":0},{"$f":"SUMIFS($D54:$AH54,Lønskema!$D$5:$AH$5,44)","v":0},{"$f":"SUMIFS($D54:$AH54,Lønskema!$D$5:$AH$5,45)","v":0},{"$f":"SUMIFS($D54:$AH54,Lønskema!$D$5:$AH$5,46)","v":0},{"$f":"SUMIFS($D54:$AH54,Lønskema!$D$5:$AH$5,47)","v":0},{"$f":"SUMIFS($D54:$AH54,Lønskema!$D$5:$AH$5,48)","v":0},{"$f":"SUMIFS($D54:$AH54,Lønskema!$D$5:$AH$5,49)","v":0},{"$f":"SUMIFS($D54:$AH54,Lønskema!$D$5:$AH$5,50)","v":0},{"$f":"SUMIFS($D54:$AH54,Lønskema!$D$5:$AH$5,51)","v":0},{"$f":"SUMIFS($D54:$AH54,Lønskema!$D$5:$AH$5,52)","v":0}]
["Ferie - syg  mm. Registreres i denne række"]
[null,"Aften"]
[null,"Nat"]
[null,"Helligdag",null,{"$f":"_xlfn.IFS(D$7=\"søndag\",\"-\",D$6=\"skærtd\",\"h\",D$6=\"langfd\",\"h\",D$6=\"1påsked\",\"h\",D$6=\"2påsked\",\"h\",D$6=\"kr.himmelfart\",\"h\",D$6=\"1pinse\",\"h\",D$6=\"2pinse\",\"h\",D$6=\"1juledag\",\"h\",D$6=\"2juledag\",\"h\",D$6=\"nytårsdag\",\"h\")","v":{"$error":"#N/A"}},{"$f":"_xlfn.IFS(E$7=\"søndag\",\"-\",E$6=\"skærtd\",\"h\",E$6=\"langfd\",\"h\",E$6=\"1påsked\",\"h\",E$6=\"2påsked\",\"h\",E$6=\"kr.himmelfart\",\"h\",E$6=\"1pinse\",\"h\",E$6=\"2pinse\",\"h\",E$6=\"1juledag\",\"h\",E$6=\"2juledag\",\"h\",E$6=\"nytårsdag\",\"h\")","v":{"$error":"#N/A"}},{"$f":"_xlfn.IFS(F$7=\"søndag\",\"-\",F$6=\"skærtd\",\"h\",F$6=\"langfd\",\"h\",F$6=\"1påsked\",\"h\",F$6=\"2påsked\",\"h\",F$6=\"kr.himmelfart\",\"h\",F$6=\"1pinse\",\"h\",F$6=\"2pinse\",\"h\",F$6=\"1juledag\",\"h\",F$6=\"2juledag\",\"h\",F$6=\"nytårsdag\",\"h\")","v":{"$error":"#N/A"}},{"$f":"_xlfn.IFS(G$7=\"søndag\",\"-\",G$6=\"skærtd\",\"h\",G$6=\"langfd\",\"h\",G$6=\"1påsked\",\"h\",G$6=\"2påsked\",\"h\",G$6=\"kr.himmelfart\",\"h\",G$6=\"1pinse\",\"h\",G$6=\"2pinse\",\"h\",G$6=\"1juledag\",\"h\",G$6=\"2juledag\",\"h\",G$6=\"nytårsdag\",\"h\")","v":{"$error":"#N/A"}},{"$f":"_xlfn.IFS(H$7=\"søndag\",\"-\",H$6=\"skærtd\",\"h\",H$6=\"langfd\",\"h\",H$6=\"1påsked\",\"h\",H$6=\"2påsked\",\"h\",H$6=\"kr.himmelfart\",\"h\",H$6=\"1pinse\",\"h\",H$6=\"2pinse\",\"h\",H$6=\"1juledag\",\"h\",H$6=\"2juledag\",\"h\",H$6=\"nytårsdag\",\"h\")","v":{"$error":"#N/A"}},{"$f":"_xlfn.IFS(I$7=\"søndag\",\"-\",I$6=\"skærtd\",\"h\",I$6=\"langfd\",\"h\",I$6=\"1påsked\",\"h\",I$6=\"2påsked\",\"h\",I$6=\"kr.himmelfart\",\"h\",I$6=\"1pinse\",\"h\",I$6=\"2pinse\",\"h\",I$6=\"1juledag\",\"h\",I$6=\"2juledag\",\"h\",I$6=\"nytårsdag\",\"h\")","v":"-"},{"$f":"_xlfn.IFS(J$7=\"søndag\",\"-\",J$6=\"skærtd\",\"h\",J$6=\"langfd\",\"h\",J$6=\"1påsked\",\"h\",J$6=\"2påsked\",\"h\",J$6=\"kr.himmelfart\",\"h\",J$6=\"1pinse\",\"h\",J$6=\"2pinse\",\"h\",J$6=\"1juledag\",\"h\",J$6=\"2juledag\",\"h\",J$6=\"nytårsdag\",\"h\")","v":{"$error":"#N/A"}},{"$f":"_xlfn.IFS(K$7=\"søndag\",\"-\",K$6=\"skærtd\",\"h\",K$6=\"langfd\",\"h\",K$6=\"1påsked\",\"h\",K$6=\"2påsked\",\"h\",K$6=\"kr.himmelfart\",\"h\",K$6=\"1pinse\",\"h\",K$6=\"2pinse\",\"h\",K$6=\"1juledag\",\"h\",K$6=\"2juledag\",\"h\",K$6=\"nytårsdag\",\"h\")","v":{"$error":"#N/A"}},{"$f":"_xlfn.IFS(L$7=\"søndag\",\"-\",L$6=\"skærtd\",\"h\",L$6=\"langfd\",\"h\",L$6=\"1påsked\",\"h\",L$6=\"2påsked\",\"h\",L$6=\"kr.himmelfart\",\"h\",L$6=\"1pinse\",\"h\",L$6=\"2pinse\",\"h\",L$6=\"1juledag\",\"h\",L$6=\"2juledag\",\"h\",L$6=\"nytårsdag\",\"h\")","v":{"$error":"#N/A"}},{"$f":"_xlfn.IFS(M$7=\"søndag\",\"-\",M$6=\"skærtd\",\"h\",M$6=\"langfd\",\"h\",M$6=\"1påsked\",\"h\",M$6=\"2påsked\",\"h\",M$6=\"kr.himmelfart\",\"h\",M$6=\"1pinse\",\"h\",M$6=\"2pinse\",\"h\",M$6=\"1juledag\",\"h\",M$6=\"2juledag\",\"h\",M$6=\"nytårsdag\",\"h\")","v":{"$error":"#N/A"}},{"$f":"_xlfn.IFS(N$7=\"søndag\",\"-\",N$6=\"skærtd\",\"h\",N$6=\"langfd\",\"h\",N$6=\"1påsked\",\"h\",N$6=\"2påsked\",\"h\",N$6=\"kr.himmelfart\",\"h\",N$6=\"1pinse\",\"h\",N$6=\"2pinse\",\"h\",N$6=\"1juledag\",\"h\",N$6=\"2juledag\",\"h\",N$6=\"nytårsdag\",\"h\")","v":{"$error":"#N/A"}},{"$f":"_xlfn.IFS(O$7=\"søndag\",\"-\",O$6=\"skærtd\",\"h\",O$6=\"langfd\",\"h\",O$6=\"1påsked\",\"h\",O$6=\"2påsked\",\"h\",O$6=\"kr.himmelfart\",\"h\",O$6=\"1pinse\",\"h\",O$6=\"2pinse\",\"h\",O$6=\"1juledag\",\"h\",O$6=\"2juledag\",\"h\",O$6=\"nytårsdag\",\"h\")","v":{"$error":"#N/A"}},{"$f":"_xlfn.IFS(P$7=\"søndag\",\"-\",P$6=\"skærtd\",\"h\",P$6=\"langfd\",\"h\",P$6=\"1påsked\",\"h\",P$6=\"2påsked\",\"h\",P$6=\"kr.himmelfart\",\"h\",P$6=\"1pinse\",\"h\",P$6=\"2pinse\",\"h\",P$6=\"1juledag\",\"h\",P$6=\"2juledag\",\"h\",P$6=\"nytårsdag\",\"h\")","v":"-"},{"$f":"_xlfn.IFS(Q$7=\"søndag\",\"-\",Q$6=\"skærtd\",\"h\",Q$6=\"langfd\",\"h\",Q$6=\"1påsked\",\"h\",Q$6=\"2påsked\",\"h\",Q$6=\"kr.himmelfart\",\"h\",Q$6=\"1pinse\",\"h\",Q$6=\"2pinse\",\"h\",Q$6=\"1juledag\",\"h\",Q$6=\"2juledag\",\"h\",Q$6=\"nytårsdag\",\"h\")","v":{"$error":"#N/A"}},{"$f":"_xlfn.IFS(R$7=\"søndag\",\"-\",R$6=\"skærtd\",\"h\",R$6=\"langfd\",\"h\",R$6=\"1påsked\",\"h\",R$6=\"2påsked\",\"h\",R$6=\"kr.himmelfart\",\"h\",R$6=\"1pinse\",\"h\",R$6=\"2pinse\",\"h\",R$6=\"1juledag\",\"h\",R$6=\"2juledag\",\"h\",R$6=\"nytårsdag\",\"h\")","v":{"$error":"#N/A"}},{"$f":"_xlfn.IFS(S$7=\"søndag\",\"-\",S$6=\"skærtd\",\"h\",S$6=\"langfd\",\"h\",S$6=\"1påsked\",\"h\",S$6=\"2påsked\",\"h\",S$6=\"kr.himmelfart\",\"h\",S$6=\"1pinse\",\"h\",S$6=\"2pinse\",\"h\",S$6=\"1juledag\",\"h\",S$6=\"2juledag\",\"h\",S$6=\"nytårsdag\",\"h\")","v":{"$error":"#N/A"}},{"$f":"_xlfn.IFS(T$7=\"søndag\",\"-\",T$6=\"skærtd\",\"h\",T$6=\"langfd\",\"h\",T$6=\"1påsked\",\"h\",T$6=\"2påsked\",\"h\",T$6=\"kr.himmelfart\",\"h\",T$6=\"1pinse\",\"h\",T$6=\"2pinse\",\"h\",T$6=\"1juledag\",\"h\",T$6=\"2juledag\",\"h\",T$6=\"nytårsdag\",\"h\")","v":"h"},{"$f":"_xlfn.IFS(U$7=\"søndag\",\"-\",U$6=\"skærtd\",\"h\",U$6=\"langfd\",\"h\",U$6=\"1påsked\",\"h\",U$6=\"2påsked\",\"h\",U$6=\"kr.himmelfart\",\"h\",U$6=\"1pinse\",\"h\",U$6=\"2pinse\",\"h\",U$6=\"1juledag\",\"h\",U$6=\"2juledag\",\"h\",U$6=\"nytårsdag\",\"h\")","v":"h"},{"$f":"_xlfn.IFS(V$7=\"søndag\",\"-\",V$6=\"skærtd\",\"h\",V$6=\"langfd\",\"h\",V$6=\"1påsked\",\"h\",V$6=\"2påsked\",\"h\",V$6=\"kr.himmelfart\",\"h\",V$6=\"1pinse\",\"h\",V$6=\"2pinse\",\"h\",V$6=\"1juledag\",\"h\",V$6=\"2juledag\",\"h\",V$6=\"nytårsdag\",\"h\")","v":{"$error":"#N/A"}},{"$f":"_xlfn.IFS(W$7=\"søndag\",\"-\",W$6=\"skærtd\",\"h\",W$6=\"langfd\",\"h\",W$6=\"1påsked\",\"h\",W$6=\"2påsked\",\"h\",W$6=\"kr.himmelfart\",\"h\",W$6=\"1pinse\",\"h\",W$6=\"2pinse\",\"h\",W$6=\"1juledag\",\"h\",W$6=\"2juledag\",\"h\",W$6=\"nytårsdag\",\"h\")","v":"-"},{"$f":"_xlfn.IFS(X$7=\"søndag\",\"-\",X$6=\"skærtd\",\"h\",X$6=\"langfd\",\"h\",X$6=\"1påsked\",\"h\",X$6=\"2påsked\",\"h\",X$6=\"kr.himmelfart\",\"h\",X$6=\"1pinse\",\"h\",X$6=\"2pinse\",\"h\",X$6=\"1juledag\",\"h\",X$6=\"2juledag\",\"h\",X$6=\"nytårsdag\",\"h\")","v":"h"},{"$f":"_xlfn.IFS(Y$7=\"søndag\",\"-\",Y$6=\"skærtd\",\"h\",Y$6=\"langfd\",\"h\",Y$6=\"1påsked\",\"h\",Y$6=\"2påsked\",\"h\",Y$6=\"kr.himmelfart\",\"h\",Y$6=\"1pinse\",\"h\",Y$6=\"2pinse\",\"h\",Y$6=\"1juledag\",\"h\",Y$6=\"2juledag\",\"h\",Y$6=\"nytårsdag\",\"h\")","v":{"$error":"#N/A"}},{"$f":"_xlfn.IFS(Z$7=\"søndag\",\"-\",Z$6=\"skærtd\",\"h\",Z$6=\"langfd\",\"h\",Z$6=\"1påsked\",\"h\",Z$6=\"2påsked\",\"h\",Z$6=\"kr.himmelfart\",\"h\",Z$6=\"1pinse\",\"h\",Z$6=\"2pinse\",\"h\",Z$6=\"1juledag\",\"h\",Z$6=\"2juledag\",\"h\",Z$6=\"nytårsdag\",\"h\")","v":{"$error":"#N/A"}},{"$f":"_xlfn.IFS(AA$7=\"søndag\",\"-\",AA$6=\"skærtd\",\"h\",AA$6=\"langfd\",\"h\",AA$6=\"1påsked\",\"h\",AA$6=\"2påsked\",\"h\",AA$6=\"kr.himmelfart\",\"h\",AA$6=\"1pinse\",\"h\",AA$6=\"2pinse\",\"h\",AA$6=\"1juledag\",\"h\",AA$6=\"2juledag\",\"h\",AA$6=\"nytårsdag\",\"h\")","v":{"$error":"#N/A"}},{"$f":"_xlfn.IFS(AB$7=\"søndag\",\"-\",AB$6=\"skærtd\",\"h\",AB$6=\"langfd\",\"h\",AB$6=\"1påsked\",\"h\",AB$6=\"2påsked\",\"h\",AB$6=\"kr.himmelfart\",\"h\",AB$6=\"1pinse\",\"h\",AB$6=\"2pinse\",\"h\",AB$6=\"1juledag\",\"h\",AB$6=\"2juledag\",\"h\",AB$6=\"nytårsdag\",\"h\")","v":{"$error":"#N/A"}},{"$f":"_xlfn.IFS(AC$7=\"søndag\",\"-\",AC$6=\"skærtd\",\"h\",AC$6=\"langfd\",\"h\",AC$6=\"1påsked\",\"h\",AC$6=\"2påsked\",\"h\",AC$6=\"kr.himmelfart\",\"h\",AC$6=\"1pinse\",\"h\",AC$6=\"2pinse\",\"h\",AC$6=\"1juledag\",\"h\",AC$6=\"2juledag\",\"h\",AC$6=\"nytårsdag\",\"h\")","v":{"$error":"#N/A"}},{"$f":"_xlfn.IFS(AD$7=\"søndag\",\"-\",AD$6=\"skærtd\",\"h\",AD$6=\"langfd\",\"h\",AD$6=\"1påsked\",\"h\",AD$6=\"2påsked\",\"h\",AD$6=\"kr.himmelfart\",\"h\",AD$6=\"1pinse\",\"h\",AD$6=\"2pinse\",\"h\",AD$6=\"1juledag\",\"h\",AD$6=\"2juledag\",\"h\",AD$6=\"nytårsdag\",\"h\")","v":"-"},{"$f":"_xlfn.IFS(AE$7=\"søndag\",\"-\",AE$6=\"skærtd\",\"h\",AE$6=\"langfd\",\"h\",AE$6=\"1påsked\",\"h\",AE$6=\"2påsked\",\"h\",AE$6=\"kr.himmelfart\",\"h\",AE$6=\"1pinse\",\"h\",AE$6=\"2pinse\",\"h\",AE$6=\"1juledag\",\"h\",AE$6=\"2juledag\",\"h\",AE$6=\"nytårsdag\",\"h\")","v":{"$error":"#N/A"}},{"$f":"_xlfn.IFS(AF$7=\"søndag\",\"-\",AF$6=\"skærtd\",\"h\",AF$6=\"langfd\",\"h\",AF$6=\"1påsked\",\"h\",AF$6=\"2påsked\",\"h\",AF$6=\"kr.himmelfart\",\"h\",AF$6=\"1pinse\",\"h\",AF$6=\"2pinse\",\"h\",AF$6=\"1juledag\",\"h\",AF$6=\"2juledag\",\"h\",AF$6=\"nytårsdag\",\"h\")","v":{"$error":"#N/A"}},{"$f":"_xlfn.IFS(AG$7=\"søndag\",\"-\",AG$6=\"skærtd\",\"h\",AG$6=\"langfd\",\"h\",AG$6=\"1påsked\",\"h\",AG$6=\"2påsked\",\"h\",AG$6=\"kr.himmelfart\",\"h\",AG$6=\"1pinse\",\"h\",AG$6=\"2pinse\",\"h\",AG$6=\"1juledag\",\"h\",AG$6=\"2juledag\",\"h\",AG$6=\"nytårsdag\",\"h\")","v":{"$error":"#N/A"}},{"$f":"_xlfn.IFS(AH$7=\"søndag\",\"-\",AH$6=\"skærtd\",\"h\",AH$6=\"langfd\",\"h\",AH$6=\"1påsked\",\"h\",AH$6=\"2påsked\",\"h\",AH$6=\"kr.himmelfart\",\"h\",AH$6=\"1pinse\",\"h\",AH$6=\"2pinse\",\"h\",AH$6=\"1juledag\",\"h\",AH$6=\"2juledag\",\"h\",AH$6=\"nytårsdag\",\"h\")","v":{"$error":"#N/A"}}]
[null,"Sygedage",null,{"$f":"IF(D55=\"s\",D54,\"-\")","v":"-"},{"$f":"IF(E55=\"s\",E54,\"-\")","v":"-"},"-","-","-","-","-","-","-","-","-","-","-","-","-","-","-","-","-","-","-","-","-","-","-","-","-","-","-","-","-"]
[null,null,{"$f":"$C$15","v":14},"Timer uge",null,null,{"$f":"SUMIF($D$5:$AH$5,C60,D54:AH54)","v":0},{"$f":"$H$15","v":15},{"$f":"D60","v":"Timer uge"},null,null,null,null,{"$f":"SUMIF($D$5:$AH$5,H60,D54:AH54)","v":0},{"$f":"$O$15","v":16},{"$f":"D60","v":"Timer uge"},null,null,null,null,{"$f":"_xlfn.IFS($O60=$BV53,$BV54,$O60=$BW53,Lønskema!$BW54,$O60=$BX53,$BX54,$O60=$BY53,$BY54,$O60=$BZ53,$BZ54,$O60=$CA53,$CA54,$O60=$CB53,$CB54,$O60=$CC53,$CC54,$O60=$CD53,$CD54,$O60=$CE53,$CE54,$O60=$CF53,$CF54,$O60=$CG53,$CF54,$O60=$CG53,$CG54,$O60=$CH53,$CH54,$O60=$CI53,$CI54,$O60=$CJ53,$CJ54,$O60=$CK53,$CK54,$O60=$CL53,$CL54,$O60=$CM53,$CM54,$O60=$CN53,$CN54,$O60=$CO53,$CO54,$O60=$CP53,$CP54,$O60=$CQ53,$CQ54,$O60=$CR53,$CR54,$O60=$CS53,$CS54,$O60=$CT53,$CT54,$O60=$CU53,$CU54,$O60=$CV53,$CV54,$O60=$CW53,$CW54,$O60=$CX53,$CX54,$O60=$CY53,$CY54,$O60=$CZ53,$CZ54,$O60=$DA53,$DA54,$O60=$DB53,$DB54,$O60=$DC53,$DC54,$O60=$DD53,$DD54,$O60=$DE53,$DE54,$O60=$DF53,$DF54,$O60=$DG53,$DG54,$O60=$DH53,$DH54,$O60=$DI53,$DI54,$O60=$DJ53,$DJ54,$O60=$DK53,$DK54,$O60=$DL53,$DL54,$O60=$DM53,$DM54,$O60=$DN53,$DN54,$O60=$DO53,$DO54,$O60=$DP53,$DP54,$O60=$DQ53,$DQ54,$O60=$DR53,$DR54,$O60=$DS53,$DS54,$O60=$DT53,$DT54,$O60=$DU53,$DU54)","v":0},{"$f":"$V$15","v":17},{"$f":"D60","v":"Timer uge"},null,null,null,null,{"$f":"SUMIF($D$5:$AH$5,V60,D54:AH54)","v":0},{"$f":"$AC$15","v":18},{"$f":"D60","v":"Timer uge"},null,null,null,{"$f":"SUMIF($D$5:$AH$5,AC60,D54:AH54)","v":0},{"$f":"$AI$15","v":19},{"$f":"D60","v":"Timer uge"},null,null,null,{"$f":"SUMIF($D$5:$AH$5,AI60,D54:AH54)","v":0}]
[null,null,null,"Overarbejde 50% 1-3 timer",null,null,{"$f":"IF($G60>37,$G60-37-$G62,0)","v":0},null,{"$f":"D61","v":"Overarbejde 50% 1-3 timer"},null,null,null,null,{"$f":"IF($N60>37,$N60-37-$N62,0)","v":0},null,{"$f":"D61","v":"Overarbejde 50% 1-3 timer"},null,null,null,null,{"$f":"IF($U60>37,$U60-37-$U62,0)","v":0},null,{"$f":"D61","v":"Overarbejde 50% 1-3 timer"},null,null,null,null,{"$f":"IF($AB60>37,$AB60-37-$AB62,0)","v":0},null,{"$f":"D61","v":"Overarbejde 50% 1-3 timer"},null,null,null,{"$f":"IF($AH60>37,$AH60-37-$AH62,0)","v":0},null,{"$f":"D61","v":"Overarbejde 50% 1-3 timer"},null,null,null,{"$f":"IF($AH60>37,$AH60-37-$AH62,0)","v":0}]
[null,null,null,"Overarbejde 100% over 3 timer",null,null,{"$f":"IF($G60>40,$G60-40,0)","v":0},null,"Overarbejde 100% over 3 timer",null,null,null,null,{"$f":"IF($N60>40,$N60-40,0)","v":0},null,"Overarbejde 100% over 3 timer",null,null,null,null,{"$f":"IF($U60>40,$U60-40,0)","v":0},null,"Overarbejde 100% over 3 timer",null,null,null,null,{"$f":"IF($AB60>40,$AB60-40,0)","v":0},null,"Overarbejde 100% over 3 timer",null,null,null,{"$f":"IF($AH60>40,$AH60-40,0)","v":0},null,{"$f":"D62","v":"Overarbejde 100% over 3 timer"},null,null,null,{"$f":"IF($AH60>40,$AH60-40,0)","v":0},null,null,null,null,null,null,null,null,null,null,null,null,null,null,null,null,null,null,null,null,null,null,null,null,null,null,null,null,null,null,null,null,null,1,2,3,4,5,6,7,8,9,10,11,12,13,14,15,16,17,18,19,20,21,22,23,24,25,26,27,28,29,30,31,32,33,34,35,36,37,38,39,40,41,42,43,44,45,46,47,48,49,50,51,52]
[{"$f":"Medarbejder!A9","v":0},{"$f":"Medarbejder!B9","v":0},{"$f":"Medarbejder!C9","v":"-"},null,null,null,null,null,null,null,null,null,null,null,null,null,null,null,null,null,null,null,null,null,null,null,null,null,null,null,null,null,null,null,null,null,null,null,null,null,null,{"$f":"AO63*Overenskomst!$C$22","v":0},{"$f":"SUM($D63:$AH63)-$BA63-$BF63-$BD63","v":0},{"$f":"IF(Medarbejder!$J9=\"ja\",$AQ63,\"-\")","v":"-"},{"$f":"SUMIF($D$7:$AH$7,\"søndag\",$D63:$AH63)+$AT63","v":0},{"$f":"SUMIFS($D63:$AH63,$D67:$AH67,\"H\")","v":0},{"$f":"G70+N70+U70+AB70+AH70+AN70","v":0},{"$f":"G71+N71+U71+AB71+AH71+AN71","v":0},{"$f":"SUM($D65:$AH65)","v":0},{"$f":"SUM($D66:$AH66)","v":0},{"$f":"COUNTIFS($D64:$AH64,\"F\")","v":0},{"$f":"COUNTIFS($D64:$AH64,\"S\")","v":0},{"$f":"SUMIF($D64:$AH64,\"S\",$D68:$AH68)","v":0},{"$f":"COUNTIFS($D64:$AH64,\"p\")","v":0},{"$f":"COUNTIFS($D64:$AH64,\"BS\")","v":0},{"$f":"SUMIF(D64:AH64,\"bs\",$D63:$AH63)","v":0},{"$f":"COUNTIFS($D64:$AH64,\"FF\")","v":0},{"$f":"SUMIF($D64:$AH64,\"g\",$D63:$AH63)","v":0},{"$f":"Medarbejder!$N9","v":"-"},{"$f":"SUM($BL63:$BU63)","v":4},null,null,null,{"$f":"COUNTIFS($D$6:$AH$6,\"skærtd\")","v":1},{"$f":"COUNTIFS($D$6:$AH$6,\"langfd\")","v":1},{"$f":"COUNTIFS($D$6:$AH$6,\"1påsked\")","v":1},{"$f":"COUNTIFS($D$6:$AH$6,\"2påsked\")","v":1},{"$f":"COUNTIFS($D$6:$AH$6,\"kr.himmelfart\")","v":0},{"$f":"COUNTIFS($D$6:$AH$6,\"1pinse\")","v":0},{"$f":"COUNTIFS($D$6:$AH$6,\"2pinse\")","v":0},{"$f":"COUNTIFS($D$6:$AH$6,\"1juledag\")","v":0},{"$f":"COUNTIFS($D$6:$AH$6,\"2juledag\")","v":0},{"$f":"COUNTIFS($D$6:$AH$6,\"nytårsdag\")","v":0},{"$f":"SUMIFS($D63:$AH63,Lønskema!$D$5:$AH$5,1)","v":0},{"$f":"SUMIFS($D63:$AH63,Lønskema!$D$5:$AH$5,2)","v":0},{"$f":"SUMIFS($D63:$AH63,Lønskema!$D$5:$AH$5,3)","v":0},{"$f":"SUMIFS($D63:$AH63,Lønskema!$D$5:$AH$5,4)","v":0},{"$f":"SUMIFS($D63:$AH63,Lønskema!$D$5:$AH$5,5)","v":0},{"$f":"SUMIFS($D63:$AH63,Lønskema!$D$5:$AH$5,6)","v":0},{"$f":"SUMIFS($D63:$AH63,Lønskema!$D$5:$AH$5,7)","v":0},{"$f":"SUMIFS($D63:$AH63,Lønskema!$D$5:$AH$5,8)","v":0},{"$f":"SUMIFS($D63:$AH63,Lønskema!$D$5:$AH$5,9)","v":0},{"$f":"SUMIFS($D63:$AH63,Lønskema!$D$5:$AH$5,10)","v":0},{"$f":"SUMIFS($D63:$AH63,Lønskema!$D$5:$AH$5,11)","v":0},{"$f":"SUMIFS($D63:$AH63,Lønskema!$D$5:$AH$5,12)","v":0},{"$f":"SUMIFS($D63:$AH63,Lønskema!$D$5:$AH$5,13)","v":0},{"$f":"SUMIFS($D63:$AH63,Lønskema!$D$5:$AH$5,14)","v":0},{"$f":"SUMIFS($D63:$AH63,Lønskema!$D$5:$AH$5,15)","v":0},{"$f":"SUMIFS($D63:$AH63,Lønskema!$D$5:$AH$5,16)","v":0},{"$f":"SUMIFS($D63:$AH63,Lønskema!$D$5:$AH$5,17)","v":0},{"$f":"SUMIFS($D63:$AH63,Lønskema!$D$5:$AH$5,18)","v":0},{"$f":"SUMIFS($D63:$AH63,Lønskema!$D$5:$AH$5,19)","v":0},{"$f":"SUMIFS($D63:$AH63,Lønskema!$D$5:$AH$5,20)","v":0},{"$f":"SUMIFS($D63:$AH63,Lønskema!$D$5:$AH$5,21)","v":0},{"$f":"SUMIFS($D63:$AH63,Lønskema!$D$5:$AH$5,22)","v":0},{"$f":"SUMIFS($D63:$AH63,Lønskema!$D$5:$AH$5,23)","v":0},{"$f":"SUMIFS($D63:$AH63,Lønskema!$D$5:$AH$5,24)","v":0},{"$f":"SUMIFS($D63:$AH63,Lønskema!$D$5:$AH$5,25)","v":0},{"$f":"SUMIFS($D63:$AH63,Lønskema!$D$5:$AH$5,26)","v":0},{"$f":"SUMIFS($D63:$AH63,Lønskema!$D$5:$AH$5,27)","v":0},{"$f":"SUMIFS($D63:$AH63,Lønskema!$D$5:$AH$5,28)","v":0},{"$f":"SUMIFS($D63:$AH63,Lønskema!$D$5:$AH$5,29)","v":0},{"$f":"SUMIFS($D63:$AH63,Lønskema!$D$5:$AH$5,30)","v":0},{"$f":"SUMIFS($D63:$AH63,Lønskema!$D$5:$AH$5,31)","v":0},{"$f":"SUMIFS($D63:$AH63,Lønskema!$D$5:$AH$5,32)","v":0},{"$f":"SUMIFS($D63:$AH63,Lønskema!$D$5:$AH$5,33)","v":0},{"$f":"SUMIFS($D63:$AH63,Lønskema!$D$5:$AH$5,34)","v":0},{"$f":"SUMIFS($D63:$AH63,Lønskema!$D$5:$AH$5,35)","v":0},{"$f":"SUMIFS($D63:$AH63,Lønskema!$D$5:$AH$5,36)","v":0},{"$f":"SUMIFS($D63:$AH63,Lønskema!$D$5:$AH$5,37)","v":0},{"$f":"SUMIFS($D63:$AH63,Lønskema!$D$5:$AH$5,38)","v":0},{"$f":"SUMIFS($D63:$AH63,Lønskema!$D$5:$AH$5,39)","v":0},{"$f":"SUMIFS($D63:$AH63,Lønskema!$D$5:$AH$5,40)","v":0},{"$f":"SUMIFS($D63:$AH63,Lønskema!$D$5:$AH$5,41)","v":0},{"$f":"SUMIFS($D63:$AH63,Lønskema!$D$5:$AH$5,42)","v":0},{"$f":"SUMIFS($D63:$AH63,Lønskema!$D$5:$AH$5,43)","v":0},{"$f":"SUMIFS($D63:$AH63,Lønskema!$D$5:$AH$5,44)","v":0},{"$f":"SUMIFS($D63:$AH63,Lønskema!$D$5:$AH$5,45)","v":0},{"$f":"SUMIFS($D63:$AH63,Lønskema!$D$5:$AH$5,46)","v":0},{"$f":"SUMIFS($D63:$AH63,Lønskema!$D$5:$AH$5,47)","v":0},{"$f":"SUMIFS($D63:$AH63,Lønskema!$D$5:$AH$5,48)","v":0},{"$f":"SUMIFS($D63:$AH63,Lønskema!$D$5:$AH$5,49)","v":0},{"$f":"SUMIFS($D63:$AH63,Lønskema!$D$5:$AH$5,50)","v":0},{"$f":"SUMIFS($D63:$AH63,Lønskema!$D$5:$AH$5,51)","v":0},{"$f":"SUMIFS($D63:$AH63,Lønskema!$D$5:$AH$5,52)","v":0}]
["Ferie - syg  mm. Registreres i denne række"]
[null,"Aften"]
[null,"Nat"]
[null,"Helligdag",null,{"$f":"_xlfn.IFS(D$7=\"søndag\",\"-\",D$6=\"skærtd\",\"h\",D$6=\"langfd\",\"h\",D$6=\"1påsked\",\"h\",D$6=\"2påsked\",\"h\",D$6=\"kr.himmelfart\",\"h\",D$6=\"1pinse\",\"h\",D$6=\"2pinse\",\"h\",D$6=\"1juledag\",\"h\",D$6=\"2juledag\",\"h\",D$6=\"nytårsdag\",\"h\")","v":{"$error":"#N/A"}},{"$f":"_xlfn.IFS(E$7=\"søndag\",\"-\",E$6=\"skærtd\",\"h\",E$6=\"langfd\",\"h\",E$6=\"1påsked\",\"h\",E$6=\"2påsked\",\"h\",E$6=\"kr.himmelfart\",\"h\",E$6=\"1pinse\",\"h\",E$6=\"2pinse\",\"h\",E$6=\"1juledag\",\"h\",E$6=\"2juledag\",\"h\",E$6=\"nytårsdag\",\"h\")","v":{"$error":"#N/A"}},{"$f":"_xlfn.IFS(F$7=\"søndag\",\"-\",F$6=\"skærtd\",\"h\",F$6=\"langfd\",\"h\",F$6=\"1påsked\",\"h\",F$6=\"2påsked\",\"h\",F$6=\"kr.himmelfart\",\"h\",F$6=\"1pinse\",\"h\",F$6=\"2pinse\",\"h\",F$6=\"1juledag\",\"h\",F$6=\"2juledag\",\"h\",F$6=\"nytårsdag\",\"h\")","v":{"$error":"#N/A"}},{"$f":"_xlfn.IFS(G$7=\"søndag\",\"-\",G$6=\"skærtd\",\"h\",G$6=\"langfd\",\"h\",G$6=\"1påsked\",\"h\",G$6=\"2påsked\",\"h\",G$6=\"kr.himmelfart\",\"h\",G$6=\"1pinse\",\"h\",G$6=\"2pinse\",\"h\",G$6=\"1juledag\",\"h\",G$6=\"2juledag\",\"h\",G$6=\"nytårsdag\",\"h\")","v":{"$error":"#N/A"}},{"$f":"_xlfn.IFS(H$7=\"søndag\",\"-\",H$6=\"skærtd\",\"h\",H$6=\"langfd\",\"h\",H$6=\"1påsked\",\"h\",H$6=\"2påsked\",\"h\",H$6=\"kr.himmelfart\",\"h\",H$6=\"1pinse\",\"h\",H$6=\"2pinse\",\"h\",H$6=\"1juledag\",\"h\",H$6=\"2juledag\",\"h\",H$6=\"nytårsdag\",\"h\")","v":{"$error":"#N/A"}},{"$f":"_xlfn.IFS(I$7=\"søndag\",\"-\",I$6=\"skærtd\",\"h\",I$6=\"langfd\",\"h\",I$6=\"1påsked\",\"h\",I$6=\"2påsked\",\"h\",I$6=\"kr.himmelfart\",\"h\",I$6=\"1pinse\",\"h\",I$6=\"2pinse\",\"h\",I$6=\"1juledag\",\"h\",I$6=\"2juledag\",\"h\",I$6=\"nytårsdag\",\"h\")","v":"-"},{"$f":"_xlfn.IFS(J$7=\"søndag\",\"-\",J$6=\"skærtd\",\"h\",J$6=\"langfd\",\"h\",J$6=\"1påsked\",\"h\",J$6=\"2påsked\",\"h\",J$6=\"kr.himmelfart\",\"h\",J$6=\"1pinse\",\"h\",J$6=\"2pinse\",\"h\",J$6=\"1juledag\",\"h\",J$6=\"2juledag\",\"h\",J$6=\"nytårsdag\",\"h\")","v":{"$error":"#N/A"}},{"$f":"_xlfn.IFS(K$7=\"søndag\",\"-\",K$6=\"skærtd\",\"h\",K$6=\"langfd\",\"h\",K$6=\"1påsked\",\"h\",K$6=\"2påsked\",\"h\",K$6=\"kr.himmelfart\",\"h\",K$6=\"1pinse\",\"h\",K$6=\"2pinse\",\"h\",K$6=\"1juledag\",\"h\",K$6=\"2juledag\",\"h\",K$6=\"nytårsdag\",\"h\")","v":{"$error":"#N/A"}},{"$f":"_xlfn.IFS(L$7=\"søndag\",\"-\",L$6=\"skærtd\",\"h\",L$6=\"langfd\",\"h\",L$6=\"1påsked\",\"h\",L$6=\"2påsked\",\"h\",L$6=\"kr.himmelfart\",\"h\",L$6=\"1pinse\",\"h\",L$6=\"2pinse\",\"h\",L$6=\"1juledag\",\"h\",L$6=\"2juledag\",\"h\",L$6=\"nytårsdag\",\"h\")","v":{"$error":"#N/A"}},{"$f":"_xlfn.IFS(M$7=\"søndag\",\"-\",M$6=\"skærtd\",\"h\",M$6=\"langfd\",\"h\",M$6=\"1påsked\",\"h\",M$6=\"2påsked\",\"h\",M$6=\"kr.himmelfart\",\"h\",M$6=\"1pinse\",\"h\",M$6=\"2pinse\",\"h\",M$6=\"1juledag\",\"h\",M$6=\"2juledag\",\"h\",M$6=\"nytårsdag\",\"h\")","v":{"$error":"#N/A"}},{"$f":"_xlfn.IFS(N$7=\"søndag\",\"-\",N$6=\"skærtd\",\"h\",N$6=\"langfd\",\"h\",N$6=\"1påsked\",\"h\",N$6=\"2påsked\",\"h\",N$6=\"kr.himmelfart\",\"h\",N$6=\"1pinse\",\"h\",N$6=\"2pinse\",\"h\",N$6=\"1juledag\",\"h\",N$6=\"2juledag\",\"h\",N$6=\"nytårsdag\",\"h\")","v":{"$error":"#N/A"}},{"$f":"_xlfn.IFS(O$7=\"søndag\",\"-\",O$6=\"skærtd\",\"h\",O$6=\"langfd\",\"h\",O$6=\"1påsked\",\"h\",O$6=\"2påsked\",\"h\",O$6=\"kr.himmelfart\",\"h\",O$6=\"1pinse\",\"h\",O$6=\"2pinse\",\"h\",O$6=\"1juledag\",\"h\",O$6=\"2juledag\",\"h\",O$6=\"nytårsdag\",\"h\")","v":{"$error":"#N/A"}},{"$f":"_xlfn.IFS(P$7=\"søndag\",\"-\",P$6=\"skærtd\",\"h\",P$6=\"langfd\",\"h\",P$6=\"1påsked\",\"h\",P$6=\"2påsked\",\"h\",P$6=\"kr.himmelfart\",\"h\",P$6=\"1pinse\",\"h\",P$6=\"2pinse\",\"h\",P$6=\"1juledag\",\"h\",P$6=\"2juledag\",\"h\",P$6=\"nytårsdag\",\"h\")","v":"-"},{"$f":"_xlfn.IFS(Q$7=\"søndag\",\"-\",Q$6=\"skærtd\",\"h\",Q$6=\"langfd\",\"h\",Q$6=\"1påsked\",\"h\",Q$6=\"2påsked\",\"h\",Q$6=\"kr.himmelfart\",\"h\",Q$6=\"1pinse\",\"h\",Q$6=\"2pinse\",\"h\",Q$6=\"1juledag\",\"h\",Q$6=\"2juledag\",\"h\",Q$6=\"nytårsdag\",\"h\")","v":{"$error":"#N/A"}},{"$f":"_xlfn.IFS(R$7=\"søndag\",\"-\",R$6=\"skærtd\",\"h\",R$6=\"langfd\",\"h\",R$6=\"1påsked\",\"h\",R$6=\"2påsked\",\"h\",R$6=\"kr.himmelfart\",\"h\",R$6=\"1pinse\",\"h\",R$6=\"2pinse\",\"h\",R$6=\"1juledag\",\"h\",R$6=\"2juledag\",\"h\",R$6=\"nytårsdag\",\"h\")","v":{"$error":"#N/A"}},{"$f":"_xlfn.IFS(S$7=\"søndag\",\"-\",S$6=\"skærtd\",\"h\",S$6=\"langfd\",\"h\",S$6=\"1påsked\",\"h\",S$6=\"2påsked\",\"h\",S$6=\"kr.himmelfart\",\"h\",S$6=\"1pinse\",\"h\",S$6=\"2pinse\",\"h\",S$6=\"1juledag\",\"h\",S$6=\"2juledag\",\"h\",S$6=\"nytårsdag\",\"h\")","v":{"$error":"#N/A"}},{"$f":"_xlfn.IFS(T$7=\"søndag\",\"-\",T$6=\"skærtd\",\"h\",T$6=\"langfd\",\"h\",T$6=\"1påsked\",\"h\",T$6=\"2påsked\",\"h\",T$6=\"kr.himmelfart\",\"h\",T$6=\"1pinse\",\"h\",T$6=\"2pinse\",\"h\",T$6=\"1juledag\",\"h\",T$6=\"2juledag\",\"h\",T$6=\"nytårsdag\",\"h\")","v":"h"},{"$f":"_xlfn.IFS(U$7=\"søndag\",\"-\",U$6=\"skærtd\",\"h\",U$6=\"langfd\",\"h\",U$6=\"1påsked\",\"h\",U$6=\"2påsked\",\"h\",U$6=\"kr.himmelfart\",\"h\",U$6=\"1pinse\",\"h\",U$6=\"2pinse\",\"h\",U$6=\"1juledag\",\"h\",U$6=\"2juledag\",\"h\",U$6=\"nytårsdag\",\"h\")","v":"h"},{"$f":"_xlfn.IFS(V$7=\"søndag\",\"-\",V$6=\"skærtd\",\"h\",V$6=\"langfd\",\"h\",V$6=\"1påsked\",\"h\",V$6=\"2påsked\",\"h\",V$6=\"kr.himmelfart\",\"h\",V$6=\"1pinse\",\"h\",V$6=\"2pinse\",\"h\",V$6=\"1juledag\",\"h\",V$6=\"2juledag\",\"h\",V$6=\"nytårsdag\",\"h\")","v":{"$error":"#N/A"}},{"$f":"_xlfn.IFS(W$7=\"søndag\",\"-\",W$6=\"skærtd\",\"h\",W$6=\"langfd\",\"h\",W$6=\"1påsked\",\"h\",W$6=\"2påsked\",\"h\",W$6=\"kr.himmelfart\",\"h\",W$6=\"1pinse\",\"h\",W$6=\"2pinse\",\"h\",W$6=\"1juledag\",\"h\",W$6=\"2juledag\",\"h\",W$6=\"nytårsdag\",\"h\")","v":"-"},{"$f":"_xlfn.IFS(X$7=\"søndag\",\"-\",X$6=\"skærtd\",\"h\",X$6=\"langfd\",\"h\",X$6=\"1påsked\",\"h\",X$6=\"2påsked\",\"h\",X$6=\"kr.himmelfart\",\"h\",X$6=\"1pinse\",\"h\",X$6=\"2pinse\",\"h\",X$6=\"1juledag\",\"h\",X$6=\"2juledag\",\"h\",X$6=\"nytårsdag\",\"h\")","v":"h"},{"$f":"_xlfn.IFS(Y$7=\"søndag\",\"-\",Y$6=\"skærtd\",\"h\",Y$6=\"langfd\",\"h\",Y$6=\"1påsked\",\"h\",Y$6=\"2påsked\",\"h\",Y$6=\"kr.himmelfart\",\"h\",Y$6=\"1pinse\",\"h\",Y$6=\"2pinse\",\"h\",Y$6=\"1juledag\",\"h\",Y$6=\"2juledag\",\"h\",Y$6=\"nytårsdag\",\"h\")","v":{"$error":"#N/A"}},{"$f":"_xlfn.IFS(Z$7=\"søndag\",\"-\",Z$6=\"skærtd\",\"h\",Z$6=\"langfd\",\"h\",Z$6=\"1påsked\",\"h\",Z$6=\"2påsked\",\"h\",Z$6=\"kr.himmelfart\",\"h\",Z$6=\"1pinse\",\"h\",Z$6=\"2pinse\",\"h\",Z$6=\"1juledag\",\"h\",Z$6=\"2juledag\",\"h\",Z$6=\"nytårsdag\",\"h\")","v":{"$error":"#N/A"}},{"$f":"_xlfn.IFS(AA$7=\"søndag\",\"-\",AA$6=\"skærtd\",\"h\",AA$6=\"langfd\",\"h\",AA$6=\"1påsked\",\"h\",AA$6=\"2påsked\",\"h\",AA$6=\"kr.himmelfart\",\"h\",AA$6=\"1pinse\",\"h\",AA$6=\"2pinse\",\"h\",AA$6=\"1juledag\",\"h\",AA$6=\"2juledag\",\"h\",AA$6=\"nytårsdag\",\"h\")","v":{"$error":"#N/A"}},{"$f":"_xlfn.IFS(AB$7=\"søndag\",\"-\",AB$6=\"skærtd\",\"h\",AB$6=\"langfd\",\"h\",AB$6=\"1påsked\",\"h\",AB$6=\"2påsked\",\"h\",AB$6=\"kr.himmelfart\",\"h\",AB$6=\"1pinse\",\"h\",AB$6=\"2pinse\",\"h\",AB$6=\"1juledag\",\"h\",AB$6=\"2juledag\",\"h\",AB$6=\"nytårsdag\",\"h\")","v":{"$error":"#N/A"}},{"$f":"_xlfn.IFS(AC$7=\"søndag\",\"-\",AC$6=\"skærtd\",\"h\",AC$6=\"langfd\",\"h\",AC$6=\"1påsked\",\"h\",AC$6=\"2påsked\",\"h\",AC$6=\"kr.himmelfart\",\"h\",AC$6=\"1pinse\",\"h\",AC$6=\"2pinse\",\"h\",AC$6=\"1juledag\",\"h\",AC$6=\"2juledag\",\"h\",AC$6=\"nytårsdag\",\"h\")","v":{"$error":"#N/A"}},{"$f":"_xlfn.IFS(AD$7=\"søndag\",\"-\",AD$6=\"skærtd\",\"h\",AD$6=\"langfd\",\"h\",AD$6=\"1påsked\",\"h\",AD$6=\"2påsked\",\"h\",AD$6=\"kr.himmelfart\",\"h\",AD$6=\"1pinse\",\"h\",AD$6=\"2pinse\",\"h\",AD$6=\"1juledag\",\"h\",AD$6=\"2juledag\",\"h\",AD$6=\"nytårsdag\",\"h\")","v":"-"},{"$f":"_xlfn.IFS(AE$7=\"søndag\",\"-\",AE$6=\"skærtd\",\"h\",AE$6=\"langfd\",\"h\",AE$6=\"1påsked\",\"h\",AE$6=\"2påsked\",\"h\",AE$6=\"kr.himmelfart\",\"h\",AE$6=\"1pinse\",\"h\",AE$6=\"2pinse\",\"h\",AE$6=\"1juledag\",\"h\",AE$6=\"2juledag\",\"h\",AE$6=\"nytårsdag\",\"h\")","v":{"$error":"#N/A"}},{"$f":"_xlfn.IFS(AF$7=\"søndag\",\"-\",AF$6=\"skærtd\",\"h\",AF$6=\"langfd\",\"h\",AF$6=\"1påsked\",\"h\",AF$6=\"2påsked\",\"h\",AF$6=\"kr.himmelfart\",\"h\",AF$6=\"1pinse\",\"h\",AF$6=\"2pinse\",\"h\",AF$6=\"1juledag\",\"h\",AF$6=\"2juledag\",\"h\",AF$6=\"nytårsdag\",\"h\")","v":{"$error":"#N/A"}},{"$f":"_xlfn.IFS(AG$7=\"søndag\",\"-\",AG$6=\"skærtd\",\"h\",AG$6=\"langfd\",\"h\",AG$6=\"1påsked\",\"h\",AG$6=\"2påsked\",\"h\",AG$6=\"kr.himmelfart\",\"h\",AG$6=\"1pinse\",\"h\",AG$6=\"2pinse\",\"h\",AG$6=\"1juledag\",\"h\",AG$6=\"2juledag\",\"h\",AG$6=\"nytårsdag\",\"h\")","v":{"$error":"#N/A"}},{"$f":"_xlfn.IFS(AH$7=\"søndag\",\"-\",AH$6=\"skærtd\",\"h\",AH$6=\"langfd\",\"h\",AH$6=\"1påsked\",\"h\",AH$6=\"2påsked\",\"h\",AH$6=\"kr.himmelfart\",\"h\",AH$6=\"1pinse\",\"h\",AH$6=\"2pinse\",\"h\",AH$6=\"1juledag\",\"h\",AH$6=\"2juledag\",\"h\",AH$6=\"nytårsdag\",\"h\")","v":{"$error":"#N/A"}}]
[null,"Sygedage",null,{"$f":"IF(D64=\"s\",D63,\"-\")","v":"-"},{"$f":"IF(E64=\"s\",E63,\"-\")","v":"-"},"-","-","-","-","-","-","-","-","-","-","-","-","-","-","-","-","-","-","-","-","-","-","-","-","-","-","-","-","-"]
[null,null,{"$f":"$C$15","v":14},"Timer uge",null,null,{"$f":"SUMIF($D$5:$AH$5,C69,D63:AH63)","v":0},{"$f":"$H$15","v":15},{"$f":"D69","v":"Timer uge"},null,null,null,null,{"$f":"SUMIF($D$5:$AH$5,H69,D63:AH63)","v":0},{"$f":"$O$15","v":16},{"$f":"D69","v":"Timer uge"},null,null,null,null,{"$f":"_xlfn.IFS($O69=$BV62,$BV63,$O69=$BW62,Lønskema!$BW63,$O69=$BX62,$BX63,$O69=$BY62,$BY63,$O69=$BZ62,$BZ63,$O69=$CA62,$CA63,$O69=$CB62,$CB63,$O69=$CC62,$CC63,$O69=$CD62,$CD63,$O69=$CE62,$CE63,$O69=$CF62,$CF63,$O69=$CG62,$CF63,$O69=$CG62,$CG63,$O69=$CH62,$CH63,$O69=$CI62,$CI63,$O69=$CJ62,$CJ63,$O69=$CK62,$CK63,$O69=$CL62,$CL63,$O69=$CM62,$CM63,$O69=$CN62,$CN63,$O69=$CO62,$CO63,$O69=$CP62,$CP63,$O69=$CQ62,$CQ63,$O69=$CR62,$CR63,$O69=$CS62,$CS63,$O69=$CT62,$CT63,$O69=$CU62,$CU63,$O69=$CV62,$CV63,$O69=$CW62,$CW63,$O69=$CX62,$CX63,$O69=$CY62,$CY63,$O69=$CZ62,$CZ63,$O69=$DA62,$DA63,$O69=$DB62,$DB63,$O69=$DC62,$DC63,$O69=$DD62,$DD63,$O69=$DE62,$DE63,$O69=$DF62,$DF63,$O69=$DG62,$DG63,$O69=$DH62,$DH63,$O69=$DI62,$DI63,$O69=$DJ62,$DJ63,$O69=$DK62,$DK63,$O69=$DL62,$DL63,$O69=$DM62,$DM63,$O69=$DN62,$DN63,$O69=$DO62,$DO63,$O69=$DP62,$DP63,$O69=$DQ62,$DQ63,$O69=$DR62,$DR63,$O69=$DS62,$DS63,$O69=$DT62,$DT63,$O69=$DU62,$DU63)","v":0},{"$f":"$V$15","v":17},{"$f":"D69","v":"Timer uge"},null,null,null,null,{"$f":"SUMIF($D$5:$AH$5,V69,D63:AH63)","v":0},{"$f":"$AC$15","v":18},{"$f":"D69","v":"Timer uge"},null,null,null,{"$f":"SUMIF($D$5:$AH$5,AC69,D63:AH63)","v":0},{"$f":"$AI$15","v":19},{"$f":"D69","v":"Timer uge"},null,null,null,{"$f":"SUMIF($D$5:$AH$5,AI69,D63:AH63)","v":0}]
[null,null,null,"Overarbejde 50% 1-3 timer",null,null,{"$f":"IF($G69>37,$G69-37-$G71,0)","v":0},null,{"$f":"D70","v":"Overarbejde 50% 1-3 timer"},null,null,null,null,{"$f":"IF($N69>37,$N69-37-$N71,0)","v":0},null,{"$f":"D70","v":"Overarbejde 50% 1-3 timer"},null,null,null,null,{"$f":"IF($U69>37,$U69-37-$U71,0)","v":0},null,{"$f":"D70","v":"Overarbejde 50% 1-3 timer"},null,null,null,null,{"$f":"IF($AB69>37,$AB69-37-$AB71,0)","v":0},null,{"$f":"D70","v":"Overarbejde 50% 1-3 timer"},null,null,null,{"$f":"IF($AH69>37,$AH69-37-$AH71,0)","v":0},null,{"$f":"D70","v":"Overarbejde 50% 1-3 timer"},null,null,null,{"$f":"IF($AH69>37,$AH69-37-$AH71,0)","v":0}]
[null,null,null,"Overarbejde 100% over 3 timer",null,null,{"$f":"IF($G69>40,$G69-40,0)","v":0},null,"Overarbejde 100% over 3 timer",null,null,null,null,{"$f":"IF($N69>40,$N69-40,0)","v":0},null,"Overarbejde 100% over 3 timer",null,null,null,null,{"$f":"IF($U69>40,$U69-40,0)","v":0},null,"Overarbejde 100% over 3 timer",null,null,null,null,{"$f":"IF($AB69>40,$AB69-40,0)","v":0},null,"Overarbejde 100% over 3 timer",null,null,null,{"$f":"IF($AH69>40,$AH69-40,0)","v":0},null,{"$f":"D71","v":"Overarbejde 100% over 3 timer"},null,null,null,{"$f":"IF($AH69>40,$AH69-40,0)","v":0},null,null,null,null,null,null,null,null,null,null,null,null,null,null,null,null,null,null,null,null,null,null,null,null,null,null,null,null,null,null,null,null,null,1,2,3,4,5,6,7,8,9,10,11,12,13,14,15,16,17,18,19,20,21,22,23,24,25,26,27,28,29,30,31,32,33,34,35,36,37,38,39,40,41,42,43,44,45,46,47,48,49,50,51,52]
[{"$f":"Medarbejder!A10","v":0},{"$f":"Medarbejder!B10","v":0},{"$f":"Medarbejder!C10","v":"-"},null,null,null,null,null,null,null,null,null,null,null,null,null,null,null,null,null,null,null,null,null,null,null,null,null,null,null,null,null,null,null,null,null,null,null,null,null,null,{"$f":"AO72*Overenskomst!$C$22","v":0},{"$f":"SUM($D72:$AH72)-$BA72-$BF72-$BD72","v":0},{"$f":"IF(Medarbejder!$J10=\"ja\",$AQ72,\"-\")","v":"-"},{"$f":"SUMIF($D$7:$AH$7,\"søndag\",$D72:$AH72)+$AT72","v":0},{"$f":"SUMIFS($D72:$AH72,$D76:$AH76,\"H\")","v":0},{"$f":"G79+N79+U79+AB79+AH79+AN79","v":0},{"$f":"G80+N80+U80+AB80+AH80+AN80","v":0},{"$f":"SUM($D74:$AH74)","v":0},{"$f":"SUM($D75:$AH75)","v":0},{"$f":"COUNTIFS($D73:$AH73,\"F\")","v":0},{"$f":"COUNTIFS($D73:$AH73,\"S\")","v":0},{"$f":"SUMIF($D73:$AH73,\"S\",$D77:$AH77)","v":0},{"$f":"COUNTIFS($D73:$AH73,\"p\")","v":0},{"$f":"COUNTIFS($D73:$AH73,\"BS\")","v":0},{"$f":"SUMIF(D73:AH73,\"bs\",$D72:$AH72)","v":0},{"$f":"COUNTIFS($D73:$AH73,\"FF\")","v":0},{"$f":"SUMIF($D73:$AH73,\"g\",$D72:$AH72)","v":0},{"$f":"Medarbejder!$N10","v":"-"},{"$f":"SUM($BL72:$BU72)","v":4},null,null,null,{"$f":"COUNTIFS($D$6:$AH$6,\"skærtd\")","v":1},{"$f":"COUNTIFS($D$6:$AH$6,\"langfd\")","v":1},{"$f":"COUNTIFS($D$6:$AH$6,\"1påsked\")","v":1},{"$f":"COUNTIFS($D$6:$AH$6,\"2påsked\")","v":1},{"$f":"COUNTIFS($D$6:$AH$6,\"kr.himmelfart\")","v":0},{"$f":"COUNTIFS($D$6:$AH$6,\"1pinse\")","v":0},{"$f":"COUNTIFS($D$6:$AH$6,\"2pinse\")","v":0},{"$f":"COUNTIFS($D$6:$AH$6,\"1juledag\")","v":0},{"$f":"COUNTIFS($D$6:$AH$6,\"2juledag\")","v":0},{"$f":"COUNTIFS($D$6:$AH$6,\"nytårsdag\")","v":0},{"$f":"SUMIFS($D72:$AH72,Lønskema!$D$5:$AH$5,1)","v":0},{"$f":"SUMIFS($D72:$AH72,Lønskema!$D$5:$AH$5,2)","v":0},{"$f":"SUMIFS($D72:$AH72,Lønskema!$D$5:$AH$5,3)","v":0},{"$f":"SUMIFS($D72:$AH72,Lønskema!$D$5:$AH$5,4)","v":0},{"$f":"SUMIFS($D72:$AH72,Lønskema!$D$5:$AH$5,5)","v":0},{"$f":"SUMIFS($D72:$AH72,Lønskema!$D$5:$AH$5,6)","v":0},{"$f":"SUMIFS($D72:$AH72,Lønskema!$D$5:$AH$5,7)","v":0},{"$f":"SUMIFS($D72:$AH72,Lønskema!$D$5:$AH$5,8)","v":0},{"$f":"SUMIFS($D72:$AH72,Lønskema!$D$5:$AH$5,9)","v":0},{"$f":"SUMIFS($D72:$AH72,Lønskema!$D$5:$AH$5,10)","v":0},{"$f":"SUMIFS($D72:$AH72,Lønskema!$D$5:$AH$5,11)","v":0},{"$f":"SUMIFS($D72:$AH72,Lønskema!$D$5:$AH$5,12)","v":0},{"$f":"SUMIFS($D72:$AH72,Lønskema!$D$5:$AH$5,13)","v":0},{"$f":"SUMIFS($D72:$AH72,Lønskema!$D$5:$AH$5,14)","v":0},{"$f":"SUMIFS($D72:$AH72,Lønskema!$D$5:$AH$5,15)","v":0},{"$f":"SUMIFS($D72:$AH72,Lønskema!$D$5:$AH$5,16)","v":0},{"$f":"SUMIFS($D72:$AH72,Lønskema!$D$5:$AH$5,17)","v":0},{"$f":"SUMIFS($D72:$AH72,Lønskema!$D$5:$AH$5,18)","v":0},{"$f":"SUMIFS($D72:$AH72,Lønskema!$D$5:$AH$5,19)","v":0},{"$f":"SUMIFS($D72:$AH72,Lønskema!$D$5:$AH$5,20)","v":0},{"$f":"SUMIFS($D72:$AH72,Lønskema!$D$5:$AH$5,21)","v":0},{"$f":"SUMIFS($D72:$AH72,Lønskema!$D$5:$AH$5,22)","v":0},{"$f":"SUMIFS($D72:$AH72,Lønskema!$D$5:$AH$5,23)","v":0},{"$f":"SUMIFS($D72:$AH72,Lønskema!$D$5:$AH$5,24)","v":0},{"$f":"SUMIFS($D72:$AH72,Lønskema!$D$5:$AH$5,25)","v":0},{"$f":"SUMIFS($D72:$AH72,Lønskema!$D$5:$AH$5,26)","v":0},{"$f":"SUMIFS($D72:$AH72,Lønskema!$D$5:$AH$5,27)","v":0},{"$f":"SUMIFS($D72:$AH72,Lønskema!$D$5:$AH$5,28)","v":0},{"$f":"SUMIFS($D72:$AH72,Lønskema!$D$5:$AH$5,29)","v":0},{"$f":"SUMIFS($D72:$AH72,Lønskema!$D$5:$AH$5,30)","v":0},{"$f":"SUMIFS($D72:$AH72,Lønskema!$D$5:$AH$5,31)","v":0},{"$f":"SUMIFS($D72:$AH72,Lønskema!$D$5:$AH$5,32)","v":0},{"$f":"SUMIFS($D72:$AH72,Lønskema!$D$5:$AH$5,33)","v":0},{"$f":"SUMIFS($D72:$AH72,Lønskema!$D$5:$AH$5,34)","v":0},{"$f":"SUMIFS($D72:$AH72,Lønskema!$D$5:$AH$5,35)","v":0},{"$f":"SUMIFS($D72:$AH72,Lønskema!$D$5:$AH$5,36)","v":0},{"$f":"SUMIFS($D72:$AH72,Lønskema!$D$5:$AH$5,37)","v":0},{"$f":"SUMIFS($D72:$AH72,Lønskema!$D$5:$AH$5,38)","v":0},{"$f":"SUMIFS($D72:$AH72,Lønskema!$D$5:$AH$5,39)","v":0},{"$f":"SUMIFS($D72:$AH72,Lønskema!$D$5:$AH$5,40)","v":0},{"$f":"SUMIFS($D72:$AH72,Lønskema!$D$5:$AH$5,41)","v":0},{"$f":"SUMIFS($D72:$AH72,Lønskema!$D$5:$AH$5,42)","v":0},{"$f":"SUMIFS($D72:$AH72,Lønskema!$D$5:$AH$5,43)","v":0},{"$f":"SUMIFS($D72:$AH72,Lønskema!$D$5:$AH$5,44)","v":0},{"$f":"SUMIFS($D72:$AH72,Lønskema!$D$5:$AH$5,45)","v":0},{"$f":"SUMIFS($D72:$AH72,Lønskema!$D$5:$AH$5,46)","v":0},{"$f":"SUMIFS($D72:$AH72,Lønskema!$D$5:$AH$5,47)","v":0},{"$f":"SUMIFS($D72:$AH72,Lønskema!$D$5:$AH$5,48)","v":0},{"$f":"SUMIFS($D72:$AH72,Lønskema!$D$5:$AH$5,49)","v":0},{"$f":"SUMIFS($D72:$AH72,Lønskema!$D$5:$AH$5,50)","v":0},{"$f":"SUMIFS($D72:$AH72,Lønskema!$D$5:$AH$5,51)","v":0},{"$f":"SUMIFS($D72:$AH72,Lønskema!$D$5:$AH$5,52)","v":0}]
["Ferie - syg  mm. Registreres i denne række"]
[null,"Aften"]
[null,"Nat"]
[null,"Helligdag",null,{"$f":"_xlfn.IFS(D$7=\"søndag\",\"-\",D$6=\"skærtd\",\"h\",D$6=\"langfd\",\"h\",D$6=\"1påsked\",\"h\",D$6=\"2påsked\",\"h\",D$6=\"kr.himmelfart\",\"h\",D$6=\"1pinse\",\"h\",D$6=\"2pinse\",\"h\",D$6=\"1juledag\",\"h\",D$6=\"2juledag\",\"h\",D$6=\"nytårsdag\",\"h\")","v":{"$error":"#N/A"}},{"$f":"_xlfn.IFS(E$7=\"søndag\",\"-\",E$6=\"skærtd\",\"h\",E$6=\"langfd\",\"h\",E$6=\"1påsked\",\"h\",E$6=\"2påsked\",\"h\",E$6=\"kr.himmelfart\",\"h\",E$6=\"1pinse\",\"h\",E$6=\"2pinse\",\"h\",E$6=\"1juledag\",\"h\",E$6=\"2juledag\",\"h\",E$6=\"nytårsdag\",\"h\")","v":{"$error":"#N/A"}},{"$f":"_xlfn.IFS(F$7=\"søndag\",\"-\",F$6=\"skærtd\",\"h\",F$6=\"langfd\",\"h\",F$6=\"1påsked\",\"h\",F$6=\"2påsked\",\"h\",F$6=\"kr.himmelfart\",\"h\",F$6=\"1pinse\",\"h\",F$6=\"2pinse\",\"h\",F$6=\"1juledag\",\"h\",F$6=\"2juledag\",\"h\",F$6=\"nytårsdag\",\"h\")","v":{"$error":"#N/A"}},{"$f":"_xlfn.IFS(G$7=\"søndag\",\"-\",G$6=\"skærtd\",\"h\",G$6=\"langfd\",\"h\",G$6=\"1påsked\",\"h\",G$6=\"2påsked\",\"h\",G$6=\"kr.himmelfart\",\"h\",G$6=\"1pinse\",\"h\",G$6=\"2pinse\",\"h\",G$6=\"1juledag\",\"h\",G$6=\"2juledag\",\"h\",G$6=\"nytårsdag\",\"h\")","v":{"$error":"#N/A"}},{"$f":"_xlfn.IFS(H$7=\"søndag\",\"-\",H$6=\"skærtd\",\"h\",H$6=\"langfd\",\"h\",H$6=\"1påsked\",\"h\",H$6=\"2påsked\",\"h\",H$6=\"kr.himmelfart\",\"h\",H$6=\"1pinse\",\"h\",H$6=\"2pinse\",\"h\",H$6=\"1juledag\",\"h\",H$6=\"2juledag\",\"h\",H$6=\"nytårsdag\",\"h\")","v":{"$error":"#N/A"}},{"$f":"_xlfn.IFS(I$7=\"søndag\",\"-\",I$6=\"skærtd\",\"h\",I$6=\"langfd\",\"h\",I$6=\"1påsked\",\"h\",I$6=\"2påsked\",\"h\",I$6=\"kr.himmelfart\",\"h\",I$6=\"1pinse\",\"h\",I$6=\"2pinse\",\"h\",I$6=\"1juledag\",\"h\",I$6=\"2juledag\",\"h\",I$6=\"nytårsdag\",\"h\")","v":"-"},{"$f":"_xlfn.IFS(J$7=\"søndag\",\"-\",J$6=\"skærtd\",\"h\",J$6=\"langfd\",\"h\",J$6=\"1påsked\",\"h\",J$6=\"2påsked\",\"h\",J$6=\"kr.himmelfart\",\"h\",J$6=\"1pinse\",\"h\",J$6=\"2pinse\",\"h\",J$6=\"1juledag\",\"h\",J$6=\"2juledag\",\"h\",J$6=\"nytårsdag\",\"h\")","v":{"$error":"#N/A"}},{"$f":"_xlfn.IFS(K$7=\"søndag\",\"-\",K$6=\"skærtd\",\"h\",K$6=\"langfd\",\"h\",K$6=\"1påsked\",\"h\",K$6=\"2påsked\",\"h\",K$6=\"kr.himmelfart\",\"h\",K$6=\"1pinse\",\"h\",K$6=\"2pinse\",\"h\",K$6=\"1juledag\",\"h\",K$6=\"2juledag\",\"h\",K$6=\"nytårsdag\",\"h\")","v":{"$error":"#N/A"}},{"$f":"_xlfn.IFS(L$7=\"søndag\",\"-\",L$6=\"skærtd\",\"h\",L$6=\"langfd\",\"h\",L$6=\"1påsked\",\"h\",L$6=\"2påsked\",\"h\",L$6=\"kr.himmelfart\",\"h\",L$6=\"1pinse\",\"h\",L$6=\"2pinse\",\"h\",L$6=\"1juledag\",\"h\",L$6=\"2juledag\",\"h\",L$6=\"nytårsdag\",\"h\")","v":{"$error":"#N/A"}},{"$f":"_xlfn.IFS(M$7=\"søndag\",\"-\",M$6=\"skærtd\",\"h\",M$6=\"langfd\",\"h\",M$6=\"1påsked\",\"h\",M$6=\"2påsked\",\"h\",M$6=\"kr.himmelfart\",\"h\",M$6=\"1pinse\",\"h\",M$6=\"2pinse\",\"h\",M$6=\"1juledag\",\"h\",M$6=\"2juledag\",\"h\",M$6=\"nytårsdag\",\"h\")","v":{"$error":"#N/A"}},{"$f":"_xlfn.IFS(N$7=\"søndag\",\"-\",N$6=\"skærtd\",\"h\",N$6=\"langfd\",\"h\",N$6=\"1påsked\",\"h\",N$6=\"2påsked\",\"h\",N$6=\"kr.himmelfart\",\"h\",N$6=\"1pinse\",\"h\",N$6=\"2pinse\",\"h\",N$6=\"1juledag\",\"h\",N$6=\"2juledag\",\"h\",N$6=\"nytårsdag\",\"h\")","v":{"$error":"#N/A"}},{"$f":"_xlfn.IFS(O$7=\"søndag\",\"-\",O$6=\"skærtd\",\"h\",O$6=\"langfd\",\"h\",O$6=\"1påsked\",\"h\",O$6=\"2påsked\",\"h\",O$6=\"kr.himmelfart\",\"h\",O$6=\"1pinse\",\"h\",O$6=\"2pinse\",\"h\",O$6=\"1juledag\",\"h\",O$6=\"2juledag\",\"h\",O$6=\"nytårsdag\",\"h\")","v":{"$error":"#N/A"}},{"$f":"_xlfn.IFS(P$7=\"søndag\",\"-\",P$6=\"skærtd\",\"h\",P$6=\"langfd\",\"h\",P$6=\"1påsked\",\"h\",P$6=\"2påsked\",\"h\",P$6=\"kr.himmelfart\",\"h\",P$6=\"1pinse\",\"h\",P$6=\"2pinse\",\"h\",P$6=\"1juledag\",\"h\",P$6=\"2juledag\",\"h\",P$6=\"nytårsdag\",\"h\")","v":"-"},{"$f":"_xlfn.IFS(Q$7=\"søndag\",\"-\",Q$6=\"skærtd\",\"h\",Q$6=\"langfd\",\"h\",Q$6=\"1påsked\",\"h\",Q$6=\"2påsked\",\"h\",Q$6=\"kr.himmelfart\",\"h\",Q$6=\"1pinse\",\"h\",Q$6=\"2pinse\",\"h\",Q$6=\"1juledag\",\"h\",Q$6=\"2juledag\",\"h\",Q$6=\"nytårsdag\",\"h\")","v":{"$error":"#N/A"}},{"$f":"_xlfn.IFS(R$7=\"søndag\",\"-\",R$6=\"skærtd\",\"h\",R$6=\"langfd\",\"h\",R$6=\"1påsked\",\"h\",R$6=\"2påsked\",\"h\",R$6=\"kr.himmelfart\",\"h\",R$6=\"1pinse\",\"h\",R$6=\"2pinse\",\"h\",R$6=\"1juledag\",\"h\",R$6=\"2juledag\",\"h\",R$6=\"nytårsdag\",\"h\")","v":{"$error":"#N/A"}},{"$f":"_xlfn.IFS(S$7=\"søndag\",\"-\",S$6=\"skærtd\",\"h\",S$6=\"langfd\",\"h\",S$6=\"1påsked\",\"h\",S$6=\"2påsked\",\"h\",S$6=\"kr.himmelfart\",\"h\",S$6=\"1pinse\",\"h\",S$6=\"2pinse\",\"h\",S$6=\"1juledag\",\"h\",S$6=\"2juledag\",\"h\",S$6=\"nytårsdag\",\"h\")","v":{"$error":"#N/A"}},{"$f":"_xlfn.IFS(T$7=\"søndag\",\"-\",T$6=\"skærtd\",\"h\",T$6=\"langfd\",\"h\",T$6=\"1påsked\",\"h\",T$6=\"2påsked\",\"h\",T$6=\"kr.himmelfart\",\"h\",T$6=\"1pinse\",\"h\",T$6=\"2pinse\",\"h\",T$6=\"1juledag\",\"h\",T$6=\"2juledag\",\"h\",T$6=\"nytårsdag\",\"h\")","v":"h"},{"$f":"_xlfn.IFS(U$7=\"søndag\",\"-\",U$6=\"skærtd\",\"h\",U$6=\"langfd\",\"h\",U$6=\"1påsked\",\"h\",U$6=\"2påsked\",\"h\",U$6=\"kr.himmelfart\",\"h\",U$6=\"1pinse\",\"h\",U$6=\"2pinse\",\"h\",U$6=\"1juledag\",\"h\",U$6=\"2juledag\",\"h\",U$6=\"nytårsdag\",\"h\")","v":"h"},{"$f":"_xlfn.IFS(V$7=\"søndag\",\"-\",V$6=\"skærtd\",\"h\",V$6=\"langfd\",\"h\",V$6=\"1påsked\",\"h\",V$6=\"2påsked\",\"h\",V$6=\"kr.himmelfart\",\"h\",V$6=\"1pinse\",\"h\",V$6=\"2pinse\",\"h\",V$6=\"1juledag\",\"h\",V$6=\"2juledag\",\"h\",V$6=\"nytårsdag\",\"h\")","v":{"$error":"#N/A"}},{"$f":"_xlfn.IFS(W$7=\"søndag\",\"-\",W$6=\"skærtd\",\"h\",W$6=\"langfd\",\"h\",W$6=\"1påsked\",\"h\",W$6=\"2påsked\",\"h\",W$6=\"kr.himmelfart\",\"h\",W$6=\"1pinse\",\"h\",W$6=\"2pinse\",\"h\",W$6=\"1juledag\",\"h\",W$6=\"2juledag\",\"h\",W$6=\"nytårsdag\",\"h\")","v":"-"},{"$f":"_xlfn.IFS(X$7=\"søndag\",\"-\",X$6=\"skærtd\",\"h\",X$6=\"langfd\",\"h\",X$6=\"1påsked\",\"h\",X$6=\"2påsked\",\"h\",X$6=\"kr.himmelfart\",\"h\",X$6=\"1pinse\",\"h\",X$6=\"2pinse\",\"h\",X$6=\"1juledag\",\"h\",X$6=\"2juledag\",\"h\",X$6=\"nytårsdag\",\"h\")","v":"h"},{"$f":"_xlfn.IFS(Y$7=\"søndag\",\"-\",Y$6=\"skærtd\",\"h\",Y$6=\"langfd\",\"h\",Y$6=\"1påsked\",\"h\",Y$6=\"2påsked\",\"h\",Y$6=\"kr.himmelfart\",\"h\",Y$6=\"1pinse\",\"h\",Y$6=\"2pinse\",\"h\",Y$6=\"1juledag\",\"h\",Y$6=\"2juledag\",\"h\",Y$6=\"nytårsdag\",\"h\")","v":{"$error":"#N/A"}},{"$f":"_xlfn.IFS(Z$7=\"søndag\",\"-\",Z$6=\"skærtd\",\"h\",Z$6=\"langfd\",\"h\",Z$6=\"1påsked\",\"h\",Z$6=\"2påsked\",\"h\",Z$6=\"kr.himmelfart\",\"h\",Z$6=\"1pinse\",\"h\",Z$6=\"2pinse\",\"h\",Z$6=\"1juledag\",\"h\",Z$6=\"2juledag\",\"h\",Z$6=\"nytårsdag\",\"h\")","v":{"$error":"#N/A"}},{"$f":"_xlfn.IFS(AA$7=\"søndag\",\"-\",AA$6=\"skærtd\",\"h\",AA$6=\"langfd\",\"h\",AA$6=\"1påsked\",\"h\",AA$6=\"2påsked\",\"h\",AA$6=\"kr.himmelfart\",\"h\",AA$6=\"1pinse\",\"h\",AA$6=\"2pinse\",\"h\",AA$6=\"1juledag\",\"h\",AA$6=\"2juledag\",\"h\",AA$6=\"nytårsdag\",\"h\")","v":{"$error":"#N/A"}},{"$f":"_xlfn.IFS(AB$7=\"søndag\",\"-\",AB$6=\"skærtd\",\"h\",AB$6=\"langfd\",\"h\",AB$6=\"1påsked\",\"h\",AB$6=\"2påsked\",\"h\",AB$6=\"kr.himmelfart\",\"h\",AB$6=\"1pinse\",\"h\",AB$6=\"2pinse\",\"h\",AB$6=\"1juledag\",\"h\",AB$6=\"2juledag\",\"h\",AB$6=\"nytårsdag\",\"h\")","v":{"$error":"#N/A"}},{"$f":"_xlfn.IFS(AC$7=\"søndag\",\"-\",AC$6=\"skærtd\",\"h\",AC$6=\"langfd\",\"h\",AC$6=\"1påsked\",\"h\",AC$6=\"2påsked\",\"h\",AC$6=\"kr.himmelfart\",\"h\",AC$6=\"1pinse\",\"h\",AC$6=\"2pinse\",\"h\",AC$6=\"1juledag\",\"h\",AC$6=\"2juledag\",\"h\",AC$6=\"nytårsdag\",\"h\")","v":{"$error":"#N/A"}},{"$f":"_xlfn.IFS(AD$7=\"søndag\",\"-\",AD$6=\"skærtd\",\"h\",AD$6=\"langfd\",\"h\",AD$6=\"1påsked\",\"h\",AD$6=\"2påsked\",\"h\",AD$6=\"kr.himmelfart\",\"h\",AD$6=\"1pinse\",\"h\",AD$6=\"2pinse\",\"h\",AD$6=\"1juledag\",\"h\",AD$6=\"2juledag\",\"h\",AD$6=\"nytårsdag\",\"h\")","v":"-"},{"$f":"_xlfn.IFS(AE$7=\"søndag\",\"-\",AE$6=\"skærtd\",\"h\",AE$6=\"langfd\",\"h\",AE$6=\"1påsked\",\"h\",AE$6=\"2påsked\",\"h\",AE$6=\"kr.himmelfart\",\"h\",AE$6=\"1pinse\",\"h\",AE$6=\"2pinse\",\"h\",AE$6=\"1juledag\",\"h\",AE$6=\"2juledag\",\"h\",AE$6=\"nytårsdag\",\"h\")","v":{"$error":"#N/A"}},{"$f":"_xlfn.IFS(AF$7=\"søndag\",\"-\",AF$6=\"skærtd\",\"h\",AF$6=\"langfd\",\"h\",AF$6=\"1påsked\",\"h\",AF$6=\"2påsked\",\"h\",AF$6=\"kr.himmelfart\",\"h\",AF$6=\"1pinse\",\"h\",AF$6=\"2pinse\",\"h\",AF$6=\"1juledag\",\"h\",AF$6=\"2juledag\",\"h\",AF$6=\"nytårsdag\",\"h\")","v":{"$error":"#N/A"}},{"$f":"_xlfn.IFS(AG$7=\"søndag\",\"-\",AG$6=\"skærtd\",\"h\",AG$6=\"langfd\",\"h\",AG$6=\"1påsked\",\"h\",AG$6=\"2påsked\",\"h\",AG$6=\"kr.himmelfart\",\"h\",AG$6=\"1pinse\",\"h\",AG$6=\"2pinse\",\"h\",AG$6=\"1juledag\",\"h\",AG$6=\"2juledag\",\"h\",AG$6=\"nytårsdag\",\"h\")","v":{"$error":"#N/A"}},{"$f":"_xlfn.IFS(AH$7=\"søndag\",\"-\",AH$6=\"skærtd\",\"h\",AH$6=\"langfd\",\"h\",AH$6=\"1påsked\",\"h\",AH$6=\"2påsked\",\"h\",AH$6=\"kr.himmelfart\",\"h\",AH$6=\"1pinse\",\"h\",AH$6=\"2pinse\",\"h\",AH$6=\"1juledag\",\"h\",AH$6=\"2juledag\",\"h\",AH$6=\"nytårsdag\",\"h\")","v":{"$error":"#N/A"}}]
[null,"Sygedage",null,{"$f":"IF(D73=\"s\",D72,\"-\")","v":"-"},{"$f":"IF(E73=\"s\",E72,\"-\")","v":"-"},"-","-","-","-","-","-","-","-","-","-","-","-","-","-","-","-","-","-","-","-","-","-","-","-","-","-","-","-","-"]
[null,null,{"$f":"$C$15","v":14},"Timer uge",null,null,{"$f":"SUMIF($D$5:$AH$5,C78,D72:AH72)","v":0},{"$f":"$H$15","v":15},{"$f":"D78","v":"Timer uge"},null,null,null,null,{"$f":"SUMIF($D$5:$AH$5,H78,D72:AH72)","v":0},{"$f":"$O$15","v":16},{"$f":"D78","v":"Timer uge"},null,null,null,null,{"$f":"_xlfn.IFS($O78=$BV71,$BV72,$O78=$BW71,Lønskema!$BW72,$O78=$BX71,$BX72,$O78=$BY71,$BY72,$O78=$BZ71,$BZ72,$O78=$CA71,$CA72,$O78=$CB71,$CB72,$O78=$CC71,$CC72,$O78=$CD71,$CD72,$O78=$CE71,$CE72,$O78=$CF71,$CF72,$O78=$CG71,$CF72,$O78=$CG71,$CG72,$O78=$CH71,$CH72,$O78=$CI71,$CI72,$O78=$CJ71,$CJ72,$O78=$CK71,$CK72,$O78=$CL71,$CL72,$O78=$CM71,$CM72,$O78=$CN71,$CN72,$O78=$CO71,$CO72,$O78=$CP71,$CP72,$O78=$CQ71,$CQ72,$O78=$CR71,$CR72,$O78=$CS71,$CS72,$O78=$CT71,$CT72,$O78=$CU71,$CU72,$O78=$CV71,$CV72,$O78=$CW71,$CW72,$O78=$CX71,$CX72,$O78=$CY71,$CY72,$O78=$CZ71,$CZ72,$O78=$DA71,$DA72,$O78=$DB71,$DB72,$O78=$DC71,$DC72,$O78=$DD71,$DD72,$O78=$DE71,$DE72,$O78=$DF71,$DF72,$O78=$DG71,$DG72,$O78=$DH71,$DH72,$O78=$DI71,$DI72,$O78=$DJ71,$DJ72,$O78=$DK71,$DK72,$O78=$DL71,$DL72,$O78=$DM71,$DM72,$O78=$DN71,$DN72,$O78=$DO71,$DO72,$O78=$DP71,$DP72,$O78=$DQ71,$DQ72,$O78=$DR71,$DR72,$O78=$DS71,$DS72,$O78=$DT71,$DT72,$O78=$DU71,$DU72)","v":0},{"$f":"$V$15","v":17},{"$f":"D78","v":"Timer uge"},null,null,null,null,{"$f":"SUMIF($D$5:$AH$5,V78,D72:AH72)","v":0},{"$f":"$AC$15","v":18},{"$f":"D78","v":"Timer uge"},null,null,null,{"$f":"SUMIF($D$5:$AH$5,AC78,D72:AH72)","v":0},{"$f":"$AI$15","v":19},{"$f":"D78","v":"Timer uge"},null,null,null,{"$f":"SUMIF($D$5:$AH$5,AI78,D72:AH72)","v":0}]
[null,null,null,"Overarbejde 50% 1-3 timer",null,null,{"$f":"IF($G78>37,$G78-37-$G80,0)","v":0},null,{"$f":"D79","v":"Overarbejde 50% 1-3 timer"},null,null,null,null,{"$f":"IF($N78>37,$N78-37-$N80,0)","v":0},null,{"$f":"D79","v":"Overarbejde 50% 1-3 timer"},null,null,null,null,{"$f":"IF($U78>37,$U78-37-$U80,0)","v":0},null,{"$f":"D79","v":"Overarbejde 50% 1-3 timer"},null,null,null,null,{"$f":"IF($AB78>37,$AB78-37-$AB80,0)","v":0},null,{"$f":"D79","v":"Overarbejde 50% 1-3 timer"},null,null,null,{"$f":"IF($AH78>37,$AH78-37-$AH80,0)","v":0},null,{"$f":"D79","v":"Overarbejde 50% 1-3 timer"},null,null,null,{"$f":"IF($AH78>37,$AH78-37-$AH80,0)","v":0}]
[null,null,null,"Overarbejde 100% over 3 timer",null,null,{"$f":"IF($G78>40,$G78-40,0)","v":0},null,"Overarbejde 100% over 3 timer",null,null,null,null,{"$f":"IF($N78>40,$N78-40,0)","v":0},null,"Overarbejde 100% over 3 timer",null,null,null,null,{"$f":"IF($U78>40,$U78-40,0)","v":0},null,"Overarbejde 100% over 3 timer",null,null,null,null,{"$f":"IF($AB78>40,$AB78-40,0)","v":0},null,"Overarbejde 100% over 3 timer",null,null,null,{"$f":"IF($AH78>40,$AH78-40,0)","v":0},null,{"$f":"D80","v":"Overarbejde 100% over 3 timer"},null,null,null,{"$f":"IF($AH78>40,$AH78-40,0)","v":0},null,null,null,null,null,null,null,null,null,null,null,null,null,null,null,null,null,null,null,null,null,null,null,null,null,null,null,null,null,null,null,null,null,1,2,3,4,5,6,7,8,9,10,11,12,13,14,15,16,17,18,19,20,21,22,23,24,25,26,27,28,29,30,31,32,33,34,35,36,37,38,39,40,41,42,43,44,45,46,47,48,49,50,51,52]
[{"$f":"Medarbejder!A11","v":0},{"$f":"Medarbejder!B11","v":0},{"$f":"Medarbejder!C11","v":"-"},null,null,null,null,null,null,null,null,null,null,null,null,null,null,null,null,null,null,null,null,null,null,null,null,null,null,null,null,null,null,null,null,null,null,null,null,null,null,{"$f":"AO81*Overenskomst!$C$22","v":0},{"$f":"SUM($D81:$AH81)-$BA81-$BF81-$BD81","v":0},{"$f":"IF(Medarbejder!$J11=\"ja\",$AQ81,\"-\")","v":"-"},{"$f":"SUMIF($D$7:$AH$7,\"søndag\",$D81:$AH81)+$AT81","v":0},{"$f":"SUMIFS($D81:$AH81,$D85:$AH85,\"H\")","v":0},{"$f":"G88+N88+U88+AB88+AH88+AN88","v":0},{"$f":"G89+N89+U89+AB89+AH89+AN89","v":0},{"$f":"SUMIF($D82:$AH82,\"A\",$D83:$AH83)","v":0},{"$f":"SUMIF($D82:$AH82,\"N\",$D84:$AH84)","v":0},{"$f":"COUNTIFS($D82:$AH82,\"F\")","v":0},{"$f":"COUNTIFS($D82:$AH82,\"S\")","v":0},{"$f":"SUMIF($D82:$AH82,\"S\",$D86:$AH86)","v":0},{"$f":"COUNTIFS($D82:$AH82,\"p\")","v":0},{"$f":"COUNTIFS($D82:$AH82,\"BS\")","v":0},{"$f":"SUMIF(D82:AH82,\"bs\",$D81:$AH81)","v":0},{"$f":"COUNTIFS($D82:$AH82,\"FF\")","v":0},{"$f":"SUMIF($D82:$AH82,\"g\",$D81:$AH81)","v":0},{"$f":"Medarbejder!$N11","v":"-"},{"$f":"SUM($BL81:$BU81)","v":4},null,null,null,{"$f":"COUNTIFS($D$6:$AH$6,\"skærtd\")","v":1},{"$f":"COUNTIFS($D$6:$AH$6,\"langfd\")","v":1},{"$f":"COUNTIFS($D$6:$AH$6,\"1påsked\")","v":1},{"$f":"COUNTIFS($D$6:$AH$6,\"2påsked\")","v":1},{"$f":"COUNTIFS($D$6:$AH$6,\"kr.himmelfart\")","v":0},{"$f":"COUNTIFS($D$6:$AH$6,\"1pinse\")","v":0},{"$f":"COUNTIFS($D$6:$AH$6,\"2pinse\")","v":0},{"$f":"COUNTIFS($D$6:$AH$6,\"1juledag\")","v":0},{"$f":"COUNTIFS($D$6:$AH$6,\"2juledag\")","v":0},{"$f":"COUNTIFS($D$6:$AH$6,\"nytårsdag\")","v":0},{"$f":"SUMIFS($D81:$AH81,Lønskema!$D$5:$AH$5,1)","v":0},{"$f":"SUMIFS($D81:$AH81,Lønskema!$D$5:$AH$5,2)","v":0},{"$f":"SUMIFS($D81:$AH81,Lønskema!$D$5:$AH$5,3)","v":0},{"$f":"SUMIFS($D81:$AH81,Lønskema!$D$5:$AH$5,4)","v":0},{"$f":"SUMIFS($D81:$AH81,Lønskema!$D$5:$AH$5,5)","v":0},{"$f":"SUMIFS($D81:$AH81,Lønskema!$D$5:$AH$5,6)","v":0},{"$f":"SUMIFS($D81:$AH81,Lønskema!$D$5:$AH$5,7)","v":0},{"$f":"SUMIFS($D81:$AH81,Lønskema!$D$5:$AH$5,8)","v":0},{"$f":"SUMIFS($D81:$AH81,Lønskema!$D$5:$AH$5,9)","v":0},{"$f":"SUMIFS($D81:$AH81,Lønskema!$D$5:$AH$5,10)","v":0},{"$f":"SUMIFS($D81:$AH81,Lønskema!$D$5:$AH$5,11)","v":0},{"$f":"SUMIFS($D81:$AH81,Lønskema!$D$5:$AH$5,12)","v":0},{"$f":"SUMIFS($D81:$AH81,Lønskema!$D$5:$AH$5,13)","v":0},{"$f":"SUMIFS($D81:$AH81,Lønskema!$D$5:$AH$5,14)","v":0},{"$f":"SUMIFS($D81:$AH81,Lønskema!$D$5:$AH$5,15)","v":0},{"$f":"SUMIFS($D81:$AH81,Lønskema!$D$5:$AH$5,16)","v":0},{"$f":"SUMIFS($D81:$AH81,Lønskema!$D$5:$AH$5,17)","v":0},{"$f":"SUMIFS($D81:$AH81,Lønskema!$D$5:$AH$5,18)","v":0},{"$f":"SUMIFS($D81:$AH81,Lønskema!$D$5:$AH$5,19)","v":0},{"$f":"SUMIFS($D81:$AH81,Lønskema!$D$5:$AH$5,20)","v":0},{"$f":"SUMIFS($D81:$AH81,Lønskema!$D$5:$AH$5,21)","v":0},{"$f":"SUMIFS($D81:$AH81,Lønskema!$D$5:$AH$5,22)","v":0},{"$f":"SUMIFS($D81:$AH81,Lønskema!$D$5:$AH$5,23)","v":0},{"$f":"SUMIFS($D81:$AH81,Lønskema!$D$5:$AH$5,24)","v":0},{"$f":"SUMIFS($D81:$AH81,Lønskema!$D$5:$AH$5,25)","v":0},{"$f":"SUMIFS($D81:$AH81,Lønskema!$D$5:$AH$5,26)","v":0},{"$f":"SUMIFS($D81:$AH81,Lønskema!$D$5:$AH$5,27)","v":0},{"$f":"SUMIFS($D81:$AH81,Lønskema!$D$5:$AH$5,28)","v":0},{"$f":"SUMIFS($D81:$AH81,Lønskema!$D$5:$AH$5,29)","v":0},{"$f":"SUMIFS($D81:$AH81,Lønskema!$D$5:$AH$5,30)","v":0},{"$f":"SUMIFS($D81:$AH81,Lønskema!$D$5:$AH$5,31)","v":0},{"$f":"SUMIFS($D81:$AH81,Lønskema!$D$5:$AH$5,32)","v":0},{"$f":"SUMIFS($D81:$AH81,Lønskema!$D$5:$AH$5,33)","v":0},{"$f":"SUMIFS($D81:$AH81,Lønskema!$D$5:$AH$5,34)","v":0},{"$f":"SUMIFS($D81:$AH81,Lønskema!$D$5:$AH$5,35)","v":0},{"$f":"SUMIFS($D81:$AH81,Lønskema!$D$5:$AH$5,36)","v":0},{"$f":"SUMIFS($D81:$AH81,Lønskema!$D$5:$AH$5,37)","v":0},{"$f":"SUMIFS($D81:$AH81,Lønskema!$D$5:$AH$5,38)","v":0},{"$f":"SUMIFS($D81:$AH81,Lønskema!$D$5:$AH$5,39)","v":0},{"$f":"SUMIFS($D81:$AH81,Lønskema!$D$5:$AH$5,40)","v":0},{"$f":"SUMIFS($D81:$AH81,Lønskema!$D$5:$AH$5,41)","v":0},{"$f":"SUMIFS($D81:$AH81,Lønskema!$D$5:$AH$5,42)","v":0},{"$f":"SUMIFS($D81:$AH81,Lønskema!$D$5:$AH$5,43)","v":0},{"$f":"SUMIFS($D81:$AH81,Lønskema!$D$5:$AH$5,44)","v":0},{"$f":"SUMIFS($D81:$AH81,Lønskema!$D$5:$AH$5,45)","v":0},{"$f":"SUMIFS($D81:$AH81,Lønskema!$D$5:$AH$5,46)","v":0},{"$f":"SUMIFS($D81:$AH81,Lønskema!$D$5:$AH$5,47)","v":0},{"$f":"SUMIFS($D81:$AH81,Lønskema!$D$5:$AH$5,48)","v":0},{"$f":"SUMIFS($D81:$AH81,Lønskema!$D$5:$AH$5,49)","v":0},{"$f":"SUMIFS($D81:$AH81,Lønskema!$D$5:$AH$5,50)","v":0},{"$f":"SUMIFS($D81:$AH81,Lønskema!$D$5:$AH$5,51)","v":0},{"$f":"SUMIFS($D81:$AH81,Lønskema!$D$5:$AH$5,52)","v":0}]
["Ferie - syg  mm. Registreres i denne række"]
[null,"Aften"]
[null,"Nat"]
[null,"Helligdag",null,{"$f":"_xlfn.IFS(D$7=\"søndag\",\"-\",D$6=\"skærtd\",\"h\",D$6=\"langfd\",\"h\",D$6=\"1påsked\",\"h\",D$6=\"2påsked\",\"h\",D$6=\"kr.himmelfart\",\"h\",D$6=\"1pinse\",\"h\",D$6=\"2pinse\",\"h\",D$6=\"1juledag\",\"h\",D$6=\"2juledag\",\"h\",D$6=\"nytårsdag\",\"h\")","v":{"$error":"#N/A"}},{"$f":"_xlfn.IFS(E$7=\"søndag\",\"-\",E$6=\"skærtd\",\"h\",E$6=\"langfd\",\"h\",E$6=\"1påsked\",\"h\",E$6=\"2påsked\",\"h\",E$6=\"kr.himmelfart\",\"h\",E$6=\"1pinse\",\"h\",E$6=\"2pinse\",\"h\",E$6=\"1juledag\",\"h\",E$6=\"2juledag\",\"h\",E$6=\"nytårsdag\",\"h\")","v":{"$error":"#N/A"}},{"$f":"_xlfn.IFS(F$7=\"søndag\",\"-\",F$6=\"skærtd\",\"h\",F$6=\"langfd\",\"h\",F$6=\"1påsked\",\"h\",F$6=\"2påsked\",\"h\",F$6=\"kr.himmelfart\",\"h\",F$6=\"1pinse\",\"h\",F$6=\"2pinse\",\"h\",F$6=\"1juledag\",\"h\",F$6=\"2juledag\",\"h\",F$6=\"nytårsdag\",\"h\")","v":{"$error":"#N/A"}},{"$f":"_xlfn.IFS(G$7=\"søndag\",\"-\",G$6=\"skærtd\",\"h\",G$6=\"langfd\",\"h\",G$6=\"1påsked\",\"h\",G$6=\"2påsked\",\"h\",G$6=\"kr.himmelfart\",\"h\",G$6=\"1pinse\",\"h\",G$6=\"2pinse\",\"h\",G$6=\"1juledag\",\"h\",G$6=\"2juledag\",\"h\",G$6=\"nytårsdag\",\"h\")","v":{"$error":"#N/A"}},{"$f":"_xlfn.IFS(H$7=\"søndag\",\"-\",H$6=\"skærtd\",\"h\",H$6=\"langfd\",\"h\",H$6=\"1påsked\",\"h\",H$6=\"2påsked\",\"h\",H$6=\"kr.himmelfart\",\"h\",H$6=\"1pinse\",\"h\",H$6=\"2pinse\",\"h\",H$6=\"1juledag\",\"h\",H$6=\"2juledag\",\"h\",H$6=\"nytårsdag\",\"h\")","v":{"$error":"#N/A"}},{"$f":"_xlfn.IFS(I$7=\"søndag\",\"-\",I$6=\"skærtd\",\"h\",I$6=\"langfd\",\"h\",I$6=\"1påsked\",\"h\",I$6=\"2påsked\",\"h\",I$6=\"kr.himmelfart\",\"h\",I$6=\"1pinse\",\"h\",I$6=\"2pinse\",\"h\",I$6=\"1juledag\",\"h\",I$6=\"2juledag\",\"h\",I$6=\"nytårsdag\",\"h\")","v":"-"},{"$f":"_xlfn.IFS(J$7=\"søndag\",\"-\",J$6=\"skærtd\",\"h\",J$6=\"langfd\",\"h\",J$6=\"1påsked\",\"h\",J$6=\"2påsked\",\"h\",J$6=\"kr.himmelfart\",\"h\",J$6=\"1pinse\",\"h\",J$6=\"2pinse\",\"h\",J$6=\"1juledag\",\"h\",J$6=\"2juledag\",\"h\",J$6=\"nytårsdag\",\"h\")","v":{"$error":"#N/A"}},{"$f":"_xlfn.IFS(K$7=\"søndag\",\"-\",K$6=\"skærtd\",\"h\",K$6=\"langfd\",\"h\",K$6=\"1påsked\",\"h\",K$6=\"2påsked\",\"h\",K$6=\"kr.himmelfart\",\"h\",K$6=\"1pinse\",\"h\",K$6=\"2pinse\",\"h\",K$6=\"1juledag\",\"h\",K$6=\"2juledag\",\"h\",K$6=\"nytårsdag\",\"h\")","v":{"$error":"#N/A"}},{"$f":"_xlfn.IFS(L$7=\"søndag\",\"-\",L$6=\"skærtd\",\"h\",L$6=\"langfd\",\"h\",L$6=\"1påsked\",\"h\",L$6=\"2påsked\",\"h\",L$6=\"kr.himmelfart\",\"h\",L$6=\"1pinse\",\"h\",L$6=\"2pinse\",\"h\",L$6=\"1juledag\",\"h\",L$6=\"2juledag\",\"h\",L$6=\"nytårsdag\",\"h\")","v":{"$error":"#N/A"}},{"$f":"_xlfn.IFS(M$7=\"søndag\",\"-\",M$6=\"skærtd\",\"h\",M$6=\"langfd\",\"h\",M$6=\"1påsked\",\"h\",M$6=\"2påsked\",\"h\",M$6=\"kr.himmelfart\",\"h\",M$6=\"1pinse\",\"h\",M$6=\"2pinse\",\"h\",M$6=\"1juledag\",\"h\",M$6=\"2juledag\",\"h\",M$6=\"nytårsdag\",\"h\")","v":{"$error":"#N/A"}},{"$f":"_xlfn.IFS(N$7=\"søndag\",\"-\",N$6=\"skærtd\",\"h\",N$6=\"langfd\",\"h\",N$6=\"1påsked\",\"h\",N$6=\"2påsked\",\"h\",N$6=\"kr.himmelfart\",\"h\",N$6=\"1pinse\",\"h\",N$6=\"2pinse\",\"h\",N$6=\"1juledag\",\"h\",N$6=\"2juledag\",\"h\",N$6=\"nytårsdag\",\"h\")","v":{"$error":"#N/A"}},{"$f":"_xlfn.IFS(O$7=\"søndag\",\"-\",O$6=\"skærtd\",\"h\",O$6=\"langfd\",\"h\",O$6=\"1påsked\",\"h\",O$6=\"2påsked\",\"h\",O$6=\"kr.himmelfart\",\"h\",O$6=\"1pinse\",\"h\",O$6=\"2pinse\",\"h\",O$6=\"1juledag\",\"h\",O$6=\"2juledag\",\"h\",O$6=\"nytårsdag\",\"h\")","v":{"$error":"#N/A"}},{"$f":"_xlfn.IFS(P$7=\"søndag\",\"-\",P$6=\"skærtd\",\"h\",P$6=\"langfd\",\"h\",P$6=\"1påsked\",\"h\",P$6=\"2påsked\",\"h\",P$6=\"kr.himmelfart\",\"h\",P$6=\"1pinse\",\"h\",P$6=\"2pinse\",\"h\",P$6=\"1juledag\",\"h\",P$6=\"2juledag\",\"h\",P$6=\"nytårsdag\",\"h\")","v":"-"},{"$f":"_xlfn.IFS(Q$7=\"søndag\",\"-\",Q$6=\"skærtd\",\"h\",Q$6=\"langfd\",\"h\",Q$6=\"1påsked\",\"h\",Q$6=\"2påsked\",\"h\",Q$6=\"kr.himmelfart\",\"h\",Q$6=\"1pinse\",\"h\",Q$6=\"2pinse\",\"h\",Q$6=\"1juledag\",\"h\",Q$6=\"2juledag\",\"h\",Q$6=\"nytårsdag\",\"h\")","v":{"$error":"#N/A"}},{"$f":"_xlfn.IFS(R$7=\"søndag\",\"-\",R$6=\"skærtd\",\"h\",R$6=\"langfd\",\"h\",R$6=\"1påsked\",\"h\",R$6=\"2påsked\",\"h\",R$6=\"kr.himmelfart\",\"h\",R$6=\"1pinse\",\"h\",R$6=\"2pinse\",\"h\",R$6=\"1juledag\",\"h\",R$6=\"2juledag\",\"h\",R$6=\"nytårsdag\",\"h\")","v":{"$error":"#N/A"}},{"$f":"_xlfn.IFS(S$7=\"søndag\",\"-\",S$6=\"skærtd\",\"h\",S$6=\"langfd\",\"h\",S$6=\"1påsked\",\"h\",S$6=\"2påsked\",\"h\",S$6=\"kr.himmelfart\",\"h\",S$6=\"1pinse\",\"h\",S$6=\"2pinse\",\"h\",S$6=\"1juledag\",\"h\",S$6=\"2juledag\",\"h\",S$6=\"nytårsdag\",\"h\")","v":{"$error":"#N/A"}},{"$f":"_xlfn.IFS(T$7=\"søndag\",\"-\",T$6=\"skærtd\",\"h\",T$6=\"langfd\",\"h\",T$6=\"1påsked\",\"h\",T$6=\"2påsked\",\"h\",T$6=\"kr.himmelfart\",\"h\",T$6=\"1pinse\",\"h\",T$6=\"2pinse\",\"h\",T$6=\"1juledag\",\"h\",T$6=\"2juledag\",\"h\",T$6=\"nytårsdag\",\"h\")","v":"h"},{"$f":"_xlfn.IFS(U$7=\"søndag\",\"-\",U$6=\"skærtd\",\"h\",U$6=\"langfd\",\"h\",U$6=\"1påsked\",\"h\",U$6=\"2påsked\",\"h\",U$6=\"kr.himmelfart\",\"h\",U$6=\"1pinse\",\"h\",U$6=\"2pinse\",\"h\",U$6=\"1juledag\",\"h\",U$6=\"2juledag\",\"h\",U$6=\"nytårsdag\",\"h\")","v":"h"},{"$f":"_xlfn.IFS(V$7=\"søndag\",\"-\",V$6=\"skærtd\",\"h\",V$6=\"langfd\",\"h\",V$6=\"1påsked\",\"h\",V$6=\"2påsked\",\"h\",V$6=\"kr.himmelfart\",\"h\",V$6=\"1pinse\",\"h\",V$6=\"2pinse\",\"h\",V$6=\"1juledag\",\"h\",V$6=\"2juledag\",\"h\",V$6=\"nytårsdag\",\"h\")","v":{"$error":"#N/A"}},{"$f":"_xlfn.IFS(W$7=\"søndag\",\"-\",W$6=\"skærtd\",\"h\",W$6=\"langfd\",\"h\",W$6=\"1påsked\",\"h\",W$6=\"2påsked\",\"h\",W$6=\"kr.himmelfart\",\"h\",W$6=\"1pinse\",\"h\",W$6=\"2pinse\",\"h\",W$6=\"1juledag\",\"h\",W$6=\"2juledag\",\"h\",W$6=\"nytårsdag\",\"h\")","v":"-"},{"$f":"_xlfn.IFS(X$7=\"søndag\",\"-\",X$6=\"skærtd\",\"h\",X$6=\"langfd\",\"h\",X$6=\"1påsked\",\"h\",X$6=\"2påsked\",\"h\",X$6=\"kr.himmelfart\",\"h\",X$6=\"1pinse\",\"h\",X$6=\"2pinse\",\"h\",X$6=\"1juledag\",\"h\",X$6=\"2juledag\",\"h\",X$6=\"nytårsdag\",\"h\")","v":"h"},{"$f":"_xlfn.IFS(Y$7=\"søndag\",\"-\",Y$6=\"skærtd\",\"h\",Y$6=\"langfd\",\"h\",Y$6=\"1påsked\",\"h\",Y$6=\"2påsked\",\"h\",Y$6=\"kr.himmelfart\",\"h\",Y$6=\"1pinse\",\"h\",Y$6=\"2pinse\",\"h\",Y$6=\"1juledag\",\"h\",Y$6=\"2juledag\",\"h\",Y$6=\"nytårsdag\",\"h\")","v":{"$error":"#N/A"}},{"$f":"_xlfn.IFS(Z$7=\"søndag\",\"-\",Z$6=\"skærtd\",\"h\",Z$6=\"langfd\",\"h\",Z$6=\"1påsked\",\"h\",Z$6=\"2påsked\",\"h\",Z$6=\"kr.himmelfart\",\"h\",Z$6=\"1pinse\",\"h\",Z$6=\"2pinse\",\"h\",Z$6=\"1juledag\",\"h\",Z$6=\"2juledag\",\"h\",Z$6=\"nytårsdag\",\"h\")","v":{"$error":"#N/A"}},{"$f":"_xlfn.IFS(AA$7=\"søndag\",\"-\",AA$6=\"skærtd\",\"h\",AA$6=\"langfd\",\"h\",AA$6=\"1påsked\",\"h\",AA$6=\"2påsked\",\"h\",AA$6=\"kr.himmelfart\",\"h\",AA$6=\"1pinse\",\"h\",AA$6=\"2pinse\",\"h\",AA$6=\"1juledag\",\"h\",AA$6=\"2juledag\",\"h\",AA$6=\"nytårsdag\",\"h\")","v":{"$error":"#N/A"}},{"$f":"_xlfn.IFS(AB$7=\"søndag\",\"-\",AB$6=\"skærtd\",\"h\",AB$6=\"langfd\",\"h\",AB$6=\"1påsked\",\"h\",AB$6=\"2påsked\",\"h\",AB$6=\"kr.himmelfart\",\"h\",AB$6=\"1pinse\",\"h\",AB$6=\"2pinse\",\"h\",AB$6=\"1juledag\",\"h\",AB$6=\"2juledag\",\"h\",AB$6=\"nytårsdag\",\"h\")","v":{"$error":"#N/A"}},{"$f":"_xlfn.IFS(AC$7=\"søndag\",\"-\",AC$6=\"skærtd\",\"h\",AC$6=\"langfd\",\"h\",AC$6=\"1påsked\",\"h\",AC$6=\"2påsked\",\"h\",AC$6=\"kr.himmelfart\",\"h\",AC$6=\"1pinse\",\"h\",AC$6=\"2pinse\",\"h\",AC$6=\"1juledag\",\"h\",AC$6=\"2juledag\",\"h\",AC$6=\"nytårsdag\",\"h\")","v":{"$error":"#N/A"}},{"$f":"_xlfn.IFS(AD$7=\"søndag\",\"-\",AD$6=\"skærtd\",\"h\",AD$6=\"langfd\",\"h\",AD$6=\"1påsked\",\"h\",AD$6=\"2påsked\",\"h\",AD$6=\"kr.himmelfart\",\"h\",AD$6=\"1pinse\",\"h\",AD$6=\"2pinse\",\"h\",AD$6=\"1juledag\",\"h\",AD$6=\"2juledag\",\"h\",AD$6=\"nytårsdag\",\"h\")","v":"-"},{"$f":"_xlfn.IFS(AE$7=\"søndag\",\"-\",AE$6=\"skærtd\",\"h\",AE$6=\"langfd\",\"h\",AE$6=\"1påsked\",\"h\",AE$6=\"2påsked\",\"h\",AE$6=\"kr.himmelfart\",\"h\",AE$6=\"1pinse\",\"h\",AE$6=\"2pinse\",\"h\",AE$6=\"1juledag\",\"h\",AE$6=\"2juledag\",\"h\",AE$6=\"nytårsdag\",\"h\")","v":{"$error":"#N/A"}},{"$f":"_xlfn.IFS(AF$7=\"søndag\",\"-\",AF$6=\"skærtd\",\"h\",AF$6=\"langfd\",\"h\",AF$6=\"1påsked\",\"h\",AF$6=\"2påsked\",\"h\",AF$6=\"kr.himmelfart\",\"h\",AF$6=\"1pinse\",\"h\",AF$6=\"2pinse\",\"h\",AF$6=\"1juledag\",\"h\",AF$6=\"2juledag\",\"h\",AF$6=\"nytårsdag\",\"h\")","v":{"$error":"#N/A"}},{"$f":"_xlfn.IFS(AG$7=\"søndag\",\"-\",AG$6=\"skærtd\",\"h\",AG$6=\"langfd\",\"h\",AG$6=\"1påsked\",\"h\",AG$6=\"2påsked\",\"h\",AG$6=\"kr.himmelfart\",\"h\",AG$6=\"1pinse\",\"h\",AG$6=\"2pinse\",\"h\",AG$6=\"1juledag\",\"h\",AG$6=\"2juledag\",\"h\",AG$6=\"nytårsdag\",\"h\")","v":{"$error":"#N/A"}},{"$f":"_xlfn.IFS(AH$7=\"søndag\",\"-\",AH$6=\"skærtd\",\"h\",AH$6=\"langfd\",\"h\",AH$6=\"1påsked\",\"h\",AH$6=\"2påsked\",\"h\",AH$6=\"kr.himmelfart\",\"h\",AH$6=\"1pinse\",\"h\",AH$6=\"2pinse\",\"h\",AH$6=\"1juledag\",\"h\",AH$6=\"2juledag\",\"h\",AH$6=\"nytårsdag\",\"h\")","v":{"$error":"#N/A"}}]
[null,"Sygedage",null,{"$f":"IF(D82=\"s\",D81,\"-\")","v":"-"},{"$f":"IF(E82=\"s\",E81,\"-\")","v":"-"},"-","-","-","-","-","-","-","-","-","-","-","-","-","-","-","-","-","-","-","-","-","-","-","-","-","-","-","-","-"]
[null,null,{"$f":"$C$15","v":14},"Timer uge",null,null,{"$f":"SUMIF($D$5:$AH$5,C87,D81:AH81)","v":0},{"$f":"$H$15","v":15},{"$f":"D87","v":"Timer uge"},null,null,null,null,{"$f":"SUMIF($D$5:$AH$5,H87,D81:AH81)","v":0},{"$f":"$O$15","v":16},{"$f":"D87","v":"Timer uge"},null,null,null,null,{"$f":"_xlfn.IFS($O87=$BV80,$BV81,$O87=$BW80,Lønskema!$BW81,$O87=$BX80,$BX81,$O87=$BY80,$BY81,$O87=$BZ80,$BZ81,$O87=$CA80,$CA81,$O87=$CB80,$CB81,$O87=$CC80,$CC81,$O87=$CD80,$CD81,$O87=$CE80,$CE81,$O87=$CF80,$CF81,$O87=$CG80,$CF81,$O87=$CG80,$CG81,$O87=$CH80,$CH81,$O87=$CI80,$CI81,$O87=$CJ80,$CJ81,$O87=$CK80,$CK81,$O87=$CL80,$CL81,$O87=$CM80,$CM81,$O87=$CN80,$CN81,$O87=$CO80,$CO81,$O87=$CP80,$CP81,$O87=$CQ80,$CQ81,$O87=$CR80,$CR81,$O87=$CS80,$CS81,$O87=$CT80,$CT81,$O87=$CU80,$CU81,$O87=$CV80,$CV81,$O87=$CW80,$CW81,$O87=$CX80,$CX81,$O87=$CY80,$CY81,$O87=$CZ80,$CZ81,$O87=$DA80,$DA81,$O87=$DB80,$DB81,$O87=$DC80,$DC81,$O87=$DD80,$DD81,$O87=$DE80,$DE81,$O87=$DF80,$DF81,$O87=$DG80,$DG81,$O87=$DH80,$DH81,$O87=$DI80,$DI81,$O87=$DJ80,$DJ81,$O87=$DK80,$DK81,$O87=$DL80,$DL81,$O87=$DM80,$DM81,$O87=$DN80,$DN81,$O87=$DO80,$DO81,$O87=$DP80,$DP81,$O87=$DQ80,$DQ81,$O87=$DR80,$DR81,$O87=$DS80,$DS81,$O87=$DT80,$DT81,$O87=$DU80,$DU81)","v":0},{"$f":"$V$15","v":17},{"$f":"D87","v":"Timer uge"},null,null,null,null,{"$f":"SUMIF($D$5:$AH$5,V87,D81:AH81)","v":0},{"$f":"$AC$15","v":18},{"$f":"D87","v":"Timer uge"},null,null,null,{"$f":"SUMIF($D$5:$AH$5,AC87,D81:AH81)","v":0},{"$f":"$AI$15","v":19},{"$f":"D87","v":"Timer uge"},null,null,null,{"$f":"SUMIF($D$5:$AH$5,AI87,D81:AH81)","v":0}]
[null,null,null,"Overarbejde 50% 1-3 timer",null,null,{"$f":"IF($G87>37,$G87-37-$G89,0)","v":0},null,{"$f":"D88","v":"Overarbejde 50% 1-3 timer"},null,null,null,null,{"$f":"IF($N87>37,$N87-37-$N89,0)","v":0},null,{"$f":"D88","v":"Overarbejde 50% 1-3 timer"},null,null,null,null,{"$f":"IF($U87>37,$U87-37-$U89,0)","v":0},null,{"$f":"D88","v":"Overarbejde 50% 1-3 timer"},null,null,null,null,{"$f":"IF($AB87>37,$AB87-37-$AB89,0)","v":0},null,{"$f":"D88","v":"Overarbejde 50% 1-3 timer"},null,null,null,{"$f":"IF($AH87>37,$AH87-37-$AH89,0)","v":0},null,{"$f":"D88","v":"Overarbejde 50% 1-3 timer"},null,null,null,{"$f":"IF($AH87>37,$AH87-37-$AH89,0)","v":0}]
[null,null,null,"Overarbejde 100% over 3 timer",null,null,{"$f":"IF($G87>40,$G87-40,0)","v":0},null,"Overarbejde 100% over 3 timer",null,null,null,null,{"$f":"IF($N87>40,$N87-40,0)","v":0},null,"Overarbejde 100% over 3 timer",null,null,null,null,{"$f":"IF($U87>40,$U87-40,0)","v":0},null,"Overarbejde 100% over 3 timer",null,null,null,null,{"$f":"IF($AB87>40,$AB87-40,0)","v":0},null,"Overarbejde 100% over 3 timer",null,null,null,{"$f":"IF($AH87>40,$AH87-40,0)","v":0},null,{"$f":"D89","v":"Overarbejde 100% over 3 timer"},null,null,null,{"$f":"IF($AH87>40,$AH87-40,0)","v":0},null,null,null,null,null,null,null,null,null,null,null,null,null,null,null,null,null,null,null,null,null,null,null,null,null,null,null,null,null,null,null,null,null,1,2,3,4,5,6,7,8,9,10,11,12,13,14,15,16,17,18,19,20,21,22,23,24,25,26,27,28,29,30,31,32,33,34,35,36,37,38,39,40,41,42,43,44,45,46,47,48,49,50,51,52]
[{"$f":"Medarbejder!A12","v":0},{"$f":"Medarbejder!B12","v":0},{"$f":"Medarbejder!C12","v":"-"},null,null,null,null,null,null,null,null,null,null,null,null,null,null,null,null,null,null,null,null,null,null,null,null,null,null,null,null,null,null,null,null,null,null,null,null,null,null,{"$f":"AO90*Overenskomst!$C$22","v":0},{"$f":"SUM($D90:$AH90)-$BA90-$BF90-$BD90","v":0},{"$f":"IF(Medarbejder!$J12=\"ja\",$AQ90,\"-\")","v":"-"},{"$f":"SUMIF($D$7:$AH$7,\"søndag\",$D90:$AH90)+$AT90","v":0},{"$f":"SUMIFS($D90:$AH90,$D94:$AH94,\"H\")","v":0},{"$f":"G97+N97+U97+AB97+AH97+AN97","v":0},{"$f":"G98+N98+U98+AB98+AH98+AN98","v":0},{"$f":"SUM($D92:$AH92)","v":0},{"$f":"SUM($D93:$AH93)","v":0},{"$f":"COUNTIFS($D91:$AH91,\"F\")","v":0},{"$f":"COUNTIFS($D91:$AH91,\"S\")","v":0},{"$f":"SUMIF($D91:$AH91,\"S\",$D95:$AH95)","v":0},{"$f":"COUNTIFS($D91:$AH91,\"p\")","v":0},{"$f":"COUNTIFS($D91:$AH91,\"BS\")","v":0},{"$f":"SUMIF(D91:AH91,\"bs\",$D90:$AH90)","v":0},{"$f":"COUNTIFS($D91:$AH91,\"FF\")","v":0},{"$f":"SUMIF($D91:$AH91,\"g\",$D90:$AH90)","v":0},{"$f":"Medarbejder!$N12","v":"-"},{"$f":"SUM($BL90:$BU90)","v":4},null,null,null,{"$f":"COUNTIFS($D$6:$AH$6,\"skærtd\")","v":1},{"$f":"COUNTIFS($D$6:$AH$6,\"langfd\")","v":1},{"$f":"COUNTIFS($D$6:$AH$6,\"1påsked\")","v":1},{"$f":"COUNTIFS($D$6:$AH$6,\"2påsked\")","v":1},{"$f":"COUNTIFS($D$6:$AH$6,\"kr.himmelfart\")","v":0},{"$f":"COUNTIFS($D$6:$AH$6,\"1pinse\")","v":0},{"$f":"COUNTIFS($D$6:$AH$6,\"2pinse\")","v":0},{"$f":"COUNTIFS($D$6:$AH$6,\"1juledag\")","v":0},{"$f":"COUNTIFS($D$6:$AH$6,\"2juledag\")","v":0},{"$f":"COUNTIFS($D$6:$AH$6,\"nytårsdag\")","v":0},{"$f":"SUMIFS($D90:$AH90,Lønskema!$D$5:$AH$5,1)","v":0},{"$f":"SUMIFS($D90:$AH90,Lønskema!$D$5:$AH$5,2)","v":0},{"$f":"SUMIFS($D90:$AH90,Lønskema!$D$5:$AH$5,3)","v":0},{"$f":"SUMIFS($D90:$AH90,Lønskema!$D$5:$AH$5,4)","v":0},{"$f":"SUMIFS($D90:$AH90,Lønskema!$D$5:$AH$5,5)","v":0},{"$f":"SUMIFS($D90:$AH90,Lønskema!$D$5:$AH$5,6)","v":0},{"$f":"SUMIFS($D90:$AH90,Lønskema!$D$5:$AH$5,7)","v":0},{"$f":"SUMIFS($D90:$AH90,Lønskema!$D$5:$AH$5,8)","v":0},{"$f":"SUMIFS($D90:$AH90,Lønskema!$D$5:$AH$5,9)","v":0},{"$f":"SUMIFS($D90:$AH90,Lønskema!$D$5:$AH$5,10)","v":0},{"$f":"SUMIFS($D90:$AH90,Lønskema!$D$5:$AH$5,11)","v":0},{"$f":"SUMIFS($D90:$AH90,Lønskema!$D$5:$AH$5,12)","v":0},{"$f":"SUMIFS($D90:$AH90,Lønskema!$D$5:$AH$5,13)","v":0},{"$f":"SUMIFS($D90:$AH90,Lønskema!$D$5:$AH$5,14)","v":0},{"$f":"SUMIFS($D90:$AH90,Lønskema!$D$5:$AH$5,15)","v":0},{"$f":"SUMIFS($D90:$AH90,Lønskema!$D$5:$AH$5,16)","v":0},{"$f":"SUMIFS($D90:$AH90,Lønskema!$D$5:$AH$5,17)","v":0},{"$f":"SUMIFS($D90:$AH90,Lønskema!$D$5:$AH$5,18)","v":0},{"$f":"SUMIFS($D90:$AH90,Lønskema!$D$5:$AH$5,19)","v":0},{"$f":"SUMIFS($D90:$AH90,Lønskema!$D$5:$AH$5,20)","v":0},{"$f":"SUMIFS($D90:$AH90,Lønskema!$D$5:$AH$5,21)","v":0},{"$f":"SUMIFS($D90:$AH90,Lønskema!$D$5:$AH$5,22)","v":0},{"$f":"SUMIFS($D90:$AH90,Lønskema!$D$5:$AH$5,23)","v":0},{"$f":"SUMIFS($D90:$AH90,Lønskema!$D$5:$AH$5,24)","v":0},{"$f":"SUMIFS($D90:$AH90,Lønskema!$D$5:$AH$5,25)","v":0},{"$f":"SUMIFS($D90:$AH90,Lønskema!$D$5:$AH$5,26)","v":0},{"$f":"SUMIFS($D90:$AH90,Lønskema!$D$5:$AH$5,27)","v":0},{"$f":"SUMIFS($D90:$AH90,Lønskema!$D$5:$AH$5,28)","v":0},{"$f":"SUMIFS($D90:$AH90,Lønskema!$D$5:$AH$5,29)","v":0},{"$f":"SUMIFS($D90:$AH90,Lønskema!$D$5:$AH$5,30)","v":0},{"$f":"SUMIFS($D90:$AH90,Lønskema!$D$5:$AH$5,31)","v":0},{"$f":"SUMIFS($D90:$AH90,Lønskema!$D$5:$AH$5,32)","v":0},{"$f":"SUMIFS($D90:$AH90,Lønskema!$D$5:$AH$5,33)","v":0},{"$f":"SUMIFS($D90:$AH90,Lønskema!$D$5:$AH$5,34)","v":0},{"$f":"SUMIFS($D90:$AH90,Lønskema!$D$5:$AH$5,35)","v":0},{"$f":"SUMIFS($D90:$AH90,Lønskema!$D$5:$AH$5,36)","v":0},{"$f":"SUMIFS($D90:$AH90,Lønskema!$D$5:$AH$5,37)","v":0},{"$f":"SUMIFS($D90:$AH90,Lønskema!$D$5:$AH$5,38)","v":0},{"$f":"SUMIFS($D90:$AH90,Lønskema!$D$5:$AH$5,39)","v":0},{"$f":"SUMIFS($D90:$AH90,Lønskema!$D$5:$AH$5,40)","v":0},{"$f":"SUMIFS($D90:$AH90,Lønskema!$D$5:$AH$5,41)","v":0},{"$f":"SUMIFS($D90:$AH90,Lønskema!$D$5:$AH$5,42)","v":0},{"$f":"SUMIFS($D90:$AH90,Lønskema!$D$5:$AH$5,43)","v":0},{"$f":"SUMIFS($D90:$AH90,Lønskema!$D$5:$AH$5,44)","v":0},{"$f":"SUMIFS($D90:$AH90,Lønskema!$D$5:$AH$5,45)","v":0},{"$f":"SUMIFS($D90:$AH90,Lønskema!$D$5:$AH$5,46)","v":0},{"$f":"SUMIFS($D90:$AH90,Lønskema!$D$5:$AH$5,47)","v":0},{"$f":"SUMIFS($D90:$AH90,Lønskema!$D$5:$AH$5,48)","v":0},{"$f":"SUMIFS($D90:$AH90,Lønskema!$D$5:$AH$5,49)","v":0},{"$f":"SUMIFS($D90:$AH90,Lønskema!$D$5:$AH$5,50)","v":0},{"$f":"SUMIFS($D90:$AH90,Lønskema!$D$5:$AH$5,51)","v":0},{"$f":"SUMIFS($D90:$AH90,Lønskema!$D$5:$AH$5,52)","v":0}]
["Ferie - syg  mm. Registreres i denne række"]
[null,"Aften"]
[null,"Nat"]
[null,"Helligdag",null,{"$f":"_xlfn.IFS(D$7=\"søndag\",\"-\",D$6=\"skærtd\",\"h\",D$6=\"langfd\",\"h\",D$6=\"1påsked\",\"h\",D$6=\"2påsked\",\"h\",D$6=\"kr.himmelfart\",\"h\",D$6=\"1pinse\",\"h\",D$6=\"2pinse\",\"h\",D$6=\"1juledag\",\"h\",D$6=\"2juledag\",\"h\",D$6=\"nytårsdag\",\"h\")","v":{"$error":"#N/A"}},{"$f":"_xlfn.IFS(E$7=\"søndag\",\"-\",E$6=\"skærtd\",\"h\",E$6=\"langfd\",\"h\",E$6=\"1påsked\",\"h\",E$6=\"2påsked\",\"h\",E$6=\"kr.himmelfart\",\"h\",E$6=\"1pinse\",\"h\",E$6=\"2pinse\",\"h\",E$6=\"1juledag\",\"h\",E$6=\"2juledag\",\"h\",E$6=\"nytårsdag\",\"h\")","v":{"$error":"#N/A"}},{"$f":"_xlfn.IFS(F$7=\"søndag\",\"-\",F$6=\"skærtd\",\"h\",F$6=\"langfd\",\"h\",F$6=\"1påsked\",\"h\",F$6=\"2påsked\",\"h\",F$6=\"kr.himmelfart\",\"h\",F$6=\"1pinse\",\"h\",F$6=\"2pinse\",\"h\",F$6=\"1juledag\",\"h\",F$6=\"2juledag\",\"h\",F$6=\"nytårsdag\",\"h\")","v":{"$error":"#N/A"}},{"$f":"_xlfn.IFS(G$7=\"søndag\",\"-\",G$6=\"skærtd\",\"h\",G$6=\"langfd\",\"h\",G$6=\"1påsked\",\"h\",G$6=\"2påsked\",\"h\",G$6=\"kr.himmelfart\",\"h\",G$6=\"1pinse\",\"h\",G$6=\"2pinse\",\"h\",G$6=\"1juledag\",\"h\",G$6=\"2juledag\",\"h\",G$6=\"nytårsdag\",\"h\")","v":{"$error":"#N/A"}},{"$f":"_xlfn.IFS(H$7=\"søndag\",\"-\",H$6=\"skærtd\",\"h\",H$6=\"langfd\",\"h\",H$6=\"1påsked\",\"h\",H$6=\"2påsked\",\"h\",H$6=\"kr.himmelfart\",\"h\",H$6=\"1pinse\",\"h\",H$6=\"2pinse\",\"h\",H$6=\"1juledag\",\"h\",H$6=\"2juledag\",\"h\",H$6=\"nytårsdag\",\"h\")","v":{"$error":"#N/A"}},{"$f":"_xlfn.IFS(I$7=\"søndag\",\"-\",I$6=\"skærtd\",\"h\",I$6=\"langfd\",\"h\",I$6=\"1påsked\",\"h\",I$6=\"2påsked\",\"h\",I$6=\"kr.himmelfart\",\"h\",I$6=\"1pinse\",\"h\",I$6=\"2pinse\",\"h\",I$6=\"1juledag\",\"h\",I$6=\"2juledag\",\"h\",I$6=\"nytårsdag\",\"h\")","v":"-"},{"$f":"_xlfn.IFS(J$7=\"søndag\",\"-\",J$6=\"skærtd\",\"h\",J$6=\"langfd\",\"h\",J$6=\"1påsked\",\"h\",J$6=\"2påsked\",\"h\",J$6=\"kr.himmelfart\",\"h\",J$6=\"1pinse\",\"h\",J$6=\"2pinse\",\"h\",J$6=\"1juledag\",\"h\",J$6=\"2juledag\",\"h\",J$6=\"nytårsdag\",\"h\")","v":{"$error":"#N/A"}},{"$f":"_xlfn.IFS(K$7=\"søndag\",\"-\",K$6=\"skærtd\",\"h\",K$6=\"langfd\",\"h\",K$6=\"1påsked\",\"h\",K$6=\"2påsked\",\"h\",K$6=\"kr.himmelfart\",\"h\",K$6=\"1pinse\",\"h\",K$6=\"2pinse\",\"h\",K$6=\"1juledag\",\"h\",K$6=\"2juledag\",\"h\",K$6=\"nytårsdag\",\"h\")","v":{"$error":"#N/A"}},{"$f":"_xlfn.IFS(L$7=\"søndag\",\"-\",L$6=\"skærtd\",\"h\",L$6=\"langfd\",\"h\",L$6=\"1påsked\",\"h\",L$6=\"2påsked\",\"h\",L$6=\"kr.himmelfart\",\"h\",L$6=\"1pinse\",\"h\",L$6=\"2pinse\",\"h\",L$6=\"1juledag\",\"h\",L$6=\"2juledag\",\"h\",L$6=\"nytårsdag\",\"h\")","v":{"$error":"#N/A"}},{"$f":"_xlfn.IFS(M$7=\"søndag\",\"-\",M$6=\"skærtd\",\"h\",M$6=\"langfd\",\"h\",M$6=\"1påsked\",\"h\",M$6=\"2påsked\",\"h\",M$6=\"kr.himmelfart\",\"h\",M$6=\"1pinse\",\"h\",M$6=\"2pinse\",\"h\",M$6=\"1juledag\",\"h\",M$6=\"2juledag\",\"h\",M$6=\"nytårsdag\",\"h\")","v":{"$error":"#N/A"}},{"$f":"_xlfn.IFS(N$7=\"søndag\",\"-\",N$6=\"skærtd\",\"h\",N$6=\"langfd\",\"h\",N$6=\"1påsked\",\"h\",N$6=\"2påsked\",\"h\",N$6=\"kr.himmelfart\",\"h\",N$6=\"1pinse\",\"h\",N$6=\"2pinse\",\"h\",N$6=\"1juledag\",\"h\",N$6=\"2juledag\",\"h\",N$6=\"nytårsdag\",\"h\")","v":{"$error":"#N/A"}},{"$f":"_xlfn.IFS(O$7=\"søndag\",\"-\",O$6=\"skærtd\",\"h\",O$6=\"langfd\",\"h\",O$6=\"1påsked\",\"h\",O$6=\"2påsked\",\"h\",O$6=\"kr.himmelfart\",\"h\",O$6=\"1pinse\",\"h\",O$6=\"2pinse\",\"h\",O$6=\"1juledag\",\"h\",O$6=\"2juledag\",\"h\",O$6=\"nytårsdag\",\"h\")","v":{"$error":"#N/A"}},{"$f":"_xlfn.IFS(P$7=\"søndag\",\"-\",P$6=\"skærtd\",\"h\",P$6=\"langfd\",\"h\",P$6=\"1påsked\",\"h\",P$6=\"2påsked\",\"h\",P$6=\"kr.himmelfart\",\"h\",P$6=\"1pinse\",\"h\",P$6=\"2pinse\",\"h\",P$6=\"1juledag\",\"h\",P$6=\"2juledag\",\"h\",P$6=\"nytårsdag\",\"h\")","v":"-"},{"$f":"_xlfn.IFS(Q$7=\"søndag\",\"-\",Q$6=\"skærtd\",\"h\",Q$6=\"langfd\",\"h\",Q$6=\"1påsked\",\"h\",Q$6=\"2påsked\",\"h\",Q$6=\"kr.himmelfart\",\"h\",Q$6=\"1pinse\",\"h\",Q$6=\"2pinse\",\"h\",Q$6=\"1juledag\",\"h\",Q$6=\"2juledag\",\"h\",Q$6=\"nytårsdag\",\"h\")","v":{"$error":"#N/A"}},{"$f":"_xlfn.IFS(R$7=\"søndag\",\"-\",R$6=\"skærtd\",\"h\",R$6=\"langfd\",\"h\",R$6=\"1påsked\",\"h\",R$6=\"2påsked\",\"h\",R$6=\"kr.himmelfart\",\"h\",R$6=\"1pinse\",\"h\",R$6=\"2pinse\",\"h\",R$6=\"1juledag\",\"h\",R$6=\"2juledag\",\"h\",R$6=\"nytårsdag\",\"h\")","v":{"$error":"#N/A"}},{"$f":"_xlfn.IFS(S$7=\"søndag\",\"-\",S$6=\"skærtd\",\"h\",S$6=\"langfd\",\"h\",S$6=\"1påsked\",\"h\",S$6=\"2påsked\",\"h\",S$6=\"kr.himmelfart\",\"h\",S$6=\"1pinse\",\"h\",S$6=\"2pinse\",\"h\",S$6=\"1juledag\",\"h\",S$6=\"2juledag\",\"h\",S$6=\"nytårsdag\",\"h\")","v":{"$error":"#N/A"}},{"$f":"_xlfn.IFS(T$7=\"søndag\",\"-\",T$6=\"skærtd\",\"h\",T$6=\"langfd\",\"h\",T$6=\"1påsked\",\"h\",T$6=\"2påsked\",\"h\",T$6=\"kr.himmelfart\",\"h\",T$6=\"1pinse\",\"h\",T$6=\"2pinse\",\"h\",T$6=\"1juledag\",\"h\",T$6=\"2juledag\",\"h\",T$6=\"nytårsdag\",\"h\")","v":"h"},{"$f":"_xlfn.IFS(U$7=\"søndag\",\"-\",U$6=\"skærtd\",\"h\",U$6=\"langfd\",\"h\",U$6=\"1påsked\",\"h\",U$6=\"2påsked\",\"h\",U$6=\"kr.himmelfart\",\"h\",U$6=\"1pinse\",\"h\",U$6=\"2pinse\",\"h\",U$6=\"1juledag\",\"h\",U$6=\"2juledag\",\"h\",U$6=\"nytårsdag\",\"h\")","v":"h"},{"$f":"_xlfn.IFS(V$7=\"søndag\",\"-\",V$6=\"skærtd\",\"h\",V$6=\"langfd\",\"h\",V$6=\"1påsked\",\"h\",V$6=\"2påsked\",\"h\",V$6=\"kr.himmelfart\",\"h\",V$6=\"1pinse\",\"h\",V$6=\"2pinse\",\"h\",V$6=\"1juledag\",\"h\",V$6=\"2juledag\",\"h\",V$6=\"nytårsdag\",\"h\")","v":{"$error":"#N/A"}},{"$f":"_xlfn.IFS(W$7=\"søndag\",\"-\",W$6=\"skærtd\",\"h\",W$6=\"langfd\",\"h\",W$6=\"1påsked\",\"h\",W$6=\"2påsked\",\"h\",W$6=\"kr.himmelfart\",\"h\",W$6=\"1pinse\",\"h\",W$6=\"2pinse\",\"h\",W$6=\"1juledag\",\"h\",W$6=\"2juledag\",\"h\",W$6=\"nytårsdag\",\"h\")","v":"-"},{"$f":"_xlfn.IFS(X$7=\"søndag\",\"-\",X$6=\"skærtd\",\"h\",X$6=\"langfd\",\"h\",X$6=\"1påsked\",\"h\",X$6=\"2påsked\",\"h\",X$6=\"kr.himmelfart\",\"h\",X$6=\"1pinse\",\"h\",X$6=\"2pinse\",\"h\",X$6=\"1juledag\",\"h\",X$6=\"2juledag\",\"h\",X$6=\"nytårsdag\",\"h\")","v":"h"},{"$f":"_xlfn.IFS(Y$7=\"søndag\",\"-\",Y$6=\"skærtd\",\"h\",Y$6=\"langfd\",\"h\",Y$6=\"1påsked\",\"h\",Y$6=\"2påsked\",\"h\",Y$6=\"kr.himmelfart\",\"h\",Y$6=\"1pinse\",\"h\",Y$6=\"2pinse\",\"h\",Y$6=\"1juledag\",\"h\",Y$6=\"2juledag\",\"h\",Y$6=\"nytårsdag\",\"h\")","v":{"$error":"#N/A"}},{"$f":"_xlfn.IFS(Z$7=\"søndag\",\"-\",Z$6=\"skærtd\",\"h\",Z$6=\"langfd\",\"h\",Z$6=\"1påsked\",\"h\",Z$6=\"2påsked\",\"h\",Z$6=\"kr.himmelfart\",\"h\",Z$6=\"1pinse\",\"h\",Z$6=\"2pinse\",\"h\",Z$6=\"1juledag\",\"h\",Z$6=\"2juledag\",\"h\",Z$6=\"nytårsdag\",\"h\")","v":{"$error":"#N/A"}},{"$f":"_xlfn.IFS(AA$7=\"søndag\",\"-\",AA$6=\"skærtd\",\"h\",AA$6=\"langfd\",\"h\",AA$6=\"1påsked\",\"h\",AA$6=\"2påsked\",\"h\",AA$6=\"kr.himmelfart\",\"h\",AA$6=\"1pinse\",\"h\",AA$6=\"2pinse\",\"h\",AA$6=\"1juledag\",\"h\",AA$6=\"2juledag\",\"h\",AA$6=\"nytårsdag\",\"h\")","v":{"$error":"#N/A"}},{"$f":"_xlfn.IFS(AB$7=\"søndag\",\"-\",AB$6=\"skærtd\",\"h\",AB$6=\"langfd\",\"h\",AB$6=\"1påsked\",\"h\",AB$6=\"2påsked\",\"h\",AB$6=\"kr.himmelfart\",\"h\",AB$6=\"1pinse\",\"h\",AB$6=\"2pinse\",\"h\",AB$6=\"1juledag\",\"h\",AB$6=\"2juledag\",\"h\",AB$6=\"nytårsdag\",\"h\")","v":{"$error":"#N/A"}},{"$f":"_xlfn.IFS(AC$7=\"søndag\",\"-\",AC$6=\"skærtd\",\"h\",AC$6=\"langfd\",\"h\",AC$6=\"1påsked\",\"h\",AC$6=\"2påsked\",\"h\",AC$6=\"kr.himmelfart\",\"h\",AC$6=\"1pinse\",\"h\",AC$6=\"2pinse\",\"h\",AC$6=\"1juledag\",\"h\",AC$6=\"2juledag\",\"h\",AC$6=\"nytårsdag\",\"h\")","v":{"$error":"#N/A"}},{"$f":"_xlfn.IFS(AD$7=\"søndag\",\"-\",AD$6=\"skærtd\",\"h\",AD$6=\"langfd\",\"h\",AD$6=\"1påsked\",\"h\",AD$6=\"2påsked\",\"h\",AD$6=\"kr.himmelfart\",\"h\",AD$6=\"1pinse\",\"h\",AD$6=\"2pinse\",\"h\",AD$6=\"1juledag\",\"h\",AD$6=\"2juledag\",\"h\",AD$6=\"nytårsdag\",\"h\")","v":"-"},{"$f":"_xlfn.IFS(AE$7=\"søndag\",\"-\",AE$6=\"skærtd\",\"h\",AE$6=\"langfd\",\"h\",AE$6=\"1påsked\",\"h\",AE$6=\"2påsked\",\"h\",AE$6=\"kr.himmelfart\",\"h\",AE$6=\"1pinse\",\"h\",AE$6=\"2pinse\",\"h\",AE$6=\"1juledag\",\"h\",AE$6=\"2juledag\",\"h\",AE$6=\"nytårsdag\",\"h\")","v":{"$error":"#N/A"}},{"$f":"_xlfn.IFS(AF$7=\"søndag\",\"-\",AF$6=\"skærtd\",\"h\",AF$6=\"langfd\",\"h\",AF$6=\"1påsked\",\"h\",AF$6=\"2påsked\",\"h\",AF$6=\"kr.himmelfart\",\"h\",AF$6=\"1pinse\",\"h\",AF$6=\"2pinse\",\"h\",AF$6=\"1juledag\",\"h\",AF$6=\"2juledag\",\"h\",AF$6=\"nytårsdag\",\"h\")","v":{"$error":"#N/A"}},{"$f":"_xlfn.IFS(AG$7=\"søndag\",\"-\",AG$6=\"skærtd\",\"h\",AG$6=\"langfd\",\"h\",AG$6=\"1påsked\",\"h\",AG$6=\"2påsked\",\"h\",AG$6=\"kr.himmelfart\",\"h\",AG$6=\"1pinse\",\"h\",AG$6=\"2pinse\",\"h\",AG$6=\"1juledag\",\"h\",AG$6=\"2juledag\",\"h\",AG$6=\"nytårsdag\",\"h\")","v":{"$error":"#N/A"}},{"$f":"_xlfn.IFS(AH$7=\"søndag\",\"-\",AH$6=\"skærtd\",\"h\",AH$6=\"langfd\",\"h\",AH$6=\"1påsked\",\"h\",AH$6=\"2påsked\",\"h\",AH$6=\"kr.himmelfart\",\"h\",AH$6=\"1pinse\",\"h\",AH$6=\"2pinse\",\"h\",AH$6=\"1juledag\",\"h\",AH$6=\"2juledag\",\"h\",AH$6=\"nytårsdag\",\"h\")","v":{"$error":"#N/A"}}]
[null,"Sygedage",null,{"$f":"IF(D91=\"s\",D90,\"-\")","v":"-"},{"$f":"IF(E91=\"s\",E90,\"-\")","v":"-"},"-","-","-","-","-","-","-","-","-","-","-","-","-","-","-","-","-","-","-","-","-","-","-","-","-","-","-","-","-"]
[null,null,{"$f":"$C$15","v":14},"Timer uge",null,null,{"$f":"SUMIF($D$5:$AH$5,C96,D90:AH90)","v":0},{"$f":"$H$15","v":15},{"$f":"D96","v":"Timer uge"},null,null,null,null,{"$f":"SUMIF($D$5:$AH$5,H96,D90:AH90)","v":0},{"$f":"$O$15","v":16},{"$f":"D96","v":"Timer uge"},null,null,null,null,{"$f":"_xlfn.IFS($O96=$BV89,$BV90,$O96=$BW89,Lønskema!$BW90,$O96=$BX89,$BX90,$O96=$BY89,$BY90,$O96=$BZ89,$BZ90,$O96=$CA89,$CA90,$O96=$CB89,$CB90,$O96=$CC89,$CC90,$O96=$CD89,$CD90,$O96=$CE89,$CE90,$O96=$CF89,$CF90,$O96=$CG89,$CF90,$O96=$CG89,$CG90,$O96=$CH89,$CH90,$O96=$CI89,$CI90,$O96=$CJ89,$CJ90,$O96=$CK89,$CK90,$O96=$CL89,$CL90,$O96=$CM89,$CM90,$O96=$CN89,$CN90,$O96=$CO89,$CO90,$O96=$CP89,$CP90,$O96=$CQ89,$CQ90,$O96=$CR89,$CR90,$O96=$CS89,$CS90,$O96=$CT89,$CT90,$O96=$CU89,$CU90,$O96=$CV89,$CV90,$O96=$CW89,$CW90,$O96=$CX89,$CX90,$O96=$CY89,$CY90,$O96=$CZ89,$CZ90,$O96=$DA89,$DA90,$O96=$DB89,$DB90,$O96=$DC89,$DC90,$O96=$DD89,$DD90,$O96=$DE89,$DE90,$O96=$DF89,$DF90,$O96=$DG89,$DG90,$O96=$DH89,$DH90,$O96=$DI89,$DI90,$O96=$DJ89,$DJ90,$O96=$DK89,$DK90,$O96=$DL89,$DL90,$O96=$DM89,$DM90,$O96=$DN89,$DN90,$O96=$DO89,$DO90,$O96=$DP89,$DP90,$O96=$DQ89,$DQ90,$O96=$DR89,$DR90,$O96=$DS89,$DS90,$O96=$DT89,$DT90,$O96=$DU89,$DU90)","v":0},{"$f":"$V$15","v":17},{"$f":"D96","v":"Timer uge"},null,null,null,null,{"$f":"SUMIF($D$5:$AH$5,V96,D90:AH90)","v":0},{"$f":"$AC$15","v":18},{"$f":"D96","v":"Timer uge"},null,null,null,{"$f":"SUMIF($D$5:$AH$5,AC96,D90:AH90)","v":0},{"$f":"$AI$15","v":19},{"$f":"D96","v":"Timer uge"},null,null,null,{"$f":"SUMIF($D$5:$AH$5,AI96,D90:AH90)","v":0}]
[null,null,null,"Overarbejde 50% 1-3 timer",null,null,{"$f":"IF($G96>37,$G96-37-$G98,0)","v":0},null,{"$f":"D97","v":"Overarbejde 50% 1-3 timer"},null,null,null,null,{"$f":"IF($N96>37,$N96-37-$N98,0)","v":0},null,{"$f":"D97","v":"Overarbejde 50% 1-3 timer"},null,null,null,null,{"$f":"IF($U96>37,$U96-37-$U98,0)","v":0},null,{"$f":"D97","v":"Overarbejde 50% 1-3 timer"},null,null,null,null,{"$f":"IF($AB96>37,$AB96-37-$AB98,0)","v":0},null,{"$f":"D97","v":"Overarbejde 50% 1-3 timer"},null,null,null,{"$f":"IF($AH96>37,$AH96-37-$AH98,0)","v":0},null,{"$f":"D97","v":"Overarbejde 50% 1-3 timer"},null,null,null,{"$f":"IF($AH96>37,$AH96-37-$AH98,0)","v":0}]
[null,null,null,"Overarbejde 100% over 3 timer",null,null,{"$f":"IF($G96>40,$G96-40,0)","v":0},null,"Overarbejde 100% over 3 timer",null,null,null,null,{"$f":"IF($N96>40,$N96-40,0)","v":0},null,"Overarbejde 100% over 3 timer",null,null,null,null,{"$f":"IF($U96>40,$U96-40,0)","v":0},null,"Overarbejde 100% over 3 timer",null,null,null,null,{"$f":"IF($AB96>40,$AB96-40,0)","v":0},null,"Overarbejde 100% over 3 timer",null,null,null,{"$f":"IF($AH96>40,$AH96-40,0)","v":0},null,{"$f":"D98","v":"Overarbejde 100% over 3 timer"},null,null,null,{"$f":"IF($AH96>40,$AH96-40,0)","v":0},null,null,null,null,null,null,null,null,null,null,null,null,null,null,null,null,null,null,null,null,null,null,null,null,null,null,null,null,null,null,null,null,null,1,2,3,4,5,6,7,8,9,10,11,12,13,14,15,16,17,18,19,20,21,22,23,24,25,26,27,28,29,30,31,32,33,34,35,36,37,38,39,40,41,42,43,44,45,46,47,48,49,50,51,52]
[{"$f":"Medarbejder!A13","v":0},{"$f":"Medarbejder!B13","v":0},{"$f":"Medarbejder!C13","v":"-"},null,null,null,null,null,null,null,null,null,null,null,null,null,null,null,null,null,null,null,null,null,null,null,null,null,null,null,null,null,null,null,null,null,null,null,null,null,null,{"$f":"AO99*Overenskomst!$C$22","v":0},{"$f":"SUM($D99:$AH99)-$BA99-$BF99-$BD99","v":0},{"$f":"IF(Medarbejder!$J13=\"ja\",$AQ99,\"-\")","v":"-"},{"$f":"SUMIF($D$7:$AH$7,\"søndag\",$D99:$AH99)+$AT99","v":0},{"$f":"SUMIFS($D99:$AH99,$D103:$AH103,\"H\")","v":0},{"$f":"G106+N106+U106+AB106+AH106+AN106","v":0},{"$f":"G107+N107+U107+AB107+AH107+AN107","v":0},{"$f":"SUM($D101:$AH101)","v":0},{"$f":"SUM($D102:$AH102)","v":0},{"$f":"COUNTIFS($D100:$AH100,\"F\")","v":0},{"$f":"COUNTIFS($D100:$AH100,\"S\")","v":0},{"$f":"SUMIF($D100:$AH100,\"S\",$D104:$AH104)","v":0},{"$f":"COUNTIFS($D100:$AH100,\"p\")","v":0},{"$f":"COUNTIFS($D100:$AH100,\"BS\")","v":0},{"$f":"SUMIF(D100:AH100,\"bs\",$D99:$AH99)","v":0},{"$f":"COUNTIFS($D100:$AH100,\"FF\")","v":0},{"$f":"SUMIF($D100:$AH100,\"g\",$D99:$AH99)","v":0},{"$f":"Medarbejder!$N13","v":"-"},{"$f":"SUM($BL99:$BU99)","v":4},null,null,null,{"$f":"COUNTIFS($D$6:$AH$6,\"skærtd\")","v":1},{"$f":"COUNTIFS($D$6:$AH$6,\"langfd\")","v":1},{"$f":"COUNTIFS($D$6:$AH$6,\"1påsked\")","v":1},{"$f":"COUNTIFS($D$6:$AH$6,\"2påsked\")","v":1},{"$f":"COUNTIFS($D$6:$AH$6,\"kr.himmelfart\")","v":0},{"$f":"COUNTIFS($D$6:$AH$6,\"1pinse\")","v":0},{"$f":"COUNTIFS($D$6:$AH$6,\"2pinse\")","v":0},{"$f":"COUNTIFS($D$6:$AH$6,\"1juledag\")","v":0},{"$f":"COUNTIFS($D$6:$AH$6,\"2juledag\")","v":0},{"$f":"COUNTIFS($D$6:$AH$6,\"nytårsdag\")","v":0},{"$f":"SUMIFS($D99:$AH99,Lønskema!$D$5:$AH$5,1)","v":0},{"$f":"SUMIFS($D99:$AH99,Lønskema!$D$5:$AH$5,2)","v":0},{"$f":"SUMIFS($D99:$AH99,Lønskema!$D$5:$AH$5,3)","v":0},{"$f":"SUMIFS($D99:$AH99,Lønskema!$D$5:$AH$5,4)","v":0},{"$f":"SUMIFS($D99:$AH99,Lønskema!$D$5:$AH$5,5)","v":0},{"$f":"SUMIFS($D99:$AH99,Lønskema!$D$5:$AH$5,6)","v":0},{"$f":"SUMIFS($D99:$AH99,Lønskema!$D$5:$AH$5,7)","v":0},{"$f":"SUMIFS($D99:$AH99,Lønskema!$D$5:$AH$5,8)","v":0},{"$f":"SUMIFS($D99:$AH99,Lønskema!$D$5:$AH$5,9)","v":0},{"$f":"SUMIFS($D99:$AH99,Lønskema!$D$5:$AH$5,10)","v":0},{"$f":"SUMIFS($D99:$AH99,Lønskema!$D$5:$AH$5,11)","v":0},{"$f":"SUMIFS($D99:$AH99,Lønskema!$D$5:$AH$5,12)","v":0},{"$f":"SUMIFS($D99:$AH99,Lønskema!$D$5:$AH$5,13)","v":0},{"$f":"SUMIFS($D99:$AH99,Lønskema!$D$5:$AH$5,14)","v":0},{"$f":"SUMIFS($D99:$AH99,Lønskema!$D$5:$AH$5,15)","v":0},{"$f":"SUMIFS($D99:$AH99,Lønskema!$D$5:$AH$5,16)","v":0},{"$f":"SUMIFS($D99:$AH99,Lønskema!$D$5:$AH$5,17)","v":0},{"$f":"SUMIFS($D99:$AH99,Lønskema!$D$5:$AH$5,18)","v":0},{"$f":"SUMIFS($D99:$AH99,Lønskema!$D$5:$AH$5,19)","v":0},{"$f":"SUMIFS($D99:$AH99,Lønskema!$D$5:$AH$5,20)","v":0},{"$f":"SUMIFS($D99:$AH99,Lønskema!$D$5:$AH$5,21)","v":0},{"$f":"SUMIFS($D99:$AH99,Lønskema!$D$5:$AH$5,22)","v":0},{"$f":"SUMIFS($D99:$AH99,Lønskema!$D$5:$AH$5,23)","v":0},{"$f":"SUMIFS($D99:$AH99,Lønskema!$D$5:$AH$5,24)","v":0},{"$f":"SUMIFS($D99:$AH99,Lønskema!$D$5:$AH$5,25)","v":0},{"$f":"SUMIFS($D99:$AH99,Lønskema!$D$5:$AH$5,26)","v":0},{"$f":"SUMIFS($D99:$AH99,Lønskema!$D$5:$AH$5,27)","v":0},{"$f":"SUMIFS($D99:$AH99,Lønskema!$D$5:$AH$5,28)","v":0},{"$f":"SUMIFS($D99:$AH99,Lønskema!$D$5:$AH$5,29)","v":0},{"$f":"SUMIFS($D99:$AH99,Lønskema!$D$5:$AH$5,30)","v":0},{"$f":"SUMIFS($D99:$AH99,Lønskema!$D$5:$AH$5,31)","v":0},{"$f":"SUMIFS($D99:$AH99,Lønskema!$D$5:$AH$5,32)","v":0},{"$f":"SUMIFS($D99:$AH99,Lønskema!$D$5:$AH$5,33)","v":0},{"$f":"SUMIFS($D99:$AH99,Lønskema!$D$5:$AH$5,34)","v":0},{"$f":"SUMIFS($D99:$AH99,Lønskema!$D$5:$AH$5,35)","v":0},{"$f":"SUMIFS($D99:$AH99,Lønskema!$D$5:$AH$5,36)","v":0},{"$f":"SUMIFS($D99:$AH99,Lønskema!$D$5:$AH$5,37)","v":0},{"$f":"SUMIFS($D99:$AH99,Lønskema!$D$5:$AH$5,38)","v":0},{"$f":"SUMIFS($D99:$AH99,Lønskema!$D$5:$AH$5,39)","v":0},{"$f":"SUMIFS($D99:$AH99,Lønskema!$D$5:$AH$5,40)","v":0},{"$f":"SUMIFS($D99:$AH99,Lønskema!$D$5:$AH$5,41)","v":0},{"$f":"SUMIFS($D99:$AH99,Lønskema!$D$5:$AH$5,42)","v":0},{"$f":"SUMIFS($D99:$AH99,Lønskema!$D$5:$AH$5,43)","v":0},{"$f":"SUMIFS($D99:$AH99,Lønskema!$D$5:$AH$5,44)","v":0},{"$f":"SUMIFS($D99:$AH99,Lønskema!$D$5:$AH$5,45)","v":0},{"$f":"SUMIFS($D99:$AH99,Lønskema!$D$5:$AH$5,46)","v":0},{"$f":"SUMIFS($D99:$AH99,Lønskema!$D$5:$AH$5,47)","v":0},{"$f":"SUMIFS($D99:$AH99,Lønskema!$D$5:$AH$5,48)","v":0},{"$f":"SUMIFS($D99:$AH99,Lønskema!$D$5:$AH$5,49)","v":0},{"$f":"SUMIFS($D99:$AH99,Lønskema!$D$5:$AH$5,50)","v":0},{"$f":"SUMIFS($D99:$AH99,Lønskema!$D$5:$AH$5,51)","v":0},{"$f":"SUMIFS($D99:$AH99,Lønskema!$D$5:$AH$5,52)","v":0}]
["Ferie - syg  mm. Registreres i denne række"]
[null,"Aften"]
[null,"Nat"]
[null,"Helligdag",null,{"$f":"_xlfn.IFS(D$7=\"søndag\",\"-\",D$6=\"skærtd\",\"h\",D$6=\"langfd\",\"h\",D$6=\"1påsked\",\"h\",D$6=\"2påsked\",\"h\",D$6=\"kr.himmelfart\",\"h\",D$6=\"1pinse\",\"h\",D$6=\"2pinse\",\"h\",D$6=\"1juledag\",\"h\",D$6=\"2juledag\",\"h\",D$6=\"nytårsdag\",\"h\")","v":{"$error":"#N/A"}},{"$f":"_xlfn.IFS(E$7=\"søndag\",\"-\",E$6=\"skærtd\",\"h\",E$6=\"langfd\",\"h\",E$6=\"1påsked\",\"h\",E$6=\"2påsked\",\"h\",E$6=\"kr.himmelfart\",\"h\",E$6=\"1pinse\",\"h\",E$6=\"2pinse\",\"h\",E$6=\"1juledag\",\"h\",E$6=\"2juledag\",\"h\",E$6=\"nytårsdag\",\"h\")","v":{"$error":"#N/A"}},{"$f":"_xlfn.IFS(F$7=\"søndag\",\"-\",F$6=\"skærtd\",\"h\",F$6=\"langfd\",\"h\",F$6=\"1påsked\",\"h\",F$6=\"2påsked\",\"h\",F$6=\"kr.himmelfart\",\"h\",F$6=\"1pinse\",\"h\",F$6=\"2pinse\",\"h\",F$6=\"1juledag\",\"h\",F$6=\"2juledag\",\"h\",F$6=\"nytårsdag\",\"h\")","v":{"$error":"#N/A"}},{"$f":"_xlfn.IFS(G$7=\"søndag\",\"-\",G$6=\"skærtd\",\"h\",G$6=\"langfd\",\"h\",G$6=\"1påsked\",\"h\",G$6=\"2påsked\",\"h\",G$6=\"kr.himmelfart\",\"h\",G$6=\"1pinse\",\"h\",G$6=\"2pinse\",\"h\",G$6=\"1juledag\",\"h\",G$6=\"2juledag\",\"h\",G$6=\"nytårsdag\",\"h\")","v":{"$error":"#N/A"}},{"$f":"_xlfn.IFS(H$7=\"søndag\",\"-\",H$6=\"skærtd\",\"h\",H$6=\"langfd\",\"h\",H$6=\"1påsked\",\"h\",H$6=\"2påsked\",\"h\",H$6=\"kr.himmelfart\",\"h\",H$6=\"1pinse\",\"h\",H$6=\"2pinse\",\"h\",H$6=\"1juledag\",\"h\",H$6=\"2juledag\",\"h\",H$6=\"nytårsdag\",\"h\")","v":{"$error":"#N/A"}},{"$f":"_xlfn.IFS(I$7=\"søndag\",\"-\",I$6=\"skærtd\",\"h\",I$6=\"langfd\",\"h\",I$6=\"1påsked\",\"h\",I$6=\"2påsked\",\"h\",I$6=\"kr.himmelfart\",\"h\",I$6=\"1pinse\",\"h\",I$6=\"2pinse\",\"h\",I$6=\"1juledag\",\"h\",I$6=\"2juledag\",\"h\",I$6=\"nytårsdag\",\"h\")","v":"-"},{"$f":"_xlfn.IFS(J$7=\"søndag\",\"-\",J$6=\"skærtd\",\"h\",J$6=\"langfd\",\"h\",J$6=\"1påsked\",\"h\",J$6=\"2påsked\",\"h\",J$6=\"kr.himmelfart\",\"h\",J$6=\"1pinse\",\"h\",J$6=\"2pinse\",\"h\",J$6=\"1juledag\",\"h\",J$6=\"2juledag\",\"h\",J$6=\"nytårsdag\",\"h\")","v":{"$error":"#N/A"}},{"$f":"_xlfn.IFS(K$7=\"søndag\",\"-\",K$6=\"skærtd\",\"h\",K$6=\"langfd\",\"h\",K$6=\"1påsked\",\"h\",K$6=\"2påsked\",\"h\",K$6=\"kr.himmelfart\",\"h\",K$6=\"1pinse\",\"h\",K$6=\"2pinse\",\"h\",K$6=\"1juledag\",\"h\",K$6=\"2juledag\",\"h\",K$6=\"nytårsdag\",\"h\")","v":{"$error":"#N/A"}},{"$f":"_xlfn.IFS(L$7=\"søndag\",\"-\",L$6=\"skærtd\",\"h\",L$6=\"langfd\",\"h\",L$6=\"1påsked\",\"h\",L$6=\"2påsked\",\"h\",L$6=\"kr.himmelfart\",\"h\",L$6=\"1pinse\",\"h\",L$6=\"2pinse\",\"h\",L$6=\"1juledag\",\"h\",L$6=\"2juledag\",\"h\",L$6=\"nytårsdag\",\"h\")","v":{"$error":"#N/A"}},{"$f":"_xlfn.IFS(M$7=\"søndag\",\"-\",M$6=\"skærtd\",\"h\",M$6=\"langfd\",\"h\",M$6=\"1påsked\",\"h\",M$6=\"2påsked\",\"h\",M$6=\"kr.himmelfart\",\"h\",M$6=\"1pinse\",\"h\",M$6=\"2pinse\",\"h\",M$6=\"1juledag\",\"h\",M$6=\"2juledag\",\"h\",M$6=\"nytårsdag\",\"h\")","v":{"$error":"#N/A"}},{"$f":"_xlfn.IFS(N$7=\"søndag\",\"-\",N$6=\"skærtd\",\"h\",N$6=\"langfd\",\"h\",N$6=\"1påsked\",\"h\",N$6=\"2påsked\",\"h\",N$6=\"kr.himmelfart\",\"h\",N$6=\"1pinse\",\"h\",N$6=\"2pinse\",\"h\",N$6=\"1juledag\",\"h\",N$6=\"2juledag\",\"h\",N$6=\"nytårsdag\",\"h\")","v":{"$error":"#N/A"}},{"$f":"_xlfn.IFS(O$7=\"søndag\",\"-\",O$6=\"skærtd\",\"h\",O$6=\"langfd\",\"h\",O$6=\"1påsked\",\"h\",O$6=\"2påsked\",\"h\",O$6=\"kr.himmelfart\",\"h\",O$6=\"1pinse\",\"h\",O$6=\"2pinse\",\"h\",O$6=\"1juledag\",\"h\",O$6=\"2juledag\",\"h\",O$6=\"nytårsdag\",\"h\")","v":{"$error":"#N/A"}},{"$f":"_xlfn.IFS(P$7=\"søndag\",\"-\",P$6=\"skærtd\",\"h\",P$6=\"langfd\",\"h\",P$6=\"1påsked\",\"h\",P$6=\"2påsked\",\"h\",P$6=\"kr.himmelfart\",\"h\",P$6=\"1pinse\",\"h\",P$6=\"2pinse\",\"h\",P$6=\"1juledag\",\"h\",P$6=\"2juledag\",\"h\",P$6=\"nytårsdag\",\"h\")","v":"-"},{"$f":"_xlfn.IFS(Q$7=\"søndag\",\"-\",Q$6=\"skærtd\",\"h\",Q$6=\"langfd\",\"h\",Q$6=\"1påsked\",\"h\",Q$6=\"2påsked\",\"h\",Q$6=\"kr.himmelfart\",\"h\",Q$6=\"1pinse\",\"h\",Q$6=\"2pinse\",\"h\",Q$6=\"1juledag\",\"h\",Q$6=\"2juledag\",\"h\",Q$6=\"nytårsdag\",\"h\")","v":{"$error":"#N/A"}},{"$f":"_xlfn.IFS(R$7=\"søndag\",\"-\",R$6=\"skærtd\",\"h\",R$6=\"langfd\",\"h\",R$6=\"1påsked\",\"h\",R$6=\"2påsked\",\"h\",R$6=\"kr.himmelfart\",\"h\",R$6=\"1pinse\",\"h\",R$6=\"2pinse\",\"h\",R$6=\"1juledag\",\"h\",R$6=\"2juledag\",\"h\",R$6=\"nytårsdag\",\"h\")","v":{"$error":"#N/A"}},{"$f":"_xlfn.IFS(S$7=\"søndag\",\"-\",S$6=\"skærtd\",\"h\",S$6=\"langfd\",\"h\",S$6=\"1påsked\",\"h\",S$6=\"2påsked\",\"h\",S$6=\"kr.himmelfart\",\"h\",S$6=\"1pinse\",\"h\",S$6=\"2pinse\",\"h\",S$6=\"1juledag\",\"h\",S$6=\"2juledag\",\"h\",S$6=\"nytårsdag\",\"h\")","v":{"$error":"#N/A"}},{"$f":"_xlfn.IFS(T$7=\"søndag\",\"-\",T$6=\"skærtd\",\"h\",T$6=\"langfd\",\"h\",T$6=\"1påsked\",\"h\",T$6=\"2påsked\",\"h\",T$6=\"kr.himmelfart\",\"h\",T$6=\"1pinse\",\"h\",T$6=\"2pinse\",\"h\",T$6=\"1juledag\",\"h\",T$6=\"2juledag\",\"h\",T$6=\"nytårsdag\",\"h\")","v":"h"},{"$f":"_xlfn.IFS(U$7=\"søndag\",\"-\",U$6=\"skærtd\",\"h\",U$6=\"langfd\",\"h\",U$6=\"1påsked\",\"h\",U$6=\"2påsked\",\"h\",U$6=\"kr.himmelfart\",\"h\",U$6=\"1pinse\",\"h\",U$6=\"2pinse\",\"h\",U$6=\"1juledag\",\"h\",U$6=\"2juledag\",\"h\",U$6=\"nytårsdag\",\"h\")","v":"h"},{"$f":"_xlfn.IFS(V$7=\"søndag\",\"-\",V$6=\"skærtd\",\"h\",V$6=\"langfd\",\"h\",V$6=\"1påsked\",\"h\",V$6=\"2påsked\",\"h\",V$6=\"kr.himmelfart\",\"h\",V$6=\"1pinse\",\"h\",V$6=\"2pinse\",\"h\",V$6=\"1juledag\",\"h\",V$6=\"2juledag\",\"h\",V$6=\"nytårsdag\",\"h\")","v":{"$error":"#N/A"}},{"$f":"_xlfn.IFS(W$7=\"søndag\",\"-\",W$6=\"skærtd\",\"h\",W$6=\"langfd\",\"h\",W$6=\"1påsked\",\"h\",W$6=\"2påsked\",\"h\",W$6=\"kr.himmelfart\",\"h\",W$6=\"1pinse\",\"h\",W$6=\"2pinse\",\"h\",W$6=\"1juledag\",\"h\",W$6=\"2juledag\",\"h\",W$6=\"nytårsdag\",\"h\")","v":"-"},{"$f":"_xlfn.IFS(X$7=\"søndag\",\"-\",X$6=\"skærtd\",\"h\",X$6=\"langfd\",\"h\",X$6=\"1påsked\",\"h\",X$6=\"2påsked\",\"h\",X$6=\"kr.himmelfart\",\"h\",X$6=\"1pinse\",\"h\",X$6=\"2pinse\",\"h\",X$6=\"1juledag\",\"h\",X$6=\"2juledag\",\"h\",X$6=\"nytårsdag\",\"h\")","v":"h"},{"$f":"_xlfn.IFS(Y$7=\"søndag\",\"-\",Y$6=\"skærtd\",\"h\",Y$6=\"langfd\",\"h\",Y$6=\"1påsked\",\"h\",Y$6=\"2påsked\",\"h\",Y$6=\"kr.himmelfart\",\"h\",Y$6=\"1pinse\",\"h\",Y$6=\"2pinse\",\"h\",Y$6=\"1juledag\",\"h\",Y$6=\"2juledag\",\"h\",Y$6=\"nytårsdag\",\"h\")","v":{"$error":"#N/A"}},{"$f":"_xlfn.IFS(Z$7=\"søndag\",\"-\",Z$6=\"skærtd\",\"h\",Z$6=\"langfd\",\"h\",Z$6=\"1påsked\",\"h\",Z$6=\"2påsked\",\"h\",Z$6=\"kr.himmelfart\",\"h\",Z$6=\"1pinse\",\"h\",Z$6=\"2pinse\",\"h\",Z$6=\"1juledag\",\"h\",Z$6=\"2juledag\",\"h\",Z$6=\"nytårsdag\",\"h\")","v":{"$error":"#N/A"}},{"$f":"_xlfn.IFS(AA$7=\"søndag\",\"-\",AA$6=\"skærtd\",\"h\",AA$6=\"langfd\",\"h\",AA$6=\"1påsked\",\"h\",AA$6=\"2påsked\",\"h\",AA$6=\"kr.himmelfart\",\"h\",AA$6=\"1pinse\",\"h\",AA$6=\"2pinse\",\"h\",AA$6=\"1juledag\",\"h\",AA$6=\"2juledag\",\"h\",AA$6=\"nytårsdag\",\"h\")","v":{"$error":"#N/A"}},{"$f":"_xlfn.IFS(AB$7=\"søndag\",\"-\",AB$6=\"skærtd\",\"h\",AB$6=\"langfd\",\"h\",AB$6=\"1påsked\",\"h\",AB$6=\"2påsked\",\"h\",AB$6=\"kr.himmelfart\",\"h\",AB$6=\"1pinse\",\"h\",AB$6=\"2pinse\",\"h\",AB$6=\"1juledag\",\"h\",AB$6=\"2juledag\",\"h\",AB$6=\"nytårsdag\",\"h\")","v":{"$error":"#N/A"}},{"$f":"_xlfn.IFS(AC$7=\"søndag\",\"-\",AC$6=\"skærtd\",\"h\",AC$6=\"langfd\",\"h\",AC$6=\"1påsked\",\"h\",AC$6=\"2påsked\",\"h\",AC$6=\"kr.himmelfart\",\"h\",AC$6=\"1pinse\",\"h\",AC$6=\"2pinse\",\"h\",AC$6=\"1juledag\",\"h\",AC$6=\"2juledag\",\"h\",AC$6=\"nytårsdag\",\"h\")","v":{"$error":"#N/A"}},{"$f":"_xlfn.IFS(AD$7=\"søndag\",\"-\",AD$6=\"skærtd\",\"h\",AD$6=\"langfd\",\"h\",AD$6=\"1påsked\",\"h\",AD$6=\"2påsked\",\"h\",AD$6=\"kr.himmelfart\",\"h\",AD$6=\"1pinse\",\"h\",AD$6=\"2pinse\",\"h\",AD$6=\"1juledag\",\"h\",AD$6=\"2juledag\",\"h\",AD$6=\"nytårsdag\",\"h\")","v":"-"},{"$f":"_xlfn.IFS(AE$7=\"søndag\",\"-\",AE$6=\"skærtd\",\"h\",AE$6=\"langfd\",\"h\",AE$6=\"1påsked\",\"h\",AE$6=\"2påsked\",\"h\",AE$6=\"kr.himmelfart\",\"h\",AE$6=\"1pinse\",\"h\",AE$6=\"2pinse\",\"h\",AE$6=\"1juledag\",\"h\",AE$6=\"2juledag\",\"h\",AE$6=\"nytårsdag\",\"h\")","v":{"$error":"#N/A"}},{"$f":"_xlfn.IFS(AF$7=\"søndag\",\"-\",AF$6=\"skærtd\",\"h\",AF$6=\"langfd\",\"h\",AF$6=\"1påsked\",\"h\",AF$6=\"2påsked\",\"h\",AF$6=\"kr.himmelfart\",\"h\",AF$6=\"1pinse\",\"h\",AF$6=\"2pinse\",\"h\",AF$6=\"1juledag\",\"h\",AF$6=\"2juledag\",\"h\",AF$6=\"nytårsdag\",\"h\")","v":{"$error":"#N/A"}},{"$f":"_xlfn.IFS(AG$7=\"søndag\",\"-\",AG$6=\"skærtd\",\"h\",AG$6=\"langfd\",\"h\",AG$6=\"1påsked\",\"h\",AG$6=\"2påsked\",\"h\",AG$6=\"kr.himmelfart\",\"h\",AG$6=\"1pinse\",\"h\",AG$6=\"2pinse\",\"h\",AG$6=\"1juledag\",\"h\",AG$6=\"2juledag\",\"h\",AG$6=\"nytårsdag\",\"h\")","v":{"$error":"#N/A"}},{"$f":"_xlfn.IFS(AH$7=\"søndag\",\"-\",AH$6=\"skærtd\",\"h\",AH$6=\"langfd\",\"h\",AH$6=\"1påsked\",\"h\",AH$6=\"2påsked\",\"h\",AH$6=\"kr.himmelfart\",\"h\",AH$6=\"1pinse\",\"h\",AH$6=\"2pinse\",\"h\",AH$6=\"1juledag\",\"h\",AH$6=\"2juledag\",\"h\",AH$6=\"nytårsdag\",\"h\")","v":{"$error":"#N/A"}}]
[null,"Sygedage",null,{"$f":"IF(D100=\"s\",D99,\"-\")","v":"-"},{"$f":"IF(E100=\"s\",E99,\"-\")","v":"-"},"-","-","-","-","-","-","-","-","-","-","-","-","-","-","-","-","-","-","-","-","-","-","-","-","-","-","-","-","-"]
[null,null,{"$f":"$C$15","v":14},"Timer uge",null,null,{"$f":"SUMIF($D$5:$AH$5,C105,D99:AH99)","v":0},{"$f":"$H$15","v":15},{"$f":"D105","v":"Timer uge"},null,null,null,null,{"$f":"SUMIF($D$5:$AH$5,H105,D99:AH99)","v":0},{"$f":"$O$15","v":16},{"$f":"D105","v":"Timer uge"},null,null,null,null,{"$f":"_xlfn.IFS($O105=$BV98,$BV99,$O105=$BW98,Lønskema!$BW99,$O105=$BX98,$BX99,$O105=$BY98,$BY99,$O105=$BZ98,$BZ99,$O105=$CA98,$CA99,$O105=$CB98,$CB99,$O105=$CC98,$CC99,$O105=$CD98,$CD99,$O105=$CE98,$CE99,$O105=$CF98,$CF99,$O105=$CG98,$CF99,$O105=$CG98,$CG99,$O105=$CH98,$CH99,$O105=$CI98,$CI99,$O105=$CJ98,$CJ99,$O105=$CK98,$CK99,$O105=$CL98,$CL99,$O105=$CM98,$CM99,$O105=$CN98,$CN99,$O105=$CO98,$CO99,$O105=$CP98,$CP99,$O105=$CQ98,$CQ99,$O105=$CR98,$CR99,$O105=$CS98,$CS99,$O105=$CT98,$CT99,$O105=$CU98,$CU99,$O105=$CV98,$CV99,$O105=$CW98,$CW99,$O105=$CX98,$CX99,$O105=$CY98,$CY99,$O105=$CZ98,$CZ99,$O105=$DA98,$DA99,$O105=$DB98,$DB99,$O105=$DC98,$DC99,$O105=$DD98,$DD99,$O105=$DE98,$DE99,$O105=$DF98,$DF99,$O105=$DG98,$DG99,$O105=$DH98,$DH99,$O105=$DI98,$DI99,$O105=$DJ98,$DJ99,$O105=$DK98,$DK99,$O105=$DL98,$DL99,$O105=$DM98,$DM99,$O105=$DN98,$DN99,$O105=$DO98,$DO99,$O105=$DP98,$DP99,$O105=$DQ98,$DQ99,$O105=$DR98,$DR99,$O105=$DS98,$DS99,$O105=$DT98,$DT99,$O105=$DU98,$DU99)","v":0},{"$f":"$V$15","v":17},{"$f":"D105","v":"Timer uge"},null,null,null,null,{"$f":"SUMIF($D$5:$AH$5,V105,D99:AH99)","v":0},{"$f":"$AC$15","v":18},{"$f":"D105","v":"Timer uge"},null,null,null,{"$f":"SUMIF($D$5:$AH$5,AC105,D99:AH99)","v":0},{"$f":"$AI$15","v":19},{"$f":"D105","v":"Timer uge"},null,null,null,{"$f":"SUMIF($D$5:$AH$5,AI105,D99:AH99)","v":0}]
[null,null,null,"Overarbejde 50% 1-3 timer",null,null,{"$f":"IF($G105>37,$G105-37-$G107,0)","v":0},null,{"$f":"D106","v":"Overarbejde 50% 1-3 timer"},null,null,null,null,{"$f":"IF($N105>37,$N105-37-$N107,0)","v":0},null,{"$f":"D106","v":"Overarbejde 50% 1-3 timer"},null,null,null,null,{"$f":"IF($U105>37,$U105-37-$U107,0)","v":0},null,{"$f":"D106","v":"Overarbejde 50% 1-3 timer"},null,null,null,null,{"$f":"IF($AB105>37,$AB105-37-$AB107,0)","v":0},null,{"$f":"D106","v":"Overarbejde 50% 1-3 timer"},null,null,null,{"$f":"IF($AH105>37,$AH105-37-$AH107,0)","v":0},null,{"$f":"D106","v":"Overarbejde 50% 1-3 timer"},null,null,null,{"$f":"IF($AH105>37,$AH105-37-$AH107,0)","v":0}]
[null,null,null,"Overarbejde 100% over 3 timer",null,null,{"$f":"IF($G105>40,$G105-40,0)","v":0},null,"Overarbejde 100% over 3 timer",null,null,null,null,{"$f":"IF($N105>40,$N105-40,0)","v":0},null,"Overarbejde 100% over 3 timer",null,null,null,null,{"$f":"IF($U105>40,$U105-40,0)","v":0},null,"Overarbejde 100% over 3 timer",null,null,null,null,{"$f":"IF($AB105>40,$AB105-40,0)","v":0},null,"Overarbejde 100% over 3 timer",null,null,null,{"$f":"IF($AH105>40,$AH105-40,0)","v":0},null,{"$f":"D107","v":"Overarbejde 100% over 3 timer"},null,null,null,{"$f":"IF($AH105>40,$AH105-40,0)","v":0},null,null,null,null,null,null,null,null,null,null,null,null,null,null,null,null,null,null,null,null,null,null,null,null,null,null,null,null,null,null,null,null,null,1,2,3,4,5,6,7,8,9,10,11,12,13,14,15,16,17,18,19,20,21,22,23,24,25,26,27,28,29,30,31,32,33,34,35,36,37,38,39,40,41,42,43,44,45,46,47,48,49,50,51,52]
[{"$f":"Medarbejder!A14","v":0},{"$f":"Medarbejder!B14","v":0},{"$f":"Medarbejder!C14","v":"-"},null,null,null,null,null,null,null,null,null,null,null,null,null,null,null,null,null,null,null,null,null,null,null,null,null,null,null,null,null,null,null,null,null,null,null,null,null,null,{"$f":"AO108*Overenskomst!$C$22","v":0},{"$f":"SUM($D108:$AH108)-$BA108-$BF108-$BD108","v":0},{"$f":"IF(Medarbejder!$J14=\"ja\",$AQ108,\"-\")","v":"-"},{"$f":"SUMIF($D$7:$AH$7,\"søndag\",$D108:$AH108)+$AT108","v":0},{"$f":"SUMIFS($D108:$AH108,$D112:$AH112,\"H\")","v":0},{"$f":"G115+N115+U115+AB115+AH115+AN115","v":0},{"$f":"G116+N116+U116+AB116+AH116+AN116","v":0},{"$f":"SUM($D110:$AH110)","v":0},{"$f":"SUM($D111:$AH111)","v":0},{"$f":"COUNTIFS($D109:$AH109,\"F\")","v":0},{"$f":"COUNTIFS($D109:$AH109,\"S\")","v":0},{"$f":"SUMIF($D109:$AH109,\"S\",$D113:$AH113)","v":0},{"$f":"COUNTIFS($D109:$AH109,\"p\")","v":0},{"$f":"COUNTIFS($D109:$AH109,\"BS\")","v":0},{"$f":"SUMIF(D109:AH109,\"bs\",$D108:$AH108)","v":0},{"$f":"COUNTIFS($D109:$AH109,\"FF\")","v":0},{"$f":"SUMIF($D109:$AH109,\"g\",$D108:$AH108)","v":0},{"$f":"Medarbejder!$N14","v":"-"},{"$f":"SUM($BL108:$BU108)","v":4},null,null,null,{"$f":"COUNTIFS($D$6:$AH$6,\"skærtd\")","v":1},{"$f":"COUNTIFS($D$6:$AH$6,\"langfd\")","v":1},{"$f":"COUNTIFS($D$6:$AH$6,\"1påsked\")","v":1},{"$f":"COUNTIFS($D$6:$AH$6,\"2påsked\")","v":1},{"$f":"COUNTIFS($D$6:$AH$6,\"kr.himmelfart\")","v":0},{"$f":"COUNTIFS($D$6:$AH$6,\"1pinse\")","v":0},{"$f":"COUNTIFS($D$6:$AH$6,\"2pinse\")","v":0},{"$f":"COUNTIFS($D$6:$AH$6,\"1juledag\")","v":0},{"$f":"COUNTIFS($D$6:$AH$6,\"2juledag\")","v":0},{"$f":"COUNTIFS($D$6:$AH$6,\"nytårsdag\")","v":0},{"$f":"SUMIFS($D108:$AH108,Lønskema!$D$5:$AH$5,1)","v":0},{"$f":"SUMIFS($D108:$AH108,Lønskema!$D$5:$AH$5,2)","v":0},{"$f":"SUMIFS($D108:$AH108,Lønskema!$D$5:$AH$5,3)","v":0},{"$f":"SUMIFS($D108:$AH108,Lønskema!$D$5:$AH$5,4)","v":0},{"$f":"SUMIFS($D108:$AH108,Lønskema!$D$5:$AH$5,5)","v":0},{"$f":"SUMIFS($D108:$AH108,Lønskema!$D$5:$AH$5,6)","v":0},{"$f":"SUMIFS($D108:$AH108,Lønskema!$D$5:$AH$5,7)","v":0},{"$f":"SUMIFS($D108:$AH108,Lønskema!$D$5:$AH$5,8)","v":0},{"$f":"SUMIFS($D108:$AH108,Lønskema!$D$5:$AH$5,9)","v":0},{"$f":"SUMIFS($D108:$AH108,Lønskema!$D$5:$AH$5,10)","v":0},{"$f":"SUMIFS($D108:$AH108,Lønskema!$D$5:$AH$5,11)","v":0},{"$f":"SUMIFS($D108:$AH108,Lønskema!$D$5:$AH$5,12)","v":0},{"$f":"SUMIFS($D108:$AH108,Lønskema!$D$5:$AH$5,13)","v":0},{"$f":"SUMIFS($D108:$AH108,Lønskema!$D$5:$AH$5,14)","v":0},{"$f":"SUMIFS($D108:$AH108,Lønskema!$D$5:$AH$5,15)","v":0},{"$f":"SUMIFS($D108:$AH108,Lønskema!$D$5:$AH$5,16)","v":0},{"$f":"SUMIFS($D108:$AH108,Lønskema!$D$5:$AH$5,17)","v":0},{"$f":"SUMIFS($D108:$AH108,Lønskema!$D$5:$AH$5,18)","v":0},{"$f":"SUMIFS($D108:$AH108,Lønskema!$D$5:$AH$5,19)","v":0},{"$f":"SUMIFS($D108:$AH108,Lønskema!$D$5:$AH$5,20)","v":0},{"$f":"SUMIFS($D108:$AH108,Lønskema!$D$5:$AH$5,21)","v":0},{"$f":"SUMIFS($D108:$AH108,Lønskema!$D$5:$AH$5,22)","v":0},{"$f":"SUMIFS($D108:$AH108,Lønskema!$D$5:$AH$5,23)","v":0},{"$f":"SUMIFS($D108:$AH108,Lønskema!$D$5:$AH$5,24)","v":0},{"$f":"SUMIFS($D108:$AH108,Lønskema!$D$5:$AH$5,25)","v":0},{"$f":"SUMIFS($D108:$AH108,Lønskema!$D$5:$AH$5,26)","v":0},{"$f":"SUMIFS($D108:$AH108,Lønskema!$D$5:$AH$5,27)","v":0},{"$f":"SUMIFS($D108:$AH108,Lønskema!$D$5:$AH$5,28)","v":0},{"$f":"SUMIFS($D108:$AH108,Lønskema!$D$5:$AH$5,29)","v":0},{"$f":"SUMIFS($D108:$AH108,Lønskema!$D$5:$AH$5,30)","v":0},{"$f":"SUMIFS($D108:$AH108,Lønskema!$D$5:$AH$5,31)","v":0},{"$f":"SUMIFS($D108:$AH108,Lønskema!$D$5:$AH$5,32)","v":0},{"$f":"SUMIFS($D108:$AH108,Lønskema!$D$5:$AH$5,33)","v":0},{"$f":"SUMIFS($D108:$AH108,Lønskema!$D$5:$AH$5,34)","v":0},{"$f":"SUMIFS($D108:$AH108,Lønskema!$D$5:$AH$5,35)","v":0},{"$f":"SUMIFS($D108:$AH108,Lønskema!$D$5:$AH$5,36)","v":0},{"$f":"SUMIFS($D108:$AH108,Lønskema!$D$5:$AH$5,37)","v":0},{"$f":"SUMIFS($D108:$AH108,Lønskema!$D$5:$AH$5,38)","v":0},{"$f":"SUMIFS($D108:$AH108,Lønskema!$D$5:$AH$5,39)","v":0},{"$f":"SUMIFS($D108:$AH108,Lønskema!$D$5:$AH$5,40)","v":0},{"$f":"SUMIFS($D108:$AH108,Lønskema!$D$5:$AH$5,41)","v":0},{"$f":"SUMIFS($D108:$AH108,Lønskema!$D$5:$AH$5,42)","v":0},{"$f":"SUMIFS($D108:$AH108,Lønskema!$D$5:$AH$5,43)","v":0},{"$f":"SUMIFS($D108:$AH108,Lønskema!$D$5:$AH$5,44)","v":0},{"$f":"SUMIFS($D108:$AH108,Lønskema!$D$5:$AH$5,45)","v":0},{"$f":"SUMIFS($D108:$AH108,Lønskema!$D$5:$AH$5,46)","v":0},{"$f":"SUMIFS($D108:$AH108,Lønskema!$D$5:$AH$5,47)","v":0},{"$f":"SUMIFS($D108:$AH108,Lønskema!$D$5:$AH$5,48)","v":0},{"$f":"SUMIFS($D108:$AH108,Lønskema!$D$5:$AH$5,49)","v":0},{"$f":"SUMIFS($D108:$AH108,Lønskema!$D$5:$AH$5,50)","v":0},{"$f":"SUMIFS($D108:$AH108,Lønskema!$D$5:$AH$5,51)","v":0},{"$f":"SUMIFS($D108:$AH108,Lønskema!$D$5:$AH$5,52)","v":0}]
["Ferie - syg  mm. Registreres i denne række"]
[null,"Aften"]
[null,"Nat"]
[null,"Helligdag",null,{"$f":"_xlfn.IFS(D$7=\"søndag\",\"-\",D$6=\"skærtd\",\"h\",D$6=\"langfd\",\"h\",D$6=\"1påsked\",\"h\",D$6=\"2påsked\",\"h\",D$6=\"kr.himmelfart\",\"h\",D$6=\"1pinse\",\"h\",D$6=\"2pinse\",\"h\",D$6=\"1juledag\",\"h\",D$6=\"2juledag\",\"h\",D$6=\"nytårsdag\",\"h\")","v":{"$error":"#N/A"}},{"$f":"_xlfn.IFS(E$7=\"søndag\",\"-\",E$6=\"skærtd\",\"h\",E$6=\"langfd\",\"h\",E$6=\"1påsked\",\"h\",E$6=\"2påsked\",\"h\",E$6=\"kr.himmelfart\",\"h\",E$6=\"1pinse\",\"h\",E$6=\"2pinse\",\"h\",E$6=\"1juledag\",\"h\",E$6=\"2juledag\",\"h\",E$6=\"nytårsdag\",\"h\")","v":{"$error":"#N/A"}},{"$f":"_xlfn.IFS(F$7=\"søndag\",\"-\",F$6=\"skærtd\",\"h\",F$6=\"langfd\",\"h\",F$6=\"1påsked\",\"h\",F$6=\"2påsked\",\"h\",F$6=\"kr.himmelfart\",\"h\",F$6=\"1pinse\",\"h\",F$6=\"2pinse\",\"h\",F$6=\"1juledag\",\"h\",F$6=\"2juledag\",\"h\",F$6=\"nytårsdag\",\"h\")","v":{"$error":"#N/A"}},{"$f":"_xlfn.IFS(G$7=\"søndag\",\"-\",G$6=\"skærtd\",\"h\",G$6=\"langfd\",\"h\",G$6=\"1påsked\",\"h\",G$6=\"2påsked\",\"h\",G$6=\"kr.himmelfart\",\"h\",G$6=\"1pinse\",\"h\",G$6=\"2pinse\",\"h\",G$6=\"1juledag\",\"h\",G$6=\"2juledag\",\"h\",G$6=\"nytårsdag\",\"h\")","v":{"$error":"#N/A"}},{"$f":"_xlfn.IFS(H$7=\"søndag\",\"-\",H$6=\"skærtd\",\"h\",H$6=\"langfd\",\"h\",H$6=\"1påsked\",\"h\",H$6=\"2påsked\",\"h\",H$6=\"kr.himmelfart\",\"h\",H$6=\"1pinse\",\"h\",H$6=\"2pinse\",\"h\",H$6=\"1juledag\",\"h\",H$6=\"2juledag\",\"h\",H$6=\"nytårsdag\",\"h\")","v":{"$error":"#N/A"}},{"$f":"_xlfn.IFS(I$7=\"søndag\",\"-\",I$6=\"skærtd\",\"h\",I$6=\"langfd\",\"h\",I$6=\"1påsked\",\"h\",I$6=\"2påsked\",\"h\",I$6=\"kr.himmelfart\",\"h\",I$6=\"1pinse\",\"h\",I$6=\"2pinse\",\"h\",I$6=\"1juledag\",\"h\",I$6=\"2juledag\",\"h\",I$6=\"nytårsdag\",\"h\")","v":"-"},{"$f":"_xlfn.IFS(J$7=\"søndag\",\"-\",J$6=\"skærtd\",\"h\",J$6=\"langfd\",\"h\",J$6=\"1påsked\",\"h\",J$6=\"2påsked\",\"h\",J$6=\"kr.himmelfart\",\"h\",J$6=\"1pinse\",\"h\",J$6=\"2pinse\",\"h\",J$6=\"1juledag\",\"h\",J$6=\"2juledag\",\"h\",J$6=\"nytårsdag\",\"h\")","v":{"$error":"#N/A"}},{"$f":"_xlfn.IFS(K$7=\"søndag\",\"-\",K$6=\"skærtd\",\"h\",K$6=\"langfd\",\"h\",K$6=\"1påsked\",\"h\",K$6=\"2påsked\",\"h\",K$6=\"kr.himmelfart\",\"h\",K$6=\"1pinse\",\"h\",K$6=\"2pinse\",\"h\",K$6=\"1juledag\",\"h\",K$6=\"2juledag\",\"h\",K$6=\"nytårsdag\",\"h\")","v":{"$error":"#N/A"}},{"$f":"_xlfn.IFS(L$7=\"søndag\",\"-\",L$6=\"skærtd\",\"h\",L$6=\"langfd\",\"h\",L$6=\"1påsked\",\"h\",L$6=\"2påsked\",\"h\",L$6=\"kr.himmelfart\",\"h\",L$6=\"1pinse\",\"h\",L$6=\"2pinse\",\"h\",L$6=\"1juledag\",\"h\",L$6=\"2juledag\",\"h\",L$6=\"nytårsdag\",\"h\")","v":{"$error":"#N/A"}},{"$f":"_xlfn.IFS(M$7=\"søndag\",\"-\",M$6=\"skærtd\",\"h\",M$6=\"langfd\",\"h\",M$6=\"1påsked\",\"h\",M$6=\"2påsked\",\"h\",M$6=\"kr.himmelfart\",\"h\",M$6=\"1pinse\",\"h\",M$6=\"2pinse\",\"h\",M$6=\"1juledag\",\"h\",M$6=\"2juledag\",\"h\",M$6=\"nytårsdag\",\"h\")","v":{"$error":"#N/A"}},{"$f":"_xlfn.IFS(N$7=\"søndag\",\"-\",N$6=\"skærtd\",\"h\",N$6=\"langfd\",\"h\",N$6=\"1påsked\",\"h\",N$6=\"2påsked\",\"h\",N$6=\"kr.himmelfart\",\"h\",N$6=\"1pinse\",\"h\",N$6=\"2pinse\",\"h\",N$6=\"1juledag\",\"h\",N$6=\"2juledag\",\"h\",N$6=\"nytårsdag\",\"h\")","v":{"$error":"#N/A"}},{"$f":"_xlfn.IFS(O$7=\"søndag\",\"-\",O$6=\"skærtd\",\"h\",O$6=\"langfd\",\"h\",O$6=\"1påsked\",\"h\",O$6=\"2påsked\",\"h\",O$6=\"kr.himmelfart\",\"h\",O$6=\"1pinse\",\"h\",O$6=\"2pinse\",\"h\",O$6=\"1juledag\",\"h\",O$6=\"2juledag\",\"h\",O$6=\"nytårsdag\",\"h\")","v":{"$error":"#N/A"}},{"$f":"_xlfn.IFS(P$7=\"søndag\",\"-\",P$6=\"skærtd\",\"h\",P$6=\"langfd\",\"h\",P$6=\"1påsked\",\"h\",P$6=\"2påsked\",\"h\",P$6=\"kr.himmelfart\",\"h\",P$6=\"1pinse\",\"h\",P$6=\"2pinse\",\"h\",P$6=\"1juledag\",\"h\",P$6=\"2juledag\",\"h\",P$6=\"nytårsdag\",\"h\")","v":"-"},{"$f":"_xlfn.IFS(Q$7=\"søndag\",\"-\",Q$6=\"skærtd\",\"h\",Q$6=\"langfd\",\"h\",Q$6=\"1påsked\",\"h\",Q$6=\"2påsked\",\"h\",Q$6=\"kr.himmelfart\",\"h\",Q$6=\"1pinse\",\"h\",Q$6=\"2pinse\",\"h\",Q$6=\"1juledag\",\"h\",Q$6=\"2juledag\",\"h\",Q$6=\"nytårsdag\",\"h\")","v":{"$error":"#N/A"}},{"$f":"_xlfn.IFS(R$7=\"søndag\",\"-\",R$6=\"skærtd\",\"h\",R$6=\"langfd\",\"h\",R$6=\"1påsked\",\"h\",R$6=\"2påsked\",\"h\",R$6=\"kr.himmelfart\",\"h\",R$6=\"1pinse\",\"h\",R$6=\"2pinse\",\"h\",R$6=\"1juledag\",\"h\",R$6=\"2juledag\",\"h\",R$6=\"nytårsdag\",\"h\")","v":{"$error":"#N/A"}},{"$f":"_xlfn.IFS(S$7=\"søndag\",\"-\",S$6=\"skærtd\",\"h\",S$6=\"langfd\",\"h\",S$6=\"1påsked\",\"h\",S$6=\"2påsked\",\"h\",S$6=\"kr.himmelfart\",\"h\",S$6=\"1pinse\",\"h\",S$6=\"2pinse\",\"h\",S$6=\"1juledag\",\"h\",S$6=\"2juledag\",\"h\",S$6=\"nytårsdag\",\"h\")","v":{"$error":"#N/A"}},{"$f":"_xlfn.IFS(T$7=\"søndag\",\"-\",T$6=\"skærtd\",\"h\",T$6=\"langfd\",\"h\",T$6=\"1påsked\",\"h\",T$6=\"2påsked\",\"h\",T$6=\"kr.himmelfart\",\"h\",T$6=\"1pinse\",\"h\",T$6=\"2pinse\",\"h\",T$6=\"1juledag\",\"h\",T$6=\"2juledag\",\"h\",T$6=\"nytårsdag\",\"h\")","v":"h"},{"$f":"_xlfn.IFS(U$7=\"søndag\",\"-\",U$6=\"skærtd\",\"h\",U$6=\"langfd\",\"h\",U$6=\"1påsked\",\"h\",U$6=\"2påsked\",\"h\",U$6=\"kr.himmelfart\",\"h\",U$6=\"1pinse\",\"h\",U$6=\"2pinse\",\"h\",U$6=\"1juledag\",\"h\",U$6=\"2juledag\",\"h\",U$6=\"nytårsdag\",\"h\")","v":"h"},{"$f":"_xlfn.IFS(V$7=\"søndag\",\"-\",V$6=\"skærtd\",\"h\",V$6=\"langfd\",\"h\",V$6=\"1påsked\",\"h\",V$6=\"2påsked\",\"h\",V$6=\"kr.himmelfart\",\"h\",V$6=\"1pinse\",\"h\",V$6=\"2pinse\",\"h\",V$6=\"1juledag\",\"h\",V$6=\"2juledag\",\"h\",V$6=\"nytårsdag\",\"h\")","v":{"$error":"#N/A"}},{"$f":"_xlfn.IFS(W$7=\"søndag\",\"-\",W$6=\"skærtd\",\"h\",W$6=\"langfd\",\"h\",W$6=\"1påsked\",\"h\",W$6=\"2påsked\",\"h\",W$6=\"kr.himmelfart\",\"h\",W$6=\"1pinse\",\"h\",W$6=\"2pinse\",\"h\",W$6=\"1juledag\",\"h\",W$6=\"2juledag\",\"h\",W$6=\"nytårsdag\",\"h\")","v":"-"},{"$f":"_xlfn.IFS(X$7=\"søndag\",\"-\",X$6=\"skærtd\",\"h\",X$6=\"langfd\",\"h\",X$6=\"1påsked\",\"h\",X$6=\"2påsked\",\"h\",X$6=\"kr.himmelfart\",\"h\",X$6=\"1pinse\",\"h\",X$6=\"2pinse\",\"h\",X$6=\"1juledag\",\"h\",X$6=\"2juledag\",\"h\",X$6=\"nytårsdag\",\"h\")","v":"h"},{"$f":"_xlfn.IFS(Y$7=\"søndag\",\"-\",Y$6=\"skærtd\",\"h\",Y$6=\"langfd\",\"h\",Y$6=\"1påsked\",\"h\",Y$6=\"2påsked\",\"h\",Y$6=\"kr.himmelfart\",\"h\",Y$6=\"1pinse\",\"h\",Y$6=\"2pinse\",\"h\",Y$6=\"1juledag\",\"h\",Y$6=\"2juledag\",\"h\",Y$6=\"nytårsdag\",\"h\")","v":{"$error":"#N/A"}},{"$f":"_xlfn.IFS(Z$7=\"søndag\",\"-\",Z$6=\"skærtd\",\"h\",Z$6=\"langfd\",\"h\",Z$6=\"1påsked\",\"h\",Z$6=\"2påsked\",\"h\",Z$6=\"kr.himmelfart\",\"h\",Z$6=\"1pinse\",\"h\",Z$6=\"2pinse\",\"h\",Z$6=\"1juledag\",\"h\",Z$6=\"2juledag\",\"h\",Z$6=\"nytårsdag\",\"h\")","v":{"$error":"#N/A"}},{"$f":"_xlfn.IFS(AA$7=\"søndag\",\"-\",AA$6=\"skærtd\",\"h\",AA$6=\"langfd\",\"h\",AA$6=\"1påsked\",\"h\",AA$6=\"2påsked\",\"h\",AA$6=\"kr.himmelfart\",\"h\",AA$6=\"1pinse\",\"h\",AA$6=\"2pinse\",\"h\",AA$6=\"1juledag\",\"h\",AA$6=\"2juledag\",\"h\",AA$6=\"nytårsdag\",\"h\")","v":{"$error":"#N/A"}},{"$f":"_xlfn.IFS(AB$7=\"søndag\",\"-\",AB$6=\"skærtd\",\"h\",AB$6=\"langfd\",\"h\",AB$6=\"1påsked\",\"h\",AB$6=\"2påsked\",\"h\",AB$6=\"kr.himmelfart\",\"h\",AB$6=\"1pinse\",\"h\",AB$6=\"2pinse\",\"h\",AB$6=\"1juledag\",\"h\",AB$6=\"2juledag\",\"h\",AB$6=\"nytårsdag\",\"h\")","v":{"$error":"#N/A"}},{"$f":"_xlfn.IFS(AC$7=\"søndag\",\"-\",AC$6=\"skærtd\",\"h\",AC$6=\"langfd\",\"h\",AC$6=\"1påsked\",\"h\",AC$6=\"2påsked\",\"h\",AC$6=\"kr.himmelfart\",\"h\",AC$6=\"1pinse\",\"h\",AC$6=\"2pinse\",\"h\",AC$6=\"1juledag\",\"h\",AC$6=\"2juledag\",\"h\",AC$6=\"nytårsdag\",\"h\")","v":{"$error":"#N/A"}},{"$f":"_xlfn.IFS(AD$7=\"søndag\",\"-\",AD$6=\"skærtd\",\"h\",AD$6=\"langfd\",\"h\",AD$6=\"1påsked\",\"h\",AD$6=\"2påsked\",\"h\",AD$6=\"kr.himmelfart\",\"h\",AD$6=\"1pinse\",\"h\",AD$6=\"2pinse\",\"h\",AD$6=\"1juledag\",\"h\",AD$6=\"2juledag\",\"h\",AD$6=\"nytårsdag\",\"h\")","v":"-"},{"$f":"_xlfn.IFS(AE$7=\"søndag\",\"-\",AE$6=\"skærtd\",\"h\",AE$6=\"langfd\",\"h\",AE$6=\"1påsked\",\"h\",AE$6=\"2påsked\",\"h\",AE$6=\"kr.himmelfart\",\"h\",AE$6=\"1pinse\",\"h\",AE$6=\"2pinse\",\"h\",AE$6=\"1juledag\",\"h\",AE$6=\"2juledag\",\"h\",AE$6=\"nytårsdag\",\"h\")","v":{"$error":"#N/A"}},{"$f":"_xlfn.IFS(AF$7=\"søndag\",\"-\",AF$6=\"skærtd\",\"h\",AF$6=\"langfd\",\"h\",AF$6=\"1påsked\",\"h\",AF$6=\"2påsked\",\"h\",AF$6=\"kr.himmelfart\",\"h\",AF$6=\"1pinse\",\"h\",AF$6=\"2pinse\",\"h\",AF$6=\"1juledag\",\"h\",AF$6=\"2juledag\",\"h\",AF$6=\"nytårsdag\",\"h\")","v":{"$error":"#N/A"}},{"$f":"_xlfn.IFS(AG$7=\"søndag\",\"-\",AG$6=\"skærtd\",\"h\",AG$6=\"langfd\",\"h\",AG$6=\"1påsked\",\"h\",AG$6=\"2påsked\",\"h\",AG$6=\"kr.himmelfart\",\"h\",AG$6=\"1pinse\",\"h\",AG$6=\"2pinse\",\"h\",AG$6=\"1juledag\",\"h\",AG$6=\"2juledag\",\"h\",AG$6=\"nytårsdag\",\"h\")","v":{"$error":"#N/A"}},{"$f":"_xlfn.IFS(AH$7=\"søndag\",\"-\",AH$6=\"skærtd\",\"h\",AH$6=\"langfd\",\"h\",AH$6=\"1påsked\",\"h\",AH$6=\"2påsked\",\"h\",AH$6=\"kr.himmelfart\",\"h\",AH$6=\"1pinse\",\"h\",AH$6=\"2pinse\",\"h\",AH$6=\"1juledag\",\"h\",AH$6=\"2juledag\",\"h\",AH$6=\"nytårsdag\",\"h\")","v":{"$error":"#N/A"}}]
[null,"Sygedage",null,{"$f":"IF(D109=\"s\",D108,\"-\")","v":"-"},{"$f":"IF(E109=\"s\",E108,\"-\")","v":"-"},"-","-","-","-","-","-","-","-","-","-","-","-","-","-","-","-","-","-","-","-","-","-","-","-","-","-","-","-","-"]
[null,null,{"$f":"$C$15","v":14},"Timer uge",null,null,{"$f":"SUMIF($D$5:$AH$5,C114,D108:AH108)","v":0},{"$f":"$H$15","v":15},{"$f":"D114","v":"Timer uge"},null,null,null,null,{"$f":"SUMIF($D$5:$AH$5,H114,D108:AH108)","v":0},{"$f":"$O$15","v":16},{"$f":"D114","v":"Timer uge"},null,null,null,null,{"$f":"_xlfn.IFS($O114=$BV107,$BV108,$O114=$BW107,Lønskema!$BW108,$O114=$BX107,$BX108,$O114=$BY107,$BY108,$O114=$BZ107,$BZ108,$O114=$CA107,$CA108,$O114=$CB107,$CB108,$O114=$CC107,$CC108,$O114=$CD107,$CD108,$O114=$CE107,$CE108,$O114=$CF107,$CF108,$O114=$CG107,$CF108,$O114=$CG107,$CG108,$O114=$CH107,$CH108,$O114=$CI107,$CI108,$O114=$CJ107,$CJ108,$O114=$CK107,$CK108,$O114=$CL107,$CL108,$O114=$CM107,$CM108,$O114=$CN107,$CN108,$O114=$CO107,$CO108,$O114=$CP107,$CP108,$O114=$CQ107,$CQ108,$O114=$CR107,$CR108,$O114=$CS107,$CS108,$O114=$CT107,$CT108,$O114=$CU107,$CU108,$O114=$CV107,$CV108,$O114=$CW107,$CW108,$O114=$CX107,$CX108,$O114=$CY107,$CY108,$O114=$CZ107,$CZ108,$O114=$DA107,$DA108,$O114=$DB107,$DB108,$O114=$DC107,$DC108,$O114=$DD107,$DD108,$O114=$DE107,$DE108,$O114=$DF107,$DF108,$O114=$DG107,$DG108,$O114=$DH107,$DH108,$O114=$DI107,$DI108,$O114=$DJ107,$DJ108,$O114=$DK107,$DK108,$O114=$DL107,$DL108,$O114=$DM107,$DM108,$O114=$DN107,$DN108,$O114=$DO107,$DO108,$O114=$DP107,$DP108,$O114=$DQ107,$DQ108,$O114=$DR107,$DR108,$O114=$DS107,$DS108,$O114=$DT107,$DT108,$O114=$DU107,$DU108)","v":0},{"$f":"$V$15","v":17},{"$f":"D114","v":"Timer uge"},null,null,null,null,{"$f":"SUMIF($D$5:$AH$5,V114,D108:AH108)","v":0},{"$f":"$AC$15","v":18},{"$f":"D114","v":"Timer uge"},null,null,null,{"$f":"SUMIF($D$5:$AH$5,AC114,D108:AH108)","v":0},{"$f":"$AI$15","v":19},{"$f":"D114","v":"Timer uge"},null,null,null,{"$f":"SUMIF($D$5:$AH$5,AI114,D108:AH108)","v":0}]
[null,null,null,"Overarbejde 50% 1-3 timer",null,null,{"$f":"IF($G114>37,$G114-37-$G116,0)","v":0},null,{"$f":"D115","v":"Overarbejde 50% 1-3 timer"},null,null,null,null,{"$f":"IF($N114>37,$N114-37-$N116,0)","v":0},null,{"$f":"D115","v":"Overarbejde 50% 1-3 timer"},null,null,null,null,{"$f":"IF($U114>37,$U114-37-$U116,0)","v":0},null,{"$f":"D115","v":"Overarbejde 50% 1-3 timer"},null,null,null,null,{"$f":"IF($AB114>37,$AB114-37-$AB116,0)","v":0},null,{"$f":"D115","v":"Overarbejde 50% 1-3 timer"},null,null,null,{"$f":"IF($AH114>37,$AH114-37-$AH116,0)","v":0},null,{"$f":"D115","v":"Overarbejde 50% 1-3 timer"},null,null,null,{"$f":"IF($AH114>37,$AH114-37-$AH116,0)","v":0}]
[null,null,null,"Overarbejde 100% over 3 timer",null,null,{"$f":"IF($G114>40,$G114-40,0)","v":0},null,"Overarbejde 100% over 3 timer",null,null,null,null,{"$f":"IF($N114>40,$N114-40,0)","v":0},null,"Overarbejde 100% over 3 timer",null,null,null,null,{"$f":"IF($U114>40,$U114-40,0)","v":0},null,"Overarbejde 100% over 3 timer",null,null,null,null,{"$f":"IF($AB114>40,$AB114-40,0)","v":0},null,"Overarbejde 100% over 3 timer",null,null,null,{"$f":"IF($AH114>40,$AH114-40,0)","v":0},null,{"$f":"D116","v":"Overarbejde 100% over 3 timer"},null,null,null,{"$f":"IF($AH114>40,$AH114-40,0)","v":0},null,null,null,null,null,null,null,null,null,null,null,null,null,null,null,null,null,null,null,null,null,null,null,null,null,null,null,null,null,null,null,null,null,1,2,3,4,5,6,7,8,9,10,11,12,13,14,15,16,17,18,19,20,21,22,23,24,25,26,27,28,29,30,31,32,33,34,35,36,37,38,39,40,41,42,43,44,45,46,47,48,49,50,51,52]
[{"$f":"Medarbejder!A15","v":0},{"$f":"Medarbejder!B15","v":0},{"$f":"Medarbejder!C15","v":"-"},null,null,null,null,null,null,null,null,null,null,null,null,null,null,null,null,null,null,null,null,null,null,null,null,null,null,null,null,null,null,null,null,null,null,null,null,null,null,{"$f":"AO117*Overenskomst!$C$22","v":0},{"$f":"SUM($D117:$AH117)-$BA117-$BF117-$BD117","v":0},{"$f":"IF(Medarbejder!$J15=\"ja\",$AQ117,\"-\")","v":"-"},{"$f":"SUMIF($D$7:$AH$7,\"søndag\",$D117:$AH117)+$AT117","v":0},{"$f":"SUMIFS($D117:$AH117,$D121:$AH121,\"H\")","v":0},{"$f":"G124+N124+U124+AB124+AH124+AN124","v":0},{"$f":"G125+N125+U125+AB125+AH125+AN125","v":0},{"$f":"SUM($D119:$AH119)","v":0},{"$f":"SUM($D120:$AH120)","v":0},{"$f":"COUNTIFS($D118:$AH118,\"F\")","v":0},{"$f":"COUNTIFS($D118:$AH118,\"S\")","v":0},{"$f":"SUMIF($D118:$AH118,\"S\",$D122:$AH122)","v":0},{"$f":"COUNTIFS($D118:$AH118,\"p\")","v":0},{"$f":"COUNTIFS($D118:$AH118,\"BS\")","v":0},{"$f":"SUMIF(D118:AH118,\"bs\",$D117:$AH117)","v":0},{"$f":"COUNTIFS($D118:$AH118,\"FF\")","v":0},{"$f":"SUMIF($D118:$AH118,\"g\",$D117:$AH117)","v":0},{"$f":"Medarbejder!$N15","v":"-"},{"$f":"SUM($BL117:$BU117)","v":4},null,null,null,{"$f":"COUNTIFS($D$6:$AH$6,\"skærtd\")","v":1},{"$f":"COUNTIFS($D$6:$AH$6,\"langfd\")","v":1},{"$f":"COUNTIFS($D$6:$AH$6,\"1påsked\")","v":1},{"$f":"COUNTIFS($D$6:$AH$6,\"2påsked\")","v":1},{"$f":"COUNTIFS($D$6:$AH$6,\"kr.himmelfart\")","v":0},{"$f":"COUNTIFS($D$6:$AH$6,\"1pinse\")","v":0},{"$f":"COUNTIFS($D$6:$AH$6,\"2pinse\")","v":0},{"$f":"COUNTIFS($D$6:$AH$6,\"1juledag\")","v":0},{"$f":"COUNTIFS($D$6:$AH$6,\"2juledag\")","v":0},{"$f":"COUNTIFS($D$6:$AH$6,\"nytårsdag\")","v":0},{"$f":"SUMIFS($D117:$AH117,Lønskema!$D$5:$AH$5,1)","v":0},{"$f":"SUMIFS($D117:$AH117,Lønskema!$D$5:$AH$5,2)","v":0},{"$f":"SUMIFS($D117:$AH117,Lønskema!$D$5:$AH$5,3)","v":0},{"$f":"SUMIFS($D117:$AH117,Lønskema!$D$5:$AH$5,4)","v":0},{"$f":"SUMIFS($D117:$AH117,Lønskema!$D$5:$AH$5,5)","v":0},{"$f":"SUMIFS($D117:$AH117,Lønskema!$D$5:$AH$5,6)","v":0},{"$f":"SUMIFS($D117:$AH117,Lønskema!$D$5:$AH$5,7)","v":0},{"$f":"SUMIFS($D117:$AH117,Lønskema!$D$5:$AH$5,8)","v":0},{"$f":"SUMIFS($D117:$AH117,Lønskema!$D$5:$AH$5,9)","v":0},{"$f":"SUMIFS($D117:$AH117,Lønskema!$D$5:$AH$5,10)","v":0},{"$f":"SUMIFS($D117:$AH117,Lønskema!$D$5:$AH$5,11)","v":0},{"$f":"SUMIFS($D117:$AH117,Lønskema!$D$5:$AH$5,12)","v":0},{"$f":"SUMIFS($D117:$AH117,Lønskema!$D$5:$AH$5,13)","v":0},{"$f":"SUMIFS($D117:$AH117,Lønskema!$D$5:$AH$5,14)","v":0},{"$f":"SUMIFS($D117:$AH117,Lønskema!$D$5:$AH$5,15)","v":0},{"$f":"SUMIFS($D117:$AH117,Lønskema!$D$5:$AH$5,16)","v":0},{"$f":"SUMIFS($D117:$AH117,Lønskema!$D$5:$AH$5,17)","v":0},{"$f":"SUMIFS($D117:$AH117,Lønskema!$D$5:$AH$5,18)","v":0},{"$f":"SUMIFS($D117:$AH117,Lønskema!$D$5:$AH$5,19)","v":0},{"$f":"SUMIFS($D117:$AH117,Lønskema!$D$5:$AH$5,20)","v":0},{"$f":"SUMIFS($D117:$AH117,Lønskema!$D$5:$AH$5,21)","v":0},{"$f":"SUMIFS($D117:$AH117,Lønskema!$D$5:$AH$5,22)","v":0},{"$f":"SUMIFS($D117:$AH117,Lønskema!$D$5:$AH$5,23)","v":0},{"$f":"SUMIFS($D117:$AH117,Lønskema!$D$5:$AH$5,24)","v":0},{"$f":"SUMIFS($D117:$AH117,Lønskema!$D$5:$AH$5,25)","v":0},{"$f":"SUMIFS($D117:$AH117,Lønskema!$D$5:$AH$5,26)","v":0},{"$f":"SUMIFS($D117:$AH117,Lønskema!$D$5:$AH$5,27)","v":0},{"$f":"SUMIFS($D117:$AH117,Lønskema!$D$5:$AH$5,28)","v":0},{"$f":"SUMIFS($D117:$AH117,Lønskema!$D$5:$AH$5,29)","v":0},{"$f":"SUMIFS($D117:$AH117,Lønskema!$D$5:$AH$5,30)","v":0},{"$f":"SUMIFS($D117:$AH117,Lønskema!$D$5:$AH$5,31)","v":0},{"$f":"SUMIFS($D117:$AH117,Lønskema!$D$5:$AH$5,32)","v":0},{"$f":"SUMIFS($D117:$AH117,Lønskema!$D$5:$AH$5,33)","v":0},{"$f":"SUMIFS($D117:$AH117,Lønskema!$D$5:$AH$5,34)","v":0},{"$f":"SUMIFS($D117:$AH117,Lønskema!$D$5:$AH$5,35)","v":0},{"$f":"SUMIFS($D117:$AH117,Lønskema!$D$5:$AH$5,36)","v":0},{"$f":"SUMIFS($D117:$AH117,Lønskema!$D$5:$AH$5,37)","v":0},{"$f":"SUMIFS($D117:$AH117,Lønskema!$D$5:$AH$5,38)","v":0},{"$f":"SUMIFS($D117:$AH117,Lønskema!$D$5:$AH$5,39)","v":0},{"$f":"SUMIFS($D117:$AH117,Lønskema!$D$5:$AH$5,40)","v":0},{"$f":"SUMIFS($D117:$AH117,Lønskema!$D$5:$AH$5,41)","v":0},{"$f":"SUMIFS($D117:$AH117,Lønskema!$D$5:$AH$5,42)","v":0},{"$f":"SUMIFS($D117:$AH117,Lønskema!$D$5:$AH$5,43)","v":0},{"$f":"SUMIFS($D117:$AH117,Lønskema!$D$5:$AH$5,44)","v":0},{"$f":"SUMIFS($D117:$AH117,Lønskema!$D$5:$AH$5,45)","v":0},{"$f":"SUMIFS($D117:$AH117,Lønskema!$D$5:$AH$5,46)","v":0},{"$f":"SUMIFS($D117:$AH117,Lønskema!$D$5:$AH$5,47)","v":0},{"$f":"SUMIFS($D117:$AH117,Lønskema!$D$5:$AH$5,48)","v":0},{"$f":"SUMIFS($D117:$AH117,Lønskema!$D$5:$AH$5,49)","v":0},{"$f":"SUMIFS($D117:$AH117,Lønskema!$D$5:$AH$5,50)","v":0},{"$f":"SUMIFS($D117:$AH117,Lønskema!$D$5:$AH$5,51)","v":0},{"$f":"SUMIFS($D117:$AH117,Lønskema!$D$5:$AH$5,52)","v":0}]
["Ferie - syg  mm. Registreres i denne række"]
[null,"Aften"]
[null,"Nat"]
[null,"Helligdag",null,{"$f":"_xlfn.IFS(D$7=\"søndag\",\"-\",D$6=\"skærtd\",\"h\",D$6=\"langfd\",\"h\",D$6=\"1påsked\",\"h\",D$6=\"2påsked\",\"h\",D$6=\"kr.himmelfart\",\"h\",D$6=\"1pinse\",\"h\",D$6=\"2pinse\",\"h\",D$6=\"1juledag\",\"h\",D$6=\"2juledag\",\"h\",D$6=\"nytårsdag\",\"h\")","v":{"$error":"#N/A"}},{"$f":"_xlfn.IFS(E$7=\"søndag\",\"-\",E$6=\"skærtd\",\"h\",E$6=\"langfd\",\"h\",E$6=\"1påsked\",\"h\",E$6=\"2påsked\",\"h\",E$6=\"kr.himmelfart\",\"h\",E$6=\"1pinse\",\"h\",E$6=\"2pinse\",\"h\",E$6=\"1juledag\",\"h\",E$6=\"2juledag\",\"h\",E$6=\"nytårsdag\",\"h\")","v":{"$error":"#N/A"}},{"$f":"_xlfn.IFS(F$7=\"søndag\",\"-\",F$6=\"skærtd\",\"h\",F$6=\"langfd\",\"h\",F$6=\"1påsked\",\"h\",F$6=\"2påsked\",\"h\",F$6=\"kr.himmelfart\",\"h\",F$6=\"1pinse\",\"h\",F$6=\"2pinse\",\"h\",F$6=\"1juledag\",\"h\",F$6=\"2juledag\",\"h\",F$6=\"nytårsdag\",\"h\")","v":{"$error":"#N/A"}},{"$f":"_xlfn.IFS(G$7=\"søndag\",\"-\",G$6=\"skærtd\",\"h\",G$6=\"langfd\",\"h\",G$6=\"1påsked\",\"h\",G$6=\"2påsked\",\"h\",G$6=\"kr.himmelfart\",\"h\",G$6=\"1pinse\",\"h\",G$6=\"2pinse\",\"h\",G$6=\"1juledag\",\"h\",G$6=\"2juledag\",\"h\",G$6=\"nytårsdag\",\"h\")","v":{"$error":"#N/A"}},{"$f":"_xlfn.IFS(H$7=\"søndag\",\"-\",H$6=\"skærtd\",\"h\",H$6=\"langfd\",\"h\",H$6=\"1påsked\",\"h\",H$6=\"2påsked\",\"h\",H$6=\"kr.himmelfart\",\"h\",H$6=\"1pinse\",\"h\",H$6=\"2pinse\",\"h\",H$6=\"1juledag\",\"h\",H$6=\"2juledag\",\"h\",H$6=\"nytårsdag\",\"h\")","v":{"$error":"#N/A"}},{"$f":"_xlfn.IFS(I$7=\"søndag\",\"-\",I$6=\"skærtd\",\"h\",I$6=\"langfd\",\"h\",I$6=\"1påsked\",\"h\",I$6=\"2påsked\",\"h\",I$6=\"kr.himmelfart\",\"h\",I$6=\"1pinse\",\"h\",I$6=\"2pinse\",\"h\",I$6=\"1juledag\",\"h\",I$6=\"2juledag\",\"h\",I$6=\"nytårsdag\",\"h\")","v":"-"},{"$f":"_xlfn.IFS(J$7=\"søndag\",\"-\",J$6=\"skærtd\",\"h\",J$6=\"langfd\",\"h\",J$6=\"1påsked\",\"h\",J$6=\"2påsked\",\"h\",J$6=\"kr.himmelfart\",\"h\",J$6=\"1pinse\",\"h\",J$6=\"2pinse\",\"h\",J$6=\"1juledag\",\"h\",J$6=\"2juledag\",\"h\",J$6=\"nytårsdag\",\"h\")","v":{"$error":"#N/A"}},{"$f":"_xlfn.IFS(K$7=\"søndag\",\"-\",K$6=\"skærtd\",\"h\",K$6=\"langfd\",\"h\",K$6=\"1påsked\",\"h\",K$6=\"2påsked\",\"h\",K$6=\"kr.himmelfart\",\"h\",K$6=\"1pinse\",\"h\",K$6=\"2pinse\",\"h\",K$6=\"1juledag\",\"h\",K$6=\"2juledag\",\"h\",K$6=\"nytårsdag\",\"h\")","v":{"$error":"#N/A"}},{"$f":"_xlfn.IFS(L$7=\"søndag\",\"-\",L$6=\"skærtd\",\"h\",L$6=\"langfd\",\"h\",L$6=\"1påsked\",\"h\",L$6=\"2påsked\",\"h\",L$6=\"kr.himmelfart\",\"h\",L$6=\"1pinse\",\"h\",L$6=\"2pinse\",\"h\",L$6=\"1juledag\",\"h\",L$6=\"2juledag\",\"h\",L$6=\"nytårsdag\",\"h\")","v":{"$error":"#N/A"}},{"$f":"_xlfn.IFS(M$7=\"søndag\",\"-\",M$6=\"skærtd\",\"h\",M$6=\"langfd\",\"h\",M$6=\"1påsked\",\"h\",M$6=\"2påsked\",\"h\",M$6=\"kr.himmelfart\",\"h\",M$6=\"1pinse\",\"h\",M$6=\"2pinse\",\"h\",M$6=\"1juledag\",\"h\",M$6=\"2juledag\",\"h\",M$6=\"nytårsdag\",\"h\")","v":{"$error":"#N/A"}},{"$f":"_xlfn.IFS(N$7=\"søndag\",\"-\",N$6=\"skærtd\",\"h\",N$6=\"langfd\",\"h\",N$6=\"1påsked\",\"h\",N$6=\"2påsked\",\"h\",N$6=\"kr.himmelfart\",\"h\",N$6=\"1pinse\",\"h\",N$6=\"2pinse\",\"h\",N$6=\"1juledag\",\"h\",N$6=\"2juledag\",\"h\",N$6=\"nytårsdag\",\"h\")","v":{"$error":"#N/A"}},{"$f":"_xlfn.IFS(O$7=\"søndag\",\"-\",O$6=\"skærtd\",\"h\",O$6=\"langfd\",\"h\",O$6=\"1påsked\",\"h\",O$6=\"2påsked\",\"h\",O$6=\"kr.himmelfart\",\"h\",O$6=\"1pinse\",\"h\",O$6=\"2pinse\",\"h\",O$6=\"1juledag\",\"h\",O$6=\"2juledag\",\"h\",O$6=\"nytårsdag\",\"h\")","v":{"$error":"#N/A"}},{"$f":"_xlfn.IFS(P$7=\"søndag\",\"-\",P$6=\"skærtd\",\"h\",P$6=\"langfd\",\"h\",P$6=\"1påsked\",\"h\",P$6=\"2påsked\",\"h\",P$6=\"kr.himmelfart\",\"h\",P$6=\"1pinse\",\"h\",P$6=\"2pinse\",\"h\",P$6=\"1juledag\",\"h\",P$6=\"2juledag\",\"h\",P$6=\"nytårsdag\",\"h\")","v":"-"},{"$f":"_xlfn.IFS(Q$7=\"søndag\",\"-\",Q$6=\"skærtd\",\"h\",Q$6=\"langfd\",\"h\",Q$6=\"1påsked\",\"h\",Q$6=\"2påsked\",\"h\",Q$6=\"kr.himmelfart\",\"h\",Q$6=\"1pinse\",\"h\",Q$6=\"2pinse\",\"h\",Q$6=\"1juledag\",\"h\",Q$6=\"2juledag\",\"h\",Q$6=\"nytårsdag\",\"h\")","v":{"$error":"#N/A"}},{"$f":"_xlfn.IFS(R$7=\"søndag\",\"-\",R$6=\"skærtd\",\"h\",R$6=\"langfd\",\"h\",R$6=\"1påsked\",\"h\",R$6=\"2påsked\",\"h\",R$6=\"kr.himmelfart\",\"h\",R$6=\"1pinse\",\"h\",R$6=\"2pinse\",\"h\",R$6=\"1juledag\",\"h\",R$6=\"2juledag\",\"h\",R$6=\"nytårsdag\",\"h\")","v":{"$error":"#N/A"}},{"$f":"_xlfn.IFS(S$7=\"søndag\",\"-\",S$6=\"skærtd\",\"h\",S$6=\"langfd\",\"h\",S$6=\"1påsked\",\"h\",S$6=\"2påsked\",\"h\",S$6=\"kr.himmelfart\",\"h\",S$6=\"1pinse\",\"h\",S$6=\"2pinse\",\"h\",S$6=\"1juledag\",\"h\",S$6=\"2juledag\",\"h\",S$6=\"nytårsdag\",\"h\")","v":{"$error":"#N/A"}},{"$f":"_xlfn.IFS(T$7=\"søndag\",\"-\",T$6=\"skærtd\",\"h\",T$6=\"langfd\",\"h\",T$6=\"1påsked\",\"h\",T$6=\"2påsked\",\"h\",T$6=\"kr.himmelfart\",\"h\",T$6=\"1pinse\",\"h\",T$6=\"2pinse\",\"h\",T$6=\"1juledag\",\"h\",T$6=\"2juledag\",\"h\",T$6=\"nytårsdag\",\"h\")","v":"h"},{"$f":"_xlfn.IFS(U$7=\"søndag\",\"-\",U$6=\"skærtd\",\"h\",U$6=\"langfd\",\"h\",U$6=\"1påsked\",\"h\",U$6=\"2påsked\",\"h\",U$6=\"kr.himmelfart\",\"h\",U$6=\"1pinse\",\"h\",U$6=\"2pinse\",\"h\",U$6=\"1juledag\",\"h\",U$6=\"2juledag\",\"h\",U$6=\"nytårsdag\",\"h\")","v":"h"},{"$f":"_xlfn.IFS(V$7=\"søndag\",\"-\",V$6=\"skærtd\",\"h\",V$6=\"langfd\",\"h\",V$6=\"1påsked\",\"h\",V$6=\"2påsked\",\"h\",V$6=\"kr.himmelfart\",\"h\",V$6=\"1pinse\",\"h\",V$6=\"2pinse\",\"h\",V$6=\"1juledag\",\"h\",V$6=\"2juledag\",\"h\",V$6=\"nytårsdag\",\"h\")","v":{"$error":"#N/A"}},{"$f":"_xlfn.IFS(W$7=\"søndag\",\"-\",W$6=\"skærtd\",\"h\",W$6=\"langfd\",\"h\",W$6=\"1påsked\",\"h\",W$6=\"2påsked\",\"h\",W$6=\"kr.himmelfart\",\"h\",W$6=\"1pinse\",\"h\",W$6=\"2pinse\",\"h\",W$6=\"1juledag\",\"h\",W$6=\"2juledag\",\"h\",W$6=\"nytårsdag\",\"h\")","v":"-"},{"$f":"_xlfn.IFS(X$7=\"søndag\",\"-\",X$6=\"skærtd\",\"h\",X$6=\"langfd\",\"h\",X$6=\"1påsked\",\"h\",X$6=\"2påsked\",\"h\",X$6=\"kr.himmelfart\",\"h\",X$6=\"1pinse\",\"h\",X$6=\"2pinse\",\"h\",X$6=\"1juledag\",\"h\",X$6=\"2juledag\",\"h\",X$6=\"nytårsdag\",\"h\")","v":"h"},{"$f":"_xlfn.IFS(Y$7=\"søndag\",\"-\",Y$6=\"skærtd\",\"h\",Y$6=\"langfd\",\"h\",Y$6=\"1påsked\",\"h\",Y$6=\"2påsked\",\"h\",Y$6=\"kr.himmelfart\",\"h\",Y$6=\"1pinse\",\"h\",Y$6=\"2pinse\",\"h\",Y$6=\"1juledag\",\"h\",Y$6=\"2juledag\",\"h\",Y$6=\"nytårsdag\",\"h\")","v":{"$error":"#N/A"}},{"$f":"_xlfn.IFS(Z$7=\"søndag\",\"-\",Z$6=\"skærtd\",\"h\",Z$6=\"langfd\",\"h\",Z$6=\"1påsked\",\"h\",Z$6=\"2påsked\",\"h\",Z$6=\"kr.himmelfart\",\"h\",Z$6=\"1pinse\",\"h\",Z$6=\"2pinse\",\"h\",Z$6=\"1juledag\",\"h\",Z$6=\"2juledag\",\"h\",Z$6=\"nytårsdag\",\"h\")","v":{"$error":"#N/A"}},{"$f":"_xlfn.IFS(AA$7=\"søndag\",\"-\",AA$6=\"skærtd\",\"h\",AA$6=\"langfd\",\"h\",AA$6=\"1påsked\",\"h\",AA$6=\"2påsked\",\"h\",AA$6=\"kr.himmelfart\",\"h\",AA$6=\"1pinse\",\"h\",AA$6=\"2pinse\",\"h\",AA$6=\"1juledag\",\"h\",AA$6=\"2juledag\",\"h\",AA$6=\"nytårsdag\",\"h\")","v":{"$error":"#N/A"}},{"$f":"_xlfn.IFS(AB$7=\"søndag\",\"-\",AB$6=\"skærtd\",\"h\",AB$6=\"langfd\",\"h\",AB$6=\"1påsked\",\"h\",AB$6=\"2påsked\",\"h\",AB$6=\"kr.himmelfart\",\"h\",AB$6=\"1pinse\",\"h\",AB$6=\"2pinse\",\"h\",AB$6=\"1juledag\",\"h\",AB$6=\"2juledag\",\"h\",AB$6=\"nytårsdag\",\"h\")","v":{"$error":"#N/A"}},{"$f":"_xlfn.IFS(AC$7=\"søndag\",\"-\",AC$6=\"skærtd\",\"h\",AC$6=\"langfd\",\"h\",AC$6=\"1påsked\",\"h\",AC$6=\"2påsked\",\"h\",AC$6=\"kr.himmelfart\",\"h\",AC$6=\"1pinse\",\"h\",AC$6=\"2pinse\",\"h\",AC$6=\"1juledag\",\"h\",AC$6=\"2juledag\",\"h\",AC$6=\"nytårsdag\",\"h\")","v":{"$error":"#N/A"}},{"$f":"_xlfn.IFS(AD$7=\"søndag\",\"-\",AD$6=\"skærtd\",\"h\",AD$6=\"langfd\",\"h\",AD$6=\"1påsked\",\"h\",AD$6=\"2påsked\",\"h\",AD$6=\"kr.himmelfart\",\"h\",AD$6=\"1pinse\",\"h\",AD$6=\"2pinse\",\"h\",AD$6=\"1juledag\",\"h\",AD$6=\"2juledag\",\"h\",AD$6=\"nytårsdag\",\"h\")","v":"-"},{"$f":"_xlfn.IFS(AE$7=\"søndag\",\"-\",AE$6=\"skærtd\",\"h\",AE$6=\"langfd\",\"h\",AE$6=\"1påsked\",\"h\",AE$6=\"2påsked\",\"h\",AE$6=\"kr.himmelfart\",\"h\",AE$6=\"1pinse\",\"h\",AE$6=\"2pinse\",\"h\",AE$6=\"1juledag\",\"h\",AE$6=\"2juledag\",\"h\",AE$6=\"nytårsdag\",\"h\")","v":{"$error":"#N/A"}},{"$f":"_xlfn.IFS(AF$7=\"søndag\",\"-\",AF$6=\"skærtd\",\"h\",AF$6=\"langfd\",\"h\",AF$6=\"1påsked\",\"h\",AF$6=\"2påsked\",\"h\",AF$6=\"kr.himmelfart\",\"h\",AF$6=\"1pinse\",\"h\",AF$6=\"2pinse\",\"h\",AF$6=\"1juledag\",\"h\",AF$6=\"2juledag\",\"h\",AF$6=\"nytårsdag\",\"h\")","v":{"$error":"#N/A"}},{"$f":"_xlfn.IFS(AG$7=\"søndag\",\"-\",AG$6=\"skærtd\",\"h\",AG$6=\"langfd\",\"h\",AG$6=\"1påsked\",\"h\",AG$6=\"2påsked\",\"h\",AG$6=\"kr.himmelfart\",\"h\",AG$6=\"1pinse\",\"h\",AG$6=\"2pinse\",\"h\",AG$6=\"1juledag\",\"h\",AG$6=\"2juledag\",\"h\",AG$6=\"nytårsdag\",\"h\")","v":{"$error":"#N/A"}},{"$f":"_xlfn.IFS(AH$7=\"søndag\",\"-\",AH$6=\"skærtd\",\"h\",AH$6=\"langfd\",\"h\",AH$6=\"1påsked\",\"h\",AH$6=\"2påsked\",\"h\",AH$6=\"kr.himmelfart\",\"h\",AH$6=\"1pinse\",\"h\",AH$6=\"2pinse\",\"h\",AH$6=\"1juledag\",\"h\",AH$6=\"2juledag\",\"h\",AH$6=\"nytårsdag\",\"h\")","v":{"$error":"#N/A"}}]
[null,"Sygedage",null,{"$f":"IF(D118=\"s\",D117,\"-\")","v":"-"},{"$f":"IF(E118=\"s\",E117,\"-\")","v":"-"},"-","-","-","-","-","-","-","-","-","-","-","-","-","-","-","-","-","-","-","-","-","-","-","-","-","-","-","-","-"]
[null,null,{"$f":"$C$15","v":14},"Timer uge",null,null,{"$f":"SUMIF($D$5:$AH$5,C123,D117:AH117)","v":0},{"$f":"$H$15","v":15},{"$f":"D123","v":"Timer uge"},null,null,null,null,{"$f":"SUMIF($D$5:$AH$5,H123,D117:AH117)","v":0},{"$f":"$O$15","v":16},{"$f":"D123","v":"Timer uge"},null,null,null,null,{"$f":"_xlfn.IFS($O123=$BV116,$BV117,$O123=$BW116,Lønskema!$BW117,$O123=$BX116,$BX117,$O123=$BY116,$BY117,$O123=$BZ116,$BZ117,$O123=$CA116,$CA117,$O123=$CB116,$CB117,$O123=$CC116,$CC117,$O123=$CD116,$CD117,$O123=$CE116,$CE117,$O123=$CF116,$CF117,$O123=$CG116,$CF117,$O123=$CG116,$CG117,$O123=$CH116,$CH117,$O123=$CI116,$CI117,$O123=$CJ116,$CJ117,$O123=$CK116,$CK117,$O123=$CL116,$CL117,$O123=$CM116,$CM117,$O123=$CN116,$CN117,$O123=$CO116,$CO117,$O123=$CP116,$CP117,$O123=$CQ116,$CQ117,$O123=$CR116,$CR117,$O123=$CS116,$CS117,$O123=$CT116,$CT117,$O123=$CU116,$CU117,$O123=$CV116,$CV117,$O123=$CW116,$CW117,$O123=$CX116,$CX117,$O123=$CY116,$CY117,$O123=$CZ116,$CZ117,$O123=$DA116,$DA117,$O123=$DB116,$DB117,$O123=$DC116,$DC117,$O123=$DD116,$DD117,$O123=$DE116,$DE117,$O123=$DF116,$DF117,$O123=$DG116,$DG117,$O123=$DH116,$DH117,$O123=$DI116,$DI117,$O123=$DJ116,$DJ117,$O123=$DK116,$DK117,$O123=$DL116,$DL117,$O123=$DM116,$DM117,$O123=$DN116,$DN117,$O123=$DO116,$DO117,$O123=$DP116,$DP117,$O123=$DQ116,$DQ117,$O123=$DR116,$DR117,$O123=$DS116,$DS117,$O123=$DT116,$DT117,$O123=$DU116,$DU117)","v":0},{"$f":"$V$15","v":17},{"$f":"D123","v":"Timer uge"},null,null,null,null,{"$f":"SUMIF($D$5:$AH$5,V123,D117:AH117)","v":0},{"$f":"$AC$15","v":18},{"$f":"D123","v":"Timer uge"},null,null,null,{"$f":"SUMIF($D$5:$AH$5,AC123,D117:AH117)","v":0},{"$f":"$AI$15","v":19},{"$f":"D123","v":"Timer uge"},null,null,null,{"$f":"SUMIF($D$5:$AH$5,AI123,D117:AH117)","v":0}]
[null,null,null,"Overarbejde 50% 1-3 timer",null,null,{"$f":"IF($G123>37,$G123-37-$G125,0)","v":0},null,{"$f":"D124","v":"Overarbejde 50% 1-3 timer"},null,null,null,null,{"$f":"IF($N123>37,$N123-37-$N125,0)","v":0},null,{"$f":"D124","v":"Overarbejde 50% 1-3 timer"},null,null,null,null,{"$f":"IF($U123>37,$U123-37-$U125,0)","v":0},null,{"$f":"D124","v":"Overarbejde 50% 1-3 timer"},null,null,null,null,{"$f":"IF($AB123>37,$AB123-37-$AB125,0)","v":0},null,{"$f":"D124","v":"Overarbejde 50% 1-3 timer"},null,null,null,{"$f":"IF($AH123>37,$AH123-37-$AH125,0)","v":0},null,{"$f":"D124","v":"Overarbejde 50% 1-3 timer"},null,null,null,{"$f":"IF($AH123>37,$AH123-37-$AH125,0)","v":0}]
[null,null,null,"Overarbejde 100% over 3 timer",null,null,{"$f":"IF($G123>40,$G123-40,0)","v":0},null,"Overarbejde 100% over 3 timer",null,null,null,null,{"$f":"IF($N123>40,$N123-40,0)","v":0},null,"Overarbejde 100% over 3 timer",null,null,null,null,{"$f":"IF($U123>40,$U123-40,0)","v":0},null,"Overarbejde 100% over 3 timer",null,null,null,null,{"$f":"IF($AB123>40,$AB123-40,0)","v":0},null,"Overarbejde 100% over 3 timer",null,null,null,{"$f":"IF($AH123>40,$AH123-40,0)","v":0},null,{"$f":"D125","v":"Overarbejde 100% over 3 timer"},null,null,null,{"$f":"IF($AH123>40,$AH123-40,0)","v":0},null,null,null,null,null,null,null,null,null,null,null,null,null,null,null,null,null,null,null,null,null,null,null,null,null,null,null,null,null,null,null,null,null,1,2,3,4,5,6,7,8,9,10,11,12,13,14,15,16,17,18,19,20,21,22,23,24,25,26,27,28,29,30,31,32,33,34,35,36,37,38,39,40,41,42,43,44,45,46,47,48,49,50,51,52]
[{"$f":"Medarbejder!A16","v":0},{"$f":"Medarbejder!B16","v":0},{"$f":"Medarbejder!C16","v":"-"},null,null,null,null,null,null,null,null,null,null,null,null,null,null,null,null,null,null,null,null,null,null,null,null,null,null,null,null,null,null,null,null,null,null,null,null,null,null,{"$f":"AO126*Overenskomst!$C$22","v":0},{"$f":"SUM($D126:$AH126)-$BA126-$BF126-$BD126","v":0},{"$f":"IF(Medarbejder!$J16=\"ja\",$AQ126,\"-\")","v":"-"},{"$f":"SUMIF($D$7:$AH$7,\"søndag\",$D126:$AH126)+$AT126","v":0},{"$f":"SUMIFS($D126:$AH126,$D130:$AH130,\"H\")","v":0},{"$f":"G133+N133+U133+AB133+AH133+AN133","v":0},{"$f":"G134+N134+U134+AB134+AH134+AN134","v":0},{"$f":"SUM($D128:$AH128)","v":0},{"$f":"SUM($D129:$AH129)","v":0},{"$f":"COUNTIFS($D127:$AH127,\"F\")","v":0},{"$f":"COUNTIFS($D127:$AH127,\"S\")","v":0},{"$f":"SUMIF($D127:$AH127,\"S\",$D131:$AH131)","v":0},{"$f":"COUNTIFS($D127:$AH127,\"p\")","v":0},{"$f":"COUNTIFS($D127:$AH127,\"BS\")","v":0},{"$f":"SUMIF(D127:AH127,\"bs\",$D126:$AH126)","v":0},{"$f":"COUNTIFS($D127:$AH127,\"FF\")","v":0},{"$f":"SUMIF($D127:$AH127,\"g\",$D126:$AH126)","v":0},{"$f":"Medarbejder!$N16","v":"-"},{"$f":"SUM($BL126:$BU126)","v":4},null,null,null,{"$f":"COUNTIFS($D$6:$AH$6,\"skærtd\")","v":1},{"$f":"COUNTIFS($D$6:$AH$6,\"langfd\")","v":1},{"$f":"COUNTIFS($D$6:$AH$6,\"1påsked\")","v":1},{"$f":"COUNTIFS($D$6:$AH$6,\"2påsked\")","v":1},{"$f":"COUNTIFS($D$6:$AH$6,\"kr.himmelfart\")","v":0},{"$f":"COUNTIFS($D$6:$AH$6,\"1pinse\")","v":0},{"$f":"COUNTIFS($D$6:$AH$6,\"2pinse\")","v":0},{"$f":"COUNTIFS($D$6:$AH$6,\"1juledag\")","v":0},{"$f":"COUNTIFS($D$6:$AH$6,\"2juledag\")","v":0},{"$f":"COUNTIFS($D$6:$AH$6,\"nytårsdag\")","v":0},{"$f":"SUMIFS($D126:$AH126,Lønskema!$D$5:$AH$5,1)","v":0},{"$f":"SUMIFS($D126:$AH126,Lønskema!$D$5:$AH$5,2)","v":0},{"$f":"SUMIFS($D126:$AH126,Lønskema!$D$5:$AH$5,3)","v":0},{"$f":"SUMIFS($D126:$AH126,Lønskema!$D$5:$AH$5,4)","v":0},{"$f":"SUMIFS($D126:$AH126,Lønskema!$D$5:$AH$5,5)","v":0},{"$f":"SUMIFS($D126:$AH126,Lønskema!$D$5:$AH$5,6)","v":0},{"$f":"SUMIFS($D126:$AH126,Lønskema!$D$5:$AH$5,7)","v":0},{"$f":"SUMIFS($D126:$AH126,Lønskema!$D$5:$AH$5,8)","v":0},{"$f":"SUMIFS($D126:$AH126,Lønskema!$D$5:$AH$5,9)","v":0},{"$f":"SUMIFS($D126:$AH126,Lønskema!$D$5:$AH$5,10)","v":0},{"$f":"SUMIFS($D126:$AH126,Lønskema!$D$5:$AH$5,11)","v":0},{"$f":"SUMIFS($D126:$AH126,Lønskema!$D$5:$AH$5,12)","v":0},{"$f":"SUMIFS($D126:$AH126,Lønskema!$D$5:$AH$5,13)","v":0},{"$f":"SUMIFS($D126:$AH126,Lønskema!$D$5:$AH$5,14)","v":0},{"$f":"SUMIFS($D126:$AH126,Lønskema!$D$5:$AH$5,15)","v":0},{"$f":"SUMIFS($D126:$AH126,Lønskema!$D$5:$AH$5,16)","v":0},{"$f":"SUMIFS($D126:$AH126,Lønskema!$D$5:$AH$5,17)","v":0},{"$f":"SUMIFS($D126:$AH126,Lønskema!$D$5:$AH$5,18)","v":0},{"$f":"SUMIFS($D126:$AH126,Lønskema!$D$5:$AH$5,19)","v":0},{"$f":"SUMIFS($D126:$AH126,Lønskema!$D$5:$AH$5,20)","v":0},{"$f":"SUMIFS($D126:$AH126,Lønskema!$D$5:$AH$5,21)","v":0},{"$f":"SUMIFS($D126:$AH126,Lønskema!$D$5:$AH$5,22)","v":0},{"$f":"SUMIFS($D126:$AH126,Lønskema!$D$5:$AH$5,23)","v":0},{"$f":"SUMIFS($D126:$AH126,Lønskema!$D$5:$AH$5,24)","v":0},{"$f":"SUMIFS($D126:$AH126,Lønskema!$D$5:$AH$5,25)","v":0},{"$f":"SUMIFS($D126:$AH126,Lønskema!$D$5:$AH$5,26)","v":0},{"$f":"SUMIFS($D126:$AH126,Lønskema!$D$5:$AH$5,27)","v":0},{"$f":"SUMIFS($D126:$AH126,Lønskema!$D$5:$AH$5,28)","v":0},{"$f":"SUMIFS($D126:$AH126,Lønskema!$D$5:$AH$5,29)","v":0},{"$f":"SUMIFS($D126:$AH126,Lønskema!$D$5:$AH$5,30)","v":0},{"$f":"SUMIFS($D126:$AH126,Lønskema!$D$5:$AH$5,31)","v":0},{"$f":"SUMIFS($D126:$AH126,Lønskema!$D$5:$AH$5,32)","v":0},{"$f":"SUMIFS($D126:$AH126,Lønskema!$D$5:$AH$5,33)","v":0},{"$f":"SUMIFS($D126:$AH126,Lønskema!$D$5:$AH$5,34)","v":0},{"$f":"SUMIFS($D126:$AH126,Lønskema!$D$5:$AH$5,35)","v":0},{"$f":"SUMIFS($D126:$AH126,Lønskema!$D$5:$AH$5,36)","v":0},{"$f":"SUMIFS($D126:$AH126,Lønskema!$D$5:$AH$5,37)","v":0},{"$f":"SUMIFS($D126:$AH126,Lønskema!$D$5:$AH$5,38)","v":0},{"$f":"SUMIFS($D126:$AH126,Lønskema!$D$5:$AH$5,39)","v":0},{"$f":"SUMIFS($D126:$AH126,Lønskema!$D$5:$AH$5,40)","v":0},{"$f":"SUMIFS($D126:$AH126,Lønskema!$D$5:$AH$5,41)","v":0},{"$f":"SUMIFS($D126:$AH126,Lønskema!$D$5:$AH$5,42)","v":0},{"$f":"SUMIFS($D126:$AH126,Lønskema!$D$5:$AH$5,43)","v":0},{"$f":"SUMIFS($D126:$AH126,Lønskema!$D$5:$AH$5,44)","v":0},{"$f":"SUMIFS($D126:$AH126,Lønskema!$D$5:$AH$5,45)","v":0},{"$f":"SUMIFS($D126:$AH126,Lønskema!$D$5:$AH$5,46)","v":0},{"$f":"SUMIFS($D126:$AH126,Lønskema!$D$5:$AH$5,47)","v":0},{"$f":"SUMIFS($D126:$AH126,Lønskema!$D$5:$AH$5,48)","v":0},{"$f":"SUMIFS($D126:$AH126,Lønskema!$D$5:$AH$5,49)","v":0},{"$f":"SUMIFS($D126:$AH126,Lønskema!$D$5:$AH$5,50)","v":0},{"$f":"SUMIFS($D126:$AH126,Lønskema!$D$5:$AH$5,51)","v":0},{"$f":"SUMIFS($D126:$AH126,Lønskema!$D$5:$AH$5,52)","v":0}]
["Ferie - syg  mm. Registreres i denne række"]
[null,"Aften"]
[null,"Nat"]
[null,"Helligdag",null,{"$f":"_xlfn.IFS(D$7=\"søndag\",\"-\",D$6=\"skærtd\",\"h\",D$6=\"langfd\",\"h\",D$6=\"1påsked\",\"h\",D$6=\"2påsked\",\"h\",D$6=\"kr.himmelfart\",\"h\",D$6=\"1pinse\",\"h\",D$6=\"2pinse\",\"h\",D$6=\"1juledag\",\"h\",D$6=\"2juledag\",\"h\",D$6=\"nytårsdag\",\"h\")","v":{"$error":"#N/A"}},{"$f":"_xlfn.IFS(E$7=\"søndag\",\"-\",E$6=\"skærtd\",\"h\",E$6=\"langfd\",\"h\",E$6=\"1påsked\",\"h\",E$6=\"2påsked\",\"h\",E$6=\"kr.himmelfart\",\"h\",E$6=\"1pinse\",\"h\",E$6=\"2pinse\",\"h\",E$6=\"1juledag\",\"h\",E$6=\"2juledag\",\"h\",E$6=\"nytårsdag\",\"h\")","v":{"$error":"#N/A"}},{"$f":"_xlfn.IFS(F$7=\"søndag\",\"-\",F$6=\"skærtd\",\"h\",F$6=\"langfd\",\"h\",F$6=\"1påsked\",\"h\",F$6=\"2påsked\",\"h\",F$6=\"kr.himmelfart\",\"h\",F$6=\"1pinse\",\"h\",F$6=\"2pinse\",\"h\",F$6=\"1juledag\",\"h\",F$6=\"2juledag\",\"h\",F$6=\"nytårsdag\",\"h\")","v":{"$error":"#N/A"}},{"$f":"_xlfn.IFS(G$7=\"søndag\",\"-\",G$6=\"skærtd\",\"h\",G$6=\"langfd\",\"h\",G$6=\"1påsked\",\"h\",G$6=\"2påsked\",\"h\",G$6=\"kr.himmelfart\",\"h\",G$6=\"1pinse\",\"h\",G$6=\"2pinse\",\"h\",G$6=\"1juledag\",\"h\",G$6=\"2juledag\",\"h\",G$6=\"nytårsdag\",\"h\")","v":{"$error":"#N/A"}},{"$f":"_xlfn.IFS(H$7=\"søndag\",\"-\",H$6=\"skærtd\",\"h\",H$6=\"langfd\",\"h\",H$6=\"1påsked\",\"h\",H$6=\"2påsked\",\"h\",H$6=\"kr.himmelfart\",\"h\",H$6=\"1pinse\",\"h\",H$6=\"2pinse\",\"h\",H$6=\"1juledag\",\"h\",H$6=\"2juledag\",\"h\",H$6=\"nytårsdag\",\"h\")","v":{"$error":"#N/A"}},{"$f":"_xlfn.IFS(I$7=\"søndag\",\"-\",I$6=\"skærtd\",\"h\",I$6=\"langfd\",\"h\",I$6=\"1påsked\",\"h\",I$6=\"2påsked\",\"h\",I$6=\"kr.himmelfart\",\"h\",I$6=\"1pinse\",\"h\",I$6=\"2pinse\",\"h\",I$6=\"1juledag\",\"h\",I$6=\"2juledag\",\"h\",I$6=\"nytårsdag\",\"h\")","v":"-"},{"$f":"_xlfn.IFS(J$7=\"søndag\",\"-\",J$6=\"skærtd\",\"h\",J$6=\"langfd\",\"h\",J$6=\"1påsked\",\"h\",J$6=\"2påsked\",\"h\",J$6=\"kr.himmelfart\",\"h\",J$6=\"1pinse\",\"h\",J$6=\"2pinse\",\"h\",J$6=\"1juledag\",\"h\",J$6=\"2juledag\",\"h\",J$6=\"nytårsdag\",\"h\")","v":{"$error":"#N/A"}},{"$f":"_xlfn.IFS(K$7=\"søndag\",\"-\",K$6=\"skærtd\",\"h\",K$6=\"langfd\",\"h\",K$6=\"1påsked\",\"h\",K$6=\"2påsked\",\"h\",K$6=\"kr.himmelfart\",\"h\",K$6=\"1pinse\",\"h\",K$6=\"2pinse\",\"h\",K$6=\"1juledag\",\"h\",K$6=\"2juledag\",\"h\",K$6=\"nytårsdag\",\"h\")","v":{"$error":"#N/A"}},{"$f":"_xlfn.IFS(L$7=\"søndag\",\"-\",L$6=\"skærtd\",\"h\",L$6=\"langfd\",\"h\",L$6=\"1påsked\",\"h\",L$6=\"2påsked\",\"h\",L$6=\"kr.himmelfart\",\"h\",L$6=\"1pinse\",\"h\",L$6=\"2pinse\",\"h\",L$6=\"1juledag\",\"h\",L$6=\"2juledag\",\"h\",L$6=\"nytårsdag\",\"h\")","v":{"$error":"#N/A"}},{"$f":"_xlfn.IFS(M$7=\"søndag\",\"-\",M$6=\"skærtd\",\"h\",M$6=\"langfd\",\"h\",M$6=\"1påsked\",\"h\",M$6=\"2påsked\",\"h\",M$6=\"kr.himmelfart\",\"h\",M$6=\"1pinse\",\"h\",M$6=\"2pinse\",\"h\",M$6=\"1juledag\",\"h\",M$6=\"2juledag\",\"h\",M$6=\"nytårsdag\",\"h\")","v":{"$error":"#N/A"}},{"$f":"_xlfn.IFS(N$7=\"søndag\",\"-\",N$6=\"skærtd\",\"h\",N$6=\"langfd\",\"h\",N$6=\"1påsked\",\"h\",N$6=\"2påsked\",\"h\",N$6=\"kr.himmelfart\",\"h\",N$6=\"1pinse\",\"h\",N$6=\"2pinse\",\"h\",N$6=\"1juledag\",\"h\",N$6=\"2juledag\",\"h\",N$6=\"nytårsdag\",\"h\")","v":{"$error":"#N/A"}},{"$f":"_xlfn.IFS(O$7=\"søndag\",\"-\",O$6=\"skærtd\",\"h\",O$6=\"langfd\",\"h\",O$6=\"1påsked\",\"h\",O$6=\"2påsked\",\"h\",O$6=\"kr.himmelfart\",\"h\",O$6=\"1pinse\",\"h\",O$6=\"2pinse\",\"h\",O$6=\"1juledag\",\"h\",O$6=\"2juledag\",\"h\",O$6=\"nytårsdag\",\"h\")","v":{"$error":"#N/A"}},{"$f":"_xlfn.IFS(P$7=\"søndag\",\"-\",P$6=\"skærtd\",\"h\",P$6=\"langfd\",\"h\",P$6=\"1påsked\",\"h\",P$6=\"2påsked\",\"h\",P$6=\"kr.himmelfart\",\"h\",P$6=\"1pinse\",\"h\",P$6=\"2pinse\",\"h\",P$6=\"1juledag\",\"h\",P$6=\"2juledag\",\"h\",P$6=\"nytårsdag\",\"h\")","v":"-"},{"$f":"_xlfn.IFS(Q$7=\"søndag\",\"-\",Q$6=\"skærtd\",\"h\",Q$6=\"langfd\",\"h\",Q$6=\"1påsked\",\"h\",Q$6=\"2påsked\",\"h\",Q$6=\"kr.himmelfart\",\"h\",Q$6=\"1pinse\",\"h\",Q$6=\"2pinse\",\"h\",Q$6=\"1juledag\",\"h\",Q$6=\"2juledag\",\"h\",Q$6=\"nytårsdag\",\"h\")","v":{"$error":"#N/A"}},{"$f":"_xlfn.IFS(R$7=\"søndag\",\"-\",R$6=\"skærtd\",\"h\",R$6=\"langfd\",\"h\",R$6=\"1påsked\",\"h\",R$6=\"2påsked\",\"h\",R$6=\"kr.himmelfart\",\"h\",R$6=\"1pinse\",\"h\",R$6=\"2pinse\",\"h\",R$6=\"1juledag\",\"h\",R$6=\"2juledag\",\"h\",R$6=\"nytårsdag\",\"h\")","v":{"$error":"#N/A"}},{"$f":"_xlfn.IFS(S$7=\"søndag\",\"-\",S$6=\"skærtd\",\"h\",S$6=\"langfd\",\"h\",S$6=\"1påsked\",\"h\",S$6=\"2påsked\",\"h\",S$6=\"kr.himmelfart\",\"h\",S$6=\"1pinse\",\"h\",S$6=\"2pinse\",\"h\",S$6=\"1juledag\",\"h\",S$6=\"2juledag\",\"h\",S$6=\"nytårsdag\",\"h\")","v":{"$error":"#N/A"}},{"$f":"_xlfn.IFS(T$7=\"søndag\",\"-\",T$6=\"skærtd\",\"h\",T$6=\"langfd\",\"h\",T$6=\"1påsked\",\"h\",T$6=\"2påsked\",\"h\",T$6=\"kr.himmelfart\",\"h\",T$6=\"1pinse\",\"h\",T$6=\"2pinse\",\"h\",T$6=\"1juledag\",\"h\",T$6=\"2juledag\",\"h\",T$6=\"nytårsdag\",\"h\")","v":"h"},{"$f":"_xlfn.IFS(U$7=\"søndag\",\"-\",U$6=\"skærtd\",\"h\",U$6=\"langfd\",\"h\",U$6=\"1påsked\",\"h\",U$6=\"2påsked\",\"h\",U$6=\"kr.himmelfart\",\"h\",U$6=\"1pinse\",\"h\",U$6=\"2pinse\",\"h\",U$6=\"1juledag\",\"h\",U$6=\"2juledag\",\"h\",U$6=\"nytårsdag\",\"h\")","v":"h"},{"$f":"_xlfn.IFS(V$7=\"søndag\",\"-\",V$6=\"skærtd\",\"h\",V$6=\"langfd\",\"h\",V$6=\"1påsked\",\"h\",V$6=\"2påsked\",\"h\",V$6=\"kr.himmelfart\",\"h\",V$6=\"1pinse\",\"h\",V$6=\"2pinse\",\"h\",V$6=\"1juledag\",\"h\",V$6=\"2juledag\",\"h\",V$6=\"nytårsdag\",\"h\")","v":{"$error":"#N/A"}},{"$f":"_xlfn.IFS(W$7=\"søndag\",\"-\",W$6=\"skærtd\",\"h\",W$6=\"langfd\",\"h\",W$6=\"1påsked\",\"h\",W$6=\"2påsked\",\"h\",W$6=\"kr.himmelfart\",\"h\",W$6=\"1pinse\",\"h\",W$6=\"2pinse\",\"h\",W$6=\"1juledag\",\"h\",W$6=\"2juledag\",\"h\",W$6=\"nytårsdag\",\"h\")","v":"-"},{"$f":"_xlfn.IFS(X$7=\"søndag\",\"-\",X$6=\"skærtd\",\"h\",X$6=\"langfd\",\"h\",X$6=\"1påsked\",\"h\",X$6=\"2påsked\",\"h\",X$6=\"kr.himmelfart\",\"h\",X$6=\"1pinse\",\"h\",X$6=\"2pinse\",\"h\",X$6=\"1juledag\",\"h\",X$6=\"2juledag\",\"h\",X$6=\"nytårsdag\",\"h\")","v":"h"},{"$f":"_xlfn.IFS(Y$7=\"søndag\",\"-\",Y$6=\"skærtd\",\"h\",Y$6=\"langfd\",\"h\",Y$6=\"1påsked\",\"h\",Y$6=\"2påsked\",\"h\",Y$6=\"kr.himmelfart\",\"h\",Y$6=\"1pinse\",\"h\",Y$6=\"2pinse\",\"h\",Y$6=\"1juledag\",\"h\",Y$6=\"2juledag\",\"h\",Y$6=\"nytårsdag\",\"h\")","v":{"$error":"#N/A"}},{"$f":"_xlfn.IFS(Z$7=\"søndag\",\"-\",Z$6=\"skærtd\",\"h\",Z$6=\"langfd\",\"h\",Z$6=\"1påsked\",\"h\",Z$6=\"2påsked\",\"h\",Z$6=\"kr.himmelfart\",\"h\",Z$6=\"1pinse\",\"h\",Z$6=\"2pinse\",\"h\",Z$6=\"1juledag\",\"h\",Z$6=\"2juledag\",\"h\",Z$6=\"nytårsdag\",\"h\")","v":{"$error":"#N/A"}},{"$f":"_xlfn.IFS(AA$7=\"søndag\",\"-\",AA$6=\"skærtd\",\"h\",AA$6=\"langfd\",\"h\",AA$6=\"1påsked\",\"h\",AA$6=\"2påsked\",\"h\",AA$6=\"kr.himmelfart\",\"h\",AA$6=\"1pinse\",\"h\",AA$6=\"2pinse\",\"h\",AA$6=\"1juledag\",\"h\",AA$6=\"2juledag\",\"h\",AA$6=\"nytårsdag\",\"h\")","v":{"$error":"#N/A"}},{"$f":"_xlfn.IFS(AB$7=\"søndag\",\"-\",AB$6=\"skærtd\",\"h\",AB$6=\"langfd\",\"h\",AB$6=\"1påsked\",\"h\",AB$6=\"2påsked\",\"h\",AB$6=\"kr.himmelfart\",\"h\",AB$6=\"1pinse\",\"h\",AB$6=\"2pinse\",\"h\",AB$6=\"1juledag\",\"h\",AB$6=\"2juledag\",\"h\",AB$6=\"nytårsdag\",\"h\")","v":{"$error":"#N/A"}},{"$f":"_xlfn.IFS(AC$7=\"søndag\",\"-\",AC$6=\"skærtd\",\"h\",AC$6=\"langfd\",\"h\",AC$6=\"1påsked\",\"h\",AC$6=\"2påsked\",\"h\",AC$6=\"kr.himmelfart\",\"h\",AC$6=\"1pinse\",\"h\",AC$6=\"2pinse\",\"h\",AC$6=\"1juledag\",\"h\",AC$6=\"2juledag\",\"h\",AC$6=\"nytårsdag\",\"h\")","v":{"$error":"#N/A"}},{"$f":"_xlfn.IFS(AD$7=\"søndag\",\"-\",AD$6=\"skærtd\",\"h\",AD$6=\"langfd\",\"h\",AD$6=\"1påsked\",\"h\",AD$6=\"2påsked\",\"h\",AD$6=\"kr.himmelfart\",\"h\",AD$6=\"1pinse\",\"h\",AD$6=\"2pinse\",\"h\",AD$6=\"1juledag\",\"h\",AD$6=\"2juledag\",\"h\",AD$6=\"nytårsdag\",\"h\")","v":"-"},{"$f":"_xlfn.IFS(AE$7=\"søndag\",\"-\",AE$6=\"skærtd\",\"h\",AE$6=\"langfd\",\"h\",AE$6=\"1påsked\",\"h\",AE$6=\"2påsked\",\"h\",AE$6=\"kr.himmelfart\",\"h\",AE$6=\"1pinse\",\"h\",AE$6=\"2pinse\",\"h\",AE$6=\"1juledag\",\"h\",AE$6=\"2juledag\",\"h\",AE$6=\"nytårsdag\",\"h\")","v":{"$error":"#N/A"}},{"$f":"_xlfn.IFS(AF$7=\"søndag\",\"-\",AF$6=\"skærtd\",\"h\",AF$6=\"langfd\",\"h\",AF$6=\"1påsked\",\"h\",AF$6=\"2påsked\",\"h\",AF$6=\"kr.himmelfart\",\"h\",AF$6=\"1pinse\",\"h\",AF$6=\"2pinse\",\"h\",AF$6=\"1juledag\",\"h\",AF$6=\"2juledag\",\"h\",AF$6=\"nytårsdag\",\"h\")","v":{"$error":"#N/A"}},{"$f":"_xlfn.IFS(AG$7=\"søndag\",\"-\",AG$6=\"skærtd\",\"h\",AG$6=\"langfd\",\"h\",AG$6=\"1påsked\",\"h\",AG$6=\"2påsked\",\"h\",AG$6=\"kr.himmelfart\",\"h\",AG$6=\"1pinse\",\"h\",AG$6=\"2pinse\",\"h\",AG$6=\"1juledag\",\"h\",AG$6=\"2juledag\",\"h\",AG$6=\"nytårsdag\",\"h\")","v":{"$error":"#N/A"}},{"$f":"_xlfn.IFS(AH$7=\"søndag\",\"-\",AH$6=\"skærtd\",\"h\",AH$6=\"langfd\",\"h\",AH$6=\"1påsked\",\"h\",AH$6=\"2påsked\",\"h\",AH$6=\"kr.himmelfart\",\"h\",AH$6=\"1pinse\",\"h\",AH$6=\"2pinse\",\"h\",AH$6=\"1juledag\",\"h\",AH$6=\"2juledag\",\"h\",AH$6=\"nytårsdag\",\"h\")","v":{"$error":"#N/A"}}]
[null,"Sygedage",null,{"$f":"IF(D127=\"s\",D126,\"-\")","v":"-"},{"$f":"IF(E127=\"s\",E126,\"-\")","v":"-"},"-","-","-","-","-","-","-","-","-","-","-","-","-","-","-","-","-","-","-","-","-","-","-","-","-","-","-","-","-"]
[null,null,{"$f":"$C$15","v":14},"Timer uge",null,null,{"$f":"SUMIF($D$5:$AH$5,C132,D126:AH126)","v":0},{"$f":"$H$15","v":15},{"$f":"D132","v":"Timer uge"},null,null,null,null,{"$f":"SUMIF($D$5:$AH$5,H132,D126:AH126)","v":0},{"$f":"$O$15","v":16},{"$f":"D132","v":"Timer uge"},null,null,null,null,{"$f":"_xlfn.IFS($O132=$BV125,$BV126,$O132=$BW125,Lønskema!$BW126,$O132=$BX125,$BX126,$O132=$BY125,$BY126,$O132=$BZ125,$BZ126,$O132=$CA125,$CA126,$O132=$CB125,$CB126,$O132=$CC125,$CC126,$O132=$CD125,$CD126,$O132=$CE125,$CE126,$O132=$CF125,$CF126,$O132=$CG125,$CF126,$O132=$CG125,$CG126,$O132=$CH125,$CH126,$O132=$CI125,$CI126,$O132=$CJ125,$CJ126,$O132=$CK125,$CK126,$O132=$CL125,$CL126,$O132=$CM125,$CM126,$O132=$CN125,$CN126,$O132=$CO125,$CO126,$O132=$CP125,$CP126,$O132=$CQ125,$CQ126,$O132=$CR125,$CR126,$O132=$CS125,$CS126,$O132=$CT125,$CT126,$O132=$CU125,$CU126,$O132=$CV125,$CV126,$O132=$CW125,$CW126,$O132=$CX125,$CX126,$O132=$CY125,$CY126,$O132=$CZ125,$CZ126,$O132=$DA125,$DA126,$O132=$DB125,$DB126,$O132=$DC125,$DC126,$O132=$DD125,$DD126,$O132=$DE125,$DE126,$O132=$DF125,$DF126,$O132=$DG125,$DG126,$O132=$DH125,$DH126,$O132=$DI125,$DI126,$O132=$DJ125,$DJ126,$O132=$DK125,$DK126,$O132=$DL125,$DL126,$O132=$DM125,$DM126,$O132=$DN125,$DN126,$O132=$DO125,$DO126,$O132=$DP125,$DP126,$O132=$DQ125,$DQ126,$O132=$DR125,$DR126,$O132=$DS125,$DS126,$O132=$DT125,$DT126,$O132=$DU125,$DU126)","v":0},{"$f":"$V$15","v":17},{"$f":"D132","v":"Timer uge"},null,null,null,null,{"$f":"SUMIF($D$5:$AH$5,V132,D126:AH126)","v":0},{"$f":"$AC$15","v":18},{"$f":"D132","v":"Timer uge"},null,null,null,{"$f":"SUMIF($D$5:$AH$5,AC132,D126:AH126)","v":0},{"$f":"$AI$15","v":19},{"$f":"D132","v":"Timer uge"},null,null,null,{"$f":"SUMIF($D$5:$AH$5,AI132,D126:AH126)","v":0}]
[null,null,null,"Overarbejde 50% 1-3 timer",null,null,{"$f":"IF($G132>37,$G132-37-$G134,0)","v":0},null,{"$f":"D133","v":"Overarbejde 50% 1-3 timer"},null,null,null,null,{"$f":"IF($N132>37,$N132-37-$N134,0)","v":0},null,{"$f":"D133","v":"Overarbejde 50% 1-3 timer"},null,null,null,null,{"$f":"IF($U132>37,$U132-37-$U134,0)","v":0},null,{"$f":"D133","v":"Overarbejde 50% 1-3 timer"},null,null,null,null,{"$f":"IF($AB132>37,$AB132-37-$AB134,0)","v":0},null,{"$f":"D133","v":"Overarbejde 50% 1-3 timer"},null,null,null,{"$f":"IF($AH132>37,$AH132-37-$AH134,0)","v":0},null,{"$f":"D133","v":"Overarbejde 50% 1-3 timer"},null,null,null,{"$f":"IF($AH132>37,$AH132-37-$AH134,0)","v":0}]
[null,null,null,"Overarbejde 100% over 3 timer",null,null,{"$f":"IF($G132>40,$G132-40,0)","v":0},null,"Overarbejde 100% over 3 timer",null,null,null,null,{"$f":"IF($N132>40,$N132-40,0)","v":0},null,"Overarbejde 100% over 3 timer",null,null,null,null,{"$f":"IF($U132>40,$U132-40,0)","v":0},null,"Overarbejde 100% over 3 timer",null,null,null,null,{"$f":"IF($AB132>40,$AB132-40,0)","v":0},null,"Overarbejde 100% over 3 timer",null,null,null,{"$f":"IF($AH132>40,$AH132-40,0)","v":0},null,{"$f":"D134","v":"Overarbejde 100% over 3 timer"},null,null,null,{"$f":"IF($AH132>40,$AH132-40,0)","v":0},null,null,null,null,null,null,null,null,null,null,null,null,null,null,null,null,null,null,null,null,null,null,null,null,null,null,null,null,null,null,null,null,null,1,2,3,4,5,6,7,8,9,10,11,12,13,14,15,16,17,18,19,20,21,22,23,24,25,26,27,28,29,30,31,32,33,34,35,36,37,38,39,40,41,42,43,44,45,46,47,48,49,50,51,52]
[{"$f":"Medarbejder!A17","v":0},{"$f":"Medarbejder!B17","v":0},{"$f":"Medarbejder!C17","v":"-"},null,null,null,null,null,null,null,null,null,null,null,null,null,null,null,null,null,null,null,null,null,null,null,null,null,null,null,null,null,null,null,null,null,null,null,null,null,null,{"$f":"AO135*Overenskomst!$C$22","v":0},{"$f":"SUM($D135:$AH135)-$BA135-$BF135-$BD135","v":0},{"$f":"IF(Medarbejder!$J17=\"ja\",$AQ135,\"-\")","v":"-"},{"$f":"SUMIF($D$7:$AH$7,\"søndag\",$D135:$AH135)+$AT135","v":0},{"$f":"SUMIFS($D135:$AH135,$D139:$AH139,\"H\")","v":0},{"$f":"G142+N142+U142+AB142+AH142+AN142","v":0},{"$f":"G143+N143+U143+AB143+AH143+AN143","v":0},{"$f":"SUM($D137:$AH137)","v":0},{"$f":"SUM($D138:$AH138)","v":0},{"$f":"COUNTIFS($D136:$AH136,\"F\")","v":0},{"$f":"COUNTIFS($D136:$AH136,\"S\")","v":0},{"$f":"SUMIF($D136:$AH136,\"S\",$D140:$AH140)","v":0},{"$f":"COUNTIFS($D136:$AH136,\"p\")","v":0},{"$f":"COUNTIFS($D136:$AH136,\"BS\")","v":0},{"$f":"SUMIF(D136:AH136,\"bs\",$D135:$AH135)","v":0},{"$f":"COUNTIFS($D136:$AH136,\"FF\")","v":0},{"$f":"SUMIF($D136:$AH136,\"g\",$D135:$AH135)","v":0},{"$f":"Medarbejder!$N17","v":"-"},{"$f":"SUM($BL135:$BU135)","v":4},null,null,null,{"$f":"COUNTIFS($D$6:$AH$6,\"skærtd\")","v":1},{"$f":"COUNTIFS($D$6:$AH$6,\"langfd\")","v":1},{"$f":"COUNTIFS($D$6:$AH$6,\"1påsked\")","v":1},{"$f":"COUNTIFS($D$6:$AH$6,\"2påsked\")","v":1},{"$f":"COUNTIFS($D$6:$AH$6,\"kr.himmelfart\")","v":0},{"$f":"COUNTIFS($D$6:$AH$6,\"1pinse\")","v":0},{"$f":"COUNTIFS($D$6:$AH$6,\"2pinse\")","v":0},{"$f":"COUNTIFS($D$6:$AH$6,\"1juledag\")","v":0},{"$f":"COUNTIFS($D$6:$AH$6,\"2juledag\")","v":0},{"$f":"COUNTIFS($D$6:$AH$6,\"nytårsdag\")","v":0},{"$f":"SUMIFS($D135:$AH135,Lønskema!$D$5:$AH$5,1)","v":0},{"$f":"SUMIFS($D135:$AH135,Lønskema!$D$5:$AH$5,2)","v":0},{"$f":"SUMIFS($D135:$AH135,Lønskema!$D$5:$AH$5,3)","v":0},{"$f":"SUMIFS($D135:$AH135,Lønskema!$D$5:$AH$5,4)","v":0},{"$f":"SUMIFS($D135:$AH135,Lønskema!$D$5:$AH$5,5)","v":0},{"$f":"SUMIFS($D135:$AH135,Lønskema!$D$5:$AH$5,6)","v":0},{"$f":"SUMIFS($D135:$AH135,Lønskema!$D$5:$AH$5,7)","v":0},{"$f":"SUMIFS($D135:$AH135,Lønskema!$D$5:$AH$5,8)","v":0},{"$f":"SUMIFS($D135:$AH135,Lønskema!$D$5:$AH$5,9)","v":0},{"$f":"SUMIFS($D135:$AH135,Lønskema!$D$5:$AH$5,10)","v":0},{"$f":"SUMIFS($D135:$AH135,Lønskema!$D$5:$AH$5,11)","v":0},{"$f":"SUMIFS($D135:$AH135,Lønskema!$D$5:$AH$5,12)","v":0},{"$f":"SUMIFS($D135:$AH135,Lønskema!$D$5:$AH$5,13)","v":0},{"$f":"SUMIFS($D135:$AH135,Lønskema!$D$5:$AH$5,14)","v":0},{"$f":"SUMIFS($D135:$AH135,Lønskema!$D$5:$AH$5,15)","v":0},{"$f":"SUMIFS($D135:$AH135,Lønskema!$D$5:$AH$5,16)","v":0},{"$f":"SUMIFS($D135:$AH135,Lønskema!$D$5:$AH$5,17)","v":0},{"$f":"SUMIFS($D135:$AH135,Lønskema!$D$5:$AH$5,18)","v":0},{"$f":"SUMIFS($D135:$AH135,Lønskema!$D$5:$AH$5,19)","v":0},{"$f":"SUMIFS($D135:$AH135,Lønskema!$D$5:$AH$5,20)","v":0},{"$f":"SUMIFS($D135:$AH135,Lønskema!$D$5:$AH$5,21)","v":0},{"$f":"SUMIFS($D135:$AH135,Lønskema!$D$5:$AH$5,22)","v":0},{"$f":"SUMIFS($D135:$AH135,Lønskema!$D$5:$AH$5,23)","v":0},{"$f":"SUMIFS($D135:$AH135,Lønskema!$D$5:$AH$5,24)","v":0},{"$f":"SUMIFS($D135:$AH135,Lønskema!$D$5:$AH$5,25)","v":0},{"$f":"SUMIFS($D135:$AH135,Lønskema!$D$5:$AH$5,26)","v":0},{"$f":"SUMIFS($D135:$AH135,Lønskema!$D$5:$AH$5,27)","v":0},{"$f":"SUMIFS($D135:$AH135,Lønskema!$D$5:$AH$5,28)","v":0},{"$f":"SUMIFS($D135:$AH135,Lønskema!$D$5:$AH$5,29)","v":0},{"$f":"SUMIFS($D135:$AH135,Lønskema!$D$5:$AH$5,30)","v":0},{"$f":"SUMIFS($D135:$AH135,Lønskema!$D$5:$AH$5,31)","v":0},{"$f":"SUMIFS($D135:$AH135,Lønskema!$D$5:$AH$5,32)","v":0},{"$f":"SUMIFS($D135:$AH135,Lønskema!$D$5:$AH$5,33)","v":0},{"$f":"SUMIFS($D135:$AH135,Lønskema!$D$5:$AH$5,34)","v":0},{"$f":"SUMIFS($D135:$AH135,Lønskema!$D$5:$AH$5,35)","v":0},{"$f":"SUMIFS($D135:$AH135,Lønskema!$D$5:$AH$5,36)","v":0},{"$f":"SUMIFS($D135:$AH135,Lønskema!$D$5:$AH$5,37)","v":0},{"$f":"SUMIFS($D135:$AH135,Lønskema!$D$5:$AH$5,38)","v":0},{"$f":"SUMIFS($D135:$AH135,Lønskema!$D$5:$AH$5,39)","v":0},{"$f":"SUMIFS($D135:$AH135,Lønskema!$D$5:$AH$5,40)","v":0},{"$f":"SUMIFS($D135:$AH135,Lønskema!$D$5:$AH$5,41)","v":0},{"$f":"SUMIFS($D135:$AH135,Lønskema!$D$5:$AH$5,42)","v":0},{"$f":"SUMIFS($D135:$AH135,Lønskema!$D$5:$AH$5,43)","v":0},{"$f":"SUMIFS($D135:$AH135,Lønskema!$D$5:$AH$5,44)","v":0},{"$f":"SUMIFS($D135:$AH135,Lønskema!$D$5:$AH$5,45)","v":0},{"$f":"SUMIFS($D135:$AH135,Lønskema!$D$5:$AH$5,46)","v":0},{"$f":"SUMIFS($D135:$AH135,Lønskema!$D$5:$AH$5,47)","v":0},{"$f":"SUMIFS($D135:$AH135,Lønskema!$D$5:$AH$5,48)","v":0},{"$f":"SUMIFS($D135:$AH135,Lønskema!$D$5:$AH$5,49)","v":0},{"$f":"SUMIFS($D135:$AH135,Lønskema!$D$5:$AH$5,50)","v":0},{"$f":"SUMIFS($D135:$AH135,Lønskema!$D$5:$AH$5,51)","v":0},{"$f":"SUMIFS($D135:$AH135,Lønskema!$D$5:$AH$5,52)","v":0}]
["Ferie - syg  mm. Registreres i denne række"]
[null,"Aften"]
[null,"Nat"]
[null,"Helligdag",null,{"$f":"_xlfn.IFS(D$7=\"søndag\",\"-\",D$6=\"skærtd\",\"h\",D$6=\"langfd\",\"h\",D$6=\"1påsked\",\"h\",D$6=\"2påsked\",\"h\",D$6=\"kr.himmelfart\",\"h\",D$6=\"1pinse\",\"h\",D$6=\"2pinse\",\"h\",D$6=\"1juledag\",\"h\",D$6=\"2juledag\",\"h\",D$6=\"nytårsdag\",\"h\")","v":{"$error":"#N/A"}},{"$f":"_xlfn.IFS(E$7=\"søndag\",\"-\",E$6=\"skærtd\",\"h\",E$6=\"langfd\",\"h\",E$6=\"1påsked\",\"h\",E$6=\"2påsked\",\"h\",E$6=\"kr.himmelfart\",\"h\",E$6=\"1pinse\",\"h\",E$6=\"2pinse\",\"h\",E$6=\"1juledag\",\"h\",E$6=\"2juledag\",\"h\",E$6=\"nytårsdag\",\"h\")","v":{"$error":"#N/A"}},{"$f":"_xlfn.IFS(F$7=\"søndag\",\"-\",F$6=\"skærtd\",\"h\",F$6=\"langfd\",\"h\",F$6=\"1påsked\",\"h\",F$6=\"2påsked\",\"h\",F$6=\"kr.himmelfart\",\"h\",F$6=\"1pinse\",\"h\",F$6=\"2pinse\",\"h\",F$6=\"1juledag\",\"h\",F$6=\"2juledag\",\"h\",F$6=\"nytårsdag\",\"h\")","v":{"$error":"#N/A"}},{"$f":"_xlfn.IFS(G$7=\"søndag\",\"-\",G$6=\"skærtd\",\"h\",G$6=\"langfd\",\"h\",G$6=\"1påsked\",\"h\",G$6=\"2påsked\",\"h\",G$6=\"kr.himmelfart\",\"h\",G$6=\"1pinse\",\"h\",G$6=\"2pinse\",\"h\",G$6=\"1juledag\",\"h\",G$6=\"2juledag\",\"h\",G$6=\"nytårsdag\",\"h\")","v":{"$error":"#N/A"}},{"$f":"_xlfn.IFS(H$7=\"søndag\",\"-\",H$6=\"skærtd\",\"h\",H$6=\"langfd\",\"h\",H$6=\"1påsked\",\"h\",H$6=\"2påsked\",\"h\",H$6=\"kr.himmelfart\",\"h\",H$6=\"1pinse\",\"h\",H$6=\"2pinse\",\"h\",H$6=\"1juledag\",\"h\",H$6=\"2juledag\",\"h\",H$6=\"nytårsdag\",\"h\")","v":{"$error":"#N/A"}},{"$f":"_xlfn.IFS(I$7=\"søndag\",\"-\",I$6=\"skærtd\",\"h\",I$6=\"langfd\",\"h\",I$6=\"1påsked\",\"h\",I$6=\"2påsked\",\"h\",I$6=\"kr.himmelfart\",\"h\",I$6=\"1pinse\",\"h\",I$6=\"2pinse\",\"h\",I$6=\"1juledag\",\"h\",I$6=\"2juledag\",\"h\",I$6=\"nytårsdag\",\"h\")","v":"-"},{"$f":"_xlfn.IFS(J$7=\"søndag\",\"-\",J$6=\"skærtd\",\"h\",J$6=\"langfd\",\"h\",J$6=\"1påsked\",\"h\",J$6=\"2påsked\",\"h\",J$6=\"kr.himmelfart\",\"h\",J$6=\"1pinse\",\"h\",J$6=\"2pinse\",\"h\",J$6=\"1juledag\",\"h\",J$6=\"2juledag\",\"h\",J$6=\"nytårsdag\",\"h\")","v":{"$error":"#N/A"}},{"$f":"_xlfn.IFS(K$7=\"søndag\",\"-\",K$6=\"skærtd\",\"h\",K$6=\"langfd\",\"h\",K$6=\"1påsked\",\"h\",K$6=\"2påsked\",\"h\",K$6=\"kr.himmelfart\",\"h\",K$6=\"1pinse\",\"h\",K$6=\"2pinse\",\"h\",K$6=\"1juledag\",\"h\",K$6=\"2juledag\",\"h\",K$6=\"nytårsdag\",\"h\")","v":{"$error":"#N/A"}},{"$f":"_xlfn.IFS(L$7=\"søndag\",\"-\",L$6=\"skærtd\",\"h\",L$6=\"langfd\",\"h\",L$6=\"1påsked\",\"h\",L$6=\"2påsked\",\"h\",L$6=\"kr.himmelfart\",\"h\",L$6=\"1pinse\",\"h\",L$6=\"2pinse\",\"h\",L$6=\"1juledag\",\"h\",L$6=\"2juledag\",\"h\",L$6=\"nytårsdag\",\"h\")","v":{"$error":"#N/A"}},{"$f":"_xlfn.IFS(M$7=\"søndag\",\"-\",M$6=\"skærtd\",\"h\",M$6=\"langfd\",\"h\",M$6=\"1påsked\",\"h\",M$6=\"2påsked\",\"h\",M$6=\"kr.himmelfart\",\"h\",M$6=\"1pinse\",\"h\",M$6=\"2pinse\",\"h\",M$6=\"1juledag\",\"h\",M$6=\"2juledag\",\"h\",M$6=\"nytårsdag\",\"h\")","v":{"$error":"#N/A"}},{"$f":"_xlfn.IFS(N$7=\"søndag\",\"-\",N$6=\"skærtd\",\"h\",N$6=\"langfd\",\"h\",N$6=\"1påsked\",\"h\",N$6=\"2påsked\",\"h\",N$6=\"kr.himmelfart\",\"h\",N$6=\"1pinse\",\"h\",N$6=\"2pinse\",\"h\",N$6=\"1juledag\",\"h\",N$6=\"2juledag\",\"h\",N$6=\"nytårsdag\",\"h\")","v":{"$error":"#N/A"}},{"$f":"_xlfn.IFS(O$7=\"søndag\",\"-\",O$6=\"skærtd\",\"h\",O$6=\"langfd\",\"h\",O$6=\"1påsked\",\"h\",O$6=\"2påsked\",\"h\",O$6=\"kr.himmelfart\",\"h\",O$6=\"1pinse\",\"h\",O$6=\"2pinse\",\"h\",O$6=\"1juledag\",\"h\",O$6=\"2juledag\",\"h\",O$6=\"nytårsdag\",\"h\")","v":{"$error":"#N/A"}},{"$f":"_xlfn.IFS(P$7=\"søndag\",\"-\",P$6=\"skærtd\",\"h\",P$6=\"langfd\",\"h\",P$6=\"1påsked\",\"h\",P$6=\"2påsked\",\"h\",P$6=\"kr.himmelfart\",\"h\",P$6=\"1pinse\",\"h\",P$6=\"2pinse\",\"h\",P$6=\"1juledag\",\"h\",P$6=\"2juledag\",\"h\",P$6=\"nytårsdag\",\"h\")","v":"-"},{"$f":"_xlfn.IFS(Q$7=\"søndag\",\"-\",Q$6=\"skærtd\",\"h\",Q$6=\"langfd\",\"h\",Q$6=\"1påsked\",\"h\",Q$6=\"2påsked\",\"h\",Q$6=\"kr.himmelfart\",\"h\",Q$6=\"1pinse\",\"h\",Q$6=\"2pinse\",\"h\",Q$6=\"1juledag\",\"h\",Q$6=\"2juledag\",\"h\",Q$6=\"nytårsdag\",\"h\")","v":{"$error":"#N/A"}},{"$f":"_xlfn.IFS(R$7=\"søndag\",\"-\",R$6=\"skærtd\",\"h\",R$6=\"langfd\",\"h\",R$6=\"1påsked\",\"h\",R$6=\"2påsked\",\"h\",R$6=\"kr.himmelfart\",\"h\",R$6=\"1pinse\",\"h\",R$6=\"2pinse\",\"h\",R$6=\"1juledag\",\"h\",R$6=\"2juledag\",\"h\",R$6=\"nytårsdag\",\"h\")","v":{"$error":"#N/A"}},{"$f":"_xlfn.IFS(S$7=\"søndag\",\"-\",S$6=\"skærtd\",\"h\",S$6=\"langfd\",\"h\",S$6=\"1påsked\",\"h\",S$6=\"2påsked\",\"h\",S$6=\"kr.himmelfart\",\"h\",S$6=\"1pinse\",\"h\",S$6=\"2pinse\",\"h\",S$6=\"1juledag\",\"h\",S$6=\"2juledag\",\"h\",S$6=\"nytårsdag\",\"h\")","v":{"$error":"#N/A"}},{"$f":"_xlfn.IFS(T$7=\"søndag\",\"-\",T$6=\"skærtd\",\"h\",T$6=\"langfd\",\"h\",T$6=\"1påsked\",\"h\",T$6=\"2påsked\",\"h\",T$6=\"kr.himmelfart\",\"h\",T$6=\"1pinse\",\"h\",T$6=\"2pinse\",\"h\",T$6=\"1juledag\",\"h\",T$6=\"2juledag\",\"h\",T$6=\"nytårsdag\",\"h\")","v":"h"},{"$f":"_xlfn.IFS(U$7=\"søndag\",\"-\",U$6=\"skærtd\",\"h\",U$6=\"langfd\",\"h\",U$6=\"1påsked\",\"h\",U$6=\"2påsked\",\"h\",U$6=\"kr.himmelfart\",\"h\",U$6=\"1pinse\",\"h\",U$6=\"2pinse\",\"h\",U$6=\"1juledag\",\"h\",U$6=\"2juledag\",\"h\",U$6=\"nytårsdag\",\"h\")","v":"h"},{"$f":"_xlfn.IFS(V$7=\"søndag\",\"-\",V$6=\"skærtd\",\"h\",V$6=\"langfd\",\"h\",V$6=\"1påsked\",\"h\",V$6=\"2påsked\",\"h\",V$6=\"kr.himmelfart\",\"h\",V$6=\"1pinse\",\"h\",V$6=\"2pinse\",\"h\",V$6=\"1juledag\",\"h\",V$6=\"2juledag\",\"h\",V$6=\"nytårsdag\",\"h\")","v":{"$error":"#N/A"}},{"$f":"_xlfn.IFS(W$7=\"søndag\",\"-\",W$6=\"skærtd\",\"h\",W$6=\"langfd\",\"h\",W$6=\"1påsked\",\"h\",W$6=\"2påsked\",\"h\",W$6=\"kr.himmelfart\",\"h\",W$6=\"1pinse\",\"h\",W$6=\"2pinse\",\"h\",W$6=\"1juledag\",\"h\",W$6=\"2juledag\",\"h\",W$6=\"nytårsdag\",\"h\")","v":"-"},{"$f":"_xlfn.IFS(X$7=\"søndag\",\"-\",X$6=\"skærtd\",\"h\",X$6=\"langfd\",\"h\",X$6=\"1påsked\",\"h\",X$6=\"2påsked\",\"h\",X$6=\"kr.himmelfart\",\"h\",X$6=\"1pinse\",\"h\",X$6=\"2pinse\",\"h\",X$6=\"1juledag\",\"h\",X$6=\"2juledag\",\"h\",X$6=\"nytårsdag\",\"h\")","v":"h"},{"$f":"_xlfn.IFS(Y$7=\"søndag\",\"-\",Y$6=\"skærtd\",\"h\",Y$6=\"langfd\",\"h\",Y$6=\"1påsked\",\"h\",Y$6=\"2påsked\",\"h\",Y$6=\"kr.himmelfart\",\"h\",Y$6=\"1pinse\",\"h\",Y$6=\"2pinse\",\"h\",Y$6=\"1juledag\",\"h\",Y$6=\"2juledag\",\"h\",Y$6=\"nytårsdag\",\"h\")","v":{"$error":"#N/A"}},{"$f":"_xlfn.IFS(Z$7=\"søndag\",\"-\",Z$6=\"skærtd\",\"h\",Z$6=\"langfd\",\"h\",Z$6=\"1påsked\",\"h\",Z$6=\"2påsked\",\"h\",Z$6=\"kr.himmelfart\",\"h\",Z$6=\"1pinse\",\"h\",Z$6=\"2pinse\",\"h\",Z$6=\"1juledag\",\"h\",Z$6=\"2juledag\",\"h\",Z$6=\"nytårsdag\",\"h\")","v":{"$error":"#N/A"}},{"$f":"_xlfn.IFS(AA$7=\"søndag\",\"-\",AA$6=\"skærtd\",\"h\",AA$6=\"langfd\",\"h\",AA$6=\"1påsked\",\"h\",AA$6=\"2påsked\",\"h\",AA$6=\"kr.himmelfart\",\"h\",AA$6=\"1pinse\",\"h\",AA$6=\"2pinse\",\"h\",AA$6=\"1juledag\",\"h\",AA$6=\"2juledag\",\"h\",AA$6=\"nytårsdag\",\"h\")","v":{"$error":"#N/A"}},{"$f":"_xlfn.IFS(AB$7=\"søndag\",\"-\",AB$6=\"skærtd\",\"h\",AB$6=\"langfd\",\"h\",AB$6=\"1påsked\",\"h\",AB$6=\"2påsked\",\"h\",AB$6=\"kr.himmelfart\",\"h\",AB$6=\"1pinse\",\"h\",AB$6=\"2pinse\",\"h\",AB$6=\"1juledag\",\"h\",AB$6=\"2juledag\",\"h\",AB$6=\"nytårsdag\",\"h\")","v":{"$error":"#N/A"}},{"$f":"_xlfn.IFS(AC$7=\"søndag\",\"-\",AC$6=\"skærtd\",\"h\",AC$6=\"langfd\",\"h\",AC$6=\"1påsked\",\"h\",AC$6=\"2påsked\",\"h\",AC$6=\"kr.himmelfart\",\"h\",AC$6=\"1pinse\",\"h\",AC$6=\"2pinse\",\"h\",AC$6=\"1juledag\",\"h\",AC$6=\"2juledag\",\"h\",AC$6=\"nytårsdag\",\"h\")","v":{"$error":"#N/A"}},{"$f":"_xlfn.IFS(AD$7=\"søndag\",\"-\",AD$6=\"skærtd\",\"h\",AD$6=\"langfd\",\"h\",AD$6=\"1påsked\",\"h\",AD$6=\"2påsked\",\"h\",AD$6=\"kr.himmelfart\",\"h\",AD$6=\"1pinse\",\"h\",AD$6=\"2pinse\",\"h\",AD$6=\"1juledag\",\"h\",AD$6=\"2juledag\",\"h\",AD$6=\"nytårsdag\",\"h\")","v":"-"},{"$f":"_xlfn.IFS(AE$7=\"søndag\",\"-\",AE$6=\"skærtd\",\"h\",AE$6=\"langfd\",\"h\",AE$6=\"1påsked\",\"h\",AE$6=\"2påsked\",\"h\",AE$6=\"kr.himmelfart\",\"h\",AE$6=\"1pinse\",\"h\",AE$6=\"2pinse\",\"h\",AE$6=\"1juledag\",\"h\",AE$6=\"2juledag\",\"h\",AE$6=\"nytårsdag\",\"h\")","v":{"$error":"#N/A"}},{"$f":"_xlfn.IFS(AF$7=\"søndag\",\"-\",AF$6=\"skærtd\",\"h\",AF$6=\"langfd\",\"h\",AF$6=\"1påsked\",\"h\",AF$6=\"2påsked\",\"h\",AF$6=\"kr.himmelfart\",\"h\",AF$6=\"1pinse\",\"h\",AF$6=\"2pinse\",\"h\",AF$6=\"1juledag\",\"h\",AF$6=\"2juledag\",\"h\",AF$6=\"nytårsdag\",\"h\")","v":{"$error":"#N/A"}},{"$f":"_xlfn.IFS(AG$7=\"søndag\",\"-\",AG$6=\"skærtd\",\"h\",AG$6=\"langfd\",\"h\",AG$6=\"1påsked\",\"h\",AG$6=\"2påsked\",\"h\",AG$6=\"kr.himmelfart\",\"h\",AG$6=\"1pinse\",\"h\",AG$6=\"2pinse\",\"h\",AG$6=\"1juledag\",\"h\",AG$6=\"2juledag\",\"h\",AG$6=\"nytårsdag\",\"h\")","v":{"$error":"#N/A"}},{"$f":"_xlfn.IFS(AH$7=\"søndag\",\"-\",AH$6=\"skærtd\",\"h\",AH$6=\"langfd\",\"h\",AH$6=\"1påsked\",\"h\",AH$6=\"2påsked\",\"h\",AH$6=\"kr.himmelfart\",\"h\",AH$6=\"1pinse\",\"h\",AH$6=\"2pinse\",\"h\",AH$6=\"1juledag\",\"h\",AH$6=\"2juledag\",\"h\",AH$6=\"nytårsdag\",\"h\")","v":{"$error":"#N/A"}}]
[null,"Sygedage",null,{"$f":"IF(D136=\"s\",D135,\"-\")","v":"-"},"-","-","-","-","-","-","-","-","-","-","-","-","-","-","-","-","-","-","-","-","-","-","-","-","-","-","-","-","-","-"]
[null,null,{"$f":"$C$15","v":14},"Timer uge",null,null,{"$f":"SUMIF($D$5:$AH$5,C141,D135:AH135)","v":0},{"$f":"$H$15","v":15},{"$f":"D141","v":"Timer uge"},null,null,null,null,{"$f":"SUMIF($D$5:$AH$5,H141,D135:AH135)","v":0},{"$f":"$O$15","v":16},{"$f":"D141","v":"Timer uge"},null,null,null,null,{"$f":"_xlfn.IFS($O141=$BV134,$BV135,$O141=$BW134,Lønskema!$BW135,$O141=$BX134,$BX135,$O141=$BY134,$BY135,$O141=$BZ134,$BZ135,$O141=$CA134,$CA135,$O141=$CB134,$CB135,$O141=$CC134,$CC135,$O141=$CD134,$CD135,$O141=$CE134,$CE135,$O141=$CF134,$CF135,$O141=$CG134,$CF135,$O141=$CG134,$CG135,$O141=$CH134,$CH135,$O141=$CI134,$CI135,$O141=$CJ134,$CJ135,$O141=$CK134,$CK135,$O141=$CL134,$CL135,$O141=$CM134,$CM135,$O141=$CN134,$CN135,$O141=$CO134,$CO135,$O141=$CP134,$CP135,$O141=$CQ134,$CQ135,$O141=$CR134,$CR135,$O141=$CS134,$CS135,$O141=$CT134,$CT135,$O141=$CU134,$CU135,$O141=$CV134,$CV135,$O141=$CW134,$CW135,$O141=$CX134,$CX135,$O141=$CY134,$CY135,$O141=$CZ134,$CZ135,$O141=$DA134,$DA135,$O141=$DB134,$DB135,$O141=$DC134,$DC135,$O141=$DD134,$DD135,$O141=$DE134,$DE135,$O141=$DF134,$DF135,$O141=$DG134,$DG135,$O141=$DH134,$DH135,$O141=$DI134,$DI135,$O141=$DJ134,$DJ135,$O141=$DK134,$DK135,$O141=$DL134,$DL135,$O141=$DM134,$DM135,$O141=$DN134,$DN135,$O141=$DO134,$DO135,$O141=$DP134,$DP135,$O141=$DQ134,$DQ135,$O141=$DR134,$DR135,$O141=$DS134,$DS135,$O141=$DT134,$DT135,$O141=$DU134,$DU135)","v":0},{"$f":"$V$15","v":17},{"$f":"D141","v":"Timer uge"},null,null,null,null,{"$f":"SUMIF($D$5:$AH$5,V141,D135:AH135)","v":0},{"$f":"$AC$15","v":18},{"$f":"D141","v":"Timer uge"},null,null,null,{"$f":"SUMIF($D$5:$AH$5,AC141,D135:AH135)","v":0},{"$f":"$AI$15","v":19},{"$f":"D141","v":"Timer uge"},null,null,null,{"$f":"SUMIF($D$5:$AH$5,AI141,D135:AH135)","v":0}]
[null,null,null,"Overarbejde 50% 1-3 timer",null,null,{"$f":"IF($G141>37,$G141-37-$G143,0)","v":0},null,{"$f":"D142","v":"Overarbejde 50% 1-3 timer"},null,null,null,null,{"$f":"IF($N141>37,$N141-37-$N143,0)","v":0},null,{"$f":"D142","v":"Overarbejde 50% 1-3 timer"},null,null,null,null,{"$f":"IF($U141>37,$U141-37-$U143,0)","v":0},null,{"$f":"D142","v":"Overarbejde 50% 1-3 timer"},null,null,null,null,{"$f":"IF($AB141>37,$AB141-37-$AB143,0)","v":0},null,{"$f":"D142","v":"Overarbejde 50% 1-3 timer"},null,null,null,{"$f":"IF($AH141>37,$AH141-37-$AH143,0)","v":0},null,{"$f":"D142","v":"Overarbejde 50% 1-3 timer"},null,null,null,{"$f":"IF($AH141>37,$AH141-37-$AH143,0)","v":0}]
[null,null,null,"Overarbejde 100% over 3 timer",null,null,{"$f":"IF($G141>40,$G141-40,0)","v":0},null,"Overarbejde 100% over 3 timer",null,null,null,null,{"$f":"IF($N141>40,$N141-40,0)","v":0},null,"Overarbejde 100% over 3 timer",null,null,null,null,{"$f":"IF($U141>40,$U141-40,0)","v":0},null,"Overarbejde 100% over 3 timer",null,null,null,null,{"$f":"IF($AB141>40,$AB141-40,0)","v":0},null,"Overarbejde 100% over 3 timer",null,null,null,{"$f":"IF($AH141>40,$AH141-40,0)","v":0},null,{"$f":"D143","v":"Overarbejde 100% over 3 timer"},null,null,null,{"$f":"IF($AH141>40,$AH141-40,0)","v":0},null,null,null,null,null,null,null,null,null,null,null,null,null,null,null,null,null,null,null,null,null,null,null,null,null,null,null,null,null,null,null,null,null,1,2,3,4,5,6,7,8,9,10,11,12,13,14,15,16,17,18,19,20,21,22,23,24,25,26,27,28,29,30,31,32,33,34,35,36,37,38,39,40,41,42,43,44,45,46,47,48,49,50,51,52]
[{"$f":"Medarbejder!A18","v":0},{"$f":"Medarbejder!B18","v":0},{"$f":"Medarbejder!C18","v":"-"},null,null,null,null,null,null,null,null,null,null,null,null,null,null,null,null,null,null,null,null,null,null,null,null,null,null,null,null,null,null,null,null,null,null,null,null,null,null,{"$f":"AO144*Overenskomst!$C$22","v":0},{"$f":"SUM($D144:$AH144)-$BA144-$BF144-$BD144","v":0},{"$f":"IF(Medarbejder!$J18=\"ja\",$AQ144,\"-\")","v":"-"},{"$f":"SUMIF($D$7:$AH$7,\"søndag\",$D144:$AH144)+$AT144","v":0},{"$f":"SUMIFS($D144:$AH144,$D148:$AH148,\"H\")","v":0},{"$f":"G151+N151+U151+AB151+AH151+AN151","v":0},{"$f":"G152+N152+U152+AB152+AH152+AN152","v":0},{"$f":"SUM($D146:$AH146)","v":0},{"$f":"SUM($D147:$AH147)","v":0},{"$f":"COUNTIFS($D145:$AH145,\"F\")","v":0},{"$f":"COUNTIFS($D145:$AH145,\"S\")","v":0},{"$f":"SUMIF($D145:$AH145,\"S\",$D149:$AH149)","v":0},{"$f":"COUNTIFS($D145:$AH145,\"p\")","v":0},{"$f":"COUNTIFS($D145:$AH145,\"BS\")","v":0},{"$f":"SUMIF(D145:AH145,\"bs\",$D144:$AH144)","v":0},{"$f":"COUNTIFS($D145:$AH145,\"FF\")","v":0},{"$f":"SUMIF($D145:$AH145,\"g\",$D144:$AH144)","v":0},{"$f":"Medarbejder!$N18","v":"-"},{"$f":"SUM($BL144:$BU144)","v":4},null,null,null,{"$f":"COUNTIFS($D$6:$AH$6,\"skærtd\")","v":1},{"$f":"COUNTIFS($D$6:$AH$6,\"langfd\")","v":1},{"$f":"COUNTIFS($D$6:$AH$6,\"1påsked\")","v":1},{"$f":"COUNTIFS($D$6:$AH$6,\"2påsked\")","v":1},{"$f":"COUNTIFS($D$6:$AH$6,\"kr.himmelfart\")","v":0},{"$f":"COUNTIFS($D$6:$AH$6,\"1pinse\")","v":0},{"$f":"COUNTIFS($D$6:$AH$6,\"2pinse\")","v":0},{"$f":"COUNTIFS($D$6:$AH$6,\"1juledag\")","v":0},{"$f":"COUNTIFS($D$6:$AH$6,\"2juledag\")","v":0},{"$f":"COUNTIFS($D$6:$AH$6,\"nytårsdag\")","v":0},{"$f":"SUMIFS($D144:$AH144,Lønskema!$D$5:$AH$5,1)","v":0},{"$f":"SUMIFS($D144:$AH144,Lønskema!$D$5:$AH$5,2)","v":0},{"$f":"SUMIFS($D144:$AH144,Lønskema!$D$5:$AH$5,3)","v":0},{"$f":"SUMIFS($D144:$AH144,Lønskema!$D$5:$AH$5,4)","v":0},{"$f":"SUMIFS($D144:$AH144,Lønskema!$D$5:$AH$5,5)","v":0},{"$f":"SUMIFS($D144:$AH144,Lønskema!$D$5:$AH$5,6)","v":0},{"$f":"SUMIFS($D144:$AH144,Lønskema!$D$5:$AH$5,7)","v":0},{"$f":"SUMIFS($D144:$AH144,Lønskema!$D$5:$AH$5,8)","v":0},{"$f":"SUMIFS($D144:$AH144,Lønskema!$D$5:$AH$5,9)","v":0},{"$f":"SUMIFS($D144:$AH144,Lønskema!$D$5:$AH$5,10)","v":0},{"$f":"SUMIFS($D144:$AH144,Lønskema!$D$5:$AH$5,11)","v":0},{"$f":"SUMIFS($D144:$AH144,Lønskema!$D$5:$AH$5,12)","v":0},{"$f":"SUMIFS($D144:$AH144,Lønskema!$D$5:$AH$5,13)","v":0},{"$f":"SUMIFS($D144:$AH144,Lønskema!$D$5:$AH$5,14)","v":0},{"$f":"SUMIFS($D144:$AH144,Lønskema!$D$5:$AH$5,15)","v":0},{"$f":"SUMIFS($D144:$AH144,Lønskema!$D$5:$AH$5,16)","v":0},{"$f":"SUMIFS($D144:$AH144,Lønskema!$D$5:$AH$5,17)","v":0},{"$f":"SUMIFS($D144:$AH144,Lønskema!$D$5:$AH$5,18)","v":0},{"$f":"SUMIFS($D144:$AH144,Lønskema!$D$5:$AH$5,19)","v":0},{"$f":"SUMIFS($D144:$AH144,Lønskema!$D$5:$AH$5,20)","v":0},{"$f":"SUMIFS($D144:$AH144,Lønskema!$D$5:$AH$5,21)","v":0},{"$f":"SUMIFS($D144:$AH144,Lønskema!$D$5:$AH$5,22)","v":0},{"$f":"SUMIFS($D144:$AH144,Lønskema!$D$5:$AH$5,23)","v":0},{"$f":"SUMIFS($D144:$AH144,Lønskema!$D$5:$AH$5,24)","v":0},{"$f":"SUMIFS($D144:$AH144,Lønskema!$D$5:$AH$5,25)","v":0},{"$f":"SUMIFS($D144:$AH144,Lønskema!$D$5:$AH$5,26)","v":0},{"$f":"SUMIFS($D144:$AH144,Lønskema!$D$5:$AH$5,27)","v":0},{"$f":"SUMIFS($D144:$AH144,Lønskema!$D$5:$AH$5,28)","v":0},{"$f":"SUMIFS($D144:$AH144,Lønskema!$D$5:$AH$5,29)","v":0},{"$f":"SUMIFS($D144:$AH144,Lønskema!$D$5:$AH$5,30)","v":0},{"$f":"SUMIFS($D144:$AH144,Lønskema!$D$5:$AH$5,31)","v":0},{"$f":"SUMIFS($D144:$AH144,Lønskema!$D$5:$AH$5,32)","v":0},{"$f":"SUMIFS($D144:$AH144,Lønskema!$D$5:$AH$5,33)","v":0},{"$f":"SUMIFS($D144:$AH144,Lønskema!$D$5:$AH$5,34)","v":0},{"$f":"SUMIFS($D144:$AH144,Lønskema!$D$5:$AH$5,35)","v":0},{"$f":"SUMIFS($D144:$AH144,Lønskema!$D$5:$AH$5,36)","v":0},{"$f":"SUMIFS($D144:$AH144,Lønskema!$D$5:$AH$5,37)","v":0},{"$f":"SUMIFS($D144:$AH144,Lønskema!$D$5:$AH$5,38)","v":0},{"$f":"SUMIFS($D144:$AH144,Lønskema!$D$5:$AH$5,39)","v":0},{"$f":"SUMIFS($D144:$AH144,Lønskema!$D$5:$AH$5,40)","v":0},{"$f":"SUMIFS($D144:$AH144,Lønskema!$D$5:$AH$5,41)","v":0},{"$f":"SUMIFS($D144:$AH144,Lønskema!$D$5:$AH$5,42)","v":0},{"$f":"SUMIFS($D144:$AH144,Lønskema!$D$5:$AH$5,43)","v":0},{"$f":"SUMIFS($D144:$AH144,Lønskema!$D$5:$AH$5,44)","v":0},{"$f":"SUMIFS($D144:$AH144,Lønskema!$D$5:$AH$5,45)","v":0},{"$f":"SUMIFS($D144:$AH144,Lønskema!$D$5:$AH$5,46)","v":0},{"$f":"SUMIFS($D144:$AH144,Lønskema!$D$5:$AH$5,47)","v":0},{"$f":"SUMIFS($D144:$AH144,Lønskema!$D$5:$AH$5,48)","v":0},{"$f":"SUMIFS($D144:$AH144,Lønskema!$D$5:$AH$5,49)","v":0},{"$f":"SUMIFS($D144:$AH144,Lønskema!$D$5:$AH$5,50)","v":0},{"$f":"SUMIFS($D144:$AH144,Lønskema!$D$5:$AH$5,51)","v":0},{"$f":"SUMIFS($D144:$AH144,Lønskema!$D$5:$AH$5,52)","v":0}]
["Ferie - syg  mm. Registreres i denne række"]
[null,"Aften"]
[null,"Nat"]
[null,"Helligdag",null,{"$f":"_xlfn.IFS(D$7=\"søndag\",\"-\",D$6=\"skærtd\",\"h\",D$6=\"langfd\",\"h\",D$6=\"1påsked\",\"h\",D$6=\"2påsked\",\"h\",D$6=\"kr.himmelfart\",\"h\",D$6=\"1pinse\",\"h\",D$6=\"2pinse\",\"h\",D$6=\"1juledag\",\"h\",D$6=\"2juledag\",\"h\",D$6=\"nytårsdag\",\"h\")","v":{"$error":"#N/A"}},{"$f":"_xlfn.IFS(E$7=\"søndag\",\"-\",E$6=\"skærtd\",\"h\",E$6=\"langfd\",\"h\",E$6=\"1påsked\",\"h\",E$6=\"2påsked\",\"h\",E$6=\"kr.himmelfart\",\"h\",E$6=\"1pinse\",\"h\",E$6=\"2pinse\",\"h\",E$6=\"1juledag\",\"h\",E$6=\"2juledag\",\"h\",E$6=\"nytårsdag\",\"h\")","v":{"$error":"#N/A"}},{"$f":"_xlfn.IFS(F$7=\"søndag\",\"-\",F$6=\"skærtd\",\"h\",F$6=\"langfd\",\"h\",F$6=\"1påsked\",\"h\",F$6=\"2påsked\",\"h\",F$6=\"kr.himmelfart\",\"h\",F$6=\"1pinse\",\"h\",F$6=\"2pinse\",\"h\",F$6=\"1juledag\",\"h\",F$6=\"2juledag\",\"h\",F$6=\"nytårsdag\",\"h\")","v":{"$error":"#N/A"}},{"$f":"_xlfn.IFS(G$7=\"søndag\",\"-\",G$6=\"skærtd\",\"h\",G$6=\"langfd\",\"h\",G$6=\"1påsked\",\"h\",G$6=\"2påsked\",\"h\",G$6=\"kr.himmelfart\",\"h\",G$6=\"1pinse\",\"h\",G$6=\"2pinse\",\"h\",G$6=\"1juledag\",\"h\",G$6=\"2juledag\",\"h\",G$6=\"nytårsdag\",\"h\")","v":{"$error":"#N/A"}},{"$f":"_xlfn.IFS(H$7=\"søndag\",\"-\",H$6=\"skærtd\",\"h\",H$6=\"langfd\",\"h\",H$6=\"1påsked\",\"h\",H$6=\"2påsked\",\"h\",H$6=\"kr.himmelfart\",\"h\",H$6=\"1pinse\",\"h\",H$6=\"2pinse\",\"h\",H$6=\"1juledag\",\"h\",H$6=\"2juledag\",\"h\",H$6=\"nytårsdag\",\"h\")","v":{"$error":"#N/A"}},{"$f":"_xlfn.IFS(I$7=\"søndag\",\"-\",I$6=\"skærtd\",\"h\",I$6=\"langfd\",\"h\",I$6=\"1påsked\",\"h\",I$6=\"2påsked\",\"h\",I$6=\"kr.himmelfart\",\"h\",I$6=\"1pinse\",\"h\",I$6=\"2pinse\",\"h\",I$6=\"1juledag\",\"h\",I$6=\"2juledag\",\"h\",I$6=\"nytårsdag\",\"h\")","v":"-"},{"$f":"_xlfn.IFS(J$7=\"søndag\",\"-\",J$6=\"skærtd\",\"h\",J$6=\"langfd\",\"h\",J$6=\"1påsked\",\"h\",J$6=\"2påsked\",\"h\",J$6=\"kr.himmelfart\",\"h\",J$6=\"1pinse\",\"h\",J$6=\"2pinse\",\"h\",J$6=\"1juledag\",\"h\",J$6=\"2juledag\",\"h\",J$6=\"nytårsdag\",\"h\")","v":{"$error":"#N/A"}},{"$f":"_xlfn.IFS(K$7=\"søndag\",\"-\",K$6=\"skærtd\",\"h\",K$6=\"langfd\",\"h\",K$6=\"1påsked\",\"h\",K$6=\"2påsked\",\"h\",K$6=\"kr.himmelfart\",\"h\",K$6=\"1pinse\",\"h\",K$6=\"2pinse\",\"h\",K$6=\"1juledag\",\"h\",K$6=\"2juledag\",\"h\",K$6=\"nytårsdag\",\"h\")","v":{"$error":"#N/A"}},{"$f":"_xlfn.IFS(L$7=\"søndag\",\"-\",L$6=\"skærtd\",\"h\",L$6=\"langfd\",\"h\",L$6=\"1påsked\",\"h\",L$6=\"2påsked\",\"h\",L$6=\"kr.himmelfart\",\"h\",L$6=\"1pinse\",\"h\",L$6=\"2pinse\",\"h\",L$6=\"1juledag\",\"h\",L$6=\"2juledag\",\"h\",L$6=\"nytårsdag\",\"h\")","v":{"$error":"#N/A"}},{"$f":"_xlfn.IFS(M$7=\"søndag\",\"-\",M$6=\"skærtd\",\"h\",M$6=\"langfd\",\"h\",M$6=\"1påsked\",\"h\",M$6=\"2påsked\",\"h\",M$6=\"kr.himmelfart\",\"h\",M$6=\"1pinse\",\"h\",M$6=\"2pinse\",\"h\",M$6=\"1juledag\",\"h\",M$6=\"2juledag\",\"h\",M$6=\"nytårsdag\",\"h\")","v":{"$error":"#N/A"}},{"$f":"_xlfn.IFS(N$7=\"søndag\",\"-\",N$6=\"skærtd\",\"h\",N$6=\"langfd\",\"h\",N$6=\"1påsked\",\"h\",N$6=\"2påsked\",\"h\",N$6=\"kr.himmelfart\",\"h\",N$6=\"1pinse\",\"h\",N$6=\"2pinse\",\"h\",N$6=\"1juledag\",\"h\",N$6=\"2juledag\",\"h\",N$6=\"nytårsdag\",\"h\")","v":{"$error":"#N/A"}},{"$f":"_xlfn.IFS(O$7=\"søndag\",\"-\",O$6=\"skærtd\",\"h\",O$6=\"langfd\",\"h\",O$6=\"1påsked\",\"h\",O$6=\"2påsked\",\"h\",O$6=\"kr.himmelfart\",\"h\",O$6=\"1pinse\",\"h\",O$6=\"2pinse\",\"h\",O$6=\"1juledag\",\"h\",O$6=\"2juledag\",\"h\",O$6=\"nytårsdag\",\"h\")","v":{"$error":"#N/A"}},{"$f":"_xlfn.IFS(P$7=\"søndag\",\"-\",P$6=\"skærtd\",\"h\",P$6=\"langfd\",\"h\",P$6=\"1påsked\",\"h\",P$6=\"2påsked\",\"h\",P$6=\"kr.himmelfart\",\"h\",P$6=\"1pinse\",\"h\",P$6=\"2pinse\",\"h\",P$6=\"1juledag\",\"h\",P$6=\"2juledag\",\"h\",P$6=\"nytårsdag\",\"h\")","v":"-"},{"$f":"_xlfn.IFS(Q$7=\"søndag\",\"-\",Q$6=\"skærtd\",\"h\",Q$6=\"langfd\",\"h\",Q$6=\"1påsked\",\"h\",Q$6=\"2påsked\",\"h\",Q$6=\"kr.himmelfart\",\"h\",Q$6=\"1pinse\",\"h\",Q$6=\"2pinse\",\"h\",Q$6=\"1juledag\",\"h\",Q$6=\"2juledag\",\"h\",Q$6=\"nytårsdag\",\"h\")","v":{"$error":"#N/A"}},{"$f":"_xlfn.IFS(R$7=\"søndag\",\"-\",R$6=\"skærtd\",\"h\",R$6=\"langfd\",\"h\",R$6=\"1påsked\",\"h\",R$6=\"2påsked\",\"h\",R$6=\"kr.himmelfart\",\"h\",R$6=\"1pinse\",\"h\",R$6=\"2pinse\",\"h\",R$6=\"1juledag\",\"h\",R$6=\"2juledag\",\"h\",R$6=\"nytårsdag\",\"h\")","v":{"$error":"#N/A"}},{"$f":"_xlfn.IFS(S$7=\"søndag\",\"-\",S$6=\"skærtd\",\"h\",S$6=\"langfd\",\"h\",S$6=\"1påsked\",\"h\",S$6=\"2påsked\",\"h\",S$6=\"kr.himmelfart\",\"h\",S$6=\"1pinse\",\"h\",S$6=\"2pinse\",\"h\",S$6=\"1juledag\",\"h\",S$6=\"2juledag\",\"h\",S$6=\"nytårsdag\",\"h\")","v":{"$error":"#N/A"}},{"$f":"_xlfn.IFS(T$7=\"søndag\",\"-\",T$6=\"skærtd\",\"h\",T$6=\"langfd\",\"h\",T$6=\"1påsked\",\"h\",T$6=\"2påsked\",\"h\",T$6=\"kr.himmelfart\",\"h\",T$6=\"1pinse\",\"h\",T$6=\"2pinse\",\"h\",T$6=\"1juledag\",\"h\",T$6=\"2juledag\",\"h\",T$6=\"nytårsdag\",\"h\")","v":"h"},{"$f":"_xlfn.IFS(U$7=\"søndag\",\"-\",U$6=\"skærtd\",\"h\",U$6=\"langfd\",\"h\",U$6=\"1påsked\",\"h\",U$6=\"2påsked\",\"h\",U$6=\"kr.himmelfart\",\"h\",U$6=\"1pinse\",\"h\",U$6=\"2pinse\",\"h\",U$6=\"1juledag\",\"h\",U$6=\"2juledag\",\"h\",U$6=\"nytårsdag\",\"h\")","v":"h"},{"$f":"_xlfn.IFS(V$7=\"søndag\",\"-\",V$6=\"skærtd\",\"h\",V$6=\"langfd\",\"h\",V$6=\"1påsked\",\"h\",V$6=\"2påsked\",\"h\",V$6=\"kr.himmelfart\",\"h\",V$6=\"1pinse\",\"h\",V$6=\"2pinse\",\"h\",V$6=\"1juledag\",\"h\",V$6=\"2juledag\",\"h\",V$6=\"nytårsdag\",\"h\")","v":{"$error":"#N/A"}},{"$f":"_xlfn.IFS(W$7=\"søndag\",\"-\",W$6=\"skærtd\",\"h\",W$6=\"langfd\",\"h\",W$6=\"1påsked\",\"h\",W$6=\"2påsked\",\"h\",W$6=\"kr.himmelfart\",\"h\",W$6=\"1pinse\",\"h\",W$6=\"2pinse\",\"h\",W$6=\"1juledag\",\"h\",W$6=\"2juledag\",\"h\",W$6=\"nytårsdag\",\"h\")","v":"-"},{"$f":"_xlfn.IFS(X$7=\"søndag\",\"-\",X$6=\"skærtd\",\"h\",X$6=\"langfd\",\"h\",X$6=\"1påsked\",\"h\",X$6=\"2påsked\",\"h\",X$6=\"kr.himmelfart\",\"h\",X$6=\"1pinse\",\"h\",X$6=\"2pinse\",\"h\",X$6=\"1juledag\",\"h\",X$6=\"2juledag\",\"h\",X$6=\"nytårsdag\",\"h\")","v":"h"},{"$f":"_xlfn.IFS(Y$7=\"søndag\",\"-\",Y$6=\"skærtd\",\"h\",Y$6=\"langfd\",\"h\",Y$6=\"1påsked\",\"h\",Y$6=\"2påsked\",\"h\",Y$6=\"kr.himmelfart\",\"h\",Y$6=\"1pinse\",\"h\",Y$6=\"2pinse\",\"h\",Y$6=\"1juledag\",\"h\",Y$6=\"2juledag\",\"h\",Y$6=\"nytårsdag\",\"h\")","v":{"$error":"#N/A"}},{"$f":"_xlfn.IFS(Z$7=\"søndag\",\"-\",Z$6=\"skærtd\",\"h\",Z$6=\"langfd\",\"h\",Z$6=\"1påsked\",\"h\",Z$6=\"2påsked\",\"h\",Z$6=\"kr.himmelfart\",\"h\",Z$6=\"1pinse\",\"h\",Z$6=\"2pinse\",\"h\",Z$6=\"1juledag\",\"h\",Z$6=\"2juledag\",\"h\",Z$6=\"nytårsdag\",\"h\")","v":{"$error":"#N/A"}},{"$f":"_xlfn.IFS(AA$7=\"søndag\",\"-\",AA$6=\"skærtd\",\"h\",AA$6=\"langfd\",\"h\",AA$6=\"1påsked\",\"h\",AA$6=\"2påsked\",\"h\",AA$6=\"kr.himmelfart\",\"h\",AA$6=\"1pinse\",\"h\",AA$6=\"2pinse\",\"h\",AA$6=\"1juledag\",\"h\",AA$6=\"2juledag\",\"h\",AA$6=\"nytårsdag\",\"h\")","v":{"$error":"#N/A"}},{"$f":"_xlfn.IFS(AB$7=\"søndag\",\"-\",AB$6=\"skærtd\",\"h\",AB$6=\"langfd\",\"h\",AB$6=\"1påsked\",\"h\",AB$6=\"2påsked\",\"h\",AB$6=\"kr.himmelfart\",\"h\",AB$6=\"1pinse\",\"h\",AB$6=\"2pinse\",\"h\",AB$6=\"1juledag\",\"h\",AB$6=\"2juledag\",\"h\",AB$6=\"nytårsdag\",\"h\")","v":{"$error":"#N/A"}},{"$f":"_xlfn.IFS(AC$7=\"søndag\",\"-\",AC$6=\"skærtd\",\"h\",AC$6=\"langfd\",\"h\",AC$6=\"1påsked\",\"h\",AC$6=\"2påsked\",\"h\",AC$6=\"kr.himmelfart\",\"h\",AC$6=\"1pinse\",\"h\",AC$6=\"2pinse\",\"h\",AC$6=\"1juledag\",\"h\",AC$6=\"2juledag\",\"h\",AC$6=\"nytårsdag\",\"h\")","v":{"$error":"#N/A"}},{"$f":"_xlfn.IFS(AD$7=\"søndag\",\"-\",AD$6=\"skærtd\",\"h\",AD$6=\"langfd\",\"h\",AD$6=\"1påsked\",\"h\",AD$6=\"2påsked\",\"h\",AD$6=\"kr.himmelfart\",\"h\",AD$6=\"1pinse\",\"h\",AD$6=\"2pinse\",\"h\",AD$6=\"1juledag\",\"h\",AD$6=\"2juledag\",\"h\",AD$6=\"nytårsdag\",\"h\")","v":"-"},{"$f":"_xlfn.IFS(AE$7=\"søndag\",\"-\",AE$6=\"skærtd\",\"h\",AE$6=\"langfd\",\"h\",AE$6=\"1påsked\",\"h\",AE$6=\"2påsked\",\"h\",AE$6=\"kr.himmelfart\",\"h\",AE$6=\"1pinse\",\"h\",AE$6=\"2pinse\",\"h\",AE$6=\"1juledag\",\"h\",AE$6=\"2juledag\",\"h\",AE$6=\"nytårsdag\",\"h\")","v":{"$error":"#N/A"}},{"$f":"_xlfn.IFS(AF$7=\"søndag\",\"-\",AF$6=\"skærtd\",\"h\",AF$6=\"langfd\",\"h\",AF$6=\"1påsked\",\"h\",AF$6=\"2påsked\",\"h\",AF$6=\"kr.himmelfart\",\"h\",AF$6=\"1pinse\",\"h\",AF$6=\"2pinse\",\"h\",AF$6=\"1juledag\",\"h\",AF$6=\"2juledag\",\"h\",AF$6=\"nytårsdag\",\"h\")","v":{"$error":"#N/A"}},{"$f":"_xlfn.IFS(AG$7=\"søndag\",\"-\",AG$6=\"skærtd\",\"h\",AG$6=\"langfd\",\"h\",AG$6=\"1påsked\",\"h\",AG$6=\"2påsked\",\"h\",AG$6=\"kr.himmelfart\",\"h\",AG$6=\"1pinse\",\"h\",AG$6=\"2pinse\",\"h\",AG$6=\"1juledag\",\"h\",AG$6=\"2juledag\",\"h\",AG$6=\"nytårsdag\",\"h\")","v":{"$error":"#N/A"}},{"$f":"_xlfn.IFS(AH$7=\"søndag\",\"-\",AH$6=\"skærtd\",\"h\",AH$6=\"langfd\",\"h\",AH$6=\"1påsked\",\"h\",AH$6=\"2påsked\",\"h\",AH$6=\"kr.himmelfart\",\"h\",AH$6=\"1pinse\",\"h\",AH$6=\"2pinse\",\"h\",AH$6=\"1juledag\",\"h\",AH$6=\"2juledag\",\"h\",AH$6=\"nytårsdag\",\"h\")","v":{"$error":"#N/A"}}]
[null,"Sygedage",null,{"$f":"IF(D145=\"s\",D144,\"-\")","v":"-"},{"$f":"IF(E145=\"s\",E144,\"-\")","v":"-"},"-","-","-","-","-","-","-","-","-","-","-","-","-","-","-","-","-","-","-","-","-","-","-","-","-","-","-","-","-"]
[null,null,{"$f":"$C$15","v":14},"Timer uge",null,null,{"$f":"SUMIF($D$5:$AH$5,C150,D144:AH144)","v":0},{"$f":"$H$15","v":15},{"$f":"D150","v":"Timer uge"},null,null,null,null,{"$f":"SUMIF($D$5:$AH$5,H150,D144:AH144)","v":0},{"$f":"$O$15","v":16},{"$f":"D150","v":"Timer uge"},null,null,null,null,{"$f":"_xlfn.IFS($O150=$BV143,$BV144,$O150=$BW143,Lønskema!$BW144,$O150=$BX143,$BX144,$O150=$BY143,$BY144,$O150=$BZ143,$BZ144,$O150=$CA143,$CA144,$O150=$CB143,$CB144,$O150=$CC143,$CC144,$O150=$CD143,$CD144,$O150=$CE143,$CE144,$O150=$CF143,$CF144,$O150=$CG143,$CF144,$O150=$CG143,$CG144,$O150=$CH143,$CH144,$O150=$CI143,$CI144,$O150=$CJ143,$CJ144,$O150=$CK143,$CK144,$O150=$CL143,$CL144,$O150=$CM143,$CM144,$O150=$CN143,$CN144,$O150=$CO143,$CO144,$O150=$CP143,$CP144,$O150=$CQ143,$CQ144,$O150=$CR143,$CR144,$O150=$CS143,$CS144,$O150=$CT143,$CT144,$O150=$CU143,$CU144,$O150=$CV143,$CV144,$O150=$CW143,$CW144,$O150=$CX143,$CX144,$O150=$CY143,$CY144,$O150=$CZ143,$CZ144,$O150=$DA143,$DA144,$O150=$DB143,$DB144,$O150=$DC143,$DC144,$O150=$DD143,$DD144,$O150=$DE143,$DE144,$O150=$DF143,$DF144,$O150=$DG143,$DG144,$O150=$DH143,$DH144,$O150=$DI143,$DI144,$O150=$DJ143,$DJ144,$O150=$DK143,$DK144,$O150=$DL143,$DL144,$O150=$DM143,$DM144,$O150=$DN143,$DN144,$O150=$DO143,$DO144,$O150=$DP143,$DP144,$O150=$DQ143,$DQ144,$O150=$DR143,$DR144,$O150=$DS143,$DS144,$O150=$DT143,$DT144,$O150=$DU143,$DU144)","v":0},{"$f":"$V$15","v":17},{"$f":"D150","v":"Timer uge"},null,null,null,null,{"$f":"SUMIF($D$5:$AH$5,V150,D144:AH144)","v":0},{"$f":"$AC$15","v":18},{"$f":"D150","v":"Timer uge"},null,null,null,{"$f":"SUMIF($D$5:$AH$5,AC150,D144:AH144)","v":0},{"$f":"$AI$15","v":19},{"$f":"D150","v":"Timer uge"},null,null,null,{"$f":"SUMIF($D$5:$AH$5,AI150,D144:AH144)","v":0}]
[null,null,null,"Overarbejde 50% 1-3 timer",null,null,{"$f":"IF($G150>37,$G150-37-$G152,0)","v":0},null,{"$f":"D151","v":"Overarbejde 50% 1-3 timer"},null,null,null,null,{"$f":"IF($N150>37,$N150-37-$N152,0)","v":0},null,{"$f":"D151","v":"Overarbejde 50% 1-3 timer"},null,null,null,null,{"$f":"IF($U150>37,$U150-37-$U152,0)","v":0},null,{"$f":"D151","v":"Overarbejde 50% 1-3 timer"},null,null,null,null,{"$f":"IF($AB150>37,$AB150-37-$AB152,0)","v":0},null,{"$f":"D151","v":"Overarbejde 50% 1-3 timer"},null,null,null,{"$f":"IF($AH150>37,$AH150-37-$AH152,0)","v":0},null,{"$f":"D151","v":"Overarbejde 50% 1-3 timer"},null,null,null,{"$f":"IF($AH150>37,$AH150-37-$AH152,0)","v":0}]
[null,null,null,"Overarbejde 100% over 3 timer",null,null,{"$f":"IF($G150>40,$G150-40,0)","v":0},null,"Overarbejde 100% over 3 timer",null,null,null,null,{"$f":"IF($N150>40,$N150-40,0)","v":0},null,"Overarbejde 100% over 3 timer",null,null,null,null,{"$f":"IF($U150>40,$U150-40,0)","v":0},null,"Overarbejde 100% over 3 timer",null,null,null,null,{"$f":"IF($AB150>40,$AB150-40,0)","v":0},null,"Overarbejde 100% over 3 timer",null,null,null,{"$f":"IF($AH150>40,$AH150-40,0)","v":0},null,{"$f":"D152","v":"Overarbejde 100% over 3 timer"},null,null,null,{"$f":"IF($AH150>40,$AH150-40,0)","v":0},null,null,null,null,null,null,null,null,null,null,null,null,null,null,null,null,null,null,null,null,null,null,null,null,null,null,null,null,null,null,null,null,null,1,2,3,4,5,6,7,8,9,10,11,12,13,14,15,16,17,18,19,20,21,22,23,24,25,26,27,28,29,30,31,32,33,34,35,36,37,38,39,40,41,42,43,44,45,46,47,48,49,50,51,52]
[{"$f":"Medarbejder!A19","v":0},{"$f":"Medarbejder!B19","v":0},{"$f":"Medarbejder!C19","v":"-"},null,null,null,null,null,null,null,null,null,null,null,null,null,null,null,null,null,null,null,null,null,null,null,null,null,null,null,null,null,null,null,null,null,null,null,null,null,null,{"$f":"AO153*Overenskomst!$C$22","v":0},{"$f":"SUM($D153:$AH153)-$BA153-$BF153-$BD153","v":0},{"$f":"IF(Medarbejder!$J19=\"ja\",$AQ153,\"-\")","v":"-"},{"$f":"SUMIF($D$7:$AH$7,\"søndag\",$D153:$AH153)+$AT153","v":0},{"$f":"SUMIFS($D153:$AH153,$D157:$AH157,\"H\")","v":0},{"$f":"G160+N160+U160+AB160+AH160+AN160","v":0},{"$f":"G161+N161+U161+AB161+AH161+AN161","v":0},{"$f":"SUM($D155:$AH155)","v":0},{"$f":"SUM($D156:$AH156)","v":0},{"$f":"COUNTIFS($D154:$AH154,\"F\")","v":0},{"$f":"COUNTIFS($D154:$AH154,\"S\")","v":0},{"$f":"SUMIF($D154:$AH154,\"S\",$D158:$AH158)","v":0},{"$f":"COUNTIFS($D154:$AH154,\"p\")","v":0},{"$f":"COUNTIFS($D154:$AH154,\"BS\")","v":0},{"$f":"SUMIF(D154:AH154,\"bs\",$D153:$AH153)","v":0},{"$f":"COUNTIFS($D154:$AH154,\"FF\")","v":0},{"$f":"SUMIF($D154:$AH154,\"g\",$D153:$AH153)","v":0},{"$f":"Medarbejder!$N19","v":"-"},{"$f":"SUM($BL153:$BU153)","v":4},null,null,null,{"$f":"COUNTIFS($D$6:$AH$6,\"skærtd\")","v":1},{"$f":"COUNTIFS($D$6:$AH$6,\"langfd\")","v":1},{"$f":"COUNTIFS($D$6:$AH$6,\"1påsked\")","v":1},{"$f":"COUNTIFS($D$6:$AH$6,\"2påsked\")","v":1},{"$f":"COUNTIFS($D$6:$AH$6,\"kr.himmelfart\")","v":0},{"$f":"COUNTIFS($D$6:$AH$6,\"1pinse\")","v":0},{"$f":"COUNTIFS($D$6:$AH$6,\"2pinse\")","v":0},{"$f":"COUNTIFS($D$6:$AH$6,\"1juledag\")","v":0},{"$f":"COUNTIFS($D$6:$AH$6,\"2juledag\")","v":0},{"$f":"COUNTIFS($D$6:$AH$6,\"nytårsdag\")","v":0},{"$f":"SUMIFS($D153:$AH153,Lønskema!$D$5:$AH$5,1)","v":0},{"$f":"SUMIFS($D153:$AH153,Lønskema!$D$5:$AH$5,2)","v":0},{"$f":"SUMIFS($D153:$AH153,Lønskema!$D$5:$AH$5,3)","v":0},{"$f":"SUMIFS($D153:$AH153,Lønskema!$D$5:$AH$5,4)","v":0},{"$f":"SUMIFS($D153:$AH153,Lønskema!$D$5:$AH$5,5)","v":0},{"$f":"SUMIFS($D153:$AH153,Lønskema!$D$5:$AH$5,6)","v":0},{"$f":"SUMIFS($D153:$AH153,Lønskema!$D$5:$AH$5,7)","v":0},{"$f":"SUMIFS($D153:$AH153,Lønskema!$D$5:$AH$5,8)","v":0},{"$f":"SUMIFS($D153:$AH153,Lønskema!$D$5:$AH$5,9)","v":0},{"$f":"SUMIFS($D153:$AH153,Lønskema!$D$5:$AH$5,10)","v":0},{"$f":"SUMIFS($D153:$AH153,Lønskema!$D$5:$AH$5,11)","v":0},{"$f":"SUMIFS($D153:$AH153,Lønskema!$D$5:$AH$5,12)","v":0},{"$f":"SUMIFS($D153:$AH153,Lønskema!$D$5:$AH$5,13)","v":0},{"$f":"SUMIFS($D153:$AH153,Lønskema!$D$5:$AH$5,14)","v":0},{"$f":"SUMIFS($D153:$AH153,Lønskema!$D$5:$AH$5,15)","v":0},{"$f":"SUMIFS($D153:$AH153,Lønskema!$D$5:$AH$5,16)","v":0},{"$f":"SUMIFS($D153:$AH153,Lønskema!$D$5:$AH$5,17)","v":0},{"$f":"SUMIFS($D153:$AH153,Lønskema!$D$5:$AH$5,18)","v":0},{"$f":"SUMIFS($D153:$AH153,Lønskema!$D$5:$AH$5,19)","v":0},{"$f":"SUMIFS($D153:$AH153,Lønskema!$D$5:$AH$5,20)","v":0},{"$f":"SUMIFS($D153:$AH153,Lønskema!$D$5:$AH$5,21)","v":0},{"$f":"SUMIFS($D153:$AH153,Lønskema!$D$5:$AH$5,22)","v":0},{"$f":"SUMIFS($D153:$AH153,Lønskema!$D$5:$AH$5,23)","v":0},{"$f":"SUMIFS($D153:$AH153,Lønskema!$D$5:$AH$5,24)","v":0},{"$f":"SUMIFS($D153:$AH153,Lønskema!$D$5:$AH$5,25)","v":0},{"$f":"SUMIFS($D153:$AH153,Lønskema!$D$5:$AH$5,26)","v":0},{"$f":"SUMIFS($D153:$AH153,Lønskema!$D$5:$AH$5,27)","v":0},{"$f":"SUMIFS($D153:$AH153,Lønskema!$D$5:$AH$5,28)","v":0},{"$f":"SUMIFS($D153:$AH153,Lønskema!$D$5:$AH$5,29)","v":0},{"$f":"SUMIFS($D153:$AH153,Lønskema!$D$5:$AH$5,30)","v":0},{"$f":"SUMIFS($D153:$AH153,Lønskema!$D$5:$AH$5,31)","v":0},{"$f":"SUMIFS($D153:$AH153,Lønskema!$D$5:$AH$5,32)","v":0},{"$f":"SUMIFS($D153:$AH153,Lønskema!$D$5:$AH$5,33)","v":0},{"$f":"SUMIFS($D153:$AH153,Lønskema!$D$5:$AH$5,34)","v":0},{"$f":"SUMIFS($D153:$AH153,Lønskema!$D$5:$AH$5,35)","v":0},{"$f":"SUMIFS($D153:$AH153,Lønskema!$D$5:$AH$5,36)","v":0},{"$f":"SUMIFS($D153:$AH153,Lønskema!$D$5:$AH$5,37)","v":0},{"$f":"SUMIFS($D153:$AH153,Lønskema!$D$5:$AH$5,38)","v":0},{"$f":"SUMIFS($D153:$AH153,Lønskema!$D$5:$AH$5,39)","v":0},{"$f":"SUMIFS($D153:$AH153,Lønskema!$D$5:$AH$5,40)","v":0},{"$f":"SUMIFS($D153:$AH153,Lønskema!$D$5:$AH$5,41)","v":0},{"$f":"SUMIFS($D153:$AH153,Lønskema!$D$5:$AH$5,42)","v":0},{"$f":"SUMIFS($D153:$AH153,Lønskema!$D$5:$AH$5,43)","v":0},{"$f":"SUMIFS($D153:$AH153,Lønskema!$D$5:$AH$5,44)","v":0},{"$f":"SUMIFS($D153:$AH153,Lønskema!$D$5:$AH$5,45)","v":0},{"$f":"SUMIFS($D153:$AH153,Lønskema!$D$5:$AH$5,46)","v":0},{"$f":"SUMIFS($D153:$AH153,Lønskema!$D$5:$AH$5,47)","v":0},{"$f":"SUMIFS($D153:$AH153,Lønskema!$D$5:$AH$5,48)","v":0},{"$f":"SUMIFS($D153:$AH153,Lønskema!$D$5:$AH$5,49)","v":0},{"$f":"SUMIFS($D153:$AH153,Lønskema!$D$5:$AH$5,50)","v":0},{"$f":"SUMIFS($D153:$AH153,Lønskema!$D$5:$AH$5,51)","v":0},{"$f":"SUMIFS($D153:$AH153,Lønskema!$D$5:$AH$5,52)","v":0}]
["Ferie - syg  mm. Registreres i denne række"]
[null,"Aften"]
[null,"Nat"]
[null,"Helligdag",null,{"$f":"_xlfn.IFS(D$7=\"søndag\",\"-\",D$6=\"skærtd\",\"h\",D$6=\"langfd\",\"h\",D$6=\"1påsked\",\"h\",D$6=\"2påsked\",\"h\",D$6=\"kr.himmelfart\",\"h\",D$6=\"1pinse\",\"h\",D$6=\"2pinse\",\"h\",D$6=\"1juledag\",\"h\",D$6=\"2juledag\",\"h\",D$6=\"nytårsdag\",\"h\")","v":{"$error":"#N/A"}},{"$f":"_xlfn.IFS(E$7=\"søndag\",\"-\",E$6=\"skærtd\",\"h\",E$6=\"langfd\",\"h\",E$6=\"1påsked\",\"h\",E$6=\"2påsked\",\"h\",E$6=\"kr.himmelfart\",\"h\",E$6=\"1pinse\",\"h\",E$6=\"2pinse\",\"h\",E$6=\"1juledag\",\"h\",E$6=\"2juledag\",\"h\",E$6=\"nytårsdag\",\"h\")","v":{"$error":"#N/A"}},{"$f":"_xlfn.IFS(F$7=\"søndag\",\"-\",F$6=\"skærtd\",\"h\",F$6=\"langfd\",\"h\",F$6=\"1påsked\",\"h\",F$6=\"2påsked\",\"h\",F$6=\"kr.himmelfart\",\"h\",F$6=\"1pinse\",\"h\",F$6=\"2pinse\",\"h\",F$6=\"1juledag\",\"h\",F$6=\"2juledag\",\"h\",F$6=\"nytårsdag\",\"h\")","v":{"$error":"#N/A"}},{"$f":"_xlfn.IFS(G$7=\"søndag\",\"-\",G$6=\"skærtd\",\"h\",G$6=\"langfd\",\"h\",G$6=\"1påsked\",\"h\",G$6=\"2påsked\",\"h\",G$6=\"kr.himmelfart\",\"h\",G$6=\"1pinse\",\"h\",G$6=\"2pinse\",\"h\",G$6=\"1juledag\",\"h\",G$6=\"2juledag\",\"h\",G$6=\"nytårsdag\",\"h\")","v":{"$error":"#N/A"}},{"$f":"_xlfn.IFS(H$7=\"søndag\",\"-\",H$6=\"skærtd\",\"h\",H$6=\"langfd\",\"h\",H$6=\"1påsked\",\"h\",H$6=\"2påsked\",\"h\",H$6=\"kr.himmelfart\",\"h\",H$6=\"1pinse\",\"h\",H$6=\"2pinse\",\"h\",H$6=\"1juledag\",\"h\",H$6=\"2juledag\",\"h\",H$6=\"nytårsdag\",\"h\")","v":{"$error":"#N/A"}},{"$f":"_xlfn.IFS(I$7=\"søndag\",\"-\",I$6=\"skærtd\",\"h\",I$6=\"langfd\",\"h\",I$6=\"1påsked\",\"h\",I$6=\"2påsked\",\"h\",I$6=\"kr.himmelfart\",\"h\",I$6=\"1pinse\",\"h\",I$6=\"2pinse\",\"h\",I$6=\"1juledag\",\"h\",I$6=\"2juledag\",\"h\",I$6=\"nytårsdag\",\"h\")","v":"-"},{"$f":"_xlfn.IFS(J$7=\"søndag\",\"-\",J$6=\"skærtd\",\"h\",J$6=\"langfd\",\"h\",J$6=\"1påsked\",\"h\",J$6=\"2påsked\",\"h\",J$6=\"kr.himmelfart\",\"h\",J$6=\"1pinse\",\"h\",J$6=\"2pinse\",\"h\",J$6=\"1juledag\",\"h\",J$6=\"2juledag\",\"h\",J$6=\"nytårsdag\",\"h\")","v":{"$error":"#N/A"}},{"$f":"_xlfn.IFS(K$7=\"søndag\",\"-\",K$6=\"skærtd\",\"h\",K$6=\"langfd\",\"h\",K$6=\"1påsked\",\"h\",K$6=\"2påsked\",\"h\",K$6=\"kr.himmelfart\",\"h\",K$6=\"1pinse\",\"h\",K$6=\"2pinse\",\"h\",K$6=\"1juledag\",\"h\",K$6=\"2juledag\",\"h\",K$6=\"nytårsdag\",\"h\")","v":{"$error":"#N/A"}},{"$f":"_xlfn.IFS(L$7=\"søndag\",\"-\",L$6=\"skærtd\",\"h\",L$6=\"langfd\",\"h\",L$6=\"1påsked\",\"h\",L$6=\"2påsked\",\"h\",L$6=\"kr.himmelfart\",\"h\",L$6=\"1pinse\",\"h\",L$6=\"2pinse\",\"h\",L$6=\"1juledag\",\"h\",L$6=\"2juledag\",\"h\",L$6=\"nytårsdag\",\"h\")","v":{"$error":"#N/A"}},{"$f":"_xlfn.IFS(M$7=\"søndag\",\"-\",M$6=\"skærtd\",\"h\",M$6=\"langfd\",\"h\",M$6=\"1påsked\",\"h\",M$6=\"2påsked\",\"h\",M$6=\"kr.himmelfart\",\"h\",M$6=\"1pinse\",\"h\",M$6=\"2pinse\",\"h\",M$6=\"1juledag\",\"h\",M$6=\"2juledag\",\"h\",M$6=\"nytårsdag\",\"h\")","v":{"$error":"#N/A"}},{"$f":"_xlfn.IFS(N$7=\"søndag\",\"-\",N$6=\"skærtd\",\"h\",N$6=\"langfd\",\"h\",N$6=\"1påsked\",\"h\",N$6=\"2påsked\",\"h\",N$6=\"kr.himmelfart\",\"h\",N$6=\"1pinse\",\"h\",N$6=\"2pinse\",\"h\",N$6=\"1juledag\",\"h\",N$6=\"2juledag\",\"h\",N$6=\"nytårsdag\",\"h\")","v":{"$error":"#N/A"}},{"$f":"_xlfn.IFS(O$7=\"søndag\",\"-\",O$6=\"skærtd\",\"h\",O$6=\"langfd\",\"h\",O$6=\"1påsked\",\"h\",O$6=\"2påsked\",\"h\",O$6=\"kr.himmelfart\",\"h\",O$6=\"1pinse\",\"h\",O$6=\"2pinse\",\"h\",O$6=\"1juledag\",\"h\",O$6=\"2juledag\",\"h\",O$6=\"nytårsdag\",\"h\")","v":{"$error":"#N/A"}},{"$f":"_xlfn.IFS(P$7=\"søndag\",\"-\",P$6=\"skærtd\",\"h\",P$6=\"langfd\",\"h\",P$6=\"1påsked\",\"h\",P$6=\"2påsked\",\"h\",P$6=\"kr.himmelfart\",\"h\",P$6=\"1pinse\",\"h\",P$6=\"2pinse\",\"h\",P$6=\"1juledag\",\"h\",P$6=\"2juledag\",\"h\",P$6=\"nytårsdag\",\"h\")","v":"-"},{"$f":"_xlfn.IFS(Q$7=\"søndag\",\"-\",Q$6=\"skærtd\",\"h\",Q$6=\"langfd\",\"h\",Q$6=\"1påsked\",\"h\",Q$6=\"2påsked\",\"h\",Q$6=\"kr.himmelfart\",\"h\",Q$6=\"1pinse\",\"h\",Q$6=\"2pinse\",\"h\",Q$6=\"1juledag\",\"h\",Q$6=\"2juledag\",\"h\",Q$6=\"nytårsdag\",\"h\")","v":{"$error":"#N/A"}},{"$f":"_xlfn.IFS(R$7=\"søndag\",\"-\",R$6=\"skærtd\",\"h\",R$6=\"langfd\",\"h\",R$6=\"1påsked\",\"h\",R$6=\"2påsked\",\"h\",R$6=\"kr.himmelfart\",\"h\",R$6=\"1pinse\",\"h\",R$6=\"2pinse\",\"h\",R$6=\"1juledag\",\"h\",R$6=\"2juledag\",\"h\",R$6=\"nytårsdag\",\"h\")","v":{"$error":"#N/A"}},{"$f":"_xlfn.IFS(S$7=\"søndag\",\"-\",S$6=\"skærtd\",\"h\",S$6=\"langfd\",\"h\",S$6=\"1påsked\",\"h\",S$6=\"2påsked\",\"h\",S$6=\"kr.himmelfart\",\"h\",S$6=\"1pinse\",\"h\",S$6=\"2pinse\",\"h\",S$6=\"1juledag\",\"h\",S$6=\"2juledag\",\"h\",S$6=\"nytårsdag\",\"h\")","v":{"$error":"#N/A"}},{"$f":"_xlfn.IFS(T$7=\"søndag\",\"-\",T$6=\"skærtd\",\"h\",T$6=\"langfd\",\"h\",T$6=\"1påsked\",\"h\",T$6=\"2påsked\",\"h\",T$6=\"kr.himmelfart\",\"h\",T$6=\"1pinse\",\"h\",T$6=\"2pinse\",\"h\",T$6=\"1juledag\",\"h\",T$6=\"2juledag\",\"h\",T$6=\"nytårsdag\",\"h\")","v":"h"},{"$f":"_xlfn.IFS(U$7=\"søndag\",\"-\",U$6=\"skærtd\",\"h\",U$6=\"langfd\",\"h\",U$6=\"1påsked\",\"h\",U$6=\"2påsked\",\"h\",U$6=\"kr.himmelfart\",\"h\",U$6=\"1pinse\",\"h\",U$6=\"2pinse\",\"h\",U$6=\"1juledag\",\"h\",U$6=\"2juledag\",\"h\",U$6=\"nytårsdag\",\"h\")","v":"h"},{"$f":"_xlfn.IFS(V$7=\"søndag\",\"-\",V$6=\"skærtd\",\"h\",V$6=\"langfd\",\"h\",V$6=\"1påsked\",\"h\",V$6=\"2påsked\",\"h\",V$6=\"kr.himmelfart\",\"h\",V$6=\"1pinse\",\"h\",V$6=\"2pinse\",\"h\",V$6=\"1juledag\",\"h\",V$6=\"2juledag\",\"h\",V$6=\"nytårsdag\",\"h\")","v":{"$error":"#N/A"}},{"$f":"_xlfn.IFS(W$7=\"søndag\",\"-\",W$6=\"skærtd\",\"h\",W$6=\"langfd\",\"h\",W$6=\"1påsked\",\"h\",W$6=\"2påsked\",\"h\",W$6=\"kr.himmelfart\",\"h\",W$6=\"1pinse\",\"h\",W$6=\"2pinse\",\"h\",W$6=\"1juledag\",\"h\",W$6=\"2juledag\",\"h\",W$6=\"nytårsdag\",\"h\")","v":"-"},{"$f":"_xlfn.IFS(X$7=\"søndag\",\"-\",X$6=\"skærtd\",\"h\",X$6=\"langfd\",\"h\",X$6=\"1påsked\",\"h\",X$6=\"2påsked\",\"h\",X$6=\"kr.himmelfart\",\"h\",X$6=\"1pinse\",\"h\",X$6=\"2pinse\",\"h\",X$6=\"1juledag\",\"h\",X$6=\"2juledag\",\"h\",X$6=\"nytårsdag\",\"h\")","v":"h"},{"$f":"_xlfn.IFS(Y$7=\"søndag\",\"-\",Y$6=\"skærtd\",\"h\",Y$6=\"langfd\",\"h\",Y$6=\"1påsked\",\"h\",Y$6=\"2påsked\",\"h\",Y$6=\"kr.himmelfart\",\"h\",Y$6=\"1pinse\",\"h\",Y$6=\"2pinse\",\"h\",Y$6=\"1juledag\",\"h\",Y$6=\"2juledag\",\"h\",Y$6=\"nytårsdag\",\"h\")","v":{"$error":"#N/A"}},{"$f":"_xlfn.IFS(Z$7=\"søndag\",\"-\",Z$6=\"skærtd\",\"h\",Z$6=\"langfd\",\"h\",Z$6=\"1påsked\",\"h\",Z$6=\"2påsked\",\"h\",Z$6=\"kr.himmelfart\",\"h\",Z$6=\"1pinse\",\"h\",Z$6=\"2pinse\",\"h\",Z$6=\"1juledag\",\"h\",Z$6=\"2juledag\",\"h\",Z$6=\"nytårsdag\",\"h\")","v":{"$error":"#N/A"}},{"$f":"_xlfn.IFS(AA$7=\"søndag\",\"-\",AA$6=\"skærtd\",\"h\",AA$6=\"langfd\",\"h\",AA$6=\"1påsked\",\"h\",AA$6=\"2påsked\",\"h\",AA$6=\"kr.himmelfart\",\"h\",AA$6=\"1pinse\",\"h\",AA$6=\"2pinse\",\"h\",AA$6=\"1juledag\",\"h\",AA$6=\"2juledag\",\"h\",AA$6=\"nytårsdag\",\"h\")","v":{"$error":"#N/A"}},{"$f":"_xlfn.IFS(AB$7=\"søndag\",\"-\",AB$6=\"skærtd\",\"h\",AB$6=\"langfd\",\"h\",AB$6=\"1påsked\",\"h\",AB$6=\"2påsked\",\"h\",AB$6=\"kr.himmelfart\",\"h\",AB$6=\"1pinse\",\"h\",AB$6=\"2pinse\",\"h\",AB$6=\"1juledag\",\"h\",AB$6=\"2juledag\",\"h\",AB$6=\"nytårsdag\",\"h\")","v":{"$error":"#N/A"}},{"$f":"_xlfn.IFS(AC$7=\"søndag\",\"-\",AC$6=\"skærtd\",\"h\",AC$6=\"langfd\",\"h\",AC$6=\"1påsked\",\"h\",AC$6=\"2påsked\",\"h\",AC$6=\"kr.himmelfart\",\"h\",AC$6=\"1pinse\",\"h\",AC$6=\"2pinse\",\"h\",AC$6=\"1juledag\",\"h\",AC$6=\"2juledag\",\"h\",AC$6=\"nytårsdag\",\"h\")","v":{"$error":"#N/A"}},{"$f":"_xlfn.IFS(AD$7=\"søndag\",\"-\",AD$6=\"skærtd\",\"h\",AD$6=\"langfd\",\"h\",AD$6=\"1påsked\",\"h\",AD$6=\"2påsked\",\"h\",AD$6=\"kr.himmelfart\",\"h\",AD$6=\"1pinse\",\"h\",AD$6=\"2pinse\",\"h\",AD$6=\"1juledag\",\"h\",AD$6=\"2juledag\",\"h\",AD$6=\"nytårsdag\",\"h\")","v":"-"},{"$f":"_xlfn.IFS(AE$7=\"søndag\",\"-\",AE$6=\"skærtd\",\"h\",AE$6=\"langfd\",\"h\",AE$6=\"1påsked\",\"h\",AE$6=\"2påsked\",\"h\",AE$6=\"kr.himmelfart\",\"h\",AE$6=\"1pinse\",\"h\",AE$6=\"2pinse\",\"h\",AE$6=\"1juledag\",\"h\",AE$6=\"2juledag\",\"h\",AE$6=\"nytårsdag\",\"h\")","v":{"$error":"#N/A"}},{"$f":"_xlfn.IFS(AF$7=\"søndag\",\"-\",AF$6=\"skærtd\",\"h\",AF$6=\"langfd\",\"h\",AF$6=\"1påsked\",\"h\",AF$6=\"2påsked\",\"h\",AF$6=\"kr.himmelfart\",\"h\",AF$6=\"1pinse\",\"h\",AF$6=\"2pinse\",\"h\",AF$6=\"1juledag\",\"h\",AF$6=\"2juledag\",\"h\",AF$6=\"nytårsdag\",\"h\")","v":{"$error":"#N/A"}},{"$f":"_xlfn.IFS(AG$7=\"søndag\",\"-\",AG$6=\"skærtd\",\"h\",AG$6=\"langfd\",\"h\",AG$6=\"1påsked\",\"h\",AG$6=\"2påsked\",\"h\",AG$6=\"kr.himmelfart\",\"h\",AG$6=\"1pinse\",\"h\",AG$6=\"2pinse\",\"h\",AG$6=\"1juledag\",\"h\",AG$6=\"2juledag\",\"h\",AG$6=\"nytårsdag\",\"h\")","v":{"$error":"#N/A"}},{"$f":"_xlfn.IFS(AH$7=\"søndag\",\"-\",AH$6=\"skærtd\",\"h\",AH$6=\"langfd\",\"h\",AH$6=\"1påsked\",\"h\",AH$6=\"2påsked\",\"h\",AH$6=\"kr.himmelfart\",\"h\",AH$6=\"1pinse\",\"h\",AH$6=\"2pinse\",\"h\",AH$6=\"1juledag\",\"h\",AH$6=\"2juledag\",\"h\",AH$6=\"nytårsdag\",\"h\")","v":{"$error":"#N/A"}}]
[null,"Sygedage",null,{"$f":"IF(D154=\"s\",D153,\"-\")","v":"-"},{"$f":"IF(E154=\"s\",E153,\"-\")","v":"-"},"-","-","-","-","-","-","-","-","-","-","-","-","-","-","-","-","-","-","-","-","-","-","-","-","-","-","-","-","-"]
[null,null,{"$f":"$C$15","v":14},"Timer uge",null,null,{"$f":"SUMIF($D$5:$AH$5,C159,D153:AH153)","v":0},{"$f":"$H$15","v":15},{"$f":"D159","v":"Timer uge"},null,null,null,null,{"$f":"SUMIF($D$5:$AH$5,H159,D153:AH153)","v":0},{"$f":"$O$15","v":16},{"$f":"D159","v":"Timer uge"},null,null,null,null,{"$f":"_xlfn.IFS($O159=$BV152,$BV153,$O159=$BW152,Lønskema!$BW153,$O159=$BX152,$BX153,$O159=$BY152,$BY153,$O159=$BZ152,$BZ153,$O159=$CA152,$CA153,$O159=$CB152,$CB153,$O159=$CC152,$CC153,$O159=$CD152,$CD153,$O159=$CE152,$CE153,$O159=$CF152,$CF153,$O159=$CG152,$CF153,$O159=$CG152,$CG153,$O159=$CH152,$CH153,$O159=$CI152,$CI153,$O159=$CJ152,$CJ153,$O159=$CK152,$CK153,$O159=$CL152,$CL153,$O159=$CM152,$CM153,$O159=$CN152,$CN153,$O159=$CO152,$CO153,$O159=$CP152,$CP153,$O159=$CQ152,$CQ153,$O159=$CR152,$CR153,$O159=$CS152,$CS153,$O159=$CT152,$CT153,$O159=$CU152,$CU153,$O159=$CV152,$CV153,$O159=$CW152,$CW153,$O159=$CX152,$CX153,$O159=$CY152,$CY153,$O159=$CZ152,$CZ153,$O159=$DA152,$DA153,$O159=$DB152,$DB153,$O159=$DC152,$DC153,$O159=$DD152,$DD153,$O159=$DE152,$DE153,$O159=$DF152,$DF153,$O159=$DG152,$DG153,$O159=$DH152,$DH153,$O159=$DI152,$DI153,$O159=$DJ152,$DJ153,$O159=$DK152,$DK153,$O159=$DL152,$DL153,$O159=$DM152,$DM153,$O159=$DN152,$DN153,$O159=$DO152,$DO153,$O159=$DP152,$DP153,$O159=$DQ152,$DQ153,$O159=$DR152,$DR153,$O159=$DS152,$DS153,$O159=$DT152,$DT153,$O159=$DU152,$DU153)","v":0},{"$f":"$V$15","v":17},{"$f":"D159","v":"Timer uge"},null,null,null,null,{"$f":"SUMIF($D$5:$AH$5,V159,D153:AH153)","v":0},{"$f":"$AC$15","v":18},{"$f":"D159","v":"Timer uge"},null,null,null,{"$f":"SUMIF($D$5:$AH$5,AC159,D153:AH153)","v":0},{"$f":"$AI$15","v":19},{"$f":"D159","v":"Timer uge"},null,null,null,{"$f":"SUMIF($D$5:$AH$5,AI159,D153:AH153)","v":0}]
[null,null,null,"Overarbejde 50% 1-3 timer",null,null,{"$f":"IF($G159>37,$G159-37-$G161,0)","v":0},null,{"$f":"D160","v":"Overarbejde 50% 1-3 timer"},null,null,null,null,{"$f":"IF($N159>37,$N159-37-$N161,0)","v":0},null,{"$f":"D160","v":"Overarbejde 50% 1-3 timer"},null,null,null,null,{"$f":"IF($U159>37,$U159-37-$U161,0)","v":0},null,{"$f":"D160","v":"Overarbejde 50% 1-3 timer"},null,null,null,null,{"$f":"IF($AB159>37,$AB159-37-$AB161,0)","v":0},null,{"$f":"D160","v":"Overarbejde 50% 1-3 timer"},null,null,null,{"$f":"IF($AH159>37,$AH159-37-$AH161,0)","v":0},null,{"$f":"D160","v":"Overarbejde 50% 1-3 timer"},null,null,null,{"$f":"IF($AH159>37,$AH159-37-$AH161,0)","v":0}]
[null,null,null,"Overarbejde 100% over 3 timer",null,null,{"$f":"IF($G159>40,$G159-40,0)","v":0},null,"Overarbejde 100% over 3 timer",null,null,null,null,{"$f":"IF($N159>40,$N159-40,0)","v":0},null,"Overarbejde 100% over 3 timer",null,null,null,null,{"$f":"IF($U159>40,$U159-40,0)","v":0},null,"Overarbejde 100% over 3 timer",null,null,null,null,{"$f":"IF($AB159>40,$AB159-40,0)","v":0},null,"Overarbejde 100% over 3 timer",null,null,null,{"$f":"IF($AH159>40,$AH159-40,0)","v":0},null,{"$f":"D161","v":"Overarbejde 100% over 3 timer"},null,null,null,{"$f":"IF($AH159>40,$AH159-40,0)","v":0},null,null,null,null,null,null,null,null,null,null,null,null,null,null,null,null,null,null,null,null,null,null,null,null,null,null,null,null,null,null,null,null,null,1,2,3,4,5,6,7,8,9,10,11,12,13,14,15,16,17,18,19,20,21,22,23,24,25,26,27,28,29,30,31,32,33,34,35,36,37,38,39,40,41,42,43,44,45,46,47,48,49,50,51,52]
[{"$f":"Medarbejder!A20","v":0},{"$f":"Medarbejder!B20","v":0},{"$f":"Medarbejder!C20","v":"-"},null,null,null,null,null,null,null,null,null,null,null,null,null,null,null,null,null,null,null,null,null,null,null,null,null,null,null,null,null,null,null,null,null,null,null,null,null,null,{"$f":"AO162*Overenskomst!$C$22","v":0},{"$f":"SUM($D162:$AH162)-$BA162-$BF162-$BD162","v":0},{"$f":"IF(Medarbejder!$J20=\"ja\",$AQ162,\"-\")","v":"-"},{"$f":"SUMIF($D$7:$AH$7,\"søndag\",$D162:$AH162)+$AT162","v":0},{"$f":"SUMIFS($D162:$AH162,$D166:$AH166,\"H\")","v":0},{"$f":"G169+N169+U169+AB169+AH169+AN169","v":0},{"$f":"G170+N170+U170+AB170+AH170+AN170","v":0},{"$f":"SUM($D164:$AH164)","v":0},{"$f":"SUMIF($D163:$AH163,\"N\",$D165:$AH165)","v":0},{"$f":"COUNTIFS($D163:$AH163,\"F\")","v":0},{"$f":"COUNTIFS($D163:$AH163,\"S\")","v":0},{"$f":"SUMIF($D163:$AH163,\"S\",$D167:$AH167)","v":0},{"$f":"COUNTIFS($D163:$AH163,\"p\")","v":0},{"$f":"COUNTIFS($D163:$AH163,\"BS\")","v":0},{"$f":"SUMIF(D163:AH163,\"bs\",$D162:$AH162)","v":0},{"$f":"COUNTIFS($D163:$AH163,\"FF\")","v":0},{"$f":"SUMIF($D163:$AH163,\"g\",$D162:$AH162)","v":0},{"$f":"Medarbejder!$N20","v":"-"},{"$f":"SUM($BL162:$BU162)","v":4},null,null,null,{"$f":"COUNTIFS($D$6:$AH$6,\"skærtd\")","v":1},{"$f":"COUNTIFS($D$6:$AH$6,\"langfd\")","v":1},{"$f":"COUNTIFS($D$6:$AH$6,\"1påsked\")","v":1},{"$f":"COUNTIFS($D$6:$AH$6,\"2påsked\")","v":1},{"$f":"COUNTIFS($D$6:$AH$6,\"kr.himmelfart\")","v":0},{"$f":"COUNTIFS($D$6:$AH$6,\"1pinse\")","v":0},{"$f":"COUNTIFS($D$6:$AH$6,\"2pinse\")","v":0},{"$f":"COUNTIFS($D$6:$AH$6,\"1juledag\")","v":0},{"$f":"COUNTIFS($D$6:$AH$6,\"2juledag\")","v":0},{"$f":"COUNTIFS($D$6:$AH$6,\"nytårsdag\")","v":0},{"$f":"SUMIFS($D162:$AH162,Lønskema!$D$5:$AH$5,1)","v":0},{"$f":"SUMIFS($D162:$AH162,Lønskema!$D$5:$AH$5,2)","v":0},{"$f":"SUMIFS($D162:$AH162,Lønskema!$D$5:$AH$5,3)","v":0},{"$f":"SUMIFS($D162:$AH162,Lønskema!$D$5:$AH$5,4)","v":0},{"$f":"SUMIFS($D162:$AH162,Lønskema!$D$5:$AH$5,5)","v":0},{"$f":"SUMIFS($D162:$AH162,Lønskema!$D$5:$AH$5,6)","v":0},{"$f":"SUMIFS($D162:$AH162,Lønskema!$D$5:$AH$5,7)","v":0},{"$f":"SUMIFS($D162:$AH162,Lønskema!$D$5:$AH$5,8)","v":0},{"$f":"SUMIFS($D162:$AH162,Lønskema!$D$5:$AH$5,9)","v":0},{"$f":"SUMIFS($D162:$AH162,Lønskema!$D$5:$AH$5,10)","v":0},{"$f":"SUMIFS($D162:$AH162,Lønskema!$D$5:$AH$5,11)","v":0},{"$f":"SUMIFS($D162:$AH162,Lønskema!$D$5:$AH$5,12)","v":0},{"$f":"SUMIFS($D162:$AH162,Lønskema!$D$5:$AH$5,13)","v":0},{"$f":"SUMIFS($D162:$AH162,Lønskema!$D$5:$AH$5,14)","v":0},{"$f":"SUMIFS($D162:$AH162,Lønskema!$D$5:$AH$5,15)","v":0},{"$f":"SUMIFS($D162:$AH162,Lønskema!$D$5:$AH$5,16)","v":0},{"$f":"SUMIFS($D162:$AH162,Lønskema!$D$5:$AH$5,17)","v":0},{"$f":"SUMIFS($D162:$AH162,Lønskema!$D$5:$AH$5,18)","v":0},{"$f":"SUMIFS($D162:$AH162,Lønskema!$D$5:$AH$5,19)","v":0},{"$f":"SUMIFS($D162:$AH162,Lønskema!$D$5:$AH$5,20)","v":0},{"$f":"SUMIFS($D162:$AH162,Lønskema!$D$5:$AH$5,21)","v":0},{"$f":"SUMIFS($D162:$AH162,Lønskema!$D$5:$AH$5,22)","v":0},{"$f":"SUMIFS($D162:$AH162,Lønskema!$D$5:$AH$5,23)","v":0},{"$f":"SUMIFS($D162:$AH162,Lønskema!$D$5:$AH$5,24)","v":0},{"$f":"SUMIFS($D162:$AH162,Lønskema!$D$5:$AH$5,25)","v":0},{"$f":"SUMIFS($D162:$AH162,Lønskema!$D$5:$AH$5,26)","v":0},{"$f":"SUMIFS($D162:$AH162,Lønskema!$D$5:$AH$5,27)","v":0},{"$f":"SUMIFS($D162:$AH162,Lønskema!$D$5:$AH$5,28)","v":0},{"$f":"SUMIFS($D162:$AH162,Lønskema!$D$5:$AH$5,29)","v":0},{"$f":"SUMIFS($D162:$AH162,Lønskema!$D$5:$AH$5,30)","v":0},{"$f":"SUMIFS($D162:$AH162,Lønskema!$D$5:$AH$5,31)","v":0},{"$f":"SUMIFS($D162:$AH162,Lønskema!$D$5:$AH$5,32)","v":0},{"$f":"SUMIFS($D162:$AH162,Lønskema!$D$5:$AH$5,33)","v":0},{"$f":"SUMIFS($D162:$AH162,Lønskema!$D$5:$AH$5,34)","v":0},{"$f":"SUMIFS($D162:$AH162,Lønskema!$D$5:$AH$5,35)","v":0},{"$f":"SUMIFS($D162:$AH162,Lønskema!$D$5:$AH$5,36)","v":0},{"$f":"SUMIFS($D162:$AH162,Lønskema!$D$5:$AH$5,37)","v":0},{"$f":"SUMIFS($D162:$AH162,Lønskema!$D$5:$AH$5,38)","v":0},{"$f":"SUMIFS($D162:$AH162,Lønskema!$D$5:$AH$5,39)","v":0},{"$f":"SUMIFS($D162:$AH162,Lønskema!$D$5:$AH$5,40)","v":0},{"$f":"SUMIFS($D162:$AH162,Lønskema!$D$5:$AH$5,41)","v":0},{"$f":"SUMIFS($D162:$AH162,Lønskema!$D$5:$AH$5,42)","v":0},{"$f":"SUMIFS($D162:$AH162,Lønskema!$D$5:$AH$5,43)","v":0},{"$f":"SUMIFS($D162:$AH162,Lønskema!$D$5:$AH$5,44)","v":0},{"$f":"SUMIFS($D162:$AH162,Lønskema!$D$5:$AH$5,45)","v":0},{"$f":"SUMIFS($D162:$AH162,Lønskema!$D$5:$AH$5,46)","v":0},{"$f":"SUMIFS($D162:$AH162,Lønskema!$D$5:$AH$5,47)","v":0},{"$f":"SUMIFS($D162:$AH162,Lønskema!$D$5:$AH$5,48)","v":0},{"$f":"SUMIFS($D162:$AH162,Lønskema!$D$5:$AH$5,49)","v":0},{"$f":"SUMIFS($D162:$AH162,Lønskema!$D$5:$AH$5,50)","v":0},{"$f":"SUMIFS($D162:$AH162,Lønskema!$D$5:$AH$5,51)","v":0},{"$f":"SUMIFS($D162:$AH162,Lønskema!$D$5:$AH$5,52)","v":0}]
["Ferie - syg  mm. Registreres i denne række"]
[null,"Aften"]
[null,"Nat"]
[null,"Helligdag",null,{"$f":"_xlfn.IFS(D$7=\"søndag\",\"-\",D$6=\"skærtd\",\"h\",D$6=\"langfd\",\"h\",D$6=\"1påsked\",\"h\",D$6=\"2påsked\",\"h\",D$6=\"kr.himmelfart\",\"h\",D$6=\"1pinse\",\"h\",D$6=\"2pinse\",\"h\",D$6=\"1juledag\",\"h\",D$6=\"2juledag\",\"h\",D$6=\"nytårsdag\",\"h\")","v":{"$error":"#N/A"}},{"$f":"_xlfn.IFS(E$7=\"søndag\",\"-\",E$6=\"skærtd\",\"h\",E$6=\"langfd\",\"h\",E$6=\"1påsked\",\"h\",E$6=\"2påsked\",\"h\",E$6=\"kr.himmelfart\",\"h\",E$6=\"1pinse\",\"h\",E$6=\"2pinse\",\"h\",E$6=\"1juledag\",\"h\",E$6=\"2juledag\",\"h\",E$6=\"nytårsdag\",\"h\")","v":{"$error":"#N/A"}},{"$f":"_xlfn.IFS(F$7=\"søndag\",\"-\",F$6=\"skærtd\",\"h\",F$6=\"langfd\",\"h\",F$6=\"1påsked\",\"h\",F$6=\"2påsked\",\"h\",F$6=\"kr.himmelfart\",\"h\",F$6=\"1pinse\",\"h\",F$6=\"2pinse\",\"h\",F$6=\"1juledag\",\"h\",F$6=\"2juledag\",\"h\",F$6=\"nytårsdag\",\"h\")","v":{"$error":"#N/A"}},{"$f":"_xlfn.IFS(G$7=\"søndag\",\"-\",G$6=\"skærtd\",\"h\",G$6=\"langfd\",\"h\",G$6=\"1påsked\",\"h\",G$6=\"2påsked\",\"h\",G$6=\"kr.himmelfart\",\"h\",G$6=\"1pinse\",\"h\",G$6=\"2pinse\",\"h\",G$6=\"1juledag\",\"h\",G$6=\"2juledag\",\"h\",G$6=\"nytårsdag\",\"h\")","v":{"$error":"#N/A"}},{"$f":"_xlfn.IFS(H$7=\"søndag\",\"-\",H$6=\"skærtd\",\"h\",H$6=\"langfd\",\"h\",H$6=\"1påsked\",\"h\",H$6=\"2påsked\",\"h\",H$6=\"kr.himmelfart\",\"h\",H$6=\"1pinse\",\"h\",H$6=\"2pinse\",\"h\",H$6=\"1juledag\",\"h\",H$6=\"2juledag\",\"h\",H$6=\"nytårsdag\",\"h\")","v":{"$error":"#N/A"}},{"$f":"_xlfn.IFS(I$7=\"søndag\",\"-\",I$6=\"skærtd\",\"h\",I$6=\"langfd\",\"h\",I$6=\"1påsked\",\"h\",I$6=\"2påsked\",\"h\",I$6=\"kr.himmelfart\",\"h\",I$6=\"1pinse\",\"h\",I$6=\"2pinse\",\"h\",I$6=\"1juledag\",\"h\",I$6=\"2juledag\",\"h\",I$6=\"nytårsdag\",\"h\")","v":"-"},{"$f":"_xlfn.IFS(J$7=\"søndag\",\"-\",J$6=\"skærtd\",\"h\",J$6=\"langfd\",\"h\",J$6=\"1påsked\",\"h\",J$6=\"2påsked\",\"h\",J$6=\"kr.himmelfart\",\"h\",J$6=\"1pinse\",\"h\",J$6=\"2pinse\",\"h\",J$6=\"1juledag\",\"h\",J$6=\"2juledag\",\"h\",J$6=\"nytårsdag\",\"h\")","v":{"$error":"#N/A"}},{"$f":"_xlfn.IFS(K$7=\"søndag\",\"-\",K$6=\"skærtd\",\"h\",K$6=\"langfd\",\"h\",K$6=\"1påsked\",\"h\",K$6=\"2påsked\",\"h\",K$6=\"kr.himmelfart\",\"h\",K$6=\"1pinse\",\"h\",K$6=\"2pinse\",\"h\",K$6=\"1juledag\",\"h\",K$6=\"2juledag\",\"h\",K$6=\"nytårsdag\",\"h\")","v":{"$error":"#N/A"}},{"$f":"_xlfn.IFS(L$7=\"søndag\",\"-\",L$6=\"skærtd\",\"h\",L$6=\"langfd\",\"h\",L$6=\"1påsked\",\"h\",L$6=\"2påsked\",\"h\",L$6=\"kr.himmelfart\",\"h\",L$6=\"1pinse\",\"h\",L$6=\"2pinse\",\"h\",L$6=\"1juledag\",\"h\",L$6=\"2juledag\",\"h\",L$6=\"nytårsdag\",\"h\")","v":{"$error":"#N/A"}},{"$f":"_xlfn.IFS(M$7=\"søndag\",\"-\",M$6=\"skærtd\",\"h\",M$6=\"langfd\",\"h\",M$6=\"1påsked\",\"h\",M$6=\"2påsked\",\"h\",M$6=\"kr.himmelfart\",\"h\",M$6=\"1pinse\",\"h\",M$6=\"2pinse\",\"h\",M$6=\"1juledag\",\"h\",M$6=\"2juledag\",\"h\",M$6=\"nytårsdag\",\"h\")","v":{"$error":"#N/A"}},{"$f":"_xlfn.IFS(N$7=\"søndag\",\"-\",N$6=\"skærtd\",\"h\",N$6=\"langfd\",\"h\",N$6=\"1påsked\",\"h\",N$6=\"2påsked\",\"h\",N$6=\"kr.himmelfart\",\"h\",N$6=\"1pinse\",\"h\",N$6=\"2pinse\",\"h\",N$6=\"1juledag\",\"h\",N$6=\"2juledag\",\"h\",N$6=\"nytårsdag\",\"h\")","v":{"$error":"#N/A"}},{"$f":"_xlfn.IFS(O$7=\"søndag\",\"-\",O$6=\"skærtd\",\"h\",O$6=\"langfd\",\"h\",O$6=\"1påsked\",\"h\",O$6=\"2påsked\",\"h\",O$6=\"kr.himmelfart\",\"h\",O$6=\"1pinse\",\"h\",O$6=\"2pinse\",\"h\",O$6=\"1juledag\",\"h\",O$6=\"2juledag\",\"h\",O$6=\"nytårsdag\",\"h\")","v":{"$error":"#N/A"}},{"$f":"_xlfn.IFS(P$7=\"søndag\",\"-\",P$6=\"skærtd\",\"h\",P$6=\"langfd\",\"h\",P$6=\"1påsked\",\"h\",P$6=\"2påsked\",\"h\",P$6=\"kr.himmelfart\",\"h\",P$6=\"1pinse\",\"h\",P$6=\"2pinse\",\"h\",P$6=\"1juledag\",\"h\",P$6=\"2juledag\",\"h\",P$6=\"nytårsdag\",\"h\")","v":"-"},{"$f":"_xlfn.IFS(Q$7=\"søndag\",\"-\",Q$6=\"skærtd\",\"h\",Q$6=\"langfd\",\"h\",Q$6=\"1påsked\",\"h\",Q$6=\"2påsked\",\"h\",Q$6=\"kr.himmelfart\",\"h\",Q$6=\"1pinse\",\"h\",Q$6=\"2pinse\",\"h\",Q$6=\"1juledag\",\"h\",Q$6=\"2juledag\",\"h\",Q$6=\"nytårsdag\",\"h\")","v":{"$error":"#N/A"}},{"$f":"_xlfn.IFS(R$7=\"søndag\",\"-\",R$6=\"skærtd\",\"h\",R$6=\"langfd\",\"h\",R$6=\"1påsked\",\"h\",R$6=\"2påsked\",\"h\",R$6=\"kr.himmelfart\",\"h\",R$6=\"1pinse\",\"h\",R$6=\"2pinse\",\"h\",R$6=\"1juledag\",\"h\",R$6=\"2juledag\",\"h\",R$6=\"nytårsdag\",\"h\")","v":{"$error":"#N/A"}},{"$f":"_xlfn.IFS(S$7=\"søndag\",\"-\",S$6=\"skærtd\",\"h\",S$6=\"langfd\",\"h\",S$6=\"1påsked\",\"h\",S$6=\"2påsked\",\"h\",S$6=\"kr.himmelfart\",\"h\",S$6=\"1pinse\",\"h\",S$6=\"2pinse\",\"h\",S$6=\"1juledag\",\"h\",S$6=\"2juledag\",\"h\",S$6=\"nytårsdag\",\"h\")","v":{"$error":"#N/A"}},{"$f":"_xlfn.IFS(T$7=\"søndag\",\"-\",T$6=\"skærtd\",\"h\",T$6=\"langfd\",\"h\",T$6=\"1påsked\",\"h\",T$6=\"2påsked\",\"h\",T$6=\"kr.himmelfart\",\"h\",T$6=\"1pinse\",\"h\",T$6=\"2pinse\",\"h\",T$6=\"1juledag\",\"h\",T$6=\"2juledag\",\"h\",T$6=\"nytårsdag\",\"h\")","v":"h"},{"$f":"_xlfn.IFS(U$7=\"søndag\",\"-\",U$6=\"skærtd\",\"h\",U$6=\"langfd\",\"h\",U$6=\"1påsked\",\"h\",U$6=\"2påsked\",\"h\",U$6=\"kr.himmelfart\",\"h\",U$6=\"1pinse\",\"h\",U$6=\"2pinse\",\"h\",U$6=\"1juledag\",\"h\",U$6=\"2juledag\",\"h\",U$6=\"nytårsdag\",\"h\")","v":"h"},{"$f":"_xlfn.IFS(V$7=\"søndag\",\"-\",V$6=\"skærtd\",\"h\",V$6=\"langfd\",\"h\",V$6=\"1påsked\",\"h\",V$6=\"2påsked\",\"h\",V$6=\"kr.himmelfart\",\"h\",V$6=\"1pinse\",\"h\",V$6=\"2pinse\",\"h\",V$6=\"1juledag\",\"h\",V$6=\"2juledag\",\"h\",V$6=\"nytårsdag\",\"h\")","v":{"$error":"#N/A"}},{"$f":"_xlfn.IFS(W$7=\"søndag\",\"-\",W$6=\"skærtd\",\"h\",W$6=\"langfd\",\"h\",W$6=\"1påsked\",\"h\",W$6=\"2påsked\",\"h\",W$6=\"kr.himmelfart\",\"h\",W$6=\"1pinse\",\"h\",W$6=\"2pinse\",\"h\",W$6=\"1juledag\",\"h\",W$6=\"2juledag\",\"h\",W$6=\"nytårsdag\",\"h\")","v":"-"},{"$f":"_xlfn.IFS(X$7=\"søndag\",\"-\",X$6=\"skærtd\",\"h\",X$6=\"langfd\",\"h\",X$6=\"1påsked\",\"h\",X$6=\"2påsked\",\"h\",X$6=\"kr.himmelfart\",\"h\",X$6=\"1pinse\",\"h\",X$6=\"2pinse\",\"h\",X$6=\"1juledag\",\"h\",X$6=\"2juledag\",\"h\",X$6=\"nytårsdag\",\"h\")","v":"h"},{"$f":"_xlfn.IFS(Y$7=\"søndag\",\"-\",Y$6=\"skærtd\",\"h\",Y$6=\"langfd\",\"h\",Y$6=\"1påsked\",\"h\",Y$6=\"2påsked\",\"h\",Y$6=\"kr.himmelfart\",\"h\",Y$6=\"1pinse\",\"h\",Y$6=\"2pinse\",\"h\",Y$6=\"1juledag\",\"h\",Y$6=\"2juledag\",\"h\",Y$6=\"nytårsdag\",\"h\")","v":{"$error":"#N/A"}},{"$f":"_xlfn.IFS(Z$7=\"søndag\",\"-\",Z$6=\"skærtd\",\"h\",Z$6=\"langfd\",\"h\",Z$6=\"1påsked\",\"h\",Z$6=\"2påsked\",\"h\",Z$6=\"kr.himmelfart\",\"h\",Z$6=\"1pinse\",\"h\",Z$6=\"2pinse\",\"h\",Z$6=\"1juledag\",\"h\",Z$6=\"2juledag\",\"h\",Z$6=\"nytårsdag\",\"h\")","v":{"$error":"#N/A"}},{"$f":"_xlfn.IFS(AA$7=\"søndag\",\"-\",AA$6=\"skærtd\",\"h\",AA$6=\"langfd\",\"h\",AA$6=\"1påsked\",\"h\",AA$6=\"2påsked\",\"h\",AA$6=\"kr.himmelfart\",\"h\",AA$6=\"1pinse\",\"h\",AA$6=\"2pinse\",\"h\",AA$6=\"1juledag\",\"h\",AA$6=\"2juledag\",\"h\",AA$6=\"nytårsdag\",\"h\")","v":{"$error":"#N/A"}},{"$f":"_xlfn.IFS(AB$7=\"søndag\",\"-\",AB$6=\"skærtd\",\"h\",AB$6=\"langfd\",\"h\",AB$6=\"1påsked\",\"h\",AB$6=\"2påsked\",\"h\",AB$6=\"kr.himmelfart\",\"h\",AB$6=\"1pinse\",\"h\",AB$6=\"2pinse\",\"h\",AB$6=\"1juledag\",\"h\",AB$6=\"2juledag\",\"h\",AB$6=\"nytårsdag\",\"h\")","v":{"$error":"#N/A"}},{"$f":"_xlfn.IFS(AC$7=\"søndag\",\"-\",AC$6=\"skærtd\",\"h\",AC$6=\"langfd\",\"h\",AC$6=\"1påsked\",\"h\",AC$6=\"2påsked\",\"h\",AC$6=\"kr.himmelfart\",\"h\",AC$6=\"1pinse\",\"h\",AC$6=\"2pinse\",\"h\",AC$6=\"1juledag\",\"h\",AC$6=\"2juledag\",\"h\",AC$6=\"nytårsdag\",\"h\")","v":{"$error":"#N/A"}},{"$f":"_xlfn.IFS(AD$7=\"søndag\",\"-\",AD$6=\"skærtd\",\"h\",AD$6=\"langfd\",\"h\",AD$6=\"1påsked\",\"h\",AD$6=\"2påsked\",\"h\",AD$6=\"kr.himmelfart\",\"h\",AD$6=\"1pinse\",\"h\",AD$6=\"2pinse\",\"h\",AD$6=\"1juledag\",\"h\",AD$6=\"2juledag\",\"h\",AD$6=\"nytårsdag\",\"h\")","v":"-"},{"$f":"_xlfn.IFS(AE$7=\"søndag\",\"-\",AE$6=\"skærtd\",\"h\",AE$6=\"langfd\",\"h\",AE$6=\"1påsked\",\"h\",AE$6=\"2påsked\",\"h\",AE$6=\"kr.himmelfart\",\"h\",AE$6=\"1pinse\",\"h\",AE$6=\"2pinse\",\"h\",AE$6=\"1juledag\",\"h\",AE$6=\"2juledag\",\"h\",AE$6=\"nytårsdag\",\"h\")","v":{"$error":"#N/A"}},{"$f":"_xlfn.IFS(AF$7=\"søndag\",\"-\",AF$6=\"skærtd\",\"h\",AF$6=\"langfd\",\"h\",AF$6=\"1påsked\",\"h\",AF$6=\"2påsked\",\"h\",AF$6=\"kr.himmelfart\",\"h\",AF$6=\"1pinse\",\"h\",AF$6=\"2pinse\",\"h\",AF$6=\"1juledag\",\"h\",AF$6=\"2juledag\",\"h\",AF$6=\"nytårsdag\",\"h\")","v":{"$error":"#N/A"}},{"$f":"_xlfn.IFS(AG$7=\"søndag\",\"-\",AG$6=\"skærtd\",\"h\",AG$6=\"langfd\",\"h\",AG$6=\"1påsked\",\"h\",AG$6=\"2påsked\",\"h\",AG$6=\"kr.himmelfart\",\"h\",AG$6=\"1pinse\",\"h\",AG$6=\"2pinse\",\"h\",AG$6=\"1juledag\",\"h\",AG$6=\"2juledag\",\"h\",AG$6=\"nytårsdag\",\"h\")","v":{"$error":"#N/A"}},{"$f":"_xlfn.IFS(AH$7=\"søndag\",\"-\",AH$6=\"skærtd\",\"h\",AH$6=\"langfd\",\"h\",AH$6=\"1påsked\",\"h\",AH$6=\"2påsked\",\"h\",AH$6=\"kr.himmelfart\",\"h\",AH$6=\"1pinse\",\"h\",AH$6=\"2pinse\",\"h\",AH$6=\"1juledag\",\"h\",AH$6=\"2juledag\",\"h\",AH$6=\"nytårsdag\",\"h\")","v":{"$error":"#N/A"}}]
[null,"Sygedage",null,{"$f":"IF(D163=\"s\",D162,\"-\")","v":"-"},{"$f":"IF(E163=\"s\",E162,\"-\")","v":"-"},"-","-","-","-","-","-","-","-","-","-","-","-","-","-","-","-","-","-","-","-","-","-","-","-","-","-","-","-","-"]
[null,null,{"$f":"$C$15","v":14},"Timer uge",null,null,{"$f":"SUMIF($D$5:$AH$5,C168,D162:AH162)","v":0},{"$f":"$H$15","v":15},{"$f":"D168","v":"Timer uge"},null,null,null,null,{"$f":"SUMIF($D$5:$AH$5,H168,D162:AH162)","v":0},{"$f":"$O$15","v":16},{"$f":"D168","v":"Timer uge"},null,null,null,null,{"$f":"_xlfn.IFS($O168=$BV161,$BV162,$O168=$BW161,Lønskema!$BW162,$O168=$BX161,$BX162,$O168=$BY161,$BY162,$O168=$BZ161,$BZ162,$O168=$CA161,$CA162,$O168=$CB161,$CB162,$O168=$CC161,$CC162,$O168=$CD161,$CD162,$O168=$CE161,$CE162,$O168=$CF161,$CF162,$O168=$CG161,$CF162,$O168=$CG161,$CG162,$O168=$CH161,$CH162,$O168=$CI161,$CI162,$O168=$CJ161,$CJ162,$O168=$CK161,$CK162,$O168=$CL161,$CL162,$O168=$CM161,$CM162,$O168=$CN161,$CN162,$O168=$CO161,$CO162,$O168=$CP161,$CP162,$O168=$CQ161,$CQ162,$O168=$CR161,$CR162,$O168=$CS161,$CS162,$O168=$CT161,$CT162,$O168=$CU161,$CU162,$O168=$CV161,$CV162,$O168=$CW161,$CW162,$O168=$CX161,$CX162,$O168=$CY161,$CY162,$O168=$CZ161,$CZ162,$O168=$DA161,$DA162,$O168=$DB161,$DB162,$O168=$DC161,$DC162,$O168=$DD161,$DD162,$O168=$DE161,$DE162,$O168=$DF161,$DF162,$O168=$DG161,$DG162,$O168=$DH161,$DH162,$O168=$DI161,$DI162,$O168=$DJ161,$DJ162,$O168=$DK161,$DK162,$O168=$DL161,$DL162,$O168=$DM161,$DM162,$O168=$DN161,$DN162,$O168=$DO161,$DO162,$O168=$DP161,$DP162,$O168=$DQ161,$DQ162,$O168=$DR161,$DR162,$O168=$DS161,$DS162,$O168=$DT161,$DT162,$O168=$DU161,$DU162)","v":0},{"$f":"$V$15","v":17},{"$f":"D168","v":"Timer uge"},null,null,null,null,{"$f":"SUMIF($D$5:$AH$5,V168,D162:AH162)","v":0},{"$f":"$AC$15","v":18},{"$f":"D168","v":"Timer uge"},null,null,null,{"$f":"SUMIF($D$5:$AH$5,AC168,D162:AH162)","v":0},{"$f":"$AI$15","v":19},{"$f":"D168","v":"Timer uge"},null,null,null,{"$f":"SUMIF($D$5:$AH$5,AI168,D162:AH162)","v":0}]
[null,null,null,"Overarbejde 50% 1-3 timer",null,null,{"$f":"IF($G168>37,$G168-37-$G170,0)","v":0},null,{"$f":"D169","v":"Overarbejde 50% 1-3 timer"},null,null,null,null,{"$f":"IF($N168>37,$N168-37-$N170,0)","v":0},null,{"$f":"D169","v":"Overarbejde 50% 1-3 timer"},null,null,null,null,{"$f":"IF($U168>37,$U168-37-$U170,0)","v":0},null,{"$f":"D169","v":"Overarbejde 50% 1-3 timer"},null,null,null,null,{"$f":"IF($AB168>37,$AB168-37-$AB170,0)","v":0},null,{"$f":"D169","v":"Overarbejde 50% 1-3 timer"},null,null,null,{"$f":"IF($AH168>37,$AH168-37-$AH170,0)","v":0},null,{"$f":"D169","v":"Overarbejde 50% 1-3 timer"},null,null,null,{"$f":"IF($AH168>37,$AH168-37-$AH170,0)","v":0}]
[null,null,null,"Overarbejde 100% over 3 timer",null,null,{"$f":"IF($G168>40,$G168-40,0)","v":0},null,"Overarbejde 100% over 3 timer",null,null,null,null,{"$f":"IF($N168>40,$N168-40,0)","v":0},null,"Overarbejde 100% over 3 timer",null,null,null,null,{"$f":"IF($U168>40,$U168-40,0)","v":0},null,"Overarbejde 100% over 3 timer",null,null,null,null,{"$f":"IF($AB168>40,$AB168-40,0)","v":0},null,"Overarbejde 100% over 3 timer",null,null,null,{"$f":"IF($AH168>40,$AH168-40,0)","v":0},null,{"$f":"D170","v":"Overarbejde 100% over 3 timer"},null,null,null,{"$f":"IF($AH168>40,$AH168-40,0)","v":0},null,null,null,null,null,null,null,null,null,null,null,null,null,null,null,null,null,null,null,null,null,null,null,null,null,null,null,null,null,null,null,null,null,1,2,3,4,5,6,7,8,9,10,11,12,13,14,15,16,17,18,19,20,21,22,23,24,25,26,27,28,29,30,31,32,33,34,35,36,37,38,39,40,41,42,43,44,45,46,47,48,49,50,51,52]
[{"$f":"Medarbejder!A21","v":0},{"$f":"Medarbejder!B21","v":0},{"$f":"Medarbejder!C21","v":"-"},null,null,null,null,null,null,null,null,null,null,null,null,null,null,null,null,null,null,null,null,null,null,null,null,null,null,null,null,null,null,null,null,null,null,null,null,null,null,{"$f":"AO171*Overenskomst!$C$22","v":0},{"$f":"SUM($D171:$AH171)-$BA171-$BF171-$BD171","v":0},{"$f":"IF(Medarbejder!$J24=\"ja\",$AQ171,\"-\")","v":"-"},{"$f":"SUMIF($D$7:$AH$7,\"søndag\",$D171:$AH171)+$AT171","v":0},{"$f":"SUMIFS($D171:$AH171,$D175:$AH175,\"H\")","v":0},{"$f":"G178+N178+U178+AB178+AH178+AN178","v":0},{"$f":"G179+N179+U179+AB179+AH179+AN179","v":0},{"$f":"SUM($D173:$AH173)","v":0},{"$f":"SUM($D174:$AH174)","v":0},{"$f":"COUNTIFS($D172:$AH172,\"F\")","v":0},{"$f":"COUNTIFS($D172:$AH172,\"S\")","v":0},{"$f":"SUMIF($D172:$AH172,\"S\",$D176:$AH176)","v":0},{"$f":"COUNTIFS($D172:$AH172,\"p\")","v":0},{"$f":"COUNTIFS($D172:$AH172,\"BS\")","v":0},{"$f":"SUMIF(D172:AH172,\"bs\",$D171:$AH171)","v":0},{"$f":"COUNTIFS($D172:$AH172,\"FF\")","v":0},{"$f":"SUMIF($D172:$AH172,\"g\",$D171:$AH171)","v":0},{"$f":"Medarbejder!$N21","v":"-"},{"$f":"SUM($BL171:$BU171)","v":4},null,null,null,{"$f":"COUNTIFS($D$6:$AH$6,\"skærtd\")","v":1},{"$f":"COUNTIFS($D$6:$AH$6,\"langfd\")","v":1},{"$f":"COUNTIFS($D$6:$AH$6,\"1påsked\")","v":1},{"$f":"COUNTIFS($D$6:$AH$6,\"2påsked\")","v":1},{"$f":"COUNTIFS($D$6:$AH$6,\"kr.himmelfart\")","v":0},{"$f":"COUNTIFS($D$6:$AH$6,\"1pinse\")","v":0},{"$f":"COUNTIFS($D$6:$AH$6,\"2pinse\")","v":0},{"$f":"COUNTIFS($D$6:$AH$6,\"1juledag\")","v":0},{"$f":"COUNTIFS($D$6:$AH$6,\"2juledag\")","v":0},{"$f":"COUNTIFS($D$6:$AH$6,\"nytårsdag\")","v":0},{"$f":"SUMIFS($D171:$AH171,Lønskema!$D$5:$AH$5,1)","v":0},{"$f":"SUMIFS($D171:$AH171,Lønskema!$D$5:$AH$5,2)","v":0},{"$f":"SUMIFS($D171:$AH171,Lønskema!$D$5:$AH$5,3)","v":0},{"$f":"SUMIFS($D171:$AH171,Lønskema!$D$5:$AH$5,4)","v":0},{"$f":"SUMIFS($D171:$AH171,Lønskema!$D$5:$AH$5,5)","v":0},{"$f":"SUMIFS($D171:$AH171,Lønskema!$D$5:$AH$5,6)","v":0},{"$f":"SUMIFS($D171:$AH171,Lønskema!$D$5:$AH$5,7)","v":0},{"$f":"SUMIFS($D171:$AH171,Lønskema!$D$5:$AH$5,8)","v":0},{"$f":"SUMIFS($D171:$AH171,Lønskema!$D$5:$AH$5,9)","v":0},{"$f":"SUMIFS($D171:$AH171,Lønskema!$D$5:$AH$5,10)","v":0},{"$f":"SUMIFS($D171:$AH171,Lønskema!$D$5:$AH$5,11)","v":0},{"$f":"SUMIFS($D171:$AH171,Lønskema!$D$5:$AH$5,12)","v":0},{"$f":"SUMIFS($D171:$AH171,Lønskema!$D$5:$AH$5,13)","v":0},{"$f":"SUMIFS($D171:$AH171,Lønskema!$D$5:$AH$5,14)","v":0},{"$f":"SUMIFS($D171:$AH171,Lønskema!$D$5:$AH$5,15)","v":0},{"$f":"SUMIFS($D171:$AH171,Lønskema!$D$5:$AH$5,16)","v":0},{"$f":"SUMIFS($D171:$AH171,Lønskema!$D$5:$AH$5,17)","v":0},{"$f":"SUMIFS($D171:$AH171,Lønskema!$D$5:$AH$5,18)","v":0},{"$f":"SUMIFS($D171:$AH171,Lønskema!$D$5:$AH$5,19)","v":0},{"$f":"SUMIFS($D171:$AH171,Lønskema!$D$5:$AH$5,20)","v":0},{"$f":"SUMIFS($D171:$AH171,Lønskema!$D$5:$AH$5,21)","v":0},{"$f":"SUMIFS($D171:$AH171,Lønskema!$D$5:$AH$5,22)","v":0},{"$f":"SUMIFS($D171:$AH171,Lønskema!$D$5:$AH$5,23)","v":0},{"$f":"SUMIFS($D171:$AH171,Lønskema!$D$5:$AH$5,24)","v":0},{"$f":"SUMIFS($D171:$AH171,Lønskema!$D$5:$AH$5,25)","v":0},{"$f":"SUMIFS($D171:$AH171,Lønskema!$D$5:$AH$5,26)","v":0},{"$f":"SUMIFS($D171:$AH171,Lønskema!$D$5:$AH$5,27)","v":0},{"$f":"SUMIFS($D171:$AH171,Lønskema!$D$5:$AH$5,28)","v":0},{"$f":"SUMIFS($D171:$AH171,Lønskema!$D$5:$AH$5,29)","v":0},{"$f":"SUMIFS($D171:$AH171,Lønskema!$D$5:$AH$5,30)","v":0},{"$f":"SUMIFS($D171:$AH171,Lønskema!$D$5:$AH$5,31)","v":0},{"$f":"SUMIFS($D171:$AH171,Lønskema!$D$5:$AH$5,32)","v":0},{"$f":"SUMIFS($D171:$AH171,Lønskema!$D$5:$AH$5,33)","v":0},{"$f":"SUMIFS($D171:$AH171,Lønskema!$D$5:$AH$5,34)","v":0},{"$f":"SUMIFS($D171:$AH171,Lønskema!$D$5:$AH$5,35)","v":0},{"$f":"SUMIFS($D171:$AH171,Lønskema!$D$5:$AH$5,36)","v":0},{"$f":"SUMIFS($D171:$AH171,Lønskema!$D$5:$AH$5,37)","v":0},{"$f":"SUMIFS($D171:$AH171,Lønskema!$D$5:$AH$5,38)","v":0},{"$f":"SUMIFS($D171:$AH171,Lønskema!$D$5:$AH$5,39)","v":0},{"$f":"SUMIFS($D171:$AH171,Lønskema!$D$5:$AH$5,40)","v":0},{"$f":"SUMIFS($D171:$AH171,Lønskema!$D$5:$AH$5,41)","v":0},{"$f":"SUMIFS($D171:$AH171,Lønskema!$D$5:$AH$5,42)","v":0},{"$f":"SUMIFS($D171:$AH171,Lønskema!$D$5:$AH$5,43)","v":0},{"$f":"SUMIFS($D171:$AH171,Lønskema!$D$5:$AH$5,44)","v":0},{"$f":"SUMIFS($D171:$AH171,Lønskema!$D$5:$AH$5,45)","v":0},{"$f":"SUMIFS($D171:$AH171,Lønskema!$D$5:$AH$5,46)","v":0},{"$f":"SUMIFS($D171:$AH171,Lønskema!$D$5:$AH$5,47)","v":0},{"$f":"SUMIFS($D171:$AH171,Lønskema!$D$5:$AH$5,48)","v":0},{"$f":"SUMIFS($D171:$AH171,Lønskema!$D$5:$AH$5,49)","v":0},{"$f":"SUMIFS($D171:$AH171,Lønskema!$D$5:$AH$5,50)","v":0},{"$f":"SUMIFS($D171:$AH171,Lønskema!$D$5:$AH$5,51)","v":0},{"$f":"SUMIFS($D171:$AH171,Lønskema!$D$5:$AH$5,52)","v":0}]
["Ferie - syg  mm. Registreres i denne række"]
[null,"Aften"]
[null,"Nat"]
[null,"Helligdag",null,{"$f":"_xlfn.IFS(D$7=\"søndag\",\"-\",D$6=\"skærtd\",\"h\",D$6=\"langfd\",\"h\",D$6=\"1påsked\",\"h\",D$6=\"2påsked\",\"h\",D$6=\"kr.himmelfart\",\"h\",D$6=\"1pinse\",\"h\",D$6=\"2pinse\",\"h\",D$6=\"1juledag\",\"h\",D$6=\"2juledag\",\"h\",D$6=\"nytårsdag\",\"h\")","v":{"$error":"#N/A"}},{"$f":"_xlfn.IFS(E$7=\"søndag\",\"-\",E$6=\"skærtd\",\"h\",E$6=\"langfd\",\"h\",E$6=\"1påsked\",\"h\",E$6=\"2påsked\",\"h\",E$6=\"kr.himmelfart\",\"h\",E$6=\"1pinse\",\"h\",E$6=\"2pinse\",\"h\",E$6=\"1juledag\",\"h\",E$6=\"2juledag\",\"h\",E$6=\"nytårsdag\",\"h\")","v":{"$error":"#N/A"}},{"$f":"_xlfn.IFS(F$7=\"søndag\",\"-\",F$6=\"skærtd\",\"h\",F$6=\"langfd\",\"h\",F$6=\"1påsked\",\"h\",F$6=\"2påsked\",\"h\",F$6=\"kr.himmelfart\",\"h\",F$6=\"1pinse\",\"h\",F$6=\"2pinse\",\"h\",F$6=\"1juledag\",\"h\",F$6=\"2juledag\",\"h\",F$6=\"nytårsdag\",\"h\")","v":{"$error":"#N/A"}},{"$f":"_xlfn.IFS(G$7=\"søndag\",\"-\",G$6=\"skærtd\",\"h\",G$6=\"langfd\",\"h\",G$6=\"1påsked\",\"h\",G$6=\"2påsked\",\"h\",G$6=\"kr.himmelfart\",\"h\",G$6=\"1pinse\",\"h\",G$6=\"2pinse\",\"h\",G$6=\"1juledag\",\"h\",G$6=\"2juledag\",\"h\",G$6=\"nytårsdag\",\"h\")","v":{"$error":"#N/A"}},{"$f":"_xlfn.IFS(H$7=\"søndag\",\"-\",H$6=\"skærtd\",\"h\",H$6=\"langfd\",\"h\",H$6=\"1påsked\",\"h\",H$6=\"2påsked\",\"h\",H$6=\"kr.himmelfart\",\"h\",H$6=\"1pinse\",\"h\",H$6=\"2pinse\",\"h\",H$6=\"1juledag\",\"h\",H$6=\"2juledag\",\"h\",H$6=\"nytårsdag\",\"h\")","v":{"$error":"#N/A"}},{"$f":"_xlfn.IFS(I$7=\"søndag\",\"-\",I$6=\"skærtd\",\"h\",I$6=\"langfd\",\"h\",I$6=\"1påsked\",\"h\",I$6=\"2påsked\",\"h\",I$6=\"kr.himmelfart\",\"h\",I$6=\"1pinse\",\"h\",I$6=\"2pinse\",\"h\",I$6=\"1juledag\",\"h\",I$6=\"2juledag\",\"h\",I$6=\"nytårsdag\",\"h\")","v":"-"},{"$f":"_xlfn.IFS(J$7=\"søndag\",\"-\",J$6=\"skærtd\",\"h\",J$6=\"langfd\",\"h\",J$6=\"1påsked\",\"h\",J$6=\"2påsked\",\"h\",J$6=\"kr.himmelfart\",\"h\",J$6=\"1pinse\",\"h\",J$6=\"2pinse\",\"h\",J$6=\"1juledag\",\"h\",J$6=\"2juledag\",\"h\",J$6=\"nytårsdag\",\"h\")","v":{"$error":"#N/A"}},{"$f":"_xlfn.IFS(K$7=\"søndag\",\"-\",K$6=\"skærtd\",\"h\",K$6=\"langfd\",\"h\",K$6=\"1påsked\",\"h\",K$6=\"2påsked\",\"h\",K$6=\"kr.himmelfart\",\"h\",K$6=\"1pinse\",\"h\",K$6=\"2pinse\",\"h\",K$6=\"1juledag\",\"h\",K$6=\"2juledag\",\"h\",K$6=\"nytårsdag\",\"h\")","v":{"$error":"#N/A"}},{"$f":"_xlfn.IFS(L$7=\"søndag\",\"-\",L$6=\"skærtd\",\"h\",L$6=\"langfd\",\"h\",L$6=\"1påsked\",\"h\",L$6=\"2påsked\",\"h\",L$6=\"kr.himmelfart\",\"h\",L$6=\"1pinse\",\"h\",L$6=\"2pinse\",\"h\",L$6=\"1juledag\",\"h\",L$6=\"2juledag\",\"h\",L$6=\"nytårsdag\",\"h\")","v":{"$error":"#N/A"}},{"$f":"_xlfn.IFS(M$7=\"søndag\",\"-\",M$6=\"skærtd\",\"h\",M$6=\"langfd\",\"h\",M$6=\"1påsked\",\"h\",M$6=\"2påsked\",\"h\",M$6=\"kr.himmelfart\",\"h\",M$6=\"1pinse\",\"h\",M$6=\"2pinse\",\"h\",M$6=\"1juledag\",\"h\",M$6=\"2juledag\",\"h\",M$6=\"nytårsdag\",\"h\")","v":{"$error":"#N/A"}},{"$f":"_xlfn.IFS(N$7=\"søndag\",\"-\",N$6=\"skærtd\",\"h\",N$6=\"langfd\",\"h\",N$6=\"1påsked\",\"h\",N$6=\"2påsked\",\"h\",N$6=\"kr.himmelfart\",\"h\",N$6=\"1pinse\",\"h\",N$6=\"2pinse\",\"h\",N$6=\"1juledag\",\"h\",N$6=\"2juledag\",\"h\",N$6=\"nytårsdag\",\"h\")","v":{"$error":"#N/A"}},{"$f":"_xlfn.IFS(O$7=\"søndag\",\"-\",O$6=\"skærtd\",\"h\",O$6=\"langfd\",\"h\",O$6=\"1påsked\",\"h\",O$6=\"2påsked\",\"h\",O$6=\"kr.himmelfart\",\"h\",O$6=\"1pinse\",\"h\",O$6=\"2pinse\",\"h\",O$6=\"1juledag\",\"h\",O$6=\"2juledag\",\"h\",O$6=\"nytårsdag\",\"h\")","v":{"$error":"#N/A"}},{"$f":"_xlfn.IFS(P$7=\"søndag\",\"-\",P$6=\"skærtd\",\"h\",P$6=\"langfd\",\"h\",P$6=\"1påsked\",\"h\",P$6=\"2påsked\",\"h\",P$6=\"kr.himmelfart\",\"h\",P$6=\"1pinse\",\"h\",P$6=\"2pinse\",\"h\",P$6=\"1juledag\",\"h\",P$6=\"2juledag\",\"h\",P$6=\"nytårsdag\",\"h\")","v":"-"},{"$f":"_xlfn.IFS(Q$7=\"søndag\",\"-\",Q$6=\"skærtd\",\"h\",Q$6=\"langfd\",\"h\",Q$6=\"1påsked\",\"h\",Q$6=\"2påsked\",\"h\",Q$6=\"kr.himmelfart\",\"h\",Q$6=\"1pinse\",\"h\",Q$6=\"2pinse\",\"h\",Q$6=\"1juledag\",\"h\",Q$6=\"2juledag\",\"h\",Q$6=\"nytårsdag\",\"h\")","v":{"$error":"#N/A"}},{"$f":"_xlfn.IFS(R$7=\"søndag\",\"-\",R$6=\"skærtd\",\"h\",R$6=\"langfd\",\"h\",R$6=\"1påsked\",\"h\",R$6=\"2påsked\",\"h\",R$6=\"kr.himmelfart\",\"h\",R$6=\"1pinse\",\"h\",R$6=\"2pinse\",\"h\",R$6=\"1juledag\",\"h\",R$6=\"2juledag\",\"h\",R$6=\"nytårsdag\",\"h\")","v":{"$error":"#N/A"}},{"$f":"_xlfn.IFS(S$7=\"søndag\",\"-\",S$6=\"skærtd\",\"h\",S$6=\"langfd\",\"h\",S$6=\"1påsked\",\"h\",S$6=\"2påsked\",\"h\",S$6=\"kr.himmelfart\",\"h\",S$6=\"1pinse\",\"h\",S$6=\"2pinse\",\"h\",S$6=\"1juledag\",\"h\",S$6=\"2juledag\",\"h\",S$6=\"nytårsdag\",\"h\")","v":{"$error":"#N/A"}},{"$f":"_xlfn.IFS(T$7=\"søndag\",\"-\",T$6=\"skærtd\",\"h\",T$6=\"langfd\",\"h\",T$6=\"1påsked\",\"h\",T$6=\"2påsked\",\"h\",T$6=\"kr.himmelfart\",\"h\",T$6=\"1pinse\",\"h\",T$6=\"2pinse\",\"h\",T$6=\"1juledag\",\"h\",T$6=\"2juledag\",\"h\",T$6=\"nytårsdag\",\"h\")","v":"h"},{"$f":"_xlfn.IFS(U$7=\"søndag\",\"-\",U$6=\"skærtd\",\"h\",U$6=\"langfd\",\"h\",U$6=\"1påsked\",\"h\",U$6=\"2påsked\",\"h\",U$6=\"kr.himmelfart\",\"h\",U$6=\"1pinse\",\"h\",U$6=\"2pinse\",\"h\",U$6=\"1juledag\",\"h\",U$6=\"2juledag\",\"h\",U$6=\"nytårsdag\",\"h\")","v":"h"},{"$f":"_xlfn.IFS(V$7=\"søndag\",\"-\",V$6=\"skærtd\",\"h\",V$6=\"langfd\",\"h\",V$6=\"1påsked\",\"h\",V$6=\"2påsked\",\"h\",V$6=\"kr.himmelfart\",\"h\",V$6=\"1pinse\",\"h\",V$6=\"2pinse\",\"h\",V$6=\"1juledag\",\"h\",V$6=\"2juledag\",\"h\",V$6=\"nytårsdag\",\"h\")","v":{"$error":"#N/A"}},{"$f":"_xlfn.IFS(W$7=\"søndag\",\"-\",W$6=\"skærtd\",\"h\",W$6=\"langfd\",\"h\",W$6=\"1påsked\",\"h\",W$6=\"2påsked\",\"h\",W$6=\"kr.himmelfart\",\"h\",W$6=\"1pinse\",\"h\",W$6=\"2pinse\",\"h\",W$6=\"1juledag\",\"h\",W$6=\"2juledag\",\"h\",W$6=\"nytårsdag\",\"h\")","v":"-"},{"$f":"_xlfn.IFS(X$7=\"søndag\",\"-\",X$6=\"skærtd\",\"h\",X$6=\"langfd\",\"h\",X$6=\"1påsked\",\"h\",X$6=\"2påsked\",\"h\",X$6=\"kr.himmelfart\",\"h\",X$6=\"1pinse\",\"h\",X$6=\"2pinse\",\"h\",X$6=\"1juledag\",\"h\",X$6=\"2juledag\",\"h\",X$6=\"nytårsdag\",\"h\")","v":"h"},{"$f":"_xlfn.IFS(Y$7=\"søndag\",\"-\",Y$6=\"skærtd\",\"h\",Y$6=\"langfd\",\"h\",Y$6=\"1påsked\",\"h\",Y$6=\"2påsked\",\"h\",Y$6=\"kr.himmelfart\",\"h\",Y$6=\"1pinse\",\"h\",Y$6=\"2pinse\",\"h\",Y$6=\"1juledag\",\"h\",Y$6=\"2juledag\",\"h\",Y$6=\"nytårsdag\",\"h\")","v":{"$error":"#N/A"}},{"$f":"_xlfn.IFS(Z$7=\"søndag\",\"-\",Z$6=\"skærtd\",\"h\",Z$6=\"langfd\",\"h\",Z$6=\"1påsked\",\"h\",Z$6=\"2påsked\",\"h\",Z$6=\"kr.himmelfart\",\"h\",Z$6=\"1pinse\",\"h\",Z$6=\"2pinse\",\"h\",Z$6=\"1juledag\",\"h\",Z$6=\"2juledag\",\"h\",Z$6=\"nytårsdag\",\"h\")","v":{"$error":"#N/A"}},{"$f":"_xlfn.IFS(AA$7=\"søndag\",\"-\",AA$6=\"skærtd\",\"h\",AA$6=\"langfd\",\"h\",AA$6=\"1påsked\",\"h\",AA$6=\"2påsked\",\"h\",AA$6=\"kr.himmelfart\",\"h\",AA$6=\"1pinse\",\"h\",AA$6=\"2pinse\",\"h\",AA$6=\"1juledag\",\"h\",AA$6=\"2juledag\",\"h\",AA$6=\"nytårsdag\",\"h\")","v":{"$error":"#N/A"}},{"$f":"_xlfn.IFS(AB$7=\"søndag\",\"-\",AB$6=\"skærtd\",\"h\",AB$6=\"langfd\",\"h\",AB$6=\"1påsked\",\"h\",AB$6=\"2påsked\",\"h\",AB$6=\"kr.himmelfart\",\"h\",AB$6=\"1pinse\",\"h\",AB$6=\"2pinse\",\"h\",AB$6=\"1juledag\",\"h\",AB$6=\"2juledag\",\"h\",AB$6=\"nytårsdag\",\"h\")","v":{"$error":"#N/A"}},{"$f":"_xlfn.IFS(AC$7=\"søndag\",\"-\",AC$6=\"skærtd\",\"h\",AC$6=\"langfd\",\"h\",AC$6=\"1påsked\",\"h\",AC$6=\"2påsked\",\"h\",AC$6=\"kr.himmelfart\",\"h\",AC$6=\"1pinse\",\"h\",AC$6=\"2pinse\",\"h\",AC$6=\"1juledag\",\"h\",AC$6=\"2juledag\",\"h\",AC$6=\"nytårsdag\",\"h\")","v":{"$error":"#N/A"}},{"$f":"_xlfn.IFS(AD$7=\"søndag\",\"-\",AD$6=\"skærtd\",\"h\",AD$6=\"langfd\",\"h\",AD$6=\"1påsked\",\"h\",AD$6=\"2påsked\",\"h\",AD$6=\"kr.himmelfart\",\"h\",AD$6=\"1pinse\",\"h\",AD$6=\"2pinse\",\"h\",AD$6=\"1juledag\",\"h\",AD$6=\"2juledag\",\"h\",AD$6=\"nytårsdag\",\"h\")","v":"-"},{"$f":"_xlfn.IFS(AE$7=\"søndag\",\"-\",AE$6=\"skærtd\",\"h\",AE$6=\"langfd\",\"h\",AE$6=\"1påsked\",\"h\",AE$6=\"2påsked\",\"h\",AE$6=\"kr.himmelfart\",\"h\",AE$6=\"1pinse\",\"h\",AE$6=\"2pinse\",\"h\",AE$6=\"1juledag\",\"h\",AE$6=\"2juledag\",\"h\",AE$6=\"nytårsdag\",\"h\")","v":{"$error":"#N/A"}},{"$f":"_xlfn.IFS(AF$7=\"søndag\",\"-\",AF$6=\"skærtd\",\"h\",AF$6=\"langfd\",\"h\",AF$6=\"1påsked\",\"h\",AF$6=\"2påsked\",\"h\",AF$6=\"kr.himmelfart\",\"h\",AF$6=\"1pinse\",\"h\",AF$6=\"2pinse\",\"h\",AF$6=\"1juledag\",\"h\",AF$6=\"2juledag\",\"h\",AF$6=\"nytårsdag\",\"h\")","v":{"$error":"#N/A"}},{"$f":"_xlfn.IFS(AG$7=\"søndag\",\"-\",AG$6=\"skærtd\",\"h\",AG$6=\"langfd\",\"h\",AG$6=\"1påsked\",\"h\",AG$6=\"2påsked\",\"h\",AG$6=\"kr.himmelfart\",\"h\",AG$6=\"1pinse\",\"h\",AG$6=\"2pinse\",\"h\",AG$6=\"1juledag\",\"h\",AG$6=\"2juledag\",\"h\",AG$6=\"nytårsdag\",\"h\")","v":{"$error":"#N/A"}},{"$f":"_xlfn.IFS(AH$7=\"søndag\",\"-\",AH$6=\"skærtd\",\"h\",AH$6=\"langfd\",\"h\",AH$6=\"1påsked\",\"h\",AH$6=\"2påsked\",\"h\",AH$6=\"kr.himmelfart\",\"h\",AH$6=\"1pinse\",\"h\",AH$6=\"2pinse\",\"h\",AH$6=\"1juledag\",\"h\",AH$6=\"2juledag\",\"h\",AH$6=\"nytårsdag\",\"h\")","v":{"$error":"#N/A"}}]
[null,"Sygedage",null,{"$f":"IF(D172=\"s\",D171,\"-\")","v":"-"},{"$f":"IF(E172=\"s\",E171,\"-\")","v":"-"},"-","-","-","-","-","-","-","-","-","-","-","-","-","-","-","-","-","-","-","-","-","-","-","-","-","-","-","-","-"]
[null,null,{"$f":"$C$15","v":14},"Timer uge",null,null,{"$f":"SUMIF($D$5:$AH$5,C177,D171:AH171)","v":0},{"$f":"$H$15","v":15},{"$f":"D177","v":"Timer uge"},null,null,null,null,{"$f":"SUMIF($D$5:$AH$5,H177,D171:AH171)","v":0},{"$f":"$O$15","v":16},{"$f":"D177","v":"Timer uge"},null,null,null,null,{"$f":"_xlfn.IFS($O177=$BV170,$BV171,$O177=$BW170,Lønskema!$BW171,$O177=$BX170,$BX171,$O177=$BY170,$BY171,$O177=$BZ170,$BZ171,$O177=$CA170,$CA171,$O177=$CB170,$CB171,$O177=$CC170,$CC171,$O177=$CD170,$CD171,$O177=$CE170,$CE171,$O177=$CF170,$CF171,$O177=$CG170,$CF171,$O177=$CG170,$CG171,$O177=$CH170,$CH171,$O177=$CI170,$CI171,$O177=$CJ170,$CJ171,$O177=$CK170,$CK171,$O177=$CL170,$CL171,$O177=$CM170,$CM171,$O177=$CN170,$CN171,$O177=$CO170,$CO171,$O177=$CP170,$CP171,$O177=$CQ170,$CQ171,$O177=$CR170,$CR171,$O177=$CS170,$CS171,$O177=$CT170,$CT171,$O177=$CU170,$CU171,$O177=$CV170,$CV171,$O177=$CW170,$CW171,$O177=$CX170,$CX171,$O177=$CY170,$CY171,$O177=$CZ170,$CZ171,$O177=$DA170,$DA171,$O177=$DB170,$DB171,$O177=$DC170,$DC171,$O177=$DD170,$DD171,$O177=$DE170,$DE171,$O177=$DF170,$DF171,$O177=$DG170,$DG171,$O177=$DH170,$DH171,$O177=$DI170,$DI171,$O177=$DJ170,$DJ171,$O177=$DK170,$DK171,$O177=$DL170,$DL171,$O177=$DM170,$DM171,$O177=$DN170,$DN171,$O177=$DO170,$DO171,$O177=$DP170,$DP171,$O177=$DQ170,$DQ171,$O177=$DR170,$DR171,$O177=$DS170,$DS171,$O177=$DT170,$DT171,$O177=$DU170,$DU171)","v":0},{"$f":"$V$15","v":17},{"$f":"D177","v":"Timer uge"},null,null,null,null,{"$f":"SUMIF($D$5:$AH$5,V177,D171:AH171)","v":0},{"$f":"$AC$15","v":18},{"$f":"D177","v":"Timer uge"},null,null,null,{"$f":"SUMIF($D$5:$AH$5,AC177,D171:AH171)","v":0},{"$f":"$AI$15","v":19},{"$f":"D177","v":"Timer uge"},null,null,null,{"$f":"SUMIF($D$5:$AH$5,AI177,D171:AH171)","v":0}]
[null,null,null,"Overarbejde 50% 1-3 timer",null,null,{"$f":"IF($G177>37,$G177-37-$G179,0)","v":0},null,{"$f":"D178","v":"Overarbejde 50% 1-3 timer"},null,null,null,null,{"$f":"IF($N177>37,$N177-37-$N179,0)","v":0},null,{"$f":"D178","v":"Overarbejde 50% 1-3 timer"},null,null,null,null,{"$f":"IF($U177>37,$U177-37-$U179,0)","v":0},null,{"$f":"D178","v":"Overarbejde 50% 1-3 timer"},null,null,null,null,{"$f":"IF($AB177>37,$AB177-37-$AB179,0)","v":0},null,{"$f":"D178","v":"Overarbejde 50% 1-3 timer"},null,null,null,{"$f":"IF($AH177>37,$AH177-37-$AH179,0)","v":0},null,{"$f":"D178","v":"Overarbejde 50% 1-3 timer"},null,null,null,{"$f":"IF($AH177>37,$AH177-37-$AH179,0)","v":0}]
[null,null,null,"Overarbejde 100% over 3 timer",null,null,{"$f":"IF($G177>40,$G177-40,0)","v":0},null,"Overarbejde 100% over 3 timer",null,null,null,null,{"$f":"IF($N177>40,$N177-40,0)","v":0},null,"Overarbejde 100% over 3 timer",null,null,null,null,{"$f":"IF($U177>40,$U177-40,0)","v":0},null,"Overarbejde 100% over 3 timer",null,null,null,null,{"$f":"IF($AB177>40,$AB177-40,0)","v":0},null,"Overarbejde 100% over 3 timer",null,null,null,{"$f":"IF($AH177>40,$AH177-40,0)","v":0},null,{"$f":"D179","v":"Overarbejde 100% over 3 timer"},null,null,null,{"$f":"IF($AH177>40,$AH177-40,0)","v":0},null,null,null,null,null,null,null,null,null,null,null,null,null,null,null,null,null,null,null,null,null,null,null,null,null,null,null,null,null,null,null,null,null,1,2,3,4,5,6,7,8,9,10,11,12,13,14,15,16,17,18,19,20,21,22,23,24,25,26,27,28,29,30,31,32,33,34,35,36,37,38,39,40,41,42,43,44,45,46,47,48,49,50,51,52]
[{"$f":"Medarbejder!A22","v":0},{"$f":"Medarbejder!B22","v":0},{"$f":"Medarbejder!C22","v":"-"},null,null,null,null,null,null,null,null,null,null,null,null,null,null,null,null,null,null,null,null,null,null,null,null,null,null,null,null,null,null,null,null,null,null,null,null,null,null,{"$f":"AO180*Overenskomst!$C$22","v":0},{"$f":"SUM($D180:$AH180)-$BA180-$BF180-$BD180","v":0},{"$f":"IF(Medarbejder!$J22=\"ja\",$AQ180,\"-\")","v":"-"},{"$f":"SUMIF($D$7:$AH$7,\"søndag\",$D180:$AH180)+$AT180","v":0},{"$f":"SUMIFS($D180:$AH180,$D184:$AH184,\"H\")","v":0},{"$f":"G187+N187+U187+AB187+AH187+AN187","v":0},{"$f":"G188+N188+U188+AB188+AH188+AN188","v":0},{"$f":"SUM($D182:$AH182)","v":0},{"$f":"SUM($D183:$AH183)","v":0},{"$f":"COUNTIFS($D181:$AH181,\"F\")","v":0},{"$f":"COUNTIFS($D181:$AH181,\"S\")","v":0},{"$f":"SUMIF($D181:$AH181,\"S\",$D185:$AH185)","v":0},{"$f":"COUNTIFS($D181:$AH181,\"p\")","v":0},{"$f":"COUNTIFS($D181:$AH181,\"BS\")","v":0},{"$f":"SUMIF(D181:AH181,\"bs\",$D180:$AH180)","v":0},{"$f":"COUNTIFS($D181:$AH181,\"FF\")","v":0},{"$f":"SUMIF($D181:$AH181,\"g\",$D180:$AH180)","v":0},{"$f":"Medarbejder!$N22","v":"-"},{"$f":"SUM($BL180:$BU180)","v":4},null,null,null,{"$f":"COUNTIFS($D$6:$AH$6,\"skærtd\")","v":1},{"$f":"COUNTIFS($D$6:$AH$6,\"langfd\")","v":1},{"$f":"COUNTIFS($D$6:$AH$6,\"1påsked\")","v":1},{"$f":"COUNTIFS($D$6:$AH$6,\"2påsked\")","v":1},{"$f":"COUNTIFS($D$6:$AH$6,\"kr.himmelfart\")","v":0},{"$f":"COUNTIFS($D$6:$AH$6,\"1pinse\")","v":0},{"$f":"COUNTIFS($D$6:$AH$6,\"2pinse\")","v":0},{"$f":"COUNTIFS($D$6:$AH$6,\"1juledag\")","v":0},{"$f":"COUNTIFS($D$6:$AH$6,\"2juledag\")","v":0},{"$f":"COUNTIFS($D$6:$AH$6,\"nytårsdag\")","v":0},{"$f":"SUMIFS($D180:$AH180,Lønskema!$D$5:$AH$5,1)","v":0},{"$f":"SUMIFS($D180:$AH180,Lønskema!$D$5:$AH$5,2)","v":0},{"$f":"SUMIFS($D180:$AH180,Lønskema!$D$5:$AH$5,3)","v":0},{"$f":"SUMIFS($D180:$AH180,Lønskema!$D$5:$AH$5,4)","v":0},{"$f":"SUMIFS($D180:$AH180,Lønskema!$D$5:$AH$5,5)","v":0},{"$f":"SUMIFS($D180:$AH180,Lønskema!$D$5:$AH$5,6)","v":0},{"$f":"SUMIFS($D180:$AH180,Lønskema!$D$5:$AH$5,7)","v":0},{"$f":"SUMIFS($D180:$AH180,Lønskema!$D$5:$AH$5,8)","v":0},{"$f":"SUMIFS($D180:$AH180,Lønskema!$D$5:$AH$5,9)","v":0},{"$f":"SUMIFS($D180:$AH180,Lønskema!$D$5:$AH$5,10)","v":0},{"$f":"SUMIFS($D180:$AH180,Lønskema!$D$5:$AH$5,11)","v":0},{"$f":"SUMIFS($D180:$AH180,Lønskema!$D$5:$AH$5,12)","v":0},{"$f":"SUMIFS($D180:$AH180,Lønskema!$D$5:$AH$5,13)","v":0},{"$f":"SUMIFS($D180:$AH180,Lønskema!$D$5:$AH$5,14)","v":0},{"$f":"SUMIFS($D180:$AH180,Lønskema!$D$5:$AH$5,15)","v":0},{"$f":"SUMIFS($D180:$AH180,Lønskema!$D$5:$AH$5,16)","v":0},{"$f":"SUMIFS($D180:$AH180,Lønskema!$D$5:$AH$5,17)","v":0},{"$f":"SUMIFS($D180:$AH180,Lønskema!$D$5:$AH$5,18)","v":0},{"$f":"SUMIFS($D180:$AH180,Lønskema!$D$5:$AH$5,19)","v":0},{"$f":"SUMIFS($D180:$AH180,Lønskema!$D$5:$AH$5,20)","v":0},{"$f":"SUMIFS($D180:$AH180,Lønskema!$D$5:$AH$5,21)","v":0},{"$f":"SUMIFS($D180:$AH180,Lønskema!$D$5:$AH$5,22)","v":0},{"$f":"SUMIFS($D180:$AH180,Lønskema!$D$5:$AH$5,23)","v":0},{"$f":"SUMIFS($D180:$AH180,Lønskema!$D$5:$AH$5,24)","v":0},{"$f":"SUMIFS($D180:$AH180,Lønskema!$D$5:$AH$5,25)","v":0},{"$f":"SUMIFS($D180:$AH180,Lønskema!$D$5:$AH$5,26)","v":0},{"$f":"SUMIFS($D180:$AH180,Lønskema!$D$5:$AH$5,27)","v":0},{"$f":"SUMIFS($D180:$AH180,Lønskema!$D$5:$AH$5,28)","v":0},{"$f":"SUMIFS($D180:$AH180,Lønskema!$D$5:$AH$5,29)","v":0},{"$f":"SUMIFS($D180:$AH180,Lønskema!$D$5:$AH$5,30)","v":0},{"$f":"SUMIFS($D180:$AH180,Lønskema!$D$5:$AH$5,31)","v":0},{"$f":"SUMIFS($D180:$AH180,Lønskema!$D$5:$AH$5,32)","v":0},{"$f":"SUMIFS($D180:$AH180,Lønskema!$D$5:$AH$5,33)","v":0},{"$f":"SUMIFS($D180:$AH180,Lønskema!$D$5:$AH$5,34)","v":0},{"$f":"SUMIFS($D180:$AH180,Lønskema!$D$5:$AH$5,35)","v":0},{"$f":"SUMIFS($D180:$AH180,Lønskema!$D$5:$AH$5,36)","v":0},{"$f":"SUMIFS($D180:$AH180,Lønskema!$D$5:$AH$5,37)","v":0},{"$f":"SUMIFS($D180:$AH180,Lønskema!$D$5:$AH$5,38)","v":0},{"$f":"SUMIFS($D180:$AH180,Lønskema!$D$5:$AH$5,39)","v":0},{"$f":"SUMIFS($D180:$AH180,Lønskema!$D$5:$AH$5,40)","v":0},{"$f":"SUMIFS($D180:$AH180,Lønskema!$D$5:$AH$5,41)","v":0},{"$f":"SUMIFS($D180:$AH180,Lønskema!$D$5:$AH$5,42)","v":0},{"$f":"SUMIFS($D180:$AH180,Lønskema!$D$5:$AH$5,43)","v":0},{"$f":"SUMIFS($D180:$AH180,Lønskema!$D$5:$AH$5,44)","v":0},{"$f":"SUMIFS($D180:$AH180,Lønskema!$D$5:$AH$5,45)","v":0},{"$f":"SUMIFS($D180:$AH180,Lønskema!$D$5:$AH$5,46)","v":0},{"$f":"SUMIFS($D180:$AH180,Lønskema!$D$5:$AH$5,47)","v":0},{"$f":"SUMIFS($D180:$AH180,Lønskema!$D$5:$AH$5,48)","v":0},{"$f":"SUMIFS($D180:$AH180,Lønskema!$D$5:$AH$5,49)","v":0},{"$f":"SUMIFS($D180:$AH180,Lønskema!$D$5:$AH$5,50)","v":0},{"$f":"SUMIFS($D180:$AH180,Lønskema!$D$5:$AH$5,51)","v":0},{"$f":"SUMIFS($D180:$AH180,Lønskema!$D$5:$AH$5,52)","v":0}]
["Ferie - syg  mm. Registreres i denne række"]
[null,"Aften"]
[null,"Nat"]
[null,"Helligdag",null,{"$f":"_xlfn.IFS(D$7=\"søndag\",\"-\",D$6=\"skærtd\",\"h\",D$6=\"langfd\",\"h\",D$6=\"1påsked\",\"h\",D$6=\"2påsked\",\"h\",D$6=\"kr.himmelfart\",\"h\",D$6=\"1pinse\",\"h\",D$6=\"2pinse\",\"h\",D$6=\"1juledag\",\"h\",D$6=\"2juledag\",\"h\",D$6=\"nytårsdag\",\"h\")","v":{"$error":"#N/A"}},{"$f":"_xlfn.IFS(E$7=\"søndag\",\"-\",E$6=\"skærtd\",\"h\",E$6=\"langfd\",\"h\",E$6=\"1påsked\",\"h\",E$6=\"2påsked\",\"h\",E$6=\"kr.himmelfart\",\"h\",E$6=\"1pinse\",\"h\",E$6=\"2pinse\",\"h\",E$6=\"1juledag\",\"h\",E$6=\"2juledag\",\"h\",E$6=\"nytårsdag\",\"h\")","v":{"$error":"#N/A"}},{"$f":"_xlfn.IFS(F$7=\"søndag\",\"-\",F$6=\"skærtd\",\"h\",F$6=\"langfd\",\"h\",F$6=\"1påsked\",\"h\",F$6=\"2påsked\",\"h\",F$6=\"kr.himmelfart\",\"h\",F$6=\"1pinse\",\"h\",F$6=\"2pinse\",\"h\",F$6=\"1juledag\",\"h\",F$6=\"2juledag\",\"h\",F$6=\"nytårsdag\",\"h\")","v":{"$error":"#N/A"}},{"$f":"_xlfn.IFS(G$7=\"søndag\",\"-\",G$6=\"skærtd\",\"h\",G$6=\"langfd\",\"h\",G$6=\"1påsked\",\"h\",G$6=\"2påsked\",\"h\",G$6=\"kr.himmelfart\",\"h\",G$6=\"1pinse\",\"h\",G$6=\"2pinse\",\"h\",G$6=\"1juledag\",\"h\",G$6=\"2juledag\",\"h\",G$6=\"nytårsdag\",\"h\")","v":{"$error":"#N/A"}},{"$f":"_xlfn.IFS(H$7=\"søndag\",\"-\",H$6=\"skærtd\",\"h\",H$6=\"langfd\",\"h\",H$6=\"1påsked\",\"h\",H$6=\"2påsked\",\"h\",H$6=\"kr.himmelfart\",\"h\",H$6=\"1pinse\",\"h\",H$6=\"2pinse\",\"h\",H$6=\"1juledag\",\"h\",H$6=\"2juledag\",\"h\",H$6=\"nytårsdag\",\"h\")","v":{"$error":"#N/A"}},{"$f":"_xlfn.IFS(I$7=\"søndag\",\"-\",I$6=\"skærtd\",\"h\",I$6=\"langfd\",\"h\",I$6=\"1påsked\",\"h\",I$6=\"2påsked\",\"h\",I$6=\"kr.himmelfart\",\"h\",I$6=\"1pinse\",\"h\",I$6=\"2pinse\",\"h\",I$6=\"1juledag\",\"h\",I$6=\"2juledag\",\"h\",I$6=\"nytårsdag\",\"h\")","v":"-"},{"$f":"_xlfn.IFS(J$7=\"søndag\",\"-\",J$6=\"skærtd\",\"h\",J$6=\"langfd\",\"h\",J$6=\"1påsked\",\"h\",J$6=\"2påsked\",\"h\",J$6=\"kr.himmelfart\",\"h\",J$6=\"1pinse\",\"h\",J$6=\"2pinse\",\"h\",J$6=\"1juledag\",\"h\",J$6=\"2juledag\",\"h\",J$6=\"nytårsdag\",\"h\")","v":{"$error":"#N/A"}},{"$f":"_xlfn.IFS(K$7=\"søndag\",\"-\",K$6=\"skærtd\",\"h\",K$6=\"langfd\",\"h\",K$6=\"1påsked\",\"h\",K$6=\"2påsked\",\"h\",K$6=\"kr.himmelfart\",\"h\",K$6=\"1pinse\",\"h\",K$6=\"2pinse\",\"h\",K$6=\"1juledag\",\"h\",K$6=\"2juledag\",\"h\",K$6=\"nytårsdag\",\"h\")","v":{"$error":"#N/A"}},{"$f":"_xlfn.IFS(L$7=\"søndag\",\"-\",L$6=\"skærtd\",\"h\",L$6=\"langfd\",\"h\",L$6=\"1påsked\",\"h\",L$6=\"2påsked\",\"h\",L$6=\"kr.himmelfart\",\"h\",L$6=\"1pinse\",\"h\",L$6=\"2pinse\",\"h\",L$6=\"1juledag\",\"h\",L$6=\"2juledag\",\"h\",L$6=\"nytårsdag\",\"h\")","v":{"$error":"#N/A"}},{"$f":"_xlfn.IFS(M$7=\"søndag\",\"-\",M$6=\"skærtd\",\"h\",M$6=\"langfd\",\"h\",M$6=\"1påsked\",\"h\",M$6=\"2påsked\",\"h\",M$6=\"kr.himmelfart\",\"h\",M$6=\"1pinse\",\"h\",M$6=\"2pinse\",\"h\",M$6=\"1juledag\",\"h\",M$6=\"2juledag\",\"h\",M$6=\"nytårsdag\",\"h\")","v":{"$error":"#N/A"}},{"$f":"_xlfn.IFS(N$7=\"søndag\",\"-\",N$6=\"skærtd\",\"h\",N$6=\"langfd\",\"h\",N$6=\"1påsked\",\"h\",N$6=\"2påsked\",\"h\",N$6=\"kr.himmelfart\",\"h\",N$6=\"1pinse\",\"h\",N$6=\"2pinse\",\"h\",N$6=\"1juledag\",\"h\",N$6=\"2juledag\",\"h\",N$6=\"nytårsdag\",\"h\")","v":{"$error":"#N/A"}},{"$f":"_xlfn.IFS(O$7=\"søndag\",\"-\",O$6=\"skærtd\",\"h\",O$6=\"langfd\",\"h\",O$6=\"1påsked\",\"h\",O$6=\"2påsked\",\"h\",O$6=\"kr.himmelfart\",\"h\",O$6=\"1pinse\",\"h\",O$6=\"2pinse\",\"h\",O$6=\"1juledag\",\"h\",O$6=\"2juledag\",\"h\",O$6=\"nytårsdag\",\"h\")","v":{"$error":"#N/A"}},{"$f":"_xlfn.IFS(P$7=\"søndag\",\"-\",P$6=\"skærtd\",\"h\",P$6=\"langfd\",\"h\",P$6=\"1påsked\",\"h\",P$6=\"2påsked\",\"h\",P$6=\"kr.himmelfart\",\"h\",P$6=\"1pinse\",\"h\",P$6=\"2pinse\",\"h\",P$6=\"1juledag\",\"h\",P$6=\"2juledag\",\"h\",P$6=\"nytårsdag\",\"h\")","v":"-"},{"$f":"_xlfn.IFS(Q$7=\"søndag\",\"-\",Q$6=\"skærtd\",\"h\",Q$6=\"langfd\",\"h\",Q$6=\"1påsked\",\"h\",Q$6=\"2påsked\",\"h\",Q$6=\"kr.himmelfart\",\"h\",Q$6=\"1pinse\",\"h\",Q$6=\"2pinse\",\"h\",Q$6=\"1juledag\",\"h\",Q$6=\"2juledag\",\"h\",Q$6=\"nytårsdag\",\"h\")","v":{"$error":"#N/A"}},{"$f":"_xlfn.IFS(R$7=\"søndag\",\"-\",R$6=\"skærtd\",\"h\",R$6=\"langfd\",\"h\",R$6=\"1påsked\",\"h\",R$6=\"2påsked\",\"h\",R$6=\"kr.himmelfart\",\"h\",R$6=\"1pinse\",\"h\",R$6=\"2pinse\",\"h\",R$6=\"1juledag\",\"h\",R$6=\"2juledag\",\"h\",R$6=\"nytårsdag\",\"h\")","v":{"$error":"#N/A"}},{"$f":"_xlfn.IFS(S$7=\"søndag\",\"-\",S$6=\"skærtd\",\"h\",S$6=\"langfd\",\"h\",S$6=\"1påsked\",\"h\",S$6=\"2påsked\",\"h\",S$6=\"kr.himmelfart\",\"h\",S$6=\"1pinse\",\"h\",S$6=\"2pinse\",\"h\",S$6=\"1juledag\",\"h\",S$6=\"2juledag\",\"h\",S$6=\"nytårsdag\",\"h\")","v":{"$error":"#N/A"}},{"$f":"_xlfn.IFS(T$7=\"søndag\",\"-\",T$6=\"skærtd\",\"h\",T$6=\"langfd\",\"h\",T$6=\"1påsked\",\"h\",T$6=\"2påsked\",\"h\",T$6=\"kr.himmelfart\",\"h\",T$6=\"1pinse\",\"h\",T$6=\"2pinse\",\"h\",T$6=\"1juledag\",\"h\",T$6=\"2juledag\",\"h\",T$6=\"nytårsdag\",\"h\")","v":"h"},{"$f":"_xlfn.IFS(U$7=\"søndag\",\"-\",U$6=\"skærtd\",\"h\",U$6=\"langfd\",\"h\",U$6=\"1påsked\",\"h\",U$6=\"2påsked\",\"h\",U$6=\"kr.himmelfart\",\"h\",U$6=\"1pinse\",\"h\",U$6=\"2pinse\",\"h\",U$6=\"1juledag\",\"h\",U$6=\"2juledag\",\"h\",U$6=\"nytårsdag\",\"h\")","v":"h"},{"$f":"_xlfn.IFS(V$7=\"søndag\",\"-\",V$6=\"skærtd\",\"h\",V$6=\"langfd\",\"h\",V$6=\"1påsked\",\"h\",V$6=\"2påsked\",\"h\",V$6=\"kr.himmelfart\",\"h\",V$6=\"1pinse\",\"h\",V$6=\"2pinse\",\"h\",V$6=\"1juledag\",\"h\",V$6=\"2juledag\",\"h\",V$6=\"nytårsdag\",\"h\")","v":{"$error":"#N/A"}},{"$f":"_xlfn.IFS(W$7=\"søndag\",\"-\",W$6=\"skærtd\",\"h\",W$6=\"langfd\",\"h\",W$6=\"1påsked\",\"h\",W$6=\"2påsked\",\"h\",W$6=\"kr.himmelfart\",\"h\",W$6=\"1pinse\",\"h\",W$6=\"2pinse\",\"h\",W$6=\"1juledag\",\"h\",W$6=\"2juledag\",\"h\",W$6=\"nytårsdag\",\"h\")","v":"-"},{"$f":"_xlfn.IFS(X$7=\"søndag\",\"-\",X$6=\"skærtd\",\"h\",X$6=\"langfd\",\"h\",X$6=\"1påsked\",\"h\",X$6=\"2påsked\",\"h\",X$6=\"kr.himmelfart\",\"h\",X$6=\"1pinse\",\"h\",X$6=\"2pinse\",\"h\",X$6=\"1juledag\",\"h\",X$6=\"2juledag\",\"h\",X$6=\"nytårsdag\",\"h\")","v":"h"},{"$f":"_xlfn.IFS(Y$7=\"søndag\",\"-\",Y$6=\"skærtd\",\"h\",Y$6=\"langfd\",\"h\",Y$6=\"1påsked\",\"h\",Y$6=\"2påsked\",\"h\",Y$6=\"kr.himmelfart\",\"h\",Y$6=\"1pinse\",\"h\",Y$6=\"2pinse\",\"h\",Y$6=\"1juledag\",\"h\",Y$6=\"2juledag\",\"h\",Y$6=\"nytårsdag\",\"h\")","v":{"$error":"#N/A"}},{"$f":"_xlfn.IFS(Z$7=\"søndag\",\"-\",Z$6=\"skærtd\",\"h\",Z$6=\"langfd\",\"h\",Z$6=\"1påsked\",\"h\",Z$6=\"2påsked\",\"h\",Z$6=\"kr.himmelfart\",\"h\",Z$6=\"1pinse\",\"h\",Z$6=\"2pinse\",\"h\",Z$6=\"1juledag\",\"h\",Z$6=\"2juledag\",\"h\",Z$6=\"nytårsdag\",\"h\")","v":{"$error":"#N/A"}},{"$f":"_xlfn.IFS(AA$7=\"søndag\",\"-\",AA$6=\"skærtd\",\"h\",AA$6=\"langfd\",\"h\",AA$6=\"1påsked\",\"h\",AA$6=\"2påsked\",\"h\",AA$6=\"kr.himmelfart\",\"h\",AA$6=\"1pinse\",\"h\",AA$6=\"2pinse\",\"h\",AA$6=\"1juledag\",\"h\",AA$6=\"2juledag\",\"h\",AA$6=\"nytårsdag\",\"h\")","v":{"$error":"#N/A"}},{"$f":"_xlfn.IFS(AB$7=\"søndag\",\"-\",AB$6=\"skærtd\",\"h\",AB$6=\"langfd\",\"h\",AB$6=\"1påsked\",\"h\",AB$6=\"2påsked\",\"h\",AB$6=\"kr.himmelfart\",\"h\",AB$6=\"1pinse\",\"h\",AB$6=\"2pinse\",\"h\",AB$6=\"1juledag\",\"h\",AB$6=\"2juledag\",\"h\",AB$6=\"nytårsdag\",\"h\")","v":{"$error":"#N/A"}},{"$f":"_xlfn.IFS(AC$7=\"søndag\",\"-\",AC$6=\"skærtd\",\"h\",AC$6=\"langfd\",\"h\",AC$6=\"1påsked\",\"h\",AC$6=\"2påsked\",\"h\",AC$6=\"kr.himmelfart\",\"h\",AC$6=\"1pinse\",\"h\",AC$6=\"2pinse\",\"h\",AC$6=\"1juledag\",\"h\",AC$6=\"2juledag\",\"h\",AC$6=\"nytårsdag\",\"h\")","v":{"$error":"#N/A"}},{"$f":"_xlfn.IFS(AD$7=\"søndag\",\"-\",AD$6=\"skærtd\",\"h\",AD$6=\"langfd\",\"h\",AD$6=\"1påsked\",\"h\",AD$6=\"2påsked\",\"h\",AD$6=\"kr.himmelfart\",\"h\",AD$6=\"1pinse\",\"h\",AD$6=\"2pinse\",\"h\",AD$6=\"1juledag\",\"h\",AD$6=\"2juledag\",\"h\",AD$6=\"nytårsdag\",\"h\")","v":"-"},{"$f":"_xlfn.IFS(AE$7=\"søndag\",\"-\",AE$6=\"skærtd\",\"h\",AE$6=\"langfd\",\"h\",AE$6=\"1påsked\",\"h\",AE$6=\"2påsked\",\"h\",AE$6=\"kr.himmelfart\",\"h\",AE$6=\"1pinse\",\"h\",AE$6=\"2pinse\",\"h\",AE$6=\"1juledag\",\"h\",AE$6=\"2juledag\",\"h\",AE$6=\"nytårsdag\",\"h\")","v":{"$error":"#N/A"}},{"$f":"_xlfn.IFS(AF$7=\"søndag\",\"-\",AF$6=\"skærtd\",\"h\",AF$6=\"langfd\",\"h\",AF$6=\"1påsked\",\"h\",AF$6=\"2påsked\",\"h\",AF$6=\"kr.himmelfart\",\"h\",AF$6=\"1pinse\",\"h\",AF$6=\"2pinse\",\"h\",AF$6=\"1juledag\",\"h\",AF$6=\"2juledag\",\"h\",AF$6=\"nytårsdag\",\"h\")","v":{"$error":"#N/A"}},{"$f":"_xlfn.IFS(AG$7=\"søndag\",\"-\",AG$6=\"skærtd\",\"h\",AG$6=\"langfd\",\"h\",AG$6=\"1påsked\",\"h\",AG$6=\"2påsked\",\"h\",AG$6=\"kr.himmelfart\",\"h\",AG$6=\"1pinse\",\"h\",AG$6=\"2pinse\",\"h\",AG$6=\"1juledag\",\"h\",AG$6=\"2juledag\",\"h\",AG$6=\"nytårsdag\",\"h\")","v":{"$error":"#N/A"}},{"$f":"_xlfn.IFS(AH$7=\"søndag\",\"-\",AH$6=\"skærtd\",\"h\",AH$6=\"langfd\",\"h\",AH$6=\"1påsked\",\"h\",AH$6=\"2påsked\",\"h\",AH$6=\"kr.himmelfart\",\"h\",AH$6=\"1pinse\",\"h\",AH$6=\"2pinse\",\"h\",AH$6=\"1juledag\",\"h\",AH$6=\"2juledag\",\"h\",AH$6=\"nytårsdag\",\"h\")","v":{"$error":"#N/A"}}]
[null,"Sygedage",null,{"$f":"IF(D181=\"s\",D180,\"-\")","v":"-"},{"$f":"IF(E181=\"s\",E180,\"-\")","v":"-"},"-","-","-","-","-","-","-","-","-","-","-","-","-","-","-","-","-","-","-","-","-","-","-","-","-","-","-","-","-"]
[null,null,{"$f":"$C$15","v":14},"Timer uge",null,null,{"$f":"SUMIF($D$5:$AH$5,C186,D180:AH180)","v":0},{"$f":"$H$15","v":15},{"$f":"D186","v":"Timer uge"},null,null,null,null,{"$f":"SUMIF($D$5:$AH$5,H186,D180:AH180)","v":0},{"$f":"$O$15","v":16},{"$f":"D186","v":"Timer uge"},null,null,null,null,{"$f":"_xlfn.IFS($O186=$BV179,$BV180,$O186=$BW179,Lønskema!$BW180,$O186=$BX179,$BX180,$O186=$BY179,$BY180,$O186=$BZ179,$BZ180,$O186=$CA179,$CA180,$O186=$CB179,$CB180,$O186=$CC179,$CC180,$O186=$CD179,$CD180,$O186=$CE179,$CE180,$O186=$CF179,$CF180,$O186=$CG179,$CF180,$O186=$CG179,$CG180,$O186=$CH179,$CH180,$O186=$CI179,$CI180,$O186=$CJ179,$CJ180,$O186=$CK179,$CK180,$O186=$CL179,$CL180,$O186=$CM179,$CM180,$O186=$CN179,$CN180,$O186=$CO179,$CO180,$O186=$CP179,$CP180,$O186=$CQ179,$CQ180,$O186=$CR179,$CR180,$O186=$CS179,$CS180,$O186=$CT179,$CT180,$O186=$CU179,$CU180,$O186=$CV179,$CV180,$O186=$CW179,$CW180,$O186=$CX179,$CX180,$O186=$CY179,$CY180,$O186=$CZ179,$CZ180,$O186=$DA179,$DA180,$O186=$DB179,$DB180,$O186=$DC179,$DC180,$O186=$DD179,$DD180,$O186=$DE179,$DE180,$O186=$DF179,$DF180,$O186=$DG179,$DG180,$O186=$DH179,$DH180,$O186=$DI179,$DI180,$O186=$DJ179,$DJ180,$O186=$DK179,$DK180,$O186=$DL179,$DL180,$O186=$DM179,$DM180,$O186=$DN179,$DN180,$O186=$DO179,$DO180,$O186=$DP179,$DP180,$O186=$DQ179,$DQ180,$O186=$DR179,$DR180,$O186=$DS179,$DS180,$O186=$DT179,$DT180,$O186=$DU179,$DU180)","v":0},{"$f":"$V$15","v":17},{"$f":"D186","v":"Timer uge"},null,null,null,null,{"$f":"SUMIF($D$5:$AH$5,V186,D180:AH180)","v":0},{"$f":"$AC$15","v":18},{"$f":"D186","v":"Timer uge"},null,null,null,{"$f":"SUMIF($D$5:$AH$5,AC186,D180:AH180)","v":0},{"$f":"$AI$15","v":19},{"$f":"D186","v":"Timer uge"},null,null,null,{"$f":"SUMIF($D$5:$AH$5,AI186,D180:AH180)","v":0}]
[null,null,null,"Overarbejde 50% 1-3 timer",null,null,{"$f":"IF($G186>37,$G186-37-$G188,0)","v":0},null,{"$f":"D187","v":"Overarbejde 50% 1-3 timer"},null,null,null,null,{"$f":"IF($N186>37,$N186-37-$N188,0)","v":0},null,{"$f":"D187","v":"Overarbejde 50% 1-3 timer"},null,null,null,null,{"$f":"IF($U186>37,$U186-37-$U188,0)","v":0},null,{"$f":"D187","v":"Overarbejde 50% 1-3 timer"},null,null,null,null,{"$f":"IF($AB186>37,$AB186-37-$AB188,0)","v":0},null,{"$f":"D187","v":"Overarbejde 50% 1-3 timer"},null,null,null,{"$f":"IF($AH186>37,$AH186-37-$AH188,0)","v":0},null,{"$f":"D187","v":"Overarbejde 50% 1-3 timer"},null,null,null,{"$f":"IF($AH186>37,$AH186-37-$AH188,0)","v":0}]
[null,null,null,"Overarbejde 100% over 3 timer",null,null,{"$f":"IF($G186>40,$G186-40,0)","v":0},null,"Overarbejde 100% over 3 timer",null,null,null,null,{"$f":"IF($N186>40,$N186-40,0)","v":0},null,"Overarbejde 100% over 3 timer",null,null,null,null,{"$f":"IF($U186>40,$U186-40,0)","v":0},null,"Overarbejde 100% over 3 timer",null,null,null,null,{"$f":"IF($AB186>40,$AB186-40,0)","v":0},null,"Overarbejde 100% over 3 timer",null,null,null,{"$f":"IF($AH186>40,$AH186-40,0)","v":0},null,{"$f":"D188","v":"Overarbejde 100% over 3 timer"},null,null,null,{"$f":"IF($AH186>40,$AH186-40,0)","v":0},null,null,null,null,null,null,null,null,null,null,null,null,null,null,null,null,null,null,null,null,null,null,null,null,null,null,null,null,null,null,null,null,null,1,2,3,4,5,6,7,8,9,10,11,12,13,14,15,16,17,18,19,20,21,22,23,24,25,26,27,28,29,30,31,32,33,34,35,36,37,38,39,40,41,42,43,44,45,46,47,48,49,50,51,52]
[{"$f":"Medarbejder!A23","v":0},{"$f":"Medarbejder!B23","v":0},{"$f":"Medarbejder!C23","v":"-"},null,null,null,null,null,null,null,null,null,null,null,null,null,null,null,null,null,null,null,null,null,null,null,null,null,null,null,null,null,null,null,null,null,null,null,null,null,null,{"$f":"AO189*Overenskomst!$C$22","v":0},{"$f":"SUM($D189:$AH189)-$BA189-$BF189-$BD189","v":0},{"$f":"IF(Medarbejder!$J23=\"ja\",$AQ189,\"-\")","v":"-"},{"$f":"SUMIF($D$7:$AH$7,\"søndag\",$D189:$AH189)+$AT189","v":0},{"$f":"SUMIFS($D189:$AH189,$D193:$AH193,\"H\")","v":0},{"$f":"G196+N196+U196+AB196+AH196+AN196","v":0},{"$f":"G197+N197+U197+AB197+AH197+AN197","v":0},{"$f":"SUM($D191:$AH191)","v":0},{"$f":"SUM($D192:$AH192)","v":0},{"$f":"COUNTIFS($D190:$AH190,\"F\")","v":0},{"$f":"COUNTIFS($D190:$AH190,\"S\")","v":0},{"$f":"SUMIF($D190:$AH190,\"S\",$D194:$AH194)","v":0},{"$f":"COUNTIFS($D190:$AH190,\"p\")","v":0},{"$f":"COUNTIFS($D190:$AH190,\"BS\")","v":0},{"$f":"SUMIF(D190:AH190,\"bs\",$D189:$AH189)","v":0},{"$f":"COUNTIFS($D190:$AH190,\"FF\")","v":0},{"$f":"SUMIF($D190:$AH190,\"g\",$D189:$AH189)","v":0},{"$f":"Medarbejder!$N23","v":"-"},{"$f":"SUM($BL189:$BU189)","v":4},null,null,null,{"$f":"COUNTIFS($D$6:$AH$6,\"skærtd\")","v":1},{"$f":"COUNTIFS($D$6:$AH$6,\"langfd\")","v":1},{"$f":"COUNTIFS($D$6:$AH$6,\"1påsked\")","v":1},{"$f":"COUNTIFS($D$6:$AH$6,\"2påsked\")","v":1},{"$f":"COUNTIFS($D$6:$AH$6,\"kr.himmelfart\")","v":0},{"$f":"COUNTIFS($D$6:$AH$6,\"1pinse\")","v":0},{"$f":"COUNTIFS($D$6:$AH$6,\"2pinse\")","v":0},{"$f":"COUNTIFS($D$6:$AH$6,\"1juledag\")","v":0},{"$f":"COUNTIFS($D$6:$AH$6,\"2juledag\")","v":0},{"$f":"COUNTIFS($D$6:$AH$6,\"nytårsdag\")","v":0},{"$f":"SUMIFS($D189:$AH189,Lønskema!$D$5:$AH$5,1)","v":0},{"$f":"SUMIFS($D189:$AH189,Lønskema!$D$5:$AH$5,2)","v":0},{"$f":"SUMIFS($D189:$AH189,Lønskema!$D$5:$AH$5,3)","v":0},{"$f":"SUMIFS($D189:$AH189,Lønskema!$D$5:$AH$5,4)","v":0},{"$f":"SUMIFS($D189:$AH189,Lønskema!$D$5:$AH$5,5)","v":0},{"$f":"SUMIFS($D189:$AH189,Lønskema!$D$5:$AH$5,6)","v":0},{"$f":"SUMIFS($D189:$AH189,Lønskema!$D$5:$AH$5,7)","v":0},{"$f":"SUMIFS($D189:$AH189,Lønskema!$D$5:$AH$5,8)","v":0},{"$f":"SUMIFS($D189:$AH189,Lønskema!$D$5:$AH$5,9)","v":0},{"$f":"SUMIFS($D189:$AH189,Lønskema!$D$5:$AH$5,10)","v":0},{"$f":"SUMIFS($D189:$AH189,Lønskema!$D$5:$AH$5,11)","v":0},{"$f":"SUMIFS($D189:$AH189,Lønskema!$D$5:$AH$5,12)","v":0},{"$f":"SUMIFS($D189:$AH189,Lønskema!$D$5:$AH$5,13)","v":0},{"$f":"SUMIFS($D189:$AH189,Lønskema!$D$5:$AH$5,14)","v":0},{"$f":"SUMIFS($D189:$AH189,Lønskema!$D$5:$AH$5,15)","v":0},{"$f":"SUMIFS($D189:$AH189,Lønskema!$D$5:$AH$5,16)","v":0},{"$f":"SUMIFS($D189:$AH189,Lønskema!$D$5:$AH$5,17)","v":0},{"$f":"SUMIFS($D189:$AH189,Lønskema!$D$5:$AH$5,18)","v":0},{"$f":"SUMIFS($D189:$AH189,Lønskema!$D$5:$AH$5,19)","v":0},{"$f":"SUMIFS($D189:$AH189,Lønskema!$D$5:$AH$5,20)","v":0},{"$f":"SUMIFS($D189:$AH189,Lønskema!$D$5:$AH$5,21)","v":0},{"$f":"SUMIFS($D189:$AH189,Lønskema!$D$5:$AH$5,22)","v":0},{"$f":"SUMIFS($D189:$AH189,Lønskema!$D$5:$AH$5,23)","v":0},{"$f":"SUMIFS($D189:$AH189,Lønskema!$D$5:$AH$5,24)","v":0},{"$f":"SUMIFS($D189:$AH189,Lønskema!$D$5:$AH$5,25)","v":0},{"$f":"SUMIFS($D189:$AH189,Lønskema!$D$5:$AH$5,26)","v":0},{"$f":"SUMIFS($D189:$AH189,Lønskema!$D$5:$AH$5,27)","v":0},{"$f":"SUMIFS($D189:$AH189,Lønskema!$D$5:$AH$5,28)","v":0},{"$f":"SUMIFS($D189:$AH189,Lønskema!$D$5:$AH$5,29)","v":0},{"$f":"SUMIFS($D189:$AH189,Lønskema!$D$5:$AH$5,30)","v":0},{"$f":"SUMIFS($D189:$AH189,Lønskema!$D$5:$AH$5,31)","v":0},{"$f":"SUMIFS($D189:$AH189,Lønskema!$D$5:$AH$5,32)","v":0},{"$f":"SUMIFS($D189:$AH189,Lønskema!$D$5:$AH$5,33)","v":0},{"$f":"SUMIFS($D189:$AH189,Lønskema!$D$5:$AH$5,34)","v":0},{"$f":"SUMIFS($D189:$AH189,Lønskema!$D$5:$AH$5,35)","v":0},{"$f":"SUMIFS($D189:$AH189,Lønskema!$D$5:$AH$5,36)","v":0},{"$f":"SUMIFS($D189:$AH189,Lønskema!$D$5:$AH$5,37)","v":0},{"$f":"SUMIFS($D189:$AH189,Lønskema!$D$5:$AH$5,38)","v":0},{"$f":"SUMIFS($D189:$AH189,Lønskema!$D$5:$AH$5,39)","v":0},{"$f":"SUMIFS($D189:$AH189,Lønskema!$D$5:$AH$5,40)","v":0},{"$f":"SUMIFS($D189:$AH189,Lønskema!$D$5:$AH$5,41)","v":0},{"$f":"SUMIFS($D189:$AH189,Lønskema!$D$5:$AH$5,42)","v":0},{"$f":"SUMIFS($D189:$AH189,Lønskema!$D$5:$AH$5,43)","v":0},{"$f":"SUMIFS($D189:$AH189,Lønskema!$D$5:$AH$5,44)","v":0},{"$f":"SUMIFS($D189:$AH189,Lønskema!$D$5:$AH$5,45)","v":0},{"$f":"SUMIFS($D189:$AH189,Lønskema!$D$5:$AH$5,46)","v":0},{"$f":"SUMIFS($D189:$AH189,Lønskema!$D$5:$AH$5,47)","v":0},{"$f":"SUMIFS($D189:$AH189,Lønskema!$D$5:$AH$5,48)","v":0},{"$f":"SUMIFS($D189:$AH189,Lønskema!$D$5:$AH$5,49)","v":0},{"$f":"SUMIFS($D189:$AH189,Lønskema!$D$5:$AH$5,50)","v":0},{"$f":"SUMIFS($D189:$AH189,Lønskema!$D$5:$AH$5,51)","v":0},{"$f":"SUMIFS($D189:$AH189,Lønskema!$D$5:$AH$5,52)","v":0}]
["Ferie - syg  mm. Registreres i denne række"]
[null,"Aften"]
[null,"Nat"]
[null,"Helligdag",null,{"$f":"_xlfn.IFS(D$7=\"søndag\",\"-\",D$6=\"skærtd\",\"h\",D$6=\"langfd\",\"h\",D$6=\"1påsked\",\"h\",D$6=\"2påsked\",\"h\",D$6=\"kr.himmelfart\",\"h\",D$6=\"1pinse\",\"h\",D$6=\"2pinse\",\"h\",D$6=\"1juledag\",\"h\",D$6=\"2juledag\",\"h\",D$6=\"nytårsdag\",\"h\")","v":{"$error":"#N/A"}},{"$f":"_xlfn.IFS(E$7=\"søndag\",\"-\",E$6=\"skærtd\",\"h\",E$6=\"langfd\",\"h\",E$6=\"1påsked\",\"h\",E$6=\"2påsked\",\"h\",E$6=\"kr.himmelfart\",\"h\",E$6=\"1pinse\",\"h\",E$6=\"2pinse\",\"h\",E$6=\"1juledag\",\"h\",E$6=\"2juledag\",\"h\",E$6=\"nytårsdag\",\"h\")","v":{"$error":"#N/A"}},{"$f":"_xlfn.IFS(F$7=\"søndag\",\"-\",F$6=\"skærtd\",\"h\",F$6=\"langfd\",\"h\",F$6=\"1påsked\",\"h\",F$6=\"2påsked\",\"h\",F$6=\"kr.himmelfart\",\"h\",F$6=\"1pinse\",\"h\",F$6=\"2pinse\",\"h\",F$6=\"1juledag\",\"h\",F$6=\"2juledag\",\"h\",F$6=\"nytårsdag\",\"h\")","v":{"$error":"#N/A"}},{"$f":"_xlfn.IFS(G$7=\"søndag\",\"-\",G$6=\"skærtd\",\"h\",G$6=\"langfd\",\"h\",G$6=\"1påsked\",\"h\",G$6=\"2påsked\",\"h\",G$6=\"kr.himmelfart\",\"h\",G$6=\"1pinse\",\"h\",G$6=\"2pinse\",\"h\",G$6=\"1juledag\",\"h\",G$6=\"2juledag\",\"h\",G$6=\"nytårsdag\",\"h\")","v":{"$error":"#N/A"}},{"$f":"_xlfn.IFS(H$7=\"søndag\",\"-\",H$6=\"skærtd\",\"h\",H$6=\"langfd\",\"h\",H$6=\"1påsked\",\"h\",H$6=\"2påsked\",\"h\",H$6=\"kr.himmelfart\",\"h\",H$6=\"1pinse\",\"h\",H$6=\"2pinse\",\"h\",H$6=\"1juledag\",\"h\",H$6=\"2juledag\",\"h\",H$6=\"nytårsdag\",\"h\")","v":{"$error":"#N/A"}},{"$f":"_xlfn.IFS(I$7=\"søndag\",\"-\",I$6=\"skærtd\",\"h\",I$6=\"langfd\",\"h\",I$6=\"1påsked\",\"h\",I$6=\"2påsked\",\"h\",I$6=\"kr.himmelfart\",\"h\",I$6=\"1pinse\",\"h\",I$6=\"2pinse\",\"h\",I$6=\"1juledag\",\"h\",I$6=\"2juledag\",\"h\",I$6=\"nytårsdag\",\"h\")","v":"-"},{"$f":"_xlfn.IFS(J$7=\"søndag\",\"-\",J$6=\"skærtd\",\"h\",J$6=\"langfd\",\"h\",J$6=\"1påsked\",\"h\",J$6=\"2påsked\",\"h\",J$6=\"kr.himmelfart\",\"h\",J$6=\"1pinse\",\"h\",J$6=\"2pinse\",\"h\",J$6=\"1juledag\",\"h\",J$6=\"2juledag\",\"h\",J$6=\"nytårsdag\",\"h\")","v":{"$error":"#N/A"}},{"$f":"_xlfn.IFS(K$7=\"søndag\",\"-\",K$6=\"skærtd\",\"h\",K$6=\"langfd\",\"h\",K$6=\"1påsked\",\"h\",K$6=\"2påsked\",\"h\",K$6=\"kr.himmelfart\",\"h\",K$6=\"1pinse\",\"h\",K$6=\"2pinse\",\"h\",K$6=\"1juledag\",\"h\",K$6=\"2juledag\",\"h\",K$6=\"nytårsdag\",\"h\")","v":{"$error":"#N/A"}},{"$f":"_xlfn.IFS(L$7=\"søndag\",\"-\",L$6=\"skærtd\",\"h\",L$6=\"langfd\",\"h\",L$6=\"1påsked\",\"h\",L$6=\"2påsked\",\"h\",L$6=\"kr.himmelfart\",\"h\",L$6=\"1pinse\",\"h\",L$6=\"2pinse\",\"h\",L$6=\"1juledag\",\"h\",L$6=\"2juledag\",\"h\",L$6=\"nytårsdag\",\"h\")","v":{"$error":"#N/A"}},{"$f":"_xlfn.IFS(M$7=\"søndag\",\"-\",M$6=\"skærtd\",\"h\",M$6=\"langfd\",\"h\",M$6=\"1påsked\",\"h\",M$6=\"2påsked\",\"h\",M$6=\"kr.himmelfart\",\"h\",M$6=\"1pinse\",\"h\",M$6=\"2pinse\",\"h\",M$6=\"1juledag\",\"h\",M$6=\"2juledag\",\"h\",M$6=\"nytårsdag\",\"h\")","v":{"$error":"#N/A"}},{"$f":"_xlfn.IFS(N$7=\"søndag\",\"-\",N$6=\"skærtd\",\"h\",N$6=\"langfd\",\"h\",N$6=\"1påsked\",\"h\",N$6=\"2påsked\",\"h\",N$6=\"kr.himmelfart\",\"h\",N$6=\"1pinse\",\"h\",N$6=\"2pinse\",\"h\",N$6=\"1juledag\",\"h\",N$6=\"2juledag\",\"h\",N$6=\"nytårsdag\",\"h\")","v":{"$error":"#N/A"}},{"$f":"_xlfn.IFS(O$7=\"søndag\",\"-\",O$6=\"skærtd\",\"h\",O$6=\"langfd\",\"h\",O$6=\"1påsked\",\"h\",O$6=\"2påsked\",\"h\",O$6=\"kr.himmelfart\",\"h\",O$6=\"1pinse\",\"h\",O$6=\"2pinse\",\"h\",O$6=\"1juledag\",\"h\",O$6=\"2juledag\",\"h\",O$6=\"nytårsdag\",\"h\")","v":{"$error":"#N/A"}},{"$f":"_xlfn.IFS(P$7=\"søndag\",\"-\",P$6=\"skærtd\",\"h\",P$6=\"langfd\",\"h\",P$6=\"1påsked\",\"h\",P$6=\"2påsked\",\"h\",P$6=\"kr.himmelfart\",\"h\",P$6=\"1pinse\",\"h\",P$6=\"2pinse\",\"h\",P$6=\"1juledag\",\"h\",P$6=\"2juledag\",\"h\",P$6=\"nytårsdag\",\"h\")","v":"-"},{"$f":"_xlfn.IFS(Q$7=\"søndag\",\"-\",Q$6=\"skærtd\",\"h\",Q$6=\"langfd\",\"h\",Q$6=\"1påsked\",\"h\",Q$6=\"2påsked\",\"h\",Q$6=\"kr.himmelfart\",\"h\",Q$6=\"1pinse\",\"h\",Q$6=\"2pinse\",\"h\",Q$6=\"1juledag\",\"h\",Q$6=\"2juledag\",\"h\",Q$6=\"nytårsdag\",\"h\")","v":{"$error":"#N/A"}},{"$f":"_xlfn.IFS(R$7=\"søndag\",\"-\",R$6=\"skærtd\",\"h\",R$6=\"langfd\",\"h\",R$6=\"1påsked\",\"h\",R$6=\"2påsked\",\"h\",R$6=\"kr.himmelfart\",\"h\",R$6=\"1pinse\",\"h\",R$6=\"2pinse\",\"h\",R$6=\"1juledag\",\"h\",R$6=\"2juledag\",\"h\",R$6=\"nytårsdag\",\"h\")","v":{"$error":"#N/A"}},{"$f":"_xlfn.IFS(S$7=\"søndag\",\"-\",S$6=\"skærtd\",\"h\",S$6=\"langfd\",\"h\",S$6=\"1påsked\",\"h\",S$6=\"2påsked\",\"h\",S$6=\"kr.himmelfart\",\"h\",S$6=\"1pinse\",\"h\",S$6=\"2pinse\",\"h\",S$6=\"1juledag\",\"h\",S$6=\"2juledag\",\"h\",S$6=\"nytårsdag\",\"h\")","v":{"$error":"#N/A"}},{"$f":"_xlfn.IFS(T$7=\"søndag\",\"-\",T$6=\"skærtd\",\"h\",T$6=\"langfd\",\"h\",T$6=\"1påsked\",\"h\",T$6=\"2påsked\",\"h\",T$6=\"kr.himmelfart\",\"h\",T$6=\"1pinse\",\"h\",T$6=\"2pinse\",\"h\",T$6=\"1juledag\",\"h\",T$6=\"2juledag\",\"h\",T$6=\"nytårsdag\",\"h\")","v":"h"},{"$f":"_xlfn.IFS(U$7=\"søndag\",\"-\",U$6=\"skærtd\",\"h\",U$6=\"langfd\",\"h\",U$6=\"1påsked\",\"h\",U$6=\"2påsked\",\"h\",U$6=\"kr.himmelfart\",\"h\",U$6=\"1pinse\",\"h\",U$6=\"2pinse\",\"h\",U$6=\"1juledag\",\"h\",U$6=\"2juledag\",\"h\",U$6=\"nytårsdag\",\"h\")","v":"h"},{"$f":"_xlfn.IFS(V$7=\"søndag\",\"-\",V$6=\"skærtd\",\"h\",V$6=\"langfd\",\"h\",V$6=\"1påsked\",\"h\",V$6=\"2påsked\",\"h\",V$6=\"kr.himmelfart\",\"h\",V$6=\"1pinse\",\"h\",V$6=\"2pinse\",\"h\",V$6=\"1juledag\",\"h\",V$6=\"2juledag\",\"h\",V$6=\"nytårsdag\",\"h\")","v":{"$error":"#N/A"}},{"$f":"_xlfn.IFS(W$7=\"søndag\",\"-\",W$6=\"skærtd\",\"h\",W$6=\"langfd\",\"h\",W$6=\"1påsked\",\"h\",W$6=\"2påsked\",\"h\",W$6=\"kr.himmelfart\",\"h\",W$6=\"1pinse\",\"h\",W$6=\"2pinse\",\"h\",W$6=\"1juledag\",\"h\",W$6=\"2juledag\",\"h\",W$6=\"nytårsdag\",\"h\")","v":"-"},{"$f":"_xlfn.IFS(X$7=\"søndag\",\"-\",X$6=\"skærtd\",\"h\",X$6=\"langfd\",\"h\",X$6=\"1påsked\",\"h\",X$6=\"2påsked\",\"h\",X$6=\"kr.himmelfart\",\"h\",X$6=\"1pinse\",\"h\",X$6=\"2pinse\",\"h\",X$6=\"1juledag\",\"h\",X$6=\"2juledag\",\"h\",X$6=\"nytårsdag\",\"h\")","v":"h"},{"$f":"_xlfn.IFS(Y$7=\"søndag\",\"-\",Y$6=\"skærtd\",\"h\",Y$6=\"langfd\",\"h\",Y$6=\"1påsked\",\"h\",Y$6=\"2påsked\",\"h\",Y$6=\"kr.himmelfart\",\"h\",Y$6=\"1pinse\",\"h\",Y$6=\"2pinse\",\"h\",Y$6=\"1juledag\",\"h\",Y$6=\"2juledag\",\"h\",Y$6=\"nytårsdag\",\"h\")","v":{"$error":"#N/A"}},{"$f":"_xlfn.IFS(Z$7=\"søndag\",\"-\",Z$6=\"skærtd\",\"h\",Z$6=\"langfd\",\"h\",Z$6=\"1påsked\",\"h\",Z$6=\"2påsked\",\"h\",Z$6=\"kr.himmelfart\",\"h\",Z$6=\"1pinse\",\"h\",Z$6=\"2pinse\",\"h\",Z$6=\"1juledag\",\"h\",Z$6=\"2juledag\",\"h\",Z$6=\"nytårsdag\",\"h\")","v":{"$error":"#N/A"}},{"$f":"_xlfn.IFS(AA$7=\"søndag\",\"-\",AA$6=\"skærtd\",\"h\",AA$6=\"langfd\",\"h\",AA$6=\"1påsked\",\"h\",AA$6=\"2påsked\",\"h\",AA$6=\"kr.himmelfart\",\"h\",AA$6=\"1pinse\",\"h\",AA$6=\"2pinse\",\"h\",AA$6=\"1juledag\",\"h\",AA$6=\"2juledag\",\"h\",AA$6=\"nytårsdag\",\"h\")","v":{"$error":"#N/A"}},{"$f":"_xlfn.IFS(AB$7=\"søndag\",\"-\",AB$6=\"skærtd\",\"h\",AB$6=\"langfd\",\"h\",AB$6=\"1påsked\",\"h\",AB$6=\"2påsked\",\"h\",AB$6=\"kr.himmelfart\",\"h\",AB$6=\"1pinse\",\"h\",AB$6=\"2pinse\",\"h\",AB$6=\"1juledag\",\"h\",AB$6=\"2juledag\",\"h\",AB$6=\"nytårsdag\",\"h\")","v":{"$error":"#N/A"}},{"$f":"_xlfn.IFS(AC$7=\"søndag\",\"-\",AC$6=\"skærtd\",\"h\",AC$6=\"langfd\",\"h\",AC$6=\"1påsked\",\"h\",AC$6=\"2påsked\",\"h\",AC$6=\"kr.himmelfart\",\"h\",AC$6=\"1pinse\",\"h\",AC$6=\"2pinse\",\"h\",AC$6=\"1juledag\",\"h\",AC$6=\"2juledag\",\"h\",AC$6=\"nytårsdag\",\"h\")","v":{"$error":"#N/A"}},{"$f":"_xlfn.IFS(AD$7=\"søndag\",\"-\",AD$6=\"skærtd\",\"h\",AD$6=\"langfd\",\"h\",AD$6=\"1påsked\",\"h\",AD$6=\"2påsked\",\"h\",AD$6=\"kr.himmelfart\",\"h\",AD$6=\"1pinse\",\"h\",AD$6=\"2pinse\",\"h\",AD$6=\"1juledag\",\"h\",AD$6=\"2juledag\",\"h\",AD$6=\"nytårsdag\",\"h\")","v":"-"},{"$f":"_xlfn.IFS(AE$7=\"søndag\",\"-\",AE$6=\"skærtd\",\"h\",AE$6=\"langfd\",\"h\",AE$6=\"1påsked\",\"h\",AE$6=\"2påsked\",\"h\",AE$6=\"kr.himmelfart\",\"h\",AE$6=\"1pinse\",\"h\",AE$6=\"2pinse\",\"h\",AE$6=\"1juledag\",\"h\",AE$6=\"2juledag\",\"h\",AE$6=\"nytårsdag\",\"h\")","v":{"$error":"#N/A"}},{"$f":"_xlfn.IFS(AF$7=\"søndag\",\"-\",AF$6=\"skærtd\",\"h\",AF$6=\"langfd\",\"h\",AF$6=\"1påsked\",\"h\",AF$6=\"2påsked\",\"h\",AF$6=\"kr.himmelfart\",\"h\",AF$6=\"1pinse\",\"h\",AF$6=\"2pinse\",\"h\",AF$6=\"1juledag\",\"h\",AF$6=\"2juledag\",\"h\",AF$6=\"nytårsdag\",\"h\")","v":{"$error":"#N/A"}},{"$f":"_xlfn.IFS(AG$7=\"søndag\",\"-\",AG$6=\"skærtd\",\"h\",AG$6=\"langfd\",\"h\",AG$6=\"1påsked\",\"h\",AG$6=\"2påsked\",\"h\",AG$6=\"kr.himmelfart\",\"h\",AG$6=\"1pinse\",\"h\",AG$6=\"2pinse\",\"h\",AG$6=\"1juledag\",\"h\",AG$6=\"2juledag\",\"h\",AG$6=\"nytårsdag\",\"h\")","v":{"$error":"#N/A"}},{"$f":"_xlfn.IFS(AH$7=\"søndag\",\"-\",AH$6=\"skærtd\",\"h\",AH$6=\"langfd\",\"h\",AH$6=\"1påsked\",\"h\",AH$6=\"2påsked\",\"h\",AH$6=\"kr.himmelfart\",\"h\",AH$6=\"1pinse\",\"h\",AH$6=\"2pinse\",\"h\",AH$6=\"1juledag\",\"h\",AH$6=\"2juledag\",\"h\",AH$6=\"nytårsdag\",\"h\")","v":{"$error":"#N/A"}}]
[null,"Sygedage",null,{"$f":"IF(D190=\"s\",D189,\"-\")","v":"-"},"-","-","-","-","-","-","-","-","-","-","-","-","-","-","-","-","-","-","-","-","-","-","-","-","-","-","-","-","-","-"]
[null,null,{"$f":"$C$15","v":14},"Timer uge",null,null,{"$f":"SUMIF($D$5:$AH$5,C195,D189:AH189)","v":0},{"$f":"$H$15","v":15},{"$f":"D195","v":"Timer uge"},null,null,null,null,{"$f":"SUMIF($D$5:$AH$5,H195,D189:AH189)","v":0},{"$f":"$O$15","v":16},{"$f":"D195","v":"Timer uge"},null,null,null,null,{"$f":"_xlfn.IFS($O195=$BV188,$BV189,$O195=$BW188,Lønskema!$BW189,$O195=$BX188,$BX189,$O195=$BY188,$BY189,$O195=$BZ188,$BZ189,$O195=$CA188,$CA189,$O195=$CB188,$CB189,$O195=$CC188,$CC189,$O195=$CD188,$CD189,$O195=$CE188,$CE189,$O195=$CF188,$CF189,$O195=$CG188,$CF189,$O195=$CG188,$CG189,$O195=$CH188,$CH189,$O195=$CI188,$CI189,$O195=$CJ188,$CJ189,$O195=$CK188,$CK189,$O195=$CL188,$CL189,$O195=$CM188,$CM189,$O195=$CN188,$CN189,$O195=$CO188,$CO189,$O195=$CP188,$CP189,$O195=$CQ188,$CQ189,$O195=$CR188,$CR189,$O195=$CS188,$CS189,$O195=$CT188,$CT189,$O195=$CU188,$CU189,$O195=$CV188,$CV189,$O195=$CW188,$CW189,$O195=$CX188,$CX189,$O195=$CY188,$CY189,$O195=$CZ188,$CZ189,$O195=$DA188,$DA189,$O195=$DB188,$DB189,$O195=$DC188,$DC189,$O195=$DD188,$DD189,$O195=$DE188,$DE189,$O195=$DF188,$DF189,$O195=$DG188,$DG189,$O195=$DH188,$DH189,$O195=$DI188,$DI189,$O195=$DJ188,$DJ189,$O195=$DK188,$DK189,$O195=$DL188,$DL189,$O195=$DM188,$DM189,$O195=$DN188,$DN189,$O195=$DO188,$DO189,$O195=$DP188,$DP189,$O195=$DQ188,$DQ189,$O195=$DR188,$DR189,$O195=$DS188,$DS189,$O195=$DT188,$DT189,$O195=$DU188,$DU189)","v":0},{"$f":"$V$15","v":17},{"$f":"D195","v":"Timer uge"},null,null,null,null,{"$f":"SUMIF($D$5:$AH$5,V195,D189:AH189)","v":0},{"$f":"$AC$15","v":18},{"$f":"D195","v":"Timer uge"},null,null,null,{"$f":"SUMIF($D$5:$AH$5,AC195,D189:AH189)","v":0},{"$f":"$AI$15","v":19},{"$f":"D195","v":"Timer uge"},null,null,null,{"$f":"SUMIF($D$5:$AH$5,AI195,D189:AH189)","v":0}]
[null,null,null,"Overarbejde 50% 1-3 timer",null,null,{"$f":"IF($G195>37,$G195-37-$G197,0)","v":0},null,{"$f":"D196","v":"Overarbejde 50% 1-3 timer"},null,null,null,null,{"$f":"IF($N195>37,$N195-37-$N197,0)","v":0},null,{"$f":"D196","v":"Overarbejde 50% 1-3 timer"},null,null,null,null,{"$f":"IF($U195>37,$U195-37-$U197,0)","v":0},null,{"$f":"D196","v":"Overarbejde 50% 1-3 timer"},null,null,null,null,{"$f":"IF($AB195>37,$AB195-37-$AB197,0)","v":0},null,{"$f":"D196","v":"Overarbejde 50% 1-3 timer"},null,null,null,{"$f":"IF($AH195>37,$AH195-37-$AH197,0)","v":0},null,{"$f":"D196","v":"Overarbejde 50% 1-3 timer"},null,null,null,{"$f":"IF($AH195>37,$AH195-37-$AH197,0)","v":0}]
[null,null,null,"Overarbejde 100% over 3 timer",null,null,{"$f":"IF($G195>40,$G195-40,0)","v":0},null,"Overarbejde 100% over 3 timer",null,null,null,null,{"$f":"IF($N195>40,$N195-40,0)","v":0},null,"Overarbejde 100% over 3 timer",null,null,null,null,{"$f":"IF($U195>40,$U195-40,0)","v":0},null,"Overarbejde 100% over 3 timer",null,null,null,null,{"$f":"IF($AB195>40,$AB195-40,0)","v":0},null,"Overarbejde 100% over 3 timer",null,null,null,{"$f":"IF($AH195>40,$AH195-40,0)","v":0},null,{"$f":"D197","v":"Overarbejde 100% over 3 timer"},null,null,null,{"$f":"IF($AH195>40,$AH195-40,0)","v":0},null,null,null,null,null,null,null,null,null,null,null,null,null,null,null,null,null,null,null,null,null,null,null,null,null,null,null,null,null,null,null,null,null,1,2,3,4,5,6,7,8,9,10,11,12,13,14,15,16,17,18,19,20,21,22,23,24,25,26,27,28,29,30,31,32,33,34,35,36,37,38,39,40,41,42,43,44,45,46,47,48,49,50,51,52]
[{"$f":"Medarbejder!A24","v":0},{"$f":"Medarbejder!B24","v":0},{"$f":"Medarbejder!C23","v":"-"},null,null,null,null,null,null,null,null,null,null,null,null,null,null,null,null,null,null,null,null,null,null,null,null,null,null,null,null,null,null,null,null,null,null,null,null,null,null,{"$f":"AO198*Overenskomst!$C$22","v":0},{"$f":"SUM($D198:$AH198)-$BA198-$BF198-$BD198","v":0},{"$f":"IF(Medarbejder!$J24=\"ja\",$AQ198,\"-\")","v":"-"},{"$f":"SUMIF($D$7:$AH$7,\"søndag\",$D198:$AH198)+$AT198","v":0},{"$f":"SUMIFS($D198:$AH198,$D202:$AH202,\"H\")","v":0},{"$f":"G205+N205+U205+AB205+AH205+AN205","v":0},{"$f":"G206+N206+U206+AB206+AH206+AN206","v":0},{"$f":"SUM($D200:$AH200)","v":0},{"$f":"SUM($D201:$AH201)","v":0},{"$f":"COUNTIFS($D199:$AH199,\"F\")","v":0},{"$f":"COUNTIFS($D199:$AH199,\"S\")","v":0},{"$f":"SUMIF($D199:$AH199,\"S\",$D203:$AH203)","v":0},{"$f":"COUNTIFS($D199:$AH199,\"p\")","v":0},{"$f":"COUNTIFS($D199:$AH199,\"BS\")","v":0},{"$f":"SUMIF(D199:AH199,\"bs\",$D198:$AH198)","v":0},{"$f":"COUNTIFS($D199:$AH199,\"FF\")","v":0},{"$f":"SUMIF($D199:$AH199,\"g\",$D198:$AH198)","v":0},{"$f":"Medarbejder!$N24","v":"-"},{"$f":"SUM($BL198:$BU198)","v":4},null,null,null,{"$f":"COUNTIFS($D$6:$AH$6,\"skærtd\")","v":1},{"$f":"COUNTIFS($D$6:$AH$6,\"langfd\")","v":1},{"$f":"COUNTIFS($D$6:$AH$6,\"1påsked\")","v":1},{"$f":"COUNTIFS($D$6:$AH$6,\"2påsked\")","v":1},{"$f":"COUNTIFS($D$6:$AH$6,\"kr.himmelfart\")","v":0},{"$f":"COUNTIFS($D$6:$AH$6,\"1pinse\")","v":0},{"$f":"COUNTIFS($D$6:$AH$6,\"2pinse\")","v":0},{"$f":"COUNTIFS($D$6:$AH$6,\"1juledag\")","v":0},{"$f":"COUNTIFS($D$6:$AH$6,\"2juledag\")","v":0},{"$f":"COUNTIFS($D$6:$AH$6,\"nytårsdag\")","v":0},{"$f":"SUMIFS($D198:$AH198,Lønskema!$D$5:$AH$5,1)","v":0},{"$f":"SUMIFS($D198:$AH198,Lønskema!$D$5:$AH$5,2)","v":0},{"$f":"SUMIFS($D198:$AH198,Lønskema!$D$5:$AH$5,3)","v":0},{"$f":"SUMIFS($D198:$AH198,Lønskema!$D$5:$AH$5,4)","v":0},{"$f":"SUMIFS($D198:$AH198,Lønskema!$D$5:$AH$5,5)","v":0},{"$f":"SUMIFS($D198:$AH198,Lønskema!$D$5:$AH$5,6)","v":0},{"$f":"SUMIFS($D198:$AH198,Lønskema!$D$5:$AH$5,7)","v":0},{"$f":"SUMIFS($D198:$AH198,Lønskema!$D$5:$AH$5,8)","v":0},{"$f":"SUMIFS($D198:$AH198,Lønskema!$D$5:$AH$5,9)","v":0},{"$f":"SUMIFS($D198:$AH198,Lønskema!$D$5:$AH$5,10)","v":0},{"$f":"SUMIFS($D198:$AH198,Lønskema!$D$5:$AH$5,11)","v":0},{"$f":"SUMIFS($D198:$AH198,Lønskema!$D$5:$AH$5,12)","v":0},{"$f":"SUMIFS($D198:$AH198,Lønskema!$D$5:$AH$5,13)","v":0},{"$f":"SUMIFS($D198:$AH198,Lønskema!$D$5:$AH$5,14)","v":0},{"$f":"SUMIFS($D198:$AH198,Lønskema!$D$5:$AH$5,15)","v":0},{"$f":"SUMIFS($D198:$AH198,Lønskema!$D$5:$AH$5,16)","v":0},{"$f":"SUMIFS($D198:$AH198,Lønskema!$D$5:$AH$5,17)","v":0},{"$f":"SUMIFS($D198:$AH198,Lønskema!$D$5:$AH$5,18)","v":0},{"$f":"SUMIFS($D198:$AH198,Lønskema!$D$5:$AH$5,19)","v":0},{"$f":"SUMIFS($D198:$AH198,Lønskema!$D$5:$AH$5,20)","v":0},{"$f":"SUMIFS($D198:$AH198,Lønskema!$D$5:$AH$5,21)","v":0},{"$f":"SUMIFS($D198:$AH198,Lønskema!$D$5:$AH$5,22)","v":0},{"$f":"SUMIFS($D198:$AH198,Lønskema!$D$5:$AH$5,23)","v":0},{"$f":"SUMIFS($D198:$AH198,Lønskema!$D$5:$AH$5,24)","v":0},{"$f":"SUMIFS($D198:$AH198,Lønskema!$D$5:$AH$5,25)","v":0},{"$f":"SUMIFS($D198:$AH198,Lønskema!$D$5:$AH$5,26)","v":0},{"$f":"SUMIFS($D198:$AH198,Lønskema!$D$5:$AH$5,27)","v":0},{"$f":"SUMIFS($D198:$AH198,Lønskema!$D$5:$AH$5,28)","v":0},{"$f":"SUMIFS($D198:$AH198,Lønskema!$D$5:$AH$5,29)","v":0},{"$f":"SUMIFS($D198:$AH198,Lønskema!$D$5:$AH$5,30)","v":0},{"$f":"SUMIFS($D198:$AH198,Lønskema!$D$5:$AH$5,31)","v":0},{"$f":"SUMIFS($D198:$AH198,Lønskema!$D$5:$AH$5,32)","v":0},{"$f":"SUMIFS($D198:$AH198,Lønskema!$D$5:$AH$5,33)","v":0},{"$f":"SUMIFS($D198:$AH198,Lønskema!$D$5:$AH$5,34)","v":0},{"$f":"SUMIFS($D198:$AH198,Lønskema!$D$5:$AH$5,35)","v":0},{"$f":"SUMIFS($D198:$AH198,Lønskema!$D$5:$AH$5,36)","v":0},{"$f":"SUMIFS($D198:$AH198,Lønskema!$D$5:$AH$5,37)","v":0},{"$f":"SUMIFS($D198:$AH198,Lønskema!$D$5:$AH$5,38)","v":0},{"$f":"SUMIFS($D198:$AH198,Lønskema!$D$5:$AH$5,39)","v":0},{"$f":"SUMIFS($D198:$AH198,Lønskema!$D$5:$AH$5,40)","v":0},{"$f":"SUMIFS($D198:$AH198,Lønskema!$D$5:$AH$5,41)","v":0},{"$f":"SUMIFS($D198:$AH198,Lønskema!$D$5:$AH$5,42)","v":0},{"$f":"SUMIFS($D198:$AH198,Lønskema!$D$5:$AH$5,43)","v":0},{"$f":"SUMIFS($D198:$AH198,Lønskema!$D$5:$AH$5,44)","v":0},{"$f":"SUMIFS($D198:$AH198,Lønskema!$D$5:$AH$5,45)","v":0},{"$f":"SUMIFS($D198:$AH198,Lønskema!$D$5:$AH$5,46)","v":0},{"$f":"SUMIFS($D198:$AH198,Lønskema!$D$5:$AH$5,47)","v":0},{"$f":"SUMIFS($D198:$AH198,Lønskema!$D$5:$AH$5,48)","v":0},{"$f":"SUMIFS($D198:$AH198,Lønskema!$D$5:$AH$5,49)","v":0},{"$f":"SUMIFS($D198:$AH198,Lønskema!$D$5:$AH$5,50)","v":0},{"$f":"SUMIFS($D198:$AH198,Lønskema!$D$5:$AH$5,51)","v":0},{"$f":"SUMIFS($D198:$AH198,Lønskema!$D$5:$AH$5,52)","v":0}]
["Ferie - syg  mm. Registreres i denne række"]
[null,"Aften"]
[null,"Nat"]
[null,"Helligdag",null,{"$f":"_xlfn.IFS(D$7=\"søndag\",\"-\",D$6=\"skærtd\",\"h\",D$6=\"langfd\",\"h\",D$6=\"1påsked\",\"h\",D$6=\"2påsked\",\"h\",D$6=\"kr.himmelfart\",\"h\",D$6=\"1pinse\",\"h\",D$6=\"2pinse\",\"h\",D$6=\"1juledag\",\"h\",D$6=\"2juledag\",\"h\",D$6=\"nytårsdag\",\"h\")","v":{"$error":"#N/A"}},{"$f":"_xlfn.IFS(E$7=\"søndag\",\"-\",E$6=\"skærtd\",\"h\",E$6=\"langfd\",\"h\",E$6=\"1påsked\",\"h\",E$6=\"2påsked\",\"h\",E$6=\"kr.himmelfart\",\"h\",E$6=\"1pinse\",\"h\",E$6=\"2pinse\",\"h\",E$6=\"1juledag\",\"h\",E$6=\"2juledag\",\"h\",E$6=\"nytårsdag\",\"h\")","v":{"$error":"#N/A"}},{"$f":"_xlfn.IFS(F$7=\"søndag\",\"-\",F$6=\"skærtd\",\"h\",F$6=\"langfd\",\"h\",F$6=\"1påsked\",\"h\",F$6=\"2påsked\",\"h\",F$6=\"kr.himmelfart\",\"h\",F$6=\"1pinse\",\"h\",F$6=\"2pinse\",\"h\",F$6=\"1juledag\",\"h\",F$6=\"2juledag\",\"h\",F$6=\"nytårsdag\",\"h\")","v":{"$error":"#N/A"}},{"$f":"_xlfn.IFS(G$7=\"søndag\",\"-\",G$6=\"skærtd\",\"h\",G$6=\"langfd\",\"h\",G$6=\"1påsked\",\"h\",G$6=\"2påsked\",\"h\",G$6=\"kr.himmelfart\",\"h\",G$6=\"1pinse\",\"h\",G$6=\"2pinse\",\"h\",G$6=\"1juledag\",\"h\",G$6=\"2juledag\",\"h\",G$6=\"nytårsdag\",\"h\")","v":{"$error":"#N/A"}},{"$f":"_xlfn.IFS(H$7=\"søndag\",\"-\",H$6=\"skærtd\",\"h\",H$6=\"langfd\",\"h\",H$6=\"1påsked\",\"h\",H$6=\"2påsked\",\"h\",H$6=\"kr.himmelfart\",\"h\",H$6=\"1pinse\",\"h\",H$6=\"2pinse\",\"h\",H$6=\"1juledag\",\"h\",H$6=\"2juledag\",\"h\",H$6=\"nytårsdag\",\"h\")","v":{"$error":"#N/A"}},{"$f":"_xlfn.IFS(I$7=\"søndag\",\"-\",I$6=\"skærtd\",\"h\",I$6=\"langfd\",\"h\",I$6=\"1påsked\",\"h\",I$6=\"2påsked\",\"h\",I$6=\"kr.himmelfart\",\"h\",I$6=\"1pinse\",\"h\",I$6=\"2pinse\",\"h\",I$6=\"1juledag\",\"h\",I$6=\"2juledag\",\"h\",I$6=\"nytårsdag\",\"h\")","v":"-"},{"$f":"_xlfn.IFS(J$7=\"søndag\",\"-\",J$6=\"skærtd\",\"h\",J$6=\"langfd\",\"h\",J$6=\"1påsked\",\"h\",J$6=\"2påsked\",\"h\",J$6=\"kr.himmelfart\",\"h\",J$6=\"1pinse\",\"h\",J$6=\"2pinse\",\"h\",J$6=\"1juledag\",\"h\",J$6=\"2juledag\",\"h\",J$6=\"nytårsdag\",\"h\")","v":{"$error":"#N/A"}},{"$f":"_xlfn.IFS(K$7=\"søndag\",\"-\",K$6=\"skærtd\",\"h\",K$6=\"langfd\",\"h\",K$6=\"1påsked\",\"h\",K$6=\"2påsked\",\"h\",K$6=\"kr.himmelfart\",\"h\",K$6=\"1pinse\",\"h\",K$6=\"2pinse\",\"h\",K$6=\"1juledag\",\"h\",K$6=\"2juledag\",\"h\",K$6=\"nytårsdag\",\"h\")","v":{"$error":"#N/A"}},{"$f":"_xlfn.IFS(L$7=\"søndag\",\"-\",L$6=\"skærtd\",\"h\",L$6=\"langfd\",\"h\",L$6=\"1påsked\",\"h\",L$6=\"2påsked\",\"h\",L$6=\"kr.himmelfart\",\"h\",L$6=\"1pinse\",\"h\",L$6=\"2pinse\",\"h\",L$6=\"1juledag\",\"h\",L$6=\"2juledag\",\"h\",L$6=\"nytårsdag\",\"h\")","v":{"$error":"#N/A"}},{"$f":"_xlfn.IFS(M$7=\"søndag\",\"-\",M$6=\"skærtd\",\"h\",M$6=\"langfd\",\"h\",M$6=\"1påsked\",\"h\",M$6=\"2påsked\",\"h\",M$6=\"kr.himmelfart\",\"h\",M$6=\"1pinse\",\"h\",M$6=\"2pinse\",\"h\",M$6=\"1juledag\",\"h\",M$6=\"2juledag\",\"h\",M$6=\"nytårsdag\",\"h\")","v":{"$error":"#N/A"}},{"$f":"_xlfn.IFS(N$7=\"søndag\",\"-\",N$6=\"skærtd\",\"h\",N$6=\"langfd\",\"h\",N$6=\"1påsked\",\"h\",N$6=\"2påsked\",\"h\",N$6=\"kr.himmelfart\",\"h\",N$6=\"1pinse\",\"h\",N$6=\"2pinse\",\"h\",N$6=\"1juledag\",\"h\",N$6=\"2juledag\",\"h\",N$6=\"nytårsdag\",\"h\")","v":{"$error":"#N/A"}},{"$f":"_xlfn.IFS(O$7=\"søndag\",\"-\",O$6=\"skærtd\",\"h\",O$6=\"langfd\",\"h\",O$6=\"1påsked\",\"h\",O$6=\"2påsked\",\"h\",O$6=\"kr.himmelfart\",\"h\",O$6=\"1pinse\",\"h\",O$6=\"2pinse\",\"h\",O$6=\"1juledag\",\"h\",O$6=\"2juledag\",\"h\",O$6=\"nytårsdag\",\"h\")","v":{"$error":"#N/A"}},{"$f":"_xlfn.IFS(P$7=\"søndag\",\"-\",P$6=\"skærtd\",\"h\",P$6=\"langfd\",\"h\",P$6=\"1påsked\",\"h\",P$6=\"2påsked\",\"h\",P$6=\"kr.himmelfart\",\"h\",P$6=\"1pinse\",\"h\",P$6=\"2pinse\",\"h\",P$6=\"1juledag\",\"h\",P$6=\"2juledag\",\"h\",P$6=\"nytårsdag\",\"h\")","v":"-"},{"$f":"_xlfn.IFS(Q$7=\"søndag\",\"-\",Q$6=\"skærtd\",\"h\",Q$6=\"langfd\",\"h\",Q$6=\"1påsked\",\"h\",Q$6=\"2påsked\",\"h\",Q$6=\"kr.himmelfart\",\"h\",Q$6=\"1pinse\",\"h\",Q$6=\"2pinse\",\"h\",Q$6=\"1juledag\",\"h\",Q$6=\"2juledag\",\"h\",Q$6=\"nytårsdag\",\"h\")","v":{"$error":"#N/A"}},{"$f":"_xlfn.IFS(R$7=\"søndag\",\"-\",R$6=\"skærtd\",\"h\",R$6=\"langfd\",\"h\",R$6=\"1påsked\",\"h\",R$6=\"2påsked\",\"h\",R$6=\"kr.himmelfart\",\"h\",R$6=\"1pinse\",\"h\",R$6=\"2pinse\",\"h\",R$6=\"1juledag\",\"h\",R$6=\"2juledag\",\"h\",R$6=\"nytårsdag\",\"h\")","v":{"$error":"#N/A"}},{"$f":"_xlfn.IFS(S$7=\"søndag\",\"-\",S$6=\"skærtd\",\"h\",S$6=\"langfd\",\"h\",S$6=\"1påsked\",\"h\",S$6=\"2påsked\",\"h\",S$6=\"kr.himmelfart\",\"h\",S$6=\"1pinse\",\"h\",S$6=\"2pinse\",\"h\",S$6=\"1juledag\",\"h\",S$6=\"2juledag\",\"h\",S$6=\"nytårsdag\",\"h\")","v":{"$error":"#N/A"}},{"$f":"_xlfn.IFS(T$7=\"søndag\",\"-\",T$6=\"skærtd\",\"h\",T$6=\"langfd\",\"h\",T$6=\"1påsked\",\"h\",T$6=\"2påsked\",\"h\",T$6=\"kr.himmelfart\",\"h\",T$6=\"1pinse\",\"h\",T$6=\"2pinse\",\"h\",T$6=\"1juledag\",\"h\",T$6=\"2juledag\",\"h\",T$6=\"nytårsdag\",\"h\")","v":"h"},{"$f":"_xlfn.IFS(U$7=\"søndag\",\"-\",U$6=\"skærtd\",\"h\",U$6=\"langfd\",\"h\",U$6=\"1påsked\",\"h\",U$6=\"2påsked\",\"h\",U$6=\"kr.himmelfart\",\"h\",U$6=\"1pinse\",\"h\",U$6=\"2pinse\",\"h\",U$6=\"1juledag\",\"h\",U$6=\"2juledag\",\"h\",U$6=\"nytårsdag\",\"h\")","v":"h"},{"$f":"_xlfn.IFS(V$7=\"søndag\",\"-\",V$6=\"skærtd\",\"h\",V$6=\"langfd\",\"h\",V$6=\"1påsked\",\"h\",V$6=\"2påsked\",\"h\",V$6=\"kr.himmelfart\",\"h\",V$6=\"1pinse\",\"h\",V$6=\"2pinse\",\"h\",V$6=\"1juledag\",\"h\",V$6=\"2juledag\",\"h\",V$6=\"nytårsdag\",\"h\")","v":{"$error":"#N/A"}},{"$f":"_xlfn.IFS(W$7=\"søndag\",\"-\",W$6=\"skærtd\",\"h\",W$6=\"langfd\",\"h\",W$6=\"1påsked\",\"h\",W$6=\"2påsked\",\"h\",W$6=\"kr.himmelfart\",\"h\",W$6=\"1pinse\",\"h\",W$6=\"2pinse\",\"h\",W$6=\"1juledag\",\"h\",W$6=\"2juledag\",\"h\",W$6=\"nytårsdag\",\"h\")","v":"-"},{"$f":"_xlfn.IFS(X$7=\"søndag\",\"-\",X$6=\"skærtd\",\"h\",X$6=\"langfd\",\"h\",X$6=\"1påsked\",\"h\",X$6=\"2påsked\",\"h\",X$6=\"kr.himmelfart\",\"h\",X$6=\"1pinse\",\"h\",X$6=\"2pinse\",\"h\",X$6=\"1juledag\",\"h\",X$6=\"2juledag\",\"h\",X$6=\"nytårsdag\",\"h\")","v":"h"},{"$f":"_xlfn.IFS(Y$7=\"søndag\",\"-\",Y$6=\"skærtd\",\"h\",Y$6=\"langfd\",\"h\",Y$6=\"1påsked\",\"h\",Y$6=\"2påsked\",\"h\",Y$6=\"kr.himmelfart\",\"h\",Y$6=\"1pinse\",\"h\",Y$6=\"2pinse\",\"h\",Y$6=\"1juledag\",\"h\",Y$6=\"2juledag\",\"h\",Y$6=\"nytårsdag\",\"h\")","v":{"$error":"#N/A"}},{"$f":"_xlfn.IFS(Z$7=\"søndag\",\"-\",Z$6=\"skærtd\",\"h\",Z$6=\"langfd\",\"h\",Z$6=\"1påsked\",\"h\",Z$6=\"2påsked\",\"h\",Z$6=\"kr.himmelfart\",\"h\",Z$6=\"1pinse\",\"h\",Z$6=\"2pinse\",\"h\",Z$6=\"1juledag\",\"h\",Z$6=\"2juledag\",\"h\",Z$6=\"nytårsdag\",\"h\")","v":{"$error":"#N/A"}},{"$f":"_xlfn.IFS(AA$7=\"søndag\",\"-\",AA$6=\"skærtd\",\"h\",AA$6=\"langfd\",\"h\",AA$6=\"1påsked\",\"h\",AA$6=\"2påsked\",\"h\",AA$6=\"kr.himmelfart\",\"h\",AA$6=\"1pinse\",\"h\",AA$6=\"2pinse\",\"h\",AA$6=\"1juledag\",\"h\",AA$6=\"2juledag\",\"h\",AA$6=\"nytårsdag\",\"h\")","v":{"$error":"#N/A"}},{"$f":"_xlfn.IFS(AB$7=\"søndag\",\"-\",AB$6=\"skærtd\",\"h\",AB$6=\"langfd\",\"h\",AB$6=\"1påsked\",\"h\",AB$6=\"2påsked\",\"h\",AB$6=\"kr.himmelfart\",\"h\",AB$6=\"1pinse\",\"h\",AB$6=\"2pinse\",\"h\",AB$6=\"1juledag\",\"h\",AB$6=\"2juledag\",\"h\",AB$6=\"nytårsdag\",\"h\")","v":{"$error":"#N/A"}},{"$f":"_xlfn.IFS(AC$7=\"søndag\",\"-\",AC$6=\"skærtd\",\"h\",AC$6=\"langfd\",\"h\",AC$6=\"1påsked\",\"h\",AC$6=\"2påsked\",\"h\",AC$6=\"kr.himmelfart\",\"h\",AC$6=\"1pinse\",\"h\",AC$6=\"2pinse\",\"h\",AC$6=\"1juledag\",\"h\",AC$6=\"2juledag\",\"h\",AC$6=\"nytårsdag\",\"h\")","v":{"$error":"#N/A"}},{"$f":"_xlfn.IFS(AD$7=\"søndag\",\"-\",AD$6=\"skærtd\",\"h\",AD$6=\"langfd\",\"h\",AD$6=\"1påsked\",\"h\",AD$6=\"2påsked\",\"h\",AD$6=\"kr.himmelfart\",\"h\",AD$6=\"1pinse\",\"h\",AD$6=\"2pinse\",\"h\",AD$6=\"1juledag\",\"h\",AD$6=\"2juledag\",\"h\",AD$6=\"nytårsdag\",\"h\")","v":"-"},{"$f":"_xlfn.IFS(AE$7=\"søndag\",\"-\",AE$6=\"skærtd\",\"h\",AE$6=\"langfd\",\"h\",AE$6=\"1påsked\",\"h\",AE$6=\"2påsked\",\"h\",AE$6=\"kr.himmelfart\",\"h\",AE$6=\"1pinse\",\"h\",AE$6=\"2pinse\",\"h\",AE$6=\"1juledag\",\"h\",AE$6=\"2juledag\",\"h\",AE$6=\"nytårsdag\",\"h\")","v":{"$error":"#N/A"}},{"$f":"_xlfn.IFS(AF$7=\"søndag\",\"-\",AF$6=\"skærtd\",\"h\",AF$6=\"langfd\",\"h\",AF$6=\"1påsked\",\"h\",AF$6=\"2påsked\",\"h\",AF$6=\"kr.himmelfart\",\"h\",AF$6=\"1pinse\",\"h\",AF$6=\"2pinse\",\"h\",AF$6=\"1juledag\",\"h\",AF$6=\"2juledag\",\"h\",AF$6=\"nytårsdag\",\"h\")","v":{"$error":"#N/A"}},{"$f":"_xlfn.IFS(AG$7=\"søndag\",\"-\",AG$6=\"skærtd\",\"h\",AG$6=\"langfd\",\"h\",AG$6=\"1påsked\",\"h\",AG$6=\"2påsked\",\"h\",AG$6=\"kr.himmelfart\",\"h\",AG$6=\"1pinse\",\"h\",AG$6=\"2pinse\",\"h\",AG$6=\"1juledag\",\"h\",AG$6=\"2juledag\",\"h\",AG$6=\"nytårsdag\",\"h\")","v":{"$error":"#N/A"}},{"$f":"_xlfn.IFS(AH$7=\"søndag\",\"-\",AH$6=\"skærtd\",\"h\",AH$6=\"langfd\",\"h\",AH$6=\"1påsked\",\"h\",AH$6=\"2påsked\",\"h\",AH$6=\"kr.himmelfart\",\"h\",AH$6=\"1pinse\",\"h\",AH$6=\"2pinse\",\"h\",AH$6=\"1juledag\",\"h\",AH$6=\"2juledag\",\"h\",AH$6=\"nytårsdag\",\"h\")","v":{"$error":"#N/A"}}]
[null,"Sygedage",null,{"$f":"IF(D199=\"s\",D198,\"-\")","v":"-"},{"$f":"IF(E199=\"s\",E198,\"-\")","v":"-"},"-","-","-","-","-","-","-","-","-","-","-","-","-","-","-","-","-","-","-","-","-","-","-","-","-","-","-","-","-"]
[null,null,{"$f":"$C$15","v":14},"Timer uge",null,null,{"$f":"SUMIF($D$5:$AH$5,C204,D198:AH198)","v":0},{"$f":"$H$15","v":15},{"$f":"D204","v":"Timer uge"},null,null,null,null,{"$f":"SUMIF($D$5:$AH$5,H204,D198:AH198)","v":0},{"$f":"$O$15","v":16},{"$f":"D204","v":"Timer uge"},null,null,null,null,{"$f":"_xlfn.IFS($O204=$BV197,$BV198,$O204=$BW197,Lønskema!$BW198,$O204=$BX197,$BX198,$O204=$BY197,$BY198,$O204=$BZ197,$BZ198,$O204=$CA197,$CA198,$O204=$CB197,$CB198,$O204=$CC197,$CC198,$O204=$CD197,$CD198,$O204=$CE197,$CE198,$O204=$CF197,$CF198,$O204=$CG197,$CF198,$O204=$CG197,$CG198,$O204=$CH197,$CH198,$O204=$CI197,$CI198,$O204=$CJ197,$CJ198,$O204=$CK197,$CK198,$O204=$CL197,$CL198,$O204=$CM197,$CM198,$O204=$CN197,$CN198,$O204=$CO197,$CO198,$O204=$CP197,$CP198,$O204=$CQ197,$CQ198,$O204=$CR197,$CR198,$O204=$CS197,$CS198,$O204=$CT197,$CT198,$O204=$CU197,$CU198,$O204=$CV197,$CV198,$O204=$CW197,$CW198,$O204=$CX197,$CX198,$O204=$CY197,$CY198,$O204=$CZ197,$CZ198,$O204=$DA197,$DA198,$O204=$DB197,$DB198,$O204=$DC197,$DC198,$O204=$DD197,$DD198,$O204=$DE197,$DE198,$O204=$DF197,$DF198,$O204=$DG197,$DG198,$O204=$DH197,$DH198,$O204=$DI197,$DI198,$O204=$DJ197,$DJ198,$O204=$DK197,$DK198,$O204=$DL197,$DL198,$O204=$DM197,$DM198,$O204=$DN197,$DN198,$O204=$DO197,$DO198,$O204=$DP197,$DP198,$O204=$DQ197,$DQ198,$O204=$DR197,$DR198,$O204=$DS197,$DS198,$O204=$DT197,$DT198,$O204=$DU197,$DU198)","v":0},{"$f":"$V$15","v":17},{"$f":"D204","v":"Timer uge"},null,null,null,null,{"$f":"SUMIF($D$5:$AH$5,V204,D198:AH198)","v":0},{"$f":"$AC$15","v":18},{"$f":"D204","v":"Timer uge"},null,null,null,{"$f":"SUMIF($D$5:$AH$5,AC204,D198:AH198)","v":0},{"$f":"$AI$15","v":19},{"$f":"D204","v":"Timer uge"},null,null,null,{"$f":"SUMIF($D$5:$AH$5,AI204,D198:AH198)","v":0}]
[null,null,null,"Overarbejde 50% 1-3 timer",null,null,{"$f":"IF($G204>37,$G204-37-$G206,0)","v":0},null,{"$f":"D205","v":"Overarbejde 50% 1-3 timer"},null,null,null,null,{"$f":"IF($N204>37,$N204-37-$N206,0)","v":0},null,{"$f":"D205","v":"Overarbejde 50% 1-3 timer"},null,null,null,null,{"$f":"IF($U204>37,$U204-37-$U206,0)","v":0},null,{"$f":"D205","v":"Overarbejde 50% 1-3 timer"},null,null,null,null,{"$f":"IF($AB204>37,$AB204-37-$AB206,0)","v":0},null,{"$f":"D205","v":"Overarbejde 50% 1-3 timer"},null,null,null,{"$f":"IF($AH204>37,$AH204-37-$AH206,0)","v":0},null,{"$f":"D205","v":"Overarbejde 50% 1-3 timer"},null,null,null,{"$f":"IF($AH204>37,$AH204-37-$AH206,0)","v":0}]
[null,null,null,"Overarbejde 100% over 3 timer",null,null,{"$f":"IF($G204>40,$G204-40,0)","v":0},null,"Overarbejde 100% over 3 timer",null,null,null,null,{"$f":"IF($N204>40,$N204-40,0)","v":0},null,"Overarbejde 100% over 3 timer",null,null,null,null,{"$f":"IF($U204>40,$U204-40,0)","v":0},null,"Overarbejde 100% over 3 timer",null,null,null,null,{"$f":"IF($AB204>40,$AB204-40,0)","v":0},null,"Overarbejde 100% over 3 timer",null,null,null,{"$f":"IF($AH204>40,$AH204-40,0)","v":0},null,{"$f":"D206","v":"Overarbejde 100% over 3 timer"},null,null,null,{"$f":"IF($AH204>40,$AH204-40,0)","v":0},null,null,null,null,null,null,null,null,null,null,null,null,null,null,null,null,null,null,null,null,null,null,null,null,null,null,null,null,null,null,null,null,null,1,2,3,4,5,6,7,8,9,10,11,12,13,14,15,16,17,18,19,20,21,22,23,24,25,26,27,28,29,30,31,32,33,34,35,36,37,38,39,40,41,42,43,44,45,46,47,48,49,50,51,52]
[{"$f":"Medarbejder!A25","v":0},{"$f":"Medarbejder!B25","v":0},{"$f":"Medarbejder!C25","v":"-"},null,null,null,null,null,null,null,null,null,null,null,null,null,null,null,null,null,null,null,null,null,null,null,null,null,null,null,null,null,null,null,null,null,null,null,null,null,null,{"$f":"AO207*Overenskomst!$C$22","v":0},{"$f":"SUM($D207:$AH207)-$BA207-$BF207-$BD207","v":0},{"$f":"IF(Medarbejder!$J25=\"ja\",$AQ207,\"-\")","v":"-"},{"$f":"SUMIF($D$7:$AH$7,\"søndag\",$D207:$AH207)+$AT207","v":0},{"$f":"SUMIFS($D207:$AH207,$D211:$AH211,\"H\")","v":0},{"$f":"G214+N214+U214+AB214+AH214+AN214","v":0},{"$f":"G215+N215+U215+AB215+AH215+AN215","v":0},{"$f":"SUM($D209:$AH209)","v":0},{"$f":"SUM($D210:$AH210)","v":0},{"$f":"COUNTIFS($D208:$AH208,\"F\")","v":0},{"$f":"COUNTIFS($D208:$AH208,\"S\")","v":0},{"$f":"SUMIF($D208:$AH208,\"S\",$D212:$AH212)","v":0},{"$f":"COUNTIFS($D208:$AH208,\"p\")","v":0},{"$f":"COUNTIFS($D208:$AH208,\"BS\")","v":0},{"$f":"SUMIF(D208:AH208,\"bs\",$D207:$AH207)","v":0},{"$f":"COUNTIFS($D208:$AH208,\"FF\")","v":0},{"$f":"SUMIF($D208:$AH208,\"g\",$D207:$AH207)","v":0},{"$f":"Medarbejder!$N25","v":"-"},{"$f":"SUM($BL207:$BU207)","v":4},null,null,null,{"$f":"COUNTIFS($D$6:$AH$6,\"skærtd\")","v":1},{"$f":"COUNTIFS($D$6:$AH$6,\"langfd\")","v":1},{"$f":"COUNTIFS($D$6:$AH$6,\"1påsked\")","v":1},{"$f":"COUNTIFS($D$6:$AH$6,\"2påsked\")","v":1},{"$f":"COUNTIFS($D$6:$AH$6,\"kr.himmelfart\")","v":0},{"$f":"COUNTIFS($D$6:$AH$6,\"1pinse\")","v":0},{"$f":"COUNTIFS($D$6:$AH$6,\"2pinse\")","v":0},{"$f":"COUNTIFS($D$6:$AH$6,\"1juledag\")","v":0},{"$f":"COUNTIFS($D$6:$AH$6,\"2juledag\")","v":0},{"$f":"COUNTIFS($D$6:$AH$6,\"nytårsdag\")","v":0},{"$f":"SUMIFS($D207:$AH207,Lønskema!$D$5:$AH$5,1)","v":0},{"$f":"SUMIFS($D207:$AH207,Lønskema!$D$5:$AH$5,2)","v":0},{"$f":"SUMIFS($D207:$AH207,Lønskema!$D$5:$AH$5,3)","v":0},{"$f":"SUMIFS($D207:$AH207,Lønskema!$D$5:$AH$5,4)","v":0},{"$f":"SUMIFS($D207:$AH207,Lønskema!$D$5:$AH$5,5)","v":0},{"$f":"SUMIFS($D207:$AH207,Lønskema!$D$5:$AH$5,6)","v":0},{"$f":"SUMIFS($D207:$AH207,Lønskema!$D$5:$AH$5,7)","v":0},{"$f":"SUMIFS($D207:$AH207,Lønskema!$D$5:$AH$5,8)","v":0},{"$f":"SUMIFS($D207:$AH207,Lønskema!$D$5:$AH$5,9)","v":0},{"$f":"SUMIFS($D207:$AH207,Lønskema!$D$5:$AH$5,10)","v":0},{"$f":"SUMIFS($D207:$AH207,Lønskema!$D$5:$AH$5,11)","v":0},{"$f":"SUMIFS($D207:$AH207,Lønskema!$D$5:$AH$5,12)","v":0},{"$f":"SUMIFS($D207:$AH207,Lønskema!$D$5:$AH$5,13)","v":0},{"$f":"SUMIFS($D207:$AH207,Lønskema!$D$5:$AH$5,14)","v":0},{"$f":"SUMIFS($D207:$AH207,Lønskema!$D$5:$AH$5,15)","v":0},{"$f":"SUMIFS($D207:$AH207,Lønskema!$D$5:$AH$5,16)","v":0},{"$f":"SUMIFS($D207:$AH207,Lønskema!$D$5:$AH$5,17)","v":0},{"$f":"SUMIFS($D207:$AH207,Lønskema!$D$5:$AH$5,18)","v":0},{"$f":"SUMIFS($D207:$AH207,Lønskema!$D$5:$AH$5,19)","v":0},{"$f":"SUMIFS($D207:$AH207,Lønskema!$D$5:$AH$5,20)","v":0},{"$f":"SUMIFS($D207:$AH207,Lønskema!$D$5:$AH$5,21)","v":0},{"$f":"SUMIFS($D207:$AH207,Lønskema!$D$5:$AH$5,22)","v":0},{"$f":"SUMIFS($D207:$AH207,Lønskema!$D$5:$AH$5,23)","v":0},{"$f":"SUMIFS($D207:$AH207,Lønskema!$D$5:$AH$5,24)","v":0},{"$f":"SUMIFS($D207:$AH207,Lønskema!$D$5:$AH$5,25)","v":0},{"$f":"SUMIFS($D207:$AH207,Lønskema!$D$5:$AH$5,26)","v":0},{"$f":"SUMIFS($D207:$AH207,Lønskema!$D$5:$AH$5,27)","v":0},{"$f":"SUMIFS($D207:$AH207,Lønskema!$D$5:$AH$5,28)","v":0},{"$f":"SUMIFS($D207:$AH207,Lønskema!$D$5:$AH$5,29)","v":0},{"$f":"SUMIFS($D207:$AH207,Lønskema!$D$5:$AH$5,30)","v":0},{"$f":"SUMIFS($D207:$AH207,Lønskema!$D$5:$AH$5,31)","v":0},{"$f":"SUMIFS($D207:$AH207,Lønskema!$D$5:$AH$5,32)","v":0},{"$f":"SUMIFS($D207:$AH207,Lønskema!$D$5:$AH$5,33)","v":0},{"$f":"SUMIFS($D207:$AH207,Lønskema!$D$5:$AH$5,34)","v":0},{"$f":"SUMIFS($D207:$AH207,Lønskema!$D$5:$AH$5,35)","v":0},{"$f":"SUMIFS($D207:$AH207,Lønskema!$D$5:$AH$5,36)","v":0},{"$f":"SUMIFS($D207:$AH207,Lønskema!$D$5:$AH$5,37)","v":0},{"$f":"SUMIFS($D207:$AH207,Lønskema!$D$5:$AH$5,38)","v":0},{"$f":"SUMIFS($D207:$AH207,Lønskema!$D$5:$AH$5,39)","v":0},{"$f":"SUMIFS($D207:$AH207,Lønskema!$D$5:$AH$5,40)","v":0},{"$f":"SUMIFS($D207:$AH207,Lønskema!$D$5:$AH$5,41)","v":0},{"$f":"SUMIFS($D207:$AH207,Lønskema!$D$5:$AH$5,42)","v":0},{"$f":"SUMIFS($D207:$AH207,Lønskema!$D$5:$AH$5,43)","v":0},{"$f":"SUMIFS($D207:$AH207,Lønskema!$D$5:$AH$5,44)","v":0},{"$f":"SUMIFS($D207:$AH207,Lønskema!$D$5:$AH$5,45)","v":0},{"$f":"SUMIFS($D207:$AH207,Lønskema!$D$5:$AH$5,46)","v":0},{"$f":"SUMIFS($D207:$AH207,Lønskema!$D$5:$AH$5,47)","v":0},{"$f":"SUMIFS($D207:$AH207,Lønskema!$D$5:$AH$5,48)","v":0},{"$f":"SUMIFS($D207:$AH207,Lønskema!$D$5:$AH$5,49)","v":0},{"$f":"SUMIFS($D207:$AH207,Lønskema!$D$5:$AH$5,50)","v":0},{"$f":"SUMIFS($D207:$AH207,Lønskema!$D$5:$AH$5,51)","v":0},{"$f":"SUMIFS($D207:$AH207,Lønskema!$D$5:$AH$5,52)","v":0}]
["Ferie - syg  mm. Registreres i denne række"]
[null,"Aften"]
[null,"Nat"]
[null,"Helligdag",null,{"$f":"_xlfn.IFS(D$7=\"søndag\",\"-\",D$6=\"skærtd\",\"h\",D$6=\"langfd\",\"h\",D$6=\"1påsked\",\"h\",D$6=\"2påsked\",\"h\",D$6=\"kr.himmelfart\",\"h\",D$6=\"1pinse\",\"h\",D$6=\"2pinse\",\"h\",D$6=\"1juledag\",\"h\",D$6=\"2juledag\",\"h\",D$6=\"nytårsdag\",\"h\")","v":{"$error":"#N/A"}},{"$f":"_xlfn.IFS(E$7=\"søndag\",\"-\",E$6=\"skærtd\",\"h\",E$6=\"langfd\",\"h\",E$6=\"1påsked\",\"h\",E$6=\"2påsked\",\"h\",E$6=\"kr.himmelfart\",\"h\",E$6=\"1pinse\",\"h\",E$6=\"2pinse\",\"h\",E$6=\"1juledag\",\"h\",E$6=\"2juledag\",\"h\",E$6=\"nytårsdag\",\"h\")","v":{"$error":"#N/A"}},{"$f":"_xlfn.IFS(F$7=\"søndag\",\"-\",F$6=\"skærtd\",\"h\",F$6=\"langfd\",\"h\",F$6=\"1påsked\",\"h\",F$6=\"2påsked\",\"h\",F$6=\"kr.himmelfart\",\"h\",F$6=\"1pinse\",\"h\",F$6=\"2pinse\",\"h\",F$6=\"1juledag\",\"h\",F$6=\"2juledag\",\"h\",F$6=\"nytårsdag\",\"h\")","v":{"$error":"#N/A"}},{"$f":"_xlfn.IFS(G$7=\"søndag\",\"-\",G$6=\"skærtd\",\"h\",G$6=\"langfd\",\"h\",G$6=\"1påsked\",\"h\",G$6=\"2påsked\",\"h\",G$6=\"kr.himmelfart\",\"h\",G$6=\"1pinse\",\"h\",G$6=\"2pinse\",\"h\",G$6=\"1juledag\",\"h\",G$6=\"2juledag\",\"h\",G$6=\"nytårsdag\",\"h\")","v":{"$error":"#N/A"}},{"$f":"_xlfn.IFS(H$7=\"søndag\",\"-\",H$6=\"skærtd\",\"h\",H$6=\"langfd\",\"h\",H$6=\"1påsked\",\"h\",H$6=\"2påsked\",\"h\",H$6=\"kr.himmelfart\",\"h\",H$6=\"1pinse\",\"h\",H$6=\"2pinse\",\"h\",H$6=\"1juledag\",\"h\",H$6=\"2juledag\",\"h\",H$6=\"nytårsdag\",\"h\")","v":{"$error":"#N/A"}},{"$f":"_xlfn.IFS(I$7=\"søndag\",\"-\",I$6=\"skærtd\",\"h\",I$6=\"langfd\",\"h\",I$6=\"1påsked\",\"h\",I$6=\"2påsked\",\"h\",I$6=\"kr.himmelfart\",\"h\",I$6=\"1pinse\",\"h\",I$6=\"2pinse\",\"h\",I$6=\"1juledag\",\"h\",I$6=\"2juledag\",\"h\",I$6=\"nytårsdag\",\"h\")","v":"-"},{"$f":"_xlfn.IFS(J$7=\"søndag\",\"-\",J$6=\"skærtd\",\"h\",J$6=\"langfd\",\"h\",J$6=\"1påsked\",\"h\",J$6=\"2påsked\",\"h\",J$6=\"kr.himmelfart\",\"h\",J$6=\"1pinse\",\"h\",J$6=\"2pinse\",\"h\",J$6=\"1juledag\",\"h\",J$6=\"2juledag\",\"h\",J$6=\"nytårsdag\",\"h\")","v":{"$error":"#N/A"}},{"$f":"_xlfn.IFS(K$7=\"søndag\",\"-\",K$6=\"skærtd\",\"h\",K$6=\"langfd\",\"h\",K$6=\"1påsked\",\"h\",K$6=\"2påsked\",\"h\",K$6=\"kr.himmelfart\",\"h\",K$6=\"1pinse\",\"h\",K$6=\"2pinse\",\"h\",K$6=\"1juledag\",\"h\",K$6=\"2juledag\",\"h\",K$6=\"nytårsdag\",\"h\")","v":{"$error":"#N/A"}},{"$f":"_xlfn.IFS(L$7=\"søndag\",\"-\",L$6=\"skærtd\",\"h\",L$6=\"langfd\",\"h\",L$6=\"1påsked\",\"h\",L$6=\"2påsked\",\"h\",L$6=\"kr.himmelfart\",\"h\",L$6=\"1pinse\",\"h\",L$6=\"2pinse\",\"h\",L$6=\"1juledag\",\"h\",L$6=\"2juledag\",\"h\",L$6=\"nytårsdag\",\"h\")","v":{"$error":"#N/A"}},{"$f":"_xlfn.IFS(M$7=\"søndag\",\"-\",M$6=\"skærtd\",\"h\",M$6=\"langfd\",\"h\",M$6=\"1påsked\",\"h\",M$6=\"2påsked\",\"h\",M$6=\"kr.himmelfart\",\"h\",M$6=\"1pinse\",\"h\",M$6=\"2pinse\",\"h\",M$6=\"1juledag\",\"h\",M$6=\"2juledag\",\"h\",M$6=\"nytårsdag\",\"h\")","v":{"$error":"#N/A"}},{"$f":"_xlfn.IFS(N$7=\"søndag\",\"-\",N$6=\"skærtd\",\"h\",N$6=\"langfd\",\"h\",N$6=\"1påsked\",\"h\",N$6=\"2påsked\",\"h\",N$6=\"kr.himmelfart\",\"h\",N$6=\"1pinse\",\"h\",N$6=\"2pinse\",\"h\",N$6=\"1juledag\",\"h\",N$6=\"2juledag\",\"h\",N$6=\"nytårsdag\",\"h\")","v":{"$error":"#N/A"}},{"$f":"_xlfn.IFS(O$7=\"søndag\",\"-\",O$6=\"skærtd\",\"h\",O$6=\"langfd\",\"h\",O$6=\"1påsked\",\"h\",O$6=\"2påsked\",\"h\",O$6=\"kr.himmelfart\",\"h\",O$6=\"1pinse\",\"h\",O$6=\"2pinse\",\"h\",O$6=\"1juledag\",\"h\",O$6=\"2juledag\",\"h\",O$6=\"nytårsdag\",\"h\")","v":{"$error":"#N/A"}},{"$f":"_xlfn.IFS(P$7=\"søndag\",\"-\",P$6=\"skærtd\",\"h\",P$6=\"langfd\",\"h\",P$6=\"1påsked\",\"h\",P$6=\"2påsked\",\"h\",P$6=\"kr.himmelfart\",\"h\",P$6=\"1pinse\",\"h\",P$6=\"2pinse\",\"h\",P$6=\"1juledag\",\"h\",P$6=\"2juledag\",\"h\",P$6=\"nytårsdag\",\"h\")","v":"-"},{"$f":"_xlfn.IFS(Q$7=\"søndag\",\"-\",Q$6=\"skærtd\",\"h\",Q$6=\"langfd\",\"h\",Q$6=\"1påsked\",\"h\",Q$6=\"2påsked\",\"h\",Q$6=\"kr.himmelfart\",\"h\",Q$6=\"1pinse\",\"h\",Q$6=\"2pinse\",\"h\",Q$6=\"1juledag\",\"h\",Q$6=\"2juledag\",\"h\",Q$6=\"nytårsdag\",\"h\")","v":{"$error":"#N/A"}},{"$f":"_xlfn.IFS(R$7=\"søndag\",\"-\",R$6=\"skærtd\",\"h\",R$6=\"langfd\",\"h\",R$6=\"1påsked\",\"h\",R$6=\"2påsked\",\"h\",R$6=\"kr.himmelfart\",\"h\",R$6=\"1pinse\",\"h\",R$6=\"2pinse\",\"h\",R$6=\"1juledag\",\"h\",R$6=\"2juledag\",\"h\",R$6=\"nytårsdag\",\"h\")","v":{"$error":"#N/A"}},{"$f":"_xlfn.IFS(S$7=\"søndag\",\"-\",S$6=\"skærtd\",\"h\",S$6=\"langfd\",\"h\",S$6=\"1påsked\",\"h\",S$6=\"2påsked\",\"h\",S$6=\"kr.himmelfart\",\"h\",S$6=\"1pinse\",\"h\",S$6=\"2pinse\",\"h\",S$6=\"1juledag\",\"h\",S$6=\"2juledag\",\"h\",S$6=\"nytårsdag\",\"h\")","v":{"$error":"#N/A"}},{"$f":"_xlfn.IFS(T$7=\"søndag\",\"-\",T$6=\"skærtd\",\"h\",T$6=\"langfd\",\"h\",T$6=\"1påsked\",\"h\",T$6=\"2påsked\",\"h\",T$6=\"kr.himmelfart\",\"h\",T$6=\"1pinse\",\"h\",T$6=\"2pinse\",\"h\",T$6=\"1juledag\",\"h\",T$6=\"2juledag\",\"h\",T$6=\"nytårsdag\",\"h\")","v":"h"},{"$f":"_xlfn.IFS(U$7=\"søndag\",\"-\",U$6=\"skærtd\",\"h\",U$6=\"langfd\",\"h\",U$6=\"1påsked\",\"h\",U$6=\"2påsked\",\"h\",U$6=\"kr.himmelfart\",\"h\",U$6=\"1pinse\",\"h\",U$6=\"2pinse\",\"h\",U$6=\"1juledag\",\"h\",U$6=\"2juledag\",\"h\",U$6=\"nytårsdag\",\"h\")","v":"h"},{"$f":"_xlfn.IFS(V$7=\"søndag\",\"-\",V$6=\"skærtd\",\"h\",V$6=\"langfd\",\"h\",V$6=\"1påsked\",\"h\",V$6=\"2påsked\",\"h\",V$6=\"kr.himmelfart\",\"h\",V$6=\"1pinse\",\"h\",V$6=\"2pinse\",\"h\",V$6=\"1juledag\",\"h\",V$6=\"2juledag\",\"h\",V$6=\"nytårsdag\",\"h\")","v":{"$error":"#N/A"}},{"$f":"_xlfn.IFS(W$7=\"søndag\",\"-\",W$6=\"skærtd\",\"h\",W$6=\"langfd\",\"h\",W$6=\"1påsked\",\"h\",W$6=\"2påsked\",\"h\",W$6=\"kr.himmelfart\",\"h\",W$6=\"1pinse\",\"h\",W$6=\"2pinse\",\"h\",W$6=\"1juledag\",\"h\",W$6=\"2juledag\",\"h\",W$6=\"nytårsdag\",\"h\")","v":"-"},{"$f":"_xlfn.IFS(X$7=\"søndag\",\"-\",X$6=\"skærtd\",\"h\",X$6=\"langfd\",\"h\",X$6=\"1påsked\",\"h\",X$6=\"2påsked\",\"h\",X$6=\"kr.himmelfart\",\"h\",X$6=\"1pinse\",\"h\",X$6=\"2pinse\",\"h\",X$6=\"1juledag\",\"h\",X$6=\"2juledag\",\"h\",X$6=\"nytårsdag\",\"h\")","v":"h"},{"$f":"_xlfn.IFS(Y$7=\"søndag\",\"-\",Y$6=\"skærtd\",\"h\",Y$6=\"langfd\",\"h\",Y$6=\"1påsked\",\"h\",Y$6=\"2påsked\",\"h\",Y$6=\"kr.himmelfart\",\"h\",Y$6=\"1pinse\",\"h\",Y$6=\"2pinse\",\"h\",Y$6=\"1juledag\",\"h\",Y$6=\"2juledag\",\"h\",Y$6=\"nytårsdag\",\"h\")","v":{"$error":"#N/A"}},{"$f":"_xlfn.IFS(Z$7=\"søndag\",\"-\",Z$6=\"skærtd\",\"h\",Z$6=\"langfd\",\"h\",Z$6=\"1påsked\",\"h\",Z$6=\"2påsked\",\"h\",Z$6=\"kr.himmelfart\",\"h\",Z$6=\"1pinse\",\"h\",Z$6=\"2pinse\",\"h\",Z$6=\"1juledag\",\"h\",Z$6=\"2juledag\",\"h\",Z$6=\"nytårsdag\",\"h\")","v":{"$error":"#N/A"}},{"$f":"_xlfn.IFS(AA$7=\"søndag\",\"-\",AA$6=\"skærtd\",\"h\",AA$6=\"langfd\",\"h\",AA$6=\"1påsked\",\"h\",AA$6=\"2påsked\",\"h\",AA$6=\"kr.himmelfart\",\"h\",AA$6=\"1pinse\",\"h\",AA$6=\"2pinse\",\"h\",AA$6=\"1juledag\",\"h\",AA$6=\"2juledag\",\"h\",AA$6=\"nytårsdag\",\"h\")","v":{"$error":"#N/A"}},{"$f":"_xlfn.IFS(AB$7=\"søndag\",\"-\",AB$6=\"skærtd\",\"h\",AB$6=\"langfd\",\"h\",AB$6=\"1påsked\",\"h\",AB$6=\"2påsked\",\"h\",AB$6=\"kr.himmelfart\",\"h\",AB$6=\"1pinse\",\"h\",AB$6=\"2pinse\",\"h\",AB$6=\"1juledag\",\"h\",AB$6=\"2juledag\",\"h\",AB$6=\"nytårsdag\",\"h\")","v":{"$error":"#N/A"}},{"$f":"_xlfn.IFS(AC$7=\"søndag\",\"-\",AC$6=\"skærtd\",\"h\",AC$6=\"langfd\",\"h\",AC$6=\"1påsked\",\"h\",AC$6=\"2påsked\",\"h\",AC$6=\"kr.himmelfart\",\"h\",AC$6=\"1pinse\",\"h\",AC$6=\"2pinse\",\"h\",AC$6=\"1juledag\",\"h\",AC$6=\"2juledag\",\"h\",AC$6=\"nytårsdag\",\"h\")","v":{"$error":"#N/A"}},{"$f":"_xlfn.IFS(AD$7=\"søndag\",\"-\",AD$6=\"skærtd\",\"h\",AD$6=\"langfd\",\"h\",AD$6=\"1påsked\",\"h\",AD$6=\"2påsked\",\"h\",AD$6=\"kr.himmelfart\",\"h\",AD$6=\"1pinse\",\"h\",AD$6=\"2pinse\",\"h\",AD$6=\"1juledag\",\"h\",AD$6=\"2juledag\",\"h\",AD$6=\"nytårsdag\",\"h\")","v":"-"},{"$f":"_xlfn.IFS(AE$7=\"søndag\",\"-\",AE$6=\"skærtd\",\"h\",AE$6=\"langfd\",\"h\",AE$6=\"1påsked\",\"h\",AE$6=\"2påsked\",\"h\",AE$6=\"kr.himmelfart\",\"h\",AE$6=\"1pinse\",\"h\",AE$6=\"2pinse\",\"h\",AE$6=\"1juledag\",\"h\",AE$6=\"2juledag\",\"h\",AE$6=\"nytårsdag\",\"h\")","v":{"$error":"#N/A"}},{"$f":"_xlfn.IFS(AF$7=\"søndag\",\"-\",AF$6=\"skærtd\",\"h\",AF$6=\"langfd\",\"h\",AF$6=\"1påsked\",\"h\",AF$6=\"2påsked\",\"h\",AF$6=\"kr.himmelfart\",\"h\",AF$6=\"1pinse\",\"h\",AF$6=\"2pinse\",\"h\",AF$6=\"1juledag\",\"h\",AF$6=\"2juledag\",\"h\",AF$6=\"nytårsdag\",\"h\")","v":{"$error":"#N/A"}},{"$f":"_xlfn.IFS(AG$7=\"søndag\",\"-\",AG$6=\"skærtd\",\"h\",AG$6=\"langfd\",\"h\",AG$6=\"1påsked\",\"h\",AG$6=\"2påsked\",\"h\",AG$6=\"kr.himmelfart\",\"h\",AG$6=\"1pinse\",\"h\",AG$6=\"2pinse\",\"h\",AG$6=\"1juledag\",\"h\",AG$6=\"2juledag\",\"h\",AG$6=\"nytårsdag\",\"h\")","v":{"$error":"#N/A"}},{"$f":"_xlfn.IFS(AH$7=\"søndag\",\"-\",AH$6=\"skærtd\",\"h\",AH$6=\"langfd\",\"h\",AH$6=\"1påsked\",\"h\",AH$6=\"2påsked\",\"h\",AH$6=\"kr.himmelfart\",\"h\",AH$6=\"1pinse\",\"h\",AH$6=\"2pinse\",\"h\",AH$6=\"1juledag\",\"h\",AH$6=\"2juledag\",\"h\",AH$6=\"nytårsdag\",\"h\")","v":{"$error":"#N/A"}}]
[null,"Sygedage",null,{"$f":"IF(D208=\"s\",D207,\"-\")","v":"-"},{"$f":"IF(E208=\"s\",E207,\"-\")","v":"-"},"-","-","-","-","-","-","-","-","-","-","-","-","-","-","-","-","-","-","-","-","-","-","-","-","-","-","-","-","-"]
[null,null,{"$f":"$C$15","v":14},"Timer uge",null,null,{"$f":"SUMIF($D$5:$AH$5,C213,D207:AH207)","v":0},{"$f":"$H$15","v":15},{"$f":"D213","v":"Timer uge"},null,null,null,null,{"$f":"SUMIF($D$5:$AH$5,H213,D207:AH207)","v":0},{"$f":"$O$15","v":16},{"$f":"D213","v":"Timer uge"},null,null,null,null,{"$f":"_xlfn.IFS($O213=$BV206,$BV207,$O213=$BW206,Lønskema!$BW207,$O213=$BX206,$BX207,$O213=$BY206,$BY207,$O213=$BZ206,$BZ207,$O213=$CA206,$CA207,$O213=$CB206,$CB207,$O213=$CC206,$CC207,$O213=$CD206,$CD207,$O213=$CE206,$CE207,$O213=$CF206,$CF207,$O213=$CG206,$CF207,$O213=$CG206,$CG207,$O213=$CH206,$CH207,$O213=$CI206,$CI207,$O213=$CJ206,$CJ207,$O213=$CK206,$CK207,$O213=$CL206,$CL207,$O213=$CM206,$CM207,$O213=$CN206,$CN207,$O213=$CO206,$CO207,$O213=$CP206,$CP207,$O213=$CQ206,$CQ207,$O213=$CR206,$CR207,$O213=$CS206,$CS207,$O213=$CT206,$CT207,$O213=$CU206,$CU207,$O213=$CV206,$CV207,$O213=$CW206,$CW207,$O213=$CX206,$CX207,$O213=$CY206,$CY207,$O213=$CZ206,$CZ207,$O213=$DA206,$DA207,$O213=$DB206,$DB207,$O213=$DC206,$DC207,$O213=$DD206,$DD207,$O213=$DE206,$DE207,$O213=$DF206,$DF207,$O213=$DG206,$DG207,$O213=$DH206,$DH207,$O213=$DI206,$DI207,$O213=$DJ206,$DJ207,$O213=$DK206,$DK207,$O213=$DL206,$DL207,$O213=$DM206,$DM207,$O213=$DN206,$DN207,$O213=$DO206,$DO207,$O213=$DP206,$DP207,$O213=$DQ206,$DQ207,$O213=$DR206,$DR207,$O213=$DS206,$DS207,$O213=$DT206,$DT207,$O213=$DU206,$DU207)","v":0},{"$f":"$V$15","v":17},{"$f":"D213","v":"Timer uge"},null,null,null,null,{"$f":"SUMIF($D$5:$AH$5,V213,D207:AH207)","v":0},{"$f":"$AC$15","v":18},{"$f":"D213","v":"Timer uge"},null,null,null,{"$f":"SUMIF($D$5:$AH$5,AC213,D207:AH207)","v":0},{"$f":"$AI$15","v":19},{"$f":"D213","v":"Timer uge"},null,null,null,{"$f":"SUMIF($D$5:$AH$5,AI213,D207:AH207)","v":0}]
[null,null,null,"Overarbejde 50% 1-3 timer",null,null,{"$f":"IF($G213>37,$G213-37-$G215,0)","v":0},null,{"$f":"D214","v":"Overarbejde 50% 1-3 timer"},null,null,null,null,{"$f":"IF($N213>37,$N213-37-$N215,0)","v":0},null,{"$f":"D214","v":"Overarbejde 50% 1-3 timer"},null,null,null,null,{"$f":"IF($U213>37,$U213-37-$U215,0)","v":0},null,{"$f":"D214","v":"Overarbejde 50% 1-3 timer"},null,null,null,null,{"$f":"IF($AB213>37,$AB213-37-$AB215,0)","v":0},null,{"$f":"D214","v":"Overarbejde 50% 1-3 timer"},null,null,null,{"$f":"IF($AH213>37,$AH213-37-$AH215,0)","v":0},null,{"$f":"D214","v":"Overarbejde 50% 1-3 timer"},null,null,null,{"$f":"IF($AH213>37,$AH213-37-$AH215,0)","v":0}]
[null,null,null,"Overarbejde 100% over 3 timer",null,null,{"$f":"IF($G213>40,$G213-40,0)","v":0},null,"Overarbejde 100% over 3 timer",null,null,null,null,{"$f":"IF($N213>40,$N213-40,0)","v":0},null,"Overarbejde 100% over 3 timer",null,null,null,null,{"$f":"IF($U213>40,$U213-40,0)","v":0},null,"Overarbejde 100% over 3 timer",null,null,null,null,{"$f":"IF($AB213>40,$AB213-40,0)","v":0},null,"Overarbejde 100% over 3 timer",null,null,null,{"$f":"IF($AH213>40,$AH213-40,0)","v":0},null,{"$f":"D215","v":"Overarbejde 100% over 3 timer"},null,null,null,{"$f":"IF($AH213>40,$AH213-40,0)","v":0},null,null,null,null,null,null,null,null,null,null,null,null,null,null,null,null,null,null,null,null,null,null,null,null,null,null,null,null,null,null,null,null,null,1,2,3,4,5,6,7,8,9,10,11,12,13,14,15,16,17,18,19,20,21,22,23,24,25,26,27,28,29,30,31,32,33,34,35,36,37,38,39,40,41,42,43,44,45,46,47,48,49,50,51,52]
[{"$f":"Medarbejder!A26","v":0},{"$f":"Medarbejder!B26","v":0},{"$f":"Medarbejder!C26","v":"-"},null,null,null,null,null,null,null,null,null,null,null,null,null,null,null,null,null,null,null,null,null,null,null,null,null,null,null,null,null,null,null,null,null,null,null,null,null,null,{"$f":"AO216*Overenskomst!$C$22","v":0},{"$f":"SUM($D216:$AH216)-$BA216-$BF216-$BD216","v":0},{"$f":"IF(Medarbejder!$J26=\"ja\",$AQ216,\"-\")","v":"-"},{"$f":"SUMIF($D$7:$AH$7,\"søndag\",$D216:$AH216)+$AT216","v":0},{"$f":"SUMIFS($D216:$AH216,$D220:$AH220,\"H\")","v":0},{"$f":"G223+N223+U223+AB223+AH223+AN223","v":0},{"$f":"G224+N224+U224+AB224+AH224+AN224","v":0},{"$f":"SUM($D218:$AH218)","v":0},{"$f":"SUM($D219:$AH219)","v":0},{"$f":"COUNTIFS($D217:$AH217,\"F\")","v":0},{"$f":"COUNTIFS($D217:$AH217,\"S\")","v":0},{"$f":"SUMIF($D217:$AH217,\"S\",$D221:$AH221)","v":0},{"$f":"COUNTIFS($D217:$AH217,\"p\")","v":0},{"$f":"COUNTIFS($D217:$AH217,\"BS\")","v":0},{"$f":"SUMIF(D217:AH217,\"bs\",$D216:$AH216)","v":0},{"$f":"COUNTIFS($D217:$AH217,\"FF\")","v":0},{"$f":"SUMIF($D217:$AH217,\"g\",$D216:$AH216)","v":0},{"$f":"Medarbejder!$N26","v":"-"},{"$f":"SUM($BL216:$BU216)","v":4},null,null,null,{"$f":"COUNTIFS($D$6:$AH$6,\"skærtd\")","v":1},{"$f":"COUNTIFS($D$6:$AH$6,\"langfd\")","v":1},{"$f":"COUNTIFS($D$6:$AH$6,\"1påsked\")","v":1},{"$f":"COUNTIFS($D$6:$AH$6,\"2påsked\")","v":1},{"$f":"COUNTIFS($D$6:$AH$6,\"kr.himmelfart\")","v":0},{"$f":"COUNTIFS($D$6:$AH$6,\"1pinse\")","v":0},{"$f":"COUNTIFS($D$6:$AH$6,\"2pinse\")","v":0},{"$f":"COUNTIFS($D$6:$AH$6,\"1juledag\")","v":0},{"$f":"COUNTIFS($D$6:$AH$6,\"2juledag\")","v":0},{"$f":"COUNTIFS($D$6:$AH$6,\"nytårsdag\")","v":0},{"$f":"SUMIFS($D216:$AH216,Lønskema!$D$5:$AH$5,1)","v":0},{"$f":"SUMIFS($D216:$AH216,Lønskema!$D$5:$AH$5,2)","v":0},{"$f":"SUMIFS($D216:$AH216,Lønskema!$D$5:$AH$5,3)","v":0},{"$f":"SUMIFS($D216:$AH216,Lønskema!$D$5:$AH$5,4)","v":0},{"$f":"SUMIFS($D216:$AH216,Lønskema!$D$5:$AH$5,5)","v":0},{"$f":"SUMIFS($D216:$AH216,Lønskema!$D$5:$AH$5,6)","v":0},{"$f":"SUMIFS($D216:$AH216,Lønskema!$D$5:$AH$5,7)","v":0},{"$f":"SUMIFS($D216:$AH216,Lønskema!$D$5:$AH$5,8)","v":0},{"$f":"SUMIFS($D216:$AH216,Lønskema!$D$5:$AH$5,9)","v":0},{"$f":"SUMIFS($D216:$AH216,Lønskema!$D$5:$AH$5,10)","v":0},{"$f":"SUMIFS($D216:$AH216,Lønskema!$D$5:$AH$5,11)","v":0},{"$f":"SUMIFS($D216:$AH216,Lønskema!$D$5:$AH$5,12)","v":0},{"$f":"SUMIFS($D216:$AH216,Lønskema!$D$5:$AH$5,13)","v":0},{"$f":"SUMIFS($D216:$AH216,Lønskema!$D$5:$AH$5,14)","v":0},{"$f":"SUMIFS($D216:$AH216,Lønskema!$D$5:$AH$5,15)","v":0},{"$f":"SUMIFS($D216:$AH216,Lønskema!$D$5:$AH$5,16)","v":0},{"$f":"SUMIFS($D216:$AH216,Lønskema!$D$5:$AH$5,17)","v":0},{"$f":"SUMIFS($D216:$AH216,Lønskema!$D$5:$AH$5,18)","v":0},{"$f":"SUMIFS($D216:$AH216,Lønskema!$D$5:$AH$5,19)","v":0},{"$f":"SUMIFS($D216:$AH216,Lønskema!$D$5:$AH$5,20)","v":0},{"$f":"SUMIFS($D216:$AH216,Lønskema!$D$5:$AH$5,21)","v":0},{"$f":"SUMIFS($D216:$AH216,Lønskema!$D$5:$AH$5,22)","v":0},{"$f":"SUMIFS($D216:$AH216,Lønskema!$D$5:$AH$5,23)","v":0},{"$f":"SUMIFS($D216:$AH216,Lønskema!$D$5:$AH$5,24)","v":0},{"$f":"SUMIFS($D216:$AH216,Lønskema!$D$5:$AH$5,25)","v":0},{"$f":"SUMIFS($D216:$AH216,Lønskema!$D$5:$AH$5,26)","v":0},{"$f":"SUMIFS($D216:$AH216,Lønskema!$D$5:$AH$5,27)","v":0},{"$f":"SUMIFS($D216:$AH216,Lønskema!$D$5:$AH$5,28)","v":0},{"$f":"SUMIFS($D216:$AH216,Lønskema!$D$5:$AH$5,29)","v":0},{"$f":"SUMIFS($D216:$AH216,Lønskema!$D$5:$AH$5,30)","v":0},{"$f":"SUMIFS($D216:$AH216,Lønskema!$D$5:$AH$5,31)","v":0},{"$f":"SUMIFS($D216:$AH216,Lønskema!$D$5:$AH$5,32)","v":0},{"$f":"SUMIFS($D216:$AH216,Lønskema!$D$5:$AH$5,33)","v":0},{"$f":"SUMIFS($D216:$AH216,Lønskema!$D$5:$AH$5,34)","v":0},{"$f":"SUMIFS($D216:$AH216,Lønskema!$D$5:$AH$5,35)","v":0},{"$f":"SUMIFS($D216:$AH216,Lønskema!$D$5:$AH$5,36)","v":0},{"$f":"SUMIFS($D216:$AH216,Lønskema!$D$5:$AH$5,37)","v":0},{"$f":"SUMIFS($D216:$AH216,Lønskema!$D$5:$AH$5,38)","v":0},{"$f":"SUMIFS($D216:$AH216,Lønskema!$D$5:$AH$5,39)","v":0},{"$f":"SUMIFS($D216:$AH216,Lønskema!$D$5:$AH$5,40)","v":0},{"$f":"SUMIFS($D216:$AH216,Lønskema!$D$5:$AH$5,41)","v":0},{"$f":"SUMIFS($D216:$AH216,Lønskema!$D$5:$AH$5,42)","v":0},{"$f":"SUMIFS($D216:$AH216,Lønskema!$D$5:$AH$5,43)","v":0},{"$f":"SUMIFS($D216:$AH216,Lønskema!$D$5:$AH$5,44)","v":0},{"$f":"SUMIFS($D216:$AH216,Lønskema!$D$5:$AH$5,45)","v":0},{"$f":"SUMIFS($D216:$AH216,Lønskema!$D$5:$AH$5,46)","v":0},{"$f":"SUMIFS($D216:$AH216,Lønskema!$D$5:$AH$5,47)","v":0},{"$f":"SUMIFS($D216:$AH216,Lønskema!$D$5:$AH$5,48)","v":0},{"$f":"SUMIFS($D216:$AH216,Lønskema!$D$5:$AH$5,49)","v":0},{"$f":"SUMIFS($D216:$AH216,Lønskema!$D$5:$AH$5,50)","v":0},{"$f":"SUMIFS($D216:$AH216,Lønskema!$D$5:$AH$5,51)","v":0},{"$f":"SUMIFS($D216:$AH216,Lønskema!$D$5:$AH$5,52)","v":0}]
["Ferie - syg  mm. Registreres i denne række"]
[null,"Aften"]
[null,"Nat"]
[null,"Helligdag",null,{"$f":"_xlfn.IFS(D$7=\"søndag\",\"-\",D$6=\"skærtd\",\"h\",D$6=\"langfd\",\"h\",D$6=\"1påsked\",\"h\",D$6=\"2påsked\",\"h\",D$6=\"kr.himmelfart\",\"h\",D$6=\"1pinse\",\"h\",D$6=\"2pinse\",\"h\",D$6=\"1juledag\",\"h\",D$6=\"2juledag\",\"h\",D$6=\"nytårsdag\",\"h\")","v":{"$error":"#N/A"}},{"$f":"_xlfn.IFS(E$7=\"søndag\",\"-\",E$6=\"skærtd\",\"h\",E$6=\"langfd\",\"h\",E$6=\"1påsked\",\"h\",E$6=\"2påsked\",\"h\",E$6=\"kr.himmelfart\",\"h\",E$6=\"1pinse\",\"h\",E$6=\"2pinse\",\"h\",E$6=\"1juledag\",\"h\",E$6=\"2juledag\",\"h\",E$6=\"nytårsdag\",\"h\")","v":{"$error":"#N/A"}},{"$f":"_xlfn.IFS(F$7=\"søndag\",\"-\",F$6=\"skærtd\",\"h\",F$6=\"langfd\",\"h\",F$6=\"1påsked\",\"h\",F$6=\"2påsked\",\"h\",F$6=\"kr.himmelfart\",\"h\",F$6=\"1pinse\",\"h\",F$6=\"2pinse\",\"h\",F$6=\"1juledag\",\"h\",F$6=\"2juledag\",\"h\",F$6=\"nytårsdag\",\"h\")","v":{"$error":"#N/A"}},{"$f":"_xlfn.IFS(G$7=\"søndag\",\"-\",G$6=\"skærtd\",\"h\",G$6=\"langfd\",\"h\",G$6=\"1påsked\",\"h\",G$6=\"2påsked\",\"h\",G$6=\"kr.himmelfart\",\"h\",G$6=\"1pinse\",\"h\",G$6=\"2pinse\",\"h\",G$6=\"1juledag\",\"h\",G$6=\"2juledag\",\"h\",G$6=\"nytårsdag\",\"h\")","v":{"$error":"#N/A"}},{"$f":"_xlfn.IFS(H$7=\"søndag\",\"-\",H$6=\"skærtd\",\"h\",H$6=\"langfd\",\"h\",H$6=\"1påsked\",\"h\",H$6=\"2påsked\",\"h\",H$6=\"kr.himmelfart\",\"h\",H$6=\"1pinse\",\"h\",H$6=\"2pinse\",\"h\",H$6=\"1juledag\",\"h\",H$6=\"2juledag\",\"h\",H$6=\"nytårsdag\",\"h\")","v":{"$error":"#N/A"}},{"$f":"_xlfn.IFS(I$7=\"søndag\",\"-\",I$6=\"skærtd\",\"h\",I$6=\"langfd\",\"h\",I$6=\"1påsked\",\"h\",I$6=\"2påsked\",\"h\",I$6=\"kr.himmelfart\",\"h\",I$6=\"1pinse\",\"h\",I$6=\"2pinse\",\"h\",I$6=\"1juledag\",\"h\",I$6=\"2juledag\",\"h\",I$6=\"nytårsdag\",\"h\")","v":"-"},{"$f":"_xlfn.IFS(J$7=\"søndag\",\"-\",J$6=\"skærtd\",\"h\",J$6=\"langfd\",\"h\",J$6=\"1påsked\",\"h\",J$6=\"2påsked\",\"h\",J$6=\"kr.himmelfart\",\"h\",J$6=\"1pinse\",\"h\",J$6=\"2pinse\",\"h\",J$6=\"1juledag\",\"h\",J$6=\"2juledag\",\"h\",J$6=\"nytårsdag\",\"h\")","v":{"$error":"#N/A"}},{"$f":"_xlfn.IFS(K$7=\"søndag\",\"-\",K$6=\"skærtd\",\"h\",K$6=\"langfd\",\"h\",K$6=\"1påsked\",\"h\",K$6=\"2påsked\",\"h\",K$6=\"kr.himmelfart\",\"h\",K$6=\"1pinse\",\"h\",K$6=\"2pinse\",\"h\",K$6=\"1juledag\",\"h\",K$6=\"2juledag\",\"h\",K$6=\"nytårsdag\",\"h\")","v":{"$error":"#N/A"}},{"$f":"_xlfn.IFS(L$7=\"søndag\",\"-\",L$6=\"skærtd\",\"h\",L$6=\"langfd\",\"h\",L$6=\"1påsked\",\"h\",L$6=\"2påsked\",\"h\",L$6=\"kr.himmelfart\",\"h\",L$6=\"1pinse\",\"h\",L$6=\"2pinse\",\"h\",L$6=\"1juledag\",\"h\",L$6=\"2juledag\",\"h\",L$6=\"nytårsdag\",\"h\")","v":{"$error":"#N/A"}},{"$f":"_xlfn.IFS(M$7=\"søndag\",\"-\",M$6=\"skærtd\",\"h\",M$6=\"langfd\",\"h\",M$6=\"1påsked\",\"h\",M$6=\"2påsked\",\"h\",M$6=\"kr.himmelfart\",\"h\",M$6=\"1pinse\",\"h\",M$6=\"2pinse\",\"h\",M$6=\"1juledag\",\"h\",M$6=\"2juledag\",\"h\",M$6=\"nytårsdag\",\"h\")","v":{"$error":"#N/A"}},{"$f":"_xlfn.IFS(N$7=\"søndag\",\"-\",N$6=\"skærtd\",\"h\",N$6=\"langfd\",\"h\",N$6=\"1påsked\",\"h\",N$6=\"2påsked\",\"h\",N$6=\"kr.himmelfart\",\"h\",N$6=\"1pinse\",\"h\",N$6=\"2pinse\",\"h\",N$6=\"1juledag\",\"h\",N$6=\"2juledag\",\"h\",N$6=\"nytårsdag\",\"h\")","v":{"$error":"#N/A"}},{"$f":"_xlfn.IFS(O$7=\"søndag\",\"-\",O$6=\"skærtd\",\"h\",O$6=\"langfd\",\"h\",O$6=\"1påsked\",\"h\",O$6=\"2påsked\",\"h\",O$6=\"kr.himmelfart\",\"h\",O$6=\"1pinse\",\"h\",O$6=\"2pinse\",\"h\",O$6=\"1juledag\",\"h\",O$6=\"2juledag\",\"h\",O$6=\"nytårsdag\",\"h\")","v":{"$error":"#N/A"}},{"$f":"_xlfn.IFS(P$7=\"søndag\",\"-\",P$6=\"skærtd\",\"h\",P$6=\"langfd\",\"h\",P$6=\"1påsked\",\"h\",P$6=\"2påsked\",\"h\",P$6=\"kr.himmelfart\",\"h\",P$6=\"1pinse\",\"h\",P$6=\"2pinse\",\"h\",P$6=\"1juledag\",\"h\",P$6=\"2juledag\",\"h\",P$6=\"nytårsdag\",\"h\")","v":"-"},{"$f":"_xlfn.IFS(Q$7=\"søndag\",\"-\",Q$6=\"skærtd\",\"h\",Q$6=\"langfd\",\"h\",Q$6=\"1påsked\",\"h\",Q$6=\"2påsked\",\"h\",Q$6=\"kr.himmelfart\",\"h\",Q$6=\"1pinse\",\"h\",Q$6=\"2pinse\",\"h\",Q$6=\"1juledag\",\"h\",Q$6=\"2juledag\",\"h\",Q$6=\"nytårsdag\",\"h\")","v":{"$error":"#N/A"}},{"$f":"_xlfn.IFS(R$7=\"søndag\",\"-\",R$6=\"skærtd\",\"h\",R$6=\"langfd\",\"h\",R$6=\"1påsked\",\"h\",R$6=\"2påsked\",\"h\",R$6=\"kr.himmelfart\",\"h\",R$6=\"1pinse\",\"h\",R$6=\"2pinse\",\"h\",R$6=\"1juledag\",\"h\",R$6=\"2juledag\",\"h\",R$6=\"nytårsdag\",\"h\")","v":{"$error":"#N/A"}},{"$f":"_xlfn.IFS(S$7=\"søndag\",\"-\",S$6=\"skærtd\",\"h\",S$6=\"langfd\",\"h\",S$6=\"1påsked\",\"h\",S$6=\"2påsked\",\"h\",S$6=\"kr.himmelfart\",\"h\",S$6=\"1pinse\",\"h\",S$6=\"2pinse\",\"h\",S$6=\"1juledag\",\"h\",S$6=\"2juledag\",\"h\",S$6=\"nytårsdag\",\"h\")","v":{"$error":"#N/A"}},{"$f":"_xlfn.IFS(T$7=\"søndag\",\"-\",T$6=\"skærtd\",\"h\",T$6=\"langfd\",\"h\",T$6=\"1påsked\",\"h\",T$6=\"2påsked\",\"h\",T$6=\"kr.himmelfart\",\"h\",T$6=\"1pinse\",\"h\",T$6=\"2pinse\",\"h\",T$6=\"1juledag\",\"h\",T$6=\"2juledag\",\"h\",T$6=\"nytårsdag\",\"h\")","v":"h"},{"$f":"_xlfn.IFS(U$7=\"søndag\",\"-\",U$6=\"skærtd\",\"h\",U$6=\"langfd\",\"h\",U$6=\"1påsked\",\"h\",U$6=\"2påsked\",\"h\",U$6=\"kr.himmelfart\",\"h\",U$6=\"1pinse\",\"h\",U$6=\"2pinse\",\"h\",U$6=\"1juledag\",\"h\",U$6=\"2juledag\",\"h\",U$6=\"nytårsdag\",\"h\")","v":"h"},{"$f":"_xlfn.IFS(V$7=\"søndag\",\"-\",V$6=\"skærtd\",\"h\",V$6=\"langfd\",\"h\",V$6=\"1påsked\",\"h\",V$6=\"2påsked\",\"h\",V$6=\"kr.himmelfart\",\"h\",V$6=\"1pinse\",\"h\",V$6=\"2pinse\",\"h\",V$6=\"1juledag\",\"h\",V$6=\"2juledag\",\"h\",V$6=\"nytårsdag\",\"h\")","v":{"$error":"#N/A"}},{"$f":"_xlfn.IFS(W$7=\"søndag\",\"-\",W$6=\"skærtd\",\"h\",W$6=\"langfd\",\"h\",W$6=\"1påsked\",\"h\",W$6=\"2påsked\",\"h\",W$6=\"kr.himmelfart\",\"h\",W$6=\"1pinse\",\"h\",W$6=\"2pinse\",\"h\",W$6=\"1juledag\",\"h\",W$6=\"2juledag\",\"h\",W$6=\"nytårsdag\",\"h\")","v":"-"},{"$f":"_xlfn.IFS(X$7=\"søndag\",\"-\",X$6=\"skærtd\",\"h\",X$6=\"langfd\",\"h\",X$6=\"1påsked\",\"h\",X$6=\"2påsked\",\"h\",X$6=\"kr.himmelfart\",\"h\",X$6=\"1pinse\",\"h\",X$6=\"2pinse\",\"h\",X$6=\"1juledag\",\"h\",X$6=\"2juledag\",\"h\",X$6=\"nytårsdag\",\"h\")","v":"h"},{"$f":"_xlfn.IFS(Y$7=\"søndag\",\"-\",Y$6=\"skærtd\",\"h\",Y$6=\"langfd\",\"h\",Y$6=\"1påsked\",\"h\",Y$6=\"2påsked\",\"h\",Y$6=\"kr.himmelfart\",\"h\",Y$6=\"1pinse\",\"h\",Y$6=\"2pinse\",\"h\",Y$6=\"1juledag\",\"h\",Y$6=\"2juledag\",\"h\",Y$6=\"nytårsdag\",\"h\")","v":{"$error":"#N/A"}},{"$f":"_xlfn.IFS(Z$7=\"søndag\",\"-\",Z$6=\"skærtd\",\"h\",Z$6=\"langfd\",\"h\",Z$6=\"1påsked\",\"h\",Z$6=\"2påsked\",\"h\",Z$6=\"kr.himmelfart\",\"h\",Z$6=\"1pinse\",\"h\",Z$6=\"2pinse\",\"h\",Z$6=\"1juledag\",\"h\",Z$6=\"2juledag\",\"h\",Z$6=\"nytårsdag\",\"h\")","v":{"$error":"#N/A"}},{"$f":"_xlfn.IFS(AA$7=\"søndag\",\"-\",AA$6=\"skærtd\",\"h\",AA$6=\"langfd\",\"h\",AA$6=\"1påsked\",\"h\",AA$6=\"2påsked\",\"h\",AA$6=\"kr.himmelfart\",\"h\",AA$6=\"1pinse\",\"h\",AA$6=\"2pinse\",\"h\",AA$6=\"1juledag\",\"h\",AA$6=\"2juledag\",\"h\",AA$6=\"nytårsdag\",\"h\")","v":{"$error":"#N/A"}},{"$f":"_xlfn.IFS(AB$7=\"søndag\",\"-\",AB$6=\"skærtd\",\"h\",AB$6=\"langfd\",\"h\",AB$6=\"1påsked\",\"h\",AB$6=\"2påsked\",\"h\",AB$6=\"kr.himmelfart\",\"h\",AB$6=\"1pinse\",\"h\",AB$6=\"2pinse\",\"h\",AB$6=\"1juledag\",\"h\",AB$6=\"2juledag\",\"h\",AB$6=\"nytårsdag\",\"h\")","v":{"$error":"#N/A"}},{"$f":"_xlfn.IFS(AC$7=\"søndag\",\"-\",AC$6=\"skærtd\",\"h\",AC$6=\"langfd\",\"h\",AC$6=\"1påsked\",\"h\",AC$6=\"2påsked\",\"h\",AC$6=\"kr.himmelfart\",\"h\",AC$6=\"1pinse\",\"h\",AC$6=\"2pinse\",\"h\",AC$6=\"1juledag\",\"h\",AC$6=\"2juledag\",\"h\",AC$6=\"nytårsdag\",\"h\")","v":{"$error":"#N/A"}},{"$f":"_xlfn.IFS(AD$7=\"søndag\",\"-\",AD$6=\"skærtd\",\"h\",AD$6=\"langfd\",\"h\",AD$6=\"1påsked\",\"h\",AD$6=\"2påsked\",\"h\",AD$6=\"kr.himmelfart\",\"h\",AD$6=\"1pinse\",\"h\",AD$6=\"2pinse\",\"h\",AD$6=\"1juledag\",\"h\",AD$6=\"2juledag\",\"h\",AD$6=\"nytårsdag\",\"h\")","v":"-"},{"$f":"_xlfn.IFS(AE$7=\"søndag\",\"-\",AE$6=\"skærtd\",\"h\",AE$6=\"langfd\",\"h\",AE$6=\"1påsked\",\"h\",AE$6=\"2påsked\",\"h\",AE$6=\"kr.himmelfart\",\"h\",AE$6=\"1pinse\",\"h\",AE$6=\"2pinse\",\"h\",AE$6=\"1juledag\",\"h\",AE$6=\"2juledag\",\"h\",AE$6=\"nytårsdag\",\"h\")","v":{"$error":"#N/A"}},{"$f":"_xlfn.IFS(AF$7=\"søndag\",\"-\",AF$6=\"skærtd\",\"h\",AF$6=\"langfd\",\"h\",AF$6=\"1påsked\",\"h\",AF$6=\"2påsked\",\"h\",AF$6=\"kr.himmelfart\",\"h\",AF$6=\"1pinse\",\"h\",AF$6=\"2pinse\",\"h\",AF$6=\"1juledag\",\"h\",AF$6=\"2juledag\",\"h\",AF$6=\"nytårsdag\",\"h\")","v":{"$error":"#N/A"}},{"$f":"_xlfn.IFS(AG$7=\"søndag\",\"-\",AG$6=\"skærtd\",\"h\",AG$6=\"langfd\",\"h\",AG$6=\"1påsked\",\"h\",AG$6=\"2påsked\",\"h\",AG$6=\"kr.himmelfart\",\"h\",AG$6=\"1pinse\",\"h\",AG$6=\"2pinse\",\"h\",AG$6=\"1juledag\",\"h\",AG$6=\"2juledag\",\"h\",AG$6=\"nytårsdag\",\"h\")","v":{"$error":"#N/A"}},{"$f":"_xlfn.IFS(AH$7=\"søndag\",\"-\",AH$6=\"skærtd\",\"h\",AH$6=\"langfd\",\"h\",AH$6=\"1påsked\",\"h\",AH$6=\"2påsked\",\"h\",AH$6=\"kr.himmelfart\",\"h\",AH$6=\"1pinse\",\"h\",AH$6=\"2pinse\",\"h\",AH$6=\"1juledag\",\"h\",AH$6=\"2juledag\",\"h\",AH$6=\"nytårsdag\",\"h\")","v":{"$error":"#N/A"}}]
[null,"Sygedage",null,{"$f":"IF(D$217=\"s\",D216,\"-\")","v":"-"},{"$f":"IF(E$217=\"s\",E216,\"-\")","v":"-"},"-","-","-","-","-","-","-","-","-","-","-","-","-","-","-","-","-","-","-","-","-","-","-","-","-","-","-","-","-"]
[null,null,{"$f":"$C$15","v":14},"Timer uge",null,null,{"$f":"SUMIF($D$5:$AH$5,C222,D216:AH216)","v":0},{"$f":"$H$15","v":15},{"$f":"D222","v":"Timer uge"},null,null,null,null,{"$f":"SUMIF($D$5:$AH$5,H222,D216:AH216)","v":0},{"$f":"$O$15","v":16},{"$f":"D222","v":"Timer uge"},null,null,null,null,{"$f":"_xlfn.IFS($O222=$BV215,$BV216,$O222=$BW215,Lønskema!$BW216,$O222=$BX215,$BX216,$O222=$BY215,$BY216,$O222=$BZ215,$BZ216,$O222=$CA215,$CA216,$O222=$CB215,$CB216,$O222=$CC215,$CC216,$O222=$CD215,$CD216,$O222=$CE215,$CE216,$O222=$CF215,$CF216,$O222=$CG215,$CF216,$O222=$CG215,$CG216,$O222=$CH215,$CH216,$O222=$CI215,$CI216,$O222=$CJ215,$CJ216,$O222=$CK215,$CK216,$O222=$CL215,$CL216,$O222=$CM215,$CM216,$O222=$CN215,$CN216,$O222=$CO215,$CO216,$O222=$CP215,$CP216,$O222=$CQ215,$CQ216,$O222=$CR215,$CR216,$O222=$CS215,$CS216,$O222=$CT215,$CT216,$O222=$CU215,$CU216,$O222=$CV215,$CV216,$O222=$CW215,$CW216,$O222=$CX215,$CX216,$O222=$CY215,$CY216,$O222=$CZ215,$CZ216,$O222=$DA215,$DA216,$O222=$DB215,$DB216,$O222=$DC215,$DC216,$O222=$DD215,$DD216,$O222=$DE215,$DE216,$O222=$DF215,$DF216,$O222=$DG215,$DG216,$O222=$DH215,$DH216,$O222=$DI215,$DI216,$O222=$DJ215,$DJ216,$O222=$DK215,$DK216,$O222=$DL215,$DL216,$O222=$DM215,$DM216,$O222=$DN215,$DN216,$O222=$DO215,$DO216,$O222=$DP215,$DP216,$O222=$DQ215,$DQ216,$O222=$DR215,$DR216,$O222=$DS215,$DS216,$O222=$DT215,$DT216,$O222=$DU215,$DU216)","v":0},{"$f":"$V$15","v":17},{"$f":"D222","v":"Timer uge"},null,null,null,null,{"$f":"SUMIF($D$5:$AH$5,V222,D216:AH216)","v":0},{"$f":"$AC$15","v":18},{"$f":"D222","v":"Timer uge"},null,null,null,{"$f":"SUMIF($D$5:$AH$5,AC222,D216:AH216)","v":0},{"$f":"$AI$15","v":19},{"$f":"D222","v":"Timer uge"},null,null,null,{"$f":"SUMIF($D$5:$AH$5,AI222,D216:AH216)","v":0}]
[null,null,null,"Overarbejde 50% 1-3 timer",null,null,{"$f":"IF($G222>37,$G222-37-$G224,0)","v":0},null,{"$f":"D223","v":"Overarbejde 50% 1-3 timer"},null,null,null,null,{"$f":"IF($N222>37,$N222-37-$N224,0)","v":0},null,{"$f":"D223","v":"Overarbejde 50% 1-3 timer"},null,null,null,null,{"$f":"IF($U222>37,$U222-37-$U224,0)","v":0},null,{"$f":"D223","v":"Overarbejde 50% 1-3 timer"},null,null,null,null,{"$f":"IF($AB222>37,$AB222-37-$AB224,0)","v":0},null,{"$f":"D223","v":"Overarbejde 50% 1-3 timer"},null,null,null,{"$f":"IF($AH222>37,$AH222-37-$AH224,0)","v":0},null,{"$f":"D223","v":"Overarbejde 50% 1-3 timer"},null,null,null,{"$f":"IF($AH222>37,$AH222-37-$AH224,0)","v":0}]
[null,null,null,"Overarbejde 100% over 3 timer",null,null,{"$f":"IF($G222>40,$G222-40,0)","v":0},null,"Overarbejde 100% over 3 timer",null,null,null,null,{"$f":"IF($N222>40,$N222-40,0)","v":0},null,"Overarbejde 100% over 3 timer",null,null,null,null,{"$f":"IF($U222>40,$U222-40,0)","v":0},null,"Overarbejde 100% over 3 timer",null,null,null,null,{"$f":"IF($AB222>40,$AB222-40,0)","v":0},null,"Overarbejde 100% over 3 timer",null,null,null,{"$f":"IF($AH222>40,$AH222-40,0)","v":0},null,{"$f":"D224","v":"Overarbejde 100% over 3 timer"},null,null,null,{"$f":"IF($AH222>40,$AH222-40,0)","v":0},null,null,null,null,null,null,null,null,null,null,null,null,null,null,null,null,null,null,null,null,null,null,null,null,null,null,null,null,null,null,null,null,null,1,2,3,4,5,6,7,8,9,10,11,12,13,14,15,16,17,18,19,20,21,22,23,24,25,26,27,28,29,30,31,32,33,34,35,36,37,38,39,40,41,42,43,44,45,46,47,48,49,50,51,52]
[{"$f":"Medarbejder!A27","v":0},{"$f":"Medarbejder!B27","v":0},{"$f":"Medarbejder!C27","v":"-"},null,null,null,null,null,null,null,null,null,null,null,null,null,null,null,null,null,null,null,null,null,null,null,null,null,null,null,null,null,null,null,null,null,null,null,null,null,null,{"$f":"AO225*Overenskomst!$C$22","v":0},{"$f":"SUM($D225:$AH225)-$BA225-$BF225-$BD225","v":0},{"$f":"IF(Medarbejder!$J27=\"ja\",$AQ225,\"-\")","v":"-"},{"$f":"SUMIF($D$7:$AH$7,\"søndag\",$D225:$AH225)+$AT225","v":0},{"$f":"SUMIFS($D225:$AH225,$D229:$AH229,\"H\")","v":0},{"$f":"G232+N232+U232+AB232+AH232+AN232","v":0},{"$f":"G233+N233+U233+AB233+AH233+AN233","v":0},{"$f":"SUM($D227:$AH227)","v":0},{"$f":"SUM($D228:$AH228)","v":0},{"$f":"COUNTIFS($D226:$AH226,\"F\")","v":0},{"$f":"COUNTIFS($D226:$AH226,\"S\")","v":0},{"$f":"SUMIF($D226:$AH226,\"S\",$D230:$AH230)","v":0},{"$f":"COUNTIFS($D226:$AH226,\"p\")","v":0},{"$f":"COUNTIFS($D226:$AH226,\"BS\")","v":0},{"$f":"SUMIF(D226:AH226,\"bs\",$D225:$AH225)","v":0},{"$f":"COUNTIFS($D226:$AH226,\"FF\")","v":0},{"$f":"SUMIF($D226:$AH226,\"g\",$D225:$AH225)","v":0},{"$f":"Medarbejder!$N26","v":"-"},{"$f":"SUM($BL225:$BU225)","v":4},null,null,null,{"$f":"COUNTIFS($D$6:$AH$6,\"skærtd\")","v":1},{"$f":"COUNTIFS($D$6:$AH$6,\"langfd\")","v":1},{"$f":"COUNTIFS($D$6:$AH$6,\"1påsked\")","v":1},{"$f":"COUNTIFS($D$6:$AH$6,\"2påsked\")","v":1},{"$f":"COUNTIFS($D$6:$AH$6,\"kr.himmelfart\")","v":0},{"$f":"COUNTIFS($D$6:$AH$6,\"1pinse\")","v":0},{"$f":"COUNTIFS($D$6:$AH$6,\"2pinse\")","v":0},{"$f":"COUNTIFS($D$6:$AH$6,\"1juledag\")","v":0},{"$f":"COUNTIFS($D$6:$AH$6,\"2juledag\")","v":0},{"$f":"COUNTIFS($D$6:$AH$6,\"nytårsdag\")","v":0},{"$f":"SUMIFS($D225:$AH225,Lønskema!$D$5:$AH$5,1)","v":0},{"$f":"SUMIFS($D225:$AH225,Lønskema!$D$5:$AH$5,2)","v":0},{"$f":"SUMIFS($D225:$AH225,Lønskema!$D$5:$AH$5,3)","v":0},{"$f":"SUMIFS($D225:$AH225,Lønskema!$D$5:$AH$5,4)","v":0},{"$f":"SUMIFS($D225:$AH225,Lønskema!$D$5:$AH$5,5)","v":0},{"$f":"SUMIFS($D225:$AH225,Lønskema!$D$5:$AH$5,6)","v":0},{"$f":"SUMIFS($D225:$AH225,Lønskema!$D$5:$AH$5,7)","v":0},{"$f":"SUMIFS($D225:$AH225,Lønskema!$D$5:$AH$5,8)","v":0},{"$f":"SUMIFS($D225:$AH225,Lønskema!$D$5:$AH$5,9)","v":0},{"$f":"SUMIFS($D225:$AH225,Lønskema!$D$5:$AH$5,10)","v":0},{"$f":"SUMIFS($D225:$AH225,Lønskema!$D$5:$AH$5,11)","v":0},{"$f":"SUMIFS($D225:$AH225,Lønskema!$D$5:$AH$5,12)","v":0},{"$f":"SUMIFS($D225:$AH225,Lønskema!$D$5:$AH$5,13)","v":0},{"$f":"SUMIFS($D225:$AH225,Lønskema!$D$5:$AH$5,14)","v":0},{"$f":"SUMIFS($D225:$AH225,Lønskema!$D$5:$AH$5,15)","v":0},{"$f":"SUMIFS($D225:$AH225,Lønskema!$D$5:$AH$5,16)","v":0},{"$f":"SUMIFS($D225:$AH225,Lønskema!$D$5:$AH$5,17)","v":0},{"$f":"SUMIFS($D225:$AH225,Lønskema!$D$5:$AH$5,18)","v":0},{"$f":"SUMIFS($D225:$AH225,Lønskema!$D$5:$AH$5,19)","v":0},{"$f":"SUMIFS($D225:$AH225,Lønskema!$D$5:$AH$5,20)","v":0},{"$f":"SUMIFS($D225:$AH225,Lønskema!$D$5:$AH$5,21)","v":0},{"$f":"SUMIFS($D225:$AH225,Lønskema!$D$5:$AH$5,22)","v":0},{"$f":"SUMIFS($D225:$AH225,Lønskema!$D$5:$AH$5,23)","v":0},{"$f":"SUMIFS($D225:$AH225,Lønskema!$D$5:$AH$5,24)","v":0},{"$f":"SUMIFS($D225:$AH225,Lønskema!$D$5:$AH$5,25)","v":0},{"$f":"SUMIFS($D225:$AH225,Lønskema!$D$5:$AH$5,26)","v":0},{"$f":"SUMIFS($D225:$AH225,Lønskema!$D$5:$AH$5,27)","v":0},{"$f":"SUMIFS($D225:$AH225,Lønskema!$D$5:$AH$5,28)","v":0},{"$f":"SUMIFS($D225:$AH225,Lønskema!$D$5:$AH$5,29)","v":0},{"$f":"SUMIFS($D225:$AH225,Lønskema!$D$5:$AH$5,30)","v":0},{"$f":"SUMIFS($D225:$AH225,Lønskema!$D$5:$AH$5,31)","v":0},{"$f":"SUMIFS($D225:$AH225,Lønskema!$D$5:$AH$5,32)","v":0},{"$f":"SUMIFS($D225:$AH225,Lønskema!$D$5:$AH$5,33)","v":0},{"$f":"SUMIFS($D225:$AH225,Lønskema!$D$5:$AH$5,34)","v":0},{"$f":"SUMIFS($D225:$AH225,Lønskema!$D$5:$AH$5,35)","v":0},{"$f":"SUMIFS($D225:$AH225,Lønskema!$D$5:$AH$5,36)","v":0},{"$f":"SUMIFS($D225:$AH225,Lønskema!$D$5:$AH$5,37)","v":0},{"$f":"SUMIFS($D225:$AH225,Lønskema!$D$5:$AH$5,38)","v":0},{"$f":"SUMIFS($D225:$AH225,Lønskema!$D$5:$AH$5,39)","v":0},{"$f":"SUMIFS($D225:$AH225,Lønskema!$D$5:$AH$5,40)","v":0},{"$f":"SUMIFS($D225:$AH225,Lønskema!$D$5:$AH$5,41)","v":0},{"$f":"SUMIFS($D225:$AH225,Lønskema!$D$5:$AH$5,42)","v":0},{"$f":"SUMIFS($D225:$AH225,Lønskema!$D$5:$AH$5,43)","v":0},{"$f":"SUMIFS($D225:$AH225,Lønskema!$D$5:$AH$5,44)","v":0},{"$f":"SUMIFS($D225:$AH225,Lønskema!$D$5:$AH$5,45)","v":0},{"$f":"SUMIFS($D225:$AH225,Lønskema!$D$5:$AH$5,46)","v":0},{"$f":"SUMIFS($D225:$AH225,Lønskema!$D$5:$AH$5,47)","v":0},{"$f":"SUMIFS($D225:$AH225,Lønskema!$D$5:$AH$5,48)","v":0},{"$f":"SUMIFS($D225:$AH225,Lønskema!$D$5:$AH$5,49)","v":0},{"$f":"SUMIFS($D225:$AH225,Lønskema!$D$5:$AH$5,50)","v":0},{"$f":"SUMIFS($D225:$AH225,Lønskema!$D$5:$AH$5,51)","v":0},{"$f":"SUMIFS($D225:$AH225,Lønskema!$D$5:$AH$5,52)","v":0}]
["Ferie - syg  mm. Registreres i denne række"]
[null,"Aften"]
[null,"Nat"]
[null,"Helligdag",null,{"$f":"_xlfn.IFS(D$7=\"søndag\",\"-\",D$6=\"skærtd\",\"h\",D$6=\"langfd\",\"h\",D$6=\"1påsked\",\"h\",D$6=\"2påsked\",\"h\",D$6=\"kr.himmelfart\",\"h\",D$6=\"1pinse\",\"h\",D$6=\"2pinse\",\"h\",D$6=\"1juledag\",\"h\",D$6=\"2juledag\",\"h\",D$6=\"nytårsdag\",\"h\")","v":{"$error":"#N/A"}},{"$f":"_xlfn.IFS(E$7=\"søndag\",\"-\",E$6=\"skærtd\",\"h\",E$6=\"langfd\",\"h\",E$6=\"1påsked\",\"h\",E$6=\"2påsked\",\"h\",E$6=\"kr.himmelfart\",\"h\",E$6=\"1pinse\",\"h\",E$6=\"2pinse\",\"h\",E$6=\"1juledag\",\"h\",E$6=\"2juledag\",\"h\",E$6=\"nytårsdag\",\"h\")","v":{"$error":"#N/A"}},{"$f":"_xlfn.IFS(F$7=\"søndag\",\"-\",F$6=\"skærtd\",\"h\",F$6=\"langfd\",\"h\",F$6=\"1påsked\",\"h\",F$6=\"2påsked\",\"h\",F$6=\"kr.himmelfart\",\"h\",F$6=\"1pinse\",\"h\",F$6=\"2pinse\",\"h\",F$6=\"1juledag\",\"h\",F$6=\"2juledag\",\"h\",F$6=\"nytårsdag\",\"h\")","v":{"$error":"#N/A"}},{"$f":"_xlfn.IFS(G$7=\"søndag\",\"-\",G$6=\"skærtd\",\"h\",G$6=\"langfd\",\"h\",G$6=\"1påsked\",\"h\",G$6=\"2påsked\",\"h\",G$6=\"kr.himmelfart\",\"h\",G$6=\"1pinse\",\"h\",G$6=\"2pinse\",\"h\",G$6=\"1juledag\",\"h\",G$6=\"2juledag\",\"h\",G$6=\"nytårsdag\",\"h\")","v":{"$error":"#N/A"}},{"$f":"_xlfn.IFS(H$7=\"søndag\",\"-\",H$6=\"skærtd\",\"h\",H$6=\"langfd\",\"h\",H$6=\"1påsked\",\"h\",H$6=\"2påsked\",\"h\",H$6=\"kr.himmelfart\",\"h\",H$6=\"1pinse\",\"h\",H$6=\"2pinse\",\"h\",H$6=\"1juledag\",\"h\",H$6=\"2juledag\",\"h\",H$6=\"nytårsdag\",\"h\")","v":{"$error":"#N/A"}},{"$f":"_xlfn.IFS(I$7=\"søndag\",\"-\",I$6=\"skærtd\",\"h\",I$6=\"langfd\",\"h\",I$6=\"1påsked\",\"h\",I$6=\"2påsked\",\"h\",I$6=\"kr.himmelfart\",\"h\",I$6=\"1pinse\",\"h\",I$6=\"2pinse\",\"h\",I$6=\"1juledag\",\"h\",I$6=\"2juledag\",\"h\",I$6=\"nytårsdag\",\"h\")","v":"-"},{"$f":"_xlfn.IFS(J$7=\"søndag\",\"-\",J$6=\"skærtd\",\"h\",J$6=\"langfd\",\"h\",J$6=\"1påsked\",\"h\",J$6=\"2påsked\",\"h\",J$6=\"kr.himmelfart\",\"h\",J$6=\"1pinse\",\"h\",J$6=\"2pinse\",\"h\",J$6=\"1juledag\",\"h\",J$6=\"2juledag\",\"h\",J$6=\"nytårsdag\",\"h\")","v":{"$error":"#N/A"}},{"$f":"_xlfn.IFS(K$7=\"søndag\",\"-\",K$6=\"skærtd\",\"h\",K$6=\"langfd\",\"h\",K$6=\"1påsked\",\"h\",K$6=\"2påsked\",\"h\",K$6=\"kr.himmelfart\",\"h\",K$6=\"1pinse\",\"h\",K$6=\"2pinse\",\"h\",K$6=\"1juledag\",\"h\",K$6=\"2juledag\",\"h\",K$6=\"nytårsdag\",\"h\")","v":{"$error":"#N/A"}},{"$f":"_xlfn.IFS(L$7=\"søndag\",\"-\",L$6=\"skærtd\",\"h\",L$6=\"langfd\",\"h\",L$6=\"1påsked\",\"h\",L$6=\"2påsked\",\"h\",L$6=\"kr.himmelfart\",\"h\",L$6=\"1pinse\",\"h\",L$6=\"2pinse\",\"h\",L$6=\"1juledag\",\"h\",L$6=\"2juledag\",\"h\",L$6=\"nytårsdag\",\"h\")","v":{"$error":"#N/A"}},{"$f":"_xlfn.IFS(M$7=\"søndag\",\"-\",M$6=\"skærtd\",\"h\",M$6=\"langfd\",\"h\",M$6=\"1påsked\",\"h\",M$6=\"2påsked\",\"h\",M$6=\"kr.himmelfart\",\"h\",M$6=\"1pinse\",\"h\",M$6=\"2pinse\",\"h\",M$6=\"1juledag\",\"h\",M$6=\"2juledag\",\"h\",M$6=\"nytårsdag\",\"h\")","v":{"$error":"#N/A"}},{"$f":"_xlfn.IFS(N$7=\"søndag\",\"-\",N$6=\"skærtd\",\"h\",N$6=\"langfd\",\"h\",N$6=\"1påsked\",\"h\",N$6=\"2påsked\",\"h\",N$6=\"kr.himmelfart\",\"h\",N$6=\"1pinse\",\"h\",N$6=\"2pinse\",\"h\",N$6=\"1juledag\",\"h\",N$6=\"2juledag\",\"h\",N$6=\"nytårsdag\",\"h\")","v":{"$error":"#N/A"}},{"$f":"_xlfn.IFS(O$7=\"søndag\",\"-\",O$6=\"skærtd\",\"h\",O$6=\"langfd\",\"h\",O$6=\"1påsked\",\"h\",O$6=\"2påsked\",\"h\",O$6=\"kr.himmelfart\",\"h\",O$6=\"1pinse\",\"h\",O$6=\"2pinse\",\"h\",O$6=\"1juledag\",\"h\",O$6=\"2juledag\",\"h\",O$6=\"nytårsdag\",\"h\")","v":{"$error":"#N/A"}},{"$f":"_xlfn.IFS(P$7=\"søndag\",\"-\",P$6=\"skærtd\",\"h\",P$6=\"langfd\",\"h\",P$6=\"1påsked\",\"h\",P$6=\"2påsked\",\"h\",P$6=\"kr.himmelfart\",\"h\",P$6=\"1pinse\",\"h\",P$6=\"2pinse\",\"h\",P$6=\"1juledag\",\"h\",P$6=\"2juledag\",\"h\",P$6=\"nytårsdag\",\"h\")","v":"-"},{"$f":"_xlfn.IFS(Q$7=\"søndag\",\"-\",Q$6=\"skærtd\",\"h\",Q$6=\"langfd\",\"h\",Q$6=\"1påsked\",\"h\",Q$6=\"2påsked\",\"h\",Q$6=\"kr.himmelfart\",\"h\",Q$6=\"1pinse\",\"h\",Q$6=\"2pinse\",\"h\",Q$6=\"1juledag\",\"h\",Q$6=\"2juledag\",\"h\",Q$6=\"nytårsdag\",\"h\")","v":{"$error":"#N/A"}},{"$f":"_xlfn.IFS(R$7=\"søndag\",\"-\",R$6=\"skærtd\",\"h\",R$6=\"langfd\",\"h\",R$6=\"1påsked\",\"h\",R$6=\"2påsked\",\"h\",R$6=\"kr.himmelfart\",\"h\",R$6=\"1pinse\",\"h\",R$6=\"2pinse\",\"h\",R$6=\"1juledag\",\"h\",R$6=\"2juledag\",\"h\",R$6=\"nytårsdag\",\"h\")","v":{"$error":"#N/A"}},{"$f":"_xlfn.IFS(S$7=\"søndag\",\"-\",S$6=\"skærtd\",\"h\",S$6=\"langfd\",\"h\",S$6=\"1påsked\",\"h\",S$6=\"2påsked\",\"h\",S$6=\"kr.himmelfart\",\"h\",S$6=\"1pinse\",\"h\",S$6=\"2pinse\",\"h\",S$6=\"1juledag\",\"h\",S$6=\"2juledag\",\"h\",S$6=\"nytårsdag\",\"h\")","v":{"$error":"#N/A"}},{"$f":"_xlfn.IFS(T$7=\"søndag\",\"-\",T$6=\"skærtd\",\"h\",T$6=\"langfd\",\"h\",T$6=\"1påsked\",\"h\",T$6=\"2påsked\",\"h\",T$6=\"kr.himmelfart\",\"h\",T$6=\"1pinse\",\"h\",T$6=\"2pinse\",\"h\",T$6=\"1juledag\",\"h\",T$6=\"2juledag\",\"h\",T$6=\"nytårsdag\",\"h\")","v":"h"},{"$f":"_xlfn.IFS(U$7=\"søndag\",\"-\",U$6=\"skærtd\",\"h\",U$6=\"langfd\",\"h\",U$6=\"1påsked\",\"h\",U$6=\"2påsked\",\"h\",U$6=\"kr.himmelfart\",\"h\",U$6=\"1pinse\",\"h\",U$6=\"2pinse\",\"h\",U$6=\"1juledag\",\"h\",U$6=\"2juledag\",\"h\",U$6=\"nytårsdag\",\"h\")","v":"h"},{"$f":"_xlfn.IFS(V$7=\"søndag\",\"-\",V$6=\"skærtd\",\"h\",V$6=\"langfd\",\"h\",V$6=\"1påsked\",\"h\",V$6=\"2påsked\",\"h\",V$6=\"kr.himmelfart\",\"h\",V$6=\"1pinse\",\"h\",V$6=\"2pinse\",\"h\",V$6=\"1juledag\",\"h\",V$6=\"2juledag\",\"h\",V$6=\"nytårsdag\",\"h\")","v":{"$error":"#N/A"}},{"$f":"_xlfn.IFS(W$7=\"søndag\",\"-\",W$6=\"skærtd\",\"h\",W$6=\"langfd\",\"h\",W$6=\"1påsked\",\"h\",W$6=\"2påsked\",\"h\",W$6=\"kr.himmelfart\",\"h\",W$6=\"1pinse\",\"h\",W$6=\"2pinse\",\"h\",W$6=\"1juledag\",\"h\",W$6=\"2juledag\",\"h\",W$6=\"nytårsdag\",\"h\")","v":"-"},{"$f":"_xlfn.IFS(X$7=\"søndag\",\"-\",X$6=\"skærtd\",\"h\",X$6=\"langfd\",\"h\",X$6=\"1påsked\",\"h\",X$6=\"2påsked\",\"h\",X$6=\"kr.himmelfart\",\"h\",X$6=\"1pinse\",\"h\",X$6=\"2pinse\",\"h\",X$6=\"1juledag\",\"h\",X$6=\"2juledag\",\"h\",X$6=\"nytårsdag\",\"h\")","v":"h"},{"$f":"_xlfn.IFS(Y$7=\"søndag\",\"-\",Y$6=\"skærtd\",\"h\",Y$6=\"langfd\",\"h\",Y$6=\"1påsked\",\"h\",Y$6=\"2påsked\",\"h\",Y$6=\"kr.himmelfart\",\"h\",Y$6=\"1pinse\",\"h\",Y$6=\"2pinse\",\"h\",Y$6=\"1juledag\",\"h\",Y$6=\"2juledag\",\"h\",Y$6=\"nytårsdag\",\"h\")","v":{"$error":"#N/A"}},{"$f":"_xlfn.IFS(Z$7=\"søndag\",\"-\",Z$6=\"skærtd\",\"h\",Z$6=\"langfd\",\"h\",Z$6=\"1påsked\",\"h\",Z$6=\"2påsked\",\"h\",Z$6=\"kr.himmelfart\",\"h\",Z$6=\"1pinse\",\"h\",Z$6=\"2pinse\",\"h\",Z$6=\"1juledag\",\"h\",Z$6=\"2juledag\",\"h\",Z$6=\"nytårsdag\",\"h\")","v":{"$error":"#N/A"}},{"$f":"_xlfn.IFS(AA$7=\"søndag\",\"-\",AA$6=\"skærtd\",\"h\",AA$6=\"langfd\",\"h\",AA$6=\"1påsked\",\"h\",AA$6=\"2påsked\",\"h\",AA$6=\"kr.himmelfart\",\"h\",AA$6=\"1pinse\",\"h\",AA$6=\"2pinse\",\"h\",AA$6=\"1juledag\",\"h\",AA$6=\"2juledag\",\"h\",AA$6=\"nytårsdag\",\"h\")","v":{"$error":"#N/A"}},{"$f":"_xlfn.IFS(AB$7=\"søndag\",\"-\",AB$6=\"skærtd\",\"h\",AB$6=\"langfd\",\"h\",AB$6=\"1påsked\",\"h\",AB$6=\"2påsked\",\"h\",AB$6=\"kr.himmelfart\",\"h\",AB$6=\"1pinse\",\"h\",AB$6=\"2pinse\",\"h\",AB$6=\"1juledag\",\"h\",AB$6=\"2juledag\",\"h\",AB$6=\"nytårsdag\",\"h\")","v":{"$error":"#N/A"}},{"$f":"_xlfn.IFS(AC$7=\"søndag\",\"-\",AC$6=\"skærtd\",\"h\",AC$6=\"langfd\",\"h\",AC$6=\"1påsked\",\"h\",AC$6=\"2påsked\",\"h\",AC$6=\"kr.himmelfart\",\"h\",AC$6=\"1pinse\",\"h\",AC$6=\"2pinse\",\"h\",AC$6=\"1juledag\",\"h\",AC$6=\"2juledag\",\"h\",AC$6=\"nytårsdag\",\"h\")","v":{"$error":"#N/A"}},{"$f":"_xlfn.IFS(AD$7=\"søndag\",\"-\",AD$6=\"skærtd\",\"h\",AD$6=\"langfd\",\"h\",AD$6=\"1påsked\",\"h\",AD$6=\"2påsked\",\"h\",AD$6=\"kr.himmelfart\",\"h\",AD$6=\"1pinse\",\"h\",AD$6=\"2pinse\",\"h\",AD$6=\"1juledag\",\"h\",AD$6=\"2juledag\",\"h\",AD$6=\"nytårsdag\",\"h\")","v":"-"},{"$f":"_xlfn.IFS(AE$7=\"søndag\",\"-\",AE$6=\"skærtd\",\"h\",AE$6=\"langfd\",\"h\",AE$6=\"1påsked\",\"h\",AE$6=\"2påsked\",\"h\",AE$6=\"kr.himmelfart\",\"h\",AE$6=\"1pinse\",\"h\",AE$6=\"2pinse\",\"h\",AE$6=\"1juledag\",\"h\",AE$6=\"2juledag\",\"h\",AE$6=\"nytårsdag\",\"h\")","v":{"$error":"#N/A"}},{"$f":"_xlfn.IFS(AF$7=\"søndag\",\"-\",AF$6=\"skærtd\",\"h\",AF$6=\"langfd\",\"h\",AF$6=\"1påsked\",\"h\",AF$6=\"2påsked\",\"h\",AF$6=\"kr.himmelfart\",\"h\",AF$6=\"1pinse\",\"h\",AF$6=\"2pinse\",\"h\",AF$6=\"1juledag\",\"h\",AF$6=\"2juledag\",\"h\",AF$6=\"nytårsdag\",\"h\")","v":{"$error":"#N/A"}},{"$f":"_xlfn.IFS(AG$7=\"søndag\",\"-\",AG$6=\"skærtd\",\"h\",AG$6=\"langfd\",\"h\",AG$6=\"1påsked\",\"h\",AG$6=\"2påsked\",\"h\",AG$6=\"kr.himmelfart\",\"h\",AG$6=\"1pinse\",\"h\",AG$6=\"2pinse\",\"h\",AG$6=\"1juledag\",\"h\",AG$6=\"2juledag\",\"h\",AG$6=\"nytårsdag\",\"h\")","v":{"$error":"#N/A"}},{"$f":"_xlfn.IFS(AH$7=\"søndag\",\"-\",AH$6=\"skærtd\",\"h\",AH$6=\"langfd\",\"h\",AH$6=\"1påsked\",\"h\",AH$6=\"2påsked\",\"h\",AH$6=\"kr.himmelfart\",\"h\",AH$6=\"1pinse\",\"h\",AH$6=\"2pinse\",\"h\",AH$6=\"1juledag\",\"h\",AH$6=\"2juledag\",\"h\",AH$6=\"nytårsdag\",\"h\")","v":{"$error":"#N/A"}}]
[null,"Sygedage",null,{"$f":"IF(D226=\"s\",D225,\"-\")","v":"-"},{"$f":"IF(E226=\"s\",E225,\"-\")","v":"-"},"-","-","-","-","-","-","-","-","-","-","-","-","-","-","-","-","-","-","-","-","-","-","-","-","-","-","-","-","-"]
[null,null,{"$f":"$C$15","v":14},"Timer uge",null,null,{"$f":"SUMIF($D$5:$AH$5,C231,D225:AH225)","v":0},{"$f":"$H$15","v":15},{"$f":"D231","v":"Timer uge"},null,null,null,null,{"$f":"SUMIF($D$5:$AH$5,H231,D225:AH225)","v":0},{"$f":"$O$15","v":16},{"$f":"D231","v":"Timer uge"},null,null,null,null,{"$f":"_xlfn.IFS($O231=$BV224,$BV225,$O231=$BW224,Lønskema!$BW225,$O231=$BX224,$BX225,$O231=$BY224,$BY225,$O231=$BZ224,$BZ225,$O231=$CA224,$CA225,$O231=$CB224,$CB225,$O231=$CC224,$CC225,$O231=$CD224,$CD225,$O231=$CE224,$CE225,$O231=$CF224,$CF225,$O231=$CG224,$CF225,$O231=$CG224,$CG225,$O231=$CH224,$CH225,$O231=$CI224,$CI225,$O231=$CJ224,$CJ225,$O231=$CK224,$CK225,$O231=$CL224,$CL225,$O231=$CM224,$CM225,$O231=$CN224,$CN225,$O231=$CO224,$CO225,$O231=$CP224,$CP225,$O231=$CQ224,$CQ225,$O231=$CR224,$CR225,$O231=$CS224,$CS225,$O231=$CT224,$CT225,$O231=$CU224,$CU225,$O231=$CV224,$CV225,$O231=$CW224,$CW225,$O231=$CX224,$CX225,$O231=$CY224,$CY225,$O231=$CZ224,$CZ225,$O231=$DA224,$DA225,$O231=$DB224,$DB225,$O231=$DC224,$DC225,$O231=$DD224,$DD225,$O231=$DE224,$DE225,$O231=$DF224,$DF225,$O231=$DG224,$DG225,$O231=$DH224,$DH225,$O231=$DI224,$DI225,$O231=$DJ224,$DJ225,$O231=$DK224,$DK225,$O231=$DL224,$DL225,$O231=$DM224,$DM225,$O231=$DN224,$DN225,$O231=$DO224,$DO225,$O231=$DP224,$DP225,$O231=$DQ224,$DQ225,$O231=$DR224,$DR225,$O231=$DS224,$DS225,$O231=$DT224,$DT225,$O231=$DU224,$DU225)","v":0},{"$f":"$V$15","v":17},{"$f":"D231","v":"Timer uge"},null,null,null,null,{"$f":"SUMIF($D$5:$AH$5,V231,D225:AH225)","v":0},{"$f":"$AC$15","v":18},{"$f":"D231","v":"Timer uge"},null,null,null,{"$f":"SUMIF($D$5:$AH$5,AC231,D225:AH225)","v":0},{"$f":"$AI$15","v":19},{"$f":"D231","v":"Timer uge"},null,null,null,{"$f":"SUMIF($D$5:$AH$5,AI231,D225:AH225)","v":0}]
[null,null,null,"Overarbejde 50% 1-3 timer",null,null,{"$f":"IF($G231>37,$G231-37-$G233,0)","v":0},null,{"$f":"D232","v":"Overarbejde 50% 1-3 timer"},null,null,null,null,{"$f":"IF($N231>37,$N231-37-$N233,0)","v":0},null,{"$f":"D232","v":"Overarbejde 50% 1-3 timer"},null,null,null,null,{"$f":"IF($U231>37,$U231-37-$U233,0)","v":0},null,{"$f":"D232","v":"Overarbejde 50% 1-3 timer"},null,null,null,null,{"$f":"IF($AB231>37,$AB231-37-$AB233,0)","v":0},null,{"$f":"D232","v":"Overarbejde 50% 1-3 timer"},null,null,null,{"$f":"IF($AH231>37,$AH231-37-$AH233,0)","v":0},null,{"$f":"D232","v":"Overarbejde 50% 1-3 timer"},null,null,null,{"$f":"IF($AH231>37,$AH231-37-$AH233,0)","v":0}]
[null,null,null,"Overarbejde 100% over 3 timer",null,null,{"$f":"IF($G231>40,$G231-40,0)","v":0},null,"Overarbejde 100% over 3 timer",null,null,null,null,{"$f":"IF($N231>40,$N231-40,0)","v":0},null,"Overarbejde 100% over 3 timer",null,null,null,null,{"$f":"IF($U231>40,$U231-40,0)","v":0},null,"Overarbejde 100% over 3 timer",null,null,null,null,{"$f":"IF($AB231>40,$AB231-40,0)","v":0},null,"Overarbejde 100% over 3 timer",null,null,null,{"$f":"IF($AH231>40,$AH231-40,0)","v":0},null,{"$f":"D233","v":"Overarbejde 100% over 3 timer"},null,null,null,{"$f":"IF($AH231>40,$AH231-40,0)","v":0},null,null,null,null,null,null,null,null,null,null,null,null,null,null,null,null,null,null,null,null,null,null,null,null,null,null,null,null,null,null,null,null,null,1,2,3,4,5,6,7,8,9,10,11,12,13,14,15,16,17,18,19,20,21,22,23,24,25,26,27,28,29,30,31,32,33,34,35,36,37,38,39,40,41,42,43,44,45,46,47,48,49,50,51,52]
[{"$f":"Medarbejder!A28","v":0},{"$f":"Medarbejder!B28","v":0},{"$f":"Medarbejder!C28","v":"-"},null,null,null,null,null,null,null,null,null,null,null,null,null,null,null,null,null,null,null,null,null,null,null,null,null,null,null,null,null,null,null,null,null,null,null,null,null,null,{"$f":"AO234*Overenskomst!$C$22","v":0},{"$f":"SUM($D234:$AH234)-$BA234-$BF234-$BD234","v":0},{"$f":"IF(Medarbejder!$J28=\"ja\",$AQ234,\"-\")","v":"-"},{"$f":"SUMIF($D$7:$AH$7,\"søndag\",$D234:$AH234)+$AT234","v":0},{"$f":"SUMIFS($D234:$AH234,$D238:$AH238,\"H\")","v":0},{"$f":"G241+N241+U241+AB241+AH241+AN241","v":0},{"$f":"G242+N242+U242+AB242+AH242+AN242","v":0},{"$f":"SUM($D236:$AH236)","v":0},{"$f":"SUM($D237:$AH237)","v":0},{"$f":"COUNTIFS($D235:$AH235,\"F\")","v":0},{"$f":"COUNTIFS($D235:$AH235,\"S\")","v":0},{"$f":"SUMIF($D235:$AH235,\"S\",$D239:$AH239)","v":0},{"$f":"COUNTIFS($D235:$AH235,\"p\")","v":0},{"$f":"COUNTIFS($D235:$AH235,\"BS\")","v":0},{"$f":"SUMIF(D235:AH235,\"bs\",$D234:$AH234)","v":0},{"$f":"COUNTIFS($D235:$AH235,\"FF\")","v":0},{"$f":"SUMIF($D235:$AH235,\"g\",$D234:$AH234)","v":0},{"$f":"Medarbejder!$N27","v":"-"},{"$f":"SUM($BL234:$BU234)","v":4},null,null,null,{"$f":"COUNTIFS($D$6:$AH$6,\"skærtd\")","v":1},{"$f":"COUNTIFS($D$6:$AH$6,\"langfd\")","v":1},{"$f":"COUNTIFS($D$6:$AH$6,\"1påsked\")","v":1},{"$f":"COUNTIFS($D$6:$AH$6,\"2påsked\")","v":1},{"$f":"COUNTIFS($D$6:$AH$6,\"kr.himmelfart\")","v":0},{"$f":"COUNTIFS($D$6:$AH$6,\"1pinse\")","v":0},{"$f":"COUNTIFS($D$6:$AH$6,\"2pinse\")","v":0},{"$f":"COUNTIFS($D$6:$AH$6,\"1juledag\")","v":0},{"$f":"COUNTIFS($D$6:$AH$6,\"2juledag\")","v":0},{"$f":"COUNTIFS($D$6:$AH$6,\"nytårsdag\")","v":0},{"$f":"SUMIFS($D234:$AH234,Lønskema!$D$5:$AH$5,1)","v":0},{"$f":"SUMIFS($D234:$AH234,Lønskema!$D$5:$AH$5,2)","v":0},{"$f":"SUMIFS($D234:$AH234,Lønskema!$D$5:$AH$5,3)","v":0},{"$f":"SUMIFS($D234:$AH234,Lønskema!$D$5:$AH$5,4)","v":0},{"$f":"SUMIFS($D234:$AH234,Lønskema!$D$5:$AH$5,5)","v":0},{"$f":"SUMIFS($D234:$AH234,Lønskema!$D$5:$AH$5,6)","v":0},{"$f":"SUMIFS($D234:$AH234,Lønskema!$D$5:$AH$5,7)","v":0},{"$f":"SUMIFS($D234:$AH234,Lønskema!$D$5:$AH$5,8)","v":0},{"$f":"SUMIFS($D234:$AH234,Lønskema!$D$5:$AH$5,9)","v":0},{"$f":"SUMIFS($D234:$AH234,Lønskema!$D$5:$AH$5,10)","v":0},{"$f":"SUMIFS($D234:$AH234,Lønskema!$D$5:$AH$5,11)","v":0},{"$f":"SUMIFS($D234:$AH234,Lønskema!$D$5:$AH$5,12)","v":0},{"$f":"SUMIFS($D234:$AH234,Lønskema!$D$5:$AH$5,13)","v":0},{"$f":"SUMIFS($D234:$AH234,Lønskema!$D$5:$AH$5,14)","v":0},{"$f":"SUMIFS($D234:$AH234,Lønskema!$D$5:$AH$5,15)","v":0},{"$f":"SUMIFS($D234:$AH234,Lønskema!$D$5:$AH$5,16)","v":0},{"$f":"SUMIFS($D234:$AH234,Lønskema!$D$5:$AH$5,17)","v":0},{"$f":"SUMIFS($D234:$AH234,Lønskema!$D$5:$AH$5,18)","v":0},{"$f":"SUMIFS($D234:$AH234,Lønskema!$D$5:$AH$5,19)","v":0},{"$f":"SUMIFS($D234:$AH234,Lønskema!$D$5:$AH$5,20)","v":0},{"$f":"SUMIFS($D234:$AH234,Lønskema!$D$5:$AH$5,21)","v":0},{"$f":"SUMIFS($D234:$AH234,Lønskema!$D$5:$AH$5,22)","v":0},{"$f":"SUMIFS($D234:$AH234,Lønskema!$D$5:$AH$5,23)","v":0},{"$f":"SUMIFS($D234:$AH234,Lønskema!$D$5:$AH$5,24)","v":0},{"$f":"SUMIFS($D234:$AH234,Lønskema!$D$5:$AH$5,25)","v":0},{"$f":"SUMIFS($D234:$AH234,Lønskema!$D$5:$AH$5,26)","v":0},{"$f":"SUMIFS($D234:$AH234,Lønskema!$D$5:$AH$5,27)","v":0},{"$f":"SUMIFS($D234:$AH234,Lønskema!$D$5:$AH$5,28)","v":0},{"$f":"SUMIFS($D234:$AH234,Lønskema!$D$5:$AH$5,29)","v":0},{"$f":"SUMIFS($D234:$AH234,Lønskema!$D$5:$AH$5,30)","v":0},{"$f":"SUMIFS($D234:$AH234,Lønskema!$D$5:$AH$5,31)","v":0},{"$f":"SUMIFS($D234:$AH234,Lønskema!$D$5:$AH$5,32)","v":0},{"$f":"SUMIFS($D234:$AH234,Lønskema!$D$5:$AH$5,33)","v":0},{"$f":"SUMIFS($D234:$AH234,Lønskema!$D$5:$AH$5,34)","v":0},{"$f":"SUMIFS($D234:$AH234,Lønskema!$D$5:$AH$5,35)","v":0},{"$f":"SUMIFS($D234:$AH234,Lønskema!$D$5:$AH$5,36)","v":0},{"$f":"SUMIFS($D234:$AH234,Lønskema!$D$5:$AH$5,37)","v":0},{"$f":"SUMIFS($D234:$AH234,Lønskema!$D$5:$AH$5,38)","v":0},{"$f":"SUMIFS($D234:$AH234,Lønskema!$D$5:$AH$5,39)","v":0},{"$f":"SUMIFS($D234:$AH234,Lønskema!$D$5:$AH$5,40)","v":0},{"$f":"SUMIFS($D234:$AH234,Lønskema!$D$5:$AH$5,41)","v":0},{"$f":"SUMIFS($D234:$AH234,Lønskema!$D$5:$AH$5,42)","v":0},{"$f":"SUMIFS($D234:$AH234,Lønskema!$D$5:$AH$5,43)","v":0},{"$f":"SUMIFS($D234:$AH234,Lønskema!$D$5:$AH$5,44)","v":0},{"$f":"SUMIFS($D234:$AH234,Lønskema!$D$5:$AH$5,45)","v":0},{"$f":"SUMIFS($D234:$AH234,Lønskema!$D$5:$AH$5,46)","v":0},{"$f":"SUMIFS($D234:$AH234,Lønskema!$D$5:$AH$5,47)","v":0},{"$f":"SUMIFS($D234:$AH234,Lønskema!$D$5:$AH$5,48)","v":0},{"$f":"SUMIFS($D234:$AH234,Lønskema!$D$5:$AH$5,49)","v":0},{"$f":"SUMIFS($D234:$AH234,Lønskema!$D$5:$AH$5,50)","v":0},{"$f":"SUMIFS($D234:$AH234,Lønskema!$D$5:$AH$5,51)","v":0},{"$f":"SUMIFS($D234:$AH234,Lønskema!$D$5:$AH$5,52)","v":0}]
["Ferie - syg  mm. Registreres i denne række"]
[null,"Aften"]
[null,"Nat"]
[null,"Helligdag",null,{"$f":"_xlfn.IFS(D$7=\"søndag\",\"-\",D$6=\"skærtd\",\"h\",D$6=\"langfd\",\"h\",D$6=\"1påsked\",\"h\",D$6=\"2påsked\",\"h\",D$6=\"kr.himmelfart\",\"h\",D$6=\"1pinse\",\"h\",D$6=\"2pinse\",\"h\",D$6=\"1juledag\",\"h\",D$6=\"2juledag\",\"h\",D$6=\"nytårsdag\",\"h\")","v":{"$error":"#N/A"}},{"$f":"_xlfn.IFS(E$7=\"søndag\",\"-\",E$6=\"skærtd\",\"h\",E$6=\"langfd\",\"h\",E$6=\"1påsked\",\"h\",E$6=\"2påsked\",\"h\",E$6=\"kr.himmelfart\",\"h\",E$6=\"1pinse\",\"h\",E$6=\"2pinse\",\"h\",E$6=\"1juledag\",\"h\",E$6=\"2juledag\",\"h\",E$6=\"nytårsdag\",\"h\")","v":{"$error":"#N/A"}},{"$f":"_xlfn.IFS(F$7=\"søndag\",\"-\",F$6=\"skærtd\",\"h\",F$6=\"langfd\",\"h\",F$6=\"1påsked\",\"h\",F$6=\"2påsked\",\"h\",F$6=\"kr.himmelfart\",\"h\",F$6=\"1pinse\",\"h\",F$6=\"2pinse\",\"h\",F$6=\"1juledag\",\"h\",F$6=\"2juledag\",\"h\",F$6=\"nytårsdag\",\"h\")","v":{"$error":"#N/A"}},{"$f":"_xlfn.IFS(G$7=\"søndag\",\"-\",G$6=\"skærtd\",\"h\",G$6=\"langfd\",\"h\",G$6=\"1påsked\",\"h\",G$6=\"2påsked\",\"h\",G$6=\"kr.himmelfart\",\"h\",G$6=\"1pinse\",\"h\",G$6=\"2pinse\",\"h\",G$6=\"1juledag\",\"h\",G$6=\"2juledag\",\"h\",G$6=\"nytårsdag\",\"h\")","v":{"$error":"#N/A"}},{"$f":"_xlfn.IFS(H$7=\"søndag\",\"-\",H$6=\"skærtd\",\"h\",H$6=\"langfd\",\"h\",H$6=\"1påsked\",\"h\",H$6=\"2påsked\",\"h\",H$6=\"kr.himmelfart\",\"h\",H$6=\"1pinse\",\"h\",H$6=\"2pinse\",\"h\",H$6=\"1juledag\",\"h\",H$6=\"2juledag\",\"h\",H$6=\"nytårsdag\",\"h\")","v":{"$error":"#N/A"}},{"$f":"_xlfn.IFS(I$7=\"søndag\",\"-\",I$6=\"skærtd\",\"h\",I$6=\"langfd\",\"h\",I$6=\"1påsked\",\"h\",I$6=\"2påsked\",\"h\",I$6=\"kr.himmelfart\",\"h\",I$6=\"1pinse\",\"h\",I$6=\"2pinse\",\"h\",I$6=\"1juledag\",\"h\",I$6=\"2juledag\",\"h\",I$6=\"nytårsdag\",\"h\")","v":"-"},{"$f":"_xlfn.IFS(J$7=\"søndag\",\"-\",J$6=\"skærtd\",\"h\",J$6=\"langfd\",\"h\",J$6=\"1påsked\",\"h\",J$6=\"2påsked\",\"h\",J$6=\"kr.himmelfart\",\"h\",J$6=\"1pinse\",\"h\",J$6=\"2pinse\",\"h\",J$6=\"1juledag\",\"h\",J$6=\"2juledag\",\"h\",J$6=\"nytårsdag\",\"h\")","v":{"$error":"#N/A"}},{"$f":"_xlfn.IFS(K$7=\"søndag\",\"-\",K$6=\"skærtd\",\"h\",K$6=\"langfd\",\"h\",K$6=\"1påsked\",\"h\",K$6=\"2påsked\",\"h\",K$6=\"kr.himmelfart\",\"h\",K$6=\"1pinse\",\"h\",K$6=\"2pinse\",\"h\",K$6=\"1juledag\",\"h\",K$6=\"2juledag\",\"h\",K$6=\"nytårsdag\",\"h\")","v":{"$error":"#N/A"}},{"$f":"_xlfn.IFS(L$7=\"søndag\",\"-\",L$6=\"skærtd\",\"h\",L$6=\"langfd\",\"h\",L$6=\"1påsked\",\"h\",L$6=\"2påsked\",\"h\",L$6=\"kr.himmelfart\",\"h\",L$6=\"1pinse\",\"h\",L$6=\"2pinse\",\"h\",L$6=\"1juledag\",\"h\",L$6=\"2juledag\",\"h\",L$6=\"nytårsdag\",\"h\")","v":{"$error":"#N/A"}},{"$f":"_xlfn.IFS(M$7=\"søndag\",\"-\",M$6=\"skærtd\",\"h\",M$6=\"langfd\",\"h\",M$6=\"1påsked\",\"h\",M$6=\"2påsked\",\"h\",M$6=\"kr.himmelfart\",\"h\",M$6=\"1pinse\",\"h\",M$6=\"2pinse\",\"h\",M$6=\"1juledag\",\"h\",M$6=\"2juledag\",\"h\",M$6=\"nytårsdag\",\"h\")","v":{"$error":"#N/A"}},{"$f":"_xlfn.IFS(N$7=\"søndag\",\"-\",N$6=\"skærtd\",\"h\",N$6=\"langfd\",\"h\",N$6=\"1påsked\",\"h\",N$6=\"2påsked\",\"h\",N$6=\"kr.himmelfart\",\"h\",N$6=\"1pinse\",\"h\",N$6=\"2pinse\",\"h\",N$6=\"1juledag\",\"h\",N$6=\"2juledag\",\"h\",N$6=\"nytårsdag\",\"h\")","v":{"$error":"#N/A"}},{"$f":"_xlfn.IFS(O$7=\"søndag\",\"-\",O$6=\"skærtd\",\"h\",O$6=\"langfd\",\"h\",O$6=\"1påsked\",\"h\",O$6=\"2påsked\",\"h\",O$6=\"kr.himmelfart\",\"h\",O$6=\"1pinse\",\"h\",O$6=\"2pinse\",\"h\",O$6=\"1juledag\",\"h\",O$6=\"2juledag\",\"h\",O$6=\"nytårsdag\",\"h\")","v":{"$error":"#N/A"}},{"$f":"_xlfn.IFS(P$7=\"søndag\",\"-\",P$6=\"skærtd\",\"h\",P$6=\"langfd\",\"h\",P$6=\"1påsked\",\"h\",P$6=\"2påsked\",\"h\",P$6=\"kr.himmelfart\",\"h\",P$6=\"1pinse\",\"h\",P$6=\"2pinse\",\"h\",P$6=\"1juledag\",\"h\",P$6=\"2juledag\",\"h\",P$6=\"nytårsdag\",\"h\")","v":"-"},{"$f":"_xlfn.IFS(Q$7=\"søndag\",\"-\",Q$6=\"skærtd\",\"h\",Q$6=\"langfd\",\"h\",Q$6=\"1påsked\",\"h\",Q$6=\"2påsked\",\"h\",Q$6=\"kr.himmelfart\",\"h\",Q$6=\"1pinse\",\"h\",Q$6=\"2pinse\",\"h\",Q$6=\"1juledag\",\"h\",Q$6=\"2juledag\",\"h\",Q$6=\"nytårsdag\",\"h\")","v":{"$error":"#N/A"}},{"$f":"_xlfn.IFS(R$7=\"søndag\",\"-\",R$6=\"skærtd\",\"h\",R$6=\"langfd\",\"h\",R$6=\"1påsked\",\"h\",R$6=\"2påsked\",\"h\",R$6=\"kr.himmelfart\",\"h\",R$6=\"1pinse\",\"h\",R$6=\"2pinse\",\"h\",R$6=\"1juledag\",\"h\",R$6=\"2juledag\",\"h\",R$6=\"nytårsdag\",\"h\")","v":{"$error":"#N/A"}},{"$f":"_xlfn.IFS(S$7=\"søndag\",\"-\",S$6=\"skærtd\",\"h\",S$6=\"langfd\",\"h\",S$6=\"1påsked\",\"h\",S$6=\"2påsked\",\"h\",S$6=\"kr.himmelfart\",\"h\",S$6=\"1pinse\",\"h\",S$6=\"2pinse\",\"h\",S$6=\"1juledag\",\"h\",S$6=\"2juledag\",\"h\",S$6=\"nytårsdag\",\"h\")","v":{"$error":"#N/A"}},{"$f":"_xlfn.IFS(T$7=\"søndag\",\"-\",T$6=\"skærtd\",\"h\",T$6=\"langfd\",\"h\",T$6=\"1påsked\",\"h\",T$6=\"2påsked\",\"h\",T$6=\"kr.himmelfart\",\"h\",T$6=\"1pinse\",\"h\",T$6=\"2pinse\",\"h\",T$6=\"1juledag\",\"h\",T$6=\"2juledag\",\"h\",T$6=\"nytårsdag\",\"h\")","v":"h"},{"$f":"_xlfn.IFS(U$7=\"søndag\",\"-\",U$6=\"skærtd\",\"h\",U$6=\"langfd\",\"h\",U$6=\"1påsked\",\"h\",U$6=\"2påsked\",\"h\",U$6=\"kr.himmelfart\",\"h\",U$6=\"1pinse\",\"h\",U$6=\"2pinse\",\"h\",U$6=\"1juledag\",\"h\",U$6=\"2juledag\",\"h\",U$6=\"nytårsdag\",\"h\")","v":"h"},{"$f":"_xlfn.IFS(V$7=\"søndag\",\"-\",V$6=\"skærtd\",\"h\",V$6=\"langfd\",\"h\",V$6=\"1påsked\",\"h\",V$6=\"2påsked\",\"h\",V$6=\"kr.himmelfart\",\"h\",V$6=\"1pinse\",\"h\",V$6=\"2pinse\",\"h\",V$6=\"1juledag\",\"h\",V$6=\"2juledag\",\"h\",V$6=\"nytårsdag\",\"h\")","v":{"$error":"#N/A"}},{"$f":"_xlfn.IFS(W$7=\"søndag\",\"-\",W$6=\"skærtd\",\"h\",W$6=\"langfd\",\"h\",W$6=\"1påsked\",\"h\",W$6=\"2påsked\",\"h\",W$6=\"kr.himmelfart\",\"h\",W$6=\"1pinse\",\"h\",W$6=\"2pinse\",\"h\",W$6=\"1juledag\",\"h\",W$6=\"2juledag\",\"h\",W$6=\"nytårsdag\",\"h\")","v":"-"},{"$f":"_xlfn.IFS(X$7=\"søndag\",\"-\",X$6=\"skærtd\",\"h\",X$6=\"langfd\",\"h\",X$6=\"1påsked\",\"h\",X$6=\"2påsked\",\"h\",X$6=\"kr.himmelfart\",\"h\",X$6=\"1pinse\",\"h\",X$6=\"2pinse\",\"h\",X$6=\"1juledag\",\"h\",X$6=\"2juledag\",\"h\",X$6=\"nytårsdag\",\"h\")","v":"h"},{"$f":"_xlfn.IFS(Y$7=\"søndag\",\"-\",Y$6=\"skærtd\",\"h\",Y$6=\"langfd\",\"h\",Y$6=\"1påsked\",\"h\",Y$6=\"2påsked\",\"h\",Y$6=\"kr.himmelfart\",\"h\",Y$6=\"1pinse\",\"h\",Y$6=\"2pinse\",\"h\",Y$6=\"1juledag\",\"h\",Y$6=\"2juledag\",\"h\",Y$6=\"nytårsdag\",\"h\")","v":{"$error":"#N/A"}},{"$f":"_xlfn.IFS(Z$7=\"søndag\",\"-\",Z$6=\"skærtd\",\"h\",Z$6=\"langfd\",\"h\",Z$6=\"1påsked\",\"h\",Z$6=\"2påsked\",\"h\",Z$6=\"kr.himmelfart\",\"h\",Z$6=\"1pinse\",\"h\",Z$6=\"2pinse\",\"h\",Z$6=\"1juledag\",\"h\",Z$6=\"2juledag\",\"h\",Z$6=\"nytårsdag\",\"h\")","v":{"$error":"#N/A"}},{"$f":"_xlfn.IFS(AA$7=\"søndag\",\"-\",AA$6=\"skærtd\",\"h\",AA$6=\"langfd\",\"h\",AA$6=\"1påsked\",\"h\",AA$6=\"2påsked\",\"h\",AA$6=\"kr.himmelfart\",\"h\",AA$6=\"1pinse\",\"h\",AA$6=\"2pinse\",\"h\",AA$6=\"1juledag\",\"h\",AA$6=\"2juledag\",\"h\",AA$6=\"nytårsdag\",\"h\")","v":{"$error":"#N/A"}},{"$f":"_xlfn.IFS(AB$7=\"søndag\",\"-\",AB$6=\"skærtd\",\"h\",AB$6=\"langfd\",\"h\",AB$6=\"1påsked\",\"h\",AB$6=\"2påsked\",\"h\",AB$6=\"kr.himmelfart\",\"h\",AB$6=\"1pinse\",\"h\",AB$6=\"2pinse\",\"h\",AB$6=\"1juledag\",\"h\",AB$6=\"2juledag\",\"h\",AB$6=\"nytårsdag\",\"h\")","v":{"$error":"#N/A"}},{"$f":"_xlfn.IFS(AC$7=\"søndag\",\"-\",AC$6=\"skærtd\",\"h\",AC$6=\"langfd\",\"h\",AC$6=\"1påsked\",\"h\",AC$6=\"2påsked\",\"h\",AC$6=\"kr.himmelfart\",\"h\",AC$6=\"1pinse\",\"h\",AC$6=\"2pinse\",\"h\",AC$6=\"1juledag\",\"h\",AC$6=\"2juledag\",\"h\",AC$6=\"nytårsdag\",\"h\")","v":{"$error":"#N/A"}},{"$f":"_xlfn.IFS(AD$7=\"søndag\",\"-\",AD$6=\"skærtd\",\"h\",AD$6=\"langfd\",\"h\",AD$6=\"1påsked\",\"h\",AD$6=\"2påsked\",\"h\",AD$6=\"kr.himmelfart\",\"h\",AD$6=\"1pinse\",\"h\",AD$6=\"2pinse\",\"h\",AD$6=\"1juledag\",\"h\",AD$6=\"2juledag\",\"h\",AD$6=\"nytårsdag\",\"h\")","v":"-"},{"$f":"_xlfn.IFS(AE$7=\"søndag\",\"-\",AE$6=\"skærtd\",\"h\",AE$6=\"langfd\",\"h\",AE$6=\"1påsked\",\"h\",AE$6=\"2påsked\",\"h\",AE$6=\"kr.himmelfart\",\"h\",AE$6=\"1pinse\",\"h\",AE$6=\"2pinse\",\"h\",AE$6=\"1juledag\",\"h\",AE$6=\"2juledag\",\"h\",AE$6=\"nytårsdag\",\"h\")","v":{"$error":"#N/A"}},{"$f":"_xlfn.IFS(AF$7=\"søndag\",\"-\",AF$6=\"skærtd\",\"h\",AF$6=\"langfd\",\"h\",AF$6=\"1påsked\",\"h\",AF$6=\"2påsked\",\"h\",AF$6=\"kr.himmelfart\",\"h\",AF$6=\"1pinse\",\"h\",AF$6=\"2pinse\",\"h\",AF$6=\"1juledag\",\"h\",AF$6=\"2juledag\",\"h\",AF$6=\"nytårsdag\",\"h\")","v":{"$error":"#N/A"}},{"$f":"_xlfn.IFS(AG$7=\"søndag\",\"-\",AG$6=\"skærtd\",\"h\",AG$6=\"langfd\",\"h\",AG$6=\"1påsked\",\"h\",AG$6=\"2påsked\",\"h\",AG$6=\"kr.himmelfart\",\"h\",AG$6=\"1pinse\",\"h\",AG$6=\"2pinse\",\"h\",AG$6=\"1juledag\",\"h\",AG$6=\"2juledag\",\"h\",AG$6=\"nytårsdag\",\"h\")","v":{"$error":"#N/A"}},{"$f":"_xlfn.IFS(AH$7=\"søndag\",\"-\",AH$6=\"skærtd\",\"h\",AH$6=\"langfd\",\"h\",AH$6=\"1påsked\",\"h\",AH$6=\"2påsked\",\"h\",AH$6=\"kr.himmelfart\",\"h\",AH$6=\"1pinse\",\"h\",AH$6=\"2pinse\",\"h\",AH$6=\"1juledag\",\"h\",AH$6=\"2juledag\",\"h\",AH$6=\"nytårsdag\",\"h\")","v":{"$error":"#N/A"}}]
[null,"Sygedage",null,{"$f":"IF(D235=\"s\",D234,\"-\")","v":"-"},{"$f":"IF(E235=\"s\",E234,\"-\")","v":"-"},"-","-","-","-","-","-","-","-","-","-","-","-","-","-","-","-","-","-","-","-","-","-","-","-","-","-","-","-","-"]
[null,null,{"$f":"$C$15","v":14},"Timer uge",null,null,{"$f":"SUMIF($D$5:$AH$5,C240,D234:AH234)","v":0},{"$f":"$H$15","v":15},{"$f":"D240","v":"Timer uge"},null,null,null,null,{"$f":"SUMIF($D$5:$AH$5,H240,D234:AH234)","v":0},{"$f":"$O$15","v":16},{"$f":"D240","v":"Timer uge"},null,null,null,null,{"$f":"_xlfn.IFS($O240=$BV233,$BV234,$O240=$BW233,Lønskema!$BW234,$O240=$BX233,$BX234,$O240=$BY233,$BY234,$O240=$BZ233,$BZ234,$O240=$CA233,$CA234,$O240=$CB233,$CB234,$O240=$CC233,$CC234,$O240=$CD233,$CD234,$O240=$CE233,$CE234,$O240=$CF233,$CF234,$O240=$CG233,$CF234,$O240=$CG233,$CG234,$O240=$CH233,$CH234,$O240=$CI233,$CI234,$O240=$CJ233,$CJ234,$O240=$CK233,$CK234,$O240=$CL233,$CL234,$O240=$CM233,$CM234,$O240=$CN233,$CN234,$O240=$CO233,$CO234,$O240=$CP233,$CP234,$O240=$CQ233,$CQ234,$O240=$CR233,$CR234,$O240=$CS233,$CS234,$O240=$CT233,$CT234,$O240=$CU233,$CU234,$O240=$CV233,$CV234,$O240=$CW233,$CW234,$O240=$CX233,$CX234,$O240=$CY233,$CY234,$O240=$CZ233,$CZ234,$O240=$DA233,$DA234,$O240=$DB233,$DB234,$O240=$DC233,$DC234,$O240=$DD233,$DD234,$O240=$DE233,$DE234,$O240=$DF233,$DF234,$O240=$DG233,$DG234,$O240=$DH233,$DH234,$O240=$DI233,$DI234,$O240=$DJ233,$DJ234,$O240=$DK233,$DK234,$O240=$DL233,$DL234,$O240=$DM233,$DM234,$O240=$DN233,$DN234,$O240=$DO233,$DO234,$O240=$DP233,$DP234,$O240=$DQ233,$DQ234,$O240=$DR233,$DR234,$O240=$DS233,$DS234,$O240=$DT233,$DT234,$O240=$DU233,$DU234)","v":0},{"$f":"$V$15","v":17},{"$f":"D240","v":"Timer uge"},null,null,null,null,{"$f":"SUMIF($D$5:$AH$5,V240,D234:AH234)","v":0},{"$f":"$AC$15","v":18},{"$f":"D240","v":"Timer uge"},null,null,null,{"$f":"SUMIF($D$5:$AH$5,AC240,D234:AH234)","v":0},{"$f":"$AI$15","v":19},{"$f":"D240","v":"Timer uge"},null,null,null,{"$f":"SUMIF($D$5:$AH$5,AI240,D234:AH234)","v":0}]
[null,null,null,"Overarbejde 50% 1-3 timer",null,null,{"$f":"IF($G240>37,$G240-37-$G242,0)","v":0},null,{"$f":"D241","v":"Overarbejde 50% 1-3 timer"},null,null,null,null,{"$f":"IF($N240>37,$N240-37-$N242,0)","v":0},null,{"$f":"D241","v":"Overarbejde 50% 1-3 timer"},null,null,null,null,{"$f":"IF($U240>37,$U240-37-$U242,0)","v":0},null,{"$f":"D241","v":"Overarbejde 50% 1-3 timer"},null,null,null,null,{"$f":"IF($AB240>37,$AB240-37-$AB242,0)","v":0},null,{"$f":"D241","v":"Overarbejde 50% 1-3 timer"},null,null,null,{"$f":"IF($AH240>37,$AH240-37-$AH242,0)","v":0},null,{"$f":"D241","v":"Overarbejde 50% 1-3 timer"},null,null,null,{"$f":"IF($AH240>37,$AH240-37-$AH242,0)","v":0}]
[null,null,null,"Overarbejde 100% over 3 timer",null,null,{"$f":"IF($G240>40,$G240-40,0)","v":0},null,"Overarbejde 100% over 3 timer",null,null,null,null,{"$f":"IF($N240>40,$N240-40,0)","v":0},null,"Overarbejde 100% over 3 timer",null,null,null,null,{"$f":"IF($U240>40,$U240-40,0)","v":0},null,"Overarbejde 100% over 3 timer",null,null,null,null,{"$f":"IF($AB240>40,$AB240-40,0)","v":0},null,"Overarbejde 100% over 3 timer",null,null,null,{"$f":"IF($AH240>40,$AH240-40,0)","v":0},null,{"$f":"D242","v":"Overarbejde 100% over 3 timer"},null,null,null,{"$f":"IF($AH240>40,$AH240-40,0)","v":0},null,null,null,null,null,null,null,null,null,null,null,null,null,null,null,null,null,null,null,null,null,null,null,null,null,null,null,null,null,null,null,null,null,1,2,3,4,5,6,7,8,9,10,11,12,13,14,15,16,17,18,19,20,21,22,23,24,25,26,27,28,29,30,31,32,33,34,35,36,37,38,39,40,41,42,43,44,45,46,47,48,49,50,51,52]
[{"$f":"Medarbejder!A29","v":0},{"$f":"Medarbejder!B29","v":0},{"$f":"Medarbejder!C29","v":"-"},null,null,null,null,null,null,null,null,null,null,null,null,null,null,null,null,null,null,null,null,null,null,null,null,null,null,null,null,null,null,null,null,null,null,null,null,null,null,{"$f":"AO243*Overenskomst!$C$22","v":0},{"$f":"SUM($D243:$AH243)-$BA243-$BF243-$BD243","v":0},{"$f":"IF(Medarbejder!$J29=\"ja\",$AQ243,\"-\")","v":"-"},{"$f":"SUMIF($D$7:$AH$7,\"søndag\",$D243:$AH243)+$AT243","v":0},{"$f":"SUMIFS($D243:$AH243,$D247:$AH247,\"H\")","v":0},{"$f":"G250+N250+U250+AB250+AH250+AN250","v":0},{"$f":"G251+N251+U251+AB251+AH251+AN251","v":0},{"$f":"SUM($D245:$AH245)","v":0},{"$f":"SUM($D246:$AH246)","v":0},{"$f":"COUNTIFS($D244:$AH244,\"F\")","v":0},{"$f":"COUNTIFS($D244:$AH244,\"S\")","v":0},{"$f":"SUMIF($D244:$AH244,\"S\",$D248:$AH248)","v":0},{"$f":"COUNTIFS($D244:$AH244,\"p\")","v":0},{"$f":"COUNTIFS($D244:$AH244,\"BS\")","v":0},{"$f":"SUMIF(D244:AH244,\"bs\",$D243:$AH243)","v":0},{"$f":"COUNTIFS($D244:$AH244,\"FF\")","v":0},{"$f":"SUMIF($D244:$AH244,\"g\",$D243:$AH243)","v":0},{"$f":"Medarbejder!$N27","v":"-"},{"$f":"SUM($BL243:$BU243)","v":4},null,null,null,{"$f":"COUNTIFS($D$6:$AH$6,\"skærtd\")","v":1},{"$f":"COUNTIFS($D$6:$AH$6,\"langfd\")","v":1},{"$f":"COUNTIFS($D$6:$AH$6,\"1påsked\")","v":1},{"$f":"COUNTIFS($D$6:$AH$6,\"2påsked\")","v":1},{"$f":"COUNTIFS($D$6:$AH$6,\"kr.himmelfart\")","v":0},{"$f":"COUNTIFS($D$6:$AH$6,\"1pinse\")","v":0},{"$f":"COUNTIFS($D$6:$AH$6,\"2pinse\")","v":0},{"$f":"COUNTIFS($D$6:$AH$6,\"1juledag\")","v":0},{"$f":"COUNTIFS($D$6:$AH$6,\"2juledag\")","v":0},{"$f":"COUNTIFS($D$6:$AH$6,\"nytårsdag\")","v":0},{"$f":"SUMIFS($D243:$AH243,Lønskema!$D$5:$AH$5,1)","v":0},{"$f":"SUMIFS($D243:$AH243,Lønskema!$D$5:$AH$5,2)","v":0},{"$f":"SUMIFS($D243:$AH243,Lønskema!$D$5:$AH$5,3)","v":0},{"$f":"SUMIFS($D243:$AH243,Lønskema!$D$5:$AH$5,4)","v":0},{"$f":"SUMIFS($D243:$AH243,Lønskema!$D$5:$AH$5,5)","v":0},{"$f":"SUMIFS($D243:$AH243,Lønskema!$D$5:$AH$5,6)","v":0},{"$f":"SUMIFS($D243:$AH243,Lønskema!$D$5:$AH$5,7)","v":0},{"$f":"SUMIFS($D243:$AH243,Lønskema!$D$5:$AH$5,8)","v":0},{"$f":"SUMIFS($D243:$AH243,Lønskema!$D$5:$AH$5,9)","v":0},{"$f":"SUMIFS($D243:$AH243,Lønskema!$D$5:$AH$5,10)","v":0},{"$f":"SUMIFS($D243:$AH243,Lønskema!$D$5:$AH$5,11)","v":0},{"$f":"SUMIFS($D243:$AH243,Lønskema!$D$5:$AH$5,12)","v":0},{"$f":"SUMIFS($D243:$AH243,Lønskema!$D$5:$AH$5,13)","v":0},{"$f":"SUMIFS($D243:$AH243,Lønskema!$D$5:$AH$5,14)","v":0},{"$f":"SUMIFS($D243:$AH243,Lønskema!$D$5:$AH$5,15)","v":0},{"$f":"SUMIFS($D243:$AH243,Lønskema!$D$5:$AH$5,16)","v":0},{"$f":"SUMIFS($D243:$AH243,Lønskema!$D$5:$AH$5,17)","v":0},{"$f":"SUMIFS($D243:$AH243,Lønskema!$D$5:$AH$5,18)","v":0},{"$f":"SUMIFS($D243:$AH243,Lønskema!$D$5:$AH$5,19)","v":0},{"$f":"SUMIFS($D243:$AH243,Lønskema!$D$5:$AH$5,20)","v":0},{"$f":"SUMIFS($D243:$AH243,Lønskema!$D$5:$AH$5,21)","v":0},{"$f":"SUMIFS($D243:$AH243,Lønskema!$D$5:$AH$5,22)","v":0},{"$f":"SUMIFS($D243:$AH243,Lønskema!$D$5:$AH$5,23)","v":0},{"$f":"SUMIFS($D243:$AH243,Lønskema!$D$5:$AH$5,24)","v":0},{"$f":"SUMIFS($D243:$AH243,Lønskema!$D$5:$AH$5,25)","v":0},{"$f":"SUMIFS($D243:$AH243,Lønskema!$D$5:$AH$5,26)","v":0},{"$f":"SUMIFS($D243:$AH243,Lønskema!$D$5:$AH$5,27)","v":0},{"$f":"SUMIFS($D243:$AH243,Lønskema!$D$5:$AH$5,28)","v":0},{"$f":"SUMIFS($D243:$AH243,Lønskema!$D$5:$AH$5,29)","v":0},{"$f":"SUMIFS($D243:$AH243,Lønskema!$D$5:$AH$5,30)","v":0},{"$f":"SUMIFS($D243:$AH243,Lønskema!$D$5:$AH$5,31)","v":0},{"$f":"SUMIFS($D243:$AH243,Lønskema!$D$5:$AH$5,32)","v":0},{"$f":"SUMIFS($D243:$AH243,Lønskema!$D$5:$AH$5,33)","v":0},{"$f":"SUMIFS($D243:$AH243,Lønskema!$D$5:$AH$5,34)","v":0},{"$f":"SUMIFS($D243:$AH243,Lønskema!$D$5:$AH$5,35)","v":0},{"$f":"SUMIFS($D243:$AH243,Lønskema!$D$5:$AH$5,36)","v":0},{"$f":"SUMIFS($D243:$AH243,Lønskema!$D$5:$AH$5,37)","v":0},{"$f":"SUMIFS($D243:$AH243,Lønskema!$D$5:$AH$5,38)","v":0},{"$f":"SUMIFS($D243:$AH243,Lønskema!$D$5:$AH$5,39)","v":0},{"$f":"SUMIFS($D243:$AH243,Lønskema!$D$5:$AH$5,40)","v":0},{"$f":"SUMIFS($D243:$AH243,Lønskema!$D$5:$AH$5,41)","v":0},{"$f":"SUMIFS($D243:$AH243,Lønskema!$D$5:$AH$5,42)","v":0},{"$f":"SUMIFS($D243:$AH243,Lønskema!$D$5:$AH$5,43)","v":0},{"$f":"SUMIFS($D243:$AH243,Lønskema!$D$5:$AH$5,44)","v":0},{"$f":"SUMIFS($D243:$AH243,Lønskema!$D$5:$AH$5,45)","v":0},{"$f":"SUMIFS($D243:$AH243,Lønskema!$D$5:$AH$5,46)","v":0},{"$f":"SUMIFS($D243:$AH243,Lønskema!$D$5:$AH$5,47)","v":0},{"$f":"SUMIFS($D243:$AH243,Lønskema!$D$5:$AH$5,48)","v":0},{"$f":"SUMIFS($D243:$AH243,Lønskema!$D$5:$AH$5,49)","v":0},{"$f":"SUMIFS($D243:$AH243,Lønskema!$D$5:$AH$5,50)","v":0},{"$f":"SUMIFS($D243:$AH243,Lønskema!$D$5:$AH$5,51)","v":0},{"$f":"SUMIFS($D243:$AH243,Lønskema!$D$5:$AH$5,52)","v":0}]
["Ferie - syg  mm. Registreres i denne række"]
[null,"Aften"]
[null,"Nat"]
[null,"Helligdag",null,{"$f":"_xlfn.IFS(D$7=\"søndag\",\"-\",D$6=\"skærtd\",\"h\",D$6=\"langfd\",\"h\",D$6=\"1påsked\",\"h\",D$6=\"2påsked\",\"h\",D$6=\"kr.himmelfart\",\"h\",D$6=\"1pinse\",\"h\",D$6=\"2pinse\",\"h\",D$6=\"1juledag\",\"h\",D$6=\"2juledag\",\"h\",D$6=\"nytårsdag\",\"h\")","v":{"$error":"#N/A"}},{"$f":"_xlfn.IFS(E$7=\"søndag\",\"-\",E$6=\"skærtd\",\"h\",E$6=\"langfd\",\"h\",E$6=\"1påsked\",\"h\",E$6=\"2påsked\",\"h\",E$6=\"kr.himmelfart\",\"h\",E$6=\"1pinse\",\"h\",E$6=\"2pinse\",\"h\",E$6=\"1juledag\",\"h\",E$6=\"2juledag\",\"h\",E$6=\"nytårsdag\",\"h\")","v":{"$error":"#N/A"}},{"$f":"_xlfn.IFS(F$7=\"søndag\",\"-\",F$6=\"skærtd\",\"h\",F$6=\"langfd\",\"h\",F$6=\"1påsked\",\"h\",F$6=\"2påsked\",\"h\",F$6=\"kr.himmelfart\",\"h\",F$6=\"1pinse\",\"h\",F$6=\"2pinse\",\"h\",F$6=\"1juledag\",\"h\",F$6=\"2juledag\",\"h\",F$6=\"nytårsdag\",\"h\")","v":{"$error":"#N/A"}},{"$f":"_xlfn.IFS(G$7=\"søndag\",\"-\",G$6=\"skærtd\",\"h\",G$6=\"langfd\",\"h\",G$6=\"1påsked\",\"h\",G$6=\"2påsked\",\"h\",G$6=\"kr.himmelfart\",\"h\",G$6=\"1pinse\",\"h\",G$6=\"2pinse\",\"h\",G$6=\"1juledag\",\"h\",G$6=\"2juledag\",\"h\",G$6=\"nytårsdag\",\"h\")","v":{"$error":"#N/A"}},{"$f":"_xlfn.IFS(H$7=\"søndag\",\"-\",H$6=\"skærtd\",\"h\",H$6=\"langfd\",\"h\",H$6=\"1påsked\",\"h\",H$6=\"2påsked\",\"h\",H$6=\"kr.himmelfart\",\"h\",H$6=\"1pinse\",\"h\",H$6=\"2pinse\",\"h\",H$6=\"1juledag\",\"h\",H$6=\"2juledag\",\"h\",H$6=\"nytårsdag\",\"h\")","v":{"$error":"#N/A"}},{"$f":"_xlfn.IFS(I$7=\"søndag\",\"-\",I$6=\"skærtd\",\"h\",I$6=\"langfd\",\"h\",I$6=\"1påsked\",\"h\",I$6=\"2påsked\",\"h\",I$6=\"kr.himmelfart\",\"h\",I$6=\"1pinse\",\"h\",I$6=\"2pinse\",\"h\",I$6=\"1juledag\",\"h\",I$6=\"2juledag\",\"h\",I$6=\"nytårsdag\",\"h\")","v":"-"},{"$f":"_xlfn.IFS(J$7=\"søndag\",\"-\",J$6=\"skærtd\",\"h\",J$6=\"langfd\",\"h\",J$6=\"1påsked\",\"h\",J$6=\"2påsked\",\"h\",J$6=\"kr.himmelfart\",\"h\",J$6=\"1pinse\",\"h\",J$6=\"2pinse\",\"h\",J$6=\"1juledag\",\"h\",J$6=\"2juledag\",\"h\",J$6=\"nytårsdag\",\"h\")","v":{"$error":"#N/A"}},{"$f":"_xlfn.IFS(K$7=\"søndag\",\"-\",K$6=\"skærtd\",\"h\",K$6=\"langfd\",\"h\",K$6=\"1påsked\",\"h\",K$6=\"2påsked\",\"h\",K$6=\"kr.himmelfart\",\"h\",K$6=\"1pinse\",\"h\",K$6=\"2pinse\",\"h\",K$6=\"1juledag\",\"h\",K$6=\"2juledag\",\"h\",K$6=\"nytårsdag\",\"h\")","v":{"$error":"#N/A"}},{"$f":"_xlfn.IFS(L$7=\"søndag\",\"-\",L$6=\"skærtd\",\"h\",L$6=\"langfd\",\"h\",L$6=\"1påsked\",\"h\",L$6=\"2påsked\",\"h\",L$6=\"kr.himmelfart\",\"h\",L$6=\"1pinse\",\"h\",L$6=\"2pinse\",\"h\",L$6=\"1juledag\",\"h\",L$6=\"2juledag\",\"h\",L$6=\"nytårsdag\",\"h\")","v":{"$error":"#N/A"}},{"$f":"_xlfn.IFS(M$7=\"søndag\",\"-\",M$6=\"skærtd\",\"h\",M$6=\"langfd\",\"h\",M$6=\"1påsked\",\"h\",M$6=\"2påsked\",\"h\",M$6=\"kr.himmelfart\",\"h\",M$6=\"1pinse\",\"h\",M$6=\"2pinse\",\"h\",M$6=\"1juledag\",\"h\",M$6=\"2juledag\",\"h\",M$6=\"nytårsdag\",\"h\")","v":{"$error":"#N/A"}},{"$f":"_xlfn.IFS(N$7=\"søndag\",\"-\",N$6=\"skærtd\",\"h\",N$6=\"langfd\",\"h\",N$6=\"1påsked\",\"h\",N$6=\"2påsked\",\"h\",N$6=\"kr.himmelfart\",\"h\",N$6=\"1pinse\",\"h\",N$6=\"2pinse\",\"h\",N$6=\"1juledag\",\"h\",N$6=\"2juledag\",\"h\",N$6=\"nytårsdag\",\"h\")","v":{"$error":"#N/A"}},{"$f":"_xlfn.IFS(O$7=\"søndag\",\"-\",O$6=\"skærtd\",\"h\",O$6=\"langfd\",\"h\",O$6=\"1påsked\",\"h\",O$6=\"2påsked\",\"h\",O$6=\"kr.himmelfart\",\"h\",O$6=\"1pinse\",\"h\",O$6=\"2pinse\",\"h\",O$6=\"1juledag\",\"h\",O$6=\"2juledag\",\"h\",O$6=\"nytårsdag\",\"h\")","v":{"$error":"#N/A"}},{"$f":"_xlfn.IFS(P$7=\"søndag\",\"-\",P$6=\"skærtd\",\"h\",P$6=\"langfd\",\"h\",P$6=\"1påsked\",\"h\",P$6=\"2påsked\",\"h\",P$6=\"kr.himmelfart\",\"h\",P$6=\"1pinse\",\"h\",P$6=\"2pinse\",\"h\",P$6=\"1juledag\",\"h\",P$6=\"2juledag\",\"h\",P$6=\"nytårsdag\",\"h\")","v":"-"},{"$f":"_xlfn.IFS(Q$7=\"søndag\",\"-\",Q$6=\"skærtd\",\"h\",Q$6=\"langfd\",\"h\",Q$6=\"1påsked\",\"h\",Q$6=\"2påsked\",\"h\",Q$6=\"kr.himmelfart\",\"h\",Q$6=\"1pinse\",\"h\",Q$6=\"2pinse\",\"h\",Q$6=\"1juledag\",\"h\",Q$6=\"2juledag\",\"h\",Q$6=\"nytårsdag\",\"h\")","v":{"$error":"#N/A"}},{"$f":"_xlfn.IFS(R$7=\"søndag\",\"-\",R$6=\"skærtd\",\"h\",R$6=\"langfd\",\"h\",R$6=\"1påsked\",\"h\",R$6=\"2påsked\",\"h\",R$6=\"kr.himmelfart\",\"h\",R$6=\"1pinse\",\"h\",R$6=\"2pinse\",\"h\",R$6=\"1juledag\",\"h\",R$6=\"2juledag\",\"h\",R$6=\"nytårsdag\",\"h\")","v":{"$error":"#N/A"}},{"$f":"_xlfn.IFS(S$7=\"søndag\",\"-\",S$6=\"skærtd\",\"h\",S$6=\"langfd\",\"h\",S$6=\"1påsked\",\"h\",S$6=\"2påsked\",\"h\",S$6=\"kr.himmelfart\",\"h\",S$6=\"1pinse\",\"h\",S$6=\"2pinse\",\"h\",S$6=\"1juledag\",\"h\",S$6=\"2juledag\",\"h\",S$6=\"nytårsdag\",\"h\")","v":{"$error":"#N/A"}},{"$f":"_xlfn.IFS(T$7=\"søndag\",\"-\",T$6=\"skærtd\",\"h\",T$6=\"langfd\",\"h\",T$6=\"1påsked\",\"h\",T$6=\"2påsked\",\"h\",T$6=\"kr.himmelfart\",\"h\",T$6=\"1pinse\",\"h\",T$6=\"2pinse\",\"h\",T$6=\"1juledag\",\"h\",T$6=\"2juledag\",\"h\",T$6=\"nytårsdag\",\"h\")","v":"h"},{"$f":"_xlfn.IFS(U$7=\"søndag\",\"-\",U$6=\"skærtd\",\"h\",U$6=\"langfd\",\"h\",U$6=\"1påsked\",\"h\",U$6=\"2påsked\",\"h\",U$6=\"kr.himmelfart\",\"h\",U$6=\"1pinse\",\"h\",U$6=\"2pinse\",\"h\",U$6=\"1juledag\",\"h\",U$6=\"2juledag\",\"h\",U$6=\"nytårsdag\",\"h\")","v":"h"},{"$f":"_xlfn.IFS(V$7=\"søndag\",\"-\",V$6=\"skærtd\",\"h\",V$6=\"langfd\",\"h\",V$6=\"1påsked\",\"h\",V$6=\"2påsked\",\"h\",V$6=\"kr.himmelfart\",\"h\",V$6=\"1pinse\",\"h\",V$6=\"2pinse\",\"h\",V$6=\"1juledag\",\"h\",V$6=\"2juledag\",\"h\",V$6=\"nytårsdag\",\"h\")","v":{"$error":"#N/A"}},{"$f":"_xlfn.IFS(W$7=\"søndag\",\"-\",W$6=\"skærtd\",\"h\",W$6=\"langfd\",\"h\",W$6=\"1påsked\",\"h\",W$6=\"2påsked\",\"h\",W$6=\"kr.himmelfart\",\"h\",W$6=\"1pinse\",\"h\",W$6=\"2pinse\",\"h\",W$6=\"1juledag\",\"h\",W$6=\"2juledag\",\"h\",W$6=\"nytårsdag\",\"h\")","v":"-"},{"$f":"_xlfn.IFS(X$7=\"søndag\",\"-\",X$6=\"skærtd\",\"h\",X$6=\"langfd\",\"h\",X$6=\"1påsked\",\"h\",X$6=\"2påsked\",\"h\",X$6=\"kr.himmelfart\",\"h\",X$6=\"1pinse\",\"h\",X$6=\"2pinse\",\"h\",X$6=\"1juledag\",\"h\",X$6=\"2juledag\",\"h\",X$6=\"nytårsdag\",\"h\")","v":"h"},{"$f":"_xlfn.IFS(Y$7=\"søndag\",\"-\",Y$6=\"skærtd\",\"h\",Y$6=\"langfd\",\"h\",Y$6=\"1påsked\",\"h\",Y$6=\"2påsked\",\"h\",Y$6=\"kr.himmelfart\",\"h\",Y$6=\"1pinse\",\"h\",Y$6=\"2pinse\",\"h\",Y$6=\"1juledag\",\"h\",Y$6=\"2juledag\",\"h\",Y$6=\"nytårsdag\",\"h\")","v":{"$error":"#N/A"}},{"$f":"_xlfn.IFS(Z$7=\"søndag\",\"-\",Z$6=\"skærtd\",\"h\",Z$6=\"langfd\",\"h\",Z$6=\"1påsked\",\"h\",Z$6=\"2påsked\",\"h\",Z$6=\"kr.himmelfart\",\"h\",Z$6=\"1pinse\",\"h\",Z$6=\"2pinse\",\"h\",Z$6=\"1juledag\",\"h\",Z$6=\"2juledag\",\"h\",Z$6=\"nytårsdag\",\"h\")","v":{"$error":"#N/A"}},{"$f":"_xlfn.IFS(AA$7=\"søndag\",\"-\",AA$6=\"skærtd\",\"h\",AA$6=\"langfd\",\"h\",AA$6=\"1påsked\",\"h\",AA$6=\"2påsked\",\"h\",AA$6=\"kr.himmelfart\",\"h\",AA$6=\"1pinse\",\"h\",AA$6=\"2pinse\",\"h\",AA$6=\"1juledag\",\"h\",AA$6=\"2juledag\",\"h\",AA$6=\"nytårsdag\",\"h\")","v":{"$error":"#N/A"}},{"$f":"_xlfn.IFS(AB$7=\"søndag\",\"-\",AB$6=\"skærtd\",\"h\",AB$6=\"langfd\",\"h\",AB$6=\"1påsked\",\"h\",AB$6=\"2påsked\",\"h\",AB$6=\"kr.himmelfart\",\"h\",AB$6=\"1pinse\",\"h\",AB$6=\"2pinse\",\"h\",AB$6=\"1juledag\",\"h\",AB$6=\"2juledag\",\"h\",AB$6=\"nytårsdag\",\"h\")","v":{"$error":"#N/A"}},{"$f":"_xlfn.IFS(AC$7=\"søndag\",\"-\",AC$6=\"skærtd\",\"h\",AC$6=\"langfd\",\"h\",AC$6=\"1påsked\",\"h\",AC$6=\"2påsked\",\"h\",AC$6=\"kr.himmelfart\",\"h\",AC$6=\"1pinse\",\"h\",AC$6=\"2pinse\",\"h\",AC$6=\"1juledag\",\"h\",AC$6=\"2juledag\",\"h\",AC$6=\"nytårsdag\",\"h\")","v":{"$error":"#N/A"}},{"$f":"_xlfn.IFS(AD$7=\"søndag\",\"-\",AD$6=\"skærtd\",\"h\",AD$6=\"langfd\",\"h\",AD$6=\"1påsked\",\"h\",AD$6=\"2påsked\",\"h\",AD$6=\"kr.himmelfart\",\"h\",AD$6=\"1pinse\",\"h\",AD$6=\"2pinse\",\"h\",AD$6=\"1juledag\",\"h\",AD$6=\"2juledag\",\"h\",AD$6=\"nytårsdag\",\"h\")","v":"-"},{"$f":"_xlfn.IFS(AE$7=\"søndag\",\"-\",AE$6=\"skærtd\",\"h\",AE$6=\"langfd\",\"h\",AE$6=\"1påsked\",\"h\",AE$6=\"2påsked\",\"h\",AE$6=\"kr.himmelfart\",\"h\",AE$6=\"1pinse\",\"h\",AE$6=\"2pinse\",\"h\",AE$6=\"1juledag\",\"h\",AE$6=\"2juledag\",\"h\",AE$6=\"nytårsdag\",\"h\")","v":{"$error":"#N/A"}},{"$f":"_xlfn.IFS(AF$7=\"søndag\",\"-\",AF$6=\"skærtd\",\"h\",AF$6=\"langfd\",\"h\",AF$6=\"1påsked\",\"h\",AF$6=\"2påsked\",\"h\",AF$6=\"kr.himmelfart\",\"h\",AF$6=\"1pinse\",\"h\",AF$6=\"2pinse\",\"h\",AF$6=\"1juledag\",\"h\",AF$6=\"2juledag\",\"h\",AF$6=\"nytårsdag\",\"h\")","v":{"$error":"#N/A"}},{"$f":"_xlfn.IFS(AG$7=\"søndag\",\"-\",AG$6=\"skærtd\",\"h\",AG$6=\"langfd\",\"h\",AG$6=\"1påsked\",\"h\",AG$6=\"2påsked\",\"h\",AG$6=\"kr.himmelfart\",\"h\",AG$6=\"1pinse\",\"h\",AG$6=\"2pinse\",\"h\",AG$6=\"1juledag\",\"h\",AG$6=\"2juledag\",\"h\",AG$6=\"nytårsdag\",\"h\")","v":{"$error":"#N/A"}},{"$f":"_xlfn.IFS(AH$7=\"søndag\",\"-\",AH$6=\"skærtd\",\"h\",AH$6=\"langfd\",\"h\",AH$6=\"1påsked\",\"h\",AH$6=\"2påsked\",\"h\",AH$6=\"kr.himmelfart\",\"h\",AH$6=\"1pinse\",\"h\",AH$6=\"2pinse\",\"h\",AH$6=\"1juledag\",\"h\",AH$6=\"2juledag\",\"h\",AH$6=\"nytårsdag\",\"h\")","v":{"$error":"#N/A"}}]
[null,"Sygedage",null,{"$f":"IF(D244=\"s\",D243,\"-\")","v":"-"},{"$f":"IF(E244=\"s\",E243,\"-\")","v":"-"},"-","-","-","-","-","-","-","-","-","-","-","-","-","-","-","-","-","-","-","-","-","-","-","-","-","-","-","-","-"]
[null,null,{"$f":"$C$15","v":14},"Timer uge",null,null,{"$f":"SUMIF($D$5:$AH$5,C249,D243:AH243)","v":0},{"$f":"$H$15","v":15},{"$f":"D249","v":"Timer uge"},null,null,null,null,{"$f":"SUMIF($D$5:$AH$5,H249,D243:AH243)","v":0},{"$f":"$O$15","v":16},{"$f":"D249","v":"Timer uge"},null,null,null,null,{"$f":"_xlfn.IFS($O249=$BV242,$BV243,$O249=$BW242,Lønskema!$BW243,$O249=$BX242,$BX243,$O249=$BY242,$BY243,$O249=$BZ242,$BZ243,$O249=$CA242,$CA243,$O249=$CB242,$CB243,$O249=$CC242,$CC243,$O249=$CD242,$CD243,$O249=$CE242,$CE243,$O249=$CF242,$CF243,$O249=$CG242,$CF243,$O249=$CG242,$CG243,$O249=$CH242,$CH243,$O249=$CI242,$CI243,$O249=$CJ242,$CJ243,$O249=$CK242,$CK243,$O249=$CL242,$CL243,$O249=$CM242,$CM243,$O249=$CN242,$CN243,$O249=$CO242,$CO243,$O249=$CP242,$CP243,$O249=$CQ242,$CQ243,$O249=$CR242,$CR243,$O249=$CS242,$CS243,$O249=$CT242,$CT243,$O249=$CU242,$CU243,$O249=$CV242,$CV243,$O249=$CW242,$CW243,$O249=$CX242,$CX243,$O249=$CY242,$CY243,$O249=$CZ242,$CZ243,$O249=$DA242,$DA243,$O249=$DB242,$DB243,$O249=$DC242,$DC243,$O249=$DD242,$DD243,$O249=$DE242,$DE243,$O249=$DF242,$DF243,$O249=$DG242,$DG243,$O249=$DH242,$DH243,$O249=$DI242,$DI243,$O249=$DJ242,$DJ243,$O249=$DK242,$DK243,$O249=$DL242,$DL243,$O249=$DM242,$DM243,$O249=$DN242,$DN243,$O249=$DO242,$DO243,$O249=$DP242,$DP243,$O249=$DQ242,$DQ243,$O249=$DR242,$DR243,$O249=$DS242,$DS243,$O249=$DT242,$DT243,$O249=$DU242,$DU243)","v":0},{"$f":"$V$15","v":17},{"$f":"D249","v":"Timer uge"},null,null,null,null,{"$f":"SUMIF($D$5:$AH$5,V249,D243:AH243)","v":0},{"$f":"$AC$15","v":18},{"$f":"D249","v":"Timer uge"},null,null,null,{"$f":"SUMIF($D$5:$AH$5,AC249,D243:AH243)","v":0},{"$f":"$AI$15","v":19},{"$f":"D249","v":"Timer uge"},null,null,null,{"$f":"SUMIF($D$5:$AH$5,AI249,D243:AH243)","v":0}]
[null,null,null,"Overarbejde 50% 1-3 timer",null,null,{"$f":"IF($G249>37,$G249-37-$G251,0)","v":0},null,{"$f":"D250","v":"Overarbejde 50% 1-3 timer"},null,null,null,null,{"$f":"IF($N249>37,$N249-37-$N251,0)","v":0},null,{"$f":"D250","v":"Overarbejde 50% 1-3 timer"},null,null,null,null,{"$f":"IF($U249>37,$U249-37-$U251,0)","v":0},null,{"$f":"D250","v":"Overarbejde 50% 1-3 timer"},null,null,null,null,{"$f":"IF($AB249>37,$AB249-37-$AB251,0)","v":0},null,{"$f":"D250","v":"Overarbejde 50% 1-3 timer"},null,null,null,{"$f":"IF($AH249>37,$AH249-37-$AH251,0)","v":0},null,{"$f":"D250","v":"Overarbejde 50% 1-3 timer"},null,null,null,{"$f":"IF($AH249>37,$AH249-37-$AH251,0)","v":0}]
[null,null,null,"Overarbejde 100% over 3 timer",null,null,{"$f":"IF($G249>40,$G249-40,0)","v":0},null,"Overarbejde 100% over 3 timer",null,null,null,null,{"$f":"IF($N249>40,$N249-40,0)","v":0},null,"Overarbejde 100% over 3 timer",null,null,null,null,{"$f":"IF($U249>40,$U249-40,0)","v":0},null,"Overarbejde 100% over 3 timer",null,null,null,null,{"$f":"IF($AB249>40,$AB249-40,0)","v":0},null,"Overarbejde 100% over 3 timer",null,null,null,{"$f":"IF($AH249>40,$AH249-40,0)","v":0},null,{"$f":"D251","v":"Overarbejde 100% over 3 timer"},null,null,null,{"$f":"IF($AH249>40,$AH249-40,0)","v":0},null,null,null,null,null,null,null,null,null,null,null,null,null,null,null,null,null,null,null,null,null,null,null,null,null,null,null,null,null,null,null,null,null,1,2,3,4,5,6,7,8,9,10,11,12,13,14,15,16,17,18,19,20,21,22,23,24,25,26,27,28,29,30,31,32,33,34,35,36,37,38,39,40,41,42,43,44,45,46,47,48,49,50,51,52]
[{"$f":"Medarbejder!A30","v":0},{"$f":"Medarbejder!B30","v":0},{"$f":"Medarbejder!C30","v":"-"},null,null,null,null,null,null,null,null,null,null,null,null,null,null,null,null,null,null,null,null,null,null,null,null,null,null,null,null,null,null,null,null,null,null,null,null,null,null,{"$f":"AO252*Overenskomst!$C$22","v":0},{"$f":"SUM($D252:$AH252)-$BA252-$BF252-$BD252","v":0},{"$f":"IF(Medarbejder!$J30=\"ja\",$AQ252,\"-\")","v":"-"},{"$f":"SUMIF($D$7:$AH$7,\"søndag\",$D252:$AH252)+$AT252","v":0},{"$f":"SUMIFS($D252:$AH252,$D256:$AH256,\"H\")","v":0},{"$f":"G259+N259+U259+AB259+AH259+AN259","v":0},{"$f":"G260+N260+U260+AB260+AH260+AN260","v":0},{"$f":"SUM($D254:$AH254)","v":0},{"$f":"SUM($D255:$AH255)","v":0},{"$f":"COUNTIFS($D253:$AH253,\"F\")","v":0},{"$f":"COUNTIFS($D253:$AH253,\"S\")","v":0},{"$f":"SUMIF($D253:$AH253,\"S\",$D257:$AH257)","v":0},{"$f":"COUNTIFS($D253:$AH253,\"p\")","v":0},{"$f":"COUNTIFS($D253:$AH253,\"BS\")","v":0},{"$f":"SUMIF(D253:AH253,\"bs\",$D252:$AH252)","v":0},{"$f":"COUNTIFS($D253:$AH253,\"FF\")","v":0},{"$f":"SUMIF($D253:$AH253,\"g\",$D252:$AH252)","v":0},{"$f":"Medarbejder!$N28","v":"-"},{"$f":"SUM($BL252:$BU252)","v":4},null,null,null,{"$f":"COUNTIFS($D$6:$AH$6,\"skærtd\")","v":1},{"$f":"COUNTIFS($D$6:$AH$6,\"langfd\")","v":1},{"$f":"COUNTIFS($D$6:$AH$6,\"1påsked\")","v":1},{"$f":"COUNTIFS($D$6:$AH$6,\"2påsked\")","v":1},{"$f":"COUNTIFS($D$6:$AH$6,\"kr.himmelfart\")","v":0},{"$f":"COUNTIFS($D$6:$AH$6,\"1pinse\")","v":0},{"$f":"COUNTIFS($D$6:$AH$6,\"2pinse\")","v":0},{"$f":"COUNTIFS($D$6:$AH$6,\"1juledag\")","v":0},{"$f":"COUNTIFS($D$6:$AH$6,\"2juledag\")","v":0},{"$f":"COUNTIFS($D$6:$AH$6,\"nytårsdag\")","v":0},{"$f":"SUMIFS($D252:$AH252,Lønskema!$D$5:$AH$5,1)","v":0},{"$f":"SUMIFS($D252:$AH252,Lønskema!$D$5:$AH$5,2)","v":0},{"$f":"SUMIFS($D252:$AH252,Lønskema!$D$5:$AH$5,3)","v":0},{"$f":"SUMIFS($D252:$AH252,Lønskema!$D$5:$AH$5,4)","v":0},{"$f":"SUMIFS($D252:$AH252,Lønskema!$D$5:$AH$5,5)","v":0},{"$f":"SUMIFS($D252:$AH252,Lønskema!$D$5:$AH$5,6)","v":0},{"$f":"SUMIFS($D252:$AH252,Lønskema!$D$5:$AH$5,7)","v":0},{"$f":"SUMIFS($D252:$AH252,Lønskema!$D$5:$AH$5,8)","v":0},{"$f":"SUMIFS($D252:$AH252,Lønskema!$D$5:$AH$5,9)","v":0},{"$f":"SUMIFS($D252:$AH252,Lønskema!$D$5:$AH$5,10)","v":0},{"$f":"SUMIFS($D252:$AH252,Lønskema!$D$5:$AH$5,11)","v":0},{"$f":"SUMIFS($D252:$AH252,Lønskema!$D$5:$AH$5,12)","v":0},{"$f":"SUMIFS($D252:$AH252,Lønskema!$D$5:$AH$5,13)","v":0},{"$f":"SUMIFS($D252:$AH252,Lønskema!$D$5:$AH$5,14)","v":0},{"$f":"SUMIFS($D252:$AH252,Lønskema!$D$5:$AH$5,15)","v":0},{"$f":"SUMIFS($D252:$AH252,Lønskema!$D$5:$AH$5,16)","v":0},{"$f":"SUMIFS($D252:$AH252,Lønskema!$D$5:$AH$5,17)","v":0},{"$f":"SUMIFS($D252:$AH252,Lønskema!$D$5:$AH$5,18)","v":0},{"$f":"SUMIFS($D252:$AH252,Lønskema!$D$5:$AH$5,19)","v":0},{"$f":"SUMIFS($D252:$AH252,Lønskema!$D$5:$AH$5,20)","v":0},{"$f":"SUMIFS($D252:$AH252,Lønskema!$D$5:$AH$5,21)","v":0},{"$f":"SUMIFS($D252:$AH252,Lønskema!$D$5:$AH$5,22)","v":0},{"$f":"SUMIFS($D252:$AH252,Lønskema!$D$5:$AH$5,23)","v":0},{"$f":"SUMIFS($D252:$AH252,Lønskema!$D$5:$AH$5,24)","v":0},{"$f":"SUMIFS($D252:$AH252,Lønskema!$D$5:$AH$5,25)","v":0},{"$f":"SUMIFS($D252:$AH252,Lønskema!$D$5:$AH$5,26)","v":0},{"$f":"SUMIFS($D252:$AH252,Lønskema!$D$5:$AH$5,27)","v":0},{"$f":"SUMIFS($D252:$AH252,Lønskema!$D$5:$AH$5,28)","v":0},{"$f":"SUMIFS($D252:$AH252,Lønskema!$D$5:$AH$5,29)","v":0},{"$f":"SUMIFS($D252:$AH252,Lønskema!$D$5:$AH$5,30)","v":0},{"$f":"SUMIFS($D252:$AH252,Lønskema!$D$5:$AH$5,31)","v":0},{"$f":"SUMIFS($D252:$AH252,Lønskema!$D$5:$AH$5,32)","v":0},{"$f":"SUMIFS($D252:$AH252,Lønskema!$D$5:$AH$5,33)","v":0},{"$f":"SUMIFS($D252:$AH252,Lønskema!$D$5:$AH$5,34)","v":0},{"$f":"SUMIFS($D252:$AH252,Lønskema!$D$5:$AH$5,35)","v":0},{"$f":"SUMIFS($D252:$AH252,Lønskema!$D$5:$AH$5,36)","v":0},{"$f":"SUMIFS($D252:$AH252,Lønskema!$D$5:$AH$5,37)","v":0},{"$f":"SUMIFS($D252:$AH252,Lønskema!$D$5:$AH$5,38)","v":0},{"$f":"SUMIFS($D252:$AH252,Lønskema!$D$5:$AH$5,39)","v":0},{"$f":"SUMIFS($D252:$AH252,Lønskema!$D$5:$AH$5,40)","v":0},{"$f":"SUMIFS($D252:$AH252,Lønskema!$D$5:$AH$5,41)","v":0},{"$f":"SUMIFS($D252:$AH252,Lønskema!$D$5:$AH$5,42)","v":0},{"$f":"SUMIFS($D252:$AH252,Lønskema!$D$5:$AH$5,43)","v":0},{"$f":"SUMIFS($D252:$AH252,Lønskema!$D$5:$AH$5,44)","v":0},{"$f":"SUMIFS($D252:$AH252,Lønskema!$D$5:$AH$5,45)","v":0},{"$f":"SUMIFS($D252:$AH252,Lønskema!$D$5:$AH$5,46)","v":0},{"$f":"SUMIFS($D252:$AH252,Lønskema!$D$5:$AH$5,47)","v":0},{"$f":"SUMIFS($D252:$AH252,Lønskema!$D$5:$AH$5,48)","v":0},{"$f":"SUMIFS($D252:$AH252,Lønskema!$D$5:$AH$5,49)","v":0},{"$f":"SUMIFS($D252:$AH252,Lønskema!$D$5:$AH$5,50)","v":0},{"$f":"SUMIFS($D252:$AH252,Lønskema!$D$5:$AH$5,51)","v":0},{"$f":"SUMIFS($D252:$AH252,Lønskema!$D$5:$AH$5,52)","v":0}]
["Ferie - syg  mm. Registreres i denne række"]
[null,"Aften"]
[null,"Nat"]
[null,"Helligdag",null,{"$f":"_xlfn.IFS(D$7=\"søndag\",\"-\",D$6=\"skærtd\",\"h\",D$6=\"langfd\",\"h\",D$6=\"1påsked\",\"h\",D$6=\"2påsked\",\"h\",D$6=\"kr.himmelfart\",\"h\",D$6=\"1pinse\",\"h\",D$6=\"2pinse\",\"h\",D$6=\"1juledag\",\"h\",D$6=\"2juledag\",\"h\",D$6=\"nytårsdag\",\"h\")","v":{"$error":"#N/A"}},{"$f":"_xlfn.IFS(E$7=\"søndag\",\"-\",E$6=\"skærtd\",\"h\",E$6=\"langfd\",\"h\",E$6=\"1påsked\",\"h\",E$6=\"2påsked\",\"h\",E$6=\"kr.himmelfart\",\"h\",E$6=\"1pinse\",\"h\",E$6=\"2pinse\",\"h\",E$6=\"1juledag\",\"h\",E$6=\"2juledag\",\"h\",E$6=\"nytårsdag\",\"h\")","v":{"$error":"#N/A"}},{"$f":"_xlfn.IFS(F$7=\"søndag\",\"-\",F$6=\"skærtd\",\"h\",F$6=\"langfd\",\"h\",F$6=\"1påsked\",\"h\",F$6=\"2påsked\",\"h\",F$6=\"kr.himmelfart\",\"h\",F$6=\"1pinse\",\"h\",F$6=\"2pinse\",\"h\",F$6=\"1juledag\",\"h\",F$6=\"2juledag\",\"h\",F$6=\"nytårsdag\",\"h\")","v":{"$error":"#N/A"}},{"$f":"_xlfn.IFS(G$7=\"søndag\",\"-\",G$6=\"skærtd\",\"h\",G$6=\"langfd\",\"h\",G$6=\"1påsked\",\"h\",G$6=\"2påsked\",\"h\",G$6=\"kr.himmelfart\",\"h\",G$6=\"1pinse\",\"h\",G$6=\"2pinse\",\"h\",G$6=\"1juledag\",\"h\",G$6=\"2juledag\",\"h\",G$6=\"nytårsdag\",\"h\")","v":{"$error":"#N/A"}},{"$f":"_xlfn.IFS(H$7=\"søndag\",\"-\",H$6=\"skærtd\",\"h\",H$6=\"langfd\",\"h\",H$6=\"1påsked\",\"h\",H$6=\"2påsked\",\"h\",H$6=\"kr.himmelfart\",\"h\",H$6=\"1pinse\",\"h\",H$6=\"2pinse\",\"h\",H$6=\"1juledag\",\"h\",H$6=\"2juledag\",\"h\",H$6=\"nytårsdag\",\"h\")","v":{"$error":"#N/A"}},{"$f":"_xlfn.IFS(I$7=\"søndag\",\"-\",I$6=\"skærtd\",\"h\",I$6=\"langfd\",\"h\",I$6=\"1påsked\",\"h\",I$6=\"2påsked\",\"h\",I$6=\"kr.himmelfart\",\"h\",I$6=\"1pinse\",\"h\",I$6=\"2pinse\",\"h\",I$6=\"1juledag\",\"h\",I$6=\"2juledag\",\"h\",I$6=\"nytårsdag\",\"h\")","v":"-"},{"$f":"_xlfn.IFS(J$7=\"søndag\",\"-\",J$6=\"skærtd\",\"h\",J$6=\"langfd\",\"h\",J$6=\"1påsked\",\"h\",J$6=\"2påsked\",\"h\",J$6=\"kr.himmelfart\",\"h\",J$6=\"1pinse\",\"h\",J$6=\"2pinse\",\"h\",J$6=\"1juledag\",\"h\",J$6=\"2juledag\",\"h\",J$6=\"nytårsdag\",\"h\")","v":{"$error":"#N/A"}},{"$f":"_xlfn.IFS(K$7=\"søndag\",\"-\",K$6=\"skærtd\",\"h\",K$6=\"langfd\",\"h\",K$6=\"1påsked\",\"h\",K$6=\"2påsked\",\"h\",K$6=\"kr.himmelfart\",\"h\",K$6=\"1pinse\",\"h\",K$6=\"2pinse\",\"h\",K$6=\"1juledag\",\"h\",K$6=\"2juledag\",\"h\",K$6=\"nytårsdag\",\"h\")","v":{"$error":"#N/A"}},{"$f":"_xlfn.IFS(L$7=\"søndag\",\"-\",L$6=\"skærtd\",\"h\",L$6=\"langfd\",\"h\",L$6=\"1påsked\",\"h\",L$6=\"2påsked\",\"h\",L$6=\"kr.himmelfart\",\"h\",L$6=\"1pinse\",\"h\",L$6=\"2pinse\",\"h\",L$6=\"1juledag\",\"h\",L$6=\"2juledag\",\"h\",L$6=\"nytårsdag\",\"h\")","v":{"$error":"#N/A"}},{"$f":"_xlfn.IFS(M$7=\"søndag\",\"-\",M$6=\"skærtd\",\"h\",M$6=\"langfd\",\"h\",M$6=\"1påsked\",\"h\",M$6=\"2påsked\",\"h\",M$6=\"kr.himmelfart\",\"h\",M$6=\"1pinse\",\"h\",M$6=\"2pinse\",\"h\",M$6=\"1juledag\",\"h\",M$6=\"2juledag\",\"h\",M$6=\"nytårsdag\",\"h\")","v":{"$error":"#N/A"}},{"$f":"_xlfn.IFS(N$7=\"søndag\",\"-\",N$6=\"skærtd\",\"h\",N$6=\"langfd\",\"h\",N$6=\"1påsked\",\"h\",N$6=\"2påsked\",\"h\",N$6=\"kr.himmelfart\",\"h\",N$6=\"1pinse\",\"h\",N$6=\"2pinse\",\"h\",N$6=\"1juledag\",\"h\",N$6=\"2juledag\",\"h\",N$6=\"nytårsdag\",\"h\")","v":{"$error":"#N/A"}},{"$f":"_xlfn.IFS(O$7=\"søndag\",\"-\",O$6=\"skærtd\",\"h\",O$6=\"langfd\",\"h\",O$6=\"1påsked\",\"h\",O$6=\"2påsked\",\"h\",O$6=\"kr.himmelfart\",\"h\",O$6=\"1pinse\",\"h\",O$6=\"2pinse\",\"h\",O$6=\"1juledag\",\"h\",O$6=\"2juledag\",\"h\",O$6=\"nytårsdag\",\"h\")","v":{"$error":"#N/A"}},{"$f":"_xlfn.IFS(P$7=\"søndag\",\"-\",P$6=\"skærtd\",\"h\",P$6=\"langfd\",\"h\",P$6=\"1påsked\",\"h\",P$6=\"2påsked\",\"h\",P$6=\"kr.himmelfart\",\"h\",P$6=\"1pinse\",\"h\",P$6=\"2pinse\",\"h\",P$6=\"1juledag\",\"h\",P$6=\"2juledag\",\"h\",P$6=\"nytårsdag\",\"h\")","v":"-"},{"$f":"_xlfn.IFS(Q$7=\"søndag\",\"-\",Q$6=\"skærtd\",\"h\",Q$6=\"langfd\",\"h\",Q$6=\"1påsked\",\"h\",Q$6=\"2påsked\",\"h\",Q$6=\"kr.himmelfart\",\"h\",Q$6=\"1pinse\",\"h\",Q$6=\"2pinse\",\"h\",Q$6=\"1juledag\",\"h\",Q$6=\"2juledag\",\"h\",Q$6=\"nytårsdag\",\"h\")","v":{"$error":"#N/A"}},{"$f":"_xlfn.IFS(R$7=\"søndag\",\"-\",R$6=\"skærtd\",\"h\",R$6=\"langfd\",\"h\",R$6=\"1påsked\",\"h\",R$6=\"2påsked\",\"h\",R$6=\"kr.himmelfart\",\"h\",R$6=\"1pinse\",\"h\",R$6=\"2pinse\",\"h\",R$6=\"1juledag\",\"h\",R$6=\"2juledag\",\"h\",R$6=\"nytårsdag\",\"h\")","v":{"$error":"#N/A"}},{"$f":"_xlfn.IFS(S$7=\"søndag\",\"-\",S$6=\"skærtd\",\"h\",S$6=\"langfd\",\"h\",S$6=\"1påsked\",\"h\",S$6=\"2påsked\",\"h\",S$6=\"kr.himmelfart\",\"h\",S$6=\"1pinse\",\"h\",S$6=\"2pinse\",\"h\",S$6=\"1juledag\",\"h\",S$6=\"2juledag\",\"h\",S$6=\"nytårsdag\",\"h\")","v":{"$error":"#N/A"}},{"$f":"_xlfn.IFS(T$7=\"søndag\",\"-\",T$6=\"skærtd\",\"h\",T$6=\"langfd\",\"h\",T$6=\"1påsked\",\"h\",T$6=\"2påsked\",\"h\",T$6=\"kr.himmelfart\",\"h\",T$6=\"1pinse\",\"h\",T$6=\"2pinse\",\"h\",T$6=\"1juledag\",\"h\",T$6=\"2juledag\",\"h\",T$6=\"nytårsdag\",\"h\")","v":"h"},{"$f":"_xlfn.IFS(U$7=\"søndag\",\"-\",U$6=\"skærtd\",\"h\",U$6=\"langfd\",\"h\",U$6=\"1påsked\",\"h\",U$6=\"2påsked\",\"h\",U$6=\"kr.himmelfart\",\"h\",U$6=\"1pinse\",\"h\",U$6=\"2pinse\",\"h\",U$6=\"1juledag\",\"h\",U$6=\"2juledag\",\"h\",U$6=\"nytårsdag\",\"h\")","v":"h"},{"$f":"_xlfn.IFS(V$7=\"søndag\",\"-\",V$6=\"skærtd\",\"h\",V$6=\"langfd\",\"h\",V$6=\"1påsked\",\"h\",V$6=\"2påsked\",\"h\",V$6=\"kr.himmelfart\",\"h\",V$6=\"1pinse\",\"h\",V$6=\"2pinse\",\"h\",V$6=\"1juledag\",\"h\",V$6=\"2juledag\",\"h\",V$6=\"nytårsdag\",\"h\")","v":{"$error":"#N/A"}},{"$f":"_xlfn.IFS(W$7=\"søndag\",\"-\",W$6=\"skærtd\",\"h\",W$6=\"langfd\",\"h\",W$6=\"1påsked\",\"h\",W$6=\"2påsked\",\"h\",W$6=\"kr.himmelfart\",\"h\",W$6=\"1pinse\",\"h\",W$6=\"2pinse\",\"h\",W$6=\"1juledag\",\"h\",W$6=\"2juledag\",\"h\",W$6=\"nytårsdag\",\"h\")","v":"-"},{"$f":"_xlfn.IFS(X$7=\"søndag\",\"-\",X$6=\"skærtd\",\"h\",X$6=\"langfd\",\"h\",X$6=\"1påsked\",\"h\",X$6=\"2påsked\",\"h\",X$6=\"kr.himmelfart\",\"h\",X$6=\"1pinse\",\"h\",X$6=\"2pinse\",\"h\",X$6=\"1juledag\",\"h\",X$6=\"2juledag\",\"h\",X$6=\"nytårsdag\",\"h\")","v":"h"},{"$f":"_xlfn.IFS(Y$7=\"søndag\",\"-\",Y$6=\"skærtd\",\"h\",Y$6=\"langfd\",\"h\",Y$6=\"1påsked\",\"h\",Y$6=\"2påsked\",\"h\",Y$6=\"kr.himmelfart\",\"h\",Y$6=\"1pinse\",\"h\",Y$6=\"2pinse\",\"h\",Y$6=\"1juledag\",\"h\",Y$6=\"2juledag\",\"h\",Y$6=\"nytårsdag\",\"h\")","v":{"$error":"#N/A"}},{"$f":"_xlfn.IFS(Z$7=\"søndag\",\"-\",Z$6=\"skærtd\",\"h\",Z$6=\"langfd\",\"h\",Z$6=\"1påsked\",\"h\",Z$6=\"2påsked\",\"h\",Z$6=\"kr.himmelfart\",\"h\",Z$6=\"1pinse\",\"h\",Z$6=\"2pinse\",\"h\",Z$6=\"1juledag\",\"h\",Z$6=\"2juledag\",\"h\",Z$6=\"nytårsdag\",\"h\")","v":{"$error":"#N/A"}},{"$f":"_xlfn.IFS(AA$7=\"søndag\",\"-\",AA$6=\"skærtd\",\"h\",AA$6=\"langfd\",\"h\",AA$6=\"1påsked\",\"h\",AA$6=\"2påsked\",\"h\",AA$6=\"kr.himmelfart\",\"h\",AA$6=\"1pinse\",\"h\",AA$6=\"2pinse\",\"h\",AA$6=\"1juledag\",\"h\",AA$6=\"2juledag\",\"h\",AA$6=\"nytårsdag\",\"h\")","v":{"$error":"#N/A"}},{"$f":"_xlfn.IFS(AB$7=\"søndag\",\"-\",AB$6=\"skærtd\",\"h\",AB$6=\"langfd\",\"h\",AB$6=\"1påsked\",\"h\",AB$6=\"2påsked\",\"h\",AB$6=\"kr.himmelfart\",\"h\",AB$6=\"1pinse\",\"h\",AB$6=\"2pinse\",\"h\",AB$6=\"1juledag\",\"h\",AB$6=\"2juledag\",\"h\",AB$6=\"nytårsdag\",\"h\")","v":{"$error":"#N/A"}},{"$f":"_xlfn.IFS(AC$7=\"søndag\",\"-\",AC$6=\"skærtd\",\"h\",AC$6=\"langfd\",\"h\",AC$6=\"1påsked\",\"h\",AC$6=\"2påsked\",\"h\",AC$6=\"kr.himmelfart\",\"h\",AC$6=\"1pinse\",\"h\",AC$6=\"2pinse\",\"h\",AC$6=\"1juledag\",\"h\",AC$6=\"2juledag\",\"h\",AC$6=\"nytårsdag\",\"h\")","v":{"$error":"#N/A"}},{"$f":"_xlfn.IFS(AD$7=\"søndag\",\"-\",AD$6=\"skærtd\",\"h\",AD$6=\"langfd\",\"h\",AD$6=\"1påsked\",\"h\",AD$6=\"2påsked\",\"h\",AD$6=\"kr.himmelfart\",\"h\",AD$6=\"1pinse\",\"h\",AD$6=\"2pinse\",\"h\",AD$6=\"1juledag\",\"h\",AD$6=\"2juledag\",\"h\",AD$6=\"nytårsdag\",\"h\")","v":"-"},{"$f":"_xlfn.IFS(AE$7=\"søndag\",\"-\",AE$6=\"skærtd\",\"h\",AE$6=\"langfd\",\"h\",AE$6=\"1påsked\",\"h\",AE$6=\"2påsked\",\"h\",AE$6=\"kr.himmelfart\",\"h\",AE$6=\"1pinse\",\"h\",AE$6=\"2pinse\",\"h\",AE$6=\"1juledag\",\"h\",AE$6=\"2juledag\",\"h\",AE$6=\"nytårsdag\",\"h\")","v":{"$error":"#N/A"}},{"$f":"_xlfn.IFS(AF$7=\"søndag\",\"-\",AF$6=\"skærtd\",\"h\",AF$6=\"langfd\",\"h\",AF$6=\"1påsked\",\"h\",AF$6=\"2påsked\",\"h\",AF$6=\"kr.himmelfart\",\"h\",AF$6=\"1pinse\",\"h\",AF$6=\"2pinse\",\"h\",AF$6=\"1juledag\",\"h\",AF$6=\"2juledag\",\"h\",AF$6=\"nytårsdag\",\"h\")","v":{"$error":"#N/A"}},{"$f":"_xlfn.IFS(AG$7=\"søndag\",\"-\",AG$6=\"skærtd\",\"h\",AG$6=\"langfd\",\"h\",AG$6=\"1påsked\",\"h\",AG$6=\"2påsked\",\"h\",AG$6=\"kr.himmelfart\",\"h\",AG$6=\"1pinse\",\"h\",AG$6=\"2pinse\",\"h\",AG$6=\"1juledag\",\"h\",AG$6=\"2juledag\",\"h\",AG$6=\"nytårsdag\",\"h\")","v":{"$error":"#N/A"}},{"$f":"_xlfn.IFS(AH$7=\"søndag\",\"-\",AH$6=\"skærtd\",\"h\",AH$6=\"langfd\",\"h\",AH$6=\"1påsked\",\"h\",AH$6=\"2påsked\",\"h\",AH$6=\"kr.himmelfart\",\"h\",AH$6=\"1pinse\",\"h\",AH$6=\"2pinse\",\"h\",AH$6=\"1juledag\",\"h\",AH$6=\"2juledag\",\"h\",AH$6=\"nytårsdag\",\"h\")","v":{"$error":"#N/A"}}]
[null,"Sygedage",null,{"$f":"IF(D253=\"s\",D252,\"-\")","v":"-"},{"$f":"IF(E253=\"s\",E252,\"-\")","v":"-"},"-","-","-","-","-","-","-","-","-","-","-","-","-","-","-","-","-","-","-","-","-","-","-","-","-","-","-","-","-"]
[null,null,{"$f":"$C$15","v":14},"Timer uge",null,null,{"$f":"SUMIF($D$5:$AH$5,C258,D252:AH252)","v":0},{"$f":"$H$15","v":15},{"$f":"D258","v":"Timer uge"},null,null,null,null,{"$f":"SUMIF($D$5:$AH$5,H258,D252:AH252)","v":0},{"$f":"$O$15","v":16},{"$f":"D258","v":"Timer uge"},null,null,null,null,{"$f":"_xlfn.IFS($O258=$BV251,$BV252,$O258=$BW251,Lønskema!$BW252,$O258=$BX251,$BX252,$O258=$BY251,$BY252,$O258=$BZ251,$BZ252,$O258=$CA251,$CA252,$O258=$CB251,$CB252,$O258=$CC251,$CC252,$O258=$CD251,$CD252,$O258=$CE251,$CE252,$O258=$CF251,$CF252,$O258=$CG251,$CF252,$O258=$CG251,$CG252,$O258=$CH251,$CH252,$O258=$CI251,$CI252,$O258=$CJ251,$CJ252,$O258=$CK251,$CK252,$O258=$CL251,$CL252,$O258=$CM251,$CM252,$O258=$CN251,$CN252,$O258=$CO251,$CO252,$O258=$CP251,$CP252,$O258=$CQ251,$CQ252,$O258=$CR251,$CR252,$O258=$CS251,$CS252,$O258=$CT251,$CT252,$O258=$CU251,$CU252,$O258=$CV251,$CV252,$O258=$CW251,$CW252,$O258=$CX251,$CX252,$O258=$CY251,$CY252,$O258=$CZ251,$CZ252,$O258=$DA251,$DA252,$O258=$DB251,$DB252,$O258=$DC251,$DC252,$O258=$DD251,$DD252,$O258=$DE251,$DE252,$O258=$DF251,$DF252,$O258=$DG251,$DG252,$O258=$DH251,$DH252,$O258=$DI251,$DI252,$O258=$DJ251,$DJ252,$O258=$DK251,$DK252,$O258=$DL251,$DL252,$O258=$DM251,$DM252,$O258=$DN251,$DN252,$O258=$DO251,$DO252,$O258=$DP251,$DP252,$O258=$DQ251,$DQ252,$O258=$DR251,$DR252,$O258=$DS251,$DS252,$O258=$DT251,$DT252,$O258=$DU251,$DU252)","v":0},{"$f":"$V$15","v":17},{"$f":"D258","v":"Timer uge"},null,null,null,null,{"$f":"SUMIF($D$5:$AH$5,V258,D252:AH252)","v":0},{"$f":"$AC$15","v":18},{"$f":"D258","v":"Timer uge"},null,null,null,{"$f":"SUMIF($D$5:$AH$5,AC258,D252:AH252)","v":0},{"$f":"$AI$15","v":19},{"$f":"D258","v":"Timer uge"},null,null,null,{"$f":"SUMIF($D$5:$AH$5,AI258,D252:AH252)","v":0}]
[null,null,null,"Overarbejde 50% 1-3 timer",null,null,{"$f":"IF($G258>37,$G258-37-$G260,0)","v":0},null,{"$f":"D259","v":"Overarbejde 50% 1-3 timer"},null,null,null,null,{"$f":"IF($N258>37,$N258-37-$N260,0)","v":0},null,{"$f":"D259","v":"Overarbejde 50% 1-3 timer"},null,null,null,null,{"$f":"IF($U258>37,$U258-37-$U260,0)","v":0},null,{"$f":"D259","v":"Overarbejde 50% 1-3 timer"},null,null,null,null,{"$f":"IF($AB258>37,$AB258-37-$AB260,0)","v":0},null,{"$f":"D259","v":"Overarbejde 50% 1-3 timer"},null,null,null,{"$f":"IF($AH258>37,$AH258-37-$AH260,0)","v":0},null,{"$f":"D259","v":"Overarbejde 50% 1-3 timer"},null,null,null,{"$f":"IF($AH258>37,$AH258-37-$AH260,0)","v":0}]
[null,null,null,"Overarbejde 100% over 3 timer",null,null,{"$f":"IF($G258>40,$G258-40,0)","v":0},null,"Overarbejde 100% over 3 timer",null,null,null,null,{"$f":"IF($N258>40,$N258-40,0)","v":0},null,"Overarbejde 100% over 3 timer",null,null,null,null,{"$f":"IF($U258>40,$U258-40,0)","v":0},null,"Overarbejde 100% over 3 timer",null,null,null,null,{"$f":"IF($AB258>40,$AB258-40,0)","v":0},null,"Overarbejde 100% over 3 timer",null,null,null,{"$f":"IF($AH258>40,$AH258-40,0)","v":0},null,{"$f":"D260","v":"Overarbejde 100% over 3 timer"},null,null,null,{"$f":"IF($AH258>40,$AH258-40,0)","v":0},null,null,null,null,null,null,null,null,null,null,null,null,null,null,null,null,null,null,null,null,null,null,null,null,null,null,null,null,null,null,null,null,null,1,2,3,4,5,6,7,8,9,10,11,12,13,14,15,16,17,18,19,20,21,22,23,24,25,26,27,28,29,30,31,32,33,34,35,36,37,38,39,40,41,42,43,44,45,46,47,48,49,50,51,52]
[{"$f":"Medarbejder!A31","v":0},{"$f":"Medarbejder!B31","v":0},{"$f":"Medarbejder!C31","v":"-"},null,null,null,null,null,null,null,null,null,null,null,null,null,null,null,null,null,null,null,null,null,null,null,null,null,null,null,null,null,null,null,null,null,null,null,null,null,null,{"$f":"AO261*Overenskomst!$C$22","v":0},{"$f":"SUM($D261:$AH261)-$BA261-$BF261-$BD261","v":0},{"$f":"IF(Medarbejder!$J31=\"ja\",$AQ261,\"-\")","v":"-"},{"$f":"SUMIF($D$7:$AH$7,\"søndag\",$D261:$AH261)+$AT261","v":0},{"$f":"SUMIFS($D261:$AH261,$D265:$AH265,\"H\")","v":0},{"$f":"G268+N268+U268+AB268+AH268+AN268","v":0},{"$f":"G269+N269+U269+AB269+AH269+AN269","v":0},{"$f":"SUM($D263:$AH263)","v":0},{"$f":"SUM($D264:$AH264)","v":0},{"$f":"COUNTIFS($D262:$AH262,\"F\")","v":0},{"$f":"COUNTIFS($D262:$AH262,\"S\")","v":0},{"$f":"SUMIF($D262:$AH262,\"S\",$D266:$AH266)","v":0},{"$f":"COUNTIFS($D262:$AH262,\"p\")","v":0},{"$f":"COUNTIFS($D262:$AH262,\"BS\")","v":0},{"$f":"SUMIF(D262:AH262,\"bs\",$D261:$AH261)","v":0},{"$f":"COUNTIFS($D262:$AH262,\"FF\")","v":0},{"$f":"SUMIF($D262:$AH262,\"g\",$D261:$AH261)","v":0},{"$f":"Medarbejder!$N29","v":"-"},{"$f":"SUM($BL261:$BU261)","v":4},null,null,null,{"$f":"COUNTIFS($D$6:$AH$6,\"skærtd\")","v":1},{"$f":"COUNTIFS($D$6:$AH$6,\"langfd\")","v":1},{"$f":"COUNTIFS($D$6:$AH$6,\"1påsked\")","v":1},{"$f":"COUNTIFS($D$6:$AH$6,\"2påsked\")","v":1},{"$f":"COUNTIFS($D$6:$AH$6,\"kr.himmelfart\")","v":0},{"$f":"COUNTIFS($D$6:$AH$6,\"1pinse\")","v":0},{"$f":"COUNTIFS($D$6:$AH$6,\"2pinse\")","v":0},{"$f":"COUNTIFS($D$6:$AH$6,\"1juledag\")","v":0},{"$f":"COUNTIFS($D$6:$AH$6,\"2juledag\")","v":0},{"$f":"COUNTIFS($D$6:$AH$6,\"nytårsdag\")","v":0},{"$f":"SUMIFS($D261:$AH261,Lønskema!$D$5:$AH$5,1)","v":0},{"$f":"SUMIFS($D261:$AH261,Lønskema!$D$5:$AH$5,2)","v":0},{"$f":"SUMIFS($D261:$AH261,Lønskema!$D$5:$AH$5,3)","v":0},{"$f":"SUMIFS($D261:$AH261,Lønskema!$D$5:$AH$5,4)","v":0},{"$f":"SUMIFS($D261:$AH261,Lønskema!$D$5:$AH$5,5)","v":0},{"$f":"SUMIFS($D261:$AH261,Lønskema!$D$5:$AH$5,6)","v":0},{"$f":"SUMIFS($D261:$AH261,Lønskema!$D$5:$AH$5,7)","v":0},{"$f":"SUMIFS($D261:$AH261,Lønskema!$D$5:$AH$5,8)","v":0},{"$f":"SUMIFS($D261:$AH261,Lønskema!$D$5:$AH$5,9)","v":0},{"$f":"SUMIFS($D261:$AH261,Lønskema!$D$5:$AH$5,10)","v":0},{"$f":"SUMIFS($D261:$AH261,Lønskema!$D$5:$AH$5,11)","v":0},{"$f":"SUMIFS($D261:$AH261,Lønskema!$D$5:$AH$5,12)","v":0},{"$f":"SUMIFS($D261:$AH261,Lønskema!$D$5:$AH$5,13)","v":0},{"$f":"SUMIFS($D261:$AH261,Lønskema!$D$5:$AH$5,14)","v":0},{"$f":"SUMIFS($D261:$AH261,Lønskema!$D$5:$AH$5,15)","v":0},{"$f":"SUMIFS($D261:$AH261,Lønskema!$D$5:$AH$5,16)","v":0},{"$f":"SUMIFS($D261:$AH261,Lønskema!$D$5:$AH$5,17)","v":0},{"$f":"SUMIFS($D261:$AH261,Lønskema!$D$5:$AH$5,18)","v":0},{"$f":"SUMIFS($D261:$AH261,Lønskema!$D$5:$AH$5,19)","v":0},{"$f":"SUMIFS($D261:$AH261,Lønskema!$D$5:$AH$5,20)","v":0},{"$f":"SUMIFS($D261:$AH261,Lønskema!$D$5:$AH$5,21)","v":0},{"$f":"SUMIFS($D261:$AH261,Lønskema!$D$5:$AH$5,22)","v":0},{"$f":"SUMIFS($D261:$AH261,Lønskema!$D$5:$AH$5,23)","v":0},{"$f":"SUMIFS($D261:$AH261,Lønskema!$D$5:$AH$5,24)","v":0},{"$f":"SUMIFS($D261:$AH261,Lønskema!$D$5:$AH$5,25)","v":0},{"$f":"SUMIFS($D261:$AH261,Lønskema!$D$5:$AH$5,26)","v":0},{"$f":"SUMIFS($D261:$AH261,Lønskema!$D$5:$AH$5,27)","v":0},{"$f":"SUMIFS($D261:$AH261,Lønskema!$D$5:$AH$5,28)","v":0},{"$f":"SUMIFS($D261:$AH261,Lønskema!$D$5:$AH$5,29)","v":0},{"$f":"SUMIFS($D261:$AH261,Lønskema!$D$5:$AH$5,30)","v":0},{"$f":"SUMIFS($D261:$AH261,Lønskema!$D$5:$AH$5,31)","v":0},{"$f":"SUMIFS($D261:$AH261,Lønskema!$D$5:$AH$5,32)","v":0},{"$f":"SUMIFS($D261:$AH261,Lønskema!$D$5:$AH$5,33)","v":0},{"$f":"SUMIFS($D261:$AH261,Lønskema!$D$5:$AH$5,34)","v":0},{"$f":"SUMIFS($D261:$AH261,Lønskema!$D$5:$AH$5,35)","v":0},{"$f":"SUMIFS($D261:$AH261,Lønskema!$D$5:$AH$5,36)","v":0},{"$f":"SUMIFS($D261:$AH261,Lønskema!$D$5:$AH$5,37)","v":0},{"$f":"SUMIFS($D261:$AH261,Lønskema!$D$5:$AH$5,38)","v":0},{"$f":"SUMIFS($D261:$AH261,Lønskema!$D$5:$AH$5,39)","v":0},{"$f":"SUMIFS($D261:$AH261,Lønskema!$D$5:$AH$5,40)","v":0},{"$f":"SUMIFS($D261:$AH261,Lønskema!$D$5:$AH$5,41)","v":0},{"$f":"SUMIFS($D261:$AH261,Lønskema!$D$5:$AH$5,42)","v":0},{"$f":"SUMIFS($D261:$AH261,Lønskema!$D$5:$AH$5,43)","v":0},{"$f":"SUMIFS($D261:$AH261,Lønskema!$D$5:$AH$5,44)","v":0},{"$f":"SUMIFS($D261:$AH261,Lønskema!$D$5:$AH$5,45)","v":0},{"$f":"SUMIFS($D261:$AH261,Lønskema!$D$5:$AH$5,46)","v":0},{"$f":"SUMIFS($D261:$AH261,Lønskema!$D$5:$AH$5,47)","v":0},{"$f":"SUMIFS($D261:$AH261,Lønskema!$D$5:$AH$5,48)","v":0},{"$f":"SUMIFS($D261:$AH261,Lønskema!$D$5:$AH$5,49)","v":0},{"$f":"SUMIFS($D261:$AH261,Lønskema!$D$5:$AH$5,50)","v":0},{"$f":"SUMIFS($D261:$AH261,Lønskema!$D$5:$AH$5,51)","v":0},{"$f":"SUMIFS($D261:$AH261,Lønskema!$D$5:$AH$5,52)","v":0}]
["Ferie - syg  mm. Registreres i denne række"]
[null,"Aften"]
[null,"Nat"]
[null,"Helligdag",null,{"$f":"_xlfn.IFS(D$7=\"søndag\",\"-\",D$6=\"skærtd\",\"h\",D$6=\"langfd\",\"h\",D$6=\"1påsked\",\"h\",D$6=\"2påsked\",\"h\",D$6=\"kr.himmelfart\",\"h\",D$6=\"1pinse\",\"h\",D$6=\"2pinse\",\"h\",D$6=\"1juledag\",\"h\",D$6=\"2juledag\",\"h\",D$6=\"nytårsdag\",\"h\")","v":{"$error":"#N/A"}},{"$f":"_xlfn.IFS(E$7=\"søndag\",\"-\",E$6=\"skærtd\",\"h\",E$6=\"langfd\",\"h\",E$6=\"1påsked\",\"h\",E$6=\"2påsked\",\"h\",E$6=\"kr.himmelfart\",\"h\",E$6=\"1pinse\",\"h\",E$6=\"2pinse\",\"h\",E$6=\"1juledag\",\"h\",E$6=\"2juledag\",\"h\",E$6=\"nytårsdag\",\"h\")","v":{"$error":"#N/A"}},{"$f":"_xlfn.IFS(F$7=\"søndag\",\"-\",F$6=\"skærtd\",\"h\",F$6=\"langfd\",\"h\",F$6=\"1påsked\",\"h\",F$6=\"2påsked\",\"h\",F$6=\"kr.himmelfart\",\"h\",F$6=\"1pinse\",\"h\",F$6=\"2pinse\",\"h\",F$6=\"1juledag\",\"h\",F$6=\"2juledag\",\"h\",F$6=\"nytårsdag\",\"h\")","v":{"$error":"#N/A"}},{"$f":"_xlfn.IFS(G$7=\"søndag\",\"-\",G$6=\"skærtd\",\"h\",G$6=\"langfd\",\"h\",G$6=\"1påsked\",\"h\",G$6=\"2påsked\",\"h\",G$6=\"kr.himmelfart\",\"h\",G$6=\"1pinse\",\"h\",G$6=\"2pinse\",\"h\",G$6=\"1juledag\",\"h\",G$6=\"2juledag\",\"h\",G$6=\"nytårsdag\",\"h\")","v":{"$error":"#N/A"}},{"$f":"_xlfn.IFS(H$7=\"søndag\",\"-\",H$6=\"skærtd\",\"h\",H$6=\"langfd\",\"h\",H$6=\"1påsked\",\"h\",H$6=\"2påsked\",\"h\",H$6=\"kr.himmelfart\",\"h\",H$6=\"1pinse\",\"h\",H$6=\"2pinse\",\"h\",H$6=\"1juledag\",\"h\",H$6=\"2juledag\",\"h\",H$6=\"nytårsdag\",\"h\")","v":{"$error":"#N/A"}},{"$f":"_xlfn.IFS(I$7=\"søndag\",\"-\",I$6=\"skærtd\",\"h\",I$6=\"langfd\",\"h\",I$6=\"1påsked\",\"h\",I$6=\"2påsked\",\"h\",I$6=\"kr.himmelfart\",\"h\",I$6=\"1pinse\",\"h\",I$6=\"2pinse\",\"h\",I$6=\"1juledag\",\"h\",I$6=\"2juledag\",\"h\",I$6=\"nytårsdag\",\"h\")","v":"-"},{"$f":"_xlfn.IFS(J$7=\"søndag\",\"-\",J$6=\"skærtd\",\"h\",J$6=\"langfd\",\"h\",J$6=\"1påsked\",\"h\",J$6=\"2påsked\",\"h\",J$6=\"kr.himmelfart\",\"h\",J$6=\"1pinse\",\"h\",J$6=\"2pinse\",\"h\",J$6=\"1juledag\",\"h\",J$6=\"2juledag\",\"h\",J$6=\"nytårsdag\",\"h\")","v":{"$error":"#N/A"}},{"$f":"_xlfn.IFS(K$7=\"søndag\",\"-\",K$6=\"skærtd\",\"h\",K$6=\"langfd\",\"h\",K$6=\"1påsked\",\"h\",K$6=\"2påsked\",\"h\",K$6=\"kr.himmelfart\",\"h\",K$6=\"1pinse\",\"h\",K$6=\"2pinse\",\"h\",K$6=\"1juledag\",\"h\",K$6=\"2juledag\",\"h\",K$6=\"nytårsdag\",\"h\")","v":{"$error":"#N/A"}},{"$f":"_xlfn.IFS(L$7=\"søndag\",\"-\",L$6=\"skærtd\",\"h\",L$6=\"langfd\",\"h\",L$6=\"1påsked\",\"h\",L$6=\"2påsked\",\"h\",L$6=\"kr.himmelfart\",\"h\",L$6=\"1pinse\",\"h\",L$6=\"2pinse\",\"h\",L$6=\"1juledag\",\"h\",L$6=\"2juledag\",\"h\",L$6=\"nytårsdag\",\"h\")","v":{"$error":"#N/A"}},{"$f":"_xlfn.IFS(M$7=\"søndag\",\"-\",M$6=\"skærtd\",\"h\",M$6=\"langfd\",\"h\",M$6=\"1påsked\",\"h\",M$6=\"2påsked\",\"h\",M$6=\"kr.himmelfart\",\"h\",M$6=\"1pinse\",\"h\",M$6=\"2pinse\",\"h\",M$6=\"1juledag\",\"h\",M$6=\"2juledag\",\"h\",M$6=\"nytårsdag\",\"h\")","v":{"$error":"#N/A"}},{"$f":"_xlfn.IFS(N$7=\"søndag\",\"-\",N$6=\"skærtd\",\"h\",N$6=\"langfd\",\"h\",N$6=\"1påsked\",\"h\",N$6=\"2påsked\",\"h\",N$6=\"kr.himmelfart\",\"h\",N$6=\"1pinse\",\"h\",N$6=\"2pinse\",\"h\",N$6=\"1juledag\",\"h\",N$6=\"2juledag\",\"h\",N$6=\"nytårsdag\",\"h\")","v":{"$error":"#N/A"}},{"$f":"_xlfn.IFS(O$7=\"søndag\",\"-\",O$6=\"skærtd\",\"h\",O$6=\"langfd\",\"h\",O$6=\"1påsked\",\"h\",O$6=\"2påsked\",\"h\",O$6=\"kr.himmelfart\",\"h\",O$6=\"1pinse\",\"h\",O$6=\"2pinse\",\"h\",O$6=\"1juledag\",\"h\",O$6=\"2juledag\",\"h\",O$6=\"nytårsdag\",\"h\")","v":{"$error":"#N/A"}},{"$f":"_xlfn.IFS(P$7=\"søndag\",\"-\",P$6=\"skærtd\",\"h\",P$6=\"langfd\",\"h\",P$6=\"1påsked\",\"h\",P$6=\"2påsked\",\"h\",P$6=\"kr.himmelfart\",\"h\",P$6=\"1pinse\",\"h\",P$6=\"2pinse\",\"h\",P$6=\"1juledag\",\"h\",P$6=\"2juledag\",\"h\",P$6=\"nytårsdag\",\"h\")","v":"-"},{"$f":"_xlfn.IFS(Q$7=\"søndag\",\"-\",Q$6=\"skærtd\",\"h\",Q$6=\"langfd\",\"h\",Q$6=\"1påsked\",\"h\",Q$6=\"2påsked\",\"h\",Q$6=\"kr.himmelfart\",\"h\",Q$6=\"1pinse\",\"h\",Q$6=\"2pinse\",\"h\",Q$6=\"1juledag\",\"h\",Q$6=\"2juledag\",\"h\",Q$6=\"nytårsdag\",\"h\")","v":{"$error":"#N/A"}},{"$f":"_xlfn.IFS(R$7=\"søndag\",\"-\",R$6=\"skærtd\",\"h\",R$6=\"langfd\",\"h\",R$6=\"1påsked\",\"h\",R$6=\"2påsked\",\"h\",R$6=\"kr.himmelfart\",\"h\",R$6=\"1pinse\",\"h\",R$6=\"2pinse\",\"h\",R$6=\"1juledag\",\"h\",R$6=\"2juledag\",\"h\",R$6=\"nytårsdag\",\"h\")","v":{"$error":"#N/A"}},{"$f":"_xlfn.IFS(S$7=\"søndag\",\"-\",S$6=\"skærtd\",\"h\",S$6=\"langfd\",\"h\",S$6=\"1påsked\",\"h\",S$6=\"2påsked\",\"h\",S$6=\"kr.himmelfart\",\"h\",S$6=\"1pinse\",\"h\",S$6=\"2pinse\",\"h\",S$6=\"1juledag\",\"h\",S$6=\"2juledag\",\"h\",S$6=\"nytårsdag\",\"h\")","v":{"$error":"#N/A"}},{"$f":"_xlfn.IFS(T$7=\"søndag\",\"-\",T$6=\"skærtd\",\"h\",T$6=\"langfd\",\"h\",T$6=\"1påsked\",\"h\",T$6=\"2påsked\",\"h\",T$6=\"kr.himmelfart\",\"h\",T$6=\"1pinse\",\"h\",T$6=\"2pinse\",\"h\",T$6=\"1juledag\",\"h\",T$6=\"2juledag\",\"h\",T$6=\"nytårsdag\",\"h\")","v":"h"},{"$f":"_xlfn.IFS(U$7=\"søndag\",\"-\",U$6=\"skærtd\",\"h\",U$6=\"langfd\",\"h\",U$6=\"1påsked\",\"h\",U$6=\"2påsked\",\"h\",U$6=\"kr.himmelfart\",\"h\",U$6=\"1pinse\",\"h\",U$6=\"2pinse\",\"h\",U$6=\"1juledag\",\"h\",U$6=\"2juledag\",\"h\",U$6=\"nytårsdag\",\"h\")","v":"h"},{"$f":"_xlfn.IFS(V$7=\"søndag\",\"-\",V$6=\"skærtd\",\"h\",V$6=\"langfd\",\"h\",V$6=\"1påsked\",\"h\",V$6=\"2påsked\",\"h\",V$6=\"kr.himmelfart\",\"h\",V$6=\"1pinse\",\"h\",V$6=\"2pinse\",\"h\",V$6=\"1juledag\",\"h\",V$6=\"2juledag\",\"h\",V$6=\"nytårsdag\",\"h\")","v":{"$error":"#N/A"}},{"$f":"_xlfn.IFS(W$7=\"søndag\",\"-\",W$6=\"skærtd\",\"h\",W$6=\"langfd\",\"h\",W$6=\"1påsked\",\"h\",W$6=\"2påsked\",\"h\",W$6=\"kr.himmelfart\",\"h\",W$6=\"1pinse\",\"h\",W$6=\"2pinse\",\"h\",W$6=\"1juledag\",\"h\",W$6=\"2juledag\",\"h\",W$6=\"nytårsdag\",\"h\")","v":"-"},{"$f":"_xlfn.IFS(X$7=\"søndag\",\"-\",X$6=\"skærtd\",\"h\",X$6=\"langfd\",\"h\",X$6=\"1påsked\",\"h\",X$6=\"2påsked\",\"h\",X$6=\"kr.himmelfart\",\"h\",X$6=\"1pinse\",\"h\",X$6=\"2pinse\",\"h\",X$6=\"1juledag\",\"h\",X$6=\"2juledag\",\"h\",X$6=\"nytårsdag\",\"h\")","v":"h"},{"$f":"_xlfn.IFS(Y$7=\"søndag\",\"-\",Y$6=\"skærtd\",\"h\",Y$6=\"langfd\",\"h\",Y$6=\"1påsked\",\"h\",Y$6=\"2påsked\",\"h\",Y$6=\"kr.himmelfart\",\"h\",Y$6=\"1pinse\",\"h\",Y$6=\"2pinse\",\"h\",Y$6=\"1juledag\",\"h\",Y$6=\"2juledag\",\"h\",Y$6=\"nytårsdag\",\"h\")","v":{"$error":"#N/A"}},{"$f":"_xlfn.IFS(Z$7=\"søndag\",\"-\",Z$6=\"skærtd\",\"h\",Z$6=\"langfd\",\"h\",Z$6=\"1påsked\",\"h\",Z$6=\"2påsked\",\"h\",Z$6=\"kr.himmelfart\",\"h\",Z$6=\"1pinse\",\"h\",Z$6=\"2pinse\",\"h\",Z$6=\"1juledag\",\"h\",Z$6=\"2juledag\",\"h\",Z$6=\"nytårsdag\",\"h\")","v":{"$error":"#N/A"}},{"$f":"_xlfn.IFS(AA$7=\"søndag\",\"-\",AA$6=\"skærtd\",\"h\",AA$6=\"langfd\",\"h\",AA$6=\"1påsked\",\"h\",AA$6=\"2påsked\",\"h\",AA$6=\"kr.himmelfart\",\"h\",AA$6=\"1pinse\",\"h\",AA$6=\"2pinse\",\"h\",AA$6=\"1juledag\",\"h\",AA$6=\"2juledag\",\"h\",AA$6=\"nytårsdag\",\"h\")","v":{"$error":"#N/A"}},{"$f":"_xlfn.IFS(AB$7=\"søndag\",\"-\",AB$6=\"skærtd\",\"h\",AB$6=\"langfd\",\"h\",AB$6=\"1påsked\",\"h\",AB$6=\"2påsked\",\"h\",AB$6=\"kr.himmelfart\",\"h\",AB$6=\"1pinse\",\"h\",AB$6=\"2pinse\",\"h\",AB$6=\"1juledag\",\"h\",AB$6=\"2juledag\",\"h\",AB$6=\"nytårsdag\",\"h\")","v":{"$error":"#N/A"}},{"$f":"_xlfn.IFS(AC$7=\"søndag\",\"-\",AC$6=\"skærtd\",\"h\",AC$6=\"langfd\",\"h\",AC$6=\"1påsked\",\"h\",AC$6=\"2påsked\",\"h\",AC$6=\"kr.himmelfart\",\"h\",AC$6=\"1pinse\",\"h\",AC$6=\"2pinse\",\"h\",AC$6=\"1juledag\",\"h\",AC$6=\"2juledag\",\"h\",AC$6=\"nytårsdag\",\"h\")","v":{"$error":"#N/A"}},{"$f":"_xlfn.IFS(AD$7=\"søndag\",\"-\",AD$6=\"skærtd\",\"h\",AD$6=\"langfd\",\"h\",AD$6=\"1påsked\",\"h\",AD$6=\"2påsked\",\"h\",AD$6=\"kr.himmelfart\",\"h\",AD$6=\"1pinse\",\"h\",AD$6=\"2pinse\",\"h\",AD$6=\"1juledag\",\"h\",AD$6=\"2juledag\",\"h\",AD$6=\"nytårsdag\",\"h\")","v":"-"},{"$f":"_xlfn.IFS(AE$7=\"søndag\",\"-\",AE$6=\"skærtd\",\"h\",AE$6=\"langfd\",\"h\",AE$6=\"1påsked\",\"h\",AE$6=\"2påsked\",\"h\",AE$6=\"kr.himmelfart\",\"h\",AE$6=\"1pinse\",\"h\",AE$6=\"2pinse\",\"h\",AE$6=\"1juledag\",\"h\",AE$6=\"2juledag\",\"h\",AE$6=\"nytårsdag\",\"h\")","v":{"$error":"#N/A"}},{"$f":"_xlfn.IFS(AF$7=\"søndag\",\"-\",AF$6=\"skærtd\",\"h\",AF$6=\"langfd\",\"h\",AF$6=\"1påsked\",\"h\",AF$6=\"2påsked\",\"h\",AF$6=\"kr.himmelfart\",\"h\",AF$6=\"1pinse\",\"h\",AF$6=\"2pinse\",\"h\",AF$6=\"1juledag\",\"h\",AF$6=\"2juledag\",\"h\",AF$6=\"nytårsdag\",\"h\")","v":{"$error":"#N/A"}},{"$f":"_xlfn.IFS(AG$7=\"søndag\",\"-\",AG$6=\"skærtd\",\"h\",AG$6=\"langfd\",\"h\",AG$6=\"1påsked\",\"h\",AG$6=\"2påsked\",\"h\",AG$6=\"kr.himmelfart\",\"h\",AG$6=\"1pinse\",\"h\",AG$6=\"2pinse\",\"h\",AG$6=\"1juledag\",\"h\",AG$6=\"2juledag\",\"h\",AG$6=\"nytårsdag\",\"h\")","v":{"$error":"#N/A"}},{"$f":"_xlfn.IFS(AH$7=\"søndag\",\"-\",AH$6=\"skærtd\",\"h\",AH$6=\"langfd\",\"h\",AH$6=\"1påsked\",\"h\",AH$6=\"2påsked\",\"h\",AH$6=\"kr.himmelfart\",\"h\",AH$6=\"1pinse\",\"h\",AH$6=\"2pinse\",\"h\",AH$6=\"1juledag\",\"h\",AH$6=\"2juledag\",\"h\",AH$6=\"nytårsdag\",\"h\")","v":{"$error":"#N/A"}}]
[null,"Sygedage",null,{"$f":"IF(D262=\"s\",D261,\"-\")","v":"-"},{"$f":"IF(E262=\"s\",E261,\"-\")","v":"-"},"-","-","-","-","-","-","-","-","-","-","-","-","-","-","-","-","-","-","-","-","-","-","-","-","-","-","-","-","-"]
[null,null,{"$f":"$C$15","v":14},"Timer uge",null,null,{"$f":"SUMIF($D$5:$AH$5,C267,D261:AH261)","v":0},{"$f":"$H$15","v":15},{"$f":"D267","v":"Timer uge"},null,null,null,null,{"$f":"SUMIF($D$5:$AH$5,H267,D261:AH261)","v":0},{"$f":"$O$15","v":16},{"$f":"D267","v":"Timer uge"},null,null,null,null,{"$f":"_xlfn.IFS($O267=$BV260,$BV261,$O267=$BW260,Lønskema!$BW261,$O267=$BX260,$BX261,$O267=$BY260,$BY261,$O267=$BZ260,$BZ261,$O267=$CA260,$CA261,$O267=$CB260,$CB261,$O267=$CC260,$CC261,$O267=$CD260,$CD261,$O267=$CE260,$CE261,$O267=$CF260,$CF261,$O267=$CG260,$CF261,$O267=$CG260,$CG261,$O267=$CH260,$CH261,$O267=$CI260,$CI261,$O267=$CJ260,$CJ261,$O267=$CK260,$CK261,$O267=$CL260,$CL261,$O267=$CM260,$CM261,$O267=$CN260,$CN261,$O267=$CO260,$CO261,$O267=$CP260,$CP261,$O267=$CQ260,$CQ261,$O267=$CR260,$CR261,$O267=$CS260,$CS261,$O267=$CT260,$CT261,$O267=$CU260,$CU261,$O267=$CV260,$CV261,$O267=$CW260,$CW261,$O267=$CX260,$CX261,$O267=$CY260,$CY261,$O267=$CZ260,$CZ261,$O267=$DA260,$DA261,$O267=$DB260,$DB261,$O267=$DC260,$DC261,$O267=$DD260,$DD261,$O267=$DE260,$DE261,$O267=$DF260,$DF261,$O267=$DG260,$DG261,$O267=$DH260,$DH261,$O267=$DI260,$DI261,$O267=$DJ260,$DJ261,$O267=$DK260,$DK261,$O267=$DL260,$DL261,$O267=$DM260,$DM261,$O267=$DN260,$DN261,$O267=$DO260,$DO261,$O267=$DP260,$DP261,$O267=$DQ260,$DQ261,$O267=$DR260,$DR261,$O267=$DS260,$DS261,$O267=$DT260,$DT261,$O267=$DU260,$DU261)","v":0},{"$f":"$V$15","v":17},{"$f":"D267","v":"Timer uge"},null,null,null,null,{"$f":"SUMIF($D$5:$AH$5,V267,D261:AH261)","v":0},{"$f":"$AC$15","v":18},{"$f":"D267","v":"Timer uge"},null,null,null,{"$f":"SUMIF($D$5:$AH$5,AC267,D261:AH261)","v":0},{"$f":"$AI$15","v":19},{"$f":"D267","v":"Timer uge"},null,null,null,{"$f":"SUMIF($D$5:$AH$5,AI267,D261:AH261)","v":0}]
[null,null,null,"Overarbejde 50% 1-3 timer",null,null,{"$f":"IF($G267>37,$G267-37-$G269,0)","v":0},null,{"$f":"D268","v":"Overarbejde 50% 1-3 timer"},null,null,null,null,{"$f":"IF($N267>37,$N267-37-$N269,0)","v":0},null,{"$f":"D268","v":"Overarbejde 50% 1-3 timer"},null,null,null,null,{"$f":"IF($U267>37,$U267-37-$U269,0)","v":0},null,{"$f":"D268","v":"Overarbejde 50% 1-3 timer"},null,null,null,null,{"$f":"IF($AB267>37,$AB267-37-$AB269,0)","v":0},null,{"$f":"D268","v":"Overarbejde 50% 1-3 timer"},null,null,null,{"$f":"IF($AH267>37,$AH267-37-$AH269,0)","v":0},null,{"$f":"D268","v":"Overarbejde 50% 1-3 timer"},null,null,null,{"$f":"IF($AH267>37,$AH267-37-$AH269,0)","v":0}]
[null,null,null,"Overarbejde 100% over 3 timer",null,null,{"$f":"IF($G267>40,$G267-40,0)","v":0},null,"Overarbejde 100% over 3 timer",null,null,null,null,{"$f":"IF($N267>40,$N267-40,0)","v":0},null,"Overarbejde 100% over 3 timer",null,null,null,null,{"$f":"IF($U267>40,$U267-40,0)","v":0},null,"Overarbejde 100% over 3 timer",null,null,null,null,{"$f":"IF($AB267>40,$AB267-40,0)","v":0},null,"Overarbejde 100% over 3 timer",null,null,null,{"$f":"IF($AH267>40,$AH267-40,0)","v":0},null,{"$f":"D269","v":"Overarbejde 100% over 3 timer"},null,null,null,{"$f":"IF($AH267>40,$AH267-40,0)","v":0},null,null,null,null,null,null,null,null,null,null,null,null,null,null,null,null,null,null,null,null,null,null,null,null,null,null,null,null,null,null,null,null,null,1,2,3,4,5,6,7,8,9,10,11,12,13,14,15,16,17,18,19,20,21,22,23,24,25,26,27,28,29,30,31,32,33,34,35,36,37,38,39,40,41,42,43,44,45,46,47,48,49,50,51,52]
[{"$f":"Medarbejder!A32","v":0},{"$f":"Medarbejder!B32","v":0},{"$f":"Medarbejder!C32","v":"-"},null,null,null,null,null,null,null,null,null,null,null,null,null,null,null,null,null,null,null,null,null,null,null,null,null,null,null,null,null,null,null,null,null,null,null,null,null,null,{"$f":"AO270*Overenskomst!$C$22","v":0},{"$f":"SUM($D270:$AH270)-$BA270-$BF270-$BD270","v":0},{"$f":"IF(Medarbejder!$J32=\"ja\",$AQ270,\"-\")","v":"-"},{"$f":"SUMIF($D$7:$AH$7,\"søndag\",$D270:$AH270)+$AT270","v":0},{"$f":"SUMIFS($D270:$AH270,$D274:$AH274,\"H\")","v":0},{"$f":"G277+N277+U277+AB277+AH277+AN277","v":0},{"$f":"G278+N278+U278+AB278+AH278+AN278","v":0},{"$f":"SUM($D272:$AH272)","v":0},{"$f":"SUM($D273:$AH273)","v":0},{"$f":"COUNTIFS($D271:$AH271,\"F\")","v":0},{"$f":"COUNTIFS($D271:$AH271,\"S\")","v":0},{"$f":"SUMIF($D271:$AH271,\"S\",$D275:$AH275)","v":0},{"$f":"COUNTIFS($D271:$AH271,\"p\")","v":0},{"$f":"COUNTIFS($D271:$AH271,\"BS\")","v":0},{"$f":"SUMIF(D271:AH271,\"bs\",$D270:$AH270)","v":0},{"$f":"COUNTIFS($D271:$AH271,\"FF\")","v":0},{"$f":"SUMIF($D271:$AH271,\"g\",$D270:$AH270)","v":0},{"$f":"Medarbejder!$N29","v":"-"},{"$f":"SUM($BL270:$BU270)","v":4},null,null,null,{"$f":"COUNTIFS($D$6:$AH$6,\"skærtd\")","v":1},{"$f":"COUNTIFS($D$6:$AH$6,\"langfd\")","v":1},{"$f":"COUNTIFS($D$6:$AH$6,\"1påsked\")","v":1},{"$f":"COUNTIFS($D$6:$AH$6,\"2påsked\")","v":1},{"$f":"COUNTIFS($D$6:$AH$6,\"kr.himmelfart\")","v":0},{"$f":"COUNTIFS($D$6:$AH$6,\"1pinse\")","v":0},{"$f":"COUNTIFS($D$6:$AH$6,\"2pinse\")","v":0},{"$f":"COUNTIFS($D$6:$AH$6,\"1juledag\")","v":0},{"$f":"COUNTIFS($D$6:$AH$6,\"2juledag\")","v":0},{"$f":"COUNTIFS($D$6:$AH$6,\"nytårsdag\")","v":0},{"$f":"SUMIFS($D270:$AH270,Lønskema!$D$5:$AH$5,1)","v":0},{"$f":"SUMIFS($D270:$AH270,Lønskema!$D$5:$AH$5,2)","v":0},{"$f":"SUMIFS($D270:$AH270,Lønskema!$D$5:$AH$5,3)","v":0},{"$f":"SUMIFS($D270:$AH270,Lønskema!$D$5:$AH$5,4)","v":0},{"$f":"SUMIFS($D270:$AH270,Lønskema!$D$5:$AH$5,5)","v":0},{"$f":"SUMIFS($D270:$AH270,Lønskema!$D$5:$AH$5,6)","v":0},{"$f":"SUMIFS($D270:$AH270,Lønskema!$D$5:$AH$5,7)","v":0},{"$f":"SUMIFS($D270:$AH270,Lønskema!$D$5:$AH$5,8)","v":0},{"$f":"SUMIFS($D270:$AH270,Lønskema!$D$5:$AH$5,9)","v":0},{"$f":"SUMIFS($D270:$AH270,Lønskema!$D$5:$AH$5,10)","v":0},{"$f":"SUMIFS($D270:$AH270,Lønskema!$D$5:$AH$5,11)","v":0},{"$f":"SUMIFS($D270:$AH270,Lønskema!$D$5:$AH$5,12)","v":0},{"$f":"SUMIFS($D270:$AH270,Lønskema!$D$5:$AH$5,13)","v":0},{"$f":"SUMIFS($D270:$AH270,Lønskema!$D$5:$AH$5,14)","v":0},{"$f":"SUMIFS($D270:$AH270,Lønskema!$D$5:$AH$5,15)","v":0},{"$f":"SUMIFS($D270:$AH270,Lønskema!$D$5:$AH$5,16)","v":0},{"$f":"SUMIFS($D270:$AH270,Lønskema!$D$5:$AH$5,17)","v":0},{"$f":"SUMIFS($D270:$AH270,Lønskema!$D$5:$AH$5,18)","v":0},{"$f":"SUMIFS($D270:$AH270,Lønskema!$D$5:$AH$5,19)","v":0},{"$f":"SUMIFS($D270:$AH270,Lønskema!$D$5:$AH$5,20)","v":0},{"$f":"SUMIFS($D270:$AH270,Lønskema!$D$5:$AH$5,21)","v":0},{"$f":"SUMIFS($D270:$AH270,Lønskema!$D$5:$AH$5,22)","v":0},{"$f":"SUMIFS($D270:$AH270,Lønskema!$D$5:$AH$5,23)","v":0},{"$f":"SUMIFS($D270:$AH270,Lønskema!$D$5:$AH$5,24)","v":0},{"$f":"SUMIFS($D270:$AH270,Lønskema!$D$5:$AH$5,25)","v":0},{"$f":"SUMIFS($D270:$AH270,Lønskema!$D$5:$AH$5,26)","v":0},{"$f":"SUMIFS($D270:$AH270,Lønskema!$D$5:$AH$5,27)","v":0},{"$f":"SUMIFS($D270:$AH270,Lønskema!$D$5:$AH$5,28)","v":0},{"$f":"SUMIFS($D270:$AH270,Lønskema!$D$5:$AH$5,29)","v":0},{"$f":"SUMIFS($D270:$AH270,Lønskema!$D$5:$AH$5,30)","v":0},{"$f":"SUMIFS($D270:$AH270,Lønskema!$D$5:$AH$5,31)","v":0},{"$f":"SUMIFS($D270:$AH270,Lønskema!$D$5:$AH$5,32)","v":0},{"$f":"SUMIFS($D270:$AH270,Lønskema!$D$5:$AH$5,33)","v":0},{"$f":"SUMIFS($D270:$AH270,Lønskema!$D$5:$AH$5,34)","v":0},{"$f":"SUMIFS($D270:$AH270,Lønskema!$D$5:$AH$5,35)","v":0},{"$f":"SUMIFS($D270:$AH270,Lønskema!$D$5:$AH$5,36)","v":0},{"$f":"SUMIFS($D270:$AH270,Lønskema!$D$5:$AH$5,37)","v":0},{"$f":"SUMIFS($D270:$AH270,Lønskema!$D$5:$AH$5,38)","v":0},{"$f":"SUMIFS($D270:$AH270,Lønskema!$D$5:$AH$5,39)","v":0},{"$f":"SUMIFS($D270:$AH270,Lønskema!$D$5:$AH$5,40)","v":0},{"$f":"SUMIFS($D270:$AH270,Lønskema!$D$5:$AH$5,41)","v":0},{"$f":"SUMIFS($D270:$AH270,Lønskema!$D$5:$AH$5,42)","v":0},{"$f":"SUMIFS($D270:$AH270,Lønskema!$D$5:$AH$5,43)","v":0},{"$f":"SUMIFS($D270:$AH270,Lønskema!$D$5:$AH$5,44)","v":0},{"$f":"SUMIFS($D270:$AH270,Lønskema!$D$5:$AH$5,45)","v":0},{"$f":"SUMIFS($D270:$AH270,Lønskema!$D$5:$AH$5,46)","v":0},{"$f":"SUMIFS($D270:$AH270,Lønskema!$D$5:$AH$5,47)","v":0},{"$f":"SUMIFS($D270:$AH270,Lønskema!$D$5:$AH$5,48)","v":0},{"$f":"SUMIFS($D270:$AH270,Lønskema!$D$5:$AH$5,49)","v":0},{"$f":"SUMIFS($D270:$AH270,Lønskema!$D$5:$AH$5,50)","v":0},{"$f":"SUMIFS($D270:$AH270,Lønskema!$D$5:$AH$5,51)","v":0},{"$f":"SUMIFS($D270:$AH270,Lønskema!$D$5:$AH$5,52)","v":0}]
["Ferie - syg  mm. Registreres i denne række"]
[null,"Aften"]
[null,"Nat"]
[null,"Helligdag",null,{"$f":"_xlfn.IFS(D$7=\"søndag\",\"-\",D$6=\"skærtd\",\"h\",D$6=\"langfd\",\"h\",D$6=\"1påsked\",\"h\",D$6=\"2påsked\",\"h\",D$6=\"kr.himmelfart\",\"h\",D$6=\"1pinse\",\"h\",D$6=\"2pinse\",\"h\",D$6=\"1juledag\",\"h\",D$6=\"2juledag\",\"h\",D$6=\"nytårsdag\",\"h\")","v":{"$error":"#N/A"}},{"$f":"_xlfn.IFS(E$7=\"søndag\",\"-\",E$6=\"skærtd\",\"h\",E$6=\"langfd\",\"h\",E$6=\"1påsked\",\"h\",E$6=\"2påsked\",\"h\",E$6=\"kr.himmelfart\",\"h\",E$6=\"1pinse\",\"h\",E$6=\"2pinse\",\"h\",E$6=\"1juledag\",\"h\",E$6=\"2juledag\",\"h\",E$6=\"nytårsdag\",\"h\")","v":{"$error":"#N/A"}},{"$f":"_xlfn.IFS(F$7=\"søndag\",\"-\",F$6=\"skærtd\",\"h\",F$6=\"langfd\",\"h\",F$6=\"1påsked\",\"h\",F$6=\"2påsked\",\"h\",F$6=\"kr.himmelfart\",\"h\",F$6=\"1pinse\",\"h\",F$6=\"2pinse\",\"h\",F$6=\"1juledag\",\"h\",F$6=\"2juledag\",\"h\",F$6=\"nytårsdag\",\"h\")","v":{"$error":"#N/A"}},{"$f":"_xlfn.IFS(G$7=\"søndag\",\"-\",G$6=\"skærtd\",\"h\",G$6=\"langfd\",\"h\",G$6=\"1påsked\",\"h\",G$6=\"2påsked\",\"h\",G$6=\"kr.himmelfart\",\"h\",G$6=\"1pinse\",\"h\",G$6=\"2pinse\",\"h\",G$6=\"1juledag\",\"h\",G$6=\"2juledag\",\"h\",G$6=\"nytårsdag\",\"h\")","v":{"$error":"#N/A"}},{"$f":"_xlfn.IFS(H$7=\"søndag\",\"-\",H$6=\"skærtd\",\"h\",H$6=\"langfd\",\"h\",H$6=\"1påsked\",\"h\",H$6=\"2påsked\",\"h\",H$6=\"kr.himmelfart\",\"h\",H$6=\"1pinse\",\"h\",H$6=\"2pinse\",\"h\",H$6=\"1juledag\",\"h\",H$6=\"2juledag\",\"h\",H$6=\"nytårsdag\",\"h\")","v":{"$error":"#N/A"}},{"$f":"_xlfn.IFS(I$7=\"søndag\",\"-\",I$6=\"skærtd\",\"h\",I$6=\"langfd\",\"h\",I$6=\"1påsked\",\"h\",I$6=\"2påsked\",\"h\",I$6=\"kr.himmelfart\",\"h\",I$6=\"1pinse\",\"h\",I$6=\"2pinse\",\"h\",I$6=\"1juledag\",\"h\",I$6=\"2juledag\",\"h\",I$6=\"nytårsdag\",\"h\")","v":"-"},{"$f":"_xlfn.IFS(J$7=\"søndag\",\"-\",J$6=\"skærtd\",\"h\",J$6=\"langfd\",\"h\",J$6=\"1påsked\",\"h\",J$6=\"2påsked\",\"h\",J$6=\"kr.himmelfart\",\"h\",J$6=\"1pinse\",\"h\",J$6=\"2pinse\",\"h\",J$6=\"1juledag\",\"h\",J$6=\"2juledag\",\"h\",J$6=\"nytårsdag\",\"h\")","v":{"$error":"#N/A"}},{"$f":"_xlfn.IFS(K$7=\"søndag\",\"-\",K$6=\"skærtd\",\"h\",K$6=\"langfd\",\"h\",K$6=\"1påsked\",\"h\",K$6=\"2påsked\",\"h\",K$6=\"kr.himmelfart\",\"h\",K$6=\"1pinse\",\"h\",K$6=\"2pinse\",\"h\",K$6=\"1juledag\",\"h\",K$6=\"2juledag\",\"h\",K$6=\"nytårsdag\",\"h\")","v":{"$error":"#N/A"}},{"$f":"_xlfn.IFS(L$7=\"søndag\",\"-\",L$6=\"skærtd\",\"h\",L$6=\"langfd\",\"h\",L$6=\"1påsked\",\"h\",L$6=\"2påsked\",\"h\",L$6=\"kr.himmelfart\",\"h\",L$6=\"1pinse\",\"h\",L$6=\"2pinse\",\"h\",L$6=\"1juledag\",\"h\",L$6=\"2juledag\",\"h\",L$6=\"nytårsdag\",\"h\")","v":{"$error":"#N/A"}},{"$f":"_xlfn.IFS(M$7=\"søndag\",\"-\",M$6=\"skærtd\",\"h\",M$6=\"langfd\",\"h\",M$6=\"1påsked\",\"h\",M$6=\"2påsked\",\"h\",M$6=\"kr.himmelfart\",\"h\",M$6=\"1pinse\",\"h\",M$6=\"2pinse\",\"h\",M$6=\"1juledag\",\"h\",M$6=\"2juledag\",\"h\",M$6=\"nytårsdag\",\"h\")","v":{"$error":"#N/A"}},{"$f":"_xlfn.IFS(N$7=\"søndag\",\"-\",N$6=\"skærtd\",\"h\",N$6=\"langfd\",\"h\",N$6=\"1påsked\",\"h\",N$6=\"2påsked\",\"h\",N$6=\"kr.himmelfart\",\"h\",N$6=\"1pinse\",\"h\",N$6=\"2pinse\",\"h\",N$6=\"1juledag\",\"h\",N$6=\"2juledag\",\"h\",N$6=\"nytårsdag\",\"h\")","v":{"$error":"#N/A"}},{"$f":"_xlfn.IFS(O$7=\"søndag\",\"-\",O$6=\"skærtd\",\"h\",O$6=\"langfd\",\"h\",O$6=\"1påsked\",\"h\",O$6=\"2påsked\",\"h\",O$6=\"kr.himmelfart\",\"h\",O$6=\"1pinse\",\"h\",O$6=\"2pinse\",\"h\",O$6=\"1juledag\",\"h\",O$6=\"2juledag\",\"h\",O$6=\"nytårsdag\",\"h\")","v":{"$error":"#N/A"}},{"$f":"_xlfn.IFS(P$7=\"søndag\",\"-\",P$6=\"skærtd\",\"h\",P$6=\"langfd\",\"h\",P$6=\"1påsked\",\"h\",P$6=\"2påsked\",\"h\",P$6=\"kr.himmelfart\",\"h\",P$6=\"1pinse\",\"h\",P$6=\"2pinse\",\"h\",P$6=\"1juledag\",\"h\",P$6=\"2juledag\",\"h\",P$6=\"nytårsdag\",\"h\")","v":"-"},{"$f":"_xlfn.IFS(Q$7=\"søndag\",\"-\",Q$6=\"skærtd\",\"h\",Q$6=\"langfd\",\"h\",Q$6=\"1påsked\",\"h\",Q$6=\"2påsked\",\"h\",Q$6=\"kr.himmelfart\",\"h\",Q$6=\"1pinse\",\"h\",Q$6=\"2pinse\",\"h\",Q$6=\"1juledag\",\"h\",Q$6=\"2juledag\",\"h\",Q$6=\"nytårsdag\",\"h\")","v":{"$error":"#N/A"}},{"$f":"_xlfn.IFS(R$7=\"søndag\",\"-\",R$6=\"skærtd\",\"h\",R$6=\"langfd\",\"h\",R$6=\"1påsked\",\"h\",R$6=\"2påsked\",\"h\",R$6=\"kr.himmelfart\",\"h\",R$6=\"1pinse\",\"h\",R$6=\"2pinse\",\"h\",R$6=\"1juledag\",\"h\",R$6=\"2juledag\",\"h\",R$6=\"nytårsdag\",\"h\")","v":{"$error":"#N/A"}},{"$f":"_xlfn.IFS(S$7=\"søndag\",\"-\",S$6=\"skærtd\",\"h\",S$6=\"langfd\",\"h\",S$6=\"1påsked\",\"h\",S$6=\"2påsked\",\"h\",S$6=\"kr.himmelfart\",\"h\",S$6=\"1pinse\",\"h\",S$6=\"2pinse\",\"h\",S$6=\"1juledag\",\"h\",S$6=\"2juledag\",\"h\",S$6=\"nytårsdag\",\"h\")","v":{"$error":"#N/A"}},{"$f":"_xlfn.IFS(T$7=\"søndag\",\"-\",T$6=\"skærtd\",\"h\",T$6=\"langfd\",\"h\",T$6=\"1påsked\",\"h\",T$6=\"2påsked\",\"h\",T$6=\"kr.himmelfart\",\"h\",T$6=\"1pinse\",\"h\",T$6=\"2pinse\",\"h\",T$6=\"1juledag\",\"h\",T$6=\"2juledag\",\"h\",T$6=\"nytårsdag\",\"h\")","v":"h"},{"$f":"_xlfn.IFS(U$7=\"søndag\",\"-\",U$6=\"skærtd\",\"h\",U$6=\"langfd\",\"h\",U$6=\"1påsked\",\"h\",U$6=\"2påsked\",\"h\",U$6=\"kr.himmelfart\",\"h\",U$6=\"1pinse\",\"h\",U$6=\"2pinse\",\"h\",U$6=\"1juledag\",\"h\",U$6=\"2juledag\",\"h\",U$6=\"nytårsdag\",\"h\")","v":"h"},{"$f":"_xlfn.IFS(V$7=\"søndag\",\"-\",V$6=\"skærtd\",\"h\",V$6=\"langfd\",\"h\",V$6=\"1påsked\",\"h\",V$6=\"2påsked\",\"h\",V$6=\"kr.himmelfart\",\"h\",V$6=\"1pinse\",\"h\",V$6=\"2pinse\",\"h\",V$6=\"1juledag\",\"h\",V$6=\"2juledag\",\"h\",V$6=\"nytårsdag\",\"h\")","v":{"$error":"#N/A"}},{"$f":"_xlfn.IFS(W$7=\"søndag\",\"-\",W$6=\"skærtd\",\"h\",W$6=\"langfd\",\"h\",W$6=\"1påsked\",\"h\",W$6=\"2påsked\",\"h\",W$6=\"kr.himmelfart\",\"h\",W$6=\"1pinse\",\"h\",W$6=\"2pinse\",\"h\",W$6=\"1juledag\",\"h\",W$6=\"2juledag\",\"h\",W$6=\"nytårsdag\",\"h\")","v":"-"},{"$f":"_xlfn.IFS(X$7=\"søndag\",\"-\",X$6=\"skærtd\",\"h\",X$6=\"langfd\",\"h\",X$6=\"1påsked\",\"h\",X$6=\"2påsked\",\"h\",X$6=\"kr.himmelfart\",\"h\",X$6=\"1pinse\",\"h\",X$6=\"2pinse\",\"h\",X$6=\"1juledag\",\"h\",X$6=\"2juledag\",\"h\",X$6=\"nytårsdag\",\"h\")","v":"h"},{"$f":"_xlfn.IFS(Y$7=\"søndag\",\"-\",Y$6=\"skærtd\",\"h\",Y$6=\"langfd\",\"h\",Y$6=\"1påsked\",\"h\",Y$6=\"2påsked\",\"h\",Y$6=\"kr.himmelfart\",\"h\",Y$6=\"1pinse\",\"h\",Y$6=\"2pinse\",\"h\",Y$6=\"1juledag\",\"h\",Y$6=\"2juledag\",\"h\",Y$6=\"nytårsdag\",\"h\")","v":{"$error":"#N/A"}},{"$f":"_xlfn.IFS(Z$7=\"søndag\",\"-\",Z$6=\"skærtd\",\"h\",Z$6=\"langfd\",\"h\",Z$6=\"1påsked\",\"h\",Z$6=\"2påsked\",\"h\",Z$6=\"kr.himmelfart\",\"h\",Z$6=\"1pinse\",\"h\",Z$6=\"2pinse\",\"h\",Z$6=\"1juledag\",\"h\",Z$6=\"2juledag\",\"h\",Z$6=\"nytårsdag\",\"h\")","v":{"$error":"#N/A"}},{"$f":"_xlfn.IFS(AA$7=\"søndag\",\"-\",AA$6=\"skærtd\",\"h\",AA$6=\"langfd\",\"h\",AA$6=\"1påsked\",\"h\",AA$6=\"2påsked\",\"h\",AA$6=\"kr.himmelfart\",\"h\",AA$6=\"1pinse\",\"h\",AA$6=\"2pinse\",\"h\",AA$6=\"1juledag\",\"h\",AA$6=\"2juledag\",\"h\",AA$6=\"nytårsdag\",\"h\")","v":{"$error":"#N/A"}},{"$f":"_xlfn.IFS(AB$7=\"søndag\",\"-\",AB$6=\"skærtd\",\"h\",AB$6=\"langfd\",\"h\",AB$6=\"1påsked\",\"h\",AB$6=\"2påsked\",\"h\",AB$6=\"kr.himmelfart\",\"h\",AB$6=\"1pinse\",\"h\",AB$6=\"2pinse\",\"h\",AB$6=\"1juledag\",\"h\",AB$6=\"2juledag\",\"h\",AB$6=\"nytårsdag\",\"h\")","v":{"$error":"#N/A"}},{"$f":"_xlfn.IFS(AC$7=\"søndag\",\"-\",AC$6=\"skærtd\",\"h\",AC$6=\"langfd\",\"h\",AC$6=\"1påsked\",\"h\",AC$6=\"2påsked\",\"h\",AC$6=\"kr.himmelfart\",\"h\",AC$6=\"1pinse\",\"h\",AC$6=\"2pinse\",\"h\",AC$6=\"1juledag\",\"h\",AC$6=\"2juledag\",\"h\",AC$6=\"nytårsdag\",\"h\")","v":{"$error":"#N/A"}},{"$f":"_xlfn.IFS(AD$7=\"søndag\",\"-\",AD$6=\"skærtd\",\"h\",AD$6=\"langfd\",\"h\",AD$6=\"1påsked\",\"h\",AD$6=\"2påsked\",\"h\",AD$6=\"kr.himmelfart\",\"h\",AD$6=\"1pinse\",\"h\",AD$6=\"2pinse\",\"h\",AD$6=\"1juledag\",\"h\",AD$6=\"2juledag\",\"h\",AD$6=\"nytårsdag\",\"h\")","v":"-"},{"$f":"_xlfn.IFS(AE$7=\"søndag\",\"-\",AE$6=\"skærtd\",\"h\",AE$6=\"langfd\",\"h\",AE$6=\"1påsked\",\"h\",AE$6=\"2påsked\",\"h\",AE$6=\"kr.himmelfart\",\"h\",AE$6=\"1pinse\",\"h\",AE$6=\"2pinse\",\"h\",AE$6=\"1juledag\",\"h\",AE$6=\"2juledag\",\"h\",AE$6=\"nytårsdag\",\"h\")","v":{"$error":"#N/A"}},{"$f":"_xlfn.IFS(AF$7=\"søndag\",\"-\",AF$6=\"skærtd\",\"h\",AF$6=\"langfd\",\"h\",AF$6=\"1påsked\",\"h\",AF$6=\"2påsked\",\"h\",AF$6=\"kr.himmelfart\",\"h\",AF$6=\"1pinse\",\"h\",AF$6=\"2pinse\",\"h\",AF$6=\"1juledag\",\"h\",AF$6=\"2juledag\",\"h\",AF$6=\"nytårsdag\",\"h\")","v":{"$error":"#N/A"}},{"$f":"_xlfn.IFS(AG$7=\"søndag\",\"-\",AG$6=\"skærtd\",\"h\",AG$6=\"langfd\",\"h\",AG$6=\"1påsked\",\"h\",AG$6=\"2påsked\",\"h\",AG$6=\"kr.himmelfart\",\"h\",AG$6=\"1pinse\",\"h\",AG$6=\"2pinse\",\"h\",AG$6=\"1juledag\",\"h\",AG$6=\"2juledag\",\"h\",AG$6=\"nytårsdag\",\"h\")","v":{"$error":"#N/A"}},{"$f":"_xlfn.IFS(AH$7=\"søndag\",\"-\",AH$6=\"skærtd\",\"h\",AH$6=\"langfd\",\"h\",AH$6=\"1påsked\",\"h\",AH$6=\"2påsked\",\"h\",AH$6=\"kr.himmelfart\",\"h\",AH$6=\"1pinse\",\"h\",AH$6=\"2pinse\",\"h\",AH$6=\"1juledag\",\"h\",AH$6=\"2juledag\",\"h\",AH$6=\"nytårsdag\",\"h\")","v":{"$error":"#N/A"}}]
[null,"Sygedage",null,{"$f":"IF(D271=\"s\",D270,\"-\")","v":"-"},{"$f":"IF(E271=\"s\",E270,\"-\")","v":"-"},"-","-","-","-","-","-","-","-","-","-","-","-","-","-","-","-","-","-","-","-","-","-","-","-","-","-","-","-","-"]
[null,null,{"$f":"$C$15","v":14},"Timer uge",null,null,{"$f":"SUMIF($D$5:$AH$5,C276,D270:AH270)","v":0},{"$f":"$H$15","v":15},{"$f":"D276","v":"Timer uge"},null,null,null,null,{"$f":"SUMIF($D$5:$AH$5,H276,D270:AH270)","v":0},{"$f":"$O$15","v":16},{"$f":"D276","v":"Timer uge"},null,null,null,null,{"$f":"_xlfn.IFS($O276=$BV269,$BV270,$O276=$BW269,Lønskema!$BW270,$O276=$BX269,$BX270,$O276=$BY269,$BY270,$O276=$BZ269,$BZ270,$O276=$CA269,$CA270,$O276=$CB269,$CB270,$O276=$CC269,$CC270,$O276=$CD269,$CD270,$O276=$CE269,$CE270,$O276=$CF269,$CF270,$O276=$CG269,$CF270,$O276=$CG269,$CG270,$O276=$CH269,$CH270,$O276=$CI269,$CI270,$O276=$CJ269,$CJ270,$O276=$CK269,$CK270,$O276=$CL269,$CL270,$O276=$CM269,$CM270,$O276=$CN269,$CN270,$O276=$CO269,$CO270,$O276=$CP269,$CP270,$O276=$CQ269,$CQ270,$O276=$CR269,$CR270,$O276=$CS269,$CS270,$O276=$CT269,$CT270,$O276=$CU269,$CU270,$O276=$CV269,$CV270,$O276=$CW269,$CW270,$O276=$CX269,$CX270,$O276=$CY269,$CY270,$O276=$CZ269,$CZ270,$O276=$DA269,$DA270,$O276=$DB269,$DB270,$O276=$DC269,$DC270,$O276=$DD269,$DD270,$O276=$DE269,$DE270,$O276=$DF269,$DF270,$O276=$DG269,$DG270,$O276=$DH269,$DH270,$O276=$DI269,$DI270,$O276=$DJ269,$DJ270,$O276=$DK269,$DK270,$O276=$DL269,$DL270,$O276=$DM269,$DM270,$O276=$DN269,$DN270,$O276=$DO269,$DO270,$O276=$DP269,$DP270,$O276=$DQ269,$DQ270,$O276=$DR269,$DR270,$O276=$DS269,$DS270,$O276=$DT269,$DT270,$O276=$DU269,$DU270)","v":0},{"$f":"$V$15","v":17},{"$f":"D276","v":"Timer uge"},null,null,null,null,{"$f":"SUMIF($D$5:$AH$5,V276,D270:AH270)","v":0},{"$f":"$AC$15","v":18},{"$f":"D276","v":"Timer uge"},null,null,null,{"$f":"SUMIF($D$5:$AH$5,AC276,D270:AH270)","v":0},{"$f":"$AI$15","v":19},{"$f":"D276","v":"Timer uge"},null,null,null,{"$f":"SUMIF($D$5:$AH$5,AI276,D270:AH270)","v":0}]
[null,null,null,"Overarbejde 50% 1-3 timer",null,null,{"$f":"IF($G276>37,$G276-37-$G278,0)","v":0},null,{"$f":"D277","v":"Overarbejde 50% 1-3 timer"},null,null,null,null,{"$f":"IF($N276>37,$N276-37-$N278,0)","v":0},null,{"$f":"D277","v":"Overarbejde 50% 1-3 timer"},null,null,null,null,{"$f":"IF($U276>37,$U276-37-$U278,0)","v":0},null,{"$f":"D277","v":"Overarbejde 50% 1-3 timer"},null,null,null,null,{"$f":"IF($AB276>37,$AB276-37-$AB278,0)","v":0},null,{"$f":"D277","v":"Overarbejde 50% 1-3 timer"},null,null,null,{"$f":"IF($AH276>37,$AH276-37-$AH278,0)","v":0},null,{"$f":"D277","v":"Overarbejde 50% 1-3 timer"},null,null,null,{"$f":"IF($AH276>37,$AH276-37-$AH278,0)","v":0}]
[null,null,null,"Overarbejde 100% over 3 timer",null,null,{"$f":"IF($G276>40,$G276-40,0)","v":0},null,"Overarbejde 100% over 3 timer",null,null,null,null,{"$f":"IF($N276>40,$N276-40,0)","v":0},null,"Overarbejde 100% over 3 timer",null,null,null,null,{"$f":"IF($U276>40,$U276-40,0)","v":0},null,"Overarbejde 100% over 3 timer",null,null,null,null,{"$f":"IF($AB276>40,$AB276-40,0)","v":0},null,"Overarbejde 100% over 3 timer",null,null,null,{"$f":"IF($AH276>40,$AH276-40,0)","v":0},null,{"$f":"D278","v":"Overarbejde 100% over 3 timer"},null,null,null,{"$f":"IF($AH276>40,$AH276-40,0)","v":0},null,null,null,null,null,null,null,null,null,null,null,null,null,null,null,null,null,null,null,null,null,null,null,null,null,null,null,null,null,null,null,null,null,1,2,3,4,5,6,7,8,9,10,11,12,13,14,15,16,17,18,19,20,21,22,23,24,25,26,27,28,29,30,31,32,33,34,35,36,37,38,39,40,41,42,43,44,45,46,47,48,49,50,51,52]
[{"$f":"Medarbejder!A33","v":0},{"$f":"Medarbejder!B33","v":0},{"$f":"Medarbejder!C33","v":"-"},null,null,null,null,null,null,null,null,null,null,null,null,null,null,null,null,null,null,null,null,null,null,null,null,null,null,null,null,null,null,null,null,null,null,null,null,null,null,{"$f":"AO279*Overenskomst!$C$22","v":0},{"$f":"SUM($D279:$AH279)-$BA279-$BF279-$BD279","v":0},{"$f":"IF(Medarbejder!$J33=\"ja\",$AQ279,\"-\")","v":"-"},{"$f":"SUMIF($D$7:$AH$7,\"søndag\",$D279:$AH279)+$AT279","v":0},{"$f":"SUMIFS($D279:$AH279,$D283:$AH283,\"H\")","v":0},{"$f":"G286+N286+U286+AB286+AH286+AN286","v":0},{"$f":"G287+N287+U287+AB287+AH287+AN287","v":0},{"$f":"SUM($D281:$AH281)","v":0},{"$f":"SUM($D282:$AH282)","v":0},{"$f":"COUNTIFS($D280:$AH280,\"F\")","v":0},{"$f":"COUNTIFS($D280:$AH280,\"S\")","v":0},{"$f":"SUMIF($D280:$AH280,\"S\",$D284:$AH284)","v":0},{"$f":"COUNTIFS($D280:$AH280,\"p\")","v":0},{"$f":"COUNTIFS($D280:$AH280,\"BS\")","v":0},{"$f":"SUMIF(D280:AH280,\"bs\",$D279:$AH279)","v":0},{"$f":"COUNTIFS($D280:$AH280,\"FF\")","v":0},{"$f":"SUMIF($D280:$AH280,\"g\",$D279:$AH279)","v":0},{"$f":"Medarbejder!$N30","v":"-"},{"$f":"SUM($BL279:$BU279)","v":4},null,null,null,{"$f":"COUNTIFS($D$6:$AH$6,\"skærtd\")","v":1},{"$f":"COUNTIFS($D$6:$AH$6,\"langfd\")","v":1},{"$f":"COUNTIFS($D$6:$AH$6,\"1påsked\")","v":1},{"$f":"COUNTIFS($D$6:$AH$6,\"2påsked\")","v":1},{"$f":"COUNTIFS($D$6:$AH$6,\"kr.himmelfart\")","v":0},{"$f":"COUNTIFS($D$6:$AH$6,\"1pinse\")","v":0},{"$f":"COUNTIFS($D$6:$AH$6,\"2pinse\")","v":0},{"$f":"COUNTIFS($D$6:$AH$6,\"1juledag\")","v":0},{"$f":"COUNTIFS($D$6:$AH$6,\"2juledag\")","v":0},{"$f":"COUNTIFS($D$6:$AH$6,\"nytårsdag\")","v":0},{"$f":"SUMIFS($D279:$AH279,Lønskema!$D$5:$AH$5,1)","v":0},{"$f":"SUMIFS($D279:$AH279,Lønskema!$D$5:$AH$5,2)","v":0},{"$f":"SUMIFS($D279:$AH279,Lønskema!$D$5:$AH$5,3)","v":0},{"$f":"SUMIFS($D279:$AH279,Lønskema!$D$5:$AH$5,4)","v":0},{"$f":"SUMIFS($D279:$AH279,Lønskema!$D$5:$AH$5,5)","v":0},{"$f":"SUMIFS($D279:$AH279,Lønskema!$D$5:$AH$5,6)","v":0},{"$f":"SUMIFS($D279:$AH279,Lønskema!$D$5:$AH$5,7)","v":0},{"$f":"SUMIFS($D279:$AH279,Lønskema!$D$5:$AH$5,8)","v":0},{"$f":"SUMIFS($D279:$AH279,Lønskema!$D$5:$AH$5,9)","v":0},{"$f":"SUMIFS($D279:$AH279,Lønskema!$D$5:$AH$5,10)","v":0},{"$f":"SUMIFS($D279:$AH279,Lønskema!$D$5:$AH$5,11)","v":0},{"$f":"SUMIFS($D279:$AH279,Lønskema!$D$5:$AH$5,12)","v":0},{"$f":"SUMIFS($D279:$AH279,Lønskema!$D$5:$AH$5,13)","v":0},{"$f":"SUMIFS($D279:$AH279,Lønskema!$D$5:$AH$5,14)","v":0},{"$f":"SUMIFS($D279:$AH279,Lønskema!$D$5:$AH$5,15)","v":0},{"$f":"SUMIFS($D279:$AH279,Lønskema!$D$5:$AH$5,16)","v":0},{"$f":"SUMIFS($D279:$AH279,Lønskema!$D$5:$AH$5,17)","v":0},{"$f":"SUMIFS($D279:$AH279,Lønskema!$D$5:$AH$5,18)","v":0},{"$f":"SUMIFS($D279:$AH279,Lønskema!$D$5:$AH$5,19)","v":0},{"$f":"SUMIFS($D279:$AH279,Lønskema!$D$5:$AH$5,20)","v":0},{"$f":"SUMIFS($D279:$AH279,Lønskema!$D$5:$AH$5,21)","v":0},{"$f":"SUMIFS($D279:$AH279,Lønskema!$D$5:$AH$5,22)","v":0},{"$f":"SUMIFS($D279:$AH279,Lønskema!$D$5:$AH$5,23)","v":0},{"$f":"SUMIFS($D279:$AH279,Lønskema!$D$5:$AH$5,24)","v":0},{"$f":"SUMIFS($D279:$AH279,Lønskema!$D$5:$AH$5,25)","v":0},{"$f":"SUMIFS($D279:$AH279,Lønskema!$D$5:$AH$5,26)","v":0},{"$f":"SUMIFS($D279:$AH279,Lønskema!$D$5:$AH$5,27)","v":0},{"$f":"SUMIFS($D279:$AH279,Lønskema!$D$5:$AH$5,28)","v":0},{"$f":"SUMIFS($D279:$AH279,Lønskema!$D$5:$AH$5,29)","v":0},{"$f":"SUMIFS($D279:$AH279,Lønskema!$D$5:$AH$5,30)","v":0},{"$f":"SUMIFS($D279:$AH279,Lønskema!$D$5:$AH$5,31)","v":0},{"$f":"SUMIFS($D279:$AH279,Lønskema!$D$5:$AH$5,32)","v":0},{"$f":"SUMIFS($D279:$AH279,Lønskema!$D$5:$AH$5,33)","v":0},{"$f":"SUMIFS($D279:$AH279,Lønskema!$D$5:$AH$5,34)","v":0},{"$f":"SUMIFS($D279:$AH279,Lønskema!$D$5:$AH$5,35)","v":0},{"$f":"SUMIFS($D279:$AH279,Lønskema!$D$5:$AH$5,36)","v":0},{"$f":"SUMIFS($D279:$AH279,Lønskema!$D$5:$AH$5,37)","v":0},{"$f":"SUMIFS($D279:$AH279,Lønskema!$D$5:$AH$5,38)","v":0},{"$f":"SUMIFS($D279:$AH279,Lønskema!$D$5:$AH$5,39)","v":0},{"$f":"SUMIFS($D279:$AH279,Lønskema!$D$5:$AH$5,40)","v":0},{"$f":"SUMIFS($D279:$AH279,Lønskema!$D$5:$AH$5,41)","v":0},{"$f":"SUMIFS($D279:$AH279,Lønskema!$D$5:$AH$5,42)","v":0},{"$f":"SUMIFS($D279:$AH279,Lønskema!$D$5:$AH$5,43)","v":0},{"$f":"SUMIFS($D279:$AH279,Lønskema!$D$5:$AH$5,44)","v":0},{"$f":"SUMIFS($D279:$AH279,Lønskema!$D$5:$AH$5,45)","v":0},{"$f":"SUMIFS($D279:$AH279,Lønskema!$D$5:$AH$5,46)","v":0},{"$f":"SUMIFS($D279:$AH279,Lønskema!$D$5:$AH$5,47)","v":0},{"$f":"SUMIFS($D279:$AH279,Lønskema!$D$5:$AH$5,48)","v":0},{"$f":"SUMIFS($D279:$AH279,Lønskema!$D$5:$AH$5,49)","v":0},{"$f":"SUMIFS($D279:$AH279,Lønskema!$D$5:$AH$5,50)","v":0},{"$f":"SUMIFS($D279:$AH279,Lønskema!$D$5:$AH$5,51)","v":0},{"$f":"SUMIFS($D279:$AH279,Lønskema!$D$5:$AH$5,52)","v":0}]
["Ferie - syg  mm. Registreres i denne række"]
[null,"Aften"]
[null,"Nat"]
[null,"Helligdag",null,{"$f":"_xlfn.IFS(D$7=\"søndag\",\"-\",D$6=\"skærtd\",\"h\",D$6=\"langfd\",\"h\",D$6=\"1påsked\",\"h\",D$6=\"2påsked\",\"h\",D$6=\"kr.himmelfart\",\"h\",D$6=\"1pinse\",\"h\",D$6=\"2pinse\",\"h\",D$6=\"1juledag\",\"h\",D$6=\"2juledag\",\"h\",D$6=\"nytårsdag\",\"h\")","v":{"$error":"#N/A"}},{"$f":"_xlfn.IFS(E$7=\"søndag\",\"-\",E$6=\"skærtd\",\"h\",E$6=\"langfd\",\"h\",E$6=\"1påsked\",\"h\",E$6=\"2påsked\",\"h\",E$6=\"kr.himmelfart\",\"h\",E$6=\"1pinse\",\"h\",E$6=\"2pinse\",\"h\",E$6=\"1juledag\",\"h\",E$6=\"2juledag\",\"h\",E$6=\"nytårsdag\",\"h\")","v":{"$error":"#N/A"}},{"$f":"_xlfn.IFS(F$7=\"søndag\",\"-\",F$6=\"skærtd\",\"h\",F$6=\"langfd\",\"h\",F$6=\"1påsked\",\"h\",F$6=\"2påsked\",\"h\",F$6=\"kr.himmelfart\",\"h\",F$6=\"1pinse\",\"h\",F$6=\"2pinse\",\"h\",F$6=\"1juledag\",\"h\",F$6=\"2juledag\",\"h\",F$6=\"nytårsdag\",\"h\")","v":{"$error":"#N/A"}},{"$f":"_xlfn.IFS(G$7=\"søndag\",\"-\",G$6=\"skærtd\",\"h\",G$6=\"langfd\",\"h\",G$6=\"1påsked\",\"h\",G$6=\"2påsked\",\"h\",G$6=\"kr.himmelfart\",\"h\",G$6=\"1pinse\",\"h\",G$6=\"2pinse\",\"h\",G$6=\"1juledag\",\"h\",G$6=\"2juledag\",\"h\",G$6=\"nytårsdag\",\"h\")","v":{"$error":"#N/A"}},{"$f":"_xlfn.IFS(H$7=\"søndag\",\"-\",H$6=\"skærtd\",\"h\",H$6=\"langfd\",\"h\",H$6=\"1påsked\",\"h\",H$6=\"2påsked\",\"h\",H$6=\"kr.himmelfart\",\"h\",H$6=\"1pinse\",\"h\",H$6=\"2pinse\",\"h\",H$6=\"1juledag\",\"h\",H$6=\"2juledag\",\"h\",H$6=\"nytårsdag\",\"h\")","v":{"$error":"#N/A"}},{"$f":"_xlfn.IFS(I$7=\"søndag\",\"-\",I$6=\"skærtd\",\"h\",I$6=\"langfd\",\"h\",I$6=\"1påsked\",\"h\",I$6=\"2påsked\",\"h\",I$6=\"kr.himmelfart\",\"h\",I$6=\"1pinse\",\"h\",I$6=\"2pinse\",\"h\",I$6=\"1juledag\",\"h\",I$6=\"2juledag\",\"h\",I$6=\"nytårsdag\",\"h\")","v":"-"},{"$f":"_xlfn.IFS(J$7=\"søndag\",\"-\",J$6=\"skærtd\",\"h\",J$6=\"langfd\",\"h\",J$6=\"1påsked\",\"h\",J$6=\"2påsked\",\"h\",J$6=\"kr.himmelfart\",\"h\",J$6=\"1pinse\",\"h\",J$6=\"2pinse\",\"h\",J$6=\"1juledag\",\"h\",J$6=\"2juledag\",\"h\",J$6=\"nytårsdag\",\"h\")","v":{"$error":"#N/A"}},{"$f":"_xlfn.IFS(K$7=\"søndag\",\"-\",K$6=\"skærtd\",\"h\",K$6=\"langfd\",\"h\",K$6=\"1påsked\",\"h\",K$6=\"2påsked\",\"h\",K$6=\"kr.himmelfart\",\"h\",K$6=\"1pinse\",\"h\",K$6=\"2pinse\",\"h\",K$6=\"1juledag\",\"h\",K$6=\"2juledag\",\"h\",K$6=\"nytårsdag\",\"h\")","v":{"$error":"#N/A"}},{"$f":"_xlfn.IFS(L$7=\"søndag\",\"-\",L$6=\"skærtd\",\"h\",L$6=\"langfd\",\"h\",L$6=\"1påsked\",\"h\",L$6=\"2påsked\",\"h\",L$6=\"kr.himmelfart\",\"h\",L$6=\"1pinse\",\"h\",L$6=\"2pinse\",\"h\",L$6=\"1juledag\",\"h\",L$6=\"2juledag\",\"h\",L$6=\"nytårsdag\",\"h\")","v":{"$error":"#N/A"}},{"$f":"_xlfn.IFS(M$7=\"søndag\",\"-\",M$6=\"skærtd\",\"h\",M$6=\"langfd\",\"h\",M$6=\"1påsked\",\"h\",M$6=\"2påsked\",\"h\",M$6=\"kr.himmelfart\",\"h\",M$6=\"1pinse\",\"h\",M$6=\"2pinse\",\"h\",M$6=\"1juledag\",\"h\",M$6=\"2juledag\",\"h\",M$6=\"nytårsdag\",\"h\")","v":{"$error":"#N/A"}},{"$f":"_xlfn.IFS(N$7=\"søndag\",\"-\",N$6=\"skærtd\",\"h\",N$6=\"langfd\",\"h\",N$6=\"1påsked\",\"h\",N$6=\"2påsked\",\"h\",N$6=\"kr.himmelfart\",\"h\",N$6=\"1pinse\",\"h\",N$6=\"2pinse\",\"h\",N$6=\"1juledag\",\"h\",N$6=\"2juledag\",\"h\",N$6=\"nytårsdag\",\"h\")","v":{"$error":"#N/A"}},{"$f":"_xlfn.IFS(O$7=\"søndag\",\"-\",O$6=\"skærtd\",\"h\",O$6=\"langfd\",\"h\",O$6=\"1påsked\",\"h\",O$6=\"2påsked\",\"h\",O$6=\"kr.himmelfart\",\"h\",O$6=\"1pinse\",\"h\",O$6=\"2pinse\",\"h\",O$6=\"1juledag\",\"h\",O$6=\"2juledag\",\"h\",O$6=\"nytårsdag\",\"h\")","v":{"$error":"#N/A"}},{"$f":"_xlfn.IFS(P$7=\"søndag\",\"-\",P$6=\"skærtd\",\"h\",P$6=\"langfd\",\"h\",P$6=\"1påsked\",\"h\",P$6=\"2påsked\",\"h\",P$6=\"kr.himmelfart\",\"h\",P$6=\"1pinse\",\"h\",P$6=\"2pinse\",\"h\",P$6=\"1juledag\",\"h\",P$6=\"2juledag\",\"h\",P$6=\"nytårsdag\",\"h\")","v":"-"},{"$f":"_xlfn.IFS(Q$7=\"søndag\",\"-\",Q$6=\"skærtd\",\"h\",Q$6=\"langfd\",\"h\",Q$6=\"1påsked\",\"h\",Q$6=\"2påsked\",\"h\",Q$6=\"kr.himmelfart\",\"h\",Q$6=\"1pinse\",\"h\",Q$6=\"2pinse\",\"h\",Q$6=\"1juledag\",\"h\",Q$6=\"2juledag\",\"h\",Q$6=\"nytårsdag\",\"h\")","v":{"$error":"#N/A"}},{"$f":"_xlfn.IFS(R$7=\"søndag\",\"-\",R$6=\"skærtd\",\"h\",R$6=\"langfd\",\"h\",R$6=\"1påsked\",\"h\",R$6=\"2påsked\",\"h\",R$6=\"kr.himmelfart\",\"h\",R$6=\"1pinse\",\"h\",R$6=\"2pinse\",\"h\",R$6=\"1juledag\",\"h\",R$6=\"2juledag\",\"h\",R$6=\"nytårsdag\",\"h\")","v":{"$error":"#N/A"}},{"$f":"_xlfn.IFS(S$7=\"søndag\",\"-\",S$6=\"skærtd\",\"h\",S$6=\"langfd\",\"h\",S$6=\"1påsked\",\"h\",S$6=\"2påsked\",\"h\",S$6=\"kr.himmelfart\",\"h\",S$6=\"1pinse\",\"h\",S$6=\"2pinse\",\"h\",S$6=\"1juledag\",\"h\",S$6=\"2juledag\",\"h\",S$6=\"nytårsdag\",\"h\")","v":{"$error":"#N/A"}},{"$f":"_xlfn.IFS(T$7=\"søndag\",\"-\",T$6=\"skærtd\",\"h\",T$6=\"langfd\",\"h\",T$6=\"1påsked\",\"h\",T$6=\"2påsked\",\"h\",T$6=\"kr.himmelfart\",\"h\",T$6=\"1pinse\",\"h\",T$6=\"2pinse\",\"h\",T$6=\"1juledag\",\"h\",T$6=\"2juledag\",\"h\",T$6=\"nytårsdag\",\"h\")","v":"h"},{"$f":"_xlfn.IFS(U$7=\"søndag\",\"-\",U$6=\"skærtd\",\"h\",U$6=\"langfd\",\"h\",U$6=\"1påsked\",\"h\",U$6=\"2påsked\",\"h\",U$6=\"kr.himmelfart\",\"h\",U$6=\"1pinse\",\"h\",U$6=\"2pinse\",\"h\",U$6=\"1juledag\",\"h\",U$6=\"2juledag\",\"h\",U$6=\"nytårsdag\",\"h\")","v":"h"},{"$f":"_xlfn.IFS(V$7=\"søndag\",\"-\",V$6=\"skærtd\",\"h\",V$6=\"langfd\",\"h\",V$6=\"1påsked\",\"h\",V$6=\"2påsked\",\"h\",V$6=\"kr.himmelfart\",\"h\",V$6=\"1pinse\",\"h\",V$6=\"2pinse\",\"h\",V$6=\"1juledag\",\"h\",V$6=\"2juledag\",\"h\",V$6=\"nytårsdag\",\"h\")","v":{"$error":"#N/A"}},{"$f":"_xlfn.IFS(W$7=\"søndag\",\"-\",W$6=\"skærtd\",\"h\",W$6=\"langfd\",\"h\",W$6=\"1påsked\",\"h\",W$6=\"2påsked\",\"h\",W$6=\"kr.himmelfart\",\"h\",W$6=\"1pinse\",\"h\",W$6=\"2pinse\",\"h\",W$6=\"1juledag\",\"h\",W$6=\"2juledag\",\"h\",W$6=\"nytårsdag\",\"h\")","v":"-"},{"$f":"_xlfn.IFS(X$7=\"søndag\",\"-\",X$6=\"skærtd\",\"h\",X$6=\"langfd\",\"h\",X$6=\"1påsked\",\"h\",X$6=\"2påsked\",\"h\",X$6=\"kr.himmelfart\",\"h\",X$6=\"1pinse\",\"h\",X$6=\"2pinse\",\"h\",X$6=\"1juledag\",\"h\",X$6=\"2juledag\",\"h\",X$6=\"nytårsdag\",\"h\")","v":"h"},{"$f":"_xlfn.IFS(Y$7=\"søndag\",\"-\",Y$6=\"skærtd\",\"h\",Y$6=\"langfd\",\"h\",Y$6=\"1påsked\",\"h\",Y$6=\"2påsked\",\"h\",Y$6=\"kr.himmelfart\",\"h\",Y$6=\"1pinse\",\"h\",Y$6=\"2pinse\",\"h\",Y$6=\"1juledag\",\"h\",Y$6=\"2juledag\",\"h\",Y$6=\"nytårsdag\",\"h\")","v":{"$error":"#N/A"}},{"$f":"_xlfn.IFS(Z$7=\"søndag\",\"-\",Z$6=\"skærtd\",\"h\",Z$6=\"langfd\",\"h\",Z$6=\"1påsked\",\"h\",Z$6=\"2påsked\",\"h\",Z$6=\"kr.himmelfart\",\"h\",Z$6=\"1pinse\",\"h\",Z$6=\"2pinse\",\"h\",Z$6=\"1juledag\",\"h\",Z$6=\"2juledag\",\"h\",Z$6=\"nytårsdag\",\"h\")","v":{"$error":"#N/A"}},{"$f":"_xlfn.IFS(AA$7=\"søndag\",\"-\",AA$6=\"skærtd\",\"h\",AA$6=\"langfd\",\"h\",AA$6=\"1påsked\",\"h\",AA$6=\"2påsked\",\"h\",AA$6=\"kr.himmelfart\",\"h\",AA$6=\"1pinse\",\"h\",AA$6=\"2pinse\",\"h\",AA$6=\"1juledag\",\"h\",AA$6=\"2juledag\",\"h\",AA$6=\"nytårsdag\",\"h\")","v":{"$error":"#N/A"}},{"$f":"_xlfn.IFS(AB$7=\"søndag\",\"-\",AB$6=\"skærtd\",\"h\",AB$6=\"langfd\",\"h\",AB$6=\"1påsked\",\"h\",AB$6=\"2påsked\",\"h\",AB$6=\"kr.himmelfart\",\"h\",AB$6=\"1pinse\",\"h\",AB$6=\"2pinse\",\"h\",AB$6=\"1juledag\",\"h\",AB$6=\"2juledag\",\"h\",AB$6=\"nytårsdag\",\"h\")","v":{"$error":"#N/A"}},{"$f":"_xlfn.IFS(AC$7=\"søndag\",\"-\",AC$6=\"skærtd\",\"h\",AC$6=\"langfd\",\"h\",AC$6=\"1påsked\",\"h\",AC$6=\"2påsked\",\"h\",AC$6=\"kr.himmelfart\",\"h\",AC$6=\"1pinse\",\"h\",AC$6=\"2pinse\",\"h\",AC$6=\"1juledag\",\"h\",AC$6=\"2juledag\",\"h\",AC$6=\"nytårsdag\",\"h\")","v":{"$error":"#N/A"}},{"$f":"_xlfn.IFS(AD$7=\"søndag\",\"-\",AD$6=\"skærtd\",\"h\",AD$6=\"langfd\",\"h\",AD$6=\"1påsked\",\"h\",AD$6=\"2påsked\",\"h\",AD$6=\"kr.himmelfart\",\"h\",AD$6=\"1pinse\",\"h\",AD$6=\"2pinse\",\"h\",AD$6=\"1juledag\",\"h\",AD$6=\"2juledag\",\"h\",AD$6=\"nytårsdag\",\"h\")","v":"-"},{"$f":"_xlfn.IFS(AE$7=\"søndag\",\"-\",AE$6=\"skærtd\",\"h\",AE$6=\"langfd\",\"h\",AE$6=\"1påsked\",\"h\",AE$6=\"2påsked\",\"h\",AE$6=\"kr.himmelfart\",\"h\",AE$6=\"1pinse\",\"h\",AE$6=\"2pinse\",\"h\",AE$6=\"1juledag\",\"h\",AE$6=\"2juledag\",\"h\",AE$6=\"nytårsdag\",\"h\")","v":{"$error":"#N/A"}},{"$f":"_xlfn.IFS(AF$7=\"søndag\",\"-\",AF$6=\"skærtd\",\"h\",AF$6=\"langfd\",\"h\",AF$6=\"1påsked\",\"h\",AF$6=\"2påsked\",\"h\",AF$6=\"kr.himmelfart\",\"h\",AF$6=\"1pinse\",\"h\",AF$6=\"2pinse\",\"h\",AF$6=\"1juledag\",\"h\",AF$6=\"2juledag\",\"h\",AF$6=\"nytårsdag\",\"h\")","v":{"$error":"#N/A"}},{"$f":"_xlfn.IFS(AG$7=\"søndag\",\"-\",AG$6=\"skærtd\",\"h\",AG$6=\"langfd\",\"h\",AG$6=\"1påsked\",\"h\",AG$6=\"2påsked\",\"h\",AG$6=\"kr.himmelfart\",\"h\",AG$6=\"1pinse\",\"h\",AG$6=\"2pinse\",\"h\",AG$6=\"1juledag\",\"h\",AG$6=\"2juledag\",\"h\",AG$6=\"nytårsdag\",\"h\")","v":{"$error":"#N/A"}},{"$f":"_xlfn.IFS(AH$7=\"søndag\",\"-\",AH$6=\"skærtd\",\"h\",AH$6=\"langfd\",\"h\",AH$6=\"1påsked\",\"h\",AH$6=\"2påsked\",\"h\",AH$6=\"kr.himmelfart\",\"h\",AH$6=\"1pinse\",\"h\",AH$6=\"2pinse\",\"h\",AH$6=\"1juledag\",\"h\",AH$6=\"2juledag\",\"h\",AH$6=\"nytårsdag\",\"h\")","v":{"$error":"#N/A"}}]
[null,"Sygedage",null,{"$f":"IF(D280=\"s\",D279,\"-\")","v":"-"},{"$f":"IF(E280=\"s\",E279,\"-\")","v":"-"},"-","-","-","-","-","-","-","-","-","-","-","-","-","-","-","-","-","-","-","-","-","-","-","-","-","-","-","-","-"]
[null,null,{"$f":"$C$15","v":14},"Timer uge",null,null,{"$f":"SUMIF($D$5:$AH$5,C285,D279:AH279)","v":0},{"$f":"$H$15","v":15},{"$f":"D285","v":"Timer uge"},null,null,null,null,{"$f":"SUMIF($D$5:$AH$5,H285,D279:AH279)","v":0},{"$f":"$O$15","v":16},{"$f":"D285","v":"Timer uge"},null,null,null,null,{"$f":"_xlfn.IFS($O285=$BV278,$BV279,$O285=$BW278,Lønskema!$BW279,$O285=$BX278,$BX279,$O285=$BY278,$BY279,$O285=$BZ278,$BZ279,$O285=$CA278,$CA279,$O285=$CB278,$CB279,$O285=$CC278,$CC279,$O285=$CD278,$CD279,$O285=$CE278,$CE279,$O285=$CF278,$CF279,$O285=$CG278,$CF279,$O285=$CG278,$CG279,$O285=$CH278,$CH279,$O285=$CI278,$CI279,$O285=$CJ278,$CJ279,$O285=$CK278,$CK279,$O285=$CL278,$CL279,$O285=$CM278,$CM279,$O285=$CN278,$CN279,$O285=$CO278,$CO279,$O285=$CP278,$CP279,$O285=$CQ278,$CQ279,$O285=$CR278,$CR279,$O285=$CS278,$CS279,$O285=$CT278,$CT279,$O285=$CU278,$CU279,$O285=$CV278,$CV279,$O285=$CW278,$CW279,$O285=$CX278,$CX279,$O285=$CY278,$CY279,$O285=$CZ278,$CZ279,$O285=$DA278,$DA279,$O285=$DB278,$DB279,$O285=$DC278,$DC279,$O285=$DD278,$DD279,$O285=$DE278,$DE279,$O285=$DF278,$DF279,$O285=$DG278,$DG279,$O285=$DH278,$DH279,$O285=$DI278,$DI279,$O285=$DJ278,$DJ279,$O285=$DK278,$DK279,$O285=$DL278,$DL279,$O285=$DM278,$DM279,$O285=$DN278,$DN279,$O285=$DO278,$DO279,$O285=$DP278,$DP279,$O285=$DQ278,$DQ279,$O285=$DR278,$DR279,$O285=$DS278,$DS279,$O285=$DT278,$DT279,$O285=$DU278,$DU279)","v":0},{"$f":"$V$15","v":17},{"$f":"D285","v":"Timer uge"},null,null,null,null,{"$f":"SUMIF($D$5:$AH$5,V285,D279:AH279)","v":0},{"$f":"$AC$15","v":18},{"$f":"D285","v":"Timer uge"},null,null,null,{"$f":"SUMIF($D$5:$AH$5,AC285,D279:AH279)","v":0},{"$f":"$AI$15","v":19},{"$f":"D285","v":"Timer uge"},null,null,null,{"$f":"SUMIF($D$5:$AH$5,AI285,D279:AH279)","v":0}]
[null,null,null,"Overarbejde 50% 1-3 timer",null,null,{"$f":"IF($G285>37,$G285-37-$G287,0)","v":0},null,{"$f":"D286","v":"Overarbejde 50% 1-3 timer"},null,null,null,null,{"$f":"IF($N285>37,$N285-37-$N287,0)","v":0},null,{"$f":"D286","v":"Overarbejde 50% 1-3 timer"},null,null,null,null,{"$f":"IF($U285>37,$U285-37-$U287,0)","v":0},null,{"$f":"D286","v":"Overarbejde 50% 1-3 timer"},null,null,null,null,{"$f":"IF($AB285>37,$AB285-37-$AB287,0)","v":0},null,{"$f":"D286","v":"Overarbejde 50% 1-3 timer"},null,null,null,{"$f":"IF($AH285>37,$AH285-37-$AH287,0)","v":0},null,{"$f":"D286","v":"Overarbejde 50% 1-3 timer"},null,null,null,{"$f":"IF($AH285>37,$AH285-37-$AH287,0)","v":0}]
[null,null,null,"Overarbejde 100% over 3 timer",null,null,{"$f":"IF($G285>40,$G285-40,0)","v":0},null,"Overarbejde 100% over 3 timer",null,null,null,null,{"$f":"IF($N285>40,$N285-40,0)","v":0},null,"Overarbejde 100% over 3 timer",null,null,null,null,{"$f":"IF($U285>40,$U285-40,0)","v":0},null,"Overarbejde 100% over 3 timer",null,null,null,null,{"$f":"IF($AB285>40,$AB285-40,0)","v":0},null,"Overarbejde 100% over 3 timer",null,null,null,{"$f":"IF($AH285>40,$AH285-40,0)","v":0},null,{"$f":"D287","v":"Overarbejde 100% over 3 timer"},null,null,null,{"$f":"IF($AH285>40,$AH285-40,0)","v":0},null,null,null,null,null,null,null,null,null,null,null,null,null,null,null,null,null,null,null,null,null,null,null,null,null,null,null,null,null,null,null,null,null,1,2,3,4,5,6,7,8,9,10,11,12,13,14,15,16,17,18,19,20,21,22,23,24,25,26,27,28,29,30,31,32,33,34,35,36,37,38,39,40,41,42,43,44,45,46,47,48,49,50,51,52]
[{"$f":"Medarbejder!A34","v":0},{"$f":"Medarbejder!B34","v":0},{"$f":"Medarbejder!C34","v":"-"},null,null,null,null,null,null,null,null,null,null,null,null,null,null,null,null,null,null,null,null,null,null,null,null,null,null,null,null,null,null,null,null,null,null,null,null,null,null,{"$f":"AO288*Overenskomst!$C$22","v":0},{"$f":"SUM($D288:$AH288)-$BA288-$BF288-$BD288","v":0},{"$f":"IF(Medarbejder!$J34=\"ja\",$AQ288,\"-\")","v":"-"},{"$f":"SUMIF($D$7:$AH$7,\"søndag\",$D288:$AH288)+$AT288","v":0},{"$f":"SUMIFS($D288:$AH288,$D292:$AH292,\"H\")","v":0},{"$f":"G295+N295+U295+AB295+AH295+AN295","v":0},{"$f":"G296+N296+U296+AB296+AH296+AN296","v":0},{"$f":"SUM($D290:$AH290)","v":0},{"$f":"SUM($D291:$AH291)","v":0},{"$f":"COUNTIFS($D289:$AH289,\"F\")","v":0},{"$f":"COUNTIFS($D289:$AH289,\"S\")","v":0},{"$f":"SUMIF($D289:$AH289,\"S\",$D293:$AH293)","v":0},{"$f":"COUNTIFS($D289:$AH289,\"p\")","v":0},{"$f":"COUNTIFS($D289:$AH289,\"BS\")","v":0},{"$f":"SUMIF(D289:AH289,\"bs\",$D288:$AH288)","v":0},{"$f":"COUNTIFS($D289:$AH289,\"FF\")","v":0},{"$f":"SUMIF($D289:$AH289,\"g\",$D288:$AH288)","v":0},{"$f":"Medarbejder!$N31","v":"-"},{"$f":"SUM($BL288:$BU288)","v":4},null,null,null,{"$f":"COUNTIFS($D$6:$AH$6,\"skærtd\")","v":1},{"$f":"COUNTIFS($D$6:$AH$6,\"langfd\")","v":1},{"$f":"COUNTIFS($D$6:$AH$6,\"1påsked\")","v":1},{"$f":"COUNTIFS($D$6:$AH$6,\"2påsked\")","v":1},{"$f":"COUNTIFS($D$6:$AH$6,\"kr.himmelfart\")","v":0},{"$f":"COUNTIFS($D$6:$AH$6,\"1pinse\")","v":0},{"$f":"COUNTIFS($D$6:$AH$6,\"2pinse\")","v":0},{"$f":"COUNTIFS($D$6:$AH$6,\"1juledag\")","v":0},{"$f":"COUNTIFS($D$6:$AH$6,\"2juledag\")","v":0},{"$f":"COUNTIFS($D$6:$AH$6,\"nytårsdag\")","v":0},{"$f":"SUMIFS($D288:$AH288,Lønskema!$D$5:$AH$5,1)","v":0},{"$f":"SUMIFS($D288:$AH288,Lønskema!$D$5:$AH$5,2)","v":0},{"$f":"SUMIFS($D288:$AH288,Lønskema!$D$5:$AH$5,3)","v":0},{"$f":"SUMIFS($D288:$AH288,Lønskema!$D$5:$AH$5,4)","v":0},{"$f":"SUMIFS($D288:$AH288,Lønskema!$D$5:$AH$5,5)","v":0},{"$f":"SUMIFS($D288:$AH288,Lønskema!$D$5:$AH$5,6)","v":0},{"$f":"SUMIFS($D288:$AH288,Lønskema!$D$5:$AH$5,7)","v":0},{"$f":"SUMIFS($D288:$AH288,Lønskema!$D$5:$AH$5,8)","v":0},{"$f":"SUMIFS($D288:$AH288,Lønskema!$D$5:$AH$5,9)","v":0},{"$f":"SUMIFS($D288:$AH288,Lønskema!$D$5:$AH$5,10)","v":0},{"$f":"SUMIFS($D288:$AH288,Lønskema!$D$5:$AH$5,11)","v":0},{"$f":"SUMIFS($D288:$AH288,Lønskema!$D$5:$AH$5,12)","v":0},{"$f":"SUMIFS($D288:$AH288,Lønskema!$D$5:$AH$5,13)","v":0},{"$f":"SUMIFS($D288:$AH288,Lønskema!$D$5:$AH$5,14)","v":0},{"$f":"SUMIFS($D288:$AH288,Lønskema!$D$5:$AH$5,15)","v":0},{"$f":"SUMIFS($D288:$AH288,Lønskema!$D$5:$AH$5,16)","v":0},{"$f":"SUMIFS($D288:$AH288,Lønskema!$D$5:$AH$5,17)","v":0},{"$f":"SUMIFS($D288:$AH288,Lønskema!$D$5:$AH$5,18)","v":0},{"$f":"SUMIFS($D288:$AH288,Lønskema!$D$5:$AH$5,19)","v":0},{"$f":"SUMIFS($D288:$AH288,Lønskema!$D$5:$AH$5,20)","v":0},{"$f":"SUMIFS($D288:$AH288,Lønskema!$D$5:$AH$5,21)","v":0},{"$f":"SUMIFS($D288:$AH288,Lønskema!$D$5:$AH$5,22)","v":0},{"$f":"SUMIFS($D288:$AH288,Lønskema!$D$5:$AH$5,23)","v":0},{"$f":"SUMIFS($D288:$AH288,Lønskema!$D$5:$AH$5,24)","v":0},{"$f":"SUMIFS($D288:$AH288,Lønskema!$D$5:$AH$5,25)","v":0},{"$f":"SUMIFS($D288:$AH288,Lønskema!$D$5:$AH$5,26)","v":0},{"$f":"SUMIFS($D288:$AH288,Lønskema!$D$5:$AH$5,27)","v":0},{"$f":"SUMIFS($D288:$AH288,Lønskema!$D$5:$AH$5,28)","v":0},{"$f":"SUMIFS($D288:$AH288,Lønskema!$D$5:$AH$5,29)","v":0},{"$f":"SUMIFS($D288:$AH288,Lønskema!$D$5:$AH$5,30)","v":0},{"$f":"SUMIFS($D288:$AH288,Lønskema!$D$5:$AH$5,31)","v":0},{"$f":"SUMIFS($D288:$AH288,Lønskema!$D$5:$AH$5,32)","v":0},{"$f":"SUMIFS($D288:$AH288,Lønskema!$D$5:$AH$5,33)","v":0},{"$f":"SUMIFS($D288:$AH288,Lønskema!$D$5:$AH$5,34)","v":0},{"$f":"SUMIFS($D288:$AH288,Lønskema!$D$5:$AH$5,35)","v":0},{"$f":"SUMIFS($D288:$AH288,Lønskema!$D$5:$AH$5,36)","v":0},{"$f":"SUMIFS($D288:$AH288,Lønskema!$D$5:$AH$5,37)","v":0},{"$f":"SUMIFS($D288:$AH288,Lønskema!$D$5:$AH$5,38)","v":0},{"$f":"SUMIFS($D288:$AH288,Lønskema!$D$5:$AH$5,39)","v":0},{"$f":"SUMIFS($D288:$AH288,Lønskema!$D$5:$AH$5,40)","v":0},{"$f":"SUMIFS($D288:$AH288,Lønskema!$D$5:$AH$5,41)","v":0},{"$f":"SUMIFS($D288:$AH288,Lønskema!$D$5:$AH$5,42)","v":0},{"$f":"SUMIFS($D288:$AH288,Lønskema!$D$5:$AH$5,43)","v":0},{"$f":"SUMIFS($D288:$AH288,Lønskema!$D$5:$AH$5,44)","v":0},{"$f":"SUMIFS($D288:$AH288,Lønskema!$D$5:$AH$5,45)","v":0},{"$f":"SUMIFS($D288:$AH288,Lønskema!$D$5:$AH$5,46)","v":0},{"$f":"SUMIFS($D288:$AH288,Lønskema!$D$5:$AH$5,47)","v":0},{"$f":"SUMIFS($D288:$AH288,Lønskema!$D$5:$AH$5,48)","v":0},{"$f":"SUMIFS($D288:$AH288,Lønskema!$D$5:$AH$5,49)","v":0},{"$f":"SUMIFS($D288:$AH288,Lønskema!$D$5:$AH$5,50)","v":0},{"$f":"SUMIFS($D288:$AH288,Lønskema!$D$5:$AH$5,51)","v":0},{"$f":"SUMIFS($D288:$AH288,Lønskema!$D$5:$AH$5,52)","v":0}]
["Ferie - syg  mm. Registreres i denne række"]
[null,"Aften"]
[null,"Nat"]
[null,"Helligdag",null,{"$f":"_xlfn.IFS(D$7=\"søndag\",\"-\",D$6=\"skærtd\",\"h\",D$6=\"langfd\",\"h\",D$6=\"1påsked\",\"h\",D$6=\"2påsked\",\"h\",D$6=\"kr.himmelfart\",\"h\",D$6=\"1pinse\",\"h\",D$6=\"2pinse\",\"h\",D$6=\"1juledag\",\"h\",D$6=\"2juledag\",\"h\",D$6=\"nytårsdag\",\"h\")","v":{"$error":"#N/A"}},{"$f":"_xlfn.IFS(E$7=\"søndag\",\"-\",E$6=\"skærtd\",\"h\",E$6=\"langfd\",\"h\",E$6=\"1påsked\",\"h\",E$6=\"2påsked\",\"h\",E$6=\"kr.himmelfart\",\"h\",E$6=\"1pinse\",\"h\",E$6=\"2pinse\",\"h\",E$6=\"1juledag\",\"h\",E$6=\"2juledag\",\"h\",E$6=\"nytårsdag\",\"h\")","v":{"$error":"#N/A"}},{"$f":"_xlfn.IFS(F$7=\"søndag\",\"-\",F$6=\"skærtd\",\"h\",F$6=\"langfd\",\"h\",F$6=\"1påsked\",\"h\",F$6=\"2påsked\",\"h\",F$6=\"kr.himmelfart\",\"h\",F$6=\"1pinse\",\"h\",F$6=\"2pinse\",\"h\",F$6=\"1juledag\",\"h\",F$6=\"2juledag\",\"h\",F$6=\"nytårsdag\",\"h\")","v":{"$error":"#N/A"}},{"$f":"_xlfn.IFS(G$7=\"søndag\",\"-\",G$6=\"skærtd\",\"h\",G$6=\"langfd\",\"h\",G$6=\"1påsked\",\"h\",G$6=\"2påsked\",\"h\",G$6=\"kr.himmelfart\",\"h\",G$6=\"1pinse\",\"h\",G$6=\"2pinse\",\"h\",G$6=\"1juledag\",\"h\",G$6=\"2juledag\",\"h\",G$6=\"nytårsdag\",\"h\")","v":{"$error":"#N/A"}},{"$f":"_xlfn.IFS(H$7=\"søndag\",\"-\",H$6=\"skærtd\",\"h\",H$6=\"langfd\",\"h\",H$6=\"1påsked\",\"h\",H$6=\"2påsked\",\"h\",H$6=\"kr.himmelfart\",\"h\",H$6=\"1pinse\",\"h\",H$6=\"2pinse\",\"h\",H$6=\"1juledag\",\"h\",H$6=\"2juledag\",\"h\",H$6=\"nytårsdag\",\"h\")","v":{"$error":"#N/A"}},{"$f":"_xlfn.IFS(I$7=\"søndag\",\"-\",I$6=\"skærtd\",\"h\",I$6=\"langfd\",\"h\",I$6=\"1påsked\",\"h\",I$6=\"2påsked\",\"h\",I$6=\"kr.himmelfart\",\"h\",I$6=\"1pinse\",\"h\",I$6=\"2pinse\",\"h\",I$6=\"1juledag\",\"h\",I$6=\"2juledag\",\"h\",I$6=\"nytårsdag\",\"h\")","v":"-"},{"$f":"_xlfn.IFS(J$7=\"søndag\",\"-\",J$6=\"skærtd\",\"h\",J$6=\"langfd\",\"h\",J$6=\"1påsked\",\"h\",J$6=\"2påsked\",\"h\",J$6=\"kr.himmelfart\",\"h\",J$6=\"1pinse\",\"h\",J$6=\"2pinse\",\"h\",J$6=\"1juledag\",\"h\",J$6=\"2juledag\",\"h\",J$6=\"nytårsdag\",\"h\")","v":{"$error":"#N/A"}},{"$f":"_xlfn.IFS(K$7=\"søndag\",\"-\",K$6=\"skærtd\",\"h\",K$6=\"langfd\",\"h\",K$6=\"1påsked\",\"h\",K$6=\"2påsked\",\"h\",K$6=\"kr.himmelfart\",\"h\",K$6=\"1pinse\",\"h\",K$6=\"2pinse\",\"h\",K$6=\"1juledag\",\"h\",K$6=\"2juledag\",\"h\",K$6=\"nytårsdag\",\"h\")","v":{"$error":"#N/A"}},{"$f":"_xlfn.IFS(L$7=\"søndag\",\"-\",L$6=\"skærtd\",\"h\",L$6=\"langfd\",\"h\",L$6=\"1påsked\",\"h\",L$6=\"2påsked\",\"h\",L$6=\"kr.himmelfart\",\"h\",L$6=\"1pinse\",\"h\",L$6=\"2pinse\",\"h\",L$6=\"1juledag\",\"h\",L$6=\"2juledag\",\"h\",L$6=\"nytårsdag\",\"h\")","v":{"$error":"#N/A"}},{"$f":"_xlfn.IFS(M$7=\"søndag\",\"-\",M$6=\"skærtd\",\"h\",M$6=\"langfd\",\"h\",M$6=\"1påsked\",\"h\",M$6=\"2påsked\",\"h\",M$6=\"kr.himmelfart\",\"h\",M$6=\"1pinse\",\"h\",M$6=\"2pinse\",\"h\",M$6=\"1juledag\",\"h\",M$6=\"2juledag\",\"h\",M$6=\"nytårsdag\",\"h\")","v":{"$error":"#N/A"}},{"$f":"_xlfn.IFS(N$7=\"søndag\",\"-\",N$6=\"skærtd\",\"h\",N$6=\"langfd\",\"h\",N$6=\"1påsked\",\"h\",N$6=\"2påsked\",\"h\",N$6=\"kr.himmelfart\",\"h\",N$6=\"1pinse\",\"h\",N$6=\"2pinse\",\"h\",N$6=\"1juledag\",\"h\",N$6=\"2juledag\",\"h\",N$6=\"nytårsdag\",\"h\")","v":{"$error":"#N/A"}},{"$f":"_xlfn.IFS(O$7=\"søndag\",\"-\",O$6=\"skærtd\",\"h\",O$6=\"langfd\",\"h\",O$6=\"1påsked\",\"h\",O$6=\"2påsked\",\"h\",O$6=\"kr.himmelfart\",\"h\",O$6=\"1pinse\",\"h\",O$6=\"2pinse\",\"h\",O$6=\"1juledag\",\"h\",O$6=\"2juledag\",\"h\",O$6=\"nytårsdag\",\"h\")","v":{"$error":"#N/A"}},{"$f":"_xlfn.IFS(P$7=\"søndag\",\"-\",P$6=\"skærtd\",\"h\",P$6=\"langfd\",\"h\",P$6=\"1påsked\",\"h\",P$6=\"2påsked\",\"h\",P$6=\"kr.himmelfart\",\"h\",P$6=\"1pinse\",\"h\",P$6=\"2pinse\",\"h\",P$6=\"1juledag\",\"h\",P$6=\"2juledag\",\"h\",P$6=\"nytårsdag\",\"h\")","v":"-"},{"$f":"_xlfn.IFS(Q$7=\"søndag\",\"-\",Q$6=\"skærtd\",\"h\",Q$6=\"langfd\",\"h\",Q$6=\"1påsked\",\"h\",Q$6=\"2påsked\",\"h\",Q$6=\"kr.himmelfart\",\"h\",Q$6=\"1pinse\",\"h\",Q$6=\"2pinse\",\"h\",Q$6=\"1juledag\",\"h\",Q$6=\"2juledag\",\"h\",Q$6=\"nytårsdag\",\"h\")","v":{"$error":"#N/A"}},{"$f":"_xlfn.IFS(R$7=\"søndag\",\"-\",R$6=\"skærtd\",\"h\",R$6=\"langfd\",\"h\",R$6=\"1påsked\",\"h\",R$6=\"2påsked\",\"h\",R$6=\"kr.himmelfart\",\"h\",R$6=\"1pinse\",\"h\",R$6=\"2pinse\",\"h\",R$6=\"1juledag\",\"h\",R$6=\"2juledag\",\"h\",R$6=\"nytårsdag\",\"h\")","v":{"$error":"#N/A"}},{"$f":"_xlfn.IFS(S$7=\"søndag\",\"-\",S$6=\"skærtd\",\"h\",S$6=\"langfd\",\"h\",S$6=\"1påsked\",\"h\",S$6=\"2påsked\",\"h\",S$6=\"kr.himmelfart\",\"h\",S$6=\"1pinse\",\"h\",S$6=\"2pinse\",\"h\",S$6=\"1juledag\",\"h\",S$6=\"2juledag\",\"h\",S$6=\"nytårsdag\",\"h\")","v":{"$error":"#N/A"}},{"$f":"_xlfn.IFS(T$7=\"søndag\",\"-\",T$6=\"skærtd\",\"h\",T$6=\"langfd\",\"h\",T$6=\"1påsked\",\"h\",T$6=\"2påsked\",\"h\",T$6=\"kr.himmelfart\",\"h\",T$6=\"1pinse\",\"h\",T$6=\"2pinse\",\"h\",T$6=\"1juledag\",\"h\",T$6=\"2juledag\",\"h\",T$6=\"nytårsdag\",\"h\")","v":"h"},{"$f":"_xlfn.IFS(U$7=\"søndag\",\"-\",U$6=\"skærtd\",\"h\",U$6=\"langfd\",\"h\",U$6=\"1påsked\",\"h\",U$6=\"2påsked\",\"h\",U$6=\"kr.himmelfart\",\"h\",U$6=\"1pinse\",\"h\",U$6=\"2pinse\",\"h\",U$6=\"1juledag\",\"h\",U$6=\"2juledag\",\"h\",U$6=\"nytårsdag\",\"h\")","v":"h"},{"$f":"_xlfn.IFS(V$7=\"søndag\",\"-\",V$6=\"skærtd\",\"h\",V$6=\"langfd\",\"h\",V$6=\"1påsked\",\"h\",V$6=\"2påsked\",\"h\",V$6=\"kr.himmelfart\",\"h\",V$6=\"1pinse\",\"h\",V$6=\"2pinse\",\"h\",V$6=\"1juledag\",\"h\",V$6=\"2juledag\",\"h\",V$6=\"nytårsdag\",\"h\")","v":{"$error":"#N/A"}},{"$f":"_xlfn.IFS(W$7=\"søndag\",\"-\",W$6=\"skærtd\",\"h\",W$6=\"langfd\",\"h\",W$6=\"1påsked\",\"h\",W$6=\"2påsked\",\"h\",W$6=\"kr.himmelfart\",\"h\",W$6=\"1pinse\",\"h\",W$6=\"2pinse\",\"h\",W$6=\"1juledag\",\"h\",W$6=\"2juledag\",\"h\",W$6=\"nytårsdag\",\"h\")","v":"-"},{"$f":"_xlfn.IFS(X$7=\"søndag\",\"-\",X$6=\"skærtd\",\"h\",X$6=\"langfd\",\"h\",X$6=\"1påsked\",\"h\",X$6=\"2påsked\",\"h\",X$6=\"kr.himmelfart\",\"h\",X$6=\"1pinse\",\"h\",X$6=\"2pinse\",\"h\",X$6=\"1juledag\",\"h\",X$6=\"2juledag\",\"h\",X$6=\"nytårsdag\",\"h\")","v":"h"},{"$f":"_xlfn.IFS(Y$7=\"søndag\",\"-\",Y$6=\"skærtd\",\"h\",Y$6=\"langfd\",\"h\",Y$6=\"1påsked\",\"h\",Y$6=\"2påsked\",\"h\",Y$6=\"kr.himmelfart\",\"h\",Y$6=\"1pinse\",\"h\",Y$6=\"2pinse\",\"h\",Y$6=\"1juledag\",\"h\",Y$6=\"2juledag\",\"h\",Y$6=\"nytårsdag\",\"h\")","v":{"$error":"#N/A"}},{"$f":"_xlfn.IFS(Z$7=\"søndag\",\"-\",Z$6=\"skærtd\",\"h\",Z$6=\"langfd\",\"h\",Z$6=\"1påsked\",\"h\",Z$6=\"2påsked\",\"h\",Z$6=\"kr.himmelfart\",\"h\",Z$6=\"1pinse\",\"h\",Z$6=\"2pinse\",\"h\",Z$6=\"1juledag\",\"h\",Z$6=\"2juledag\",\"h\",Z$6=\"nytårsdag\",\"h\")","v":{"$error":"#N/A"}},{"$f":"_xlfn.IFS(AA$7=\"søndag\",\"-\",AA$6=\"skærtd\",\"h\",AA$6=\"langfd\",\"h\",AA$6=\"1påsked\",\"h\",AA$6=\"2påsked\",\"h\",AA$6=\"kr.himmelfart\",\"h\",AA$6=\"1pinse\",\"h\",AA$6=\"2pinse\",\"h\",AA$6=\"1juledag\",\"h\",AA$6=\"2juledag\",\"h\",AA$6=\"nytårsdag\",\"h\")","v":{"$error":"#N/A"}},{"$f":"_xlfn.IFS(AB$7=\"søndag\",\"-\",AB$6=\"skærtd\",\"h\",AB$6=\"langfd\",\"h\",AB$6=\"1påsked\",\"h\",AB$6=\"2påsked\",\"h\",AB$6=\"kr.himmelfart\",\"h\",AB$6=\"1pinse\",\"h\",AB$6=\"2pinse\",\"h\",AB$6=\"1juledag\",\"h\",AB$6=\"2juledag\",\"h\",AB$6=\"nytårsdag\",\"h\")","v":{"$error":"#N/A"}},{"$f":"_xlfn.IFS(AC$7=\"søndag\",\"-\",AC$6=\"skærtd\",\"h\",AC$6=\"langfd\",\"h\",AC$6=\"1påsked\",\"h\",AC$6=\"2påsked\",\"h\",AC$6=\"kr.himmelfart\",\"h\",AC$6=\"1pinse\",\"h\",AC$6=\"2pinse\",\"h\",AC$6=\"1juledag\",\"h\",AC$6=\"2juledag\",\"h\",AC$6=\"nytårsdag\",\"h\")","v":{"$error":"#N/A"}},{"$f":"_xlfn.IFS(AD$7=\"søndag\",\"-\",AD$6=\"skærtd\",\"h\",AD$6=\"langfd\",\"h\",AD$6=\"1påsked\",\"h\",AD$6=\"2påsked\",\"h\",AD$6=\"kr.himmelfart\",\"h\",AD$6=\"1pinse\",\"h\",AD$6=\"2pinse\",\"h\",AD$6=\"1juledag\",\"h\",AD$6=\"2juledag\",\"h\",AD$6=\"nytårsdag\",\"h\")","v":"-"},{"$f":"_xlfn.IFS(AE$7=\"søndag\",\"-\",AE$6=\"skærtd\",\"h\",AE$6=\"langfd\",\"h\",AE$6=\"1påsked\",\"h\",AE$6=\"2påsked\",\"h\",AE$6=\"kr.himmelfart\",\"h\",AE$6=\"1pinse\",\"h\",AE$6=\"2pinse\",\"h\",AE$6=\"1juledag\",\"h\",AE$6=\"2juledag\",\"h\",AE$6=\"nytårsdag\",\"h\")","v":{"$error":"#N/A"}},{"$f":"_xlfn.IFS(AF$7=\"søndag\",\"-\",AF$6=\"skærtd\",\"h\",AF$6=\"langfd\",\"h\",AF$6=\"1påsked\",\"h\",AF$6=\"2påsked\",\"h\",AF$6=\"kr.himmelfart\",\"h\",AF$6=\"1pinse\",\"h\",AF$6=\"2pinse\",\"h\",AF$6=\"1juledag\",\"h\",AF$6=\"2juledag\",\"h\",AF$6=\"nytårsdag\",\"h\")","v":{"$error":"#N/A"}},{"$f":"_xlfn.IFS(AG$7=\"søndag\",\"-\",AG$6=\"skærtd\",\"h\",AG$6=\"langfd\",\"h\",AG$6=\"1påsked\",\"h\",AG$6=\"2påsked\",\"h\",AG$6=\"kr.himmelfart\",\"h\",AG$6=\"1pinse\",\"h\",AG$6=\"2pinse\",\"h\",AG$6=\"1juledag\",\"h\",AG$6=\"2juledag\",\"h\",AG$6=\"nytårsdag\",\"h\")","v":{"$error":"#N/A"}},{"$f":"_xlfn.IFS(AH$7=\"søndag\",\"-\",AH$6=\"skærtd\",\"h\",AH$6=\"langfd\",\"h\",AH$6=\"1påsked\",\"h\",AH$6=\"2påsked\",\"h\",AH$6=\"kr.himmelfart\",\"h\",AH$6=\"1pinse\",\"h\",AH$6=\"2pinse\",\"h\",AH$6=\"1juledag\",\"h\",AH$6=\"2juledag\",\"h\",AH$6=\"nytårsdag\",\"h\")","v":{"$error":"#N/A"}}]
[null,"Sygedage",null,{"$f":"IF(D289=\"s\",D288,\"-\")","v":"-"},{"$f":"IF(E289=\"s\",E288,\"-\")","v":"-"},"-","-","-","-","-","-","-","-","-","-","-","-","-","-","-","-","-","-","-","-","-","-","-","-","-","-","-","-","-"]
[null,null,{"$f":"$C$15","v":14},"Timer uge",null,null,{"$f":"SUMIF($D$5:$AH$5,C294,D288:AH288)","v":0},{"$f":"$H$15","v":15},{"$f":"D294","v":"Timer uge"},null,null,null,null,{"$f":"SUMIF($D$5:$AH$5,H294,D288:AH288)","v":0},{"$f":"$O$15","v":16},{"$f":"D294","v":"Timer uge"},null,null,null,null,{"$f":"_xlfn.IFS($O294=$BV287,$BV288,$O294=$BW287,Lønskema!$BW288,$O294=$BX287,$BX288,$O294=$BY287,$BY288,$O294=$BZ287,$BZ288,$O294=$CA287,$CA288,$O294=$CB287,$CB288,$O294=$CC287,$CC288,$O294=$CD287,$CD288,$O294=$CE287,$CE288,$O294=$CF287,$CF288,$O294=$CG287,$CF288,$O294=$CG287,$CG288,$O294=$CH287,$CH288,$O294=$CI287,$CI288,$O294=$CJ287,$CJ288,$O294=$CK287,$CK288,$O294=$CL287,$CL288,$O294=$CM287,$CM288,$O294=$CN287,$CN288,$O294=$CO287,$CO288,$O294=$CP287,$CP288,$O294=$CQ287,$CQ288,$O294=$CR287,$CR288,$O294=$CS287,$CS288,$O294=$CT287,$CT288,$O294=$CU287,$CU288,$O294=$CV287,$CV288,$O294=$CW287,$CW288,$O294=$CX287,$CX288,$O294=$CY287,$CY288,$O294=$CZ287,$CZ288,$O294=$DA287,$DA288,$O294=$DB287,$DB288,$O294=$DC287,$DC288,$O294=$DD287,$DD288,$O294=$DE287,$DE288,$O294=$DF287,$DF288,$O294=$DG287,$DG288,$O294=$DH287,$DH288,$O294=$DI287,$DI288,$O294=$DJ287,$DJ288,$O294=$DK287,$DK288,$O294=$DL287,$DL288,$O294=$DM287,$DM288,$O294=$DN287,$DN288,$O294=$DO287,$DO288,$O294=$DP287,$DP288,$O294=$DQ287,$DQ288,$O294=$DR287,$DR288,$O294=$DS287,$DS288,$O294=$DT287,$DT288,$O294=$DU287,$DU288)","v":0},{"$f":"$V$15","v":17},{"$f":"D294","v":"Timer uge"},null,null,null,null,{"$f":"SUMIF($D$5:$AH$5,V294,D288:AH288)","v":0},{"$f":"$AC$15","v":18},{"$f":"D294","v":"Timer uge"},null,null,null,{"$f":"SUMIF($D$5:$AH$5,AC294,D288:AH288)","v":0},{"$f":"$AI$15","v":19},{"$f":"D294","v":"Timer uge"},null,null,null,{"$f":"SUMIF($D$5:$AH$5,AI294,D288:AH288)","v":0}]
[null,null,null,"Overarbejde 50% 1-3 timer",null,null,{"$f":"IF($G294>37,$G294-37-$G296,0)","v":0},null,{"$f":"D295","v":"Overarbejde 50% 1-3 timer"},null,null,null,null,{"$f":"IF($N294>37,$N294-37-$N296,0)","v":0},null,{"$f":"D295","v":"Overarbejde 50% 1-3 timer"},null,null,null,null,{"$f":"IF($U294>37,$U294-37-$U296,0)","v":0},null,{"$f":"D295","v":"Overarbejde 50% 1-3 timer"},null,null,null,null,{"$f":"IF($AB294>37,$AB294-37-$AB296,0)","v":0},null,{"$f":"D295","v":"Overarbejde 50% 1-3 timer"},null,null,null,{"$f":"IF($AH294>37,$AH294-37-$AH296,0)","v":0},null,{"$f":"D295","v":"Overarbejde 50% 1-3 timer"},null,null,null,{"$f":"IF($AH294>37,$AH294-37-$AH296,0)","v":0}]
[null,null,null,"Overarbejde 100% over 3 timer",null,null,{"$f":"IF($G294>40,$G294-40,0)","v":0},null,"Overarbejde 100% over 3 timer",null,null,null,null,{"$f":"IF($N294>40,$N294-40,0)","v":0},null,"Overarbejde 100% over 3 timer",null,null,null,null,{"$f":"IF($U294>40,$U294-40,0)","v":0},null,"Overarbejde 100% over 3 timer",null,null,null,null,{"$f":"IF($AB294>40,$AB294-40,0)","v":0},null,"Overarbejde 100% over 3 timer",null,null,null,{"$f":"IF($AH294>40,$AH294-40,0)","v":0},null,{"$f":"D296","v":"Overarbejde 100% over 3 timer"},null,null,null,{"$f":"IF($AH294>40,$AH294-40,0)","v":0},null,null,null,null,null,null,null,null,null,null,null,null,null,null,null,null,null,null,null,null,null,null,null,null,null,null,null,null,null,null,null,null,null,1,2,3,4,5,6,7,8,9,10,11,12,13,14,15,16,17,18,19,20,21,22,23,24,25,26,27,28,29,30,31,32,33,34,35,36,37,38,39,40,41,42,43,44,45,46,47,48,49,50,51,52]
[{"$f":"Medarbejder!A35","v":0},{"$f":"Medarbejder!B35","v":0},{"$f":"Medarbejder!C35","v":"-"},null,null,null,null,null,null,null,null,null,null,null,null,null,null,null,null,null,null,null,null,null,null,null,null,null,null,null,null,null,null,null,null,null,null,null,null,null,null,{"$f":"AO297*Overenskomst!$C$22","v":0},{"$f":"SUM($D297:$AH297)-$BA297-$BF297-$BD297","v":0},{"$f":"IF(Medarbejder!$J35=\"ja\",$AQ297,\"-\")","v":"-"},{"$f":"SUMIF($D$7:$AH$7,\"søndag\",$D297:$AH297)+$AT297","v":0},{"$f":"SUMIFS($D297:$AH297,$D301:$AH301,\"H\")","v":0},{"$f":"G304+N304+U304+AB304+AH304+AN304","v":0},{"$f":"G305+N305+U305+AB305+AH305+AN305","v":0},{"$f":"SUM($D299:$AH299)","v":0},{"$f":"SUM($D300:$AH300)","v":0},{"$f":"COUNTIFS($D298:$AH298,\"F\")","v":0},{"$f":"COUNTIFS($D298:$AH298,\"S\")","v":0},{"$f":"SUMIF($D298:$AH298,\"S\",$D302:$AH302)","v":0},{"$f":"COUNTIFS($D298:$AH298,\"p\")","v":0},{"$f":"COUNTIFS($D298:$AH298,\"BS\")","v":0},{"$f":"SUMIF(D298:AH298,\"bs\",$D297:$AH297)","v":0},{"$f":"COUNTIFS($D298:$AH298,\"FF\")","v":0},{"$f":"SUMIF($D298:$AH298,\"g\",$D297:$AH297)","v":0},{"$f":"Medarbejder!$N32","v":"-"},{"$f":"SUM($BL297:$BU297)","v":4},null,null,null,{"$f":"COUNTIFS($D$6:$AH$6,\"skærtd\")","v":1},{"$f":"COUNTIFS($D$6:$AH$6,\"langfd\")","v":1},{"$f":"COUNTIFS($D$6:$AH$6,\"1påsked\")","v":1},{"$f":"COUNTIFS($D$6:$AH$6,\"2påsked\")","v":1},{"$f":"COUNTIFS($D$6:$AH$6,\"kr.himmelfart\")","v":0},{"$f":"COUNTIFS($D$6:$AH$6,\"1pinse\")","v":0},{"$f":"COUNTIFS($D$6:$AH$6,\"2pinse\")","v":0},{"$f":"COUNTIFS($D$6:$AH$6,\"1juledag\")","v":0},{"$f":"COUNTIFS($D$6:$AH$6,\"2juledag\")","v":0},{"$f":"COUNTIFS($D$6:$AH$6,\"nytårsdag\")","v":0},{"$f":"SUMIFS($D297:$AH297,Lønskema!$D$5:$AH$5,1)","v":0},{"$f":"SUMIFS($D297:$AH297,Lønskema!$D$5:$AH$5,2)","v":0},{"$f":"SUMIFS($D297:$AH297,Lønskema!$D$5:$AH$5,3)","v":0},{"$f":"SUMIFS($D297:$AH297,Lønskema!$D$5:$AH$5,4)","v":0},{"$f":"SUMIFS($D297:$AH297,Lønskema!$D$5:$AH$5,5)","v":0},{"$f":"SUMIFS($D297:$AH297,Lønskema!$D$5:$AH$5,6)","v":0},{"$f":"SUMIFS($D297:$AH297,Lønskema!$D$5:$AH$5,7)","v":0},{"$f":"SUMIFS($D297:$AH297,Lønskema!$D$5:$AH$5,8)","v":0},{"$f":"SUMIFS($D297:$AH297,Lønskema!$D$5:$AH$5,9)","v":0},{"$f":"SUMIFS($D297:$AH297,Lønskema!$D$5:$AH$5,10)","v":0},{"$f":"SUMIFS($D297:$AH297,Lønskema!$D$5:$AH$5,11)","v":0},{"$f":"SUMIFS($D297:$AH297,Lønskema!$D$5:$AH$5,12)","v":0},{"$f":"SUMIFS($D297:$AH297,Lønskema!$D$5:$AH$5,13)","v":0},{"$f":"SUMIFS($D297:$AH297,Lønskema!$D$5:$AH$5,14)","v":0},{"$f":"SUMIFS($D297:$AH297,Lønskema!$D$5:$AH$5,15)","v":0},{"$f":"SUMIFS($D297:$AH297,Lønskema!$D$5:$AH$5,16)","v":0},{"$f":"SUMIFS($D297:$AH297,Lønskema!$D$5:$AH$5,17)","v":0},{"$f":"SUMIFS($D297:$AH297,Lønskema!$D$5:$AH$5,18)","v":0},{"$f":"SUMIFS($D297:$AH297,Lønskema!$D$5:$AH$5,19)","v":0},{"$f":"SUMIFS($D297:$AH297,Lønskema!$D$5:$AH$5,20)","v":0},{"$f":"SUMIFS($D297:$AH297,Lønskema!$D$5:$AH$5,21)","v":0},{"$f":"SUMIFS($D297:$AH297,Lønskema!$D$5:$AH$5,22)","v":0},{"$f":"SUMIFS($D297:$AH297,Lønskema!$D$5:$AH$5,23)","v":0},{"$f":"SUMIFS($D297:$AH297,Lønskema!$D$5:$AH$5,24)","v":0},{"$f":"SUMIFS($D297:$AH297,Lønskema!$D$5:$AH$5,25)","v":0},{"$f":"SUMIFS($D297:$AH297,Lønskema!$D$5:$AH$5,26)","v":0},{"$f":"SUMIFS($D297:$AH297,Lønskema!$D$5:$AH$5,27)","v":0},{"$f":"SUMIFS($D297:$AH297,Lønskema!$D$5:$AH$5,28)","v":0},{"$f":"SUMIFS($D297:$AH297,Lønskema!$D$5:$AH$5,29)","v":0},{"$f":"SUMIFS($D297:$AH297,Lønskema!$D$5:$AH$5,30)","v":0},{"$f":"SUMIFS($D297:$AH297,Lønskema!$D$5:$AH$5,31)","v":0},{"$f":"SUMIFS($D297:$AH297,Lønskema!$D$5:$AH$5,32)","v":0},{"$f":"SUMIFS($D297:$AH297,Lønskema!$D$5:$AH$5,33)","v":0},{"$f":"SUMIFS($D297:$AH297,Lønskema!$D$5:$AH$5,34)","v":0},{"$f":"SUMIFS($D297:$AH297,Lønskema!$D$5:$AH$5,35)","v":0},{"$f":"SUMIFS($D297:$AH297,Lønskema!$D$5:$AH$5,36)","v":0},{"$f":"SUMIFS($D297:$AH297,Lønskema!$D$5:$AH$5,37)","v":0},{"$f":"SUMIFS($D297:$AH297,Lønskema!$D$5:$AH$5,38)","v":0},{"$f":"SUMIFS($D297:$AH297,Lønskema!$D$5:$AH$5,39)","v":0},{"$f":"SUMIFS($D297:$AH297,Lønskema!$D$5:$AH$5,40)","v":0},{"$f":"SUMIFS($D297:$AH297,Lønskema!$D$5:$AH$5,41)","v":0},{"$f":"SUMIFS($D297:$AH297,Lønskema!$D$5:$AH$5,42)","v":0},{"$f":"SUMIFS($D297:$AH297,Lønskema!$D$5:$AH$5,43)","v":0},{"$f":"SUMIFS($D297:$AH297,Lønskema!$D$5:$AH$5,44)","v":0},{"$f":"SUMIFS($D297:$AH297,Lønskema!$D$5:$AH$5,45)","v":0},{"$f":"SUMIFS($D297:$AH297,Lønskema!$D$5:$AH$5,46)","v":0},{"$f":"SUMIFS($D297:$AH297,Lønskema!$D$5:$AH$5,47)","v":0},{"$f":"SUMIFS($D297:$AH297,Lønskema!$D$5:$AH$5,48)","v":0},{"$f":"SUMIFS($D297:$AH297,Lønskema!$D$5:$AH$5,49)","v":0},{"$f":"SUMIFS($D297:$AH297,Lønskema!$D$5:$AH$5,50)","v":0},{"$f":"SUMIFS($D297:$AH297,Lønskema!$D$5:$AH$5,51)","v":0},{"$f":"SUMIFS($D297:$AH297,Lønskema!$D$5:$AH$5,52)","v":0}]
["Ferie - syg  mm. Registreres i denne række"]
[null,"Aften"]
[null,"Nat"]
[null,"Helligdag",null,{"$f":"_xlfn.IFS(D$7=\"søndag\",\"-\",D$6=\"skærtd\",\"h\",D$6=\"langfd\",\"h\",D$6=\"1påsked\",\"h\",D$6=\"2påsked\",\"h\",D$6=\"kr.himmelfart\",\"h\",D$6=\"1pinse\",\"h\",D$6=\"2pinse\",\"h\",D$6=\"1juledag\",\"h\",D$6=\"2juledag\",\"h\",D$6=\"nytårsdag\",\"h\")","v":{"$error":"#N/A"}},{"$f":"_xlfn.IFS(E$7=\"søndag\",\"-\",E$6=\"skærtd\",\"h\",E$6=\"langfd\",\"h\",E$6=\"1påsked\",\"h\",E$6=\"2påsked\",\"h\",E$6=\"kr.himmelfart\",\"h\",E$6=\"1pinse\",\"h\",E$6=\"2pinse\",\"h\",E$6=\"1juledag\",\"h\",E$6=\"2juledag\",\"h\",E$6=\"nytårsdag\",\"h\")","v":{"$error":"#N/A"}},{"$f":"_xlfn.IFS(F$7=\"søndag\",\"-\",F$6=\"skærtd\",\"h\",F$6=\"langfd\",\"h\",F$6=\"1påsked\",\"h\",F$6=\"2påsked\",\"h\",F$6=\"kr.himmelfart\",\"h\",F$6=\"1pinse\",\"h\",F$6=\"2pinse\",\"h\",F$6=\"1juledag\",\"h\",F$6=\"2juledag\",\"h\",F$6=\"nytårsdag\",\"h\")","v":{"$error":"#N/A"}},{"$f":"_xlfn.IFS(G$7=\"søndag\",\"-\",G$6=\"skærtd\",\"h\",G$6=\"langfd\",\"h\",G$6=\"1påsked\",\"h\",G$6=\"2påsked\",\"h\",G$6=\"kr.himmelfart\",\"h\",G$6=\"1pinse\",\"h\",G$6=\"2pinse\",\"h\",G$6=\"1juledag\",\"h\",G$6=\"2juledag\",\"h\",G$6=\"nytårsdag\",\"h\")","v":{"$error":"#N/A"}},{"$f":"_xlfn.IFS(H$7=\"søndag\",\"-\",H$6=\"skærtd\",\"h\",H$6=\"langfd\",\"h\",H$6=\"1påsked\",\"h\",H$6=\"2påsked\",\"h\",H$6=\"kr.himmelfart\",\"h\",H$6=\"1pinse\",\"h\",H$6=\"2pinse\",\"h\",H$6=\"1juledag\",\"h\",H$6=\"2juledag\",\"h\",H$6=\"nytårsdag\",\"h\")","v":{"$error":"#N/A"}},{"$f":"_xlfn.IFS(I$7=\"søndag\",\"-\",I$6=\"skærtd\",\"h\",I$6=\"langfd\",\"h\",I$6=\"1påsked\",\"h\",I$6=\"2påsked\",\"h\",I$6=\"kr.himmelfart\",\"h\",I$6=\"1pinse\",\"h\",I$6=\"2pinse\",\"h\",I$6=\"1juledag\",\"h\",I$6=\"2juledag\",\"h\",I$6=\"nytårsdag\",\"h\")","v":"-"},{"$f":"_xlfn.IFS(J$7=\"søndag\",\"-\",J$6=\"skærtd\",\"h\",J$6=\"langfd\",\"h\",J$6=\"1påsked\",\"h\",J$6=\"2påsked\",\"h\",J$6=\"kr.himmelfart\",\"h\",J$6=\"1pinse\",\"h\",J$6=\"2pinse\",\"h\",J$6=\"1juledag\",\"h\",J$6=\"2juledag\",\"h\",J$6=\"nytårsdag\",\"h\")","v":{"$error":"#N/A"}},{"$f":"_xlfn.IFS(K$7=\"søndag\",\"-\",K$6=\"skærtd\",\"h\",K$6=\"langfd\",\"h\",K$6=\"1påsked\",\"h\",K$6=\"2påsked\",\"h\",K$6=\"kr.himmelfart\",\"h\",K$6=\"1pinse\",\"h\",K$6=\"2pinse\",\"h\",K$6=\"1juledag\",\"h\",K$6=\"2juledag\",\"h\",K$6=\"nytårsdag\",\"h\")","v":{"$error":"#N/A"}},{"$f":"_xlfn.IFS(L$7=\"søndag\",\"-\",L$6=\"skærtd\",\"h\",L$6=\"langfd\",\"h\",L$6=\"1påsked\",\"h\",L$6=\"2påsked\",\"h\",L$6=\"kr.himmelfart\",\"h\",L$6=\"1pinse\",\"h\",L$6=\"2pinse\",\"h\",L$6=\"1juledag\",\"h\",L$6=\"2juledag\",\"h\",L$6=\"nytårsdag\",\"h\")","v":{"$error":"#N/A"}},{"$f":"_xlfn.IFS(M$7=\"søndag\",\"-\",M$6=\"skærtd\",\"h\",M$6=\"langfd\",\"h\",M$6=\"1påsked\",\"h\",M$6=\"2påsked\",\"h\",M$6=\"kr.himmelfart\",\"h\",M$6=\"1pinse\",\"h\",M$6=\"2pinse\",\"h\",M$6=\"1juledag\",\"h\",M$6=\"2juledag\",\"h\",M$6=\"nytårsdag\",\"h\")","v":{"$error":"#N/A"}},{"$f":"_xlfn.IFS(N$7=\"søndag\",\"-\",N$6=\"skærtd\",\"h\",N$6=\"langfd\",\"h\",N$6=\"1påsked\",\"h\",N$6=\"2påsked\",\"h\",N$6=\"kr.himmelfart\",\"h\",N$6=\"1pinse\",\"h\",N$6=\"2pinse\",\"h\",N$6=\"1juledag\",\"h\",N$6=\"2juledag\",\"h\",N$6=\"nytårsdag\",\"h\")","v":{"$error":"#N/A"}},{"$f":"_xlfn.IFS(O$7=\"søndag\",\"-\",O$6=\"skærtd\",\"h\",O$6=\"langfd\",\"h\",O$6=\"1påsked\",\"h\",O$6=\"2påsked\",\"h\",O$6=\"kr.himmelfart\",\"h\",O$6=\"1pinse\",\"h\",O$6=\"2pinse\",\"h\",O$6=\"1juledag\",\"h\",O$6=\"2juledag\",\"h\",O$6=\"nytårsdag\",\"h\")","v":{"$error":"#N/A"}},{"$f":"_xlfn.IFS(P$7=\"søndag\",\"-\",P$6=\"skærtd\",\"h\",P$6=\"langfd\",\"h\",P$6=\"1påsked\",\"h\",P$6=\"2påsked\",\"h\",P$6=\"kr.himmelfart\",\"h\",P$6=\"1pinse\",\"h\",P$6=\"2pinse\",\"h\",P$6=\"1juledag\",\"h\",P$6=\"2juledag\",\"h\",P$6=\"nytårsdag\",\"h\")","v":"-"},{"$f":"_xlfn.IFS(Q$7=\"søndag\",\"-\",Q$6=\"skærtd\",\"h\",Q$6=\"langfd\",\"h\",Q$6=\"1påsked\",\"h\",Q$6=\"2påsked\",\"h\",Q$6=\"kr.himmelfart\",\"h\",Q$6=\"1pinse\",\"h\",Q$6=\"2pinse\",\"h\",Q$6=\"1juledag\",\"h\",Q$6=\"2juledag\",\"h\",Q$6=\"nytårsdag\",\"h\")","v":{"$error":"#N/A"}},{"$f":"_xlfn.IFS(R$7=\"søndag\",\"-\",R$6=\"skærtd\",\"h\",R$6=\"langfd\",\"h\",R$6=\"1påsked\",\"h\",R$6=\"2påsked\",\"h\",R$6=\"kr.himmelfart\",\"h\",R$6=\"1pinse\",\"h\",R$6=\"2pinse\",\"h\",R$6=\"1juledag\",\"h\",R$6=\"2juledag\",\"h\",R$6=\"nytårsdag\",\"h\")","v":{"$error":"#N/A"}},{"$f":"_xlfn.IFS(S$7=\"søndag\",\"-\",S$6=\"skærtd\",\"h\",S$6=\"langfd\",\"h\",S$6=\"1påsked\",\"h\",S$6=\"2påsked\",\"h\",S$6=\"kr.himmelfart\",\"h\",S$6=\"1pinse\",\"h\",S$6=\"2pinse\",\"h\",S$6=\"1juledag\",\"h\",S$6=\"2juledag\",\"h\",S$6=\"nytårsdag\",\"h\")","v":{"$error":"#N/A"}},{"$f":"_xlfn.IFS(T$7=\"søndag\",\"-\",T$6=\"skærtd\",\"h\",T$6=\"langfd\",\"h\",T$6=\"1påsked\",\"h\",T$6=\"2påsked\",\"h\",T$6=\"kr.himmelfart\",\"h\",T$6=\"1pinse\",\"h\",T$6=\"2pinse\",\"h\",T$6=\"1juledag\",\"h\",T$6=\"2juledag\",\"h\",T$6=\"nytårsdag\",\"h\")","v":"h"},{"$f":"_xlfn.IFS(U$7=\"søndag\",\"-\",U$6=\"skærtd\",\"h\",U$6=\"langfd\",\"h\",U$6=\"1påsked\",\"h\",U$6=\"2påsked\",\"h\",U$6=\"kr.himmelfart\",\"h\",U$6=\"1pinse\",\"h\",U$6=\"2pinse\",\"h\",U$6=\"1juledag\",\"h\",U$6=\"2juledag\",\"h\",U$6=\"nytårsdag\",\"h\")","v":"h"},{"$f":"_xlfn.IFS(V$7=\"søndag\",\"-\",V$6=\"skærtd\",\"h\",V$6=\"langfd\",\"h\",V$6=\"1påsked\",\"h\",V$6=\"2påsked\",\"h\",V$6=\"kr.himmelfart\",\"h\",V$6=\"1pinse\",\"h\",V$6=\"2pinse\",\"h\",V$6=\"1juledag\",\"h\",V$6=\"2juledag\",\"h\",V$6=\"nytårsdag\",\"h\")","v":{"$error":"#N/A"}},{"$f":"_xlfn.IFS(W$7=\"søndag\",\"-\",W$6=\"skærtd\",\"h\",W$6=\"langfd\",\"h\",W$6=\"1påsked\",\"h\",W$6=\"2påsked\",\"h\",W$6=\"kr.himmelfart\",\"h\",W$6=\"1pinse\",\"h\",W$6=\"2pinse\",\"h\",W$6=\"1juledag\",\"h\",W$6=\"2juledag\",\"h\",W$6=\"nytårsdag\",\"h\")","v":"-"},{"$f":"_xlfn.IFS(X$7=\"søndag\",\"-\",X$6=\"skærtd\",\"h\",X$6=\"langfd\",\"h\",X$6=\"1påsked\",\"h\",X$6=\"2påsked\",\"h\",X$6=\"kr.himmelfart\",\"h\",X$6=\"1pinse\",\"h\",X$6=\"2pinse\",\"h\",X$6=\"1juledag\",\"h\",X$6=\"2juledag\",\"h\",X$6=\"nytårsdag\",\"h\")","v":"h"},{"$f":"_xlfn.IFS(Y$7=\"søndag\",\"-\",Y$6=\"skærtd\",\"h\",Y$6=\"langfd\",\"h\",Y$6=\"1påsked\",\"h\",Y$6=\"2påsked\",\"h\",Y$6=\"kr.himmelfart\",\"h\",Y$6=\"1pinse\",\"h\",Y$6=\"2pinse\",\"h\",Y$6=\"1juledag\",\"h\",Y$6=\"2juledag\",\"h\",Y$6=\"nytårsdag\",\"h\")","v":{"$error":"#N/A"}},{"$f":"_xlfn.IFS(Z$7=\"søndag\",\"-\",Z$6=\"skærtd\",\"h\",Z$6=\"langfd\",\"h\",Z$6=\"1påsked\",\"h\",Z$6=\"2påsked\",\"h\",Z$6=\"kr.himmelfart\",\"h\",Z$6=\"1pinse\",\"h\",Z$6=\"2pinse\",\"h\",Z$6=\"1juledag\",\"h\",Z$6=\"2juledag\",\"h\",Z$6=\"nytårsdag\",\"h\")","v":{"$error":"#N/A"}},{"$f":"_xlfn.IFS(AA$7=\"søndag\",\"-\",AA$6=\"skærtd\",\"h\",AA$6=\"langfd\",\"h\",AA$6=\"1påsked\",\"h\",AA$6=\"2påsked\",\"h\",AA$6=\"kr.himmelfart\",\"h\",AA$6=\"1pinse\",\"h\",AA$6=\"2pinse\",\"h\",AA$6=\"1juledag\",\"h\",AA$6=\"2juledag\",\"h\",AA$6=\"nytårsdag\",\"h\")","v":{"$error":"#N/A"}},{"$f":"_xlfn.IFS(AB$7=\"søndag\",\"-\",AB$6=\"skærtd\",\"h\",AB$6=\"langfd\",\"h\",AB$6=\"1påsked\",\"h\",AB$6=\"2påsked\",\"h\",AB$6=\"kr.himmelfart\",\"h\",AB$6=\"1pinse\",\"h\",AB$6=\"2pinse\",\"h\",AB$6=\"1juledag\",\"h\",AB$6=\"2juledag\",\"h\",AB$6=\"nytårsdag\",\"h\")","v":{"$error":"#N/A"}},{"$f":"_xlfn.IFS(AC$7=\"søndag\",\"-\",AC$6=\"skærtd\",\"h\",AC$6=\"langfd\",\"h\",AC$6=\"1påsked\",\"h\",AC$6=\"2påsked\",\"h\",AC$6=\"kr.himmelfart\",\"h\",AC$6=\"1pinse\",\"h\",AC$6=\"2pinse\",\"h\",AC$6=\"1juledag\",\"h\",AC$6=\"2juledag\",\"h\",AC$6=\"nytårsdag\",\"h\")","v":{"$error":"#N/A"}},{"$f":"_xlfn.IFS(AD$7=\"søndag\",\"-\",AD$6=\"skærtd\",\"h\",AD$6=\"langfd\",\"h\",AD$6=\"1påsked\",\"h\",AD$6=\"2påsked\",\"h\",AD$6=\"kr.himmelfart\",\"h\",AD$6=\"1pinse\",\"h\",AD$6=\"2pinse\",\"h\",AD$6=\"1juledag\",\"h\",AD$6=\"2juledag\",\"h\",AD$6=\"nytårsdag\",\"h\")","v":"-"},{"$f":"_xlfn.IFS(AE$7=\"søndag\",\"-\",AE$6=\"skærtd\",\"h\",AE$6=\"langfd\",\"h\",AE$6=\"1påsked\",\"h\",AE$6=\"2påsked\",\"h\",AE$6=\"kr.himmelfart\",\"h\",AE$6=\"1pinse\",\"h\",AE$6=\"2pinse\",\"h\",AE$6=\"1juledag\",\"h\",AE$6=\"2juledag\",\"h\",AE$6=\"nytårsdag\",\"h\")","v":{"$error":"#N/A"}},{"$f":"_xlfn.IFS(AF$7=\"søndag\",\"-\",AF$6=\"skærtd\",\"h\",AF$6=\"langfd\",\"h\",AF$6=\"1påsked\",\"h\",AF$6=\"2påsked\",\"h\",AF$6=\"kr.himmelfart\",\"h\",AF$6=\"1pinse\",\"h\",AF$6=\"2pinse\",\"h\",AF$6=\"1juledag\",\"h\",AF$6=\"2juledag\",\"h\",AF$6=\"nytårsdag\",\"h\")","v":{"$error":"#N/A"}},{"$f":"_xlfn.IFS(AG$7=\"søndag\",\"-\",AG$6=\"skærtd\",\"h\",AG$6=\"langfd\",\"h\",AG$6=\"1påsked\",\"h\",AG$6=\"2påsked\",\"h\",AG$6=\"kr.himmelfart\",\"h\",AG$6=\"1pinse\",\"h\",AG$6=\"2pinse\",\"h\",AG$6=\"1juledag\",\"h\",AG$6=\"2juledag\",\"h\",AG$6=\"nytårsdag\",\"h\")","v":{"$error":"#N/A"}},{"$f":"_xlfn.IFS(AH$7=\"søndag\",\"-\",AH$6=\"skærtd\",\"h\",AH$6=\"langfd\",\"h\",AH$6=\"1påsked\",\"h\",AH$6=\"2påsked\",\"h\",AH$6=\"kr.himmelfart\",\"h\",AH$6=\"1pinse\",\"h\",AH$6=\"2pinse\",\"h\",AH$6=\"1juledag\",\"h\",AH$6=\"2juledag\",\"h\",AH$6=\"nytårsdag\",\"h\")","v":{"$error":"#N/A"}}]
[null,"Sygedage",null,{"$f":"IF(D298=\"s\",D297,\"-\")","v":"-"},{"$f":"IF(E298=\"s\",E297,\"-\")","v":"-"},"-","-","-","-","-","-","-","-","-","-","-","-","-","-","-","-","-","-","-","-","-","-","-","-","-","-","-","-","-"]
[null,null,{"$f":"$C$15","v":14},"Timer uge",null,null,{"$f":"SUMIF($D$5:$AH$5,C303,D297:AH297)","v":0},{"$f":"$H$15","v":15},{"$f":"D303","v":"Timer uge"},null,null,null,null,{"$f":"SUMIF($D$5:$AH$5,H303,D297:AH297)","v":0},{"$f":"$O$15","v":16},{"$f":"D303","v":"Timer uge"},null,null,null,null,{"$f":"_xlfn.IFS($O303=$BV296,$BV297,$O303=$BW296,Lønskema!$BW297,$O303=$BX296,$BX297,$O303=$BY296,$BY297,$O303=$BZ296,$BZ297,$O303=$CA296,$CA297,$O303=$CB296,$CB297,$O303=$CC296,$CC297,$O303=$CD296,$CD297,$O303=$CE296,$CE297,$O303=$CF296,$CF297,$O303=$CG296,$CF297,$O303=$CG296,$CG297,$O303=$CH296,$CH297,$O303=$CI296,$CI297,$O303=$CJ296,$CJ297,$O303=$CK296,$CK297,$O303=$CL296,$CL297,$O303=$CM296,$CM297,$O303=$CN296,$CN297,$O303=$CO296,$CO297,$O303=$CP296,$CP297,$O303=$CQ296,$CQ297,$O303=$CR296,$CR297,$O303=$CS296,$CS297,$O303=$CT296,$CT297,$O303=$CU296,$CU297,$O303=$CV296,$CV297,$O303=$CW296,$CW297,$O303=$CX296,$CX297,$O303=$CY296,$CY297,$O303=$CZ296,$CZ297,$O303=$DA296,$DA297,$O303=$DB296,$DB297,$O303=$DC296,$DC297,$O303=$DD296,$DD297,$O303=$DE296,$DE297,$O303=$DF296,$DF297,$O303=$DG296,$DG297,$O303=$DH296,$DH297,$O303=$DI296,$DI297,$O303=$DJ296,$DJ297,$O303=$DK296,$DK297,$O303=$DL296,$DL297,$O303=$DM296,$DM297,$O303=$DN296,$DN297,$O303=$DO296,$DO297,$O303=$DP296,$DP297,$O303=$DQ296,$DQ297,$O303=$DR296,$DR297,$O303=$DS296,$DS297,$O303=$DT296,$DT297,$O303=$DU296,$DU297)","v":0},{"$f":"$V$15","v":17},{"$f":"D303","v":"Timer uge"},null,null,null,null,{"$f":"SUMIF($D$5:$AH$5,V303,D297:AH297)","v":0},{"$f":"$AC$15","v":18},{"$f":"D303","v":"Timer uge"},null,null,null,{"$f":"SUMIF($D$5:$AH$5,AC303,D297:AH297)","v":0},{"$f":"$AI$15","v":19},{"$f":"D303","v":"Timer uge"},null,null,null,{"$f":"SUMIF($D$5:$AH$5,AI303,D297:AH297)","v":0}]
[null,null,null,"Overarbejde 50% 1-3 timer",null,null,{"$f":"IF($G303>37,$G303-37-$G305,0)","v":0},null,{"$f":"D304","v":"Overarbejde 50% 1-3 timer"},null,null,null,null,{"$f":"IF($N303>37,$N303-37-$N305,0)","v":0},null,{"$f":"D304","v":"Overarbejde 50% 1-3 timer"},null,null,null,null,{"$f":"IF($U303>37,$U303-37-$U305,0)","v":0},null,{"$f":"D304","v":"Overarbejde 50% 1-3 timer"},null,null,null,null,{"$f":"IF($AB303>37,$AB303-37-$AB305,0)","v":0},null,{"$f":"D304","v":"Overarbejde 50% 1-3 timer"},null,null,null,{"$f":"IF($AH303>37,$AH303-37-$AH305,0)","v":0},null,{"$f":"D304","v":"Overarbejde 50% 1-3 timer"},null,null,null,{"$f":"IF($AH303>37,$AH303-37-$AH305,0)","v":0}]
[null,null,null,"Overarbejde 100% over 3 timer",null,null,{"$f":"IF($G303>40,$G303-40,0)","v":0},null,"Overarbejde 100% over 3 timer",null,null,null,null,{"$f":"IF($N303>40,$N303-40,0)","v":0},null,"Overarbejde 100% over 3 timer",null,null,null,null,{"$f":"IF($U303>40,$U303-40,0)","v":0},null,"Overarbejde 100% over 3 timer",null,null,null,null,{"$f":"IF($AB303>40,$AB303-40,0)","v":0},null,"Overarbejde 100% over 3 timer",null,null,null,{"$f":"IF($AH303>40,$AH303-40,0)","v":0},null,{"$f":"D305","v":"Overarbejde 100% over 3 timer"},null,null,null,{"$f":"IF($AH303>40,$AH303-40,0)","v":0},null,null,null,null,null,null,null,null,null,null,null,null,null,null,null,null,null,null,null,null,null,null,null,null,null,null,null,null,null,null,null,null,null,1,2,3,4,5,6,7,8,9,10,11,12,13,14,15,16,17,18,19,20,21,22,23,24,25,26,27,28,29,30,31,32,33,34,35,36,37,38,39,40,41,42,43,44,45,46,47,48,49,50,51,52]
[{"$f":"Medarbejder!A36","v":0},{"$f":"Medarbejder!B36","v":0},{"$f":"Medarbejder!C36","v":"-"},null,null,null,null,null,null,null,null,null,null,null,null,null,null,null,null,null,null,null,null,null,null,null,null,null,null,null,null,null,null,null,null,null,null,null,null,null,null,{"$f":"AO306*Overenskomst!$C$22","v":0},{"$f":"SUM($D306:$AH306)-$BA306-$BF306-$BD306","v":0},{"$f":"IF(Medarbejder!$J36=\"ja\",$AQ306,\"-\")","v":"-"},{"$f":"SUMIF($D$7:$AH$7,\"søndag\",$D306:$AH306)+$AT306","v":0},{"$f":"SUMIFS($D306:$AH306,$D310:$AH310,\"H\")","v":0},{"$f":"G313+N313+U313+AB313+AH313+AN313","v":0},{"$f":"G314+N314+U314+AB314+AH314+AN314","v":0},{"$f":"SUM($D308:$AH308)","v":0},{"$f":"SUM($D309:$AH309)","v":0},{"$f":"COUNTIFS($D307:$AH307,\"F\")","v":0},{"$f":"COUNTIFS($D307:$AH307,\"S\")","v":0},{"$f":"SUMIF($D307:$AH307,\"S\",$D311:$AH311)","v":0},{"$f":"COUNTIFS($D307:$AH307,\"p\")","v":0},{"$f":"COUNTIFS($D307:$AH307,\"BS\")","v":0},{"$f":"SUMIF(D307:AH307,\"bs\",$D306:$AH306)","v":0},{"$f":"COUNTIFS($D307:$AH307,\"FF\")","v":0},{"$f":"SUMIF($D307:$AH307,\"g\",$D306:$AH306)","v":0},{"$f":"Medarbejder!$N33","v":"-"},{"$f":"SUM($BL306:$BU306)","v":4},null,null,null,{"$f":"COUNTIFS($D$6:$AH$6,\"skærtd\")","v":1},{"$f":"COUNTIFS($D$6:$AH$6,\"langfd\")","v":1},{"$f":"COUNTIFS($D$6:$AH$6,\"1påsked\")","v":1},{"$f":"COUNTIFS($D$6:$AH$6,\"2påsked\")","v":1},{"$f":"COUNTIFS($D$6:$AH$6,\"kr.himmelfart\")","v":0},{"$f":"COUNTIFS($D$6:$AH$6,\"1pinse\")","v":0},{"$f":"COUNTIFS($D$6:$AH$6,\"2pinse\")","v":0},{"$f":"COUNTIFS($D$6:$AH$6,\"1juledag\")","v":0},{"$f":"COUNTIFS($D$6:$AH$6,\"2juledag\")","v":0},{"$f":"COUNTIFS($D$6:$AH$6,\"nytårsdag\")","v":0},{"$f":"SUMIFS($D306:$AH306,Lønskema!$D$5:$AH$5,1)","v":0},{"$f":"SUMIFS($D306:$AH306,Lønskema!$D$5:$AH$5,2)","v":0},{"$f":"SUMIFS($D306:$AH306,Lønskema!$D$5:$AH$5,3)","v":0},{"$f":"SUMIFS($D306:$AH306,Lønskema!$D$5:$AH$5,4)","v":0},{"$f":"SUMIFS($D306:$AH306,Lønskema!$D$5:$AH$5,5)","v":0},{"$f":"SUMIFS($D306:$AH306,Lønskema!$D$5:$AH$5,6)","v":0},{"$f":"SUMIFS($D306:$AH306,Lønskema!$D$5:$AH$5,7)","v":0},{"$f":"SUMIFS($D306:$AH306,Lønskema!$D$5:$AH$5,8)","v":0},{"$f":"SUMIFS($D306:$AH306,Lønskema!$D$5:$AH$5,9)","v":0},{"$f":"SUMIFS($D306:$AH306,Lønskema!$D$5:$AH$5,10)","v":0},{"$f":"SUMIFS($D306:$AH306,Lønskema!$D$5:$AH$5,11)","v":0},{"$f":"SUMIFS($D306:$AH306,Lønskema!$D$5:$AH$5,12)","v":0},{"$f":"SUMIFS($D306:$AH306,Lønskema!$D$5:$AH$5,13)","v":0},{"$f":"SUMIFS($D306:$AH306,Lønskema!$D$5:$AH$5,14)","v":0},{"$f":"SUMIFS($D306:$AH306,Lønskema!$D$5:$AH$5,15)","v":0},{"$f":"SUMIFS($D306:$AH306,Lønskema!$D$5:$AH$5,16)","v":0},{"$f":"SUMIFS($D306:$AH306,Lønskema!$D$5:$AH$5,17)","v":0},{"$f":"SUMIFS($D306:$AH306,Lønskema!$D$5:$AH$5,18)","v":0},{"$f":"SUMIFS($D306:$AH306,Lønskema!$D$5:$AH$5,19)","v":0},{"$f":"SUMIFS($D306:$AH306,Lønskema!$D$5:$AH$5,20)","v":0},{"$f":"SUMIFS($D306:$AH306,Lønskema!$D$5:$AH$5,21)","v":0},{"$f":"SUMIFS($D306:$AH306,Lønskema!$D$5:$AH$5,22)","v":0},{"$f":"SUMIFS($D306:$AH306,Lønskema!$D$5:$AH$5,23)","v":0},{"$f":"SUMIFS($D306:$AH306,Lønskema!$D$5:$AH$5,24)","v":0},{"$f":"SUMIFS($D306:$AH306,Lønskema!$D$5:$AH$5,25)","v":0},{"$f":"SUMIFS($D306:$AH306,Lønskema!$D$5:$AH$5,26)","v":0},{"$f":"SUMIFS($D306:$AH306,Lønskema!$D$5:$AH$5,27)","v":0},{"$f":"SUMIFS($D306:$AH306,Lønskema!$D$5:$AH$5,28)","v":0},{"$f":"SUMIFS($D306:$AH306,Lønskema!$D$5:$AH$5,29)","v":0},{"$f":"SUMIFS($D306:$AH306,Lønskema!$D$5:$AH$5,30)","v":0},{"$f":"SUMIFS($D306:$AH306,Lønskema!$D$5:$AH$5,31)","v":0},{"$f":"SUMIFS($D306:$AH306,Lønskema!$D$5:$AH$5,32)","v":0},{"$f":"SUMIFS($D306:$AH306,Lønskema!$D$5:$AH$5,33)","v":0},{"$f":"SUMIFS($D306:$AH306,Lønskema!$D$5:$AH$5,34)","v":0},{"$f":"SUMIFS($D306:$AH306,Lønskema!$D$5:$AH$5,35)","v":0},{"$f":"SUMIFS($D306:$AH306,Lønskema!$D$5:$AH$5,36)","v":0},{"$f":"SUMIFS($D306:$AH306,Lønskema!$D$5:$AH$5,37)","v":0},{"$f":"SUMIFS($D306:$AH306,Lønskema!$D$5:$AH$5,38)","v":0},{"$f":"SUMIFS($D306:$AH306,Lønskema!$D$5:$AH$5,39)","v":0},{"$f":"SUMIFS($D306:$AH306,Lønskema!$D$5:$AH$5,40)","v":0},{"$f":"SUMIFS($D306:$AH306,Lønskema!$D$5:$AH$5,41)","v":0},{"$f":"SUMIFS($D306:$AH306,Lønskema!$D$5:$AH$5,42)","v":0},{"$f":"SUMIFS($D306:$AH306,Lønskema!$D$5:$AH$5,43)","v":0},{"$f":"SUMIFS($D306:$AH306,Lønskema!$D$5:$AH$5,44)","v":0},{"$f":"SUMIFS($D306:$AH306,Lønskema!$D$5:$AH$5,45)","v":0},{"$f":"SUMIFS($D306:$AH306,Lønskema!$D$5:$AH$5,46)","v":0},{"$f":"SUMIFS($D306:$AH306,Lønskema!$D$5:$AH$5,47)","v":0},{"$f":"SUMIFS($D306:$AH306,Lønskema!$D$5:$AH$5,48)","v":0},{"$f":"SUMIFS($D306:$AH306,Lønskema!$D$5:$AH$5,49)","v":0},{"$f":"SUMIFS($D306:$AH306,Lønskema!$D$5:$AH$5,50)","v":0},{"$f":"SUMIFS($D306:$AH306,Lønskema!$D$5:$AH$5,51)","v":0},{"$f":"SUMIFS($D306:$AH306,Lønskema!$D$5:$AH$5,52)","v":0}]
["Ferie - syg  mm. Registreres i denne række"]
[null,"Aften"]
[null,"Nat"]
[null,"Helligdag",null,{"$f":"_xlfn.IFS(D$7=\"søndag\",\"-\",D$6=\"skærtd\",\"h\",D$6=\"langfd\",\"h\",D$6=\"1påsked\",\"h\",D$6=\"2påsked\",\"h\",D$6=\"kr.himmelfart\",\"h\",D$6=\"1pinse\",\"h\",D$6=\"2pinse\",\"h\",D$6=\"1juledag\",\"h\",D$6=\"2juledag\",\"h\",D$6=\"nytårsdag\",\"h\")","v":{"$error":"#N/A"}},{"$f":"_xlfn.IFS(E$7=\"søndag\",\"-\",E$6=\"skærtd\",\"h\",E$6=\"langfd\",\"h\",E$6=\"1påsked\",\"h\",E$6=\"2påsked\",\"h\",E$6=\"kr.himmelfart\",\"h\",E$6=\"1pinse\",\"h\",E$6=\"2pinse\",\"h\",E$6=\"1juledag\",\"h\",E$6=\"2juledag\",\"h\",E$6=\"nytårsdag\",\"h\")","v":{"$error":"#N/A"}},{"$f":"_xlfn.IFS(F$7=\"søndag\",\"-\",F$6=\"skærtd\",\"h\",F$6=\"langfd\",\"h\",F$6=\"1påsked\",\"h\",F$6=\"2påsked\",\"h\",F$6=\"kr.himmelfart\",\"h\",F$6=\"1pinse\",\"h\",F$6=\"2pinse\",\"h\",F$6=\"1juledag\",\"h\",F$6=\"2juledag\",\"h\",F$6=\"nytårsdag\",\"h\")","v":{"$error":"#N/A"}},{"$f":"_xlfn.IFS(G$7=\"søndag\",\"-\",G$6=\"skærtd\",\"h\",G$6=\"langfd\",\"h\",G$6=\"1påsked\",\"h\",G$6=\"2påsked\",\"h\",G$6=\"kr.himmelfart\",\"h\",G$6=\"1pinse\",\"h\",G$6=\"2pinse\",\"h\",G$6=\"1juledag\",\"h\",G$6=\"2juledag\",\"h\",G$6=\"nytårsdag\",\"h\")","v":{"$error":"#N/A"}},{"$f":"_xlfn.IFS(H$7=\"søndag\",\"-\",H$6=\"skærtd\",\"h\",H$6=\"langfd\",\"h\",H$6=\"1påsked\",\"h\",H$6=\"2påsked\",\"h\",H$6=\"kr.himmelfart\",\"h\",H$6=\"1pinse\",\"h\",H$6=\"2pinse\",\"h\",H$6=\"1juledag\",\"h\",H$6=\"2juledag\",\"h\",H$6=\"nytårsdag\",\"h\")","v":{"$error":"#N/A"}},{"$f":"_xlfn.IFS(I$7=\"søndag\",\"-\",I$6=\"skærtd\",\"h\",I$6=\"langfd\",\"h\",I$6=\"1påsked\",\"h\",I$6=\"2påsked\",\"h\",I$6=\"kr.himmelfart\",\"h\",I$6=\"1pinse\",\"h\",I$6=\"2pinse\",\"h\",I$6=\"1juledag\",\"h\",I$6=\"2juledag\",\"h\",I$6=\"nytårsdag\",\"h\")","v":"-"},{"$f":"_xlfn.IFS(J$7=\"søndag\",\"-\",J$6=\"skærtd\",\"h\",J$6=\"langfd\",\"h\",J$6=\"1påsked\",\"h\",J$6=\"2påsked\",\"h\",J$6=\"kr.himmelfart\",\"h\",J$6=\"1pinse\",\"h\",J$6=\"2pinse\",\"h\",J$6=\"1juledag\",\"h\",J$6=\"2juledag\",\"h\",J$6=\"nytårsdag\",\"h\")","v":{"$error":"#N/A"}},{"$f":"_xlfn.IFS(K$7=\"søndag\",\"-\",K$6=\"skærtd\",\"h\",K$6=\"langfd\",\"h\",K$6=\"1påsked\",\"h\",K$6=\"2påsked\",\"h\",K$6=\"kr.himmelfart\",\"h\",K$6=\"1pinse\",\"h\",K$6=\"2pinse\",\"h\",K$6=\"1juledag\",\"h\",K$6=\"2juledag\",\"h\",K$6=\"nytårsdag\",\"h\")","v":{"$error":"#N/A"}},{"$f":"_xlfn.IFS(L$7=\"søndag\",\"-\",L$6=\"skærtd\",\"h\",L$6=\"langfd\",\"h\",L$6=\"1påsked\",\"h\",L$6=\"2påsked\",\"h\",L$6=\"kr.himmelfart\",\"h\",L$6=\"1pinse\",\"h\",L$6=\"2pinse\",\"h\",L$6=\"1juledag\",\"h\",L$6=\"2juledag\",\"h\",L$6=\"nytårsdag\",\"h\")","v":{"$error":"#N/A"}},{"$f":"_xlfn.IFS(M$7=\"søndag\",\"-\",M$6=\"skærtd\",\"h\",M$6=\"langfd\",\"h\",M$6=\"1påsked\",\"h\",M$6=\"2påsked\",\"h\",M$6=\"kr.himmelfart\",\"h\",M$6=\"1pinse\",\"h\",M$6=\"2pinse\",\"h\",M$6=\"1juledag\",\"h\",M$6=\"2juledag\",\"h\",M$6=\"nytårsdag\",\"h\")","v":{"$error":"#N/A"}},{"$f":"_xlfn.IFS(N$7=\"søndag\",\"-\",N$6=\"skærtd\",\"h\",N$6=\"langfd\",\"h\",N$6=\"1påsked\",\"h\",N$6=\"2påsked\",\"h\",N$6=\"kr.himmelfart\",\"h\",N$6=\"1pinse\",\"h\",N$6=\"2pinse\",\"h\",N$6=\"1juledag\",\"h\",N$6=\"2juledag\",\"h\",N$6=\"nytårsdag\",\"h\")","v":{"$error":"#N/A"}},{"$f":"_xlfn.IFS(O$7=\"søndag\",\"-\",O$6=\"skærtd\",\"h\",O$6=\"langfd\",\"h\",O$6=\"1påsked\",\"h\",O$6=\"2påsked\",\"h\",O$6=\"kr.himmelfart\",\"h\",O$6=\"1pinse\",\"h\",O$6=\"2pinse\",\"h\",O$6=\"1juledag\",\"h\",O$6=\"2juledag\",\"h\",O$6=\"nytårsdag\",\"h\")","v":{"$error":"#N/A"}},{"$f":"_xlfn.IFS(P$7=\"søndag\",\"-\",P$6=\"skærtd\",\"h\",P$6=\"langfd\",\"h\",P$6=\"1påsked\",\"h\",P$6=\"2påsked\",\"h\",P$6=\"kr.himmelfart\",\"h\",P$6=\"1pinse\",\"h\",P$6=\"2pinse\",\"h\",P$6=\"1juledag\",\"h\",P$6=\"2juledag\",\"h\",P$6=\"nytårsdag\",\"h\")","v":"-"},{"$f":"_xlfn.IFS(Q$7=\"søndag\",\"-\",Q$6=\"skærtd\",\"h\",Q$6=\"langfd\",\"h\",Q$6=\"1påsked\",\"h\",Q$6=\"2påsked\",\"h\",Q$6=\"kr.himmelfart\",\"h\",Q$6=\"1pinse\",\"h\",Q$6=\"2pinse\",\"h\",Q$6=\"1juledag\",\"h\",Q$6=\"2juledag\",\"h\",Q$6=\"nytårsdag\",\"h\")","v":{"$error":"#N/A"}},{"$f":"_xlfn.IFS(R$7=\"søndag\",\"-\",R$6=\"skærtd\",\"h\",R$6=\"langfd\",\"h\",R$6=\"1påsked\",\"h\",R$6=\"2påsked\",\"h\",R$6=\"kr.himmelfart\",\"h\",R$6=\"1pinse\",\"h\",R$6=\"2pinse\",\"h\",R$6=\"1juledag\",\"h\",R$6=\"2juledag\",\"h\",R$6=\"nytårsdag\",\"h\")","v":{"$error":"#N/A"}},{"$f":"_xlfn.IFS(S$7=\"søndag\",\"-\",S$6=\"skærtd\",\"h\",S$6=\"langfd\",\"h\",S$6=\"1påsked\",\"h\",S$6=\"2påsked\",\"h\",S$6=\"kr.himmelfart\",\"h\",S$6=\"1pinse\",\"h\",S$6=\"2pinse\",\"h\",S$6=\"1juledag\",\"h\",S$6=\"2juledag\",\"h\",S$6=\"nytårsdag\",\"h\")","v":{"$error":"#N/A"}},{"$f":"_xlfn.IFS(T$7=\"søndag\",\"-\",T$6=\"skærtd\",\"h\",T$6=\"langfd\",\"h\",T$6=\"1påsked\",\"h\",T$6=\"2påsked\",\"h\",T$6=\"kr.himmelfart\",\"h\",T$6=\"1pinse\",\"h\",T$6=\"2pinse\",\"h\",T$6=\"1juledag\",\"h\",T$6=\"2juledag\",\"h\",T$6=\"nytårsdag\",\"h\")","v":"h"},{"$f":"_xlfn.IFS(U$7=\"søndag\",\"-\",U$6=\"skærtd\",\"h\",U$6=\"langfd\",\"h\",U$6=\"1påsked\",\"h\",U$6=\"2påsked\",\"h\",U$6=\"kr.himmelfart\",\"h\",U$6=\"1pinse\",\"h\",U$6=\"2pinse\",\"h\",U$6=\"1juledag\",\"h\",U$6=\"2juledag\",\"h\",U$6=\"nytårsdag\",\"h\")","v":"h"},{"$f":"_xlfn.IFS(V$7=\"søndag\",\"-\",V$6=\"skærtd\",\"h\",V$6=\"langfd\",\"h\",V$6=\"1påsked\",\"h\",V$6=\"2påsked\",\"h\",V$6=\"kr.himmelfart\",\"h\",V$6=\"1pinse\",\"h\",V$6=\"2pinse\",\"h\",V$6=\"1juledag\",\"h\",V$6=\"2juledag\",\"h\",V$6=\"nytårsdag\",\"h\")","v":{"$error":"#N/A"}},{"$f":"_xlfn.IFS(W$7=\"søndag\",\"-\",W$6=\"skærtd\",\"h\",W$6=\"langfd\",\"h\",W$6=\"1påsked\",\"h\",W$6=\"2påsked\",\"h\",W$6=\"kr.himmelfart\",\"h\",W$6=\"1pinse\",\"h\",W$6=\"2pinse\",\"h\",W$6=\"1juledag\",\"h\",W$6=\"2juledag\",\"h\",W$6=\"nytårsdag\",\"h\")","v":"-"},{"$f":"_xlfn.IFS(X$7=\"søndag\",\"-\",X$6=\"skærtd\",\"h\",X$6=\"langfd\",\"h\",X$6=\"1påsked\",\"h\",X$6=\"2påsked\",\"h\",X$6=\"kr.himmelfart\",\"h\",X$6=\"1pinse\",\"h\",X$6=\"2pinse\",\"h\",X$6=\"1juledag\",\"h\",X$6=\"2juledag\",\"h\",X$6=\"nytårsdag\",\"h\")","v":"h"},{"$f":"_xlfn.IFS(Y$7=\"søndag\",\"-\",Y$6=\"skærtd\",\"h\",Y$6=\"langfd\",\"h\",Y$6=\"1påsked\",\"h\",Y$6=\"2påsked\",\"h\",Y$6=\"kr.himmelfart\",\"h\",Y$6=\"1pinse\",\"h\",Y$6=\"2pinse\",\"h\",Y$6=\"1juledag\",\"h\",Y$6=\"2juledag\",\"h\",Y$6=\"nytårsdag\",\"h\")","v":{"$error":"#N/A"}},{"$f":"_xlfn.IFS(Z$7=\"søndag\",\"-\",Z$6=\"skærtd\",\"h\",Z$6=\"langfd\",\"h\",Z$6=\"1påsked\",\"h\",Z$6=\"2påsked\",\"h\",Z$6=\"kr.himmelfart\",\"h\",Z$6=\"1pinse\",\"h\",Z$6=\"2pinse\",\"h\",Z$6=\"1juledag\",\"h\",Z$6=\"2juledag\",\"h\",Z$6=\"nytårsdag\",\"h\")","v":{"$error":"#N/A"}},{"$f":"_xlfn.IFS(AA$7=\"søndag\",\"-\",AA$6=\"skærtd\",\"h\",AA$6=\"langfd\",\"h\",AA$6=\"1påsked\",\"h\",AA$6=\"2påsked\",\"h\",AA$6=\"kr.himmelfart\",\"h\",AA$6=\"1pinse\",\"h\",AA$6=\"2pinse\",\"h\",AA$6=\"1juledag\",\"h\",AA$6=\"2juledag\",\"h\",AA$6=\"nytårsdag\",\"h\")","v":{"$error":"#N/A"}},{"$f":"_xlfn.IFS(AB$7=\"søndag\",\"-\",AB$6=\"skærtd\",\"h\",AB$6=\"langfd\",\"h\",AB$6=\"1påsked\",\"h\",AB$6=\"2påsked\",\"h\",AB$6=\"kr.himmelfart\",\"h\",AB$6=\"1pinse\",\"h\",AB$6=\"2pinse\",\"h\",AB$6=\"1juledag\",\"h\",AB$6=\"2juledag\",\"h\",AB$6=\"nytårsdag\",\"h\")","v":{"$error":"#N/A"}},{"$f":"_xlfn.IFS(AC$7=\"søndag\",\"-\",AC$6=\"skærtd\",\"h\",AC$6=\"langfd\",\"h\",AC$6=\"1påsked\",\"h\",AC$6=\"2påsked\",\"h\",AC$6=\"kr.himmelfart\",\"h\",AC$6=\"1pinse\",\"h\",AC$6=\"2pinse\",\"h\",AC$6=\"1juledag\",\"h\",AC$6=\"2juledag\",\"h\",AC$6=\"nytårsdag\",\"h\")","v":{"$error":"#N/A"}},{"$f":"_xlfn.IFS(AD$7=\"søndag\",\"-\",AD$6=\"skærtd\",\"h\",AD$6=\"langfd\",\"h\",AD$6=\"1påsked\",\"h\",AD$6=\"2påsked\",\"h\",AD$6=\"kr.himmelfart\",\"h\",AD$6=\"1pinse\",\"h\",AD$6=\"2pinse\",\"h\",AD$6=\"1juledag\",\"h\",AD$6=\"2juledag\",\"h\",AD$6=\"nytårsdag\",\"h\")","v":"-"},{"$f":"_xlfn.IFS(AE$7=\"søndag\",\"-\",AE$6=\"skærtd\",\"h\",AE$6=\"langfd\",\"h\",AE$6=\"1påsked\",\"h\",AE$6=\"2påsked\",\"h\",AE$6=\"kr.himmelfart\",\"h\",AE$6=\"1pinse\",\"h\",AE$6=\"2pinse\",\"h\",AE$6=\"1juledag\",\"h\",AE$6=\"2juledag\",\"h\",AE$6=\"nytårsdag\",\"h\")","v":{"$error":"#N/A"}},{"$f":"_xlfn.IFS(AF$7=\"søndag\",\"-\",AF$6=\"skærtd\",\"h\",AF$6=\"langfd\",\"h\",AF$6=\"1påsked\",\"h\",AF$6=\"2påsked\",\"h\",AF$6=\"kr.himmelfart\",\"h\",AF$6=\"1pinse\",\"h\",AF$6=\"2pinse\",\"h\",AF$6=\"1juledag\",\"h\",AF$6=\"2juledag\",\"h\",AF$6=\"nytårsdag\",\"h\")","v":{"$error":"#N/A"}},{"$f":"_xlfn.IFS(AG$7=\"søndag\",\"-\",AG$6=\"skærtd\",\"h\",AG$6=\"langfd\",\"h\",AG$6=\"1påsked\",\"h\",AG$6=\"2påsked\",\"h\",AG$6=\"kr.himmelfart\",\"h\",AG$6=\"1pinse\",\"h\",AG$6=\"2pinse\",\"h\",AG$6=\"1juledag\",\"h\",AG$6=\"2juledag\",\"h\",AG$6=\"nytårsdag\",\"h\")","v":{"$error":"#N/A"}},{"$f":"_xlfn.IFS(AH$7=\"søndag\",\"-\",AH$6=\"skærtd\",\"h\",AH$6=\"langfd\",\"h\",AH$6=\"1påsked\",\"h\",AH$6=\"2påsked\",\"h\",AH$6=\"kr.himmelfart\",\"h\",AH$6=\"1pinse\",\"h\",AH$6=\"2pinse\",\"h\",AH$6=\"1juledag\",\"h\",AH$6=\"2juledag\",\"h\",AH$6=\"nytårsdag\",\"h\")","v":{"$error":"#N/A"}}]
[null,"Sygedage",null,{"$f":"IF(D307=\"s\",D306,\"-\")","v":"-"},{"$f":"IF(E307=\"s\",E306,\"-\")","v":"-"},"-","-","-","-","-","-","-","-","-","-","-","-","-","-","-","-","-","-","-","-","-","-","-","-","-","-","-","-","-"]
[null,null,{"$f":"$C$15","v":14},"Timer uge",null,null,{"$f":"SUMIF($D$5:$AH$5,C312,D306:AH306)","v":0},{"$f":"$H$15","v":15},{"$f":"D312","v":"Timer uge"},null,null,null,null,{"$f":"SUMIF($D$5:$AH$5,H312,D306:AH306)","v":0},{"$f":"$O$15","v":16},{"$f":"D312","v":"Timer uge"},null,null,null,null,{"$f":"_xlfn.IFS($O312=$BV305,$BV306,$O312=$BW305,Lønskema!$BW306,$O312=$BX305,$BX306,$O312=$BY305,$BY306,$O312=$BZ305,$BZ306,$O312=$CA305,$CA306,$O312=$CB305,$CB306,$O312=$CC305,$CC306,$O312=$CD305,$CD306,$O312=$CE305,$CE306,$O312=$CF305,$CF306,$O312=$CG305,$CF306,$O312=$CG305,$CG306,$O312=$CH305,$CH306,$O312=$CI305,$CI306,$O312=$CJ305,$CJ306,$O312=$CK305,$CK306,$O312=$CL305,$CL306,$O312=$CM305,$CM306,$O312=$CN305,$CN306,$O312=$CO305,$CO306,$O312=$CP305,$CP306,$O312=$CQ305,$CQ306,$O312=$CR305,$CR306,$O312=$CS305,$CS306,$O312=$CT305,$CT306,$O312=$CU305,$CU306,$O312=$CV305,$CV306,$O312=$CW305,$CW306,$O312=$CX305,$CX306,$O312=$CY305,$CY306,$O312=$CZ305,$CZ306,$O312=$DA305,$DA306,$O312=$DB305,$DB306,$O312=$DC305,$DC306,$O312=$DD305,$DD306,$O312=$DE305,$DE306,$O312=$DF305,$DF306,$O312=$DG305,$DG306,$O312=$DH305,$DH306,$O312=$DI305,$DI306,$O312=$DJ305,$DJ306,$O312=$DK305,$DK306,$O312=$DL305,$DL306,$O312=$DM305,$DM306,$O312=$DN305,$DN306,$O312=$DO305,$DO306,$O312=$DP305,$DP306,$O312=$DQ305,$DQ306,$O312=$DR305,$DR306,$O312=$DS305,$DS306,$O312=$DT305,$DT306,$O312=$DU305,$DU306)","v":0},{"$f":"$V$15","v":17},{"$f":"D312","v":"Timer uge"},null,null,null,null,{"$f":"SUMIF($D$5:$AH$5,V312,D306:AH306)","v":0},{"$f":"$AC$15","v":18},{"$f":"D312","v":"Timer uge"},null,null,null,{"$f":"SUMIF($D$5:$AH$5,AC312,D306:AH306)","v":0},{"$f":"$AI$15","v":19},{"$f":"D312","v":"Timer uge"},null,null,null,{"$f":"SUMIF($D$5:$AH$5,AI312,D306:AH306)","v":0}]
[null,null,null,"Overarbejde 50% 1-3 timer",null,null,{"$f":"IF($G312>37,$G312-37-$G314,0)","v":0},null,{"$f":"D313","v":"Overarbejde 50% 1-3 timer"},null,null,null,null,{"$f":"IF($N312>37,$N312-37-$N314,0)","v":0},null,{"$f":"D313","v":"Overarbejde 50% 1-3 timer"},null,null,null,null,{"$f":"IF($U312>37,$U312-37-$U314,0)","v":0},null,{"$f":"D313","v":"Overarbejde 50% 1-3 timer"},null,null,null,null,{"$f":"IF($AB312>37,$AB312-37-$AB314,0)","v":0},null,{"$f":"D313","v":"Overarbejde 50% 1-3 timer"},null,null,null,{"$f":"IF($AH312>37,$AH312-37-$AH314,0)","v":0},null,{"$f":"D313","v":"Overarbejde 50% 1-3 timer"},null,null,null,{"$f":"IF($AH312>37,$AH312-37-$AH314,0)","v":0}]
[null,null,null,"Overarbejde 100% over 3 timer",null,null,{"$f":"IF($G312>40,$G312-40,0)","v":0},null,"Overarbejde 100% over 3 timer",null,null,null,null,{"$f":"IF($N312>40,$N312-40,0)","v":0},null,"Overarbejde 100% over 3 timer",null,null,null,null,{"$f":"IF($U312>40,$U312-40,0)","v":0},null,"Overarbejde 100% over 3 timer",null,null,null,null,{"$f":"IF($AB312>40,$AB312-40,0)","v":0},null,"Overarbejde 100% over 3 timer",null,null,null,{"$f":"IF($AH312>40,$AH312-40,0)","v":0},null,{"$f":"D314","v":"Overarbejde 100% over 3 timer"},null,null,null,{"$f":"IF($AH312>40,$AH312-40,0)","v":0},null,null,null,null,null,null,null,null,null,null,null,null,null,null,null,null,null,null,null,null,null,null,null,null,null,null,null,null,null,null,null,null,null,1,2,3,4,5,6,7,8,9,10,11,12,13,14,15,16,17,18,19,20,21,22,23,24,25,26,27,28,29,30,31,32,33,34,35,36,37,38,39,40,41,42,43,44,45,46,47,48,49,50,51,52]
[{"$f":"Medarbejder!A37","v":0},{"$f":"Medarbejder!B37","v":0},{"$f":"Medarbejder!C37","v":"-"},null,null,null,null,null,null,null,null,null,null,null,null,null,null,null,null,null,null,null,null,null,null,null,null,null,null,null,null,null,null,null,null,null,null,null,null,null,null,{"$f":"AO315*Overenskomst!$C$22","v":0},{"$f":"SUM($D315:$AH315)-$BA315-$BF315-$BD315","v":0},{"$f":"IF(Medarbejder!$J37=\"ja\",$AQ315,\"-\")","v":"-"},{"$f":"SUMIF($D$7:$AH$7,\"søndag\",$D315:$AH315)+$AT315","v":0},{"$f":"SUMIFS($D315:$AH315,$D319:$AH319,\"H\")","v":0},{"$f":"G322+N322+U322+AB322+AH322+AN322","v":0},{"$f":"G323+N323+U323+AB323+AH323+AN323","v":0},{"$f":"SUM($D317:$AH317)","v":0},{"$f":"SUM($D318:$AH318)","v":0},{"$f":"COUNTIFS($D316:$AH316,\"F\")","v":0},{"$f":"COUNTIFS($D316:$AH316,\"S\")","v":0},{"$f":"SUMIF($D316:$AH316,\"S\",$D320:$AH320)","v":0},{"$f":"COUNTIFS($D316:$AH316,\"p\")","v":0},{"$f":"COUNTIFS($D316:$AH316,\"BS\")","v":0},{"$f":"SUMIF(D316:AH316,\"bs\",$D315:$AH315)","v":0},{"$f":"COUNTIFS($D316:$AH316,\"FF\")","v":0},{"$f":"SUMIF($D316:$AH316,\"g\",$D315:$AH315)","v":0},{"$f":"Medarbejder!$N34","v":"-"},{"$f":"SUM($BL315:$BU315)","v":4},null,null,null,{"$f":"COUNTIFS($D$6:$AH$6,\"skærtd\")","v":1},{"$f":"COUNTIFS($D$6:$AH$6,\"langfd\")","v":1},{"$f":"COUNTIFS($D$6:$AH$6,\"1påsked\")","v":1},{"$f":"COUNTIFS($D$6:$AH$6,\"2påsked\")","v":1},{"$f":"COUNTIFS($D$6:$AH$6,\"kr.himmelfart\")","v":0},{"$f":"COUNTIFS($D$6:$AH$6,\"1pinse\")","v":0},{"$f":"COUNTIFS($D$6:$AH$6,\"2pinse\")","v":0},{"$f":"COUNTIFS($D$6:$AH$6,\"1juledag\")","v":0},{"$f":"COUNTIFS($D$6:$AH$6,\"2juledag\")","v":0},{"$f":"COUNTIFS($D$6:$AH$6,\"nytårsdag\")","v":0},{"$f":"SUMIFS($D315:$AH315,Lønskema!$D$5:$AH$5,1)","v":0},{"$f":"SUMIFS($D315:$AH315,Lønskema!$D$5:$AH$5,2)","v":0},{"$f":"SUMIFS($D315:$AH315,Lønskema!$D$5:$AH$5,3)","v":0},{"$f":"SUMIFS($D315:$AH315,Lønskema!$D$5:$AH$5,4)","v":0},{"$f":"SUMIFS($D315:$AH315,Lønskema!$D$5:$AH$5,5)","v":0},{"$f":"SUMIFS($D315:$AH315,Lønskema!$D$5:$AH$5,6)","v":0},{"$f":"SUMIFS($D315:$AH315,Lønskema!$D$5:$AH$5,7)","v":0},{"$f":"SUMIFS($D315:$AH315,Lønskema!$D$5:$AH$5,8)","v":0},{"$f":"SUMIFS($D315:$AH315,Lønskema!$D$5:$AH$5,9)","v":0},{"$f":"SUMIFS($D315:$AH315,Lønskema!$D$5:$AH$5,10)","v":0},{"$f":"SUMIFS($D315:$AH315,Lønskema!$D$5:$AH$5,11)","v":0},{"$f":"SUMIFS($D315:$AH315,Lønskema!$D$5:$AH$5,12)","v":0},{"$f":"SUMIFS($D315:$AH315,Lønskema!$D$5:$AH$5,13)","v":0},{"$f":"SUMIFS($D315:$AH315,Lønskema!$D$5:$AH$5,14)","v":0},{"$f":"SUMIFS($D315:$AH315,Lønskema!$D$5:$AH$5,15)","v":0},{"$f":"SUMIFS($D315:$AH315,Lønskema!$D$5:$AH$5,16)","v":0},{"$f":"SUMIFS($D315:$AH315,Lønskema!$D$5:$AH$5,17)","v":0},{"$f":"SUMIFS($D315:$AH315,Lønskema!$D$5:$AH$5,18)","v":0},{"$f":"SUMIFS($D315:$AH315,Lønskema!$D$5:$AH$5,19)","v":0},{"$f":"SUMIFS($D315:$AH315,Lønskema!$D$5:$AH$5,20)","v":0},{"$f":"SUMIFS($D315:$AH315,Lønskema!$D$5:$AH$5,21)","v":0},{"$f":"SUMIFS($D315:$AH315,Lønskema!$D$5:$AH$5,22)","v":0},{"$f":"SUMIFS($D315:$AH315,Lønskema!$D$5:$AH$5,23)","v":0},{"$f":"SUMIFS($D315:$AH315,Lønskema!$D$5:$AH$5,24)","v":0},{"$f":"SUMIFS($D315:$AH315,Lønskema!$D$5:$AH$5,25)","v":0},{"$f":"SUMIFS($D315:$AH315,Lønskema!$D$5:$AH$5,26)","v":0},{"$f":"SUMIFS($D315:$AH315,Lønskema!$D$5:$AH$5,27)","v":0},{"$f":"SUMIFS($D315:$AH315,Lønskema!$D$5:$AH$5,28)","v":0},{"$f":"SUMIFS($D315:$AH315,Lønskema!$D$5:$AH$5,29)","v":0},{"$f":"SUMIFS($D315:$AH315,Lønskema!$D$5:$AH$5,30)","v":0},{"$f":"SUMIFS($D315:$AH315,Lønskema!$D$5:$AH$5,31)","v":0},{"$f":"SUMIFS($D315:$AH315,Lønskema!$D$5:$AH$5,32)","v":0},{"$f":"SUMIFS($D315:$AH315,Lønskema!$D$5:$AH$5,33)","v":0},{"$f":"SUMIFS($D315:$AH315,Lønskema!$D$5:$AH$5,34)","v":0},{"$f":"SUMIFS($D315:$AH315,Lønskema!$D$5:$AH$5,35)","v":0},{"$f":"SUMIFS($D315:$AH315,Lønskema!$D$5:$AH$5,36)","v":0},{"$f":"SUMIFS($D315:$AH315,Lønskema!$D$5:$AH$5,37)","v":0},{"$f":"SUMIFS($D315:$AH315,Lønskema!$D$5:$AH$5,38)","v":0},{"$f":"SUMIFS($D315:$AH315,Lønskema!$D$5:$AH$5,39)","v":0},{"$f":"SUMIFS($D315:$AH315,Lønskema!$D$5:$AH$5,40)","v":0},{"$f":"SUMIFS($D315:$AH315,Lønskema!$D$5:$AH$5,41)","v":0},{"$f":"SUMIFS($D315:$AH315,Lønskema!$D$5:$AH$5,42)","v":0},{"$f":"SUMIFS($D315:$AH315,Lønskema!$D$5:$AH$5,43)","v":0},{"$f":"SUMIFS($D315:$AH315,Lønskema!$D$5:$AH$5,44)","v":0},{"$f":"SUMIFS($D315:$AH315,Lønskema!$D$5:$AH$5,45)","v":0},{"$f":"SUMIFS($D315:$AH315,Lønskema!$D$5:$AH$5,46)","v":0},{"$f":"SUMIFS($D315:$AH315,Lønskema!$D$5:$AH$5,47)","v":0},{"$f":"SUMIFS($D315:$AH315,Lønskema!$D$5:$AH$5,48)","v":0},{"$f":"SUMIFS($D315:$AH315,Lønskema!$D$5:$AH$5,49)","v":0},{"$f":"SUMIFS($D315:$AH315,Lønskema!$D$5:$AH$5,50)","v":0},{"$f":"SUMIFS($D315:$AH315,Lønskema!$D$5:$AH$5,51)","v":0},{"$f":"SUMIFS($D315:$AH315,Lønskema!$D$5:$AH$5,52)","v":0}]
["Ferie - syg  mm. Registreres i denne række"]
[null,"Aften"]
[null,"Nat"]
[null,"Helligdag",null,{"$f":"_xlfn.IFS(D$7=\"søndag\",\"-\",D$6=\"skærtd\",\"h\",D$6=\"langfd\",\"h\",D$6=\"1påsked\",\"h\",D$6=\"2påsked\",\"h\",D$6=\"kr.himmelfart\",\"h\",D$6=\"1pinse\",\"h\",D$6=\"2pinse\",\"h\",D$6=\"1juledag\",\"h\",D$6=\"2juledag\",\"h\",D$6=\"nytårsdag\",\"h\")","v":{"$error":"#N/A"}},{"$f":"_xlfn.IFS(E$7=\"søndag\",\"-\",E$6=\"skærtd\",\"h\",E$6=\"langfd\",\"h\",E$6=\"1påsked\",\"h\",E$6=\"2påsked\",\"h\",E$6=\"kr.himmelfart\",\"h\",E$6=\"1pinse\",\"h\",E$6=\"2pinse\",\"h\",E$6=\"1juledag\",\"h\",E$6=\"2juledag\",\"h\",E$6=\"nytårsdag\",\"h\")","v":{"$error":"#N/A"}},{"$f":"_xlfn.IFS(F$7=\"søndag\",\"-\",F$6=\"skærtd\",\"h\",F$6=\"langfd\",\"h\",F$6=\"1påsked\",\"h\",F$6=\"2påsked\",\"h\",F$6=\"kr.himmelfart\",\"h\",F$6=\"1pinse\",\"h\",F$6=\"2pinse\",\"h\",F$6=\"1juledag\",\"h\",F$6=\"2juledag\",\"h\",F$6=\"nytårsdag\",\"h\")","v":{"$error":"#N/A"}},{"$f":"_xlfn.IFS(G$7=\"søndag\",\"-\",G$6=\"skærtd\",\"h\",G$6=\"langfd\",\"h\",G$6=\"1påsked\",\"h\",G$6=\"2påsked\",\"h\",G$6=\"kr.himmelfart\",\"h\",G$6=\"1pinse\",\"h\",G$6=\"2pinse\",\"h\",G$6=\"1juledag\",\"h\",G$6=\"2juledag\",\"h\",G$6=\"nytårsdag\",\"h\")","v":{"$error":"#N/A"}},{"$f":"_xlfn.IFS(H$7=\"søndag\",\"-\",H$6=\"skærtd\",\"h\",H$6=\"langfd\",\"h\",H$6=\"1påsked\",\"h\",H$6=\"2påsked\",\"h\",H$6=\"kr.himmelfart\",\"h\",H$6=\"1pinse\",\"h\",H$6=\"2pinse\",\"h\",H$6=\"1juledag\",\"h\",H$6=\"2juledag\",\"h\",H$6=\"nytårsdag\",\"h\")","v":{"$error":"#N/A"}},{"$f":"_xlfn.IFS(I$7=\"søndag\",\"-\",I$6=\"skærtd\",\"h\",I$6=\"langfd\",\"h\",I$6=\"1påsked\",\"h\",I$6=\"2påsked\",\"h\",I$6=\"kr.himmelfart\",\"h\",I$6=\"1pinse\",\"h\",I$6=\"2pinse\",\"h\",I$6=\"1juledag\",\"h\",I$6=\"2juledag\",\"h\",I$6=\"nytårsdag\",\"h\")","v":"-"},{"$f":"_xlfn.IFS(J$7=\"søndag\",\"-\",J$6=\"skærtd\",\"h\",J$6=\"langfd\",\"h\",J$6=\"1påsked\",\"h\",J$6=\"2påsked\",\"h\",J$6=\"kr.himmelfart\",\"h\",J$6=\"1pinse\",\"h\",J$6=\"2pinse\",\"h\",J$6=\"1juledag\",\"h\",J$6=\"2juledag\",\"h\",J$6=\"nytårsdag\",\"h\")","v":{"$error":"#N/A"}},{"$f":"_xlfn.IFS(K$7=\"søndag\",\"-\",K$6=\"skærtd\",\"h\",K$6=\"langfd\",\"h\",K$6=\"1påsked\",\"h\",K$6=\"2påsked\",\"h\",K$6=\"kr.himmelfart\",\"h\",K$6=\"1pinse\",\"h\",K$6=\"2pinse\",\"h\",K$6=\"1juledag\",\"h\",K$6=\"2juledag\",\"h\",K$6=\"nytårsdag\",\"h\")","v":{"$error":"#N/A"}},{"$f":"_xlfn.IFS(L$7=\"søndag\",\"-\",L$6=\"skærtd\",\"h\",L$6=\"langfd\",\"h\",L$6=\"1påsked\",\"h\",L$6=\"2påsked\",\"h\",L$6=\"kr.himmelfart\",\"h\",L$6=\"1pinse\",\"h\",L$6=\"2pinse\",\"h\",L$6=\"1juledag\",\"h\",L$6=\"2juledag\",\"h\",L$6=\"nytårsdag\",\"h\")","v":{"$error":"#N/A"}},{"$f":"_xlfn.IFS(M$7=\"søndag\",\"-\",M$6=\"skærtd\",\"h\",M$6=\"langfd\",\"h\",M$6=\"1påsked\",\"h\",M$6=\"2påsked\",\"h\",M$6=\"kr.himmelfart\",\"h\",M$6=\"1pinse\",\"h\",M$6=\"2pinse\",\"h\",M$6=\"1juledag\",\"h\",M$6=\"2juledag\",\"h\",M$6=\"nytårsdag\",\"h\")","v":{"$error":"#N/A"}},{"$f":"_xlfn.IFS(N$7=\"søndag\",\"-\",N$6=\"skærtd\",\"h\",N$6=\"langfd\",\"h\",N$6=\"1påsked\",\"h\",N$6=\"2påsked\",\"h\",N$6=\"kr.himmelfart\",\"h\",N$6=\"1pinse\",\"h\",N$6=\"2pinse\",\"h\",N$6=\"1juledag\",\"h\",N$6=\"2juledag\",\"h\",N$6=\"nytårsdag\",\"h\")","v":{"$error":"#N/A"}},{"$f":"_xlfn.IFS(O$7=\"søndag\",\"-\",O$6=\"skærtd\",\"h\",O$6=\"langfd\",\"h\",O$6=\"1påsked\",\"h\",O$6=\"2påsked\",\"h\",O$6=\"kr.himmelfart\",\"h\",O$6=\"1pinse\",\"h\",O$6=\"2pinse\",\"h\",O$6=\"1juledag\",\"h\",O$6=\"2juledag\",\"h\",O$6=\"nytårsdag\",\"h\")","v":{"$error":"#N/A"}},{"$f":"_xlfn.IFS(P$7=\"søndag\",\"-\",P$6=\"skærtd\",\"h\",P$6=\"langfd\",\"h\",P$6=\"1påsked\",\"h\",P$6=\"2påsked\",\"h\",P$6=\"kr.himmelfart\",\"h\",P$6=\"1pinse\",\"h\",P$6=\"2pinse\",\"h\",P$6=\"1juledag\",\"h\",P$6=\"2juledag\",\"h\",P$6=\"nytårsdag\",\"h\")","v":"-"},{"$f":"_xlfn.IFS(Q$7=\"søndag\",\"-\",Q$6=\"skærtd\",\"h\",Q$6=\"langfd\",\"h\",Q$6=\"1påsked\",\"h\",Q$6=\"2påsked\",\"h\",Q$6=\"kr.himmelfart\",\"h\",Q$6=\"1pinse\",\"h\",Q$6=\"2pinse\",\"h\",Q$6=\"1juledag\",\"h\",Q$6=\"2juledag\",\"h\",Q$6=\"nytårsdag\",\"h\")","v":{"$error":"#N/A"}},{"$f":"_xlfn.IFS(R$7=\"søndag\",\"-\",R$6=\"skærtd\",\"h\",R$6=\"langfd\",\"h\",R$6=\"1påsked\",\"h\",R$6=\"2påsked\",\"h\",R$6=\"kr.himmelfart\",\"h\",R$6=\"1pinse\",\"h\",R$6=\"2pinse\",\"h\",R$6=\"1juledag\",\"h\",R$6=\"2juledag\",\"h\",R$6=\"nytårsdag\",\"h\")","v":{"$error":"#N/A"}},{"$f":"_xlfn.IFS(S$7=\"søndag\",\"-\",S$6=\"skærtd\",\"h\",S$6=\"langfd\",\"h\",S$6=\"1påsked\",\"h\",S$6=\"2påsked\",\"h\",S$6=\"kr.himmelfart\",\"h\",S$6=\"1pinse\",\"h\",S$6=\"2pinse\",\"h\",S$6=\"1juledag\",\"h\",S$6=\"2juledag\",\"h\",S$6=\"nytårsdag\",\"h\")","v":{"$error":"#N/A"}},{"$f":"_xlfn.IFS(T$7=\"søndag\",\"-\",T$6=\"skærtd\",\"h\",T$6=\"langfd\",\"h\",T$6=\"1påsked\",\"h\",T$6=\"2påsked\",\"h\",T$6=\"kr.himmelfart\",\"h\",T$6=\"1pinse\",\"h\",T$6=\"2pinse\",\"h\",T$6=\"1juledag\",\"h\",T$6=\"2juledag\",\"h\",T$6=\"nytårsdag\",\"h\")","v":"h"},{"$f":"_xlfn.IFS(U$7=\"søndag\",\"-\",U$6=\"skærtd\",\"h\",U$6=\"langfd\",\"h\",U$6=\"1påsked\",\"h\",U$6=\"2påsked\",\"h\",U$6=\"kr.himmelfart\",\"h\",U$6=\"1pinse\",\"h\",U$6=\"2pinse\",\"h\",U$6=\"1juledag\",\"h\",U$6=\"2juledag\",\"h\",U$6=\"nytårsdag\",\"h\")","v":"h"},{"$f":"_xlfn.IFS(V$7=\"søndag\",\"-\",V$6=\"skærtd\",\"h\",V$6=\"langfd\",\"h\",V$6=\"1påsked\",\"h\",V$6=\"2påsked\",\"h\",V$6=\"kr.himmelfart\",\"h\",V$6=\"1pinse\",\"h\",V$6=\"2pinse\",\"h\",V$6=\"1juledag\",\"h\",V$6=\"2juledag\",\"h\",V$6=\"nytårsdag\",\"h\")","v":{"$error":"#N/A"}},{"$f":"_xlfn.IFS(W$7=\"søndag\",\"-\",W$6=\"skærtd\",\"h\",W$6=\"langfd\",\"h\",W$6=\"1påsked\",\"h\",W$6=\"2påsked\",\"h\",W$6=\"kr.himmelfart\",\"h\",W$6=\"1pinse\",\"h\",W$6=\"2pinse\",\"h\",W$6=\"1juledag\",\"h\",W$6=\"2juledag\",\"h\",W$6=\"nytårsdag\",\"h\")","v":"-"},{"$f":"_xlfn.IFS(X$7=\"søndag\",\"-\",X$6=\"skærtd\",\"h\",X$6=\"langfd\",\"h\",X$6=\"1påsked\",\"h\",X$6=\"2påsked\",\"h\",X$6=\"kr.himmelfart\",\"h\",X$6=\"1pinse\",\"h\",X$6=\"2pinse\",\"h\",X$6=\"1juledag\",\"h\",X$6=\"2juledag\",\"h\",X$6=\"nytårsdag\",\"h\")","v":"h"},{"$f":"_xlfn.IFS(Y$7=\"søndag\",\"-\",Y$6=\"skærtd\",\"h\",Y$6=\"langfd\",\"h\",Y$6=\"1påsked\",\"h\",Y$6=\"2påsked\",\"h\",Y$6=\"kr.himmelfart\",\"h\",Y$6=\"1pinse\",\"h\",Y$6=\"2pinse\",\"h\",Y$6=\"1juledag\",\"h\",Y$6=\"2juledag\",\"h\",Y$6=\"nytårsdag\",\"h\")","v":{"$error":"#N/A"}},{"$f":"_xlfn.IFS(Z$7=\"søndag\",\"-\",Z$6=\"skærtd\",\"h\",Z$6=\"langfd\",\"h\",Z$6=\"1påsked\",\"h\",Z$6=\"2påsked\",\"h\",Z$6=\"kr.himmelfart\",\"h\",Z$6=\"1pinse\",\"h\",Z$6=\"2pinse\",\"h\",Z$6=\"1juledag\",\"h\",Z$6=\"2juledag\",\"h\",Z$6=\"nytårsdag\",\"h\")","v":{"$error":"#N/A"}},{"$f":"_xlfn.IFS(AA$7=\"søndag\",\"-\",AA$6=\"skærtd\",\"h\",AA$6=\"langfd\",\"h\",AA$6=\"1påsked\",\"h\",AA$6=\"2påsked\",\"h\",AA$6=\"kr.himmelfart\",\"h\",AA$6=\"1pinse\",\"h\",AA$6=\"2pinse\",\"h\",AA$6=\"1juledag\",\"h\",AA$6=\"2juledag\",\"h\",AA$6=\"nytårsdag\",\"h\")","v":{"$error":"#N/A"}},{"$f":"_xlfn.IFS(AB$7=\"søndag\",\"-\",AB$6=\"skærtd\",\"h\",AB$6=\"langfd\",\"h\",AB$6=\"1påsked\",\"h\",AB$6=\"2påsked\",\"h\",AB$6=\"kr.himmelfart\",\"h\",AB$6=\"1pinse\",\"h\",AB$6=\"2pinse\",\"h\",AB$6=\"1juledag\",\"h\",AB$6=\"2juledag\",\"h\",AB$6=\"nytårsdag\",\"h\")","v":{"$error":"#N/A"}},{"$f":"_xlfn.IFS(AC$7=\"søndag\",\"-\",AC$6=\"skærtd\",\"h\",AC$6=\"langfd\",\"h\",AC$6=\"1påsked\",\"h\",AC$6=\"2påsked\",\"h\",AC$6=\"kr.himmelfart\",\"h\",AC$6=\"1pinse\",\"h\",AC$6=\"2pinse\",\"h\",AC$6=\"1juledag\",\"h\",AC$6=\"2juledag\",\"h\",AC$6=\"nytårsdag\",\"h\")","v":{"$error":"#N/A"}},{"$f":"_xlfn.IFS(AD$7=\"søndag\",\"-\",AD$6=\"skærtd\",\"h\",AD$6=\"langfd\",\"h\",AD$6=\"1påsked\",\"h\",AD$6=\"2påsked\",\"h\",AD$6=\"kr.himmelfart\",\"h\",AD$6=\"1pinse\",\"h\",AD$6=\"2pinse\",\"h\",AD$6=\"1juledag\",\"h\",AD$6=\"2juledag\",\"h\",AD$6=\"nytårsdag\",\"h\")","v":"-"},{"$f":"_xlfn.IFS(AE$7=\"søndag\",\"-\",AE$6=\"skærtd\",\"h\",AE$6=\"langfd\",\"h\",AE$6=\"1påsked\",\"h\",AE$6=\"2påsked\",\"h\",AE$6=\"kr.himmelfart\",\"h\",AE$6=\"1pinse\",\"h\",AE$6=\"2pinse\",\"h\",AE$6=\"1juledag\",\"h\",AE$6=\"2juledag\",\"h\",AE$6=\"nytårsdag\",\"h\")","v":{"$error":"#N/A"}},{"$f":"_xlfn.IFS(AF$7=\"søndag\",\"-\",AF$6=\"skærtd\",\"h\",AF$6=\"langfd\",\"h\",AF$6=\"1påsked\",\"h\",AF$6=\"2påsked\",\"h\",AF$6=\"kr.himmelfart\",\"h\",AF$6=\"1pinse\",\"h\",AF$6=\"2pinse\",\"h\",AF$6=\"1juledag\",\"h\",AF$6=\"2juledag\",\"h\",AF$6=\"nytårsdag\",\"h\")","v":{"$error":"#N/A"}},{"$f":"_xlfn.IFS(AG$7=\"søndag\",\"-\",AG$6=\"skærtd\",\"h\",AG$6=\"langfd\",\"h\",AG$6=\"1påsked\",\"h\",AG$6=\"2påsked\",\"h\",AG$6=\"kr.himmelfart\",\"h\",AG$6=\"1pinse\",\"h\",AG$6=\"2pinse\",\"h\",AG$6=\"1juledag\",\"h\",AG$6=\"2juledag\",\"h\",AG$6=\"nytårsdag\",\"h\")","v":{"$error":"#N/A"}},{"$f":"_xlfn.IFS(AH$7=\"søndag\",\"-\",AH$6=\"skærtd\",\"h\",AH$6=\"langfd\",\"h\",AH$6=\"1påsked\",\"h\",AH$6=\"2påsked\",\"h\",AH$6=\"kr.himmelfart\",\"h\",AH$6=\"1pinse\",\"h\",AH$6=\"2pinse\",\"h\",AH$6=\"1juledag\",\"h\",AH$6=\"2juledag\",\"h\",AH$6=\"nytårsdag\",\"h\")","v":{"$error":"#N/A"}}]
[null,"Sygedage",null,{"$f":"IF(D316=\"s\",D315,\"-\")","v":"-"},{"$f":"IF(E316=\"s\",E315,\"-\")","v":"-"},"-","-","-","-","-","-","-","-","-","-","-","-","-","-","-","-","-","-","-","-","-","-","-","-","-","-","-","-","-"]
[null,null,{"$f":"$C$15","v":14},"Timer uge",null,null,{"$f":"SUMIF($D$5:$AH$5,C321,D315:AH315)","v":0},{"$f":"$H$15","v":15},{"$f":"D321","v":"Timer uge"},null,null,null,null,{"$f":"SUMIF($D$5:$AH$5,H321,D315:AH315)","v":0},{"$f":"$O$15","v":16},{"$f":"D321","v":"Timer uge"},null,null,null,null,{"$f":"_xlfn.IFS($O321=$BV314,$BV315,$O321=$BW314,Lønskema!$BW315,$O321=$BX314,$BX315,$O321=$BY314,$BY315,$O321=$BZ314,$BZ315,$O321=$CA314,$CA315,$O321=$CB314,$CB315,$O321=$CC314,$CC315,$O321=$CD314,$CD315,$O321=$CE314,$CE315,$O321=$CF314,$CF315,$O321=$CG314,$CF315,$O321=$CG314,$CG315,$O321=$CH314,$CH315,$O321=$CI314,$CI315,$O321=$CJ314,$CJ315,$O321=$CK314,$CK315,$O321=$CL314,$CL315,$O321=$CM314,$CM315,$O321=$CN314,$CN315,$O321=$CO314,$CO315,$O321=$CP314,$CP315,$O321=$CQ314,$CQ315,$O321=$CR314,$CR315,$O321=$CS314,$CS315,$O321=$CT314,$CT315,$O321=$CU314,$CU315,$O321=$CV314,$CV315,$O321=$CW314,$CW315,$O321=$CX314,$CX315,$O321=$CY314,$CY315,$O321=$CZ314,$CZ315,$O321=$DA314,$DA315,$O321=$DB314,$DB315,$O321=$DC314,$DC315,$O321=$DD314,$DD315,$O321=$DE314,$DE315,$O321=$DF314,$DF315,$O321=$DG314,$DG315,$O321=$DH314,$DH315,$O321=$DI314,$DI315,$O321=$DJ314,$DJ315,$O321=$DK314,$DK315,$O321=$DL314,$DL315,$O321=$DM314,$DM315,$O321=$DN314,$DN315,$O321=$DO314,$DO315,$O321=$DP314,$DP315,$O321=$DQ314,$DQ315,$O321=$DR314,$DR315,$O321=$DS314,$DS315,$O321=$DT314,$DT315,$O321=$DU314,$DU315)","v":0},{"$f":"$V$15","v":17},{"$f":"D321","v":"Timer uge"},null,null,null,null,{"$f":"SUMIF($D$5:$AH$5,V321,D315:AH315)","v":0},{"$f":"$AC$15","v":18},{"$f":"D321","v":"Timer uge"},null,null,null,{"$f":"SUMIF($D$5:$AH$5,AC321,D315:AH315)","v":0},{"$f":"$AI$15","v":19},{"$f":"D321","v":"Timer uge"},null,null,null,{"$f":"SUMIF($D$5:$AH$5,AI321,D315:AH315)","v":0}]
[null,null,null,"Overarbejde 50% 1-3 timer",null,null,{"$f":"IF($G321>37,$G321-37-$G323,0)","v":0},null,{"$f":"D322","v":"Overarbejde 50% 1-3 timer"},null,null,null,null,{"$f":"IF($N321>37,$N321-37-$N323,0)","v":0},null,{"$f":"D322","v":"Overarbejde 50% 1-3 timer"},null,null,null,null,{"$f":"IF($U321>37,$U321-37-$U323,0)","v":0},null,{"$f":"D322","v":"Overarbejde 50% 1-3 timer"},null,null,null,null,{"$f":"IF($AB321>37,$AB321-37-$AB323,0)","v":0},null,{"$f":"D322","v":"Overarbejde 50% 1-3 timer"},null,null,null,{"$f":"IF($AH321>37,$AH321-37-$AH323,0)","v":0},null,{"$f":"D322","v":"Overarbejde 50% 1-3 timer"},null,null,null,{"$f":"IF($AH321>37,$AH321-37-$AH323,0)","v":0}]
[null,null,null,"Overarbejde 100% over 3 timer",null,null,{"$f":"IF($G321>40,$G321-40,0)","v":0},null,"Overarbejde 100% over 3 timer",null,null,null,null,{"$f":"IF($N321>40,$N321-40,0)","v":0},null,"Overarbejde 100% over 3 timer",null,null,null,null,{"$f":"IF($U321>40,$U321-40,0)","v":0},null,"Overarbejde 100% over 3 timer",null,null,null,null,{"$f":"IF($AB321>40,$AB321-40,0)","v":0},null,"Overarbejde 100% over 3 timer",null,null,null,{"$f":"IF($AH321>40,$AH321-40,0)","v":0},null,{"$f":"D323","v":"Overarbejde 100% over 3 timer"},null,null,null,{"$f":"IF($AH321>40,$AH321-40,0)","v":0},null,null,null,null,null,null,null,null,null,null,null,null,null,null,null,null,null,null,null,null,null,null,null,null,null,null,null,null,null,null,null,null,null,1,2,3,4,5,6,7,8,9,10,11,12,13,14,15,16,17,18,19,20,21,22,23,24,25,26,27,28,29,30,31,32,33,34,35,36,37,38,39,40,41,42,43,44,45,46,47,48,49,50,51,52]
[{"$f":"Medarbejder!A38","v":0},{"$f":"Medarbejder!B38","v":0},{"$f":"Medarbejder!C38","v":"-"},null,null,null,null,null,null,null,null,null,null,null,null,null,null,null,null,null,null,null,null,null,null,null,null,null,null,null,null,null,null,null,null,null,null,null,null,null,null,{"$f":"AO324*Overenskomst!$C$22","v":0},{"$f":"SUM($D324:$AH324)-$BA324-$BF324-$BD324","v":0},{"$f":"IF(Medarbejder!$J38=\"ja\",$AQ324,\"-\")","v":"-"},{"$f":"SUMIF($D$7:$AH$7,\"søndag\",$D324:$AH324)+$AT324","v":0},{"$f":"SUMIFS($D324:$AH324,$D328:$AH328,\"H\")","v":0},{"$f":"G331+N331+U331+AB331+AH331+AN331","v":0},{"$f":"G332+N332+U332+AB332+AH332+AN332","v":0},{"$f":"SUM($D326:$AH326)","v":0},{"$f":"SUM($D327:$AH327)","v":0},{"$f":"COUNTIFS($D325:$AH325,\"F\")","v":0},{"$f":"COUNTIFS($D325:$AH325,\"S\")","v":0},{"$f":"SUMIF($D325:$AH325,\"S\",$D329:$AH329)","v":0},{"$f":"COUNTIFS($D325:$AH325,\"p\")","v":0},{"$f":"COUNTIFS($D325:$AH325,\"BS\")","v":0},{"$f":"SUMIF(D325:AH325,\"bs\",$D324:$AH324)","v":0},{"$f":"COUNTIFS($D325:$AH325,\"FF\")","v":0},{"$f":"SUMIF($D325:$AH325,\"g\",$D324:$AH324)","v":0},{"$f":"Medarbejder!$N35","v":"-"},{"$f":"SUM($BL324:$BU324)","v":4},null,null,null,{"$f":"COUNTIFS($D$6:$AH$6,\"skærtd\")","v":1},{"$f":"COUNTIFS($D$6:$AH$6,\"langfd\")","v":1},{"$f":"COUNTIFS($D$6:$AH$6,\"1påsked\")","v":1},{"$f":"COUNTIFS($D$6:$AH$6,\"2påsked\")","v":1},{"$f":"COUNTIFS($D$6:$AH$6,\"kr.himmelfart\")","v":0},{"$f":"COUNTIFS($D$6:$AH$6,\"1pinse\")","v":0},{"$f":"COUNTIFS($D$6:$AH$6,\"2pinse\")","v":0},{"$f":"COUNTIFS($D$6:$AH$6,\"1juledag\")","v":0},{"$f":"COUNTIFS($D$6:$AH$6,\"2juledag\")","v":0},{"$f":"COUNTIFS($D$6:$AH$6,\"nytårsdag\")","v":0},{"$f":"SUMIFS($D324:$AH324,Lønskema!$D$5:$AH$5,1)","v":0},{"$f":"SUMIFS($D324:$AH324,Lønskema!$D$5:$AH$5,2)","v":0},{"$f":"SUMIFS($D324:$AH324,Lønskema!$D$5:$AH$5,3)","v":0},{"$f":"SUMIFS($D324:$AH324,Lønskema!$D$5:$AH$5,4)","v":0},{"$f":"SUMIFS($D324:$AH324,Lønskema!$D$5:$AH$5,5)","v":0},{"$f":"SUMIFS($D324:$AH324,Lønskema!$D$5:$AH$5,6)","v":0},{"$f":"SUMIFS($D324:$AH324,Lønskema!$D$5:$AH$5,7)","v":0},{"$f":"SUMIFS($D324:$AH324,Lønskema!$D$5:$AH$5,8)","v":0},{"$f":"SUMIFS($D324:$AH324,Lønskema!$D$5:$AH$5,9)","v":0},{"$f":"SUMIFS($D324:$AH324,Lønskema!$D$5:$AH$5,10)","v":0},{"$f":"SUMIFS($D324:$AH324,Lønskema!$D$5:$AH$5,11)","v":0},{"$f":"SUMIFS($D324:$AH324,Lønskema!$D$5:$AH$5,12)","v":0},{"$f":"SUMIFS($D324:$AH324,Lønskema!$D$5:$AH$5,13)","v":0},{"$f":"SUMIFS($D324:$AH324,Lønskema!$D$5:$AH$5,14)","v":0},{"$f":"SUMIFS($D324:$AH324,Lønskema!$D$5:$AH$5,15)","v":0},{"$f":"SUMIFS($D324:$AH324,Lønskema!$D$5:$AH$5,16)","v":0},{"$f":"SUMIFS($D324:$AH324,Lønskema!$D$5:$AH$5,17)","v":0},{"$f":"SUMIFS($D324:$AH324,Lønskema!$D$5:$AH$5,18)","v":0},{"$f":"SUMIFS($D324:$AH324,Lønskema!$D$5:$AH$5,19)","v":0},{"$f":"SUMIFS($D324:$AH324,Lønskema!$D$5:$AH$5,20)","v":0},{"$f":"SUMIFS($D324:$AH324,Lønskema!$D$5:$AH$5,21)","v":0},{"$f":"SUMIFS($D324:$AH324,Lønskema!$D$5:$AH$5,22)","v":0},{"$f":"SUMIFS($D324:$AH324,Lønskema!$D$5:$AH$5,23)","v":0},{"$f":"SUMIFS($D324:$AH324,Lønskema!$D$5:$AH$5,24)","v":0},{"$f":"SUMIFS($D324:$AH324,Lønskema!$D$5:$AH$5,25)","v":0},{"$f":"SUMIFS($D324:$AH324,Lønskema!$D$5:$AH$5,26)","v":0},{"$f":"SUMIFS($D324:$AH324,Lønskema!$D$5:$AH$5,27)","v":0},{"$f":"SUMIFS($D324:$AH324,Lønskema!$D$5:$AH$5,28)","v":0},{"$f":"SUMIFS($D324:$AH324,Lønskema!$D$5:$AH$5,29)","v":0},{"$f":"SUMIFS($D324:$AH324,Lønskema!$D$5:$AH$5,30)","v":0},{"$f":"SUMIFS($D324:$AH324,Lønskema!$D$5:$AH$5,31)","v":0},{"$f":"SUMIFS($D324:$AH324,Lønskema!$D$5:$AH$5,32)","v":0},{"$f":"SUMIFS($D324:$AH324,Lønskema!$D$5:$AH$5,33)","v":0},{"$f":"SUMIFS($D324:$AH324,Lønskema!$D$5:$AH$5,34)","v":0},{"$f":"SUMIFS($D324:$AH324,Lønskema!$D$5:$AH$5,35)","v":0},{"$f":"SUMIFS($D324:$AH324,Lønskema!$D$5:$AH$5,36)","v":0},{"$f":"SUMIFS($D324:$AH324,Lønskema!$D$5:$AH$5,37)","v":0},{"$f":"SUMIFS($D324:$AH324,Lønskema!$D$5:$AH$5,38)","v":0},{"$f":"SUMIFS($D324:$AH324,Lønskema!$D$5:$AH$5,39)","v":0},{"$f":"SUMIFS($D324:$AH324,Lønskema!$D$5:$AH$5,40)","v":0},{"$f":"SUMIFS($D324:$AH324,Lønskema!$D$5:$AH$5,41)","v":0},{"$f":"SUMIFS($D324:$AH324,Lønskema!$D$5:$AH$5,42)","v":0},{"$f":"SUMIFS($D324:$AH324,Lønskema!$D$5:$AH$5,43)","v":0},{"$f":"SUMIFS($D324:$AH324,Lønskema!$D$5:$AH$5,44)","v":0},{"$f":"SUMIFS($D324:$AH324,Lønskema!$D$5:$AH$5,45)","v":0},{"$f":"SUMIFS($D324:$AH324,Lønskema!$D$5:$AH$5,46)","v":0},{"$f":"SUMIFS($D324:$AH324,Lønskema!$D$5:$AH$5,47)","v":0},{"$f":"SUMIFS($D324:$AH324,Lønskema!$D$5:$AH$5,48)","v":0},{"$f":"SUMIFS($D324:$AH324,Lønskema!$D$5:$AH$5,49)","v":0},{"$f":"SUMIFS($D324:$AH324,Lønskema!$D$5:$AH$5,50)","v":0},{"$f":"SUMIFS($D324:$AH324,Lønskema!$D$5:$AH$5,51)","v":0},{"$f":"SUMIFS($D324:$AH324,Lønskema!$D$5:$AH$5,52)","v":0}]
["Ferie - syg  mm. Registreres i denne række"]
[null,"Aften"]
[null,"Nat"]
[null,"Helligdag",null,{"$f":"_xlfn.IFS(D$7=\"søndag\",\"-\",D$6=\"skærtd\",\"h\",D$6=\"langfd\",\"h\",D$6=\"1påsked\",\"h\",D$6=\"2påsked\",\"h\",D$6=\"kr.himmelfart\",\"h\",D$6=\"1pinse\",\"h\",D$6=\"2pinse\",\"h\",D$6=\"1juledag\",\"h\",D$6=\"2juledag\",\"h\",D$6=\"nytårsdag\",\"h\")","v":{"$error":"#N/A"}},{"$f":"_xlfn.IFS(E$7=\"søndag\",\"-\",E$6=\"skærtd\",\"h\",E$6=\"langfd\",\"h\",E$6=\"1påsked\",\"h\",E$6=\"2påsked\",\"h\",E$6=\"kr.himmelfart\",\"h\",E$6=\"1pinse\",\"h\",E$6=\"2pinse\",\"h\",E$6=\"1juledag\",\"h\",E$6=\"2juledag\",\"h\",E$6=\"nytårsdag\",\"h\")","v":{"$error":"#N/A"}},{"$f":"_xlfn.IFS(F$7=\"søndag\",\"-\",F$6=\"skærtd\",\"h\",F$6=\"langfd\",\"h\",F$6=\"1påsked\",\"h\",F$6=\"2påsked\",\"h\",F$6=\"kr.himmelfart\",\"h\",F$6=\"1pinse\",\"h\",F$6=\"2pinse\",\"h\",F$6=\"1juledag\",\"h\",F$6=\"2juledag\",\"h\",F$6=\"nytårsdag\",\"h\")","v":{"$error":"#N/A"}},{"$f":"_xlfn.IFS(G$7=\"søndag\",\"-\",G$6=\"skærtd\",\"h\",G$6=\"langfd\",\"h\",G$6=\"1påsked\",\"h\",G$6=\"2påsked\",\"h\",G$6=\"kr.himmelfart\",\"h\",G$6=\"1pinse\",\"h\",G$6=\"2pinse\",\"h\",G$6=\"1juledag\",\"h\",G$6=\"2juledag\",\"h\",G$6=\"nytårsdag\",\"h\")","v":{"$error":"#N/A"}},{"$f":"_xlfn.IFS(H$7=\"søndag\",\"-\",H$6=\"skærtd\",\"h\",H$6=\"langfd\",\"h\",H$6=\"1påsked\",\"h\",H$6=\"2påsked\",\"h\",H$6=\"kr.himmelfart\",\"h\",H$6=\"1pinse\",\"h\",H$6=\"2pinse\",\"h\",H$6=\"1juledag\",\"h\",H$6=\"2juledag\",\"h\",H$6=\"nytårsdag\",\"h\")","v":{"$error":"#N/A"}},{"$f":"_xlfn.IFS(I$7=\"søndag\",\"-\",I$6=\"skærtd\",\"h\",I$6=\"langfd\",\"h\",I$6=\"1påsked\",\"h\",I$6=\"2påsked\",\"h\",I$6=\"kr.himmelfart\",\"h\",I$6=\"1pinse\",\"h\",I$6=\"2pinse\",\"h\",I$6=\"1juledag\",\"h\",I$6=\"2juledag\",\"h\",I$6=\"nytårsdag\",\"h\")","v":"-"},{"$f":"_xlfn.IFS(J$7=\"søndag\",\"-\",J$6=\"skærtd\",\"h\",J$6=\"langfd\",\"h\",J$6=\"1påsked\",\"h\",J$6=\"2påsked\",\"h\",J$6=\"kr.himmelfart\",\"h\",J$6=\"1pinse\",\"h\",J$6=\"2pinse\",\"h\",J$6=\"1juledag\",\"h\",J$6=\"2juledag\",\"h\",J$6=\"nytårsdag\",\"h\")","v":{"$error":"#N/A"}},{"$f":"_xlfn.IFS(K$7=\"søndag\",\"-\",K$6=\"skærtd\",\"h\",K$6=\"langfd\",\"h\",K$6=\"1påsked\",\"h\",K$6=\"2påsked\",\"h\",K$6=\"kr.himmelfart\",\"h\",K$6=\"1pinse\",\"h\",K$6=\"2pinse\",\"h\",K$6=\"1juledag\",\"h\",K$6=\"2juledag\",\"h\",K$6=\"nytårsdag\",\"h\")","v":{"$error":"#N/A"}},{"$f":"_xlfn.IFS(L$7=\"søndag\",\"-\",L$6=\"skærtd\",\"h\",L$6=\"langfd\",\"h\",L$6=\"1påsked\",\"h\",L$6=\"2påsked\",\"h\",L$6=\"kr.himmelfart\",\"h\",L$6=\"1pinse\",\"h\",L$6=\"2pinse\",\"h\",L$6=\"1juledag\",\"h\",L$6=\"2juledag\",\"h\",L$6=\"nytårsdag\",\"h\")","v":{"$error":"#N/A"}},{"$f":"_xlfn.IFS(M$7=\"søndag\",\"-\",M$6=\"skærtd\",\"h\",M$6=\"langfd\",\"h\",M$6=\"1påsked\",\"h\",M$6=\"2påsked\",\"h\",M$6=\"kr.himmelfart\",\"h\",M$6=\"1pinse\",\"h\",M$6=\"2pinse\",\"h\",M$6=\"1juledag\",\"h\",M$6=\"2juledag\",\"h\",M$6=\"nytårsdag\",\"h\")","v":{"$error":"#N/A"}},{"$f":"_xlfn.IFS(N$7=\"søndag\",\"-\",N$6=\"skærtd\",\"h\",N$6=\"langfd\",\"h\",N$6=\"1påsked\",\"h\",N$6=\"2påsked\",\"h\",N$6=\"kr.himmelfart\",\"h\",N$6=\"1pinse\",\"h\",N$6=\"2pinse\",\"h\",N$6=\"1juledag\",\"h\",N$6=\"2juledag\",\"h\",N$6=\"nytårsdag\",\"h\")","v":{"$error":"#N/A"}},{"$f":"_xlfn.IFS(O$7=\"søndag\",\"-\",O$6=\"skærtd\",\"h\",O$6=\"langfd\",\"h\",O$6=\"1påsked\",\"h\",O$6=\"2påsked\",\"h\",O$6=\"kr.himmelfart\",\"h\",O$6=\"1pinse\",\"h\",O$6=\"2pinse\",\"h\",O$6=\"1juledag\",\"h\",O$6=\"2juledag\",\"h\",O$6=\"nytårsdag\",\"h\")","v":{"$error":"#N/A"}},{"$f":"_xlfn.IFS(P$7=\"søndag\",\"-\",P$6=\"skærtd\",\"h\",P$6=\"langfd\",\"h\",P$6=\"1påsked\",\"h\",P$6=\"2påsked\",\"h\",P$6=\"kr.himmelfart\",\"h\",P$6=\"1pinse\",\"h\",P$6=\"2pinse\",\"h\",P$6=\"1juledag\",\"h\",P$6=\"2juledag\",\"h\",P$6=\"nytårsdag\",\"h\")","v":"-"},{"$f":"_xlfn.IFS(Q$7=\"søndag\",\"-\",Q$6=\"skærtd\",\"h\",Q$6=\"langfd\",\"h\",Q$6=\"1påsked\",\"h\",Q$6=\"2påsked\",\"h\",Q$6=\"kr.himmelfart\",\"h\",Q$6=\"1pinse\",\"h\",Q$6=\"2pinse\",\"h\",Q$6=\"1juledag\",\"h\",Q$6=\"2juledag\",\"h\",Q$6=\"nytårsdag\",\"h\")","v":{"$error":"#N/A"}},{"$f":"_xlfn.IFS(R$7=\"søndag\",\"-\",R$6=\"skærtd\",\"h\",R$6=\"langfd\",\"h\",R$6=\"1påsked\",\"h\",R$6=\"2påsked\",\"h\",R$6=\"kr.himmelfart\",\"h\",R$6=\"1pinse\",\"h\",R$6=\"2pinse\",\"h\",R$6=\"1juledag\",\"h\",R$6=\"2juledag\",\"h\",R$6=\"nytårsdag\",\"h\")","v":{"$error":"#N/A"}},{"$f":"_xlfn.IFS(S$7=\"søndag\",\"-\",S$6=\"skærtd\",\"h\",S$6=\"langfd\",\"h\",S$6=\"1påsked\",\"h\",S$6=\"2påsked\",\"h\",S$6=\"kr.himmelfart\",\"h\",S$6=\"1pinse\",\"h\",S$6=\"2pinse\",\"h\",S$6=\"1juledag\",\"h\",S$6=\"2juledag\",\"h\",S$6=\"nytårsdag\",\"h\")","v":{"$error":"#N/A"}},{"$f":"_xlfn.IFS(T$7=\"søndag\",\"-\",T$6=\"skærtd\",\"h\",T$6=\"langfd\",\"h\",T$6=\"1påsked\",\"h\",T$6=\"2påsked\",\"h\",T$6=\"kr.himmelfart\",\"h\",T$6=\"1pinse\",\"h\",T$6=\"2pinse\",\"h\",T$6=\"1juledag\",\"h\",T$6=\"2juledag\",\"h\",T$6=\"nytårsdag\",\"h\")","v":"h"},{"$f":"_xlfn.IFS(U$7=\"søndag\",\"-\",U$6=\"skærtd\",\"h\",U$6=\"langfd\",\"h\",U$6=\"1påsked\",\"h\",U$6=\"2påsked\",\"h\",U$6=\"kr.himmelfart\",\"h\",U$6=\"1pinse\",\"h\",U$6=\"2pinse\",\"h\",U$6=\"1juledag\",\"h\",U$6=\"2juledag\",\"h\",U$6=\"nytårsdag\",\"h\")","v":"h"},{"$f":"_xlfn.IFS(V$7=\"søndag\",\"-\",V$6=\"skærtd\",\"h\",V$6=\"langfd\",\"h\",V$6=\"1påsked\",\"h\",V$6=\"2påsked\",\"h\",V$6=\"kr.himmelfart\",\"h\",V$6=\"1pinse\",\"h\",V$6=\"2pinse\",\"h\",V$6=\"1juledag\",\"h\",V$6=\"2juledag\",\"h\",V$6=\"nytårsdag\",\"h\")","v":{"$error":"#N/A"}},{"$f":"_xlfn.IFS(W$7=\"søndag\",\"-\",W$6=\"skærtd\",\"h\",W$6=\"langfd\",\"h\",W$6=\"1påsked\",\"h\",W$6=\"2påsked\",\"h\",W$6=\"kr.himmelfart\",\"h\",W$6=\"1pinse\",\"h\",W$6=\"2pinse\",\"h\",W$6=\"1juledag\",\"h\",W$6=\"2juledag\",\"h\",W$6=\"nytårsdag\",\"h\")","v":"-"},{"$f":"_xlfn.IFS(X$7=\"søndag\",\"-\",X$6=\"skærtd\",\"h\",X$6=\"langfd\",\"h\",X$6=\"1påsked\",\"h\",X$6=\"2påsked\",\"h\",X$6=\"kr.himmelfart\",\"h\",X$6=\"1pinse\",\"h\",X$6=\"2pinse\",\"h\",X$6=\"1juledag\",\"h\",X$6=\"2juledag\",\"h\",X$6=\"nytårsdag\",\"h\")","v":"h"},{"$f":"_xlfn.IFS(Y$7=\"søndag\",\"-\",Y$6=\"skærtd\",\"h\",Y$6=\"langfd\",\"h\",Y$6=\"1påsked\",\"h\",Y$6=\"2påsked\",\"h\",Y$6=\"kr.himmelfart\",\"h\",Y$6=\"1pinse\",\"h\",Y$6=\"2pinse\",\"h\",Y$6=\"1juledag\",\"h\",Y$6=\"2juledag\",\"h\",Y$6=\"nytårsdag\",\"h\")","v":{"$error":"#N/A"}},{"$f":"_xlfn.IFS(Z$7=\"søndag\",\"-\",Z$6=\"skærtd\",\"h\",Z$6=\"langfd\",\"h\",Z$6=\"1påsked\",\"h\",Z$6=\"2påsked\",\"h\",Z$6=\"kr.himmelfart\",\"h\",Z$6=\"1pinse\",\"h\",Z$6=\"2pinse\",\"h\",Z$6=\"1juledag\",\"h\",Z$6=\"2juledag\",\"h\",Z$6=\"nytårsdag\",\"h\")","v":{"$error":"#N/A"}},{"$f":"_xlfn.IFS(AA$7=\"søndag\",\"-\",AA$6=\"skærtd\",\"h\",AA$6=\"langfd\",\"h\",AA$6=\"1påsked\",\"h\",AA$6=\"2påsked\",\"h\",AA$6=\"kr.himmelfart\",\"h\",AA$6=\"1pinse\",\"h\",AA$6=\"2pinse\",\"h\",AA$6=\"1juledag\",\"h\",AA$6=\"2juledag\",\"h\",AA$6=\"nytårsdag\",\"h\")","v":{"$error":"#N/A"}},{"$f":"_xlfn.IFS(AB$7=\"søndag\",\"-\",AB$6=\"skærtd\",\"h\",AB$6=\"langfd\",\"h\",AB$6=\"1påsked\",\"h\",AB$6=\"2påsked\",\"h\",AB$6=\"kr.himmelfart\",\"h\",AB$6=\"1pinse\",\"h\",AB$6=\"2pinse\",\"h\",AB$6=\"1juledag\",\"h\",AB$6=\"2juledag\",\"h\",AB$6=\"nytårsdag\",\"h\")","v":{"$error":"#N/A"}},{"$f":"_xlfn.IFS(AC$7=\"søndag\",\"-\",AC$6=\"skærtd\",\"h\",AC$6=\"langfd\",\"h\",AC$6=\"1påsked\",\"h\",AC$6=\"2påsked\",\"h\",AC$6=\"kr.himmelfart\",\"h\",AC$6=\"1pinse\",\"h\",AC$6=\"2pinse\",\"h\",AC$6=\"1juledag\",\"h\",AC$6=\"2juledag\",\"h\",AC$6=\"nytårsdag\",\"h\")","v":{"$error":"#N/A"}},{"$f":"_xlfn.IFS(AD$7=\"søndag\",\"-\",AD$6=\"skærtd\",\"h\",AD$6=\"langfd\",\"h\",AD$6=\"1påsked\",\"h\",AD$6=\"2påsked\",\"h\",AD$6=\"kr.himmelfart\",\"h\",AD$6=\"1pinse\",\"h\",AD$6=\"2pinse\",\"h\",AD$6=\"1juledag\",\"h\",AD$6=\"2juledag\",\"h\",AD$6=\"nytårsdag\",\"h\")","v":"-"},{"$f":"_xlfn.IFS(AE$7=\"søndag\",\"-\",AE$6=\"skærtd\",\"h\",AE$6=\"langfd\",\"h\",AE$6=\"1påsked\",\"h\",AE$6=\"2påsked\",\"h\",AE$6=\"kr.himmelfart\",\"h\",AE$6=\"1pinse\",\"h\",AE$6=\"2pinse\",\"h\",AE$6=\"1juledag\",\"h\",AE$6=\"2juledag\",\"h\",AE$6=\"nytårsdag\",\"h\")","v":{"$error":"#N/A"}},{"$f":"_xlfn.IFS(AF$7=\"søndag\",\"-\",AF$6=\"skærtd\",\"h\",AF$6=\"langfd\",\"h\",AF$6=\"1påsked\",\"h\",AF$6=\"2påsked\",\"h\",AF$6=\"kr.himmelfart\",\"h\",AF$6=\"1pinse\",\"h\",AF$6=\"2pinse\",\"h\",AF$6=\"1juledag\",\"h\",AF$6=\"2juledag\",\"h\",AF$6=\"nytårsdag\",\"h\")","v":{"$error":"#N/A"}},{"$f":"_xlfn.IFS(AG$7=\"søndag\",\"-\",AG$6=\"skærtd\",\"h\",AG$6=\"langfd\",\"h\",AG$6=\"1påsked\",\"h\",AG$6=\"2påsked\",\"h\",AG$6=\"kr.himmelfart\",\"h\",AG$6=\"1pinse\",\"h\",AG$6=\"2pinse\",\"h\",AG$6=\"1juledag\",\"h\",AG$6=\"2juledag\",\"h\",AG$6=\"nytårsdag\",\"h\")","v":{"$error":"#N/A"}},{"$f":"_xlfn.IFS(AH$7=\"søndag\",\"-\",AH$6=\"skærtd\",\"h\",AH$6=\"langfd\",\"h\",AH$6=\"1påsked\",\"h\",AH$6=\"2påsked\",\"h\",AH$6=\"kr.himmelfart\",\"h\",AH$6=\"1pinse\",\"h\",AH$6=\"2pinse\",\"h\",AH$6=\"1juledag\",\"h\",AH$6=\"2juledag\",\"h\",AH$6=\"nytårsdag\",\"h\")","v":{"$error":"#N/A"}}]
[null,"Sygedage",null,{"$f":"IF(D325=\"s\",D324,\"-\")","v":"-"},{"$f":"IF(E325=\"s\",E324,\"-\")","v":"-"},"-","-","-","-","-","-","-","-","-","-","-","-","-","-","-","-","-","-","-","-","-","-","-","-","-","-","-","-","-"]
[null,null,{"$f":"$C$15","v":14},"Timer uge",null,null,{"$f":"SUMIF($D$5:$AH$5,C330,D324:AH324)","v":0},{"$f":"$H$15","v":15},{"$f":"D330","v":"Timer uge"},null,null,null,null,{"$f":"SUMIF($D$5:$AH$5,H330,D324:AH324)","v":0},{"$f":"$O$15","v":16},{"$f":"D330","v":"Timer uge"},null,null,null,null,{"$f":"_xlfn.IFS($O330=$BV323,$BV324,$O330=$BW323,Lønskema!$BW324,$O330=$BX323,$BX324,$O330=$BY323,$BY324,$O330=$BZ323,$BZ324,$O330=$CA323,$CA324,$O330=$CB323,$CB324,$O330=$CC323,$CC324,$O330=$CD323,$CD324,$O330=$CE323,$CE324,$O330=$CF323,$CF324,$O330=$CG323,$CF324,$O330=$CG323,$CG324,$O330=$CH323,$CH324,$O330=$CI323,$CI324,$O330=$CJ323,$CJ324,$O330=$CK323,$CK324,$O330=$CL323,$CL324,$O330=$CM323,$CM324,$O330=$CN323,$CN324,$O330=$CO323,$CO324,$O330=$CP323,$CP324,$O330=$CQ323,$CQ324,$O330=$CR323,$CR324,$O330=$CS323,$CS324,$O330=$CT323,$CT324,$O330=$CU323,$CU324,$O330=$CV323,$CV324,$O330=$CW323,$CW324,$O330=$CX323,$CX324,$O330=$CY323,$CY324,$O330=$CZ323,$CZ324,$O330=$DA323,$DA324,$O330=$DB323,$DB324,$O330=$DC323,$DC324,$O330=$DD323,$DD324,$O330=$DE323,$DE324,$O330=$DF323,$DF324,$O330=$DG323,$DG324,$O330=$DH323,$DH324,$O330=$DI323,$DI324,$O330=$DJ323,$DJ324,$O330=$DK323,$DK324,$O330=$DL323,$DL324,$O330=$DM323,$DM324,$O330=$DN323,$DN324,$O330=$DO323,$DO324,$O330=$DP323,$DP324,$O330=$DQ323,$DQ324,$O330=$DR323,$DR324,$O330=$DS323,$DS324,$O330=$DT323,$DT324,$O330=$DU323,$DU324)","v":0},{"$f":"$V$15","v":17},{"$f":"D330","v":"Timer uge"},null,null,null,null,{"$f":"SUMIF($D$5:$AH$5,V330,D324:AH324)","v":0},{"$f":"$AC$15","v":18},{"$f":"D330","v":"Timer uge"},null,null,null,{"$f":"SUMIF($D$5:$AH$5,AC330,D324:AH324)","v":0},{"$f":"$AI$15","v":19},{"$f":"D330","v":"Timer uge"},null,null,null,{"$f":"SUMIF($D$5:$AH$5,AI330,D324:AH324)","v":0}]
[null,null,null,"Overarbejde 50% 1-3 timer",null,null,{"$f":"IF($G330>37,$G330-37-$G332,0)","v":0},null,{"$f":"D331","v":"Overarbejde 50% 1-3 timer"},null,null,null,null,{"$f":"IF($N330>37,$N330-37-$N332,0)","v":0},null,{"$f":"D331","v":"Overarbejde 50% 1-3 timer"},null,null,null,null,{"$f":"IF($U330>37,$U330-37-$U332,0)","v":0},null,{"$f":"D331","v":"Overarbejde 50% 1-3 timer"},null,null,null,null,{"$f":"IF($AB330>37,$AB330-37-$AB332,0)","v":0},null,{"$f":"D331","v":"Overarbejde 50% 1-3 timer"},null,null,null,{"$f":"IF($AH330>37,$AH330-37-$AH332,0)","v":0},null,{"$f":"D331","v":"Overarbejde 50% 1-3 timer"},null,null,null,{"$f":"IF($AH330>37,$AH330-37-$AH332,0)","v":0}]
[null,null,null,"Overarbejde 100% over 3 timer",null,null,{"$f":"IF($G330>40,$G330-40,0)","v":0},null,"Overarbejde 100% over 3 timer",null,null,null,null,{"$f":"IF($N330>40,$N330-40,0)","v":0},null,"Overarbejde 100% over 3 timer",null,null,null,null,{"$f":"IF($U330>40,$U330-40,0)","v":0},null,"Overarbejde 100% over 3 timer",null,null,null,null,{"$f":"IF($AB330>40,$AB330-40,0)","v":0},null,"Overarbejde 100% over 3 timer",null,null,null,{"$f":"IF($AH330>40,$AH330-40,0)","v":0},null,{"$f":"D332","v":"Overarbejde 100% over 3 timer"},null,null,null,{"$f":"IF($AH330>40,$AH330-40,0)","v":0},null,null,null,null,null,null,null,null,null,null,null,null,null,null,null,null,null,null,null,null,null,null,null,null,null,null,null,null,null,null,null,null,null,1,2,3,4,5,6,7,8,9,10,11,12,13,14,15,16,17,18,19,20,21,22,23,24,25,26,27,28,29,30,31,32,33,34,35,36,37,38,39,40,41,42,43,44,45,46,47,48,49,50,51,52]
[{"$f":"Medarbejder!A39","v":0},{"$f":"Medarbejder!B39","v":0},{"$f":"Medarbejder!C39","v":"-"},null,null,null,null,null,null,null,null,null,null,null,null,null,null,null,null,null,null,null,null,null,null,null,null,null,null,null,null,null,null,null,null,null,null,null,null,null,null,{"$f":"AO333*Overenskomst!$C$22","v":0},{"$f":"SUM($D333:$AH333)-$BA333-$BF333-$BD333","v":0},{"$f":"IF(Medarbejder!$J39=\"ja\",$AQ333,\"-\")","v":"-"},{"$f":"SUMIF($D$7:$AH$7,\"søndag\",$D333:$AH333)+$AT333","v":0},{"$f":"SUMIFS($D333:$AH333,$D337:$AH337,\"H\")","v":0},{"$f":"G340+N340+U340+AB340+AH340+AN340","v":0},{"$f":"G341+N341+U341+AB341+AH341+AN341","v":0},{"$f":"SUM($D335:$AH335)","v":0},{"$f":"SUM($D336:$AH336)","v":0},{"$f":"COUNTIFS($D334:$AH334,\"F\")","v":0},{"$f":"COUNTIFS($D334:$AH334,\"S\")","v":0},{"$f":"SUMIF($D334:$AH334,\"S\",$D338:$AH338)","v":0},{"$f":"COUNTIFS($D334:$AH334,\"p\")","v":0},{"$f":"COUNTIFS($D334:$AH334,\"BS\")","v":0},{"$f":"SUMIF(D334:AH334,\"bs\",$D333:$AH333)","v":0},{"$f":"COUNTIFS($D334:$AH334,\"FF\")","v":0},{"$f":"SUMIF($D334:$AH334,\"g\",$D333:$AH333)","v":0},{"$f":"Medarbejder!$N36","v":"-"},{"$f":"SUM($BL333:$BU333)","v":4},null,null,null,{"$f":"COUNTIFS($D$6:$AH$6,\"skærtd\")","v":1},{"$f":"COUNTIFS($D$6:$AH$6,\"langfd\")","v":1},{"$f":"COUNTIFS($D$6:$AH$6,\"1påsked\")","v":1},{"$f":"COUNTIFS($D$6:$AH$6,\"2påsked\")","v":1},{"$f":"COUNTIFS($D$6:$AH$6,\"kr.himmelfart\")","v":0},{"$f":"COUNTIFS($D$6:$AH$6,\"1pinse\")","v":0},{"$f":"COUNTIFS($D$6:$AH$6,\"2pinse\")","v":0},{"$f":"COUNTIFS($D$6:$AH$6,\"1juledag\")","v":0},{"$f":"COUNTIFS($D$6:$AH$6,\"2juledag\")","v":0},{"$f":"COUNTIFS($D$6:$AH$6,\"nytårsdag\")","v":0},{"$f":"SUMIFS($D333:$AH333,Lønskema!$D$5:$AH$5,1)","v":0},{"$f":"SUMIFS($D333:$AH333,Lønskema!$D$5:$AH$5,2)","v":0},{"$f":"SUMIFS($D333:$AH333,Lønskema!$D$5:$AH$5,3)","v":0},{"$f":"SUMIFS($D333:$AH333,Lønskema!$D$5:$AH$5,4)","v":0},{"$f":"SUMIFS($D333:$AH333,Lønskema!$D$5:$AH$5,5)","v":0},{"$f":"SUMIFS($D333:$AH333,Lønskema!$D$5:$AH$5,6)","v":0},{"$f":"SUMIFS($D333:$AH333,Lønskema!$D$5:$AH$5,7)","v":0},{"$f":"SUMIFS($D333:$AH333,Lønskema!$D$5:$AH$5,8)","v":0},{"$f":"SUMIFS($D333:$AH333,Lønskema!$D$5:$AH$5,9)","v":0},{"$f":"SUMIFS($D333:$AH333,Lønskema!$D$5:$AH$5,10)","v":0},{"$f":"SUMIFS($D333:$AH333,Lønskema!$D$5:$AH$5,11)","v":0},{"$f":"SUMIFS($D333:$AH333,Lønskema!$D$5:$AH$5,12)","v":0},{"$f":"SUMIFS($D333:$AH333,Lønskema!$D$5:$AH$5,13)","v":0},{"$f":"SUMIFS($D333:$AH333,Lønskema!$D$5:$AH$5,14)","v":0},{"$f":"SUMIFS($D333:$AH333,Lønskema!$D$5:$AH$5,15)","v":0},{"$f":"SUMIFS($D333:$AH333,Lønskema!$D$5:$AH$5,16)","v":0},{"$f":"SUMIFS($D333:$AH333,Lønskema!$D$5:$AH$5,17)","v":0},{"$f":"SUMIFS($D333:$AH333,Lønskema!$D$5:$AH$5,18)","v":0},{"$f":"SUMIFS($D333:$AH333,Lønskema!$D$5:$AH$5,19)","v":0},{"$f":"SUMIFS($D333:$AH333,Lønskema!$D$5:$AH$5,20)","v":0},{"$f":"SUMIFS($D333:$AH333,Lønskema!$D$5:$AH$5,21)","v":0},{"$f":"SUMIFS($D333:$AH333,Lønskema!$D$5:$AH$5,22)","v":0},{"$f":"SUMIFS($D333:$AH333,Lønskema!$D$5:$AH$5,23)","v":0},{"$f":"SUMIFS($D333:$AH333,Lønskema!$D$5:$AH$5,24)","v":0},{"$f":"SUMIFS($D333:$AH333,Lønskema!$D$5:$AH$5,25)","v":0},{"$f":"SUMIFS($D333:$AH333,Lønskema!$D$5:$AH$5,26)","v":0},{"$f":"SUMIFS($D333:$AH333,Lønskema!$D$5:$AH$5,27)","v":0},{"$f":"SUMIFS($D333:$AH333,Lønskema!$D$5:$AH$5,28)","v":0},{"$f":"SUMIFS($D333:$AH333,Lønskema!$D$5:$AH$5,29)","v":0},{"$f":"SUMIFS($D333:$AH333,Lønskema!$D$5:$AH$5,30)","v":0},{"$f":"SUMIFS($D333:$AH333,Lønskema!$D$5:$AH$5,31)","v":0},{"$f":"SUMIFS($D333:$AH333,Lønskema!$D$5:$AH$5,32)","v":0},{"$f":"SUMIFS($D333:$AH333,Lønskema!$D$5:$AH$5,33)","v":0},{"$f":"SUMIFS($D333:$AH333,Lønskema!$D$5:$AH$5,34)","v":0},{"$f":"SUMIFS($D333:$AH333,Lønskema!$D$5:$AH$5,35)","v":0},{"$f":"SUMIFS($D333:$AH333,Lønskema!$D$5:$AH$5,36)","v":0},{"$f":"SUMIFS($D333:$AH333,Lønskema!$D$5:$AH$5,37)","v":0},{"$f":"SUMIFS($D333:$AH333,Lønskema!$D$5:$AH$5,38)","v":0},{"$f":"SUMIFS($D333:$AH333,Lønskema!$D$5:$AH$5,39)","v":0},{"$f":"SUMIFS($D333:$AH333,Lønskema!$D$5:$AH$5,40)","v":0},{"$f":"SUMIFS($D333:$AH333,Lønskema!$D$5:$AH$5,41)","v":0},{"$f":"SUMIFS($D333:$AH333,Lønskema!$D$5:$AH$5,42)","v":0},{"$f":"SUMIFS($D333:$AH333,Lønskema!$D$5:$AH$5,43)","v":0},{"$f":"SUMIFS($D333:$AH333,Lønskema!$D$5:$AH$5,44)","v":0},{"$f":"SUMIFS($D333:$AH333,Lønskema!$D$5:$AH$5,45)","v":0},{"$f":"SUMIFS($D333:$AH333,Lønskema!$D$5:$AH$5,46)","v":0},{"$f":"SUMIFS($D333:$AH333,Lønskema!$D$5:$AH$5,47)","v":0},{"$f":"SUMIFS($D333:$AH333,Lønskema!$D$5:$AH$5,48)","v":0},{"$f":"SUMIFS($D333:$AH333,Lønskema!$D$5:$AH$5,49)","v":0},{"$f":"SUMIFS($D333:$AH333,Lønskema!$D$5:$AH$5,50)","v":0},{"$f":"SUMIFS($D333:$AH333,Lønskema!$D$5:$AH$5,51)","v":0},{"$f":"SUMIFS($D333:$AH333,Lønskema!$D$5:$AH$5,52)","v":0}]
["Ferie - syg  mm. Registreres i denne række"]
[null,"Aften"]
[null,"Nat"]
[null,"Helligdag",null,{"$f":"_xlfn.IFS(D$7=\"søndag\",\"-\",D$6=\"skærtd\",\"h\",D$6=\"langfd\",\"h\",D$6=\"1påsked\",\"h\",D$6=\"2påsked\",\"h\",D$6=\"kr.himmelfart\",\"h\",D$6=\"1pinse\",\"h\",D$6=\"2pinse\",\"h\",D$6=\"1juledag\",\"h\",D$6=\"2juledag\",\"h\",D$6=\"nytårsdag\",\"h\")","v":{"$error":"#N/A"}},{"$f":"_xlfn.IFS(E$7=\"søndag\",\"-\",E$6=\"skærtd\",\"h\",E$6=\"langfd\",\"h\",E$6=\"1påsked\",\"h\",E$6=\"2påsked\",\"h\",E$6=\"kr.himmelfart\",\"h\",E$6=\"1pinse\",\"h\",E$6=\"2pinse\",\"h\",E$6=\"1juledag\",\"h\",E$6=\"2juledag\",\"h\",E$6=\"nytårsdag\",\"h\")","v":{"$error":"#N/A"}},{"$f":"_xlfn.IFS(F$7=\"søndag\",\"-\",F$6=\"skærtd\",\"h\",F$6=\"langfd\",\"h\",F$6=\"1påsked\",\"h\",F$6=\"2påsked\",\"h\",F$6=\"kr.himmelfart\",\"h\",F$6=\"1pinse\",\"h\",F$6=\"2pinse\",\"h\",F$6=\"1juledag\",\"h\",F$6=\"2juledag\",\"h\",F$6=\"nytårsdag\",\"h\")","v":{"$error":"#N/A"}},{"$f":"_xlfn.IFS(G$7=\"søndag\",\"-\",G$6=\"skærtd\",\"h\",G$6=\"langfd\",\"h\",G$6=\"1påsked\",\"h\",G$6=\"2påsked\",\"h\",G$6=\"kr.himmelfart\",\"h\",G$6=\"1pinse\",\"h\",G$6=\"2pinse\",\"h\",G$6=\"1juledag\",\"h\",G$6=\"2juledag\",\"h\",G$6=\"nytårsdag\",\"h\")","v":{"$error":"#N/A"}},{"$f":"_xlfn.IFS(H$7=\"søndag\",\"-\",H$6=\"skærtd\",\"h\",H$6=\"langfd\",\"h\",H$6=\"1påsked\",\"h\",H$6=\"2påsked\",\"h\",H$6=\"kr.himmelfart\",\"h\",H$6=\"1pinse\",\"h\",H$6=\"2pinse\",\"h\",H$6=\"1juledag\",\"h\",H$6=\"2juledag\",\"h\",H$6=\"nytårsdag\",\"h\")","v":{"$error":"#N/A"}},{"$f":"_xlfn.IFS(I$7=\"søndag\",\"-\",I$6=\"skærtd\",\"h\",I$6=\"langfd\",\"h\",I$6=\"1påsked\",\"h\",I$6=\"2påsked\",\"h\",I$6=\"kr.himmelfart\",\"h\",I$6=\"1pinse\",\"h\",I$6=\"2pinse\",\"h\",I$6=\"1juledag\",\"h\",I$6=\"2juledag\",\"h\",I$6=\"nytårsdag\",\"h\")","v":"-"},{"$f":"_xlfn.IFS(J$7=\"søndag\",\"-\",J$6=\"skærtd\",\"h\",J$6=\"langfd\",\"h\",J$6=\"1påsked\",\"h\",J$6=\"2påsked\",\"h\",J$6=\"kr.himmelfart\",\"h\",J$6=\"1pinse\",\"h\",J$6=\"2pinse\",\"h\",J$6=\"1juledag\",\"h\",J$6=\"2juledag\",\"h\",J$6=\"nytårsdag\",\"h\")","v":{"$error":"#N/A"}},{"$f":"_xlfn.IFS(K$7=\"søndag\",\"-\",K$6=\"skærtd\",\"h\",K$6=\"langfd\",\"h\",K$6=\"1påsked\",\"h\",K$6=\"2påsked\",\"h\",K$6=\"kr.himmelfart\",\"h\",K$6=\"1pinse\",\"h\",K$6=\"2pinse\",\"h\",K$6=\"1juledag\",\"h\",K$6=\"2juledag\",\"h\",K$6=\"nytårsdag\",\"h\")","v":{"$error":"#N/A"}},{"$f":"_xlfn.IFS(L$7=\"søndag\",\"-\",L$6=\"skærtd\",\"h\",L$6=\"langfd\",\"h\",L$6=\"1påsked\",\"h\",L$6=\"2påsked\",\"h\",L$6=\"kr.himmelfart\",\"h\",L$6=\"1pinse\",\"h\",L$6=\"2pinse\",\"h\",L$6=\"1juledag\",\"h\",L$6=\"2juledag\",\"h\",L$6=\"nytårsdag\",\"h\")","v":{"$error":"#N/A"}},{"$f":"_xlfn.IFS(M$7=\"søndag\",\"-\",M$6=\"skærtd\",\"h\",M$6=\"langfd\",\"h\",M$6=\"1påsked\",\"h\",M$6=\"2påsked\",\"h\",M$6=\"kr.himmelfart\",\"h\",M$6=\"1pinse\",\"h\",M$6=\"2pinse\",\"h\",M$6=\"1juledag\",\"h\",M$6=\"2juledag\",\"h\",M$6=\"nytårsdag\",\"h\")","v":{"$error":"#N/A"}},{"$f":"_xlfn.IFS(N$7=\"søndag\",\"-\",N$6=\"skærtd\",\"h\",N$6=\"langfd\",\"h\",N$6=\"1påsked\",\"h\",N$6=\"2påsked\",\"h\",N$6=\"kr.himmelfart\",\"h\",N$6=\"1pinse\",\"h\",N$6=\"2pinse\",\"h\",N$6=\"1juledag\",\"h\",N$6=\"2juledag\",\"h\",N$6=\"nytårsdag\",\"h\")","v":{"$error":"#N/A"}},{"$f":"_xlfn.IFS(O$7=\"søndag\",\"-\",O$6=\"skærtd\",\"h\",O$6=\"langfd\",\"h\",O$6=\"1påsked\",\"h\",O$6=\"2påsked\",\"h\",O$6=\"kr.himmelfart\",\"h\",O$6=\"1pinse\",\"h\",O$6=\"2pinse\",\"h\",O$6=\"1juledag\",\"h\",O$6=\"2juledag\",\"h\",O$6=\"nytårsdag\",\"h\")","v":{"$error":"#N/A"}},{"$f":"_xlfn.IFS(P$7=\"søndag\",\"-\",P$6=\"skærtd\",\"h\",P$6=\"langfd\",\"h\",P$6=\"1påsked\",\"h\",P$6=\"2påsked\",\"h\",P$6=\"kr.himmelfart\",\"h\",P$6=\"1pinse\",\"h\",P$6=\"2pinse\",\"h\",P$6=\"1juledag\",\"h\",P$6=\"2juledag\",\"h\",P$6=\"nytårsdag\",\"h\")","v":"-"},{"$f":"_xlfn.IFS(Q$7=\"søndag\",\"-\",Q$6=\"skærtd\",\"h\",Q$6=\"langfd\",\"h\",Q$6=\"1påsked\",\"h\",Q$6=\"2påsked\",\"h\",Q$6=\"kr.himmelfart\",\"h\",Q$6=\"1pinse\",\"h\",Q$6=\"2pinse\",\"h\",Q$6=\"1juledag\",\"h\",Q$6=\"2juledag\",\"h\",Q$6=\"nytårsdag\",\"h\")","v":{"$error":"#N/A"}},{"$f":"_xlfn.IFS(R$7=\"søndag\",\"-\",R$6=\"skærtd\",\"h\",R$6=\"langfd\",\"h\",R$6=\"1påsked\",\"h\",R$6=\"2påsked\",\"h\",R$6=\"kr.himmelfart\",\"h\",R$6=\"1pinse\",\"h\",R$6=\"2pinse\",\"h\",R$6=\"1juledag\",\"h\",R$6=\"2juledag\",\"h\",R$6=\"nytårsdag\",\"h\")","v":{"$error":"#N/A"}},{"$f":"_xlfn.IFS(S$7=\"søndag\",\"-\",S$6=\"skærtd\",\"h\",S$6=\"langfd\",\"h\",S$6=\"1påsked\",\"h\",S$6=\"2påsked\",\"h\",S$6=\"kr.himmelfart\",\"h\",S$6=\"1pinse\",\"h\",S$6=\"2pinse\",\"h\",S$6=\"1juledag\",\"h\",S$6=\"2juledag\",\"h\",S$6=\"nytårsdag\",\"h\")","v":{"$error":"#N/A"}},{"$f":"_xlfn.IFS(T$7=\"søndag\",\"-\",T$6=\"skærtd\",\"h\",T$6=\"langfd\",\"h\",T$6=\"1påsked\",\"h\",T$6=\"2påsked\",\"h\",T$6=\"kr.himmelfart\",\"h\",T$6=\"1pinse\",\"h\",T$6=\"2pinse\",\"h\",T$6=\"1juledag\",\"h\",T$6=\"2juledag\",\"h\",T$6=\"nytårsdag\",\"h\")","v":"h"},{"$f":"_xlfn.IFS(U$7=\"søndag\",\"-\",U$6=\"skærtd\",\"h\",U$6=\"langfd\",\"h\",U$6=\"1påsked\",\"h\",U$6=\"2påsked\",\"h\",U$6=\"kr.himmelfart\",\"h\",U$6=\"1pinse\",\"h\",U$6=\"2pinse\",\"h\",U$6=\"1juledag\",\"h\",U$6=\"2juledag\",\"h\",U$6=\"nytårsdag\",\"h\")","v":"h"},{"$f":"_xlfn.IFS(V$7=\"søndag\",\"-\",V$6=\"skærtd\",\"h\",V$6=\"langfd\",\"h\",V$6=\"1påsked\",\"h\",V$6=\"2påsked\",\"h\",V$6=\"kr.himmelfart\",\"h\",V$6=\"1pinse\",\"h\",V$6=\"2pinse\",\"h\",V$6=\"1juledag\",\"h\",V$6=\"2juledag\",\"h\",V$6=\"nytårsdag\",\"h\")","v":{"$error":"#N/A"}},{"$f":"_xlfn.IFS(W$7=\"søndag\",\"-\",W$6=\"skærtd\",\"h\",W$6=\"langfd\",\"h\",W$6=\"1påsked\",\"h\",W$6=\"2påsked\",\"h\",W$6=\"kr.himmelfart\",\"h\",W$6=\"1pinse\",\"h\",W$6=\"2pinse\",\"h\",W$6=\"1juledag\",\"h\",W$6=\"2juledag\",\"h\",W$6=\"nytårsdag\",\"h\")","v":"-"},{"$f":"_xlfn.IFS(X$7=\"søndag\",\"-\",X$6=\"skærtd\",\"h\",X$6=\"langfd\",\"h\",X$6=\"1påsked\",\"h\",X$6=\"2påsked\",\"h\",X$6=\"kr.himmelfart\",\"h\",X$6=\"1pinse\",\"h\",X$6=\"2pinse\",\"h\",X$6=\"1juledag\",\"h\",X$6=\"2juledag\",\"h\",X$6=\"nytårsdag\",\"h\")","v":"h"},{"$f":"_xlfn.IFS(Y$7=\"søndag\",\"-\",Y$6=\"skærtd\",\"h\",Y$6=\"langfd\",\"h\",Y$6=\"1påsked\",\"h\",Y$6=\"2påsked\",\"h\",Y$6=\"kr.himmelfart\",\"h\",Y$6=\"1pinse\",\"h\",Y$6=\"2pinse\",\"h\",Y$6=\"1juledag\",\"h\",Y$6=\"2juledag\",\"h\",Y$6=\"nytårsdag\",\"h\")","v":{"$error":"#N/A"}},{"$f":"_xlfn.IFS(Z$7=\"søndag\",\"-\",Z$6=\"skærtd\",\"h\",Z$6=\"langfd\",\"h\",Z$6=\"1påsked\",\"h\",Z$6=\"2påsked\",\"h\",Z$6=\"kr.himmelfart\",\"h\",Z$6=\"1pinse\",\"h\",Z$6=\"2pinse\",\"h\",Z$6=\"1juledag\",\"h\",Z$6=\"2juledag\",\"h\",Z$6=\"nytårsdag\",\"h\")","v":{"$error":"#N/A"}},{"$f":"_xlfn.IFS(AA$7=\"søndag\",\"-\",AA$6=\"skærtd\",\"h\",AA$6=\"langfd\",\"h\",AA$6=\"1påsked\",\"h\",AA$6=\"2påsked\",\"h\",AA$6=\"kr.himmelfart\",\"h\",AA$6=\"1pinse\",\"h\",AA$6=\"2pinse\",\"h\",AA$6=\"1juledag\",\"h\",AA$6=\"2juledag\",\"h\",AA$6=\"nytårsdag\",\"h\")","v":{"$error":"#N/A"}},{"$f":"_xlfn.IFS(AB$7=\"søndag\",\"-\",AB$6=\"skærtd\",\"h\",AB$6=\"langfd\",\"h\",AB$6=\"1påsked\",\"h\",AB$6=\"2påsked\",\"h\",AB$6=\"kr.himmelfart\",\"h\",AB$6=\"1pinse\",\"h\",AB$6=\"2pinse\",\"h\",AB$6=\"1juledag\",\"h\",AB$6=\"2juledag\",\"h\",AB$6=\"nytårsdag\",\"h\")","v":{"$error":"#N/A"}},{"$f":"_xlfn.IFS(AC$7=\"søndag\",\"-\",AC$6=\"skærtd\",\"h\",AC$6=\"langfd\",\"h\",AC$6=\"1påsked\",\"h\",AC$6=\"2påsked\",\"h\",AC$6=\"kr.himmelfart\",\"h\",AC$6=\"1pinse\",\"h\",AC$6=\"2pinse\",\"h\",AC$6=\"1juledag\",\"h\",AC$6=\"2juledag\",\"h\",AC$6=\"nytårsdag\",\"h\")","v":{"$error":"#N/A"}},{"$f":"_xlfn.IFS(AD$7=\"søndag\",\"-\",AD$6=\"skærtd\",\"h\",AD$6=\"langfd\",\"h\",AD$6=\"1påsked\",\"h\",AD$6=\"2påsked\",\"h\",AD$6=\"kr.himmelfart\",\"h\",AD$6=\"1pinse\",\"h\",AD$6=\"2pinse\",\"h\",AD$6=\"1juledag\",\"h\",AD$6=\"2juledag\",\"h\",AD$6=\"nytårsdag\",\"h\")","v":"-"},{"$f":"_xlfn.IFS(AE$7=\"søndag\",\"-\",AE$6=\"skærtd\",\"h\",AE$6=\"langfd\",\"h\",AE$6=\"1påsked\",\"h\",AE$6=\"2påsked\",\"h\",AE$6=\"kr.himmelfart\",\"h\",AE$6=\"1pinse\",\"h\",AE$6=\"2pinse\",\"h\",AE$6=\"1juledag\",\"h\",AE$6=\"2juledag\",\"h\",AE$6=\"nytårsdag\",\"h\")","v":{"$error":"#N/A"}},{"$f":"_xlfn.IFS(AF$7=\"søndag\",\"-\",AF$6=\"skærtd\",\"h\",AF$6=\"langfd\",\"h\",AF$6=\"1påsked\",\"h\",AF$6=\"2påsked\",\"h\",AF$6=\"kr.himmelfart\",\"h\",AF$6=\"1pinse\",\"h\",AF$6=\"2pinse\",\"h\",AF$6=\"1juledag\",\"h\",AF$6=\"2juledag\",\"h\",AF$6=\"nytårsdag\",\"h\")","v":{"$error":"#N/A"}},{"$f":"_xlfn.IFS(AG$7=\"søndag\",\"-\",AG$6=\"skærtd\",\"h\",AG$6=\"langfd\",\"h\",AG$6=\"1påsked\",\"h\",AG$6=\"2påsked\",\"h\",AG$6=\"kr.himmelfart\",\"h\",AG$6=\"1pinse\",\"h\",AG$6=\"2pinse\",\"h\",AG$6=\"1juledag\",\"h\",AG$6=\"2juledag\",\"h\",AG$6=\"nytårsdag\",\"h\")","v":{"$error":"#N/A"}},{"$f":"_xlfn.IFS(AH$7=\"søndag\",\"-\",AH$6=\"skærtd\",\"h\",AH$6=\"langfd\",\"h\",AH$6=\"1påsked\",\"h\",AH$6=\"2påsked\",\"h\",AH$6=\"kr.himmelfart\",\"h\",AH$6=\"1pinse\",\"h\",AH$6=\"2pinse\",\"h\",AH$6=\"1juledag\",\"h\",AH$6=\"2juledag\",\"h\",AH$6=\"nytårsdag\",\"h\")","v":{"$error":"#N/A"}}]
[null,"Sygedage",null,{"$f":"IF(D334=\"s\",D333,\"-\")","v":"-"},{"$f":"IF(E334=\"s\",E333,\"-\")","v":"-"},"-","-","-","-","-","-","-","-","-","-","-","-","-","-","-","-","-","-","-","-","-","-","-","-","-","-","-","-","-"]
[null,null,{"$f":"$C$15","v":14},"Timer uge",null,null,{"$f":"SUMIF($D$5:$AH$5,C339,D333:AH333)","v":0},{"$f":"$H$15","v":15},{"$f":"D339","v":"Timer uge"},null,null,null,null,{"$f":"SUMIF($D$5:$AH$5,H339,D333:AH333)","v":0},{"$f":"$O$15","v":16},{"$f":"D339","v":"Timer uge"},null,null,null,null,{"$f":"_xlfn.IFS($O339=$BV332,$BV333,$O339=$BW332,Lønskema!$BW333,$O339=$BX332,$BX333,$O339=$BY332,$BY333,$O339=$BZ332,$BZ333,$O339=$CA332,$CA333,$O339=$CB332,$CB333,$O339=$CC332,$CC333,$O339=$CD332,$CD333,$O339=$CE332,$CE333,$O339=$CF332,$CF333,$O339=$CG332,$CF333,$O339=$CG332,$CG333,$O339=$CH332,$CH333,$O339=$CI332,$CI333,$O339=$CJ332,$CJ333,$O339=$CK332,$CK333,$O339=$CL332,$CL333,$O339=$CM332,$CM333,$O339=$CN332,$CN333,$O339=$CO332,$CO333,$O339=$CP332,$CP333,$O339=$CQ332,$CQ333,$O339=$CR332,$CR333,$O339=$CS332,$CS333,$O339=$CT332,$CT333,$O339=$CU332,$CU333,$O339=$CV332,$CV333,$O339=$CW332,$CW333,$O339=$CX332,$CX333,$O339=$CY332,$CY333,$O339=$CZ332,$CZ333,$O339=$DA332,$DA333,$O339=$DB332,$DB333,$O339=$DC332,$DC333,$O339=$DD332,$DD333,$O339=$DE332,$DE333,$O339=$DF332,$DF333,$O339=$DG332,$DG333,$O339=$DH332,$DH333,$O339=$DI332,$DI333,$O339=$DJ332,$DJ333,$O339=$DK332,$DK333,$O339=$DL332,$DL333,$O339=$DM332,$DM333,$O339=$DN332,$DN333,$O339=$DO332,$DO333,$O339=$DP332,$DP333,$O339=$DQ332,$DQ333,$O339=$DR332,$DR333,$O339=$DS332,$DS333,$O339=$DT332,$DT333,$O339=$DU332,$DU333)","v":0},{"$f":"$V$15","v":17},{"$f":"D339","v":"Timer uge"},null,null,null,null,{"$f":"SUMIF($D$5:$AH$5,V339,D333:AH333)","v":0},{"$f":"$AC$15","v":18},{"$f":"D339","v":"Timer uge"},null,null,null,{"$f":"SUMIF($D$5:$AH$5,AC339,D333:AH333)","v":0},{"$f":"$AI$15","v":19},{"$f":"D339","v":"Timer uge"},null,null,null,{"$f":"SUMIF($D$5:$AH$5,AI339,D333:AH333)","v":0}]
[null,null,null,"Overarbejde 50% 1-3 timer",null,null,{"$f":"IF($G339>37,$G339-37-$G341,0)","v":0},null,{"$f":"D340","v":"Overarbejde 50% 1-3 timer"},null,null,null,null,{"$f":"IF($N339>37,$N339-37-$N341,0)","v":0},null,{"$f":"D340","v":"Overarbejde 50% 1-3 timer"},null,null,null,null,{"$f":"IF($U339>37,$U339-37-$U341,0)","v":0},null,{"$f":"D340","v":"Overarbejde 50% 1-3 timer"},null,null,null,null,{"$f":"IF($AB339>37,$AB339-37-$AB341,0)","v":0},null,{"$f":"D340","v":"Overarbejde 50% 1-3 timer"},null,null,null,{"$f":"IF($AH339>37,$AH339-37-$AH341,0)","v":0},null,{"$f":"D340","v":"Overarbejde 50% 1-3 timer"},null,null,null,{"$f":"IF($AH339>37,$AH339-37-$AH341,0)","v":0}]
[null,null,null,"Overarbejde 100% over 3 timer",null,null,{"$f":"IF($G339>40,$G339-40,0)","v":0},null,"Overarbejde 100% over 3 timer",null,null,null,null,{"$f":"IF($N339>40,$N339-40,0)","v":0},null,"Overarbejde 100% over 3 timer",null,null,null,null,{"$f":"IF($U339>40,$U339-40,0)","v":0},null,"Overarbejde 100% over 3 timer",null,null,null,null,{"$f":"IF($AB339>40,$AB339-40,0)","v":0},null,"Overarbejde 100% over 3 timer",null,null,null,{"$f":"IF($AH339>40,$AH339-40,0)","v":0},null,{"$f":"D341","v":"Overarbejde 100% over 3 timer"},null,null,null,{"$f":"IF($AH339>40,$AH339-40,0)","v":0},null,null,null,null,null,null,null,null,null,null,null,null,null,null,null,null,null,null,null,null,null,null,null,null,null,null,null,null,null,null,null,null,null,1,2,3,4,5,6,7,8,9,10,11,12,13,14,15,16,17,18,19,20,21,22,23,24,25,26,27,28,29,30,31,32,33,34,35,36,37,38,39,40,41,42,43,44,45,46,47,48,49,50,51,52]
[{"$f":"Medarbejder!A40","v":0},{"$f":"Medarbejder!B40","v":0},{"$f":"Medarbejder!C40","v":"-"},null,null,null,null,null,null,null,null,null,null,null,null,null,null,null,null,null,null,null,null,null,null,null,null,null,null,null,null,null,null,null,null,null,null,null,null,null,null,{"$f":"AO342*Overenskomst!$C$22","v":0},{"$f":"SUM($D342:$AH342)-$BA342-$BF342-$BD342","v":0},{"$f":"IF(Medarbejder!$J40=\"ja\",$AQ342,\"-\")","v":"-"},{"$f":"SUMIF($D$7:$AH$7,\"søndag\",$D342:$AH342)+$AT342","v":0},{"$f":"SUMIFS($D342:$AH342,$D346:$AH346,\"H\")","v":0},{"$f":"G349+N349+U349+AB349+AH349+AN349","v":0},{"$f":"G350+N350+U350+AB350+AH350+AN350","v":0},{"$f":"SUM($D344:$AH344)","v":0},{"$f":"SUM($D345:$AH345)","v":0},{"$f":"COUNTIFS($D343:$AH343,\"F\")","v":0},{"$f":"COUNTIFS($D343:$AH343,\"S\")","v":0},{"$f":"SUMIF($D343:$AH343,\"S\",$D347:$AH347)","v":0},{"$f":"COUNTIFS($D343:$AH343,\"p\")","v":0},{"$f":"COUNTIFS($D343:$AH343,\"BS\")","v":0},{"$f":"SUMIF(D343:AH343,\"bs\",$D342:$AH342)","v":0},{"$f":"COUNTIFS($D343:$AH343,\"FF\")","v":0},{"$f":"SUMIF($D343:$AH343,\"g\",$D342:$AH342)","v":0},{"$f":"Medarbejder!$N37","v":"-"},{"$f":"SUM($BL342:$BU342)","v":4},null,null,null,{"$f":"COUNTIFS($D$6:$AH$6,\"skærtd\")","v":1},{"$f":"COUNTIFS($D$6:$AH$6,\"langfd\")","v":1},{"$f":"COUNTIFS($D$6:$AH$6,\"1påsked\")","v":1},{"$f":"COUNTIFS($D$6:$AH$6,\"2påsked\")","v":1},{"$f":"COUNTIFS($D$6:$AH$6,\"kr.himmelfart\")","v":0},{"$f":"COUNTIFS($D$6:$AH$6,\"1pinse\")","v":0},{"$f":"COUNTIFS($D$6:$AH$6,\"2pinse\")","v":0},{"$f":"COUNTIFS($D$6:$AH$6,\"1juledag\")","v":0},{"$f":"COUNTIFS($D$6:$AH$6,\"2juledag\")","v":0},{"$f":"COUNTIFS($D$6:$AH$6,\"nytårsdag\")","v":0},{"$f":"SUMIFS($D342:$AH342,Lønskema!$D$5:$AH$5,1)","v":0},{"$f":"SUMIFS($D342:$AH342,Lønskema!$D$5:$AH$5,2)","v":0},{"$f":"SUMIFS($D342:$AH342,Lønskema!$D$5:$AH$5,3)","v":0},{"$f":"SUMIFS($D342:$AH342,Lønskema!$D$5:$AH$5,4)","v":0},{"$f":"SUMIFS($D342:$AH342,Lønskema!$D$5:$AH$5,5)","v":0},{"$f":"SUMIFS($D342:$AH342,Lønskema!$D$5:$AH$5,6)","v":0},{"$f":"SUMIFS($D342:$AH342,Lønskema!$D$5:$AH$5,7)","v":0},{"$f":"SUMIFS($D342:$AH342,Lønskema!$D$5:$AH$5,8)","v":0},{"$f":"SUMIFS($D342:$AH342,Lønskema!$D$5:$AH$5,9)","v":0},{"$f":"SUMIFS($D342:$AH342,Lønskema!$D$5:$AH$5,10)","v":0},{"$f":"SUMIFS($D342:$AH342,Lønskema!$D$5:$AH$5,11)","v":0},{"$f":"SUMIFS($D342:$AH342,Lønskema!$D$5:$AH$5,12)","v":0},{"$f":"SUMIFS($D342:$AH342,Lønskema!$D$5:$AH$5,13)","v":0},{"$f":"SUMIFS($D342:$AH342,Lønskema!$D$5:$AH$5,14)","v":0},{"$f":"SUMIFS($D342:$AH342,Lønskema!$D$5:$AH$5,15)","v":0},{"$f":"SUMIFS($D342:$AH342,Lønskema!$D$5:$AH$5,16)","v":0},{"$f":"SUMIFS($D342:$AH342,Lønskema!$D$5:$AH$5,17)","v":0},{"$f":"SUMIFS($D342:$AH342,Lønskema!$D$5:$AH$5,18)","v":0},{"$f":"SUMIFS($D342:$AH342,Lønskema!$D$5:$AH$5,19)","v":0},{"$f":"SUMIFS($D342:$AH342,Lønskema!$D$5:$AH$5,20)","v":0},{"$f":"SUMIFS($D342:$AH342,Lønskema!$D$5:$AH$5,21)","v":0},{"$f":"SUMIFS($D342:$AH342,Lønskema!$D$5:$AH$5,22)","v":0},{"$f":"SUMIFS($D342:$AH342,Lønskema!$D$5:$AH$5,23)","v":0},{"$f":"SUMIFS($D342:$AH342,Lønskema!$D$5:$AH$5,24)","v":0},{"$f":"SUMIFS($D342:$AH342,Lønskema!$D$5:$AH$5,25)","v":0},{"$f":"SUMIFS($D342:$AH342,Lønskema!$D$5:$AH$5,26)","v":0},{"$f":"SUMIFS($D342:$AH342,Lønskema!$D$5:$AH$5,27)","v":0},{"$f":"SUMIFS($D342:$AH342,Lønskema!$D$5:$AH$5,28)","v":0},{"$f":"SUMIFS($D342:$AH342,Lønskema!$D$5:$AH$5,29)","v":0},{"$f":"SUMIFS($D342:$AH342,Lønskema!$D$5:$AH$5,30)","v":0},{"$f":"SUMIFS($D342:$AH342,Lønskema!$D$5:$AH$5,31)","v":0},{"$f":"SUMIFS($D342:$AH342,Lønskema!$D$5:$AH$5,32)","v":0},{"$f":"SUMIFS($D342:$AH342,Lønskema!$D$5:$AH$5,33)","v":0},{"$f":"SUMIFS($D342:$AH342,Lønskema!$D$5:$AH$5,34)","v":0},{"$f":"SUMIFS($D342:$AH342,Lønskema!$D$5:$AH$5,35)","v":0},{"$f":"SUMIFS($D342:$AH342,Lønskema!$D$5:$AH$5,36)","v":0},{"$f":"SUMIFS($D342:$AH342,Lønskema!$D$5:$AH$5,37)","v":0},{"$f":"SUMIFS($D342:$AH342,Lønskema!$D$5:$AH$5,38)","v":0},{"$f":"SUMIFS($D342:$AH342,Lønskema!$D$5:$AH$5,39)","v":0},{"$f":"SUMIFS($D342:$AH342,Lønskema!$D$5:$AH$5,40)","v":0},{"$f":"SUMIFS($D342:$AH342,Lønskema!$D$5:$AH$5,41)","v":0},{"$f":"SUMIFS($D342:$AH342,Lønskema!$D$5:$AH$5,42)","v":0},{"$f":"SUMIFS($D342:$AH342,Lønskema!$D$5:$AH$5,43)","v":0},{"$f":"SUMIFS($D342:$AH342,Lønskema!$D$5:$AH$5,44)","v":0},{"$f":"SUMIFS($D342:$AH342,Lønskema!$D$5:$AH$5,45)","v":0},{"$f":"SUMIFS($D342:$AH342,Lønskema!$D$5:$AH$5,46)","v":0},{"$f":"SUMIFS($D342:$AH342,Lønskema!$D$5:$AH$5,47)","v":0},{"$f":"SUMIFS($D342:$AH342,Lønskema!$D$5:$AH$5,48)","v":0},{"$f":"SUMIFS($D342:$AH342,Lønskema!$D$5:$AH$5,49)","v":0},{"$f":"SUMIFS($D342:$AH342,Lønskema!$D$5:$AH$5,50)","v":0},{"$f":"SUMIFS($D342:$AH342,Lønskema!$D$5:$AH$5,51)","v":0},{"$f":"SUMIFS($D342:$AH342,Lønskema!$D$5:$AH$5,52)","v":0}]
["Ferie - syg  mm. Registreres i denne række"]
[null,"Aften"]
[null,"Nat"]
[null,"Helligdag",null,{"$f":"_xlfn.IFS(D$7=\"søndag\",\"-\",D$6=\"skærtd\",\"h\",D$6=\"langfd\",\"h\",D$6=\"1påsked\",\"h\",D$6=\"2påsked\",\"h\",D$6=\"kr.himmelfart\",\"h\",D$6=\"1pinse\",\"h\",D$6=\"2pinse\",\"h\",D$6=\"1juledag\",\"h\",D$6=\"2juledag\",\"h\",D$6=\"nytårsdag\",\"h\")","v":{"$error":"#N/A"}},{"$f":"_xlfn.IFS(E$7=\"søndag\",\"-\",E$6=\"skærtd\",\"h\",E$6=\"langfd\",\"h\",E$6=\"1påsked\",\"h\",E$6=\"2påsked\",\"h\",E$6=\"kr.himmelfart\",\"h\",E$6=\"1pinse\",\"h\",E$6=\"2pinse\",\"h\",E$6=\"1juledag\",\"h\",E$6=\"2juledag\",\"h\",E$6=\"nytårsdag\",\"h\")","v":{"$error":"#N/A"}},{"$f":"_xlfn.IFS(F$7=\"søndag\",\"-\",F$6=\"skærtd\",\"h\",F$6=\"langfd\",\"h\",F$6=\"1påsked\",\"h\",F$6=\"2påsked\",\"h\",F$6=\"kr.himmelfart\",\"h\",F$6=\"1pinse\",\"h\",F$6=\"2pinse\",\"h\",F$6=\"1juledag\",\"h\",F$6=\"2juledag\",\"h\",F$6=\"nytårsdag\",\"h\")","v":{"$error":"#N/A"}},{"$f":"_xlfn.IFS(G$7=\"søndag\",\"-\",G$6=\"skærtd\",\"h\",G$6=\"langfd\",\"h\",G$6=\"1påsked\",\"h\",G$6=\"2påsked\",\"h\",G$6=\"kr.himmelfart\",\"h\",G$6=\"1pinse\",\"h\",G$6=\"2pinse\",\"h\",G$6=\"1juledag\",\"h\",G$6=\"2juledag\",\"h\",G$6=\"nytårsdag\",\"h\")","v":{"$error":"#N/A"}},{"$f":"_xlfn.IFS(H$7=\"søndag\",\"-\",H$6=\"skærtd\",\"h\",H$6=\"langfd\",\"h\",H$6=\"1påsked\",\"h\",H$6=\"2påsked\",\"h\",H$6=\"kr.himmelfart\",\"h\",H$6=\"1pinse\",\"h\",H$6=\"2pinse\",\"h\",H$6=\"1juledag\",\"h\",H$6=\"2juledag\",\"h\",H$6=\"nytårsdag\",\"h\")","v":{"$error":"#N/A"}},{"$f":"_xlfn.IFS(I$7=\"søndag\",\"-\",I$6=\"skærtd\",\"h\",I$6=\"langfd\",\"h\",I$6=\"1påsked\",\"h\",I$6=\"2påsked\",\"h\",I$6=\"kr.himmelfart\",\"h\",I$6=\"1pinse\",\"h\",I$6=\"2pinse\",\"h\",I$6=\"1juledag\",\"h\",I$6=\"2juledag\",\"h\",I$6=\"nytårsdag\",\"h\")","v":"-"},{"$f":"_xlfn.IFS(J$7=\"søndag\",\"-\",J$6=\"skærtd\",\"h\",J$6=\"langfd\",\"h\",J$6=\"1påsked\",\"h\",J$6=\"2påsked\",\"h\",J$6=\"kr.himmelfart\",\"h\",J$6=\"1pinse\",\"h\",J$6=\"2pinse\",\"h\",J$6=\"1juledag\",\"h\",J$6=\"2juledag\",\"h\",J$6=\"nytårsdag\",\"h\")","v":{"$error":"#N/A"}},{"$f":"_xlfn.IFS(K$7=\"søndag\",\"-\",K$6=\"skærtd\",\"h\",K$6=\"langfd\",\"h\",K$6=\"1påsked\",\"h\",K$6=\"2påsked\",\"h\",K$6=\"kr.himmelfart\",\"h\",K$6=\"1pinse\",\"h\",K$6=\"2pinse\",\"h\",K$6=\"1juledag\",\"h\",K$6=\"2juledag\",\"h\",K$6=\"nytårsdag\",\"h\")","v":{"$error":"#N/A"}},{"$f":"_xlfn.IFS(L$7=\"søndag\",\"-\",L$6=\"skærtd\",\"h\",L$6=\"langfd\",\"h\",L$6=\"1påsked\",\"h\",L$6=\"2påsked\",\"h\",L$6=\"kr.himmelfart\",\"h\",L$6=\"1pinse\",\"h\",L$6=\"2pinse\",\"h\",L$6=\"1juledag\",\"h\",L$6=\"2juledag\",\"h\",L$6=\"nytårsdag\",\"h\")","v":{"$error":"#N/A"}},{"$f":"_xlfn.IFS(M$7=\"søndag\",\"-\",M$6=\"skærtd\",\"h\",M$6=\"langfd\",\"h\",M$6=\"1påsked\",\"h\",M$6=\"2påsked\",\"h\",M$6=\"kr.himmelfart\",\"h\",M$6=\"1pinse\",\"h\",M$6=\"2pinse\",\"h\",M$6=\"1juledag\",\"h\",M$6=\"2juledag\",\"h\",M$6=\"nytårsdag\",\"h\")","v":{"$error":"#N/A"}},{"$f":"_xlfn.IFS(N$7=\"søndag\",\"-\",N$6=\"skærtd\",\"h\",N$6=\"langfd\",\"h\",N$6=\"1påsked\",\"h\",N$6=\"2påsked\",\"h\",N$6=\"kr.himmelfart\",\"h\",N$6=\"1pinse\",\"h\",N$6=\"2pinse\",\"h\",N$6=\"1juledag\",\"h\",N$6=\"2juledag\",\"h\",N$6=\"nytårsdag\",\"h\")","v":{"$error":"#N/A"}},{"$f":"_xlfn.IFS(O$7=\"søndag\",\"-\",O$6=\"skærtd\",\"h\",O$6=\"langfd\",\"h\",O$6=\"1påsked\",\"h\",O$6=\"2påsked\",\"h\",O$6=\"kr.himmelfart\",\"h\",O$6=\"1pinse\",\"h\",O$6=\"2pinse\",\"h\",O$6=\"1juledag\",\"h\",O$6=\"2juledag\",\"h\",O$6=\"nytårsdag\",\"h\")","v":{"$error":"#N/A"}},{"$f":"_xlfn.IFS(P$7=\"søndag\",\"-\",P$6=\"skærtd\",\"h\",P$6=\"langfd\",\"h\",P$6=\"1påsked\",\"h\",P$6=\"2påsked\",\"h\",P$6=\"kr.himmelfart\",\"h\",P$6=\"1pinse\",\"h\",P$6=\"2pinse\",\"h\",P$6=\"1juledag\",\"h\",P$6=\"2juledag\",\"h\",P$6=\"nytårsdag\",\"h\")","v":"-"},{"$f":"_xlfn.IFS(Q$7=\"søndag\",\"-\",Q$6=\"skærtd\",\"h\",Q$6=\"langfd\",\"h\",Q$6=\"1påsked\",\"h\",Q$6=\"2påsked\",\"h\",Q$6=\"kr.himmelfart\",\"h\",Q$6=\"1pinse\",\"h\",Q$6=\"2pinse\",\"h\",Q$6=\"1juledag\",\"h\",Q$6=\"2juledag\",\"h\",Q$6=\"nytårsdag\",\"h\")","v":{"$error":"#N/A"}},{"$f":"_xlfn.IFS(R$7=\"søndag\",\"-\",R$6=\"skærtd\",\"h\",R$6=\"langfd\",\"h\",R$6=\"1påsked\",\"h\",R$6=\"2påsked\",\"h\",R$6=\"kr.himmelfart\",\"h\",R$6=\"1pinse\",\"h\",R$6=\"2pinse\",\"h\",R$6=\"1juledag\",\"h\",R$6=\"2juledag\",\"h\",R$6=\"nytårsdag\",\"h\")","v":{"$error":"#N/A"}},{"$f":"_xlfn.IFS(S$7=\"søndag\",\"-\",S$6=\"skærtd\",\"h\",S$6=\"langfd\",\"h\",S$6=\"1påsked\",\"h\",S$6=\"2påsked\",\"h\",S$6=\"kr.himmelfart\",\"h\",S$6=\"1pinse\",\"h\",S$6=\"2pinse\",\"h\",S$6=\"1juledag\",\"h\",S$6=\"2juledag\",\"h\",S$6=\"nytårsdag\",\"h\")","v":{"$error":"#N/A"}},{"$f":"_xlfn.IFS(T$7=\"søndag\",\"-\",T$6=\"skærtd\",\"h\",T$6=\"langfd\",\"h\",T$6=\"1påsked\",\"h\",T$6=\"2påsked\",\"h\",T$6=\"kr.himmelfart\",\"h\",T$6=\"1pinse\",\"h\",T$6=\"2pinse\",\"h\",T$6=\"1juledag\",\"h\",T$6=\"2juledag\",\"h\",T$6=\"nytårsdag\",\"h\")","v":"h"},{"$f":"_xlfn.IFS(U$7=\"søndag\",\"-\",U$6=\"skærtd\",\"h\",U$6=\"langfd\",\"h\",U$6=\"1påsked\",\"h\",U$6=\"2påsked\",\"h\",U$6=\"kr.himmelfart\",\"h\",U$6=\"1pinse\",\"h\",U$6=\"2pinse\",\"h\",U$6=\"1juledag\",\"h\",U$6=\"2juledag\",\"h\",U$6=\"nytårsdag\",\"h\")","v":"h"},{"$f":"_xlfn.IFS(V$7=\"søndag\",\"-\",V$6=\"skærtd\",\"h\",V$6=\"langfd\",\"h\",V$6=\"1påsked\",\"h\",V$6=\"2påsked\",\"h\",V$6=\"kr.himmelfart\",\"h\",V$6=\"1pinse\",\"h\",V$6=\"2pinse\",\"h\",V$6=\"1juledag\",\"h\",V$6=\"2juledag\",\"h\",V$6=\"nytårsdag\",\"h\")","v":{"$error":"#N/A"}},{"$f":"_xlfn.IFS(W$7=\"søndag\",\"-\",W$6=\"skærtd\",\"h\",W$6=\"langfd\",\"h\",W$6=\"1påsked\",\"h\",W$6=\"2påsked\",\"h\",W$6=\"kr.himmelfart\",\"h\",W$6=\"1pinse\",\"h\",W$6=\"2pinse\",\"h\",W$6=\"1juledag\",\"h\",W$6=\"2juledag\",\"h\",W$6=\"nytårsdag\",\"h\")","v":"-"},{"$f":"_xlfn.IFS(X$7=\"søndag\",\"-\",X$6=\"skærtd\",\"h\",X$6=\"langfd\",\"h\",X$6=\"1påsked\",\"h\",X$6=\"2påsked\",\"h\",X$6=\"kr.himmelfart\",\"h\",X$6=\"1pinse\",\"h\",X$6=\"2pinse\",\"h\",X$6=\"1juledag\",\"h\",X$6=\"2juledag\",\"h\",X$6=\"nytårsdag\",\"h\")","v":"h"},{"$f":"_xlfn.IFS(Y$7=\"søndag\",\"-\",Y$6=\"skærtd\",\"h\",Y$6=\"langfd\",\"h\",Y$6=\"1påsked\",\"h\",Y$6=\"2påsked\",\"h\",Y$6=\"kr.himmelfart\",\"h\",Y$6=\"1pinse\",\"h\",Y$6=\"2pinse\",\"h\",Y$6=\"1juledag\",\"h\",Y$6=\"2juledag\",\"h\",Y$6=\"nytårsdag\",\"h\")","v":{"$error":"#N/A"}},{"$f":"_xlfn.IFS(Z$7=\"søndag\",\"-\",Z$6=\"skærtd\",\"h\",Z$6=\"langfd\",\"h\",Z$6=\"1påsked\",\"h\",Z$6=\"2påsked\",\"h\",Z$6=\"kr.himmelfart\",\"h\",Z$6=\"1pinse\",\"h\",Z$6=\"2pinse\",\"h\",Z$6=\"1juledag\",\"h\",Z$6=\"2juledag\",\"h\",Z$6=\"nytårsdag\",\"h\")","v":{"$error":"#N/A"}},{"$f":"_xlfn.IFS(AA$7=\"søndag\",\"-\",AA$6=\"skærtd\",\"h\",AA$6=\"langfd\",\"h\",AA$6=\"1påsked\",\"h\",AA$6=\"2påsked\",\"h\",AA$6=\"kr.himmelfart\",\"h\",AA$6=\"1pinse\",\"h\",AA$6=\"2pinse\",\"h\",AA$6=\"1juledag\",\"h\",AA$6=\"2juledag\",\"h\",AA$6=\"nytårsdag\",\"h\")","v":{"$error":"#N/A"}},{"$f":"_xlfn.IFS(AB$7=\"søndag\",\"-\",AB$6=\"skærtd\",\"h\",AB$6=\"langfd\",\"h\",AB$6=\"1påsked\",\"h\",AB$6=\"2påsked\",\"h\",AB$6=\"kr.himmelfart\",\"h\",AB$6=\"1pinse\",\"h\",AB$6=\"2pinse\",\"h\",AB$6=\"1juledag\",\"h\",AB$6=\"2juledag\",\"h\",AB$6=\"nytårsdag\",\"h\")","v":{"$error":"#N/A"}},{"$f":"_xlfn.IFS(AC$7=\"søndag\",\"-\",AC$6=\"skærtd\",\"h\",AC$6=\"langfd\",\"h\",AC$6=\"1påsked\",\"h\",AC$6=\"2påsked\",\"h\",AC$6=\"kr.himmelfart\",\"h\",AC$6=\"1pinse\",\"h\",AC$6=\"2pinse\",\"h\",AC$6=\"1juledag\",\"h\",AC$6=\"2juledag\",\"h\",AC$6=\"nytårsdag\",\"h\")","v":{"$error":"#N/A"}},{"$f":"_xlfn.IFS(AD$7=\"søndag\",\"-\",AD$6=\"skærtd\",\"h\",AD$6=\"langfd\",\"h\",AD$6=\"1påsked\",\"h\",AD$6=\"2påsked\",\"h\",AD$6=\"kr.himmelfart\",\"h\",AD$6=\"1pinse\",\"h\",AD$6=\"2pinse\",\"h\",AD$6=\"1juledag\",\"h\",AD$6=\"2juledag\",\"h\",AD$6=\"nytårsdag\",\"h\")","v":"-"},{"$f":"_xlfn.IFS(AE$7=\"søndag\",\"-\",AE$6=\"skærtd\",\"h\",AE$6=\"langfd\",\"h\",AE$6=\"1påsked\",\"h\",AE$6=\"2påsked\",\"h\",AE$6=\"kr.himmelfart\",\"h\",AE$6=\"1pinse\",\"h\",AE$6=\"2pinse\",\"h\",AE$6=\"1juledag\",\"h\",AE$6=\"2juledag\",\"h\",AE$6=\"nytårsdag\",\"h\")","v":{"$error":"#N/A"}},{"$f":"_xlfn.IFS(AF$7=\"søndag\",\"-\",AF$6=\"skærtd\",\"h\",AF$6=\"langfd\",\"h\",AF$6=\"1påsked\",\"h\",AF$6=\"2påsked\",\"h\",AF$6=\"kr.himmelfart\",\"h\",AF$6=\"1pinse\",\"h\",AF$6=\"2pinse\",\"h\",AF$6=\"1juledag\",\"h\",AF$6=\"2juledag\",\"h\",AF$6=\"nytårsdag\",\"h\")","v":{"$error":"#N/A"}},{"$f":"_xlfn.IFS(AG$7=\"søndag\",\"-\",AG$6=\"skærtd\",\"h\",AG$6=\"langfd\",\"h\",AG$6=\"1påsked\",\"h\",AG$6=\"2påsked\",\"h\",AG$6=\"kr.himmelfart\",\"h\",AG$6=\"1pinse\",\"h\",AG$6=\"2pinse\",\"h\",AG$6=\"1juledag\",\"h\",AG$6=\"2juledag\",\"h\",AG$6=\"nytårsdag\",\"h\")","v":{"$error":"#N/A"}},{"$f":"_xlfn.IFS(AH$7=\"søndag\",\"-\",AH$6=\"skærtd\",\"h\",AH$6=\"langfd\",\"h\",AH$6=\"1påsked\",\"h\",AH$6=\"2påsked\",\"h\",AH$6=\"kr.himmelfart\",\"h\",AH$6=\"1pinse\",\"h\",AH$6=\"2pinse\",\"h\",AH$6=\"1juledag\",\"h\",AH$6=\"2juledag\",\"h\",AH$6=\"nytårsdag\",\"h\")","v":{"$error":"#N/A"}}]
[null,"Sygedage",null,{"$f":"IF(D343=\"s\",D342,\"-\")","v":"-"},{"$f":"IF(E343=\"s\",E342,\"-\")","v":"-"},"-","-","-","-","-","-","-","-","-","-","-","-","-","-","-","-","-","-","-","-","-","-","-","-","-","-","-","-","-"]
[null,null,{"$f":"$C$15","v":14},"Timer uge",null,null,{"$f":"SUMIF($D$5:$AH$5,C348,D342:AH342)","v":0},{"$f":"$H$15","v":15},{"$f":"D348","v":"Timer uge"},null,null,null,null,{"$f":"SUMIF($D$5:$AH$5,H348,D342:AH342)","v":0},{"$f":"$O$15","v":16},{"$f":"D348","v":"Timer uge"},null,null,null,null,{"$f":"_xlfn.IFS($O348=$BV341,$BV342,$O348=$BW341,Lønskema!$BW342,$O348=$BX341,$BX342,$O348=$BY341,$BY342,$O348=$BZ341,$BZ342,$O348=$CA341,$CA342,$O348=$CB341,$CB342,$O348=$CC341,$CC342,$O348=$CD341,$CD342,$O348=$CE341,$CE342,$O348=$CF341,$CF342,$O348=$CG341,$CF342,$O348=$CG341,$CG342,$O348=$CH341,$CH342,$O348=$CI341,$CI342,$O348=$CJ341,$CJ342,$O348=$CK341,$CK342,$O348=$CL341,$CL342,$O348=$CM341,$CM342,$O348=$CN341,$CN342,$O348=$CO341,$CO342,$O348=$CP341,$CP342,$O348=$CQ341,$CQ342,$O348=$CR341,$CR342,$O348=$CS341,$CS342,$O348=$CT341,$CT342,$O348=$CU341,$CU342,$O348=$CV341,$CV342,$O348=$CW341,$CW342,$O348=$CX341,$CX342,$O348=$CY341,$CY342,$O348=$CZ341,$CZ342,$O348=$DA341,$DA342,$O348=$DB341,$DB342,$O348=$DC341,$DC342,$O348=$DD341,$DD342,$O348=$DE341,$DE342,$O348=$DF341,$DF342,$O348=$DG341,$DG342,$O348=$DH341,$DH342,$O348=$DI341,$DI342,$O348=$DJ341,$DJ342,$O348=$DK341,$DK342,$O348=$DL341,$DL342,$O348=$DM341,$DM342,$O348=$DN341,$DN342,$O348=$DO341,$DO342,$O348=$DP341,$DP342,$O348=$DQ341,$DQ342,$O348=$DR341,$DR342,$O348=$DS341,$DS342,$O348=$DT341,$DT342,$O348=$DU341,$DU342)","v":0},{"$f":"$V$15","v":17},{"$f":"D348","v":"Timer uge"},null,null,null,null,{"$f":"SUMIF($D$5:$AH$5,V348,D342:AH342)","v":0},{"$f":"$AC$15","v":18},{"$f":"D348","v":"Timer uge"},null,null,null,{"$f":"SUMIF($D$5:$AH$5,AC348,D342:AH342)","v":0},{"$f":"$AI$15","v":19},{"$f":"D348","v":"Timer uge"},null,null,null,{"$f":"SUMIF($D$5:$AH$5,AI348,D342:AH342)","v":0}]
[null,null,null,"Overarbejde 50% 1-3 timer",null,null,{"$f":"IF($G348>37,$G348-37-$G350,0)","v":0},null,{"$f":"D349","v":"Overarbejde 50% 1-3 timer"},null,null,null,null,{"$f":"IF($N348>37,$N348-37-$N350,0)","v":0},null,{"$f":"D349","v":"Overarbejde 50% 1-3 timer"},null,null,null,null,{"$f":"IF($U348>37,$U348-37-$U350,0)","v":0},null,{"$f":"D349","v":"Overarbejde 50% 1-3 timer"},null,null,null,null,{"$f":"IF($AB348>37,$AB348-37-$AB350,0)","v":0},null,{"$f":"D349","v":"Overarbejde 50% 1-3 timer"},null,null,null,{"$f":"IF($AH348>37,$AH348-37-$AH350,0)","v":0},null,{"$f":"D349","v":"Overarbejde 50% 1-3 timer"},null,null,null,{"$f":"IF($AH348>37,$AH348-37-$AH350,0)","v":0}]
[null,null,null,"Overarbejde 100% over 3 timer",null,null,{"$f":"IF($G348>40,$G348-40,0)","v":0},null,"Overarbejde 100% over 3 timer",null,null,null,null,{"$f":"IF($N348>40,$N348-40,0)","v":0},null,"Overarbejde 100% over 3 timer",null,null,null,null,{"$f":"IF($U348>40,$U348-40,0)","v":0},null,"Overarbejde 100% over 3 timer",null,null,null,null,{"$f":"IF($AB348>40,$AB348-40,0)","v":0},null,"Overarbejde 100% over 3 timer",null,null,null,{"$f":"IF($AH348>40,$AH348-40,0)","v":0},null,{"$f":"D350","v":"Overarbejde 100% over 3 timer"},null,null,null,{"$f":"IF($AH348>40,$AH348-40,0)","v":0},null,null,null,null,null,null,null,null,null,null,null,null,null,null,null,null,null,null,null,null,null,null,null,null,null,null,null,null,null,null,null,null,null,1,2,3,4,5,6,7,8,9,10,11,12,13,14,15,16,17,18,19,20,21,22,23,24,25,26,27,28,29,30,31,32,33,34,35,36,37,38,39,40,41,42,43,44,45,46,47,48,49,50,51,52]
[{"$f":"Medarbejder!A41","v":0},{"$f":"Medarbejder!B41","v":0},{"$f":"Medarbejder!C41","v":"-"},null,null,null,null,null,null,null,null,null,null,null,null,null,null,null,null,null,null,null,null,null,null,null,null,null,null,null,null,null,null,null,null,null,null,null,null,null,null,{"$f":"AO351*Overenskomst!$C$22","v":0},{"$f":"SUM($D351:$AH351)-$BA351-$BF351-$BD351","v":0},{"$f":"IF(Medarbejder!$J41=\"ja\",$AQ351,\"-\")","v":"-"},{"$f":"SUMIF($D$7:$AH$7,\"søndag\",$D351:$AH351)+$AT351","v":0},{"$f":"SUMIFS($D351:$AH351,$D355:$AH355,\"H\")","v":0},{"$f":"G358+N358+U358+AB358+AH358+AN358","v":0},{"$f":"G359+N359+U359+AB359+AH359+AN359","v":0},{"$f":"SUM($D353:$AH353)","v":0},{"$f":"SUM($D354:$AH354)","v":0},{"$f":"COUNTIFS($D352:$AH352,\"F\")","v":0},{"$f":"COUNTIFS($D352:$AH352,\"S\")","v":0},{"$f":"SUMIF($D352:$AH352,\"S\",$D356:$AH356)","v":0},{"$f":"COUNTIFS($D352:$AH352,\"p\")","v":0},{"$f":"COUNTIFS($D352:$AH352,\"BS\")","v":0},{"$f":"SUMIF(D352:AH352,\"bs\",$D351:$AH351)","v":0},{"$f":"COUNTIFS($D352:$AH352,\"FF\")","v":0},{"$f":"SUMIF($D352:$AH352,\"g\",$D351:$AH351)","v":0},{"$f":"Medarbejder!$N38","v":"-"},{"$f":"SUM($BL351:$BU351)","v":4},null,null,null,{"$f":"COUNTIFS($D$6:$AH$6,\"skærtd\")","v":1},{"$f":"COUNTIFS($D$6:$AH$6,\"langfd\")","v":1},{"$f":"COUNTIFS($D$6:$AH$6,\"1påsked\")","v":1},{"$f":"COUNTIFS($D$6:$AH$6,\"2påsked\")","v":1},{"$f":"COUNTIFS($D$6:$AH$6,\"kr.himmelfart\")","v":0},{"$f":"COUNTIFS($D$6:$AH$6,\"1pinse\")","v":0},{"$f":"COUNTIFS($D$6:$AH$6,\"2pinse\")","v":0},{"$f":"COUNTIFS($D$6:$AH$6,\"1juledag\")","v":0},{"$f":"COUNTIFS($D$6:$AH$6,\"2juledag\")","v":0},{"$f":"COUNTIFS($D$6:$AH$6,\"nytårsdag\")","v":0},{"$f":"SUMIFS($D351:$AH351,Lønskema!$D$5:$AH$5,1)","v":0},{"$f":"SUMIFS($D351:$AH351,Lønskema!$D$5:$AH$5,2)","v":0},{"$f":"SUMIFS($D351:$AH351,Lønskema!$D$5:$AH$5,3)","v":0},{"$f":"SUMIFS($D351:$AH351,Lønskema!$D$5:$AH$5,4)","v":0},{"$f":"SUMIFS($D351:$AH351,Lønskema!$D$5:$AH$5,5)","v":0},{"$f":"SUMIFS($D351:$AH351,Lønskema!$D$5:$AH$5,6)","v":0},{"$f":"SUMIFS($D351:$AH351,Lønskema!$D$5:$AH$5,7)","v":0},{"$f":"SUMIFS($D351:$AH351,Lønskema!$D$5:$AH$5,8)","v":0},{"$f":"SUMIFS($D351:$AH351,Lønskema!$D$5:$AH$5,9)","v":0},{"$f":"SUMIFS($D351:$AH351,Lønskema!$D$5:$AH$5,10)","v":0},{"$f":"SUMIFS($D351:$AH351,Lønskema!$D$5:$AH$5,11)","v":0},{"$f":"SUMIFS($D351:$AH351,Lønskema!$D$5:$AH$5,12)","v":0},{"$f":"SUMIFS($D351:$AH351,Lønskema!$D$5:$AH$5,13)","v":0},{"$f":"SUMIFS($D351:$AH351,Lønskema!$D$5:$AH$5,14)","v":0},{"$f":"SUMIFS($D351:$AH351,Lønskema!$D$5:$AH$5,15)","v":0},{"$f":"SUMIFS($D351:$AH351,Lønskema!$D$5:$AH$5,16)","v":0},{"$f":"SUMIFS($D351:$AH351,Lønskema!$D$5:$AH$5,17)","v":0},{"$f":"SUMIFS($D351:$AH351,Lønskema!$D$5:$AH$5,18)","v":0},{"$f":"SUMIFS($D351:$AH351,Lønskema!$D$5:$AH$5,19)","v":0},{"$f":"SUMIFS($D351:$AH351,Lønskema!$D$5:$AH$5,20)","v":0},{"$f":"SUMIFS($D351:$AH351,Lønskema!$D$5:$AH$5,21)","v":0},{"$f":"SUMIFS($D351:$AH351,Lønskema!$D$5:$AH$5,22)","v":0},{"$f":"SUMIFS($D351:$AH351,Lønskema!$D$5:$AH$5,23)","v":0},{"$f":"SUMIFS($D351:$AH351,Lønskema!$D$5:$AH$5,24)","v":0},{"$f":"SUMIFS($D351:$AH351,Lønskema!$D$5:$AH$5,25)","v":0},{"$f":"SUMIFS($D351:$AH351,Lønskema!$D$5:$AH$5,26)","v":0},{"$f":"SUMIFS($D351:$AH351,Lønskema!$D$5:$AH$5,27)","v":0},{"$f":"SUMIFS($D351:$AH351,Lønskema!$D$5:$AH$5,28)","v":0},{"$f":"SUMIFS($D351:$AH351,Lønskema!$D$5:$AH$5,29)","v":0},{"$f":"SUMIFS($D351:$AH351,Lønskema!$D$5:$AH$5,30)","v":0},{"$f":"SUMIFS($D351:$AH351,Lønskema!$D$5:$AH$5,31)","v":0},{"$f":"SUMIFS($D351:$AH351,Lønskema!$D$5:$AH$5,32)","v":0},{"$f":"SUMIFS($D351:$AH351,Lønskema!$D$5:$AH$5,33)","v":0},{"$f":"SUMIFS($D351:$AH351,Lønskema!$D$5:$AH$5,34)","v":0},{"$f":"SUMIFS($D351:$AH351,Lønskema!$D$5:$AH$5,35)","v":0},{"$f":"SUMIFS($D351:$AH351,Lønskema!$D$5:$AH$5,36)","v":0},{"$f":"SUMIFS($D351:$AH351,Lønskema!$D$5:$AH$5,37)","v":0},{"$f":"SUMIFS($D351:$AH351,Lønskema!$D$5:$AH$5,38)","v":0},{"$f":"SUMIFS($D351:$AH351,Lønskema!$D$5:$AH$5,39)","v":0},{"$f":"SUMIFS($D351:$AH351,Lønskema!$D$5:$AH$5,40)","v":0},{"$f":"SUMIFS($D351:$AH351,Lønskema!$D$5:$AH$5,41)","v":0},{"$f":"SUMIFS($D351:$AH351,Lønskema!$D$5:$AH$5,42)","v":0},{"$f":"SUMIFS($D351:$AH351,Lønskema!$D$5:$AH$5,43)","v":0},{"$f":"SUMIFS($D351:$AH351,Lønskema!$D$5:$AH$5,44)","v":0},{"$f":"SUMIFS($D351:$AH351,Lønskema!$D$5:$AH$5,45)","v":0},{"$f":"SUMIFS($D351:$AH351,Lønskema!$D$5:$AH$5,46)","v":0},{"$f":"SUMIFS($D351:$AH351,Lønskema!$D$5:$AH$5,47)","v":0},{"$f":"SUMIFS($D351:$AH351,Lønskema!$D$5:$AH$5,48)","v":0},{"$f":"SUMIFS($D351:$AH351,Lønskema!$D$5:$AH$5,49)","v":0},{"$f":"SUMIFS($D351:$AH351,Lønskema!$D$5:$AH$5,50)","v":0},{"$f":"SUMIFS($D351:$AH351,Lønskema!$D$5:$AH$5,51)","v":0},{"$f":"SUMIFS($D351:$AH351,Lønskema!$D$5:$AH$5,52)","v":0}]
["Ferie - syg  mm. Registreres i denne række"]
[null,"Aften"]
[null,"Nat"]
[null,"Helligdag",null,{"$f":"_xlfn.IFS(D$7=\"søndag\",\"-\",D$6=\"skærtd\",\"h\",D$6=\"langfd\",\"h\",D$6=\"1påsked\",\"h\",D$6=\"2påsked\",\"h\",D$6=\"kr.himmelfart\",\"h\",D$6=\"1pinse\",\"h\",D$6=\"2pinse\",\"h\",D$6=\"1juledag\",\"h\",D$6=\"2juledag\",\"h\",D$6=\"nytårsdag\",\"h\")","v":{"$error":"#N/A"}},{"$f":"_xlfn.IFS(E$7=\"søndag\",\"-\",E$6=\"skærtd\",\"h\",E$6=\"langfd\",\"h\",E$6=\"1påsked\",\"h\",E$6=\"2påsked\",\"h\",E$6=\"kr.himmelfart\",\"h\",E$6=\"1pinse\",\"h\",E$6=\"2pinse\",\"h\",E$6=\"1juledag\",\"h\",E$6=\"2juledag\",\"h\",E$6=\"nytårsdag\",\"h\")","v":{"$error":"#N/A"}},{"$f":"_xlfn.IFS(F$7=\"søndag\",\"-\",F$6=\"skærtd\",\"h\",F$6=\"langfd\",\"h\",F$6=\"1påsked\",\"h\",F$6=\"2påsked\",\"h\",F$6=\"kr.himmelfart\",\"h\",F$6=\"1pinse\",\"h\",F$6=\"2pinse\",\"h\",F$6=\"1juledag\",\"h\",F$6=\"2juledag\",\"h\",F$6=\"nytårsdag\",\"h\")","v":{"$error":"#N/A"}},{"$f":"_xlfn.IFS(G$7=\"søndag\",\"-\",G$6=\"skærtd\",\"h\",G$6=\"langfd\",\"h\",G$6=\"1påsked\",\"h\",G$6=\"2påsked\",\"h\",G$6=\"kr.himmelfart\",\"h\",G$6=\"1pinse\",\"h\",G$6=\"2pinse\",\"h\",G$6=\"1juledag\",\"h\",G$6=\"2juledag\",\"h\",G$6=\"nytårsdag\",\"h\")","v":{"$error":"#N/A"}},{"$f":"_xlfn.IFS(H$7=\"søndag\",\"-\",H$6=\"skærtd\",\"h\",H$6=\"langfd\",\"h\",H$6=\"1påsked\",\"h\",H$6=\"2påsked\",\"h\",H$6=\"kr.himmelfart\",\"h\",H$6=\"1pinse\",\"h\",H$6=\"2pinse\",\"h\",H$6=\"1juledag\",\"h\",H$6=\"2juledag\",\"h\",H$6=\"nytårsdag\",\"h\")","v":{"$error":"#N/A"}},{"$f":"_xlfn.IFS(I$7=\"søndag\",\"-\",I$6=\"skærtd\",\"h\",I$6=\"langfd\",\"h\",I$6=\"1påsked\",\"h\",I$6=\"2påsked\",\"h\",I$6=\"kr.himmelfart\",\"h\",I$6=\"1pinse\",\"h\",I$6=\"2pinse\",\"h\",I$6=\"1juledag\",\"h\",I$6=\"2juledag\",\"h\",I$6=\"nytårsdag\",\"h\")","v":"-"},{"$f":"_xlfn.IFS(J$7=\"søndag\",\"-\",J$6=\"skærtd\",\"h\",J$6=\"langfd\",\"h\",J$6=\"1påsked\",\"h\",J$6=\"2påsked\",\"h\",J$6=\"kr.himmelfart\",\"h\",J$6=\"1pinse\",\"h\",J$6=\"2pinse\",\"h\",J$6=\"1juledag\",\"h\",J$6=\"2juledag\",\"h\",J$6=\"nytårsdag\",\"h\")","v":{"$error":"#N/A"}},{"$f":"_xlfn.IFS(K$7=\"søndag\",\"-\",K$6=\"skærtd\",\"h\",K$6=\"langfd\",\"h\",K$6=\"1påsked\",\"h\",K$6=\"2påsked\",\"h\",K$6=\"kr.himmelfart\",\"h\",K$6=\"1pinse\",\"h\",K$6=\"2pinse\",\"h\",K$6=\"1juledag\",\"h\",K$6=\"2juledag\",\"h\",K$6=\"nytårsdag\",\"h\")","v":{"$error":"#N/A"}},{"$f":"_xlfn.IFS(L$7=\"søndag\",\"-\",L$6=\"skærtd\",\"h\",L$6=\"langfd\",\"h\",L$6=\"1påsked\",\"h\",L$6=\"2påsked\",\"h\",L$6=\"kr.himmelfart\",\"h\",L$6=\"1pinse\",\"h\",L$6=\"2pinse\",\"h\",L$6=\"1juledag\",\"h\",L$6=\"2juledag\",\"h\",L$6=\"nytårsdag\",\"h\")","v":{"$error":"#N/A"}},{"$f":"_xlfn.IFS(M$7=\"søndag\",\"-\",M$6=\"skærtd\",\"h\",M$6=\"langfd\",\"h\",M$6=\"1påsked\",\"h\",M$6=\"2påsked\",\"h\",M$6=\"kr.himmelfart\",\"h\",M$6=\"1pinse\",\"h\",M$6=\"2pinse\",\"h\",M$6=\"1juledag\",\"h\",M$6=\"2juledag\",\"h\",M$6=\"nytårsdag\",\"h\")","v":{"$error":"#N/A"}},{"$f":"_xlfn.IFS(N$7=\"søndag\",\"-\",N$6=\"skærtd\",\"h\",N$6=\"langfd\",\"h\",N$6=\"1påsked\",\"h\",N$6=\"2påsked\",\"h\",N$6=\"kr.himmelfart\",\"h\",N$6=\"1pinse\",\"h\",N$6=\"2pinse\",\"h\",N$6=\"1juledag\",\"h\",N$6=\"2juledag\",\"h\",N$6=\"nytårsdag\",\"h\")","v":{"$error":"#N/A"}},{"$f":"_xlfn.IFS(O$7=\"søndag\",\"-\",O$6=\"skærtd\",\"h\",O$6=\"langfd\",\"h\",O$6=\"1påsked\",\"h\",O$6=\"2påsked\",\"h\",O$6=\"kr.himmelfart\",\"h\",O$6=\"1pinse\",\"h\",O$6=\"2pinse\",\"h\",O$6=\"1juledag\",\"h\",O$6=\"2juledag\",\"h\",O$6=\"nytårsdag\",\"h\")","v":{"$error":"#N/A"}},{"$f":"_xlfn.IFS(P$7=\"søndag\",\"-\",P$6=\"skærtd\",\"h\",P$6=\"langfd\",\"h\",P$6=\"1påsked\",\"h\",P$6=\"2påsked\",\"h\",P$6=\"kr.himmelfart\",\"h\",P$6=\"1pinse\",\"h\",P$6=\"2pinse\",\"h\",P$6=\"1juledag\",\"h\",P$6=\"2juledag\",\"h\",P$6=\"nytårsdag\",\"h\")","v":"-"},{"$f":"_xlfn.IFS(Q$7=\"søndag\",\"-\",Q$6=\"skærtd\",\"h\",Q$6=\"langfd\",\"h\",Q$6=\"1påsked\",\"h\",Q$6=\"2påsked\",\"h\",Q$6=\"kr.himmelfart\",\"h\",Q$6=\"1pinse\",\"h\",Q$6=\"2pinse\",\"h\",Q$6=\"1juledag\",\"h\",Q$6=\"2juledag\",\"h\",Q$6=\"nytårsdag\",\"h\")","v":{"$error":"#N/A"}},{"$f":"_xlfn.IFS(R$7=\"søndag\",\"-\",R$6=\"skærtd\",\"h\",R$6=\"langfd\",\"h\",R$6=\"1påsked\",\"h\",R$6=\"2påsked\",\"h\",R$6=\"kr.himmelfart\",\"h\",R$6=\"1pinse\",\"h\",R$6=\"2pinse\",\"h\",R$6=\"1juledag\",\"h\",R$6=\"2juledag\",\"h\",R$6=\"nytårsdag\",\"h\")","v":{"$error":"#N/A"}},{"$f":"_xlfn.IFS(S$7=\"søndag\",\"-\",S$6=\"skærtd\",\"h\",S$6=\"langfd\",\"h\",S$6=\"1påsked\",\"h\",S$6=\"2påsked\",\"h\",S$6=\"kr.himmelfart\",\"h\",S$6=\"1pinse\",\"h\",S$6=\"2pinse\",\"h\",S$6=\"1juledag\",\"h\",S$6=\"2juledag\",\"h\",S$6=\"nytårsdag\",\"h\")","v":{"$error":"#N/A"}},{"$f":"_xlfn.IFS(T$7=\"søndag\",\"-\",T$6=\"skærtd\",\"h\",T$6=\"langfd\",\"h\",T$6=\"1påsked\",\"h\",T$6=\"2påsked\",\"h\",T$6=\"kr.himmelfart\",\"h\",T$6=\"1pinse\",\"h\",T$6=\"2pinse\",\"h\",T$6=\"1juledag\",\"h\",T$6=\"2juledag\",\"h\",T$6=\"nytårsdag\",\"h\")","v":"h"},{"$f":"_xlfn.IFS(U$7=\"søndag\",\"-\",U$6=\"skærtd\",\"h\",U$6=\"langfd\",\"h\",U$6=\"1påsked\",\"h\",U$6=\"2påsked\",\"h\",U$6=\"kr.himmelfart\",\"h\",U$6=\"1pinse\",\"h\",U$6=\"2pinse\",\"h\",U$6=\"1juledag\",\"h\",U$6=\"2juledag\",\"h\",U$6=\"nytårsdag\",\"h\")","v":"h"},{"$f":"_xlfn.IFS(V$7=\"søndag\",\"-\",V$6=\"skærtd\",\"h\",V$6=\"langfd\",\"h\",V$6=\"1påsked\",\"h\",V$6=\"2påsked\",\"h\",V$6=\"kr.himmelfart\",\"h\",V$6=\"1pinse\",\"h\",V$6=\"2pinse\",\"h\",V$6=\"1juledag\",\"h\",V$6=\"2juledag\",\"h\",V$6=\"nytårsdag\",\"h\")","v":{"$error":"#N/A"}},{"$f":"_xlfn.IFS(W$7=\"søndag\",\"-\",W$6=\"skærtd\",\"h\",W$6=\"langfd\",\"h\",W$6=\"1påsked\",\"h\",W$6=\"2påsked\",\"h\",W$6=\"kr.himmelfart\",\"h\",W$6=\"1pinse\",\"h\",W$6=\"2pinse\",\"h\",W$6=\"1juledag\",\"h\",W$6=\"2juledag\",\"h\",W$6=\"nytårsdag\",\"h\")","v":"-"},{"$f":"_xlfn.IFS(X$7=\"søndag\",\"-\",X$6=\"skærtd\",\"h\",X$6=\"langfd\",\"h\",X$6=\"1påsked\",\"h\",X$6=\"2påsked\",\"h\",X$6=\"kr.himmelfart\",\"h\",X$6=\"1pinse\",\"h\",X$6=\"2pinse\",\"h\",X$6=\"1juledag\",\"h\",X$6=\"2juledag\",\"h\",X$6=\"nytårsdag\",\"h\")","v":"h"},{"$f":"_xlfn.IFS(Y$7=\"søndag\",\"-\",Y$6=\"skærtd\",\"h\",Y$6=\"langfd\",\"h\",Y$6=\"1påsked\",\"h\",Y$6=\"2påsked\",\"h\",Y$6=\"kr.himmelfart\",\"h\",Y$6=\"1pinse\",\"h\",Y$6=\"2pinse\",\"h\",Y$6=\"1juledag\",\"h\",Y$6=\"2juledag\",\"h\",Y$6=\"nytårsdag\",\"h\")","v":{"$error":"#N/A"}},{"$f":"_xlfn.IFS(Z$7=\"søndag\",\"-\",Z$6=\"skærtd\",\"h\",Z$6=\"langfd\",\"h\",Z$6=\"1påsked\",\"h\",Z$6=\"2påsked\",\"h\",Z$6=\"kr.himmelfart\",\"h\",Z$6=\"1pinse\",\"h\",Z$6=\"2pinse\",\"h\",Z$6=\"1juledag\",\"h\",Z$6=\"2juledag\",\"h\",Z$6=\"nytårsdag\",\"h\")","v":{"$error":"#N/A"}},{"$f":"_xlfn.IFS(AA$7=\"søndag\",\"-\",AA$6=\"skærtd\",\"h\",AA$6=\"langfd\",\"h\",AA$6=\"1påsked\",\"h\",AA$6=\"2påsked\",\"h\",AA$6=\"kr.himmelfart\",\"h\",AA$6=\"1pinse\",\"h\",AA$6=\"2pinse\",\"h\",AA$6=\"1juledag\",\"h\",AA$6=\"2juledag\",\"h\",AA$6=\"nytårsdag\",\"h\")","v":{"$error":"#N/A"}},{"$f":"_xlfn.IFS(AB$7=\"søndag\",\"-\",AB$6=\"skærtd\",\"h\",AB$6=\"langfd\",\"h\",AB$6=\"1påsked\",\"h\",AB$6=\"2påsked\",\"h\",AB$6=\"kr.himmelfart\",\"h\",AB$6=\"1pinse\",\"h\",AB$6=\"2pinse\",\"h\",AB$6=\"1juledag\",\"h\",AB$6=\"2juledag\",\"h\",AB$6=\"nytårsdag\",\"h\")","v":{"$error":"#N/A"}},{"$f":"_xlfn.IFS(AC$7=\"søndag\",\"-\",AC$6=\"skærtd\",\"h\",AC$6=\"langfd\",\"h\",AC$6=\"1påsked\",\"h\",AC$6=\"2påsked\",\"h\",AC$6=\"kr.himmelfart\",\"h\",AC$6=\"1pinse\",\"h\",AC$6=\"2pinse\",\"h\",AC$6=\"1juledag\",\"h\",AC$6=\"2juledag\",\"h\",AC$6=\"nytårsdag\",\"h\")","v":{"$error":"#N/A"}},{"$f":"_xlfn.IFS(AD$7=\"søndag\",\"-\",AD$6=\"skærtd\",\"h\",AD$6=\"langfd\",\"h\",AD$6=\"1påsked\",\"h\",AD$6=\"2påsked\",\"h\",AD$6=\"kr.himmelfart\",\"h\",AD$6=\"1pinse\",\"h\",AD$6=\"2pinse\",\"h\",AD$6=\"1juledag\",\"h\",AD$6=\"2juledag\",\"h\",AD$6=\"nytårsdag\",\"h\")","v":"-"},{"$f":"_xlfn.IFS(AE$7=\"søndag\",\"-\",AE$6=\"skærtd\",\"h\",AE$6=\"langfd\",\"h\",AE$6=\"1påsked\",\"h\",AE$6=\"2påsked\",\"h\",AE$6=\"kr.himmelfart\",\"h\",AE$6=\"1pinse\",\"h\",AE$6=\"2pinse\",\"h\",AE$6=\"1juledag\",\"h\",AE$6=\"2juledag\",\"h\",AE$6=\"nytårsdag\",\"h\")","v":{"$error":"#N/A"}},{"$f":"_xlfn.IFS(AF$7=\"søndag\",\"-\",AF$6=\"skærtd\",\"h\",AF$6=\"langfd\",\"h\",AF$6=\"1påsked\",\"h\",AF$6=\"2påsked\",\"h\",AF$6=\"kr.himmelfart\",\"h\",AF$6=\"1pinse\",\"h\",AF$6=\"2pinse\",\"h\",AF$6=\"1juledag\",\"h\",AF$6=\"2juledag\",\"h\",AF$6=\"nytårsdag\",\"h\")","v":{"$error":"#N/A"}},{"$f":"_xlfn.IFS(AG$7=\"søndag\",\"-\",AG$6=\"skærtd\",\"h\",AG$6=\"langfd\",\"h\",AG$6=\"1påsked\",\"h\",AG$6=\"2påsked\",\"h\",AG$6=\"kr.himmelfart\",\"h\",AG$6=\"1pinse\",\"h\",AG$6=\"2pinse\",\"h\",AG$6=\"1juledag\",\"h\",AG$6=\"2juledag\",\"h\",AG$6=\"nytårsdag\",\"h\")","v":{"$error":"#N/A"}},{"$f":"_xlfn.IFS(AH$7=\"søndag\",\"-\",AH$6=\"skærtd\",\"h\",AH$6=\"langfd\",\"h\",AH$6=\"1påsked\",\"h\",AH$6=\"2påsked\",\"h\",AH$6=\"kr.himmelfart\",\"h\",AH$6=\"1pinse\",\"h\",AH$6=\"2pinse\",\"h\",AH$6=\"1juledag\",\"h\",AH$6=\"2juledag\",\"h\",AH$6=\"nytårsdag\",\"h\")","v":{"$error":"#N/A"}}]
[null,"Sygedage",null,{"$f":"IF(D352=\"s\",D351,\"-\")","v":"-"},{"$f":"IF(E352=\"s\",E351,\"-\")","v":"-"},"-","-","-","-","-","-","-","-","-","-","-","-","-","-","-","-","-","-","-","-","-","-","-","-","-","-","-","-","-"]
[null,null,{"$f":"$C$15","v":14},"Timer uge",null,null,{"$f":"SUMIF($D$5:$AH$5,C357,D351:AH351)","v":0},{"$f":"$H$15","v":15},{"$f":"D357","v":"Timer uge"},null,null,null,null,{"$f":"SUMIF($D$5:$AH$5,H357,D351:AH351)","v":0},{"$f":"$O$15","v":16},{"$f":"D357","v":"Timer uge"},null,null,null,null,{"$f":"_xlfn.IFS($O357=$BV350,$BV351,$O357=$BW350,Lønskema!$BW351,$O357=$BX350,$BX351,$O357=$BY350,$BY351,$O357=$BZ350,$BZ351,$O357=$CA350,$CA351,$O357=$CB350,$CB351,$O357=$CC350,$CC351,$O357=$CD350,$CD351,$O357=$CE350,$CE351,$O357=$CF350,$CF351,$O357=$CG350,$CF351,$O357=$CG350,$CG351,$O357=$CH350,$CH351,$O357=$CI350,$CI351,$O357=$CJ350,$CJ351,$O357=$CK350,$CK351,$O357=$CL350,$CL351,$O357=$CM350,$CM351,$O357=$CN350,$CN351,$O357=$CO350,$CO351,$O357=$CP350,$CP351,$O357=$CQ350,$CQ351,$O357=$CR350,$CR351,$O357=$CS350,$CS351,$O357=$CT350,$CT351,$O357=$CU350,$CU351,$O357=$CV350,$CV351,$O357=$CW350,$CW351,$O357=$CX350,$CX351,$O357=$CY350,$CY351,$O357=$CZ350,$CZ351,$O357=$DA350,$DA351,$O357=$DB350,$DB351,$O357=$DC350,$DC351,$O357=$DD350,$DD351,$O357=$DE350,$DE351,$O357=$DF350,$DF351,$O357=$DG350,$DG351,$O357=$DH350,$DH351,$O357=$DI350,$DI351,$O357=$DJ350,$DJ351,$O357=$DK350,$DK351,$O357=$DL350,$DL351,$O357=$DM350,$DM351,$O357=$DN350,$DN351,$O357=$DO350,$DO351,$O357=$DP350,$DP351,$O357=$DQ350,$DQ351,$O357=$DR350,$DR351,$O357=$DS350,$DS351,$O357=$DT350,$DT351,$O357=$DU350,$DU351)","v":0},{"$f":"$V$15","v":17},{"$f":"D357","v":"Timer uge"},null,null,null,null,{"$f":"SUMIF($D$5:$AH$5,V357,D351:AH351)","v":0},{"$f":"$AC$15","v":18},{"$f":"D357","v":"Timer uge"},null,null,null,{"$f":"SUMIF($D$5:$AH$5,AC357,D351:AH351)","v":0},{"$f":"$AI$15","v":19},{"$f":"D357","v":"Timer uge"},null,null,null,{"$f":"SUMIF($D$5:$AH$5,AI357,D351:AH351)","v":0}]
[null,null,null,"Overarbejde 50% 1-3 timer",null,null,{"$f":"IF($G357>37,$G357-37-$G359,0)","v":0},null,{"$f":"D358","v":"Overarbejde 50% 1-3 timer"},null,null,null,null,{"$f":"IF($N357>37,$N357-37-$N359,0)","v":0},null,{"$f":"D358","v":"Overarbejde 50% 1-3 timer"},null,null,null,null,{"$f":"IF($U357>37,$U357-37-$U359,0)","v":0},null,{"$f":"D358","v":"Overarbejde 50% 1-3 timer"},null,null,null,null,{"$f":"IF($AB357>37,$AB357-37-$AB359,0)","v":0},null,{"$f":"D358","v":"Overarbejde 50% 1-3 timer"},null,null,null,{"$f":"IF($AH357>37,$AH357-37-$AH359,0)","v":0},null,{"$f":"D358","v":"Overarbejde 50% 1-3 timer"},null,null,null,{"$f":"IF($AH357>37,$AH357-37-$AH359,0)","v":0}]
[null,null,null,"Overarbejde 100% over 3 timer",null,null,{"$f":"IF($G357>40,$G357-40,0)","v":0},null,"Overarbejde 100% over 3 timer",null,null,null,null,{"$f":"IF($N357>40,$N357-40,0)","v":0},null,"Overarbejde 100% over 3 timer",null,null,null,null,{"$f":"IF($U357>40,$U357-40,0)","v":0},null,"Overarbejde 100% over 3 timer",null,null,null,null,{"$f":"IF($AB357>40,$AB357-40,0)","v":0},null,"Overarbejde 100% over 3 timer",null,null,null,{"$f":"IF($AH357>40,$AH357-40,0)","v":0},null,{"$f":"D359","v":"Overarbejde 100% over 3 timer"},null,null,null,{"$f":"IF($AH357>40,$AH357-40,0)","v":0},null,null,null,null,null,null,null,null,null,null,null,null,null,null,null,null,null,null,null,null,null,null,null,null,null,null,null,null,null,null,null,null,null,1,2,3,4,5,6,7,8,9,10,11,12,13,14,15,16,17,18,19,20,21,22,23,24,25,26,27,28,29,30,31,32,33,34,35,36,37,38,39,40,41,42,43,44,45,46,47,48,49,50,51,52]
[{"$f":"Medarbejder!A42","v":0},{"$f":"Medarbejder!B42","v":0},{"$f":"Medarbejder!C42","v":"-"},null,null,null,null,null,null,null,null,null,null,null,null,null,null,null,null,null,null,null,null,null,null,null,null,null,null,null,null,null,null,null,null,null,null,null,null,null,null,{"$f":"AO360*Overenskomst!$C$22","v":0},{"$f":"SUM($D360:$AH360)-$BA360-$BF360-$BD360","v":0},{"$f":"IF(Medarbejder!$J42=\"ja\",$AQ360,\"-\")","v":"-"},{"$f":"SUMIF($D$7:$AH$7,\"søndag\",$D360:$AH360)+$AT360","v":0},{"$f":"SUMIFS($D360:$AH360,$D364:$AH364,\"H\")","v":0},{"$f":"G367+N367+U367+AB367+AH367+AN367","v":0},{"$f":"G368+N368+U368+AB368+AH368+AN368","v":0},{"$f":"SUM($D362:$AH362)","v":0},{"$f":"SUM($D363:$AH363)","v":0},{"$f":"COUNTIFS($D361:$AH361,\"F\")","v":0},{"$f":"COUNTIFS($D361:$AH361,\"S\")","v":0},{"$f":"SUMIF($D361:$AH361,\"S\",$D365:$AH365)","v":0},{"$f":"COUNTIFS($D361:$AH361,\"p\")","v":0},{"$f":"COUNTIFS($D361:$AH361,\"BS\")","v":0},{"$f":"SUMIF(D361:AH361,\"bs\",$D360:$AH360)","v":0},{"$f":"COUNTIFS($D361:$AH361,\"FF\")","v":0},{"$f":"SUMIF($D361:$AH361,\"g\",$D360:$AH360)","v":0},{"$f":"Medarbejder!$N39","v":"-"},{"$f":"SUM($BL360:$BU360)","v":4},null,null,null,{"$f":"COUNTIFS($D$6:$AH$6,\"skærtd\")","v":1},{"$f":"COUNTIFS($D$6:$AH$6,\"langfd\")","v":1},{"$f":"COUNTIFS($D$6:$AH$6,\"1påsked\")","v":1},{"$f":"COUNTIFS($D$6:$AH$6,\"2påsked\")","v":1},{"$f":"COUNTIFS($D$6:$AH$6,\"kr.himmelfart\")","v":0},{"$f":"COUNTIFS($D$6:$AH$6,\"1pinse\")","v":0},{"$f":"COUNTIFS($D$6:$AH$6,\"2pinse\")","v":0},{"$f":"COUNTIFS($D$6:$AH$6,\"1juledag\")","v":0},{"$f":"COUNTIFS($D$6:$AH$6,\"2juledag\")","v":0},{"$f":"COUNTIFS($D$6:$AH$6,\"nytårsdag\")","v":0},{"$f":"SUMIFS($D360:$AH360,Lønskema!$D$5:$AH$5,1)","v":0},{"$f":"SUMIFS($D360:$AH360,Lønskema!$D$5:$AH$5,2)","v":0},{"$f":"SUMIFS($D360:$AH360,Lønskema!$D$5:$AH$5,3)","v":0},{"$f":"SUMIFS($D360:$AH360,Lønskema!$D$5:$AH$5,4)","v":0},{"$f":"SUMIFS($D360:$AH360,Lønskema!$D$5:$AH$5,5)","v":0},{"$f":"SUMIFS($D360:$AH360,Lønskema!$D$5:$AH$5,6)","v":0},{"$f":"SUMIFS($D360:$AH360,Lønskema!$D$5:$AH$5,7)","v":0},{"$f":"SUMIFS($D360:$AH360,Lønskema!$D$5:$AH$5,8)","v":0},{"$f":"SUMIFS($D360:$AH360,Lønskema!$D$5:$AH$5,9)","v":0},{"$f":"SUMIFS($D360:$AH360,Lønskema!$D$5:$AH$5,10)","v":0},{"$f":"SUMIFS($D360:$AH360,Lønskema!$D$5:$AH$5,11)","v":0},{"$f":"SUMIFS($D360:$AH360,Lønskema!$D$5:$AH$5,12)","v":0},{"$f":"SUMIFS($D360:$AH360,Lønskema!$D$5:$AH$5,13)","v":0},{"$f":"SUMIFS($D360:$AH360,Lønskema!$D$5:$AH$5,14)","v":0},{"$f":"SUMIFS($D360:$AH360,Lønskema!$D$5:$AH$5,15)","v":0},{"$f":"SUMIFS($D360:$AH360,Lønskema!$D$5:$AH$5,16)","v":0},{"$f":"SUMIFS($D360:$AH360,Lønskema!$D$5:$AH$5,17)","v":0},{"$f":"SUMIFS($D360:$AH360,Lønskema!$D$5:$AH$5,18)","v":0},{"$f":"SUMIFS($D360:$AH360,Lønskema!$D$5:$AH$5,19)","v":0},{"$f":"SUMIFS($D360:$AH360,Lønskema!$D$5:$AH$5,20)","v":0},{"$f":"SUMIFS($D360:$AH360,Lønskema!$D$5:$AH$5,21)","v":0},{"$f":"SUMIFS($D360:$AH360,Lønskema!$D$5:$AH$5,22)","v":0},{"$f":"SUMIFS($D360:$AH360,Lønskema!$D$5:$AH$5,23)","v":0},{"$f":"SUMIFS($D360:$AH360,Lønskema!$D$5:$AH$5,24)","v":0},{"$f":"SUMIFS($D360:$AH360,Lønskema!$D$5:$AH$5,25)","v":0},{"$f":"SUMIFS($D360:$AH360,Lønskema!$D$5:$AH$5,26)","v":0},{"$f":"SUMIFS($D360:$AH360,Lønskema!$D$5:$AH$5,27)","v":0},{"$f":"SUMIFS($D360:$AH360,Lønskema!$D$5:$AH$5,28)","v":0},{"$f":"SUMIFS($D360:$AH360,Lønskema!$D$5:$AH$5,29)","v":0},{"$f":"SUMIFS($D360:$AH360,Lønskema!$D$5:$AH$5,30)","v":0},{"$f":"SUMIFS($D360:$AH360,Lønskema!$D$5:$AH$5,31)","v":0},{"$f":"SUMIFS($D360:$AH360,Lønskema!$D$5:$AH$5,32)","v":0},{"$f":"SUMIFS($D360:$AH360,Lønskema!$D$5:$AH$5,33)","v":0},{"$f":"SUMIFS($D360:$AH360,Lønskema!$D$5:$AH$5,34)","v":0},{"$f":"SUMIFS($D360:$AH360,Lønskema!$D$5:$AH$5,35)","v":0},{"$f":"SUMIFS($D360:$AH360,Lønskema!$D$5:$AH$5,36)","v":0},{"$f":"SUMIFS($D360:$AH360,Lønskema!$D$5:$AH$5,37)","v":0},{"$f":"SUMIFS($D360:$AH360,Lønskema!$D$5:$AH$5,38)","v":0},{"$f":"SUMIFS($D360:$AH360,Lønskema!$D$5:$AH$5,39)","v":0},{"$f":"SUMIFS($D360:$AH360,Lønskema!$D$5:$AH$5,40)","v":0},{"$f":"SUMIFS($D360:$AH360,Lønskema!$D$5:$AH$5,41)","v":0},{"$f":"SUMIFS($D360:$AH360,Lønskema!$D$5:$AH$5,42)","v":0},{"$f":"SUMIFS($D360:$AH360,Lønskema!$D$5:$AH$5,43)","v":0},{"$f":"SUMIFS($D360:$AH360,Lønskema!$D$5:$AH$5,44)","v":0},{"$f":"SUMIFS($D360:$AH360,Lønskema!$D$5:$AH$5,45)","v":0},{"$f":"SUMIFS($D360:$AH360,Lønskema!$D$5:$AH$5,46)","v":0},{"$f":"SUMIFS($D360:$AH360,Lønskema!$D$5:$AH$5,47)","v":0},{"$f":"SUMIFS($D360:$AH360,Lønskema!$D$5:$AH$5,48)","v":0},{"$f":"SUMIFS($D360:$AH360,Lønskema!$D$5:$AH$5,49)","v":0},{"$f":"SUMIFS($D360:$AH360,Lønskema!$D$5:$AH$5,50)","v":0},{"$f":"SUMIFS($D360:$AH360,Lønskema!$D$5:$AH$5,51)","v":0},{"$f":"SUMIFS($D360:$AH360,Lønskema!$D$5:$AH$5,52)","v":0}]
["Ferie - syg  mm. Registreres i denne række"]
[null,"Aften"]
[null,"Nat"]
[null,"Helligdag",null,{"$f":"_xlfn.IFS(D$7=\"søndag\",\"-\",D$6=\"skærtd\",\"h\",D$6=\"langfd\",\"h\",D$6=\"1påsked\",\"h\",D$6=\"2påsked\",\"h\",D$6=\"kr.himmelfart\",\"h\",D$6=\"1pinse\",\"h\",D$6=\"2pinse\",\"h\",D$6=\"1juledag\",\"h\",D$6=\"2juledag\",\"h\",D$6=\"nytårsdag\",\"h\")","v":{"$error":"#N/A"}},{"$f":"_xlfn.IFS(E$7=\"søndag\",\"-\",E$6=\"skærtd\",\"h\",E$6=\"langfd\",\"h\",E$6=\"1påsked\",\"h\",E$6=\"2påsked\",\"h\",E$6=\"kr.himmelfart\",\"h\",E$6=\"1pinse\",\"h\",E$6=\"2pinse\",\"h\",E$6=\"1juledag\",\"h\",E$6=\"2juledag\",\"h\",E$6=\"nytårsdag\",\"h\")","v":{"$error":"#N/A"}},{"$f":"_xlfn.IFS(F$7=\"søndag\",\"-\",F$6=\"skærtd\",\"h\",F$6=\"langfd\",\"h\",F$6=\"1påsked\",\"h\",F$6=\"2påsked\",\"h\",F$6=\"kr.himmelfart\",\"h\",F$6=\"1pinse\",\"h\",F$6=\"2pinse\",\"h\",F$6=\"1juledag\",\"h\",F$6=\"2juledag\",\"h\",F$6=\"nytårsdag\",\"h\")","v":{"$error":"#N/A"}},{"$f":"_xlfn.IFS(G$7=\"søndag\",\"-\",G$6=\"skærtd\",\"h\",G$6=\"langfd\",\"h\",G$6=\"1påsked\",\"h\",G$6=\"2påsked\",\"h\",G$6=\"kr.himmelfart\",\"h\",G$6=\"1pinse\",\"h\",G$6=\"2pinse\",\"h\",G$6=\"1juledag\",\"h\",G$6=\"2juledag\",\"h\",G$6=\"nytårsdag\",\"h\")","v":{"$error":"#N/A"}},{"$f":"_xlfn.IFS(H$7=\"søndag\",\"-\",H$6=\"skærtd\",\"h\",H$6=\"langfd\",\"h\",H$6=\"1påsked\",\"h\",H$6=\"2påsked\",\"h\",H$6=\"kr.himmelfart\",\"h\",H$6=\"1pinse\",\"h\",H$6=\"2pinse\",\"h\",H$6=\"1juledag\",\"h\",H$6=\"2juledag\",\"h\",H$6=\"nytårsdag\",\"h\")","v":{"$error":"#N/A"}},{"$f":"_xlfn.IFS(I$7=\"søndag\",\"-\",I$6=\"skærtd\",\"h\",I$6=\"langfd\",\"h\",I$6=\"1påsked\",\"h\",I$6=\"2påsked\",\"h\",I$6=\"kr.himmelfart\",\"h\",I$6=\"1pinse\",\"h\",I$6=\"2pinse\",\"h\",I$6=\"1juledag\",\"h\",I$6=\"2juledag\",\"h\",I$6=\"nytårsdag\",\"h\")","v":"-"},{"$f":"_xlfn.IFS(J$7=\"søndag\",\"-\",J$6=\"skærtd\",\"h\",J$6=\"langfd\",\"h\",J$6=\"1påsked\",\"h\",J$6=\"2påsked\",\"h\",J$6=\"kr.himmelfart\",\"h\",J$6=\"1pinse\",\"h\",J$6=\"2pinse\",\"h\",J$6=\"1juledag\",\"h\",J$6=\"2juledag\",\"h\",J$6=\"nytårsdag\",\"h\")","v":{"$error":"#N/A"}},{"$f":"_xlfn.IFS(K$7=\"søndag\",\"-\",K$6=\"skærtd\",\"h\",K$6=\"langfd\",\"h\",K$6=\"1påsked\",\"h\",K$6=\"2påsked\",\"h\",K$6=\"kr.himmelfart\",\"h\",K$6=\"1pinse\",\"h\",K$6=\"2pinse\",\"h\",K$6=\"1juledag\",\"h\",K$6=\"2juledag\",\"h\",K$6=\"nytårsdag\",\"h\")","v":{"$error":"#N/A"}},{"$f":"_xlfn.IFS(L$7=\"søndag\",\"-\",L$6=\"skærtd\",\"h\",L$6=\"langfd\",\"h\",L$6=\"1påsked\",\"h\",L$6=\"2påsked\",\"h\",L$6=\"kr.himmelfart\",\"h\",L$6=\"1pinse\",\"h\",L$6=\"2pinse\",\"h\",L$6=\"1juledag\",\"h\",L$6=\"2juledag\",\"h\",L$6=\"nytårsdag\",\"h\")","v":{"$error":"#N/A"}},{"$f":"_xlfn.IFS(M$7=\"søndag\",\"-\",M$6=\"skærtd\",\"h\",M$6=\"langfd\",\"h\",M$6=\"1påsked\",\"h\",M$6=\"2påsked\",\"h\",M$6=\"kr.himmelfart\",\"h\",M$6=\"1pinse\",\"h\",M$6=\"2pinse\",\"h\",M$6=\"1juledag\",\"h\",M$6=\"2juledag\",\"h\",M$6=\"nytårsdag\",\"h\")","v":{"$error":"#N/A"}},{"$f":"_xlfn.IFS(N$7=\"søndag\",\"-\",N$6=\"skærtd\",\"h\",N$6=\"langfd\",\"h\",N$6=\"1påsked\",\"h\",N$6=\"2påsked\",\"h\",N$6=\"kr.himmelfart\",\"h\",N$6=\"1pinse\",\"h\",N$6=\"2pinse\",\"h\",N$6=\"1juledag\",\"h\",N$6=\"2juledag\",\"h\",N$6=\"nytårsdag\",\"h\")","v":{"$error":"#N/A"}},{"$f":"_xlfn.IFS(O$7=\"søndag\",\"-\",O$6=\"skærtd\",\"h\",O$6=\"langfd\",\"h\",O$6=\"1påsked\",\"h\",O$6=\"2påsked\",\"h\",O$6=\"kr.himmelfart\",\"h\",O$6=\"1pinse\",\"h\",O$6=\"2pinse\",\"h\",O$6=\"1juledag\",\"h\",O$6=\"2juledag\",\"h\",O$6=\"nytårsdag\",\"h\")","v":{"$error":"#N/A"}},{"$f":"_xlfn.IFS(P$7=\"søndag\",\"-\",P$6=\"skærtd\",\"h\",P$6=\"langfd\",\"h\",P$6=\"1påsked\",\"h\",P$6=\"2påsked\",\"h\",P$6=\"kr.himmelfart\",\"h\",P$6=\"1pinse\",\"h\",P$6=\"2pinse\",\"h\",P$6=\"1juledag\",\"h\",P$6=\"2juledag\",\"h\",P$6=\"nytårsdag\",\"h\")","v":"-"},{"$f":"_xlfn.IFS(Q$7=\"søndag\",\"-\",Q$6=\"skærtd\",\"h\",Q$6=\"langfd\",\"h\",Q$6=\"1påsked\",\"h\",Q$6=\"2påsked\",\"h\",Q$6=\"kr.himmelfart\",\"h\",Q$6=\"1pinse\",\"h\",Q$6=\"2pinse\",\"h\",Q$6=\"1juledag\",\"h\",Q$6=\"2juledag\",\"h\",Q$6=\"nytårsdag\",\"h\")","v":{"$error":"#N/A"}},{"$f":"_xlfn.IFS(R$7=\"søndag\",\"-\",R$6=\"skærtd\",\"h\",R$6=\"langfd\",\"h\",R$6=\"1påsked\",\"h\",R$6=\"2påsked\",\"h\",R$6=\"kr.himmelfart\",\"h\",R$6=\"1pinse\",\"h\",R$6=\"2pinse\",\"h\",R$6=\"1juledag\",\"h\",R$6=\"2juledag\",\"h\",R$6=\"nytårsdag\",\"h\")","v":{"$error":"#N/A"}},{"$f":"_xlfn.IFS(S$7=\"søndag\",\"-\",S$6=\"skærtd\",\"h\",S$6=\"langfd\",\"h\",S$6=\"1påsked\",\"h\",S$6=\"2påsked\",\"h\",S$6=\"kr.himmelfart\",\"h\",S$6=\"1pinse\",\"h\",S$6=\"2pinse\",\"h\",S$6=\"1juledag\",\"h\",S$6=\"2juledag\",\"h\",S$6=\"nytårsdag\",\"h\")","v":{"$error":"#N/A"}},{"$f":"_xlfn.IFS(T$7=\"søndag\",\"-\",T$6=\"skærtd\",\"h\",T$6=\"langfd\",\"h\",T$6=\"1påsked\",\"h\",T$6=\"2påsked\",\"h\",T$6=\"kr.himmelfart\",\"h\",T$6=\"1pinse\",\"h\",T$6=\"2pinse\",\"h\",T$6=\"1juledag\",\"h\",T$6=\"2juledag\",\"h\",T$6=\"nytårsdag\",\"h\")","v":"h"},{"$f":"_xlfn.IFS(U$7=\"søndag\",\"-\",U$6=\"skærtd\",\"h\",U$6=\"langfd\",\"h\",U$6=\"1påsked\",\"h\",U$6=\"2påsked\",\"h\",U$6=\"kr.himmelfart\",\"h\",U$6=\"1pinse\",\"h\",U$6=\"2pinse\",\"h\",U$6=\"1juledag\",\"h\",U$6=\"2juledag\",\"h\",U$6=\"nytårsdag\",\"h\")","v":"h"},{"$f":"_xlfn.IFS(V$7=\"søndag\",\"-\",V$6=\"skærtd\",\"h\",V$6=\"langfd\",\"h\",V$6=\"1påsked\",\"h\",V$6=\"2påsked\",\"h\",V$6=\"kr.himmelfart\",\"h\",V$6=\"1pinse\",\"h\",V$6=\"2pinse\",\"h\",V$6=\"1juledag\",\"h\",V$6=\"2juledag\",\"h\",V$6=\"nytårsdag\",\"h\")","v":{"$error":"#N/A"}},{"$f":"_xlfn.IFS(W$7=\"søndag\",\"-\",W$6=\"skærtd\",\"h\",W$6=\"langfd\",\"h\",W$6=\"1påsked\",\"h\",W$6=\"2påsked\",\"h\",W$6=\"kr.himmelfart\",\"h\",W$6=\"1pinse\",\"h\",W$6=\"2pinse\",\"h\",W$6=\"1juledag\",\"h\",W$6=\"2juledag\",\"h\",W$6=\"nytårsdag\",\"h\")","v":"-"},{"$f":"_xlfn.IFS(X$7=\"søndag\",\"-\",X$6=\"skærtd\",\"h\",X$6=\"langfd\",\"h\",X$6=\"1påsked\",\"h\",X$6=\"2påsked\",\"h\",X$6=\"kr.himmelfart\",\"h\",X$6=\"1pinse\",\"h\",X$6=\"2pinse\",\"h\",X$6=\"1juledag\",\"h\",X$6=\"2juledag\",\"h\",X$6=\"nytårsdag\",\"h\")","v":"h"},{"$f":"_xlfn.IFS(Y$7=\"søndag\",\"-\",Y$6=\"skærtd\",\"h\",Y$6=\"langfd\",\"h\",Y$6=\"1påsked\",\"h\",Y$6=\"2påsked\",\"h\",Y$6=\"kr.himmelfart\",\"h\",Y$6=\"1pinse\",\"h\",Y$6=\"2pinse\",\"h\",Y$6=\"1juledag\",\"h\",Y$6=\"2juledag\",\"h\",Y$6=\"nytårsdag\",\"h\")","v":{"$error":"#N/A"}},{"$f":"_xlfn.IFS(Z$7=\"søndag\",\"-\",Z$6=\"skærtd\",\"h\",Z$6=\"langfd\",\"h\",Z$6=\"1påsked\",\"h\",Z$6=\"2påsked\",\"h\",Z$6=\"kr.himmelfart\",\"h\",Z$6=\"1pinse\",\"h\",Z$6=\"2pinse\",\"h\",Z$6=\"1juledag\",\"h\",Z$6=\"2juledag\",\"h\",Z$6=\"nytårsdag\",\"h\")","v":{"$error":"#N/A"}},{"$f":"_xlfn.IFS(AA$7=\"søndag\",\"-\",AA$6=\"skærtd\",\"h\",AA$6=\"langfd\",\"h\",AA$6=\"1påsked\",\"h\",AA$6=\"2påsked\",\"h\",AA$6=\"kr.himmelfart\",\"h\",AA$6=\"1pinse\",\"h\",AA$6=\"2pinse\",\"h\",AA$6=\"1juledag\",\"h\",AA$6=\"2juledag\",\"h\",AA$6=\"nytårsdag\",\"h\")","v":{"$error":"#N/A"}},{"$f":"_xlfn.IFS(AB$7=\"søndag\",\"-\",AB$6=\"skærtd\",\"h\",AB$6=\"langfd\",\"h\",AB$6=\"1påsked\",\"h\",AB$6=\"2påsked\",\"h\",AB$6=\"kr.himmelfart\",\"h\",AB$6=\"1pinse\",\"h\",AB$6=\"2pinse\",\"h\",AB$6=\"1juledag\",\"h\",AB$6=\"2juledag\",\"h\",AB$6=\"nytårsdag\",\"h\")","v":{"$error":"#N/A"}},{"$f":"_xlfn.IFS(AC$7=\"søndag\",\"-\",AC$6=\"skærtd\",\"h\",AC$6=\"langfd\",\"h\",AC$6=\"1påsked\",\"h\",AC$6=\"2påsked\",\"h\",AC$6=\"kr.himmelfart\",\"h\",AC$6=\"1pinse\",\"h\",AC$6=\"2pinse\",\"h\",AC$6=\"1juledag\",\"h\",AC$6=\"2juledag\",\"h\",AC$6=\"nytårsdag\",\"h\")","v":{"$error":"#N/A"}},{"$f":"_xlfn.IFS(AD$7=\"søndag\",\"-\",AD$6=\"skærtd\",\"h\",AD$6=\"langfd\",\"h\",AD$6=\"1påsked\",\"h\",AD$6=\"2påsked\",\"h\",AD$6=\"kr.himmelfart\",\"h\",AD$6=\"1pinse\",\"h\",AD$6=\"2pinse\",\"h\",AD$6=\"1juledag\",\"h\",AD$6=\"2juledag\",\"h\",AD$6=\"nytårsdag\",\"h\")","v":"-"},{"$f":"_xlfn.IFS(AE$7=\"søndag\",\"-\",AE$6=\"skærtd\",\"h\",AE$6=\"langfd\",\"h\",AE$6=\"1påsked\",\"h\",AE$6=\"2påsked\",\"h\",AE$6=\"kr.himmelfart\",\"h\",AE$6=\"1pinse\",\"h\",AE$6=\"2pinse\",\"h\",AE$6=\"1juledag\",\"h\",AE$6=\"2juledag\",\"h\",AE$6=\"nytårsdag\",\"h\")","v":{"$error":"#N/A"}},{"$f":"_xlfn.IFS(AF$7=\"søndag\",\"-\",AF$6=\"skærtd\",\"h\",AF$6=\"langfd\",\"h\",AF$6=\"1påsked\",\"h\",AF$6=\"2påsked\",\"h\",AF$6=\"kr.himmelfart\",\"h\",AF$6=\"1pinse\",\"h\",AF$6=\"2pinse\",\"h\",AF$6=\"1juledag\",\"h\",AF$6=\"2juledag\",\"h\",AF$6=\"nytårsdag\",\"h\")","v":{"$error":"#N/A"}},{"$f":"_xlfn.IFS(AG$7=\"søndag\",\"-\",AG$6=\"skærtd\",\"h\",AG$6=\"langfd\",\"h\",AG$6=\"1påsked\",\"h\",AG$6=\"2påsked\",\"h\",AG$6=\"kr.himmelfart\",\"h\",AG$6=\"1pinse\",\"h\",AG$6=\"2pinse\",\"h\",AG$6=\"1juledag\",\"h\",AG$6=\"2juledag\",\"h\",AG$6=\"nytårsdag\",\"h\")","v":{"$error":"#N/A"}},{"$f":"_xlfn.IFS(AH$7=\"søndag\",\"-\",AH$6=\"skærtd\",\"h\",AH$6=\"langfd\",\"h\",AH$6=\"1påsked\",\"h\",AH$6=\"2påsked\",\"h\",AH$6=\"kr.himmelfart\",\"h\",AH$6=\"1pinse\",\"h\",AH$6=\"2pinse\",\"h\",AH$6=\"1juledag\",\"h\",AH$6=\"2juledag\",\"h\",AH$6=\"nytårsdag\",\"h\")","v":{"$error":"#N/A"}}]
[null,"Sygedage",null,{"$f":"IF(D361=\"s\",D360,\"-\")","v":"-"},{"$f":"IF(E361=\"s\",E360,\"-\")","v":"-"},"-","-","-","-","-","-","-","-","-","-","-","-","-","-","-","-","-","-","-","-","-","-","-","-","-","-","-","-","-"]
[null,null,{"$f":"$C$15","v":14},"Timer uge",null,null,{"$f":"SUMIF($D$5:$AH$5,C366,D360:AH360)","v":0},{"$f":"$H$15","v":15},{"$f":"D366","v":"Timer uge"},null,null,null,null,{"$f":"SUMIF($D$5:$AH$5,H366,D360:AH360)","v":0},{"$f":"$O$15","v":16},{"$f":"D366","v":"Timer uge"},null,null,null,null,{"$f":"_xlfn.IFS($O366=$BV359,$BV360,$O366=$BW359,Lønskema!$BW360,$O366=$BX359,$BX360,$O366=$BY359,$BY360,$O366=$BZ359,$BZ360,$O366=$CA359,$CA360,$O366=$CB359,$CB360,$O366=$CC359,$CC360,$O366=$CD359,$CD360,$O366=$CE359,$CE360,$O366=$CF359,$CF360,$O366=$CG359,$CF360,$O366=$CG359,$CG360,$O366=$CH359,$CH360,$O366=$CI359,$CI360,$O366=$CJ359,$CJ360,$O366=$CK359,$CK360,$O366=$CL359,$CL360,$O366=$CM359,$CM360,$O366=$CN359,$CN360,$O366=$CO359,$CO360,$O366=$CP359,$CP360,$O366=$CQ359,$CQ360,$O366=$CR359,$CR360,$O366=$CS359,$CS360,$O366=$CT359,$CT360,$O366=$CU359,$CU360,$O366=$CV359,$CV360,$O366=$CW359,$CW360,$O366=$CX359,$CX360,$O366=$CY359,$CY360,$O366=$CZ359,$CZ360,$O366=$DA359,$DA360,$O366=$DB359,$DB360,$O366=$DC359,$DC360,$O366=$DD359,$DD360,$O366=$DE359,$DE360,$O366=$DF359,$DF360,$O366=$DG359,$DG360,$O366=$DH359,$DH360,$O366=$DI359,$DI360,$O366=$DJ359,$DJ360,$O366=$DK359,$DK360,$O366=$DL359,$DL360,$O366=$DM359,$DM360,$O366=$DN359,$DN360,$O366=$DO359,$DO360,$O366=$DP359,$DP360,$O366=$DQ359,$DQ360,$O366=$DR359,$DR360,$O366=$DS359,$DS360,$O366=$DT359,$DT360,$O366=$DU359,$DU360)","v":0},{"$f":"$V$15","v":17},{"$f":"D366","v":"Timer uge"},null,null,null,null,{"$f":"SUMIF($D$5:$AH$5,V366,D360:AH360)","v":0},{"$f":"$AC$15","v":18},{"$f":"D366","v":"Timer uge"},null,null,null,{"$f":"SUMIF($D$5:$AH$5,AC366,D360:AH360)","v":0},{"$f":"$AI$15","v":19},{"$f":"D366","v":"Timer uge"},null,null,null,{"$f":"SUMIF($D$5:$AH$5,AI366,D360:AH360)","v":0}]
[null,null,null,"Overarbejde 50% 1-3 timer",null,null,{"$f":"IF($G366>37,$G366-37-$G368,0)","v":0},null,{"$f":"D367","v":"Overarbejde 50% 1-3 timer"},null,null,null,null,{"$f":"IF($N366>37,$N366-37-$N368,0)","v":0},null,{"$f":"D367","v":"Overarbejde 50% 1-3 timer"},null,null,null,null,{"$f":"IF($U366>37,$U366-37-$U368,0)","v":0},null,{"$f":"D367","v":"Overarbejde 50% 1-3 timer"},null,null,null,null,{"$f":"IF($AB366>37,$AB366-37-$AB368,0)","v":0},null,{"$f":"D367","v":"Overarbejde 50% 1-3 timer"},null,null,null,{"$f":"IF($AH366>37,$AH366-37-$AH368,0)","v":0},null,{"$f":"D367","v":"Overarbejde 50% 1-3 timer"},null,null,null,{"$f":"IF($AH366>37,$AH366-37-$AH368,0)","v":0}]
[null,null,null,"Overarbejde 100% over 3 timer",null,null,{"$f":"IF($G366>40,$G366-40,0)","v":0},null,"Overarbejde 100% over 3 timer",null,null,null,null,{"$f":"IF($N366>40,$N366-40,0)","v":0},null,"Overarbejde 100% over 3 timer",null,null,null,null,{"$f":"IF($U366>40,$U366-40,0)","v":0},null,"Overarbejde 100% over 3 timer",null,null,null,null,{"$f":"IF($AB366>40,$AB366-40,0)","v":0},null,"Overarbejde 100% over 3 timer",null,null,null,{"$f":"IF($AH366>40,$AH366-40,0)","v":0},null,{"$f":"D368","v":"Overarbejde 100% over 3 timer"},null,null,null,{"$f":"IF($AH366>40,$AH366-40,0)","v":0},null,null,null,null,null,null,null,null,null,null,null,null,null,null,null,null,null,null,null,null,null,null,null,null,null,null,null,null,null,null,null,null,null,1,2,3,4,5,6,7,8,9,10,11,12,13,14,15,16,17,18,19,20,21,22,23,24,25,26,27,28,29,30,31,32,33,34,35,36,37,38,39,40,41,42,43,44,45,46,47,48,49,50,51,52]
[{"$f":"Medarbejder!A43","v":0},{"$f":"Medarbejder!B43","v":0},{"$f":"Medarbejder!C43","v":"-"},null,null,null,null,null,null,null,null,null,null,null,null,null,null,null,null,null,null,null,null,null,null,null,null,null,null,null,null,null,null,null,null,null,null,null,null,null,null,{"$f":"AO369*Overenskomst!$C$22","v":0},{"$f":"SUM($D369:$AH369)-$BA369-$BF369-$BD369","v":0},{"$f":"IF(Medarbejder!$J43=\"ja\",$AQ369,\"-\")","v":"-"},{"$f":"SUMIF($D$7:$AH$7,\"søndag\",$D369:$AH369)+$AT369","v":0},{"$f":"SUMIFS($D369:$AH369,$D373:$AH373,\"H\")","v":0},{"$f":"G376+N376+U376+AB376+AH376+AN376","v":0},{"$f":"G377+N377+U377+AB377+AH377+AN377","v":0},{"$f":"SUM($D371:$AH371)","v":0},{"$f":"SUM($D372:$AH372)","v":0},{"$f":"COUNTIFS($D370:$AH370,\"F\")","v":0},{"$f":"COUNTIFS($D370:$AH370,\"S\")","v":0},{"$f":"SUMIF($D370:$AH370,\"S\",$D374:$AH374)","v":0},{"$f":"COUNTIFS($D370:$AH370,\"p\")","v":0},{"$f":"COUNTIFS($D370:$AH370,\"BS\")","v":0},{"$f":"SUMIF(D370:AH370,\"bs\",$D369:$AH369)","v":0},{"$f":"COUNTIFS($D370:$AH370,\"FF\")","v":0},{"$f":"SUMIF($D370:$AH370,\"g\",$D369:$AH369)","v":0},{"$f":"Medarbejder!$N40","v":"-"},{"$f":"SUM($BL369:$BU369)","v":4},null,null,null,{"$f":"COUNTIFS($D$6:$AH$6,\"skærtd\")","v":1},{"$f":"COUNTIFS($D$6:$AH$6,\"langfd\")","v":1},{"$f":"COUNTIFS($D$6:$AH$6,\"1påsked\")","v":1},{"$f":"COUNTIFS($D$6:$AH$6,\"2påsked\")","v":1},{"$f":"COUNTIFS($D$6:$AH$6,\"kr.himmelfart\")","v":0},{"$f":"COUNTIFS($D$6:$AH$6,\"1pinse\")","v":0},{"$f":"COUNTIFS($D$6:$AH$6,\"2pinse\")","v":0},{"$f":"COUNTIFS($D$6:$AH$6,\"1juledag\")","v":0},{"$f":"COUNTIFS($D$6:$AH$6,\"2juledag\")","v":0},{"$f":"COUNTIFS($D$6:$AH$6,\"nytårsdag\")","v":0},{"$f":"SUMIFS($D369:$AH369,Lønskema!$D$5:$AH$5,1)","v":0},{"$f":"SUMIFS($D369:$AH369,Lønskema!$D$5:$AH$5,2)","v":0},{"$f":"SUMIFS($D369:$AH369,Lønskema!$D$5:$AH$5,3)","v":0},{"$f":"SUMIFS($D369:$AH369,Lønskema!$D$5:$AH$5,4)","v":0},{"$f":"SUMIFS($D369:$AH369,Lønskema!$D$5:$AH$5,5)","v":0},{"$f":"SUMIFS($D369:$AH369,Lønskema!$D$5:$AH$5,6)","v":0},{"$f":"SUMIFS($D369:$AH369,Lønskema!$D$5:$AH$5,7)","v":0},{"$f":"SUMIFS($D369:$AH369,Lønskema!$D$5:$AH$5,8)","v":0},{"$f":"SUMIFS($D369:$AH369,Lønskema!$D$5:$AH$5,9)","v":0},{"$f":"SUMIFS($D369:$AH369,Lønskema!$D$5:$AH$5,10)","v":0},{"$f":"SUMIFS($D369:$AH369,Lønskema!$D$5:$AH$5,11)","v":0},{"$f":"SUMIFS($D369:$AH369,Lønskema!$D$5:$AH$5,12)","v":0},{"$f":"SUMIFS($D369:$AH369,Lønskema!$D$5:$AH$5,13)","v":0},{"$f":"SUMIFS($D369:$AH369,Lønskema!$D$5:$AH$5,14)","v":0},{"$f":"SUMIFS($D369:$AH369,Lønskema!$D$5:$AH$5,15)","v":0},{"$f":"SUMIFS($D369:$AH369,Lønskema!$D$5:$AH$5,16)","v":0},{"$f":"SUMIFS($D369:$AH369,Lønskema!$D$5:$AH$5,17)","v":0},{"$f":"SUMIFS($D369:$AH369,Lønskema!$D$5:$AH$5,18)","v":0},{"$f":"SUMIFS($D369:$AH369,Lønskema!$D$5:$AH$5,19)","v":0},{"$f":"SUMIFS($D369:$AH369,Lønskema!$D$5:$AH$5,20)","v":0},{"$f":"SUMIFS($D369:$AH369,Lønskema!$D$5:$AH$5,21)","v":0},{"$f":"SUMIFS($D369:$AH369,Lønskema!$D$5:$AH$5,22)","v":0},{"$f":"SUMIFS($D369:$AH369,Lønskema!$D$5:$AH$5,23)","v":0},{"$f":"SUMIFS($D369:$AH369,Lønskema!$D$5:$AH$5,24)","v":0},{"$f":"SUMIFS($D369:$AH369,Lønskema!$D$5:$AH$5,25)","v":0},{"$f":"SUMIFS($D369:$AH369,Lønskema!$D$5:$AH$5,26)","v":0},{"$f":"SUMIFS($D369:$AH369,Lønskema!$D$5:$AH$5,27)","v":0},{"$f":"SUMIFS($D369:$AH369,Lønskema!$D$5:$AH$5,28)","v":0},{"$f":"SUMIFS($D369:$AH369,Lønskema!$D$5:$AH$5,29)","v":0},{"$f":"SUMIFS($D369:$AH369,Lønskema!$D$5:$AH$5,30)","v":0},{"$f":"SUMIFS($D369:$AH369,Lønskema!$D$5:$AH$5,31)","v":0},{"$f":"SUMIFS($D369:$AH369,Lønskema!$D$5:$AH$5,32)","v":0},{"$f":"SUMIFS($D369:$AH369,Lønskema!$D$5:$AH$5,33)","v":0},{"$f":"SUMIFS($D369:$AH369,Lønskema!$D$5:$AH$5,34)","v":0},{"$f":"SUMIFS($D369:$AH369,Lønskema!$D$5:$AH$5,35)","v":0},{"$f":"SUMIFS($D369:$AH369,Lønskema!$D$5:$AH$5,36)","v":0},{"$f":"SUMIFS($D369:$AH369,Lønskema!$D$5:$AH$5,37)","v":0},{"$f":"SUMIFS($D369:$AH369,Lønskema!$D$5:$AH$5,38)","v":0},{"$f":"SUMIFS($D369:$AH369,Lønskema!$D$5:$AH$5,39)","v":0},{"$f":"SUMIFS($D369:$AH369,Lønskema!$D$5:$AH$5,40)","v":0},{"$f":"SUMIFS($D369:$AH369,Lønskema!$D$5:$AH$5,41)","v":0},{"$f":"SUMIFS($D369:$AH369,Lønskema!$D$5:$AH$5,42)","v":0},{"$f":"SUMIFS($D369:$AH369,Lønskema!$D$5:$AH$5,43)","v":0},{"$f":"SUMIFS($D369:$AH369,Lønskema!$D$5:$AH$5,44)","v":0},{"$f":"SUMIFS($D369:$AH369,Lønskema!$D$5:$AH$5,45)","v":0},{"$f":"SUMIFS($D369:$AH369,Lønskema!$D$5:$AH$5,46)","v":0},{"$f":"SUMIFS($D369:$AH369,Lønskema!$D$5:$AH$5,47)","v":0},{"$f":"SUMIFS($D369:$AH369,Lønskema!$D$5:$AH$5,48)","v":0},{"$f":"SUMIFS($D369:$AH369,Lønskema!$D$5:$AH$5,49)","v":0},{"$f":"SUMIFS($D369:$AH369,Lønskema!$D$5:$AH$5,50)","v":0},{"$f":"SUMIFS($D369:$AH369,Lønskema!$D$5:$AH$5,51)","v":0},{"$f":"SUMIFS($D369:$AH369,Lønskema!$D$5:$AH$5,52)","v":0}]
["Ferie - syg  mm. Registreres i denne række"]
[null,"Aften"]
[null,"Nat"]
[null,"Helligdag",null,{"$f":"_xlfn.IFS(D$7=\"søndag\",\"-\",D$6=\"skærtd\",\"h\",D$6=\"langfd\",\"h\",D$6=\"1påsked\",\"h\",D$6=\"2påsked\",\"h\",D$6=\"kr.himmelfart\",\"h\",D$6=\"1pinse\",\"h\",D$6=\"2pinse\",\"h\",D$6=\"1juledag\",\"h\",D$6=\"2juledag\",\"h\",D$6=\"nytårsdag\",\"h\")","v":{"$error":"#N/A"}},{"$f":"_xlfn.IFS(E$7=\"søndag\",\"-\",E$6=\"skærtd\",\"h\",E$6=\"langfd\",\"h\",E$6=\"1påsked\",\"h\",E$6=\"2påsked\",\"h\",E$6=\"kr.himmelfart\",\"h\",E$6=\"1pinse\",\"h\",E$6=\"2pinse\",\"h\",E$6=\"1juledag\",\"h\",E$6=\"2juledag\",\"h\",E$6=\"nytårsdag\",\"h\")","v":{"$error":"#N/A"}},{"$f":"_xlfn.IFS(F$7=\"søndag\",\"-\",F$6=\"skærtd\",\"h\",F$6=\"langfd\",\"h\",F$6=\"1påsked\",\"h\",F$6=\"2påsked\",\"h\",F$6=\"kr.himmelfart\",\"h\",F$6=\"1pinse\",\"h\",F$6=\"2pinse\",\"h\",F$6=\"1juledag\",\"h\",F$6=\"2juledag\",\"h\",F$6=\"nytårsdag\",\"h\")","v":{"$error":"#N/A"}},{"$f":"_xlfn.IFS(G$7=\"søndag\",\"-\",G$6=\"skærtd\",\"h\",G$6=\"langfd\",\"h\",G$6=\"1påsked\",\"h\",G$6=\"2påsked\",\"h\",G$6=\"kr.himmelfart\",\"h\",G$6=\"1pinse\",\"h\",G$6=\"2pinse\",\"h\",G$6=\"1juledag\",\"h\",G$6=\"2juledag\",\"h\",G$6=\"nytårsdag\",\"h\")","v":{"$error":"#N/A"}},{"$f":"_xlfn.IFS(H$7=\"søndag\",\"-\",H$6=\"skærtd\",\"h\",H$6=\"langfd\",\"h\",H$6=\"1påsked\",\"h\",H$6=\"2påsked\",\"h\",H$6=\"kr.himmelfart\",\"h\",H$6=\"1pinse\",\"h\",H$6=\"2pinse\",\"h\",H$6=\"1juledag\",\"h\",H$6=\"2juledag\",\"h\",H$6=\"nytårsdag\",\"h\")","v":{"$error":"#N/A"}},{"$f":"_xlfn.IFS(I$7=\"søndag\",\"-\",I$6=\"skærtd\",\"h\",I$6=\"langfd\",\"h\",I$6=\"1påsked\",\"h\",I$6=\"2påsked\",\"h\",I$6=\"kr.himmelfart\",\"h\",I$6=\"1pinse\",\"h\",I$6=\"2pinse\",\"h\",I$6=\"1juledag\",\"h\",I$6=\"2juledag\",\"h\",I$6=\"nytårsdag\",\"h\")","v":"-"},{"$f":"_xlfn.IFS(J$7=\"søndag\",\"-\",J$6=\"skærtd\",\"h\",J$6=\"langfd\",\"h\",J$6=\"1påsked\",\"h\",J$6=\"2påsked\",\"h\",J$6=\"kr.himmelfart\",\"h\",J$6=\"1pinse\",\"h\",J$6=\"2pinse\",\"h\",J$6=\"1juledag\",\"h\",J$6=\"2juledag\",\"h\",J$6=\"nytårsdag\",\"h\")","v":{"$error":"#N/A"}},{"$f":"_xlfn.IFS(K$7=\"søndag\",\"-\",K$6=\"skærtd\",\"h\",K$6=\"langfd\",\"h\",K$6=\"1påsked\",\"h\",K$6=\"2påsked\",\"h\",K$6=\"kr.himmelfart\",\"h\",K$6=\"1pinse\",\"h\",K$6=\"2pinse\",\"h\",K$6=\"1juledag\",\"h\",K$6=\"2juledag\",\"h\",K$6=\"nytårsdag\",\"h\")","v":{"$error":"#N/A"}},{"$f":"_xlfn.IFS(L$7=\"søndag\",\"-\",L$6=\"skærtd\",\"h\",L$6=\"langfd\",\"h\",L$6=\"1påsked\",\"h\",L$6=\"2påsked\",\"h\",L$6=\"kr.himmelfart\",\"h\",L$6=\"1pinse\",\"h\",L$6=\"2pinse\",\"h\",L$6=\"1juledag\",\"h\",L$6=\"2juledag\",\"h\",L$6=\"nytårsdag\",\"h\")","v":{"$error":"#N/A"}},{"$f":"_xlfn.IFS(M$7=\"søndag\",\"-\",M$6=\"skærtd\",\"h\",M$6=\"langfd\",\"h\",M$6=\"1påsked\",\"h\",M$6=\"2påsked\",\"h\",M$6=\"kr.himmelfart\",\"h\",M$6=\"1pinse\",\"h\",M$6=\"2pinse\",\"h\",M$6=\"1juledag\",\"h\",M$6=\"2juledag\",\"h\",M$6=\"nytårsdag\",\"h\")","v":{"$error":"#N/A"}},{"$f":"_xlfn.IFS(N$7=\"søndag\",\"-\",N$6=\"skærtd\",\"h\",N$6=\"langfd\",\"h\",N$6=\"1påsked\",\"h\",N$6=\"2påsked\",\"h\",N$6=\"kr.himmelfart\",\"h\",N$6=\"1pinse\",\"h\",N$6=\"2pinse\",\"h\",N$6=\"1juledag\",\"h\",N$6=\"2juledag\",\"h\",N$6=\"nytårsdag\",\"h\")","v":{"$error":"#N/A"}},{"$f":"_xlfn.IFS(O$7=\"søndag\",\"-\",O$6=\"skærtd\",\"h\",O$6=\"langfd\",\"h\",O$6=\"1påsked\",\"h\",O$6=\"2påsked\",\"h\",O$6=\"kr.himmelfart\",\"h\",O$6=\"1pinse\",\"h\",O$6=\"2pinse\",\"h\",O$6=\"1juledag\",\"h\",O$6=\"2juledag\",\"h\",O$6=\"nytårsdag\",\"h\")","v":{"$error":"#N/A"}},{"$f":"_xlfn.IFS(P$7=\"søndag\",\"-\",P$6=\"skærtd\",\"h\",P$6=\"langfd\",\"h\",P$6=\"1påsked\",\"h\",P$6=\"2påsked\",\"h\",P$6=\"kr.himmelfart\",\"h\",P$6=\"1pinse\",\"h\",P$6=\"2pinse\",\"h\",P$6=\"1juledag\",\"h\",P$6=\"2juledag\",\"h\",P$6=\"nytårsdag\",\"h\")","v":"-"},{"$f":"_xlfn.IFS(Q$7=\"søndag\",\"-\",Q$6=\"skærtd\",\"h\",Q$6=\"langfd\",\"h\",Q$6=\"1påsked\",\"h\",Q$6=\"2påsked\",\"h\",Q$6=\"kr.himmelfart\",\"h\",Q$6=\"1pinse\",\"h\",Q$6=\"2pinse\",\"h\",Q$6=\"1juledag\",\"h\",Q$6=\"2juledag\",\"h\",Q$6=\"nytårsdag\",\"h\")","v":{"$error":"#N/A"}},{"$f":"_xlfn.IFS(R$7=\"søndag\",\"-\",R$6=\"skærtd\",\"h\",R$6=\"langfd\",\"h\",R$6=\"1påsked\",\"h\",R$6=\"2påsked\",\"h\",R$6=\"kr.himmelfart\",\"h\",R$6=\"1pinse\",\"h\",R$6=\"2pinse\",\"h\",R$6=\"1juledag\",\"h\",R$6=\"2juledag\",\"h\",R$6=\"nytårsdag\",\"h\")","v":{"$error":"#N/A"}},{"$f":"_xlfn.IFS(S$7=\"søndag\",\"-\",S$6=\"skærtd\",\"h\",S$6=\"langfd\",\"h\",S$6=\"1påsked\",\"h\",S$6=\"2påsked\",\"h\",S$6=\"kr.himmelfart\",\"h\",S$6=\"1pinse\",\"h\",S$6=\"2pinse\",\"h\",S$6=\"1juledag\",\"h\",S$6=\"2juledag\",\"h\",S$6=\"nytårsdag\",\"h\")","v":{"$error":"#N/A"}},{"$f":"_xlfn.IFS(T$7=\"søndag\",\"-\",T$6=\"skærtd\",\"h\",T$6=\"langfd\",\"h\",T$6=\"1påsked\",\"h\",T$6=\"2påsked\",\"h\",T$6=\"kr.himmelfart\",\"h\",T$6=\"1pinse\",\"h\",T$6=\"2pinse\",\"h\",T$6=\"1juledag\",\"h\",T$6=\"2juledag\",\"h\",T$6=\"nytårsdag\",\"h\")","v":"h"},{"$f":"_xlfn.IFS(U$7=\"søndag\",\"-\",U$6=\"skærtd\",\"h\",U$6=\"langfd\",\"h\",U$6=\"1påsked\",\"h\",U$6=\"2påsked\",\"h\",U$6=\"kr.himmelfart\",\"h\",U$6=\"1pinse\",\"h\",U$6=\"2pinse\",\"h\",U$6=\"1juledag\",\"h\",U$6=\"2juledag\",\"h\",U$6=\"nytårsdag\",\"h\")","v":"h"},{"$f":"_xlfn.IFS(V$7=\"søndag\",\"-\",V$6=\"skærtd\",\"h\",V$6=\"langfd\",\"h\",V$6=\"1påsked\",\"h\",V$6=\"2påsked\",\"h\",V$6=\"kr.himmelfart\",\"h\",V$6=\"1pinse\",\"h\",V$6=\"2pinse\",\"h\",V$6=\"1juledag\",\"h\",V$6=\"2juledag\",\"h\",V$6=\"nytårsdag\",\"h\")","v":{"$error":"#N/A"}},{"$f":"_xlfn.IFS(W$7=\"søndag\",\"-\",W$6=\"skærtd\",\"h\",W$6=\"langfd\",\"h\",W$6=\"1påsked\",\"h\",W$6=\"2påsked\",\"h\",W$6=\"kr.himmelfart\",\"h\",W$6=\"1pinse\",\"h\",W$6=\"2pinse\",\"h\",W$6=\"1juledag\",\"h\",W$6=\"2juledag\",\"h\",W$6=\"nytårsdag\",\"h\")","v":"-"},{"$f":"_xlfn.IFS(X$7=\"søndag\",\"-\",X$6=\"skærtd\",\"h\",X$6=\"langfd\",\"h\",X$6=\"1påsked\",\"h\",X$6=\"2påsked\",\"h\",X$6=\"kr.himmelfart\",\"h\",X$6=\"1pinse\",\"h\",X$6=\"2pinse\",\"h\",X$6=\"1juledag\",\"h\",X$6=\"2juledag\",\"h\",X$6=\"nytårsdag\",\"h\")","v":"h"},{"$f":"_xlfn.IFS(Y$7=\"søndag\",\"-\",Y$6=\"skærtd\",\"h\",Y$6=\"langfd\",\"h\",Y$6=\"1påsked\",\"h\",Y$6=\"2påsked\",\"h\",Y$6=\"kr.himmelfart\",\"h\",Y$6=\"1pinse\",\"h\",Y$6=\"2pinse\",\"h\",Y$6=\"1juledag\",\"h\",Y$6=\"2juledag\",\"h\",Y$6=\"nytårsdag\",\"h\")","v":{"$error":"#N/A"}},{"$f":"_xlfn.IFS(Z$7=\"søndag\",\"-\",Z$6=\"skærtd\",\"h\",Z$6=\"langfd\",\"h\",Z$6=\"1påsked\",\"h\",Z$6=\"2påsked\",\"h\",Z$6=\"kr.himmelfart\",\"h\",Z$6=\"1pinse\",\"h\",Z$6=\"2pinse\",\"h\",Z$6=\"1juledag\",\"h\",Z$6=\"2juledag\",\"h\",Z$6=\"nytårsdag\",\"h\")","v":{"$error":"#N/A"}},{"$f":"_xlfn.IFS(AA$7=\"søndag\",\"-\",AA$6=\"skærtd\",\"h\",AA$6=\"langfd\",\"h\",AA$6=\"1påsked\",\"h\",AA$6=\"2påsked\",\"h\",AA$6=\"kr.himmelfart\",\"h\",AA$6=\"1pinse\",\"h\",AA$6=\"2pinse\",\"h\",AA$6=\"1juledag\",\"h\",AA$6=\"2juledag\",\"h\",AA$6=\"nytårsdag\",\"h\")","v":{"$error":"#N/A"}},{"$f":"_xlfn.IFS(AB$7=\"søndag\",\"-\",AB$6=\"skærtd\",\"h\",AB$6=\"langfd\",\"h\",AB$6=\"1påsked\",\"h\",AB$6=\"2påsked\",\"h\",AB$6=\"kr.himmelfart\",\"h\",AB$6=\"1pinse\",\"h\",AB$6=\"2pinse\",\"h\",AB$6=\"1juledag\",\"h\",AB$6=\"2juledag\",\"h\",AB$6=\"nytårsdag\",\"h\")","v":{"$error":"#N/A"}},{"$f":"_xlfn.IFS(AC$7=\"søndag\",\"-\",AC$6=\"skærtd\",\"h\",AC$6=\"langfd\",\"h\",AC$6=\"1påsked\",\"h\",AC$6=\"2påsked\",\"h\",AC$6=\"kr.himmelfart\",\"h\",AC$6=\"1pinse\",\"h\",AC$6=\"2pinse\",\"h\",AC$6=\"1juledag\",\"h\",AC$6=\"2juledag\",\"h\",AC$6=\"nytårsdag\",\"h\")","v":{"$error":"#N/A"}},{"$f":"_xlfn.IFS(AD$7=\"søndag\",\"-\",AD$6=\"skærtd\",\"h\",AD$6=\"langfd\",\"h\",AD$6=\"1påsked\",\"h\",AD$6=\"2påsked\",\"h\",AD$6=\"kr.himmelfart\",\"h\",AD$6=\"1pinse\",\"h\",AD$6=\"2pinse\",\"h\",AD$6=\"1juledag\",\"h\",AD$6=\"2juledag\",\"h\",AD$6=\"nytårsdag\",\"h\")","v":"-"},{"$f":"_xlfn.IFS(AE$7=\"søndag\",\"-\",AE$6=\"skærtd\",\"h\",AE$6=\"langfd\",\"h\",AE$6=\"1påsked\",\"h\",AE$6=\"2påsked\",\"h\",AE$6=\"kr.himmelfart\",\"h\",AE$6=\"1pinse\",\"h\",AE$6=\"2pinse\",\"h\",AE$6=\"1juledag\",\"h\",AE$6=\"2juledag\",\"h\",AE$6=\"nytårsdag\",\"h\")","v":{"$error":"#N/A"}},{"$f":"_xlfn.IFS(AF$7=\"søndag\",\"-\",AF$6=\"skærtd\",\"h\",AF$6=\"langfd\",\"h\",AF$6=\"1påsked\",\"h\",AF$6=\"2påsked\",\"h\",AF$6=\"kr.himmelfart\",\"h\",AF$6=\"1pinse\",\"h\",AF$6=\"2pinse\",\"h\",AF$6=\"1juledag\",\"h\",AF$6=\"2juledag\",\"h\",AF$6=\"nytårsdag\",\"h\")","v":{"$error":"#N/A"}},{"$f":"_xlfn.IFS(AG$7=\"søndag\",\"-\",AG$6=\"skærtd\",\"h\",AG$6=\"langfd\",\"h\",AG$6=\"1påsked\",\"h\",AG$6=\"2påsked\",\"h\",AG$6=\"kr.himmelfart\",\"h\",AG$6=\"1pinse\",\"h\",AG$6=\"2pinse\",\"h\",AG$6=\"1juledag\",\"h\",AG$6=\"2juledag\",\"h\",AG$6=\"nytårsdag\",\"h\")","v":{"$error":"#N/A"}},{"$f":"_xlfn.IFS(AH$7=\"søndag\",\"-\",AH$6=\"skærtd\",\"h\",AH$6=\"langfd\",\"h\",AH$6=\"1påsked\",\"h\",AH$6=\"2påsked\",\"h\",AH$6=\"kr.himmelfart\",\"h\",AH$6=\"1pinse\",\"h\",AH$6=\"2pinse\",\"h\",AH$6=\"1juledag\",\"h\",AH$6=\"2juledag\",\"h\",AH$6=\"nytårsdag\",\"h\")","v":{"$error":"#N/A"}}]
[null,"Sygedage",null,{"$f":"IF(D370=\"s\",D369,\"-\")","v":"-"},{"$f":"IF(E370=\"s\",E369,\"-\")","v":"-"},"-","-","-","-","-","-","-","-","-","-","-","-","-","-","-","-","-","-","-","-","-","-","-","-","-","-","-","-","-"]
[null,null,{"$f":"$C$15","v":14},"Timer uge",null,null,{"$f":"SUMIF($D$5:$AH$5,C375,D369:AH369)","v":0},{"$f":"$H$15","v":15},{"$f":"D375","v":"Timer uge"},null,null,null,null,{"$f":"SUMIF($D$5:$AH$5,H375,D369:AH369)","v":0},{"$f":"$O$15","v":16},{"$f":"D375","v":"Timer uge"},null,null,null,null,{"$f":"_xlfn.IFS($O375=$BV368,$BV369,$O375=$BW368,Lønskema!$BW369,$O375=$BX368,$BX369,$O375=$BY368,$BY369,$O375=$BZ368,$BZ369,$O375=$CA368,$CA369,$O375=$CB368,$CB369,$O375=$CC368,$CC369,$O375=$CD368,$CD369,$O375=$CE368,$CE369,$O375=$CF368,$CF369,$O375=$CG368,$CF369,$O375=$CG368,$CG369,$O375=$CH368,$CH369,$O375=$CI368,$CI369,$O375=$CJ368,$CJ369,$O375=$CK368,$CK369,$O375=$CL368,$CL369,$O375=$CM368,$CM369,$O375=$CN368,$CN369,$O375=$CO368,$CO369,$O375=$CP368,$CP369,$O375=$CQ368,$CQ369,$O375=$CR368,$CR369,$O375=$CS368,$CS369,$O375=$CT368,$CT369,$O375=$CU368,$CU369,$O375=$CV368,$CV369,$O375=$CW368,$CW369,$O375=$CX368,$CX369,$O375=$CY368,$CY369,$O375=$CZ368,$CZ369,$O375=$DA368,$DA369,$O375=$DB368,$DB369,$O375=$DC368,$DC369,$O375=$DD368,$DD369,$O375=$DE368,$DE369,$O375=$DF368,$DF369,$O375=$DG368,$DG369,$O375=$DH368,$DH369,$O375=$DI368,$DI369,$O375=$DJ368,$DJ369,$O375=$DK368,$DK369,$O375=$DL368,$DL369,$O375=$DM368,$DM369,$O375=$DN368,$DN369,$O375=$DO368,$DO369,$O375=$DP368,$DP369,$O375=$DQ368,$DQ369,$O375=$DR368,$DR369,$O375=$DS368,$DS369,$O375=$DT368,$DT369,$O375=$DU368,$DU369)","v":0},{"$f":"$V$15","v":17},{"$f":"D375","v":"Timer uge"},null,null,null,null,{"$f":"SUMIF($D$5:$AH$5,V375,D369:AH369)","v":0},{"$f":"$AC$15","v":18},{"$f":"D375","v":"Timer uge"},null,null,null,{"$f":"SUMIF($D$5:$AH$5,AC375,D369:AH369)","v":0},{"$f":"$AI$15","v":19},{"$f":"D375","v":"Timer uge"},null,null,null,{"$f":"SUMIF($D$5:$AH$5,AI375,D369:AH369)","v":0}]
[null,null,null,"Overarbejde 50% 1-3 timer",null,null,{"$f":"IF($G375>37,$G375-37-$G377,0)","v":0},null,{"$f":"D376","v":"Overarbejde 50% 1-3 timer"},null,null,null,null,{"$f":"IF($N375>37,$N375-37-$N377,0)","v":0},null,{"$f":"D376","v":"Overarbejde 50% 1-3 timer"},null,null,null,null,{"$f":"IF($U375>37,$U375-37-$U377,0)","v":0},null,{"$f":"D376","v":"Overarbejde 50% 1-3 timer"},null,null,null,null,{"$f":"IF($AB375>37,$AB375-37-$AB377,0)","v":0},null,{"$f":"D376","v":"Overarbejde 50% 1-3 timer"},null,null,null,{"$f":"IF($AH375>37,$AH375-37-$AH377,0)","v":0},null,{"$f":"D376","v":"Overarbejde 50% 1-3 timer"},null,null,null,{"$f":"IF($AH375>37,$AH375-37-$AH377,0)","v":0}]
[null,null,null,"Overarbejde 100% over 3 timer",null,null,{"$f":"IF($G375>40,$G375-40,0)","v":0},null,"Overarbejde 100% over 3 timer",null,null,null,null,{"$f":"IF($N375>40,$N375-40,0)","v":0},null,"Overarbejde 100% over 3 timer",null,null,null,null,{"$f":"IF($U375>40,$U375-40,0)","v":0},null,"Overarbejde 100% over 3 timer",null,null,null,null,{"$f":"IF($AB375>40,$AB375-40,0)","v":0},null,"Overarbejde 100% over 3 timer",null,null,null,{"$f":"IF($AH375>40,$AH375-40,0)","v":0},null,{"$f":"D377","v":"Overarbejde 100% over 3 timer"},null,null,null,{"$f":"IF($AH375>40,$AH375-40,0)","v":0},null,null,null,null,null,null,null,null,null,null,null,null,null,null,null,null,null,null,null,null,null,null,null,null,null,null,null,null,null,null,null,null,null,1,2,3,4,5,6,7,8,9,10,11,12,13,14,15,16,17,18,19,20,21,22,23,24,25,26,27,28,29,30,31,32,33,34,35,36,37,38,39,40,41,42,43,44,45,46,47,48,49,50,51,52]
[{"$f":"Medarbejder!A44","v":0},{"$f":"Medarbejder!B44","v":0},{"$f":"Medarbejder!C44","v":"-"},null,null,null,null,null,null,null,null,null,null,null,null,null,null,null,null,null,null,null,null,null,null,null,null,null,null,null,null,null,null,null,null,null,null,null,null,null,null,{"$f":"AO378*Overenskomst!$C$22","v":0},{"$f":"SUM($D378:$AH378)-$BA378-$BF378-$BD378","v":0},{"$f":"IF(Medarbejder!$J44=\"ja\",$AQ378,\"-\")","v":"-"},{"$f":"SUMIF($D$7:$AH$7,\"søndag\",$D378:$AH378)+$AT378","v":0},{"$f":"SUMIFS($D378:$AH378,$D382:$AH382,\"H\")","v":0},{"$f":"G385+N385+U385+AB385+AH385+AN385","v":0},{"$f":"G386+N386+U386+AB386+AH386+AN386","v":0},{"$f":"SUM($D380:$AH380)","v":0},{"$f":"SUM($D381:$AH381)","v":0},{"$f":"COUNTIFS($D379:$AH379,\"F\")","v":0},{"$f":"COUNTIFS($D379:$AH379,\"S\")","v":0},{"$f":"SUMIF($D379:$AH379,\"S\",$D383:$AH383)","v":0},{"$f":"COUNTIFS($D379:$AH379,\"p\")","v":0},{"$f":"COUNTIFS($D379:$AH379,\"BS\")","v":0},{"$f":"SUMIF(D379:AH379,\"bs\",$D378:$AH378)","v":0},{"$f":"COUNTIFS($D379:$AH379,\"FF\")","v":0},{"$f":"SUMIF($D379:$AH379,\"g\",$D378:$AH378)","v":0},{"$f":"Medarbejder!$N41","v":"-"},{"$f":"SUM($BL378:$BU378)","v":4},null,null,null,{"$f":"COUNTIFS($D$6:$AH$6,\"skærtd\")","v":1},{"$f":"COUNTIFS($D$6:$AH$6,\"langfd\")","v":1},{"$f":"COUNTIFS($D$6:$AH$6,\"1påsked\")","v":1},{"$f":"COUNTIFS($D$6:$AH$6,\"2påsked\")","v":1},{"$f":"COUNTIFS($D$6:$AH$6,\"kr.himmelfart\")","v":0},{"$f":"COUNTIFS($D$6:$AH$6,\"1pinse\")","v":0},{"$f":"COUNTIFS($D$6:$AH$6,\"2pinse\")","v":0},{"$f":"COUNTIFS($D$6:$AH$6,\"1juledag\")","v":0},{"$f":"COUNTIFS($D$6:$AH$6,\"2juledag\")","v":0},{"$f":"COUNTIFS($D$6:$AH$6,\"nytårsdag\")","v":0},{"$f":"SUMIFS($D378:$AH378,Lønskema!$D$5:$AH$5,1)","v":0},{"$f":"SUMIFS($D378:$AH378,Lønskema!$D$5:$AH$5,2)","v":0},{"$f":"SUMIFS($D378:$AH378,Lønskema!$D$5:$AH$5,3)","v":0},{"$f":"SUMIFS($D378:$AH378,Lønskema!$D$5:$AH$5,4)","v":0},{"$f":"SUMIFS($D378:$AH378,Lønskema!$D$5:$AH$5,5)","v":0},{"$f":"SUMIFS($D378:$AH378,Lønskema!$D$5:$AH$5,6)","v":0},{"$f":"SUMIFS($D378:$AH378,Lønskema!$D$5:$AH$5,7)","v":0},{"$f":"SUMIFS($D378:$AH378,Lønskema!$D$5:$AH$5,8)","v":0},{"$f":"SUMIFS($D378:$AH378,Lønskema!$D$5:$AH$5,9)","v":0},{"$f":"SUMIFS($D378:$AH378,Lønskema!$D$5:$AH$5,10)","v":0},{"$f":"SUMIFS($D378:$AH378,Lønskema!$D$5:$AH$5,11)","v":0},{"$f":"SUMIFS($D378:$AH378,Lønskema!$D$5:$AH$5,12)","v":0},{"$f":"SUMIFS($D378:$AH378,Lønskema!$D$5:$AH$5,13)","v":0},{"$f":"SUMIFS($D378:$AH378,Lønskema!$D$5:$AH$5,14)","v":0},{"$f":"SUMIFS($D378:$AH378,Lønskema!$D$5:$AH$5,15)","v":0},{"$f":"SUMIFS($D378:$AH378,Lønskema!$D$5:$AH$5,16)","v":0},{"$f":"SUMIFS($D378:$AH378,Lønskema!$D$5:$AH$5,17)","v":0},{"$f":"SUMIFS($D378:$AH378,Lønskema!$D$5:$AH$5,18)","v":0},{"$f":"SUMIFS($D378:$AH378,Lønskema!$D$5:$AH$5,19)","v":0},{"$f":"SUMIFS($D378:$AH378,Lønskema!$D$5:$AH$5,20)","v":0},{"$f":"SUMIFS($D378:$AH378,Lønskema!$D$5:$AH$5,21)","v":0},{"$f":"SUMIFS($D378:$AH378,Lønskema!$D$5:$AH$5,22)","v":0},{"$f":"SUMIFS($D378:$AH378,Lønskema!$D$5:$AH$5,23)","v":0},{"$f":"SUMIFS($D378:$AH378,Lønskema!$D$5:$AH$5,24)","v":0},{"$f":"SUMIFS($D378:$AH378,Lønskema!$D$5:$AH$5,25)","v":0},{"$f":"SUMIFS($D378:$AH378,Lønskema!$D$5:$AH$5,26)","v":0},{"$f":"SUMIFS($D378:$AH378,Lønskema!$D$5:$AH$5,27)","v":0},{"$f":"SUMIFS($D378:$AH378,Lønskema!$D$5:$AH$5,28)","v":0},{"$f":"SUMIFS($D378:$AH378,Lønskema!$D$5:$AH$5,29)","v":0},{"$f":"SUMIFS($D378:$AH378,Lønskema!$D$5:$AH$5,30)","v":0},{"$f":"SUMIFS($D378:$AH378,Lønskema!$D$5:$AH$5,31)","v":0},{"$f":"SUMIFS($D378:$AH378,Lønskema!$D$5:$AH$5,32)","v":0},{"$f":"SUMIFS($D378:$AH378,Lønskema!$D$5:$AH$5,33)","v":0},{"$f":"SUMIFS($D378:$AH378,Lønskema!$D$5:$AH$5,34)","v":0},{"$f":"SUMIFS($D378:$AH378,Lønskema!$D$5:$AH$5,35)","v":0},{"$f":"SUMIFS($D378:$AH378,Lønskema!$D$5:$AH$5,36)","v":0},{"$f":"SUMIFS($D378:$AH378,Lønskema!$D$5:$AH$5,37)","v":0},{"$f":"SUMIFS($D378:$AH378,Lønskema!$D$5:$AH$5,38)","v":0},{"$f":"SUMIFS($D378:$AH378,Lønskema!$D$5:$AH$5,39)","v":0},{"$f":"SUMIFS($D378:$AH378,Lønskema!$D$5:$AH$5,40)","v":0},{"$f":"SUMIFS($D378:$AH378,Lønskema!$D$5:$AH$5,41)","v":0},{"$f":"SUMIFS($D378:$AH378,Lønskema!$D$5:$AH$5,42)","v":0},{"$f":"SUMIFS($D378:$AH378,Lønskema!$D$5:$AH$5,43)","v":0},{"$f":"SUMIFS($D378:$AH378,Lønskema!$D$5:$AH$5,44)","v":0},{"$f":"SUMIFS($D378:$AH378,Lønskema!$D$5:$AH$5,45)","v":0},{"$f":"SUMIFS($D378:$AH378,Lønskema!$D$5:$AH$5,46)","v":0},{"$f":"SUMIFS($D378:$AH378,Lønskema!$D$5:$AH$5,47)","v":0},{"$f":"SUMIFS($D378:$AH378,Lønskema!$D$5:$AH$5,48)","v":0},{"$f":"SUMIFS($D378:$AH378,Lønskema!$D$5:$AH$5,49)","v":0},{"$f":"SUMIFS($D378:$AH378,Lønskema!$D$5:$AH$5,50)","v":0},{"$f":"SUMIFS($D378:$AH378,Lønskema!$D$5:$AH$5,51)","v":0},{"$f":"SUMIFS($D378:$AH378,Lønskema!$D$5:$AH$5,52)","v":0}]
["Ferie - syg  mm. Registreres i denne række"]
[null,"Aften"]
[null,"Nat"]
[null,"Helligdag",null,{"$f":"_xlfn.IFS(D$7=\"søndag\",\"-\",D$6=\"skærtd\",\"h\",D$6=\"langfd\",\"h\",D$6=\"1påsked\",\"h\",D$6=\"2påsked\",\"h\",D$6=\"kr.himmelfart\",\"h\",D$6=\"1pinse\",\"h\",D$6=\"2pinse\",\"h\",D$6=\"1juledag\",\"h\",D$6=\"2juledag\",\"h\",D$6=\"nytårsdag\",\"h\")","v":{"$error":"#N/A"}},{"$f":"_xlfn.IFS(E$7=\"søndag\",\"-\",E$6=\"skærtd\",\"h\",E$6=\"langfd\",\"h\",E$6=\"1påsked\",\"h\",E$6=\"2påsked\",\"h\",E$6=\"kr.himmelfart\",\"h\",E$6=\"1pinse\",\"h\",E$6=\"2pinse\",\"h\",E$6=\"1juledag\",\"h\",E$6=\"2juledag\",\"h\",E$6=\"nytårsdag\",\"h\")","v":{"$error":"#N/A"}},{"$f":"_xlfn.IFS(F$7=\"søndag\",\"-\",F$6=\"skærtd\",\"h\",F$6=\"langfd\",\"h\",F$6=\"1påsked\",\"h\",F$6=\"2påsked\",\"h\",F$6=\"kr.himmelfart\",\"h\",F$6=\"1pinse\",\"h\",F$6=\"2pinse\",\"h\",F$6=\"1juledag\",\"h\",F$6=\"2juledag\",\"h\",F$6=\"nytårsdag\",\"h\")","v":{"$error":"#N/A"}},{"$f":"_xlfn.IFS(G$7=\"søndag\",\"-\",G$6=\"skærtd\",\"h\",G$6=\"langfd\",\"h\",G$6=\"1påsked\",\"h\",G$6=\"2påsked\",\"h\",G$6=\"kr.himmelfart\",\"h\",G$6=\"1pinse\",\"h\",G$6=\"2pinse\",\"h\",G$6=\"1juledag\",\"h\",G$6=\"2juledag\",\"h\",G$6=\"nytårsdag\",\"h\")","v":{"$error":"#N/A"}},{"$f":"_xlfn.IFS(H$7=\"søndag\",\"-\",H$6=\"skærtd\",\"h\",H$6=\"langfd\",\"h\",H$6=\"1påsked\",\"h\",H$6=\"2påsked\",\"h\",H$6=\"kr.himmelfart\",\"h\",H$6=\"1pinse\",\"h\",H$6=\"2pinse\",\"h\",H$6=\"1juledag\",\"h\",H$6=\"2juledag\",\"h\",H$6=\"nytårsdag\",\"h\")","v":{"$error":"#N/A"}},{"$f":"_xlfn.IFS(I$7=\"søndag\",\"-\",I$6=\"skærtd\",\"h\",I$6=\"langfd\",\"h\",I$6=\"1påsked\",\"h\",I$6=\"2påsked\",\"h\",I$6=\"kr.himmelfart\",\"h\",I$6=\"1pinse\",\"h\",I$6=\"2pinse\",\"h\",I$6=\"1juledag\",\"h\",I$6=\"2juledag\",\"h\",I$6=\"nytårsdag\",\"h\")","v":"-"},{"$f":"_xlfn.IFS(J$7=\"søndag\",\"-\",J$6=\"skærtd\",\"h\",J$6=\"langfd\",\"h\",J$6=\"1påsked\",\"h\",J$6=\"2påsked\",\"h\",J$6=\"kr.himmelfart\",\"h\",J$6=\"1pinse\",\"h\",J$6=\"2pinse\",\"h\",J$6=\"1juledag\",\"h\",J$6=\"2juledag\",\"h\",J$6=\"nytårsdag\",\"h\")","v":{"$error":"#N/A"}},{"$f":"_xlfn.IFS(K$7=\"søndag\",\"-\",K$6=\"skærtd\",\"h\",K$6=\"langfd\",\"h\",K$6=\"1påsked\",\"h\",K$6=\"2påsked\",\"h\",K$6=\"kr.himmelfart\",\"h\",K$6=\"1pinse\",\"h\",K$6=\"2pinse\",\"h\",K$6=\"1juledag\",\"h\",K$6=\"2juledag\",\"h\",K$6=\"nytårsdag\",\"h\")","v":{"$error":"#N/A"}},{"$f":"_xlfn.IFS(L$7=\"søndag\",\"-\",L$6=\"skærtd\",\"h\",L$6=\"langfd\",\"h\",L$6=\"1påsked\",\"h\",L$6=\"2påsked\",\"h\",L$6=\"kr.himmelfart\",\"h\",L$6=\"1pinse\",\"h\",L$6=\"2pinse\",\"h\",L$6=\"1juledag\",\"h\",L$6=\"2juledag\",\"h\",L$6=\"nytårsdag\",\"h\")","v":{"$error":"#N/A"}},{"$f":"_xlfn.IFS(M$7=\"søndag\",\"-\",M$6=\"skærtd\",\"h\",M$6=\"langfd\",\"h\",M$6=\"1påsked\",\"h\",M$6=\"2påsked\",\"h\",M$6=\"kr.himmelfart\",\"h\",M$6=\"1pinse\",\"h\",M$6=\"2pinse\",\"h\",M$6=\"1juledag\",\"h\",M$6=\"2juledag\",\"h\",M$6=\"nytårsdag\",\"h\")","v":{"$error":"#N/A"}},{"$f":"_xlfn.IFS(N$7=\"søndag\",\"-\",N$6=\"skærtd\",\"h\",N$6=\"langfd\",\"h\",N$6=\"1påsked\",\"h\",N$6=\"2påsked\",\"h\",N$6=\"kr.himmelfart\",\"h\",N$6=\"1pinse\",\"h\",N$6=\"2pinse\",\"h\",N$6=\"1juledag\",\"h\",N$6=\"2juledag\",\"h\",N$6=\"nytårsdag\",\"h\")","v":{"$error":"#N/A"}},{"$f":"_xlfn.IFS(O$7=\"søndag\",\"-\",O$6=\"skærtd\",\"h\",O$6=\"langfd\",\"h\",O$6=\"1påsked\",\"h\",O$6=\"2påsked\",\"h\",O$6=\"kr.himmelfart\",\"h\",O$6=\"1pinse\",\"h\",O$6=\"2pinse\",\"h\",O$6=\"1juledag\",\"h\",O$6=\"2juledag\",\"h\",O$6=\"nytårsdag\",\"h\")","v":{"$error":"#N/A"}},{"$f":"_xlfn.IFS(P$7=\"søndag\",\"-\",P$6=\"skærtd\",\"h\",P$6=\"langfd\",\"h\",P$6=\"1påsked\",\"h\",P$6=\"2påsked\",\"h\",P$6=\"kr.himmelfart\",\"h\",P$6=\"1pinse\",\"h\",P$6=\"2pinse\",\"h\",P$6=\"1juledag\",\"h\",P$6=\"2juledag\",\"h\",P$6=\"nytårsdag\",\"h\")","v":"-"},{"$f":"_xlfn.IFS(Q$7=\"søndag\",\"-\",Q$6=\"skærtd\",\"h\",Q$6=\"langfd\",\"h\",Q$6=\"1påsked\",\"h\",Q$6=\"2påsked\",\"h\",Q$6=\"kr.himmelfart\",\"h\",Q$6=\"1pinse\",\"h\",Q$6=\"2pinse\",\"h\",Q$6=\"1juledag\",\"h\",Q$6=\"2juledag\",\"h\",Q$6=\"nytårsdag\",\"h\")","v":{"$error":"#N/A"}},{"$f":"_xlfn.IFS(R$7=\"søndag\",\"-\",R$6=\"skærtd\",\"h\",R$6=\"langfd\",\"h\",R$6=\"1påsked\",\"h\",R$6=\"2påsked\",\"h\",R$6=\"kr.himmelfart\",\"h\",R$6=\"1pinse\",\"h\",R$6=\"2pinse\",\"h\",R$6=\"1juledag\",\"h\",R$6=\"2juledag\",\"h\",R$6=\"nytårsdag\",\"h\")","v":{"$error":"#N/A"}},{"$f":"_xlfn.IFS(S$7=\"søndag\",\"-\",S$6=\"skærtd\",\"h\",S$6=\"langfd\",\"h\",S$6=\"1påsked\",\"h\",S$6=\"2påsked\",\"h\",S$6=\"kr.himmelfart\",\"h\",S$6=\"1pinse\",\"h\",S$6=\"2pinse\",\"h\",S$6=\"1juledag\",\"h\",S$6=\"2juledag\",\"h\",S$6=\"nytårsdag\",\"h\")","v":{"$error":"#N/A"}},{"$f":"_xlfn.IFS(T$7=\"søndag\",\"-\",T$6=\"skærtd\",\"h\",T$6=\"langfd\",\"h\",T$6=\"1påsked\",\"h\",T$6=\"2påsked\",\"h\",T$6=\"kr.himmelfart\",\"h\",T$6=\"1pinse\",\"h\",T$6=\"2pinse\",\"h\",T$6=\"1juledag\",\"h\",T$6=\"2juledag\",\"h\",T$6=\"nytårsdag\",\"h\")","v":"h"},{"$f":"_xlfn.IFS(U$7=\"søndag\",\"-\",U$6=\"skærtd\",\"h\",U$6=\"langfd\",\"h\",U$6=\"1påsked\",\"h\",U$6=\"2påsked\",\"h\",U$6=\"kr.himmelfart\",\"h\",U$6=\"1pinse\",\"h\",U$6=\"2pinse\",\"h\",U$6=\"1juledag\",\"h\",U$6=\"2juledag\",\"h\",U$6=\"nytårsdag\",\"h\")","v":"h"},{"$f":"_xlfn.IFS(V$7=\"søndag\",\"-\",V$6=\"skærtd\",\"h\",V$6=\"langfd\",\"h\",V$6=\"1påsked\",\"h\",V$6=\"2påsked\",\"h\",V$6=\"kr.himmelfart\",\"h\",V$6=\"1pinse\",\"h\",V$6=\"2pinse\",\"h\",V$6=\"1juledag\",\"h\",V$6=\"2juledag\",\"h\",V$6=\"nytårsdag\",\"h\")","v":{"$error":"#N/A"}},{"$f":"_xlfn.IFS(W$7=\"søndag\",\"-\",W$6=\"skærtd\",\"h\",W$6=\"langfd\",\"h\",W$6=\"1påsked\",\"h\",W$6=\"2påsked\",\"h\",W$6=\"kr.himmelfart\",\"h\",W$6=\"1pinse\",\"h\",W$6=\"2pinse\",\"h\",W$6=\"1juledag\",\"h\",W$6=\"2juledag\",\"h\",W$6=\"nytårsdag\",\"h\")","v":"-"},{"$f":"_xlfn.IFS(X$7=\"søndag\",\"-\",X$6=\"skærtd\",\"h\",X$6=\"langfd\",\"h\",X$6=\"1påsked\",\"h\",X$6=\"2påsked\",\"h\",X$6=\"kr.himmelfart\",\"h\",X$6=\"1pinse\",\"h\",X$6=\"2pinse\",\"h\",X$6=\"1juledag\",\"h\",X$6=\"2juledag\",\"h\",X$6=\"nytårsdag\",\"h\")","v":"h"},{"$f":"_xlfn.IFS(Y$7=\"søndag\",\"-\",Y$6=\"skærtd\",\"h\",Y$6=\"langfd\",\"h\",Y$6=\"1påsked\",\"h\",Y$6=\"2påsked\",\"h\",Y$6=\"kr.himmelfart\",\"h\",Y$6=\"1pinse\",\"h\",Y$6=\"2pinse\",\"h\",Y$6=\"1juledag\",\"h\",Y$6=\"2juledag\",\"h\",Y$6=\"nytårsdag\",\"h\")","v":{"$error":"#N/A"}},{"$f":"_xlfn.IFS(Z$7=\"søndag\",\"-\",Z$6=\"skærtd\",\"h\",Z$6=\"langfd\",\"h\",Z$6=\"1påsked\",\"h\",Z$6=\"2påsked\",\"h\",Z$6=\"kr.himmelfart\",\"h\",Z$6=\"1pinse\",\"h\",Z$6=\"2pinse\",\"h\",Z$6=\"1juledag\",\"h\",Z$6=\"2juledag\",\"h\",Z$6=\"nytårsdag\",\"h\")","v":{"$error":"#N/A"}},{"$f":"_xlfn.IFS(AA$7=\"søndag\",\"-\",AA$6=\"skærtd\",\"h\",AA$6=\"langfd\",\"h\",AA$6=\"1påsked\",\"h\",AA$6=\"2påsked\",\"h\",AA$6=\"kr.himmelfart\",\"h\",AA$6=\"1pinse\",\"h\",AA$6=\"2pinse\",\"h\",AA$6=\"1juledag\",\"h\",AA$6=\"2juledag\",\"h\",AA$6=\"nytårsdag\",\"h\")","v":{"$error":"#N/A"}},{"$f":"_xlfn.IFS(AB$7=\"søndag\",\"-\",AB$6=\"skærtd\",\"h\",AB$6=\"langfd\",\"h\",AB$6=\"1påsked\",\"h\",AB$6=\"2påsked\",\"h\",AB$6=\"kr.himmelfart\",\"h\",AB$6=\"1pinse\",\"h\",AB$6=\"2pinse\",\"h\",AB$6=\"1juledag\",\"h\",AB$6=\"2juledag\",\"h\",AB$6=\"nytårsdag\",\"h\")","v":{"$error":"#N/A"}},{"$f":"_xlfn.IFS(AC$7=\"søndag\",\"-\",AC$6=\"skærtd\",\"h\",AC$6=\"langfd\",\"h\",AC$6=\"1påsked\",\"h\",AC$6=\"2påsked\",\"h\",AC$6=\"kr.himmelfart\",\"h\",AC$6=\"1pinse\",\"h\",AC$6=\"2pinse\",\"h\",AC$6=\"1juledag\",\"h\",AC$6=\"2juledag\",\"h\",AC$6=\"nytårsdag\",\"h\")","v":{"$error":"#N/A"}},{"$f":"_xlfn.IFS(AD$7=\"søndag\",\"-\",AD$6=\"skærtd\",\"h\",AD$6=\"langfd\",\"h\",AD$6=\"1påsked\",\"h\",AD$6=\"2påsked\",\"h\",AD$6=\"kr.himmelfart\",\"h\",AD$6=\"1pinse\",\"h\",AD$6=\"2pinse\",\"h\",AD$6=\"1juledag\",\"h\",AD$6=\"2juledag\",\"h\",AD$6=\"nytårsdag\",\"h\")","v":"-"},{"$f":"_xlfn.IFS(AE$7=\"søndag\",\"-\",AE$6=\"skærtd\",\"h\",AE$6=\"langfd\",\"h\",AE$6=\"1påsked\",\"h\",AE$6=\"2påsked\",\"h\",AE$6=\"kr.himmelfart\",\"h\",AE$6=\"1pinse\",\"h\",AE$6=\"2pinse\",\"h\",AE$6=\"1juledag\",\"h\",AE$6=\"2juledag\",\"h\",AE$6=\"nytårsdag\",\"h\")","v":{"$error":"#N/A"}},{"$f":"_xlfn.IFS(AF$7=\"søndag\",\"-\",AF$6=\"skærtd\",\"h\",AF$6=\"langfd\",\"h\",AF$6=\"1påsked\",\"h\",AF$6=\"2påsked\",\"h\",AF$6=\"kr.himmelfart\",\"h\",AF$6=\"1pinse\",\"h\",AF$6=\"2pinse\",\"h\",AF$6=\"1juledag\",\"h\",AF$6=\"2juledag\",\"h\",AF$6=\"nytårsdag\",\"h\")","v":{"$error":"#N/A"}},{"$f":"_xlfn.IFS(AG$7=\"søndag\",\"-\",AG$6=\"skærtd\",\"h\",AG$6=\"langfd\",\"h\",AG$6=\"1påsked\",\"h\",AG$6=\"2påsked\",\"h\",AG$6=\"kr.himmelfart\",\"h\",AG$6=\"1pinse\",\"h\",AG$6=\"2pinse\",\"h\",AG$6=\"1juledag\",\"h\",AG$6=\"2juledag\",\"h\",AG$6=\"nytårsdag\",\"h\")","v":{"$error":"#N/A"}},{"$f":"_xlfn.IFS(AH$7=\"søndag\",\"-\",AH$6=\"skærtd\",\"h\",AH$6=\"langfd\",\"h\",AH$6=\"1påsked\",\"h\",AH$6=\"2påsked\",\"h\",AH$6=\"kr.himmelfart\",\"h\",AH$6=\"1pinse\",\"h\",AH$6=\"2pinse\",\"h\",AH$6=\"1juledag\",\"h\",AH$6=\"2juledag\",\"h\",AH$6=\"nytårsdag\",\"h\")","v":{"$error":"#N/A"}}]
[null,"Sygedage",null,{"$f":"IF(D379=\"s\",D378,\"-\")","v":"-"},{"$f":"IF(E379=\"s\",E378,\"-\")","v":"-"},"-","-","-","-","-","-","-","-","-","-","-","-","-","-","-","-","-","-","-","-","-","-","-","-","-","-","-","-","-"]
[null,null,{"$f":"$C$15","v":14},"Timer uge",null,null,{"$f":"SUMIF($D$5:$AH$5,C384,D378:AH378)","v":0},{"$f":"$H$15","v":15},{"$f":"D384","v":"Timer uge"},null,null,null,null,{"$f":"SUMIF($D$5:$AH$5,H384,D378:AH378)","v":0},{"$f":"$O$15","v":16},{"$f":"D384","v":"Timer uge"},null,null,null,null,{"$f":"_xlfn.IFS($O384=$BV377,$BV378,$O384=$BW377,Lønskema!$BW378,$O384=$BX377,$BX378,$O384=$BY377,$BY378,$O384=$BZ377,$BZ378,$O384=$CA377,$CA378,$O384=$CB377,$CB378,$O384=$CC377,$CC378,$O384=$CD377,$CD378,$O384=$CE377,$CE378,$O384=$CF377,$CF378,$O384=$CG377,$CF378,$O384=$CG377,$CG378,$O384=$CH377,$CH378,$O384=$CI377,$CI378,$O384=$CJ377,$CJ378,$O384=$CK377,$CK378,$O384=$CL377,$CL378,$O384=$CM377,$CM378,$O384=$CN377,$CN378,$O384=$CO377,$CO378,$O384=$CP377,$CP378,$O384=$CQ377,$CQ378,$O384=$CR377,$CR378,$O384=$CS377,$CS378,$O384=$CT377,$CT378,$O384=$CU377,$CU378,$O384=$CV377,$CV378,$O384=$CW377,$CW378,$O384=$CX377,$CX378,$O384=$CY377,$CY378,$O384=$CZ377,$CZ378,$O384=$DA377,$DA378,$O384=$DB377,$DB378,$O384=$DC377,$DC378,$O384=$DD377,$DD378,$O384=$DE377,$DE378,$O384=$DF377,$DF378,$O384=$DG377,$DG378,$O384=$DH377,$DH378,$O384=$DI377,$DI378,$O384=$DJ377,$DJ378,$O384=$DK377,$DK378,$O384=$DL377,$DL378,$O384=$DM377,$DM378,$O384=$DN377,$DN378,$O384=$DO377,$DO378,$O384=$DP377,$DP378,$O384=$DQ377,$DQ378,$O384=$DR377,$DR378,$O384=$DS377,$DS378,$O384=$DT377,$DT378,$O384=$DU377,$DU378)","v":0},{"$f":"$V$15","v":17},{"$f":"D384","v":"Timer uge"},null,null,null,null,{"$f":"SUMIF($D$5:$AH$5,V384,D378:AH378)","v":0},{"$f":"$AC$15","v":18},{"$f":"D384","v":"Timer uge"},null,null,null,{"$f":"SUMIF($D$5:$AH$5,AC384,D378:AH378)","v":0},{"$f":"$AI$15","v":19},{"$f":"D384","v":"Timer uge"},null,null,null,{"$f":"SUMIF($D$5:$AH$5,AI384,D378:AH378)","v":0}]
[null,null,null,"Overarbejde 50% 1-3 timer",null,null,{"$f":"IF($G384>37,$G384-37-$G386,0)","v":0},null,{"$f":"D385","v":"Overarbejde 50% 1-3 timer"},null,null,null,null,{"$f":"IF($N384>37,$N384-37-$N386,0)","v":0},null,{"$f":"D385","v":"Overarbejde 50% 1-3 timer"},null,null,null,null,{"$f":"IF($U384>37,$U384-37-$U386,0)","v":0},null,{"$f":"D385","v":"Overarbejde 50% 1-3 timer"},null,null,null,null,{"$f":"IF($AB384>37,$AB384-37-$AB386,0)","v":0},null,{"$f":"D385","v":"Overarbejde 50% 1-3 timer"},null,null,null,{"$f":"IF($AH384>37,$AH384-37-$AH386,0)","v":0},null,{"$f":"D385","v":"Overarbejde 50% 1-3 timer"},null,null,null,{"$f":"IF($AH384>37,$AH384-37-$AH386,0)","v":0}]
[null,null,null,"Overarbejde 100% over 3 timer",null,null,{"$f":"IF($G384>40,$G384-40,0)","v":0},null,"Overarbejde 100% over 3 timer",null,null,null,null,{"$f":"IF($N384>40,$N384-40,0)","v":0},null,"Overarbejde 100% over 3 timer",null,null,null,null,{"$f":"IF($U384>40,$U384-40,0)","v":0},null,"Overarbejde 100% over 3 timer",null,null,null,null,{"$f":"IF($AB384>40,$AB384-40,0)","v":0},null,"Overarbejde 100% over 3 timer",null,null,null,{"$f":"IF($AH384>40,$AH384-40,0)","v":0},null,{"$f":"D386","v":"Overarbejde 100% over 3 timer"},null,null,null,{"$f":"IF($AH384>40,$AH384-40,0)","v":0},null,null,null,null,null,null,null,null,null,null,null,null,null,null,null,null,null,null,null,null,null,null,null,null,null,null,null,null,null,null,null,null,null,1,2,3,4,5,6,7,8,9,10,11,12,13,14,15,16,17,18,19,20,21,22,23,24,25,26,27,28,29,30,31,32,33,34,35,36,37,38,39,40,41,42,43,44,45,46,47,48,49,50,51,52]
[{"$f":"Medarbejder!A45","v":0},{"$f":"Medarbejder!B45","v":0},{"$f":"Medarbejder!C45","v":"-"},null,null,null,null,null,null,null,null,null,null,null,null,null,null,null,null,null,null,null,null,null,null,null,null,null,null,null,null,null,null,null,null,null,null,null,null,null,null,{"$f":"AO387*Overenskomst!$C$22","v":0},{"$f":"SUM($D387:$AH387)-$BA387-$BF387-$BD387","v":0},{"$f":"IF(Medarbejder!$J45=\"ja\",$AQ387,\"-\")","v":"-"},{"$f":"SUMIF($D$7:$AH$7,\"søndag\",$D387:$AH387)+$AT387","v":0},{"$f":"SUMIFS($D387:$AH387,$D391:$AH391,\"H\")","v":0},{"$f":"G394+N394+U394+AB394+AH394+AN394","v":0},{"$f":"G395+N395+U395+AB395+AH395+AN395","v":0},{"$f":"SUM($D389:$AH389)","v":0},{"$f":"SUM($D390:$AH390)","v":0},{"$f":"COUNTIFS($D388:$AH388,\"F\")","v":0},{"$f":"COUNTIFS($D388:$AH388,\"S\")","v":0},{"$f":"SUMIF($D388:$AH388,\"S\",$D392:$AH392)","v":0},{"$f":"COUNTIFS($D388:$AH388,\"p\")","v":0},{"$f":"COUNTIFS($D388:$AH388,\"BS\")","v":0},{"$f":"SUMIF(D388:AH388,\"bs\",$D387:$AH387)","v":0},{"$f":"COUNTIFS($D388:$AH388,\"FF\")","v":0},{"$f":"SUMIF($D388:$AH388,\"g\",$D387:$AH387)","v":0},{"$f":"Medarbejder!$N42","v":"-"},{"$f":"SUM($BL387:$BU387)","v":4},null,null,null,{"$f":"COUNTIFS($D$6:$AH$6,\"skærtd\")","v":1},{"$f":"COUNTIFS($D$6:$AH$6,\"langfd\")","v":1},{"$f":"COUNTIFS($D$6:$AH$6,\"1påsked\")","v":1},{"$f":"COUNTIFS($D$6:$AH$6,\"2påsked\")","v":1},{"$f":"COUNTIFS($D$6:$AH$6,\"kr.himmelfart\")","v":0},{"$f":"COUNTIFS($D$6:$AH$6,\"1pinse\")","v":0},{"$f":"COUNTIFS($D$6:$AH$6,\"2pinse\")","v":0},{"$f":"COUNTIFS($D$6:$AH$6,\"1juledag\")","v":0},{"$f":"COUNTIFS($D$6:$AH$6,\"2juledag\")","v":0},{"$f":"COUNTIFS($D$6:$AH$6,\"nytårsdag\")","v":0},{"$f":"SUMIFS($D387:$AH387,Lønskema!$D$5:$AH$5,1)","v":0},{"$f":"SUMIFS($D387:$AH387,Lønskema!$D$5:$AH$5,2)","v":0},{"$f":"SUMIFS($D387:$AH387,Lønskema!$D$5:$AH$5,3)","v":0},{"$f":"SUMIFS($D387:$AH387,Lønskema!$D$5:$AH$5,4)","v":0},{"$f":"SUMIFS($D387:$AH387,Lønskema!$D$5:$AH$5,5)","v":0},{"$f":"SUMIFS($D387:$AH387,Lønskema!$D$5:$AH$5,6)","v":0},{"$f":"SUMIFS($D387:$AH387,Lønskema!$D$5:$AH$5,7)","v":0},{"$f":"SUMIFS($D387:$AH387,Lønskema!$D$5:$AH$5,8)","v":0},{"$f":"SUMIFS($D387:$AH387,Lønskema!$D$5:$AH$5,9)","v":0},{"$f":"SUMIFS($D387:$AH387,Lønskema!$D$5:$AH$5,10)","v":0},{"$f":"SUMIFS($D387:$AH387,Lønskema!$D$5:$AH$5,11)","v":0},{"$f":"SUMIFS($D387:$AH387,Lønskema!$D$5:$AH$5,12)","v":0},{"$f":"SUMIFS($D387:$AH387,Lønskema!$D$5:$AH$5,13)","v":0},{"$f":"SUMIFS($D387:$AH387,Lønskema!$D$5:$AH$5,14)","v":0},{"$f":"SUMIFS($D387:$AH387,Lønskema!$D$5:$AH$5,15)","v":0},{"$f":"SUMIFS($D387:$AH387,Lønskema!$D$5:$AH$5,16)","v":0},{"$f":"SUMIFS($D387:$AH387,Lønskema!$D$5:$AH$5,17)","v":0},{"$f":"SUMIFS($D387:$AH387,Lønskema!$D$5:$AH$5,18)","v":0},{"$f":"SUMIFS($D387:$AH387,Lønskema!$D$5:$AH$5,19)","v":0},{"$f":"SUMIFS($D387:$AH387,Lønskema!$D$5:$AH$5,20)","v":0},{"$f":"SUMIFS($D387:$AH387,Lønskema!$D$5:$AH$5,21)","v":0},{"$f":"SUMIFS($D387:$AH387,Lønskema!$D$5:$AH$5,22)","v":0},{"$f":"SUMIFS($D387:$AH387,Lønskema!$D$5:$AH$5,23)","v":0},{"$f":"SUMIFS($D387:$AH387,Lønskema!$D$5:$AH$5,24)","v":0},{"$f":"SUMIFS($D387:$AH387,Lønskema!$D$5:$AH$5,25)","v":0},{"$f":"SUMIFS($D387:$AH387,Lønskema!$D$5:$AH$5,26)","v":0},{"$f":"SUMIFS($D387:$AH387,Lønskema!$D$5:$AH$5,27)","v":0},{"$f":"SUMIFS($D387:$AH387,Lønskema!$D$5:$AH$5,28)","v":0},{"$f":"SUMIFS($D387:$AH387,Lønskema!$D$5:$AH$5,29)","v":0},{"$f":"SUMIFS($D387:$AH387,Lønskema!$D$5:$AH$5,30)","v":0},{"$f":"SUMIFS($D387:$AH387,Lønskema!$D$5:$AH$5,31)","v":0},{"$f":"SUMIFS($D387:$AH387,Lønskema!$D$5:$AH$5,32)","v":0},{"$f":"SUMIFS($D387:$AH387,Lønskema!$D$5:$AH$5,33)","v":0},{"$f":"SUMIFS($D387:$AH387,Lønskema!$D$5:$AH$5,34)","v":0},{"$f":"SUMIFS($D387:$AH387,Lønskema!$D$5:$AH$5,35)","v":0},{"$f":"SUMIFS($D387:$AH387,Lønskema!$D$5:$AH$5,36)","v":0},{"$f":"SUMIFS($D387:$AH387,Lønskema!$D$5:$AH$5,37)","v":0},{"$f":"SUMIFS($D387:$AH387,Lønskema!$D$5:$AH$5,38)","v":0},{"$f":"SUMIFS($D387:$AH387,Lønskema!$D$5:$AH$5,39)","v":0},{"$f":"SUMIFS($D387:$AH387,Lønskema!$D$5:$AH$5,40)","v":0},{"$f":"SUMIFS($D387:$AH387,Lønskema!$D$5:$AH$5,41)","v":0},{"$f":"SUMIFS($D387:$AH387,Lønskema!$D$5:$AH$5,42)","v":0},{"$f":"SUMIFS($D387:$AH387,Lønskema!$D$5:$AH$5,43)","v":0},{"$f":"SUMIFS($D387:$AH387,Lønskema!$D$5:$AH$5,44)","v":0},{"$f":"SUMIFS($D387:$AH387,Lønskema!$D$5:$AH$5,45)","v":0},{"$f":"SUMIFS($D387:$AH387,Lønskema!$D$5:$AH$5,46)","v":0},{"$f":"SUMIFS($D387:$AH387,Lønskema!$D$5:$AH$5,47)","v":0},{"$f":"SUMIFS($D387:$AH387,Lønskema!$D$5:$AH$5,48)","v":0},{"$f":"SUMIFS($D387:$AH387,Lønskema!$D$5:$AH$5,49)","v":0},{"$f":"SUMIFS($D387:$AH387,Lønskema!$D$5:$AH$5,50)","v":0},{"$f":"SUMIFS($D387:$AH387,Lønskema!$D$5:$AH$5,51)","v":0},{"$f":"SUMIFS($D387:$AH387,Lønskema!$D$5:$AH$5,52)","v":0}]
["Ferie - syg  mm. Registreres i denne række"]
[null,"Aften"]
[null,"Nat"]
[null,"Helligdag",null,{"$f":"_xlfn.IFS(D$7=\"søndag\",\"-\",D$6=\"skærtd\",\"h\",D$6=\"langfd\",\"h\",D$6=\"1påsked\",\"h\",D$6=\"2påsked\",\"h\",D$6=\"kr.himmelfart\",\"h\",D$6=\"1pinse\",\"h\",D$6=\"2pinse\",\"h\",D$6=\"1juledag\",\"h\",D$6=\"2juledag\",\"h\",D$6=\"nytårsdag\",\"h\")","v":{"$error":"#N/A"}},{"$f":"_xlfn.IFS(E$7=\"søndag\",\"-\",E$6=\"skærtd\",\"h\",E$6=\"langfd\",\"h\",E$6=\"1påsked\",\"h\",E$6=\"2påsked\",\"h\",E$6=\"kr.himmelfart\",\"h\",E$6=\"1pinse\",\"h\",E$6=\"2pinse\",\"h\",E$6=\"1juledag\",\"h\",E$6=\"2juledag\",\"h\",E$6=\"nytårsdag\",\"h\")","v":{"$error":"#N/A"}},{"$f":"_xlfn.IFS(F$7=\"søndag\",\"-\",F$6=\"skærtd\",\"h\",F$6=\"langfd\",\"h\",F$6=\"1påsked\",\"h\",F$6=\"2påsked\",\"h\",F$6=\"kr.himmelfart\",\"h\",F$6=\"1pinse\",\"h\",F$6=\"2pinse\",\"h\",F$6=\"1juledag\",\"h\",F$6=\"2juledag\",\"h\",F$6=\"nytårsdag\",\"h\")","v":{"$error":"#N/A"}},{"$f":"_xlfn.IFS(G$7=\"søndag\",\"-\",G$6=\"skærtd\",\"h\",G$6=\"langfd\",\"h\",G$6=\"1påsked\",\"h\",G$6=\"2påsked\",\"h\",G$6=\"kr.himmelfart\",\"h\",G$6=\"1pinse\",\"h\",G$6=\"2pinse\",\"h\",G$6=\"1juledag\",\"h\",G$6=\"2juledag\",\"h\",G$6=\"nytårsdag\",\"h\")","v":{"$error":"#N/A"}},{"$f":"_xlfn.IFS(H$7=\"søndag\",\"-\",H$6=\"skærtd\",\"h\",H$6=\"langfd\",\"h\",H$6=\"1påsked\",\"h\",H$6=\"2påsked\",\"h\",H$6=\"kr.himmelfart\",\"h\",H$6=\"1pinse\",\"h\",H$6=\"2pinse\",\"h\",H$6=\"1juledag\",\"h\",H$6=\"2juledag\",\"h\",H$6=\"nytårsdag\",\"h\")","v":{"$error":"#N/A"}},{"$f":"_xlfn.IFS(I$7=\"søndag\",\"-\",I$6=\"skærtd\",\"h\",I$6=\"langfd\",\"h\",I$6=\"1påsked\",\"h\",I$6=\"2påsked\",\"h\",I$6=\"kr.himmelfart\",\"h\",I$6=\"1pinse\",\"h\",I$6=\"2pinse\",\"h\",I$6=\"1juledag\",\"h\",I$6=\"2juledag\",\"h\",I$6=\"nytårsdag\",\"h\")","v":"-"},{"$f":"_xlfn.IFS(J$7=\"søndag\",\"-\",J$6=\"skærtd\",\"h\",J$6=\"langfd\",\"h\",J$6=\"1påsked\",\"h\",J$6=\"2påsked\",\"h\",J$6=\"kr.himmelfart\",\"h\",J$6=\"1pinse\",\"h\",J$6=\"2pinse\",\"h\",J$6=\"1juledag\",\"h\",J$6=\"2juledag\",\"h\",J$6=\"nytårsdag\",\"h\")","v":{"$error":"#N/A"}},{"$f":"_xlfn.IFS(K$7=\"søndag\",\"-\",K$6=\"skærtd\",\"h\",K$6=\"langfd\",\"h\",K$6=\"1påsked\",\"h\",K$6=\"2påsked\",\"h\",K$6=\"kr.himmelfart\",\"h\",K$6=\"1pinse\",\"h\",K$6=\"2pinse\",\"h\",K$6=\"1juledag\",\"h\",K$6=\"2juledag\",\"h\",K$6=\"nytårsdag\",\"h\")","v":{"$error":"#N/A"}},{"$f":"_xlfn.IFS(L$7=\"søndag\",\"-\",L$6=\"skærtd\",\"h\",L$6=\"langfd\",\"h\",L$6=\"1påsked\",\"h\",L$6=\"2påsked\",\"h\",L$6=\"kr.himmelfart\",\"h\",L$6=\"1pinse\",\"h\",L$6=\"2pinse\",\"h\",L$6=\"1juledag\",\"h\",L$6=\"2juledag\",\"h\",L$6=\"nytårsdag\",\"h\")","v":{"$error":"#N/A"}},{"$f":"_xlfn.IFS(M$7=\"søndag\",\"-\",M$6=\"skærtd\",\"h\",M$6=\"langfd\",\"h\",M$6=\"1påsked\",\"h\",M$6=\"2påsked\",\"h\",M$6=\"kr.himmelfart\",\"h\",M$6=\"1pinse\",\"h\",M$6=\"2pinse\",\"h\",M$6=\"1juledag\",\"h\",M$6=\"2juledag\",\"h\",M$6=\"nytårsdag\",\"h\")","v":{"$error":"#N/A"}},{"$f":"_xlfn.IFS(N$7=\"søndag\",\"-\",N$6=\"skærtd\",\"h\",N$6=\"langfd\",\"h\",N$6=\"1påsked\",\"h\",N$6=\"2påsked\",\"h\",N$6=\"kr.himmelfart\",\"h\",N$6=\"1pinse\",\"h\",N$6=\"2pinse\",\"h\",N$6=\"1juledag\",\"h\",N$6=\"2juledag\",\"h\",N$6=\"nytårsdag\",\"h\")","v":{"$error":"#N/A"}},{"$f":"_xlfn.IFS(O$7=\"søndag\",\"-\",O$6=\"skærtd\",\"h\",O$6=\"langfd\",\"h\",O$6=\"1påsked\",\"h\",O$6=\"2påsked\",\"h\",O$6=\"kr.himmelfart\",\"h\",O$6=\"1pinse\",\"h\",O$6=\"2pinse\",\"h\",O$6=\"1juledag\",\"h\",O$6=\"2juledag\",\"h\",O$6=\"nytårsdag\",\"h\")","v":{"$error":"#N/A"}},{"$f":"_xlfn.IFS(P$7=\"søndag\",\"-\",P$6=\"skærtd\",\"h\",P$6=\"langfd\",\"h\",P$6=\"1påsked\",\"h\",P$6=\"2påsked\",\"h\",P$6=\"kr.himmelfart\",\"h\",P$6=\"1pinse\",\"h\",P$6=\"2pinse\",\"h\",P$6=\"1juledag\",\"h\",P$6=\"2juledag\",\"h\",P$6=\"nytårsdag\",\"h\")","v":"-"},{"$f":"_xlfn.IFS(Q$7=\"søndag\",\"-\",Q$6=\"skærtd\",\"h\",Q$6=\"langfd\",\"h\",Q$6=\"1påsked\",\"h\",Q$6=\"2påsked\",\"h\",Q$6=\"kr.himmelfart\",\"h\",Q$6=\"1pinse\",\"h\",Q$6=\"2pinse\",\"h\",Q$6=\"1juledag\",\"h\",Q$6=\"2juledag\",\"h\",Q$6=\"nytårsdag\",\"h\")","v":{"$error":"#N/A"}},{"$f":"_xlfn.IFS(R$7=\"søndag\",\"-\",R$6=\"skærtd\",\"h\",R$6=\"langfd\",\"h\",R$6=\"1påsked\",\"h\",R$6=\"2påsked\",\"h\",R$6=\"kr.himmelfart\",\"h\",R$6=\"1pinse\",\"h\",R$6=\"2pinse\",\"h\",R$6=\"1juledag\",\"h\",R$6=\"2juledag\",\"h\",R$6=\"nytårsdag\",\"h\")","v":{"$error":"#N/A"}},{"$f":"_xlfn.IFS(S$7=\"søndag\",\"-\",S$6=\"skærtd\",\"h\",S$6=\"langfd\",\"h\",S$6=\"1påsked\",\"h\",S$6=\"2påsked\",\"h\",S$6=\"kr.himmelfart\",\"h\",S$6=\"1pinse\",\"h\",S$6=\"2pinse\",\"h\",S$6=\"1juledag\",\"h\",S$6=\"2juledag\",\"h\",S$6=\"nytårsdag\",\"h\")","v":{"$error":"#N/A"}},{"$f":"_xlfn.IFS(T$7=\"søndag\",\"-\",T$6=\"skærtd\",\"h\",T$6=\"langfd\",\"h\",T$6=\"1påsked\",\"h\",T$6=\"2påsked\",\"h\",T$6=\"kr.himmelfart\",\"h\",T$6=\"1pinse\",\"h\",T$6=\"2pinse\",\"h\",T$6=\"1juledag\",\"h\",T$6=\"2juledag\",\"h\",T$6=\"nytårsdag\",\"h\")","v":"h"},{"$f":"_xlfn.IFS(U$7=\"søndag\",\"-\",U$6=\"skærtd\",\"h\",U$6=\"langfd\",\"h\",U$6=\"1påsked\",\"h\",U$6=\"2påsked\",\"h\",U$6=\"kr.himmelfart\",\"h\",U$6=\"1pinse\",\"h\",U$6=\"2pinse\",\"h\",U$6=\"1juledag\",\"h\",U$6=\"2juledag\",\"h\",U$6=\"nytårsdag\",\"h\")","v":"h"},{"$f":"_xlfn.IFS(V$7=\"søndag\",\"-\",V$6=\"skærtd\",\"h\",V$6=\"langfd\",\"h\",V$6=\"1påsked\",\"h\",V$6=\"2påsked\",\"h\",V$6=\"kr.himmelfart\",\"h\",V$6=\"1pinse\",\"h\",V$6=\"2pinse\",\"h\",V$6=\"1juledag\",\"h\",V$6=\"2juledag\",\"h\",V$6=\"nytårsdag\",\"h\")","v":{"$error":"#N/A"}},{"$f":"_xlfn.IFS(W$7=\"søndag\",\"-\",W$6=\"skærtd\",\"h\",W$6=\"langfd\",\"h\",W$6=\"1påsked\",\"h\",W$6=\"2påsked\",\"h\",W$6=\"kr.himmelfart\",\"h\",W$6=\"1pinse\",\"h\",W$6=\"2pinse\",\"h\",W$6=\"1juledag\",\"h\",W$6=\"2juledag\",\"h\",W$6=\"nytårsdag\",\"h\")","v":"-"},{"$f":"_xlfn.IFS(X$7=\"søndag\",\"-\",X$6=\"skærtd\",\"h\",X$6=\"langfd\",\"h\",X$6=\"1påsked\",\"h\",X$6=\"2påsked\",\"h\",X$6=\"kr.himmelfart\",\"h\",X$6=\"1pinse\",\"h\",X$6=\"2pinse\",\"h\",X$6=\"1juledag\",\"h\",X$6=\"2juledag\",\"h\",X$6=\"nytårsdag\",\"h\")","v":"h"},{"$f":"_xlfn.IFS(Y$7=\"søndag\",\"-\",Y$6=\"skærtd\",\"h\",Y$6=\"langfd\",\"h\",Y$6=\"1påsked\",\"h\",Y$6=\"2påsked\",\"h\",Y$6=\"kr.himmelfart\",\"h\",Y$6=\"1pinse\",\"h\",Y$6=\"2pinse\",\"h\",Y$6=\"1juledag\",\"h\",Y$6=\"2juledag\",\"h\",Y$6=\"nytårsdag\",\"h\")","v":{"$error":"#N/A"}},{"$f":"_xlfn.IFS(Z$7=\"søndag\",\"-\",Z$6=\"skærtd\",\"h\",Z$6=\"langfd\",\"h\",Z$6=\"1påsked\",\"h\",Z$6=\"2påsked\",\"h\",Z$6=\"kr.himmelfart\",\"h\",Z$6=\"1pinse\",\"h\",Z$6=\"2pinse\",\"h\",Z$6=\"1juledag\",\"h\",Z$6=\"2juledag\",\"h\",Z$6=\"nytårsdag\",\"h\")","v":{"$error":"#N/A"}},{"$f":"_xlfn.IFS(AA$7=\"søndag\",\"-\",AA$6=\"skærtd\",\"h\",AA$6=\"langfd\",\"h\",AA$6=\"1påsked\",\"h\",AA$6=\"2påsked\",\"h\",AA$6=\"kr.himmelfart\",\"h\",AA$6=\"1pinse\",\"h\",AA$6=\"2pinse\",\"h\",AA$6=\"1juledag\",\"h\",AA$6=\"2juledag\",\"h\",AA$6=\"nytårsdag\",\"h\")","v":{"$error":"#N/A"}},{"$f":"_xlfn.IFS(AB$7=\"søndag\",\"-\",AB$6=\"skærtd\",\"h\",AB$6=\"langfd\",\"h\",AB$6=\"1påsked\",\"h\",AB$6=\"2påsked\",\"h\",AB$6=\"kr.himmelfart\",\"h\",AB$6=\"1pinse\",\"h\",AB$6=\"2pinse\",\"h\",AB$6=\"1juledag\",\"h\",AB$6=\"2juledag\",\"h\",AB$6=\"nytårsdag\",\"h\")","v":{"$error":"#N/A"}},{"$f":"_xlfn.IFS(AC$7=\"søndag\",\"-\",AC$6=\"skærtd\",\"h\",AC$6=\"langfd\",\"h\",AC$6=\"1påsked\",\"h\",AC$6=\"2påsked\",\"h\",AC$6=\"kr.himmelfart\",\"h\",AC$6=\"1pinse\",\"h\",AC$6=\"2pinse\",\"h\",AC$6=\"1juledag\",\"h\",AC$6=\"2juledag\",\"h\",AC$6=\"nytårsdag\",\"h\")","v":{"$error":"#N/A"}},{"$f":"_xlfn.IFS(AD$7=\"søndag\",\"-\",AD$6=\"skærtd\",\"h\",AD$6=\"langfd\",\"h\",AD$6=\"1påsked\",\"h\",AD$6=\"2påsked\",\"h\",AD$6=\"kr.himmelfart\",\"h\",AD$6=\"1pinse\",\"h\",AD$6=\"2pinse\",\"h\",AD$6=\"1juledag\",\"h\",AD$6=\"2juledag\",\"h\",AD$6=\"nytårsdag\",\"h\")","v":"-"},{"$f":"_xlfn.IFS(AE$7=\"søndag\",\"-\",AE$6=\"skærtd\",\"h\",AE$6=\"langfd\",\"h\",AE$6=\"1påsked\",\"h\",AE$6=\"2påsked\",\"h\",AE$6=\"kr.himmelfart\",\"h\",AE$6=\"1pinse\",\"h\",AE$6=\"2pinse\",\"h\",AE$6=\"1juledag\",\"h\",AE$6=\"2juledag\",\"h\",AE$6=\"nytårsdag\",\"h\")","v":{"$error":"#N/A"}},{"$f":"_xlfn.IFS(AF$7=\"søndag\",\"-\",AF$6=\"skærtd\",\"h\",AF$6=\"langfd\",\"h\",AF$6=\"1påsked\",\"h\",AF$6=\"2påsked\",\"h\",AF$6=\"kr.himmelfart\",\"h\",AF$6=\"1pinse\",\"h\",AF$6=\"2pinse\",\"h\",AF$6=\"1juledag\",\"h\",AF$6=\"2juledag\",\"h\",AF$6=\"nytårsdag\",\"h\")","v":{"$error":"#N/A"}},{"$f":"_xlfn.IFS(AG$7=\"søndag\",\"-\",AG$6=\"skærtd\",\"h\",AG$6=\"langfd\",\"h\",AG$6=\"1påsked\",\"h\",AG$6=\"2påsked\",\"h\",AG$6=\"kr.himmelfart\",\"h\",AG$6=\"1pinse\",\"h\",AG$6=\"2pinse\",\"h\",AG$6=\"1juledag\",\"h\",AG$6=\"2juledag\",\"h\",AG$6=\"nytårsdag\",\"h\")","v":{"$error":"#N/A"}},{"$f":"_xlfn.IFS(AH$7=\"søndag\",\"-\",AH$6=\"skærtd\",\"h\",AH$6=\"langfd\",\"h\",AH$6=\"1påsked\",\"h\",AH$6=\"2påsked\",\"h\",AH$6=\"kr.himmelfart\",\"h\",AH$6=\"1pinse\",\"h\",AH$6=\"2pinse\",\"h\",AH$6=\"1juledag\",\"h\",AH$6=\"2juledag\",\"h\",AH$6=\"nytårsdag\",\"h\")","v":{"$error":"#N/A"}}]
[null,"Sygedage",null,{"$f":"IF(D388=\"s\",D387,\"-\")","v":"-"},{"$f":"IF(E388=\"s\",E387,\"-\")","v":"-"},"-","-","-","-","-","-","-","-","-","-","-","-","-","-","-","-","-","-","-","-","-","-","-","-","-","-","-","-","-"]
[null,null,{"$f":"$C$15","v":14},"Timer uge",null,null,{"$f":"SUMIF($D$5:$AH$5,C393,D387:AH387)","v":0},{"$f":"$H$15","v":15},{"$f":"D393","v":"Timer uge"},null,null,null,null,{"$f":"SUMIF($D$5:$AH$5,H393,D387:AH387)","v":0},{"$f":"$O$15","v":16},{"$f":"D393","v":"Timer uge"},null,null,null,null,{"$f":"_xlfn.IFS($O393=$BV386,$BV387,$O393=$BW386,Lønskema!$BW387,$O393=$BX386,$BX387,$O393=$BY386,$BY387,$O393=$BZ386,$BZ387,$O393=$CA386,$CA387,$O393=$CB386,$CB387,$O393=$CC386,$CC387,$O393=$CD386,$CD387,$O393=$CE386,$CE387,$O393=$CF386,$CF387,$O393=$CG386,$CF387,$O393=$CG386,$CG387,$O393=$CH386,$CH387,$O393=$CI386,$CI387,$O393=$CJ386,$CJ387,$O393=$CK386,$CK387,$O393=$CL386,$CL387,$O393=$CM386,$CM387,$O393=$CN386,$CN387,$O393=$CO386,$CO387,$O393=$CP386,$CP387,$O393=$CQ386,$CQ387,$O393=$CR386,$CR387,$O393=$CS386,$CS387,$O393=$CT386,$CT387,$O393=$CU386,$CU387,$O393=$CV386,$CV387,$O393=$CW386,$CW387,$O393=$CX386,$CX387,$O393=$CY386,$CY387,$O393=$CZ386,$CZ387,$O393=$DA386,$DA387,$O393=$DB386,$DB387,$O393=$DC386,$DC387,$O393=$DD386,$DD387,$O393=$DE386,$DE387,$O393=$DF386,$DF387,$O393=$DG386,$DG387,$O393=$DH386,$DH387,$O393=$DI386,$DI387,$O393=$DJ386,$DJ387,$O393=$DK386,$DK387,$O393=$DL386,$DL387,$O393=$DM386,$DM387,$O393=$DN386,$DN387,$O393=$DO386,$DO387,$O393=$DP386,$DP387,$O393=$DQ386,$DQ387,$O393=$DR386,$DR387,$O393=$DS386,$DS387,$O393=$DT386,$DT387,$O393=$DU386,$DU387)","v":0},{"$f":"$V$15","v":17},{"$f":"D393","v":"Timer uge"},null,null,null,null,{"$f":"SUMIF($D$5:$AH$5,V393,D387:AH387)","v":0},{"$f":"$AC$15","v":18},{"$f":"D393","v":"Timer uge"},null,null,null,{"$f":"SUMIF($D$5:$AH$5,AC393,D387:AH387)","v":0},{"$f":"$AI$15","v":19},{"$f":"D393","v":"Timer uge"},null,null,null,{"$f":"SUMIF($D$5:$AH$5,AI393,D387:AH387)","v":0}]
[null,null,null,"Overarbejde 50% 1-3 timer",null,null,{"$f":"IF($G393>37,$G393-37-$G395,0)","v":0},null,{"$f":"D394","v":"Overarbejde 50% 1-3 timer"},null,null,null,null,{"$f":"IF($N393>37,$N393-37-$N395,0)","v":0},null,{"$f":"D394","v":"Overarbejde 50% 1-3 timer"},null,null,null,null,{"$f":"IF($U393>37,$U393-37-$U395,0)","v":0},null,{"$f":"D394","v":"Overarbejde 50% 1-3 timer"},null,null,null,null,{"$f":"IF($AB393>37,$AB393-37-$AB395,0)","v":0},null,{"$f":"D394","v":"Overarbejde 50% 1-3 timer"},null,null,null,{"$f":"IF($AH393>37,$AH393-37-$AH395,0)","v":0},null,{"$f":"D394","v":"Overarbejde 50% 1-3 timer"},null,null,null,{"$f":"IF($AH393>37,$AH393-37-$AH395,0)","v":0}]
[null,null,null,"Overarbejde 100% over 3 timer",null,null,{"$f":"IF($G393>40,$G393-40,0)","v":0},null,"Overarbejde 100% over 3 timer",null,null,null,null,{"$f":"IF($N393>40,$N393-40,0)","v":0},null,"Overarbejde 100% over 3 timer",null,null,null,null,{"$f":"IF($U393>40,$U393-40,0)","v":0},null,"Overarbejde 100% over 3 timer",null,null,null,null,{"$f":"IF($AB393>40,$AB393-40,0)","v":0},null,"Overarbejde 100% over 3 timer",null,null,null,{"$f":"IF($AH393>40,$AH393-40,0)","v":0},null,{"$f":"D395","v":"Overarbejde 100% over 3 timer"},null,null,null,{"$f":"IF($AH393>40,$AH393-40,0)","v":0},null,null,null,null,null,null,null,null,null,null,null,null,null,null,null,null,null,null,null,null,null,null,null,null,null,null,null,null,null,null,null,null,null,1,2,3,4,5,6,7,8,9,10,11,12,13,14,15,16,17,18,19,20,21,22,23,24,25,26,27,28,29,30,31,32,33,34,35,36,37,38,39,40,41,42,43,44,45,46,47,48,49,50,51,52]
[{"$f":"Medarbejder!A46","v":0},{"$f":"Medarbejder!B46","v":0},{"$f":"Medarbejder!C46","v":"-"},null,null,null,null,null,null,null,null,null,null,null,null,null,null,null,null,null,null,null,null,null,null,null,null,null,null,null,null,null,null,null,null,null,null,null,null,null,null,{"$f":"AO396*Overenskomst!$C$22","v":0},{"$f":"SUM($D396:$AH396)-$BA396-$BF396-$BD396","v":0},{"$f":"IF(Medarbejder!$J46=\"ja\",$AQ396,\"-\")","v":"-"},{"$f":"SUMIF($D$7:$AH$7,\"søndag\",$D396:$AH396)+$AT396","v":0},{"$f":"SUMIFS($D396:$AH396,$D400:$AH400,\"H\")","v":0},{"$f":"G403+N403+U403+AB403+AH403+AN403","v":0},{"$f":"G404+N404+U404+AB404+AH404+AN404","v":0},{"$f":"SUM($D398:$AH398)","v":0},{"$f":"SUM($D399:$AH399)","v":0},{"$f":"COUNTIFS($D397:$AH397,\"F\")","v":0},{"$f":"COUNTIFS($D397:$AH397,\"S\")","v":0},{"$f":"SUMIF($D397:$AH397,\"S\",$D401:$AH401)","v":0},{"$f":"COUNTIFS($D397:$AH397,\"p\")","v":0},{"$f":"COUNTIFS($D397:$AH397,\"BS\")","v":0},{"$f":"SUMIF(D397:AH397,\"bs\",$D396:$AH396)","v":0},{"$f":"COUNTIFS($D397:$AH397,\"FF\")","v":0},{"$f":"SUMIF($D397:$AH397,\"g\",$D396:$AH396)","v":0},{"$f":"Medarbejder!$N43","v":"-"},{"$f":"SUM($BL396:$BU396)","v":4},null,null,null,{"$f":"COUNTIFS($D$6:$AH$6,\"skærtd\")","v":1},{"$f":"COUNTIFS($D$6:$AH$6,\"langfd\")","v":1},{"$f":"COUNTIFS($D$6:$AH$6,\"1påsked\")","v":1},{"$f":"COUNTIFS($D$6:$AH$6,\"2påsked\")","v":1},{"$f":"COUNTIFS($D$6:$AH$6,\"kr.himmelfart\")","v":0},{"$f":"COUNTIFS($D$6:$AH$6,\"1pinse\")","v":0},{"$f":"COUNTIFS($D$6:$AH$6,\"2pinse\")","v":0},{"$f":"COUNTIFS($D$6:$AH$6,\"1juledag\")","v":0},{"$f":"COUNTIFS($D$6:$AH$6,\"2juledag\")","v":0},{"$f":"COUNTIFS($D$6:$AH$6,\"nytårsdag\")","v":0},{"$f":"SUMIFS($D396:$AH396,Lønskema!$D$5:$AH$5,1)","v":0},{"$f":"SUMIFS($D396:$AH396,Lønskema!$D$5:$AH$5,2)","v":0},{"$f":"SUMIFS($D396:$AH396,Lønskema!$D$5:$AH$5,3)","v":0},{"$f":"SUMIFS($D396:$AH396,Lønskema!$D$5:$AH$5,4)","v":0},{"$f":"SUMIFS($D396:$AH396,Lønskema!$D$5:$AH$5,5)","v":0},{"$f":"SUMIFS($D396:$AH396,Lønskema!$D$5:$AH$5,6)","v":0},{"$f":"SUMIFS($D396:$AH396,Lønskema!$D$5:$AH$5,7)","v":0},{"$f":"SUMIFS($D396:$AH396,Lønskema!$D$5:$AH$5,8)","v":0},{"$f":"SUMIFS($D396:$AH396,Lønskema!$D$5:$AH$5,9)","v":0},{"$f":"SUMIFS($D396:$AH396,Lønskema!$D$5:$AH$5,10)","v":0},{"$f":"SUMIFS($D396:$AH396,Lønskema!$D$5:$AH$5,11)","v":0},{"$f":"SUMIFS($D396:$AH396,Lønskema!$D$5:$AH$5,12)","v":0},{"$f":"SUMIFS($D396:$AH396,Lønskema!$D$5:$AH$5,13)","v":0},{"$f":"SUMIFS($D396:$AH396,Lønskema!$D$5:$AH$5,14)","v":0},{"$f":"SUMIFS($D396:$AH396,Lønskema!$D$5:$AH$5,15)","v":0},{"$f":"SUMIFS($D396:$AH396,Lønskema!$D$5:$AH$5,16)","v":0},{"$f":"SUMIFS($D396:$AH396,Lønskema!$D$5:$AH$5,17)","v":0},{"$f":"SUMIFS($D396:$AH396,Lønskema!$D$5:$AH$5,18)","v":0},{"$f":"SUMIFS($D396:$AH396,Lønskema!$D$5:$AH$5,19)","v":0},{"$f":"SUMIFS($D396:$AH396,Lønskema!$D$5:$AH$5,20)","v":0},{"$f":"SUMIFS($D396:$AH396,Lønskema!$D$5:$AH$5,21)","v":0},{"$f":"SUMIFS($D396:$AH396,Lønskema!$D$5:$AH$5,22)","v":0},{"$f":"SUMIFS($D396:$AH396,Lønskema!$D$5:$AH$5,23)","v":0},{"$f":"SUMIFS($D396:$AH396,Lønskema!$D$5:$AH$5,24)","v":0},{"$f":"SUMIFS($D396:$AH396,Lønskema!$D$5:$AH$5,25)","v":0},{"$f":"SUMIFS($D396:$AH396,Lønskema!$D$5:$AH$5,26)","v":0},{"$f":"SUMIFS($D396:$AH396,Lønskema!$D$5:$AH$5,27)","v":0},{"$f":"SUMIFS($D396:$AH396,Lønskema!$D$5:$AH$5,28)","v":0},{"$f":"SUMIFS($D396:$AH396,Lønskema!$D$5:$AH$5,29)","v":0},{"$f":"SUMIFS($D396:$AH396,Lønskema!$D$5:$AH$5,30)","v":0},{"$f":"SUMIFS($D396:$AH396,Lønskema!$D$5:$AH$5,31)","v":0},{"$f":"SUMIFS($D396:$AH396,Lønskema!$D$5:$AH$5,32)","v":0},{"$f":"SUMIFS($D396:$AH396,Lønskema!$D$5:$AH$5,33)","v":0},{"$f":"SUMIFS($D396:$AH396,Lønskema!$D$5:$AH$5,34)","v":0},{"$f":"SUMIFS($D396:$AH396,Lønskema!$D$5:$AH$5,35)","v":0},{"$f":"SUMIFS($D396:$AH396,Lønskema!$D$5:$AH$5,36)","v":0},{"$f":"SUMIFS($D396:$AH396,Lønskema!$D$5:$AH$5,37)","v":0},{"$f":"SUMIFS($D396:$AH396,Lønskema!$D$5:$AH$5,38)","v":0},{"$f":"SUMIFS($D396:$AH396,Lønskema!$D$5:$AH$5,39)","v":0},{"$f":"SUMIFS($D396:$AH396,Lønskema!$D$5:$AH$5,40)","v":0},{"$f":"SUMIFS($D396:$AH396,Lønskema!$D$5:$AH$5,41)","v":0},{"$f":"SUMIFS($D396:$AH396,Lønskema!$D$5:$AH$5,42)","v":0},{"$f":"SUMIFS($D396:$AH396,Lønskema!$D$5:$AH$5,43)","v":0},{"$f":"SUMIFS($D396:$AH396,Lønskema!$D$5:$AH$5,44)","v":0},{"$f":"SUMIFS($D396:$AH396,Lønskema!$D$5:$AH$5,45)","v":0},{"$f":"SUMIFS($D396:$AH396,Lønskema!$D$5:$AH$5,46)","v":0},{"$f":"SUMIFS($D396:$AH396,Lønskema!$D$5:$AH$5,47)","v":0},{"$f":"SUMIFS($D396:$AH396,Lønskema!$D$5:$AH$5,48)","v":0},{"$f":"SUMIFS($D396:$AH396,Lønskema!$D$5:$AH$5,49)","v":0},{"$f":"SUMIFS($D396:$AH396,Lønskema!$D$5:$AH$5,50)","v":0},{"$f":"SUMIFS($D396:$AH396,Lønskema!$D$5:$AH$5,51)","v":0},{"$f":"SUMIFS($D396:$AH396,Lønskema!$D$5:$AH$5,52)","v":0}]
["Ferie - syg  mm. Registreres i denne række"]
[null,"Aften"]
[null,"Nat"]
[null,"Helligdag",null,{"$f":"_xlfn.IFS(D$7=\"søndag\",\"-\",D$6=\"skærtd\",\"h\",D$6=\"langfd\",\"h\",D$6=\"1påsked\",\"h\",D$6=\"2påsked\",\"h\",D$6=\"kr.himmelfart\",\"h\",D$6=\"1pinse\",\"h\",D$6=\"2pinse\",\"h\",D$6=\"1juledag\",\"h\",D$6=\"2juledag\",\"h\",D$6=\"nytårsdag\",\"h\")","v":{"$error":"#N/A"}},{"$f":"_xlfn.IFS(E$7=\"søndag\",\"-\",E$6=\"skærtd\",\"h\",E$6=\"langfd\",\"h\",E$6=\"1påsked\",\"h\",E$6=\"2påsked\",\"h\",E$6=\"kr.himmelfart\",\"h\",E$6=\"1pinse\",\"h\",E$6=\"2pinse\",\"h\",E$6=\"1juledag\",\"h\",E$6=\"2juledag\",\"h\",E$6=\"nytårsdag\",\"h\")","v":{"$error":"#N/A"}},{"$f":"_xlfn.IFS(F$7=\"søndag\",\"-\",F$6=\"skærtd\",\"h\",F$6=\"langfd\",\"h\",F$6=\"1påsked\",\"h\",F$6=\"2påsked\",\"h\",F$6=\"kr.himmelfart\",\"h\",F$6=\"1pinse\",\"h\",F$6=\"2pinse\",\"h\",F$6=\"1juledag\",\"h\",F$6=\"2juledag\",\"h\",F$6=\"nytårsdag\",\"h\")","v":{"$error":"#N/A"}},{"$f":"_xlfn.IFS(G$7=\"søndag\",\"-\",G$6=\"skærtd\",\"h\",G$6=\"langfd\",\"h\",G$6=\"1påsked\",\"h\",G$6=\"2påsked\",\"h\",G$6=\"kr.himmelfart\",\"h\",G$6=\"1pinse\",\"h\",G$6=\"2pinse\",\"h\",G$6=\"1juledag\",\"h\",G$6=\"2juledag\",\"h\",G$6=\"nytårsdag\",\"h\")","v":{"$error":"#N/A"}},{"$f":"_xlfn.IFS(H$7=\"søndag\",\"-\",H$6=\"skærtd\",\"h\",H$6=\"langfd\",\"h\",H$6=\"1påsked\",\"h\",H$6=\"2påsked\",\"h\",H$6=\"kr.himmelfart\",\"h\",H$6=\"1pinse\",\"h\",H$6=\"2pinse\",\"h\",H$6=\"1juledag\",\"h\",H$6=\"2juledag\",\"h\",H$6=\"nytårsdag\",\"h\")","v":{"$error":"#N/A"}},{"$f":"_xlfn.IFS(I$7=\"søndag\",\"-\",I$6=\"skærtd\",\"h\",I$6=\"langfd\",\"h\",I$6=\"1påsked\",\"h\",I$6=\"2påsked\",\"h\",I$6=\"kr.himmelfart\",\"h\",I$6=\"1pinse\",\"h\",I$6=\"2pinse\",\"h\",I$6=\"1juledag\",\"h\",I$6=\"2juledag\",\"h\",I$6=\"nytårsdag\",\"h\")","v":"-"},{"$f":"_xlfn.IFS(J$7=\"søndag\",\"-\",J$6=\"skærtd\",\"h\",J$6=\"langfd\",\"h\",J$6=\"1påsked\",\"h\",J$6=\"2påsked\",\"h\",J$6=\"kr.himmelfart\",\"h\",J$6=\"1pinse\",\"h\",J$6=\"2pinse\",\"h\",J$6=\"1juledag\",\"h\",J$6=\"2juledag\",\"h\",J$6=\"nytårsdag\",\"h\")","v":{"$error":"#N/A"}},{"$f":"_xlfn.IFS(K$7=\"søndag\",\"-\",K$6=\"skærtd\",\"h\",K$6=\"langfd\",\"h\",K$6=\"1påsked\",\"h\",K$6=\"2påsked\",\"h\",K$6=\"kr.himmelfart\",\"h\",K$6=\"1pinse\",\"h\",K$6=\"2pinse\",\"h\",K$6=\"1juledag\",\"h\",K$6=\"2juledag\",\"h\",K$6=\"nytårsdag\",\"h\")","v":{"$error":"#N/A"}},{"$f":"_xlfn.IFS(L$7=\"søndag\",\"-\",L$6=\"skærtd\",\"h\",L$6=\"langfd\",\"h\",L$6=\"1påsked\",\"h\",L$6=\"2påsked\",\"h\",L$6=\"kr.himmelfart\",\"h\",L$6=\"1pinse\",\"h\",L$6=\"2pinse\",\"h\",L$6=\"1juledag\",\"h\",L$6=\"2juledag\",\"h\",L$6=\"nytårsdag\",\"h\")","v":{"$error":"#N/A"}},{"$f":"_xlfn.IFS(M$7=\"søndag\",\"-\",M$6=\"skærtd\",\"h\",M$6=\"langfd\",\"h\",M$6=\"1påsked\",\"h\",M$6=\"2påsked\",\"h\",M$6=\"kr.himmelfart\",\"h\",M$6=\"1pinse\",\"h\",M$6=\"2pinse\",\"h\",M$6=\"1juledag\",\"h\",M$6=\"2juledag\",\"h\",M$6=\"nytårsdag\",\"h\")","v":{"$error":"#N/A"}},{"$f":"_xlfn.IFS(N$7=\"søndag\",\"-\",N$6=\"skærtd\",\"h\",N$6=\"langfd\",\"h\",N$6=\"1påsked\",\"h\",N$6=\"2påsked\",\"h\",N$6=\"kr.himmelfart\",\"h\",N$6=\"1pinse\",\"h\",N$6=\"2pinse\",\"h\",N$6=\"1juledag\",\"h\",N$6=\"2juledag\",\"h\",N$6=\"nytårsdag\",\"h\")","v":{"$error":"#N/A"}},{"$f":"_xlfn.IFS(O$7=\"søndag\",\"-\",O$6=\"skærtd\",\"h\",O$6=\"langfd\",\"h\",O$6=\"1påsked\",\"h\",O$6=\"2påsked\",\"h\",O$6=\"kr.himmelfart\",\"h\",O$6=\"1pinse\",\"h\",O$6=\"2pinse\",\"h\",O$6=\"1juledag\",\"h\",O$6=\"2juledag\",\"h\",O$6=\"nytårsdag\",\"h\")","v":{"$error":"#N/A"}},{"$f":"_xlfn.IFS(P$7=\"søndag\",\"-\",P$6=\"skærtd\",\"h\",P$6=\"langfd\",\"h\",P$6=\"1påsked\",\"h\",P$6=\"2påsked\",\"h\",P$6=\"kr.himmelfart\",\"h\",P$6=\"1pinse\",\"h\",P$6=\"2pinse\",\"h\",P$6=\"1juledag\",\"h\",P$6=\"2juledag\",\"h\",P$6=\"nytårsdag\",\"h\")","v":"-"},{"$f":"_xlfn.IFS(Q$7=\"søndag\",\"-\",Q$6=\"skærtd\",\"h\",Q$6=\"langfd\",\"h\",Q$6=\"1påsked\",\"h\",Q$6=\"2påsked\",\"h\",Q$6=\"kr.himmelfart\",\"h\",Q$6=\"1pinse\",\"h\",Q$6=\"2pinse\",\"h\",Q$6=\"1juledag\",\"h\",Q$6=\"2juledag\",\"h\",Q$6=\"nytårsdag\",\"h\")","v":{"$error":"#N/A"}},{"$f":"_xlfn.IFS(R$7=\"søndag\",\"-\",R$6=\"skærtd\",\"h\",R$6=\"langfd\",\"h\",R$6=\"1påsked\",\"h\",R$6=\"2påsked\",\"h\",R$6=\"kr.himmelfart\",\"h\",R$6=\"1pinse\",\"h\",R$6=\"2pinse\",\"h\",R$6=\"1juledag\",\"h\",R$6=\"2juledag\",\"h\",R$6=\"nytårsdag\",\"h\")","v":{"$error":"#N/A"}},{"$f":"_xlfn.IFS(S$7=\"søndag\",\"-\",S$6=\"skærtd\",\"h\",S$6=\"langfd\",\"h\",S$6=\"1påsked\",\"h\",S$6=\"2påsked\",\"h\",S$6=\"kr.himmelfart\",\"h\",S$6=\"1pinse\",\"h\",S$6=\"2pinse\",\"h\",S$6=\"1juledag\",\"h\",S$6=\"2juledag\",\"h\",S$6=\"nytårsdag\",\"h\")","v":{"$error":"#N/A"}},{"$f":"_xlfn.IFS(T$7=\"søndag\",\"-\",T$6=\"skærtd\",\"h\",T$6=\"langfd\",\"h\",T$6=\"1påsked\",\"h\",T$6=\"2påsked\",\"h\",T$6=\"kr.himmelfart\",\"h\",T$6=\"1pinse\",\"h\",T$6=\"2pinse\",\"h\",T$6=\"1juledag\",\"h\",T$6=\"2juledag\",\"h\",T$6=\"nytårsdag\",\"h\")","v":"h"},{"$f":"_xlfn.IFS(U$7=\"søndag\",\"-\",U$6=\"skærtd\",\"h\",U$6=\"langfd\",\"h\",U$6=\"1påsked\",\"h\",U$6=\"2påsked\",\"h\",U$6=\"kr.himmelfart\",\"h\",U$6=\"1pinse\",\"h\",U$6=\"2pinse\",\"h\",U$6=\"1juledag\",\"h\",U$6=\"2juledag\",\"h\",U$6=\"nytårsdag\",\"h\")","v":"h"},{"$f":"_xlfn.IFS(V$7=\"søndag\",\"-\",V$6=\"skærtd\",\"h\",V$6=\"langfd\",\"h\",V$6=\"1påsked\",\"h\",V$6=\"2påsked\",\"h\",V$6=\"kr.himmelfart\",\"h\",V$6=\"1pinse\",\"h\",V$6=\"2pinse\",\"h\",V$6=\"1juledag\",\"h\",V$6=\"2juledag\",\"h\",V$6=\"nytårsdag\",\"h\")","v":{"$error":"#N/A"}},{"$f":"_xlfn.IFS(W$7=\"søndag\",\"-\",W$6=\"skærtd\",\"h\",W$6=\"langfd\",\"h\",W$6=\"1påsked\",\"h\",W$6=\"2påsked\",\"h\",W$6=\"kr.himmelfart\",\"h\",W$6=\"1pinse\",\"h\",W$6=\"2pinse\",\"h\",W$6=\"1juledag\",\"h\",W$6=\"2juledag\",\"h\",W$6=\"nytårsdag\",\"h\")","v":"-"},{"$f":"_xlfn.IFS(X$7=\"søndag\",\"-\",X$6=\"skærtd\",\"h\",X$6=\"langfd\",\"h\",X$6=\"1påsked\",\"h\",X$6=\"2påsked\",\"h\",X$6=\"kr.himmelfart\",\"h\",X$6=\"1pinse\",\"h\",X$6=\"2pinse\",\"h\",X$6=\"1juledag\",\"h\",X$6=\"2juledag\",\"h\",X$6=\"nytårsdag\",\"h\")","v":"h"},{"$f":"_xlfn.IFS(Y$7=\"søndag\",\"-\",Y$6=\"skærtd\",\"h\",Y$6=\"langfd\",\"h\",Y$6=\"1påsked\",\"h\",Y$6=\"2påsked\",\"h\",Y$6=\"kr.himmelfart\",\"h\",Y$6=\"1pinse\",\"h\",Y$6=\"2pinse\",\"h\",Y$6=\"1juledag\",\"h\",Y$6=\"2juledag\",\"h\",Y$6=\"nytårsdag\",\"h\")","v":{"$error":"#N/A"}},{"$f":"_xlfn.IFS(Z$7=\"søndag\",\"-\",Z$6=\"skærtd\",\"h\",Z$6=\"langfd\",\"h\",Z$6=\"1påsked\",\"h\",Z$6=\"2påsked\",\"h\",Z$6=\"kr.himmelfart\",\"h\",Z$6=\"1pinse\",\"h\",Z$6=\"2pinse\",\"h\",Z$6=\"1juledag\",\"h\",Z$6=\"2juledag\",\"h\",Z$6=\"nytårsdag\",\"h\")","v":{"$error":"#N/A"}},{"$f":"_xlfn.IFS(AA$7=\"søndag\",\"-\",AA$6=\"skærtd\",\"h\",AA$6=\"langfd\",\"h\",AA$6=\"1påsked\",\"h\",AA$6=\"2påsked\",\"h\",AA$6=\"kr.himmelfart\",\"h\",AA$6=\"1pinse\",\"h\",AA$6=\"2pinse\",\"h\",AA$6=\"1juledag\",\"h\",AA$6=\"2juledag\",\"h\",AA$6=\"nytårsdag\",\"h\")","v":{"$error":"#N/A"}},{"$f":"_xlfn.IFS(AB$7=\"søndag\",\"-\",AB$6=\"skærtd\",\"h\",AB$6=\"langfd\",\"h\",AB$6=\"1påsked\",\"h\",AB$6=\"2påsked\",\"h\",AB$6=\"kr.himmelfart\",\"h\",AB$6=\"1pinse\",\"h\",AB$6=\"2pinse\",\"h\",AB$6=\"1juledag\",\"h\",AB$6=\"2juledag\",\"h\",AB$6=\"nytårsdag\",\"h\")","v":{"$error":"#N/A"}},{"$f":"_xlfn.IFS(AC$7=\"søndag\",\"-\",AC$6=\"skærtd\",\"h\",AC$6=\"langfd\",\"h\",AC$6=\"1påsked\",\"h\",AC$6=\"2påsked\",\"h\",AC$6=\"kr.himmelfart\",\"h\",AC$6=\"1pinse\",\"h\",AC$6=\"2pinse\",\"h\",AC$6=\"1juledag\",\"h\",AC$6=\"2juledag\",\"h\",AC$6=\"nytårsdag\",\"h\")","v":{"$error":"#N/A"}},{"$f":"_xlfn.IFS(AD$7=\"søndag\",\"-\",AD$6=\"skærtd\",\"h\",AD$6=\"langfd\",\"h\",AD$6=\"1påsked\",\"h\",AD$6=\"2påsked\",\"h\",AD$6=\"kr.himmelfart\",\"h\",AD$6=\"1pinse\",\"h\",AD$6=\"2pinse\",\"h\",AD$6=\"1juledag\",\"h\",AD$6=\"2juledag\",\"h\",AD$6=\"nytårsdag\",\"h\")","v":"-"},{"$f":"_xlfn.IFS(AE$7=\"søndag\",\"-\",AE$6=\"skærtd\",\"h\",AE$6=\"langfd\",\"h\",AE$6=\"1påsked\",\"h\",AE$6=\"2påsked\",\"h\",AE$6=\"kr.himmelfart\",\"h\",AE$6=\"1pinse\",\"h\",AE$6=\"2pinse\",\"h\",AE$6=\"1juledag\",\"h\",AE$6=\"2juledag\",\"h\",AE$6=\"nytårsdag\",\"h\")","v":{"$error":"#N/A"}},{"$f":"_xlfn.IFS(AF$7=\"søndag\",\"-\",AF$6=\"skærtd\",\"h\",AF$6=\"langfd\",\"h\",AF$6=\"1påsked\",\"h\",AF$6=\"2påsked\",\"h\",AF$6=\"kr.himmelfart\",\"h\",AF$6=\"1pinse\",\"h\",AF$6=\"2pinse\",\"h\",AF$6=\"1juledag\",\"h\",AF$6=\"2juledag\",\"h\",AF$6=\"nytårsdag\",\"h\")","v":{"$error":"#N/A"}},{"$f":"_xlfn.IFS(AG$7=\"søndag\",\"-\",AG$6=\"skærtd\",\"h\",AG$6=\"langfd\",\"h\",AG$6=\"1påsked\",\"h\",AG$6=\"2påsked\",\"h\",AG$6=\"kr.himmelfart\",\"h\",AG$6=\"1pinse\",\"h\",AG$6=\"2pinse\",\"h\",AG$6=\"1juledag\",\"h\",AG$6=\"2juledag\",\"h\",AG$6=\"nytårsdag\",\"h\")","v":{"$error":"#N/A"}},{"$f":"_xlfn.IFS(AH$7=\"søndag\",\"-\",AH$6=\"skærtd\",\"h\",AH$6=\"langfd\",\"h\",AH$6=\"1påsked\",\"h\",AH$6=\"2påsked\",\"h\",AH$6=\"kr.himmelfart\",\"h\",AH$6=\"1pinse\",\"h\",AH$6=\"2pinse\",\"h\",AH$6=\"1juledag\",\"h\",AH$6=\"2juledag\",\"h\",AH$6=\"nytårsdag\",\"h\")","v":{"$error":"#N/A"}}]
[null,"Sygedage",null,{"$f":"IF(D397=\"s\",D396,\"-\")","v":"-"},{"$f":"IF(E397=\"s\",E396,\"-\")","v":"-"},"-","-","-","-","-","-","-","-","-","-","-","-","-","-","-","-","-","-","-","-","-","-","-","-","-","-","-","-","-"]
[null,null,{"$f":"$C$15","v":14},"Timer uge",null,null,{"$f":"SUMIF($D$5:$AH$5,C402,D396:AH396)","v":0},{"$f":"$H$15","v":15},{"$f":"D402","v":"Timer uge"},null,null,null,null,{"$f":"SUMIF($D$5:$AH$5,H402,D396:AH396)","v":0},{"$f":"$O$15","v":16},{"$f":"D402","v":"Timer uge"},null,null,null,null,{"$f":"_xlfn.IFS($O402=$BV395,$BV396,$O402=$BW395,Lønskema!$BW396,$O402=$BX395,$BX396,$O402=$BY395,$BY396,$O402=$BZ395,$BZ396,$O402=$CA395,$CA396,$O402=$CB395,$CB396,$O402=$CC395,$CC396,$O402=$CD395,$CD396,$O402=$CE395,$CE396,$O402=$CF395,$CF396,$O402=$CG395,$CF396,$O402=$CG395,$CG396,$O402=$CH395,$CH396,$O402=$CI395,$CI396,$O402=$CJ395,$CJ396,$O402=$CK395,$CK396,$O402=$CL395,$CL396,$O402=$CM395,$CM396,$O402=$CN395,$CN396,$O402=$CO395,$CO396,$O402=$CP395,$CP396,$O402=$CQ395,$CQ396,$O402=$CR395,$CR396,$O402=$CS395,$CS396,$O402=$CT395,$CT396,$O402=$CU395,$CU396,$O402=$CV395,$CV396,$O402=$CW395,$CW396,$O402=$CX395,$CX396,$O402=$CY395,$CY396,$O402=$CZ395,$CZ396,$O402=$DA395,$DA396,$O402=$DB395,$DB396,$O402=$DC395,$DC396,$O402=$DD395,$DD396,$O402=$DE395,$DE396,$O402=$DF395,$DF396,$O402=$DG395,$DG396,$O402=$DH395,$DH396,$O402=$DI395,$DI396,$O402=$DJ395,$DJ396,$O402=$DK395,$DK396,$O402=$DL395,$DL396,$O402=$DM395,$DM396,$O402=$DN395,$DN396,$O402=$DO395,$DO396,$O402=$DP395,$DP396,$O402=$DQ395,$DQ396,$O402=$DR395,$DR396,$O402=$DS395,$DS396,$O402=$DT395,$DT396,$O402=$DU395,$DU396)","v":0},{"$f":"$V$15","v":17},{"$f":"D402","v":"Timer uge"},null,null,null,null,{"$f":"SUMIF($D$5:$AH$5,V402,D396:AH396)","v":0},{"$f":"$AC$15","v":18},{"$f":"D402","v":"Timer uge"},null,null,null,{"$f":"SUMIF($D$5:$AH$5,AC402,D396:AH396)","v":0},{"$f":"$AI$15","v":19},{"$f":"D402","v":"Timer uge"},null,null,null,{"$f":"SUMIF($D$5:$AH$5,AI402,D396:AH396)","v":0}]
[null,null,null,"Overarbejde 50% 1-3 timer",null,null,{"$f":"IF($G402>37,$G402-37-$G404,0)","v":0},null,{"$f":"D403","v":"Overarbejde 50% 1-3 timer"},null,null,null,null,{"$f":"IF($N402>37,$N402-37-$N404,0)","v":0},null,{"$f":"D403","v":"Overarbejde 50% 1-3 timer"},null,null,null,null,{"$f":"IF($U402>37,$U402-37-$U404,0)","v":0},null,{"$f":"D403","v":"Overarbejde 50% 1-3 timer"},null,null,null,null,{"$f":"IF($AB402>37,$AB402-37-$AB404,0)","v":0},null,{"$f":"D403","v":"Overarbejde 50% 1-3 timer"},null,null,null,{"$f":"IF($AH402>37,$AH402-37-$AH404,0)","v":0},null,{"$f":"D403","v":"Overarbejde 50% 1-3 timer"},null,null,null,{"$f":"IF($AH402>37,$AH402-37-$AH404,0)","v":0}]
[null,null,null,"Overarbejde 100% over 3 timer",null,null,{"$f":"IF($G402>40,$G402-40,0)","v":0},null,"Overarbejde 100% over 3 timer",null,null,null,null,{"$f":"IF($N402>40,$N402-40,0)","v":0},null,"Overarbejde 100% over 3 timer",null,null,null,null,{"$f":"IF($U402>40,$U402-40,0)","v":0},null,"Overarbejde 100% over 3 timer",null,null,null,null,{"$f":"IF($AB402>40,$AB402-40,0)","v":0},null,"Overarbejde 100% over 3 timer",null,null,null,{"$f":"IF($AH402>40,$AH402-40,0)","v":0},null,{"$f":"D404","v":"Overarbejde 100% over 3 timer"},null,null,null,{"$f":"IF($AH402>40,$AH402-40,0)","v":0},null,null,null,null,null,null,null,null,null,null,null,null,null,null,null,null,null,null,null,null,null,null,null,null,null,null,null,null,null,null,null,null,null,1,2,3,4,5,6,7,8,9,10,11,12,13,14,15,16,17,18,19,20,21,22,23,24,25,26,27,28,29,30,31,32,33,34,35,36,37,38,39,40,41,42,43,44,45,46,47,48,49,50,51,52]
[{"$f":"Medarbejder!A47","v":0},{"$f":"Medarbejder!B47","v":0},{"$f":"Medarbejder!C47","v":"-"},null,null,null,null,null,null,null,null,null,null,null,null,null,null,null,null,null,null,null,null,null,null,null,null,null,null,null,null,null,null,null,null,null,null,null,null,null,null,{"$f":"AO405*Overenskomst!$C$22","v":0},{"$f":"SUM($D405:$AH405)-$BA405-$BF405-$BD405","v":0},{"$f":"IF(Medarbejder!$J47=\"ja\",$AQ405,\"-\")","v":"-"},{"$f":"SUMIF($D$7:$AH$7,\"søndag\",$D405:$AH405)+$AT405","v":0},{"$f":"SUMIFS($D405:$AH405,$D409:$AH409,\"H\")","v":0},{"$f":"G412+N412+U412+AB412+AH412+AN412","v":0},{"$f":"G413+N413+U413+AB413+AH413+AN413","v":0},{"$f":"SUM($D407:$AH407)","v":0},{"$f":"SUM($D408:$AH408)","v":0},{"$f":"COUNTIFS($D406:$AH406,\"F\")","v":0},{"$f":"COUNTIFS($D406:$AH406,\"S\")","v":0},{"$f":"SUMIF($D406:$AH406,\"S\",$D410:$AH410)","v":0},{"$f":"COUNTIFS($D406:$AH406,\"p\")","v":0},{"$f":"COUNTIFS($D406:$AH406,\"BS\")","v":0},{"$f":"SUMIF(D406:AH406,\"bs\",$D405:$AH405)","v":0},{"$f":"COUNTIFS($D406:$AH406,\"FF\")","v":0},{"$f":"SUMIF($D406:$AH406,\"g\",$D405:$AH405)","v":0},{"$f":"Medarbejder!$N44","v":"-"},{"$f":"SUM($BL405:$BU405)","v":4},null,null,null,{"$f":"COUNTIFS($D$6:$AH$6,\"skærtd\")","v":1},{"$f":"COUNTIFS($D$6:$AH$6,\"langfd\")","v":1},{"$f":"COUNTIFS($D$6:$AH$6,\"1påsked\")","v":1},{"$f":"COUNTIFS($D$6:$AH$6,\"2påsked\")","v":1},{"$f":"COUNTIFS($D$6:$AH$6,\"kr.himmelfart\")","v":0},{"$f":"COUNTIFS($D$6:$AH$6,\"1pinse\")","v":0},{"$f":"COUNTIFS($D$6:$AH$6,\"2pinse\")","v":0},{"$f":"COUNTIFS($D$6:$AH$6,\"1juledag\")","v":0},{"$f":"COUNTIFS($D$6:$AH$6,\"2juledag\")","v":0},{"$f":"COUNTIFS($D$6:$AH$6,\"nytårsdag\")","v":0},{"$f":"SUMIFS($D405:$AH405,Lønskema!$D$5:$AH$5,1)","v":0},{"$f":"SUMIFS($D405:$AH405,Lønskema!$D$5:$AH$5,2)","v":0},{"$f":"SUMIFS($D405:$AH405,Lønskema!$D$5:$AH$5,3)","v":0},{"$f":"SUMIFS($D405:$AH405,Lønskema!$D$5:$AH$5,4)","v":0},{"$f":"SUMIFS($D405:$AH405,Lønskema!$D$5:$AH$5,5)","v":0},{"$f":"SUMIFS($D405:$AH405,Lønskema!$D$5:$AH$5,6)","v":0},{"$f":"SUMIFS($D405:$AH405,Lønskema!$D$5:$AH$5,7)","v":0},{"$f":"SUMIFS($D405:$AH405,Lønskema!$D$5:$AH$5,8)","v":0},{"$f":"SUMIFS($D405:$AH405,Lønskema!$D$5:$AH$5,9)","v":0},{"$f":"SUMIFS($D405:$AH405,Lønskema!$D$5:$AH$5,10)","v":0},{"$f":"SUMIFS($D405:$AH405,Lønskema!$D$5:$AH$5,11)","v":0},{"$f":"SUMIFS($D405:$AH405,Lønskema!$D$5:$AH$5,12)","v":0},{"$f":"SUMIFS($D405:$AH405,Lønskema!$D$5:$AH$5,13)","v":0},{"$f":"SUMIFS($D405:$AH405,Lønskema!$D$5:$AH$5,14)","v":0},{"$f":"SUMIFS($D405:$AH405,Lønskema!$D$5:$AH$5,15)","v":0},{"$f":"SUMIFS($D405:$AH405,Lønskema!$D$5:$AH$5,16)","v":0},{"$f":"SUMIFS($D405:$AH405,Lønskema!$D$5:$AH$5,17)","v":0},{"$f":"SUMIFS($D405:$AH405,Lønskema!$D$5:$AH$5,18)","v":0},{"$f":"SUMIFS($D405:$AH405,Lønskema!$D$5:$AH$5,19)","v":0},{"$f":"SUMIFS($D405:$AH405,Lønskema!$D$5:$AH$5,20)","v":0},{"$f":"SUMIFS($D405:$AH405,Lønskema!$D$5:$AH$5,21)","v":0},{"$f":"SUMIFS($D405:$AH405,Lønskema!$D$5:$AH$5,22)","v":0},{"$f":"SUMIFS($D405:$AH405,Lønskema!$D$5:$AH$5,23)","v":0},{"$f":"SUMIFS($D405:$AH405,Lønskema!$D$5:$AH$5,24)","v":0},{"$f":"SUMIFS($D405:$AH405,Lønskema!$D$5:$AH$5,25)","v":0},{"$f":"SUMIFS($D405:$AH405,Lønskema!$D$5:$AH$5,26)","v":0},{"$f":"SUMIFS($D405:$AH405,Lønskema!$D$5:$AH$5,27)","v":0},{"$f":"SUMIFS($D405:$AH405,Lønskema!$D$5:$AH$5,28)","v":0},{"$f":"SUMIFS($D405:$AH405,Lønskema!$D$5:$AH$5,29)","v":0},{"$f":"SUMIFS($D405:$AH405,Lønskema!$D$5:$AH$5,30)","v":0},{"$f":"SUMIFS($D405:$AH405,Lønskema!$D$5:$AH$5,31)","v":0},{"$f":"SUMIFS($D405:$AH405,Lønskema!$D$5:$AH$5,32)","v":0},{"$f":"SUMIFS($D405:$AH405,Lønskema!$D$5:$AH$5,33)","v":0},{"$f":"SUMIFS($D405:$AH405,Lønskema!$D$5:$AH$5,34)","v":0},{"$f":"SUMIFS($D405:$AH405,Lønskema!$D$5:$AH$5,35)","v":0},{"$f":"SUMIFS($D405:$AH405,Lønskema!$D$5:$AH$5,36)","v":0},{"$f":"SUMIFS($D405:$AH405,Lønskema!$D$5:$AH$5,37)","v":0},{"$f":"SUMIFS($D405:$AH405,Lønskema!$D$5:$AH$5,38)","v":0},{"$f":"SUMIFS($D405:$AH405,Lønskema!$D$5:$AH$5,39)","v":0},{"$f":"SUMIFS($D405:$AH405,Lønskema!$D$5:$AH$5,40)","v":0},{"$f":"SUMIFS($D405:$AH405,Lønskema!$D$5:$AH$5,41)","v":0},{"$f":"SUMIFS($D405:$AH405,Lønskema!$D$5:$AH$5,42)","v":0},{"$f":"SUMIFS($D405:$AH405,Lønskema!$D$5:$AH$5,43)","v":0},{"$f":"SUMIFS($D405:$AH405,Lønskema!$D$5:$AH$5,44)","v":0},{"$f":"SUMIFS($D405:$AH405,Lønskema!$D$5:$AH$5,45)","v":0},{"$f":"SUMIFS($D405:$AH405,Lønskema!$D$5:$AH$5,46)","v":0},{"$f":"SUMIFS($D405:$AH405,Lønskema!$D$5:$AH$5,47)","v":0},{"$f":"SUMIFS($D405:$AH405,Lønskema!$D$5:$AH$5,48)","v":0},{"$f":"SUMIFS($D405:$AH405,Lønskema!$D$5:$AH$5,49)","v":0},{"$f":"SUMIFS($D405:$AH405,Lønskema!$D$5:$AH$5,50)","v":0},{"$f":"SUMIFS($D405:$AH405,Lønskema!$D$5:$AH$5,51)","v":0},{"$f":"SUMIFS($D405:$AH405,Lønskema!$D$5:$AH$5,52)","v":0}]
["Ferie - syg  mm. Registreres i denne række"]
[null,"Aften"]
[null,"Nat"]
[null,"Helligdag",null,{"$f":"_xlfn.IFS(D$7=\"søndag\",\"-\",D$6=\"skærtd\",\"h\",D$6=\"langfd\",\"h\",D$6=\"1påsked\",\"h\",D$6=\"2påsked\",\"h\",D$6=\"kr.himmelfart\",\"h\",D$6=\"1pinse\",\"h\",D$6=\"2pinse\",\"h\",D$6=\"1juledag\",\"h\",D$6=\"2juledag\",\"h\",D$6=\"nytårsdag\",\"h\")","v":{"$error":"#N/A"}},{"$f":"_xlfn.IFS(E$7=\"søndag\",\"-\",E$6=\"skærtd\",\"h\",E$6=\"langfd\",\"h\",E$6=\"1påsked\",\"h\",E$6=\"2påsked\",\"h\",E$6=\"kr.himmelfart\",\"h\",E$6=\"1pinse\",\"h\",E$6=\"2pinse\",\"h\",E$6=\"1juledag\",\"h\",E$6=\"2juledag\",\"h\",E$6=\"nytårsdag\",\"h\")","v":{"$error":"#N/A"}},{"$f":"_xlfn.IFS(F$7=\"søndag\",\"-\",F$6=\"skærtd\",\"h\",F$6=\"langfd\",\"h\",F$6=\"1påsked\",\"h\",F$6=\"2påsked\",\"h\",F$6=\"kr.himmelfart\",\"h\",F$6=\"1pinse\",\"h\",F$6=\"2pinse\",\"h\",F$6=\"1juledag\",\"h\",F$6=\"2juledag\",\"h\",F$6=\"nytårsdag\",\"h\")","v":{"$error":"#N/A"}},{"$f":"_xlfn.IFS(G$7=\"søndag\",\"-\",G$6=\"skærtd\",\"h\",G$6=\"langfd\",\"h\",G$6=\"1påsked\",\"h\",G$6=\"2påsked\",\"h\",G$6=\"kr.himmelfart\",\"h\",G$6=\"1pinse\",\"h\",G$6=\"2pinse\",\"h\",G$6=\"1juledag\",\"h\",G$6=\"2juledag\",\"h\",G$6=\"nytårsdag\",\"h\")","v":{"$error":"#N/A"}},{"$f":"_xlfn.IFS(H$7=\"søndag\",\"-\",H$6=\"skærtd\",\"h\",H$6=\"langfd\",\"h\",H$6=\"1påsked\",\"h\",H$6=\"2påsked\",\"h\",H$6=\"kr.himmelfart\",\"h\",H$6=\"1pinse\",\"h\",H$6=\"2pinse\",\"h\",H$6=\"1juledag\",\"h\",H$6=\"2juledag\",\"h\",H$6=\"nytårsdag\",\"h\")","v":{"$error":"#N/A"}},{"$f":"_xlfn.IFS(I$7=\"søndag\",\"-\",I$6=\"skærtd\",\"h\",I$6=\"langfd\",\"h\",I$6=\"1påsked\",\"h\",I$6=\"2påsked\",\"h\",I$6=\"kr.himmelfart\",\"h\",I$6=\"1pinse\",\"h\",I$6=\"2pinse\",\"h\",I$6=\"1juledag\",\"h\",I$6=\"2juledag\",\"h\",I$6=\"nytårsdag\",\"h\")","v":"-"},{"$f":"_xlfn.IFS(J$7=\"søndag\",\"-\",J$6=\"skærtd\",\"h\",J$6=\"langfd\",\"h\",J$6=\"1påsked\",\"h\",J$6=\"2påsked\",\"h\",J$6=\"kr.himmelfart\",\"h\",J$6=\"1pinse\",\"h\",J$6=\"2pinse\",\"h\",J$6=\"1juledag\",\"h\",J$6=\"2juledag\",\"h\",J$6=\"nytårsdag\",\"h\")","v":{"$error":"#N/A"}},{"$f":"_xlfn.IFS(K$7=\"søndag\",\"-\",K$6=\"skærtd\",\"h\",K$6=\"langfd\",\"h\",K$6=\"1påsked\",\"h\",K$6=\"2påsked\",\"h\",K$6=\"kr.himmelfart\",\"h\",K$6=\"1pinse\",\"h\",K$6=\"2pinse\",\"h\",K$6=\"1juledag\",\"h\",K$6=\"2juledag\",\"h\",K$6=\"nytårsdag\",\"h\")","v":{"$error":"#N/A"}},{"$f":"_xlfn.IFS(L$7=\"søndag\",\"-\",L$6=\"skærtd\",\"h\",L$6=\"langfd\",\"h\",L$6=\"1påsked\",\"h\",L$6=\"2påsked\",\"h\",L$6=\"kr.himmelfart\",\"h\",L$6=\"1pinse\",\"h\",L$6=\"2pinse\",\"h\",L$6=\"1juledag\",\"h\",L$6=\"2juledag\",\"h\",L$6=\"nytårsdag\",\"h\")","v":{"$error":"#N/A"}},{"$f":"_xlfn.IFS(M$7=\"søndag\",\"-\",M$6=\"skærtd\",\"h\",M$6=\"langfd\",\"h\",M$6=\"1påsked\",\"h\",M$6=\"2påsked\",\"h\",M$6=\"kr.himmelfart\",\"h\",M$6=\"1pinse\",\"h\",M$6=\"2pinse\",\"h\",M$6=\"1juledag\",\"h\",M$6=\"2juledag\",\"h\",M$6=\"nytårsdag\",\"h\")","v":{"$error":"#N/A"}},{"$f":"_xlfn.IFS(N$7=\"søndag\",\"-\",N$6=\"skærtd\",\"h\",N$6=\"langfd\",\"h\",N$6=\"1påsked\",\"h\",N$6=\"2påsked\",\"h\",N$6=\"kr.himmelfart\",\"h\",N$6=\"1pinse\",\"h\",N$6=\"2pinse\",\"h\",N$6=\"1juledag\",\"h\",N$6=\"2juledag\",\"h\",N$6=\"nytårsdag\",\"h\")","v":{"$error":"#N/A"}},{"$f":"_xlfn.IFS(O$7=\"søndag\",\"-\",O$6=\"skærtd\",\"h\",O$6=\"langfd\",\"h\",O$6=\"1påsked\",\"h\",O$6=\"2påsked\",\"h\",O$6=\"kr.himmelfart\",\"h\",O$6=\"1pinse\",\"h\",O$6=\"2pinse\",\"h\",O$6=\"1juledag\",\"h\",O$6=\"2juledag\",\"h\",O$6=\"nytårsdag\",\"h\")","v":{"$error":"#N/A"}},{"$f":"_xlfn.IFS(P$7=\"søndag\",\"-\",P$6=\"skærtd\",\"h\",P$6=\"langfd\",\"h\",P$6=\"1påsked\",\"h\",P$6=\"2påsked\",\"h\",P$6=\"kr.himmelfart\",\"h\",P$6=\"1pinse\",\"h\",P$6=\"2pinse\",\"h\",P$6=\"1juledag\",\"h\",P$6=\"2juledag\",\"h\",P$6=\"nytårsdag\",\"h\")","v":"-"},{"$f":"_xlfn.IFS(Q$7=\"søndag\",\"-\",Q$6=\"skærtd\",\"h\",Q$6=\"langfd\",\"h\",Q$6=\"1påsked\",\"h\",Q$6=\"2påsked\",\"h\",Q$6=\"kr.himmelfart\",\"h\",Q$6=\"1pinse\",\"h\",Q$6=\"2pinse\",\"h\",Q$6=\"1juledag\",\"h\",Q$6=\"2juledag\",\"h\",Q$6=\"nytårsdag\",\"h\")","v":{"$error":"#N/A"}},{"$f":"_xlfn.IFS(R$7=\"søndag\",\"-\",R$6=\"skærtd\",\"h\",R$6=\"langfd\",\"h\",R$6=\"1påsked\",\"h\",R$6=\"2påsked\",\"h\",R$6=\"kr.himmelfart\",\"h\",R$6=\"1pinse\",\"h\",R$6=\"2pinse\",\"h\",R$6=\"1juledag\",\"h\",R$6=\"2juledag\",\"h\",R$6=\"nytårsdag\",\"h\")","v":{"$error":"#N/A"}},{"$f":"_xlfn.IFS(S$7=\"søndag\",\"-\",S$6=\"skærtd\",\"h\",S$6=\"langfd\",\"h\",S$6=\"1påsked\",\"h\",S$6=\"2påsked\",\"h\",S$6=\"kr.himmelfart\",\"h\",S$6=\"1pinse\",\"h\",S$6=\"2pinse\",\"h\",S$6=\"1juledag\",\"h\",S$6=\"2juledag\",\"h\",S$6=\"nytårsdag\",\"h\")","v":{"$error":"#N/A"}},{"$f":"_xlfn.IFS(T$7=\"søndag\",\"-\",T$6=\"skærtd\",\"h\",T$6=\"langfd\",\"h\",T$6=\"1påsked\",\"h\",T$6=\"2påsked\",\"h\",T$6=\"kr.himmelfart\",\"h\",T$6=\"1pinse\",\"h\",T$6=\"2pinse\",\"h\",T$6=\"1juledag\",\"h\",T$6=\"2juledag\",\"h\",T$6=\"nytårsdag\",\"h\")","v":"h"},{"$f":"_xlfn.IFS(U$7=\"søndag\",\"-\",U$6=\"skærtd\",\"h\",U$6=\"langfd\",\"h\",U$6=\"1påsked\",\"h\",U$6=\"2påsked\",\"h\",U$6=\"kr.himmelfart\",\"h\",U$6=\"1pinse\",\"h\",U$6=\"2pinse\",\"h\",U$6=\"1juledag\",\"h\",U$6=\"2juledag\",\"h\",U$6=\"nytårsdag\",\"h\")","v":"h"},{"$f":"_xlfn.IFS(V$7=\"søndag\",\"-\",V$6=\"skærtd\",\"h\",V$6=\"langfd\",\"h\",V$6=\"1påsked\",\"h\",V$6=\"2påsked\",\"h\",V$6=\"kr.himmelfart\",\"h\",V$6=\"1pinse\",\"h\",V$6=\"2pinse\",\"h\",V$6=\"1juledag\",\"h\",V$6=\"2juledag\",\"h\",V$6=\"nytårsdag\",\"h\")","v":{"$error":"#N/A"}},{"$f":"_xlfn.IFS(W$7=\"søndag\",\"-\",W$6=\"skærtd\",\"h\",W$6=\"langfd\",\"h\",W$6=\"1påsked\",\"h\",W$6=\"2påsked\",\"h\",W$6=\"kr.himmelfart\",\"h\",W$6=\"1pinse\",\"h\",W$6=\"2pinse\",\"h\",W$6=\"1juledag\",\"h\",W$6=\"2juledag\",\"h\",W$6=\"nytårsdag\",\"h\")","v":"-"},{"$f":"_xlfn.IFS(X$7=\"søndag\",\"-\",X$6=\"skærtd\",\"h\",X$6=\"langfd\",\"h\",X$6=\"1påsked\",\"h\",X$6=\"2påsked\",\"h\",X$6=\"kr.himmelfart\",\"h\",X$6=\"1pinse\",\"h\",X$6=\"2pinse\",\"h\",X$6=\"1juledag\",\"h\",X$6=\"2juledag\",\"h\",X$6=\"nytårsdag\",\"h\")","v":"h"},{"$f":"_xlfn.IFS(Y$7=\"søndag\",\"-\",Y$6=\"skærtd\",\"h\",Y$6=\"langfd\",\"h\",Y$6=\"1påsked\",\"h\",Y$6=\"2påsked\",\"h\",Y$6=\"kr.himmelfart\",\"h\",Y$6=\"1pinse\",\"h\",Y$6=\"2pinse\",\"h\",Y$6=\"1juledag\",\"h\",Y$6=\"2juledag\",\"h\",Y$6=\"nytårsdag\",\"h\")","v":{"$error":"#N/A"}},{"$f":"_xlfn.IFS(Z$7=\"søndag\",\"-\",Z$6=\"skærtd\",\"h\",Z$6=\"langfd\",\"h\",Z$6=\"1påsked\",\"h\",Z$6=\"2påsked\",\"h\",Z$6=\"kr.himmelfart\",\"h\",Z$6=\"1pinse\",\"h\",Z$6=\"2pinse\",\"h\",Z$6=\"1juledag\",\"h\",Z$6=\"2juledag\",\"h\",Z$6=\"nytårsdag\",\"h\")","v":{"$error":"#N/A"}},{"$f":"_xlfn.IFS(AA$7=\"søndag\",\"-\",AA$6=\"skærtd\",\"h\",AA$6=\"langfd\",\"h\",AA$6=\"1påsked\",\"h\",AA$6=\"2påsked\",\"h\",AA$6=\"kr.himmelfart\",\"h\",AA$6=\"1pinse\",\"h\",AA$6=\"2pinse\",\"h\",AA$6=\"1juledag\",\"h\",AA$6=\"2juledag\",\"h\",AA$6=\"nytårsdag\",\"h\")","v":{"$error":"#N/A"}},{"$f":"_xlfn.IFS(AB$7=\"søndag\",\"-\",AB$6=\"skærtd\",\"h\",AB$6=\"langfd\",\"h\",AB$6=\"1påsked\",\"h\",AB$6=\"2påsked\",\"h\",AB$6=\"kr.himmelfart\",\"h\",AB$6=\"1pinse\",\"h\",AB$6=\"2pinse\",\"h\",AB$6=\"1juledag\",\"h\",AB$6=\"2juledag\",\"h\",AB$6=\"nytårsdag\",\"h\")","v":{"$error":"#N/A"}},{"$f":"_xlfn.IFS(AC$7=\"søndag\",\"-\",AC$6=\"skærtd\",\"h\",AC$6=\"langfd\",\"h\",AC$6=\"1påsked\",\"h\",AC$6=\"2påsked\",\"h\",AC$6=\"kr.himmelfart\",\"h\",AC$6=\"1pinse\",\"h\",AC$6=\"2pinse\",\"h\",AC$6=\"1juledag\",\"h\",AC$6=\"2juledag\",\"h\",AC$6=\"nytårsdag\",\"h\")","v":{"$error":"#N/A"}},{"$f":"_xlfn.IFS(AD$7=\"søndag\",\"-\",AD$6=\"skærtd\",\"h\",AD$6=\"langfd\",\"h\",AD$6=\"1påsked\",\"h\",AD$6=\"2påsked\",\"h\",AD$6=\"kr.himmelfart\",\"h\",AD$6=\"1pinse\",\"h\",AD$6=\"2pinse\",\"h\",AD$6=\"1juledag\",\"h\",AD$6=\"2juledag\",\"h\",AD$6=\"nytårsdag\",\"h\")","v":"-"},{"$f":"_xlfn.IFS(AE$7=\"søndag\",\"-\",AE$6=\"skærtd\",\"h\",AE$6=\"langfd\",\"h\",AE$6=\"1påsked\",\"h\",AE$6=\"2påsked\",\"h\",AE$6=\"kr.himmelfart\",\"h\",AE$6=\"1pinse\",\"h\",AE$6=\"2pinse\",\"h\",AE$6=\"1juledag\",\"h\",AE$6=\"2juledag\",\"h\",AE$6=\"nytårsdag\",\"h\")","v":{"$error":"#N/A"}},{"$f":"_xlfn.IFS(AF$7=\"søndag\",\"-\",AF$6=\"skærtd\",\"h\",AF$6=\"langfd\",\"h\",AF$6=\"1påsked\",\"h\",AF$6=\"2påsked\",\"h\",AF$6=\"kr.himmelfart\",\"h\",AF$6=\"1pinse\",\"h\",AF$6=\"2pinse\",\"h\",AF$6=\"1juledag\",\"h\",AF$6=\"2juledag\",\"h\",AF$6=\"nytårsdag\",\"h\")","v":{"$error":"#N/A"}},{"$f":"_xlfn.IFS(AG$7=\"søndag\",\"-\",AG$6=\"skærtd\",\"h\",AG$6=\"langfd\",\"h\",AG$6=\"1påsked\",\"h\",AG$6=\"2påsked\",\"h\",AG$6=\"kr.himmelfart\",\"h\",AG$6=\"1pinse\",\"h\",AG$6=\"2pinse\",\"h\",AG$6=\"1juledag\",\"h\",AG$6=\"2juledag\",\"h\",AG$6=\"nytårsdag\",\"h\")","v":{"$error":"#N/A"}},{"$f":"_xlfn.IFS(AH$7=\"søndag\",\"-\",AH$6=\"skærtd\",\"h\",AH$6=\"langfd\",\"h\",AH$6=\"1påsked\",\"h\",AH$6=\"2påsked\",\"h\",AH$6=\"kr.himmelfart\",\"h\",AH$6=\"1pinse\",\"h\",AH$6=\"2pinse\",\"h\",AH$6=\"1juledag\",\"h\",AH$6=\"2juledag\",\"h\",AH$6=\"nytårsdag\",\"h\")","v":{"$error":"#N/A"}}]
[null,"Sygedage",null,{"$f":"IF(D406=\"s\",D405,\"-\")","v":"-"},{"$f":"IF(E406=\"s\",E405,\"-\")","v":"-"},"-","-","-","-","-","-","-","-","-","-","-","-","-","-","-","-","-","-","-","-","-","-","-","-","-","-","-","-","-"]
[null,null,{"$f":"$C$15","v":14},"Timer uge",null,null,{"$f":"SUMIF($D$5:$AH$5,C411,D405:AH405)","v":0},{"$f":"$H$15","v":15},{"$f":"D411","v":"Timer uge"},null,null,null,null,{"$f":"SUMIF($D$5:$AH$5,H411,D405:AH405)","v":0},{"$f":"$O$15","v":16},{"$f":"D411","v":"Timer uge"},null,null,null,null,{"$f":"_xlfn.IFS($O411=$BV404,$BV405,$O411=$BW404,Lønskema!$BW405,$O411=$BX404,$BX405,$O411=$BY404,$BY405,$O411=$BZ404,$BZ405,$O411=$CA404,$CA405,$O411=$CB404,$CB405,$O411=$CC404,$CC405,$O411=$CD404,$CD405,$O411=$CE404,$CE405,$O411=$CF404,$CF405,$O411=$CG404,$CF405,$O411=$CG404,$CG405,$O411=$CH404,$CH405,$O411=$CI404,$CI405,$O411=$CJ404,$CJ405,$O411=$CK404,$CK405,$O411=$CL404,$CL405,$O411=$CM404,$CM405,$O411=$CN404,$CN405,$O411=$CO404,$CO405,$O411=$CP404,$CP405,$O411=$CQ404,$CQ405,$O411=$CR404,$CR405,$O411=$CS404,$CS405,$O411=$CT404,$CT405,$O411=$CU404,$CU405,$O411=$CV404,$CV405,$O411=$CW404,$CW405,$O411=$CX404,$CX405,$O411=$CY404,$CY405,$O411=$CZ404,$CZ405,$O411=$DA404,$DA405,$O411=$DB404,$DB405,$O411=$DC404,$DC405,$O411=$DD404,$DD405,$O411=$DE404,$DE405,$O411=$DF404,$DF405,$O411=$DG404,$DG405,$O411=$DH404,$DH405,$O411=$DI404,$DI405,$O411=$DJ404,$DJ405,$O411=$DK404,$DK405,$O411=$DL404,$DL405,$O411=$DM404,$DM405,$O411=$DN404,$DN405,$O411=$DO404,$DO405,$O411=$DP404,$DP405,$O411=$DQ404,$DQ405,$O411=$DR404,$DR405,$O411=$DS404,$DS405,$O411=$DT404,$DT405,$O411=$DU404,$DU405)","v":0},{"$f":"$V$15","v":17},{"$f":"D411","v":"Timer uge"},null,null,null,null,{"$f":"SUMIF($D$5:$AH$5,V411,D405:AH405)","v":0},{"$f":"$AC$15","v":18},{"$f":"D411","v":"Timer uge"},null,null,null,{"$f":"SUMIF($D$5:$AH$5,AC411,D405:AH405)","v":0},{"$f":"$AI$15","v":19},{"$f":"D411","v":"Timer uge"},null,null,null,{"$f":"SUMIF($D$5:$AH$5,AI411,D405:AH405)","v":0}]
[null,null,null,"Overarbejde 50% 1-3 timer",null,null,{"$f":"IF($G411>37,$G411-37-$G413,0)","v":0},null,{"$f":"D412","v":"Overarbejde 50% 1-3 timer"},null,null,null,null,{"$f":"IF($N411>37,$N411-37-$N413,0)","v":0},null,{"$f":"D412","v":"Overarbejde 50% 1-3 timer"},null,null,null,null,{"$f":"IF($U411>37,$U411-37-$U413,0)","v":0},null,{"$f":"D412","v":"Overarbejde 50% 1-3 timer"},null,null,null,null,{"$f":"IF($AB411>37,$AB411-37-$AB413,0)","v":0},null,{"$f":"D412","v":"Overarbejde 50% 1-3 timer"},null,null,null,{"$f":"IF($AH411>37,$AH411-37-$AH413,0)","v":0},null,{"$f":"D412","v":"Overarbejde 50% 1-3 timer"},null,null,null,{"$f":"IF($AH411>37,$AH411-37-$AH413,0)","v":0}]
[null,null,null,"Overarbejde 100% over 3 timer",null,null,{"$f":"IF($G411>40,$G411-40,0)","v":0},null,"Overarbejde 100% over 3 timer",null,null,null,null,{"$f":"IF($N411>40,$N411-40,0)","v":0},null,"Overarbejde 100% over 3 timer",null,null,null,null,{"$f":"IF($U411>40,$U411-40,0)","v":0},null,"Overarbejde 100% over 3 timer",null,null,null,null,{"$f":"IF($AB411>40,$AB411-40,0)","v":0},null,"Overarbejde 100% over 3 timer",null,null,null,{"$f":"IF($AH411>40,$AH411-40,0)","v":0},null,{"$f":"D413","v":"Overarbejde 100% over 3 timer"},null,null,null,{"$f":"IF($AH411>40,$AH411-40,0)","v":0},null,null,null,null,null,null,null,null,null,null,null,null,null,null,null,null,null,null,null,null,null,null,null,null,null,null,null,null,null,null,null,null,null,1,2,3,4,5,6,7,8,9,10,11,12,13,14,15,16,17,18,19,20,21,22,23,24,25,26,27,28,29,30,31,32,33,34,35,36,37,38,39,40,41,42,43,44,45,46,47,48,49,50,51,52]
[{"$f":"Medarbejder!A48","v":0},{"$f":"Medarbejder!B48","v":0},{"$f":"Medarbejder!C48","v":"-"},null,null,null,null,null,null,null,null,null,null,null,null,null,null,null,null,null,null,null,null,null,null,null,null,null,null,null,null,null,null,null,null,null,null,null,null,null,null,{"$f":"AO414*Overenskomst!$C$22","v":0},{"$f":"SUM($D414:$AH414)-$BA414-$BF414-$BD414","v":0},{"$f":"IF(Medarbejder!$J48=\"ja\",$AQ414,\"-\")","v":"-"},{"$f":"SUMIF($D$7:$AH$7,\"søndag\",$D414:$AH414)+$AT414","v":0},{"$f":"SUMIFS($D414:$AH414,$D418:$AH418,\"H\")","v":0},{"$f":"G421+N421+U421+AB421+AH421+AN421","v":0},{"$f":"G422+N422+U422+AB422+AH422+AN422","v":0},{"$f":"SUM($D416:$AH416)","v":0},{"$f":"SUM($D417:$AH417)","v":0},{"$f":"COUNTIFS($D415:$AH415,\"F\")","v":0},{"$f":"COUNTIFS($D415:$AH415,\"S\")","v":0},{"$f":"SUMIF($D415:$AH415,\"S\",$D419:$AH419)","v":0},{"$f":"COUNTIFS($D415:$AH415,\"p\")","v":0},{"$f":"COUNTIFS($D415:$AH415,\"BS\")","v":0},{"$f":"SUMIF(D415:AH415,\"bs\",$D414:$AH414)","v":0},{"$f":"COUNTIFS($D415:$AH415,\"FF\")","v":0},{"$f":"SUMIF($D415:$AH415,\"g\",$D414:$AH414)","v":0},{"$f":"Medarbejder!$N45","v":"-"},{"$f":"SUM($BL414:$BU414)","v":4},null,null,null,{"$f":"COUNTIFS($D$6:$AH$6,\"skærtd\")","v":1},{"$f":"COUNTIFS($D$6:$AH$6,\"langfd\")","v":1},{"$f":"COUNTIFS($D$6:$AH$6,\"1påsked\")","v":1},{"$f":"COUNTIFS($D$6:$AH$6,\"2påsked\")","v":1},{"$f":"COUNTIFS($D$6:$AH$6,\"kr.himmelfart\")","v":0},{"$f":"COUNTIFS($D$6:$AH$6,\"1pinse\")","v":0},{"$f":"COUNTIFS($D$6:$AH$6,\"2pinse\")","v":0},{"$f":"COUNTIFS($D$6:$AH$6,\"1juledag\")","v":0},{"$f":"COUNTIFS($D$6:$AH$6,\"2juledag\")","v":0},{"$f":"COUNTIFS($D$6:$AH$6,\"nytårsdag\")","v":0},{"$f":"SUMIFS($D414:$AH414,Lønskema!$D$5:$AH$5,1)","v":0},{"$f":"SUMIFS($D414:$AH414,Lønskema!$D$5:$AH$5,2)","v":0},{"$f":"SUMIFS($D414:$AH414,Lønskema!$D$5:$AH$5,3)","v":0},{"$f":"SUMIFS($D414:$AH414,Lønskema!$D$5:$AH$5,4)","v":0},{"$f":"SUMIFS($D414:$AH414,Lønskema!$D$5:$AH$5,5)","v":0},{"$f":"SUMIFS($D414:$AH414,Lønskema!$D$5:$AH$5,6)","v":0},{"$f":"SUMIFS($D414:$AH414,Lønskema!$D$5:$AH$5,7)","v":0},{"$f":"SUMIFS($D414:$AH414,Lønskema!$D$5:$AH$5,8)","v":0},{"$f":"SUMIFS($D414:$AH414,Lønskema!$D$5:$AH$5,9)","v":0},{"$f":"SUMIFS($D414:$AH414,Lønskema!$D$5:$AH$5,10)","v":0},{"$f":"SUMIFS($D414:$AH414,Lønskema!$D$5:$AH$5,11)","v":0},{"$f":"SUMIFS($D414:$AH414,Lønskema!$D$5:$AH$5,12)","v":0},{"$f":"SUMIFS($D414:$AH414,Lønskema!$D$5:$AH$5,13)","v":0},{"$f":"SUMIFS($D414:$AH414,Lønskema!$D$5:$AH$5,14)","v":0},{"$f":"SUMIFS($D414:$AH414,Lønskema!$D$5:$AH$5,15)","v":0},{"$f":"SUMIFS($D414:$AH414,Lønskema!$D$5:$AH$5,16)","v":0},{"$f":"SUMIFS($D414:$AH414,Lønskema!$D$5:$AH$5,17)","v":0},{"$f":"SUMIFS($D414:$AH414,Lønskema!$D$5:$AH$5,18)","v":0},{"$f":"SUMIFS($D414:$AH414,Lønskema!$D$5:$AH$5,19)","v":0},{"$f":"SUMIFS($D414:$AH414,Lønskema!$D$5:$AH$5,20)","v":0},{"$f":"SUMIFS($D414:$AH414,Lønskema!$D$5:$AH$5,21)","v":0},{"$f":"SUMIFS($D414:$AH414,Lønskema!$D$5:$AH$5,22)","v":0},{"$f":"SUMIFS($D414:$AH414,Lønskema!$D$5:$AH$5,23)","v":0},{"$f":"SUMIFS($D414:$AH414,Lønskema!$D$5:$AH$5,24)","v":0},{"$f":"SUMIFS($D414:$AH414,Lønskema!$D$5:$AH$5,25)","v":0},{"$f":"SUMIFS($D414:$AH414,Lønskema!$D$5:$AH$5,26)","v":0},{"$f":"SUMIFS($D414:$AH414,Lønskema!$D$5:$AH$5,27)","v":0},{"$f":"SUMIFS($D414:$AH414,Lønskema!$D$5:$AH$5,28)","v":0},{"$f":"SUMIFS($D414:$AH414,Lønskema!$D$5:$AH$5,29)","v":0},{"$f":"SUMIFS($D414:$AH414,Lønskema!$D$5:$AH$5,30)","v":0},{"$f":"SUMIFS($D414:$AH414,Lønskema!$D$5:$AH$5,31)","v":0},{"$f":"SUMIFS($D414:$AH414,Lønskema!$D$5:$AH$5,32)","v":0},{"$f":"SUMIFS($D414:$AH414,Lønskema!$D$5:$AH$5,33)","v":0},{"$f":"SUMIFS($D414:$AH414,Lønskema!$D$5:$AH$5,34)","v":0},{"$f":"SUMIFS($D414:$AH414,Lønskema!$D$5:$AH$5,35)","v":0},{"$f":"SUMIFS($D414:$AH414,Lønskema!$D$5:$AH$5,36)","v":0},{"$f":"SUMIFS($D414:$AH414,Lønskema!$D$5:$AH$5,37)","v":0},{"$f":"SUMIFS($D414:$AH414,Lønskema!$D$5:$AH$5,38)","v":0},{"$f":"SUMIFS($D414:$AH414,Lønskema!$D$5:$AH$5,39)","v":0},{"$f":"SUMIFS($D414:$AH414,Lønskema!$D$5:$AH$5,40)","v":0},{"$f":"SUMIFS($D414:$AH414,Lønskema!$D$5:$AH$5,41)","v":0},{"$f":"SUMIFS($D414:$AH414,Lønskema!$D$5:$AH$5,42)","v":0},{"$f":"SUMIFS($D414:$AH414,Lønskema!$D$5:$AH$5,43)","v":0},{"$f":"SUMIFS($D414:$AH414,Lønskema!$D$5:$AH$5,44)","v":0},{"$f":"SUMIFS($D414:$AH414,Lønskema!$D$5:$AH$5,45)","v":0},{"$f":"SUMIFS($D414:$AH414,Lønskema!$D$5:$AH$5,46)","v":0},{"$f":"SUMIFS($D414:$AH414,Lønskema!$D$5:$AH$5,47)","v":0},{"$f":"SUMIFS($D414:$AH414,Lønskema!$D$5:$AH$5,48)","v":0},{"$f":"SUMIFS($D414:$AH414,Lønskema!$D$5:$AH$5,49)","v":0},{"$f":"SUMIFS($D414:$AH414,Lønskema!$D$5:$AH$5,50)","v":0},{"$f":"SUMIFS($D414:$AH414,Lønskema!$D$5:$AH$5,51)","v":0},{"$f":"SUMIFS($D414:$AH414,Lønskema!$D$5:$AH$5,52)","v":0}]
["Ferie - syg  mm. Registreres i denne række"]
[null,"Aften"]
[null,"Nat"]
[null,"Helligdag",null,{"$f":"_xlfn.IFS(D$7=\"søndag\",\"-\",D$6=\"skærtd\",\"h\",D$6=\"langfd\",\"h\",D$6=\"1påsked\",\"h\",D$6=\"2påsked\",\"h\",D$6=\"kr.himmelfart\",\"h\",D$6=\"1pinse\",\"h\",D$6=\"2pinse\",\"h\",D$6=\"1juledag\",\"h\",D$6=\"2juledag\",\"h\",D$6=\"nytårsdag\",\"h\")","v":{"$error":"#N/A"}},{"$f":"_xlfn.IFS(E$7=\"søndag\",\"-\",E$6=\"skærtd\",\"h\",E$6=\"langfd\",\"h\",E$6=\"1påsked\",\"h\",E$6=\"2påsked\",\"h\",E$6=\"kr.himmelfart\",\"h\",E$6=\"1pinse\",\"h\",E$6=\"2pinse\",\"h\",E$6=\"1juledag\",\"h\",E$6=\"2juledag\",\"h\",E$6=\"nytårsdag\",\"h\")","v":{"$error":"#N/A"}},{"$f":"_xlfn.IFS(F$7=\"søndag\",\"-\",F$6=\"skærtd\",\"h\",F$6=\"langfd\",\"h\",F$6=\"1påsked\",\"h\",F$6=\"2påsked\",\"h\",F$6=\"kr.himmelfart\",\"h\",F$6=\"1pinse\",\"h\",F$6=\"2pinse\",\"h\",F$6=\"1juledag\",\"h\",F$6=\"2juledag\",\"h\",F$6=\"nytårsdag\",\"h\")","v":{"$error":"#N/A"}},{"$f":"_xlfn.IFS(G$7=\"søndag\",\"-\",G$6=\"skærtd\",\"h\",G$6=\"langfd\",\"h\",G$6=\"1påsked\",\"h\",G$6=\"2påsked\",\"h\",G$6=\"kr.himmelfart\",\"h\",G$6=\"1pinse\",\"h\",G$6=\"2pinse\",\"h\",G$6=\"1juledag\",\"h\",G$6=\"2juledag\",\"h\",G$6=\"nytårsdag\",\"h\")","v":{"$error":"#N/A"}},{"$f":"_xlfn.IFS(H$7=\"søndag\",\"-\",H$6=\"skærtd\",\"h\",H$6=\"langfd\",\"h\",H$6=\"1påsked\",\"h\",H$6=\"2påsked\",\"h\",H$6=\"kr.himmelfart\",\"h\",H$6=\"1pinse\",\"h\",H$6=\"2pinse\",\"h\",H$6=\"1juledag\",\"h\",H$6=\"2juledag\",\"h\",H$6=\"nytårsdag\",\"h\")","v":{"$error":"#N/A"}},{"$f":"_xlfn.IFS(I$7=\"søndag\",\"-\",I$6=\"skærtd\",\"h\",I$6=\"langfd\",\"h\",I$6=\"1påsked\",\"h\",I$6=\"2påsked\",\"h\",I$6=\"kr.himmelfart\",\"h\",I$6=\"1pinse\",\"h\",I$6=\"2pinse\",\"h\",I$6=\"1juledag\",\"h\",I$6=\"2juledag\",\"h\",I$6=\"nytårsdag\",\"h\")","v":"-"},{"$f":"_xlfn.IFS(J$7=\"søndag\",\"-\",J$6=\"skærtd\",\"h\",J$6=\"langfd\",\"h\",J$6=\"1påsked\",\"h\",J$6=\"2påsked\",\"h\",J$6=\"kr.himmelfart\",\"h\",J$6=\"1pinse\",\"h\",J$6=\"2pinse\",\"h\",J$6=\"1juledag\",\"h\",J$6=\"2juledag\",\"h\",J$6=\"nytårsdag\",\"h\")","v":{"$error":"#N/A"}},{"$f":"_xlfn.IFS(K$7=\"søndag\",\"-\",K$6=\"skærtd\",\"h\",K$6=\"langfd\",\"h\",K$6=\"1påsked\",\"h\",K$6=\"2påsked\",\"h\",K$6=\"kr.himmelfart\",\"h\",K$6=\"1pinse\",\"h\",K$6=\"2pinse\",\"h\",K$6=\"1juledag\",\"h\",K$6=\"2juledag\",\"h\",K$6=\"nytårsdag\",\"h\")","v":{"$error":"#N/A"}},{"$f":"_xlfn.IFS(L$7=\"søndag\",\"-\",L$6=\"skærtd\",\"h\",L$6=\"langfd\",\"h\",L$6=\"1påsked\",\"h\",L$6=\"2påsked\",\"h\",L$6=\"kr.himmelfart\",\"h\",L$6=\"1pinse\",\"h\",L$6=\"2pinse\",\"h\",L$6=\"1juledag\",\"h\",L$6=\"2juledag\",\"h\",L$6=\"nytårsdag\",\"h\")","v":{"$error":"#N/A"}},{"$f":"_xlfn.IFS(M$7=\"søndag\",\"-\",M$6=\"skærtd\",\"h\",M$6=\"langfd\",\"h\",M$6=\"1påsked\",\"h\",M$6=\"2påsked\",\"h\",M$6=\"kr.himmelfart\",\"h\",M$6=\"1pinse\",\"h\",M$6=\"2pinse\",\"h\",M$6=\"1juledag\",\"h\",M$6=\"2juledag\",\"h\",M$6=\"nytårsdag\",\"h\")","v":{"$error":"#N/A"}},{"$f":"_xlfn.IFS(N$7=\"søndag\",\"-\",N$6=\"skærtd\",\"h\",N$6=\"langfd\",\"h\",N$6=\"1påsked\",\"h\",N$6=\"2påsked\",\"h\",N$6=\"kr.himmelfart\",\"h\",N$6=\"1pinse\",\"h\",N$6=\"2pinse\",\"h\",N$6=\"1juledag\",\"h\",N$6=\"2juledag\",\"h\",N$6=\"nytårsdag\",\"h\")","v":{"$error":"#N/A"}},{"$f":"_xlfn.IFS(O$7=\"søndag\",\"-\",O$6=\"skærtd\",\"h\",O$6=\"langfd\",\"h\",O$6=\"1påsked\",\"h\",O$6=\"2påsked\",\"h\",O$6=\"kr.himmelfart\",\"h\",O$6=\"1pinse\",\"h\",O$6=\"2pinse\",\"h\",O$6=\"1juledag\",\"h\",O$6=\"2juledag\",\"h\",O$6=\"nytårsdag\",\"h\")","v":{"$error":"#N/A"}},{"$f":"_xlfn.IFS(P$7=\"søndag\",\"-\",P$6=\"skærtd\",\"h\",P$6=\"langfd\",\"h\",P$6=\"1påsked\",\"h\",P$6=\"2påsked\",\"h\",P$6=\"kr.himmelfart\",\"h\",P$6=\"1pinse\",\"h\",P$6=\"2pinse\",\"h\",P$6=\"1juledag\",\"h\",P$6=\"2juledag\",\"h\",P$6=\"nytårsdag\",\"h\")","v":"-"},{"$f":"_xlfn.IFS(Q$7=\"søndag\",\"-\",Q$6=\"skærtd\",\"h\",Q$6=\"langfd\",\"h\",Q$6=\"1påsked\",\"h\",Q$6=\"2påsked\",\"h\",Q$6=\"kr.himmelfart\",\"h\",Q$6=\"1pinse\",\"h\",Q$6=\"2pinse\",\"h\",Q$6=\"1juledag\",\"h\",Q$6=\"2juledag\",\"h\",Q$6=\"nytårsdag\",\"h\")","v":{"$error":"#N/A"}},{"$f":"_xlfn.IFS(R$7=\"søndag\",\"-\",R$6=\"skærtd\",\"h\",R$6=\"langfd\",\"h\",R$6=\"1påsked\",\"h\",R$6=\"2påsked\",\"h\",R$6=\"kr.himmelfart\",\"h\",R$6=\"1pinse\",\"h\",R$6=\"2pinse\",\"h\",R$6=\"1juledag\",\"h\",R$6=\"2juledag\",\"h\",R$6=\"nytårsdag\",\"h\")","v":{"$error":"#N/A"}},{"$f":"_xlfn.IFS(S$7=\"søndag\",\"-\",S$6=\"skærtd\",\"h\",S$6=\"langfd\",\"h\",S$6=\"1påsked\",\"h\",S$6=\"2påsked\",\"h\",S$6=\"kr.himmelfart\",\"h\",S$6=\"1pinse\",\"h\",S$6=\"2pinse\",\"h\",S$6=\"1juledag\",\"h\",S$6=\"2juledag\",\"h\",S$6=\"nytårsdag\",\"h\")","v":{"$error":"#N/A"}},{"$f":"_xlfn.IFS(T$7=\"søndag\",\"-\",T$6=\"skærtd\",\"h\",T$6=\"langfd\",\"h\",T$6=\"1påsked\",\"h\",T$6=\"2påsked\",\"h\",T$6=\"kr.himmelfart\",\"h\",T$6=\"1pinse\",\"h\",T$6=\"2pinse\",\"h\",T$6=\"1juledag\",\"h\",T$6=\"2juledag\",\"h\",T$6=\"nytårsdag\",\"h\")","v":"h"},{"$f":"_xlfn.IFS(U$7=\"søndag\",\"-\",U$6=\"skærtd\",\"h\",U$6=\"langfd\",\"h\",U$6=\"1påsked\",\"h\",U$6=\"2påsked\",\"h\",U$6=\"kr.himmelfart\",\"h\",U$6=\"1pinse\",\"h\",U$6=\"2pinse\",\"h\",U$6=\"1juledag\",\"h\",U$6=\"2juledag\",\"h\",U$6=\"nytårsdag\",\"h\")","v":"h"},{"$f":"_xlfn.IFS(V$7=\"søndag\",\"-\",V$6=\"skærtd\",\"h\",V$6=\"langfd\",\"h\",V$6=\"1påsked\",\"h\",V$6=\"2påsked\",\"h\",V$6=\"kr.himmelfart\",\"h\",V$6=\"1pinse\",\"h\",V$6=\"2pinse\",\"h\",V$6=\"1juledag\",\"h\",V$6=\"2juledag\",\"h\",V$6=\"nytårsdag\",\"h\")","v":{"$error":"#N/A"}},{"$f":"_xlfn.IFS(W$7=\"søndag\",\"-\",W$6=\"skærtd\",\"h\",W$6=\"langfd\",\"h\",W$6=\"1påsked\",\"h\",W$6=\"2påsked\",\"h\",W$6=\"kr.himmelfart\",\"h\",W$6=\"1pinse\",\"h\",W$6=\"2pinse\",\"h\",W$6=\"1juledag\",\"h\",W$6=\"2juledag\",\"h\",W$6=\"nytårsdag\",\"h\")","v":"-"},{"$f":"_xlfn.IFS(X$7=\"søndag\",\"-\",X$6=\"skærtd\",\"h\",X$6=\"langfd\",\"h\",X$6=\"1påsked\",\"h\",X$6=\"2påsked\",\"h\",X$6=\"kr.himmelfart\",\"h\",X$6=\"1pinse\",\"h\",X$6=\"2pinse\",\"h\",X$6=\"1juledag\",\"h\",X$6=\"2juledag\",\"h\",X$6=\"nytårsdag\",\"h\")","v":"h"},{"$f":"_xlfn.IFS(Y$7=\"søndag\",\"-\",Y$6=\"skærtd\",\"h\",Y$6=\"langfd\",\"h\",Y$6=\"1påsked\",\"h\",Y$6=\"2påsked\",\"h\",Y$6=\"kr.himmelfart\",\"h\",Y$6=\"1pinse\",\"h\",Y$6=\"2pinse\",\"h\",Y$6=\"1juledag\",\"h\",Y$6=\"2juledag\",\"h\",Y$6=\"nytårsdag\",\"h\")","v":{"$error":"#N/A"}},{"$f":"_xlfn.IFS(Z$7=\"søndag\",\"-\",Z$6=\"skærtd\",\"h\",Z$6=\"langfd\",\"h\",Z$6=\"1påsked\",\"h\",Z$6=\"2påsked\",\"h\",Z$6=\"kr.himmelfart\",\"h\",Z$6=\"1pinse\",\"h\",Z$6=\"2pinse\",\"h\",Z$6=\"1juledag\",\"h\",Z$6=\"2juledag\",\"h\",Z$6=\"nytårsdag\",\"h\")","v":{"$error":"#N/A"}},{"$f":"_xlfn.IFS(AA$7=\"søndag\",\"-\",AA$6=\"skærtd\",\"h\",AA$6=\"langfd\",\"h\",AA$6=\"1påsked\",\"h\",AA$6=\"2påsked\",\"h\",AA$6=\"kr.himmelfart\",\"h\",AA$6=\"1pinse\",\"h\",AA$6=\"2pinse\",\"h\",AA$6=\"1juledag\",\"h\",AA$6=\"2juledag\",\"h\",AA$6=\"nytårsdag\",\"h\")","v":{"$error":"#N/A"}},{"$f":"_xlfn.IFS(AB$7=\"søndag\",\"-\",AB$6=\"skærtd\",\"h\",AB$6=\"langfd\",\"h\",AB$6=\"1påsked\",\"h\",AB$6=\"2påsked\",\"h\",AB$6=\"kr.himmelfart\",\"h\",AB$6=\"1pinse\",\"h\",AB$6=\"2pinse\",\"h\",AB$6=\"1juledag\",\"h\",AB$6=\"2juledag\",\"h\",AB$6=\"nytårsdag\",\"h\")","v":{"$error":"#N/A"}},{"$f":"_xlfn.IFS(AC$7=\"søndag\",\"-\",AC$6=\"skærtd\",\"h\",AC$6=\"langfd\",\"h\",AC$6=\"1påsked\",\"h\",AC$6=\"2påsked\",\"h\",AC$6=\"kr.himmelfart\",\"h\",AC$6=\"1pinse\",\"h\",AC$6=\"2pinse\",\"h\",AC$6=\"1juledag\",\"h\",AC$6=\"2juledag\",\"h\",AC$6=\"nytårsdag\",\"h\")","v":{"$error":"#N/A"}},{"$f":"_xlfn.IFS(AD$7=\"søndag\",\"-\",AD$6=\"skærtd\",\"h\",AD$6=\"langfd\",\"h\",AD$6=\"1påsked\",\"h\",AD$6=\"2påsked\",\"h\",AD$6=\"kr.himmelfart\",\"h\",AD$6=\"1pinse\",\"h\",AD$6=\"2pinse\",\"h\",AD$6=\"1juledag\",\"h\",AD$6=\"2juledag\",\"h\",AD$6=\"nytårsdag\",\"h\")","v":"-"},{"$f":"_xlfn.IFS(AE$7=\"søndag\",\"-\",AE$6=\"skærtd\",\"h\",AE$6=\"langfd\",\"h\",AE$6=\"1påsked\",\"h\",AE$6=\"2påsked\",\"h\",AE$6=\"kr.himmelfart\",\"h\",AE$6=\"1pinse\",\"h\",AE$6=\"2pinse\",\"h\",AE$6=\"1juledag\",\"h\",AE$6=\"2juledag\",\"h\",AE$6=\"nytårsdag\",\"h\")","v":{"$error":"#N/A"}},{"$f":"_xlfn.IFS(AF$7=\"søndag\",\"-\",AF$6=\"skærtd\",\"h\",AF$6=\"langfd\",\"h\",AF$6=\"1påsked\",\"h\",AF$6=\"2påsked\",\"h\",AF$6=\"kr.himmelfart\",\"h\",AF$6=\"1pinse\",\"h\",AF$6=\"2pinse\",\"h\",AF$6=\"1juledag\",\"h\",AF$6=\"2juledag\",\"h\",AF$6=\"nytårsdag\",\"h\")","v":{"$error":"#N/A"}},{"$f":"_xlfn.IFS(AG$7=\"søndag\",\"-\",AG$6=\"skærtd\",\"h\",AG$6=\"langfd\",\"h\",AG$6=\"1påsked\",\"h\",AG$6=\"2påsked\",\"h\",AG$6=\"kr.himmelfart\",\"h\",AG$6=\"1pinse\",\"h\",AG$6=\"2pinse\",\"h\",AG$6=\"1juledag\",\"h\",AG$6=\"2juledag\",\"h\",AG$6=\"nytårsdag\",\"h\")","v":{"$error":"#N/A"}},{"$f":"_xlfn.IFS(AH$7=\"søndag\",\"-\",AH$6=\"skærtd\",\"h\",AH$6=\"langfd\",\"h\",AH$6=\"1påsked\",\"h\",AH$6=\"2påsked\",\"h\",AH$6=\"kr.himmelfart\",\"h\",AH$6=\"1pinse\",\"h\",AH$6=\"2pinse\",\"h\",AH$6=\"1juledag\",\"h\",AH$6=\"2juledag\",\"h\",AH$6=\"nytårsdag\",\"h\")","v":{"$error":"#N/A"}}]
[null,"Sygedage",null,{"$f":"IF(D415=\"s\",D414,\"-\")","v":"-"},{"$f":"IF(E415=\"s\",E414,\"-\")","v":"-"},"-","-","-","-","-","-","-","-","-","-","-","-","-","-","-","-","-","-","-","-","-","-","-","-","-","-","-","-","-"]
[null,null,{"$f":"$C$15","v":14},"Timer uge",null,null,{"$f":"SUMIF($D$5:$AH$5,C420,D414:AH414)","v":0},{"$f":"$H$15","v":15},{"$f":"D420","v":"Timer uge"},null,null,null,null,{"$f":"SUMIF($D$5:$AH$5,H420,D414:AH414)","v":0},{"$f":"$O$15","v":16},{"$f":"D420","v":"Timer uge"},null,null,null,null,{"$f":"_xlfn.IFS($O420=$BV413,$BV414,$O420=$BW413,Lønskema!$BW414,$O420=$BX413,$BX414,$O420=$BY413,$BY414,$O420=$BZ413,$BZ414,$O420=$CA413,$CA414,$O420=$CB413,$CB414,$O420=$CC413,$CC414,$O420=$CD413,$CD414,$O420=$CE413,$CE414,$O420=$CF413,$CF414,$O420=$CG413,$CF414,$O420=$CG413,$CG414,$O420=$CH413,$CH414,$O420=$CI413,$CI414,$O420=$CJ413,$CJ414,$O420=$CK413,$CK414,$O420=$CL413,$CL414,$O420=$CM413,$CM414,$O420=$CN413,$CN414,$O420=$CO413,$CO414,$O420=$CP413,$CP414,$O420=$CQ413,$CQ414,$O420=$CR413,$CR414,$O420=$CS413,$CS414,$O420=$CT413,$CT414,$O420=$CU413,$CU414,$O420=$CV413,$CV414,$O420=$CW413,$CW414,$O420=$CX413,$CX414,$O420=$CY413,$CY414,$O420=$CZ413,$CZ414,$O420=$DA413,$DA414,$O420=$DB413,$DB414,$O420=$DC413,$DC414,$O420=$DD413,$DD414,$O420=$DE413,$DE414,$O420=$DF413,$DF414,$O420=$DG413,$DG414,$O420=$DH413,$DH414,$O420=$DI413,$DI414,$O420=$DJ413,$DJ414,$O420=$DK413,$DK414,$O420=$DL413,$DL414,$O420=$DM413,$DM414,$O420=$DN413,$DN414,$O420=$DO413,$DO414,$O420=$DP413,$DP414,$O420=$DQ413,$DQ414,$O420=$DR413,$DR414,$O420=$DS413,$DS414,$O420=$DT413,$DT414,$O420=$DU413,$DU414)","v":0},{"$f":"$V$15","v":17},{"$f":"D420","v":"Timer uge"},null,null,null,null,{"$f":"SUMIF($D$5:$AH$5,V420,D414:AH414)","v":0},{"$f":"$AC$15","v":18},{"$f":"D420","v":"Timer uge"},null,null,null,{"$f":"SUMIF($D$5:$AH$5,AC420,D414:AH414)","v":0},{"$f":"$AI$15","v":19},{"$f":"D420","v":"Timer uge"},null,null,null,{"$f":"SUMIF($D$5:$AH$5,AI420,D414:AH414)","v":0}]
[null,null,null,"Overarbejde 50% 1-3 timer",null,null,{"$f":"IF($G420>37,$G420-37-$G422,0)","v":0},null,{"$f":"D421","v":"Overarbejde 50% 1-3 timer"},null,null,null,null,{"$f":"IF($N420>37,$N420-37-$N422,0)","v":0},null,{"$f":"D421","v":"Overarbejde 50% 1-3 timer"},null,null,null,null,{"$f":"IF($U420>37,$U420-37-$U422,0)","v":0},null,{"$f":"D421","v":"Overarbejde 50% 1-3 timer"},null,null,null,null,{"$f":"IF($AB420>37,$AB420-37-$AB422,0)","v":0},null,{"$f":"D421","v":"Overarbejde 50% 1-3 timer"},null,null,null,{"$f":"IF($AH420>37,$AH420-37-$AH422,0)","v":0},null,{"$f":"D421","v":"Overarbejde 50% 1-3 timer"},null,null,null,{"$f":"IF($AH420>37,$AH420-37-$AH422,0)","v":0}]
[null,null,null,"Overarbejde 100% over 3 timer",null,null,{"$f":"IF($G420>40,$G420-40,0)","v":0},null,"Overarbejde 100% over 3 timer",null,null,null,null,{"$f":"IF($N420>40,$N420-40,0)","v":0},null,"Overarbejde 100% over 3 timer",null,null,null,null,{"$f":"IF($U420>40,$U420-40,0)","v":0},null,"Overarbejde 100% over 3 timer",null,null,null,null,{"$f":"IF($AB420>40,$AB420-40,0)","v":0},null,"Overarbejde 100% over 3 timer",null,null,null,{"$f":"IF($AH420>40,$AH420-40,0)","v":0},null,{"$f":"D422","v":"Overarbejde 100% over 3 timer"},null,null,null,{"$f":"IF($AH420>40,$AH420-40,0)","v":0},null,null,null,null,null,null,null,null,null,null,null,null,null,null,null,null,null,null,null,null,null,null,null,null,null,null,null,null,null,null,null,null,null,1,2,3,4,5,6,7,8,9,10,11,12,13,14,15,16,17,18,19,20,21,22,23,24,25,26,27,28,29,30,31,32,33,34,35,36,37,38,39,40,41,42,43,44,45,46,47,48,49,50,51,52]
[{"$f":"Medarbejder!A49","v":0},{"$f":"Medarbejder!B49","v":0},{"$f":"Medarbejder!C49","v":"-"},null,null,null,null,null,null,null,null,null,null,null,null,null,null,null,null,null,null,null,null,null,null,null,null,null,null,null,null,null,null,null,null,null,null,null,null,null,null,{"$f":"AO423*Overenskomst!$C$22","v":0},{"$f":"SUM($D423:$AH423)-$BA423-$BF423-$BD423","v":0},{"$f":"IF(Medarbejder!$J49=\"ja\",$AQ423,\"-\")","v":"-"},{"$f":"SUMIF($D$7:$AH$7,\"søndag\",$D423:$AH423)+$AT423","v":0},{"$f":"SUMIFS($D423:$AH423,$D427:$AH427,\"H\")","v":0},{"$f":"G430+N430+U430+AB430+AH430+AN430","v":0},{"$f":"G431+N431+U431+AB431+AH431+AN431","v":0},{"$f":"SUM($D425:$AH425)","v":0},{"$f":"SUM($D426:$AH426)","v":0},{"$f":"COUNTIFS($D424:$AH424,\"F\")","v":0},{"$f":"COUNTIFS($D424:$AH424,\"S\")","v":0},{"$f":"SUMIF($D424:$AH424,\"S\",$D428:$AH428)","v":0},{"$f":"COUNTIFS($D424:$AH424,\"p\")","v":0},{"$f":"COUNTIFS($D424:$AH424,\"BS\")","v":0},{"$f":"SUMIF(D424:AH424,\"bs\",$D423:$AH423)","v":0},{"$f":"COUNTIFS($D424:$AH424,\"FF\")","v":0},{"$f":"SUMIF($D424:$AH424,\"g\",$D423:$AH423)","v":0},{"$f":"Medarbejder!$N46","v":"-"},{"$f":"SUM($BL423:$BU423)","v":4},null,null,null,{"$f":"COUNTIFS($D$6:$AH$6,\"skærtd\")","v":1},{"$f":"COUNTIFS($D$6:$AH$6,\"langfd\")","v":1},{"$f":"COUNTIFS($D$6:$AH$6,\"1påsked\")","v":1},{"$f":"COUNTIFS($D$6:$AH$6,\"2påsked\")","v":1},{"$f":"COUNTIFS($D$6:$AH$6,\"kr.himmelfart\")","v":0},{"$f":"COUNTIFS($D$6:$AH$6,\"1pinse\")","v":0},{"$f":"COUNTIFS($D$6:$AH$6,\"2pinse\")","v":0},{"$f":"COUNTIFS($D$6:$AH$6,\"1juledag\")","v":0},{"$f":"COUNTIFS($D$6:$AH$6,\"2juledag\")","v":0},{"$f":"COUNTIFS($D$6:$AH$6,\"nytårsdag\")","v":0},{"$f":"SUMIFS($D423:$AH423,Lønskema!$D$5:$AH$5,1)","v":0},{"$f":"SUMIFS($D423:$AH423,Lønskema!$D$5:$AH$5,2)","v":0},{"$f":"SUMIFS($D423:$AH423,Lønskema!$D$5:$AH$5,3)","v":0},{"$f":"SUMIFS($D423:$AH423,Lønskema!$D$5:$AH$5,4)","v":0},{"$f":"SUMIFS($D423:$AH423,Lønskema!$D$5:$AH$5,5)","v":0},{"$f":"SUMIFS($D423:$AH423,Lønskema!$D$5:$AH$5,6)","v":0},{"$f":"SUMIFS($D423:$AH423,Lønskema!$D$5:$AH$5,7)","v":0},{"$f":"SUMIFS($D423:$AH423,Lønskema!$D$5:$AH$5,8)","v":0},{"$f":"SUMIFS($D423:$AH423,Lønskema!$D$5:$AH$5,9)","v":0},{"$f":"SUMIFS($D423:$AH423,Lønskema!$D$5:$AH$5,10)","v":0},{"$f":"SUMIFS($D423:$AH423,Lønskema!$D$5:$AH$5,11)","v":0},{"$f":"SUMIFS($D423:$AH423,Lønskema!$D$5:$AH$5,12)","v":0},{"$f":"SUMIFS($D423:$AH423,Lønskema!$D$5:$AH$5,13)","v":0},{"$f":"SUMIFS($D423:$AH423,Lønskema!$D$5:$AH$5,14)","v":0},{"$f":"SUMIFS($D423:$AH423,Lønskema!$D$5:$AH$5,15)","v":0},{"$f":"SUMIFS($D423:$AH423,Lønskema!$D$5:$AH$5,16)","v":0},{"$f":"SUMIFS($D423:$AH423,Lønskema!$D$5:$AH$5,17)","v":0},{"$f":"SUMIFS($D423:$AH423,Lønskema!$D$5:$AH$5,18)","v":0},{"$f":"SUMIFS($D423:$AH423,Lønskema!$D$5:$AH$5,19)","v":0},{"$f":"SUMIFS($D423:$AH423,Lønskema!$D$5:$AH$5,20)","v":0},{"$f":"SUMIFS($D423:$AH423,Lønskema!$D$5:$AH$5,21)","v":0},{"$f":"SUMIFS($D423:$AH423,Lønskema!$D$5:$AH$5,22)","v":0},{"$f":"SUMIFS($D423:$AH423,Lønskema!$D$5:$AH$5,23)","v":0},{"$f":"SUMIFS($D423:$AH423,Lønskema!$D$5:$AH$5,24)","v":0},{"$f":"SUMIFS($D423:$AH423,Lønskema!$D$5:$AH$5,25)","v":0},{"$f":"SUMIFS($D423:$AH423,Lønskema!$D$5:$AH$5,26)","v":0},{"$f":"SUMIFS($D423:$AH423,Lønskema!$D$5:$AH$5,27)","v":0},{"$f":"SUMIFS($D423:$AH423,Lønskema!$D$5:$AH$5,28)","v":0},{"$f":"SUMIFS($D423:$AH423,Lønskema!$D$5:$AH$5,29)","v":0},{"$f":"SUMIFS($D423:$AH423,Lønskema!$D$5:$AH$5,30)","v":0},{"$f":"SUMIFS($D423:$AH423,Lønskema!$D$5:$AH$5,31)","v":0},{"$f":"SUMIFS($D423:$AH423,Lønskema!$D$5:$AH$5,32)","v":0},{"$f":"SUMIFS($D423:$AH423,Lønskema!$D$5:$AH$5,33)","v":0},{"$f":"SUMIFS($D423:$AH423,Lønskema!$D$5:$AH$5,34)","v":0},{"$f":"SUMIFS($D423:$AH423,Lønskema!$D$5:$AH$5,35)","v":0},{"$f":"SUMIFS($D423:$AH423,Lønskema!$D$5:$AH$5,36)","v":0},{"$f":"SUMIFS($D423:$AH423,Lønskema!$D$5:$AH$5,37)","v":0},{"$f":"SUMIFS($D423:$AH423,Lønskema!$D$5:$AH$5,38)","v":0},{"$f":"SUMIFS($D423:$AH423,Lønskema!$D$5:$AH$5,39)","v":0},{"$f":"SUMIFS($D423:$AH423,Lønskema!$D$5:$AH$5,40)","v":0},{"$f":"SUMIFS($D423:$AH423,Lønskema!$D$5:$AH$5,41)","v":0},{"$f":"SUMIFS($D423:$AH423,Lønskema!$D$5:$AH$5,42)","v":0},{"$f":"SUMIFS($D423:$AH423,Lønskema!$D$5:$AH$5,43)","v":0},{"$f":"SUMIFS($D423:$AH423,Lønskema!$D$5:$AH$5,44)","v":0},{"$f":"SUMIFS($D423:$AH423,Lønskema!$D$5:$AH$5,45)","v":0},{"$f":"SUMIFS($D423:$AH423,Lønskema!$D$5:$AH$5,46)","v":0},{"$f":"SUMIFS($D423:$AH423,Lønskema!$D$5:$AH$5,47)","v":0},{"$f":"SUMIFS($D423:$AH423,Lønskema!$D$5:$AH$5,48)","v":0},{"$f":"SUMIFS($D423:$AH423,Lønskema!$D$5:$AH$5,49)","v":0},{"$f":"SUMIFS($D423:$AH423,Lønskema!$D$5:$AH$5,50)","v":0},{"$f":"SUMIFS($D423:$AH423,Lønskema!$D$5:$AH$5,51)","v":0},{"$f":"SUMIFS($D423:$AH423,Lønskema!$D$5:$AH$5,52)","v":0}]
["Ferie - syg  mm. Registreres i denne række"]
[null,"Aften"]
[null,"Nat"]
[null,"Helligdag",null,{"$f":"_xlfn.IFS(D$7=\"søndag\",\"-\",D$6=\"skærtd\",\"h\",D$6=\"langfd\",\"h\",D$6=\"1påsked\",\"h\",D$6=\"2påsked\",\"h\",D$6=\"kr.himmelfart\",\"h\",D$6=\"1pinse\",\"h\",D$6=\"2pinse\",\"h\",D$6=\"1juledag\",\"h\",D$6=\"2juledag\",\"h\",D$6=\"nytårsdag\",\"h\")","v":{"$error":"#N/A"}},{"$f":"_xlfn.IFS(E$7=\"søndag\",\"-\",E$6=\"skærtd\",\"h\",E$6=\"langfd\",\"h\",E$6=\"1påsked\",\"h\",E$6=\"2påsked\",\"h\",E$6=\"kr.himmelfart\",\"h\",E$6=\"1pinse\",\"h\",E$6=\"2pinse\",\"h\",E$6=\"1juledag\",\"h\",E$6=\"2juledag\",\"h\",E$6=\"nytårsdag\",\"h\")","v":{"$error":"#N/A"}},{"$f":"_xlfn.IFS(F$7=\"søndag\",\"-\",F$6=\"skærtd\",\"h\",F$6=\"langfd\",\"h\",F$6=\"1påsked\",\"h\",F$6=\"2påsked\",\"h\",F$6=\"kr.himmelfart\",\"h\",F$6=\"1pinse\",\"h\",F$6=\"2pinse\",\"h\",F$6=\"1juledag\",\"h\",F$6=\"2juledag\",\"h\",F$6=\"nytårsdag\",\"h\")","v":{"$error":"#N/A"}},{"$f":"_xlfn.IFS(G$7=\"søndag\",\"-\",G$6=\"skærtd\",\"h\",G$6=\"langfd\",\"h\",G$6=\"1påsked\",\"h\",G$6=\"2påsked\",\"h\",G$6=\"kr.himmelfart\",\"h\",G$6=\"1pinse\",\"h\",G$6=\"2pinse\",\"h\",G$6=\"1juledag\",\"h\",G$6=\"2juledag\",\"h\",G$6=\"nytårsdag\",\"h\")","v":{"$error":"#N/A"}},{"$f":"_xlfn.IFS(H$7=\"søndag\",\"-\",H$6=\"skærtd\",\"h\",H$6=\"langfd\",\"h\",H$6=\"1påsked\",\"h\",H$6=\"2påsked\",\"h\",H$6=\"kr.himmelfart\",\"h\",H$6=\"1pinse\",\"h\",H$6=\"2pinse\",\"h\",H$6=\"1juledag\",\"h\",H$6=\"2juledag\",\"h\",H$6=\"nytårsdag\",\"h\")","v":{"$error":"#N/A"}},{"$f":"_xlfn.IFS(I$7=\"søndag\",\"-\",I$6=\"skærtd\",\"h\",I$6=\"langfd\",\"h\",I$6=\"1påsked\",\"h\",I$6=\"2påsked\",\"h\",I$6=\"kr.himmelfart\",\"h\",I$6=\"1pinse\",\"h\",I$6=\"2pinse\",\"h\",I$6=\"1juledag\",\"h\",I$6=\"2juledag\",\"h\",I$6=\"nytårsdag\",\"h\")","v":"-"},{"$f":"_xlfn.IFS(J$7=\"søndag\",\"-\",J$6=\"skærtd\",\"h\",J$6=\"langfd\",\"h\",J$6=\"1påsked\",\"h\",J$6=\"2påsked\",\"h\",J$6=\"kr.himmelfart\",\"h\",J$6=\"1pinse\",\"h\",J$6=\"2pinse\",\"h\",J$6=\"1juledag\",\"h\",J$6=\"2juledag\",\"h\",J$6=\"nytårsdag\",\"h\")","v":{"$error":"#N/A"}},{"$f":"_xlfn.IFS(K$7=\"søndag\",\"-\",K$6=\"skærtd\",\"h\",K$6=\"langfd\",\"h\",K$6=\"1påsked\",\"h\",K$6=\"2påsked\",\"h\",K$6=\"kr.himmelfart\",\"h\",K$6=\"1pinse\",\"h\",K$6=\"2pinse\",\"h\",K$6=\"1juledag\",\"h\",K$6=\"2juledag\",\"h\",K$6=\"nytårsdag\",\"h\")","v":{"$error":"#N/A"}},{"$f":"_xlfn.IFS(L$7=\"søndag\",\"-\",L$6=\"skærtd\",\"h\",L$6=\"langfd\",\"h\",L$6=\"1påsked\",\"h\",L$6=\"2påsked\",\"h\",L$6=\"kr.himmelfart\",\"h\",L$6=\"1pinse\",\"h\",L$6=\"2pinse\",\"h\",L$6=\"1juledag\",\"h\",L$6=\"2juledag\",\"h\",L$6=\"nytårsdag\",\"h\")","v":{"$error":"#N/A"}},{"$f":"_xlfn.IFS(M$7=\"søndag\",\"-\",M$6=\"skærtd\",\"h\",M$6=\"langfd\",\"h\",M$6=\"1påsked\",\"h\",M$6=\"2påsked\",\"h\",M$6=\"kr.himmelfart\",\"h\",M$6=\"1pinse\",\"h\",M$6=\"2pinse\",\"h\",M$6=\"1juledag\",\"h\",M$6=\"2juledag\",\"h\",M$6=\"nytårsdag\",\"h\")","v":{"$error":"#N/A"}},{"$f":"_xlfn.IFS(N$7=\"søndag\",\"-\",N$6=\"skærtd\",\"h\",N$6=\"langfd\",\"h\",N$6=\"1påsked\",\"h\",N$6=\"2påsked\",\"h\",N$6=\"kr.himmelfart\",\"h\",N$6=\"1pinse\",\"h\",N$6=\"2pinse\",\"h\",N$6=\"1juledag\",\"h\",N$6=\"2juledag\",\"h\",N$6=\"nytårsdag\",\"h\")","v":{"$error":"#N/A"}},{"$f":"_xlfn.IFS(O$7=\"søndag\",\"-\",O$6=\"skærtd\",\"h\",O$6=\"langfd\",\"h\",O$6=\"1påsked\",\"h\",O$6=\"2påsked\",\"h\",O$6=\"kr.himmelfart\",\"h\",O$6=\"1pinse\",\"h\",O$6=\"2pinse\",\"h\",O$6=\"1juledag\",\"h\",O$6=\"2juledag\",\"h\",O$6=\"nytårsdag\",\"h\")","v":{"$error":"#N/A"}},{"$f":"_xlfn.IFS(P$7=\"søndag\",\"-\",P$6=\"skærtd\",\"h\",P$6=\"langfd\",\"h\",P$6=\"1påsked\",\"h\",P$6=\"2påsked\",\"h\",P$6=\"kr.himmelfart\",\"h\",P$6=\"1pinse\",\"h\",P$6=\"2pinse\",\"h\",P$6=\"1juledag\",\"h\",P$6=\"2juledag\",\"h\",P$6=\"nytårsdag\",\"h\")","v":"-"},{"$f":"_xlfn.IFS(Q$7=\"søndag\",\"-\",Q$6=\"skærtd\",\"h\",Q$6=\"langfd\",\"h\",Q$6=\"1påsked\",\"h\",Q$6=\"2påsked\",\"h\",Q$6=\"kr.himmelfart\",\"h\",Q$6=\"1pinse\",\"h\",Q$6=\"2pinse\",\"h\",Q$6=\"1juledag\",\"h\",Q$6=\"2juledag\",\"h\",Q$6=\"nytårsdag\",\"h\")","v":{"$error":"#N/A"}},{"$f":"_xlfn.IFS(R$7=\"søndag\",\"-\",R$6=\"skærtd\",\"h\",R$6=\"langfd\",\"h\",R$6=\"1påsked\",\"h\",R$6=\"2påsked\",\"h\",R$6=\"kr.himmelfart\",\"h\",R$6=\"1pinse\",\"h\",R$6=\"2pinse\",\"h\",R$6=\"1juledag\",\"h\",R$6=\"2juledag\",\"h\",R$6=\"nytårsdag\",\"h\")","v":{"$error":"#N/A"}},{"$f":"_xlfn.IFS(S$7=\"søndag\",\"-\",S$6=\"skærtd\",\"h\",S$6=\"langfd\",\"h\",S$6=\"1påsked\",\"h\",S$6=\"2påsked\",\"h\",S$6=\"kr.himmelfart\",\"h\",S$6=\"1pinse\",\"h\",S$6=\"2pinse\",\"h\",S$6=\"1juledag\",\"h\",S$6=\"2juledag\",\"h\",S$6=\"nytårsdag\",\"h\")","v":{"$error":"#N/A"}},{"$f":"_xlfn.IFS(T$7=\"søndag\",\"-\",T$6=\"skærtd\",\"h\",T$6=\"langfd\",\"h\",T$6=\"1påsked\",\"h\",T$6=\"2påsked\",\"h\",T$6=\"kr.himmelfart\",\"h\",T$6=\"1pinse\",\"h\",T$6=\"2pinse\",\"h\",T$6=\"1juledag\",\"h\",T$6=\"2juledag\",\"h\",T$6=\"nytårsdag\",\"h\")","v":"h"},{"$f":"_xlfn.IFS(U$7=\"søndag\",\"-\",U$6=\"skærtd\",\"h\",U$6=\"langfd\",\"h\",U$6=\"1påsked\",\"h\",U$6=\"2påsked\",\"h\",U$6=\"kr.himmelfart\",\"h\",U$6=\"1pinse\",\"h\",U$6=\"2pinse\",\"h\",U$6=\"1juledag\",\"h\",U$6=\"2juledag\",\"h\",U$6=\"nytårsdag\",\"h\")","v":"h"},{"$f":"_xlfn.IFS(V$7=\"søndag\",\"-\",V$6=\"skærtd\",\"h\",V$6=\"langfd\",\"h\",V$6=\"1påsked\",\"h\",V$6=\"2påsked\",\"h\",V$6=\"kr.himmelfart\",\"h\",V$6=\"1pinse\",\"h\",V$6=\"2pinse\",\"h\",V$6=\"1juledag\",\"h\",V$6=\"2juledag\",\"h\",V$6=\"nytårsdag\",\"h\")","v":{"$error":"#N/A"}},{"$f":"_xlfn.IFS(W$7=\"søndag\",\"-\",W$6=\"skærtd\",\"h\",W$6=\"langfd\",\"h\",W$6=\"1påsked\",\"h\",W$6=\"2påsked\",\"h\",W$6=\"kr.himmelfart\",\"h\",W$6=\"1pinse\",\"h\",W$6=\"2pinse\",\"h\",W$6=\"1juledag\",\"h\",W$6=\"2juledag\",\"h\",W$6=\"nytårsdag\",\"h\")","v":"-"},{"$f":"_xlfn.IFS(X$7=\"søndag\",\"-\",X$6=\"skærtd\",\"h\",X$6=\"langfd\",\"h\",X$6=\"1påsked\",\"h\",X$6=\"2påsked\",\"h\",X$6=\"kr.himmelfart\",\"h\",X$6=\"1pinse\",\"h\",X$6=\"2pinse\",\"h\",X$6=\"1juledag\",\"h\",X$6=\"2juledag\",\"h\",X$6=\"nytårsdag\",\"h\")","v":"h"},{"$f":"_xlfn.IFS(Y$7=\"søndag\",\"-\",Y$6=\"skærtd\",\"h\",Y$6=\"langfd\",\"h\",Y$6=\"1påsked\",\"h\",Y$6=\"2påsked\",\"h\",Y$6=\"kr.himmelfart\",\"h\",Y$6=\"1pinse\",\"h\",Y$6=\"2pinse\",\"h\",Y$6=\"1juledag\",\"h\",Y$6=\"2juledag\",\"h\",Y$6=\"nytårsdag\",\"h\")","v":{"$error":"#N/A"}},{"$f":"_xlfn.IFS(Z$7=\"søndag\",\"-\",Z$6=\"skærtd\",\"h\",Z$6=\"langfd\",\"h\",Z$6=\"1påsked\",\"h\",Z$6=\"2påsked\",\"h\",Z$6=\"kr.himmelfart\",\"h\",Z$6=\"1pinse\",\"h\",Z$6=\"2pinse\",\"h\",Z$6=\"1juledag\",\"h\",Z$6=\"2juledag\",\"h\",Z$6=\"nytårsdag\",\"h\")","v":{"$error":"#N/A"}},{"$f":"_xlfn.IFS(AA$7=\"søndag\",\"-\",AA$6=\"skærtd\",\"h\",AA$6=\"langfd\",\"h\",AA$6=\"1påsked\",\"h\",AA$6=\"2påsked\",\"h\",AA$6=\"kr.himmelfart\",\"h\",AA$6=\"1pinse\",\"h\",AA$6=\"2pinse\",\"h\",AA$6=\"1juledag\",\"h\",AA$6=\"2juledag\",\"h\",AA$6=\"nytårsdag\",\"h\")","v":{"$error":"#N/A"}},{"$f":"_xlfn.IFS(AB$7=\"søndag\",\"-\",AB$6=\"skærtd\",\"h\",AB$6=\"langfd\",\"h\",AB$6=\"1påsked\",\"h\",AB$6=\"2påsked\",\"h\",AB$6=\"kr.himmelfart\",\"h\",AB$6=\"1pinse\",\"h\",AB$6=\"2pinse\",\"h\",AB$6=\"1juledag\",\"h\",AB$6=\"2juledag\",\"h\",AB$6=\"nytårsdag\",\"h\")","v":{"$error":"#N/A"}},{"$f":"_xlfn.IFS(AC$7=\"søndag\",\"-\",AC$6=\"skærtd\",\"h\",AC$6=\"langfd\",\"h\",AC$6=\"1påsked\",\"h\",AC$6=\"2påsked\",\"h\",AC$6=\"kr.himmelfart\",\"h\",AC$6=\"1pinse\",\"h\",AC$6=\"2pinse\",\"h\",AC$6=\"1juledag\",\"h\",AC$6=\"2juledag\",\"h\",AC$6=\"nytårsdag\",\"h\")","v":{"$error":"#N/A"}},{"$f":"_xlfn.IFS(AD$7=\"søndag\",\"-\",AD$6=\"skærtd\",\"h\",AD$6=\"langfd\",\"h\",AD$6=\"1påsked\",\"h\",AD$6=\"2påsked\",\"h\",AD$6=\"kr.himmelfart\",\"h\",AD$6=\"1pinse\",\"h\",AD$6=\"2pinse\",\"h\",AD$6=\"1juledag\",\"h\",AD$6=\"2juledag\",\"h\",AD$6=\"nytårsdag\",\"h\")","v":"-"},{"$f":"_xlfn.IFS(AE$7=\"søndag\",\"-\",AE$6=\"skærtd\",\"h\",AE$6=\"langfd\",\"h\",AE$6=\"1påsked\",\"h\",AE$6=\"2påsked\",\"h\",AE$6=\"kr.himmelfart\",\"h\",AE$6=\"1pinse\",\"h\",AE$6=\"2pinse\",\"h\",AE$6=\"1juledag\",\"h\",AE$6=\"2juledag\",\"h\",AE$6=\"nytårsdag\",\"h\")","v":{"$error":"#N/A"}},{"$f":"_xlfn.IFS(AF$7=\"søndag\",\"-\",AF$6=\"skærtd\",\"h\",AF$6=\"langfd\",\"h\",AF$6=\"1påsked\",\"h\",AF$6=\"2påsked\",\"h\",AF$6=\"kr.himmelfart\",\"h\",AF$6=\"1pinse\",\"h\",AF$6=\"2pinse\",\"h\",AF$6=\"1juledag\",\"h\",AF$6=\"2juledag\",\"h\",AF$6=\"nytårsdag\",\"h\")","v":{"$error":"#N/A"}},{"$f":"_xlfn.IFS(AG$7=\"søndag\",\"-\",AG$6=\"skærtd\",\"h\",AG$6=\"langfd\",\"h\",AG$6=\"1påsked\",\"h\",AG$6=\"2påsked\",\"h\",AG$6=\"kr.himmelfart\",\"h\",AG$6=\"1pinse\",\"h\",AG$6=\"2pinse\",\"h\",AG$6=\"1juledag\",\"h\",AG$6=\"2juledag\",\"h\",AG$6=\"nytårsdag\",\"h\")","v":{"$error":"#N/A"}},{"$f":"_xlfn.IFS(AH$7=\"søndag\",\"-\",AH$6=\"skærtd\",\"h\",AH$6=\"langfd\",\"h\",AH$6=\"1påsked\",\"h\",AH$6=\"2påsked\",\"h\",AH$6=\"kr.himmelfart\",\"h\",AH$6=\"1pinse\",\"h\",AH$6=\"2pinse\",\"h\",AH$6=\"1juledag\",\"h\",AH$6=\"2juledag\",\"h\",AH$6=\"nytårsdag\",\"h\")","v":{"$error":"#N/A"}}]
[null,"Sygedage",null,{"$f":"IF(D424=\"s\",D423,\"-\")","v":"-"},{"$f":"IF(E424=\"s\",E423,\"-\")","v":"-"},"-","-","-","-","-","-","-","-","-","-","-","-","-","-","-","-","-","-","-","-","-","-","-","-","-","-","-","-","-"]
[null,null,{"$f":"$C$15","v":14},"Timer uge",null,null,{"$f":"SUMIF($D$5:$AH$5,C429,D423:AH423)","v":0},{"$f":"$H$15","v":15},{"$f":"D429","v":"Timer uge"},null,null,null,null,{"$f":"SUMIF($D$5:$AH$5,H429,D423:AH423)","v":0},{"$f":"$O$15","v":16},{"$f":"D429","v":"Timer uge"},null,null,null,null,{"$f":"_xlfn.IFS($O429=$BV422,$BV423,$O429=$BW422,Lønskema!$BW423,$O429=$BX422,$BX423,$O429=$BY422,$BY423,$O429=$BZ422,$BZ423,$O429=$CA422,$CA423,$O429=$CB422,$CB423,$O429=$CC422,$CC423,$O429=$CD422,$CD423,$O429=$CE422,$CE423,$O429=$CF422,$CF423,$O429=$CG422,$CF423,$O429=$CG422,$CG423,$O429=$CH422,$CH423,$O429=$CI422,$CI423,$O429=$CJ422,$CJ423,$O429=$CK422,$CK423,$O429=$CL422,$CL423,$O429=$CM422,$CM423,$O429=$CN422,$CN423,$O429=$CO422,$CO423,$O429=$CP422,$CP423,$O429=$CQ422,$CQ423,$O429=$CR422,$CR423,$O429=$CS422,$CS423,$O429=$CT422,$CT423,$O429=$CU422,$CU423,$O429=$CV422,$CV423,$O429=$CW422,$CW423,$O429=$CX422,$CX423,$O429=$CY422,$CY423,$O429=$CZ422,$CZ423,$O429=$DA422,$DA423,$O429=$DB422,$DB423,$O429=$DC422,$DC423,$O429=$DD422,$DD423,$O429=$DE422,$DE423,$O429=$DF422,$DF423,$O429=$DG422,$DG423,$O429=$DH422,$DH423,$O429=$DI422,$DI423,$O429=$DJ422,$DJ423,$O429=$DK422,$DK423,$O429=$DL422,$DL423,$O429=$DM422,$DM423,$O429=$DN422,$DN423,$O429=$DO422,$DO423,$O429=$DP422,$DP423,$O429=$DQ422,$DQ423,$O429=$DR422,$DR423,$O429=$DS422,$DS423,$O429=$DT422,$DT423,$O429=$DU422,$DU423)","v":0},{"$f":"$V$15","v":17},{"$f":"D429","v":"Timer uge"},null,null,null,null,{"$f":"SUMIF($D$5:$AH$5,V429,D423:AH423)","v":0},{"$f":"$AC$15","v":18},{"$f":"D429","v":"Timer uge"},null,null,null,{"$f":"SUMIF($D$5:$AH$5,AC429,D423:AH423)","v":0},{"$f":"$AI$15","v":19},{"$f":"D429","v":"Timer uge"},null,null,null,{"$f":"SUMIF($D$5:$AH$5,AI429,D423:AH423)","v":0}]
[null,null,null,"Overarbejde 50% 1-3 timer",null,null,{"$f":"IF($G429>37,$G429-37-$G431,0)","v":0},null,{"$f":"D430","v":"Overarbejde 50% 1-3 timer"},null,null,null,null,{"$f":"IF($N429>37,$N429-37-$N431,0)","v":0},null,{"$f":"D430","v":"Overarbejde 50% 1-3 timer"},null,null,null,null,{"$f":"IF($U429>37,$U429-37-$U431,0)","v":0},null,{"$f":"D430","v":"Overarbejde 50% 1-3 timer"},null,null,null,null,{"$f":"IF($AB429>37,$AB429-37-$AB431,0)","v":0},null,{"$f":"D430","v":"Overarbejde 50% 1-3 timer"},null,null,null,{"$f":"IF($AH429>37,$AH429-37-$AH431,0)","v":0},null,{"$f":"D430","v":"Overarbejde 50% 1-3 timer"},null,null,null,{"$f":"IF($AH429>37,$AH429-37-$AH431,0)","v":0}]
[null,null,null,"Overarbejde 100% over 3 timer",null,null,{"$f":"IF($G429>40,$G429-40,0)","v":0},null,"Overarbejde 100% over 3 timer",null,null,null,null,{"$f":"IF($N429>40,$N429-40,0)","v":0},null,"Overarbejde 100% over 3 timer",null,null,null,null,{"$f":"IF($U429>40,$U429-40,0)","v":0},null,"Overarbejde 100% over 3 timer",null,null,null,null,{"$f":"IF($AB429>40,$AB429-40,0)","v":0},null,"Overarbejde 100% over 3 timer",null,null,null,{"$f":"IF($AH429>40,$AH429-40,0)","v":0},null,{"$f":"D431","v":"Overarbejde 100% over 3 timer"},null,null,null,{"$f":"IF($AH429>40,$AH429-40,0)","v":0},null,null,null,null,null,null,null,null,null,null,null,null,null,null,null,null,null,null,null,null,null,null,null,null,null,null,null,null,null,null,null,null,null,1,2,3,4,5,6,7,8,9,10,11,12,13,14,15,16,17,18,19,20,21,22,23,24,25,26,27,28,29,30,31,32,33,34,35,36,37,38,39,40,41,42,43,44,45,46,47,48,49,50,51,52]
[{"$f":"Medarbejder!A50","v":0},{"$f":"Medarbejder!B50","v":0},{"$f":"Medarbejder!C50","v":"-"},null,null,null,null,null,null,null,null,null,null,null,null,null,null,null,null,null,null,null,null,null,null,null,null,null,null,null,null,null,null,null,null,null,null,null,null,null,null,{"$f":"AO432*Overenskomst!$C$22","v":0},{"$f":"SUM($D432:$AH432)-$BA432-$BF432-$BD432","v":0},{"$f":"IF(Medarbejder!$J50=\"ja\",$AQ432,\"-\")","v":"-"},{"$f":"SUMIF($D$7:$AH$7,\"søndag\",$D432:$AH432)+$AT432","v":0},{"$f":"SUMIFS($D432:$AH432,$D436:$AH436,\"H\")","v":0},{"$f":"G439+N439+U439+AB439+AH439+AN439","v":0},{"$f":"G440+N440+U440+AB440+AH440+AN440","v":0},{"$f":"SUM($D434:$AH434)","v":0},{"$f":"SUM($D435:$AH435)","v":0},{"$f":"COUNTIFS($D433:$AH433,\"F\")","v":0},{"$f":"COUNTIFS($D433:$AH433,\"S\")","v":0},{"$f":"SUMIF($D433:$AH433,\"S\",$D437:$AH437)","v":0},{"$f":"COUNTIFS($D433:$AH433,\"p\")","v":0},{"$f":"COUNTIFS($D433:$AH433,\"BS\")","v":0},{"$f":"SUMIF(D433:AH433,\"bs\",$D432:$AH432)","v":0},{"$f":"COUNTIFS($D433:$AH433,\"FF\")","v":0},{"$f":"SUMIF($D433:$AH433,\"g\",$D432:$AH432)","v":0},{"$f":"Medarbejder!$N47","v":"-"},{"$f":"SUM($BL432:$BU432)","v":4},null,null,null,{"$f":"COUNTIFS($D$6:$AH$6,\"skærtd\")","v":1},{"$f":"COUNTIFS($D$6:$AH$6,\"langfd\")","v":1},{"$f":"COUNTIFS($D$6:$AH$6,\"1påsked\")","v":1},{"$f":"COUNTIFS($D$6:$AH$6,\"2påsked\")","v":1},{"$f":"COUNTIFS($D$6:$AH$6,\"kr.himmelfart\")","v":0},{"$f":"COUNTIFS($D$6:$AH$6,\"1pinse\")","v":0},{"$f":"COUNTIFS($D$6:$AH$6,\"2pinse\")","v":0},{"$f":"COUNTIFS($D$6:$AH$6,\"1juledag\")","v":0},{"$f":"COUNTIFS($D$6:$AH$6,\"2juledag\")","v":0},{"$f":"COUNTIFS($D$6:$AH$6,\"nytårsdag\")","v":0},{"$f":"SUMIFS($D432:$AH432,Lønskema!$D$5:$AH$5,1)","v":0},{"$f":"SUMIFS($D432:$AH432,Lønskema!$D$5:$AH$5,2)","v":0},{"$f":"SUMIFS($D432:$AH432,Lønskema!$D$5:$AH$5,3)","v":0},{"$f":"SUMIFS($D432:$AH432,Lønskema!$D$5:$AH$5,4)","v":0},{"$f":"SUMIFS($D432:$AH432,Lønskema!$D$5:$AH$5,5)","v":0},{"$f":"SUMIFS($D432:$AH432,Lønskema!$D$5:$AH$5,6)","v":0},{"$f":"SUMIFS($D432:$AH432,Lønskema!$D$5:$AH$5,7)","v":0},{"$f":"SUMIFS($D432:$AH432,Lønskema!$D$5:$AH$5,8)","v":0},{"$f":"SUMIFS($D432:$AH432,Lønskema!$D$5:$AH$5,9)","v":0},{"$f":"SUMIFS($D432:$AH432,Lønskema!$D$5:$AH$5,10)","v":0},{"$f":"SUMIFS($D432:$AH432,Lønskema!$D$5:$AH$5,11)","v":0},{"$f":"SUMIFS($D432:$AH432,Lønskema!$D$5:$AH$5,12)","v":0},{"$f":"SUMIFS($D432:$AH432,Lønskema!$D$5:$AH$5,13)","v":0},{"$f":"SUMIFS($D432:$AH432,Lønskema!$D$5:$AH$5,14)","v":0},{"$f":"SUMIFS($D432:$AH432,Lønskema!$D$5:$AH$5,15)","v":0},{"$f":"SUMIFS($D432:$AH432,Lønskema!$D$5:$AH$5,16)","v":0},{"$f":"SUMIFS($D432:$AH432,Lønskema!$D$5:$AH$5,17)","v":0},{"$f":"SUMIFS($D432:$AH432,Lønskema!$D$5:$AH$5,18)","v":0},{"$f":"SUMIFS($D432:$AH432,Lønskema!$D$5:$AH$5,19)","v":0},{"$f":"SUMIFS($D432:$AH432,Lønskema!$D$5:$AH$5,20)","v":0},{"$f":"SUMIFS($D432:$AH432,Lønskema!$D$5:$AH$5,21)","v":0},{"$f":"SUMIFS($D432:$AH432,Lønskema!$D$5:$AH$5,22)","v":0},{"$f":"SUMIFS($D432:$AH432,Lønskema!$D$5:$AH$5,23)","v":0},{"$f":"SUMIFS($D432:$AH432,Lønskema!$D$5:$AH$5,24)","v":0},{"$f":"SUMIFS($D432:$AH432,Lønskema!$D$5:$AH$5,25)","v":0},{"$f":"SUMIFS($D432:$AH432,Lønskema!$D$5:$AH$5,26)","v":0},{"$f":"SUMIFS($D432:$AH432,Lønskema!$D$5:$AH$5,27)","v":0},{"$f":"SUMIFS($D432:$AH432,Lønskema!$D$5:$AH$5,28)","v":0},{"$f":"SUMIFS($D432:$AH432,Lønskema!$D$5:$AH$5,29)","v":0},{"$f":"SUMIFS($D432:$AH432,Lønskema!$D$5:$AH$5,30)","v":0},{"$f":"SUMIFS($D432:$AH432,Lønskema!$D$5:$AH$5,31)","v":0},{"$f":"SUMIFS($D432:$AH432,Lønskema!$D$5:$AH$5,32)","v":0},{"$f":"SUMIFS($D432:$AH432,Lønskema!$D$5:$AH$5,33)","v":0},{"$f":"SUMIFS($D432:$AH432,Lønskema!$D$5:$AH$5,34)","v":0},{"$f":"SUMIFS($D432:$AH432,Lønskema!$D$5:$AH$5,35)","v":0},{"$f":"SUMIFS($D432:$AH432,Lønskema!$D$5:$AH$5,36)","v":0},{"$f":"SUMIFS($D432:$AH432,Lønskema!$D$5:$AH$5,37)","v":0},{"$f":"SUMIFS($D432:$AH432,Lønskema!$D$5:$AH$5,38)","v":0},{"$f":"SUMIFS($D432:$AH432,Lønskema!$D$5:$AH$5,39)","v":0},{"$f":"SUMIFS($D432:$AH432,Lønskema!$D$5:$AH$5,40)","v":0},{"$f":"SUMIFS($D432:$AH432,Lønskema!$D$5:$AH$5,41)","v":0},{"$f":"SUMIFS($D432:$AH432,Lønskema!$D$5:$AH$5,42)","v":0},{"$f":"SUMIFS($D432:$AH432,Lønskema!$D$5:$AH$5,43)","v":0},{"$f":"SUMIFS($D432:$AH432,Lønskema!$D$5:$AH$5,44)","v":0},{"$f":"SUMIFS($D432:$AH432,Lønskema!$D$5:$AH$5,45)","v":0},{"$f":"SUMIFS($D432:$AH432,Lønskema!$D$5:$AH$5,46)","v":0},{"$f":"SUMIFS($D432:$AH432,Lønskema!$D$5:$AH$5,47)","v":0},{"$f":"SUMIFS($D432:$AH432,Lønskema!$D$5:$AH$5,48)","v":0},{"$f":"SUMIFS($D432:$AH432,Lønskema!$D$5:$AH$5,49)","v":0},{"$f":"SUMIFS($D432:$AH432,Lønskema!$D$5:$AH$5,50)","v":0},{"$f":"SUMIFS($D432:$AH432,Lønskema!$D$5:$AH$5,51)","v":0},{"$f":"SUMIFS($D432:$AH432,Lønskema!$D$5:$AH$5,52)","v":0}]
["Ferie - syg  mm. Registreres i denne række"]
[null,"Aften"]
[null,"Nat"]
[null,"Helligdag",null,{"$f":"_xlfn.IFS(D$7=\"søndag\",\"-\",D$6=\"skærtd\",\"h\",D$6=\"langfd\",\"h\",D$6=\"1påsked\",\"h\",D$6=\"2påsked\",\"h\",D$6=\"kr.himmelfart\",\"h\",D$6=\"1pinse\",\"h\",D$6=\"2pinse\",\"h\",D$6=\"1juledag\",\"h\",D$6=\"2juledag\",\"h\",D$6=\"nytårsdag\",\"h\")","v":{"$error":"#N/A"}},{"$f":"_xlfn.IFS(E$7=\"søndag\",\"-\",E$6=\"skærtd\",\"h\",E$6=\"langfd\",\"h\",E$6=\"1påsked\",\"h\",E$6=\"2påsked\",\"h\",E$6=\"kr.himmelfart\",\"h\",E$6=\"1pinse\",\"h\",E$6=\"2pinse\",\"h\",E$6=\"1juledag\",\"h\",E$6=\"2juledag\",\"h\",E$6=\"nytårsdag\",\"h\")","v":{"$error":"#N/A"}},{"$f":"_xlfn.IFS(F$7=\"søndag\",\"-\",F$6=\"skærtd\",\"h\",F$6=\"langfd\",\"h\",F$6=\"1påsked\",\"h\",F$6=\"2påsked\",\"h\",F$6=\"kr.himmelfart\",\"h\",F$6=\"1pinse\",\"h\",F$6=\"2pinse\",\"h\",F$6=\"1juledag\",\"h\",F$6=\"2juledag\",\"h\",F$6=\"nytårsdag\",\"h\")","v":{"$error":"#N/A"}},{"$f":"_xlfn.IFS(G$7=\"søndag\",\"-\",G$6=\"skærtd\",\"h\",G$6=\"langfd\",\"h\",G$6=\"1påsked\",\"h\",G$6=\"2påsked\",\"h\",G$6=\"kr.himmelfart\",\"h\",G$6=\"1pinse\",\"h\",G$6=\"2pinse\",\"h\",G$6=\"1juledag\",\"h\",G$6=\"2juledag\",\"h\",G$6=\"nytårsdag\",\"h\")","v":{"$error":"#N/A"}},{"$f":"_xlfn.IFS(H$7=\"søndag\",\"-\",H$6=\"skærtd\",\"h\",H$6=\"langfd\",\"h\",H$6=\"1påsked\",\"h\",H$6=\"2påsked\",\"h\",H$6=\"kr.himmelfart\",\"h\",H$6=\"1pinse\",\"h\",H$6=\"2pinse\",\"h\",H$6=\"1juledag\",\"h\",H$6=\"2juledag\",\"h\",H$6=\"nytårsdag\",\"h\")","v":{"$error":"#N/A"}},{"$f":"_xlfn.IFS(I$7=\"søndag\",\"-\",I$6=\"skærtd\",\"h\",I$6=\"langfd\",\"h\",I$6=\"1påsked\",\"h\",I$6=\"2påsked\",\"h\",I$6=\"kr.himmelfart\",\"h\",I$6=\"1pinse\",\"h\",I$6=\"2pinse\",\"h\",I$6=\"1juledag\",\"h\",I$6=\"2juledag\",\"h\",I$6=\"nytårsdag\",\"h\")","v":"-"},{"$f":"_xlfn.IFS(J$7=\"søndag\",\"-\",J$6=\"skærtd\",\"h\",J$6=\"langfd\",\"h\",J$6=\"1påsked\",\"h\",J$6=\"2påsked\",\"h\",J$6=\"kr.himmelfart\",\"h\",J$6=\"1pinse\",\"h\",J$6=\"2pinse\",\"h\",J$6=\"1juledag\",\"h\",J$6=\"2juledag\",\"h\",J$6=\"nytårsdag\",\"h\")","v":{"$error":"#N/A"}},{"$f":"_xlfn.IFS(K$7=\"søndag\",\"-\",K$6=\"skærtd\",\"h\",K$6=\"langfd\",\"h\",K$6=\"1påsked\",\"h\",K$6=\"2påsked\",\"h\",K$6=\"kr.himmelfart\",\"h\",K$6=\"1pinse\",\"h\",K$6=\"2pinse\",\"h\",K$6=\"1juledag\",\"h\",K$6=\"2juledag\",\"h\",K$6=\"nytårsdag\",\"h\")","v":{"$error":"#N/A"}},{"$f":"_xlfn.IFS(L$7=\"søndag\",\"-\",L$6=\"skærtd\",\"h\",L$6=\"langfd\",\"h\",L$6=\"1påsked\",\"h\",L$6=\"2påsked\",\"h\",L$6=\"kr.himmelfart\",\"h\",L$6=\"1pinse\",\"h\",L$6=\"2pinse\",\"h\",L$6=\"1juledag\",\"h\",L$6=\"2juledag\",\"h\",L$6=\"nytårsdag\",\"h\")","v":{"$error":"#N/A"}},{"$f":"_xlfn.IFS(M$7=\"søndag\",\"-\",M$6=\"skærtd\",\"h\",M$6=\"langfd\",\"h\",M$6=\"1påsked\",\"h\",M$6=\"2påsked\",\"h\",M$6=\"kr.himmelfart\",\"h\",M$6=\"1pinse\",\"h\",M$6=\"2pinse\",\"h\",M$6=\"1juledag\",\"h\",M$6=\"2juledag\",\"h\",M$6=\"nytårsdag\",\"h\")","v":{"$error":"#N/A"}},{"$f":"_xlfn.IFS(N$7=\"søndag\",\"-\",N$6=\"skærtd\",\"h\",N$6=\"langfd\",\"h\",N$6=\"1påsked\",\"h\",N$6=\"2påsked\",\"h\",N$6=\"kr.himmelfart\",\"h\",N$6=\"1pinse\",\"h\",N$6=\"2pinse\",\"h\",N$6=\"1juledag\",\"h\",N$6=\"2juledag\",\"h\",N$6=\"nytårsdag\",\"h\")","v":{"$error":"#N/A"}},{"$f":"_xlfn.IFS(O$7=\"søndag\",\"-\",O$6=\"skærtd\",\"h\",O$6=\"langfd\",\"h\",O$6=\"1påsked\",\"h\",O$6=\"2påsked\",\"h\",O$6=\"kr.himmelfart\",\"h\",O$6=\"1pinse\",\"h\",O$6=\"2pinse\",\"h\",O$6=\"1juledag\",\"h\",O$6=\"2juledag\",\"h\",O$6=\"nytårsdag\",\"h\")","v":{"$error":"#N/A"}},{"$f":"_xlfn.IFS(P$7=\"søndag\",\"-\",P$6=\"skærtd\",\"h\",P$6=\"langfd\",\"h\",P$6=\"1påsked\",\"h\",P$6=\"2påsked\",\"h\",P$6=\"kr.himmelfart\",\"h\",P$6=\"1pinse\",\"h\",P$6=\"2pinse\",\"h\",P$6=\"1juledag\",\"h\",P$6=\"2juledag\",\"h\",P$6=\"nytårsdag\",\"h\")","v":"-"},{"$f":"_xlfn.IFS(Q$7=\"søndag\",\"-\",Q$6=\"skærtd\",\"h\",Q$6=\"langfd\",\"h\",Q$6=\"1påsked\",\"h\",Q$6=\"2påsked\",\"h\",Q$6=\"kr.himmelfart\",\"h\",Q$6=\"1pinse\",\"h\",Q$6=\"2pinse\",\"h\",Q$6=\"1juledag\",\"h\",Q$6=\"2juledag\",\"h\",Q$6=\"nytårsdag\",\"h\")","v":{"$error":"#N/A"}},{"$f":"_xlfn.IFS(R$7=\"søndag\",\"-\",R$6=\"skærtd\",\"h\",R$6=\"langfd\",\"h\",R$6=\"1påsked\",\"h\",R$6=\"2påsked\",\"h\",R$6=\"kr.himmelfart\",\"h\",R$6=\"1pinse\",\"h\",R$6=\"2pinse\",\"h\",R$6=\"1juledag\",\"h\",R$6=\"2juledag\",\"h\",R$6=\"nytårsdag\",\"h\")","v":{"$error":"#N/A"}},{"$f":"_xlfn.IFS(S$7=\"søndag\",\"-\",S$6=\"skærtd\",\"h\",S$6=\"langfd\",\"h\",S$6=\"1påsked\",\"h\",S$6=\"2påsked\",\"h\",S$6=\"kr.himmelfart\",\"h\",S$6=\"1pinse\",\"h\",S$6=\"2pinse\",\"h\",S$6=\"1juledag\",\"h\",S$6=\"2juledag\",\"h\",S$6=\"nytårsdag\",\"h\")","v":{"$error":"#N/A"}},{"$f":"_xlfn.IFS(T$7=\"søndag\",\"-\",T$6=\"skærtd\",\"h\",T$6=\"langfd\",\"h\",T$6=\"1påsked\",\"h\",T$6=\"2påsked\",\"h\",T$6=\"kr.himmelfart\",\"h\",T$6=\"1pinse\",\"h\",T$6=\"2pinse\",\"h\",T$6=\"1juledag\",\"h\",T$6=\"2juledag\",\"h\",T$6=\"nytårsdag\",\"h\")","v":"h"},{"$f":"_xlfn.IFS(U$7=\"søndag\",\"-\",U$6=\"skærtd\",\"h\",U$6=\"langfd\",\"h\",U$6=\"1påsked\",\"h\",U$6=\"2påsked\",\"h\",U$6=\"kr.himmelfart\",\"h\",U$6=\"1pinse\",\"h\",U$6=\"2pinse\",\"h\",U$6=\"1juledag\",\"h\",U$6=\"2juledag\",\"h\",U$6=\"nytårsdag\",\"h\")","v":"h"},{"$f":"_xlfn.IFS(V$7=\"søndag\",\"-\",V$6=\"skærtd\",\"h\",V$6=\"langfd\",\"h\",V$6=\"1påsked\",\"h\",V$6=\"2påsked\",\"h\",V$6=\"kr.himmelfart\",\"h\",V$6=\"1pinse\",\"h\",V$6=\"2pinse\",\"h\",V$6=\"1juledag\",\"h\",V$6=\"2juledag\",\"h\",V$6=\"nytårsdag\",\"h\")","v":{"$error":"#N/A"}},{"$f":"_xlfn.IFS(W$7=\"søndag\",\"-\",W$6=\"skærtd\",\"h\",W$6=\"langfd\",\"h\",W$6=\"1påsked\",\"h\",W$6=\"2påsked\",\"h\",W$6=\"kr.himmelfart\",\"h\",W$6=\"1pinse\",\"h\",W$6=\"2pinse\",\"h\",W$6=\"1juledag\",\"h\",W$6=\"2juledag\",\"h\",W$6=\"nytårsdag\",\"h\")","v":"-"},{"$f":"_xlfn.IFS(X$7=\"søndag\",\"-\",X$6=\"skærtd\",\"h\",X$6=\"langfd\",\"h\",X$6=\"1påsked\",\"h\",X$6=\"2påsked\",\"h\",X$6=\"kr.himmelfart\",\"h\",X$6=\"1pinse\",\"h\",X$6=\"2pinse\",\"h\",X$6=\"1juledag\",\"h\",X$6=\"2juledag\",\"h\",X$6=\"nytårsdag\",\"h\")","v":"h"},{"$f":"_xlfn.IFS(Y$7=\"søndag\",\"-\",Y$6=\"skærtd\",\"h\",Y$6=\"langfd\",\"h\",Y$6=\"1påsked\",\"h\",Y$6=\"2påsked\",\"h\",Y$6=\"kr.himmelfart\",\"h\",Y$6=\"1pinse\",\"h\",Y$6=\"2pinse\",\"h\",Y$6=\"1juledag\",\"h\",Y$6=\"2juledag\",\"h\",Y$6=\"nytårsdag\",\"h\")","v":{"$error":"#N/A"}},{"$f":"_xlfn.IFS(Z$7=\"søndag\",\"-\",Z$6=\"skærtd\",\"h\",Z$6=\"langfd\",\"h\",Z$6=\"1påsked\",\"h\",Z$6=\"2påsked\",\"h\",Z$6=\"kr.himmelfart\",\"h\",Z$6=\"1pinse\",\"h\",Z$6=\"2pinse\",\"h\",Z$6=\"1juledag\",\"h\",Z$6=\"2juledag\",\"h\",Z$6=\"nytårsdag\",\"h\")","v":{"$error":"#N/A"}},{"$f":"_xlfn.IFS(AA$7=\"søndag\",\"-\",AA$6=\"skærtd\",\"h\",AA$6=\"langfd\",\"h\",AA$6=\"1påsked\",\"h\",AA$6=\"2påsked\",\"h\",AA$6=\"kr.himmelfart\",\"h\",AA$6=\"1pinse\",\"h\",AA$6=\"2pinse\",\"h\",AA$6=\"1juledag\",\"h\",AA$6=\"2juledag\",\"h\",AA$6=\"nytårsdag\",\"h\")","v":{"$error":"#N/A"}},{"$f":"_xlfn.IFS(AB$7=\"søndag\",\"-\",AB$6=\"skærtd\",\"h\",AB$6=\"langfd\",\"h\",AB$6=\"1påsked\",\"h\",AB$6=\"2påsked\",\"h\",AB$6=\"kr.himmelfart\",\"h\",AB$6=\"1pinse\",\"h\",AB$6=\"2pinse\",\"h\",AB$6=\"1juledag\",\"h\",AB$6=\"2juledag\",\"h\",AB$6=\"nytårsdag\",\"h\")","v":{"$error":"#N/A"}},{"$f":"_xlfn.IFS(AC$7=\"søndag\",\"-\",AC$6=\"skærtd\",\"h\",AC$6=\"langfd\",\"h\",AC$6=\"1påsked\",\"h\",AC$6=\"2påsked\",\"h\",AC$6=\"kr.himmelfart\",\"h\",AC$6=\"1pinse\",\"h\",AC$6=\"2pinse\",\"h\",AC$6=\"1juledag\",\"h\",AC$6=\"2juledag\",\"h\",AC$6=\"nytårsdag\",\"h\")","v":{"$error":"#N/A"}},{"$f":"_xlfn.IFS(AD$7=\"søndag\",\"-\",AD$6=\"skærtd\",\"h\",AD$6=\"langfd\",\"h\",AD$6=\"1påsked\",\"h\",AD$6=\"2påsked\",\"h\",AD$6=\"kr.himmelfart\",\"h\",AD$6=\"1pinse\",\"h\",AD$6=\"2pinse\",\"h\",AD$6=\"1juledag\",\"h\",AD$6=\"2juledag\",\"h\",AD$6=\"nytårsdag\",\"h\")","v":"-"},{"$f":"_xlfn.IFS(AE$7=\"søndag\",\"-\",AE$6=\"skærtd\",\"h\",AE$6=\"langfd\",\"h\",AE$6=\"1påsked\",\"h\",AE$6=\"2påsked\",\"h\",AE$6=\"kr.himmelfart\",\"h\",AE$6=\"1pinse\",\"h\",AE$6=\"2pinse\",\"h\",AE$6=\"1juledag\",\"h\",AE$6=\"2juledag\",\"h\",AE$6=\"nytårsdag\",\"h\")","v":{"$error":"#N/A"}},{"$f":"_xlfn.IFS(AF$7=\"søndag\",\"-\",AF$6=\"skærtd\",\"h\",AF$6=\"langfd\",\"h\",AF$6=\"1påsked\",\"h\",AF$6=\"2påsked\",\"h\",AF$6=\"kr.himmelfart\",\"h\",AF$6=\"1pinse\",\"h\",AF$6=\"2pinse\",\"h\",AF$6=\"1juledag\",\"h\",AF$6=\"2juledag\",\"h\",AF$6=\"nytårsdag\",\"h\")","v":{"$error":"#N/A"}},{"$f":"_xlfn.IFS(AG$7=\"søndag\",\"-\",AG$6=\"skærtd\",\"h\",AG$6=\"langfd\",\"h\",AG$6=\"1påsked\",\"h\",AG$6=\"2påsked\",\"h\",AG$6=\"kr.himmelfart\",\"h\",AG$6=\"1pinse\",\"h\",AG$6=\"2pinse\",\"h\",AG$6=\"1juledag\",\"h\",AG$6=\"2juledag\",\"h\",AG$6=\"nytårsdag\",\"h\")","v":{"$error":"#N/A"}},{"$f":"_xlfn.IFS(AH$7=\"søndag\",\"-\",AH$6=\"skærtd\",\"h\",AH$6=\"langfd\",\"h\",AH$6=\"1påsked\",\"h\",AH$6=\"2påsked\",\"h\",AH$6=\"kr.himmelfart\",\"h\",AH$6=\"1pinse\",\"h\",AH$6=\"2pinse\",\"h\",AH$6=\"1juledag\",\"h\",AH$6=\"2juledag\",\"h\",AH$6=\"nytårsdag\",\"h\")","v":{"$error":"#N/A"}}]
[null,"Sygedage",null,{"$f":"IF(D433=\"s\",D432,\"-\")","v":"-"},{"$f":"IF(E433=\"s\",E432,\"-\")","v":"-"},"-","-","-","-","-","-","-","-","-","-","-","-","-","-","-","-","-","-","-","-","-","-","-","-","-","-","-","-","-"]
[null,null,{"$f":"$C$15","v":14},"Timer uge",null,null,{"$f":"SUMIF($D$5:$AH$5,C438,D432:AH432)","v":0},{"$f":"$H$15","v":15},{"$f":"D438","v":"Timer uge"},null,null,null,null,{"$f":"SUMIF($D$5:$AH$5,H438,D432:AH432)","v":0},{"$f":"$O$15","v":16},{"$f":"D438","v":"Timer uge"},null,null,null,null,{"$f":"_xlfn.IFS($O438=$BV431,$BV432,$O438=$BW431,Lønskema!$BW432,$O438=$BX431,$BX432,$O438=$BY431,$BY432,$O438=$BZ431,$BZ432,$O438=$CA431,$CA432,$O438=$CB431,$CB432,$O438=$CC431,$CC432,$O438=$CD431,$CD432,$O438=$CE431,$CE432,$O438=$CF431,$CF432,$O438=$CG431,$CF432,$O438=$CG431,$CG432,$O438=$CH431,$CH432,$O438=$CI431,$CI432,$O438=$CJ431,$CJ432,$O438=$CK431,$CK432,$O438=$CL431,$CL432,$O438=$CM431,$CM432,$O438=$CN431,$CN432,$O438=$CO431,$CO432,$O438=$CP431,$CP432,$O438=$CQ431,$CQ432,$O438=$CR431,$CR432,$O438=$CS431,$CS432,$O438=$CT431,$CT432,$O438=$CU431,$CU432,$O438=$CV431,$CV432,$O438=$CW431,$CW432,$O438=$CX431,$CX432,$O438=$CY431,$CY432,$O438=$CZ431,$CZ432,$O438=$DA431,$DA432,$O438=$DB431,$DB432,$O438=$DC431,$DC432,$O438=$DD431,$DD432,$O438=$DE431,$DE432,$O438=$DF431,$DF432,$O438=$DG431,$DG432,$O438=$DH431,$DH432,$O438=$DI431,$DI432,$O438=$DJ431,$DJ432,$O438=$DK431,$DK432,$O438=$DL431,$DL432,$O438=$DM431,$DM432,$O438=$DN431,$DN432,$O438=$DO431,$DO432,$O438=$DP431,$DP432,$O438=$DQ431,$DQ432,$O438=$DR431,$DR432,$O438=$DS431,$DS432,$O438=$DT431,$DT432,$O438=$DU431,$DU432)","v":0},{"$f":"$V$15","v":17},{"$f":"D438","v":"Timer uge"},null,null,null,null,{"$f":"SUMIF($D$5:$AH$5,V438,D432:AH432)","v":0},{"$f":"$AC$15","v":18},{"$f":"D438","v":"Timer uge"},null,null,null,{"$f":"SUMIF($D$5:$AH$5,AC438,D432:AH432)","v":0},{"$f":"$AI$15","v":19},{"$f":"D438","v":"Timer uge"},null,null,null,{"$f":"SUMIF($D$5:$AH$5,AI438,D432:AH432)","v":0}]
[null,null,null,"Overarbejde 50% 1-3 timer",null,null,{"$f":"IF($G438>37,$G438-37-$G440,0)","v":0},null,{"$f":"D439","v":"Overarbejde 50% 1-3 timer"},null,null,null,null,{"$f":"IF($N438>37,$N438-37-$N440,0)","v":0},null,{"$f":"D439","v":"Overarbejde 50% 1-3 timer"},null,null,null,null,{"$f":"IF($U438>37,$U438-37-$U440,0)","v":0},null,{"$f":"D439","v":"Overarbejde 50% 1-3 timer"},null,null,null,null,{"$f":"IF($AB438>37,$AB438-37-$AB440,0)","v":0},null,{"$f":"D439","v":"Overarbejde 50% 1-3 timer"},null,null,null,{"$f":"IF($AH438>37,$AH438-37-$AH440,0)","v":0},null,{"$f":"D439","v":"Overarbejde 50% 1-3 timer"},null,null,null,{"$f":"IF($AH438>37,$AH438-37-$AH440,0)","v":0}]
[null,null,null,"Overarbejde 100% over 3 timer",null,null,{"$f":"IF($G438>40,$G438-40,0)","v":0},null,"Overarbejde 100% over 3 timer",null,null,null,null,{"$f":"IF($N438>40,$N438-40,0)","v":0},null,"Overarbejde 100% over 3 timer",null,null,null,null,{"$f":"IF($U438>40,$U438-40,0)","v":0},null,"Overarbejde 100% over 3 timer",null,null,null,null,{"$f":"IF($AB438>40,$AB438-40,0)","v":0},null,"Overarbejde 100% over 3 timer",null,null,null,{"$f":"IF($AH438>40,$AH438-40,0)","v":0},null,{"$f":"D440","v":"Overarbejde 100% over 3 timer"},null,null,null,{"$f":"IF($AH438>40,$AH438-40,0)","v":0},null,null,null,null,null,null,null,null,null,null,null,null,null,null,null,null,null,null,null,null,null,null,null,null,null,null,null,null,null,null,null,null,null,1,2,3,4,5,6,7,8,9,10,11,12,13,14,15,16,17,18,19,20,21,22,23,24,25,26,27,28,29,30,31,32,33,34,35,36,37,38,39,40,41,42,43,44,45,46,47,48,49,50,51,52]
[{"$f":"Medarbejder!A51","v":0},{"$f":"Medarbejder!B51","v":0},{"$f":"Medarbejder!C51","v":"-"},null,null,null,null,null,null,null,null,null,null,null,null,null,null,null,null,null,null,null,null,null,null,null,null,null,null,null,null,null,null,null,null,null,null,null,null,null,null,{"$f":"AO441*Overenskomst!$C$22","v":0},{"$f":"SUM($D441:$AH441)-$BA441-$BF441-$BD441","v":0},{"$f":"IF(Medarbejder!$J51=\"ja\",$AQ441,\"-\")","v":"-"},{"$f":"SUMIF($D$7:$AH$7,\"søndag\",$D441:$AH441)+$AT441","v":0},{"$f":"SUMIFS($D441:$AH441,$D445:$AH445,\"H\")","v":0},{"$f":"G448+N448+U448+AB448+AH448+AN448","v":0},{"$f":"G449+N449+U449+AB449+AH449+AN449","v":0},{"$f":"SUM($D443:$AH443)","v":0},{"$f":"SUM($D444:$AH444)","v":0},{"$f":"COUNTIFS($D442:$AH442,\"F\")","v":0},{"$f":"COUNTIFS($D442:$AH442,\"S\")","v":0},{"$f":"SUMIF($D442:$AH442,\"S\",$D446:$AH446)","v":0},{"$f":"COUNTIFS($D442:$AH442,\"p\")","v":0},{"$f":"COUNTIFS($D442:$AH442,\"BS\")","v":0},{"$f":"SUMIF(D442:AH442,\"bs\",$D441:$AH441)","v":0},{"$f":"COUNTIFS($D442:$AH442,\"FF\")","v":0},{"$f":"SUMIF($D442:$AH442,\"g\",$D441:$AH441)","v":0},{"$f":"Medarbejder!$N48","v":"-"},{"$f":"SUM($BL441:$BU441)","v":4},null,null,null,{"$f":"COUNTIFS($D$6:$AH$6,\"skærtd\")","v":1},{"$f":"COUNTIFS($D$6:$AH$6,\"langfd\")","v":1},{"$f":"COUNTIFS($D$6:$AH$6,\"1påsked\")","v":1},{"$f":"COUNTIFS($D$6:$AH$6,\"2påsked\")","v":1},{"$f":"COUNTIFS($D$6:$AH$6,\"kr.himmelfart\")","v":0},{"$f":"COUNTIFS($D$6:$AH$6,\"1pinse\")","v":0},{"$f":"COUNTIFS($D$6:$AH$6,\"2pinse\")","v":0},{"$f":"COUNTIFS($D$6:$AH$6,\"1juledag\")","v":0},{"$f":"COUNTIFS($D$6:$AH$6,\"2juledag\")","v":0},{"$f":"COUNTIFS($D$6:$AH$6,\"nytårsdag\")","v":0},{"$f":"SUMIFS($D441:$AH441,Lønskema!$D$5:$AH$5,1)","v":0},{"$f":"SUMIFS($D441:$AH441,Lønskema!$D$5:$AH$5,2)","v":0},{"$f":"SUMIFS($D441:$AH441,Lønskema!$D$5:$AH$5,3)","v":0},{"$f":"SUMIFS($D441:$AH441,Lønskema!$D$5:$AH$5,4)","v":0},{"$f":"SUMIFS($D441:$AH441,Lønskema!$D$5:$AH$5,5)","v":0},{"$f":"SUMIFS($D441:$AH441,Lønskema!$D$5:$AH$5,6)","v":0},{"$f":"SUMIFS($D441:$AH441,Lønskema!$D$5:$AH$5,7)","v":0},{"$f":"SUMIFS($D441:$AH441,Lønskema!$D$5:$AH$5,8)","v":0},{"$f":"SUMIFS($D441:$AH441,Lønskema!$D$5:$AH$5,9)","v":0},{"$f":"SUMIFS($D441:$AH441,Lønskema!$D$5:$AH$5,10)","v":0},{"$f":"SUMIFS($D441:$AH441,Lønskema!$D$5:$AH$5,11)","v":0},{"$f":"SUMIFS($D441:$AH441,Lønskema!$D$5:$AH$5,12)","v":0},{"$f":"SUMIFS($D441:$AH441,Lønskema!$D$5:$AH$5,13)","v":0},{"$f":"SUMIFS($D441:$AH441,Lønskema!$D$5:$AH$5,14)","v":0},{"$f":"SUMIFS($D441:$AH441,Lønskema!$D$5:$AH$5,15)","v":0},{"$f":"SUMIFS($D441:$AH441,Lønskema!$D$5:$AH$5,16)","v":0},{"$f":"SUMIFS($D441:$AH441,Lønskema!$D$5:$AH$5,17)","v":0},{"$f":"SUMIFS($D441:$AH441,Lønskema!$D$5:$AH$5,18)","v":0},{"$f":"SUMIFS($D441:$AH441,Lønskema!$D$5:$AH$5,19)","v":0},{"$f":"SUMIFS($D441:$AH441,Lønskema!$D$5:$AH$5,20)","v":0},{"$f":"SUMIFS($D441:$AH441,Lønskema!$D$5:$AH$5,21)","v":0},{"$f":"SUMIFS($D441:$AH441,Lønskema!$D$5:$AH$5,22)","v":0},{"$f":"SUMIFS($D441:$AH441,Lønskema!$D$5:$AH$5,23)","v":0},{"$f":"SUMIFS($D441:$AH441,Lønskema!$D$5:$AH$5,24)","v":0},{"$f":"SUMIFS($D441:$AH441,Lønskema!$D$5:$AH$5,25)","v":0},{"$f":"SUMIFS($D441:$AH441,Lønskema!$D$5:$AH$5,26)","v":0},{"$f":"SUMIFS($D441:$AH441,Lønskema!$D$5:$AH$5,27)","v":0},{"$f":"SUMIFS($D441:$AH441,Lønskema!$D$5:$AH$5,28)","v":0},{"$f":"SUMIFS($D441:$AH441,Lønskema!$D$5:$AH$5,29)","v":0},{"$f":"SUMIFS($D441:$AH441,Lønskema!$D$5:$AH$5,30)","v":0},{"$f":"SUMIFS($D441:$AH441,Lønskema!$D$5:$AH$5,31)","v":0},{"$f":"SUMIFS($D441:$AH441,Lønskema!$D$5:$AH$5,32)","v":0},{"$f":"SUMIFS($D441:$AH441,Lønskema!$D$5:$AH$5,33)","v":0},{"$f":"SUMIFS($D441:$AH441,Lønskema!$D$5:$AH$5,34)","v":0},{"$f":"SUMIFS($D441:$AH441,Lønskema!$D$5:$AH$5,35)","v":0},{"$f":"SUMIFS($D441:$AH441,Lønskema!$D$5:$AH$5,36)","v":0},{"$f":"SUMIFS($D441:$AH441,Lønskema!$D$5:$AH$5,37)","v":0},{"$f":"SUMIFS($D441:$AH441,Lønskema!$D$5:$AH$5,38)","v":0},{"$f":"SUMIFS($D441:$AH441,Lønskema!$D$5:$AH$5,39)","v":0},{"$f":"SUMIFS($D441:$AH441,Lønskema!$D$5:$AH$5,40)","v":0},{"$f":"SUMIFS($D441:$AH441,Lønskema!$D$5:$AH$5,41)","v":0},{"$f":"SUMIFS($D441:$AH441,Lønskema!$D$5:$AH$5,42)","v":0},{"$f":"SUMIFS($D441:$AH441,Lønskema!$D$5:$AH$5,43)","v":0},{"$f":"SUMIFS($D441:$AH441,Lønskema!$D$5:$AH$5,44)","v":0},{"$f":"SUMIFS($D441:$AH441,Lønskema!$D$5:$AH$5,45)","v":0},{"$f":"SUMIFS($D441:$AH441,Lønskema!$D$5:$AH$5,46)","v":0},{"$f":"SUMIFS($D441:$AH441,Lønskema!$D$5:$AH$5,47)","v":0},{"$f":"SUMIFS($D441:$AH441,Lønskema!$D$5:$AH$5,48)","v":0},{"$f":"SUMIFS($D441:$AH441,Lønskema!$D$5:$AH$5,49)","v":0},{"$f":"SUMIFS($D441:$AH441,Lønskema!$D$5:$AH$5,50)","v":0},{"$f":"SUMIFS($D441:$AH441,Lønskema!$D$5:$AH$5,51)","v":0},{"$f":"SUMIFS($D441:$AH441,Lønskema!$D$5:$AH$5,52)","v":0}]
["Ferie - syg  mm. Registreres i denne række"]
[null,"Aften"]
[null,"Nat"]
[null,"Helligdag",null,{"$f":"_xlfn.IFS(D$7=\"søndag\",\"-\",D$6=\"skærtd\",\"h\",D$6=\"langfd\",\"h\",D$6=\"1påsked\",\"h\",D$6=\"2påsked\",\"h\",D$6=\"kr.himmelfart\",\"h\",D$6=\"1pinse\",\"h\",D$6=\"2pinse\",\"h\",D$6=\"1juledag\",\"h\",D$6=\"2juledag\",\"h\",D$6=\"nytårsdag\",\"h\")","v":{"$error":"#N/A"}},{"$f":"_xlfn.IFS(E$7=\"søndag\",\"-\",E$6=\"skærtd\",\"h\",E$6=\"langfd\",\"h\",E$6=\"1påsked\",\"h\",E$6=\"2påsked\",\"h\",E$6=\"kr.himmelfart\",\"h\",E$6=\"1pinse\",\"h\",E$6=\"2pinse\",\"h\",E$6=\"1juledag\",\"h\",E$6=\"2juledag\",\"h\",E$6=\"nytårsdag\",\"h\")","v":{"$error":"#N/A"}},{"$f":"_xlfn.IFS(F$7=\"søndag\",\"-\",F$6=\"skærtd\",\"h\",F$6=\"langfd\",\"h\",F$6=\"1påsked\",\"h\",F$6=\"2påsked\",\"h\",F$6=\"kr.himmelfart\",\"h\",F$6=\"1pinse\",\"h\",F$6=\"2pinse\",\"h\",F$6=\"1juledag\",\"h\",F$6=\"2juledag\",\"h\",F$6=\"nytårsdag\",\"h\")","v":{"$error":"#N/A"}},{"$f":"_xlfn.IFS(G$7=\"søndag\",\"-\",G$6=\"skærtd\",\"h\",G$6=\"langfd\",\"h\",G$6=\"1påsked\",\"h\",G$6=\"2påsked\",\"h\",G$6=\"kr.himmelfart\",\"h\",G$6=\"1pinse\",\"h\",G$6=\"2pinse\",\"h\",G$6=\"1juledag\",\"h\",G$6=\"2juledag\",\"h\",G$6=\"nytårsdag\",\"h\")","v":{"$error":"#N/A"}},{"$f":"_xlfn.IFS(H$7=\"søndag\",\"-\",H$6=\"skærtd\",\"h\",H$6=\"langfd\",\"h\",H$6=\"1påsked\",\"h\",H$6=\"2påsked\",\"h\",H$6=\"kr.himmelfart\",\"h\",H$6=\"1pinse\",\"h\",H$6=\"2pinse\",\"h\",H$6=\"1juledag\",\"h\",H$6=\"2juledag\",\"h\",H$6=\"nytårsdag\",\"h\")","v":{"$error":"#N/A"}},{"$f":"_xlfn.IFS(I$7=\"søndag\",\"-\",I$6=\"skærtd\",\"h\",I$6=\"langfd\",\"h\",I$6=\"1påsked\",\"h\",I$6=\"2påsked\",\"h\",I$6=\"kr.himmelfart\",\"h\",I$6=\"1pinse\",\"h\",I$6=\"2pinse\",\"h\",I$6=\"1juledag\",\"h\",I$6=\"2juledag\",\"h\",I$6=\"nytårsdag\",\"h\")","v":"-"},{"$f":"_xlfn.IFS(J$7=\"søndag\",\"-\",J$6=\"skærtd\",\"h\",J$6=\"langfd\",\"h\",J$6=\"1påsked\",\"h\",J$6=\"2påsked\",\"h\",J$6=\"kr.himmelfart\",\"h\",J$6=\"1pinse\",\"h\",J$6=\"2pinse\",\"h\",J$6=\"1juledag\",\"h\",J$6=\"2juledag\",\"h\",J$6=\"nytårsdag\",\"h\")","v":{"$error":"#N/A"}},{"$f":"_xlfn.IFS(K$7=\"søndag\",\"-\",K$6=\"skærtd\",\"h\",K$6=\"langfd\",\"h\",K$6=\"1påsked\",\"h\",K$6=\"2påsked\",\"h\",K$6=\"kr.himmelfart\",\"h\",K$6=\"1pinse\",\"h\",K$6=\"2pinse\",\"h\",K$6=\"1juledag\",\"h\",K$6=\"2juledag\",\"h\",K$6=\"nytårsdag\",\"h\")","v":{"$error":"#N/A"}},{"$f":"_xlfn.IFS(L$7=\"søndag\",\"-\",L$6=\"skærtd\",\"h\",L$6=\"langfd\",\"h\",L$6=\"1påsked\",\"h\",L$6=\"2påsked\",\"h\",L$6=\"kr.himmelfart\",\"h\",L$6=\"1pinse\",\"h\",L$6=\"2pinse\",\"h\",L$6=\"1juledag\",\"h\",L$6=\"2juledag\",\"h\",L$6=\"nytårsdag\",\"h\")","v":{"$error":"#N/A"}},{"$f":"_xlfn.IFS(M$7=\"søndag\",\"-\",M$6=\"skærtd\",\"h\",M$6=\"langfd\",\"h\",M$6=\"1påsked\",\"h\",M$6=\"2påsked\",\"h\",M$6=\"kr.himmelfart\",\"h\",M$6=\"1pinse\",\"h\",M$6=\"2pinse\",\"h\",M$6=\"1juledag\",\"h\",M$6=\"2juledag\",\"h\",M$6=\"nytårsdag\",\"h\")","v":{"$error":"#N/A"}},{"$f":"_xlfn.IFS(N$7=\"søndag\",\"-\",N$6=\"skærtd\",\"h\",N$6=\"langfd\",\"h\",N$6=\"1påsked\",\"h\",N$6=\"2påsked\",\"h\",N$6=\"kr.himmelfart\",\"h\",N$6=\"1pinse\",\"h\",N$6=\"2pinse\",\"h\",N$6=\"1juledag\",\"h\",N$6=\"2juledag\",\"h\",N$6=\"nytårsdag\",\"h\")","v":{"$error":"#N/A"}},{"$f":"_xlfn.IFS(O$7=\"søndag\",\"-\",O$6=\"skærtd\",\"h\",O$6=\"langfd\",\"h\",O$6=\"1påsked\",\"h\",O$6=\"2påsked\",\"h\",O$6=\"kr.himmelfart\",\"h\",O$6=\"1pinse\",\"h\",O$6=\"2pinse\",\"h\",O$6=\"1juledag\",\"h\",O$6=\"2juledag\",\"h\",O$6=\"nytårsdag\",\"h\")","v":{"$error":"#N/A"}},{"$f":"_xlfn.IFS(P$7=\"søndag\",\"-\",P$6=\"skærtd\",\"h\",P$6=\"langfd\",\"h\",P$6=\"1påsked\",\"h\",P$6=\"2påsked\",\"h\",P$6=\"kr.himmelfart\",\"h\",P$6=\"1pinse\",\"h\",P$6=\"2pinse\",\"h\",P$6=\"1juledag\",\"h\",P$6=\"2juledag\",\"h\",P$6=\"nytårsdag\",\"h\")","v":"-"},{"$f":"_xlfn.IFS(Q$7=\"søndag\",\"-\",Q$6=\"skærtd\",\"h\",Q$6=\"langfd\",\"h\",Q$6=\"1påsked\",\"h\",Q$6=\"2påsked\",\"h\",Q$6=\"kr.himmelfart\",\"h\",Q$6=\"1pinse\",\"h\",Q$6=\"2pinse\",\"h\",Q$6=\"1juledag\",\"h\",Q$6=\"2juledag\",\"h\",Q$6=\"nytårsdag\",\"h\")","v":{"$error":"#N/A"}},{"$f":"_xlfn.IFS(R$7=\"søndag\",\"-\",R$6=\"skærtd\",\"h\",R$6=\"langfd\",\"h\",R$6=\"1påsked\",\"h\",R$6=\"2påsked\",\"h\",R$6=\"kr.himmelfart\",\"h\",R$6=\"1pinse\",\"h\",R$6=\"2pinse\",\"h\",R$6=\"1juledag\",\"h\",R$6=\"2juledag\",\"h\",R$6=\"nytårsdag\",\"h\")","v":{"$error":"#N/A"}},{"$f":"_xlfn.IFS(S$7=\"søndag\",\"-\",S$6=\"skærtd\",\"h\",S$6=\"langfd\",\"h\",S$6=\"1påsked\",\"h\",S$6=\"2påsked\",\"h\",S$6=\"kr.himmelfart\",\"h\",S$6=\"1pinse\",\"h\",S$6=\"2pinse\",\"h\",S$6=\"1juledag\",\"h\",S$6=\"2juledag\",\"h\",S$6=\"nytårsdag\",\"h\")","v":{"$error":"#N/A"}},{"$f":"_xlfn.IFS(T$7=\"søndag\",\"-\",T$6=\"skærtd\",\"h\",T$6=\"langfd\",\"h\",T$6=\"1påsked\",\"h\",T$6=\"2påsked\",\"h\",T$6=\"kr.himmelfart\",\"h\",T$6=\"1pinse\",\"h\",T$6=\"2pinse\",\"h\",T$6=\"1juledag\",\"h\",T$6=\"2juledag\",\"h\",T$6=\"nytårsdag\",\"h\")","v":"h"},{"$f":"_xlfn.IFS(U$7=\"søndag\",\"-\",U$6=\"skærtd\",\"h\",U$6=\"langfd\",\"h\",U$6=\"1påsked\",\"h\",U$6=\"2påsked\",\"h\",U$6=\"kr.himmelfart\",\"h\",U$6=\"1pinse\",\"h\",U$6=\"2pinse\",\"h\",U$6=\"1juledag\",\"h\",U$6=\"2juledag\",\"h\",U$6=\"nytårsdag\",\"h\")","v":"h"},{"$f":"_xlfn.IFS(V$7=\"søndag\",\"-\",V$6=\"skærtd\",\"h\",V$6=\"langfd\",\"h\",V$6=\"1påsked\",\"h\",V$6=\"2påsked\",\"h\",V$6=\"kr.himmelfart\",\"h\",V$6=\"1pinse\",\"h\",V$6=\"2pinse\",\"h\",V$6=\"1juledag\",\"h\",V$6=\"2juledag\",\"h\",V$6=\"nytårsdag\",\"h\")","v":{"$error":"#N/A"}},{"$f":"_xlfn.IFS(W$7=\"søndag\",\"-\",W$6=\"skærtd\",\"h\",W$6=\"langfd\",\"h\",W$6=\"1påsked\",\"h\",W$6=\"2påsked\",\"h\",W$6=\"kr.himmelfart\",\"h\",W$6=\"1pinse\",\"h\",W$6=\"2pinse\",\"h\",W$6=\"1juledag\",\"h\",W$6=\"2juledag\",\"h\",W$6=\"nytårsdag\",\"h\")","v":"-"},{"$f":"_xlfn.IFS(X$7=\"søndag\",\"-\",X$6=\"skærtd\",\"h\",X$6=\"langfd\",\"h\",X$6=\"1påsked\",\"h\",X$6=\"2påsked\",\"h\",X$6=\"kr.himmelfart\",\"h\",X$6=\"1pinse\",\"h\",X$6=\"2pinse\",\"h\",X$6=\"1juledag\",\"h\",X$6=\"2juledag\",\"h\",X$6=\"nytårsdag\",\"h\")","v":"h"},{"$f":"_xlfn.IFS(Y$7=\"søndag\",\"-\",Y$6=\"skærtd\",\"h\",Y$6=\"langfd\",\"h\",Y$6=\"1påsked\",\"h\",Y$6=\"2påsked\",\"h\",Y$6=\"kr.himmelfart\",\"h\",Y$6=\"1pinse\",\"h\",Y$6=\"2pinse\",\"h\",Y$6=\"1juledag\",\"h\",Y$6=\"2juledag\",\"h\",Y$6=\"nytårsdag\",\"h\")","v":{"$error":"#N/A"}},{"$f":"_xlfn.IFS(Z$7=\"søndag\",\"-\",Z$6=\"skærtd\",\"h\",Z$6=\"langfd\",\"h\",Z$6=\"1påsked\",\"h\",Z$6=\"2påsked\",\"h\",Z$6=\"kr.himmelfart\",\"h\",Z$6=\"1pinse\",\"h\",Z$6=\"2pinse\",\"h\",Z$6=\"1juledag\",\"h\",Z$6=\"2juledag\",\"h\",Z$6=\"nytårsdag\",\"h\")","v":{"$error":"#N/A"}},{"$f":"_xlfn.IFS(AA$7=\"søndag\",\"-\",AA$6=\"skærtd\",\"h\",AA$6=\"langfd\",\"h\",AA$6=\"1påsked\",\"h\",AA$6=\"2påsked\",\"h\",AA$6=\"kr.himmelfart\",\"h\",AA$6=\"1pinse\",\"h\",AA$6=\"2pinse\",\"h\",AA$6=\"1juledag\",\"h\",AA$6=\"2juledag\",\"h\",AA$6=\"nytårsdag\",\"h\")","v":{"$error":"#N/A"}},{"$f":"_xlfn.IFS(AB$7=\"søndag\",\"-\",AB$6=\"skærtd\",\"h\",AB$6=\"langfd\",\"h\",AB$6=\"1påsked\",\"h\",AB$6=\"2påsked\",\"h\",AB$6=\"kr.himmelfart\",\"h\",AB$6=\"1pinse\",\"h\",AB$6=\"2pinse\",\"h\",AB$6=\"1juledag\",\"h\",AB$6=\"2juledag\",\"h\",AB$6=\"nytårsdag\",\"h\")","v":{"$error":"#N/A"}},{"$f":"_xlfn.IFS(AC$7=\"søndag\",\"-\",AC$6=\"skærtd\",\"h\",AC$6=\"langfd\",\"h\",AC$6=\"1påsked\",\"h\",AC$6=\"2påsked\",\"h\",AC$6=\"kr.himmelfart\",\"h\",AC$6=\"1pinse\",\"h\",AC$6=\"2pinse\",\"h\",AC$6=\"1juledag\",\"h\",AC$6=\"2juledag\",\"h\",AC$6=\"nytårsdag\",\"h\")","v":{"$error":"#N/A"}},{"$f":"_xlfn.IFS(AD$7=\"søndag\",\"-\",AD$6=\"skærtd\",\"h\",AD$6=\"langfd\",\"h\",AD$6=\"1påsked\",\"h\",AD$6=\"2påsked\",\"h\",AD$6=\"kr.himmelfart\",\"h\",AD$6=\"1pinse\",\"h\",AD$6=\"2pinse\",\"h\",AD$6=\"1juledag\",\"h\",AD$6=\"2juledag\",\"h\",AD$6=\"nytårsdag\",\"h\")","v":"-"},{"$f":"_xlfn.IFS(AE$7=\"søndag\",\"-\",AE$6=\"skærtd\",\"h\",AE$6=\"langfd\",\"h\",AE$6=\"1påsked\",\"h\",AE$6=\"2påsked\",\"h\",AE$6=\"kr.himmelfart\",\"h\",AE$6=\"1pinse\",\"h\",AE$6=\"2pinse\",\"h\",AE$6=\"1juledag\",\"h\",AE$6=\"2juledag\",\"h\",AE$6=\"nytårsdag\",\"h\")","v":{"$error":"#N/A"}},{"$f":"_xlfn.IFS(AF$7=\"søndag\",\"-\",AF$6=\"skærtd\",\"h\",AF$6=\"langfd\",\"h\",AF$6=\"1påsked\",\"h\",AF$6=\"2påsked\",\"h\",AF$6=\"kr.himmelfart\",\"h\",AF$6=\"1pinse\",\"h\",AF$6=\"2pinse\",\"h\",AF$6=\"1juledag\",\"h\",AF$6=\"2juledag\",\"h\",AF$6=\"nytårsdag\",\"h\")","v":{"$error":"#N/A"}},{"$f":"_xlfn.IFS(AG$7=\"søndag\",\"-\",AG$6=\"skærtd\",\"h\",AG$6=\"langfd\",\"h\",AG$6=\"1påsked\",\"h\",AG$6=\"2påsked\",\"h\",AG$6=\"kr.himmelfart\",\"h\",AG$6=\"1pinse\",\"h\",AG$6=\"2pinse\",\"h\",AG$6=\"1juledag\",\"h\",AG$6=\"2juledag\",\"h\",AG$6=\"nytårsdag\",\"h\")","v":{"$error":"#N/A"}},{"$f":"_xlfn.IFS(AH$7=\"søndag\",\"-\",AH$6=\"skærtd\",\"h\",AH$6=\"langfd\",\"h\",AH$6=\"1påsked\",\"h\",AH$6=\"2påsked\",\"h\",AH$6=\"kr.himmelfart\",\"h\",AH$6=\"1pinse\",\"h\",AH$6=\"2pinse\",\"h\",AH$6=\"1juledag\",\"h\",AH$6=\"2juledag\",\"h\",AH$6=\"nytårsdag\",\"h\")","v":{"$error":"#N/A"}}]
[null,"Sygedage",null,{"$f":"IF(D442=\"s\",D441,\"-\")","v":"-"},{"$f":"IF(E442=\"s\",E441,\"-\")","v":"-"},"-","-","-","-","-","-","-","-","-","-","-","-","-","-","-","-","-","-","-","-","-","-","-","-","-","-","-","-","-"]
[null,null,{"$f":"$C$15","v":14},"Timer uge",null,null,{"$f":"SUMIF($D$5:$AH$5,C447,D441:AH441)","v":0},{"$f":"$H$15","v":15},{"$f":"D447","v":"Timer uge"},null,null,null,null,{"$f":"SUMIF($D$5:$AH$5,H447,D441:AH441)","v":0},{"$f":"$O$15","v":16},{"$f":"D447","v":"Timer uge"},null,null,null,null,{"$f":"_xlfn.IFS($O447=$BV440,$BV441,$O447=$BW440,Lønskema!$BW441,$O447=$BX440,$BX441,$O447=$BY440,$BY441,$O447=$BZ440,$BZ441,$O447=$CA440,$CA441,$O447=$CB440,$CB441,$O447=$CC440,$CC441,$O447=$CD440,$CD441,$O447=$CE440,$CE441,$O447=$CF440,$CF441,$O447=$CG440,$CF441,$O447=$CG440,$CG441,$O447=$CH440,$CH441,$O447=$CI440,$CI441,$O447=$CJ440,$CJ441,$O447=$CK440,$CK441,$O447=$CL440,$CL441,$O447=$CM440,$CM441,$O447=$CN440,$CN441,$O447=$CO440,$CO441,$O447=$CP440,$CP441,$O447=$CQ440,$CQ441,$O447=$CR440,$CR441,$O447=$CS440,$CS441,$O447=$CT440,$CT441,$O447=$CU440,$CU441,$O447=$CV440,$CV441,$O447=$CW440,$CW441,$O447=$CX440,$CX441,$O447=$CY440,$CY441,$O447=$CZ440,$CZ441,$O447=$DA440,$DA441,$O447=$DB440,$DB441,$O447=$DC440,$DC441,$O447=$DD440,$DD441,$O447=$DE440,$DE441,$O447=$DF440,$DF441,$O447=$DG440,$DG441,$O447=$DH440,$DH441,$O447=$DI440,$DI441,$O447=$DJ440,$DJ441,$O447=$DK440,$DK441,$O447=$DL440,$DL441,$O447=$DM440,$DM441,$O447=$DN440,$DN441,$O447=$DO440,$DO441,$O447=$DP440,$DP441,$O447=$DQ440,$DQ441,$O447=$DR440,$DR441,$O447=$DS440,$DS441,$O447=$DT440,$DT441,$O447=$DU440,$DU441)","v":0},{"$f":"$V$15","v":17},{"$f":"D447","v":"Timer uge"},null,null,null,null,{"$f":"SUMIF($D$5:$AH$5,V447,D441:AH441)","v":0},{"$f":"$AC$15","v":18},{"$f":"D447","v":"Timer uge"},null,null,null,{"$f":"SUMIF($D$5:$AH$5,AC447,D441:AH441)","v":0},{"$f":"$AI$15","v":19},{"$f":"D447","v":"Timer uge"},null,null,null,{"$f":"SUMIF($D$5:$AH$5,AI447,D441:AH441)","v":0}]
[null,null,null,"Overarbejde 50% 1-3 timer",null,null,{"$f":"IF($G447>37,$G447-37-$G449,0)","v":0},null,{"$f":"D448","v":"Overarbejde 50% 1-3 timer"},null,null,null,null,{"$f":"IF($N447>37,$N447-37-$N449,0)","v":0},null,{"$f":"D448","v":"Overarbejde 50% 1-3 timer"},null,null,null,null,{"$f":"IF($U447>37,$U447-37-$U449,0)","v":0},null,{"$f":"D448","v":"Overarbejde 50% 1-3 timer"},null,null,null,null,{"$f":"IF($AB447>37,$AB447-37-$AB449,0)","v":0},null,{"$f":"D448","v":"Overarbejde 50% 1-3 timer"},null,null,null,{"$f":"IF($AH447>37,$AH447-37-$AH449,0)","v":0},null,{"$f":"D448","v":"Overarbejde 50% 1-3 timer"},null,null,null,{"$f":"IF($AH447>37,$AH447-37-$AH449,0)","v":0}]
[null,null,null,"Overarbejde 100% over 3 timer",null,null,{"$f":"IF($G447>40,$G447-40,0)","v":0},null,"Overarbejde 100% over 3 timer",null,null,null,null,{"$f":"IF($N447>40,$N447-40,0)","v":0},null,"Overarbejde 100% over 3 timer",null,null,null,null,{"$f":"IF($U447>40,$U447-40,0)","v":0},null,"Overarbejde 100% over 3 timer",null,null,null,null,{"$f":"IF($AB447>40,$AB447-40,0)","v":0},null,"Overarbejde 100% over 3 timer",null,null,null,{"$f":"IF($AH447>40,$AH447-40,0)","v":0},null,{"$f":"D449","v":"Overarbejde 100% over 3 timer"},null,null,null,{"$f":"IF($AH447>40,$AH447-40,0)","v":0},null,null,null,null,null,null,null,null,null,null,null,null,null,null,null,null,null,null,null,null,null,null,null,null,null,null,null,null,null,null,null,null,null,1,2,3,4,5,6,7,8,9,10,11,12,13,14,15,16,17,18,19,20,21,22,23,24,25,26,27,28,29,30,31,32,33,34,35,36,37,38,39,40,41,42,43,44,45,46,47,48,49,50,51,52]
[{"$f":"Medarbejder!A52","v":0},{"$f":"Medarbejder!B52","v":0},{"$f":"Medarbejder!C58","v":"-"},null,null,null,null,null,null,null,null,null,null,null,null,null,null,null,null,null,null,null,null,null,null,null,null,null,null,null,null,null,null,null,null,null,null,null,null,null,null,{"$f":"AO450*Overenskomst!$C$22","v":0},{"$f":"SUM($D450:$AH450)-$BA450-$BF450-$BD450","v":0},{"$f":"IF(Medarbejder!$J52=\"ja\",$AQ450,\"-\")","v":"-"},{"$f":"SUMIF($D$7:$AH$7,\"søndag\",$D450:$AH450)+$AT450","v":0},{"$f":"SUMIFS($D450:$AH450,$D454:$AH454,\"H\")","v":0},{"$f":"G457+N457+U457+AB457+AH457+AN457","v":0},{"$f":"G458+N458+U458+AB458+AH458+AN458","v":0},{"$f":"SUM($D452:$AH452)","v":0},{"$f":"SUM($D453:$AH453)","v":0},{"$f":"COUNTIFS($D451:$AH451,\"F\")","v":0},{"$f":"COUNTIFS($D451:$AH451,\"S\")","v":0},{"$f":"SUMIF($D451:$AH451,\"S\",$D455:$AH455)","v":0},{"$f":"COUNTIFS($D451:$AH451,\"p\")","v":0},{"$f":"COUNTIFS($D451:$AH451,\"BS\")","v":0},{"$f":"SUMIF(D451:AH451,\"bs\",$D450:$AH450)","v":0},{"$f":"COUNTIFS($D451:$AH451,\"FF\")","v":0},{"$f":"SUMIF($D451:$AH451,\"g\",$D450:$AH450)","v":0},{"$f":"Medarbejder!$N49","v":"-"},{"$f":"SUM($BL450:$BU450)","v":4},null,null,null,{"$f":"COUNTIFS($D$6:$AH$6,\"skærtd\")","v":1},{"$f":"COUNTIFS($D$6:$AH$6,\"langfd\")","v":1},{"$f":"COUNTIFS($D$6:$AH$6,\"1påsked\")","v":1},{"$f":"COUNTIFS($D$6:$AH$6,\"2påsked\")","v":1},{"$f":"COUNTIFS($D$6:$AH$6,\"kr.himmelfart\")","v":0},{"$f":"COUNTIFS($D$6:$AH$6,\"1pinse\")","v":0},{"$f":"COUNTIFS($D$6:$AH$6,\"2pinse\")","v":0},{"$f":"COUNTIFS($D$6:$AH$6,\"1juledag\")","v":0},{"$f":"COUNTIFS($D$6:$AH$6,\"2juledag\")","v":0},{"$f":"COUNTIFS($D$6:$AH$6,\"nytårsdag\")","v":0},{"$f":"SUMIFS($D450:$AH450,Lønskema!$D$5:$AH$5,1)","v":0},{"$f":"SUMIFS($D450:$AH450,Lønskema!$D$5:$AH$5,2)","v":0},{"$f":"SUMIFS($D450:$AH450,Lønskema!$D$5:$AH$5,3)","v":0},{"$f":"SUMIFS($D450:$AH450,Lønskema!$D$5:$AH$5,4)","v":0},{"$f":"SUMIFS($D450:$AH450,Lønskema!$D$5:$AH$5,5)","v":0},{"$f":"SUMIFS($D450:$AH450,Lønskema!$D$5:$AH$5,6)","v":0},{"$f":"SUMIFS($D450:$AH450,Lønskema!$D$5:$AH$5,7)","v":0},{"$f":"SUMIFS($D450:$AH450,Lønskema!$D$5:$AH$5,8)","v":0},{"$f":"SUMIFS($D450:$AH450,Lønskema!$D$5:$AH$5,9)","v":0},{"$f":"SUMIFS($D450:$AH450,Lønskema!$D$5:$AH$5,10)","v":0},{"$f":"SUMIFS($D450:$AH450,Lønskema!$D$5:$AH$5,11)","v":0},{"$f":"SUMIFS($D450:$AH450,Lønskema!$D$5:$AH$5,12)","v":0},{"$f":"SUMIFS($D450:$AH450,Lønskema!$D$5:$AH$5,13)","v":0},{"$f":"SUMIFS($D450:$AH450,Lønskema!$D$5:$AH$5,14)","v":0},{"$f":"SUMIFS($D450:$AH450,Lønskema!$D$5:$AH$5,15)","v":0},{"$f":"SUMIFS($D450:$AH450,Lønskema!$D$5:$AH$5,16)","v":0},{"$f":"SUMIFS($D450:$AH450,Lønskema!$D$5:$AH$5,17)","v":0},{"$f":"SUMIFS($D450:$AH450,Lønskema!$D$5:$AH$5,18)","v":0},{"$f":"SUMIFS($D450:$AH450,Lønskema!$D$5:$AH$5,19)","v":0},{"$f":"SUMIFS($D450:$AH450,Lønskema!$D$5:$AH$5,20)","v":0},{"$f":"SUMIFS($D450:$AH450,Lønskema!$D$5:$AH$5,21)","v":0},{"$f":"SUMIFS($D450:$AH450,Lønskema!$D$5:$AH$5,22)","v":0},{"$f":"SUMIFS($D450:$AH450,Lønskema!$D$5:$AH$5,23)","v":0},{"$f":"SUMIFS($D450:$AH450,Lønskema!$D$5:$AH$5,24)","v":0},{"$f":"SUMIFS($D450:$AH450,Lønskema!$D$5:$AH$5,25)","v":0},{"$f":"SUMIFS($D450:$AH450,Lønskema!$D$5:$AH$5,26)","v":0},{"$f":"SUMIFS($D450:$AH450,Lønskema!$D$5:$AH$5,27)","v":0},{"$f":"SUMIFS($D450:$AH450,Lønskema!$D$5:$AH$5,28)","v":0},{"$f":"SUMIFS($D450:$AH450,Lønskema!$D$5:$AH$5,29)","v":0},{"$f":"SUMIFS($D450:$AH450,Lønskema!$D$5:$AH$5,30)","v":0},{"$f":"SUMIFS($D450:$AH450,Lønskema!$D$5:$AH$5,31)","v":0},{"$f":"SUMIFS($D450:$AH450,Lønskema!$D$5:$AH$5,32)","v":0},{"$f":"SUMIFS($D450:$AH450,Lønskema!$D$5:$AH$5,33)","v":0},{"$f":"SUMIFS($D450:$AH450,Lønskema!$D$5:$AH$5,34)","v":0},{"$f":"SUMIFS($D450:$AH450,Lønskema!$D$5:$AH$5,35)","v":0},{"$f":"SUMIFS($D450:$AH450,Lønskema!$D$5:$AH$5,36)","v":0},{"$f":"SUMIFS($D450:$AH450,Lønskema!$D$5:$AH$5,37)","v":0},{"$f":"SUMIFS($D450:$AH450,Lønskema!$D$5:$AH$5,38)","v":0},{"$f":"SUMIFS($D450:$AH450,Lønskema!$D$5:$AH$5,39)","v":0},{"$f":"SUMIFS($D450:$AH450,Lønskema!$D$5:$AH$5,40)","v":0},{"$f":"SUMIFS($D450:$AH450,Lønskema!$D$5:$AH$5,41)","v":0},{"$f":"SUMIFS($D450:$AH450,Lønskema!$D$5:$AH$5,42)","v":0},{"$f":"SUMIFS($D450:$AH450,Lønskema!$D$5:$AH$5,43)","v":0},{"$f":"SUMIFS($D450:$AH450,Lønskema!$D$5:$AH$5,44)","v":0},{"$f":"SUMIFS($D450:$AH450,Lønskema!$D$5:$AH$5,45)","v":0},{"$f":"SUMIFS($D450:$AH450,Lønskema!$D$5:$AH$5,46)","v":0},{"$f":"SUMIFS($D450:$AH450,Lønskema!$D$5:$AH$5,47)","v":0},{"$f":"SUMIFS($D450:$AH450,Lønskema!$D$5:$AH$5,48)","v":0},{"$f":"SUMIFS($D450:$AH450,Lønskema!$D$5:$AH$5,49)","v":0},{"$f":"SUMIFS($D450:$AH450,Lønskema!$D$5:$AH$5,50)","v":0},{"$f":"SUMIFS($D450:$AH450,Lønskema!$D$5:$AH$5,51)","v":0},{"$f":"SUMIFS($D450:$AH450,Lønskema!$D$5:$AH$5,52)","v":0}]
["Ferie - syg  mm. Registreres i denne række"]
[null,"Aften"]
[null,"Nat"]
[null,"Helligdag",null,{"$f":"_xlfn.IFS(D$7=\"søndag\",\"-\",D$6=\"skærtd\",\"h\",D$6=\"langfd\",\"h\",D$6=\"1påsked\",\"h\",D$6=\"2påsked\",\"h\",D$6=\"kr.himmelfart\",\"h\",D$6=\"1pinse\",\"h\",D$6=\"2pinse\",\"h\",D$6=\"1juledag\",\"h\",D$6=\"2juledag\",\"h\",D$6=\"nytårsdag\",\"h\")","v":{"$error":"#N/A"}},{"$f":"_xlfn.IFS(E$7=\"søndag\",\"-\",E$6=\"skærtd\",\"h\",E$6=\"langfd\",\"h\",E$6=\"1påsked\",\"h\",E$6=\"2påsked\",\"h\",E$6=\"kr.himmelfart\",\"h\",E$6=\"1pinse\",\"h\",E$6=\"2pinse\",\"h\",E$6=\"1juledag\",\"h\",E$6=\"2juledag\",\"h\",E$6=\"nytårsdag\",\"h\")","v":{"$error":"#N/A"}},{"$f":"_xlfn.IFS(F$7=\"søndag\",\"-\",F$6=\"skærtd\",\"h\",F$6=\"langfd\",\"h\",F$6=\"1påsked\",\"h\",F$6=\"2påsked\",\"h\",F$6=\"kr.himmelfart\",\"h\",F$6=\"1pinse\",\"h\",F$6=\"2pinse\",\"h\",F$6=\"1juledag\",\"h\",F$6=\"2juledag\",\"h\",F$6=\"nytårsdag\",\"h\")","v":{"$error":"#N/A"}},{"$f":"_xlfn.IFS(G$7=\"søndag\",\"-\",G$6=\"skærtd\",\"h\",G$6=\"langfd\",\"h\",G$6=\"1påsked\",\"h\",G$6=\"2påsked\",\"h\",G$6=\"kr.himmelfart\",\"h\",G$6=\"1pinse\",\"h\",G$6=\"2pinse\",\"h\",G$6=\"1juledag\",\"h\",G$6=\"2juledag\",\"h\",G$6=\"nytårsdag\",\"h\")","v":{"$error":"#N/A"}},{"$f":"_xlfn.IFS(H$7=\"søndag\",\"-\",H$6=\"skærtd\",\"h\",H$6=\"langfd\",\"h\",H$6=\"1påsked\",\"h\",H$6=\"2påsked\",\"h\",H$6=\"kr.himmelfart\",\"h\",H$6=\"1pinse\",\"h\",H$6=\"2pinse\",\"h\",H$6=\"1juledag\",\"h\",H$6=\"2juledag\",\"h\",H$6=\"nytårsdag\",\"h\")","v":{"$error":"#N/A"}},{"$f":"_xlfn.IFS(I$7=\"søndag\",\"-\",I$6=\"skærtd\",\"h\",I$6=\"langfd\",\"h\",I$6=\"1påsked\",\"h\",I$6=\"2påsked\",\"h\",I$6=\"kr.himmelfart\",\"h\",I$6=\"1pinse\",\"h\",I$6=\"2pinse\",\"h\",I$6=\"1juledag\",\"h\",I$6=\"2juledag\",\"h\",I$6=\"nytårsdag\",\"h\")","v":"-"},{"$f":"_xlfn.IFS(J$7=\"søndag\",\"-\",J$6=\"skærtd\",\"h\",J$6=\"langfd\",\"h\",J$6=\"1påsked\",\"h\",J$6=\"2påsked\",\"h\",J$6=\"kr.himmelfart\",\"h\",J$6=\"1pinse\",\"h\",J$6=\"2pinse\",\"h\",J$6=\"1juledag\",\"h\",J$6=\"2juledag\",\"h\",J$6=\"nytårsdag\",\"h\")","v":{"$error":"#N/A"}},{"$f":"_xlfn.IFS(K$7=\"søndag\",\"-\",K$6=\"skærtd\",\"h\",K$6=\"langfd\",\"h\",K$6=\"1påsked\",\"h\",K$6=\"2påsked\",\"h\",K$6=\"kr.himmelfart\",\"h\",K$6=\"1pinse\",\"h\",K$6=\"2pinse\",\"h\",K$6=\"1juledag\",\"h\",K$6=\"2juledag\",\"h\",K$6=\"nytårsdag\",\"h\")","v":{"$error":"#N/A"}},{"$f":"_xlfn.IFS(L$7=\"søndag\",\"-\",L$6=\"skærtd\",\"h\",L$6=\"langfd\",\"h\",L$6=\"1påsked\",\"h\",L$6=\"2påsked\",\"h\",L$6=\"kr.himmelfart\",\"h\",L$6=\"1pinse\",\"h\",L$6=\"2pinse\",\"h\",L$6=\"1juledag\",\"h\",L$6=\"2juledag\",\"h\",L$6=\"nytårsdag\",\"h\")","v":{"$error":"#N/A"}},{"$f":"_xlfn.IFS(M$7=\"søndag\",\"-\",M$6=\"skærtd\",\"h\",M$6=\"langfd\",\"h\",M$6=\"1påsked\",\"h\",M$6=\"2påsked\",\"h\",M$6=\"kr.himmelfart\",\"h\",M$6=\"1pinse\",\"h\",M$6=\"2pinse\",\"h\",M$6=\"1juledag\",\"h\",M$6=\"2juledag\",\"h\",M$6=\"nytårsdag\",\"h\")","v":{"$error":"#N/A"}},{"$f":"_xlfn.IFS(N$7=\"søndag\",\"-\",N$6=\"skærtd\",\"h\",N$6=\"langfd\",\"h\",N$6=\"1påsked\",\"h\",N$6=\"2påsked\",\"h\",N$6=\"kr.himmelfart\",\"h\",N$6=\"1pinse\",\"h\",N$6=\"2pinse\",\"h\",N$6=\"1juledag\",\"h\",N$6=\"2juledag\",\"h\",N$6=\"nytårsdag\",\"h\")","v":{"$error":"#N/A"}},{"$f":"_xlfn.IFS(O$7=\"søndag\",\"-\",O$6=\"skærtd\",\"h\",O$6=\"langfd\",\"h\",O$6=\"1påsked\",\"h\",O$6=\"2påsked\",\"h\",O$6=\"kr.himmelfart\",\"h\",O$6=\"1pinse\",\"h\",O$6=\"2pinse\",\"h\",O$6=\"1juledag\",\"h\",O$6=\"2juledag\",\"h\",O$6=\"nytårsdag\",\"h\")","v":{"$error":"#N/A"}},{"$f":"_xlfn.IFS(P$7=\"søndag\",\"-\",P$6=\"skærtd\",\"h\",P$6=\"langfd\",\"h\",P$6=\"1påsked\",\"h\",P$6=\"2påsked\",\"h\",P$6=\"kr.himmelfart\",\"h\",P$6=\"1pinse\",\"h\",P$6=\"2pinse\",\"h\",P$6=\"1juledag\",\"h\",P$6=\"2juledag\",\"h\",P$6=\"nytårsdag\",\"h\")","v":"-"},{"$f":"_xlfn.IFS(Q$7=\"søndag\",\"-\",Q$6=\"skærtd\",\"h\",Q$6=\"langfd\",\"h\",Q$6=\"1påsked\",\"h\",Q$6=\"2påsked\",\"h\",Q$6=\"kr.himmelfart\",\"h\",Q$6=\"1pinse\",\"h\",Q$6=\"2pinse\",\"h\",Q$6=\"1juledag\",\"h\",Q$6=\"2juledag\",\"h\",Q$6=\"nytårsdag\",\"h\")","v":{"$error":"#N/A"}},{"$f":"_xlfn.IFS(R$7=\"søndag\",\"-\",R$6=\"skærtd\",\"h\",R$6=\"langfd\",\"h\",R$6=\"1påsked\",\"h\",R$6=\"2påsked\",\"h\",R$6=\"kr.himmelfart\",\"h\",R$6=\"1pinse\",\"h\",R$6=\"2pinse\",\"h\",R$6=\"1juledag\",\"h\",R$6=\"2juledag\",\"h\",R$6=\"nytårsdag\",\"h\")","v":{"$error":"#N/A"}},{"$f":"_xlfn.IFS(S$7=\"søndag\",\"-\",S$6=\"skærtd\",\"h\",S$6=\"langfd\",\"h\",S$6=\"1påsked\",\"h\",S$6=\"2påsked\",\"h\",S$6=\"kr.himmelfart\",\"h\",S$6=\"1pinse\",\"h\",S$6=\"2pinse\",\"h\",S$6=\"1juledag\",\"h\",S$6=\"2juledag\",\"h\",S$6=\"nytårsdag\",\"h\")","v":{"$error":"#N/A"}},{"$f":"_xlfn.IFS(T$7=\"søndag\",\"-\",T$6=\"skærtd\",\"h\",T$6=\"langfd\",\"h\",T$6=\"1påsked\",\"h\",T$6=\"2påsked\",\"h\",T$6=\"kr.himmelfart\",\"h\",T$6=\"1pinse\",\"h\",T$6=\"2pinse\",\"h\",T$6=\"1juledag\",\"h\",T$6=\"2juledag\",\"h\",T$6=\"nytårsdag\",\"h\")","v":"h"},{"$f":"_xlfn.IFS(U$7=\"søndag\",\"-\",U$6=\"skærtd\",\"h\",U$6=\"langfd\",\"h\",U$6=\"1påsked\",\"h\",U$6=\"2påsked\",\"h\",U$6=\"kr.himmelfart\",\"h\",U$6=\"1pinse\",\"h\",U$6=\"2pinse\",\"h\",U$6=\"1juledag\",\"h\",U$6=\"2juledag\",\"h\",U$6=\"nytårsdag\",\"h\")","v":"h"},{"$f":"_xlfn.IFS(V$7=\"søndag\",\"-\",V$6=\"skærtd\",\"h\",V$6=\"langfd\",\"h\",V$6=\"1påsked\",\"h\",V$6=\"2påsked\",\"h\",V$6=\"kr.himmelfart\",\"h\",V$6=\"1pinse\",\"h\",V$6=\"2pinse\",\"h\",V$6=\"1juledag\",\"h\",V$6=\"2juledag\",\"h\",V$6=\"nytårsdag\",\"h\")","v":{"$error":"#N/A"}},{"$f":"_xlfn.IFS(W$7=\"søndag\",\"-\",W$6=\"skærtd\",\"h\",W$6=\"langfd\",\"h\",W$6=\"1påsked\",\"h\",W$6=\"2påsked\",\"h\",W$6=\"kr.himmelfart\",\"h\",W$6=\"1pinse\",\"h\",W$6=\"2pinse\",\"h\",W$6=\"1juledag\",\"h\",W$6=\"2juledag\",\"h\",W$6=\"nytårsdag\",\"h\")","v":"-"},{"$f":"_xlfn.IFS(X$7=\"søndag\",\"-\",X$6=\"skærtd\",\"h\",X$6=\"langfd\",\"h\",X$6=\"1påsked\",\"h\",X$6=\"2påsked\",\"h\",X$6=\"kr.himmelfart\",\"h\",X$6=\"1pinse\",\"h\",X$6=\"2pinse\",\"h\",X$6=\"1juledag\",\"h\",X$6=\"2juledag\",\"h\",X$6=\"nytårsdag\",\"h\")","v":"h"},{"$f":"_xlfn.IFS(Y$7=\"søndag\",\"-\",Y$6=\"skærtd\",\"h\",Y$6=\"langfd\",\"h\",Y$6=\"1påsked\",\"h\",Y$6=\"2påsked\",\"h\",Y$6=\"kr.himmelfart\",\"h\",Y$6=\"1pinse\",\"h\",Y$6=\"2pinse\",\"h\",Y$6=\"1juledag\",\"h\",Y$6=\"2juledag\",\"h\",Y$6=\"nytårsdag\",\"h\")","v":{"$error":"#N/A"}},{"$f":"_xlfn.IFS(Z$7=\"søndag\",\"-\",Z$6=\"skærtd\",\"h\",Z$6=\"langfd\",\"h\",Z$6=\"1påsked\",\"h\",Z$6=\"2påsked\",\"h\",Z$6=\"kr.himmelfart\",\"h\",Z$6=\"1pinse\",\"h\",Z$6=\"2pinse\",\"h\",Z$6=\"1juledag\",\"h\",Z$6=\"2juledag\",\"h\",Z$6=\"nytårsdag\",\"h\")","v":{"$error":"#N/A"}},{"$f":"_xlfn.IFS(AA$7=\"søndag\",\"-\",AA$6=\"skærtd\",\"h\",AA$6=\"langfd\",\"h\",AA$6=\"1påsked\",\"h\",AA$6=\"2påsked\",\"h\",AA$6=\"kr.himmelfart\",\"h\",AA$6=\"1pinse\",\"h\",AA$6=\"2pinse\",\"h\",AA$6=\"1juledag\",\"h\",AA$6=\"2juledag\",\"h\",AA$6=\"nytårsdag\",\"h\")","v":{"$error":"#N/A"}},{"$f":"_xlfn.IFS(AB$7=\"søndag\",\"-\",AB$6=\"skærtd\",\"h\",AB$6=\"langfd\",\"h\",AB$6=\"1påsked\",\"h\",AB$6=\"2påsked\",\"h\",AB$6=\"kr.himmelfart\",\"h\",AB$6=\"1pinse\",\"h\",AB$6=\"2pinse\",\"h\",AB$6=\"1juledag\",\"h\",AB$6=\"2juledag\",\"h\",AB$6=\"nytårsdag\",\"h\")","v":{"$error":"#N/A"}},{"$f":"_xlfn.IFS(AC$7=\"søndag\",\"-\",AC$6=\"skærtd\",\"h\",AC$6=\"langfd\",\"h\",AC$6=\"1påsked\",\"h\",AC$6=\"2påsked\",\"h\",AC$6=\"kr.himmelfart\",\"h\",AC$6=\"1pinse\",\"h\",AC$6=\"2pinse\",\"h\",AC$6=\"1juledag\",\"h\",AC$6=\"2juledag\",\"h\",AC$6=\"nytårsdag\",\"h\")","v":{"$error":"#N/A"}},{"$f":"_xlfn.IFS(AD$7=\"søndag\",\"-\",AD$6=\"skærtd\",\"h\",AD$6=\"langfd\",\"h\",AD$6=\"1påsked\",\"h\",AD$6=\"2påsked\",\"h\",AD$6=\"kr.himmelfart\",\"h\",AD$6=\"1pinse\",\"h\",AD$6=\"2pinse\",\"h\",AD$6=\"1juledag\",\"h\",AD$6=\"2juledag\",\"h\",AD$6=\"nytårsdag\",\"h\")","v":"-"},{"$f":"_xlfn.IFS(AE$7=\"søndag\",\"-\",AE$6=\"skærtd\",\"h\",AE$6=\"langfd\",\"h\",AE$6=\"1påsked\",\"h\",AE$6=\"2påsked\",\"h\",AE$6=\"kr.himmelfart\",\"h\",AE$6=\"1pinse\",\"h\",AE$6=\"2pinse\",\"h\",AE$6=\"1juledag\",\"h\",AE$6=\"2juledag\",\"h\",AE$6=\"nytårsdag\",\"h\")","v":{"$error":"#N/A"}},{"$f":"_xlfn.IFS(AF$7=\"søndag\",\"-\",AF$6=\"skærtd\",\"h\",AF$6=\"langfd\",\"h\",AF$6=\"1påsked\",\"h\",AF$6=\"2påsked\",\"h\",AF$6=\"kr.himmelfart\",\"h\",AF$6=\"1pinse\",\"h\",AF$6=\"2pinse\",\"h\",AF$6=\"1juledag\",\"h\",AF$6=\"2juledag\",\"h\",AF$6=\"nytårsdag\",\"h\")","v":{"$error":"#N/A"}},{"$f":"_xlfn.IFS(AG$7=\"søndag\",\"-\",AG$6=\"skærtd\",\"h\",AG$6=\"langfd\",\"h\",AG$6=\"1påsked\",\"h\",AG$6=\"2påsked\",\"h\",AG$6=\"kr.himmelfart\",\"h\",AG$6=\"1pinse\",\"h\",AG$6=\"2pinse\",\"h\",AG$6=\"1juledag\",\"h\",AG$6=\"2juledag\",\"h\",AG$6=\"nytårsdag\",\"h\")","v":{"$error":"#N/A"}},{"$f":"_xlfn.IFS(AH$7=\"søndag\",\"-\",AH$6=\"skærtd\",\"h\",AH$6=\"langfd\",\"h\",AH$6=\"1påsked\",\"h\",AH$6=\"2påsked\",\"h\",AH$6=\"kr.himmelfart\",\"h\",AH$6=\"1pinse\",\"h\",AH$6=\"2pinse\",\"h\",AH$6=\"1juledag\",\"h\",AH$6=\"2juledag\",\"h\",AH$6=\"nytårsdag\",\"h\")","v":{"$error":"#N/A"}}]
[null,"Sygedage",null,{"$f":"IF(D451=\"s\",D450,\"-\")","v":"-"},{"$f":"IF(E451=\"s\",E450,\"-\")","v":"-"},"-","-","-","-","-","-","-","-","-","-","-","-","-","-","-","-","-","-","-","-","-","-","-","-","-","-","-","-","-"]
[null,null,{"$f":"$C$15","v":14},"Timer uge",null,null,{"$f":"SUMIF($D$5:$AH$5,C456,D450:AH450)","v":0},{"$f":"$H$15","v":15},{"$f":"D456","v":"Timer uge"},null,null,null,null,{"$f":"SUMIF($D$5:$AH$5,H456,D450:AH450)","v":0},{"$f":"$O$15","v":16},{"$f":"D456","v":"Timer uge"},null,null,null,null,{"$f":"_xlfn.IFS($O456=$BV449,$BV450,$O456=$BW449,Lønskema!$BW450,$O456=$BX449,$BX450,$O456=$BY449,$BY450,$O456=$BZ449,$BZ450,$O456=$CA449,$CA450,$O456=$CB449,$CB450,$O456=$CC449,$CC450,$O456=$CD449,$CD450,$O456=$CE449,$CE450,$O456=$CF449,$CF450,$O456=$CG449,$CF450,$O456=$CG449,$CG450,$O456=$CH449,$CH450,$O456=$CI449,$CI450,$O456=$CJ449,$CJ450,$O456=$CK449,$CK450,$O456=$CL449,$CL450,$O456=$CM449,$CM450,$O456=$CN449,$CN450,$O456=$CO449,$CO450,$O456=$CP449,$CP450,$O456=$CQ449,$CQ450,$O456=$CR449,$CR450,$O456=$CS449,$CS450,$O456=$CT449,$CT450,$O456=$CU449,$CU450,$O456=$CV449,$CV450,$O456=$CW449,$CW450,$O456=$CX449,$CX450,$O456=$CY449,$CY450,$O456=$CZ449,$CZ450,$O456=$DA449,$DA450,$O456=$DB449,$DB450,$O456=$DC449,$DC450,$O456=$DD449,$DD450,$O456=$DE449,$DE450,$O456=$DF449,$DF450,$O456=$DG449,$DG450,$O456=$DH449,$DH450,$O456=$DI449,$DI450,$O456=$DJ449,$DJ450,$O456=$DK449,$DK450,$O456=$DL449,$DL450,$O456=$DM449,$DM450,$O456=$DN449,$DN450,$O456=$DO449,$DO450,$O456=$DP449,$DP450,$O456=$DQ449,$DQ450,$O456=$DR449,$DR450,$O456=$DS449,$DS450,$O456=$DT449,$DT450,$O456=$DU449,$DU450)","v":0},{"$f":"$V$15","v":17},{"$f":"D456","v":"Timer uge"},null,null,null,null,{"$f":"SUMIF($D$5:$AH$5,V456,D450:AH450)","v":0},{"$f":"$AC$15","v":18},{"$f":"D456","v":"Timer uge"},null,null,null,{"$f":"SUMIF($D$5:$AH$5,AC456,D450:AH450)","v":0},{"$f":"$AI$15","v":19},{"$f":"D456","v":"Timer uge"},null,null,null,{"$f":"SUMIF($D$5:$AH$5,AI456,D450:AH450)","v":0}]
[null,null,null,"Overarbejde 50% 1-3 timer",null,null,{"$f":"IF($G456>37,$G456-37-$G458,0)","v":0},null,{"$f":"D457","v":"Overarbejde 50% 1-3 timer"},null,null,null,null,{"$f":"IF($N456>37,$N456-37-$N458,0)","v":0},null,{"$f":"D457","v":"Overarbejde 50% 1-3 timer"},null,null,null,null,{"$f":"IF($U456>37,$U456-37-$U458,0)","v":0},null,{"$f":"D457","v":"Overarbejde 50% 1-3 timer"},null,null,null,null,{"$f":"IF($AB456>37,$AB456-37-$AB458,0)","v":0},null,{"$f":"D457","v":"Overarbejde 50% 1-3 timer"},null,null,null,{"$f":"IF($AH456>37,$AH456-37-$AH458,0)","v":0},null,{"$f":"D457","v":"Overarbejde 50% 1-3 timer"},null,null,null,{"$f":"IF($AH456>37,$AH456-37-$AH458,0)","v":0}]
[null,null,null,"Overarbejde 100% over 3 timer",null,null,{"$f":"IF($G456>40,$G456-40,0)","v":0},null,"Overarbejde 100% over 3 timer",null,null,null,null,{"$f":"IF($N456>40,$N456-40,0)","v":0},null,"Overarbejde 100% over 3 timer",null,null,null,null,{"$f":"IF($U456>40,$U456-40,0)","v":0},null,"Overarbejde 100% over 3 timer",null,null,null,null,{"$f":"IF($AB456>40,$AB456-40,0)","v":0},null,"Overarbejde 100% over 3 timer",null,null,null,{"$f":"IF($AH456>40,$AH456-40,0)","v":0},null,{"$f":"D458","v":"Overarbejde 100% over 3 timer"},null,null,null,{"$f":"IF($AH456>40,$AH456-40,0)","v":0},null,null,null,null,null,null,null,null,null,null,null,null,null,null,null,null,null,null,null,null,null,null,null,null,null,null,null,null,null,null,null,null,null,1,2,3,4,5,6,7,8,9,10,11,12,13,14,15,16,17,18,19,20,21,22,23,24,25,26,27,28,29,30,31,32,33,34,35,36,37,38,39,40,41,42,43,44,45,46,47,48,49,50,51,52]
[{"$f":"Medarbejder!A53","v":0},{"$f":"Medarbejder!B53","v":0},{"$f":"Medarbejder!C65","v":"-"},null,null,null,null,null,null,null,null,null,null,null,null,null,null,null,null,null,null,null,null,null,null,null,null,null,null,null,null,null,null,null,null,null,null,null,null,null,null,{"$f":"AO459*Overenskomst!$C$22","v":0},{"$f":"SUM($D459:$AH459)-$BA459-$BF459-$BD459","v":0},{"$f":"IF(Medarbejder!$J53=\"ja\",$AQ459,\"-\")","v":"-"},{"$f":"SUMIF($D$7:$AH$7,\"søndag\",$D459:$AH459)+$AT459","v":0},{"$f":"SUMIFS($D459:$AH459,$D463:$AH463,\"H\")","v":0},{"$f":"G466+N466+U466+AB466+AH466+AN466","v":0},{"$f":"G467+N467+U467+AB467+AH467+AN467","v":0},{"$f":"SUM($D461:$AH461)","v":0},{"$f":"SUM($D462:$AH462)","v":0},{"$f":"COUNTIFS($D460:$AH460,\"F\")","v":0},{"$f":"COUNTIFS($D460:$AH460,\"S\")","v":0},{"$f":"SUMIF($D460:$AH460,\"S\",$D464:$AH464)","v":0},{"$f":"COUNTIFS($D460:$AH460,\"p\")","v":0},{"$f":"COUNTIFS($D460:$AH460,\"BS\")","v":0},{"$f":"SUMIF(D460:AH460,\"bs\",$D459:$AH459)","v":0},{"$f":"COUNTIFS($D460:$AH460,\"FF\")","v":0},{"$f":"SUMIF($D460:$AH460,\"g\",$D459:$AH459)","v":0},{"$f":"Medarbejder!$N50","v":"-"},{"$f":"SUM($BL459:$BU459)","v":4},null,null,null,{"$f":"COUNTIFS($D$6:$AH$6,\"skærtd\")","v":1},{"$f":"COUNTIFS($D$6:$AH$6,\"langfd\")","v":1},{"$f":"COUNTIFS($D$6:$AH$6,\"1påsked\")","v":1},{"$f":"COUNTIFS($D$6:$AH$6,\"2påsked\")","v":1},{"$f":"COUNTIFS($D$6:$AH$6,\"kr.himmelfart\")","v":0},{"$f":"COUNTIFS($D$6:$AH$6,\"1pinse\")","v":0},{"$f":"COUNTIFS($D$6:$AH$6,\"2pinse\")","v":0},{"$f":"COUNTIFS($D$6:$AH$6,\"1juledag\")","v":0},{"$f":"COUNTIFS($D$6:$AH$6,\"2juledag\")","v":0},{"$f":"COUNTIFS($D$6:$AH$6,\"nytårsdag\")","v":0},{"$f":"SUMIFS($D459:$AH459,Lønskema!$D$5:$AH$5,1)","v":0},{"$f":"SUMIFS($D459:$AH459,Lønskema!$D$5:$AH$5,2)","v":0},{"$f":"SUMIFS($D459:$AH459,Lønskema!$D$5:$AH$5,3)","v":0},{"$f":"SUMIFS($D459:$AH459,Lønskema!$D$5:$AH$5,4)","v":0},{"$f":"SUMIFS($D459:$AH459,Lønskema!$D$5:$AH$5,5)","v":0},{"$f":"SUMIFS($D459:$AH459,Lønskema!$D$5:$AH$5,6)","v":0},{"$f":"SUMIFS($D459:$AH459,Lønskema!$D$5:$AH$5,7)","v":0},{"$f":"SUMIFS($D459:$AH459,Lønskema!$D$5:$AH$5,8)","v":0},{"$f":"SUMIFS($D459:$AH459,Lønskema!$D$5:$AH$5,9)","v":0},{"$f":"SUMIFS($D459:$AH459,Lønskema!$D$5:$AH$5,10)","v":0},{"$f":"SUMIFS($D459:$AH459,Lønskema!$D$5:$AH$5,11)","v":0},{"$f":"SUMIFS($D459:$AH459,Lønskema!$D$5:$AH$5,12)","v":0},{"$f":"SUMIFS($D459:$AH459,Lønskema!$D$5:$AH$5,13)","v":0},{"$f":"SUMIFS($D459:$AH459,Lønskema!$D$5:$AH$5,14)","v":0},{"$f":"SUMIFS($D459:$AH459,Lønskema!$D$5:$AH$5,15)","v":0},{"$f":"SUMIFS($D459:$AH459,Lønskema!$D$5:$AH$5,16)","v":0},{"$f":"SUMIFS($D459:$AH459,Lønskema!$D$5:$AH$5,17)","v":0},{"$f":"SUMIFS($D459:$AH459,Lønskema!$D$5:$AH$5,18)","v":0},{"$f":"SUMIFS($D459:$AH459,Lønskema!$D$5:$AH$5,19)","v":0},{"$f":"SUMIFS($D459:$AH459,Lønskema!$D$5:$AH$5,20)","v":0},{"$f":"SUMIFS($D459:$AH459,Lønskema!$D$5:$AH$5,21)","v":0},{"$f":"SUMIFS($D459:$AH459,Lønskema!$D$5:$AH$5,22)","v":0},{"$f":"SUMIFS($D459:$AH459,Lønskema!$D$5:$AH$5,23)","v":0},{"$f":"SUMIFS($D459:$AH459,Lønskema!$D$5:$AH$5,24)","v":0},{"$f":"SUMIFS($D459:$AH459,Lønskema!$D$5:$AH$5,25)","v":0},{"$f":"SUMIFS($D459:$AH459,Lønskema!$D$5:$AH$5,26)","v":0},{"$f":"SUMIFS($D459:$AH459,Lønskema!$D$5:$AH$5,27)","v":0},{"$f":"SUMIFS($D459:$AH459,Lønskema!$D$5:$AH$5,28)","v":0},{"$f":"SUMIFS($D459:$AH459,Lønskema!$D$5:$AH$5,29)","v":0},{"$f":"SUMIFS($D459:$AH459,Lønskema!$D$5:$AH$5,30)","v":0},{"$f":"SUMIFS($D459:$AH459,Lønskema!$D$5:$AH$5,31)","v":0},{"$f":"SUMIFS($D459:$AH459,Lønskema!$D$5:$AH$5,32)","v":0},{"$f":"SUMIFS($D459:$AH459,Lønskema!$D$5:$AH$5,33)","v":0},{"$f":"SUMIFS($D459:$AH459,Lønskema!$D$5:$AH$5,34)","v":0},{"$f":"SUMIFS($D459:$AH459,Lønskema!$D$5:$AH$5,35)","v":0},{"$f":"SUMIFS($D459:$AH459,Lønskema!$D$5:$AH$5,36)","v":0},{"$f":"SUMIFS($D459:$AH459,Lønskema!$D$5:$AH$5,37)","v":0},{"$f":"SUMIFS($D459:$AH459,Lønskema!$D$5:$AH$5,38)","v":0},{"$f":"SUMIFS($D459:$AH459,Lønskema!$D$5:$AH$5,39)","v":0},{"$f":"SUMIFS($D459:$AH459,Lønskema!$D$5:$AH$5,40)","v":0},{"$f":"SUMIFS($D459:$AH459,Lønskema!$D$5:$AH$5,41)","v":0},{"$f":"SUMIFS($D459:$AH459,Lønskema!$D$5:$AH$5,42)","v":0},{"$f":"SUMIFS($D459:$AH459,Lønskema!$D$5:$AH$5,43)","v":0},{"$f":"SUMIFS($D459:$AH459,Lønskema!$D$5:$AH$5,44)","v":0},{"$f":"SUMIFS($D459:$AH459,Lønskema!$D$5:$AH$5,45)","v":0},{"$f":"SUMIFS($D459:$AH459,Lønskema!$D$5:$AH$5,46)","v":0},{"$f":"SUMIFS($D459:$AH459,Lønskema!$D$5:$AH$5,47)","v":0},{"$f":"SUMIFS($D459:$AH459,Lønskema!$D$5:$AH$5,48)","v":0},{"$f":"SUMIFS($D459:$AH459,Lønskema!$D$5:$AH$5,49)","v":0},{"$f":"SUMIFS($D459:$AH459,Lønskema!$D$5:$AH$5,50)","v":0},{"$f":"SUMIFS($D459:$AH459,Lønskema!$D$5:$AH$5,51)","v":0},{"$f":"SUMIFS($D459:$AH459,Lønskema!$D$5:$AH$5,52)","v":0}]
["Ferie - syg  mm. Registreres i denne række"]
[null,"Aften"]
[null,"Nat"]
[null,"Helligdag",null,{"$f":"_xlfn.IFS(D$7=\"søndag\",\"-\",D$6=\"skærtd\",\"h\",D$6=\"langfd\",\"h\",D$6=\"1påsked\",\"h\",D$6=\"2påsked\",\"h\",D$6=\"kr.himmelfart\",\"h\",D$6=\"1pinse\",\"h\",D$6=\"2pinse\",\"h\",D$6=\"1juledag\",\"h\",D$6=\"2juledag\",\"h\",D$6=\"nytårsdag\",\"h\")","v":{"$error":"#N/A"}},{"$f":"_xlfn.IFS(E$7=\"søndag\",\"-\",E$6=\"skærtd\",\"h\",E$6=\"langfd\",\"h\",E$6=\"1påsked\",\"h\",E$6=\"2påsked\",\"h\",E$6=\"kr.himmelfart\",\"h\",E$6=\"1pinse\",\"h\",E$6=\"2pinse\",\"h\",E$6=\"1juledag\",\"h\",E$6=\"2juledag\",\"h\",E$6=\"nytårsdag\",\"h\")","v":{"$error":"#N/A"}},{"$f":"_xlfn.IFS(F$7=\"søndag\",\"-\",F$6=\"skærtd\",\"h\",F$6=\"langfd\",\"h\",F$6=\"1påsked\",\"h\",F$6=\"2påsked\",\"h\",F$6=\"kr.himmelfart\",\"h\",F$6=\"1pinse\",\"h\",F$6=\"2pinse\",\"h\",F$6=\"1juledag\",\"h\",F$6=\"2juledag\",\"h\",F$6=\"nytårsdag\",\"h\")","v":{"$error":"#N/A"}},{"$f":"_xlfn.IFS(G$7=\"søndag\",\"-\",G$6=\"skærtd\",\"h\",G$6=\"langfd\",\"h\",G$6=\"1påsked\",\"h\",G$6=\"2påsked\",\"h\",G$6=\"kr.himmelfart\",\"h\",G$6=\"1pinse\",\"h\",G$6=\"2pinse\",\"h\",G$6=\"1juledag\",\"h\",G$6=\"2juledag\",\"h\",G$6=\"nytårsdag\",\"h\")","v":{"$error":"#N/A"}},{"$f":"_xlfn.IFS(H$7=\"søndag\",\"-\",H$6=\"skærtd\",\"h\",H$6=\"langfd\",\"h\",H$6=\"1påsked\",\"h\",H$6=\"2påsked\",\"h\",H$6=\"kr.himmelfart\",\"h\",H$6=\"1pinse\",\"h\",H$6=\"2pinse\",\"h\",H$6=\"1juledag\",\"h\",H$6=\"2juledag\",\"h\",H$6=\"nytårsdag\",\"h\")","v":{"$error":"#N/A"}},{"$f":"_xlfn.IFS(I$7=\"søndag\",\"-\",I$6=\"skærtd\",\"h\",I$6=\"langfd\",\"h\",I$6=\"1påsked\",\"h\",I$6=\"2påsked\",\"h\",I$6=\"kr.himmelfart\",\"h\",I$6=\"1pinse\",\"h\",I$6=\"2pinse\",\"h\",I$6=\"1juledag\",\"h\",I$6=\"2juledag\",\"h\",I$6=\"nytårsdag\",\"h\")","v":"-"},{"$f":"_xlfn.IFS(J$7=\"søndag\",\"-\",J$6=\"skærtd\",\"h\",J$6=\"langfd\",\"h\",J$6=\"1påsked\",\"h\",J$6=\"2påsked\",\"h\",J$6=\"kr.himmelfart\",\"h\",J$6=\"1pinse\",\"h\",J$6=\"2pinse\",\"h\",J$6=\"1juledag\",\"h\",J$6=\"2juledag\",\"h\",J$6=\"nytårsdag\",\"h\")","v":{"$error":"#N/A"}},{"$f":"_xlfn.IFS(K$7=\"søndag\",\"-\",K$6=\"skærtd\",\"h\",K$6=\"langfd\",\"h\",K$6=\"1påsked\",\"h\",K$6=\"2påsked\",\"h\",K$6=\"kr.himmelfart\",\"h\",K$6=\"1pinse\",\"h\",K$6=\"2pinse\",\"h\",K$6=\"1juledag\",\"h\",K$6=\"2juledag\",\"h\",K$6=\"nytårsdag\",\"h\")","v":{"$error":"#N/A"}},{"$f":"_xlfn.IFS(L$7=\"søndag\",\"-\",L$6=\"skærtd\",\"h\",L$6=\"langfd\",\"h\",L$6=\"1påsked\",\"h\",L$6=\"2påsked\",\"h\",L$6=\"kr.himmelfart\",\"h\",L$6=\"1pinse\",\"h\",L$6=\"2pinse\",\"h\",L$6=\"1juledag\",\"h\",L$6=\"2juledag\",\"h\",L$6=\"nytårsdag\",\"h\")","v":{"$error":"#N/A"}},{"$f":"_xlfn.IFS(M$7=\"søndag\",\"-\",M$6=\"skærtd\",\"h\",M$6=\"langfd\",\"h\",M$6=\"1påsked\",\"h\",M$6=\"2påsked\",\"h\",M$6=\"kr.himmelfart\",\"h\",M$6=\"1pinse\",\"h\",M$6=\"2pinse\",\"h\",M$6=\"1juledag\",\"h\",M$6=\"2juledag\",\"h\",M$6=\"nytårsdag\",\"h\")","v":{"$error":"#N/A"}},{"$f":"_xlfn.IFS(N$7=\"søndag\",\"-\",N$6=\"skærtd\",\"h\",N$6=\"langfd\",\"h\",N$6=\"1påsked\",\"h\",N$6=\"2påsked\",\"h\",N$6=\"kr.himmelfart\",\"h\",N$6=\"1pinse\",\"h\",N$6=\"2pinse\",\"h\",N$6=\"1juledag\",\"h\",N$6=\"2juledag\",\"h\",N$6=\"nytårsdag\",\"h\")","v":{"$error":"#N/A"}},{"$f":"_xlfn.IFS(O$7=\"søndag\",\"-\",O$6=\"skærtd\",\"h\",O$6=\"langfd\",\"h\",O$6=\"1påsked\",\"h\",O$6=\"2påsked\",\"h\",O$6=\"kr.himmelfart\",\"h\",O$6=\"1pinse\",\"h\",O$6=\"2pinse\",\"h\",O$6=\"1juledag\",\"h\",O$6=\"2juledag\",\"h\",O$6=\"nytårsdag\",\"h\")","v":{"$error":"#N/A"}},{"$f":"_xlfn.IFS(P$7=\"søndag\",\"-\",P$6=\"skærtd\",\"h\",P$6=\"langfd\",\"h\",P$6=\"1påsked\",\"h\",P$6=\"2påsked\",\"h\",P$6=\"kr.himmelfart\",\"h\",P$6=\"1pinse\",\"h\",P$6=\"2pinse\",\"h\",P$6=\"1juledag\",\"h\",P$6=\"2juledag\",\"h\",P$6=\"nytårsdag\",\"h\")","v":"-"},{"$f":"_xlfn.IFS(Q$7=\"søndag\",\"-\",Q$6=\"skærtd\",\"h\",Q$6=\"langfd\",\"h\",Q$6=\"1påsked\",\"h\",Q$6=\"2påsked\",\"h\",Q$6=\"kr.himmelfart\",\"h\",Q$6=\"1pinse\",\"h\",Q$6=\"2pinse\",\"h\",Q$6=\"1juledag\",\"h\",Q$6=\"2juledag\",\"h\",Q$6=\"nytårsdag\",\"h\")","v":{"$error":"#N/A"}},{"$f":"_xlfn.IFS(R$7=\"søndag\",\"-\",R$6=\"skærtd\",\"h\",R$6=\"langfd\",\"h\",R$6=\"1påsked\",\"h\",R$6=\"2påsked\",\"h\",R$6=\"kr.himmelfart\",\"h\",R$6=\"1pinse\",\"h\",R$6=\"2pinse\",\"h\",R$6=\"1juledag\",\"h\",R$6=\"2juledag\",\"h\",R$6=\"nytårsdag\",\"h\")","v":{"$error":"#N/A"}},{"$f":"_xlfn.IFS(S$7=\"søndag\",\"-\",S$6=\"skærtd\",\"h\",S$6=\"langfd\",\"h\",S$6=\"1påsked\",\"h\",S$6=\"2påsked\",\"h\",S$6=\"kr.himmelfart\",\"h\",S$6=\"1pinse\",\"h\",S$6=\"2pinse\",\"h\",S$6=\"1juledag\",\"h\",S$6=\"2juledag\",\"h\",S$6=\"nytårsdag\",\"h\")","v":{"$error":"#N/A"}},{"$f":"_xlfn.IFS(T$7=\"søndag\",\"-\",T$6=\"skærtd\",\"h\",T$6=\"langfd\",\"h\",T$6=\"1påsked\",\"h\",T$6=\"2påsked\",\"h\",T$6=\"kr.himmelfart\",\"h\",T$6=\"1pinse\",\"h\",T$6=\"2pinse\",\"h\",T$6=\"1juledag\",\"h\",T$6=\"2juledag\",\"h\",T$6=\"nytårsdag\",\"h\")","v":"h"},{"$f":"_xlfn.IFS(U$7=\"søndag\",\"-\",U$6=\"skærtd\",\"h\",U$6=\"langfd\",\"h\",U$6=\"1påsked\",\"h\",U$6=\"2påsked\",\"h\",U$6=\"kr.himmelfart\",\"h\",U$6=\"1pinse\",\"h\",U$6=\"2pinse\",\"h\",U$6=\"1juledag\",\"h\",U$6=\"2juledag\",\"h\",U$6=\"nytårsdag\",\"h\")","v":"h"},{"$f":"_xlfn.IFS(V$7=\"søndag\",\"-\",V$6=\"skærtd\",\"h\",V$6=\"langfd\",\"h\",V$6=\"1påsked\",\"h\",V$6=\"2påsked\",\"h\",V$6=\"kr.himmelfart\",\"h\",V$6=\"1pinse\",\"h\",V$6=\"2pinse\",\"h\",V$6=\"1juledag\",\"h\",V$6=\"2juledag\",\"h\",V$6=\"nytårsdag\",\"h\")","v":{"$error":"#N/A"}},{"$f":"_xlfn.IFS(W$7=\"søndag\",\"-\",W$6=\"skærtd\",\"h\",W$6=\"langfd\",\"h\",W$6=\"1påsked\",\"h\",W$6=\"2påsked\",\"h\",W$6=\"kr.himmelfart\",\"h\",W$6=\"1pinse\",\"h\",W$6=\"2pinse\",\"h\",W$6=\"1juledag\",\"h\",W$6=\"2juledag\",\"h\",W$6=\"nytårsdag\",\"h\")","v":"-"},{"$f":"_xlfn.IFS(X$7=\"søndag\",\"-\",X$6=\"skærtd\",\"h\",X$6=\"langfd\",\"h\",X$6=\"1påsked\",\"h\",X$6=\"2påsked\",\"h\",X$6=\"kr.himmelfart\",\"h\",X$6=\"1pinse\",\"h\",X$6=\"2pinse\",\"h\",X$6=\"1juledag\",\"h\",X$6=\"2juledag\",\"h\",X$6=\"nytårsdag\",\"h\")","v":"h"},{"$f":"_xlfn.IFS(Y$7=\"søndag\",\"-\",Y$6=\"skærtd\",\"h\",Y$6=\"langfd\",\"h\",Y$6=\"1påsked\",\"h\",Y$6=\"2påsked\",\"h\",Y$6=\"kr.himmelfart\",\"h\",Y$6=\"1pinse\",\"h\",Y$6=\"2pinse\",\"h\",Y$6=\"1juledag\",\"h\",Y$6=\"2juledag\",\"h\",Y$6=\"nytårsdag\",\"h\")","v":{"$error":"#N/A"}},{"$f":"_xlfn.IFS(Z$7=\"søndag\",\"-\",Z$6=\"skærtd\",\"h\",Z$6=\"langfd\",\"h\",Z$6=\"1påsked\",\"h\",Z$6=\"2påsked\",\"h\",Z$6=\"kr.himmelfart\",\"h\",Z$6=\"1pinse\",\"h\",Z$6=\"2pinse\",\"h\",Z$6=\"1juledag\",\"h\",Z$6=\"2juledag\",\"h\",Z$6=\"nytårsdag\",\"h\")","v":{"$error":"#N/A"}},{"$f":"_xlfn.IFS(AA$7=\"søndag\",\"-\",AA$6=\"skærtd\",\"h\",AA$6=\"langfd\",\"h\",AA$6=\"1påsked\",\"h\",AA$6=\"2påsked\",\"h\",AA$6=\"kr.himmelfart\",\"h\",AA$6=\"1pinse\",\"h\",AA$6=\"2pinse\",\"h\",AA$6=\"1juledag\",\"h\",AA$6=\"2juledag\",\"h\",AA$6=\"nytårsdag\",\"h\")","v":{"$error":"#N/A"}},{"$f":"_xlfn.IFS(AB$7=\"søndag\",\"-\",AB$6=\"skærtd\",\"h\",AB$6=\"langfd\",\"h\",AB$6=\"1påsked\",\"h\",AB$6=\"2påsked\",\"h\",AB$6=\"kr.himmelfart\",\"h\",AB$6=\"1pinse\",\"h\",AB$6=\"2pinse\",\"h\",AB$6=\"1juledag\",\"h\",AB$6=\"2juledag\",\"h\",AB$6=\"nytårsdag\",\"h\")","v":{"$error":"#N/A"}},{"$f":"_xlfn.IFS(AC$7=\"søndag\",\"-\",AC$6=\"skærtd\",\"h\",AC$6=\"langfd\",\"h\",AC$6=\"1påsked\",\"h\",AC$6=\"2påsked\",\"h\",AC$6=\"kr.himmelfart\",\"h\",AC$6=\"1pinse\",\"h\",AC$6=\"2pinse\",\"h\",AC$6=\"1juledag\",\"h\",AC$6=\"2juledag\",\"h\",AC$6=\"nytårsdag\",\"h\")","v":{"$error":"#N/A"}},{"$f":"_xlfn.IFS(AD$7=\"søndag\",\"-\",AD$6=\"skærtd\",\"h\",AD$6=\"langfd\",\"h\",AD$6=\"1påsked\",\"h\",AD$6=\"2påsked\",\"h\",AD$6=\"kr.himmelfart\",\"h\",AD$6=\"1pinse\",\"h\",AD$6=\"2pinse\",\"h\",AD$6=\"1juledag\",\"h\",AD$6=\"2juledag\",\"h\",AD$6=\"nytårsdag\",\"h\")","v":"-"},{"$f":"_xlfn.IFS(AE$7=\"søndag\",\"-\",AE$6=\"skærtd\",\"h\",AE$6=\"langfd\",\"h\",AE$6=\"1påsked\",\"h\",AE$6=\"2påsked\",\"h\",AE$6=\"kr.himmelfart\",\"h\",AE$6=\"1pinse\",\"h\",AE$6=\"2pinse\",\"h\",AE$6=\"1juledag\",\"h\",AE$6=\"2juledag\",\"h\",AE$6=\"nytårsdag\",\"h\")","v":{"$error":"#N/A"}},{"$f":"_xlfn.IFS(AF$7=\"søndag\",\"-\",AF$6=\"skærtd\",\"h\",AF$6=\"langfd\",\"h\",AF$6=\"1påsked\",\"h\",AF$6=\"2påsked\",\"h\",AF$6=\"kr.himmelfart\",\"h\",AF$6=\"1pinse\",\"h\",AF$6=\"2pinse\",\"h\",AF$6=\"1juledag\",\"h\",AF$6=\"2juledag\",\"h\",AF$6=\"nytårsdag\",\"h\")","v":{"$error":"#N/A"}},{"$f":"_xlfn.IFS(AG$7=\"søndag\",\"-\",AG$6=\"skærtd\",\"h\",AG$6=\"langfd\",\"h\",AG$6=\"1påsked\",\"h\",AG$6=\"2påsked\",\"h\",AG$6=\"kr.himmelfart\",\"h\",AG$6=\"1pinse\",\"h\",AG$6=\"2pinse\",\"h\",AG$6=\"1juledag\",\"h\",AG$6=\"2juledag\",\"h\",AG$6=\"nytårsdag\",\"h\")","v":{"$error":"#N/A"}},{"$f":"_xlfn.IFS(AH$7=\"søndag\",\"-\",AH$6=\"skærtd\",\"h\",AH$6=\"langfd\",\"h\",AH$6=\"1påsked\",\"h\",AH$6=\"2påsked\",\"h\",AH$6=\"kr.himmelfart\",\"h\",AH$6=\"1pinse\",\"h\",AH$6=\"2pinse\",\"h\",AH$6=\"1juledag\",\"h\",AH$6=\"2juledag\",\"h\",AH$6=\"nytårsdag\",\"h\")","v":{"$error":"#N/A"}}]
[null,"Sygedage",null,{"$f":"IF(D460=\"s\",D459,\"-\")","v":"-"},{"$f":"IF(E460=\"s\",E459,\"-\")","v":"-"},"-","-","-","-","-","-","-","-","-","-","-","-","-","-","-","-","-","-","-","-","-","-","-","-","-","-","-","-","-"]
[null,null,{"$f":"$C$15","v":14},"Timer uge",null,null,{"$f":"SUMIF($D$5:$AH$5,C465,D459:AH459)","v":0},{"$f":"$H$15","v":15},{"$f":"D465","v":"Timer uge"},null,null,null,null,{"$f":"SUMIF($D$5:$AH$5,H465,D459:AH459)","v":0},{"$f":"$O$15","v":16},{"$f":"D465","v":"Timer uge"},null,null,null,null,{"$f":"_xlfn.IFS($O465=$BV458,$BV459,$O465=$BW458,Lønskema!$BW459,$O465=$BX458,$BX459,$O465=$BY458,$BY459,$O465=$BZ458,$BZ459,$O465=$CA458,$CA459,$O465=$CB458,$CB459,$O465=$CC458,$CC459,$O465=$CD458,$CD459,$O465=$CE458,$CE459,$O465=$CF458,$CF459,$O465=$CG458,$CF459,$O465=$CG458,$CG459,$O465=$CH458,$CH459,$O465=$CI458,$CI459,$O465=$CJ458,$CJ459,$O465=$CK458,$CK459,$O465=$CL458,$CL459,$O465=$CM458,$CM459,$O465=$CN458,$CN459,$O465=$CO458,$CO459,$O465=$CP458,$CP459,$O465=$CQ458,$CQ459,$O465=$CR458,$CR459,$O465=$CS458,$CS459,$O465=$CT458,$CT459,$O465=$CU458,$CU459,$O465=$CV458,$CV459,$O465=$CW458,$CW459,$O465=$CX458,$CX459,$O465=$CY458,$CY459,$O465=$CZ458,$CZ459,$O465=$DA458,$DA459,$O465=$DB458,$DB459,$O465=$DC458,$DC459,$O465=$DD458,$DD459,$O465=$DE458,$DE459,$O465=$DF458,$DF459,$O465=$DG458,$DG459,$O465=$DH458,$DH459,$O465=$DI458,$DI459,$O465=$DJ458,$DJ459,$O465=$DK458,$DK459,$O465=$DL458,$DL459,$O465=$DM458,$DM459,$O465=$DN458,$DN459,$O465=$DO458,$DO459,$O465=$DP458,$DP459,$O465=$DQ458,$DQ459,$O465=$DR458,$DR459,$O465=$DS458,$DS459,$O465=$DT458,$DT459,$O465=$DU458,$DU459)","v":0},{"$f":"$V$15","v":17},{"$f":"D465","v":"Timer uge"},null,null,null,null,{"$f":"SUMIF($D$5:$AH$5,V465,D459:AH459)","v":0},{"$f":"$AC$15","v":18},{"$f":"D465","v":"Timer uge"},null,null,null,{"$f":"SUMIF($D$5:$AH$5,AC465,D459:AH459)","v":0},{"$f":"$AI$15","v":19},{"$f":"D465","v":"Timer uge"},null,null,null,{"$f":"SUMIF($D$5:$AH$5,AI465,D459:AH459)","v":0}]
[null,null,null,"Overarbejde 50% 1-3 timer",null,null,{"$f":"IF($G465>37,$G465-37-$G467,0)","v":0},null,{"$f":"D466","v":"Overarbejde 50% 1-3 timer"},null,null,null,null,{"$f":"IF($N465>37,$N465-37-$N467,0)","v":0},null,{"$f":"D466","v":"Overarbejde 50% 1-3 timer"},null,null,null,null,{"$f":"IF($U465>37,$U465-37-$U467,0)","v":0},null,{"$f":"D466","v":"Overarbejde 50% 1-3 timer"},null,null,null,null,{"$f":"IF($AB465>37,$AB465-37-$AB467,0)","v":0},null,{"$f":"D466","v":"Overarbejde 50% 1-3 timer"},null,null,null,{"$f":"IF($AH465>37,$AH465-37-$AH467,0)","v":0},null,{"$f":"D466","v":"Overarbejde 50% 1-3 timer"},null,null,null,{"$f":"IF($AH465>37,$AH465-37-$AH467,0)","v":0}]
[null,null,null,"Overarbejde 100% over 3 timer",null,null,{"$f":"IF($G465>40,$G465-40,0)","v":0},null,"Overarbejde 100% over 3 timer",null,null,null,null,{"$f":"IF($N465>40,$N465-40,0)","v":0},null,"Overarbejde 100% over 3 timer",null,null,null,null,{"$f":"IF($U465>40,$U465-40,0)","v":0},null,"Overarbejde 100% over 3 timer",null,null,null,null,{"$f":"IF($AB465>40,$AB465-40,0)","v":0},null,"Overarbejde 100% over 3 timer",null,null,null,{"$f":"IF($AH465>40,$AH465-40,0)","v":0},null,{"$f":"D467","v":"Overarbejde 100% over 3 timer"},null,null,null,{"$f":"IF($AH465>40,$AH465-40,0)","v":0}]

{"sheet":"Medarbejder","index":1,"n_rows":69,"n_cols":14,"rows_kept":69,"cut":false,"hidden":false,"merged":[]}
[{"$f":"TODAY()","v":"2025-04-11"}]
["Lønnummer","Medarbejder","Stilling","Ansættelse","Ansat antal år","Ansat antal dage","Amtal måneder","Cpr Nr","Alder","Personligt tillæg = ja","Barsel = 3","Stopper dato","Barsel start","Antal uger på barsel"]
[100,"Medarbejder","Timelønnet","2000-01-01",{"$f":"IF($D3=0,\"-\",YEAR(NOW())-YEAR($D3))","v":25},{"$f":"IF($A3=0,0,_xlfn.DAYS($A$1,$D3))","v":9232},{"$f":"IF($A3=0,0,DATEDIF($D3,$A$1,\"m\"))","v":303},"1900-01-01",{"$f":"IF($H3=0,\"-\",YEAR(NOW())-YEAR($H3))","v":125},"ja",{"$f":"IF($C3=\"barsel\",3,\"-\")","v":"-"},null,null,{"$f":"IF($K3=3,+_xlfn.DAYS($A$1,$M3)/7,\"-\")","v":"-"}]
[null,null,"Afløser",null,"-",0,0,null,"-",null,{"$f":"IF($C4=\"barsel\",3,\"-\")","v":"-"},null,null,"-"]
[200,"Medarbejder 2","Barsel","2014-01-01",11,4118,135,"1999-01-01",26,null,3,null,"2025-01-01",14.285714285714286]
[null,null,"Funktionær",null,"-",0,0,null,"-",null,"-",null,null,"-"]
[null,null,"Stopper",null,"-",0,0,null,"-",null,"-",null,null,"-"]
[null,null,"-",null,"-",0,0,null,"-",null,"-",null,null,"-"]
[null,null,"-",null,"-",0,0,null,"-",null,"-",null,null,"-"]
[null,null,"-",null,"-",0,0,null,"-",null,"-",null,null,"-"]
[null,null,"-",null,"-",0,0,null,"-",null,"-",null,null,"-"]
[null,null,"-",null,"-",0,0,null,"-",null,"-",null,null,"-"]
[null,null,"-",null,"-",0,0,null,"-",null,"-",null,null,"-"]
[null,null,"-",null,"-",0,0,null,"-",null,"-",null,null,"-"]
[null,null,"-",null,"-",0,0,null,"-",null,"-",null,null,"-"]
[null,null,"-",null,"-",0,0,null,"-",null,"-",null,null,"-"]
[null,null,"-",null,"-",0,0,null,"-",null,"-",null,null,"-"]
[null,null,"-",null,"-",0,0,null,"-",null,"-",null,null,"-"]
[null,null,"-",null,"-",0,0,null,"-",null,"-",null,null,"-"]
[null,null,"-",null,"-",0,0,null,"-",null,"-",null,null,"-"]
[null,null,"-",null,"-",0,0,null,"-",null,"-",null,null,"-"]
[null,null,"-",null,"-",0,0,null,"-",null,"-",null,null,"-"]
[null,null,"-",null,"-",0,0,null,"-",null,"-",null,null,"-"]
[null,null,"-",null,"-",0,0,null,"-",null,"-",null,null,"-"]
[null,null,"-",null,"-",0,0,null,"-",null,"-",null,null,"-"]
[null,null,"-",null,"-",0,0,null,"-",null,"-",null,null,"-"]
[null,null,"-",null,"-",0,0,null,"-",null,"-",null,null,"-"]
[null,null,"-",null,"-",0,0,null,"-",null,"-",null,null,"-"]
[null,null,"-",null,{"$f":"IF($D29=0,\"-\",YEAR(NOW())-YEAR($D29))","v":"-"},{"$f":"IF($A29=0,0,_xlfn.DAYS($A$1,$D29))","v":0},{"$f":"IF($A29=0,0,DATEDIF($D29,$A$1,\"m\"))","v":0},null,{"$f":"IF($H29=0,\"-\",YEAR(NOW())-YEAR($H29))","v":"-"},null,"-",null,null,{"$f":"IF($K29=3,+_xlfn.DAYS($A$1,$M29)/7,\"-\")","v":"-"}]
[null,null,"-",null,"-",0,0,null,"-",null,"-",null,null,"-"]
[null,null,"-",null,"-",0,0,null,"-",null,"-",null,null,"-"]
[null,null,"-",null,"-",0,{"$f":"IF($A32=0,0,DATEDIF($D32,$A$1,\"m\"))","v":0},null,"-",null,"-",null,null,{"$f":"IF($K32=3,+_xlfn.DAYS($A$1,$M32)/7,\"-\")","v":"-"}]
[null,null,"-",null,"-",0,0,null,"-",null,"-",null,null,"-"]
[null,null,"-",null,"-",0,0,null,"-",null,"-",null,null,"-"]
[null,null,"-",null,"-",0,0,null,"-",null,"-",null,null,"-"]
[null,null,"-",null,"-",0,0,null,"-",null,"-",null,null,"-"]
[null,null,"-",null,"-",0,0,null,"-",null,"-",null,null,"-"]
[null,null,"-",null,"-",0,0,null,"-",null,"-",null,null,"-"]
[null,null,"-",null,"-",0,0,null,"-",null,"-",null,null,"-"]
[null,null,"-",null,"-",0,0,null,"-",null,"-",null,null,"-"]
[null,null,"-",null,"-",0,0,null,"-",null,"-",null,null,"-"]
[null,null,"-",null,"-",0,0,null,"-",null,"-",null,null,"-"]
[null,null,"-",null,"-",0,0,null,"-",null,"-",null,null,"-"]
[null,null,"-",null,"-",0,0,null,"-",null,"-",null,null,"-"]
[null,null,"-",null,"-",0,0,null,"-",null,"-",null,null,"-"]
[null,null,"-",null,"-",0,0,null,"-",null,"-",null,null,"-"]
[null,null,"-",null,"-",0,0,null,"-",null,"-",null,null,"-"]
[null,null,"-",null,"-",0,0,null,"-",null,"-",null,null,"-"]
[null,null,"-",null,"-",0,0,null,"-",null,"-",null,null,"-"]
[null,null,"-",null,"-",0,0,null,"-",null,"-",null,null,"-"]
[null,null,"-",null,"-",0,0,null,"-",null,"-",null,null,"-"]
[null,null,"-",null,"-",0,0,null,"-",null,"-",null,null,"-"]
[null,null,"-",null,"-",0,0,null,"-",null,"-",null,null,"-"]
[null,null,"-",null,"-",0,0,null,"-",null,"-",null,null,"-"]
[null,null,"-",null,"-",0,0,null,"-",null,"-",null,null,"-"]
[null,null,"-",null,"-",0,0,null,"-",null,"-",null,null,"-"]
[null,null,"-",null,"-",0,0,null,"-",null,"-",null,null,"-"]
[null,null,"-",null,"-",0,0,null,"-",null,"-",null,null,"-"]
[null,null,"-",null,"-",0,0,null,"-",null,"-",null,null,"-"]
[null,null,"-",null,"-",0,0,null,"-",null,"-",null,null,"-"]
[null,null,"-",null,"-",0,0,null,"-",null,"-",null,null,"-"]
[null,null,"-",null,"-",0,0,null,"-",null,"-",null,null,"-"]
[null,null,"-",null,"-",0,0,null,"-",null,"-",null,null,"-"]
[null,null,"-",null,"-",0,0,null,"-",null,"-",null,null,"-"]
[null,null,"-",null,"-",0,0,null,"-",null,"-",null,null,"-"]
[null,null,"-",null,"-",0,0,null,"-",null,"-",null,null,"-"]
[null,null,"-",null,"-",0,{"$f":"IF($A67=0,0,DATEDIF($D67,$A$1,\"m\"))","v":0},null,"-",null,"-",null,null,"-"]
[null,null,"-",null,{"$f":"IF($D68=0,\"-\",YEAR(NOW())-YEAR($D68))","v":"-"},{"$f":"IF($A68=0,0,_xlfn.DAYS($A$1,$D68))","v":0},0,null,{"$f":"IF($H68=0,\"-\",YEAR(NOW())-YEAR($H68))","v":"-"},null,{"$f":"IF($C68=\"barsel\",3,\"-\")","v":"-"},null,null,"-"]
[null,null,"-",null,"-",0,0,null,"-",null,"-",null,null,"-"]

{"sheet":"Opstart","index":2,"n_rows":8,"n_cols":7,"rows_kept":8,"cut":false,"hidden":false,"merged":[[7,4,7,8],[3,4,3,5],[5,6,5,8],[4,6,4,8],[0,1,0,2],[1,1,1,2],[2,6,2,8]]}
[null,"Firma",null,null,"Årstal"]
[null,"Firma Navn",null,null,2025,null,"Vælg år"]
[null,null,null,null,"April",{"$f":"IF(E3=\"\", \"\", MONTH(DATEVALUE(\"1-\" & E3 & \"-2023\")))","v":4},"Vælg Måned"]
[null,null,null,null,"Overtid pr. uge"]
[null,null,null,null,"Overtid 50%",37,"Beregningen af 50% overtid starter "]
[null,null,null,null,"Overtid 100%",40,"Beregningen af 100% overtid starter"]
[]
[null,null,null,null,"Overtids beregningen sker på ugebasis og starter ud fra celle F5 og F6 og kan ændres"]

{"sheet":"Overenskomst","index":3,"n_rows":160,"n_cols":4,"rows_kept":160,"cut":false,"hidden":false,"merged":[]}
[]
[null,"Overenskomst satser afdeling"]
[]
[null,"Tekst  fra overenskomst","2023-03-15","Bemærkning"]
[null,"Kludevask",139.53,"aftalt fast timepris uden tillæg"]
[null,"Transporttid timesats",136.11000000000001,"køretid fra hjem til arbejdsplads i egen bil u/ tillæg"]
[null,"Præstationsløn",164.86,"udgangspunkt i løn med tillæg"]
[null,"Servicetillæg",3.65,"NB! Kun ansatte før 1. sep 2017"]
[null,"Anciennitesttillæg",4.6500000000000004,"NB! Efter 1 års ansættelse (ansatte før 1.sep 2017)"]
[null,"Brancheanciennitetstillæg efter 36 md.",9.3000000000000007,"Træder i kraft d. 15 nevember 2023 kr.9,30"]
[null,"Brancheanciennitetstillæg 12 - 18 md.",5.54,"Model 2: Intet servicetillæg og anciennitetstillæg"]
[null,"Brancheanciennitetstillæg Eft. 18 md.",8.3000000000000007,"Model 2: Intet servicetillæg og anciennitetstillæg"]
[null,"Serviceassistent tillæg",4,"uddannet/ tillæg som præstationsløn"]
[null,"Aftentillæg kl. 18:00-22:00     ",16.989999999999998,"tillæg mellem kl. 18 - 22"]
[null,"Nattillæg kl. 22:00-05:00         ",22.12,"tillæg mellem kl. 22 - 05"]
[null,"Søn-helligdag  ",24.55,"tillæg mellem kl. 00,00 - 24,00"]
[null,"Hovedrengøring",7.13,"tillæg for ekstra rengøring"]
[null,"Genetillæg",4.71,"ved specielle gene rengøringer"]
[null,"Skurtillæg",3.11]
[null,"Overtid 50% 1-3 timer",43.59]
[null,"Overtid 100% over 3 timer",87.18]
[]
[null,"Kørsel Pr. Km.",6]
[null,null,null,"datoer:"]
[null,"Udbetaling sh beløb 1 dag",950,"datoer:"]
[null,"Fritvalgsbetaling beløb",null,"udbetales juni og december"]
[null,"Pension",null,"M:2% - V:10,15 = 12,15%"]
[null,"Pension 10 års Anciennitet/Barsel",null,"M: 0,2% - V:0,4% = 0,6% 10 år /Barsel"]
[]
[]
[null,"1 Maj 12:00 - 24:00",23.72,"1 Maj tillæg pr time"]
[null,"Antal ansættelses dage inden pension"]
[]
[]
[null,"Overenskomst satser afdeling","Vinduespolering"]
[]
[null,"Tekst  fra overenskomst","2023-03-15","Bemærkning"]
[null,"Kludevask",null,"aftalt fast timepris uden tillæg"]
[null,"Transporttid timesats",127.93,"køretid fra hjem til arbejdsplads i egen bil u/ tillæg"]
[null,"Præstationsløn",159.11000000000001,"udgangspunkt i løn med tillæg"]
[null,"Servicetillæg",3.65,"NB! Kun ansatte før 1. sep 2017"]
[null,"Anciennitesttillæg",4.6500000000000004,"NB! Efter 1 års ansættelse (ansatte før 1.sep 2017)"]
[null,"Brancheanciennitetstillæg 6 - 12 md.",null,"Model 2: Intet servicetillæg og anciennitetstillæg"]
[null,"Brancheanciennitetstillæg 12 - 18 md.",5.54,"Model 2: Intet servicetillæg og anciennitetstillæg"]
[null,"Brancheanciennitetstillæg Eft. 18 md.",8.3000000000000007,"Model 2: Intet servicetillæg og anciennitetstillæg"]
[null,"Serviceassistent tillæg",4,"uddannet/ tillæg som præstationsløn"]
[null,"Aftentillæg      ",16.420000000000002,"tillæg mellem kl. 18 - 22"]
[null,"Nattillæg          ",21.37,"tillæg mellem kl. 22 - 05"]
[null,"Søn-helligdag  ",23.72,"tillæg mellem kl. 00,00 - 24,00"]
[null,"Hovedrengøring",7.13,"tillæg for ekstra rengøring"]
[null,"Genetillæg",4.71,"ved specielle gene rengøringer"]
[null,"Skurtillæg",3.11]
[null,"Overtid 50% 1-3 timer",42.32]
[null,"Overtid 100% over 3 timer",84.64]
[null,"Skattefri km penge x sats",4,"kræver kørselsregnskab i fa & ansat"]
[null,"Udbetaling sh beløb ½ dag",null,"datoer:"]
[null,"Udbetaling sh beløb 1 dag",950,"datoer:"]
[null,"Fritvalgsbetaling beløb",null,"udbetales juni og december"]
[null,"Pension",0.1215,"M:2% - V:10,15 = 12,15%"]
[null,"Pension 10 års Anciennitet/Barsel",null,"M: 0,2% - V:0,4% = 0,6% 10 år /Barsel"]
[]
[null,"Personligt Tillæg"]
[null,"1 Maj 12:00 - 24:00",23.72,"1 Maj tillæg pr time"]
[null,"Antal ansættelses dage inden pension"]
[]
[]
[null,"Overenskomst satser afdeling","Ejendomsservice"]
[]
[null,"Tekst  fra overenskomst","2023-03-15","Bemærkning"]
[null,"Kludevask",null,"aftalt fast timepris uden tillæg"]
[null,"Transporttid timesats",127.93,"køretid fra hjem til arbejdsplads i egen bil u/ tillæg"]
[null,"Præstationsløn",159.11000000000001,"udgangspunkt i løn med tillæg"]
[null,"Servicetillæg",3.65,"NB! Kun ansatte før 1. sep 2017"]
[null,"Anciennitesttillæg",4.6500000000000004,"NB! Efter 1 års ansættelse (ansatte før 1.sep 2017)"]
[null,"Brancheanciennitetstillæg 6 - 12 md.",null,"Model 2: Intet servicetillæg og anciennitetstillæg"]
[null,"Brancheanciennitetstillæg 12 - 18 md.",5.54,"Model 2: Intet servicetillæg og anciennitetstillæg"]
[null,"Brancheanciennitetstillæg Eft. 18 md.",8.3000000000000007,"Model 2: Intet servicetillæg og anciennitetstillæg"]
[null,"Serviceassistent tillæg",4,"uddannet/ tillæg som præstationsløn"]
[null,"Aftentillæg      ",16.420000000000002,"tillæg mellem kl. 18 - 22"]
[null,"Nattillæg          ",21.37,"tillæg mellem kl. 22 - 05"]
[null,"Søn-helligdag  ",23.72,"tillæg mellem kl. 00,00 - 24,00"]
[null,"Hovedrengøring",7.13,"tillæg for ekstra rengøring"]
[null,"Genetillæg",4.71,"ved specielle gene rengøringer"]
[null,"Skurtillæg",3.11]
[null,"Overtid 50% 1-3 timer",42.32]
[null,"Overtid 100% over 3 timer",84.64]
[null,"Skattefri km penge x sats",4,"kræver kørselsregnskab i fa & ansat"]
[null,"Udbetaling sh beløb ½ dag",null,"datoer:"]
[null,"Udbetaling sh beløb 1 dag",950,"datoer:"]
[null,"Fritvalgsbetaling beløb",null,"udbetales juni og december"]
[null,"Pension",0.1215,"M:2% - V:10,15 = 12,15%"]
[null,"Pension 10 års Anciennitet/Barsel",null,"M: 0,2% - V:0,4% = 0,6% 10 år /Barsel"]
[]
[null,"Personligt Tillæg"]
[null,"1 Maj 12:00 - 24:00",23.72,"1 Maj tillæg pr time"]
[null,"Antal ansættelses dage inden pension"]
[]
[]
[null,"Overenskomst satser afdeling","Ventilation"]
[]
[null,"Tekst  fra overenskomst","2023-03-15","Bemærkning"]
[null,"Kludevask",null,"aftalt fast timepris uden tillæg"]
[null,"Transporttid timesats",127.93,"køretid fra hjem til arbejdsplads i egen bil u/ tillæg"]
[null,"Præstationsløn",159.11000000000001,"udgangspunkt i løn med tillæg"]
[null,"Servicetillæg",3.65,"NB! Kun ansatte før 1. sep 2017"]
[null,"Anciennitesttillæg",4.6500000000000004,"NB! Efter 1 års ansættelse (ansatte før 1.sep 2017)"]
[null,"Brancheanciennitetstillæg 6 - 12 md.",null,"Model 2: Intet servicetillæg og anciennitetstillæg"]
[null,"Brancheanciennitetstillæg 12 - 18 md.",5.54,"Model 2: Intet servicetillæg og anciennitetstillæg"]
[null,"Brancheanciennitetstillæg Eft. 18 md.",8.3000000000000007,"Model 2: Intet servicetillæg og anciennitetstillæg"]
[null,"Serviceassistent tillæg",4,"uddannet/ tillæg som præstationsløn"]
[null,"Aftentillæg      ",16.420000000000002,"tillæg mellem kl. 18 - 22"]
[null,"Nattillæg          ",21.37,"tillæg mellem kl. 22 - 05"]
[null,"Søn-helligdag  ",23.72,"tillæg mellem kl. 00,00 - 24,00"]
[null,"Hovedrengøring",7.13,"tillæg for ekstra rengøring"]
[null,"Genetillæg",4.71,"ved specielle gene rengøringer"]
[null,"Skurtillæg",3.11]
[null,"Overtid 50% 1-3 timer",42.32]
[null,"Overtid 100% over 3 timer",84.64]
[null,"Skattefri km penge x sats",4,"kræver kørselsregnskab i fa & ansat"]
[null,"Udbetaling sh beløb ½ dag",null,"datoer:"]
[null,"Udbetaling sh beløb 1 dag",950,"datoer:"]
[null,"Fritvalgsbetaling beløb",null,"udbetales juni og december"]
[null,"Pension",0.1215,"M:2% - V:10,15 = 12,15%"]
[null,"Pension 10 års Anciennitet/Barsel",null,"M: 0,2% - V:0,4% = 0,6% 10 år /Barsel"]
[]
[null,"Personligt Tillæg"]
[null,"1 Maj 12:00 - 24:00",23.72,"1 Maj tillæg pr time"]
[null,"Antal ansættelses dage inden pension"]
[]
[]
[null,"Overenskomst satser afdeling","???"]
[]
[null,"Tekst  fra overenskomst","2023-03-15","Bemærkning"]
[null,"Kludevask",null,"aftalt fast timepris uden tillæg"]
[null,"Transporttid timesats",127.93,"køretid fra hjem til arbejdsplads i egen bil u/ tillæg"]
[null,"Præstationsløn",159.11000000000001,"udgangspunkt i løn med tillæg"]
[null,"Servicetillæg",3.65,"NB! Kun ansatte før 1. sep 2017"]
[null,"Anciennitesttillæg",4.6500000000000004,"NB! Efter 1 års ansættelse (ansatte før 1.sep 2017)"]
[null,"Brancheanciennitetstillæg 6 - 12 md.",null,"Model 2: Intet servicetillæg og anciennitetstillæg"]
[null,"Brancheanciennitetstillæg 12 - 18 md.",5.54,"Model 2: Intet servicetillæg og anciennitetstillæg"]
[null,"Brancheanciennitetstillæg Eft. 18 md.",8.3000000000000007,"Model 2: Intet servicetillæg og anciennitetstillæg"]
[null,"Serviceassistent tillæg",4,"uddannet/ tillæg som præstationsløn"]
[null,"Aftentillæg      ",16.420000000000002,"tillæg mellem kl. 18 - 22"]
[null,"Nattillæg          ",21.37,"tillæg mellem kl. 22 - 05"]
[null,"Søn-helligdag  ",23.72,"tillæg mellem kl. 00,00 - 24,00"]
[null,"Hovedrengøring",7.13,"tillæg for ekstra rengøring"]
[null,"Genetillæg",4.71,"ved specielle gene rengøringer"]
[null,"Skurtillæg",3.11]
[null,"Overtid 50% 1-3 timer",42.32]
[null,"Overtid 100% over 3 timer",84.64]
[null,"Skattefri km penge x sats",4,"kræver kørselsregnskab i fa & ansat"]
[null,"Udbetaling sh beløb ½ dag",null,"datoer:"]
[null,"Udbetaling sh beløb 1 dag",950,"datoer:"]
[null,"Fritvalgsbetaling beløb",null,"udbetales juni og december"]
[null,"Pension",0.1215,"M:2% - V:10,15 = 12,15%"]
[null,"Pension 10 års Anciennitet/Barsel",null,"M: 0,2% - V:0,4% = 0,6% 10 år /Barsel"]
[]
[null,"Personligt Tillæg"]
[null,"1 Maj 12:00 - 24:00",23.72,"1 Maj tillæg pr time"]
[null,"Antal ansættelses dage inden pension"]

{"sheet":"Hjælp","index":4,"n_rows":26,"n_cols":2,"rows_kept":26,"cut":false,"hidden":false,"merged":[]}
[null,"Hjælp til opsætningen: "]
[null,"start med at oprette medarbejderen i fanebladet Medarbejder"]
[]
[]
[]
[]
[]
[]
[]
[]
[]
[]
[]
[]
[null,"I fanebladet Opstart kan du indtaste firmanavnet, og vælge år samt måned"]
[]
[]
[]
[]
[]
[]
[]
[]
[]
[]
[null,"I Fanebladet Lønskema tastes timer sygdom, ferie mm"]

{"sheet":"Helligdage","index":5,"n_rows":12,"n_cols":3,"rows_kept":12,"cut":false,"hidden":true,"merged":[[1,0,1,1]]}
[{"$f":"Opstart!E2","v":2025},null,"Palmesøndag"]
["Helligdage til registrering",null,{"$f":"PalmSunday(A1)","v":"2025-04-13"}]
[{"$f":"$C$2+4","v":"2025-04-17"},"skærtd"]
[{"$f":"$C$2+5","v":"2025-04-18"},"langfd"]
[{"$f":"$C$2+7","v":"2025-04-20"},"1Påsked"]
[{"$f":"$C$2+8","v":"2025-04-21"},"2Påsked"]
[{"$f":"$C$2+46","v":"2025-05-29"},"kr.himmelfart"]
[{"$f":"$C$2+56","v":"2025-06-08"},"1Pinse"]
[{"$f":"$C$2+57","v":"2025-06-09"},"2Pinse"]
[{"$f":"DATE(A1,12,25)","v":"2025-12-25"},"1juledag"]
[{"$f":"DATE(A1,12,26)","v":"2025-12-26"},"2juledag"]
[{"$f":"DATE(A1,1,1)","v":"2025-01-01"},"Nytårsdag"]