{"text_format":"1","workbook":"xlsx","n_sheets":2,"sheets":["mønstringliste","navneliste"],"not_rendered":{"charts":0,"images":0,"macros":1,"external_links":0,"defined_names":1,"comments":0,"pivot_tables":0},"unopened":[],"bounds":{"document_bytes":16777216,"sheet_cells":100000,"rows_first":2000,"rows_last":500,"rows_between":2000,"halvings":0,"cell_chars":16384,"cell_head_chars":4096},"cells_cut":0,"cells_raw":0,"read":"whole","date_system":"1900"}

{"sheet":"mønstringliste","index":0,"n_rows":29,"n_cols":8,"rows_kept":29,"cut":false,"hidden":false,"merged":[[0,2,0,5],[0,0,0,1]]}
["Kl.08.00",null,"gunna",null,null,null,"2018-06-01","07:00:00"]
[null,"arb.nr","navn","Tid",null,"arb.nr","navn","Tid"]
[1,392,{"$f":"IF(B3=\"\",\"\",VLOOKUP(B3,navneliste!$A$4:$B$5199,2,FALSE))","v":"Kim H"},"Kl.06.00",28,446,{"$f":"IF(F3=\"\",\"\",VLOOKUP(F3,navneliste!$A$4:$B$5199,2,FALSE))","v":"Morten "}]
[2,396,{"$f":"IF(B4=\"\",\"\",VLOOKUP(B4,navneliste!$A$4:$B$5199,2,FALSE))","v":"dennis"},null,29,446,{"$f":"IF(F4=\"\",\"\",VLOOKUP(F4,navneliste!$A$4:$B$5199,2,FALSE))","v":"Morten "}]
[3,418,{"$f":"IF(B5=\"\",\"\",VLOOKUP(B5,navneliste!$A$4:$B$5199,2,FALSE))","v":"Mohamed"},"Kl.06.00",30,499,{"$f":"IF(F5=\"\",\"\",VLOOKUP(F5,navneliste!$A$4:$B$5199,2,FALSE))","v":"Robert S. "}]
[4,446,{"$f":"IF(B6=\"\",\"\",VLOOKUP(B6,navneliste!$A$3:$B$5199,2,FALSE))","v":"Morten "},null,31,392,{"$f":"IF(F6=\"\",\"\",VLOOKUP(F6,navneliste!$A$4:$B$5199,2,FALSE))","v":"Kim H"}]
[5,508,{"$f":"IF(B7=\"\",\"\",VLOOKUP(B7,navneliste!$A$4:$B$5199,2,FALSE))","v":"Tommy"},null,32,375,{"$f":"IF(F7=\"\",\"\",VLOOKUP(F7,navneliste!$A$4:$B$5199,2,FALSE))","v":"Jorma "}]
[6,null,{"$f":"IF(B8=\"\",\"\",VLOOKUP(B8,navneliste!$A$4:$B$5199,2,FALSE))","v":""},null,33,null,{"$f":"IF(F8=\"\",\"\",VLOOKUP(F8,navneliste!$A$4:$B$5199,2,FALSE))","v":""}]
[7,null,{"$f":"IF(B9=\"\",\"\",VLOOKUP(B9,navneliste!$A$4:$B$5199,2,FALSE))","v":""},null,34,null,{"$f":"IF(F9=\"\",\"\",VLOOKUP(F9,navneliste!$A$4:$B$5199,2,FALSE))","v":""}]
[8,null,{"$f":"IF(B10=\"\",\"\",VLOOKUP(B10,navneliste!$A$4:$B$5199,2,FALSE))","v":""},null,35]
[9,null,{"$f":"IF(B11=\"\",\"\",VLOOKUP(B11,navneliste!$A$4:$B$5199,2,FALSE))","v":""},null,36,null,{"$f":"IF(F11=\"\",\"\",VLOOKUP(F11,navneliste!$A$4:$B$5199,2,FALSE))","v":""}]
[10,null,{"$f":"IF(B12=\"\",\"\",VLOOKUP(B12,navneliste!$A$4:$B$5199,2,FALSE))","v":""},null,37,null,{"$f":"IF(F12=\"\",\"\",VLOOKUP(F12,navneliste!$A$4:$B$5199,2,FALSE))","v":""}]
[11,null,{"$f":"IF(B13=\"\",\"\",VLOOKUP(B13,navneliste!$A$4:$B$5199,2,FALSE))","v":""},null,38,null,{"$f":"IF(F13=\"\",\"\",VLOOKUP(F13,navneliste!$A$4:$B$5199,2,FALSE))","v":""}]
[12,null,{"$f":"IF(B14=\"\",\"\",VLOOKUP(B14,navneliste!$A$4:$B$5199,2,FALSE))","v":""},null,39,null,{"$f":"IF(F14=\"\",\"\",VLOOKUP(F14,navneliste!$A$4:$B$5199,2,FALSE))","v":""}]
[13,null,{"$f":"IF(B15=\"\",\"\",VLOOKUP(B15,navneliste!$A$4:$B$5199,2,FALSE))","v":""},null,40,null,{"$f":"IF(F15=\"\",\"\",VLOOKUP(F15,navneliste!$A$4:$B$5199,2,FALSE))","v":""}]
[14,null,{"$f":"IF(B16=\"\",\"\",VLOOKUP(B16,navneliste!$A$4:$B$5199,2,FALSE))","v":""},null,41,null,{"$f":"IF(F16=\"\",\"\",VLOOKUP(F16,navneliste!$A$4:$B$5199,2,FALSE))","v":""}]
[15,null,{"$f":"IF(B17=\"\",\"\",VLOOKUP(B17,navneliste!$A$4:$B$5199,2,FALSE))","v":""},null,42,null,{"$f":"IF(F17=\"\",\"\",VLOOKUP(F17,navneliste!$A$4:$B$5199,2,FALSE))","v":""}]
[16,null,{"$f":"IF(B18=\"\",\"\",VLOOKUP(B18,navneliste!$A$4:$B$5199,2,FALSE))","v":""},null,43,null,{"$f":"IF(F18=\"\",\"\",VLOOKUP(F18,navneliste!$A$4:$B$5199,2,FALSE))","v":""}]
[17,null,{"$f":"IF(B19=\"\",\"\",VLOOKUP(B19,navneliste!$A$4:$B$5199,2,FALSE))","v":""},null,44,null,{"$f":"IF(F19=\"\",\"\",VLOOKUP(F19,navneliste!$A$4:$B$5199,2,FALSE))","v":""}]
[18,null,{"$f":"IF(B20=\"\",\"\",VLOOKUP(B20,navneliste!$A$4:$B$5199,2,FALSE))","v":""},null,45,null,{"$f":"IF(F20=\"\",\"\",VLOOKUP(F20,navneliste!$A$4:$B$5199,2,FALSE))","v":""}]
[19,null,{"$f":"IF(B21=\"\",\"\",VLOOKUP(B21,navneliste!$A$4:$B$5199,2,FALSE))","v":""},null,46,null,{"$f":"IF(F21=\"\",\"\",VLOOKUP(F21,navneliste!$A$4:$B$5199,2,FALSE))","v":""}]
[20,null,{"$f":"IF(B22=\"\",\"\",VLOOKUP(B22,navneliste!$A$4:$B$5199,2,FALSE))","v":""},null,47,null,{"$f":"IF(F22=\"\",\"\",VLOOKUP(F22,navneliste!$A$4:$B$5199,2,FALSE))","v":""}]
[21,null,{"$f":"IF(B23=\"\",\"\",VLOOKUP(B23,navneliste!$A$4:$B$5199,2,FALSE))","v":""},null,48,null,{"$f":"IF(F23=\"\",\"\",VLOOKUP(F23,navneliste!$A$4:$B$5199,2,FALSE))","v":""}]
[22,null,{"$f":"IF(B24=\"\",\"\",VLOOKUP(B24,navneliste!$A$4:$B$5199,2,FALSE))","v":""},null,49,null,{"$f":"IF(F24=\"\",\"\",VLOOKUP(F24,navneliste!$A$4:$B$5199,2,FALSE))","v":""}]
[23,null,{"$f":"IF(B25=\"\",\"\",VLOOKUP(B25,navneliste!$A$4:$B$5199,2,FALSE))","v":""},null,50,null,{"$f":"IF(F25=\"\",\"\",VLOOKUP(F25,navneliste!$A$4:$B$5199,2,FALSE))","v":""}]
[24,null,{"$f":"IF(B26=\"\",\"\",VLOOKUP(B26,navneliste!$A$4:$B$5199,2,FALSE))","v":""},null,51,null,{"$f":"IF(F26=\"\",\"\",VLOOKUP(F26,navneliste!$A$4:$B$5199,2,FALSE))","v":""}]
[25,null,{"$f":"IF(B27=\"\",\"\",VLOOKUP(B27,navneliste!$A$4:$B$5199,2,FALSE))","v":""},null,52,null,{"$f":"IF(F27=\"\",\"\",VLOOKUP(F27,navneliste!$A$4:$B$5199,2,FALSE))","v":""}]
[26,null,{"$f":"IF(B28=\"\",\"\",VLOOKUP(B28,navneliste!$A$4:$B$5199,2,FALSE))","v":""},null,53,null,{"$f":"IF(F28=\"\",\"\",VLOOKUP(F28,navneliste!$A$4:$B$5199,2,FALSE))","v":""}]
[27,null,{"$f":"IF(B29=\"\",\"\",VLOOKUP(B29,navneliste!$A$4:$B$5199,2,FALSE))","v":""},null,54,null,{"$f":"IF(F29=\"\",\"\",VLOOKUP(F29,navneliste!$A$4:$B$5199,2,FALSE))","v":""}]

{"sheet":"navneliste","index":1,"n_rows":20,"n_cols":11,"rows_kept":20,"cut":false,"hidden":false,"merged":[]}
["arb.nr","Navn",null,null,null,null,"Skib",null,null,null,"Tid"]
[]
[364,"Johannes ",null,null,null,null,"gunna"]
[375,"Jorma ",null,null,null,null,"katrine",null,null,null,"Kl.03.30"]
[387,"Søren A",null,null,null,null,"msc",null,null,null,"Kl.04.00"]
[392,"Kim H",null,null,null,null,null,null,null,null,"Kl.04.30"]
[396,"dennis",null,null,null,null,null,null,null,null,"Kl.05.00"]
[400,"Gunnar ",null,null,null,null,null,null,null,null,"Kl.05.30"]
[418,"Mohamed",null,null,null,null,null,null,null,null,"Kl.06.00"]
[421,"Tim",null,null,null,null,null,null,null,null,"Kl.06.30"]
[424,"Freddie",null,null,null,null,null,null,null,null,"Kl.07.00"]
[442,"Jan S. ",null,null,null,null,null,null,null,null,"Kl.08.00"]
[446,"Morten ",null,null,null,null,null,null,null,null,"Kl.09.00"]
[458,"Tonny  ",null,null,null,null,null,null,null,null,"Kl.10.00"]
[499,"Robert S. "]
[503,"Brian"]
[508,"Tommy"]
[527,"Flemming "]
[542," Larsen"]
[564,"Schønheyder"]