{"text_format":"1","workbook":"xlsx","n_sheets":13,"sheets":["LønOgTimeberegning","Januar","Februar","Marts","April","Maj","Juni","Juli","August","September","Oktober","November","December"],"not_rendered":{"charts":0,"images":0,"macros":1,"external_links":0,"defined_names":0,"comments":0,"pivot_tables":0},"unopened":[],"bounds":{"document_bytes":16777216,"sheet_cells":100000,"rows_first":2000,"rows_last":500,"rows_between":2000,"halvings":0,"cell_chars":16384,"cell_head_chars":4096},"cells_cut":0,"cells_raw":0,"read":"whole","date_system":"1904"}

{"sheet":"LønOgTimeberegning","index":0,"n_rows":567,"n_cols":24,"rows_kept":567,"cut":false,"hidden":false,"merged":[[37,19,38,19],[37,20,38,20],[345,13,345,14],[355,13,355,14],[365,13,365,14],[375,13,375,14],[385,13,385,14],[395,13,395,14],[405,13,405,14],[205,13,205,14],[215,13,215,14],[337,19,340,19],[337,20,340,20],[380,19,383,19],[380,20,383,20],[98,18,105,18],[258,18,265,18],[198,18,205,18],[308,18,315,18],[249,19,252,19],[298,18,305,18],[318,18,325,18],[328,18,335,18],[338,18,345,18],[415,13,415,14],[425,13,425,14],[225,13,225,14],[235,13,235,14],[245,13,245,14],[255,13,255,14],[528,18,535,18],[498,18,505,18],[508,18,515,18],[378,18,385,18],[398,18,405,18],[388,18,395,18],[448,18,455,18],[458,18,465,18],[408,18,415,18],[418,18,425,18],[488,18,495,18],[478,18,485,18],[468,18,475,18],[518,18,525,18],[515,13,515,14],[358,18,365,18],[368,18,375,18],[348,18,355,18],[1,2,1,6],[18,18,25,18],[48,18,55,18],[58,18,65,18],[108,18,115,18],[115,13,115,14],[288,18,295,18],[188,18,195,18],[138,18,145,18],[118,18,125,18],[168,18,175,18],[208,18,215,18],[248,18,255,18],[148,18,155,18],[158,18,165,18],[218,18,225,18],[268,18,275,18],[278,18,285,18],[178,18,185,18],[228,18,235,18],[238,18,245,18],[195,13,195,14],[1,11,1,12],[125,13,125,14],[0,8,0,9],[0,17,0,18],[28,18,35,18],[68,18,75,18],[38,18,45,18],[78,18,85,18],[9,10,12,10],[25,13,25,14],[35,13,35,14],[118,19,121,19],[118,20,121,20],[128,18,135,18],[207,20,209,20],[207,19,209,19],[123,19,124,19],[135,13,135,14],[145,13,145,14],[155,13,155,14],[165,13,165,14],[175,13,175,14],[185,13,185,14],[78,20,81,20],[78,19,81,19],[45,13,45,14],[55,13,55,14],[65,13,65,14],[75,13,75,14],[85,13,85,14],[95,13,95,14],[105,13,105,14],[88,18,95,18],[249,20,252,20],[265,13,265,14],[275,13,275,14],[285,13,285,14],[295,13,295,14],[305,13,305,14],[315,13,315,14],[325,13,325,14],[335,13,335,14],[445,13,445,14],[427,19,428,19],[427,20,428,20],[455,13,455,14],[465,13,465,14],[475,13,475,14],[485,13,485,14],[495,13,495,14],[505,13,505,14],[468,19,471,19],[468,20,471,20],[435,13,435,14],[438,18,445,18],[428,18,435,18],[510,19,513,19],[510,20,513,20],[525,13,525,14],[535,13,535,14],[546,13,546,14],[556,13,556,14],[566,13,566,14],[559,18,566,18],[558,19,560,19],[558,20,560,20],[539,18,546,18],[549,18,556,18]]}
[null,"I  rubrikken timeLøn indættes satsen","Tids indtasnings formatet er XX:XX"," ",null,null,null,"Ind tasnings formatet er i X,XX og hundred-dele format.","Programmet genere automatisk tid i Timebanken, hvis du ikke har fuld tid pr. dag(det bliver så afspadsering).Du skal manuelt fjerne den generet tid( afspadsering) i rubrikken Fri uden løn indtast som:    tt:mm, Hvis du ikke vil have den regristreret i Timebanken.",null,null,null,"I rubrikken indsættes satsen","I rubrikken indsættes satsen",null,null,null,"Du skal bruge BACKSPACE hvis du har indtastet forkert tid, til at fjerne den forkerte indtastning. Så ødelægger du ikke formlerne."]
[null,null,"Overført timebank saldo fra året før",null,null,null,null,0,null,{"$f":"H2/24","v":0},null,"Antal FerieDage",null,1]
[null,"Hverdag 07.00-15.15\n\nTimeløn","Hverdag 15.15 - 17.15\nTillæg på 50%","Hverdag  17.15 - 07.00 Tillæg på 100%"," "," Lørdag 00.00 - 24.00  Tillæg på 100 %",null,"Søndag     00.00 - 24.00  Tillæg på     100 %",null,"Time Bank Saldo Total",null,null,"Syge løns sats","Ferie Beløb","Årets Samlede Timer"," ",null,null,null," "," "," "," "," "]
[null,0,{"$f":"B4/2","v":0},{"$f":"B4","v":0}," ",{"$f":"B4","v":0},null,{"$f":"B4","v":0},null,{"$f":"SUM(J19:J535)-SUM(I19:I535)+J2+SUM(L19:L535)","v":0},null,null,0,0,{"$f":"SUM(U40,U83,U123,U169,U211,U254,U299,U342,U385,U430,U473,U515,U562)","v":0}," "]
[]
[null,"Mandag Til","Start","07:00:00","15:15:00","17:15:00","06:00:00"]
[null,"Torsdag","Slut","15:15:00","17:15:00","06:00:00","07:00:00"]
[null,null,null,null,null,null,null,null,null,null,null,null,"1  Pause mellem",null,0.375,"10:00:00"]
[null,"Fredag","Start","07:00:00","13:55:00","15:55:00",null,null,null,null,null,null,"2  Pause mellem",null,0.5,"13:00:00"]
[null,null,"Slut","13:55:00","15:55:00","00:00:00"]
[]
[null,"Lørdag","Start","00:00:00","00:00:00"," "]
[null,null,"Slut","00:00:00","00:00:00"," "]
[null,null,null,null,null,null,null,null,null,"Normal Afholdt Pauser"]
[null,"Søndag","Start","00:00:00","00:00:00",null,null,null,null,"Formiddag",1.0416666666666666E-2]
[null,null,"Slut",1,"00:00:00",null,null,null,null,"Middag",1.3888888888888888E-2]
[2022,null,null,null,null," ",null,null,null,null,null,null,null,null,null,null,null,null,null,null,null,null,null," "]
[1,"Uge dag","Start  indtast som:    tt:mm","Slut  indtast som:  tt:mm","Normal ArbejdsTid  Incl. Pause","Overtid 50%"," Overtid 100%\nMan-lør","Overtid 100%\nSøndag","Tid     Fratrukket Timebank (Afspasering)","Tid Indsat I Timebank, OVERTID timer","Afholdt Pause","Fri uden løn indtast som:    tt:mm","Time sygeløn/ Barnets første sygedag indtast som:   tt:mm","Ferie Dag aktivering = 1","Ferie Penge Beløb","I alt",null,"Løn","I alt",null,null,null,null," "]
[{"$f":"DATE($A$17,1,7*A18-3-WEEKDAY(DATE($A$17,,),3))","v":"2022-01-03"},{"$f":"HelligdagsNavn(A19,1,1,1,1,1,1,1)","v":"Mandag"},null,null,{"$f":"IF(WEEKDAY(A19,2)<6,ColTime($D$6,$D$7,C19,D19),0)*IF(C19>0,D19>0)","v":0},{"$f":"IF(WEEKDAY(A19,2)<6,ColTime($G$6,$G$7,C19,D19),0)+IF(WEEKDAY(A19,2)<6,ColTime($E$6,$E$7,C19,D19),0)*IF(C19>0,D19>0)","v":0},{"$f":"IF(WEEKDAY(A19,2)<6,ColTime($F$6,$F$7,C19,D19),0)*IF(C19>0,D19>0)","v":0},null,{"$f":"IF(E19=0,0,($D$7-$D$6)-E19)","v":0},{"$f":"IF(E19=0,0,($D$7-$D$6)-($D$7-$D$6))+F19+G19","v":0},{"$f":"IF(AND($O$8>=C19,D19>=$P$8),$K$15,0)+IF(AND($O$9<=D19,$P$9<=D19),$K$16,0)","v":0},null,0,null,{"$f":"IF(E19=0,M19=0)*SUM(($N$4/$N$2*N19))","v":0},{"$f":"SUM(E19:I19)-IF(C19>0,D19>0)*K19-L19","v":0},null,{"$f":"(((IF(E19>0,)+(P19*$B$4))+(F19*$C$4)+(G19*$D$4)+(M19*$M$4)))*24+O19","v":0},{"$f":"SUM(R19:R25)","v":0}," ",null," "]
[{"$f":"A19+1","v":"2022-01-04"},"Tirsdag",null,null,{"$f":"IF(WEEKDAY(A20,2)<6,ColTime($D$6,$D$7,C20,D20),0)*IF(C20>0,D20>0)","v":0},{"$f":"IF(WEEKDAY(A20,2)<6,ColTime($G$6,$G$7,C20,D20),0)+IF(WEEKDAY(A20,2)<6,ColTime($E$6,$E$7,C20,D20),0)*IF(C20>0,D20>0)","v":0},{"$f":"IF(WEEKDAY(A20,2)<6,ColTime($F$6,$F$7,C20,D20),0)*IF(C20>0,D20>0)","v":0},null,{"$f":"IF(E20=0,0,($D$7-$D$6)-E20)","v":0},{"$f":"IF(E20=0,0,($D$7-$D$6)-($D$7-$D$6))+F20+G20","v":0},{"$f":"IF(AND($O$8>=C20,D20>=$P$8),$K$15,0)+IF(AND($O$9<=D20,$P$9<=D20),$K$16,0)","v":0},null,0,null,{"$f":"IF(E20=0,M20=0)*SUM(($N$4/$N$2*N20))","v":0},0,null,0]
["2022-01-05","Onsdag",null,null,{"$f":"IF(WEEKDAY(A21,2)<6,ColTime($D$6,$D$7,C21,D21),0)*IF(C21>0,D21>0)","v":0},{"$f":"IF(WEEKDAY(A21,2)<6,ColTime($G$6,$G$7,C21,D21),0)+IF(WEEKDAY(A21,2)<6,ColTime($E$6,$E$7,C21,D21),0)*IF(C21>0,D21>0)","v":0},{"$f":"IF(WEEKDAY(A21,2)<6,ColTime($F$6,$F$7,C21,D21),0)*IF(C21>0,D21>0)","v":0},null,{"$f":"IF(E21=0,0,($D$7-$D$6)-E21)","v":0},0,0,null,0,null,0,0,null,0]
["2022-01-06","Torsdag",null,null,{"$f":"IF(WEEKDAY(A22,2)<6,ColTime($D$6,$D$7,C22,D22),0)*IF(C22>0,D22>0)","v":0},{"$f":"IF(WEEKDAY(A22,2)<6,ColTime($G$6,$G$7,C22,D22),0)+IF(WEEKDAY(A22,2)<6,ColTime($E$6,$E$7,C22,D22),0)*IF(C22>0,D22>0)","v":0},{"$f":"IF(WEEKDAY(A22,2)<6,ColTime($F$6,$F$7,C22,D22),0)*IF(C22>0,D22>0)","v":0},null,{"$f":"IF(E22=0,0,($D$7-$D$6)-E22)","v":0},{"$f":"IF(E22=0,0,($D$7-$D$6)-($D$7-$D$6))+F22+G22","v":0},0,null,0,null,0,0,null,{"$f":"(((IF(E22>0,)+(P22*$B$4))+(F22*$C$4)+(G22*$D$4)+(M22*$M$4)))*24+O22","v":0}]
["2022-01-07","Fredag",null,null,{"$f":"IF(WEEKDAY(A23,2)<6,ColTime($D$6,$D$7,C23,D23),0)*IF(C23>0,D23>0)","v":0},{"$f":"IF(WEEKDAY(A23,2)<6,ColTime($G$6,$G$7,C23,D23),0)+IF(WEEKDAY(A23,2)<6,ColTime($E$6,$E$7,C23,D23),0)*IF(C23>0,D23>0)","v":0},{"$f":"IF(WEEKDAY(A23,2)<6,ColTime($F$6,$F$7,C23,D23),0)*IF(C23>0,D23>0)","v":0},null,{"$f":"IF(E23=0,0,($D$10-$D$9)-E23)","v":0},{"$f":"IF(E23=0,0,($D$7-$D$6)-($D$7-$D$6))+F23+G23","v":0},{"$f":"IF(AND($O$8>=C23,D23>=$P$8),$K$15,0)+IF(AND($O$9<=D23,$P$9<=D23),$K$16,0)","v":0},null,0,null,0,0,null,{"$f":"(((IF(E23>0,)+(P23*$B$4))+(F23*$C$4)+(G23*$D$4)+(M23*$M$4)))*24+O23","v":0}]
["2022-01-08","Lørdag",null,null," ","  ",{"$f":"IF(WEEKDAY(A24,2)<6,ColTime($F$6,$F$7,C24,D24),0)*IF(C24>0,D24>0)","v":0},null," ",{"$f":"G24","v":0},null,null," "," ",null,{"$f":"SUM(E24:I24)-IF(C24>0,D24>0)*K24-L24","v":0},null,{"$f":"(P24*$F$4)*24","v":0}]
["2022-01-09","Søndag",null,null,null," "," ",{"$f":"IF(WEEKDAY(A25,2)=7,D25-C25+(D25<C25),IF(AND(WEEKDAY(A25,2)=6,D25<C25),ColTime($E$15,$E$16,D16,D25),0))","v":0}," ",{"$f":"H25","v":0},null,null," "," ",null,0,null,{"$f":"(P25*$H$4)*24","v":0}]
[null,null,null,null,null,null,null,null,null,null,null,null,{"$f":"SUM(M19:M25)","v":0},"Uge Timer I alt",null,{"$f":"SUM(P19:P25)+M26","v":0}]
[]
[2,"Uge dag","Start  indtast som:    tt:mm","Slut  indtast som:    tt:mm","Normal ArbejdsTid  Incl. Pause","Overtid 50%"," Overtid 100%\nMan-lør","Overtid 100%\nSøndag","Tid     Fratrukket Timebank (Afspasering)","Tid Indsat I Timebank, OVERTID timer","Afholdt Pause","Fri uden løn   indtast som:    tt:mm","Time sygeløn indtast som:    tt:mm","Ferie Dag antal","Ferie Penge Beløb","I alt",null,"Løn","I alt"]
[{"$f":"DATE($A$17,1,7*A28-3-WEEKDAY(DATE($A$17,,),3))","v":"2022-01-10"},{"$f":"HelligdagsNavn(A29,1,1,1,1,1,1,1)","v":"Mandag"},null,null,{"$f":"IF(WEEKDAY(A29,2)<6,ColTime($D$6,$D$7,C29,D29),0)*IF(C29>0,D29>0)","v":0},{"$f":"IF(WEEKDAY(A29,2)<6,ColTime($G$6,$G$7,C29,D29),0)+IF(WEEKDAY(A29,2)<6,ColTime($E$6,$E$7,C29,D29),0)*IF(C29>0,D29>0)","v":0},{"$f":"IF(WEEKDAY(A29,2)<6,ColTime($F$6,$F$7,C29,D29),0)*IF(C29>0,D29>0)","v":0},null,{"$f":"IF(E29=0,0,($D$7-$D$6)-E29)","v":0},{"$f":"IF(E29=0,0,($D$7-$D$6)-($D$7-$D$6))+F29+G29","v":0},{"$f":"IF(AND($O$8>=C29,D29>=$P$8),$K$15,0)+IF(AND($O$9<=D29,$P$9<=D29),$K$16,0)","v":0},null,0,null,{"$f":"IF(E29=0,M29=0)*SUM(($N$4/$N$2*N29))","v":0},{"$f":"SUM(E29:I29)-IF(C29>0,D29>0)*K29-L29","v":0},null,{"$f":"(((IF(E29>0,)+(P29*$B$4))+(F29*$C$4)+(G29*$D$4)+(M29*$M$4)))*24+O29","v":0},{"$f":"SUM(R29:R35)","v":0}]
[{"$f":"A29+1","v":"2022-01-11"},"Tirsdag",null,null,{"$f":"IF(WEEKDAY(A30,2)<6,ColTime($D$6,$D$7,C30,D30),0)*IF(C30>0,D30>0)","v":0},{"$f":"IF(WEEKDAY(A30,2)<6,ColTime($G$6,$G$7,C30,D30),0)+IF(WEEKDAY(A30,2)<6,ColTime($E$6,$E$7,C30,D30),0)*IF(C30>0,D30>0)","v":0},{"$f":"IF(WEEKDAY(A30,2)<6,ColTime($F$6,$F$7,C30,D30),0)*IF(C30>0,D30>0)","v":0},null,{"$f":"IF(E30=0,0,($D$7-$D$6)-E30)","v":0},{"$f":"IF(E30=0,0,($D$7-$D$6)-($D$7-$D$6))+F30+G30","v":0},{"$f":"IF(AND($O$8>=C30,D30>=$P$8),$K$15,0)+IF(AND($O$9<=D30,$P$9<=D30),$K$16,0)","v":0},null,0,null,0,0,null,0]
["2022-01-12","Onsdag",null,null,{"$f":"IF(WEEKDAY(A31,2)<6,ColTime($D$6,$D$7,C31,D31),0)*IF(C31>0,D31>0)","v":0},{"$f":"IF(WEEKDAY(A31,2)<6,ColTime($G$6,$G$7,C31,D31),0)+IF(WEEKDAY(A31,2)<6,ColTime($E$6,$E$7,C31,D31),0)*IF(C31>0,D31>0)","v":0},{"$f":"IF(WEEKDAY(A31,2)<6,ColTime($F$6,$F$7,C31,D31),0)*IF(C31>0,D31>0)","v":0},null,{"$f":"IF(E31=0,0,($D$7-$D$6)-E31)","v":0},0,0,null,0,null,0,0,null,0]
["2022-01-13","Torsdag",null,null,{"$f":"IF(WEEKDAY(A32,2)<6,ColTime($D$6,$D$7,C32,D32),0)*IF(C32>0,D32>0)","v":0},{"$f":"IF(WEEKDAY(A32,2)<6,ColTime($G$6,$G$7,C32,D32),0)+IF(WEEKDAY(A32,2)<6,ColTime($E$6,$E$7,C32,D32),0)*IF(C32>0,D32>0)","v":0},{"$f":"IF(WEEKDAY(A32,2)<6,ColTime($F$6,$F$7,C32,D32),0)*IF(C32>0,D32>0)","v":0},null,{"$f":"IF(E32=0,0,($D$7-$D$6)-E32)","v":0},{"$f":"IF(E32=0,0,($D$7-$D$6)-($D$7-$D$6))+F32+G32","v":0},0,null,0,null,0,0,null,0]
["2022-01-14","Fredag",null,null,{"$f":"IF(WEEKDAY(A33,2)<6,ColTime($D$6,$D$7,C33,D33),0)*IF(C33>0,D33>0)","v":0},{"$f":"IF(WEEKDAY(A33,2)<6,ColTime($G$6,$G$7,C33,D33),0)+IF(WEEKDAY(A33,2)<6,ColTime($E$6,$E$7,C33,D33),0)*IF(C33>0,D33>0)","v":0},{"$f":"IF(WEEKDAY(A33,2)<6,ColTime($F$6,$F$7,C33,D33),0)*IF(C33>0,D33>0)","v":0},null,{"$f":"IF(E33=0,0,($D$10-$D$9)-E33)","v":0},{"$f":"IF(E33=0,0,($D$7-$D$6)-($D$7-$D$6))+F33+G33","v":0},0,null,0,null,0,0,null,0]
["2022-01-15","Lørdag",null,null," ","  ",{"$f":"IF(WEEKDAY(A34,2)<6,ColTime($F$6,$F$7,C34,D34),0)*IF(C34>0,D34>0)","v":0},null," ",{"$f":"G34","v":0},null,null," "," ",null,0,null,{"$f":"(P34*$F$4)*24","v":0}]
["2022-01-16","Søndag",null,null,null," "," ",{"$f":"IF(WEEKDAY(A35,2)=7,D35-C35+(D35<C35),IF(AND(WEEKDAY(A35,2)=6,D35<C35),ColTime($E$15,$E$16,#REF!,D35),0))","v":0}," ",{"$f":"H35","v":0},null,null," "," ",null,0,null,{"$f":"(P35*$H$4)*24","v":0}]
[null,null,null,null,null,null,null,null,null,null,null,null,{"$f":"SUM(M29:M35)","v":0},"Uge Timer I alt",null,{"$f":"SUM(P29:P35)+M36","v":0}]
[]
[3,"Uge dag","Start  indtast som:   tt:mm","Slut  indtast som:     tt:mm","Normal ArbejdsTid  Incl. Pause","Overtid 50%"," Overtid 100%\nMan-lør","Overtid 100%\nSøndag","Tid     Fratrukket Timebank (Afspasering)","Tid Indsat I Timebank, OVERTID timer"," Afholdt Pause","Fri uden løn indtast som:    tt:mm","Time sygeløn indtast som:    tt:mm","Ferie Dag antal","Ferie Penge Beløb","I alt",null,"Løn","I alt","Januar  Løn","Samlet Timer i Perioden"]
[{"$f":"DATE($A$17,1,7*A38-3-WEEKDAY(DATE($A$17,,),3))","v":"2022-01-17"},{"$f":"HelligdagsNavn(A39,1,1,1,1,1,1,1)","v":"Mandag"},null,null,{"$f":"IF(WEEKDAY(A39,2)<6,ColTime($D$6,$D$7,C39,D39),0)*IF(C39>0,D39>0)","v":0},{"$f":"IF(WEEKDAY(A39,2)<6,ColTime($G$6,$G$7,C39,D39),0)+IF(WEEKDAY(A39,2)<6,ColTime($E$6,$E$7,C39,D39),0)*IF(C39>0,D39>0)","v":0},{"$f":"IF(WEEKDAY(A39,2)<6,ColTime($F$6,$F$7,C39,D39),0)*IF(C39>0,D39>0)","v":0},null,{"$f":"IF(E39=0,0,($D$7-$D$6)-E39)","v":0},{"$f":"IF(E39=0,0,($D$7-$D$6)-($D$7-$D$6))+F39+G39","v":0},{"$f":"IF(AND($O$8>=C39,D39>=$P$8),$K$15,0)+IF(AND($O$9<=D39,$P$9<=D39),$K$16,0)","v":0},null,0,null,{"$f":"IF(E39=0,M39=0)*SUM(($N$4/$N$2*N39))","v":0},0,null,{"$f":"(((IF(E39>0,)+(P39*$B$4))+(F39*$C$4)+(G39*$D$4)+(M39*$M$4)))*24+O39","v":0},{"$f":"SUM(R39:R45)","v":0}]
[{"$f":"A39+1","v":"2022-01-18"},"Tirsdag",null,null,{"$f":"IF(WEEKDAY(A40,2)<6,ColTime($D$6,$D$7,C40,D40),0)*IF(C40>0,D40>0)","v":0},{"$f":"IF(WEEKDAY(A40,2)<6,ColTime($G$6,$G$7,C40,D40),0)+IF(WEEKDAY(A40,2)<6,ColTime($E$6,$E$7,C40,D40),0)*IF(C40>0,D40>0)","v":0},{"$f":"IF(WEEKDAY(A40,2)<6,ColTime($F$6,$F$7,C40,D40),0)*IF(C40>0,D40>0)","v":0},null,0,0,0,null,0,null,0,0,null,0,null,{"$f":"SUMIFS($R:$R,$A:$A,\">=\"&DATE($A$17-1,12,21),$A:$A,\"<=\"&DATE($A$17,1,20))","v":0},{"$f":"SUMIFS($P:$P,$A:$A,\">=\"&DATE($A$17-1,12,21),$A:$A,\"<=\"&DATE($A$17,1,20))+SUMIFS($M:$M,$A:$A,\">=\"&DATE($A$17-1,12,21),$A:$A,\"<=\"&DATE($A$17,1,20))","v":0}]
["2022-01-19","Onsdag",null,null,{"$f":"IF(WEEKDAY(A41,2)<6,ColTime($D$6,$D$7,C41,D41),0)*IF(C41>0,D41>0)","v":0},{"$f":"IF(WEEKDAY(A41,2)<6,ColTime($G$6,$G$7,C41,D41),0)+IF(WEEKDAY(A41,2)<6,ColTime($E$6,$E$7,C41,D41),0)*IF(C41>0,D41>0)","v":0},{"$f":"IF(WEEKDAY(A41,2)<6,ColTime($F$6,$F$7,C41,D41),0)*IF(C41>0,D41>0)","v":0},null,0,0,0,null,0,null,0,0,null,0]
["2022-01-20","Torsdag",null,null,{"$f":"IF(WEEKDAY(A42,2)<6,ColTime($D$6,$D$7,C42,D42),0)*IF(C42>0,D42>0)","v":0},{"$f":"IF(WEEKDAY(A42,2)<6,ColTime($G$6,$G$7,C42,D42),0)+IF(WEEKDAY(A42,2)<6,ColTime($E$6,$E$7,C42,D42),0)*IF(C42>0,D42>0)","v":0},{"$f":"IF(WEEKDAY(A42,2)<6,ColTime($F$6,$F$7,C42,D42),0)*IF(C42>0,D42>0)","v":0},null,0,0,0,null,0,null,0,0,null,0]
["2022-01-21","Fredag",null,null,{"$f":"IF(WEEKDAY(A43,2)<6,ColTime($D$6,$D$7,C43,D43),0)*IF(C43>0,D43>0)","v":0},{"$f":"IF(WEEKDAY(A43,2)<6,ColTime($G$6,$G$7,C43,D43),0)+IF(WEEKDAY(A43,2)<6,ColTime($E$6,$E$7,C43,D43),0)*IF(C43>0,D43>0)","v":0},{"$f":"IF(WEEKDAY(A43,2)<6,ColTime($F$6,$F$7,C43,D43),0)*IF(C43>0,D43>0)","v":0},null,{"$f":"IF(E43=0,0,($D$10-$D$9)-E43)","v":0},0,0,null,0,null,0,{"$f":"SUM(E43:I43)-IF(C43>0,D43>0)*K43-L43","v":0},null,0]
["2022-01-22","Lørdag",null,null," ","  ",{"$f":"IF(WEEKDAY(A44,2)<6,ColTime($F$6,$F$7,C44,D44),0)*IF(C44>0,D44>0)","v":0},null," ",{"$f":"G44","v":0},null,null," "," ",null,0,null,{"$f":"(P44*$F$4)*24","v":0}]
["2022-01-23","Søndag",null,null,null," "," ",{"$f":"IF(WEEKDAY(A45,2)=7,D45-C45+(D45<C45),IF(AND(WEEKDAY(A45,2)=6,D45<C45),ColTime($E$15,$E$16,#REF!,D45),0))","v":0}," ",{"$f":"H45","v":0},null,null," "," ",null,0,null,{"$f":"(P45*$H$4)*24","v":0}]
[null,null,null,null,null,null,null,null,null,null,null,null,{"$f":"SUM(M39:M45)","v":0},"Uge Timer I alt",null,{"$f":"SUM(P39:P45)+M46","v":0}]
[]
[4,"Uge dag","Start  indtast som:   tt:mm","Slut  indtast som:     tt:mm","Normal ArbejdsTid  Incl. Pause","Overtid 50%"," Overtid 100%\nMan-lør","Overtid 100%\nSøndag","Tid     Fratrukket Timebank (Afspasering)","Tid Indsat I Timebank, OVERTID timer"," Afholdt Pause","Fri uden løn indtast som:    tt:mm","Time sygeløn indtast som:    tt:mm","Ferie Dag antal","Ferie Penge Beløb","I alt",null,"Løn","I alt"]
[{"$f":"DATE($A$17,1,7*A48-3-WEEKDAY(DATE($A$17,,),3))","v":"2022-01-24"},{"$f":"HelligdagsNavn(A49,1,1,1,1,1,1,1)","v":"Mandag"},null,null,{"$f":"IF(WEEKDAY(A49,2)<6,ColTime($D$6,$D$7,C49,D49),0)*IF(C49>0,D49>0)","v":0},{"$f":"IF(WEEKDAY(A49,2)<6,ColTime($G$6,$G$7,C49,D49),0)+IF(WEEKDAY(A49,2)<6,ColTime($E$6,$E$7,C49,D49),0)*IF(C49>0,D49>0)","v":0},{"$f":"IF(WEEKDAY(A49,2)<6,ColTime($F$6,$F$7,C49,D49),0)*IF(C49>0,D49>0)","v":0},null,{"$f":"IF(E49=0,0,($D$7-$D$6)-E49)","v":0},{"$f":"IF(E49=0,0,($D$7-$D$6)-($D$7-$D$6))+F49+G49","v":0},{"$f":"IF(AND($O$8>=C49,D49>=$P$8),$K$15,0)+IF(AND($O$9<=D49,$P$9<=D49),$K$16,0)","v":0},null,0,null,{"$f":"IF(E49=0,M49=0)*SUM(($N$4/$N$2*N49))","v":0},{"$f":"SUM(E49:I49)-IF(C49>0,D49>0)*K49-L49","v":0},null,{"$f":"(((IF(E49>0,)+(P49*$B$4))+(F49*$C$4)+(G49*$D$4)+(M49*$M$4)))*24+O49","v":0},{"$f":"SUM(R49:R55)","v":0}]
["2022-01-25","Tirsdag",null,null,{"$f":"IF(WEEKDAY(A50,2)<6,ColTime($D$6,$D$7,C50,D50),0)*IF(C50>0,D50>0)","v":0},{"$f":"IF(WEEKDAY(A50,2)<6,ColTime($G$6,$G$7,C50,D50),0)+IF(WEEKDAY(A50,2)<6,ColTime($E$6,$E$7,C50,D50),0)*IF(C50>0,D50>0)","v":0},{"$f":"IF(WEEKDAY(A50,2)<6,ColTime($F$6,$F$7,C50,D50),0)*IF(C50>0,D50>0)","v":0},null,0,0,0,null,0,null,0,0,null,0]
["2022-01-26","Onsdag",null,null,{"$f":"IF(WEEKDAY(A51,2)<6,ColTime($D$6,$D$7,C51,D51),0)*IF(C51>0,D51>0)","v":0},{"$f":"IF(WEEKDAY(A51,2)<6,ColTime($G$6,$G$7,C51,D51),0)+IF(WEEKDAY(A51,2)<6,ColTime($E$6,$E$7,C51,D51),0)*IF(C51>0,D51>0)","v":0},{"$f":"IF(WEEKDAY(A51,2)<6,ColTime($F$6,$F$7,C51,D51),0)*IF(C51>0,D51>0)","v":0},null,0,0,0,null,0,null,0,0,null,0]
["2022-01-27","Torsdag",null,null,{"$f":"IF(WEEKDAY(A52,2)<6,ColTime($D$6,$D$7,C52,D52),0)*IF(C52>0,D52>0)","v":0},{"$f":"IF(WEEKDAY(A52,2)<6,ColTime($G$6,$G$7,C52,D52),0)+IF(WEEKDAY(A52,2)<6,ColTime($E$6,$E$7,C52,D52),0)*IF(C52>0,D52>0)","v":0},{"$f":"IF(WEEKDAY(A52,2)<6,ColTime($F$6,$F$7,C52,D52),0)*IF(C52>0,D52>0)","v":0},null,0,0,0,null,0,null,0,0,null,0]
["2022-01-28","Fredag",null,null,{"$f":"IF(WEEKDAY(A53,2)<6,ColTime($D$6,$D$7,C53,D53),0)*IF(C53>0,D53>0)","v":0},{"$f":"IF(WEEKDAY(A53,2)<6,ColTime($G$6,$G$7,C53,D53),0)+IF(WEEKDAY(A53,2)<6,ColTime($E$6,$E$7,C53,D53),0)*IF(C53>0,D53>0)","v":0},{"$f":"IF(WEEKDAY(A53,2)<6,ColTime($F$6,$F$7,C53,D53),0)*IF(C53>0,D53>0)","v":0},null,{"$f":"IF(E53=0,0,($D$10-$D$9)-E53)","v":0},0,0,null,0,null,0,0,null,0]
["2022-01-29","Lørdag",null,null," ","  ",{"$f":"IF(WEEKDAY(A54,2)<6,ColTime($F$6,$F$7,C54,D54),0)*IF(C54>0,D54>0)","v":0},null," ",{"$f":"G54","v":0},null,null," "," ",null,0,null,{"$f":"(P54*$F$4)*24","v":0}]
["2022-01-30","Søndag",null,null,null," "," ",{"$f":"IF(WEEKDAY(A55,2)=7,D55-C55+(D55<C55),IF(AND(WEEKDAY(A55,2)=6,D55<C55),ColTime($E$15,$E$16,#REF!,D55),0))","v":0}," ",{"$f":"H55","v":0},null,null," "," ",null,0,null,{"$f":"(P55*$H$4)*24","v":0}]
[null,null,null,null,null,null,null,null,null,null,null,null,{"$f":"SUM(M49:M55)","v":0},"Uge Timer I alt",null,{"$f":"SUM(P49:P55)+M56","v":0}]
[]
[5,"Uge dag","Start  indtast som:     tt:mm","Slut  indtast som:     tt:mm","Normal ArbejdsTid  Incl. Pause","Overtid 50%"," Overtid 100%\nMan-lør","Overtid 100%\nSøndag","Tid     Fratrukket Timebank (Afspasering)","Tid Indsat I Timebank, OVERTID timer","Afholdt Pause","Fri uden løn indtast som:    tt:mm","Time sygeløn indtast som:    tt:mm","Ferie Dag antal","Ferie Penge Beløb","I alt",null,"Løn","I alt"]
[{"$f":"DATE($A$17,1,7*A58-3-WEEKDAY(DATE($A$17,,),3))","v":"2022-01-31"},{"$f":"HelligdagsNavn(A59,1,1,1,1,1,1,1)","v":"Mandag"},null,null,{"$f":"IF(WEEKDAY(A59,2)<6,ColTime($D$6,$D$7,C59,D59),0)*IF(C59>0,D59>0)","v":0},{"$f":"IF(WEEKDAY(A59,2)<6,ColTime($G$6,$G$7,C59,D59),0)+IF(WEEKDAY(A59,2)<6,ColTime($E$6,$E$7,C59,D59),0)*IF(C59>0,D59>0)","v":0},{"$f":"IF(WEEKDAY(A59,2)<6,ColTime($F$6,$F$7,C59,D59),0)*IF(C59>0,D59>0)","v":0},null,{"$f":"IF(E59=0,0,($D$7-$D$6)-E59)","v":0},{"$f":"IF(E59=0,0,($D$7-$D$6)-($D$7-$D$6))+F59+G59","v":0},{"$f":"IF(AND($O$8>=C59,D59>=$P$8),$K$15,0)+IF(AND($O$9<=D59,$P$9<=D59),$K$16,0)","v":0},null,0,null,{"$f":"IF(E59=0,M59=0)*SUM(($N$4/$N$2*N59))","v":0},{"$f":"SUM(E59:I59)-IF(C59>0,D59>0)*K59-L59","v":0},null,{"$f":"(((IF(E59>0,)+(P59*$B$4))+(F59*$C$4)+(G59*$D$4)+(M59*$M$4)))*24+O59","v":0},{"$f":"SUM(R59:R65)","v":0}]
[{"$f":"A59+1","v":"2022-02-01"},"Tirsdag",null,null,{"$f":"IF(WEEKDAY(A60,2)<6,ColTime($D$6,$D$7,C60,D60),0)*IF(C60>0,D60>0)","v":0},{"$f":"IF(WEEKDAY(A60,2)<6,ColTime($G$6,$G$7,C60,D60),0)+IF(WEEKDAY(A60,2)<6,ColTime($E$6,$E$7,C60,D60),0)*IF(C60>0,D60>0)","v":0},{"$f":"IF(WEEKDAY(A60,2)<6,ColTime($F$6,$F$7,C60,D60),0)*IF(C60>0,D60>0)","v":0},null,{"$f":"IF(E60=0,0,($D$7-$D$6)-E60)","v":0},{"$f":"IF(E60=0,0,($D$7-$D$6)-($D$7-$D$6))+F60+G60","v":0},0,null,0,null,0,0,null,0]
["2022-02-02","Onsdag",null,null,{"$f":"IF(WEEKDAY(A61,2)<6,ColTime($D$6,$D$7,C61,D61),0)*IF(C61>0,D61>0)","v":0},{"$f":"IF(WEEKDAY(A61,2)<6,ColTime($G$6,$G$7,C61,D61),0)+IF(WEEKDAY(A61,2)<6,ColTime($E$6,$E$7,C61,D61),0)*IF(C61>0,D61>0)","v":0},{"$f":"IF(WEEKDAY(A61,2)<6,ColTime($F$6,$F$7,C61,D61),0)*IF(C61>0,D61>0)","v":0},null,{"$f":"IF(E61=0,0,($D$7-$D$6)-E61)","v":0},0,0,null,0,null,0,0,null,0]
["2022-02-03","Torsdag",null,null,{"$f":"IF(WEEKDAY(A62,2)<6,ColTime($D$6,$D$7,C62,D62),0)*IF(C62>0,D62>0)","v":0},{"$f":"IF(WEEKDAY(A62,2)<6,ColTime($G$6,$G$7,C62,D62),0)+IF(WEEKDAY(A62,2)<6,ColTime($E$6,$E$7,C62,D62),0)*IF(C62>0,D62>0)","v":0},{"$f":"IF(WEEKDAY(A62,2)<6,ColTime($F$6,$F$7,C62,D62),0)*IF(C62>0,D62>0)","v":0},null,{"$f":"IF(E62=0,0,($D$7-$D$6)-E62)","v":0},{"$f":"IF(E62=0,0,($D$7-$D$6)-($D$7-$D$6))+F62+G62","v":0},0,null,0,null,0,0,null,0]
["2022-02-04","Fredag",null,null,{"$f":"IF(WEEKDAY(A63,2)<6,ColTime($D$6,$D$7,C63,D63),0)*IF(C63>0,D63>0)","v":0},{"$f":"IF(WEEKDAY(A63,2)<6,ColTime($G$6,$G$7,C63,D63),0)+IF(WEEKDAY(A63,2)<6,ColTime($E$6,$E$7,C63,D63),0)*IF(C63>0,D63>0)","v":0},{"$f":"IF(WEEKDAY(A63,2)<6,ColTime($F$6,$F$7,C63,D63),0)*IF(C63>0,D63>0)","v":0},null,{"$f":"IF(E63=0,0,($D$10-$D$9)-E63)","v":0},{"$f":"IF(E63=0,0,($D$7-$D$6)-($D$7-$D$6))+F63+G63","v":0},0,null,0,null,0,0,null,0]
["2022-02-05","Lørdag",null,null," ","  ",{"$f":"IF(WEEKDAY(A64,2)<6,ColTime($F$6,$F$7,C64,D64),0)*IF(C64>0,D64>0)","v":0},null," ",{"$f":"G64","v":0},null,null," "," ",null,0,null,{"$f":"(P64*$F$4)*24","v":0}]
["2022-02-06","Søndag",null,null,null," "," ",{"$f":"IF(WEEKDAY(A65,2)=7,D65-C65+(D65<C65),IF(AND(WEEKDAY(A65,2)=6,D65<C65),ColTime($E$15,$E$16,#REF!,D65),0))","v":0}," ",{"$f":"H65","v":0},null,null," "," ",null,0,null,{"$f":"(P65*$H$4)*24","v":0}]
[null,null,null,null,null,null,null,null,null,null,null,null,{"$f":"SUM(M59:M65)","v":0},"Uge Timer I alt",null,{"$f":"SUM(P59:P65)+M66","v":0}]
[]
[6,"Uge dag","Start  indtast som:     tt:mm","Slut  indtast som:     tt:mm","Normal ArbejdsTid  Incl. Pause","Overtid 50%"," Overtid 100%\nMan-lør","Overtid 100%\nSøndag","Tid     Fratrukket Timebank (Afspasering)","Tid Indsat I Timebank, OVERTID timer","Afholdt Pause","Fri uden løn indtast som:    tt:mm","Time sygeløn indtast som:    tt:mm","Ferie Dag antal","Ferie Penge Beløb","I alt",null,"Løn","I alt"]
[{"$f":"DATE($A$17,1,7*A68-3-WEEKDAY(DATE($A$17,,),3))","v":"2022-02-07"},{"$f":"HelligdagsNavn(A69,1,1,1,1,1,1,1)","v":"Mandag"},null,null,{"$f":"IF(WEEKDAY(A69,2)<6,ColTime($D$6,$D$7,C69,D69),0)*IF(C69>0,D69>0)","v":0},{"$f":"IF(WEEKDAY(A69,2)<6,ColTime($G$6,$G$7,C69,D69),0)+IF(WEEKDAY(A69,2)<6,ColTime($E$6,$E$7,C69,D69),0)*IF(C69>0,D69>0)","v":0},{"$f":"IF(WEEKDAY(A69,2)<6,ColTime($F$6,$F$7,C69,D69),0)*IF(C69>0,D69>0)","v":0},null,{"$f":"IF(E69=0,0,($D$7-$D$6)-E69)","v":0},{"$f":"IF(E69=0,0,($D$7-$D$6)-($D$7-$D$6))+F69+G69","v":0},{"$f":"IF(AND($O$8>=C69,D69>=$P$8),$K$15,0)+IF(AND($O$9<=D69,$P$9<=D69),$K$16,0)","v":0},null,0,null,{"$f":"IF(E69=0,M69=0)*SUM(($N$4/$N$2*N69))","v":0},{"$f":"SUM(E69:I69)-IF(C69>0,D69>0)*K69-L69","v":0},null,{"$f":"(((IF(E69>0,)+(P69*$B$4))+(F69*$C$4)+(G69*$D$4)+(M69*$M$4)))*24+O69","v":0},{"$f":"SUM(R69:R75)","v":0}]
[{"$f":"A69+1","v":"2022-02-08"},"Tirsdag",null,null,{"$f":"IF(WEEKDAY(A70,2)<6,ColTime($D$6,$D$7,C70,D70),0)*IF(C70>0,D70>0)","v":0},{"$f":"IF(WEEKDAY(A70,2)<6,ColTime($G$6,$G$7,C70,D70),0)+IF(WEEKDAY(A70,2)<6,ColTime($E$6,$E$7,C70,D70),0)*IF(C70>0,D70>0)","v":0},{"$f":"IF(WEEKDAY(A70,2)<6,ColTime($F$6,$F$7,C70,D70),0)*IF(C70>0,D70>0)","v":0},null,0,0,0,null,0,null,0,0,null,0]
["2022-02-09","Onsdag",null,null,{"$f":"IF(WEEKDAY(A71,2)<6,ColTime($D$6,$D$7,C71,D71),0)*IF(C71>0,D71>0)","v":0},{"$f":"IF(WEEKDAY(A71,2)<6,ColTime($G$6,$G$7,C71,D71),0)+IF(WEEKDAY(A71,2)<6,ColTime($E$6,$E$7,C71,D71),0)*IF(C71>0,D71>0)","v":0},{"$f":"IF(WEEKDAY(A71,2)<6,ColTime($F$6,$F$7,C71,D71),0)*IF(C71>0,D71>0)","v":0},null,0,0,0,null,0,null,0,0,null,0]
["2022-02-10","Torsdag",null,null,{"$f":"IF(WEEKDAY(A72,2)<6,ColTime($D$6,$D$7,C72,D72),0)*IF(C72>0,D72>0)","v":0},{"$f":"IF(WEEKDAY(A72,2)<6,ColTime($G$6,$G$7,C72,D72),0)+IF(WEEKDAY(A72,2)<6,ColTime($E$6,$E$7,C72,D72),0)*IF(C72>0,D72>0)","v":0},{"$f":"IF(WEEKDAY(A72,2)<6,ColTime($F$6,$F$7,C72,D72),0)*IF(C72>0,D72>0)","v":0},null,0,0,0,null,0,null,0,0,null,0]
["2022-02-11","Fredag",null,null,{"$f":"IF(WEEKDAY(A73,2)<6,ColTime($D$6,$D$7,C73,D73),0)*IF(C73>0,D73>0)","v":0},{"$f":"IF(WEEKDAY(A73,2)<6,ColTime($G$6,$G$7,C73,D73),0)+IF(WEEKDAY(A73,2)<6,ColTime($E$6,$E$7,C73,D73),0)*IF(C73>0,D73>0)","v":0},{"$f":"IF(WEEKDAY(A73,2)<6,ColTime($F$6,$F$7,C73,D73),0)*IF(C73>0,D73>0)","v":0},null,{"$f":"IF(E73=0,0,($D$10-$D$9)-E73)","v":0},0,0,null,0,null,0,0,null,0]
["2022-02-12","Lørdag",null,null," ","  ",{"$f":"IF(WEEKDAY(A74,2)<6,ColTime($F$6,$F$7,C74,D74),0)*IF(C74>0,D74>0)","v":0},null," ",{"$f":"G74","v":0},null,null," "," ",null,0,null,{"$f":"(P74*$F$4)*24","v":0}]
["2022-02-13","Søndag",null,null,null," "," ",{"$f":"IF(WEEKDAY(A75,2)=7,D75-C75+(D75<C75),IF(AND(WEEKDAY(A75,2)=6,D75<C75),ColTime($E$15,$E$16,#REF!,D75),0))","v":0}," ",{"$f":"H75","v":0},null,null," "," ",null,0,null,{"$f":"(P75*$H$4)*24","v":0}]
[null,null,null,null,null,null,null,null,null,null,null,null,{"$f":"SUM(M69:M75)","v":0},"Uge Timer I alt",null,{"$f":"SUM(P69:P75)+M76","v":0}]
[]
[7,"Uge dag","Start  indtast som:     tt:mm","Slut  indtast som:     tt:mm","Normal ArbejdsTid  Incl. Pause","Overtid 50%"," Overtid 100%\nMan-lør","Overtid 100%\nSøndag","Tid     Fratrukket Timebank (Afspasering)","Tid Indsat I Timebank, OVERTID timer","Afholdt Pause","Fri uden løn indtast som:    tt:mm","Time sygeløn indtast som:    tt:mm","Ferie Dag antal","Ferie Penge Beløb","I alt",null,"Løn","I alt"]
[{"$f":"DATE($A$17,1,7*A78-3-WEEKDAY(DATE($A$17,,),3))","v":"2022-02-14"},{"$f":"HelligdagsNavn(A79,1,1,1,1,1,1,1)","v":"Mandag"},null,null,{"$f":"IF(WEEKDAY(A79,2)<6,ColTime($D$6,$D$7,C79,D79),0)*IF(C79>0,D79>0)","v":0},{"$f":"IF(WEEKDAY(A79,2)<6,ColTime($G$6,$G$7,C79,D79),0)+IF(WEEKDAY(A79,2)<6,ColTime($E$6,$E$7,C79,D79),0)*IF(C79>0,D79>0)","v":0},{"$f":"IF(WEEKDAY(A79,2)<6,ColTime($F$6,$F$7,C79,D79),0)*IF(C79>0,D79>0)","v":0},null,{"$f":"IF(E79=0,0,($D$7-$D$6)-E79)","v":0},{"$f":"IF(E79=0,0,($D$7-$D$6)-($D$7-$D$6))+F79+G79","v":0},{"$f":"IF(AND($O$8>=C79,D79>=$P$8),$K$15,0)+IF(AND($O$9<=D79,$P$9<=D79),$K$16,0)","v":0},null,0,null,{"$f":"IF(E79=0,M79=0)*SUM(($N$4/$N$2*N79))","v":0},{"$f":"SUM(E79:I79)-IF(C79>0,D79>0)*K79-L79","v":0},null,{"$f":"(((IF(E79>0,)+(P79*$B$4))+(F79*$C$4)+(G79*$D$4)+(M79*$M$4)))*24+O79","v":0},{"$f":"SUM(R79:R85)","v":0},"Februar Løn","Samlet Timer I perioden"]
["2022-02-15","Tirsdag",null,null,{"$f":"IF(WEEKDAY(A80,2)<6,ColTime($D$6,$D$7,C80,D80),0)*IF(C80>0,D80>0)","v":0},{"$f":"IF(WEEKDAY(A80,2)<6,ColTime($G$6,$G$7,C80,D80),0)+IF(WEEKDAY(A80,2)<6,ColTime($E$6,$E$7,C80,D80),0)*IF(C80>0,D80>0)","v":0},{"$f":"IF(WEEKDAY(A80,2)<6,ColTime($F$6,$F$7,C80,D80),0)*IF(C80>0,D80>0)","v":0},null,0,0,0,null,0,null,0,0,null,0]
["2022-02-16","Onsdag",null,null,{"$f":"IF(WEEKDAY(A81,2)<6,ColTime($D$6,$D$7,C81,D81),0)*IF(C81>0,D81>0)","v":0},{"$f":"IF(WEEKDAY(A81,2)<6,ColTime($G$6,$G$7,C81,D81),0)+IF(WEEKDAY(A81,2)<6,ColTime($E$6,$E$7,C81,D81),0)*IF(C81>0,D81>0)","v":0},{"$f":"IF(WEEKDAY(A81,2)<6,ColTime($F$6,$F$7,C81,D81),0)*IF(C81>0,D81>0)","v":0},null,0,0,0,null,0,null,0,0,null,0]
["2022-02-17","Torsdag",null,null,{"$f":"IF(WEEKDAY(A82,2)<6,ColTime($D$6,$D$7,C82,D82),0)*IF(C82>0,D82>0)","v":0},{"$f":"IF(WEEKDAY(A82,2)<6,ColTime($G$6,$G$7,C82,D82),0)+IF(WEEKDAY(A82,2)<6,ColTime($E$6,$E$7,C82,D82),0)*IF(C82>0,D82>0)","v":0},{"$f":"IF(WEEKDAY(A82,2)<6,ColTime($F$6,$F$7,C82,D82),0)*IF(C82>0,D82>0)","v":0},null,0,0,0,null,0,null,0,0,null,0]
["2022-02-18","Fredag",null,null,{"$f":"IF(WEEKDAY(A83,2)<6,ColTime($D$6,$D$7,C83,D83),0)*IF(C83>0,D83>0)","v":0},{"$f":"IF(WEEKDAY(A83,2)<6,ColTime($G$6,$G$7,C83,D83),0)+IF(WEEKDAY(A83,2)<6,ColTime($E$6,$E$7,C83,D83),0)*IF(C83>0,D83>0)","v":0},{"$f":"IF(WEEKDAY(A83,2)<6,ColTime($F$6,$F$7,C83,D83),0)*IF(C83>0,D83>0)","v":0},null,{"$f":"IF(E83=0,0,($D$10-$D$9)-E83)","v":0},0,0,null,0,null,0,0,null,0,null,{"$f":"SUMIFS($R:$R,$A:$A,\">=\"&DATE($A$17,1,21),$A:$A,\"<=\"&DATE($A$17,2,20))","v":0},{"$f":"SUMIFS($P:$P,$A:$A,\">=\"&DATE($A$17,1,21),$A:$A,\"<=\"&DATE($A$17,2,20))+SUMIFS($M:$M,$A:$A,\">=\"&DATE($A$17,1,21),$A:$A,\"<=\"&DATE($A$17,2,20))","v":0}]
["2022-02-19","Lørdag",null,null," ","  ",{"$f":"IF(WEEKDAY(A84,2)<6,ColTime($F$6,$F$7,C84,D84),0)*IF(C84>0,D84>0)","v":0},null," ",{"$f":"G84","v":0},null,null," "," ",null,0,null,{"$f":"(P84*$F$4)*24","v":0}]
["2022-02-20","Søndag",null,null,null," "," ",{"$f":"IF(WEEKDAY(A85,2)=7,D85-C85+(D85<C85),IF(AND(WEEKDAY(A85,2)=6,D85<C85),ColTime($E$15,$E$16,#REF!,D85),0))","v":0}," ",{"$f":"H85","v":0},null,null," "," ",null,0,null,{"$f":"(P85*$H$4)*24","v":0}]
[null,null,null,null,null,null,null,null,null,null,null,null,{"$f":"SUM(M79:M85)","v":0},"Uge Timer I alt",null,{"$f":"SUM(P79:P85)+M86","v":0}]
[]
[8,"Uge dag","Start  indtast som:     tt:mm","Slut  indtast som:     tt:mm","Normal ArbejdsTid  Incl. Pause","Overtid 50%"," Overtid 100%\nMan-lør","Overtid 100%\nSøndag","Tid     Fratrukket Timebank (Afspasering)","Tid Indsat I Timebank, OVERTID timer","Afholdt Pause","Fri uden løn indtast som:    tt:mm","Time sygeløn indtast som:    tt:mm","Ferie Dag antal","Ferie Penge Beløb","I alt",null,"Løn","I alt"]
[{"$f":"DATE($A$17,1,7*A88-3-WEEKDAY(DATE($A$17,,),3))","v":"2022-02-21"},{"$f":"HelligdagsNavn(A89,1,1,1,1,1,1,1)","v":"Mandag"},null,null,{"$f":"IF(WEEKDAY(A89,2)<6,ColTime($D$6,$D$7,C89,D89),0)*IF(C89>0,D89>0)","v":0},{"$f":"IF(WEEKDAY(A89,2)<6,ColTime($G$6,$G$7,C89,D89),0)+IF(WEEKDAY(A89,2)<6,ColTime($E$6,$E$7,C89,D89),0)*IF(C89>0,D89>0)","v":0},{"$f":"IF(WEEKDAY(A89,2)<6,ColTime($F$6,$F$7,C89,D89),0)*IF(C89>0,D89>0)","v":0},null,{"$f":"IF(E89=0,0,($D$7-$D$6)-E89)","v":0},{"$f":"IF(E89=0,0,($D$7-$D$6)-($D$7-$D$6))+F89+G89","v":0},{"$f":"IF(AND($O$8>=C89,D89>=$P$8),$K$15,0)+IF(AND($O$9<=D89,$P$9<=D89),$K$16,0)","v":0},null,0,null,{"$f":"IF(E89=0,M89=0)*SUM(($N$4/$N$2*N89))","v":0},{"$f":"SUM(E89:I89)-IF(C89>0,D89>0)*K89-L89","v":0},null,{"$f":"(((IF(E89>0,)+(P89*$B$4))+(F89*$C$4)+(G89*$D$4)+(M89*$M$4)))*24+O89","v":0},{"$f":"SUM(R89:R95)","v":0}]
[{"$f":"A89+1","v":"2022-02-22"},"Tirsdag",null,null,{"$f":"IF(WEEKDAY(A90,2)<6,ColTime($D$6,$D$7,C90,D90),0)*IF(C90>0,D90>0)","v":0},{"$f":"IF(WEEKDAY(A90,2)<6,ColTime($G$6,$G$7,C90,D90),0)+IF(WEEKDAY(A90,2)<6,ColTime($E$6,$E$7,C90,D90),0)*IF(C90>0,D90>0)","v":0},{"$f":"IF(WEEKDAY(A90,2)<6,ColTime($F$6,$F$7,C90,D90),0)*IF(C90>0,D90>0)","v":0},null,0,0,0,null,0,null,0,0,null,0]
["2022-02-23","Onsdag",null,null,{"$f":"IF(WEEKDAY(A91,2)<6,ColTime($D$6,$D$7,C91,D91),0)*IF(C91>0,D91>0)","v":0},{"$f":"IF(WEEKDAY(A91,2)<6,ColTime($G$6,$G$7,C91,D91),0)+IF(WEEKDAY(A91,2)<6,ColTime($E$6,$E$7,C91,D91),0)*IF(C91>0,D91>0)","v":0},{"$f":"IF(WEEKDAY(A91,2)<6,ColTime($F$6,$F$7,C91,D91),0)*IF(C91>0,D91>0)","v":0},null,0,0,0,null,0,null,0,0,null,0]
["2022-02-24","Torsdag",null,null,{"$f":"IF(WEEKDAY(A92,2)<6,ColTime($D$6,$D$7,C92,D92),0)*IF(C92>0,D92>0)","v":0},{"$f":"IF(WEEKDAY(A92,2)<6,ColTime($G$6,$G$7,C92,D92),0)+IF(WEEKDAY(A92,2)<6,ColTime($E$6,$E$7,C92,D92),0)*IF(C92>0,D92>0)","v":0},{"$f":"IF(WEEKDAY(A92,2)<6,ColTime($F$6,$F$7,C92,D92),0)*IF(C92>0,D92>0)","v":0},null,0,0,0,null,0,null,0,0,null,0]
["2022-02-25","Fredag",null,null,{"$f":"IF(WEEKDAY(A93,2)<6,ColTime($D$6,$D$7,C93,D93),0)*IF(C93>0,D93>0)","v":0},{"$f":"IF(WEEKDAY(A93,2)<6,ColTime($G$6,$G$7,C93,D93),0)+IF(WEEKDAY(A93,2)<6,ColTime($E$6,$E$7,C93,D93),0)*IF(C93>0,D93>0)","v":0},{"$f":"IF(WEEKDAY(A93,2)<6,ColTime($F$6,$F$7,C93,D93),0)*IF(C93>0,D93>0)","v":0},null,{"$f":"IF(E93=0,0,($D$10-$D$9)-E93)","v":0},0,0,null,0,null,0,0,null,0]
["2022-02-26","Lørdag",null,null," ","  ",{"$f":"IF(WEEKDAY(A94,2)<6,ColTime($F$6,$F$7,C94,D94),0)*IF(C94>0,D94>0)","v":0},null," ",{"$f":"G94","v":0},null,null," "," ",null,0,null,{"$f":"(P94*$F$4)*24","v":0}]
["2022-02-27","Søndag",null,null,null," "," ",{"$f":"IF(WEEKDAY(A95,2)=7,D95-C95+(D95<C95),IF(AND(WEEKDAY(A95,2)=6,D95<C95),ColTime($E$15,$E$16,#REF!,D95),0))","v":0}," ",{"$f":"H95","v":0},null,null," "," ",null,0,null,{"$f":"(P95*$H$4)*24","v":0}]
[null,null,null,null,null,null,null,null,null,null,null,null,{"$f":"SUM(M89:M95)","v":0},"Uge Time I alt",null,{"$f":"SUM(P89:P95)+M96","v":0}]
[]
[9,"Uge dag","Start  indtast som:     tt:mm","Slut  indtast som:     tt:mm","Normal ArbejdsTid  Incl. Pause","Overtid 50%"," Overtid 100%\nMan-lør","Overtid 100%\nSøndag","Tid     Fratrukket Timebank (Afspasering)","Tid Indsat I Timebank, OVERTID timer","Afholdt Pause","Fri uden løn indtast som:    tt:mm","Time sygeløn indtast som:    tt:mm","Ferie Dag antal","Ferie Penge Beløb","I alt",null,"Løn","I alt"]
[{"$f":"DATE($A$17,1,7*A98-3-WEEKDAY(DATE($A$17,,),3))","v":"2022-02-28"},{"$f":"HelligdagsNavn(A99,1,1,1,1,1,1,1)","v":"Mandag"},null,null,{"$f":"IF(WEEKDAY(A99,2)<6,ColTime($D$6,$D$7,C99,D99),0)*IF(C99>0,D99>0)","v":0},{"$f":"IF(WEEKDAY(A99,2)<6,ColTime($G$6,$G$7,C99,D99),0)+IF(WEEKDAY(A99,2)<6,ColTime($E$6,$E$7,C99,D99),0)*IF(C99>0,D99>0)","v":0},{"$f":"IF(WEEKDAY(A99,2)<6,ColTime($F$6,$F$7,C99,D99),0)*IF(C99>0,D99>0)","v":0},null,{"$f":"IF(E99=0,0,($D$7-$D$6)-E99)","v":0},{"$f":"IF(E99=0,0,($D$7-$D$6)-($D$7-$D$6))+F99+G99","v":0},{"$f":"IF(AND($O$8>=C99,D99>=$P$8),$K$15,0)+IF(AND($O$9<=D99,$P$9<=D99),$K$16,0)","v":0},null,0,null,{"$f":"IF(E99=0,M99=0)*SUM(($N$4/$N$2*N99))","v":0},{"$f":"SUM(E99:I99)-IF(C99>0,D99>0)*K99-L99","v":0},null,{"$f":"(((IF(E99>0,)+(P99*$B$4))+(F99*$C$4)+(G99*$D$4)+(M99*$M$4)))*24+O99","v":0},{"$f":"SUM(R99:R105)","v":0}]
["2022-03-01","Tirsdag",null,null,{"$f":"IF(WEEKDAY(A100,2)<6,ColTime($D$6,$D$7,C100,D100),0)*IF(C100>0,D100>0)","v":0},{"$f":"IF(WEEKDAY(A100,2)<6,ColTime($G$6,$G$7,C100,D100),0)+IF(WEEKDAY(A100,2)<6,ColTime($E$6,$E$7,C100,D100),0)*IF(C100>0,D100>0)","v":0},{"$f":"IF(WEEKDAY(A100,2)<6,ColTime($F$6,$F$7,C100,D100),0)*IF(C100>0,D100>0)","v":0},null,0,0,0,null,0,null,0,0,null,0]
["2022-03-02","Onsdag",null,null,{"$f":"IF(WEEKDAY(A101,2)<6,ColTime($D$6,$D$7,C101,D101),0)*IF(C101>0,D101>0)","v":0},{"$f":"IF(WEEKDAY(A101,2)<6,ColTime($G$6,$G$7,C101,D101),0)+IF(WEEKDAY(A101,2)<6,ColTime($E$6,$E$7,C101,D101),0)*IF(C101>0,D101>0)","v":0},{"$f":"IF(WEEKDAY(A101,2)<6,ColTime($F$6,$F$7,C101,D101),0)*IF(C101>0,D101>0)","v":0},null,0,0,0,null,0,null,0,0,null,0]
["2022-03-03","Torsdag",null,null,{"$f":"IF(WEEKDAY(A102,2)<6,ColTime($D$6,$D$7,C102,D102),0)*IF(C102>0,D102>0)","v":0},{"$f":"IF(WEEKDAY(A102,2)<6,ColTime($G$6,$G$7,C102,D102),0)+IF(WEEKDAY(A102,2)<6,ColTime($E$6,$E$7,C102,D102),0)*IF(C102>0,D102>0)","v":0},{"$f":"IF(WEEKDAY(A102,2)<6,ColTime($F$6,$F$7,C102,D102),0)*IF(C102>0,D102>0)","v":0},null,0,0,0,null,0,null,0,0,null,0]
["2022-03-04","Fredag",null,null,{"$f":"IF(WEEKDAY(A103,2)<6,ColTime($D$6,$D$7,C103,D103),0)*IF(C103>0,D103>0)","v":0},{"$f":"IF(WEEKDAY(A103,2)<6,ColTime($G$6,$G$7,C103,D103),0)+IF(WEEKDAY(A103,2)<6,ColTime($E$6,$E$7,C103,D103),0)*IF(C103>0,D103>0)","v":0},{"$f":"IF(WEEKDAY(A103,2)<6,ColTime($F$6,$F$7,C103,D103),0)*IF(C103>0,D103>0)","v":0},null,{"$f":"IF(E103=0,0,($D$10-$D$9)-E103)","v":0},0,0,null,0,null,0,0,null,0]
["2022-03-05","Lørdag",null,null," ","  ",{"$f":"IF(WEEKDAY(A104,2)<6,ColTime($F$6,$F$7,C104,D104),0)*IF(C104>0,D104>0)","v":0},null," ",{"$f":"G104","v":0},null,null," "," ",null,0,null,{"$f":"(P104*$F$4)*24","v":0}]
["2022-03-06","Søndag",null,null,null," "," ",{"$f":"IF(WEEKDAY(A105,2)=7,D105-C105+(D105<C105),IF(AND(WEEKDAY(A105,2)=6,D105<C105),ColTime($E$15,$E$16,#REF!,D105),0))","v":0}," ",{"$f":"H105","v":0},null,null," "," ",null,0,null,{"$f":"(P105*$H$4)*24","v":0}]
[null,null,null,null,null,null,null,null,null,null,null,null,{"$f":"SUM(M99:M105)","v":0},"Uge Timer I alt",null,{"$f":"SUM(P99:P105)+M106","v":0}]
[]
[10,"Uge dag","Start  indtast som:     tt:mm","Slut  indtast som:     tt:mm","Normal ArbejdsTid  Incl. Pause","Overtid 50%"," Overtid 100%\nMan-lør","Overtid 100%\nSøndag","Tid     Fratrukket Timebank (Afspasering)","Tid Indsat I Timebank, OVERTID timer","Afholdt Pause","Fri uden løn indtast som:    tt:mm","Time sygeløn indtast som:    tt:mm","Ferie Dag antal","Ferie Penge Beløb","I alt",null,"Løn","I alt"]
[{"$f":"DATE($A$17,1,7*A108-3-WEEKDAY(DATE($A$17,,),3))","v":"2022-03-07"},{"$f":"HelligdagsNavn(A109,1,1,1,1,1,1,1)","v":"Mandag"},null,null,{"$f":"IF(WEEKDAY(A109,2)<6,ColTime($D$6,$D$7,C109,D109),0)*IF(C109>0,D109>0)","v":0},{"$f":"IF(WEEKDAY(A109,2)<6,ColTime($G$6,$G$7,C109,D109),0)+IF(WEEKDAY(A109,2)<6,ColTime($E$6,$E$7,C109,D109),0)*IF(C109>0,D109>0)","v":0},{"$f":"IF(WEEKDAY(A109,2)<6,ColTime($F$6,$F$7,C109,D109),0)*IF(C109>0,D109>0)","v":0},null,{"$f":"IF(E109=0,0,($D$7-$D$6)-E109)","v":0},{"$f":"IF(E109=0,0,($D$7-$D$6)-($D$7-$D$6))+F109+G109","v":0},{"$f":"IF(AND($O$8>=C109,D109>=$P$8),$K$15,0)+IF(AND($O$9<=D109,$P$9<=D109),$K$16,0)","v":0},null,0,null,{"$f":"IF(E109=0,M109=0)*SUM(($N$4/$N$2*N109))","v":0},{"$f":"SUM(E109:I109)-IF(C109>0,D109>0)*K109-L109","v":0},null,{"$f":"(((IF(E109>0,)+(P109*$B$4))+(F109*$C$4)+(G109*$D$4)+(M109*$M$4)))*24+O109","v":0},0]
["2022-03-08","Tirsdag",null,null,{"$f":"IF(WEEKDAY(A110,2)<6,ColTime($D$6,$D$7,C110,D110),0)*IF(C110>0,D110>0)","v":0},{"$f":"IF(WEEKDAY(A110,2)<6,ColTime($G$6,$G$7,C110,D110),0)+IF(WEEKDAY(A110,2)<6,ColTime($E$6,$E$7,C110,D110),0)*IF(C110>0,D110>0)","v":0},{"$f":"IF(WEEKDAY(A110,2)<6,ColTime($F$6,$F$7,C110,D110),0)*IF(C110>0,D110>0)","v":0},null,0,0,0,null,0,null,0,0,null,0]
["2022-03-09","Onsdag",null,null,{"$f":"IF(WEEKDAY(A111,2)<6,ColTime($D$6,$D$7,C111,D111),0)*IF(C111>0,D111>0)","v":0},{"$f":"IF(WEEKDAY(A111,2)<6,ColTime($G$6,$G$7,C111,D111),0)+IF(WEEKDAY(A111,2)<6,ColTime($E$6,$E$7,C111,D111),0)*IF(C111>0,D111>0)","v":0},{"$f":"IF(WEEKDAY(A111,2)<6,ColTime($F$6,$F$7,C111,D111),0)*IF(C111>0,D111>0)","v":0},null,0,0,0,null,0,null,0,0,null,0]
["2022-03-10","Torsdag",null,null,{"$f":"IF(WEEKDAY(A112,2)<6,ColTime($D$6,$D$7,C112,D112),0)*IF(C112>0,D112>0)","v":0},{"$f":"IF(WEEKDAY(A112,2)<6,ColTime($G$6,$G$7,C112,D112),0)+IF(WEEKDAY(A112,2)<6,ColTime($E$6,$E$7,C112,D112),0)*IF(C112>0,D112>0)","v":0},{"$f":"IF(WEEKDAY(A112,2)<6,ColTime($F$6,$F$7,C112,D112),0)*IF(C112>0,D112>0)","v":0},null,0,0,0,null,0,null,0,0,null,0]
["2022-03-11","Fredag",null,null,{"$f":"IF(WEEKDAY(A113,2)<6,ColTime($D$6,$D$7,C113,D113),0)*IF(C113>0,D113>0)","v":0},{"$f":"IF(WEEKDAY(A113,2)<6,ColTime($G$6,$G$7,C113,D113),0)+IF(WEEKDAY(A113,2)<6,ColTime($E$6,$E$7,C113,D113),0)*IF(C113>0,D113>0)","v":0},{"$f":"IF(WEEKDAY(A113,2)<6,ColTime($F$6,$F$7,C113,D113),0)*IF(C113>0,D113>0)","v":0},null,{"$f":"IF(E113=0,0,($D$10-$D$9)-E113)","v":0},0,0,null,0,null,0,0,null,0]
["2022-03-12","Lørdag",null,null," ","  ",{"$f":"IF(WEEKDAY(A114,2)<6,ColTime($F$6,$F$7,C114,D114),0)*IF(C114>0,D114>0)","v":0},null," ",{"$f":"G114","v":0},null,null," "," ",null,0,null,{"$f":"(P114*$F$4)*24","v":0}]
["2022-03-13","Søndag",null,null,null," "," ",{"$f":"IF(WEEKDAY(A115,2)=7,D115-C115+(D115<C115),IF(AND(WEEKDAY(A115,2)=6,D115<C115),ColTime($E$15,$E$16,#REF!,D115),0))","v":0}," ",{"$f":"H115","v":0},null,null," "," ",null,0,null,{"$f":"(P115*$H$4)*24","v":0}]
[null,null,null,null,null,null,null,null,null,null,null,null,{"$f":"SUM(M109:M115)","v":0},"Uge Timer I alt",null,{"$f":"SUM(P109:P115)+M116","v":0}]
[]
[11,"Uge dag","Start  indtast som:     tt:mm","Slut  indtast som:     tt:mm","Normal ArbejdsTid  Incl. Pause","Overtid 50%"," Overtid 100%\nMan-lør","Overtid 100%\nSøndag","Tid     Fratrukket Timebank (Afspasering)","Tid Indsat I Timebank, OVERTID timer","Afholdt Pause","Fri uden løn indtast som:    tt:mm","Time sygeløn indtast som:    tt:mm","Ferie Dag antal","Ferie Penge Beløb","I alt",null,"Løn","I alt"]
[{"$f":"DATE($A$17,1,7*A118-3-WEEKDAY(DATE($A$17,,),3))","v":"2022-03-14"},{"$f":"HelligdagsNavn(A119,1,1,1,1,1,1,1)","v":"Mandag"},null,null,{"$f":"IF(WEEKDAY(A119,2)<6,ColTime($D$6,$D$7,C119,D119),0)*IF(C119>0,D119>0)","v":0},{"$f":"IF(WEEKDAY(A119,2)<6,ColTime($G$6,$G$7,C119,D119),0)+IF(WEEKDAY(A119,2)<6,ColTime($E$6,$E$7,C119,D119),0)*IF(C119>0,D119>0)","v":0},{"$f":"IF(WEEKDAY(A119,2)<6,ColTime($F$6,$F$7,C119,D119),0)*IF(C119>0,D119>0)","v":0},null,{"$f":"IF(E119=0,0,($D$7-$D$6)-E119)","v":0},{"$f":"IF(E119=0,0,($D$7-$D$6)-($D$7-$D$6))+F119+G119","v":0},{"$f":"IF(AND($O$8>=C119,D119>=$P$8),$K$15,0)+IF(AND($O$9<=D119,$P$9<=D119),$K$16,0)","v":0},null,0,null,{"$f":"IF(E119=0,M119=0,)*SUM(($N$4/$N$2*N119))","v":0},{"$f":"SUM(E119:I119)-IF(C119>0,D119>0)*K119-L119","v":0},null,{"$f":"(((IF(E119>0,)+(P119*$B$4))+(F119*$C$4)+(G119*$D$4)+(M119*$M$4)))*24+O119","v":0},{"$f":"SUM(R119:R125)","v":0},"Marts Løn","Samlet Timer I perioden"]
["2022-03-15","Tirsdag",null,null,{"$f":"IF(WEEKDAY(A120,2)<6,ColTime($D$6,$D$7,C120,D120),0)*IF(C120>0,D120>0)","v":0},{"$f":"IF(WEEKDAY(A120,2)<6,ColTime($G$6,$G$7,C120,D120),0)+IF(WEEKDAY(A120,2)<6,ColTime($E$6,$E$7,C120,D120),0)*IF(C120>0,D120>0)","v":0},{"$f":"IF(WEEKDAY(A120,2)<6,ColTime($F$6,$F$7,C120,D120),0)*IF(C120>0,D120>0)","v":0},null,0,0,0,null,0,null,0,0,null,0]
["2022-03-16","Onsdag",null,null,{"$f":"IF(WEEKDAY(A121,2)<6,ColTime($D$6,$D$7,C121,D121),0)*IF(C121>0,D121>0)","v":0},{"$f":"IF(WEEKDAY(A121,2)<6,ColTime($G$6,$G$7,C121,D121),0)+IF(WEEKDAY(A121,2)<6,ColTime($E$6,$E$7,C121,D121),0)*IF(C121>0,D121>0)","v":0},{"$f":"IF(WEEKDAY(A121,2)<6,ColTime($F$6,$F$7,C121,D121),0)*IF(C121>0,D121>0)","v":0},null,0,0,0,null,0,null,0,0,null,0]
["2022-03-17","Torsdag",null,null,{"$f":"IF(WEEKDAY(A122,2)<6,ColTime($D$6,$D$7,C122,D122),0)*IF(C122>0,D122>0)","v":0},{"$f":"IF(WEEKDAY(A122,2)<6,ColTime($G$6,$G$7,C122,D122),0)+IF(WEEKDAY(A122,2)<6,ColTime($E$6,$E$7,C122,D122),0)*IF(C122>0,D122>0)","v":0},{"$f":"IF(WEEKDAY(A122,2)<6,ColTime($F$6,$F$7,C122,D122),0)*IF(C122>0,D122>0)","v":0},null,0,0,0,null,0,null,0,0,null,0]
["2022-03-18","Fredag",null,null,{"$f":"IF(WEEKDAY(A123,2)<6,ColTime($D$6,$D$7,C123,D123),0)*IF(C123>0,D123>0)","v":0},{"$f":"IF(WEEKDAY(A123,2)<6,ColTime($G$6,$G$7,C123,D123),0)+IF(WEEKDAY(A123,2)<6,ColTime($E$6,$E$7,C123,D123),0)*IF(C123>0,D123>0)","v":0},{"$f":"IF(WEEKDAY(A123,2)<6,ColTime($F$6,$F$7,C123,D123),0)*IF(C123>0,D123>0)","v":0},null,{"$f":"IF(E123=0,0,($D$10-$D$9)-E123)","v":0},0,0,null,0,null,0,0,null,0,null,{"$f":"SUMIFS($R:$R,$A:$A,\">=\"&DATE($A$17,2,21),$A:$A,\"<=\"&DATE($A$17,3,20))","v":0},{"$f":"SUMIFS($P:$P,$A:$A,\">=\"&DATE($A$17,2,21),$A:$A,\"<=\"&DATE($A$17,3,20))+SUMIFS($M:$M,$A:$A,\">=\"&DATE($A$17,2,21),$A:$A,\"<=\"&DATE($A$17,3,20))","v":0}]
["2022-03-19","Lørdag",null,null," ","  ",{"$f":"IF(WEEKDAY(A124,2)=6,ColTime($E$12,$E$13,C124,D124),0)","v":0},null," ",{"$f":"G124","v":0},null,null," "," ",null,0,null,{"$f":"(P124*$F$4)*24","v":0}]
["2022-03-20","Søndag",null,null,null," "," ",{"$f":"IF(WEEKDAY(A125,2)=7,D125-C125+(D125<C125),IF(AND(WEEKDAY(A125,2)=6,D125<C125),ColTime($E$15,$E$16,#REF!,D125),0))","v":0}," ",{"$f":"H125","v":0},null,null," "," ",null,0,null,{"$f":"(P125*$H$4)*24","v":0}]
[null,null,null,null,null,null,null,null,null,null,null,null,{"$f":"SUM(M119:M125)","v":0},"Uge Timer I alt",null,{"$f":"SUM(P119:P125)+M126","v":0}]
[]
[12,"Uge dag","Start  indtast som:     tt:mm","Slut  indtast som:     tt:mm","Normal ArbejdsTid  Incl. Pause","Overtid 50%"," Overtid 100%\nMan-lør","Overtid 100%\nSøndag","Tid     Fratrukket Timebank (Afspasering)","Tid Indsat I Timebank, OVERTID timer","Afholdt Pause","Fri uden løn indtast som:    tt:mm","Time sygeløn indtast som:    tt:mm","Ferie Dag antal","Ferie Penge Beløb","I alt",null,"Løn","I alt"]
[{"$f":"DATE($A$17,1,7*A128-3-WEEKDAY(DATE($A$17,,),3))","v":"2022-03-21"},{"$f":"HelligdagsNavn(A129,1,1,1,1,1,1,1)","v":"Mandag"},null,null,{"$f":"IF(WEEKDAY(A129,2)<6,ColTime($D$6,$D$7,C129,D129),0)*IF(C129>0,D129>0)","v":0},{"$f":"IF(WEEKDAY(A129,2)<6,ColTime($G$6,$G$7,C129,D129),0)+IF(WEEKDAY(A129,2)<6,ColTime($E$6,$E$7,C129,D129),0)*IF(C129>0,D129>0)","v":0},{"$f":"IF(WEEKDAY(A129,2)<6,ColTime($F$6,$F$7,C129,D129),0)*IF(C129>0,D129>0)","v":0},null,{"$f":"IF(E129=0,0,($D$7-$D$6)-E129)","v":0},{"$f":"IF(E129=0,0,($D$7-$D$6)-($D$7-$D$6))+F129+G129","v":0},{"$f":"IF(AND($O$8>=C129,D129>=$P$8),$K$15,0)+IF(AND($O$9<=D129,$P$9<=D129),$K$16,0)","v":0},null,0,null,{"$f":"IF(E129=0,M129=0,)*SUM(($N$4/$N$2*N129))","v":0},{"$f":"SUM(E129:I129)-IF(C129>0,D129>0)*K129-L129","v":0},null,{"$f":"(((IF(E129>0,)+(P129*$B$4))+(F129*$C$4)+(G129*$D$4)+(M129*$M$4)))*24+O129","v":0},{"$f":"SUM(R129:R135)","v":0}]
[{"$f":"A129+1","v":"2022-03-22"},"Tirsdag",null,null,{"$f":"IF(WEEKDAY(A130,2)<6,ColTime($D$6,$D$7,C130,D130),0)*IF(C130>0,D130>0)","v":0},{"$f":"IF(WEEKDAY(A130,2)<6,ColTime($G$6,$G$7,C130,D130),0)+IF(WEEKDAY(A130,2)<6,ColTime($E$6,$E$7,C130,D130),0)*IF(C130>0,D130>0)","v":0},{"$f":"IF(WEEKDAY(A130,2)<6,ColTime($F$6,$F$7,C130,D130),0)*IF(C130>0,D130>0)","v":0},null,0,0,0,null,0,null,0,0,null,0]
["2022-03-23","Onsdag",null,null,{"$f":"IF(WEEKDAY(A131,2)<6,ColTime($D$6,$D$7,C131,D131),0)*IF(C131>0,D131>0)","v":0},{"$f":"IF(WEEKDAY(A131,2)<6,ColTime($G$6,$G$7,C131,D131),0)+IF(WEEKDAY(A131,2)<6,ColTime($E$6,$E$7,C131,D131),0)*IF(C131>0,D131>0)","v":0},{"$f":"IF(WEEKDAY(A131,2)<6,ColTime($F$6,$F$7,C131,D131),0)*IF(C131>0,D131>0)","v":0},null,0,0,0,null,0,null,0,0,null,0]
["2022-03-24","Torsdag",null,null,{"$f":"IF(WEEKDAY(A132,2)<6,ColTime($D$6,$D$7,C132,D132),0)*IF(C132>0,D132>0)","v":0},{"$f":"IF(WEEKDAY(A132,2)<6,ColTime($G$6,$G$7,C132,D132),0)+IF(WEEKDAY(A132,2)<6,ColTime($E$6,$E$7,C132,D132),0)*IF(C132>0,D132>0)","v":0},{"$f":"IF(WEEKDAY(A132,2)<6,ColTime($F$6,$F$7,C132,D132),0)*IF(C132>0,D132>0)","v":0},null,0,0,0,null,0,null,0,0,null,0]
["2022-03-25","Fredag",null,null,{"$f":"IF(WEEKDAY(A133,2)<6,ColTime($D$6,$D$7,C133,D133),0)*IF(C133>0,D133>0)","v":0},{"$f":"IF(WEEKDAY(A133,2)<6,ColTime($G$6,$G$7,C133,D133),0)+IF(WEEKDAY(A133,2)<6,ColTime($E$6,$E$7,C133,D133),0)*IF(C133>0,D133>0)","v":0},{"$f":"IF(WEEKDAY(A133,2)<6,ColTime($F$6,$F$7,C133,D133),0)*IF(C133>0,D133>0)","v":0},null,{"$f":"IF(E133=0,0,($D$10-$D$9)-E133)","v":0},0,0,null,0,null,0,0,null,0]
["2022-03-26","Lørdag",null,null," ","  ",{"$f":"IF(WEEKDAY(A134,2)=6,ColTime($E$12,$E$13,C134,D134),0)","v":0},null," ",{"$f":"G134","v":0},null,null," "," ",null,0,null,{"$f":"(P134*$F$4)*24","v":0}]
["2022-03-27","Søndag",null,null,null," "," ",{"$f":"IF(WEEKDAY(A135,2)=7,D135-C135+(D135<C135),IF(AND(WEEKDAY(A135,2)=6,D135<C135),ColTime($E$15,$E$16,#REF!,D135),0))","v":0}," ",{"$f":"H135","v":0},null,null," "," ",null,0,null,{"$f":"(P135*$H$4)*24","v":0}]
[null,null,null,null,null,null,null,null,null,null,null,null,{"$f":"SUM(M129:M135)","v":0},"Uge Timer I alt",null,{"$f":"SUM(P129:P135)+M136","v":0}]
[]
[13,"Uge dag","Start  indtast som:     tt:mm","Slut  indtast som:     tt:mm","Normal ArbejdsTid  Incl. Pause","Overtid 50%"," Overtid 100%\nMan-lør","Overtid 100%\nSøndag","Tid     Fratrukket Timebank (Afspasering)","Tid Indsat I Timebank, OVERTID timer","Afholdt Pause","Fri uden løn indtast som:    tt:mm","Time sygeløn indtast som:    tt:mm","Ferie Dag antal","Ferie Penge Beløb","I alt",null,"Løn","I alt"]
[{"$f":"DATE($A$17,1,7*A138-3-WEEKDAY(DATE($A$17,,),3))","v":"2022-03-28"},{"$f":"HelligdagsNavn(A139,1,1,1,1,1,1,1)","v":"Mandag"},null,null,{"$f":"IF(WEEKDAY(A139,2)<6,ColTime($D$6,$D$7,C139,D139),0)*IF(C139>0,D139>0)","v":0},{"$f":"IF(WEEKDAY(A139,2)<6,ColTime($G$6,$G$7,C139,D139),0)+IF(WEEKDAY(A139,2)<6,ColTime($E$6,$E$7,C139,D139),0)*IF(C139>0,D139>0)","v":0},{"$f":"IF(WEEKDAY(A139,2)<6,ColTime($F$6,$F$7,C139,D139),0)*IF(C139>0,D139>0)","v":0},null,{"$f":"IF(E139=0,0,($D$7-$D$6)-E139)","v":0},{"$f":"IF(E139=0,0,($D$7-$D$6)-($D$7-$D$6))+F139+G139","v":0},{"$f":"IF(AND($O$8>=C139,D139>=$P$8),$K$15,0)+IF(AND($O$9<=D139,$P$9<=D139),$K$16,0)","v":0},null,0,null,{"$f":"IF(E139=0,M139=0,)*SUM(($N$4/$N$2*N139))","v":0},{"$f":"SUM(E139:I139)-IF(C139>0,D139>0)*K139-L139","v":0},null,{"$f":"(((IF(E139>0,)+(P139*$B$4))+(F139*$C$4)+(G139*$D$4)+(M139*$M$4)))*24+O139","v":0},{"$f":"SUM(R139:R145)","v":0}]
["2022-03-29","Tirsdag",null,null,{"$f":"IF(WEEKDAY(A140,2)<6,ColTime($D$6,$D$7,C140,D140),0)*IF(C140>0,D140>0)","v":0},{"$f":"IF(WEEKDAY(A140,2)<6,ColTime($G$6,$G$7,C140,D140),0)+IF(WEEKDAY(A140,2)<6,ColTime($E$6,$E$7,C140,D140),0)*IF(C140>0,D140>0)","v":0},{"$f":"IF(WEEKDAY(A140,2)<6,ColTime($F$6,$F$7,C140,D140),0)*IF(C140>0,D140>0)","v":0},null,0,0,0,null,0,null,0,0,null,0]
["2022-03-30","Onsdag",null,null,{"$f":"IF(WEEKDAY(A141,2)<6,ColTime($D$6,$D$7,C141,D141),0)*IF(C141>0,D141>0)","v":0},{"$f":"IF(WEEKDAY(A141,2)<6,ColTime($G$6,$G$7,C141,D141),0)+IF(WEEKDAY(A141,2)<6,ColTime($E$6,$E$7,C141,D141),0)*IF(C141>0,D141>0)","v":0},{"$f":"IF(WEEKDAY(A141,2)<6,ColTime($F$6,$F$7,C141,D141),0)*IF(C141>0,D141>0)","v":0},null,0,0,0,null,0,null,0,0,null,0]
["2022-03-31","Torsdag",null,null,{"$f":"IF(WEEKDAY(A142,2)<6,ColTime($D$6,$D$7,C142,D142),0)*IF(C142>0,D142>0)","v":0},{"$f":"IF(WEEKDAY(A142,2)<6,ColTime($G$6,$G$7,C142,D142),0)+IF(WEEKDAY(A142,2)<6,ColTime($E$6,$E$7,C142,D142),0)*IF(C142>0,D142>0)","v":0},{"$f":"IF(WEEKDAY(A142,2)<6,ColTime($F$6,$F$7,C142,D142),0)*IF(C142>0,D142>0)","v":0},null,0,0,0,null,0,null,0,0,null,0]
["2022-04-01","Fredag",null,null,{"$f":"IF(WEEKDAY(A143,2)<6,ColTime($D$6,$D$7,C143,D143),0)*IF(C143>0,D143>0)","v":0},{"$f":"IF(WEEKDAY(A143,2)<6,ColTime($G$6,$G$7,C143,D143),0)+IF(WEEKDAY(A143,2)<6,ColTime($E$6,$E$7,C143,D143),0)*IF(C143>0,D143>0)","v":0},{"$f":"IF(WEEKDAY(A143,2)<6,ColTime($F$6,$F$7,C143,D143),0)*IF(C143>0,D143>0)","v":0},null,{"$f":"IF(E143=0,0,($D$10-$D$9)-E143)","v":0},0,0,null,0,null,0,0,null,0]
["2022-04-02","Lørdag",null,null," ","  ",{"$f":"IF(WEEKDAY(A144,2)=6,ColTime($E$12,$E$13,C144,D144),0)","v":0},null," ",{"$f":"G144","v":0},null,null," "," ",null,0,null,{"$f":"(P144*$F$4)*24","v":0}]
["2022-04-03","Søndag",null,null,null," "," ",{"$f":"IF(WEEKDAY(A145,2)=7,D145-C145+(D145<C145),IF(AND(WEEKDAY(A145,2)=6,D145<C145),ColTime($E$15,$E$16,#REF!,D145),0))","v":0}," ",{"$f":"H145","v":0},null,null," "," ",null,0,null,{"$f":"(P145*$H$4)*24","v":0}]
[null,null,null,null,null,null,null,null,null,null,null,null,{"$f":"SUM(M139:M145)","v":0},"Uge Timer I alt",null,{"$f":"SUM(P139:P145)+M146","v":0}]
[]
[14,"Uge dag","Start  indtast som:     tt:mm","Slut  indtast som:     tt:mm","Normal ArbejdsTid  Incl. Pause","Overtid 50%"," Overtid 100%\nMan-lør","Overtid 100%\nSøndag","Tid     Fratrukket Timebank (Afspasering)","Tid Indsat I Timebank, OVERTID timer","Afholdt Pause","Fri uden løn indtast som:    tt:mm","Time sygeløn indtast som:    tt:mm","Ferie Dag antal","Ferie Penge Beløb","I alt",null,"Løn","I alt"]
[{"$f":"DATE($A$17,1,7*A148-3-WEEKDAY(DATE($A$17,,),3))","v":"2022-04-04"},{"$f":"HelligdagsNavn(A149,1,1,1,1,1,1,1)","v":"Mandag"},null,null,{"$f":"IF(WEEKDAY(A149,2)<6,ColTime($D$6,$D$7,C149,D149),0)*IF(C149>0,D149>0)","v":0},{"$f":"IF(WEEKDAY(A149,2)<6,ColTime($G$6,$G$7,C149,D149),0)+IF(WEEKDAY(A149,2)<6,ColTime($E$6,$E$7,C149,D149),0)*IF(C149>0,D149>0)","v":0},{"$f":"IF(WEEKDAY(A149,2)<6,ColTime($F$6,$F$7,C149,D149),0)*IF(C149>0,D149>0)","v":0},null,{"$f":"IF(E149=0,0,($D$7-$D$6)-E149)","v":0},{"$f":"IF(E149=0,0,($D$7-$D$6)-($D$7-$D$6))+F149+G149","v":0},{"$f":"IF(AND($O$8>=C149,D149>=$P$8),$K$15,0)+IF(AND($O$9<=D149,$P$9<=D149),$K$16,0)","v":0},null,0,null,{"$f":"IF(E149=0,M149=0,)*SUM(($N$4/$N$2*N149))","v":0},{"$f":"SUM(E149:I149)-IF(C149>0,D149>0)*K149-L149","v":0},null,{"$f":"(((IF(E149>0,)+(P149*$B$4))+(F149*$C$4)+(G149*$D$4)+(M149*$M$4)))*24+O149","v":0},0]
["2022-04-05","Tirsdag",null,null,{"$f":"IF(WEEKDAY(A150,2)<6,ColTime($D$6,$D$7,C150,D150),0)*IF(C150>0,D150>0)","v":0},{"$f":"IF(WEEKDAY(A150,2)<6,ColTime($G$6,$G$7,C150,D150),0)+IF(WEEKDAY(A150,2)<6,ColTime($E$6,$E$7,C150,D150),0)*IF(C150>0,D150>0)","v":0},{"$f":"IF(WEEKDAY(A150,2)<6,ColTime($F$6,$F$7,C150,D150),0)*IF(C150>0,D150>0)","v":0},null,0,0,0,null,0,null,0,0,null,0]
["2022-04-06","Onsdag",null,null,{"$f":"IF(WEEKDAY(A151,2)<6,ColTime($D$6,$D$7,C151,D151),0)*IF(C151>0,D151>0)","v":0},{"$f":"IF(WEEKDAY(A151,2)<6,ColTime($G$6,$G$7,C151,D151),0)+IF(WEEKDAY(A151,2)<6,ColTime($E$6,$E$7,C151,D151),0)*IF(C151>0,D151>0)","v":0},{"$f":"IF(WEEKDAY(A151,2)<6,ColTime($F$6,$F$7,C151,D151),0)*IF(C151>0,D151>0)","v":0},null,0,0,0,null,0,null,0,0,null,0]
["2022-04-07","Torsdag",null,null,{"$f":"IF(WEEKDAY(A152,2)<6,ColTime($D$6,$D$7,C152,D152),0)*IF(C152>0,D152>0)","v":0},{"$f":"IF(WEEKDAY(A152,2)<6,ColTime($G$6,$G$7,C152,D152),0)+IF(WEEKDAY(A152,2)<6,ColTime($E$6,$E$7,C152,D152),0)*IF(C152>0,D152>0)","v":0},{"$f":"IF(WEEKDAY(A152,2)<6,ColTime($F$6,$F$7,C152,D152),0)*IF(C152>0,D152>0)","v":0},null,0,0,0,null,0,null,0,0,null,0]
["2022-04-08","Fredag",null,null,{"$f":"IF(WEEKDAY(A153,2)<6,ColTime($D$6,$D$7,C153,D153),0)*IF(C153>0,D153>0)","v":0},{"$f":"IF(WEEKDAY(A153,2)<6,ColTime($G$6,$G$7,C153,D153),0)+IF(WEEKDAY(A153,2)<6,ColTime($E$6,$E$7,C153,D153),0)*IF(C153>0,D153>0)","v":0},{"$f":"IF(WEEKDAY(A153,2)<6,ColTime($F$6,$F$7,C153,D153),0)*IF(C153>0,D153>0)","v":0},null,{"$f":"IF(E153=0,0,($D$10-$D$9)-E153)","v":0},0,0,null,0,null,0,0,null,0]
["2022-04-09","Lørdag",null,null," ","  ",{"$f":"IF(WEEKDAY(A154,2)=6,ColTime($E$12,$E$13,C154,D154),0)","v":0},null," ",{"$f":"G154","v":0},null,null," "," ",null,0,null,{"$f":"(P154*$F$4)*24","v":0}]
["2022-04-10","Søndag",null,null,null," "," ",{"$f":"IF(WEEKDAY(A155,2)=7,D155-C155+(D155<C155),IF(AND(WEEKDAY(A155,2)=6,D155<C155),ColTime($E$15,$E$16,#REF!,D155),0))","v":0}," ",{"$f":"H155","v":0},null,null," "," ",null,0,null,{"$f":"(P155*$H$4)*24","v":0}]
[null,null,null,null,null,null,null,null,null,null,null,null,{"$f":"SUM(M149:M155)","v":0},"Uge Timer I alt",null,{"$f":"SUM(P149:P155)+M156","v":0}]
[]
[15,"Uge dag","Start  indtast som:     tt:mm","Slut  indtast som:     tt:mm","Normal ArbejdsTid  Incl. Pause","Overtid 50%"," Overtid 100%\nMan-lør","Overtid 100%\nSøndag","Tid     Fratrukket Timebank (Afspasering)","Tid Indsat I Timebank, OVERTID timer","Afholdt Pause","Fri uden løn indtast som:    tt:mm","Time sygeløn indtast som:    tt:mm","Ferie Dag antal","Ferie Penge Beløb","I alt",null,"Løn","I alt"]
[{"$f":"DATE($A$17,1,7*A158-3-WEEKDAY(DATE($A$17,,),3))","v":"2022-04-11"},{"$f":"HelligdagsNavn(A159,1,1,1,1,1,1,1)","v":"Mandag"},null,null,{"$f":"IF(WEEKDAY(A159,2)<6,ColTime($D$6,$D$7,C159,D159),0)*IF(C159>0,D159>0)","v":0},{"$f":"IF(WEEKDAY(A159,2)<6,ColTime($G$6,$G$7,C159,D159),0)+IF(WEEKDAY(A159,2)<6,ColTime($E$6,$E$7,C159,D159),0)*IF(C159>0,D159>0)","v":0},{"$f":"IF(WEEKDAY(A159,2)<6,ColTime($F$6,$F$7,C159,D159),0)*IF(C159>0,D159>0)","v":0},null,{"$f":"IF(E159=0,0,($D$7-$D$6)-E159)","v":0},{"$f":"IF(E159=0,0,($D$7-$D$6)-($D$7-$D$6))+F159+G159","v":0},{"$f":"IF(AND($O$8>=C159,D159>=$P$8),$K$15,0)+IF(AND($O$9<=D159,$P$9<=D159),$K$16,0)","v":0},null,0,null,{"$f":"IF(E159=0,M159=0,)*SUM(($N$4/$N$2*N159))","v":0},{"$f":"SUM(E159:I159)-IF(C159>0,D159>0)*K159-L159","v":0},null,{"$f":"(((IF(E159>0,)+(P159*$B$4))+(F159*$C$4)+(G159*$D$4)+(M159*$M$4)))*24+O159","v":0},0]
["2022-04-12","Tirsdag",null,null,{"$f":"IF(WEEKDAY(A160,2)<6,ColTime($D$6,$D$7,C160,D160),0)*IF(C160>0,D160>0)","v":0},{"$f":"IF(WEEKDAY(A160,2)<6,ColTime($G$6,$G$7,C160,D160),0)+IF(WEEKDAY(A160,2)<6,ColTime($E$6,$E$7,C160,D160),0)*IF(C160>0,D160>0)","v":0},{"$f":"IF(WEEKDAY(A160,2)<6,ColTime($F$6,$F$7,C160,D160),0)*IF(C160>0,D160>0)","v":0},null,0,0,0,null,0,null,0,0,null,0]
["2022-04-13","Onsdag",null,null,{"$f":"IF(WEEKDAY(A161,2)<6,ColTime($D$6,$D$7,C161,D161),0)*IF(C161>0,D161>0)","v":0},{"$f":"IF(WEEKDAY(A161,2)<6,ColTime($G$6,$G$7,C161,D161),0)+IF(WEEKDAY(A161,2)<6,ColTime($E$6,$E$7,C161,D161),0)*IF(C161>0,D161>0)","v":0},{"$f":"IF(WEEKDAY(A161,2)<6,ColTime($F$6,$F$7,C161,D161),0)*IF(C161>0,D161>0)","v":0},null,0,0,0,null,0,null,0,0,null,0]
["2022-04-14","Torsdag Skærtorsdag",null,null,{"$f":"IF(WEEKDAY(A162,2)<6,ColTime($D$6,$D$7,C162,D162),0)*IF(C162>0,D162>0)","v":0},{"$f":"IF(WEEKDAY(A162,2)<6,ColTime($G$6,$G$7,C162,D162),0)+IF(WEEKDAY(A162,2)<6,ColTime($E$6,$E$7,C162,D162),0)*IF(C162>0,D162>0)","v":0},{"$f":"IF(WEEKDAY(A162,2)<6,ColTime($F$6,$F$7,C162,D162),0)*IF(C162>0,D162>0)","v":0},null,0,0,0,null,0,null,0,0,null,0]
["2022-04-15","Fredag Langfredag",null,null,{"$f":"IF(WEEKDAY(A163,2)<6,ColTime($D$6,$D$7,C163,D163),0)*IF(C163>0,D163>0)","v":0},{"$f":"IF(WEEKDAY(A163,2)<6,ColTime($G$6,$G$7,C163,D163),0)+IF(WEEKDAY(A163,2)<6,ColTime($E$6,$E$7,C163,D163),0)*IF(C163>0,D163>0)","v":0},{"$f":"IF(WEEKDAY(A163,2)<6,ColTime($F$6,$F$7,C163,D163),0)*IF(C163>0,D163>0)","v":0},null,{"$f":"IF(E163=0,0,($D$10-$D$9)-E163)","v":0},0,0,null,0,null,0,0,null,0]
["2022-04-16","Lørdag",null,null," ","  ",{"$f":"IF(WEEKDAY(A164,2)=6,ColTime($E$12,$E$13,C164,D164),0)","v":0},null," ",{"$f":"G164","v":0},null,null," "," ",null,0,null,{"$f":"(P164*$F$4)*24","v":0}]
["2022-04-17","Søndag Påskedag",null,null,null," "," ",{"$f":"IF(WEEKDAY(A165,2)=7,D165-C165+(D165<C165),IF(AND(WEEKDAY(A165,2)=6,D165<C165),ColTime($E$15,$E$16,#REF!,D165),0))","v":0}," ",{"$f":"H165","v":0},null,null," "," ",null,0,null,{"$f":"(P165*$H$4)*24","v":0}]
[null,null,null,null,null,null,null,null,null,null,null,null,{"$f":"SUM(M159:M165)","v":0},"Uge Timer I alt",null,{"$f":"SUM(P159:P165)+M166","v":0}]
[]
[16,"Uge dag","Start  indtast som:     tt:mm","Slut  indtast som:     tt:mm","Normal ArbejdsTid  Incl. Pause","Overtid 50%"," Overtid 100%\nMan-lør","Overtid 100%\nSøndag","Tid     Fratrukket Timebank (Afspasering)","Tid Indsat I Timebank, OVERTID timer","Afholdt Pause","Fri uden løn indtast som:    tt:mm","Time sygeløn indtast som:    tt:mm","Ferie Dag antal","Ferie Penge Beløb","I alt",null,"Løn","I alt","April Løn","Samlet Timer I perioden"]
[{"$f":"DATE($A$17,1,7*A168-3-WEEKDAY(DATE($A$17,,),3))","v":"2022-04-18"},{"$f":"HelligdagsNavn(A169,1,1,1,1,1,1,1)","v":"Mandag 2. Påskedag"},null,null,{"$f":"IF(WEEKDAY(A169,2)<6,ColTime($D$6,$D$7,C169,D169),0)*IF(C169>0,D169>0)","v":0},{"$f":"IF(WEEKDAY(A169,2)<6,ColTime($G$6,$G$7,C169,D169),0)+IF(WEEKDAY(A169,2)<6,ColTime($E$6,$E$7,C169,D169),0)*IF(C169>0,D169>0)","v":0},{"$f":"IF(WEEKDAY(A169,2)<6,ColTime($F$6,$F$7,C169,D169),0)*IF(C169>0,D169>0)","v":0},null,{"$f":"IF(E169=0,0,($D$7-$D$6)-E169)","v":0},{"$f":"IF(E169=0,0,($D$7-$D$6)-($D$7-$D$6))+F169+G169","v":0},{"$f":"IF(AND($O$8>=C169,D169>=$P$8),$K$15,0)+IF(AND($O$9<=D169,$P$9<=D169),$K$16,0)","v":0},null,0,null,{"$f":"IF(E169=0,M169=0,)*SUM(($N$4/$N$2*N169))","v":0},{"$f":"SUM(E169:I169)-IF(C169>0,D169>0)*K169-L169","v":0},null,{"$f":"(((IF(E169>0,)+(P169*$B$4))+(F169*$C$4)+(G169*$D$4)+(M169*$M$4)))*24+O169","v":0},{"$f":"SUM(R169:R175)","v":0},{"$f":"SUMIFS($R:$R,$A:$A,\">=\"&DATE($A$17,3,21),$A:$A,\"<=\"&DATE($A$17,4,20))","v":0},{"$f":"SUMIFS($P:$P,$A:$A,\">=\"&DATE($A$17,3,21),$A:$A,\"<=\"&DATE($A$17,4,20))+SUMIFS($M:$M,$A:$A,\">=\"&DATE($A$17,3,21),$A:$A,\"<=\"&DATE($A$17,4,20))","v":0}]
[{"$f":"A169+1","v":"2022-04-19"},"Tirsdag",null,null,{"$f":"IF(WEEKDAY(A170,2)<6,ColTime($D$6,$D$7,C170,D170),0)*IF(C170>0,D170>0)","v":0},{"$f":"IF(WEEKDAY(A170,2)<6,ColTime($G$6,$G$7,C170,D170),0)+IF(WEEKDAY(A170,2)<6,ColTime($E$6,$E$7,C170,D170),0)*IF(C170>0,D170>0)","v":0},{"$f":"IF(WEEKDAY(A170,2)<6,ColTime($F$6,$F$7,C170,D170),0)*IF(C170>0,D170>0)","v":0},null,0,0,0,null,0,null,0,0,null,0]
["2022-04-20","Onsdag",null,null,{"$f":"IF(WEEKDAY(A171,2)<6,ColTime($D$6,$D$7,C171,D171),0)*IF(C171>0,D171>0)","v":0},{"$f":"IF(WEEKDAY(A171,2)<6,ColTime($G$6,$G$7,C171,D171),0)+IF(WEEKDAY(A171,2)<6,ColTime($E$6,$E$7,C171,D171),0)*IF(C171>0,D171>0)","v":0},{"$f":"IF(WEEKDAY(A171,2)<6,ColTime($F$6,$F$7,C171,D171),0)*IF(C171>0,D171>0)","v":0},null,0,0,0,null,0,null,0,0,null,0]
["2022-04-21","Torsdag",null,null,{"$f":"IF(WEEKDAY(A172,2)<6,ColTime($D$6,$D$7,C172,D172),0)*IF(C172>0,D172>0)","v":0},{"$f":"IF(WEEKDAY(A172,2)<6,ColTime($G$6,$G$7,C172,D172),0)+IF(WEEKDAY(A172,2)<6,ColTime($E$6,$E$7,C172,D172),0)*IF(C172>0,D172>0)","v":0},{"$f":"IF(WEEKDAY(A172,2)<6,ColTime($F$6,$F$7,C172,D172),0)*IF(C172>0,D172>0)","v":0},null,0,0,0,null,0,null,0,0,null,0]
["2022-04-22","Fredag",null,null,{"$f":"IF(WEEKDAY(A173,2)<6,ColTime($D$6,$D$7,C173,D173),0)*IF(C173>0,D173>0)","v":0},{"$f":"IF(WEEKDAY(A173,2)<6,ColTime($G$6,$G$7,C173,D173),0)+IF(WEEKDAY(A173,2)<6,ColTime($E$6,$E$7,C173,D173),0)*IF(C173>0,D173>0)","v":0},{"$f":"IF(WEEKDAY(A173,2)<6,ColTime($F$6,$F$7,C173,D173),0)*IF(C173>0,D173>0)","v":0},null,{"$f":"IF(E173=0,0,($D$10-$D$9)-E173)","v":0},0,0,null,0,null,0,0,null,0]
["2022-04-23","Lørdag",null,null," ","  ",{"$f":"IF(WEEKDAY(A174,2)=6,ColTime($E$12,$E$13,C174,D174),0)","v":0},null," ",{"$f":"G174","v":0},null,null," "," ",null,0,null,{"$f":"(P174*$F$4)*24","v":0}]
["2022-04-24","Søndag",null,null,null," "," ",{"$f":"IF(WEEKDAY(A175,2)=7,D175-C175+(D175<C175),IF(AND(WEEKDAY(A175,2)=6,D175<C175),ColTime($E$15,$E$16,#REF!,D175),0))","v":0}," ",{"$f":"H175","v":0},null,null," "," ",null,0,null,{"$f":"(P175*$H$4)*24","v":0}]
[null,null,null,null,null,null,null,null,null,null,null,null,{"$f":"SUM(M169:M175)","v":0},"Uge Timer I alt",null,{"$f":"SUM(P169:P175)+M176","v":0}]
[]
[17,"Uge dag","Start  indtast som:     tt:mm","Slut  indtast som:     tt:mm","Normal ArbejdsTid  Incl. Pause","Overtid 50%"," Overtid 100%\nMan-lør","Overtid 100%\nSøndag","Tid     Fratrukket Timebank (Afspasering)","Tid Indsat I Timebank, OVERTID timer","Afholdt Pause","Fri uden løn indtast som:    tt:mm","Time sygeløn indtast som:    tt:mm","Ferie Dag antal","Ferie Penge Beløb","I alt",null,"Løn","I alt"]
[{"$f":"DATE($A$17,1,7*A178-3-WEEKDAY(DATE($A$17,,),3))","v":"2022-04-25"},{"$f":"HelligdagsNavn(A179,1,1,1,1,1,1,1)","v":"Mandag"},null,null,{"$f":"IF(WEEKDAY(A179,2)<6,ColTime($D$6,$D$7,C179,D179),0)*IF(C179>0,D179>0)","v":0},{"$f":"IF(WEEKDAY(A179,2)<6,ColTime($G$6,$G$7,C179,D179),0)+IF(WEEKDAY(A179,2)<6,ColTime($E$6,$E$7,C179,D179),0)*IF(C179>0,D179>0)","v":0},{"$f":"IF(WEEKDAY(A179,2)<6,ColTime($F$6,$F$7,C179,D179),0)*IF(C179>0,D179>0)","v":0},null,{"$f":"IF(E179=0,0,($D$7-$D$6)-E179)","v":0},{"$f":"IF(E179=0,0,($D$7-$D$6)-($D$7-$D$6))+F179+G179","v":0},{"$f":"IF(AND($O$8>=C179,D179>=$P$8),$K$15,0)+IF(AND($O$9<=D179,$P$9<=D179),$K$16,0)","v":0},null,0,null,{"$f":"IF(E179=0,M179=0,)*SUM(($N$4/$N$2*N179))","v":0},{"$f":"SUM(E179:I179)-IF(C179>0,D179>0)*K179-L179","v":0},null,{"$f":"(((IF(E179>0,)+(P179*$B$4))+(F179*$C$4)+(G179*$D$4)+(M179*$M$4)))*24+O179","v":0},{"$f":"SUM(R179:R185)","v":0}]
["2022-04-26","Tirsdag",null,null,{"$f":"IF(WEEKDAY(A180,2)<6,ColTime($D$6,$D$7,C180,D180),0)*IF(C180>0,D180>0)","v":0},{"$f":"IF(WEEKDAY(A180,2)<6,ColTime($G$6,$G$7,C180,D180),0)+IF(WEEKDAY(A180,2)<6,ColTime($E$6,$E$7,C180,D180),0)*IF(C180>0,D180>0)","v":0},{"$f":"IF(WEEKDAY(A180,2)<6,ColTime($F$6,$F$7,C180,D180),0)*IF(C180>0,D180>0)","v":0},null,0,0,0,null,0,null,0,0,null,0]
["2022-04-27","Onsdag",null,null,{"$f":"IF(WEEKDAY(A181,2)<6,ColTime($D$6,$D$7,C181,D181),0)*IF(C181>0,D181>0)","v":0},{"$f":"IF(WEEKDAY(A181,2)<6,ColTime($G$6,$G$7,C181,D181),0)+IF(WEEKDAY(A181,2)<6,ColTime($E$6,$E$7,C181,D181),0)*IF(C181>0,D181>0)","v":0},{"$f":"IF(WEEKDAY(A181,2)<6,ColTime($F$6,$F$7,C181,D181),0)*IF(C181>0,D181>0)","v":0},null,0,0,0,null,0,null,0,0,null,0]
["2022-04-28","Torsdag",null,null,{"$f":"IF(WEEKDAY(A182,2)<6,ColTime($D$6,$D$7,C182,D182),0)*IF(C182>0,D182>0)","v":0},{"$f":"IF(WEEKDAY(A182,2)<6,ColTime($G$6,$G$7,C182,D182),0)+IF(WEEKDAY(A182,2)<6,ColTime($E$6,$E$7,C182,D182),0)*IF(C182>0,D182>0)","v":0},{"$f":"IF(WEEKDAY(A182,2)<6,ColTime($F$6,$F$7,C182,D182),0)*IF(C182>0,D182>0)","v":0},null,0,0,0,null,0,null,0,0,null,0]
["2022-04-29","Fredag",null,null,{"$f":"IF(WEEKDAY(A183,2)<6,ColTime($D$6,$D$7,C183,D183),0)*IF(C183>0,D183>0)","v":0},{"$f":"IF(WEEKDAY(A183,2)<6,ColTime($G$6,$G$7,C183,D183),0)+IF(WEEKDAY(A183,2)<6,ColTime($E$6,$E$7,C183,D183),0)*IF(C183>0,D183>0)","v":0},{"$f":"IF(WEEKDAY(A183,2)<6,ColTime($F$6,$F$7,C183,D183),0)*IF(C183>0,D183>0)","v":0},null,{"$f":"IF(E183=0,0,($D$10-$D$9)-E183)","v":0},0,0,null,0,null,0,0,null,0]
["2022-04-30","Lørdag",null,null," ","  ",{"$f":"IF(WEEKDAY(A184,2)=6,ColTime($E$12,$E$13,C184,D184),0)","v":0},null," ",{"$f":"G184","v":0},null,null," "," ",null,0,null,{"$f":"(P184*$F$4)*24","v":0}]
["2022-05-01","Søndag",null,null,null," "," ",{"$f":"IF(WEEKDAY(A185,2)=7,D185-C185+(D185<C185),IF(AND(WEEKDAY(A185,2)=6,D185<C185),ColTime($E$15,$E$16,#REF!,D185),0))","v":0}," ",{"$f":"H185","v":0},null,null," "," ",null,0,null,{"$f":"(P185*$H$4)*24","v":0}]
[null,null,null,null,null,null,null,null,null,null,null,null,{"$f":"SUM(M179:M185)","v":0},"Uge Timer I alt",null,{"$f":"SUM(P179:P185)+M186","v":0}]
[]
[18,"Uge dag","Start  indtast som:     tt:mm","Slut  indtast som:     tt:mm","Normal ArbejdsTid  Incl. Pause","Overtid 50%"," Overtid 100%\nMan-lør","Overtid 100%\nSøndag","Tid     Fratrukket Timebank (Afspasering)","Tid Indsat I Timebank, OVERTID timer","Afholdt Pause","Fri uden løn indtast som:    tt:mm","Time sygeløn indtast som:    tt:mm","Ferie Dag antal","Ferie Penge Beløb","I alt",null,"Løn","I alt"]
[{"$f":"DATE($A$17,1,7*A188-3-WEEKDAY(DATE($A$17,,),3))","v":"2022-05-02"},{"$f":"HelligdagsNavn(A189,1,1,1,1,1,1,1)","v":"Mandag"},null,null,{"$f":"IF(WEEKDAY(A189,2)<6,ColTime($D$6,$D$7,C189,D189),0)*IF(C189>0,D189>0)","v":0},{"$f":"IF(WEEKDAY(A189,2)<6,ColTime($G$6,$G$7,C189,D189),0)+IF(WEEKDAY(A189,2)<6,ColTime($E$6,$E$7,C189,D189),0)*IF(C189>0,D189>0)","v":0},{"$f":"IF(WEEKDAY(A189,2)<6,ColTime($F$6,$F$7,C189,D189),0)*IF(C189>0,D189>0)","v":0},null,{"$f":"IF(E189=0,0,($D$7-$D$6)-E189)","v":0},{"$f":"IF(E189=0,0,($D$7-$D$6)-($D$7-$D$6))+F189+G189","v":0},{"$f":"IF(AND($O$8>=C189,D189>=$P$8),$K$15,0)+IF(AND($O$9<=D189,$P$9<=D189),$K$16,0)","v":0},null,0,null,{"$f":"IF(E189=0,M189=0,)*SUM(($N$4/$N$2*N189))","v":0},{"$f":"SUM(E189:I189)-IF(C189>0,D189>0)*K189-L189","v":0},null,{"$f":"(((IF(E189>0,)+(P189*$B$4))+(F189*$C$4)+(G189*$D$4)+(M189*$M$4)))*24+O189","v":0},0]
["2022-05-03","Tirsdag",null,null,{"$f":"IF(WEEKDAY(A190,2)<6,ColTime($D$6,$D$7,C190,D190),0)*IF(C190>0,D190>0)","v":0},{"$f":"IF(WEEKDAY(A190,2)<6,ColTime($G$6,$G$7,C190,D190),0)+IF(WEEKDAY(A190,2)<6,ColTime($E$6,$E$7,C190,D190),0)*IF(C190>0,D190>0)","v":0},{"$f":"IF(WEEKDAY(A190,2)<6,ColTime($F$6,$F$7,C190,D190),0)*IF(C190>0,D190>0)","v":0},null,0,0,0,null,0,null,0,0,null,0]
["2022-05-04","Onsdag",null,null,{"$f":"IF(WEEKDAY(A191,2)<6,ColTime($D$6,$D$7,C191,D191),0)*IF(C191>0,D191>0)","v":0},{"$f":"IF(WEEKDAY(A191,2)<6,ColTime($G$6,$G$7,C191,D191),0)+IF(WEEKDAY(A191,2)<6,ColTime($E$6,$E$7,C191,D191),0)*IF(C191>0,D191>0)","v":0},{"$f":"IF(WEEKDAY(A191,2)<6,ColTime($F$6,$F$7,C191,D191),0)*IF(C191>0,D191>0)","v":0},null,0,0,0,null,0,null,0,0,null,0]
["2022-05-05","Torsdag",null,null,{"$f":"IF(WEEKDAY(A192,2)<6,ColTime($D$6,$D$7,C192,D192),0)*IF(C192>0,D192>0)","v":0},{"$f":"IF(WEEKDAY(A192,2)<6,ColTime($G$6,$G$7,C192,D192),0)+IF(WEEKDAY(A192,2)<6,ColTime($E$6,$E$7,C192,D192),0)*IF(C192>0,D192>0)","v":0},{"$f":"IF(WEEKDAY(A192,2)<6,ColTime($F$6,$F$7,C192,D192),0)*IF(C192>0,D192>0)","v":0},null,0,0,0,null,0,null,0,0,null,0]
["2022-05-06","Fredag",null,null,{"$f":"IF(WEEKDAY(A193,2)<6,ColTime($D$6,$D$7,C193,D193),0)*IF(C193>0,D193>0)","v":0},{"$f":"IF(WEEKDAY(A193,2)<6,ColTime($G$6,$G$7,C193,D193),0)+IF(WEEKDAY(A193,2)<6,ColTime($E$6,$E$7,C193,D193),0)*IF(C193>0,D193>0)","v":0},{"$f":"IF(WEEKDAY(A193,2)<6,ColTime($F$6,$F$7,C193,D193),0)*IF(C193>0,D193>0)","v":0},null,{"$f":"IF(E193=0,0,($D$10-$D$9)-E193)","v":0},0,0,null,0,null,0,0,null,0]
["2022-05-07","Lørdag",null,null," ","  ",{"$f":"IF(WEEKDAY(A194,2)=6,ColTime($E$12,$E$13,C194,D194),0)","v":0},null," ",{"$f":"G194","v":0},null,null," "," ",null,0,null,{"$f":"(P194*$F$4)*24","v":0}]
["2022-05-08","Søndag",null,null,null," "," ",{"$f":"IF(WEEKDAY(A195,2)=7,D195-C195+(D195<C195),IF(AND(WEEKDAY(A195,2)=6,D195<C195),ColTime($E$15,$E$16,#REF!,D195),0))","v":0}," ",{"$f":"H195","v":0},null,null," "," ",null,0,null,{"$f":"(P195*$H$4)*24","v":0}]
[null,null,null,null,null,null,null,null,null,null,null,null,{"$f":"SUM(M189:M195)","v":0},"Uge Timer I alt",null,{"$f":"SUM(P189:P195)+M196","v":0}]
[]
[19,"Uge dag","Start  indtast som:     tt:mm","Slut  indtast som:     tt:mm","Normal ArbejdsTid  Incl. Pause","Overtid 50%"," Overtid 100%\nMan-lør","Overtid 100%\nSøndag","Tid     Fratrukket Timebank (Afspasering)","Tid Indsat I Timebank, OVERTID timer","Afholdt Pause","Fri uden løn indtast som:    tt:mm","Time sygeløn indtast som:    tt:mm","Ferie Dag antal","Ferie Penge Beløb","I alt",null,"Løn","I alt"]
[{"$f":"DATE($A$17,1,7*A198-3-WEEKDAY(DATE($A$17,,),3))","v":"2022-05-09"},{"$f":"HelligdagsNavn(A199,1,1,1,1,1,1,1)","v":"Mandag"},null,null,{"$f":"IF(WEEKDAY(A199,2)<6,ColTime($D$6,$D$7,C199,D199),0)*IF(C199>0,D199>0)","v":0},{"$f":"IF(WEEKDAY(A199,2)<6,ColTime($G$6,$G$7,C199,D199),0)+IF(WEEKDAY(A199,2)<6,ColTime($E$6,$E$7,C199,D199),0)*IF(C199>0,D199>0)","v":0},{"$f":"IF(WEEKDAY(A199,2)<6,ColTime($F$6,$F$7,C199,D199),0)*IF(C199>0,D199>0)","v":0},null,{"$f":"IF(E199=0,0,($D$7-$D$6)-E199)","v":0},{"$f":"IF(E199=0,0,($D$7-$D$6)-($D$7-$D$6))+F199+G199","v":0},{"$f":"IF(AND($O$8>=C199,D199>=$P$8),$K$15,0)+IF(AND($O$9<=D199,$P$9<=D199),$K$16,0)","v":0},null,0,null,{"$f":"IF(E199=0,M199=0,)*SUM(($N$4/$N$2*N199))","v":0},{"$f":"SUM(E199:I199)-IF(C199>0,D199>0)*K199-L199","v":0},null,{"$f":"(((IF(E199>0,)+(P199*$B$4))+(F199*$C$4)+(G199*$D$4)+(M199*$M$4)))*24+O199","v":0},0]
["2022-05-10","Tirsdag",null,null,{"$f":"IF(WEEKDAY(A200,2)<6,ColTime($D$6,$D$7,C200,D200),0)*IF(C200>0,D200>0)","v":0},{"$f":"IF(WEEKDAY(A200,2)<6,ColTime($G$6,$G$7,C200,D200),0)+IF(WEEKDAY(A200,2)<6,ColTime($E$6,$E$7,C200,D200),0)*IF(C200>0,D200>0)","v":0},{"$f":"IF(WEEKDAY(A200,2)<6,ColTime($F$6,$F$7,C200,D200),0)*IF(C200>0,D200>0)","v":0},null,0,0,0,null,0,null,0,0,null,0]
["2022-05-11","Onsdag",null,null,{"$f":"IF(WEEKDAY(A201,2)<6,ColTime($D$6,$D$7,C201,D201),0)*IF(C201>0,D201>0)","v":0},{"$f":"IF(WEEKDAY(A201,2)<6,ColTime($G$6,$G$7,C201,D201),0)+IF(WEEKDAY(A201,2)<6,ColTime($E$6,$E$7,C201,D201),0)*IF(C201>0,D201>0)","v":0},{"$f":"IF(WEEKDAY(A201,2)<6,ColTime($F$6,$F$7,C201,D201),0)*IF(C201>0,D201>0)","v":0},null,0,0,0,null,0,null,0,0,null,0]
["2022-05-12","Torsdag",null,null,{"$f":"IF(WEEKDAY(A202,2)<6,ColTime($D$6,$D$7,C202,D202),0)*IF(C202>0,D202>0)","v":0},{"$f":"IF(WEEKDAY(A202,2)<6,ColTime($G$6,$G$7,C202,D202),0)+IF(WEEKDAY(A202,2)<6,ColTime($E$6,$E$7,C202,D202),0)*IF(C202>0,D202>0)","v":0},{"$f":"IF(WEEKDAY(A202,2)<6,ColTime($F$6,$F$7,C202,D202),0)*IF(C202>0,D202>0)","v":0},null,0,0,0,null,0,null,0,0,null,0]
["2022-05-13","Fredag Store Bededag",null,null,{"$f":"IF(WEEKDAY(A203,2)<6,ColTime($D$6,$D$7,C203,D203),0)*IF(C203>0,D203>0)","v":0},{"$f":"IF(WEEKDAY(A203,2)<6,ColTime($G$6,$G$7,C203,D203),0)+IF(WEEKDAY(A203,2)<6,ColTime($E$6,$E$7,C203,D203),0)*IF(C203>0,D203>0)","v":0},{"$f":"IF(WEEKDAY(A203,2)<6,ColTime($F$6,$F$7,C203,D203),0)*IF(C203>0,D203>0)","v":0},null,{"$f":"IF(E203=0,0,($D$10-$D$9)-E203)","v":0},0,0,null,0,null,0,0,null,0]
["2022-05-14","Lørdag",null,null," ","  ",{"$f":"IF(WEEKDAY(A204,2)=6,ColTime($E$12,$E$13,C204,D204),0)","v":0},null," ",{"$f":"G204","v":0},null,null," "," ",null,0,null,{"$f":"(P204*$F$4)*24","v":0}]
["2022-05-15","Søndag",null,null,null," "," ",{"$f":"IF(WEEKDAY(A205,2)=7,D205-C205+(D205<C205),IF(AND(WEEKDAY(A205,2)=6,D205<C205),ColTime($E$15,$E$16,#REF!,D205),0))","v":0}," ",{"$f":"H205","v":0},null,null," "," ",null,0,null,{"$f":"(P205*$H$4)*24","v":0}]
[null,null,null,null,null,null,null,null,null,null,null,null,{"$f":"SUM(M199:M205)","v":0},"Uge Timer I alt",null,{"$f":"SUM(P199:P205)+M206","v":0}]
[]
[20,"Uge dag","Start  indtast som:     tt:mm","Slut  indtast som:     tt:mm","Normal ArbejdsTid  Incl. Pause","Overtid 50%"," Overtid 100%\nMan-lør","Overtid 100%\nSøndag","Tid     Fratrukket Timebank (Afspasering)","Tid Indsat I Timebank, OVERTID timer","Afholdt Pause","Fri uden løn indtast som:    tt:mm","Time sygeløn indtast som:    tt:mm","Ferie Dag antal","Ferie Penge Beløb","I alt",null,"Løn","I alt","Maj Løn","Samlet Timer I perioden"]
[{"$f":"DATE($A$17,1,7*A208-3-WEEKDAY(DATE($A$17,,),3))","v":"2022-05-16"},{"$f":"HelligdagsNavn(A209,1,1,1,1,1,1,1)","v":"Mandag"},null,null,{"$f":"IF(WEEKDAY(A209,2)<6,ColTime($D$6,$D$7,C209,D209),0)*IF(C209>0,D209>0)","v":0},{"$f":"IF(WEEKDAY(A209,2)<6,ColTime($G$6,$G$7,C209,D209),0)+IF(WEEKDAY(A209,2)<6,ColTime($E$6,$E$7,C209,D209),0)*IF(C209>0,D209>0)","v":0},{"$f":"IF(WEEKDAY(A209,2)<6,ColTime($F$6,$F$7,C209,D209),0)*IF(C209>0,D209>0)","v":0},null,{"$f":"IF(E209=0,0,($D$7-$D$6)-E209)","v":0},{"$f":"IF(E209=0,0,($D$7-$D$6)-($D$7-$D$6))+F209+G209","v":0},{"$f":"IF(AND($O$8>=C209,D209>=$P$8),$K$15,0)+IF(AND($O$9<=D209,$P$9<=D209),$K$16,0)","v":0},null,0,null,{"$f":"IF(E209=0,M209=0,)*SUM(($N$4/$N$2*N209))","v":0},{"$f":"SUM(E209:I209)-IF(C209>0,D209>0)*K209-L209","v":0},null,{"$f":"(((IF(E209>0,)+(P209*$B$4))+(F209*$C$4)+(G209*$D$4)+(M209*$M$4)))*24+O209","v":0},{"$f":"SUM(R209:R215)","v":0}]
["2022-05-17","Tirsdag",null,null,{"$f":"IF(WEEKDAY(A210,2)<6,ColTime($D$6,$D$7,C210,D210),0)*IF(C210>0,D210>0)","v":0},{"$f":"IF(WEEKDAY(A210,2)<6,ColTime($G$6,$G$7,C210,D210),0)+IF(WEEKDAY(A210,2)<6,ColTime($E$6,$E$7,C210,D210),0)*IF(C210>0,D210>0)","v":0},{"$f":"IF(WEEKDAY(A210,2)<6,ColTime($F$6,$F$7,C210,D210),0)*IF(C210>0,D210>0)","v":0},null,0,0,0,null,0,null,0,0,null,0]
["2022-05-18","Onsdag",null,null,{"$f":"IF(WEEKDAY(A211,2)<6,ColTime($D$6,$D$7,C211,D211),0)*IF(C211>0,D211>0)","v":0},{"$f":"IF(WEEKDAY(A211,2)<6,ColTime($G$6,$G$7,C211,D211),0)+IF(WEEKDAY(A211,2)<6,ColTime($E$6,$E$7,C211,D211),0)*IF(C211>0,D211>0)","v":0},{"$f":"IF(WEEKDAY(A211,2)<6,ColTime($F$6,$F$7,C211,D211),0)*IF(C211>0,D211>0)","v":0},null,0,0,0,null,0,null,0,0,null,0,null,{"$f":"SUMIFS($R:$R,$A:$A,\">=\"&DATE($A$17,4,21),$A:$A,\"<=\"&DATE($A$17,5,20))","v":0},{"$f":"SUMIFS($P:$P,$A:$A,\">=\"&DATE($A$17,4,21),$A:$A,\"<=\"&DATE($A$17,5,20))+SUMIFS($M:$M,$A:$A,\">=\"&DATE($A$17,4,21),$A:$A,\"<=\"&DATE($A$17,5,20))","v":0}]
["2022-05-19","Torsdag",null,null,{"$f":"IF(WEEKDAY(A212,2)<6,ColTime($D$6,$D$7,C212,D212),0)*IF(C212>0,D212>0)","v":0},{"$f":"IF(WEEKDAY(A212,2)<6,ColTime($G$6,$G$7,C212,D212),0)+IF(WEEKDAY(A212,2)<6,ColTime($E$6,$E$7,C212,D212),0)*IF(C212>0,D212>0)","v":0},{"$f":"IF(WEEKDAY(A212,2)<6,ColTime($F$6,$F$7,C212,D212),0)*IF(C212>0,D212>0)","v":0},null,0,0,0,null,0,null,0,0,null,0]
["2022-05-20","Fredag",null,null,{"$f":"IF(WEEKDAY(A213,2)<6,ColTime($D$6,$D$7,C213,D213),0)*IF(C213>0,D213>0)","v":0},{"$f":"IF(WEEKDAY(A213,2)<6,ColTime($G$6,$G$7,C213,D213),0)+IF(WEEKDAY(A213,2)<6,ColTime($E$6,$E$7,C213,D213),0)*IF(C213>0,D213>0)","v":0},{"$f":"IF(WEEKDAY(A213,2)<6,ColTime($F$6,$F$7,C213,D213),0)*IF(C213>0,D213>0)","v":0},null,{"$f":"IF(E213=0,0,($D$10-$D$9)-E213)","v":0},0,0,null,0,null,0,0,null,0]
["2022-05-21","Lørdag",null,null," ","  ",{"$f":"IF(WEEKDAY(A214,2)=6,ColTime($E$12,$E$13,C214,D214),0)","v":0},null," ",{"$f":"G214","v":0},null,null," "," ",null,0,null,{"$f":"(P214*$F$4)*24","v":0}]
["2022-05-22","Søndag",null,null,null," "," ",{"$f":"IF(WEEKDAY(A215,2)=7,D215-C215+(D215<C215),IF(AND(WEEKDAY(A215,2)=6,D215<C215),ColTime($E$15,$E$16,#REF!,D215),0))","v":0}," ",{"$f":"H215","v":0},null,null," "," ",null,0,null,{"$f":"(P215*$H$4)*24","v":0}]
[null,null,null,null,null,null,null,null,null,null,null,null,{"$f":"SUM(M209:M215)","v":0},"Uge Timer I alt",null,{"$f":"SUM(P209:P215)+M216","v":0}]
[]
[21,"Uge dag","Start  indtast som:     tt:mm","Slut  indtast som:     tt:mm","Normal ArbejdsTid  Incl. Pause","Overtid 50%"," Overtid 100%\nMan-lør","Overtid 100%\nSøndag","Tid     Fratrukket Timebank (Afspasering)","Tid Indsat I Timebank, OVERTID timer","Afholdt Pause","Fri uden løn indtast som:    tt:mm","Time sygeløn indtast som:    tt:mm","Ferie Dag antal","Ferie Penge Beløb","I alt",null,"Løn","I alt"]
[{"$f":"DATE($A$17,1,7*A218-3-WEEKDAY(DATE($A$17,,),3))","v":"2022-05-23"},{"$f":"HelligdagsNavn(A219,1,1,1,1,1,1,1)","v":"Mandag"},null,null,{"$f":"IF(WEEKDAY(A219,2)<6,ColTime($D$6,$D$7,C219,D219),0)*IF(C219>0,D219>0)","v":0},{"$f":"IF(WEEKDAY(A219,2)<6,ColTime($G$6,$G$7,C219,D219),0)+IF(WEEKDAY(A219,2)<6,ColTime($E$6,$E$7,C219,D219),0)*IF(C219>0,D219>0)","v":0},{"$f":"IF(WEEKDAY(A219,2)<6,ColTime($F$6,$F$7,C219,D219),0)*IF(C219>0,D219>0)","v":0},null,{"$f":"IF(E219=0,0,($D$7-$D$6)-E219)","v":0},{"$f":"IF(E219=0,0,($D$7-$D$6)-($D$7-$D$6))+F219+G219","v":0},{"$f":"IF(AND($O$8>=C219,D219>=$P$8),$K$15,0)+IF(AND($O$9<=D219,$P$9<=D219),$K$16,0)","v":0},null,0,null,{"$f":"IF(E219=0,M219=0,)*SUM(($N$4/$N$2*N219))","v":0},{"$f":"SUM(E219:I219)-IF(C219>0,D219>0)*K219-L219","v":0},null,{"$f":"(((IF(E219>0,)+(P219*$B$4))+(F219*$C$4)+(G219*$D$4)+(M219*$M$4)))*24+O219","v":0},0]
["2022-05-24","Tirsdag",null,null,{"$f":"IF(WEEKDAY(A220,2)<6,ColTime($D$6,$D$7,C220,D220),0)*IF(C220>0,D220>0)","v":0},{"$f":"IF(WEEKDAY(A220,2)<6,ColTime($G$6,$G$7,C220,D220),0)+IF(WEEKDAY(A220,2)<6,ColTime($E$6,$E$7,C220,D220),0)*IF(C220>0,D220>0)","v":0},{"$f":"IF(WEEKDAY(A220,2)<6,ColTime($F$6,$F$7,C220,D220),0)*IF(C220>0,D220>0)","v":0},null,0,0,0,null,0,null,0,0,null,0]
["2022-05-25","Onsdag",null,null,{"$f":"IF(WEEKDAY(A221,2)<6,ColTime($D$6,$D$7,C221,D221),0)*IF(C221>0,D221>0)","v":0},{"$f":"IF(WEEKDAY(A221,2)<6,ColTime($G$6,$G$7,C221,D221),0)+IF(WEEKDAY(A221,2)<6,ColTime($E$6,$E$7,C221,D221),0)*IF(C221>0,D221>0)","v":0},{"$f":"IF(WEEKDAY(A221,2)<6,ColTime($F$6,$F$7,C221,D221),0)*IF(C221>0,D221>0)","v":0},null,0,0,0,null,0,null,0,0,null,0]
["2022-05-26","Torsdag Kristi Himmelfartsdag",null,null,{"$f":"IF(WEEKDAY(A222,2)<6,ColTime($D$6,$D$7,C222,D222),0)*IF(C222>0,D222>0)","v":0},{"$f":"IF(WEEKDAY(A222,2)<6,ColTime($G$6,$G$7,C222,D222),0)+IF(WEEKDAY(A222,2)<6,ColTime($E$6,$E$7,C222,D222),0)*IF(C222>0,D222>0)","v":0},{"$f":"IF(WEEKDAY(A222,2)<6,ColTime($F$6,$F$7,C222,D222),0)*IF(C222>0,D222>0)","v":0},null,0,0,0,null,0,null,0,0,null,0]
["2022-05-27","Fredag",null,null,{"$f":"IF(WEEKDAY(A223,2)<6,ColTime($D$6,$D$7,C223,D223),0)*IF(C223>0,D223>0)","v":0},{"$f":"IF(WEEKDAY(A223,2)<6,ColTime($G$6,$G$7,C223,D223),0)+IF(WEEKDAY(A223,2)<6,ColTime($E$6,$E$7,C223,D223),0)*IF(C223>0,D223>0)","v":0},{"$f":"IF(WEEKDAY(A223,2)<6,ColTime($F$6,$F$7,C223,D223),0)*IF(C223>0,D223>0)","v":0},null,{"$f":"IF(E223=0,0,($D$10-$D$9)-E223)","v":0},0,0,null,0,null,0,0,null,0]
["2022-05-28","Lørdag",null,null," ","  ",{"$f":"IF(WEEKDAY(A224,2)=6,ColTime($E$12,$E$13,C224,D224),0)","v":0},null," ",{"$f":"G224","v":0},null,null," "," ",null,0,null,{"$f":"(P224*$F$4)*24","v":0}]
["2022-05-29","Søndag",null,null,null," "," ",{"$f":"IF(WEEKDAY(A225,2)=7,D225-C225+(D225<C225),IF(AND(WEEKDAY(A225,2)=6,D225<C225),ColTime($E$15,$E$16,#REF!,D225),0))","v":0}," ",{"$f":"H225","v":0},null,null," "," ",null,0,null,{"$f":"(P225*$H$4)*24","v":0}]
[null,null,null,null,null,null,null,null,null,null,null,null,{"$f":"SUM(M219:M225)","v":0},"Uge Timer I alt",null,{"$f":"SUM(P219:P225)+M226","v":0}]
[]
[22,"Uge dag","Start  indtast som:     tt:mm","Slut  indtast som:     tt:mm","Normal ArbejdsTid  Incl. Pause","Overtid 50%"," Overtid 100%\nMan-lør","Overtid 100%\nSøndag","Tid     Fratrukket Timebank (Afspasering)","Tid Indsat I Timebank, OVERTID timer","Afholdt Pause","Fri uden løn indtast som:    tt:mm","Time sygeløn indtast som:    tt:mm","Ferie Dag antal","Ferie Penge Beløb","I alt",null,"Løn","I alt"]
[{"$f":"DATE($A$17,1,7*A228-3-WEEKDAY(DATE($A$17,,),3))","v":"2022-05-30"},{"$f":"HelligdagsNavn(A229,1,1,1,1,1,1,1)","v":"Mandag"},null,null,{"$f":"IF(WEEKDAY(A229,2)<6,ColTime($D$6,$D$7,C229,D229),0)*IF(C229>0,D229>0)","v":0},{"$f":"IF(WEEKDAY(A229,2)<6,ColTime($G$6,$G$7,C229,D229),0)+IF(WEEKDAY(A229,2)<6,ColTime($E$6,$E$7,C229,D229),0)*IF(C229>0,D229>0)","v":0},{"$f":"IF(WEEKDAY(A229,2)<6,ColTime($F$6,$F$7,C229,D229),0)*IF(C229>0,D229>0)","v":0},null,{"$f":"IF(E229=0,0,($D$7-$D$6)-E229)","v":0},{"$f":"IF(E229=0,0,($D$7-$D$6)-($D$7-$D$6))+F229+G229","v":0},{"$f":"IF(AND($O$8>=C229,D229>=$P$8),$K$15,0)+IF(AND($O$9<=D229,$P$9<=D229),$K$16,0)","v":0},null,0,null,{"$f":"IF(E229=0,M229=0,)*SUM(($N$4/$N$2*N229))","v":0},{"$f":"SUM(E229:I229)-IF(C229>0,D229>0)*K229-L229","v":0},null,{"$f":"(((IF(E229>0,)+(P229*$B$4))+(F229*$C$4)+(G229*$D$4)+(M229*$M$4)))*24+O229","v":0},0]
["2022-05-31","Tirsdag",null,null,{"$f":"IF(WEEKDAY(A230,2)<6,ColTime($D$6,$D$7,C230,D230),0)*IF(C230>0,D230>0)","v":0},{"$f":"IF(WEEKDAY(A230,2)<6,ColTime($G$6,$G$7,C230,D230),0)+IF(WEEKDAY(A230,2)<6,ColTime($E$6,$E$7,C230,D230),0)*IF(C230>0,D230>0)","v":0},{"$f":"IF(WEEKDAY(A230,2)<6,ColTime($F$6,$F$7,C230,D230),0)*IF(C230>0,D230>0)","v":0},null,0,0,0,null,0,null,0,0,null,0]
["2022-06-01","Onsdag",null,null,{"$f":"IF(WEEKDAY(A231,2)<6,ColTime($D$6,$D$7,C231,D231),0)*IF(C231>0,D231>0)","v":0},{"$f":"IF(WEEKDAY(A231,2)<6,ColTime($G$6,$G$7,C231,D231),0)+IF(WEEKDAY(A231,2)<6,ColTime($E$6,$E$7,C231,D231),0)*IF(C231>0,D231>0)","v":0},{"$f":"IF(WEEKDAY(A231,2)<6,ColTime($F$6,$F$7,C231,D231),0)*IF(C231>0,D231>0)","v":0},null,0,0,0,null,0,null,0,0,null,0]
["2022-06-02","Torsdag",null,null,{"$f":"IF(WEEKDAY(A232,2)<6,ColTime($D$6,$D$7,C232,D232),0)*IF(C232>0,D232>0)","v":0},{"$f":"IF(WEEKDAY(A232,2)<6,ColTime($G$6,$G$7,C232,D232),0)+IF(WEEKDAY(A232,2)<6,ColTime($E$6,$E$7,C232,D232),0)*IF(C232>0,D232>0)","v":0},{"$f":"IF(WEEKDAY(A232,2)<6,ColTime($F$6,$F$7,C232,D232),0)*IF(C232>0,D232>0)","v":0},null,0,0,0,null,0,null,0,0,null,0]
["2022-06-03","Fredag",null,null,{"$f":"IF(WEEKDAY(A233,2)<6,ColTime($D$6,$D$7,C233,D233),0)*IF(C233>0,D233>0)","v":0},{"$f":"IF(WEEKDAY(A233,2)<6,ColTime($G$6,$G$7,C233,D233),0)+IF(WEEKDAY(A233,2)<6,ColTime($E$6,$E$7,C233,D233),0)*IF(C233>0,D233>0)","v":0},{"$f":"IF(WEEKDAY(A233,2)<6,ColTime($F$6,$F$7,C233,D233),0)*IF(C233>0,D233>0)","v":0},null,{"$f":"IF(E233=0,0,($D$10-$D$9)-E233)","v":0},0,0,null,0,null,0,0,null,0]
[{"$f":"A233+1","v":"2022-06-04"},"Lørdag",null,null," ","  ",{"$f":"IF(WEEKDAY(A234,2)=6,ColTime($E$12,$E$13,C234,D234),0)","v":0},null," ",{"$f":"G234","v":0},null,null," "," ",null,0,null,{"$f":"(P234*$F$4)*24","v":0}]
["2022-06-05","Søndag Grundlovsdag",null,null,null," "," ",{"$f":"IF(WEEKDAY(A235,2)=7,D235-C235+(D235<C235),IF(AND(WEEKDAY(A235,2)=6,D235<C235),ColTime($E$15,$E$16,#REF!,D235),0))","v":0}," ",{"$f":"H235","v":0},null,null," "," ",null,0,null,{"$f":"(P235*$H$4)*24","v":0}]
[null,null,null,null,null,null,null,null,null,null,null,null,{"$f":"SUM(M229:M235)","v":0},"Uge Timer I alt",null,{"$f":"SUM(P229:P235)+M236","v":0}]
[]
[23,"Uge dag","Start  indtast som:     tt:mm","Slut  indtast som:     tt:mm","Normal ArbejdsTid  Incl. Pause","Overtid 50%"," Overtid 100%\nMan-lør","Overtid 100%\nSøndag","Tid     Fratrukket Timebank (Afspasering)","Tid Indsat I Timebank, OVERTID timer","Afholdt Pause","Fri uden løn indtast som:    tt:mm","Time sygeløn indtast som:    tt:mm","Ferie Dag antal","Ferie Penge Beløb","I alt",null,"Løn","I alt"]
[{"$f":"DATE($A$17,1,7*A238-3-WEEKDAY(DATE($A$17,,),3))","v":"2022-06-06"},{"$f":"HelligdagsNavn(A239,1,1,1,1,1,1,1)","v":"Mandag 2. Pinsedag"},null,null,{"$f":"IF(WEEKDAY(A239,2)<6,ColTime($D$6,$D$7,C239,D239),0)*IF(C239>0,D239>0)","v":0},{"$f":"IF(WEEKDAY(A239,2)<6,ColTime($G$6,$G$7,C239,D239),0)+IF(WEEKDAY(A239,2)<6,ColTime($E$6,$E$7,C239,D239),0)*IF(C239>0,D239>0)","v":0},{"$f":"IF(WEEKDAY(A239,2)<6,ColTime($F$6,$F$7,C239,D239),0)*IF(C239>0,D239>0)","v":0},null,{"$f":"IF(E239=0,0,($D$7-$D$6)-E239)","v":0},{"$f":"IF(E239=0,0,($D$7-$D$6)-($D$7-$D$6))+F239+G239","v":0},{"$f":"IF(AND($O$8>=C239,D239>=$P$8),$K$15,0)+IF(AND($O$9<=D239,$P$9<=D239),$K$16,0)","v":0},null,0,null,{"$f":"IF(E239=0,M239=0,)*SUM(($N$4/$N$2*N239))","v":0},{"$f":"SUM(E239:I239)-IF(C239>0,D239>0)*K239-L239","v":0},null,{"$f":"(((IF(E239>0,)+(P239*$B$4))+(F239*$C$4)+(G239*$D$4)+(M239*$M$4)))*24+O239","v":0},{"$f":"SUM(R239:R245)","v":0}]
["2022-06-07","Tirsdag",null,null,{"$f":"IF(WEEKDAY(A240,2)<6,ColTime($D$6,$D$7,C240,D240),0)*IF(C240>0,D240>0)","v":0},{"$f":"IF(WEEKDAY(A240,2)<6,ColTime($G$6,$G$7,C240,D240),0)+IF(WEEKDAY(A240,2)<6,ColTime($E$6,$E$7,C240,D240),0)*IF(C240>0,D240>0)","v":0},{"$f":"IF(WEEKDAY(A240,2)<6,ColTime($F$6,$F$7,C240,D240),0)*IF(C240>0,D240>0)","v":0},null,0,0,0,null,0,null,0,0,null,0]
["2022-06-08","Onsdag",null,null,{"$f":"IF(WEEKDAY(A241,2)<6,ColTime($D$6,$D$7,C241,D241),0)*IF(C241>0,D241>0)","v":0},{"$f":"IF(WEEKDAY(A241,2)<6,ColTime($G$6,$G$7,C241,D241),0)+IF(WEEKDAY(A241,2)<6,ColTime($E$6,$E$7,C241,D241),0)*IF(C241>0,D241>0)","v":0},{"$f":"IF(WEEKDAY(A241,2)<6,ColTime($F$6,$F$7,C241,D241),0)*IF(C241>0,D241>0)","v":0},null,0,0,0,null,0,null,0,0,null,0]
["2022-06-09","Torsdag",null,null,{"$f":"IF(WEEKDAY(A242,2)<6,ColTime($D$6,$D$7,C242,D242),0)*IF(C242>0,D242>0)","v":0},{"$f":"IF(WEEKDAY(A242,2)<6,ColTime($G$6,$G$7,C242,D242),0)+IF(WEEKDAY(A242,2)<6,ColTime($E$6,$E$7,C242,D242),0)*IF(C242>0,D242>0)","v":0},{"$f":"IF(WEEKDAY(A242,2)<6,ColTime($F$6,$F$7,C242,D242),0)*IF(C242>0,D242>0)","v":0},null,0,0,0,null,0,null,0,0,null,0]
["2022-06-10","Fredag",null,null,{"$f":"IF(WEEKDAY(A243,2)<6,ColTime($D$6,$D$7,C243,D243),0)*IF(C243>0,D243>0)","v":0},{"$f":"IF(WEEKDAY(A243,2)<6,ColTime($G$6,$G$7,C243,D243),0)+IF(WEEKDAY(A243,2)<6,ColTime($E$6,$E$7,C243,D243),0)*IF(C243>0,D243>0)","v":0},{"$f":"IF(WEEKDAY(A243,2)<6,ColTime($F$6,$F$7,C243,D243),0)*IF(C243>0,D243>0)","v":0},null,{"$f":"IF(E243=0,0,($D$10-$D$9)-E243)","v":0},0,0,null,0,null,0,0,null,0]
["2022-06-11","Lørdag",null,null," ","  ",{"$f":"IF(WEEKDAY(A244,2)=6,ColTime($E$12,$E$13,C244,D244),0)","v":0},null," ",{"$f":"G244","v":0},null,null," "," ",null,0,null,{"$f":"(P244*$F$4)*24","v":0}]
["2022-06-12","Søndag",null,null,null," "," ",{"$f":"IF(WEEKDAY(A245,2)=7,D245-C245+(D245<C245),IF(AND(WEEKDAY(A245,2)=6,D245<C245),ColTime($E$15,$E$16,#REF!,D245),0))","v":0}," ",{"$f":"H245","v":0},null,null," "," ",null,0,null,{"$f":"(P245*$H$4)*24","v":0}]
[null,null,null,null,null,null,null,null,null,null,null,null,{"$f":"SUM(M239:M245)","v":0},"Uge Timer I alt",null,{"$f":"SUM(P239:P245)+M246","v":0}]
[]
[24,"Uge dag","Start  indtast som:     tt:mm","Slut  indtast som:     tt:mm","Normal ArbejdsTid  Incl. Pause","Overtid 50%"," Overtid 100%\nMan-lør","Overtid 100%\nSøndag","Tid     Fratrukket Timebank (Afspasering)","Tid Indsat I Timebank, OVERTID timer","Afholdt Pause","Fri uden løn indtast som:    tt:mm","Time sygeløn indtast som:    tt:mm","Ferie Dag antal","Ferie Penge Beløb","I alt",null,"Løn","I alt"]
[{"$f":"DATE($A$17,1,7*A248-3-WEEKDAY(DATE($A$17,,),3))","v":"2022-06-13"},{"$f":"HelligdagsNavn(A249,1,1,1,1,1,1,1)","v":"Mandag"},null,null,{"$f":"IF(WEEKDAY(A249,2)<6,ColTime($D$6,$D$7,C249,D249),0)*IF(C249>0,D249>0)","v":0},{"$f":"IF(WEEKDAY(A249,2)<6,ColTime($G$6,$G$7,C249,D249),0)+IF(WEEKDAY(A249,2)<6,ColTime($E$6,$E$7,C249,D249),0)*IF(C249>0,D249>0)","v":0},{"$f":"IF(WEEKDAY(A249,2)<6,ColTime($F$6,$F$7,C249,D249),0)*IF(C249>0,D249>0)","v":0},null,{"$f":"IF(E249=0,0,($D$7-$D$6)-E249)","v":0},{"$f":"IF(E249=0,0,($D$7-$D$6)-($D$7-$D$6))+F249+G249","v":0},{"$f":"IF(AND($O$8>=C249,D249>=$P$8),$K$15,0)+IF(AND($O$9<=D249,$P$9<=D249),$K$16,0)","v":0},null,0,null,{"$f":"IF(E249=0,M249=0,)*SUM(($N$4/$N$2*N249))","v":0},{"$f":"SUM(E249:I249)-IF(C249>0,D249>0)*K249-L249","v":0},null,{"$f":"(((IF(E249>0,)+(P249*$B$4))+(F249*$C$4)+(G249*$D$4)+(M249*$M$4)))*24+O249","v":0},{"$f":"SUM(R249:R255)","v":0}]
["2022-06-14","Tirsdag",null,null,{"$f":"IF(WEEKDAY(A250,2)<6,ColTime($D$6,$D$7,C250,D250),0)*IF(C250>0,D250>0)","v":0},{"$f":"IF(WEEKDAY(A250,2)<6,ColTime($G$6,$G$7,C250,D250),0)+IF(WEEKDAY(A250,2)<6,ColTime($E$6,$E$7,C250,D250),0)*IF(C250>0,D250>0)","v":0},{"$f":"IF(WEEKDAY(A250,2)<6,ColTime($F$6,$F$7,C250,D250),0)*IF(C250>0,D250>0)","v":0},null,0,0,0,null,0,null,0,0,null,0,null,"Juni Løn","Samlet Timer I Perioden"]
["2022-06-15","Onsdag",null,null,{"$f":"IF(WEEKDAY(A251,2)<6,ColTime($D$6,$D$7,C251,D251),0)*IF(C251>0,D251>0)","v":0},{"$f":"IF(WEEKDAY(A251,2)<6,ColTime($G$6,$G$7,C251,D251),0)+IF(WEEKDAY(A251,2)<6,ColTime($E$6,$E$7,C251,D251),0)*IF(C251>0,D251>0)","v":0},{"$f":"IF(WEEKDAY(A251,2)<6,ColTime($F$6,$F$7,C251,D251),0)*IF(C251>0,D251>0)","v":0},null,0,0,0,null,0,null,0,0,null,0]
["2022-06-16","Torsdag",null,null,{"$f":"IF(WEEKDAY(A252,2)<6,ColTime($D$6,$D$7,C252,D252),0)*IF(C252>0,D252>0)","v":0},{"$f":"IF(WEEKDAY(A252,2)<6,ColTime($G$6,$G$7,C252,D252),0)+IF(WEEKDAY(A252,2)<6,ColTime($E$6,$E$7,C252,D252),0)*IF(C252>0,D252>0)","v":0},{"$f":"IF(WEEKDAY(A252,2)<6,ColTime($F$6,$F$7,C252,D252),0)*IF(C252>0,D252>0)","v":0},null,0,0,0,null,0,null,0,0,null,0]
["2022-06-17","Fredag",null,null,{"$f":"IF(WEEKDAY(A253,2)<6,ColTime($D$6,$D$7,C253,D253),0)*IF(C253>0,D253>0)","v":0},{"$f":"IF(WEEKDAY(A253,2)<6,ColTime($G$6,$G$7,C253,D253),0)+IF(WEEKDAY(A253,2)<6,ColTime($E$6,$E$7,C253,D253),0)*IF(C253>0,D253>0)","v":0},{"$f":"IF(WEEKDAY(A253,2)<6,ColTime($F$6,$F$7,C253,D253),0)*IF(C253>0,D253>0)","v":0},null,{"$f":"IF(E253=0,0,($D$10-$D$9)-E253)","v":0},0,0,null,0,null,0,0,null,0]
["2022-06-18","Lørdag",null,null," ","  ",{"$f":"IF(WEEKDAY(A254,2)=6,ColTime($E$12,$E$13,C254,D254),0)","v":0},null," ",{"$f":"G254","v":0},null,null," "," ",null,0,null,{"$f":"(P254*$F$4)*24","v":0},null,{"$f":"SUMIFS($R:$R,$A:$A,\">=\"&DATE($A$17,5,21),$A:$A,\"<=\"&DATE($A$17,6,20))","v":0},{"$f":"SUMIFS($M:$M,$A:$A,\">=\"&DATE($A$17,5,21),$A:$A,\"<=\"&DATE($A$17,6,20))+SUMIFS($P:$P,$A:$A,\">=\"&DATE($A$17,5,21),$A:$A,\"<=\"&DATE($A$17,6,20))","v":0}]
["2022-06-19","Søndag",null,null,null," "," ",{"$f":"IF(WEEKDAY(A255,2)=7,D255-C255+(D255<C255),IF(AND(WEEKDAY(A255,2)=6,D255<C255),ColTime($E$15,$E$16,#REF!,D255),0))","v":0}," ",{"$f":"H255","v":0},null,null," "," ",null,0,null,{"$f":"(P255*$H$4)*24","v":0}]
[null,null,null,null,null,null,null,null,null,null,null,null,{"$f":"SUM(M249:M255)","v":0},"Uge Timer I alt",null,{"$f":"SUM(P249:P255)+M256","v":0}]
[]
[25,"Uge dag","Start  indtast som:     tt:mm","Slut  indtast som:     tt:mm","Normal ArbejdsTid  Incl. Pause","Overtid 50%"," Overtid 100%\nMan-lør","Overtid 100%\nSøndag","Tid     Fratrukket Timebank (Afspasering)","Tid Indsat I Timebank, OVERTID timer","Afholdt Pause","Fri uden løn indtast som:    tt:mm","Time sygeløn indtast som:    tt:mm","Ferie Dag antal","Ferie Penge Beløb","I alt",null,"Løn","I alt"]
[{"$f":"DATE($A$17,1,7*A258-3-WEEKDAY(DATE($A$17,,),3))","v":"2022-06-20"},{"$f":"HelligdagsNavn(A259,1,1,1,1,1,1,1)","v":"Mandag"},null,null,{"$f":"IF(WEEKDAY(A259,2)<6,ColTime($D$6,$D$7,C259,D259),0)*IF(C259>0,D259>0)","v":0},{"$f":"IF(WEEKDAY(A259,2)<6,ColTime($G$6,$G$7,C259,D259),0)+IF(WEEKDAY(A259,2)<6,ColTime($E$6,$E$7,C259,D259),0)*IF(C259>0,D259>0)","v":0},{"$f":"IF(WEEKDAY(A259,2)<6,ColTime($F$6,$F$7,C259,D259),0)*IF(C259>0,D259>0)","v":0},null,{"$f":"IF(E259=0,0,($D$7-$D$6)-E259)","v":0},{"$f":"IF(E259=0,0,($D$7-$D$6)-($D$7-$D$6))+F259+G259","v":0},{"$f":"IF(AND($O$8>=C259,D259>=$P$8),$K$15,0)+IF(AND($O$9<=D259,$P$9<=D259),$K$16,0)","v":0},null,0,null,{"$f":"IF(E259=0,M259=0,)*SUM(($N$4/$N$2*N259))","v":0},{"$f":"SUM(E259:I259)-IF(C259>0,D259>0)*K259-L259","v":0},null,{"$f":"(((IF(E259>0,)+(P259*$B$4))+(F259*$C$4)+(G259*$D$4)+(M259*$M$4)))*24+O259","v":0},0]
["2022-06-21","Tirsdag",null,null,{"$f":"IF(WEEKDAY(A260,2)<6,ColTime($D$6,$D$7,C260,D260),0)*IF(C260>0,D260>0)","v":0},{"$f":"IF(WEEKDAY(A260,2)<6,ColTime($G$6,$G$7,C260,D260),0)+IF(WEEKDAY(A260,2)<6,ColTime($E$6,$E$7,C260,D260),0)*IF(C260>0,D260>0)","v":0},{"$f":"IF(WEEKDAY(A260,2)<6,ColTime($F$6,$F$7,C260,D260),0)*IF(C260>0,D260>0)","v":0},null,0,0,0,null,0,null,0,0,null,0]
["2022-06-22","Onsdag",null,null,{"$f":"IF(WEEKDAY(A261,2)<6,ColTime($D$6,$D$7,C261,D261),0)*IF(C261>0,D261>0)","v":0},{"$f":"IF(WEEKDAY(A261,2)<6,ColTime($G$6,$G$7,C261,D261),0)+IF(WEEKDAY(A261,2)<6,ColTime($E$6,$E$7,C261,D261),0)*IF(C261>0,D261>0)","v":0},{"$f":"IF(WEEKDAY(A261,2)<6,ColTime($F$6,$F$7,C261,D261),0)*IF(C261>0,D261>0)","v":0},null,0,0,0,null,0,null,0,0,null,0]
["2022-06-23","Torsdag",null,null,{"$f":"IF(WEEKDAY(A262,2)<6,ColTime($D$6,$D$7,C262,D262),0)*IF(C262>0,D262>0)","v":0},{"$f":"IF(WEEKDAY(A262,2)<6,ColTime($G$6,$G$7,C262,D262),0)+IF(WEEKDAY(A262,2)<6,ColTime($E$6,$E$7,C262,D262),0)*IF(C262>0,D262>0)","v":0},{"$f":"IF(WEEKDAY(A262,2)<6,ColTime($F$6,$F$7,C262,D262),0)*IF(C262>0,D262>0)","v":0},null,0,0,0,null,0,null,0,0,null,0]
["2022-06-24","Fredag",null,null,{"$f":"IF(WEEKDAY(A263,2)<6,ColTime($D$6,$D$7,C263,D263),0)*IF(C263>0,D263>0)","v":0},{"$f":"IF(WEEKDAY(A263,2)<6,ColTime($G$6,$G$7,C263,D263),0)+IF(WEEKDAY(A263,2)<6,ColTime($E$6,$E$7,C263,D263),0)*IF(C263>0,D263>0)","v":0},{"$f":"IF(WEEKDAY(A263,2)<6,ColTime($F$6,$F$7,C263,D263),0)*IF(C263>0,D263>0)","v":0},null,{"$f":"IF(E263=0,0,($D$10-$D$9)-E263)","v":0},0,0,null,0,null,0,0,null,0]
["2022-06-25","Lørdag",null,null," ","  ",{"$f":"IF(WEEKDAY(A264,2)=6,ColTime($E$12,$E$13,C264,D264),0)","v":0},null," ",{"$f":"G264","v":0},null,null," "," ",null,0,null,{"$f":"(P264*$F$4)*24","v":0}]
["2022-06-26","Søndag",null,null,null," "," ",{"$f":"IF(WEEKDAY(A265,2)=7,D265-C265+(D265<C265),IF(AND(WEEKDAY(A265,2)=6,D265<C265),ColTime($E$15,$E$16,#REF!,D265),0))","v":0}," ",{"$f":"H265","v":0},null,null," "," ",null,0,null,{"$f":"(P265*$H$4)*24","v":0}]
[null,null,null,null,null,null,null,null,null,null,null,null,{"$f":"SUM(M259:M265)","v":0},"Uge Timer I alt",null,{"$f":"SUM(P259:P265)+M266","v":0}]
[]
[26,"Uge dag","Start  indtast som:     tt:mm","Slut  indtast som:     tt:mm","Normal ArbejdsTid  Incl. Pause","Overtid 50%"," Overtid 100%\nMan-lør","Overtid 100%\nSøndag","Tid     Fratrukket Timebank (Afspasering)","Tid Indsat I Timebank, OVERTID timer","Afholdt Pause","Fri uden løn indtast som:    tt:mm","Time sygeløn indtast som:    tt:mm","Ferie Dag antal","Ferie Penge Beløb","I alt",null,"Løn","I alt"]
[{"$f":"DATE($A$17,1,7*A268-3-WEEKDAY(DATE($A$17,,),3))","v":"2022-06-27"},{"$f":"HelligdagsNavn(A269,1,1,1,1,1,1,1)","v":"Mandag"},null,null,{"$f":"IF(WEEKDAY(A269,2)<6,ColTime($D$6,$D$7,C269,D269),0)*IF(C269>0,D269>0)","v":0},{"$f":"IF(WEEKDAY(A269,2)<6,ColTime($G$6,$G$7,C269,D269),0)+IF(WEEKDAY(A269,2)<6,ColTime($E$6,$E$7,C269,D269),0)*IF(C269>0,D269>0)","v":0},{"$f":"IF(WEEKDAY(A269,2)<6,ColTime($F$6,$F$7,C269,D269),0)*IF(C269>0,D269>0)","v":0},null,{"$f":"IF(E269=0,0,($D$7-$D$6)-E269)","v":0},{"$f":"IF(E269=0,0,($D$7-$D$6)-($D$7-$D$6))+F269+G269","v":0},{"$f":"IF(AND($O$8>=C269,D269>=$P$8),$K$15,0)+IF(AND($O$9<=D269,$P$9<=D269),$K$16,0)","v":0},null,0,null,{"$f":"IF(E269=0,M269=0,)*SUM(($N$4/$N$2*N269))","v":0},{"$f":"SUM(E269:I269)-IF(C269>0,D269>0)*K269-L269","v":0},null,{"$f":"(((IF(E269>0,)+(P269*$B$4))+(F269*$C$4)+(G269*$D$4)+(M269*$M$4)))*24+O269","v":0},0]
["2022-06-28","Tirsdag",null,null,{"$f":"IF(WEEKDAY(A270,2)<6,ColTime($D$6,$D$7,C270,D270),0)*IF(C270>0,D270>0)","v":0},{"$f":"IF(WEEKDAY(A270,2)<6,ColTime($G$6,$G$7,C270,D270),0)+IF(WEEKDAY(A270,2)<6,ColTime($E$6,$E$7,C270,D270),0)*IF(C270>0,D270>0)","v":0},{"$f":"IF(WEEKDAY(A270,2)<6,ColTime($F$6,$F$7,C270,D270),0)*IF(C270>0,D270>0)","v":0},null,0,0,0,null,0,null,0,0,null,0]
["2022-06-29","Onsdag",null,null,{"$f":"IF(WEEKDAY(A271,2)<6,ColTime($D$6,$D$7,C271,D271),0)*IF(C271>0,D271>0)","v":0},{"$f":"IF(WEEKDAY(A271,2)<6,ColTime($G$6,$G$7,C271,D271),0)+IF(WEEKDAY(A271,2)<6,ColTime($E$6,$E$7,C271,D271),0)*IF(C271>0,D271>0)","v":0},{"$f":"IF(WEEKDAY(A271,2)<6,ColTime($F$6,$F$7,C271,D271),0)*IF(C271>0,D271>0)","v":0},null,0,0,0,null,0,null,0,0,null,0]
["2022-06-30","Torsdag",null,null,{"$f":"IF(WEEKDAY(A272,2)<6,ColTime($D$6,$D$7,C272,D272),0)*IF(C272>0,D272>0)","v":0},{"$f":"IF(WEEKDAY(A272,2)<6,ColTime($G$6,$G$7,C272,D272),0)+IF(WEEKDAY(A272,2)<6,ColTime($E$6,$E$7,C272,D272),0)*IF(C272>0,D272>0)","v":0},{"$f":"IF(WEEKDAY(A272,2)<6,ColTime($F$6,$F$7,C272,D272),0)*IF(C272>0,D272>0)","v":0},null,0,0,0,null,0,null,0,0,null,0]
["2022-07-01","Fredag",null,null,{"$f":"IF(WEEKDAY(A273,2)<6,ColTime($D$6,$D$7,C273,D273),0)*IF(C273>0,D273>0)","v":0},{"$f":"IF(WEEKDAY(A273,2)<6,ColTime($G$6,$G$7,C273,D273),0)+IF(WEEKDAY(A273,2)<6,ColTime($E$6,$E$7,C273,D273),0)*IF(C273>0,D273>0)","v":0},{"$f":"IF(WEEKDAY(A273,2)<6,ColTime($F$6,$F$7,C273,D273),0)*IF(C273>0,D273>0)","v":0},null,{"$f":"IF(E273=0,0,($D$10-$D$9)-E273)","v":0},0,0,null,0,null,0,0,null,0]
["2022-07-02","Lørdag",null,null," ","  ",{"$f":"IF(WEEKDAY(A274,2)=6,ColTime($E$12,$E$13,C274,D274),0)","v":0},null," ",{"$f":"G274","v":0},null,null," "," ",null,0,null,{"$f":"(P274*$F$4)*24","v":0}]
["2022-07-03","Søndag",null,null,null," "," ",{"$f":"IF(WEEKDAY(A275,2)=7,D275-C275+(D275<C275),IF(AND(WEEKDAY(A275,2)=6,D275<C275),ColTime($E$15,$E$16,#REF!,D275),0))","v":0}," ",{"$f":"H275","v":0},null,null," "," ",null,0,null,{"$f":"(P275*$H$4)*24","v":0}]
[null,null,null,null,null,null,null,null,null,null,null,null,{"$f":"SUM(M269:M275)","v":0},"Uge Timer I alt",null,{"$f":"SUM(P269:P275)+M276","v":0}]
[]
[27,"Uge dag","Start  indtast som:     tt:mm","Slut  indtast som:     tt:mm","Normal ArbejdsTid  Incl. Pause","Overtid 50%"," Overtid 100%\nMan-lør","Overtid 100%\nSøndag","Tid     Fratrukket Timebank (Afspasering)","Tid Indsat I Timebank, OVERTID timer","Afholdt Pause","Fri uden løn indtast som:    tt:mm","Time sygeløn indtast som:    tt:mm","Ferie Dag antal","Ferie Penge Beløb","I alt",null,"Løn","I alt"]
[{"$f":"DATE($A$17,1,7*A278-3-WEEKDAY(DATE($A$17,,),3))","v":"2022-07-04"},{"$f":"HelligdagsNavn(A279,1,1,1,1,1,1,1)","v":"Mandag"},null,null,{"$f":"IF(WEEKDAY(A279,2)<6,ColTime($D$6,$D$7,C279,D279),0)*IF(C279>0,D279>0)","v":0},{"$f":"IF(WEEKDAY(A279,2)<6,ColTime($G$6,$G$7,C279,D279),0)+IF(WEEKDAY(A279,2)<6,ColTime($E$6,$E$7,C279,D279),0)*IF(C279>0,D279>0)","v":0},{"$f":"IF(WEEKDAY(A279,2)<6,ColTime($F$6,$F$7,C279,D279),0)*IF(C279>0,D279>0)","v":0},null,{"$f":"IF(E279=0,0,($D$7-$D$6)-E279)","v":0},{"$f":"IF(E279=0,0,($D$7-$D$6)-($D$7-$D$6))+F279+G279","v":0},{"$f":"IF(AND($O$8>=C279,D279>=$P$8),$K$15,0)+IF(AND($O$9<=D279,$P$9<=D279),$K$16,0)","v":0},null,0,null,{"$f":"IF(E279=0,M279=0,)*SUM(($N$4/$N$2*N279))","v":0},{"$f":"SUM(E279:I279)-IF(C279>0,D279>0)*K279-L279","v":0},null,{"$f":"(((IF(E279>0,)+(P279*$B$4))+(F279*$C$4)+(G279*$D$4)+(M279*$M$4)))*24+O279","v":0},0]
["2022-07-05","Tirsdag",null,null,{"$f":"IF(WEEKDAY(A280,2)<6,ColTime($D$6,$D$7,C280,D280),0)*IF(C280>0,D280>0)","v":0},{"$f":"IF(WEEKDAY(A280,2)<6,ColTime($G$6,$G$7,C280,D280),0)+IF(WEEKDAY(A280,2)<6,ColTime($E$6,$E$7,C280,D280),0)*IF(C280>0,D280>0)","v":0},{"$f":"IF(WEEKDAY(A280,2)<6,ColTime($F$6,$F$7,C280,D280),0)*IF(C280>0,D280>0)","v":0},null,0,0,0,null,0,null,0,0,null,0]
["2022-07-06","Onsdag",null,null,{"$f":"IF(WEEKDAY(A281,2)<6,ColTime($D$6,$D$7,C281,D281),0)*IF(C281>0,D281>0)","v":0},{"$f":"IF(WEEKDAY(A281,2)<6,ColTime($G$6,$G$7,C281,D281),0)+IF(WEEKDAY(A281,2)<6,ColTime($E$6,$E$7,C281,D281),0)*IF(C281>0,D281>0)","v":0},{"$f":"IF(WEEKDAY(A281,2)<6,ColTime($F$6,$F$7,C281,D281),0)*IF(C281>0,D281>0)","v":0},null,0,0,0,null,0,null,0,0,null,0]
["2022-07-07","Torsdag",null,null,{"$f":"IF(WEEKDAY(A282,2)<6,ColTime($D$6,$D$7,C282,D282),0)*IF(C282>0,D282>0)","v":0},{"$f":"IF(WEEKDAY(A282,2)<6,ColTime($G$6,$G$7,C282,D282),0)+IF(WEEKDAY(A282,2)<6,ColTime($E$6,$E$7,C282,D282),0)*IF(C282>0,D282>0)","v":0},{"$f":"IF(WEEKDAY(A282,2)<6,ColTime($F$6,$F$7,C282,D282),0)*IF(C282>0,D282>0)","v":0},null,0,0,0,null,0,null,0,0,null,0]
["2022-07-08","Fredag",null,null,{"$f":"IF(WEEKDAY(A283,2)<6,ColTime($D$6,$D$7,C283,D283),0)*IF(C283>0,D283>0)","v":0},{"$f":"IF(WEEKDAY(A283,2)<6,ColTime($G$6,$G$7,C283,D283),0)+IF(WEEKDAY(A283,2)<6,ColTime($E$6,$E$7,C283,D283),0)*IF(C283>0,D283>0)","v":0},{"$f":"IF(WEEKDAY(A283,2)<6,ColTime($F$6,$F$7,C283,D283),0)*IF(C283>0,D283>0)","v":0},null,{"$f":"IF(E283=0,0,($D$10-$D$9)-E283)","v":0},0,0,null,0,null,0,0,null,0]
["2022-07-09","Lørdag",null,null," ","  ",{"$f":"IF(WEEKDAY(A284,2)=6,ColTime($E$12,$E$13,C284,D284),0)","v":0},null," ",{"$f":"G284","v":0},null,null," "," ",null,0,null,{"$f":"(P284*$F$4)*24","v":0}]
["2022-07-10","Søndag",null,null,null," "," ",{"$f":"IF(WEEKDAY(A285,2)=7,D285-C285+(D285<C285),IF(AND(WEEKDAY(A285,2)=6,D285<C285),ColTime($E$15,$E$16,#REF!,D285),0))","v":0}," ",{"$f":"H285","v":0},null,null," "," ",null,0,null,{"$f":"(P285*$H$4)*24","v":0}]
[null,null,null,null,null,null,null,null,null,null,null,null,{"$f":"SUM(M279:M285)","v":0},"Uge Timer I alt",null,{"$f":"SUM(P279:P285)+M286","v":0}]
[]
[28,"Uge dag","Start  indtast som:     tt:mm","Slut  indtast som:     tt:mm","Normal ArbejdsTid  Incl. Pause","Overtid 50%"," Overtid 100%\nMan-lør","Overtid 100%\nSøndag","Tid     Fratrukket Timebank (Afspasering)","Tid Indsat I Timebank, OVERTID timer","Afholdt Pause","Fri uden løn indtast som:    tt:mm","Time sygeløn indtast som:    tt:mm","Ferie Dag antal","Ferie Penge Beløb","I alt",null,"Løn","I alt"]
[{"$f":"DATE($A$17,1,7*A288-3-WEEKDAY(DATE($A$17,,),3))","v":"2022-07-11"},{"$f":"HelligdagsNavn(A289,1,1,1,1,1,1,1)","v":"Mandag"},null,null,{"$f":"IF(WEEKDAY(A289,2)<6,ColTime($D$6,$D$7,C289,D289),0)*IF(C289>0,D289>0)","v":0},{"$f":"IF(WEEKDAY(A289,2)<6,ColTime($G$6,$G$7,C289,D289),0)+IF(WEEKDAY(A289,2)<6,ColTime($E$6,$E$7,C289,D289),0)*IF(C289>0,D289>0)","v":0},{"$f":"IF(WEEKDAY(A289,2)<6,ColTime($F$6,$F$7,C289,D289),0)*IF(C289>0,D289>0)","v":0},null,{"$f":"IF(E289=0,0,($D$7-$D$6)-E289)","v":0},{"$f":"IF(E289=0,0,($D$7-$D$6)-($D$7-$D$6))+F289+G289","v":0},{"$f":"IF(AND($O$8>=C289,D289>=$P$8),$K$15,0)+IF(AND($O$9<=D289,$P$9<=D289),$K$16,0)","v":0},null,0,null,{"$f":"IF(E289=0,M289=0,)*SUM(($N$4/$N$2*N289))","v":0},{"$f":"SUM(E289:I289)-IF(C289>0,D289>0)*K289-L289","v":0},null,{"$f":"(((IF(E289>0,)+(P289*$B$4))+(F289*$C$4)+(G289*$D$4)+(M289*$M$4)))*24+O289","v":0},0]
["2022-07-12","Tirsdag",null,null,{"$f":"IF(WEEKDAY(A290,2)<6,ColTime($D$6,$D$7,C290,D290),0)*IF(C290>0,D290>0)","v":0},{"$f":"IF(WEEKDAY(A290,2)<6,ColTime($G$6,$G$7,C290,D290),0)+IF(WEEKDAY(A290,2)<6,ColTime($E$6,$E$7,C290,D290),0)*IF(C290>0,D290>0)","v":0},{"$f":"IF(WEEKDAY(A290,2)<6,ColTime($F$6,$F$7,C290,D290),0)*IF(C290>0,D290>0)","v":0},null,0,0,0,null,0,null,0,0,null,0]
["2022-07-13","Onsdag",null,null,{"$f":"IF(WEEKDAY(A291,2)<6,ColTime($D$6,$D$7,C291,D291),0)*IF(C291>0,D291>0)","v":0},{"$f":"IF(WEEKDAY(A291,2)<6,ColTime($G$6,$G$7,C291,D291),0)+IF(WEEKDAY(A291,2)<6,ColTime($E$6,$E$7,C291,D291),0)*IF(C291>0,D291>0)","v":0},{"$f":"IF(WEEKDAY(A291,2)<6,ColTime($F$6,$F$7,C291,D291),0)*IF(C291>0,D291>0)","v":0},null,0,0,0,null,0,null,0,0,null,0]
["2022-07-14","Torsdag",null,null,{"$f":"IF(WEEKDAY(A292,2)<6,ColTime($D$6,$D$7,C292,D292),0)*IF(C292>0,D292>0)","v":0},{"$f":"IF(WEEKDAY(A292,2)<6,ColTime($G$6,$G$7,C292,D292),0)+IF(WEEKDAY(A292,2)<6,ColTime($E$6,$E$7,C292,D292),0)*IF(C292>0,D292>0)","v":0},{"$f":"IF(WEEKDAY(A292,2)<6,ColTime($F$6,$F$7,C292,D292),0)*IF(C292>0,D292>0)","v":0},null,0,0,0,null,0,null,0,0,null,0]
["2022-07-15","Fredag",null,null,{"$f":"IF(WEEKDAY(A293,2)<6,ColTime($D$6,$D$7,C293,D293),0)*IF(C293>0,D293>0)","v":0},{"$f":"IF(WEEKDAY(A293,2)<6,ColTime($G$6,$G$7,C293,D293),0)+IF(WEEKDAY(A293,2)<6,ColTime($E$6,$E$7,C293,D293),0)*IF(C293>0,D293>0)","v":0},{"$f":"IF(WEEKDAY(A293,2)<6,ColTime($F$6,$F$7,C293,D293),0)*IF(C293>0,D293>0)","v":0},null,{"$f":"IF(E293=0,0,($D$10-$D$9)-E293)","v":0},0,0,null,0,null,0,0,null,0]
["2022-07-16","Lørdag",null,null," ","  ",{"$f":"IF(WEEKDAY(A294,2)=6,ColTime($E$12,$E$13,C294,D294),0)","v":0},null," ",{"$f":"G294","v":0},null,null," "," ",null,0,null,{"$f":"(P294*$F$4)*24","v":0}]
["2022-07-17","Søndag",null,null,null," "," ",{"$f":"IF(WEEKDAY(A295,2)=7,D295-C295+(D295<C295),IF(AND(WEEKDAY(A295,2)=6,D295<C295),ColTime($E$15,$E$16,#REF!,D295),0))","v":0}," ",{"$f":"H295","v":0},null,null," "," ",null,0,null,{"$f":"(P295*$H$4)*24","v":0}]
[null,null,null,null,null,null,null,null,null,null,null,null,{"$f":"SUM(M289:M295)","v":0},"Uge Timer I alt",null,{"$f":"SUM(P289:P295)+M296","v":0}]
[]
[29,"Uge dag","Start  indtast som:     tt:mm","Slut  indtast som:     tt:mm","Normal ArbejdsTid  Incl. Pause","Overtid 50%"," Overtid 100%\nMan-lør","Overtid 100%\nSøndag","Tid     Fratrukket Timebank (Afspasering)","Tid Indsat I Timebank, OVERTID timer","Afholdt Pause","Fri uden løn indtast som:    tt:mm","Time sygeløn indtast som:    tt:mm","Ferie Dag antal","Ferie Penge Beløb","I alt",null,"Løn","I alt","Juli løn","Samlet Timer I Perioden"]
[{"$f":"DATE($A$17,1,7*A298-3-WEEKDAY(DATE($A$17,,),3))","v":"2022-07-18"},{"$f":"HelligdagsNavn(A299,1,1,1,1,1,1,1)","v":"Mandag"},null,null,{"$f":"IF(WEEKDAY(A299,2)<6,ColTime($D$6,$D$7,C299,D299),0)*IF(C299>0,D299>0)","v":0},{"$f":"IF(WEEKDAY(A299,2)<6,ColTime($G$6,$G$7,C299,D299),0)+IF(WEEKDAY(A299,2)<6,ColTime($E$6,$E$7,C299,D299),0)*IF(C299>0,D299>0)","v":0},{"$f":"IF(WEEKDAY(A299,2)<6,ColTime($F$6,$F$7,C299,D299),0)*IF(C299>0,D299>0)","v":0},null,{"$f":"IF(E299=0,0,($D$7-$D$6)-E299)","v":0},{"$f":"IF(E299=0,0,($D$7-$D$6)-($D$7-$D$6))+F299+G299","v":0},{"$f":"IF(AND($O$8>=C299,D299>=$P$8),$K$15,0)+IF(AND($O$9<=D299,$P$9<=D299),$K$16,0)","v":0},null,0,null,{"$f":"IF(E299=0,M299=0,)*SUM(($N$4/$N$2*N299))","v":0},{"$f":"SUM(E299:I299)-IF(C299>0,D299>0)*K299-L299","v":0},null,{"$f":"(((IF(E299>0,)+(P299*$B$4))+(F299*$C$4)+(G299*$D$4)+(M299*$M$4)))*24+O299","v":0},{"$f":"SUM(R299:R305)","v":0},{"$f":"SUMIFS($R:$R,$A:$A,\">=\"&DATE($A$17,6,21),$A:$A,\"<=\"&DATE($A$17,7,20))","v":0},{"$f":"SUMIFS($M:$M,$A:$A,\">=\"&DATE($A$17,6,21),$A:$A,\"<=\"&DATE($A$17,7,20))+SUMIFS($P:$P,$A:$A,\">=\"&DATE($A$17,6,21),$A:$A,\"<=\"&DATE($A$17,7,20))","v":0}]
[{"$f":"A299+1","v":"2022-07-19"},"Tirsdag",null,null,{"$f":"IF(WEEKDAY(A300,2)<6,ColTime($D$6,$D$7,C300,D300),0)*IF(C300>0,D300>0)","v":0},{"$f":"IF(WEEKDAY(A300,2)<6,ColTime($G$6,$G$7,C300,D300),0)+IF(WEEKDAY(A300,2)<6,ColTime($E$6,$E$7,C300,D300),0)*IF(C300>0,D300>0)","v":0},{"$f":"IF(WEEKDAY(A300,2)<6,ColTime($F$6,$F$7,C300,D300),0)*IF(C300>0,D300>0)","v":0},null,0,0,0,null,0,null,0,0,null,0]
["2022-07-20","Onsdag",null,null,{"$f":"IF(WEEKDAY(A301,2)<6,ColTime($D$6,$D$7,C301,D301),0)*IF(C301>0,D301>0)","v":0},{"$f":"IF(WEEKDAY(A301,2)<6,ColTime($G$6,$G$7,C301,D301),0)+IF(WEEKDAY(A301,2)<6,ColTime($E$6,$E$7,C301,D301),0)*IF(C301>0,D301>0)","v":0},{"$f":"IF(WEEKDAY(A301,2)<6,ColTime($F$6,$F$7,C301,D301),0)*IF(C301>0,D301>0)","v":0},null,0,0,0,null,0,null,0,0,null,0]
["2022-07-21","Torsdag",null,null,{"$f":"IF(WEEKDAY(A302,2)<6,ColTime($D$6,$D$7,C302,D302),0)*IF(C302>0,D302>0)","v":0},{"$f":"IF(WEEKDAY(A302,2)<6,ColTime($G$6,$G$7,C302,D302),0)+IF(WEEKDAY(A302,2)<6,ColTime($E$6,$E$7,C302,D302),0)*IF(C302>0,D302>0)","v":0},{"$f":"IF(WEEKDAY(A302,2)<6,ColTime($F$6,$F$7,C302,D302),0)*IF(C302>0,D302>0)","v":0},null,0,0,0,null,0,null,0,0,null,0]
["2022-07-22","Fredag",null,null,{"$f":"IF(WEEKDAY(A303,2)<6,ColTime($D$6,$D$7,C303,D303),0)*IF(C303>0,D303>0)","v":0},{"$f":"IF(WEEKDAY(A303,2)<6,ColTime($G$6,$G$7,C303,D303),0)+IF(WEEKDAY(A303,2)<6,ColTime($E$6,$E$7,C303,D303),0)*IF(C303>0,D303>0)","v":0},{"$f":"IF(WEEKDAY(A303,2)<6,ColTime($F$6,$F$7,C303,D303),0)*IF(C303>0,D303>0)","v":0},null,{"$f":"IF(E303=0,0,($D$10-$D$9)-E303)","v":0},0,0,null,0,null,0,0,null,0]
["2022-07-23","Lørdag",null,null," ","  ",{"$f":"IF(WEEKDAY(A304,2)=6,ColTime($E$12,$E$13,C304,D304),0)","v":0},null," ",{"$f":"G304","v":0},null,null," "," ",null,0,null,{"$f":"(P304*$F$4)*24","v":0}]
["2022-07-24","Søndag",null,null,null," "," ",{"$f":"IF(WEEKDAY(A305,2)=7,D305-C305+(D305<C305),IF(AND(WEEKDAY(A305,2)=6,D305<C305),ColTime($E$15,$E$16,#REF!,D305),0))","v":0}," ",{"$f":"H305","v":0},null,null," "," ",null,0,null,{"$f":"(P305*$H$4)*24","v":0}]
[null,null,null,null,null,null,null,null,null,null,null,null,{"$f":"SUM(M299:M305)","v":0},"Uge Timer I alt",null,{"$f":"SUM(P299:P305)+M306","v":0}]
[]
[30,"Uge dag","Start  indtast som:     tt:mm","Slut  indtast som:     tt:mm","Normal ArbejdsTid  Incl. Pause","Overtid 50%"," Overtid 100%\nMan-lør","Overtid 100%\nSøndag","Tid     Fratrukket Timebank (Afspasering)","Tid Indsat I Timebank, OVERTID timer","Afholdt Pause","Fri uden løn indtast som:    tt:mm","Time sygeløn indtast som:    tt:mm","Ferie Dag antal","Ferie Penge Beløb","I alt",null,"Løn","I alt"]
[{"$f":"DATE($A$17,1,7*A308-3-WEEKDAY(DATE($A$17,,),3))","v":"2022-07-25"},{"$f":"HelligdagsNavn(A309,1,1,1,1,1,1,1)","v":"Mandag"},null,null,{"$f":"IF(WEEKDAY(A309,2)<6,ColTime($D$6,$D$7,C309,D309),0)*IF(C309>0,D309>0)","v":0},{"$f":"IF(WEEKDAY(A309,2)<6,ColTime($G$6,$G$7,C309,D309),0)+IF(WEEKDAY(A309,2)<6,ColTime($E$6,$E$7,C309,D309),0)*IF(C309>0,D309>0)","v":0},{"$f":"IF(WEEKDAY(A309,2)<6,ColTime($F$6,$F$7,C309,D309),0)*IF(C309>0,D309>0)","v":0},null,{"$f":"IF(E309=0,0,($D$7-$D$6)-E309)","v":0},{"$f":"IF(E309=0,0,($D$7-$D$6)-($D$7-$D$6))+F309+G309","v":0},{"$f":"IF(AND($O$8>=C309,D309>=$P$8),$K$15,0)+IF(AND($O$9<=D309,$P$9<=D309),$K$16,0)","v":0},null,0,null,{"$f":"IF(E309=0,M309=0,)*SUM(($N$4/$N$2*N309))","v":0},{"$f":"SUM(E309:I309)-IF(C309>0,D309>0)*K309-L309","v":0},null,{"$f":"(((IF(E309>0,)+(P309*$B$4))+(F309*$C$4)+(G309*$D$4)+(M309*$M$4)))*24+O309","v":0},{"$f":"SUM(R309:R315)","v":0}]
[{"$f":"A309+1","v":"2022-07-26"},"Tirsdag",null,null,{"$f":"IF(WEEKDAY(A310,2)<6,ColTime($D$6,$D$7,C310,D310),0)*IF(C310>0,D310>0)","v":0},{"$f":"IF(WEEKDAY(A310,2)<6,ColTime($G$6,$G$7,C310,D310),0)+IF(WEEKDAY(A310,2)<6,ColTime($E$6,$E$7,C310,D310),0)*IF(C310>0,D310>0)","v":0},{"$f":"IF(WEEKDAY(A310,2)<6,ColTime($F$6,$F$7,C310,D310),0)*IF(C310>0,D310>0)","v":0},null,0,0,0,null,0,null,0,0,null,0]
["2022-07-27","Onsdag",null,null,{"$f":"IF(WEEKDAY(A311,2)<6,ColTime($D$6,$D$7,C311,D311),0)*IF(C311>0,D311>0)","v":0},{"$f":"IF(WEEKDAY(A311,2)<6,ColTime($G$6,$G$7,C311,D311),0)+IF(WEEKDAY(A311,2)<6,ColTime($E$6,$E$7,C311,D311),0)*IF(C311>0,D311>0)","v":0},{"$f":"IF(WEEKDAY(A311,2)<6,ColTime($F$6,$F$7,C311,D311),0)*IF(C311>0,D311>0)","v":0},null,0,0,0,null,0,null,0,0,null,0]
["2022-07-28","Torsdag",null,null,{"$f":"IF(WEEKDAY(A312,2)<6,ColTime($D$6,$D$7,C312,D312),0)*IF(C312>0,D312>0)","v":0},{"$f":"IF(WEEKDAY(A312,2)<6,ColTime($G$6,$G$7,C312,D312),0)+IF(WEEKDAY(A312,2)<6,ColTime($E$6,$E$7,C312,D312),0)*IF(C312>0,D312>0)","v":0},{"$f":"IF(WEEKDAY(A312,2)<6,ColTime($F$6,$F$7,C312,D312),0)*IF(C312>0,D312>0)","v":0},null,0,0,0,null,0,null,0,0,null,0]
["2022-07-29","Fredag",null,null,{"$f":"IF(WEEKDAY(A313,2)<6,ColTime($D$6,$D$7,C313,D313),0)*IF(C313>0,D313>0)","v":0},{"$f":"IF(WEEKDAY(A313,2)<6,ColTime($G$6,$G$7,C313,D313),0)+IF(WEEKDAY(A313,2)<6,ColTime($E$6,$E$7,C313,D313),0)*IF(C313>0,D313>0)","v":0},{"$f":"IF(WEEKDAY(A313,2)<6,ColTime($F$6,$F$7,C313,D313),0)*IF(C313>0,D313>0)","v":0},null,{"$f":"IF(E313=0,0,($D$10-$D$9)-E313)","v":0},0,0,null,0,null,0,0,null,0]
["2022-07-30","Lørdag",null,null," ","  ",{"$f":"IF(WEEKDAY(A314,2)=6,ColTime($E$12,$E$13,C314,D314),0)","v":0},null," ",{"$f":"G314","v":0},null,null," "," ",null,0,null,{"$f":"(P314*$F$4)*24","v":0}]
["2022-07-31","Søndag",null,null,null," "," ",{"$f":"IF(WEEKDAY(A315,2)=7,D315-C315+(D315<C315),IF(AND(WEEKDAY(A315,2)=6,D315<C315),ColTime($E$15,$E$16,#REF!,D315),0))","v":0}," ",{"$f":"H315","v":0},null,null," "," ",null,0,null,{"$f":"(P315*$H$4)*24","v":0}]
[null,null,null,null,null,null,null,null,null,null,null,null,{"$f":"SUM(M309:M315)","v":0},"Uge Timer I alt",null,{"$f":"SUM(P309:P315)+M316","v":0}]
[]
[31,"Uge dag","Start  indtast som:     tt:mm","Slut  indtast som:     tt:mm","Normal ArbejdsTid  Incl. Pause","Overtid 50%"," Overtid 100%\nMan-lør","Overtid 100%\nSøndag","Tid     Fratrukket Timebank (Afspasering)","Tid Indsat I Timebank, OVERTID timer","Afholdt Pause","Fri uden løn indtast som:    tt:mm","Time sygeløn indtast som:    tt:mm","Ferie Dag antal","Ferie Penge Beløb","I alt",null,"Løn","I alt"]
[{"$f":"DATE($A$17,1,7*A318-3-WEEKDAY(DATE($A$17,,),3))","v":"2022-08-01"},{"$f":"HelligdagsNavn(A319,1,1,1,1,1,1,1)","v":"Mandag"},null,null,{"$f":"IF(WEEKDAY(A319,2)<6,ColTime($D$6,$D$7,C319,D319),0)*IF(C319>0,D319>0)","v":0},{"$f":"IF(WEEKDAY(A319,2)<6,ColTime($G$6,$G$7,C319,D319),0)+IF(WEEKDAY(A319,2)<6,ColTime($E$6,$E$7,C319,D319),0)*IF(C319>0,D319>0)","v":0},{"$f":"IF(WEEKDAY(A319,2)<6,ColTime($F$6,$F$7,C319,D319),0)*IF(C319>0,D319>0)","v":0},null,{"$f":"IF(E319=0,0,($D$7-$D$6)-E319)","v":0},{"$f":"IF(E319=0,0,($D$7-$D$6)-($D$7-$D$6))+F319+G319","v":0},{"$f":"IF(AND($O$8>=C319,D319>=$P$8),$K$15,0)+IF(AND($O$9<=D319,$P$9<=D319),$K$16,0)","v":0},null,0,null,{"$f":"IF(E319=0,M319=0,)*SUM(($N$4/$N$2*N319))","v":0},{"$f":"SUM(E319:I319)-IF(C319>0,D319>0)*K319-L319","v":0},null,{"$f":"(((IF(E319>0,)+(P319*$B$4))+(F319*$C$4)+(G319*$D$4)+(M319*$M$4)))*24+O319","v":0},0]
["2022-08-02","Tirsdag",null,null,{"$f":"IF(WEEKDAY(A320,2)<6,ColTime($D$6,$D$7,C320,D320),0)*IF(C320>0,D320>0)","v":0},{"$f":"IF(WEEKDAY(A320,2)<6,ColTime($G$6,$G$7,C320,D320),0)+IF(WEEKDAY(A320,2)<6,ColTime($E$6,$E$7,C320,D320),0)*IF(C320>0,D320>0)","v":0},{"$f":"IF(WEEKDAY(A320,2)<6,ColTime($F$6,$F$7,C320,D320),0)*IF(C320>0,D320>0)","v":0},null,0,0,0,null,0,null,0,0,null,0]
["2022-08-03","Onsdag",null,null,{"$f":"IF(WEEKDAY(A321,2)<6,ColTime($D$6,$D$7,C321,D321),0)*IF(C321>0,D321>0)","v":0},{"$f":"IF(WEEKDAY(A321,2)<6,ColTime($G$6,$G$7,C321,D321),0)+IF(WEEKDAY(A321,2)<6,ColTime($E$6,$E$7,C321,D321),0)*IF(C321>0,D321>0)","v":0},{"$f":"IF(WEEKDAY(A321,2)<6,ColTime($F$6,$F$7,C321,D321),0)*IF(C321>0,D321>0)","v":0},null,0,0,0,null,0,null,0,0,null,0]
["2022-08-04","Torsdag",null,null,{"$f":"IF(WEEKDAY(A322,2)<6,ColTime($D$6,$D$7,C322,D322),0)*IF(C322>0,D322>0)","v":0},{"$f":"IF(WEEKDAY(A322,2)<6,ColTime($G$6,$G$7,C322,D322),0)+IF(WEEKDAY(A322,2)<6,ColTime($E$6,$E$7,C322,D322),0)*IF(C322>0,D322>0)","v":0},{"$f":"IF(WEEKDAY(A322,2)<6,ColTime($F$6,$F$7,C322,D322),0)*IF(C322>0,D322>0)","v":0},null,0,0,0,null,0,null,0,0,null,0]
["2022-08-05","Fredag",null,null,{"$f":"IF(WEEKDAY(A323,2)<6,ColTime($D$6,$D$7,C323,D323),0)*IF(C323>0,D323>0)","v":0},{"$f":"IF(WEEKDAY(A323,2)<6,ColTime($G$6,$G$7,C323,D323),0)+IF(WEEKDAY(A323,2)<6,ColTime($E$6,$E$7,C323,D323),0)*IF(C323>0,D323>0)","v":0},{"$f":"IF(WEEKDAY(A323,2)<6,ColTime($F$6,$F$7,C323,D323),0)*IF(C323>0,D323>0)","v":0},null,{"$f":"IF(E323=0,0,($D$10-$D$9)-E323)","v":0},0,0,null,0,null,0,0,null,0]
["2022-08-06","Lørdag",null,null," ","  ",{"$f":"IF(WEEKDAY(A324,2)=6,ColTime($E$12,$E$13,C324,D324),0)","v":0},null," ",{"$f":"G324","v":0},null,null," "," ",null,0,null,{"$f":"(P324*$F$4)*24","v":0}]
["2022-08-07","Søndag",null,null,null," "," ",{"$f":"IF(WEEKDAY(A325,2)=7,D325-C325+(D325<C325),IF(AND(WEEKDAY(A325,2)=6,D325<C325),ColTime($E$15,$E$16,#REF!,D325),0))","v":0}," ",{"$f":"H325","v":0},null,null," "," ",null,0,null,{"$f":"(P325*$H$4)*24","v":0}]
[null,null,null,null,null,null,null,null,null,null,null,null,{"$f":"SUM(M319:M325)","v":0},"Uge Timer I alt",null,{"$f":"SUM(P319:P325)+M326","v":0}]
[]
[32,"Uge dag","Start  indtast som:     tt:mm","Slut  indtast som:     tt:mm","Normal ArbejdsTid  Incl. Pause","Overtid 50%"," Overtid 100%\nMan-lør","Overtid 100%\nSøndag","Tid     Fratrukket Timebank (Afspasering)","Tid Indsat I Timebank, OVERTID timer","Afholdt Pause","Fri uden løn indtast som:    tt:mm","Time sygeløn indtast som:    tt:mm","Ferie Dag antal","Ferie Penge Beløb","I alt",null,"Løn","I alt"]
[{"$f":"DATE($A$17,1,7*A328-3-WEEKDAY(DATE($A$17,,),3))","v":"2022-08-08"},{"$f":"HelligdagsNavn(A329,1,1,1,1,1,1,1)","v":"Mandag"},null,null,{"$f":"IF(WEEKDAY(A329,2)<6,ColTime($D$6,$D$7,C329,D329),0)*IF(C329>0,D329>0)","v":0},{"$f":"IF(WEEKDAY(A329,2)<6,ColTime($G$6,$G$7,C329,D329),0)+IF(WEEKDAY(A329,2)<6,ColTime($E$6,$E$7,C329,D329),0)*IF(C329>0,D329>0)","v":0},{"$f":"IF(WEEKDAY(A329,2)<6,ColTime($F$6,$F$7,C329,D329),0)*IF(C329>0,D329>0)","v":0},null,{"$f":"IF(E329=0,0,($D$7-$D$6)-E329)","v":0},{"$f":"IF(E329=0,0,($D$7-$D$6)-($D$7-$D$6))+F329+G329","v":0},{"$f":"IF(AND($O$8>=C329,D329>=$P$8),$K$15,0)+IF(AND($O$9<=D329,$P$9<=D329),$K$16,0)","v":0},null,0,null,{"$f":"IF(E329=0,M329=0,)*SUM(($N$4/$N$2*N329))","v":0},{"$f":"SUM(E329:I329)-IF(C329>0,D329>0)*K329-L329","v":0},null,{"$f":"(((IF(E329>0,)+(P329*$B$4))+(F329*$C$4)+(G329*$D$4)+(M329*$M$4)))*24+O329","v":0},0]
["2022-08-09","Tirsdag",null,null,{"$f":"IF(WEEKDAY(A330,2)<6,ColTime($D$6,$D$7,C330,D330),0)*IF(C330>0,D330>0)","v":0},{"$f":"IF(WEEKDAY(A330,2)<6,ColTime($G$6,$G$7,C330,D330),0)+IF(WEEKDAY(A330,2)<6,ColTime($E$6,$E$7,C330,D330),0)*IF(C330>0,D330>0)","v":0},{"$f":"IF(WEEKDAY(A330,2)<6,ColTime($F$6,$F$7,C330,D330),0)*IF(C330>0,D330>0)","v":0},null,0,0,0,null,0,null,0,0,null,0]
["2022-08-10","Onsdag",null,null,{"$f":"IF(WEEKDAY(A331,2)<6,ColTime($D$6,$D$7,C331,D331),0)*IF(C331>0,D331>0)","v":0},{"$f":"IF(WEEKDAY(A331,2)<6,ColTime($G$6,$G$7,C331,D331),0)+IF(WEEKDAY(A331,2)<6,ColTime($E$6,$E$7,C331,D331),0)*IF(C331>0,D331>0)","v":0},{"$f":"IF(WEEKDAY(A331,2)<6,ColTime($F$6,$F$7,C331,D331),0)*IF(C331>0,D331>0)","v":0},null,0,0,0,null,0,null,0,0,null,0]
["2022-08-11","Torsdag",null,null,{"$f":"IF(WEEKDAY(A332,2)<6,ColTime($D$6,$D$7,C332,D332),0)*IF(C332>0,D332>0)","v":0},{"$f":"IF(WEEKDAY(A332,2)<6,ColTime($G$6,$G$7,C332,D332),0)+IF(WEEKDAY(A332,2)<6,ColTime($E$6,$E$7,C332,D332),0)*IF(C332>0,D332>0)","v":0},{"$f":"IF(WEEKDAY(A332,2)<6,ColTime($F$6,$F$7,C332,D332),0)*IF(C332>0,D332>0)","v":0},null,0,0,0,null,0,null,0,0,null,0]
["2022-08-12","Fredag",null,null,{"$f":"IF(WEEKDAY(A333,2)<6,ColTime($D$6,$D$7,C333,D333),0)*IF(C333>0,D333>0)","v":0},{"$f":"IF(WEEKDAY(A333,2)<6,ColTime($G$6,$G$7,C333,D333),0)+IF(WEEKDAY(A333,2)<6,ColTime($E$6,$E$7,C333,D333),0)*IF(C333>0,D333>0)","v":0},{"$f":"IF(WEEKDAY(A333,2)<6,ColTime($F$6,$F$7,C333,D333),0)*IF(C333>0,D333>0)","v":0},null,{"$f":"IF(E333=0,0,($D$10-$D$9)-E333)","v":0},0,0,null,0,null,0,0,null,0]
["2022-08-13","Lørdag",null,null," ","  ",{"$f":"IF(WEEKDAY(A334,2)=6,ColTime($E$12,$E$13,C334,D334),0)","v":0},null," ",{"$f":"G334","v":0},null,null," "," ",null,0,null,{"$f":"(P334*$F$4)*24","v":0}]
["2022-08-14","Søndag",null,null,null," "," ",{"$f":"IF(WEEKDAY(A335,2)=7,D335-C335+(D335<C335),IF(AND(WEEKDAY(A335,2)=6,D335<C335),ColTime($E$15,$E$16,#REF!,D335),0))","v":0}," ",{"$f":"H335","v":0},null,null," "," ",null,0,null,{"$f":"(P335*$H$4)*24","v":0}]
[null,null,null,null,null,null,null,null,null,null,null,null,{"$f":"SUM(M329:M335)","v":0},"Uge Timer I alt",null,{"$f":"SUM(P329:P335)+M336","v":0}]
[]
[33,"Uge dag","Start  indtast som:     tt:mm","Slut  indtast som:     tt:mm","Normal ArbejdsTid  Incl. Pause","Overtid 50%"," Overtid 100%\nMan-lør","Overtid 100%\nSøndag","Tid     Fratrukket Timebank (Afspasering)","Tid Indsat I Timebank, OVERTID timer","Afholdt Pause","Fri uden løn indtast som:    tt:mm","Time sygeløn indtast som:    tt:mm","Ferie Dag antal","Ferie Penge Beløb","I alt",null,"Løn","I alt","August  Løn","Samlet Timer I Perioden"]
[{"$f":"DATE($A$17,1,7*A338-3-WEEKDAY(DATE($A$17,,),3))","v":"2022-08-15"},{"$f":"HelligdagsNavn(A339,1,1,1,1,1,1,1)","v":"Mandag"},null,null,{"$f":"IF(WEEKDAY(A339,2)<6,ColTime($D$6,$D$7,C339,D339),0)*IF(C339>0,D339>0)","v":0},{"$f":"IF(WEEKDAY(A339,2)<6,ColTime($G$6,$G$7,C339,D339),0)+IF(WEEKDAY(A339,2)<6,ColTime($E$6,$E$7,C339,D339),0)*IF(C339>0,D339>0)","v":0},{"$f":"IF(WEEKDAY(A339,2)<6,ColTime($F$6,$F$7,C339,D339),0)*IF(C339>0,D339>0)","v":0},null,{"$f":"IF(E339=0,0,($D$7-$D$6)-E339)","v":0},{"$f":"IF(E339=0,0,($D$7-$D$6)-($D$7-$D$6))+F339+G339","v":0},{"$f":"IF(AND($O$8>=C339,D339>=$P$8),$K$15,0)+IF(AND($O$9<=D339,$P$9<=D339),$K$16,0)","v":0},null,0,null,{"$f":"IF(E339=0,M339=0,)*SUM(($N$4/$N$2*N339))","v":0},{"$f":"SUM(E339:I339)-IF(C339>0,D339>0)*K339-L339","v":0},null,{"$f":"(((IF(E339>0,)+(P339*$B$4))+(F339*$C$4)+(G339*$D$4)+(M339*$M$4)))*24+O339","v":0},{"$f":"SUM(R339:R345)","v":0}]
["2022-08-16","Tirsdag",null,null,{"$f":"IF(WEEKDAY(A340,2)<6,ColTime($D$6,$D$7,C340,D340),0)*IF(C340>0,D340>0)","v":0},{"$f":"IF(WEEKDAY(A340,2)<6,ColTime($G$6,$G$7,C340,D340),0)+IF(WEEKDAY(A340,2)<6,ColTime($E$6,$E$7,C340,D340),0)*IF(C340>0,D340>0)","v":0},{"$f":"IF(WEEKDAY(A340,2)<6,ColTime($F$6,$F$7,C340,D340),0)*IF(C340>0,D340>0)","v":0},null,0,0,0,null,0,null,0,0,null,0]
["2022-08-17","Onsdag",null,null,{"$f":"IF(WEEKDAY(A341,2)<6,ColTime($D$6,$D$7,C341,D341),0)*IF(C341>0,D341>0)","v":0},{"$f":"IF(WEEKDAY(A341,2)<6,ColTime($G$6,$G$7,C341,D341),0)+IF(WEEKDAY(A341,2)<6,ColTime($E$6,$E$7,C341,D341),0)*IF(C341>0,D341>0)","v":0},{"$f":"IF(WEEKDAY(A341,2)<6,ColTime($F$6,$F$7,C341,D341),0)*IF(C341>0,D341>0)","v":0},null,0,0,0,null,0,null,0,0,null,0]
["2022-08-18","Torsdag",null,null,{"$f":"IF(WEEKDAY(A342,2)<6,ColTime($D$6,$D$7,C342,D342),0)*IF(C342>0,D342>0)","v":0},{"$f":"IF(WEEKDAY(A342,2)<6,ColTime($G$6,$G$7,C342,D342),0)+IF(WEEKDAY(A342,2)<6,ColTime($E$6,$E$7,C342,D342),0)*IF(C342>0,D342>0)","v":0},{"$f":"IF(WEEKDAY(A342,2)<6,ColTime($F$6,$F$7,C342,D342),0)*IF(C342>0,D342>0)","v":0},null,0,0,0,null,0,null,0,0,null,0,null,{"$f":"SUMIFS($R:$R,$A:$A,\">=\"&DATE($A$17,7,21),$A:$A,\"<=\"&DATE($A$17,8,20))","v":0},{"$f":"SUMIFS($M:$M,$A:$A,\">=\"&DATE($A$17,7,21),$A:$A,\"<=\"&DATE($A$17,8,20))+SUMIFS($P:$P,$A:$A,\">=\"&DATE($A$17,7,21),$A:$A,\"<=\"&DATE($A$17,8,20))","v":0}]
["2022-08-19","Fredag",null,null,{"$f":"IF(WEEKDAY(A343,2)<6,ColTime($D$6,$D$7,C343,D343),0)*IF(C343>0,D343>0)","v":0},{"$f":"IF(WEEKDAY(A343,2)<6,ColTime($G$6,$G$7,C343,D343),0)+IF(WEEKDAY(A343,2)<6,ColTime($E$6,$E$7,C343,D343),0)*IF(C343>0,D343>0)","v":0},{"$f":"IF(WEEKDAY(A343,2)<6,ColTime($F$6,$F$7,C343,D343),0)*IF(C343>0,D343>0)","v":0},null,{"$f":"IF(E343=0,0,($D$10-$D$9)-E343)","v":0},0,{"$f":"IF(AND($O$8>=C343,D343>=$P$8),$K$15,0)+IF(AND($O$9<=D343,$P$9<=D343),$K$16,0)","v":0},null,0,null,0,0,null,0]
["2022-08-20","Lørdag",null,null," ","  ",{"$f":"IF(WEEKDAY(A344,2)=6,ColTime($E$12,$E$13,C344,D344),0)","v":0},null," ",{"$f":"G344","v":0},null,null," "," ",null,0,null,{"$f":"(P344*$F$4)*24","v":0}]
["2022-08-21","Søndag",null,null,null," "," ",{"$f":"IF(WEEKDAY(A345,2)=7,D345-C345+(D345<C345),IF(AND(WEEKDAY(A345,2)=6,D345<C345),ColTime($E$15,$E$16,#REF!,D345),0))","v":0}," ",{"$f":"H345","v":0},null,null," "," ",null,0,null,{"$f":"(P345*$H$4)*24","v":0}]
[null,null,null,null,null,null,null,null,null,null,null,null,{"$f":"SUM(M339:M345)","v":0},"Uge Timer I alt",null,{"$f":"SUM(P339:P345)+M346","v":0}]
[]
[34,"Uge dag","Start  indtast som:     tt:mm","Slut  indtast som:     tt:mm","Normal ArbejdsTid  Incl. Pause","Overtid 50%"," Overtid 100%\nMan-lør","Overtid 100%\nSøndag","Tid     Fratrukket Timebank (Afspasering)","Tid Indsat I Timebank, OVERTID timer","Afholdt Pause","Fri uden løn indtast som:    tt:mm","Time sygeløn indtast som:    tt:mm","Ferie Dag antal","Ferie Penge Beløb","I alt",null,"Løn","I alt"]
[{"$f":"DATE($A$17,1,7*A348-3-WEEKDAY(DATE($A$17,,),3))","v":"2022-08-22"},{"$f":"HelligdagsNavn(A349,1,1,1,1,1,1,1)","v":"Mandag"},null,null,{"$f":"IF(WEEKDAY(A349,2)<6,ColTime($D$6,$D$7,C349,D349),0)*IF(C349>0,D349>0)","v":0},{"$f":"IF(WEEKDAY(A349,2)<6,ColTime($G$6,$G$7,C349,D349),0)+IF(WEEKDAY(A349,2)<6,ColTime($E$6,$E$7,C349,D349),0)*IF(C349>0,D349>0)","v":0},{"$f":"IF(WEEKDAY(A349,2)<6,ColTime($F$6,$F$7,C349,D349),0)*IF(C349>0,D349>0)","v":0},null,{"$f":"IF(E349=0,0,($D$7-$D$6)-E349)","v":0},{"$f":"IF(E349=0,0,($D$7-$D$6)-($D$7-$D$6))+F349+G349","v":0},{"$f":"IF(AND($O$8>=C349,D349>=$P$8),$K$15,0)+IF(AND($O$9<=D349,$P$9<=D349),$K$16,0)","v":0},null,0,null,{"$f":"IF(E349=0,M349=0,)*SUM(($N$4/$N$2*N349))","v":0},{"$f":"SUM(E349:I349)-IF(C349>0,D349>0)*K349-L349","v":0},null,{"$f":"(((IF(E349>0,)+(P349*$B$4))+(F349*$C$4)+(G349*$D$4)+(M349*$M$4)))*24+O349","v":0},0]
["2022-08-23","Tirsdag",null,null,{"$f":"IF(WEEKDAY(A350,2)<6,ColTime($D$6,$D$7,C350,D350),0)*IF(C350>0,D350>0)","v":0},{"$f":"IF(WEEKDAY(A350,2)<6,ColTime($G$6,$G$7,C350,D350),0)+IF(WEEKDAY(A350,2)<6,ColTime($E$6,$E$7,C350,D350),0)*IF(C350>0,D350>0)","v":0},{"$f":"IF(WEEKDAY(A350,2)<6,ColTime($F$6,$F$7,C350,D350),0)*IF(C350>0,D350>0)","v":0},null,0,0,0,null,0,null,0,0,null,0]
["2022-08-24","Onsdag",null,null,{"$f":"IF(WEEKDAY(A351,2)<6,ColTime($D$6,$D$7,C351,D351),0)*IF(C351>0,D351>0)","v":0},{"$f":"IF(WEEKDAY(A351,2)<6,ColTime($G$6,$G$7,C351,D351),0)+IF(WEEKDAY(A351,2)<6,ColTime($E$6,$E$7,C351,D351),0)*IF(C351>0,D351>0)","v":0},{"$f":"IF(WEEKDAY(A351,2)<6,ColTime($F$6,$F$7,C351,D351),0)*IF(C351>0,D351>0)","v":0},null,0,0,0,null,0,null,0,0,null,0]
["2022-08-25","Torsdag",null,null,{"$f":"IF(WEEKDAY(A352,2)<6,ColTime($D$6,$D$7,C352,D352),0)*IF(C352>0,D352>0)","v":0},{"$f":"IF(WEEKDAY(A352,2)<6,ColTime($G$6,$G$7,C352,D352),0)+IF(WEEKDAY(A352,2)<6,ColTime($E$6,$E$7,C352,D352),0)*IF(C352>0,D352>0)","v":0},{"$f":"IF(WEEKDAY(A352,2)<6,ColTime($F$6,$F$7,C352,D352),0)*IF(C352>0,D352>0)","v":0},null,0,0,0,null,0,null,0,0,null,0]
["2022-08-26","Fredag",null,null,{"$f":"IF(WEEKDAY(A353,2)<6,ColTime($D$6,$D$7,C353,D353),0)*IF(C353>0,D353>0)","v":0},{"$f":"IF(WEEKDAY(A353,2)<6,ColTime($G$6,$G$7,C353,D353),0)+IF(WEEKDAY(A353,2)<6,ColTime($E$6,$E$7,C353,D353),0)*IF(C353>0,D353>0)","v":0},{"$f":"IF(WEEKDAY(A353,2)<6,ColTime($F$6,$F$7,C353,D353),0)*IF(C353>0,D353>0)","v":0},null,{"$f":"IF(E353=0,0,($D$10-$D$9)-E353)","v":0},0,0,null,0,null,0,0,null,0]
["2022-08-27","Lørdag",null,null," ","  ",{"$f":"IF(WEEKDAY(A354,2)=6,ColTime($E$12,$E$13,C354,D354),0)","v":0},null," ",{"$f":"G354","v":0},null,null," "," ",null,0,null,{"$f":"(P354*$F$4)*24","v":0}]
["2022-08-28","Søndag",null,null,null," "," ",{"$f":"IF(WEEKDAY(A355,2)=7,D355-C355+(D355<C355),IF(AND(WEEKDAY(A355,2)=6,D355<C355),ColTime($E$15,$E$16,#REF!,D355),0))","v":0}," ",{"$f":"H355","v":0},null,null," "," ",null,0,null,{"$f":"(P355*$H$4)*24","v":0}]
[null,null,null,null,null,null,null,null,null,null,null,null,{"$f":"SUM(M349:M355)","v":0},"Uge Timer I alt",null,{"$f":"SUM(P349:P355)+M356","v":0}]
[]
[35,"Uge dag","Start  indtast som:     tt:mm","Slut  indtast som:     tt:mm","Normal ArbejdsTid  Incl. Pause","Overtid 50%"," Overtid 100%\nMan-lør","Overtid 100%\nSøndag","Tid     Fratrukket Timebank (Afspasering)","Tid Indsat I Timebank, OVERTID timer","Afholdt Pause","Fri uden løn indtast som:    tt:mm","Time sygeløn indtast som:    tt:mm","Ferie Dag antal","Ferie Penge Beløb","I alt",null,"Løn","I alt"]
[{"$f":"DATE($A$17,1,7*A358-3-WEEKDAY(DATE($A$17,,),3))","v":"2022-08-29"},{"$f":"HelligdagsNavn(A359,1,1,1,1,1,1,1)","v":"Mandag"},null,null,{"$f":"IF(WEEKDAY(A359,2)<6,ColTime($D$6,$D$7,C359,D359),0)*IF(C359>0,D359>0)","v":0},{"$f":"IF(WEEKDAY(A359,2)<6,ColTime($G$6,$G$7,C359,D359),0)+IF(WEEKDAY(A359,2)<6,ColTime($E$6,$E$7,C359,D359),0)*IF(C359>0,D359>0)","v":0},{"$f":"IF(WEEKDAY(A359,2)<6,ColTime($F$6,$F$7,C359,D359),0)*IF(C359>0,D359>0)","v":0},null,{"$f":"IF(E359=0,0,($D$7-$D$6)-E359)","v":0},{"$f":"IF(E359=0,0,($D$7-$D$6)-($D$7-$D$6))+F359+G359","v":0},{"$f":"IF(AND($O$8>=C359,D359>=$P$8),$K$15,0)+IF(AND($O$9<=D359,$P$9<=D359),$K$16,0)","v":0},null,0,null,{"$f":"IF(E359=0,M359=0,)*SUM(($N$4/$N$2*N359))","v":0},{"$f":"SUM(E359:I359)-IF(C359>0,D359>0)*K359-L359","v":0},null,{"$f":"(((IF(E359>0,)+(P359*$B$4))+(F359*$C$4)+(G359*$D$4)+(M359*$M$4)))*24+O359","v":0},0]
["2022-08-30","Tirsdag",null,null,{"$f":"IF(WEEKDAY(A360,2)<6,ColTime($D$6,$D$7,C360,D360),0)*IF(C360>0,D360>0)","v":0},{"$f":"IF(WEEKDAY(A360,2)<6,ColTime($G$6,$G$7,C360,D360),0)+IF(WEEKDAY(A360,2)<6,ColTime($E$6,$E$7,C360,D360),0)*IF(C360>0,D360>0)","v":0},{"$f":"IF(WEEKDAY(A360,2)<6,ColTime($F$6,$F$7,C360,D360),0)*IF(C360>0,D360>0)","v":0},null,0,0,0,null,0,null,0,0,null,0]
["2022-08-31","Onsdag",null,null,{"$f":"IF(WEEKDAY(A361,2)<6,ColTime($D$6,$D$7,C361,D361),0)*IF(C361>0,D361>0)","v":0},{"$f":"IF(WEEKDAY(A361,2)<6,ColTime($G$6,$G$7,C361,D361),0)+IF(WEEKDAY(A361,2)<6,ColTime($E$6,$E$7,C361,D361),0)*IF(C361>0,D361>0)","v":0},{"$f":"IF(WEEKDAY(A361,2)<6,ColTime($F$6,$F$7,C361,D361),0)*IF(C361>0,D361>0)","v":0},null,0,0,0,null,0,null,0,0,null,0]
["2022-09-01","Torsdag",null,null,{"$f":"IF(WEEKDAY(A362,2)<6,ColTime($D$6,$D$7,C362,D362),0)*IF(C362>0,D362>0)","v":0},{"$f":"IF(WEEKDAY(A362,2)<6,ColTime($G$6,$G$7,C362,D362),0)+IF(WEEKDAY(A362,2)<6,ColTime($E$6,$E$7,C362,D362),0)*IF(C362>0,D362>0)","v":0},{"$f":"IF(WEEKDAY(A362,2)<6,ColTime($F$6,$F$7,C362,D362),0)*IF(C362>0,D362>0)","v":0},null,0,0,0,null,0,null,0,0,null,0]
["2022-09-02","Fredag",null,null,{"$f":"IF(WEEKDAY(A363,2)<6,ColTime($D$6,$D$7,C363,D363),0)*IF(C363>0,D363>0)","v":0},{"$f":"IF(WEEKDAY(A363,2)<6,ColTime($G$6,$G$7,C363,D363),0)+IF(WEEKDAY(A363,2)<6,ColTime($E$6,$E$7,C363,D363),0)*IF(C363>0,D363>0)","v":0},{"$f":"IF(WEEKDAY(A363,2)<6,ColTime($F$6,$F$7,C363,D363),0)*IF(C363>0,D363>0)","v":0},null,{"$f":"IF(E363=0,0,($D$10-$D$9)-E363)","v":0},0,0,null,0,null,0,0,null,0]
["2022-09-03","Lørdag",null,null," ","  ",{"$f":"IF(WEEKDAY(A364,2)=6,ColTime($E$12,$E$13,C364,D364),0)","v":0},null," ",{"$f":"G364","v":0},null,null," "," ",null,0,null,{"$f":"(P364*$F$4)*24","v":0}]
["2022-09-04","Søndag",null,null,null," "," ",{"$f":"IF(WEEKDAY(A365,2)=7,D365-C365+(D365<C365),IF(AND(WEEKDAY(A365,2)=6,D365<C365),ColTime($E$15,$E$16,#REF!,D365),0))","v":0}," ",{"$f":"H365","v":0},null,null," "," ",null,0,null,{"$f":"(P365*$H$4)*24","v":0}]
[null,null,null,null,null,null,null,null,null,null,null,null,{"$f":"SUM(M359:M365)","v":0},"Uge Timer I alt",null,{"$f":"SUM(P359:P365)+M366","v":0}]
[]
[36,"Uge dag","Start  indtast som:     tt:mm","Slut  indtast som:     tt:mm","Normal ArbejdsTid  Incl. Pause","Overtid 50%"," Overtid 100%\nMan-lør","Overtid 100%\nSøndag","Tid     Fratrukket Timebank (Afspasering)","Tid Indsat I Timebank, OVERTID timer","Afholdt Pause","Fri uden løn indtast som:    tt:mm","Time sygeløn indtast som:    tt:mm","Ferie Dag antal","Ferie Penge Beløb","I alt",null,"Løn","I alt"]
[{"$f":"DATE($A$17,1,7*A368-3-WEEKDAY(DATE($A$17,,),3))","v":"2022-09-05"},{"$f":"HelligdagsNavn(A369,1,1,1,1,1,1,1)","v":"Mandag"},null,null,{"$f":"IF(WEEKDAY(A369,2)<6,ColTime($D$6,$D$7,C369,D369),0)*IF(C369>0,D369>0)","v":0},{"$f":"IF(WEEKDAY(A369,2)<6,ColTime($G$6,$G$7,C369,D369),0)+IF(WEEKDAY(A369,2)<6,ColTime($E$6,$E$7,C369,D369),0)*IF(C369>0,D369>0)","v":0},{"$f":"IF(WEEKDAY(A369,2)<6,ColTime($F$6,$F$7,C369,D369),0)*IF(C369>0,D369>0)","v":0},null,{"$f":"IF(E369=0,0,($D$7-$D$6)-E369)","v":0},{"$f":"IF(E369=0,0,($D$7-$D$6)-($D$7-$D$6))+F369+G369","v":0},{"$f":"IF(AND($O$8>=C369,D369>=$P$8),$K$15,0)+IF(AND($O$9<=D369,$P$9<=D369),$K$16,0)","v":0},null,0,null,{"$f":"IF(E369=0,M369=0,)*SUM(($N$4/$N$2*N369))","v":0},{"$f":"SUM(E369:I369)-IF(C369>0,D369>0)*K369-L369","v":0},null,{"$f":"(((IF(E369>0,)+(P369*$B$4))+(F369*$C$4)+(G369*$D$4)+(M369*$M$4)))*24+O369","v":0},0]
["2022-09-06","Tirsdag",null,null,{"$f":"IF(WEEKDAY(A370,2)<6,ColTime($D$6,$D$7,C370,D370),0)*IF(C370>0,D370>0)","v":0},{"$f":"IF(WEEKDAY(A370,2)<6,ColTime($G$6,$G$7,C370,D370),0)+IF(WEEKDAY(A370,2)<6,ColTime($E$6,$E$7,C370,D370),0)*IF(C370>0,D370>0)","v":0},{"$f":"IF(WEEKDAY(A370,2)<6,ColTime($F$6,$F$7,C370,D370),0)*IF(C370>0,D370>0)","v":0},null,0,0,0,null,0,null,0,0,null,0]
["2022-09-07","Onsdag",null,null,{"$f":"IF(WEEKDAY(A371,2)<6,ColTime($D$6,$D$7,C371,D371),0)*IF(C371>0,D371>0)","v":0},{"$f":"IF(WEEKDAY(A371,2)<6,ColTime($G$6,$G$7,C371,D371),0)+IF(WEEKDAY(A371,2)<6,ColTime($E$6,$E$7,C371,D371),0)*IF(C371>0,D371>0)","v":0},{"$f":"IF(WEEKDAY(A371,2)<6,ColTime($F$6,$F$7,C371,D371),0)*IF(C371>0,D371>0)","v":0},null,0,0,0,null,0,null,0,0,null,0]
["2022-09-08","Torsdag",null,null,{"$f":"IF(WEEKDAY(A372,2)<6,ColTime($D$6,$D$7,C372,D372),0)*IF(C372>0,D372>0)","v":0},{"$f":"IF(WEEKDAY(A372,2)<6,ColTime($G$6,$G$7,C372,D372),0)+IF(WEEKDAY(A372,2)<6,ColTime($E$6,$E$7,C372,D372),0)*IF(C372>0,D372>0)","v":0},{"$f":"IF(WEEKDAY(A372,2)<6,ColTime($F$6,$F$7,C372,D372),0)*IF(C372>0,D372>0)","v":0},null,0,0,0,null,0,null,0,0,null,0]
["2022-09-09","Fredag",null,null,{"$f":"IF(WEEKDAY(A373,2)<6,ColTime($D$6,$D$7,C373,D373),0)*IF(C373>0,D373>0)","v":0},{"$f":"IF(WEEKDAY(A373,2)<6,ColTime($G$6,$G$7,C373,D373),0)+IF(WEEKDAY(A373,2)<6,ColTime($E$6,$E$7,C373,D373),0)*IF(C373>0,D373>0)","v":0},{"$f":"IF(WEEKDAY(A373,2)<6,ColTime($F$6,$F$7,C373,D373),0)*IF(C373>0,D373>0)","v":0},null,{"$f":"IF(E373=0,0,($D$10-$D$9)-E373)","v":0},0,0,null,0,null,0,0,null,0]
[{"$f":"A373+1","v":"2022-09-10"},"Lørdag",null,null," ","  ",{"$f":"IF(WEEKDAY(A374,2)=6,ColTime($E$12,$E$13,C374,D374),0)","v":0},null," ",{"$f":"G374","v":0},null,null," "," ",null,0,null,{"$f":"(P374*$F$4)*24","v":0}]
["2022-09-11","Søndag",null,null,null," "," ",{"$f":"IF(WEEKDAY(A375,2)=7,D375-C375+(D375<C375),IF(AND(WEEKDAY(A375,2)=6,D375<C375),ColTime($E$15,$E$16,#REF!,D375),0))","v":0}," ",{"$f":"H375","v":0},null,null," "," ",null,0,null,{"$f":"(P375*$H$4)*24","v":0}]
[null,null,null,null,null,null,null,null,null,null,null,null,{"$f":"SUM(M369:M375)","v":0},"Uge Timer I alt",null,{"$f":"SUM(P369:P375)+M376","v":0}]
[]
[37,"Uge dag","Start  indtast som:     tt:mm","Slut  indtast som:     tt:mm","Normal ArbejdsTid  Incl. Pause","Overtid 50%"," Overtid 100%\nMan-lør","Overtid 100%\nSøndag","Tid     Fratrukket Timebank (Afspasering)","Tid Indsat I Timebank, OVERTID timer","Afholdt Pause","Fri uden løn indtast som:    tt:mm","Time sygeløn indtast som:    tt:mm","Ferie Dag antal","Ferie Penge Beløb","I alt",null,"Løn","I alt"]
[{"$f":"DATE($A$17,1,7*A378-3-WEEKDAY(DATE($A$17,,),3))","v":"2022-09-12"},{"$f":"HelligdagsNavn(A379,1,1,1,1,1,1,1)","v":"Mandag"},null,null,{"$f":"IF(WEEKDAY(A379,2)<6,ColTime($D$6,$D$7,C379,D379),0)*IF(C379>0,D379>0)","v":0},{"$f":"IF(WEEKDAY(A379,2)<6,ColTime($G$6,$G$7,C379,D379),0)+IF(WEEKDAY(A379,2)<6,ColTime($E$6,$E$7,C379,D379),0)*IF(C379>0,D379>0)","v":0},{"$f":"IF(WEEKDAY(A379,2)<6,ColTime($F$6,$F$7,C379,D379),0)*IF(C379>0,D379>0)","v":0},null,{"$f":"IF(E379=0,0,($D$7-$D$6)-E379)","v":0},{"$f":"IF(E379=0,0,($D$7-$D$6)-($D$7-$D$6))+F379+G379","v":0},{"$f":"IF(AND($O$8>=C379,D379>=$P$8),$K$15,0)+IF(AND($O$9<=D379,$P$9<=D379),$K$16,0)","v":0},null,0,null,{"$f":"IF(E379=0,M379=0,)*SUM(($N$4/$N$2*N379))","v":0},{"$f":"SUM(E379:I379)-IF(C379>0,D379>0)*K379-L379","v":0},null,{"$f":"(((IF(E379>0,)+(P379*$B$4))+(F379*$C$4)+(G379*$D$4)+(M379*$M$4)))*24+O379","v":0},{"$f":"SUM(R379:R385)","v":0}]
["2022-09-13","Tirsdag",null,null,{"$f":"IF(WEEKDAY(A380,2)<6,ColTime($D$6,$D$7,C380,D380),0)*IF(C380>0,D380>0)","v":0},{"$f":"IF(WEEKDAY(A380,2)<6,ColTime($G$6,$G$7,C380,D380),0)+IF(WEEKDAY(A380,2)<6,ColTime($E$6,$E$7,C380,D380),0)*IF(C380>0,D380>0)","v":0},{"$f":"IF(WEEKDAY(A380,2)<6,ColTime($F$6,$F$7,C380,D380),0)*IF(C380>0,D380>0)","v":0},null,0,0,0,null,0,null,0,0,null,0]
["2022-09-14","Onsdag",null,null,{"$f":"IF(WEEKDAY(A381,2)<6,ColTime($D$6,$D$7,C381,D381),0)*IF(C381>0,D381>0)","v":0},{"$f":"IF(WEEKDAY(A381,2)<6,ColTime($G$6,$G$7,C381,D381),0)+IF(WEEKDAY(A381,2)<6,ColTime($E$6,$E$7,C381,D381),0)*IF(C381>0,D381>0)","v":0},{"$f":"IF(WEEKDAY(A381,2)<6,ColTime($F$6,$F$7,C381,D381),0)*IF(C381>0,D381>0)","v":0},null,0,0,0,null,0,null,0,0,null,0,null,"September Løn","Samlet Timer I Perioden"]
["2022-09-15","Torsdag",null,null,{"$f":"IF(WEEKDAY(A382,2)<6,ColTime($D$6,$D$7,C382,D382),0)*IF(C382>0,D382>0)","v":0},{"$f":"IF(WEEKDAY(A382,2)<6,ColTime($G$6,$G$7,C382,D382),0)+IF(WEEKDAY(A382,2)<6,ColTime($E$6,$E$7,C382,D382),0)*IF(C382>0,D382>0)","v":0},{"$f":"IF(WEEKDAY(A382,2)<6,ColTime($F$6,$F$7,C382,D382),0)*IF(C382>0,D382>0)","v":0},null,0,0,0,null,0,null,0,0,null,0]
["2022-09-16","Fredag",null,null,{"$f":"IF(WEEKDAY(A383,2)<6,ColTime($D$6,$D$7,C383,D383),0)*IF(C383>0,D383>0)","v":0},{"$f":"IF(WEEKDAY(A383,2)<6,ColTime($G$6,$G$7,C383,D383),0)+IF(WEEKDAY(A383,2)<6,ColTime($E$6,$E$7,C383,D383),0)*IF(C383>0,D383>0)","v":0},{"$f":"IF(WEEKDAY(A383,2)<6,ColTime($F$6,$F$7,C383,D383),0)*IF(C383>0,D383>0)","v":0},null,{"$f":"IF(E383=0,0,($D$10-$D$9)-E383)","v":0},0,0,null,0,null,0,0,null,0]
["2022-09-17","Lørdag",null,null," ","  ",{"$f":"IF(WEEKDAY(A384,2)=6,ColTime($E$12,$E$13,C384,D384),0)","v":0},null," ",{"$f":"G384","v":0},null,null," "," ",null,0,null,{"$f":"(P384*$F$4)*24","v":0}]
["2022-09-18","Søndag",null,null,null," "," ",{"$f":"IF(WEEKDAY(A385,2)=7,D385-C385+(D385<C385),IF(AND(WEEKDAY(A385,2)=6,D385<C385),ColTime($E$15,$E$16,#REF!,D385),0))","v":0}," ",{"$f":"H385","v":0},null,null," "," ",null,0,null,{"$f":"(P385*$H$4)*24","v":0},null,{"$f":"SUMIFS($R:$R,$A:$A,\">=\"&DATE($A$17,8,21),$A:$A,\"<=\"&DATE($A$17,9,20))","v":0},{"$f":"SUMIFS($M:$M,$A:$A,\">=\"&DATE($A$17,8,21),$A:$A,\"<=\"&DATE($A$17,9,20))+SUMIFS($P:$P,$A:$A,\">=\"&DATE($A$17,8,21),$A:$A,\"<=\"&DATE($A$17,9,20))","v":0}]
[null,null,null,null,null,null,null,null,null,null,null,null,{"$f":"SUM(M379:M385)","v":0},"Uge Timer I alt",null,{"$f":"SUM(P379:P385)+M386","v":0}]
[]
[38,"Uge dag","Start  indtast som:     tt:mm","Slut  indtast som:     tt:mm","Normal ArbejdsTid  Incl. Pause","Overtid 50%"," Overtid 100%\nMan-lør","Overtid 100%\nSøndag","Tid     Fratrukket Timebank (Afspasering)","Tid Indsat I Timebank, OVERTID timer","Afholdt Pause","Fri uden løn indtast som:    tt:mm","Time sygeløn indtast som:    tt:mm","Ferie Dag antal","Ferie Penge Beløb","I alt",null,"Løn","I alt"]
[{"$f":"DATE($A$17,1,7*A388-3-WEEKDAY(DATE($A$17,,),3))","v":"2022-09-19"},{"$f":"HelligdagsNavn(A389,1,1,1,1,1,1,1)","v":"Mandag"},null,null,{"$f":"IF(WEEKDAY(A389,2)<6,ColTime($D$6,$D$7,C389,D389),0)*IF(C389>0,D389>0)","v":0},{"$f":"IF(WEEKDAY(A389,2)<6,ColTime($G$6,$G$7,C389,D389),0)+IF(WEEKDAY(A389,2)<6,ColTime($E$6,$E$7,C389,D389),0)*IF(C389>0,D389>0)","v":0},{"$f":"IF(WEEKDAY(A389,2)<6,ColTime($F$6,$F$7,C389,D389),0)*IF(C389>0,D389>0)","v":0},null,{"$f":"IF(E389=0,0,($D$7-$D$6)-E389)","v":0},{"$f":"IF(E389=0,0,($D$7-$D$6)-($D$7-$D$6))+F389+G389","v":0},{"$f":"IF(AND($O$8>=C389,D389>=$P$8),$K$15,0)+IF(AND($O$9<=D389,$P$9<=D389),$K$16,0)","v":0},null,0,null,{"$f":"IF(E389=0,M389=0,)*SUM(($N$4/$N$2*N389))","v":0},{"$f":"SUM(E389:I389)-IF(C389>0,D389>0)*K389-L389","v":0},null,{"$f":"(((IF(E389>0,)+(P389*$B$4))+(F389*$C$4)+(G389*$D$4)+(M389*$M$4)))*24+O389","v":0},0]
["2022-09-20","Tirsdag",null,null,{"$f":"IF(WEEKDAY(A390,2)<6,ColTime($D$6,$D$7,C390,D390),0)*IF(C390>0,D390>0)","v":0},{"$f":"IF(WEEKDAY(A390,2)<6,ColTime($G$6,$G$7,C390,D390),0)+IF(WEEKDAY(A390,2)<6,ColTime($E$6,$E$7,C390,D390),0)*IF(C390>0,D390>0)","v":0},{"$f":"IF(WEEKDAY(A390,2)<6,ColTime($F$6,$F$7,C390,D390),0)*IF(C390>0,D390>0)","v":0},null,0,0,0,null,0,null,0,0,null,0]
["2022-09-21","Onsdag",null,null,{"$f":"IF(WEEKDAY(A391,2)<6,ColTime($D$6,$D$7,C391,D391),0)*IF(C391>0,D391>0)","v":0},{"$f":"IF(WEEKDAY(A391,2)<6,ColTime($G$6,$G$7,C391,D391),0)+IF(WEEKDAY(A391,2)<6,ColTime($E$6,$E$7,C391,D391),0)*IF(C391>0,D391>0)","v":0},{"$f":"IF(WEEKDAY(A391,2)<6,ColTime($F$6,$F$7,C391,D391),0)*IF(C391>0,D391>0)","v":0},null,0,0,0,null,0,null,0,0,null,0]
["2022-09-22","Torsdag",null,null,{"$f":"IF(WEEKDAY(A392,2)<6,ColTime($D$6,$D$7,C392,D392),0)*IF(C392>0,D392>0)","v":0},{"$f":"IF(WEEKDAY(A392,2)<6,ColTime($G$6,$G$7,C392,D392),0)+IF(WEEKDAY(A392,2)<6,ColTime($E$6,$E$7,C392,D392),0)*IF(C392>0,D392>0)","v":0},{"$f":"IF(WEEKDAY(A392,2)<6,ColTime($F$6,$F$7,C392,D392),0)*IF(C392>0,D392>0)","v":0},null,0,0,0,null,0,null,0,0,null,0]
["2022-09-23","Fredag",null,null,{"$f":"IF(WEEKDAY(A393,2)<6,ColTime($D$6,$D$7,C393,D393),0)*IF(C393>0,D393>0)","v":0},{"$f":"IF(WEEKDAY(A393,2)<6,ColTime($G$6,$G$7,C393,D393),0)+IF(WEEKDAY(A393,2)<6,ColTime($E$6,$E$7,C393,D393),0)*IF(C393>0,D393>0)","v":0},{"$f":"IF(WEEKDAY(A393,2)<6,ColTime($F$6,$F$7,C393,D393),0)*IF(C393>0,D393>0)","v":0},null,{"$f":"IF(E393=0,0,($D$10-$D$9)-E393)","v":0},0,0,null,0,null,0,0,null,0]
["2022-09-24","Lørdag",null,null," ","  ",{"$f":"IF(WEEKDAY(A394,2)=6,ColTime($E$12,$E$13,C394,D394),0)","v":0},null," ",{"$f":"G394","v":0},null,null," "," ",null,0,null,{"$f":"(P394*$F$4)*24","v":0}]
["2022-09-25","Søndag",null,null,null," "," ",{"$f":"IF(WEEKDAY(A395,2)=7,D395-C395+(D395<C395),IF(AND(WEEKDAY(A395,2)=6,D395<C395),ColTime($E$15,$E$16,#REF!,D395),0))","v":0}," ",{"$f":"H395","v":0},null,null," "," ",null,0,null,{"$f":"(P395*$H$4)*24","v":0}]
[null,null,null,null,null,null,null,null,null,null,null,null,{"$f":"SUM(M389:M395)","v":0},"Uge Timer I alt",null,{"$f":"SUM(P389:P395)+M396","v":0}]
[]
[39,"Uge dag","Start  indtast som:     tt:mm","Slut  indtast som:     tt:mm","Normal ArbejdsTid  Incl. Pause","Overtid 50%"," Overtid 100%\nMan-lør","Overtid 100%\nSøndag","Tid     Fratrukket Timebank (Afspasering)","Tid Indsat I Timebank, OVERTID timer","Afholdt Pause","Fri uden løn indtast som:    tt:mm","Time sygeløn indtast som:    tt:mm","Ferie Dag antal","Ferie Penge Beløb","I alt",null,"Løn","I alt"]
[{"$f":"DATE($A$17,1,7*A398-3-WEEKDAY(DATE($A$17,,),3))","v":"2022-09-26"},{"$f":"HelligdagsNavn(A399,1,1,1,1,1,1,1)","v":"Mandag"},null,null,{"$f":"IF(WEEKDAY(A399,2)<6,ColTime($D$6,$D$7,C399,D399),0)*IF(C399>0,D399>0)","v":0},{"$f":"IF(WEEKDAY(A399,2)<6,ColTime($G$6,$G$7,C399,D399),0)+IF(WEEKDAY(A399,2)<6,ColTime($E$6,$E$7,C399,D399),0)*IF(C399>0,D399>0)","v":0},{"$f":"IF(WEEKDAY(A399,2)<6,ColTime($F$6,$F$7,C399,D399),0)*IF(C399>0,D399>0)","v":0},null,{"$f":"IF(E399=0,0,($D$7-$D$6)-E399)","v":0},{"$f":"IF(E399=0,0,($D$7-$D$6)-($D$7-$D$6))+F399+G399","v":0},{"$f":"IF(AND($O$8>=C399,D399>=$P$8),$K$15,0)+IF(AND($O$9<=D399,$P$9<=D399),$K$16,0)","v":0},null,0,null,{"$f":"IF(E399=0,M399=0,)*SUM(($N$4/$N$2*N399))","v":0},{"$f":"SUM(E399:I399)-IF(C399>0,D399>0)*K399-L399","v":0},null,{"$f":"(((IF(E399>0,)+(P399*$B$4))+(F399*$C$4)+(G399*$D$4)+(M399*$M$4)))*24+O399","v":0},0]
["2022-09-27","Tirsdag",null,null,{"$f":"IF(WEEKDAY(A400,2)<6,ColTime($D$6,$D$7,C400,D400),0)*IF(C400>0,D400>0)","v":0},{"$f":"IF(WEEKDAY(A400,2)<6,ColTime($G$6,$G$7,C400,D400),0)+IF(WEEKDAY(A400,2)<6,ColTime($E$6,$E$7,C400,D400),0)*IF(C400>0,D400>0)","v":0},{"$f":"IF(WEEKDAY(A400,2)<6,ColTime($F$6,$F$7,C400,D400),0)*IF(C400>0,D400>0)","v":0},null,0,0,0,null,0,null,0,0,null,0]
["2022-09-28","Onsdag",null,null,{"$f":"IF(WEEKDAY(A401,2)<6,ColTime($D$6,$D$7,C401,D401),0)*IF(C401>0,D401>0)","v":0},{"$f":"IF(WEEKDAY(A401,2)<6,ColTime($G$6,$G$7,C401,D401),0)+IF(WEEKDAY(A401,2)<6,ColTime($E$6,$E$7,C401,D401),0)*IF(C401>0,D401>0)","v":0},{"$f":"IF(WEEKDAY(A401,2)<6,ColTime($F$6,$F$7,C401,D401),0)*IF(C401>0,D401>0)","v":0},null,0,0,0,null,0,null,0,0,null,0]
["2022-09-29","Torsdag",null,null,{"$f":"IF(WEEKDAY(A402,2)<6,ColTime($D$6,$D$7,C402,D402),0)*IF(C402>0,D402>0)","v":0},{"$f":"IF(WEEKDAY(A402,2)<6,ColTime($G$6,$G$7,C402,D402),0)+IF(WEEKDAY(A402,2)<6,ColTime($E$6,$E$7,C402,D402),0)*IF(C402>0,D402>0)","v":0},{"$f":"IF(WEEKDAY(A402,2)<6,ColTime($F$6,$F$7,C402,D402),0)*IF(C402>0,D402>0)","v":0},null,0,0,0,null,0,null,0,0,null,0]
["2022-09-30","Fredag",null,null,{"$f":"IF(WEEKDAY(A403,2)<6,ColTime($D$6,$D$7,C403,D403),0)*IF(C403>0,D403>0)","v":0},{"$f":"IF(WEEKDAY(A403,2)<6,ColTime($G$6,$G$7,C403,D403),0)+IF(WEEKDAY(A403,2)<6,ColTime($E$6,$E$7,C403,D403),0)*IF(C403>0,D403>0)","v":0},{"$f":"IF(WEEKDAY(A403,2)<6,ColTime($F$6,$F$7,C403,D403),0)*IF(C403>0,D403>0)","v":0},null,{"$f":"IF(E403=0,0,($D$10-$D$9)-E403)","v":0},0,0,null,0,null,0,0,null,0]
["2022-10-01","Lørdag",null,null," ","  ",{"$f":"IF(WEEKDAY(A404,2)=6,ColTime($E$12,$E$13,C404,D404),0)","v":0},null," ",{"$f":"G404","v":0},null,null," "," ",null,0,null,{"$f":"(P404*$F$4)*24","v":0}]
["2022-10-02","Søndag",null,null,null," "," ",{"$f":"IF(WEEKDAY(A405,2)=7,D405-C405+(D405<C405),IF(AND(WEEKDAY(A405,2)=6,D405<C405),ColTime($E$15,$E$16,#REF!,D405),0))","v":0}," ",{"$f":"H405","v":0},null,null," "," ",null,0,null,{"$f":"(P405*$H$4)*24","v":0}]
[null,null,null,null,null,null,null,null,null,null,null,null,{"$f":"SUM(M399:M405)","v":0},"Uge Timer I alt",null,{"$f":"SUM(P399:P405)+M406","v":0}]
[]
[40,"Uge dag","Start  indtast som:     tt:mm","Slut  indtast som:     tt:mm","Normal ArbejdsTid  Incl. Pause","Overtid 50%"," Overtid 100%\nMan-lør","Overtid 100%\nSøndag","Tid     Fratrukket Timebank (Afspasering)","Tid Indsat I Timebank, OVERTID timer","Afholdt Pause","Fri uden løn indtast som:    tt:mm","Time sygeløn indtast som:    tt:mm","Ferie Dag antal","Ferie Penge Beløb","I alt",null,"Løn","I alt"]
[{"$f":"DATE($A$17,1,7*A408-3-WEEKDAY(DATE($A$17,,),3))","v":"2022-10-03"},{"$f":"HelligdagsNavn(A409,1,1,1,1,1,1,1)","v":"Mandag"},null,null,{"$f":"IF(WEEKDAY(A409,2)<6,ColTime($D$6,$D$7,C409,D409),0)*IF(C409>0,D409>0)","v":0},{"$f":"IF(WEEKDAY(A409,2)<6,ColTime($G$6,$G$7,C409,D409),0)+IF(WEEKDAY(A409,2)<6,ColTime($E$6,$E$7,C409,D409),0)*IF(C409>0,D409>0)","v":0},{"$f":"IF(WEEKDAY(A409,2)<6,ColTime($F$6,$F$7,C409,D409),0)*IF(C409>0,D409>0)","v":0},null,{"$f":"IF(E409=0,0,($D$7-$D$6)-E409)","v":0},{"$f":"IF(E409=0,0,($D$7-$D$6)-($D$7-$D$6))+F409+G409","v":0},{"$f":"IF(AND($O$8>=C409,D409>=$P$8),$K$15,0)+IF(AND($O$9<=D409,$P$9<=D409),$K$16,0)","v":0},null,0,null,{"$f":"IF(E409=0,M409=0,)*SUM(($N$4/$N$2*N409))","v":0},{"$f":"SUM(E409:I409)-IF(C409>0,D409>0)*K409-L409","v":0},null,{"$f":"(((IF(E409>0,)+(P409*$B$4))+(F409*$C$4)+(G409*$D$4)+(M409*$M$4)))*24+O409","v":0},0]
["2022-10-04","Tirsdag",null,null,{"$f":"IF(WEEKDAY(A410,2)<6,ColTime($D$6,$D$7,C410,D410),0)*IF(C410>0,D410>0)","v":0},{"$f":"IF(WEEKDAY(A410,2)<6,ColTime($G$6,$G$7,C410,D410),0)+IF(WEEKDAY(A410,2)<6,ColTime($E$6,$E$7,C410,D410),0)*IF(C410>0,D410>0)","v":0},{"$f":"IF(WEEKDAY(A410,2)<6,ColTime($F$6,$F$7,C410,D410),0)*IF(C410>0,D410>0)","v":0},null,0,0,0,null,0,null,0,0,null,0]
["2022-10-05","Onsdag",null,null,{"$f":"IF(WEEKDAY(A411,2)<6,ColTime($D$6,$D$7,C411,D411),0)*IF(C411>0,D411>0)","v":0},{"$f":"IF(WEEKDAY(A411,2)<6,ColTime($G$6,$G$7,C411,D411),0)+IF(WEEKDAY(A411,2)<6,ColTime($E$6,$E$7,C411,D411),0)*IF(C411>0,D411>0)","v":0},{"$f":"IF(WEEKDAY(A411,2)<6,ColTime($F$6,$F$7,C411,D411),0)*IF(C411>0,D411>0)","v":0},null,0,0,0,null,0,null,0,0,null,0]
["2022-10-06","Torsdag",null,null,{"$f":"IF(WEEKDAY(A412,2)<6,ColTime($D$6,$D$7,C412,D412),0)*IF(C412>0,D412>0)","v":0},{"$f":"IF(WEEKDAY(A412,2)<6,ColTime($G$6,$G$7,C412,D412),0)+IF(WEEKDAY(A412,2)<6,ColTime($E$6,$E$7,C412,D412),0)*IF(C412>0,D412>0)","v":0},{"$f":"IF(WEEKDAY(A412,2)<6,ColTime($F$6,$F$7,C412,D412),0)*IF(C412>0,D412>0)","v":0},null,0,0,0,null,0,null,0,0,null,0]
["2022-10-07","Fredag",null,null,{"$f":"IF(WEEKDAY(A413,2)<6,ColTime($D$6,$D$7,C413,D413),0)*IF(C413>0,D413>0)","v":0},{"$f":"IF(WEEKDAY(A413,2)<6,ColTime($G$6,$G$7,C413,D413),0)+IF(WEEKDAY(A413,2)<6,ColTime($E$6,$E$7,C413,D413),0)*IF(C413>0,D413>0)","v":0},{"$f":"IF(WEEKDAY(A413,2)<6,ColTime($F$6,$F$7,C413,D413),0)*IF(C413>0,D413>0)","v":0},null,{"$f":"IF(E413=0,0,($D$10-$D$9)-E413)","v":0},0,0,null,0,null,0,0,null,0]
["2022-10-08","Lørdag",null,null," ","  ",{"$f":"IF(WEEKDAY(A414,2)=6,ColTime($E$12,$E$13,C414,D414),0)","v":0},null," ",{"$f":"G414","v":0},null,null," "," ",{"$error":"#VALUE!"},0,null,{"$f":"(P414*$F$4)*24","v":0}]
["2022-10-09","Søndag",null,null,null," "," ",{"$f":"IF(WEEKDAY(A415,2)=7,D415-C415+(D415<C415),IF(AND(WEEKDAY(A415,2)=6,D415<C415),ColTime($E$15,$E$16,#REF!,D415),0))","v":0}," ",{"$f":"H415","v":0},null,null," "," ",null,0,null,{"$f":"(P415*$H$4)*24","v":0}]
[null,null,null,null,null,null,null,null,null,null,null,null,{"$f":"SUM(M409:M415)","v":0},"Uge Timer I alt",null,{"$f":"SUM(P409:P415)+M416","v":0}]
[]
[41,"Uge dag","Start  indtast som:     tt:mm","Slut  indtast som:     tt:mm","Normal ArbejdsTid  Incl. Pause","Overtid 50%"," Overtid 100%\nMan-lør","Overtid 100%\nSøndag","Tid     Fratrukket Timebank (Afspasering)","Tid Indsat I Timebank, OVERTID timer","Afholdt Pause","Fri uden løn indtast som:    tt:mm","Time sygeløn indtast som:    tt:mm","Ferie Dag antal","Ferie Penge Beløb","I alt",null,"Løn","I alt"]
[{"$f":"DATE($A$17,1,7*A418-3-WEEKDAY(DATE($A$17,,),3))","v":"2022-10-10"},{"$f":"HelligdagsNavn(A419,1,1,1,1,1,1,1)","v":"Mandag"},null,null,{"$f":"IF(WEEKDAY(A419,2)<6,ColTime($D$6,$D$7,C419,D419),0)*IF(C419>0,D419>0)","v":0},{"$f":"IF(WEEKDAY(A419,2)<6,ColTime($G$6,$G$7,C419,D419),0)+IF(WEEKDAY(A419,2)<6,ColTime($E$6,$E$7,C419,D419),0)*IF(C419>0,D419>0)","v":0},{"$f":"IF(WEEKDAY(A419,2)<6,ColTime($F$6,$F$7,C419,D419),0)*IF(C419>0,D419>0)","v":0},null,{"$f":"IF(E419=0,0,($D$7-$D$6)-E419)","v":0},{"$f":"IF(E419=0,0,($D$7-$D$6)-($D$7-$D$6))+F419+G419","v":0},{"$f":"IF(AND($O$8>=C419,D419>=$P$8),$K$15,0)+IF(AND($O$9<=D419,$P$9<=D419),$K$16,0)","v":0},null,0,null,{"$f":"IF(E419=0,M419=0,)*SUM(($N$4/$N$2*N419))","v":0},{"$f":"SUM(E419:I419)-IF(C419>0,D419>0)*K419-L419","v":0},null,{"$f":"(((IF(E419>0,)+(P419*$B$4))+(F419*$C$4)+(G419*$D$4)+(M419*$M$4)))*24+O419","v":0},0]
["2022-10-11","Tirsdag",null,null,{"$f":"IF(WEEKDAY(A420,2)<6,ColTime($D$6,$D$7,C420,D420),0)*IF(C420>0,D420>0)","v":0},{"$f":"IF(WEEKDAY(A420,2)<6,ColTime($G$6,$G$7,C420,D420),0)+IF(WEEKDAY(A420,2)<6,ColTime($E$6,$E$7,C420,D420),0)*IF(C420>0,D420>0)","v":0},{"$f":"IF(WEEKDAY(A420,2)<6,ColTime($F$6,$F$7,C420,D420),0)*IF(C420>0,D420>0)","v":0},null,0,0,0,null,0,null,0,0,null,0]
["2022-10-12","Onsdag",null,null,{"$f":"IF(WEEKDAY(A421,2)<6,ColTime($D$6,$D$7,C421,D421),0)*IF(C421>0,D421>0)","v":0},{"$f":"IF(WEEKDAY(A421,2)<6,ColTime($G$6,$G$7,C421,D421),0)+IF(WEEKDAY(A421,2)<6,ColTime($E$6,$E$7,C421,D421),0)*IF(C421>0,D421>0)","v":0},{"$f":"IF(WEEKDAY(A421,2)<6,ColTime($F$6,$F$7,C421,D421),0)*IF(C421>0,D421>0)","v":0},null,0,0,0,null,0,null,0,0,null,0]
["2022-10-13","Torsdag",null,null,{"$f":"IF(WEEKDAY(A422,2)<6,ColTime($D$6,$D$7,C422,D422),0)*IF(C422>0,D422>0)","v":0},{"$f":"IF(WEEKDAY(A422,2)<6,ColTime($G$6,$G$7,C422,D422),0)+IF(WEEKDAY(A422,2)<6,ColTime($E$6,$E$7,C422,D422),0)*IF(C422>0,D422>0)","v":0},{"$f":"IF(WEEKDAY(A422,2)<6,ColTime($F$6,$F$7,C422,D422),0)*IF(C422>0,D422>0)","v":0},null,0,0,0,null,0,null,0,0,null,0]
["2022-10-14","Fredag",null,null,{"$f":"IF(WEEKDAY(A423,2)<6,ColTime($D$6,$D$7,C423,D423),0)*IF(C423>0,D423>0)","v":0},{"$f":"IF(WEEKDAY(A423,2)<6,ColTime($G$6,$G$7,C423,D423),0)+IF(WEEKDAY(A423,2)<6,ColTime($E$6,$E$7,C423,D423),0)*IF(C423>0,D423>0)","v":0},{"$f":"IF(WEEKDAY(A423,2)<6,ColTime($F$6,$F$7,C423,D423),0)*IF(C423>0,D423>0)","v":0},null,{"$f":"IF(E423=0,0,($D$10-$D$9)-E423)","v":0},0,0,null,0,null,0,0,null,0]
["2022-10-15","Lørdag",null,null," ","  ",{"$f":"IF(WEEKDAY(A424,2)=6,ColTime($E$12,$E$13,C424,D424),0)","v":0},null," ",{"$f":"G424","v":0},null,null," "," ",null,0,null,{"$f":"(P424*$F$4)*24","v":0}]
["2022-10-16","Søndag",null,null,null," "," ",{"$f":"IF(WEEKDAY(A425,2)=7,D425-C425+(D425<C425),IF(AND(WEEKDAY(A425,2)=6,D425<C425),ColTime($E$15,$E$16,#REF!,D425),0))","v":0}," ",{"$f":"H425","v":0},null,null," "," ",null,0,null,{"$f":"(P425*$H$4)*24","v":0}]
[null,null,null,null,null,null,null,null,null,null,null,null,{"$f":"SUM(M419:M425)","v":0},"Uge Timer I alt",null,{"$f":"SUM(P419:P425)+M426","v":0}]
[]
[42,"Uge dag","Start  indtast som:     tt:mm","Slut  indtast som:     tt:mm","Normal ArbejdsTid  Incl. Pause","Overtid 50%"," Overtid 100%\nMan-lør","Overtid 100%\nSøndag","Tid     Fratrukket Timebank (Afspasering)","Tid Indsat I Timebank, OVERTID timer","Afholdt Pause","Fri uden løn indtast som:    tt:mm","Time sygeløn indtast som:    tt:mm","Ferie Dag antal","Ferie Penge Beløb","I alt",null,"Løn","I alt","Oktober Løn","Samlet Timer I Perioden"]
[{"$f":"DATE($A$17,1,7*A428-3-WEEKDAY(DATE($A$17,,),3))","v":"2022-10-17"},{"$f":"HelligdagsNavn(A429,1,1,1,1,1,1,1)","v":"Mandag"},null,null,{"$f":"IF(WEEKDAY(A429,2)<6,ColTime($D$6,$D$7,C429,D429),0)*IF(C429>0,D429>0)","v":0},{"$f":"IF(WEEKDAY(A429,2)<6,ColTime($G$6,$G$7,C429,D429),0)+IF(WEEKDAY(A429,2)<6,ColTime($E$6,$E$7,C429,D429),0)*IF(C429>0,D429>0)","v":0},{"$f":"IF(WEEKDAY(A429,2)<6,ColTime($F$6,$F$7,C429,D429),0)*IF(C429>0,D429>0)","v":0},null,{"$f":"IF(E429=0,0,($D$7-$D$6)-E429)","v":0},{"$f":"IF(E429=0,0,($D$7-$D$6)-($D$7-$D$6))+F429+G429","v":0},{"$f":"IF(AND($O$8>=C429,D429>=$P$8),$K$15,0)+IF(AND($O$9<=D429,$P$9<=D429),$K$16,0)","v":0},null,0,null,{"$f":"IF(E429=0,M429=0,)*SUM(($N$4/$N$2*N429))","v":0},{"$f":"SUM(E429:I429)-IF(C429>0,D429>0)*K429-L429","v":0},null,{"$f":"(((IF(E429>0,)+(P429*$B$4))+(F429*$C$4)+(G429*$D$4)+(M429*$M$4)))*24+O429","v":0},{"$f":"SUM(R429:R435)","v":0}]
["2022-10-18","Tirsdag",null,null,{"$f":"IF(WEEKDAY(A430,2)<6,ColTime($D$6,$D$7,C430,D430),0)*IF(C430>0,D430>0)","v":0},{"$f":"IF(WEEKDAY(A430,2)<6,ColTime($G$6,$G$7,C430,D430),0)+IF(WEEKDAY(A430,2)<6,ColTime($E$6,$E$7,C430,D430),0)*IF(C430>0,D430>0)","v":0},{"$f":"IF(WEEKDAY(A430,2)<6,ColTime($F$6,$F$7,C430,D430),0)*IF(C430>0,D430>0)","v":0},null,0,0,0,null,0,null,0,0,null,0,null,{"$f":"SUMIFS($R:$R,$A:$A,\">=\"&DATE($A$17,9,21),$A:$A,\"<=\"&DATE($A$17,10,20))","v":0},{"$f":"SUMIFS($M:$M,$A:$A,\">=\"&DATE($A$17,9,21),$A:$A,\"<=\"&DATE($A$17,10,20))+SUMIFS($P:$P,$A:$A,\">=\"&DATE($A$17,9,21),$A:$A,\"<=\"&DATE($A$17,10,20))","v":0}]
["2022-10-19","Onsdag",null,null,{"$f":"IF(WEEKDAY(A431,2)<6,ColTime($D$6,$D$7,C431,D431),0)*IF(C431>0,D431>0)","v":0},{"$f":"IF(WEEKDAY(A431,2)<6,ColTime($G$6,$G$7,C431,D431),0)+IF(WEEKDAY(A431,2)<6,ColTime($E$6,$E$7,C431,D431),0)*IF(C431>0,D431>0)","v":0},{"$f":"IF(WEEKDAY(A431,2)<6,ColTime($F$6,$F$7,C431,D431),0)*IF(C431>0,D431>0)","v":0},null,0,0,0,null,0,null,0,0,null,0]
["2022-10-20","Torsdag",null,null,{"$f":"IF(WEEKDAY(A432,2)<6,ColTime($D$6,$D$7,C432,D432),0)*IF(C432>0,D432>0)","v":0},{"$f":"IF(WEEKDAY(A432,2)<6,ColTime($G$6,$G$7,C432,D432),0)+IF(WEEKDAY(A432,2)<6,ColTime($E$6,$E$7,C432,D432),0)*IF(C432>0,D432>0)","v":0},{"$f":"IF(WEEKDAY(A432,2)<6,ColTime($F$6,$F$7,C432,D432),0)*IF(C432>0,D432>0)","v":0},null,0,0,0,null,0,null,0,0,null,0]
["2022-10-21","Fredag",null,null,{"$f":"IF(WEEKDAY(A433,2)<6,ColTime($D$6,$D$7,C433,D433),0)*IF(C433>0,D433>0)","v":0},{"$f":"IF(WEEKDAY(A433,2)<6,ColTime($G$6,$G$7,C433,D433),0)+IF(WEEKDAY(A433,2)<6,ColTime($E$6,$E$7,C433,D433),0)*IF(C433>0,D433>0)","v":0},{"$f":"IF(WEEKDAY(A433,2)<6,ColTime($F$6,$F$7,C433,D433),0)*IF(C433>0,D433>0)","v":0},null,{"$f":"IF(E433=0,0,($D$10-$D$9)-E433)","v":0},0,0,null,0,null,0,0,null,0]
["2022-10-22","Lørdag",null,null," ","  ",{"$f":"IF(WEEKDAY(A434,2)=6,ColTime($E$12,$E$13,C434,D434),0)","v":0},null," ",{"$f":"G434","v":0},null,null," "," ",null,0,null,{"$f":"(P434*$F$4)*24","v":0}]
["2022-10-23","Søndag",null,null,null," "," ",{"$f":"IF(WEEKDAY(A435,2)=7,D435-C435+(D435<C435),IF(AND(WEEKDAY(A435,2)=6,D435<C435),ColTime($E$15,$E$16,#REF!,D435),0))","v":0}," ",{"$f":"H435","v":0},null,null," "," ",null,0,null,{"$f":"(P435*$H$4)*24","v":0}]
[null,null,null,null,null,null,null,null,null,null,null,null,{"$f":"SUM(M429:M435)","v":0},"Uge Timer I alt",null,{"$f":"SUM(P429:P435)+M436","v":0}]
[]
[43,"Uge dag","Start  indtast som:     tt:mm","Slut  indtast som:     tt:mm","Normal ArbejdsTid  Incl. Pause","Overtid 50%"," Overtid 100%\nMan-lør","Overtid 100%\nSøndag","Tid     Fratrukket Timebank (Afspasering)","Tid Indsat I Timebank, OVERTID timer","Afholdt Pause","Fri uden løn indtast som:    tt:mm","Time sygeløn indtast som:    tt:mm","Ferie Dag antal","Ferie Penge Beløb","I alt",null,"Løn","I alt"]
[{"$f":"DATE($A$17,1,7*A438-3-WEEKDAY(DATE($A$17,,),3))","v":"2022-10-24"},{"$f":"HelligdagsNavn(A439,1,1,1,1,1,1,1)","v":"Mandag"},null,null,{"$f":"IF(WEEKDAY(A439,2)<6,ColTime($D$6,$D$7,C439,D439),0)*IF(C439>0,D439>0)","v":0},{"$f":"IF(WEEKDAY(A439,2)<6,ColTime($G$6,$G$7,C439,D439),0)+IF(WEEKDAY(A439,2)<6,ColTime($E$6,$E$7,C439,D439),0)*IF(C439>0,D439>0)","v":0},{"$f":"IF(WEEKDAY(A439,2)<6,ColTime($F$6,$F$7,C439,D439),0)*IF(C439>0,D439>0)","v":0},null,{"$f":"IF(E439=0,0,($D$7-$D$6)-E439)","v":0},{"$f":"IF(E439=0,0,($D$7-$D$6)-($D$7-$D$6))+F439+G439","v":0},{"$f":"IF(AND($O$8>=C439,D439>=$P$8),$K$15,0)+IF(AND($O$9<=D439,$P$9<=D439),$K$16,0)","v":0},null,0,null,{"$f":"IF(E439=0,M439=0,)*SUM(($N$4/$N$2*N439))","v":0},{"$f":"SUM(E439:I439)-IF(C439>0,D439>0)*K439-L439","v":0},null,{"$f":"(((IF(E439>0,)+(P439*$B$4))+(F439*$C$4)+(G439*$D$4)+(M439*$M$4)))*24+O439","v":0},{"$f":"SUM(R439:R445)","v":0}]
[{"$f":"A439+1","v":"2022-10-25"},"Tirsdag",null,null,{"$f":"IF(WEEKDAY(A440,2)<6,ColTime($D$6,$D$7,C440,D440),0)*IF(C440>0,D440>0)","v":0},{"$f":"IF(WEEKDAY(A440,2)<6,ColTime($G$6,$G$7,C440,D440),0)+IF(WEEKDAY(A440,2)<6,ColTime($E$6,$E$7,C440,D440),0)*IF(C440>0,D440>0)","v":0},{"$f":"IF(WEEKDAY(A440,2)<6,ColTime($F$6,$F$7,C440,D440),0)*IF(C440>0,D440>0)","v":0},null,0,0,0,null,0,null,0,0,null,0]
["2022-10-26","Onsdag",null,null,{"$f":"IF(WEEKDAY(A441,2)<6,ColTime($D$6,$D$7,C441,D441),0)*IF(C441>0,D441>0)","v":0},{"$f":"IF(WEEKDAY(A441,2)<6,ColTime($G$6,$G$7,C441,D441),0)+IF(WEEKDAY(A441,2)<6,ColTime($E$6,$E$7,C441,D441),0)*IF(C441>0,D441>0)","v":0},{"$f":"IF(WEEKDAY(A441,2)<6,ColTime($F$6,$F$7,C441,D441),0)*IF(C441>0,D441>0)","v":0},null,0,0,0,null,0,null,0,0,null,0]
["2022-10-27","Torsdag",null,null,{"$f":"IF(WEEKDAY(A442,2)<6,ColTime($D$6,$D$7,C442,D442),0)*IF(C442>0,D442>0)","v":0},{"$f":"IF(WEEKDAY(A442,2)<6,ColTime($G$6,$G$7,C442,D442),0)+IF(WEEKDAY(A442,2)<6,ColTime($E$6,$E$7,C442,D442),0)*IF(C442>0,D442>0)","v":0},{"$f":"IF(WEEKDAY(A442,2)<6,ColTime($F$6,$F$7,C442,D442),0)*IF(C442>0,D442>0)","v":0},null,0,0,0,null,0,null,0,0,null,0]
["2022-10-28","Fredag",null,null,{"$f":"IF(WEEKDAY(A443,2)<6,ColTime($D$6,$D$7,C443,D443),0)*IF(C443>0,D443>0)","v":0},{"$f":"IF(WEEKDAY(A443,2)<6,ColTime($G$6,$G$7,C443,D443),0)+IF(WEEKDAY(A443,2)<6,ColTime($E$6,$E$7,C443,D443),0)*IF(C443>0,D443>0)","v":0},{"$f":"IF(WEEKDAY(A443,2)<6,ColTime($F$6,$F$7,C443,D443),0)*IF(C443>0,D443>0)","v":0},null,{"$f":"IF(E443=0,0,($D$10-$D$9)-E443)","v":0},0,0,null,0,null,0,0,null,0]
["2022-10-29","Lørdag",null,null," ","  ",{"$f":"IF(WEEKDAY(A444,2)=6,ColTime($E$12,$E$13,C444,D444),0)","v":0},null," ",{"$f":"G444","v":0},null,null," "," ",null,0,null,{"$f":"(P444*$F$4)*24","v":0}]
["2022-10-30","Søndag",null,null,null," "," ",{"$f":"IF(WEEKDAY(A445,2)=7,D445-C445+(D445<C445),IF(AND(WEEKDAY(A445,2)=6,D445<C445),ColTime($E$15,$E$16,#REF!,D445),0))","v":0}," ",{"$f":"H445","v":0},null,null," "," ",null,0,null,{"$f":"(P445*$H$4)*24","v":0}]
[null,null,null,null,null,null,null,null,null,null,null,null,{"$f":"SUM(M439:M445)","v":0},"Uge Timer I alt",null,{"$f":"SUM(P439:P445)+M446","v":0}]
[]
[44,"Uge dag","Start  indtast som:     tt:mm","Slut  indtast som:     tt:mm","Normal ArbejdsTid  Incl. Pause","Overtid 50%"," Overtid 100%\nMan-lør","Overtid 100%\nSøndag","Tid     Fratrukket Timebank (Afspasering)","Tid Indsat I Timebank, OVERTID timer","Afholdt Pause","Fri uden løn indtast som:    tt:mm","Time sygeløn indtast som:    tt:mm","Ferie Dag antal","Ferie Penge Beløb","I alt",null,"Løn","I alt"]
[{"$f":"DATE($A$17,1,7*A448-3-WEEKDAY(DATE($A$17,,),3))","v":"2022-10-31"},{"$f":"HelligdagsNavn(A449,1,1,1,1,1,1,1)","v":"Mandag"},null,null,{"$f":"IF(WEEKDAY(A449,2)<6,ColTime($D$6,$D$7,C449,D449),0)*IF(C449>0,D449>0)","v":0},{"$f":"IF(WEEKDAY(A449,2)<6,ColTime($G$6,$G$7,C449,D449),0)+IF(WEEKDAY(A449,2)<6,ColTime($E$6,$E$7,C449,D449),0)*IF(C449>0,D449>0)","v":0},{"$f":"IF(WEEKDAY(A449,2)<6,ColTime($F$6,$F$7,C449,D449),0)*IF(C449>0,D449>0)","v":0},null,{"$f":"IF(E449=0,0,($D$7-$D$6)-E449)","v":0},{"$f":"IF(E449=0,0,($D$7-$D$6)-($D$7-$D$6))+F449+G449","v":0},{"$f":"IF(AND($O$8>=C449,D449>=$P$8),$K$15,0)+IF(AND($O$9<=D449,$P$9<=D449),$K$16,0)","v":0},null,0,null,{"$f":"IF(E449=0,M449=0,)*SUM(($N$4/$N$2*N449))","v":0},{"$f":"SUM(E449:I449)-IF(C449>0,D449>0)*K449-L449","v":0},null,{"$f":"(((IF(E449>0,)+(P449*$B$4))+(F449*$C$4)+(G449*$D$4)+(M449*$M$4)))*24+O449","v":0},{"$f":"SUM(R449:R455)","v":0}]
["2022-11-01","Tirsdag",null,null,{"$f":"IF(WEEKDAY(A450,2)<6,ColTime($D$6,$D$7,C450,D450),0)*IF(C450>0,D450>0)","v":0},{"$f":"IF(WEEKDAY(A450,2)<6,ColTime($G$6,$G$7,C450,D450),0)+IF(WEEKDAY(A450,2)<6,ColTime($E$6,$E$7,C450,D450),0)*IF(C450>0,D450>0)","v":0},{"$f":"IF(WEEKDAY(A450,2)<6,ColTime($F$6,$F$7,C450,D450),0)*IF(C450>0,D450>0)","v":0},null,0,0,0,null,0,null,0,0,null,0]
["2022-11-02","Onsdag",null,null,{"$f":"IF(WEEKDAY(A451,2)<6,ColTime($D$6,$D$7,C451,D451),0)*IF(C451>0,D451>0)","v":0},{"$f":"IF(WEEKDAY(A451,2)<6,ColTime($G$6,$G$7,C451,D451),0)+IF(WEEKDAY(A451,2)<6,ColTime($E$6,$E$7,C451,D451),0)*IF(C451>0,D451>0)","v":0},{"$f":"IF(WEEKDAY(A451,2)<6,ColTime($F$6,$F$7,C451,D451),0)*IF(C451>0,D451>0)","v":0},null,0,0,0,null,0,null,0,0,null,0]
["2022-11-03","Torsdag",null,null,{"$f":"IF(WEEKDAY(A452,2)<6,ColTime($D$6,$D$7,C452,D452),0)*IF(C452>0,D452>0)","v":0},{"$f":"IF(WEEKDAY(A452,2)<6,ColTime($G$6,$G$7,C452,D452),0)+IF(WEEKDAY(A452,2)<6,ColTime($E$6,$E$7,C452,D452),0)*IF(C452>0,D452>0)","v":0},{"$f":"IF(WEEKDAY(A452,2)<6,ColTime($F$6,$F$7,C452,D452),0)*IF(C452>0,D452>0)","v":0},null,0,0,0,null,0,null,0,0,null,0]
["2022-11-04","Fredag",null,null,{"$f":"IF(WEEKDAY(A453,2)<6,ColTime($D$6,$D$7,C453,D453),0)*IF(C453>0,D453>0)","v":0},{"$f":"IF(WEEKDAY(A453,2)<6,ColTime($G$6,$G$7,C453,D453),0)+IF(WEEKDAY(A453,2)<6,ColTime($E$6,$E$7,C453,D453),0)*IF(C453>0,D453>0)","v":0},{"$f":"IF(WEEKDAY(A453,2)<6,ColTime($F$6,$F$7,C453,D453),0)*IF(C453>0,D453>0)","v":0},null,{"$f":"IF(E453=0,0,($D$10-$D$9)-E453)","v":0},0,0,null,0,null,0,0,null,0]
["2022-11-05","Lørdag",null,null," ","  ",{"$f":"IF(WEEKDAY(A454,2)=6,ColTime($E$12,$E$13,C454,D454),0)","v":0},null," ",{"$f":"G454","v":0},null,null," "," ",null,0,null,{"$f":"(P454*$F$4)*24","v":0}]
["2022-11-06","Søndag",null,null,null," "," ",{"$f":"IF(WEEKDAY(A455,2)=7,D455-C455+(D455<C455),IF(AND(WEEKDAY(A455,2)=6,D455<C455),ColTime($E$15,$E$16,#REF!,D455),0))","v":0}," ",{"$f":"H455","v":0},null,null," "," ",null,0,null,{"$f":"(P455*$H$4)*24","v":0}]
[null,null,null,null,null,null,null,null,null,null,null,null,{"$f":"SUM(M449:M455)","v":0},"Uge Timer I alt",null,{"$f":"SUM(P449:P455)+M456","v":0}]
[]
[45,"Uge dag","Start  indtast som:     tt:mm","Slut  indtast som:     tt:mm","Normal ArbejdsTid  Incl. Pause","Overtid 50%"," Overtid 100%\nMan-lør","Overtid 100%\nSøndag","Tid     Fratrukket Timebank (Afspasering)","Tid Indsat I Timebank, OVERTID timer","Afholdt Pause","Fri uden løn indtast som:    tt:mm","Time sygeløn indtast som:    tt:mm","Ferie Dag antal","Ferie Penge Beløb","I alt",null,"Løn","I alt"]
[{"$f":"DATE($A$17,1,7*A458-3-WEEKDAY(DATE($A$17,,),3))","v":"2022-11-07"},{"$f":"HelligdagsNavn(A459,1,1,1,1,1,1,1)","v":"Mandag"},null,null,{"$f":"IF(WEEKDAY(A459,2)<6,ColTime($D$6,$D$7,C459,D459),0)*IF(C459>0,D459>0)","v":0},{"$f":"IF(WEEKDAY(A459,2)<6,ColTime($G$6,$G$7,C459,D459),0)+IF(WEEKDAY(A459,2)<6,ColTime($E$6,$E$7,C459,D459),0)*IF(C459>0,D459>0)","v":0},{"$f":"IF(WEEKDAY(A459,2)<6,ColTime($F$6,$F$7,C459,D459),0)*IF(C459>0,D459>0)","v":0},null,{"$f":"IF(E459=0,0,($D$7-$D$6)-E459)","v":0},{"$f":"IF(E459=0,0,($D$7-$D$6)-($D$7-$D$6))+F459+G459","v":0},{"$f":"IF(AND($O$8>=C459,D459>=$P$8),$K$15,0)+IF(AND($O$9<=D459,$P$9<=D459),$K$16,0)","v":0},null,0,null,{"$f":"IF(E459=0,M459=0,)*SUM(($N$4/$N$2*N459))","v":0},{"$f":"SUM(E459:I459)-IF(C459>0,D459>0)*K459-L459","v":0},null,{"$f":"(((IF(E459>0,)+(P459*$B$4))+(F459*$C$4)+(G459*$D$4)+(M459*$M$4)))*24+O459","v":0},0]
["2022-11-08","Tirsdag",null,null,{"$f":"IF(WEEKDAY(A460,2)<6,ColTime($D$6,$D$7,C460,D460),0)*IF(C460>0,D460>0)","v":0},{"$f":"IF(WEEKDAY(A460,2)<6,ColTime($G$6,$G$7,C460,D460),0)+IF(WEEKDAY(A460,2)<6,ColTime($E$6,$E$7,C460,D460),0)*IF(C460>0,D460>0)","v":0},{"$f":"IF(WEEKDAY(A460,2)<6,ColTime($F$6,$F$7,C460,D460),0)*IF(C460>0,D460>0)","v":0},null,0,0,0,null,0,null,0,0,null,0]
["2022-11-09","Onsdag",null,null,{"$f":"IF(WEEKDAY(A461,2)<6,ColTime($D$6,$D$7,C461,D461),0)*IF(C461>0,D461>0)","v":0},{"$f":"IF(WEEKDAY(A461,2)<6,ColTime($G$6,$G$7,C461,D461),0)+IF(WEEKDAY(A461,2)<6,ColTime($E$6,$E$7,C461,D461),0)*IF(C461>0,D461>0)","v":0},{"$f":"IF(WEEKDAY(A461,2)<6,ColTime($F$6,$F$7,C461,D461),0)*IF(C461>0,D461>0)","v":0},null,0,0,0,null,0,null,0,0,null,0]
["2022-11-10","Torsdag",null,null,{"$f":"IF(WEEKDAY(A462,2)<6,ColTime($D$6,$D$7,C462,D462),0)*IF(C462>0,D462>0)","v":0},{"$f":"IF(WEEKDAY(A462,2)<6,ColTime($G$6,$G$7,C462,D462),0)+IF(WEEKDAY(A462,2)<6,ColTime($E$6,$E$7,C462,D462),0)*IF(C462>0,D462>0)","v":0},{"$f":"IF(WEEKDAY(A462,2)<6,ColTime($F$6,$F$7,C462,D462),0)*IF(C462>0,D462>0)","v":0},null,0,0,0,null,0,null,0,0,null,0]
["2022-11-11","Fredag",null,null,{"$f":"IF(WEEKDAY(A463,2)<6,ColTime($D$6,$D$7,C463,D463),0)*IF(C463>0,D463>0)","v":0},{"$f":"IF(WEEKDAY(A463,2)<6,ColTime($G$6,$G$7,C463,D463),0)+IF(WEEKDAY(A463,2)<6,ColTime($E$6,$E$7,C463,D463),0)*IF(C463>0,D463>0)","v":0},{"$f":"IF(WEEKDAY(A463,2)<6,ColTime($F$6,$F$7,C463,D463),0)*IF(C463>0,D463>0)","v":0},null,{"$f":"IF(E463=0,0,($D$10-$D$9)-E463)","v":0},0,0,null,0,null,0,0,null,0]
["2022-11-12","Lørdag",null,null," ","  ",{"$f":"IF(WEEKDAY(A464,2)=6,ColTime($E$12,$E$13,C464,D464),0)","v":0},null," ",{"$f":"G464","v":0},null,null," "," ",null,0,null,{"$f":"(P464*$F$4)*24","v":0}]
["2022-11-13","Søndag",null,null,null," "," ",{"$f":"IF(WEEKDAY(A465,2)=7,D465-C465+(D465<C465),IF(AND(WEEKDAY(A465,2)=6,D465<C465),ColTime($E$15,$E$16,#REF!,D465),0))","v":0}," ",{"$f":"H465","v":0},null,null," "," ",null,0,null,{"$f":"(P465*$H$4)*24","v":0}]
[null,null,null,null,null,null,null,null,null,null,null,null,{"$f":"SUM(M459:M465)","v":0},"Uge Timer I alt",null,{"$f":"SUM(P459:P465)+M466","v":0}]
[]
[46,"Uge dag","Start  indtast som:     tt:mm","Slut  indtast som:     tt:mm","Normal ArbejdsTid  Incl. Pause","Overtid 50%"," Overtid 100%\nMan-lør","Overtid 100%\nSøndag","Tid     Fratrukket Timebank (Afspasering)","Tid Indsat I Timebank, OVERTID timer","Afholdt Pause","Fri uden løn indtast som:    tt:mm","Time sygeløn indtast som:    tt:mm","Ferie Dag antal","Ferie Penge Beløb","I alt",null,"Løn","I alt"]
[{"$f":"DATE($A$17,1,7*A468-3-WEEKDAY(DATE($A$17,,),3))","v":"2022-11-14"},{"$f":"HelligdagsNavn(A469,1,1,1,1,1,1,1)","v":"Mandag"},null,null,{"$f":"IF(WEEKDAY(A469,2)<6,ColTime($D$6,$D$7,C469,D469),0)*IF(C469>0,D469>0)","v":0},{"$f":"IF(WEEKDAY(A469,2)<6,ColTime($G$6,$G$7,C469,D469),0)+IF(WEEKDAY(A469,2)<6,ColTime($E$6,$E$7,C469,D469),0)*IF(C469>0,D469>0)","v":0},{"$f":"IF(WEEKDAY(A469,2)<6,ColTime($F$6,$F$7,C469,D469),0)*IF(C469>0,D469>0)","v":0},null,{"$f":"IF(E469=0,0,($D$7-$D$6)-E469)","v":0},{"$f":"IF(E469=0,0,($D$7-$D$6)-($D$7-$D$6))+F469+G469","v":0},{"$f":"IF(AND($O$8>=C469,D469>=$P$8),$K$15,0)+IF(AND($O$9<=D469,$P$9<=D469),$K$16,0)","v":0},null,0,null,{"$f":"IF(E469=0,M469=0,)*SUM(($N$4/$N$2*N469))","v":0},{"$f":"SUM(E469:I469)-IF(C469>0,D469>0)*K469-L469","v":0},null,{"$f":"(((IF(E469>0,)+(P469*$B$4))+(F469*$C$4)+(G469*$D$4)+(M469*$M$4)))*24+O469","v":0},{"$f":"SUM(R469:R475)","v":0},"November Løn","Samlet Timer I Perioden"]
["2022-11-15","Tirsdag",null,null,{"$f":"IF(WEEKDAY(A470,2)<6,ColTime($D$6,$D$7,C470,D470),0)*IF(C470>0,D470>0)","v":0},{"$f":"IF(WEEKDAY(A470,2)<6,ColTime($G$6,$G$7,C470,D470),0)+IF(WEEKDAY(A470,2)<6,ColTime($E$6,$E$7,C470,D470),0)*IF(C470>0,D470>0)","v":0},{"$f":"IF(WEEKDAY(A470,2)<6,ColTime($F$6,$F$7,C470,D470),0)*IF(C470>0,D470>0)","v":0},null,0,0,0,null,0,null,0,0,null,0]
["2022-11-16","Onsdag",null,null,{"$f":"IF(WEEKDAY(A471,2)<6,ColTime($D$6,$D$7,C471,D471),0)*IF(C471>0,D471>0)","v":0},{"$f":"IF(WEEKDAY(A471,2)<6,ColTime($G$6,$G$7,C471,D471),0)+IF(WEEKDAY(A471,2)<6,ColTime($E$6,$E$7,C471,D471),0)*IF(C471>0,D471>0)","v":0},{"$f":"IF(WEEKDAY(A471,2)<6,ColTime($F$6,$F$7,C471,D471),0)*IF(C471>0,D471>0)","v":0},null,0,0,0,null,0,null,0,0,null,0]
["2022-11-17","Torsdag",null,null,{"$f":"IF(WEEKDAY(A472,2)<6,ColTime($D$6,$D$7,C472,D472),0)*IF(C472>0,D472>0)","v":0},{"$f":"IF(WEEKDAY(A472,2)<6,ColTime($G$6,$G$7,C472,D472),0)+IF(WEEKDAY(A472,2)<6,ColTime($E$6,$E$7,C472,D472),0)*IF(C472>0,D472>0)","v":0},{"$f":"IF(WEEKDAY(A472,2)<6,ColTime($F$6,$F$7,C472,D472),0)*IF(C472>0,D472>0)","v":0},null,0,0,0,null,0,null,0,0,null,0]
["2022-11-18","Fredag",null,null,{"$f":"IF(WEEKDAY(A473,2)<6,ColTime($D$6,$D$7,C473,D473),0)*IF(C473>0,D473>0)","v":0},{"$f":"IF(WEEKDAY(A473,2)<6,ColTime($G$6,$G$7,C473,D473),0)+IF(WEEKDAY(A473,2)<6,ColTime($E$6,$E$7,C473,D473),0)*IF(C473>0,D473>0)","v":0},{"$f":"IF(WEEKDAY(A473,2)<6,ColTime($F$6,$F$7,C473,D473),0)*IF(C473>0,D473>0)","v":0},null,{"$f":"IF(E473=0,0,($D$10-$D$9)-E473)","v":0},0,0,null,0,null,0,0,null,0,null,{"$f":"SUMIFS($R:$R,$A:$A,\">=\"&DATE($A$17,10,21),$A:$A,\"<=\"&DATE($A$17,11,20))","v":0},{"$f":"SUMIFS($M:$M,$A:$A,\">=\"&DATE($A$17,10,21),$A:$A,\"<=\"&DATE($A$17,11,20))+SUMIFS($P:$P,$A:$A,\">=\"&DATE($A$17,10,21),$A:$A,\"<=\"&DATE($A$17,11,20))","v":0}]
["2022-11-19","Lørdag",null,null," ","  ",{"$f":"IF(WEEKDAY(A474,2)=6,ColTime($E$12,$E$13,C474,D474),0)","v":0},null," ",{"$f":"G474","v":0},null,null," "," ",null,0,null,{"$f":"(P474*$F$4)*24","v":0}]
["2022-11-20","Søndag",null,null,null," "," ",{"$f":"IF(WEEKDAY(A475,2)=7,D475-C475+(D475<C475),IF(AND(WEEKDAY(A475,2)=6,D475<C475),ColTime($E$15,$E$16,#REF!,D475),0))","v":0}," ",{"$f":"H475","v":0},null,null," "," ",null,0,null,{"$f":"(P475*$H$4)*24","v":0}]
[null,null,null,null,null,null,null,null,null,null,null,null,{"$f":"SUM(M469:M475)","v":0},"Uge Timer I alt",null,{"$f":"SUM(P469:P475)+M476","v":0}]
[]
[47,"Uge dag","Start  indtast som:     tt:mm","Slut  indtast som:     tt:mm","Normal ArbejdsTid  Incl. Pause","Overtid 50%"," Overtid 100%\nMan-lør","Overtid 100%\nSøndag","Tid     Fratrukket Timebank (Afspasering)","Tid Indsat I Timebank, OVERTID timer","Afholdt Pause","Fri uden løn indtast som:    tt:mm","Time sygeløn indtast som:    tt:mm","Ferie Dag antal","Ferie Penge Beløb","I alt",null,"Løn","I alt"]
[{"$f":"DATE($A$17,1,7*A478-3-WEEKDAY(DATE($A$17,,),3))","v":"2022-11-21"},{"$f":"HelligdagsNavn(A479,1,1,1,1,1,1,1)","v":"Mandag"},null,null,{"$f":"IF(WEEKDAY(A479,2)<6,ColTime($D$6,$D$7,C479,D479),0)*IF(C479>0,D479>0)","v":0},{"$f":"IF(WEEKDAY(A479,2)<6,ColTime($G$6,$G$7,C479,D479),0)+IF(WEEKDAY(A479,2)<6,ColTime($E$6,$E$7,C479,D479),0)*IF(C479>0,D479>0)","v":0},{"$f":"IF(WEEKDAY(A479,2)<6,ColTime($F$6,$F$7,C479,D479),0)*IF(C479>0,D479>0)","v":0},null,{"$f":"IF(E479=0,0,($D$7-$D$6)-E479)","v":0},{"$f":"IF(E479=0,0,($D$7-$D$6)-($D$7-$D$6))+F479+G479","v":0},{"$f":"IF(AND($O$8>=C479,D479>=$P$8),$K$15,0)+IF(AND($O$9<=D479,$P$9<=D479),$K$16,0)","v":0},null,0,null,{"$f":"IF(E479=0,M479=0,)*SUM(($N$4/$N$2*N479))","v":0},{"$f":"SUM(E479:I479)-IF(C479>0,D479>0)*K479-L479","v":0},null,{"$f":"(((IF(E479>0,)+(P479*$B$4))+(F479*$C$4)+(G479*$D$4)+(M479*$M$4)))*24+O479","v":0},{"$f":"SUM(R479:R485)","v":0}]
["2022-11-22","Tirsdag",null,null,{"$f":"IF(WEEKDAY(A480,2)<6,ColTime($D$6,$D$7,C480,D480),0)*IF(C480>0,D480>0)","v":0},{"$f":"IF(WEEKDAY(A480,2)<6,ColTime($G$6,$G$7,C480,D480),0)+IF(WEEKDAY(A480,2)<6,ColTime($E$6,$E$7,C480,D480),0)*IF(C480>0,D480>0)","v":0},{"$f":"IF(WEEKDAY(A480,2)<6,ColTime($F$6,$F$7,C480,D480),0)*IF(C480>0,D480>0)","v":0},null,0,0,0,null,0,null,0,0,null,0]
["2022-11-23","Onsdag",null,null,{"$f":"IF(WEEKDAY(A481,2)<6,ColTime($D$6,$D$7,C481,D481),0)*IF(C481>0,D481>0)","v":0},{"$f":"IF(WEEKDAY(A481,2)<6,ColTime($G$6,$G$7,C481,D481),0)+IF(WEEKDAY(A481,2)<6,ColTime($E$6,$E$7,C481,D481),0)*IF(C481>0,D481>0)","v":0},{"$f":"IF(WEEKDAY(A481,2)<6,ColTime($F$6,$F$7,C481,D481),0)*IF(C481>0,D481>0)","v":0},null,0,0,0,null,0,null,0,0,null,0]
["2022-11-24","Torsdag",null,null,{"$f":"IF(WEEKDAY(A482,2)<6,ColTime($D$6,$D$7,C482,D482),0)*IF(C482>0,D482>0)","v":0},{"$f":"IF(WEEKDAY(A482,2)<6,ColTime($G$6,$G$7,C482,D482),0)+IF(WEEKDAY(A482,2)<6,ColTime($E$6,$E$7,C482,D482),0)*IF(C482>0,D482>0)","v":0},{"$f":"IF(WEEKDAY(A482,2)<6,ColTime($F$6,$F$7,C482,D482),0)*IF(C482>0,D482>0)","v":0},null,0,0,0,null,0,null,0,0,null,0]
["2022-11-25","Fredag",null,null,{"$f":"IF(WEEKDAY(A483,2)<6,ColTime($D$6,$D$7,C483,D483),0)*IF(C483>0,D483>0)","v":0},{"$f":"IF(WEEKDAY(A483,2)<6,ColTime($G$6,$G$7,C483,D483),0)+IF(WEEKDAY(A483,2)<6,ColTime($E$6,$E$7,C483,D483),0)*IF(C483>0,D483>0)","v":0},{"$f":"IF(WEEKDAY(A483,2)<6,ColTime($F$6,$F$7,C483,D483),0)*IF(C483>0,D483>0)","v":0},null,{"$f":"IF(E483=0,0,($D$10-$D$9)-E483)","v":0},0,0,null,0,null,0,0,null,0]
["2022-11-26","Lørdag",null,null," ","  ",{"$f":"IF(WEEKDAY(A484,2)=6,ColTime($E$12,$E$13,C484,D484),0)","v":0},null," ",{"$f":"G484","v":0},null,null," "," ",null,0,null,{"$f":"(P484*$F$4)*24","v":0}]
["2022-11-27","Søndag",null,null,null," "," ",{"$f":"IF(WEEKDAY(A485,2)=7,D485-C485+(D485<C485),IF(AND(WEEKDAY(A485,2)=6,D485<C485),ColTime($E$15,$E$16,#REF!,D485),0))","v":0}," ",{"$f":"H485","v":0},null,null," "," ",null,0,null,{"$f":"(P485*$H$4)*24","v":0}]
[null,null,null,null,null,null,null,null,null,null,null,null,{"$f":"SUM(M479:M485)","v":0},"Uge Timer I alt",null,{"$f":"SUM(P479:P485)+M486","v":0}]
[]
[48,"Uge dag","Start  indtast som:     tt:mm","Slut  indtast som:     tt:mm","Normal ArbejdsTid  Incl. Pause","Overtid 50%"," Overtid 100%\nMan-lør","Overtid 100%\nSøndag","Tid     Fratrukket Timebank (Afspasering)","Tid Indsat I Timebank, OVERTID timer","Afholdt Pause","Fri uden løn indtast som:    tt:mm","Time sygeløn indtast som:    tt:mm","Ferie Dag antal","Ferie Penge Beløb","I alt",null,"Løn","I alt"]
[{"$f":"DATE($A$17,1,7*A488-3-WEEKDAY(DATE($A$17,,),3))","v":"2022-11-28"},{"$f":"HelligdagsNavn(A489,1,1,1,1,1,1,1)","v":"Mandag"},null,null,{"$f":"IF(WEEKDAY(A489,2)<6,ColTime($D$6,$D$7,C489,D489),0)*IF(C489>0,D489>0)","v":0},{"$f":"IF(WEEKDAY(A489,2)<6,ColTime($G$6,$G$7,C489,D489),0)+IF(WEEKDAY(A489,2)<6,ColTime($E$6,$E$7,C489,D489),0)*IF(C489>0,D489>0)","v":0},{"$f":"IF(WEEKDAY(A489,2)<6,ColTime($F$6,$F$7,C489,D489),0)*IF(C489>0,D489>0)","v":0},null,{"$f":"IF(E489=0,0,($D$7-$D$6)-E489)","v":0},{"$f":"IF(E489=0,0,($D$7-$D$6)-($D$7-$D$6))+F489+G489","v":0},{"$f":"IF(AND($O$8>=C489,D489>=$P$8),$K$15,0)+IF(AND($O$9<=D489,$P$9<=D489),$K$16,0)","v":0},null,0,null,{"$f":"IF(E489=0,M489=0,)*SUM(($N$4/$N$2*N489))","v":0},{"$f":"SUM(E489:I489)-IF(C489>0,D489>0)*K489-L489","v":0},null,{"$f":"(((IF(E489>0,)+(P489*$B$4))+(F489*$C$4)+(G489*$D$4)+(M489*$M$4)))*24+O489","v":0},0]
["2022-11-29","Tirsdag",null,null,{"$f":"IF(WEEKDAY(A490,2)<6,ColTime($D$6,$D$7,C490,D490),0)*IF(C490>0,D490>0)","v":0},{"$f":"IF(WEEKDAY(A490,2)<6,ColTime($G$6,$G$7,C490,D490),0)+IF(WEEKDAY(A490,2)<6,ColTime($E$6,$E$7,C490,D490),0)*IF(C490>0,D490>0)","v":0},{"$f":"IF(WEEKDAY(A490,2)<6,ColTime($F$6,$F$7,C490,D490),0)*IF(C490>0,D490>0)","v":0},null,0,0,0,null,0,null,0,0,null,0]
["2022-11-30","Onsdag",null,null,{"$f":"IF(WEEKDAY(A491,2)<6,ColTime($D$6,$D$7,C491,D491),0)*IF(C491>0,D491>0)","v":0},{"$f":"IF(WEEKDAY(A491,2)<6,ColTime($G$6,$G$7,C491,D491),0)+IF(WEEKDAY(A491,2)<6,ColTime($E$6,$E$7,C491,D491),0)*IF(C491>0,D491>0)","v":0},{"$f":"IF(WEEKDAY(A491,2)<6,ColTime($F$6,$F$7,C491,D491),0)*IF(C491>0,D491>0)","v":0},null,0,0,0,null,0,null,0,0,null,0]
["2022-12-01","Torsdag",null,null,{"$f":"IF(WEEKDAY(A492,2)<6,ColTime($D$6,$D$7,C492,D492),0)*IF(C492>0,D492>0)","v":0},{"$f":"IF(WEEKDAY(A492,2)<6,ColTime($G$6,$G$7,C492,D492),0)+IF(WEEKDAY(A492,2)<6,ColTime($E$6,$E$7,C492,D492),0)*IF(C492>0,D492>0)","v":0},{"$f":"IF(WEEKDAY(A492,2)<6,ColTime($F$6,$F$7,C492,D492),0)*IF(C492>0,D492>0)","v":0},null,0,0,0,null,0,null,0,0,null,0]
["2022-12-02","Fredag",null,null,{"$f":"IF(WEEKDAY(A493,2)<6,ColTime($D$6,$D$7,C493,D493),0)*IF(C493>0,D493>0)","v":0},{"$f":"IF(WEEKDAY(A493,2)<6,ColTime($G$6,$G$7,C493,D493),0)+IF(WEEKDAY(A493,2)<6,ColTime($E$6,$E$7,C493,D493),0)*IF(C493>0,D493>0)","v":0},{"$f":"IF(WEEKDAY(A493,2)<6,ColTime($F$6,$F$7,C493,D493),0)*IF(C493>0,D493>0)","v":0},null,{"$f":"IF(E493=0,0,($D$10-$D$9)-E493)","v":0},0,0,null,0,null,0,0,null,0]
["2022-12-03","Lørdag",null,null," ","  ",{"$f":"IF(WEEKDAY(A494,2)=6,ColTime($E$12,$E$13,C494,D494),0)","v":0},null," ",{"$f":"G494","v":0},null,null," "," ",null,0,null,{"$f":"(P494*$F$4)*24","v":0}]
["2022-12-04","Søndag",null,null,null," "," ",{"$f":"IF(WEEKDAY(A495,2)=7,D495-C495+(D495<C495),IF(AND(WEEKDAY(A495,2)=6,D495<C495),ColTime($E$15,$E$16,#REF!,D495),0))","v":0}," ",{"$f":"H495","v":0},null,null," "," ",null,0,null,{"$f":"(P495*$H$4)*24","v":0}]
[null,null,null,null,null,null,null,null,null,null,null,null,{"$f":"SUM(M489:M495)","v":0},"Uge Timer I alt",null,{"$f":"SUM(P489:P495)+M496","v":0}]
[]
[49,"Uge dag","Start  indtast som:     tt:mm","Slut  indtast som:     tt:mm","Normal ArbejdsTid  Incl. Pause","Overtid 50%"," Overtid 100%\nMan-lør","Overtid 100%\nSøndag","Tid     Fratrukket Timebank (Afspasering)","Tid Indsat I Timebank, OVERTID timer","Afholdt Pause","Fri uden løn indtast som:    tt:mm","Time sygeløn indtast som:    tt:mm","Ferie Dag antal","Ferie Penge Beløb","I alt",null,"Løn","I alt"]
[{"$f":"DATE($A$17,1,7*A498-3-WEEKDAY(DATE($A$17,,),3))","v":"2022-12-05"},{"$f":"HelligdagsNavn(A499,1,1,1,1,1,1,1)","v":"Mandag"},null,null,{"$f":"IF(WEEKDAY(A499,2)<6,ColTime($D$6,$D$7,C499,D499),0)*IF(C499>0,D499>0)","v":0},{"$f":"IF(WEEKDAY(A499,2)<6,ColTime($G$6,$G$7,C499,D499),0)+IF(WEEKDAY(A499,2)<6,ColTime($E$6,$E$7,C499,D499),0)*IF(C499>0,D499>0)","v":0},{"$f":"IF(WEEKDAY(A499,2)<6,ColTime($F$6,$F$7,C499,D499),0)*IF(C499>0,D499>0)","v":0},null,{"$f":"IF(E499=0,0,($D$7-$D$6)-E499)","v":0},{"$f":"IF(E499=0,0,($D$7-$D$6)-($D$7-$D$6))+F499+G499","v":0},{"$f":"IF(AND($O$8>=C499,D499>=$P$8),$K$15,0)+IF(AND($O$9<=D499,$P$9<=D499),$K$16,0)","v":0},null,0,null,{"$f":"IF(E499=0,M499=0,)*SUM(($N$4/$N$2*N499))","v":0},{"$f":"SUM(E499:I499)-IF(C499>0,D499>0)*K499-L499","v":0},null,{"$f":"(((IF(E499>0,)+(P499*$B$4))+(F499*$C$4)+(G499*$D$4)+(M499*$M$4)))*24+O499","v":0},0]
["2022-12-06","Tirsdag",null,null,{"$f":"IF(WEEKDAY(A500,2)<6,ColTime($D$6,$D$7,C500,D500),0)*IF(C500>0,D500>0)","v":0},{"$f":"IF(WEEKDAY(A500,2)<6,ColTime($G$6,$G$7,C500,D500),0)+IF(WEEKDAY(A500,2)<6,ColTime($E$6,$E$7,C500,D500),0)*IF(C500>0,D500>0)","v":0},{"$f":"IF(WEEKDAY(A500,2)<6,ColTime($F$6,$F$7,C500,D500),0)*IF(C500>0,D500>0)","v":0},null,0,0,0,null,0,null,0,0,null,0]
["2022-12-07","Onsdag",null,null,{"$f":"IF(WEEKDAY(A501,2)<6,ColTime($D$6,$D$7,C501,D501),0)*IF(C501>0,D501>0)","v":0},{"$f":"IF(WEEKDAY(A501,2)<6,ColTime($G$6,$G$7,C501,D501),0)+IF(WEEKDAY(A501,2)<6,ColTime($E$6,$E$7,C501,D501),0)*IF(C501>0,D501>0)","v":0},{"$f":"IF(WEEKDAY(A501,2)<6,ColTime($F$6,$F$7,C501,D501),0)*IF(C501>0,D501>0)","v":0},null,0,0,0,null,0,null,0,0,null,0]
["2022-12-08","Torsdag",null,null,{"$f":"IF(WEEKDAY(A502,2)<6,ColTime($D$6,$D$7,C502,D502),0)*IF(C502>0,D502>0)","v":0},{"$f":"IF(WEEKDAY(A502,2)<6,ColTime($G$6,$G$7,C502,D502),0)+IF(WEEKDAY(A502,2)<6,ColTime($E$6,$E$7,C502,D502),0)*IF(C502>0,D502>0)","v":0},{"$f":"IF(WEEKDAY(A502,2)<6,ColTime($F$6,$F$7,C502,D502),0)*IF(C502>0,D502>0)","v":0},null,0,0,0,null,0,null,0,0,null,0]
["2022-12-09","Fredag",null,null,{"$f":"IF(WEEKDAY(A503,2)<6,ColTime($D$6,$D$7,C503,D503),0)*IF(C503>0,D503>0)","v":0},{"$f":"IF(WEEKDAY(A503,2)<6,ColTime($G$6,$G$7,C503,D503),0)+IF(WEEKDAY(A503,2)<6,ColTime($E$6,$E$7,C503,D503),0)*IF(C503>0,D503>0)","v":0},{"$f":"IF(WEEKDAY(A503,2)<6,ColTime($F$6,$F$7,C503,D503),0)*IF(C503>0,D503>0)","v":0},null,{"$f":"IF(E503=0,0,($D$10-$D$9)-E503)","v":0},0,0,null,0,null,0,0,null,0]
[{"$f":"A503+1","v":"2022-12-10"},"Lørdag",null,null," ","  ",{"$f":"IF(WEEKDAY(A504,2)=6,ColTime($E$12,$E$13,C504,D504),0)","v":0},null," ",{"$f":"G504","v":0},null,null," "," ",null,0,null,{"$f":"(P504*$F$4)*24","v":0}]
["2022-12-11","Søndag",null,null,null," "," ",{"$f":"IF(WEEKDAY(A505,2)=7,D505-C505+(D505<C505),IF(AND(WEEKDAY(A505,2)=6,D505<C505),ColTime($E$15,$E$16,#REF!,D505),0))","v":0}," ",{"$f":"H505","v":0},null,null," "," ",null,0,null,{"$f":"(P505*$H$4)*24","v":0}]
[null,null,null,null,null,null,null,null,null,null,null,null,{"$f":"SUM(M499:M505)","v":0},"Uge Timer I alt",null,{"$f":"SUM(P499:P505)+M506","v":0}]
[]
[50,"Uge dag","Start  indtast som:     tt:mm","Slut  indtast som:     tt:mm","Normal ArbejdsTid  Incl. Pause","Overtid 50%"," Overtid 100%\nMan-lør","Overtid 100%\nSøndag","Tid     Fratrukket Timebank (Afspasering)","Tid Indsat I Timebank, OVERTID timer","Afholdt Pause","Fri uden løn indtast som:    tt:mm","Time sygeløn indtast som:    tt:mm","Ferie Dag antal","Ferie Penge Beløb","I alt",null,"Løn","I alt"]
[{"$f":"DATE($A$17,1,7*A508-3-WEEKDAY(DATE($A$17,,),3))","v":"2022-12-12"},{"$f":"HelligdagsNavn(A509,1,1,1,1,1,1,1)","v":"Mandag"},null,null,{"$f":"IF(WEEKDAY(A509,2)<6,ColTime($D$6,$D$7,C509,D509),0)*IF(C509>0,D509>0)","v":0},{"$f":"IF(WEEKDAY(A509,2)<6,ColTime($G$6,$G$7,C509,D509),0)+IF(WEEKDAY(A509,2)<6,ColTime($E$6,$E$7,C509,D509),0)*IF(C509>0,D509>0)","v":0},{"$f":"IF(WEEKDAY(A509,2)<6,ColTime($F$6,$F$7,C509,D509),0)*IF(C509>0,D509>0)","v":0},null,{"$f":"IF(E509=0,0,($D$7-$D$6)-E509)","v":0},{"$f":"IF(E509=0,0,($D$7-$D$6)-($D$7-$D$6))+F509+G509","v":0},{"$f":"IF(AND($O$8>=C509,D509>=$P$8),$K$15,0)+IF(AND($O$9<=D509,$P$9<=D509),$K$16,0)","v":0},null,0,null,{"$f":"IF(E509=0,M509=0,)*SUM(($N$4/$N$2*N509))","v":0},{"$f":"SUM(E509:I509)-IF(C509>0,D509>0)*K509-L509","v":0},null,{"$f":"(((IF(E509>0,)+(P509*$B$4))+(F509*$C$4)+(G509*$D$4)+(M509*$M$4)))*24+O509","v":0},0]
["2022-12-13","Tirsdag",null,null,{"$f":"IF(WEEKDAY(A510,2)<6,ColTime($D$6,$D$7,C510,D510),0)*IF(C510>0,D510>0)","v":0},{"$f":"IF(WEEKDAY(A510,2)<6,ColTime($G$6,$G$7,C510,D510),0)+IF(WEEKDAY(A510,2)<6,ColTime($E$6,$E$7,C510,D510),0)*IF(C510>0,D510>0)","v":0},{"$f":"IF(WEEKDAY(A510,2)<6,ColTime($F$6,$F$7,C510,D510),0)*IF(C510>0,D510>0)","v":0},null,0,0,0,null,0,null,0,0,null,0]
["2022-12-14","Onsdag",null,null,{"$f":"IF(WEEKDAY(A511,2)<6,ColTime($D$6,$D$7,C511,D511),0)*IF(C511>0,D511>0)","v":0},{"$f":"IF(WEEKDAY(A511,2)<6,ColTime($G$6,$G$7,C511,D511),0)+IF(WEEKDAY(A511,2)<6,ColTime($E$6,$E$7,C511,D511),0)*IF(C511>0,D511>0)","v":0},{"$f":"IF(WEEKDAY(A511,2)<6,ColTime($F$6,$F$7,C511,D511),0)*IF(C511>0,D511>0)","v":0},null,0,0,0,null,0,null,0,0,null,0,null,"December Løn","Samlet Timer I Perioden"]
["2022-12-15","Torsdag",null,null,{"$f":"IF(WEEKDAY(A512,2)<6,ColTime($D$6,$D$7,C512,D512),0)*IF(C512>0,D512>0)","v":0},{"$f":"IF(WEEKDAY(A512,2)<6,ColTime($G$6,$G$7,C512,D512),0)+IF(WEEKDAY(A512,2)<6,ColTime($E$6,$E$7,C512,D512),0)*IF(C512>0,D512>0)","v":0},{"$f":"IF(WEEKDAY(A512,2)<6,ColTime($F$6,$F$7,C512,D512),0)*IF(C512>0,D512>0)","v":0},null,0,0,0,null,0,null,0,0,null,0]
["2022-12-16","Fredag",null,null,{"$f":"IF(WEEKDAY(A513,2)<6,ColTime($D$6,$D$7,C513,D513),0)*IF(C513>0,D513>0)","v":0},{"$f":"IF(WEEKDAY(A513,2)<6,ColTime($G$6,$G$7,C513,D513),0)+IF(WEEKDAY(A513,2)<6,ColTime($E$6,$E$7,C513,D513),0)*IF(C513>0,D513>0)","v":0},{"$f":"IF(WEEKDAY(A513,2)<6,ColTime($F$6,$F$7,C513,D513),0)*IF(C513>0,D513>0)","v":0},null,{"$f":"IF(E513=0,0,($D$10-$D$9)-E513)","v":0},0,0,null,0,null,0,0,null,0]
["2022-12-17","Lørdag",null,null," ","  ",{"$f":"IF(WEEKDAY(A514,2)=6,ColTime($E$12,$E$13,C514,D514),0)","v":0},null," ",{"$f":"G514","v":0},null,null," "," ",null,0,null,{"$f":"(P514*$F$4)*24","v":0}]
["2022-12-18","Søndag",null,null,null," "," ",{"$f":"IF(WEEKDAY(A515,2)=7,D515-C515+(D515<C515),IF(AND(WEEKDAY(A515,2)=6,D515<C515),ColTime($E$15,$E$16,#REF!,D515),0))","v":0}," ",{"$f":"H515","v":0},null,null," "," ",null,0,null,{"$f":"(P515*$H$4)*24","v":0},null,{"$f":"SUMIFS($R:$R,$A:$A,\">=\"&DATE($A$17,11,21),$A:$A,\"<=\"&DATE($A$17,12,20))","v":0},{"$f":"SUMIFS($M:$M,$A:$A,\">=\"&DATE($A$17,11,21),$A:$A,\"<=\"&DATE($A$17,12,20))+SUMIFS($P:$P,$A:$A,\">=\"&DATE($A$17,11,21),$A:$A,\"<=\"&DATE($A$17,12,20))","v":0}]
[null,null,null,null,null,null,null,null,null,null,null,null,{"$f":"SUM(M509:M515)","v":0},"Uge Timer I alt",null,{"$f":"SUM(P509:P515)+M516","v":0}]
[]
[51,"Uge dag","Start  indtast som:     tt:mm","Slut  indtast som:     tt:mm","Normal ArbejdsTid  Incl. Pause","Overtid 50%"," Overtid 100%\nMan-lør","Overtid 100%\nSøndag","Tid     Fratrukket Timebank (Afspasering)","Tid Indsat I Timebank, OVERTID timer","Afholdt Pause","Fri uden løn indtast som:    tt:mm","Time sygeløn indtast som:    tt:mm","Ferie Dag antal","Ferie Penge Beløb","I alt",null,"Løn","I alt"]
[{"$f":"DATE($A$17,1,7*A518-3-WEEKDAY(DATE($A$17,,),3))","v":"2022-12-19"},{"$f":"HelligdagsNavn(A519,1,1,1,1,1,1,1)","v":"Mandag"},null,null,{"$f":"IF(WEEKDAY(A519,2)<6,ColTime($D$6,$D$7,C519,D519),0)*IF(C519>0,D519>0)","v":0},{"$f":"IF(WEEKDAY(A519,2)<6,ColTime($G$6,$G$7,C519,D519),0)+IF(WEEKDAY(A519,2)<6,ColTime($E$6,$E$7,C519,D519),0)*IF(C519>0,D519>0)","v":0},{"$f":"IF(WEEKDAY(A519,2)<6,ColTime($F$6,$F$7,C519,D519),0)*IF(C519>0,D519>0)","v":0},null,{"$f":"IF(E519=0,0,($D$7-$D$6)-E519)","v":0},{"$f":"IF(E519=0,0,($D$7-$D$6)-($D$7-$D$6))+F519+G519","v":0},{"$f":"IF(AND($O$8>=C519,D519>=$P$8),$K$15,0)+IF(AND($O$9<=D519,$P$9<=D519),$K$16,0)","v":0},null,0,null,{"$f":"IF(E519=0,M519=0,)*SUM(($N$4/$N$2*N519))","v":0},{"$f":"SUM(E519:I519)-IF(C519>0,D519>0)*K519-L519","v":0},null,{"$f":"(((IF(E519>0,)+(P519*$B$4))+(F519*$C$4)+(G519*$D$4)+(M519*$M$4)))*24+O519","v":0},{"$f":"SUM(R519:R525)","v":0}]
["2022-12-20","Tirsdag",null,null,{"$f":"IF(WEEKDAY(A520,2)<6,ColTime($D$6,$D$7,C520,D520),0)*IF(C520>0,D520>0)","v":0},{"$f":"IF(WEEKDAY(A520,2)<6,ColTime($G$6,$G$7,C520,D520),0)+IF(WEEKDAY(A520,2)<6,ColTime($E$6,$E$7,C520,D520),0)*IF(C520>0,D520>0)","v":0},{"$f":"IF(WEEKDAY(A520,2)<6,ColTime($F$6,$F$7,C520,D520),0)*IF(C520>0,D520>0)","v":0},null,0,0,0,null,0,null,0,0,null,0]
["2022-12-21","Onsdag",null,null,{"$f":"IF(WEEKDAY(A521,2)<6,ColTime($D$6,$D$7,C521,D521),0)*IF(C521>0,D521>0)","v":0},{"$f":"IF(WEEKDAY(A521,2)<6,ColTime($G$6,$G$7,C521,D521),0)+IF(WEEKDAY(A521,2)<6,ColTime($E$6,$E$7,C521,D521),0)*IF(C521>0,D521>0)","v":0},{"$f":"IF(WEEKDAY(A521,2)<6,ColTime($F$6,$F$7,C521,D521),0)*IF(C521>0,D521>0)","v":0},null,0,0,0,null,0,null,0,0,null,0]
["2022-12-22","Torsdag",null,null,{"$f":"IF(WEEKDAY(A522,2)<6,ColTime($D$6,$D$7,C522,D522),0)*IF(C522>0,D522>0)","v":0},{"$f":"IF(WEEKDAY(A522,2)<6,ColTime($G$6,$G$7,C522,D522),0)+IF(WEEKDAY(A522,2)<6,ColTime($E$6,$E$7,C522,D522),0)*IF(C522>0,D522>0)","v":0},{"$f":"IF(WEEKDAY(A522,2)<6,ColTime($F$6,$F$7,C522,D522),0)*IF(C522>0,D522>0)","v":0},null,0,0,0,null,0,null,0,0,null,0]
["2022-12-23","Fredag",null,null,{"$f":"IF(WEEKDAY(A523,2)<6,ColTime($D$6,$D$7,C523,D523),0)*IF(C523>0,D523>0)","v":0},{"$f":"IF(WEEKDAY(A523,2)<6,ColTime($G$6,$G$7,C523,D523),0)+IF(WEEKDAY(A523,2)<6,ColTime($E$6,$E$7,C523,D523),0)*IF(C523>0,D523>0)","v":0},{"$f":"IF(WEEKDAY(A523,2)<6,ColTime($F$6,$F$7,C523,D523),0)*IF(C523>0,D523>0)","v":0},null,{"$f":"IF(E523=0,0,($D$10-$D$9)-E523)","v":0},0,0,null,0,null,0,0,null,0]
["2022-12-24","Lørdag Julaftensdag",null,null," ","  ",{"$f":"IF(WEEKDAY(A524,2)=6,ColTime($E$12,$E$13,C524,D524),0)","v":0},null," ",{"$f":"G524","v":0},null,null," "," ",null,0,null,{"$f":"(P524*$F$4)*24","v":0}]
["2022-12-25","Søndag 1. Juledag",null,null,null," "," ",{"$f":"IF(WEEKDAY(A525,2)=7,D525-C525+(D525<C525),IF(AND(WEEKDAY(A525,2)=6,D525<C525),ColTime($E$15,$E$16,#REF!,D525),0))","v":0}," ",{"$f":"H525","v":0},null,null," "," ",null,0,null,{"$f":"(P525*$H$4)*24","v":0}]
[null,null,null,null,null,null,null,null,null,null,null,null,{"$f":"SUM(M519:M525)","v":0},"Uge Timer I alt",null,{"$f":"SUM(P519:P525)+M526","v":0}]
[]
[52,"Uge dag","Start  indtast som:     tt:mm","Slut  indtast som:     tt:mm","Normal ArbejdsTid  Incl. Pause","Overtid 50%"," Overtid 100%\nMan-lør","Overtid 100%\nSøndag","Tid     Fratrukket Timebank (Afspasering)","Tid Indsat I Timebank, OVERTID timer","Afholdt Pause","Fri uden løn indtast som:    tt:mm","Time sygeløn indtast som:    tt:mm","Ferie Dag antal","Ferie Penge Beløb","I alt",null,"Løn","I alt"]
[{"$f":"DATE($A$17,1,7*A528-3-WEEKDAY(DATE($A$17,,),3))","v":"2022-12-26"},{"$f":"HelligdagsNavn(A529,1,1,1,1,1,1,1)","v":"Mandag 2. Juledag"},null,null,{"$f":"IF(WEEKDAY(A529,2)<6,ColTime($D$6,$D$7,C529,D529),0)*IF(C529>0,D529>0)","v":0},{"$f":"IF(WEEKDAY(A529,2)<6,ColTime($G$6,$G$7,C529,D529),0)+IF(WEEKDAY(A529,2)<6,ColTime($E$6,$E$7,C529,D529),0)*IF(C529>0,D529>0)","v":0},{"$f":"IF(WEEKDAY(A529,2)<6,ColTime($F$6,$F$7,C529,D529),0)*IF(C529>0,D529>0)","v":0},null,{"$f":"IF(E529=0,0,($D$7-$D$6)-E529)","v":0},{"$f":"IF(E529=0,0,($D$7-$D$6)-($D$7-$D$6))+F529+G529","v":0},{"$f":"IF(AND($O$8>=C529,D529>=$P$8),$K$15,0)+IF(AND($O$9<=D529,$P$9<=D529),$K$16,0)","v":0},null,0,null,{"$f":"IF(E529=0,M529=0,)*SUM(($N$4/$N$2*N529))","v":0},{"$f":"SUM(E529:I529)-IF(C529>0,D529>0)*K529-L529","v":0},null,{"$f":"(((IF(E529>0,)+(P529*$B$4))+(F529*$C$4)+(G529*$D$4)+(M529*$M$4)))*24+O529","v":0},0]
["2022-12-27","Tirsdag",null,null,{"$f":"IF(WEEKDAY(A530,2)<6,ColTime($D$6,$D$7,C530,D530),0)*IF(C530>0,D530>0)","v":0},{"$f":"IF(WEEKDAY(A530,2)<6,ColTime($G$6,$G$7,C530,D530),0)+IF(WEEKDAY(A530,2)<6,ColTime($E$6,$E$7,C530,D530),0)*IF(C530>0,D530>0)","v":0},{"$f":"IF(WEEKDAY(A530,2)<6,ColTime($F$6,$F$7,C530,D530),0)*IF(C530>0,D530>0)","v":0},null,0,0,0,null,0,null,0,0,null,0]
["2022-12-28","Onsdag",null,null,{"$f":"IF(WEEKDAY(A531,2)<6,ColTime($D$6,$D$7,C531,D531),0)*IF(C531>0,D531>0)","v":0},{"$f":"IF(WEEKDAY(A531,2)<6,ColTime($G$6,$G$7,C531,D531),0)+IF(WEEKDAY(A531,2)<6,ColTime($E$6,$E$7,C531,D531),0)*IF(C531>0,D531>0)","v":0},{"$f":"IF(WEEKDAY(A531,2)<6,ColTime($F$6,$F$7,C531,D531),0)*IF(C531>0,D531>0)","v":0},null,0,0,0,null,0,null,0,0,null,0]
["2022-12-29","Torsdag",null,null,{"$f":"IF(WEEKDAY(A532,2)<6,ColTime($D$6,$D$7,C532,D532),0)*IF(C532>0,D532>0)","v":0},{"$f":"IF(WEEKDAY(A532,2)<6,ColTime($G$6,$G$7,C532,D532),0)+IF(WEEKDAY(A532,2)<6,ColTime($E$6,$E$7,C532,D532),0)*IF(C532>0,D532>0)","v":0},{"$f":"IF(WEEKDAY(A532,2)<6,ColTime($F$6,$F$7,C532,D532),0)*IF(C532>0,D532>0)","v":0},null,0,0,0,null,0,null,0,0,null,0]
["2022-12-30","Fredag",null,null,{"$f":"IF(WEEKDAY(A533,2)<6,ColTime($D$6,$D$7,C533,D533),0)*IF(C533>0,D533>0)","v":0},{"$f":"IF(WEEKDAY(A533,2)<6,ColTime($G$6,$G$7,C533,D533),0)+IF(WEEKDAY(A533,2)<6,ColTime($E$6,$E$7,C533,D533),0)*IF(C533>0,D533>0)","v":0},{"$f":"IF(WEEKDAY(A533,2)<6,ColTime($F$6,$F$7,C533,D533),0)*IF(C533>0,D533>0)","v":0},null,{"$f":"IF(E533=0,0,($D$10-$D$9)-E533)","v":0},0,0,null,0,null,0,0,null,0]
["2022-12-31","Lørdag Nytårsaftensdag",null,null," ","  ",{"$f":"IF(WEEKDAY(A534,2)=6,ColTime($E$12,$E$13,C534,D534),0)","v":0},null," ",{"$f":"G534","v":0},null,null," "," ",null,0,null,{"$f":"(P534*$F$4)*24","v":0}]
["2023-01-01","Søndag Nytårsdag",null,null,null," "," ",{"$f":"IF(WEEKDAY(A535,2)=7,D535-C535+(D535<C535),IF(AND(WEEKDAY(A535,2)=6,D535<C535),ColTime($E$15,$E$16,#REF!,D535),0))","v":0}," ",{"$f":"H535","v":0},null,null," "," ",null,0,null,{"$f":"(P535*$H$4)*24","v":0}]
[null,null,null,null,null,null,null,null,null,null,null,null,{"$f":"SUM(M529:M535)","v":0},"Uge Timer I alt",null,{"$f":"SUM(P529:P535)+M536","v":0}]
[]
[2022]
[1,"Uge dag","Start  indtast som:     tt:mm","Slut  indtast som:     tt:mm","Normal ArbejdsTid  Incl. Pause","Overtid 50%"," Overtid 100%\nMan-lør","Overtid 100%\nSøndag","Tid     Fratrukket Timebank (Afspasering)","Tid Indsat I Timebank, OVERTID timer","Afholdt Pause","Fri uden løn indtast som:    tt:mm","Time sygeløn indtast som:    tt:mm","Ferie Dag antal","Ferie Penge Beløb","I alt",null,"Løn","I alt"]
[{"$f":"DATE($A$538,1,7*A539-3-WEEKDAY(DATE($A$538,,),3))","v":"2022-01-03"},{"$f":"HelligdagsNavn(A540,1,1,1,1,1,1,1)","v":"Mandag"},null,null,{"$f":"IF(WEEKDAY(A540,2)<6,ColTime($D$6,$D$7,C540,D540),0)*IF(C540>0,D540>0)","v":0},{"$f":"IF(WEEKDAY(A540,2)<6,ColTime($G$6,$G$7,C540,D540),0)+IF(WEEKDAY(A540,2)<6,ColTime($E$6,$E$7,C540,D540),0)*IF(C540>0,D540>0)","v":0},{"$f":"IF(WEEKDAY(A540,2)<6,ColTime($F$6,$F$7,C540,D540),0)*IF(C540>0,D540>0)","v":0},null,{"$f":"IF(E540=0,0,($D$7-$D$6)-E540)","v":0},{"$f":"IF(E540=0,0,($D$7-$D$6)-($D$7-$D$6))+F540+G540","v":0},{"$f":"IF(AND($O$8>=C540,D540>=$P$8),$K$15,0)+IF(AND($O$9<=D540,$P$9<=D540),$K$16,0)","v":0},null,0,null,{"$f":"IF(E540=0,M540=0,)*SUM(($N$4/$N$2*N540))","v":0},{"$f":"SUM(E540:I540)-IF(C540>0,D540>0)*K540-L540","v":0},null,{"$f":"(((IF(E540>0,)+(P540*$B$4))+(F540*$C$4)+(G540*$D$4)+(M540*$M$4)))*24+O540","v":0},{"$f":"SUM(R540:R546)","v":0}]
[{"$f":"A540+1","v":"2022-01-04"},"Tirsdag",null,null,{"$f":"IF(WEEKDAY(A541,2)<6,ColTime($D$6,$D$7,C541,D541),0)*IF(C541>0,D541>0)","v":0},{"$f":"IF(WEEKDAY(A541,2)<6,ColTime($G$6,$G$7,C541,D541),0)+IF(WEEKDAY(A541,2)<6,ColTime($E$6,$E$7,C541,D541),0)*IF(C541>0,D541>0)","v":0},{"$f":"IF(WEEKDAY(A541,2)<6,ColTime($F$6,$F$7,C541,D541),0)*IF(C541>0,D541>0)","v":0},null,0,0,0,null,0,null,0,0,null,0]
["2022-01-05","Onsdag",null,null,{"$f":"IF(WEEKDAY(A542,2)<6,ColTime($D$6,$D$7,C542,D542),0)*IF(C542>0,D542>0)","v":0},{"$f":"IF(WEEKDAY(A542,2)<6,ColTime($G$6,$G$7,C542,D542),0)+IF(WEEKDAY(A542,2)<6,ColTime($E$6,$E$7,C542,D542),0)*IF(C542>0,D542>0)","v":0},{"$f":"IF(WEEKDAY(A542,2)<6,ColTime($F$6,$F$7,C542,D542),0)*IF(C542>0,D542>0)","v":0},null,0,0,0,null,0,null,0,0,null,0]
["2022-01-06","Torsdag",null,null,{"$f":"IF(WEEKDAY(A543,2)<6,ColTime($D$6,$D$7,C543,D543),0)*IF(C543>0,D543>0)","v":0},{"$f":"IF(WEEKDAY(A543,2)<6,ColTime($G$6,$G$7,C543,D543),0)+IF(WEEKDAY(A543,2)<6,ColTime($E$6,$E$7,C543,D543),0)*IF(C543>0,D543>0)","v":0},{"$f":"IF(WEEKDAY(A543,2)<6,ColTime($F$6,$F$7,C543,D543),0)*IF(C543>0,D543>0)","v":0},null,0,0,0,null,0,null,0,0,null,0]
["2022-01-07","Fredag",null,null,{"$f":"IF(WEEKDAY(A544,2)<6,ColTime($D$6,$D$7,C544,D544),0)*IF(C544>0,D544>0)","v":0},{"$f":"IF(WEEKDAY(A544,2)<6,ColTime($G$6,$G$7,C544,D544),0)+IF(WEEKDAY(A544,2)<6,ColTime($E$6,$E$7,C544,D544),0)*IF(C544>0,D544>0)","v":0},{"$f":"IF(WEEKDAY(A544,2)<6,ColTime($F$6,$F$7,C544,D544),0)*IF(C544>0,D544>0)","v":0},null,{"$f":"IF(E544=0,0,($D$10-$D$9)-E544)","v":0},0,0,null,0,null,0,0,null,0]
["2022-01-08","Lørdag",null,null," ","  ",{"$f":"IF(WEEKDAY(A545,2)=6,ColTime($E$12,$E$13,C545,D545),0)","v":0},null," ",{"$f":"G545","v":0},null,null," "," ",null,0,null,{"$f":"(P545*$F$4)*24","v":0}]
["2022-01-09","Søndag",null,null,null," "," ",{"$f":"IF(WEEKDAY(A546,2)=7,D546-C546+(D546<C546),IF(AND(WEEKDAY(A546,2)=6,D546<C546),ColTime($E$15,$E$16,#REF!,D546),0))","v":0}," ",{"$f":"H546","v":0},null,null," "," ",null,0,null,{"$f":"(P546*$H$4)*24","v":0}]
[null,null,null,null,null,null,null,null,null,null,null,null,{"$f":"SUM(M540:M546)","v":0},"Uge Timer I alt",null,{"$f":"SUM(P540:P546)+M547","v":0}]
[]
[2,"Uge dag","Start  indtast som:     tt:mm","Slut  indtast som:     tt:mm","Normal ArbejdsTid  Incl. Pause","Overtid 50%"," Overtid 100%\nMan-lør","Overtid 100%\nSøndag","Tid     Fratrukket Timebank (Afspasering)","Tid Indsat I Timebank, OVERTID timer","Afholdt Pause","Fri uden løn indtast som:    tt:mm","Time sygeløn indtast som:    tt:mm","Ferie Dag antal","Ferie Penge Beløb","I alt",null,"Løn","I alt"]
[{"$f":"DATE($A$538,1,7*A549-3-WEEKDAY(DATE($A$538,,),3))","v":"2022-01-10"},{"$f":"HelligdagsNavn(A550,1,1,1,1,1,1,1)","v":"Mandag"},null,null,{"$f":"IF(WEEKDAY(A550,2)<6,ColTime($D$6,$D$7,C550,D550),0)*IF(C550>0,D550>0)","v":0},{"$f":"IF(WEEKDAY(A550,2)<6,ColTime($G$6,$G$7,C550,D550),0)+IF(WEEKDAY(A550,2)<6,ColTime($E$6,$E$7,C550,D550),0)*IF(C550>0,D550>0)","v":0},{"$f":"IF(WEEKDAY(A550,2)<6,ColTime($F$6,$F$7,C550,D550),0)*IF(C550>0,D550>0)","v":0},null,{"$f":"IF(E550=0,0,($D$7-$D$6)-E550)","v":0},{"$f":"IF(E550=0,0,($D$7-$D$6)-($D$7-$D$6))+F550+G550","v":0},{"$f":"IF(AND($O$8>=C550,D550>=$P$8),$K$15,0)+IF(AND($O$9<=D550,$P$9<=D550),$K$16,0)","v":0},null,0,null,{"$f":"IF(E550=0,M550=0,)*SUM(($N$4/$N$2*N550))","v":0},{"$f":"SUM(E550:I550)-IF(C550>0,D550>0)*K550-L550","v":0},null,{"$f":"(((IF(E550>0,)+(P550*$B$4))+(F550*$C$4)+(G550*$D$4)+(M550*$M$4)))*24+O550","v":0},{"$f":"SUM(R550:R556)","v":0}]
[{"$f":"A550+1","v":"2022-01-11"},"Tirsdag",null,null,{"$f":"IF(WEEKDAY(A551,2)<6,ColTime($D$6,$D$7,C551,D551),0)*IF(C551>0,D551>0)","v":0},{"$f":"IF(WEEKDAY(A551,2)<6,ColTime($G$6,$G$7,C551,D551),0)+IF(WEEKDAY(A551,2)<6,ColTime($E$6,$E$7,C551,D551),0)*IF(C551>0,D551>0)","v":0},{"$f":"IF(WEEKDAY(A551,2)<6,ColTime($F$6,$F$7,C551,D551),0)*IF(C551>0,D551>0)","v":0},null,0,0,0,null,0,null,0,0,null,0]
["2022-01-12","Onsdag",null,null,{"$f":"IF(WEEKDAY(A552,2)<6,ColTime($D$6,$D$7,C552,D552),0)*IF(C552>0,D552>0)","v":0},{"$f":"IF(WEEKDAY(A552,2)<6,ColTime($G$6,$G$7,C552,D552),0)+IF(WEEKDAY(A552,2)<6,ColTime($E$6,$E$7,C552,D552),0)*IF(C552>0,D552>0)","v":0},{"$f":"IF(WEEKDAY(A552,2)<6,ColTime($F$6,$F$7,C552,D552),0)*IF(C552>0,D552>0)","v":0},null,0,0,0,null,0,null,0,0,null,0]
["2022-01-13","Torsdag",null,null,{"$f":"IF(WEEKDAY(A553,2)<6,ColTime($D$6,$D$7,C553,D553),0)*IF(C553>0,D553>0)","v":0},{"$f":"IF(WEEKDAY(A553,2)<6,ColTime($G$6,$G$7,C553,D553),0)+IF(WEEKDAY(A553,2)<6,ColTime($E$6,$E$7,C553,D553),0)*IF(C553>0,D553>0)","v":0},{"$f":"IF(WEEKDAY(A553,2)<6,ColTime($F$6,$F$7,C553,D553),0)*IF(C553>0,D553>0)","v":0},null,0,0,0,null,0,null,0,0,null,0]
["2022-01-14","Fredag",null,null,{"$f":"IF(WEEKDAY(A554,2)<6,ColTime($D$6,$D$7,C554,D554),0)*IF(C554>0,D554>0)","v":0},{"$f":"IF(WEEKDAY(A554,2)<6,ColTime($G$6,$G$7,C554,D554),0)+IF(WEEKDAY(A554,2)<6,ColTime($E$6,$E$7,C554,D554),0)*IF(C554>0,D554>0)","v":0},{"$f":"IF(WEEKDAY(A554,2)<6,ColTime($F$6,$F$7,C554,D554),0)*IF(C554>0,D554>0)","v":0},null,{"$f":"IF(E554=0,0,($D$10-$D$9)-E554)","v":0},0,0,null,0,null,0,0,null,0]
["2022-01-15","Lørdag",null,null," ","  ",{"$f":"IF(WEEKDAY(A555,2)=6,ColTime($E$12,$E$13,C555,D555),0)","v":0},null," ",{"$f":"G555","v":0},null,null," "," ",null,0,null,{"$f":"(P555*$F$4)*24","v":0}]
["2022-01-16","Søndag",null,null,null," "," ",{"$f":"IF(WEEKDAY(A556,2)=7,D556-C556+(D556<C556),IF(AND(WEEKDAY(A556,2)=6,D556<C556),ColTime($E$15,$E$16,#REF!,D556),0))","v":0}," ",{"$f":"H556","v":0},null,null," "," ",null,0,null,{"$f":"(P556*$H$4)*24","v":0}]
[null,null,null,null,null,null,null,null,null,null,null,null,{"$f":"SUM(M550:M556)","v":0},"Uge Timer I alt",null,{"$f":"SUM(P550:P556)+M557","v":0}]
[]
[3,"Uge dag","Start  indtast som:     tt:mm","Slut  indtast som:     tt:mm  indtastes som:  tt:mm","Normal ArbejdsTid  Incl. Pause","Overtid 50%"," Overtid 100%\nMan-lør","Overtid 100%\nSøndag","Tid     Fratrukket Timebank (Afspasering)","Tid Indsat I Timebank, OVERTID timer","Afholdt Pause","Fri uden løn indtast som:    tt:mm","Time sygeløn indtast som:    tt:mm","Ferie Dag antal","Ferie Penge Beløb","I alt",null,"Løn","I alt","Januar  Løn","Samlet Timer I Perioden"]
[{"$f":"DATE($A$538,1,7*A559-3-WEEKDAY(DATE($A$538,,),3))","v":"2022-01-17"},{"$f":"HelligdagsNavn(A560,1,1,1,1,1,1,1)","v":"Mandag"},null,null,{"$f":"IF(WEEKDAY(A560,2)<6,ColTime($D$6,$D$7,C560,D560),0)*IF(C560>0,D560>0)","v":0},{"$f":"IF(WEEKDAY(A560,2)<6,ColTime($G$6,$G$7,C560,D560),0)+IF(WEEKDAY(A560,2)<6,ColTime($E$6,$E$7,C560,D560),0)*IF(C560>0,D560>0)","v":0},{"$f":"IF(WEEKDAY(A560,2)<6,ColTime($F$6,$F$7,C560,D560),0)*IF(C560>0,D560>0)","v":0},null,{"$f":"IF(E560=0,0,($D$7-$D$6)-E560)","v":0},{"$f":"IF(E560=0,0,($D$7-$D$6)-($D$7-$D$6))+F560+G560","v":0},{"$f":"IF(AND($O$8>=C560,D560>=$P$8),$K$15,0)+IF(AND($O$9<=D560,$P$9<=D560),$K$16,0)","v":0},null,0,null,{"$f":"IF(E560=0,M560=0,)*SUM(($N$4/$N$2*N560))","v":0},{"$f":"SUM(E560:I560)-IF(C560>0,D560>0)*K560-L560","v":0},null,{"$f":"(((IF(E560>0,)+(P560*$B$4))+(F560*$C$4)+(G560*$D$4)+(M560*$M$4)))*24+O560","v":0},{"$f":"SUM(R560:R566)","v":0}]
["2022-01-18","Tirsdag",null,null,{"$f":"IF(WEEKDAY(A561,2)<6,ColTime($D$6,$D$7,C561,D561),0)*IF(C561>0,D561>0)","v":0},{"$f":"IF(WEEKDAY(A561,2)<6,ColTime($G$6,$G$7,C561,D561),0)+IF(WEEKDAY(A561,2)<6,ColTime($E$6,$E$7,C561,D561),0)*IF(C561>0,D561>0)","v":0},{"$f":"IF(WEEKDAY(A561,2)<6,ColTime($F$6,$F$7,C561,D561),0)*IF(C561>0,D561>0)","v":0},null,0,0,0,null,0,null,0,0,null,0]
["2022-01-19","Onsdag",null,null,{"$f":"IF(WEEKDAY(A562,2)<6,ColTime($D$6,$D$7,C562,D562),0)*IF(C562>0,D562>0)","v":0},{"$f":"IF(WEEKDAY(A562,2)<6,ColTime($G$6,$G$7,C562,D562),0)+IF(WEEKDAY(A562,2)<6,ColTime($E$6,$E$7,C562,D562),0)*IF(C562>0,D562>0)","v":0},{"$f":"IF(WEEKDAY(A562,2)<6,ColTime($F$6,$F$7,C562,D562),0)*IF(C562>0,D562>0)","v":0},null,0,0,0,null,0,null,0,0,null,0,null,{"$f":"SUMIFS($R:$R,$A:$A,\">=\"&DATE($A$17,12,21),$A:$A,\"<=\"&DATE($A$17,12+1,20))","v":0},{"$f":"SUMIFS($M:$M,$A:$A,\">=\"&DATE($A$17,12,21),$A:$A,\"<=\"&DATE($A$17,12+1,20))+SUMIFS($P:$P,$A:$A,\">=\"&DATE($A$17,12,21),$A:$A,\"<=\"&DATE($A$17,12+1,20))","v":0}]
["2022-01-20","Torsdag",null,null,{"$f":"IF(WEEKDAY(A563,2)<6,ColTime($D$6,$D$7,C563,D563),0)*IF(C563>0,D563>0)","v":0},{"$f":"IF(WEEKDAY(A563,2)<6,ColTime($G$6,$G$7,C563,D563),0)+IF(WEEKDAY(A563,2)<6,ColTime($E$6,$E$7,C563,D563),0)*IF(C563>0,D563>0)","v":0},{"$f":"IF(WEEKDAY(A563,2)<6,ColTime($F$6,$F$7,C563,D563),0)*IF(C563>0,D563>0)","v":0},null,0,0,0,null,0,null,0,0,null,0]
["2022-01-21","Fredag",null,null,{"$f":"IF(WEEKDAY(A564,2)<6,ColTime($D$6,$D$7,C564,D564),0)*IF(C564>0,D564>0)","v":0},{"$f":"IF(WEEKDAY(A564,2)<6,ColTime($G$6,$G$7,C564,D564),0)+IF(WEEKDAY(A564,2)<6,ColTime($E$6,$E$7,C564,D564),0)*IF(C564>0,D564>0)","v":0},{"$f":"IF(WEEKDAY(A564,2)<6,ColTime($F$6,$F$7,C564,D564),0)*IF(C564>0,D564>0)","v":0},null,{"$f":"IF(E564=0,0,($D$10-$D$9)-E564)","v":0},0,0,null,0,null,0,0,null,0]
["2022-01-22","Lørdag",null,null," ","  ",{"$f":"IF(WEEKDAY(A565,2)=6,ColTime($E$12,$E$13,C565,D565),0)","v":0},null," ",{"$f":"G565","v":0},null,null," "," ",null,0,null,{"$f":"(P565*$F$4)*24","v":0}]
["2022-01-23","Søndag",null,null,null," "," ",{"$f":"IF(WEEKDAY(A566,2)=7,D566-C566+(D566<C566),IF(AND(WEEKDAY(A566,2)=6,D566<C566),ColTime($E$15,$E$16,#REF!,D566),0))","v":0}," ",{"$f":"H566","v":0},null,null," "," ",null,0,null,{"$f":"(P566*$H$4)*24","v":0}]
[null,null,null,null,null,null,null,null,null,null,null,null,{"$f":"SUM(M560:M566)","v":0},"Uge Timer I alt",null,{"$f":"SUM(P560:P566)+M567","v":0}]

{"sheet":"Januar","index":1,"n_rows":54,"n_cols":5,"rows_kept":54,"cut":false,"hidden":false,"merged":[]}
["Lønseddel"]
[]
[]
[null,null,"Trækprocent: ",0]
[null,null,"M.fradrag:",0]
[null,null,"Indu. Pension",0]
[null,null,"Pen. Fritvalg",0]
[null,null,"AM Bidrag",0]
[null,null,"fritvalg",0]
[null,null,"Ferieopsparing",0]
[null,null,"Fritvalg timeløn",0]
[]
[]
["LØN",null,null,null,{"$f":"LønOgTimeberegning!T40","v":0}]
[]
["Sygeløn"]
[" overtid"," ",null," "," "]
["Feriefridag"]
[]
[]
[null,null,null," "," "]
["Arbejderskiver sundhedfor.",null,0," "," "]
["Ferie penge 12.5%",{"$f":"E14","v":0},{"$f":"SUM(B23*D10/100)","v":0}," "," "]
["Fritvalg 9,25%",{"$f":"E14","v":0},{"$f":"SUM(B24*D9/100)","v":0}]
["pension betaling Fritvalg 4 %",{"$f":"E14","v":0},null,{"$f":"SUM(B25*D7/100)","v":0}]
["Fritvalg konto timeløn 5,25%",{"$f":"E14","v":0},{"$f":"SUM(B26*D11/100)","v":0}]
["Industriens pension 4%",{"$f":"SUM(E14,C23,C24)","v":0},null,null,{"$f":"SUM(B27*D6/100)","v":0}]
["Atp bidrag ",{"$f":"D14","v":0},null,null,0]
[]
["Ferieberettiget indkomst"]
["Arbejdsmarkedsbidrag:",null,{"$f":"E14-E27-E28+C22","v":0},null,{"$f":"SUM(C31*D8/100)","v":0}]
["Nettoløn:",null,null,null,{"$f":"E14-SUM(E17:E31)","v":0}]
[]
["A-skattepligtig indkomst",null,null,{"$f":"+E32","v":0}]
["Månedligt fradrag:",null,null,{"$f":"D5","v":0}]
["Skattegrundlag:",null,null,{"$f":"+D34-D35","v":0}]
[]
["Skat:","39 % af",{"$f":"+D36","v":0},null,{"$f":"ROUND(+(C38/100)*D4,0)","v":0}]
[]
[null,"Personale foreningen",0,null,{"$f":"C40","v":0}]
["Løn til udbetaling:",null,null,null,{"$f":"+E32-SUM(E38:E40)","v":0}]
[]
["Diverse B Indtægt",0,{"$f":"D4/100","v":0},{"$f":"SUM(B43*C43)","v":0},{"$f":"SUM(B43-D43)","v":0}]
["Diverse B Indtægt",0,{"$f":"D4/100","v":0},{"$f":"SUM(B44*C44)","v":0},{"$f":"SUM(B44-D44)","v":0}]
[]
["Løn udbetaling total",null,null,null,{"$f":"SUM(E41:E44)","v":0}]
[]
["Saldi:",null,"Perioden",null,"År til dato"]
["AM indkomst",null,{"$f":"+C31","v":0},null,{"$f":"SUM(C49)","v":0}]
["A-Indkomst",null,{"$f":"+D34","v":0},null,0]
["A Skat",null,{"$f":"+E38","v":0},null,0]
["AM bidrag",null,{"$f":"+E31","v":0},null,0]
["Ferieberettiget indkomst",null,{"$f":"SUM(E14)","v":0},null,0]
["FerieOpsparing",null,{"$f":"C23","v":0},null,0]

{"sheet":"Februar","index":2,"n_rows":54,"n_cols":5,"rows_kept":54,"cut":false,"hidden":false,"merged":[]}
["Lønseddel"]
[]
[]
[null,null,"Trækprocent: ",0]
[null,null,"M.fradrag:",0]
[null,null,"Indu. Pension",0]
[null,null,"Pen. Fritvalg",0]
[null,null,"AM Bidrag",0]
[null,null,"fritvalg",0]
[null,null,"Ferieopsparing",0]
[null,null,"Fritvalg timeløn",0]
[]
[]
["LØN",null,null,null,{"$f":"LønOgTimeberegning!T83","v":0}]
[]
["Sygeløn"]
[" overtid"," ",null," "," "]
["Feriefridag"]
[]
[]
[null,null,null," "," "]
["Arbejderskiver sundhedfor.",null,0," "," "]
["Ferie penge 12.5%",{"$f":"E14","v":0},{"$f":"SUM(B23*D10/100)","v":0}," "," "]
["Fritvalg 9,25%",{"$f":"E14","v":0},{"$f":"SUM(B24*D9/100)","v":0}]
["pension betaling Fritvalg 4 %",{"$f":"E14","v":0},null,{"$f":"SUM(B25*D7/100)","v":0}]
["Fritvalg konto timeløn 5,25%",{"$f":"E14","v":0},{"$f":"SUM(B26*D11/100)","v":0}]
["Industriens pension 4%",{"$f":"SUM(E14,C23,C24)","v":0},null,null,{"$f":"SUM(B27*D6/100)","v":0}]
["Atp bidrag ",{"$f":"D14","v":0},null,null,0]
[]
["Ferieberettiget indkomst"]
["Arbejdsmarkedsbidrag:",null,{"$f":"E14-E27-E28+C22","v":0},null,{"$f":"SUM(C31*D8/100)","v":0}]
["Nettoløn:",null,null,null,{"$f":"E14-SUM(E17:E31)","v":0}]
[]
["A-skattepligtig indkomst",null,null,{"$f":"+E32","v":0}]
["Månedligt fradrag:",null,null,{"$f":"D5","v":0}]
["Skattegrundlag:",null,null,{"$f":"+D34-D35","v":0}]
[]
["Skat:","39 % af",{"$f":"+D36","v":0},null,{"$f":"ROUND(+(C38/100)*D4,0)","v":0}]
[]
[null,"Personale foreningen",0,null,{"$f":"C40","v":0}]
["Løn til udbetaling:",null,null,null,{"$f":"+E32-SUM(E38:E40)","v":0}]
[]
["Diverse B Indtægt",0,{"$f":"D4/100","v":0},{"$f":"SUM(B43*C43)","v":0},{"$f":"SUM(B43-D43)","v":0}]
["Diverse B Indtægt",0,{"$f":"D4/100","v":0},{"$f":"SUM(B44*C44)","v":0},{"$f":"SUM(B44-D44)","v":0}]
[]
["Løn udbetaling total",null,null,null,{"$f":"SUM(E41:E44)","v":0}]
[]
["Saldi:",null,"Perioden",null,"År til dato"]
["AM indkomst",null,{"$f":"+C31","v":0},null,{"$f":"Januar!E49+C49","v":0}]
["A-Indkomst",null,{"$f":"+D34","v":0},null,{"$f":"Januar!E50+C50","v":0}]
["A Skat",null,{"$f":"+E38","v":0},null,{"$f":"Januar!E51+C51","v":0}]
["AM bidrag",null,{"$f":"+E31","v":0},null,{"$f":"Januar!E52+C52","v":0}]
["Ferieberettiget indkomst",null,{"$f":"SUM(E14)","v":0},null,{"$f":"Januar!E53+C53","v":0}]
["FerieOpsparing",null,{"$f":"C23","v":0},null,{"$f":"Januar!E54+C54","v":0}]

{"sheet":"Marts","index":3,"n_rows":54,"n_cols":5,"rows_kept":54,"cut":false,"hidden":false,"merged":[]}
["Lønseddel"]
[]
[]
[null,null,"Trækprocent: ",0]
[null,null,"M.fradrag:",0]
[null,null,"Indu. Pension",0]
[null,null,"Pen. Fritvalg",0]
[null,null,"AM Bidrag",0]
[null,null,"fritvalg",0]
[null,null,"Ferieopsparing",0]
[null,null,"Fritvalg timeløn",0]
[]
[]
["LØN",null,null,null,{"$f":"LønOgTimeberegning!T123","v":0}]
[]
["Sygeløn"]
[" overtid"," ",null," "," "]
["Feriefridag"]
[]
[]
[null,null,null," "," "]
["Arbejderskiver sundhedfor.",null,0," "," "]
["Ferie penge 12.5%",{"$f":"E14","v":0},{"$f":"SUM(B23*D10/100)","v":0}," "," "]
["Fritvalg 9,25%",{"$f":"E14","v":0},{"$f":"SUM(B24*D9/100)","v":0}]
["pension betaling Fritvalg 4 %",{"$f":"E14","v":0},null,{"$f":"SUM(B25*D7/100)","v":0}]
["Fritvalg konto timeløn 5,25%",{"$f":"E14","v":0},{"$f":"SUM(B26*D11/100)","v":0}]
["Industriens pension 4%",{"$f":"SUM(E14,C23,C24)","v":0},null,null,{"$f":"SUM(B27*D6/100)","v":0}]
["Atp bidrag ",{"$f":"D14","v":0},null,null,0]
[]
["Ferieberettiget indkomst"]
["Arbejdsmarkedsbidrag:",null,{"$f":"E14-E27-E28+C22","v":0},null,{"$f":"SUM(C31*D8/100)","v":0}]
["Nettoløn:",null,null,null,{"$f":"E14-SUM(E17:E31)","v":0}]
[]
["A-skattepligtig indkomst",null,null,{"$f":"+E32","v":0}]
["Månedligt fradrag:",null,null,{"$f":"D5","v":0}]
["Skattegrundlag:",null,null,{"$f":"+D34-D35","v":0}]
[]
["Skat:","39 % af",{"$f":"+D36","v":0},null,{"$f":"ROUND(+(C38/100)*D4,0)","v":0}]
[]
[null,"Personale foreningen",0,null,{"$f":"C40","v":0}]
["Løn til udbetaling:",null,null,null,{"$f":"+E32-SUM(E38:E40)","v":0}]
[]
["Diverse B Indtægt",0,{"$f":"D4/100","v":0},{"$f":"SUM(B43*C43)","v":0},{"$f":"SUM(B43-D43)","v":0}]
["Diverse B Indtægt",0,{"$f":"D4/100","v":0},{"$f":"SUM(B44*C44)","v":0},{"$f":"SUM(B44-D44)","v":0}]
[]
["Løn udbetaling total",null,null,null,{"$f":"SUM(E41:E44)","v":0}]
[]
["Saldi:",null,"Perioden",null,"År til dato"]
["AM indkomst",null,{"$f":"+C31","v":0},null,{"$f":"Februar!E49+C49","v":0}]
["A-Indkomst",null,{"$f":"+D34","v":0},null,{"$f":"Februar!E50+C50","v":0}]
["A Skat",null,{"$f":"+E38","v":0},null,{"$f":"Februar!E51+C51","v":0}]
["AM bidrag",null,{"$f":"+E31","v":0},null,{"$f":"Februar!E52+C52","v":0}]
["Ferieberettiget indkomst",null,{"$f":"SUM(E14)","v":0},null,{"$f":"Februar!E53+C53","v":0}]
["FerieOpsparing",null,{"$f":"C23","v":0},null,{"$f":"Februar!E54+C54","v":0}]

{"sheet":"April","index":4,"n_rows":54,"n_cols":5,"rows_kept":54,"cut":false,"hidden":false,"merged":[]}
["Lønseddel"]
[]
[]
[null,null,"Trækprocent: ",0]
[null,null,"M.fradrag:",0]
[null,null,"Indu. Pension",0]
[null,null,"Pen. Fritvalg",0]
[null,null,"AM Bidrag",0]
[null,null,"fritvalg",0]
[null,null,"Ferieopsparing",0]
[null,null,"Fritvalg timeløn",0]
[]
[]
["LØN",null,null,null,{"$f":"LønOgTimeberegning!T169","v":0}]
[]
["Sygeløn"]
[" overtid"," ",null," "," "]
["Feriefridag"]
[]
[]
[null,null,null," "," "]
["Arbejderskiver sundhedfor.",null,0," "," "]
["Ferie penge 12.5%",{"$f":"E14","v":0},{"$f":"SUM(B23*D10/100)","v":0}," "," "]
["Fritvalg 9,25%",{"$f":"E14","v":0},{"$f":"SUM(B24*D9/100)","v":0}]
["pension betaling Fritvalg 4 %",{"$f":"E14","v":0},null,{"$f":"SUM(B25*D7/100)","v":0}]
["Fritvalg konto timeløn 5,25%",{"$f":"E14","v":0},{"$f":"SUM(B26*D11/100)","v":0}]
["Industriens pension 4%",{"$f":"SUM(E14,C23,C24)","v":0},null,null,{"$f":"SUM(B27*D6/100)","v":0}]
["Atp bidrag ",{"$f":"D14","v":0},null,null,0]
[]
["Ferieberettiget indkomst"]
["Arbejdsmarkedsbidrag:",null,{"$f":"E14-E27-E28+C22","v":0},null,{"$f":"SUM(C31*D8/100)","v":0}]
["Nettoløn:",null,null,null,{"$f":"E14-SUM(E17:E31)","v":0}]
[]
["A-skattepligtig indkomst",null,null,{"$f":"+E32","v":0}]
["Månedligt fradrag:",null,null,{"$f":"D5","v":0}]
["Skattegrundlag:",null,null,{"$f":"+D34-D35","v":0}]
[]
["Skat:","39 % af",{"$f":"+D36","v":0},null,{"$f":"ROUND(+(C38/100)*D4,0)","v":0}]
[]
[null,"Personale foreningen",0,null,{"$f":"C40","v":0}]
["Løn til udbetaling:",null,null,null,{"$f":"+E32-SUM(E38:E40)","v":0}]
[]
["Diverse B Indtægt",0,{"$f":"D4/100","v":0},{"$f":"SUM(B43*C43)","v":0},{"$f":"SUM(B43-D43)","v":0}]
["Diverse B Indtægt",0,{"$f":"D4/100","v":0},{"$f":"SUM(B44*C44)","v":0},{"$f":"SUM(B44-D44)","v":0}]
[]
["Løn udbetaling total",null,null,null,{"$f":"SUM(E41:E44)","v":0}]
[]
["Saldi:",null,"Perioden",null,"År til dato"]
["AM indkomst",null,{"$f":"+C31","v":0},null,{"$f":"Marts!E49+C49","v":0}]
["A-Indkomst",null,{"$f":"+D34","v":0},null,{"$f":"Marts!E50+C50","v":0}]
["A Skat",null,{"$f":"+E38","v":0},null,{"$f":"Marts!E51+C51","v":0}]
["AM bidrag",null,{"$f":"+E31","v":0},null,{"$f":"Marts!E52+C52","v":0}]
["Ferieberettiget indkomst",null,{"$f":"SUM(E14)","v":0},null,{"$f":"Marts!E53+C53","v":0}]
["FerieOpsparing",null,{"$f":"C23","v":0},null,{"$f":"Marts!E54+C54","v":0}]

{"sheet":"Maj","index":5,"n_rows":54,"n_cols":5,"rows_kept":54,"cut":false,"hidden":false,"merged":[]}
["Lønseddel"]
[]
[]
[null,null,"Trækprocent: ",0]
[null,null,"M.fradrag:",0]
[null,null,"Indu. Pension",0]
[null,null,"Pen. Fritvalg",0]
[null,null,"AM Bidrag",0]
[null,null,"fritvalg",0]
[null,null,"Ferieopsparing",0]
[null,null,"Fritvalg timeløn",0]
[]
[]
["LØN",null,null,null,{"$f":"LønOgTimeberegning!T211","v":0}]
[]
["Sygeløn"]
[" overtid"," ",null," "," "]
["Feriefridag"]
[]
[]
[null,null,null," "," "]
["Arbejderskiver sundhedfor.",null,0," "," "]
["Ferie penge 12.5%",{"$f":"E14","v":0},{"$f":"SUM(B23*D10/100)","v":0}," "," "]
["Fritvalg 9,25%",{"$f":"E14","v":0},{"$f":"SUM(B24*D9/100)","v":0}]
["pension betaling Fritvalg 4 %",{"$f":"E14","v":0},null,{"$f":"SUM(B25*D7/100)","v":0}]
["Fritvalg konto timeløn 5,25%",{"$f":"E14","v":0},{"$f":"SUM(B26*D11/100)","v":0}]
["Industriens pension 4%",{"$f":"SUM(E14,C23,C24)","v":0},null,null,{"$f":"SUM(B27*D6/100)","v":0}]
["Atp bidrag ",{"$f":"D14","v":0},null,null,0]
[]
["Ferieberettiget indkomst"]
["Arbejdsmarkedsbidrag:",null,{"$f":"E14-E27-E28+C22","v":0},null,{"$f":"SUM(C31*D8/100)","v":0}]
["Nettoløn:",null,null,null,{"$f":"E14-SUM(E17:E31)","v":0}]
[]
["A-skattepligtig indkomst",null,null,{"$f":"+E32","v":0}]
["Månedligt fradrag:",null,null,{"$f":"D5","v":0}]
["Skattegrundlag:",null,null,{"$f":"+D34-D35","v":0}]
[]
["Skat:","39 % af",{"$f":"+D36","v":0},null,{"$f":"ROUND(+(C38/100)*D4,0)","v":0}]
[]
[null,"Personale foreningen",0,null,{"$f":"C40","v":0}]
["Løn til udbetaling:",null,null,null,{"$f":"+E32-SUM(E38:E40)","v":0}]
[]
["Diverse B Indtægt",0,{"$f":"D4/100","v":0},{"$f":"SUM(B43*C43)","v":0},{"$f":"SUM(B43-D43)","v":0}]
["Diverse B Indtægt",0,{"$f":"D4/100","v":0},{"$f":"SUM(B44*C44)","v":0},{"$f":"SUM(B44-D44)","v":0}]
[]
["Løn udbetaling total",null,null,null,{"$f":"SUM(E41:E44)","v":0}]
[]
["Saldi:",null,"Perioden",null,"År til dato"]
["AM indkomst",null,{"$f":"+C31","v":0},null,{"$f":"April!E49+C49","v":0}]
["A-Indkomst",null,{"$f":"+D34","v":0},null,{"$f":"April!E50+C50","v":0}]
["A Skat",null,{"$f":"+E38","v":0},null,{"$f":"April!E51+C51","v":0}]
["AM bidrag",null,{"$f":"+E31","v":0},null,{"$f":"April!E52+C52","v":0}]
["Ferieberettiget indkomst",null,{"$f":"SUM(E14)","v":0},null,{"$f":"April!E53+C53","v":0}]
["FerieOpsparing",null,{"$f":"C23","v":0},null,{"$f":"April!E54+C54","v":0}]

{"sheet":"Juni","index":6,"n_rows":54,"n_cols":5,"rows_kept":54,"cut":false,"hidden":false,"merged":[]}
["Lønseddel"]
[]
[]
[null,null,"Trækprocent: ",0]
[null,null,"M.fradrag:",0]
[null,null,"Indu. Pension",0]
[null,null,"Pen. Fritvalg",0]
[null,null,"AM Bidrag",0]
[null,null,"fritvalg",0]
[null,null,"Ferieopsparing",0]
[null,null,"Fritvalg timeløn",0]
[]
[]
["LØN",null,null,null,{"$f":"LønOgTimeberegning!T254","v":0}]
[]
["Sygeløn"]
[" overtid"," ",null," "," "]
["Feriefridag"]
[]
[]
[null,null,null," "," "]
["Arbejderskiver sundhedfor.",null,0," "," "]
["Ferie penge 12.5%",{"$f":"E14","v":0},{"$f":"SUM(B23*D10/100)","v":0}," "," "]
["Fritvalg 9,25%",{"$f":"E14","v":0},{"$f":"SUM(B24*D9/100)","v":0}]
["pension betaling Fritvalg 4 %",{"$f":"E14","v":0},null,{"$f":"SUM(B25*D7/100)","v":0}]
["Fritvalg konto timeløn 5,25%",{"$f":"E14","v":0},{"$f":"SUM(B26*D11/100)","v":0}]
["Industriens pension 4%",{"$f":"SUM(E14,C23,C24)","v":0},null,null,{"$f":"SUM(B27*D6/100)","v":0}]
["Atp bidrag ",{"$f":"D14","v":0},null,null,0]
[]
["Ferieberettiget indkomst"]
["Arbejdsmarkedsbidrag:",null,{"$f":"E14-E27-E28+C22","v":0},null,{"$f":"SUM(C31*D8/100)","v":0}]
["Nettoløn:",null,null,null,{"$f":"E14-SUM(E17:E31)","v":0}]
[]
["A-skattepligtig indkomst",null,null,{"$f":"+E32","v":0}]
["Månedligt fradrag:",null,null,{"$f":"D5","v":0}]
["Skattegrundlag:",null,null,{"$f":"+D34-D35","v":0}]
[]
["Skat:","39 % af",{"$f":"+D36","v":0},null,{"$f":"ROUND(+(C38/100)*D4,0)","v":0}]
[]
[null,"Personale foreningen",0,null,{"$f":"C40","v":0}]
["Løn til udbetaling:",null,null,null,{"$f":"+E32-SUM(E38:E40)","v":0}]
[]
["Diverse B Indtægt",0,{"$f":"D4/100","v":0},{"$f":"SUM(B43*C43)","v":0},{"$f":"SUM(B43-D43)","v":0}]
["Diverse B Indtægt",0,{"$f":"D4/100","v":0},{"$f":"SUM(B44*C44)","v":0},{"$f":"SUM(B44-D44)","v":0}]
[]
["Løn udbetaling total",null,null,null,{"$f":"SUM(E41:E44)","v":0}]
[]
["Saldi:",null,"Perioden",null,"År til dato"]
["AM indkomst",null,{"$f":"+C31","v":0},null,{"$f":"Maj!E49+C49","v":0}]
["A-Indkomst",null,{"$f":"+D34","v":0},null,{"$f":"Maj!E50+C50","v":0}]
["A Skat",null,{"$f":"+E38","v":0},null,{"$f":"Maj!E51+C51","v":0}]
["AM bidrag",null,{"$f":"+E31","v":0},null,{"$f":"Maj!E52+C52","v":0}]
["Ferieberettiget indkomst",null,{"$f":"SUM(E14)","v":0},null,{"$f":"Maj!E53+C53","v":0}]
["FerieOpsparing",null,{"$f":"C23","v":0},null,{"$f":"Maj!E54+C54","v":0}]

{"sheet":"Juli","index":7,"n_rows":54,"n_cols":5,"rows_kept":54,"cut":false,"hidden":false,"merged":[]}
["Lønseddel"]
[]
[]
[null,null,"Trækprocent: ",0]
[null,null,"M.fradrag:",0]
[null,null,"Indu. Pension",0]
[null,null,"Pen. Fritvalg",0]
[null,null,"AM Bidrag",0]
[null,null,"fritvalg",0]
[null,null,"Ferieopsparing",0]
[null,null,"Fritvalg timeløn",0]
[]
[]
["LØN",null,null,null,{"$f":"LønOgTimeberegning!T299","v":0}]
[]
["Sygeløn"]
[" overtid"," ",null," "," "]
["Feriefridag"]
[]
[]
[null,null,null," "," "]
["Arbejderskiver sundhedfor.",null,0," "," "]
["Ferie penge 12.5%",{"$f":"E14","v":0},{"$f":"SUM(B23*D10/100)","v":0}," "," "]
["Fritvalg 9,25%",{"$f":"E14","v":0},{"$f":"SUM(B24*D9/100)","v":0}]
["pension betaling Fritvalg 4 %",{"$f":"E14","v":0},null,{"$f":"SUM(B25*D7/100)","v":0}]
["Fritvalg konto timeløn 5,25%",{"$f":"E14","v":0},{"$f":"SUM(B26*D11/100)","v":0}]
["Industriens pension 4%",{"$f":"SUM(E14,C23,C24)","v":0},null,null,{"$f":"SUM(B27*D6/100)","v":0}]
["Atp bidrag ",{"$f":"D14","v":0},null,null,0]
[]
["Ferieberettiget indkomst"]
["Arbejdsmarkedsbidrag:",null,{"$f":"E14-E27-E28+C22","v":0},null,{"$f":"SUM(C31*D8/100)","v":0}]
["Nettoløn:",null,null,null,{"$f":"E14-SUM(E17:E31)","v":0}]
[]
["A-skattepligtig indkomst",null,null,{"$f":"+E32","v":0}]
["Månedligt fradrag:",null,null,{"$f":"D5","v":0}]
["Skattegrundlag:",null,null,{"$f":"+D34-D35","v":0}]
[]
["Skat:","39 % af",{"$f":"+D36","v":0},null,{"$f":"ROUND(+(C38/100)*D4,0)","v":0}]
[]
[null,"Personale foreningen",0,null,{"$f":"C40","v":0}]
["Løn til udbetaling:",null,null,null,{"$f":"+E32-SUM(E38:E40)","v":0}]
[]
["Diverse B Indtægt",0,{"$f":"D4/100","v":0},{"$f":"SUM(B43*C43)","v":0},{"$f":"SUM(B43-D43)","v":0}]
["Diverse B Indtægt",0,{"$f":"D4/100","v":0},{"$f":"SUM(B44*C44)","v":0},{"$f":"SUM(B44-D44)","v":0}]
[]
["Løn udbetaling total",null,null,null,{"$f":"SUM(E41:E44)","v":0}]
[]
["Saldi:",null,"Perioden",null,"År til dato"]
["AM indkomst",null,{"$f":"+C31","v":0},null,{"$f":"Juni!E49+C49","v":0}]
["A-Indkomst",null,{"$f":"+D34","v":0},null,{"$f":"Juni!E50+C50","v":0}]
["A Skat",null,{"$f":"+E38","v":0},null,{"$f":"Juni!E51+C51","v":0}]
["AM bidrag",null,{"$f":"+E31","v":0},null,{"$f":"Juni!E52+C52","v":0}]
["Ferieberettiget indkomst",null,{"$f":"SUM(E14)","v":0},null,{"$f":"Juni!E53+C53","v":0}]
["FerieOpsparing",null,{"$f":"C23","v":0},null,{"$f":"Juni!E54+C54","v":0}]

{"sheet":"August","index":8,"n_rows":54,"n_cols":5,"rows_kept":54,"cut":false,"hidden":false,"merged":[]}
["Lønseddel"]
[]
[]
[null,null,"Trækprocent: ",0]
[null,null,"M.fradrag:",0]
[null,null,"Indu. Pension",0]
[null,null,"Pen. Fritvalg",0]
[null,null,"AM Bidrag",0]
[null,null,"fritvalg",0]
[null,null,"Ferieopsparing",0]
[null,null,"Fritvalg timeløn",0]
[]
[]
["LØN",null,null,null,{"$f":"LønOgTimeberegning!T342","v":0}]
[]
["Sygeløn"]
[" overtid"," ",null," "," "]
["Feriefridag"]
[]
[]
[null,null,null," "," "]
["Arbejderskiver sundhedfor.",null,0," "," "]
["Ferie penge 12.5%",{"$f":"E14","v":0},{"$f":"SUM(B23*D10/100)","v":0}," "," "]
["Fritvalg 9,25%",{"$f":"E14","v":0},{"$f":"SUM(B24*D9/100)","v":0}]
["pension betaling Fritvalg 4 %",{"$f":"E14","v":0},null,{"$f":"SUM(B25*D7/100)","v":0}]
["Fritvalg konto timeløn 5,25%",{"$f":"E14","v":0},{"$f":"SUM(B26*D11/100)","v":0}]
["Industriens pension 4%",{"$f":"SUM(E14,C23,C24)","v":0},null,null,{"$f":"SUM(B27*D6/100)","v":0}]
["Atp bidrag ",0,null,null,0]
[]
["Ferieberettiget indkomst"]
["Arbejdsmarkedsbidrag:",null,{"$f":"E14-E27-E28+C22","v":0},null,{"$f":"SUM(C31*D8/100)","v":0}]
["Nettoløn:",null,null,null,{"$f":"E14-SUM(E17:E31)","v":0}]
[]
["A-skattepligtig indkomst",null,null,{"$f":"+E32","v":0}]
["Månedligt fradrag:",null,null,{"$f":"D5","v":0}]
["Skattegrundlag:",null,null,{"$f":"+D34-D35","v":0}]
[]
["Skat:","39 % af",{"$f":"+D36","v":0},null,{"$f":"ROUND(+(C38/100)*D4,0)","v":0}]
[]
[null,"Personale foreningen",0,null,{"$f":"C40","v":0}]
["Løn til udbetaling:",null,null,null,{"$f":"+E32-SUM(E38:E40)","v":0}]
[]
["Diverse B Indtægt",0,{"$f":"D4/100","v":0},{"$f":"SUM(B43*C43)","v":0},{"$f":"SUM(B43-D43)","v":0}]
["Diverse B Indtægt",0,{"$f":"D4/100","v":0},{"$f":"SUM(B44*C44)","v":0},{"$f":"SUM(B44-D44)","v":0}]
[]
["Løn udbetaling total",null,null,null,{"$f":"SUM(E41:E44)","v":0}]
[]
["Saldi:",null,"Perioden",null,"År til dato"]
["AM indkomst",null,{"$f":"+C31","v":0},null,{"$f":"Juli!E49+C49","v":0}]
["A-Indkomst",null,{"$f":"+D34","v":0},null,{"$f":"Juli!E50+C50","v":0}]
["A Skat",null,{"$f":"+E38","v":0},null,{"$f":"Juli!E51+C51","v":0}]
["AM bidrag",null,{"$f":"+E31","v":0},null,{"$f":"Juli!E52+C52","v":0}]
["Ferieberettiget indkomst",null,{"$f":"SUM(E14)","v":0},null,{"$f":"Juli!E53+C53","v":0}]
["FerieOpsparing",null,{"$f":"C23","v":0},null,{"$f":"Juli!E54+C54","v":0}]

{"sheet":"September","index":9,"n_rows":54,"n_cols":5,"rows_kept":54,"cut":false,"hidden":false,"merged":[]}
["Lønseddel"]
[]
[]
[null,null,"Trækprocent: ",0]
[null,null,"M.fradrag:",0]
[null,null,"Indu. Pension",0]
[null,null,"Pen. Fritvalg",0]
[null,null,"AM Bidrag",0]
[null,null,"fritvalg",0]
[null,null,"Ferieopsparing",0]
[null,null,"Fritvalg timeløn",0]
[]
[]
["LØN",null,null,null,{"$f":"LønOgTimeberegning!T385","v":0}]
[]
["Sygeløn"]
[" overtid"," ",null," "," "]
["Feriefridag"]
[]
[]
[null,null,null," "," "]
["Arbejderskiver sundhedfor.",null,0," "," "]
["Ferie penge 12.5%",{"$f":"E14","v":0},{"$f":"SUM(B23*D10/100)","v":0}," "," "]
["Fritvalg 9,25%",{"$f":"E14","v":0},{"$f":"SUM(B24*D9/100)","v":0}]
["pension betaling Fritvalg 4 %",{"$f":"E14","v":0},null,{"$f":"SUM(B25*D7/100)","v":0}]
["Fritvalg konto timeløn 5,25%",{"$f":"E14","v":0},{"$f":"SUM(B26*D11/100)","v":0}]
["Industriens pension 4%",{"$f":"SUM(E14,C23,C24)","v":0},null,null,{"$f":"SUM(B27*D6/100)","v":0}]
["Atp bidrag ",{"$f":"D14","v":0},null,null,0]
[]
["Ferieberettiget indkomst"]
["Arbejdsmarkedsbidrag:",null,{"$f":"E14-E27-E28+C22","v":0},null,{"$f":"SUM(C31*D8/100)","v":0}]
["Nettoløn:",null,null,null,{"$f":"E14-SUM(E17:E31)","v":0}]
[]
["A-skattepligtig indkomst",null,null,{"$f":"+E32","v":0}]
["Månedligt fradrag:",null,null,{"$f":"D5","v":0}]
["Skattegrundlag:",null,null,{"$f":"+D34-D35","v":0}]
[]
["Skat:","39 % af",{"$f":"+D36","v":0},null,{"$f":"ROUND(+(C38/100)*D4,0)","v":0}]
[]
[null,"Personale foreningen",0,null,{"$f":"C40","v":0}]
["Løn til udbetaling:",null,null,null,{"$f":"+E32-SUM(E38:E40)","v":0}]
[]
["Diverse B Indtægt",0,{"$f":"D4/100","v":0},{"$f":"SUM(B43*C43)","v":0},{"$f":"SUM(B43-D43)","v":0}]
["Diverse B Indtægt",0,{"$f":"D4/100","v":0},{"$f":"SUM(B44*C44)","v":0},{"$f":"SUM(B44-D44)","v":0}]
[]
["Løn udbetaling total",null,null,null,{"$f":"SUM(E41:E44)","v":0}]
[]
["Saldi:",null,"Perioden",null,"År til dato"]
["AM indkomst",null,{"$f":"+C31","v":0},null,{"$f":"August!E49+C49","v":0}]
["A-Indkomst",null,{"$f":"+D34","v":0},null,{"$f":"August!E50+C50","v":0}]
["A Skat",null,{"$f":"+E38","v":0},null,{"$f":"August!E51+C51","v":0}]
["AM bidrag",null,{"$f":"+E31","v":0},null,{"$f":"August!E52+C52","v":0}]
["Ferieberettiget indkomst",null,{"$f":"SUM(E14)","v":0},null,{"$f":"August!E53+C53","v":0}]
["FerieOpsparing",null,{"$f":"C23","v":0},null,{"$f":"August!E54+C54","v":0}]

{"sheet":"Oktober","index":10,"n_rows":54,"n_cols":5,"rows_kept":54,"cut":false,"hidden":false,"merged":[]}
["Lønseddel"]
[]
[]
[null,null,"Trækprocent: ",0]
[null,null,"M.fradrag:",0]
[null,null,"Indu. Pension",0]
[null,null,"Pen. Fritvalg",0]
[null,null,"AM Bidrag",0]
[null,null,"fritvalg",0]
[null,null,"Ferieopsparing",0]
[null,null,"Fritvalg timeløn",0]
[]
[]
["LØN",null,null,null,{"$f":"LønOgTimeberegning!T430","v":0}]
[]
["Sygeløn"]
[" overtid"," ",null," "," "]
["Feriefridag"]
[]
[]
[null,null,null," "," "]
["Arbejderskiver sundhedfor.",null,0," "," "]
["Ferie penge 12.5%",{"$f":"E14","v":0},{"$f":"SUM(B23*D10/100)","v":0}," "," "]
["Fritvalg 9,25%",{"$f":"E14","v":0},{"$f":"SUM(B24*D9/100)","v":0}]
["pension betaling Fritvalg 4 %",{"$f":"E14","v":0},null,{"$f":"SUM(B25*D7/100)","v":0}]
["Fritvalg konto timeløn 5,25%",{"$f":"E14","v":0},{"$f":"SUM(B26*D11/100)","v":0}]
["Industriens pension 4%",{"$f":"SUM(E14,C23,C24)","v":0},null,null,{"$f":"SUM(B27*D6/100)","v":0}]
["Atp bidrag ",{"$f":"D14","v":0},null,null,0]
[]
["Ferieberettiget indkomst"]
["Arbejdsmarkedsbidrag:",null,0,null,{"$f":"SUM(C31*D8/100)","v":0}]
["Nettoløn:",null,null,null,{"$f":"E14-SUM(E17:E31)","v":0}]
[]
["A-skattepligtig indkomst",null,null,{"$f":"+E32","v":0}]
["Månedligt fradrag:",null,null,{"$f":"D5","v":0}]
["Skattegrundlag:",null,null,{"$f":"+D34-D35","v":0}]
[]
["Skat:","39 % af",{"$f":"+D36","v":0},null,{"$f":"ROUND(+(C38/100)*D4,0)","v":0}]
[]
[null,"Personale foreningen",0,null,{"$f":"C40","v":0}]
["Løn til udbetaling:",null,null,null,{"$f":"+E32-SUM(E38:E40)","v":0}]
[]
["Diverse B Indtægt",0,{"$f":"D4/100","v":0},{"$f":"SUM(B43*C43)","v":0},{"$f":"SUM(B43-D43)","v":0}]
["Diverse B Indtægt",0,{"$f":"D4/100","v":0},{"$f":"SUM(B44*C44)","v":0},{"$f":"SUM(B44-D44)","v":0}]
[]
["Løn udbetaling total",null,null,null,{"$f":"SUM(E41:E44)","v":0}]
[]
["Saldi:",null,"Perioden",null,"År til dato"]
["AM indkomst",null,{"$f":"+C31","v":0},null,{"$f":"September!E49+C49","v":0}]
["A-Indkomst",null,{"$f":"+D34","v":0},null,{"$f":"September!E50+C50","v":0}]
["A Skat",null,{"$f":"+E38","v":0},null,{"$f":"September!E51+C51","v":0}]
["AM bidrag",null,{"$f":"+E31","v":0},null,{"$f":"September!E52+C52","v":0}]
["Ferieberettiget indkomst",null,{"$f":"SUM(E14)","v":0},null,{"$f":"September!E53+C53","v":0}]
["FerieOpsparing",null,{"$f":"C23","v":0},null,{"$f":"September!E54+C54","v":0}]

{"sheet":"November","index":11,"n_rows":54,"n_cols":5,"rows_kept":54,"cut":false,"hidden":false,"merged":[]}
["Lønseddel"]
[]
[]
[null,null,"Trækprocent: ",0]
[null,null,"M.fradrag:",0]
[null,null,"Indu. Pension",0]
[null,null,"Pen. Fritvalg",0]
[null,null,"AM Bidrag",0]
[null,null,"fritvalg",0]
[null,null,"Ferieopsparing",0]
[null,null,"Fritvalg timeløn",0]
[]
[]
["LØN",null,null,null,{"$f":"LønOgTimeberegning!T473","v":0}]
[]
["Sygeløn"]
[" overtid"," ",null," "," "]
["Feriefridag"]
[]
[]
[null,null,null," "," "]
["Arbejderskiver sundhedfor.",null,0," "," "]
["Ferie penge 12.5%",{"$f":"E14","v":0},{"$f":"SUM(B23*D10/100)","v":0}," "," "]
["Fritvalg 9,25%",{"$f":"E14","v":0},{"$f":"SUM(B24*D9/100)","v":0}]
["pension betaling Fritvalg 4 %",{"$f":"E14","v":0},null,{"$f":"SUM(B25*D7/100)","v":0}]
["Fritvalg konto timeløn 5,25%",{"$f":"E14","v":0},{"$f":"SUM(B26*D11/100)","v":0}]
["Industriens pension 4%",{"$f":"SUM(E14,C23,C24)","v":0},null,null,{"$f":"SUM(B27*D6/100)","v":0}]
["Atp bidrag ",{"$f":"D14","v":0},null,null,0]
[]
["Ferieberettiget indkomst"]
["Arbejdsmarkedsbidrag:",null,{"$f":"E14-E27-E28+C22","v":0},null,{"$f":"SUM(C31*D8/100)","v":0}]
["Nettoløn:",null,null,null,{"$f":"E14-SUM(E17:E31)","v":0}]
[]
["A-skattepligtig indkomst",null,null,{"$f":"+E32","v":0}]
["Månedligt fradrag:",null,null,{"$f":"D5","v":0}]
["Skattegrundlag:",null,null,{"$f":"+D34-D35","v":0}]
[]
["Skat:","39 % af",{"$f":"+D36","v":0},null,{"$f":"ROUND(+(C38/100)*D4,0)","v":0}]
[]
[null,"Personale foreningen",0,null,{"$f":"C40","v":0}]
["Løn til udbetaling:",null,null,null,{"$f":"+E32-SUM(E38:E40)","v":0}]
[]
["Diverse B Indtægt",0,{"$f":"D4/100","v":0},{"$f":"SUM(B43*C43)","v":0},{"$f":"SUM(B43-D43)","v":0}]
["Diverse B Indtægt",0,{"$f":"D4/100","v":0},{"$f":"SUM(B44*C44)","v":0},{"$f":"SUM(B44-D44)","v":0}]
[]
["Løn udbetaling total",null,null,null,{"$f":"SUM(E41:E44)","v":0}]
[]
["Saldi:",null,"Perioden",null,"År til dato"]
["AM indkomst",null,{"$f":"+C31","v":0},null,{"$f":"Oktober!E49+C49","v":0}]
["A-Indkomst",null,{"$f":"+D34","v":0},null,{"$f":"Oktober!E50+C50","v":0}]
["A Skat",null,{"$f":"+E38","v":0},null,{"$f":"Oktober!E51+C51","v":0}]
["AM bidrag",null,{"$f":"+E31","v":0},null,{"$f":"Oktober!E52+C52","v":0}]
["Ferieberettiget indkomst",null,{"$f":"SUM(E14)","v":0},null,{"$f":"Oktober!E53+C53","v":0}]
["FerieOpsparing",null,{"$f":"C23","v":0},null,{"$f":"Oktober!E54+C54","v":0}]

{"sheet":"December","index":12,"n_rows":54,"n_cols":5,"rows_kept":54,"cut":false,"hidden":false,"merged":[]}
["Lønseddel"]
[]
[]
[null,null,"Trækprocent: ",0]
[null,null,"M.fradrag:",0]
[null,null,"Indu. Pension",0]
[null,null,"Pen. Fritvalg",0]
[null,null,"AM Bidrag",0]
[null,null,"fritvalg",0]
[null,null,"Ferieopsparing",0]
[null,null,"Fritvalg timeløn",0]
[]
[]
["LØN",null,null,null,{"$f":"LønOgTimeberegning!T515","v":0}]
[]
["Sygeløn"]
[" overtid"," ",null," "," "]
["Feriefridag"]
[]
[]
[null,null,null," "," "]
["Arbejderskiver sundhedfor.",null,0," "," "]
["Ferie penge 12.5%",{"$f":"E14","v":0},{"$f":"SUM(B23*D10/100)","v":0}," "," "]
["Fritvalg 9,25%",{"$f":"E14","v":0},{"$f":"SUM(B24*D9/100)","v":0}]
["pension betaling Fritvalg 4 %",{"$f":"E14","v":0},null,{"$f":"SUM(B25*D7/100)","v":0}]
["Fritvalg konto timeløn 5,25%",{"$f":"E14","v":0},{"$f":"SUM(B26*D11/100)","v":0}]
["Industriens pension 4%",{"$f":"SUM(E14,C23,C24)","v":0},null,null,{"$f":"SUM(B27*D6/100)","v":0}]
["Atp bidrag ",{"$f":"D14","v":0},null,null,0]
[]
["Ferieberettiget indkomst"]
["Arbejdsmarkedsbidrag:",null,{"$f":"E14-E27-E28+C22","v":0},null,{"$f":"SUM(C31*D8/100)","v":0}]
["Nettoløn:",null,null,null,{"$f":"E14-SUM(E17:E31)","v":0}]
[]
["A-skattepligtig indkomst",null,null,{"$f":"+E32","v":0}]
["Månedligt fradrag:",null,null,{"$f":"D5","v":0}]
["Skattegrundlag:",null,null,{"$f":"+D34-D35","v":0}]
[]
["Skat:","39 % af",{"$f":"+D36","v":0},null,{"$f":"ROUND(+(C38/100)*D4,0)","v":0}]
[]
[null,"Personale foreningen",0,null,{"$f":"C40","v":0}]
["Løn til udbetaling:",null,null,null,{"$f":"+E32-SUM(E38:E40)","v":0}]
[]
["Diverse B Indtægt",0,{"$f":"D4/100","v":0},{"$f":"SUM(B43*C43)","v":0},{"$f":"SUM(B43-D43)","v":0}]
["Diverse B Indtægt",0,{"$f":"D4/100","v":0},{"$f":"SUM(B44*C44)","v":0},{"$f":"SUM(B44-D44)","v":0}]
[]
["Løn udbetaling total",null,null,null,{"$f":"SUM(E41:E44)","v":0}]
[]
["Saldi:",null,"Perioden",null,"År til dato"]
["AM indkomst",null,{"$f":"+C31","v":0},null,{"$f":"November!E49+C49","v":0}]
["A-Indkomst",null,{"$f":"+D34","v":0},null,{"$f":"November!E50+C50","v":0}]
["A Skat",null,{"$f":"+E38","v":0},null,{"$f":"November!E51+C51","v":0}]
["AM bidrag",null,{"$f":"+E31","v":0},null,{"$f":"November!E52+C52","v":0}]
["Ferieberettiget indkomst",null,{"$f":"SUM(E14)","v":0},null,{"$f":"November!E53+C53","v":0}]
["FerieOpsparing",null,{"$f":"C23","v":0},null,{"$f":"November!E54+C54","v":0}]