{"text_format":"1","workbook":"xlsx","n_sheets":4,"sheets":["Bestilling oversigt","Lager antal","Lageromsætning","Leverandørliste"],"not_rendered":{"charts":0,"images":1,"macros":1,"external_links":1,"defined_names":5,"comments":0,"pivot_tables":0},"unopened":[],"bounds":{"document_bytes":16777216,"sheet_cells":100000,"rows_first":2000,"rows_last":500,"rows_between":2000,"halvings":0,"cell_chars":16384,"cell_head_chars":4096},"cells_cut":0,"cells_raw":0,"read":"whole","date_system":"1900"}

{"sheet":"Bestilling oversigt","index":0,"n_rows":286,"n_cols":17,"rows_kept":286,"cut":false,"hidden":false,"merged":[[1,32,1,33],[1,34,1,35],[1,22,1,23],[1,24,1,25],[1,26,1,27],[1,28,1,29],[1,30,1,31],[1,11,1,13],[0,2,0,3],[1,18,1,19],[1,20,1,21]]}
["Leverandørnr.",null,"Leverandør",null,"4473",null,"Afdeling",null,null,null,"Omsætningshastighed",null,null,null,{"$f":"+SUM(N4:N280)/SUM(F4:F280)","v":15.322872087494057},null,{"$f":"MATCH(2,1/--(Lageromsætning!L:L<>\"\"))","v":35}]
[{"$f":"SUMIFS(Leverandørliste!$A$2:$A$46,Leverandørliste!$A$2:$A$46,LEFT(E1,4))","v":4473},null,null,null,null,null,400,null,null,null,6,"Lager omsætning"]
["Kreditor","Varegrp.","Varenr.","Varetekst","Varetekst 2","Lagerbeholdning","Reseveret ","Udgår ","Lagerføring","Bestillingsforeslag","Bestilt",null,"Lagertal ","Salg 12 u/dir","Lager oms."]
[{"$f":"IFERROR(INDEX(Lageromsætning!$A$3:$A$79,SMALL(IF(Lageromsætning!$A$3:$A$79=$A$2,ROW(Lageromsætning!$A$3:$A$79)-CELL(\"row\",Lageromsætning!$A$3:$A$79)+1),ROWS($1:1))),\"\")","v":4473},{"$f":"IFERROR(INDEX(Lageromsætning!$C$3:$C$79,SMALL(IF(Lageromsætning!$A$3:$A$79=$A$2,ROW(Lageromsætning!$A$3:$A$79)-CELL(\"row\",Lageromsætning!$A$3:$A$79)+1),ROWS($2:2))),\"\")","v":4530},{"$f":"IFERROR(INDEX(Lageromsætning!$D$3:$D$79,SMALL(IF(Lageromsætning!$A$3:$A$79=$A$2,ROW(Lageromsætning!$A$3:$A$79)-CELL(\"row\",Lageromsætning!$A$3:$A$79)+1),ROWS($2:2))),\"\")","v":1446513},{"$f":"IFERROR(INDEX(Lageromsætning!$E$3:$E$79,SMALL(IF(Lageromsætning!$A$3:$A$79=$A$2,ROW(Lageromsætning!$A$3:$A$79)-CELL(\"row\",Lageromsætning!$A$3:$A$79)+1),ROWS($2:2))),\"\")","v":"Vare 14"},{"$f":"IFERROR(INDEX(Lageromsætning!$AF$3:$AF$79,SMALL(IF(Lageromsætning!$A$3:$A$79=$A$2,ROW(Lageromsætning!$A$3:$A$79)-CELL(\"row\",Lageromsætning!$A$3:$A$79)+1),ROWS($2:2))),\"\")","v":0},{"$f":"SUMIFS('Lager antal'!$D$3:$D$2508,'Lager antal'!$B$3:$B$2508,B4,'Lager antal'!$C$3:$C$2508,C4)","v":211},{"$f":"SUMIFS('Lager antal'!$F$3:$F$2508,'Lager antal'!$B$3:$B$2508,B4,'Lager antal'!$C$3:$C$2508,C4)","v":0},{"$f":"IF(ISNA(VLOOKUP($C4,'Lager antal'!$C$3:$K$508,9,FALSE))=TRUE,\"\",VLOOKUP($C4,'Lager antal'!$C$3:$K$508,9,FALSE))","v":"udgår"},{"$f":"IFERROR(INDEX(Lageromsætning!$P$3:$P$79,SMALL(IF(Lageromsætning!$A$3:$A$79=$A$2,ROW(Lageromsætning!$A$3:$A$79)-CELL(\"row\",Lageromsætning!$A$3:$A$79)+1),ROWS($2:2))),\"\")","v":"1"},{"$f":"+_xlfn.IFS($M4>=0.01,$M4,TRUE,0)-$F4-K4+G4","v":-207.5},{"$f":"SUMIFS('Lager antal'!$G$3:$G$2508,'Lager antal'!$B$3:$B$2508,B4,'Lager antal'!$C$3:$C$2508,C4)","v":0},null,{"$f":"+$N4/$K$2","v":3.5},{"$f":"SUMIFS(Lageromsætning!$R$3:$R$79,Lageromsætning!$A$3:$A$79,$A$2,Lageromsætning!$C$3:$C$79,B4,Lageromsætning!$D$3:$D$79,C4)","v":21},{"$f":"SUMIFS(Lageromsætning!$S$3:$S$79,Lageromsætning!$C$3:$C$79,B4,Lageromsætning!$D$3:$D$79,C4)","v":4.2769857433808553E-2},{"$f":"SUMIFS(INDIRECT($Q$4),Lageromsætning!$C$3:$C$35,B4,Lageromsætning!$D$3:$D$35,C4)","v":21},{"$f":"ADDRESS(3,12+CHOOSE(MATCH(G2,{200;400;500;600},0),0,6,12,18),,,\"Lageromsætning\")&\":\"&ADDRESS($Q$1,12+CHOOSE(MATCH(G2,{200;400;500;600},0),0,6,12,18))","v":"Lageromsætning!$R$3:$R$35"}]
[{"$f":"IFERROR(INDEX(Lageromsætning!$A$3:$A$79,SMALL(IF(Lageromsætning!$A$3:$A$79=$A$2,ROW(Lageromsætning!$A$3:$A$79)-CELL(\"row\",Lageromsætning!$A$3:$A$79)+1),ROWS($1:2))),\"\")","v":4473},{"$f":"IFERROR(INDEX(Lageromsætning!$C$3:$C$79,SMALL(IF(Lageromsætning!$A$3:$A$79=$A$2,ROW(Lageromsætning!$A$3:$A$79)-CELL(\"row\",Lageromsætning!$A$3:$A$79)+1),ROWS($2:3))),\"\")","v":4530},{"$f":"IFERROR(INDEX(Lageromsætning!$D$3:$D$79,SMALL(IF(Lageromsætning!$A$3:$A$79=$A$2,ROW(Lageromsætning!$A$3:$A$79)-CELL(\"row\",Lageromsætning!$A$3:$A$79)+1),ROWS($2:3))),\"\")","v":1602059},{"$f":"IFERROR(INDEX(Lageromsætning!$E$3:$E$79,SMALL(IF(Lageromsætning!$A$3:$A$79=$A$2,ROW(Lageromsætning!$A$3:$A$79)-CELL(\"row\",Lageromsætning!$A$3:$A$79)+1),ROWS($2:3))),\"\")","v":"Vare 15"},{"$f":"IFERROR(INDEX(Lageromsætning!$AF$3:$AF$79,SMALL(IF(Lageromsætning!$A$3:$A$79=$A$2,ROW(Lageromsætning!$A$3:$A$79)-CELL(\"row\",Lageromsætning!$A$3:$A$79)+1),ROWS($2:3))),\"\")","v":0},{"$f":"SUMIFS('Lager antal'!$D$3:$D$2508,'Lager antal'!$B$3:$B$2508,B5,'Lager antal'!$C$3:$C$2508,C5)","v":0},{"$f":"SUMIFS('Lager antal'!$F$3:$F$2508,'Lager antal'!$B$3:$B$2508,B5,'Lager antal'!$C$3:$C$2508,C5)","v":0},{"$f":"IF(ISNA(VLOOKUP($C5,'Lager antal'!$C$3:$K$508,9,FALSE))=TRUE,\"\",VLOOKUP($C5,'Lager antal'!$C$3:$K$508,9,FALSE))","v":""},{"$f":"IFERROR(INDEX(Lageromsætning!$P$3:$P$79,SMALL(IF(Lageromsætning!$A$3:$A$79=$A$2,ROW(Lageromsætning!$A$3:$A$79)-CELL(\"row\",Lageromsætning!$A$3:$A$79)+1),ROWS($2:3))),\"\")","v":""},{"$f":"+_xlfn.IFS($M5>=0.01,$M5,TRUE,0)-$F5-K5+G5","v":150.83333333333334},{"$f":"SUMIFS('Lager antal'!$G$3:$G$2508,'Lager antal'!$B$3:$B$2508,B5,'Lager antal'!$C$3:$C$2508,C5)","v":0},null,150.83333333333334,{"$f":"SUMIFS(Lageromsætning!$R$3:$R$79,Lageromsætning!$A$3:$A$79,$A$2,Lageromsætning!$C$3:$C$79,B5,Lageromsætning!$D$3:$D$79,C5)","v":905},{"$f":"SUMIFS(Lageromsætning!$S$3:$S$79,Lageromsætning!$C$3:$C$79,B5,Lageromsætning!$D$3:$D$79,C5)","v":0}]
[{"$f":"IFERROR(INDEX(Lageromsætning!$A$3:$A$79,SMALL(IF(Lageromsætning!$A$3:$A$79=$A$2,ROW(Lageromsætning!$A$3:$A$79)-CELL(\"row\",Lageromsætning!$A$3:$A$79)+1),ROWS($1:3))),\"\")","v":4473},{"$f":"IFERROR(INDEX(Lageromsætning!$C$3:$C$79,SMALL(IF(Lageromsætning!$A$3:$A$79=$A$2,ROW(Lageromsætning!$A$3:$A$79)-CELL(\"row\",Lageromsætning!$A$3:$A$79)+1),ROWS($2:4))),\"\")","v":4530},{"$f":"IFERROR(INDEX(Lageromsætning!$D$3:$D$79,SMALL(IF(Lageromsætning!$A$3:$A$79=$A$2,ROW(Lageromsætning!$A$3:$A$79)-CELL(\"row\",Lageromsætning!$A$3:$A$79)+1),ROWS($2:4))),\"\")","v":1863086},{"$f":"IFERROR(INDEX(Lageromsætning!$E$3:$E$79,SMALL(IF(Lageromsætning!$A$3:$A$79=$A$2,ROW(Lageromsætning!$A$3:$A$79)-CELL(\"row\",Lageromsætning!$A$3:$A$79)+1),ROWS($2:4))),\"\")","v":"Vare 16"},{"$f":"IFERROR(INDEX(Lageromsætning!$AF$3:$AF$79,SMALL(IF(Lageromsætning!$A$3:$A$79=$A$2,ROW(Lageromsætning!$A$3:$A$79)-CELL(\"row\",Lageromsætning!$A$3:$A$79)+1),ROWS($2:4))),\"\")","v":0},{"$f":"SUMIFS('Lager antal'!$D$3:$D$2508,'Lager antal'!$B$3:$B$2508,B6,'Lager antal'!$C$3:$C$2508,C6)","v":1201},{"$f":"SUMIFS('Lager antal'!$F$3:$F$2508,'Lager antal'!$B$3:$B$2508,B6,'Lager antal'!$C$3:$C$2508,C6)","v":334},{"$f":"IF(ISNA(VLOOKUP($C6,'Lager antal'!$C$3:$K$508,9,FALSE))=TRUE,\"\",VLOOKUP($C6,'Lager antal'!$C$3:$K$508,9,FALSE))","v":""},{"$f":"IFERROR(INDEX(Lageromsætning!$P$3:$P$79,SMALL(IF(Lageromsætning!$A$3:$A$79=$A$2,ROW(Lageromsætning!$A$3:$A$79)-CELL(\"row\",Lageromsætning!$A$3:$A$79)+1),ROWS($2:4))),\"\")","v":"1"},{"$f":"+_xlfn.IFS($M6>=0.01,$M6,TRUE,0)-$F6-K6+G6","v":-893.5},{"$f":"SUMIFS('Lager antal'!$G$3:$G$2508,'Lager antal'!$B$3:$B$2508,B6,'Lager antal'!$C$3:$C$2508,C6)","v":960},null,933.5,{"$f":"SUMIFS(Lageromsætning!$R$3:$R$79,Lageromsætning!$A$3:$A$79,$A$2,Lageromsætning!$C$3:$C$79,B6,Lageromsætning!$D$3:$D$79,C6)","v":5601},{"$f":"SUMIFS(Lageromsætning!$S$3:$S$79,Lageromsætning!$C$3:$C$79,B6,Lageromsætning!$D$3:$D$79,C6)","v":4.3723653395784545}]
[{"$f":"IFERROR(INDEX(Lageromsætning!$A$3:$A$79,SMALL(IF(Lageromsætning!$A$3:$A$79=$A$2,ROW(Lageromsætning!$A$3:$A$79)-CELL(\"row\",Lageromsætning!$A$3:$A$79)+1),ROWS($1:4))),\"\")","v":4473},{"$f":"IFERROR(INDEX(Lageromsætning!$C$3:$C$79,SMALL(IF(Lageromsætning!$A$3:$A$79=$A$2,ROW(Lageromsætning!$A$3:$A$79)-CELL(\"row\",Lageromsætning!$A$3:$A$79)+1),ROWS($2:5))),\"\")","v":4530},{"$f":"IFERROR(INDEX(Lageromsætning!$D$3:$D$79,SMALL(IF(Lageromsætning!$A$3:$A$79=$A$2,ROW(Lageromsætning!$A$3:$A$79)-CELL(\"row\",Lageromsætning!$A$3:$A$79)+1),ROWS($2:5))),\"\")","v":1867031},{"$f":"IFERROR(INDEX(Lageromsætning!$E$3:$E$79,SMALL(IF(Lageromsætning!$A$3:$A$79=$A$2,ROW(Lageromsætning!$A$3:$A$79)-CELL(\"row\",Lageromsætning!$A$3:$A$79)+1),ROWS($2:5))),\"\")","v":"Vare 17"},{"$f":"IFERROR(INDEX(Lageromsætning!$AF$3:$AF$79,SMALL(IF(Lageromsætning!$A$3:$A$79=$A$2,ROW(Lageromsætning!$A$3:$A$79)-CELL(\"row\",Lageromsætning!$A$3:$A$79)+1),ROWS($2:5))),\"\")","v":0},{"$f":"SUMIFS('Lager antal'!$D$3:$D$2508,'Lager antal'!$B$3:$B$2508,B7,'Lager antal'!$C$3:$C$2508,C7)","v":159},{"$f":"SUMIFS('Lager antal'!$F$3:$F$2508,'Lager antal'!$B$3:$B$2508,B7,'Lager antal'!$C$3:$C$2508,C7)","v":0},{"$f":"IF(ISNA(VLOOKUP($C7,'Lager antal'!$C$3:$K$508,9,FALSE))=TRUE,\"\",VLOOKUP($C7,'Lager antal'!$C$3:$K$508,9,FALSE))","v":""},{"$f":"IFERROR(INDEX(Lageromsætning!$P$3:$P$79,SMALL(IF(Lageromsætning!$A$3:$A$79=$A$2,ROW(Lageromsætning!$A$3:$A$79)-CELL(\"row\",Lageromsætning!$A$3:$A$79)+1),ROWS($2:5))),\"\")","v":"1"},{"$f":"+_xlfn.IFS($M7>=0.01,$M7,TRUE,0)-$F7-K7+G7","v":48.166666666666657},{"$f":"SUMIFS('Lager antal'!$G$3:$G$2508,'Lager antal'!$B$3:$B$2508,B7,'Lager antal'!$C$3:$C$2508,C7)","v":0},null,207.16666666666666,{"$f":"SUMIFS(Lageromsætning!$R$3:$R$79,Lageromsætning!$A$3:$A$79,$A$2,Lageromsætning!$C$3:$C$79,B7,Lageromsætning!$D$3:$D$79,C7)","v":1243},{"$f":"SUMIFS(Lageromsætning!$S$3:$S$79,Lageromsætning!$C$3:$C$79,B7,Lageromsætning!$D$3:$D$79,C7)","v":7.5792682926829267}]
[{"$f":"IFERROR(INDEX(Lageromsætning!$A$3:$A$79,SMALL(IF(Lageromsætning!$A$3:$A$79=$A$2,ROW(Lageromsætning!$A$3:$A$79)-CELL(\"row\",Lageromsætning!$A$3:$A$79)+1),ROWS($1:5))),\"\")","v":4473},{"$f":"IFERROR(INDEX(Lageromsætning!$C$3:$C$79,SMALL(IF(Lageromsætning!$A$3:$A$79=$A$2,ROW(Lageromsætning!$A$3:$A$79)-CELL(\"row\",Lageromsætning!$A$3:$A$79)+1),ROWS($2:6))),\"\")","v":4530},{"$f":"IFERROR(INDEX(Lageromsætning!$D$3:$D$79,SMALL(IF(Lageromsætning!$A$3:$A$79=$A$2,ROW(Lageromsætning!$A$3:$A$79)-CELL(\"row\",Lageromsætning!$A$3:$A$79)+1),ROWS($2:6))),\"\")","v":5015401},{"$f":"IFERROR(INDEX(Lageromsætning!$E$3:$E$79,SMALL(IF(Lageromsætning!$A$3:$A$79=$A$2,ROW(Lageromsætning!$A$3:$A$79)-CELL(\"row\",Lageromsætning!$A$3:$A$79)+1),ROWS($2:6))),\"\")","v":"Vare 18"},{"$f":"IFERROR(INDEX(Lageromsætning!$AF$3:$AF$79,SMALL(IF(Lageromsætning!$A$3:$A$79=$A$2,ROW(Lageromsætning!$A$3:$A$79)-CELL(\"row\",Lageromsætning!$A$3:$A$79)+1),ROWS($2:6))),\"\")","v":0},{"$f":"SUMIFS('Lager antal'!$D$3:$D$2508,'Lager antal'!$B$3:$B$2508,B8,'Lager antal'!$C$3:$C$2508,C8)","v":1125},{"$f":"SUMIFS('Lager antal'!$F$3:$F$2508,'Lager antal'!$B$3:$B$2508,B8,'Lager antal'!$C$3:$C$2508,C8)","v":360},{"$f":"IF(ISNA(VLOOKUP($C8,'Lager antal'!$C$3:$K$508,9,FALSE))=TRUE,\"\",VLOOKUP($C8,'Lager antal'!$C$3:$K$508,9,FALSE))","v":""},{"$f":"IFERROR(INDEX(Lageromsætning!$P$3:$P$79,SMALL(IF(Lageromsætning!$A$3:$A$79=$A$2,ROW(Lageromsætning!$A$3:$A$79)-CELL(\"row\",Lageromsætning!$A$3:$A$79)+1),ROWS($2:6))),\"\")","v":"1"},{"$f":"+_xlfn.IFS($M8>=0.01,$M8,TRUE,0)-$F8-K8+G8","v":-253.16666666666674},{"$f":"SUMIFS('Lager antal'!$G$3:$G$2508,'Lager antal'!$B$3:$B$2508,B8,'Lager antal'!$C$3:$C$2508,C8)","v":0},null,511.83333333333331,{"$f":"SUMIFS(Lageromsætning!$R$3:$R$79,Lageromsætning!$A$3:$A$79,$A$2,Lageromsætning!$C$3:$C$79,B8,Lageromsætning!$D$3:$D$79,C8)","v":3071},{"$f":"SUMIFS(Lageromsætning!$S$3:$S$79,Lageromsætning!$C$3:$C$79,B8,Lageromsætning!$D$3:$D$79,C8)","v":2.9700193423597678}]
[{"$f":"IFERROR(INDEX(Lageromsætning!$A$3:$A$79,SMALL(IF(Lageromsætning!$A$3:$A$79=$A$2,ROW(Lageromsætning!$A$3:$A$79)-CELL(\"row\",Lageromsætning!$A$3:$A$79)+1),ROWS($1:6))),\"\")","v":4473},{"$f":"IFERROR(INDEX(Lageromsætning!$C$3:$C$79,SMALL(IF(Lageromsætning!$A$3:$A$79=$A$2,ROW(Lageromsætning!$A$3:$A$79)-CELL(\"row\",Lageromsætning!$A$3:$A$79)+1),ROWS($2:7))),\"\")","v":4530},{"$f":"IFERROR(INDEX(Lageromsætning!$D$3:$D$79,SMALL(IF(Lageromsætning!$A$3:$A$79=$A$2,ROW(Lageromsætning!$A$3:$A$79)-CELL(\"row\",Lageromsætning!$A$3:$A$79)+1),ROWS($2:7))),\"\")","v":5214761},{"$f":"IFERROR(INDEX(Lageromsætning!$E$3:$E$79,SMALL(IF(Lageromsætning!$A$3:$A$79=$A$2,ROW(Lageromsætning!$A$3:$A$79)-CELL(\"row\",Lageromsætning!$A$3:$A$79)+1),ROWS($2:7))),\"\")","v":"Vare 19"},{"$f":"IFERROR(INDEX(Lageromsætning!$AF$3:$AF$79,SMALL(IF(Lageromsætning!$A$3:$A$79=$A$2,ROW(Lageromsætning!$A$3:$A$79)-CELL(\"row\",Lageromsætning!$A$3:$A$79)+1),ROWS($2:7))),\"\")","v":0},{"$f":"SUMIFS('Lager antal'!$D$3:$D$2508,'Lager antal'!$B$3:$B$2508,B9,'Lager antal'!$C$3:$C$2508,C9)","v":973},{"$f":"SUMIFS('Lager antal'!$F$3:$F$2508,'Lager antal'!$B$3:$B$2508,B9,'Lager antal'!$C$3:$C$2508,C9)","v":2977},{"$f":"IF(ISNA(VLOOKUP($C9,'Lager antal'!$C$3:$K$508,9,FALSE))=TRUE,\"\",VLOOKUP($C9,'Lager antal'!$C$3:$K$508,9,FALSE))","v":""},{"$f":"IFERROR(INDEX(Lageromsætning!$P$3:$P$79,SMALL(IF(Lageromsætning!$A$3:$A$79=$A$2,ROW(Lageromsætning!$A$3:$A$79)-CELL(\"row\",Lageromsætning!$A$3:$A$79)+1),ROWS($2:7))),\"\")","v":"1"},{"$f":"+_xlfn.IFS($M9>=0.01,$M9,TRUE,0)-$F9-K9+G9","v":3388.3333333333339},{"$f":"SUMIFS('Lager antal'!$G$3:$G$2508,'Lager antal'!$B$3:$B$2508,B9,'Lager antal'!$C$3:$C$2508,C9)","v":6960},null,8344.3333333333339,{"$f":"SUMIFS(Lageromsætning!$R$3:$R$79,Lageromsætning!$A$3:$A$79,$A$2,Lageromsætning!$C$3:$C$79,B9,Lageromsætning!$D$3:$D$79,C9)","v":50066},{"$f":"SUMIFS(Lageromsætning!$S$3:$S$79,Lageromsætning!$C$3:$C$79,B9,Lageromsætning!$D$3:$D$79,C9)","v":13.965411436541144}]
[{"$f":"IFERROR(INDEX(Lageromsætning!$A$3:$A$79,SMALL(IF(Lageromsætning!$A$3:$A$79=$A$2,ROW(Lageromsætning!$A$3:$A$79)-CELL(\"row\",Lageromsætning!$A$3:$A$79)+1),ROWS($1:7))),\"\")","v":4473},{"$f":"IFERROR(INDEX(Lageromsætning!$C$3:$C$79,SMALL(IF(Lageromsætning!$A$3:$A$79=$A$2,ROW(Lageromsætning!$A$3:$A$79)-CELL(\"row\",Lageromsætning!$A$3:$A$79)+1),ROWS($2:8))),\"\")","v":4720},{"$f":"IFERROR(INDEX(Lageromsætning!$D$3:$D$79,SMALL(IF(Lageromsætning!$A$3:$A$79=$A$2,ROW(Lageromsætning!$A$3:$A$79)-CELL(\"row\",Lageromsætning!$A$3:$A$79)+1),ROWS($2:8))),\"\")","v":2272567},{"$f":"IFERROR(INDEX(Lageromsætning!$E$3:$E$79,SMALL(IF(Lageromsætning!$A$3:$A$79=$A$2,ROW(Lageromsætning!$A$3:$A$79)-CELL(\"row\",Lageromsætning!$A$3:$A$79)+1),ROWS($2:8))),\"\")","v":"Vare 20"},{"$f":"IFERROR(INDEX(Lageromsætning!$AF$3:$AF$79,SMALL(IF(Lageromsætning!$A$3:$A$79=$A$2,ROW(Lageromsætning!$A$3:$A$79)-CELL(\"row\",Lageromsætning!$A$3:$A$79)+1),ROWS($2:8))),\"\")","v":0},{"$f":"SUMIFS('Lager antal'!$D$3:$D$2508,'Lager antal'!$B$3:$B$2508,B10,'Lager antal'!$C$3:$C$2508,C10)","v":12},{"$f":"SUMIFS('Lager antal'!$F$3:$F$2508,'Lager antal'!$B$3:$B$2508,B10,'Lager antal'!$C$3:$C$2508,C10)","v":2},{"$f":"IF(ISNA(VLOOKUP($C10,'Lager antal'!$C$3:$K$508,9,FALSE))=TRUE,\"\",VLOOKUP($C10,'Lager antal'!$C$3:$K$508,9,FALSE))","v":""},{"$f":"IFERROR(INDEX(Lageromsætning!$P$3:$P$79,SMALL(IF(Lageromsætning!$A$3:$A$79=$A$2,ROW(Lageromsætning!$A$3:$A$79)-CELL(\"row\",Lageromsætning!$A$3:$A$79)+1),ROWS($2:8))),\"\")","v":"1"},{"$f":"+_xlfn.IFS($M10>=0.01,$M10,TRUE,0)-$F10-K10+G10","v":-5.5},{"$f":"SUMIFS('Lager antal'!$G$3:$G$2508,'Lager antal'!$B$3:$B$2508,B10,'Lager antal'!$C$3:$C$2508,C10)","v":9},null,13.5,{"$f":"SUMIFS(Lageromsætning!$R$3:$R$79,Lageromsætning!$A$3:$A$79,$A$2,Lageromsætning!$C$3:$C$79,B10,Lageromsætning!$D$3:$D$79,C10)","v":81},{"$f":"SUMIFS(Lageromsætning!$S$3:$S$79,Lageromsætning!$C$3:$C$79,B10,Lageromsætning!$D$3:$D$79,C10)","v":6.2307692307692308}]
[{"$f":"IFERROR(INDEX(Lageromsætning!$A$3:$A$79,SMALL(IF(Lageromsætning!$A$3:$A$79=$A$2,ROW(Lageromsætning!$A$3:$A$79)-CELL(\"row\",Lageromsætning!$A$3:$A$79)+1),ROWS($1:8))),\"\")","v":4473},{"$f":"IFERROR(INDEX(Lageromsætning!$C$3:$C$79,SMALL(IF(Lageromsætning!$A$3:$A$79=$A$2,ROW(Lageromsætning!$A$3:$A$79)-CELL(\"row\",Lageromsætning!$A$3:$A$79)+1),ROWS($2:9))),\"\")","v":4720},{"$f":"IFERROR(INDEX(Lageromsætning!$D$3:$D$79,SMALL(IF(Lageromsætning!$A$3:$A$79=$A$2,ROW(Lageromsætning!$A$3:$A$79)-CELL(\"row\",Lageromsætning!$A$3:$A$79)+1),ROWS($2:9))),\"\")","v":2272569},{"$f":"IFERROR(INDEX(Lageromsætning!$E$3:$E$79,SMALL(IF(Lageromsætning!$A$3:$A$79=$A$2,ROW(Lageromsætning!$A$3:$A$79)-CELL(\"row\",Lageromsætning!$A$3:$A$79)+1),ROWS($2:9))),\"\")","v":"Vare 21"},{"$f":"IFERROR(INDEX(Lageromsætning!$AF$3:$AF$79,SMALL(IF(Lageromsætning!$A$3:$A$79=$A$2,ROW(Lageromsætning!$A$3:$A$79)-CELL(\"row\",Lageromsætning!$A$3:$A$79)+1),ROWS($2:9))),\"\")","v":0},{"$f":"SUMIFS('Lager antal'!$D$3:$D$2508,'Lager antal'!$B$3:$B$2508,B11,'Lager antal'!$C$3:$C$2508,C11)","v":4},{"$f":"SUMIFS('Lager antal'!$F$3:$F$2508,'Lager antal'!$B$3:$B$2508,B11,'Lager antal'!$C$3:$C$2508,C11)","v":0},{"$f":"IF(ISNA(VLOOKUP($C11,'Lager antal'!$C$3:$K$508,9,FALSE))=TRUE,\"\",VLOOKUP($C11,'Lager antal'!$C$3:$K$508,9,FALSE))","v":""},{"$f":"IFERROR(INDEX(Lageromsætning!$P$3:$P$79,SMALL(IF(Lageromsætning!$A$3:$A$79=$A$2,ROW(Lageromsætning!$A$3:$A$79)-CELL(\"row\",Lageromsætning!$A$3:$A$79)+1),ROWS($2:9))),\"\")","v":"1"},{"$f":"+_xlfn.IFS($M11>=0.01,$M11,TRUE,0)-$F11-K11+G11","v":-2},{"$f":"SUMIFS('Lager antal'!$G$3:$G$2508,'Lager antal'!$B$3:$B$2508,B11,'Lager antal'!$C$3:$C$2508,C11)","v":0},null,2,{"$f":"SUMIFS(Lageromsætning!$R$3:$R$79,Lageromsætning!$A$3:$A$79,$A$2,Lageromsætning!$C$3:$C$79,B11,Lageromsætning!$D$3:$D$79,C11)","v":12},{"$f":"SUMIFS(Lageromsætning!$S$3:$S$79,Lageromsætning!$C$3:$C$79,B11,Lageromsætning!$D$3:$D$79,C11)","v":3}]
[{"$f":"IFERROR(INDEX(Lageromsætning!$A$3:$A$79,SMALL(IF(Lageromsætning!$A$3:$A$79=$A$2,ROW(Lageromsætning!$A$3:$A$79)-CELL(\"row\",Lageromsætning!$A$3:$A$79)+1),ROWS($1:9))),\"\")","v":4473},{"$f":"IFERROR(INDEX(Lageromsætning!$C$3:$C$79,SMALL(IF(Lageromsætning!$A$3:$A$79=$A$2,ROW(Lageromsætning!$A$3:$A$79)-CELL(\"row\",Lageromsætning!$A$3:$A$79)+1),ROWS($2:10))),\"\")","v":5160},{"$f":"IFERROR(INDEX(Lageromsætning!$D$3:$D$79,SMALL(IF(Lageromsætning!$A$3:$A$79=$A$2,ROW(Lageromsætning!$A$3:$A$79)-CELL(\"row\",Lageromsætning!$A$3:$A$79)+1),ROWS($2:10))),\"\")","v":1703736},{"$f":"IFERROR(INDEX(Lageromsætning!$E$3:$E$79,SMALL(IF(Lageromsætning!$A$3:$A$79=$A$2,ROW(Lageromsætning!$A$3:$A$79)-CELL(\"row\",Lageromsætning!$A$3:$A$79)+1),ROWS($2:10))),\"\")","v":"Vare 22"},{"$f":"IFERROR(INDEX(Lageromsætning!$AF$3:$AF$79,SMALL(IF(Lageromsætning!$A$3:$A$79=$A$2,ROW(Lageromsætning!$A$3:$A$79)-CELL(\"row\",Lageromsætning!$A$3:$A$79)+1),ROWS($2:10))),\"\")","v":0},{"$f":"SUMIFS('Lager antal'!$D$3:$D$2508,'Lager antal'!$B$3:$B$2508,B12,'Lager antal'!$C$3:$C$2508,C12)","v":23},{"$f":"SUMIFS('Lager antal'!$F$3:$F$2508,'Lager antal'!$B$3:$B$2508,B12,'Lager antal'!$C$3:$C$2508,C12)","v":0},{"$f":"IF(ISNA(VLOOKUP($C12,'Lager antal'!$C$3:$K$508,9,FALSE))=TRUE,\"\",VLOOKUP($C12,'Lager antal'!$C$3:$K$508,9,FALSE))","v":""},{"$f":"IFERROR(INDEX(Lageromsætning!$P$3:$P$79,SMALL(IF(Lageromsætning!$A$3:$A$79=$A$2,ROW(Lageromsætning!$A$3:$A$79)-CELL(\"row\",Lageromsætning!$A$3:$A$79)+1),ROWS($2:10))),\"\")","v":"1"},{"$f":"+_xlfn.IFS($M12>=0.01,$M12,TRUE,0)-$F12-K12+G12","v":-21.166666666666668},{"$f":"SUMIFS('Lager antal'!$G$3:$G$2508,'Lager antal'!$B$3:$B$2508,B12,'Lager antal'!$C$3:$C$2508,C12)","v":0},null,1.8333333333333333,{"$f":"SUMIFS(Lageromsætning!$R$3:$R$79,Lageromsætning!$A$3:$A$79,$A$2,Lageromsætning!$C$3:$C$79,B12,Lageromsætning!$D$3:$D$79,C12)","v":11},{"$f":"SUMIFS(Lageromsætning!$S$3:$S$79,Lageromsætning!$C$3:$C$79,B12,Lageromsætning!$D$3:$D$79,C12)","v":0.47826086956521741}]
[{"$f":"IFERROR(INDEX(Lageromsætning!$A$3:$A$79,SMALL(IF(Lageromsætning!$A$3:$A$79=$A$2,ROW(Lageromsætning!$A$3:$A$79)-CELL(\"row\",Lageromsætning!$A$3:$A$79)+1),ROWS($1:10))),\"\")","v":4473},{"$f":"IFERROR(INDEX(Lageromsætning!$C$3:$C$79,SMALL(IF(Lageromsætning!$A$3:$A$79=$A$2,ROW(Lageromsætning!$A$3:$A$79)-CELL(\"row\",Lageromsætning!$A$3:$A$79)+1),ROWS($2:11))),\"\")","v":5160},{"$f":"IFERROR(INDEX(Lageromsætning!$D$3:$D$79,SMALL(IF(Lageromsætning!$A$3:$A$79=$A$2,ROW(Lageromsætning!$A$3:$A$79)-CELL(\"row\",Lageromsætning!$A$3:$A$79)+1),ROWS($2:11))),\"\")","v":1703739},{"$f":"IFERROR(INDEX(Lageromsætning!$E$3:$E$79,SMALL(IF(Lageromsætning!$A$3:$A$79=$A$2,ROW(Lageromsætning!$A$3:$A$79)-CELL(\"row\",Lageromsætning!$A$3:$A$79)+1),ROWS($2:11))),\"\")","v":"Vare 23"},{"$f":"IFERROR(INDEX(Lageromsætning!$AF$3:$AF$79,SMALL(IF(Lageromsætning!$A$3:$A$79=$A$2,ROW(Lageromsætning!$A$3:$A$79)-CELL(\"row\",Lageromsætning!$A$3:$A$79)+1),ROWS($2:11))),\"\")","v":0},{"$f":"SUMIFS('Lager antal'!$D$3:$D$2508,'Lager antal'!$B$3:$B$2508,B13,'Lager antal'!$C$3:$C$2508,C13)","v":155},{"$f":"SUMIFS('Lager antal'!$F$3:$F$2508,'Lager antal'!$B$3:$B$2508,B13,'Lager antal'!$C$3:$C$2508,C13)","v":30},{"$f":"IF(ISNA(VLOOKUP($C13,'Lager antal'!$C$3:$K$508,9,FALSE))=TRUE,\"\",VLOOKUP($C13,'Lager antal'!$C$3:$K$508,9,FALSE))","v":""},{"$f":"IFERROR(INDEX(Lageromsætning!$P$3:$P$79,SMALL(IF(Lageromsætning!$A$3:$A$79=$A$2,ROW(Lageromsætning!$A$3:$A$79)-CELL(\"row\",Lageromsætning!$A$3:$A$79)+1),ROWS($2:11))),\"\")","v":"1"},{"$f":"+_xlfn.IFS($M13>=0.01,$M13,TRUE,0)-$F13-K13+G13","v":42.833333333333314},{"$f":"SUMIFS('Lager antal'!$G$3:$G$2508,'Lager antal'!$B$3:$B$2508,B13,'Lager antal'!$C$3:$C$2508,C13)","v":216},null,383.83333333333331,{"$f":"SUMIFS(Lageromsætning!$R$3:$R$79,Lageromsætning!$A$3:$A$79,$A$2,Lageromsætning!$C$3:$C$79,B13,Lageromsætning!$D$3:$D$79,C13)","v":2303},{"$f":"SUMIFS(Lageromsætning!$S$3:$S$79,Lageromsætning!$C$3:$C$79,B13,Lageromsætning!$D$3:$D$79,C13)","v":11.994791666666666}]
[{"$f":"IFERROR(INDEX(Lageromsætning!$A$3:$A$79,SMALL(IF(Lageromsætning!$A$3:$A$79=$A$2,ROW(Lageromsætning!$A$3:$A$79)-CELL(\"row\",Lageromsætning!$A$3:$A$79)+1),ROWS($1:11))),\"\")","v":4473},{"$f":"IFERROR(INDEX(Lageromsætning!$C$3:$C$79,SMALL(IF(Lageromsætning!$A$3:$A$79=$A$2,ROW(Lageromsætning!$A$3:$A$79)-CELL(\"row\",Lageromsætning!$A$3:$A$79)+1),ROWS($2:12))),\"\")","v":5160},{"$f":"IFERROR(INDEX(Lageromsætning!$D$3:$D$79,SMALL(IF(Lageromsætning!$A$3:$A$79=$A$2,ROW(Lageromsætning!$A$3:$A$79)-CELL(\"row\",Lageromsætning!$A$3:$A$79)+1),ROWS($2:12))),\"\")","v":1703740},{"$f":"IFERROR(INDEX(Lageromsætning!$E$3:$E$79,SMALL(IF(Lageromsætning!$A$3:$A$79=$A$2,ROW(Lageromsætning!$A$3:$A$79)-CELL(\"row\",Lageromsætning!$A$3:$A$79)+1),ROWS($2:12))),\"\")","v":"Vare 24"},{"$f":"IFERROR(INDEX(Lageromsætning!$AF$3:$AF$79,SMALL(IF(Lageromsætning!$A$3:$A$79=$A$2,ROW(Lageromsætning!$A$3:$A$79)-CELL(\"row\",Lageromsætning!$A$3:$A$79)+1),ROWS($2:12))),\"\")","v":0},{"$f":"SUMIFS('Lager antal'!$D$3:$D$2508,'Lager antal'!$B$3:$B$2508,B14,'Lager antal'!$C$3:$C$2508,C14)","v":91},{"$f":"SUMIFS('Lager antal'!$F$3:$F$2508,'Lager antal'!$B$3:$B$2508,B14,'Lager antal'!$C$3:$C$2508,C14)","v":0},{"$f":"IF(ISNA(VLOOKUP($C14,'Lager antal'!$C$3:$K$508,9,FALSE))=TRUE,\"\",VLOOKUP($C14,'Lager antal'!$C$3:$K$508,9,FALSE))","v":""},{"$f":"IFERROR(INDEX(Lageromsætning!$P$3:$P$79,SMALL(IF(Lageromsætning!$A$3:$A$79=$A$2,ROW(Lageromsætning!$A$3:$A$79)-CELL(\"row\",Lageromsætning!$A$3:$A$79)+1),ROWS($2:12))),\"\")","v":"1"},{"$f":"+_xlfn.IFS($M14>=0.01,$M14,TRUE,0)-$F14-K14+G14","v":1.6666666666666714},{"$f":"SUMIFS('Lager antal'!$G$3:$G$2508,'Lager antal'!$B$3:$B$2508,B14,'Lager antal'!$C$3:$C$2508,C14)","v":0},null,92.666666666666671,{"$f":"SUMIFS(Lageromsætning!$R$3:$R$79,Lageromsætning!$A$3:$A$79,$A$2,Lageromsætning!$C$3:$C$79,B14,Lageromsætning!$D$3:$D$79,C14)","v":556},{"$f":"SUMIFS(Lageromsætning!$S$3:$S$79,Lageromsætning!$C$3:$C$79,B14,Lageromsætning!$D$3:$D$79,C14)","v":3.9432624113475176}]
[{"$f":"IFERROR(INDEX(Lageromsætning!$A$3:$A$79,SMALL(IF(Lageromsætning!$A$3:$A$79=$A$2,ROW(Lageromsætning!$A$3:$A$79)-CELL(\"row\",Lageromsætning!$A$3:$A$79)+1),ROWS($1:12))),\"\")","v":4473},{"$f":"IFERROR(INDEX(Lageromsætning!$C$3:$C$79,SMALL(IF(Lageromsætning!$A$3:$A$79=$A$2,ROW(Lageromsætning!$A$3:$A$79)-CELL(\"row\",Lageromsætning!$A$3:$A$79)+1),ROWS($2:13))),\"\")","v":5160},{"$f":"IFERROR(INDEX(Lageromsætning!$D$3:$D$79,SMALL(IF(Lageromsætning!$A$3:$A$79=$A$2,ROW(Lageromsætning!$A$3:$A$79)-CELL(\"row\",Lageromsætning!$A$3:$A$79)+1),ROWS($2:13))),\"\")","v":1703741},{"$f":"IFERROR(INDEX(Lageromsætning!$E$3:$E$79,SMALL(IF(Lageromsætning!$A$3:$A$79=$A$2,ROW(Lageromsætning!$A$3:$A$79)-CELL(\"row\",Lageromsætning!$A$3:$A$79)+1),ROWS($2:13))),\"\")","v":"Vare 25"},{"$f":"IFERROR(INDEX(Lageromsætning!$AF$3:$AF$79,SMALL(IF(Lageromsætning!$A$3:$A$79=$A$2,ROW(Lageromsætning!$A$3:$A$79)-CELL(\"row\",Lageromsætning!$A$3:$A$79)+1),ROWS($2:13))),\"\")","v":0},{"$f":"SUMIFS('Lager antal'!$D$3:$D$2508,'Lager antal'!$B$3:$B$2508,B15,'Lager antal'!$C$3:$C$2508,C15)","v":0},{"$f":"SUMIFS('Lager antal'!$F$3:$F$2508,'Lager antal'!$B$3:$B$2508,B15,'Lager antal'!$C$3:$C$2508,C15)","v":0},{"$f":"IF(ISNA(VLOOKUP($C15,'Lager antal'!$C$3:$K$508,9,FALSE))=TRUE,\"\",VLOOKUP($C15,'Lager antal'!$C$3:$K$508,9,FALSE))","v":""},{"$f":"IFERROR(INDEX(Lageromsætning!$P$3:$P$79,SMALL(IF(Lageromsætning!$A$3:$A$79=$A$2,ROW(Lageromsætning!$A$3:$A$79)-CELL(\"row\",Lageromsætning!$A$3:$A$79)+1),ROWS($2:13))),\"\")","v":"1"},{"$f":"+_xlfn.IFS($M15>=0.01,$M15,TRUE,0)-$F15-K15+G15","v":-32},{"$f":"SUMIFS('Lager antal'!$G$3:$G$2508,'Lager antal'!$B$3:$B$2508,B15,'Lager antal'!$C$3:$C$2508,C15)","v":32},null,0,{"$f":"SUMIFS(Lageromsætning!$R$3:$R$79,Lageromsætning!$A$3:$A$79,$A$2,Lageromsætning!$C$3:$C$79,B15,Lageromsætning!$D$3:$D$79,C15)","v":0},{"$f":"SUMIFS(Lageromsætning!$S$3:$S$79,Lageromsætning!$C$3:$C$79,B15,Lageromsætning!$D$3:$D$79,C15)","v":0}]
[{"$f":"IFERROR(INDEX(Lageromsætning!$A$3:$A$79,SMALL(IF(Lageromsætning!$A$3:$A$79=$A$2,ROW(Lageromsætning!$A$3:$A$79)-CELL(\"row\",Lageromsætning!$A$3:$A$79)+1),ROWS($1:13))),\"\")","v":4473},{"$f":"IFERROR(INDEX(Lageromsætning!$C$3:$C$79,SMALL(IF(Lageromsætning!$A$3:$A$79=$A$2,ROW(Lageromsætning!$A$3:$A$79)-CELL(\"row\",Lageromsætning!$A$3:$A$79)+1),ROWS($2:14))),\"\")","v":5160},{"$f":"IFERROR(INDEX(Lageromsætning!$D$3:$D$79,SMALL(IF(Lageromsætning!$A$3:$A$79=$A$2,ROW(Lageromsætning!$A$3:$A$79)-CELL(\"row\",Lageromsætning!$A$3:$A$79)+1),ROWS($2:14))),\"\")","v":1704040},{"$f":"IFERROR(INDEX(Lageromsætning!$E$3:$E$79,SMALL(IF(Lageromsætning!$A$3:$A$79=$A$2,ROW(Lageromsætning!$A$3:$A$79)-CELL(\"row\",Lageromsætning!$A$3:$A$79)+1),ROWS($2:14))),\"\")","v":"Vare 26"},{"$f":"IFERROR(INDEX(Lageromsætning!$AF$3:$AF$79,SMALL(IF(Lageromsætning!$A$3:$A$79=$A$2,ROW(Lageromsætning!$A$3:$A$79)-CELL(\"row\",Lageromsætning!$A$3:$A$79)+1),ROWS($2:14))),\"\")","v":0},{"$f":"SUMIFS('Lager antal'!$D$3:$D$2508,'Lager antal'!$B$3:$B$2508,B16,'Lager antal'!$C$3:$C$2508,C16)","v":57},{"$f":"SUMIFS('Lager antal'!$F$3:$F$2508,'Lager antal'!$B$3:$B$2508,B16,'Lager antal'!$C$3:$C$2508,C16)","v":0},{"$f":"IF(ISNA(VLOOKUP($C16,'Lager antal'!$C$3:$K$508,9,FALSE))=TRUE,\"\",VLOOKUP($C16,'Lager antal'!$C$3:$K$508,9,FALSE))","v":""},{"$f":"IFERROR(INDEX(Lageromsætning!$P$3:$P$79,SMALL(IF(Lageromsætning!$A$3:$A$79=$A$2,ROW(Lageromsætning!$A$3:$A$79)-CELL(\"row\",Lageromsætning!$A$3:$A$79)+1),ROWS($2:14))),\"\")","v":"1"},{"$f":"+_xlfn.IFS($M16>=0.01,$M16,TRUE,0)-$F16-K16+G16","v":-40.5},{"$f":"SUMIFS('Lager antal'!$G$3:$G$2508,'Lager antal'!$B$3:$B$2508,B16,'Lager antal'!$C$3:$C$2508,C16)","v":0},null,16.5,{"$f":"SUMIFS(Lageromsætning!$R$3:$R$79,Lageromsætning!$A$3:$A$79,$A$2,Lageromsætning!$C$3:$C$79,B16,Lageromsætning!$D$3:$D$79,C16)","v":99},{"$f":"SUMIFS(Lageromsætning!$S$3:$S$79,Lageromsætning!$C$3:$C$79,B16,Lageromsætning!$D$3:$D$79,C16)","v":1.736842105263158}]
[{"$f":"IFERROR(INDEX(Lageromsætning!$A$3:$A$79,SMALL(IF(Lageromsætning!$A$3:$A$79=$A$2,ROW(Lageromsætning!$A$3:$A$79)-CELL(\"row\",Lageromsætning!$A$3:$A$79)+1),ROWS($1:14))),\"\")","v":4473},{"$f":"IFERROR(INDEX(Lageromsætning!$C$3:$C$79,SMALL(IF(Lageromsætning!$A$3:$A$79=$A$2,ROW(Lageromsætning!$A$3:$A$79)-CELL(\"row\",Lageromsætning!$A$3:$A$79)+1),ROWS($2:15))),\"\")","v":5160},{"$f":"IFERROR(INDEX(Lageromsætning!$D$3:$D$79,SMALL(IF(Lageromsætning!$A$3:$A$79=$A$2,ROW(Lageromsætning!$A$3:$A$79)-CELL(\"row\",Lageromsætning!$A$3:$A$79)+1),ROWS($2:15))),\"\")","v":1965404},{"$f":"IFERROR(INDEX(Lageromsætning!$E$3:$E$79,SMALL(IF(Lageromsætning!$A$3:$A$79=$A$2,ROW(Lageromsætning!$A$3:$A$79)-CELL(\"row\",Lageromsætning!$A$3:$A$79)+1),ROWS($2:15))),\"\")","v":"Vare 27"},{"$f":"IFERROR(INDEX(Lageromsætning!$AF$3:$AF$79,SMALL(IF(Lageromsætning!$A$3:$A$79=$A$2,ROW(Lageromsætning!$A$3:$A$79)-CELL(\"row\",Lageromsætning!$A$3:$A$79)+1),ROWS($2:15))),\"\")","v":0},{"$f":"SUMIFS('Lager antal'!$D$3:$D$2508,'Lager antal'!$B$3:$B$2508,B17,'Lager antal'!$C$3:$C$2508,C17)","v":91},{"$f":"SUMIFS('Lager antal'!$F$3:$F$2508,'Lager antal'!$B$3:$B$2508,B17,'Lager antal'!$C$3:$C$2508,C17)","v":34},{"$f":"IF(ISNA(VLOOKUP($C17,'Lager antal'!$C$3:$K$508,9,FALSE))=TRUE,\"\",VLOOKUP($C17,'Lager antal'!$C$3:$K$508,9,FALSE))","v":""},{"$f":"IFERROR(INDEX(Lageromsætning!$P$3:$P$79,SMALL(IF(Lageromsætning!$A$3:$A$79=$A$2,ROW(Lageromsætning!$A$3:$A$79)-CELL(\"row\",Lageromsætning!$A$3:$A$79)+1),ROWS($2:15))),\"\")","v":"1"},{"$f":"+_xlfn.IFS($M17>=0.01,$M17,TRUE,0)-$F17-K17+G17","v":-71.5},{"$f":"SUMIFS('Lager antal'!$G$3:$G$2508,'Lager antal'!$B$3:$B$2508,B17,'Lager antal'!$C$3:$C$2508,C17)","v":34},null,19.5,{"$f":"SUMIFS(Lageromsætning!$R$3:$R$79,Lageromsætning!$A$3:$A$79,$A$2,Lageromsætning!$C$3:$C$79,B17,Lageromsætning!$D$3:$D$79,C17)","v":117},{"$f":"SUMIFS(Lageromsætning!$S$3:$S$79,Lageromsætning!$C$3:$C$79,B17,Lageromsætning!$D$3:$D$79,C17)","v":1.4444444444444444}]
[{"$f":"IFERROR(INDEX(Lageromsætning!$A$3:$A$79,SMALL(IF(Lageromsætning!$A$3:$A$79=$A$2,ROW(Lageromsætning!$A$3:$A$79)-CELL(\"row\",Lageromsætning!$A$3:$A$79)+1),ROWS($1:15))),\"\")","v":4473},{"$f":"IFERROR(INDEX(Lageromsætning!$C$3:$C$79,SMALL(IF(Lageromsætning!$A$3:$A$79=$A$2,ROW(Lageromsætning!$A$3:$A$79)-CELL(\"row\",Lageromsætning!$A$3:$A$79)+1),ROWS($2:16))),\"\")","v":5160},{"$f":"IFERROR(INDEX(Lageromsætning!$D$3:$D$79,SMALL(IF(Lageromsætning!$A$3:$A$79=$A$2,ROW(Lageromsætning!$A$3:$A$79)-CELL(\"row\",Lageromsætning!$A$3:$A$79)+1),ROWS($2:16))),\"\")","v":1965406},{"$f":"IFERROR(INDEX(Lageromsætning!$E$3:$E$79,SMALL(IF(Lageromsætning!$A$3:$A$79=$A$2,ROW(Lageromsætning!$A$3:$A$79)-CELL(\"row\",Lageromsætning!$A$3:$A$79)+1),ROWS($2:16))),\"\")","v":"Vare 28"},{"$f":"IFERROR(INDEX(Lageromsætning!$AF$3:$AF$79,SMALL(IF(Lageromsætning!$A$3:$A$79=$A$2,ROW(Lageromsætning!$A$3:$A$79)-CELL(\"row\",Lageromsætning!$A$3:$A$79)+1),ROWS($2:16))),\"\")","v":0},{"$f":"SUMIFS('Lager antal'!$D$3:$D$2508,'Lager antal'!$B$3:$B$2508,B18,'Lager antal'!$C$3:$C$2508,C18)","v":0},{"$f":"SUMIFS('Lager antal'!$F$3:$F$2508,'Lager antal'!$B$3:$B$2508,B18,'Lager antal'!$C$3:$C$2508,C18)","v":0},{"$f":"IF(ISNA(VLOOKUP($C18,'Lager antal'!$C$3:$K$508,9,FALSE))=TRUE,\"\",VLOOKUP($C18,'Lager antal'!$C$3:$K$508,9,FALSE))","v":""},{"$f":"IFERROR(INDEX(Lageromsætning!$P$3:$P$79,SMALL(IF(Lageromsætning!$A$3:$A$79=$A$2,ROW(Lageromsætning!$A$3:$A$79)-CELL(\"row\",Lageromsætning!$A$3:$A$79)+1),ROWS($2:16))),\"\")","v":""},{"$f":"+_xlfn.IFS($M18>=0.01,$M18,TRUE,0)-$F18-K18+G18","v":0},{"$f":"SUMIFS('Lager antal'!$G$3:$G$2508,'Lager antal'!$B$3:$B$2508,B18,'Lager antal'!$C$3:$C$2508,C18)","v":0},null,0,{"$f":"SUMIFS(Lageromsætning!$R$3:$R$79,Lageromsætning!$A$3:$A$79,$A$2,Lageromsætning!$C$3:$C$79,B18,Lageromsætning!$D$3:$D$79,C18)","v":0},{"$f":"SUMIFS(Lageromsætning!$S$3:$S$79,Lageromsætning!$C$3:$C$79,B18,Lageromsætning!$D$3:$D$79,C18)","v":0}]
[{"$f":"IFERROR(INDEX(Lageromsætning!$A$3:$A$79,SMALL(IF(Lageromsætning!$A$3:$A$79=$A$2,ROW(Lageromsætning!$A$3:$A$79)-CELL(\"row\",Lageromsætning!$A$3:$A$79)+1),ROWS($1:16))),\"\")","v":4473},{"$f":"IFERROR(INDEX(Lageromsætning!$C$3:$C$79,SMALL(IF(Lageromsætning!$A$3:$A$79=$A$2,ROW(Lageromsætning!$A$3:$A$79)-CELL(\"row\",Lageromsætning!$A$3:$A$79)+1),ROWS($2:17))),\"\")","v":9120},{"$f":"IFERROR(INDEX(Lageromsætning!$D$3:$D$79,SMALL(IF(Lageromsætning!$A$3:$A$79=$A$2,ROW(Lageromsætning!$A$3:$A$79)-CELL(\"row\",Lageromsætning!$A$3:$A$79)+1),ROWS($2:17))),\"\")","v":2033614},{"$f":"IFERROR(INDEX(Lageromsætning!$E$3:$E$79,SMALL(IF(Lageromsætning!$A$3:$A$79=$A$2,ROW(Lageromsætning!$A$3:$A$79)-CELL(\"row\",Lageromsætning!$A$3:$A$79)+1),ROWS($2:17))),\"\")","v":"Vare 29"},{"$f":"IFERROR(INDEX(Lageromsætning!$AF$3:$AF$79,SMALL(IF(Lageromsætning!$A$3:$A$79=$A$2,ROW(Lageromsætning!$A$3:$A$79)-CELL(\"row\",Lageromsætning!$A$3:$A$79)+1),ROWS($2:17))),\"\")","v":0},{"$f":"SUMIFS('Lager antal'!$D$3:$D$2508,'Lager antal'!$B$3:$B$2508,B19,'Lager antal'!$C$3:$C$2508,C19)","v":25},{"$f":"SUMIFS('Lager antal'!$F$3:$F$2508,'Lager antal'!$B$3:$B$2508,B19,'Lager antal'!$C$3:$C$2508,C19)","v":0},{"$f":"IF(ISNA(VLOOKUP($C19,'Lager antal'!$C$3:$K$508,9,FALSE))=TRUE,\"\",VLOOKUP($C19,'Lager antal'!$C$3:$K$508,9,FALSE))","v":""},{"$f":"IFERROR(INDEX(Lageromsætning!$P$3:$P$79,SMALL(IF(Lageromsætning!$A$3:$A$79=$A$2,ROW(Lageromsætning!$A$3:$A$79)-CELL(\"row\",Lageromsætning!$A$3:$A$79)+1),ROWS($2:17))),\"\")","v":"1"},{"$f":"+_xlfn.IFS($M19>=0.01,$M19,TRUE,0)-$F19-K19+G19","v":-20.833333333333332},{"$f":"SUMIFS('Lager antal'!$G$3:$G$2508,'Lager antal'!$B$3:$B$2508,B19,'Lager antal'!$C$3:$C$2508,C19)","v":0},null,4.166666666666667,{"$f":"SUMIFS(Lageromsætning!$R$3:$R$79,Lageromsætning!$A$3:$A$79,$A$2,Lageromsætning!$C$3:$C$79,B19,Lageromsætning!$D$3:$D$79,C19)","v":25},{"$f":"SUMIFS(Lageromsætning!$S$3:$S$79,Lageromsætning!$C$3:$C$79,B19,Lageromsætning!$D$3:$D$79,C19)","v":0.83333333333333337}]
[{"$f":"IFERROR(INDEX(Lageromsætning!$A$3:$A$79,SMALL(IF(Lageromsætning!$A$3:$A$79=$A$2,ROW(Lageromsætning!$A$3:$A$79)-CELL(\"row\",Lageromsætning!$A$3:$A$79)+1),ROWS($1:17))),\"\")","v":4473},{"$f":"IFERROR(INDEX(Lageromsætning!$C$3:$C$79,SMALL(IF(Lageromsætning!$A$3:$A$79=$A$2,ROW(Lageromsætning!$A$3:$A$79)-CELL(\"row\",Lageromsætning!$A$3:$A$79)+1),ROWS($2:18))),\"\")","v":9120},{"$f":"IFERROR(INDEX(Lageromsætning!$D$3:$D$79,SMALL(IF(Lageromsætning!$A$3:$A$79=$A$2,ROW(Lageromsætning!$A$3:$A$79)-CELL(\"row\",Lageromsætning!$A$3:$A$79)+1),ROWS($2:18))),\"\")","v":2171208},{"$f":"IFERROR(INDEX(Lageromsætning!$E$3:$E$79,SMALL(IF(Lageromsætning!$A$3:$A$79=$A$2,ROW(Lageromsætning!$A$3:$A$79)-CELL(\"row\",Lageromsætning!$A$3:$A$79)+1),ROWS($2:18))),\"\")","v":"Vare 30"},{"$f":"IFERROR(INDEX(Lageromsætning!$AF$3:$AF$79,SMALL(IF(Lageromsætning!$A$3:$A$79=$A$2,ROW(Lageromsætning!$A$3:$A$79)-CELL(\"row\",Lageromsætning!$A$3:$A$79)+1),ROWS($2:18))),\"\")","v":0},{"$f":"SUMIFS('Lager antal'!$D$3:$D$2508,'Lager antal'!$B$3:$B$2508,B20,'Lager antal'!$C$3:$C$2508,C20)","v":19},{"$f":"SUMIFS('Lager antal'!$F$3:$F$2508,'Lager antal'!$B$3:$B$2508,B20,'Lager antal'!$C$3:$C$2508,C20)","v":0},{"$f":"IF(ISNA(VLOOKUP($C20,'Lager antal'!$C$3:$K$508,9,FALSE))=TRUE,\"\",VLOOKUP($C20,'Lager antal'!$C$3:$K$508,9,FALSE))","v":""},{"$f":"IFERROR(INDEX(Lageromsætning!$P$3:$P$79,SMALL(IF(Lageromsætning!$A$3:$A$79=$A$2,ROW(Lageromsætning!$A$3:$A$79)-CELL(\"row\",Lageromsætning!$A$3:$A$79)+1),ROWS($2:18))),\"\")","v":""},{"$f":"+_xlfn.IFS($M20>=0.01,$M20,TRUE,0)-$F20-K20+G20","v":-18},{"$f":"SUMIFS('Lager antal'!$G$3:$G$2508,'Lager antal'!$B$3:$B$2508,B20,'Lager antal'!$C$3:$C$2508,C20)","v":0},null,1,{"$f":"SUMIFS(Lageromsætning!$R$3:$R$79,Lageromsætning!$A$3:$A$79,$A$2,Lageromsætning!$C$3:$C$79,B20,Lageromsætning!$D$3:$D$79,C20)","v":6},{"$f":"SUMIFS(Lageromsætning!$S$3:$S$79,Lageromsætning!$C$3:$C$79,B20,Lageromsætning!$D$3:$D$79,C20)","v":0.3}]
[{"$f":"IFERROR(INDEX(Lageromsætning!$A$3:$A$79,SMALL(IF(Lageromsætning!$A$3:$A$79=$A$2,ROW(Lageromsætning!$A$3:$A$79)-CELL(\"row\",Lageromsætning!$A$3:$A$79)+1),ROWS($1:18))),\"\")","v":4473},{"$f":"IFERROR(INDEX(Lageromsætning!$C$3:$C$79,SMALL(IF(Lageromsætning!$A$3:$A$79=$A$2,ROW(Lageromsætning!$A$3:$A$79)-CELL(\"row\",Lageromsætning!$A$3:$A$79)+1),ROWS($2:19))),\"\")","v":9120},{"$f":"IFERROR(INDEX(Lageromsætning!$D$3:$D$79,SMALL(IF(Lageromsætning!$A$3:$A$79=$A$2,ROW(Lageromsætning!$A$3:$A$79)-CELL(\"row\",Lageromsætning!$A$3:$A$79)+1),ROWS($2:19))),\"\")","v":5772333},{"$f":"IFERROR(INDEX(Lageromsætning!$E$3:$E$79,SMALL(IF(Lageromsætning!$A$3:$A$79=$A$2,ROW(Lageromsætning!$A$3:$A$79)-CELL(\"row\",Lageromsætning!$A$3:$A$79)+1),ROWS($2:19))),\"\")","v":"Vare 31"},{"$f":"IFERROR(INDEX(Lageromsætning!$AF$3:$AF$79,SMALL(IF(Lageromsætning!$A$3:$A$79=$A$2,ROW(Lageromsætning!$A$3:$A$79)-CELL(\"row\",Lageromsætning!$A$3:$A$79)+1),ROWS($2:19))),\"\")","v":0},{"$f":"SUMIFS('Lager antal'!$D$3:$D$2508,'Lager antal'!$B$3:$B$2508,B21,'Lager antal'!$C$3:$C$2508,C21)","v":0},{"$f":"SUMIFS('Lager antal'!$F$3:$F$2508,'Lager antal'!$B$3:$B$2508,B21,'Lager antal'!$C$3:$C$2508,C21)","v":0},{"$f":"IF(ISNA(VLOOKUP($C21,'Lager antal'!$C$3:$K$508,9,FALSE))=TRUE,\"\",VLOOKUP($C21,'Lager antal'!$C$3:$K$508,9,FALSE))","v":""},{"$f":"IFERROR(INDEX(Lageromsætning!$P$3:$P$79,SMALL(IF(Lageromsætning!$A$3:$A$79=$A$2,ROW(Lageromsætning!$A$3:$A$79)-CELL(\"row\",Lageromsætning!$A$3:$A$79)+1),ROWS($2:19))),\"\")","v":"1"},{"$f":"+_xlfn.IFS($M21>=0.01,$M21,TRUE,0)-$F21-K21+G21","v":0},{"$f":"SUMIFS('Lager antal'!$G$3:$G$2508,'Lager antal'!$B$3:$B$2508,B21,'Lager antal'!$C$3:$C$2508,C21)","v":1},null,1,{"$f":"SUMIFS(Lageromsætning!$R$3:$R$79,Lageromsætning!$A$3:$A$79,$A$2,Lageromsætning!$C$3:$C$79,B21,Lageromsætning!$D$3:$D$79,C21)","v":6},{"$f":"SUMIFS(Lageromsætning!$S$3:$S$79,Lageromsætning!$C$3:$C$79,B21,Lageromsætning!$D$3:$D$79,C21)","v":-0.6}]
[{"$f":"IFERROR(INDEX(Lageromsætning!$A$3:$A$79,SMALL(IF(Lageromsætning!$A$3:$A$79=$A$2,ROW(Lageromsætning!$A$3:$A$79)-CELL(\"row\",Lageromsætning!$A$3:$A$79)+1),ROWS($1:19))),\"\")","v":4473},{"$f":"IFERROR(INDEX(Lageromsætning!$C$3:$C$79,SMALL(IF(Lageromsætning!$A$3:$A$79=$A$2,ROW(Lageromsætning!$A$3:$A$79)-CELL(\"row\",Lageromsætning!$A$3:$A$79)+1),ROWS($2:20))),\"\")","v":9120},{"$f":"IFERROR(INDEX(Lageromsætning!$D$3:$D$79,SMALL(IF(Lageromsætning!$A$3:$A$79=$A$2,ROW(Lageromsætning!$A$3:$A$79)-CELL(\"row\",Lageromsætning!$A$3:$A$79)+1),ROWS($2:20))),\"\")","v":5772513},{"$f":"IFERROR(INDEX(Lageromsætning!$E$3:$E$79,SMALL(IF(Lageromsætning!$A$3:$A$79=$A$2,ROW(Lageromsætning!$A$3:$A$79)-CELL(\"row\",Lageromsætning!$A$3:$A$79)+1),ROWS($2:20))),\"\")","v":"Vare 32"},{"$f":"IFERROR(INDEX(Lageromsætning!$AF$3:$AF$79,SMALL(IF(Lageromsætning!$A$3:$A$79=$A$2,ROW(Lageromsætning!$A$3:$A$79)-CELL(\"row\",Lageromsætning!$A$3:$A$79)+1),ROWS($2:20))),\"\")","v":0},{"$f":"SUMIFS('Lager antal'!$D$3:$D$2508,'Lager antal'!$B$3:$B$2508,B22,'Lager antal'!$C$3:$C$2508,C22)","v":2},{"$f":"SUMIFS('Lager antal'!$F$3:$F$2508,'Lager antal'!$B$3:$B$2508,B22,'Lager antal'!$C$3:$C$2508,C22)","v":0},{"$f":"IF(ISNA(VLOOKUP($C22,'Lager antal'!$C$3:$K$508,9,FALSE))=TRUE,\"\",VLOOKUP($C22,'Lager antal'!$C$3:$K$508,9,FALSE))","v":""},{"$f":"IFERROR(INDEX(Lageromsætning!$P$3:$P$79,SMALL(IF(Lageromsætning!$A$3:$A$79=$A$2,ROW(Lageromsætning!$A$3:$A$79)-CELL(\"row\",Lageromsætning!$A$3:$A$79)+1),ROWS($2:20))),\"\")","v":"1"},{"$f":"+_xlfn.IFS($M22>=0.01,$M22,TRUE,0)-$F22-K22+G22","v":-1.6666666666666667},{"$f":"SUMIFS('Lager antal'!$G$3:$G$2508,'Lager antal'!$B$3:$B$2508,B22,'Lager antal'!$C$3:$C$2508,C22)","v":0},null,0.33333333333333331,{"$f":"SUMIFS(Lageromsætning!$R$3:$R$79,Lageromsætning!$A$3:$A$79,$A$2,Lageromsætning!$C$3:$C$79,B22,Lageromsætning!$D$3:$D$79,C22)","v":2},{"$f":"SUMIFS(Lageromsætning!$S$3:$S$79,Lageromsætning!$C$3:$C$79,B22,Lageromsætning!$D$3:$D$79,C22)","v":1}]
[{"$f":"IFERROR(INDEX(Lageromsætning!$A$3:$A$79,SMALL(IF(Lageromsætning!$A$3:$A$79=$A$2,ROW(Lageromsætning!$A$3:$A$79)-CELL(\"row\",Lageromsætning!$A$3:$A$79)+1),ROWS($1:20))),\"\")","v":4473},{"$f":"IFERROR(INDEX(Lageromsætning!$C$3:$C$79,SMALL(IF(Lageromsætning!$A$3:$A$79=$A$2,ROW(Lageromsætning!$A$3:$A$79)-CELL(\"row\",Lageromsætning!$A$3:$A$79)+1),ROWS($2:21))),\"\")","v":9120},{"$f":"IFERROR(INDEX(Lageromsætning!$D$3:$D$79,SMALL(IF(Lageromsætning!$A$3:$A$79=$A$2,ROW(Lageromsætning!$A$3:$A$79)-CELL(\"row\",Lageromsætning!$A$3:$A$79)+1),ROWS($2:21))),\"\")","v":7603517},{"$f":"IFERROR(INDEX(Lageromsætning!$E$3:$E$79,SMALL(IF(Lageromsætning!$A$3:$A$79=$A$2,ROW(Lageromsætning!$A$3:$A$79)-CELL(\"row\",Lageromsætning!$A$3:$A$79)+1),ROWS($2:21))),\"\")","v":"Vare 33"},{"$f":"IFERROR(INDEX(Lageromsætning!$AF$3:$AF$79,SMALL(IF(Lageromsætning!$A$3:$A$79=$A$2,ROW(Lageromsætning!$A$3:$A$79)-CELL(\"row\",Lageromsætning!$A$3:$A$79)+1),ROWS($2:21))),\"\")","v":0},{"$f":"SUMIFS('Lager antal'!$D$3:$D$2508,'Lager antal'!$B$3:$B$2508,B23,'Lager antal'!$C$3:$C$2508,C23)","v":58},{"$f":"SUMIFS('Lager antal'!$F$3:$F$2508,'Lager antal'!$B$3:$B$2508,B23,'Lager antal'!$C$3:$C$2508,C23)","v":0},{"$f":"IF(ISNA(VLOOKUP($C23,'Lager antal'!$C$3:$K$508,9,FALSE))=TRUE,\"\",VLOOKUP($C23,'Lager antal'!$C$3:$K$508,9,FALSE))","v":""},{"$f":"IFERROR(INDEX(Lageromsætning!$P$3:$P$79,SMALL(IF(Lageromsætning!$A$3:$A$79=$A$2,ROW(Lageromsætning!$A$3:$A$79)-CELL(\"row\",Lageromsætning!$A$3:$A$79)+1),ROWS($2:21))),\"\")","v":"1"},{"$f":"+_xlfn.IFS($M23>=0.01,$M23,TRUE,0)-$F23-K23+G23","v":-44.166666666666664},{"$f":"SUMIFS('Lager antal'!$G$3:$G$2508,'Lager antal'!$B$3:$B$2508,B23,'Lager antal'!$C$3:$C$2508,C23)","v":40},null,53.833333333333336,{"$f":"SUMIFS(Lageromsætning!$R$3:$R$79,Lageromsætning!$A$3:$A$79,$A$2,Lageromsætning!$C$3:$C$79,B23,Lageromsætning!$D$3:$D$79,C23)","v":323},{"$f":"SUMIFS(Lageromsætning!$S$3:$S$79,Lageromsætning!$C$3:$C$79,B23,Lageromsætning!$D$3:$D$79,C23)","v":5.2950819672131146}]
[{"$f":"IFERROR(INDEX(Lageromsætning!$A$3:$A$79,SMALL(IF(Lageromsætning!$A$3:$A$79=$A$2,ROW(Lageromsætning!$A$3:$A$79)-CELL(\"row\",Lageromsætning!$A$3:$A$79)+1),ROWS($1:21))),\"\")","v":""},{"$f":"IFERROR(INDEX(Lageromsætning!$C$3:$C$79,SMALL(IF(Lageromsætning!$A$3:$A$79=$A$2,ROW(Lageromsætning!$A$3:$A$79)-CELL(\"row\",Lageromsætning!$A$3:$A$79)+1),ROWS($2:22))),\"\")","v":""},{"$f":"IFERROR(INDEX(Lageromsætning!$D$3:$D$79,SMALL(IF(Lageromsætning!$A$3:$A$79=$A$2,ROW(Lageromsætning!$A$3:$A$79)-CELL(\"row\",Lageromsætning!$A$3:$A$79)+1),ROWS($2:22))),\"\")","v":""},{"$f":"IFERROR(INDEX(Lageromsætning!$E$3:$E$79,SMALL(IF(Lageromsætning!$A$3:$A$79=$A$2,ROW(Lageromsætning!$A$3:$A$79)-CELL(\"row\",Lageromsætning!$A$3:$A$79)+1),ROWS($2:22))),\"\")","v":""},{"$f":"IFERROR(INDEX(Lageromsætning!$AF$3:$AF$79,SMALL(IF(Lageromsætning!$A$3:$A$79=$A$2,ROW(Lageromsætning!$A$3:$A$79)-CELL(\"row\",Lageromsætning!$A$3:$A$79)+1),ROWS($2:22))),\"\")","v":""},{"$f":"SUMIFS('Lager antal'!$D$3:$D$2508,'Lager antal'!$B$3:$B$2508,B24,'Lager antal'!$C$3:$C$2508,C24)","v":0},{"$f":"SUMIFS('Lager antal'!$F$3:$F$2508,'Lager antal'!$B$3:$B$2508,B24,'Lager antal'!$C$3:$C$2508,C24)","v":0},{"$f":"IF(ISNA(VLOOKUP($C24,'Lager antal'!$C$3:$K$508,9,FALSE))=TRUE,\"\",VLOOKUP($C24,'Lager antal'!$C$3:$K$508,9,FALSE))","v":""},{"$f":"IFERROR(INDEX(Lageromsætning!$P$3:$P$79,SMALL(IF(Lageromsætning!$A$3:$A$79=$A$2,ROW(Lageromsætning!$A$3:$A$79)-CELL(\"row\",Lageromsætning!$A$3:$A$79)+1),ROWS($2:22))),\"\")","v":""},{"$f":"+_xlfn.IFS($M24>=0.01,$M24,TRUE,0)-$F24-K24+G24","v":0},{"$f":"SUMIFS('Lager antal'!$G$3:$G$2508,'Lager antal'!$B$3:$B$2508,B24,'Lager antal'!$C$3:$C$2508,C24)","v":0},null,0,{"$f":"SUMIFS(Lageromsætning!$R$3:$R$79,Lageromsætning!$A$3:$A$79,$A$2,Lageromsætning!$C$3:$C$79,B24,Lageromsætning!$D$3:$D$79,C24)","v":0},{"$f":"SUMIFS(Lageromsætning!$S$3:$S$79,Lageromsætning!$C$3:$C$79,B24,Lageromsætning!$D$3:$D$79,C24)","v":0}]
[{"$f":"IFERROR(INDEX(Lageromsætning!$A$3:$A$79,SMALL(IF(Lageromsætning!$A$3:$A$79=$A$2,ROW(Lageromsætning!$A$3:$A$79)-CELL(\"row\",Lageromsætning!$A$3:$A$79)+1),ROWS($1:22))),\"\")","v":""},{"$f":"IFERROR(INDEX(Lageromsætning!$C$3:$C$79,SMALL(IF(Lageromsætning!$A$3:$A$79=$A$2,ROW(Lageromsætning!$A$3:$A$79)-CELL(\"row\",Lageromsætning!$A$3:$A$79)+1),ROWS($2:23))),\"\")","v":""},{"$f":"IFERROR(INDEX(Lageromsætning!$D$3:$D$79,SMALL(IF(Lageromsætning!$A$3:$A$79=$A$2,ROW(Lageromsætning!$A$3:$A$79)-CELL(\"row\",Lageromsætning!$A$3:$A$79)+1),ROWS($2:23))),\"\")","v":""},{"$f":"IFERROR(INDEX(Lageromsætning!$E$3:$E$79,SMALL(IF(Lageromsætning!$A$3:$A$79=$A$2,ROW(Lageromsætning!$A$3:$A$79)-CELL(\"row\",Lageromsætning!$A$3:$A$79)+1),ROWS($2:23))),\"\")","v":""},{"$f":"IFERROR(INDEX(Lageromsætning!$AF$3:$AF$79,SMALL(IF(Lageromsætning!$A$3:$A$79=$A$2,ROW(Lageromsætning!$A$3:$A$79)-CELL(\"row\",Lageromsætning!$A$3:$A$79)+1),ROWS($2:23))),\"\")","v":""},{"$f":"SUMIFS('Lager antal'!$D$3:$D$2508,'Lager antal'!$B$3:$B$2508,B25,'Lager antal'!$C$3:$C$2508,C25)","v":0},{"$f":"SUMIFS('Lager antal'!$F$3:$F$2508,'Lager antal'!$B$3:$B$2508,B25,'Lager antal'!$C$3:$C$2508,C25)","v":0},{"$f":"IF(ISNA(VLOOKUP($C25,'Lager antal'!$C$3:$K$508,9,FALSE))=TRUE,\"\",VLOOKUP($C25,'Lager antal'!$C$3:$K$508,9,FALSE))","v":""},{"$f":"IFERROR(INDEX(Lageromsætning!$P$3:$P$79,SMALL(IF(Lageromsætning!$A$3:$A$79=$A$2,ROW(Lageromsætning!$A$3:$A$79)-CELL(\"row\",Lageromsætning!$A$3:$A$79)+1),ROWS($2:23))),\"\")","v":""},{"$f":"+_xlfn.IFS($M25>=0.01,$M25,TRUE,0)-$F25-K25+G25","v":0},{"$f":"SUMIFS('Lager antal'!$G$3:$G$2508,'Lager antal'!$B$3:$B$2508,B25,'Lager antal'!$C$3:$C$2508,C25)","v":0},null,0,{"$f":"SUMIFS(Lageromsætning!$R$3:$R$79,Lageromsætning!$A$3:$A$79,$A$2,Lageromsætning!$C$3:$C$79,B25,Lageromsætning!$D$3:$D$79,C25)","v":0},{"$f":"SUMIFS(Lageromsætning!$S$3:$S$79,Lageromsætning!$C$3:$C$79,B25,Lageromsætning!$D$3:$D$79,C25)","v":0}]
[{"$f":"IFERROR(INDEX(Lageromsætning!$A$3:$A$79,SMALL(IF(Lageromsætning!$A$3:$A$79=$A$2,ROW(Lageromsætning!$A$3:$A$79)-CELL(\"row\",Lageromsætning!$A$3:$A$79)+1),ROWS($1:23))),\"\")","v":""},{"$f":"IFERROR(INDEX(Lageromsætning!$C$3:$C$79,SMALL(IF(Lageromsætning!$A$3:$A$79=$A$2,ROW(Lageromsætning!$A$3:$A$79)-CELL(\"row\",Lageromsætning!$A$3:$A$79)+1),ROWS($2:24))),\"\")","v":""},{"$f":"IFERROR(INDEX(Lageromsætning!$D$3:$D$79,SMALL(IF(Lageromsætning!$A$3:$A$79=$A$2,ROW(Lageromsætning!$A$3:$A$79)-CELL(\"row\",Lageromsætning!$A$3:$A$79)+1),ROWS($2:24))),\"\")","v":""},{"$f":"IFERROR(INDEX(Lageromsætning!$E$3:$E$79,SMALL(IF(Lageromsætning!$A$3:$A$79=$A$2,ROW(Lageromsætning!$A$3:$A$79)-CELL(\"row\",Lageromsætning!$A$3:$A$79)+1),ROWS($2:24))),\"\")","v":""},{"$f":"IFERROR(INDEX(Lageromsætning!$AF$3:$AF$79,SMALL(IF(Lageromsætning!$A$3:$A$79=$A$2,ROW(Lageromsætning!$A$3:$A$79)-CELL(\"row\",Lageromsætning!$A$3:$A$79)+1),ROWS($2:24))),\"\")","v":""},{"$f":"SUMIFS('Lager antal'!$D$3:$D$2508,'Lager antal'!$B$3:$B$2508,B26,'Lager antal'!$C$3:$C$2508,C26)","v":0},{"$f":"SUMIFS('Lager antal'!$F$3:$F$2508,'Lager antal'!$B$3:$B$2508,B26,'Lager antal'!$C$3:$C$2508,C26)","v":0},{"$f":"IF(ISNA(VLOOKUP($C26,'Lager antal'!$C$3:$K$508,9,FALSE))=TRUE,\"\",VLOOKUP($C26,'Lager antal'!$C$3:$K$508,9,FALSE))","v":""},{"$f":"IFERROR(INDEX(Lageromsætning!$P$3:$P$79,SMALL(IF(Lageromsætning!$A$3:$A$79=$A$2,ROW(Lageromsætning!$A$3:$A$79)-CELL(\"row\",Lageromsætning!$A$3:$A$79)+1),ROWS($2:24))),\"\")","v":""},{"$f":"+_xlfn.IFS($M26>=0.01,$M26,TRUE,0)-$F26-K26+G26","v":0},{"$f":"SUMIFS('Lager antal'!$G$3:$G$2508,'Lager antal'!$B$3:$B$2508,B26,'Lager antal'!$C$3:$C$2508,C26)","v":0},null,0,{"$f":"SUMIFS(Lageromsætning!$R$3:$R$79,Lageromsætning!$A$3:$A$79,$A$2,Lageromsætning!$C$3:$C$79,B26,Lageromsætning!$D$3:$D$79,C26)","v":0},{"$f":"SUMIFS(Lageromsætning!$S$3:$S$79,Lageromsætning!$C$3:$C$79,B26,Lageromsætning!$D$3:$D$79,C26)","v":0}]
[{"$f":"IFERROR(INDEX(Lageromsætning!$A$3:$A$79,SMALL(IF(Lageromsætning!$A$3:$A$79=$A$2,ROW(Lageromsætning!$A$3:$A$79)-CELL(\"row\",Lageromsætning!$A$3:$A$79)+1),ROWS($1:24))),\"\")","v":""},{"$f":"IFERROR(INDEX(Lageromsætning!$C$3:$C$79,SMALL(IF(Lageromsætning!$A$3:$A$79=$A$2,ROW(Lageromsætning!$A$3:$A$79)-CELL(\"row\",Lageromsætning!$A$3:$A$79)+1),ROWS($2:25))),\"\")","v":""},{"$f":"IFERROR(INDEX(Lageromsætning!$D$3:$D$79,SMALL(IF(Lageromsætning!$A$3:$A$79=$A$2,ROW(Lageromsætning!$A$3:$A$79)-CELL(\"row\",Lageromsætning!$A$3:$A$79)+1),ROWS($2:25))),\"\")","v":""},{"$f":"IFERROR(INDEX(Lageromsætning!$E$3:$E$79,SMALL(IF(Lageromsætning!$A$3:$A$79=$A$2,ROW(Lageromsætning!$A$3:$A$79)-CELL(\"row\",Lageromsætning!$A$3:$A$79)+1),ROWS($2:25))),\"\")","v":""},{"$f":"IFERROR(INDEX(Lageromsætning!$AF$3:$AF$79,SMALL(IF(Lageromsætning!$A$3:$A$79=$A$2,ROW(Lageromsætning!$A$3:$A$79)-CELL(\"row\",Lageromsætning!$A$3:$A$79)+1),ROWS($2:25))),\"\")","v":""},{"$f":"SUMIFS('Lager antal'!$D$3:$D$2508,'Lager antal'!$B$3:$B$2508,B27,'Lager antal'!$C$3:$C$2508,C27)","v":0},{"$f":"SUMIFS('Lager antal'!$F$3:$F$2508,'Lager antal'!$B$3:$B$2508,B27,'Lager antal'!$C$3:$C$2508,C27)","v":0},{"$f":"IF(ISNA(VLOOKUP($C27,'Lager antal'!$C$3:$K$508,9,FALSE))=TRUE,\"\",VLOOKUP($C27,'Lager antal'!$C$3:$K$508,9,FALSE))","v":""},{"$f":"IFERROR(INDEX(Lageromsætning!$P$3:$P$79,SMALL(IF(Lageromsætning!$A$3:$A$79=$A$2,ROW(Lageromsætning!$A$3:$A$79)-CELL(\"row\",Lageromsætning!$A$3:$A$79)+1),ROWS($2:25))),\"\")","v":""},{"$f":"+_xlfn.IFS($M27>=0.01,$M27,TRUE,0)-$F27-K27+G27","v":0},{"$f":"SUMIFS('Lager antal'!$G$3:$G$2508,'Lager antal'!$B$3:$B$2508,B27,'Lager antal'!$C$3:$C$2508,C27)","v":0},null,0,{"$f":"SUMIFS(Lageromsætning!$R$3:$R$79,Lageromsætning!$A$3:$A$79,$A$2,Lageromsætning!$C$3:$C$79,B27,Lageromsætning!$D$3:$D$79,C27)","v":0},{"$f":"SUMIFS(Lageromsætning!$S$3:$S$79,Lageromsætning!$C$3:$C$79,B27,Lageromsætning!$D$3:$D$79,C27)","v":0}]
[{"$f":"IFERROR(INDEX(Lageromsætning!$A$3:$A$79,SMALL(IF(Lageromsætning!$A$3:$A$79=$A$2,ROW(Lageromsætning!$A$3:$A$79)-CELL(\"row\",Lageromsætning!$A$3:$A$79)+1),ROWS($1:25))),\"\")","v":""},{"$f":"IFERROR(INDEX(Lageromsætning!$C$3:$C$79,SMALL(IF(Lageromsætning!$A$3:$A$79=$A$2,ROW(Lageromsætning!$A$3:$A$79)-CELL(\"row\",Lageromsætning!$A$3:$A$79)+1),ROWS($2:26))),\"\")","v":""},{"$f":"IFERROR(INDEX(Lageromsætning!$D$3:$D$79,SMALL(IF(Lageromsætning!$A$3:$A$79=$A$2,ROW(Lageromsætning!$A$3:$A$79)-CELL(\"row\",Lageromsætning!$A$3:$A$79)+1),ROWS($2:26))),\"\")","v":""},{"$f":"IFERROR(INDEX(Lageromsætning!$E$3:$E$79,SMALL(IF(Lageromsætning!$A$3:$A$79=$A$2,ROW(Lageromsætning!$A$3:$A$79)-CELL(\"row\",Lageromsætning!$A$3:$A$79)+1),ROWS($2:26))),\"\")","v":""},{"$f":"IFERROR(INDEX(Lageromsætning!$AF$3:$AF$79,SMALL(IF(Lageromsætning!$A$3:$A$79=$A$2,ROW(Lageromsætning!$A$3:$A$79)-CELL(\"row\",Lageromsætning!$A$3:$A$79)+1),ROWS($2:26))),\"\")","v":""},{"$f":"SUMIFS('Lager antal'!$D$3:$D$2508,'Lager antal'!$B$3:$B$2508,B28,'Lager antal'!$C$3:$C$2508,C28)","v":0},{"$f":"SUMIFS('Lager antal'!$F$3:$F$2508,'Lager antal'!$B$3:$B$2508,B28,'Lager antal'!$C$3:$C$2508,C28)","v":0},{"$f":"IF(ISNA(VLOOKUP($C28,'Lager antal'!$C$3:$K$508,9,FALSE))=TRUE,\"\",VLOOKUP($C28,'Lager antal'!$C$3:$K$508,9,FALSE))","v":""},{"$f":"IFERROR(INDEX(Lageromsætning!$P$3:$P$79,SMALL(IF(Lageromsætning!$A$3:$A$79=$A$2,ROW(Lageromsætning!$A$3:$A$79)-CELL(\"row\",Lageromsætning!$A$3:$A$79)+1),ROWS($2:26))),\"\")","v":""},{"$f":"+_xlfn.IFS($M28>=0.01,$M28,TRUE,0)-$F28-K28+G28","v":0},{"$f":"SUMIFS('Lager antal'!$G$3:$G$2508,'Lager antal'!$B$3:$B$2508,B28,'Lager antal'!$C$3:$C$2508,C28)","v":0},null,0,{"$f":"SUMIFS(Lageromsætning!$R$3:$R$79,Lageromsætning!$A$3:$A$79,$A$2,Lageromsætning!$C$3:$C$79,B28,Lageromsætning!$D$3:$D$79,C28)","v":0},{"$f":"SUMIFS(Lageromsætning!$S$3:$S$79,Lageromsætning!$C$3:$C$79,B28,Lageromsætning!$D$3:$D$79,C28)","v":0}]
[{"$f":"IFERROR(INDEX(Lageromsætning!$A$3:$A$79,SMALL(IF(Lageromsætning!$A$3:$A$79=$A$2,ROW(Lageromsætning!$A$3:$A$79)-CELL(\"row\",Lageromsætning!$A$3:$A$79)+1),ROWS($1:26))),\"\")","v":""},{"$f":"IFERROR(INDEX(Lageromsætning!$C$3:$C$79,SMALL(IF(Lageromsætning!$A$3:$A$79=$A$2,ROW(Lageromsætning!$A$3:$A$79)-CELL(\"row\",Lageromsætning!$A$3:$A$79)+1),ROWS($2:27))),\"\")","v":""},{"$f":"IFERROR(INDEX(Lageromsætning!$D$3:$D$79,SMALL(IF(Lageromsætning!$A$3:$A$79=$A$2,ROW(Lageromsætning!$A$3:$A$79)-CELL(\"row\",Lageromsætning!$A$3:$A$79)+1),ROWS($2:27))),\"\")","v":""},{"$f":"IFERROR(INDEX(Lageromsætning!$E$3:$E$79,SMALL(IF(Lageromsætning!$A$3:$A$79=$A$2,ROW(Lageromsætning!$A$3:$A$79)-CELL(\"row\",Lageromsætning!$A$3:$A$79)+1),ROWS($2:27))),\"\")","v":""},{"$f":"IFERROR(INDEX(Lageromsætning!$AF$3:$AF$79,SMALL(IF(Lageromsætning!$A$3:$A$79=$A$2,ROW(Lageromsætning!$A$3:$A$79)-CELL(\"row\",Lageromsætning!$A$3:$A$79)+1),ROWS($2:27))),\"\")","v":""},{"$f":"SUMIFS('Lager antal'!$D$3:$D$2508,'Lager antal'!$B$3:$B$2508,B29,'Lager antal'!$C$3:$C$2508,C29)","v":0},{"$f":"SUMIFS('Lager antal'!$F$3:$F$2508,'Lager antal'!$B$3:$B$2508,B29,'Lager antal'!$C$3:$C$2508,C29)","v":0},{"$f":"IF(ISNA(VLOOKUP($C29,'Lager antal'!$C$3:$K$508,9,FALSE))=TRUE,\"\",VLOOKUP($C29,'Lager antal'!$C$3:$K$508,9,FALSE))","v":""},{"$f":"IFERROR(INDEX(Lageromsætning!$P$3:$P$79,SMALL(IF(Lageromsætning!$A$3:$A$79=$A$2,ROW(Lageromsætning!$A$3:$A$79)-CELL(\"row\",Lageromsætning!$A$3:$A$79)+1),ROWS($2:27))),\"\")","v":""},{"$f":"+_xlfn.IFS($M29>=0.01,$M29,TRUE,0)-$F29-K29+G29","v":0},{"$f":"SUMIFS('Lager antal'!$G$3:$G$2508,'Lager antal'!$B$3:$B$2508,B29,'Lager antal'!$C$3:$C$2508,C29)","v":0},null,0,{"$f":"SUMIFS(Lageromsætning!$R$3:$R$79,Lageromsætning!$A$3:$A$79,$A$2,Lageromsætning!$C$3:$C$79,B29,Lageromsætning!$D$3:$D$79,C29)","v":0},{"$f":"SUMIFS(Lageromsætning!$S$3:$S$79,Lageromsætning!$C$3:$C$79,B29,Lageromsætning!$D$3:$D$79,C29)","v":0}]
[{"$f":"IFERROR(INDEX(Lageromsætning!$A$3:$A$79,SMALL(IF(Lageromsætning!$A$3:$A$79=$A$2,ROW(Lageromsætning!$A$3:$A$79)-CELL(\"row\",Lageromsætning!$A$3:$A$79)+1),ROWS($1:27))),\"\")","v":""},{"$f":"IFERROR(INDEX(Lageromsætning!$C$3:$C$79,SMALL(IF(Lageromsætning!$A$3:$A$79=$A$2,ROW(Lageromsætning!$A$3:$A$79)-CELL(\"row\",Lageromsætning!$A$3:$A$79)+1),ROWS($2:28))),\"\")","v":""},{"$f":"IFERROR(INDEX(Lageromsætning!$D$3:$D$79,SMALL(IF(Lageromsætning!$A$3:$A$79=$A$2,ROW(Lageromsætning!$A$3:$A$79)-CELL(\"row\",Lageromsætning!$A$3:$A$79)+1),ROWS($2:28))),\"\")","v":""},{"$f":"IFERROR(INDEX(Lageromsætning!$E$3:$E$79,SMALL(IF(Lageromsætning!$A$3:$A$79=$A$2,ROW(Lageromsætning!$A$3:$A$79)-CELL(\"row\",Lageromsætning!$A$3:$A$79)+1),ROWS($2:28))),\"\")","v":""},{"$f":"IFERROR(INDEX(Lageromsætning!$AF$3:$AF$79,SMALL(IF(Lageromsætning!$A$3:$A$79=$A$2,ROW(Lageromsætning!$A$3:$A$79)-CELL(\"row\",Lageromsætning!$A$3:$A$79)+1),ROWS($2:28))),\"\")","v":""},{"$f":"SUMIFS('Lager antal'!$D$3:$D$2508,'Lager antal'!$B$3:$B$2508,B30,'Lager antal'!$C$3:$C$2508,C30)","v":0},{"$f":"SUMIFS('Lager antal'!$F$3:$F$2508,'Lager antal'!$B$3:$B$2508,B30,'Lager antal'!$C$3:$C$2508,C30)","v":0},{"$f":"IF(ISNA(VLOOKUP($C30,'Lager antal'!$C$3:$K$508,9,FALSE))=TRUE,\"\",VLOOKUP($C30,'Lager antal'!$C$3:$K$508,9,FALSE))","v":""},{"$f":"IFERROR(INDEX(Lageromsætning!$P$3:$P$79,SMALL(IF(Lageromsætning!$A$3:$A$79=$A$2,ROW(Lageromsætning!$A$3:$A$79)-CELL(\"row\",Lageromsætning!$A$3:$A$79)+1),ROWS($2:28))),\"\")","v":""},{"$f":"+_xlfn.IFS($M30>=0.01,$M30,TRUE,0)-$F30-K30+G30","v":0},{"$f":"SUMIFS('Lager antal'!$G$3:$G$2508,'Lager antal'!$B$3:$B$2508,B30,'Lager antal'!$C$3:$C$2508,C30)","v":0},null,0,{"$f":"SUMIFS(Lageromsætning!$R$3:$R$79,Lageromsætning!$A$3:$A$79,$A$2,Lageromsætning!$C$3:$C$79,B30,Lageromsætning!$D$3:$D$79,C30)","v":0},{"$f":"SUMIFS(Lageromsætning!$S$3:$S$79,Lageromsætning!$C$3:$C$79,B30,Lageromsætning!$D$3:$D$79,C30)","v":0}]
[{"$f":"IFERROR(INDEX(Lageromsætning!$A$3:$A$79,SMALL(IF(Lageromsætning!$A$3:$A$79=$A$2,ROW(Lageromsætning!$A$3:$A$79)-CELL(\"row\",Lageromsætning!$A$3:$A$79)+1),ROWS($1:28))),\"\")","v":""},{"$f":"IFERROR(INDEX(Lageromsætning!$C$3:$C$79,SMALL(IF(Lageromsætning!$A$3:$A$79=$A$2,ROW(Lageromsætning!$A$3:$A$79)-CELL(\"row\",Lageromsætning!$A$3:$A$79)+1),ROWS($2:29))),\"\")","v":""},{"$f":"IFERROR(INDEX(Lageromsætning!$D$3:$D$79,SMALL(IF(Lageromsætning!$A$3:$A$79=$A$2,ROW(Lageromsætning!$A$3:$A$79)-CELL(\"row\",Lageromsætning!$A$3:$A$79)+1),ROWS($2:29))),\"\")","v":""},{"$f":"IFERROR(INDEX(Lageromsætning!$E$3:$E$79,SMALL(IF(Lageromsætning!$A$3:$A$79=$A$2,ROW(Lageromsætning!$A$3:$A$79)-CELL(\"row\",Lageromsætning!$A$3:$A$79)+1),ROWS($2:29))),\"\")","v":""},{"$f":"IFERROR(INDEX(Lageromsætning!$AF$3:$AF$79,SMALL(IF(Lageromsætning!$A$3:$A$79=$A$2,ROW(Lageromsætning!$A$3:$A$79)-CELL(\"row\",Lageromsætning!$A$3:$A$79)+1),ROWS($2:29))),\"\")","v":""},{"$f":"SUMIFS('Lager antal'!$D$3:$D$2508,'Lager antal'!$B$3:$B$2508,B31,'Lager antal'!$C$3:$C$2508,C31)","v":0},{"$f":"SUMIFS('Lager antal'!$F$3:$F$2508,'Lager antal'!$B$3:$B$2508,B31,'Lager antal'!$C$3:$C$2508,C31)","v":0},{"$f":"IF(ISNA(VLOOKUP($C31,'Lager antal'!$C$3:$K$508,9,FALSE))=TRUE,\"\",VLOOKUP($C31,'Lager antal'!$C$3:$K$508,9,FALSE))","v":""},{"$f":"IFERROR(INDEX(Lageromsætning!$P$3:$P$79,SMALL(IF(Lageromsætning!$A$3:$A$79=$A$2,ROW(Lageromsætning!$A$3:$A$79)-CELL(\"row\",Lageromsætning!$A$3:$A$79)+1),ROWS($2:29))),\"\")","v":""},{"$f":"+_xlfn.IFS($M31>=0.01,$M31,TRUE,0)-$F31-K31+G31","v":0},{"$f":"SUMIFS('Lager antal'!$G$3:$G$2508,'Lager antal'!$B$3:$B$2508,B31,'Lager antal'!$C$3:$C$2508,C31)","v":0},null,0,{"$f":"SUMIFS(Lageromsætning!$R$3:$R$79,Lageromsætning!$A$3:$A$79,$A$2,Lageromsætning!$C$3:$C$79,B31,Lageromsætning!$D$3:$D$79,C31)","v":0},{"$f":"SUMIFS(Lageromsætning!$S$3:$S$79,Lageromsætning!$C$3:$C$79,B31,Lageromsætning!$D$3:$D$79,C31)","v":0}]
[{"$f":"IFERROR(INDEX(Lageromsætning!$A$3:$A$79,SMALL(IF(Lageromsætning!$A$3:$A$79=$A$2,ROW(Lageromsætning!$A$3:$A$79)-CELL(\"row\",Lageromsætning!$A$3:$A$79)+1),ROWS($1:29))),\"\")","v":""},{"$f":"IFERROR(INDEX(Lageromsætning!$C$3:$C$79,SMALL(IF(Lageromsætning!$A$3:$A$79=$A$2,ROW(Lageromsætning!$A$3:$A$79)-CELL(\"row\",Lageromsætning!$A$3:$A$79)+1),ROWS($2:30))),\"\")","v":""},{"$f":"IFERROR(INDEX(Lageromsætning!$D$3:$D$79,SMALL(IF(Lageromsætning!$A$3:$A$79=$A$2,ROW(Lageromsætning!$A$3:$A$79)-CELL(\"row\",Lageromsætning!$A$3:$A$79)+1),ROWS($2:30))),\"\")","v":""},{"$f":"IFERROR(INDEX(Lageromsætning!$E$3:$E$79,SMALL(IF(Lageromsætning!$A$3:$A$79=$A$2,ROW(Lageromsætning!$A$3:$A$79)-CELL(\"row\",Lageromsætning!$A$3:$A$79)+1),ROWS($2:30))),\"\")","v":""},{"$f":"IFERROR(INDEX(Lageromsætning!$AF$3:$AF$79,SMALL(IF(Lageromsætning!$A$3:$A$79=$A$2,ROW(Lageromsætning!$A$3:$A$79)-CELL(\"row\",Lageromsætning!$A$3:$A$79)+1),ROWS($2:30))),\"\")","v":""},{"$f":"SUMIFS('Lager antal'!$D$3:$D$2508,'Lager antal'!$B$3:$B$2508,B32,'Lager antal'!$C$3:$C$2508,C32)","v":0},{"$f":"SUMIFS('Lager antal'!$F$3:$F$2508,'Lager antal'!$B$3:$B$2508,B32,'Lager antal'!$C$3:$C$2508,C32)","v":0},{"$f":"IF(ISNA(VLOOKUP($C32,'Lager antal'!$C$3:$K$508,9,FALSE))=TRUE,\"\",VLOOKUP($C32,'Lager antal'!$C$3:$K$508,9,FALSE))","v":""},{"$f":"IFERROR(INDEX(Lageromsætning!$P$3:$P$79,SMALL(IF(Lageromsætning!$A$3:$A$79=$A$2,ROW(Lageromsætning!$A$3:$A$79)-CELL(\"row\",Lageromsætning!$A$3:$A$79)+1),ROWS($2:30))),\"\")","v":""},{"$f":"+_xlfn.IFS($M32>=0.01,$M32,TRUE,0)-$F32-K32+G32","v":0},{"$f":"SUMIFS('Lager antal'!$G$3:$G$2508,'Lager antal'!$B$3:$B$2508,B32,'Lager antal'!$C$3:$C$2508,C32)","v":0},null,0,{"$f":"SUMIFS(Lageromsætning!$R$3:$R$79,Lageromsætning!$A$3:$A$79,$A$2,Lageromsætning!$C$3:$C$79,B32,Lageromsætning!$D$3:$D$79,C32)","v":0},{"$f":"SUMIFS(Lageromsætning!$S$3:$S$79,Lageromsætning!$C$3:$C$79,B32,Lageromsætning!$D$3:$D$79,C32)","v":0}]
[{"$f":"IFERROR(INDEX(Lageromsætning!$A$3:$A$79,SMALL(IF(Lageromsætning!$A$3:$A$79=$A$2,ROW(Lageromsætning!$A$3:$A$79)-CELL(\"row\",Lageromsætning!$A$3:$A$79)+1),ROWS($1:30))),\"\")","v":""},{"$f":"IFERROR(INDEX(Lageromsætning!$C$3:$C$79,SMALL(IF(Lageromsætning!$A$3:$A$79=$A$2,ROW(Lageromsætning!$A$3:$A$79)-CELL(\"row\",Lageromsætning!$A$3:$A$79)+1),ROWS($2:31))),\"\")","v":""},{"$f":"IFERROR(INDEX(Lageromsætning!$D$3:$D$79,SMALL(IF(Lageromsætning!$A$3:$A$79=$A$2,ROW(Lageromsætning!$A$3:$A$79)-CELL(\"row\",Lageromsætning!$A$3:$A$79)+1),ROWS($2:31))),\"\")","v":""},{"$f":"IFERROR(INDEX(Lageromsætning!$E$3:$E$79,SMALL(IF(Lageromsætning!$A$3:$A$79=$A$2,ROW(Lageromsætning!$A$3:$A$79)-CELL(\"row\",Lageromsætning!$A$3:$A$79)+1),ROWS($2:31))),\"\")","v":""},{"$f":"IFERROR(INDEX(Lageromsætning!$AF$3:$AF$79,SMALL(IF(Lageromsætning!$A$3:$A$79=$A$2,ROW(Lageromsætning!$A$3:$A$79)-CELL(\"row\",Lageromsætning!$A$3:$A$79)+1),ROWS($2:31))),\"\")","v":""},{"$f":"SUMIFS('Lager antal'!$D$3:$D$2508,'Lager antal'!$B$3:$B$2508,B33,'Lager antal'!$C$3:$C$2508,C33)","v":0},{"$f":"SUMIFS('Lager antal'!$F$3:$F$2508,'Lager antal'!$B$3:$B$2508,B33,'Lager antal'!$C$3:$C$2508,C33)","v":0},{"$f":"IF(ISNA(VLOOKUP($C33,'Lager antal'!$C$3:$K$508,9,FALSE))=TRUE,\"\",VLOOKUP($C33,'Lager antal'!$C$3:$K$508,9,FALSE))","v":""},{"$f":"IFERROR(INDEX(Lageromsætning!$P$3:$P$79,SMALL(IF(Lageromsætning!$A$3:$A$79=$A$2,ROW(Lageromsætning!$A$3:$A$79)-CELL(\"row\",Lageromsætning!$A$3:$A$79)+1),ROWS($2:31))),\"\")","v":""},{"$f":"+_xlfn.IFS($M33>=0.01,$M33,TRUE,0)-$F33-K33+G33","v":0},{"$f":"SUMIFS('Lager antal'!$G$3:$G$2508,'Lager antal'!$B$3:$B$2508,B33,'Lager antal'!$C$3:$C$2508,C33)","v":0},null,0,{"$f":"SUMIFS(Lageromsætning!$R$3:$R$79,Lageromsætning!$A$3:$A$79,$A$2,Lageromsætning!$C$3:$C$79,B33,Lageromsætning!$D$3:$D$79,C33)","v":0},{"$f":"SUMIFS(Lageromsætning!$S$3:$S$79,Lageromsætning!$C$3:$C$79,B33,Lageromsætning!$D$3:$D$79,C33)","v":0}]
[{"$f":"IFERROR(INDEX(Lageromsætning!$A$3:$A$79,SMALL(IF(Lageromsætning!$A$3:$A$79=$A$2,ROW(Lageromsætning!$A$3:$A$79)-CELL(\"row\",Lageromsætning!$A$3:$A$79)+1),ROWS($1:31))),\"\")","v":""},{"$f":"IFERROR(INDEX(Lageromsætning!$C$3:$C$79,SMALL(IF(Lageromsætning!$A$3:$A$79=$A$2,ROW(Lageromsætning!$A$3:$A$79)-CELL(\"row\",Lageromsætning!$A$3:$A$79)+1),ROWS($2:32))),\"\")","v":""},{"$f":"IFERROR(INDEX(Lageromsætning!$D$3:$D$79,SMALL(IF(Lageromsætning!$A$3:$A$79=$A$2,ROW(Lageromsætning!$A$3:$A$79)-CELL(\"row\",Lageromsætning!$A$3:$A$79)+1),ROWS($2:32))),\"\")","v":""},{"$f":"IFERROR(INDEX(Lageromsætning!$E$3:$E$79,SMALL(IF(Lageromsætning!$A$3:$A$79=$A$2,ROW(Lageromsætning!$A$3:$A$79)-CELL(\"row\",Lageromsætning!$A$3:$A$79)+1),ROWS($2:32))),\"\")","v":""},{"$f":"IFERROR(INDEX(Lageromsætning!$AF$3:$AF$79,SMALL(IF(Lageromsætning!$A$3:$A$79=$A$2,ROW(Lageromsætning!$A$3:$A$79)-CELL(\"row\",Lageromsætning!$A$3:$A$79)+1),ROWS($2:32))),\"\")","v":""},{"$f":"SUMIFS('Lager antal'!$D$3:$D$2508,'Lager antal'!$B$3:$B$2508,B34,'Lager antal'!$C$3:$C$2508,C34)","v":0},{"$f":"SUMIFS('Lager antal'!$F$3:$F$2508,'Lager antal'!$B$3:$B$2508,B34,'Lager antal'!$C$3:$C$2508,C34)","v":0},{"$f":"IF(ISNA(VLOOKUP($C34,'Lager antal'!$C$3:$K$508,9,FALSE))=TRUE,\"\",VLOOKUP($C34,'Lager antal'!$C$3:$K$508,9,FALSE))","v":""},{"$f":"IFERROR(INDEX(Lageromsætning!$P$3:$P$79,SMALL(IF(Lageromsætning!$A$3:$A$79=$A$2,ROW(Lageromsætning!$A$3:$A$79)-CELL(\"row\",Lageromsætning!$A$3:$A$79)+1),ROWS($2:32))),\"\")","v":""},{"$f":"+_xlfn.IFS($M34>=0.01,$M34,TRUE,0)-$F34-K34+G34","v":0},{"$f":"SUMIFS('Lager antal'!$G$3:$G$2508,'Lager antal'!$B$3:$B$2508,B34,'Lager antal'!$C$3:$C$2508,C34)","v":0},null,0,{"$f":"SUMIFS(Lageromsætning!$R$3:$R$79,Lageromsætning!$A$3:$A$79,$A$2,Lageromsætning!$C$3:$C$79,B34,Lageromsætning!$D$3:$D$79,C34)","v":0},{"$f":"SUMIFS(Lageromsætning!$S$3:$S$79,Lageromsætning!$C$3:$C$79,B34,Lageromsætning!$D$3:$D$79,C34)","v":0}]
[{"$f":"IFERROR(INDEX(Lageromsætning!$A$3:$A$79,SMALL(IF(Lageromsætning!$A$3:$A$79=$A$2,ROW(Lageromsætning!$A$3:$A$79)-CELL(\"row\",Lageromsætning!$A$3:$A$79)+1),ROWS($1:32))),\"\")","v":""},{"$f":"IFERROR(INDEX(Lageromsætning!$C$3:$C$79,SMALL(IF(Lageromsætning!$A$3:$A$79=$A$2,ROW(Lageromsætning!$A$3:$A$79)-CELL(\"row\",Lageromsætning!$A$3:$A$79)+1),ROWS($2:33))),\"\")","v":""},{"$f":"IFERROR(INDEX(Lageromsætning!$D$3:$D$79,SMALL(IF(Lageromsætning!$A$3:$A$79=$A$2,ROW(Lageromsætning!$A$3:$A$79)-CELL(\"row\",Lageromsætning!$A$3:$A$79)+1),ROWS($2:33))),\"\")","v":""},{"$f":"IFERROR(INDEX(Lageromsætning!$E$3:$E$79,SMALL(IF(Lageromsætning!$A$3:$A$79=$A$2,ROW(Lageromsætning!$A$3:$A$79)-CELL(\"row\",Lageromsætning!$A$3:$A$79)+1),ROWS($2:33))),\"\")","v":""},{"$f":"IFERROR(INDEX(Lageromsætning!$AF$3:$AF$79,SMALL(IF(Lageromsætning!$A$3:$A$79=$A$2,ROW(Lageromsætning!$A$3:$A$79)-CELL(\"row\",Lageromsætning!$A$3:$A$79)+1),ROWS($2:33))),\"\")","v":""},{"$f":"SUMIFS('Lager antal'!$D$3:$D$2508,'Lager antal'!$B$3:$B$2508,B35,'Lager antal'!$C$3:$C$2508,C35)","v":0},{"$f":"SUMIFS('Lager antal'!$F$3:$F$2508,'Lager antal'!$B$3:$B$2508,B35,'Lager antal'!$C$3:$C$2508,C35)","v":0},{"$f":"IF(ISNA(VLOOKUP($C35,'Lager antal'!$C$3:$K$508,9,FALSE))=TRUE,\"\",VLOOKUP($C35,'Lager antal'!$C$3:$K$508,9,FALSE))","v":""},{"$f":"IFERROR(INDEX(Lageromsætning!$P$3:$P$79,SMALL(IF(Lageromsætning!$A$3:$A$79=$A$2,ROW(Lageromsætning!$A$3:$A$79)-CELL(\"row\",Lageromsætning!$A$3:$A$79)+1),ROWS($2:33))),\"\")","v":""},{"$f":"+_xlfn.IFS($M35>=0.01,$M35,TRUE,0)-$F35-K35+G35","v":0},{"$f":"SUMIFS('Lager antal'!$G$3:$G$2508,'Lager antal'!$B$3:$B$2508,B35,'Lager antal'!$C$3:$C$2508,C35)","v":0},null,0,{"$f":"SUMIFS(Lageromsætning!$R$3:$R$79,Lageromsætning!$A$3:$A$79,$A$2,Lageromsætning!$C$3:$C$79,B35,Lageromsætning!$D$3:$D$79,C35)","v":0},{"$f":"SUMIFS(Lageromsætning!$S$3:$S$79,Lageromsætning!$C$3:$C$79,B35,Lageromsætning!$D$3:$D$79,C35)","v":0}]
[{"$f":"IFERROR(INDEX(Lageromsætning!$A$3:$A$79,SMALL(IF(Lageromsætning!$A$3:$A$79=$A$2,ROW(Lageromsætning!$A$3:$A$79)-CELL(\"row\",Lageromsætning!$A$3:$A$79)+1),ROWS($1:33))),\"\")","v":""},{"$f":"IFERROR(INDEX(Lageromsætning!$C$3:$C$79,SMALL(IF(Lageromsætning!$A$3:$A$79=$A$2,ROW(Lageromsætning!$A$3:$A$79)-CELL(\"row\",Lageromsætning!$A$3:$A$79)+1),ROWS($2:34))),\"\")","v":""},{"$f":"IFERROR(INDEX(Lageromsætning!$D$3:$D$79,SMALL(IF(Lageromsætning!$A$3:$A$79=$A$2,ROW(Lageromsætning!$A$3:$A$79)-CELL(\"row\",Lageromsætning!$A$3:$A$79)+1),ROWS($2:34))),\"\")","v":""},{"$f":"IFERROR(INDEX(Lageromsætning!$E$3:$E$79,SMALL(IF(Lageromsætning!$A$3:$A$79=$A$2,ROW(Lageromsætning!$A$3:$A$79)-CELL(\"row\",Lageromsætning!$A$3:$A$79)+1),ROWS($2:34))),\"\")","v":""},{"$f":"IFERROR(INDEX(Lageromsætning!$AF$3:$AF$79,SMALL(IF(Lageromsætning!$A$3:$A$79=$A$2,ROW(Lageromsætning!$A$3:$A$79)-CELL(\"row\",Lageromsætning!$A$3:$A$79)+1),ROWS($2:34))),\"\")","v":""},{"$f":"SUMIFS('Lager antal'!$D$3:$D$2508,'Lager antal'!$B$3:$B$2508,B36,'Lager antal'!$C$3:$C$2508,C36)","v":0},{"$f":"SUMIFS('Lager antal'!$F$3:$F$2508,'Lager antal'!$B$3:$B$2508,B36,'Lager antal'!$C$3:$C$2508,C36)","v":0},{"$f":"IF(ISNA(VLOOKUP($C36,'Lager antal'!$C$3:$K$508,9,FALSE))=TRUE,\"\",VLOOKUP($C36,'Lager antal'!$C$3:$K$508,9,FALSE))","v":""},{"$f":"IFERROR(INDEX(Lageromsætning!$P$3:$P$79,SMALL(IF(Lageromsætning!$A$3:$A$79=$A$2,ROW(Lageromsætning!$A$3:$A$79)-CELL(\"row\",Lageromsætning!$A$3:$A$79)+1),ROWS($2:34))),\"\")","v":""},{"$f":"+_xlfn.IFS($M36>=0.01,$M36,TRUE,0)-$F36-K36+G36","v":0},{"$f":"SUMIFS('Lager antal'!$G$3:$G$2508,'Lager antal'!$B$3:$B$2508,B36,'Lager antal'!$C$3:$C$2508,C36)","v":0},null,0,{"$f":"SUMIFS(Lageromsætning!$R$3:$R$79,Lageromsætning!$A$3:$A$79,$A$2,Lageromsætning!$C$3:$C$79,B36,Lageromsætning!$D$3:$D$79,C36)","v":0},{"$f":"SUMIFS(Lageromsætning!$S$3:$S$79,Lageromsætning!$C$3:$C$79,B36,Lageromsætning!$D$3:$D$79,C36)","v":0}]
[{"$f":"IFERROR(INDEX(Lageromsætning!$A$3:$A$79,SMALL(IF(Lageromsætning!$A$3:$A$79=$A$2,ROW(Lageromsætning!$A$3:$A$79)-CELL(\"row\",Lageromsætning!$A$3:$A$79)+1),ROWS($1:34))),\"\")","v":""},{"$f":"IFERROR(INDEX(Lageromsætning!$C$3:$C$79,SMALL(IF(Lageromsætning!$A$3:$A$79=$A$2,ROW(Lageromsætning!$A$3:$A$79)-CELL(\"row\",Lageromsætning!$A$3:$A$79)+1),ROWS($2:35))),\"\")","v":""},{"$f":"IFERROR(INDEX(Lageromsætning!$D$3:$D$79,SMALL(IF(Lageromsætning!$A$3:$A$79=$A$2,ROW(Lageromsætning!$A$3:$A$79)-CELL(\"row\",Lageromsætning!$A$3:$A$79)+1),ROWS($2:35))),\"\")","v":""},{"$f":"IFERROR(INDEX(Lageromsætning!$E$3:$E$79,SMALL(IF(Lageromsætning!$A$3:$A$79=$A$2,ROW(Lageromsætning!$A$3:$A$79)-CELL(\"row\",Lageromsætning!$A$3:$A$79)+1),ROWS($2:35))),\"\")","v":""},{"$f":"IFERROR(INDEX(Lageromsætning!$AF$3:$AF$79,SMALL(IF(Lageromsætning!$A$3:$A$79=$A$2,ROW(Lageromsætning!$A$3:$A$79)-CELL(\"row\",Lageromsætning!$A$3:$A$79)+1),ROWS($2:35))),\"\")","v":""},{"$f":"SUMIFS('Lager antal'!$D$3:$D$2508,'Lager antal'!$B$3:$B$2508,B37,'Lager antal'!$C$3:$C$2508,C37)","v":0},{"$f":"SUMIFS('Lager antal'!$F$3:$F$2508,'Lager antal'!$B$3:$B$2508,B37,'Lager antal'!$C$3:$C$2508,C37)","v":0},{"$f":"IF(ISNA(VLOOKUP($C37,'Lager antal'!$C$3:$K$508,9,FALSE))=TRUE,\"\",VLOOKUP($C37,'Lager antal'!$C$3:$K$508,9,FALSE))","v":""},{"$f":"IFERROR(INDEX(Lageromsætning!$P$3:$P$79,SMALL(IF(Lageromsætning!$A$3:$A$79=$A$2,ROW(Lageromsætning!$A$3:$A$79)-CELL(\"row\",Lageromsætning!$A$3:$A$79)+1),ROWS($2:35))),\"\")","v":""},{"$f":"+_xlfn.IFS($M37>=0.01,$M37,TRUE,0)-$F37-K37+G37","v":0},{"$f":"SUMIFS('Lager antal'!$G$3:$G$2508,'Lager antal'!$B$3:$B$2508,B37,'Lager antal'!$C$3:$C$2508,C37)","v":0},null,0,{"$f":"SUMIFS(Lageromsætning!$R$3:$R$79,Lageromsætning!$A$3:$A$79,$A$2,Lageromsætning!$C$3:$C$79,B37,Lageromsætning!$D$3:$D$79,C37)","v":0},{"$f":"SUMIFS(Lageromsætning!$S$3:$S$79,Lageromsætning!$C$3:$C$79,B37,Lageromsætning!$D$3:$D$79,C37)","v":0}]
[{"$f":"IFERROR(INDEX(Lageromsætning!$A$3:$A$79,SMALL(IF(Lageromsætning!$A$3:$A$79=$A$2,ROW(Lageromsætning!$A$3:$A$79)-CELL(\"row\",Lageromsætning!$A$3:$A$79)+1),ROWS($1:35))),\"\")","v":""},{"$f":"IFERROR(INDEX(Lageromsætning!$C$3:$C$79,SMALL(IF(Lageromsætning!$A$3:$A$79=$A$2,ROW(Lageromsætning!$A$3:$A$79)-CELL(\"row\",Lageromsætning!$A$3:$A$79)+1),ROWS($2:36))),\"\")","v":""},{"$f":"IFERROR(INDEX(Lageromsætning!$D$3:$D$79,SMALL(IF(Lageromsætning!$A$3:$A$79=$A$2,ROW(Lageromsætning!$A$3:$A$79)-CELL(\"row\",Lageromsætning!$A$3:$A$79)+1),ROWS($2:36))),\"\")","v":""},{"$f":"IFERROR(INDEX(Lageromsætning!$E$3:$E$79,SMALL(IF(Lageromsætning!$A$3:$A$79=$A$2,ROW(Lageromsætning!$A$3:$A$79)-CELL(\"row\",Lageromsætning!$A$3:$A$79)+1),ROWS($2:36))),\"\")","v":""},{"$f":"IFERROR(INDEX(Lageromsætning!$AF$3:$AF$79,SMALL(IF(Lageromsætning!$A$3:$A$79=$A$2,ROW(Lageromsætning!$A$3:$A$79)-CELL(\"row\",Lageromsætning!$A$3:$A$79)+1),ROWS($2:36))),\"\")","v":""},{"$f":"SUMIFS('Lager antal'!$D$3:$D$2508,'Lager antal'!$B$3:$B$2508,B38,'Lager antal'!$C$3:$C$2508,C38)","v":0},{"$f":"SUMIFS('Lager antal'!$F$3:$F$2508,'Lager antal'!$B$3:$B$2508,B38,'Lager antal'!$C$3:$C$2508,C38)","v":0},{"$f":"IF(ISNA(VLOOKUP($C38,'Lager antal'!$C$3:$K$508,9,FALSE))=TRUE,\"\",VLOOKUP($C38,'Lager antal'!$C$3:$K$508,9,FALSE))","v":""},{"$f":"IFERROR(INDEX(Lageromsætning!$P$3:$P$79,SMALL(IF(Lageromsætning!$A$3:$A$79=$A$2,ROW(Lageromsætning!$A$3:$A$79)-CELL(\"row\",Lageromsætning!$A$3:$A$79)+1),ROWS($2:36))),\"\")","v":""},{"$f":"+_xlfn.IFS($M38>=0.01,$M38,TRUE,0)-$F38-K38+G38","v":0},{"$f":"SUMIFS('Lager antal'!$G$3:$G$2508,'Lager antal'!$B$3:$B$2508,B38,'Lager antal'!$C$3:$C$2508,C38)","v":0},null,0,{"$f":"SUMIFS(Lageromsætning!$R$3:$R$79,Lageromsætning!$A$3:$A$79,$A$2,Lageromsætning!$C$3:$C$79,B38,Lageromsætning!$D$3:$D$79,C38)","v":0},{"$f":"SUMIFS(Lageromsætning!$S$3:$S$79,Lageromsætning!$C$3:$C$79,B38,Lageromsætning!$D$3:$D$79,C38)","v":0}]
[{"$f":"IFERROR(INDEX(Lageromsætning!$A$3:$A$79,SMALL(IF(Lageromsætning!$A$3:$A$79=$A$2,ROW(Lageromsætning!$A$3:$A$79)-CELL(\"row\",Lageromsætning!$A$3:$A$79)+1),ROWS($1:36))),\"\")","v":""},{"$f":"IFERROR(INDEX(Lageromsætning!$C$3:$C$79,SMALL(IF(Lageromsætning!$A$3:$A$79=$A$2,ROW(Lageromsætning!$A$3:$A$79)-CELL(\"row\",Lageromsætning!$A$3:$A$79)+1),ROWS($2:37))),\"\")","v":""},{"$f":"IFERROR(INDEX(Lageromsætning!$D$3:$D$79,SMALL(IF(Lageromsætning!$A$3:$A$79=$A$2,ROW(Lageromsætning!$A$3:$A$79)-CELL(\"row\",Lageromsætning!$A$3:$A$79)+1),ROWS($2:37))),\"\")","v":""},{"$f":"IFERROR(INDEX(Lageromsætning!$E$3:$E$79,SMALL(IF(Lageromsætning!$A$3:$A$79=$A$2,ROW(Lageromsætning!$A$3:$A$79)-CELL(\"row\",Lageromsætning!$A$3:$A$79)+1),ROWS($2:37))),\"\")","v":""},{"$f":"IFERROR(INDEX(Lageromsætning!$AF$3:$AF$79,SMALL(IF(Lageromsætning!$A$3:$A$79=$A$2,ROW(Lageromsætning!$A$3:$A$79)-CELL(\"row\",Lageromsætning!$A$3:$A$79)+1),ROWS($2:37))),\"\")","v":""},{"$f":"SUMIFS('Lager antal'!$D$3:$D$2508,'Lager antal'!$B$3:$B$2508,B39,'Lager antal'!$C$3:$C$2508,C39)","v":0},{"$f":"SUMIFS('Lager antal'!$F$3:$F$2508,'Lager antal'!$B$3:$B$2508,B39,'Lager antal'!$C$3:$C$2508,C39)","v":0},{"$f":"IF(ISNA(VLOOKUP($C39,'Lager antal'!$C$3:$K$508,9,FALSE))=TRUE,\"\",VLOOKUP($C39,'Lager antal'!$C$3:$K$508,9,FALSE))","v":""},{"$f":"IFERROR(INDEX(Lageromsætning!$P$3:$P$79,SMALL(IF(Lageromsætning!$A$3:$A$79=$A$2,ROW(Lageromsætning!$A$3:$A$79)-CELL(\"row\",Lageromsætning!$A$3:$A$79)+1),ROWS($2:37))),\"\")","v":""},{"$f":"+_xlfn.IFS($M39>=0.01,$M39,TRUE,0)-$F39-K39+G39","v":0},{"$f":"SUMIFS('Lager antal'!$G$3:$G$2508,'Lager antal'!$B$3:$B$2508,B39,'Lager antal'!$C$3:$C$2508,C39)","v":0},null,0,{"$f":"SUMIFS(Lageromsætning!$R$3:$R$79,Lageromsætning!$A$3:$A$79,$A$2,Lageromsætning!$C$3:$C$79,B39,Lageromsætning!$D$3:$D$79,C39)","v":0},{"$f":"SUMIFS(Lageromsætning!$S$3:$S$79,Lageromsætning!$C$3:$C$79,B39,Lageromsætning!$D$3:$D$79,C39)","v":0}]
[{"$f":"IFERROR(INDEX(Lageromsætning!$A$3:$A$79,SMALL(IF(Lageromsætning!$A$3:$A$79=$A$2,ROW(Lageromsætning!$A$3:$A$79)-CELL(\"row\",Lageromsætning!$A$3:$A$79)+1),ROWS($1:37))),\"\")","v":""},{"$f":"IFERROR(INDEX(Lageromsætning!$C$3:$C$79,SMALL(IF(Lageromsætning!$A$3:$A$79=$A$2,ROW(Lageromsætning!$A$3:$A$79)-CELL(\"row\",Lageromsætning!$A$3:$A$79)+1),ROWS($2:38))),\"\")","v":""},{"$f":"IFERROR(INDEX(Lageromsætning!$D$3:$D$79,SMALL(IF(Lageromsætning!$A$3:$A$79=$A$2,ROW(Lageromsætning!$A$3:$A$79)-CELL(\"row\",Lageromsætning!$A$3:$A$79)+1),ROWS($2:38))),\"\")","v":""},{"$f":"IFERROR(INDEX(Lageromsætning!$E$3:$E$79,SMALL(IF(Lageromsætning!$A$3:$A$79=$A$2,ROW(Lageromsætning!$A$3:$A$79)-CELL(\"row\",Lageromsætning!$A$3:$A$79)+1),ROWS($2:38))),\"\")","v":""},{"$f":"IFERROR(INDEX(Lageromsætning!$AF$3:$AF$79,SMALL(IF(Lageromsætning!$A$3:$A$79=$A$2,ROW(Lageromsætning!$A$3:$A$79)-CELL(\"row\",Lageromsætning!$A$3:$A$79)+1),ROWS($2:38))),\"\")","v":""},{"$f":"SUMIFS('Lager antal'!$D$3:$D$2508,'Lager antal'!$B$3:$B$2508,B40,'Lager antal'!$C$3:$C$2508,C40)","v":0},{"$f":"SUMIFS('Lager antal'!$F$3:$F$2508,'Lager antal'!$B$3:$B$2508,B40,'Lager antal'!$C$3:$C$2508,C40)","v":0},{"$f":"IF(ISNA(VLOOKUP($C40,'Lager antal'!$C$3:$K$508,9,FALSE))=TRUE,\"\",VLOOKUP($C40,'Lager antal'!$C$3:$K$508,9,FALSE))","v":""},{"$f":"IFERROR(INDEX(Lageromsætning!$P$3:$P$79,SMALL(IF(Lageromsætning!$A$3:$A$79=$A$2,ROW(Lageromsætning!$A$3:$A$79)-CELL(\"row\",Lageromsætning!$A$3:$A$79)+1),ROWS($2:38))),\"\")","v":""},{"$f":"+_xlfn.IFS($M40>=0.01,$M40,TRUE,0)-$F40-K40+G40","v":0},{"$f":"SUMIFS('Lager antal'!$G$3:$G$2508,'Lager antal'!$B$3:$B$2508,B40,'Lager antal'!$C$3:$C$2508,C40)","v":0},null,0,{"$f":"SUMIFS(Lageromsætning!$R$3:$R$79,Lageromsætning!$A$3:$A$79,$A$2,Lageromsætning!$C$3:$C$79,B40,Lageromsætning!$D$3:$D$79,C40)","v":0},{"$f":"SUMIFS(Lageromsætning!$S$3:$S$79,Lageromsætning!$C$3:$C$79,B40,Lageromsætning!$D$3:$D$79,C40)","v":0}]
[{"$f":"IFERROR(INDEX(Lageromsætning!$A$3:$A$79,SMALL(IF(Lageromsætning!$A$3:$A$79=$A$2,ROW(Lageromsætning!$A$3:$A$79)-CELL(\"row\",Lageromsætning!$A$3:$A$79)+1),ROWS($1:38))),\"\")","v":""},{"$f":"IFERROR(INDEX(Lageromsætning!$C$3:$C$79,SMALL(IF(Lageromsætning!$A$3:$A$79=$A$2,ROW(Lageromsætning!$A$3:$A$79)-CELL(\"row\",Lageromsætning!$A$3:$A$79)+1),ROWS($2:39))),\"\")","v":""},{"$f":"IFERROR(INDEX(Lageromsætning!$D$3:$D$79,SMALL(IF(Lageromsætning!$A$3:$A$79=$A$2,ROW(Lageromsætning!$A$3:$A$79)-CELL(\"row\",Lageromsætning!$A$3:$A$79)+1),ROWS($2:39))),\"\")","v":""},{"$f":"IFERROR(INDEX(Lageromsætning!$E$3:$E$79,SMALL(IF(Lageromsætning!$A$3:$A$79=$A$2,ROW(Lageromsætning!$A$3:$A$79)-CELL(\"row\",Lageromsætning!$A$3:$A$79)+1),ROWS($2:39))),\"\")","v":""},{"$f":"IFERROR(INDEX(Lageromsætning!$AF$3:$AF$79,SMALL(IF(Lageromsætning!$A$3:$A$79=$A$2,ROW(Lageromsætning!$A$3:$A$79)-CELL(\"row\",Lageromsætning!$A$3:$A$79)+1),ROWS($2:39))),\"\")","v":""},{"$f":"SUMIFS('Lager antal'!$D$3:$D$2508,'Lager antal'!$B$3:$B$2508,B41,'Lager antal'!$C$3:$C$2508,C41)","v":0},{"$f":"SUMIFS('Lager antal'!$F$3:$F$2508,'Lager antal'!$B$3:$B$2508,B41,'Lager antal'!$C$3:$C$2508,C41)","v":0},{"$f":"IF(ISNA(VLOOKUP($C41,'Lager antal'!$C$3:$K$508,9,FALSE))=TRUE,\"\",VLOOKUP($C41,'Lager antal'!$C$3:$K$508,9,FALSE))","v":""},{"$f":"IFERROR(INDEX(Lageromsætning!$P$3:$P$79,SMALL(IF(Lageromsætning!$A$3:$A$79=$A$2,ROW(Lageromsætning!$A$3:$A$79)-CELL(\"row\",Lageromsætning!$A$3:$A$79)+1),ROWS($2:39))),\"\")","v":""},{"$f":"+_xlfn.IFS($M41>=0.01,$M41,TRUE,0)-$F41-K41+G41","v":0},{"$f":"SUMIFS('Lager antal'!$G$3:$G$2508,'Lager antal'!$B$3:$B$2508,B41,'Lager antal'!$C$3:$C$2508,C41)","v":0},null,0,{"$f":"SUMIFS(Lageromsætning!$R$3:$R$79,Lageromsætning!$A$3:$A$79,$A$2,Lageromsætning!$C$3:$C$79,B41,Lageromsætning!$D$3:$D$79,C41)","v":0},{"$f":"SUMIFS(Lageromsætning!$S$3:$S$79,Lageromsætning!$C$3:$C$79,B41,Lageromsætning!$D$3:$D$79,C41)","v":0}]
[{"$f":"IFERROR(INDEX(Lageromsætning!$A$3:$A$79,SMALL(IF(Lageromsætning!$A$3:$A$79=$A$2,ROW(Lageromsætning!$A$3:$A$79)-CELL(\"row\",Lageromsætning!$A$3:$A$79)+1),ROWS($1:39))),\"\")","v":""},{"$f":"IFERROR(INDEX(Lageromsætning!$C$3:$C$79,SMALL(IF(Lageromsætning!$A$3:$A$79=$A$2,ROW(Lageromsætning!$A$3:$A$79)-CELL(\"row\",Lageromsætning!$A$3:$A$79)+1),ROWS($2:40))),\"\")","v":""},{"$f":"IFERROR(INDEX(Lageromsætning!$D$3:$D$79,SMALL(IF(Lageromsætning!$A$3:$A$79=$A$2,ROW(Lageromsætning!$A$3:$A$79)-CELL(\"row\",Lageromsætning!$A$3:$A$79)+1),ROWS($2:40))),\"\")","v":""},{"$f":"IFERROR(INDEX(Lageromsætning!$E$3:$E$79,SMALL(IF(Lageromsætning!$A$3:$A$79=$A$2,ROW(Lageromsætning!$A$3:$A$79)-CELL(\"row\",Lageromsætning!$A$3:$A$79)+1),ROWS($2:40))),\"\")","v":""},{"$f":"IFERROR(INDEX(Lageromsætning!$AF$3:$AF$79,SMALL(IF(Lageromsætning!$A$3:$A$79=$A$2,ROW(Lageromsætning!$A$3:$A$79)-CELL(\"row\",Lageromsætning!$A$3:$A$79)+1),ROWS($2:40))),\"\")","v":""},{"$f":"SUMIFS('Lager antal'!$D$3:$D$2508,'Lager antal'!$B$3:$B$2508,B42,'Lager antal'!$C$3:$C$2508,C42)","v":0},{"$f":"SUMIFS('Lager antal'!$F$3:$F$2508,'Lager antal'!$B$3:$B$2508,B42,'Lager antal'!$C$3:$C$2508,C42)","v":0},{"$f":"IF(ISNA(VLOOKUP($C42,'Lager antal'!$C$3:$K$508,9,FALSE))=TRUE,\"\",VLOOKUP($C42,'Lager antal'!$C$3:$K$508,9,FALSE))","v":""},{"$f":"IFERROR(INDEX(Lageromsætning!$P$3:$P$79,SMALL(IF(Lageromsætning!$A$3:$A$79=$A$2,ROW(Lageromsætning!$A$3:$A$79)-CELL(\"row\",Lageromsætning!$A$3:$A$79)+1),ROWS($2:40))),\"\")","v":""},{"$f":"+_xlfn.IFS($M42>=0.01,$M42,TRUE,0)-$F42-K42+G42","v":0},{"$f":"SUMIFS('Lager antal'!$G$3:$G$2508,'Lager antal'!$B$3:$B$2508,B42,'Lager antal'!$C$3:$C$2508,C42)","v":0},null,0,{"$f":"SUMIFS(Lageromsætning!$R$3:$R$79,Lageromsætning!$A$3:$A$79,$A$2,Lageromsætning!$C$3:$C$79,B42,Lageromsætning!$D$3:$D$79,C42)","v":0},{"$f":"SUMIFS(Lageromsætning!$S$3:$S$79,Lageromsætning!$C$3:$C$79,B42,Lageromsætning!$D$3:$D$79,C42)","v":0}]
[{"$f":"IFERROR(INDEX(Lageromsætning!$A$3:$A$79,SMALL(IF(Lageromsætning!$A$3:$A$79=$A$2,ROW(Lageromsætning!$A$3:$A$79)-CELL(\"row\",Lageromsætning!$A$3:$A$79)+1),ROWS($1:40))),\"\")","v":""},{"$f":"IFERROR(INDEX(Lageromsætning!$C$3:$C$79,SMALL(IF(Lageromsætning!$A$3:$A$79=$A$2,ROW(Lageromsætning!$A$3:$A$79)-CELL(\"row\",Lageromsætning!$A$3:$A$79)+1),ROWS($2:41))),\"\")","v":""},{"$f":"IFERROR(INDEX(Lageromsætning!$D$3:$D$79,SMALL(IF(Lageromsætning!$A$3:$A$79=$A$2,ROW(Lageromsætning!$A$3:$A$79)-CELL(\"row\",Lageromsætning!$A$3:$A$79)+1),ROWS($2:41))),\"\")","v":""},{"$f":"IFERROR(INDEX(Lageromsætning!$E$3:$E$79,SMALL(IF(Lageromsætning!$A$3:$A$79=$A$2,ROW(Lageromsætning!$A$3:$A$79)-CELL(\"row\",Lageromsætning!$A$3:$A$79)+1),ROWS($2:41))),\"\")","v":""},{"$f":"IFERROR(INDEX(Lageromsætning!$AF$3:$AF$79,SMALL(IF(Lageromsætning!$A$3:$A$79=$A$2,ROW(Lageromsætning!$A$3:$A$79)-CELL(\"row\",Lageromsætning!$A$3:$A$79)+1),ROWS($2:41))),\"\")","v":""},{"$f":"SUMIFS('Lager antal'!$D$3:$D$2508,'Lager antal'!$B$3:$B$2508,B43,'Lager antal'!$C$3:$C$2508,C43)","v":0},{"$f":"SUMIFS('Lager antal'!$F$3:$F$2508,'Lager antal'!$B$3:$B$2508,B43,'Lager antal'!$C$3:$C$2508,C43)","v":0},{"$f":"IF(ISNA(VLOOKUP($C43,'Lager antal'!$C$3:$K$508,9,FALSE))=TRUE,\"\",VLOOKUP($C43,'Lager antal'!$C$3:$K$508,9,FALSE))","v":""},{"$f":"IFERROR(INDEX(Lageromsætning!$P$3:$P$79,SMALL(IF(Lageromsætning!$A$3:$A$79=$A$2,ROW(Lageromsætning!$A$3:$A$79)-CELL(\"row\",Lageromsætning!$A$3:$A$79)+1),ROWS($2:41))),\"\")","v":""},{"$f":"+_xlfn.IFS($M43>=0.01,$M43,TRUE,0)-$F43-K43+G43","v":0},{"$f":"SUMIFS('Lager antal'!$G$3:$G$2508,'Lager antal'!$B$3:$B$2508,B43,'Lager antal'!$C$3:$C$2508,C43)","v":0},null,0,{"$f":"SUMIFS(Lageromsætning!$R$3:$R$79,Lageromsætning!$A$3:$A$79,$A$2,Lageromsætning!$C$3:$C$79,B43,Lageromsætning!$D$3:$D$79,C43)","v":0},{"$f":"SUMIFS(Lageromsætning!$S$3:$S$79,Lageromsætning!$C$3:$C$79,B43,Lageromsætning!$D$3:$D$79,C43)","v":0}]
[{"$f":"IFERROR(INDEX(Lageromsætning!$A$3:$A$79,SMALL(IF(Lageromsætning!$A$3:$A$79=$A$2,ROW(Lageromsætning!$A$3:$A$79)-CELL(\"row\",Lageromsætning!$A$3:$A$79)+1),ROWS($1:41))),\"\")","v":""},{"$f":"IFERROR(INDEX(Lageromsætning!$C$3:$C$79,SMALL(IF(Lageromsætning!$A$3:$A$79=$A$2,ROW(Lageromsætning!$A$3:$A$79)-CELL(\"row\",Lageromsætning!$A$3:$A$79)+1),ROWS($2:42))),\"\")","v":""},{"$f":"IFERROR(INDEX(Lageromsætning!$D$3:$D$79,SMALL(IF(Lageromsætning!$A$3:$A$79=$A$2,ROW(Lageromsætning!$A$3:$A$79)-CELL(\"row\",Lageromsætning!$A$3:$A$79)+1),ROWS($2:42))),\"\")","v":""},{"$f":"IFERROR(INDEX(Lageromsætning!$E$3:$E$79,SMALL(IF(Lageromsætning!$A$3:$A$79=$A$2,ROW(Lageromsætning!$A$3:$A$79)-CELL(\"row\",Lageromsætning!$A$3:$A$79)+1),ROWS($2:42))),\"\")","v":""},{"$f":"IFERROR(INDEX(Lageromsætning!$AF$3:$AF$79,SMALL(IF(Lageromsætning!$A$3:$A$79=$A$2,ROW(Lageromsætning!$A$3:$A$79)-CELL(\"row\",Lageromsætning!$A$3:$A$79)+1),ROWS($2:42))),\"\")","v":""},{"$f":"SUMIFS('Lager antal'!$D$3:$D$2508,'Lager antal'!$B$3:$B$2508,B44,'Lager antal'!$C$3:$C$2508,C44)","v":0},{"$f":"SUMIFS('Lager antal'!$F$3:$F$2508,'Lager antal'!$B$3:$B$2508,B44,'Lager antal'!$C$3:$C$2508,C44)","v":0},{"$f":"IF(ISNA(VLOOKUP($C44,'Lager antal'!$C$3:$K$508,9,FALSE))=TRUE,\"\",VLOOKUP($C44,'Lager antal'!$C$3:$K$508,9,FALSE))","v":""},{"$f":"IFERROR(INDEX(Lageromsætning!$P$3:$P$79,SMALL(IF(Lageromsætning!$A$3:$A$79=$A$2,ROW(Lageromsætning!$A$3:$A$79)-CELL(\"row\",Lageromsætning!$A$3:$A$79)+1),ROWS($2:42))),\"\")","v":""},{"$f":"+_xlfn.IFS($M44>=0.01,$M44,TRUE,0)-$F44-K44+G44","v":0},{"$f":"SUMIFS('Lager antal'!$G$3:$G$2508,'Lager antal'!$B$3:$B$2508,B44,'Lager antal'!$C$3:$C$2508,C44)","v":0},null,0,{"$f":"SUMIFS(Lageromsætning!$R$3:$R$79,Lageromsætning!$A$3:$A$79,$A$2,Lageromsætning!$C$3:$C$79,B44,Lageromsætning!$D$3:$D$79,C44)","v":0},{"$f":"SUMIFS(Lageromsætning!$S$3:$S$79,Lageromsætning!$C$3:$C$79,B44,Lageromsætning!$D$3:$D$79,C44)","v":0}]
[{"$f":"IFERROR(INDEX(Lageromsætning!$A$3:$A$79,SMALL(IF(Lageromsætning!$A$3:$A$79=$A$2,ROW(Lageromsætning!$A$3:$A$79)-CELL(\"row\",Lageromsætning!$A$3:$A$79)+1),ROWS($1:42))),\"\")","v":""},{"$f":"IFERROR(INDEX(Lageromsætning!$C$3:$C$79,SMALL(IF(Lageromsætning!$A$3:$A$79=$A$2,ROW(Lageromsætning!$A$3:$A$79)-CELL(\"row\",Lageromsætning!$A$3:$A$79)+1),ROWS($2:43))),\"\")","v":""},{"$f":"IFERROR(INDEX(Lageromsætning!$D$3:$D$79,SMALL(IF(Lageromsætning!$A$3:$A$79=$A$2,ROW(Lageromsætning!$A$3:$A$79)-CELL(\"row\",Lageromsætning!$A$3:$A$79)+1),ROWS($2:43))),\"\")","v":""},{"$f":"IFERROR(INDEX(Lageromsætning!$E$3:$E$79,SMALL(IF(Lageromsætning!$A$3:$A$79=$A$2,ROW(Lageromsætning!$A$3:$A$79)-CELL(\"row\",Lageromsætning!$A$3:$A$79)+1),ROWS($2:43))),\"\")","v":""},{"$f":"IFERROR(INDEX(Lageromsætning!$AF$3:$AF$79,SMALL(IF(Lageromsætning!$A$3:$A$79=$A$2,ROW(Lageromsætning!$A$3:$A$79)-CELL(\"row\",Lageromsætning!$A$3:$A$79)+1),ROWS($2:43))),\"\")","v":""},{"$f":"SUMIFS('Lager antal'!$D$3:$D$2508,'Lager antal'!$B$3:$B$2508,B45,'Lager antal'!$C$3:$C$2508,C45)","v":0},{"$f":"SUMIFS('Lager antal'!$F$3:$F$2508,'Lager antal'!$B$3:$B$2508,B45,'Lager antal'!$C$3:$C$2508,C45)","v":0},{"$f":"IF(ISNA(VLOOKUP($C45,'Lager antal'!$C$3:$K$508,9,FALSE))=TRUE,\"\",VLOOKUP($C45,'Lager antal'!$C$3:$K$508,9,FALSE))","v":""},{"$f":"IFERROR(INDEX(Lageromsætning!$P$3:$P$79,SMALL(IF(Lageromsætning!$A$3:$A$79=$A$2,ROW(Lageromsætning!$A$3:$A$79)-CELL(\"row\",Lageromsætning!$A$3:$A$79)+1),ROWS($2:43))),\"\")","v":""},{"$f":"+_xlfn.IFS($M45>=0.01,$M45,TRUE,0)-$F45-K45+G45","v":0},{"$f":"SUMIFS('Lager antal'!$G$3:$G$2508,'Lager antal'!$B$3:$B$2508,B45,'Lager antal'!$C$3:$C$2508,C45)","v":0},null,0,{"$f":"SUMIFS(Lageromsætning!$R$3:$R$79,Lageromsætning!$A$3:$A$79,$A$2,Lageromsætning!$C$3:$C$79,B45,Lageromsætning!$D$3:$D$79,C45)","v":0},{"$f":"SUMIFS(Lageromsætning!$S$3:$S$79,Lageromsætning!$C$3:$C$79,B45,Lageromsætning!$D$3:$D$79,C45)","v":0}]
[{"$f":"IFERROR(INDEX(Lageromsætning!$A$3:$A$79,SMALL(IF(Lageromsætning!$A$3:$A$79=$A$2,ROW(Lageromsætning!$A$3:$A$79)-CELL(\"row\",Lageromsætning!$A$3:$A$79)+1),ROWS($1:43))),\"\")","v":""},{"$f":"IFERROR(INDEX(Lageromsætning!$C$3:$C$79,SMALL(IF(Lageromsætning!$A$3:$A$79=$A$2,ROW(Lageromsætning!$A$3:$A$79)-CELL(\"row\",Lageromsætning!$A$3:$A$79)+1),ROWS($2:44))),\"\")","v":""},{"$f":"IFERROR(INDEX(Lageromsætning!$D$3:$D$79,SMALL(IF(Lageromsætning!$A$3:$A$79=$A$2,ROW(Lageromsætning!$A$3:$A$79)-CELL(\"row\",Lageromsætning!$A$3:$A$79)+1),ROWS($2:44))),\"\")","v":""},{"$f":"IFERROR(INDEX(Lageromsætning!$E$3:$E$79,SMALL(IF(Lageromsætning!$A$3:$A$79=$A$2,ROW(Lageromsætning!$A$3:$A$79)-CELL(\"row\",Lageromsætning!$A$3:$A$79)+1),ROWS($2:44))),\"\")","v":""},{"$f":"IFERROR(INDEX(Lageromsætning!$AF$3:$AF$79,SMALL(IF(Lageromsætning!$A$3:$A$79=$A$2,ROW(Lageromsætning!$A$3:$A$79)-CELL(\"row\",Lageromsætning!$A$3:$A$79)+1),ROWS($2:44))),\"\")","v":""},{"$f":"SUMIFS('Lager antal'!$D$3:$D$2508,'Lager antal'!$B$3:$B$2508,B46,'Lager antal'!$C$3:$C$2508,C46)","v":0},{"$f":"SUMIFS('Lager antal'!$F$3:$F$2508,'Lager antal'!$B$3:$B$2508,B46,'Lager antal'!$C$3:$C$2508,C46)","v":0},{"$f":"IF(ISNA(VLOOKUP($C46,'Lager antal'!$C$3:$K$508,9,FALSE))=TRUE,\"\",VLOOKUP($C46,'Lager antal'!$C$3:$K$508,9,FALSE))","v":""},{"$f":"IFERROR(INDEX(Lageromsætning!$P$3:$P$79,SMALL(IF(Lageromsætning!$A$3:$A$79=$A$2,ROW(Lageromsætning!$A$3:$A$79)-CELL(\"row\",Lageromsætning!$A$3:$A$79)+1),ROWS($2:44))),\"\")","v":""},{"$f":"+_xlfn.IFS($M46>=0.01,$M46,TRUE,0)-$F46-K46+G46","v":0},{"$f":"SUMIFS('Lager antal'!$G$3:$G$2508,'Lager antal'!$B$3:$B$2508,B46,'Lager antal'!$C$3:$C$2508,C46)","v":0},null,0,{"$f":"SUMIFS(Lageromsætning!$R$3:$R$79,Lageromsætning!$A$3:$A$79,$A$2,Lageromsætning!$C$3:$C$79,B46,Lageromsætning!$D$3:$D$79,C46)","v":0},{"$f":"SUMIFS(Lageromsætning!$S$3:$S$79,Lageromsætning!$C$3:$C$79,B46,Lageromsætning!$D$3:$D$79,C46)","v":0}]
[{"$f":"IFERROR(INDEX(Lageromsætning!$A$3:$A$79,SMALL(IF(Lageromsætning!$A$3:$A$79=$A$2,ROW(Lageromsætning!$A$3:$A$79)-CELL(\"row\",Lageromsætning!$A$3:$A$79)+1),ROWS($1:44))),\"\")","v":""},{"$f":"IFERROR(INDEX(Lageromsætning!$C$3:$C$79,SMALL(IF(Lageromsætning!$A$3:$A$79=$A$2,ROW(Lageromsætning!$A$3:$A$79)-CELL(\"row\",Lageromsætning!$A$3:$A$79)+1),ROWS($2:45))),\"\")","v":""},{"$f":"IFERROR(INDEX(Lageromsætning!$D$3:$D$79,SMALL(IF(Lageromsætning!$A$3:$A$79=$A$2,ROW(Lageromsætning!$A$3:$A$79)-CELL(\"row\",Lageromsætning!$A$3:$A$79)+1),ROWS($2:45))),\"\")","v":""},{"$f":"IFERROR(INDEX(Lageromsætning!$E$3:$E$79,SMALL(IF(Lageromsætning!$A$3:$A$79=$A$2,ROW(Lageromsætning!$A$3:$A$79)-CELL(\"row\",Lageromsætning!$A$3:$A$79)+1),ROWS($2:45))),\"\")","v":""},{"$f":"IFERROR(INDEX(Lageromsætning!$AF$3:$AF$79,SMALL(IF(Lageromsætning!$A$3:$A$79=$A$2,ROW(Lageromsætning!$A$3:$A$79)-CELL(\"row\",Lageromsætning!$A$3:$A$79)+1),ROWS($2:45))),\"\")","v":""},{"$f":"SUMIFS('Lager antal'!$D$3:$D$2508,'Lager antal'!$B$3:$B$2508,B47,'Lager antal'!$C$3:$C$2508,C47)","v":0},{"$f":"SUMIFS('Lager antal'!$F$3:$F$2508,'Lager antal'!$B$3:$B$2508,B47,'Lager antal'!$C$3:$C$2508,C47)","v":0},{"$f":"IF(ISNA(VLOOKUP($C47,'Lager antal'!$C$3:$K$508,9,FALSE))=TRUE,\"\",VLOOKUP($C47,'Lager antal'!$C$3:$K$508,9,FALSE))","v":""},{"$f":"IFERROR(INDEX(Lageromsætning!$P$3:$P$79,SMALL(IF(Lageromsætning!$A$3:$A$79=$A$2,ROW(Lageromsætning!$A$3:$A$79)-CELL(\"row\",Lageromsætning!$A$3:$A$79)+1),ROWS($2:45))),\"\")","v":""},{"$f":"+_xlfn.IFS($M47>=0.01,$M47,TRUE,0)-$F47-K47+G47","v":0},{"$f":"SUMIFS('Lager antal'!$G$3:$G$2508,'Lager antal'!$B$3:$B$2508,B47,'Lager antal'!$C$3:$C$2508,C47)","v":0},null,0,{"$f":"SUMIFS(Lageromsætning!$R$3:$R$79,Lageromsætning!$A$3:$A$79,$A$2,Lageromsætning!$C$3:$C$79,B47,Lageromsætning!$D$3:$D$79,C47)","v":0},{"$f":"SUMIFS(Lageromsætning!$S$3:$S$79,Lageromsætning!$C$3:$C$79,B47,Lageromsætning!$D$3:$D$79,C47)","v":0}]
[{"$f":"IFERROR(INDEX(Lageromsætning!$A$3:$A$79,SMALL(IF(Lageromsætning!$A$3:$A$79=$A$2,ROW(Lageromsætning!$A$3:$A$79)-CELL(\"row\",Lageromsætning!$A$3:$A$79)+1),ROWS($1:45))),\"\")","v":""},{"$f":"IFERROR(INDEX(Lageromsætning!$C$3:$C$79,SMALL(IF(Lageromsætning!$A$3:$A$79=$A$2,ROW(Lageromsætning!$A$3:$A$79)-CELL(\"row\",Lageromsætning!$A$3:$A$79)+1),ROWS($2:46))),\"\")","v":""},{"$f":"IFERROR(INDEX(Lageromsætning!$D$3:$D$79,SMALL(IF(Lageromsætning!$A$3:$A$79=$A$2,ROW(Lageromsætning!$A$3:$A$79)-CELL(\"row\",Lageromsætning!$A$3:$A$79)+1),ROWS($2:46))),\"\")","v":""},{"$f":"IFERROR(INDEX(Lageromsætning!$E$3:$E$79,SMALL(IF(Lageromsætning!$A$3:$A$79=$A$2,ROW(Lageromsætning!$A$3:$A$79)-CELL(\"row\",Lageromsætning!$A$3:$A$79)+1),ROWS($2:46))),\"\")","v":""},{"$f":"IFERROR(INDEX(Lageromsætning!$AF$3:$AF$79,SMALL(IF(Lageromsætning!$A$3:$A$79=$A$2,ROW(Lageromsætning!$A$3:$A$79)-CELL(\"row\",Lageromsætning!$A$3:$A$79)+1),ROWS($2:46))),\"\")","v":""},{"$f":"SUMIFS('Lager antal'!$D$3:$D$2508,'Lager antal'!$B$3:$B$2508,B48,'Lager antal'!$C$3:$C$2508,C48)","v":0},{"$f":"SUMIFS('Lager antal'!$F$3:$F$2508,'Lager antal'!$B$3:$B$2508,B48,'Lager antal'!$C$3:$C$2508,C48)","v":0},{"$f":"IF(ISNA(VLOOKUP($C48,'Lager antal'!$C$3:$K$508,9,FALSE))=TRUE,\"\",VLOOKUP($C48,'Lager antal'!$C$3:$K$508,9,FALSE))","v":""},{"$f":"IFERROR(INDEX(Lageromsætning!$P$3:$P$79,SMALL(IF(Lageromsætning!$A$3:$A$79=$A$2,ROW(Lageromsætning!$A$3:$A$79)-CELL(\"row\",Lageromsætning!$A$3:$A$79)+1),ROWS($2:46))),\"\")","v":""},{"$f":"+_xlfn.IFS($M48>=0.01,$M48,TRUE,0)-$F48-K48+G48","v":0},{"$f":"SUMIFS('Lager antal'!$G$3:$G$2508,'Lager antal'!$B$3:$B$2508,B48,'Lager antal'!$C$3:$C$2508,C48)","v":0},null,0,{"$f":"SUMIFS(Lageromsætning!$R$3:$R$79,Lageromsætning!$A$3:$A$79,$A$2,Lageromsætning!$C$3:$C$79,B48,Lageromsætning!$D$3:$D$79,C48)","v":0},{"$f":"SUMIFS(Lageromsætning!$S$3:$S$79,Lageromsætning!$C$3:$C$79,B48,Lageromsætning!$D$3:$D$79,C48)","v":0}]
[{"$f":"IFERROR(INDEX(Lageromsætning!$A$3:$A$79,SMALL(IF(Lageromsætning!$A$3:$A$79=$A$2,ROW(Lageromsætning!$A$3:$A$79)-CELL(\"row\",Lageromsætning!$A$3:$A$79)+1),ROWS($1:46))),\"\")","v":""},{"$f":"IFERROR(INDEX(Lageromsætning!$C$3:$C$79,SMALL(IF(Lageromsætning!$A$3:$A$79=$A$2,ROW(Lageromsætning!$A$3:$A$79)-CELL(\"row\",Lageromsætning!$A$3:$A$79)+1),ROWS($2:47))),\"\")","v":""},{"$f":"IFERROR(INDEX(Lageromsætning!$D$3:$D$79,SMALL(IF(Lageromsætning!$A$3:$A$79=$A$2,ROW(Lageromsætning!$A$3:$A$79)-CELL(\"row\",Lageromsætning!$A$3:$A$79)+1),ROWS($2:47))),\"\")","v":""},{"$f":"IFERROR(INDEX(Lageromsætning!$E$3:$E$79,SMALL(IF(Lageromsætning!$A$3:$A$79=$A$2,ROW(Lageromsætning!$A$3:$A$79)-CELL(\"row\",Lageromsætning!$A$3:$A$79)+1),ROWS($2:47))),\"\")","v":""},{"$f":"IFERROR(INDEX(Lageromsætning!$AF$3:$AF$79,SMALL(IF(Lageromsætning!$A$3:$A$79=$A$2,ROW(Lageromsætning!$A$3:$A$79)-CELL(\"row\",Lageromsætning!$A$3:$A$79)+1),ROWS($2:47))),\"\")","v":""},{"$f":"SUMIFS('Lager antal'!$D$3:$D$2508,'Lager antal'!$B$3:$B$2508,B49,'Lager antal'!$C$3:$C$2508,C49)","v":0},{"$f":"SUMIFS('Lager antal'!$F$3:$F$2508,'Lager antal'!$B$3:$B$2508,B49,'Lager antal'!$C$3:$C$2508,C49)","v":0},{"$f":"IF(ISNA(VLOOKUP($C49,'Lager antal'!$C$3:$K$508,9,FALSE))=TRUE,\"\",VLOOKUP($C49,'Lager antal'!$C$3:$K$508,9,FALSE))","v":""},{"$f":"IFERROR(INDEX(Lageromsætning!$P$3:$P$79,SMALL(IF(Lageromsætning!$A$3:$A$79=$A$2,ROW(Lageromsætning!$A$3:$A$79)-CELL(\"row\",Lageromsætning!$A$3:$A$79)+1),ROWS($2:47))),\"\")","v":""},{"$f":"+_xlfn.IFS($M49>=0.01,$M49,TRUE,0)-$F49-K49+G49","v":0},{"$f":"SUMIFS('Lager antal'!$G$3:$G$2508,'Lager antal'!$B$3:$B$2508,B49,'Lager antal'!$C$3:$C$2508,C49)","v":0},null,0,{"$f":"SUMIFS(Lageromsætning!$R$3:$R$79,Lageromsætning!$A$3:$A$79,$A$2,Lageromsætning!$C$3:$C$79,B49,Lageromsætning!$D$3:$D$79,C49)","v":0},{"$f":"SUMIFS(Lageromsætning!$S$3:$S$79,Lageromsætning!$C$3:$C$79,B49,Lageromsætning!$D$3:$D$79,C49)","v":0}]
[{"$f":"IFERROR(INDEX(Lageromsætning!$A$3:$A$79,SMALL(IF(Lageromsætning!$A$3:$A$79=$A$2,ROW(Lageromsætning!$A$3:$A$79)-CELL(\"row\",Lageromsætning!$A$3:$A$79)+1),ROWS($1:47))),\"\")","v":""},{"$f":"IFERROR(INDEX(Lageromsætning!$C$3:$C$79,SMALL(IF(Lageromsætning!$A$3:$A$79=$A$2,ROW(Lageromsætning!$A$3:$A$79)-CELL(\"row\",Lageromsætning!$A$3:$A$79)+1),ROWS($2:48))),\"\")","v":""},{"$f":"IFERROR(INDEX(Lageromsætning!$D$3:$D$79,SMALL(IF(Lageromsætning!$A$3:$A$79=$A$2,ROW(Lageromsætning!$A$3:$A$79)-CELL(\"row\",Lageromsætning!$A$3:$A$79)+1),ROWS($2:48))),\"\")","v":""},{"$f":"IFERROR(INDEX(Lageromsætning!$E$3:$E$79,SMALL(IF(Lageromsætning!$A$3:$A$79=$A$2,ROW(Lageromsætning!$A$3:$A$79)-CELL(\"row\",Lageromsætning!$A$3:$A$79)+1),ROWS($2:48))),\"\")","v":""},{"$f":"IFERROR(INDEX(Lageromsætning!$AF$3:$AF$79,SMALL(IF(Lageromsætning!$A$3:$A$79=$A$2,ROW(Lageromsætning!$A$3:$A$79)-CELL(\"row\",Lageromsætning!$A$3:$A$79)+1),ROWS($2:48))),\"\")","v":""},{"$f":"SUMIFS('Lager antal'!$D$3:$D$2508,'Lager antal'!$B$3:$B$2508,B50,'Lager antal'!$C$3:$C$2508,C50)","v":0},{"$f":"SUMIFS('Lager antal'!$F$3:$F$2508,'Lager antal'!$B$3:$B$2508,B50,'Lager antal'!$C$3:$C$2508,C50)","v":0},{"$f":"IF(ISNA(VLOOKUP($C50,'Lager antal'!$C$3:$K$508,9,FALSE))=TRUE,\"\",VLOOKUP($C50,'Lager antal'!$C$3:$K$508,9,FALSE))","v":""},{"$f":"IFERROR(INDEX(Lageromsætning!$P$3:$P$79,SMALL(IF(Lageromsætning!$A$3:$A$79=$A$2,ROW(Lageromsætning!$A$3:$A$79)-CELL(\"row\",Lageromsætning!$A$3:$A$79)+1),ROWS($2:48))),\"\")","v":""},{"$f":"+_xlfn.IFS($M50>=0.01,$M50,TRUE,0)-$F50-K50+G50","v":0},{"$f":"SUMIFS('Lager antal'!$G$3:$G$2508,'Lager antal'!$B$3:$B$2508,B50,'Lager antal'!$C$3:$C$2508,C50)","v":0},null,0,{"$f":"SUMIFS(Lageromsætning!$R$3:$R$79,Lageromsætning!$A$3:$A$79,$A$2,Lageromsætning!$C$3:$C$79,B50,Lageromsætning!$D$3:$D$79,C50)","v":0},{"$f":"SUMIFS(Lageromsætning!$S$3:$S$79,Lageromsætning!$C$3:$C$79,B50,Lageromsætning!$D$3:$D$79,C50)","v":0}]
[{"$f":"IFERROR(INDEX(Lageromsætning!$A$3:$A$79,SMALL(IF(Lageromsætning!$A$3:$A$79=$A$2,ROW(Lageromsætning!$A$3:$A$79)-CELL(\"row\",Lageromsætning!$A$3:$A$79)+1),ROWS($1:48))),\"\")","v":""},{"$f":"IFERROR(INDEX(Lageromsætning!$C$3:$C$79,SMALL(IF(Lageromsætning!$A$3:$A$79=$A$2,ROW(Lageromsætning!$A$3:$A$79)-CELL(\"row\",Lageromsætning!$A$3:$A$79)+1),ROWS($2:49))),\"\")","v":""},{"$f":"IFERROR(INDEX(Lageromsætning!$D$3:$D$79,SMALL(IF(Lageromsætning!$A$3:$A$79=$A$2,ROW(Lageromsætning!$A$3:$A$79)-CELL(\"row\",Lageromsætning!$A$3:$A$79)+1),ROWS($2:49))),\"\")","v":""},{"$f":"IFERROR(INDEX(Lageromsætning!$E$3:$E$79,SMALL(IF(Lageromsætning!$A$3:$A$79=$A$2,ROW(Lageromsætning!$A$3:$A$79)-CELL(\"row\",Lageromsætning!$A$3:$A$79)+1),ROWS($2:49))),\"\")","v":""},{"$f":"IFERROR(INDEX(Lageromsætning!$AF$3:$AF$79,SMALL(IF(Lageromsætning!$A$3:$A$79=$A$2,ROW(Lageromsætning!$A$3:$A$79)-CELL(\"row\",Lageromsætning!$A$3:$A$79)+1),ROWS($2:49))),\"\")","v":""},{"$f":"SUMIFS('Lager antal'!$D$3:$D$2508,'Lager antal'!$B$3:$B$2508,B51,'Lager antal'!$C$3:$C$2508,C51)","v":0},{"$f":"SUMIFS('Lager antal'!$F$3:$F$2508,'Lager antal'!$B$3:$B$2508,B51,'Lager antal'!$C$3:$C$2508,C51)","v":0},{"$f":"IF(ISNA(VLOOKUP($C51,'Lager antal'!$C$3:$K$508,9,FALSE))=TRUE,\"\",VLOOKUP($C51,'Lager antal'!$C$3:$K$508,9,FALSE))","v":""},{"$f":"IFERROR(INDEX(Lageromsætning!$P$3:$P$79,SMALL(IF(Lageromsætning!$A$3:$A$79=$A$2,ROW(Lageromsætning!$A$3:$A$79)-CELL(\"row\",Lageromsætning!$A$3:$A$79)+1),ROWS($2:49))),\"\")","v":""},{"$f":"+_xlfn.IFS($M51>=0.01,$M51,TRUE,0)-$F51-K51+G51","v":0},{"$f":"SUMIFS('Lager antal'!$G$3:$G$2508,'Lager antal'!$B$3:$B$2508,B51,'Lager antal'!$C$3:$C$2508,C51)","v":0},null,0,{"$f":"SUMIFS(Lageromsætning!$R$3:$R$79,Lageromsætning!$A$3:$A$79,$A$2,Lageromsætning!$C$3:$C$79,B51,Lageromsætning!$D$3:$D$79,C51)","v":0},{"$f":"SUMIFS(Lageromsætning!$S$3:$S$79,Lageromsætning!$C$3:$C$79,B51,Lageromsætning!$D$3:$D$79,C51)","v":0}]
[{"$f":"IFERROR(INDEX(Lageromsætning!$A$3:$A$79,SMALL(IF(Lageromsætning!$A$3:$A$79=$A$2,ROW(Lageromsætning!$A$3:$A$79)-CELL(\"row\",Lageromsætning!$A$3:$A$79)+1),ROWS($1:49))),\"\")","v":""},{"$f":"IFERROR(INDEX(Lageromsætning!$C$3:$C$79,SMALL(IF(Lageromsætning!$A$3:$A$79=$A$2,ROW(Lageromsætning!$A$3:$A$79)-CELL(\"row\",Lageromsætning!$A$3:$A$79)+1),ROWS($2:50))),\"\")","v":""},{"$f":"IFERROR(INDEX(Lageromsætning!$D$3:$D$79,SMALL(IF(Lageromsætning!$A$3:$A$79=$A$2,ROW(Lageromsætning!$A$3:$A$79)-CELL(\"row\",Lageromsætning!$A$3:$A$79)+1),ROWS($2:50))),\"\")","v":""},{"$f":"IFERROR(INDEX(Lageromsætning!$E$3:$E$79,SMALL(IF(Lageromsætning!$A$3:$A$79=$A$2,ROW(Lageromsætning!$A$3:$A$79)-CELL(\"row\",Lageromsætning!$A$3:$A$79)+1),ROWS($2:50))),\"\")","v":""},{"$f":"IFERROR(INDEX(Lageromsætning!$AF$3:$AF$79,SMALL(IF(Lageromsætning!$A$3:$A$79=$A$2,ROW(Lageromsætning!$A$3:$A$79)-CELL(\"row\",Lageromsætning!$A$3:$A$79)+1),ROWS($2:50))),\"\")","v":""},{"$f":"SUMIFS('Lager antal'!$D$3:$D$2508,'Lager antal'!$B$3:$B$2508,B52,'Lager antal'!$C$3:$C$2508,C52)","v":0},{"$f":"SUMIFS('Lager antal'!$F$3:$F$2508,'Lager antal'!$B$3:$B$2508,B52,'Lager antal'!$C$3:$C$2508,C52)","v":0},{"$f":"IF(ISNA(VLOOKUP($C52,'Lager antal'!$C$3:$K$508,9,FALSE))=TRUE,\"\",VLOOKUP($C52,'Lager antal'!$C$3:$K$508,9,FALSE))","v":""},{"$f":"IFERROR(INDEX(Lageromsætning!$P$3:$P$79,SMALL(IF(Lageromsætning!$A$3:$A$79=$A$2,ROW(Lageromsætning!$A$3:$A$79)-CELL(\"row\",Lageromsætning!$A$3:$A$79)+1),ROWS($2:50))),\"\")","v":""},{"$f":"+_xlfn.IFS($M52>=0.01,$M52,TRUE,0)-$F52-K52+G52","v":0},{"$f":"SUMIFS('Lager antal'!$G$3:$G$2508,'Lager antal'!$B$3:$B$2508,B52,'Lager antal'!$C$3:$C$2508,C52)","v":0},null,0,{"$f":"SUMIFS(Lageromsætning!$R$3:$R$79,Lageromsætning!$A$3:$A$79,$A$2,Lageromsætning!$C$3:$C$79,B52,Lageromsætning!$D$3:$D$79,C52)","v":0},{"$f":"SUMIFS(Lageromsætning!$S$3:$S$79,Lageromsætning!$C$3:$C$79,B52,Lageromsætning!$D$3:$D$79,C52)","v":0}]
[{"$f":"IFERROR(INDEX(Lageromsætning!$A$3:$A$79,SMALL(IF(Lageromsætning!$A$3:$A$79=$A$2,ROW(Lageromsætning!$A$3:$A$79)-CELL(\"row\",Lageromsætning!$A$3:$A$79)+1),ROWS($1:50))),\"\")","v":""},{"$f":"IFERROR(INDEX(Lageromsætning!$C$3:$C$79,SMALL(IF(Lageromsætning!$A$3:$A$79=$A$2,ROW(Lageromsætning!$A$3:$A$79)-CELL(\"row\",Lageromsætning!$A$3:$A$79)+1),ROWS($2:51))),\"\")","v":""},{"$f":"IFERROR(INDEX(Lageromsætning!$D$3:$D$79,SMALL(IF(Lageromsætning!$A$3:$A$79=$A$2,ROW(Lageromsætning!$A$3:$A$79)-CELL(\"row\",Lageromsætning!$A$3:$A$79)+1),ROWS($2:51))),\"\")","v":""},{"$f":"IFERROR(INDEX(Lageromsætning!$E$3:$E$79,SMALL(IF(Lageromsætning!$A$3:$A$79=$A$2,ROW(Lageromsætning!$A$3:$A$79)-CELL(\"row\",Lageromsætning!$A$3:$A$79)+1),ROWS($2:51))),\"\")","v":""},{"$f":"IFERROR(INDEX(Lageromsætning!$AF$3:$AF$79,SMALL(IF(Lageromsætning!$A$3:$A$79=$A$2,ROW(Lageromsætning!$A$3:$A$79)-CELL(\"row\",Lageromsætning!$A$3:$A$79)+1),ROWS($2:51))),\"\")","v":""},{"$f":"SUMIFS('Lager antal'!$D$3:$D$2508,'Lager antal'!$B$3:$B$2508,B53,'Lager antal'!$C$3:$C$2508,C53)","v":0},{"$f":"SUMIFS('Lager antal'!$F$3:$F$2508,'Lager antal'!$B$3:$B$2508,B53,'Lager antal'!$C$3:$C$2508,C53)","v":0},{"$f":"IF(ISNA(VLOOKUP($C53,'Lager antal'!$C$3:$K$508,9,FALSE))=TRUE,\"\",VLOOKUP($C53,'Lager antal'!$C$3:$K$508,9,FALSE))","v":""},{"$f":"IFERROR(INDEX(Lageromsætning!$P$3:$P$79,SMALL(IF(Lageromsætning!$A$3:$A$79=$A$2,ROW(Lageromsætning!$A$3:$A$79)-CELL(\"row\",Lageromsætning!$A$3:$A$79)+1),ROWS($2:51))),\"\")","v":""},{"$f":"+_xlfn.IFS($M53>=0.01,$M53,TRUE,0)-$F53-K53+G53","v":0},{"$f":"SUMIFS('Lager antal'!$G$3:$G$2508,'Lager antal'!$B$3:$B$2508,B53,'Lager antal'!$C$3:$C$2508,C53)","v":0},null,0,{"$f":"SUMIFS(Lageromsætning!$R$3:$R$79,Lageromsætning!$A$3:$A$79,$A$2,Lageromsætning!$C$3:$C$79,B53,Lageromsætning!$D$3:$D$79,C53)","v":0},{"$f":"SUMIFS(Lageromsætning!$S$3:$S$79,Lageromsætning!$C$3:$C$79,B53,Lageromsætning!$D$3:$D$79,C53)","v":0}]
[{"$f":"IFERROR(INDEX(Lageromsætning!$A$3:$A$79,SMALL(IF(Lageromsætning!$A$3:$A$79=$A$2,ROW(Lageromsætning!$A$3:$A$79)-CELL(\"row\",Lageromsætning!$A$3:$A$79)+1),ROWS($1:51))),\"\")","v":""},{"$f":"IFERROR(INDEX(Lageromsætning!$C$3:$C$79,SMALL(IF(Lageromsætning!$A$3:$A$79=$A$2,ROW(Lageromsætning!$A$3:$A$79)-CELL(\"row\",Lageromsætning!$A$3:$A$79)+1),ROWS($2:52))),\"\")","v":""},{"$f":"IFERROR(INDEX(Lageromsætning!$D$3:$D$79,SMALL(IF(Lageromsætning!$A$3:$A$79=$A$2,ROW(Lageromsætning!$A$3:$A$79)-CELL(\"row\",Lageromsætning!$A$3:$A$79)+1),ROWS($2:52))),\"\")","v":""},{"$f":"IFERROR(INDEX(Lageromsætning!$E$3:$E$79,SMALL(IF(Lageromsætning!$A$3:$A$79=$A$2,ROW(Lageromsætning!$A$3:$A$79)-CELL(\"row\",Lageromsætning!$A$3:$A$79)+1),ROWS($2:52))),\"\")","v":""},{"$f":"IFERROR(INDEX(Lageromsætning!$AF$3:$AF$79,SMALL(IF(Lageromsætning!$A$3:$A$79=$A$2,ROW(Lageromsætning!$A$3:$A$79)-CELL(\"row\",Lageromsætning!$A$3:$A$79)+1),ROWS($2:52))),\"\")","v":""},{"$f":"SUMIFS('Lager antal'!$D$3:$D$2508,'Lager antal'!$B$3:$B$2508,B54,'Lager antal'!$C$3:$C$2508,C54)","v":0},{"$f":"SUMIFS('Lager antal'!$F$3:$F$2508,'Lager antal'!$B$3:$B$2508,B54,'Lager antal'!$C$3:$C$2508,C54)","v":0},{"$f":"IF(ISNA(VLOOKUP($C54,'Lager antal'!$C$3:$K$508,9,FALSE))=TRUE,\"\",VLOOKUP($C54,'Lager antal'!$C$3:$K$508,9,FALSE))","v":""},{"$f":"IFERROR(INDEX(Lageromsætning!$P$3:$P$79,SMALL(IF(Lageromsætning!$A$3:$A$79=$A$2,ROW(Lageromsætning!$A$3:$A$79)-CELL(\"row\",Lageromsætning!$A$3:$A$79)+1),ROWS($2:52))),\"\")","v":""},{"$f":"+_xlfn.IFS($M54>=0.01,$M54,TRUE,0)-$F54-K54+G54","v":0},{"$f":"SUMIFS('Lager antal'!$G$3:$G$2508,'Lager antal'!$B$3:$B$2508,B54,'Lager antal'!$C$3:$C$2508,C54)","v":0},null,0,{"$f":"SUMIFS(Lageromsætning!$R$3:$R$79,Lageromsætning!$A$3:$A$79,$A$2,Lageromsætning!$C$3:$C$79,B54,Lageromsætning!$D$3:$D$79,C54)","v":0},{"$f":"SUMIFS(Lageromsætning!$S$3:$S$79,Lageromsætning!$C$3:$C$79,B54,Lageromsætning!$D$3:$D$79,C54)","v":0}]
[{"$f":"IFERROR(INDEX(Lageromsætning!$A$3:$A$79,SMALL(IF(Lageromsætning!$A$3:$A$79=$A$2,ROW(Lageromsætning!$A$3:$A$79)-CELL(\"row\",Lageromsætning!$A$3:$A$79)+1),ROWS($1:52))),\"\")","v":""},{"$f":"IFERROR(INDEX(Lageromsætning!$C$3:$C$79,SMALL(IF(Lageromsætning!$A$3:$A$79=$A$2,ROW(Lageromsætning!$A$3:$A$79)-CELL(\"row\",Lageromsætning!$A$3:$A$79)+1),ROWS($2:53))),\"\")","v":""},{"$f":"IFERROR(INDEX(Lageromsætning!$D$3:$D$79,SMALL(IF(Lageromsætning!$A$3:$A$79=$A$2,ROW(Lageromsætning!$A$3:$A$79)-CELL(\"row\",Lageromsætning!$A$3:$A$79)+1),ROWS($2:53))),\"\")","v":""},{"$f":"IFERROR(INDEX(Lageromsætning!$E$3:$E$79,SMALL(IF(Lageromsætning!$A$3:$A$79=$A$2,ROW(Lageromsætning!$A$3:$A$79)-CELL(\"row\",Lageromsætning!$A$3:$A$79)+1),ROWS($2:53))),\"\")","v":""},{"$f":"IFERROR(INDEX(Lageromsætning!$AF$3:$AF$79,SMALL(IF(Lageromsætning!$A$3:$A$79=$A$2,ROW(Lageromsætning!$A$3:$A$79)-CELL(\"row\",Lageromsætning!$A$3:$A$79)+1),ROWS($2:53))),\"\")","v":""},{"$f":"SUMIFS('Lager antal'!$D$3:$D$2508,'Lager antal'!$B$3:$B$2508,B55,'Lager antal'!$C$3:$C$2508,C55)","v":0},{"$f":"SUMIFS('Lager antal'!$F$3:$F$2508,'Lager antal'!$B$3:$B$2508,B55,'Lager antal'!$C$3:$C$2508,C55)","v":0},{"$f":"IF(ISNA(VLOOKUP($C55,'Lager antal'!$C$3:$K$508,9,FALSE))=TRUE,\"\",VLOOKUP($C55,'Lager antal'!$C$3:$K$508,9,FALSE))","v":""},{"$f":"IFERROR(INDEX(Lageromsætning!$P$3:$P$79,SMALL(IF(Lageromsætning!$A$3:$A$79=$A$2,ROW(Lageromsætning!$A$3:$A$79)-CELL(\"row\",Lageromsætning!$A$3:$A$79)+1),ROWS($2:53))),\"\")","v":""},{"$f":"+_xlfn.IFS($M55>=0.01,$M55,TRUE,0)-$F55-K55+G55","v":0},{"$f":"SUMIFS('Lager antal'!$G$3:$G$2508,'Lager antal'!$B$3:$B$2508,B55,'Lager antal'!$C$3:$C$2508,C55)","v":0},null,0,{"$f":"SUMIFS(Lageromsætning!$R$3:$R$79,Lageromsætning!$A$3:$A$79,$A$2,Lageromsætning!$C$3:$C$79,B55,Lageromsætning!$D$3:$D$79,C55)","v":0},{"$f":"SUMIFS(Lageromsætning!$S$3:$S$79,Lageromsætning!$C$3:$C$79,B55,Lageromsætning!$D$3:$D$79,C55)","v":0}]
[{"$f":"IFERROR(INDEX(Lageromsætning!$A$3:$A$79,SMALL(IF(Lageromsætning!$A$3:$A$79=$A$2,ROW(Lageromsætning!$A$3:$A$79)-CELL(\"row\",Lageromsætning!$A$3:$A$79)+1),ROWS($1:53))),\"\")","v":""},{"$f":"IFERROR(INDEX(Lageromsætning!$C$3:$C$79,SMALL(IF(Lageromsætning!$A$3:$A$79=$A$2,ROW(Lageromsætning!$A$3:$A$79)-CELL(\"row\",Lageromsætning!$A$3:$A$79)+1),ROWS($2:54))),\"\")","v":""},{"$f":"IFERROR(INDEX(Lageromsætning!$D$3:$D$79,SMALL(IF(Lageromsætning!$A$3:$A$79=$A$2,ROW(Lageromsætning!$A$3:$A$79)-CELL(\"row\",Lageromsætning!$A$3:$A$79)+1),ROWS($2:54))),\"\")","v":""},{"$f":"IFERROR(INDEX(Lageromsætning!$E$3:$E$79,SMALL(IF(Lageromsætning!$A$3:$A$79=$A$2,ROW(Lageromsætning!$A$3:$A$79)-CELL(\"row\",Lageromsætning!$A$3:$A$79)+1),ROWS($2:54))),\"\")","v":""},{"$f":"IFERROR(INDEX(Lageromsætning!$AF$3:$AF$79,SMALL(IF(Lageromsætning!$A$3:$A$79=$A$2,ROW(Lageromsætning!$A$3:$A$79)-CELL(\"row\",Lageromsætning!$A$3:$A$79)+1),ROWS($2:54))),\"\")","v":""},{"$f":"SUMIFS('Lager antal'!$D$3:$D$2508,'Lager antal'!$B$3:$B$2508,B56,'Lager antal'!$C$3:$C$2508,C56)","v":0},{"$f":"SUMIFS('Lager antal'!$F$3:$F$2508,'Lager antal'!$B$3:$B$2508,B56,'Lager antal'!$C$3:$C$2508,C56)","v":0},{"$f":"IF(ISNA(VLOOKUP($C56,'Lager antal'!$C$3:$K$508,9,FALSE))=TRUE,\"\",VLOOKUP($C56,'Lager antal'!$C$3:$K$508,9,FALSE))","v":""},{"$f":"IFERROR(INDEX(Lageromsætning!$P$3:$P$79,SMALL(IF(Lageromsætning!$A$3:$A$79=$A$2,ROW(Lageromsætning!$A$3:$A$79)-CELL(\"row\",Lageromsætning!$A$3:$A$79)+1),ROWS($2:54))),\"\")","v":""},{"$f":"+_xlfn.IFS($M56>=0.01,$M56,TRUE,0)-$F56-K56+G56","v":0},{"$f":"SUMIFS('Lager antal'!$G$3:$G$2508,'Lager antal'!$B$3:$B$2508,B56,'Lager antal'!$C$3:$C$2508,C56)","v":0},null,0,{"$f":"SUMIFS(Lageromsætning!$R$3:$R$79,Lageromsætning!$A$3:$A$79,$A$2,Lageromsætning!$C$3:$C$79,B56,Lageromsætning!$D$3:$D$79,C56)","v":0},{"$f":"SUMIFS(Lageromsætning!$S$3:$S$79,Lageromsætning!$C$3:$C$79,B56,Lageromsætning!$D$3:$D$79,C56)","v":0}]
[{"$f":"IFERROR(INDEX(Lageromsætning!$A$3:$A$79,SMALL(IF(Lageromsætning!$A$3:$A$79=$A$2,ROW(Lageromsætning!$A$3:$A$79)-CELL(\"row\",Lageromsætning!$A$3:$A$79)+1),ROWS($1:54))),\"\")","v":""},{"$f":"IFERROR(INDEX(Lageromsætning!$C$3:$C$79,SMALL(IF(Lageromsætning!$A$3:$A$79=$A$2,ROW(Lageromsætning!$A$3:$A$79)-CELL(\"row\",Lageromsætning!$A$3:$A$79)+1),ROWS($2:55))),\"\")","v":""},{"$f":"IFERROR(INDEX(Lageromsætning!$D$3:$D$79,SMALL(IF(Lageromsætning!$A$3:$A$79=$A$2,ROW(Lageromsætning!$A$3:$A$79)-CELL(\"row\",Lageromsætning!$A$3:$A$79)+1),ROWS($2:55))),\"\")","v":""},{"$f":"IFERROR(INDEX(Lageromsætning!$E$3:$E$79,SMALL(IF(Lageromsætning!$A$3:$A$79=$A$2,ROW(Lageromsætning!$A$3:$A$79)-CELL(\"row\",Lageromsætning!$A$3:$A$79)+1),ROWS($2:55))),\"\")","v":""},{"$f":"IFERROR(INDEX(Lageromsætning!$AF$3:$AF$79,SMALL(IF(Lageromsætning!$A$3:$A$79=$A$2,ROW(Lageromsætning!$A$3:$A$79)-CELL(\"row\",Lageromsætning!$A$3:$A$79)+1),ROWS($2:55))),\"\")","v":""},{"$f":"SUMIFS('Lager antal'!$D$3:$D$2508,'Lager antal'!$B$3:$B$2508,B57,'Lager antal'!$C$3:$C$2508,C57)","v":0},{"$f":"SUMIFS('Lager antal'!$F$3:$F$2508,'Lager antal'!$B$3:$B$2508,B57,'Lager antal'!$C$3:$C$2508,C57)","v":0},{"$f":"IF(ISNA(VLOOKUP($C57,'Lager antal'!$C$3:$K$508,9,FALSE))=TRUE,\"\",VLOOKUP($C57,'Lager antal'!$C$3:$K$508,9,FALSE))","v":""},{"$f":"IFERROR(INDEX(Lageromsætning!$P$3:$P$79,SMALL(IF(Lageromsætning!$A$3:$A$79=$A$2,ROW(Lageromsætning!$A$3:$A$79)-CELL(\"row\",Lageromsætning!$A$3:$A$79)+1),ROWS($2:55))),\"\")","v":""},{"$f":"+_xlfn.IFS($M57>=0.01,$M57,TRUE,0)-$F57-K57+G57","v":0},{"$f":"SUMIFS('Lager antal'!$G$3:$G$2508,'Lager antal'!$B$3:$B$2508,B57,'Lager antal'!$C$3:$C$2508,C57)","v":0},null,0,{"$f":"SUMIFS(Lageromsætning!$R$3:$R$79,Lageromsætning!$A$3:$A$79,$A$2,Lageromsætning!$C$3:$C$79,B57,Lageromsætning!$D$3:$D$79,C57)","v":0},{"$f":"SUMIFS(Lageromsætning!$S$3:$S$79,Lageromsætning!$C$3:$C$79,B57,Lageromsætning!$D$3:$D$79,C57)","v":0}]
[{"$f":"IFERROR(INDEX(Lageromsætning!$A$3:$A$79,SMALL(IF(Lageromsætning!$A$3:$A$79=$A$2,ROW(Lageromsætning!$A$3:$A$79)-CELL(\"row\",Lageromsætning!$A$3:$A$79)+1),ROWS($1:55))),\"\")","v":""},{"$f":"IFERROR(INDEX(Lageromsætning!$C$3:$C$79,SMALL(IF(Lageromsætning!$A$3:$A$79=$A$2,ROW(Lageromsætning!$A$3:$A$79)-CELL(\"row\",Lageromsætning!$A$3:$A$79)+1),ROWS($2:56))),\"\")","v":""},{"$f":"IFERROR(INDEX(Lageromsætning!$D$3:$D$79,SMALL(IF(Lageromsætning!$A$3:$A$79=$A$2,ROW(Lageromsætning!$A$3:$A$79)-CELL(\"row\",Lageromsætning!$A$3:$A$79)+1),ROWS($2:56))),\"\")","v":""},{"$f":"IFERROR(INDEX(Lageromsætning!$E$3:$E$79,SMALL(IF(Lageromsætning!$A$3:$A$79=$A$2,ROW(Lageromsætning!$A$3:$A$79)-CELL(\"row\",Lageromsætning!$A$3:$A$79)+1),ROWS($2:56))),\"\")","v":""},{"$f":"IFERROR(INDEX(Lageromsætning!$AF$3:$AF$79,SMALL(IF(Lageromsætning!$A$3:$A$79=$A$2,ROW(Lageromsætning!$A$3:$A$79)-CELL(\"row\",Lageromsætning!$A$3:$A$79)+1),ROWS($2:56))),\"\")","v":""},{"$f":"SUMIFS('Lager antal'!$D$3:$D$2508,'Lager antal'!$B$3:$B$2508,B58,'Lager antal'!$C$3:$C$2508,C58)","v":0},{"$f":"SUMIFS('Lager antal'!$F$3:$F$2508,'Lager antal'!$B$3:$B$2508,B58,'Lager antal'!$C$3:$C$2508,C58)","v":0},{"$f":"IF(ISNA(VLOOKUP($C58,'Lager antal'!$C$3:$K$508,9,FALSE))=TRUE,\"\",VLOOKUP($C58,'Lager antal'!$C$3:$K$508,9,FALSE))","v":""},{"$f":"IFERROR(INDEX(Lageromsætning!$P$3:$P$79,SMALL(IF(Lageromsætning!$A$3:$A$79=$A$2,ROW(Lageromsætning!$A$3:$A$79)-CELL(\"row\",Lageromsætning!$A$3:$A$79)+1),ROWS($2:56))),\"\")","v":""},{"$f":"+_xlfn.IFS($M58>=0.01,$M58,TRUE,0)-$F58-K58+G58","v":0},{"$f":"SUMIFS('Lager antal'!$G$3:$G$2508,'Lager antal'!$B$3:$B$2508,B58,'Lager antal'!$C$3:$C$2508,C58)","v":0},null,0,{"$f":"SUMIFS(Lageromsætning!$R$3:$R$79,Lageromsætning!$A$3:$A$79,$A$2,Lageromsætning!$C$3:$C$79,B58,Lageromsætning!$D$3:$D$79,C58)","v":0},{"$f":"SUMIFS(Lageromsætning!$S$3:$S$79,Lageromsætning!$C$3:$C$79,B58,Lageromsætning!$D$3:$D$79,C58)","v":0}]
[{"$f":"IFERROR(INDEX(Lageromsætning!$A$3:$A$79,SMALL(IF(Lageromsætning!$A$3:$A$79=$A$2,ROW(Lageromsætning!$A$3:$A$79)-CELL(\"row\",Lageromsætning!$A$3:$A$79)+1),ROWS($1:56))),\"\")","v":""},{"$f":"IFERROR(INDEX(Lageromsætning!$C$3:$C$79,SMALL(IF(Lageromsætning!$A$3:$A$79=$A$2,ROW(Lageromsætning!$A$3:$A$79)-CELL(\"row\",Lageromsætning!$A$3:$A$79)+1),ROWS($2:57))),\"\")","v":""},{"$f":"IFERROR(INDEX(Lageromsætning!$D$3:$D$79,SMALL(IF(Lageromsætning!$A$3:$A$79=$A$2,ROW(Lageromsætning!$A$3:$A$79)-CELL(\"row\",Lageromsætning!$A$3:$A$79)+1),ROWS($2:57))),\"\")","v":""},{"$f":"IFERROR(INDEX(Lageromsætning!$E$3:$E$79,SMALL(IF(Lageromsætning!$A$3:$A$79=$A$2,ROW(Lageromsætning!$A$3:$A$79)-CELL(\"row\",Lageromsætning!$A$3:$A$79)+1),ROWS($2:57))),\"\")","v":""},{"$f":"IFERROR(INDEX(Lageromsætning!$AF$3:$AF$79,SMALL(IF(Lageromsætning!$A$3:$A$79=$A$2,ROW(Lageromsætning!$A$3:$A$79)-CELL(\"row\",Lageromsætning!$A$3:$A$79)+1),ROWS($2:57))),\"\")","v":""},{"$f":"SUMIFS('Lager antal'!$D$3:$D$2508,'Lager antal'!$B$3:$B$2508,B59,'Lager antal'!$C$3:$C$2508,C59)","v":0},{"$f":"SUMIFS('Lager antal'!$F$3:$F$2508,'Lager antal'!$B$3:$B$2508,B59,'Lager antal'!$C$3:$C$2508,C59)","v":0},{"$f":"IF(ISNA(VLOOKUP($C59,'Lager antal'!$C$3:$K$508,9,FALSE))=TRUE,\"\",VLOOKUP($C59,'Lager antal'!$C$3:$K$508,9,FALSE))","v":""},{"$f":"IFERROR(INDEX(Lageromsætning!$P$3:$P$79,SMALL(IF(Lageromsætning!$A$3:$A$79=$A$2,ROW(Lageromsætning!$A$3:$A$79)-CELL(\"row\",Lageromsætning!$A$3:$A$79)+1),ROWS($2:57))),\"\")","v":""},{"$f":"+_xlfn.IFS($M59>=0.01,$M59,TRUE,0)-$F59-K59+G59","v":0},{"$f":"SUMIFS('Lager antal'!$G$3:$G$2508,'Lager antal'!$B$3:$B$2508,B59,'Lager antal'!$C$3:$C$2508,C59)","v":0},null,0,{"$f":"SUMIFS(Lageromsætning!$R$3:$R$79,Lageromsætning!$A$3:$A$79,$A$2,Lageromsætning!$C$3:$C$79,B59,Lageromsætning!$D$3:$D$79,C59)","v":0},{"$f":"SUMIFS(Lageromsætning!$S$3:$S$79,Lageromsætning!$C$3:$C$79,B59,Lageromsætning!$D$3:$D$79,C59)","v":0}]
[{"$f":"IFERROR(INDEX(Lageromsætning!$A$3:$A$79,SMALL(IF(Lageromsætning!$A$3:$A$79=$A$2,ROW(Lageromsætning!$A$3:$A$79)-CELL(\"row\",Lageromsætning!$A$3:$A$79)+1),ROWS($1:57))),\"\")","v":""},{"$f":"IFERROR(INDEX(Lageromsætning!$C$3:$C$79,SMALL(IF(Lageromsætning!$A$3:$A$79=$A$2,ROW(Lageromsætning!$A$3:$A$79)-CELL(\"row\",Lageromsætning!$A$3:$A$79)+1),ROWS($2:58))),\"\")","v":""},{"$f":"IFERROR(INDEX(Lageromsætning!$D$3:$D$79,SMALL(IF(Lageromsætning!$A$3:$A$79=$A$2,ROW(Lageromsætning!$A$3:$A$79)-CELL(\"row\",Lageromsætning!$A$3:$A$79)+1),ROWS($2:58))),\"\")","v":""},{"$f":"IFERROR(INDEX(Lageromsætning!$E$3:$E$79,SMALL(IF(Lageromsætning!$A$3:$A$79=$A$2,ROW(Lageromsætning!$A$3:$A$79)-CELL(\"row\",Lageromsætning!$A$3:$A$79)+1),ROWS($2:58))),\"\")","v":""},{"$f":"IFERROR(INDEX(Lageromsætning!$AF$3:$AF$79,SMALL(IF(Lageromsætning!$A$3:$A$79=$A$2,ROW(Lageromsætning!$A$3:$A$79)-CELL(\"row\",Lageromsætning!$A$3:$A$79)+1),ROWS($2:58))),\"\")","v":""},{"$f":"SUMIFS('Lager antal'!$D$3:$D$2508,'Lager antal'!$B$3:$B$2508,B60,'Lager antal'!$C$3:$C$2508,C60)","v":0},{"$f":"SUMIFS('Lager antal'!$F$3:$F$2508,'Lager antal'!$B$3:$B$2508,B60,'Lager antal'!$C$3:$C$2508,C60)","v":0},{"$f":"IF(ISNA(VLOOKUP($C60,'Lager antal'!$C$3:$K$508,9,FALSE))=TRUE,\"\",VLOOKUP($C60,'Lager antal'!$C$3:$K$508,9,FALSE))","v":""},{"$f":"IFERROR(INDEX(Lageromsætning!$P$3:$P$79,SMALL(IF(Lageromsætning!$A$3:$A$79=$A$2,ROW(Lageromsætning!$A$3:$A$79)-CELL(\"row\",Lageromsætning!$A$3:$A$79)+1),ROWS($2:58))),\"\")","v":""},{"$f":"+_xlfn.IFS($M60>=0.01,$M60,TRUE,0)-$F60-K60+G60","v":0},{"$f":"SUMIFS('Lager antal'!$G$3:$G$2508,'Lager antal'!$B$3:$B$2508,B60,'Lager antal'!$C$3:$C$2508,C60)","v":0},null,0,{"$f":"SUMIFS(Lageromsætning!$R$3:$R$79,Lageromsætning!$A$3:$A$79,$A$2,Lageromsætning!$C$3:$C$79,B60,Lageromsætning!$D$3:$D$79,C60)","v":0},{"$f":"SUMIFS(Lageromsætning!$S$3:$S$79,Lageromsætning!$C$3:$C$79,B60,Lageromsætning!$D$3:$D$79,C60)","v":0}]
[{"$f":"IFERROR(INDEX(Lageromsætning!$A$3:$A$79,SMALL(IF(Lageromsætning!$A$3:$A$79=$A$2,ROW(Lageromsætning!$A$3:$A$79)-CELL(\"row\",Lageromsætning!$A$3:$A$79)+1),ROWS($1:58))),\"\")","v":""},{"$f":"IFERROR(INDEX(Lageromsætning!$C$3:$C$79,SMALL(IF(Lageromsætning!$A$3:$A$79=$A$2,ROW(Lageromsætning!$A$3:$A$79)-CELL(\"row\",Lageromsætning!$A$3:$A$79)+1),ROWS($2:59))),\"\")","v":""},{"$f":"IFERROR(INDEX(Lageromsætning!$D$3:$D$79,SMALL(IF(Lageromsætning!$A$3:$A$79=$A$2,ROW(Lageromsætning!$A$3:$A$79)-CELL(\"row\",Lageromsætning!$A$3:$A$79)+1),ROWS($2:59))),\"\")","v":""},{"$f":"IFERROR(INDEX(Lageromsætning!$E$3:$E$79,SMALL(IF(Lageromsætning!$A$3:$A$79=$A$2,ROW(Lageromsætning!$A$3:$A$79)-CELL(\"row\",Lageromsætning!$A$3:$A$79)+1),ROWS($2:59))),\"\")","v":""},{"$f":"IFERROR(INDEX(Lageromsætning!$AF$3:$AF$79,SMALL(IF(Lageromsætning!$A$3:$A$79=$A$2,ROW(Lageromsætning!$A$3:$A$79)-CELL(\"row\",Lageromsætning!$A$3:$A$79)+1),ROWS($2:59))),\"\")","v":""},{"$f":"SUMIFS('Lager antal'!$D$3:$D$2508,'Lager antal'!$B$3:$B$2508,B61,'Lager antal'!$C$3:$C$2508,C61)","v":0},{"$f":"SUMIFS('Lager antal'!$F$3:$F$2508,'Lager antal'!$B$3:$B$2508,B61,'Lager antal'!$C$3:$C$2508,C61)","v":0},{"$f":"IF(ISNA(VLOOKUP($C61,'Lager antal'!$C$3:$K$508,9,FALSE))=TRUE,\"\",VLOOKUP($C61,'Lager antal'!$C$3:$K$508,9,FALSE))","v":""},{"$f":"IFERROR(INDEX(Lageromsætning!$P$3:$P$79,SMALL(IF(Lageromsætning!$A$3:$A$79=$A$2,ROW(Lageromsætning!$A$3:$A$79)-CELL(\"row\",Lageromsætning!$A$3:$A$79)+1),ROWS($2:59))),\"\")","v":""},{"$f":"+_xlfn.IFS($M61>=0.01,$M61,TRUE,0)-$F61-K61+G61","v":0},{"$f":"SUMIFS('Lager antal'!$G$3:$G$2508,'Lager antal'!$B$3:$B$2508,B61,'Lager antal'!$C$3:$C$2508,C61)","v":0},null,0,{"$f":"SUMIFS(Lageromsætning!$R$3:$R$79,Lageromsætning!$A$3:$A$79,$A$2,Lageromsætning!$C$3:$C$79,B61,Lageromsætning!$D$3:$D$79,C61)","v":0},{"$f":"SUMIFS(Lageromsætning!$S$3:$S$79,Lageromsætning!$C$3:$C$79,B61,Lageromsætning!$D$3:$D$79,C61)","v":0}]
[{"$f":"IFERROR(INDEX(Lageromsætning!$A$3:$A$79,SMALL(IF(Lageromsætning!$A$3:$A$79=$A$2,ROW(Lageromsætning!$A$3:$A$79)-CELL(\"row\",Lageromsætning!$A$3:$A$79)+1),ROWS($1:59))),\"\")","v":""},{"$f":"IFERROR(INDEX(Lageromsætning!$C$3:$C$79,SMALL(IF(Lageromsætning!$A$3:$A$79=$A$2,ROW(Lageromsætning!$A$3:$A$79)-CELL(\"row\",Lageromsætning!$A$3:$A$79)+1),ROWS($2:60))),\"\")","v":""},{"$f":"IFERROR(INDEX(Lageromsætning!$D$3:$D$79,SMALL(IF(Lageromsætning!$A$3:$A$79=$A$2,ROW(Lageromsætning!$A$3:$A$79)-CELL(\"row\",Lageromsætning!$A$3:$A$79)+1),ROWS($2:60))),\"\")","v":""},{"$f":"IFERROR(INDEX(Lageromsætning!$E$3:$E$79,SMALL(IF(Lageromsætning!$A$3:$A$79=$A$2,ROW(Lageromsætning!$A$3:$A$79)-CELL(\"row\",Lageromsætning!$A$3:$A$79)+1),ROWS($2:60))),\"\")","v":""},{"$f":"IFERROR(INDEX(Lageromsætning!$AF$3:$AF$79,SMALL(IF(Lageromsætning!$A$3:$A$79=$A$2,ROW(Lageromsætning!$A$3:$A$79)-CELL(\"row\",Lageromsætning!$A$3:$A$79)+1),ROWS($2:60))),\"\")","v":""},{"$f":"SUMIFS('Lager antal'!$D$3:$D$2508,'Lager antal'!$B$3:$B$2508,B62,'Lager antal'!$C$3:$C$2508,C62)","v":0},{"$f":"SUMIFS('Lager antal'!$F$3:$F$2508,'Lager antal'!$B$3:$B$2508,B62,'Lager antal'!$C$3:$C$2508,C62)","v":0},{"$f":"IF(ISNA(VLOOKUP($C62,'Lager antal'!$C$3:$K$508,9,FALSE))=TRUE,\"\",VLOOKUP($C62,'Lager antal'!$C$3:$K$508,9,FALSE))","v":""},{"$f":"IFERROR(INDEX(Lageromsætning!$P$3:$P$79,SMALL(IF(Lageromsætning!$A$3:$A$79=$A$2,ROW(Lageromsætning!$A$3:$A$79)-CELL(\"row\",Lageromsætning!$A$3:$A$79)+1),ROWS($2:60))),\"\")","v":""},{"$f":"+_xlfn.IFS($M62>=0.01,$M62,TRUE,0)-$F62-K62+G62","v":0},{"$f":"SUMIFS('Lager antal'!$G$3:$G$2508,'Lager antal'!$B$3:$B$2508,B62,'Lager antal'!$C$3:$C$2508,C62)","v":0},null,0,{"$f":"SUMIFS(Lageromsætning!$R$3:$R$79,Lageromsætning!$A$3:$A$79,$A$2,Lageromsætning!$C$3:$C$79,B62,Lageromsætning!$D$3:$D$79,C62)","v":0},{"$f":"SUMIFS(Lageromsætning!$S$3:$S$79,Lageromsætning!$C$3:$C$79,B62,Lageromsætning!$D$3:$D$79,C62)","v":0}]
[{"$f":"IFERROR(INDEX(Lageromsætning!$A$3:$A$79,SMALL(IF(Lageromsætning!$A$3:$A$79=$A$2,ROW(Lageromsætning!$A$3:$A$79)-CELL(\"row\",Lageromsætning!$A$3:$A$79)+1),ROWS($1:60))),\"\")","v":""},{"$f":"IFERROR(INDEX(Lageromsætning!$C$3:$C$79,SMALL(IF(Lageromsætning!$A$3:$A$79=$A$2,ROW(Lageromsætning!$A$3:$A$79)-CELL(\"row\",Lageromsætning!$A$3:$A$79)+1),ROWS($2:61))),\"\")","v":""},{"$f":"IFERROR(INDEX(Lageromsætning!$D$3:$D$79,SMALL(IF(Lageromsætning!$A$3:$A$79=$A$2,ROW(Lageromsætning!$A$3:$A$79)-CELL(\"row\",Lageromsætning!$A$3:$A$79)+1),ROWS($2:61))),\"\")","v":""},{"$f":"IFERROR(INDEX(Lageromsætning!$E$3:$E$79,SMALL(IF(Lageromsætning!$A$3:$A$79=$A$2,ROW(Lageromsætning!$A$3:$A$79)-CELL(\"row\",Lageromsætning!$A$3:$A$79)+1),ROWS($2:61))),\"\")","v":""},{"$f":"IFERROR(INDEX(Lageromsætning!$AF$3:$AF$79,SMALL(IF(Lageromsætning!$A$3:$A$79=$A$2,ROW(Lageromsætning!$A$3:$A$79)-CELL(\"row\",Lageromsætning!$A$3:$A$79)+1),ROWS($2:61))),\"\")","v":""},{"$f":"SUMIFS('Lager antal'!$D$3:$D$2508,'Lager antal'!$B$3:$B$2508,B63,'Lager antal'!$C$3:$C$2508,C63)","v":0},{"$f":"SUMIFS('Lager antal'!$F$3:$F$2508,'Lager antal'!$B$3:$B$2508,B63,'Lager antal'!$C$3:$C$2508,C63)","v":0},{"$f":"IF(ISNA(VLOOKUP($C63,'Lager antal'!$C$3:$K$508,9,FALSE))=TRUE,\"\",VLOOKUP($C63,'Lager antal'!$C$3:$K$508,9,FALSE))","v":""},{"$f":"IFERROR(INDEX(Lageromsætning!$P$3:$P$79,SMALL(IF(Lageromsætning!$A$3:$A$79=$A$2,ROW(Lageromsætning!$A$3:$A$79)-CELL(\"row\",Lageromsætning!$A$3:$A$79)+1),ROWS($2:61))),\"\")","v":""},{"$f":"+_xlfn.IFS($M63>=0.01,$M63,TRUE,0)-$F63-K63+G63","v":0},{"$f":"SUMIFS('Lager antal'!$G$3:$G$2508,'Lager antal'!$B$3:$B$2508,B63,'Lager antal'!$C$3:$C$2508,C63)","v":0},null,0,{"$f":"SUMIFS(Lageromsætning!$R$3:$R$79,Lageromsætning!$A$3:$A$79,$A$2,Lageromsætning!$C$3:$C$79,B63,Lageromsætning!$D$3:$D$79,C63)","v":0},{"$f":"SUMIFS(Lageromsætning!$S$3:$S$79,Lageromsætning!$C$3:$C$79,B63,Lageromsætning!$D$3:$D$79,C63)","v":0}]
[{"$f":"IFERROR(INDEX(Lageromsætning!$A$3:$A$79,SMALL(IF(Lageromsætning!$A$3:$A$79=$A$2,ROW(Lageromsætning!$A$3:$A$79)-CELL(\"row\",Lageromsætning!$A$3:$A$79)+1),ROWS($1:61))),\"\")","v":""},{"$f":"IFERROR(INDEX(Lageromsætning!$C$3:$C$79,SMALL(IF(Lageromsætning!$A$3:$A$79=$A$2,ROW(Lageromsætning!$A$3:$A$79)-CELL(\"row\",Lageromsætning!$A$3:$A$79)+1),ROWS($2:62))),\"\")","v":""},{"$f":"IFERROR(INDEX(Lageromsætning!$D$3:$D$79,SMALL(IF(Lageromsætning!$A$3:$A$79=$A$2,ROW(Lageromsætning!$A$3:$A$79)-CELL(\"row\",Lageromsætning!$A$3:$A$79)+1),ROWS($2:62))),\"\")","v":""},{"$f":"IFERROR(INDEX(Lageromsætning!$E$3:$E$79,SMALL(IF(Lageromsætning!$A$3:$A$79=$A$2,ROW(Lageromsætning!$A$3:$A$79)-CELL(\"row\",Lageromsætning!$A$3:$A$79)+1),ROWS($2:62))),\"\")","v":""},{"$f":"IFERROR(INDEX(Lageromsætning!$AF$3:$AF$79,SMALL(IF(Lageromsætning!$A$3:$A$79=$A$2,ROW(Lageromsætning!$A$3:$A$79)-CELL(\"row\",Lageromsætning!$A$3:$A$79)+1),ROWS($2:62))),\"\")","v":""},{"$f":"SUMIFS('Lager antal'!$D$3:$D$2508,'Lager antal'!$B$3:$B$2508,B64,'Lager antal'!$C$3:$C$2508,C64)","v":0},{"$f":"SUMIFS('Lager antal'!$F$3:$F$2508,'Lager antal'!$B$3:$B$2508,B64,'Lager antal'!$C$3:$C$2508,C64)","v":0},{"$f":"IF(ISNA(VLOOKUP($C64,'Lager antal'!$C$3:$K$508,9,FALSE))=TRUE,\"\",VLOOKUP($C64,'Lager antal'!$C$3:$K$508,9,FALSE))","v":""},{"$f":"IFERROR(INDEX(Lageromsætning!$P$3:$P$79,SMALL(IF(Lageromsætning!$A$3:$A$79=$A$2,ROW(Lageromsætning!$A$3:$A$79)-CELL(\"row\",Lageromsætning!$A$3:$A$79)+1),ROWS($2:62))),\"\")","v":""},{"$f":"+_xlfn.IFS($M64>=0.01,$M64,TRUE,0)-$F64-K64+G64","v":0},{"$f":"SUMIFS('Lager antal'!$G$3:$G$2508,'Lager antal'!$B$3:$B$2508,B64,'Lager antal'!$C$3:$C$2508,C64)","v":0},null,0,{"$f":"SUMIFS(Lageromsætning!$R$3:$R$79,Lageromsætning!$A$3:$A$79,$A$2,Lageromsætning!$C$3:$C$79,B64,Lageromsætning!$D$3:$D$79,C64)","v":0},{"$f":"SUMIFS(Lageromsætning!$S$3:$S$79,Lageromsætning!$C$3:$C$79,B64,Lageromsætning!$D$3:$D$79,C64)","v":0}]
[{"$f":"IFERROR(INDEX(Lageromsætning!$A$3:$A$79,SMALL(IF(Lageromsætning!$A$3:$A$79=$A$2,ROW(Lageromsætning!$A$3:$A$79)-CELL(\"row\",Lageromsætning!$A$3:$A$79)+1),ROWS($1:62))),\"\")","v":""},{"$f":"IFERROR(INDEX(Lageromsætning!$C$3:$C$79,SMALL(IF(Lageromsætning!$A$3:$A$79=$A$2,ROW(Lageromsætning!$A$3:$A$79)-CELL(\"row\",Lageromsætning!$A$3:$A$79)+1),ROWS($2:63))),\"\")","v":""},{"$f":"IFERROR(INDEX(Lageromsætning!$D$3:$D$79,SMALL(IF(Lageromsætning!$A$3:$A$79=$A$2,ROW(Lageromsætning!$A$3:$A$79)-CELL(\"row\",Lageromsætning!$A$3:$A$79)+1),ROWS($2:63))),\"\")","v":""},{"$f":"IFERROR(INDEX(Lageromsætning!$E$3:$E$79,SMALL(IF(Lageromsætning!$A$3:$A$79=$A$2,ROW(Lageromsætning!$A$3:$A$79)-CELL(\"row\",Lageromsætning!$A$3:$A$79)+1),ROWS($2:63))),\"\")","v":""},{"$f":"IFERROR(INDEX(Lageromsætning!$AF$3:$AF$79,SMALL(IF(Lageromsætning!$A$3:$A$79=$A$2,ROW(Lageromsætning!$A$3:$A$79)-CELL(\"row\",Lageromsætning!$A$3:$A$79)+1),ROWS($2:63))),\"\")","v":""},{"$f":"SUMIFS('Lager antal'!$D$3:$D$2508,'Lager antal'!$B$3:$B$2508,B65,'Lager antal'!$C$3:$C$2508,C65)","v":0},{"$f":"SUMIFS('Lager antal'!$F$3:$F$2508,'Lager antal'!$B$3:$B$2508,B65,'Lager antal'!$C$3:$C$2508,C65)","v":0},{"$f":"IF(ISNA(VLOOKUP($C65,'Lager antal'!$C$3:$K$508,9,FALSE))=TRUE,\"\",VLOOKUP($C65,'Lager antal'!$C$3:$K$508,9,FALSE))","v":""},{"$f":"IFERROR(INDEX(Lageromsætning!$P$3:$P$79,SMALL(IF(Lageromsætning!$A$3:$A$79=$A$2,ROW(Lageromsætning!$A$3:$A$79)-CELL(\"row\",Lageromsætning!$A$3:$A$79)+1),ROWS($2:63))),\"\")","v":""},{"$f":"+_xlfn.IFS($M65>=0.01,$M65,TRUE,0)-$F65-K65+G65","v":0},{"$f":"SUMIFS('Lager antal'!$G$3:$G$2508,'Lager antal'!$B$3:$B$2508,B65,'Lager antal'!$C$3:$C$2508,C65)","v":0},null,0,{"$f":"SUMIFS(Lageromsætning!$R$3:$R$79,Lageromsætning!$A$3:$A$79,$A$2,Lageromsætning!$C$3:$C$79,B65,Lageromsætning!$D$3:$D$79,C65)","v":0},{"$f":"SUMIFS(Lageromsætning!$S$3:$S$79,Lageromsætning!$C$3:$C$79,B65,Lageromsætning!$D$3:$D$79,C65)","v":0}]
[{"$f":"IFERROR(INDEX(Lageromsætning!$A$3:$A$79,SMALL(IF(Lageromsætning!$A$3:$A$79=$A$2,ROW(Lageromsætning!$A$3:$A$79)-CELL(\"row\",Lageromsætning!$A$3:$A$79)+1),ROWS($1:63))),\"\")","v":""},{"$f":"IFERROR(INDEX(Lageromsætning!$C$3:$C$79,SMALL(IF(Lageromsætning!$A$3:$A$79=$A$2,ROW(Lageromsætning!$A$3:$A$79)-CELL(\"row\",Lageromsætning!$A$3:$A$79)+1),ROWS($2:64))),\"\")","v":""},{"$f":"IFERROR(INDEX(Lageromsætning!$D$3:$D$79,SMALL(IF(Lageromsætning!$A$3:$A$79=$A$2,ROW(Lageromsætning!$A$3:$A$79)-CELL(\"row\",Lageromsætning!$A$3:$A$79)+1),ROWS($2:64))),\"\")","v":""},{"$f":"IFERROR(INDEX(Lageromsætning!$E$3:$E$79,SMALL(IF(Lageromsætning!$A$3:$A$79=$A$2,ROW(Lageromsætning!$A$3:$A$79)-CELL(\"row\",Lageromsætning!$A$3:$A$79)+1),ROWS($2:64))),\"\")","v":""},{"$f":"IFERROR(INDEX(Lageromsætning!$AF$3:$AF$79,SMALL(IF(Lageromsætning!$A$3:$A$79=$A$2,ROW(Lageromsætning!$A$3:$A$79)-CELL(\"row\",Lageromsætning!$A$3:$A$79)+1),ROWS($2:64))),\"\")","v":""},{"$f":"SUMIFS('Lager antal'!$D$3:$D$2508,'Lager antal'!$B$3:$B$2508,B66,'Lager antal'!$C$3:$C$2508,C66)","v":0},{"$f":"SUMIFS('Lager antal'!$F$3:$F$2508,'Lager antal'!$B$3:$B$2508,B66,'Lager antal'!$C$3:$C$2508,C66)","v":0},{"$f":"IF(ISNA(VLOOKUP($C66,'Lager antal'!$C$3:$K$508,9,FALSE))=TRUE,\"\",VLOOKUP($C66,'Lager antal'!$C$3:$K$508,9,FALSE))","v":""},{"$f":"IFERROR(INDEX(Lageromsætning!$P$3:$P$79,SMALL(IF(Lageromsætning!$A$3:$A$79=$A$2,ROW(Lageromsætning!$A$3:$A$79)-CELL(\"row\",Lageromsætning!$A$3:$A$79)+1),ROWS($2:64))),\"\")","v":""},{"$f":"+_xlfn.IFS($M66>=0.01,$M66,TRUE,0)-$F66-K66+G66","v":0},{"$f":"SUMIFS('Lager antal'!$G$3:$G$2508,'Lager antal'!$B$3:$B$2508,B66,'Lager antal'!$C$3:$C$2508,C66)","v":0},null,0,{"$f":"SUMIFS(Lageromsætning!$R$3:$R$79,Lageromsætning!$A$3:$A$79,$A$2,Lageromsætning!$C$3:$C$79,B66,Lageromsætning!$D$3:$D$79,C66)","v":0},{"$f":"SUMIFS(Lageromsætning!$S$3:$S$79,Lageromsætning!$C$3:$C$79,B66,Lageromsætning!$D$3:$D$79,C66)","v":0}]
[{"$f":"IFERROR(INDEX(Lageromsætning!$A$3:$A$79,SMALL(IF(Lageromsætning!$A$3:$A$79=$A$2,ROW(Lageromsætning!$A$3:$A$79)-CELL(\"row\",Lageromsætning!$A$3:$A$79)+1),ROWS($1:64))),\"\")","v":""},{"$f":"IFERROR(INDEX(Lageromsætning!$C$3:$C$79,SMALL(IF(Lageromsætning!$A$3:$A$79=$A$2,ROW(Lageromsætning!$A$3:$A$79)-CELL(\"row\",Lageromsætning!$A$3:$A$79)+1),ROWS($2:65))),\"\")","v":""},{"$f":"IFERROR(INDEX(Lageromsætning!$D$3:$D$79,SMALL(IF(Lageromsætning!$A$3:$A$79=$A$2,ROW(Lageromsætning!$A$3:$A$79)-CELL(\"row\",Lageromsætning!$A$3:$A$79)+1),ROWS($2:65))),\"\")","v":""},{"$f":"IFERROR(INDEX(Lageromsætning!$E$3:$E$79,SMALL(IF(Lageromsætning!$A$3:$A$79=$A$2,ROW(Lageromsætning!$A$3:$A$79)-CELL(\"row\",Lageromsætning!$A$3:$A$79)+1),ROWS($2:65))),\"\")","v":""},{"$f":"IFERROR(INDEX(Lageromsætning!$AF$3:$AF$79,SMALL(IF(Lageromsætning!$A$3:$A$79=$A$2,ROW(Lageromsætning!$A$3:$A$79)-CELL(\"row\",Lageromsætning!$A$3:$A$79)+1),ROWS($2:65))),\"\")","v":""},{"$f":"SUMIFS('Lager antal'!$D$3:$D$2508,'Lager antal'!$B$3:$B$2508,B67,'Lager antal'!$C$3:$C$2508,C67)","v":0},{"$f":"SUMIFS('Lager antal'!$F$3:$F$2508,'Lager antal'!$B$3:$B$2508,B67,'Lager antal'!$C$3:$C$2508,C67)","v":0},{"$f":"IF(ISNA(VLOOKUP($C67,'Lager antal'!$C$3:$K$508,9,FALSE))=TRUE,\"\",VLOOKUP($C67,'Lager antal'!$C$3:$K$508,9,FALSE))","v":""},{"$f":"IFERROR(INDEX(Lageromsætning!$P$3:$P$79,SMALL(IF(Lageromsætning!$A$3:$A$79=$A$2,ROW(Lageromsætning!$A$3:$A$79)-CELL(\"row\",Lageromsætning!$A$3:$A$79)+1),ROWS($2:65))),\"\")","v":""},{"$f":"+_xlfn.IFS($M67>=0.01,$M67,TRUE,0)-$F67-K67+G67","v":0},{"$f":"SUMIFS('Lager antal'!$G$3:$G$2508,'Lager antal'!$B$3:$B$2508,B67,'Lager antal'!$C$3:$C$2508,C67)","v":0},null,0,{"$f":"SUMIFS(Lageromsætning!$R$3:$R$79,Lageromsætning!$A$3:$A$79,$A$2,Lageromsætning!$C$3:$C$79,B67,Lageromsætning!$D$3:$D$79,C67)","v":0},{"$f":"SUMIFS(Lageromsætning!$S$3:$S$79,Lageromsætning!$C$3:$C$79,B67,Lageromsætning!$D$3:$D$79,C67)","v":0}]
[{"$f":"IFERROR(INDEX(Lageromsætning!$A$3:$A$79,SMALL(IF(Lageromsætning!$A$3:$A$79=$A$2,ROW(Lageromsætning!$A$3:$A$79)-CELL(\"row\",Lageromsætning!$A$3:$A$79)+1),ROWS($1:65))),\"\")","v":""},{"$f":"IFERROR(INDEX(Lageromsætning!$C$3:$C$79,SMALL(IF(Lageromsætning!$A$3:$A$79=$A$2,ROW(Lageromsætning!$A$3:$A$79)-CELL(\"row\",Lageromsætning!$A$3:$A$79)+1),ROWS($2:66))),\"\")","v":""},{"$f":"IFERROR(INDEX(Lageromsætning!$D$3:$D$79,SMALL(IF(Lageromsætning!$A$3:$A$79=$A$2,ROW(Lageromsætning!$A$3:$A$79)-CELL(\"row\",Lageromsætning!$A$3:$A$79)+1),ROWS($2:66))),\"\")","v":""},{"$f":"IFERROR(INDEX(Lageromsætning!$E$3:$E$79,SMALL(IF(Lageromsætning!$A$3:$A$79=$A$2,ROW(Lageromsætning!$A$3:$A$79)-CELL(\"row\",Lageromsætning!$A$3:$A$79)+1),ROWS($2:66))),\"\")","v":""},{"$f":"IFERROR(INDEX(Lageromsætning!$AF$3:$AF$79,SMALL(IF(Lageromsætning!$A$3:$A$79=$A$2,ROW(Lageromsætning!$A$3:$A$79)-CELL(\"row\",Lageromsætning!$A$3:$A$79)+1),ROWS($2:66))),\"\")","v":""},{"$f":"SUMIFS('Lager antal'!$D$3:$D$2508,'Lager antal'!$B$3:$B$2508,B68,'Lager antal'!$C$3:$C$2508,C68)","v":0},{"$f":"SUMIFS('Lager antal'!$F$3:$F$2508,'Lager antal'!$B$3:$B$2508,B68,'Lager antal'!$C$3:$C$2508,C68)","v":0},{"$f":"IF(ISNA(VLOOKUP($C68,'Lager antal'!$C$3:$K$508,9,FALSE))=TRUE,\"\",VLOOKUP($C68,'Lager antal'!$C$3:$K$508,9,FALSE))","v":""},{"$f":"IFERROR(INDEX(Lageromsætning!$P$3:$P$79,SMALL(IF(Lageromsætning!$A$3:$A$79=$A$2,ROW(Lageromsætning!$A$3:$A$79)-CELL(\"row\",Lageromsætning!$A$3:$A$79)+1),ROWS($2:66))),\"\")","v":""},{"$f":"+_xlfn.IFS($M68>=0.01,$M68,TRUE,0)-$F68-K68+G68","v":0},{"$f":"SUMIFS('Lager antal'!$G$3:$G$2508,'Lager antal'!$B$3:$B$2508,B68,'Lager antal'!$C$3:$C$2508,C68)","v":0},null,{"$f":"+$N68/$K$2","v":0},{"$f":"SUMIFS(Lageromsætning!$R$3:$R$79,Lageromsætning!$A$3:$A$79,$A$2,Lageromsætning!$C$3:$C$79,B68,Lageromsætning!$D$3:$D$79,C68)","v":0},{"$f":"SUMIFS(Lageromsætning!$S$3:$S$79,Lageromsætning!$C$3:$C$79,B68,Lageromsætning!$D$3:$D$79,C68)","v":0}]
[{"$f":"IFERROR(INDEX(Lageromsætning!$A$3:$A$79,SMALL(IF(Lageromsætning!$A$3:$A$79=$A$2,ROW(Lageromsætning!$A$3:$A$79)-CELL(\"row\",Lageromsætning!$A$3:$A$79)+1),ROWS($1:66))),\"\")","v":""},{"$f":"IFERROR(INDEX(Lageromsætning!$C$3:$C$79,SMALL(IF(Lageromsætning!$A$3:$A$79=$A$2,ROW(Lageromsætning!$A$3:$A$79)-CELL(\"row\",Lageromsætning!$A$3:$A$79)+1),ROWS($2:67))),\"\")","v":""},{"$f":"IFERROR(INDEX(Lageromsætning!$D$3:$D$79,SMALL(IF(Lageromsætning!$A$3:$A$79=$A$2,ROW(Lageromsætning!$A$3:$A$79)-CELL(\"row\",Lageromsætning!$A$3:$A$79)+1),ROWS($2:67))),\"\")","v":""},{"$f":"IFERROR(INDEX(Lageromsætning!$E$3:$E$79,SMALL(IF(Lageromsætning!$A$3:$A$79=$A$2,ROW(Lageromsætning!$A$3:$A$79)-CELL(\"row\",Lageromsætning!$A$3:$A$79)+1),ROWS($2:67))),\"\")","v":""},{"$f":"IFERROR(INDEX(Lageromsætning!$AF$3:$AF$79,SMALL(IF(Lageromsætning!$A$3:$A$79=$A$2,ROW(Lageromsætning!$A$3:$A$79)-CELL(\"row\",Lageromsætning!$A$3:$A$79)+1),ROWS($2:67))),\"\")","v":""},{"$f":"SUMIFS('Lager antal'!$D$3:$D$2508,'Lager antal'!$B$3:$B$2508,B69,'Lager antal'!$C$3:$C$2508,C69)","v":0},{"$f":"SUMIFS('Lager antal'!$F$3:$F$2508,'Lager antal'!$B$3:$B$2508,B69,'Lager antal'!$C$3:$C$2508,C69)","v":0},{"$f":"IF(ISNA(VLOOKUP($C69,'Lager antal'!$C$3:$K$508,9,FALSE))=TRUE,\"\",VLOOKUP($C69,'Lager antal'!$C$3:$K$508,9,FALSE))","v":""},{"$f":"IFERROR(INDEX(Lageromsætning!$P$3:$P$79,SMALL(IF(Lageromsætning!$A$3:$A$79=$A$2,ROW(Lageromsætning!$A$3:$A$79)-CELL(\"row\",Lageromsætning!$A$3:$A$79)+1),ROWS($2:67))),\"\")","v":""},{"$f":"+_xlfn.IFS($M69>=0.01,$M69,TRUE,0)-$F69-K69+G69","v":0},{"$f":"SUMIFS('Lager antal'!$G$3:$G$2508,'Lager antal'!$B$3:$B$2508,B69,'Lager antal'!$C$3:$C$2508,C69)","v":0},null,0,{"$f":"SUMIFS(Lageromsætning!$R$3:$R$79,Lageromsætning!$A$3:$A$79,$A$2,Lageromsætning!$C$3:$C$79,B69,Lageromsætning!$D$3:$D$79,C69)","v":0},{"$f":"SUMIFS(Lageromsætning!$S$3:$S$79,Lageromsætning!$C$3:$C$79,B69,Lageromsætning!$D$3:$D$79,C69)","v":0}]
[{"$f":"IFERROR(INDEX(Lageromsætning!$A$3:$A$79,SMALL(IF(Lageromsætning!$A$3:$A$79=$A$2,ROW(Lageromsætning!$A$3:$A$79)-CELL(\"row\",Lageromsætning!$A$3:$A$79)+1),ROWS($1:67))),\"\")","v":""},{"$f":"IFERROR(INDEX(Lageromsætning!$C$3:$C$79,SMALL(IF(Lageromsætning!$A$3:$A$79=$A$2,ROW(Lageromsætning!$A$3:$A$79)-CELL(\"row\",Lageromsætning!$A$3:$A$79)+1),ROWS($2:68))),\"\")","v":""},{"$f":"IFERROR(INDEX(Lageromsætning!$D$3:$D$79,SMALL(IF(Lageromsætning!$A$3:$A$79=$A$2,ROW(Lageromsætning!$A$3:$A$79)-CELL(\"row\",Lageromsætning!$A$3:$A$79)+1),ROWS($2:68))),\"\")","v":""},{"$f":"IFERROR(INDEX(Lageromsætning!$E$3:$E$79,SMALL(IF(Lageromsætning!$A$3:$A$79=$A$2,ROW(Lageromsætning!$A$3:$A$79)-CELL(\"row\",Lageromsætning!$A$3:$A$79)+1),ROWS($2:68))),\"\")","v":""},{"$f":"IFERROR(INDEX(Lageromsætning!$AF$3:$AF$79,SMALL(IF(Lageromsætning!$A$3:$A$79=$A$2,ROW(Lageromsætning!$A$3:$A$79)-CELL(\"row\",Lageromsætning!$A$3:$A$79)+1),ROWS($2:68))),\"\")","v":""},{"$f":"SUMIFS('Lager antal'!$D$3:$D$2508,'Lager antal'!$B$3:$B$2508,B70,'Lager antal'!$C$3:$C$2508,C70)","v":0},{"$f":"SUMIFS('Lager antal'!$F$3:$F$2508,'Lager antal'!$B$3:$B$2508,B70,'Lager antal'!$C$3:$C$2508,C70)","v":0},{"$f":"IF(ISNA(VLOOKUP($C70,'Lager antal'!$C$3:$K$508,9,FALSE))=TRUE,\"\",VLOOKUP($C70,'Lager antal'!$C$3:$K$508,9,FALSE))","v":""},{"$f":"IFERROR(INDEX(Lageromsætning!$P$3:$P$79,SMALL(IF(Lageromsætning!$A$3:$A$79=$A$2,ROW(Lageromsætning!$A$3:$A$79)-CELL(\"row\",Lageromsætning!$A$3:$A$79)+1),ROWS($2:68))),\"\")","v":""},{"$f":"+_xlfn.IFS($M70>=0.01,$M70,TRUE,0)-$F70-K70+G70","v":0},{"$f":"SUMIFS('Lager antal'!$G$3:$G$2508,'Lager antal'!$B$3:$B$2508,B70,'Lager antal'!$C$3:$C$2508,C70)","v":0},null,0,{"$f":"SUMIFS(Lageromsætning!$R$3:$R$79,Lageromsætning!$A$3:$A$79,$A$2,Lageromsætning!$C$3:$C$79,B70,Lageromsætning!$D$3:$D$79,C70)","v":0},{"$f":"SUMIFS(Lageromsætning!$S$3:$S$79,Lageromsætning!$C$3:$C$79,B70,Lageromsætning!$D$3:$D$79,C70)","v":0}]
[{"$f":"IFERROR(INDEX(Lageromsætning!$A$3:$A$79,SMALL(IF(Lageromsætning!$A$3:$A$79=$A$2,ROW(Lageromsætning!$A$3:$A$79)-CELL(\"row\",Lageromsætning!$A$3:$A$79)+1),ROWS($1:68))),\"\")","v":""},{"$f":"IFERROR(INDEX(Lageromsætning!$C$3:$C$79,SMALL(IF(Lageromsætning!$A$3:$A$79=$A$2,ROW(Lageromsætning!$A$3:$A$79)-CELL(\"row\",Lageromsætning!$A$3:$A$79)+1),ROWS($2:69))),\"\")","v":""},{"$f":"IFERROR(INDEX(Lageromsætning!$D$3:$D$79,SMALL(IF(Lageromsætning!$A$3:$A$79=$A$2,ROW(Lageromsætning!$A$3:$A$79)-CELL(\"row\",Lageromsætning!$A$3:$A$79)+1),ROWS($2:69))),\"\")","v":""},{"$f":"IFERROR(INDEX(Lageromsætning!$E$3:$E$79,SMALL(IF(Lageromsætning!$A$3:$A$79=$A$2,ROW(Lageromsætning!$A$3:$A$79)-CELL(\"row\",Lageromsætning!$A$3:$A$79)+1),ROWS($2:69))),\"\")","v":""},{"$f":"IFERROR(INDEX(Lageromsætning!$AF$3:$AF$79,SMALL(IF(Lageromsætning!$A$3:$A$79=$A$2,ROW(Lageromsætning!$A$3:$A$79)-CELL(\"row\",Lageromsætning!$A$3:$A$79)+1),ROWS($2:69))),\"\")","v":""},{"$f":"SUMIFS('Lager antal'!$D$3:$D$2508,'Lager antal'!$B$3:$B$2508,B71,'Lager antal'!$C$3:$C$2508,C71)","v":0},{"$f":"SUMIFS('Lager antal'!$F$3:$F$2508,'Lager antal'!$B$3:$B$2508,B71,'Lager antal'!$C$3:$C$2508,C71)","v":0},{"$f":"IF(ISNA(VLOOKUP($C71,'Lager antal'!$C$3:$K$508,9,FALSE))=TRUE,\"\",VLOOKUP($C71,'Lager antal'!$C$3:$K$508,9,FALSE))","v":""},{"$f":"IFERROR(INDEX(Lageromsætning!$P$3:$P$79,SMALL(IF(Lageromsætning!$A$3:$A$79=$A$2,ROW(Lageromsætning!$A$3:$A$79)-CELL(\"row\",Lageromsætning!$A$3:$A$79)+1),ROWS($2:69))),\"\")","v":""},{"$f":"+_xlfn.IFS($M71>=0.01,$M71,TRUE,0)-$F71-K71+G71","v":0},{"$f":"SUMIFS('Lager antal'!$G$3:$G$2508,'Lager antal'!$B$3:$B$2508,B71,'Lager antal'!$C$3:$C$2508,C71)","v":0},null,0,{"$f":"SUMIFS(Lageromsætning!$R$3:$R$79,Lageromsætning!$A$3:$A$79,$A$2,Lageromsætning!$C$3:$C$79,B71,Lageromsætning!$D$3:$D$79,C71)","v":0},{"$f":"SUMIFS(Lageromsætning!$S$3:$S$79,Lageromsætning!$C$3:$C$79,B71,Lageromsætning!$D$3:$D$79,C71)","v":0}]
[{"$f":"IFERROR(INDEX(Lageromsætning!$A$3:$A$79,SMALL(IF(Lageromsætning!$A$3:$A$79=$A$2,ROW(Lageromsætning!$A$3:$A$79)-CELL(\"row\",Lageromsætning!$A$3:$A$79)+1),ROWS($1:69))),\"\")","v":""},{"$f":"IFERROR(INDEX(Lageromsætning!$C$3:$C$79,SMALL(IF(Lageromsætning!$A$3:$A$79=$A$2,ROW(Lageromsætning!$A$3:$A$79)-CELL(\"row\",Lageromsætning!$A$3:$A$79)+1),ROWS($2:70))),\"\")","v":""},{"$f":"IFERROR(INDEX(Lageromsætning!$D$3:$D$79,SMALL(IF(Lageromsætning!$A$3:$A$79=$A$2,ROW(Lageromsætning!$A$3:$A$79)-CELL(\"row\",Lageromsætning!$A$3:$A$79)+1),ROWS($2:70))),\"\")","v":""},{"$f":"IFERROR(INDEX(Lageromsætning!$E$3:$E$79,SMALL(IF(Lageromsætning!$A$3:$A$79=$A$2,ROW(Lageromsætning!$A$3:$A$79)-CELL(\"row\",Lageromsætning!$A$3:$A$79)+1),ROWS($2:70))),\"\")","v":""},{"$f":"IFERROR(INDEX(Lageromsætning!$AF$3:$AF$79,SMALL(IF(Lageromsætning!$A$3:$A$79=$A$2,ROW(Lageromsætning!$A$3:$A$79)-CELL(\"row\",Lageromsætning!$A$3:$A$79)+1),ROWS($2:70))),\"\")","v":""},{"$f":"SUMIFS('Lager antal'!$D$3:$D$2508,'Lager antal'!$B$3:$B$2508,B72,'Lager antal'!$C$3:$C$2508,C72)","v":0},{"$f":"SUMIFS('Lager antal'!$F$3:$F$2508,'Lager antal'!$B$3:$B$2508,B72,'Lager antal'!$C$3:$C$2508,C72)","v":0},{"$f":"IF(ISNA(VLOOKUP($C72,'Lager antal'!$C$3:$K$508,9,FALSE))=TRUE,\"\",VLOOKUP($C72,'Lager antal'!$C$3:$K$508,9,FALSE))","v":""},{"$f":"IFERROR(INDEX(Lageromsætning!$P$3:$P$79,SMALL(IF(Lageromsætning!$A$3:$A$79=$A$2,ROW(Lageromsætning!$A$3:$A$79)-CELL(\"row\",Lageromsætning!$A$3:$A$79)+1),ROWS($2:70))),\"\")","v":""},{"$f":"+_xlfn.IFS($M72>=0.01,$M72,TRUE,0)-$F72-K72+G72","v":0},{"$f":"SUMIFS('Lager antal'!$G$3:$G$2508,'Lager antal'!$B$3:$B$2508,B72,'Lager antal'!$C$3:$C$2508,C72)","v":0},null,0,{"$f":"SUMIFS(Lageromsætning!$R$3:$R$79,Lageromsætning!$A$3:$A$79,$A$2,Lageromsætning!$C$3:$C$79,B72,Lageromsætning!$D$3:$D$79,C72)","v":0},{"$f":"SUMIFS(Lageromsætning!$S$3:$S$79,Lageromsætning!$C$3:$C$79,B72,Lageromsætning!$D$3:$D$79,C72)","v":0}]
[{"$f":"IFERROR(INDEX(Lageromsætning!$A$3:$A$79,SMALL(IF(Lageromsætning!$A$3:$A$79=$A$2,ROW(Lageromsætning!$A$3:$A$79)-CELL(\"row\",Lageromsætning!$A$3:$A$79)+1),ROWS($1:70))),\"\")","v":""},{"$f":"IFERROR(INDEX(Lageromsætning!$C$3:$C$79,SMALL(IF(Lageromsætning!$A$3:$A$79=$A$2,ROW(Lageromsætning!$A$3:$A$79)-CELL(\"row\",Lageromsætning!$A$3:$A$79)+1),ROWS($2:71))),\"\")","v":""},{"$f":"IFERROR(INDEX(Lageromsætning!$D$3:$D$79,SMALL(IF(Lageromsætning!$A$3:$A$79=$A$2,ROW(Lageromsætning!$A$3:$A$79)-CELL(\"row\",Lageromsætning!$A$3:$A$79)+1),ROWS($2:71))),\"\")","v":""},{"$f":"IFERROR(INDEX(Lageromsætning!$E$3:$E$79,SMALL(IF(Lageromsætning!$A$3:$A$79=$A$2,ROW(Lageromsætning!$A$3:$A$79)-CELL(\"row\",Lageromsætning!$A$3:$A$79)+1),ROWS($2:71))),\"\")","v":""},{"$f":"IFERROR(INDEX(Lageromsætning!$AF$3:$AF$79,SMALL(IF(Lageromsætning!$A$3:$A$79=$A$2,ROW(Lageromsætning!$A$3:$A$79)-CELL(\"row\",Lageromsætning!$A$3:$A$79)+1),ROWS($2:71))),\"\")","v":""},{"$f":"SUMIFS('Lager antal'!$D$3:$D$2508,'Lager antal'!$B$3:$B$2508,B73,'Lager antal'!$C$3:$C$2508,C73)","v":0},{"$f":"SUMIFS('Lager antal'!$F$3:$F$2508,'Lager antal'!$B$3:$B$2508,B73,'Lager antal'!$C$3:$C$2508,C73)","v":0},{"$f":"IF(ISNA(VLOOKUP($C73,'Lager antal'!$C$3:$K$508,9,FALSE))=TRUE,\"\",VLOOKUP($C73,'Lager antal'!$C$3:$K$508,9,FALSE))","v":""},{"$f":"IFERROR(INDEX(Lageromsætning!$P$3:$P$79,SMALL(IF(Lageromsætning!$A$3:$A$79=$A$2,ROW(Lageromsætning!$A$3:$A$79)-CELL(\"row\",Lageromsætning!$A$3:$A$79)+1),ROWS($2:71))),\"\")","v":""},{"$f":"+_xlfn.IFS($M73>=0.01,$M73,TRUE,0)-$F73-K73+G73","v":0},{"$f":"SUMIFS('Lager antal'!$G$3:$G$2508,'Lager antal'!$B$3:$B$2508,B73,'Lager antal'!$C$3:$C$2508,C73)","v":0},null,0,{"$f":"SUMIFS(Lageromsætning!$R$3:$R$79,Lageromsætning!$A$3:$A$79,$A$2,Lageromsætning!$C$3:$C$79,B73,Lageromsætning!$D$3:$D$79,C73)","v":0},{"$f":"SUMIFS(Lageromsætning!$S$3:$S$79,Lageromsætning!$C$3:$C$79,B73,Lageromsætning!$D$3:$D$79,C73)","v":0}]
[{"$f":"IFERROR(INDEX(Lageromsætning!$A$3:$A$79,SMALL(IF(Lageromsætning!$A$3:$A$79=$A$2,ROW(Lageromsætning!$A$3:$A$79)-CELL(\"row\",Lageromsætning!$A$3:$A$79)+1),ROWS($1:71))),\"\")","v":""},{"$f":"IFERROR(INDEX(Lageromsætning!$C$3:$C$79,SMALL(IF(Lageromsætning!$A$3:$A$79=$A$2,ROW(Lageromsætning!$A$3:$A$79)-CELL(\"row\",Lageromsætning!$A$3:$A$79)+1),ROWS($2:72))),\"\")","v":""},{"$f":"IFERROR(INDEX(Lageromsætning!$D$3:$D$79,SMALL(IF(Lageromsætning!$A$3:$A$79=$A$2,ROW(Lageromsætning!$A$3:$A$79)-CELL(\"row\",Lageromsætning!$A$3:$A$79)+1),ROWS($2:72))),\"\")","v":""},{"$f":"IFERROR(INDEX(Lageromsætning!$E$3:$E$79,SMALL(IF(Lageromsætning!$A$3:$A$79=$A$2,ROW(Lageromsætning!$A$3:$A$79)-CELL(\"row\",Lageromsætning!$A$3:$A$79)+1),ROWS($2:72))),\"\")","v":""},{"$f":"IFERROR(INDEX(Lageromsætning!$AF$3:$AF$79,SMALL(IF(Lageromsætning!$A$3:$A$79=$A$2,ROW(Lageromsætning!$A$3:$A$79)-CELL(\"row\",Lageromsætning!$A$3:$A$79)+1),ROWS($2:72))),\"\")","v":""},{"$f":"SUMIFS('Lager antal'!$D$3:$D$2508,'Lager antal'!$B$3:$B$2508,B74,'Lager antal'!$C$3:$C$2508,C74)","v":0},{"$f":"SUMIFS('Lager antal'!$F$3:$F$2508,'Lager antal'!$B$3:$B$2508,B74,'Lager antal'!$C$3:$C$2508,C74)","v":0},{"$f":"IF(ISNA(VLOOKUP($C74,'Lager antal'!$C$3:$K$508,9,FALSE))=TRUE,\"\",VLOOKUP($C74,'Lager antal'!$C$3:$K$508,9,FALSE))","v":""},{"$f":"IFERROR(INDEX(Lageromsætning!$P$3:$P$79,SMALL(IF(Lageromsætning!$A$3:$A$79=$A$2,ROW(Lageromsætning!$A$3:$A$79)-CELL(\"row\",Lageromsætning!$A$3:$A$79)+1),ROWS($2:72))),\"\")","v":""},{"$f":"+_xlfn.IFS($M74>=0.01,$M74,TRUE,0)-$F74-K74+G74","v":0},{"$f":"SUMIFS('Lager antal'!$G$3:$G$2508,'Lager antal'!$B$3:$B$2508,B74,'Lager antal'!$C$3:$C$2508,C74)","v":0},null,0,{"$f":"SUMIFS(Lageromsætning!$R$3:$R$79,Lageromsætning!$A$3:$A$79,$A$2,Lageromsætning!$C$3:$C$79,B74,Lageromsætning!$D$3:$D$79,C74)","v":0},{"$f":"SUMIFS(Lageromsætning!$S$3:$S$79,Lageromsætning!$C$3:$C$79,B74,Lageromsætning!$D$3:$D$79,C74)","v":0}]
[{"$f":"IFERROR(INDEX(Lageromsætning!$A$3:$A$79,SMALL(IF(Lageromsætning!$A$3:$A$79=$A$2,ROW(Lageromsætning!$A$3:$A$79)-CELL(\"row\",Lageromsætning!$A$3:$A$79)+1),ROWS($1:72))),\"\")","v":""},{"$f":"IFERROR(INDEX(Lageromsætning!$C$3:$C$79,SMALL(IF(Lageromsætning!$A$3:$A$79=$A$2,ROW(Lageromsætning!$A$3:$A$79)-CELL(\"row\",Lageromsætning!$A$3:$A$79)+1),ROWS($2:73))),\"\")","v":""},{"$f":"IFERROR(INDEX(Lageromsætning!$D$3:$D$79,SMALL(IF(Lageromsætning!$A$3:$A$79=$A$2,ROW(Lageromsætning!$A$3:$A$79)-CELL(\"row\",Lageromsætning!$A$3:$A$79)+1),ROWS($2:73))),\"\")","v":""},{"$f":"IFERROR(INDEX(Lageromsætning!$E$3:$E$79,SMALL(IF(Lageromsætning!$A$3:$A$79=$A$2,ROW(Lageromsætning!$A$3:$A$79)-CELL(\"row\",Lageromsætning!$A$3:$A$79)+1),ROWS($2:73))),\"\")","v":""},{"$f":"IFERROR(INDEX(Lageromsætning!$AF$3:$AF$79,SMALL(IF(Lageromsætning!$A$3:$A$79=$A$2,ROW(Lageromsætning!$A$3:$A$79)-CELL(\"row\",Lageromsætning!$A$3:$A$79)+1),ROWS($2:73))),\"\")","v":""},{"$f":"SUMIFS('Lager antal'!$D$3:$D$2508,'Lager antal'!$B$3:$B$2508,B75,'Lager antal'!$C$3:$C$2508,C75)","v":0},{"$f":"SUMIFS('Lager antal'!$F$3:$F$2508,'Lager antal'!$B$3:$B$2508,B75,'Lager antal'!$C$3:$C$2508,C75)","v":0},{"$f":"IF(ISNA(VLOOKUP($C75,'Lager antal'!$C$3:$K$508,9,FALSE))=TRUE,\"\",VLOOKUP($C75,'Lager antal'!$C$3:$K$508,9,FALSE))","v":""},{"$f":"IFERROR(INDEX(Lageromsætning!$P$3:$P$79,SMALL(IF(Lageromsætning!$A$3:$A$79=$A$2,ROW(Lageromsætning!$A$3:$A$79)-CELL(\"row\",Lageromsætning!$A$3:$A$79)+1),ROWS($2:73))),\"\")","v":""},{"$f":"+_xlfn.IFS($M75>=0.01,$M75,TRUE,0)-$F75-K75+G75","v":0},{"$f":"SUMIFS('Lager antal'!$G$3:$G$2508,'Lager antal'!$B$3:$B$2508,B75,'Lager antal'!$C$3:$C$2508,C75)","v":0},null,0,{"$f":"SUMIFS(Lageromsætning!$R$3:$R$79,Lageromsætning!$A$3:$A$79,$A$2,Lageromsætning!$C$3:$C$79,B75,Lageromsætning!$D$3:$D$79,C75)","v":0},{"$f":"SUMIFS(Lageromsætning!$S$3:$S$79,Lageromsætning!$C$3:$C$79,B75,Lageromsætning!$D$3:$D$79,C75)","v":0}]
[{"$f":"IFERROR(INDEX(Lageromsætning!$A$3:$A$79,SMALL(IF(Lageromsætning!$A$3:$A$79=$A$2,ROW(Lageromsætning!$A$3:$A$79)-CELL(\"row\",Lageromsætning!$A$3:$A$79)+1),ROWS($1:73))),\"\")","v":""},{"$f":"IFERROR(INDEX(Lageromsætning!$C$3:$C$79,SMALL(IF(Lageromsætning!$A$3:$A$79=$A$2,ROW(Lageromsætning!$A$3:$A$79)-CELL(\"row\",Lageromsætning!$A$3:$A$79)+1),ROWS($2:74))),\"\")","v":""},{"$f":"IFERROR(INDEX(Lageromsætning!$D$3:$D$79,SMALL(IF(Lageromsætning!$A$3:$A$79=$A$2,ROW(Lageromsætning!$A$3:$A$79)-CELL(\"row\",Lageromsætning!$A$3:$A$79)+1),ROWS($2:74))),\"\")","v":""},{"$f":"IFERROR(INDEX(Lageromsætning!$E$3:$E$79,SMALL(IF(Lageromsætning!$A$3:$A$79=$A$2,ROW(Lageromsætning!$A$3:$A$79)-CELL(\"row\",Lageromsætning!$A$3:$A$79)+1),ROWS($2:74))),\"\")","v":""},{"$f":"IFERROR(INDEX(Lageromsætning!$AF$3:$AF$79,SMALL(IF(Lageromsætning!$A$3:$A$79=$A$2,ROW(Lageromsætning!$A$3:$A$79)-CELL(\"row\",Lageromsætning!$A$3:$A$79)+1),ROWS($2:74))),\"\")","v":""},{"$f":"SUMIFS('Lager antal'!$D$3:$D$2508,'Lager antal'!$B$3:$B$2508,B76,'Lager antal'!$C$3:$C$2508,C76)","v":0},{"$f":"SUMIFS('Lager antal'!$F$3:$F$2508,'Lager antal'!$B$3:$B$2508,B76,'Lager antal'!$C$3:$C$2508,C76)","v":0},{"$f":"IF(ISNA(VLOOKUP($C76,'Lager antal'!$C$3:$K$508,9,FALSE))=TRUE,\"\",VLOOKUP($C76,'Lager antal'!$C$3:$K$508,9,FALSE))","v":""},{"$f":"IFERROR(INDEX(Lageromsætning!$P$3:$P$79,SMALL(IF(Lageromsætning!$A$3:$A$79=$A$2,ROW(Lageromsætning!$A$3:$A$79)-CELL(\"row\",Lageromsætning!$A$3:$A$79)+1),ROWS($2:74))),\"\")","v":""},{"$f":"+_xlfn.IFS($M76>=0.01,$M76,TRUE,0)-$F76-K76+G76","v":0},{"$f":"SUMIFS('Lager antal'!$G$3:$G$2508,'Lager antal'!$B$3:$B$2508,B76,'Lager antal'!$C$3:$C$2508,C76)","v":0},null,0,{"$f":"SUMIFS(Lageromsætning!$R$3:$R$79,Lageromsætning!$A$3:$A$79,$A$2,Lageromsætning!$C$3:$C$79,B76,Lageromsætning!$D$3:$D$79,C76)","v":0},{"$f":"SUMIFS(Lageromsætning!$S$3:$S$79,Lageromsætning!$C$3:$C$79,B76,Lageromsætning!$D$3:$D$79,C76)","v":0}]
[{"$f":"IFERROR(INDEX(Lageromsætning!$A$3:$A$79,SMALL(IF(Lageromsætning!$A$3:$A$79=$A$2,ROW(Lageromsætning!$A$3:$A$79)-CELL(\"row\",Lageromsætning!$A$3:$A$79)+1),ROWS($1:74))),\"\")","v":""},{"$f":"IFERROR(INDEX(Lageromsætning!$C$3:$C$79,SMALL(IF(Lageromsætning!$A$3:$A$79=$A$2,ROW(Lageromsætning!$A$3:$A$79)-CELL(\"row\",Lageromsætning!$A$3:$A$79)+1),ROWS($2:75))),\"\")","v":""},{"$f":"IFERROR(INDEX(Lageromsætning!$D$3:$D$79,SMALL(IF(Lageromsætning!$A$3:$A$79=$A$2,ROW(Lageromsætning!$A$3:$A$79)-CELL(\"row\",Lageromsætning!$A$3:$A$79)+1),ROWS($2:75))),\"\")","v":""},{"$f":"IFERROR(INDEX(Lageromsætning!$E$3:$E$79,SMALL(IF(Lageromsætning!$A$3:$A$79=$A$2,ROW(Lageromsætning!$A$3:$A$79)-CELL(\"row\",Lageromsætning!$A$3:$A$79)+1),ROWS($2:75))),\"\")","v":""},{"$f":"IFERROR(INDEX(Lageromsætning!$AF$3:$AF$79,SMALL(IF(Lageromsætning!$A$3:$A$79=$A$2,ROW(Lageromsætning!$A$3:$A$79)-CELL(\"row\",Lageromsætning!$A$3:$A$79)+1),ROWS($2:75))),\"\")","v":""},{"$f":"SUMIFS('Lager antal'!$D$3:$D$2508,'Lager antal'!$B$3:$B$2508,B77,'Lager antal'!$C$3:$C$2508,C77)","v":0},{"$f":"SUMIFS('Lager antal'!$F$3:$F$2508,'Lager antal'!$B$3:$B$2508,B77,'Lager antal'!$C$3:$C$2508,C77)","v":0},{"$f":"IF(ISNA(VLOOKUP($C77,'Lager antal'!$C$3:$K$508,9,FALSE))=TRUE,\"\",VLOOKUP($C77,'Lager antal'!$C$3:$K$508,9,FALSE))","v":""},{"$f":"IFERROR(INDEX(Lageromsætning!$P$3:$P$79,SMALL(IF(Lageromsætning!$A$3:$A$79=$A$2,ROW(Lageromsætning!$A$3:$A$79)-CELL(\"row\",Lageromsætning!$A$3:$A$79)+1),ROWS($2:75))),\"\")","v":""},{"$f":"+_xlfn.IFS($M77>=0.01,$M77,TRUE,0)-$F77-K77+G77","v":0},{"$f":"SUMIFS('Lager antal'!$G$3:$G$2508,'Lager antal'!$B$3:$B$2508,B77,'Lager antal'!$C$3:$C$2508,C77)","v":0},null,0,{"$f":"SUMIFS(Lageromsætning!$R$3:$R$79,Lageromsætning!$A$3:$A$79,$A$2,Lageromsætning!$C$3:$C$79,B77,Lageromsætning!$D$3:$D$79,C77)","v":0},{"$f":"SUMIFS(Lageromsætning!$S$3:$S$79,Lageromsætning!$C$3:$C$79,B77,Lageromsætning!$D$3:$D$79,C77)","v":0}]
[{"$f":"IFERROR(INDEX(Lageromsætning!$A$3:$A$79,SMALL(IF(Lageromsætning!$A$3:$A$79=$A$2,ROW(Lageromsætning!$A$3:$A$79)-CELL(\"row\",Lageromsætning!$A$3:$A$79)+1),ROWS($1:75))),\"\")","v":""},{"$f":"IFERROR(INDEX(Lageromsætning!$C$3:$C$79,SMALL(IF(Lageromsætning!$A$3:$A$79=$A$2,ROW(Lageromsætning!$A$3:$A$79)-CELL(\"row\",Lageromsætning!$A$3:$A$79)+1),ROWS($2:76))),\"\")","v":""},{"$f":"IFERROR(INDEX(Lageromsætning!$D$3:$D$79,SMALL(IF(Lageromsætning!$A$3:$A$79=$A$2,ROW(Lageromsætning!$A$3:$A$79)-CELL(\"row\",Lageromsætning!$A$3:$A$79)+1),ROWS($2:76))),\"\")","v":""},{"$f":"IFERROR(INDEX(Lageromsætning!$E$3:$E$79,SMALL(IF(Lageromsætning!$A$3:$A$79=$A$2,ROW(Lageromsætning!$A$3:$A$79)-CELL(\"row\",Lageromsætning!$A$3:$A$79)+1),ROWS($2:76))),\"\")","v":""},{"$f":"IFERROR(INDEX(Lageromsætning!$AF$3:$AF$79,SMALL(IF(Lageromsætning!$A$3:$A$79=$A$2,ROW(Lageromsætning!$A$3:$A$79)-CELL(\"row\",Lageromsætning!$A$3:$A$79)+1),ROWS($2:76))),\"\")","v":""},{"$f":"SUMIFS('Lager antal'!$D$3:$D$2508,'Lager antal'!$B$3:$B$2508,B78,'Lager antal'!$C$3:$C$2508,C78)","v":0},{"$f":"SUMIFS('Lager antal'!$F$3:$F$2508,'Lager antal'!$B$3:$B$2508,B78,'Lager antal'!$C$3:$C$2508,C78)","v":0},{"$f":"IF(ISNA(VLOOKUP($C78,'Lager antal'!$C$3:$K$508,9,FALSE))=TRUE,\"\",VLOOKUP($C78,'Lager antal'!$C$3:$K$508,9,FALSE))","v":""},{"$f":"IFERROR(INDEX(Lageromsætning!$P$3:$P$79,SMALL(IF(Lageromsætning!$A$3:$A$79=$A$2,ROW(Lageromsætning!$A$3:$A$79)-CELL(\"row\",Lageromsætning!$A$3:$A$79)+1),ROWS($2:76))),\"\")","v":""},{"$f":"+_xlfn.IFS($M78>=0.01,$M78,TRUE,0)-$F78-K78+G78","v":0},{"$f":"SUMIFS('Lager antal'!$G$3:$G$2508,'Lager antal'!$B$3:$B$2508,B78,'Lager antal'!$C$3:$C$2508,C78)","v":0},null,0,{"$f":"SUMIFS(Lageromsætning!$R$3:$R$79,Lageromsætning!$A$3:$A$79,$A$2,Lageromsætning!$C$3:$C$79,B78,Lageromsætning!$D$3:$D$79,C78)","v":0},{"$f":"SUMIFS(Lageromsætning!$S$3:$S$79,Lageromsætning!$C$3:$C$79,B78,Lageromsætning!$D$3:$D$79,C78)","v":0}]
[{"$f":"IFERROR(INDEX(Lageromsætning!$A$3:$A$79,SMALL(IF(Lageromsætning!$A$3:$A$79=$A$2,ROW(Lageromsætning!$A$3:$A$79)-CELL(\"row\",Lageromsætning!$A$3:$A$79)+1),ROWS($1:76))),\"\")","v":""},{"$f":"IFERROR(INDEX(Lageromsætning!$C$3:$C$79,SMALL(IF(Lageromsætning!$A$3:$A$79=$A$2,ROW(Lageromsætning!$A$3:$A$79)-CELL(\"row\",Lageromsætning!$A$3:$A$79)+1),ROWS($2:77))),\"\")","v":""},{"$f":"IFERROR(INDEX(Lageromsætning!$D$3:$D$79,SMALL(IF(Lageromsætning!$A$3:$A$79=$A$2,ROW(Lageromsætning!$A$3:$A$79)-CELL(\"row\",Lageromsætning!$A$3:$A$79)+1),ROWS($2:77))),\"\")","v":""},{"$f":"IFERROR(INDEX(Lageromsætning!$E$3:$E$79,SMALL(IF(Lageromsætning!$A$3:$A$79=$A$2,ROW(Lageromsætning!$A$3:$A$79)-CELL(\"row\",Lageromsætning!$A$3:$A$79)+1),ROWS($2:77))),\"\")","v":""},{"$f":"IFERROR(INDEX(Lageromsætning!$AF$3:$AF$79,SMALL(IF(Lageromsætning!$A$3:$A$79=$A$2,ROW(Lageromsætning!$A$3:$A$79)-CELL(\"row\",Lageromsætning!$A$3:$A$79)+1),ROWS($2:77))),\"\")","v":""},{"$f":"SUMIFS('Lager antal'!$D$3:$D$2508,'Lager antal'!$B$3:$B$2508,B79,'Lager antal'!$C$3:$C$2508,C79)","v":0},{"$f":"SUMIFS('Lager antal'!$F$3:$F$2508,'Lager antal'!$B$3:$B$2508,B79,'Lager antal'!$C$3:$C$2508,C79)","v":0},{"$f":"IF(ISNA(VLOOKUP($C79,'Lager antal'!$C$3:$K$508,9,FALSE))=TRUE,\"\",VLOOKUP($C79,'Lager antal'!$C$3:$K$508,9,FALSE))","v":""},{"$f":"IFERROR(INDEX(Lageromsætning!$P$3:$P$79,SMALL(IF(Lageromsætning!$A$3:$A$79=$A$2,ROW(Lageromsætning!$A$3:$A$79)-CELL(\"row\",Lageromsætning!$A$3:$A$79)+1),ROWS($2:77))),\"\")","v":""},{"$f":"+_xlfn.IFS($M79>=0.01,$M79,TRUE,0)-$F79-K79+G79","v":0},{"$f":"SUMIFS('Lager antal'!$G$3:$G$2508,'Lager antal'!$B$3:$B$2508,B79,'Lager antal'!$C$3:$C$2508,C79)","v":0},null,0,{"$f":"SUMIFS(Lageromsætning!$R$3:$R$79,Lageromsætning!$A$3:$A$79,$A$2,Lageromsætning!$C$3:$C$79,B79,Lageromsætning!$D$3:$D$79,C79)","v":0},{"$f":"SUMIFS(Lageromsætning!$S$3:$S$79,Lageromsætning!$C$3:$C$79,B79,Lageromsætning!$D$3:$D$79,C79)","v":0}]
[{"$f":"IFERROR(INDEX(Lageromsætning!$A$3:$A$79,SMALL(IF(Lageromsætning!$A$3:$A$79=$A$2,ROW(Lageromsætning!$A$3:$A$79)-CELL(\"row\",Lageromsætning!$A$3:$A$79)+1),ROWS($1:77))),\"\")","v":""},{"$f":"IFERROR(INDEX(Lageromsætning!$C$3:$C$79,SMALL(IF(Lageromsætning!$A$3:$A$79=$A$2,ROW(Lageromsætning!$A$3:$A$79)-CELL(\"row\",Lageromsætning!$A$3:$A$79)+1),ROWS($2:78))),\"\")","v":""},{"$f":"IFERROR(INDEX(Lageromsætning!$D$3:$D$79,SMALL(IF(Lageromsætning!$A$3:$A$79=$A$2,ROW(Lageromsætning!$A$3:$A$79)-CELL(\"row\",Lageromsætning!$A$3:$A$79)+1),ROWS($2:78))),\"\")","v":""},{"$f":"IFERROR(INDEX(Lageromsætning!$E$3:$E$79,SMALL(IF(Lageromsætning!$A$3:$A$79=$A$2,ROW(Lageromsætning!$A$3:$A$79)-CELL(\"row\",Lageromsætning!$A$3:$A$79)+1),ROWS($2:78))),\"\")","v":""},{"$f":"IFERROR(INDEX(Lageromsætning!$AF$3:$AF$79,SMALL(IF(Lageromsætning!$A$3:$A$79=$A$2,ROW(Lageromsætning!$A$3:$A$79)-CELL(\"row\",Lageromsætning!$A$3:$A$79)+1),ROWS($2:78))),\"\")","v":""},{"$f":"SUMIFS('Lager antal'!$D$3:$D$2508,'Lager antal'!$B$3:$B$2508,B80,'Lager antal'!$C$3:$C$2508,C80)","v":0},{"$f":"SUMIFS('Lager antal'!$F$3:$F$2508,'Lager antal'!$B$3:$B$2508,B80,'Lager antal'!$C$3:$C$2508,C80)","v":0},{"$f":"IF(ISNA(VLOOKUP($C80,'Lager antal'!$C$3:$K$508,9,FALSE))=TRUE,\"\",VLOOKUP($C80,'Lager antal'!$C$3:$K$508,9,FALSE))","v":""},{"$f":"IFERROR(INDEX(Lageromsætning!$P$3:$P$79,SMALL(IF(Lageromsætning!$A$3:$A$79=$A$2,ROW(Lageromsætning!$A$3:$A$79)-CELL(\"row\",Lageromsætning!$A$3:$A$79)+1),ROWS($2:78))),\"\")","v":""},{"$f":"+_xlfn.IFS($M80>=0.01,$M80,TRUE,0)-$F80-K80+G80","v":0},{"$f":"SUMIFS('Lager antal'!$G$3:$G$2508,'Lager antal'!$B$3:$B$2508,B80,'Lager antal'!$C$3:$C$2508,C80)","v":0},null,0,{"$f":"SUMIFS(Lageromsætning!$R$3:$R$79,Lageromsætning!$A$3:$A$79,$A$2,Lageromsætning!$C$3:$C$79,B80,Lageromsætning!$D$3:$D$79,C80)","v":0},{"$f":"SUMIFS(Lageromsætning!$S$3:$S$79,Lageromsætning!$C$3:$C$79,B80,Lageromsætning!$D$3:$D$79,C80)","v":0}]
[{"$f":"IFERROR(INDEX(Lageromsætning!$A$3:$A$79,SMALL(IF(Lageromsætning!$A$3:$A$79=$A$2,ROW(Lageromsætning!$A$3:$A$79)-CELL(\"row\",Lageromsætning!$A$3:$A$79)+1),ROWS($1:78))),\"\")","v":""},{"$f":"IFERROR(INDEX(Lageromsætning!$C$3:$C$79,SMALL(IF(Lageromsætning!$A$3:$A$79=$A$2,ROW(Lageromsætning!$A$3:$A$79)-CELL(\"row\",Lageromsætning!$A$3:$A$79)+1),ROWS($2:79))),\"\")","v":""},{"$f":"IFERROR(INDEX(Lageromsætning!$D$3:$D$79,SMALL(IF(Lageromsætning!$A$3:$A$79=$A$2,ROW(Lageromsætning!$A$3:$A$79)-CELL(\"row\",Lageromsætning!$A$3:$A$79)+1),ROWS($2:79))),\"\")","v":""},{"$f":"IFERROR(INDEX(Lageromsætning!$E$3:$E$79,SMALL(IF(Lageromsætning!$A$3:$A$79=$A$2,ROW(Lageromsætning!$A$3:$A$79)-CELL(\"row\",Lageromsætning!$A$3:$A$79)+1),ROWS($2:79))),\"\")","v":""},{"$f":"IFERROR(INDEX(Lageromsætning!$AF$3:$AF$79,SMALL(IF(Lageromsætning!$A$3:$A$79=$A$2,ROW(Lageromsætning!$A$3:$A$79)-CELL(\"row\",Lageromsætning!$A$3:$A$79)+1),ROWS($2:79))),\"\")","v":""},{"$f":"SUMIFS('Lager antal'!$D$3:$D$2508,'Lager antal'!$B$3:$B$2508,B81,'Lager antal'!$C$3:$C$2508,C81)","v":0},{"$f":"SUMIFS('Lager antal'!$F$3:$F$2508,'Lager antal'!$B$3:$B$2508,B81,'Lager antal'!$C$3:$C$2508,C81)","v":0},{"$f":"IF(ISNA(VLOOKUP($C81,'Lager antal'!$C$3:$K$508,9,FALSE))=TRUE,\"\",VLOOKUP($C81,'Lager antal'!$C$3:$K$508,9,FALSE))","v":""},{"$f":"IFERROR(INDEX(Lageromsætning!$P$3:$P$79,SMALL(IF(Lageromsætning!$A$3:$A$79=$A$2,ROW(Lageromsætning!$A$3:$A$79)-CELL(\"row\",Lageromsætning!$A$3:$A$79)+1),ROWS($2:79))),\"\")","v":""},{"$f":"+_xlfn.IFS($M81>=0.01,$M81,TRUE,0)-$F81-K81+G81","v":0},{"$f":"SUMIFS('Lager antal'!$G$3:$G$2508,'Lager antal'!$B$3:$B$2508,B81,'Lager antal'!$C$3:$C$2508,C81)","v":0},null,0,{"$f":"SUMIFS(Lageromsætning!$R$3:$R$79,Lageromsætning!$A$3:$A$79,$A$2,Lageromsætning!$C$3:$C$79,B81,Lageromsætning!$D$3:$D$79,C81)","v":0},{"$f":"SUMIFS(Lageromsætning!$S$3:$S$79,Lageromsætning!$C$3:$C$79,B81,Lageromsætning!$D$3:$D$79,C81)","v":0}]
[{"$f":"IFERROR(INDEX(Lageromsætning!$A$3:$A$79,SMALL(IF(Lageromsætning!$A$3:$A$79=$A$2,ROW(Lageromsætning!$A$3:$A$79)-CELL(\"row\",Lageromsætning!$A$3:$A$79)+1),ROWS($1:79))),\"\")","v":""},{"$f":"IFERROR(INDEX(Lageromsætning!$C$3:$C$79,SMALL(IF(Lageromsætning!$A$3:$A$79=$A$2,ROW(Lageromsætning!$A$3:$A$79)-CELL(\"row\",Lageromsætning!$A$3:$A$79)+1),ROWS($2:80))),\"\")","v":""},{"$f":"IFERROR(INDEX(Lageromsætning!$D$3:$D$79,SMALL(IF(Lageromsætning!$A$3:$A$79=$A$2,ROW(Lageromsætning!$A$3:$A$79)-CELL(\"row\",Lageromsætning!$A$3:$A$79)+1),ROWS($2:80))),\"\")","v":""},{"$f":"IFERROR(INDEX(Lageromsætning!$E$3:$E$79,SMALL(IF(Lageromsætning!$A$3:$A$79=$A$2,ROW(Lageromsætning!$A$3:$A$79)-CELL(\"row\",Lageromsætning!$A$3:$A$79)+1),ROWS($2:80))),\"\")","v":""},{"$f":"IFERROR(INDEX(Lageromsætning!$AF$3:$AF$79,SMALL(IF(Lageromsætning!$A$3:$A$79=$A$2,ROW(Lageromsætning!$A$3:$A$79)-CELL(\"row\",Lageromsætning!$A$3:$A$79)+1),ROWS($2:80))),\"\")","v":""},{"$f":"SUMIFS('Lager antal'!$D$3:$D$2508,'Lager antal'!$B$3:$B$2508,B82,'Lager antal'!$C$3:$C$2508,C82)","v":0},{"$f":"SUMIFS('Lager antal'!$F$3:$F$2508,'Lager antal'!$B$3:$B$2508,B82,'Lager antal'!$C$3:$C$2508,C82)","v":0},{"$f":"IF(ISNA(VLOOKUP($C82,'Lager antal'!$C$3:$K$508,9,FALSE))=TRUE,\"\",VLOOKUP($C82,'Lager antal'!$C$3:$K$508,9,FALSE))","v":""},{"$f":"IFERROR(INDEX(Lageromsætning!$P$3:$P$79,SMALL(IF(Lageromsætning!$A$3:$A$79=$A$2,ROW(Lageromsætning!$A$3:$A$79)-CELL(\"row\",Lageromsætning!$A$3:$A$79)+1),ROWS($2:80))),\"\")","v":""},{"$f":"+_xlfn.IFS($M82>=0.01,$M82,TRUE,0)-$F82-K82+G82","v":0},{"$f":"SUMIFS('Lager antal'!$G$3:$G$2508,'Lager antal'!$B$3:$B$2508,B82,'Lager antal'!$C$3:$C$2508,C82)","v":0},null,0,{"$f":"SUMIFS(Lageromsætning!$R$3:$R$79,Lageromsætning!$A$3:$A$79,$A$2,Lageromsætning!$C$3:$C$79,B82,Lageromsætning!$D$3:$D$79,C82)","v":0},{"$f":"SUMIFS(Lageromsætning!$S$3:$S$79,Lageromsætning!$C$3:$C$79,B82,Lageromsætning!$D$3:$D$79,C82)","v":0}]
[{"$f":"IFERROR(INDEX(Lageromsætning!$A$3:$A$79,SMALL(IF(Lageromsætning!$A$3:$A$79=$A$2,ROW(Lageromsætning!$A$3:$A$79)-CELL(\"row\",Lageromsætning!$A$3:$A$79)+1),ROWS($1:80))),\"\")","v":""},{"$f":"IFERROR(INDEX(Lageromsætning!$C$3:$C$79,SMALL(IF(Lageromsætning!$A$3:$A$79=$A$2,ROW(Lageromsætning!$A$3:$A$79)-CELL(\"row\",Lageromsætning!$A$3:$A$79)+1),ROWS($2:81))),\"\")","v":""},{"$f":"IFERROR(INDEX(Lageromsætning!$D$3:$D$79,SMALL(IF(Lageromsætning!$A$3:$A$79=$A$2,ROW(Lageromsætning!$A$3:$A$79)-CELL(\"row\",Lageromsætning!$A$3:$A$79)+1),ROWS($2:81))),\"\")","v":""},{"$f":"IFERROR(INDEX(Lageromsætning!$E$3:$E$79,SMALL(IF(Lageromsætning!$A$3:$A$79=$A$2,ROW(Lageromsætning!$A$3:$A$79)-CELL(\"row\",Lageromsætning!$A$3:$A$79)+1),ROWS($2:81))),\"\")","v":""},{"$f":"IFERROR(INDEX(Lageromsætning!$AF$3:$AF$79,SMALL(IF(Lageromsætning!$A$3:$A$79=$A$2,ROW(Lageromsætning!$A$3:$A$79)-CELL(\"row\",Lageromsætning!$A$3:$A$79)+1),ROWS($2:81))),\"\")","v":""},{"$f":"SUMIFS('Lager antal'!$D$3:$D$2508,'Lager antal'!$B$3:$B$2508,B83,'Lager antal'!$C$3:$C$2508,C83)","v":0},{"$f":"SUMIFS('Lager antal'!$F$3:$F$2508,'Lager antal'!$B$3:$B$2508,B83,'Lager antal'!$C$3:$C$2508,C83)","v":0},{"$f":"IF(ISNA(VLOOKUP($C83,'Lager antal'!$C$3:$K$508,9,FALSE))=TRUE,\"\",VLOOKUP($C83,'Lager antal'!$C$3:$K$508,9,FALSE))","v":""},{"$f":"IFERROR(INDEX(Lageromsætning!$P$3:$P$79,SMALL(IF(Lageromsætning!$A$3:$A$79=$A$2,ROW(Lageromsætning!$A$3:$A$79)-CELL(\"row\",Lageromsætning!$A$3:$A$79)+1),ROWS($2:81))),\"\")","v":""},{"$f":"+_xlfn.IFS($M83>=0.01,$M83,TRUE,0)-$F83-K83+G83","v":0},{"$f":"SUMIFS('Lager antal'!$G$3:$G$2508,'Lager antal'!$B$3:$B$2508,B83,'Lager antal'!$C$3:$C$2508,C83)","v":0},null,0,{"$f":"SUMIFS(Lageromsætning!$R$3:$R$79,Lageromsætning!$A$3:$A$79,$A$2,Lageromsætning!$C$3:$C$79,B83,Lageromsætning!$D$3:$D$79,C83)","v":0},{"$f":"SUMIFS(Lageromsætning!$S$3:$S$79,Lageromsætning!$C$3:$C$79,B83,Lageromsætning!$D$3:$D$79,C83)","v":0}]
[{"$f":"IFERROR(INDEX(Lageromsætning!$A$3:$A$79,SMALL(IF(Lageromsætning!$A$3:$A$79=$A$2,ROW(Lageromsætning!$A$3:$A$79)-CELL(\"row\",Lageromsætning!$A$3:$A$79)+1),ROWS($1:81))),\"\")","v":""},{"$f":"IFERROR(INDEX(Lageromsætning!$C$3:$C$79,SMALL(IF(Lageromsætning!$A$3:$A$79=$A$2,ROW(Lageromsætning!$A$3:$A$79)-CELL(\"row\",Lageromsætning!$A$3:$A$79)+1),ROWS($2:82))),\"\")","v":""},{"$f":"IFERROR(INDEX(Lageromsætning!$D$3:$D$79,SMALL(IF(Lageromsætning!$A$3:$A$79=$A$2,ROW(Lageromsætning!$A$3:$A$79)-CELL(\"row\",Lageromsætning!$A$3:$A$79)+1),ROWS($2:82))),\"\")","v":""},{"$f":"IFERROR(INDEX(Lageromsætning!$E$3:$E$79,SMALL(IF(Lageromsætning!$A$3:$A$79=$A$2,ROW(Lageromsætning!$A$3:$A$79)-CELL(\"row\",Lageromsætning!$A$3:$A$79)+1),ROWS($2:82))),\"\")","v":""},{"$f":"IFERROR(INDEX(Lageromsætning!$AF$3:$AF$79,SMALL(IF(Lageromsætning!$A$3:$A$79=$A$2,ROW(Lageromsætning!$A$3:$A$79)-CELL(\"row\",Lageromsætning!$A$3:$A$79)+1),ROWS($2:82))),\"\")","v":""},{"$f":"SUMIFS('Lager antal'!$D$3:$D$2508,'Lager antal'!$B$3:$B$2508,B84,'Lager antal'!$C$3:$C$2508,C84)","v":0},{"$f":"SUMIFS('Lager antal'!$F$3:$F$2508,'Lager antal'!$B$3:$B$2508,B84,'Lager antal'!$C$3:$C$2508,C84)","v":0},{"$f":"IF(ISNA(VLOOKUP($C84,'Lager antal'!$C$3:$K$508,9,FALSE))=TRUE,\"\",VLOOKUP($C84,'Lager antal'!$C$3:$K$508,9,FALSE))","v":""},{"$f":"IFERROR(INDEX(Lageromsætning!$P$3:$P$79,SMALL(IF(Lageromsætning!$A$3:$A$79=$A$2,ROW(Lageromsætning!$A$3:$A$79)-CELL(\"row\",Lageromsætning!$A$3:$A$79)+1),ROWS($2:82))),\"\")","v":""},{"$f":"+_xlfn.IFS($M84>=0.01,$M84,TRUE,0)-$F84-K84+G84","v":0},{"$f":"SUMIFS('Lager antal'!$G$3:$G$2508,'Lager antal'!$B$3:$B$2508,B84,'Lager antal'!$C$3:$C$2508,C84)","v":0},null,0,{"$f":"SUMIFS(Lageromsætning!$R$3:$R$79,Lageromsætning!$A$3:$A$79,$A$2,Lageromsætning!$C$3:$C$79,B84,Lageromsætning!$D$3:$D$79,C84)","v":0},{"$f":"SUMIFS(Lageromsætning!$S$3:$S$79,Lageromsætning!$C$3:$C$79,B84,Lageromsætning!$D$3:$D$79,C84)","v":0}]
[{"$f":"IFERROR(INDEX(Lageromsætning!$A$3:$A$79,SMALL(IF(Lageromsætning!$A$3:$A$79=$A$2,ROW(Lageromsætning!$A$3:$A$79)-CELL(\"row\",Lageromsætning!$A$3:$A$79)+1),ROWS($1:82))),\"\")","v":""},{"$f":"IFERROR(INDEX(Lageromsætning!$C$3:$C$79,SMALL(IF(Lageromsætning!$A$3:$A$79=$A$2,ROW(Lageromsætning!$A$3:$A$79)-CELL(\"row\",Lageromsætning!$A$3:$A$79)+1),ROWS($2:83))),\"\")","v":""},{"$f":"IFERROR(INDEX(Lageromsætning!$D$3:$D$79,SMALL(IF(Lageromsætning!$A$3:$A$79=$A$2,ROW(Lageromsætning!$A$3:$A$79)-CELL(\"row\",Lageromsætning!$A$3:$A$79)+1),ROWS($2:83))),\"\")","v":""},{"$f":"IFERROR(INDEX(Lageromsætning!$E$3:$E$79,SMALL(IF(Lageromsætning!$A$3:$A$79=$A$2,ROW(Lageromsætning!$A$3:$A$79)-CELL(\"row\",Lageromsætning!$A$3:$A$79)+1),ROWS($2:83))),\"\")","v":""},{"$f":"IFERROR(INDEX(Lageromsætning!$AF$3:$AF$79,SMALL(IF(Lageromsætning!$A$3:$A$79=$A$2,ROW(Lageromsætning!$A$3:$A$79)-CELL(\"row\",Lageromsætning!$A$3:$A$79)+1),ROWS($2:83))),\"\")","v":""},{"$f":"SUMIFS('Lager antal'!$D$3:$D$2508,'Lager antal'!$B$3:$B$2508,B85,'Lager antal'!$C$3:$C$2508,C85)","v":0},{"$f":"SUMIFS('Lager antal'!$F$3:$F$2508,'Lager antal'!$B$3:$B$2508,B85,'Lager antal'!$C$3:$C$2508,C85)","v":0},{"$f":"IF(ISNA(VLOOKUP($C85,'Lager antal'!$C$3:$K$508,9,FALSE))=TRUE,\"\",VLOOKUP($C85,'Lager antal'!$C$3:$K$508,9,FALSE))","v":""},{"$f":"IFERROR(INDEX(Lageromsætning!$P$3:$P$79,SMALL(IF(Lageromsætning!$A$3:$A$79=$A$2,ROW(Lageromsætning!$A$3:$A$79)-CELL(\"row\",Lageromsætning!$A$3:$A$79)+1),ROWS($2:83))),\"\")","v":""},{"$f":"+_xlfn.IFS($M85>=0.01,$M85,TRUE,0)-$F85-K85+G85","v":0},{"$f":"SUMIFS('Lager antal'!$G$3:$G$2508,'Lager antal'!$B$3:$B$2508,B85,'Lager antal'!$C$3:$C$2508,C85)","v":0},null,0,{"$f":"SUMIFS(Lageromsætning!$R$3:$R$79,Lageromsætning!$A$3:$A$79,$A$2,Lageromsætning!$C$3:$C$79,B85,Lageromsætning!$D$3:$D$79,C85)","v":0},{"$f":"SUMIFS(Lageromsætning!$S$3:$S$79,Lageromsætning!$C$3:$C$79,B85,Lageromsætning!$D$3:$D$79,C85)","v":0}]
[{"$f":"IFERROR(INDEX(Lageromsætning!$A$3:$A$79,SMALL(IF(Lageromsætning!$A$3:$A$79=$A$2,ROW(Lageromsætning!$A$3:$A$79)-CELL(\"row\",Lageromsætning!$A$3:$A$79)+1),ROWS($1:83))),\"\")","v":""},{"$f":"IFERROR(INDEX(Lageromsætning!$C$3:$C$79,SMALL(IF(Lageromsætning!$A$3:$A$79=$A$2,ROW(Lageromsætning!$A$3:$A$79)-CELL(\"row\",Lageromsætning!$A$3:$A$79)+1),ROWS($2:84))),\"\")","v":""},{"$f":"IFERROR(INDEX(Lageromsætning!$D$3:$D$79,SMALL(IF(Lageromsætning!$A$3:$A$79=$A$2,ROW(Lageromsætning!$A$3:$A$79)-CELL(\"row\",Lageromsætning!$A$3:$A$79)+1),ROWS($2:84))),\"\")","v":""},{"$f":"IFERROR(INDEX(Lageromsætning!$E$3:$E$79,SMALL(IF(Lageromsætning!$A$3:$A$79=$A$2,ROW(Lageromsætning!$A$3:$A$79)-CELL(\"row\",Lageromsætning!$A$3:$A$79)+1),ROWS($2:84))),\"\")","v":""},{"$f":"IFERROR(INDEX(Lageromsætning!$AF$3:$AF$79,SMALL(IF(Lageromsætning!$A$3:$A$79=$A$2,ROW(Lageromsætning!$A$3:$A$79)-CELL(\"row\",Lageromsætning!$A$3:$A$79)+1),ROWS($2:84))),\"\")","v":""},{"$f":"SUMIFS('Lager antal'!$D$3:$D$2508,'Lager antal'!$B$3:$B$2508,B86,'Lager antal'!$C$3:$C$2508,C86)","v":0},{"$f":"SUMIFS('Lager antal'!$F$3:$F$2508,'Lager antal'!$B$3:$B$2508,B86,'Lager antal'!$C$3:$C$2508,C86)","v":0},{"$f":"IF(ISNA(VLOOKUP($C86,'Lager antal'!$C$3:$K$508,9,FALSE))=TRUE,\"\",VLOOKUP($C86,'Lager antal'!$C$3:$K$508,9,FALSE))","v":""},{"$f":"IFERROR(INDEX(Lageromsætning!$P$3:$P$79,SMALL(IF(Lageromsætning!$A$3:$A$79=$A$2,ROW(Lageromsætning!$A$3:$A$79)-CELL(\"row\",Lageromsætning!$A$3:$A$79)+1),ROWS($2:84))),\"\")","v":""},{"$f":"+_xlfn.IFS($M86>=0.01,$M86,TRUE,0)-$F86-K86+G86","v":0},{"$f":"SUMIFS('Lager antal'!$G$3:$G$2508,'Lager antal'!$B$3:$B$2508,B86,'Lager antal'!$C$3:$C$2508,C86)","v":0},null,0,{"$f":"SUMIFS(Lageromsætning!$R$3:$R$79,Lageromsætning!$A$3:$A$79,$A$2,Lageromsætning!$C$3:$C$79,B86,Lageromsætning!$D$3:$D$79,C86)","v":0},{"$f":"SUMIFS(Lageromsætning!$S$3:$S$79,Lageromsætning!$C$3:$C$79,B86,Lageromsætning!$D$3:$D$79,C86)","v":0}]
[{"$f":"IFERROR(INDEX(Lageromsætning!$A$3:$A$79,SMALL(IF(Lageromsætning!$A$3:$A$79=$A$2,ROW(Lageromsætning!$A$3:$A$79)-CELL(\"row\",Lageromsætning!$A$3:$A$79)+1),ROWS($1:84))),\"\")","v":""},{"$f":"IFERROR(INDEX(Lageromsætning!$C$3:$C$79,SMALL(IF(Lageromsætning!$A$3:$A$79=$A$2,ROW(Lageromsætning!$A$3:$A$79)-CELL(\"row\",Lageromsætning!$A$3:$A$79)+1),ROWS($2:85))),\"\")","v":""},{"$f":"IFERROR(INDEX(Lageromsætning!$D$3:$D$79,SMALL(IF(Lageromsætning!$A$3:$A$79=$A$2,ROW(Lageromsætning!$A$3:$A$79)-CELL(\"row\",Lageromsætning!$A$3:$A$79)+1),ROWS($2:85))),\"\")","v":""},{"$f":"IFERROR(INDEX(Lageromsætning!$E$3:$E$79,SMALL(IF(Lageromsætning!$A$3:$A$79=$A$2,ROW(Lageromsætning!$A$3:$A$79)-CELL(\"row\",Lageromsætning!$A$3:$A$79)+1),ROWS($2:85))),\"\")","v":""},{"$f":"IFERROR(INDEX(Lageromsætning!$AF$3:$AF$79,SMALL(IF(Lageromsætning!$A$3:$A$79=$A$2,ROW(Lageromsætning!$A$3:$A$79)-CELL(\"row\",Lageromsætning!$A$3:$A$79)+1),ROWS($2:85))),\"\")","v":""},{"$f":"SUMIFS('Lager antal'!$D$3:$D$2508,'Lager antal'!$B$3:$B$2508,B87,'Lager antal'!$C$3:$C$2508,C87)","v":0},{"$f":"SUMIFS('Lager antal'!$F$3:$F$2508,'Lager antal'!$B$3:$B$2508,B87,'Lager antal'!$C$3:$C$2508,C87)","v":0},{"$f":"IF(ISNA(VLOOKUP($C87,'Lager antal'!$C$3:$K$508,9,FALSE))=TRUE,\"\",VLOOKUP($C87,'Lager antal'!$C$3:$K$508,9,FALSE))","v":""},{"$f":"IFERROR(INDEX(Lageromsætning!$P$3:$P$79,SMALL(IF(Lageromsætning!$A$3:$A$79=$A$2,ROW(Lageromsætning!$A$3:$A$79)-CELL(\"row\",Lageromsætning!$A$3:$A$79)+1),ROWS($2:85))),\"\")","v":""},{"$f":"+_xlfn.IFS($M87>=0.01,$M87,TRUE,0)-$F87-K87+G87","v":0},{"$f":"SUMIFS('Lager antal'!$G$3:$G$2508,'Lager antal'!$B$3:$B$2508,B87,'Lager antal'!$C$3:$C$2508,C87)","v":0},null,0,{"$f":"SUMIFS(Lageromsætning!$R$3:$R$79,Lageromsætning!$A$3:$A$79,$A$2,Lageromsætning!$C$3:$C$79,B87,Lageromsætning!$D$3:$D$79,C87)","v":0},{"$f":"SUMIFS(Lageromsætning!$S$3:$S$79,Lageromsætning!$C$3:$C$79,B87,Lageromsætning!$D$3:$D$79,C87)","v":0}]
[{"$f":"IFERROR(INDEX(Lageromsætning!$A$3:$A$79,SMALL(IF(Lageromsætning!$A$3:$A$79=$A$2,ROW(Lageromsætning!$A$3:$A$79)-CELL(\"row\",Lageromsætning!$A$3:$A$79)+1),ROWS($1:85))),\"\")","v":""},{"$f":"IFERROR(INDEX(Lageromsætning!$C$3:$C$79,SMALL(IF(Lageromsætning!$A$3:$A$79=$A$2,ROW(Lageromsætning!$A$3:$A$79)-CELL(\"row\",Lageromsætning!$A$3:$A$79)+1),ROWS($2:86))),\"\")","v":""},{"$f":"IFERROR(INDEX(Lageromsætning!$D$3:$D$79,SMALL(IF(Lageromsætning!$A$3:$A$79=$A$2,ROW(Lageromsætning!$A$3:$A$79)-CELL(\"row\",Lageromsætning!$A$3:$A$79)+1),ROWS($2:86))),\"\")","v":""},{"$f":"IFERROR(INDEX(Lageromsætning!$E$3:$E$79,SMALL(IF(Lageromsætning!$A$3:$A$79=$A$2,ROW(Lageromsætning!$A$3:$A$79)-CELL(\"row\",Lageromsætning!$A$3:$A$79)+1),ROWS($2:86))),\"\")","v":""},{"$f":"IFERROR(INDEX(Lageromsætning!$AF$3:$AF$79,SMALL(IF(Lageromsætning!$A$3:$A$79=$A$2,ROW(Lageromsætning!$A$3:$A$79)-CELL(\"row\",Lageromsætning!$A$3:$A$79)+1),ROWS($2:86))),\"\")","v":""},{"$f":"SUMIFS('Lager antal'!$D$3:$D$2508,'Lager antal'!$B$3:$B$2508,B88,'Lager antal'!$C$3:$C$2508,C88)","v":0},{"$f":"SUMIFS('Lager antal'!$F$3:$F$2508,'Lager antal'!$B$3:$B$2508,B88,'Lager antal'!$C$3:$C$2508,C88)","v":0},{"$f":"IF(ISNA(VLOOKUP($C88,'Lager antal'!$C$3:$K$508,9,FALSE))=TRUE,\"\",VLOOKUP($C88,'Lager antal'!$C$3:$K$508,9,FALSE))","v":""},{"$f":"IFERROR(INDEX(Lageromsætning!$P$3:$P$79,SMALL(IF(Lageromsætning!$A$3:$A$79=$A$2,ROW(Lageromsætning!$A$3:$A$79)-CELL(\"row\",Lageromsætning!$A$3:$A$79)+1),ROWS($2:86))),\"\")","v":""},{"$f":"+_xlfn.IFS($M88>=0.01,$M88,TRUE,0)-$F88-K88+G88","v":0},{"$f":"SUMIFS('Lager antal'!$G$3:$G$2508,'Lager antal'!$B$3:$B$2508,B88,'Lager antal'!$C$3:$C$2508,C88)","v":0},null,0,{"$f":"SUMIFS(Lageromsætning!$R$3:$R$79,Lageromsætning!$A$3:$A$79,$A$2,Lageromsætning!$C$3:$C$79,B88,Lageromsætning!$D$3:$D$79,C88)","v":0},{"$f":"SUMIFS(Lageromsætning!$S$3:$S$79,Lageromsætning!$C$3:$C$79,B88,Lageromsætning!$D$3:$D$79,C88)","v":0}]
[{"$f":"IFERROR(INDEX(Lageromsætning!$A$3:$A$79,SMALL(IF(Lageromsætning!$A$3:$A$79=$A$2,ROW(Lageromsætning!$A$3:$A$79)-CELL(\"row\",Lageromsætning!$A$3:$A$79)+1),ROWS($1:86))),\"\")","v":""},{"$f":"IFERROR(INDEX(Lageromsætning!$C$3:$C$79,SMALL(IF(Lageromsætning!$A$3:$A$79=$A$2,ROW(Lageromsætning!$A$3:$A$79)-CELL(\"row\",Lageromsætning!$A$3:$A$79)+1),ROWS($2:87))),\"\")","v":""},{"$f":"IFERROR(INDEX(Lageromsætning!$D$3:$D$79,SMALL(IF(Lageromsætning!$A$3:$A$79=$A$2,ROW(Lageromsætning!$A$3:$A$79)-CELL(\"row\",Lageromsætning!$A$3:$A$79)+1),ROWS($2:87))),\"\")","v":""},{"$f":"IFERROR(INDEX(Lageromsætning!$E$3:$E$79,SMALL(IF(Lageromsætning!$A$3:$A$79=$A$2,ROW(Lageromsætning!$A$3:$A$79)-CELL(\"row\",Lageromsætning!$A$3:$A$79)+1),ROWS($2:87))),\"\")","v":""},{"$f":"IFERROR(INDEX(Lageromsætning!$AF$3:$AF$79,SMALL(IF(Lageromsætning!$A$3:$A$79=$A$2,ROW(Lageromsætning!$A$3:$A$79)-CELL(\"row\",Lageromsætning!$A$3:$A$79)+1),ROWS($2:87))),\"\")","v":""},{"$f":"SUMIFS('Lager antal'!$D$3:$D$2508,'Lager antal'!$B$3:$B$2508,B89,'Lager antal'!$C$3:$C$2508,C89)","v":0},{"$f":"SUMIFS('Lager antal'!$F$3:$F$2508,'Lager antal'!$B$3:$B$2508,B89,'Lager antal'!$C$3:$C$2508,C89)","v":0},{"$f":"IF(ISNA(VLOOKUP($C89,'Lager antal'!$C$3:$K$508,9,FALSE))=TRUE,\"\",VLOOKUP($C89,'Lager antal'!$C$3:$K$508,9,FALSE))","v":""},{"$f":"IFERROR(INDEX(Lageromsætning!$P$3:$P$79,SMALL(IF(Lageromsætning!$A$3:$A$79=$A$2,ROW(Lageromsætning!$A$3:$A$79)-CELL(\"row\",Lageromsætning!$A$3:$A$79)+1),ROWS($2:87))),\"\")","v":""},{"$f":"+_xlfn.IFS($M89>=0.01,$M89,TRUE,0)-$F89-K89+G89","v":0},{"$f":"SUMIFS('Lager antal'!$G$3:$G$2508,'Lager antal'!$B$3:$B$2508,B89,'Lager antal'!$C$3:$C$2508,C89)","v":0},null,0,{"$f":"SUMIFS(Lageromsætning!$R$3:$R$79,Lageromsætning!$A$3:$A$79,$A$2,Lageromsætning!$C$3:$C$79,B89,Lageromsætning!$D$3:$D$79,C89)","v":0},{"$f":"SUMIFS(Lageromsætning!$S$3:$S$79,Lageromsætning!$C$3:$C$79,B89,Lageromsætning!$D$3:$D$79,C89)","v":0}]
[{"$f":"IFERROR(INDEX(Lageromsætning!$A$3:$A$79,SMALL(IF(Lageromsætning!$A$3:$A$79=$A$2,ROW(Lageromsætning!$A$3:$A$79)-CELL(\"row\",Lageromsætning!$A$3:$A$79)+1),ROWS($1:87))),\"\")","v":""},{"$f":"IFERROR(INDEX(Lageromsætning!$C$3:$C$79,SMALL(IF(Lageromsætning!$A$3:$A$79=$A$2,ROW(Lageromsætning!$A$3:$A$79)-CELL(\"row\",Lageromsætning!$A$3:$A$79)+1),ROWS($2:88))),\"\")","v":""},{"$f":"IFERROR(INDEX(Lageromsætning!$D$3:$D$79,SMALL(IF(Lageromsætning!$A$3:$A$79=$A$2,ROW(Lageromsætning!$A$3:$A$79)-CELL(\"row\",Lageromsætning!$A$3:$A$79)+1),ROWS($2:88))),\"\")","v":""},{"$f":"IFERROR(INDEX(Lageromsætning!$E$3:$E$79,SMALL(IF(Lageromsætning!$A$3:$A$79=$A$2,ROW(Lageromsætning!$A$3:$A$79)-CELL(\"row\",Lageromsætning!$A$3:$A$79)+1),ROWS($2:88))),\"\")","v":""},{"$f":"IFERROR(INDEX(Lageromsætning!$AF$3:$AF$79,SMALL(IF(Lageromsætning!$A$3:$A$79=$A$2,ROW(Lageromsætning!$A$3:$A$79)-CELL(\"row\",Lageromsætning!$A$3:$A$79)+1),ROWS($2:88))),\"\")","v":""},{"$f":"SUMIFS('Lager antal'!$D$3:$D$2508,'Lager antal'!$B$3:$B$2508,B90,'Lager antal'!$C$3:$C$2508,C90)","v":0},{"$f":"SUMIFS('Lager antal'!$F$3:$F$2508,'Lager antal'!$B$3:$B$2508,B90,'Lager antal'!$C$3:$C$2508,C90)","v":0},{"$f":"IF(ISNA(VLOOKUP($C90,'Lager antal'!$C$3:$K$508,9,FALSE))=TRUE,\"\",VLOOKUP($C90,'Lager antal'!$C$3:$K$508,9,FALSE))","v":""},{"$f":"IFERROR(INDEX(Lageromsætning!$P$3:$P$79,SMALL(IF(Lageromsætning!$A$3:$A$79=$A$2,ROW(Lageromsætning!$A$3:$A$79)-CELL(\"row\",Lageromsætning!$A$3:$A$79)+1),ROWS($2:88))),\"\")","v":""},{"$f":"+_xlfn.IFS($M90>=0.01,$M90,TRUE,0)-$F90-K90+G90","v":0},{"$f":"SUMIFS('Lager antal'!$G$3:$G$2508,'Lager antal'!$B$3:$B$2508,B90,'Lager antal'!$C$3:$C$2508,C90)","v":0},null,0,{"$f":"SUMIFS(Lageromsætning!$R$3:$R$79,Lageromsætning!$A$3:$A$79,$A$2,Lageromsætning!$C$3:$C$79,B90,Lageromsætning!$D$3:$D$79,C90)","v":0},{"$f":"SUMIFS(Lageromsætning!$S$3:$S$79,Lageromsætning!$C$3:$C$79,B90,Lageromsætning!$D$3:$D$79,C90)","v":0}]
[{"$f":"IFERROR(INDEX(Lageromsætning!$A$3:$A$79,SMALL(IF(Lageromsætning!$A$3:$A$79=$A$2,ROW(Lageromsætning!$A$3:$A$79)-CELL(\"row\",Lageromsætning!$A$3:$A$79)+1),ROWS($1:88))),\"\")","v":""},{"$f":"IFERROR(INDEX(Lageromsætning!$C$3:$C$79,SMALL(IF(Lageromsætning!$A$3:$A$79=$A$2,ROW(Lageromsætning!$A$3:$A$79)-CELL(\"row\",Lageromsætning!$A$3:$A$79)+1),ROWS($2:89))),\"\")","v":""},{"$f":"IFERROR(INDEX(Lageromsætning!$D$3:$D$79,SMALL(IF(Lageromsætning!$A$3:$A$79=$A$2,ROW(Lageromsætning!$A$3:$A$79)-CELL(\"row\",Lageromsætning!$A$3:$A$79)+1),ROWS($2:89))),\"\")","v":""},{"$f":"IFERROR(INDEX(Lageromsætning!$E$3:$E$79,SMALL(IF(Lageromsætning!$A$3:$A$79=$A$2,ROW(Lageromsætning!$A$3:$A$79)-CELL(\"row\",Lageromsætning!$A$3:$A$79)+1),ROWS($2:89))),\"\")","v":""},{"$f":"IFERROR(INDEX(Lageromsætning!$AF$3:$AF$79,SMALL(IF(Lageromsætning!$A$3:$A$79=$A$2,ROW(Lageromsætning!$A$3:$A$79)-CELL(\"row\",Lageromsætning!$A$3:$A$79)+1),ROWS($2:89))),\"\")","v":""},{"$f":"SUMIFS('Lager antal'!$D$3:$D$2508,'Lager antal'!$B$3:$B$2508,B91,'Lager antal'!$C$3:$C$2508,C91)","v":0},{"$f":"SUMIFS('Lager antal'!$F$3:$F$2508,'Lager antal'!$B$3:$B$2508,B91,'Lager antal'!$C$3:$C$2508,C91)","v":0},{"$f":"IF(ISNA(VLOOKUP($C91,'Lager antal'!$C$3:$K$508,9,FALSE))=TRUE,\"\",VLOOKUP($C91,'Lager antal'!$C$3:$K$508,9,FALSE))","v":""},{"$f":"IFERROR(INDEX(Lageromsætning!$P$3:$P$79,SMALL(IF(Lageromsætning!$A$3:$A$79=$A$2,ROW(Lageromsætning!$A$3:$A$79)-CELL(\"row\",Lageromsætning!$A$3:$A$79)+1),ROWS($2:89))),\"\")","v":""},{"$f":"+_xlfn.IFS($M91>=0.01,$M91,TRUE,0)-$F91-K91+G91","v":0},{"$f":"SUMIFS('Lager antal'!$G$3:$G$2508,'Lager antal'!$B$3:$B$2508,B91,'Lager antal'!$C$3:$C$2508,C91)","v":0},null,0,{"$f":"SUMIFS(Lageromsætning!$R$3:$R$79,Lageromsætning!$A$3:$A$79,$A$2,Lageromsætning!$C$3:$C$79,B91,Lageromsætning!$D$3:$D$79,C91)","v":0},{"$f":"SUMIFS(Lageromsætning!$S$3:$S$79,Lageromsætning!$C$3:$C$79,B91,Lageromsætning!$D$3:$D$79,C91)","v":0}]
[{"$f":"IFERROR(INDEX(Lageromsætning!$A$3:$A$79,SMALL(IF(Lageromsætning!$A$3:$A$79=$A$2,ROW(Lageromsætning!$A$3:$A$79)-CELL(\"row\",Lageromsætning!$A$3:$A$79)+1),ROWS($1:89))),\"\")","v":""},{"$f":"IFERROR(INDEX(Lageromsætning!$C$3:$C$79,SMALL(IF(Lageromsætning!$A$3:$A$79=$A$2,ROW(Lageromsætning!$A$3:$A$79)-CELL(\"row\",Lageromsætning!$A$3:$A$79)+1),ROWS($2:90))),\"\")","v":""},{"$f":"IFERROR(INDEX(Lageromsætning!$D$3:$D$79,SMALL(IF(Lageromsætning!$A$3:$A$79=$A$2,ROW(Lageromsætning!$A$3:$A$79)-CELL(\"row\",Lageromsætning!$A$3:$A$79)+1),ROWS($2:90))),\"\")","v":""},{"$f":"IFERROR(INDEX(Lageromsætning!$E$3:$E$79,SMALL(IF(Lageromsætning!$A$3:$A$79=$A$2,ROW(Lageromsætning!$A$3:$A$79)-CELL(\"row\",Lageromsætning!$A$3:$A$79)+1),ROWS($2:90))),\"\")","v":""},{"$f":"IFERROR(INDEX(Lageromsætning!$AF$3:$AF$79,SMALL(IF(Lageromsætning!$A$3:$A$79=$A$2,ROW(Lageromsætning!$A$3:$A$79)-CELL(\"row\",Lageromsætning!$A$3:$A$79)+1),ROWS($2:90))),\"\")","v":""},{"$f":"SUMIFS('Lager antal'!$D$3:$D$2508,'Lager antal'!$B$3:$B$2508,B92,'Lager antal'!$C$3:$C$2508,C92)","v":0},{"$f":"SUMIFS('Lager antal'!$F$3:$F$2508,'Lager antal'!$B$3:$B$2508,B92,'Lager antal'!$C$3:$C$2508,C92)","v":0},{"$f":"IF(ISNA(VLOOKUP($C92,'Lager antal'!$C$3:$K$508,9,FALSE))=TRUE,\"\",VLOOKUP($C92,'Lager antal'!$C$3:$K$508,9,FALSE))","v":""},{"$f":"IFERROR(INDEX(Lageromsætning!$P$3:$P$79,SMALL(IF(Lageromsætning!$A$3:$A$79=$A$2,ROW(Lageromsætning!$A$3:$A$79)-CELL(\"row\",Lageromsætning!$A$3:$A$79)+1),ROWS($2:90))),\"\")","v":""},{"$f":"+_xlfn.IFS($M92>=0.01,$M92,TRUE,0)-$F92-K92+G92","v":0},{"$f":"SUMIFS('Lager antal'!$G$3:$G$2508,'Lager antal'!$B$3:$B$2508,B92,'Lager antal'!$C$3:$C$2508,C92)","v":0},null,0,{"$f":"SUMIFS(Lageromsætning!$R$3:$R$79,Lageromsætning!$A$3:$A$79,$A$2,Lageromsætning!$C$3:$C$79,B92,Lageromsætning!$D$3:$D$79,C92)","v":0},{"$f":"SUMIFS(Lageromsætning!$S$3:$S$79,Lageromsætning!$C$3:$C$79,B92,Lageromsætning!$D$3:$D$79,C92)","v":0}]
[{"$f":"IFERROR(INDEX(Lageromsætning!$A$3:$A$79,SMALL(IF(Lageromsætning!$A$3:$A$79=$A$2,ROW(Lageromsætning!$A$3:$A$79)-CELL(\"row\",Lageromsætning!$A$3:$A$79)+1),ROWS($1:90))),\"\")","v":""},{"$f":"IFERROR(INDEX(Lageromsætning!$C$3:$C$79,SMALL(IF(Lageromsætning!$A$3:$A$79=$A$2,ROW(Lageromsætning!$A$3:$A$79)-CELL(\"row\",Lageromsætning!$A$3:$A$79)+1),ROWS($2:91))),\"\")","v":""},{"$f":"IFERROR(INDEX(Lageromsætning!$D$3:$D$79,SMALL(IF(Lageromsætning!$A$3:$A$79=$A$2,ROW(Lageromsætning!$A$3:$A$79)-CELL(\"row\",Lageromsætning!$A$3:$A$79)+1),ROWS($2:91))),\"\")","v":""},{"$f":"IFERROR(INDEX(Lageromsætning!$E$3:$E$79,SMALL(IF(Lageromsætning!$A$3:$A$79=$A$2,ROW(Lageromsætning!$A$3:$A$79)-CELL(\"row\",Lageromsætning!$A$3:$A$79)+1),ROWS($2:91))),\"\")","v":""},{"$f":"IFERROR(INDEX(Lageromsætning!$AF$3:$AF$79,SMALL(IF(Lageromsætning!$A$3:$A$79=$A$2,ROW(Lageromsætning!$A$3:$A$79)-CELL(\"row\",Lageromsætning!$A$3:$A$79)+1),ROWS($2:91))),\"\")","v":""},{"$f":"SUMIFS('Lager antal'!$D$3:$D$2508,'Lager antal'!$B$3:$B$2508,B93,'Lager antal'!$C$3:$C$2508,C93)","v":0},{"$f":"SUMIFS('Lager antal'!$F$3:$F$2508,'Lager antal'!$B$3:$B$2508,B93,'Lager antal'!$C$3:$C$2508,C93)","v":0},{"$f":"IF(ISNA(VLOOKUP($C93,'Lager antal'!$C$3:$K$508,9,FALSE))=TRUE,\"\",VLOOKUP($C93,'Lager antal'!$C$3:$K$508,9,FALSE))","v":""},{"$f":"IFERROR(INDEX(Lageromsætning!$P$3:$P$79,SMALL(IF(Lageromsætning!$A$3:$A$79=$A$2,ROW(Lageromsætning!$A$3:$A$79)-CELL(\"row\",Lageromsætning!$A$3:$A$79)+1),ROWS($2:91))),\"\")","v":""},{"$f":"+_xlfn.IFS($M93>=0.01,$M93,TRUE,0)-$F93-K93+G93","v":0},{"$f":"SUMIFS('Lager antal'!$G$3:$G$2508,'Lager antal'!$B$3:$B$2508,B93,'Lager antal'!$C$3:$C$2508,C93)","v":0},null,0,{"$f":"SUMIFS(Lageromsætning!$R$3:$R$79,Lageromsætning!$A$3:$A$79,$A$2,Lageromsætning!$C$3:$C$79,B93,Lageromsætning!$D$3:$D$79,C93)","v":0},{"$f":"SUMIFS(Lageromsætning!$S$3:$S$79,Lageromsætning!$C$3:$C$79,B93,Lageromsætning!$D$3:$D$79,C93)","v":0}]
[{"$f":"IFERROR(INDEX(Lageromsætning!$A$3:$A$79,SMALL(IF(Lageromsætning!$A$3:$A$79=$A$2,ROW(Lageromsætning!$A$3:$A$79)-CELL(\"row\",Lageromsætning!$A$3:$A$79)+1),ROWS($1:91))),\"\")","v":""},{"$f":"IFERROR(INDEX(Lageromsætning!$C$3:$C$79,SMALL(IF(Lageromsætning!$A$3:$A$79=$A$2,ROW(Lageromsætning!$A$3:$A$79)-CELL(\"row\",Lageromsætning!$A$3:$A$79)+1),ROWS($2:92))),\"\")","v":""},{"$f":"IFERROR(INDEX(Lageromsætning!$D$3:$D$79,SMALL(IF(Lageromsætning!$A$3:$A$79=$A$2,ROW(Lageromsætning!$A$3:$A$79)-CELL(\"row\",Lageromsætning!$A$3:$A$79)+1),ROWS($2:92))),\"\")","v":""},{"$f":"IFERROR(INDEX(Lageromsætning!$E$3:$E$79,SMALL(IF(Lageromsætning!$A$3:$A$79=$A$2,ROW(Lageromsætning!$A$3:$A$79)-CELL(\"row\",Lageromsætning!$A$3:$A$79)+1),ROWS($2:92))),\"\")","v":""},{"$f":"IFERROR(INDEX(Lageromsætning!$AF$3:$AF$79,SMALL(IF(Lageromsætning!$A$3:$A$79=$A$2,ROW(Lageromsætning!$A$3:$A$79)-CELL(\"row\",Lageromsætning!$A$3:$A$79)+1),ROWS($2:92))),\"\")","v":""},{"$f":"SUMIFS('Lager antal'!$D$3:$D$2508,'Lager antal'!$B$3:$B$2508,B94,'Lager antal'!$C$3:$C$2508,C94)","v":0},{"$f":"SUMIFS('Lager antal'!$F$3:$F$2508,'Lager antal'!$B$3:$B$2508,B94,'Lager antal'!$C$3:$C$2508,C94)","v":0},{"$f":"IF(ISNA(VLOOKUP($C94,'Lager antal'!$C$3:$K$508,9,FALSE))=TRUE,\"\",VLOOKUP($C94,'Lager antal'!$C$3:$K$508,9,FALSE))","v":""},{"$f":"IFERROR(INDEX(Lageromsætning!$P$3:$P$79,SMALL(IF(Lageromsætning!$A$3:$A$79=$A$2,ROW(Lageromsætning!$A$3:$A$79)-CELL(\"row\",Lageromsætning!$A$3:$A$79)+1),ROWS($2:92))),\"\")","v":""},{"$f":"+_xlfn.IFS($M94>=0.01,$M94,TRUE,0)-$F94-K94+G94","v":0},{"$f":"SUMIFS('Lager antal'!$G$3:$G$2508,'Lager antal'!$B$3:$B$2508,B94,'Lager antal'!$C$3:$C$2508,C94)","v":0},null,0,{"$f":"SUMIFS(Lageromsætning!$R$3:$R$79,Lageromsætning!$A$3:$A$79,$A$2,Lageromsætning!$C$3:$C$79,B94,Lageromsætning!$D$3:$D$79,C94)","v":0},{"$f":"SUMIFS(Lageromsætning!$S$3:$S$79,Lageromsætning!$C$3:$C$79,B94,Lageromsætning!$D$3:$D$79,C94)","v":0}]
[{"$f":"IFERROR(INDEX(Lageromsætning!$A$3:$A$79,SMALL(IF(Lageromsætning!$A$3:$A$79=$A$2,ROW(Lageromsætning!$A$3:$A$79)-CELL(\"row\",Lageromsætning!$A$3:$A$79)+1),ROWS($1:92))),\"\")","v":""},{"$f":"IFERROR(INDEX(Lageromsætning!$C$3:$C$79,SMALL(IF(Lageromsætning!$A$3:$A$79=$A$2,ROW(Lageromsætning!$A$3:$A$79)-CELL(\"row\",Lageromsætning!$A$3:$A$79)+1),ROWS($2:93))),\"\")","v":""},{"$f":"IFERROR(INDEX(Lageromsætning!$D$3:$D$79,SMALL(IF(Lageromsætning!$A$3:$A$79=$A$2,ROW(Lageromsætning!$A$3:$A$79)-CELL(\"row\",Lageromsætning!$A$3:$A$79)+1),ROWS($2:93))),\"\")","v":""},{"$f":"IFERROR(INDEX(Lageromsætning!$E$3:$E$79,SMALL(IF(Lageromsætning!$A$3:$A$79=$A$2,ROW(Lageromsætning!$A$3:$A$79)-CELL(\"row\",Lageromsætning!$A$3:$A$79)+1),ROWS($2:93))),\"\")","v":""},{"$f":"IFERROR(INDEX(Lageromsætning!$AF$3:$AF$79,SMALL(IF(Lageromsætning!$A$3:$A$79=$A$2,ROW(Lageromsætning!$A$3:$A$79)-CELL(\"row\",Lageromsætning!$A$3:$A$79)+1),ROWS($2:93))),\"\")","v":""},{"$f":"SUMIFS('Lager antal'!$D$3:$D$2508,'Lager antal'!$B$3:$B$2508,B95,'Lager antal'!$C$3:$C$2508,C95)","v":0},{"$f":"SUMIFS('Lager antal'!$F$3:$F$2508,'Lager antal'!$B$3:$B$2508,B95,'Lager antal'!$C$3:$C$2508,C95)","v":0},{"$f":"IF(ISNA(VLOOKUP($C95,'Lager antal'!$C$3:$K$508,9,FALSE))=TRUE,\"\",VLOOKUP($C95,'Lager antal'!$C$3:$K$508,9,FALSE))","v":""},{"$f":"IFERROR(INDEX(Lageromsætning!$P$3:$P$79,SMALL(IF(Lageromsætning!$A$3:$A$79=$A$2,ROW(Lageromsætning!$A$3:$A$79)-CELL(\"row\",Lageromsætning!$A$3:$A$79)+1),ROWS($2:93))),\"\")","v":""},{"$f":"+_xlfn.IFS($M95>=0.01,$M95,TRUE,0)-$F95-K95+G95","v":0},{"$f":"SUMIFS('Lager antal'!$G$3:$G$2508,'Lager antal'!$B$3:$B$2508,B95,'Lager antal'!$C$3:$C$2508,C95)","v":0},null,0,{"$f":"SUMIFS(Lageromsætning!$R$3:$R$79,Lageromsætning!$A$3:$A$79,$A$2,Lageromsætning!$C$3:$C$79,B95,Lageromsætning!$D$3:$D$79,C95)","v":0},{"$f":"SUMIFS(Lageromsætning!$S$3:$S$79,Lageromsætning!$C$3:$C$79,B95,Lageromsætning!$D$3:$D$79,C95)","v":0}]
[{"$f":"IFERROR(INDEX(Lageromsætning!$A$3:$A$79,SMALL(IF(Lageromsætning!$A$3:$A$79=$A$2,ROW(Lageromsætning!$A$3:$A$79)-CELL(\"row\",Lageromsætning!$A$3:$A$79)+1),ROWS($1:93))),\"\")","v":""},{"$f":"IFERROR(INDEX(Lageromsætning!$C$3:$C$79,SMALL(IF(Lageromsætning!$A$3:$A$79=$A$2,ROW(Lageromsætning!$A$3:$A$79)-CELL(\"row\",Lageromsætning!$A$3:$A$79)+1),ROWS($2:94))),\"\")","v":""},{"$f":"IFERROR(INDEX(Lageromsætning!$D$3:$D$79,SMALL(IF(Lageromsætning!$A$3:$A$79=$A$2,ROW(Lageromsætning!$A$3:$A$79)-CELL(\"row\",Lageromsætning!$A$3:$A$79)+1),ROWS($2:94))),\"\")","v":""},{"$f":"IFERROR(INDEX(Lageromsætning!$E$3:$E$79,SMALL(IF(Lageromsætning!$A$3:$A$79=$A$2,ROW(Lageromsætning!$A$3:$A$79)-CELL(\"row\",Lageromsætning!$A$3:$A$79)+1),ROWS($2:94))),\"\")","v":""},{"$f":"IFERROR(INDEX(Lageromsætning!$AF$3:$AF$79,SMALL(IF(Lageromsætning!$A$3:$A$79=$A$2,ROW(Lageromsætning!$A$3:$A$79)-CELL(\"row\",Lageromsætning!$A$3:$A$79)+1),ROWS($2:94))),\"\")","v":""},{"$f":"SUMIFS('Lager antal'!$D$3:$D$2508,'Lager antal'!$B$3:$B$2508,B96,'Lager antal'!$C$3:$C$2508,C96)","v":0},{"$f":"SUMIFS('Lager antal'!$F$3:$F$2508,'Lager antal'!$B$3:$B$2508,B96,'Lager antal'!$C$3:$C$2508,C96)","v":0},{"$f":"IF(ISNA(VLOOKUP($C96,'Lager antal'!$C$3:$K$508,9,FALSE))=TRUE,\"\",VLOOKUP($C96,'Lager antal'!$C$3:$K$508,9,FALSE))","v":""},{"$f":"IFERROR(INDEX(Lageromsætning!$P$3:$P$79,SMALL(IF(Lageromsætning!$A$3:$A$79=$A$2,ROW(Lageromsætning!$A$3:$A$79)-CELL(\"row\",Lageromsætning!$A$3:$A$79)+1),ROWS($2:94))),\"\")","v":""},{"$f":"+_xlfn.IFS($M96>=0.01,$M96,TRUE,0)-$F96-K96+G96","v":0},{"$f":"SUMIFS('Lager antal'!$G$3:$G$2508,'Lager antal'!$B$3:$B$2508,B96,'Lager antal'!$C$3:$C$2508,C96)","v":0},null,0,{"$f":"SUMIFS(Lageromsætning!$R$3:$R$79,Lageromsætning!$A$3:$A$79,$A$2,Lageromsætning!$C$3:$C$79,B96,Lageromsætning!$D$3:$D$79,C96)","v":0},{"$f":"SUMIFS(Lageromsætning!$S$3:$S$79,Lageromsætning!$C$3:$C$79,B96,Lageromsætning!$D$3:$D$79,C96)","v":0}]
[{"$f":"IFERROR(INDEX(Lageromsætning!$A$3:$A$79,SMALL(IF(Lageromsætning!$A$3:$A$79=$A$2,ROW(Lageromsætning!$A$3:$A$79)-CELL(\"row\",Lageromsætning!$A$3:$A$79)+1),ROWS($1:94))),\"\")","v":""},{"$f":"IFERROR(INDEX(Lageromsætning!$C$3:$C$79,SMALL(IF(Lageromsætning!$A$3:$A$79=$A$2,ROW(Lageromsætning!$A$3:$A$79)-CELL(\"row\",Lageromsætning!$A$3:$A$79)+1),ROWS($2:95))),\"\")","v":""},{"$f":"IFERROR(INDEX(Lageromsætning!$D$3:$D$79,SMALL(IF(Lageromsætning!$A$3:$A$79=$A$2,ROW(Lageromsætning!$A$3:$A$79)-CELL(\"row\",Lageromsætning!$A$3:$A$79)+1),ROWS($2:95))),\"\")","v":""},{"$f":"IFERROR(INDEX(Lageromsætning!$E$3:$E$79,SMALL(IF(Lageromsætning!$A$3:$A$79=$A$2,ROW(Lageromsætning!$A$3:$A$79)-CELL(\"row\",Lageromsætning!$A$3:$A$79)+1),ROWS($2:95))),\"\")","v":""},{"$f":"IFERROR(INDEX(Lageromsætning!$AF$3:$AF$79,SMALL(IF(Lageromsætning!$A$3:$A$79=$A$2,ROW(Lageromsætning!$A$3:$A$79)-CELL(\"row\",Lageromsætning!$A$3:$A$79)+1),ROWS($2:95))),\"\")","v":""},{"$f":"SUMIFS('Lager antal'!$D$3:$D$2508,'Lager antal'!$B$3:$B$2508,B97,'Lager antal'!$C$3:$C$2508,C97)","v":0},{"$f":"SUMIFS('Lager antal'!$F$3:$F$2508,'Lager antal'!$B$3:$B$2508,B97,'Lager antal'!$C$3:$C$2508,C97)","v":0},{"$f":"IF(ISNA(VLOOKUP($C97,'Lager antal'!$C$3:$K$508,9,FALSE))=TRUE,\"\",VLOOKUP($C97,'Lager antal'!$C$3:$K$508,9,FALSE))","v":""},{"$f":"IFERROR(INDEX(Lageromsætning!$P$3:$P$79,SMALL(IF(Lageromsætning!$A$3:$A$79=$A$2,ROW(Lageromsætning!$A$3:$A$79)-CELL(\"row\",Lageromsætning!$A$3:$A$79)+1),ROWS($2:95))),\"\")","v":""},{"$f":"+_xlfn.IFS($M97>=0.01,$M97,TRUE,0)-$F97-K97+G97","v":0},{"$f":"SUMIFS('Lager antal'!$G$3:$G$2508,'Lager antal'!$B$3:$B$2508,B97,'Lager antal'!$C$3:$C$2508,C97)","v":0},null,0,{"$f":"SUMIFS(Lageromsætning!$R$3:$R$79,Lageromsætning!$A$3:$A$79,$A$2,Lageromsætning!$C$3:$C$79,B97,Lageromsætning!$D$3:$D$79,C97)","v":0},{"$f":"SUMIFS(Lageromsætning!$S$3:$S$79,Lageromsætning!$C$3:$C$79,B97,Lageromsætning!$D$3:$D$79,C97)","v":0}]
[{"$f":"IFERROR(INDEX(Lageromsætning!$A$3:$A$79,SMALL(IF(Lageromsætning!$A$3:$A$79=$A$2,ROW(Lageromsætning!$A$3:$A$79)-CELL(\"row\",Lageromsætning!$A$3:$A$79)+1),ROWS($1:95))),\"\")","v":""},{"$f":"IFERROR(INDEX(Lageromsætning!$C$3:$C$79,SMALL(IF(Lageromsætning!$A$3:$A$79=$A$2,ROW(Lageromsætning!$A$3:$A$79)-CELL(\"row\",Lageromsætning!$A$3:$A$79)+1),ROWS($2:96))),\"\")","v":""},{"$f":"IFERROR(INDEX(Lageromsætning!$D$3:$D$79,SMALL(IF(Lageromsætning!$A$3:$A$79=$A$2,ROW(Lageromsætning!$A$3:$A$79)-CELL(\"row\",Lageromsætning!$A$3:$A$79)+1),ROWS($2:96))),\"\")","v":""},{"$f":"IFERROR(INDEX(Lageromsætning!$E$3:$E$79,SMALL(IF(Lageromsætning!$A$3:$A$79=$A$2,ROW(Lageromsætning!$A$3:$A$79)-CELL(\"row\",Lageromsætning!$A$3:$A$79)+1),ROWS($2:96))),\"\")","v":""},{"$f":"IFERROR(INDEX(Lageromsætning!$AF$3:$AF$79,SMALL(IF(Lageromsætning!$A$3:$A$79=$A$2,ROW(Lageromsætning!$A$3:$A$79)-CELL(\"row\",Lageromsætning!$A$3:$A$79)+1),ROWS($2:96))),\"\")","v":""},{"$f":"SUMIFS('Lager antal'!$D$3:$D$2508,'Lager antal'!$B$3:$B$2508,B98,'Lager antal'!$C$3:$C$2508,C98)","v":0},{"$f":"SUMIFS('Lager antal'!$F$3:$F$2508,'Lager antal'!$B$3:$B$2508,B98,'Lager antal'!$C$3:$C$2508,C98)","v":0},{"$f":"IF(ISNA(VLOOKUP($C98,'Lager antal'!$C$3:$K$508,9,FALSE))=TRUE,\"\",VLOOKUP($C98,'Lager antal'!$C$3:$K$508,9,FALSE))","v":""},{"$f":"IFERROR(INDEX(Lageromsætning!$P$3:$P$79,SMALL(IF(Lageromsætning!$A$3:$A$79=$A$2,ROW(Lageromsætning!$A$3:$A$79)-CELL(\"row\",Lageromsætning!$A$3:$A$79)+1),ROWS($2:96))),\"\")","v":""},{"$f":"+_xlfn.IFS($M98>=0.01,$M98,TRUE,0)-$F98-K98+G98","v":0},{"$f":"SUMIFS('Lager antal'!$G$3:$G$2508,'Lager antal'!$B$3:$B$2508,B98,'Lager antal'!$C$3:$C$2508,C98)","v":0},null,0,{"$f":"SUMIFS(Lageromsætning!$R$3:$R$79,Lageromsætning!$A$3:$A$79,$A$2,Lageromsætning!$C$3:$C$79,B98,Lageromsætning!$D$3:$D$79,C98)","v":0},{"$f":"SUMIFS(Lageromsætning!$S$3:$S$79,Lageromsætning!$C$3:$C$79,B98,Lageromsætning!$D$3:$D$79,C98)","v":0}]
[{"$f":"IFERROR(INDEX(Lageromsætning!$A$3:$A$79,SMALL(IF(Lageromsætning!$A$3:$A$79=$A$2,ROW(Lageromsætning!$A$3:$A$79)-CELL(\"row\",Lageromsætning!$A$3:$A$79)+1),ROWS($1:96))),\"\")","v":""},{"$f":"IFERROR(INDEX(Lageromsætning!$C$3:$C$79,SMALL(IF(Lageromsætning!$A$3:$A$79=$A$2,ROW(Lageromsætning!$A$3:$A$79)-CELL(\"row\",Lageromsætning!$A$3:$A$79)+1),ROWS($2:97))),\"\")","v":""},{"$f":"IFERROR(INDEX(Lageromsætning!$D$3:$D$79,SMALL(IF(Lageromsætning!$A$3:$A$79=$A$2,ROW(Lageromsætning!$A$3:$A$79)-CELL(\"row\",Lageromsætning!$A$3:$A$79)+1),ROWS($2:97))),\"\")","v":""},{"$f":"IFERROR(INDEX(Lageromsætning!$E$3:$E$79,SMALL(IF(Lageromsætning!$A$3:$A$79=$A$2,ROW(Lageromsætning!$A$3:$A$79)-CELL(\"row\",Lageromsætning!$A$3:$A$79)+1),ROWS($2:97))),\"\")","v":""},{"$f":"IFERROR(INDEX(Lageromsætning!$AF$3:$AF$79,SMALL(IF(Lageromsætning!$A$3:$A$79=$A$2,ROW(Lageromsætning!$A$3:$A$79)-CELL(\"row\",Lageromsætning!$A$3:$A$79)+1),ROWS($2:97))),\"\")","v":""},{"$f":"SUMIFS('Lager antal'!$D$3:$D$2508,'Lager antal'!$B$3:$B$2508,B99,'Lager antal'!$C$3:$C$2508,C99)","v":0},{"$f":"SUMIFS('Lager antal'!$F$3:$F$2508,'Lager antal'!$B$3:$B$2508,B99,'Lager antal'!$C$3:$C$2508,C99)","v":0},{"$f":"IF(ISNA(VLOOKUP($C99,'Lager antal'!$C$3:$K$508,9,FALSE))=TRUE,\"\",VLOOKUP($C99,'Lager antal'!$C$3:$K$508,9,FALSE))","v":""},{"$f":"IFERROR(INDEX(Lageromsætning!$P$3:$P$79,SMALL(IF(Lageromsætning!$A$3:$A$79=$A$2,ROW(Lageromsætning!$A$3:$A$79)-CELL(\"row\",Lageromsætning!$A$3:$A$79)+1),ROWS($2:97))),\"\")","v":""},{"$f":"+_xlfn.IFS($M99>=0.01,$M99,TRUE,0)-$F99-K99+G99","v":0},{"$f":"SUMIFS('Lager antal'!$G$3:$G$2508,'Lager antal'!$B$3:$B$2508,B99,'Lager antal'!$C$3:$C$2508,C99)","v":0},null,0,{"$f":"SUMIFS(Lageromsætning!$R$3:$R$79,Lageromsætning!$A$3:$A$79,$A$2,Lageromsætning!$C$3:$C$79,B99,Lageromsætning!$D$3:$D$79,C99)","v":0},{"$f":"SUMIFS(Lageromsætning!$S$3:$S$79,Lageromsætning!$C$3:$C$79,B99,Lageromsætning!$D$3:$D$79,C99)","v":0}]
[{"$f":"IFERROR(INDEX(Lageromsætning!$A$3:$A$79,SMALL(IF(Lageromsætning!$A$3:$A$79=$A$2,ROW(Lageromsætning!$A$3:$A$79)-CELL(\"row\",Lageromsætning!$A$3:$A$79)+1),ROWS($1:97))),\"\")","v":""},{"$f":"IFERROR(INDEX(Lageromsætning!$C$3:$C$79,SMALL(IF(Lageromsætning!$A$3:$A$79=$A$2,ROW(Lageromsætning!$A$3:$A$79)-CELL(\"row\",Lageromsætning!$A$3:$A$79)+1),ROWS($2:98))),\"\")","v":""},{"$f":"IFERROR(INDEX(Lageromsætning!$D$3:$D$79,SMALL(IF(Lageromsætning!$A$3:$A$79=$A$2,ROW(Lageromsætning!$A$3:$A$79)-CELL(\"row\",Lageromsætning!$A$3:$A$79)+1),ROWS($2:98))),\"\")","v":""},{"$f":"IFERROR(INDEX(Lageromsætning!$E$3:$E$79,SMALL(IF(Lageromsætning!$A$3:$A$79=$A$2,ROW(Lageromsætning!$A$3:$A$79)-CELL(\"row\",Lageromsætning!$A$3:$A$79)+1),ROWS($2:98))),\"\")","v":""},{"$f":"IFERROR(INDEX(Lageromsætning!$AF$3:$AF$79,SMALL(IF(Lageromsætning!$A$3:$A$79=$A$2,ROW(Lageromsætning!$A$3:$A$79)-CELL(\"row\",Lageromsætning!$A$3:$A$79)+1),ROWS($2:98))),\"\")","v":""},{"$f":"SUMIFS('Lager antal'!$D$3:$D$2508,'Lager antal'!$B$3:$B$2508,B100,'Lager antal'!$C$3:$C$2508,C100)","v":0},{"$f":"SUMIFS('Lager antal'!$F$3:$F$2508,'Lager antal'!$B$3:$B$2508,B100,'Lager antal'!$C$3:$C$2508,C100)","v":0},{"$f":"IF(ISNA(VLOOKUP($C100,'Lager antal'!$C$3:$K$508,9,FALSE))=TRUE,\"\",VLOOKUP($C100,'Lager antal'!$C$3:$K$508,9,FALSE))","v":""},{"$f":"IFERROR(INDEX(Lageromsætning!$P$3:$P$79,SMALL(IF(Lageromsætning!$A$3:$A$79=$A$2,ROW(Lageromsætning!$A$3:$A$79)-CELL(\"row\",Lageromsætning!$A$3:$A$79)+1),ROWS($2:98))),\"\")","v":""},{"$f":"+_xlfn.IFS($M100>=0.01,$M100,TRUE,0)-$F100-K100+G100","v":0},{"$f":"SUMIFS('Lager antal'!$G$3:$G$2508,'Lager antal'!$B$3:$B$2508,B100,'Lager antal'!$C$3:$C$2508,C100)","v":0},null,0,{"$f":"SUMIFS(Lageromsætning!$R$3:$R$79,Lageromsætning!$A$3:$A$79,$A$2,Lageromsætning!$C$3:$C$79,B100,Lageromsætning!$D$3:$D$79,C100)","v":0},{"$f":"SUMIFS(Lageromsætning!$S$3:$S$79,Lageromsætning!$C$3:$C$79,B100,Lageromsætning!$D$3:$D$79,C100)","v":0}]
[{"$f":"IFERROR(INDEX(Lageromsætning!$A$3:$A$79,SMALL(IF(Lageromsætning!$A$3:$A$79=$A$2,ROW(Lageromsætning!$A$3:$A$79)-CELL(\"row\",Lageromsætning!$A$3:$A$79)+1),ROWS($1:98))),\"\")","v":""},{"$f":"IFERROR(INDEX(Lageromsætning!$C$3:$C$79,SMALL(IF(Lageromsætning!$A$3:$A$79=$A$2,ROW(Lageromsætning!$A$3:$A$79)-CELL(\"row\",Lageromsætning!$A$3:$A$79)+1),ROWS($2:99))),\"\")","v":""},{"$f":"IFERROR(INDEX(Lageromsætning!$D$3:$D$79,SMALL(IF(Lageromsætning!$A$3:$A$79=$A$2,ROW(Lageromsætning!$A$3:$A$79)-CELL(\"row\",Lageromsætning!$A$3:$A$79)+1),ROWS($2:99))),\"\")","v":""},{"$f":"IFERROR(INDEX(Lageromsætning!$E$3:$E$79,SMALL(IF(Lageromsætning!$A$3:$A$79=$A$2,ROW(Lageromsætning!$A$3:$A$79)-CELL(\"row\",Lageromsætning!$A$3:$A$79)+1),ROWS($2:99))),\"\")","v":""},{"$f":"IFERROR(INDEX(Lageromsætning!$AF$3:$AF$79,SMALL(IF(Lageromsætning!$A$3:$A$79=$A$2,ROW(Lageromsætning!$A$3:$A$79)-CELL(\"row\",Lageromsætning!$A$3:$A$79)+1),ROWS($2:99))),\"\")","v":""},{"$f":"SUMIFS('Lager antal'!$D$3:$D$2508,'Lager antal'!$B$3:$B$2508,B101,'Lager antal'!$C$3:$C$2508,C101)","v":0},{"$f":"SUMIFS('Lager antal'!$F$3:$F$2508,'Lager antal'!$B$3:$B$2508,B101,'Lager antal'!$C$3:$C$2508,C101)","v":0},{"$f":"IF(ISNA(VLOOKUP($C101,'Lager antal'!$C$3:$K$508,9,FALSE))=TRUE,\"\",VLOOKUP($C101,'Lager antal'!$C$3:$K$508,9,FALSE))","v":""},{"$f":"IFERROR(INDEX(Lageromsætning!$P$3:$P$79,SMALL(IF(Lageromsætning!$A$3:$A$79=$A$2,ROW(Lageromsætning!$A$3:$A$79)-CELL(\"row\",Lageromsætning!$A$3:$A$79)+1),ROWS($2:99))),\"\")","v":""},{"$f":"+_xlfn.IFS($M101>=0.01,$M101,TRUE,0)-$F101-K101+G101","v":0},{"$f":"SUMIFS('Lager antal'!$G$3:$G$2508,'Lager antal'!$B$3:$B$2508,B101,'Lager antal'!$C$3:$C$2508,C101)","v":0},null,0,{"$f":"SUMIFS(Lageromsætning!$R$3:$R$79,Lageromsætning!$A$3:$A$79,$A$2,Lageromsætning!$C$3:$C$79,B101,Lageromsætning!$D$3:$D$79,C101)","v":0},{"$f":"SUMIFS(Lageromsætning!$S$3:$S$79,Lageromsætning!$C$3:$C$79,B101,Lageromsætning!$D$3:$D$79,C101)","v":0}]
[{"$f":"IFERROR(INDEX(Lageromsætning!$A$3:$A$79,SMALL(IF(Lageromsætning!$A$3:$A$79=$A$2,ROW(Lageromsætning!$A$3:$A$79)-CELL(\"row\",Lageromsætning!$A$3:$A$79)+1),ROWS($1:99))),\"\")","v":""},{"$f":"IFERROR(INDEX(Lageromsætning!$C$3:$C$79,SMALL(IF(Lageromsætning!$A$3:$A$79=$A$2,ROW(Lageromsætning!$A$3:$A$79)-CELL(\"row\",Lageromsætning!$A$3:$A$79)+1),ROWS($2:100))),\"\")","v":""},{"$f":"IFERROR(INDEX(Lageromsætning!$D$3:$D$79,SMALL(IF(Lageromsætning!$A$3:$A$79=$A$2,ROW(Lageromsætning!$A$3:$A$79)-CELL(\"row\",Lageromsætning!$A$3:$A$79)+1),ROWS($2:100))),\"\")","v":""},{"$f":"IFERROR(INDEX(Lageromsætning!$E$3:$E$79,SMALL(IF(Lageromsætning!$A$3:$A$79=$A$2,ROW(Lageromsætning!$A$3:$A$79)-CELL(\"row\",Lageromsætning!$A$3:$A$79)+1),ROWS($2:100))),\"\")","v":""},{"$f":"IFERROR(INDEX(Lageromsætning!$AF$3:$AF$79,SMALL(IF(Lageromsætning!$A$3:$A$79=$A$2,ROW(Lageromsætning!$A$3:$A$79)-CELL(\"row\",Lageromsætning!$A$3:$A$79)+1),ROWS($2:100))),\"\")","v":""},{"$f":"SUMIFS('Lager antal'!$D$3:$D$2508,'Lager antal'!$B$3:$B$2508,B102,'Lager antal'!$C$3:$C$2508,C102)","v":0},{"$f":"SUMIFS('Lager antal'!$F$3:$F$2508,'Lager antal'!$B$3:$B$2508,B102,'Lager antal'!$C$3:$C$2508,C102)","v":0},{"$f":"IF(ISNA(VLOOKUP($C102,'Lager antal'!$C$3:$K$508,9,FALSE))=TRUE,\"\",VLOOKUP($C102,'Lager antal'!$C$3:$K$508,9,FALSE))","v":""},{"$f":"IFERROR(INDEX(Lageromsætning!$P$3:$P$79,SMALL(IF(Lageromsætning!$A$3:$A$79=$A$2,ROW(Lageromsætning!$A$3:$A$79)-CELL(\"row\",Lageromsætning!$A$3:$A$79)+1),ROWS($2:100))),\"\")","v":""},{"$f":"+_xlfn.IFS($M102>=0.01,$M102,TRUE,0)-$F102-K102+G102","v":0},{"$f":"SUMIFS('Lager antal'!$G$3:$G$2508,'Lager antal'!$B$3:$B$2508,B102,'Lager antal'!$C$3:$C$2508,C102)","v":0},null,0,{"$f":"SUMIFS(Lageromsætning!$R$3:$R$79,Lageromsætning!$A$3:$A$79,$A$2,Lageromsætning!$C$3:$C$79,B102,Lageromsætning!$D$3:$D$79,C102)","v":0},{"$f":"SUMIFS(Lageromsætning!$S$3:$S$79,Lageromsætning!$C$3:$C$79,B102,Lageromsætning!$D$3:$D$79,C102)","v":0}]
[{"$f":"IFERROR(INDEX(Lageromsætning!$A$3:$A$79,SMALL(IF(Lageromsætning!$A$3:$A$79=$A$2,ROW(Lageromsætning!$A$3:$A$79)-CELL(\"row\",Lageromsætning!$A$3:$A$79)+1),ROWS($1:100))),\"\")","v":""},{"$f":"IFERROR(INDEX(Lageromsætning!$C$3:$C$79,SMALL(IF(Lageromsætning!$A$3:$A$79=$A$2,ROW(Lageromsætning!$A$3:$A$79)-CELL(\"row\",Lageromsætning!$A$3:$A$79)+1),ROWS($2:101))),\"\")","v":""},{"$f":"IFERROR(INDEX(Lageromsætning!$D$3:$D$79,SMALL(IF(Lageromsætning!$A$3:$A$79=$A$2,ROW(Lageromsætning!$A$3:$A$79)-CELL(\"row\",Lageromsætning!$A$3:$A$79)+1),ROWS($2:101))),\"\")","v":""},{"$f":"IFERROR(INDEX(Lageromsætning!$E$3:$E$79,SMALL(IF(Lageromsætning!$A$3:$A$79=$A$2,ROW(Lageromsætning!$A$3:$A$79)-CELL(\"row\",Lageromsætning!$A$3:$A$79)+1),ROWS($2:101))),\"\")","v":""},{"$f":"IFERROR(INDEX(Lageromsætning!$AF$3:$AF$79,SMALL(IF(Lageromsætning!$A$3:$A$79=$A$2,ROW(Lageromsætning!$A$3:$A$79)-CELL(\"row\",Lageromsætning!$A$3:$A$79)+1),ROWS($2:101))),\"\")","v":""},{"$f":"SUMIFS('Lager antal'!$D$3:$D$2508,'Lager antal'!$B$3:$B$2508,B103,'Lager antal'!$C$3:$C$2508,C103)","v":0},{"$f":"SUMIFS('Lager antal'!$F$3:$F$2508,'Lager antal'!$B$3:$B$2508,B103,'Lager antal'!$C$3:$C$2508,C103)","v":0},{"$f":"IF(ISNA(VLOOKUP($C103,'Lager antal'!$C$3:$K$508,9,FALSE))=TRUE,\"\",VLOOKUP($C103,'Lager antal'!$C$3:$K$508,9,FALSE))","v":""},{"$f":"IFERROR(INDEX(Lageromsætning!$P$3:$P$79,SMALL(IF(Lageromsætning!$A$3:$A$79=$A$2,ROW(Lageromsætning!$A$3:$A$79)-CELL(\"row\",Lageromsætning!$A$3:$A$79)+1),ROWS($2:101))),\"\")","v":""},{"$f":"+_xlfn.IFS($M103>=0.01,$M103,TRUE,0)-$F103-K103+G103","v":0},{"$f":"SUMIFS('Lager antal'!$G$3:$G$2508,'Lager antal'!$B$3:$B$2508,B103,'Lager antal'!$C$3:$C$2508,C103)","v":0},null,0,{"$f":"SUMIFS(Lageromsætning!$R$3:$R$79,Lageromsætning!$A$3:$A$79,$A$2,Lageromsætning!$C$3:$C$79,B103,Lageromsætning!$D$3:$D$79,C103)","v":0},{"$f":"SUMIFS(Lageromsætning!$S$3:$S$79,Lageromsætning!$C$3:$C$79,B103,Lageromsætning!$D$3:$D$79,C103)","v":0}]
[{"$f":"IFERROR(INDEX(Lageromsætning!$A$3:$A$79,SMALL(IF(Lageromsætning!$A$3:$A$79=$A$2,ROW(Lageromsætning!$A$3:$A$79)-CELL(\"row\",Lageromsætning!$A$3:$A$79)+1),ROWS($1:101))),\"\")","v":""},{"$f":"IFERROR(INDEX(Lageromsætning!$C$3:$C$79,SMALL(IF(Lageromsætning!$A$3:$A$79=$A$2,ROW(Lageromsætning!$A$3:$A$79)-CELL(\"row\",Lageromsætning!$A$3:$A$79)+1),ROWS($2:102))),\"\")","v":""},{"$f":"IFERROR(INDEX(Lageromsætning!$D$3:$D$79,SMALL(IF(Lageromsætning!$A$3:$A$79=$A$2,ROW(Lageromsætning!$A$3:$A$79)-CELL(\"row\",Lageromsætning!$A$3:$A$79)+1),ROWS($2:102))),\"\")","v":""},{"$f":"IFERROR(INDEX(Lageromsætning!$E$3:$E$79,SMALL(IF(Lageromsætning!$A$3:$A$79=$A$2,ROW(Lageromsætning!$A$3:$A$79)-CELL(\"row\",Lageromsætning!$A$3:$A$79)+1),ROWS($2:102))),\"\")","v":""},{"$f":"IFERROR(INDEX(Lageromsætning!$AF$3:$AF$79,SMALL(IF(Lageromsætning!$A$3:$A$79=$A$2,ROW(Lageromsætning!$A$3:$A$79)-CELL(\"row\",Lageromsætning!$A$3:$A$79)+1),ROWS($2:102))),\"\")","v":""},{"$f":"SUMIFS('Lager antal'!$D$3:$D$2508,'Lager antal'!$B$3:$B$2508,B104,'Lager antal'!$C$3:$C$2508,C104)","v":0},{"$f":"SUMIFS('Lager antal'!$F$3:$F$2508,'Lager antal'!$B$3:$B$2508,B104,'Lager antal'!$C$3:$C$2508,C104)","v":0},{"$f":"IF(ISNA(VLOOKUP($C104,'Lager antal'!$C$3:$K$508,9,FALSE))=TRUE,\"\",VLOOKUP($C104,'Lager antal'!$C$3:$K$508,9,FALSE))","v":""},{"$f":"IFERROR(INDEX(Lageromsætning!$P$3:$P$79,SMALL(IF(Lageromsætning!$A$3:$A$79=$A$2,ROW(Lageromsætning!$A$3:$A$79)-CELL(\"row\",Lageromsætning!$A$3:$A$79)+1),ROWS($2:102))),\"\")","v":""},{"$f":"+_xlfn.IFS($M104>=0.01,$M104,TRUE,0)-$F104-K104+G104","v":0},{"$f":"SUMIFS('Lager antal'!$G$3:$G$2508,'Lager antal'!$B$3:$B$2508,B104,'Lager antal'!$C$3:$C$2508,C104)","v":0},null,0,{"$f":"SUMIFS(Lageromsætning!$R$3:$R$79,Lageromsætning!$A$3:$A$79,$A$2,Lageromsætning!$C$3:$C$79,B104,Lageromsætning!$D$3:$D$79,C104)","v":0},{"$f":"SUMIFS(Lageromsætning!$S$3:$S$79,Lageromsætning!$C$3:$C$79,B104,Lageromsætning!$D$3:$D$79,C104)","v":0}]
[{"$f":"IFERROR(INDEX(Lageromsætning!$A$3:$A$79,SMALL(IF(Lageromsætning!$A$3:$A$79=$A$2,ROW(Lageromsætning!$A$3:$A$79)-CELL(\"row\",Lageromsætning!$A$3:$A$79)+1),ROWS($1:102))),\"\")","v":""},{"$f":"IFERROR(INDEX(Lageromsætning!$C$3:$C$79,SMALL(IF(Lageromsætning!$A$3:$A$79=$A$2,ROW(Lageromsætning!$A$3:$A$79)-CELL(\"row\",Lageromsætning!$A$3:$A$79)+1),ROWS($2:103))),\"\")","v":""},{"$f":"IFERROR(INDEX(Lageromsætning!$D$3:$D$79,SMALL(IF(Lageromsætning!$A$3:$A$79=$A$2,ROW(Lageromsætning!$A$3:$A$79)-CELL(\"row\",Lageromsætning!$A$3:$A$79)+1),ROWS($2:103))),\"\")","v":""},{"$f":"IFERROR(INDEX(Lageromsætning!$E$3:$E$79,SMALL(IF(Lageromsætning!$A$3:$A$79=$A$2,ROW(Lageromsætning!$A$3:$A$79)-CELL(\"row\",Lageromsætning!$A$3:$A$79)+1),ROWS($2:103))),\"\")","v":""},{"$f":"IFERROR(INDEX(Lageromsætning!$AF$3:$AF$79,SMALL(IF(Lageromsætning!$A$3:$A$79=$A$2,ROW(Lageromsætning!$A$3:$A$79)-CELL(\"row\",Lageromsætning!$A$3:$A$79)+1),ROWS($2:103))),\"\")","v":""},{"$f":"SUMIFS('Lager antal'!$D$3:$D$2508,'Lager antal'!$B$3:$B$2508,B105,'Lager antal'!$C$3:$C$2508,C105)","v":0},{"$f":"SUMIFS('Lager antal'!$F$3:$F$2508,'Lager antal'!$B$3:$B$2508,B105,'Lager antal'!$C$3:$C$2508,C105)","v":0},{"$f":"IF(ISNA(VLOOKUP($C105,'Lager antal'!$C$3:$K$508,9,FALSE))=TRUE,\"\",VLOOKUP($C105,'Lager antal'!$C$3:$K$508,9,FALSE))","v":""},{"$f":"IFERROR(INDEX(Lageromsætning!$P$3:$P$79,SMALL(IF(Lageromsætning!$A$3:$A$79=$A$2,ROW(Lageromsætning!$A$3:$A$79)-CELL(\"row\",Lageromsætning!$A$3:$A$79)+1),ROWS($2:103))),\"\")","v":""},{"$f":"+_xlfn.IFS($M105>=0.01,$M105,TRUE,0)-$F105-K105+G105","v":0},{"$f":"SUMIFS('Lager antal'!$G$3:$G$2508,'Lager antal'!$B$3:$B$2508,B105,'Lager antal'!$C$3:$C$2508,C105)","v":0},null,0,{"$f":"SUMIFS(Lageromsætning!$R$3:$R$79,Lageromsætning!$A$3:$A$79,$A$2,Lageromsætning!$C$3:$C$79,B105,Lageromsætning!$D$3:$D$79,C105)","v":0},{"$f":"SUMIFS(Lageromsætning!$S$3:$S$79,Lageromsætning!$C$3:$C$79,B105,Lageromsætning!$D$3:$D$79,C105)","v":0}]
[{"$f":"IFERROR(INDEX(Lageromsætning!$A$3:$A$79,SMALL(IF(Lageromsætning!$A$3:$A$79=$A$2,ROW(Lageromsætning!$A$3:$A$79)-CELL(\"row\",Lageromsætning!$A$3:$A$79)+1),ROWS($1:103))),\"\")","v":""},{"$f":"IFERROR(INDEX(Lageromsætning!$C$3:$C$79,SMALL(IF(Lageromsætning!$A$3:$A$79=$A$2,ROW(Lageromsætning!$A$3:$A$79)-CELL(\"row\",Lageromsætning!$A$3:$A$79)+1),ROWS($2:104))),\"\")","v":""},{"$f":"IFERROR(INDEX(Lageromsætning!$D$3:$D$79,SMALL(IF(Lageromsætning!$A$3:$A$79=$A$2,ROW(Lageromsætning!$A$3:$A$79)-CELL(\"row\",Lageromsætning!$A$3:$A$79)+1),ROWS($2:104))),\"\")","v":""},{"$f":"IFERROR(INDEX(Lageromsætning!$E$3:$E$79,SMALL(IF(Lageromsætning!$A$3:$A$79=$A$2,ROW(Lageromsætning!$A$3:$A$79)-CELL(\"row\",Lageromsætning!$A$3:$A$79)+1),ROWS($2:104))),\"\")","v":""},{"$f":"IFERROR(INDEX(Lageromsætning!$AF$3:$AF$79,SMALL(IF(Lageromsætning!$A$3:$A$79=$A$2,ROW(Lageromsætning!$A$3:$A$79)-CELL(\"row\",Lageromsætning!$A$3:$A$79)+1),ROWS($2:104))),\"\")","v":""},{"$f":"SUMIFS('Lager antal'!$D$3:$D$2508,'Lager antal'!$B$3:$B$2508,B106,'Lager antal'!$C$3:$C$2508,C106)","v":0},{"$f":"SUMIFS('Lager antal'!$F$3:$F$2508,'Lager antal'!$B$3:$B$2508,B106,'Lager antal'!$C$3:$C$2508,C106)","v":0},{"$f":"IF(ISNA(VLOOKUP($C106,'Lager antal'!$C$3:$K$508,9,FALSE))=TRUE,\"\",VLOOKUP($C106,'Lager antal'!$C$3:$K$508,9,FALSE))","v":""},{"$f":"IFERROR(INDEX(Lageromsætning!$P$3:$P$79,SMALL(IF(Lageromsætning!$A$3:$A$79=$A$2,ROW(Lageromsætning!$A$3:$A$79)-CELL(\"row\",Lageromsætning!$A$3:$A$79)+1),ROWS($2:104))),\"\")","v":""},{"$f":"+_xlfn.IFS($M106>=0.01,$M106,TRUE,0)-$F106-K106+G106","v":0},{"$f":"SUMIFS('Lager antal'!$G$3:$G$2508,'Lager antal'!$B$3:$B$2508,B106,'Lager antal'!$C$3:$C$2508,C106)","v":0},null,0,{"$f":"SUMIFS(Lageromsætning!$R$3:$R$79,Lageromsætning!$A$3:$A$79,$A$2,Lageromsætning!$C$3:$C$79,B106,Lageromsætning!$D$3:$D$79,C106)","v":0},{"$f":"SUMIFS(Lageromsætning!$S$3:$S$79,Lageromsætning!$C$3:$C$79,B106,Lageromsætning!$D$3:$D$79,C106)","v":0}]
[{"$f":"IFERROR(INDEX(Lageromsætning!$A$3:$A$79,SMALL(IF(Lageromsætning!$A$3:$A$79=$A$2,ROW(Lageromsætning!$A$3:$A$79)-CELL(\"row\",Lageromsætning!$A$3:$A$79)+1),ROWS($1:104))),\"\")","v":""},{"$f":"IFERROR(INDEX(Lageromsætning!$C$3:$C$79,SMALL(IF(Lageromsætning!$A$3:$A$79=$A$2,ROW(Lageromsætning!$A$3:$A$79)-CELL(\"row\",Lageromsætning!$A$3:$A$79)+1),ROWS($2:105))),\"\")","v":""},{"$f":"IFERROR(INDEX(Lageromsætning!$D$3:$D$79,SMALL(IF(Lageromsætning!$A$3:$A$79=$A$2,ROW(Lageromsætning!$A$3:$A$79)-CELL(\"row\",Lageromsætning!$A$3:$A$79)+1),ROWS($2:105))),\"\")","v":""},{"$f":"IFERROR(INDEX(Lageromsætning!$E$3:$E$79,SMALL(IF(Lageromsætning!$A$3:$A$79=$A$2,ROW(Lageromsætning!$A$3:$A$79)-CELL(\"row\",Lageromsætning!$A$3:$A$79)+1),ROWS($2:105))),\"\")","v":""},{"$f":"IFERROR(INDEX(Lageromsætning!$AF$3:$AF$79,SMALL(IF(Lageromsætning!$A$3:$A$79=$A$2,ROW(Lageromsætning!$A$3:$A$79)-CELL(\"row\",Lageromsætning!$A$3:$A$79)+1),ROWS($2:105))),\"\")","v":""},{"$f":"SUMIFS('Lager antal'!$D$3:$D$2508,'Lager antal'!$B$3:$B$2508,B107,'Lager antal'!$C$3:$C$2508,C107)","v":0},{"$f":"SUMIFS('Lager antal'!$F$3:$F$2508,'Lager antal'!$B$3:$B$2508,B107,'Lager antal'!$C$3:$C$2508,C107)","v":0},{"$f":"IF(ISNA(VLOOKUP($C107,'Lager antal'!$C$3:$K$508,9,FALSE))=TRUE,\"\",VLOOKUP($C107,'Lager antal'!$C$3:$K$508,9,FALSE))","v":""},{"$f":"IFERROR(INDEX(Lageromsætning!$P$3:$P$79,SMALL(IF(Lageromsætning!$A$3:$A$79=$A$2,ROW(Lageromsætning!$A$3:$A$79)-CELL(\"row\",Lageromsætning!$A$3:$A$79)+1),ROWS($2:105))),\"\")","v":""},{"$f":"+_xlfn.IFS($M107>=0.01,$M107,TRUE,0)-$F107-K107+G107","v":0},{"$f":"SUMIFS('Lager antal'!$G$3:$G$2508,'Lager antal'!$B$3:$B$2508,B107,'Lager antal'!$C$3:$C$2508,C107)","v":0},null,0,{"$f":"SUMIFS(Lageromsætning!$R$3:$R$79,Lageromsætning!$A$3:$A$79,$A$2,Lageromsætning!$C$3:$C$79,B107,Lageromsætning!$D$3:$D$79,C107)","v":0},{"$f":"SUMIFS(Lageromsætning!$S$3:$S$79,Lageromsætning!$C$3:$C$79,B107,Lageromsætning!$D$3:$D$79,C107)","v":0}]
[{"$f":"IFERROR(INDEX(Lageromsætning!$A$3:$A$79,SMALL(IF(Lageromsætning!$A$3:$A$79=$A$2,ROW(Lageromsætning!$A$3:$A$79)-CELL(\"row\",Lageromsætning!$A$3:$A$79)+1),ROWS($1:105))),\"\")","v":""},{"$f":"IFERROR(INDEX(Lageromsætning!$C$3:$C$79,SMALL(IF(Lageromsætning!$A$3:$A$79=$A$2,ROW(Lageromsætning!$A$3:$A$79)-CELL(\"row\",Lageromsætning!$A$3:$A$79)+1),ROWS($2:106))),\"\")","v":""},{"$f":"IFERROR(INDEX(Lageromsætning!$D$3:$D$79,SMALL(IF(Lageromsætning!$A$3:$A$79=$A$2,ROW(Lageromsætning!$A$3:$A$79)-CELL(\"row\",Lageromsætning!$A$3:$A$79)+1),ROWS($2:106))),\"\")","v":""},{"$f":"IFERROR(INDEX(Lageromsætning!$E$3:$E$79,SMALL(IF(Lageromsætning!$A$3:$A$79=$A$2,ROW(Lageromsætning!$A$3:$A$79)-CELL(\"row\",Lageromsætning!$A$3:$A$79)+1),ROWS($2:106))),\"\")","v":""},{"$f":"IFERROR(INDEX(Lageromsætning!$AF$3:$AF$79,SMALL(IF(Lageromsætning!$A$3:$A$79=$A$2,ROW(Lageromsætning!$A$3:$A$79)-CELL(\"row\",Lageromsætning!$A$3:$A$79)+1),ROWS($2:106))),\"\")","v":""},{"$f":"SUMIFS('Lager antal'!$D$3:$D$2508,'Lager antal'!$B$3:$B$2508,B108,'Lager antal'!$C$3:$C$2508,C108)","v":0},{"$f":"SUMIFS('Lager antal'!$F$3:$F$2508,'Lager antal'!$B$3:$B$2508,B108,'Lager antal'!$C$3:$C$2508,C108)","v":0},{"$f":"IF(ISNA(VLOOKUP($C108,'Lager antal'!$C$3:$K$508,9,FALSE))=TRUE,\"\",VLOOKUP($C108,'Lager antal'!$C$3:$K$508,9,FALSE))","v":""},{"$f":"IFERROR(INDEX(Lageromsætning!$P$3:$P$79,SMALL(IF(Lageromsætning!$A$3:$A$79=$A$2,ROW(Lageromsætning!$A$3:$A$79)-CELL(\"row\",Lageromsætning!$A$3:$A$79)+1),ROWS($2:106))),\"\")","v":""},{"$f":"+_xlfn.IFS($M108>=0.01,$M108,TRUE,0)-$F108-K108+G108","v":0},{"$f":"SUMIFS('Lager antal'!$G$3:$G$2508,'Lager antal'!$B$3:$B$2508,B108,'Lager antal'!$C$3:$C$2508,C108)","v":0},null,0,{"$f":"SUMIFS(Lageromsætning!$R$3:$R$79,Lageromsætning!$A$3:$A$79,$A$2,Lageromsætning!$C$3:$C$79,B108,Lageromsætning!$D$3:$D$79,C108)","v":0},{"$f":"SUMIFS(Lageromsætning!$S$3:$S$79,Lageromsætning!$C$3:$C$79,B108,Lageromsætning!$D$3:$D$79,C108)","v":0}]
[{"$f":"IFERROR(INDEX(Lageromsætning!$A$3:$A$79,SMALL(IF(Lageromsætning!$A$3:$A$79=$A$2,ROW(Lageromsætning!$A$3:$A$79)-CELL(\"row\",Lageromsætning!$A$3:$A$79)+1),ROWS($1:106))),\"\")","v":""},{"$f":"IFERROR(INDEX(Lageromsætning!$C$3:$C$79,SMALL(IF(Lageromsætning!$A$3:$A$79=$A$2,ROW(Lageromsætning!$A$3:$A$79)-CELL(\"row\",Lageromsætning!$A$3:$A$79)+1),ROWS($2:107))),\"\")","v":""},{"$f":"IFERROR(INDEX(Lageromsætning!$D$3:$D$79,SMALL(IF(Lageromsætning!$A$3:$A$79=$A$2,ROW(Lageromsætning!$A$3:$A$79)-CELL(\"row\",Lageromsætning!$A$3:$A$79)+1),ROWS($2:107))),\"\")","v":""},{"$f":"IFERROR(INDEX(Lageromsætning!$E$3:$E$79,SMALL(IF(Lageromsætning!$A$3:$A$79=$A$2,ROW(Lageromsætning!$A$3:$A$79)-CELL(\"row\",Lageromsætning!$A$3:$A$79)+1),ROWS($2:107))),\"\")","v":""},{"$f":"IFERROR(INDEX(Lageromsætning!$AF$3:$AF$79,SMALL(IF(Lageromsætning!$A$3:$A$79=$A$2,ROW(Lageromsætning!$A$3:$A$79)-CELL(\"row\",Lageromsætning!$A$3:$A$79)+1),ROWS($2:107))),\"\")","v":""},{"$f":"SUMIFS('Lager antal'!$D$3:$D$2508,'Lager antal'!$B$3:$B$2508,B109,'Lager antal'!$C$3:$C$2508,C109)","v":0},{"$f":"SUMIFS('Lager antal'!$F$3:$F$2508,'Lager antal'!$B$3:$B$2508,B109,'Lager antal'!$C$3:$C$2508,C109)","v":0},{"$f":"IF(ISNA(VLOOKUP($C109,'Lager antal'!$C$3:$K$508,9,FALSE))=TRUE,\"\",VLOOKUP($C109,'Lager antal'!$C$3:$K$508,9,FALSE))","v":""},{"$f":"IFERROR(INDEX(Lageromsætning!$P$3:$P$79,SMALL(IF(Lageromsætning!$A$3:$A$79=$A$2,ROW(Lageromsætning!$A$3:$A$79)-CELL(\"row\",Lageromsætning!$A$3:$A$79)+1),ROWS($2:107))),\"\")","v":""},{"$f":"+_xlfn.IFS($M109>=0.01,$M109,TRUE,0)-$F109-K109+G109","v":0},{"$f":"SUMIFS('Lager antal'!$G$3:$G$2508,'Lager antal'!$B$3:$B$2508,B109,'Lager antal'!$C$3:$C$2508,C109)","v":0},null,0,{"$f":"SUMIFS(Lageromsætning!$R$3:$R$79,Lageromsætning!$A$3:$A$79,$A$2,Lageromsætning!$C$3:$C$79,B109,Lageromsætning!$D$3:$D$79,C109)","v":0},{"$f":"SUMIFS(Lageromsætning!$S$3:$S$79,Lageromsætning!$C$3:$C$79,B109,Lageromsætning!$D$3:$D$79,C109)","v":0}]
[{"$f":"IFERROR(INDEX(Lageromsætning!$A$3:$A$79,SMALL(IF(Lageromsætning!$A$3:$A$79=$A$2,ROW(Lageromsætning!$A$3:$A$79)-CELL(\"row\",Lageromsætning!$A$3:$A$79)+1),ROWS($1:107))),\"\")","v":""},{"$f":"IFERROR(INDEX(Lageromsætning!$C$3:$C$79,SMALL(IF(Lageromsætning!$A$3:$A$79=$A$2,ROW(Lageromsætning!$A$3:$A$79)-CELL(\"row\",Lageromsætning!$A$3:$A$79)+1),ROWS($2:108))),\"\")","v":""},{"$f":"IFERROR(INDEX(Lageromsætning!$D$3:$D$79,SMALL(IF(Lageromsætning!$A$3:$A$79=$A$2,ROW(Lageromsætning!$A$3:$A$79)-CELL(\"row\",Lageromsætning!$A$3:$A$79)+1),ROWS($2:108))),\"\")","v":""},{"$f":"IFERROR(INDEX(Lageromsætning!$E$3:$E$79,SMALL(IF(Lageromsætning!$A$3:$A$79=$A$2,ROW(Lageromsætning!$A$3:$A$79)-CELL(\"row\",Lageromsætning!$A$3:$A$79)+1),ROWS($2:108))),\"\")","v":""},{"$f":"IFERROR(INDEX(Lageromsætning!$AF$3:$AF$79,SMALL(IF(Lageromsætning!$A$3:$A$79=$A$2,ROW(Lageromsætning!$A$3:$A$79)-CELL(\"row\",Lageromsætning!$A$3:$A$79)+1),ROWS($2:108))),\"\")","v":""},{"$f":"SUMIFS('Lager antal'!$D$3:$D$2508,'Lager antal'!$B$3:$B$2508,B110,'Lager antal'!$C$3:$C$2508,C110)","v":0},{"$f":"SUMIFS('Lager antal'!$F$3:$F$2508,'Lager antal'!$B$3:$B$2508,B110,'Lager antal'!$C$3:$C$2508,C110)","v":0},{"$f":"IF(ISNA(VLOOKUP($C110,'Lager antal'!$C$3:$K$508,9,FALSE))=TRUE,\"\",VLOOKUP($C110,'Lager antal'!$C$3:$K$508,9,FALSE))","v":""},{"$f":"IFERROR(INDEX(Lageromsætning!$P$3:$P$79,SMALL(IF(Lageromsætning!$A$3:$A$79=$A$2,ROW(Lageromsætning!$A$3:$A$79)-CELL(\"row\",Lageromsætning!$A$3:$A$79)+1),ROWS($2:108))),\"\")","v":""},{"$f":"+_xlfn.IFS($M110>=0.01,$M110,TRUE,0)-$F110-K110+G110","v":0},{"$f":"SUMIFS('Lager antal'!$G$3:$G$2508,'Lager antal'!$B$3:$B$2508,B110,'Lager antal'!$C$3:$C$2508,C110)","v":0},null,0,{"$f":"SUMIFS(Lageromsætning!$R$3:$R$79,Lageromsætning!$A$3:$A$79,$A$2,Lageromsætning!$C$3:$C$79,B110,Lageromsætning!$D$3:$D$79,C110)","v":0},{"$f":"SUMIFS(Lageromsætning!$S$3:$S$79,Lageromsætning!$C$3:$C$79,B110,Lageromsætning!$D$3:$D$79,C110)","v":0}]
[{"$f":"IFERROR(INDEX(Lageromsætning!$A$3:$A$79,SMALL(IF(Lageromsætning!$A$3:$A$79=$A$2,ROW(Lageromsætning!$A$3:$A$79)-CELL(\"row\",Lageromsætning!$A$3:$A$79)+1),ROWS($1:108))),\"\")","v":""},{"$f":"IFERROR(INDEX(Lageromsætning!$C$3:$C$79,SMALL(IF(Lageromsætning!$A$3:$A$79=$A$2,ROW(Lageromsætning!$A$3:$A$79)-CELL(\"row\",Lageromsætning!$A$3:$A$79)+1),ROWS($2:109))),\"\")","v":""},{"$f":"IFERROR(INDEX(Lageromsætning!$D$3:$D$79,SMALL(IF(Lageromsætning!$A$3:$A$79=$A$2,ROW(Lageromsætning!$A$3:$A$79)-CELL(\"row\",Lageromsætning!$A$3:$A$79)+1),ROWS($2:109))),\"\")","v":""},{"$f":"IFERROR(INDEX(Lageromsætning!$E$3:$E$79,SMALL(IF(Lageromsætning!$A$3:$A$79=$A$2,ROW(Lageromsætning!$A$3:$A$79)-CELL(\"row\",Lageromsætning!$A$3:$A$79)+1),ROWS($2:109))),\"\")","v":""},{"$f":"IFERROR(INDEX(Lageromsætning!$AF$3:$AF$79,SMALL(IF(Lageromsætning!$A$3:$A$79=$A$2,ROW(Lageromsætning!$A$3:$A$79)-CELL(\"row\",Lageromsætning!$A$3:$A$79)+1),ROWS($2:109))),\"\")","v":""},{"$f":"SUMIFS('Lager antal'!$D$3:$D$2508,'Lager antal'!$B$3:$B$2508,B111,'Lager antal'!$C$3:$C$2508,C111)","v":0},{"$f":"SUMIFS('Lager antal'!$F$3:$F$2508,'Lager antal'!$B$3:$B$2508,B111,'Lager antal'!$C$3:$C$2508,C111)","v":0},{"$f":"IF(ISNA(VLOOKUP($C111,'Lager antal'!$C$3:$K$508,9,FALSE))=TRUE,\"\",VLOOKUP($C111,'Lager antal'!$C$3:$K$508,9,FALSE))","v":""},{"$f":"IFERROR(INDEX(Lageromsætning!$P$3:$P$79,SMALL(IF(Lageromsætning!$A$3:$A$79=$A$2,ROW(Lageromsætning!$A$3:$A$79)-CELL(\"row\",Lageromsætning!$A$3:$A$79)+1),ROWS($2:109))),\"\")","v":""},{"$f":"+_xlfn.IFS($M111>=0.01,$M111,TRUE,0)-$F111-K111+G111","v":0},{"$f":"SUMIFS('Lager antal'!$G$3:$G$2508,'Lager antal'!$B$3:$B$2508,B111,'Lager antal'!$C$3:$C$2508,C111)","v":0},null,0,{"$f":"SUMIFS(Lageromsætning!$R$3:$R$79,Lageromsætning!$A$3:$A$79,$A$2,Lageromsætning!$C$3:$C$79,B111,Lageromsætning!$D$3:$D$79,C111)","v":0},{"$f":"SUMIFS(Lageromsætning!$S$3:$S$79,Lageromsætning!$C$3:$C$79,B111,Lageromsætning!$D$3:$D$79,C111)","v":0}]
[{"$f":"IFERROR(INDEX(Lageromsætning!$A$3:$A$79,SMALL(IF(Lageromsætning!$A$3:$A$79=$A$2,ROW(Lageromsætning!$A$3:$A$79)-CELL(\"row\",Lageromsætning!$A$3:$A$79)+1),ROWS($1:109))),\"\")","v":""},{"$f":"IFERROR(INDEX(Lageromsætning!$C$3:$C$79,SMALL(IF(Lageromsætning!$A$3:$A$79=$A$2,ROW(Lageromsætning!$A$3:$A$79)-CELL(\"row\",Lageromsætning!$A$3:$A$79)+1),ROWS($2:110))),\"\")","v":""},{"$f":"IFERROR(INDEX(Lageromsætning!$D$3:$D$79,SMALL(IF(Lageromsætning!$A$3:$A$79=$A$2,ROW(Lageromsætning!$A$3:$A$79)-CELL(\"row\",Lageromsætning!$A$3:$A$79)+1),ROWS($2:110))),\"\")","v":""},{"$f":"IFERROR(INDEX(Lageromsætning!$E$3:$E$79,SMALL(IF(Lageromsætning!$A$3:$A$79=$A$2,ROW(Lageromsætning!$A$3:$A$79)-CELL(\"row\",Lageromsætning!$A$3:$A$79)+1),ROWS($2:110))),\"\")","v":""},{"$f":"IFERROR(INDEX(Lageromsætning!$AF$3:$AF$79,SMALL(IF(Lageromsætning!$A$3:$A$79=$A$2,ROW(Lageromsætning!$A$3:$A$79)-CELL(\"row\",Lageromsætning!$A$3:$A$79)+1),ROWS($2:110))),\"\")","v":""},{"$f":"SUMIFS('Lager antal'!$D$3:$D$2508,'Lager antal'!$B$3:$B$2508,B112,'Lager antal'!$C$3:$C$2508,C112)","v":0},{"$f":"SUMIFS('Lager antal'!$F$3:$F$2508,'Lager antal'!$B$3:$B$2508,B112,'Lager antal'!$C$3:$C$2508,C112)","v":0},{"$f":"IF(ISNA(VLOOKUP($C112,'Lager antal'!$C$3:$K$508,9,FALSE))=TRUE,\"\",VLOOKUP($C112,'Lager antal'!$C$3:$K$508,9,FALSE))","v":""},{"$f":"IFERROR(INDEX(Lageromsætning!$P$3:$P$79,SMALL(IF(Lageromsætning!$A$3:$A$79=$A$2,ROW(Lageromsætning!$A$3:$A$79)-CELL(\"row\",Lageromsætning!$A$3:$A$79)+1),ROWS($2:110))),\"\")","v":""},{"$f":"+_xlfn.IFS($M112>=0.01,$M112,TRUE,0)-$F112-K112+G112","v":0},{"$f":"SUMIFS('Lager antal'!$G$3:$G$2508,'Lager antal'!$B$3:$B$2508,B112,'Lager antal'!$C$3:$C$2508,C112)","v":0},null,0,{"$f":"SUMIFS(Lageromsætning!$R$3:$R$79,Lageromsætning!$A$3:$A$79,$A$2,Lageromsætning!$C$3:$C$79,B112,Lageromsætning!$D$3:$D$79,C112)","v":0},{"$f":"SUMIFS(Lageromsætning!$S$3:$S$79,Lageromsætning!$C$3:$C$79,B112,Lageromsætning!$D$3:$D$79,C112)","v":0}]
[{"$f":"IFERROR(INDEX(Lageromsætning!$A$3:$A$79,SMALL(IF(Lageromsætning!$A$3:$A$79=$A$2,ROW(Lageromsætning!$A$3:$A$79)-CELL(\"row\",Lageromsætning!$A$3:$A$79)+1),ROWS($1:110))),\"\")","v":""},{"$f":"IFERROR(INDEX(Lageromsætning!$C$3:$C$79,SMALL(IF(Lageromsætning!$A$3:$A$79=$A$2,ROW(Lageromsætning!$A$3:$A$79)-CELL(\"row\",Lageromsætning!$A$3:$A$79)+1),ROWS($2:111))),\"\")","v":""},{"$f":"IFERROR(INDEX(Lageromsætning!$D$3:$D$79,SMALL(IF(Lageromsætning!$A$3:$A$79=$A$2,ROW(Lageromsætning!$A$3:$A$79)-CELL(\"row\",Lageromsætning!$A$3:$A$79)+1),ROWS($2:111))),\"\")","v":""},{"$f":"IFERROR(INDEX(Lageromsætning!$E$3:$E$79,SMALL(IF(Lageromsætning!$A$3:$A$79=$A$2,ROW(Lageromsætning!$A$3:$A$79)-CELL(\"row\",Lageromsætning!$A$3:$A$79)+1),ROWS($2:111))),\"\")","v":""},{"$f":"IFERROR(INDEX(Lageromsætning!$AF$3:$AF$79,SMALL(IF(Lageromsætning!$A$3:$A$79=$A$2,ROW(Lageromsætning!$A$3:$A$79)-CELL(\"row\",Lageromsætning!$A$3:$A$79)+1),ROWS($2:111))),\"\")","v":""},{"$f":"SUMIFS('Lager antal'!$D$3:$D$2508,'Lager antal'!$B$3:$B$2508,B113,'Lager antal'!$C$3:$C$2508,C113)","v":0},{"$f":"SUMIFS('Lager antal'!$F$3:$F$2508,'Lager antal'!$B$3:$B$2508,B113,'Lager antal'!$C$3:$C$2508,C113)","v":0},{"$f":"IF(ISNA(VLOOKUP($C113,'Lager antal'!$C$3:$K$508,9,FALSE))=TRUE,\"\",VLOOKUP($C113,'Lager antal'!$C$3:$K$508,9,FALSE))","v":""},{"$f":"IFERROR(INDEX(Lageromsætning!$P$3:$P$79,SMALL(IF(Lageromsætning!$A$3:$A$79=$A$2,ROW(Lageromsætning!$A$3:$A$79)-CELL(\"row\",Lageromsætning!$A$3:$A$79)+1),ROWS($2:111))),\"\")","v":""},{"$f":"+_xlfn.IFS($M113>=0.01,$M113,TRUE,0)-$F113-K113+G113","v":0},{"$f":"SUMIFS('Lager antal'!$G$3:$G$2508,'Lager antal'!$B$3:$B$2508,B113,'Lager antal'!$C$3:$C$2508,C113)","v":0},null,0,{"$f":"SUMIFS(Lageromsætning!$R$3:$R$79,Lageromsætning!$A$3:$A$79,$A$2,Lageromsætning!$C$3:$C$79,B113,Lageromsætning!$D$3:$D$79,C113)","v":0},{"$f":"SUMIFS(Lageromsætning!$S$3:$S$79,Lageromsætning!$C$3:$C$79,B113,Lageromsætning!$D$3:$D$79,C113)","v":0}]
[{"$f":"IFERROR(INDEX(Lageromsætning!$A$3:$A$79,SMALL(IF(Lageromsætning!$A$3:$A$79=$A$2,ROW(Lageromsætning!$A$3:$A$79)-CELL(\"row\",Lageromsætning!$A$3:$A$79)+1),ROWS($1:111))),\"\")","v":""},{"$f":"IFERROR(INDEX(Lageromsætning!$C$3:$C$79,SMALL(IF(Lageromsætning!$A$3:$A$79=$A$2,ROW(Lageromsætning!$A$3:$A$79)-CELL(\"row\",Lageromsætning!$A$3:$A$79)+1),ROWS($2:112))),\"\")","v":""},{"$f":"IFERROR(INDEX(Lageromsætning!$D$3:$D$79,SMALL(IF(Lageromsætning!$A$3:$A$79=$A$2,ROW(Lageromsætning!$A$3:$A$79)-CELL(\"row\",Lageromsætning!$A$3:$A$79)+1),ROWS($2:112))),\"\")","v":""},{"$f":"IFERROR(INDEX(Lageromsætning!$E$3:$E$79,SMALL(IF(Lageromsætning!$A$3:$A$79=$A$2,ROW(Lageromsætning!$A$3:$A$79)-CELL(\"row\",Lageromsætning!$A$3:$A$79)+1),ROWS($2:112))),\"\")","v":""},{"$f":"IFERROR(INDEX(Lageromsætning!$AF$3:$AF$79,SMALL(IF(Lageromsætning!$A$3:$A$79=$A$2,ROW(Lageromsætning!$A$3:$A$79)-CELL(\"row\",Lageromsætning!$A$3:$A$79)+1),ROWS($2:112))),\"\")","v":""},{"$f":"SUMIFS('Lager antal'!$D$3:$D$2508,'Lager antal'!$B$3:$B$2508,B114,'Lager antal'!$C$3:$C$2508,C114)","v":0},{"$f":"SUMIFS('Lager antal'!$F$3:$F$2508,'Lager antal'!$B$3:$B$2508,B114,'Lager antal'!$C$3:$C$2508,C114)","v":0},{"$f":"IF(ISNA(VLOOKUP($C114,'Lager antal'!$C$3:$K$508,9,FALSE))=TRUE,\"\",VLOOKUP($C114,'Lager antal'!$C$3:$K$508,9,FALSE))","v":""},{"$f":"IFERROR(INDEX(Lageromsætning!$P$3:$P$79,SMALL(IF(Lageromsætning!$A$3:$A$79=$A$2,ROW(Lageromsætning!$A$3:$A$79)-CELL(\"row\",Lageromsætning!$A$3:$A$79)+1),ROWS($2:112))),\"\")","v":""},{"$f":"+_xlfn.IFS($M114>=0.01,$M114,TRUE,0)-$F114-K114+G114","v":0},{"$f":"SUMIFS('Lager antal'!$G$3:$G$2508,'Lager antal'!$B$3:$B$2508,B114,'Lager antal'!$C$3:$C$2508,C114)","v":0},null,0,{"$f":"SUMIFS(Lageromsætning!$R$3:$R$79,Lageromsætning!$A$3:$A$79,$A$2,Lageromsætning!$C$3:$C$79,B114,Lageromsætning!$D$3:$D$79,C114)","v":0},{"$f":"SUMIFS(Lageromsætning!$S$3:$S$79,Lageromsætning!$C$3:$C$79,B114,Lageromsætning!$D$3:$D$79,C114)","v":0}]
[{"$f":"IFERROR(INDEX(Lageromsætning!$A$3:$A$79,SMALL(IF(Lageromsætning!$A$3:$A$79=$A$2,ROW(Lageromsætning!$A$3:$A$79)-CELL(\"row\",Lageromsætning!$A$3:$A$79)+1),ROWS($1:112))),\"\")","v":""},{"$f":"IFERROR(INDEX(Lageromsætning!$C$3:$C$79,SMALL(IF(Lageromsætning!$A$3:$A$79=$A$2,ROW(Lageromsætning!$A$3:$A$79)-CELL(\"row\",Lageromsætning!$A$3:$A$79)+1),ROWS($2:113))),\"\")","v":""},{"$f":"IFERROR(INDEX(Lageromsætning!$D$3:$D$79,SMALL(IF(Lageromsætning!$A$3:$A$79=$A$2,ROW(Lageromsætning!$A$3:$A$79)-CELL(\"row\",Lageromsætning!$A$3:$A$79)+1),ROWS($2:113))),\"\")","v":""},{"$f":"IFERROR(INDEX(Lageromsætning!$E$3:$E$79,SMALL(IF(Lageromsætning!$A$3:$A$79=$A$2,ROW(Lageromsætning!$A$3:$A$79)-CELL(\"row\",Lageromsætning!$A$3:$A$79)+1),ROWS($2:113))),\"\")","v":""},{"$f":"IFERROR(INDEX(Lageromsætning!$AF$3:$AF$79,SMALL(IF(Lageromsætning!$A$3:$A$79=$A$2,ROW(Lageromsætning!$A$3:$A$79)-CELL(\"row\",Lageromsætning!$A$3:$A$79)+1),ROWS($2:113))),\"\")","v":""},{"$f":"SUMIFS('Lager antal'!$D$3:$D$2508,'Lager antal'!$B$3:$B$2508,B115,'Lager antal'!$C$3:$C$2508,C115)","v":0},{"$f":"SUMIFS('Lager antal'!$F$3:$F$2508,'Lager antal'!$B$3:$B$2508,B115,'Lager antal'!$C$3:$C$2508,C115)","v":0},{"$f":"IF(ISNA(VLOOKUP($C115,'Lager antal'!$C$3:$K$508,9,FALSE))=TRUE,\"\",VLOOKUP($C115,'Lager antal'!$C$3:$K$508,9,FALSE))","v":""},{"$f":"IFERROR(INDEX(Lageromsætning!$P$3:$P$79,SMALL(IF(Lageromsætning!$A$3:$A$79=$A$2,ROW(Lageromsætning!$A$3:$A$79)-CELL(\"row\",Lageromsætning!$A$3:$A$79)+1),ROWS($2:113))),\"\")","v":""},{"$f":"+_xlfn.IFS($M115>=0.01,$M115,TRUE,0)-$F115-K115+G115","v":0},{"$f":"SUMIFS('Lager antal'!$G$3:$G$2508,'Lager antal'!$B$3:$B$2508,B115,'Lager antal'!$C$3:$C$2508,C115)","v":0},null,0,{"$f":"SUMIFS(Lageromsætning!$R$3:$R$79,Lageromsætning!$A$3:$A$79,$A$2,Lageromsætning!$C$3:$C$79,B115,Lageromsætning!$D$3:$D$79,C115)","v":0},{"$f":"SUMIFS(Lageromsætning!$S$3:$S$79,Lageromsætning!$C$3:$C$79,B115,Lageromsætning!$D$3:$D$79,C115)","v":0}]
[{"$f":"IFERROR(INDEX(Lageromsætning!$A$3:$A$79,SMALL(IF(Lageromsætning!$A$3:$A$79=$A$2,ROW(Lageromsætning!$A$3:$A$79)-CELL(\"row\",Lageromsætning!$A$3:$A$79)+1),ROWS($1:113))),\"\")","v":""},{"$f":"IFERROR(INDEX(Lageromsætning!$C$3:$C$79,SMALL(IF(Lageromsætning!$A$3:$A$79=$A$2,ROW(Lageromsætning!$A$3:$A$79)-CELL(\"row\",Lageromsætning!$A$3:$A$79)+1),ROWS($2:114))),\"\")","v":""},{"$f":"IFERROR(INDEX(Lageromsætning!$D$3:$D$79,SMALL(IF(Lageromsætning!$A$3:$A$79=$A$2,ROW(Lageromsætning!$A$3:$A$79)-CELL(\"row\",Lageromsætning!$A$3:$A$79)+1),ROWS($2:114))),\"\")","v":""},{"$f":"IFERROR(INDEX(Lageromsætning!$E$3:$E$79,SMALL(IF(Lageromsætning!$A$3:$A$79=$A$2,ROW(Lageromsætning!$A$3:$A$79)-CELL(\"row\",Lageromsætning!$A$3:$A$79)+1),ROWS($2:114))),\"\")","v":""},{"$f":"IFERROR(INDEX(Lageromsætning!$AF$3:$AF$79,SMALL(IF(Lageromsætning!$A$3:$A$79=$A$2,ROW(Lageromsætning!$A$3:$A$79)-CELL(\"row\",Lageromsætning!$A$3:$A$79)+1),ROWS($2:114))),\"\")","v":""},{"$f":"SUMIFS('Lager antal'!$D$3:$D$2508,'Lager antal'!$B$3:$B$2508,B116,'Lager antal'!$C$3:$C$2508,C116)","v":0},{"$f":"SUMIFS('Lager antal'!$F$3:$F$2508,'Lager antal'!$B$3:$B$2508,B116,'Lager antal'!$C$3:$C$2508,C116)","v":0},{"$f":"IF(ISNA(VLOOKUP($C116,'Lager antal'!$C$3:$K$508,9,FALSE))=TRUE,\"\",VLOOKUP($C116,'Lager antal'!$C$3:$K$508,9,FALSE))","v":""},{"$f":"IFERROR(INDEX(Lageromsætning!$P$3:$P$79,SMALL(IF(Lageromsætning!$A$3:$A$79=$A$2,ROW(Lageromsætning!$A$3:$A$79)-CELL(\"row\",Lageromsætning!$A$3:$A$79)+1),ROWS($2:114))),\"\")","v":""},{"$f":"+_xlfn.IFS($M116>=0.01,$M116,TRUE,0)-$F116-K116+G116","v":0},{"$f":"SUMIFS('Lager antal'!$G$3:$G$2508,'Lager antal'!$B$3:$B$2508,B116,'Lager antal'!$C$3:$C$2508,C116)","v":0},null,0,{"$f":"SUMIFS(Lageromsætning!$R$3:$R$79,Lageromsætning!$A$3:$A$79,$A$2,Lageromsætning!$C$3:$C$79,B116,Lageromsætning!$D$3:$D$79,C116)","v":0},{"$f":"SUMIFS(Lageromsætning!$S$3:$S$79,Lageromsætning!$C$3:$C$79,B116,Lageromsætning!$D$3:$D$79,C116)","v":0}]
[{"$f":"IFERROR(INDEX(Lageromsætning!$A$3:$A$79,SMALL(IF(Lageromsætning!$A$3:$A$79=$A$2,ROW(Lageromsætning!$A$3:$A$79)-CELL(\"row\",Lageromsætning!$A$3:$A$79)+1),ROWS($1:114))),\"\")","v":""},{"$f":"IFERROR(INDEX(Lageromsætning!$C$3:$C$79,SMALL(IF(Lageromsætning!$A$3:$A$79=$A$2,ROW(Lageromsætning!$A$3:$A$79)-CELL(\"row\",Lageromsætning!$A$3:$A$79)+1),ROWS($2:115))),\"\")","v":""},{"$f":"IFERROR(INDEX(Lageromsætning!$D$3:$D$79,SMALL(IF(Lageromsætning!$A$3:$A$79=$A$2,ROW(Lageromsætning!$A$3:$A$79)-CELL(\"row\",Lageromsætning!$A$3:$A$79)+1),ROWS($2:115))),\"\")","v":""},{"$f":"IFERROR(INDEX(Lageromsætning!$E$3:$E$79,SMALL(IF(Lageromsætning!$A$3:$A$79=$A$2,ROW(Lageromsætning!$A$3:$A$79)-CELL(\"row\",Lageromsætning!$A$3:$A$79)+1),ROWS($2:115))),\"\")","v":""},{"$f":"IFERROR(INDEX(Lageromsætning!$AF$3:$AF$79,SMALL(IF(Lageromsætning!$A$3:$A$79=$A$2,ROW(Lageromsætning!$A$3:$A$79)-CELL(\"row\",Lageromsætning!$A$3:$A$79)+1),ROWS($2:115))),\"\")","v":""},{"$f":"SUMIFS('Lager antal'!$D$3:$D$2508,'Lager antal'!$B$3:$B$2508,B117,'Lager antal'!$C$3:$C$2508,C117)","v":0},{"$f":"SUMIFS('Lager antal'!$F$3:$F$2508,'Lager antal'!$B$3:$B$2508,B117,'Lager antal'!$C$3:$C$2508,C117)","v":0},{"$f":"IF(ISNA(VLOOKUP($C117,'Lager antal'!$C$3:$K$508,9,FALSE))=TRUE,\"\",VLOOKUP($C117,'Lager antal'!$C$3:$K$508,9,FALSE))","v":""},{"$f":"IFERROR(INDEX(Lageromsætning!$P$3:$P$79,SMALL(IF(Lageromsætning!$A$3:$A$79=$A$2,ROW(Lageromsætning!$A$3:$A$79)-CELL(\"row\",Lageromsætning!$A$3:$A$79)+1),ROWS($2:115))),\"\")","v":""},{"$f":"+_xlfn.IFS($M117>=0.01,$M117,TRUE,0)-$F117-K117+G117","v":0},{"$f":"SUMIFS('Lager antal'!$G$3:$G$2508,'Lager antal'!$B$3:$B$2508,B117,'Lager antal'!$C$3:$C$2508,C117)","v":0},null,0,{"$f":"SUMIFS(Lageromsætning!$R$3:$R$79,Lageromsætning!$A$3:$A$79,$A$2,Lageromsætning!$C$3:$C$79,B117,Lageromsætning!$D$3:$D$79,C117)","v":0},{"$f":"SUMIFS(Lageromsætning!$S$3:$S$79,Lageromsætning!$C$3:$C$79,B117,Lageromsætning!$D$3:$D$79,C117)","v":0}]
[{"$f":"IFERROR(INDEX(Lageromsætning!$A$3:$A$79,SMALL(IF(Lageromsætning!$A$3:$A$79=$A$2,ROW(Lageromsætning!$A$3:$A$79)-CELL(\"row\",Lageromsætning!$A$3:$A$79)+1),ROWS($1:115))),\"\")","v":""},{"$f":"IFERROR(INDEX(Lageromsætning!$C$3:$C$79,SMALL(IF(Lageromsætning!$A$3:$A$79=$A$2,ROW(Lageromsætning!$A$3:$A$79)-CELL(\"row\",Lageromsætning!$A$3:$A$79)+1),ROWS($2:116))),\"\")","v":""},{"$f":"IFERROR(INDEX(Lageromsætning!$D$3:$D$79,SMALL(IF(Lageromsætning!$A$3:$A$79=$A$2,ROW(Lageromsætning!$A$3:$A$79)-CELL(\"row\",Lageromsætning!$A$3:$A$79)+1),ROWS($2:116))),\"\")","v":""},{"$f":"IFERROR(INDEX(Lageromsætning!$E$3:$E$79,SMALL(IF(Lageromsætning!$A$3:$A$79=$A$2,ROW(Lageromsætning!$A$3:$A$79)-CELL(\"row\",Lageromsætning!$A$3:$A$79)+1),ROWS($2:116))),\"\")","v":""},{"$f":"IFERROR(INDEX(Lageromsætning!$AF$3:$AF$79,SMALL(IF(Lageromsætning!$A$3:$A$79=$A$2,ROW(Lageromsætning!$A$3:$A$79)-CELL(\"row\",Lageromsætning!$A$3:$A$79)+1),ROWS($2:116))),\"\")","v":""},{"$f":"SUMIFS('Lager antal'!$D$3:$D$2508,'Lager antal'!$B$3:$B$2508,B118,'Lager antal'!$C$3:$C$2508,C118)","v":0},{"$f":"SUMIFS('Lager antal'!$F$3:$F$2508,'Lager antal'!$B$3:$B$2508,B118,'Lager antal'!$C$3:$C$2508,C118)","v":0},{"$f":"IF(ISNA(VLOOKUP($C118,'Lager antal'!$C$3:$K$508,9,FALSE))=TRUE,\"\",VLOOKUP($C118,'Lager antal'!$C$3:$K$508,9,FALSE))","v":""},{"$f":"IFERROR(INDEX(Lageromsætning!$P$3:$P$79,SMALL(IF(Lageromsætning!$A$3:$A$79=$A$2,ROW(Lageromsætning!$A$3:$A$79)-CELL(\"row\",Lageromsætning!$A$3:$A$79)+1),ROWS($2:116))),\"\")","v":""},{"$f":"+_xlfn.IFS($M118>=0.01,$M118,TRUE,0)-$F118-K118+G118","v":0},{"$f":"SUMIFS('Lager antal'!$G$3:$G$2508,'Lager antal'!$B$3:$B$2508,B118,'Lager antal'!$C$3:$C$2508,C118)","v":0},null,0,{"$f":"SUMIFS(Lageromsætning!$R$3:$R$79,Lageromsætning!$A$3:$A$79,$A$2,Lageromsætning!$C$3:$C$79,B118,Lageromsætning!$D$3:$D$79,C118)","v":0},{"$f":"SUMIFS(Lageromsætning!$S$3:$S$79,Lageromsætning!$C$3:$C$79,B118,Lageromsætning!$D$3:$D$79,C118)","v":0}]
[{"$f":"IFERROR(INDEX(Lageromsætning!$A$3:$A$79,SMALL(IF(Lageromsætning!$A$3:$A$79=$A$2,ROW(Lageromsætning!$A$3:$A$79)-CELL(\"row\",Lageromsætning!$A$3:$A$79)+1),ROWS($1:116))),\"\")","v":""},{"$f":"IFERROR(INDEX(Lageromsætning!$C$3:$C$79,SMALL(IF(Lageromsætning!$A$3:$A$79=$A$2,ROW(Lageromsætning!$A$3:$A$79)-CELL(\"row\",Lageromsætning!$A$3:$A$79)+1),ROWS($2:117))),\"\")","v":""},{"$f":"IFERROR(INDEX(Lageromsætning!$D$3:$D$79,SMALL(IF(Lageromsætning!$A$3:$A$79=$A$2,ROW(Lageromsætning!$A$3:$A$79)-CELL(\"row\",Lageromsætning!$A$3:$A$79)+1),ROWS($2:117))),\"\")","v":""},{"$f":"IFERROR(INDEX(Lageromsætning!$E$3:$E$79,SMALL(IF(Lageromsætning!$A$3:$A$79=$A$2,ROW(Lageromsætning!$A$3:$A$79)-CELL(\"row\",Lageromsætning!$A$3:$A$79)+1),ROWS($2:117))),\"\")","v":""},{"$f":"IFERROR(INDEX(Lageromsætning!$AF$3:$AF$79,SMALL(IF(Lageromsætning!$A$3:$A$79=$A$2,ROW(Lageromsætning!$A$3:$A$79)-CELL(\"row\",Lageromsætning!$A$3:$A$79)+1),ROWS($2:117))),\"\")","v":""},{"$f":"SUMIFS('Lager antal'!$D$3:$D$2508,'Lager antal'!$B$3:$B$2508,B119,'Lager antal'!$C$3:$C$2508,C119)","v":0},{"$f":"SUMIFS('Lager antal'!$F$3:$F$2508,'Lager antal'!$B$3:$B$2508,B119,'Lager antal'!$C$3:$C$2508,C119)","v":0},{"$f":"IF(ISNA(VLOOKUP($C119,'Lager antal'!$C$3:$K$508,9,FALSE))=TRUE,\"\",VLOOKUP($C119,'Lager antal'!$C$3:$K$508,9,FALSE))","v":""},{"$f":"IFERROR(INDEX(Lageromsætning!$P$3:$P$79,SMALL(IF(Lageromsætning!$A$3:$A$79=$A$2,ROW(Lageromsætning!$A$3:$A$79)-CELL(\"row\",Lageromsætning!$A$3:$A$79)+1),ROWS($2:117))),\"\")","v":""},{"$f":"+_xlfn.IFS($M119>=0.01,$M119,TRUE,0)-$F119-K119+G119","v":0},{"$f":"SUMIFS('Lager antal'!$G$3:$G$2508,'Lager antal'!$B$3:$B$2508,B119,'Lager antal'!$C$3:$C$2508,C119)","v":0},null,0,{"$f":"SUMIFS(Lageromsætning!$R$3:$R$79,Lageromsætning!$A$3:$A$79,$A$2,Lageromsætning!$C$3:$C$79,B119,Lageromsætning!$D$3:$D$79,C119)","v":0},{"$f":"SUMIFS(Lageromsætning!$S$3:$S$79,Lageromsætning!$C$3:$C$79,B119,Lageromsætning!$D$3:$D$79,C119)","v":0}]
[{"$f":"IFERROR(INDEX(Lageromsætning!$A$3:$A$79,SMALL(IF(Lageromsætning!$A$3:$A$79=$A$2,ROW(Lageromsætning!$A$3:$A$79)-CELL(\"row\",Lageromsætning!$A$3:$A$79)+1),ROWS($1:117))),\"\")","v":""},{"$f":"IFERROR(INDEX(Lageromsætning!$C$3:$C$79,SMALL(IF(Lageromsætning!$A$3:$A$79=$A$2,ROW(Lageromsætning!$A$3:$A$79)-CELL(\"row\",Lageromsætning!$A$3:$A$79)+1),ROWS($2:118))),\"\")","v":""},{"$f":"IFERROR(INDEX(Lageromsætning!$D$3:$D$79,SMALL(IF(Lageromsætning!$A$3:$A$79=$A$2,ROW(Lageromsætning!$A$3:$A$79)-CELL(\"row\",Lageromsætning!$A$3:$A$79)+1),ROWS($2:118))),\"\")","v":""},{"$f":"IFERROR(INDEX(Lageromsætning!$E$3:$E$79,SMALL(IF(Lageromsætning!$A$3:$A$79=$A$2,ROW(Lageromsætning!$A$3:$A$79)-CELL(\"row\",Lageromsætning!$A$3:$A$79)+1),ROWS($2:118))),\"\")","v":""},{"$f":"IFERROR(INDEX(Lageromsætning!$AF$3:$AF$79,SMALL(IF(Lageromsætning!$A$3:$A$79=$A$2,ROW(Lageromsætning!$A$3:$A$79)-CELL(\"row\",Lageromsætning!$A$3:$A$79)+1),ROWS($2:118))),\"\")","v":""},{"$f":"SUMIFS('Lager antal'!$D$3:$D$2508,'Lager antal'!$B$3:$B$2508,B120,'Lager antal'!$C$3:$C$2508,C120)","v":0},{"$f":"SUMIFS('Lager antal'!$F$3:$F$2508,'Lager antal'!$B$3:$B$2508,B120,'Lager antal'!$C$3:$C$2508,C120)","v":0},{"$f":"IF(ISNA(VLOOKUP($C120,'Lager antal'!$C$3:$K$508,9,FALSE))=TRUE,\"\",VLOOKUP($C120,'Lager antal'!$C$3:$K$508,9,FALSE))","v":""},{"$f":"IFERROR(INDEX(Lageromsætning!$P$3:$P$79,SMALL(IF(Lageromsætning!$A$3:$A$79=$A$2,ROW(Lageromsætning!$A$3:$A$79)-CELL(\"row\",Lageromsætning!$A$3:$A$79)+1),ROWS($2:118))),\"\")","v":""},{"$f":"+_xlfn.IFS($M120>=0.01,$M120,TRUE,0)-$F120-K120+G120","v":0},{"$f":"SUMIFS('Lager antal'!$G$3:$G$2508,'Lager antal'!$B$3:$B$2508,B120,'Lager antal'!$C$3:$C$2508,C120)","v":0},null,0,{"$f":"SUMIFS(Lageromsætning!$R$3:$R$79,Lageromsætning!$A$3:$A$79,$A$2,Lageromsætning!$C$3:$C$79,B120,Lageromsætning!$D$3:$D$79,C120)","v":0},{"$f":"SUMIFS(Lageromsætning!$S$3:$S$79,Lageromsætning!$C$3:$C$79,B120,Lageromsætning!$D$3:$D$79,C120)","v":0}]
[{"$f":"IFERROR(INDEX(Lageromsætning!$A$3:$A$79,SMALL(IF(Lageromsætning!$A$3:$A$79=$A$2,ROW(Lageromsætning!$A$3:$A$79)-CELL(\"row\",Lageromsætning!$A$3:$A$79)+1),ROWS($1:118))),\"\")","v":""},{"$f":"IFERROR(INDEX(Lageromsætning!$C$3:$C$79,SMALL(IF(Lageromsætning!$A$3:$A$79=$A$2,ROW(Lageromsætning!$A$3:$A$79)-CELL(\"row\",Lageromsætning!$A$3:$A$79)+1),ROWS($2:119))),\"\")","v":""},{"$f":"IFERROR(INDEX(Lageromsætning!$D$3:$D$79,SMALL(IF(Lageromsætning!$A$3:$A$79=$A$2,ROW(Lageromsætning!$A$3:$A$79)-CELL(\"row\",Lageromsætning!$A$3:$A$79)+1),ROWS($2:119))),\"\")","v":""},{"$f":"IFERROR(INDEX(Lageromsætning!$E$3:$E$79,SMALL(IF(Lageromsætning!$A$3:$A$79=$A$2,ROW(Lageromsætning!$A$3:$A$79)-CELL(\"row\",Lageromsætning!$A$3:$A$79)+1),ROWS($2:119))),\"\")","v":""},{"$f":"IFERROR(INDEX(Lageromsætning!$AF$3:$AF$79,SMALL(IF(Lageromsætning!$A$3:$A$79=$A$2,ROW(Lageromsætning!$A$3:$A$79)-CELL(\"row\",Lageromsætning!$A$3:$A$79)+1),ROWS($2:119))),\"\")","v":""},{"$f":"SUMIFS('Lager antal'!$D$3:$D$2508,'Lager antal'!$B$3:$B$2508,B121,'Lager antal'!$C$3:$C$2508,C121)","v":0},{"$f":"SUMIFS('Lager antal'!$F$3:$F$2508,'Lager antal'!$B$3:$B$2508,B121,'Lager antal'!$C$3:$C$2508,C121)","v":0},{"$f":"IF(ISNA(VLOOKUP($C121,'Lager antal'!$C$3:$K$508,9,FALSE))=TRUE,\"\",VLOOKUP($C121,'Lager antal'!$C$3:$K$508,9,FALSE))","v":""},{"$f":"IFERROR(INDEX(Lageromsætning!$P$3:$P$79,SMALL(IF(Lageromsætning!$A$3:$A$79=$A$2,ROW(Lageromsætning!$A$3:$A$79)-CELL(\"row\",Lageromsætning!$A$3:$A$79)+1),ROWS($2:119))),\"\")","v":""},{"$f":"+_xlfn.IFS($M121>=0.01,$M121,TRUE,0)-$F121-K121+G121","v":0},{"$f":"SUMIFS('Lager antal'!$G$3:$G$2508,'Lager antal'!$B$3:$B$2508,B121,'Lager antal'!$C$3:$C$2508,C121)","v":0},null,0,{"$f":"SUMIFS(Lageromsætning!$R$3:$R$79,Lageromsætning!$A$3:$A$79,$A$2,Lageromsætning!$C$3:$C$79,B121,Lageromsætning!$D$3:$D$79,C121)","v":0},{"$f":"SUMIFS(Lageromsætning!$S$3:$S$79,Lageromsætning!$C$3:$C$79,B121,Lageromsætning!$D$3:$D$79,C121)","v":0}]
[{"$f":"IFERROR(INDEX(Lageromsætning!$A$3:$A$79,SMALL(IF(Lageromsætning!$A$3:$A$79=$A$2,ROW(Lageromsætning!$A$3:$A$79)-CELL(\"row\",Lageromsætning!$A$3:$A$79)+1),ROWS($1:119))),\"\")","v":""},{"$f":"IFERROR(INDEX(Lageromsætning!$C$3:$C$79,SMALL(IF(Lageromsætning!$A$3:$A$79=$A$2,ROW(Lageromsætning!$A$3:$A$79)-CELL(\"row\",Lageromsætning!$A$3:$A$79)+1),ROWS($2:120))),\"\")","v":""},{"$f":"IFERROR(INDEX(Lageromsætning!$D$3:$D$79,SMALL(IF(Lageromsætning!$A$3:$A$79=$A$2,ROW(Lageromsætning!$A$3:$A$79)-CELL(\"row\",Lageromsætning!$A$3:$A$79)+1),ROWS($2:120))),\"\")","v":""},{"$f":"IFERROR(INDEX(Lageromsætning!$E$3:$E$79,SMALL(IF(Lageromsætning!$A$3:$A$79=$A$2,ROW(Lageromsætning!$A$3:$A$79)-CELL(\"row\",Lageromsætning!$A$3:$A$79)+1),ROWS($2:120))),\"\")","v":""},{"$f":"IFERROR(INDEX(Lageromsætning!$AF$3:$AF$79,SMALL(IF(Lageromsætning!$A$3:$A$79=$A$2,ROW(Lageromsætning!$A$3:$A$79)-CELL(\"row\",Lageromsætning!$A$3:$A$79)+1),ROWS($2:120))),\"\")","v":""},{"$f":"SUMIFS('Lager antal'!$D$3:$D$2508,'Lager antal'!$B$3:$B$2508,B122,'Lager antal'!$C$3:$C$2508,C122)","v":0},{"$f":"SUMIFS('Lager antal'!$F$3:$F$2508,'Lager antal'!$B$3:$B$2508,B122,'Lager antal'!$C$3:$C$2508,C122)","v":0},{"$f":"IF(ISNA(VLOOKUP($C122,'Lager antal'!$C$3:$K$508,9,FALSE))=TRUE,\"\",VLOOKUP($C122,'Lager antal'!$C$3:$K$508,9,FALSE))","v":""},{"$f":"IFERROR(INDEX(Lageromsætning!$P$3:$P$79,SMALL(IF(Lageromsætning!$A$3:$A$79=$A$2,ROW(Lageromsætning!$A$3:$A$79)-CELL(\"row\",Lageromsætning!$A$3:$A$79)+1),ROWS($2:120))),\"\")","v":""},{"$f":"+_xlfn.IFS($M122>=0.01,$M122,TRUE,0)-$F122-K122+G122","v":0},{"$f":"SUMIFS('Lager antal'!$G$3:$G$2508,'Lager antal'!$B$3:$B$2508,B122,'Lager antal'!$C$3:$C$2508,C122)","v":0},null,0,{"$f":"SUMIFS(Lageromsætning!$R$3:$R$79,Lageromsætning!$A$3:$A$79,$A$2,Lageromsætning!$C$3:$C$79,B122,Lageromsætning!$D$3:$D$79,C122)","v":0},{"$f":"SUMIFS(Lageromsætning!$S$3:$S$79,Lageromsætning!$C$3:$C$79,B122,Lageromsætning!$D$3:$D$79,C122)","v":0}]
[{"$f":"IFERROR(INDEX(Lageromsætning!$A$3:$A$79,SMALL(IF(Lageromsætning!$A$3:$A$79=$A$2,ROW(Lageromsætning!$A$3:$A$79)-CELL(\"row\",Lageromsætning!$A$3:$A$79)+1),ROWS($1:120))),\"\")","v":""},{"$f":"IFERROR(INDEX(Lageromsætning!$C$3:$C$79,SMALL(IF(Lageromsætning!$A$3:$A$79=$A$2,ROW(Lageromsætning!$A$3:$A$79)-CELL(\"row\",Lageromsætning!$A$3:$A$79)+1),ROWS($2:121))),\"\")","v":""},{"$f":"IFERROR(INDEX(Lageromsætning!$D$3:$D$79,SMALL(IF(Lageromsætning!$A$3:$A$79=$A$2,ROW(Lageromsætning!$A$3:$A$79)-CELL(\"row\",Lageromsætning!$A$3:$A$79)+1),ROWS($2:121))),\"\")","v":""},{"$f":"IFERROR(INDEX(Lageromsætning!$E$3:$E$79,SMALL(IF(Lageromsætning!$A$3:$A$79=$A$2,ROW(Lageromsætning!$A$3:$A$79)-CELL(\"row\",Lageromsætning!$A$3:$A$79)+1),ROWS($2:121))),\"\")","v":""},{"$f":"IFERROR(INDEX(Lageromsætning!$AF$3:$AF$79,SMALL(IF(Lageromsætning!$A$3:$A$79=$A$2,ROW(Lageromsætning!$A$3:$A$79)-CELL(\"row\",Lageromsætning!$A$3:$A$79)+1),ROWS($2:121))),\"\")","v":""},{"$f":"SUMIFS('Lager antal'!$D$3:$D$2508,'Lager antal'!$B$3:$B$2508,B123,'Lager antal'!$C$3:$C$2508,C123)","v":0},{"$f":"SUMIFS('Lager antal'!$F$3:$F$2508,'Lager antal'!$B$3:$B$2508,B123,'Lager antal'!$C$3:$C$2508,C123)","v":0},{"$f":"IF(ISNA(VLOOKUP($C123,'Lager antal'!$C$3:$K$508,9,FALSE))=TRUE,\"\",VLOOKUP($C123,'Lager antal'!$C$3:$K$508,9,FALSE))","v":""},{"$f":"IFERROR(INDEX(Lageromsætning!$P$3:$P$79,SMALL(IF(Lageromsætning!$A$3:$A$79=$A$2,ROW(Lageromsætning!$A$3:$A$79)-CELL(\"row\",Lageromsætning!$A$3:$A$79)+1),ROWS($2:121))),\"\")","v":""},{"$f":"+_xlfn.IFS($M123>=0.01,$M123,TRUE,0)-$F123-K123+G123","v":0},{"$f":"SUMIFS('Lager antal'!$G$3:$G$2508,'Lager antal'!$B$3:$B$2508,B123,'Lager antal'!$C$3:$C$2508,C123)","v":0},null,0,{"$f":"SUMIFS(Lageromsætning!$R$3:$R$79,Lageromsætning!$A$3:$A$79,$A$2,Lageromsætning!$C$3:$C$79,B123,Lageromsætning!$D$3:$D$79,C123)","v":0},{"$f":"SUMIFS(Lageromsætning!$S$3:$S$79,Lageromsætning!$C$3:$C$79,B123,Lageromsætning!$D$3:$D$79,C123)","v":0}]
[{"$f":"IFERROR(INDEX(Lageromsætning!$A$3:$A$79,SMALL(IF(Lageromsætning!$A$3:$A$79=$A$2,ROW(Lageromsætning!$A$3:$A$79)-CELL(\"row\",Lageromsætning!$A$3:$A$79)+1),ROWS($1:121))),\"\")","v":""},{"$f":"IFERROR(INDEX(Lageromsætning!$C$3:$C$79,SMALL(IF(Lageromsætning!$A$3:$A$79=$A$2,ROW(Lageromsætning!$A$3:$A$79)-CELL(\"row\",Lageromsætning!$A$3:$A$79)+1),ROWS($2:122))),\"\")","v":""},{"$f":"IFERROR(INDEX(Lageromsætning!$D$3:$D$79,SMALL(IF(Lageromsætning!$A$3:$A$79=$A$2,ROW(Lageromsætning!$A$3:$A$79)-CELL(\"row\",Lageromsætning!$A$3:$A$79)+1),ROWS($2:122))),\"\")","v":""},{"$f":"IFERROR(INDEX(Lageromsætning!$E$3:$E$79,SMALL(IF(Lageromsætning!$A$3:$A$79=$A$2,ROW(Lageromsætning!$A$3:$A$79)-CELL(\"row\",Lageromsætning!$A$3:$A$79)+1),ROWS($2:122))),\"\")","v":""},{"$f":"IFERROR(INDEX(Lageromsætning!$AF$3:$AF$79,SMALL(IF(Lageromsætning!$A$3:$A$79=$A$2,ROW(Lageromsætning!$A$3:$A$79)-CELL(\"row\",Lageromsætning!$A$3:$A$79)+1),ROWS($2:122))),\"\")","v":""},{"$f":"SUMIFS('Lager antal'!$D$3:$D$2508,'Lager antal'!$B$3:$B$2508,B124,'Lager antal'!$C$3:$C$2508,C124)","v":0},{"$f":"SUMIFS('Lager antal'!$F$3:$F$2508,'Lager antal'!$B$3:$B$2508,B124,'Lager antal'!$C$3:$C$2508,C124)","v":0},{"$f":"IF(ISNA(VLOOKUP($C124,'Lager antal'!$C$3:$K$508,9,FALSE))=TRUE,\"\",VLOOKUP($C124,'Lager antal'!$C$3:$K$508,9,FALSE))","v":""},{"$f":"IFERROR(INDEX(Lageromsætning!$P$3:$P$79,SMALL(IF(Lageromsætning!$A$3:$A$79=$A$2,ROW(Lageromsætning!$A$3:$A$79)-CELL(\"row\",Lageromsætning!$A$3:$A$79)+1),ROWS($2:122))),\"\")","v":""},{"$f":"+_xlfn.IFS($M124>=0.01,$M124,TRUE,0)-$F124-K124+G124","v":0},{"$f":"SUMIFS('Lager antal'!$G$3:$G$2508,'Lager antal'!$B$3:$B$2508,B124,'Lager antal'!$C$3:$C$2508,C124)","v":0},null,0,{"$f":"SUMIFS(Lageromsætning!$R$3:$R$79,Lageromsætning!$A$3:$A$79,$A$2,Lageromsætning!$C$3:$C$79,B124,Lageromsætning!$D$3:$D$79,C124)","v":0},{"$f":"SUMIFS(Lageromsætning!$S$3:$S$79,Lageromsætning!$C$3:$C$79,B124,Lageromsætning!$D$3:$D$79,C124)","v":0}]
[{"$f":"IFERROR(INDEX(Lageromsætning!$A$3:$A$79,SMALL(IF(Lageromsætning!$A$3:$A$79=$A$2,ROW(Lageromsætning!$A$3:$A$79)-CELL(\"row\",Lageromsætning!$A$3:$A$79)+1),ROWS($1:122))),\"\")","v":""},{"$f":"IFERROR(INDEX(Lageromsætning!$C$3:$C$79,SMALL(IF(Lageromsætning!$A$3:$A$79=$A$2,ROW(Lageromsætning!$A$3:$A$79)-CELL(\"row\",Lageromsætning!$A$3:$A$79)+1),ROWS($2:123))),\"\")","v":""},{"$f":"IFERROR(INDEX(Lageromsætning!$D$3:$D$79,SMALL(IF(Lageromsætning!$A$3:$A$79=$A$2,ROW(Lageromsætning!$A$3:$A$79)-CELL(\"row\",Lageromsætning!$A$3:$A$79)+1),ROWS($2:123))),\"\")","v":""},{"$f":"IFERROR(INDEX(Lageromsætning!$E$3:$E$79,SMALL(IF(Lageromsætning!$A$3:$A$79=$A$2,ROW(Lageromsætning!$A$3:$A$79)-CELL(\"row\",Lageromsætning!$A$3:$A$79)+1),ROWS($2:123))),\"\")","v":""},{"$f":"IFERROR(INDEX(Lageromsætning!$AF$3:$AF$79,SMALL(IF(Lageromsætning!$A$3:$A$79=$A$2,ROW(Lageromsætning!$A$3:$A$79)-CELL(\"row\",Lageromsætning!$A$3:$A$79)+1),ROWS($2:123))),\"\")","v":""},{"$f":"SUMIFS('Lager antal'!$D$3:$D$2508,'Lager antal'!$B$3:$B$2508,B125,'Lager antal'!$C$3:$C$2508,C125)","v":0},{"$f":"SUMIFS('Lager antal'!$F$3:$F$2508,'Lager antal'!$B$3:$B$2508,B125,'Lager antal'!$C$3:$C$2508,C125)","v":0},{"$f":"IF(ISNA(VLOOKUP($C125,'Lager antal'!$C$3:$K$508,9,FALSE))=TRUE,\"\",VLOOKUP($C125,'Lager antal'!$C$3:$K$508,9,FALSE))","v":""},{"$f":"IFERROR(INDEX(Lageromsætning!$P$3:$P$79,SMALL(IF(Lageromsætning!$A$3:$A$79=$A$2,ROW(Lageromsætning!$A$3:$A$79)-CELL(\"row\",Lageromsætning!$A$3:$A$79)+1),ROWS($2:123))),\"\")","v":""},{"$f":"+_xlfn.IFS($M125>=0.01,$M125,TRUE,0)-$F125-K125+G125","v":0},{"$f":"SUMIFS('Lager antal'!$G$3:$G$2508,'Lager antal'!$B$3:$B$2508,B125,'Lager antal'!$C$3:$C$2508,C125)","v":0},null,0,{"$f":"SUMIFS(Lageromsætning!$R$3:$R$79,Lageromsætning!$A$3:$A$79,$A$2,Lageromsætning!$C$3:$C$79,B125,Lageromsætning!$D$3:$D$79,C125)","v":0},{"$f":"SUMIFS(Lageromsætning!$S$3:$S$79,Lageromsætning!$C$3:$C$79,B125,Lageromsætning!$D$3:$D$79,C125)","v":0}]
[{"$f":"IFERROR(INDEX(Lageromsætning!$A$3:$A$79,SMALL(IF(Lageromsætning!$A$3:$A$79=$A$2,ROW(Lageromsætning!$A$3:$A$79)-CELL(\"row\",Lageromsætning!$A$3:$A$79)+1),ROWS($1:123))),\"\")","v":""},{"$f":"IFERROR(INDEX(Lageromsætning!$C$3:$C$79,SMALL(IF(Lageromsætning!$A$3:$A$79=$A$2,ROW(Lageromsætning!$A$3:$A$79)-CELL(\"row\",Lageromsætning!$A$3:$A$79)+1),ROWS($2:124))),\"\")","v":""},{"$f":"IFERROR(INDEX(Lageromsætning!$D$3:$D$79,SMALL(IF(Lageromsætning!$A$3:$A$79=$A$2,ROW(Lageromsætning!$A$3:$A$79)-CELL(\"row\",Lageromsætning!$A$3:$A$79)+1),ROWS($2:124))),\"\")","v":""},{"$f":"IFERROR(INDEX(Lageromsætning!$E$3:$E$79,SMALL(IF(Lageromsætning!$A$3:$A$79=$A$2,ROW(Lageromsætning!$A$3:$A$79)-CELL(\"row\",Lageromsætning!$A$3:$A$79)+1),ROWS($2:124))),\"\")","v":""},{"$f":"IFERROR(INDEX(Lageromsætning!$AF$3:$AF$79,SMALL(IF(Lageromsætning!$A$3:$A$79=$A$2,ROW(Lageromsætning!$A$3:$A$79)-CELL(\"row\",Lageromsætning!$A$3:$A$79)+1),ROWS($2:124))),\"\")","v":""},{"$f":"SUMIFS('Lager antal'!$D$3:$D$2508,'Lager antal'!$B$3:$B$2508,B126,'Lager antal'!$C$3:$C$2508,C126)","v":0},{"$f":"SUMIFS('Lager antal'!$F$3:$F$2508,'Lager antal'!$B$3:$B$2508,B126,'Lager antal'!$C$3:$C$2508,C126)","v":0},{"$f":"IF(ISNA(VLOOKUP($C126,'Lager antal'!$C$3:$K$508,9,FALSE))=TRUE,\"\",VLOOKUP($C126,'Lager antal'!$C$3:$K$508,9,FALSE))","v":""},{"$f":"IFERROR(INDEX(Lageromsætning!$P$3:$P$79,SMALL(IF(Lageromsætning!$A$3:$A$79=$A$2,ROW(Lageromsætning!$A$3:$A$79)-CELL(\"row\",Lageromsætning!$A$3:$A$79)+1),ROWS($2:124))),\"\")","v":""},{"$f":"+_xlfn.IFS($M126>=0.01,$M126,TRUE,0)-$F126-K126+G126","v":0},{"$f":"SUMIFS('Lager antal'!$G$3:$G$2508,'Lager antal'!$B$3:$B$2508,B126,'Lager antal'!$C$3:$C$2508,C126)","v":0},null,0,{"$f":"SUMIFS(Lageromsætning!$R$3:$R$79,Lageromsætning!$A$3:$A$79,$A$2,Lageromsætning!$C$3:$C$79,B126,Lageromsætning!$D$3:$D$79,C126)","v":0},{"$f":"SUMIFS(Lageromsætning!$S$3:$S$79,Lageromsætning!$C$3:$C$79,B126,Lageromsætning!$D$3:$D$79,C126)","v":0}]
[{"$f":"IFERROR(INDEX(Lageromsætning!$A$3:$A$79,SMALL(IF(Lageromsætning!$A$3:$A$79=$A$2,ROW(Lageromsætning!$A$3:$A$79)-CELL(\"row\",Lageromsætning!$A$3:$A$79)+1),ROWS($1:124))),\"\")","v":""},{"$f":"IFERROR(INDEX(Lageromsætning!$C$3:$C$79,SMALL(IF(Lageromsætning!$A$3:$A$79=$A$2,ROW(Lageromsætning!$A$3:$A$79)-CELL(\"row\",Lageromsætning!$A$3:$A$79)+1),ROWS($2:125))),\"\")","v":""},{"$f":"IFERROR(INDEX(Lageromsætning!$D$3:$D$79,SMALL(IF(Lageromsætning!$A$3:$A$79=$A$2,ROW(Lageromsætning!$A$3:$A$79)-CELL(\"row\",Lageromsætning!$A$3:$A$79)+1),ROWS($2:125))),\"\")","v":""},{"$f":"IFERROR(INDEX(Lageromsætning!$E$3:$E$79,SMALL(IF(Lageromsætning!$A$3:$A$79=$A$2,ROW(Lageromsætning!$A$3:$A$79)-CELL(\"row\",Lageromsætning!$A$3:$A$79)+1),ROWS($2:125))),\"\")","v":""},{"$f":"IFERROR(INDEX(Lageromsætning!$AF$3:$AF$79,SMALL(IF(Lageromsætning!$A$3:$A$79=$A$2,ROW(Lageromsætning!$A$3:$A$79)-CELL(\"row\",Lageromsætning!$A$3:$A$79)+1),ROWS($2:125))),\"\")","v":""},{"$f":"SUMIFS('Lager antal'!$D$3:$D$2508,'Lager antal'!$B$3:$B$2508,B127,'Lager antal'!$C$3:$C$2508,C127)","v":0},{"$f":"SUMIFS('Lager antal'!$F$3:$F$2508,'Lager antal'!$B$3:$B$2508,B127,'Lager antal'!$C$3:$C$2508,C127)","v":0},{"$f":"IF(ISNA(VLOOKUP($C127,'Lager antal'!$C$3:$K$508,9,FALSE))=TRUE,\"\",VLOOKUP($C127,'Lager antal'!$C$3:$K$508,9,FALSE))","v":""},{"$f":"IFERROR(INDEX(Lageromsætning!$P$3:$P$79,SMALL(IF(Lageromsætning!$A$3:$A$79=$A$2,ROW(Lageromsætning!$A$3:$A$79)-CELL(\"row\",Lageromsætning!$A$3:$A$79)+1),ROWS($2:125))),\"\")","v":""},{"$f":"+_xlfn.IFS($M127>=0.01,$M127,TRUE,0)-$F127-K127+G127","v":0},{"$f":"SUMIFS('Lager antal'!$G$3:$G$2508,'Lager antal'!$B$3:$B$2508,B127,'Lager antal'!$C$3:$C$2508,C127)","v":0},null,0,{"$f":"SUMIFS(Lageromsætning!$R$3:$R$79,Lageromsætning!$A$3:$A$79,$A$2,Lageromsætning!$C$3:$C$79,B127,Lageromsætning!$D$3:$D$79,C127)","v":0},{"$f":"SUMIFS(Lageromsætning!$S$3:$S$79,Lageromsætning!$C$3:$C$79,B127,Lageromsætning!$D$3:$D$79,C127)","v":0}]
[{"$f":"IFERROR(INDEX(Lageromsætning!$A$3:$A$79,SMALL(IF(Lageromsætning!$A$3:$A$79=$A$2,ROW(Lageromsætning!$A$3:$A$79)-CELL(\"row\",Lageromsætning!$A$3:$A$79)+1),ROWS($1:125))),\"\")","v":""},{"$f":"IFERROR(INDEX(Lageromsætning!$C$3:$C$79,SMALL(IF(Lageromsætning!$A$3:$A$79=$A$2,ROW(Lageromsætning!$A$3:$A$79)-CELL(\"row\",Lageromsætning!$A$3:$A$79)+1),ROWS($2:126))),\"\")","v":""},{"$f":"IFERROR(INDEX(Lageromsætning!$D$3:$D$79,SMALL(IF(Lageromsætning!$A$3:$A$79=$A$2,ROW(Lageromsætning!$A$3:$A$79)-CELL(\"row\",Lageromsætning!$A$3:$A$79)+1),ROWS($2:126))),\"\")","v":""},{"$f":"IFERROR(INDEX(Lageromsætning!$E$3:$E$79,SMALL(IF(Lageromsætning!$A$3:$A$79=$A$2,ROW(Lageromsætning!$A$3:$A$79)-CELL(\"row\",Lageromsætning!$A$3:$A$79)+1),ROWS($2:126))),\"\")","v":""},{"$f":"IFERROR(INDEX(Lageromsætning!$AF$3:$AF$79,SMALL(IF(Lageromsætning!$A$3:$A$79=$A$2,ROW(Lageromsætning!$A$3:$A$79)-CELL(\"row\",Lageromsætning!$A$3:$A$79)+1),ROWS($2:126))),\"\")","v":""},{"$f":"SUMIFS('Lager antal'!$D$3:$D$2508,'Lager antal'!$B$3:$B$2508,B128,'Lager antal'!$C$3:$C$2508,C128)","v":0},{"$f":"SUMIFS('Lager antal'!$F$3:$F$2508,'Lager antal'!$B$3:$B$2508,B128,'Lager antal'!$C$3:$C$2508,C128)","v":0},{"$f":"IF(ISNA(VLOOKUP($C128,'Lager antal'!$C$3:$K$508,9,FALSE))=TRUE,\"\",VLOOKUP($C128,'Lager antal'!$C$3:$K$508,9,FALSE))","v":""},{"$f":"IFERROR(INDEX(Lageromsætning!$P$3:$P$79,SMALL(IF(Lageromsætning!$A$3:$A$79=$A$2,ROW(Lageromsætning!$A$3:$A$79)-CELL(\"row\",Lageromsætning!$A$3:$A$79)+1),ROWS($2:126))),\"\")","v":""},{"$f":"+_xlfn.IFS($M128>=0.01,$M128,TRUE,0)-$F128-K128+G128","v":0},{"$f":"SUMIFS('Lager antal'!$G$3:$G$2508,'Lager antal'!$B$3:$B$2508,B128,'Lager antal'!$C$3:$C$2508,C128)","v":0},null,0,{"$f":"SUMIFS(Lageromsætning!$R$3:$R$79,Lageromsætning!$A$3:$A$79,$A$2,Lageromsætning!$C$3:$C$79,B128,Lageromsætning!$D$3:$D$79,C128)","v":0},{"$f":"SUMIFS(Lageromsætning!$S$3:$S$79,Lageromsætning!$C$3:$C$79,B128,Lageromsætning!$D$3:$D$79,C128)","v":0}]
[{"$f":"IFERROR(INDEX(Lageromsætning!$A$3:$A$79,SMALL(IF(Lageromsætning!$A$3:$A$79=$A$2,ROW(Lageromsætning!$A$3:$A$79)-CELL(\"row\",Lageromsætning!$A$3:$A$79)+1),ROWS($1:126))),\"\")","v":""},{"$f":"IFERROR(INDEX(Lageromsætning!$C$3:$C$79,SMALL(IF(Lageromsætning!$A$3:$A$79=$A$2,ROW(Lageromsætning!$A$3:$A$79)-CELL(\"row\",Lageromsætning!$A$3:$A$79)+1),ROWS($2:127))),\"\")","v":""},{"$f":"IFERROR(INDEX(Lageromsætning!$D$3:$D$79,SMALL(IF(Lageromsætning!$A$3:$A$79=$A$2,ROW(Lageromsætning!$A$3:$A$79)-CELL(\"row\",Lageromsætning!$A$3:$A$79)+1),ROWS($2:127))),\"\")","v":""},{"$f":"IFERROR(INDEX(Lageromsætning!$E$3:$E$79,SMALL(IF(Lageromsætning!$A$3:$A$79=$A$2,ROW(Lageromsætning!$A$3:$A$79)-CELL(\"row\",Lageromsætning!$A$3:$A$79)+1),ROWS($2:127))),\"\")","v":""},{"$f":"IFERROR(INDEX(Lageromsætning!$AF$3:$AF$79,SMALL(IF(Lageromsætning!$A$3:$A$79=$A$2,ROW(Lageromsætning!$A$3:$A$79)-CELL(\"row\",Lageromsætning!$A$3:$A$79)+1),ROWS($2:127))),\"\")","v":""},{"$f":"SUMIFS('Lager antal'!$D$3:$D$2508,'Lager antal'!$B$3:$B$2508,B129,'Lager antal'!$C$3:$C$2508,C129)","v":0},{"$f":"SUMIFS('Lager antal'!$F$3:$F$2508,'Lager antal'!$B$3:$B$2508,B129,'Lager antal'!$C$3:$C$2508,C129)","v":0},{"$f":"IF(ISNA(VLOOKUP($C129,'Lager antal'!$C$3:$K$508,9,FALSE))=TRUE,\"\",VLOOKUP($C129,'Lager antal'!$C$3:$K$508,9,FALSE))","v":""},{"$f":"IFERROR(INDEX(Lageromsætning!$P$3:$P$79,SMALL(IF(Lageromsætning!$A$3:$A$79=$A$2,ROW(Lageromsætning!$A$3:$A$79)-CELL(\"row\",Lageromsætning!$A$3:$A$79)+1),ROWS($2:127))),\"\")","v":""},{"$f":"+_xlfn.IFS($M129>=0.01,$M129,TRUE,0)-$F129-K129+G129","v":0},{"$f":"SUMIFS('Lager antal'!$G$3:$G$2508,'Lager antal'!$B$3:$B$2508,B129,'Lager antal'!$C$3:$C$2508,C129)","v":0},null,0,{"$f":"SUMIFS(Lageromsætning!$R$3:$R$79,Lageromsætning!$A$3:$A$79,$A$2,Lageromsætning!$C$3:$C$79,B129,Lageromsætning!$D$3:$D$79,C129)","v":0},{"$f":"SUMIFS(Lageromsætning!$S$3:$S$79,Lageromsætning!$C$3:$C$79,B129,Lageromsætning!$D$3:$D$79,C129)","v":0}]
[{"$f":"IFERROR(INDEX(Lageromsætning!$A$3:$A$79,SMALL(IF(Lageromsætning!$A$3:$A$79=$A$2,ROW(Lageromsætning!$A$3:$A$79)-CELL(\"row\",Lageromsætning!$A$3:$A$79)+1),ROWS($1:127))),\"\")","v":""},{"$f":"IFERROR(INDEX(Lageromsætning!$C$3:$C$79,SMALL(IF(Lageromsætning!$A$3:$A$79=$A$2,ROW(Lageromsætning!$A$3:$A$79)-CELL(\"row\",Lageromsætning!$A$3:$A$79)+1),ROWS($2:128))),\"\")","v":""},{"$f":"IFERROR(INDEX(Lageromsætning!$D$3:$D$79,SMALL(IF(Lageromsætning!$A$3:$A$79=$A$2,ROW(Lageromsætning!$A$3:$A$79)-CELL(\"row\",Lageromsætning!$A$3:$A$79)+1),ROWS($2:128))),\"\")","v":""},{"$f":"IFERROR(INDEX(Lageromsætning!$E$3:$E$79,SMALL(IF(Lageromsætning!$A$3:$A$79=$A$2,ROW(Lageromsætning!$A$3:$A$79)-CELL(\"row\",Lageromsætning!$A$3:$A$79)+1),ROWS($2:128))),\"\")","v":""},{"$f":"IFERROR(INDEX(Lageromsætning!$AF$3:$AF$79,SMALL(IF(Lageromsætning!$A$3:$A$79=$A$2,ROW(Lageromsætning!$A$3:$A$79)-CELL(\"row\",Lageromsætning!$A$3:$A$79)+1),ROWS($2:128))),\"\")","v":""},{"$f":"SUMIFS('Lager antal'!$D$3:$D$2508,'Lager antal'!$B$3:$B$2508,B130,'Lager antal'!$C$3:$C$2508,C130)","v":0},{"$f":"SUMIFS('Lager antal'!$F$3:$F$2508,'Lager antal'!$B$3:$B$2508,B130,'Lager antal'!$C$3:$C$2508,C130)","v":0},{"$f":"IF(ISNA(VLOOKUP($C130,'Lager antal'!$C$3:$K$508,9,FALSE))=TRUE,\"\",VLOOKUP($C130,'Lager antal'!$C$3:$K$508,9,FALSE))","v":""},{"$f":"IFERROR(INDEX(Lageromsætning!$P$3:$P$79,SMALL(IF(Lageromsætning!$A$3:$A$79=$A$2,ROW(Lageromsætning!$A$3:$A$79)-CELL(\"row\",Lageromsætning!$A$3:$A$79)+1),ROWS($2:128))),\"\")","v":""},{"$f":"+_xlfn.IFS($M130>=0.01,$M130,TRUE,0)-$F130-K130+G130","v":0},{"$f":"SUMIFS('Lager antal'!$G$3:$G$2508,'Lager antal'!$B$3:$B$2508,B130,'Lager antal'!$C$3:$C$2508,C130)","v":0},null,0,{"$f":"SUMIFS(Lageromsætning!$R$3:$R$79,Lageromsætning!$A$3:$A$79,$A$2,Lageromsætning!$C$3:$C$79,B130,Lageromsætning!$D$3:$D$79,C130)","v":0},{"$f":"SUMIFS(Lageromsætning!$S$3:$S$79,Lageromsætning!$C$3:$C$79,B130,Lageromsætning!$D$3:$D$79,C130)","v":0}]
[{"$f":"IFERROR(INDEX(Lageromsætning!$A$3:$A$79,SMALL(IF(Lageromsætning!$A$3:$A$79=$A$2,ROW(Lageromsætning!$A$3:$A$79)-CELL(\"row\",Lageromsætning!$A$3:$A$79)+1),ROWS($1:128))),\"\")","v":""},{"$f":"IFERROR(INDEX(Lageromsætning!$C$3:$C$79,SMALL(IF(Lageromsætning!$A$3:$A$79=$A$2,ROW(Lageromsætning!$A$3:$A$79)-CELL(\"row\",Lageromsætning!$A$3:$A$79)+1),ROWS($2:129))),\"\")","v":""},{"$f":"IFERROR(INDEX(Lageromsætning!$D$3:$D$79,SMALL(IF(Lageromsætning!$A$3:$A$79=$A$2,ROW(Lageromsætning!$A$3:$A$79)-CELL(\"row\",Lageromsætning!$A$3:$A$79)+1),ROWS($2:129))),\"\")","v":""},{"$f":"IFERROR(INDEX(Lageromsætning!$E$3:$E$79,SMALL(IF(Lageromsætning!$A$3:$A$79=$A$2,ROW(Lageromsætning!$A$3:$A$79)-CELL(\"row\",Lageromsætning!$A$3:$A$79)+1),ROWS($2:129))),\"\")","v":""},{"$f":"IFERROR(INDEX(Lageromsætning!$AF$3:$AF$79,SMALL(IF(Lageromsætning!$A$3:$A$79=$A$2,ROW(Lageromsætning!$A$3:$A$79)-CELL(\"row\",Lageromsætning!$A$3:$A$79)+1),ROWS($2:129))),\"\")","v":""},{"$f":"SUMIFS('Lager antal'!$D$3:$D$2508,'Lager antal'!$B$3:$B$2508,B131,'Lager antal'!$C$3:$C$2508,C131)","v":0},{"$f":"SUMIFS('Lager antal'!$F$3:$F$2508,'Lager antal'!$B$3:$B$2508,B131,'Lager antal'!$C$3:$C$2508,C131)","v":0},{"$f":"IF(ISNA(VLOOKUP($C131,'Lager antal'!$C$3:$K$508,9,FALSE))=TRUE,\"\",VLOOKUP($C131,'Lager antal'!$C$3:$K$508,9,FALSE))","v":""},{"$f":"IFERROR(INDEX(Lageromsætning!$P$3:$P$79,SMALL(IF(Lageromsætning!$A$3:$A$79=$A$2,ROW(Lageromsætning!$A$3:$A$79)-CELL(\"row\",Lageromsætning!$A$3:$A$79)+1),ROWS($2:129))),\"\")","v":""},{"$f":"+_xlfn.IFS($M131>=0.01,$M131,TRUE,0)-$F131-K131+G131","v":0},{"$f":"SUMIFS('Lager antal'!$G$3:$G$2508,'Lager antal'!$B$3:$B$2508,B131,'Lager antal'!$C$3:$C$2508,C131)","v":0},null,0,{"$f":"SUMIFS(Lageromsætning!$R$3:$R$79,Lageromsætning!$A$3:$A$79,$A$2,Lageromsætning!$C$3:$C$79,B131,Lageromsætning!$D$3:$D$79,C131)","v":0},{"$f":"SUMIFS(Lageromsætning!$S$3:$S$79,Lageromsætning!$C$3:$C$79,B131,Lageromsætning!$D$3:$D$79,C131)","v":0}]
[{"$f":"IFERROR(INDEX(Lageromsætning!$A$3:$A$79,SMALL(IF(Lageromsætning!$A$3:$A$79=$A$2,ROW(Lageromsætning!$A$3:$A$79)-CELL(\"row\",Lageromsætning!$A$3:$A$79)+1),ROWS($1:129))),\"\")","v":""},{"$f":"IFERROR(INDEX(Lageromsætning!$C$3:$C$79,SMALL(IF(Lageromsætning!$A$3:$A$79=$A$2,ROW(Lageromsætning!$A$3:$A$79)-CELL(\"row\",Lageromsætning!$A$3:$A$79)+1),ROWS($2:130))),\"\")","v":""},{"$f":"IFERROR(INDEX(Lageromsætning!$D$3:$D$79,SMALL(IF(Lageromsætning!$A$3:$A$79=$A$2,ROW(Lageromsætning!$A$3:$A$79)-CELL(\"row\",Lageromsætning!$A$3:$A$79)+1),ROWS($2:130))),\"\")","v":""},{"$f":"IFERROR(INDEX(Lageromsætning!$E$3:$E$79,SMALL(IF(Lageromsætning!$A$3:$A$79=$A$2,ROW(Lageromsætning!$A$3:$A$79)-CELL(\"row\",Lageromsætning!$A$3:$A$79)+1),ROWS($2:130))),\"\")","v":""},{"$f":"IFERROR(INDEX(Lageromsætning!$AF$3:$AF$79,SMALL(IF(Lageromsætning!$A$3:$A$79=$A$2,ROW(Lageromsætning!$A$3:$A$79)-CELL(\"row\",Lageromsætning!$A$3:$A$79)+1),ROWS($2:130))),\"\")","v":""},{"$f":"SUMIFS('Lager antal'!$D$3:$D$2508,'Lager antal'!$B$3:$B$2508,B132,'Lager antal'!$C$3:$C$2508,C132)","v":0},{"$f":"SUMIFS('Lager antal'!$F$3:$F$2508,'Lager antal'!$B$3:$B$2508,B132,'Lager antal'!$C$3:$C$2508,C132)","v":0},{"$f":"IF(ISNA(VLOOKUP($C132,'Lager antal'!$C$3:$K$508,9,FALSE))=TRUE,\"\",VLOOKUP($C132,'Lager antal'!$C$3:$K$508,9,FALSE))","v":""},{"$f":"IFERROR(INDEX(Lageromsætning!$P$3:$P$79,SMALL(IF(Lageromsætning!$A$3:$A$79=$A$2,ROW(Lageromsætning!$A$3:$A$79)-CELL(\"row\",Lageromsætning!$A$3:$A$79)+1),ROWS($2:130))),\"\")","v":""},{"$f":"+_xlfn.IFS($M132>=0.01,$M132,TRUE,0)-$F132-K132+G132","v":0},{"$f":"SUMIFS('Lager antal'!$G$3:$G$2508,'Lager antal'!$B$3:$B$2508,B132,'Lager antal'!$C$3:$C$2508,C132)","v":0},null,{"$f":"+$N132/$K$2","v":0},{"$f":"SUMIFS(Lageromsætning!$R$3:$R$79,Lageromsætning!$A$3:$A$79,$A$2,Lageromsætning!$C$3:$C$79,B132,Lageromsætning!$D$3:$D$79,C132)","v":0},{"$f":"SUMIFS(Lageromsætning!$S$3:$S$79,Lageromsætning!$C$3:$C$79,B132,Lageromsætning!$D$3:$D$79,C132)","v":0}]
[{"$f":"IFERROR(INDEX(Lageromsætning!$A$3:$A$79,SMALL(IF(Lageromsætning!$A$3:$A$79=$A$2,ROW(Lageromsætning!$A$3:$A$79)-CELL(\"row\",Lageromsætning!$A$3:$A$79)+1),ROWS($1:130))),\"\")","v":""},{"$f":"IFERROR(INDEX(Lageromsætning!$C$3:$C$79,SMALL(IF(Lageromsætning!$A$3:$A$79=$A$2,ROW(Lageromsætning!$A$3:$A$79)-CELL(\"row\",Lageromsætning!$A$3:$A$79)+1),ROWS($2:131))),\"\")","v":""},{"$f":"IFERROR(INDEX(Lageromsætning!$D$3:$D$79,SMALL(IF(Lageromsætning!$A$3:$A$79=$A$2,ROW(Lageromsætning!$A$3:$A$79)-CELL(\"row\",Lageromsætning!$A$3:$A$79)+1),ROWS($2:131))),\"\")","v":""},{"$f":"IFERROR(INDEX(Lageromsætning!$E$3:$E$79,SMALL(IF(Lageromsætning!$A$3:$A$79=$A$2,ROW(Lageromsætning!$A$3:$A$79)-CELL(\"row\",Lageromsætning!$A$3:$A$79)+1),ROWS($2:131))),\"\")","v":""},{"$f":"IFERROR(INDEX(Lageromsætning!$AF$3:$AF$79,SMALL(IF(Lageromsætning!$A$3:$A$79=$A$2,ROW(Lageromsætning!$A$3:$A$79)-CELL(\"row\",Lageromsætning!$A$3:$A$79)+1),ROWS($2:131))),\"\")","v":""},{"$f":"SUMIFS('Lager antal'!$D$3:$D$2508,'Lager antal'!$B$3:$B$2508,B133,'Lager antal'!$C$3:$C$2508,C133)","v":0},{"$f":"SUMIFS('Lager antal'!$F$3:$F$2508,'Lager antal'!$B$3:$B$2508,B133,'Lager antal'!$C$3:$C$2508,C133)","v":0},{"$f":"IF(ISNA(VLOOKUP($C133,'Lager antal'!$C$3:$K$508,9,FALSE))=TRUE,\"\",VLOOKUP($C133,'Lager antal'!$C$3:$K$508,9,FALSE))","v":""},{"$f":"IFERROR(INDEX(Lageromsætning!$P$3:$P$79,SMALL(IF(Lageromsætning!$A$3:$A$79=$A$2,ROW(Lageromsætning!$A$3:$A$79)-CELL(\"row\",Lageromsætning!$A$3:$A$79)+1),ROWS($2:131))),\"\")","v":""},{"$f":"+_xlfn.IFS($M133>=0.01,$M133,TRUE,0)-$F133-K133+G133","v":0},{"$f":"SUMIFS('Lager antal'!$G$3:$G$2508,'Lager antal'!$B$3:$B$2508,B133,'Lager antal'!$C$3:$C$2508,C133)","v":0},null,0,{"$f":"SUMIFS(Lageromsætning!$R$3:$R$79,Lageromsætning!$A$3:$A$79,$A$2,Lageromsætning!$C$3:$C$79,B133,Lageromsætning!$D$3:$D$79,C133)","v":0},{"$f":"SUMIFS(Lageromsætning!$S$3:$S$79,Lageromsætning!$C$3:$C$79,B133,Lageromsætning!$D$3:$D$79,C133)","v":0}]
[{"$f":"IFERROR(INDEX(Lageromsætning!$A$3:$A$79,SMALL(IF(Lageromsætning!$A$3:$A$79=$A$2,ROW(Lageromsætning!$A$3:$A$79)-CELL(\"row\",Lageromsætning!$A$3:$A$79)+1),ROWS($1:131))),\"\")","v":""},{"$f":"IFERROR(INDEX(Lageromsætning!$C$3:$C$79,SMALL(IF(Lageromsætning!$A$3:$A$79=$A$2,ROW(Lageromsætning!$A$3:$A$79)-CELL(\"row\",Lageromsætning!$A$3:$A$79)+1),ROWS($2:132))),\"\")","v":""},{"$f":"IFERROR(INDEX(Lageromsætning!$D$3:$D$79,SMALL(IF(Lageromsætning!$A$3:$A$79=$A$2,ROW(Lageromsætning!$A$3:$A$79)-CELL(\"row\",Lageromsætning!$A$3:$A$79)+1),ROWS($2:132))),\"\")","v":""},{"$f":"IFERROR(INDEX(Lageromsætning!$E$3:$E$79,SMALL(IF(Lageromsætning!$A$3:$A$79=$A$2,ROW(Lageromsætning!$A$3:$A$79)-CELL(\"row\",Lageromsætning!$A$3:$A$79)+1),ROWS($2:132))),\"\")","v":""},{"$f":"IFERROR(INDEX(Lageromsætning!$AF$3:$AF$79,SMALL(IF(Lageromsætning!$A$3:$A$79=$A$2,ROW(Lageromsætning!$A$3:$A$79)-CELL(\"row\",Lageromsætning!$A$3:$A$79)+1),ROWS($2:132))),\"\")","v":""},{"$f":"SUMIFS('Lager antal'!$D$3:$D$2508,'Lager antal'!$B$3:$B$2508,B134,'Lager antal'!$C$3:$C$2508,C134)","v":0},{"$f":"SUMIFS('Lager antal'!$F$3:$F$2508,'Lager antal'!$B$3:$B$2508,B134,'Lager antal'!$C$3:$C$2508,C134)","v":0},{"$f":"IF(ISNA(VLOOKUP($C134,'Lager antal'!$C$3:$K$508,9,FALSE))=TRUE,\"\",VLOOKUP($C134,'Lager antal'!$C$3:$K$508,9,FALSE))","v":""},{"$f":"IFERROR(INDEX(Lageromsætning!$P$3:$P$79,SMALL(IF(Lageromsætning!$A$3:$A$79=$A$2,ROW(Lageromsætning!$A$3:$A$79)-CELL(\"row\",Lageromsætning!$A$3:$A$79)+1),ROWS($2:132))),\"\")","v":""},{"$f":"+_xlfn.IFS($M134>=0.01,$M134,TRUE,0)-$F134-K134+G134","v":0},{"$f":"SUMIFS('Lager antal'!$G$3:$G$2508,'Lager antal'!$B$3:$B$2508,B134,'Lager antal'!$C$3:$C$2508,C134)","v":0},null,0,{"$f":"SUMIFS(Lageromsætning!$R$3:$R$79,Lageromsætning!$A$3:$A$79,$A$2,Lageromsætning!$C$3:$C$79,B134,Lageromsætning!$D$3:$D$79,C134)","v":0},{"$f":"SUMIFS(Lageromsætning!$S$3:$S$79,Lageromsætning!$C$3:$C$79,B134,Lageromsætning!$D$3:$D$79,C134)","v":0}]
[{"$f":"IFERROR(INDEX(Lageromsætning!$A$3:$A$79,SMALL(IF(Lageromsætning!$A$3:$A$79=$A$2,ROW(Lageromsætning!$A$3:$A$79)-CELL(\"row\",Lageromsætning!$A$3:$A$79)+1),ROWS($1:132))),\"\")","v":""},{"$f":"IFERROR(INDEX(Lageromsætning!$C$3:$C$79,SMALL(IF(Lageromsætning!$A$3:$A$79=$A$2,ROW(Lageromsætning!$A$3:$A$79)-CELL(\"row\",Lageromsætning!$A$3:$A$79)+1),ROWS($2:133))),\"\")","v":""},{"$f":"IFERROR(INDEX(Lageromsætning!$D$3:$D$79,SMALL(IF(Lageromsætning!$A$3:$A$79=$A$2,ROW(Lageromsætning!$A$3:$A$79)-CELL(\"row\",Lageromsætning!$A$3:$A$79)+1),ROWS($2:133))),\"\")","v":""},{"$f":"IFERROR(INDEX(Lageromsætning!$E$3:$E$79,SMALL(IF(Lageromsætning!$A$3:$A$79=$A$2,ROW(Lageromsætning!$A$3:$A$79)-CELL(\"row\",Lageromsætning!$A$3:$A$79)+1),ROWS($2:133))),\"\")","v":""},{"$f":"IFERROR(INDEX(Lageromsætning!$AF$3:$AF$79,SMALL(IF(Lageromsætning!$A$3:$A$79=$A$2,ROW(Lageromsætning!$A$3:$A$79)-CELL(\"row\",Lageromsætning!$A$3:$A$79)+1),ROWS($2:133))),\"\")","v":""},{"$f":"SUMIFS('Lager antal'!$D$3:$D$2508,'Lager antal'!$B$3:$B$2508,B135,'Lager antal'!$C$3:$C$2508,C135)","v":0},{"$f":"SUMIFS('Lager antal'!$F$3:$F$2508,'Lager antal'!$B$3:$B$2508,B135,'Lager antal'!$C$3:$C$2508,C135)","v":0},{"$f":"IF(ISNA(VLOOKUP($C135,'Lager antal'!$C$3:$K$508,9,FALSE))=TRUE,\"\",VLOOKUP($C135,'Lager antal'!$C$3:$K$508,9,FALSE))","v":""},{"$f":"IFERROR(INDEX(Lageromsætning!$P$3:$P$79,SMALL(IF(Lageromsætning!$A$3:$A$79=$A$2,ROW(Lageromsætning!$A$3:$A$79)-CELL(\"row\",Lageromsætning!$A$3:$A$79)+1),ROWS($2:133))),\"\")","v":""},{"$f":"+_xlfn.IFS($M135>=0.01,$M135,TRUE,0)-$F135-K135+G135","v":0},{"$f":"SUMIFS('Lager antal'!$G$3:$G$2508,'Lager antal'!$B$3:$B$2508,B135,'Lager antal'!$C$3:$C$2508,C135)","v":0},null,0,{"$f":"SUMIFS(Lageromsætning!$R$3:$R$79,Lageromsætning!$A$3:$A$79,$A$2,Lageromsætning!$C$3:$C$79,B135,Lageromsætning!$D$3:$D$79,C135)","v":0},{"$f":"SUMIFS(Lageromsætning!$S$3:$S$79,Lageromsætning!$C$3:$C$79,B135,Lageromsætning!$D$3:$D$79,C135)","v":0}]
[{"$f":"IFERROR(INDEX(Lageromsætning!$A$3:$A$79,SMALL(IF(Lageromsætning!$A$3:$A$79=$A$2,ROW(Lageromsætning!$A$3:$A$79)-CELL(\"row\",Lageromsætning!$A$3:$A$79)+1),ROWS($1:133))),\"\")","v":""},{"$f":"IFERROR(INDEX(Lageromsætning!$C$3:$C$79,SMALL(IF(Lageromsætning!$A$3:$A$79=$A$2,ROW(Lageromsætning!$A$3:$A$79)-CELL(\"row\",Lageromsætning!$A$3:$A$79)+1),ROWS($2:134))),\"\")","v":""},{"$f":"IFERROR(INDEX(Lageromsætning!$D$3:$D$79,SMALL(IF(Lageromsætning!$A$3:$A$79=$A$2,ROW(Lageromsætning!$A$3:$A$79)-CELL(\"row\",Lageromsætning!$A$3:$A$79)+1),ROWS($2:134))),\"\")","v":""},{"$f":"IFERROR(INDEX(Lageromsætning!$E$3:$E$79,SMALL(IF(Lageromsætning!$A$3:$A$79=$A$2,ROW(Lageromsætning!$A$3:$A$79)-CELL(\"row\",Lageromsætning!$A$3:$A$79)+1),ROWS($2:134))),\"\")","v":""},{"$f":"IFERROR(INDEX(Lageromsætning!$AF$3:$AF$79,SMALL(IF(Lageromsætning!$A$3:$A$79=$A$2,ROW(Lageromsætning!$A$3:$A$79)-CELL(\"row\",Lageromsætning!$A$3:$A$79)+1),ROWS($2:134))),\"\")","v":""},{"$f":"SUMIFS('Lager antal'!$D$3:$D$2508,'Lager antal'!$B$3:$B$2508,B136,'Lager antal'!$C$3:$C$2508,C136)","v":0},{"$f":"SUMIFS('Lager antal'!$F$3:$F$2508,'Lager antal'!$B$3:$B$2508,B136,'Lager antal'!$C$3:$C$2508,C136)","v":0},{"$f":"IF(ISNA(VLOOKUP($C136,'Lager antal'!$C$3:$K$508,9,FALSE))=TRUE,\"\",VLOOKUP($C136,'Lager antal'!$C$3:$K$508,9,FALSE))","v":""},{"$f":"IFERROR(INDEX(Lageromsætning!$P$3:$P$79,SMALL(IF(Lageromsætning!$A$3:$A$79=$A$2,ROW(Lageromsætning!$A$3:$A$79)-CELL(\"row\",Lageromsætning!$A$3:$A$79)+1),ROWS($2:134))),\"\")","v":""},{"$f":"+_xlfn.IFS($M136>=0.01,$M136,TRUE,0)-$F136-K136+G136","v":0},{"$f":"SUMIFS('Lager antal'!$G$3:$G$2508,'Lager antal'!$B$3:$B$2508,B136,'Lager antal'!$C$3:$C$2508,C136)","v":0},null,0,{"$f":"SUMIFS(Lageromsætning!$R$3:$R$79,Lageromsætning!$A$3:$A$79,$A$2,Lageromsætning!$C$3:$C$79,B136,Lageromsætning!$D$3:$D$79,C136)","v":0},{"$f":"SUMIFS(Lageromsætning!$S$3:$S$79,Lageromsætning!$C$3:$C$79,B136,Lageromsætning!$D$3:$D$79,C136)","v":0}]
[{"$f":"IFERROR(INDEX(Lageromsætning!$A$3:$A$79,SMALL(IF(Lageromsætning!$A$3:$A$79=$A$2,ROW(Lageromsætning!$A$3:$A$79)-CELL(\"row\",Lageromsætning!$A$3:$A$79)+1),ROWS($1:134))),\"\")","v":""},{"$f":"IFERROR(INDEX(Lageromsætning!$C$3:$C$79,SMALL(IF(Lageromsætning!$A$3:$A$79=$A$2,ROW(Lageromsætning!$A$3:$A$79)-CELL(\"row\",Lageromsætning!$A$3:$A$79)+1),ROWS($2:135))),\"\")","v":""},{"$f":"IFERROR(INDEX(Lageromsætning!$D$3:$D$79,SMALL(IF(Lageromsætning!$A$3:$A$79=$A$2,ROW(Lageromsætning!$A$3:$A$79)-CELL(\"row\",Lageromsætning!$A$3:$A$79)+1),ROWS($2:135))),\"\")","v":""},{"$f":"IFERROR(INDEX(Lageromsætning!$E$3:$E$79,SMALL(IF(Lageromsætning!$A$3:$A$79=$A$2,ROW(Lageromsætning!$A$3:$A$79)-CELL(\"row\",Lageromsætning!$A$3:$A$79)+1),ROWS($2:135))),\"\")","v":""},{"$f":"IFERROR(INDEX(Lageromsætning!$AF$3:$AF$79,SMALL(IF(Lageromsætning!$A$3:$A$79=$A$2,ROW(Lageromsætning!$A$3:$A$79)-CELL(\"row\",Lageromsætning!$A$3:$A$79)+1),ROWS($2:135))),\"\")","v":""},{"$f":"SUMIFS('Lager antal'!$D$3:$D$2508,'Lager antal'!$B$3:$B$2508,B137,'Lager antal'!$C$3:$C$2508,C137)","v":0},{"$f":"SUMIFS('Lager antal'!$F$3:$F$2508,'Lager antal'!$B$3:$B$2508,B137,'Lager antal'!$C$3:$C$2508,C137)","v":0},{"$f":"IF(ISNA(VLOOKUP($C137,'Lager antal'!$C$3:$K$508,9,FALSE))=TRUE,\"\",VLOOKUP($C137,'Lager antal'!$C$3:$K$508,9,FALSE))","v":""},{"$f":"IFERROR(INDEX(Lageromsætning!$P$3:$P$79,SMALL(IF(Lageromsætning!$A$3:$A$79=$A$2,ROW(Lageromsætning!$A$3:$A$79)-CELL(\"row\",Lageromsætning!$A$3:$A$79)+1),ROWS($2:135))),\"\")","v":""},{"$f":"+_xlfn.IFS($M137>=0.01,$M137,TRUE,0)-$F137-K137+G137","v":0},{"$f":"SUMIFS('Lager antal'!$G$3:$G$2508,'Lager antal'!$B$3:$B$2508,B137,'Lager antal'!$C$3:$C$2508,C137)","v":0},null,0,{"$f":"SUMIFS(Lageromsætning!$R$3:$R$79,Lageromsætning!$A$3:$A$79,$A$2,Lageromsætning!$C$3:$C$79,B137,Lageromsætning!$D$3:$D$79,C137)","v":0},{"$f":"SUMIFS(Lageromsætning!$S$3:$S$79,Lageromsætning!$C$3:$C$79,B137,Lageromsætning!$D$3:$D$79,C137)","v":0}]
[{"$f":"IFERROR(INDEX(Lageromsætning!$A$3:$A$79,SMALL(IF(Lageromsætning!$A$3:$A$79=$A$2,ROW(Lageromsætning!$A$3:$A$79)-CELL(\"row\",Lageromsætning!$A$3:$A$79)+1),ROWS($1:135))),\"\")","v":""},{"$f":"IFERROR(INDEX(Lageromsætning!$C$3:$C$79,SMALL(IF(Lageromsætning!$A$3:$A$79=$A$2,ROW(Lageromsætning!$A$3:$A$79)-CELL(\"row\",Lageromsætning!$A$3:$A$79)+1),ROWS($2:136))),\"\")","v":""},{"$f":"IFERROR(INDEX(Lageromsætning!$D$3:$D$79,SMALL(IF(Lageromsætning!$A$3:$A$79=$A$2,ROW(Lageromsætning!$A$3:$A$79)-CELL(\"row\",Lageromsætning!$A$3:$A$79)+1),ROWS($2:136))),\"\")","v":""},{"$f":"IFERROR(INDEX(Lageromsætning!$E$3:$E$79,SMALL(IF(Lageromsætning!$A$3:$A$79=$A$2,ROW(Lageromsætning!$A$3:$A$79)-CELL(\"row\",Lageromsætning!$A$3:$A$79)+1),ROWS($2:136))),\"\")","v":""},{"$f":"IFERROR(INDEX(Lageromsætning!$AF$3:$AF$79,SMALL(IF(Lageromsætning!$A$3:$A$79=$A$2,ROW(Lageromsætning!$A$3:$A$79)-CELL(\"row\",Lageromsætning!$A$3:$A$79)+1),ROWS($2:136))),\"\")","v":""},{"$f":"SUMIFS('Lager antal'!$D$3:$D$2508,'Lager antal'!$B$3:$B$2508,B138,'Lager antal'!$C$3:$C$2508,C138)","v":0},{"$f":"SUMIFS('Lager antal'!$F$3:$F$2508,'Lager antal'!$B$3:$B$2508,B138,'Lager antal'!$C$3:$C$2508,C138)","v":0},{"$f":"IF(ISNA(VLOOKUP($C138,'Lager antal'!$C$3:$K$508,9,FALSE))=TRUE,\"\",VLOOKUP($C138,'Lager antal'!$C$3:$K$508,9,FALSE))","v":""},{"$f":"IFERROR(INDEX(Lageromsætning!$P$3:$P$79,SMALL(IF(Lageromsætning!$A$3:$A$79=$A$2,ROW(Lageromsætning!$A$3:$A$79)-CELL(\"row\",Lageromsætning!$A$3:$A$79)+1),ROWS($2:136))),\"\")","v":""},{"$f":"+_xlfn.IFS($M138>=0.01,$M138,TRUE,0)-$F138-K138+G138","v":0},{"$f":"SUMIFS('Lager antal'!$G$3:$G$2508,'Lager antal'!$B$3:$B$2508,B138,'Lager antal'!$C$3:$C$2508,C138)","v":0},null,0,{"$f":"SUMIFS(Lageromsætning!$R$3:$R$79,Lageromsætning!$A$3:$A$79,$A$2,Lageromsætning!$C$3:$C$79,B138,Lageromsætning!$D$3:$D$79,C138)","v":0},{"$f":"SUMIFS(Lageromsætning!$S$3:$S$79,Lageromsætning!$C$3:$C$79,B138,Lageromsætning!$D$3:$D$79,C138)","v":0}]
[{"$f":"IFERROR(INDEX(Lageromsætning!$A$3:$A$79,SMALL(IF(Lageromsætning!$A$3:$A$79=$A$2,ROW(Lageromsætning!$A$3:$A$79)-CELL(\"row\",Lageromsætning!$A$3:$A$79)+1),ROWS($1:136))),\"\")","v":""},{"$f":"IFERROR(INDEX(Lageromsætning!$C$3:$C$79,SMALL(IF(Lageromsætning!$A$3:$A$79=$A$2,ROW(Lageromsætning!$A$3:$A$79)-CELL(\"row\",Lageromsætning!$A$3:$A$79)+1),ROWS($2:137))),\"\")","v":""},{"$f":"IFERROR(INDEX(Lageromsætning!$D$3:$D$79,SMALL(IF(Lageromsætning!$A$3:$A$79=$A$2,ROW(Lageromsætning!$A$3:$A$79)-CELL(\"row\",Lageromsætning!$A$3:$A$79)+1),ROWS($2:137))),\"\")","v":""},{"$f":"IFERROR(INDEX(Lageromsætning!$E$3:$E$79,SMALL(IF(Lageromsætning!$A$3:$A$79=$A$2,ROW(Lageromsætning!$A$3:$A$79)-CELL(\"row\",Lageromsætning!$A$3:$A$79)+1),ROWS($2:137))),\"\")","v":""},{"$f":"IFERROR(INDEX(Lageromsætning!$AF$3:$AF$79,SMALL(IF(Lageromsætning!$A$3:$A$79=$A$2,ROW(Lageromsætning!$A$3:$A$79)-CELL(\"row\",Lageromsætning!$A$3:$A$79)+1),ROWS($2:137))),\"\")","v":""},{"$f":"SUMIFS('Lager antal'!$D$3:$D$2508,'Lager antal'!$B$3:$B$2508,B139,'Lager antal'!$C$3:$C$2508,C139)","v":0},{"$f":"SUMIFS('Lager antal'!$F$3:$F$2508,'Lager antal'!$B$3:$B$2508,B139,'Lager antal'!$C$3:$C$2508,C139)","v":0},{"$f":"IF(ISNA(VLOOKUP($C139,'Lager antal'!$C$3:$K$508,9,FALSE))=TRUE,\"\",VLOOKUP($C139,'Lager antal'!$C$3:$K$508,9,FALSE))","v":""},{"$f":"IFERROR(INDEX(Lageromsætning!$P$3:$P$79,SMALL(IF(Lageromsætning!$A$3:$A$79=$A$2,ROW(Lageromsætning!$A$3:$A$79)-CELL(\"row\",Lageromsætning!$A$3:$A$79)+1),ROWS($2:137))),\"\")","v":""},{"$f":"+_xlfn.IFS($M139>=0.01,$M139,TRUE,0)-$F139-K139+G139","v":0},{"$f":"SUMIFS('Lager antal'!$G$3:$G$2508,'Lager antal'!$B$3:$B$2508,B139,'Lager antal'!$C$3:$C$2508,C139)","v":0},null,0,{"$f":"SUMIFS(Lageromsætning!$R$3:$R$79,Lageromsætning!$A$3:$A$79,$A$2,Lageromsætning!$C$3:$C$79,B139,Lageromsætning!$D$3:$D$79,C139)","v":0},{"$f":"SUMIFS(Lageromsætning!$S$3:$S$79,Lageromsætning!$C$3:$C$79,B139,Lageromsætning!$D$3:$D$79,C139)","v":0}]
[{"$f":"IFERROR(INDEX(Lageromsætning!$A$3:$A$79,SMALL(IF(Lageromsætning!$A$3:$A$79=$A$2,ROW(Lageromsætning!$A$3:$A$79)-CELL(\"row\",Lageromsætning!$A$3:$A$79)+1),ROWS($1:137))),\"\")","v":""},{"$f":"IFERROR(INDEX(Lageromsætning!$C$3:$C$79,SMALL(IF(Lageromsætning!$A$3:$A$79=$A$2,ROW(Lageromsætning!$A$3:$A$79)-CELL(\"row\",Lageromsætning!$A$3:$A$79)+1),ROWS($2:138))),\"\")","v":""},{"$f":"IFERROR(INDEX(Lageromsætning!$D$3:$D$79,SMALL(IF(Lageromsætning!$A$3:$A$79=$A$2,ROW(Lageromsætning!$A$3:$A$79)-CELL(\"row\",Lageromsætning!$A$3:$A$79)+1),ROWS($2:138))),\"\")","v":""},{"$f":"IFERROR(INDEX(Lageromsætning!$E$3:$E$79,SMALL(IF(Lageromsætning!$A$3:$A$79=$A$2,ROW(Lageromsætning!$A$3:$A$79)-CELL(\"row\",Lageromsætning!$A$3:$A$79)+1),ROWS($2:138))),\"\")","v":""},{"$f":"IFERROR(INDEX(Lageromsætning!$AF$3:$AF$79,SMALL(IF(Lageromsætning!$A$3:$A$79=$A$2,ROW(Lageromsætning!$A$3:$A$79)-CELL(\"row\",Lageromsætning!$A$3:$A$79)+1),ROWS($2:138))),\"\")","v":""},{"$f":"SUMIFS('Lager antal'!$D$3:$D$2508,'Lager antal'!$B$3:$B$2508,B140,'Lager antal'!$C$3:$C$2508,C140)","v":0},{"$f":"SUMIFS('Lager antal'!$F$3:$F$2508,'Lager antal'!$B$3:$B$2508,B140,'Lager antal'!$C$3:$C$2508,C140)","v":0},{"$f":"IF(ISNA(VLOOKUP($C140,'Lager antal'!$C$3:$K$508,9,FALSE))=TRUE,\"\",VLOOKUP($C140,'Lager antal'!$C$3:$K$508,9,FALSE))","v":""},{"$f":"IFERROR(INDEX(Lageromsætning!$P$3:$P$79,SMALL(IF(Lageromsætning!$A$3:$A$79=$A$2,ROW(Lageromsætning!$A$3:$A$79)-CELL(\"row\",Lageromsætning!$A$3:$A$79)+1),ROWS($2:138))),\"\")","v":""},{"$f":"+_xlfn.IFS($M140>=0.01,$M140,TRUE,0)-$F140-K140+G140","v":0},{"$f":"SUMIFS('Lager antal'!$G$3:$G$2508,'Lager antal'!$B$3:$B$2508,B140,'Lager antal'!$C$3:$C$2508,C140)","v":0},null,0,{"$f":"SUMIFS(Lageromsætning!$R$3:$R$79,Lageromsætning!$A$3:$A$79,$A$2,Lageromsætning!$C$3:$C$79,B140,Lageromsætning!$D$3:$D$79,C140)","v":0},{"$f":"SUMIFS(Lageromsætning!$S$3:$S$79,Lageromsætning!$C$3:$C$79,B140,Lageromsætning!$D$3:$D$79,C140)","v":0}]
[{"$f":"IFERROR(INDEX(Lageromsætning!$A$3:$A$79,SMALL(IF(Lageromsætning!$A$3:$A$79=$A$2,ROW(Lageromsætning!$A$3:$A$79)-CELL(\"row\",Lageromsætning!$A$3:$A$79)+1),ROWS($1:138))),\"\")","v":""},{"$f":"IFERROR(INDEX(Lageromsætning!$C$3:$C$79,SMALL(IF(Lageromsætning!$A$3:$A$79=$A$2,ROW(Lageromsætning!$A$3:$A$79)-CELL(\"row\",Lageromsætning!$A$3:$A$79)+1),ROWS($2:139))),\"\")","v":""},{"$f":"IFERROR(INDEX(Lageromsætning!$D$3:$D$79,SMALL(IF(Lageromsætning!$A$3:$A$79=$A$2,ROW(Lageromsætning!$A$3:$A$79)-CELL(\"row\",Lageromsætning!$A$3:$A$79)+1),ROWS($2:139))),\"\")","v":""},{"$f":"IFERROR(INDEX(Lageromsætning!$E$3:$E$79,SMALL(IF(Lageromsætning!$A$3:$A$79=$A$2,ROW(Lageromsætning!$A$3:$A$79)-CELL(\"row\",Lageromsætning!$A$3:$A$79)+1),ROWS($2:139))),\"\")","v":""},{"$f":"IFERROR(INDEX(Lageromsætning!$AF$3:$AF$79,SMALL(IF(Lageromsætning!$A$3:$A$79=$A$2,ROW(Lageromsætning!$A$3:$A$79)-CELL(\"row\",Lageromsætning!$A$3:$A$79)+1),ROWS($2:139))),\"\")","v":""},{"$f":"SUMIFS('Lager antal'!$D$3:$D$2508,'Lager antal'!$B$3:$B$2508,B141,'Lager antal'!$C$3:$C$2508,C141)","v":0},{"$f":"SUMIFS('Lager antal'!$F$3:$F$2508,'Lager antal'!$B$3:$B$2508,B141,'Lager antal'!$C$3:$C$2508,C141)","v":0},{"$f":"IF(ISNA(VLOOKUP($C141,'Lager antal'!$C$3:$K$508,9,FALSE))=TRUE,\"\",VLOOKUP($C141,'Lager antal'!$C$3:$K$508,9,FALSE))","v":""},{"$f":"IFERROR(INDEX(Lageromsætning!$P$3:$P$79,SMALL(IF(Lageromsætning!$A$3:$A$79=$A$2,ROW(Lageromsætning!$A$3:$A$79)-CELL(\"row\",Lageromsætning!$A$3:$A$79)+1),ROWS($2:139))),\"\")","v":""},{"$f":"+_xlfn.IFS($M141>=0.01,$M141,TRUE,0)-$F141-K141+G141","v":0},{"$f":"SUMIFS('Lager antal'!$G$3:$G$2508,'Lager antal'!$B$3:$B$2508,B141,'Lager antal'!$C$3:$C$2508,C141)","v":0},null,0,{"$f":"SUMIFS(Lageromsætning!$R$3:$R$79,Lageromsætning!$A$3:$A$79,$A$2,Lageromsætning!$C$3:$C$79,B141,Lageromsætning!$D$3:$D$79,C141)","v":0},{"$f":"SUMIFS(Lageromsætning!$S$3:$S$79,Lageromsætning!$C$3:$C$79,B141,Lageromsætning!$D$3:$D$79,C141)","v":0}]
[{"$f":"IFERROR(INDEX(Lageromsætning!$A$3:$A$79,SMALL(IF(Lageromsætning!$A$3:$A$79=$A$2,ROW(Lageromsætning!$A$3:$A$79)-CELL(\"row\",Lageromsætning!$A$3:$A$79)+1),ROWS($1:139))),\"\")","v":""},{"$f":"IFERROR(INDEX(Lageromsætning!$C$3:$C$79,SMALL(IF(Lageromsætning!$A$3:$A$79=$A$2,ROW(Lageromsætning!$A$3:$A$79)-CELL(\"row\",Lageromsætning!$A$3:$A$79)+1),ROWS($2:140))),\"\")","v":""},{"$f":"IFERROR(INDEX(Lageromsætning!$D$3:$D$79,SMALL(IF(Lageromsætning!$A$3:$A$79=$A$2,ROW(Lageromsætning!$A$3:$A$79)-CELL(\"row\",Lageromsætning!$A$3:$A$79)+1),ROWS($2:140))),\"\")","v":""},{"$f":"IFERROR(INDEX(Lageromsætning!$E$3:$E$79,SMALL(IF(Lageromsætning!$A$3:$A$79=$A$2,ROW(Lageromsætning!$A$3:$A$79)-CELL(\"row\",Lageromsætning!$A$3:$A$79)+1),ROWS($2:140))),\"\")","v":""},{"$f":"IFERROR(INDEX(Lageromsætning!$AF$3:$AF$79,SMALL(IF(Lageromsætning!$A$3:$A$79=$A$2,ROW(Lageromsætning!$A$3:$A$79)-CELL(\"row\",Lageromsætning!$A$3:$A$79)+1),ROWS($2:140))),\"\")","v":""},{"$f":"SUMIFS('Lager antal'!$D$3:$D$2508,'Lager antal'!$B$3:$B$2508,B142,'Lager antal'!$C$3:$C$2508,C142)","v":0},{"$f":"SUMIFS('Lager antal'!$F$3:$F$2508,'Lager antal'!$B$3:$B$2508,B142,'Lager antal'!$C$3:$C$2508,C142)","v":0},{"$f":"IF(ISNA(VLOOKUP($C142,'Lager antal'!$C$3:$K$508,9,FALSE))=TRUE,\"\",VLOOKUP($C142,'Lager antal'!$C$3:$K$508,9,FALSE))","v":""},{"$f":"IFERROR(INDEX(Lageromsætning!$P$3:$P$79,SMALL(IF(Lageromsætning!$A$3:$A$79=$A$2,ROW(Lageromsætning!$A$3:$A$79)-CELL(\"row\",Lageromsætning!$A$3:$A$79)+1),ROWS($2:140))),\"\")","v":""},{"$f":"+_xlfn.IFS($M142>=0.01,$M142,TRUE,0)-$F142-K142+G142","v":0},{"$f":"SUMIFS('Lager antal'!$G$3:$G$2508,'Lager antal'!$B$3:$B$2508,B142,'Lager antal'!$C$3:$C$2508,C142)","v":0},null,0,{"$f":"SUMIFS(Lageromsætning!$R$3:$R$79,Lageromsætning!$A$3:$A$79,$A$2,Lageromsætning!$C$3:$C$79,B142,Lageromsætning!$D$3:$D$79,C142)","v":0},{"$f":"SUMIFS(Lageromsætning!$S$3:$S$79,Lageromsætning!$C$3:$C$79,B142,Lageromsætning!$D$3:$D$79,C142)","v":0}]
[{"$f":"IFERROR(INDEX(Lageromsætning!$A$3:$A$79,SMALL(IF(Lageromsætning!$A$3:$A$79=$A$2,ROW(Lageromsætning!$A$3:$A$79)-CELL(\"row\",Lageromsætning!$A$3:$A$79)+1),ROWS($1:140))),\"\")","v":""},{"$f":"IFERROR(INDEX(Lageromsætning!$C$3:$C$79,SMALL(IF(Lageromsætning!$A$3:$A$79=$A$2,ROW(Lageromsætning!$A$3:$A$79)-CELL(\"row\",Lageromsætning!$A$3:$A$79)+1),ROWS($2:141))),\"\")","v":""},{"$f":"IFERROR(INDEX(Lageromsætning!$D$3:$D$79,SMALL(IF(Lageromsætning!$A$3:$A$79=$A$2,ROW(Lageromsætning!$A$3:$A$79)-CELL(\"row\",Lageromsætning!$A$3:$A$79)+1),ROWS($2:141))),\"\")","v":""},{"$f":"IFERROR(INDEX(Lageromsætning!$E$3:$E$79,SMALL(IF(Lageromsætning!$A$3:$A$79=$A$2,ROW(Lageromsætning!$A$3:$A$79)-CELL(\"row\",Lageromsætning!$A$3:$A$79)+1),ROWS($2:141))),\"\")","v":""},{"$f":"IFERROR(INDEX(Lageromsætning!$AF$3:$AF$79,SMALL(IF(Lageromsætning!$A$3:$A$79=$A$2,ROW(Lageromsætning!$A$3:$A$79)-CELL(\"row\",Lageromsætning!$A$3:$A$79)+1),ROWS($2:141))),\"\")","v":""},{"$f":"SUMIFS('Lager antal'!$D$3:$D$2508,'Lager antal'!$B$3:$B$2508,B143,'Lager antal'!$C$3:$C$2508,C143)","v":0},{"$f":"SUMIFS('Lager antal'!$F$3:$F$2508,'Lager antal'!$B$3:$B$2508,B143,'Lager antal'!$C$3:$C$2508,C143)","v":0},{"$f":"IF(ISNA(VLOOKUP($C143,'Lager antal'!$C$3:$K$508,9,FALSE))=TRUE,\"\",VLOOKUP($C143,'Lager antal'!$C$3:$K$508,9,FALSE))","v":""},{"$f":"IFERROR(INDEX(Lageromsætning!$P$3:$P$79,SMALL(IF(Lageromsætning!$A$3:$A$79=$A$2,ROW(Lageromsætning!$A$3:$A$79)-CELL(\"row\",Lageromsætning!$A$3:$A$79)+1),ROWS($2:141))),\"\")","v":""},{"$f":"+_xlfn.IFS($M143>=0.01,$M143,TRUE,0)-$F143-K143+G143","v":0},{"$f":"SUMIFS('Lager antal'!$G$3:$G$2508,'Lager antal'!$B$3:$B$2508,B143,'Lager antal'!$C$3:$C$2508,C143)","v":0},null,0,{"$f":"SUMIFS(Lageromsætning!$R$3:$R$79,Lageromsætning!$A$3:$A$79,$A$2,Lageromsætning!$C$3:$C$79,B143,Lageromsætning!$D$3:$D$79,C143)","v":0},{"$f":"SUMIFS(Lageromsætning!$S$3:$S$79,Lageromsætning!$C$3:$C$79,B143,Lageromsætning!$D$3:$D$79,C143)","v":0}]
[{"$f":"IFERROR(INDEX(Lageromsætning!$A$3:$A$79,SMALL(IF(Lageromsætning!$A$3:$A$79=$A$2,ROW(Lageromsætning!$A$3:$A$79)-CELL(\"row\",Lageromsætning!$A$3:$A$79)+1),ROWS($1:141))),\"\")","v":""},{"$f":"IFERROR(INDEX(Lageromsætning!$C$3:$C$79,SMALL(IF(Lageromsætning!$A$3:$A$79=$A$2,ROW(Lageromsætning!$A$3:$A$79)-CELL(\"row\",Lageromsætning!$A$3:$A$79)+1),ROWS($2:142))),\"\")","v":""},{"$f":"IFERROR(INDEX(Lageromsætning!$D$3:$D$79,SMALL(IF(Lageromsætning!$A$3:$A$79=$A$2,ROW(Lageromsætning!$A$3:$A$79)-CELL(\"row\",Lageromsætning!$A$3:$A$79)+1),ROWS($2:142))),\"\")","v":""},{"$f":"IFERROR(INDEX(Lageromsætning!$E$3:$E$79,SMALL(IF(Lageromsætning!$A$3:$A$79=$A$2,ROW(Lageromsætning!$A$3:$A$79)-CELL(\"row\",Lageromsætning!$A$3:$A$79)+1),ROWS($2:142))),\"\")","v":""},{"$f":"IFERROR(INDEX(Lageromsætning!$AF$3:$AF$79,SMALL(IF(Lageromsætning!$A$3:$A$79=$A$2,ROW(Lageromsætning!$A$3:$A$79)-CELL(\"row\",Lageromsætning!$A$3:$A$79)+1),ROWS($2:142))),\"\")","v":""},{"$f":"SUMIFS('Lager antal'!$D$3:$D$2508,'Lager antal'!$B$3:$B$2508,B144,'Lager antal'!$C$3:$C$2508,C144)","v":0},{"$f":"SUMIFS('Lager antal'!$F$3:$F$2508,'Lager antal'!$B$3:$B$2508,B144,'Lager antal'!$C$3:$C$2508,C144)","v":0},{"$f":"IF(ISNA(VLOOKUP($C144,'Lager antal'!$C$3:$K$508,9,FALSE))=TRUE,\"\",VLOOKUP($C144,'Lager antal'!$C$3:$K$508,9,FALSE))","v":""},{"$f":"IFERROR(INDEX(Lageromsætning!$P$3:$P$79,SMALL(IF(Lageromsætning!$A$3:$A$79=$A$2,ROW(Lageromsætning!$A$3:$A$79)-CELL(\"row\",Lageromsætning!$A$3:$A$79)+1),ROWS($2:142))),\"\")","v":""},{"$f":"+_xlfn.IFS($M144>=0.01,$M144,TRUE,0)-$F144-K144+G144","v":0},{"$f":"SUMIFS('Lager antal'!$G$3:$G$2508,'Lager antal'!$B$3:$B$2508,B144,'Lager antal'!$C$3:$C$2508,C144)","v":0},null,0,{"$f":"SUMIFS(Lageromsætning!$R$3:$R$79,Lageromsætning!$A$3:$A$79,$A$2,Lageromsætning!$C$3:$C$79,B144,Lageromsætning!$D$3:$D$79,C144)","v":0},{"$f":"SUMIFS(Lageromsætning!$S$3:$S$79,Lageromsætning!$C$3:$C$79,B144,Lageromsætning!$D$3:$D$79,C144)","v":0}]
[{"$f":"IFERROR(INDEX(Lageromsætning!$A$3:$A$79,SMALL(IF(Lageromsætning!$A$3:$A$79=$A$2,ROW(Lageromsætning!$A$3:$A$79)-CELL(\"row\",Lageromsætning!$A$3:$A$79)+1),ROWS($1:142))),\"\")","v":""},{"$f":"IFERROR(INDEX(Lageromsætning!$C$3:$C$79,SMALL(IF(Lageromsætning!$A$3:$A$79=$A$2,ROW(Lageromsætning!$A$3:$A$79)-CELL(\"row\",Lageromsætning!$A$3:$A$79)+1),ROWS($2:143))),\"\")","v":""},{"$f":"IFERROR(INDEX(Lageromsætning!$D$3:$D$79,SMALL(IF(Lageromsætning!$A$3:$A$79=$A$2,ROW(Lageromsætning!$A$3:$A$79)-CELL(\"row\",Lageromsætning!$A$3:$A$79)+1),ROWS($2:143))),\"\")","v":""},{"$f":"IFERROR(INDEX(Lageromsætning!$E$3:$E$79,SMALL(IF(Lageromsætning!$A$3:$A$79=$A$2,ROW(Lageromsætning!$A$3:$A$79)-CELL(\"row\",Lageromsætning!$A$3:$A$79)+1),ROWS($2:143))),\"\")","v":""},{"$f":"IFERROR(INDEX(Lageromsætning!$AF$3:$AF$79,SMALL(IF(Lageromsætning!$A$3:$A$79=$A$2,ROW(Lageromsætning!$A$3:$A$79)-CELL(\"row\",Lageromsætning!$A$3:$A$79)+1),ROWS($2:143))),\"\")","v":""},{"$f":"SUMIFS('Lager antal'!$D$3:$D$2508,'Lager antal'!$B$3:$B$2508,B145,'Lager antal'!$C$3:$C$2508,C145)","v":0},{"$f":"SUMIFS('Lager antal'!$F$3:$F$2508,'Lager antal'!$B$3:$B$2508,B145,'Lager antal'!$C$3:$C$2508,C145)","v":0},{"$f":"IF(ISNA(VLOOKUP($C145,'Lager antal'!$C$3:$K$508,9,FALSE))=TRUE,\"\",VLOOKUP($C145,'Lager antal'!$C$3:$K$508,9,FALSE))","v":""},{"$f":"IFERROR(INDEX(Lageromsætning!$P$3:$P$79,SMALL(IF(Lageromsætning!$A$3:$A$79=$A$2,ROW(Lageromsætning!$A$3:$A$79)-CELL(\"row\",Lageromsætning!$A$3:$A$79)+1),ROWS($2:143))),\"\")","v":""},{"$f":"+_xlfn.IFS($M145>=0.01,$M145,TRUE,0)-$F145-K145+G145","v":0},{"$f":"SUMIFS('Lager antal'!$G$3:$G$2508,'Lager antal'!$B$3:$B$2508,B145,'Lager antal'!$C$3:$C$2508,C145)","v":0},null,0,{"$f":"SUMIFS(Lageromsætning!$R$3:$R$79,Lageromsætning!$A$3:$A$79,$A$2,Lageromsætning!$C$3:$C$79,B145,Lageromsætning!$D$3:$D$79,C145)","v":0},{"$f":"SUMIFS(Lageromsætning!$S$3:$S$79,Lageromsætning!$C$3:$C$79,B145,Lageromsætning!$D$3:$D$79,C145)","v":0}]
[{"$f":"IFERROR(INDEX(Lageromsætning!$A$3:$A$79,SMALL(IF(Lageromsætning!$A$3:$A$79=$A$2,ROW(Lageromsætning!$A$3:$A$79)-CELL(\"row\",Lageromsætning!$A$3:$A$79)+1),ROWS($1:143))),\"\")","v":""},{"$f":"IFERROR(INDEX(Lageromsætning!$C$3:$C$79,SMALL(IF(Lageromsætning!$A$3:$A$79=$A$2,ROW(Lageromsætning!$A$3:$A$79)-CELL(\"row\",Lageromsætning!$A$3:$A$79)+1),ROWS($2:144))),\"\")","v":""},{"$f":"IFERROR(INDEX(Lageromsætning!$D$3:$D$79,SMALL(IF(Lageromsætning!$A$3:$A$79=$A$2,ROW(Lageromsætning!$A$3:$A$79)-CELL(\"row\",Lageromsætning!$A$3:$A$79)+1),ROWS($2:144))),\"\")","v":""},{"$f":"IFERROR(INDEX(Lageromsætning!$E$3:$E$79,SMALL(IF(Lageromsætning!$A$3:$A$79=$A$2,ROW(Lageromsætning!$A$3:$A$79)-CELL(\"row\",Lageromsætning!$A$3:$A$79)+1),ROWS($2:144))),\"\")","v":""},{"$f":"IFERROR(INDEX(Lageromsætning!$AF$3:$AF$79,SMALL(IF(Lageromsætning!$A$3:$A$79=$A$2,ROW(Lageromsætning!$A$3:$A$79)-CELL(\"row\",Lageromsætning!$A$3:$A$79)+1),ROWS($2:144))),\"\")","v":""},{"$f":"SUMIFS('Lager antal'!$D$3:$D$2508,'Lager antal'!$B$3:$B$2508,B146,'Lager antal'!$C$3:$C$2508,C146)","v":0},{"$f":"SUMIFS('Lager antal'!$F$3:$F$2508,'Lager antal'!$B$3:$B$2508,B146,'Lager antal'!$C$3:$C$2508,C146)","v":0},{"$f":"IF(ISNA(VLOOKUP($C146,'Lager antal'!$C$3:$K$508,9,FALSE))=TRUE,\"\",VLOOKUP($C146,'Lager antal'!$C$3:$K$508,9,FALSE))","v":""},{"$f":"IFERROR(INDEX(Lageromsætning!$P$3:$P$79,SMALL(IF(Lageromsætning!$A$3:$A$79=$A$2,ROW(Lageromsætning!$A$3:$A$79)-CELL(\"row\",Lageromsætning!$A$3:$A$79)+1),ROWS($2:144))),\"\")","v":""},{"$f":"+_xlfn.IFS($M146>=0.01,$M146,TRUE,0)-$F146-K146+G146","v":0},{"$f":"SUMIFS('Lager antal'!$G$3:$G$2508,'Lager antal'!$B$3:$B$2508,B146,'Lager antal'!$C$3:$C$2508,C146)","v":0},null,0,{"$f":"SUMIFS(Lageromsætning!$R$3:$R$79,Lageromsætning!$A$3:$A$79,$A$2,Lageromsætning!$C$3:$C$79,B146,Lageromsætning!$D$3:$D$79,C146)","v":0},{"$f":"SUMIFS(Lageromsætning!$S$3:$S$79,Lageromsætning!$C$3:$C$79,B146,Lageromsætning!$D$3:$D$79,C146)","v":0}]
[{"$f":"IFERROR(INDEX(Lageromsætning!$A$3:$A$79,SMALL(IF(Lageromsætning!$A$3:$A$79=$A$2,ROW(Lageromsætning!$A$3:$A$79)-CELL(\"row\",Lageromsætning!$A$3:$A$79)+1),ROWS($1:144))),\"\")","v":""},{"$f":"IFERROR(INDEX(Lageromsætning!$C$3:$C$79,SMALL(IF(Lageromsætning!$A$3:$A$79=$A$2,ROW(Lageromsætning!$A$3:$A$79)-CELL(\"row\",Lageromsætning!$A$3:$A$79)+1),ROWS($2:145))),\"\")","v":""},{"$f":"IFERROR(INDEX(Lageromsætning!$D$3:$D$79,SMALL(IF(Lageromsætning!$A$3:$A$79=$A$2,ROW(Lageromsætning!$A$3:$A$79)-CELL(\"row\",Lageromsætning!$A$3:$A$79)+1),ROWS($2:145))),\"\")","v":""},{"$f":"IFERROR(INDEX(Lageromsætning!$E$3:$E$79,SMALL(IF(Lageromsætning!$A$3:$A$79=$A$2,ROW(Lageromsætning!$A$3:$A$79)-CELL(\"row\",Lageromsætning!$A$3:$A$79)+1),ROWS($2:145))),\"\")","v":""},{"$f":"IFERROR(INDEX(Lageromsætning!$AF$3:$AF$79,SMALL(IF(Lageromsætning!$A$3:$A$79=$A$2,ROW(Lageromsætning!$A$3:$A$79)-CELL(\"row\",Lageromsætning!$A$3:$A$79)+1),ROWS($2:145))),\"\")","v":""},{"$f":"SUMIFS('Lager antal'!$D$3:$D$2508,'Lager antal'!$B$3:$B$2508,B147,'Lager antal'!$C$3:$C$2508,C147)","v":0},{"$f":"SUMIFS('Lager antal'!$F$3:$F$2508,'Lager antal'!$B$3:$B$2508,B147,'Lager antal'!$C$3:$C$2508,C147)","v":0},{"$f":"IF(ISNA(VLOOKUP($C147,'Lager antal'!$C$3:$K$508,9,FALSE))=TRUE,\"\",VLOOKUP($C147,'Lager antal'!$C$3:$K$508,9,FALSE))","v":""},{"$f":"IFERROR(INDEX(Lageromsætning!$P$3:$P$79,SMALL(IF(Lageromsætning!$A$3:$A$79=$A$2,ROW(Lageromsætning!$A$3:$A$79)-CELL(\"row\",Lageromsætning!$A$3:$A$79)+1),ROWS($2:145))),\"\")","v":""},{"$f":"+_xlfn.IFS($M147>=0.01,$M147,TRUE,0)-$F147-K147+G147","v":0},{"$f":"SUMIFS('Lager antal'!$G$3:$G$2508,'Lager antal'!$B$3:$B$2508,B147,'Lager antal'!$C$3:$C$2508,C147)","v":0},null,0,{"$f":"SUMIFS(Lageromsætning!$R$3:$R$79,Lageromsætning!$A$3:$A$79,$A$2,Lageromsætning!$C$3:$C$79,B147,Lageromsætning!$D$3:$D$79,C147)","v":0},{"$f":"SUMIFS(Lageromsætning!$S$3:$S$79,Lageromsætning!$C$3:$C$79,B147,Lageromsætning!$D$3:$D$79,C147)","v":0}]
[{"$f":"IFERROR(INDEX(Lageromsætning!$A$3:$A$79,SMALL(IF(Lageromsætning!$A$3:$A$79=$A$2,ROW(Lageromsætning!$A$3:$A$79)-CELL(\"row\",Lageromsætning!$A$3:$A$79)+1),ROWS($1:145))),\"\")","v":""},{"$f":"IFERROR(INDEX(Lageromsætning!$C$3:$C$79,SMALL(IF(Lageromsætning!$A$3:$A$79=$A$2,ROW(Lageromsætning!$A$3:$A$79)-CELL(\"row\",Lageromsætning!$A$3:$A$79)+1),ROWS($2:146))),\"\")","v":""},{"$f":"IFERROR(INDEX(Lageromsætning!$D$3:$D$79,SMALL(IF(Lageromsætning!$A$3:$A$79=$A$2,ROW(Lageromsætning!$A$3:$A$79)-CELL(\"row\",Lageromsætning!$A$3:$A$79)+1),ROWS($2:146))),\"\")","v":""},{"$f":"IFERROR(INDEX(Lageromsætning!$E$3:$E$79,SMALL(IF(Lageromsætning!$A$3:$A$79=$A$2,ROW(Lageromsætning!$A$3:$A$79)-CELL(\"row\",Lageromsætning!$A$3:$A$79)+1),ROWS($2:146))),\"\")","v":""},{"$f":"IFERROR(INDEX(Lageromsætning!$AF$3:$AF$79,SMALL(IF(Lageromsætning!$A$3:$A$79=$A$2,ROW(Lageromsætning!$A$3:$A$79)-CELL(\"row\",Lageromsætning!$A$3:$A$79)+1),ROWS($2:146))),\"\")","v":""},{"$f":"SUMIFS('Lager antal'!$D$3:$D$2508,'Lager antal'!$B$3:$B$2508,B148,'Lager antal'!$C$3:$C$2508,C148)","v":0},{"$f":"SUMIFS('Lager antal'!$F$3:$F$2508,'Lager antal'!$B$3:$B$2508,B148,'Lager antal'!$C$3:$C$2508,C148)","v":0},{"$f":"IF(ISNA(VLOOKUP($C148,'Lager antal'!$C$3:$K$508,9,FALSE))=TRUE,\"\",VLOOKUP($C148,'Lager antal'!$C$3:$K$508,9,FALSE))","v":""},{"$f":"IFERROR(INDEX(Lageromsætning!$P$3:$P$79,SMALL(IF(Lageromsætning!$A$3:$A$79=$A$2,ROW(Lageromsætning!$A$3:$A$79)-CELL(\"row\",Lageromsætning!$A$3:$A$79)+1),ROWS($2:146))),\"\")","v":""},{"$f":"+_xlfn.IFS($M148>=0.01,$M148,TRUE,0)-$F148-K148+G148","v":0},{"$f":"SUMIFS('Lager antal'!$G$3:$G$2508,'Lager antal'!$B$3:$B$2508,B148,'Lager antal'!$C$3:$C$2508,C148)","v":0},null,0,{"$f":"SUMIFS(Lageromsætning!$R$3:$R$79,Lageromsætning!$A$3:$A$79,$A$2,Lageromsætning!$C$3:$C$79,B148,Lageromsætning!$D$3:$D$79,C148)","v":0},{"$f":"SUMIFS(Lageromsætning!$S$3:$S$79,Lageromsætning!$C$3:$C$79,B148,Lageromsætning!$D$3:$D$79,C148)","v":0}]
[{"$f":"IFERROR(INDEX(Lageromsætning!$A$3:$A$79,SMALL(IF(Lageromsætning!$A$3:$A$79=$A$2,ROW(Lageromsætning!$A$3:$A$79)-CELL(\"row\",Lageromsætning!$A$3:$A$79)+1),ROWS($1:146))),\"\")","v":""},{"$f":"IFERROR(INDEX(Lageromsætning!$C$3:$C$79,SMALL(IF(Lageromsætning!$A$3:$A$79=$A$2,ROW(Lageromsætning!$A$3:$A$79)-CELL(\"row\",Lageromsætning!$A$3:$A$79)+1),ROWS($2:147))),\"\")","v":""},{"$f":"IFERROR(INDEX(Lageromsætning!$D$3:$D$79,SMALL(IF(Lageromsætning!$A$3:$A$79=$A$2,ROW(Lageromsætning!$A$3:$A$79)-CELL(\"row\",Lageromsætning!$A$3:$A$79)+1),ROWS($2:147))),\"\")","v":""},{"$f":"IFERROR(INDEX(Lageromsætning!$E$3:$E$79,SMALL(IF(Lageromsætning!$A$3:$A$79=$A$2,ROW(Lageromsætning!$A$3:$A$79)-CELL(\"row\",Lageromsætning!$A$3:$A$79)+1),ROWS($2:147))),\"\")","v":""},{"$f":"IFERROR(INDEX(Lageromsætning!$AF$3:$AF$79,SMALL(IF(Lageromsætning!$A$3:$A$79=$A$2,ROW(Lageromsætning!$A$3:$A$79)-CELL(\"row\",Lageromsætning!$A$3:$A$79)+1),ROWS($2:147))),\"\")","v":""},{"$f":"SUMIFS('Lager antal'!$D$3:$D$2508,'Lager antal'!$B$3:$B$2508,B149,'Lager antal'!$C$3:$C$2508,C149)","v":0},{"$f":"SUMIFS('Lager antal'!$F$3:$F$2508,'Lager antal'!$B$3:$B$2508,B149,'Lager antal'!$C$3:$C$2508,C149)","v":0},{"$f":"IF(ISNA(VLOOKUP($C149,'Lager antal'!$C$3:$K$508,9,FALSE))=TRUE,\"\",VLOOKUP($C149,'Lager antal'!$C$3:$K$508,9,FALSE))","v":""},{"$f":"IFERROR(INDEX(Lageromsætning!$P$3:$P$79,SMALL(IF(Lageromsætning!$A$3:$A$79=$A$2,ROW(Lageromsætning!$A$3:$A$79)-CELL(\"row\",Lageromsætning!$A$3:$A$79)+1),ROWS($2:147))),\"\")","v":""},{"$f":"+_xlfn.IFS($M149>=0.01,$M149,TRUE,0)-$F149-K149+G149","v":0},{"$f":"SUMIFS('Lager antal'!$G$3:$G$2508,'Lager antal'!$B$3:$B$2508,B149,'Lager antal'!$C$3:$C$2508,C149)","v":0},null,0,{"$f":"SUMIFS(Lageromsætning!$R$3:$R$79,Lageromsætning!$A$3:$A$79,$A$2,Lageromsætning!$C$3:$C$79,B149,Lageromsætning!$D$3:$D$79,C149)","v":0},{"$f":"SUMIFS(Lageromsætning!$S$3:$S$79,Lageromsætning!$C$3:$C$79,B149,Lageromsætning!$D$3:$D$79,C149)","v":0}]
[{"$f":"IFERROR(INDEX(Lageromsætning!$A$3:$A$79,SMALL(IF(Lageromsætning!$A$3:$A$79=$A$2,ROW(Lageromsætning!$A$3:$A$79)-CELL(\"row\",Lageromsætning!$A$3:$A$79)+1),ROWS($1:147))),\"\")","v":""},{"$f":"IFERROR(INDEX(Lageromsætning!$C$3:$C$79,SMALL(IF(Lageromsætning!$A$3:$A$79=$A$2,ROW(Lageromsætning!$A$3:$A$79)-CELL(\"row\",Lageromsætning!$A$3:$A$79)+1),ROWS($2:148))),\"\")","v":""},{"$f":"IFERROR(INDEX(Lageromsætning!$D$3:$D$79,SMALL(IF(Lageromsætning!$A$3:$A$79=$A$2,ROW(Lageromsætning!$A$3:$A$79)-CELL(\"row\",Lageromsætning!$A$3:$A$79)+1),ROWS($2:148))),\"\")","v":""},{"$f":"IFERROR(INDEX(Lageromsætning!$E$3:$E$79,SMALL(IF(Lageromsætning!$A$3:$A$79=$A$2,ROW(Lageromsætning!$A$3:$A$79)-CELL(\"row\",Lageromsætning!$A$3:$A$79)+1),ROWS($2:148))),\"\")","v":""},{"$f":"IFERROR(INDEX(Lageromsætning!$AF$3:$AF$79,SMALL(IF(Lageromsætning!$A$3:$A$79=$A$2,ROW(Lageromsætning!$A$3:$A$79)-CELL(\"row\",Lageromsætning!$A$3:$A$79)+1),ROWS($2:148))),\"\")","v":""},{"$f":"SUMIFS('Lager antal'!$D$3:$D$2508,'Lager antal'!$B$3:$B$2508,B150,'Lager antal'!$C$3:$C$2508,C150)","v":0},{"$f":"SUMIFS('Lager antal'!$F$3:$F$2508,'Lager antal'!$B$3:$B$2508,B150,'Lager antal'!$C$3:$C$2508,C150)","v":0},{"$f":"IF(ISNA(VLOOKUP($C150,'Lager antal'!$C$3:$K$508,9,FALSE))=TRUE,\"\",VLOOKUP($C150,'Lager antal'!$C$3:$K$508,9,FALSE))","v":""},{"$f":"IFERROR(INDEX(Lageromsætning!$P$3:$P$79,SMALL(IF(Lageromsætning!$A$3:$A$79=$A$2,ROW(Lageromsætning!$A$3:$A$79)-CELL(\"row\",Lageromsætning!$A$3:$A$79)+1),ROWS($2:148))),\"\")","v":""},{"$f":"+_xlfn.IFS($M150>=0.01,$M150,TRUE,0)-$F150-K150+G150","v":0},{"$f":"SUMIFS('Lager antal'!$G$3:$G$2508,'Lager antal'!$B$3:$B$2508,B150,'Lager antal'!$C$3:$C$2508,C150)","v":0},null,0,{"$f":"SUMIFS(Lageromsætning!$R$3:$R$79,Lageromsætning!$A$3:$A$79,$A$2,Lageromsætning!$C$3:$C$79,B150,Lageromsætning!$D$3:$D$79,C150)","v":0},{"$f":"SUMIFS(Lageromsætning!$S$3:$S$79,Lageromsætning!$C$3:$C$79,B150,Lageromsætning!$D$3:$D$79,C150)","v":0}]
[{"$f":"IFERROR(INDEX(Lageromsætning!$A$3:$A$79,SMALL(IF(Lageromsætning!$A$3:$A$79=$A$2,ROW(Lageromsætning!$A$3:$A$79)-CELL(\"row\",Lageromsætning!$A$3:$A$79)+1),ROWS($1:148))),\"\")","v":""},{"$f":"IFERROR(INDEX(Lageromsætning!$C$3:$C$79,SMALL(IF(Lageromsætning!$A$3:$A$79=$A$2,ROW(Lageromsætning!$A$3:$A$79)-CELL(\"row\",Lageromsætning!$A$3:$A$79)+1),ROWS($2:149))),\"\")","v":""},{"$f":"IFERROR(INDEX(Lageromsætning!$D$3:$D$79,SMALL(IF(Lageromsætning!$A$3:$A$79=$A$2,ROW(Lageromsætning!$A$3:$A$79)-CELL(\"row\",Lageromsætning!$A$3:$A$79)+1),ROWS($2:149))),\"\")","v":""},{"$f":"IFERROR(INDEX(Lageromsætning!$E$3:$E$79,SMALL(IF(Lageromsætning!$A$3:$A$79=$A$2,ROW(Lageromsætning!$A$3:$A$79)-CELL(\"row\",Lageromsætning!$A$3:$A$79)+1),ROWS($2:149))),\"\")","v":""},{"$f":"IFERROR(INDEX(Lageromsætning!$AF$3:$AF$79,SMALL(IF(Lageromsætning!$A$3:$A$79=$A$2,ROW(Lageromsætning!$A$3:$A$79)-CELL(\"row\",Lageromsætning!$A$3:$A$79)+1),ROWS($2:149))),\"\")","v":""},{"$f":"SUMIFS('Lager antal'!$D$3:$D$2508,'Lager antal'!$B$3:$B$2508,B151,'Lager antal'!$C$3:$C$2508,C151)","v":0},{"$f":"SUMIFS('Lager antal'!$F$3:$F$2508,'Lager antal'!$B$3:$B$2508,B151,'Lager antal'!$C$3:$C$2508,C151)","v":0},{"$f":"IF(ISNA(VLOOKUP($C151,'Lager antal'!$C$3:$K$508,9,FALSE))=TRUE,\"\",VLOOKUP($C151,'Lager antal'!$C$3:$K$508,9,FALSE))","v":""},{"$f":"IFERROR(INDEX(Lageromsætning!$P$3:$P$79,SMALL(IF(Lageromsætning!$A$3:$A$79=$A$2,ROW(Lageromsætning!$A$3:$A$79)-CELL(\"row\",Lageromsætning!$A$3:$A$79)+1),ROWS($2:149))),\"\")","v":""},{"$f":"+_xlfn.IFS($M151>=0.01,$M151,TRUE,0)-$F151-K151+G151","v":0},{"$f":"SUMIFS('Lager antal'!$G$3:$G$2508,'Lager antal'!$B$3:$B$2508,B151,'Lager antal'!$C$3:$C$2508,C151)","v":0},null,0,{"$f":"SUMIFS(Lageromsætning!$R$3:$R$79,Lageromsætning!$A$3:$A$79,$A$2,Lageromsætning!$C$3:$C$79,B151,Lageromsætning!$D$3:$D$79,C151)","v":0},{"$f":"SUMIFS(Lageromsætning!$S$3:$S$79,Lageromsætning!$C$3:$C$79,B151,Lageromsætning!$D$3:$D$79,C151)","v":0}]
[{"$f":"IFERROR(INDEX(Lageromsætning!$A$3:$A$79,SMALL(IF(Lageromsætning!$A$3:$A$79=$A$2,ROW(Lageromsætning!$A$3:$A$79)-CELL(\"row\",Lageromsætning!$A$3:$A$79)+1),ROWS($1:149))),\"\")","v":""},{"$f":"IFERROR(INDEX(Lageromsætning!$C$3:$C$79,SMALL(IF(Lageromsætning!$A$3:$A$79=$A$2,ROW(Lageromsætning!$A$3:$A$79)-CELL(\"row\",Lageromsætning!$A$3:$A$79)+1),ROWS($2:150))),\"\")","v":""},{"$f":"IFERROR(INDEX(Lageromsætning!$D$3:$D$79,SMALL(IF(Lageromsætning!$A$3:$A$79=$A$2,ROW(Lageromsætning!$A$3:$A$79)-CELL(\"row\",Lageromsætning!$A$3:$A$79)+1),ROWS($2:150))),\"\")","v":""},{"$f":"IFERROR(INDEX(Lageromsætning!$E$3:$E$79,SMALL(IF(Lageromsætning!$A$3:$A$79=$A$2,ROW(Lageromsætning!$A$3:$A$79)-CELL(\"row\",Lageromsætning!$A$3:$A$79)+1),ROWS($2:150))),\"\")","v":""},{"$f":"IFERROR(INDEX(Lageromsætning!$AF$3:$AF$79,SMALL(IF(Lageromsætning!$A$3:$A$79=$A$2,ROW(Lageromsætning!$A$3:$A$79)-CELL(\"row\",Lageromsætning!$A$3:$A$79)+1),ROWS($2:150))),\"\")","v":""},{"$f":"SUMIFS('Lager antal'!$D$3:$D$2508,'Lager antal'!$B$3:$B$2508,B152,'Lager antal'!$C$3:$C$2508,C152)","v":0},{"$f":"SUMIFS('Lager antal'!$F$3:$F$2508,'Lager antal'!$B$3:$B$2508,B152,'Lager antal'!$C$3:$C$2508,C152)","v":0},{"$f":"IF(ISNA(VLOOKUP($C152,'Lager antal'!$C$3:$K$508,9,FALSE))=TRUE,\"\",VLOOKUP($C152,'Lager antal'!$C$3:$K$508,9,FALSE))","v":""},{"$f":"IFERROR(INDEX(Lageromsætning!$P$3:$P$79,SMALL(IF(Lageromsætning!$A$3:$A$79=$A$2,ROW(Lageromsætning!$A$3:$A$79)-CELL(\"row\",Lageromsætning!$A$3:$A$79)+1),ROWS($2:150))),\"\")","v":""},{"$f":"+_xlfn.IFS($M152>=0.01,$M152,TRUE,0)-$F152-K152+G152","v":0},{"$f":"SUMIFS('Lager antal'!$G$3:$G$2508,'Lager antal'!$B$3:$B$2508,B152,'Lager antal'!$C$3:$C$2508,C152)","v":0},null,0,{"$f":"SUMIFS(Lageromsætning!$R$3:$R$79,Lageromsætning!$A$3:$A$79,$A$2,Lageromsætning!$C$3:$C$79,B152,Lageromsætning!$D$3:$D$79,C152)","v":0},{"$f":"SUMIFS(Lageromsætning!$S$3:$S$79,Lageromsætning!$C$3:$C$79,B152,Lageromsætning!$D$3:$D$79,C152)","v":0}]
[{"$f":"IFERROR(INDEX(Lageromsætning!$A$3:$A$79,SMALL(IF(Lageromsætning!$A$3:$A$79=$A$2,ROW(Lageromsætning!$A$3:$A$79)-CELL(\"row\",Lageromsætning!$A$3:$A$79)+1),ROWS($1:150))),\"\")","v":""},{"$f":"IFERROR(INDEX(Lageromsætning!$C$3:$C$79,SMALL(IF(Lageromsætning!$A$3:$A$79=$A$2,ROW(Lageromsætning!$A$3:$A$79)-CELL(\"row\",Lageromsætning!$A$3:$A$79)+1),ROWS($2:151))),\"\")","v":""},{"$f":"IFERROR(INDEX(Lageromsætning!$D$3:$D$79,SMALL(IF(Lageromsætning!$A$3:$A$79=$A$2,ROW(Lageromsætning!$A$3:$A$79)-CELL(\"row\",Lageromsætning!$A$3:$A$79)+1),ROWS($2:151))),\"\")","v":""},{"$f":"IFERROR(INDEX(Lageromsætning!$E$3:$E$79,SMALL(IF(Lageromsætning!$A$3:$A$79=$A$2,ROW(Lageromsætning!$A$3:$A$79)-CELL(\"row\",Lageromsætning!$A$3:$A$79)+1),ROWS($2:151))),\"\")","v":""},{"$f":"IFERROR(INDEX(Lageromsætning!$AF$3:$AF$79,SMALL(IF(Lageromsætning!$A$3:$A$79=$A$2,ROW(Lageromsætning!$A$3:$A$79)-CELL(\"row\",Lageromsætning!$A$3:$A$79)+1),ROWS($2:151))),\"\")","v":""},{"$f":"SUMIFS('Lager antal'!$D$3:$D$2508,'Lager antal'!$B$3:$B$2508,B153,'Lager antal'!$C$3:$C$2508,C153)","v":0},{"$f":"SUMIFS('Lager antal'!$F$3:$F$2508,'Lager antal'!$B$3:$B$2508,B153,'Lager antal'!$C$3:$C$2508,C153)","v":0},{"$f":"IF(ISNA(VLOOKUP($C153,'Lager antal'!$C$3:$K$508,9,FALSE))=TRUE,\"\",VLOOKUP($C153,'Lager antal'!$C$3:$K$508,9,FALSE))","v":""},{"$f":"IFERROR(INDEX(Lageromsætning!$P$3:$P$79,SMALL(IF(Lageromsætning!$A$3:$A$79=$A$2,ROW(Lageromsætning!$A$3:$A$79)-CELL(\"row\",Lageromsætning!$A$3:$A$79)+1),ROWS($2:151))),\"\")","v":""},{"$f":"+_xlfn.IFS($M153>=0.01,$M153,TRUE,0)-$F153-K153+G153","v":0},{"$f":"SUMIFS('Lager antal'!$G$3:$G$2508,'Lager antal'!$B$3:$B$2508,B153,'Lager antal'!$C$3:$C$2508,C153)","v":0},null,0,{"$f":"SUMIFS(Lageromsætning!$R$3:$R$79,Lageromsætning!$A$3:$A$79,$A$2,Lageromsætning!$C$3:$C$79,B153,Lageromsætning!$D$3:$D$79,C153)","v":0},{"$f":"SUMIFS(Lageromsætning!$S$3:$S$79,Lageromsætning!$C$3:$C$79,B153,Lageromsætning!$D$3:$D$79,C153)","v":0}]
[{"$f":"IFERROR(INDEX(Lageromsætning!$A$3:$A$79,SMALL(IF(Lageromsætning!$A$3:$A$79=$A$2,ROW(Lageromsætning!$A$3:$A$79)-CELL(\"row\",Lageromsætning!$A$3:$A$79)+1),ROWS($1:151))),\"\")","v":""},{"$f":"IFERROR(INDEX(Lageromsætning!$C$3:$C$79,SMALL(IF(Lageromsætning!$A$3:$A$79=$A$2,ROW(Lageromsætning!$A$3:$A$79)-CELL(\"row\",Lageromsætning!$A$3:$A$79)+1),ROWS($2:152))),\"\")","v":""},{"$f":"IFERROR(INDEX(Lageromsætning!$D$3:$D$79,SMALL(IF(Lageromsætning!$A$3:$A$79=$A$2,ROW(Lageromsætning!$A$3:$A$79)-CELL(\"row\",Lageromsætning!$A$3:$A$79)+1),ROWS($2:152))),\"\")","v":""},{"$f":"IFERROR(INDEX(Lageromsætning!$E$3:$E$79,SMALL(IF(Lageromsætning!$A$3:$A$79=$A$2,ROW(Lageromsætning!$A$3:$A$79)-CELL(\"row\",Lageromsætning!$A$3:$A$79)+1),ROWS($2:152))),\"\")","v":""},{"$f":"IFERROR(INDEX(Lageromsætning!$AF$3:$AF$79,SMALL(IF(Lageromsætning!$A$3:$A$79=$A$2,ROW(Lageromsætning!$A$3:$A$79)-CELL(\"row\",Lageromsætning!$A$3:$A$79)+1),ROWS($2:152))),\"\")","v":""},{"$f":"SUMIFS('Lager antal'!$D$3:$D$2508,'Lager antal'!$B$3:$B$2508,B154,'Lager antal'!$C$3:$C$2508,C154)","v":0},{"$f":"SUMIFS('Lager antal'!$F$3:$F$2508,'Lager antal'!$B$3:$B$2508,B154,'Lager antal'!$C$3:$C$2508,C154)","v":0},{"$f":"IF(ISNA(VLOOKUP($C154,'Lager antal'!$C$3:$K$508,9,FALSE))=TRUE,\"\",VLOOKUP($C154,'Lager antal'!$C$3:$K$508,9,FALSE))","v":""},{"$f":"IFERROR(INDEX(Lageromsætning!$P$3:$P$79,SMALL(IF(Lageromsætning!$A$3:$A$79=$A$2,ROW(Lageromsætning!$A$3:$A$79)-CELL(\"row\",Lageromsætning!$A$3:$A$79)+1),ROWS($2:152))),\"\")","v":""},{"$f":"+_xlfn.IFS($M154>=0.01,$M154,TRUE,0)-$F154-K154+G154","v":0},{"$f":"SUMIFS('Lager antal'!$G$3:$G$2508,'Lager antal'!$B$3:$B$2508,B154,'Lager antal'!$C$3:$C$2508,C154)","v":0},null,0,{"$f":"SUMIFS(Lageromsætning!$R$3:$R$79,Lageromsætning!$A$3:$A$79,$A$2,Lageromsætning!$C$3:$C$79,B154,Lageromsætning!$D$3:$D$79,C154)","v":0},{"$f":"SUMIFS(Lageromsætning!$S$3:$S$79,Lageromsætning!$C$3:$C$79,B154,Lageromsætning!$D$3:$D$79,C154)","v":0}]
[{"$f":"IFERROR(INDEX(Lageromsætning!$A$3:$A$79,SMALL(IF(Lageromsætning!$A$3:$A$79=$A$2,ROW(Lageromsætning!$A$3:$A$79)-CELL(\"row\",Lageromsætning!$A$3:$A$79)+1),ROWS($1:152))),\"\")","v":""},{"$f":"IFERROR(INDEX(Lageromsætning!$C$3:$C$79,SMALL(IF(Lageromsætning!$A$3:$A$79=$A$2,ROW(Lageromsætning!$A$3:$A$79)-CELL(\"row\",Lageromsætning!$A$3:$A$79)+1),ROWS($2:153))),\"\")","v":""},{"$f":"IFERROR(INDEX(Lageromsætning!$D$3:$D$79,SMALL(IF(Lageromsætning!$A$3:$A$79=$A$2,ROW(Lageromsætning!$A$3:$A$79)-CELL(\"row\",Lageromsætning!$A$3:$A$79)+1),ROWS($2:153))),\"\")","v":""},{"$f":"IFERROR(INDEX(Lageromsætning!$E$3:$E$79,SMALL(IF(Lageromsætning!$A$3:$A$79=$A$2,ROW(Lageromsætning!$A$3:$A$79)-CELL(\"row\",Lageromsætning!$A$3:$A$79)+1),ROWS($2:153))),\"\")","v":""},{"$f":"IFERROR(INDEX(Lageromsætning!$AF$3:$AF$79,SMALL(IF(Lageromsætning!$A$3:$A$79=$A$2,ROW(Lageromsætning!$A$3:$A$79)-CELL(\"row\",Lageromsætning!$A$3:$A$79)+1),ROWS($2:153))),\"\")","v":""},{"$f":"SUMIFS('Lager antal'!$D$3:$D$2508,'Lager antal'!$B$3:$B$2508,B155,'Lager antal'!$C$3:$C$2508,C155)","v":0},{"$f":"SUMIFS('Lager antal'!$F$3:$F$2508,'Lager antal'!$B$3:$B$2508,B155,'Lager antal'!$C$3:$C$2508,C155)","v":0},{"$f":"IF(ISNA(VLOOKUP($C155,'Lager antal'!$C$3:$K$508,9,FALSE))=TRUE,\"\",VLOOKUP($C155,'Lager antal'!$C$3:$K$508,9,FALSE))","v":""},{"$f":"IFERROR(INDEX(Lageromsætning!$P$3:$P$79,SMALL(IF(Lageromsætning!$A$3:$A$79=$A$2,ROW(Lageromsætning!$A$3:$A$79)-CELL(\"row\",Lageromsætning!$A$3:$A$79)+1),ROWS($2:153))),\"\")","v":""},{"$f":"+_xlfn.IFS($M155>=0.01,$M155,TRUE,0)-$F155-K155+G155","v":0},{"$f":"SUMIFS('Lager antal'!$G$3:$G$2508,'Lager antal'!$B$3:$B$2508,B155,'Lager antal'!$C$3:$C$2508,C155)","v":0},null,0,{"$f":"SUMIFS(Lageromsætning!$R$3:$R$79,Lageromsætning!$A$3:$A$79,$A$2,Lageromsætning!$C$3:$C$79,B155,Lageromsætning!$D$3:$D$79,C155)","v":0},{"$f":"SUMIFS(Lageromsætning!$S$3:$S$79,Lageromsætning!$C$3:$C$79,B155,Lageromsætning!$D$3:$D$79,C155)","v":0}]
[{"$f":"IFERROR(INDEX(Lageromsætning!$A$3:$A$79,SMALL(IF(Lageromsætning!$A$3:$A$79=$A$2,ROW(Lageromsætning!$A$3:$A$79)-CELL(\"row\",Lageromsætning!$A$3:$A$79)+1),ROWS($1:153))),\"\")","v":""},{"$f":"IFERROR(INDEX(Lageromsætning!$C$3:$C$79,SMALL(IF(Lageromsætning!$A$3:$A$79=$A$2,ROW(Lageromsætning!$A$3:$A$79)-CELL(\"row\",Lageromsætning!$A$3:$A$79)+1),ROWS($2:154))),\"\")","v":""},{"$f":"IFERROR(INDEX(Lageromsætning!$D$3:$D$79,SMALL(IF(Lageromsætning!$A$3:$A$79=$A$2,ROW(Lageromsætning!$A$3:$A$79)-CELL(\"row\",Lageromsætning!$A$3:$A$79)+1),ROWS($2:154))),\"\")","v":""},{"$f":"IFERROR(INDEX(Lageromsætning!$E$3:$E$79,SMALL(IF(Lageromsætning!$A$3:$A$79=$A$2,ROW(Lageromsætning!$A$3:$A$79)-CELL(\"row\",Lageromsætning!$A$3:$A$79)+1),ROWS($2:154))),\"\")","v":""},{"$f":"IFERROR(INDEX(Lageromsætning!$AF$3:$AF$79,SMALL(IF(Lageromsætning!$A$3:$A$79=$A$2,ROW(Lageromsætning!$A$3:$A$79)-CELL(\"row\",Lageromsætning!$A$3:$A$79)+1),ROWS($2:154))),\"\")","v":""},{"$f":"SUMIFS('Lager antal'!$D$3:$D$2508,'Lager antal'!$B$3:$B$2508,B156,'Lager antal'!$C$3:$C$2508,C156)","v":0},{"$f":"SUMIFS('Lager antal'!$F$3:$F$2508,'Lager antal'!$B$3:$B$2508,B156,'Lager antal'!$C$3:$C$2508,C156)","v":0},{"$f":"IF(ISNA(VLOOKUP($C156,'Lager antal'!$C$3:$K$508,9,FALSE))=TRUE,\"\",VLOOKUP($C156,'Lager antal'!$C$3:$K$508,9,FALSE))","v":""},{"$f":"IFERROR(INDEX(Lageromsætning!$P$3:$P$79,SMALL(IF(Lageromsætning!$A$3:$A$79=$A$2,ROW(Lageromsætning!$A$3:$A$79)-CELL(\"row\",Lageromsætning!$A$3:$A$79)+1),ROWS($2:154))),\"\")","v":""},{"$f":"+_xlfn.IFS($M156>=0.01,$M156,TRUE,0)-$F156-K156+G156","v":0},{"$f":"SUMIFS('Lager antal'!$G$3:$G$2508,'Lager antal'!$B$3:$B$2508,B156,'Lager antal'!$C$3:$C$2508,C156)","v":0},null,0,{"$f":"SUMIFS(Lageromsætning!$R$3:$R$79,Lageromsætning!$A$3:$A$79,$A$2,Lageromsætning!$C$3:$C$79,B156,Lageromsætning!$D$3:$D$79,C156)","v":0},{"$f":"SUMIFS(Lageromsætning!$S$3:$S$79,Lageromsætning!$C$3:$C$79,B156,Lageromsætning!$D$3:$D$79,C156)","v":0}]
[{"$f":"IFERROR(INDEX(Lageromsætning!$A$3:$A$79,SMALL(IF(Lageromsætning!$A$3:$A$79=$A$2,ROW(Lageromsætning!$A$3:$A$79)-CELL(\"row\",Lageromsætning!$A$3:$A$79)+1),ROWS($1:154))),\"\")","v":""},{"$f":"IFERROR(INDEX(Lageromsætning!$C$3:$C$79,SMALL(IF(Lageromsætning!$A$3:$A$79=$A$2,ROW(Lageromsætning!$A$3:$A$79)-CELL(\"row\",Lageromsætning!$A$3:$A$79)+1),ROWS($2:155))),\"\")","v":""},{"$f":"IFERROR(INDEX(Lageromsætning!$D$3:$D$79,SMALL(IF(Lageromsætning!$A$3:$A$79=$A$2,ROW(Lageromsætning!$A$3:$A$79)-CELL(\"row\",Lageromsætning!$A$3:$A$79)+1),ROWS($2:155))),\"\")","v":""},{"$f":"IFERROR(INDEX(Lageromsætning!$E$3:$E$79,SMALL(IF(Lageromsætning!$A$3:$A$79=$A$2,ROW(Lageromsætning!$A$3:$A$79)-CELL(\"row\",Lageromsætning!$A$3:$A$79)+1),ROWS($2:155))),\"\")","v":""},{"$f":"IFERROR(INDEX(Lageromsætning!$AF$3:$AF$79,SMALL(IF(Lageromsætning!$A$3:$A$79=$A$2,ROW(Lageromsætning!$A$3:$A$79)-CELL(\"row\",Lageromsætning!$A$3:$A$79)+1),ROWS($2:155))),\"\")","v":""},{"$f":"SUMIFS('Lager antal'!$D$3:$D$2508,'Lager antal'!$B$3:$B$2508,B157,'Lager antal'!$C$3:$C$2508,C157)","v":0},{"$f":"SUMIFS('Lager antal'!$F$3:$F$2508,'Lager antal'!$B$3:$B$2508,B157,'Lager antal'!$C$3:$C$2508,C157)","v":0},{"$f":"IF(ISNA(VLOOKUP($C157,'Lager antal'!$C$3:$K$508,9,FALSE))=TRUE,\"\",VLOOKUP($C157,'Lager antal'!$C$3:$K$508,9,FALSE))","v":""},{"$f":"IFERROR(INDEX(Lageromsætning!$P$3:$P$79,SMALL(IF(Lageromsætning!$A$3:$A$79=$A$2,ROW(Lageromsætning!$A$3:$A$79)-CELL(\"row\",Lageromsætning!$A$3:$A$79)+1),ROWS($2:155))),\"\")","v":""},{"$f":"+_xlfn.IFS($M157>=0.01,$M157,TRUE,0)-$F157-K157+G157","v":0},{"$f":"SUMIFS('Lager antal'!$G$3:$G$2508,'Lager antal'!$B$3:$B$2508,B157,'Lager antal'!$C$3:$C$2508,C157)","v":0},null,0,{"$f":"SUMIFS(Lageromsætning!$R$3:$R$79,Lageromsætning!$A$3:$A$79,$A$2,Lageromsætning!$C$3:$C$79,B157,Lageromsætning!$D$3:$D$79,C157)","v":0},{"$f":"SUMIFS(Lageromsætning!$S$3:$S$79,Lageromsætning!$C$3:$C$79,B157,Lageromsætning!$D$3:$D$79,C157)","v":0}]
[{"$f":"IFERROR(INDEX(Lageromsætning!$A$3:$A$79,SMALL(IF(Lageromsætning!$A$3:$A$79=$A$2,ROW(Lageromsætning!$A$3:$A$79)-CELL(\"row\",Lageromsætning!$A$3:$A$79)+1),ROWS($1:155))),\"\")","v":""},{"$f":"IFERROR(INDEX(Lageromsætning!$C$3:$C$79,SMALL(IF(Lageromsætning!$A$3:$A$79=$A$2,ROW(Lageromsætning!$A$3:$A$79)-CELL(\"row\",Lageromsætning!$A$3:$A$79)+1),ROWS($2:156))),\"\")","v":""},{"$f":"IFERROR(INDEX(Lageromsætning!$D$3:$D$79,SMALL(IF(Lageromsætning!$A$3:$A$79=$A$2,ROW(Lageromsætning!$A$3:$A$79)-CELL(\"row\",Lageromsætning!$A$3:$A$79)+1),ROWS($2:156))),\"\")","v":""},{"$f":"IFERROR(INDEX(Lageromsætning!$E$3:$E$79,SMALL(IF(Lageromsætning!$A$3:$A$79=$A$2,ROW(Lageromsætning!$A$3:$A$79)-CELL(\"row\",Lageromsætning!$A$3:$A$79)+1),ROWS($2:156))),\"\")","v":""},{"$f":"IFERROR(INDEX(Lageromsætning!$AF$3:$AF$79,SMALL(IF(Lageromsætning!$A$3:$A$79=$A$2,ROW(Lageromsætning!$A$3:$A$79)-CELL(\"row\",Lageromsætning!$A$3:$A$79)+1),ROWS($2:156))),\"\")","v":""},{"$f":"SUMIFS('Lager antal'!$D$3:$D$2508,'Lager antal'!$B$3:$B$2508,B158,'Lager antal'!$C$3:$C$2508,C158)","v":0},{"$f":"SUMIFS('Lager antal'!$F$3:$F$2508,'Lager antal'!$B$3:$B$2508,B158,'Lager antal'!$C$3:$C$2508,C158)","v":0},{"$f":"IF(ISNA(VLOOKUP($C158,'Lager antal'!$C$3:$K$508,9,FALSE))=TRUE,\"\",VLOOKUP($C158,'Lager antal'!$C$3:$K$508,9,FALSE))","v":""},{"$f":"IFERROR(INDEX(Lageromsætning!$P$3:$P$79,SMALL(IF(Lageromsætning!$A$3:$A$79=$A$2,ROW(Lageromsætning!$A$3:$A$79)-CELL(\"row\",Lageromsætning!$A$3:$A$79)+1),ROWS($2:156))),\"\")","v":""},{"$f":"+_xlfn.IFS($M158>=0.01,$M158,TRUE,0)-$F158-K158+G158","v":0},{"$f":"SUMIFS('Lager antal'!$G$3:$G$2508,'Lager antal'!$B$3:$B$2508,B158,'Lager antal'!$C$3:$C$2508,C158)","v":0},null,0,{"$f":"SUMIFS(Lageromsætning!$R$3:$R$79,Lageromsætning!$A$3:$A$79,$A$2,Lageromsætning!$C$3:$C$79,B158,Lageromsætning!$D$3:$D$79,C158)","v":0},{"$f":"SUMIFS(Lageromsætning!$S$3:$S$79,Lageromsætning!$C$3:$C$79,B158,Lageromsætning!$D$3:$D$79,C158)","v":0}]
[{"$f":"IFERROR(INDEX(Lageromsætning!$A$3:$A$79,SMALL(IF(Lageromsætning!$A$3:$A$79=$A$2,ROW(Lageromsætning!$A$3:$A$79)-CELL(\"row\",Lageromsætning!$A$3:$A$79)+1),ROWS($1:156))),\"\")","v":""},{"$f":"IFERROR(INDEX(Lageromsætning!$C$3:$C$79,SMALL(IF(Lageromsætning!$A$3:$A$79=$A$2,ROW(Lageromsætning!$A$3:$A$79)-CELL(\"row\",Lageromsætning!$A$3:$A$79)+1),ROWS($2:157))),\"\")","v":""},{"$f":"IFERROR(INDEX(Lageromsætning!$D$3:$D$79,SMALL(IF(Lageromsætning!$A$3:$A$79=$A$2,ROW(Lageromsætning!$A$3:$A$79)-CELL(\"row\",Lageromsætning!$A$3:$A$79)+1),ROWS($2:157))),\"\")","v":""},{"$f":"IFERROR(INDEX(Lageromsætning!$E$3:$E$79,SMALL(IF(Lageromsætning!$A$3:$A$79=$A$2,ROW(Lageromsætning!$A$3:$A$79)-CELL(\"row\",Lageromsætning!$A$3:$A$79)+1),ROWS($2:157))),\"\")","v":""},{"$f":"IFERROR(INDEX(Lageromsætning!$AF$3:$AF$79,SMALL(IF(Lageromsætning!$A$3:$A$79=$A$2,ROW(Lageromsætning!$A$3:$A$79)-CELL(\"row\",Lageromsætning!$A$3:$A$79)+1),ROWS($2:157))),\"\")","v":""},{"$f":"SUMIFS('Lager antal'!$D$3:$D$2508,'Lager antal'!$B$3:$B$2508,B159,'Lager antal'!$C$3:$C$2508,C159)","v":0},{"$f":"SUMIFS('Lager antal'!$F$3:$F$2508,'Lager antal'!$B$3:$B$2508,B159,'Lager antal'!$C$3:$C$2508,C159)","v":0},{"$f":"IF(ISNA(VLOOKUP($C159,'Lager antal'!$C$3:$K$508,9,FALSE))=TRUE,\"\",VLOOKUP($C159,'Lager antal'!$C$3:$K$508,9,FALSE))","v":""},{"$f":"IFERROR(INDEX(Lageromsætning!$P$3:$P$79,SMALL(IF(Lageromsætning!$A$3:$A$79=$A$2,ROW(Lageromsætning!$A$3:$A$79)-CELL(\"row\",Lageromsætning!$A$3:$A$79)+1),ROWS($2:157))),\"\")","v":""},{"$f":"+_xlfn.IFS($M159>=0.01,$M159,TRUE,0)-$F159-K159+G159","v":0},{"$f":"SUMIFS('Lager antal'!$G$3:$G$2508,'Lager antal'!$B$3:$B$2508,B159,'Lager antal'!$C$3:$C$2508,C159)","v":0},null,0,{"$f":"SUMIFS(Lageromsætning!$R$3:$R$79,Lageromsætning!$A$3:$A$79,$A$2,Lageromsætning!$C$3:$C$79,B159,Lageromsætning!$D$3:$D$79,C159)","v":0},{"$f":"SUMIFS(Lageromsætning!$S$3:$S$79,Lageromsætning!$C$3:$C$79,B159,Lageromsætning!$D$3:$D$79,C159)","v":0}]
[{"$f":"IFERROR(INDEX(Lageromsætning!$A$3:$A$79,SMALL(IF(Lageromsætning!$A$3:$A$79=$A$2,ROW(Lageromsætning!$A$3:$A$79)-CELL(\"row\",Lageromsætning!$A$3:$A$79)+1),ROWS($1:157))),\"\")","v":""},{"$f":"IFERROR(INDEX(Lageromsætning!$C$3:$C$79,SMALL(IF(Lageromsætning!$A$3:$A$79=$A$2,ROW(Lageromsætning!$A$3:$A$79)-CELL(\"row\",Lageromsætning!$A$3:$A$79)+1),ROWS($2:158))),\"\")","v":""},{"$f":"IFERROR(INDEX(Lageromsætning!$D$3:$D$79,SMALL(IF(Lageromsætning!$A$3:$A$79=$A$2,ROW(Lageromsætning!$A$3:$A$79)-CELL(\"row\",Lageromsætning!$A$3:$A$79)+1),ROWS($2:158))),\"\")","v":""},{"$f":"IFERROR(INDEX(Lageromsætning!$E$3:$E$79,SMALL(IF(Lageromsætning!$A$3:$A$79=$A$2,ROW(Lageromsætning!$A$3:$A$79)-CELL(\"row\",Lageromsætning!$A$3:$A$79)+1),ROWS($2:158))),\"\")","v":""},{"$f":"IFERROR(INDEX(Lageromsætning!$AF$3:$AF$79,SMALL(IF(Lageromsætning!$A$3:$A$79=$A$2,ROW(Lageromsætning!$A$3:$A$79)-CELL(\"row\",Lageromsætning!$A$3:$A$79)+1),ROWS($2:158))),\"\")","v":""},{"$f":"SUMIFS('Lager antal'!$D$3:$D$2508,'Lager antal'!$B$3:$B$2508,B160,'Lager antal'!$C$3:$C$2508,C160)","v":0},{"$f":"SUMIFS('Lager antal'!$F$3:$F$2508,'Lager antal'!$B$3:$B$2508,B160,'Lager antal'!$C$3:$C$2508,C160)","v":0},{"$f":"IF(ISNA(VLOOKUP($C160,'Lager antal'!$C$3:$K$508,9,FALSE))=TRUE,\"\",VLOOKUP($C160,'Lager antal'!$C$3:$K$508,9,FALSE))","v":""},{"$f":"IFERROR(INDEX(Lageromsætning!$P$3:$P$79,SMALL(IF(Lageromsætning!$A$3:$A$79=$A$2,ROW(Lageromsætning!$A$3:$A$79)-CELL(\"row\",Lageromsætning!$A$3:$A$79)+1),ROWS($2:158))),\"\")","v":""},{"$f":"+_xlfn.IFS($M160>=0.01,$M160,TRUE,0)-$F160-K160+G160","v":0},{"$f":"SUMIFS('Lager antal'!$G$3:$G$2508,'Lager antal'!$B$3:$B$2508,B160,'Lager antal'!$C$3:$C$2508,C160)","v":0},null,0,{"$f":"SUMIFS(Lageromsætning!$R$3:$R$79,Lageromsætning!$A$3:$A$79,$A$2,Lageromsætning!$C$3:$C$79,B160,Lageromsætning!$D$3:$D$79,C160)","v":0},{"$f":"SUMIFS(Lageromsætning!$S$3:$S$79,Lageromsætning!$C$3:$C$79,B160,Lageromsætning!$D$3:$D$79,C160)","v":0}]
[{"$f":"IFERROR(INDEX(Lageromsætning!$A$3:$A$79,SMALL(IF(Lageromsætning!$A$3:$A$79=$A$2,ROW(Lageromsætning!$A$3:$A$79)-CELL(\"row\",Lageromsætning!$A$3:$A$79)+1),ROWS($1:158))),\"\")","v":""},{"$f":"IFERROR(INDEX(Lageromsætning!$C$3:$C$79,SMALL(IF(Lageromsætning!$A$3:$A$79=$A$2,ROW(Lageromsætning!$A$3:$A$79)-CELL(\"row\",Lageromsætning!$A$3:$A$79)+1),ROWS($2:159))),\"\")","v":""},{"$f":"IFERROR(INDEX(Lageromsætning!$D$3:$D$79,SMALL(IF(Lageromsætning!$A$3:$A$79=$A$2,ROW(Lageromsætning!$A$3:$A$79)-CELL(\"row\",Lageromsætning!$A$3:$A$79)+1),ROWS($2:159))),\"\")","v":""},{"$f":"IFERROR(INDEX(Lageromsætning!$E$3:$E$79,SMALL(IF(Lageromsætning!$A$3:$A$79=$A$2,ROW(Lageromsætning!$A$3:$A$79)-CELL(\"row\",Lageromsætning!$A$3:$A$79)+1),ROWS($2:159))),\"\")","v":""},{"$f":"IFERROR(INDEX(Lageromsætning!$AF$3:$AF$79,SMALL(IF(Lageromsætning!$A$3:$A$79=$A$2,ROW(Lageromsætning!$A$3:$A$79)-CELL(\"row\",Lageromsætning!$A$3:$A$79)+1),ROWS($2:159))),\"\")","v":""},{"$f":"SUMIFS('Lager antal'!$D$3:$D$2508,'Lager antal'!$B$3:$B$2508,B161,'Lager antal'!$C$3:$C$2508,C161)","v":0},{"$f":"SUMIFS('Lager antal'!$F$3:$F$2508,'Lager antal'!$B$3:$B$2508,B161,'Lager antal'!$C$3:$C$2508,C161)","v":0},{"$f":"IF(ISNA(VLOOKUP($C161,'Lager antal'!$C$3:$K$508,9,FALSE))=TRUE,\"\",VLOOKUP($C161,'Lager antal'!$C$3:$K$508,9,FALSE))","v":""},{"$f":"IFERROR(INDEX(Lageromsætning!$P$3:$P$79,SMALL(IF(Lageromsætning!$A$3:$A$79=$A$2,ROW(Lageromsætning!$A$3:$A$79)-CELL(\"row\",Lageromsætning!$A$3:$A$79)+1),ROWS($2:159))),\"\")","v":""},{"$f":"+_xlfn.IFS($M161>=0.01,$M161,TRUE,0)-$F161-K161+G161","v":0},{"$f":"SUMIFS('Lager antal'!$G$3:$G$2508,'Lager antal'!$B$3:$B$2508,B161,'Lager antal'!$C$3:$C$2508,C161)","v":0},null,0,{"$f":"SUMIFS(Lageromsætning!$R$3:$R$79,Lageromsætning!$A$3:$A$79,$A$2,Lageromsætning!$C$3:$C$79,B161,Lageromsætning!$D$3:$D$79,C161)","v":0},{"$f":"SUMIFS(Lageromsætning!$S$3:$S$79,Lageromsætning!$C$3:$C$79,B161,Lageromsætning!$D$3:$D$79,C161)","v":0}]
[{"$f":"IFERROR(INDEX(Lageromsætning!$A$3:$A$79,SMALL(IF(Lageromsætning!$A$3:$A$79=$A$2,ROW(Lageromsætning!$A$3:$A$79)-CELL(\"row\",Lageromsætning!$A$3:$A$79)+1),ROWS($1:159))),\"\")","v":""},{"$f":"IFERROR(INDEX(Lageromsætning!$C$3:$C$79,SMALL(IF(Lageromsætning!$A$3:$A$79=$A$2,ROW(Lageromsætning!$A$3:$A$79)-CELL(\"row\",Lageromsætning!$A$3:$A$79)+1),ROWS($2:160))),\"\")","v":""},{"$f":"IFERROR(INDEX(Lageromsætning!$D$3:$D$79,SMALL(IF(Lageromsætning!$A$3:$A$79=$A$2,ROW(Lageromsætning!$A$3:$A$79)-CELL(\"row\",Lageromsætning!$A$3:$A$79)+1),ROWS($2:160))),\"\")","v":""},{"$f":"IFERROR(INDEX(Lageromsætning!$E$3:$E$79,SMALL(IF(Lageromsætning!$A$3:$A$79=$A$2,ROW(Lageromsætning!$A$3:$A$79)-CELL(\"row\",Lageromsætning!$A$3:$A$79)+1),ROWS($2:160))),\"\")","v":""},{"$f":"IFERROR(INDEX(Lageromsætning!$AF$3:$AF$79,SMALL(IF(Lageromsætning!$A$3:$A$79=$A$2,ROW(Lageromsætning!$A$3:$A$79)-CELL(\"row\",Lageromsætning!$A$3:$A$79)+1),ROWS($2:160))),\"\")","v":""},{"$f":"SUMIFS('Lager antal'!$D$3:$D$2508,'Lager antal'!$B$3:$B$2508,B162,'Lager antal'!$C$3:$C$2508,C162)","v":0},{"$f":"SUMIFS('Lager antal'!$F$3:$F$2508,'Lager antal'!$B$3:$B$2508,B162,'Lager antal'!$C$3:$C$2508,C162)","v":0},{"$f":"IF(ISNA(VLOOKUP($C162,'Lager antal'!$C$3:$K$508,9,FALSE))=TRUE,\"\",VLOOKUP($C162,'Lager antal'!$C$3:$K$508,9,FALSE))","v":""},{"$f":"IFERROR(INDEX(Lageromsætning!$P$3:$P$79,SMALL(IF(Lageromsætning!$A$3:$A$79=$A$2,ROW(Lageromsætning!$A$3:$A$79)-CELL(\"row\",Lageromsætning!$A$3:$A$79)+1),ROWS($2:160))),\"\")","v":""},{"$f":"+_xlfn.IFS($M162>=0.01,$M162,TRUE,0)-$F162-K162+G162","v":0},{"$f":"SUMIFS('Lager antal'!$G$3:$G$2508,'Lager antal'!$B$3:$B$2508,B162,'Lager antal'!$C$3:$C$2508,C162)","v":0},null,0,{"$f":"SUMIFS(Lageromsætning!$R$3:$R$79,Lageromsætning!$A$3:$A$79,$A$2,Lageromsætning!$C$3:$C$79,B162,Lageromsætning!$D$3:$D$79,C162)","v":0},{"$f":"SUMIFS(Lageromsætning!$S$3:$S$79,Lageromsætning!$C$3:$C$79,B162,Lageromsætning!$D$3:$D$79,C162)","v":0}]
[{"$f":"IFERROR(INDEX(Lageromsætning!$A$3:$A$79,SMALL(IF(Lageromsætning!$A$3:$A$79=$A$2,ROW(Lageromsætning!$A$3:$A$79)-CELL(\"row\",Lageromsætning!$A$3:$A$79)+1),ROWS($1:160))),\"\")","v":""},{"$f":"IFERROR(INDEX(Lageromsætning!$C$3:$C$79,SMALL(IF(Lageromsætning!$A$3:$A$79=$A$2,ROW(Lageromsætning!$A$3:$A$79)-CELL(\"row\",Lageromsætning!$A$3:$A$79)+1),ROWS($2:161))),\"\")","v":""},{"$f":"IFERROR(INDEX(Lageromsætning!$D$3:$D$79,SMALL(IF(Lageromsætning!$A$3:$A$79=$A$2,ROW(Lageromsætning!$A$3:$A$79)-CELL(\"row\",Lageromsætning!$A$3:$A$79)+1),ROWS($2:161))),\"\")","v":""},{"$f":"IFERROR(INDEX(Lageromsætning!$E$3:$E$79,SMALL(IF(Lageromsætning!$A$3:$A$79=$A$2,ROW(Lageromsætning!$A$3:$A$79)-CELL(\"row\",Lageromsætning!$A$3:$A$79)+1),ROWS($2:161))),\"\")","v":""},{"$f":"IFERROR(INDEX(Lageromsætning!$AF$3:$AF$79,SMALL(IF(Lageromsætning!$A$3:$A$79=$A$2,ROW(Lageromsætning!$A$3:$A$79)-CELL(\"row\",Lageromsætning!$A$3:$A$79)+1),ROWS($2:161))),\"\")","v":""},{"$f":"SUMIFS('Lager antal'!$D$3:$D$2508,'Lager antal'!$B$3:$B$2508,B163,'Lager antal'!$C$3:$C$2508,C163)","v":0},{"$f":"SUMIFS('Lager antal'!$F$3:$F$2508,'Lager antal'!$B$3:$B$2508,B163,'Lager antal'!$C$3:$C$2508,C163)","v":0},{"$f":"IF(ISNA(VLOOKUP($C163,'Lager antal'!$C$3:$K$508,9,FALSE))=TRUE,\"\",VLOOKUP($C163,'Lager antal'!$C$3:$K$508,9,FALSE))","v":""},{"$f":"IFERROR(INDEX(Lageromsætning!$P$3:$P$79,SMALL(IF(Lageromsætning!$A$3:$A$79=$A$2,ROW(Lageromsætning!$A$3:$A$79)-CELL(\"row\",Lageromsætning!$A$3:$A$79)+1),ROWS($2:161))),\"\")","v":""},{"$f":"+_xlfn.IFS($M163>=0.01,$M163,TRUE,0)-$F163-K163+G163","v":0},{"$f":"SUMIFS('Lager antal'!$G$3:$G$2508,'Lager antal'!$B$3:$B$2508,B163,'Lager antal'!$C$3:$C$2508,C163)","v":0},null,0,{"$f":"SUMIFS(Lageromsætning!$R$3:$R$79,Lageromsætning!$A$3:$A$79,$A$2,Lageromsætning!$C$3:$C$79,B163,Lageromsætning!$D$3:$D$79,C163)","v":0},{"$f":"SUMIFS(Lageromsætning!$S$3:$S$79,Lageromsætning!$C$3:$C$79,B163,Lageromsætning!$D$3:$D$79,C163)","v":0}]
[{"$f":"IFERROR(INDEX(Lageromsætning!$A$3:$A$79,SMALL(IF(Lageromsætning!$A$3:$A$79=$A$2,ROW(Lageromsætning!$A$3:$A$79)-CELL(\"row\",Lageromsætning!$A$3:$A$79)+1),ROWS($1:161))),\"\")","v":""},{"$f":"IFERROR(INDEX(Lageromsætning!$C$3:$C$79,SMALL(IF(Lageromsætning!$A$3:$A$79=$A$2,ROW(Lageromsætning!$A$3:$A$79)-CELL(\"row\",Lageromsætning!$A$3:$A$79)+1),ROWS($2:162))),\"\")","v":""},{"$f":"IFERROR(INDEX(Lageromsætning!$D$3:$D$79,SMALL(IF(Lageromsætning!$A$3:$A$79=$A$2,ROW(Lageromsætning!$A$3:$A$79)-CELL(\"row\",Lageromsætning!$A$3:$A$79)+1),ROWS($2:162))),\"\")","v":""},{"$f":"IFERROR(INDEX(Lageromsætning!$E$3:$E$79,SMALL(IF(Lageromsætning!$A$3:$A$79=$A$2,ROW(Lageromsætning!$A$3:$A$79)-CELL(\"row\",Lageromsætning!$A$3:$A$79)+1),ROWS($2:162))),\"\")","v":""},{"$f":"IFERROR(INDEX(Lageromsætning!$AF$3:$AF$79,SMALL(IF(Lageromsætning!$A$3:$A$79=$A$2,ROW(Lageromsætning!$A$3:$A$79)-CELL(\"row\",Lageromsætning!$A$3:$A$79)+1),ROWS($2:162))),\"\")","v":""},{"$f":"SUMIFS('Lager antal'!$D$3:$D$2508,'Lager antal'!$B$3:$B$2508,B164,'Lager antal'!$C$3:$C$2508,C164)","v":0},{"$f":"SUMIFS('Lager antal'!$F$3:$F$2508,'Lager antal'!$B$3:$B$2508,B164,'Lager antal'!$C$3:$C$2508,C164)","v":0},{"$f":"IF(ISNA(VLOOKUP($C164,'Lager antal'!$C$3:$K$508,9,FALSE))=TRUE,\"\",VLOOKUP($C164,'Lager antal'!$C$3:$K$508,9,FALSE))","v":""},{"$f":"IFERROR(INDEX(Lageromsætning!$P$3:$P$79,SMALL(IF(Lageromsætning!$A$3:$A$79=$A$2,ROW(Lageromsætning!$A$3:$A$79)-CELL(\"row\",Lageromsætning!$A$3:$A$79)+1),ROWS($2:162))),\"\")","v":""},{"$f":"+_xlfn.IFS($M164>=0.01,$M164,TRUE,0)-$F164-K164+G164","v":0},{"$f":"SUMIFS('Lager antal'!$G$3:$G$2508,'Lager antal'!$B$3:$B$2508,B164,'Lager antal'!$C$3:$C$2508,C164)","v":0},null,0,{"$f":"SUMIFS(Lageromsætning!$R$3:$R$79,Lageromsætning!$A$3:$A$79,$A$2,Lageromsætning!$C$3:$C$79,B164,Lageromsætning!$D$3:$D$79,C164)","v":0},{"$f":"SUMIFS(Lageromsætning!$S$3:$S$79,Lageromsætning!$C$3:$C$79,B164,Lageromsætning!$D$3:$D$79,C164)","v":0}]
[{"$f":"IFERROR(INDEX(Lageromsætning!$A$3:$A$79,SMALL(IF(Lageromsætning!$A$3:$A$79=$A$2,ROW(Lageromsætning!$A$3:$A$79)-CELL(\"row\",Lageromsætning!$A$3:$A$79)+1),ROWS($1:162))),\"\")","v":""},{"$f":"IFERROR(INDEX(Lageromsætning!$C$3:$C$79,SMALL(IF(Lageromsætning!$A$3:$A$79=$A$2,ROW(Lageromsætning!$A$3:$A$79)-CELL(\"row\",Lageromsætning!$A$3:$A$79)+1),ROWS($2:163))),\"\")","v":""},{"$f":"IFERROR(INDEX(Lageromsætning!$D$3:$D$79,SMALL(IF(Lageromsætning!$A$3:$A$79=$A$2,ROW(Lageromsætning!$A$3:$A$79)-CELL(\"row\",Lageromsætning!$A$3:$A$79)+1),ROWS($2:163))),\"\")","v":""},{"$f":"IFERROR(INDEX(Lageromsætning!$E$3:$E$79,SMALL(IF(Lageromsætning!$A$3:$A$79=$A$2,ROW(Lageromsætning!$A$3:$A$79)-CELL(\"row\",Lageromsætning!$A$3:$A$79)+1),ROWS($2:163))),\"\")","v":""},{"$f":"IFERROR(INDEX(Lageromsætning!$AF$3:$AF$79,SMALL(IF(Lageromsætning!$A$3:$A$79=$A$2,ROW(Lageromsætning!$A$3:$A$79)-CELL(\"row\",Lageromsætning!$A$3:$A$79)+1),ROWS($2:163))),\"\")","v":""},{"$f":"SUMIFS('Lager antal'!$D$3:$D$2508,'Lager antal'!$B$3:$B$2508,B165,'Lager antal'!$C$3:$C$2508,C165)","v":0},{"$f":"SUMIFS('Lager antal'!$F$3:$F$2508,'Lager antal'!$B$3:$B$2508,B165,'Lager antal'!$C$3:$C$2508,C165)","v":0},{"$f":"IF(ISNA(VLOOKUP($C165,'Lager antal'!$C$3:$K$508,9,FALSE))=TRUE,\"\",VLOOKUP($C165,'Lager antal'!$C$3:$K$508,9,FALSE))","v":""},{"$f":"IFERROR(INDEX(Lageromsætning!$P$3:$P$79,SMALL(IF(Lageromsætning!$A$3:$A$79=$A$2,ROW(Lageromsætning!$A$3:$A$79)-CELL(\"row\",Lageromsætning!$A$3:$A$79)+1),ROWS($2:163))),\"\")","v":""},{"$f":"+_xlfn.IFS($M165>=0.01,$M165,TRUE,0)-$F165-K165+G165","v":0},{"$f":"SUMIFS('Lager antal'!$G$3:$G$2508,'Lager antal'!$B$3:$B$2508,B165,'Lager antal'!$C$3:$C$2508,C165)","v":0},null,0,{"$f":"SUMIFS(Lageromsætning!$R$3:$R$79,Lageromsætning!$A$3:$A$79,$A$2,Lageromsætning!$C$3:$C$79,B165,Lageromsætning!$D$3:$D$79,C165)","v":0},{"$f":"SUMIFS(Lageromsætning!$S$3:$S$79,Lageromsætning!$C$3:$C$79,B165,Lageromsætning!$D$3:$D$79,C165)","v":0}]
[{"$f":"IFERROR(INDEX(Lageromsætning!$A$3:$A$79,SMALL(IF(Lageromsætning!$A$3:$A$79=$A$2,ROW(Lageromsætning!$A$3:$A$79)-CELL(\"row\",Lageromsætning!$A$3:$A$79)+1),ROWS($1:163))),\"\")","v":""},{"$f":"IFERROR(INDEX(Lageromsætning!$C$3:$C$79,SMALL(IF(Lageromsætning!$A$3:$A$79=$A$2,ROW(Lageromsætning!$A$3:$A$79)-CELL(\"row\",Lageromsætning!$A$3:$A$79)+1),ROWS($2:164))),\"\")","v":""},{"$f":"IFERROR(INDEX(Lageromsætning!$D$3:$D$79,SMALL(IF(Lageromsætning!$A$3:$A$79=$A$2,ROW(Lageromsætning!$A$3:$A$79)-CELL(\"row\",Lageromsætning!$A$3:$A$79)+1),ROWS($2:164))),\"\")","v":""},{"$f":"IFERROR(INDEX(Lageromsætning!$E$3:$E$79,SMALL(IF(Lageromsætning!$A$3:$A$79=$A$2,ROW(Lageromsætning!$A$3:$A$79)-CELL(\"row\",Lageromsætning!$A$3:$A$79)+1),ROWS($2:164))),\"\")","v":""},{"$f":"IFERROR(INDEX(Lageromsætning!$AF$3:$AF$79,SMALL(IF(Lageromsætning!$A$3:$A$79=$A$2,ROW(Lageromsætning!$A$3:$A$79)-CELL(\"row\",Lageromsætning!$A$3:$A$79)+1),ROWS($2:164))),\"\")","v":""},{"$f":"SUMIFS('Lager antal'!$D$3:$D$2508,'Lager antal'!$B$3:$B$2508,B166,'Lager antal'!$C$3:$C$2508,C166)","v":0},{"$f":"SUMIFS('Lager antal'!$F$3:$F$2508,'Lager antal'!$B$3:$B$2508,B166,'Lager antal'!$C$3:$C$2508,C166)","v":0},{"$f":"IF(ISNA(VLOOKUP($C166,'Lager antal'!$C$3:$K$508,9,FALSE))=TRUE,\"\",VLOOKUP($C166,'Lager antal'!$C$3:$K$508,9,FALSE))","v":""},{"$f":"IFERROR(INDEX(Lageromsætning!$P$3:$P$79,SMALL(IF(Lageromsætning!$A$3:$A$79=$A$2,ROW(Lageromsætning!$A$3:$A$79)-CELL(\"row\",Lageromsætning!$A$3:$A$79)+1),ROWS($2:164))),\"\")","v":""},{"$f":"+_xlfn.IFS($M166>=0.01,$M166,TRUE,0)-$F166-K166+G166","v":0},{"$f":"SUMIFS('Lager antal'!$G$3:$G$2508,'Lager antal'!$B$3:$B$2508,B166,'Lager antal'!$C$3:$C$2508,C166)","v":0},null,0,{"$f":"SUMIFS(Lageromsætning!$R$3:$R$79,Lageromsætning!$A$3:$A$79,$A$2,Lageromsætning!$C$3:$C$79,B166,Lageromsætning!$D$3:$D$79,C166)","v":0},{"$f":"SUMIFS(Lageromsætning!$S$3:$S$79,Lageromsætning!$C$3:$C$79,B166,Lageromsætning!$D$3:$D$79,C166)","v":0}]
[{"$f":"IFERROR(INDEX(Lageromsætning!$A$3:$A$79,SMALL(IF(Lageromsætning!$A$3:$A$79=$A$2,ROW(Lageromsætning!$A$3:$A$79)-CELL(\"row\",Lageromsætning!$A$3:$A$79)+1),ROWS($1:164))),\"\")","v":""},{"$f":"IFERROR(INDEX(Lageromsætning!$C$3:$C$79,SMALL(IF(Lageromsætning!$A$3:$A$79=$A$2,ROW(Lageromsætning!$A$3:$A$79)-CELL(\"row\",Lageromsætning!$A$3:$A$79)+1),ROWS($2:165))),\"\")","v":""},{"$f":"IFERROR(INDEX(Lageromsætning!$D$3:$D$79,SMALL(IF(Lageromsætning!$A$3:$A$79=$A$2,ROW(Lageromsætning!$A$3:$A$79)-CELL(\"row\",Lageromsætning!$A$3:$A$79)+1),ROWS($2:165))),\"\")","v":""},{"$f":"IFERROR(INDEX(Lageromsætning!$E$3:$E$79,SMALL(IF(Lageromsætning!$A$3:$A$79=$A$2,ROW(Lageromsætning!$A$3:$A$79)-CELL(\"row\",Lageromsætning!$A$3:$A$79)+1),ROWS($2:165))),\"\")","v":""},{"$f":"IFERROR(INDEX(Lageromsætning!$AF$3:$AF$79,SMALL(IF(Lageromsætning!$A$3:$A$79=$A$2,ROW(Lageromsætning!$A$3:$A$79)-CELL(\"row\",Lageromsætning!$A$3:$A$79)+1),ROWS($2:165))),\"\")","v":""},{"$f":"SUMIFS('Lager antal'!$D$3:$D$2508,'Lager antal'!$B$3:$B$2508,B167,'Lager antal'!$C$3:$C$2508,C167)","v":0},{"$f":"SUMIFS('Lager antal'!$F$3:$F$2508,'Lager antal'!$B$3:$B$2508,B167,'Lager antal'!$C$3:$C$2508,C167)","v":0},{"$f":"IF(ISNA(VLOOKUP($C167,'Lager antal'!$C$3:$K$508,9,FALSE))=TRUE,\"\",VLOOKUP($C167,'Lager antal'!$C$3:$K$508,9,FALSE))","v":""},{"$f":"IFERROR(INDEX(Lageromsætning!$P$3:$P$79,SMALL(IF(Lageromsætning!$A$3:$A$79=$A$2,ROW(Lageromsætning!$A$3:$A$79)-CELL(\"row\",Lageromsætning!$A$3:$A$79)+1),ROWS($2:165))),\"\")","v":""},{"$f":"+_xlfn.IFS($M167>=0.01,$M167,TRUE,0)-$F167-K167+G167","v":0},{"$f":"SUMIFS('Lager antal'!$G$3:$G$2508,'Lager antal'!$B$3:$B$2508,B167,'Lager antal'!$C$3:$C$2508,C167)","v":0},null,0,{"$f":"SUMIFS(Lageromsætning!$R$3:$R$79,Lageromsætning!$A$3:$A$79,$A$2,Lageromsætning!$C$3:$C$79,B167,Lageromsætning!$D$3:$D$79,C167)","v":0},{"$f":"SUMIFS(Lageromsætning!$S$3:$S$79,Lageromsætning!$C$3:$C$79,B167,Lageromsætning!$D$3:$D$79,C167)","v":0}]
[{"$f":"IFERROR(INDEX(Lageromsætning!$A$3:$A$79,SMALL(IF(Lageromsætning!$A$3:$A$79=$A$2,ROW(Lageromsætning!$A$3:$A$79)-CELL(\"row\",Lageromsætning!$A$3:$A$79)+1),ROWS($1:165))),\"\")","v":""},{"$f":"IFERROR(INDEX(Lageromsætning!$C$3:$C$79,SMALL(IF(Lageromsætning!$A$3:$A$79=$A$2,ROW(Lageromsætning!$A$3:$A$79)-CELL(\"row\",Lageromsætning!$A$3:$A$79)+1),ROWS($2:166))),\"\")","v":""},{"$f":"IFERROR(INDEX(Lageromsætning!$D$3:$D$79,SMALL(IF(Lageromsætning!$A$3:$A$79=$A$2,ROW(Lageromsætning!$A$3:$A$79)-CELL(\"row\",Lageromsætning!$A$3:$A$79)+1),ROWS($2:166))),\"\")","v":""},{"$f":"IFERROR(INDEX(Lageromsætning!$E$3:$E$79,SMALL(IF(Lageromsætning!$A$3:$A$79=$A$2,ROW(Lageromsætning!$A$3:$A$79)-CELL(\"row\",Lageromsætning!$A$3:$A$79)+1),ROWS($2:166))),\"\")","v":""},{"$f":"IFERROR(INDEX(Lageromsætning!$AF$3:$AF$79,SMALL(IF(Lageromsætning!$A$3:$A$79=$A$2,ROW(Lageromsætning!$A$3:$A$79)-CELL(\"row\",Lageromsætning!$A$3:$A$79)+1),ROWS($2:166))),\"\")","v":""},{"$f":"SUMIFS('Lager antal'!$D$3:$D$2508,'Lager antal'!$B$3:$B$2508,B168,'Lager antal'!$C$3:$C$2508,C168)","v":0},{"$f":"SUMIFS('Lager antal'!$F$3:$F$2508,'Lager antal'!$B$3:$B$2508,B168,'Lager antal'!$C$3:$C$2508,C168)","v":0},{"$f":"IF(ISNA(VLOOKUP($C168,'Lager antal'!$C$3:$K$508,9,FALSE))=TRUE,\"\",VLOOKUP($C168,'Lager antal'!$C$3:$K$508,9,FALSE))","v":""},{"$f":"IFERROR(INDEX(Lageromsætning!$P$3:$P$79,SMALL(IF(Lageromsætning!$A$3:$A$79=$A$2,ROW(Lageromsætning!$A$3:$A$79)-CELL(\"row\",Lageromsætning!$A$3:$A$79)+1),ROWS($2:166))),\"\")","v":""},{"$f":"+_xlfn.IFS($M168>=0.01,$M168,TRUE,0)-$F168-K168+G168","v":0},{"$f":"SUMIFS('Lager antal'!$G$3:$G$2508,'Lager antal'!$B$3:$B$2508,B168,'Lager antal'!$C$3:$C$2508,C168)","v":0},null,0,{"$f":"SUMIFS(Lageromsætning!$R$3:$R$79,Lageromsætning!$A$3:$A$79,$A$2,Lageromsætning!$C$3:$C$79,B168,Lageromsætning!$D$3:$D$79,C168)","v":0},{"$f":"SUMIFS(Lageromsætning!$S$3:$S$79,Lageromsætning!$C$3:$C$79,B168,Lageromsætning!$D$3:$D$79,C168)","v":0}]
[{"$f":"IFERROR(INDEX(Lageromsætning!$A$3:$A$79,SMALL(IF(Lageromsætning!$A$3:$A$79=$A$2,ROW(Lageromsætning!$A$3:$A$79)-CELL(\"row\",Lageromsætning!$A$3:$A$79)+1),ROWS($1:166))),\"\")","v":""},{"$f":"IFERROR(INDEX(Lageromsætning!$C$3:$C$79,SMALL(IF(Lageromsætning!$A$3:$A$79=$A$2,ROW(Lageromsætning!$A$3:$A$79)-CELL(\"row\",Lageromsætning!$A$3:$A$79)+1),ROWS($2:167))),\"\")","v":""},{"$f":"IFERROR(INDEX(Lageromsætning!$D$3:$D$79,SMALL(IF(Lageromsætning!$A$3:$A$79=$A$2,ROW(Lageromsætning!$A$3:$A$79)-CELL(\"row\",Lageromsætning!$A$3:$A$79)+1),ROWS($2:167))),\"\")","v":""},{"$f":"IFERROR(INDEX(Lageromsætning!$E$3:$E$79,SMALL(IF(Lageromsætning!$A$3:$A$79=$A$2,ROW(Lageromsætning!$A$3:$A$79)-CELL(\"row\",Lageromsætning!$A$3:$A$79)+1),ROWS($2:167))),\"\")","v":""},{"$f":"IFERROR(INDEX(Lageromsætning!$AF$3:$AF$79,SMALL(IF(Lageromsætning!$A$3:$A$79=$A$2,ROW(Lageromsætning!$A$3:$A$79)-CELL(\"row\",Lageromsætning!$A$3:$A$79)+1),ROWS($2:167))),\"\")","v":""},{"$f":"SUMIFS('Lager antal'!$D$3:$D$2508,'Lager antal'!$B$3:$B$2508,B169,'Lager antal'!$C$3:$C$2508,C169)","v":0},{"$f":"SUMIFS('Lager antal'!$F$3:$F$2508,'Lager antal'!$B$3:$B$2508,B169,'Lager antal'!$C$3:$C$2508,C169)","v":0},{"$f":"IF(ISNA(VLOOKUP($C169,'Lager antal'!$C$3:$K$508,9,FALSE))=TRUE,\"\",VLOOKUP($C169,'Lager antal'!$C$3:$K$508,9,FALSE))","v":""},{"$f":"IFERROR(INDEX(Lageromsætning!$P$3:$P$79,SMALL(IF(Lageromsætning!$A$3:$A$79=$A$2,ROW(Lageromsætning!$A$3:$A$79)-CELL(\"row\",Lageromsætning!$A$3:$A$79)+1),ROWS($2:167))),\"\")","v":""},{"$f":"+_xlfn.IFS($M169>=0.01,$M169,TRUE,0)-$F169-K169+G169","v":0},{"$f":"SUMIFS('Lager antal'!$G$3:$G$2508,'Lager antal'!$B$3:$B$2508,B169,'Lager antal'!$C$3:$C$2508,C169)","v":0},null,0,{"$f":"SUMIFS(Lageromsætning!$R$3:$R$79,Lageromsætning!$A$3:$A$79,$A$2,Lageromsætning!$C$3:$C$79,B169,Lageromsætning!$D$3:$D$79,C169)","v":0},{"$f":"SUMIFS(Lageromsætning!$S$3:$S$79,Lageromsætning!$C$3:$C$79,B169,Lageromsætning!$D$3:$D$79,C169)","v":0}]
[{"$f":"IFERROR(INDEX(Lageromsætning!$A$3:$A$79,SMALL(IF(Lageromsætning!$A$3:$A$79=$A$2,ROW(Lageromsætning!$A$3:$A$79)-CELL(\"row\",Lageromsætning!$A$3:$A$79)+1),ROWS($1:167))),\"\")","v":""},{"$f":"IFERROR(INDEX(Lageromsætning!$C$3:$C$79,SMALL(IF(Lageromsætning!$A$3:$A$79=$A$2,ROW(Lageromsætning!$A$3:$A$79)-CELL(\"row\",Lageromsætning!$A$3:$A$79)+1),ROWS($2:168))),\"\")","v":""},{"$f":"IFERROR(INDEX(Lageromsætning!$D$3:$D$79,SMALL(IF(Lageromsætning!$A$3:$A$79=$A$2,ROW(Lageromsætning!$A$3:$A$79)-CELL(\"row\",Lageromsætning!$A$3:$A$79)+1),ROWS($2:168))),\"\")","v":""},{"$f":"IFERROR(INDEX(Lageromsætning!$E$3:$E$79,SMALL(IF(Lageromsætning!$A$3:$A$79=$A$2,ROW(Lageromsætning!$A$3:$A$79)-CELL(\"row\",Lageromsætning!$A$3:$A$79)+1),ROWS($2:168))),\"\")","v":""},{"$f":"IFERROR(INDEX(Lageromsætning!$AF$3:$AF$79,SMALL(IF(Lageromsætning!$A$3:$A$79=$A$2,ROW(Lageromsætning!$A$3:$A$79)-CELL(\"row\",Lageromsætning!$A$3:$A$79)+1),ROWS($2:168))),\"\")","v":""},{"$f":"SUMIFS('Lager antal'!$D$3:$D$2508,'Lager antal'!$B$3:$B$2508,B170,'Lager antal'!$C$3:$C$2508,C170)","v":0},{"$f":"SUMIFS('Lager antal'!$F$3:$F$2508,'Lager antal'!$B$3:$B$2508,B170,'Lager antal'!$C$3:$C$2508,C170)","v":0},{"$f":"IF(ISNA(VLOOKUP($C170,'Lager antal'!$C$3:$K$508,9,FALSE))=TRUE,\"\",VLOOKUP($C170,'Lager antal'!$C$3:$K$508,9,FALSE))","v":""},{"$f":"IFERROR(INDEX(Lageromsætning!$P$3:$P$79,SMALL(IF(Lageromsætning!$A$3:$A$79=$A$2,ROW(Lageromsætning!$A$3:$A$79)-CELL(\"row\",Lageromsætning!$A$3:$A$79)+1),ROWS($2:168))),\"\")","v":""},{"$f":"+_xlfn.IFS($M170>=0.01,$M170,TRUE,0)-$F170-K170+G170","v":0},{"$f":"SUMIFS('Lager antal'!$G$3:$G$2508,'Lager antal'!$B$3:$B$2508,B170,'Lager antal'!$C$3:$C$2508,C170)","v":0},null,0,{"$f":"SUMIFS(Lageromsætning!$R$3:$R$79,Lageromsætning!$A$3:$A$79,$A$2,Lageromsætning!$C$3:$C$79,B170,Lageromsætning!$D$3:$D$79,C170)","v":0},{"$f":"SUMIFS(Lageromsætning!$S$3:$S$79,Lageromsætning!$C$3:$C$79,B170,Lageromsætning!$D$3:$D$79,C170)","v":0}]
[{"$f":"IFERROR(INDEX(Lageromsætning!$A$3:$A$79,SMALL(IF(Lageromsætning!$A$3:$A$79=$A$2,ROW(Lageromsætning!$A$3:$A$79)-CELL(\"row\",Lageromsætning!$A$3:$A$79)+1),ROWS($1:168))),\"\")","v":""},{"$f":"IFERROR(INDEX(Lageromsætning!$C$3:$C$79,SMALL(IF(Lageromsætning!$A$3:$A$79=$A$2,ROW(Lageromsætning!$A$3:$A$79)-CELL(\"row\",Lageromsætning!$A$3:$A$79)+1),ROWS($2:169))),\"\")","v":""},{"$f":"IFERROR(INDEX(Lageromsætning!$D$3:$D$79,SMALL(IF(Lageromsætning!$A$3:$A$79=$A$2,ROW(Lageromsætning!$A$3:$A$79)-CELL(\"row\",Lageromsætning!$A$3:$A$79)+1),ROWS($2:169))),\"\")","v":""},{"$f":"IFERROR(INDEX(Lageromsætning!$E$3:$E$79,SMALL(IF(Lageromsætning!$A$3:$A$79=$A$2,ROW(Lageromsætning!$A$3:$A$79)-CELL(\"row\",Lageromsætning!$A$3:$A$79)+1),ROWS($2:169))),\"\")","v":""},{"$f":"IFERROR(INDEX(Lageromsætning!$AF$3:$AF$79,SMALL(IF(Lageromsætning!$A$3:$A$79=$A$2,ROW(Lageromsætning!$A$3:$A$79)-CELL(\"row\",Lageromsætning!$A$3:$A$79)+1),ROWS($2:169))),\"\")","v":""},{"$f":"SUMIFS('Lager antal'!$D$3:$D$2508,'Lager antal'!$B$3:$B$2508,B171,'Lager antal'!$C$3:$C$2508,C171)","v":0},{"$f":"SUMIFS('Lager antal'!$F$3:$F$2508,'Lager antal'!$B$3:$B$2508,B171,'Lager antal'!$C$3:$C$2508,C171)","v":0},{"$f":"IF(ISNA(VLOOKUP($C171,'Lager antal'!$C$3:$K$508,9,FALSE))=TRUE,\"\",VLOOKUP($C171,'Lager antal'!$C$3:$K$508,9,FALSE))","v":""},{"$f":"IFERROR(INDEX(Lageromsætning!$P$3:$P$79,SMALL(IF(Lageromsætning!$A$3:$A$79=$A$2,ROW(Lageromsætning!$A$3:$A$79)-CELL(\"row\",Lageromsætning!$A$3:$A$79)+1),ROWS($2:169))),\"\")","v":""},{"$f":"+_xlfn.IFS($M171>=0.01,$M171,TRUE,0)-$F171-K171+G171","v":0},{"$f":"SUMIFS('Lager antal'!$G$3:$G$2508,'Lager antal'!$B$3:$B$2508,B171,'Lager antal'!$C$3:$C$2508,C171)","v":0},null,0,{"$f":"SUMIFS(Lageromsætning!$R$3:$R$79,Lageromsætning!$A$3:$A$79,$A$2,Lageromsætning!$C$3:$C$79,B171,Lageromsætning!$D$3:$D$79,C171)","v":0},{"$f":"SUMIFS(Lageromsætning!$S$3:$S$79,Lageromsætning!$C$3:$C$79,B171,Lageromsætning!$D$3:$D$79,C171)","v":0}]
[{"$f":"IFERROR(INDEX(Lageromsætning!$A$3:$A$79,SMALL(IF(Lageromsætning!$A$3:$A$79=$A$2,ROW(Lageromsætning!$A$3:$A$79)-CELL(\"row\",Lageromsætning!$A$3:$A$79)+1),ROWS($1:169))),\"\")","v":""},{"$f":"IFERROR(INDEX(Lageromsætning!$C$3:$C$79,SMALL(IF(Lageromsætning!$A$3:$A$79=$A$2,ROW(Lageromsætning!$A$3:$A$79)-CELL(\"row\",Lageromsætning!$A$3:$A$79)+1),ROWS($2:170))),\"\")","v":""},{"$f":"IFERROR(INDEX(Lageromsætning!$D$3:$D$79,SMALL(IF(Lageromsætning!$A$3:$A$79=$A$2,ROW(Lageromsætning!$A$3:$A$79)-CELL(\"row\",Lageromsætning!$A$3:$A$79)+1),ROWS($2:170))),\"\")","v":""},{"$f":"IFERROR(INDEX(Lageromsætning!$E$3:$E$79,SMALL(IF(Lageromsætning!$A$3:$A$79=$A$2,ROW(Lageromsætning!$A$3:$A$79)-CELL(\"row\",Lageromsætning!$A$3:$A$79)+1),ROWS($2:170))),\"\")","v":""},{"$f":"IFERROR(INDEX(Lageromsætning!$AF$3:$AF$79,SMALL(IF(Lageromsætning!$A$3:$A$79=$A$2,ROW(Lageromsætning!$A$3:$A$79)-CELL(\"row\",Lageromsætning!$A$3:$A$79)+1),ROWS($2:170))),\"\")","v":""},{"$f":"SUMIFS('Lager antal'!$D$3:$D$2508,'Lager antal'!$B$3:$B$2508,B172,'Lager antal'!$C$3:$C$2508,C172)","v":0},{"$f":"SUMIFS('Lager antal'!$F$3:$F$2508,'Lager antal'!$B$3:$B$2508,B172,'Lager antal'!$C$3:$C$2508,C172)","v":0},{"$f":"IF(ISNA(VLOOKUP($C172,'Lager antal'!$C$3:$K$508,9,FALSE))=TRUE,\"\",VLOOKUP($C172,'Lager antal'!$C$3:$K$508,9,FALSE))","v":""},{"$f":"IFERROR(INDEX(Lageromsætning!$P$3:$P$79,SMALL(IF(Lageromsætning!$A$3:$A$79=$A$2,ROW(Lageromsætning!$A$3:$A$79)-CELL(\"row\",Lageromsætning!$A$3:$A$79)+1),ROWS($2:170))),\"\")","v":""},{"$f":"+_xlfn.IFS($M172>=0.01,$M172,TRUE,0)-$F172-K172+G172","v":0},{"$f":"SUMIFS('Lager antal'!$G$3:$G$2508,'Lager antal'!$B$3:$B$2508,B172,'Lager antal'!$C$3:$C$2508,C172)","v":0},null,0,{"$f":"SUMIFS(Lageromsætning!$R$3:$R$79,Lageromsætning!$A$3:$A$79,$A$2,Lageromsætning!$C$3:$C$79,B172,Lageromsætning!$D$3:$D$79,C172)","v":0},{"$f":"SUMIFS(Lageromsætning!$S$3:$S$79,Lageromsætning!$C$3:$C$79,B172,Lageromsætning!$D$3:$D$79,C172)","v":0}]
[{"$f":"IFERROR(INDEX(Lageromsætning!$A$3:$A$79,SMALL(IF(Lageromsætning!$A$3:$A$79=$A$2,ROW(Lageromsætning!$A$3:$A$79)-CELL(\"row\",Lageromsætning!$A$3:$A$79)+1),ROWS($1:170))),\"\")","v":""},{"$f":"IFERROR(INDEX(Lageromsætning!$C$3:$C$79,SMALL(IF(Lageromsætning!$A$3:$A$79=$A$2,ROW(Lageromsætning!$A$3:$A$79)-CELL(\"row\",Lageromsætning!$A$3:$A$79)+1),ROWS($2:171))),\"\")","v":""},{"$f":"IFERROR(INDEX(Lageromsætning!$D$3:$D$79,SMALL(IF(Lageromsætning!$A$3:$A$79=$A$2,ROW(Lageromsætning!$A$3:$A$79)-CELL(\"row\",Lageromsætning!$A$3:$A$79)+1),ROWS($2:171))),\"\")","v":""},{"$f":"IFERROR(INDEX(Lageromsætning!$E$3:$E$79,SMALL(IF(Lageromsætning!$A$3:$A$79=$A$2,ROW(Lageromsætning!$A$3:$A$79)-CELL(\"row\",Lageromsætning!$A$3:$A$79)+1),ROWS($2:171))),\"\")","v":""},{"$f":"IFERROR(INDEX(Lageromsætning!$AF$3:$AF$79,SMALL(IF(Lageromsætning!$A$3:$A$79=$A$2,ROW(Lageromsætning!$A$3:$A$79)-CELL(\"row\",Lageromsætning!$A$3:$A$79)+1),ROWS($2:171))),\"\")","v":""},{"$f":"SUMIFS('Lager antal'!$D$3:$D$2508,'Lager antal'!$B$3:$B$2508,B173,'Lager antal'!$C$3:$C$2508,C173)","v":0},{"$f":"SUMIFS('Lager antal'!$F$3:$F$2508,'Lager antal'!$B$3:$B$2508,B173,'Lager antal'!$C$3:$C$2508,C173)","v":0},{"$f":"IF(ISNA(VLOOKUP($C173,'Lager antal'!$C$3:$K$508,9,FALSE))=TRUE,\"\",VLOOKUP($C173,'Lager antal'!$C$3:$K$508,9,FALSE))","v":""},{"$f":"IFERROR(INDEX(Lageromsætning!$P$3:$P$79,SMALL(IF(Lageromsætning!$A$3:$A$79=$A$2,ROW(Lageromsætning!$A$3:$A$79)-CELL(\"row\",Lageromsætning!$A$3:$A$79)+1),ROWS($2:171))),\"\")","v":""},{"$f":"+_xlfn.IFS($M173>=0.01,$M173,TRUE,0)-$F173-K173+G173","v":0},{"$f":"SUMIFS('Lager antal'!$G$3:$G$2508,'Lager antal'!$B$3:$B$2508,B173,'Lager antal'!$C$3:$C$2508,C173)","v":0},null,0,{"$f":"SUMIFS(Lageromsætning!$R$3:$R$79,Lageromsætning!$A$3:$A$79,$A$2,Lageromsætning!$C$3:$C$79,B173,Lageromsætning!$D$3:$D$79,C173)","v":0},{"$f":"SUMIFS(Lageromsætning!$S$3:$S$79,Lageromsætning!$C$3:$C$79,B173,Lageromsætning!$D$3:$D$79,C173)","v":0}]
[{"$f":"IFERROR(INDEX(Lageromsætning!$A$3:$A$79,SMALL(IF(Lageromsætning!$A$3:$A$79=$A$2,ROW(Lageromsætning!$A$3:$A$79)-CELL(\"row\",Lageromsætning!$A$3:$A$79)+1),ROWS($1:171))),\"\")","v":""},{"$f":"IFERROR(INDEX(Lageromsætning!$C$3:$C$79,SMALL(IF(Lageromsætning!$A$3:$A$79=$A$2,ROW(Lageromsætning!$A$3:$A$79)-CELL(\"row\",Lageromsætning!$A$3:$A$79)+1),ROWS($2:172))),\"\")","v":""},{"$f":"IFERROR(INDEX(Lageromsætning!$D$3:$D$79,SMALL(IF(Lageromsætning!$A$3:$A$79=$A$2,ROW(Lageromsætning!$A$3:$A$79)-CELL(\"row\",Lageromsætning!$A$3:$A$79)+1),ROWS($2:172))),\"\")","v":""},{"$f":"IFERROR(INDEX(Lageromsætning!$E$3:$E$79,SMALL(IF(Lageromsætning!$A$3:$A$79=$A$2,ROW(Lageromsætning!$A$3:$A$79)-CELL(\"row\",Lageromsætning!$A$3:$A$79)+1),ROWS($2:172))),\"\")","v":""},{"$f":"IFERROR(INDEX(Lageromsætning!$AF$3:$AF$79,SMALL(IF(Lageromsætning!$A$3:$A$79=$A$2,ROW(Lageromsætning!$A$3:$A$79)-CELL(\"row\",Lageromsætning!$A$3:$A$79)+1),ROWS($2:172))),\"\")","v":""},{"$f":"SUMIFS('Lager antal'!$D$3:$D$2508,'Lager antal'!$B$3:$B$2508,B174,'Lager antal'!$C$3:$C$2508,C174)","v":0},{"$f":"SUMIFS('Lager antal'!$F$3:$F$2508,'Lager antal'!$B$3:$B$2508,B174,'Lager antal'!$C$3:$C$2508,C174)","v":0},{"$f":"IF(ISNA(VLOOKUP($C174,'Lager antal'!$C$3:$K$508,9,FALSE))=TRUE,\"\",VLOOKUP($C174,'Lager antal'!$C$3:$K$508,9,FALSE))","v":""},{"$f":"IFERROR(INDEX(Lageromsætning!$P$3:$P$79,SMALL(IF(Lageromsætning!$A$3:$A$79=$A$2,ROW(Lageromsætning!$A$3:$A$79)-CELL(\"row\",Lageromsætning!$A$3:$A$79)+1),ROWS($2:172))),\"\")","v":""},{"$f":"+_xlfn.IFS($M174>=0.01,$M174,TRUE,0)-$F174-K174+G174","v":0},{"$f":"SUMIFS('Lager antal'!$G$3:$G$2508,'Lager antal'!$B$3:$B$2508,B174,'Lager antal'!$C$3:$C$2508,C174)","v":0},null,0,{"$f":"SUMIFS(Lageromsætning!$R$3:$R$79,Lageromsætning!$A$3:$A$79,$A$2,Lageromsætning!$C$3:$C$79,B174,Lageromsætning!$D$3:$D$79,C174)","v":0},{"$f":"SUMIFS(Lageromsætning!$S$3:$S$79,Lageromsætning!$C$3:$C$79,B174,Lageromsætning!$D$3:$D$79,C174)","v":0}]
[{"$f":"IFERROR(INDEX(Lageromsætning!$A$3:$A$79,SMALL(IF(Lageromsætning!$A$3:$A$79=$A$2,ROW(Lageromsætning!$A$3:$A$79)-CELL(\"row\",Lageromsætning!$A$3:$A$79)+1),ROWS($1:172))),\"\")","v":""},{"$f":"IFERROR(INDEX(Lageromsætning!$C$3:$C$79,SMALL(IF(Lageromsætning!$A$3:$A$79=$A$2,ROW(Lageromsætning!$A$3:$A$79)-CELL(\"row\",Lageromsætning!$A$3:$A$79)+1),ROWS($2:173))),\"\")","v":""},{"$f":"IFERROR(INDEX(Lageromsætning!$D$3:$D$79,SMALL(IF(Lageromsætning!$A$3:$A$79=$A$2,ROW(Lageromsætning!$A$3:$A$79)-CELL(\"row\",Lageromsætning!$A$3:$A$79)+1),ROWS($2:173))),\"\")","v":""},{"$f":"IFERROR(INDEX(Lageromsætning!$E$3:$E$79,SMALL(IF(Lageromsætning!$A$3:$A$79=$A$2,ROW(Lageromsætning!$A$3:$A$79)-CELL(\"row\",Lageromsætning!$A$3:$A$79)+1),ROWS($2:173))),\"\")","v":""},{"$f":"IFERROR(INDEX(Lageromsætning!$AF$3:$AF$79,SMALL(IF(Lageromsætning!$A$3:$A$79=$A$2,ROW(Lageromsætning!$A$3:$A$79)-CELL(\"row\",Lageromsætning!$A$3:$A$79)+1),ROWS($2:173))),\"\")","v":""},{"$f":"SUMIFS('Lager antal'!$D$3:$D$2508,'Lager antal'!$B$3:$B$2508,B175,'Lager antal'!$C$3:$C$2508,C175)","v":0},{"$f":"SUMIFS('Lager antal'!$F$3:$F$2508,'Lager antal'!$B$3:$B$2508,B175,'Lager antal'!$C$3:$C$2508,C175)","v":0},{"$f":"IF(ISNA(VLOOKUP($C175,'Lager antal'!$C$3:$K$508,9,FALSE))=TRUE,\"\",VLOOKUP($C175,'Lager antal'!$C$3:$K$508,9,FALSE))","v":""},{"$f":"IFERROR(INDEX(Lageromsætning!$P$3:$P$79,SMALL(IF(Lageromsætning!$A$3:$A$79=$A$2,ROW(Lageromsætning!$A$3:$A$79)-CELL(\"row\",Lageromsætning!$A$3:$A$79)+1),ROWS($2:173))),\"\")","v":""},{"$f":"+_xlfn.IFS($M175>=0.01,$M175,TRUE,0)-$F175-K175+G175","v":0},{"$f":"SUMIFS('Lager antal'!$G$3:$G$2508,'Lager antal'!$B$3:$B$2508,B175,'Lager antal'!$C$3:$C$2508,C175)","v":0},null,0,{"$f":"SUMIFS(Lageromsætning!$R$3:$R$79,Lageromsætning!$A$3:$A$79,$A$2,Lageromsætning!$C$3:$C$79,B175,Lageromsætning!$D$3:$D$79,C175)","v":0},{"$f":"SUMIFS(Lageromsætning!$S$3:$S$79,Lageromsætning!$C$3:$C$79,B175,Lageromsætning!$D$3:$D$79,C175)","v":0}]
[{"$f":"IFERROR(INDEX(Lageromsætning!$A$3:$A$79,SMALL(IF(Lageromsætning!$A$3:$A$79=$A$2,ROW(Lageromsætning!$A$3:$A$79)-CELL(\"row\",Lageromsætning!$A$3:$A$79)+1),ROWS($1:173))),\"\")","v":""},{"$f":"IFERROR(INDEX(Lageromsætning!$C$3:$C$79,SMALL(IF(Lageromsætning!$A$3:$A$79=$A$2,ROW(Lageromsætning!$A$3:$A$79)-CELL(\"row\",Lageromsætning!$A$3:$A$79)+1),ROWS($2:174))),\"\")","v":""},{"$f":"IFERROR(INDEX(Lageromsætning!$D$3:$D$79,SMALL(IF(Lageromsætning!$A$3:$A$79=$A$2,ROW(Lageromsætning!$A$3:$A$79)-CELL(\"row\",Lageromsætning!$A$3:$A$79)+1),ROWS($2:174))),\"\")","v":""},{"$f":"IFERROR(INDEX(Lageromsætning!$E$3:$E$79,SMALL(IF(Lageromsætning!$A$3:$A$79=$A$2,ROW(Lageromsætning!$A$3:$A$79)-CELL(\"row\",Lageromsætning!$A$3:$A$79)+1),ROWS($2:174))),\"\")","v":""},{"$f":"IFERROR(INDEX(Lageromsætning!$AF$3:$AF$79,SMALL(IF(Lageromsætning!$A$3:$A$79=$A$2,ROW(Lageromsætning!$A$3:$A$79)-CELL(\"row\",Lageromsætning!$A$3:$A$79)+1),ROWS($2:174))),\"\")","v":""},{"$f":"SUMIFS('Lager antal'!$D$3:$D$2508,'Lager antal'!$B$3:$B$2508,B176,'Lager antal'!$C$3:$C$2508,C176)","v":0},{"$f":"SUMIFS('Lager antal'!$F$3:$F$2508,'Lager antal'!$B$3:$B$2508,B176,'Lager antal'!$C$3:$C$2508,C176)","v":0},{"$f":"IF(ISNA(VLOOKUP($C176,'Lager antal'!$C$3:$K$508,9,FALSE))=TRUE,\"\",VLOOKUP($C176,'Lager antal'!$C$3:$K$508,9,FALSE))","v":""},{"$f":"IFERROR(INDEX(Lageromsætning!$P$3:$P$79,SMALL(IF(Lageromsætning!$A$3:$A$79=$A$2,ROW(Lageromsætning!$A$3:$A$79)-CELL(\"row\",Lageromsætning!$A$3:$A$79)+1),ROWS($2:174))),\"\")","v":""},{"$f":"+_xlfn.IFS($M176>=0.01,$M176,TRUE,0)-$F176-K176+G176","v":0},{"$f":"SUMIFS('Lager antal'!$G$3:$G$2508,'Lager antal'!$B$3:$B$2508,B176,'Lager antal'!$C$3:$C$2508,C176)","v":0},null,0,{"$f":"SUMIFS(Lageromsætning!$R$3:$R$79,Lageromsætning!$A$3:$A$79,$A$2,Lageromsætning!$C$3:$C$79,B176,Lageromsætning!$D$3:$D$79,C176)","v":0},{"$f":"SUMIFS(Lageromsætning!$S$3:$S$79,Lageromsætning!$C$3:$C$79,B176,Lageromsætning!$D$3:$D$79,C176)","v":0}]
[{"$f":"IFERROR(INDEX(Lageromsætning!$A$3:$A$79,SMALL(IF(Lageromsætning!$A$3:$A$79=$A$2,ROW(Lageromsætning!$A$3:$A$79)-CELL(\"row\",Lageromsætning!$A$3:$A$79)+1),ROWS($1:174))),\"\")","v":""},{"$f":"IFERROR(INDEX(Lageromsætning!$C$3:$C$79,SMALL(IF(Lageromsætning!$A$3:$A$79=$A$2,ROW(Lageromsætning!$A$3:$A$79)-CELL(\"row\",Lageromsætning!$A$3:$A$79)+1),ROWS($2:175))),\"\")","v":""},{"$f":"IFERROR(INDEX(Lageromsætning!$D$3:$D$79,SMALL(IF(Lageromsætning!$A$3:$A$79=$A$2,ROW(Lageromsætning!$A$3:$A$79)-CELL(\"row\",Lageromsætning!$A$3:$A$79)+1),ROWS($2:175))),\"\")","v":""},{"$f":"IFERROR(INDEX(Lageromsætning!$E$3:$E$79,SMALL(IF(Lageromsætning!$A$3:$A$79=$A$2,ROW(Lageromsætning!$A$3:$A$79)-CELL(\"row\",Lageromsætning!$A$3:$A$79)+1),ROWS($2:175))),\"\")","v":""},{"$f":"IFERROR(INDEX(Lageromsætning!$AF$3:$AF$79,SMALL(IF(Lageromsætning!$A$3:$A$79=$A$2,ROW(Lageromsætning!$A$3:$A$79)-CELL(\"row\",Lageromsætning!$A$3:$A$79)+1),ROWS($2:175))),\"\")","v":""},{"$f":"SUMIFS('Lager antal'!$D$3:$D$2508,'Lager antal'!$B$3:$B$2508,B177,'Lager antal'!$C$3:$C$2508,C177)","v":0},{"$f":"SUMIFS('Lager antal'!$F$3:$F$2508,'Lager antal'!$B$3:$B$2508,B177,'Lager antal'!$C$3:$C$2508,C177)","v":0},{"$f":"IF(ISNA(VLOOKUP($C177,'Lager antal'!$C$3:$K$508,9,FALSE))=TRUE,\"\",VLOOKUP($C177,'Lager antal'!$C$3:$K$508,9,FALSE))","v":""},{"$f":"IFERROR(INDEX(Lageromsætning!$P$3:$P$79,SMALL(IF(Lageromsætning!$A$3:$A$79=$A$2,ROW(Lageromsætning!$A$3:$A$79)-CELL(\"row\",Lageromsætning!$A$3:$A$79)+1),ROWS($2:175))),\"\")","v":""},{"$f":"+_xlfn.IFS($M177>=0.01,$M177,TRUE,0)-$F177-K177+G177","v":0},{"$f":"SUMIFS('Lager antal'!$G$3:$G$2508,'Lager antal'!$B$3:$B$2508,B177,'Lager antal'!$C$3:$C$2508,C177)","v":0},null,0,{"$f":"SUMIFS(Lageromsætning!$R$3:$R$79,Lageromsætning!$A$3:$A$79,$A$2,Lageromsætning!$C$3:$C$79,B177,Lageromsætning!$D$3:$D$79,C177)","v":0},{"$f":"SUMIFS(Lageromsætning!$S$3:$S$79,Lageromsætning!$C$3:$C$79,B177,Lageromsætning!$D$3:$D$79,C177)","v":0}]
[{"$f":"IFERROR(INDEX(Lageromsætning!$A$3:$A$79,SMALL(IF(Lageromsætning!$A$3:$A$79=$A$2,ROW(Lageromsætning!$A$3:$A$79)-CELL(\"row\",Lageromsætning!$A$3:$A$79)+1),ROWS($1:175))),\"\")","v":""},{"$f":"IFERROR(INDEX(Lageromsætning!$C$3:$C$79,SMALL(IF(Lageromsætning!$A$3:$A$79=$A$2,ROW(Lageromsætning!$A$3:$A$79)-CELL(\"row\",Lageromsætning!$A$3:$A$79)+1),ROWS($2:176))),\"\")","v":""},{"$f":"IFERROR(INDEX(Lageromsætning!$D$3:$D$79,SMALL(IF(Lageromsætning!$A$3:$A$79=$A$2,ROW(Lageromsætning!$A$3:$A$79)-CELL(\"row\",Lageromsætning!$A$3:$A$79)+1),ROWS($2:176))),\"\")","v":""},{"$f":"IFERROR(INDEX(Lageromsætning!$E$3:$E$79,SMALL(IF(Lageromsætning!$A$3:$A$79=$A$2,ROW(Lageromsætning!$A$3:$A$79)-CELL(\"row\",Lageromsætning!$A$3:$A$79)+1),ROWS($2:176))),\"\")","v":""},{"$f":"IFERROR(INDEX(Lageromsætning!$AF$3:$AF$79,SMALL(IF(Lageromsætning!$A$3:$A$79=$A$2,ROW(Lageromsætning!$A$3:$A$79)-CELL(\"row\",Lageromsætning!$A$3:$A$79)+1),ROWS($2:176))),\"\")","v":""},{"$f":"SUMIFS('Lager antal'!$D$3:$D$2508,'Lager antal'!$B$3:$B$2508,B178,'Lager antal'!$C$3:$C$2508,C178)","v":0},{"$f":"SUMIFS('Lager antal'!$F$3:$F$2508,'Lager antal'!$B$3:$B$2508,B178,'Lager antal'!$C$3:$C$2508,C178)","v":0},{"$f":"IF(ISNA(VLOOKUP($C178,'Lager antal'!$C$3:$K$508,9,FALSE))=TRUE,\"\",VLOOKUP($C178,'Lager antal'!$C$3:$K$508,9,FALSE))","v":""},{"$f":"IFERROR(INDEX(Lageromsætning!$P$3:$P$79,SMALL(IF(Lageromsætning!$A$3:$A$79=$A$2,ROW(Lageromsætning!$A$3:$A$79)-CELL(\"row\",Lageromsætning!$A$3:$A$79)+1),ROWS($2:176))),\"\")","v":""},{"$f":"+_xlfn.IFS($M178>=0.01,$M178,TRUE,0)-$F178-K178+G178","v":0},{"$f":"SUMIFS('Lager antal'!$G$3:$G$2508,'Lager antal'!$B$3:$B$2508,B178,'Lager antal'!$C$3:$C$2508,C178)","v":0},null,0,{"$f":"SUMIFS(Lageromsætning!$R$3:$R$79,Lageromsætning!$A$3:$A$79,$A$2,Lageromsætning!$C$3:$C$79,B178,Lageromsætning!$D$3:$D$79,C178)","v":0},{"$f":"SUMIFS(Lageromsætning!$S$3:$S$79,Lageromsætning!$C$3:$C$79,B178,Lageromsætning!$D$3:$D$79,C178)","v":0}]
[{"$f":"IFERROR(INDEX(Lageromsætning!$A$3:$A$79,SMALL(IF(Lageromsætning!$A$3:$A$79=$A$2,ROW(Lageromsætning!$A$3:$A$79)-CELL(\"row\",Lageromsætning!$A$3:$A$79)+1),ROWS($1:176))),\"\")","v":""},{"$f":"IFERROR(INDEX(Lageromsætning!$C$3:$C$79,SMALL(IF(Lageromsætning!$A$3:$A$79=$A$2,ROW(Lageromsætning!$A$3:$A$79)-CELL(\"row\",Lageromsætning!$A$3:$A$79)+1),ROWS($2:177))),\"\")","v":""},{"$f":"IFERROR(INDEX(Lageromsætning!$D$3:$D$79,SMALL(IF(Lageromsætning!$A$3:$A$79=$A$2,ROW(Lageromsætning!$A$3:$A$79)-CELL(\"row\",Lageromsætning!$A$3:$A$79)+1),ROWS($2:177))),\"\")","v":""},{"$f":"IFERROR(INDEX(Lageromsætning!$E$3:$E$79,SMALL(IF(Lageromsætning!$A$3:$A$79=$A$2,ROW(Lageromsætning!$A$3:$A$79)-CELL(\"row\",Lageromsætning!$A$3:$A$79)+1),ROWS($2:177))),\"\")","v":""},{"$f":"IFERROR(INDEX(Lageromsætning!$AF$3:$AF$79,SMALL(IF(Lageromsætning!$A$3:$A$79=$A$2,ROW(Lageromsætning!$A$3:$A$79)-CELL(\"row\",Lageromsætning!$A$3:$A$79)+1),ROWS($2:177))),\"\")","v":""},{"$f":"SUMIFS('Lager antal'!$D$3:$D$2508,'Lager antal'!$B$3:$B$2508,B179,'Lager antal'!$C$3:$C$2508,C179)","v":0},{"$f":"SUMIFS('Lager antal'!$F$3:$F$2508,'Lager antal'!$B$3:$B$2508,B179,'Lager antal'!$C$3:$C$2508,C179)","v":0},{"$f":"IF(ISNA(VLOOKUP($C179,'Lager antal'!$C$3:$K$508,9,FALSE))=TRUE,\"\",VLOOKUP($C179,'Lager antal'!$C$3:$K$508,9,FALSE))","v":""},{"$f":"IFERROR(INDEX(Lageromsætning!$P$3:$P$79,SMALL(IF(Lageromsætning!$A$3:$A$79=$A$2,ROW(Lageromsætning!$A$3:$A$79)-CELL(\"row\",Lageromsætning!$A$3:$A$79)+1),ROWS($2:177))),\"\")","v":""},{"$f":"+_xlfn.IFS($M179>=0.01,$M179,TRUE,0)-$F179-K179+G179","v":0},{"$f":"SUMIFS('Lager antal'!$G$3:$G$2508,'Lager antal'!$B$3:$B$2508,B179,'Lager antal'!$C$3:$C$2508,C179)","v":0},null,0,{"$f":"SUMIFS(Lageromsætning!$R$3:$R$79,Lageromsætning!$A$3:$A$79,$A$2,Lageromsætning!$C$3:$C$79,B179,Lageromsætning!$D$3:$D$79,C179)","v":0},{"$f":"SUMIFS(Lageromsætning!$S$3:$S$79,Lageromsætning!$C$3:$C$79,B179,Lageromsætning!$D$3:$D$79,C179)","v":0}]
[{"$f":"IFERROR(INDEX(Lageromsætning!$A$3:$A$79,SMALL(IF(Lageromsætning!$A$3:$A$79=$A$2,ROW(Lageromsætning!$A$3:$A$79)-CELL(\"row\",Lageromsætning!$A$3:$A$79)+1),ROWS($1:177))),\"\")","v":""},{"$f":"IFERROR(INDEX(Lageromsætning!$C$3:$C$79,SMALL(IF(Lageromsætning!$A$3:$A$79=$A$2,ROW(Lageromsætning!$A$3:$A$79)-CELL(\"row\",Lageromsætning!$A$3:$A$79)+1),ROWS($2:178))),\"\")","v":""},{"$f":"IFERROR(INDEX(Lageromsætning!$D$3:$D$79,SMALL(IF(Lageromsætning!$A$3:$A$79=$A$2,ROW(Lageromsætning!$A$3:$A$79)-CELL(\"row\",Lageromsætning!$A$3:$A$79)+1),ROWS($2:178))),\"\")","v":""},{"$f":"IFERROR(INDEX(Lageromsætning!$E$3:$E$79,SMALL(IF(Lageromsætning!$A$3:$A$79=$A$2,ROW(Lageromsætning!$A$3:$A$79)-CELL(\"row\",Lageromsætning!$A$3:$A$79)+1),ROWS($2:178))),\"\")","v":""},{"$f":"IFERROR(INDEX(Lageromsætning!$AF$3:$AF$79,SMALL(IF(Lageromsætning!$A$3:$A$79=$A$2,ROW(Lageromsætning!$A$3:$A$79)-CELL(\"row\",Lageromsætning!$A$3:$A$79)+1),ROWS($2:178))),\"\")","v":""},{"$f":"SUMIFS('Lager antal'!$D$3:$D$2508,'Lager antal'!$B$3:$B$2508,B180,'Lager antal'!$C$3:$C$2508,C180)","v":0},{"$f":"SUMIFS('Lager antal'!$F$3:$F$2508,'Lager antal'!$B$3:$B$2508,B180,'Lager antal'!$C$3:$C$2508,C180)","v":0},{"$f":"IF(ISNA(VLOOKUP($C180,'Lager antal'!$C$3:$K$508,9,FALSE))=TRUE,\"\",VLOOKUP($C180,'Lager antal'!$C$3:$K$508,9,FALSE))","v":""},{"$f":"IFERROR(INDEX(Lageromsætning!$P$3:$P$79,SMALL(IF(Lageromsætning!$A$3:$A$79=$A$2,ROW(Lageromsætning!$A$3:$A$79)-CELL(\"row\",Lageromsætning!$A$3:$A$79)+1),ROWS($2:178))),\"\")","v":""},{"$f":"+_xlfn.IFS($M180>=0.01,$M180,TRUE,0)-$F180-K180+G180","v":0},{"$f":"SUMIFS('Lager antal'!$G$3:$G$2508,'Lager antal'!$B$3:$B$2508,B180,'Lager antal'!$C$3:$C$2508,C180)","v":0},null,0,{"$f":"SUMIFS(Lageromsætning!$R$3:$R$79,Lageromsætning!$A$3:$A$79,$A$2,Lageromsætning!$C$3:$C$79,B180,Lageromsætning!$D$3:$D$79,C180)","v":0},{"$f":"SUMIFS(Lageromsætning!$S$3:$S$79,Lageromsætning!$C$3:$C$79,B180,Lageromsætning!$D$3:$D$79,C180)","v":0}]
[{"$f":"IFERROR(INDEX(Lageromsætning!$A$3:$A$79,SMALL(IF(Lageromsætning!$A$3:$A$79=$A$2,ROW(Lageromsætning!$A$3:$A$79)-CELL(\"row\",Lageromsætning!$A$3:$A$79)+1),ROWS($1:178))),\"\")","v":""},{"$f":"IFERROR(INDEX(Lageromsætning!$C$3:$C$79,SMALL(IF(Lageromsætning!$A$3:$A$79=$A$2,ROW(Lageromsætning!$A$3:$A$79)-CELL(\"row\",Lageromsætning!$A$3:$A$79)+1),ROWS($2:179))),\"\")","v":""},{"$f":"IFERROR(INDEX(Lageromsætning!$D$3:$D$79,SMALL(IF(Lageromsætning!$A$3:$A$79=$A$2,ROW(Lageromsætning!$A$3:$A$79)-CELL(\"row\",Lageromsætning!$A$3:$A$79)+1),ROWS($2:179))),\"\")","v":""},{"$f":"IFERROR(INDEX(Lageromsætning!$E$3:$E$79,SMALL(IF(Lageromsætning!$A$3:$A$79=$A$2,ROW(Lageromsætning!$A$3:$A$79)-CELL(\"row\",Lageromsætning!$A$3:$A$79)+1),ROWS($2:179))),\"\")","v":""},{"$f":"IFERROR(INDEX(Lageromsætning!$AF$3:$AF$79,SMALL(IF(Lageromsætning!$A$3:$A$79=$A$2,ROW(Lageromsætning!$A$3:$A$79)-CELL(\"row\",Lageromsætning!$A$3:$A$79)+1),ROWS($2:179))),\"\")","v":""},{"$f":"SUMIFS('Lager antal'!$D$3:$D$2508,'Lager antal'!$B$3:$B$2508,B181,'Lager antal'!$C$3:$C$2508,C181)","v":0},{"$f":"SUMIFS('Lager antal'!$F$3:$F$2508,'Lager antal'!$B$3:$B$2508,B181,'Lager antal'!$C$3:$C$2508,C181)","v":0},{"$f":"IF(ISNA(VLOOKUP($C181,'Lager antal'!$C$3:$K$508,9,FALSE))=TRUE,\"\",VLOOKUP($C181,'Lager antal'!$C$3:$K$508,9,FALSE))","v":""},{"$f":"IFERROR(INDEX(Lageromsætning!$P$3:$P$79,SMALL(IF(Lageromsætning!$A$3:$A$79=$A$2,ROW(Lageromsætning!$A$3:$A$79)-CELL(\"row\",Lageromsætning!$A$3:$A$79)+1),ROWS($2:179))),\"\")","v":""},{"$f":"+_xlfn.IFS($M181>=0.01,$M181,TRUE,0)-$F181-K181+G181","v":0},{"$f":"SUMIFS('Lager antal'!$G$3:$G$2508,'Lager antal'!$B$3:$B$2508,B181,'Lager antal'!$C$3:$C$2508,C181)","v":0},null,0,{"$f":"SUMIFS(Lageromsætning!$R$3:$R$79,Lageromsætning!$A$3:$A$79,$A$2,Lageromsætning!$C$3:$C$79,B181,Lageromsætning!$D$3:$D$79,C181)","v":0},{"$f":"SUMIFS(Lageromsætning!$S$3:$S$79,Lageromsætning!$C$3:$C$79,B181,Lageromsætning!$D$3:$D$79,C181)","v":0}]
[{"$f":"IFERROR(INDEX(Lageromsætning!$A$3:$A$79,SMALL(IF(Lageromsætning!$A$3:$A$79=$A$2,ROW(Lageromsætning!$A$3:$A$79)-CELL(\"row\",Lageromsætning!$A$3:$A$79)+1),ROWS($1:179))),\"\")","v":""},{"$f":"IFERROR(INDEX(Lageromsætning!$C$3:$C$79,SMALL(IF(Lageromsætning!$A$3:$A$79=$A$2,ROW(Lageromsætning!$A$3:$A$79)-CELL(\"row\",Lageromsætning!$A$3:$A$79)+1),ROWS($2:180))),\"\")","v":""},{"$f":"IFERROR(INDEX(Lageromsætning!$D$3:$D$79,SMALL(IF(Lageromsætning!$A$3:$A$79=$A$2,ROW(Lageromsætning!$A$3:$A$79)-CELL(\"row\",Lageromsætning!$A$3:$A$79)+1),ROWS($2:180))),\"\")","v":""},{"$f":"IFERROR(INDEX(Lageromsætning!$E$3:$E$79,SMALL(IF(Lageromsætning!$A$3:$A$79=$A$2,ROW(Lageromsætning!$A$3:$A$79)-CELL(\"row\",Lageromsætning!$A$3:$A$79)+1),ROWS($2:180))),\"\")","v":""},{"$f":"IFERROR(INDEX(Lageromsætning!$AF$3:$AF$79,SMALL(IF(Lageromsætning!$A$3:$A$79=$A$2,ROW(Lageromsætning!$A$3:$A$79)-CELL(\"row\",Lageromsætning!$A$3:$A$79)+1),ROWS($2:180))),\"\")","v":""},{"$f":"SUMIFS('Lager antal'!$D$3:$D$2508,'Lager antal'!$B$3:$B$2508,B182,'Lager antal'!$C$3:$C$2508,C182)","v":0},{"$f":"SUMIFS('Lager antal'!$F$3:$F$2508,'Lager antal'!$B$3:$B$2508,B182,'Lager antal'!$C$3:$C$2508,C182)","v":0},{"$f":"IF(ISNA(VLOOKUP($C182,'Lager antal'!$C$3:$K$508,9,FALSE))=TRUE,\"\",VLOOKUP($C182,'Lager antal'!$C$3:$K$508,9,FALSE))","v":""},{"$f":"IFERROR(INDEX(Lageromsætning!$P$3:$P$79,SMALL(IF(Lageromsætning!$A$3:$A$79=$A$2,ROW(Lageromsætning!$A$3:$A$79)-CELL(\"row\",Lageromsætning!$A$3:$A$79)+1),ROWS($2:180))),\"\")","v":""},{"$f":"+_xlfn.IFS($M182>=0.01,$M182,TRUE,0)-$F182-K182+G182","v":0},{"$f":"SUMIFS('Lager antal'!$G$3:$G$2508,'Lager antal'!$B$3:$B$2508,B182,'Lager antal'!$C$3:$C$2508,C182)","v":0},null,0,{"$f":"SUMIFS(Lageromsætning!$R$3:$R$79,Lageromsætning!$A$3:$A$79,$A$2,Lageromsætning!$C$3:$C$79,B182,Lageromsætning!$D$3:$D$79,C182)","v":0},{"$f":"SUMIFS(Lageromsætning!$S$3:$S$79,Lageromsætning!$C$3:$C$79,B182,Lageromsætning!$D$3:$D$79,C182)","v":0}]
[{"$f":"IFERROR(INDEX(Lageromsætning!$A$3:$A$79,SMALL(IF(Lageromsætning!$A$3:$A$79=$A$2,ROW(Lageromsætning!$A$3:$A$79)-CELL(\"row\",Lageromsætning!$A$3:$A$79)+1),ROWS($1:180))),\"\")","v":""},{"$f":"IFERROR(INDEX(Lageromsætning!$C$3:$C$79,SMALL(IF(Lageromsætning!$A$3:$A$79=$A$2,ROW(Lageromsætning!$A$3:$A$79)-CELL(\"row\",Lageromsætning!$A$3:$A$79)+1),ROWS($2:181))),\"\")","v":""},{"$f":"IFERROR(INDEX(Lageromsætning!$D$3:$D$79,SMALL(IF(Lageromsætning!$A$3:$A$79=$A$2,ROW(Lageromsætning!$A$3:$A$79)-CELL(\"row\",Lageromsætning!$A$3:$A$79)+1),ROWS($2:181))),\"\")","v":""},{"$f":"IFERROR(INDEX(Lageromsætning!$E$3:$E$79,SMALL(IF(Lageromsætning!$A$3:$A$79=$A$2,ROW(Lageromsætning!$A$3:$A$79)-CELL(\"row\",Lageromsætning!$A$3:$A$79)+1),ROWS($2:181))),\"\")","v":""},{"$f":"IFERROR(INDEX(Lageromsætning!$AF$3:$AF$79,SMALL(IF(Lageromsætning!$A$3:$A$79=$A$2,ROW(Lageromsætning!$A$3:$A$79)-CELL(\"row\",Lageromsætning!$A$3:$A$79)+1),ROWS($2:181))),\"\")","v":""},{"$f":"SUMIFS('Lager antal'!$D$3:$D$2508,'Lager antal'!$B$3:$B$2508,B183,'Lager antal'!$C$3:$C$2508,C183)","v":0},{"$f":"SUMIFS('Lager antal'!$F$3:$F$2508,'Lager antal'!$B$3:$B$2508,B183,'Lager antal'!$C$3:$C$2508,C183)","v":0},{"$f":"IF(ISNA(VLOOKUP($C183,'Lager antal'!$C$3:$K$508,9,FALSE))=TRUE,\"\",VLOOKUP($C183,'Lager antal'!$C$3:$K$508,9,FALSE))","v":""},{"$f":"IFERROR(INDEX(Lageromsætning!$P$3:$P$79,SMALL(IF(Lageromsætning!$A$3:$A$79=$A$2,ROW(Lageromsætning!$A$3:$A$79)-CELL(\"row\",Lageromsætning!$A$3:$A$79)+1),ROWS($2:181))),\"\")","v":""},{"$f":"+_xlfn.IFS($M183>=0.01,$M183,TRUE,0)-$F183-K183+G183","v":0},{"$f":"SUMIFS('Lager antal'!$G$3:$G$2508,'Lager antal'!$B$3:$B$2508,B183,'Lager antal'!$C$3:$C$2508,C183)","v":0},null,0,{"$f":"SUMIFS(Lageromsætning!$R$3:$R$79,Lageromsætning!$A$3:$A$79,$A$2,Lageromsætning!$C$3:$C$79,B183,Lageromsætning!$D$3:$D$79,C183)","v":0},{"$f":"SUMIFS(Lageromsætning!$S$3:$S$79,Lageromsætning!$C$3:$C$79,B183,Lageromsætning!$D$3:$D$79,C183)","v":0}]
[{"$f":"IFERROR(INDEX(Lageromsætning!$A$3:$A$79,SMALL(IF(Lageromsætning!$A$3:$A$79=$A$2,ROW(Lageromsætning!$A$3:$A$79)-CELL(\"row\",Lageromsætning!$A$3:$A$79)+1),ROWS($1:181))),\"\")","v":""},{"$f":"IFERROR(INDEX(Lageromsætning!$C$3:$C$79,SMALL(IF(Lageromsætning!$A$3:$A$79=$A$2,ROW(Lageromsætning!$A$3:$A$79)-CELL(\"row\",Lageromsætning!$A$3:$A$79)+1),ROWS($2:182))),\"\")","v":""},{"$f":"IFERROR(INDEX(Lageromsætning!$D$3:$D$79,SMALL(IF(Lageromsætning!$A$3:$A$79=$A$2,ROW(Lageromsætning!$A$3:$A$79)-CELL(\"row\",Lageromsætning!$A$3:$A$79)+1),ROWS($2:182))),\"\")","v":""},{"$f":"IFERROR(INDEX(Lageromsætning!$E$3:$E$79,SMALL(IF(Lageromsætning!$A$3:$A$79=$A$2,ROW(Lageromsætning!$A$3:$A$79)-CELL(\"row\",Lageromsætning!$A$3:$A$79)+1),ROWS($2:182))),\"\")","v":""},{"$f":"IFERROR(INDEX(Lageromsætning!$AF$3:$AF$79,SMALL(IF(Lageromsætning!$A$3:$A$79=$A$2,ROW(Lageromsætning!$A$3:$A$79)-CELL(\"row\",Lageromsætning!$A$3:$A$79)+1),ROWS($2:182))),\"\")","v":""},{"$f":"SUMIFS('Lager antal'!$D$3:$D$2508,'Lager antal'!$B$3:$B$2508,B184,'Lager antal'!$C$3:$C$2508,C184)","v":0},{"$f":"SUMIFS('Lager antal'!$F$3:$F$2508,'Lager antal'!$B$3:$B$2508,B184,'Lager antal'!$C$3:$C$2508,C184)","v":0},{"$f":"IF(ISNA(VLOOKUP($C184,'Lager antal'!$C$3:$K$508,9,FALSE))=TRUE,\"\",VLOOKUP($C184,'Lager antal'!$C$3:$K$508,9,FALSE))","v":""},{"$f":"IFERROR(INDEX(Lageromsætning!$P$3:$P$79,SMALL(IF(Lageromsætning!$A$3:$A$79=$A$2,ROW(Lageromsætning!$A$3:$A$79)-CELL(\"row\",Lageromsætning!$A$3:$A$79)+1),ROWS($2:182))),\"\")","v":""},{"$f":"+_xlfn.IFS($M184>=0.01,$M184,TRUE,0)-$F184-K184+G184","v":0},{"$f":"SUMIFS('Lager antal'!$G$3:$G$2508,'Lager antal'!$B$3:$B$2508,B184,'Lager antal'!$C$3:$C$2508,C184)","v":0},null,0,{"$f":"SUMIFS(Lageromsætning!$R$3:$R$79,Lageromsætning!$A$3:$A$79,$A$2,Lageromsætning!$C$3:$C$79,B184,Lageromsætning!$D$3:$D$79,C184)","v":0},{"$f":"SUMIFS(Lageromsætning!$S$3:$S$79,Lageromsætning!$C$3:$C$79,B184,Lageromsætning!$D$3:$D$79,C184)","v":0}]
[{"$f":"IFERROR(INDEX(Lageromsætning!$A$3:$A$79,SMALL(IF(Lageromsætning!$A$3:$A$79=$A$2,ROW(Lageromsætning!$A$3:$A$79)-CELL(\"row\",Lageromsætning!$A$3:$A$79)+1),ROWS($1:182))),\"\")","v":""},{"$f":"IFERROR(INDEX(Lageromsætning!$C$3:$C$79,SMALL(IF(Lageromsætning!$A$3:$A$79=$A$2,ROW(Lageromsætning!$A$3:$A$79)-CELL(\"row\",Lageromsætning!$A$3:$A$79)+1),ROWS($2:183))),\"\")","v":""},{"$f":"IFERROR(INDEX(Lageromsætning!$D$3:$D$79,SMALL(IF(Lageromsætning!$A$3:$A$79=$A$2,ROW(Lageromsætning!$A$3:$A$79)-CELL(\"row\",Lageromsætning!$A$3:$A$79)+1),ROWS($2:183))),\"\")","v":""},{"$f":"IFERROR(INDEX(Lageromsætning!$E$3:$E$79,SMALL(IF(Lageromsætning!$A$3:$A$79=$A$2,ROW(Lageromsætning!$A$3:$A$79)-CELL(\"row\",Lageromsætning!$A$3:$A$79)+1),ROWS($2:183))),\"\")","v":""},{"$f":"IFERROR(INDEX(Lageromsætning!$AF$3:$AF$79,SMALL(IF(Lageromsætning!$A$3:$A$79=$A$2,ROW(Lageromsætning!$A$3:$A$79)-CELL(\"row\",Lageromsætning!$A$3:$A$79)+1),ROWS($2:183))),\"\")","v":""},{"$f":"SUMIFS('Lager antal'!$D$3:$D$2508,'Lager antal'!$B$3:$B$2508,B185,'Lager antal'!$C$3:$C$2508,C185)","v":0},{"$f":"SUMIFS('Lager antal'!$F$3:$F$2508,'Lager antal'!$B$3:$B$2508,B185,'Lager antal'!$C$3:$C$2508,C185)","v":0},{"$f":"IF(ISNA(VLOOKUP($C185,'Lager antal'!$C$3:$K$508,9,FALSE))=TRUE,\"\",VLOOKUP($C185,'Lager antal'!$C$3:$K$508,9,FALSE))","v":""},{"$f":"IFERROR(INDEX(Lageromsætning!$P$3:$P$79,SMALL(IF(Lageromsætning!$A$3:$A$79=$A$2,ROW(Lageromsætning!$A$3:$A$79)-CELL(\"row\",Lageromsætning!$A$3:$A$79)+1),ROWS($2:183))),\"\")","v":""},{"$f":"+_xlfn.IFS($M185>=0.01,$M185,TRUE,0)-$F185-K185+G185","v":0},{"$f":"SUMIFS('Lager antal'!$G$3:$G$2508,'Lager antal'!$B$3:$B$2508,B185,'Lager antal'!$C$3:$C$2508,C185)","v":0},null,0,{"$f":"SUMIFS(Lageromsætning!$R$3:$R$79,Lageromsætning!$A$3:$A$79,$A$2,Lageromsætning!$C$3:$C$79,B185,Lageromsætning!$D$3:$D$79,C185)","v":0},{"$f":"SUMIFS(Lageromsætning!$S$3:$S$79,Lageromsætning!$C$3:$C$79,B185,Lageromsætning!$D$3:$D$79,C185)","v":0}]
[{"$f":"IFERROR(INDEX(Lageromsætning!$A$3:$A$79,SMALL(IF(Lageromsætning!$A$3:$A$79=$A$2,ROW(Lageromsætning!$A$3:$A$79)-CELL(\"row\",Lageromsætning!$A$3:$A$79)+1),ROWS($1:183))),\"\")","v":""},{"$f":"IFERROR(INDEX(Lageromsætning!$C$3:$C$79,SMALL(IF(Lageromsætning!$A$3:$A$79=$A$2,ROW(Lageromsætning!$A$3:$A$79)-CELL(\"row\",Lageromsætning!$A$3:$A$79)+1),ROWS($2:184))),\"\")","v":""},{"$f":"IFERROR(INDEX(Lageromsætning!$D$3:$D$79,SMALL(IF(Lageromsætning!$A$3:$A$79=$A$2,ROW(Lageromsætning!$A$3:$A$79)-CELL(\"row\",Lageromsætning!$A$3:$A$79)+1),ROWS($2:184))),\"\")","v":""},{"$f":"IFERROR(INDEX(Lageromsætning!$E$3:$E$79,SMALL(IF(Lageromsætning!$A$3:$A$79=$A$2,ROW(Lageromsætning!$A$3:$A$79)-CELL(\"row\",Lageromsætning!$A$3:$A$79)+1),ROWS($2:184))),\"\")","v":""},{"$f":"IFERROR(INDEX(Lageromsætning!$AF$3:$AF$79,SMALL(IF(Lageromsætning!$A$3:$A$79=$A$2,ROW(Lageromsætning!$A$3:$A$79)-CELL(\"row\",Lageromsætning!$A$3:$A$79)+1),ROWS($2:184))),\"\")","v":""},{"$f":"SUMIFS('Lager antal'!$D$3:$D$2508,'Lager antal'!$B$3:$B$2508,B186,'Lager antal'!$C$3:$C$2508,C186)","v":0},{"$f":"SUMIFS('Lager antal'!$F$3:$F$2508,'Lager antal'!$B$3:$B$2508,B186,'Lager antal'!$C$3:$C$2508,C186)","v":0},{"$f":"IF(ISNA(VLOOKUP($C186,'Lager antal'!$C$3:$K$508,9,FALSE))=TRUE,\"\",VLOOKUP($C186,'Lager antal'!$C$3:$K$508,9,FALSE))","v":""},{"$f":"IFERROR(INDEX(Lageromsætning!$P$3:$P$79,SMALL(IF(Lageromsætning!$A$3:$A$79=$A$2,ROW(Lageromsætning!$A$3:$A$79)-CELL(\"row\",Lageromsætning!$A$3:$A$79)+1),ROWS($2:184))),\"\")","v":""},{"$f":"+_xlfn.IFS($M186>=0.01,$M186,TRUE,0)-$F186-K186+G186","v":0},{"$f":"SUMIFS('Lager antal'!$G$3:$G$2508,'Lager antal'!$B$3:$B$2508,B186,'Lager antal'!$C$3:$C$2508,C186)","v":0},null,0,{"$f":"SUMIFS(Lageromsætning!$R$3:$R$79,Lageromsætning!$A$3:$A$79,$A$2,Lageromsætning!$C$3:$C$79,B186,Lageromsætning!$D$3:$D$79,C186)","v":0},{"$f":"SUMIFS(Lageromsætning!$S$3:$S$79,Lageromsætning!$C$3:$C$79,B186,Lageromsætning!$D$3:$D$79,C186)","v":0}]
[{"$f":"IFERROR(INDEX(Lageromsætning!$A$3:$A$79,SMALL(IF(Lageromsætning!$A$3:$A$79=$A$2,ROW(Lageromsætning!$A$3:$A$79)-CELL(\"row\",Lageromsætning!$A$3:$A$79)+1),ROWS($1:184))),\"\")","v":""},{"$f":"IFERROR(INDEX(Lageromsætning!$C$3:$C$79,SMALL(IF(Lageromsætning!$A$3:$A$79=$A$2,ROW(Lageromsætning!$A$3:$A$79)-CELL(\"row\",Lageromsætning!$A$3:$A$79)+1),ROWS($2:185))),\"\")","v":""},{"$f":"IFERROR(INDEX(Lageromsætning!$D$3:$D$79,SMALL(IF(Lageromsætning!$A$3:$A$79=$A$2,ROW(Lageromsætning!$A$3:$A$79)-CELL(\"row\",Lageromsætning!$A$3:$A$79)+1),ROWS($2:185))),\"\")","v":""},{"$f":"IFERROR(INDEX(Lageromsætning!$E$3:$E$79,SMALL(IF(Lageromsætning!$A$3:$A$79=$A$2,ROW(Lageromsætning!$A$3:$A$79)-CELL(\"row\",Lageromsætning!$A$3:$A$79)+1),ROWS($2:185))),\"\")","v":""},{"$f":"IFERROR(INDEX(Lageromsætning!$AF$3:$AF$79,SMALL(IF(Lageromsætning!$A$3:$A$79=$A$2,ROW(Lageromsætning!$A$3:$A$79)-CELL(\"row\",Lageromsætning!$A$3:$A$79)+1),ROWS($2:185))),\"\")","v":""},{"$f":"SUMIFS('Lager antal'!$D$3:$D$2508,'Lager antal'!$B$3:$B$2508,B187,'Lager antal'!$C$3:$C$2508,C187)","v":0},{"$f":"SUMIFS('Lager antal'!$F$3:$F$2508,'Lager antal'!$B$3:$B$2508,B187,'Lager antal'!$C$3:$C$2508,C187)","v":0},{"$f":"IF(ISNA(VLOOKUP($C187,'Lager antal'!$C$3:$K$508,9,FALSE))=TRUE,\"\",VLOOKUP($C187,'Lager antal'!$C$3:$K$508,9,FALSE))","v":""},{"$f":"IFERROR(INDEX(Lageromsætning!$P$3:$P$79,SMALL(IF(Lageromsætning!$A$3:$A$79=$A$2,ROW(Lageromsætning!$A$3:$A$79)-CELL(\"row\",Lageromsætning!$A$3:$A$79)+1),ROWS($2:185))),\"\")","v":""},{"$f":"+_xlfn.IFS($M187>=0.01,$M187,TRUE,0)-$F187-K187+G187","v":0},{"$f":"SUMIFS('Lager antal'!$G$3:$G$2508,'Lager antal'!$B$3:$B$2508,B187,'Lager antal'!$C$3:$C$2508,C187)","v":0},null,0,{"$f":"SUMIFS(Lageromsætning!$R$3:$R$79,Lageromsætning!$A$3:$A$79,$A$2,Lageromsætning!$C$3:$C$79,B187,Lageromsætning!$D$3:$D$79,C187)","v":0},{"$f":"SUMIFS(Lageromsætning!$S$3:$S$79,Lageromsætning!$C$3:$C$79,B187,Lageromsætning!$D$3:$D$79,C187)","v":0}]
[{"$f":"IFERROR(INDEX(Lageromsætning!$A$3:$A$79,SMALL(IF(Lageromsætning!$A$3:$A$79=$A$2,ROW(Lageromsætning!$A$3:$A$79)-CELL(\"row\",Lageromsætning!$A$3:$A$79)+1),ROWS($1:185))),\"\")","v":""},{"$f":"IFERROR(INDEX(Lageromsætning!$C$3:$C$79,SMALL(IF(Lageromsætning!$A$3:$A$79=$A$2,ROW(Lageromsætning!$A$3:$A$79)-CELL(\"row\",Lageromsætning!$A$3:$A$79)+1),ROWS($2:186))),\"\")","v":""},{"$f":"IFERROR(INDEX(Lageromsætning!$D$3:$D$79,SMALL(IF(Lageromsætning!$A$3:$A$79=$A$2,ROW(Lageromsætning!$A$3:$A$79)-CELL(\"row\",Lageromsætning!$A$3:$A$79)+1),ROWS($2:186))),\"\")","v":""},{"$f":"IFERROR(INDEX(Lageromsætning!$E$3:$E$79,SMALL(IF(Lageromsætning!$A$3:$A$79=$A$2,ROW(Lageromsætning!$A$3:$A$79)-CELL(\"row\",Lageromsætning!$A$3:$A$79)+1),ROWS($2:186))),\"\")","v":""},{"$f":"IFERROR(INDEX(Lageromsætning!$AF$3:$AF$79,SMALL(IF(Lageromsætning!$A$3:$A$79=$A$2,ROW(Lageromsætning!$A$3:$A$79)-CELL(\"row\",Lageromsætning!$A$3:$A$79)+1),ROWS($2:186))),\"\")","v":""},{"$f":"SUMIFS('Lager antal'!$D$3:$D$2508,'Lager antal'!$B$3:$B$2508,B188,'Lager antal'!$C$3:$C$2508,C188)","v":0},{"$f":"SUMIFS('Lager antal'!$F$3:$F$2508,'Lager antal'!$B$3:$B$2508,B188,'Lager antal'!$C$3:$C$2508,C188)","v":0},{"$f":"IF(ISNA(VLOOKUP($C188,'Lager antal'!$C$3:$K$508,9,FALSE))=TRUE,\"\",VLOOKUP($C188,'Lager antal'!$C$3:$K$508,9,FALSE))","v":""},{"$f":"IFERROR(INDEX(Lageromsætning!$P$3:$P$79,SMALL(IF(Lageromsætning!$A$3:$A$79=$A$2,ROW(Lageromsætning!$A$3:$A$79)-CELL(\"row\",Lageromsætning!$A$3:$A$79)+1),ROWS($2:186))),\"\")","v":""},{"$f":"+_xlfn.IFS($M188>=0.01,$M188,TRUE,0)-$F188-K188+G188","v":0},{"$f":"SUMIFS('Lager antal'!$G$3:$G$2508,'Lager antal'!$B$3:$B$2508,B188,'Lager antal'!$C$3:$C$2508,C188)","v":0},null,0,{"$f":"SUMIFS(Lageromsætning!$R$3:$R$79,Lageromsætning!$A$3:$A$79,$A$2,Lageromsætning!$C$3:$C$79,B188,Lageromsætning!$D$3:$D$79,C188)","v":0},{"$f":"SUMIFS(Lageromsætning!$S$3:$S$79,Lageromsætning!$C$3:$C$79,B188,Lageromsætning!$D$3:$D$79,C188)","v":0}]
[{"$f":"IFERROR(INDEX(Lageromsætning!$A$3:$A$79,SMALL(IF(Lageromsætning!$A$3:$A$79=$A$2,ROW(Lageromsætning!$A$3:$A$79)-CELL(\"row\",Lageromsætning!$A$3:$A$79)+1),ROWS($1:186))),\"\")","v":""},{"$f":"IFERROR(INDEX(Lageromsætning!$C$3:$C$79,SMALL(IF(Lageromsætning!$A$3:$A$79=$A$2,ROW(Lageromsætning!$A$3:$A$79)-CELL(\"row\",Lageromsætning!$A$3:$A$79)+1),ROWS($2:187))),\"\")","v":""},{"$f":"IFERROR(INDEX(Lageromsætning!$D$3:$D$79,SMALL(IF(Lageromsætning!$A$3:$A$79=$A$2,ROW(Lageromsætning!$A$3:$A$79)-CELL(\"row\",Lageromsætning!$A$3:$A$79)+1),ROWS($2:187))),\"\")","v":""},{"$f":"IFERROR(INDEX(Lageromsætning!$E$3:$E$79,SMALL(IF(Lageromsætning!$A$3:$A$79=$A$2,ROW(Lageromsætning!$A$3:$A$79)-CELL(\"row\",Lageromsætning!$A$3:$A$79)+1),ROWS($2:187))),\"\")","v":""},{"$f":"IFERROR(INDEX(Lageromsætning!$AF$3:$AF$79,SMALL(IF(Lageromsætning!$A$3:$A$79=$A$2,ROW(Lageromsætning!$A$3:$A$79)-CELL(\"row\",Lageromsætning!$A$3:$A$79)+1),ROWS($2:187))),\"\")","v":""},{"$f":"SUMIFS('Lager antal'!$D$3:$D$2508,'Lager antal'!$B$3:$B$2508,B189,'Lager antal'!$C$3:$C$2508,C189)","v":0},{"$f":"SUMIFS('Lager antal'!$F$3:$F$2508,'Lager antal'!$B$3:$B$2508,B189,'Lager antal'!$C$3:$C$2508,C189)","v":0},{"$f":"IF(ISNA(VLOOKUP($C189,'Lager antal'!$C$3:$K$508,9,FALSE))=TRUE,\"\",VLOOKUP($C189,'Lager antal'!$C$3:$K$508,9,FALSE))","v":""},{"$f":"IFERROR(INDEX(Lageromsætning!$P$3:$P$79,SMALL(IF(Lageromsætning!$A$3:$A$79=$A$2,ROW(Lageromsætning!$A$3:$A$79)-CELL(\"row\",Lageromsætning!$A$3:$A$79)+1),ROWS($2:187))),\"\")","v":""},{"$f":"+_xlfn.IFS($M189>=0.01,$M189,TRUE,0)-$F189-K189+G189","v":0},{"$f":"SUMIFS('Lager antal'!$G$3:$G$2508,'Lager antal'!$B$3:$B$2508,B189,'Lager antal'!$C$3:$C$2508,C189)","v":0},null,0,{"$f":"SUMIFS(Lageromsætning!$R$3:$R$79,Lageromsætning!$A$3:$A$79,$A$2,Lageromsætning!$C$3:$C$79,B189,Lageromsætning!$D$3:$D$79,C189)","v":0},{"$f":"SUMIFS(Lageromsætning!$S$3:$S$79,Lageromsætning!$C$3:$C$79,B189,Lageromsætning!$D$3:$D$79,C189)","v":0}]
[{"$f":"IFERROR(INDEX(Lageromsætning!$A$3:$A$79,SMALL(IF(Lageromsætning!$A$3:$A$79=$A$2,ROW(Lageromsætning!$A$3:$A$79)-CELL(\"row\",Lageromsætning!$A$3:$A$79)+1),ROWS($1:187))),\"\")","v":""},{"$f":"IFERROR(INDEX(Lageromsætning!$C$3:$C$79,SMALL(IF(Lageromsætning!$A$3:$A$79=$A$2,ROW(Lageromsætning!$A$3:$A$79)-CELL(\"row\",Lageromsætning!$A$3:$A$79)+1),ROWS($2:188))),\"\")","v":""},{"$f":"IFERROR(INDEX(Lageromsætning!$D$3:$D$79,SMALL(IF(Lageromsætning!$A$3:$A$79=$A$2,ROW(Lageromsætning!$A$3:$A$79)-CELL(\"row\",Lageromsætning!$A$3:$A$79)+1),ROWS($2:188))),\"\")","v":""},{"$f":"IFERROR(INDEX(Lageromsætning!$E$3:$E$79,SMALL(IF(Lageromsætning!$A$3:$A$79=$A$2,ROW(Lageromsætning!$A$3:$A$79)-CELL(\"row\",Lageromsætning!$A$3:$A$79)+1),ROWS($2:188))),\"\")","v":""},{"$f":"IFERROR(INDEX(Lageromsætning!$AF$3:$AF$79,SMALL(IF(Lageromsætning!$A$3:$A$79=$A$2,ROW(Lageromsætning!$A$3:$A$79)-CELL(\"row\",Lageromsætning!$A$3:$A$79)+1),ROWS($2:188))),\"\")","v":""},{"$f":"SUMIFS('Lager antal'!$D$3:$D$2508,'Lager antal'!$B$3:$B$2508,B190,'Lager antal'!$C$3:$C$2508,C190)","v":0},{"$f":"SUMIFS('Lager antal'!$F$3:$F$2508,'Lager antal'!$B$3:$B$2508,B190,'Lager antal'!$C$3:$C$2508,C190)","v":0},{"$f":"IF(ISNA(VLOOKUP($C190,'Lager antal'!$C$3:$K$508,9,FALSE))=TRUE,\"\",VLOOKUP($C190,'Lager antal'!$C$3:$K$508,9,FALSE))","v":""},{"$f":"IFERROR(INDEX(Lageromsætning!$P$3:$P$79,SMALL(IF(Lageromsætning!$A$3:$A$79=$A$2,ROW(Lageromsætning!$A$3:$A$79)-CELL(\"row\",Lageromsætning!$A$3:$A$79)+1),ROWS($2:188))),\"\")","v":""},{"$f":"+_xlfn.IFS($M190>=0.01,$M190,TRUE,0)-$F190-K190+G190","v":0},{"$f":"SUMIFS('Lager antal'!$G$3:$G$2508,'Lager antal'!$B$3:$B$2508,B190,'Lager antal'!$C$3:$C$2508,C190)","v":0},null,0,{"$f":"SUMIFS(Lageromsætning!$R$3:$R$79,Lageromsætning!$A$3:$A$79,$A$2,Lageromsætning!$C$3:$C$79,B190,Lageromsætning!$D$3:$D$79,C190)","v":0},{"$f":"SUMIFS(Lageromsætning!$S$3:$S$79,Lageromsætning!$C$3:$C$79,B190,Lageromsætning!$D$3:$D$79,C190)","v":0}]
[{"$f":"IFERROR(INDEX(Lageromsætning!$A$3:$A$79,SMALL(IF(Lageromsætning!$A$3:$A$79=$A$2,ROW(Lageromsætning!$A$3:$A$79)-CELL(\"row\",Lageromsætning!$A$3:$A$79)+1),ROWS($1:188))),\"\")","v":""},{"$f":"IFERROR(INDEX(Lageromsætning!$C$3:$C$79,SMALL(IF(Lageromsætning!$A$3:$A$79=$A$2,ROW(Lageromsætning!$A$3:$A$79)-CELL(\"row\",Lageromsætning!$A$3:$A$79)+1),ROWS($2:189))),\"\")","v":""},{"$f":"IFERROR(INDEX(Lageromsætning!$D$3:$D$79,SMALL(IF(Lageromsætning!$A$3:$A$79=$A$2,ROW(Lageromsætning!$A$3:$A$79)-CELL(\"row\",Lageromsætning!$A$3:$A$79)+1),ROWS($2:189))),\"\")","v":""},{"$f":"IFERROR(INDEX(Lageromsætning!$E$3:$E$79,SMALL(IF(Lageromsætning!$A$3:$A$79=$A$2,ROW(Lageromsætning!$A$3:$A$79)-CELL(\"row\",Lageromsætning!$A$3:$A$79)+1),ROWS($2:189))),\"\")","v":""},{"$f":"IFERROR(INDEX(Lageromsætning!$AF$3:$AF$79,SMALL(IF(Lageromsætning!$A$3:$A$79=$A$2,ROW(Lageromsætning!$A$3:$A$79)-CELL(\"row\",Lageromsætning!$A$3:$A$79)+1),ROWS($2:189))),\"\")","v":""},{"$f":"SUMIFS('Lager antal'!$D$3:$D$2508,'Lager antal'!$B$3:$B$2508,B191,'Lager antal'!$C$3:$C$2508,C191)","v":0},{"$f":"SUMIFS('Lager antal'!$F$3:$F$2508,'Lager antal'!$B$3:$B$2508,B191,'Lager antal'!$C$3:$C$2508,C191)","v":0},{"$f":"IF(ISNA(VLOOKUP($C191,'Lager antal'!$C$3:$K$508,9,FALSE))=TRUE,\"\",VLOOKUP($C191,'Lager antal'!$C$3:$K$508,9,FALSE))","v":""},{"$f":"IFERROR(INDEX(Lageromsætning!$P$3:$P$79,SMALL(IF(Lageromsætning!$A$3:$A$79=$A$2,ROW(Lageromsætning!$A$3:$A$79)-CELL(\"row\",Lageromsætning!$A$3:$A$79)+1),ROWS($2:189))),\"\")","v":""},{"$f":"+_xlfn.IFS($M191>=0.01,$M191,TRUE,0)-$F191-K191+G191","v":0},{"$f":"SUMIFS('Lager antal'!$G$3:$G$2508,'Lager antal'!$B$3:$B$2508,B191,'Lager antal'!$C$3:$C$2508,C191)","v":0},null,0,{"$f":"SUMIFS(Lageromsætning!$R$3:$R$79,Lageromsætning!$A$3:$A$79,$A$2,Lageromsætning!$C$3:$C$79,B191,Lageromsætning!$D$3:$D$79,C191)","v":0},{"$f":"SUMIFS(Lageromsætning!$S$3:$S$79,Lageromsætning!$C$3:$C$79,B191,Lageromsætning!$D$3:$D$79,C191)","v":0}]
[{"$f":"IFERROR(INDEX(Lageromsætning!$A$3:$A$79,SMALL(IF(Lageromsætning!$A$3:$A$79=$A$2,ROW(Lageromsætning!$A$3:$A$79)-CELL(\"row\",Lageromsætning!$A$3:$A$79)+1),ROWS($1:189))),\"\")","v":""},{"$f":"IFERROR(INDEX(Lageromsætning!$C$3:$C$79,SMALL(IF(Lageromsætning!$A$3:$A$79=$A$2,ROW(Lageromsætning!$A$3:$A$79)-CELL(\"row\",Lageromsætning!$A$3:$A$79)+1),ROWS($2:190))),\"\")","v":""},{"$f":"IFERROR(INDEX(Lageromsætning!$D$3:$D$79,SMALL(IF(Lageromsætning!$A$3:$A$79=$A$2,ROW(Lageromsætning!$A$3:$A$79)-CELL(\"row\",Lageromsætning!$A$3:$A$79)+1),ROWS($2:190))),\"\")","v":""},{"$f":"IFERROR(INDEX(Lageromsætning!$E$3:$E$79,SMALL(IF(Lageromsætning!$A$3:$A$79=$A$2,ROW(Lageromsætning!$A$3:$A$79)-CELL(\"row\",Lageromsætning!$A$3:$A$79)+1),ROWS($2:190))),\"\")","v":""},{"$f":"IFERROR(INDEX(Lageromsætning!$AF$3:$AF$79,SMALL(IF(Lageromsætning!$A$3:$A$79=$A$2,ROW(Lageromsætning!$A$3:$A$79)-CELL(\"row\",Lageromsætning!$A$3:$A$79)+1),ROWS($2:190))),\"\")","v":""},{"$f":"SUMIFS('Lager antal'!$D$3:$D$2508,'Lager antal'!$B$3:$B$2508,B192,'Lager antal'!$C$3:$C$2508,C192)","v":0},{"$f":"SUMIFS('Lager antal'!$F$3:$F$2508,'Lager antal'!$B$3:$B$2508,B192,'Lager antal'!$C$3:$C$2508,C192)","v":0},{"$f":"IF(ISNA(VLOOKUP($C192,'Lager antal'!$C$3:$K$508,9,FALSE))=TRUE,\"\",VLOOKUP($C192,'Lager antal'!$C$3:$K$508,9,FALSE))","v":""},{"$f":"IFERROR(INDEX(Lageromsætning!$P$3:$P$79,SMALL(IF(Lageromsætning!$A$3:$A$79=$A$2,ROW(Lageromsætning!$A$3:$A$79)-CELL(\"row\",Lageromsætning!$A$3:$A$79)+1),ROWS($2:190))),\"\")","v":""},{"$f":"+_xlfn.IFS($M192>=0.01,$M192,TRUE,0)-$F192-K192+G192","v":0},{"$f":"SUMIFS('Lager antal'!$G$3:$G$2508,'Lager antal'!$B$3:$B$2508,B192,'Lager antal'!$C$3:$C$2508,C192)","v":0},null,0,{"$f":"SUMIFS(Lageromsætning!$R$3:$R$79,Lageromsætning!$A$3:$A$79,$A$2,Lageromsætning!$C$3:$C$79,B192,Lageromsætning!$D$3:$D$79,C192)","v":0},{"$f":"SUMIFS(Lageromsætning!$S$3:$S$79,Lageromsætning!$C$3:$C$79,B192,Lageromsætning!$D$3:$D$79,C192)","v":0}]
[{"$f":"IFERROR(INDEX(Lageromsætning!$A$3:$A$79,SMALL(IF(Lageromsætning!$A$3:$A$79=$A$2,ROW(Lageromsætning!$A$3:$A$79)-CELL(\"row\",Lageromsætning!$A$3:$A$79)+1),ROWS($1:190))),\"\")","v":""},{"$f":"IFERROR(INDEX(Lageromsætning!$C$3:$C$79,SMALL(IF(Lageromsætning!$A$3:$A$79=$A$2,ROW(Lageromsætning!$A$3:$A$79)-CELL(\"row\",Lageromsætning!$A$3:$A$79)+1),ROWS($2:191))),\"\")","v":""},{"$f":"IFERROR(INDEX(Lageromsætning!$D$3:$D$79,SMALL(IF(Lageromsætning!$A$3:$A$79=$A$2,ROW(Lageromsætning!$A$3:$A$79)-CELL(\"row\",Lageromsætning!$A$3:$A$79)+1),ROWS($2:191))),\"\")","v":""},{"$f":"IFERROR(INDEX(Lageromsætning!$E$3:$E$79,SMALL(IF(Lageromsætning!$A$3:$A$79=$A$2,ROW(Lageromsætning!$A$3:$A$79)-CELL(\"row\",Lageromsætning!$A$3:$A$79)+1),ROWS($2:191))),\"\")","v":""},{"$f":"IFERROR(INDEX(Lageromsætning!$AF$3:$AF$79,SMALL(IF(Lageromsætning!$A$3:$A$79=$A$2,ROW(Lageromsætning!$A$3:$A$79)-CELL(\"row\",Lageromsætning!$A$3:$A$79)+1),ROWS($2:191))),\"\")","v":""},{"$f":"SUMIFS('Lager antal'!$D$3:$D$2508,'Lager antal'!$B$3:$B$2508,B193,'Lager antal'!$C$3:$C$2508,C193)","v":0},{"$f":"SUMIFS('Lager antal'!$F$3:$F$2508,'Lager antal'!$B$3:$B$2508,B193,'Lager antal'!$C$3:$C$2508,C193)","v":0},{"$f":"IF(ISNA(VLOOKUP($C193,'Lager antal'!$C$3:$K$508,9,FALSE))=TRUE,\"\",VLOOKUP($C193,'Lager antal'!$C$3:$K$508,9,FALSE))","v":""},{"$f":"IFERROR(INDEX(Lageromsætning!$P$3:$P$79,SMALL(IF(Lageromsætning!$A$3:$A$79=$A$2,ROW(Lageromsætning!$A$3:$A$79)-CELL(\"row\",Lageromsætning!$A$3:$A$79)+1),ROWS($2:191))),\"\")","v":""},{"$f":"+_xlfn.IFS($M193>=0.01,$M193,TRUE,0)-$F193-K193+G193","v":0},{"$f":"SUMIFS('Lager antal'!$G$3:$G$2508,'Lager antal'!$B$3:$B$2508,B193,'Lager antal'!$C$3:$C$2508,C193)","v":0},null,0,{"$f":"SUMIFS(Lageromsætning!$R$3:$R$79,Lageromsætning!$A$3:$A$79,$A$2,Lageromsætning!$C$3:$C$79,B193,Lageromsætning!$D$3:$D$79,C193)","v":0},{"$f":"SUMIFS(Lageromsætning!$S$3:$S$79,Lageromsætning!$C$3:$C$79,B193,Lageromsætning!$D$3:$D$79,C193)","v":0}]
[{"$f":"IFERROR(INDEX(Lageromsætning!$A$3:$A$79,SMALL(IF(Lageromsætning!$A$3:$A$79=$A$2,ROW(Lageromsætning!$A$3:$A$79)-CELL(\"row\",Lageromsætning!$A$3:$A$79)+1),ROWS($1:191))),\"\")","v":""},{"$f":"IFERROR(INDEX(Lageromsætning!$C$3:$C$79,SMALL(IF(Lageromsætning!$A$3:$A$79=$A$2,ROW(Lageromsætning!$A$3:$A$79)-CELL(\"row\",Lageromsætning!$A$3:$A$79)+1),ROWS($2:192))),\"\")","v":""},{"$f":"IFERROR(INDEX(Lageromsætning!$D$3:$D$79,SMALL(IF(Lageromsætning!$A$3:$A$79=$A$2,ROW(Lageromsætning!$A$3:$A$79)-CELL(\"row\",Lageromsætning!$A$3:$A$79)+1),ROWS($2:192))),\"\")","v":""},{"$f":"IFERROR(INDEX(Lageromsætning!$E$3:$E$79,SMALL(IF(Lageromsætning!$A$3:$A$79=$A$2,ROW(Lageromsætning!$A$3:$A$79)-CELL(\"row\",Lageromsætning!$A$3:$A$79)+1),ROWS($2:192))),\"\")","v":""},{"$f":"IFERROR(INDEX(Lageromsætning!$AF$3:$AF$79,SMALL(IF(Lageromsætning!$A$3:$A$79=$A$2,ROW(Lageromsætning!$A$3:$A$79)-CELL(\"row\",Lageromsætning!$A$3:$A$79)+1),ROWS($2:192))),\"\")","v":""},{"$f":"SUMIFS('Lager antal'!$D$3:$D$2508,'Lager antal'!$B$3:$B$2508,B194,'Lager antal'!$C$3:$C$2508,C194)","v":0},{"$f":"SUMIFS('Lager antal'!$F$3:$F$2508,'Lager antal'!$B$3:$B$2508,B194,'Lager antal'!$C$3:$C$2508,C194)","v":0},{"$f":"IF(ISNA(VLOOKUP($C194,'Lager antal'!$C$3:$K$508,9,FALSE))=TRUE,\"\",VLOOKUP($C194,'Lager antal'!$C$3:$K$508,9,FALSE))","v":""},{"$f":"IFERROR(INDEX(Lageromsætning!$P$3:$P$79,SMALL(IF(Lageromsætning!$A$3:$A$79=$A$2,ROW(Lageromsætning!$A$3:$A$79)-CELL(\"row\",Lageromsætning!$A$3:$A$79)+1),ROWS($2:192))),\"\")","v":""},{"$f":"+_xlfn.IFS($M194>=0.01,$M194,TRUE,0)-$F194-K194+G194","v":0},{"$f":"SUMIFS('Lager antal'!$G$3:$G$2508,'Lager antal'!$B$3:$B$2508,B194,'Lager antal'!$C$3:$C$2508,C194)","v":0},null,0,{"$f":"SUMIFS(Lageromsætning!$R$3:$R$79,Lageromsætning!$A$3:$A$79,$A$2,Lageromsætning!$C$3:$C$79,B194,Lageromsætning!$D$3:$D$79,C194)","v":0},{"$f":"SUMIFS(Lageromsætning!$S$3:$S$79,Lageromsætning!$C$3:$C$79,B194,Lageromsætning!$D$3:$D$79,C194)","v":0}]
[{"$f":"IFERROR(INDEX(Lageromsætning!$A$3:$A$79,SMALL(IF(Lageromsætning!$A$3:$A$79=$A$2,ROW(Lageromsætning!$A$3:$A$79)-CELL(\"row\",Lageromsætning!$A$3:$A$79)+1),ROWS($1:192))),\"\")","v":""},{"$f":"IFERROR(INDEX(Lageromsætning!$C$3:$C$79,SMALL(IF(Lageromsætning!$A$3:$A$79=$A$2,ROW(Lageromsætning!$A$3:$A$79)-CELL(\"row\",Lageromsætning!$A$3:$A$79)+1),ROWS($2:193))),\"\")","v":""},{"$f":"IFERROR(INDEX(Lageromsætning!$D$3:$D$79,SMALL(IF(Lageromsætning!$A$3:$A$79=$A$2,ROW(Lageromsætning!$A$3:$A$79)-CELL(\"row\",Lageromsætning!$A$3:$A$79)+1),ROWS($2:193))),\"\")","v":""},{"$f":"IFERROR(INDEX(Lageromsætning!$E$3:$E$79,SMALL(IF(Lageromsætning!$A$3:$A$79=$A$2,ROW(Lageromsætning!$A$3:$A$79)-CELL(\"row\",Lageromsætning!$A$3:$A$79)+1),ROWS($2:193))),\"\")","v":""},{"$f":"IFERROR(INDEX(Lageromsætning!$AF$3:$AF$79,SMALL(IF(Lageromsætning!$A$3:$A$79=$A$2,ROW(Lageromsætning!$A$3:$A$79)-CELL(\"row\",Lageromsætning!$A$3:$A$79)+1),ROWS($2:193))),\"\")","v":""},{"$f":"SUMIFS('Lager antal'!$D$3:$D$2508,'Lager antal'!$B$3:$B$2508,B195,'Lager antal'!$C$3:$C$2508,C195)","v":0},{"$f":"SUMIFS('Lager antal'!$F$3:$F$2508,'Lager antal'!$B$3:$B$2508,B195,'Lager antal'!$C$3:$C$2508,C195)","v":0},{"$f":"IF(ISNA(VLOOKUP($C195,'Lager antal'!$C$3:$K$508,9,FALSE))=TRUE,\"\",VLOOKUP($C195,'Lager antal'!$C$3:$K$508,9,FALSE))","v":""},{"$f":"IFERROR(INDEX(Lageromsætning!$P$3:$P$79,SMALL(IF(Lageromsætning!$A$3:$A$79=$A$2,ROW(Lageromsætning!$A$3:$A$79)-CELL(\"row\",Lageromsætning!$A$3:$A$79)+1),ROWS($2:193))),\"\")","v":""},{"$f":"+_xlfn.IFS($M195>=0.01,$M195,TRUE,0)-$F195-K195+G195","v":0},{"$f":"SUMIFS('Lager antal'!$G$3:$G$2508,'Lager antal'!$B$3:$B$2508,B195,'Lager antal'!$C$3:$C$2508,C195)","v":0},null,0,{"$f":"SUMIFS(Lageromsætning!$R$3:$R$79,Lageromsætning!$A$3:$A$79,$A$2,Lageromsætning!$C$3:$C$79,B195,Lageromsætning!$D$3:$D$79,C195)","v":0},{"$f":"SUMIFS(Lageromsætning!$S$3:$S$79,Lageromsætning!$C$3:$C$79,B195,Lageromsætning!$D$3:$D$79,C195)","v":0}]
[{"$f":"IFERROR(INDEX(Lageromsætning!$A$3:$A$79,SMALL(IF(Lageromsætning!$A$3:$A$79=$A$2,ROW(Lageromsætning!$A$3:$A$79)-CELL(\"row\",Lageromsætning!$A$3:$A$79)+1),ROWS($1:193))),\"\")","v":""},{"$f":"IFERROR(INDEX(Lageromsætning!$C$3:$C$79,SMALL(IF(Lageromsætning!$A$3:$A$79=$A$2,ROW(Lageromsætning!$A$3:$A$79)-CELL(\"row\",Lageromsætning!$A$3:$A$79)+1),ROWS($2:194))),\"\")","v":""},{"$f":"IFERROR(INDEX(Lageromsætning!$D$3:$D$79,SMALL(IF(Lageromsætning!$A$3:$A$79=$A$2,ROW(Lageromsætning!$A$3:$A$79)-CELL(\"row\",Lageromsætning!$A$3:$A$79)+1),ROWS($2:194))),\"\")","v":""},{"$f":"IFERROR(INDEX(Lageromsætning!$E$3:$E$79,SMALL(IF(Lageromsætning!$A$3:$A$79=$A$2,ROW(Lageromsætning!$A$3:$A$79)-CELL(\"row\",Lageromsætning!$A$3:$A$79)+1),ROWS($2:194))),\"\")","v":""},{"$f":"IFERROR(INDEX(Lageromsætning!$AF$3:$AF$79,SMALL(IF(Lageromsætning!$A$3:$A$79=$A$2,ROW(Lageromsætning!$A$3:$A$79)-CELL(\"row\",Lageromsætning!$A$3:$A$79)+1),ROWS($2:194))),\"\")","v":""},{"$f":"SUMIFS('Lager antal'!$D$3:$D$2508,'Lager antal'!$B$3:$B$2508,B196,'Lager antal'!$C$3:$C$2508,C196)","v":0},{"$f":"SUMIFS('Lager antal'!$F$3:$F$2508,'Lager antal'!$B$3:$B$2508,B196,'Lager antal'!$C$3:$C$2508,C196)","v":0},{"$f":"IF(ISNA(VLOOKUP($C196,'Lager antal'!$C$3:$K$508,9,FALSE))=TRUE,\"\",VLOOKUP($C196,'Lager antal'!$C$3:$K$508,9,FALSE))","v":""},{"$f":"IFERROR(INDEX(Lageromsætning!$P$3:$P$79,SMALL(IF(Lageromsætning!$A$3:$A$79=$A$2,ROW(Lageromsætning!$A$3:$A$79)-CELL(\"row\",Lageromsætning!$A$3:$A$79)+1),ROWS($2:194))),\"\")","v":""},{"$f":"+_xlfn.IFS($M196>=0.01,$M196,TRUE,0)-$F196-K196+G196","v":0},{"$f":"SUMIFS('Lager antal'!$G$3:$G$2508,'Lager antal'!$B$3:$B$2508,B196,'Lager antal'!$C$3:$C$2508,C196)","v":0},null,{"$f":"+$N196/$K$2","v":0},{"$f":"SUMIFS(Lageromsætning!$R$3:$R$79,Lageromsætning!$A$3:$A$79,$A$2,Lageromsætning!$C$3:$C$79,B196,Lageromsætning!$D$3:$D$79,C196)","v":0},{"$f":"SUMIFS(Lageromsætning!$S$3:$S$79,Lageromsætning!$C$3:$C$79,B196,Lageromsætning!$D$3:$D$79,C196)","v":0}]
[{"$f":"IFERROR(INDEX(Lageromsætning!$A$3:$A$79,SMALL(IF(Lageromsætning!$A$3:$A$79=$A$2,ROW(Lageromsætning!$A$3:$A$79)-CELL(\"row\",Lageromsætning!$A$3:$A$79)+1),ROWS($1:194))),\"\")","v":""},{"$f":"IFERROR(INDEX(Lageromsætning!$C$3:$C$79,SMALL(IF(Lageromsætning!$A$3:$A$79=$A$2,ROW(Lageromsætning!$A$3:$A$79)-CELL(\"row\",Lageromsætning!$A$3:$A$79)+1),ROWS($2:195))),\"\")","v":""},{"$f":"IFERROR(INDEX(Lageromsætning!$D$3:$D$79,SMALL(IF(Lageromsætning!$A$3:$A$79=$A$2,ROW(Lageromsætning!$A$3:$A$79)-CELL(\"row\",Lageromsætning!$A$3:$A$79)+1),ROWS($2:195))),\"\")","v":""},{"$f":"IFERROR(INDEX(Lageromsætning!$E$3:$E$79,SMALL(IF(Lageromsætning!$A$3:$A$79=$A$2,ROW(Lageromsætning!$A$3:$A$79)-CELL(\"row\",Lageromsætning!$A$3:$A$79)+1),ROWS($2:195))),\"\")","v":""},{"$f":"IFERROR(INDEX(Lageromsætning!$AF$3:$AF$79,SMALL(IF(Lageromsætning!$A$3:$A$79=$A$2,ROW(Lageromsætning!$A$3:$A$79)-CELL(\"row\",Lageromsætning!$A$3:$A$79)+1),ROWS($2:195))),\"\")","v":""},{"$f":"SUMIFS('Lager antal'!$D$3:$D$2508,'Lager antal'!$B$3:$B$2508,B197,'Lager antal'!$C$3:$C$2508,C197)","v":0},{"$f":"SUMIFS('Lager antal'!$F$3:$F$2508,'Lager antal'!$B$3:$B$2508,B197,'Lager antal'!$C$3:$C$2508,C197)","v":0},{"$f":"IF(ISNA(VLOOKUP($C197,'Lager antal'!$C$3:$K$508,9,FALSE))=TRUE,\"\",VLOOKUP($C197,'Lager antal'!$C$3:$K$508,9,FALSE))","v":""},{"$f":"IFERROR(INDEX(Lageromsætning!$P$3:$P$79,SMALL(IF(Lageromsætning!$A$3:$A$79=$A$2,ROW(Lageromsætning!$A$3:$A$79)-CELL(\"row\",Lageromsætning!$A$3:$A$79)+1),ROWS($2:195))),\"\")","v":""},{"$f":"+_xlfn.IFS($M197>=0.01,$M197,TRUE,0)-$F197-K197+G197","v":0},{"$f":"SUMIFS('Lager antal'!$G$3:$G$2508,'Lager antal'!$B$3:$B$2508,B197,'Lager antal'!$C$3:$C$2508,C197)","v":0},null,0,{"$f":"SUMIFS(Lageromsætning!$R$3:$R$79,Lageromsætning!$A$3:$A$79,$A$2,Lageromsætning!$C$3:$C$79,B197,Lageromsætning!$D$3:$D$79,C197)","v":0},{"$f":"SUMIFS(Lageromsætning!$S$3:$S$79,Lageromsætning!$C$3:$C$79,B197,Lageromsætning!$D$3:$D$79,C197)","v":0}]
[{"$f":"IFERROR(INDEX(Lageromsætning!$A$3:$A$79,SMALL(IF(Lageromsætning!$A$3:$A$79=$A$2,ROW(Lageromsætning!$A$3:$A$79)-CELL(\"row\",Lageromsætning!$A$3:$A$79)+1),ROWS($1:195))),\"\")","v":""},{"$f":"IFERROR(INDEX(Lageromsætning!$C$3:$C$79,SMALL(IF(Lageromsætning!$A$3:$A$79=$A$2,ROW(Lageromsætning!$A$3:$A$79)-CELL(\"row\",Lageromsætning!$A$3:$A$79)+1),ROWS($2:196))),\"\")","v":""},{"$f":"IFERROR(INDEX(Lageromsætning!$D$3:$D$79,SMALL(IF(Lageromsætning!$A$3:$A$79=$A$2,ROW(Lageromsætning!$A$3:$A$79)-CELL(\"row\",Lageromsætning!$A$3:$A$79)+1),ROWS($2:196))),\"\")","v":""},{"$f":"IFERROR(INDEX(Lageromsætning!$E$3:$E$79,SMALL(IF(Lageromsætning!$A$3:$A$79=$A$2,ROW(Lageromsætning!$A$3:$A$79)-CELL(\"row\",Lageromsætning!$A$3:$A$79)+1),ROWS($2:196))),\"\")","v":""},{"$f":"IFERROR(INDEX(Lageromsætning!$AF$3:$AF$79,SMALL(IF(Lageromsætning!$A$3:$A$79=$A$2,ROW(Lageromsætning!$A$3:$A$79)-CELL(\"row\",Lageromsætning!$A$3:$A$79)+1),ROWS($2:196))),\"\")","v":""},{"$f":"SUMIFS('Lager antal'!$D$3:$D$2508,'Lager antal'!$B$3:$B$2508,B198,'Lager antal'!$C$3:$C$2508,C198)","v":0},{"$f":"SUMIFS('Lager antal'!$F$3:$F$2508,'Lager antal'!$B$3:$B$2508,B198,'Lager antal'!$C$3:$C$2508,C198)","v":0},{"$f":"IF(ISNA(VLOOKUP($C198,'Lager antal'!$C$3:$K$508,9,FALSE))=TRUE,\"\",VLOOKUP($C198,'Lager antal'!$C$3:$K$508,9,FALSE))","v":""},{"$f":"IFERROR(INDEX(Lageromsætning!$P$3:$P$79,SMALL(IF(Lageromsætning!$A$3:$A$79=$A$2,ROW(Lageromsætning!$A$3:$A$79)-CELL(\"row\",Lageromsætning!$A$3:$A$79)+1),ROWS($2:196))),\"\")","v":""},{"$f":"+_xlfn.IFS($M198>=0.01,$M198,TRUE,0)-$F198-K198+G198","v":0},{"$f":"SUMIFS('Lager antal'!$G$3:$G$2508,'Lager antal'!$B$3:$B$2508,B198,'Lager antal'!$C$3:$C$2508,C198)","v":0},null,0,{"$f":"SUMIFS(Lageromsætning!$R$3:$R$79,Lageromsætning!$A$3:$A$79,$A$2,Lageromsætning!$C$3:$C$79,B198,Lageromsætning!$D$3:$D$79,C198)","v":0},{"$f":"SUMIFS(Lageromsætning!$S$3:$S$79,Lageromsætning!$C$3:$C$79,B198,Lageromsætning!$D$3:$D$79,C198)","v":0}]
[{"$f":"IFERROR(INDEX(Lageromsætning!$A$3:$A$79,SMALL(IF(Lageromsætning!$A$3:$A$79=$A$2,ROW(Lageromsætning!$A$3:$A$79)-CELL(\"row\",Lageromsætning!$A$3:$A$79)+1),ROWS($1:196))),\"\")","v":""},{"$f":"IFERROR(INDEX(Lageromsætning!$C$3:$C$79,SMALL(IF(Lageromsætning!$A$3:$A$79=$A$2,ROW(Lageromsætning!$A$3:$A$79)-CELL(\"row\",Lageromsætning!$A$3:$A$79)+1),ROWS($2:197))),\"\")","v":""},{"$f":"IFERROR(INDEX(Lageromsætning!$D$3:$D$79,SMALL(IF(Lageromsætning!$A$3:$A$79=$A$2,ROW(Lageromsætning!$A$3:$A$79)-CELL(\"row\",Lageromsætning!$A$3:$A$79)+1),ROWS($2:197))),\"\")","v":""},{"$f":"IFERROR(INDEX(Lageromsætning!$E$3:$E$79,SMALL(IF(Lageromsætning!$A$3:$A$79=$A$2,ROW(Lageromsætning!$A$3:$A$79)-CELL(\"row\",Lageromsætning!$A$3:$A$79)+1),ROWS($2:197))),\"\")","v":""},{"$f":"IFERROR(INDEX(Lageromsætning!$AF$3:$AF$79,SMALL(IF(Lageromsætning!$A$3:$A$79=$A$2,ROW(Lageromsætning!$A$3:$A$79)-CELL(\"row\",Lageromsætning!$A$3:$A$79)+1),ROWS($2:197))),\"\")","v":""},{"$f":"SUMIFS('Lager antal'!$D$3:$D$2508,'Lager antal'!$B$3:$B$2508,B199,'Lager antal'!$C$3:$C$2508,C199)","v":0},{"$f":"SUMIFS('Lager antal'!$F$3:$F$2508,'Lager antal'!$B$3:$B$2508,B199,'Lager antal'!$C$3:$C$2508,C199)","v":0},{"$f":"IF(ISNA(VLOOKUP($C199,'Lager antal'!$C$3:$K$508,9,FALSE))=TRUE,\"\",VLOOKUP($C199,'Lager antal'!$C$3:$K$508,9,FALSE))","v":""},{"$f":"IFERROR(INDEX(Lageromsætning!$P$3:$P$79,SMALL(IF(Lageromsætning!$A$3:$A$79=$A$2,ROW(Lageromsætning!$A$3:$A$79)-CELL(\"row\",Lageromsætning!$A$3:$A$79)+1),ROWS($2:197))),\"\")","v":""},{"$f":"+_xlfn.IFS($M199>=0.01,$M199,TRUE,0)-$F199-K199+G199","v":0},{"$f":"SUMIFS('Lager antal'!$G$3:$G$2508,'Lager antal'!$B$3:$B$2508,B199,'Lager antal'!$C$3:$C$2508,C199)","v":0},null,0,{"$f":"SUMIFS(Lageromsætning!$R$3:$R$79,Lageromsætning!$A$3:$A$79,$A$2,Lageromsætning!$C$3:$C$79,B199,Lageromsætning!$D$3:$D$79,C199)","v":0},{"$f":"SUMIFS(Lageromsætning!$S$3:$S$79,Lageromsætning!$C$3:$C$79,B199,Lageromsætning!$D$3:$D$79,C199)","v":0}]
[{"$f":"IFERROR(INDEX(Lageromsætning!$A$3:$A$79,SMALL(IF(Lageromsætning!$A$3:$A$79=$A$2,ROW(Lageromsætning!$A$3:$A$79)-CELL(\"row\",Lageromsætning!$A$3:$A$79)+1),ROWS($1:197))),\"\")","v":""},{"$f":"IFERROR(INDEX(Lageromsætning!$C$3:$C$79,SMALL(IF(Lageromsætning!$A$3:$A$79=$A$2,ROW(Lageromsætning!$A$3:$A$79)-CELL(\"row\",Lageromsætning!$A$3:$A$79)+1),ROWS($2:198))),\"\")","v":""},{"$f":"IFERROR(INDEX(Lageromsætning!$D$3:$D$79,SMALL(IF(Lageromsætning!$A$3:$A$79=$A$2,ROW(Lageromsætning!$A$3:$A$79)-CELL(\"row\",Lageromsætning!$A$3:$A$79)+1),ROWS($2:198))),\"\")","v":""},{"$f":"IFERROR(INDEX(Lageromsætning!$E$3:$E$79,SMALL(IF(Lageromsætning!$A$3:$A$79=$A$2,ROW(Lageromsætning!$A$3:$A$79)-CELL(\"row\",Lageromsætning!$A$3:$A$79)+1),ROWS($2:198))),\"\")","v":""},{"$f":"IFERROR(INDEX(Lageromsætning!$AF$3:$AF$79,SMALL(IF(Lageromsætning!$A$3:$A$79=$A$2,ROW(Lageromsætning!$A$3:$A$79)-CELL(\"row\",Lageromsætning!$A$3:$A$79)+1),ROWS($2:198))),\"\")","v":""},{"$f":"SUMIFS('Lager antal'!$D$3:$D$2508,'Lager antal'!$B$3:$B$2508,B200,'Lager antal'!$C$3:$C$2508,C200)","v":0},{"$f":"SUMIFS('Lager antal'!$F$3:$F$2508,'Lager antal'!$B$3:$B$2508,B200,'Lager antal'!$C$3:$C$2508,C200)","v":0},{"$f":"IF(ISNA(VLOOKUP($C200,'Lager antal'!$C$3:$K$508,9,FALSE))=TRUE,\"\",VLOOKUP($C200,'Lager antal'!$C$3:$K$508,9,FALSE))","v":""},{"$f":"IFERROR(INDEX(Lageromsætning!$P$3:$P$79,SMALL(IF(Lageromsætning!$A$3:$A$79=$A$2,ROW(Lageromsætning!$A$3:$A$79)-CELL(\"row\",Lageromsætning!$A$3:$A$79)+1),ROWS($2:198))),\"\")","v":""},{"$f":"+_xlfn.IFS($M200>=0.01,$M200,TRUE,0)-$F200-K200+G200","v":0},{"$f":"SUMIFS('Lager antal'!$G$3:$G$2508,'Lager antal'!$B$3:$B$2508,B200,'Lager antal'!$C$3:$C$2508,C200)","v":0},null,0,{"$f":"SUMIFS(Lageromsætning!$R$3:$R$79,Lageromsætning!$A$3:$A$79,$A$2,Lageromsætning!$C$3:$C$79,B200,Lageromsætning!$D$3:$D$79,C200)","v":0},{"$f":"SUMIFS(Lageromsætning!$S$3:$S$79,Lageromsætning!$C$3:$C$79,B200,Lageromsætning!$D$3:$D$79,C200)","v":0}]
[{"$f":"IFERROR(INDEX(Lageromsætning!$A$3:$A$79,SMALL(IF(Lageromsætning!$A$3:$A$79=$A$2,ROW(Lageromsætning!$A$3:$A$79)-CELL(\"row\",Lageromsætning!$A$3:$A$79)+1),ROWS($1:198))),\"\")","v":""},{"$f":"IFERROR(INDEX(Lageromsætning!$C$3:$C$79,SMALL(IF(Lageromsætning!$A$3:$A$79=$A$2,ROW(Lageromsætning!$A$3:$A$79)-CELL(\"row\",Lageromsætning!$A$3:$A$79)+1),ROWS($2:199))),\"\")","v":""},{"$f":"IFERROR(INDEX(Lageromsætning!$D$3:$D$79,SMALL(IF(Lageromsætning!$A$3:$A$79=$A$2,ROW(Lageromsætning!$A$3:$A$79)-CELL(\"row\",Lageromsætning!$A$3:$A$79)+1),ROWS($2:199))),\"\")","v":""},{"$f":"IFERROR(INDEX(Lageromsætning!$E$3:$E$79,SMALL(IF(Lageromsætning!$A$3:$A$79=$A$2,ROW(Lageromsætning!$A$3:$A$79)-CELL(\"row\",Lageromsætning!$A$3:$A$79)+1),ROWS($2:199))),\"\")","v":""},{"$f":"IFERROR(INDEX(Lageromsætning!$AF$3:$AF$79,SMALL(IF(Lageromsætning!$A$3:$A$79=$A$2,ROW(Lageromsætning!$A$3:$A$79)-CELL(\"row\",Lageromsætning!$A$3:$A$79)+1),ROWS($2:199))),\"\")","v":""},{"$f":"SUMIFS('Lager antal'!$D$3:$D$2508,'Lager antal'!$B$3:$B$2508,B201,'Lager antal'!$C$3:$C$2508,C201)","v":0},{"$f":"SUMIFS('Lager antal'!$F$3:$F$2508,'Lager antal'!$B$3:$B$2508,B201,'Lager antal'!$C$3:$C$2508,C201)","v":0},{"$f":"IF(ISNA(VLOOKUP($C201,'Lager antal'!$C$3:$K$508,9,FALSE))=TRUE,\"\",VLOOKUP($C201,'Lager antal'!$C$3:$K$508,9,FALSE))","v":""},{"$f":"IFERROR(INDEX(Lageromsætning!$P$3:$P$79,SMALL(IF(Lageromsætning!$A$3:$A$79=$A$2,ROW(Lageromsætning!$A$3:$A$79)-CELL(\"row\",Lageromsætning!$A$3:$A$79)+1),ROWS($2:199))),\"\")","v":""},{"$f":"+_xlfn.IFS($M201>=0.01,$M201,TRUE,0)-$F201-K201+G201","v":0},{"$f":"SUMIFS('Lager antal'!$G$3:$G$2508,'Lager antal'!$B$3:$B$2508,B201,'Lager antal'!$C$3:$C$2508,C201)","v":0},null,0,{"$f":"SUMIFS(Lageromsætning!$R$3:$R$79,Lageromsætning!$A$3:$A$79,$A$2,Lageromsætning!$C$3:$C$79,B201,Lageromsætning!$D$3:$D$79,C201)","v":0},{"$f":"SUMIFS(Lageromsætning!$S$3:$S$79,Lageromsætning!$C$3:$C$79,B201,Lageromsætning!$D$3:$D$79,C201)","v":0}]
[{"$f":"IFERROR(INDEX(Lageromsætning!$A$3:$A$79,SMALL(IF(Lageromsætning!$A$3:$A$79=$A$2,ROW(Lageromsætning!$A$3:$A$79)-CELL(\"row\",Lageromsætning!$A$3:$A$79)+1),ROWS($1:199))),\"\")","v":""},{"$f":"IFERROR(INDEX(Lageromsætning!$C$3:$C$79,SMALL(IF(Lageromsætning!$A$3:$A$79=$A$2,ROW(Lageromsætning!$A$3:$A$79)-CELL(\"row\",Lageromsætning!$A$3:$A$79)+1),ROWS($2:200))),\"\")","v":""},{"$f":"IFERROR(INDEX(Lageromsætning!$D$3:$D$79,SMALL(IF(Lageromsætning!$A$3:$A$79=$A$2,ROW(Lageromsætning!$A$3:$A$79)-CELL(\"row\",Lageromsætning!$A$3:$A$79)+1),ROWS($2:200))),\"\")","v":""},{"$f":"IFERROR(INDEX(Lageromsætning!$E$3:$E$79,SMALL(IF(Lageromsætning!$A$3:$A$79=$A$2,ROW(Lageromsætning!$A$3:$A$79)-CELL(\"row\",Lageromsætning!$A$3:$A$79)+1),ROWS($2:200))),\"\")","v":""},{"$f":"IFERROR(INDEX(Lageromsætning!$AF$3:$AF$79,SMALL(IF(Lageromsætning!$A$3:$A$79=$A$2,ROW(Lageromsætning!$A$3:$A$79)-CELL(\"row\",Lageromsætning!$A$3:$A$79)+1),ROWS($2:200))),\"\")","v":""},{"$f":"SUMIFS('Lager antal'!$D$3:$D$2508,'Lager antal'!$B$3:$B$2508,B202,'Lager antal'!$C$3:$C$2508,C202)","v":0},{"$f":"SUMIFS('Lager antal'!$F$3:$F$2508,'Lager antal'!$B$3:$B$2508,B202,'Lager antal'!$C$3:$C$2508,C202)","v":0},{"$f":"IF(ISNA(VLOOKUP($C202,'Lager antal'!$C$3:$K$508,9,FALSE))=TRUE,\"\",VLOOKUP($C202,'Lager antal'!$C$3:$K$508,9,FALSE))","v":""},{"$f":"IFERROR(INDEX(Lageromsætning!$P$3:$P$79,SMALL(IF(Lageromsætning!$A$3:$A$79=$A$2,ROW(Lageromsætning!$A$3:$A$79)-CELL(\"row\",Lageromsætning!$A$3:$A$79)+1),ROWS($2:200))),\"\")","v":""},{"$f":"+_xlfn.IFS($M202>=0.01,$M202,TRUE,0)-$F202-K202+G202","v":0},{"$f":"SUMIFS('Lager antal'!$G$3:$G$2508,'Lager antal'!$B$3:$B$2508,B202,'Lager antal'!$C$3:$C$2508,C202)","v":0},null,0,{"$f":"SUMIFS(Lageromsætning!$R$3:$R$79,Lageromsætning!$A$3:$A$79,$A$2,Lageromsætning!$C$3:$C$79,B202,Lageromsætning!$D$3:$D$79,C202)","v":0},{"$f":"SUMIFS(Lageromsætning!$S$3:$S$79,Lageromsætning!$C$3:$C$79,B202,Lageromsætning!$D$3:$D$79,C202)","v":0}]
[{"$f":"IFERROR(INDEX(Lageromsætning!$A$3:$A$79,SMALL(IF(Lageromsætning!$A$3:$A$79=$A$2,ROW(Lageromsætning!$A$3:$A$79)-CELL(\"row\",Lageromsætning!$A$3:$A$79)+1),ROWS($1:200))),\"\")","v":""},{"$f":"IFERROR(INDEX(Lageromsætning!$C$3:$C$79,SMALL(IF(Lageromsætning!$A$3:$A$79=$A$2,ROW(Lageromsætning!$A$3:$A$79)-CELL(\"row\",Lageromsætning!$A$3:$A$79)+1),ROWS($2:201))),\"\")","v":""},{"$f":"IFERROR(INDEX(Lageromsætning!$D$3:$D$79,SMALL(IF(Lageromsætning!$A$3:$A$79=$A$2,ROW(Lageromsætning!$A$3:$A$79)-CELL(\"row\",Lageromsætning!$A$3:$A$79)+1),ROWS($2:201))),\"\")","v":""},{"$f":"IFERROR(INDEX(Lageromsætning!$E$3:$E$79,SMALL(IF(Lageromsætning!$A$3:$A$79=$A$2,ROW(Lageromsætning!$A$3:$A$79)-CELL(\"row\",Lageromsætning!$A$3:$A$79)+1),ROWS($2:201))),\"\")","v":""},{"$f":"IFERROR(INDEX(Lageromsætning!$AF$3:$AF$79,SMALL(IF(Lageromsætning!$A$3:$A$79=$A$2,ROW(Lageromsætning!$A$3:$A$79)-CELL(\"row\",Lageromsætning!$A$3:$A$79)+1),ROWS($2:201))),\"\")","v":""},{"$f":"SUMIFS('Lager antal'!$D$3:$D$2508,'Lager antal'!$B$3:$B$2508,B203,'Lager antal'!$C$3:$C$2508,C203)","v":0},{"$f":"SUMIFS('Lager antal'!$F$3:$F$2508,'Lager antal'!$B$3:$B$2508,B203,'Lager antal'!$C$3:$C$2508,C203)","v":0},{"$f":"IF(ISNA(VLOOKUP($C203,'Lager antal'!$C$3:$K$508,9,FALSE))=TRUE,\"\",VLOOKUP($C203,'Lager antal'!$C$3:$K$508,9,FALSE))","v":""},{"$f":"IFERROR(INDEX(Lageromsætning!$P$3:$P$79,SMALL(IF(Lageromsætning!$A$3:$A$79=$A$2,ROW(Lageromsætning!$A$3:$A$79)-CELL(\"row\",Lageromsætning!$A$3:$A$79)+1),ROWS($2:201))),\"\")","v":""},{"$f":"+_xlfn.IFS($M203>=0.01,$M203,TRUE,0)-$F203-K203+G203","v":0},{"$f":"SUMIFS('Lager antal'!$G$3:$G$2508,'Lager antal'!$B$3:$B$2508,B203,'Lager antal'!$C$3:$C$2508,C203)","v":0},null,0,{"$f":"SUMIFS(Lageromsætning!$R$3:$R$79,Lageromsætning!$A$3:$A$79,$A$2,Lageromsætning!$C$3:$C$79,B203,Lageromsætning!$D$3:$D$79,C203)","v":0},{"$f":"SUMIFS(Lageromsætning!$S$3:$S$79,Lageromsætning!$C$3:$C$79,B203,Lageromsætning!$D$3:$D$79,C203)","v":0}]
[{"$f":"IFERROR(INDEX(Lageromsætning!$A$3:$A$79,SMALL(IF(Lageromsætning!$A$3:$A$79=$A$2,ROW(Lageromsætning!$A$3:$A$79)-CELL(\"row\",Lageromsætning!$A$3:$A$79)+1),ROWS($1:201))),\"\")","v":""},{"$f":"IFERROR(INDEX(Lageromsætning!$C$3:$C$79,SMALL(IF(Lageromsætning!$A$3:$A$79=$A$2,ROW(Lageromsætning!$A$3:$A$79)-CELL(\"row\",Lageromsætning!$A$3:$A$79)+1),ROWS($2:202))),\"\")","v":""},{"$f":"IFERROR(INDEX(Lageromsætning!$D$3:$D$79,SMALL(IF(Lageromsætning!$A$3:$A$79=$A$2,ROW(Lageromsætning!$A$3:$A$79)-CELL(\"row\",Lageromsætning!$A$3:$A$79)+1),ROWS($2:202))),\"\")","v":""},{"$f":"IFERROR(INDEX(Lageromsætning!$E$3:$E$79,SMALL(IF(Lageromsætning!$A$3:$A$79=$A$2,ROW(Lageromsætning!$A$3:$A$79)-CELL(\"row\",Lageromsætning!$A$3:$A$79)+1),ROWS($2:202))),\"\")","v":""},{"$f":"IFERROR(INDEX(Lageromsætning!$AF$3:$AF$79,SMALL(IF(Lageromsætning!$A$3:$A$79=$A$2,ROW(Lageromsætning!$A$3:$A$79)-CELL(\"row\",Lageromsætning!$A$3:$A$79)+1),ROWS($2:202))),\"\")","v":""},{"$f":"SUMIFS('Lager antal'!$D$3:$D$2508,'Lager antal'!$B$3:$B$2508,B204,'Lager antal'!$C$3:$C$2508,C204)","v":0},{"$f":"SUMIFS('Lager antal'!$F$3:$F$2508,'Lager antal'!$B$3:$B$2508,B204,'Lager antal'!$C$3:$C$2508,C204)","v":0},{"$f":"IF(ISNA(VLOOKUP($C204,'Lager antal'!$C$3:$K$508,9,FALSE))=TRUE,\"\",VLOOKUP($C204,'Lager antal'!$C$3:$K$508,9,FALSE))","v":""},{"$f":"IFERROR(INDEX(Lageromsætning!$P$3:$P$79,SMALL(IF(Lageromsætning!$A$3:$A$79=$A$2,ROW(Lageromsætning!$A$3:$A$79)-CELL(\"row\",Lageromsætning!$A$3:$A$79)+1),ROWS($2:202))),\"\")","v":""},{"$f":"+_xlfn.IFS($M204>=0.01,$M204,TRUE,0)-$F204-K204+G204","v":0},{"$f":"SUMIFS('Lager antal'!$G$3:$G$2508,'Lager antal'!$B$3:$B$2508,B204,'Lager antal'!$C$3:$C$2508,C204)","v":0},null,0,{"$f":"SUMIFS(Lageromsætning!$R$3:$R$79,Lageromsætning!$A$3:$A$79,$A$2,Lageromsætning!$C$3:$C$79,B204,Lageromsætning!$D$3:$D$79,C204)","v":0},{"$f":"SUMIFS(Lageromsætning!$S$3:$S$79,Lageromsætning!$C$3:$C$79,B204,Lageromsætning!$D$3:$D$79,C204)","v":0}]
[{"$f":"IFERROR(INDEX(Lageromsætning!$A$3:$A$79,SMALL(IF(Lageromsætning!$A$3:$A$79=$A$2,ROW(Lageromsætning!$A$3:$A$79)-CELL(\"row\",Lageromsætning!$A$3:$A$79)+1),ROWS($1:202))),\"\")","v":""},{"$f":"IFERROR(INDEX(Lageromsætning!$C$3:$C$79,SMALL(IF(Lageromsætning!$A$3:$A$79=$A$2,ROW(Lageromsætning!$A$3:$A$79)-CELL(\"row\",Lageromsætning!$A$3:$A$79)+1),ROWS($2:203))),\"\")","v":""},{"$f":"IFERROR(INDEX(Lageromsætning!$D$3:$D$79,SMALL(IF(Lageromsætning!$A$3:$A$79=$A$2,ROW(Lageromsætning!$A$3:$A$79)-CELL(\"row\",Lageromsætning!$A$3:$A$79)+1),ROWS($2:203))),\"\")","v":""},{"$f":"IFERROR(INDEX(Lageromsætning!$E$3:$E$79,SMALL(IF(Lageromsætning!$A$3:$A$79=$A$2,ROW(Lageromsætning!$A$3:$A$79)-CELL(\"row\",Lageromsætning!$A$3:$A$79)+1),ROWS($2:203))),\"\")","v":""},{"$f":"IFERROR(INDEX(Lageromsætning!$AF$3:$AF$79,SMALL(IF(Lageromsætning!$A$3:$A$79=$A$2,ROW(Lageromsætning!$A$3:$A$79)-CELL(\"row\",Lageromsætning!$A$3:$A$79)+1),ROWS($2:203))),\"\")","v":""},{"$f":"SUMIFS('Lager antal'!$D$3:$D$2508,'Lager antal'!$B$3:$B$2508,B205,'Lager antal'!$C$3:$C$2508,C205)","v":0},{"$f":"SUMIFS('Lager antal'!$F$3:$F$2508,'Lager antal'!$B$3:$B$2508,B205,'Lager antal'!$C$3:$C$2508,C205)","v":0},{"$f":"IF(ISNA(VLOOKUP($C205,'Lager antal'!$C$3:$K$508,9,FALSE))=TRUE,\"\",VLOOKUP($C205,'Lager antal'!$C$3:$K$508,9,FALSE))","v":""},{"$f":"IFERROR(INDEX(Lageromsætning!$P$3:$P$79,SMALL(IF(Lageromsætning!$A$3:$A$79=$A$2,ROW(Lageromsætning!$A$3:$A$79)-CELL(\"row\",Lageromsætning!$A$3:$A$79)+1),ROWS($2:203))),\"\")","v":""},{"$f":"+_xlfn.IFS($M205>=0.01,$M205,TRUE,0)-$F205-K205+G205","v":0},{"$f":"SUMIFS('Lager antal'!$G$3:$G$2508,'Lager antal'!$B$3:$B$2508,B205,'Lager antal'!$C$3:$C$2508,C205)","v":0},null,0,{"$f":"SUMIFS(Lageromsætning!$R$3:$R$79,Lageromsætning!$A$3:$A$79,$A$2,Lageromsætning!$C$3:$C$79,B205,Lageromsætning!$D$3:$D$79,C205)","v":0},{"$f":"SUMIFS(Lageromsætning!$S$3:$S$79,Lageromsætning!$C$3:$C$79,B205,Lageromsætning!$D$3:$D$79,C205)","v":0}]
[{"$f":"IFERROR(INDEX(Lageromsætning!$A$3:$A$79,SMALL(IF(Lageromsætning!$A$3:$A$79=$A$2,ROW(Lageromsætning!$A$3:$A$79)-CELL(\"row\",Lageromsætning!$A$3:$A$79)+1),ROWS($1:203))),\"\")","v":""},{"$f":"IFERROR(INDEX(Lageromsætning!$C$3:$C$79,SMALL(IF(Lageromsætning!$A$3:$A$79=$A$2,ROW(Lageromsætning!$A$3:$A$79)-CELL(\"row\",Lageromsætning!$A$3:$A$79)+1),ROWS($2:204))),\"\")","v":""},{"$f":"IFERROR(INDEX(Lageromsætning!$D$3:$D$79,SMALL(IF(Lageromsætning!$A$3:$A$79=$A$2,ROW(Lageromsætning!$A$3:$A$79)-CELL(\"row\",Lageromsætning!$A$3:$A$79)+1),ROWS($2:204))),\"\")","v":""},{"$f":"IFERROR(INDEX(Lageromsætning!$E$3:$E$79,SMALL(IF(Lageromsætning!$A$3:$A$79=$A$2,ROW(Lageromsætning!$A$3:$A$79)-CELL(\"row\",Lageromsætning!$A$3:$A$79)+1),ROWS($2:204))),\"\")","v":""},{"$f":"IFERROR(INDEX(Lageromsætning!$AF$3:$AF$79,SMALL(IF(Lageromsætning!$A$3:$A$79=$A$2,ROW(Lageromsætning!$A$3:$A$79)-CELL(\"row\",Lageromsætning!$A$3:$A$79)+1),ROWS($2:204))),\"\")","v":""},{"$f":"SUMIFS('Lager antal'!$D$3:$D$2508,'Lager antal'!$B$3:$B$2508,B206,'Lager antal'!$C$3:$C$2508,C206)","v":0},{"$f":"SUMIFS('Lager antal'!$F$3:$F$2508,'Lager antal'!$B$3:$B$2508,B206,'Lager antal'!$C$3:$C$2508,C206)","v":0},{"$f":"IF(ISNA(VLOOKUP($C206,'Lager antal'!$C$3:$K$508,9,FALSE))=TRUE,\"\",VLOOKUP($C206,'Lager antal'!$C$3:$K$508,9,FALSE))","v":""},{"$f":"IFERROR(INDEX(Lageromsætning!$P$3:$P$79,SMALL(IF(Lageromsætning!$A$3:$A$79=$A$2,ROW(Lageromsætning!$A$3:$A$79)-CELL(\"row\",Lageromsætning!$A$3:$A$79)+1),ROWS($2:204))),\"\")","v":""},{"$f":"+_xlfn.IFS($M206>=0.01,$M206,TRUE,0)-$F206-K206+G206","v":0},{"$f":"SUMIFS('Lager antal'!$G$3:$G$2508,'Lager antal'!$B$3:$B$2508,B206,'Lager antal'!$C$3:$C$2508,C206)","v":0},null,0,{"$f":"SUMIFS(Lageromsætning!$R$3:$R$79,Lageromsætning!$A$3:$A$79,$A$2,Lageromsætning!$C$3:$C$79,B206,Lageromsætning!$D$3:$D$79,C206)","v":0},{"$f":"SUMIFS(Lageromsætning!$S$3:$S$79,Lageromsætning!$C$3:$C$79,B206,Lageromsætning!$D$3:$D$79,C206)","v":0}]
[{"$f":"IFERROR(INDEX(Lageromsætning!$A$3:$A$79,SMALL(IF(Lageromsætning!$A$3:$A$79=$A$2,ROW(Lageromsætning!$A$3:$A$79)-CELL(\"row\",Lageromsætning!$A$3:$A$79)+1),ROWS($1:204))),\"\")","v":""},{"$f":"IFERROR(INDEX(Lageromsætning!$C$3:$C$79,SMALL(IF(Lageromsætning!$A$3:$A$79=$A$2,ROW(Lageromsætning!$A$3:$A$79)-CELL(\"row\",Lageromsætning!$A$3:$A$79)+1),ROWS($2:205))),\"\")","v":""},{"$f":"IFERROR(INDEX(Lageromsætning!$D$3:$D$79,SMALL(IF(Lageromsætning!$A$3:$A$79=$A$2,ROW(Lageromsætning!$A$3:$A$79)-CELL(\"row\",Lageromsætning!$A$3:$A$79)+1),ROWS($2:205))),\"\")","v":""},{"$f":"IFERROR(INDEX(Lageromsætning!$E$3:$E$79,SMALL(IF(Lageromsætning!$A$3:$A$79=$A$2,ROW(Lageromsætning!$A$3:$A$79)-CELL(\"row\",Lageromsætning!$A$3:$A$79)+1),ROWS($2:205))),\"\")","v":""},{"$f":"IFERROR(INDEX(Lageromsætning!$AF$3:$AF$79,SMALL(IF(Lageromsætning!$A$3:$A$79=$A$2,ROW(Lageromsætning!$A$3:$A$79)-CELL(\"row\",Lageromsætning!$A$3:$A$79)+1),ROWS($2:205))),\"\")","v":""},{"$f":"SUMIFS('Lager antal'!$D$3:$D$2508,'Lager antal'!$B$3:$B$2508,B207,'Lager antal'!$C$3:$C$2508,C207)","v":0},{"$f":"SUMIFS('Lager antal'!$F$3:$F$2508,'Lager antal'!$B$3:$B$2508,B207,'Lager antal'!$C$3:$C$2508,C207)","v":0},{"$f":"IF(ISNA(VLOOKUP($C207,'Lager antal'!$C$3:$K$508,9,FALSE))=TRUE,\"\",VLOOKUP($C207,'Lager antal'!$C$3:$K$508,9,FALSE))","v":""},{"$f":"IFERROR(INDEX(Lageromsætning!$P$3:$P$79,SMALL(IF(Lageromsætning!$A$3:$A$79=$A$2,ROW(Lageromsætning!$A$3:$A$79)-CELL(\"row\",Lageromsætning!$A$3:$A$79)+1),ROWS($2:205))),\"\")","v":""},{"$f":"+_xlfn.IFS($M207>=0.01,$M207,TRUE,0)-$F207-K207+G207","v":0},{"$f":"SUMIFS('Lager antal'!$G$3:$G$2508,'Lager antal'!$B$3:$B$2508,B207,'Lager antal'!$C$3:$C$2508,C207)","v":0},null,0,{"$f":"SUMIFS(Lageromsætning!$R$3:$R$79,Lageromsætning!$A$3:$A$79,$A$2,Lageromsætning!$C$3:$C$79,B207,Lageromsætning!$D$3:$D$79,C207)","v":0},{"$f":"SUMIFS(Lageromsætning!$S$3:$S$79,Lageromsætning!$C$3:$C$79,B207,Lageromsætning!$D$3:$D$79,C207)","v":0}]
[{"$f":"IFERROR(INDEX(Lageromsætning!$A$3:$A$79,SMALL(IF(Lageromsætning!$A$3:$A$79=$A$2,ROW(Lageromsætning!$A$3:$A$79)-CELL(\"row\",Lageromsætning!$A$3:$A$79)+1),ROWS($1:205))),\"\")","v":""},{"$f":"IFERROR(INDEX(Lageromsætning!$C$3:$C$79,SMALL(IF(Lageromsætning!$A$3:$A$79=$A$2,ROW(Lageromsætning!$A$3:$A$79)-CELL(\"row\",Lageromsætning!$A$3:$A$79)+1),ROWS($2:206))),\"\")","v":""},{"$f":"IFERROR(INDEX(Lageromsætning!$D$3:$D$79,SMALL(IF(Lageromsætning!$A$3:$A$79=$A$2,ROW(Lageromsætning!$A$3:$A$79)-CELL(\"row\",Lageromsætning!$A$3:$A$79)+1),ROWS($2:206))),\"\")","v":""},{"$f":"IFERROR(INDEX(Lageromsætning!$E$3:$E$79,SMALL(IF(Lageromsætning!$A$3:$A$79=$A$2,ROW(Lageromsætning!$A$3:$A$79)-CELL(\"row\",Lageromsætning!$A$3:$A$79)+1),ROWS($2:206))),\"\")","v":""},{"$f":"IFERROR(INDEX(Lageromsætning!$AF$3:$AF$79,SMALL(IF(Lageromsætning!$A$3:$A$79=$A$2,ROW(Lageromsætning!$A$3:$A$79)-CELL(\"row\",Lageromsætning!$A$3:$A$79)+1),ROWS($2:206))),\"\")","v":""},{"$f":"SUMIFS('Lager antal'!$D$3:$D$2508,'Lager antal'!$B$3:$B$2508,B208,'Lager antal'!$C$3:$C$2508,C208)","v":0},{"$f":"SUMIFS('Lager antal'!$F$3:$F$2508,'Lager antal'!$B$3:$B$2508,B208,'Lager antal'!$C$3:$C$2508,C208)","v":0},{"$f":"IF(ISNA(VLOOKUP($C208,'Lager antal'!$C$3:$K$508,9,FALSE))=TRUE,\"\",VLOOKUP($C208,'Lager antal'!$C$3:$K$508,9,FALSE))","v":""},{"$f":"IFERROR(INDEX(Lageromsætning!$P$3:$P$79,SMALL(IF(Lageromsætning!$A$3:$A$79=$A$2,ROW(Lageromsætning!$A$3:$A$79)-CELL(\"row\",Lageromsætning!$A$3:$A$79)+1),ROWS($2:206))),\"\")","v":""},{"$f":"+_xlfn.IFS($M208>=0.01,$M208,TRUE,0)-$F208-K208+G208","v":0},{"$f":"SUMIFS('Lager antal'!$G$3:$G$2508,'Lager antal'!$B$3:$B$2508,B208,'Lager antal'!$C$3:$C$2508,C208)","v":0},null,0,{"$f":"SUMIFS(Lageromsætning!$R$3:$R$79,Lageromsætning!$A$3:$A$79,$A$2,Lageromsætning!$C$3:$C$79,B208,Lageromsætning!$D$3:$D$79,C208)","v":0},{"$f":"SUMIFS(Lageromsætning!$S$3:$S$79,Lageromsætning!$C$3:$C$79,B208,Lageromsætning!$D$3:$D$79,C208)","v":0}]
[{"$f":"IFERROR(INDEX(Lageromsætning!$A$3:$A$79,SMALL(IF(Lageromsætning!$A$3:$A$79=$A$2,ROW(Lageromsætning!$A$3:$A$79)-CELL(\"row\",Lageromsætning!$A$3:$A$79)+1),ROWS($1:206))),\"\")","v":""},{"$f":"IFERROR(INDEX(Lageromsætning!$C$3:$C$79,SMALL(IF(Lageromsætning!$A$3:$A$79=$A$2,ROW(Lageromsætning!$A$3:$A$79)-CELL(\"row\",Lageromsætning!$A$3:$A$79)+1),ROWS($2:207))),\"\")","v":""},{"$f":"IFERROR(INDEX(Lageromsætning!$D$3:$D$79,SMALL(IF(Lageromsætning!$A$3:$A$79=$A$2,ROW(Lageromsætning!$A$3:$A$79)-CELL(\"row\",Lageromsætning!$A$3:$A$79)+1),ROWS($2:207))),\"\")","v":""},{"$f":"IFERROR(INDEX(Lageromsætning!$E$3:$E$79,SMALL(IF(Lageromsætning!$A$3:$A$79=$A$2,ROW(Lageromsætning!$A$3:$A$79)-CELL(\"row\",Lageromsætning!$A$3:$A$79)+1),ROWS($2:207))),\"\")","v":""},{"$f":"IFERROR(INDEX(Lageromsætning!$AF$3:$AF$79,SMALL(IF(Lageromsætning!$A$3:$A$79=$A$2,ROW(Lageromsætning!$A$3:$A$79)-CELL(\"row\",Lageromsætning!$A$3:$A$79)+1),ROWS($2:207))),\"\")","v":""},{"$f":"SUMIFS('Lager antal'!$D$3:$D$2508,'Lager antal'!$B$3:$B$2508,B209,'Lager antal'!$C$3:$C$2508,C209)","v":0},{"$f":"SUMIFS('Lager antal'!$F$3:$F$2508,'Lager antal'!$B$3:$B$2508,B209,'Lager antal'!$C$3:$C$2508,C209)","v":0},{"$f":"IF(ISNA(VLOOKUP($C209,'Lager antal'!$C$3:$K$508,9,FALSE))=TRUE,\"\",VLOOKUP($C209,'Lager antal'!$C$3:$K$508,9,FALSE))","v":""},{"$f":"IFERROR(INDEX(Lageromsætning!$P$3:$P$79,SMALL(IF(Lageromsætning!$A$3:$A$79=$A$2,ROW(Lageromsætning!$A$3:$A$79)-CELL(\"row\",Lageromsætning!$A$3:$A$79)+1),ROWS($2:207))),\"\")","v":""},{"$f":"+_xlfn.IFS($M209>=0.01,$M209,TRUE,0)-$F209-K209+G209","v":0},{"$f":"SUMIFS('Lager antal'!$G$3:$G$2508,'Lager antal'!$B$3:$B$2508,B209,'Lager antal'!$C$3:$C$2508,C209)","v":0},null,0,{"$f":"SUMIFS(Lageromsætning!$R$3:$R$79,Lageromsætning!$A$3:$A$79,$A$2,Lageromsætning!$C$3:$C$79,B209,Lageromsætning!$D$3:$D$79,C209)","v":0},{"$f":"SUMIFS(Lageromsætning!$S$3:$S$79,Lageromsætning!$C$3:$C$79,B209,Lageromsætning!$D$3:$D$79,C209)","v":0}]
[{"$f":"IFERROR(INDEX(Lageromsætning!$A$3:$A$79,SMALL(IF(Lageromsætning!$A$3:$A$79=$A$2,ROW(Lageromsætning!$A$3:$A$79)-CELL(\"row\",Lageromsætning!$A$3:$A$79)+1),ROWS($1:207))),\"\")","v":""},{"$f":"IFERROR(INDEX(Lageromsætning!$C$3:$C$79,SMALL(IF(Lageromsætning!$A$3:$A$79=$A$2,ROW(Lageromsætning!$A$3:$A$79)-CELL(\"row\",Lageromsætning!$A$3:$A$79)+1),ROWS($2:208))),\"\")","v":""},{"$f":"IFERROR(INDEX(Lageromsætning!$D$3:$D$79,SMALL(IF(Lageromsætning!$A$3:$A$79=$A$2,ROW(Lageromsætning!$A$3:$A$79)-CELL(\"row\",Lageromsætning!$A$3:$A$79)+1),ROWS($2:208))),\"\")","v":""},{"$f":"IFERROR(INDEX(Lageromsætning!$E$3:$E$79,SMALL(IF(Lageromsætning!$A$3:$A$79=$A$2,ROW(Lageromsætning!$A$3:$A$79)-CELL(\"row\",Lageromsætning!$A$3:$A$79)+1),ROWS($2:208))),\"\")","v":""},{"$f":"IFERROR(INDEX(Lageromsætning!$AF$3:$AF$79,SMALL(IF(Lageromsætning!$A$3:$A$79=$A$2,ROW(Lageromsætning!$A$3:$A$79)-CELL(\"row\",Lageromsætning!$A$3:$A$79)+1),ROWS($2:208))),\"\")","v":""},{"$f":"SUMIFS('Lager antal'!$D$3:$D$2508,'Lager antal'!$B$3:$B$2508,B210,'Lager antal'!$C$3:$C$2508,C210)","v":0},{"$f":"SUMIFS('Lager antal'!$F$3:$F$2508,'Lager antal'!$B$3:$B$2508,B210,'Lager antal'!$C$3:$C$2508,C210)","v":0},{"$f":"IF(ISNA(VLOOKUP($C210,'Lager antal'!$C$3:$K$508,9,FALSE))=TRUE,\"\",VLOOKUP($C210,'Lager antal'!$C$3:$K$508,9,FALSE))","v":""},{"$f":"IFERROR(INDEX(Lageromsætning!$P$3:$P$79,SMALL(IF(Lageromsætning!$A$3:$A$79=$A$2,ROW(Lageromsætning!$A$3:$A$79)-CELL(\"row\",Lageromsætning!$A$3:$A$79)+1),ROWS($2:208))),\"\")","v":""},{"$f":"+_xlfn.IFS($M210>=0.01,$M210,TRUE,0)-$F210-K210+G210","v":0},{"$f":"SUMIFS('Lager antal'!$G$3:$G$2508,'Lager antal'!$B$3:$B$2508,B210,'Lager antal'!$C$3:$C$2508,C210)","v":0},null,0,{"$f":"SUMIFS(Lageromsætning!$R$3:$R$79,Lageromsætning!$A$3:$A$79,$A$2,Lageromsætning!$C$3:$C$79,B210,Lageromsætning!$D$3:$D$79,C210)","v":0},{"$f":"SUMIFS(Lageromsætning!$S$3:$S$79,Lageromsætning!$C$3:$C$79,B210,Lageromsætning!$D$3:$D$79,C210)","v":0}]
[{"$f":"IFERROR(INDEX(Lageromsætning!$A$3:$A$79,SMALL(IF(Lageromsætning!$A$3:$A$79=$A$2,ROW(Lageromsætning!$A$3:$A$79)-CELL(\"row\",Lageromsætning!$A$3:$A$79)+1),ROWS($1:208))),\"\")","v":""},{"$f":"IFERROR(INDEX(Lageromsætning!$C$3:$C$79,SMALL(IF(Lageromsætning!$A$3:$A$79=$A$2,ROW(Lageromsætning!$A$3:$A$79)-CELL(\"row\",Lageromsætning!$A$3:$A$79)+1),ROWS($2:209))),\"\")","v":""},{"$f":"IFERROR(INDEX(Lageromsætning!$D$3:$D$79,SMALL(IF(Lageromsætning!$A$3:$A$79=$A$2,ROW(Lageromsætning!$A$3:$A$79)-CELL(\"row\",Lageromsætning!$A$3:$A$79)+1),ROWS($2:209))),\"\")","v":""},{"$f":"IFERROR(INDEX(Lageromsætning!$E$3:$E$79,SMALL(IF(Lageromsætning!$A$3:$A$79=$A$2,ROW(Lageromsætning!$A$3:$A$79)-CELL(\"row\",Lageromsætning!$A$3:$A$79)+1),ROWS($2:209))),\"\")","v":""},{"$f":"IFERROR(INDEX(Lageromsætning!$AF$3:$AF$79,SMALL(IF(Lageromsætning!$A$3:$A$79=$A$2,ROW(Lageromsætning!$A$3:$A$79)-CELL(\"row\",Lageromsætning!$A$3:$A$79)+1),ROWS($2:209))),\"\")","v":""},{"$f":"SUMIFS('Lager antal'!$D$3:$D$2508,'Lager antal'!$B$3:$B$2508,B211,'Lager antal'!$C$3:$C$2508,C211)","v":0},{"$f":"SUMIFS('Lager antal'!$F$3:$F$2508,'Lager antal'!$B$3:$B$2508,B211,'Lager antal'!$C$3:$C$2508,C211)","v":0},{"$f":"IF(ISNA(VLOOKUP($C211,'Lager antal'!$C$3:$K$508,9,FALSE))=TRUE,\"\",VLOOKUP($C211,'Lager antal'!$C$3:$K$508,9,FALSE))","v":""},{"$f":"IFERROR(INDEX(Lageromsætning!$P$3:$P$79,SMALL(IF(Lageromsætning!$A$3:$A$79=$A$2,ROW(Lageromsætning!$A$3:$A$79)-CELL(\"row\",Lageromsætning!$A$3:$A$79)+1),ROWS($2:209))),\"\")","v":""},{"$f":"+_xlfn.IFS($M211>=0.01,$M211,TRUE,0)-$F211-K211+G211","v":0},{"$f":"SUMIFS('Lager antal'!$G$3:$G$2508,'Lager antal'!$B$3:$B$2508,B211,'Lager antal'!$C$3:$C$2508,C211)","v":0},null,0,{"$f":"SUMIFS(Lageromsætning!$R$3:$R$79,Lageromsætning!$A$3:$A$79,$A$2,Lageromsætning!$C$3:$C$79,B211,Lageromsætning!$D$3:$D$79,C211)","v":0},{"$f":"SUMIFS(Lageromsætning!$S$3:$S$79,Lageromsætning!$C$3:$C$79,B211,Lageromsætning!$D$3:$D$79,C211)","v":0}]
[{"$f":"IFERROR(INDEX(Lageromsætning!$A$3:$A$79,SMALL(IF(Lageromsætning!$A$3:$A$79=$A$2,ROW(Lageromsætning!$A$3:$A$79)-CELL(\"row\",Lageromsætning!$A$3:$A$79)+1),ROWS($1:209))),\"\")","v":""},{"$f":"IFERROR(INDEX(Lageromsætning!$C$3:$C$79,SMALL(IF(Lageromsætning!$A$3:$A$79=$A$2,ROW(Lageromsætning!$A$3:$A$79)-CELL(\"row\",Lageromsætning!$A$3:$A$79)+1),ROWS($2:210))),\"\")","v":""},{"$f":"IFERROR(INDEX(Lageromsætning!$D$3:$D$79,SMALL(IF(Lageromsætning!$A$3:$A$79=$A$2,ROW(Lageromsætning!$A$3:$A$79)-CELL(\"row\",Lageromsætning!$A$3:$A$79)+1),ROWS($2:210))),\"\")","v":""},{"$f":"IFERROR(INDEX(Lageromsætning!$E$3:$E$79,SMALL(IF(Lageromsætning!$A$3:$A$79=$A$2,ROW(Lageromsætning!$A$3:$A$79)-CELL(\"row\",Lageromsætning!$A$3:$A$79)+1),ROWS($2:210))),\"\")","v":""},{"$f":"IFERROR(INDEX(Lageromsætning!$AF$3:$AF$79,SMALL(IF(Lageromsætning!$A$3:$A$79=$A$2,ROW(Lageromsætning!$A$3:$A$79)-CELL(\"row\",Lageromsætning!$A$3:$A$79)+1),ROWS($2:210))),\"\")","v":""},{"$f":"SUMIFS('Lager antal'!$D$3:$D$2508,'Lager antal'!$B$3:$B$2508,B212,'Lager antal'!$C$3:$C$2508,C212)","v":0},{"$f":"SUMIFS('Lager antal'!$F$3:$F$2508,'Lager antal'!$B$3:$B$2508,B212,'Lager antal'!$C$3:$C$2508,C212)","v":0},{"$f":"IF(ISNA(VLOOKUP($C212,'Lager antal'!$C$3:$K$508,9,FALSE))=TRUE,\"\",VLOOKUP($C212,'Lager antal'!$C$3:$K$508,9,FALSE))","v":""},{"$f":"IFERROR(INDEX(Lageromsætning!$P$3:$P$79,SMALL(IF(Lageromsætning!$A$3:$A$79=$A$2,ROW(Lageromsætning!$A$3:$A$79)-CELL(\"row\",Lageromsætning!$A$3:$A$79)+1),ROWS($2:210))),\"\")","v":""},{"$f":"+_xlfn.IFS($M212>=0.01,$M212,TRUE,0)-$F212-K212+G212","v":0},{"$f":"SUMIFS('Lager antal'!$G$3:$G$2508,'Lager antal'!$B$3:$B$2508,B212,'Lager antal'!$C$3:$C$2508,C212)","v":0},null,0,{"$f":"SUMIFS(Lageromsætning!$R$3:$R$79,Lageromsætning!$A$3:$A$79,$A$2,Lageromsætning!$C$3:$C$79,B212,Lageromsætning!$D$3:$D$79,C212)","v":0},{"$f":"SUMIFS(Lageromsætning!$S$3:$S$79,Lageromsætning!$C$3:$C$79,B212,Lageromsætning!$D$3:$D$79,C212)","v":0}]
[{"$f":"IFERROR(INDEX(Lageromsætning!$A$3:$A$79,SMALL(IF(Lageromsætning!$A$3:$A$79=$A$2,ROW(Lageromsætning!$A$3:$A$79)-CELL(\"row\",Lageromsætning!$A$3:$A$79)+1),ROWS($1:210))),\"\")","v":""},{"$f":"IFERROR(INDEX(Lageromsætning!$C$3:$C$79,SMALL(IF(Lageromsætning!$A$3:$A$79=$A$2,ROW(Lageromsætning!$A$3:$A$79)-CELL(\"row\",Lageromsætning!$A$3:$A$79)+1),ROWS($2:211))),\"\")","v":""},{"$f":"IFERROR(INDEX(Lageromsætning!$D$3:$D$79,SMALL(IF(Lageromsætning!$A$3:$A$79=$A$2,ROW(Lageromsætning!$A$3:$A$79)-CELL(\"row\",Lageromsætning!$A$3:$A$79)+1),ROWS($2:211))),\"\")","v":""},{"$f":"IFERROR(INDEX(Lageromsætning!$E$3:$E$79,SMALL(IF(Lageromsætning!$A$3:$A$79=$A$2,ROW(Lageromsætning!$A$3:$A$79)-CELL(\"row\",Lageromsætning!$A$3:$A$79)+1),ROWS($2:211))),\"\")","v":""},{"$f":"IFERROR(INDEX(Lageromsætning!$AF$3:$AF$79,SMALL(IF(Lageromsætning!$A$3:$A$79=$A$2,ROW(Lageromsætning!$A$3:$A$79)-CELL(\"row\",Lageromsætning!$A$3:$A$79)+1),ROWS($2:211))),\"\")","v":""},{"$f":"SUMIFS('Lager antal'!$D$3:$D$2508,'Lager antal'!$B$3:$B$2508,B213,'Lager antal'!$C$3:$C$2508,C213)","v":0},{"$f":"SUMIFS('Lager antal'!$F$3:$F$2508,'Lager antal'!$B$3:$B$2508,B213,'Lager antal'!$C$3:$C$2508,C213)","v":0},{"$f":"IF(ISNA(VLOOKUP($C213,'Lager antal'!$C$3:$K$508,9,FALSE))=TRUE,\"\",VLOOKUP($C213,'Lager antal'!$C$3:$K$508,9,FALSE))","v":""},{"$f":"IFERROR(INDEX(Lageromsætning!$P$3:$P$79,SMALL(IF(Lageromsætning!$A$3:$A$79=$A$2,ROW(Lageromsætning!$A$3:$A$79)-CELL(\"row\",Lageromsætning!$A$3:$A$79)+1),ROWS($2:211))),\"\")","v":""},{"$f":"+_xlfn.IFS($M213>=0.01,$M213,TRUE,0)-$F213-K213+G213","v":0},{"$f":"SUMIFS('Lager antal'!$G$3:$G$2508,'Lager antal'!$B$3:$B$2508,B213,'Lager antal'!$C$3:$C$2508,C213)","v":0},null,0,{"$f":"SUMIFS(Lageromsætning!$R$3:$R$79,Lageromsætning!$A$3:$A$79,$A$2,Lageromsætning!$C$3:$C$79,B213,Lageromsætning!$D$3:$D$79,C213)","v":0},{"$f":"SUMIFS(Lageromsætning!$S$3:$S$79,Lageromsætning!$C$3:$C$79,B213,Lageromsætning!$D$3:$D$79,C213)","v":0}]
[{"$f":"IFERROR(INDEX(Lageromsætning!$A$3:$A$79,SMALL(IF(Lageromsætning!$A$3:$A$79=$A$2,ROW(Lageromsætning!$A$3:$A$79)-CELL(\"row\",Lageromsætning!$A$3:$A$79)+1),ROWS($1:211))),\"\")","v":""},{"$f":"IFERROR(INDEX(Lageromsætning!$C$3:$C$79,SMALL(IF(Lageromsætning!$A$3:$A$79=$A$2,ROW(Lageromsætning!$A$3:$A$79)-CELL(\"row\",Lageromsætning!$A$3:$A$79)+1),ROWS($2:212))),\"\")","v":""},{"$f":"IFERROR(INDEX(Lageromsætning!$D$3:$D$79,SMALL(IF(Lageromsætning!$A$3:$A$79=$A$2,ROW(Lageromsætning!$A$3:$A$79)-CELL(\"row\",Lageromsætning!$A$3:$A$79)+1),ROWS($2:212))),\"\")","v":""},{"$f":"IFERROR(INDEX(Lageromsætning!$E$3:$E$79,SMALL(IF(Lageromsætning!$A$3:$A$79=$A$2,ROW(Lageromsætning!$A$3:$A$79)-CELL(\"row\",Lageromsætning!$A$3:$A$79)+1),ROWS($2:212))),\"\")","v":""},{"$f":"IFERROR(INDEX(Lageromsætning!$AF$3:$AF$79,SMALL(IF(Lageromsætning!$A$3:$A$79=$A$2,ROW(Lageromsætning!$A$3:$A$79)-CELL(\"row\",Lageromsætning!$A$3:$A$79)+1),ROWS($2:212))),\"\")","v":""},{"$f":"SUMIFS('Lager antal'!$D$3:$D$2508,'Lager antal'!$B$3:$B$2508,B214,'Lager antal'!$C$3:$C$2508,C214)","v":0},{"$f":"SUMIFS('Lager antal'!$F$3:$F$2508,'Lager antal'!$B$3:$B$2508,B214,'Lager antal'!$C$3:$C$2508,C214)","v":0},{"$f":"IF(ISNA(VLOOKUP($C214,'Lager antal'!$C$3:$K$508,9,FALSE))=TRUE,\"\",VLOOKUP($C214,'Lager antal'!$C$3:$K$508,9,FALSE))","v":""},{"$f":"IFERROR(INDEX(Lageromsætning!$P$3:$P$79,SMALL(IF(Lageromsætning!$A$3:$A$79=$A$2,ROW(Lageromsætning!$A$3:$A$79)-CELL(\"row\",Lageromsætning!$A$3:$A$79)+1),ROWS($2:212))),\"\")","v":""},{"$f":"+_xlfn.IFS($M214>=0.01,$M214,TRUE,0)-$F214-K214+G214","v":0},{"$f":"SUMIFS('Lager antal'!$G$3:$G$2508,'Lager antal'!$B$3:$B$2508,B214,'Lager antal'!$C$3:$C$2508,C214)","v":0},null,0,{"$f":"SUMIFS(Lageromsætning!$R$3:$R$79,Lageromsætning!$A$3:$A$79,$A$2,Lageromsætning!$C$3:$C$79,B214,Lageromsætning!$D$3:$D$79,C214)","v":0},{"$f":"SUMIFS(Lageromsætning!$S$3:$S$79,Lageromsætning!$C$3:$C$79,B214,Lageromsætning!$D$3:$D$79,C214)","v":0}]
[{"$f":"IFERROR(INDEX(Lageromsætning!$A$3:$A$79,SMALL(IF(Lageromsætning!$A$3:$A$79=$A$2,ROW(Lageromsætning!$A$3:$A$79)-CELL(\"row\",Lageromsætning!$A$3:$A$79)+1),ROWS($1:212))),\"\")","v":""},{"$f":"IFERROR(INDEX(Lageromsætning!$C$3:$C$79,SMALL(IF(Lageromsætning!$A$3:$A$79=$A$2,ROW(Lageromsætning!$A$3:$A$79)-CELL(\"row\",Lageromsætning!$A$3:$A$79)+1),ROWS($2:213))),\"\")","v":""},{"$f":"IFERROR(INDEX(Lageromsætning!$D$3:$D$79,SMALL(IF(Lageromsætning!$A$3:$A$79=$A$2,ROW(Lageromsætning!$A$3:$A$79)-CELL(\"row\",Lageromsætning!$A$3:$A$79)+1),ROWS($2:213))),\"\")","v":""},{"$f":"IFERROR(INDEX(Lageromsætning!$E$3:$E$79,SMALL(IF(Lageromsætning!$A$3:$A$79=$A$2,ROW(Lageromsætning!$A$3:$A$79)-CELL(\"row\",Lageromsætning!$A$3:$A$79)+1),ROWS($2:213))),\"\")","v":""},{"$f":"IFERROR(INDEX(Lageromsætning!$AF$3:$AF$79,SMALL(IF(Lageromsætning!$A$3:$A$79=$A$2,ROW(Lageromsætning!$A$3:$A$79)-CELL(\"row\",Lageromsætning!$A$3:$A$79)+1),ROWS($2:213))),\"\")","v":""},{"$f":"SUMIFS('Lager antal'!$D$3:$D$2508,'Lager antal'!$B$3:$B$2508,B215,'Lager antal'!$C$3:$C$2508,C215)","v":0},{"$f":"SUMIFS('Lager antal'!$F$3:$F$2508,'Lager antal'!$B$3:$B$2508,B215,'Lager antal'!$C$3:$C$2508,C215)","v":0},{"$f":"IF(ISNA(VLOOKUP($C215,'Lager antal'!$C$3:$K$508,9,FALSE))=TRUE,\"\",VLOOKUP($C215,'Lager antal'!$C$3:$K$508,9,FALSE))","v":""},{"$f":"IFERROR(INDEX(Lageromsætning!$P$3:$P$79,SMALL(IF(Lageromsætning!$A$3:$A$79=$A$2,ROW(Lageromsætning!$A$3:$A$79)-CELL(\"row\",Lageromsætning!$A$3:$A$79)+1),ROWS($2:213))),\"\")","v":""},{"$f":"+_xlfn.IFS($M215>=0.01,$M215,TRUE,0)-$F215-K215+G215","v":0},{"$f":"SUMIFS('Lager antal'!$G$3:$G$2508,'Lager antal'!$B$3:$B$2508,B215,'Lager antal'!$C$3:$C$2508,C215)","v":0},null,0,{"$f":"SUMIFS(Lageromsætning!$R$3:$R$79,Lageromsætning!$A$3:$A$79,$A$2,Lageromsætning!$C$3:$C$79,B215,Lageromsætning!$D$3:$D$79,C215)","v":0},{"$f":"SUMIFS(Lageromsætning!$S$3:$S$79,Lageromsætning!$C$3:$C$79,B215,Lageromsætning!$D$3:$D$79,C215)","v":0}]
[{"$f":"IFERROR(INDEX(Lageromsætning!$A$3:$A$79,SMALL(IF(Lageromsætning!$A$3:$A$79=$A$2,ROW(Lageromsætning!$A$3:$A$79)-CELL(\"row\",Lageromsætning!$A$3:$A$79)+1),ROWS($1:213))),\"\")","v":""},{"$f":"IFERROR(INDEX(Lageromsætning!$C$3:$C$79,SMALL(IF(Lageromsætning!$A$3:$A$79=$A$2,ROW(Lageromsætning!$A$3:$A$79)-CELL(\"row\",Lageromsætning!$A$3:$A$79)+1),ROWS($2:214))),\"\")","v":""},{"$f":"IFERROR(INDEX(Lageromsætning!$D$3:$D$79,SMALL(IF(Lageromsætning!$A$3:$A$79=$A$2,ROW(Lageromsætning!$A$3:$A$79)-CELL(\"row\",Lageromsætning!$A$3:$A$79)+1),ROWS($2:214))),\"\")","v":""},{"$f":"IFERROR(INDEX(Lageromsætning!$E$3:$E$79,SMALL(IF(Lageromsætning!$A$3:$A$79=$A$2,ROW(Lageromsætning!$A$3:$A$79)-CELL(\"row\",Lageromsætning!$A$3:$A$79)+1),ROWS($2:214))),\"\")","v":""},{"$f":"IFERROR(INDEX(Lageromsætning!$AF$3:$AF$79,SMALL(IF(Lageromsætning!$A$3:$A$79=$A$2,ROW(Lageromsætning!$A$3:$A$79)-CELL(\"row\",Lageromsætning!$A$3:$A$79)+1),ROWS($2:214))),\"\")","v":""},{"$f":"SUMIFS('Lager antal'!$D$3:$D$2508,'Lager antal'!$B$3:$B$2508,B216,'Lager antal'!$C$3:$C$2508,C216)","v":0},{"$f":"SUMIFS('Lager antal'!$F$3:$F$2508,'Lager antal'!$B$3:$B$2508,B216,'Lager antal'!$C$3:$C$2508,C216)","v":0},{"$f":"IF(ISNA(VLOOKUP($C216,'Lager antal'!$C$3:$K$508,9,FALSE))=TRUE,\"\",VLOOKUP($C216,'Lager antal'!$C$3:$K$508,9,FALSE))","v":""},{"$f":"IFERROR(INDEX(Lageromsætning!$P$3:$P$79,SMALL(IF(Lageromsætning!$A$3:$A$79=$A$2,ROW(Lageromsætning!$A$3:$A$79)-CELL(\"row\",Lageromsætning!$A$3:$A$79)+1),ROWS($2:214))),\"\")","v":""},{"$f":"+_xlfn.IFS($M216>=0.01,$M216,TRUE,0)-$F216-K216+G216","v":0},{"$f":"SUMIFS('Lager antal'!$G$3:$G$2508,'Lager antal'!$B$3:$B$2508,B216,'Lager antal'!$C$3:$C$2508,C216)","v":0},null,0,{"$f":"SUMIFS(Lageromsætning!$R$3:$R$79,Lageromsætning!$A$3:$A$79,$A$2,Lageromsætning!$C$3:$C$79,B216,Lageromsætning!$D$3:$D$79,C216)","v":0},{"$f":"SUMIFS(Lageromsætning!$S$3:$S$79,Lageromsætning!$C$3:$C$79,B216,Lageromsætning!$D$3:$D$79,C216)","v":0}]
[{"$f":"IFERROR(INDEX(Lageromsætning!$A$3:$A$79,SMALL(IF(Lageromsætning!$A$3:$A$79=$A$2,ROW(Lageromsætning!$A$3:$A$79)-CELL(\"row\",Lageromsætning!$A$3:$A$79)+1),ROWS($1:214))),\"\")","v":""},{"$f":"IFERROR(INDEX(Lageromsætning!$C$3:$C$79,SMALL(IF(Lageromsætning!$A$3:$A$79=$A$2,ROW(Lageromsætning!$A$3:$A$79)-CELL(\"row\",Lageromsætning!$A$3:$A$79)+1),ROWS($2:215))),\"\")","v":""},{"$f":"IFERROR(INDEX(Lageromsætning!$D$3:$D$79,SMALL(IF(Lageromsætning!$A$3:$A$79=$A$2,ROW(Lageromsætning!$A$3:$A$79)-CELL(\"row\",Lageromsætning!$A$3:$A$79)+1),ROWS($2:215))),\"\")","v":""},{"$f":"IFERROR(INDEX(Lageromsætning!$E$3:$E$79,SMALL(IF(Lageromsætning!$A$3:$A$79=$A$2,ROW(Lageromsætning!$A$3:$A$79)-CELL(\"row\",Lageromsætning!$A$3:$A$79)+1),ROWS($2:215))),\"\")","v":""},{"$f":"IFERROR(INDEX(Lageromsætning!$AF$3:$AF$79,SMALL(IF(Lageromsætning!$A$3:$A$79=$A$2,ROW(Lageromsætning!$A$3:$A$79)-CELL(\"row\",Lageromsætning!$A$3:$A$79)+1),ROWS($2:215))),\"\")","v":""},{"$f":"SUMIFS('Lager antal'!$D$3:$D$2508,'Lager antal'!$B$3:$B$2508,B217,'Lager antal'!$C$3:$C$2508,C217)","v":0},{"$f":"SUMIFS('Lager antal'!$F$3:$F$2508,'Lager antal'!$B$3:$B$2508,B217,'Lager antal'!$C$3:$C$2508,C217)","v":0},{"$f":"IF(ISNA(VLOOKUP($C217,'Lager antal'!$C$3:$K$508,9,FALSE))=TRUE,\"\",VLOOKUP($C217,'Lager antal'!$C$3:$K$508,9,FALSE))","v":""},{"$f":"IFERROR(INDEX(Lageromsætning!$P$3:$P$79,SMALL(IF(Lageromsætning!$A$3:$A$79=$A$2,ROW(Lageromsætning!$A$3:$A$79)-CELL(\"row\",Lageromsætning!$A$3:$A$79)+1),ROWS($2:215))),\"\")","v":""},{"$f":"+_xlfn.IFS($M217>=0.01,$M217,TRUE,0)-$F217-K217+G217","v":0},{"$f":"SUMIFS('Lager antal'!$G$3:$G$2508,'Lager antal'!$B$3:$B$2508,B217,'Lager antal'!$C$3:$C$2508,C217)","v":0},null,0,{"$f":"SUMIFS(Lageromsætning!$R$3:$R$79,Lageromsætning!$A$3:$A$79,$A$2,Lageromsætning!$C$3:$C$79,B217,Lageromsætning!$D$3:$D$79,C217)","v":0},{"$f":"SUMIFS(Lageromsætning!$S$3:$S$79,Lageromsætning!$C$3:$C$79,B217,Lageromsætning!$D$3:$D$79,C217)","v":0}]
[{"$f":"IFERROR(INDEX(Lageromsætning!$A$3:$A$79,SMALL(IF(Lageromsætning!$A$3:$A$79=$A$2,ROW(Lageromsætning!$A$3:$A$79)-CELL(\"row\",Lageromsætning!$A$3:$A$79)+1),ROWS($1:215))),\"\")","v":""},{"$f":"IFERROR(INDEX(Lageromsætning!$C$3:$C$79,SMALL(IF(Lageromsætning!$A$3:$A$79=$A$2,ROW(Lageromsætning!$A$3:$A$79)-CELL(\"row\",Lageromsætning!$A$3:$A$79)+1),ROWS($2:216))),\"\")","v":""},{"$f":"IFERROR(INDEX(Lageromsætning!$D$3:$D$79,SMALL(IF(Lageromsætning!$A$3:$A$79=$A$2,ROW(Lageromsætning!$A$3:$A$79)-CELL(\"row\",Lageromsætning!$A$3:$A$79)+1),ROWS($2:216))),\"\")","v":""},{"$f":"IFERROR(INDEX(Lageromsætning!$E$3:$E$79,SMALL(IF(Lageromsætning!$A$3:$A$79=$A$2,ROW(Lageromsætning!$A$3:$A$79)-CELL(\"row\",Lageromsætning!$A$3:$A$79)+1),ROWS($2:216))),\"\")","v":""},{"$f":"IFERROR(INDEX(Lageromsætning!$AF$3:$AF$79,SMALL(IF(Lageromsætning!$A$3:$A$79=$A$2,ROW(Lageromsætning!$A$3:$A$79)-CELL(\"row\",Lageromsætning!$A$3:$A$79)+1),ROWS($2:216))),\"\")","v":""},{"$f":"SUMIFS('Lager antal'!$D$3:$D$2508,'Lager antal'!$B$3:$B$2508,B218,'Lager antal'!$C$3:$C$2508,C218)","v":0},{"$f":"SUMIFS('Lager antal'!$F$3:$F$2508,'Lager antal'!$B$3:$B$2508,B218,'Lager antal'!$C$3:$C$2508,C218)","v":0},{"$f":"IF(ISNA(VLOOKUP($C218,'Lager antal'!$C$3:$K$508,9,FALSE))=TRUE,\"\",VLOOKUP($C218,'Lager antal'!$C$3:$K$508,9,FALSE))","v":""},{"$f":"IFERROR(INDEX(Lageromsætning!$P$3:$P$79,SMALL(IF(Lageromsætning!$A$3:$A$79=$A$2,ROW(Lageromsætning!$A$3:$A$79)-CELL(\"row\",Lageromsætning!$A$3:$A$79)+1),ROWS($2:216))),\"\")","v":""},{"$f":"+_xlfn.IFS($M218>=0.01,$M218,TRUE,0)-$F218-K218+G218","v":0},{"$f":"SUMIFS('Lager antal'!$G$3:$G$2508,'Lager antal'!$B$3:$B$2508,B218,'Lager antal'!$C$3:$C$2508,C218)","v":0},null,0,{"$f":"SUMIFS(Lageromsætning!$R$3:$R$79,Lageromsætning!$A$3:$A$79,$A$2,Lageromsætning!$C$3:$C$79,B218,Lageromsætning!$D$3:$D$79,C218)","v":0},{"$f":"SUMIFS(Lageromsætning!$S$3:$S$79,Lageromsætning!$C$3:$C$79,B218,Lageromsætning!$D$3:$D$79,C218)","v":0}]
[{"$f":"IFERROR(INDEX(Lageromsætning!$A$3:$A$79,SMALL(IF(Lageromsætning!$A$3:$A$79=$A$2,ROW(Lageromsætning!$A$3:$A$79)-CELL(\"row\",Lageromsætning!$A$3:$A$79)+1),ROWS($1:216))),\"\")","v":""},{"$f":"IFERROR(INDEX(Lageromsætning!$C$3:$C$79,SMALL(IF(Lageromsætning!$A$3:$A$79=$A$2,ROW(Lageromsætning!$A$3:$A$79)-CELL(\"row\",Lageromsætning!$A$3:$A$79)+1),ROWS($2:217))),\"\")","v":""},{"$f":"IFERROR(INDEX(Lageromsætning!$D$3:$D$79,SMALL(IF(Lageromsætning!$A$3:$A$79=$A$2,ROW(Lageromsætning!$A$3:$A$79)-CELL(\"row\",Lageromsætning!$A$3:$A$79)+1),ROWS($2:217))),\"\")","v":""},{"$f":"IFERROR(INDEX(Lageromsætning!$E$3:$E$79,SMALL(IF(Lageromsætning!$A$3:$A$79=$A$2,ROW(Lageromsætning!$A$3:$A$79)-CELL(\"row\",Lageromsætning!$A$3:$A$79)+1),ROWS($2:217))),\"\")","v":""},{"$f":"IFERROR(INDEX(Lageromsætning!$AF$3:$AF$79,SMALL(IF(Lageromsætning!$A$3:$A$79=$A$2,ROW(Lageromsætning!$A$3:$A$79)-CELL(\"row\",Lageromsætning!$A$3:$A$79)+1),ROWS($2:217))),\"\")","v":""},{"$f":"SUMIFS('Lager antal'!$D$3:$D$2508,'Lager antal'!$B$3:$B$2508,B219,'Lager antal'!$C$3:$C$2508,C219)","v":0},{"$f":"SUMIFS('Lager antal'!$F$3:$F$2508,'Lager antal'!$B$3:$B$2508,B219,'Lager antal'!$C$3:$C$2508,C219)","v":0},{"$f":"IF(ISNA(VLOOKUP($C219,'Lager antal'!$C$3:$K$508,9,FALSE))=TRUE,\"\",VLOOKUP($C219,'Lager antal'!$C$3:$K$508,9,FALSE))","v":""},{"$f":"IFERROR(INDEX(Lageromsætning!$P$3:$P$79,SMALL(IF(Lageromsætning!$A$3:$A$79=$A$2,ROW(Lageromsætning!$A$3:$A$79)-CELL(\"row\",Lageromsætning!$A$3:$A$79)+1),ROWS($2:217))),\"\")","v":""},{"$f":"+_xlfn.IFS($M219>=0.01,$M219,TRUE,0)-$F219-K219+G219","v":0},{"$f":"SUMIFS('Lager antal'!$G$3:$G$2508,'Lager antal'!$B$3:$B$2508,B219,'Lager antal'!$C$3:$C$2508,C219)","v":0},null,0,{"$f":"SUMIFS(Lageromsætning!$R$3:$R$79,Lageromsætning!$A$3:$A$79,$A$2,Lageromsætning!$C$3:$C$79,B219,Lageromsætning!$D$3:$D$79,C219)","v":0},{"$f":"SUMIFS(Lageromsætning!$S$3:$S$79,Lageromsætning!$C$3:$C$79,B219,Lageromsætning!$D$3:$D$79,C219)","v":0}]
[{"$f":"IFERROR(INDEX(Lageromsætning!$A$3:$A$79,SMALL(IF(Lageromsætning!$A$3:$A$79=$A$2,ROW(Lageromsætning!$A$3:$A$79)-CELL(\"row\",Lageromsætning!$A$3:$A$79)+1),ROWS($1:217))),\"\")","v":""},{"$f":"IFERROR(INDEX(Lageromsætning!$C$3:$C$79,SMALL(IF(Lageromsætning!$A$3:$A$79=$A$2,ROW(Lageromsætning!$A$3:$A$79)-CELL(\"row\",Lageromsætning!$A$3:$A$79)+1),ROWS($2:218))),\"\")","v":""},{"$f":"IFERROR(INDEX(Lageromsætning!$D$3:$D$79,SMALL(IF(Lageromsætning!$A$3:$A$79=$A$2,ROW(Lageromsætning!$A$3:$A$79)-CELL(\"row\",Lageromsætning!$A$3:$A$79)+1),ROWS($2:218))),\"\")","v":""},{"$f":"IFERROR(INDEX(Lageromsætning!$E$3:$E$79,SMALL(IF(Lageromsætning!$A$3:$A$79=$A$2,ROW(Lageromsætning!$A$3:$A$79)-CELL(\"row\",Lageromsætning!$A$3:$A$79)+1),ROWS($2:218))),\"\")","v":""},{"$f":"IFERROR(INDEX(Lageromsætning!$AF$3:$AF$79,SMALL(IF(Lageromsætning!$A$3:$A$79=$A$2,ROW(Lageromsætning!$A$3:$A$79)-CELL(\"row\",Lageromsætning!$A$3:$A$79)+1),ROWS($2:218))),\"\")","v":""},{"$f":"SUMIFS('Lager antal'!$D$3:$D$2508,'Lager antal'!$B$3:$B$2508,B220,'Lager antal'!$C$3:$C$2508,C220)","v":0},{"$f":"SUMIFS('Lager antal'!$F$3:$F$2508,'Lager antal'!$B$3:$B$2508,B220,'Lager antal'!$C$3:$C$2508,C220)","v":0},{"$f":"IF(ISNA(VLOOKUP($C220,'Lager antal'!$C$3:$K$508,9,FALSE))=TRUE,\"\",VLOOKUP($C220,'Lager antal'!$C$3:$K$508,9,FALSE))","v":""},{"$f":"IFERROR(INDEX(Lageromsætning!$P$3:$P$79,SMALL(IF(Lageromsætning!$A$3:$A$79=$A$2,ROW(Lageromsætning!$A$3:$A$79)-CELL(\"row\",Lageromsætning!$A$3:$A$79)+1),ROWS($2:218))),\"\")","v":""},{"$f":"+_xlfn.IFS($M220>=0.01,$M220,TRUE,0)-$F220-K220+G220","v":0},{"$f":"SUMIFS('Lager antal'!$G$3:$G$2508,'Lager antal'!$B$3:$B$2508,B220,'Lager antal'!$C$3:$C$2508,C220)","v":0},null,0,{"$f":"SUMIFS(Lageromsætning!$R$3:$R$79,Lageromsætning!$A$3:$A$79,$A$2,Lageromsætning!$C$3:$C$79,B220,Lageromsætning!$D$3:$D$79,C220)","v":0},{"$f":"SUMIFS(Lageromsætning!$S$3:$S$79,Lageromsætning!$C$3:$C$79,B220,Lageromsætning!$D$3:$D$79,C220)","v":0}]
[{"$f":"IFERROR(INDEX(Lageromsætning!$A$3:$A$79,SMALL(IF(Lageromsætning!$A$3:$A$79=$A$2,ROW(Lageromsætning!$A$3:$A$79)-CELL(\"row\",Lageromsætning!$A$3:$A$79)+1),ROWS($1:218))),\"\")","v":""},{"$f":"IFERROR(INDEX(Lageromsætning!$C$3:$C$79,SMALL(IF(Lageromsætning!$A$3:$A$79=$A$2,ROW(Lageromsætning!$A$3:$A$79)-CELL(\"row\",Lageromsætning!$A$3:$A$79)+1),ROWS($2:219))),\"\")","v":""},{"$f":"IFERROR(INDEX(Lageromsætning!$D$3:$D$79,SMALL(IF(Lageromsætning!$A$3:$A$79=$A$2,ROW(Lageromsætning!$A$3:$A$79)-CELL(\"row\",Lageromsætning!$A$3:$A$79)+1),ROWS($2:219))),\"\")","v":""},{"$f":"IFERROR(INDEX(Lageromsætning!$E$3:$E$79,SMALL(IF(Lageromsætning!$A$3:$A$79=$A$2,ROW(Lageromsætning!$A$3:$A$79)-CELL(\"row\",Lageromsætning!$A$3:$A$79)+1),ROWS($2:219))),\"\")","v":""},{"$f":"IFERROR(INDEX(Lageromsætning!$AF$3:$AF$79,SMALL(IF(Lageromsætning!$A$3:$A$79=$A$2,ROW(Lageromsætning!$A$3:$A$79)-CELL(\"row\",Lageromsætning!$A$3:$A$79)+1),ROWS($2:219))),\"\")","v":""},{"$f":"SUMIFS('Lager antal'!$D$3:$D$2508,'Lager antal'!$B$3:$B$2508,B221,'Lager antal'!$C$3:$C$2508,C221)","v":0},{"$f":"SUMIFS('Lager antal'!$F$3:$F$2508,'Lager antal'!$B$3:$B$2508,B221,'Lager antal'!$C$3:$C$2508,C221)","v":0},{"$f":"IF(ISNA(VLOOKUP($C221,'Lager antal'!$C$3:$K$508,9,FALSE))=TRUE,\"\",VLOOKUP($C221,'Lager antal'!$C$3:$K$508,9,FALSE))","v":""},{"$f":"IFERROR(INDEX(Lageromsætning!$P$3:$P$79,SMALL(IF(Lageromsætning!$A$3:$A$79=$A$2,ROW(Lageromsætning!$A$3:$A$79)-CELL(\"row\",Lageromsætning!$A$3:$A$79)+1),ROWS($2:219))),\"\")","v":""},{"$f":"+_xlfn.IFS($M221>=0.01,$M221,TRUE,0)-$F221-K221+G221","v":0},{"$f":"SUMIFS('Lager antal'!$G$3:$G$2508,'Lager antal'!$B$3:$B$2508,B221,'Lager antal'!$C$3:$C$2508,C221)","v":0},null,0,{"$f":"SUMIFS(Lageromsætning!$R$3:$R$79,Lageromsætning!$A$3:$A$79,$A$2,Lageromsætning!$C$3:$C$79,B221,Lageromsætning!$D$3:$D$79,C221)","v":0},{"$f":"SUMIFS(Lageromsætning!$S$3:$S$79,Lageromsætning!$C$3:$C$79,B221,Lageromsætning!$D$3:$D$79,C221)","v":0}]
[{"$f":"IFERROR(INDEX(Lageromsætning!$A$3:$A$79,SMALL(IF(Lageromsætning!$A$3:$A$79=$A$2,ROW(Lageromsætning!$A$3:$A$79)-CELL(\"row\",Lageromsætning!$A$3:$A$79)+1),ROWS($1:219))),\"\")","v":""},{"$f":"IFERROR(INDEX(Lageromsætning!$C$3:$C$79,SMALL(IF(Lageromsætning!$A$3:$A$79=$A$2,ROW(Lageromsætning!$A$3:$A$79)-CELL(\"row\",Lageromsætning!$A$3:$A$79)+1),ROWS($2:220))),\"\")","v":""},{"$f":"IFERROR(INDEX(Lageromsætning!$D$3:$D$79,SMALL(IF(Lageromsætning!$A$3:$A$79=$A$2,ROW(Lageromsætning!$A$3:$A$79)-CELL(\"row\",Lageromsætning!$A$3:$A$79)+1),ROWS($2:220))),\"\")","v":""},{"$f":"IFERROR(INDEX(Lageromsætning!$E$3:$E$79,SMALL(IF(Lageromsætning!$A$3:$A$79=$A$2,ROW(Lageromsætning!$A$3:$A$79)-CELL(\"row\",Lageromsætning!$A$3:$A$79)+1),ROWS($2:220))),\"\")","v":""},{"$f":"IFERROR(INDEX(Lageromsætning!$AF$3:$AF$79,SMALL(IF(Lageromsætning!$A$3:$A$79=$A$2,ROW(Lageromsætning!$A$3:$A$79)-CELL(\"row\",Lageromsætning!$A$3:$A$79)+1),ROWS($2:220))),\"\")","v":""},{"$f":"SUMIFS('Lager antal'!$D$3:$D$2508,'Lager antal'!$B$3:$B$2508,B222,'Lager antal'!$C$3:$C$2508,C222)","v":0},{"$f":"SUMIFS('Lager antal'!$F$3:$F$2508,'Lager antal'!$B$3:$B$2508,B222,'Lager antal'!$C$3:$C$2508,C222)","v":0},{"$f":"IF(ISNA(VLOOKUP($C222,'Lager antal'!$C$3:$K$508,9,FALSE))=TRUE,\"\",VLOOKUP($C222,'Lager antal'!$C$3:$K$508,9,FALSE))","v":""},{"$f":"IFERROR(INDEX(Lageromsætning!$P$3:$P$79,SMALL(IF(Lageromsætning!$A$3:$A$79=$A$2,ROW(Lageromsætning!$A$3:$A$79)-CELL(\"row\",Lageromsætning!$A$3:$A$79)+1),ROWS($2:220))),\"\")","v":""},{"$f":"+_xlfn.IFS($M222>=0.01,$M222,TRUE,0)-$F222-K222+G222","v":0},{"$f":"SUMIFS('Lager antal'!$G$3:$G$2508,'Lager antal'!$B$3:$B$2508,B222,'Lager antal'!$C$3:$C$2508,C222)","v":0},null,0,{"$f":"SUMIFS(Lageromsætning!$R$3:$R$79,Lageromsætning!$A$3:$A$79,$A$2,Lageromsætning!$C$3:$C$79,B222,Lageromsætning!$D$3:$D$79,C222)","v":0},{"$f":"SUMIFS(Lageromsætning!$S$3:$S$79,Lageromsætning!$C$3:$C$79,B222,Lageromsætning!$D$3:$D$79,C222)","v":0}]
[{"$f":"IFERROR(INDEX(Lageromsætning!$A$3:$A$79,SMALL(IF(Lageromsætning!$A$3:$A$79=$A$2,ROW(Lageromsætning!$A$3:$A$79)-CELL(\"row\",Lageromsætning!$A$3:$A$79)+1),ROWS($1:220))),\"\")","v":""},{"$f":"IFERROR(INDEX(Lageromsætning!$C$3:$C$79,SMALL(IF(Lageromsætning!$A$3:$A$79=$A$2,ROW(Lageromsætning!$A$3:$A$79)-CELL(\"row\",Lageromsætning!$A$3:$A$79)+1),ROWS($2:221))),\"\")","v":""},{"$f":"IFERROR(INDEX(Lageromsætning!$D$3:$D$79,SMALL(IF(Lageromsætning!$A$3:$A$79=$A$2,ROW(Lageromsætning!$A$3:$A$79)-CELL(\"row\",Lageromsætning!$A$3:$A$79)+1),ROWS($2:221))),\"\")","v":""},{"$f":"IFERROR(INDEX(Lageromsætning!$E$3:$E$79,SMALL(IF(Lageromsætning!$A$3:$A$79=$A$2,ROW(Lageromsætning!$A$3:$A$79)-CELL(\"row\",Lageromsætning!$A$3:$A$79)+1),ROWS($2:221))),\"\")","v":""},{"$f":"IFERROR(INDEX(Lageromsætning!$AF$3:$AF$79,SMALL(IF(Lageromsætning!$A$3:$A$79=$A$2,ROW(Lageromsætning!$A$3:$A$79)-CELL(\"row\",Lageromsætning!$A$3:$A$79)+1),ROWS($2:221))),\"\")","v":""},{"$f":"SUMIFS('Lager antal'!$D$3:$D$2508,'Lager antal'!$B$3:$B$2508,B223,'Lager antal'!$C$3:$C$2508,C223)","v":0},{"$f":"SUMIFS('Lager antal'!$F$3:$F$2508,'Lager antal'!$B$3:$B$2508,B223,'Lager antal'!$C$3:$C$2508,C223)","v":0},{"$f":"IF(ISNA(VLOOKUP($C223,'Lager antal'!$C$3:$K$508,9,FALSE))=TRUE,\"\",VLOOKUP($C223,'Lager antal'!$C$3:$K$508,9,FALSE))","v":""},{"$f":"IFERROR(INDEX(Lageromsætning!$P$3:$P$79,SMALL(IF(Lageromsætning!$A$3:$A$79=$A$2,ROW(Lageromsætning!$A$3:$A$79)-CELL(\"row\",Lageromsætning!$A$3:$A$79)+1),ROWS($2:221))),\"\")","v":""},{"$f":"+_xlfn.IFS($M223>=0.01,$M223,TRUE,0)-$F223-K223+G223","v":0},{"$f":"SUMIFS('Lager antal'!$G$3:$G$2508,'Lager antal'!$B$3:$B$2508,B223,'Lager antal'!$C$3:$C$2508,C223)","v":0},null,0,{"$f":"SUMIFS(Lageromsætning!$R$3:$R$79,Lageromsætning!$A$3:$A$79,$A$2,Lageromsætning!$C$3:$C$79,B223,Lageromsætning!$D$3:$D$79,C223)","v":0},{"$f":"SUMIFS(Lageromsætning!$S$3:$S$79,Lageromsætning!$C$3:$C$79,B223,Lageromsætning!$D$3:$D$79,C223)","v":0}]
[{"$f":"IFERROR(INDEX(Lageromsætning!$A$3:$A$79,SMALL(IF(Lageromsætning!$A$3:$A$79=$A$2,ROW(Lageromsætning!$A$3:$A$79)-CELL(\"row\",Lageromsætning!$A$3:$A$79)+1),ROWS($1:221))),\"\")","v":""},{"$f":"IFERROR(INDEX(Lageromsætning!$C$3:$C$79,SMALL(IF(Lageromsætning!$A$3:$A$79=$A$2,ROW(Lageromsætning!$A$3:$A$79)-CELL(\"row\",Lageromsætning!$A$3:$A$79)+1),ROWS($2:222))),\"\")","v":""},{"$f":"IFERROR(INDEX(Lageromsætning!$D$3:$D$79,SMALL(IF(Lageromsætning!$A$3:$A$79=$A$2,ROW(Lageromsætning!$A$3:$A$79)-CELL(\"row\",Lageromsætning!$A$3:$A$79)+1),ROWS($2:222))),\"\")","v":""},{"$f":"IFERROR(INDEX(Lageromsætning!$E$3:$E$79,SMALL(IF(Lageromsætning!$A$3:$A$79=$A$2,ROW(Lageromsætning!$A$3:$A$79)-CELL(\"row\",Lageromsætning!$A$3:$A$79)+1),ROWS($2:222))),\"\")","v":""},{"$f":"IFERROR(INDEX(Lageromsætning!$AF$3:$AF$79,SMALL(IF(Lageromsætning!$A$3:$A$79=$A$2,ROW(Lageromsætning!$A$3:$A$79)-CELL(\"row\",Lageromsætning!$A$3:$A$79)+1),ROWS($2:222))),\"\")","v":""},{"$f":"SUMIFS('Lager antal'!$D$3:$D$2508,'Lager antal'!$B$3:$B$2508,B224,'Lager antal'!$C$3:$C$2508,C224)","v":0},{"$f":"SUMIFS('Lager antal'!$F$3:$F$2508,'Lager antal'!$B$3:$B$2508,B224,'Lager antal'!$C$3:$C$2508,C224)","v":0},{"$f":"IF(ISNA(VLOOKUP($C224,'Lager antal'!$C$3:$K$508,9,FALSE))=TRUE,\"\",VLOOKUP($C224,'Lager antal'!$C$3:$K$508,9,FALSE))","v":""},{"$f":"IFERROR(INDEX(Lageromsætning!$P$3:$P$79,SMALL(IF(Lageromsætning!$A$3:$A$79=$A$2,ROW(Lageromsætning!$A$3:$A$79)-CELL(\"row\",Lageromsætning!$A$3:$A$79)+1),ROWS($2:222))),\"\")","v":""},{"$f":"+_xlfn.IFS($M224>=0.01,$M224,TRUE,0)-$F224-K224+G224","v":0},{"$f":"SUMIFS('Lager antal'!$G$3:$G$2508,'Lager antal'!$B$3:$B$2508,B224,'Lager antal'!$C$3:$C$2508,C224)","v":0},null,0,{"$f":"SUMIFS(Lageromsætning!$R$3:$R$79,Lageromsætning!$A$3:$A$79,$A$2,Lageromsætning!$C$3:$C$79,B224,Lageromsætning!$D$3:$D$79,C224)","v":0},{"$f":"SUMIFS(Lageromsætning!$S$3:$S$79,Lageromsætning!$C$3:$C$79,B224,Lageromsætning!$D$3:$D$79,C224)","v":0}]
[{"$f":"IFERROR(INDEX(Lageromsætning!$A$3:$A$79,SMALL(IF(Lageromsætning!$A$3:$A$79=$A$2,ROW(Lageromsætning!$A$3:$A$79)-CELL(\"row\",Lageromsætning!$A$3:$A$79)+1),ROWS($1:222))),\"\")","v":""},{"$f":"IFERROR(INDEX(Lageromsætning!$C$3:$C$79,SMALL(IF(Lageromsætning!$A$3:$A$79=$A$2,ROW(Lageromsætning!$A$3:$A$79)-CELL(\"row\",Lageromsætning!$A$3:$A$79)+1),ROWS($2:223))),\"\")","v":""},{"$f":"IFERROR(INDEX(Lageromsætning!$D$3:$D$79,SMALL(IF(Lageromsætning!$A$3:$A$79=$A$2,ROW(Lageromsætning!$A$3:$A$79)-CELL(\"row\",Lageromsætning!$A$3:$A$79)+1),ROWS($2:223))),\"\")","v":""},{"$f":"IFERROR(INDEX(Lageromsætning!$E$3:$E$79,SMALL(IF(Lageromsætning!$A$3:$A$79=$A$2,ROW(Lageromsætning!$A$3:$A$79)-CELL(\"row\",Lageromsætning!$A$3:$A$79)+1),ROWS($2:223))),\"\")","v":""},{"$f":"IFERROR(INDEX(Lageromsætning!$AF$3:$AF$79,SMALL(IF(Lageromsætning!$A$3:$A$79=$A$2,ROW(Lageromsætning!$A$3:$A$79)-CELL(\"row\",Lageromsætning!$A$3:$A$79)+1),ROWS($2:223))),\"\")","v":""},{"$f":"SUMIFS('Lager antal'!$D$3:$D$2508,'Lager antal'!$B$3:$B$2508,B225,'Lager antal'!$C$3:$C$2508,C225)","v":0},{"$f":"SUMIFS('Lager antal'!$F$3:$F$2508,'Lager antal'!$B$3:$B$2508,B225,'Lager antal'!$C$3:$C$2508,C225)","v":0},{"$f":"IF(ISNA(VLOOKUP($C225,'Lager antal'!$C$3:$K$508,9,FALSE))=TRUE,\"\",VLOOKUP($C225,'Lager antal'!$C$3:$K$508,9,FALSE))","v":""},{"$f":"IFERROR(INDEX(Lageromsætning!$P$3:$P$79,SMALL(IF(Lageromsætning!$A$3:$A$79=$A$2,ROW(Lageromsætning!$A$3:$A$79)-CELL(\"row\",Lageromsætning!$A$3:$A$79)+1),ROWS($2:223))),\"\")","v":""},{"$f":"+_xlfn.IFS($M225>=0.01,$M225,TRUE,0)-$F225-K225+G225","v":0},{"$f":"SUMIFS('Lager antal'!$G$3:$G$2508,'Lager antal'!$B$3:$B$2508,B225,'Lager antal'!$C$3:$C$2508,C225)","v":0},null,0,{"$f":"SUMIFS(Lageromsætning!$R$3:$R$79,Lageromsætning!$A$3:$A$79,$A$2,Lageromsætning!$C$3:$C$79,B225,Lageromsætning!$D$3:$D$79,C225)","v":0},{"$f":"SUMIFS(Lageromsætning!$S$3:$S$79,Lageromsætning!$C$3:$C$79,B225,Lageromsætning!$D$3:$D$79,C225)","v":0}]
[{"$f":"IFERROR(INDEX(Lageromsætning!$A$3:$A$79,SMALL(IF(Lageromsætning!$A$3:$A$79=$A$2,ROW(Lageromsætning!$A$3:$A$79)-CELL(\"row\",Lageromsætning!$A$3:$A$79)+1),ROWS($1:223))),\"\")","v":""},{"$f":"IFERROR(INDEX(Lageromsætning!$C$3:$C$79,SMALL(IF(Lageromsætning!$A$3:$A$79=$A$2,ROW(Lageromsætning!$A$3:$A$79)-CELL(\"row\",Lageromsætning!$A$3:$A$79)+1),ROWS($2:224))),\"\")","v":""},{"$f":"IFERROR(INDEX(Lageromsætning!$D$3:$D$79,SMALL(IF(Lageromsætning!$A$3:$A$79=$A$2,ROW(Lageromsætning!$A$3:$A$79)-CELL(\"row\",Lageromsætning!$A$3:$A$79)+1),ROWS($2:224))),\"\")","v":""},{"$f":"IFERROR(INDEX(Lageromsætning!$E$3:$E$79,SMALL(IF(Lageromsætning!$A$3:$A$79=$A$2,ROW(Lageromsætning!$A$3:$A$79)-CELL(\"row\",Lageromsætning!$A$3:$A$79)+1),ROWS($2:224))),\"\")","v":""},{"$f":"IFERROR(INDEX(Lageromsætning!$AF$3:$AF$79,SMALL(IF(Lageromsætning!$A$3:$A$79=$A$2,ROW(Lageromsætning!$A$3:$A$79)-CELL(\"row\",Lageromsætning!$A$3:$A$79)+1),ROWS($2:224))),\"\")","v":""},{"$f":"SUMIFS('Lager antal'!$D$3:$D$2508,'Lager antal'!$B$3:$B$2508,B226,'Lager antal'!$C$3:$C$2508,C226)","v":0},{"$f":"SUMIFS('Lager antal'!$F$3:$F$2508,'Lager antal'!$B$3:$B$2508,B226,'Lager antal'!$C$3:$C$2508,C226)","v":0},{"$f":"IF(ISNA(VLOOKUP($C226,'Lager antal'!$C$3:$K$508,9,FALSE))=TRUE,\"\",VLOOKUP($C226,'Lager antal'!$C$3:$K$508,9,FALSE))","v":""},{"$f":"IFERROR(INDEX(Lageromsætning!$P$3:$P$79,SMALL(IF(Lageromsætning!$A$3:$A$79=$A$2,ROW(Lageromsætning!$A$3:$A$79)-CELL(\"row\",Lageromsætning!$A$3:$A$79)+1),ROWS($2:224))),\"\")","v":""},{"$f":"+_xlfn.IFS($M226>=0.01,$M226,TRUE,0)-$F226-K226+G226","v":0},{"$f":"SUMIFS('Lager antal'!$G$3:$G$2508,'Lager antal'!$B$3:$B$2508,B226,'Lager antal'!$C$3:$C$2508,C226)","v":0},null,0,{"$f":"SUMIFS(Lageromsætning!$R$3:$R$79,Lageromsætning!$A$3:$A$79,$A$2,Lageromsætning!$C$3:$C$79,B226,Lageromsætning!$D$3:$D$79,C226)","v":0},{"$f":"SUMIFS(Lageromsætning!$S$3:$S$79,Lageromsætning!$C$3:$C$79,B226,Lageromsætning!$D$3:$D$79,C226)","v":0}]
[{"$f":"IFERROR(INDEX(Lageromsætning!$A$3:$A$79,SMALL(IF(Lageromsætning!$A$3:$A$79=$A$2,ROW(Lageromsætning!$A$3:$A$79)-CELL(\"row\",Lageromsætning!$A$3:$A$79)+1),ROWS($1:224))),\"\")","v":""},{"$f":"IFERROR(INDEX(Lageromsætning!$C$3:$C$79,SMALL(IF(Lageromsætning!$A$3:$A$79=$A$2,ROW(Lageromsætning!$A$3:$A$79)-CELL(\"row\",Lageromsætning!$A$3:$A$79)+1),ROWS($2:225))),\"\")","v":""},{"$f":"IFERROR(INDEX(Lageromsætning!$D$3:$D$79,SMALL(IF(Lageromsætning!$A$3:$A$79=$A$2,ROW(Lageromsætning!$A$3:$A$79)-CELL(\"row\",Lageromsætning!$A$3:$A$79)+1),ROWS($2:225))),\"\")","v":""},{"$f":"IFERROR(INDEX(Lageromsætning!$E$3:$E$79,SMALL(IF(Lageromsætning!$A$3:$A$79=$A$2,ROW(Lageromsætning!$A$3:$A$79)-CELL(\"row\",Lageromsætning!$A$3:$A$79)+1),ROWS($2:225))),\"\")","v":""},{"$f":"IFERROR(INDEX(Lageromsætning!$AF$3:$AF$79,SMALL(IF(Lageromsætning!$A$3:$A$79=$A$2,ROW(Lageromsætning!$A$3:$A$79)-CELL(\"row\",Lageromsætning!$A$3:$A$79)+1),ROWS($2:225))),\"\")","v":""},{"$f":"SUMIFS('Lager antal'!$D$3:$D$2508,'Lager antal'!$B$3:$B$2508,B227,'Lager antal'!$C$3:$C$2508,C227)","v":0},{"$f":"SUMIFS('Lager antal'!$F$3:$F$2508,'Lager antal'!$B$3:$B$2508,B227,'Lager antal'!$C$3:$C$2508,C227)","v":0},{"$f":"IF(ISNA(VLOOKUP($C227,'Lager antal'!$C$3:$K$508,9,FALSE))=TRUE,\"\",VLOOKUP($C227,'Lager antal'!$C$3:$K$508,9,FALSE))","v":""},{"$f":"IFERROR(INDEX(Lageromsætning!$P$3:$P$79,SMALL(IF(Lageromsætning!$A$3:$A$79=$A$2,ROW(Lageromsætning!$A$3:$A$79)-CELL(\"row\",Lageromsætning!$A$3:$A$79)+1),ROWS($2:225))),\"\")","v":""},{"$f":"+_xlfn.IFS($M227>=0.01,$M227,TRUE,0)-$F227-K227+G227","v":0},{"$f":"SUMIFS('Lager antal'!$G$3:$G$2508,'Lager antal'!$B$3:$B$2508,B227,'Lager antal'!$C$3:$C$2508,C227)","v":0},null,0,{"$f":"SUMIFS(Lageromsætning!$R$3:$R$79,Lageromsætning!$A$3:$A$79,$A$2,Lageromsætning!$C$3:$C$79,B227,Lageromsætning!$D$3:$D$79,C227)","v":0},{"$f":"SUMIFS(Lageromsætning!$S$3:$S$79,Lageromsætning!$C$3:$C$79,B227,Lageromsætning!$D$3:$D$79,C227)","v":0}]
[{"$f":"IFERROR(INDEX(Lageromsætning!$A$3:$A$79,SMALL(IF(Lageromsætning!$A$3:$A$79=$A$2,ROW(Lageromsætning!$A$3:$A$79)-CELL(\"row\",Lageromsætning!$A$3:$A$79)+1),ROWS($1:225))),\"\")","v":""},{"$f":"IFERROR(INDEX(Lageromsætning!$C$3:$C$79,SMALL(IF(Lageromsætning!$A$3:$A$79=$A$2,ROW(Lageromsætning!$A$3:$A$79)-CELL(\"row\",Lageromsætning!$A$3:$A$79)+1),ROWS($2:226))),\"\")","v":""},{"$f":"IFERROR(INDEX(Lageromsætning!$D$3:$D$79,SMALL(IF(Lageromsætning!$A$3:$A$79=$A$2,ROW(Lageromsætning!$A$3:$A$79)-CELL(\"row\",Lageromsætning!$A$3:$A$79)+1),ROWS($2:226))),\"\")","v":""},{"$f":"IFERROR(INDEX(Lageromsætning!$E$3:$E$79,SMALL(IF(Lageromsætning!$A$3:$A$79=$A$2,ROW(Lageromsætning!$A$3:$A$79)-CELL(\"row\",Lageromsætning!$A$3:$A$79)+1),ROWS($2:226))),\"\")","v":""},{"$f":"IFERROR(INDEX(Lageromsætning!$AF$3:$AF$79,SMALL(IF(Lageromsætning!$A$3:$A$79=$A$2,ROW(Lageromsætning!$A$3:$A$79)-CELL(\"row\",Lageromsætning!$A$3:$A$79)+1),ROWS($2:226))),\"\")","v":""},{"$f":"SUMIFS('Lager antal'!$D$3:$D$2508,'Lager antal'!$B$3:$B$2508,B228,'Lager antal'!$C$3:$C$2508,C228)","v":0},{"$f":"SUMIFS('Lager antal'!$F$3:$F$2508,'Lager antal'!$B$3:$B$2508,B228,'Lager antal'!$C$3:$C$2508,C228)","v":0},{"$f":"IF(ISNA(VLOOKUP($C228,'Lager antal'!$C$3:$K$508,9,FALSE))=TRUE,\"\",VLOOKUP($C228,'Lager antal'!$C$3:$K$508,9,FALSE))","v":""},{"$f":"IFERROR(INDEX(Lageromsætning!$P$3:$P$79,SMALL(IF(Lageromsætning!$A$3:$A$79=$A$2,ROW(Lageromsætning!$A$3:$A$79)-CELL(\"row\",Lageromsætning!$A$3:$A$79)+1),ROWS($2:226))),\"\")","v":""},{"$f":"+_xlfn.IFS($M228>=0.01,$M228,TRUE,0)-$F228-K228+G228","v":0},{"$f":"SUMIFS('Lager antal'!$G$3:$G$2508,'Lager antal'!$B$3:$B$2508,B228,'Lager antal'!$C$3:$C$2508,C228)","v":0},null,0,{"$f":"SUMIFS(Lageromsætning!$R$3:$R$79,Lageromsætning!$A$3:$A$79,$A$2,Lageromsætning!$C$3:$C$79,B228,Lageromsætning!$D$3:$D$79,C228)","v":0},{"$f":"SUMIFS(Lageromsætning!$S$3:$S$79,Lageromsætning!$C$3:$C$79,B228,Lageromsætning!$D$3:$D$79,C228)","v":0}]
[{"$f":"IFERROR(INDEX(Lageromsætning!$A$3:$A$79,SMALL(IF(Lageromsætning!$A$3:$A$79=$A$2,ROW(Lageromsætning!$A$3:$A$79)-CELL(\"row\",Lageromsætning!$A$3:$A$79)+1),ROWS($1:226))),\"\")","v":""},{"$f":"IFERROR(INDEX(Lageromsætning!$C$3:$C$79,SMALL(IF(Lageromsætning!$A$3:$A$79=$A$2,ROW(Lageromsætning!$A$3:$A$79)-CELL(\"row\",Lageromsætning!$A$3:$A$79)+1),ROWS($2:227))),\"\")","v":""},{"$f":"IFERROR(INDEX(Lageromsætning!$D$3:$D$79,SMALL(IF(Lageromsætning!$A$3:$A$79=$A$2,ROW(Lageromsætning!$A$3:$A$79)-CELL(\"row\",Lageromsætning!$A$3:$A$79)+1),ROWS($2:227))),\"\")","v":""},{"$f":"IFERROR(INDEX(Lageromsætning!$E$3:$E$79,SMALL(IF(Lageromsætning!$A$3:$A$79=$A$2,ROW(Lageromsætning!$A$3:$A$79)-CELL(\"row\",Lageromsætning!$A$3:$A$79)+1),ROWS($2:227))),\"\")","v":""},{"$f":"IFERROR(INDEX(Lageromsætning!$AF$3:$AF$79,SMALL(IF(Lageromsætning!$A$3:$A$79=$A$2,ROW(Lageromsætning!$A$3:$A$79)-CELL(\"row\",Lageromsætning!$A$3:$A$79)+1),ROWS($2:227))),\"\")","v":""},{"$f":"SUMIFS('Lager antal'!$D$3:$D$2508,'Lager antal'!$B$3:$B$2508,B229,'Lager antal'!$C$3:$C$2508,C229)","v":0},{"$f":"SUMIFS('Lager antal'!$F$3:$F$2508,'Lager antal'!$B$3:$B$2508,B229,'Lager antal'!$C$3:$C$2508,C229)","v":0},{"$f":"IF(ISNA(VLOOKUP($C229,'Lager antal'!$C$3:$K$508,9,FALSE))=TRUE,\"\",VLOOKUP($C229,'Lager antal'!$C$3:$K$508,9,FALSE))","v":""},{"$f":"IFERROR(INDEX(Lageromsætning!$P$3:$P$79,SMALL(IF(Lageromsætning!$A$3:$A$79=$A$2,ROW(Lageromsætning!$A$3:$A$79)-CELL(\"row\",Lageromsætning!$A$3:$A$79)+1),ROWS($2:227))),\"\")","v":""},{"$f":"+_xlfn.IFS($M229>=0.01,$M229,TRUE,0)-$F229-K229+G229","v":0},{"$f":"SUMIFS('Lager antal'!$G$3:$G$2508,'Lager antal'!$B$3:$B$2508,B229,'Lager antal'!$C$3:$C$2508,C229)","v":0},null,0,{"$f":"SUMIFS(Lageromsætning!$R$3:$R$79,Lageromsætning!$A$3:$A$79,$A$2,Lageromsætning!$C$3:$C$79,B229,Lageromsætning!$D$3:$D$79,C229)","v":0},{"$f":"SUMIFS(Lageromsætning!$S$3:$S$79,Lageromsætning!$C$3:$C$79,B229,Lageromsætning!$D$3:$D$79,C229)","v":0}]
[{"$f":"IFERROR(INDEX(Lageromsætning!$A$3:$A$79,SMALL(IF(Lageromsætning!$A$3:$A$79=$A$2,ROW(Lageromsætning!$A$3:$A$79)-CELL(\"row\",Lageromsætning!$A$3:$A$79)+1),ROWS($1:227))),\"\")","v":""},{"$f":"IFERROR(INDEX(Lageromsætning!$C$3:$C$79,SMALL(IF(Lageromsætning!$A$3:$A$79=$A$2,ROW(Lageromsætning!$A$3:$A$79)-CELL(\"row\",Lageromsætning!$A$3:$A$79)+1),ROWS($2:228))),\"\")","v":""},{"$f":"IFERROR(INDEX(Lageromsætning!$D$3:$D$79,SMALL(IF(Lageromsætning!$A$3:$A$79=$A$2,ROW(Lageromsætning!$A$3:$A$79)-CELL(\"row\",Lageromsætning!$A$3:$A$79)+1),ROWS($2:228))),\"\")","v":""},{"$f":"IFERROR(INDEX(Lageromsætning!$E$3:$E$79,SMALL(IF(Lageromsætning!$A$3:$A$79=$A$2,ROW(Lageromsætning!$A$3:$A$79)-CELL(\"row\",Lageromsætning!$A$3:$A$79)+1),ROWS($2:228))),\"\")","v":""},{"$f":"IFERROR(INDEX(Lageromsætning!$AF$3:$AF$79,SMALL(IF(Lageromsætning!$A$3:$A$79=$A$2,ROW(Lageromsætning!$A$3:$A$79)-CELL(\"row\",Lageromsætning!$A$3:$A$79)+1),ROWS($2:228))),\"\")","v":""},{"$f":"SUMIFS('Lager antal'!$D$3:$D$2508,'Lager antal'!$B$3:$B$2508,B230,'Lager antal'!$C$3:$C$2508,C230)","v":0},{"$f":"SUMIFS('Lager antal'!$F$3:$F$2508,'Lager antal'!$B$3:$B$2508,B230,'Lager antal'!$C$3:$C$2508,C230)","v":0},{"$f":"IF(ISNA(VLOOKUP($C230,'Lager antal'!$C$3:$K$508,9,FALSE))=TRUE,\"\",VLOOKUP($C230,'Lager antal'!$C$3:$K$508,9,FALSE))","v":""},{"$f":"IFERROR(INDEX(Lageromsætning!$P$3:$P$79,SMALL(IF(Lageromsætning!$A$3:$A$79=$A$2,ROW(Lageromsætning!$A$3:$A$79)-CELL(\"row\",Lageromsætning!$A$3:$A$79)+1),ROWS($2:228))),\"\")","v":""},{"$f":"+_xlfn.IFS($M230>=0.01,$M230,TRUE,0)-$F230-K230+G230","v":0},{"$f":"SUMIFS('Lager antal'!$G$3:$G$2508,'Lager antal'!$B$3:$B$2508,B230,'Lager antal'!$C$3:$C$2508,C230)","v":0},null,0,{"$f":"SUMIFS(Lageromsætning!$R$3:$R$79,Lageromsætning!$A$3:$A$79,$A$2,Lageromsætning!$C$3:$C$79,B230,Lageromsætning!$D$3:$D$79,C230)","v":0},{"$f":"SUMIFS(Lageromsætning!$S$3:$S$79,Lageromsætning!$C$3:$C$79,B230,Lageromsætning!$D$3:$D$79,C230)","v":0}]
[{"$f":"IFERROR(INDEX(Lageromsætning!$A$3:$A$79,SMALL(IF(Lageromsætning!$A$3:$A$79=$A$2,ROW(Lageromsætning!$A$3:$A$79)-CELL(\"row\",Lageromsætning!$A$3:$A$79)+1),ROWS($1:228))),\"\")","v":""},{"$f":"IFERROR(INDEX(Lageromsætning!$C$3:$C$79,SMALL(IF(Lageromsætning!$A$3:$A$79=$A$2,ROW(Lageromsætning!$A$3:$A$79)-CELL(\"row\",Lageromsætning!$A$3:$A$79)+1),ROWS($2:229))),\"\")","v":""},{"$f":"IFERROR(INDEX(Lageromsætning!$D$3:$D$79,SMALL(IF(Lageromsætning!$A$3:$A$79=$A$2,ROW(Lageromsætning!$A$3:$A$79)-CELL(\"row\",Lageromsætning!$A$3:$A$79)+1),ROWS($2:229))),\"\")","v":""},{"$f":"IFERROR(INDEX(Lageromsætning!$E$3:$E$79,SMALL(IF(Lageromsætning!$A$3:$A$79=$A$2,ROW(Lageromsætning!$A$3:$A$79)-CELL(\"row\",Lageromsætning!$A$3:$A$79)+1),ROWS($2:229))),\"\")","v":""},{"$f":"IFERROR(INDEX(Lageromsætning!$AF$3:$AF$79,SMALL(IF(Lageromsætning!$A$3:$A$79=$A$2,ROW(Lageromsætning!$A$3:$A$79)-CELL(\"row\",Lageromsætning!$A$3:$A$79)+1),ROWS($2:229))),\"\")","v":""},{"$f":"SUMIFS('Lager antal'!$D$3:$D$2508,'Lager antal'!$B$3:$B$2508,B231,'Lager antal'!$C$3:$C$2508,C231)","v":0},{"$f":"SUMIFS('Lager antal'!$F$3:$F$2508,'Lager antal'!$B$3:$B$2508,B231,'Lager antal'!$C$3:$C$2508,C231)","v":0},{"$f":"IF(ISNA(VLOOKUP($C231,'Lager antal'!$C$3:$K$508,9,FALSE))=TRUE,\"\",VLOOKUP($C231,'Lager antal'!$C$3:$K$508,9,FALSE))","v":""},{"$f":"IFERROR(INDEX(Lageromsætning!$P$3:$P$79,SMALL(IF(Lageromsætning!$A$3:$A$79=$A$2,ROW(Lageromsætning!$A$3:$A$79)-CELL(\"row\",Lageromsætning!$A$3:$A$79)+1),ROWS($2:229))),\"\")","v":""},{"$f":"+_xlfn.IFS($M231>=0.01,$M231,TRUE,0)-$F231-K231+G231","v":0},{"$f":"SUMIFS('Lager antal'!$G$3:$G$2508,'Lager antal'!$B$3:$B$2508,B231,'Lager antal'!$C$3:$C$2508,C231)","v":0},null,0,{"$f":"SUMIFS(Lageromsætning!$R$3:$R$79,Lageromsætning!$A$3:$A$79,$A$2,Lageromsætning!$C$3:$C$79,B231,Lageromsætning!$D$3:$D$79,C231)","v":0},{"$f":"SUMIFS(Lageromsætning!$S$3:$S$79,Lageromsætning!$C$3:$C$79,B231,Lageromsætning!$D$3:$D$79,C231)","v":0}]
[{"$f":"IFERROR(INDEX(Lageromsætning!$A$3:$A$79,SMALL(IF(Lageromsætning!$A$3:$A$79=$A$2,ROW(Lageromsætning!$A$3:$A$79)-CELL(\"row\",Lageromsætning!$A$3:$A$79)+1),ROWS($1:229))),\"\")","v":""},{"$f":"IFERROR(INDEX(Lageromsætning!$C$3:$C$79,SMALL(IF(Lageromsætning!$A$3:$A$79=$A$2,ROW(Lageromsætning!$A$3:$A$79)-CELL(\"row\",Lageromsætning!$A$3:$A$79)+1),ROWS($2:230))),\"\")","v":""},{"$f":"IFERROR(INDEX(Lageromsætning!$D$3:$D$79,SMALL(IF(Lageromsætning!$A$3:$A$79=$A$2,ROW(Lageromsætning!$A$3:$A$79)-CELL(\"row\",Lageromsætning!$A$3:$A$79)+1),ROWS($2:230))),\"\")","v":""},{"$f":"IFERROR(INDEX(Lageromsætning!$E$3:$E$79,SMALL(IF(Lageromsætning!$A$3:$A$79=$A$2,ROW(Lageromsætning!$A$3:$A$79)-CELL(\"row\",Lageromsætning!$A$3:$A$79)+1),ROWS($2:230))),\"\")","v":""},{"$f":"IFERROR(INDEX(Lageromsætning!$AF$3:$AF$79,SMALL(IF(Lageromsætning!$A$3:$A$79=$A$2,ROW(Lageromsætning!$A$3:$A$79)-CELL(\"row\",Lageromsætning!$A$3:$A$79)+1),ROWS($2:230))),\"\")","v":""},{"$f":"SUMIFS('Lager antal'!$D$3:$D$2508,'Lager antal'!$B$3:$B$2508,B232,'Lager antal'!$C$3:$C$2508,C232)","v":0},{"$f":"SUMIFS('Lager antal'!$F$3:$F$2508,'Lager antal'!$B$3:$B$2508,B232,'Lager antal'!$C$3:$C$2508,C232)","v":0},{"$f":"IF(ISNA(VLOOKUP($C232,'Lager antal'!$C$3:$K$508,9,FALSE))=TRUE,\"\",VLOOKUP($C232,'Lager antal'!$C$3:$K$508,9,FALSE))","v":""},{"$f":"IFERROR(INDEX(Lageromsætning!$P$3:$P$79,SMALL(IF(Lageromsætning!$A$3:$A$79=$A$2,ROW(Lageromsætning!$A$3:$A$79)-CELL(\"row\",Lageromsætning!$A$3:$A$79)+1),ROWS($2:230))),\"\")","v":""},{"$f":"+_xlfn.IFS($M232>=0.01,$M232,TRUE,0)-$F232-K232+G232","v":0},{"$f":"SUMIFS('Lager antal'!$G$3:$G$2508,'Lager antal'!$B$3:$B$2508,B232,'Lager antal'!$C$3:$C$2508,C232)","v":0},null,0,{"$f":"SUMIFS(Lageromsætning!$R$3:$R$79,Lageromsætning!$A$3:$A$79,$A$2,Lageromsætning!$C$3:$C$79,B232,Lageromsætning!$D$3:$D$79,C232)","v":0},{"$f":"SUMIFS(Lageromsætning!$S$3:$S$79,Lageromsætning!$C$3:$C$79,B232,Lageromsætning!$D$3:$D$79,C232)","v":0}]
[{"$f":"IFERROR(INDEX(Lageromsætning!$A$3:$A$79,SMALL(IF(Lageromsætning!$A$3:$A$79=$A$2,ROW(Lageromsætning!$A$3:$A$79)-CELL(\"row\",Lageromsætning!$A$3:$A$79)+1),ROWS($1:230))),\"\")","v":""},{"$f":"IFERROR(INDEX(Lageromsætning!$C$3:$C$79,SMALL(IF(Lageromsætning!$A$3:$A$79=$A$2,ROW(Lageromsætning!$A$3:$A$79)-CELL(\"row\",Lageromsætning!$A$3:$A$79)+1),ROWS($2:231))),\"\")","v":""},{"$f":"IFERROR(INDEX(Lageromsætning!$D$3:$D$79,SMALL(IF(Lageromsætning!$A$3:$A$79=$A$2,ROW(Lageromsætning!$A$3:$A$79)-CELL(\"row\",Lageromsætning!$A$3:$A$79)+1),ROWS($2:231))),\"\")","v":""},{"$f":"IFERROR(INDEX(Lageromsætning!$E$3:$E$79,SMALL(IF(Lageromsætning!$A$3:$A$79=$A$2,ROW(Lageromsætning!$A$3:$A$79)-CELL(\"row\",Lageromsætning!$A$3:$A$79)+1),ROWS($2:231))),\"\")","v":""},{"$f":"IFERROR(INDEX(Lageromsætning!$AF$3:$AF$79,SMALL(IF(Lageromsætning!$A$3:$A$79=$A$2,ROW(Lageromsætning!$A$3:$A$79)-CELL(\"row\",Lageromsætning!$A$3:$A$79)+1),ROWS($2:231))),\"\")","v":""},{"$f":"SUMIFS('Lager antal'!$D$3:$D$2508,'Lager antal'!$B$3:$B$2508,B233,'Lager antal'!$C$3:$C$2508,C233)","v":0},{"$f":"SUMIFS('Lager antal'!$F$3:$F$2508,'Lager antal'!$B$3:$B$2508,B233,'Lager antal'!$C$3:$C$2508,C233)","v":0},{"$f":"IF(ISNA(VLOOKUP($C233,'Lager antal'!$C$3:$K$508,9,FALSE))=TRUE,\"\",VLOOKUP($C233,'Lager antal'!$C$3:$K$508,9,FALSE))","v":""},{"$f":"IFERROR(INDEX(Lageromsætning!$P$3:$P$79,SMALL(IF(Lageromsætning!$A$3:$A$79=$A$2,ROW(Lageromsætning!$A$3:$A$79)-CELL(\"row\",Lageromsætning!$A$3:$A$79)+1),ROWS($2:231))),\"\")","v":""},{"$f":"+_xlfn.IFS($M233>=0.01,$M233,TRUE,0)-$F233-K233+G233","v":0},{"$f":"SUMIFS('Lager antal'!$G$3:$G$2508,'Lager antal'!$B$3:$B$2508,B233,'Lager antal'!$C$3:$C$2508,C233)","v":0},null,0,{"$f":"SUMIFS(Lageromsætning!$R$3:$R$79,Lageromsætning!$A$3:$A$79,$A$2,Lageromsætning!$C$3:$C$79,B233,Lageromsætning!$D$3:$D$79,C233)","v":0},{"$f":"SUMIFS(Lageromsætning!$S$3:$S$79,Lageromsætning!$C$3:$C$79,B233,Lageromsætning!$D$3:$D$79,C233)","v":0}]
[{"$f":"IFERROR(INDEX(Lageromsætning!$A$3:$A$79,SMALL(IF(Lageromsætning!$A$3:$A$79=$A$2,ROW(Lageromsætning!$A$3:$A$79)-CELL(\"row\",Lageromsætning!$A$3:$A$79)+1),ROWS($1:231))),\"\")","v":""},{"$f":"IFERROR(INDEX(Lageromsætning!$C$3:$C$79,SMALL(IF(Lageromsætning!$A$3:$A$79=$A$2,ROW(Lageromsætning!$A$3:$A$79)-CELL(\"row\",Lageromsætning!$A$3:$A$79)+1),ROWS($2:232))),\"\")","v":""},{"$f":"IFERROR(INDEX(Lageromsætning!$D$3:$D$79,SMALL(IF(Lageromsætning!$A$3:$A$79=$A$2,ROW(Lageromsætning!$A$3:$A$79)-CELL(\"row\",Lageromsætning!$A$3:$A$79)+1),ROWS($2:232))),\"\")","v":""},{"$f":"IFERROR(INDEX(Lageromsætning!$E$3:$E$79,SMALL(IF(Lageromsætning!$A$3:$A$79=$A$2,ROW(Lageromsætning!$A$3:$A$79)-CELL(\"row\",Lageromsætning!$A$3:$A$79)+1),ROWS($2:232))),\"\")","v":""},{"$f":"IFERROR(INDEX(Lageromsætning!$AF$3:$AF$79,SMALL(IF(Lageromsætning!$A$3:$A$79=$A$2,ROW(Lageromsætning!$A$3:$A$79)-CELL(\"row\",Lageromsætning!$A$3:$A$79)+1),ROWS($2:232))),\"\")","v":""},{"$f":"SUMIFS('Lager antal'!$D$3:$D$2508,'Lager antal'!$B$3:$B$2508,B234,'Lager antal'!$C$3:$C$2508,C234)","v":0},{"$f":"SUMIFS('Lager antal'!$F$3:$F$2508,'Lager antal'!$B$3:$B$2508,B234,'Lager antal'!$C$3:$C$2508,C234)","v":0},{"$f":"IF(ISNA(VLOOKUP($C234,'Lager antal'!$C$3:$K$508,9,FALSE))=TRUE,\"\",VLOOKUP($C234,'Lager antal'!$C$3:$K$508,9,FALSE))","v":""},{"$f":"IFERROR(INDEX(Lageromsætning!$P$3:$P$79,SMALL(IF(Lageromsætning!$A$3:$A$79=$A$2,ROW(Lageromsætning!$A$3:$A$79)-CELL(\"row\",Lageromsætning!$A$3:$A$79)+1),ROWS($2:232))),\"\")","v":""},{"$f":"+_xlfn.IFS($M234>=0.01,$M234,TRUE,0)-$F234-K234+G234","v":0},{"$f":"SUMIFS('Lager antal'!$G$3:$G$2508,'Lager antal'!$B$3:$B$2508,B234,'Lager antal'!$C$3:$C$2508,C234)","v":0},null,0,{"$f":"SUMIFS(Lageromsætning!$R$3:$R$79,Lageromsætning!$A$3:$A$79,$A$2,Lageromsætning!$C$3:$C$79,B234,Lageromsætning!$D$3:$D$79,C234)","v":0},{"$f":"SUMIFS(Lageromsætning!$S$3:$S$79,Lageromsætning!$C$3:$C$79,B234,Lageromsætning!$D$3:$D$79,C234)","v":0}]
[{"$f":"IFERROR(INDEX(Lageromsætning!$A$3:$A$79,SMALL(IF(Lageromsætning!$A$3:$A$79=$A$2,ROW(Lageromsætning!$A$3:$A$79)-CELL(\"row\",Lageromsætning!$A$3:$A$79)+1),ROWS($1:232))),\"\")","v":""},{"$f":"IFERROR(INDEX(Lageromsætning!$C$3:$C$79,SMALL(IF(Lageromsætning!$A$3:$A$79=$A$2,ROW(Lageromsætning!$A$3:$A$79)-CELL(\"row\",Lageromsætning!$A$3:$A$79)+1),ROWS($2:233))),\"\")","v":""},{"$f":"IFERROR(INDEX(Lageromsætning!$D$3:$D$79,SMALL(IF(Lageromsætning!$A$3:$A$79=$A$2,ROW(Lageromsætning!$A$3:$A$79)-CELL(\"row\",Lageromsætning!$A$3:$A$79)+1),ROWS($2:233))),\"\")","v":""},{"$f":"IFERROR(INDEX(Lageromsætning!$E$3:$E$79,SMALL(IF(Lageromsætning!$A$3:$A$79=$A$2,ROW(Lageromsætning!$A$3:$A$79)-CELL(\"row\",Lageromsætning!$A$3:$A$79)+1),ROWS($2:233))),\"\")","v":""},{"$f":"IFERROR(INDEX(Lageromsætning!$AF$3:$AF$79,SMALL(IF(Lageromsætning!$A$3:$A$79=$A$2,ROW(Lageromsætning!$A$3:$A$79)-CELL(\"row\",Lageromsætning!$A$3:$A$79)+1),ROWS($2:233))),\"\")","v":""},{"$f":"SUMIFS('Lager antal'!$D$3:$D$2508,'Lager antal'!$B$3:$B$2508,B235,'Lager antal'!$C$3:$C$2508,C235)","v":0},{"$f":"SUMIFS('Lager antal'!$F$3:$F$2508,'Lager antal'!$B$3:$B$2508,B235,'Lager antal'!$C$3:$C$2508,C235)","v":0},{"$f":"IF(ISNA(VLOOKUP($C235,'Lager antal'!$C$3:$K$508,9,FALSE))=TRUE,\"\",VLOOKUP($C235,'Lager antal'!$C$3:$K$508,9,FALSE))","v":""},{"$f":"IFERROR(INDEX(Lageromsætning!$P$3:$P$79,SMALL(IF(Lageromsætning!$A$3:$A$79=$A$2,ROW(Lageromsætning!$A$3:$A$79)-CELL(\"row\",Lageromsætning!$A$3:$A$79)+1),ROWS($2:233))),\"\")","v":""},{"$f":"+_xlfn.IFS($M235>=0.01,$M235,TRUE,0)-$F235-K235+G235","v":0},{"$f":"SUMIFS('Lager antal'!$G$3:$G$2508,'Lager antal'!$B$3:$B$2508,B235,'Lager antal'!$C$3:$C$2508,C235)","v":0},null,0,{"$f":"SUMIFS(Lageromsætning!$R$3:$R$79,Lageromsætning!$A$3:$A$79,$A$2,Lageromsætning!$C$3:$C$79,B235,Lageromsætning!$D$3:$D$79,C235)","v":0},{"$f":"SUMIFS(Lageromsætning!$S$3:$S$79,Lageromsætning!$C$3:$C$79,B235,Lageromsætning!$D$3:$D$79,C235)","v":0}]
[{"$f":"IFERROR(INDEX(Lageromsætning!$A$3:$A$79,SMALL(IF(Lageromsætning!$A$3:$A$79=$A$2,ROW(Lageromsætning!$A$3:$A$79)-CELL(\"row\",Lageromsætning!$A$3:$A$79)+1),ROWS($1:233))),\"\")","v":""},{"$f":"IFERROR(INDEX(Lageromsætning!$C$3:$C$79,SMALL(IF(Lageromsætning!$A$3:$A$79=$A$2,ROW(Lageromsætning!$A$3:$A$79)-CELL(\"row\",Lageromsætning!$A$3:$A$79)+1),ROWS($2:234))),\"\")","v":""},{"$f":"IFERROR(INDEX(Lageromsætning!$D$3:$D$79,SMALL(IF(Lageromsætning!$A$3:$A$79=$A$2,ROW(Lageromsætning!$A$3:$A$79)-CELL(\"row\",Lageromsætning!$A$3:$A$79)+1),ROWS($2:234))),\"\")","v":""},{"$f":"IFERROR(INDEX(Lageromsætning!$E$3:$E$79,SMALL(IF(Lageromsætning!$A$3:$A$79=$A$2,ROW(Lageromsætning!$A$3:$A$79)-CELL(\"row\",Lageromsætning!$A$3:$A$79)+1),ROWS($2:234))),\"\")","v":""},{"$f":"IFERROR(INDEX(Lageromsætning!$AF$3:$AF$79,SMALL(IF(Lageromsætning!$A$3:$A$79=$A$2,ROW(Lageromsætning!$A$3:$A$79)-CELL(\"row\",Lageromsætning!$A$3:$A$79)+1),ROWS($2:234))),\"\")","v":""},{"$f":"SUMIFS('Lager antal'!$D$3:$D$2508,'Lager antal'!$B$3:$B$2508,B236,'Lager antal'!$C$3:$C$2508,C236)","v":0},{"$f":"SUMIFS('Lager antal'!$F$3:$F$2508,'Lager antal'!$B$3:$B$2508,B236,'Lager antal'!$C$3:$C$2508,C236)","v":0},{"$f":"IF(ISNA(VLOOKUP($C236,'Lager antal'!$C$3:$K$508,9,FALSE))=TRUE,\"\",VLOOKUP($C236,'Lager antal'!$C$3:$K$508,9,FALSE))","v":""},{"$f":"IFERROR(INDEX(Lageromsætning!$P$3:$P$79,SMALL(IF(Lageromsætning!$A$3:$A$79=$A$2,ROW(Lageromsætning!$A$3:$A$79)-CELL(\"row\",Lageromsætning!$A$3:$A$79)+1),ROWS($2:234))),\"\")","v":""},{"$f":"+_xlfn.IFS($M236>=0.01,$M236,TRUE,0)-$F236-K236+G236","v":0},{"$f":"SUMIFS('Lager antal'!$G$3:$G$2508,'Lager antal'!$B$3:$B$2508,B236,'Lager antal'!$C$3:$C$2508,C236)","v":0},null,0,{"$f":"SUMIFS(Lageromsætning!$R$3:$R$79,Lageromsætning!$A$3:$A$79,$A$2,Lageromsætning!$C$3:$C$79,B236,Lageromsætning!$D$3:$D$79,C236)","v":0},{"$f":"SUMIFS(Lageromsætning!$S$3:$S$79,Lageromsætning!$C$3:$C$79,B236,Lageromsætning!$D$3:$D$79,C236)","v":0}]
[{"$f":"IFERROR(INDEX(Lageromsætning!$A$3:$A$79,SMALL(IF(Lageromsætning!$A$3:$A$79=$A$2,ROW(Lageromsætning!$A$3:$A$79)-CELL(\"row\",Lageromsætning!$A$3:$A$79)+1),ROWS($1:234))),\"\")","v":""},{"$f":"IFERROR(INDEX(Lageromsætning!$C$3:$C$79,SMALL(IF(Lageromsætning!$A$3:$A$79=$A$2,ROW(Lageromsætning!$A$3:$A$79)-CELL(\"row\",Lageromsætning!$A$3:$A$79)+1),ROWS($2:235))),\"\")","v":""},{"$f":"IFERROR(INDEX(Lageromsætning!$D$3:$D$79,SMALL(IF(Lageromsætning!$A$3:$A$79=$A$2,ROW(Lageromsætning!$A$3:$A$79)-CELL(\"row\",Lageromsætning!$A$3:$A$79)+1),ROWS($2:235))),\"\")","v":""},{"$f":"IFERROR(INDEX(Lageromsætning!$E$3:$E$79,SMALL(IF(Lageromsætning!$A$3:$A$79=$A$2,ROW(Lageromsætning!$A$3:$A$79)-CELL(\"row\",Lageromsætning!$A$3:$A$79)+1),ROWS($2:235))),\"\")","v":""},{"$f":"IFERROR(INDEX(Lageromsætning!$AF$3:$AF$79,SMALL(IF(Lageromsætning!$A$3:$A$79=$A$2,ROW(Lageromsætning!$A$3:$A$79)-CELL(\"row\",Lageromsætning!$A$3:$A$79)+1),ROWS($2:235))),\"\")","v":""},{"$f":"SUMIFS('Lager antal'!$D$3:$D$2508,'Lager antal'!$B$3:$B$2508,B237,'Lager antal'!$C$3:$C$2508,C237)","v":0},{"$f":"SUMIFS('Lager antal'!$F$3:$F$2508,'Lager antal'!$B$3:$B$2508,B237,'Lager antal'!$C$3:$C$2508,C237)","v":0},{"$f":"IF(ISNA(VLOOKUP($C237,'Lager antal'!$C$3:$K$508,9,FALSE))=TRUE,\"\",VLOOKUP($C237,'Lager antal'!$C$3:$K$508,9,FALSE))","v":""},{"$f":"IFERROR(INDEX(Lageromsætning!$P$3:$P$79,SMALL(IF(Lageromsætning!$A$3:$A$79=$A$2,ROW(Lageromsætning!$A$3:$A$79)-CELL(\"row\",Lageromsætning!$A$3:$A$79)+1),ROWS($2:235))),\"\")","v":""},{"$f":"+_xlfn.IFS($M237>=0.01,$M237,TRUE,0)-$F237-K237+G237","v":0},{"$f":"SUMIFS('Lager antal'!$G$3:$G$2508,'Lager antal'!$B$3:$B$2508,B237,'Lager antal'!$C$3:$C$2508,C237)","v":0},null,0,{"$f":"SUMIFS(Lageromsætning!$R$3:$R$79,Lageromsætning!$A$3:$A$79,$A$2,Lageromsætning!$C$3:$C$79,B237,Lageromsætning!$D$3:$D$79,C237)","v":0},{"$f":"SUMIFS(Lageromsætning!$S$3:$S$79,Lageromsætning!$C$3:$C$79,B237,Lageromsætning!$D$3:$D$79,C237)","v":0}]
[{"$f":"IFERROR(INDEX(Lageromsætning!$A$3:$A$79,SMALL(IF(Lageromsætning!$A$3:$A$79=$A$2,ROW(Lageromsætning!$A$3:$A$79)-CELL(\"row\",Lageromsætning!$A$3:$A$79)+1),ROWS($1:235))),\"\")","v":""},{"$f":"IFERROR(INDEX(Lageromsætning!$C$3:$C$79,SMALL(IF(Lageromsætning!$A$3:$A$79=$A$2,ROW(Lageromsætning!$A$3:$A$79)-CELL(\"row\",Lageromsætning!$A$3:$A$79)+1),ROWS($2:236))),\"\")","v":""},{"$f":"IFERROR(INDEX(Lageromsætning!$D$3:$D$79,SMALL(IF(Lageromsætning!$A$3:$A$79=$A$2,ROW(Lageromsætning!$A$3:$A$79)-CELL(\"row\",Lageromsætning!$A$3:$A$79)+1),ROWS($2:236))),\"\")","v":""},{"$f":"IFERROR(INDEX(Lageromsætning!$E$3:$E$79,SMALL(IF(Lageromsætning!$A$3:$A$79=$A$2,ROW(Lageromsætning!$A$3:$A$79)-CELL(\"row\",Lageromsætning!$A$3:$A$79)+1),ROWS($2:236))),\"\")","v":""},{"$f":"IFERROR(INDEX(Lageromsætning!$AF$3:$AF$79,SMALL(IF(Lageromsætning!$A$3:$A$79=$A$2,ROW(Lageromsætning!$A$3:$A$79)-CELL(\"row\",Lageromsætning!$A$3:$A$79)+1),ROWS($2:236))),\"\")","v":""},{"$f":"SUMIFS('Lager antal'!$D$3:$D$2508,'Lager antal'!$B$3:$B$2508,B238,'Lager antal'!$C$3:$C$2508,C238)","v":0},{"$f":"SUMIFS('Lager antal'!$F$3:$F$2508,'Lager antal'!$B$3:$B$2508,B238,'Lager antal'!$C$3:$C$2508,C238)","v":0},{"$f":"IF(ISNA(VLOOKUP($C238,'Lager antal'!$C$3:$K$508,9,FALSE))=TRUE,\"\",VLOOKUP($C238,'Lager antal'!$C$3:$K$508,9,FALSE))","v":""},{"$f":"IFERROR(INDEX(Lageromsætning!$P$3:$P$79,SMALL(IF(Lageromsætning!$A$3:$A$79=$A$2,ROW(Lageromsætning!$A$3:$A$79)-CELL(\"row\",Lageromsætning!$A$3:$A$79)+1),ROWS($2:236))),\"\")","v":""},{"$f":"+_xlfn.IFS($M238>=0.01,$M238,TRUE,0)-$F238-K238+G238","v":0},{"$f":"SUMIFS('Lager antal'!$G$3:$G$2508,'Lager antal'!$B$3:$B$2508,B238,'Lager antal'!$C$3:$C$2508,C238)","v":0},null,0,{"$f":"SUMIFS(Lageromsætning!$R$3:$R$79,Lageromsætning!$A$3:$A$79,$A$2,Lageromsætning!$C$3:$C$79,B238,Lageromsætning!$D$3:$D$79,C238)","v":0},{"$f":"SUMIFS(Lageromsætning!$S$3:$S$79,Lageromsætning!$C$3:$C$79,B238,Lageromsætning!$D$3:$D$79,C238)","v":0}]
[{"$f":"IFERROR(INDEX(Lageromsætning!$A$3:$A$79,SMALL(IF(Lageromsætning!$A$3:$A$79=$A$2,ROW(Lageromsætning!$A$3:$A$79)-CELL(\"row\",Lageromsætning!$A$3:$A$79)+1),ROWS($1:236))),\"\")","v":""},{"$f":"IFERROR(INDEX(Lageromsætning!$C$3:$C$79,SMALL(IF(Lageromsætning!$A$3:$A$79=$A$2,ROW(Lageromsætning!$A$3:$A$79)-CELL(\"row\",Lageromsætning!$A$3:$A$79)+1),ROWS($2:237))),\"\")","v":""},{"$f":"IFERROR(INDEX(Lageromsætning!$D$3:$D$79,SMALL(IF(Lageromsætning!$A$3:$A$79=$A$2,ROW(Lageromsætning!$A$3:$A$79)-CELL(\"row\",Lageromsætning!$A$3:$A$79)+1),ROWS($2:237))),\"\")","v":""},{"$f":"IFERROR(INDEX(Lageromsætning!$E$3:$E$79,SMALL(IF(Lageromsætning!$A$3:$A$79=$A$2,ROW(Lageromsætning!$A$3:$A$79)-CELL(\"row\",Lageromsætning!$A$3:$A$79)+1),ROWS($2:237))),\"\")","v":""},{"$f":"IFERROR(INDEX(Lageromsætning!$AF$3:$AF$79,SMALL(IF(Lageromsætning!$A$3:$A$79=$A$2,ROW(Lageromsætning!$A$3:$A$79)-CELL(\"row\",Lageromsætning!$A$3:$A$79)+1),ROWS($2:237))),\"\")","v":""},{"$f":"SUMIFS('Lager antal'!$D$3:$D$2508,'Lager antal'!$B$3:$B$2508,B239,'Lager antal'!$C$3:$C$2508,C239)","v":0},{"$f":"SUMIFS('Lager antal'!$F$3:$F$2508,'Lager antal'!$B$3:$B$2508,B239,'Lager antal'!$C$3:$C$2508,C239)","v":0},{"$f":"IF(ISNA(VLOOKUP($C239,'Lager antal'!$C$3:$K$508,9,FALSE))=TRUE,\"\",VLOOKUP($C239,'Lager antal'!$C$3:$K$508,9,FALSE))","v":""},{"$f":"IFERROR(INDEX(Lageromsætning!$P$3:$P$79,SMALL(IF(Lageromsætning!$A$3:$A$79=$A$2,ROW(Lageromsætning!$A$3:$A$79)-CELL(\"row\",Lageromsætning!$A$3:$A$79)+1),ROWS($2:237))),\"\")","v":""},{"$f":"+_xlfn.IFS($M239>=0.01,$M239,TRUE,0)-$F239-K239+G239","v":0},{"$f":"SUMIFS('Lager antal'!$G$3:$G$2508,'Lager antal'!$B$3:$B$2508,B239,'Lager antal'!$C$3:$C$2508,C239)","v":0},null,0,{"$f":"SUMIFS(Lageromsætning!$R$3:$R$79,Lageromsætning!$A$3:$A$79,$A$2,Lageromsætning!$C$3:$C$79,B239,Lageromsætning!$D$3:$D$79,C239)","v":0},{"$f":"SUMIFS(Lageromsætning!$S$3:$S$79,Lageromsætning!$C$3:$C$79,B239,Lageromsætning!$D$3:$D$79,C239)","v":0}]
[{"$f":"IFERROR(INDEX(Lageromsætning!$A$3:$A$79,SMALL(IF(Lageromsætning!$A$3:$A$79=$A$2,ROW(Lageromsætning!$A$3:$A$79)-CELL(\"row\",Lageromsætning!$A$3:$A$79)+1),ROWS($1:237))),\"\")","v":""},{"$f":"IFERROR(INDEX(Lageromsætning!$C$3:$C$79,SMALL(IF(Lageromsætning!$A$3:$A$79=$A$2,ROW(Lageromsætning!$A$3:$A$79)-CELL(\"row\",Lageromsætning!$A$3:$A$79)+1),ROWS($2:238))),\"\")","v":""},{"$f":"IFERROR(INDEX(Lageromsætning!$D$3:$D$79,SMALL(IF(Lageromsætning!$A$3:$A$79=$A$2,ROW(Lageromsætning!$A$3:$A$79)-CELL(\"row\",Lageromsætning!$A$3:$A$79)+1),ROWS($2:238))),\"\")","v":""},{"$f":"IFERROR(INDEX(Lageromsætning!$E$3:$E$79,SMALL(IF(Lageromsætning!$A$3:$A$79=$A$2,ROW(Lageromsætning!$A$3:$A$79)-CELL(\"row\",Lageromsætning!$A$3:$A$79)+1),ROWS($2:238))),\"\")","v":""},{"$f":"IFERROR(INDEX(Lageromsætning!$AF$3:$AF$79,SMALL(IF(Lageromsætning!$A$3:$A$79=$A$2,ROW(Lageromsætning!$A$3:$A$79)-CELL(\"row\",Lageromsætning!$A$3:$A$79)+1),ROWS($2:238))),\"\")","v":""},{"$f":"SUMIFS('Lager antal'!$D$3:$D$2508,'Lager antal'!$B$3:$B$2508,B240,'Lager antal'!$C$3:$C$2508,C240)","v":0},{"$f":"SUMIFS('Lager antal'!$F$3:$F$2508,'Lager antal'!$B$3:$B$2508,B240,'Lager antal'!$C$3:$C$2508,C240)","v":0},{"$f":"IF(ISNA(VLOOKUP($C240,'Lager antal'!$C$3:$K$508,9,FALSE))=TRUE,\"\",VLOOKUP($C240,'Lager antal'!$C$3:$K$508,9,FALSE))","v":""},{"$f":"IFERROR(INDEX(Lageromsætning!$P$3:$P$79,SMALL(IF(Lageromsætning!$A$3:$A$79=$A$2,ROW(Lageromsætning!$A$3:$A$79)-CELL(\"row\",Lageromsætning!$A$3:$A$79)+1),ROWS($2:238))),\"\")","v":""},{"$f":"+_xlfn.IFS($M240>=0.01,$M240,TRUE,0)-$F240-K240+G240","v":0},{"$f":"SUMIFS('Lager antal'!$G$3:$G$2508,'Lager antal'!$B$3:$B$2508,B240,'Lager antal'!$C$3:$C$2508,C240)","v":0},null,0,{"$f":"SUMIFS(Lageromsætning!$R$3:$R$79,Lageromsætning!$A$3:$A$79,$A$2,Lageromsætning!$C$3:$C$79,B240,Lageromsætning!$D$3:$D$79,C240)","v":0},{"$f":"SUMIFS(Lageromsætning!$S$3:$S$79,Lageromsætning!$C$3:$C$79,B240,Lageromsætning!$D$3:$D$79,C240)","v":0}]
[{"$f":"IFERROR(INDEX(Lageromsætning!$A$3:$A$79,SMALL(IF(Lageromsætning!$A$3:$A$79=$A$2,ROW(Lageromsætning!$A$3:$A$79)-CELL(\"row\",Lageromsætning!$A$3:$A$79)+1),ROWS($1:238))),\"\")","v":""},{"$f":"IFERROR(INDEX(Lageromsætning!$C$3:$C$79,SMALL(IF(Lageromsætning!$A$3:$A$79=$A$2,ROW(Lageromsætning!$A$3:$A$79)-CELL(\"row\",Lageromsætning!$A$3:$A$79)+1),ROWS($2:239))),\"\")","v":""},{"$f":"IFERROR(INDEX(Lageromsætning!$D$3:$D$79,SMALL(IF(Lageromsætning!$A$3:$A$79=$A$2,ROW(Lageromsætning!$A$3:$A$79)-CELL(\"row\",Lageromsætning!$A$3:$A$79)+1),ROWS($2:239))),\"\")","v":""},{"$f":"IFERROR(INDEX(Lageromsætning!$E$3:$E$79,SMALL(IF(Lageromsætning!$A$3:$A$79=$A$2,ROW(Lageromsætning!$A$3:$A$79)-CELL(\"row\",Lageromsætning!$A$3:$A$79)+1),ROWS($2:239))),\"\")","v":""},{"$f":"IFERROR(INDEX(Lageromsætning!$AF$3:$AF$79,SMALL(IF(Lageromsætning!$A$3:$A$79=$A$2,ROW(Lageromsætning!$A$3:$A$79)-CELL(\"row\",Lageromsætning!$A$3:$A$79)+1),ROWS($2:239))),\"\")","v":""},{"$f":"SUMIFS('Lager antal'!$D$3:$D$2508,'Lager antal'!$B$3:$B$2508,B241,'Lager antal'!$C$3:$C$2508,C241)","v":0},{"$f":"SUMIFS('Lager antal'!$F$3:$F$2508,'Lager antal'!$B$3:$B$2508,B241,'Lager antal'!$C$3:$C$2508,C241)","v":0},{"$f":"IF(ISNA(VLOOKUP($C241,'Lager antal'!$C$3:$K$508,9,FALSE))=TRUE,\"\",VLOOKUP($C241,'Lager antal'!$C$3:$K$508,9,FALSE))","v":""},{"$f":"IFERROR(INDEX(Lageromsætning!$P$3:$P$79,SMALL(IF(Lageromsætning!$A$3:$A$79=$A$2,ROW(Lageromsætning!$A$3:$A$79)-CELL(\"row\",Lageromsætning!$A$3:$A$79)+1),ROWS($2:239))),\"\")","v":""},{"$f":"+_xlfn.IFS($M241>=0.01,$M241,TRUE,0)-$F241-K241+G241","v":0},{"$f":"SUMIFS('Lager antal'!$G$3:$G$2508,'Lager antal'!$B$3:$B$2508,B241,'Lager antal'!$C$3:$C$2508,C241)","v":0},null,0,{"$f":"SUMIFS(Lageromsætning!$R$3:$R$79,Lageromsætning!$A$3:$A$79,$A$2,Lageromsætning!$C$3:$C$79,B241,Lageromsætning!$D$3:$D$79,C241)","v":0},{"$f":"SUMIFS(Lageromsætning!$S$3:$S$79,Lageromsætning!$C$3:$C$79,B241,Lageromsætning!$D$3:$D$79,C241)","v":0}]
[{"$f":"IFERROR(INDEX(Lageromsætning!$A$3:$A$79,SMALL(IF(Lageromsætning!$A$3:$A$79=$A$2,ROW(Lageromsætning!$A$3:$A$79)-CELL(\"row\",Lageromsætning!$A$3:$A$79)+1),ROWS($1:239))),\"\")","v":""},{"$f":"IFERROR(INDEX(Lageromsætning!$C$3:$C$79,SMALL(IF(Lageromsætning!$A$3:$A$79=$A$2,ROW(Lageromsætning!$A$3:$A$79)-CELL(\"row\",Lageromsætning!$A$3:$A$79)+1),ROWS($2:240))),\"\")","v":""},{"$f":"IFERROR(INDEX(Lageromsætning!$D$3:$D$79,SMALL(IF(Lageromsætning!$A$3:$A$79=$A$2,ROW(Lageromsætning!$A$3:$A$79)-CELL(\"row\",Lageromsætning!$A$3:$A$79)+1),ROWS($2:240))),\"\")","v":""},{"$f":"IFERROR(INDEX(Lageromsætning!$E$3:$E$79,SMALL(IF(Lageromsætning!$A$3:$A$79=$A$2,ROW(Lageromsætning!$A$3:$A$79)-CELL(\"row\",Lageromsætning!$A$3:$A$79)+1),ROWS($2:240))),\"\")","v":""},{"$f":"IFERROR(INDEX(Lageromsætning!$AF$3:$AF$79,SMALL(IF(Lageromsætning!$A$3:$A$79=$A$2,ROW(Lageromsætning!$A$3:$A$79)-CELL(\"row\",Lageromsætning!$A$3:$A$79)+1),ROWS($2:240))),\"\")","v":""},{"$f":"SUMIFS('Lager antal'!$D$3:$D$2508,'Lager antal'!$B$3:$B$2508,B242,'Lager antal'!$C$3:$C$2508,C242)","v":0},{"$f":"SUMIFS('Lager antal'!$F$3:$F$2508,'Lager antal'!$B$3:$B$2508,B242,'Lager antal'!$C$3:$C$2508,C242)","v":0},{"$f":"IF(ISNA(VLOOKUP($C242,'Lager antal'!$C$3:$K$508,9,FALSE))=TRUE,\"\",VLOOKUP($C242,'Lager antal'!$C$3:$K$508,9,FALSE))","v":""},{"$f":"IFERROR(INDEX(Lageromsætning!$P$3:$P$79,SMALL(IF(Lageromsætning!$A$3:$A$79=$A$2,ROW(Lageromsætning!$A$3:$A$79)-CELL(\"row\",Lageromsætning!$A$3:$A$79)+1),ROWS($2:240))),\"\")","v":""},{"$f":"+_xlfn.IFS($M242>=0.01,$M242,TRUE,0)-$F242-K242+G242","v":0},{"$f":"SUMIFS('Lager antal'!$G$3:$G$2508,'Lager antal'!$B$3:$B$2508,B242,'Lager antal'!$C$3:$C$2508,C242)","v":0},null,0,{"$f":"SUMIFS(Lageromsætning!$R$3:$R$79,Lageromsætning!$A$3:$A$79,$A$2,Lageromsætning!$C$3:$C$79,B242,Lageromsætning!$D$3:$D$79,C242)","v":0},{"$f":"SUMIFS(Lageromsætning!$S$3:$S$79,Lageromsætning!$C$3:$C$79,B242,Lageromsætning!$D$3:$D$79,C242)","v":0}]
[{"$f":"IFERROR(INDEX(Lageromsætning!$A$3:$A$79,SMALL(IF(Lageromsætning!$A$3:$A$79=$A$2,ROW(Lageromsætning!$A$3:$A$79)-CELL(\"row\",Lageromsætning!$A$3:$A$79)+1),ROWS($1:240))),\"\")","v":""},{"$f":"IFERROR(INDEX(Lageromsætning!$C$3:$C$79,SMALL(IF(Lageromsætning!$A$3:$A$79=$A$2,ROW(Lageromsætning!$A$3:$A$79)-CELL(\"row\",Lageromsætning!$A$3:$A$79)+1),ROWS($2:241))),\"\")","v":""},{"$f":"IFERROR(INDEX(Lageromsætning!$D$3:$D$79,SMALL(IF(Lageromsætning!$A$3:$A$79=$A$2,ROW(Lageromsætning!$A$3:$A$79)-CELL(\"row\",Lageromsætning!$A$3:$A$79)+1),ROWS($2:241))),\"\")","v":""},{"$f":"IFERROR(INDEX(Lageromsætning!$E$3:$E$79,SMALL(IF(Lageromsætning!$A$3:$A$79=$A$2,ROW(Lageromsætning!$A$3:$A$79)-CELL(\"row\",Lageromsætning!$A$3:$A$79)+1),ROWS($2:241))),\"\")","v":""},{"$f":"IFERROR(INDEX(Lageromsætning!$AF$3:$AF$79,SMALL(IF(Lageromsætning!$A$3:$A$79=$A$2,ROW(Lageromsætning!$A$3:$A$79)-CELL(\"row\",Lageromsætning!$A$3:$A$79)+1),ROWS($2:241))),\"\")","v":""},{"$f":"SUMIFS('Lager antal'!$D$3:$D$2508,'Lager antal'!$B$3:$B$2508,B243,'Lager antal'!$C$3:$C$2508,C243)","v":0},{"$f":"SUMIFS('Lager antal'!$F$3:$F$2508,'Lager antal'!$B$3:$B$2508,B243,'Lager antal'!$C$3:$C$2508,C243)","v":0},{"$f":"IF(ISNA(VLOOKUP($C243,'Lager antal'!$C$3:$K$508,9,FALSE))=TRUE,\"\",VLOOKUP($C243,'Lager antal'!$C$3:$K$508,9,FALSE))","v":""},{"$f":"IFERROR(INDEX(Lageromsætning!$P$3:$P$79,SMALL(IF(Lageromsætning!$A$3:$A$79=$A$2,ROW(Lageromsætning!$A$3:$A$79)-CELL(\"row\",Lageromsætning!$A$3:$A$79)+1),ROWS($2:241))),\"\")","v":""},{"$f":"+_xlfn.IFS($M243>=0.01,$M243,TRUE,0)-$F243-K243+G243","v":0},{"$f":"SUMIFS('Lager antal'!$G$3:$G$2508,'Lager antal'!$B$3:$B$2508,B243,'Lager antal'!$C$3:$C$2508,C243)","v":0},null,0,{"$f":"SUMIFS(Lageromsætning!$R$3:$R$79,Lageromsætning!$A$3:$A$79,$A$2,Lageromsætning!$C$3:$C$79,B243,Lageromsætning!$D$3:$D$79,C243)","v":0},{"$f":"SUMIFS(Lageromsætning!$S$3:$S$79,Lageromsætning!$C$3:$C$79,B243,Lageromsætning!$D$3:$D$79,C243)","v":0}]
[{"$f":"IFERROR(INDEX(Lageromsætning!$A$3:$A$79,SMALL(IF(Lageromsætning!$A$3:$A$79=$A$2,ROW(Lageromsætning!$A$3:$A$79)-CELL(\"row\",Lageromsætning!$A$3:$A$79)+1),ROWS($1:241))),\"\")","v":""},{"$f":"IFERROR(INDEX(Lageromsætning!$C$3:$C$79,SMALL(IF(Lageromsætning!$A$3:$A$79=$A$2,ROW(Lageromsætning!$A$3:$A$79)-CELL(\"row\",Lageromsætning!$A$3:$A$79)+1),ROWS($2:242))),\"\")","v":""},{"$f":"IFERROR(INDEX(Lageromsætning!$D$3:$D$79,SMALL(IF(Lageromsætning!$A$3:$A$79=$A$2,ROW(Lageromsætning!$A$3:$A$79)-CELL(\"row\",Lageromsætning!$A$3:$A$79)+1),ROWS($2:242))),\"\")","v":""},{"$f":"IFERROR(INDEX(Lageromsætning!$E$3:$E$79,SMALL(IF(Lageromsætning!$A$3:$A$79=$A$2,ROW(Lageromsætning!$A$3:$A$79)-CELL(\"row\",Lageromsætning!$A$3:$A$79)+1),ROWS($2:242))),\"\")","v":""},{"$f":"IFERROR(INDEX(Lageromsætning!$AF$3:$AF$79,SMALL(IF(Lageromsætning!$A$3:$A$79=$A$2,ROW(Lageromsætning!$A$3:$A$79)-CELL(\"row\",Lageromsætning!$A$3:$A$79)+1),ROWS($2:242))),\"\")","v":""},{"$f":"SUMIFS('Lager antal'!$D$3:$D$2508,'Lager antal'!$B$3:$B$2508,B244,'Lager antal'!$C$3:$C$2508,C244)","v":0},{"$f":"SUMIFS('Lager antal'!$F$3:$F$2508,'Lager antal'!$B$3:$B$2508,B244,'Lager antal'!$C$3:$C$2508,C244)","v":0},{"$f":"IF(ISNA(VLOOKUP($C244,'Lager antal'!$C$3:$K$508,9,FALSE))=TRUE,\"\",VLOOKUP($C244,'Lager antal'!$C$3:$K$508,9,FALSE))","v":""},{"$f":"IFERROR(INDEX(Lageromsætning!$P$3:$P$79,SMALL(IF(Lageromsætning!$A$3:$A$79=$A$2,ROW(Lageromsætning!$A$3:$A$79)-CELL(\"row\",Lageromsætning!$A$3:$A$79)+1),ROWS($2:242))),\"\")","v":""},{"$f":"+_xlfn.IFS($M244>=0.01,$M244,TRUE,0)-$F244-K244+G244","v":0},{"$f":"SUMIFS('Lager antal'!$G$3:$G$2508,'Lager antal'!$B$3:$B$2508,B244,'Lager antal'!$C$3:$C$2508,C244)","v":0},null,0,{"$f":"SUMIFS(Lageromsætning!$R$3:$R$79,Lageromsætning!$A$3:$A$79,$A$2,Lageromsætning!$C$3:$C$79,B244,Lageromsætning!$D$3:$D$79,C244)","v":0},{"$f":"SUMIFS(Lageromsætning!$S$3:$S$79,Lageromsætning!$C$3:$C$79,B244,Lageromsætning!$D$3:$D$79,C244)","v":0}]
[{"$f":"IFERROR(INDEX(Lageromsætning!$A$3:$A$79,SMALL(IF(Lageromsætning!$A$3:$A$79=$A$2,ROW(Lageromsætning!$A$3:$A$79)-CELL(\"row\",Lageromsætning!$A$3:$A$79)+1),ROWS($1:242))),\"\")","v":""},{"$f":"IFERROR(INDEX(Lageromsætning!$C$3:$C$79,SMALL(IF(Lageromsætning!$A$3:$A$79=$A$2,ROW(Lageromsætning!$A$3:$A$79)-CELL(\"row\",Lageromsætning!$A$3:$A$79)+1),ROWS($2:243))),\"\")","v":""},{"$f":"IFERROR(INDEX(Lageromsætning!$D$3:$D$79,SMALL(IF(Lageromsætning!$A$3:$A$79=$A$2,ROW(Lageromsætning!$A$3:$A$79)-CELL(\"row\",Lageromsætning!$A$3:$A$79)+1),ROWS($2:243))),\"\")","v":""},{"$f":"IFERROR(INDEX(Lageromsætning!$E$3:$E$79,SMALL(IF(Lageromsætning!$A$3:$A$79=$A$2,ROW(Lageromsætning!$A$3:$A$79)-CELL(\"row\",Lageromsætning!$A$3:$A$79)+1),ROWS($2:243))),\"\")","v":""},{"$f":"IFERROR(INDEX(Lageromsætning!$AF$3:$AF$79,SMALL(IF(Lageromsætning!$A$3:$A$79=$A$2,ROW(Lageromsætning!$A$3:$A$79)-CELL(\"row\",Lageromsætning!$A$3:$A$79)+1),ROWS($2:243))),\"\")","v":""},{"$f":"SUMIFS('Lager antal'!$D$3:$D$2508,'Lager antal'!$B$3:$B$2508,B245,'Lager antal'!$C$3:$C$2508,C245)","v":0},{"$f":"SUMIFS('Lager antal'!$F$3:$F$2508,'Lager antal'!$B$3:$B$2508,B245,'Lager antal'!$C$3:$C$2508,C245)","v":0},{"$f":"IF(ISNA(VLOOKUP($C245,'Lager antal'!$C$3:$K$508,9,FALSE))=TRUE,\"\",VLOOKUP($C245,'Lager antal'!$C$3:$K$508,9,FALSE))","v":""},{"$f":"IFERROR(INDEX(Lageromsætning!$P$3:$P$79,SMALL(IF(Lageromsætning!$A$3:$A$79=$A$2,ROW(Lageromsætning!$A$3:$A$79)-CELL(\"row\",Lageromsætning!$A$3:$A$79)+1),ROWS($2:243))),\"\")","v":""},{"$f":"+_xlfn.IFS($M245>=0.01,$M245,TRUE,0)-$F245-K245+G245","v":0},{"$f":"SUMIFS('Lager antal'!$G$3:$G$2508,'Lager antal'!$B$3:$B$2508,B245,'Lager antal'!$C$3:$C$2508,C245)","v":0},null,0,{"$f":"SUMIFS(Lageromsætning!$R$3:$R$79,Lageromsætning!$A$3:$A$79,$A$2,Lageromsætning!$C$3:$C$79,B245,Lageromsætning!$D$3:$D$79,C245)","v":0},{"$f":"SUMIFS(Lageromsætning!$S$3:$S$79,Lageromsætning!$C$3:$C$79,B245,Lageromsætning!$D$3:$D$79,C245)","v":0}]
[{"$f":"IFERROR(INDEX(Lageromsætning!$A$3:$A$79,SMALL(IF(Lageromsætning!$A$3:$A$79=$A$2,ROW(Lageromsætning!$A$3:$A$79)-CELL(\"row\",Lageromsætning!$A$3:$A$79)+1),ROWS($1:243))),\"\")","v":""},{"$f":"IFERROR(INDEX(Lageromsætning!$C$3:$C$79,SMALL(IF(Lageromsætning!$A$3:$A$79=$A$2,ROW(Lageromsætning!$A$3:$A$79)-CELL(\"row\",Lageromsætning!$A$3:$A$79)+1),ROWS($2:244))),\"\")","v":""},{"$f":"IFERROR(INDEX(Lageromsætning!$D$3:$D$79,SMALL(IF(Lageromsætning!$A$3:$A$79=$A$2,ROW(Lageromsætning!$A$3:$A$79)-CELL(\"row\",Lageromsætning!$A$3:$A$79)+1),ROWS($2:244))),\"\")","v":""},{"$f":"IFERROR(INDEX(Lageromsætning!$E$3:$E$79,SMALL(IF(Lageromsætning!$A$3:$A$79=$A$2,ROW(Lageromsætning!$A$3:$A$79)-CELL(\"row\",Lageromsætning!$A$3:$A$79)+1),ROWS($2:244))),\"\")","v":""},{"$f":"IFERROR(INDEX(Lageromsætning!$AF$3:$AF$79,SMALL(IF(Lageromsætning!$A$3:$A$79=$A$2,ROW(Lageromsætning!$A$3:$A$79)-CELL(\"row\",Lageromsætning!$A$3:$A$79)+1),ROWS($2:244))),\"\")","v":""},{"$f":"SUMIFS('Lager antal'!$D$3:$D$2508,'Lager antal'!$B$3:$B$2508,B246,'Lager antal'!$C$3:$C$2508,C246)","v":0},{"$f":"SUMIFS('Lager antal'!$F$3:$F$2508,'Lager antal'!$B$3:$B$2508,B246,'Lager antal'!$C$3:$C$2508,C246)","v":0},{"$f":"IF(ISNA(VLOOKUP($C246,'Lager antal'!$C$3:$K$508,9,FALSE))=TRUE,\"\",VLOOKUP($C246,'Lager antal'!$C$3:$K$508,9,FALSE))","v":""},{"$f":"IFERROR(INDEX(Lageromsætning!$P$3:$P$79,SMALL(IF(Lageromsætning!$A$3:$A$79=$A$2,ROW(Lageromsætning!$A$3:$A$79)-CELL(\"row\",Lageromsætning!$A$3:$A$79)+1),ROWS($2:244))),\"\")","v":""},{"$f":"+_xlfn.IFS($M246>=0.01,$M246,TRUE,0)-$F246-K246+G246","v":0},{"$f":"SUMIFS('Lager antal'!$G$3:$G$2508,'Lager antal'!$B$3:$B$2508,B246,'Lager antal'!$C$3:$C$2508,C246)","v":0},null,0,{"$f":"SUMIFS(Lageromsætning!$R$3:$R$79,Lageromsætning!$A$3:$A$79,$A$2,Lageromsætning!$C$3:$C$79,B246,Lageromsætning!$D$3:$D$79,C246)","v":0},{"$f":"SUMIFS(Lageromsætning!$S$3:$S$79,Lageromsætning!$C$3:$C$79,B246,Lageromsætning!$D$3:$D$79,C246)","v":0}]
[{"$f":"IFERROR(INDEX(Lageromsætning!$A$3:$A$79,SMALL(IF(Lageromsætning!$A$3:$A$79=$A$2,ROW(Lageromsætning!$A$3:$A$79)-CELL(\"row\",Lageromsætning!$A$3:$A$79)+1),ROWS($1:244))),\"\")","v":""},{"$f":"IFERROR(INDEX(Lageromsætning!$C$3:$C$79,SMALL(IF(Lageromsætning!$A$3:$A$79=$A$2,ROW(Lageromsætning!$A$3:$A$79)-CELL(\"row\",Lageromsætning!$A$3:$A$79)+1),ROWS($2:245))),\"\")","v":""},{"$f":"IFERROR(INDEX(Lageromsætning!$D$3:$D$79,SMALL(IF(Lageromsætning!$A$3:$A$79=$A$2,ROW(Lageromsætning!$A$3:$A$79)-CELL(\"row\",Lageromsætning!$A$3:$A$79)+1),ROWS($2:245))),\"\")","v":""},{"$f":"IFERROR(INDEX(Lageromsætning!$E$3:$E$79,SMALL(IF(Lageromsætning!$A$3:$A$79=$A$2,ROW(Lageromsætning!$A$3:$A$79)-CELL(\"row\",Lageromsætning!$A$3:$A$79)+1),ROWS($2:245))),\"\")","v":""},{"$f":"IFERROR(INDEX(Lageromsætning!$AF$3:$AF$79,SMALL(IF(Lageromsætning!$A$3:$A$79=$A$2,ROW(Lageromsætning!$A$3:$A$79)-CELL(\"row\",Lageromsætning!$A$3:$A$79)+1),ROWS($2:245))),\"\")","v":""},{"$f":"SUMIFS('Lager antal'!$D$3:$D$2508,'Lager antal'!$B$3:$B$2508,B247,'Lager antal'!$C$3:$C$2508,C247)","v":0},{"$f":"SUMIFS('Lager antal'!$F$3:$F$2508,'Lager antal'!$B$3:$B$2508,B247,'Lager antal'!$C$3:$C$2508,C247)","v":0},{"$f":"IF(ISNA(VLOOKUP($C247,'Lager antal'!$C$3:$K$508,9,FALSE))=TRUE,\"\",VLOOKUP($C247,'Lager antal'!$C$3:$K$508,9,FALSE))","v":""},{"$f":"IFERROR(INDEX(Lageromsætning!$P$3:$P$79,SMALL(IF(Lageromsætning!$A$3:$A$79=$A$2,ROW(Lageromsætning!$A$3:$A$79)-CELL(\"row\",Lageromsætning!$A$3:$A$79)+1),ROWS($2:245))),\"\")","v":""},{"$f":"+_xlfn.IFS($M247>=0.01,$M247,TRUE,0)-$F247-K247+G247","v":0},{"$f":"SUMIFS('Lager antal'!$G$3:$G$2508,'Lager antal'!$B$3:$B$2508,B247,'Lager antal'!$C$3:$C$2508,C247)","v":0},null,0,{"$f":"SUMIFS(Lageromsætning!$R$3:$R$79,Lageromsætning!$A$3:$A$79,$A$2,Lageromsætning!$C$3:$C$79,B247,Lageromsætning!$D$3:$D$79,C247)","v":0},{"$f":"SUMIFS(Lageromsætning!$S$3:$S$79,Lageromsætning!$C$3:$C$79,B247,Lageromsætning!$D$3:$D$79,C247)","v":0}]
[{"$f":"IFERROR(INDEX(Lageromsætning!$A$3:$A$79,SMALL(IF(Lageromsætning!$A$3:$A$79=$A$2,ROW(Lageromsætning!$A$3:$A$79)-CELL(\"row\",Lageromsætning!$A$3:$A$79)+1),ROWS($1:245))),\"\")","v":""},{"$f":"IFERROR(INDEX(Lageromsætning!$C$3:$C$79,SMALL(IF(Lageromsætning!$A$3:$A$79=$A$2,ROW(Lageromsætning!$A$3:$A$79)-CELL(\"row\",Lageromsætning!$A$3:$A$79)+1),ROWS($2:246))),\"\")","v":""},{"$f":"IFERROR(INDEX(Lageromsætning!$D$3:$D$79,SMALL(IF(Lageromsætning!$A$3:$A$79=$A$2,ROW(Lageromsætning!$A$3:$A$79)-CELL(\"row\",Lageromsætning!$A$3:$A$79)+1),ROWS($2:246))),\"\")","v":""},{"$f":"IFERROR(INDEX(Lageromsætning!$E$3:$E$79,SMALL(IF(Lageromsætning!$A$3:$A$79=$A$2,ROW(Lageromsætning!$A$3:$A$79)-CELL(\"row\",Lageromsætning!$A$3:$A$79)+1),ROWS($2:246))),\"\")","v":""},{"$f":"IFERROR(INDEX(Lageromsætning!$AF$3:$AF$79,SMALL(IF(Lageromsætning!$A$3:$A$79=$A$2,ROW(Lageromsætning!$A$3:$A$79)-CELL(\"row\",Lageromsætning!$A$3:$A$79)+1),ROWS($2:246))),\"\")","v":""},{"$f":"SUMIFS('Lager antal'!$D$3:$D$2508,'Lager antal'!$B$3:$B$2508,B248,'Lager antal'!$C$3:$C$2508,C248)","v":0},{"$f":"SUMIFS('Lager antal'!$F$3:$F$2508,'Lager antal'!$B$3:$B$2508,B248,'Lager antal'!$C$3:$C$2508,C248)","v":0},{"$f":"IF(ISNA(VLOOKUP($C248,'Lager antal'!$C$3:$K$508,9,FALSE))=TRUE,\"\",VLOOKUP($C248,'Lager antal'!$C$3:$K$508,9,FALSE))","v":""},{"$f":"IFERROR(INDEX(Lageromsætning!$P$3:$P$79,SMALL(IF(Lageromsætning!$A$3:$A$79=$A$2,ROW(Lageromsætning!$A$3:$A$79)-CELL(\"row\",Lageromsætning!$A$3:$A$79)+1),ROWS($2:246))),\"\")","v":""},{"$f":"+_xlfn.IFS($M248>=0.01,$M248,TRUE,0)-$F248-K248+G248","v":0},{"$f":"SUMIFS('Lager antal'!$G$3:$G$2508,'Lager antal'!$B$3:$B$2508,B248,'Lager antal'!$C$3:$C$2508,C248)","v":0},null,0,{"$f":"SUMIFS(Lageromsætning!$R$3:$R$79,Lageromsætning!$A$3:$A$79,$A$2,Lageromsætning!$C$3:$C$79,B248,Lageromsætning!$D$3:$D$79,C248)","v":0},{"$f":"SUMIFS(Lageromsætning!$S$3:$S$79,Lageromsætning!$C$3:$C$79,B248,Lageromsætning!$D$3:$D$79,C248)","v":0}]
[{"$f":"IFERROR(INDEX(Lageromsætning!$A$3:$A$79,SMALL(IF(Lageromsætning!$A$3:$A$79=$A$2,ROW(Lageromsætning!$A$3:$A$79)-CELL(\"row\",Lageromsætning!$A$3:$A$79)+1),ROWS($1:246))),\"\")","v":""},{"$f":"IFERROR(INDEX(Lageromsætning!$C$3:$C$79,SMALL(IF(Lageromsætning!$A$3:$A$79=$A$2,ROW(Lageromsætning!$A$3:$A$79)-CELL(\"row\",Lageromsætning!$A$3:$A$79)+1),ROWS($2:247))),\"\")","v":""},{"$f":"IFERROR(INDEX(Lageromsætning!$D$3:$D$79,SMALL(IF(Lageromsætning!$A$3:$A$79=$A$2,ROW(Lageromsætning!$A$3:$A$79)-CELL(\"row\",Lageromsætning!$A$3:$A$79)+1),ROWS($2:247))),\"\")","v":""},{"$f":"IFERROR(INDEX(Lageromsætning!$E$3:$E$79,SMALL(IF(Lageromsætning!$A$3:$A$79=$A$2,ROW(Lageromsætning!$A$3:$A$79)-CELL(\"row\",Lageromsætning!$A$3:$A$79)+1),ROWS($2:247))),\"\")","v":""},{"$f":"IFERROR(INDEX(Lageromsætning!$AF$3:$AF$79,SMALL(IF(Lageromsætning!$A$3:$A$79=$A$2,ROW(Lageromsætning!$A$3:$A$79)-CELL(\"row\",Lageromsætning!$A$3:$A$79)+1),ROWS($2:247))),\"\")","v":""},{"$f":"SUMIFS('Lager antal'!$D$3:$D$2508,'Lager antal'!$B$3:$B$2508,B249,'Lager antal'!$C$3:$C$2508,C249)","v":0},{"$f":"SUMIFS('Lager antal'!$F$3:$F$2508,'Lager antal'!$B$3:$B$2508,B249,'Lager antal'!$C$3:$C$2508,C249)","v":0},{"$f":"IF(ISNA(VLOOKUP($C249,'Lager antal'!$C$3:$K$508,9,FALSE))=TRUE,\"\",VLOOKUP($C249,'Lager antal'!$C$3:$K$508,9,FALSE))","v":""},{"$f":"IFERROR(INDEX(Lageromsætning!$P$3:$P$79,SMALL(IF(Lageromsætning!$A$3:$A$79=$A$2,ROW(Lageromsætning!$A$3:$A$79)-CELL(\"row\",Lageromsætning!$A$3:$A$79)+1),ROWS($2:247))),\"\")","v":""},{"$f":"+_xlfn.IFS($M249>=0.01,$M249,TRUE,0)-$F249-K249+G249","v":0},{"$f":"SUMIFS('Lager antal'!$G$3:$G$2508,'Lager antal'!$B$3:$B$2508,B249,'Lager antal'!$C$3:$C$2508,C249)","v":0},null,0,{"$f":"SUMIFS(Lageromsætning!$R$3:$R$79,Lageromsætning!$A$3:$A$79,$A$2,Lageromsætning!$C$3:$C$79,B249,Lageromsætning!$D$3:$D$79,C249)","v":0},{"$f":"SUMIFS(Lageromsætning!$S$3:$S$79,Lageromsætning!$C$3:$C$79,B249,Lageromsætning!$D$3:$D$79,C249)","v":0}]
[{"$f":"IFERROR(INDEX(Lageromsætning!$A$3:$A$79,SMALL(IF(Lageromsætning!$A$3:$A$79=$A$2,ROW(Lageromsætning!$A$3:$A$79)-CELL(\"row\",Lageromsætning!$A$3:$A$79)+1),ROWS($1:247))),\"\")","v":""},{"$f":"IFERROR(INDEX(Lageromsætning!$C$3:$C$79,SMALL(IF(Lageromsætning!$A$3:$A$79=$A$2,ROW(Lageromsætning!$A$3:$A$79)-CELL(\"row\",Lageromsætning!$A$3:$A$79)+1),ROWS($2:248))),\"\")","v":""},{"$f":"IFERROR(INDEX(Lageromsætning!$D$3:$D$79,SMALL(IF(Lageromsætning!$A$3:$A$79=$A$2,ROW(Lageromsætning!$A$3:$A$79)-CELL(\"row\",Lageromsætning!$A$3:$A$79)+1),ROWS($2:248))),\"\")","v":""},{"$f":"IFERROR(INDEX(Lageromsætning!$E$3:$E$79,SMALL(IF(Lageromsætning!$A$3:$A$79=$A$2,ROW(Lageromsætning!$A$3:$A$79)-CELL(\"row\",Lageromsætning!$A$3:$A$79)+1),ROWS($2:248))),\"\")","v":""},{"$f":"IFERROR(INDEX(Lageromsætning!$AF$3:$AF$79,SMALL(IF(Lageromsætning!$A$3:$A$79=$A$2,ROW(Lageromsætning!$A$3:$A$79)-CELL(\"row\",Lageromsætning!$A$3:$A$79)+1),ROWS($2:248))),\"\")","v":""},{"$f":"SUMIFS('Lager antal'!$D$3:$D$2508,'Lager antal'!$B$3:$B$2508,B250,'Lager antal'!$C$3:$C$2508,C250)","v":0},{"$f":"SUMIFS('Lager antal'!$F$3:$F$2508,'Lager antal'!$B$3:$B$2508,B250,'Lager antal'!$C$3:$C$2508,C250)","v":0},{"$f":"IF(ISNA(VLOOKUP($C250,'Lager antal'!$C$3:$K$508,9,FALSE))=TRUE,\"\",VLOOKUP($C250,'Lager antal'!$C$3:$K$508,9,FALSE))","v":""},{"$f":"IFERROR(INDEX(Lageromsætning!$P$3:$P$79,SMALL(IF(Lageromsætning!$A$3:$A$79=$A$2,ROW(Lageromsætning!$A$3:$A$79)-CELL(\"row\",Lageromsætning!$A$3:$A$79)+1),ROWS($2:248))),\"\")","v":""},{"$f":"+_xlfn.IFS($M250>=0.01,$M250,TRUE,0)-$F250-K250+G250","v":0},{"$f":"SUMIFS('Lager antal'!$G$3:$G$2508,'Lager antal'!$B$3:$B$2508,B250,'Lager antal'!$C$3:$C$2508,C250)","v":0},null,0,{"$f":"SUMIFS(Lageromsætning!$R$3:$R$79,Lageromsætning!$A$3:$A$79,$A$2,Lageromsætning!$C$3:$C$79,B250,Lageromsætning!$D$3:$D$79,C250)","v":0},{"$f":"SUMIFS(Lageromsætning!$S$3:$S$79,Lageromsætning!$C$3:$C$79,B250,Lageromsætning!$D$3:$D$79,C250)","v":0}]
[{"$f":"IFERROR(INDEX(Lageromsætning!$A$3:$A$79,SMALL(IF(Lageromsætning!$A$3:$A$79=$A$2,ROW(Lageromsætning!$A$3:$A$79)-CELL(\"row\",Lageromsætning!$A$3:$A$79)+1),ROWS($1:248))),\"\")","v":""},{"$f":"IFERROR(INDEX(Lageromsætning!$C$3:$C$79,SMALL(IF(Lageromsætning!$A$3:$A$79=$A$2,ROW(Lageromsætning!$A$3:$A$79)-CELL(\"row\",Lageromsætning!$A$3:$A$79)+1),ROWS($2:249))),\"\")","v":""},{"$f":"IFERROR(INDEX(Lageromsætning!$D$3:$D$79,SMALL(IF(Lageromsætning!$A$3:$A$79=$A$2,ROW(Lageromsætning!$A$3:$A$79)-CELL(\"row\",Lageromsætning!$A$3:$A$79)+1),ROWS($2:249))),\"\")","v":""},{"$f":"IFERROR(INDEX(Lageromsætning!$E$3:$E$79,SMALL(IF(Lageromsætning!$A$3:$A$79=$A$2,ROW(Lageromsætning!$A$3:$A$79)-CELL(\"row\",Lageromsætning!$A$3:$A$79)+1),ROWS($2:249))),\"\")","v":""},{"$f":"IFERROR(INDEX(Lageromsætning!$AF$3:$AF$79,SMALL(IF(Lageromsætning!$A$3:$A$79=$A$2,ROW(Lageromsætning!$A$3:$A$79)-CELL(\"row\",Lageromsætning!$A$3:$A$79)+1),ROWS($2:249))),\"\")","v":""},{"$f":"SUMIFS('Lager antal'!$D$3:$D$2508,'Lager antal'!$B$3:$B$2508,B251,'Lager antal'!$C$3:$C$2508,C251)","v":0},{"$f":"SUMIFS('Lager antal'!$F$3:$F$2508,'Lager antal'!$B$3:$B$2508,B251,'Lager antal'!$C$3:$C$2508,C251)","v":0},{"$f":"IF(ISNA(VLOOKUP($C251,'Lager antal'!$C$3:$K$508,9,FALSE))=TRUE,\"\",VLOOKUP($C251,'Lager antal'!$C$3:$K$508,9,FALSE))","v":""},{"$f":"IFERROR(INDEX(Lageromsætning!$P$3:$P$79,SMALL(IF(Lageromsætning!$A$3:$A$79=$A$2,ROW(Lageromsætning!$A$3:$A$79)-CELL(\"row\",Lageromsætning!$A$3:$A$79)+1),ROWS($2:249))),\"\")","v":""},{"$f":"+_xlfn.IFS($M251>=0.01,$M251,TRUE,0)-$F251-K251+G251","v":0},{"$f":"SUMIFS('Lager antal'!$G$3:$G$2508,'Lager antal'!$B$3:$B$2508,B251,'Lager antal'!$C$3:$C$2508,C251)","v":0},null,0,{"$f":"SUMIFS(Lageromsætning!$R$3:$R$79,Lageromsætning!$A$3:$A$79,$A$2,Lageromsætning!$C$3:$C$79,B251,Lageromsætning!$D$3:$D$79,C251)","v":0},{"$f":"SUMIFS(Lageromsætning!$S$3:$S$79,Lageromsætning!$C$3:$C$79,B251,Lageromsætning!$D$3:$D$79,C251)","v":0}]
[{"$f":"IFERROR(INDEX(Lageromsætning!$A$3:$A$79,SMALL(IF(Lageromsætning!$A$3:$A$79=$A$2,ROW(Lageromsætning!$A$3:$A$79)-CELL(\"row\",Lageromsætning!$A$3:$A$79)+1),ROWS($1:249))),\"\")","v":""},{"$f":"IFERROR(INDEX(Lageromsætning!$C$3:$C$79,SMALL(IF(Lageromsætning!$A$3:$A$79=$A$2,ROW(Lageromsætning!$A$3:$A$79)-CELL(\"row\",Lageromsætning!$A$3:$A$79)+1),ROWS($2:250))),\"\")","v":""},{"$f":"IFERROR(INDEX(Lageromsætning!$D$3:$D$79,SMALL(IF(Lageromsætning!$A$3:$A$79=$A$2,ROW(Lageromsætning!$A$3:$A$79)-CELL(\"row\",Lageromsætning!$A$3:$A$79)+1),ROWS($2:250))),\"\")","v":""},{"$f":"IFERROR(INDEX(Lageromsætning!$E$3:$E$79,SMALL(IF(Lageromsætning!$A$3:$A$79=$A$2,ROW(Lageromsætning!$A$3:$A$79)-CELL(\"row\",Lageromsætning!$A$3:$A$79)+1),ROWS($2:250))),\"\")","v":""},{"$f":"IFERROR(INDEX(Lageromsætning!$AF$3:$AF$79,SMALL(IF(Lageromsætning!$A$3:$A$79=$A$2,ROW(Lageromsætning!$A$3:$A$79)-CELL(\"row\",Lageromsætning!$A$3:$A$79)+1),ROWS($2:250))),\"\")","v":""},{"$f":"SUMIFS('Lager antal'!$D$3:$D$2508,'Lager antal'!$B$3:$B$2508,B252,'Lager antal'!$C$3:$C$2508,C252)","v":0},{"$f":"SUMIFS('Lager antal'!$F$3:$F$2508,'Lager antal'!$B$3:$B$2508,B252,'Lager antal'!$C$3:$C$2508,C252)","v":0},{"$f":"IF(ISNA(VLOOKUP($C252,'Lager antal'!$C$3:$K$508,9,FALSE))=TRUE,\"\",VLOOKUP($C252,'Lager antal'!$C$3:$K$508,9,FALSE))","v":""},{"$f":"IFERROR(INDEX(Lageromsætning!$P$3:$P$79,SMALL(IF(Lageromsætning!$A$3:$A$79=$A$2,ROW(Lageromsætning!$A$3:$A$79)-CELL(\"row\",Lageromsætning!$A$3:$A$79)+1),ROWS($2:250))),\"\")","v":""},{"$f":"+_xlfn.IFS($M252>=0.01,$M252,TRUE,0)-$F252-K252+G252","v":0},{"$f":"SUMIFS('Lager antal'!$G$3:$G$2508,'Lager antal'!$B$3:$B$2508,B252,'Lager antal'!$C$3:$C$2508,C252)","v":0},null,0,{"$f":"SUMIFS(Lageromsætning!$R$3:$R$79,Lageromsætning!$A$3:$A$79,$A$2,Lageromsætning!$C$3:$C$79,B252,Lageromsætning!$D$3:$D$79,C252)","v":0},{"$f":"SUMIFS(Lageromsætning!$S$3:$S$79,Lageromsætning!$C$3:$C$79,B252,Lageromsætning!$D$3:$D$79,C252)","v":0}]
[{"$f":"IFERROR(INDEX(Lageromsætning!$A$3:$A$79,SMALL(IF(Lageromsætning!$A$3:$A$79=$A$2,ROW(Lageromsætning!$A$3:$A$79)-CELL(\"row\",Lageromsætning!$A$3:$A$79)+1),ROWS($1:250))),\"\")","v":""},{"$f":"IFERROR(INDEX(Lageromsætning!$C$3:$C$79,SMALL(IF(Lageromsætning!$A$3:$A$79=$A$2,ROW(Lageromsætning!$A$3:$A$79)-CELL(\"row\",Lageromsætning!$A$3:$A$79)+1),ROWS($2:251))),\"\")","v":""},{"$f":"IFERROR(INDEX(Lageromsætning!$D$3:$D$79,SMALL(IF(Lageromsætning!$A$3:$A$79=$A$2,ROW(Lageromsætning!$A$3:$A$79)-CELL(\"row\",Lageromsætning!$A$3:$A$79)+1),ROWS($2:251))),\"\")","v":""},{"$f":"IFERROR(INDEX(Lageromsætning!$E$3:$E$79,SMALL(IF(Lageromsætning!$A$3:$A$79=$A$2,ROW(Lageromsætning!$A$3:$A$79)-CELL(\"row\",Lageromsætning!$A$3:$A$79)+1),ROWS($2:251))),\"\")","v":""},{"$f":"IFERROR(INDEX(Lageromsætning!$AF$3:$AF$79,SMALL(IF(Lageromsætning!$A$3:$A$79=$A$2,ROW(Lageromsætning!$A$3:$A$79)-CELL(\"row\",Lageromsætning!$A$3:$A$79)+1),ROWS($2:251))),\"\")","v":""},{"$f":"SUMIFS('Lager antal'!$D$3:$D$2508,'Lager antal'!$B$3:$B$2508,B253,'Lager antal'!$C$3:$C$2508,C253)","v":0},{"$f":"SUMIFS('Lager antal'!$F$3:$F$2508,'Lager antal'!$B$3:$B$2508,B253,'Lager antal'!$C$3:$C$2508,C253)","v":0},{"$f":"IF(ISNA(VLOOKUP($C253,'Lager antal'!$C$3:$K$508,9,FALSE))=TRUE,\"\",VLOOKUP($C253,'Lager antal'!$C$3:$K$508,9,FALSE))","v":""},{"$f":"IFERROR(INDEX(Lageromsætning!$P$3:$P$79,SMALL(IF(Lageromsætning!$A$3:$A$79=$A$2,ROW(Lageromsætning!$A$3:$A$79)-CELL(\"row\",Lageromsætning!$A$3:$A$79)+1),ROWS($2:251))),\"\")","v":""},{"$f":"+_xlfn.IFS($M253>=0.01,$M253,TRUE,0)-$F253-K253+G253","v":0},{"$f":"SUMIFS('Lager antal'!$G$3:$G$2508,'Lager antal'!$B$3:$B$2508,B253,'Lager antal'!$C$3:$C$2508,C253)","v":0},null,0,{"$f":"SUMIFS(Lageromsætning!$R$3:$R$79,Lageromsætning!$A$3:$A$79,$A$2,Lageromsætning!$C$3:$C$79,B253,Lageromsætning!$D$3:$D$79,C253)","v":0},{"$f":"SUMIFS(Lageromsætning!$S$3:$S$79,Lageromsætning!$C$3:$C$79,B253,Lageromsætning!$D$3:$D$79,C253)","v":0}]
[{"$f":"IFERROR(INDEX(Lageromsætning!$A$3:$A$79,SMALL(IF(Lageromsætning!$A$3:$A$79=$A$2,ROW(Lageromsætning!$A$3:$A$79)-CELL(\"row\",Lageromsætning!$A$3:$A$79)+1),ROWS($1:251))),\"\")","v":""},{"$f":"IFERROR(INDEX(Lageromsætning!$C$3:$C$79,SMALL(IF(Lageromsætning!$A$3:$A$79=$A$2,ROW(Lageromsætning!$A$3:$A$79)-CELL(\"row\",Lageromsætning!$A$3:$A$79)+1),ROWS($2:252))),\"\")","v":""},{"$f":"IFERROR(INDEX(Lageromsætning!$D$3:$D$79,SMALL(IF(Lageromsætning!$A$3:$A$79=$A$2,ROW(Lageromsætning!$A$3:$A$79)-CELL(\"row\",Lageromsætning!$A$3:$A$79)+1),ROWS($2:252))),\"\")","v":""},{"$f":"IFERROR(INDEX(Lageromsætning!$E$3:$E$79,SMALL(IF(Lageromsætning!$A$3:$A$79=$A$2,ROW(Lageromsætning!$A$3:$A$79)-CELL(\"row\",Lageromsætning!$A$3:$A$79)+1),ROWS($2:252))),\"\")","v":""},{"$f":"IFERROR(INDEX(Lageromsætning!$AF$3:$AF$79,SMALL(IF(Lageromsætning!$A$3:$A$79=$A$2,ROW(Lageromsætning!$A$3:$A$79)-CELL(\"row\",Lageromsætning!$A$3:$A$79)+1),ROWS($2:252))),\"\")","v":""},{"$f":"SUMIFS('Lager antal'!$D$3:$D$2508,'Lager antal'!$B$3:$B$2508,B254,'Lager antal'!$C$3:$C$2508,C254)","v":0},{"$f":"SUMIFS('Lager antal'!$F$3:$F$2508,'Lager antal'!$B$3:$B$2508,B254,'Lager antal'!$C$3:$C$2508,C254)","v":0},{"$f":"IF(ISNA(VLOOKUP($C254,'Lager antal'!$C$3:$K$508,9,FALSE))=TRUE,\"\",VLOOKUP($C254,'Lager antal'!$C$3:$K$508,9,FALSE))","v":""},{"$f":"IFERROR(INDEX(Lageromsætning!$P$3:$P$79,SMALL(IF(Lageromsætning!$A$3:$A$79=$A$2,ROW(Lageromsætning!$A$3:$A$79)-CELL(\"row\",Lageromsætning!$A$3:$A$79)+1),ROWS($2:252))),\"\")","v":""},{"$f":"+_xlfn.IFS($M254>=0.01,$M254,TRUE,0)-$F254-K254+G254","v":0},{"$f":"SUMIFS('Lager antal'!$G$3:$G$2508,'Lager antal'!$B$3:$B$2508,B254,'Lager antal'!$C$3:$C$2508,C254)","v":0},null,0,{"$f":"SUMIFS(Lageromsætning!$R$3:$R$79,Lageromsætning!$A$3:$A$79,$A$2,Lageromsætning!$C$3:$C$79,B254,Lageromsætning!$D$3:$D$79,C254)","v":0},{"$f":"SUMIFS(Lageromsætning!$S$3:$S$79,Lageromsætning!$C$3:$C$79,B254,Lageromsætning!$D$3:$D$79,C254)","v":0}]
[{"$f":"IFERROR(INDEX(Lageromsætning!$A$3:$A$79,SMALL(IF(Lageromsætning!$A$3:$A$79=$A$2,ROW(Lageromsætning!$A$3:$A$79)-CELL(\"row\",Lageromsætning!$A$3:$A$79)+1),ROWS($1:252))),\"\")","v":""},{"$f":"IFERROR(INDEX(Lageromsætning!$C$3:$C$79,SMALL(IF(Lageromsætning!$A$3:$A$79=$A$2,ROW(Lageromsætning!$A$3:$A$79)-CELL(\"row\",Lageromsætning!$A$3:$A$79)+1),ROWS($2:253))),\"\")","v":""},{"$f":"IFERROR(INDEX(Lageromsætning!$D$3:$D$79,SMALL(IF(Lageromsætning!$A$3:$A$79=$A$2,ROW(Lageromsætning!$A$3:$A$79)-CELL(\"row\",Lageromsætning!$A$3:$A$79)+1),ROWS($2:253))),\"\")","v":""},{"$f":"IFERROR(INDEX(Lageromsætning!$E$3:$E$79,SMALL(IF(Lageromsætning!$A$3:$A$79=$A$2,ROW(Lageromsætning!$A$3:$A$79)-CELL(\"row\",Lageromsætning!$A$3:$A$79)+1),ROWS($2:253))),\"\")","v":""},{"$f":"IFERROR(INDEX(Lageromsætning!$AF$3:$AF$79,SMALL(IF(Lageromsætning!$A$3:$A$79=$A$2,ROW(Lageromsætning!$A$3:$A$79)-CELL(\"row\",Lageromsætning!$A$3:$A$79)+1),ROWS($2:253))),\"\")","v":""},{"$f":"SUMIFS('Lager antal'!$D$3:$D$2508,'Lager antal'!$B$3:$B$2508,B255,'Lager antal'!$C$3:$C$2508,C255)","v":0},{"$f":"SUMIFS('Lager antal'!$F$3:$F$2508,'Lager antal'!$B$3:$B$2508,B255,'Lager antal'!$C$3:$C$2508,C255)","v":0},{"$f":"IF(ISNA(VLOOKUP($C255,'Lager antal'!$C$3:$K$508,9,FALSE))=TRUE,\"\",VLOOKUP($C255,'Lager antal'!$C$3:$K$508,9,FALSE))","v":""},{"$f":"IFERROR(INDEX(Lageromsætning!$P$3:$P$79,SMALL(IF(Lageromsætning!$A$3:$A$79=$A$2,ROW(Lageromsætning!$A$3:$A$79)-CELL(\"row\",Lageromsætning!$A$3:$A$79)+1),ROWS($2:253))),\"\")","v":""},{"$f":"+_xlfn.IFS($M255>=0.01,$M255,TRUE,0)-$F255-K255+G255","v":0},{"$f":"SUMIFS('Lager antal'!$G$3:$G$2508,'Lager antal'!$B$3:$B$2508,B255,'Lager antal'!$C$3:$C$2508,C255)","v":0},null,0,{"$f":"SUMIFS(Lageromsætning!$R$3:$R$79,Lageromsætning!$A$3:$A$79,$A$2,Lageromsætning!$C$3:$C$79,B255,Lageromsætning!$D$3:$D$79,C255)","v":0},{"$f":"SUMIFS(Lageromsætning!$S$3:$S$79,Lageromsætning!$C$3:$C$79,B255,Lageromsætning!$D$3:$D$79,C255)","v":0}]
[{"$f":"IFERROR(INDEX(Lageromsætning!$A$3:$A$79,SMALL(IF(Lageromsætning!$A$3:$A$79=$A$2,ROW(Lageromsætning!$A$3:$A$79)-CELL(\"row\",Lageromsætning!$A$3:$A$79)+1),ROWS($1:253))),\"\")","v":""},{"$f":"IFERROR(INDEX(Lageromsætning!$C$3:$C$79,SMALL(IF(Lageromsætning!$A$3:$A$79=$A$2,ROW(Lageromsætning!$A$3:$A$79)-CELL(\"row\",Lageromsætning!$A$3:$A$79)+1),ROWS($2:254))),\"\")","v":""},{"$f":"IFERROR(INDEX(Lageromsætning!$D$3:$D$79,SMALL(IF(Lageromsætning!$A$3:$A$79=$A$2,ROW(Lageromsætning!$A$3:$A$79)-CELL(\"row\",Lageromsætning!$A$3:$A$79)+1),ROWS($2:254))),\"\")","v":""},{"$f":"IFERROR(INDEX(Lageromsætning!$E$3:$E$79,SMALL(IF(Lageromsætning!$A$3:$A$79=$A$2,ROW(Lageromsætning!$A$3:$A$79)-CELL(\"row\",Lageromsætning!$A$3:$A$79)+1),ROWS($2:254))),\"\")","v":""},{"$f":"IFERROR(INDEX(Lageromsætning!$AF$3:$AF$79,SMALL(IF(Lageromsætning!$A$3:$A$79=$A$2,ROW(Lageromsætning!$A$3:$A$79)-CELL(\"row\",Lageromsætning!$A$3:$A$79)+1),ROWS($2:254))),\"\")","v":""},{"$f":"SUMIFS('Lager antal'!$D$3:$D$2508,'Lager antal'!$B$3:$B$2508,B256,'Lager antal'!$C$3:$C$2508,C256)","v":0},{"$f":"SUMIFS('Lager antal'!$F$3:$F$2508,'Lager antal'!$B$3:$B$2508,B256,'Lager antal'!$C$3:$C$2508,C256)","v":0},{"$f":"IF(ISNA(VLOOKUP($C256,'Lager antal'!$C$3:$K$508,9,FALSE))=TRUE,\"\",VLOOKUP($C256,'Lager antal'!$C$3:$K$508,9,FALSE))","v":""},{"$f":"IFERROR(INDEX(Lageromsætning!$P$3:$P$79,SMALL(IF(Lageromsætning!$A$3:$A$79=$A$2,ROW(Lageromsætning!$A$3:$A$79)-CELL(\"row\",Lageromsætning!$A$3:$A$79)+1),ROWS($2:254))),\"\")","v":""},{"$f":"+_xlfn.IFS($M256>=0.01,$M256,TRUE,0)-$F256-K256+G256","v":0},{"$f":"SUMIFS('Lager antal'!$G$3:$G$2508,'Lager antal'!$B$3:$B$2508,B256,'Lager antal'!$C$3:$C$2508,C256)","v":0},null,0,{"$f":"SUMIFS(Lageromsætning!$R$3:$R$79,Lageromsætning!$A$3:$A$79,$A$2,Lageromsætning!$C$3:$C$79,B256,Lageromsætning!$D$3:$D$79,C256)","v":0},{"$f":"SUMIFS(Lageromsætning!$S$3:$S$79,Lageromsætning!$C$3:$C$79,B256,Lageromsætning!$D$3:$D$79,C256)","v":0}]
[{"$f":"IFERROR(INDEX(Lageromsætning!$A$3:$A$79,SMALL(IF(Lageromsætning!$A$3:$A$79=$A$2,ROW(Lageromsætning!$A$3:$A$79)-CELL(\"row\",Lageromsætning!$A$3:$A$79)+1),ROWS($1:254))),\"\")","v":""},{"$f":"IFERROR(INDEX(Lageromsætning!$C$3:$C$79,SMALL(IF(Lageromsætning!$A$3:$A$79=$A$2,ROW(Lageromsætning!$A$3:$A$79)-CELL(\"row\",Lageromsætning!$A$3:$A$79)+1),ROWS($2:255))),\"\")","v":""},{"$f":"IFERROR(INDEX(Lageromsætning!$D$3:$D$79,SMALL(IF(Lageromsætning!$A$3:$A$79=$A$2,ROW(Lageromsætning!$A$3:$A$79)-CELL(\"row\",Lageromsætning!$A$3:$A$79)+1),ROWS($2:255))),\"\")","v":""},{"$f":"IFERROR(INDEX(Lageromsætning!$E$3:$E$79,SMALL(IF(Lageromsætning!$A$3:$A$79=$A$2,ROW(Lageromsætning!$A$3:$A$79)-CELL(\"row\",Lageromsætning!$A$3:$A$79)+1),ROWS($2:255))),\"\")","v":""},{"$f":"IFERROR(INDEX(Lageromsætning!$AF$3:$AF$79,SMALL(IF(Lageromsætning!$A$3:$A$79=$A$2,ROW(Lageromsætning!$A$3:$A$79)-CELL(\"row\",Lageromsætning!$A$3:$A$79)+1),ROWS($2:255))),\"\")","v":""},{"$f":"SUMIFS('Lager antal'!$D$3:$D$2508,'Lager antal'!$B$3:$B$2508,B257,'Lager antal'!$C$3:$C$2508,C257)","v":0},{"$f":"SUMIFS('Lager antal'!$F$3:$F$2508,'Lager antal'!$B$3:$B$2508,B257,'Lager antal'!$C$3:$C$2508,C257)","v":0},{"$f":"IF(ISNA(VLOOKUP($C257,'Lager antal'!$C$3:$K$508,9,FALSE))=TRUE,\"\",VLOOKUP($C257,'Lager antal'!$C$3:$K$508,9,FALSE))","v":""},{"$f":"IFERROR(INDEX(Lageromsætning!$P$3:$P$79,SMALL(IF(Lageromsætning!$A$3:$A$79=$A$2,ROW(Lageromsætning!$A$3:$A$79)-CELL(\"row\",Lageromsætning!$A$3:$A$79)+1),ROWS($2:255))),\"\")","v":""},{"$f":"+_xlfn.IFS($M257>=0.01,$M257,TRUE,0)-$F257-K257+G257","v":0},{"$f":"SUMIFS('Lager antal'!$G$3:$G$2508,'Lager antal'!$B$3:$B$2508,B257,'Lager antal'!$C$3:$C$2508,C257)","v":0},null,0,{"$f":"SUMIFS(Lageromsætning!$R$3:$R$79,Lageromsætning!$A$3:$A$79,$A$2,Lageromsætning!$C$3:$C$79,B257,Lageromsætning!$D$3:$D$79,C257)","v":0},{"$f":"SUMIFS(Lageromsætning!$S$3:$S$79,Lageromsætning!$C$3:$C$79,B257,Lageromsætning!$D$3:$D$79,C257)","v":0}]
[{"$f":"IFERROR(INDEX(Lageromsætning!$A$3:$A$79,SMALL(IF(Lageromsætning!$A$3:$A$79=$A$2,ROW(Lageromsætning!$A$3:$A$79)-CELL(\"row\",Lageromsætning!$A$3:$A$79)+1),ROWS($1:255))),\"\")","v":""},{"$f":"IFERROR(INDEX(Lageromsætning!$C$3:$C$79,SMALL(IF(Lageromsætning!$A$3:$A$79=$A$2,ROW(Lageromsætning!$A$3:$A$79)-CELL(\"row\",Lageromsætning!$A$3:$A$79)+1),ROWS($2:256))),\"\")","v":""},{"$f":"IFERROR(INDEX(Lageromsætning!$D$3:$D$79,SMALL(IF(Lageromsætning!$A$3:$A$79=$A$2,ROW(Lageromsætning!$A$3:$A$79)-CELL(\"row\",Lageromsætning!$A$3:$A$79)+1),ROWS($2:256))),\"\")","v":""},{"$f":"IFERROR(INDEX(Lageromsætning!$E$3:$E$79,SMALL(IF(Lageromsætning!$A$3:$A$79=$A$2,ROW(Lageromsætning!$A$3:$A$79)-CELL(\"row\",Lageromsætning!$A$3:$A$79)+1),ROWS($2:256))),\"\")","v":""},{"$f":"IFERROR(INDEX(Lageromsætning!$AF$3:$AF$79,SMALL(IF(Lageromsætning!$A$3:$A$79=$A$2,ROW(Lageromsætning!$A$3:$A$79)-CELL(\"row\",Lageromsætning!$A$3:$A$79)+1),ROWS($2:256))),\"\")","v":""},{"$f":"SUMIFS('Lager antal'!$D$3:$D$2508,'Lager antal'!$B$3:$B$2508,B258,'Lager antal'!$C$3:$C$2508,C258)","v":0},{"$f":"SUMIFS('Lager antal'!$F$3:$F$2508,'Lager antal'!$B$3:$B$2508,B258,'Lager antal'!$C$3:$C$2508,C258)","v":0},{"$f":"IF(ISNA(VLOOKUP($C258,'Lager antal'!$C$3:$K$508,9,FALSE))=TRUE,\"\",VLOOKUP($C258,'Lager antal'!$C$3:$K$508,9,FALSE))","v":""},{"$f":"IFERROR(INDEX(Lageromsætning!$P$3:$P$79,SMALL(IF(Lageromsætning!$A$3:$A$79=$A$2,ROW(Lageromsætning!$A$3:$A$79)-CELL(\"row\",Lageromsætning!$A$3:$A$79)+1),ROWS($2:256))),\"\")","v":""},{"$f":"+_xlfn.IFS($M258>=0.01,$M258,TRUE,0)-$F258-K258+G258","v":0},{"$f":"SUMIFS('Lager antal'!$G$3:$G$2508,'Lager antal'!$B$3:$B$2508,B258,'Lager antal'!$C$3:$C$2508,C258)","v":0},null,0,{"$f":"SUMIFS(Lageromsætning!$R$3:$R$79,Lageromsætning!$A$3:$A$79,$A$2,Lageromsætning!$C$3:$C$79,B258,Lageromsætning!$D$3:$D$79,C258)","v":0},{"$f":"SUMIFS(Lageromsætning!$S$3:$S$79,Lageromsætning!$C$3:$C$79,B258,Lageromsætning!$D$3:$D$79,C258)","v":0}]
[{"$f":"IFERROR(INDEX(Lageromsætning!$A$3:$A$79,SMALL(IF(Lageromsætning!$A$3:$A$79=$A$2,ROW(Lageromsætning!$A$3:$A$79)-CELL(\"row\",Lageromsætning!$A$3:$A$79)+1),ROWS($1:256))),\"\")","v":""},{"$f":"IFERROR(INDEX(Lageromsætning!$C$3:$C$79,SMALL(IF(Lageromsætning!$A$3:$A$79=$A$2,ROW(Lageromsætning!$A$3:$A$79)-CELL(\"row\",Lageromsætning!$A$3:$A$79)+1),ROWS($2:257))),\"\")","v":""},{"$f":"IFERROR(INDEX(Lageromsætning!$D$3:$D$79,SMALL(IF(Lageromsætning!$A$3:$A$79=$A$2,ROW(Lageromsætning!$A$3:$A$79)-CELL(\"row\",Lageromsætning!$A$3:$A$79)+1),ROWS($2:257))),\"\")","v":""},{"$f":"IFERROR(INDEX(Lageromsætning!$E$3:$E$79,SMALL(IF(Lageromsætning!$A$3:$A$79=$A$2,ROW(Lageromsætning!$A$3:$A$79)-CELL(\"row\",Lageromsætning!$A$3:$A$79)+1),ROWS($2:257))),\"\")","v":""},{"$f":"IFERROR(INDEX(Lageromsætning!$AF$3:$AF$79,SMALL(IF(Lageromsætning!$A$3:$A$79=$A$2,ROW(Lageromsætning!$A$3:$A$79)-CELL(\"row\",Lageromsætning!$A$3:$A$79)+1),ROWS($2:257))),\"\")","v":""},{"$f":"SUMIFS('Lager antal'!$D$3:$D$2508,'Lager antal'!$B$3:$B$2508,B259,'Lager antal'!$C$3:$C$2508,C259)","v":0},{"$f":"SUMIFS('Lager antal'!$F$3:$F$2508,'Lager antal'!$B$3:$B$2508,B259,'Lager antal'!$C$3:$C$2508,C259)","v":0},{"$f":"IF(ISNA(VLOOKUP($C259,'Lager antal'!$C$3:$K$508,9,FALSE))=TRUE,\"\",VLOOKUP($C259,'Lager antal'!$C$3:$K$508,9,FALSE))","v":""},{"$f":"IFERROR(INDEX(Lageromsætning!$P$3:$P$79,SMALL(IF(Lageromsætning!$A$3:$A$79=$A$2,ROW(Lageromsætning!$A$3:$A$79)-CELL(\"row\",Lageromsætning!$A$3:$A$79)+1),ROWS($2:257))),\"\")","v":""},{"$f":"+_xlfn.IFS($M259>=0.01,$M259,TRUE,0)-$F259-K259+G259","v":0},{"$f":"SUMIFS('Lager antal'!$G$3:$G$2508,'Lager antal'!$B$3:$B$2508,B259,'Lager antal'!$C$3:$C$2508,C259)","v":0},null,0,{"$f":"SUMIFS(Lageromsætning!$R$3:$R$79,Lageromsætning!$A$3:$A$79,$A$2,Lageromsætning!$C$3:$C$79,B259,Lageromsætning!$D$3:$D$79,C259)","v":0},{"$f":"SUMIFS(Lageromsætning!$S$3:$S$79,Lageromsætning!$C$3:$C$79,B259,Lageromsætning!$D$3:$D$79,C259)","v":0}]
[{"$f":"IFERROR(INDEX(Lageromsætning!$A$3:$A$79,SMALL(IF(Lageromsætning!$A$3:$A$79=$A$2,ROW(Lageromsætning!$A$3:$A$79)-CELL(\"row\",Lageromsætning!$A$3:$A$79)+1),ROWS($1:257))),\"\")","v":""},{"$f":"IFERROR(INDEX(Lageromsætning!$C$3:$C$79,SMALL(IF(Lageromsætning!$A$3:$A$79=$A$2,ROW(Lageromsætning!$A$3:$A$79)-CELL(\"row\",Lageromsætning!$A$3:$A$79)+1),ROWS($2:258))),\"\")","v":""},{"$f":"IFERROR(INDEX(Lageromsætning!$D$3:$D$79,SMALL(IF(Lageromsætning!$A$3:$A$79=$A$2,ROW(Lageromsætning!$A$3:$A$79)-CELL(\"row\",Lageromsætning!$A$3:$A$79)+1),ROWS($2:258))),\"\")","v":""},{"$f":"IFERROR(INDEX(Lageromsætning!$E$3:$E$79,SMALL(IF(Lageromsætning!$A$3:$A$79=$A$2,ROW(Lageromsætning!$A$3:$A$79)-CELL(\"row\",Lageromsætning!$A$3:$A$79)+1),ROWS($2:258))),\"\")","v":""},{"$f":"IFERROR(INDEX(Lageromsætning!$AF$3:$AF$79,SMALL(IF(Lageromsætning!$A$3:$A$79=$A$2,ROW(Lageromsætning!$A$3:$A$79)-CELL(\"row\",Lageromsætning!$A$3:$A$79)+1),ROWS($2:258))),\"\")","v":""},{"$f":"SUMIFS('Lager antal'!$D$3:$D$2508,'Lager antal'!$B$3:$B$2508,B260,'Lager antal'!$C$3:$C$2508,C260)","v":0},{"$f":"SUMIFS('Lager antal'!$F$3:$F$2508,'Lager antal'!$B$3:$B$2508,B260,'Lager antal'!$C$3:$C$2508,C260)","v":0},{"$f":"IF(ISNA(VLOOKUP($C260,'Lager antal'!$C$3:$K$508,9,FALSE))=TRUE,\"\",VLOOKUP($C260,'Lager antal'!$C$3:$K$508,9,FALSE))","v":""},{"$f":"IFERROR(INDEX(Lageromsætning!$P$3:$P$79,SMALL(IF(Lageromsætning!$A$3:$A$79=$A$2,ROW(Lageromsætning!$A$3:$A$79)-CELL(\"row\",Lageromsætning!$A$3:$A$79)+1),ROWS($2:258))),\"\")","v":""},{"$f":"+_xlfn.IFS($M260>=0.01,$M260,TRUE,0)-$F260-K260+G260","v":0},{"$f":"SUMIFS('Lager antal'!$G$3:$G$2508,'Lager antal'!$B$3:$B$2508,B260,'Lager antal'!$C$3:$C$2508,C260)","v":0},null,{"$f":"+$N260/$K$2","v":0},{"$f":"SUMIFS(Lageromsætning!$R$3:$R$79,Lageromsætning!$A$3:$A$79,$A$2,Lageromsætning!$C$3:$C$79,B260,Lageromsætning!$D$3:$D$79,C260)","v":0},{"$f":"SUMIFS(Lageromsætning!$S$3:$S$79,Lageromsætning!$C$3:$C$79,B260,Lageromsætning!$D$3:$D$79,C260)","v":0}]
[{"$f":"IFERROR(INDEX(Lageromsætning!$A$3:$A$79,SMALL(IF(Lageromsætning!$A$3:$A$79=$A$2,ROW(Lageromsætning!$A$3:$A$79)-CELL(\"row\",Lageromsætning!$A$3:$A$79)+1),ROWS($1:258))),\"\")","v":""},{"$f":"IFERROR(INDEX(Lageromsætning!$C$3:$C$79,SMALL(IF(Lageromsætning!$A$3:$A$79=$A$2,ROW(Lageromsætning!$A$3:$A$79)-CELL(\"row\",Lageromsætning!$A$3:$A$79)+1),ROWS($2:259))),\"\")","v":""},{"$f":"IFERROR(INDEX(Lageromsætning!$D$3:$D$79,SMALL(IF(Lageromsætning!$A$3:$A$79=$A$2,ROW(Lageromsætning!$A$3:$A$79)-CELL(\"row\",Lageromsætning!$A$3:$A$79)+1),ROWS($2:259))),\"\")","v":""},{"$f":"IFERROR(INDEX(Lageromsætning!$E$3:$E$79,SMALL(IF(Lageromsætning!$A$3:$A$79=$A$2,ROW(Lageromsætning!$A$3:$A$79)-CELL(\"row\",Lageromsætning!$A$3:$A$79)+1),ROWS($2:259))),\"\")","v":""},{"$f":"IFERROR(INDEX(Lageromsætning!$AF$3:$AF$79,SMALL(IF(Lageromsætning!$A$3:$A$79=$A$2,ROW(Lageromsætning!$A$3:$A$79)-CELL(\"row\",Lageromsætning!$A$3:$A$79)+1),ROWS($2:259))),\"\")","v":""},{"$f":"SUMIFS('Lager antal'!$D$3:$D$2508,'Lager antal'!$B$3:$B$2508,B261,'Lager antal'!$C$3:$C$2508,C261)","v":0},{"$f":"SUMIFS('Lager antal'!$F$3:$F$2508,'Lager antal'!$B$3:$B$2508,B261,'Lager antal'!$C$3:$C$2508,C261)","v":0},{"$f":"IF(ISNA(VLOOKUP($C261,'Lager antal'!$C$3:$K$508,9,FALSE))=TRUE,\"\",VLOOKUP($C261,'Lager antal'!$C$3:$K$508,9,FALSE))","v":""},{"$f":"IFERROR(INDEX(Lageromsætning!$P$3:$P$79,SMALL(IF(Lageromsætning!$A$3:$A$79=$A$2,ROW(Lageromsætning!$A$3:$A$79)-CELL(\"row\",Lageromsætning!$A$3:$A$79)+1),ROWS($2:259))),\"\")","v":""},{"$f":"+_xlfn.IFS($M261>=0.01,$M261,TRUE,0)-$F261-K261+G261","v":0},{"$f":"SUMIFS('Lager antal'!$G$3:$G$2508,'Lager antal'!$B$3:$B$2508,B261,'Lager antal'!$C$3:$C$2508,C261)","v":0},null,0,{"$f":"SUMIFS(Lageromsætning!$R$3:$R$79,Lageromsætning!$A$3:$A$79,$A$2,Lageromsætning!$C$3:$C$79,B261,Lageromsætning!$D$3:$D$79,C261)","v":0},{"$f":"SUMIFS(Lageromsætning!$S$3:$S$79,Lageromsætning!$C$3:$C$79,B261,Lageromsætning!$D$3:$D$79,C261)","v":0}]
[{"$f":"IFERROR(INDEX(Lageromsætning!$A$3:$A$79,SMALL(IF(Lageromsætning!$A$3:$A$79=$A$2,ROW(Lageromsætning!$A$3:$A$79)-CELL(\"row\",Lageromsætning!$A$3:$A$79)+1),ROWS($1:259))),\"\")","v":""},{"$f":"IFERROR(INDEX(Lageromsætning!$C$3:$C$79,SMALL(IF(Lageromsætning!$A$3:$A$79=$A$2,ROW(Lageromsætning!$A$3:$A$79)-CELL(\"row\",Lageromsætning!$A$3:$A$79)+1),ROWS($2:260))),\"\")","v":""},{"$f":"IFERROR(INDEX(Lageromsætning!$D$3:$D$79,SMALL(IF(Lageromsætning!$A$3:$A$79=$A$2,ROW(Lageromsætning!$A$3:$A$79)-CELL(\"row\",Lageromsætning!$A$3:$A$79)+1),ROWS($2:260))),\"\")","v":""},{"$f":"IFERROR(INDEX(Lageromsætning!$E$3:$E$79,SMALL(IF(Lageromsætning!$A$3:$A$79=$A$2,ROW(Lageromsætning!$A$3:$A$79)-CELL(\"row\",Lageromsætning!$A$3:$A$79)+1),ROWS($2:260))),\"\")","v":""},{"$f":"IFERROR(INDEX(Lageromsætning!$AF$3:$AF$79,SMALL(IF(Lageromsætning!$A$3:$A$79=$A$2,ROW(Lageromsætning!$A$3:$A$79)-CELL(\"row\",Lageromsætning!$A$3:$A$79)+1),ROWS($2:260))),\"\")","v":""},{"$f":"SUMIFS('Lager antal'!$D$3:$D$2508,'Lager antal'!$B$3:$B$2508,B262,'Lager antal'!$C$3:$C$2508,C262)","v":0},{"$f":"SUMIFS('Lager antal'!$F$3:$F$2508,'Lager antal'!$B$3:$B$2508,B262,'Lager antal'!$C$3:$C$2508,C262)","v":0},{"$f":"IF(ISNA(VLOOKUP($C262,'Lager antal'!$C$3:$K$508,9,FALSE))=TRUE,\"\",VLOOKUP($C262,'Lager antal'!$C$3:$K$508,9,FALSE))","v":""},{"$f":"IFERROR(INDEX(Lageromsætning!$P$3:$P$79,SMALL(IF(Lageromsætning!$A$3:$A$79=$A$2,ROW(Lageromsætning!$A$3:$A$79)-CELL(\"row\",Lageromsætning!$A$3:$A$79)+1),ROWS($2:260))),\"\")","v":""},{"$f":"+_xlfn.IFS($M262>=0.01,$M262,TRUE,0)-$F262-K262+G262","v":0},{"$f":"SUMIFS('Lager antal'!$G$3:$G$2508,'Lager antal'!$B$3:$B$2508,B262,'Lager antal'!$C$3:$C$2508,C262)","v":0},null,0,{"$f":"SUMIFS(Lageromsætning!$R$3:$R$79,Lageromsætning!$A$3:$A$79,$A$2,Lageromsætning!$C$3:$C$79,B262,Lageromsætning!$D$3:$D$79,C262)","v":0},{"$f":"SUMIFS(Lageromsætning!$S$3:$S$79,Lageromsætning!$C$3:$C$79,B262,Lageromsætning!$D$3:$D$79,C262)","v":0}]
[{"$f":"IFERROR(INDEX(Lageromsætning!$A$3:$A$79,SMALL(IF(Lageromsætning!$A$3:$A$79=$A$2,ROW(Lageromsætning!$A$3:$A$79)-CELL(\"row\",Lageromsætning!$A$3:$A$79)+1),ROWS($1:260))),\"\")","v":""},{"$f":"IFERROR(INDEX(Lageromsætning!$C$3:$C$79,SMALL(IF(Lageromsætning!$A$3:$A$79=$A$2,ROW(Lageromsætning!$A$3:$A$79)-CELL(\"row\",Lageromsætning!$A$3:$A$79)+1),ROWS($2:261))),\"\")","v":""},{"$f":"IFERROR(INDEX(Lageromsætning!$D$3:$D$79,SMALL(IF(Lageromsætning!$A$3:$A$79=$A$2,ROW(Lageromsætning!$A$3:$A$79)-CELL(\"row\",Lageromsætning!$A$3:$A$79)+1),ROWS($2:261))),\"\")","v":""},{"$f":"IFERROR(INDEX(Lageromsætning!$E$3:$E$79,SMALL(IF(Lageromsætning!$A$3:$A$79=$A$2,ROW(Lageromsætning!$A$3:$A$79)-CELL(\"row\",Lageromsætning!$A$3:$A$79)+1),ROWS($2:261))),\"\")","v":""},{"$f":"IFERROR(INDEX(Lageromsætning!$AF$3:$AF$79,SMALL(IF(Lageromsætning!$A$3:$A$79=$A$2,ROW(Lageromsætning!$A$3:$A$79)-CELL(\"row\",Lageromsætning!$A$3:$A$79)+1),ROWS($2:261))),\"\")","v":""},{"$f":"SUMIFS('Lager antal'!$D$3:$D$2508,'Lager antal'!$B$3:$B$2508,B263,'Lager antal'!$C$3:$C$2508,C263)","v":0},{"$f":"SUMIFS('Lager antal'!$F$3:$F$2508,'Lager antal'!$B$3:$B$2508,B263,'Lager antal'!$C$3:$C$2508,C263)","v":0},{"$f":"IF(ISNA(VLOOKUP($C263,'Lager antal'!$C$3:$K$508,9,FALSE))=TRUE,\"\",VLOOKUP($C263,'Lager antal'!$C$3:$K$508,9,FALSE))","v":""},{"$f":"IFERROR(INDEX(Lageromsætning!$P$3:$P$79,SMALL(IF(Lageromsætning!$A$3:$A$79=$A$2,ROW(Lageromsætning!$A$3:$A$79)-CELL(\"row\",Lageromsætning!$A$3:$A$79)+1),ROWS($2:261))),\"\")","v":""},{"$f":"+_xlfn.IFS($M263>=0.01,$M263,TRUE,0)-$F263-K263+G263","v":0},{"$f":"SUMIFS('Lager antal'!$G$3:$G$2508,'Lager antal'!$B$3:$B$2508,B263,'Lager antal'!$C$3:$C$2508,C263)","v":0},null,0,{"$f":"SUMIFS(Lageromsætning!$R$3:$R$79,Lageromsætning!$A$3:$A$79,$A$2,Lageromsætning!$C$3:$C$79,B263,Lageromsætning!$D$3:$D$79,C263)","v":0},{"$f":"SUMIFS(Lageromsætning!$S$3:$S$79,Lageromsætning!$C$3:$C$79,B263,Lageromsætning!$D$3:$D$79,C263)","v":0}]
[{"$f":"IFERROR(INDEX(Lageromsætning!$A$3:$A$79,SMALL(IF(Lageromsætning!$A$3:$A$79=$A$2,ROW(Lageromsætning!$A$3:$A$79)-CELL(\"row\",Lageromsætning!$A$3:$A$79)+1),ROWS($1:261))),\"\")","v":""},{"$f":"IFERROR(INDEX(Lageromsætning!$C$3:$C$79,SMALL(IF(Lageromsætning!$A$3:$A$79=$A$2,ROW(Lageromsætning!$A$3:$A$79)-CELL(\"row\",Lageromsætning!$A$3:$A$79)+1),ROWS($2:262))),\"\")","v":""},{"$f":"IFERROR(INDEX(Lageromsætning!$D$3:$D$79,SMALL(IF(Lageromsætning!$A$3:$A$79=$A$2,ROW(Lageromsætning!$A$3:$A$79)-CELL(\"row\",Lageromsætning!$A$3:$A$79)+1),ROWS($2:262))),\"\")","v":""},{"$f":"IFERROR(INDEX(Lageromsætning!$E$3:$E$79,SMALL(IF(Lageromsætning!$A$3:$A$79=$A$2,ROW(Lageromsætning!$A$3:$A$79)-CELL(\"row\",Lageromsætning!$A$3:$A$79)+1),ROWS($2:262))),\"\")","v":""},{"$f":"IFERROR(INDEX(Lageromsætning!$AF$3:$AF$79,SMALL(IF(Lageromsætning!$A$3:$A$79=$A$2,ROW(Lageromsætning!$A$3:$A$79)-CELL(\"row\",Lageromsætning!$A$3:$A$79)+1),ROWS($2:262))),\"\")","v":""},{"$f":"SUMIFS('Lager antal'!$D$3:$D$2508,'Lager antal'!$B$3:$B$2508,B264,'Lager antal'!$C$3:$C$2508,C264)","v":0},{"$f":"SUMIFS('Lager antal'!$F$3:$F$2508,'Lager antal'!$B$3:$B$2508,B264,'Lager antal'!$C$3:$C$2508,C264)","v":0},{"$f":"IF(ISNA(VLOOKUP($C264,'Lager antal'!$C$3:$K$508,9,FALSE))=TRUE,\"\",VLOOKUP($C264,'Lager antal'!$C$3:$K$508,9,FALSE))","v":""},{"$f":"IFERROR(INDEX(Lageromsætning!$P$3:$P$79,SMALL(IF(Lageromsætning!$A$3:$A$79=$A$2,ROW(Lageromsætning!$A$3:$A$79)-CELL(\"row\",Lageromsætning!$A$3:$A$79)+1),ROWS($2:262))),\"\")","v":""},{"$f":"+_xlfn.IFS($M264>=0.01,$M264,TRUE,0)-$F264-K264+G264","v":0},{"$f":"SUMIFS('Lager antal'!$G$3:$G$2508,'Lager antal'!$B$3:$B$2508,B264,'Lager antal'!$C$3:$C$2508,C264)","v":0},null,0,{"$f":"SUMIFS(Lageromsætning!$R$3:$R$79,Lageromsætning!$A$3:$A$79,$A$2,Lageromsætning!$C$3:$C$79,B264,Lageromsætning!$D$3:$D$79,C264)","v":0},{"$f":"SUMIFS(Lageromsætning!$S$3:$S$79,Lageromsætning!$C$3:$C$79,B264,Lageromsætning!$D$3:$D$79,C264)","v":0}]
[{"$f":"IFERROR(INDEX(Lageromsætning!$A$3:$A$79,SMALL(IF(Lageromsætning!$A$3:$A$79=$A$2,ROW(Lageromsætning!$A$3:$A$79)-CELL(\"row\",Lageromsætning!$A$3:$A$79)+1),ROWS($1:262))),\"\")","v":""},{"$f":"IFERROR(INDEX(Lageromsætning!$C$3:$C$79,SMALL(IF(Lageromsætning!$A$3:$A$79=$A$2,ROW(Lageromsætning!$A$3:$A$79)-CELL(\"row\",Lageromsætning!$A$3:$A$79)+1),ROWS($2:263))),\"\")","v":""},{"$f":"IFERROR(INDEX(Lageromsætning!$D$3:$D$79,SMALL(IF(Lageromsætning!$A$3:$A$79=$A$2,ROW(Lageromsætning!$A$3:$A$79)-CELL(\"row\",Lageromsætning!$A$3:$A$79)+1),ROWS($2:263))),\"\")","v":""},{"$f":"IFERROR(INDEX(Lageromsætning!$E$3:$E$79,SMALL(IF(Lageromsætning!$A$3:$A$79=$A$2,ROW(Lageromsætning!$A$3:$A$79)-CELL(\"row\",Lageromsætning!$A$3:$A$79)+1),ROWS($2:263))),\"\")","v":""},{"$f":"IFERROR(INDEX(Lageromsætning!$AF$3:$AF$79,SMALL(IF(Lageromsætning!$A$3:$A$79=$A$2,ROW(Lageromsætning!$A$3:$A$79)-CELL(\"row\",Lageromsætning!$A$3:$A$79)+1),ROWS($2:263))),\"\")","v":""},{"$f":"SUMIFS('Lager antal'!$D$3:$D$2508,'Lager antal'!$B$3:$B$2508,B265,'Lager antal'!$C$3:$C$2508,C265)","v":0},{"$f":"SUMIFS('Lager antal'!$F$3:$F$2508,'Lager antal'!$B$3:$B$2508,B265,'Lager antal'!$C$3:$C$2508,C265)","v":0},{"$f":"IF(ISNA(VLOOKUP($C265,'Lager antal'!$C$3:$K$508,9,FALSE))=TRUE,\"\",VLOOKUP($C265,'Lager antal'!$C$3:$K$508,9,FALSE))","v":""},{"$f":"IFERROR(INDEX(Lageromsætning!$P$3:$P$79,SMALL(IF(Lageromsætning!$A$3:$A$79=$A$2,ROW(Lageromsætning!$A$3:$A$79)-CELL(\"row\",Lageromsætning!$A$3:$A$79)+1),ROWS($2:263))),\"\")","v":""},{"$f":"+_xlfn.IFS($M265>=0.01,$M265,TRUE,0)-$F265-K265+G265","v":0},{"$f":"SUMIFS('Lager antal'!$G$3:$G$2508,'Lager antal'!$B$3:$B$2508,B265,'Lager antal'!$C$3:$C$2508,C265)","v":0},null,0,{"$f":"SUMIFS(Lageromsætning!$R$3:$R$79,Lageromsætning!$A$3:$A$79,$A$2,Lageromsætning!$C$3:$C$79,B265,Lageromsætning!$D$3:$D$79,C265)","v":0},{"$f":"SUMIFS(Lageromsætning!$S$3:$S$79,Lageromsætning!$C$3:$C$79,B265,Lageromsætning!$D$3:$D$79,C265)","v":0}]
[{"$f":"IFERROR(INDEX(Lageromsætning!$A$3:$A$79,SMALL(IF(Lageromsætning!$A$3:$A$79=$A$2,ROW(Lageromsætning!$A$3:$A$79)-CELL(\"row\",Lageromsætning!$A$3:$A$79)+1),ROWS($1:263))),\"\")","v":""},{"$f":"IFERROR(INDEX(Lageromsætning!$C$3:$C$79,SMALL(IF(Lageromsætning!$A$3:$A$79=$A$2,ROW(Lageromsætning!$A$3:$A$79)-CELL(\"row\",Lageromsætning!$A$3:$A$79)+1),ROWS($2:264))),\"\")","v":""},{"$f":"IFERROR(INDEX(Lageromsætning!$D$3:$D$79,SMALL(IF(Lageromsætning!$A$3:$A$79=$A$2,ROW(Lageromsætning!$A$3:$A$79)-CELL(\"row\",Lageromsætning!$A$3:$A$79)+1),ROWS($2:264))),\"\")","v":""},{"$f":"IFERROR(INDEX(Lageromsætning!$E$3:$E$79,SMALL(IF(Lageromsætning!$A$3:$A$79=$A$2,ROW(Lageromsætning!$A$3:$A$79)-CELL(\"row\",Lageromsætning!$A$3:$A$79)+1),ROWS($2:264))),\"\")","v":""},{"$f":"IFERROR(INDEX(Lageromsætning!$AF$3:$AF$79,SMALL(IF(Lageromsætning!$A$3:$A$79=$A$2,ROW(Lageromsætning!$A$3:$A$79)-CELL(\"row\",Lageromsætning!$A$3:$A$79)+1),ROWS($2:264))),\"\")","v":""},{"$f":"SUMIFS('Lager antal'!$D$3:$D$2508,'Lager antal'!$B$3:$B$2508,B266,'Lager antal'!$C$3:$C$2508,C266)","v":0},{"$f":"SUMIFS('Lager antal'!$F$3:$F$2508,'Lager antal'!$B$3:$B$2508,B266,'Lager antal'!$C$3:$C$2508,C266)","v":0},{"$f":"IF(ISNA(VLOOKUP($C266,'Lager antal'!$C$3:$K$508,9,FALSE))=TRUE,\"\",VLOOKUP($C266,'Lager antal'!$C$3:$K$508,9,FALSE))","v":""},{"$f":"IFERROR(INDEX(Lageromsætning!$P$3:$P$79,SMALL(IF(Lageromsætning!$A$3:$A$79=$A$2,ROW(Lageromsætning!$A$3:$A$79)-CELL(\"row\",Lageromsætning!$A$3:$A$79)+1),ROWS($2:264))),\"\")","v":""},{"$f":"+_xlfn.IFS($M266>=0.01,$M266,TRUE,0)-$F266-K266+G266","v":0},{"$f":"SUMIFS('Lager antal'!$G$3:$G$2508,'Lager antal'!$B$3:$B$2508,B266,'Lager antal'!$C$3:$C$2508,C266)","v":0},null,0,{"$f":"SUMIFS(Lageromsætning!$R$3:$R$79,Lageromsætning!$A$3:$A$79,$A$2,Lageromsætning!$C$3:$C$79,B266,Lageromsætning!$D$3:$D$79,C266)","v":0},{"$f":"SUMIFS(Lageromsætning!$S$3:$S$79,Lageromsætning!$C$3:$C$79,B266,Lageromsætning!$D$3:$D$79,C266)","v":0}]
[{"$f":"IFERROR(INDEX(Lageromsætning!$A$3:$A$79,SMALL(IF(Lageromsætning!$A$3:$A$79=$A$2,ROW(Lageromsætning!$A$3:$A$79)-CELL(\"row\",Lageromsætning!$A$3:$A$79)+1),ROWS($1:264))),\"\")","v":""},{"$f":"IFERROR(INDEX(Lageromsætning!$C$3:$C$79,SMALL(IF(Lageromsætning!$A$3:$A$79=$A$2,ROW(Lageromsætning!$A$3:$A$79)-CELL(\"row\",Lageromsætning!$A$3:$A$79)+1),ROWS($2:265))),\"\")","v":""},{"$f":"IFERROR(INDEX(Lageromsætning!$D$3:$D$79,SMALL(IF(Lageromsætning!$A$3:$A$79=$A$2,ROW(Lageromsætning!$A$3:$A$79)-CELL(\"row\",Lageromsætning!$A$3:$A$79)+1),ROWS($2:265))),\"\")","v":""},{"$f":"IFERROR(INDEX(Lageromsætning!$E$3:$E$79,SMALL(IF(Lageromsætning!$A$3:$A$79=$A$2,ROW(Lageromsætning!$A$3:$A$79)-CELL(\"row\",Lageromsætning!$A$3:$A$79)+1),ROWS($2:265))),\"\")","v":""},{"$f":"IFERROR(INDEX(Lageromsætning!$AF$3:$AF$79,SMALL(IF(Lageromsætning!$A$3:$A$79=$A$2,ROW(Lageromsætning!$A$3:$A$79)-CELL(\"row\",Lageromsætning!$A$3:$A$79)+1),ROWS($2:265))),\"\")","v":""},{"$f":"SUMIFS('Lager antal'!$D$3:$D$2508,'Lager antal'!$B$3:$B$2508,B267,'Lager antal'!$C$3:$C$2508,C267)","v":0},{"$f":"SUMIFS('Lager antal'!$F$3:$F$2508,'Lager antal'!$B$3:$B$2508,B267,'Lager antal'!$C$3:$C$2508,C267)","v":0},{"$f":"IF(ISNA(VLOOKUP($C267,'Lager antal'!$C$3:$K$508,9,FALSE))=TRUE,\"\",VLOOKUP($C267,'Lager antal'!$C$3:$K$508,9,FALSE))","v":""},{"$f":"IFERROR(INDEX(Lageromsætning!$P$3:$P$79,SMALL(IF(Lageromsætning!$A$3:$A$79=$A$2,ROW(Lageromsætning!$A$3:$A$79)-CELL(\"row\",Lageromsætning!$A$3:$A$79)+1),ROWS($2:265))),\"\")","v":""},{"$f":"+_xlfn.IFS($M267>=0.01,$M267,TRUE,0)-$F267-K267+G267","v":0},{"$f":"SUMIFS('Lager antal'!$G$3:$G$2508,'Lager antal'!$B$3:$B$2508,B267,'Lager antal'!$C$3:$C$2508,C267)","v":0},null,0,{"$f":"SUMIFS(Lageromsætning!$R$3:$R$79,Lageromsætning!$A$3:$A$79,$A$2,Lageromsætning!$C$3:$C$79,B267,Lageromsætning!$D$3:$D$79,C267)","v":0},{"$f":"SUMIFS(Lageromsætning!$S$3:$S$79,Lageromsætning!$C$3:$C$79,B267,Lageromsætning!$D$3:$D$79,C267)","v":0}]
[{"$f":"IFERROR(INDEX(Lageromsætning!$A$3:$A$79,SMALL(IF(Lageromsætning!$A$3:$A$79=$A$2,ROW(Lageromsætning!$A$3:$A$79)-CELL(\"row\",Lageromsætning!$A$3:$A$79)+1),ROWS($1:265))),\"\")","v":""},{"$f":"IFERROR(INDEX(Lageromsætning!$C$3:$C$79,SMALL(IF(Lageromsætning!$A$3:$A$79=$A$2,ROW(Lageromsætning!$A$3:$A$79)-CELL(\"row\",Lageromsætning!$A$3:$A$79)+1),ROWS($2:266))),\"\")","v":""},{"$f":"IFERROR(INDEX(Lageromsætning!$D$3:$D$79,SMALL(IF(Lageromsætning!$A$3:$A$79=$A$2,ROW(Lageromsætning!$A$3:$A$79)-CELL(\"row\",Lageromsætning!$A$3:$A$79)+1),ROWS($2:266))),\"\")","v":""},{"$f":"IFERROR(INDEX(Lageromsætning!$E$3:$E$79,SMALL(IF(Lageromsætning!$A$3:$A$79=$A$2,ROW(Lageromsætning!$A$3:$A$79)-CELL(\"row\",Lageromsætning!$A$3:$A$79)+1),ROWS($2:266))),\"\")","v":""},{"$f":"IFERROR(INDEX(Lageromsætning!$AF$3:$AF$79,SMALL(IF(Lageromsætning!$A$3:$A$79=$A$2,ROW(Lageromsætning!$A$3:$A$79)-CELL(\"row\",Lageromsætning!$A$3:$A$79)+1),ROWS($2:266))),\"\")","v":""},{"$f":"SUMIFS('Lager antal'!$D$3:$D$2508,'Lager antal'!$B$3:$B$2508,B268,'Lager antal'!$C$3:$C$2508,C268)","v":0},{"$f":"SUMIFS('Lager antal'!$F$3:$F$2508,'Lager antal'!$B$3:$B$2508,B268,'Lager antal'!$C$3:$C$2508,C268)","v":0},{"$f":"IF(ISNA(VLOOKUP($C268,'Lager antal'!$C$3:$K$508,9,FALSE))=TRUE,\"\",VLOOKUP($C268,'Lager antal'!$C$3:$K$508,9,FALSE))","v":""},{"$f":"IFERROR(INDEX(Lageromsætning!$P$3:$P$79,SMALL(IF(Lageromsætning!$A$3:$A$79=$A$2,ROW(Lageromsætning!$A$3:$A$79)-CELL(\"row\",Lageromsætning!$A$3:$A$79)+1),ROWS($2:266))),\"\")","v":""},{"$f":"+_xlfn.IFS($M268>=0.01,$M268,TRUE,0)-$F268-K268+G268","v":0},{"$f":"SUMIFS('Lager antal'!$G$3:$G$2508,'Lager antal'!$B$3:$B$2508,B268,'Lager antal'!$C$3:$C$2508,C268)","v":0},null,0,{"$f":"SUMIFS(Lageromsætning!$R$3:$R$79,Lageromsætning!$A$3:$A$79,$A$2,Lageromsætning!$C$3:$C$79,B268,Lageromsætning!$D$3:$D$79,C268)","v":0},{"$f":"SUMIFS(Lageromsætning!$S$3:$S$79,Lageromsætning!$C$3:$C$79,B268,Lageromsætning!$D$3:$D$79,C268)","v":0}]
[{"$f":"IFERROR(INDEX(Lageromsætning!$A$3:$A$79,SMALL(IF(Lageromsætning!$A$3:$A$79=$A$2,ROW(Lageromsætning!$A$3:$A$79)-CELL(\"row\",Lageromsætning!$A$3:$A$79)+1),ROWS($1:266))),\"\")","v":""},{"$f":"IFERROR(INDEX(Lageromsætning!$C$3:$C$79,SMALL(IF(Lageromsætning!$A$3:$A$79=$A$2,ROW(Lageromsætning!$A$3:$A$79)-CELL(\"row\",Lageromsætning!$A$3:$A$79)+1),ROWS($2:267))),\"\")","v":""},{"$f":"IFERROR(INDEX(Lageromsætning!$D$3:$D$79,SMALL(IF(Lageromsætning!$A$3:$A$79=$A$2,ROW(Lageromsætning!$A$3:$A$79)-CELL(\"row\",Lageromsætning!$A$3:$A$79)+1),ROWS($2:267))),\"\")","v":""},{"$f":"IFERROR(INDEX(Lageromsætning!$E$3:$E$79,SMALL(IF(Lageromsætning!$A$3:$A$79=$A$2,ROW(Lageromsætning!$A$3:$A$79)-CELL(\"row\",Lageromsætning!$A$3:$A$79)+1),ROWS($2:267))),\"\")","v":""},{"$f":"IFERROR(INDEX(Lageromsætning!$AF$3:$AF$79,SMALL(IF(Lageromsætning!$A$3:$A$79=$A$2,ROW(Lageromsætning!$A$3:$A$79)-CELL(\"row\",Lageromsætning!$A$3:$A$79)+1),ROWS($2:267))),\"\")","v":""},{"$f":"SUMIFS('Lager antal'!$D$3:$D$2508,'Lager antal'!$B$3:$B$2508,B269,'Lager antal'!$C$3:$C$2508,C269)","v":0},{"$f":"SUMIFS('Lager antal'!$F$3:$F$2508,'Lager antal'!$B$3:$B$2508,B269,'Lager antal'!$C$3:$C$2508,C269)","v":0},{"$f":"IF(ISNA(VLOOKUP($C269,'Lager antal'!$C$3:$K$508,9,FALSE))=TRUE,\"\",VLOOKUP($C269,'Lager antal'!$C$3:$K$508,9,FALSE))","v":""},{"$f":"IFERROR(INDEX(Lageromsætning!$P$3:$P$79,SMALL(IF(Lageromsætning!$A$3:$A$79=$A$2,ROW(Lageromsætning!$A$3:$A$79)-CELL(\"row\",Lageromsætning!$A$3:$A$79)+1),ROWS($2:267))),\"\")","v":""},{"$f":"+_xlfn.IFS($M269>=0.01,$M269,TRUE,0)-$F269-K269+G269","v":0},{"$f":"SUMIFS('Lager antal'!$G$3:$G$2508,'Lager antal'!$B$3:$B$2508,B269,'Lager antal'!$C$3:$C$2508,C269)","v":0},null,0,{"$f":"SUMIFS(Lageromsætning!$R$3:$R$79,Lageromsætning!$A$3:$A$79,$A$2,Lageromsætning!$C$3:$C$79,B269,Lageromsætning!$D$3:$D$79,C269)","v":0},{"$f":"SUMIFS(Lageromsætning!$S$3:$S$79,Lageromsætning!$C$3:$C$79,B269,Lageromsætning!$D$3:$D$79,C269)","v":0}]
[{"$f":"IFERROR(INDEX(Lageromsætning!$A$3:$A$79,SMALL(IF(Lageromsætning!$A$3:$A$79=$A$2,ROW(Lageromsætning!$A$3:$A$79)-CELL(\"row\",Lageromsætning!$A$3:$A$79)+1),ROWS($1:267))),\"\")","v":""},{"$f":"IFERROR(INDEX(Lageromsætning!$C$3:$C$79,SMALL(IF(Lageromsætning!$A$3:$A$79=$A$2,ROW(Lageromsætning!$A$3:$A$79)-CELL(\"row\",Lageromsætning!$A$3:$A$79)+1),ROWS($2:268))),\"\")","v":""},{"$f":"IFERROR(INDEX(Lageromsætning!$D$3:$D$79,SMALL(IF(Lageromsætning!$A$3:$A$79=$A$2,ROW(Lageromsætning!$A$3:$A$79)-CELL(\"row\",Lageromsætning!$A$3:$A$79)+1),ROWS($2:268))),\"\")","v":""},{"$f":"IFERROR(INDEX(Lageromsætning!$E$3:$E$79,SMALL(IF(Lageromsætning!$A$3:$A$79=$A$2,ROW(Lageromsætning!$A$3:$A$79)-CELL(\"row\",Lageromsætning!$A$3:$A$79)+1),ROWS($2:268))),\"\")","v":""},{"$f":"IFERROR(INDEX(Lageromsætning!$AF$3:$AF$79,SMALL(IF(Lageromsætning!$A$3:$A$79=$A$2,ROW(Lageromsætning!$A$3:$A$79)-CELL(\"row\",Lageromsætning!$A$3:$A$79)+1),ROWS($2:268))),\"\")","v":""},{"$f":"SUMIFS('Lager antal'!$D$3:$D$2508,'Lager antal'!$B$3:$B$2508,B270,'Lager antal'!$C$3:$C$2508,C270)","v":0},{"$f":"SUMIFS('Lager antal'!$F$3:$F$2508,'Lager antal'!$B$3:$B$2508,B270,'Lager antal'!$C$3:$C$2508,C270)","v":0},{"$f":"IF(ISNA(VLOOKUP($C270,'Lager antal'!$C$3:$K$508,9,FALSE))=TRUE,\"\",VLOOKUP($C270,'Lager antal'!$C$3:$K$508,9,FALSE))","v":""},{"$f":"IFERROR(INDEX(Lageromsætning!$P$3:$P$79,SMALL(IF(Lageromsætning!$A$3:$A$79=$A$2,ROW(Lageromsætning!$A$3:$A$79)-CELL(\"row\",Lageromsætning!$A$3:$A$79)+1),ROWS($2:268))),\"\")","v":""},{"$f":"+_xlfn.IFS($M270>=0.01,$M270,TRUE,0)-$F270-K270+G270","v":0},{"$f":"SUMIFS('Lager antal'!$G$3:$G$2508,'Lager antal'!$B$3:$B$2508,B270,'Lager antal'!$C$3:$C$2508,C270)","v":0},null,0,{"$f":"SUMIFS(Lageromsætning!$R$3:$R$79,Lageromsætning!$A$3:$A$79,$A$2,Lageromsætning!$C$3:$C$79,B270,Lageromsætning!$D$3:$D$79,C270)","v":0},{"$f":"SUMIFS(Lageromsætning!$S$3:$S$79,Lageromsætning!$C$3:$C$79,B270,Lageromsætning!$D$3:$D$79,C270)","v":0}]
[{"$f":"IFERROR(INDEX(Lageromsætning!$A$3:$A$79,SMALL(IF(Lageromsætning!$A$3:$A$79=$A$2,ROW(Lageromsætning!$A$3:$A$79)-CELL(\"row\",Lageromsætning!$A$3:$A$79)+1),ROWS($1:268))),\"\")","v":""},{"$f":"IFERROR(INDEX(Lageromsætning!$C$3:$C$79,SMALL(IF(Lageromsætning!$A$3:$A$79=$A$2,ROW(Lageromsætning!$A$3:$A$79)-CELL(\"row\",Lageromsætning!$A$3:$A$79)+1),ROWS($2:269))),\"\")","v":""},{"$f":"IFERROR(INDEX(Lageromsætning!$D$3:$D$79,SMALL(IF(Lageromsætning!$A$3:$A$79=$A$2,ROW(Lageromsætning!$A$3:$A$79)-CELL(\"row\",Lageromsætning!$A$3:$A$79)+1),ROWS($2:269))),\"\")","v":""},{"$f":"IFERROR(INDEX(Lageromsætning!$E$3:$E$79,SMALL(IF(Lageromsætning!$A$3:$A$79=$A$2,ROW(Lageromsætning!$A$3:$A$79)-CELL(\"row\",Lageromsætning!$A$3:$A$79)+1),ROWS($2:269))),\"\")","v":""},{"$f":"IFERROR(INDEX(Lageromsætning!$AF$3:$AF$79,SMALL(IF(Lageromsætning!$A$3:$A$79=$A$2,ROW(Lageromsætning!$A$3:$A$79)-CELL(\"row\",Lageromsætning!$A$3:$A$79)+1),ROWS($2:269))),\"\")","v":""},{"$f":"SUMIFS('Lager antal'!$D$3:$D$2508,'Lager antal'!$B$3:$B$2508,B271,'Lager antal'!$C$3:$C$2508,C271)","v":0},{"$f":"SUMIFS('Lager antal'!$F$3:$F$2508,'Lager antal'!$B$3:$B$2508,B271,'Lager antal'!$C$3:$C$2508,C271)","v":0},{"$f":"IF(ISNA(VLOOKUP($C271,'Lager antal'!$C$3:$K$508,9,FALSE))=TRUE,\"\",VLOOKUP($C271,'Lager antal'!$C$3:$K$508,9,FALSE))","v":""},{"$f":"IFERROR(INDEX(Lageromsætning!$P$3:$P$79,SMALL(IF(Lageromsætning!$A$3:$A$79=$A$2,ROW(Lageromsætning!$A$3:$A$79)-CELL(\"row\",Lageromsætning!$A$3:$A$79)+1),ROWS($2:269))),\"\")","v":""},{"$f":"+_xlfn.IFS($M271>=0.01,$M271,TRUE,0)-$F271-K271+G271","v":0},{"$f":"SUMIFS('Lager antal'!$G$3:$G$2508,'Lager antal'!$B$3:$B$2508,B271,'Lager antal'!$C$3:$C$2508,C271)","v":0},null,0,{"$f":"SUMIFS(Lageromsætning!$R$3:$R$79,Lageromsætning!$A$3:$A$79,$A$2,Lageromsætning!$C$3:$C$79,B271,Lageromsætning!$D$3:$D$79,C271)","v":0},{"$f":"SUMIFS(Lageromsætning!$S$3:$S$79,Lageromsætning!$C$3:$C$79,B271,Lageromsætning!$D$3:$D$79,C271)","v":0}]
[{"$f":"IFERROR(INDEX(Lageromsætning!$A$3:$A$79,SMALL(IF(Lageromsætning!$A$3:$A$79=$A$2,ROW(Lageromsætning!$A$3:$A$79)-CELL(\"row\",Lageromsætning!$A$3:$A$79)+1),ROWS($1:269))),\"\")","v":""},{"$f":"IFERROR(INDEX(Lageromsætning!$C$3:$C$79,SMALL(IF(Lageromsætning!$A$3:$A$79=$A$2,ROW(Lageromsætning!$A$3:$A$79)-CELL(\"row\",Lageromsætning!$A$3:$A$79)+1),ROWS($2:270))),\"\")","v":""},{"$f":"IFERROR(INDEX(Lageromsætning!$D$3:$D$79,SMALL(IF(Lageromsætning!$A$3:$A$79=$A$2,ROW(Lageromsætning!$A$3:$A$79)-CELL(\"row\",Lageromsætning!$A$3:$A$79)+1),ROWS($2:270))),\"\")","v":""},{"$f":"IFERROR(INDEX(Lageromsætning!$E$3:$E$79,SMALL(IF(Lageromsætning!$A$3:$A$79=$A$2,ROW(Lageromsætning!$A$3:$A$79)-CELL(\"row\",Lageromsætning!$A$3:$A$79)+1),ROWS($2:270))),\"\")","v":""},{"$f":"IFERROR(INDEX(Lageromsætning!$AF$3:$AF$79,SMALL(IF(Lageromsætning!$A$3:$A$79=$A$2,ROW(Lageromsætning!$A$3:$A$79)-CELL(\"row\",Lageromsætning!$A$3:$A$79)+1),ROWS($2:270))),\"\")","v":""},{"$f":"SUMIFS('Lager antal'!$D$3:$D$2508,'Lager antal'!$B$3:$B$2508,B272,'Lager antal'!$C$3:$C$2508,C272)","v":0},{"$f":"SUMIFS('Lager antal'!$F$3:$F$2508,'Lager antal'!$B$3:$B$2508,B272,'Lager antal'!$C$3:$C$2508,C272)","v":0},{"$f":"IF(ISNA(VLOOKUP($C272,'Lager antal'!$C$3:$K$508,9,FALSE))=TRUE,\"\",VLOOKUP($C272,'Lager antal'!$C$3:$K$508,9,FALSE))","v":""},{"$f":"IFERROR(INDEX(Lageromsætning!$P$3:$P$79,SMALL(IF(Lageromsætning!$A$3:$A$79=$A$2,ROW(Lageromsætning!$A$3:$A$79)-CELL(\"row\",Lageromsætning!$A$3:$A$79)+1),ROWS($2:270))),\"\")","v":""},{"$f":"+_xlfn.IFS($M272>=0.01,$M272,TRUE,0)-$F272-K272+G272","v":0},{"$f":"SUMIFS('Lager antal'!$G$3:$G$2508,'Lager antal'!$B$3:$B$2508,B272,'Lager antal'!$C$3:$C$2508,C272)","v":0},null,0,{"$f":"SUMIFS(Lageromsætning!$R$3:$R$79,Lageromsætning!$A$3:$A$79,$A$2,Lageromsætning!$C$3:$C$79,B272,Lageromsætning!$D$3:$D$79,C272)","v":0},{"$f":"SUMIFS(Lageromsætning!$S$3:$S$79,Lageromsætning!$C$3:$C$79,B272,Lageromsætning!$D$3:$D$79,C272)","v":0}]
[{"$f":"IFERROR(INDEX(Lageromsætning!$A$3:$A$79,SMALL(IF(Lageromsætning!$A$3:$A$79=$A$2,ROW(Lageromsætning!$A$3:$A$79)-CELL(\"row\",Lageromsætning!$A$3:$A$79)+1),ROWS($1:270))),\"\")","v":""},{"$f":"IFERROR(INDEX(Lageromsætning!$C$3:$C$79,SMALL(IF(Lageromsætning!$A$3:$A$79=$A$2,ROW(Lageromsætning!$A$3:$A$79)-CELL(\"row\",Lageromsætning!$A$3:$A$79)+1),ROWS($2:271))),\"\")","v":""},{"$f":"IFERROR(INDEX(Lageromsætning!$D$3:$D$79,SMALL(IF(Lageromsætning!$A$3:$A$79=$A$2,ROW(Lageromsætning!$A$3:$A$79)-CELL(\"row\",Lageromsætning!$A$3:$A$79)+1),ROWS($2:271))),\"\")","v":""},{"$f":"IFERROR(INDEX(Lageromsætning!$E$3:$E$79,SMALL(IF(Lageromsætning!$A$3:$A$79=$A$2,ROW(Lageromsætning!$A$3:$A$79)-CELL(\"row\",Lageromsætning!$A$3:$A$79)+1),ROWS($2:271))),\"\")","v":""},{"$f":"IFERROR(INDEX(Lageromsætning!$AF$3:$AF$79,SMALL(IF(Lageromsætning!$A$3:$A$79=$A$2,ROW(Lageromsætning!$A$3:$A$79)-CELL(\"row\",Lageromsætning!$A$3:$A$79)+1),ROWS($2:271))),\"\")","v":""},{"$f":"SUMIFS('Lager antal'!$D$3:$D$2508,'Lager antal'!$B$3:$B$2508,B273,'Lager antal'!$C$3:$C$2508,C273)","v":0},{"$f":"SUMIFS('Lager antal'!$F$3:$F$2508,'Lager antal'!$B$3:$B$2508,B273,'Lager antal'!$C$3:$C$2508,C273)","v":0},{"$f":"IF(ISNA(VLOOKUP($C273,'Lager antal'!$C$3:$K$508,9,FALSE))=TRUE,\"\",VLOOKUP($C273,'Lager antal'!$C$3:$K$508,9,FALSE))","v":""},{"$f":"IFERROR(INDEX(Lageromsætning!$P$3:$P$79,SMALL(IF(Lageromsætning!$A$3:$A$79=$A$2,ROW(Lageromsætning!$A$3:$A$79)-CELL(\"row\",Lageromsætning!$A$3:$A$79)+1),ROWS($2:271))),\"\")","v":""},{"$f":"+_xlfn.IFS($M273>=0.01,$M273,TRUE,0)-$F273-K273+G273","v":0},{"$f":"SUMIFS('Lager antal'!$G$3:$G$2508,'Lager antal'!$B$3:$B$2508,B273,'Lager antal'!$C$3:$C$2508,C273)","v":0},null,0,{"$f":"SUMIFS(Lageromsætning!$R$3:$R$79,Lageromsætning!$A$3:$A$79,$A$2,Lageromsætning!$C$3:$C$79,B273,Lageromsætning!$D$3:$D$79,C273)","v":0},{"$f":"SUMIFS(Lageromsætning!$S$3:$S$79,Lageromsætning!$C$3:$C$79,B273,Lageromsætning!$D$3:$D$79,C273)","v":0}]
[{"$f":"IFERROR(INDEX(Lageromsætning!$A$3:$A$79,SMALL(IF(Lageromsætning!$A$3:$A$79=$A$2,ROW(Lageromsætning!$A$3:$A$79)-CELL(\"row\",Lageromsætning!$A$3:$A$79)+1),ROWS($1:271))),\"\")","v":""},{"$f":"IFERROR(INDEX(Lageromsætning!$C$3:$C$79,SMALL(IF(Lageromsætning!$A$3:$A$79=$A$2,ROW(Lageromsætning!$A$3:$A$79)-CELL(\"row\",Lageromsætning!$A$3:$A$79)+1),ROWS($2:272))),\"\")","v":""},{"$f":"IFERROR(INDEX(Lageromsætning!$D$3:$D$79,SMALL(IF(Lageromsætning!$A$3:$A$79=$A$2,ROW(Lageromsætning!$A$3:$A$79)-CELL(\"row\",Lageromsætning!$A$3:$A$79)+1),ROWS($2:272))),\"\")","v":""},{"$f":"IFERROR(INDEX(Lageromsætning!$E$3:$E$79,SMALL(IF(Lageromsætning!$A$3:$A$79=$A$2,ROW(Lageromsætning!$A$3:$A$79)-CELL(\"row\",Lageromsætning!$A$3:$A$79)+1),ROWS($2:272))),\"\")","v":""},{"$f":"IFERROR(INDEX(Lageromsætning!$AF$3:$AF$79,SMALL(IF(Lageromsætning!$A$3:$A$79=$A$2,ROW(Lageromsætning!$A$3:$A$79)-CELL(\"row\",Lageromsætning!$A$3:$A$79)+1),ROWS($2:272))),\"\")","v":""},{"$f":"SUMIFS('Lager antal'!$D$3:$D$2508,'Lager antal'!$B$3:$B$2508,B274,'Lager antal'!$C$3:$C$2508,C274)","v":0},{"$f":"SUMIFS('Lager antal'!$F$3:$F$2508,'Lager antal'!$B$3:$B$2508,B274,'Lager antal'!$C$3:$C$2508,C274)","v":0},{"$f":"IF(ISNA(VLOOKUP($C274,'Lager antal'!$C$3:$K$508,9,FALSE))=TRUE,\"\",VLOOKUP($C274,'Lager antal'!$C$3:$K$508,9,FALSE))","v":""},{"$f":"IFERROR(INDEX(Lageromsætning!$P$3:$P$79,SMALL(IF(Lageromsætning!$A$3:$A$79=$A$2,ROW(Lageromsætning!$A$3:$A$79)-CELL(\"row\",Lageromsætning!$A$3:$A$79)+1),ROWS($2:272))),\"\")","v":""},{"$f":"+_xlfn.IFS($M274>=0.01,$M274,TRUE,0)-$F274-K274+G274","v":0},{"$f":"SUMIFS('Lager antal'!$G$3:$G$2508,'Lager antal'!$B$3:$B$2508,B274,'Lager antal'!$C$3:$C$2508,C274)","v":0},null,0,{"$f":"SUMIFS(Lageromsætning!$R$3:$R$79,Lageromsætning!$A$3:$A$79,$A$2,Lageromsætning!$C$3:$C$79,B274,Lageromsætning!$D$3:$D$79,C274)","v":0},{"$f":"SUMIFS(Lageromsætning!$S$3:$S$79,Lageromsætning!$C$3:$C$79,B274,Lageromsætning!$D$3:$D$79,C274)","v":0}]
[{"$f":"IFERROR(INDEX(Lageromsætning!$A$3:$A$79,SMALL(IF(Lageromsætning!$A$3:$A$79=$A$2,ROW(Lageromsætning!$A$3:$A$79)-CELL(\"row\",Lageromsætning!$A$3:$A$79)+1),ROWS($1:272))),\"\")","v":""},{"$f":"IFERROR(INDEX(Lageromsætning!$C$3:$C$79,SMALL(IF(Lageromsætning!$A$3:$A$79=$A$2,ROW(Lageromsætning!$A$3:$A$79)-CELL(\"row\",Lageromsætning!$A$3:$A$79)+1),ROWS($2:273))),\"\")","v":""},{"$f":"IFERROR(INDEX(Lageromsætning!$D$3:$D$79,SMALL(IF(Lageromsætning!$A$3:$A$79=$A$2,ROW(Lageromsætning!$A$3:$A$79)-CELL(\"row\",Lageromsætning!$A$3:$A$79)+1),ROWS($2:273))),\"\")","v":""},{"$f":"IFERROR(INDEX(Lageromsætning!$E$3:$E$79,SMALL(IF(Lageromsætning!$A$3:$A$79=$A$2,ROW(Lageromsætning!$A$3:$A$79)-CELL(\"row\",Lageromsætning!$A$3:$A$79)+1),ROWS($2:273))),\"\")","v":""},{"$f":"IFERROR(INDEX(Lageromsætning!$AF$3:$AF$79,SMALL(IF(Lageromsætning!$A$3:$A$79=$A$2,ROW(Lageromsætning!$A$3:$A$79)-CELL(\"row\",Lageromsætning!$A$3:$A$79)+1),ROWS($2:273))),\"\")","v":""},{"$f":"SUMIFS('Lager antal'!$D$3:$D$2508,'Lager antal'!$B$3:$B$2508,B275,'Lager antal'!$C$3:$C$2508,C275)","v":0},{"$f":"SUMIFS('Lager antal'!$F$3:$F$2508,'Lager antal'!$B$3:$B$2508,B275,'Lager antal'!$C$3:$C$2508,C275)","v":0},{"$f":"IF(ISNA(VLOOKUP($C275,'Lager antal'!$C$3:$K$508,9,FALSE))=TRUE,\"\",VLOOKUP($C275,'Lager antal'!$C$3:$K$508,9,FALSE))","v":""},{"$f":"IFERROR(INDEX(Lageromsætning!$P$3:$P$79,SMALL(IF(Lageromsætning!$A$3:$A$79=$A$2,ROW(Lageromsætning!$A$3:$A$79)-CELL(\"row\",Lageromsætning!$A$3:$A$79)+1),ROWS($2:273))),\"\")","v":""},{"$f":"+_xlfn.IFS($M275>=0.01,$M275,TRUE,0)-$F275-K275+G275","v":0},{"$f":"SUMIFS('Lager antal'!$G$3:$G$2508,'Lager antal'!$B$3:$B$2508,B275,'Lager antal'!$C$3:$C$2508,C275)","v":0},null,0,{"$f":"SUMIFS(Lageromsætning!$R$3:$R$79,Lageromsætning!$A$3:$A$79,$A$2,Lageromsætning!$C$3:$C$79,B275,Lageromsætning!$D$3:$D$79,C275)","v":0},{"$f":"SUMIFS(Lageromsætning!$S$3:$S$79,Lageromsætning!$C$3:$C$79,B275,Lageromsætning!$D$3:$D$79,C275)","v":0}]
[{"$f":"IFERROR(INDEX(Lageromsætning!$A$3:$A$79,SMALL(IF(Lageromsætning!$A$3:$A$79=$A$2,ROW(Lageromsætning!$A$3:$A$79)-CELL(\"row\",Lageromsætning!$A$3:$A$79)+1),ROWS($1:273))),\"\")","v":""},{"$f":"IFERROR(INDEX(Lageromsætning!$C$3:$C$79,SMALL(IF(Lageromsætning!$A$3:$A$79=$A$2,ROW(Lageromsætning!$A$3:$A$79)-CELL(\"row\",Lageromsætning!$A$3:$A$79)+1),ROWS($2:274))),\"\")","v":""},{"$f":"IFERROR(INDEX(Lageromsætning!$D$3:$D$79,SMALL(IF(Lageromsætning!$A$3:$A$79=$A$2,ROW(Lageromsætning!$A$3:$A$79)-CELL(\"row\",Lageromsætning!$A$3:$A$79)+1),ROWS($2:274))),\"\")","v":""},{"$f":"IFERROR(INDEX(Lageromsætning!$E$3:$E$79,SMALL(IF(Lageromsætning!$A$3:$A$79=$A$2,ROW(Lageromsætning!$A$3:$A$79)-CELL(\"row\",Lageromsætning!$A$3:$A$79)+1),ROWS($2:274))),\"\")","v":""},{"$f":"IFERROR(INDEX(Lageromsætning!$AF$3:$AF$79,SMALL(IF(Lageromsætning!$A$3:$A$79=$A$2,ROW(Lageromsætning!$A$3:$A$79)-CELL(\"row\",Lageromsætning!$A$3:$A$79)+1),ROWS($2:274))),\"\")","v":""},{"$f":"SUMIFS('Lager antal'!$D$3:$D$2508,'Lager antal'!$B$3:$B$2508,B276,'Lager antal'!$C$3:$C$2508,C276)","v":0},{"$f":"SUMIFS('Lager antal'!$F$3:$F$2508,'Lager antal'!$B$3:$B$2508,B276,'Lager antal'!$C$3:$C$2508,C276)","v":0},{"$f":"IF(ISNA(VLOOKUP($C276,'Lager antal'!$C$3:$K$508,9,FALSE))=TRUE,\"\",VLOOKUP($C276,'Lager antal'!$C$3:$K$508,9,FALSE))","v":""},{"$f":"IFERROR(INDEX(Lageromsætning!$P$3:$P$79,SMALL(IF(Lageromsætning!$A$3:$A$79=$A$2,ROW(Lageromsætning!$A$3:$A$79)-CELL(\"row\",Lageromsætning!$A$3:$A$79)+1),ROWS($2:274))),\"\")","v":""},{"$f":"+_xlfn.IFS($M276>=0.01,$M276,TRUE,0)-$F276-K276+G276","v":0},{"$f":"SUMIFS('Lager antal'!$G$3:$G$2508,'Lager antal'!$B$3:$B$2508,B276,'Lager antal'!$C$3:$C$2508,C276)","v":0},null,0,{"$f":"SUMIFS(Lageromsætning!$R$3:$R$79,Lageromsætning!$A$3:$A$79,$A$2,Lageromsætning!$C$3:$C$79,B276,Lageromsætning!$D$3:$D$79,C276)","v":0},{"$f":"SUMIFS(Lageromsætning!$S$3:$S$79,Lageromsætning!$C$3:$C$79,B276,Lageromsætning!$D$3:$D$79,C276)","v":0}]
[{"$f":"IFERROR(INDEX(Lageromsætning!$A$3:$A$79,SMALL(IF(Lageromsætning!$A$3:$A$79=$A$2,ROW(Lageromsætning!$A$3:$A$79)-CELL(\"row\",Lageromsætning!$A$3:$A$79)+1),ROWS($1:274))),\"\")","v":""},{"$f":"IFERROR(INDEX(Lageromsætning!$C$3:$C$79,SMALL(IF(Lageromsætning!$A$3:$A$79=$A$2,ROW(Lageromsætning!$A$3:$A$79)-CELL(\"row\",Lageromsætning!$A$3:$A$79)+1),ROWS($2:275))),\"\")","v":""},{"$f":"IFERROR(INDEX(Lageromsætning!$D$3:$D$79,SMALL(IF(Lageromsætning!$A$3:$A$79=$A$2,ROW(Lageromsætning!$A$3:$A$79)-CELL(\"row\",Lageromsætning!$A$3:$A$79)+1),ROWS($2:275))),\"\")","v":""},{"$f":"IFERROR(INDEX(Lageromsætning!$E$3:$E$79,SMALL(IF(Lageromsætning!$A$3:$A$79=$A$2,ROW(Lageromsætning!$A$3:$A$79)-CELL(\"row\",Lageromsætning!$A$3:$A$79)+1),ROWS($2:275))),\"\")","v":""},{"$f":"IFERROR(INDEX(Lageromsætning!$AF$3:$AF$79,SMALL(IF(Lageromsætning!$A$3:$A$79=$A$2,ROW(Lageromsætning!$A$3:$A$79)-CELL(\"row\",Lageromsætning!$A$3:$A$79)+1),ROWS($2:275))),\"\")","v":""},{"$f":"SUMIFS('Lager antal'!$D$3:$D$2508,'Lager antal'!$B$3:$B$2508,B277,'Lager antal'!$C$3:$C$2508,C277)","v":0},{"$f":"SUMIFS('Lager antal'!$F$3:$F$2508,'Lager antal'!$B$3:$B$2508,B277,'Lager antal'!$C$3:$C$2508,C277)","v":0},{"$f":"IF(ISNA(VLOOKUP($C277,'Lager antal'!$C$3:$K$508,9,FALSE))=TRUE,\"\",VLOOKUP($C277,'Lager antal'!$C$3:$K$508,9,FALSE))","v":""},{"$f":"IFERROR(INDEX(Lageromsætning!$P$3:$P$79,SMALL(IF(Lageromsætning!$A$3:$A$79=$A$2,ROW(Lageromsætning!$A$3:$A$79)-CELL(\"row\",Lageromsætning!$A$3:$A$79)+1),ROWS($2:275))),\"\")","v":""},{"$f":"+_xlfn.IFS($M277>=0.01,$M277,TRUE,0)-$F277-K277+G277","v":0},{"$f":"SUMIFS('Lager antal'!$G$3:$G$2508,'Lager antal'!$B$3:$B$2508,B277,'Lager antal'!$C$3:$C$2508,C277)","v":0},null,0,{"$f":"SUMIFS(Lageromsætning!$R$3:$R$79,Lageromsætning!$A$3:$A$79,$A$2,Lageromsætning!$C$3:$C$79,B277,Lageromsætning!$D$3:$D$79,C277)","v":0},{"$f":"SUMIFS(Lageromsætning!$S$3:$S$79,Lageromsætning!$C$3:$C$79,B277,Lageromsætning!$D$3:$D$79,C277)","v":0}]
[{"$f":"IFERROR(INDEX(Lageromsætning!$A$3:$A$79,SMALL(IF(Lageromsætning!$A$3:$A$79=$A$2,ROW(Lageromsætning!$A$3:$A$79)-CELL(\"row\",Lageromsætning!$A$3:$A$79)+1),ROWS($1:275))),\"\")","v":""},{"$f":"IFERROR(INDEX(Lageromsætning!$C$3:$C$79,SMALL(IF(Lageromsætning!$A$3:$A$79=$A$2,ROW(Lageromsætning!$A$3:$A$79)-CELL(\"row\",Lageromsætning!$A$3:$A$79)+1),ROWS($2:276))),\"\")","v":""},{"$f":"IFERROR(INDEX(Lageromsætning!$D$3:$D$79,SMALL(IF(Lageromsætning!$A$3:$A$79=$A$2,ROW(Lageromsætning!$A$3:$A$79)-CELL(\"row\",Lageromsætning!$A$3:$A$79)+1),ROWS($2:276))),\"\")","v":""},{"$f":"IFERROR(INDEX(Lageromsætning!$E$3:$E$79,SMALL(IF(Lageromsætning!$A$3:$A$79=$A$2,ROW(Lageromsætning!$A$3:$A$79)-CELL(\"row\",Lageromsætning!$A$3:$A$79)+1),ROWS($2:276))),\"\")","v":""},{"$f":"IFERROR(INDEX(Lageromsætning!$AF$3:$AF$79,SMALL(IF(Lageromsætning!$A$3:$A$79=$A$2,ROW(Lageromsætning!$A$3:$A$79)-CELL(\"row\",Lageromsætning!$A$3:$A$79)+1),ROWS($2:276))),\"\")","v":""},{"$f":"SUMIFS('Lager antal'!$D$3:$D$2508,'Lager antal'!$B$3:$B$2508,B278,'Lager antal'!$C$3:$C$2508,C278)","v":0},{"$f":"SUMIFS('Lager antal'!$F$3:$F$2508,'Lager antal'!$B$3:$B$2508,B278,'Lager antal'!$C$3:$C$2508,C278)","v":0},{"$f":"IF(ISNA(VLOOKUP($C278,'Lager antal'!$C$3:$K$508,9,FALSE))=TRUE,\"\",VLOOKUP($C278,'Lager antal'!$C$3:$K$508,9,FALSE))","v":""},{"$f":"IFERROR(INDEX(Lageromsætning!$P$3:$P$79,SMALL(IF(Lageromsætning!$A$3:$A$79=$A$2,ROW(Lageromsætning!$A$3:$A$79)-CELL(\"row\",Lageromsætning!$A$3:$A$79)+1),ROWS($2:276))),\"\")","v":""},{"$f":"+_xlfn.IFS($M278>=0.01,$M278,TRUE,0)-$F278-K278+G278","v":0},{"$f":"SUMIFS('Lager antal'!$G$3:$G$2508,'Lager antal'!$B$3:$B$2508,B278,'Lager antal'!$C$3:$C$2508,C278)","v":0},null,0,{"$f":"SUMIFS(Lageromsætning!$R$3:$R$79,Lageromsætning!$A$3:$A$79,$A$2,Lageromsætning!$C$3:$C$79,B278,Lageromsætning!$D$3:$D$79,C278)","v":0},{"$f":"SUMIFS(Lageromsætning!$S$3:$S$79,Lageromsætning!$C$3:$C$79,B278,Lageromsætning!$D$3:$D$79,C278)","v":0}]
[{"$f":"IFERROR(INDEX(Lageromsætning!$A$3:$A$79,SMALL(IF(Lageromsætning!$A$3:$A$79=$A$2,ROW(Lageromsætning!$A$3:$A$79)-CELL(\"row\",Lageromsætning!$A$3:$A$79)+1),ROWS($1:276))),\"\")","v":""},{"$f":"IFERROR(INDEX(Lageromsætning!$C$3:$C$79,SMALL(IF(Lageromsætning!$A$3:$A$79=$A$2,ROW(Lageromsætning!$A$3:$A$79)-CELL(\"row\",Lageromsætning!$A$3:$A$79)+1),ROWS($2:277))),\"\")","v":""},{"$f":"IFERROR(INDEX(Lageromsætning!$D$3:$D$79,SMALL(IF(Lageromsætning!$A$3:$A$79=$A$2,ROW(Lageromsætning!$A$3:$A$79)-CELL(\"row\",Lageromsætning!$A$3:$A$79)+1),ROWS($2:277))),\"\")","v":""},{"$f":"IFERROR(INDEX(Lageromsætning!$E$3:$E$79,SMALL(IF(Lageromsætning!$A$3:$A$79=$A$2,ROW(Lageromsætning!$A$3:$A$79)-CELL(\"row\",Lageromsætning!$A$3:$A$79)+1),ROWS($2:277))),\"\")","v":""},{"$f":"IFERROR(INDEX(Lageromsætning!$AF$3:$AF$79,SMALL(IF(Lageromsætning!$A$3:$A$79=$A$2,ROW(Lageromsætning!$A$3:$A$79)-CELL(\"row\",Lageromsætning!$A$3:$A$79)+1),ROWS($2:277))),\"\")","v":""},{"$f":"SUMIFS('Lager antal'!$D$3:$D$2508,'Lager antal'!$B$3:$B$2508,B279,'Lager antal'!$C$3:$C$2508,C279)","v":0},{"$f":"SUMIFS('Lager antal'!$F$3:$F$2508,'Lager antal'!$B$3:$B$2508,B279,'Lager antal'!$C$3:$C$2508,C279)","v":0},{"$f":"IF(ISNA(VLOOKUP($C279,'Lager antal'!$C$3:$K$508,9,FALSE))=TRUE,\"\",VLOOKUP($C279,'Lager antal'!$C$3:$K$508,9,FALSE))","v":""},{"$f":"IFERROR(INDEX(Lageromsætning!$P$3:$P$79,SMALL(IF(Lageromsætning!$A$3:$A$79=$A$2,ROW(Lageromsætning!$A$3:$A$79)-CELL(\"row\",Lageromsætning!$A$3:$A$79)+1),ROWS($2:277))),\"\")","v":""},{"$f":"+_xlfn.IFS($M279>=0.01,$M279,TRUE,0)-$F279-K279+G279","v":0},{"$f":"SUMIFS('Lager antal'!$G$3:$G$2508,'Lager antal'!$B$3:$B$2508,B279,'Lager antal'!$C$3:$C$2508,C279)","v":0},null,0,{"$f":"SUMIFS(Lageromsætning!$R$3:$R$79,Lageromsætning!$A$3:$A$79,$A$2,Lageromsætning!$C$3:$C$79,B279,Lageromsætning!$D$3:$D$79,C279)","v":0},{"$f":"SUMIFS(Lageromsætning!$S$3:$S$79,Lageromsætning!$C$3:$C$79,B279,Lageromsætning!$D$3:$D$79,C279)","v":0}]
[{"$f":"IFERROR(INDEX(Lageromsætning!$A$3:$A$79,SMALL(IF(Lageromsætning!$A$3:$A$79=$A$2,ROW(Lageromsætning!$A$3:$A$79)-CELL(\"row\",Lageromsætning!$A$3:$A$79)+1),ROWS($1:277))),\"\")","v":""},{"$f":"IFERROR(INDEX(Lageromsætning!$C$3:$C$79,SMALL(IF(Lageromsætning!$A$3:$A$79=$A$2,ROW(Lageromsætning!$A$3:$A$79)-CELL(\"row\",Lageromsætning!$A$3:$A$79)+1),ROWS($2:278))),\"\")","v":""},{"$f":"IFERROR(INDEX(Lageromsætning!$D$3:$D$79,SMALL(IF(Lageromsætning!$A$3:$A$79=$A$2,ROW(Lageromsætning!$A$3:$A$79)-CELL(\"row\",Lageromsætning!$A$3:$A$79)+1),ROWS($2:278))),\"\")","v":""},{"$f":"IFERROR(INDEX(Lageromsætning!$E$3:$E$79,SMALL(IF(Lageromsætning!$A$3:$A$79=$A$2,ROW(Lageromsætning!$A$3:$A$79)-CELL(\"row\",Lageromsætning!$A$3:$A$79)+1),ROWS($2:278))),\"\")","v":""},{"$f":"IFERROR(INDEX(Lageromsætning!$AF$3:$AF$79,SMALL(IF(Lageromsætning!$A$3:$A$79=$A$2,ROW(Lageromsætning!$A$3:$A$79)-CELL(\"row\",Lageromsætning!$A$3:$A$79)+1),ROWS($2:278))),\"\")","v":""},{"$f":"SUMIFS('Lager antal'!$D$3:$D$2508,'Lager antal'!$B$3:$B$2508,B280,'Lager antal'!$C$3:$C$2508,C280)","v":0},{"$f":"SUMIFS('Lager antal'!$F$3:$F$2508,'Lager antal'!$B$3:$B$2508,B280,'Lager antal'!$C$3:$C$2508,C280)","v":0},{"$f":"IF(ISNA(VLOOKUP($C280,'Lager antal'!$C$3:$K$508,9,FALSE))=TRUE,\"\",VLOOKUP($C280,'Lager antal'!$C$3:$K$508,9,FALSE))","v":""},{"$f":"IFERROR(INDEX(Lageromsætning!$P$3:$P$79,SMALL(IF(Lageromsætning!$A$3:$A$79=$A$2,ROW(Lageromsætning!$A$3:$A$79)-CELL(\"row\",Lageromsætning!$A$3:$A$79)+1),ROWS($2:278))),\"\")","v":""},{"$f":"+_xlfn.IFS($M280>=0.01,$M280,TRUE,0)-$F280-K280+G280","v":0},{"$f":"SUMIFS('Lager antal'!$G$3:$G$2508,'Lager antal'!$B$3:$B$2508,B280,'Lager antal'!$C$3:$C$2508,C280)","v":0},null,0,{"$f":"SUMIFS(Lageromsætning!$R$3:$R$79,Lageromsætning!$A$3:$A$79,$A$2,Lageromsætning!$C$3:$C$79,B280,Lageromsætning!$D$3:$D$79,C280)","v":0},{"$f":"SUMIFS(Lageromsætning!$S$3:$S$79,Lageromsætning!$C$3:$C$79,B280,Lageromsætning!$D$3:$D$79,C280)","v":0}]
[]
[]
[]
[]
[]
[{"$f":"IFERROR(INDEX('[1]Salg & Lager Alt - Alle'!$A$3:$A$78812,SMALL(IF('[1]Salg & Lager Alt - Alle'!$A$3:$A$78812=$A$2,ROW('[1]Salg & Lager Alt - Alle'!$A$3:$A$78812)-CELL(\"row\",'[1]Salg & Lager Alt - Alle'!$A$3:$A$78812)+1),ROWS($1:2))),\"\")","v":""}]

{"sheet":"Lager antal","index":1,"n_rows":2508,"n_cols":11,"rows_kept":2508,"cut":false,"hidden":false,"merged":[]}
[]
["Lager","Varegrp.","Varenr.","Lagerbeholdning","Varetekst 1","Reserveret til kunder","Bestilt","Lager kode","Manuel lagerkode","Lager-salg","Udgår"]
[400,3131,8339368,4,"Vare 4",0,0,0,9,{"$f":"+D3-F3","v":4},{"$f":"+_xlfn.IFS(H3>8,\"udgår\",I3>8,\"udgår\",H3<8,\"\",I3<8,\"\")","v":"udgår"}]
[400,4660,1720888,467,"Vare 5",86,0,0,null,381,{"$f":"+_xlfn.IFS(H4>8,\"udgår\",I4>8,\"udgår\",H4<8,\"\",I4<8,\"\")","v":""}]
[400,9120,8340564,1,"Vare 6",0,0,0,null,1,{"$f":"+_xlfn.IFS(H5>8,\"udgår\",I5>8,\"udgår\",H5<8,\"\",I5<8,\"\")","v":""}]
[400,3130,1270144,355,"Vare 3",0,0,0,null,355,{"$f":"+_xlfn.IFS(H6>8,\"udgår\",I6>8,\"udgår\",H6<8,\"\",I6<8,\"\")","v":""}]
[400,4530,5015401,1125,"Vare 18",360,0,0,null,765,{"$f":"+_xlfn.IFS(H7>8,\"udgår\",I7>8,\"udgår\",H7<8,\"\",I7<8,\"\")","v":""}]
[400,4530,5214761,973,"Vare 19",2977,6960,0,null,-2004,{"$f":"+_xlfn.IFS(H8>8,\"udgår\",I8>8,\"udgår\",H8<8,\"\",I8<8,\"\")","v":""}]
[400,5010,9025263,14,"Vare 1",0,0,0,null,14,{"$f":"+_xlfn.IFS(H9>8,\"udgår\",I9>8,\"udgår\",H9<8,\"\",I9<8,\"\")","v":""}]
[400,5010,9049180,49,"Vare 2",0,0,0,null,49,{"$f":"+_xlfn.IFS(H10>8,\"udgår\",I10>8,\"udgår\",H10<8,\"\",I10<8,\"\")","v":""}]
[400,9120,5772333,0,"Vare 31",0,1,0,null,0,{"$f":"+_xlfn.IFS(H11>8,\"udgår\",I11>8,\"udgår\",H11<8,\"\",I11<8,\"\")","v":""}]
[400,9120,7603517,58,"Vare 33",0,40,0,null,58,{"$f":"+_xlfn.IFS(H12>8,\"udgår\",I12>8,\"udgår\",H12<8,\"\",I12<8,\"\")","v":""}]
[400,9120,2171208,19,"Vare 30",0,0,0,null,19,{"$f":"+_xlfn.IFS(H13>8,\"udgår\",I13>8,\"udgår\",H13<8,\"\",I13<8,\"\")","v":""}]
[400,9120,2033614,25,"Vare 29",0,0,0,null,25,{"$f":"+_xlfn.IFS(H14>8,\"udgår\",I14>8,\"udgår\",H14<8,\"\",I14<8,\"\")","v":""}]
[400,5160,1703739,155,"Vare 23",30,216,0,null,125,{"$f":"+_xlfn.IFS(H15>8,\"udgår\",I15>8,\"udgår\",H15<8,\"\",I15<8,\"\")","v":""}]
[400,5160,1703736,23,"Vare 22",0,0,0,null,23,{"$f":"+_xlfn.IFS(H16>8,\"udgår\",I16>8,\"udgår\",H16<8,\"\",I16<8,\"\")","v":""}]
[400,5160,1703740,91,"Vare 24",0,0,0,null,91,{"$f":"+_xlfn.IFS(H17>8,\"udgår\",I17>8,\"udgår\",H17<8,\"\",I17<8,\"\")","v":""}]
[400,9120,5772513,2,"Vare 32",0,0,0,null,2,{"$f":"+_xlfn.IFS(H18>8,\"udgår\",I18>8,\"udgår\",H18<8,\"\",I18<8,\"\")","v":""}]
[400,4530,1863086,1201,"Vare 16",334,960,0,null,867,{"$f":"+_xlfn.IFS(H19>8,\"udgår\",I19>8,\"udgår\",H19<8,\"\",I19<8,\"\")","v":""}]
[400,5160,1703741,0,"Vare 25",0,32,0,null,0,{"$f":"+_xlfn.IFS(H20>8,\"udgår\",I20>8,\"udgår\",H20<8,\"\",I20<8,\"\")","v":""}]
[400,5160,1965404,91,"Vare 27",34,34,0,null,57,{"$f":"+_xlfn.IFS(H21>8,\"udgår\",I21>8,\"udgår\",H21<8,\"\",I21<8,\"\")","v":""}]
[400,4530,1446513,211,"Vare 14",0,0,9,null,211,{"$f":"+_xlfn.IFS(H22>8,\"udgår\",I22>8,\"udgår\",H22<8,\"\",I22<8,\"\")","v":"udgår"}]
[400,4530,1867031,159,"Vare 17",0,0,0,null,159,{"$f":"+_xlfn.IFS(H23>8,\"udgår\",I23>8,\"udgår\",H23<8,\"\",I23<8,\"\")","v":""}]
[400,5160,1704040,57,"Vare 26",0,0,0,null,57,{"$f":"+_xlfn.IFS(H24>8,\"udgår\",I24>8,\"udgår\",H24<8,\"\",I24<8,\"\")","v":""}]
[400,4720,2272569,4,"Vare 21",0,0,0,null,4,{"$f":"+_xlfn.IFS(H25>8,\"udgår\",I25>8,\"udgår\",H25<8,\"\",I25<8,\"\")","v":""}]
[400,4720,2272567,12,"Vare 20",2,9,0,null,10,{"$f":"+_xlfn.IFS(H26>8,\"udgår\",I26>8,\"udgår\",H26<8,\"\",I26<8,\"\")","v":""}]
[null,null,null,null,null,null,null,null,null,0,{"$f":"+_xlfn.IFS(H27>8,\"udgår\",I27>8,\"udgår\",H27<8,\"\",I27<8,\"\")","v":""}]
[null,null,null,null,null,null,null,null,null,0,{"$f":"+_xlfn.IFS(H28>8,\"udgår\",I28>8,\"udgår\",H28<8,\"\",I28<8,\"\")","v":""}]
[null,null,null,null,null,null,null,null,null,0,{"$f":"+_xlfn.IFS(H29>8,\"udgår\",I29>8,\"udgår\",H29<8,\"\",I29<8,\"\")","v":""}]
[null,null,null,null,null,null,null,null,null,0,{"$f":"+_xlfn.IFS(H30>8,\"udgår\",I30>8,\"udgår\",H30<8,\"\",I30<8,\"\")","v":""}]
[null,null,null,null,null,null,null,null,null,0,{"$f":"+_xlfn.IFS(H31>8,\"udgår\",I31>8,\"udgår\",H31<8,\"\",I31<8,\"\")","v":""}]
[null,null,null,null,null,null,null,null,null,0,{"$f":"+_xlfn.IFS(H32>8,\"udgår\",I32>8,\"udgår\",H32<8,\"\",I32<8,\"\")","v":""}]
[null,null,null,null,null,null,null,null,null,0,{"$f":"+_xlfn.IFS(H33>8,\"udgår\",I33>8,\"udgår\",H33<8,\"\",I33<8,\"\")","v":""}]
[null,null,null,null,null,null,null,null,null,0,{"$f":"+_xlfn.IFS(H34>8,\"udgår\",I34>8,\"udgår\",H34<8,\"\",I34<8,\"\")","v":""}]
[null,null,null,null,null,null,null,null,null,0,{"$f":"+_xlfn.IFS(H35>8,\"udgår\",I35>8,\"udgår\",H35<8,\"\",I35<8,\"\")","v":""}]
[null,null,null,null,null,null,null,null,null,0,{"$f":"+_xlfn.IFS(H36>8,\"udgår\",I36>8,\"udgår\",H36<8,\"\",I36<8,\"\")","v":""}]
[null,null,null,null,null,null,null,null,null,0,{"$f":"+_xlfn.IFS(H37>8,\"udgår\",I37>8,\"udgår\",H37<8,\"\",I37<8,\"\")","v":""}]
[null,null,null,null,null,null,null,null,null,0,{"$f":"+_xlfn.IFS(H38>8,\"udgår\",I38>8,\"udgår\",H38<8,\"\",I38<8,\"\")","v":""}]
[null,null,null,null,null,null,null,null,null,0,{"$f":"+_xlfn.IFS(H39>8,\"udgår\",I39>8,\"udgår\",H39<8,\"\",I39<8,\"\")","v":""}]
[null,null,null,null,null,null,null,null,null,0,{"$f":"+_xlfn.IFS(H40>8,\"udgår\",I40>8,\"udgår\",H40<8,\"\",I40<8,\"\")","v":""}]
[null,null,null,null,null,null,null,null,null,0,{"$f":"+_xlfn.IFS(H41>8,\"udgår\",I41>8,\"udgår\",H41<8,\"\",I41<8,\"\")","v":""}]
[null,null,null,null,null,null,null,null,null,0,{"$f":"+_xlfn.IFS(H42>8,\"udgår\",I42>8,\"udgår\",H42<8,\"\",I42<8,\"\")","v":""}]
[null,null,null,null,null,null,null,null,null,0,{"$f":"+_xlfn.IFS(H43>8,\"udgår\",I43>8,\"udgår\",H43<8,\"\",I43<8,\"\")","v":""}]
[null,null,null,null,null,null,null,null,null,0,{"$f":"+_xlfn.IFS(H44>8,\"udgår\",I44>8,\"udgår\",H44<8,\"\",I44<8,\"\")","v":""}]
[null,null,null,null,null,null,null,null,null,0,{"$f":"+_xlfn.IFS(H45>8,\"udgår\",I45>8,\"udgår\",H45<8,\"\",I45<8,\"\")","v":""}]
[null,null,null,null,null,null,null,null,null,0,{"$f":"+_xlfn.IFS(H46>8,\"udgår\",I46>8,\"udgår\",H46<8,\"\",I46<8,\"\")","v":""}]
[null,null,null,null,null,null,null,null,null,0,{"$f":"+_xlfn.IFS(H47>8,\"udgår\",I47>8,\"udgår\",H47<8,\"\",I47<8,\"\")","v":""}]
[null,null,null,null,null,null,null,null,null,0,{"$f":"+_xlfn.IFS(H48>8,\"udgår\",I48>8,\"udgår\",H48<8,\"\",I48<8,\"\")","v":""}]
[null,null,null,null,null,null,null,null,null,0,{"$f":"+_xlfn.IFS(H49>8,\"udgår\",I49>8,\"udgår\",H49<8,\"\",I49<8,\"\")","v":""}]
[null,null,null,null,null,null,null,null,null,0,{"$f":"+_xlfn.IFS(H50>8,\"udgår\",I50>8,\"udgår\",H50<8,\"\",I50<8,\"\")","v":""}]
[null,null,null,null,null,null,null,null,null,0,{"$f":"+_xlfn.IFS(H51>8,\"udgår\",I51>8,\"udgår\",H51<8,\"\",I51<8,\"\")","v":""}]
[null,null,null,null,null,null,null,null,null,0,{"$f":"+_xlfn.IFS(H52>8,\"udgår\",I52>8,\"udgår\",H52<8,\"\",I52<8,\"\")","v":""}]
[null,null,null,null,null,null,null,null,null,0,{"$f":"+_xlfn.IFS(H53>8,\"udgår\",I53>8,\"udgår\",H53<8,\"\",I53<8,\"\")","v":""}]
[null,null,null,null,null,null,null,null,null,0,{"$f":"+_xlfn.IFS(H54>8,\"udgår\",I54>8,\"udgår\",H54<8,\"\",I54<8,\"\")","v":""}]
[null,null,null,null,null,null,null,null,null,0,{"$f":"+_xlfn.IFS(H55>8,\"udgår\",I55>8,\"udgår\",H55<8,\"\",I55<8,\"\")","v":""}]
[null,null,null,null,null,null,null,null,null,0,{"$f":"+_xlfn.IFS(H56>8,\"udgår\",I56>8,\"udgår\",H56<8,\"\",I56<8,\"\")","v":""}]
[null,null,null,null,null,null,null,null,null,0,{"$f":"+_xlfn.IFS(H57>8,\"udgår\",I57>8,\"udgår\",H57<8,\"\",I57<8,\"\")","v":""}]
[null,null,null,null,null,null,null,null,null,0,{"$f":"+_xlfn.IFS(H58>8,\"udgår\",I58>8,\"udgår\",H58<8,\"\",I58<8,\"\")","v":""}]
[null,null,null,null,null,null,null,null,null,0,{"$f":"+_xlfn.IFS(H59>8,\"udgår\",I59>8,\"udgår\",H59<8,\"\",I59<8,\"\")","v":""}]
[null,null,null,null,null,null,null,null,null,0,{"$f":"+_xlfn.IFS(H60>8,\"udgår\",I60>8,\"udgår\",H60<8,\"\",I60<8,\"\")","v":""}]
[null,null,null,null,null,null,null,null,null,0,{"$f":"+_xlfn.IFS(H61>8,\"udgår\",I61>8,\"udgår\",H61<8,\"\",I61<8,\"\")","v":""}]
[null,null,null,null,null,null,null,null,null,0,{"$f":"+_xlfn.IFS(H62>8,\"udgår\",I62>8,\"udgår\",H62<8,\"\",I62<8,\"\")","v":""}]
[null,null,null,null,null,null,null,null,null,0,{"$f":"+_xlfn.IFS(H63>8,\"udgår\",I63>8,\"udgår\",H63<8,\"\",I63<8,\"\")","v":""}]
[null,null,null,null,null,null,null,null,null,0,{"$f":"+_xlfn.IFS(H64>8,\"udgår\",I64>8,\"udgår\",H64<8,\"\",I64<8,\"\")","v":""}]
[null,null,null,null,null,null,null,null,null,0,{"$f":"+_xlfn.IFS(H65>8,\"udgår\",I65>8,\"udgår\",H65<8,\"\",I65<8,\"\")","v":""}]
[null,null,null,null,null,null,null,null,null,0,{"$f":"+_xlfn.IFS(H66>8,\"udgår\",I66>8,\"udgår\",H66<8,\"\",I66<8,\"\")","v":""}]
[null,null,null,null,null,null,null,null,null,{"$f":"+D67-F67","v":0},{"$f":"+_xlfn.IFS(H67>8,\"udgår\",I67>8,\"udgår\",H67<8,\"\",I67<8,\"\")","v":""}]
[null,null,null,null,null,null,null,null,null,0,{"$f":"+_xlfn.IFS(H68>8,\"udgår\",I68>8,\"udgår\",H68<8,\"\",I68<8,\"\")","v":""}]
[null,null,null,null,null,null,null,null,null,0,{"$f":"+_xlfn.IFS(H69>8,\"udgår\",I69>8,\"udgår\",H69<8,\"\",I69<8,\"\")","v":""}]
[null,null,null,null,null,null,null,null,null,0,{"$f":"+_xlfn.IFS(H70>8,\"udgår\",I70>8,\"udgår\",H70<8,\"\",I70<8,\"\")","v":""}]
[null,null,null,null,null,null,null,null,null,0,{"$f":"+_xlfn.IFS(H71>8,\"udgår\",I71>8,\"udgår\",H71<8,\"\",I71<8,\"\")","v":""}]
[null,null,null,null,null,null,null,null,null,0,{"$f":"+_xlfn.IFS(H72>8,\"udgår\",I72>8,\"udgår\",H72<8,\"\",I72<8,\"\")","v":""}]
[null,null,null,null,null,null,null,null,null,0,{"$f":"+_xlfn.IFS(H73>8,\"udgår\",I73>8,\"udgår\",H73<8,\"\",I73<8,\"\")","v":""}]
[null,null,null,null,null,null,null,null,null,0,{"$f":"+_xlfn.IFS(H74>8,\"udgår\",I74>8,\"udgår\",H74<8,\"\",I74<8,\"\")","v":""}]
[null,null,null,null,null,null,null,null,null,0,{"$f":"+_xlfn.IFS(H75>8,\"udgår\",I75>8,\"udgår\",H75<8,\"\",I75<8,\"\")","v":""}]
[null,null,null,null,null,null,null,null,null,0,{"$f":"+_xlfn.IFS(H76>8,\"udgår\",I76>8,\"udgår\",H76<8,\"\",I76<8,\"\")","v":""}]
[null,null,null,null,null,null,null,null,null,0,{"$f":"+_xlfn.IFS(H77>8,\"udgår\",I77>8,\"udgår\",H77<8,\"\",I77<8,\"\")","v":""}]
[null,null,null,null,null,null,null,null,null,0,{"$f":"+_xlfn.IFS(H78>8,\"udgår\",I78>8,\"udgår\",H78<8,\"\",I78<8,\"\")","v":""}]
[null,null,null,null,null,null,null,null,null,0,{"$f":"+_xlfn.IFS(H79>8,\"udgår\",I79>8,\"udgår\",H79<8,\"\",I79<8,\"\")","v":""}]
[null,null,null,null,null,null,null,null,null,0,{"$f":"+_xlfn.IFS(H80>8,\"udgår\",I80>8,\"udgår\",H80<8,\"\",I80<8,\"\")","v":""}]
[null,null,null,null,null,null,null,null,null,0,{"$f":"+_xlfn.IFS(H81>8,\"udgår\",I81>8,\"udgår\",H81<8,\"\",I81<8,\"\")","v":""}]
[null,null,null,null,null,null,null,null,null,0,{"$f":"+_xlfn.IFS(H82>8,\"udgår\",I82>8,\"udgår\",H82<8,\"\",I82<8,\"\")","v":""}]
[null,null,null,null,null,null,null,null,null,0,{"$f":"+_xlfn.IFS(H83>8,\"udgår\",I83>8,\"udgår\",H83<8,\"\",I83<8,\"\")","v":""}]
[null,null,null,null,null,null,null,null,null,0,{"$f":"+_xlfn.IFS(H84>8,\"udgår\",I84>8,\"udgår\",H84<8,\"\",I84<8,\"\")","v":""}]
[null,null,null,null,null,null,null,null,null,0,{"$f":"+_xlfn.IFS(H85>8,\"udgår\",I85>8,\"udgår\",H85<8,\"\",I85<8,\"\")","v":""}]
[null,null,null,null,null,null,null,null,null,0,{"$f":"+_xlfn.IFS(H86>8,\"udgår\",I86>8,\"udgår\",H86<8,\"\",I86<8,\"\")","v":""}]
[null,null,null,null,null,null,null,null,null,0,{"$f":"+_xlfn.IFS(H87>8,\"udgår\",I87>8,\"udgår\",H87<8,\"\",I87<8,\"\")","v":""}]
[null,null,null,null,null,null,null,null,null,0,{"$f":"+_xlfn.IFS(H88>8,\"udgår\",I88>8,\"udgår\",H88<8,\"\",I88<8,\"\")","v":""}]
[null,null,null,null,null,null,null,null,null,0,{"$f":"+_xlfn.IFS(H89>8,\"udgår\",I89>8,\"udgår\",H89<8,\"\",I89<8,\"\")","v":""}]
[null,null,null,null,null,null,null,null,null,0,{"$f":"+_xlfn.IFS(H90>8,\"udgår\",I90>8,\"udgår\",H90<8,\"\",I90<8,\"\")","v":""}]
[null,null,null,null,null,null,null,null,null,0,{"$f":"+_xlfn.IFS(H91>8,\"udgår\",I91>8,\"udgår\",H91<8,\"\",I91<8,\"\")","v":""}]
[null,null,null,null,null,null,null,null,null,0,{"$f":"+_xlfn.IFS(H92>8,\"udgår\",I92>8,\"udgår\",H92<8,\"\",I92<8,\"\")","v":""}]
[null,null,null,null,null,null,null,null,null,0,{"$f":"+_xlfn.IFS(H93>8,\"udgår\",I93>8,\"udgår\",H93<8,\"\",I93<8,\"\")","v":""}]
[null,null,null,null,null,null,null,null,null,0,{"$f":"+_xlfn.IFS(H94>8,\"udgår\",I94>8,\"udgår\",H94<8,\"\",I94<8,\"\")","v":""}]
[null,null,null,null,null,null,null,null,null,0,{"$f":"+_xlfn.IFS(H95>8,\"udgår\",I95>8,\"udgår\",H95<8,\"\",I95<8,\"\")","v":""}]
[null,null,null,null,null,null,null,null,null,0,{"$f":"+_xlfn.IFS(H96>8,\"udgår\",I96>8,\"udgår\",H96<8,\"\",I96<8,\"\")","v":""}]
[null,null,null,null,null,null,null,null,null,0,{"$f":"+_xlfn.IFS(H97>8,\"udgår\",I97>8,\"udgår\",H97<8,\"\",I97<8,\"\")","v":""}]
[null,null,null,null,null,null,null,null,null,0,{"$f":"+_xlfn.IFS(H98>8,\"udgår\",I98>8,\"udgår\",H98<8,\"\",I98<8,\"\")","v":""}]
[null,null,null,null,null,null,null,null,null,0,{"$f":"+_xlfn.IFS(H99>8,\"udgår\",I99>8,\"udgår\",H99<8,\"\",I99<8,\"\")","v":""}]
[null,null,null,null,null,null,null,null,null,0,{"$f":"+_xlfn.IFS(H100>8,\"udgår\",I100>8,\"udgår\",H100<8,\"\",I100<8,\"\")","v":""}]
[null,null,null,null,null,null,null,null,null,0,{"$f":"+_xlfn.IFS(H101>8,\"udgår\",I101>8,\"udgår\",H101<8,\"\",I101<8,\"\")","v":""}]
[null,null,null,null,null,null,null,null,null,0,{"$f":"+_xlfn.IFS(H102>8,\"udgår\",I102>8,\"udgår\",H102<8,\"\",I102<8,\"\")","v":""}]
[null,null,null,null,null,null,null,null,null,0,{"$f":"+_xlfn.IFS(H103>8,\"udgår\",I103>8,\"udgår\",H103<8,\"\",I103<8,\"\")","v":""}]
[null,null,null,null,null,null,null,null,null,0,{"$f":"+_xlfn.IFS(H104>8,\"udgår\",I104>8,\"udgår\",H104<8,\"\",I104<8,\"\")","v":""}]
[null,null,null,null,null,null,null,null,null,0,{"$f":"+_xlfn.IFS(H105>8,\"udgår\",I105>8,\"udgår\",H105<8,\"\",I105<8,\"\")","v":""}]
[null,null,null,null,null,null,null,null,null,0,{"$f":"+_xlfn.IFS(H106>8,\"udgår\",I106>8,\"udgår\",H106<8,\"\",I106<8,\"\")","v":""}]
[null,null,null,null,null,null,null,null,null,0,{"$f":"+_xlfn.IFS(H107>8,\"udgår\",I107>8,\"udgår\",H107<8,\"\",I107<8,\"\")","v":""}]
[null,null,null,null,null,null,null,null,null,0,{"$f":"+_xlfn.IFS(H108>8,\"udgår\",I108>8,\"udgår\",H108<8,\"\",I108<8,\"\")","v":""}]
[null,null,null,null,null,null,null,null,null,0,{"$f":"+_xlfn.IFS(H109>8,\"udgår\",I109>8,\"udgår\",H109<8,\"\",I109<8,\"\")","v":""}]
[null,null,null,null,null,null,null,null,null,0,{"$f":"+_xlfn.IFS(H110>8,\"udgår\",I110>8,\"udgår\",H110<8,\"\",I110<8,\"\")","v":""}]
[null,null,null,null,null,null,null,null,null,0,{"$f":"+_xlfn.IFS(H111>8,\"udgår\",I111>8,\"udgår\",H111<8,\"\",I111<8,\"\")","v":""}]
[null,null,null,null,null,null,null,null,null,0,{"$f":"+_xlfn.IFS(H112>8,\"udgår\",I112>8,\"udgår\",H112<8,\"\",I112<8,\"\")","v":""}]
[null,null,null,null,null,null,null,null,null,0,{"$f":"+_xlfn.IFS(H113>8,\"udgår\",I113>8,\"udgår\",H113<8,\"\",I113<8,\"\")","v":""}]
[null,null,null,null,null,null,null,null,null,0,{"$f":"+_xlfn.IFS(H114>8,\"udgår\",I114>8,\"udgår\",H114<8,\"\",I114<8,\"\")","v":""}]
[null,null,null,null,null,null,null,null,null,0,{"$f":"+_xlfn.IFS(H115>8,\"udgår\",I115>8,\"udgår\",H115<8,\"\",I115<8,\"\")","v":""}]
[null,null,null,null,null,null,null,null,null,0,{"$f":"+_xlfn.IFS(H116>8,\"udgår\",I116>8,\"udgår\",H116<8,\"\",I116<8,\"\")","v":""}]
[null,null,null,null,null,null,null,null,null,0,{"$f":"+_xlfn.IFS(H117>8,\"udgår\",I117>8,\"udgår\",H117<8,\"\",I117<8,\"\")","v":""}]
[null,null,null,null,null,null,null,null,null,0,{"$f":"+_xlfn.IFS(H118>8,\"udgår\",I118>8,\"udgår\",H118<8,\"\",I118<8,\"\")","v":""}]
[null,null,null,null,null,null,null,null,null,0,{"$f":"+_xlfn.IFS(H119>8,\"udgår\",I119>8,\"udgår\",H119<8,\"\",I119<8,\"\")","v":""}]
[null,null,null,null,null,null,null,null,null,0,{"$f":"+_xlfn.IFS(H120>8,\"udgår\",I120>8,\"udgår\",H120<8,\"\",I120<8,\"\")","v":""}]
[null,null,null,null,null,null,null,null,null,0,{"$f":"+_xlfn.IFS(H121>8,\"udgår\",I121>8,\"udgår\",H121<8,\"\",I121<8,\"\")","v":""}]
[null,null,null,null,null,null,null,null,null,0,{"$f":"+_xlfn.IFS(H122>8,\"udgår\",I122>8,\"udgår\",H122<8,\"\",I122<8,\"\")","v":""}]
[null,null,null,null,null,null,null,null,null,0,{"$f":"+_xlfn.IFS(H123>8,\"udgår\",I123>8,\"udgår\",H123<8,\"\",I123<8,\"\")","v":""}]
[null,null,null,null,null,null,null,null,null,0,{"$f":"+_xlfn.IFS(H124>8,\"udgår\",I124>8,\"udgår\",H124<8,\"\",I124<8,\"\")","v":""}]
[null,null,null,null,null,null,null,null,null,0,{"$f":"+_xlfn.IFS(H125>8,\"udgår\",I125>8,\"udgår\",H125<8,\"\",I125<8,\"\")","v":""}]
[null,null,null,null,null,null,null,null,null,0,{"$f":"+_xlfn.IFS(H126>8,\"udgår\",I126>8,\"udgår\",H126<8,\"\",I126<8,\"\")","v":""}]
[null,null,null,null,null,null,null,null,null,0,{"$f":"+_xlfn.IFS(H127>8,\"udgår\",I127>8,\"udgår\",H127<8,\"\",I127<8,\"\")","v":""}]
[null,null,null,null,null,null,null,null,null,0,{"$f":"+_xlfn.IFS(H128>8,\"udgår\",I128>8,\"udgår\",H128<8,\"\",I128<8,\"\")","v":""}]
[null,null,null,null,null,null,null,null,null,0,{"$f":"+_xlfn.IFS(H129>8,\"udgår\",I129>8,\"udgår\",H129<8,\"\",I129<8,\"\")","v":""}]
[null,null,null,null,null,null,null,null,null,0,{"$f":"+_xlfn.IFS(H130>8,\"udgår\",I130>8,\"udgår\",H130<8,\"\",I130<8,\"\")","v":""}]
[null,null,null,null,null,null,null,null,null,{"$f":"+D131-F131","v":0},{"$f":"+_xlfn.IFS(H131>8,\"udgår\",I131>8,\"udgår\",H131<8,\"\",I131<8,\"\")","v":""}]
[null,null,null,null,null,null,null,null,null,0,{"$f":"+_xlfn.IFS(H132>8,\"udgår\",I132>8,\"udgår\",H132<8,\"\",I132<8,\"\")","v":""}]
[null,null,null,null,null,null,null,null,null,0,{"$f":"+_xlfn.IFS(H133>8,\"udgår\",I133>8,\"udgår\",H133<8,\"\",I133<8,\"\")","v":""}]
[null,null,null,null,null,null,null,null,null,0,{"$f":"+_xlfn.IFS(H134>8,\"udgår\",I134>8,\"udgår\",H134<8,\"\",I134<8,\"\")","v":""}]
[null,null,null,null,null,null,null,null,null,0,{"$f":"+_xlfn.IFS(H135>8,\"udgår\",I135>8,\"udgår\",H135<8,\"\",I135<8,\"\")","v":""}]
[null,null,null,null,null,null,null,null,null,0,{"$f":"+_xlfn.IFS(H136>8,\"udgår\",I136>8,\"udgår\",H136<8,\"\",I136<8,\"\")","v":""}]
[null,null,null,null,null,null,null,null,null,0,{"$f":"+_xlfn.IFS(H137>8,\"udgår\",I137>8,\"udgår\",H137<8,\"\",I137<8,\"\")","v":""}]
[null,null,null,null,null,null,null,null,null,0,{"$f":"+_xlfn.IFS(H138>8,\"udgår\",I138>8,\"udgår\",H138<8,\"\",I138<8,\"\")","v":""}]
[null,null,null,null,null,null,null,null,null,0,{"$f":"+_xlfn.IFS(H139>8,\"udgår\",I139>8,\"udgår\",H139<8,\"\",I139<8,\"\")","v":""}]
[null,null,null,null,null,null,null,null,null,0,{"$f":"+_xlfn.IFS(H140>8,\"udgår\",I140>8,\"udgår\",H140<8,\"\",I140<8,\"\")","v":""}]
[null,null,null,null,null,null,null,null,null,0,{"$f":"+_xlfn.IFS(H141>8,\"udgår\",I141>8,\"udgår\",H141<8,\"\",I141<8,\"\")","v":""}]
[null,null,null,null,null,null,null,null,null,0,{"$f":"+_xlfn.IFS(H142>8,\"udgår\",I142>8,\"udgår\",H142<8,\"\",I142<8,\"\")","v":""}]
[null,null,null,null,null,null,null,null,null,0,{"$f":"+_xlfn.IFS(H143>8,\"udgår\",I143>8,\"udgår\",H143<8,\"\",I143<8,\"\")","v":""}]
[null,null,null,null,null,null,null,null,null,0,{"$f":"+_xlfn.IFS(H144>8,\"udgår\",I144>8,\"udgår\",H144<8,\"\",I144<8,\"\")","v":""}]
[null,null,null,null,null,null,null,null,null,0,{"$f":"+_xlfn.IFS(H145>8,\"udgår\",I145>8,\"udgår\",H145<8,\"\",I145<8,\"\")","v":""}]
[null,null,null,null,null,null,null,null,null,0,{"$f":"+_xlfn.IFS(H146>8,\"udgår\",I146>8,\"udgår\",H146<8,\"\",I146<8,\"\")","v":""}]
[null,null,null,null,null,null,null,null,null,0,{"$f":"+_xlfn.IFS(H147>8,\"udgår\",I147>8,\"udgår\",H147<8,\"\",I147<8,\"\")","v":""}]
[null,null,null,null,null,null,null,null,null,0,{"$f":"+_xlfn.IFS(H148>8,\"udgår\",I148>8,\"udgår\",H148<8,\"\",I148<8,\"\")","v":""}]
[null,null,null,null,null,null,null,null,null,0,{"$f":"+_xlfn.IFS(H149>8,\"udgår\",I149>8,\"udgår\",H149<8,\"\",I149<8,\"\")","v":""}]
[null,null,null,null,null,null,null,null,null,0,{"$f":"+_xlfn.IFS(H150>8,\"udgår\",I150>8,\"udgår\",H150<8,\"\",I150<8,\"\")","v":""}]
[null,null,null,null,null,null,null,null,null,0,{"$f":"+_xlfn.IFS(H151>8,\"udgår\",I151>8,\"udgår\",H151<8,\"\",I151<8,\"\")","v":""}]
[null,null,null,null,null,null,null,null,null,0,{"$f":"+_xlfn.IFS(H152>8,\"udgår\",I152>8,\"udgår\",H152<8,\"\",I152<8,\"\")","v":""}]
[null,null,null,null,null,null,null,null,null,0,{"$f":"+_xlfn.IFS(H153>8,\"udgår\",I153>8,\"udgår\",H153<8,\"\",I153<8,\"\")","v":""}]
[null,null,null,null,null,null,null,null,null,0,{"$f":"+_xlfn.IFS(H154>8,\"udgår\",I154>8,\"udgår\",H154<8,\"\",I154<8,\"\")","v":""}]
[null,null,null,null,null,null,null,null,null,0,{"$f":"+_xlfn.IFS(H155>8,\"udgår\",I155>8,\"udgår\",H155<8,\"\",I155<8,\"\")","v":""}]
[null,null,null,null,null,null,null,null,null,0,{"$f":"+_xlfn.IFS(H156>8,\"udgår\",I156>8,\"udgår\",H156<8,\"\",I156<8,\"\")","v":""}]
[null,null,null,null,null,null,null,null,null,0,{"$f":"+_xlfn.IFS(H157>8,\"udgår\",I157>8,\"udgår\",H157<8,\"\",I157<8,\"\")","v":""}]
[null,null,null,null,null,null,null,null,null,0,{"$f":"+_xlfn.IFS(H158>8,\"udgår\",I158>8,\"udgår\",H158<8,\"\",I158<8,\"\")","v":""}]
[null,null,null,null,null,null,null,null,null,0,{"$f":"+_xlfn.IFS(H159>8,\"udgår\",I159>8,\"udgår\",H159<8,\"\",I159<8,\"\")","v":""}]
[null,null,null,null,null,null,null,null,null,0,{"$f":"+_xlfn.IFS(H160>8,\"udgår\",I160>8,\"udgår\",H160<8,\"\",I160<8,\"\")","v":""}]
[null,null,null,null,null,null,null,null,null,0,{"$f":"+_xlfn.IFS(H161>8,\"udgår\",I161>8,\"udgår\",H161<8,\"\",I161<8,\"\")","v":""}]
[null,null,null,null,null,null,null,null,null,0,{"$f":"+_xlfn.IFS(H162>8,\"udgår\",I162>8,\"udgår\",H162<8,\"\",I162<8,\"\")","v":""}]
[null,null,null,null,null,null,null,null,null,0,{"$f":"+_xlfn.IFS(H163>8,\"udgår\",I163>8,\"udgår\",H163<8,\"\",I163<8,\"\")","v":""}]
[null,null,null,null,null,null,null,null,null,0,{"$f":"+_xlfn.IFS(H164>8,\"udgår\",I164>8,\"udgår\",H164<8,\"\",I164<8,\"\")","v":""}]
[null,null,null,null,null,null,null,null,null,0,{"$f":"+_xlfn.IFS(H165>8,\"udgår\",I165>8,\"udgår\",H165<8,\"\",I165<8,\"\")","v":""}]
[null,null,null,null,null,null,null,null,null,0,{"$f":"+_xlfn.IFS(H166>8,\"udgår\",I166>8,\"udgår\",H166<8,\"\",I166<8,\"\")","v":""}]
[null,null,null,null,null,null,null,null,null,0,{"$f":"+_xlfn.IFS(H167>8,\"udgår\",I167>8,\"udgår\",H167<8,\"\",I167<8,\"\")","v":""}]
[null,null,null,null,null,null,null,null,null,0,{"$f":"+_xlfn.IFS(H168>8,\"udgår\",I168>8,\"udgår\",H168<8,\"\",I168<8,\"\")","v":""}]
[null,null,null,null,null,null,null,null,null,0,{"$f":"+_xlfn.IFS(H169>8,\"udgår\",I169>8,\"udgår\",H169<8,\"\",I169<8,\"\")","v":""}]
[null,null,null,null,null,null,null,null,null,0,{"$f":"+_xlfn.IFS(H170>8,\"udgår\",I170>8,\"udgår\",H170<8,\"\",I170<8,\"\")","v":""}]
[null,null,null,null,null,null,null,null,null,0,{"$f":"+_xlfn.IFS(H171>8,\"udgår\",I171>8,\"udgår\",H171<8,\"\",I171<8,\"\")","v":""}]
[null,null,null,null,null,null,null,null,null,0,{"$f":"+_xlfn.IFS(H172>8,\"udgår\",I172>8,\"udgår\",H172<8,\"\",I172<8,\"\")","v":""}]
[null,null,null,null,null,null,null,null,null,0,{"$f":"+_xlfn.IFS(H173>8,\"udgår\",I173>8,\"udgår\",H173<8,\"\",I173<8,\"\")","v":""}]
[null,null,null,null,null,null,null,null,null,0,{"$f":"+_xlfn.IFS(H174>8,\"udgår\",I174>8,\"udgår\",H174<8,\"\",I174<8,\"\")","v":""}]
[null,null,null,null,null,null,null,null,null,0,{"$f":"+_xlfn.IFS(H175>8,\"udgår\",I175>8,\"udgår\",H175<8,\"\",I175<8,\"\")","v":""}]
[null,null,null,null,null,null,null,null,null,0,{"$f":"+_xlfn.IFS(H176>8,\"udgår\",I176>8,\"udgår\",H176<8,\"\",I176<8,\"\")","v":""}]
[null,null,null,null,null,null,null,null,null,0,{"$f":"+_xlfn.IFS(H177>8,\"udgår\",I177>8,\"udgår\",H177<8,\"\",I177<8,\"\")","v":""}]
[null,null,null,null,null,null,null,null,null,0,{"$f":"+_xlfn.IFS(H178>8,\"udgår\",I178>8,\"udgår\",H178<8,\"\",I178<8,\"\")","v":""}]
[null,null,null,null,null,null,null,null,null,0,{"$f":"+_xlfn.IFS(H179>8,\"udgår\",I179>8,\"udgår\",H179<8,\"\",I179<8,\"\")","v":""}]
[null,null,null,null,null,null,null,null,null,0,{"$f":"+_xlfn.IFS(H180>8,\"udgår\",I180>8,\"udgår\",H180<8,\"\",I180<8,\"\")","v":""}]
[null,null,null,null,null,null,null,null,null,0,{"$f":"+_xlfn.IFS(H181>8,\"udgår\",I181>8,\"udgår\",H181<8,\"\",I181<8,\"\")","v":""}]
[null,null,null,null,null,null,null,null,null,0,{"$f":"+_xlfn.IFS(H182>8,\"udgår\",I182>8,\"udgår\",H182<8,\"\",I182<8,\"\")","v":""}]
[null,null,null,null,null,null,null,null,null,0,{"$f":"+_xlfn.IFS(H183>8,\"udgår\",I183>8,\"udgår\",H183<8,\"\",I183<8,\"\")","v":""}]
[null,null,null,null,null,null,null,null,null,0,{"$f":"+_xlfn.IFS(H184>8,\"udgår\",I184>8,\"udgår\",H184<8,\"\",I184<8,\"\")","v":""}]
[null,null,null,null,null,null,null,null,null,0,{"$f":"+_xlfn.IFS(H185>8,\"udgår\",I185>8,\"udgår\",H185<8,\"\",I185<8,\"\")","v":""}]
[null,null,null,null,null,null,null,null,null,0,{"$f":"+_xlfn.IFS(H186>8,\"udgår\",I186>8,\"udgår\",H186<8,\"\",I186<8,\"\")","v":""}]
[null,null,null,null,null,null,null,null,null,0,{"$f":"+_xlfn.IFS(H187>8,\"udgår\",I187>8,\"udgår\",H187<8,\"\",I187<8,\"\")","v":""}]
[null,null,null,null,null,null,null,null,null,0,{"$f":"+_xlfn.IFS(H188>8,\"udgår\",I188>8,\"udgår\",H188<8,\"\",I188<8,\"\")","v":""}]
[null,null,null,null,null,null,null,null,null,0,{"$f":"+_xlfn.IFS(H189>8,\"udgår\",I189>8,\"udgår\",H189<8,\"\",I189<8,\"\")","v":""}]
[null,null,null,null,null,null,null,null,null,0,{"$f":"+_xlfn.IFS(H190>8,\"udgår\",I190>8,\"udgår\",H190<8,\"\",I190<8,\"\")","v":""}]
[null,null,null,null,null,null,null,null,null,0,{"$f":"+_xlfn.IFS(H191>8,\"udgår\",I191>8,\"udgår\",H191<8,\"\",I191<8,\"\")","v":""}]
[null,null,null,null,null,null,null,null,null,0,{"$f":"+_xlfn.IFS(H192>8,\"udgår\",I192>8,\"udgår\",H192<8,\"\",I192<8,\"\")","v":""}]
[null,null,null,null,null,null,null,null,null,0,{"$f":"+_xlfn.IFS(H193>8,\"udgår\",I193>8,\"udgår\",H193<8,\"\",I193<8,\"\")","v":""}]
[null,null,null,null,null,null,null,null,null,0,{"$f":"+_xlfn.IFS(H194>8,\"udgår\",I194>8,\"udgår\",H194<8,\"\",I194<8,\"\")","v":""}]
[null,null,null,null,null,null,null,null,null,{"$f":"+D195-F195","v":0},{"$f":"+_xlfn.IFS(H195>8,\"udgår\",I195>8,\"udgår\",H195<8,\"\",I195<8,\"\")","v":""}]
[null,null,null,null,null,null,null,null,null,0,{"$f":"+_xlfn.IFS(H196>8,\"udgår\",I196>8,\"udgår\",H196<8,\"\",I196<8,\"\")","v":""}]
[null,null,null,null,null,null,null,null,null,0,{"$f":"+_xlfn.IFS(H197>8,\"udgår\",I197>8,\"udgår\",H197<8,\"\",I197<8,\"\")","v":""}]
[null,null,null,null,null,null,null,null,null,0,{"$f":"+_xlfn.IFS(H198>8,\"udgår\",I198>8,\"udgår\",H198<8,\"\",I198<8,\"\")","v":""}]
[null,null,null,null,null,null,null,null,null,0,{"$f":"+_xlfn.IFS(H199>8,\"udgår\",I199>8,\"udgår\",H199<8,\"\",I199<8,\"\")","v":""}]
[null,null,null,null,null,null,null,null,null,0,{"$f":"+_xlfn.IFS(H200>8,\"udgår\",I200>8,\"udgår\",H200<8,\"\",I200<8,\"\")","v":""}]
[null,null,null,null,null,null,null,null,null,0,{"$f":"+_xlfn.IFS(H201>8,\"udgår\",I201>8,\"udgår\",H201<8,\"\",I201<8,\"\")","v":""}]
[null,null,null,null,null,null,null,null,null,0,{"$f":"+_xlfn.IFS(H202>8,\"udgår\",I202>8,\"udgår\",H202<8,\"\",I202<8,\"\")","v":""}]
[null,null,null,null,null,null,null,null,null,0,{"$f":"+_xlfn.IFS(H203>8,\"udgår\",I203>8,\"udgår\",H203<8,\"\",I203<8,\"\")","v":""}]
[null,null,null,null,null,null,null,null,null,0,{"$f":"+_xlfn.IFS(H204>8,\"udgår\",I204>8,\"udgår\",H204<8,\"\",I204<8,\"\")","v":""}]
[null,null,null,null,null,null,null,null,null,0,{"$f":"+_xlfn.IFS(H205>8,\"udgår\",I205>8,\"udgår\",H205<8,\"\",I205<8,\"\")","v":""}]
[null,null,null,null,null,null,null,null,null,0,{"$f":"+_xlfn.IFS(H206>8,\"udgår\",I206>8,\"udgår\",H206<8,\"\",I206<8,\"\")","v":""}]
[null,null,null,null,null,null,null,null,null,0,{"$f":"+_xlfn.IFS(H207>8,\"udgår\",I207>8,\"udgår\",H207<8,\"\",I207<8,\"\")","v":""}]
[null,null,null,null,null,null,null,null,null,0,{"$f":"+_xlfn.IFS(H208>8,\"udgår\",I208>8,\"udgår\",H208<8,\"\",I208<8,\"\")","v":""}]
[null,null,null,null,null,null,null,null,null,0,{"$f":"+_xlfn.IFS(H209>8,\"udgår\",I209>8,\"udgår\",H209<8,\"\",I209<8,\"\")","v":""}]
[null,null,null,null,null,null,null,null,null,0,{"$f":"+_xlfn.IFS(H210>8,\"udgår\",I210>8,\"udgår\",H210<8,\"\",I210<8,\"\")","v":""}]
[null,null,null,null,null,null,null,null,null,0,{"$f":"+_xlfn.IFS(H211>8,\"udgår\",I211>8,\"udgår\",H211<8,\"\",I211<8,\"\")","v":""}]
[null,null,null,null,null,null,null,null,null,0,{"$f":"+_xlfn.IFS(H212>8,\"udgår\",I212>8,\"udgår\",H212<8,\"\",I212<8,\"\")","v":""}]
[null,null,null,null,null,null,null,null,null,0,{"$f":"+_xlfn.IFS(H213>8,\"udgår\",I213>8,\"udgår\",H213<8,\"\",I213<8,\"\")","v":""}]
[null,null,null,null,null,null,null,null,null,0,{"$f":"+_xlfn.IFS(H214>8,\"udgår\",I214>8,\"udgår\",H214<8,\"\",I214<8,\"\")","v":""}]
[null,null,null,null,null,null,null,null,null,0,{"$f":"+_xlfn.IFS(H215>8,\"udgår\",I215>8,\"udgår\",H215<8,\"\",I215<8,\"\")","v":""}]
[null,null,null,null,null,null,null,null,null,0,{"$f":"+_xlfn.IFS(H216>8,\"udgår\",I216>8,\"udgår\",H216<8,\"\",I216<8,\"\")","v":""}]
[null,null,null,null,null,null,null,null,null,0,{"$f":"+_xlfn.IFS(H217>8,\"udgår\",I217>8,\"udgår\",H217<8,\"\",I217<8,\"\")","v":""}]
[null,null,null,null,null,null,null,null,null,0,{"$f":"+_xlfn.IFS(H218>8,\"udgår\",I218>8,\"udgår\",H218<8,\"\",I218<8,\"\")","v":""}]
[null,null,null,null,null,null,null,null,null,0,{"$f":"+_xlfn.IFS(H219>8,\"udgår\",I219>8,\"udgår\",H219<8,\"\",I219<8,\"\")","v":""}]
[null,null,null,null,null,null,null,null,null,0,{"$f":"+_xlfn.IFS(H220>8,\"udgår\",I220>8,\"udgår\",H220<8,\"\",I220<8,\"\")","v":""}]
[null,null,null,null,null,null,null,null,null,0,{"$f":"+_xlfn.IFS(H221>8,\"udgår\",I221>8,\"udgår\",H221<8,\"\",I221<8,\"\")","v":""}]
[null,null,null,null,null,null,null,null,null,0,{"$f":"+_xlfn.IFS(H222>8,\"udgår\",I222>8,\"udgår\",H222<8,\"\",I222<8,\"\")","v":""}]
[null,null,null,null,null,null,null,null,null,0,{"$f":"+_xlfn.IFS(H223>8,\"udgår\",I223>8,\"udgår\",H223<8,\"\",I223<8,\"\")","v":""}]
[null,null,null,null,null,null,null,null,null,0,{"$f":"+_xlfn.IFS(H224>8,\"udgår\",I224>8,\"udgår\",H224<8,\"\",I224<8,\"\")","v":""}]
[null,null,null,null,null,null,null,null,null,0,{"$f":"+_xlfn.IFS(H225>8,\"udgår\",I225>8,\"udgår\",H225<8,\"\",I225<8,\"\")","v":""}]
[null,null,null,null,null,null,null,null,null,0,{"$f":"+_xlfn.IFS(H226>8,\"udgår\",I226>8,\"udgår\",H226<8,\"\",I226<8,\"\")","v":""}]
[null,null,null,null,null,null,null,null,null,0,{"$f":"+_xlfn.IFS(H227>8,\"udgår\",I227>8,\"udgår\",H227<8,\"\",I227<8,\"\")","v":""}]
[null,null,null,null,null,null,null,null,null,0,{"$f":"+_xlfn.IFS(H228>8,\"udgår\",I228>8,\"udgår\",H228<8,\"\",I228<8,\"\")","v":""}]
[null,null,null,null,null,null,null,null,null,0,{"$f":"+_xlfn.IFS(H229>8,\"udgår\",I229>8,\"udgår\",H229<8,\"\",I229<8,\"\")","v":""}]
[null,null,null,null,null,null,null,null,null,0,{"$f":"+_xlfn.IFS(H230>8,\"udgår\",I230>8,\"udgår\",H230<8,\"\",I230<8,\"\")","v":""}]
[null,null,null,null,null,null,null,null,null,0,{"$f":"+_xlfn.IFS(H231>8,\"udgår\",I231>8,\"udgår\",H231<8,\"\",I231<8,\"\")","v":""}]
[null,null,null,null,null,null,null,null,null,0,{"$f":"+_xlfn.IFS(H232>8,\"udgår\",I232>8,\"udgår\",H232<8,\"\",I232<8,\"\")","v":""}]
[null,null,null,null,null,null,null,null,null,0,{"$f":"+_xlfn.IFS(H233>8,\"udgår\",I233>8,\"udgår\",H233<8,\"\",I233<8,\"\")","v":""}]
[null,null,null,null,null,null,null,null,null,0,{"$f":"+_xlfn.IFS(H234>8,\"udgår\",I234>8,\"udgår\",H234<8,\"\",I234<8,\"\")","v":""}]
[null,null,null,null,null,null,null,null,null,0,{"$f":"+_xlfn.IFS(H235>8,\"udgår\",I235>8,\"udgår\",H235<8,\"\",I235<8,\"\")","v":""}]
[null,null,null,null,null,null,null,null,null,0,{"$f":"+_xlfn.IFS(H236>8,\"udgår\",I236>8,\"udgår\",H236<8,\"\",I236<8,\"\")","v":""}]
[null,null,null,null,null,null,null,null,null,0,{"$f":"+_xlfn.IFS(H237>8,\"udgår\",I237>8,\"udgår\",H237<8,\"\",I237<8,\"\")","v":""}]
[null,null,null,null,null,null,null,null,null,0,{"$f":"+_xlfn.IFS(H238>8,\"udgår\",I238>8,\"udgår\",H238<8,\"\",I238<8,\"\")","v":""}]
[null,null,null,null,null,null,null,null,null,0,{"$f":"+_xlfn.IFS(H239>8,\"udgår\",I239>8,\"udgår\",H239<8,\"\",I239<8,\"\")","v":""}]
[null,null,null,null,null,null,null,null,null,0,{"$f":"+_xlfn.IFS(H240>8,\"udgår\",I240>8,\"udgår\",H240<8,\"\",I240<8,\"\")","v":""}]
[null,null,null,null,null,null,null,null,null,0,{"$f":"+_xlfn.IFS(H241>8,\"udgår\",I241>8,\"udgår\",H241<8,\"\",I241<8,\"\")","v":""}]
[null,null,null,null,null,null,null,null,null,0,{"$f":"+_xlfn.IFS(H242>8,\"udgår\",I242>8,\"udgår\",H242<8,\"\",I242<8,\"\")","v":""}]
[null,null,null,null,null,null,null,null,null,0,{"$f":"+_xlfn.IFS(H243>8,\"udgår\",I243>8,\"udgår\",H243<8,\"\",I243<8,\"\")","v":""}]
[null,null,null,null,null,null,null,null,null,0,{"$f":"+_xlfn.IFS(H244>8,\"udgår\",I244>8,\"udgår\",H244<8,\"\",I244<8,\"\")","v":""}]
[null,null,null,null,null,null,null,null,null,0,{"$f":"+_xlfn.IFS(H245>8,\"udgår\",I245>8,\"udgår\",H245<8,\"\",I245<8,\"\")","v":""}]
[null,null,null,null,null,null,null,null,null,0,{"$f":"+_xlfn.IFS(H246>8,\"udgår\",I246>8,\"udgår\",H246<8,\"\",I246<8,\"\")","v":""}]
[null,null,null,null,null,null,null,null,null,0,{"$f":"+_xlfn.IFS(H247>8,\"udgår\",I247>8,\"udgår\",H247<8,\"\",I247<8,\"\")","v":""}]
[null,null,null,null,null,null,null,null,null,0,{"$f":"+_xlfn.IFS(H248>8,\"udgår\",I248>8,\"udgår\",H248<8,\"\",I248<8,\"\")","v":""}]
[null,null,null,null,null,null,null,null,null,0,{"$f":"+_xlfn.IFS(H249>8,\"udgår\",I249>8,\"udgår\",H249<8,\"\",I249<8,\"\")","v":""}]
[null,null,null,null,null,null,null,null,null,0,{"$f":"+_xlfn.IFS(H250>8,\"udgår\",I250>8,\"udgår\",H250<8,\"\",I250<8,\"\")","v":""}]
[null,null,null,null,null,null,null,null,null,0,{"$f":"+_xlfn.IFS(H251>8,\"udgår\",I251>8,\"udgår\",H251<8,\"\",I251<8,\"\")","v":""}]
[null,null,null,null,null,null,null,null,null,0,{"$f":"+_xlfn.IFS(H252>8,\"udgår\",I252>8,\"udgår\",H252<8,\"\",I252<8,\"\")","v":""}]
[null,null,null,null,null,null,null,null,null,0,{"$f":"+_xlfn.IFS(H253>8,\"udgår\",I253>8,\"udgår\",H253<8,\"\",I253<8,\"\")","v":""}]
[null,null,null,null,null,null,null,null,null,0,{"$f":"+_xlfn.IFS(H254>8,\"udgår\",I254>8,\"udgår\",H254<8,\"\",I254<8,\"\")","v":""}]
[null,null,null,null,null,null,null,null,null,0,{"$f":"+_xlfn.IFS(H255>8,\"udgår\",I255>8,\"udgår\",H255<8,\"\",I255<8,\"\")","v":""}]
[null,null,null,null,null,null,null,null,null,0,{"$f":"+_xlfn.IFS(H256>8,\"udgår\",I256>8,\"udgår\",H256<8,\"\",I256<8,\"\")","v":""}]
[null,null,null,null,null,null,null,null,null,0,{"$f":"+_xlfn.IFS(H257>8,\"udgår\",I257>8,\"udgår\",H257<8,\"\",I257<8,\"\")","v":""}]
[null,null,null,null,null,null,null,null,null,0,{"$f":"+_xlfn.IFS(H258>8,\"udgår\",I258>8,\"udgår\",H258<8,\"\",I258<8,\"\")","v":""}]
[null,null,null,null,null,null,null,null,null,{"$f":"+D259-F259","v":0},{"$f":"+_xlfn.IFS(H259>8,\"udgår\",I259>8,\"udgår\",H259<8,\"\",I259<8,\"\")","v":""}]
[null,null,null,null,null,null,null,null,null,0,{"$f":"+_xlfn.IFS(H260>8,\"udgår\",I260>8,\"udgår\",H260<8,\"\",I260<8,\"\")","v":""}]
[null,null,null,null,null,null,null,null,null,0,{"$f":"+_xlfn.IFS(H261>8,\"udgår\",I261>8,\"udgår\",H261<8,\"\",I261<8,\"\")","v":""}]
[null,null,null,null,null,null,null,null,null,0,{"$f":"+_xlfn.IFS(H262>8,\"udgår\",I262>8,\"udgår\",H262<8,\"\",I262<8,\"\")","v":""}]
[null,null,null,null,null,null,null,null,null,0,{"$f":"+_xlfn.IFS(H263>8,\"udgår\",I263>8,\"udgår\",H263<8,\"\",I263<8,\"\")","v":""}]
[null,null,null,null,null,null,null,null,null,0,{"$f":"+_xlfn.IFS(H264>8,\"udgår\",I264>8,\"udgår\",H264<8,\"\",I264<8,\"\")","v":""}]
[null,null,null,null,null,null,null,null,null,0,{"$f":"+_xlfn.IFS(H265>8,\"udgår\",I265>8,\"udgår\",H265<8,\"\",I265<8,\"\")","v":""}]
[null,null,null,null,null,null,null,null,null,0,{"$f":"+_xlfn.IFS(H266>8,\"udgår\",I266>8,\"udgår\",H266<8,\"\",I266<8,\"\")","v":""}]
[null,null,null,null,null,null,null,null,null,0,{"$f":"+_xlfn.IFS(H267>8,\"udgår\",I267>8,\"udgår\",H267<8,\"\",I267<8,\"\")","v":""}]
[null,null,null,null,null,null,null,null,null,0,{"$f":"+_xlfn.IFS(H268>8,\"udgår\",I268>8,\"udgår\",H268<8,\"\",I268<8,\"\")","v":""}]
[null,null,null,null,null,null,null,null,null,0,{"$f":"+_xlfn.IFS(H269>8,\"udgår\",I269>8,\"udgår\",H269<8,\"\",I269<8,\"\")","v":""}]
[null,null,null,null,null,null,null,null,null,0,{"$f":"+_xlfn.IFS(H270>8,\"udgår\",I270>8,\"udgår\",H270<8,\"\",I270<8,\"\")","v":""}]
[null,null,null,null,null,null,null,null,null,0,{"$f":"+_xlfn.IFS(H271>8,\"udgår\",I271>8,\"udgår\",H271<8,\"\",I271<8,\"\")","v":""}]
[null,null,null,null,null,null,null,null,null,0,{"$f":"+_xlfn.IFS(H272>8,\"udgår\",I272>8,\"udgår\",H272<8,\"\",I272<8,\"\")","v":""}]
[null,null,null,null,null,null,null,null,null,0,{"$f":"+_xlfn.IFS(H273>8,\"udgår\",I273>8,\"udgår\",H273<8,\"\",I273<8,\"\")","v":""}]
[null,null,null,null,null,null,null,null,null,0,{"$f":"+_xlfn.IFS(H274>8,\"udgår\",I274>8,\"udgår\",H274<8,\"\",I274<8,\"\")","v":""}]
[null,null,null,null,null,null,null,null,null,0,{"$f":"+_xlfn.IFS(H275>8,\"udgår\",I275>8,\"udgår\",H275<8,\"\",I275<8,\"\")","v":""}]
[null,null,null,null,null,null,null,null,null,0,{"$f":"+_xlfn.IFS(H276>8,\"udgår\",I276>8,\"udgår\",H276<8,\"\",I276<8,\"\")","v":""}]
[null,null,null,null,null,null,null,null,null,0,{"$f":"+_xlfn.IFS(H277>8,\"udgår\",I277>8,\"udgår\",H277<8,\"\",I277<8,\"\")","v":""}]
[null,null,null,null,null,null,null,null,null,0,{"$f":"+_xlfn.IFS(H278>8,\"udgår\",I278>8,\"udgår\",H278<8,\"\",I278<8,\"\")","v":""}]
[null,null,null,null,null,null,null,null,null,0,{"$f":"+_xlfn.IFS(H279>8,\"udgår\",I279>8,\"udgår\",H279<8,\"\",I279<8,\"\")","v":""}]
[null,null,null,null,null,null,null,null,null,0,{"$f":"+_xlfn.IFS(H280>8,\"udgår\",I280>8,\"udgår\",H280<8,\"\",I280<8,\"\")","v":""}]
[null,null,null,null,null,null,null,null,null,0,{"$f":"+_xlfn.IFS(H281>8,\"udgår\",I281>8,\"udgår\",H281<8,\"\",I281<8,\"\")","v":""}]
[null,null,null,null,null,null,null,null,null,0,{"$f":"+_xlfn.IFS(H282>8,\"udgår\",I282>8,\"udgår\",H282<8,\"\",I282<8,\"\")","v":""}]
[null,null,null,null,null,null,null,null,null,0,{"$f":"+_xlfn.IFS(H283>8,\"udgår\",I283>8,\"udgår\",H283<8,\"\",I283<8,\"\")","v":""}]
[null,null,null,null,null,null,null,null,null,0,{"$f":"+_xlfn.IFS(H284>8,\"udgår\",I284>8,\"udgår\",H284<8,\"\",I284<8,\"\")","v":""}]
[null,null,null,null,null,null,null,null,null,0,{"$f":"+_xlfn.IFS(H285>8,\"udgår\",I285>8,\"udgår\",H285<8,\"\",I285<8,\"\")","v":""}]
[null,null,null,null,null,null,null,null,null,0,{"$f":"+_xlfn.IFS(H286>8,\"udgår\",I286>8,\"udgår\",H286<8,\"\",I286<8,\"\")","v":""}]
[null,null,null,null,null,null,null,null,null,0,{"$f":"+_xlfn.IFS(H287>8,\"udgår\",I287>8,\"udgår\",H287<8,\"\",I287<8,\"\")","v":""}]
[null,null,null,null,null,null,null,null,null,0,{"$f":"+_xlfn.IFS(H288>8,\"udgår\",I288>8,\"udgår\",H288<8,\"\",I288<8,\"\")","v":""}]
[null,null,null,null,null,null,null,null,null,0,{"$f":"+_xlfn.IFS(H289>8,\"udgår\",I289>8,\"udgår\",H289<8,\"\",I289<8,\"\")","v":""}]
[null,null,null,null,null,null,null,null,null,0,{"$f":"+_xlfn.IFS(H290>8,\"udgår\",I290>8,\"udgår\",H290<8,\"\",I290<8,\"\")","v":""}]
[null,null,null,null,null,null,null,null,null,0,{"$f":"+_xlfn.IFS(H291>8,\"udgår\",I291>8,\"udgår\",H291<8,\"\",I291<8,\"\")","v":""}]
[null,null,null,null,null,null,null,null,null,0,{"$f":"+_xlfn.IFS(H292>8,\"udgår\",I292>8,\"udgår\",H292<8,\"\",I292<8,\"\")","v":""}]
[null,null,null,null,null,null,null,null,null,0,{"$f":"+_xlfn.IFS(H293>8,\"udgår\",I293>8,\"udgår\",H293<8,\"\",I293<8,\"\")","v":""}]
[null,null,null,null,null,null,null,null,null,0,{"$f":"+_xlfn.IFS(H294>8,\"udgår\",I294>8,\"udgår\",H294<8,\"\",I294<8,\"\")","v":""}]
[null,null,null,null,null,null,null,null,null,0,{"$f":"+_xlfn.IFS(H295>8,\"udgår\",I295>8,\"udgår\",H295<8,\"\",I295<8,\"\")","v":""}]
[null,null,null,null,null,null,null,null,null,0,{"$f":"+_xlfn.IFS(H296>8,\"udgår\",I296>8,\"udgår\",H296<8,\"\",I296<8,\"\")","v":""}]
[null,null,null,null,null,null,null,null,null,0,{"$f":"+_xlfn.IFS(H297>8,\"udgår\",I297>8,\"udgår\",H297<8,\"\",I297<8,\"\")","v":""}]
[null,null,null,null,null,null,null,null,null,0,{"$f":"+_xlfn.IFS(H298>8,\"udgår\",I298>8,\"udgår\",H298<8,\"\",I298<8,\"\")","v":""}]
[null,null,null,null,null,null,null,null,null,0,{"$f":"+_xlfn.IFS(H299>8,\"udgår\",I299>8,\"udgår\",H299<8,\"\",I299<8,\"\")","v":""}]
[null,null,null,null,null,null,null,null,null,0,{"$f":"+_xlfn.IFS(H300>8,\"udgår\",I300>8,\"udgår\",H300<8,\"\",I300<8,\"\")","v":""}]
[null,null,null,null,null,null,null,null,null,0,{"$f":"+_xlfn.IFS(H301>8,\"udgår\",I301>8,\"udgår\",H301<8,\"\",I301<8,\"\")","v":""}]
[null,null,null,null,null,null,null,null,null,0,{"$f":"+_xlfn.IFS(H302>8,\"udgår\",I302>8,\"udgår\",H302<8,\"\",I302<8,\"\")","v":""}]
[null,null,null,null,null,null,null,null,null,0,{"$f":"+_xlfn.IFS(H303>8,\"udgår\",I303>8,\"udgår\",H303<8,\"\",I303<8,\"\")","v":""}]
[null,null,null,null,null,null,null,null,null,0,{"$f":"+_xlfn.IFS(H304>8,\"udgår\",I304>8,\"udgår\",H304<8,\"\",I304<8,\"\")","v":""}]
[null,null,null,null,null,null,null,null,null,0,{"$f":"+_xlfn.IFS(H305>8,\"udgår\",I305>8,\"udgår\",H305<8,\"\",I305<8,\"\")","v":""}]
[null,null,null,null,null,null,null,null,null,0,{"$f":"+_xlfn.IFS(H306>8,\"udgår\",I306>8,\"udgår\",H306<8,\"\",I306<8,\"\")","v":""}]
[null,null,null,null,null,null,null,null,null,0,{"$f":"+_xlfn.IFS(H307>8,\"udgår\",I307>8,\"udgår\",H307<8,\"\",I307<8,\"\")","v":""}]
[null,null,null,null,null,null,null,null,null,0,{"$f":"+_xlfn.IFS(H308>8,\"udgår\",I308>8,\"udgår\",H308<8,\"\",I308<8,\"\")","v":""}]
[null,null,null,null,null,null,null,null,null,0,{"$f":"+_xlfn.IFS(H309>8,\"udgår\",I309>8,\"udgår\",H309<8,\"\",I309<8,\"\")","v":""}]
[null,null,null,null,null,null,null,null,null,0,{"$f":"+_xlfn.IFS(H310>8,\"udgår\",I310>8,\"udgår\",H310<8,\"\",I310<8,\"\")","v":""}]
[null,null,null,null,null,null,null,null,null,0,{"$f":"+_xlfn.IFS(H311>8,\"udgår\",I311>8,\"udgår\",H311<8,\"\",I311<8,\"\")","v":""}]
[null,null,null,null,null,null,null,null,null,0,{"$f":"+_xlfn.IFS(H312>8,\"udgår\",I312>8,\"udgår\",H312<8,\"\",I312<8,\"\")","v":""}]
[null,null,null,null,null,null,null,null,null,0,{"$f":"+_xlfn.IFS(H313>8,\"udgår\",I313>8,\"udgår\",H313<8,\"\",I313<8,\"\")","v":""}]
[null,null,null,null,null,null,null,null,null,0,{"$f":"+_xlfn.IFS(H314>8,\"udgår\",I314>8,\"udgår\",H314<8,\"\",I314<8,\"\")","v":""}]
[null,null,null,null,null,null,null,null,null,0,{"$f":"+_xlfn.IFS(H315>8,\"udgår\",I315>8,\"udgår\",H315<8,\"\",I315<8,\"\")","v":""}]
[null,null,null,null,null,null,null,null,null,0,{"$f":"+_xlfn.IFS(H316>8,\"udgår\",I316>8,\"udgår\",H316<8,\"\",I316<8,\"\")","v":""}]
[null,null,null,null,null,null,null,null,null,0,{"$f":"+_xlfn.IFS(H317>8,\"udgår\",I317>8,\"udgår\",H317<8,\"\",I317<8,\"\")","v":""}]
[null,null,null,null,null,null,null,null,null,0,{"$f":"+_xlfn.IFS(H318>8,\"udgår\",I318>8,\"udgår\",H318<8,\"\",I318<8,\"\")","v":""}]
[null,null,null,null,null,null,null,null,null,0,{"$f":"+_xlfn.IFS(H319>8,\"udgår\",I319>8,\"udgår\",H319<8,\"\",I319<8,\"\")","v":""}]
[null,null,null,null,null,null,null,null,null,0,{"$f":"+_xlfn.IFS(H320>8,\"udgår\",I320>8,\"udgår\",H320<8,\"\",I320<8,\"\")","v":""}]
[null,null,null,null,null,null,null,null,null,0,{"$f":"+_xlfn.IFS(H321>8,\"udgår\",I321>8,\"udgår\",H321<8,\"\",I321<8,\"\")","v":""}]
[null,null,null,null,null,null,null,null,null,0,{"$f":"+_xlfn.IFS(H322>8,\"udgår\",I322>8,\"udgår\",H322<8,\"\",I322<8,\"\")","v":""}]
[null,null,null,null,null,null,null,null,null,{"$f":"+D323-F323","v":0},{"$f":"+_xlfn.IFS(H323>8,\"udgår\",I323>8,\"udgår\",H323<8,\"\",I323<8,\"\")","v":""}]
[null,null,null,null,null,null,null,null,null,0,{"$f":"+_xlfn.IFS(H324>8,\"udgår\",I324>8,\"udgår\",H324<8,\"\",I324<8,\"\")","v":""}]
[null,null,null,null,null,null,null,null,null,0,{"$f":"+_xlfn.IFS(H325>8,\"udgår\",I325>8,\"udgår\",H325<8,\"\",I325<8,\"\")","v":""}]
[null,null,null,null,null,null,null,null,null,0,{"$f":"+_xlfn.IFS(H326>8,\"udgår\",I326>8,\"udgår\",H326<8,\"\",I326<8,\"\")","v":""}]
[null,null,null,null,null,null,null,null,null,0,{"$f":"+_xlfn.IFS(H327>8,\"udgår\",I327>8,\"udgår\",H327<8,\"\",I327<8,\"\")","v":""}]
[null,null,null,null,null,null,null,null,null,0,{"$f":"+_xlfn.IFS(H328>8,\"udgår\",I328>8,\"udgår\",H328<8,\"\",I328<8,\"\")","v":""}]
[null,null,null,null,null,null,null,null,null,0,{"$f":"+_xlfn.IFS(H329>8,\"udgår\",I329>8,\"udgår\",H329<8,\"\",I329<8,\"\")","v":""}]
[null,null,null,null,null,null,null,null,null,0,{"$f":"+_xlfn.IFS(H330>8,\"udgår\",I330>8,\"udgår\",H330<8,\"\",I330<8,\"\")","v":""}]
[null,null,null,null,null,null,null,null,null,0,{"$f":"+_xlfn.IFS(H331>8,\"udgår\",I331>8,\"udgår\",H331<8,\"\",I331<8,\"\")","v":""}]
[null,null,null,null,null,null,null,null,null,0,{"$f":"+_xlfn.IFS(H332>8,\"udgår\",I332>8,\"udgår\",H332<8,\"\",I332<8,\"\")","v":""}]
[null,null,null,null,null,null,null,null,null,0,{"$f":"+_xlfn.IFS(H333>8,\"udgår\",I333>8,\"udgår\",H333<8,\"\",I333<8,\"\")","v":""}]
[null,null,null,null,null,null,null,null,null,0,{"$f":"+_xlfn.IFS(H334>8,\"udgår\",I334>8,\"udgår\",H334<8,\"\",I334<8,\"\")","v":""}]
[null,null,null,null,null,null,null,null,null,0,{"$f":"+_xlfn.IFS(H335>8,\"udgår\",I335>8,\"udgår\",H335<8,\"\",I335<8,\"\")","v":""}]
[null,null,null,null,null,null,null,null,null,0,{"$f":"+_xlfn.IFS(H336>8,\"udgår\",I336>8,\"udgår\",H336<8,\"\",I336<8,\"\")","v":""}]
[null,null,null,null,null,null,null,null,null,0,{"$f":"+_xlfn.IFS(H337>8,\"udgår\",I337>8,\"udgår\",H337<8,\"\",I337<8,\"\")","v":""}]
[null,null,null,null,null,null,null,null,null,0,{"$f":"+_xlfn.IFS(H338>8,\"udgår\",I338>8,\"udgår\",H338<8,\"\",I338<8,\"\")","v":""}]
[null,null,null,null,null,null,null,null,null,0,{"$f":"+_xlfn.IFS(H339>8,\"udgår\",I339>8,\"udgår\",H339<8,\"\",I339<8,\"\")","v":""}]
[null,null,null,null,null,null,null,null,null,0,{"$f":"+_xlfn.IFS(H340>8,\"udgår\",I340>8,\"udgår\",H340<8,\"\",I340<8,\"\")","v":""}]
[null,null,null,null,null,null,null,null,null,0,{"$f":"+_xlfn.IFS(H341>8,\"udgår\",I341>8,\"udgår\",H341<8,\"\",I341<8,\"\")","v":""}]
[null,null,null,null,null,null,null,null,null,0,{"$f":"+_xlfn.IFS(H342>8,\"udgår\",I342>8,\"udgår\",H342<8,\"\",I342<8,\"\")","v":""}]
[null,null,null,null,null,null,null,null,null,0,{"$f":"+_xlfn.IFS(H343>8,\"udgår\",I343>8,\"udgår\",H343<8,\"\",I343<8,\"\")","v":""}]
[null,null,null,null,null,null,null,null,null,0,{"$f":"+_xlfn.IFS(H344>8,\"udgår\",I344>8,\"udgår\",H344<8,\"\",I344<8,\"\")","v":""}]
[null,null,null,null,null,null,null,null,null,0,{"$f":"+_xlfn.IFS(H345>8,\"udgår\",I345>8,\"udgår\",H345<8,\"\",I345<8,\"\")","v":""}]
[null,null,null,null,null,null,null,null,null,0,{"$f":"+_xlfn.IFS(H346>8,\"udgår\",I346>8,\"udgår\",H346<8,\"\",I346<8,\"\")","v":""}]
[null,null,null,null,null,null,null,null,null,0,{"$f":"+_xlfn.IFS(H347>8,\"udgår\",I347>8,\"udgår\",H347<8,\"\",I347<8,\"\")","v":""}]
[null,null,null,null,null,null,null,null,null,0,{"$f":"+_xlfn.IFS(H348>8,\"udgår\",I348>8,\"udgår\",H348<8,\"\",I348<8,\"\")","v":""}]
[null,null,null,null,null,null,null,null,null,0,{"$f":"+_xlfn.IFS(H349>8,\"udgår\",I349>8,\"udgår\",H349<8,\"\",I349<8,\"\")","v":""}]
[null,null,null,null,null,null,null,null,null,0,{"$f":"+_xlfn.IFS(H350>8,\"udgår\",I350>8,\"udgår\",H350<8,\"\",I350<8,\"\")","v":""}]
[null,null,null,null,null,null,null,null,null,0,{"$f":"+_xlfn.IFS(H351>8,\"udgår\",I351>8,\"udgår\",H351<8,\"\",I351<8,\"\")","v":""}]
[null,null,null,null,null,null,null,null,null,0,{"$f":"+_xlfn.IFS(H352>8,\"udgår\",I352>8,\"udgår\",H352<8,\"\",I352<8,\"\")","v":""}]
[null,null,null,null,null,null,null,null,null,0,{"$f":"+_xlfn.IFS(H353>8,\"udgår\",I353>8,\"udgår\",H353<8,\"\",I353<8,\"\")","v":""}]
[null,null,null,null,null,null,null,null,null,0,{"$f":"+_xlfn.IFS(H354>8,\"udgår\",I354>8,\"udgår\",H354<8,\"\",I354<8,\"\")","v":""}]
[null,null,null,null,null,null,null,null,null,0,{"$f":"+_xlfn.IFS(H355>8,\"udgår\",I355>8,\"udgår\",H355<8,\"\",I355<8,\"\")","v":""}]
[null,null,null,null,null,null,null,null,null,0,{"$f":"+_xlfn.IFS(H356>8,\"udgår\",I356>8,\"udgår\",H356<8,\"\",I356<8,\"\")","v":""}]
[null,null,null,null,null,null,null,null,null,0,{"$f":"+_xlfn.IFS(H357>8,\"udgår\",I357>8,\"udgår\",H357<8,\"\",I357<8,\"\")","v":""}]
[null,null,null,null,null,null,null,null,null,0,{"$f":"+_xlfn.IFS(H358>8,\"udgår\",I358>8,\"udgår\",H358<8,\"\",I358<8,\"\")","v":""}]
[null,null,null,null,null,null,null,null,null,0,{"$f":"+_xlfn.IFS(H359>8,\"udgår\",I359>8,\"udgår\",H359<8,\"\",I359<8,\"\")","v":""}]
[null,null,null,null,null,null,null,null,null,0,{"$f":"+_xlfn.IFS(H360>8,\"udgår\",I360>8,\"udgår\",H360<8,\"\",I360<8,\"\")","v":""}]
[null,null,null,null,null,null,null,null,null,0,{"$f":"+_xlfn.IFS(H361>8,\"udgår\",I361>8,\"udgår\",H361<8,\"\",I361<8,\"\")","v":""}]
[null,null,null,null,null,null,null,null,null,0,{"$f":"+_xlfn.IFS(H362>8,\"udgår\",I362>8,\"udgår\",H362<8,\"\",I362<8,\"\")","v":""}]
[null,null,null,null,null,null,null,null,null,0,{"$f":"+_xlfn.IFS(H363>8,\"udgår\",I363>8,\"udgår\",H363<8,\"\",I363<8,\"\")","v":""}]
[null,null,null,null,null,null,null,null,null,0,{"$f":"+_xlfn.IFS(H364>8,\"udgår\",I364>8,\"udgår\",H364<8,\"\",I364<8,\"\")","v":""}]
[null,null,null,null,null,null,null,null,null,0,{"$f":"+_xlfn.IFS(H365>8,\"udgår\",I365>8,\"udgår\",H365<8,\"\",I365<8,\"\")","v":""}]
[null,null,null,null,null,null,null,null,null,0,{"$f":"+_xlfn.IFS(H366>8,\"udgår\",I366>8,\"udgår\",H366<8,\"\",I366<8,\"\")","v":""}]
[null,null,null,null,null,null,null,null,null,0,{"$f":"+_xlfn.IFS(H367>8,\"udgår\",I367>8,\"udgår\",H367<8,\"\",I367<8,\"\")","v":""}]
[null,null,null,null,null,null,null,null,null,0,{"$f":"+_xlfn.IFS(H368>8,\"udgår\",I368>8,\"udgår\",H368<8,\"\",I368<8,\"\")","v":""}]
[null,null,null,null,null,null,null,null,null,0,{"$f":"+_xlfn.IFS(H369>8,\"udgår\",I369>8,\"udgår\",H369<8,\"\",I369<8,\"\")","v":""}]
[null,null,null,null,null,null,null,null,null,0,{"$f":"+_xlfn.IFS(H370>8,\"udgår\",I370>8,\"udgår\",H370<8,\"\",I370<8,\"\")","v":""}]
[null,null,null,null,null,null,null,null,null,0,{"$f":"+_xlfn.IFS(H371>8,\"udgår\",I371>8,\"udgår\",H371<8,\"\",I371<8,\"\")","v":""}]
[null,null,null,null,null,null,null,null,null,0,{"$f":"+_xlfn.IFS(H372>8,\"udgår\",I372>8,\"udgår\",H372<8,\"\",I372<8,\"\")","v":""}]
[null,null,null,null,null,null,null,null,null,0,{"$f":"+_xlfn.IFS(H373>8,\"udgår\",I373>8,\"udgår\",H373<8,\"\",I373<8,\"\")","v":""}]
[null,null,null,null,null,null,null,null,null,0,{"$f":"+_xlfn.IFS(H374>8,\"udgår\",I374>8,\"udgår\",H374<8,\"\",I374<8,\"\")","v":""}]
[null,null,null,null,null,null,null,null,null,0,{"$f":"+_xlfn.IFS(H375>8,\"udgår\",I375>8,\"udgår\",H375<8,\"\",I375<8,\"\")","v":""}]
[null,null,null,null,null,null,null,null,null,0,{"$f":"+_xlfn.IFS(H376>8,\"udgår\",I376>8,\"udgår\",H376<8,\"\",I376<8,\"\")","v":""}]
[null,null,null,null,null,null,null,null,null,0,{"$f":"+_xlfn.IFS(H377>8,\"udgår\",I377>8,\"udgår\",H377<8,\"\",I377<8,\"\")","v":""}]
[null,null,null,null,null,null,null,null,null,0,{"$f":"+_xlfn.IFS(H378>8,\"udgår\",I378>8,\"udgår\",H378<8,\"\",I378<8,\"\")","v":""}]
[null,null,null,null,null,null,null,null,null,0,{"$f":"+_xlfn.IFS(H379>8,\"udgår\",I379>8,\"udgår\",H379<8,\"\",I379<8,\"\")","v":""}]
[null,null,null,null,null,null,null,null,null,0,{"$f":"+_xlfn.IFS(H380>8,\"udgår\",I380>8,\"udgår\",H380<8,\"\",I380<8,\"\")","v":""}]
[null,null,null,null,null,null,null,null,null,0,{"$f":"+_xlfn.IFS(H381>8,\"udgår\",I381>8,\"udgår\",H381<8,\"\",I381<8,\"\")","v":""}]
[null,null,null,null,null,null,null,null,null,0,{"$f":"+_xlfn.IFS(H382>8,\"udgår\",I382>8,\"udgår\",H382<8,\"\",I382<8,\"\")","v":""}]
[null,null,null,null,null,null,null,null,null,0,{"$f":"+_xlfn.IFS(H383>8,\"udgår\",I383>8,\"udgår\",H383<8,\"\",I383<8,\"\")","v":""}]
[null,null,null,null,null,null,null,null,null,0,{"$f":"+_xlfn.IFS(H384>8,\"udgår\",I384>8,\"udgår\",H384<8,\"\",I384<8,\"\")","v":""}]
[null,null,null,null,null,null,null,null,null,0,{"$f":"+_xlfn.IFS(H385>8,\"udgår\",I385>8,\"udgår\",H385<8,\"\",I385<8,\"\")","v":""}]
[null,null,null,null,null,null,null,null,null,0,{"$f":"+_xlfn.IFS(H386>8,\"udgår\",I386>8,\"udgår\",H386<8,\"\",I386<8,\"\")","v":""}]
[null,null,null,null,null,null,null,null,null,{"$f":"+D387-F387","v":0},{"$f":"+_xlfn.IFS(H387>8,\"udgår\",I387>8,\"udgår\",H387<8,\"\",I387<8,\"\")","v":""}]
[null,null,null,null,null,null,null,null,null,0,{"$f":"+_xlfn.IFS(H388>8,\"udgår\",I388>8,\"udgår\",H388<8,\"\",I388<8,\"\")","v":""}]
[null,null,null,null,null,null,null,null,null,0,{"$f":"+_xlfn.IFS(H389>8,\"udgår\",I389>8,\"udgår\",H389<8,\"\",I389<8,\"\")","v":""}]
[null,null,null,null,null,null,null,null,null,0,{"$f":"+_xlfn.IFS(H390>8,\"udgår\",I390>8,\"udgår\",H390<8,\"\",I390<8,\"\")","v":""}]
[null,null,null,null,null,null,null,null,null,0,{"$f":"+_xlfn.IFS(H391>8,\"udgår\",I391>8,\"udgår\",H391<8,\"\",I391<8,\"\")","v":""}]
[null,null,null,null,null,null,null,null,null,0,{"$f":"+_xlfn.IFS(H392>8,\"udgår\",I392>8,\"udgår\",H392<8,\"\",I392<8,\"\")","v":""}]
[null,null,null,null,null,null,null,null,null,0,{"$f":"+_xlfn.IFS(H393>8,\"udgår\",I393>8,\"udgår\",H393<8,\"\",I393<8,\"\")","v":""}]
[null,null,null,null,null,null,null,null,null,0,{"$f":"+_xlfn.IFS(H394>8,\"udgår\",I394>8,\"udgår\",H394<8,\"\",I394<8,\"\")","v":""}]
[null,null,null,null,null,null,null,null,null,0,{"$f":"+_xlfn.IFS(H395>8,\"udgår\",I395>8,\"udgår\",H395<8,\"\",I395<8,\"\")","v":""}]
[null,null,null,null,null,null,null,null,null,0,{"$f":"+_xlfn.IFS(H396>8,\"udgår\",I396>8,\"udgår\",H396<8,\"\",I396<8,\"\")","v":""}]
[null,null,null,null,null,null,null,null,null,0,{"$f":"+_xlfn.IFS(H397>8,\"udgår\",I397>8,\"udgår\",H397<8,\"\",I397<8,\"\")","v":""}]
[null,null,null,null,null,null,null,null,null,0,{"$f":"+_xlfn.IFS(H398>8,\"udgår\",I398>8,\"udgår\",H398<8,\"\",I398<8,\"\")","v":""}]
[null,null,null,null,null,null,null,null,null,0,{"$f":"+_xlfn.IFS(H399>8,\"udgår\",I399>8,\"udgår\",H399<8,\"\",I399<8,\"\")","v":""}]
[null,null,null,null,null,null,null,null,null,0,{"$f":"+_xlfn.IFS(H400>8,\"udgår\",I400>8,\"udgår\",H400<8,\"\",I400<8,\"\")","v":""}]
[null,null,null,null,null,null,null,null,null,0,{"$f":"+_xlfn.IFS(H401>8,\"udgår\",I401>8,\"udgår\",H401<8,\"\",I401<8,\"\")","v":""}]
[null,null,null,null,null,null,null,null,null,0,{"$f":"+_xlfn.IFS(H402>8,\"udgår\",I402>8,\"udgår\",H402<8,\"\",I402<8,\"\")","v":""}]
[null,null,null,null,null,null,null,null,null,0,{"$f":"+_xlfn.IFS(H403>8,\"udgår\",I403>8,\"udgår\",H403<8,\"\",I403<8,\"\")","v":""}]
[null,null,null,null,null,null,null,null,null,0,{"$f":"+_xlfn.IFS(H404>8,\"udgår\",I404>8,\"udgår\",H404<8,\"\",I404<8,\"\")","v":""}]
[null,null,null,null,null,null,null,null,null,0,{"$f":"+_xlfn.IFS(H405>8,\"udgår\",I405>8,\"udgår\",H405<8,\"\",I405<8,\"\")","v":""}]
[null,null,null,null,null,null,null,null,null,0,{"$f":"+_xlfn.IFS(H406>8,\"udgår\",I406>8,\"udgår\",H406<8,\"\",I406<8,\"\")","v":""}]
[null,null,null,null,null,null,null,null,null,0,{"$f":"+_xlfn.IFS(H407>8,\"udgår\",I407>8,\"udgår\",H407<8,\"\",I407<8,\"\")","v":""}]
[null,null,null,null,null,null,null,null,null,0,{"$f":"+_xlfn.IFS(H408>8,\"udgår\",I408>8,\"udgår\",H408<8,\"\",I408<8,\"\")","v":""}]
[null,null,null,null,null,null,null,null,null,0,{"$f":"+_xlfn.IFS(H409>8,\"udgår\",I409>8,\"udgår\",H409<8,\"\",I409<8,\"\")","v":""}]
[null,null,null,null,null,null,null,null,null,0,{"$f":"+_xlfn.IFS(H410>8,\"udgår\",I410>8,\"udgår\",H410<8,\"\",I410<8,\"\")","v":""}]
[null,null,null,null,null,null,null,null,null,0,{"$f":"+_xlfn.IFS(H411>8,\"udgår\",I411>8,\"udgår\",H411<8,\"\",I411<8,\"\")","v":""}]
[null,null,null,null,null,null,null,null,null,0,{"$f":"+_xlfn.IFS(H412>8,\"udgår\",I412>8,\"udgår\",H412<8,\"\",I412<8,\"\")","v":""}]
[null,null,null,null,null,null,null,null,null,0,{"$f":"+_xlfn.IFS(H413>8,\"udgår\",I413>8,\"udgår\",H413<8,\"\",I413<8,\"\")","v":""}]
[null,null,null,null,null,null,null,null,null,0,{"$f":"+_xlfn.IFS(H414>8,\"udgår\",I414>8,\"udgår\",H414<8,\"\",I414<8,\"\")","v":""}]
[null,null,null,null,null,null,null,null,null,0,{"$f":"+_xlfn.IFS(H415>8,\"udgår\",I415>8,\"udgår\",H415<8,\"\",I415<8,\"\")","v":""}]
[null,null,null,null,null,null,null,null,null,0,{"$f":"+_xlfn.IFS(H416>8,\"udgår\",I416>8,\"udgår\",H416<8,\"\",I416<8,\"\")","v":""}]
[null,null,null,null,null,null,null,null,null,0,{"$f":"+_xlfn.IFS(H417>8,\"udgår\",I417>8,\"udgår\",H417<8,\"\",I417<8,\"\")","v":""}]
[null,null,null,null,null,null,null,null,null,0,{"$f":"+_xlfn.IFS(H418>8,\"udgår\",I418>8,\"udgår\",H418<8,\"\",I418<8,\"\")","v":""}]
[null,null,null,null,null,null,null,null,null,0,{"$f":"+_xlfn.IFS(H419>8,\"udgår\",I419>8,\"udgår\",H419<8,\"\",I419<8,\"\")","v":""}]
[null,null,null,null,null,null,null,null,null,0,{"$f":"+_xlfn.IFS(H420>8,\"udgår\",I420>8,\"udgår\",H420<8,\"\",I420<8,\"\")","v":""}]
[null,null,null,null,null,null,null,null,null,0,{"$f":"+_xlfn.IFS(H421>8,\"udgår\",I421>8,\"udgår\",H421<8,\"\",I421<8,\"\")","v":""}]
[null,null,null,null,null,null,null,null,null,0,{"$f":"+_xlfn.IFS(H422>8,\"udgår\",I422>8,\"udgår\",H422<8,\"\",I422<8,\"\")","v":""}]
[null,null,null,null,null,null,null,null,null,0,{"$f":"+_xlfn.IFS(H423>8,\"udgår\",I423>8,\"udgår\",H423<8,\"\",I423<8,\"\")","v":""}]
[null,null,null,null,null,null,null,null,null,0,{"$f":"+_xlfn.IFS(H424>8,\"udgår\",I424>8,\"udgår\",H424<8,\"\",I424<8,\"\")","v":""}]
[null,null,null,null,null,null,null,null,null,0,{"$f":"+_xlfn.IFS(H425>8,\"udgår\",I425>8,\"udgår\",H425<8,\"\",I425<8,\"\")","v":""}]
[null,null,null,null,null,null,null,null,null,0,{"$f":"+_xlfn.IFS(H426>8,\"udgår\",I426>8,\"udgår\",H426<8,\"\",I426<8,\"\")","v":""}]
[null,null,null,null,null,null,null,null,null,0,{"$f":"+_xlfn.IFS(H427>8,\"udgår\",I427>8,\"udgår\",H427<8,\"\",I427<8,\"\")","v":""}]
[null,null,null,null,null,null,null,null,null,0,{"$f":"+_xlfn.IFS(H428>8,\"udgår\",I428>8,\"udgår\",H428<8,\"\",I428<8,\"\")","v":""}]
[null,null,null,null,null,null,null,null,null,0,{"$f":"+_xlfn.IFS(H429>8,\"udgår\",I429>8,\"udgår\",H429<8,\"\",I429<8,\"\")","v":""}]
[null,null,null,null,null,null,null,null,null,0,{"$f":"+_xlfn.IFS(H430>8,\"udgår\",I430>8,\"udgår\",H430<8,\"\",I430<8,\"\")","v":""}]
[null,null,null,null,null,null,null,null,null,0,{"$f":"+_xlfn.IFS(H431>8,\"udgår\",I431>8,\"udgår\",H431<8,\"\",I431<8,\"\")","v":""}]
[null,null,null,null,null,null,null,null,null,0,{"$f":"+_xlfn.IFS(H432>8,\"udgår\",I432>8,\"udgår\",H432<8,\"\",I432<8,\"\")","v":""}]
[null,null,null,null,null,null,null,null,null,0,{"$f":"+_xlfn.IFS(H433>8,\"udgår\",I433>8,\"udgår\",H433<8,\"\",I433<8,\"\")","v":""}]
[null,null,null,null,null,null,null,null,null,0,{"$f":"+_xlfn.IFS(H434>8,\"udgår\",I434>8,\"udgår\",H434<8,\"\",I434<8,\"\")","v":""}]
[null,null,null,null,null,null,null,null,null,0,{"$f":"+_xlfn.IFS(H435>8,\"udgår\",I435>8,\"udgår\",H435<8,\"\",I435<8,\"\")","v":""}]
[null,null,null,null,null,null,null,null,null,0,{"$f":"+_xlfn.IFS(H436>8,\"udgår\",I436>8,\"udgår\",H436<8,\"\",I436<8,\"\")","v":""}]
[null,null,null,null,null,null,null,null,null,0,{"$f":"+_xlfn.IFS(H437>8,\"udgår\",I437>8,\"udgår\",H437<8,\"\",I437<8,\"\")","v":""}]
[null,null,null,null,null,null,null,null,null,0,{"$f":"+_xlfn.IFS(H438>8,\"udgår\",I438>8,\"udgår\",H438<8,\"\",I438<8,\"\")","v":""}]
[null,null,null,null,null,null,null,null,null,0,{"$f":"+_xlfn.IFS(H439>8,\"udgår\",I439>8,\"udgår\",H439<8,\"\",I439<8,\"\")","v":""}]
[null,null,null,null,null,null,null,null,null,0,{"$f":"+_xlfn.IFS(H440>8,\"udgår\",I440>8,\"udgår\",H440<8,\"\",I440<8,\"\")","v":""}]
[null,null,null,null,null,null,null,null,null,0,{"$f":"+_xlfn.IFS(H441>8,\"udgår\",I441>8,\"udgår\",H441<8,\"\",I441<8,\"\")","v":""}]
[null,null,null,null,null,null,null,null,null,0,{"$f":"+_xlfn.IFS(H442>8,\"udgår\",I442>8,\"udgår\",H442<8,\"\",I442<8,\"\")","v":""}]
[null,null,null,null,null,null,null,null,null,0,{"$f":"+_xlfn.IFS(H443>8,\"udgår\",I443>8,\"udgår\",H443<8,\"\",I443<8,\"\")","v":""}]
[null,null,null,null,null,null,null,null,null,0,{"$f":"+_xlfn.IFS(H444>8,\"udgår\",I444>8,\"udgår\",H444<8,\"\",I444<8,\"\")","v":""}]
[null,null,null,null,null,null,null,null,null,0,{"$f":"+_xlfn.IFS(H445>8,\"udgår\",I445>8,\"udgår\",H445<8,\"\",I445<8,\"\")","v":""}]
[null,null,null,null,null,null,null,null,null,0,{"$f":"+_xlfn.IFS(H446>8,\"udgår\",I446>8,\"udgår\",H446<8,\"\",I446<8,\"\")","v":""}]
[null,null,null,null,null,null,null,null,null,0,{"$f":"+_xlfn.IFS(H447>8,\"udgår\",I447>8,\"udgår\",H447<8,\"\",I447<8,\"\")","v":""}]
[null,null,null,null,null,null,null,null,null,0,{"$f":"+_xlfn.IFS(H448>8,\"udgår\",I448>8,\"udgår\",H448<8,\"\",I448<8,\"\")","v":""}]
[null,null,null,null,null,null,null,null,null,0,{"$f":"+_xlfn.IFS(H449>8,\"udgår\",I449>8,\"udgår\",H449<8,\"\",I449<8,\"\")","v":""}]
[null,null,null,null,null,null,null,null,null,0,{"$f":"+_xlfn.IFS(H450>8,\"udgår\",I450>8,\"udgår\",H450<8,\"\",I450<8,\"\")","v":""}]
[null,null,null,null,null,null,null,null,null,{"$f":"+D451-F451","v":0},{"$f":"+_xlfn.IFS(H451>8,\"udgår\",I451>8,\"udgår\",H451<8,\"\",I451<8,\"\")","v":""}]
[null,null,null,null,null,null,null,null,null,0,{"$f":"+_xlfn.IFS(H452>8,\"udgår\",I452>8,\"udgår\",H452<8,\"\",I452<8,\"\")","v":""}]
[null,null,null,null,null,null,null,null,null,0,{"$f":"+_xlfn.IFS(H453>8,\"udgår\",I453>8,\"udgår\",H453<8,\"\",I453<8,\"\")","v":""}]
[null,null,null,null,null,null,null,null,null,0,{"$f":"+_xlfn.IFS(H454>8,\"udgår\",I454>8,\"udgår\",H454<8,\"\",I454<8,\"\")","v":""}]
[null,null,null,null,null,null,null,null,null,0,{"$f":"+_xlfn.IFS(H455>8,\"udgår\",I455>8,\"udgår\",H455<8,\"\",I455<8,\"\")","v":""}]
[null,null,null,null,null,null,null,null,null,0,{"$f":"+_xlfn.IFS(H456>8,\"udgår\",I456>8,\"udgår\",H456<8,\"\",I456<8,\"\")","v":""}]
[null,null,null,null,null,null,null,null,null,0,{"$f":"+_xlfn.IFS(H457>8,\"udgår\",I457>8,\"udgår\",H457<8,\"\",I457<8,\"\")","v":""}]
[null,null,null,null,null,null,null,null,null,0,{"$f":"+_xlfn.IFS(H458>8,\"udgår\",I458>8,\"udgår\",H458<8,\"\",I458<8,\"\")","v":""}]
[null,null,null,null,null,null,null,null,null,0,{"$f":"+_xlfn.IFS(H459>8,\"udgår\",I459>8,\"udgår\",H459<8,\"\",I459<8,\"\")","v":""}]
[null,null,null,null,null,null,null,null,null,0,{"$f":"+_xlfn.IFS(H460>8,\"udgår\",I460>8,\"udgår\",H460<8,\"\",I460<8,\"\")","v":""}]
[null,null,null,null,null,null,null,null,null,0,{"$f":"+_xlfn.IFS(H461>8,\"udgår\",I461>8,\"udgår\",H461<8,\"\",I461<8,\"\")","v":""}]
[null,null,null,null,null,null,null,null,null,0,{"$f":"+_xlfn.IFS(H462>8,\"udgår\",I462>8,\"udgår\",H462<8,\"\",I462<8,\"\")","v":""}]
[null,null,null,null,null,null,null,null,null,0,{"$f":"+_xlfn.IFS(H463>8,\"udgår\",I463>8,\"udgår\",H463<8,\"\",I463<8,\"\")","v":""}]
[null,null,null,null,null,null,null,null,null,0,{"$f":"+_xlfn.IFS(H464>8,\"udgår\",I464>8,\"udgår\",H464<8,\"\",I464<8,\"\")","v":""}]
[null,null,null,null,null,null,null,null,null,0,{"$f":"+_xlfn.IFS(H465>8,\"udgår\",I465>8,\"udgår\",H465<8,\"\",I465<8,\"\")","v":""}]
[null,null,null,null,null,null,null,null,null,0,{"$f":"+_xlfn.IFS(H466>8,\"udgår\",I466>8,\"udgår\",H466<8,\"\",I466<8,\"\")","v":""}]
[null,null,null,null,null,null,null,null,null,0,{"$f":"+_xlfn.IFS(H467>8,\"udgår\",I467>8,\"udgår\",H467<8,\"\",I467<8,\"\")","v":""}]
[null,null,null,null,null,null,null,null,null,0,{"$f":"+_xlfn.IFS(H468>8,\"udgår\",I468>8,\"udgår\",H468<8,\"\",I468<8,\"\")","v":""}]
[null,null,null,null,null,null,null,null,null,0,{"$f":"+_xlfn.IFS(H469>8,\"udgår\",I469>8,\"udgår\",H469<8,\"\",I469<8,\"\")","v":""}]
[null,null,null,null,null,null,null,null,null,0,{"$f":"+_xlfn.IFS(H470>8,\"udgår\",I470>8,\"udgår\",H470<8,\"\",I470<8,\"\")","v":""}]
[null,null,null,null,null,null,null,null,null,0,{"$f":"+_xlfn.IFS(H471>8,\"udgår\",I471>8,\"udgår\",H471<8,\"\",I471<8,\"\")","v":""}]
[null,null,null,null,null,null,null,null,null,0,{"$f":"+_xlfn.IFS(H472>8,\"udgår\",I472>8,\"udgår\",H472<8,\"\",I472<8,\"\")","v":""}]
[null,null,null,null,null,null,null,null,null,0,{"$f":"+_xlfn.IFS(H473>8,\"udgår\",I473>8,\"udgår\",H473<8,\"\",I473<8,\"\")","v":""}]
[null,null,null,null,null,null,null,null,null,0,{"$f":"+_xlfn.IFS(H474>8,\"udgår\",I474>8,\"udgår\",H474<8,\"\",I474<8,\"\")","v":""}]
[null,null,null,null,null,null,null,null,null,0,{"$f":"+_xlfn.IFS(H475>8,\"udgår\",I475>8,\"udgår\",H475<8,\"\",I475<8,\"\")","v":""}]
[null,null,null,null,null,null,null,null,null,0,{"$f":"+_xlfn.IFS(H476>8,\"udgår\",I476>8,\"udgår\",H476<8,\"\",I476<8,\"\")","v":""}]
[null,null,null,null,null,null,null,null,null,0,{"$f":"+_xlfn.IFS(H477>8,\"udgår\",I477>8,\"udgår\",H477<8,\"\",I477<8,\"\")","v":""}]
[null,null,null,null,null,null,null,null,null,0,{"$f":"+_xlfn.IFS(H478>8,\"udgår\",I478>8,\"udgår\",H478<8,\"\",I478<8,\"\")","v":""}]
[null,null,null,null,null,null,null,null,null,0,{"$f":"+_xlfn.IFS(H479>8,\"udgår\",I479>8,\"udgår\",H479<8,\"\",I479<8,\"\")","v":""}]
[null,null,null,null,null,null,null,null,null,0,{"$f":"+_xlfn.IFS(H480>8,\"udgår\",I480>8,\"udgår\",H480<8,\"\",I480<8,\"\")","v":""}]
[null,null,null,null,null,null,null,null,null,0,{"$f":"+_xlfn.IFS(H481>8,\"udgår\",I481>8,\"udgår\",H481<8,\"\",I481<8,\"\")","v":""}]
[null,null,null,null,null,null,null,null,null,0,{"$f":"+_xlfn.IFS(H482>8,\"udgår\",I482>8,\"udgår\",H482<8,\"\",I482<8,\"\")","v":""}]
[null,null,null,null,null,null,null,null,null,0,{"$f":"+_xlfn.IFS(H483>8,\"udgår\",I483>8,\"udgår\",H483<8,\"\",I483<8,\"\")","v":""}]
[null,null,null,null,null,null,null,null,null,0,{"$f":"+_xlfn.IFS(H484>8,\"udgår\",I484>8,\"udgår\",H484<8,\"\",I484<8,\"\")","v":""}]
[null,null,null,null,null,null,null,null,null,0,{"$f":"+_xlfn.IFS(H485>8,\"udgår\",I485>8,\"udgår\",H485<8,\"\",I485<8,\"\")","v":""}]
[null,null,null,null,null,null,null,null,null,0,{"$f":"+_xlfn.IFS(H486>8,\"udgår\",I486>8,\"udgår\",H486<8,\"\",I486<8,\"\")","v":""}]
[null,null,null,null,null,null,null,null,null,0,{"$f":"+_xlfn.IFS(H487>8,\"udgår\",I487>8,\"udgår\",H487<8,\"\",I487<8,\"\")","v":""}]
[null,null,null,null,null,null,null,null,null,0,{"$f":"+_xlfn.IFS(H488>8,\"udgår\",I488>8,\"udgår\",H488<8,\"\",I488<8,\"\")","v":""}]
[null,null,null,null,null,null,null,null,null,0,{"$f":"+_xlfn.IFS(H489>8,\"udgår\",I489>8,\"udgår\",H489<8,\"\",I489<8,\"\")","v":""}]
[null,null,null,null,null,null,null,null,null,0,{"$f":"+_xlfn.IFS(H490>8,\"udgår\",I490>8,\"udgår\",H490<8,\"\",I490<8,\"\")","v":""}]
[null,null,null,null,null,null,null,null,null,0,{"$f":"+_xlfn.IFS(H491>8,\"udgår\",I491>8,\"udgår\",H491<8,\"\",I491<8,\"\")","v":""}]
[null,null,null,null,null,null,null,null,null,0,{"$f":"+_xlfn.IFS(H492>8,\"udgår\",I492>8,\"udgår\",H492<8,\"\",I492<8,\"\")","v":""}]
[null,null,null,null,null,null,null,null,null,0,{"$f":"+_xlfn.IFS(H493>8,\"udgår\",I493>8,\"udgår\",H493<8,\"\",I493<8,\"\")","v":""}]
[null,null,null,null,null,null,null,null,null,0,{"$f":"+_xlfn.IFS(H494>8,\"udgår\",I494>8,\"udgår\",H494<8,\"\",I494<8,\"\")","v":""}]
[null,null,null,null,null,null,null,null,null,0,{"$f":"+_xlfn.IFS(H495>8,\"udgår\",I495>8,\"udgår\",H495<8,\"\",I495<8,\"\")","v":""}]
[null,null,null,null,null,null,null,null,null,0,{"$f":"+_xlfn.IFS(H496>8,\"udgår\",I496>8,\"udgår\",H496<8,\"\",I496<8,\"\")","v":""}]
[null,null,null,null,null,null,null,null,null,0,{"$f":"+_xlfn.IFS(H497>8,\"udgår\",I497>8,\"udgår\",H497<8,\"\",I497<8,\"\")","v":""}]
[null,null,null,null,null,null,null,null,null,0,{"$f":"+_xlfn.IFS(H498>8,\"udgår\",I498>8,\"udgår\",H498<8,\"\",I498<8,\"\")","v":""}]
[null,null,null,null,null,null,null,null,null,0,{"$f":"+_xlfn.IFS(H499>8,\"udgår\",I499>8,\"udgår\",H499<8,\"\",I499<8,\"\")","v":""}]
[null,null,null,null,null,null,null,null,null,0,{"$f":"+_xlfn.IFS(H500>8,\"udgår\",I500>8,\"udgår\",H500<8,\"\",I500<8,\"\")","v":""}]
[null,null,null,null,null,null,null,null,null,0,{"$f":"+_xlfn.IFS(H501>8,\"udgår\",I501>8,\"udgår\",H501<8,\"\",I501<8,\"\")","v":""}]
[null,null,null,null,null,null,null,null,null,0,{"$f":"+_xlfn.IFS(H502>8,\"udgår\",I502>8,\"udgår\",H502<8,\"\",I502<8,\"\")","v":""}]
[null,null,null,null,null,null,null,null,null,0,{"$f":"+_xlfn.IFS(H503>8,\"udgår\",I503>8,\"udgår\",H503<8,\"\",I503<8,\"\")","v":""}]
[null,null,null,null,null,null,null,null,null,0,{"$f":"+_xlfn.IFS(H504>8,\"udgår\",I504>8,\"udgår\",H504<8,\"\",I504<8,\"\")","v":""}]
[null,null,null,null,null,null,null,null,null,0,{"$f":"+_xlfn.IFS(H505>8,\"udgår\",I505>8,\"udgår\",H505<8,\"\",I505<8,\"\")","v":""}]
[null,null,null,null,null,null,null,null,null,0,{"$f":"+_xlfn.IFS(H506>8,\"udgår\",I506>8,\"udgår\",H506<8,\"\",I506<8,\"\")","v":""}]
[null,null,null,null,null,null,null,null,null,0,{"$f":"+_xlfn.IFS(H507>8,\"udgår\",I507>8,\"udgår\",H507<8,\"\",I507<8,\"\")","v":""}]
[null,null,null,null,null,null,null,null,null,0,{"$f":"+_xlfn.IFS(H508>8,\"udgår\",I508>8,\"udgår\",H508<8,\"\",I508<8,\"\")","v":""}]
[null,null,null,null,null,null,null,null,null,0,{"$f":"+_xlfn.IFS(H509>8,\"udgår\",I509>8,\"udgår\",H509<8,\"\",I509<8,\"\")","v":""}]
[null,null,null,null,null,null,null,null,null,0,{"$f":"+_xlfn.IFS(H510>8,\"udgår\",I510>8,\"udgår\",H510<8,\"\",I510<8,\"\")","v":""}]
[null,null,null,null,null,null,null,null,null,0,{"$f":"+_xlfn.IFS(H511>8,\"udgår\",I511>8,\"udgår\",H511<8,\"\",I511<8,\"\")","v":""}]
[null,null,null,null,null,null,null,null,null,0,{"$f":"+_xlfn.IFS(H512>8,\"udgår\",I512>8,\"udgår\",H512<8,\"\",I512<8,\"\")","v":""}]
[null,null,null,null,null,null,null,null,null,0,{"$f":"+_xlfn.IFS(H513>8,\"udgår\",I513>8,\"udgår\",H513<8,\"\",I513<8,\"\")","v":""}]
[null,null,null,null,null,null,null,null,null,0,{"$f":"+_xlfn.IFS(H514>8,\"udgår\",I514>8,\"udgår\",H514<8,\"\",I514<8,\"\")","v":""}]
[null,null,null,null,null,null,null,null,null,{"$f":"+D515-F515","v":0},{"$f":"+_xlfn.IFS(H515>8,\"udgår\",I515>8,\"udgår\",H515<8,\"\",I515<8,\"\")","v":""}]
[null,null,null,null,null,null,null,null,null,0,{"$f":"+_xlfn.IFS(H516>8,\"udgår\",I516>8,\"udgår\",H516<8,\"\",I516<8,\"\")","v":""}]
[null,null,null,null,null,null,null,null,null,0,{"$f":"+_xlfn.IFS(H517>8,\"udgår\",I517>8,\"udgår\",H517<8,\"\",I517<8,\"\")","v":""}]
[null,null,null,null,null,null,null,null,null,0,{"$f":"+_xlfn.IFS(H518>8,\"udgår\",I518>8,\"udgår\",H518<8,\"\",I518<8,\"\")","v":""}]
[null,null,null,null,null,null,null,null,null,0,{"$f":"+_xlfn.IFS(H519>8,\"udgår\",I519>8,\"udgår\",H519<8,\"\",I519<8,\"\")","v":""}]
[null,null,null,null,null,null,null,null,null,0,{"$f":"+_xlfn.IFS(H520>8,\"udgår\",I520>8,\"udgår\",H520<8,\"\",I520<8,\"\")","v":""}]
[null,null,null,null,null,null,null,null,null,0,{"$f":"+_xlfn.IFS(H521>8,\"udgår\",I521>8,\"udgår\",H521<8,\"\",I521<8,\"\")","v":""}]
[null,null,null,null,null,null,null,null,null,0,{"$f":"+_xlfn.IFS(H522>8,\"udgår\",I522>8,\"udgår\",H522<8,\"\",I522<8,\"\")","v":""}]
[null,null,null,null,null,null,null,null,null,0,{"$f":"+_xlfn.IFS(H523>8,\"udgår\",I523>8,\"udgår\",H523<8,\"\",I523<8,\"\")","v":""}]
[null,null,null,null,null,null,null,null,null,0,{"$f":"+_xlfn.IFS(H524>8,\"udgår\",I524>8,\"udgår\",H524<8,\"\",I524<8,\"\")","v":""}]
[null,null,null,null,null,null,null,null,null,0,{"$f":"+_xlfn.IFS(H525>8,\"udgår\",I525>8,\"udgår\",H525<8,\"\",I525<8,\"\")","v":""}]
[null,null,null,null,null,null,null,null,null,0,{"$f":"+_xlfn.IFS(H526>8,\"udgår\",I526>8,\"udgår\",H526<8,\"\",I526<8,\"\")","v":""}]
[null,null,null,null,null,null,null,null,null,0,{"$f":"+_xlfn.IFS(H527>8,\"udgår\",I527>8,\"udgår\",H527<8,\"\",I527<8,\"\")","v":""}]
[null,null,null,null,null,null,null,null,null,0,{"$f":"+_xlfn.IFS(H528>8,\"udgår\",I528>8,\"udgår\",H528<8,\"\",I528<8,\"\")","v":""}]
[null,null,null,null,null,null,null,null,null,0,{"$f":"+_xlfn.IFS(H529>8,\"udgår\",I529>8,\"udgår\",H529<8,\"\",I529<8,\"\")","v":""}]
[null,null,null,null,null,null,null,null,null,0,{"$f":"+_xlfn.IFS(H530>8,\"udgår\",I530>8,\"udgår\",H530<8,\"\",I530<8,\"\")","v":""}]
[null,null,null,null,null,null,null,null,null,0,{"$f":"+_xlfn.IFS(H531>8,\"udgår\",I531>8,\"udgår\",H531<8,\"\",I531<8,\"\")","v":""}]
[null,null,null,null,null,null,null,null,null,0,{"$f":"+_xlfn.IFS(H532>8,\"udgår\",I532>8,\"udgår\",H532<8,\"\",I532<8,\"\")","v":""}]
[null,null,null,null,null,null,null,null,null,0,{"$f":"+_xlfn.IFS(H533>8,\"udgår\",I533>8,\"udgår\",H533<8,\"\",I533<8,\"\")","v":""}]
[null,null,null,null,null,null,null,null,null,0,{"$f":"+_xlfn.IFS(H534>8,\"udgår\",I534>8,\"udgår\",H534<8,\"\",I534<8,\"\")","v":""}]
[null,null,null,null,null,null,null,null,null,0,{"$f":"+_xlfn.IFS(H535>8,\"udgår\",I535>8,\"udgår\",H535<8,\"\",I535<8,\"\")","v":""}]
[null,null,null,null,null,null,null,null,null,0,{"$f":"+_xlfn.IFS(H536>8,\"udgår\",I536>8,\"udgår\",H536<8,\"\",I536<8,\"\")","v":""}]
[null,null,null,null,null,null,null,null,null,0,{"$f":"+_xlfn.IFS(H537>8,\"udgår\",I537>8,\"udgår\",H537<8,\"\",I537<8,\"\")","v":""}]
[null,null,null,null,null,null,null,null,null,0,{"$f":"+_xlfn.IFS(H538>8,\"udgår\",I538>8,\"udgår\",H538<8,\"\",I538<8,\"\")","v":""}]
[null,null,null,null,null,null,null,null,null,0,{"$f":"+_xlfn.IFS(H539>8,\"udgår\",I539>8,\"udgår\",H539<8,\"\",I539<8,\"\")","v":""}]
[null,null,null,null,null,null,null,null,null,0,{"$f":"+_xlfn.IFS(H540>8,\"udgår\",I540>8,\"udgår\",H540<8,\"\",I540<8,\"\")","v":""}]
[null,null,null,null,null,null,null,null,null,0,{"$f":"+_xlfn.IFS(H541>8,\"udgår\",I541>8,\"udgår\",H541<8,\"\",I541<8,\"\")","v":""}]
[null,null,null,null,null,null,null,null,null,0,{"$f":"+_xlfn.IFS(H542>8,\"udgår\",I542>8,\"udgår\",H542<8,\"\",I542<8,\"\")","v":""}]
[null,null,null,null,null,null,null,null,null,0,{"$f":"+_xlfn.IFS(H543>8,\"udgår\",I543>8,\"udgår\",H543<8,\"\",I543<8,\"\")","v":""}]
[null,null,null,null,null,null,null,null,null,0,{"$f":"+_xlfn.IFS(H544>8,\"udgår\",I544>8,\"udgår\",H544<8,\"\",I544<8,\"\")","v":""}]
[null,null,null,null,null,null,null,null,null,0,{"$f":"+_xlfn.IFS(H545>8,\"udgår\",I545>8,\"udgår\",H545<8,\"\",I545<8,\"\")","v":""}]
[null,null,null,null,null,null,null,null,null,0,{"$f":"+_xlfn.IFS(H546>8,\"udgår\",I546>8,\"udgår\",H546<8,\"\",I546<8,\"\")","v":""}]
[null,null,null,null,null,null,null,null,null,0,{"$f":"+_xlfn.IFS(H547>8,\"udgår\",I547>8,\"udgår\",H547<8,\"\",I547<8,\"\")","v":""}]
[null,null,null,null,null,null,null,null,null,0,{"$f":"+_xlfn.IFS(H548>8,\"udgår\",I548>8,\"udgår\",H548<8,\"\",I548<8,\"\")","v":""}]
[null,null,null,null,null,null,null,null,null,0,{"$f":"+_xlfn.IFS(H549>8,\"udgår\",I549>8,\"udgår\",H549<8,\"\",I549<8,\"\")","v":""}]
[null,null,null,null,null,null,null,null,null,0,{"$f":"+_xlfn.IFS(H550>8,\"udgår\",I550>8,\"udgår\",H550<8,\"\",I550<8,\"\")","v":""}]
[null,null,null,null,null,null,null,null,null,0,{"$f":"+_xlfn.IFS(H551>8,\"udgår\",I551>8,\"udgår\",H551<8,\"\",I551<8,\"\")","v":""}]
[null,null,null,null,null,null,null,null,null,0,{"$f":"+_xlfn.IFS(H552>8,\"udgår\",I552>8,\"udgår\",H552<8,\"\",I552<8,\"\")","v":""}]
[null,null,null,null,null,null,null,null,null,0,{"$f":"+_xlfn.IFS(H553>8,\"udgår\",I553>8,\"udgår\",H553<8,\"\",I553<8,\"\")","v":""}]
[null,null,null,null,null,null,null,null,null,0,{"$f":"+_xlfn.IFS(H554>8,\"udgår\",I554>8,\"udgår\",H554<8,\"\",I554<8,\"\")","v":""}]
[null,null,null,null,null,null,null,null,null,0,{"$f":"+_xlfn.IFS(H555>8,\"udgår\",I555>8,\"udgår\",H555<8,\"\",I555<8,\"\")","v":""}]
[null,null,null,null,null,null,null,null,null,0,{"$f":"+_xlfn.IFS(H556>8,\"udgår\",I556>8,\"udgår\",H556<8,\"\",I556<8,\"\")","v":""}]
[null,null,null,null,null,null,null,null,null,0,{"$f":"+_xlfn.IFS(H557>8,\"udgår\",I557>8,\"udgår\",H557<8,\"\",I557<8,\"\")","v":""}]
[null,null,null,null,null,null,null,null,null,0,{"$f":"+_xlfn.IFS(H558>8,\"udgår\",I558>8,\"udgår\",H558<8,\"\",I558<8,\"\")","v":""}]
[null,null,null,null,null,null,null,null,null,0,{"$f":"+_xlfn.IFS(H559>8,\"udgår\",I559>8,\"udgår\",H559<8,\"\",I559<8,\"\")","v":""}]
[null,null,null,null,null,null,null,null,null,0,{"$f":"+_xlfn.IFS(H560>8,\"udgår\",I560>8,\"udgår\",H560<8,\"\",I560<8,\"\")","v":""}]
[null,null,null,null,null,null,null,null,null,0,{"$f":"+_xlfn.IFS(H561>8,\"udgår\",I561>8,\"udgår\",H561<8,\"\",I561<8,\"\")","v":""}]
[null,null,null,null,null,null,null,null,null,0,{"$f":"+_xlfn.IFS(H562>8,\"udgår\",I562>8,\"udgår\",H562<8,\"\",I562<8,\"\")","v":""}]
[null,null,null,null,null,null,null,null,null,0,{"$f":"+_xlfn.IFS(H563>8,\"udgår\",I563>8,\"udgår\",H563<8,\"\",I563<8,\"\")","v":""}]
[null,null,null,null,null,null,null,null,null,0,{"$f":"+_xlfn.IFS(H564>8,\"udgår\",I564>8,\"udgår\",H564<8,\"\",I564<8,\"\")","v":""}]
[null,null,null,null,null,null,null,null,null,0,{"$f":"+_xlfn.IFS(H565>8,\"udgår\",I565>8,\"udgår\",H565<8,\"\",I565<8,\"\")","v":""}]
[null,null,null,null,null,null,null,null,null,0,{"$f":"+_xlfn.IFS(H566>8,\"udgår\",I566>8,\"udgår\",H566<8,\"\",I566<8,\"\")","v":""}]
[null,null,null,null,null,null,null,null,null,0,{"$f":"+_xlfn.IFS(H567>8,\"udgår\",I567>8,\"udgår\",H567<8,\"\",I567<8,\"\")","v":""}]
[null,null,null,null,null,null,null,null,null,0,{"$f":"+_xlfn.IFS(H568>8,\"udgår\",I568>8,\"udgår\",H568<8,\"\",I568<8,\"\")","v":""}]
[null,null,null,null,null,null,null,null,null,0,{"$f":"+_xlfn.IFS(H569>8,\"udgår\",I569>8,\"udgår\",H569<8,\"\",I569<8,\"\")","v":""}]
[null,null,null,null,null,null,null,null,null,0,{"$f":"+_xlfn.IFS(H570>8,\"udgår\",I570>8,\"udgår\",H570<8,\"\",I570<8,\"\")","v":""}]
[null,null,null,null,null,null,null,null,null,0,{"$f":"+_xlfn.IFS(H571>8,\"udgår\",I571>8,\"udgår\",H571<8,\"\",I571<8,\"\")","v":""}]
[null,null,null,null,null,null,null,null,null,0,{"$f":"+_xlfn.IFS(H572>8,\"udgår\",I572>8,\"udgår\",H572<8,\"\",I572<8,\"\")","v":""}]
[null,null,null,null,null,null,null,null,null,0,{"$f":"+_xlfn.IFS(H573>8,\"udgår\",I573>8,\"udgår\",H573<8,\"\",I573<8,\"\")","v":""}]
[null,null,null,null,null,null,null,null,null,0,{"$f":"+_xlfn.IFS(H574>8,\"udgår\",I574>8,\"udgår\",H574<8,\"\",I574<8,\"\")","v":""}]
[null,null,null,null,null,null,null,null,null,0,{"$f":"+_xlfn.IFS(H575>8,\"udgår\",I575>8,\"udgår\",H575<8,\"\",I575<8,\"\")","v":""}]
[null,null,null,null,null,null,null,null,null,0,{"$f":"+_xlfn.IFS(H576>8,\"udgår\",I576>8,\"udgår\",H576<8,\"\",I576<8,\"\")","v":""}]
[null,null,null,null,null,null,null,null,null,0,{"$f":"+_xlfn.IFS(H577>8,\"udgår\",I577>8,\"udgår\",H577<8,\"\",I577<8,\"\")","v":""}]
[null,null,null,null,null,null,null,null,null,0,{"$f":"+_xlfn.IFS(H578>8,\"udgår\",I578>8,\"udgår\",H578<8,\"\",I578<8,\"\")","v":""}]
[null,null,null,null,null,null,null,null,null,{"$f":"+D579-F579","v":0},{"$f":"+_xlfn.IFS(H579>8,\"udgår\",I579>8,\"udgår\",H579<8,\"\",I579<8,\"\")","v":""}]
[null,null,null,null,null,null,null,null,null,0,{"$f":"+_xlfn.IFS(H580>8,\"udgår\",I580>8,\"udgår\",H580<8,\"\",I580<8,\"\")","v":""}]
[null,null,null,null,null,null,null,null,null,0,{"$f":"+_xlfn.IFS(H581>8,\"udgår\",I581>8,\"udgår\",H581<8,\"\",I581<8,\"\")","v":""}]
[null,null,null,null,null,null,null,null,null,0,{"$f":"+_xlfn.IFS(H582>8,\"udgår\",I582>8,\"udgår\",H582<8,\"\",I582<8,\"\")","v":""}]
[null,null,null,null,null,null,null,null,null,0,{"$f":"+_xlfn.IFS(H583>8,\"udgår\",I583>8,\"udgår\",H583<8,\"\",I583<8,\"\")","v":""}]
[null,null,null,null,null,null,null,null,null,0,{"$f":"+_xlfn.IFS(H584>8,\"udgår\",I584>8,\"udgår\",H584<8,\"\",I584<8,\"\")","v":""}]
[null,null,null,null,null,null,null,null,null,0,{"$f":"+_xlfn.IFS(H585>8,\"udgår\",I585>8,\"udgår\",H585<8,\"\",I585<8,\"\")","v":""}]
[null,null,null,null,null,null,null,null,null,0,{"$f":"+_xlfn.IFS(H586>8,\"udgår\",I586>8,\"udgår\",H586<8,\"\",I586<8,\"\")","v":""}]
[null,null,null,null,null,null,null,null,null,0,{"$f":"+_xlfn.IFS(H587>8,\"udgår\",I587>8,\"udgår\",H587<8,\"\",I587<8,\"\")","v":""}]
[null,null,null,null,null,null,null,null,null,0,{"$f":"+_xlfn.IFS(H588>8,\"udgår\",I588>8,\"udgår\",H588<8,\"\",I588<8,\"\")","v":""}]
[null,null,null,null,null,null,null,null,null,0,{"$f":"+_xlfn.IFS(H589>8,\"udgår\",I589>8,\"udgår\",H589<8,\"\",I589<8,\"\")","v":""}]
[null,null,null,null,null,null,null,null,null,0,{"$f":"+_xlfn.IFS(H590>8,\"udgår\",I590>8,\"udgår\",H590<8,\"\",I590<8,\"\")","v":""}]
[null,null,null,null,null,null,null,null,null,0,{"$f":"+_xlfn.IFS(H591>8,\"udgår\",I591>8,\"udgår\",H591<8,\"\",I591<8,\"\")","v":""}]
[null,null,null,null,null,null,null,null,null,0,{"$f":"+_xlfn.IFS(H592>8,\"udgår\",I592>8,\"udgår\",H592<8,\"\",I592<8,\"\")","v":""}]
[null,null,null,null,null,null,null,null,null,0,{"$f":"+_xlfn.IFS(H593>8,\"udgår\",I593>8,\"udgår\",H593<8,\"\",I593<8,\"\")","v":""}]
[null,null,null,null,null,null,null,null,null,0,{"$f":"+_xlfn.IFS(H594>8,\"udgår\",I594>8,\"udgår\",H594<8,\"\",I594<8,\"\")","v":""}]
[null,null,null,null,null,null,null,null,null,0,{"$f":"+_xlfn.IFS(H595>8,\"udgår\",I595>8,\"udgår\",H595<8,\"\",I595<8,\"\")","v":""}]
[null,null,null,null,null,null,null,null,null,0,{"$f":"+_xlfn.IFS(H596>8,\"udgår\",I596>8,\"udgår\",H596<8,\"\",I596<8,\"\")","v":""}]
[null,null,null,null,null,null,null,null,null,0,{"$f":"+_xlfn.IFS(H597>8,\"udgår\",I597>8,\"udgår\",H597<8,\"\",I597<8,\"\")","v":""}]
[null,null,null,null,null,null,null,null,null,0,{"$f":"+_xlfn.IFS(H598>8,\"udgår\",I598>8,\"udgår\",H598<8,\"\",I598<8,\"\")","v":""}]
[null,null,null,null,null,null,null,null,null,0,{"$f":"+_xlfn.IFS(H599>8,\"udgår\",I599>8,\"udgår\",H599<8,\"\",I599<8,\"\")","v":""}]
[null,null,null,null,null,null,null,null,null,0,{"$f":"+_xlfn.IFS(H600>8,\"udgår\",I600>8,\"udgår\",H600<8,\"\",I600<8,\"\")","v":""}]
[null,null,null,null,null,null,null,null,null,0,{"$f":"+_xlfn.IFS(H601>8,\"udgår\",I601>8,\"udgår\",H601<8,\"\",I601<8,\"\")","v":""}]
[null,null,null,null,null,null,null,null,null,0,{"$f":"+_xlfn.IFS(H602>8,\"udgår\",I602>8,\"udgår\",H602<8,\"\",I602<8,\"\")","v":""}]
[null,null,null,null,null,null,null,null,null,0,{"$f":"+_xlfn.IFS(H603>8,\"udgår\",I603>8,\"udgår\",H603<8,\"\",I603<8,\"\")","v":""}]
[null,null,null,null,null,null,null,null,null,0,{"$f":"+_xlfn.IFS(H604>8,\"udgår\",I604>8,\"udgår\",H604<8,\"\",I604<8,\"\")","v":""}]
[null,null,null,null,null,null,null,null,null,0,{"$f":"+_xlfn.IFS(H605>8,\"udgår\",I605>8,\"udgår\",H605<8,\"\",I605<8,\"\")","v":""}]
[null,null,null,null,null,null,null,null,null,0,{"$f":"+_xlfn.IFS(H606>8,\"udgår\",I606>8,\"udgår\",H606<8,\"\",I606<8,\"\")","v":""}]
[null,null,null,null,null,null,null,null,null,0,{"$f":"+_xlfn.IFS(H607>8,\"udgår\",I607>8,\"udgår\",H607<8,\"\",I607<8,\"\")","v":""}]
[null,null,null,null,null,null,null,null,null,0,{"$f":"+_xlfn.IFS(H608>8,\"udgår\",I608>8,\"udgår\",H608<8,\"\",I608<8,\"\")","v":""}]
[null,null,null,null,null,null,null,null,null,0,{"$f":"+_xlfn.IFS(H609>8,\"udgår\",I609>8,\"udgår\",H609<8,\"\",I609<8,\"\")","v":""}]
[null,null,null,null,null,null,null,null,null,0,{"$f":"+_xlfn.IFS(H610>8,\"udgår\",I610>8,\"udgår\",H610<8,\"\",I610<8,\"\")","v":""}]
[null,null,null,null,null,null,null,null,null,0,{"$f":"+_xlfn.IFS(H611>8,\"udgår\",I611>8,\"udgår\",H611<8,\"\",I611<8,\"\")","v":""}]
[null,null,null,null,null,null,null,null,null,0,{"$f":"+_xlfn.IFS(H612>8,\"udgår\",I612>8,\"udgår\",H612<8,\"\",I612<8,\"\")","v":""}]
[null,null,null,null,null,null,null,null,null,0,{"$f":"+_xlfn.IFS(H613>8,\"udgår\",I613>8,\"udgår\",H613<8,\"\",I613<8,\"\")","v":""}]
[null,null,null,null,null,null,null,null,null,0,{"$f":"+_xlfn.IFS(H614>8,\"udgår\",I614>8,\"udgår\",H614<8,\"\",I614<8,\"\")","v":""}]
[null,null,null,null,null,null,null,null,null,0,{"$f":"+_xlfn.IFS(H615>8,\"udgår\",I615>8,\"udgår\",H615<8,\"\",I615<8,\"\")","v":""}]
[null,null,null,null,null,null,null,null,null,0,{"$f":"+_xlfn.IFS(H616>8,\"udgår\",I616>8,\"udgår\",H616<8,\"\",I616<8,\"\")","v":""}]
[null,null,null,null,null,null,null,null,null,0,{"$f":"+_xlfn.IFS(H617>8,\"udgår\",I617>8,\"udgår\",H617<8,\"\",I617<8,\"\")","v":""}]
[null,null,null,null,null,null,null,null,null,0,{"$f":"+_xlfn.IFS(H618>8,\"udgår\",I618>8,\"udgår\",H618<8,\"\",I618<8,\"\")","v":""}]
[null,null,null,null,null,null,null,null,null,0,{"$f":"+_xlfn.IFS(H619>8,\"udgår\",I619>8,\"udgår\",H619<8,\"\",I619<8,\"\")","v":""}]
[null,null,null,null,null,null,null,null,null,0,{"$f":"+_xlfn.IFS(H620>8,\"udgår\",I620>8,\"udgår\",H620<8,\"\",I620<8,\"\")","v":""}]
[null,null,null,null,null,null,null,null,null,0,{"$f":"+_xlfn.IFS(H621>8,\"udgår\",I621>8,\"udgår\",H621<8,\"\",I621<8,\"\")","v":""}]
[null,null,null,null,null,null,null,null,null,0,{"$f":"+_xlfn.IFS(H622>8,\"udgår\",I622>8,\"udgår\",H622<8,\"\",I622<8,\"\")","v":""}]
[null,null,null,null,null,null,null,null,null,0,{"$f":"+_xlfn.IFS(H623>8,\"udgår\",I623>8,\"udgår\",H623<8,\"\",I623<8,\"\")","v":""}]
[null,null,null,null,null,null,null,null,null,0,{"$f":"+_xlfn.IFS(H624>8,\"udgår\",I624>8,\"udgår\",H624<8,\"\",I624<8,\"\")","v":""}]
[null,null,null,null,null,null,null,null,null,0,{"$f":"+_xlfn.IFS(H625>8,\"udgår\",I625>8,\"udgår\",H625<8,\"\",I625<8,\"\")","v":""}]
[null,null,null,null,null,null,null,null,null,0,{"$f":"+_xlfn.IFS(H626>8,\"udgår\",I626>8,\"udgår\",H626<8,\"\",I626<8,\"\")","v":""}]
[null,null,null,null,null,null,null,null,null,0,{"$f":"+_xlfn.IFS(H627>8,\"udgår\",I627>8,\"udgår\",H627<8,\"\",I627<8,\"\")","v":""}]
[null,null,null,null,null,null,null,null,null,0,{"$f":"+_xlfn.IFS(H628>8,\"udgår\",I628>8,\"udgår\",H628<8,\"\",I628<8,\"\")","v":""}]
[null,null,null,null,null,null,null,null,null,0,{"$f":"+_xlfn.IFS(H629>8,\"udgår\",I629>8,\"udgår\",H629<8,\"\",I629<8,\"\")","v":""}]
[null,null,null,null,null,null,null,null,null,0,{"$f":"+_xlfn.IFS(H630>8,\"udgår\",I630>8,\"udgår\",H630<8,\"\",I630<8,\"\")","v":""}]
[null,null,null,null,null,null,null,null,null,0,{"$f":"+_xlfn.IFS(H631>8,\"udgår\",I631>8,\"udgår\",H631<8,\"\",I631<8,\"\")","v":""}]
[null,null,null,null,null,null,null,null,null,0,{"$f":"+_xlfn.IFS(H632>8,\"udgår\",I632>8,\"udgår\",H632<8,\"\",I632<8,\"\")","v":""}]
[null,null,null,null,null,null,null,null,null,0,{"$f":"+_xlfn.IFS(H633>8,\"udgår\",I633>8,\"udgår\",H633<8,\"\",I633<8,\"\")","v":""}]
[null,null,null,null,null,null,null,null,null,0,{"$f":"+_xlfn.IFS(H634>8,\"udgår\",I634>8,\"udgår\",H634<8,\"\",I634<8,\"\")","v":""}]
[null,null,null,null,null,null,null,null,null,0,{"$f":"+_xlfn.IFS(H635>8,\"udgår\",I635>8,\"udgår\",H635<8,\"\",I635<8,\"\")","v":""}]
[null,null,null,null,null,null,null,null,null,0,{"$f":"+_xlfn.IFS(H636>8,\"udgår\",I636>8,\"udgår\",H636<8,\"\",I636<8,\"\")","v":""}]
[null,null,null,null,null,null,null,null,null,0,{"$f":"+_xlfn.IFS(H637>8,\"udgår\",I637>8,\"udgår\",H637<8,\"\",I637<8,\"\")","v":""}]
[null,null,null,null,null,null,null,null,null,0,{"$f":"+_xlfn.IFS(H638>8,\"udgår\",I638>8,\"udgår\",H638<8,\"\",I638<8,\"\")","v":""}]
[null,null,null,null,null,null,null,null,null,0,{"$f":"+_xlfn.IFS(H639>8,\"udgår\",I639>8,\"udgår\",H639<8,\"\",I639<8,\"\")","v":""}]
[null,null,null,null,null,null,null,null,null,0,{"$f":"+_xlfn.IFS(H640>8,\"udgår\",I640>8,\"udgår\",H640<8,\"\",I640<8,\"\")","v":""}]
[null,null,null,null,null,null,null,null,null,0,{"$f":"+_xlfn.IFS(H641>8,\"udgår\",I641>8,\"udgår\",H641<8,\"\",I641<8,\"\")","v":""}]
[null,null,null,null,null,null,null,null,null,0,{"$f":"+_xlfn.IFS(H642>8,\"udgår\",I642>8,\"udgår\",H642<8,\"\",I642<8,\"\")","v":""}]
[null,null,null,null,null,null,null,null,null,{"$f":"+D643-F643","v":0},{"$f":"+_xlfn.IFS(H643>8,\"udgår\",I643>8,\"udgår\",H643<8,\"\",I643<8,\"\")","v":""}]
[null,null,null,null,null,null,null,null,null,0,{"$f":"+_xlfn.IFS(H644>8,\"udgår\",I644>8,\"udgår\",H644<8,\"\",I644<8,\"\")","v":""}]
[null,null,null,null,null,null,null,null,null,0,{"$f":"+_xlfn.IFS(H645>8,\"udgår\",I645>8,\"udgår\",H645<8,\"\",I645<8,\"\")","v":""}]
[null,null,null,null,null,null,null,null,null,0,{"$f":"+_xlfn.IFS(H646>8,\"udgår\",I646>8,\"udgår\",H646<8,\"\",I646<8,\"\")","v":""}]
[null,null,null,null,null,null,null,null,null,0,{"$f":"+_xlfn.IFS(H647>8,\"udgår\",I647>8,\"udgår\",H647<8,\"\",I647<8,\"\")","v":""}]
[null,null,null,null,null,null,null,null,null,0,{"$f":"+_xlfn.IFS(H648>8,\"udgår\",I648>8,\"udgår\",H648<8,\"\",I648<8,\"\")","v":""}]
[null,null,null,null,null,null,null,null,null,0,{"$f":"+_xlfn.IFS(H649>8,\"udgår\",I649>8,\"udgår\",H649<8,\"\",I649<8,\"\")","v":""}]
[null,null,null,null,null,null,null,null,null,0,{"$f":"+_xlfn.IFS(H650>8,\"udgår\",I650>8,\"udgår\",H650<8,\"\",I650<8,\"\")","v":""}]
[null,null,null,null,null,null,null,null,null,0,{"$f":"+_xlfn.IFS(H651>8,\"udgår\",I651>8,\"udgår\",H651<8,\"\",I651<8,\"\")","v":""}]
[null,null,null,null,null,null,null,null,null,0,{"$f":"+_xlfn.IFS(H652>8,\"udgår\",I652>8,\"udgår\",H652<8,\"\",I652<8,\"\")","v":""}]
[null,null,null,null,null,null,null,null,null,0,{"$f":"+_xlfn.IFS(H653>8,\"udgår\",I653>8,\"udgår\",H653<8,\"\",I653<8,\"\")","v":""}]
[null,null,null,null,null,null,null,null,null,0,{"$f":"+_xlfn.IFS(H654>8,\"udgår\",I654>8,\"udgår\",H654<8,\"\",I654<8,\"\")","v":""}]
[null,null,null,null,null,null,null,null,null,0,{"$f":"+_xlfn.IFS(H655>8,\"udgår\",I655>8,\"udgår\",H655<8,\"\",I655<8,\"\")","v":""}]
[null,null,null,null,null,null,null,null,null,0,{"$f":"+_xlfn.IFS(H656>8,\"udgår\",I656>8,\"udgår\",H656<8,\"\",I656<8,\"\")","v":""}]
[null,null,null,null,null,null,null,null,null,0,{"$f":"+_xlfn.IFS(H657>8,\"udgår\",I657>8,\"udgår\",H657<8,\"\",I657<8,\"\")","v":""}]
[null,null,null,null,null,null,null,null,null,0,{"$f":"+_xlfn.IFS(H658>8,\"udgår\",I658>8,\"udgår\",H658<8,\"\",I658<8,\"\")","v":""}]
[null,null,null,null,null,null,null,null,null,0,{"$f":"+_xlfn.IFS(H659>8,\"udgår\",I659>8,\"udgår\",H659<8,\"\",I659<8,\"\")","v":""}]
[null,null,null,null,null,null,null,null,null,0,{"$f":"+_xlfn.IFS(H660>8,\"udgår\",I660>8,\"udgår\",H660<8,\"\",I660<8,\"\")","v":""}]
[null,null,null,null,null,null,null,null,null,0,{"$f":"+_xlfn.IFS(H661>8,\"udgår\",I661>8,\"udgår\",H661<8,\"\",I661<8,\"\")","v":""}]
[null,null,null,null,null,null,null,null,null,0,{"$f":"+_xlfn.IFS(H662>8,\"udgår\",I662>8,\"udgår\",H662<8,\"\",I662<8,\"\")","v":""}]
[null,null,null,null,null,null,null,null,null,0,{"$f":"+_xlfn.IFS(H663>8,\"udgår\",I663>8,\"udgår\",H663<8,\"\",I663<8,\"\")","v":""}]
[null,null,null,null,null,null,null,null,null,0,{"$f":"+_xlfn.IFS(H664>8,\"udgår\",I664>8,\"udgår\",H664<8,\"\",I664<8,\"\")","v":""}]
[null,null,null,null,null,null,null,null,null,0,{"$f":"+_xlfn.IFS(H665>8,\"udgår\",I665>8,\"udgår\",H665<8,\"\",I665<8,\"\")","v":""}]
[null,null,null,null,null,null,null,null,null,0,{"$f":"+_xlfn.IFS(H666>8,\"udgår\",I666>8,\"udgår\",H666<8,\"\",I666<8,\"\")","v":""}]
[null,null,null,null,null,null,null,null,null,0,{"$f":"+_xlfn.IFS(H667>8,\"udgår\",I667>8,\"udgår\",H667<8,\"\",I667<8,\"\")","v":""}]
[null,null,null,null,null,null,null,null,null,0,{"$f":"+_xlfn.IFS(H668>8,\"udgår\",I668>8,\"udgår\",H668<8,\"\",I668<8,\"\")","v":""}]
[null,null,null,null,null,null,null,null,null,0,{"$f":"+_xlfn.IFS(H669>8,\"udgår\",I669>8,\"udgår\",H669<8,\"\",I669<8,\"\")","v":""}]
[null,null,null,null,null,null,null,null,null,0,{"$f":"+_xlfn.IFS(H670>8,\"udgår\",I670>8,\"udgår\",H670<8,\"\",I670<8,\"\")","v":""}]
[null,null,null,null,null,null,null,null,null,0,{"$f":"+_xlfn.IFS(H671>8,\"udgår\",I671>8,\"udgår\",H671<8,\"\",I671<8,\"\")","v":""}]
[null,null,null,null,null,null,null,null,null,0,{"$f":"+_xlfn.IFS(H672>8,\"udgår\",I672>8,\"udgår\",H672<8,\"\",I672<8,\"\")","v":""}]
[null,null,null,null,null,null,null,null,null,0,{"$f":"+_xlfn.IFS(H673>8,\"udgår\",I673>8,\"udgår\",H673<8,\"\",I673<8,\"\")","v":""}]
[null,null,null,null,null,null,null,null,null,0,{"$f":"+_xlfn.IFS(H674>8,\"udgår\",I674>8,\"udgår\",H674<8,\"\",I674<8,\"\")","v":""}]
[null,null,null,null,null,null,null,null,null,0,{"$f":"+_xlfn.IFS(H675>8,\"udgår\",I675>8,\"udgår\",H675<8,\"\",I675<8,\"\")","v":""}]
[null,null,null,null,null,null,null,null,null,0,{"$f":"+_xlfn.IFS(H676>8,\"udgår\",I676>8,\"udgår\",H676<8,\"\",I676<8,\"\")","v":""}]
[null,null,null,null,null,null,null,null,null,0,{"$f":"+_xlfn.IFS(H677>8,\"udgår\",I677>8,\"udgår\",H677<8,\"\",I677<8,\"\")","v":""}]
[null,null,null,null,null,null,null,null,null,0,{"$f":"+_xlfn.IFS(H678>8,\"udgår\",I678>8,\"udgår\",H678<8,\"\",I678<8,\"\")","v":""}]
[null,null,null,null,null,null,null,null,null,0,{"$f":"+_xlfn.IFS(H679>8,\"udgår\",I679>8,\"udgår\",H679<8,\"\",I679<8,\"\")","v":""}]
[null,null,null,null,null,null,null,null,null,0,{"$f":"+_xlfn.IFS(H680>8,\"udgår\",I680>8,\"udgår\",H680<8,\"\",I680<8,\"\")","v":""}]
[null,null,null,null,null,null,null,null,null,0,{"$f":"+_xlfn.IFS(H681>8,\"udgår\",I681>8,\"udgår\",H681<8,\"\",I681<8,\"\")","v":""}]
[null,null,null,null,null,null,null,null,null,0,{"$f":"+_xlfn.IFS(H682>8,\"udgår\",I682>8,\"udgår\",H682<8,\"\",I682<8,\"\")","v":""}]
[null,null,null,null,null,null,null,null,null,0,{"$f":"+_xlfn.IFS(H683>8,\"udgår\",I683>8,\"udgår\",H683<8,\"\",I683<8,\"\")","v":""}]
[null,null,null,null,null,null,null,null,null,0,{"$f":"+_xlfn.IFS(H684>8,\"udgår\",I684>8,\"udgår\",H684<8,\"\",I684<8,\"\")","v":""}]
[null,null,null,null,null,null,null,null,null,0,{"$f":"+_xlfn.IFS(H685>8,\"udgår\",I685>8,\"udgår\",H685<8,\"\",I685<8,\"\")","v":""}]
[null,null,null,null,null,null,null,null,null,0,{"$f":"+_xlfn.IFS(H686>8,\"udgår\",I686>8,\"udgår\",H686<8,\"\",I686<8,\"\")","v":""}]
[null,null,null,null,null,null,null,null,null,0,{"$f":"+_xlfn.IFS(H687>8,\"udgår\",I687>8,\"udgår\",H687<8,\"\",I687<8,\"\")","v":""}]
[null,null,null,null,null,null,null,null,null,0,{"$f":"+_xlfn.IFS(H688>8,\"udgår\",I688>8,\"udgår\",H688<8,\"\",I688<8,\"\")","v":""}]
[null,null,null,null,null,null,null,null,null,0,{"$f":"+_xlfn.IFS(H689>8,\"udgår\",I689>8,\"udgår\",H689<8,\"\",I689<8,\"\")","v":""}]
[null,null,null,null,null,null,null,null,null,0,{"$f":"+_xlfn.IFS(H690>8,\"udgår\",I690>8,\"udgår\",H690<8,\"\",I690<8,\"\")","v":""}]
[null,null,null,null,null,null,null,null,null,0,{"$f":"+_xlfn.IFS(H691>8,\"udgår\",I691>8,\"udgår\",H691<8,\"\",I691<8,\"\")","v":""}]
[null,null,null,null,null,null,null,null,null,0,{"$f":"+_xlfn.IFS(H692>8,\"udgår\",I692>8,\"udgår\",H692<8,\"\",I692<8,\"\")","v":""}]
[null,null,null,null,null,null,null,null,null,0,{"$f":"+_xlfn.IFS(H693>8,\"udgår\",I693>8,\"udgår\",H693<8,\"\",I693<8,\"\")","v":""}]
[null,null,null,null,null,null,null,null,null,0,{"$f":"+_xlfn.IFS(H694>8,\"udgår\",I694>8,\"udgår\",H694<8,\"\",I694<8,\"\")","v":""}]
[null,null,null,null,null,null,null,null,null,0,{"$f":"+_xlfn.IFS(H695>8,\"udgår\",I695>8,\"udgår\",H695<8,\"\",I695<8,\"\")","v":""}]
[null,null,null,null,null,null,null,null,null,0,{"$f":"+_xlfn.IFS(H696>8,\"udgår\",I696>8,\"udgår\",H696<8,\"\",I696<8,\"\")","v":""}]
[null,null,null,null,null,null,null,null,null,0,{"$f":"+_xlfn.IFS(H697>8,\"udgår\",I697>8,\"udgår\",H697<8,\"\",I697<8,\"\")","v":""}]
[null,null,null,null,null,null,null,null,null,0,{"$f":"+_xlfn.IFS(H698>8,\"udgår\",I698>8,\"udgår\",H698<8,\"\",I698<8,\"\")","v":""}]
[null,null,null,null,null,null,null,null,null,0,{"$f":"+_xlfn.IFS(H699>8,\"udgår\",I699>8,\"udgår\",H699<8,\"\",I699<8,\"\")","v":""}]
[null,null,null,null,null,null,null,null,null,0,{"$f":"+_xlfn.IFS(H700>8,\"udgår\",I700>8,\"udgår\",H700<8,\"\",I700<8,\"\")","v":""}]
[null,null,null,null,null,null,null,null,null,0,{"$f":"+_xlfn.IFS(H701>8,\"udgår\",I701>8,\"udgår\",H701<8,\"\",I701<8,\"\")","v":""}]
[null,null,null,null,null,null,null,null,null,0,{"$f":"+_xlfn.IFS(H702>8,\"udgår\",I702>8,\"udgår\",H702<8,\"\",I702<8,\"\")","v":""}]
[null,null,null,null,null,null,null,null,null,0,{"$f":"+_xlfn.IFS(H703>8,\"udgår\",I703>8,\"udgår\",H703<8,\"\",I703<8,\"\")","v":""}]
[null,null,null,null,null,null,null,null,null,0,{"$f":"+_xlfn.IFS(H704>8,\"udgår\",I704>8,\"udgår\",H704<8,\"\",I704<8,\"\")","v":""}]
[null,null,null,null,null,null,null,null,null,0,{"$f":"+_xlfn.IFS(H705>8,\"udgår\",I705>8,\"udgår\",H705<8,\"\",I705<8,\"\")","v":""}]
[null,null,null,null,null,null,null,null,null,0,{"$f":"+_xlfn.IFS(H706>8,\"udgår\",I706>8,\"udgår\",H706<8,\"\",I706<8,\"\")","v":""}]
[null,null,null,null,null,null,null,null,null,{"$f":"+D707-F707","v":0},{"$f":"+_xlfn.IFS(H707>8,\"udgår\",I707>8,\"udgår\",H707<8,\"\",I707<8,\"\")","v":""}]
[null,null,null,null,null,null,null,null,null,0,{"$f":"+_xlfn.IFS(H708>8,\"udgår\",I708>8,\"udgår\",H708<8,\"\",I708<8,\"\")","v":""}]
[null,null,null,null,null,null,null,null,null,0,{"$f":"+_xlfn.IFS(H709>8,\"udgår\",I709>8,\"udgår\",H709<8,\"\",I709<8,\"\")","v":""}]
[null,null,null,null,null,null,null,null,null,0,{"$f":"+_xlfn.IFS(H710>8,\"udgår\",I710>8,\"udgår\",H710<8,\"\",I710<8,\"\")","v":""}]
[null,null,null,null,null,null,null,null,null,0,{"$f":"+_xlfn.IFS(H711>8,\"udgår\",I711>8,\"udgår\",H711<8,\"\",I711<8,\"\")","v":""}]
[null,null,null,null,null,null,null,null,null,0,{"$f":"+_xlfn.IFS(H712>8,\"udgår\",I712>8,\"udgår\",H712<8,\"\",I712<8,\"\")","v":""}]
[null,null,null,null,null,null,null,null,null,0,{"$f":"+_xlfn.IFS(H713>8,\"udgår\",I713>8,\"udgår\",H713<8,\"\",I713<8,\"\")","v":""}]
[null,null,null,null,null,null,null,null,null,0,{"$f":"+_xlfn.IFS(H714>8,\"udgår\",I714>8,\"udgår\",H714<8,\"\",I714<8,\"\")","v":""}]
[null,null,null,null,null,null,null,null,null,0,{"$f":"+_xlfn.IFS(H715>8,\"udgår\",I715>8,\"udgår\",H715<8,\"\",I715<8,\"\")","v":""}]
[null,null,null,null,null,null,null,null,null,0,{"$f":"+_xlfn.IFS(H716>8,\"udgår\",I716>8,\"udgår\",H716<8,\"\",I716<8,\"\")","v":""}]
[null,null,null,null,null,null,null,null,null,0,{"$f":"+_xlfn.IFS(H717>8,\"udgår\",I717>8,\"udgår\",H717<8,\"\",I717<8,\"\")","v":""}]
[null,null,null,null,null,null,null,null,null,0,{"$f":"+_xlfn.IFS(H718>8,\"udgår\",I718>8,\"udgår\",H718<8,\"\",I718<8,\"\")","v":""}]
[null,null,null,null,null,null,null,null,null,0,{"$f":"+_xlfn.IFS(H719>8,\"udgår\",I719>8,\"udgår\",H719<8,\"\",I719<8,\"\")","v":""}]
[null,null,null,null,null,null,null,null,null,0,{"$f":"+_xlfn.IFS(H720>8,\"udgår\",I720>8,\"udgår\",H720<8,\"\",I720<8,\"\")","v":""}]
[null,null,null,null,null,null,null,null,null,0,{"$f":"+_xlfn.IFS(H721>8,\"udgår\",I721>8,\"udgår\",H721<8,\"\",I721<8,\"\")","v":""}]
[null,null,null,null,null,null,null,null,null,0,{"$f":"+_xlfn.IFS(H722>8,\"udgår\",I722>8,\"udgår\",H722<8,\"\",I722<8,\"\")","v":""}]
[null,null,null,null,null,null,null,null,null,0,{"$f":"+_xlfn.IFS(H723>8,\"udgår\",I723>8,\"udgår\",H723<8,\"\",I723<8,\"\")","v":""}]
[null,null,null,null,null,null,null,null,null,0,{"$f":"+_xlfn.IFS(H724>8,\"udgår\",I724>8,\"udgår\",H724<8,\"\",I724<8,\"\")","v":""}]
[null,null,null,null,null,null,null,null,null,0,{"$f":"+_xlfn.IFS(H725>8,\"udgår\",I725>8,\"udgår\",H725<8,\"\",I725<8,\"\")","v":""}]
[null,null,null,null,null,null,null,null,null,0,{"$f":"+_xlfn.IFS(H726>8,\"udgår\",I726>8,\"udgår\",H726<8,\"\",I726<8,\"\")","v":""}]
[null,null,null,null,null,null,null,null,null,0,{"$f":"+_xlfn.IFS(H727>8,\"udgår\",I727>8,\"udgår\",H727<8,\"\",I727<8,\"\")","v":""}]
[null,null,null,null,null,null,null,null,null,0,{"$f":"+_xlfn.IFS(H728>8,\"udgår\",I728>8,\"udgår\",H728<8,\"\",I728<8,\"\")","v":""}]
[null,null,null,null,null,null,null,null,null,0,{"$f":"+_xlfn.IFS(H729>8,\"udgår\",I729>8,\"udgår\",H729<8,\"\",I729<8,\"\")","v":""}]
[null,null,null,null,null,null,null,null,null,0,{"$f":"+_xlfn.IFS(H730>8,\"udgår\",I730>8,\"udgår\",H730<8,\"\",I730<8,\"\")","v":""}]
[null,null,null,null,null,null,null,null,null,0,{"$f":"+_xlfn.IFS(H731>8,\"udgår\",I731>8,\"udgår\",H731<8,\"\",I731<8,\"\")","v":""}]
[null,null,null,null,null,null,null,null,null,0,{"$f":"+_xlfn.IFS(H732>8,\"udgår\",I732>8,\"udgår\",H732<8,\"\",I732<8,\"\")","v":""}]
[null,null,null,null,null,null,null,null,null,0,{"$f":"+_xlfn.IFS(H733>8,\"udgår\",I733>8,\"udgår\",H733<8,\"\",I733<8,\"\")","v":""}]
[null,null,null,null,null,null,null,null,null,0,{"$f":"+_xlfn.IFS(H734>8,\"udgår\",I734>8,\"udgår\",H734<8,\"\",I734<8,\"\")","v":""}]
[null,null,null,null,null,null,null,null,null,0,{"$f":"+_xlfn.IFS(H735>8,\"udgår\",I735>8,\"udgår\",H735<8,\"\",I735<8,\"\")","v":""}]
[null,null,null,null,null,null,null,null,null,0,{"$f":"+_xlfn.IFS(H736>8,\"udgår\",I736>8,\"udgår\",H736<8,\"\",I736<8,\"\")","v":""}]
[null,null,null,null,null,null,null,null,null,0,{"$f":"+_xlfn.IFS(H737>8,\"udgår\",I737>8,\"udgår\",H737<8,\"\",I737<8,\"\")","v":""}]
[null,null,null,null,null,null,null,null,null,0,{"$f":"+_xlfn.IFS(H738>8,\"udgår\",I738>8,\"udgår\",H738<8,\"\",I738<8,\"\")","v":""}]
[null,null,null,null,null,null,null,null,null,0,{"$f":"+_xlfn.IFS(H739>8,\"udgår\",I739>8,\"udgår\",H739<8,\"\",I739<8,\"\")","v":""}]
[null,null,null,null,null,null,null,null,null,0,{"$f":"+_xlfn.IFS(H740>8,\"udgår\",I740>8,\"udgår\",H740<8,\"\",I740<8,\"\")","v":""}]
[null,null,null,null,null,null,null,null,null,0,{"$f":"+_xlfn.IFS(H741>8,\"udgår\",I741>8,\"udgår\",H741<8,\"\",I741<8,\"\")","v":""}]
[null,null,null,null,null,null,null,null,null,0,{"$f":"+_xlfn.IFS(H742>8,\"udgår\",I742>8,\"udgår\",H742<8,\"\",I742<8,\"\")","v":""}]
[null,null,null,null,null,null,null,null,null,0,{"$f":"+_xlfn.IFS(H743>8,\"udgår\",I743>8,\"udgår\",H743<8,\"\",I743<8,\"\")","v":""}]
[null,null,null,null,null,null,null,null,null,0,{"$f":"+_xlfn.IFS(H744>8,\"udgår\",I744>8,\"udgår\",H744<8,\"\",I744<8,\"\")","v":""}]
[null,null,null,null,null,null,null,null,null,0,{"$f":"+_xlfn.IFS(H745>8,\"udgår\",I745>8,\"udgår\",H745<8,\"\",I745<8,\"\")","v":""}]
[null,null,null,null,null,null,null,null,null,0,{"$f":"+_xlfn.IFS(H746>8,\"udgår\",I746>8,\"udgår\",H746<8,\"\",I746<8,\"\")","v":""}]
[null,null,null,null,null,null,null,null,null,0,{"$f":"+_xlfn.IFS(H747>8,\"udgår\",I747>8,\"udgår\",H747<8,\"\",I747<8,\"\")","v":""}]
[null,null,null,null,null,null,null,null,null,0,{"$f":"+_xlfn.IFS(H748>8,\"udgår\",I748>8,\"udgår\",H748<8,\"\",I748<8,\"\")","v":""}]
[null,null,null,null,null,null,null,null,null,0,{"$f":"+_xlfn.IFS(H749>8,\"udgår\",I749>8,\"udgår\",H749<8,\"\",I749<8,\"\")","v":""}]
[null,null,null,null,null,null,null,null,null,0,{"$f":"+_xlfn.IFS(H750>8,\"udgår\",I750>8,\"udgår\",H750<8,\"\",I750<8,\"\")","v":""}]
[null,null,null,null,null,null,null,null,null,0,{"$f":"+_xlfn.IFS(H751>8,\"udgår\",I751>8,\"udgår\",H751<8,\"\",I751<8,\"\")","v":""}]
[null,null,null,null,null,null,null,null,null,0,{"$f":"+_xlfn.IFS(H752>8,\"udgår\",I752>8,\"udgår\",H752<8,\"\",I752<8,\"\")","v":""}]
[null,null,null,null,null,null,null,null,null,0,{"$f":"+_xlfn.IFS(H753>8,\"udgår\",I753>8,\"udgår\",H753<8,\"\",I753<8,\"\")","v":""}]
[null,null,null,null,null,null,null,null,null,0,{"$f":"+_xlfn.IFS(H754>8,\"udgår\",I754>8,\"udgår\",H754<8,\"\",I754<8,\"\")","v":""}]
[null,null,null,null,null,null,null,null,null,0,{"$f":"+_xlfn.IFS(H755>8,\"udgår\",I755>8,\"udgår\",H755<8,\"\",I755<8,\"\")","v":""}]
[null,null,null,null,null,null,null,null,null,0,{"$f":"+_xlfn.IFS(H756>8,\"udgår\",I756>8,\"udgår\",H756<8,\"\",I756<8,\"\")","v":""}]
[null,null,null,null,null,null,null,null,null,0,{"$f":"+_xlfn.IFS(H757>8,\"udgår\",I757>8,\"udgår\",H757<8,\"\",I757<8,\"\")","v":""}]
[null,null,null,null,null,null,null,null,null,0,{"$f":"+_xlfn.IFS(H758>8,\"udgår\",I758>8,\"udgår\",H758<8,\"\",I758<8,\"\")","v":""}]
[null,null,null,null,null,null,null,null,null,0,{"$f":"+_xlfn.IFS(H759>8,\"udgår\",I759>8,\"udgår\",H759<8,\"\",I759<8,\"\")","v":""}]
[null,null,null,null,null,null,null,null,null,0,{"$f":"+_xlfn.IFS(H760>8,\"udgår\",I760>8,\"udgår\",H760<8,\"\",I760<8,\"\")","v":""}]
[null,null,null,null,null,null,null,null,null,0,{"$f":"+_xlfn.IFS(H761>8,\"udgår\",I761>8,\"udgår\",H761<8,\"\",I761<8,\"\")","v":""}]
[null,null,null,null,null,null,null,null,null,0,{"$f":"+_xlfn.IFS(H762>8,\"udgår\",I762>8,\"udgår\",H762<8,\"\",I762<8,\"\")","v":""}]
[null,null,null,null,null,null,null,null,null,0,{"$f":"+_xlfn.IFS(H763>8,\"udgår\",I763>8,\"udgår\",H763<8,\"\",I763<8,\"\")","v":""}]
[null,null,null,null,null,null,null,null,null,0,{"$f":"+_xlfn.IFS(H764>8,\"udgår\",I764>8,\"udgår\",H764<8,\"\",I764<8,\"\")","v":""}]
[null,null,null,null,null,null,null,null,null,0,{"$f":"+_xlfn.IFS(H765>8,\"udgår\",I765>8,\"udgår\",H765<8,\"\",I765<8,\"\")","v":""}]
[null,null,null,null,null,null,null,null,null,0,{"$f":"+_xlfn.IFS(H766>8,\"udgår\",I766>8,\"udgår\",H766<8,\"\",I766<8,\"\")","v":""}]
[null,null,null,null,null,null,null,null,null,0,{"$f":"+_xlfn.IFS(H767>8,\"udgår\",I767>8,\"udgår\",H767<8,\"\",I767<8,\"\")","v":""}]
[null,null,null,null,null,null,null,null,null,0,{"$f":"+_xlfn.IFS(H768>8,\"udgår\",I768>8,\"udgår\",H768<8,\"\",I768<8,\"\")","v":""}]
[null,null,null,null,null,null,null,null,null,0,{"$f":"+_xlfn.IFS(H769>8,\"udgår\",I769>8,\"udgår\",H769<8,\"\",I769<8,\"\")","v":""}]
[null,null,null,null,null,null,null,null,null,0,{"$f":"+_xlfn.IFS(H770>8,\"udgår\",I770>8,\"udgår\",H770<8,\"\",I770<8,\"\")","v":""}]
[null,null,null,null,null,null,null,null,null,{"$f":"+D771-F771","v":0},{"$f":"+_xlfn.IFS(H771>8,\"udgår\",I771>8,\"udgår\",H771<8,\"\",I771<8,\"\")","v":""}]
[null,null,null,null,null,null,null,null,null,0,{"$f":"+_xlfn.IFS(H772>8,\"udgår\",I772>8,\"udgår\",H772<8,\"\",I772<8,\"\")","v":""}]
[null,null,null,null,null,null,null,null,null,0,{"$f":"+_xlfn.IFS(H773>8,\"udgår\",I773>8,\"udgår\",H773<8,\"\",I773<8,\"\")","v":""}]
[null,null,null,null,null,null,null,null,null,0,{"$f":"+_xlfn.IFS(H774>8,\"udgår\",I774>8,\"udgår\",H774<8,\"\",I774<8,\"\")","v":""}]
[null,null,null,null,null,null,null,null,null,0,{"$f":"+_xlfn.IFS(H775>8,\"udgår\",I775>8,\"udgår\",H775<8,\"\",I775<8,\"\")","v":""}]
[null,null,null,null,null,null,null,null,null,0,{"$f":"+_xlfn.IFS(H776>8,\"udgår\",I776>8,\"udgår\",H776<8,\"\",I776<8,\"\")","v":""}]
[null,null,null,null,null,null,null,null,null,0,{"$f":"+_xlfn.IFS(H777>8,\"udgår\",I777>8,\"udgår\",H777<8,\"\",I777<8,\"\")","v":""}]
[null,null,null,null,null,null,null,null,null,0,{"$f":"+_xlfn.IFS(H778>8,\"udgår\",I778>8,\"udgår\",H778<8,\"\",I778<8,\"\")","v":""}]
[null,null,null,null,null,null,null,null,null,0,{"$f":"+_xlfn.IFS(H779>8,\"udgår\",I779>8,\"udgår\",H779<8,\"\",I779<8,\"\")","v":""}]
[null,null,null,null,null,null,null,null,null,0,{"$f":"+_xlfn.IFS(H780>8,\"udgår\",I780>8,\"udgår\",H780<8,\"\",I780<8,\"\")","v":""}]
[null,null,null,null,null,null,null,null,null,0,{"$f":"+_xlfn.IFS(H781>8,\"udgår\",I781>8,\"udgår\",H781<8,\"\",I781<8,\"\")","v":""}]
[null,null,null,null,null,null,null,null,null,0,{"$f":"+_xlfn.IFS(H782>8,\"udgår\",I782>8,\"udgår\",H782<8,\"\",I782<8,\"\")","v":""}]
[null,null,null,null,null,null,null,null,null,0,{"$f":"+_xlfn.IFS(H783>8,\"udgår\",I783>8,\"udgår\",H783<8,\"\",I783<8,\"\")","v":""}]
[null,null,null,null,null,null,null,null,null,0,{"$f":"+_xlfn.IFS(H784>8,\"udgår\",I784>8,\"udgår\",H784<8,\"\",I784<8,\"\")","v":""}]
[null,null,null,null,null,null,null,null,null,0,{"$f":"+_xlfn.IFS(H785>8,\"udgår\",I785>8,\"udgår\",H785<8,\"\",I785<8,\"\")","v":""}]
[null,null,null,null,null,null,null,null,null,0,{"$f":"+_xlfn.IFS(H786>8,\"udgår\",I786>8,\"udgår\",H786<8,\"\",I786<8,\"\")","v":""}]
[null,null,null,null,null,null,null,null,null,0,{"$f":"+_xlfn.IFS(H787>8,\"udgår\",I787>8,\"udgår\",H787<8,\"\",I787<8,\"\")","v":""}]
[null,null,null,null,null,null,null,null,null,0,{"$f":"+_xlfn.IFS(H788>8,\"udgår\",I788>8,\"udgår\",H788<8,\"\",I788<8,\"\")","v":""}]
[null,null,null,null,null,null,null,null,null,0,{"$f":"+_xlfn.IFS(H789>8,\"udgår\",I789>8,\"udgår\",H789<8,\"\",I789<8,\"\")","v":""}]
[null,null,null,null,null,null,null,null,null,0,{"$f":"+_xlfn.IFS(H790>8,\"udgår\",I790>8,\"udgår\",H790<8,\"\",I790<8,\"\")","v":""}]
[null,null,null,null,null,null,null,null,null,0,{"$f":"+_xlfn.IFS(H791>8,\"udgår\",I791>8,\"udgår\",H791<8,\"\",I791<8,\"\")","v":""}]
[null,null,null,null,null,null,null,null,null,0,{"$f":"+_xlfn.IFS(H792>8,\"udgår\",I792>8,\"udgår\",H792<8,\"\",I792<8,\"\")","v":""}]
[null,null,null,null,null,null,null,null,null,0,{"$f":"+_xlfn.IFS(H793>8,\"udgår\",I793>8,\"udgår\",H793<8,\"\",I793<8,\"\")","v":""}]
[null,null,null,null,null,null,null,null,null,0,{"$f":"+_xlfn.IFS(H794>8,\"udgår\",I794>8,\"udgår\",H794<8,\"\",I794<8,\"\")","v":""}]
[null,null,null,null,null,null,null,null,null,0,{"$f":"+_xlfn.IFS(H795>8,\"udgår\",I795>8,\"udgår\",H795<8,\"\",I795<8,\"\")","v":""}]
[null,null,null,null,null,null,null,null,null,0,{"$f":"+_xlfn.IFS(H796>8,\"udgår\",I796>8,\"udgår\",H796<8,\"\",I796<8,\"\")","v":""}]
[null,null,null,null,null,null,null,null,null,0,{"$f":"+_xlfn.IFS(H797>8,\"udgår\",I797>8,\"udgår\",H797<8,\"\",I797<8,\"\")","v":""}]
[null,null,null,null,null,null,null,null,null,0,{"$f":"+_xlfn.IFS(H798>8,\"udgår\",I798>8,\"udgår\",H798<8,\"\",I798<8,\"\")","v":""}]
[null,null,null,null,null,null,null,null,null,0,{"$f":"+_xlfn.IFS(H799>8,\"udgår\",I799>8,\"udgår\",H799<8,\"\",I799<8,\"\")","v":""}]
[null,null,null,null,null,null,null,null,null,0,{"$f":"+_xlfn.IFS(H800>8,\"udgår\",I800>8,\"udgår\",H800<8,\"\",I800<8,\"\")","v":""}]
[null,null,null,null,null,null,null,null,null,0,{"$f":"+_xlfn.IFS(H801>8,\"udgår\",I801>8,\"udgår\",H801<8,\"\",I801<8,\"\")","v":""}]
[null,null,null,null,null,null,null,null,null,0,{"$f":"+_xlfn.IFS(H802>8,\"udgår\",I802>8,\"udgår\",H802<8,\"\",I802<8,\"\")","v":""}]
[null,null,null,null,null,null,null,null,null,0,{"$f":"+_xlfn.IFS(H803>8,\"udgår\",I803>8,\"udgår\",H803<8,\"\",I803<8,\"\")","v":""}]
[null,null,null,null,null,null,null,null,null,0,{"$f":"+_xlfn.IFS(H804>8,\"udgår\",I804>8,\"udgår\",H804<8,\"\",I804<8,\"\")","v":""}]
[null,null,null,null,null,null,null,null,null,0,{"$f":"+_xlfn.IFS(H805>8,\"udgår\",I805>8,\"udgår\",H805<8,\"\",I805<8,\"\")","v":""}]
[null,null,null,null,null,null,null,null,null,0,{"$f":"+_xlfn.IFS(H806>8,\"udgår\",I806>8,\"udgår\",H806<8,\"\",I806<8,\"\")","v":""}]
[null,null,null,null,null,null,null,null,null,0,{"$f":"+_xlfn.IFS(H807>8,\"udgår\",I807>8,\"udgår\",H807<8,\"\",I807<8,\"\")","v":""}]
[null,null,null,null,null,null,null,null,null,0,{"$f":"+_xlfn.IFS(H808>8,\"udgår\",I808>8,\"udgår\",H808<8,\"\",I808<8,\"\")","v":""}]
[null,null,null,null,null,null,null,null,null,0,{"$f":"+_xlfn.IFS(H809>8,\"udgår\",I809>8,\"udgår\",H809<8,\"\",I809<8,\"\")","v":""}]
[null,null,null,null,null,null,null,null,null,0,{"$f":"+_xlfn.IFS(H810>8,\"udgår\",I810>8,\"udgår\",H810<8,\"\",I810<8,\"\")","v":""}]
[null,null,null,null,null,null,null,null,null,0,{"$f":"+_xlfn.IFS(H811>8,\"udgår\",I811>8,\"udgår\",H811<8,\"\",I811<8,\"\")","v":""}]
[null,null,null,null,null,null,null,null,null,0,{"$f":"+_xlfn.IFS(H812>8,\"udgår\",I812>8,\"udgår\",H812<8,\"\",I812<8,\"\")","v":""}]
[null,null,null,null,null,null,null,null,null,0,{"$f":"+_xlfn.IFS(H813>8,\"udgår\",I813>8,\"udgår\",H813<8,\"\",I813<8,\"\")","v":""}]
[null,null,null,null,null,null,null,null,null,0,{"$f":"+_xlfn.IFS(H814>8,\"udgår\",I814>8,\"udgår\",H814<8,\"\",I814<8,\"\")","v":""}]
[null,null,null,null,null,null,null,null,null,0,{"$f":"+_xlfn.IFS(H815>8,\"udgår\",I815>8,\"udgår\",H815<8,\"\",I815<8,\"\")","v":""}]
[null,null,null,null,null,null,null,null,null,0,{"$f":"+_xlfn.IFS(H816>8,\"udgår\",I816>8,\"udgår\",H816<8,\"\",I816<8,\"\")","v":""}]
[null,null,null,null,null,null,null,null,null,0,{"$f":"+_xlfn.IFS(H817>8,\"udgår\",I817>8,\"udgår\",H817<8,\"\",I817<8,\"\")","v":""}]
[null,null,null,null,null,null,null,null,null,0,{"$f":"+_xlfn.IFS(H818>8,\"udgår\",I818>8,\"udgår\",H818<8,\"\",I818<8,\"\")","v":""}]
[null,null,null,null,null,null,null,null,null,0,{"$f":"+_xlfn.IFS(H819>8,\"udgår\",I819>8,\"udgår\",H819<8,\"\",I819<8,\"\")","v":""}]
[null,null,null,null,null,null,null,null,null,0,{"$f":"+_xlfn.IFS(H820>8,\"udgår\",I820>8,\"udgår\",H820<8,\"\",I820<8,\"\")","v":""}]
[null,null,null,null,null,null,null,null,null,0,{"$f":"+_xlfn.IFS(H821>8,\"udgår\",I821>8,\"udgår\",H821<8,\"\",I821<8,\"\")","v":""}]
[null,null,null,null,null,null,null,null,null,0,{"$f":"+_xlfn.IFS(H822>8,\"udgår\",I822>8,\"udgår\",H822<8,\"\",I822<8,\"\")","v":""}]
[null,null,null,null,null,null,null,null,null,0,{"$f":"+_xlfn.IFS(H823>8,\"udgår\",I823>8,\"udgår\",H823<8,\"\",I823<8,\"\")","v":""}]
[null,null,null,null,null,null,null,null,null,0,{"$f":"+_xlfn.IFS(H824>8,\"udgår\",I824>8,\"udgår\",H824<8,\"\",I824<8,\"\")","v":""}]
[null,null,null,null,null,null,null,null,null,0,{"$f":"+_xlfn.IFS(H825>8,\"udgår\",I825>8,\"udgår\",H825<8,\"\",I825<8,\"\")","v":""}]
[null,null,null,null,null,null,null,null,null,0,{"$f":"+_xlfn.IFS(H826>8,\"udgår\",I826>8,\"udgår\",H826<8,\"\",I826<8,\"\")","v":""}]
[null,null,null,null,null,null,null,null,null,0,{"$f":"+_xlfn.IFS(H827>8,\"udgår\",I827>8,\"udgår\",H827<8,\"\",I827<8,\"\")","v":""}]
[null,null,null,null,null,null,null,null,null,0,{"$f":"+_xlfn.IFS(H828>8,\"udgår\",I828>8,\"udgår\",H828<8,\"\",I828<8,\"\")","v":""}]
[null,null,null,null,null,null,null,null,null,0,{"$f":"+_xlfn.IFS(H829>8,\"udgår\",I829>8,\"udgår\",H829<8,\"\",I829<8,\"\")","v":""}]
[null,null,null,null,null,null,null,null,null,0,{"$f":"+_xlfn.IFS(H830>8,\"udgår\",I830>8,\"udgår\",H830<8,\"\",I830<8,\"\")","v":""}]
[null,null,null,null,null,null,null,null,null,0,{"$f":"+_xlfn.IFS(H831>8,\"udgår\",I831>8,\"udgår\",H831<8,\"\",I831<8,\"\")","v":""}]
[null,null,null,null,null,null,null,null,null,0,{"$f":"+_xlfn.IFS(H832>8,\"udgår\",I832>8,\"udgår\",H832<8,\"\",I832<8,\"\")","v":""}]
[null,null,null,null,null,null,null,null,null,0,{"$f":"+_xlfn.IFS(H833>8,\"udgår\",I833>8,\"udgår\",H833<8,\"\",I833<8,\"\")","v":""}]
[null,null,null,null,null,null,null,null,null,0,{"$f":"+_xlfn.IFS(H834>8,\"udgår\",I834>8,\"udgår\",H834<8,\"\",I834<8,\"\")","v":""}]
[null,null,null,null,null,null,null,null,null,{"$f":"+D835-F835","v":0},{"$f":"+_xlfn.IFS(H835>8,\"udgår\",I835>8,\"udgår\",H835<8,\"\",I835<8,\"\")","v":""}]
[null,null,null,null,null,null,null,null,null,0,{"$f":"+_xlfn.IFS(H836>8,\"udgår\",I836>8,\"udgår\",H836<8,\"\",I836<8,\"\")","v":""}]
[null,null,null,null,null,null,null,null,null,0,{"$f":"+_xlfn.IFS(H837>8,\"udgår\",I837>8,\"udgår\",H837<8,\"\",I837<8,\"\")","v":""}]
[null,null,null,null,null,null,null,null,null,0,{"$f":"+_xlfn.IFS(H838>8,\"udgår\",I838>8,\"udgår\",H838<8,\"\",I838<8,\"\")","v":""}]
[null,null,null,null,null,null,null,null,null,0,{"$f":"+_xlfn.IFS(H839>8,\"udgår\",I839>8,\"udgår\",H839<8,\"\",I839<8,\"\")","v":""}]
[null,null,null,null,null,null,null,null,null,0,{"$f":"+_xlfn.IFS(H840>8,\"udgår\",I840>8,\"udgår\",H840<8,\"\",I840<8,\"\")","v":""}]
[null,null,null,null,null,null,null,null,null,0,{"$f":"+_xlfn.IFS(H841>8,\"udgår\",I841>8,\"udgår\",H841<8,\"\",I841<8,\"\")","v":""}]
[null,null,null,null,null,null,null,null,null,0,{"$f":"+_xlfn.IFS(H842>8,\"udgår\",I842>8,\"udgår\",H842<8,\"\",I842<8,\"\")","v":""}]
[null,null,null,null,null,null,null,null,null,0,{"$f":"+_xlfn.IFS(H843>8,\"udgår\",I843>8,\"udgår\",H843<8,\"\",I843<8,\"\")","v":""}]
[null,null,null,null,null,null,null,null,null,0,{"$f":"+_xlfn.IFS(H844>8,\"udgår\",I844>8,\"udgår\",H844<8,\"\",I844<8,\"\")","v":""}]
[null,null,null,null,null,null,null,null,null,0,{"$f":"+_xlfn.IFS(H845>8,\"udgår\",I845>8,\"udgår\",H845<8,\"\",I845<8,\"\")","v":""}]
[null,null,null,null,null,null,null,null,null,0,{"$f":"+_xlfn.IFS(H846>8,\"udgår\",I846>8,\"udgår\",H846<8,\"\",I846<8,\"\")","v":""}]
[null,null,null,null,null,null,null,null,null,0,{"$f":"+_xlfn.IFS(H847>8,\"udgår\",I847>8,\"udgår\",H847<8,\"\",I847<8,\"\")","v":""}]
[null,null,null,null,null,null,null,null,null,0,{"$f":"+_xlfn.IFS(H848>8,\"udgår\",I848>8,\"udgår\",H848<8,\"\",I848<8,\"\")","v":""}]
[null,null,null,null,null,null,null,null,null,0,{"$f":"+_xlfn.IFS(H849>8,\"udgår\",I849>8,\"udgår\",H849<8,\"\",I849<8,\"\")","v":""}]
[null,null,null,null,null,null,null,null,null,0,{"$f":"+_xlfn.IFS(H850>8,\"udgår\",I850>8,\"udgår\",H850<8,\"\",I850<8,\"\")","v":""}]
[null,null,null,null,null,null,null,null,null,0,{"$f":"+_xlfn.IFS(H851>8,\"udgår\",I851>8,\"udgår\",H851<8,\"\",I851<8,\"\")","v":""}]
[null,null,null,null,null,null,null,null,null,0,{"$f":"+_xlfn.IFS(H852>8,\"udgår\",I852>8,\"udgår\",H852<8,\"\",I852<8,\"\")","v":""}]
[null,null,null,null,null,null,null,null,null,0,{"$f":"+_xlfn.IFS(H853>8,\"udgår\",I853>8,\"udgår\",H853<8,\"\",I853<8,\"\")","v":""}]
[null,null,null,null,null,null,null,null,null,0,{"$f":"+_xlfn.IFS(H854>8,\"udgår\",I854>8,\"udgår\",H854<8,\"\",I854<8,\"\")","v":""}]
[null,null,null,null,null,null,null,null,null,0,{"$f":"+_xlfn.IFS(H855>8,\"udgår\",I855>8,\"udgår\",H855<8,\"\",I855<8,\"\")","v":""}]
[null,null,null,null,null,null,null,null,null,0,{"$f":"+_xlfn.IFS(H856>8,\"udgår\",I856>8,\"udgår\",H856<8,\"\",I856<8,\"\")","v":""}]
[null,null,null,null,null,null,null,null,null,0,{"$f":"+_xlfn.IFS(H857>8,\"udgår\",I857>8,\"udgår\",H857<8,\"\",I857<8,\"\")","v":""}]
[null,null,null,null,null,null,null,null,null,0,{"$f":"+_xlfn.IFS(H858>8,\"udgår\",I858>8,\"udgår\",H858<8,\"\",I858<8,\"\")","v":""}]
[null,null,null,null,null,null,null,null,null,0,{"$f":"+_xlfn.IFS(H859>8,\"udgår\",I859>8,\"udgår\",H859<8,\"\",I859<8,\"\")","v":""}]
[null,null,null,null,null,null,null,null,null,0,{"$f":"+_xlfn.IFS(H860>8,\"udgår\",I860>8,\"udgår\",H860<8,\"\",I860<8,\"\")","v":""}]
[null,null,null,null,null,null,null,null,null,0,{"$f":"+_xlfn.IFS(H861>8,\"udgår\",I861>8,\"udgår\",H861<8,\"\",I861<8,\"\")","v":""}]
[null,null,null,null,null,null,null,null,null,0,{"$f":"+_xlfn.IFS(H862>8,\"udgår\",I862>8,\"udgår\",H862<8,\"\",I862<8,\"\")","v":""}]
[null,null,null,null,null,null,null,null,null,0,{"$f":"+_xlfn.IFS(H863>8,\"udgår\",I863>8,\"udgår\",H863<8,\"\",I863<8,\"\")","v":""}]
[null,null,null,null,null,null,null,null,null,0,{"$f":"+_xlfn.IFS(H864>8,\"udgår\",I864>8,\"udgår\",H864<8,\"\",I864<8,\"\")","v":""}]
[null,null,null,null,null,null,null,null,null,0,{"$f":"+_xlfn.IFS(H865>8,\"udgår\",I865>8,\"udgår\",H865<8,\"\",I865<8,\"\")","v":""}]
[null,null,null,null,null,null,null,null,null,0,{"$f":"+_xlfn.IFS(H866>8,\"udgår\",I866>8,\"udgår\",H866<8,\"\",I866<8,\"\")","v":""}]
[null,null,null,null,null,null,null,null,null,0,{"$f":"+_xlfn.IFS(H867>8,\"udgår\",I867>8,\"udgår\",H867<8,\"\",I867<8,\"\")","v":""}]
[null,null,null,null,null,null,null,null,null,0,{"$f":"+_xlfn.IFS(H868>8,\"udgår\",I868>8,\"udgår\",H868<8,\"\",I868<8,\"\")","v":""}]
[null,null,null,null,null,null,null,null,null,0,{"$f":"+_xlfn.IFS(H869>8,\"udgår\",I869>8,\"udgår\",H869<8,\"\",I869<8,\"\")","v":""}]
[null,null,null,null,null,null,null,null,null,0,{"$f":"+_xlfn.IFS(H870>8,\"udgår\",I870>8,\"udgår\",H870<8,\"\",I870<8,\"\")","v":""}]
[null,null,null,null,null,null,null,null,null,0,{"$f":"+_xlfn.IFS(H871>8,\"udgår\",I871>8,\"udgår\",H871<8,\"\",I871<8,\"\")","v":""}]
[null,null,null,null,null,null,null,null,null,0,{"$f":"+_xlfn.IFS(H872>8,\"udgår\",I872>8,\"udgår\",H872<8,\"\",I872<8,\"\")","v":""}]
[null,null,null,null,null,null,null,null,null,0,{"$f":"+_xlfn.IFS(H873>8,\"udgår\",I873>8,\"udgår\",H873<8,\"\",I873<8,\"\")","v":""}]
[null,null,null,null,null,null,null,null,null,0,{"$f":"+_xlfn.IFS(H874>8,\"udgår\",I874>8,\"udgår\",H874<8,\"\",I874<8,\"\")","v":""}]
[null,null,null,null,null,null,null,null,null,0,{"$f":"+_xlfn.IFS(H875>8,\"udgår\",I875>8,\"udgår\",H875<8,\"\",I875<8,\"\")","v":""}]
[null,null,null,null,null,null,null,null,null,0,{"$f":"+_xlfn.IFS(H876>8,\"udgår\",I876>8,\"udgår\",H876<8,\"\",I876<8,\"\")","v":""}]
[null,null,null,null,null,null,null,null,null,0,{"$f":"+_xlfn.IFS(H877>8,\"udgår\",I877>8,\"udgår\",H877<8,\"\",I877<8,\"\")","v":""}]
[null,null,null,null,null,null,null,null,null,0,{"$f":"+_xlfn.IFS(H878>8,\"udgår\",I878>8,\"udgår\",H878<8,\"\",I878<8,\"\")","v":""}]
[null,null,null,null,null,null,null,null,null,0,{"$f":"+_xlfn.IFS(H879>8,\"udgår\",I879>8,\"udgår\",H879<8,\"\",I879<8,\"\")","v":""}]
[null,null,null,null,null,null,null,null,null,0,{"$f":"+_xlfn.IFS(H880>8,\"udgår\",I880>8,\"udgår\",H880<8,\"\",I880<8,\"\")","v":""}]
[null,null,null,null,null,null,null,null,null,0,{"$f":"+_xlfn.IFS(H881>8,\"udgår\",I881>8,\"udgår\",H881<8,\"\",I881<8,\"\")","v":""}]
[null,null,null,null,null,null,null,null,null,0,{"$f":"+_xlfn.IFS(H882>8,\"udgår\",I882>8,\"udgår\",H882<8,\"\",I882<8,\"\")","v":""}]
[null,null,null,null,null,null,null,null,null,0,{"$f":"+_xlfn.IFS(H883>8,\"udgår\",I883>8,\"udgår\",H883<8,\"\",I883<8,\"\")","v":""}]
[null,null,null,null,null,null,null,null,null,0,{"$f":"+_xlfn.IFS(H884>8,\"udgår\",I884>8,\"udgår\",H884<8,\"\",I884<8,\"\")","v":""}]
[null,null,null,null,null,null,null,null,null,0,{"$f":"+_xlfn.IFS(H885>8,\"udgår\",I885>8,\"udgår\",H885<8,\"\",I885<8,\"\")","v":""}]
[null,null,null,null,null,null,null,null,null,0,{"$f":"+_xlfn.IFS(H886>8,\"udgår\",I886>8,\"udgår\",H886<8,\"\",I886<8,\"\")","v":""}]
[null,null,null,null,null,null,null,null,null,0,{"$f":"+_xlfn.IFS(H887>8,\"udgår\",I887>8,\"udgår\",H887<8,\"\",I887<8,\"\")","v":""}]
[null,null,null,null,null,null,null,null,null,0,{"$f":"+_xlfn.IFS(H888>8,\"udgår\",I888>8,\"udgår\",H888<8,\"\",I888<8,\"\")","v":""}]
[null,null,null,null,null,null,null,null,null,0,{"$f":"+_xlfn.IFS(H889>8,\"udgår\",I889>8,\"udgår\",H889<8,\"\",I889<8,\"\")","v":""}]
[null,null,null,null,null,null,null,null,null,0,{"$f":"+_xlfn.IFS(H890>8,\"udgår\",I890>8,\"udgår\",H890<8,\"\",I890<8,\"\")","v":""}]
[null,null,null,null,null,null,null,null,null,0,{"$f":"+_xlfn.IFS(H891>8,\"udgår\",I891>8,\"udgår\",H891<8,\"\",I891<8,\"\")","v":""}]
[null,null,null,null,null,null,null,null,null,0,{"$f":"+_xlfn.IFS(H892>8,\"udgår\",I892>8,\"udgår\",H892<8,\"\",I892<8,\"\")","v":""}]
[null,null,null,null,null,null,null,null,null,0,{"$f":"+_xlfn.IFS(H893>8,\"udgår\",I893>8,\"udgår\",H893<8,\"\",I893<8,\"\")","v":""}]
[null,null,null,null,null,null,null,null,null,0,{"$f":"+_xlfn.IFS(H894>8,\"udgår\",I894>8,\"udgår\",H894<8,\"\",I894<8,\"\")","v":""}]
[null,null,null,null,null,null,null,null,null,0,{"$f":"+_xlfn.IFS(H895>8,\"udgår\",I895>8,\"udgår\",H895<8,\"\",I895<8,\"\")","v":""}]
[null,null,null,null,null,null,null,null,null,0,{"$f":"+_xlfn.IFS(H896>8,\"udgår\",I896>8,\"udgår\",H896<8,\"\",I896<8,\"\")","v":""}]
[null,null,null,null,null,null,null,null,null,0,{"$f":"+_xlfn.IFS(H897>8,\"udgår\",I897>8,\"udgår\",H897<8,\"\",I897<8,\"\")","v":""}]
[null,null,null,null,null,null,null,null,null,0,{"$f":"+_xlfn.IFS(H898>8,\"udgår\",I898>8,\"udgår\",H898<8,\"\",I898<8,\"\")","v":""}]
[null,null,null,null,null,null,null,null,null,{"$f":"+D899-F899","v":0},{"$f":"+_xlfn.IFS(H899>8,\"udgår\",I899>8,\"udgår\",H899<8,\"\",I899<8,\"\")","v":""}]
[null,null,null,null,null,null,null,null,null,0,{"$f":"+_xlfn.IFS(H900>8,\"udgår\",I900>8,\"udgår\",H900<8,\"\",I900<8,\"\")","v":""}]
[null,null,null,null,null,null,null,null,null,0,{"$f":"+_xlfn.IFS(H901>8,\"udgår\",I901>8,\"udgår\",H901<8,\"\",I901<8,\"\")","v":""}]
[null,null,null,null,null,null,null,null,null,0,{"$f":"+_xlfn.IFS(H902>8,\"udgår\",I902>8,\"udgår\",H902<8,\"\",I902<8,\"\")","v":""}]
[null,null,null,null,null,null,null,null,null,0,{"$f":"+_xlfn.IFS(H903>8,\"udgår\",I903>8,\"udgår\",H903<8,\"\",I903<8,\"\")","v":""}]
[null,null,null,null,null,null,null,null,null,0,{"$f":"+_xlfn.IFS(H904>8,\"udgår\",I904>8,\"udgår\",H904<8,\"\",I904<8,\"\")","v":""}]
[null,null,null,null,null,null,null,null,null,0,{"$f":"+_xlfn.IFS(H905>8,\"udgår\",I905>8,\"udgår\",H905<8,\"\",I905<8,\"\")","v":""}]
[null,null,null,null,null,null,null,null,null,0,{"$f":"+_xlfn.IFS(H906>8,\"udgår\",I906>8,\"udgår\",H906<8,\"\",I906<8,\"\")","v":""}]
[null,null,null,null,null,null,null,null,null,0,{"$f":"+_xlfn.IFS(H907>8,\"udgår\",I907>8,\"udgår\",H907<8,\"\",I907<8,\"\")","v":""}]
[null,null,null,null,null,null,null,null,null,0,{"$f":"+_xlfn.IFS(H908>8,\"udgår\",I908>8,\"udgår\",H908<8,\"\",I908<8,\"\")","v":""}]
[null,null,null,null,null,null,null,null,null,0,{"$f":"+_xlfn.IFS(H909>8,\"udgår\",I909>8,\"udgår\",H909<8,\"\",I909<8,\"\")","v":""}]
[null,null,null,null,null,null,null,null,null,0,{"$f":"+_xlfn.IFS(H910>8,\"udgår\",I910>8,\"udgår\",H910<8,\"\",I910<8,\"\")","v":""}]
[null,null,null,null,null,null,null,null,null,0,{"$f":"+_xlfn.IFS(H911>8,\"udgår\",I911>8,\"udgår\",H911<8,\"\",I911<8,\"\")","v":""}]
[null,null,null,null,null,null,null,null,null,0,{"$f":"+_xlfn.IFS(H912>8,\"udgår\",I912>8,\"udgår\",H912<8,\"\",I912<8,\"\")","v":""}]
[null,null,null,null,null,null,null,null,null,0,{"$f":"+_xlfn.IFS(H913>8,\"udgår\",I913>8,\"udgår\",H913<8,\"\",I913<8,\"\")","v":""}]
[null,null,null,null,null,null,null,null,null,0,{"$f":"+_xlfn.IFS(H914>8,\"udgår\",I914>8,\"udgår\",H914<8,\"\",I914<8,\"\")","v":""}]
[null,null,null,null,null,null,null,null,null,0,{"$f":"+_xlfn.IFS(H915>8,\"udgår\",I915>8,\"udgår\",H915<8,\"\",I915<8,\"\")","v":""}]
[null,null,null,null,null,null,null,null,null,0,{"$f":"+_xlfn.IFS(H916>8,\"udgår\",I916>8,\"udgår\",H916<8,\"\",I916<8,\"\")","v":""}]
[null,null,null,null,null,null,null,null,null,0,{"$f":"+_xlfn.IFS(H917>8,\"udgår\",I917>8,\"udgår\",H917<8,\"\",I917<8,\"\")","v":""}]
[null,null,null,null,null,null,null,null,null,0,{"$f":"+_xlfn.IFS(H918>8,\"udgår\",I918>8,\"udgår\",H918<8,\"\",I918<8,\"\")","v":""}]
[null,null,null,null,null,null,null,null,null,0,{"$f":"+_xlfn.IFS(H919>8,\"udgår\",I919>8,\"udgår\",H919<8,\"\",I919<8,\"\")","v":""}]
[null,null,null,null,null,null,null,null,null,0,{"$f":"+_xlfn.IFS(H920>8,\"udgår\",I920>8,\"udgår\",H920<8,\"\",I920<8,\"\")","v":""}]
[null,null,null,null,null,null,null,null,null,0,{"$f":"+_xlfn.IFS(H921>8,\"udgår\",I921>8,\"udgår\",H921<8,\"\",I921<8,\"\")","v":""}]
[null,null,null,null,null,null,null,null,null,0,{"$f":"+_xlfn.IFS(H922>8,\"udgår\",I922>8,\"udgår\",H922<8,\"\",I922<8,\"\")","v":""}]
[null,null,null,null,null,null,null,null,null,0,{"$f":"+_xlfn.IFS(H923>8,\"udgår\",I923>8,\"udgår\",H923<8,\"\",I923<8,\"\")","v":""}]
[null,null,null,null,null,null,null,null,null,0,{"$f":"+_xlfn.IFS(H924>8,\"udgår\",I924>8,\"udgår\",H924<8,\"\",I924<8,\"\")","v":""}]
[null,null,null,null,null,null,null,null,null,0,{"$f":"+_xlfn.IFS(H925>8,\"udgår\",I925>8,\"udgår\",H925<8,\"\",I925<8,\"\")","v":""}]
[null,null,null,null,null,null,null,null,null,0,{"$f":"+_xlfn.IFS(H926>8,\"udgår\",I926>8,\"udgår\",H926<8,\"\",I926<8,\"\")","v":""}]
[null,null,null,null,null,null,null,null,null,0,{"$f":"+_xlfn.IFS(H927>8,\"udgår\",I927>8,\"udgår\",H927<8,\"\",I927<8,\"\")","v":""}]
[null,null,null,null,null,null,null,null,null,0,{"$f":"+_xlfn.IFS(H928>8,\"udgår\",I928>8,\"udgår\",H928<8,\"\",I928<8,\"\")","v":""}]
[null,null,null,null,null,null,null,null,null,0,{"$f":"+_xlfn.IFS(H929>8,\"udgår\",I929>8,\"udgår\",H929<8,\"\",I929<8,\"\")","v":""}]
[null,null,null,null,null,null,null,null,null,0,{"$f":"+_xlfn.IFS(H930>8,\"udgår\",I930>8,\"udgår\",H930<8,\"\",I930<8,\"\")","v":""}]
[null,null,null,null,null,null,null,null,null,0,{"$f":"+_xlfn.IFS(H931>8,\"udgår\",I931>8,\"udgår\",H931<8,\"\",I931<8,\"\")","v":""}]
[null,null,null,null,null,null,null,null,null,0,{"$f":"+_xlfn.IFS(H932>8,\"udgår\",I932>8,\"udgår\",H932<8,\"\",I932<8,\"\")","v":""}]
[null,null,null,null,null,null,null,null,null,0,{"$f":"+_xlfn.IFS(H933>8,\"udgår\",I933>8,\"udgår\",H933<8,\"\",I933<8,\"\")","v":""}]
[null,null,null,null,null,null,null,null,null,0,{"$f":"+_xlfn.IFS(H934>8,\"udgår\",I934>8,\"udgår\",H934<8,\"\",I934<8,\"\")","v":""}]
[null,null,null,null,null,null,null,null,null,0,{"$f":"+_xlfn.IFS(H935>8,\"udgår\",I935>8,\"udgår\",H935<8,\"\",I935<8,\"\")","v":""}]
[null,null,null,null,null,null,null,null,null,0,{"$f":"+_xlfn.IFS(H936>8,\"udgår\",I936>8,\"udgår\",H936<8,\"\",I936<8,\"\")","v":""}]
[null,null,null,null,null,null,null,null,null,0,{"$f":"+_xlfn.IFS(H937>8,\"udgår\",I937>8,\"udgår\",H937<8,\"\",I937<8,\"\")","v":""}]
[null,null,null,null,null,null,null,null,null,0,{"$f":"+_xlfn.IFS(H938>8,\"udgår\",I938>8,\"udgår\",H938<8,\"\",I938<8,\"\")","v":""}]
[null,null,null,null,null,null,null,null,null,0,{"$f":"+_xlfn.IFS(H939>8,\"udgår\",I939>8,\"udgår\",H939<8,\"\",I939<8,\"\")","v":""}]
[null,null,null,null,null,null,null,null,null,0,{"$f":"+_xlfn.IFS(H940>8,\"udgår\",I940>8,\"udgår\",H940<8,\"\",I940<8,\"\")","v":""}]
[null,null,null,null,null,null,null,null,null,0,{"$f":"+_xlfn.IFS(H941>8,\"udgår\",I941>8,\"udgår\",H941<8,\"\",I941<8,\"\")","v":""}]
[null,null,null,null,null,null,null,null,null,0,{"$f":"+_xlfn.IFS(H942>8,\"udgår\",I942>8,\"udgår\",H942<8,\"\",I942<8,\"\")","v":""}]
[null,null,null,null,null,null,null,null,null,0,{"$f":"+_xlfn.IFS(H943>8,\"udgår\",I943>8,\"udgår\",H943<8,\"\",I943<8,\"\")","v":""}]
[null,null,null,null,null,null,null,null,null,0,{"$f":"+_xlfn.IFS(H944>8,\"udgår\",I944>8,\"udgår\",H944<8,\"\",I944<8,\"\")","v":""}]
[null,null,null,null,null,null,null,null,null,0,{"$f":"+_xlfn.IFS(H945>8,\"udgår\",I945>8,\"udgår\",H945<8,\"\",I945<8,\"\")","v":""}]
[null,null,null,null,null,null,null,null,null,0,{"$f":"+_xlfn.IFS(H946>8,\"udgår\",I946>8,\"udgår\",H946<8,\"\",I946<8,\"\")","v":""}]
[null,null,null,null,null,null,null,null,null,0,{"$f":"+_xlfn.IFS(H947>8,\"udgår\",I947>8,\"udgår\",H947<8,\"\",I947<8,\"\")","v":""}]
[null,null,null,null,null,null,null,null,null,0,{"$f":"+_xlfn.IFS(H948>8,\"udgår\",I948>8,\"udgår\",H948<8,\"\",I948<8,\"\")","v":""}]
[null,null,null,null,null,null,null,null,null,0,{"$f":"+_xlfn.IFS(H949>8,\"udgår\",I949>8,\"udgår\",H949<8,\"\",I949<8,\"\")","v":""}]
[null,null,null,null,null,null,null,null,null,0,{"$f":"+_xlfn.IFS(H950>8,\"udgår\",I950>8,\"udgår\",H950<8,\"\",I950<8,\"\")","v":""}]
[null,null,null,null,null,null,null,null,null,0,{"$f":"+_xlfn.IFS(H951>8,\"udgår\",I951>8,\"udgår\",H951<8,\"\",I951<8,\"\")","v":""}]
[null,null,null,null,null,null,null,null,null,0,{"$f":"+_xlfn.IFS(H952>8,\"udgår\",I952>8,\"udgår\",H952<8,\"\",I952<8,\"\")","v":""}]
[null,null,null,null,null,null,null,null,null,0,{"$f":"+_xlfn.IFS(H953>8,\"udgår\",I953>8,\"udgår\",H953<8,\"\",I953<8,\"\")","v":""}]
[null,null,null,null,null,null,null,null,null,0,{"$f":"+_xlfn.IFS(H954>8,\"udgår\",I954>8,\"udgår\",H954<8,\"\",I954<8,\"\")","v":""}]
[null,null,null,null,null,null,null,null,null,0,{"$f":"+_xlfn.IFS(H955>8,\"udgår\",I955>8,\"udgår\",H955<8,\"\",I955<8,\"\")","v":""}]
[null,null,null,null,null,null,null,null,null,0,{"$f":"+_xlfn.IFS(H956>8,\"udgår\",I956>8,\"udgår\",H956<8,\"\",I956<8,\"\")","v":""}]
[null,null,null,null,null,null,null,null,null,0,{"$f":"+_xlfn.IFS(H957>8,\"udgår\",I957>8,\"udgår\",H957<8,\"\",I957<8,\"\")","v":""}]
[null,null,null,null,null,null,null,null,null,0,{"$f":"+_xlfn.IFS(H958>8,\"udgår\",I958>8,\"udgår\",H958<8,\"\",I958<8,\"\")","v":""}]
[null,null,null,null,null,null,null,null,null,0,{"$f":"+_xlfn.IFS(H959>8,\"udgår\",I959>8,\"udgår\",H959<8,\"\",I959<8,\"\")","v":""}]
[null,null,null,null,null,null,null,null,null,0,{"$f":"+_xlfn.IFS(H960>8,\"udgår\",I960>8,\"udgår\",H960<8,\"\",I960<8,\"\")","v":""}]
[null,null,null,null,null,null,null,null,null,0,{"$f":"+_xlfn.IFS(H961>8,\"udgår\",I961>8,\"udgår\",H961<8,\"\",I961<8,\"\")","v":""}]
[null,null,null,null,null,null,null,null,null,0,{"$f":"+_xlfn.IFS(H962>8,\"udgår\",I962>8,\"udgår\",H962<8,\"\",I962<8,\"\")","v":""}]
[null,null,null,null,null,null,null,null,null,{"$f":"+D963-F963","v":0},{"$f":"+_xlfn.IFS(H963>8,\"udgår\",I963>8,\"udgår\",H963<8,\"\",I963<8,\"\")","v":""}]
[null,null,null,null,null,null,null,null,null,0,{"$f":"+_xlfn.IFS(H964>8,\"udgår\",I964>8,\"udgår\",H964<8,\"\",I964<8,\"\")","v":""}]
[null,null,null,null,null,null,null,null,null,0,{"$f":"+_xlfn.IFS(H965>8,\"udgår\",I965>8,\"udgår\",H965<8,\"\",I965<8,\"\")","v":""}]
[null,null,null,null,null,null,null,null,null,0,{"$f":"+_xlfn.IFS(H966>8,\"udgår\",I966>8,\"udgår\",H966<8,\"\",I966<8,\"\")","v":""}]
[null,null,null,null,null,null,null,null,null,0,{"$f":"+_xlfn.IFS(H967>8,\"udgår\",I967>8,\"udgår\",H967<8,\"\",I967<8,\"\")","v":""}]
[null,null,null,null,null,null,null,null,null,0,{"$f":"+_xlfn.IFS(H968>8,\"udgår\",I968>8,\"udgår\",H968<8,\"\",I968<8,\"\")","v":""}]
[null,null,null,null,null,null,null,null,null,0,{"$f":"+_xlfn.IFS(H969>8,\"udgår\",I969>8,\"udgår\",H969<8,\"\",I969<8,\"\")","v":""}]
[null,null,null,null,null,null,null,null,null,0,{"$f":"+_xlfn.IFS(H970>8,\"udgår\",I970>8,\"udgår\",H970<8,\"\",I970<8,\"\")","v":""}]
[null,null,null,null,null,null,null,null,null,0,{"$f":"+_xlfn.IFS(H971>8,\"udgår\",I971>8,\"udgår\",H971<8,\"\",I971<8,\"\")","v":""}]
[null,null,null,null,null,null,null,null,null,0,{"$f":"+_xlfn.IFS(H972>8,\"udgår\",I972>8,\"udgår\",H972<8,\"\",I972<8,\"\")","v":""}]
[null,null,null,null,null,null,null,null,null,0,{"$f":"+_xlfn.IFS(H973>8,\"udgår\",I973>8,\"udgår\",H973<8,\"\",I973<8,\"\")","v":""}]
[null,null,null,null,null,null,null,null,null,0,{"$f":"+_xlfn.IFS(H974>8,\"udgår\",I974>8,\"udgår\",H974<8,\"\",I974<8,\"\")","v":""}]
[null,null,null,null,null,null,null,null,null,0,{"$f":"+_xlfn.IFS(H975>8,\"udgår\",I975>8,\"udgår\",H975<8,\"\",I975<8,\"\")","v":""}]
[null,null,null,null,null,null,null,null,null,0,{"$f":"+_xlfn.IFS(H976>8,\"udgår\",I976>8,\"udgår\",H976<8,\"\",I976<8,\"\")","v":""}]
[null,null,null,null,null,null,null,null,null,0,{"$f":"+_xlfn.IFS(H977>8,\"udgår\",I977>8,\"udgår\",H977<8,\"\",I977<8,\"\")","v":""}]
[null,null,null,null,null,null,null,null,null,0,{"$f":"+_xlfn.IFS(H978>8,\"udgår\",I978>8,\"udgår\",H978<8,\"\",I978<8,\"\")","v":""}]
[null,null,null,null,null,null,null,null,null,0,{"$f":"+_xlfn.IFS(H979>8,\"udgår\",I979>8,\"udgår\",H979<8,\"\",I979<8,\"\")","v":""}]
[null,null,null,null,null,null,null,null,null,0,{"$f":"+_xlfn.IFS(H980>8,\"udgår\",I980>8,\"udgår\",H980<8,\"\",I980<8,\"\")","v":""}]
[null,null,null,null,null,null,null,null,null,0,{"$f":"+_xlfn.IFS(H981>8,\"udgår\",I981>8,\"udgår\",H981<8,\"\",I981<8,\"\")","v":""}]
[null,null,null,null,null,null,null,null,null,0,{"$f":"+_xlfn.IFS(H982>8,\"udgår\",I982>8,\"udgår\",H982<8,\"\",I982<8,\"\")","v":""}]
[null,null,null,null,null,null,null,null,null,0,{"$f":"+_xlfn.IFS(H983>8,\"udgår\",I983>8,\"udgår\",H983<8,\"\",I983<8,\"\")","v":""}]
[null,null,null,null,null,null,null,null,null,0,{"$f":"+_xlfn.IFS(H984>8,\"udgår\",I984>8,\"udgår\",H984<8,\"\",I984<8,\"\")","v":""}]
[null,null,null,null,null,null,null,null,null,0,{"$f":"+_xlfn.IFS(H985>8,\"udgår\",I985>8,\"udgår\",H985<8,\"\",I985<8,\"\")","v":""}]
[null,null,null,null,null,null,null,null,null,0,{"$f":"+_xlfn.IFS(H986>8,\"udgår\",I986>8,\"udgår\",H986<8,\"\",I986<8,\"\")","v":""}]
[null,null,null,null,null,null,null,null,null,0,{"$f":"+_xlfn.IFS(H987>8,\"udgår\",I987>8,\"udgår\",H987<8,\"\",I987<8,\"\")","v":""}]
[null,null,null,null,null,null,null,null,null,0,{"$f":"+_xlfn.IFS(H988>8,\"udgår\",I988>8,\"udgår\",H988<8,\"\",I988<8,\"\")","v":""}]
[null,null,null,null,null,null,null,null,null,0,{"$f":"+_xlfn.IFS(H989>8,\"udgår\",I989>8,\"udgår\",H989<8,\"\",I989<8,\"\")","v":""}]
[null,null,null,null,null,null,null,null,null,0,{"$f":"+_xlfn.IFS(H990>8,\"udgår\",I990>8,\"udgår\",H990<8,\"\",I990<8,\"\")","v":""}]
[null,null,null,null,null,null,null,null,null,0,{"$f":"+_xlfn.IFS(H991>8,\"udgår\",I991>8,\"udgår\",H991<8,\"\",I991<8,\"\")","v":""}]
[null,null,null,null,null,null,null,null,null,0,{"$f":"+_xlfn.IFS(H992>8,\"udgår\",I992>8,\"udgår\",H992<8,\"\",I992<8,\"\")","v":""}]
[null,null,null,null,null,null,null,null,null,0,{"$f":"+_xlfn.IFS(H993>8,\"udgår\",I993>8,\"udgår\",H993<8,\"\",I993<8,\"\")","v":""}]
[null,null,null,null,null,null,null,null,null,0,{"$f":"+_xlfn.IFS(H994>8,\"udgår\",I994>8,\"udgår\",H994<8,\"\",I994<8,\"\")","v":""}]
[null,null,null,null,null,null,null,null,null,0,{"$f":"+_xlfn.IFS(H995>8,\"udgår\",I995>8,\"udgår\",H995<8,\"\",I995<8,\"\")","v":""}]
[null,null,null,null,null,null,null,null,null,0,{"$f":"+_xlfn.IFS(H996>8,\"udgår\",I996>8,\"udgår\",H996<8,\"\",I996<8,\"\")","v":""}]
[null,null,null,null,null,null,null,null,null,0,{"$f":"+_xlfn.IFS(H997>8,\"udgår\",I997>8,\"udgår\",H997<8,\"\",I997<8,\"\")","v":""}]
[null,null,null,null,null,null,null,null,null,0,{"$f":"+_xlfn.IFS(H998>8,\"udgår\",I998>8,\"udgår\",H998<8,\"\",I998<8,\"\")","v":""}]
[null,null,null,null,null,null,null,null,null,0,{"$f":"+_xlfn.IFS(H999>8,\"udgår\",I999>8,\"udgår\",H999<8,\"\",I999<8,\"\")","v":""}]
[null,null,null,null,null,null,null,null,null,0,{"$f":"+_xlfn.IFS(H1000>8,\"udgår\",I1000>8,\"udgår\",H1000<8,\"\",I1000<8,\"\")","v":""}]
[null,null,null,null,null,null,null,null,null,0,{"$f":"+_xlfn.IFS(H1001>8,\"udgår\",I1001>8,\"udgår\",H1001<8,\"\",I1001<8,\"\")","v":""}]
[null,null,null,null,null,null,null,null,null,0,{"$f":"+_xlfn.IFS(H1002>8,\"udgår\",I1002>8,\"udgår\",H1002<8,\"\",I1002<8,\"\")","v":""}]
[null,null,null,null,null,null,null,null,null,0,{"$f":"+_xlfn.IFS(H1003>8,\"udgår\",I1003>8,\"udgår\",H1003<8,\"\",I1003<8,\"\")","v":""}]
[null,null,null,null,null,null,null,null,null,0,{"$f":"+_xlfn.IFS(H1004>8,\"udgår\",I1004>8,\"udgår\",H1004<8,\"\",I1004<8,\"\")","v":""}]
[null,null,null,null,null,null,null,null,null,0,{"$f":"+_xlfn.IFS(H1005>8,\"udgår\",I1005>8,\"udgår\",H1005<8,\"\",I1005<8,\"\")","v":""}]
[null,null,null,null,null,null,null,null,null,0,{"$f":"+_xlfn.IFS(H1006>8,\"udgår\",I1006>8,\"udgår\",H1006<8,\"\",I1006<8,\"\")","v":""}]
[null,null,null,null,null,null,null,null,null,0,{"$f":"+_xlfn.IFS(H1007>8,\"udgår\",I1007>8,\"udgår\",H1007<8,\"\",I1007<8,\"\")","v":""}]
[null,null,null,null,null,null,null,null,null,0,{"$f":"+_xlfn.IFS(H1008>8,\"udgår\",I1008>8,\"udgår\",H1008<8,\"\",I1008<8,\"\")","v":""}]
[null,null,null,null,null,null,null,null,null,0,{"$f":"+_xlfn.IFS(H1009>8,\"udgår\",I1009>8,\"udgår\",H1009<8,\"\",I1009<8,\"\")","v":""}]
[null,null,null,null,null,null,null,null,null,0,{"$f":"+_xlfn.IFS(H1010>8,\"udgår\",I1010>8,\"udgår\",H1010<8,\"\",I1010<8,\"\")","v":""}]
[null,null,null,null,null,null,null,null,null,0,{"$f":"+_xlfn.IFS(H1011>8,\"udgår\",I1011>8,\"udgår\",H1011<8,\"\",I1011<8,\"\")","v":""}]
[null,null,null,null,null,null,null,null,null,0,{"$f":"+_xlfn.IFS(H1012>8,\"udgår\",I1012>8,\"udgår\",H1012<8,\"\",I1012<8,\"\")","v":""}]
[null,null,null,null,null,null,null,null,null,0,{"$f":"+_xlfn.IFS(H1013>8,\"udgår\",I1013>8,\"udgår\",H1013<8,\"\",I1013<8,\"\")","v":""}]
[null,null,null,null,null,null,null,null,null,0,{"$f":"+_xlfn.IFS(H1014>8,\"udgår\",I1014>8,\"udgår\",H1014<8,\"\",I1014<8,\"\")","v":""}]
[null,null,null,null,null,null,null,null,null,0,{"$f":"+_xlfn.IFS(H1015>8,\"udgår\",I1015>8,\"udgår\",H1015<8,\"\",I1015<8,\"\")","v":""}]
[null,null,null,null,null,null,null,null,null,0,{"$f":"+_xlfn.IFS(H1016>8,\"udgår\",I1016>8,\"udgår\",H1016<8,\"\",I1016<8,\"\")","v":""}]
[null,null,null,null,null,null,null,null,null,0,{"$f":"+_xlfn.IFS(H1017>8,\"udgår\",I1017>8,\"udgår\",H1017<8,\"\",I1017<8,\"\")","v":""}]
[null,null,null,null,null,null,null,null,null,0,{"$f":"+_xlfn.IFS(H1018>8,\"udgår\",I1018>8,\"udgår\",H1018<8,\"\",I1018<8,\"\")","v":""}]
[null,null,null,null,null,null,null,null,null,0,{"$f":"+_xlfn.IFS(H1019>8,\"udgår\",I1019>8,\"udgår\",H1019<8,\"\",I1019<8,\"\")","v":""}]
[null,null,null,null,null,null,null,null,null,0,{"$f":"+_xlfn.IFS(H1020>8,\"udgår\",I1020>8,\"udgår\",H1020<8,\"\",I1020<8,\"\")","v":""}]
[null,null,null,null,null,null,null,null,null,0,{"$f":"+_xlfn.IFS(H1021>8,\"udgår\",I1021>8,\"udgår\",H1021<8,\"\",I1021<8,\"\")","v":""}]
[null,null,null,null,null,null,null,null,null,0,{"$f":"+_xlfn.IFS(H1022>8,\"udgår\",I1022>8,\"udgår\",H1022<8,\"\",I1022<8,\"\")","v":""}]
[null,null,null,null,null,null,null,null,null,0,{"$f":"+_xlfn.IFS(H1023>8,\"udgår\",I1023>8,\"udgår\",H1023<8,\"\",I1023<8,\"\")","v":""}]
[null,null,null,null,null,null,null,null,null,0,{"$f":"+_xlfn.IFS(H1024>8,\"udgår\",I1024>8,\"udgår\",H1024<8,\"\",I1024<8,\"\")","v":""}]
[null,null,null,null,null,null,null,null,null,0,{"$f":"+_xlfn.IFS(H1025>8,\"udgår\",I1025>8,\"udgår\",H1025<8,\"\",I1025<8,\"\")","v":""}]
[null,null,null,null,null,null,null,null,null,0,{"$f":"+_xlfn.IFS(H1026>8,\"udgår\",I1026>8,\"udgår\",H1026<8,\"\",I1026<8,\"\")","v":""}]
[null,null,null,null,null,null,null,null,null,{"$f":"+D1027-F1027","v":0},{"$f":"+_xlfn.IFS(H1027>8,\"udgår\",I1027>8,\"udgår\",H1027<8,\"\",I1027<8,\"\")","v":""}]
[null,null,null,null,null,null,null,null,null,0,{"$f":"+_xlfn.IFS(H1028>8,\"udgår\",I1028>8,\"udgår\",H1028<8,\"\",I1028<8,\"\")","v":""}]
[null,null,null,null,null,null,null,null,null,0,{"$f":"+_xlfn.IFS(H1029>8,\"udgår\",I1029>8,\"udgår\",H1029<8,\"\",I1029<8,\"\")","v":""}]
[null,null,null,null,null,null,null,null,null,0,{"$f":"+_xlfn.IFS(H1030>8,\"udgår\",I1030>8,\"udgår\",H1030<8,\"\",I1030<8,\"\")","v":""}]
[null,null,null,null,null,null,null,null,null,0,{"$f":"+_xlfn.IFS(H1031>8,\"udgår\",I1031>8,\"udgår\",H1031<8,\"\",I1031<8,\"\")","v":""}]
[null,null,null,null,null,null,null,null,null,0,{"$f":"+_xlfn.IFS(H1032>8,\"udgår\",I1032>8,\"udgår\",H1032<8,\"\",I1032<8,\"\")","v":""}]
[null,null,null,null,null,null,null,null,null,0,{"$f":"+_xlfn.IFS(H1033>8,\"udgår\",I1033>8,\"udgår\",H1033<8,\"\",I1033<8,\"\")","v":""}]
[null,null,null,null,null,null,null,null,null,0,{"$f":"+_xlfn.IFS(H1034>8,\"udgår\",I1034>8,\"udgår\",H1034<8,\"\",I1034<8,\"\")","v":""}]
[null,null,null,null,null,null,null,null,null,0,{"$f":"+_xlfn.IFS(H1035>8,\"udgår\",I1035>8,\"udgår\",H1035<8,\"\",I1035<8,\"\")","v":""}]
[null,null,null,null,null,null,null,null,null,0,{"$f":"+_xlfn.IFS(H1036>8,\"udgår\",I1036>8,\"udgår\",H1036<8,\"\",I1036<8,\"\")","v":""}]
[null,null,null,null,null,null,null,null,null,0,{"$f":"+_xlfn.IFS(H1037>8,\"udgår\",I1037>8,\"udgår\",H1037<8,\"\",I1037<8,\"\")","v":""}]
[null,null,null,null,null,null,null,null,null,0,{"$f":"+_xlfn.IFS(H1038>8,\"udgår\",I1038>8,\"udgår\",H1038<8,\"\",I1038<8,\"\")","v":""}]
[null,null,null,null,null,null,null,null,null,0,{"$f":"+_xlfn.IFS(H1039>8,\"udgår\",I1039>8,\"udgår\",H1039<8,\"\",I1039<8,\"\")","v":""}]
[null,null,null,null,null,null,null,null,null,0,{"$f":"+_xlfn.IFS(H1040>8,\"udgår\",I1040>8,\"udgår\",H1040<8,\"\",I1040<8,\"\")","v":""}]
[null,null,null,null,null,null,null,null,null,0,{"$f":"+_xlfn.IFS(H1041>8,\"udgår\",I1041>8,\"udgår\",H1041<8,\"\",I1041<8,\"\")","v":""}]
[null,null,null,null,null,null,null,null,null,0,{"$f":"+_xlfn.IFS(H1042>8,\"udgår\",I1042>8,\"udgår\",H1042<8,\"\",I1042<8,\"\")","v":""}]
[null,null,null,null,null,null,null,null,null,0,{"$f":"+_xlfn.IFS(H1043>8,\"udgår\",I1043>8,\"udgår\",H1043<8,\"\",I1043<8,\"\")","v":""}]
[null,null,null,null,null,null,null,null,null,0,{"$f":"+_xlfn.IFS(H1044>8,\"udgår\",I1044>8,\"udgår\",H1044<8,\"\",I1044<8,\"\")","v":""}]
[null,null,null,null,null,null,null,null,null,0,{"$f":"+_xlfn.IFS(H1045>8,\"udgår\",I1045>8,\"udgår\",H1045<8,\"\",I1045<8,\"\")","v":""}]
[null,null,null,null,null,null,null,null,null,0,{"$f":"+_xlfn.IFS(H1046>8,\"udgår\",I1046>8,\"udgår\",H1046<8,\"\",I1046<8,\"\")","v":""}]
[null,null,null,null,null,null,null,null,null,0,{"$f":"+_xlfn.IFS(H1047>8,\"udgår\",I1047>8,\"udgår\",H1047<8,\"\",I1047<8,\"\")","v":""}]
[null,null,null,null,null,null,null,null,null,0,{"$f":"+_xlfn.IFS(H1048>8,\"udgår\",I1048>8,\"udgår\",H1048<8,\"\",I1048<8,\"\")","v":""}]
[null,null,null,null,null,null,null,null,null,0,{"$f":"+_xlfn.IFS(H1049>8,\"udgår\",I1049>8,\"udgår\",H1049<8,\"\",I1049<8,\"\")","v":""}]
[null,null,null,null,null,null,null,null,null,0,{"$f":"+_xlfn.IFS(H1050>8,\"udgår\",I1050>8,\"udgår\",H1050<8,\"\",I1050<8,\"\")","v":""}]
[null,null,null,null,null,null,null,null,null,0,{"$f":"+_xlfn.IFS(H1051>8,\"udgår\",I1051>8,\"udgår\",H1051<8,\"\",I1051<8,\"\")","v":""}]
[null,null,null,null,null,null,null,null,null,0,{"$f":"+_xlfn.IFS(H1052>8,\"udgår\",I1052>8,\"udgår\",H1052<8,\"\",I1052<8,\"\")","v":""}]
[null,null,null,null,null,null,null,null,null,0,{"$f":"+_xlfn.IFS(H1053>8,\"udgår\",I1053>8,\"udgår\",H1053<8,\"\",I1053<8,\"\")","v":""}]
[null,null,null,null,null,null,null,null,null,0,{"$f":"+_xlfn.IFS(H1054>8,\"udgår\",I1054>8,\"udgår\",H1054<8,\"\",I1054<8,\"\")","v":""}]
[null,null,null,null,null,null,null,null,null,0,{"$f":"+_xlfn.IFS(H1055>8,\"udgår\",I1055>8,\"udgår\",H1055<8,\"\",I1055<8,\"\")","v":""}]
[null,null,null,null,null,null,null,null,null,0,{"$f":"+_xlfn.IFS(H1056>8,\"udgår\",I1056>8,\"udgår\",H1056<8,\"\",I1056<8,\"\")","v":""}]
[null,null,null,null,null,null,null,null,null,0,{"$f":"+_xlfn.IFS(H1057>8,\"udgår\",I1057>8,\"udgår\",H1057<8,\"\",I1057<8,\"\")","v":""}]
[null,null,null,null,null,null,null,null,null,0,{"$f":"+_xlfn.IFS(H1058>8,\"udgår\",I1058>8,\"udgår\",H1058<8,\"\",I1058<8,\"\")","v":""}]
[null,null,null,null,null,null,null,null,null,0,{"$f":"+_xlfn.IFS(H1059>8,\"udgår\",I1059>8,\"udgår\",H1059<8,\"\",I1059<8,\"\")","v":""}]
[null,null,null,null,null,null,null,null,null,0,{"$f":"+_xlfn.IFS(H1060>8,\"udgår\",I1060>8,\"udgår\",H1060<8,\"\",I1060<8,\"\")","v":""}]
[null,null,null,null,null,null,null,null,null,0,{"$f":"+_xlfn.IFS(H1061>8,\"udgår\",I1061>8,\"udgår\",H1061<8,\"\",I1061<8,\"\")","v":""}]
[null,null,null,null,null,null,null,null,null,0,{"$f":"+_xlfn.IFS(H1062>8,\"udgår\",I1062>8,\"udgår\",H1062<8,\"\",I1062<8,\"\")","v":""}]
[null,null,null,null,null,null,null,null,null,0,{"$f":"+_xlfn.IFS(H1063>8,\"udgår\",I1063>8,\"udgår\",H1063<8,\"\",I1063<8,\"\")","v":""}]
[null,null,null,null,null,null,null,null,null,0,{"$f":"+_xlfn.IFS(H1064>8,\"udgår\",I1064>8,\"udgår\",H1064<8,\"\",I1064<8,\"\")","v":""}]
[null,null,null,null,null,null,null,null,null,0,{"$f":"+_xlfn.IFS(H1065>8,\"udgår\",I1065>8,\"udgår\",H1065<8,\"\",I1065<8,\"\")","v":""}]
[null,null,null,null,null,null,null,null,null,0,{"$f":"+_xlfn.IFS(H1066>8,\"udgår\",I1066>8,\"udgår\",H1066<8,\"\",I1066<8,\"\")","v":""}]
[null,null,null,null,null,null,null,null,null,0,{"$f":"+_xlfn.IFS(H1067>8,\"udgår\",I1067>8,\"udgår\",H1067<8,\"\",I1067<8,\"\")","v":""}]
[null,null,null,null,null,null,null,null,null,0,{"$f":"+_xlfn.IFS(H1068>8,\"udgår\",I1068>8,\"udgår\",H1068<8,\"\",I1068<8,\"\")","v":""}]
[null,null,null,null,null,null,null,null,null,0,{"$f":"+_xlfn.IFS(H1069>8,\"udgår\",I1069>8,\"udgår\",H1069<8,\"\",I1069<8,\"\")","v":""}]
[null,null,null,null,null,null,null,null,null,0,{"$f":"+_xlfn.IFS(H1070>8,\"udgår\",I1070>8,\"udgår\",H1070<8,\"\",I1070<8,\"\")","v":""}]
[null,null,null,null,null,null,null,null,null,0,{"$f":"+_xlfn.IFS(H1071>8,\"udgår\",I1071>8,\"udgår\",H1071<8,\"\",I1071<8,\"\")","v":""}]
[null,null,null,null,null,null,null,null,null,0,{"$f":"+_xlfn.IFS(H1072>8,\"udgår\",I1072>8,\"udgår\",H1072<8,\"\",I1072<8,\"\")","v":""}]
[null,null,null,null,null,null,null,null,null,0,{"$f":"+_xlfn.IFS(H1073>8,\"udgår\",I1073>8,\"udgår\",H1073<8,\"\",I1073<8,\"\")","v":""}]
[null,null,null,null,null,null,null,null,null,0,{"$f":"+_xlfn.IFS(H1074>8,\"udgår\",I1074>8,\"udgår\",H1074<8,\"\",I1074<8,\"\")","v":""}]
[null,null,null,null,null,null,null,null,null,0,{"$f":"+_xlfn.IFS(H1075>8,\"udgår\",I1075>8,\"udgår\",H1075<8,\"\",I1075<8,\"\")","v":""}]
[null,null,null,null,null,null,null,null,null,0,{"$f":"+_xlfn.IFS(H1076>8,\"udgår\",I1076>8,\"udgår\",H1076<8,\"\",I1076<8,\"\")","v":""}]
[null,null,null,null,null,null,null,null,null,0,{"$f":"+_xlfn.IFS(H1077>8,\"udgår\",I1077>8,\"udgår\",H1077<8,\"\",I1077<8,\"\")","v":""}]
[null,null,null,null,null,null,null,null,null,0,{"$f":"+_xlfn.IFS(H1078>8,\"udgår\",I1078>8,\"udgår\",H1078<8,\"\",I1078<8,\"\")","v":""}]
[null,null,null,null,null,null,null,null,null,0,{"$f":"+_xlfn.IFS(H1079>8,\"udgår\",I1079>8,\"udgår\",H1079<8,\"\",I1079<8,\"\")","v":""}]
[null,null,null,null,null,null,null,null,null,0,{"$f":"+_xlfn.IFS(H1080>8,\"udgår\",I1080>8,\"udgår\",H1080<8,\"\",I1080<8,\"\")","v":""}]
[null,null,null,null,null,null,null,null,null,0,{"$f":"+_xlfn.IFS(H1081>8,\"udgår\",I1081>8,\"udgår\",H1081<8,\"\",I1081<8,\"\")","v":""}]
[null,null,null,null,null,null,null,null,null,0,{"$f":"+_xlfn.IFS(H1082>8,\"udgår\",I1082>8,\"udgår\",H1082<8,\"\",I1082<8,\"\")","v":""}]
[null,null,null,null,null,null,null,null,null,0,{"$f":"+_xlfn.IFS(H1083>8,\"udgår\",I1083>8,\"udgår\",H1083<8,\"\",I1083<8,\"\")","v":""}]
[null,null,null,null,null,null,null,null,null,0,{"$f":"+_xlfn.IFS(H1084>8,\"udgår\",I1084>8,\"udgår\",H1084<8,\"\",I1084<8,\"\")","v":""}]
[null,null,null,null,null,null,null,null,null,0,{"$f":"+_xlfn.IFS(H1085>8,\"udgår\",I1085>8,\"udgår\",H1085<8,\"\",I1085<8,\"\")","v":""}]
[null,null,null,null,null,null,null,null,null,0,{"$f":"+_xlfn.IFS(H1086>8,\"udgår\",I1086>8,\"udgår\",H1086<8,\"\",I1086<8,\"\")","v":""}]
[null,null,null,null,null,null,null,null,null,0,{"$f":"+_xlfn.IFS(H1087>8,\"udgår\",I1087>8,\"udgår\",H1087<8,\"\",I1087<8,\"\")","v":""}]
[null,null,null,null,null,null,null,null,null,0,{"$f":"+_xlfn.IFS(H1088>8,\"udgår\",I1088>8,\"udgår\",H1088<8,\"\",I1088<8,\"\")","v":""}]
[null,null,null,null,null,null,null,null,null,0,{"$f":"+_xlfn.IFS(H1089>8,\"udgår\",I1089>8,\"udgår\",H1089<8,\"\",I1089<8,\"\")","v":""}]
[null,null,null,null,null,null,null,null,null,0,{"$f":"+_xlfn.IFS(H1090>8,\"udgår\",I1090>8,\"udgår\",H1090<8,\"\",I1090<8,\"\")","v":""}]
[null,null,null,null,null,null,null,null,null,{"$f":"+D1091-F1091","v":0},{"$f":"+_xlfn.IFS(H1091>8,\"udgår\",I1091>8,\"udgår\",H1091<8,\"\",I1091<8,\"\")","v":""}]
[null,null,null,null,null,null,null,null,null,0,{"$f":"+_xlfn.IFS(H1092>8,\"udgår\",I1092>8,\"udgår\",H1092<8,\"\",I1092<8,\"\")","v":""}]
[null,null,null,null,null,null,null,null,null,0,{"$f":"+_xlfn.IFS(H1093>8,\"udgår\",I1093>8,\"udgår\",H1093<8,\"\",I1093<8,\"\")","v":""}]
[null,null,null,null,null,null,null,null,null,0,{"$f":"+_xlfn.IFS(H1094>8,\"udgår\",I1094>8,\"udgår\",H1094<8,\"\",I1094<8,\"\")","v":""}]
[null,null,null,null,null,null,null,null,null,0,{"$f":"+_xlfn.IFS(H1095>8,\"udgår\",I1095>8,\"udgår\",H1095<8,\"\",I1095<8,\"\")","v":""}]
[null,null,null,null,null,null,null,null,null,0,{"$f":"+_xlfn.IFS(H1096>8,\"udgår\",I1096>8,\"udgår\",H1096<8,\"\",I1096<8,\"\")","v":""}]
[null,null,null,null,null,null,null,null,null,0,{"$f":"+_xlfn.IFS(H1097>8,\"udgår\",I1097>8,\"udgår\",H1097<8,\"\",I1097<8,\"\")","v":""}]
[null,null,null,null,null,null,null,null,null,0,{"$f":"+_xlfn.IFS(H1098>8,\"udgår\",I1098>8,\"udgår\",H1098<8,\"\",I1098<8,\"\")","v":""}]
[null,null,null,null,null,null,null,null,null,0,{"$f":"+_xlfn.IFS(H1099>8,\"udgår\",I1099>8,\"udgår\",H1099<8,\"\",I1099<8,\"\")","v":""}]
[null,null,null,null,null,null,null,null,null,0,{"$f":"+_xlfn.IFS(H1100>8,\"udgår\",I1100>8,\"udgår\",H1100<8,\"\",I1100<8,\"\")","v":""}]
[null,null,null,null,null,null,null,null,null,0,{"$f":"+_xlfn.IFS(H1101>8,\"udgår\",I1101>8,\"udgår\",H1101<8,\"\",I1101<8,\"\")","v":""}]
[null,null,null,null,null,null,null,null,null,0,{"$f":"+_xlfn.IFS(H1102>8,\"udgår\",I1102>8,\"udgår\",H1102<8,\"\",I1102<8,\"\")","v":""}]
[null,null,null,null,null,null,null,null,null,0,{"$f":"+_xlfn.IFS(H1103>8,\"udgår\",I1103>8,\"udgår\",H1103<8,\"\",I1103<8,\"\")","v":""}]
[null,null,null,null,null,null,null,null,null,0,{"$f":"+_xlfn.IFS(H1104>8,\"udgår\",I1104>8,\"udgår\",H1104<8,\"\",I1104<8,\"\")","v":""}]
[null,null,null,null,null,null,null,null,null,0,{"$f":"+_xlfn.IFS(H1105>8,\"udgår\",I1105>8,\"udgår\",H1105<8,\"\",I1105<8,\"\")","v":""}]
[null,null,null,null,null,null,null,null,null,0,{"$f":"+_xlfn.IFS(H1106>8,\"udgår\",I1106>8,\"udgår\",H1106<8,\"\",I1106<8,\"\")","v":""}]
[null,null,null,null,null,null,null,null,null,0,{"$f":"+_xlfn.IFS(H1107>8,\"udgår\",I1107>8,\"udgår\",H1107<8,\"\",I1107<8,\"\")","v":""}]
[null,null,null,null,null,null,null,null,null,0,{"$f":"+_xlfn.IFS(H1108>8,\"udgår\",I1108>8,\"udgår\",H1108<8,\"\",I1108<8,\"\")","v":""}]
[null,null,null,null,null,null,null,null,null,0,{"$f":"+_xlfn.IFS(H1109>8,\"udgår\",I1109>8,\"udgår\",H1109<8,\"\",I1109<8,\"\")","v":""}]
[null,null,null,null,null,null,null,null,null,0,{"$f":"+_xlfn.IFS(H1110>8,\"udgår\",I1110>8,\"udgår\",H1110<8,\"\",I1110<8,\"\")","v":""}]
[null,null,null,null,null,null,null,null,null,0,{"$f":"+_xlfn.IFS(H1111>8,\"udgår\",I1111>8,\"udgår\",H1111<8,\"\",I1111<8,\"\")","v":""}]
[null,null,null,null,null,null,null,null,null,0,{"$f":"+_xlfn.IFS(H1112>8,\"udgår\",I1112>8,\"udgår\",H1112<8,\"\",I1112<8,\"\")","v":""}]
[null,null,null,null,null,null,null,null,null,0,{"$f":"+_xlfn.IFS(H1113>8,\"udgår\",I1113>8,\"udgår\",H1113<8,\"\",I1113<8,\"\")","v":""}]
[null,null,null,null,null,null,null,null,null,0,{"$f":"+_xlfn.IFS(H1114>8,\"udgår\",I1114>8,\"udgår\",H1114<8,\"\",I1114<8,\"\")","v":""}]
[null,null,null,null,null,null,null,null,null,0,{"$f":"+_xlfn.IFS(H1115>8,\"udgår\",I1115>8,\"udgår\",H1115<8,\"\",I1115<8,\"\")","v":""}]
[null,null,null,null,null,null,null,null,null,0,{"$f":"+_xlfn.IFS(H1116>8,\"udgår\",I1116>8,\"udgår\",H1116<8,\"\",I1116<8,\"\")","v":""}]
[null,null,null,null,null,null,null,null,null,0,{"$f":"+_xlfn.IFS(H1117>8,\"udgår\",I1117>8,\"udgår\",H1117<8,\"\",I1117<8,\"\")","v":""}]
[null,null,null,null,null,null,null,null,null,0,{"$f":"+_xlfn.IFS(H1118>8,\"udgår\",I1118>8,\"udgår\",H1118<8,\"\",I1118<8,\"\")","v":""}]
[null,null,null,null,null,null,null,null,null,0,{"$f":"+_xlfn.IFS(H1119>8,\"udgår\",I1119>8,\"udgår\",H1119<8,\"\",I1119<8,\"\")","v":""}]
[null,null,null,null,null,null,null,null,null,0,{"$f":"+_xlfn.IFS(H1120>8,\"udgår\",I1120>8,\"udgår\",H1120<8,\"\",I1120<8,\"\")","v":""}]
[null,null,null,null,null,null,null,null,null,0,{"$f":"+_xlfn.IFS(H1121>8,\"udgår\",I1121>8,\"udgår\",H1121<8,\"\",I1121<8,\"\")","v":""}]
[null,null,null,null,null,null,null,null,null,0,{"$f":"+_xlfn.IFS(H1122>8,\"udgår\",I1122>8,\"udgår\",H1122<8,\"\",I1122<8,\"\")","v":""}]
[null,null,null,null,null,null,null,null,null,0,{"$f":"+_xlfn.IFS(H1123>8,\"udgår\",I1123>8,\"udgår\",H1123<8,\"\",I1123<8,\"\")","v":""}]
[null,null,null,null,null,null,null,null,null,0,{"$f":"+_xlfn.IFS(H1124>8,\"udgår\",I1124>8,\"udgår\",H1124<8,\"\",I1124<8,\"\")","v":""}]
[null,null,null,null,null,null,null,null,null,0,{"$f":"+_xlfn.IFS(H1125>8,\"udgår\",I1125>8,\"udgår\",H1125<8,\"\",I1125<8,\"\")","v":""}]
[null,null,null,null,null,null,null,null,null,0,{"$f":"+_xlfn.IFS(H1126>8,\"udgår\",I1126>8,\"udgår\",H1126<8,\"\",I1126<8,\"\")","v":""}]
[null,null,null,null,null,null,null,null,null,0,{"$f":"+_xlfn.IFS(H1127>8,\"udgår\",I1127>8,\"udgår\",H1127<8,\"\",I1127<8,\"\")","v":""}]
[null,null,null,null,null,null,null,null,null,0,{"$f":"+_xlfn.IFS(H1128>8,\"udgår\",I1128>8,\"udgår\",H1128<8,\"\",I1128<8,\"\")","v":""}]
[null,null,null,null,null,null,null,null,null,0,{"$f":"+_xlfn.IFS(H1129>8,\"udgår\",I1129>8,\"udgår\",H1129<8,\"\",I1129<8,\"\")","v":""}]
[null,null,null,null,null,null,null,null,null,0,{"$f":"+_xlfn.IFS(H1130>8,\"udgår\",I1130>8,\"udgår\",H1130<8,\"\",I1130<8,\"\")","v":""}]
[null,null,null,null,null,null,null,null,null,0,{"$f":"+_xlfn.IFS(H1131>8,\"udgår\",I1131>8,\"udgår\",H1131<8,\"\",I1131<8,\"\")","v":""}]
[null,null,null,null,null,null,null,null,null,0,{"$f":"+_xlfn.IFS(H1132>8,\"udgår\",I1132>8,\"udgår\",H1132<8,\"\",I1132<8,\"\")","v":""}]
[null,null,null,null,null,null,null,null,null,0,{"$f":"+_xlfn.IFS(H1133>8,\"udgår\",I1133>8,\"udgår\",H1133<8,\"\",I1133<8,\"\")","v":""}]
[null,null,null,null,null,null,null,null,null,0,{"$f":"+_xlfn.IFS(H1134>8,\"udgår\",I1134>8,\"udgår\",H1134<8,\"\",I1134<8,\"\")","v":""}]
[null,null,null,null,null,null,null,null,null,0,{"$f":"+_xlfn.IFS(H1135>8,\"udgår\",I1135>8,\"udgår\",H1135<8,\"\",I1135<8,\"\")","v":""}]
[null,null,null,null,null,null,null,null,null,0,{"$f":"+_xlfn.IFS(H1136>8,\"udgår\",I1136>8,\"udgår\",H1136<8,\"\",I1136<8,\"\")","v":""}]
[null,null,null,null,null,null,null,null,null,0,{"$f":"+_xlfn.IFS(H1137>8,\"udgår\",I1137>8,\"udgår\",H1137<8,\"\",I1137<8,\"\")","v":""}]
[null,null,null,null,null,null,null,null,null,0,{"$f":"+_xlfn.IFS(H1138>8,\"udgår\",I1138>8,\"udgår\",H1138<8,\"\",I1138<8,\"\")","v":""}]
[null,null,null,null,null,null,null,null,null,0,{"$f":"+_xlfn.IFS(H1139>8,\"udgår\",I1139>8,\"udgår\",H1139<8,\"\",I1139<8,\"\")","v":""}]
[null,null,null,null,null,null,null,null,null,0,{"$f":"+_xlfn.IFS(H1140>8,\"udgår\",I1140>8,\"udgår\",H1140<8,\"\",I1140<8,\"\")","v":""}]
[null,null,null,null,null,null,null,null,null,0,{"$f":"+_xlfn.IFS(H1141>8,\"udgår\",I1141>8,\"udgår\",H1141<8,\"\",I1141<8,\"\")","v":""}]
[null,null,null,null,null,null,null,null,null,0,{"$f":"+_xlfn.IFS(H1142>8,\"udgår\",I1142>8,\"udgår\",H1142<8,\"\",I1142<8,\"\")","v":""}]
[null,null,null,null,null,null,null,null,null,0,{"$f":"+_xlfn.IFS(H1143>8,\"udgår\",I1143>8,\"udgår\",H1143<8,\"\",I1143<8,\"\")","v":""}]
[null,null,null,null,null,null,null,null,null,0,{"$f":"+_xlfn.IFS(H1144>8,\"udgår\",I1144>8,\"udgår\",H1144<8,\"\",I1144<8,\"\")","v":""}]
[null,null,null,null,null,null,null,null,null,0,{"$f":"+_xlfn.IFS(H1145>8,\"udgår\",I1145>8,\"udgår\",H1145<8,\"\",I1145<8,\"\")","v":""}]
[null,null,null,null,null,null,null,null,null,0,{"$f":"+_xlfn.IFS(H1146>8,\"udgår\",I1146>8,\"udgår\",H1146<8,\"\",I1146<8,\"\")","v":""}]
[null,null,null,null,null,null,null,null,null,0,{"$f":"+_xlfn.IFS(H1147>8,\"udgår\",I1147>8,\"udgår\",H1147<8,\"\",I1147<8,\"\")","v":""}]
[null,null,null,null,null,null,null,null,null,0,{"$f":"+_xlfn.IFS(H1148>8,\"udgår\",I1148>8,\"udgår\",H1148<8,\"\",I1148<8,\"\")","v":""}]
[null,null,null,null,null,null,null,null,null,0,{"$f":"+_xlfn.IFS(H1149>8,\"udgår\",I1149>8,\"udgår\",H1149<8,\"\",I1149<8,\"\")","v":""}]
[null,null,null,null,null,null,null,null,null,0,{"$f":"+_xlfn.IFS(H1150>8,\"udgår\",I1150>8,\"udgår\",H1150<8,\"\",I1150<8,\"\")","v":""}]
[null,null,null,null,null,null,null,null,null,0,{"$f":"+_xlfn.IFS(H1151>8,\"udgår\",I1151>8,\"udgår\",H1151<8,\"\",I1151<8,\"\")","v":""}]
[null,null,null,null,null,null,null,null,null,0,{"$f":"+_xlfn.IFS(H1152>8,\"udgår\",I1152>8,\"udgår\",H1152<8,\"\",I1152<8,\"\")","v":""}]
[null,null,null,null,null,null,null,null,null,0,{"$f":"+_xlfn.IFS(H1153>8,\"udgår\",I1153>8,\"udgår\",H1153<8,\"\",I1153<8,\"\")","v":""}]
[null,null,null,null,null,null,null,null,null,0,{"$f":"+_xlfn.IFS(H1154>8,\"udgår\",I1154>8,\"udgår\",H1154<8,\"\",I1154<8,\"\")","v":""}]
[null,null,null,null,null,null,null,null,null,{"$f":"+D1155-F1155","v":0},{"$f":"+_xlfn.IFS(H1155>8,\"udgår\",I1155>8,\"udgår\",H1155<8,\"\",I1155<8,\"\")","v":""}]
[null,null,null,null,null,null,null,null,null,0,{"$f":"+_xlfn.IFS(H1156>8,\"udgår\",I1156>8,\"udgår\",H1156<8,\"\",I1156<8,\"\")","v":""}]
[null,null,null,null,null,null,null,null,null,0,{"$f":"+_xlfn.IFS(H1157>8,\"udgår\",I1157>8,\"udgår\",H1157<8,\"\",I1157<8,\"\")","v":""}]
[null,null,null,null,null,null,null,null,null,0,{"$f":"+_xlfn.IFS(H1158>8,\"udgår\",I1158>8,\"udgår\",H1158<8,\"\",I1158<8,\"\")","v":""}]
[null,null,null,null,null,null,null,null,null,0,{"$f":"+_xlfn.IFS(H1159>8,\"udgår\",I1159>8,\"udgår\",H1159<8,\"\",I1159<8,\"\")","v":""}]
[null,null,null,null,null,null,null,null,null,0,{"$f":"+_xlfn.IFS(H1160>8,\"udgår\",I1160>8,\"udgår\",H1160<8,\"\",I1160<8,\"\")","v":""}]
[null,null,null,null,null,null,null,null,null,0,{"$f":"+_xlfn.IFS(H1161>8,\"udgår\",I1161>8,\"udgår\",H1161<8,\"\",I1161<8,\"\")","v":""}]
[null,null,null,null,null,null,null,null,null,0,{"$f":"+_xlfn.IFS(H1162>8,\"udgår\",I1162>8,\"udgår\",H1162<8,\"\",I1162<8,\"\")","v":""}]
[null,null,null,null,null,null,null,null,null,0,{"$f":"+_xlfn.IFS(H1163>8,\"udgår\",I1163>8,\"udgår\",H1163<8,\"\",I1163<8,\"\")","v":""}]
[null,null,null,null,null,null,null,null,null,0,{"$f":"+_xlfn.IFS(H1164>8,\"udgår\",I1164>8,\"udgår\",H1164<8,\"\",I1164<8,\"\")","v":""}]
[null,null,null,null,null,null,null,null,null,0,{"$f":"+_xlfn.IFS(H1165>8,\"udgår\",I1165>8,\"udgår\",H1165<8,\"\",I1165<8,\"\")","v":""}]
[null,null,null,null,null,null,null,null,null,0,{"$f":"+_xlfn.IFS(H1166>8,\"udgår\",I1166>8,\"udgår\",H1166<8,\"\",I1166<8,\"\")","v":""}]
[null,null,null,null,null,null,null,null,null,0,{"$f":"+_xlfn.IFS(H1167>8,\"udgår\",I1167>8,\"udgår\",H1167<8,\"\",I1167<8,\"\")","v":""}]
[null,null,null,null,null,null,null,null,null,0,{"$f":"+_xlfn.IFS(H1168>8,\"udgår\",I1168>8,\"udgår\",H1168<8,\"\",I1168<8,\"\")","v":""}]
[null,null,null,null,null,null,null,null,null,0,{"$f":"+_xlfn.IFS(H1169>8,\"udgår\",I1169>8,\"udgår\",H1169<8,\"\",I1169<8,\"\")","v":""}]
[null,null,null,null,null,null,null,null,null,0,{"$f":"+_xlfn.IFS(H1170>8,\"udgår\",I1170>8,\"udgår\",H1170<8,\"\",I1170<8,\"\")","v":""}]
[null,null,null,null,null,null,null,null,null,0,{"$f":"+_xlfn.IFS(H1171>8,\"udgår\",I1171>8,\"udgår\",H1171<8,\"\",I1171<8,\"\")","v":""}]
[null,null,null,null,null,null,null,null,null,0,{"$f":"+_xlfn.IFS(H1172>8,\"udgår\",I1172>8,\"udgår\",H1172<8,\"\",I1172<8,\"\")","v":""}]
[null,null,null,null,null,null,null,null,null,0,{"$f":"+_xlfn.IFS(H1173>8,\"udgår\",I1173>8,\"udgår\",H1173<8,\"\",I1173<8,\"\")","v":""}]
[null,null,null,null,null,null,null,null,null,0,{"$f":"+_xlfn.IFS(H1174>8,\"udgår\",I1174>8,\"udgår\",H1174<8,\"\",I1174<8,\"\")","v":""}]
[null,null,null,null,null,null,null,null,null,0,{"$f":"+_xlfn.IFS(H1175>8,\"udgår\",I1175>8,\"udgår\",H1175<8,\"\",I1175<8,\"\")","v":""}]
[null,null,null,null,null,null,null,null,null,0,{"$f":"+_xlfn.IFS(H1176>8,\"udgår\",I1176>8,\"udgår\",H1176<8,\"\",I1176<8,\"\")","v":""}]
[null,null,null,null,null,null,null,null,null,0,{"$f":"+_xlfn.IFS(H1177>8,\"udgår\",I1177>8,\"udgår\",H1177<8,\"\",I1177<8,\"\")","v":""}]
[null,null,null,null,null,null,null,null,null,0,{"$f":"+_xlfn.IFS(H1178>8,\"udgår\",I1178>8,\"udgår\",H1178<8,\"\",I1178<8,\"\")","v":""}]
[null,null,null,null,null,null,null,null,null,0,{"$f":"+_xlfn.IFS(H1179>8,\"udgår\",I1179>8,\"udgår\",H1179<8,\"\",I1179<8,\"\")","v":""}]
[null,null,null,null,null,null,null,null,null,0,{"$f":"+_xlfn.IFS(H1180>8,\"udgår\",I1180>8,\"udgår\",H1180<8,\"\",I1180<8,\"\")","v":""}]
[null,null,null,null,null,null,null,null,null,0,{"$f":"+_xlfn.IFS(H1181>8,\"udgår\",I1181>8,\"udgår\",H1181<8,\"\",I1181<8,\"\")","v":""}]
[null,null,null,null,null,null,null,null,null,0,{"$f":"+_xlfn.IFS(H1182>8,\"udgår\",I1182>8,\"udgår\",H1182<8,\"\",I1182<8,\"\")","v":""}]
[null,null,null,null,null,null,null,null,null,0,{"$f":"+_xlfn.IFS(H1183>8,\"udgår\",I1183>8,\"udgår\",H1183<8,\"\",I1183<8,\"\")","v":""}]
[null,null,null,null,null,null,null,null,null,0,{"$f":"+_xlfn.IFS(H1184>8,\"udgår\",I1184>8,\"udgår\",H1184<8,\"\",I1184<8,\"\")","v":""}]
[null,null,null,null,null,null,null,null,null,0,{"$f":"+_xlfn.IFS(H1185>8,\"udgår\",I1185>8,\"udgår\",H1185<8,\"\",I1185<8,\"\")","v":""}]
[null,null,null,null,null,null,null,null,null,0,{"$f":"+_xlfn.IFS(H1186>8,\"udgår\",I1186>8,\"udgår\",H1186<8,\"\",I1186<8,\"\")","v":""}]
[null,null,null,null,null,null,null,null,null,0,{"$f":"+_xlfn.IFS(H1187>8,\"udgår\",I1187>8,\"udgår\",H1187<8,\"\",I1187<8,\"\")","v":""}]
[null,null,null,null,null,null,null,null,null,0,{"$f":"+_xlfn.IFS(H1188>8,\"udgår\",I1188>8,\"udgår\",H1188<8,\"\",I1188<8,\"\")","v":""}]
[null,null,null,null,null,null,null,null,null,0,{"$f":"+_xlfn.IFS(H1189>8,\"udgår\",I1189>8,\"udgår\",H1189<8,\"\",I1189<8,\"\")","v":""}]
[null,null,null,null,null,null,null,null,null,0,{"$f":"+_xlfn.IFS(H1190>8,\"udgår\",I1190>8,\"udgår\",H1190<8,\"\",I1190<8,\"\")","v":""}]
[null,null,null,null,null,null,null,null,null,0,{"$f":"+_xlfn.IFS(H1191>8,\"udgår\",I1191>8,\"udgår\",H1191<8,\"\",I1191<8,\"\")","v":""}]
[null,null,null,null,null,null,null,null,null,0,{"$f":"+_xlfn.IFS(H1192>8,\"udgår\",I1192>8,\"udgår\",H1192<8,\"\",I1192<8,\"\")","v":""}]
[null,null,null,null,null,null,null,null,null,0,{"$f":"+_xlfn.IFS(H1193>8,\"udgår\",I1193>8,\"udgår\",H1193<8,\"\",I1193<8,\"\")","v":""}]
[null,null,null,null,null,null,null,null,null,0,{"$f":"+_xlfn.IFS(H1194>8,\"udgår\",I1194>8,\"udgår\",H1194<8,\"\",I1194<8,\"\")","v":""}]
[null,null,null,null,null,null,null,null,null,0,{"$f":"+_xlfn.IFS(H1195>8,\"udgår\",I1195>8,\"udgår\",H1195<8,\"\",I1195<8,\"\")","v":""}]
[null,null,null,null,null,null,null,null,null,0,{"$f":"+_xlfn.IFS(H1196>8,\"udgår\",I1196>8,\"udgår\",H1196<8,\"\",I1196<8,\"\")","v":""}]
[null,null,null,null,null,null,null,null,null,0,{"$f":"+_xlfn.IFS(H1197>8,\"udgår\",I1197>8,\"udgår\",H1197<8,\"\",I1197<8,\"\")","v":""}]
[null,null,null,null,null,null,null,null,null,0,{"$f":"+_xlfn.IFS(H1198>8,\"udgår\",I1198>8,\"udgår\",H1198<8,\"\",I1198<8,\"\")","v":""}]
[null,null,null,null,null,null,null,null,null,0,{"$f":"+_xlfn.IFS(H1199>8,\"udgår\",I1199>8,\"udgår\",H1199<8,\"\",I1199<8,\"\")","v":""}]
[null,null,null,null,null,null,null,null,null,0,{"$f":"+_xlfn.IFS(H1200>8,\"udgår\",I1200>8,\"udgår\",H1200<8,\"\",I1200<8,\"\")","v":""}]
[null,null,null,null,null,null,null,null,null,0,{"$f":"+_xlfn.IFS(H1201>8,\"udgår\",I1201>8,\"udgår\",H1201<8,\"\",I1201<8,\"\")","v":""}]
[null,null,null,null,null,null,null,null,null,0,{"$f":"+_xlfn.IFS(H1202>8,\"udgår\",I1202>8,\"udgår\",H1202<8,\"\",I1202<8,\"\")","v":""}]
[null,null,null,null,null,null,null,null,null,0,{"$f":"+_xlfn.IFS(H1203>8,\"udgår\",I1203>8,\"udgår\",H1203<8,\"\",I1203<8,\"\")","v":""}]
[null,null,null,null,null,null,null,null,null,0,{"$f":"+_xlfn.IFS(H1204>8,\"udgår\",I1204>8,\"udgår\",H1204<8,\"\",I1204<8,\"\")","v":""}]
[null,null,null,null,null,null,null,null,null,0,{"$f":"+_xlfn.IFS(H1205>8,\"udgår\",I1205>8,\"udgår\",H1205<8,\"\",I1205<8,\"\")","v":""}]
[null,null,null,null,null,null,null,null,null,0,{"$f":"+_xlfn.IFS(H1206>8,\"udgår\",I1206>8,\"udgår\",H1206<8,\"\",I1206<8,\"\")","v":""}]
[null,null,null,null,null,null,null,null,null,0,{"$f":"+_xlfn.IFS(H1207>8,\"udgår\",I1207>8,\"udgår\",H1207<8,\"\",I1207<8,\"\")","v":""}]
[null,null,null,null,null,null,null,null,null,0,{"$f":"+_xlfn.IFS(H1208>8,\"udgår\",I1208>8,\"udgår\",H1208<8,\"\",I1208<8,\"\")","v":""}]
[null,null,null,null,null,null,null,null,null,0,{"$f":"+_xlfn.IFS(H1209>8,\"udgår\",I1209>8,\"udgår\",H1209<8,\"\",I1209<8,\"\")","v":""}]
[null,null,null,null,null,null,null,null,null,0,{"$f":"+_xlfn.IFS(H1210>8,\"udgår\",I1210>8,\"udgår\",H1210<8,\"\",I1210<8,\"\")","v":""}]
[null,null,null,null,null,null,null,null,null,0,{"$f":"+_xlfn.IFS(H1211>8,\"udgår\",I1211>8,\"udgår\",H1211<8,\"\",I1211<8,\"\")","v":""}]
[null,null,null,null,null,null,null,null,null,0,{"$f":"+_xlfn.IFS(H1212>8,\"udgår\",I1212>8,\"udgår\",H1212<8,\"\",I1212<8,\"\")","v":""}]
[null,null,null,null,null,null,null,null,null,0,{"$f":"+_xlfn.IFS(H1213>8,\"udgår\",I1213>8,\"udgår\",H1213<8,\"\",I1213<8,\"\")","v":""}]
[null,null,null,null,null,null,null,null,null,0,{"$f":"+_xlfn.IFS(H1214>8,\"udgår\",I1214>8,\"udgår\",H1214<8,\"\",I1214<8,\"\")","v":""}]
[null,null,null,null,null,null,null,null,null,0,{"$f":"+_xlfn.IFS(H1215>8,\"udgår\",I1215>8,\"udgår\",H1215<8,\"\",I1215<8,\"\")","v":""}]
[null,null,null,null,null,null,null,null,null,0,{"$f":"+_xlfn.IFS(H1216>8,\"udgår\",I1216>8,\"udgår\",H1216<8,\"\",I1216<8,\"\")","v":""}]
[null,null,null,null,null,null,null,null,null,0,{"$f":"+_xlfn.IFS(H1217>8,\"udgår\",I1217>8,\"udgår\",H1217<8,\"\",I1217<8,\"\")","v":""}]
[null,null,null,null,null,null,null,null,null,0,{"$f":"+_xlfn.IFS(H1218>8,\"udgår\",I1218>8,\"udgår\",H1218<8,\"\",I1218<8,\"\")","v":""}]
[null,null,null,null,null,null,null,null,null,{"$f":"+D1219-F1219","v":0},{"$f":"+_xlfn.IFS(H1219>8,\"udgår\",I1219>8,\"udgår\",H1219<8,\"\",I1219<8,\"\")","v":""}]
[null,null,null,null,null,null,null,null,null,0,{"$f":"+_xlfn.IFS(H1220>8,\"udgår\",I1220>8,\"udgår\",H1220<8,\"\",I1220<8,\"\")","v":""}]
[null,null,null,null,null,null,null,null,null,0,{"$f":"+_xlfn.IFS(H1221>8,\"udgår\",I1221>8,\"udgår\",H1221<8,\"\",I1221<8,\"\")","v":""}]
[null,null,null,null,null,null,null,null,null,0,{"$f":"+_xlfn.IFS(H1222>8,\"udgår\",I1222>8,\"udgår\",H1222<8,\"\",I1222<8,\"\")","v":""}]
[null,null,null,null,null,null,null,null,null,0,{"$f":"+_xlfn.IFS(H1223>8,\"udgår\",I1223>8,\"udgår\",H1223<8,\"\",I1223<8,\"\")","v":""}]
[null,null,null,null,null,null,null,null,null,0,{"$f":"+_xlfn.IFS(H1224>8,\"udgår\",I1224>8,\"udgår\",H1224<8,\"\",I1224<8,\"\")","v":""}]
[null,null,null,null,null,null,null,null,null,0,{"$f":"+_xlfn.IFS(H1225>8,\"udgår\",I1225>8,\"udgår\",H1225<8,\"\",I1225<8,\"\")","v":""}]
[null,null,null,null,null,null,null,null,null,0,{"$f":"+_xlfn.IFS(H1226>8,\"udgår\",I1226>8,\"udgår\",H1226<8,\"\",I1226<8,\"\")","v":""}]
[null,null,null,null,null,null,null,null,null,0,{"$f":"+_xlfn.IFS(H1227>8,\"udgår\",I1227>8,\"udgår\",H1227<8,\"\",I1227<8,\"\")","v":""}]
[null,null,null,null,null,null,null,null,null,0,{"$f":"+_xlfn.IFS(H1228>8,\"udgår\",I1228>8,\"udgår\",H1228<8,\"\",I1228<8,\"\")","v":""}]
[null,null,null,null,null,null,null,null,null,0,{"$f":"+_xlfn.IFS(H1229>8,\"udgår\",I1229>8,\"udgår\",H1229<8,\"\",I1229<8,\"\")","v":""}]
[null,null,null,null,null,null,null,null,null,0,{"$f":"+_xlfn.IFS(H1230>8,\"udgår\",I1230>8,\"udgår\",H1230<8,\"\",I1230<8,\"\")","v":""}]
[null,null,null,null,null,null,null,null,null,0,{"$f":"+_xlfn.IFS(H1231>8,\"udgår\",I1231>8,\"udgår\",H1231<8,\"\",I1231<8,\"\")","v":""}]
[null,null,null,null,null,null,null,null,null,0,{"$f":"+_xlfn.IFS(H1232>8,\"udgår\",I1232>8,\"udgår\",H1232<8,\"\",I1232<8,\"\")","v":""}]
[null,null,null,null,null,null,null,null,null,0,{"$f":"+_xlfn.IFS(H1233>8,\"udgår\",I1233>8,\"udgår\",H1233<8,\"\",I1233<8,\"\")","v":""}]
[null,null,null,null,null,null,null,null,null,0,{"$f":"+_xlfn.IFS(H1234>8,\"udgår\",I1234>8,\"udgår\",H1234<8,\"\",I1234<8,\"\")","v":""}]
[null,null,null,null,null,null,null,null,null,0,{"$f":"+_xlfn.IFS(H1235>8,\"udgår\",I1235>8,\"udgår\",H1235<8,\"\",I1235<8,\"\")","v":""}]
[null,null,null,null,null,null,null,null,null,0,{"$f":"+_xlfn.IFS(H1236>8,\"udgår\",I1236>8,\"udgår\",H1236<8,\"\",I1236<8,\"\")","v":""}]
[null,null,null,null,null,null,null,null,null,0,{"$f":"+_xlfn.IFS(H1237>8,\"udgår\",I1237>8,\"udgår\",H1237<8,\"\",I1237<8,\"\")","v":""}]
[null,null,null,null,null,null,null,null,null,0,{"$f":"+_xlfn.IFS(H1238>8,\"udgår\",I1238>8,\"udgår\",H1238<8,\"\",I1238<8,\"\")","v":""}]
[null,null,null,null,null,null,null,null,null,0,{"$f":"+_xlfn.IFS(H1239>8,\"udgår\",I1239>8,\"udgår\",H1239<8,\"\",I1239<8,\"\")","v":""}]
[null,null,null,null,null,null,null,null,null,0,{"$f":"+_xlfn.IFS(H1240>8,\"udgår\",I1240>8,\"udgår\",H1240<8,\"\",I1240<8,\"\")","v":""}]
[null,null,null,null,null,null,null,null,null,0,{"$f":"+_xlfn.IFS(H1241>8,\"udgår\",I1241>8,\"udgår\",H1241<8,\"\",I1241<8,\"\")","v":""}]
[null,null,null,null,null,null,null,null,null,0,{"$f":"+_xlfn.IFS(H1242>8,\"udgår\",I1242>8,\"udgår\",H1242<8,\"\",I1242<8,\"\")","v":""}]
[null,null,null,null,null,null,null,null,null,0,{"$f":"+_xlfn.IFS(H1243>8,\"udgår\",I1243>8,\"udgår\",H1243<8,\"\",I1243<8,\"\")","v":""}]
[null,null,null,null,null,null,null,null,null,0,{"$f":"+_xlfn.IFS(H1244>8,\"udgår\",I1244>8,\"udgår\",H1244<8,\"\",I1244<8,\"\")","v":""}]
[null,null,null,null,null,null,null,null,null,0,{"$f":"+_xlfn.IFS(H1245>8,\"udgår\",I1245>8,\"udgår\",H1245<8,\"\",I1245<8,\"\")","v":""}]
[null,null,null,null,null,null,null,null,null,0,{"$f":"+_xlfn.IFS(H1246>8,\"udgår\",I1246>8,\"udgår\",H1246<8,\"\",I1246<8,\"\")","v":""}]
[null,null,null,null,null,null,null,null,null,0,{"$f":"+_xlfn.IFS(H1247>8,\"udgår\",I1247>8,\"udgår\",H1247<8,\"\",I1247<8,\"\")","v":""}]
[null,null,null,null,null,null,null,null,null,0,{"$f":"+_xlfn.IFS(H1248>8,\"udgår\",I1248>8,\"udgår\",H1248<8,\"\",I1248<8,\"\")","v":""}]
[null,null,null,null,null,null,null,null,null,0,{"$f":"+_xlfn.IFS(H1249>8,\"udgår\",I1249>8,\"udgår\",H1249<8,\"\",I1249<8,\"\")","v":""}]
[null,null,null,null,null,null,null,null,null,0,{"$f":"+_xlfn.IFS(H1250>8,\"udgår\",I1250>8,\"udgår\",H1250<8,\"\",I1250<8,\"\")","v":""}]
[null,null,null,null,null,null,null,null,null,0,{"$f":"+_xlfn.IFS(H1251>8,\"udgår\",I1251>8,\"udgår\",H1251<8,\"\",I1251<8,\"\")","v":""}]
[null,null,null,null,null,null,null,null,null,0,{"$f":"+_xlfn.IFS(H1252>8,\"udgår\",I1252>8,\"udgår\",H1252<8,\"\",I1252<8,\"\")","v":""}]
[null,null,null,null,null,null,null,null,null,0,{"$f":"+_xlfn.IFS(H1253>8,\"udgår\",I1253>8,\"udgår\",H1253<8,\"\",I1253<8,\"\")","v":""}]
[null,null,null,null,null,null,null,null,null,0,{"$f":"+_xlfn.IFS(H1254>8,\"udgår\",I1254>8,\"udgår\",H1254<8,\"\",I1254<8,\"\")","v":""}]
[null,null,null,null,null,null,null,null,null,0,{"$f":"+_xlfn.IFS(H1255>8,\"udgår\",I1255>8,\"udgår\",H1255<8,\"\",I1255<8,\"\")","v":""}]
[null,null,null,null,null,null,null,null,null,0,{"$f":"+_xlfn.IFS(H1256>8,\"udgår\",I1256>8,\"udgår\",H1256<8,\"\",I1256<8,\"\")","v":""}]
[null,null,null,null,null,null,null,null,null,0,{"$f":"+_xlfn.IFS(H1257>8,\"udgår\",I1257>8,\"udgår\",H1257<8,\"\",I1257<8,\"\")","v":""}]
[null,null,null,null,null,null,null,null,null,0,{"$f":"+_xlfn.IFS(H1258>8,\"udgår\",I1258>8,\"udgår\",H1258<8,\"\",I1258<8,\"\")","v":""}]
[null,null,null,null,null,null,null,null,null,0,{"$f":"+_xlfn.IFS(H1259>8,\"udgår\",I1259>8,\"udgår\",H1259<8,\"\",I1259<8,\"\")","v":""}]
[null,null,null,null,null,null,null,null,null,0,{"$f":"+_xlfn.IFS(H1260>8,\"udgår\",I1260>8,\"udgår\",H1260<8,\"\",I1260<8,\"\")","v":""}]
[null,null,null,null,null,null,null,null,null,0,{"$f":"+_xlfn.IFS(H1261>8,\"udgår\",I1261>8,\"udgår\",H1261<8,\"\",I1261<8,\"\")","v":""}]
[null,null,null,null,null,null,null,null,null,0,{"$f":"+_xlfn.IFS(H1262>8,\"udgår\",I1262>8,\"udgår\",H1262<8,\"\",I1262<8,\"\")","v":""}]
[null,null,null,null,null,null,null,null,null,0,{"$f":"+_xlfn.IFS(H1263>8,\"udgår\",I1263>8,\"udgår\",H1263<8,\"\",I1263<8,\"\")","v":""}]
[null,null,null,null,null,null,null,null,null,0,{"$f":"+_xlfn.IFS(H1264>8,\"udgår\",I1264>8,\"udgår\",H1264<8,\"\",I1264<8,\"\")","v":""}]
[null,null,null,null,null,null,null,null,null,0,{"$f":"+_xlfn.IFS(H1265>8,\"udgår\",I1265>8,\"udgår\",H1265<8,\"\",I1265<8,\"\")","v":""}]
[null,null,null,null,null,null,null,null,null,0,{"$f":"+_xlfn.IFS(H1266>8,\"udgår\",I1266>8,\"udgår\",H1266<8,\"\",I1266<8,\"\")","v":""}]
[null,null,null,null,null,null,null,null,null,0,{"$f":"+_xlfn.IFS(H1267>8,\"udgår\",I1267>8,\"udgår\",H1267<8,\"\",I1267<8,\"\")","v":""}]
[null,null,null,null,null,null,null,null,null,0,{"$f":"+_xlfn.IFS(H1268>8,\"udgår\",I1268>8,\"udgår\",H1268<8,\"\",I1268<8,\"\")","v":""}]
[null,null,null,null,null,null,null,null,null,0,{"$f":"+_xlfn.IFS(H1269>8,\"udgår\",I1269>8,\"udgår\",H1269<8,\"\",I1269<8,\"\")","v":""}]
[null,null,null,null,null,null,null,null,null,0,{"$f":"+_xlfn.IFS(H1270>8,\"udgår\",I1270>8,\"udgår\",H1270<8,\"\",I1270<8,\"\")","v":""}]
[null,null,null,null,null,null,null,null,null,0,{"$f":"+_xlfn.IFS(H1271>8,\"udgår\",I1271>8,\"udgår\",H1271<8,\"\",I1271<8,\"\")","v":""}]
[null,null,null,null,null,null,null,null,null,0,{"$f":"+_xlfn.IFS(H1272>8,\"udgår\",I1272>8,\"udgår\",H1272<8,\"\",I1272<8,\"\")","v":""}]
[null,null,null,null,null,null,null,null,null,0,{"$f":"+_xlfn.IFS(H1273>8,\"udgår\",I1273>8,\"udgår\",H1273<8,\"\",I1273<8,\"\")","v":""}]
[null,null,null,null,null,null,null,null,null,0,{"$f":"+_xlfn.IFS(H1274>8,\"udgår\",I1274>8,\"udgår\",H1274<8,\"\",I1274<8,\"\")","v":""}]
[null,null,null,null,null,null,null,null,null,0,{"$f":"+_xlfn.IFS(H1275>8,\"udgår\",I1275>8,\"udgår\",H1275<8,\"\",I1275<8,\"\")","v":""}]
[null,null,null,null,null,null,null,null,null,0,{"$f":"+_xlfn.IFS(H1276>8,\"udgår\",I1276>8,\"udgår\",H1276<8,\"\",I1276<8,\"\")","v":""}]
[null,null,null,null,null,null,null,null,null,0,{"$f":"+_xlfn.IFS(H1277>8,\"udgår\",I1277>8,\"udgår\",H1277<8,\"\",I1277<8,\"\")","v":""}]
[null,null,null,null,null,null,null,null,null,0,{"$f":"+_xlfn.IFS(H1278>8,\"udgår\",I1278>8,\"udgår\",H1278<8,\"\",I1278<8,\"\")","v":""}]
[null,null,null,null,null,null,null,null,null,0,{"$f":"+_xlfn.IFS(H1279>8,\"udgår\",I1279>8,\"udgår\",H1279<8,\"\",I1279<8,\"\")","v":""}]
[null,null,null,null,null,null,null,null,null,0,{"$f":"+_xlfn.IFS(H1280>8,\"udgår\",I1280>8,\"udgår\",H1280<8,\"\",I1280<8,\"\")","v":""}]
[null,null,null,null,null,null,null,null,null,0,{"$f":"+_xlfn.IFS(H1281>8,\"udgår\",I1281>8,\"udgår\",H1281<8,\"\",I1281<8,\"\")","v":""}]
[null,null,null,null,null,null,null,null,null,0,{"$f":"+_xlfn.IFS(H1282>8,\"udgår\",I1282>8,\"udgår\",H1282<8,\"\",I1282<8,\"\")","v":""}]
[null,null,null,null,null,null,null,null,null,{"$f":"+D1283-F1283","v":0},{"$f":"+_xlfn.IFS(H1283>8,\"udgår\",I1283>8,\"udgår\",H1283<8,\"\",I1283<8,\"\")","v":""}]
[null,null,null,null,null,null,null,null,null,0,{"$f":"+_xlfn.IFS(H1284>8,\"udgår\",I1284>8,\"udgår\",H1284<8,\"\",I1284<8,\"\")","v":""}]
[null,null,null,null,null,null,null,null,null,0,{"$f":"+_xlfn.IFS(H1285>8,\"udgår\",I1285>8,\"udgår\",H1285<8,\"\",I1285<8,\"\")","v":""}]
[null,null,null,null,null,null,null,null,null,0,{"$f":"+_xlfn.IFS(H1286>8,\"udgår\",I1286>8,\"udgår\",H1286<8,\"\",I1286<8,\"\")","v":""}]
[null,null,null,null,null,null,null,null,null,0,{"$f":"+_xlfn.IFS(H1287>8,\"udgår\",I1287>8,\"udgår\",H1287<8,\"\",I1287<8,\"\")","v":""}]
[null,null,null,null,null,null,null,null,null,0,{"$f":"+_xlfn.IFS(H1288>8,\"udgår\",I1288>8,\"udgår\",H1288<8,\"\",I1288<8,\"\")","v":""}]
[null,null,null,null,null,null,null,null,null,0,{"$f":"+_xlfn.IFS(H1289>8,\"udgår\",I1289>8,\"udgår\",H1289<8,\"\",I1289<8,\"\")","v":""}]
[null,null,null,null,null,null,null,null,null,0,{"$f":"+_xlfn.IFS(H1290>8,\"udgår\",I1290>8,\"udgår\",H1290<8,\"\",I1290<8,\"\")","v":""}]
[null,null,null,null,null,null,null,null,null,0,{"$f":"+_xlfn.IFS(H1291>8,\"udgår\",I1291>8,\"udgår\",H1291<8,\"\",I1291<8,\"\")","v":""}]
[null,null,null,null,null,null,null,null,null,0,{"$f":"+_xlfn.IFS(H1292>8,\"udgår\",I1292>8,\"udgår\",H1292<8,\"\",I1292<8,\"\")","v":""}]
[null,null,null,null,null,null,null,null,null,0,{"$f":"+_xlfn.IFS(H1293>8,\"udgår\",I1293>8,\"udgår\",H1293<8,\"\",I1293<8,\"\")","v":""}]
[null,null,null,null,null,null,null,null,null,0,{"$f":"+_xlfn.IFS(H1294>8,\"udgår\",I1294>8,\"udgår\",H1294<8,\"\",I1294<8,\"\")","v":""}]
[null,null,null,null,null,null,null,null,null,0,{"$f":"+_xlfn.IFS(H1295>8,\"udgår\",I1295>8,\"udgår\",H1295<8,\"\",I1295<8,\"\")","v":""}]
[null,null,null,null,null,null,null,null,null,0,{"$f":"+_xlfn.IFS(H1296>8,\"udgår\",I1296>8,\"udgår\",H1296<8,\"\",I1296<8,\"\")","v":""}]
[null,null,null,null,null,null,null,null,null,0,{"$f":"+_xlfn.IFS(H1297>8,\"udgår\",I1297>8,\"udgår\",H1297<8,\"\",I1297<8,\"\")","v":""}]
[null,null,null,null,null,null,null,null,null,0,{"$f":"+_xlfn.IFS(H1298>8,\"udgår\",I1298>8,\"udgår\",H1298<8,\"\",I1298<8,\"\")","v":""}]
[null,null,null,null,null,null,null,null,null,0,{"$f":"+_xlfn.IFS(H1299>8,\"udgår\",I1299>8,\"udgår\",H1299<8,\"\",I1299<8,\"\")","v":""}]
[null,null,null,null,null,null,null,null,null,0,{"$f":"+_xlfn.IFS(H1300>8,\"udgår\",I1300>8,\"udgår\",H1300<8,\"\",I1300<8,\"\")","v":""}]
[null,null,null,null,null,null,null,null,null,0,{"$f":"+_xlfn.IFS(H1301>8,\"udgår\",I1301>8,\"udgår\",H1301<8,\"\",I1301<8,\"\")","v":""}]
[null,null,null,null,null,null,null,null,null,0,{"$f":"+_xlfn.IFS(H1302>8,\"udgår\",I1302>8,\"udgår\",H1302<8,\"\",I1302<8,\"\")","v":""}]
[null,null,null,null,null,null,null,null,null,0,{"$f":"+_xlfn.IFS(H1303>8,\"udgår\",I1303>8,\"udgår\",H1303<8,\"\",I1303<8,\"\")","v":""}]
[null,null,null,null,null,null,null,null,null,0,{"$f":"+_xlfn.IFS(H1304>8,\"udgår\",I1304>8,\"udgår\",H1304<8,\"\",I1304<8,\"\")","v":""}]
[null,null,null,null,null,null,null,null,null,0,{"$f":"+_xlfn.IFS(H1305>8,\"udgår\",I1305>8,\"udgår\",H1305<8,\"\",I1305<8,\"\")","v":""}]
[null,null,null,null,null,null,null,null,null,0,{"$f":"+_xlfn.IFS(H1306>8,\"udgår\",I1306>8,\"udgår\",H1306<8,\"\",I1306<8,\"\")","v":""}]
[null,null,null,null,null,null,null,null,null,0,{"$f":"+_xlfn.IFS(H1307>8,\"udgår\",I1307>8,\"udgår\",H1307<8,\"\",I1307<8,\"\")","v":""}]
[null,null,null,null,null,null,null,null,null,0,{"$f":"+_xlfn.IFS(H1308>8,\"udgår\",I1308>8,\"udgår\",H1308<8,\"\",I1308<8,\"\")","v":""}]
[null,null,null,null,null,null,null,null,null,0,{"$f":"+_xlfn.IFS(H1309>8,\"udgår\",I1309>8,\"udgår\",H1309<8,\"\",I1309<8,\"\")","v":""}]
[null,null,null,null,null,null,null,null,null,0,{"$f":"+_xlfn.IFS(H1310>8,\"udgår\",I1310>8,\"udgår\",H1310<8,\"\",I1310<8,\"\")","v":""}]
[null,null,null,null,null,null,null,null,null,0,{"$f":"+_xlfn.IFS(H1311>8,\"udgår\",I1311>8,\"udgår\",H1311<8,\"\",I1311<8,\"\")","v":""}]
[null,null,null,null,null,null,null,null,null,0,{"$f":"+_xlfn.IFS(H1312>8,\"udgår\",I1312>8,\"udgår\",H1312<8,\"\",I1312<8,\"\")","v":""}]
[null,null,null,null,null,null,null,null,null,0,{"$f":"+_xlfn.IFS(H1313>8,\"udgår\",I1313>8,\"udgår\",H1313<8,\"\",I1313<8,\"\")","v":""}]
[null,null,null,null,null,null,null,null,null,0,{"$f":"+_xlfn.IFS(H1314>8,\"udgår\",I1314>8,\"udgår\",H1314<8,\"\",I1314<8,\"\")","v":""}]
[null,null,null,null,null,null,null,null,null,0,{"$f":"+_xlfn.IFS(H1315>8,\"udgår\",I1315>8,\"udgår\",H1315<8,\"\",I1315<8,\"\")","v":""}]
[null,null,null,null,null,null,null,null,null,0,{"$f":"+_xlfn.IFS(H1316>8,\"udgår\",I1316>8,\"udgår\",H1316<8,\"\",I1316<8,\"\")","v":""}]
[null,null,null,null,null,null,null,null,null,0,{"$f":"+_xlfn.IFS(H1317>8,\"udgår\",I1317>8,\"udgår\",H1317<8,\"\",I1317<8,\"\")","v":""}]
[null,null,null,null,null,null,null,null,null,0,{"$f":"+_xlfn.IFS(H1318>8,\"udgår\",I1318>8,\"udgår\",H1318<8,\"\",I1318<8,\"\")","v":""}]
[null,null,null,null,null,null,null,null,null,0,{"$f":"+_xlfn.IFS(H1319>8,\"udgår\",I1319>8,\"udgår\",H1319<8,\"\",I1319<8,\"\")","v":""}]
[null,null,null,null,null,null,null,null,null,0,{"$f":"+_xlfn.IFS(H1320>8,\"udgår\",I1320>8,\"udgår\",H1320<8,\"\",I1320<8,\"\")","v":""}]
[null,null,null,null,null,null,null,null,null,0,{"$f":"+_xlfn.IFS(H1321>8,\"udgår\",I1321>8,\"udgår\",H1321<8,\"\",I1321<8,\"\")","v":""}]
[null,null,null,null,null,null,null,null,null,0,{"$f":"+_xlfn.IFS(H1322>8,\"udgår\",I1322>8,\"udgår\",H1322<8,\"\",I1322<8,\"\")","v":""}]
[null,null,null,null,null,null,null,null,null,0,{"$f":"+_xlfn.IFS(H1323>8,\"udgår\",I1323>8,\"udgår\",H1323<8,\"\",I1323<8,\"\")","v":""}]
[null,null,null,null,null,null,null,null,null,0,{"$f":"+_xlfn.IFS(H1324>8,\"udgår\",I1324>8,\"udgår\",H1324<8,\"\",I1324<8,\"\")","v":""}]
[null,null,null,null,null,null,null,null,null,0,{"$f":"+_xlfn.IFS(H1325>8,\"udgår\",I1325>8,\"udgår\",H1325<8,\"\",I1325<8,\"\")","v":""}]
[null,null,null,null,null,null,null,null,null,0,{"$f":"+_xlfn.IFS(H1326>8,\"udgår\",I1326>8,\"udgår\",H1326<8,\"\",I1326<8,\"\")","v":""}]
[null,null,null,null,null,null,null,null,null,0,{"$f":"+_xlfn.IFS(H1327>8,\"udgår\",I1327>8,\"udgår\",H1327<8,\"\",I1327<8,\"\")","v":""}]
[null,null,null,null,null,null,null,null,null,0,{"$f":"+_xlfn.IFS(H1328>8,\"udgår\",I1328>8,\"udgår\",H1328<8,\"\",I1328<8,\"\")","v":""}]
[null,null,null,null,null,null,null,null,null,0,{"$f":"+_xlfn.IFS(H1329>8,\"udgår\",I1329>8,\"udgår\",H1329<8,\"\",I1329<8,\"\")","v":""}]
[null,null,null,null,null,null,null,null,null,0,{"$f":"+_xlfn.IFS(H1330>8,\"udgår\",I1330>8,\"udgår\",H1330<8,\"\",I1330<8,\"\")","v":""}]
[null,null,null,null,null,null,null,null,null,0,{"$f":"+_xlfn.IFS(H1331>8,\"udgår\",I1331>8,\"udgår\",H1331<8,\"\",I1331<8,\"\")","v":""}]
[null,null,null,null,null,null,null,null,null,0,{"$f":"+_xlfn.IFS(H1332>8,\"udgår\",I1332>8,\"udgår\",H1332<8,\"\",I1332<8,\"\")","v":""}]
[null,null,null,null,null,null,null,null,null,0,{"$f":"+_xlfn.IFS(H1333>8,\"udgår\",I1333>8,\"udgår\",H1333<8,\"\",I1333<8,\"\")","v":""}]
[null,null,null,null,null,null,null,null,null,0,{"$f":"+_xlfn.IFS(H1334>8,\"udgår\",I1334>8,\"udgår\",H1334<8,\"\",I1334<8,\"\")","v":""}]
[null,null,null,null,null,null,null,null,null,0,{"$f":"+_xlfn.IFS(H1335>8,\"udgår\",I1335>8,\"udgår\",H1335<8,\"\",I1335<8,\"\")","v":""}]
[null,null,null,null,null,null,null,null,null,0,{"$f":"+_xlfn.IFS(H1336>8,\"udgår\",I1336>8,\"udgår\",H1336<8,\"\",I1336<8,\"\")","v":""}]
[null,null,null,null,null,null,null,null,null,0,{"$f":"+_xlfn.IFS(H1337>8,\"udgår\",I1337>8,\"udgår\",H1337<8,\"\",I1337<8,\"\")","v":""}]
[null,null,null,null,null,null,null,null,null,0,{"$f":"+_xlfn.IFS(H1338>8,\"udgår\",I1338>8,\"udgår\",H1338<8,\"\",I1338<8,\"\")","v":""}]
[null,null,null,null,null,null,null,null,null,0,{"$f":"+_xlfn.IFS(H1339>8,\"udgår\",I1339>8,\"udgår\",H1339<8,\"\",I1339<8,\"\")","v":""}]
[null,null,null,null,null,null,null,null,null,0,{"$f":"+_xlfn.IFS(H1340>8,\"udgår\",I1340>8,\"udgår\",H1340<8,\"\",I1340<8,\"\")","v":""}]
[null,null,null,null,null,null,null,null,null,0,{"$f":"+_xlfn.IFS(H1341>8,\"udgår\",I1341>8,\"udgår\",H1341<8,\"\",I1341<8,\"\")","v":""}]
[null,null,null,null,null,null,null,null,null,0,{"$f":"+_xlfn.IFS(H1342>8,\"udgår\",I1342>8,\"udgår\",H1342<8,\"\",I1342<8,\"\")","v":""}]
[null,null,null,null,null,null,null,null,null,0,{"$f":"+_xlfn.IFS(H1343>8,\"udgår\",I1343>8,\"udgår\",H1343<8,\"\",I1343<8,\"\")","v":""}]
[null,null,null,null,null,null,null,null,null,0,{"$f":"+_xlfn.IFS(H1344>8,\"udgår\",I1344>8,\"udgår\",H1344<8,\"\",I1344<8,\"\")","v":""}]
[null,null,null,null,null,null,null,null,null,0,{"$f":"+_xlfn.IFS(H1345>8,\"udgår\",I1345>8,\"udgår\",H1345<8,\"\",I1345<8,\"\")","v":""}]
[null,null,null,null,null,null,null,null,null,0,{"$f":"+_xlfn.IFS(H1346>8,\"udgår\",I1346>8,\"udgår\",H1346<8,\"\",I1346<8,\"\")","v":""}]
[null,null,null,null,null,null,null,null,null,{"$f":"+D1347-F1347","v":0},{"$f":"+_xlfn.IFS(H1347>8,\"udgår\",I1347>8,\"udgår\",H1347<8,\"\",I1347<8,\"\")","v":""}]
[null,null,null,null,null,null,null,null,null,0,{"$f":"+_xlfn.IFS(H1348>8,\"udgår\",I1348>8,\"udgår\",H1348<8,\"\",I1348<8,\"\")","v":""}]
[null,null,null,null,null,null,null,null,null,0,{"$f":"+_xlfn.IFS(H1349>8,\"udgår\",I1349>8,\"udgår\",H1349<8,\"\",I1349<8,\"\")","v":""}]
[null,null,null,null,null,null,null,null,null,0,{"$f":"+_xlfn.IFS(H1350>8,\"udgår\",I1350>8,\"udgår\",H1350<8,\"\",I1350<8,\"\")","v":""}]
[null,null,null,null,null,null,null,null,null,0,{"$f":"+_xlfn.IFS(H1351>8,\"udgår\",I1351>8,\"udgår\",H1351<8,\"\",I1351<8,\"\")","v":""}]
[null,null,null,null,null,null,null,null,null,0,{"$f":"+_xlfn.IFS(H1352>8,\"udgår\",I1352>8,\"udgår\",H1352<8,\"\",I1352<8,\"\")","v":""}]
[null,null,null,null,null,null,null,null,null,0,{"$f":"+_xlfn.IFS(H1353>8,\"udgår\",I1353>8,\"udgår\",H1353<8,\"\",I1353<8,\"\")","v":""}]
[null,null,null,null,null,null,null,null,null,0,{"$f":"+_xlfn.IFS(H1354>8,\"udgår\",I1354>8,\"udgår\",H1354<8,\"\",I1354<8,\"\")","v":""}]
[null,null,null,null,null,null,null,null,null,0,{"$f":"+_xlfn.IFS(H1355>8,\"udgår\",I1355>8,\"udgår\",H1355<8,\"\",I1355<8,\"\")","v":""}]
[null,null,null,null,null,null,null,null,null,0,{"$f":"+_xlfn.IFS(H1356>8,\"udgår\",I1356>8,\"udgår\",H1356<8,\"\",I1356<8,\"\")","v":""}]
[null,null,null,null,null,null,null,null,null,0,{"$f":"+_xlfn.IFS(H1357>8,\"udgår\",I1357>8,\"udgår\",H1357<8,\"\",I1357<8,\"\")","v":""}]
[null,null,null,null,null,null,null,null,null,0,{"$f":"+_xlfn.IFS(H1358>8,\"udgår\",I1358>8,\"udgår\",H1358<8,\"\",I1358<8,\"\")","v":""}]
[null,null,null,null,null,null,null,null,null,0,{"$f":"+_xlfn.IFS(H1359>8,\"udgår\",I1359>8,\"udgår\",H1359<8,\"\",I1359<8,\"\")","v":""}]
[null,null,null,null,null,null,null,null,null,0,{"$f":"+_xlfn.IFS(H1360>8,\"udgår\",I1360>8,\"udgår\",H1360<8,\"\",I1360<8,\"\")","v":""}]
[null,null,null,null,null,null,null,null,null,0,{"$f":"+_xlfn.IFS(H1361>8,\"udgår\",I1361>8,\"udgår\",H1361<8,\"\",I1361<8,\"\")","v":""}]
[null,null,null,null,null,null,null,null,null,0,{"$f":"+_xlfn.IFS(H1362>8,\"udgår\",I1362>8,\"udgår\",H1362<8,\"\",I1362<8,\"\")","v":""}]
[null,null,null,null,null,null,null,null,null,0,{"$f":"+_xlfn.IFS(H1363>8,\"udgår\",I1363>8,\"udgår\",H1363<8,\"\",I1363<8,\"\")","v":""}]
[null,null,null,null,null,null,null,null,null,0,{"$f":"+_xlfn.IFS(H1364>8,\"udgår\",I1364>8,\"udgår\",H1364<8,\"\",I1364<8,\"\")","v":""}]
[null,null,null,null,null,null,null,null,null,0,{"$f":"+_xlfn.IFS(H1365>8,\"udgår\",I1365>8,\"udgår\",H1365<8,\"\",I1365<8,\"\")","v":""}]
[null,null,null,null,null,null,null,null,null,0,{"$f":"+_xlfn.IFS(H1366>8,\"udgår\",I1366>8,\"udgår\",H1366<8,\"\",I1366<8,\"\")","v":""}]
[null,null,null,null,null,null,null,null,null,0,{"$f":"+_xlfn.IFS(H1367>8,\"udgår\",I1367>8,\"udgår\",H1367<8,\"\",I1367<8,\"\")","v":""}]
[null,null,null,null,null,null,null,null,null,0,{"$f":"+_xlfn.IFS(H1368>8,\"udgår\",I1368>8,\"udgår\",H1368<8,\"\",I1368<8,\"\")","v":""}]
[null,null,null,null,null,null,null,null,null,0,{"$f":"+_xlfn.IFS(H1369>8,\"udgår\",I1369>8,\"udgår\",H1369<8,\"\",I1369<8,\"\")","v":""}]
[null,null,null,null,null,null,null,null,null,0,{"$f":"+_xlfn.IFS(H1370>8,\"udgår\",I1370>8,\"udgår\",H1370<8,\"\",I1370<8,\"\")","v":""}]
[null,null,null,null,null,null,null,null,null,0,{"$f":"+_xlfn.IFS(H1371>8,\"udgår\",I1371>8,\"udgår\",H1371<8,\"\",I1371<8,\"\")","v":""}]
[null,null,null,null,null,null,null,null,null,0,{"$f":"+_xlfn.IFS(H1372>8,\"udgår\",I1372>8,\"udgår\",H1372<8,\"\",I1372<8,\"\")","v":""}]
[null,null,null,null,null,null,null,null,null,0,{"$f":"+_xlfn.IFS(H1373>8,\"udgår\",I1373>8,\"udgår\",H1373<8,\"\",I1373<8,\"\")","v":""}]
[null,null,null,null,null,null,null,null,null,0,{"$f":"+_xlfn.IFS(H1374>8,\"udgår\",I1374>8,\"udgår\",H1374<8,\"\",I1374<8,\"\")","v":""}]
[null,null,null,null,null,null,null,null,null,0,{"$f":"+_xlfn.IFS(H1375>8,\"udgår\",I1375>8,\"udgår\",H1375<8,\"\",I1375<8,\"\")","v":""}]
[null,null,null,null,null,null,null,null,null,0,{"$f":"+_xlfn.IFS(H1376>8,\"udgår\",I1376>8,\"udgår\",H1376<8,\"\",I1376<8,\"\")","v":""}]
[null,null,null,null,null,null,null,null,null,0,{"$f":"+_xlfn.IFS(H1377>8,\"udgår\",I1377>8,\"udgår\",H1377<8,\"\",I1377<8,\"\")","v":""}]
[null,null,null,null,null,null,null,null,null,0,{"$f":"+_xlfn.IFS(H1378>8,\"udgår\",I1378>8,\"udgår\",H1378<8,\"\",I1378<8,\"\")","v":""}]
[null,null,null,null,null,null,null,null,null,0,{"$f":"+_xlfn.IFS(H1379>8,\"udgår\",I1379>8,\"udgår\",H1379<8,\"\",I1379<8,\"\")","v":""}]
[null,null,null,null,null,null,null,null,null,0,{"$f":"+_xlfn.IFS(H1380>8,\"udgår\",I1380>8,\"udgår\",H1380<8,\"\",I1380<8,\"\")","v":""}]
[null,null,null,null,null,null,null,null,null,0,{"$f":"+_xlfn.IFS(H1381>8,\"udgår\",I1381>8,\"udgår\",H1381<8,\"\",I1381<8,\"\")","v":""}]
[null,null,null,null,null,null,null,null,null,0,{"$f":"+_xlfn.IFS(H1382>8,\"udgår\",I1382>8,\"udgår\",H1382<8,\"\",I1382<8,\"\")","v":""}]
[null,null,null,null,null,null,null,null,null,0,{"$f":"+_xlfn.IFS(H1383>8,\"udgår\",I1383>8,\"udgår\",H1383<8,\"\",I1383<8,\"\")","v":""}]
[null,null,null,null,null,null,null,null,null,0,{"$f":"+_xlfn.IFS(H1384>8,\"udgår\",I1384>8,\"udgår\",H1384<8,\"\",I1384<8,\"\")","v":""}]
[null,null,null,null,null,null,null,null,null,0,{"$f":"+_xlfn.IFS(H1385>8,\"udgår\",I1385>8,\"udgår\",H1385<8,\"\",I1385<8,\"\")","v":""}]
[null,null,null,null,null,null,null,null,null,0,{"$f":"+_xlfn.IFS(H1386>8,\"udgår\",I1386>8,\"udgår\",H1386<8,\"\",I1386<8,\"\")","v":""}]
[null,null,null,null,null,null,null,null,null,0,{"$f":"+_xlfn.IFS(H1387>8,\"udgår\",I1387>8,\"udgår\",H1387<8,\"\",I1387<8,\"\")","v":""}]
[null,null,null,null,null,null,null,null,null,0,{"$f":"+_xlfn.IFS(H1388>8,\"udgår\",I1388>8,\"udgår\",H1388<8,\"\",I1388<8,\"\")","v":""}]
[null,null,null,null,null,null,null,null,null,0,{"$f":"+_xlfn.IFS(H1389>8,\"udgår\",I1389>8,\"udgår\",H1389<8,\"\",I1389<8,\"\")","v":""}]
[null,null,null,null,null,null,null,null,null,0,{"$f":"+_xlfn.IFS(H1390>8,\"udgår\",I1390>8,\"udgår\",H1390<8,\"\",I1390<8,\"\")","v":""}]
[null,null,null,null,null,null,null,null,null,0,{"$f":"+_xlfn.IFS(H1391>8,\"udgår\",I1391>8,\"udgår\",H1391<8,\"\",I1391<8,\"\")","v":""}]
[null,null,null,null,null,null,null,null,null,0,{"$f":"+_xlfn.IFS(H1392>8,\"udgår\",I1392>8,\"udgår\",H1392<8,\"\",I1392<8,\"\")","v":""}]
[null,null,null,null,null,null,null,null,null,0,{"$f":"+_xlfn.IFS(H1393>8,\"udgår\",I1393>8,\"udgår\",H1393<8,\"\",I1393<8,\"\")","v":""}]
[null,null,null,null,null,null,null,null,null,0,{"$f":"+_xlfn.IFS(H1394>8,\"udgår\",I1394>8,\"udgår\",H1394<8,\"\",I1394<8,\"\")","v":""}]
[null,null,null,null,null,null,null,null,null,0,{"$f":"+_xlfn.IFS(H1395>8,\"udgår\",I1395>8,\"udgår\",H1395<8,\"\",I1395<8,\"\")","v":""}]
[null,null,null,null,null,null,null,null,null,0,{"$f":"+_xlfn.IFS(H1396>8,\"udgår\",I1396>8,\"udgår\",H1396<8,\"\",I1396<8,\"\")","v":""}]
[null,null,null,null,null,null,null,null,null,0,{"$f":"+_xlfn.IFS(H1397>8,\"udgår\",I1397>8,\"udgår\",H1397<8,\"\",I1397<8,\"\")","v":""}]
[null,null,null,null,null,null,null,null,null,0,{"$f":"+_xlfn.IFS(H1398>8,\"udgår\",I1398>8,\"udgår\",H1398<8,\"\",I1398<8,\"\")","v":""}]
[null,null,null,null,null,null,null,null,null,0,{"$f":"+_xlfn.IFS(H1399>8,\"udgår\",I1399>8,\"udgår\",H1399<8,\"\",I1399<8,\"\")","v":""}]
[null,null,null,null,null,null,null,null,null,0,{"$f":"+_xlfn.IFS(H1400>8,\"udgår\",I1400>8,\"udgår\",H1400<8,\"\",I1400<8,\"\")","v":""}]
[null,null,null,null,null,null,null,null,null,0,{"$f":"+_xlfn.IFS(H1401>8,\"udgår\",I1401>8,\"udgår\",H1401<8,\"\",I1401<8,\"\")","v":""}]
[null,null,null,null,null,null,null,null,null,0,{"$f":"+_xlfn.IFS(H1402>8,\"udgår\",I1402>8,\"udgår\",H1402<8,\"\",I1402<8,\"\")","v":""}]
[null,null,null,null,null,null,null,null,null,0,{"$f":"+_xlfn.IFS(H1403>8,\"udgår\",I1403>8,\"udgår\",H1403<8,\"\",I1403<8,\"\")","v":""}]
[null,null,null,null,null,null,null,null,null,0,{"$f":"+_xlfn.IFS(H1404>8,\"udgår\",I1404>8,\"udgår\",H1404<8,\"\",I1404<8,\"\")","v":""}]
[null,null,null,null,null,null,null,null,null,0,{"$f":"+_xlfn.IFS(H1405>8,\"udgår\",I1405>8,\"udgår\",H1405<8,\"\",I1405<8,\"\")","v":""}]
[null,null,null,null,null,null,null,null,null,0,{"$f":"+_xlfn.IFS(H1406>8,\"udgår\",I1406>8,\"udgår\",H1406<8,\"\",I1406<8,\"\")","v":""}]
[null,null,null,null,null,null,null,null,null,0,{"$f":"+_xlfn.IFS(H1407>8,\"udgår\",I1407>8,\"udgår\",H1407<8,\"\",I1407<8,\"\")","v":""}]
[null,null,null,null,null,null,null,null,null,0,{"$f":"+_xlfn.IFS(H1408>8,\"udgår\",I1408>8,\"udgår\",H1408<8,\"\",I1408<8,\"\")","v":""}]
[null,null,null,null,null,null,null,null,null,0,{"$f":"+_xlfn.IFS(H1409>8,\"udgår\",I1409>8,\"udgår\",H1409<8,\"\",I1409<8,\"\")","v":""}]
[null,null,null,null,null,null,null,null,null,0,{"$f":"+_xlfn.IFS(H1410>8,\"udgår\",I1410>8,\"udgår\",H1410<8,\"\",I1410<8,\"\")","v":""}]
[null,null,null,null,null,null,null,null,null,{"$f":"+D1411-F1411","v":0},{"$f":"+_xlfn.IFS(H1411>8,\"udgår\",I1411>8,\"udgår\",H1411<8,\"\",I1411<8,\"\")","v":""}]
[null,null,null,null,null,null,null,null,null,0,{"$f":"+_xlfn.IFS(H1412>8,\"udgår\",I1412>8,\"udgår\",H1412<8,\"\",I1412<8,\"\")","v":""}]
[null,null,null,null,null,null,null,null,null,0,{"$f":"+_xlfn.IFS(H1413>8,\"udgår\",I1413>8,\"udgår\",H1413<8,\"\",I1413<8,\"\")","v":""}]
[null,null,null,null,null,null,null,null,null,0,{"$f":"+_xlfn.IFS(H1414>8,\"udgår\",I1414>8,\"udgår\",H1414<8,\"\",I1414<8,\"\")","v":""}]
[null,null,null,null,null,null,null,null,null,0,{"$f":"+_xlfn.IFS(H1415>8,\"udgår\",I1415>8,\"udgår\",H1415<8,\"\",I1415<8,\"\")","v":""}]
[null,null,null,null,null,null,null,null,null,0,{"$f":"+_xlfn.IFS(H1416>8,\"udgår\",I1416>8,\"udgår\",H1416<8,\"\",I1416<8,\"\")","v":""}]
[null,null,null,null,null,null,null,null,null,0,{"$f":"+_xlfn.IFS(H1417>8,\"udgår\",I1417>8,\"udgår\",H1417<8,\"\",I1417<8,\"\")","v":""}]
[null,null,null,null,null,null,null,null,null,0,{"$f":"+_xlfn.IFS(H1418>8,\"udgår\",I1418>8,\"udgår\",H1418<8,\"\",I1418<8,\"\")","v":""}]
[null,null,null,null,null,null,null,null,null,0,{"$f":"+_xlfn.IFS(H1419>8,\"udgår\",I1419>8,\"udgår\",H1419<8,\"\",I1419<8,\"\")","v":""}]
[null,null,null,null,null,null,null,null,null,0,{"$f":"+_xlfn.IFS(H1420>8,\"udgår\",I1420>8,\"udgår\",H1420<8,\"\",I1420<8,\"\")","v":""}]
[null,null,null,null,null,null,null,null,null,0,{"$f":"+_xlfn.IFS(H1421>8,\"udgår\",I1421>8,\"udgår\",H1421<8,\"\",I1421<8,\"\")","v":""}]
[null,null,null,null,null,null,null,null,null,0,{"$f":"+_xlfn.IFS(H1422>8,\"udgår\",I1422>8,\"udgår\",H1422<8,\"\",I1422<8,\"\")","v":""}]
[null,null,null,null,null,null,null,null,null,0,{"$f":"+_xlfn.IFS(H1423>8,\"udgår\",I1423>8,\"udgår\",H1423<8,\"\",I1423<8,\"\")","v":""}]
[null,null,null,null,null,null,null,null,null,0,{"$f":"+_xlfn.IFS(H1424>8,\"udgår\",I1424>8,\"udgår\",H1424<8,\"\",I1424<8,\"\")","v":""}]
[null,null,null,null,null,null,null,null,null,0,{"$f":"+_xlfn.IFS(H1425>8,\"udgår\",I1425>8,\"udgår\",H1425<8,\"\",I1425<8,\"\")","v":""}]
[null,null,null,null,null,null,null,null,null,0,{"$f":"+_xlfn.IFS(H1426>8,\"udgår\",I1426>8,\"udgår\",H1426<8,\"\",I1426<8,\"\")","v":""}]
[null,null,null,null,null,null,null,null,null,0,{"$f":"+_xlfn.IFS(H1427>8,\"udgår\",I1427>8,\"udgår\",H1427<8,\"\",I1427<8,\"\")","v":""}]
[null,null,null,null,null,null,null,null,null,0,{"$f":"+_xlfn.IFS(H1428>8,\"udgår\",I1428>8,\"udgår\",H1428<8,\"\",I1428<8,\"\")","v":""}]
[null,null,null,null,null,null,null,null,null,0,{"$f":"+_xlfn.IFS(H1429>8,\"udgår\",I1429>8,\"udgår\",H1429<8,\"\",I1429<8,\"\")","v":""}]
[null,null,null,null,null,null,null,null,null,0,{"$f":"+_xlfn.IFS(H1430>8,\"udgår\",I1430>8,\"udgår\",H1430<8,\"\",I1430<8,\"\")","v":""}]
[null,null,null,null,null,null,null,null,null,0,{"$f":"+_xlfn.IFS(H1431>8,\"udgår\",I1431>8,\"udgår\",H1431<8,\"\",I1431<8,\"\")","v":""}]
[null,null,null,null,null,null,null,null,null,0,{"$f":"+_xlfn.IFS(H1432>8,\"udgår\",I1432>8,\"udgår\",H1432<8,\"\",I1432<8,\"\")","v":""}]
[null,null,null,null,null,null,null,null,null,0,{"$f":"+_xlfn.IFS(H1433>8,\"udgår\",I1433>8,\"udgår\",H1433<8,\"\",I1433<8,\"\")","v":""}]
[null,null,null,null,null,null,null,null,null,0,{"$f":"+_xlfn.IFS(H1434>8,\"udgår\",I1434>8,\"udgår\",H1434<8,\"\",I1434<8,\"\")","v":""}]
[null,null,null,null,null,null,null,null,null,0,{"$f":"+_xlfn.IFS(H1435>8,\"udgår\",I1435>8,\"udgår\",H1435<8,\"\",I1435<8,\"\")","v":""}]
[null,null,null,null,null,null,null,null,null,0,{"$f":"+_xlfn.IFS(H1436>8,\"udgår\",I1436>8,\"udgår\",H1436<8,\"\",I1436<8,\"\")","v":""}]
[null,null,null,null,null,null,null,null,null,0,{"$f":"+_xlfn.IFS(H1437>8,\"udgår\",I1437>8,\"udgår\",H1437<8,\"\",I1437<8,\"\")","v":""}]
[null,null,null,null,null,null,null,null,null,0,{"$f":"+_xlfn.IFS(H1438>8,\"udgår\",I1438>8,\"udgår\",H1438<8,\"\",I1438<8,\"\")","v":""}]
[null,null,null,null,null,null,null,null,null,0,{"$f":"+_xlfn.IFS(H1439>8,\"udgår\",I1439>8,\"udgår\",H1439<8,\"\",I1439<8,\"\")","v":""}]
[null,null,null,null,null,null,null,null,null,0,{"$f":"+_xlfn.IFS(H1440>8,\"udgår\",I1440>8,\"udgår\",H1440<8,\"\",I1440<8,\"\")","v":""}]
[null,null,null,null,null,null,null,null,null,0,{"$f":"+_xlfn.IFS(H1441>8,\"udgår\",I1441>8,\"udgår\",H1441<8,\"\",I1441<8,\"\")","v":""}]
[null,null,null,null,null,null,null,null,null,0,{"$f":"+_xlfn.IFS(H1442>8,\"udgår\",I1442>8,\"udgår\",H1442<8,\"\",I1442<8,\"\")","v":""}]
[null,null,null,null,null,null,null,null,null,0,{"$f":"+_xlfn.IFS(H1443>8,\"udgår\",I1443>8,\"udgår\",H1443<8,\"\",I1443<8,\"\")","v":""}]
[null,null,null,null,null,null,null,null,null,0,{"$f":"+_xlfn.IFS(H1444>8,\"udgår\",I1444>8,\"udgår\",H1444<8,\"\",I1444<8,\"\")","v":""}]
[null,null,null,null,null,null,null,null,null,0,{"$f":"+_xlfn.IFS(H1445>8,\"udgår\",I1445>8,\"udgår\",H1445<8,\"\",I1445<8,\"\")","v":""}]
[null,null,null,null,null,null,null,null,null,0,{"$f":"+_xlfn.IFS(H1446>8,\"udgår\",I1446>8,\"udgår\",H1446<8,\"\",I1446<8,\"\")","v":""}]
[null,null,null,null,null,null,null,null,null,0,{"$f":"+_xlfn.IFS(H1447>8,\"udgår\",I1447>8,\"udgår\",H1447<8,\"\",I1447<8,\"\")","v":""}]
[null,null,null,null,null,null,null,null,null,0,{"$f":"+_xlfn.IFS(H1448>8,\"udgår\",I1448>8,\"udgår\",H1448<8,\"\",I1448<8,\"\")","v":""}]
[null,null,null,null,null,null,null,null,null,0,{"$f":"+_xlfn.IFS(H1449>8,\"udgår\",I1449>8,\"udgår\",H1449<8,\"\",I1449<8,\"\")","v":""}]
[null,null,null,null,null,null,null,null,null,0,{"$f":"+_xlfn.IFS(H1450>8,\"udgår\",I1450>8,\"udgår\",H1450<8,\"\",I1450<8,\"\")","v":""}]
[null,null,null,null,null,null,null,null,null,0,{"$f":"+_xlfn.IFS(H1451>8,\"udgår\",I1451>8,\"udgår\",H1451<8,\"\",I1451<8,\"\")","v":""}]
[null,null,null,null,null,null,null,null,null,0,{"$f":"+_xlfn.IFS(H1452>8,\"udgår\",I1452>8,\"udgår\",H1452<8,\"\",I1452<8,\"\")","v":""}]
[null,null,null,null,null,null,null,null,null,0,{"$f":"+_xlfn.IFS(H1453>8,\"udgår\",I1453>8,\"udgår\",H1453<8,\"\",I1453<8,\"\")","v":""}]
[null,null,null,null,null,null,null,null,null,0,{"$f":"+_xlfn.IFS(H1454>8,\"udgår\",I1454>8,\"udgår\",H1454<8,\"\",I1454<8,\"\")","v":""}]
[null,null,null,null,null,null,null,null,null,0,{"$f":"+_xlfn.IFS(H1455>8,\"udgår\",I1455>8,\"udgår\",H1455<8,\"\",I1455<8,\"\")","v":""}]
[null,null,null,null,null,null,null,null,null,0,{"$f":"+_xlfn.IFS(H1456>8,\"udgår\",I1456>8,\"udgår\",H1456<8,\"\",I1456<8,\"\")","v":""}]
[null,null,null,null,null,null,null,null,null,0,{"$f":"+_xlfn.IFS(H1457>8,\"udgår\",I1457>8,\"udgår\",H1457<8,\"\",I1457<8,\"\")","v":""}]
[null,null,null,null,null,null,null,null,null,0,{"$f":"+_xlfn.IFS(H1458>8,\"udgår\",I1458>8,\"udgår\",H1458<8,\"\",I1458<8,\"\")","v":""}]
[null,null,null,null,null,null,null,null,null,0,{"$f":"+_xlfn.IFS(H1459>8,\"udgår\",I1459>8,\"udgår\",H1459<8,\"\",I1459<8,\"\")","v":""}]
[null,null,null,null,null,null,null,null,null,0,{"$f":"+_xlfn.IFS(H1460>8,\"udgår\",I1460>8,\"udgår\",H1460<8,\"\",I1460<8,\"\")","v":""}]
[null,null,null,null,null,null,null,null,null,0,{"$f":"+_xlfn.IFS(H1461>8,\"udgår\",I1461>8,\"udgår\",H1461<8,\"\",I1461<8,\"\")","v":""}]
[null,null,null,null,null,null,null,null,null,0,{"$f":"+_xlfn.IFS(H1462>8,\"udgår\",I1462>8,\"udgår\",H1462<8,\"\",I1462<8,\"\")","v":""}]
[null,null,null,null,null,null,null,null,null,0,{"$f":"+_xlfn.IFS(H1463>8,\"udgår\",I1463>8,\"udgår\",H1463<8,\"\",I1463<8,\"\")","v":""}]
[null,null,null,null,null,null,null,null,null,0,{"$f":"+_xlfn.IFS(H1464>8,\"udgår\",I1464>8,\"udgår\",H1464<8,\"\",I1464<8,\"\")","v":""}]
[null,null,null,null,null,null,null,null,null,0,{"$f":"+_xlfn.IFS(H1465>8,\"udgår\",I1465>8,\"udgår\",H1465<8,\"\",I1465<8,\"\")","v":""}]
[null,null,null,null,null,null,null,null,null,0,{"$f":"+_xlfn.IFS(H1466>8,\"udgår\",I1466>8,\"udgår\",H1466<8,\"\",I1466<8,\"\")","v":""}]
[null,null,null,null,null,null,null,null,null,0,{"$f":"+_xlfn.IFS(H1467>8,\"udgår\",I1467>8,\"udgår\",H1467<8,\"\",I1467<8,\"\")","v":""}]
[null,null,null,null,null,null,null,null,null,0,{"$f":"+_xlfn.IFS(H1468>8,\"udgår\",I1468>8,\"udgår\",H1468<8,\"\",I1468<8,\"\")","v":""}]
[null,null,null,null,null,null,null,null,null,0,{"$f":"+_xlfn.IFS(H1469>8,\"udgår\",I1469>8,\"udgår\",H1469<8,\"\",I1469<8,\"\")","v":""}]
[null,null,null,null,null,null,null,null,null,0,{"$f":"+_xlfn.IFS(H1470>8,\"udgår\",I1470>8,\"udgår\",H1470<8,\"\",I1470<8,\"\")","v":""}]
[null,null,null,null,null,null,null,null,null,0,{"$f":"+_xlfn.IFS(H1471>8,\"udgår\",I1471>8,\"udgår\",H1471<8,\"\",I1471<8,\"\")","v":""}]
[null,null,null,null,null,null,null,null,null,0,{"$f":"+_xlfn.IFS(H1472>8,\"udgår\",I1472>8,\"udgår\",H1472<8,\"\",I1472<8,\"\")","v":""}]
[null,null,null,null,null,null,null,null,null,0,{"$f":"+_xlfn.IFS(H1473>8,\"udgår\",I1473>8,\"udgår\",H1473<8,\"\",I1473<8,\"\")","v":""}]
[null,null,null,null,null,null,null,null,null,0,{"$f":"+_xlfn.IFS(H1474>8,\"udgår\",I1474>8,\"udgår\",H1474<8,\"\",I1474<8,\"\")","v":""}]
[null,null,null,null,null,null,null,null,null,{"$f":"+D1475-F1475","v":0},{"$f":"+_xlfn.IFS(H1475>8,\"udgår\",I1475>8,\"udgår\",H1475<8,\"\",I1475<8,\"\")","v":""}]
[null,null,null,null,null,null,null,null,null,0,{"$f":"+_xlfn.IFS(H1476>8,\"udgår\",I1476>8,\"udgår\",H1476<8,\"\",I1476<8,\"\")","v":""}]
[null,null,null,null,null,null,null,null,null,0,{"$f":"+_xlfn.IFS(H1477>8,\"udgår\",I1477>8,\"udgår\",H1477<8,\"\",I1477<8,\"\")","v":""}]
[null,null,null,null,null,null,null,null,null,0,{"$f":"+_xlfn.IFS(H1478>8,\"udgår\",I1478>8,\"udgår\",H1478<8,\"\",I1478<8,\"\")","v":""}]
[null,null,null,null,null,null,null,null,null,0,{"$f":"+_xlfn.IFS(H1479>8,\"udgår\",I1479>8,\"udgår\",H1479<8,\"\",I1479<8,\"\")","v":""}]
[null,null,null,null,null,null,null,null,null,0,{"$f":"+_xlfn.IFS(H1480>8,\"udgår\",I1480>8,\"udgår\",H1480<8,\"\",I1480<8,\"\")","v":""}]
[null,null,null,null,null,null,null,null,null,0,{"$f":"+_xlfn.IFS(H1481>8,\"udgår\",I1481>8,\"udgår\",H1481<8,\"\",I1481<8,\"\")","v":""}]
[null,null,null,null,null,null,null,null,null,0,{"$f":"+_xlfn.IFS(H1482>8,\"udgår\",I1482>8,\"udgår\",H1482<8,\"\",I1482<8,\"\")","v":""}]
[null,null,null,null,null,null,null,null,null,0,{"$f":"+_xlfn.IFS(H1483>8,\"udgår\",I1483>8,\"udgår\",H1483<8,\"\",I1483<8,\"\")","v":""}]
[null,null,null,null,null,null,null,null,null,0,{"$f":"+_xlfn.IFS(H1484>8,\"udgår\",I1484>8,\"udgår\",H1484<8,\"\",I1484<8,\"\")","v":""}]
[null,null,null,null,null,null,null,null,null,0,{"$f":"+_xlfn.IFS(H1485>8,\"udgår\",I1485>8,\"udgår\",H1485<8,\"\",I1485<8,\"\")","v":""}]
[null,null,null,null,null,null,null,null,null,0,{"$f":"+_xlfn.IFS(H1486>8,\"udgår\",I1486>8,\"udgår\",H1486<8,\"\",I1486<8,\"\")","v":""}]
[null,null,null,null,null,null,null,null,null,0,{"$f":"+_xlfn.IFS(H1487>8,\"udgår\",I1487>8,\"udgår\",H1487<8,\"\",I1487<8,\"\")","v":""}]
[null,null,null,null,null,null,null,null,null,0,{"$f":"+_xlfn.IFS(H1488>8,\"udgår\",I1488>8,\"udgår\",H1488<8,\"\",I1488<8,\"\")","v":""}]
[null,null,null,null,null,null,null,null,null,0,{"$f":"+_xlfn.IFS(H1489>8,\"udgår\",I1489>8,\"udgår\",H1489<8,\"\",I1489<8,\"\")","v":""}]
[null,null,null,null,null,null,null,null,null,0,{"$f":"+_xlfn.IFS(H1490>8,\"udgår\",I1490>8,\"udgår\",H1490<8,\"\",I1490<8,\"\")","v":""}]
[null,null,null,null,null,null,null,null,null,0,{"$f":"+_xlfn.IFS(H1491>8,\"udgår\",I1491>8,\"udgår\",H1491<8,\"\",I1491<8,\"\")","v":""}]
[null,null,null,null,null,null,null,null,null,0,{"$f":"+_xlfn.IFS(H1492>8,\"udgår\",I1492>8,\"udgår\",H1492<8,\"\",I1492<8,\"\")","v":""}]
[null,null,null,null,null,null,null,null,null,0,{"$f":"+_xlfn.IFS(H1493>8,\"udgår\",I1493>8,\"udgår\",H1493<8,\"\",I1493<8,\"\")","v":""}]
[null,null,null,null,null,null,null,null,null,0,{"$f":"+_xlfn.IFS(H1494>8,\"udgår\",I1494>8,\"udgår\",H1494<8,\"\",I1494<8,\"\")","v":""}]
[null,null,null,null,null,null,null,null,null,0,{"$f":"+_xlfn.IFS(H1495>8,\"udgår\",I1495>8,\"udgår\",H1495<8,\"\",I1495<8,\"\")","v":""}]
[null,null,null,null,null,null,null,null,null,0,{"$f":"+_xlfn.IFS(H1496>8,\"udgår\",I1496>8,\"udgår\",H1496<8,\"\",I1496<8,\"\")","v":""}]
[null,null,null,null,null,null,null,null,null,0,{"$f":"+_xlfn.IFS(H1497>8,\"udgår\",I1497>8,\"udgår\",H1497<8,\"\",I1497<8,\"\")","v":""}]
[null,null,null,null,null,null,null,null,null,0,{"$f":"+_xlfn.IFS(H1498>8,\"udgår\",I1498>8,\"udgår\",H1498<8,\"\",I1498<8,\"\")","v":""}]
[null,null,null,null,null,null,null,null,null,0,{"$f":"+_xlfn.IFS(H1499>8,\"udgår\",I1499>8,\"udgår\",H1499<8,\"\",I1499<8,\"\")","v":""}]
[null,null,null,null,null,null,null,null,null,0,{"$f":"+_xlfn.IFS(H1500>8,\"udgår\",I1500>8,\"udgår\",H1500<8,\"\",I1500<8,\"\")","v":""}]
[null,null,null,null,null,null,null,null,null,0,{"$f":"+_xlfn.IFS(H1501>8,\"udgår\",I1501>8,\"udgår\",H1501<8,\"\",I1501<8,\"\")","v":""}]
[null,null,null,null,null,null,null,null,null,0,{"$f":"+_xlfn.IFS(H1502>8,\"udgår\",I1502>8,\"udgår\",H1502<8,\"\",I1502<8,\"\")","v":""}]
[null,null,null,null,null,null,null,null,null,0,{"$f":"+_xlfn.IFS(H1503>8,\"udgår\",I1503>8,\"udgår\",H1503<8,\"\",I1503<8,\"\")","v":""}]
[null,null,null,null,null,null,null,null,null,0,{"$f":"+_xlfn.IFS(H1504>8,\"udgår\",I1504>8,\"udgår\",H1504<8,\"\",I1504<8,\"\")","v":""}]
[null,null,null,null,null,null,null,null,null,0,{"$f":"+_xlfn.IFS(H1505>8,\"udgår\",I1505>8,\"udgår\",H1505<8,\"\",I1505<8,\"\")","v":""}]
[null,null,null,null,null,null,null,null,null,0,{"$f":"+_xlfn.IFS(H1506>8,\"udgår\",I1506>8,\"udgår\",H1506<8,\"\",I1506<8,\"\")","v":""}]
[null,null,null,null,null,null,null,null,null,0,{"$f":"+_xlfn.IFS(H1507>8,\"udgår\",I1507>8,\"udgår\",H1507<8,\"\",I1507<8,\"\")","v":""}]
[null,null,null,null,null,null,null,null,null,0,{"$f":"+_xlfn.IFS(H1508>8,\"udgår\",I1508>8,\"udgår\",H1508<8,\"\",I1508<8,\"\")","v":""}]
[null,null,null,null,null,null,null,null,null,0,{"$f":"+_xlfn.IFS(H1509>8,\"udgår\",I1509>8,\"udgår\",H1509<8,\"\",I1509<8,\"\")","v":""}]
[null,null,null,null,null,null,null,null,null,0,{"$f":"+_xlfn.IFS(H1510>8,\"udgår\",I1510>8,\"udgår\",H1510<8,\"\",I1510<8,\"\")","v":""}]
[null,null,null,null,null,null,null,null,null,0,{"$f":"+_xlfn.IFS(H1511>8,\"udgår\",I1511>8,\"udgår\",H1511<8,\"\",I1511<8,\"\")","v":""}]
[null,null,null,null,null,null,null,null,null,0,{"$f":"+_xlfn.IFS(H1512>8,\"udgår\",I1512>8,\"udgår\",H1512<8,\"\",I1512<8,\"\")","v":""}]
[null,null,null,null,null,null,null,null,null,0,{"$f":"+_xlfn.IFS(H1513>8,\"udgår\",I1513>8,\"udgår\",H1513<8,\"\",I1513<8,\"\")","v":""}]
[null,null,null,null,null,null,null,null,null,0,{"$f":"+_xlfn.IFS(H1514>8,\"udgår\",I1514>8,\"udgår\",H1514<8,\"\",I1514<8,\"\")","v":""}]
[null,null,null,null,null,null,null,null,null,0,{"$f":"+_xlfn.IFS(H1515>8,\"udgår\",I1515>8,\"udgår\",H1515<8,\"\",I1515<8,\"\")","v":""}]
[null,null,null,null,null,null,null,null,null,0,{"$f":"+_xlfn.IFS(H1516>8,\"udgår\",I1516>8,\"udgår\",H1516<8,\"\",I1516<8,\"\")","v":""}]
[null,null,null,null,null,null,null,null,null,0,{"$f":"+_xlfn.IFS(H1517>8,\"udgår\",I1517>8,\"udgår\",H1517<8,\"\",I1517<8,\"\")","v":""}]
[null,null,null,null,null,null,null,null,null,0,{"$f":"+_xlfn.IFS(H1518>8,\"udgår\",I1518>8,\"udgår\",H1518<8,\"\",I1518<8,\"\")","v":""}]
[null,null,null,null,null,null,null,null,null,0,{"$f":"+_xlfn.IFS(H1519>8,\"udgår\",I1519>8,\"udgår\",H1519<8,\"\",I1519<8,\"\")","v":""}]
[null,null,null,null,null,null,null,null,null,0,{"$f":"+_xlfn.IFS(H1520>8,\"udgår\",I1520>8,\"udgår\",H1520<8,\"\",I1520<8,\"\")","v":""}]
[null,null,null,null,null,null,null,null,null,0,{"$f":"+_xlfn.IFS(H1521>8,\"udgår\",I1521>8,\"udgår\",H1521<8,\"\",I1521<8,\"\")","v":""}]
[null,null,null,null,null,null,null,null,null,0,{"$f":"+_xlfn.IFS(H1522>8,\"udgår\",I1522>8,\"udgår\",H1522<8,\"\",I1522<8,\"\")","v":""}]
[null,null,null,null,null,null,null,null,null,0,{"$f":"+_xlfn.IFS(H1523>8,\"udgår\",I1523>8,\"udgår\",H1523<8,\"\",I1523<8,\"\")","v":""}]
[null,null,null,null,null,null,null,null,null,0,{"$f":"+_xlfn.IFS(H1524>8,\"udgår\",I1524>8,\"udgår\",H1524<8,\"\",I1524<8,\"\")","v":""}]
[null,null,null,null,null,null,null,null,null,0,{"$f":"+_xlfn.IFS(H1525>8,\"udgår\",I1525>8,\"udgår\",H1525<8,\"\",I1525<8,\"\")","v":""}]
[null,null,null,null,null,null,null,null,null,0,{"$f":"+_xlfn.IFS(H1526>8,\"udgår\",I1526>8,\"udgår\",H1526<8,\"\",I1526<8,\"\")","v":""}]
[null,null,null,null,null,null,null,null,null,0,{"$f":"+_xlfn.IFS(H1527>8,\"udgår\",I1527>8,\"udgår\",H1527<8,\"\",I1527<8,\"\")","v":""}]
[null,null,null,null,null,null,null,null,null,0,{"$f":"+_xlfn.IFS(H1528>8,\"udgår\",I1528>8,\"udgår\",H1528<8,\"\",I1528<8,\"\")","v":""}]
[null,null,null,null,null,null,null,null,null,0,{"$f":"+_xlfn.IFS(H1529>8,\"udgår\",I1529>8,\"udgår\",H1529<8,\"\",I1529<8,\"\")","v":""}]
[null,null,null,null,null,null,null,null,null,0,{"$f":"+_xlfn.IFS(H1530>8,\"udgår\",I1530>8,\"udgår\",H1530<8,\"\",I1530<8,\"\")","v":""}]
[null,null,null,null,null,null,null,null,null,0,{"$f":"+_xlfn.IFS(H1531>8,\"udgår\",I1531>8,\"udgår\",H1531<8,\"\",I1531<8,\"\")","v":""}]
[null,null,null,null,null,null,null,null,null,0,{"$f":"+_xlfn.IFS(H1532>8,\"udgår\",I1532>8,\"udgår\",H1532<8,\"\",I1532<8,\"\")","v":""}]
[null,null,null,null,null,null,null,null,null,0,{"$f":"+_xlfn.IFS(H1533>8,\"udgår\",I1533>8,\"udgår\",H1533<8,\"\",I1533<8,\"\")","v":""}]
[null,null,null,null,null,null,null,null,null,0,{"$f":"+_xlfn.IFS(H1534>8,\"udgår\",I1534>8,\"udgår\",H1534<8,\"\",I1534<8,\"\")","v":""}]
[null,null,null,null,null,null,null,null,null,0,{"$f":"+_xlfn.IFS(H1535>8,\"udgår\",I1535>8,\"udgår\",H1535<8,\"\",I1535<8,\"\")","v":""}]
[null,null,null,null,null,null,null,null,null,0,{"$f":"+_xlfn.IFS(H1536>8,\"udgår\",I1536>8,\"udgår\",H1536<8,\"\",I1536<8,\"\")","v":""}]
[null,null,null,null,null,null,null,null,null,0,{"$f":"+_xlfn.IFS(H1537>8,\"udgår\",I1537>8,\"udgår\",H1537<8,\"\",I1537<8,\"\")","v":""}]
[null,null,null,null,null,null,null,null,null,0,{"$f":"+_xlfn.IFS(H1538>8,\"udgår\",I1538>8,\"udgår\",H1538<8,\"\",I1538<8,\"\")","v":""}]
[null,null,null,null,null,null,null,null,null,{"$f":"+D1539-F1539","v":0},{"$f":"+_xlfn.IFS(H1539>8,\"udgår\",I1539>8,\"udgår\",H1539<8,\"\",I1539<8,\"\")","v":""}]
[null,null,null,null,null,null,null,null,null,0,{"$f":"+_xlfn.IFS(H1540>8,\"udgår\",I1540>8,\"udgår\",H1540<8,\"\",I1540<8,\"\")","v":""}]
[null,null,null,null,null,null,null,null,null,0,{"$f":"+_xlfn.IFS(H1541>8,\"udgår\",I1541>8,\"udgår\",H1541<8,\"\",I1541<8,\"\")","v":""}]
[null,null,null,null,null,null,null,null,null,0,{"$f":"+_xlfn.IFS(H1542>8,\"udgår\",I1542>8,\"udgår\",H1542<8,\"\",I1542<8,\"\")","v":""}]
[null,null,null,null,null,null,null,null,null,0,{"$f":"+_xlfn.IFS(H1543>8,\"udgår\",I1543>8,\"udgår\",H1543<8,\"\",I1543<8,\"\")","v":""}]
[null,null,null,null,null,null,null,null,null,0,{"$f":"+_xlfn.IFS(H1544>8,\"udgår\",I1544>8,\"udgår\",H1544<8,\"\",I1544<8,\"\")","v":""}]
[null,null,null,null,null,null,null,null,null,0,{"$f":"+_xlfn.IFS(H1545>8,\"udgår\",I1545>8,\"udgår\",H1545<8,\"\",I1545<8,\"\")","v":""}]
[null,null,null,null,null,null,null,null,null,0,{"$f":"+_xlfn.IFS(H1546>8,\"udgår\",I1546>8,\"udgår\",H1546<8,\"\",I1546<8,\"\")","v":""}]
[null,null,null,null,null,null,null,null,null,0,{"$f":"+_xlfn.IFS(H1547>8,\"udgår\",I1547>8,\"udgår\",H1547<8,\"\",I1547<8,\"\")","v":""}]
[null,null,null,null,null,null,null,null,null,0,{"$f":"+_xlfn.IFS(H1548>8,\"udgår\",I1548>8,\"udgår\",H1548<8,\"\",I1548<8,\"\")","v":""}]
[null,null,null,null,null,null,null,null,null,0,{"$f":"+_xlfn.IFS(H1549>8,\"udgår\",I1549>8,\"udgår\",H1549<8,\"\",I1549<8,\"\")","v":""}]
[null,null,null,null,null,null,null,null,null,0,{"$f":"+_xlfn.IFS(H1550>8,\"udgår\",I1550>8,\"udgår\",H1550<8,\"\",I1550<8,\"\")","v":""}]
[null,null,null,null,null,null,null,null,null,0,{"$f":"+_xlfn.IFS(H1551>8,\"udgår\",I1551>8,\"udgår\",H1551<8,\"\",I1551<8,\"\")","v":""}]
[null,null,null,null,null,null,null,null,null,0,{"$f":"+_xlfn.IFS(H1552>8,\"udgår\",I1552>8,\"udgår\",H1552<8,\"\",I1552<8,\"\")","v":""}]
[null,null,null,null,null,null,null,null,null,0,{"$f":"+_xlfn.IFS(H1553>8,\"udgår\",I1553>8,\"udgår\",H1553<8,\"\",I1553<8,\"\")","v":""}]
[null,null,null,null,null,null,null,null,null,0,{"$f":"+_xlfn.IFS(H1554>8,\"udgår\",I1554>8,\"udgår\",H1554<8,\"\",I1554<8,\"\")","v":""}]
[null,null,null,null,null,null,null,null,null,0,{"$f":"+_xlfn.IFS(H1555>8,\"udgår\",I1555>8,\"udgår\",H1555<8,\"\",I1555<8,\"\")","v":""}]
[null,null,null,null,null,null,null,null,null,0,{"$f":"+_xlfn.IFS(H1556>8,\"udgår\",I1556>8,\"udgår\",H1556<8,\"\",I1556<8,\"\")","v":""}]
[null,null,null,null,null,null,null,null,null,0,{"$f":"+_xlfn.IFS(H1557>8,\"udgår\",I1557>8,\"udgår\",H1557<8,\"\",I1557<8,\"\")","v":""}]
[null,null,null,null,null,null,null,null,null,0,{"$f":"+_xlfn.IFS(H1558>8,\"udgår\",I1558>8,\"udgår\",H1558<8,\"\",I1558<8,\"\")","v":""}]
[null,null,null,null,null,null,null,null,null,0,{"$f":"+_xlfn.IFS(H1559>8,\"udgår\",I1559>8,\"udgår\",H1559<8,\"\",I1559<8,\"\")","v":""}]
[null,null,null,null,null,null,null,null,null,0,{"$f":"+_xlfn.IFS(H1560>8,\"udgår\",I1560>8,\"udgår\",H1560<8,\"\",I1560<8,\"\")","v":""}]
[null,null,null,null,null,null,null,null,null,0,{"$f":"+_xlfn.IFS(H1561>8,\"udgår\",I1561>8,\"udgår\",H1561<8,\"\",I1561<8,\"\")","v":""}]
[null,null,null,null,null,null,null,null,null,0,{"$f":"+_xlfn.IFS(H1562>8,\"udgår\",I1562>8,\"udgår\",H1562<8,\"\",I1562<8,\"\")","v":""}]
[null,null,null,null,null,null,null,null,null,0,{"$f":"+_xlfn.IFS(H1563>8,\"udgår\",I1563>8,\"udgår\",H1563<8,\"\",I1563<8,\"\")","v":""}]
[null,null,null,null,null,null,null,null,null,0,{"$f":"+_xlfn.IFS(H1564>8,\"udgår\",I1564>8,\"udgår\",H1564<8,\"\",I1564<8,\"\")","v":""}]
[null,null,null,null,null,null,null,null,null,0,{"$f":"+_xlfn.IFS(H1565>8,\"udgår\",I1565>8,\"udgår\",H1565<8,\"\",I1565<8,\"\")","v":""}]
[null,null,null,null,null,null,null,null,null,0,{"$f":"+_xlfn.IFS(H1566>8,\"udgår\",I1566>8,\"udgår\",H1566<8,\"\",I1566<8,\"\")","v":""}]
[null,null,null,null,null,null,null,null,null,0,{"$f":"+_xlfn.IFS(H1567>8,\"udgår\",I1567>8,\"udgår\",H1567<8,\"\",I1567<8,\"\")","v":""}]
[null,null,null,null,null,null,null,null,null,0,{"$f":"+_xlfn.IFS(H1568>8,\"udgår\",I1568>8,\"udgår\",H1568<8,\"\",I1568<8,\"\")","v":""}]
[null,null,null,null,null,null,null,null,null,0,{"$f":"+_xlfn.IFS(H1569>8,\"udgår\",I1569>8,\"udgår\",H1569<8,\"\",I1569<8,\"\")","v":""}]
[null,null,null,null,null,null,null,null,null,0,{"$f":"+_xlfn.IFS(H1570>8,\"udgår\",I1570>8,\"udgår\",H1570<8,\"\",I1570<8,\"\")","v":""}]
[null,null,null,null,null,null,null,null,null,0,{"$f":"+_xlfn.IFS(H1571>8,\"udgår\",I1571>8,\"udgår\",H1571<8,\"\",I1571<8,\"\")","v":""}]
[null,null,null,null,null,null,null,null,null,0,{"$f":"+_xlfn.IFS(H1572>8,\"udgår\",I1572>8,\"udgår\",H1572<8,\"\",I1572<8,\"\")","v":""}]
[null,null,null,null,null,null,null,null,null,0,{"$f":"+_xlfn.IFS(H1573>8,\"udgår\",I1573>8,\"udgår\",H1573<8,\"\",I1573<8,\"\")","v":""}]
[null,null,null,null,null,null,null,null,null,0,{"$f":"+_xlfn.IFS(H1574>8,\"udgår\",I1574>8,\"udgår\",H1574<8,\"\",I1574<8,\"\")","v":""}]
[null,null,null,null,null,null,null,null,null,0,{"$f":"+_xlfn.IFS(H1575>8,\"udgår\",I1575>8,\"udgår\",H1575<8,\"\",I1575<8,\"\")","v":""}]
[null,null,null,null,null,null,null,null,null,0,{"$f":"+_xlfn.IFS(H1576>8,\"udgår\",I1576>8,\"udgår\",H1576<8,\"\",I1576<8,\"\")","v":""}]
[null,null,null,null,null,null,null,null,null,0,{"$f":"+_xlfn.IFS(H1577>8,\"udgår\",I1577>8,\"udgår\",H1577<8,\"\",I1577<8,\"\")","v":""}]
[null,null,null,null,null,null,null,null,null,0,{"$f":"+_xlfn.IFS(H1578>8,\"udgår\",I1578>8,\"udgår\",H1578<8,\"\",I1578<8,\"\")","v":""}]
[null,null,null,null,null,null,null,null,null,0,{"$f":"+_xlfn.IFS(H1579>8,\"udgår\",I1579>8,\"udgår\",H1579<8,\"\",I1579<8,\"\")","v":""}]
[null,null,null,null,null,null,null,null,null,0,{"$f":"+_xlfn.IFS(H1580>8,\"udgår\",I1580>8,\"udgår\",H1580<8,\"\",I1580<8,\"\")","v":""}]
[null,null,null,null,null,null,null,null,null,0,{"$f":"+_xlfn.IFS(H1581>8,\"udgår\",I1581>8,\"udgår\",H1581<8,\"\",I1581<8,\"\")","v":""}]
[null,null,null,null,null,null,null,null,null,0,{"$f":"+_xlfn.IFS(H1582>8,\"udgår\",I1582>8,\"udgår\",H1582<8,\"\",I1582<8,\"\")","v":""}]
[null,null,null,null,null,null,null,null,null,0,{"$f":"+_xlfn.IFS(H1583>8,\"udgår\",I1583>8,\"udgår\",H1583<8,\"\",I1583<8,\"\")","v":""}]
[null,null,null,null,null,null,null,null,null,0,{"$f":"+_xlfn.IFS(H1584>8,\"udgår\",I1584>8,\"udgår\",H1584<8,\"\",I1584<8,\"\")","v":""}]
[null,null,null,null,null,null,null,null,null,0,{"$f":"+_xlfn.IFS(H1585>8,\"udgår\",I1585>8,\"udgår\",H1585<8,\"\",I1585<8,\"\")","v":""}]
[null,null,null,null,null,null,null,null,null,0,{"$f":"+_xlfn.IFS(H1586>8,\"udgår\",I1586>8,\"udgår\",H1586<8,\"\",I1586<8,\"\")","v":""}]
[null,null,null,null,null,null,null,null,null,0,{"$f":"+_xlfn.IFS(H1587>8,\"udgår\",I1587>8,\"udgår\",H1587<8,\"\",I1587<8,\"\")","v":""}]
[null,null,null,null,null,null,null,null,null,0,{"$f":"+_xlfn.IFS(H1588>8,\"udgår\",I1588>8,\"udgår\",H1588<8,\"\",I1588<8,\"\")","v":""}]
[null,null,null,null,null,null,null,null,null,0,{"$f":"+_xlfn.IFS(H1589>8,\"udgår\",I1589>8,\"udgår\",H1589<8,\"\",I1589<8,\"\")","v":""}]
[null,null,null,null,null,null,null,null,null,0,{"$f":"+_xlfn.IFS(H1590>8,\"udgår\",I1590>8,\"udgår\",H1590<8,\"\",I1590<8,\"\")","v":""}]
[null,null,null,null,null,null,null,null,null,0,{"$f":"+_xlfn.IFS(H1591>8,\"udgår\",I1591>8,\"udgår\",H1591<8,\"\",I1591<8,\"\")","v":""}]
[null,null,null,null,null,null,null,null,null,0,{"$f":"+_xlfn.IFS(H1592>8,\"udgår\",I1592>8,\"udgår\",H1592<8,\"\",I1592<8,\"\")","v":""}]
[null,null,null,null,null,null,null,null,null,0,{"$f":"+_xlfn.IFS(H1593>8,\"udgår\",I1593>8,\"udgår\",H1593<8,\"\",I1593<8,\"\")","v":""}]
[null,null,null,null,null,null,null,null,null,0,{"$f":"+_xlfn.IFS(H1594>8,\"udgår\",I1594>8,\"udgår\",H1594<8,\"\",I1594<8,\"\")","v":""}]
[null,null,null,null,null,null,null,null,null,0,{"$f":"+_xlfn.IFS(H1595>8,\"udgår\",I1595>8,\"udgår\",H1595<8,\"\",I1595<8,\"\")","v":""}]
[null,null,null,null,null,null,null,null,null,0,{"$f":"+_xlfn.IFS(H1596>8,\"udgår\",I1596>8,\"udgår\",H1596<8,\"\",I1596<8,\"\")","v":""}]
[null,null,null,null,null,null,null,null,null,0,{"$f":"+_xlfn.IFS(H1597>8,\"udgår\",I1597>8,\"udgår\",H1597<8,\"\",I1597<8,\"\")","v":""}]
[null,null,null,null,null,null,null,null,null,0,{"$f":"+_xlfn.IFS(H1598>8,\"udgår\",I1598>8,\"udgår\",H1598<8,\"\",I1598<8,\"\")","v":""}]
[null,null,null,null,null,null,null,null,null,0,{"$f":"+_xlfn.IFS(H1599>8,\"udgår\",I1599>8,\"udgår\",H1599<8,\"\",I1599<8,\"\")","v":""}]
[null,null,null,null,null,null,null,null,null,0,{"$f":"+_xlfn.IFS(H1600>8,\"udgår\",I1600>8,\"udgår\",H1600<8,\"\",I1600<8,\"\")","v":""}]
[null,null,null,null,null,null,null,null,null,0,{"$f":"+_xlfn.IFS(H1601>8,\"udgår\",I1601>8,\"udgår\",H1601<8,\"\",I1601<8,\"\")","v":""}]
[null,null,null,null,null,null,null,null,null,0,{"$f":"+_xlfn.IFS(H1602>8,\"udgår\",I1602>8,\"udgår\",H1602<8,\"\",I1602<8,\"\")","v":""}]
[null,null,null,null,null,null,null,null,null,{"$f":"+D1603-F1603","v":0},{"$f":"+_xlfn.IFS(H1603>8,\"udgår\",I1603>8,\"udgår\",H1603<8,\"\",I1603<8,\"\")","v":""}]
[null,null,null,null,null,null,null,null,null,0,{"$f":"+_xlfn.IFS(H1604>8,\"udgår\",I1604>8,\"udgår\",H1604<8,\"\",I1604<8,\"\")","v":""}]
[null,null,null,null,null,null,null,null,null,0,{"$f":"+_xlfn.IFS(H1605>8,\"udgår\",I1605>8,\"udgår\",H1605<8,\"\",I1605<8,\"\")","v":""}]
[null,null,null,null,null,null,null,null,null,0,{"$f":"+_xlfn.IFS(H1606>8,\"udgår\",I1606>8,\"udgår\",H1606<8,\"\",I1606<8,\"\")","v":""}]
[null,null,null,null,null,null,null,null,null,0,{"$f":"+_xlfn.IFS(H1607>8,\"udgår\",I1607>8,\"udgår\",H1607<8,\"\",I1607<8,\"\")","v":""}]
[null,null,null,null,null,null,null,null,null,0,{"$f":"+_xlfn.IFS(H1608>8,\"udgår\",I1608>8,\"udgår\",H1608<8,\"\",I1608<8,\"\")","v":""}]
[null,null,null,null,null,null,null,null,null,0,{"$f":"+_xlfn.IFS(H1609>8,\"udgår\",I1609>8,\"udgår\",H1609<8,\"\",I1609<8,\"\")","v":""}]
[null,null,null,null,null,null,null,null,null,0,{"$f":"+_xlfn.IFS(H1610>8,\"udgår\",I1610>8,\"udgår\",H1610<8,\"\",I1610<8,\"\")","v":""}]
[null,null,null,null,null,null,null,null,null,0,{"$f":"+_xlfn.IFS(H1611>8,\"udgår\",I1611>8,\"udgår\",H1611<8,\"\",I1611<8,\"\")","v":""}]
[null,null,null,null,null,null,null,null,null,0,{"$f":"+_xlfn.IFS(H1612>8,\"udgår\",I1612>8,\"udgår\",H1612<8,\"\",I1612<8,\"\")","v":""}]
[null,null,null,null,null,null,null,null,null,0,{"$f":"+_xlfn.IFS(H1613>8,\"udgår\",I1613>8,\"udgår\",H1613<8,\"\",I1613<8,\"\")","v":""}]
[null,null,null,null,null,null,null,null,null,0,{"$f":"+_xlfn.IFS(H1614>8,\"udgår\",I1614>8,\"udgår\",H1614<8,\"\",I1614<8,\"\")","v":""}]
[null,null,null,null,null,null,null,null,null,0,{"$f":"+_xlfn.IFS(H1615>8,\"udgår\",I1615>8,\"udgår\",H1615<8,\"\",I1615<8,\"\")","v":""}]
[null,null,null,null,null,null,null,null,null,0,{"$f":"+_xlfn.IFS(H1616>8,\"udgår\",I1616>8,\"udgår\",H1616<8,\"\",I1616<8,\"\")","v":""}]
[null,null,null,null,null,null,null,null,null,0,{"$f":"+_xlfn.IFS(H1617>8,\"udgår\",I1617>8,\"udgår\",H1617<8,\"\",I1617<8,\"\")","v":""}]
[null,null,null,null,null,null,null,null,null,0,{"$f":"+_xlfn.IFS(H1618>8,\"udgår\",I1618>8,\"udgår\",H1618<8,\"\",I1618<8,\"\")","v":""}]
[null,null,null,null,null,null,null,null,null,0,{"$f":"+_xlfn.IFS(H1619>8,\"udgår\",I1619>8,\"udgår\",H1619<8,\"\",I1619<8,\"\")","v":""}]
[null,null,null,null,null,null,null,null,null,0,{"$f":"+_xlfn.IFS(H1620>8,\"udgår\",I1620>8,\"udgår\",H1620<8,\"\",I1620<8,\"\")","v":""}]
[null,null,null,null,null,null,null,null,null,0,{"$f":"+_xlfn.IFS(H1621>8,\"udgår\",I1621>8,\"udgår\",H1621<8,\"\",I1621<8,\"\")","v":""}]
[null,null,null,null,null,null,null,null,null,0,{"$f":"+_xlfn.IFS(H1622>8,\"udgår\",I1622>8,\"udgår\",H1622<8,\"\",I1622<8,\"\")","v":""}]
[null,null,null,null,null,null,null,null,null,0,{"$f":"+_xlfn.IFS(H1623>8,\"udgår\",I1623>8,\"udgår\",H1623<8,\"\",I1623<8,\"\")","v":""}]
[null,null,null,null,null,null,null,null,null,0,{"$f":"+_xlfn.IFS(H1624>8,\"udgår\",I1624>8,\"udgår\",H1624<8,\"\",I1624<8,\"\")","v":""}]
[null,null,null,null,null,null,null,null,null,0,{"$f":"+_xlfn.IFS(H1625>8,\"udgår\",I1625>8,\"udgår\",H1625<8,\"\",I1625<8,\"\")","v":""}]
[null,null,null,null,null,null,null,null,null,0,{"$f":"+_xlfn.IFS(H1626>8,\"udgår\",I1626>8,\"udgår\",H1626<8,\"\",I1626<8,\"\")","v":""}]
[null,null,null,null,null,null,null,null,null,0,{"$f":"+_xlfn.IFS(H1627>8,\"udgår\",I1627>8,\"udgår\",H1627<8,\"\",I1627<8,\"\")","v":""}]
[null,null,null,null,null,null,null,null,null,0,{"$f":"+_xlfn.IFS(H1628>8,\"udgår\",I1628>8,\"udgår\",H1628<8,\"\",I1628<8,\"\")","v":""}]
[null,null,null,null,null,null,null,null,null,0,{"$f":"+_xlfn.IFS(H1629>8,\"udgår\",I1629>8,\"udgår\",H1629<8,\"\",I1629<8,\"\")","v":""}]
[null,null,null,null,null,null,null,null,null,0,{"$f":"+_xlfn.IFS(H1630>8,\"udgår\",I1630>8,\"udgår\",H1630<8,\"\",I1630<8,\"\")","v":""}]
[null,null,null,null,null,null,null,null,null,0,{"$f":"+_xlfn.IFS(H1631>8,\"udgår\",I1631>8,\"udgår\",H1631<8,\"\",I1631<8,\"\")","v":""}]
[null,null,null,null,null,null,null,null,null,0,{"$f":"+_xlfn.IFS(H1632>8,\"udgår\",I1632>8,\"udgår\",H1632<8,\"\",I1632<8,\"\")","v":""}]
[null,null,null,null,null,null,null,null,null,0,{"$f":"+_xlfn.IFS(H1633>8,\"udgår\",I1633>8,\"udgår\",H1633<8,\"\",I1633<8,\"\")","v":""}]
[null,null,null,null,null,null,null,null,null,0,{"$f":"+_xlfn.IFS(H1634>8,\"udgår\",I1634>8,\"udgår\",H1634<8,\"\",I1634<8,\"\")","v":""}]
[null,null,null,null,null,null,null,null,null,0,{"$f":"+_xlfn.IFS(H1635>8,\"udgår\",I1635>8,\"udgår\",H1635<8,\"\",I1635<8,\"\")","v":""}]
[null,null,null,null,null,null,null,null,null,0,{"$f":"+_xlfn.IFS(H1636>8,\"udgår\",I1636>8,\"udgår\",H1636<8,\"\",I1636<8,\"\")","v":""}]
[null,null,null,null,null,null,null,null,null,0,{"$f":"+_xlfn.IFS(H1637>8,\"udgår\",I1637>8,\"udgår\",H1637<8,\"\",I1637<8,\"\")","v":""}]
[null,null,null,null,null,null,null,null,null,0,{"$f":"+_xlfn.IFS(H1638>8,\"udgår\",I1638>8,\"udgår\",H1638<8,\"\",I1638<8,\"\")","v":""}]
[null,null,null,null,null,null,null,null,null,0,{"$f":"+_xlfn.IFS(H1639>8,\"udgår\",I1639>8,\"udgår\",H1639<8,\"\",I1639<8,\"\")","v":""}]
[null,null,null,null,null,null,null,null,null,0,{"$f":"+_xlfn.IFS(H1640>8,\"udgår\",I1640>8,\"udgår\",H1640<8,\"\",I1640<8,\"\")","v":""}]
[null,null,null,null,null,null,null,null,null,0,{"$f":"+_xlfn.IFS(H1641>8,\"udgår\",I1641>8,\"udgår\",H1641<8,\"\",I1641<8,\"\")","v":""}]
[null,null,null,null,null,null,null,null,null,0,{"$f":"+_xlfn.IFS(H1642>8,\"udgår\",I1642>8,\"udgår\",H1642<8,\"\",I1642<8,\"\")","v":""}]
[null,null,null,null,null,null,null,null,null,0,{"$f":"+_xlfn.IFS(H1643>8,\"udgår\",I1643>8,\"udgår\",H1643<8,\"\",I1643<8,\"\")","v":""}]
[null,null,null,null,null,null,null,null,null,0,{"$f":"+_xlfn.IFS(H1644>8,\"udgår\",I1644>8,\"udgår\",H1644<8,\"\",I1644<8,\"\")","v":""}]
[null,null,null,null,null,null,null,null,null,0,{"$f":"+_xlfn.IFS(H1645>8,\"udgår\",I1645>8,\"udgår\",H1645<8,\"\",I1645<8,\"\")","v":""}]
[null,null,null,null,null,null,null,null,null,0,{"$f":"+_xlfn.IFS(H1646>8,\"udgår\",I1646>8,\"udgår\",H1646<8,\"\",I1646<8,\"\")","v":""}]
[null,null,null,null,null,null,null,null,null,0,{"$f":"+_xlfn.IFS(H1647>8,\"udgår\",I1647>8,\"udgår\",H1647<8,\"\",I1647<8,\"\")","v":""}]
[null,null,null,null,null,null,null,null,null,0,{"$f":"+_xlfn.IFS(H1648>8,\"udgår\",I1648>8,\"udgår\",H1648<8,\"\",I1648<8,\"\")","v":""}]
[null,null,null,null,null,null,null,null,null,0,{"$f":"+_xlfn.IFS(H1649>8,\"udgår\",I1649>8,\"udgår\",H1649<8,\"\",I1649<8,\"\")","v":""}]
[null,null,null,null,null,null,null,null,null,0,{"$f":"+_xlfn.IFS(H1650>8,\"udgår\",I1650>8,\"udgår\",H1650<8,\"\",I1650<8,\"\")","v":""}]
[null,null,null,null,null,null,null,null,null,0,{"$f":"+_xlfn.IFS(H1651>8,\"udgår\",I1651>8,\"udgår\",H1651<8,\"\",I1651<8,\"\")","v":""}]
[null,null,null,null,null,null,null,null,null,0,{"$f":"+_xlfn.IFS(H1652>8,\"udgår\",I1652>8,\"udgår\",H1652<8,\"\",I1652<8,\"\")","v":""}]
[null,null,null,null,null,null,null,null,null,0,{"$f":"+_xlfn.IFS(H1653>8,\"udgår\",I1653>8,\"udgår\",H1653<8,\"\",I1653<8,\"\")","v":""}]
[null,null,null,null,null,null,null,null,null,0,{"$f":"+_xlfn.IFS(H1654>8,\"udgår\",I1654>8,\"udgår\",H1654<8,\"\",I1654<8,\"\")","v":""}]
[null,null,null,null,null,null,null,null,null,0,{"$f":"+_xlfn.IFS(H1655>8,\"udgår\",I1655>8,\"udgår\",H1655<8,\"\",I1655<8,\"\")","v":""}]
[null,null,null,null,null,null,null,null,null,0,{"$f":"+_xlfn.IFS(H1656>8,\"udgår\",I1656>8,\"udgår\",H1656<8,\"\",I1656<8,\"\")","v":""}]
[null,null,null,null,null,null,null,null,null,0,{"$f":"+_xlfn.IFS(H1657>8,\"udgår\",I1657>8,\"udgår\",H1657<8,\"\",I1657<8,\"\")","v":""}]
[null,null,null,null,null,null,null,null,null,0,{"$f":"+_xlfn.IFS(H1658>8,\"udgår\",I1658>8,\"udgår\",H1658<8,\"\",I1658<8,\"\")","v":""}]
[null,null,null,null,null,null,null,null,null,0,{"$f":"+_xlfn.IFS(H1659>8,\"udgår\",I1659>8,\"udgår\",H1659<8,\"\",I1659<8,\"\")","v":""}]
[null,null,null,null,null,null,null,null,null,0,{"$f":"+_xlfn.IFS(H1660>8,\"udgår\",I1660>8,\"udgår\",H1660<8,\"\",I1660<8,\"\")","v":""}]
[null,null,null,null,null,null,null,null,null,0,{"$f":"+_xlfn.IFS(H1661>8,\"udgår\",I1661>8,\"udgår\",H1661<8,\"\",I1661<8,\"\")","v":""}]
[null,null,null,null,null,null,null,null,null,0,{"$f":"+_xlfn.IFS(H1662>8,\"udgår\",I1662>8,\"udgår\",H1662<8,\"\",I1662<8,\"\")","v":""}]
[null,null,null,null,null,null,null,null,null,0,{"$f":"+_xlfn.IFS(H1663>8,\"udgår\",I1663>8,\"udgår\",H1663<8,\"\",I1663<8,\"\")","v":""}]
[null,null,null,null,null,null,null,null,null,0,{"$f":"+_xlfn.IFS(H1664>8,\"udgår\",I1664>8,\"udgår\",H1664<8,\"\",I1664<8,\"\")","v":""}]
[null,null,null,null,null,null,null,null,null,0,{"$f":"+_xlfn.IFS(H1665>8,\"udgår\",I1665>8,\"udgår\",H1665<8,\"\",I1665<8,\"\")","v":""}]
[null,null,null,null,null,null,null,null,null,0,{"$f":"+_xlfn.IFS(H1666>8,\"udgår\",I1666>8,\"udgår\",H1666<8,\"\",I1666<8,\"\")","v":""}]
[null,null,null,null,null,null,null,null,null,{"$f":"+D1667-F1667","v":0},{"$f":"+_xlfn.IFS(H1667>8,\"udgår\",I1667>8,\"udgår\",H1667<8,\"\",I1667<8,\"\")","v":""}]
[null,null,null,null,null,null,null,null,null,0,{"$f":"+_xlfn.IFS(H1668>8,\"udgår\",I1668>8,\"udgår\",H1668<8,\"\",I1668<8,\"\")","v":""}]
[null,null,null,null,null,null,null,null,null,0,{"$f":"+_xlfn.IFS(H1669>8,\"udgår\",I1669>8,\"udgår\",H1669<8,\"\",I1669<8,\"\")","v":""}]
[null,null,null,null,null,null,null,null,null,0,{"$f":"+_xlfn.IFS(H1670>8,\"udgår\",I1670>8,\"udgår\",H1670<8,\"\",I1670<8,\"\")","v":""}]
[null,null,null,null,null,null,null,null,null,0,{"$f":"+_xlfn.IFS(H1671>8,\"udgår\",I1671>8,\"udgår\",H1671<8,\"\",I1671<8,\"\")","v":""}]
[null,null,null,null,null,null,null,null,null,0,{"$f":"+_xlfn.IFS(H1672>8,\"udgår\",I1672>8,\"udgår\",H1672<8,\"\",I1672<8,\"\")","v":""}]
[null,null,null,null,null,null,null,null,null,0,{"$f":"+_xlfn.IFS(H1673>8,\"udgår\",I1673>8,\"udgår\",H1673<8,\"\",I1673<8,\"\")","v":""}]
[null,null,null,null,null,null,null,null,null,0,{"$f":"+_xlfn.IFS(H1674>8,\"udgår\",I1674>8,\"udgår\",H1674<8,\"\",I1674<8,\"\")","v":""}]
[null,null,null,null,null,null,null,null,null,0,{"$f":"+_xlfn.IFS(H1675>8,\"udgår\",I1675>8,\"udgår\",H1675<8,\"\",I1675<8,\"\")","v":""}]
[null,null,null,null,null,null,null,null,null,0,{"$f":"+_xlfn.IFS(H1676>8,\"udgår\",I1676>8,\"udgår\",H1676<8,\"\",I1676<8,\"\")","v":""}]
[null,null,null,null,null,null,null,null,null,0,{"$f":"+_xlfn.IFS(H1677>8,\"udgår\",I1677>8,\"udgår\",H1677<8,\"\",I1677<8,\"\")","v":""}]
[null,null,null,null,null,null,null,null,null,0,{"$f":"+_xlfn.IFS(H1678>8,\"udgår\",I1678>8,\"udgår\",H1678<8,\"\",I1678<8,\"\")","v":""}]
[null,null,null,null,null,null,null,null,null,0,{"$f":"+_xlfn.IFS(H1679>8,\"udgår\",I1679>8,\"udgår\",H1679<8,\"\",I1679<8,\"\")","v":""}]
[null,null,null,null,null,null,null,null,null,0,{"$f":"+_xlfn.IFS(H1680>8,\"udgår\",I1680>8,\"udgår\",H1680<8,\"\",I1680<8,\"\")","v":""}]
[null,null,null,null,null,null,null,null,null,0,{"$f":"+_xlfn.IFS(H1681>8,\"udgår\",I1681>8,\"udgår\",H1681<8,\"\",I1681<8,\"\")","v":""}]
[null,null,null,null,null,null,null,null,null,0,{"$f":"+_xlfn.IFS(H1682>8,\"udgår\",I1682>8,\"udgår\",H1682<8,\"\",I1682<8,\"\")","v":""}]
[null,null,null,null,null,null,null,null,null,0,{"$f":"+_xlfn.IFS(H1683>8,\"udgår\",I1683>8,\"udgår\",H1683<8,\"\",I1683<8,\"\")","v":""}]
[null,null,null,null,null,null,null,null,null,0,{"$f":"+_xlfn.IFS(H1684>8,\"udgår\",I1684>8,\"udgår\",H1684<8,\"\",I1684<8,\"\")","v":""}]
[null,null,null,null,null,null,null,null,null,0,{"$f":"+_xlfn.IFS(H1685>8,\"udgår\",I1685>8,\"udgår\",H1685<8,\"\",I1685<8,\"\")","v":""}]
[null,null,null,null,null,null,null,null,null,0,{"$f":"+_xlfn.IFS(H1686>8,\"udgår\",I1686>8,\"udgår\",H1686<8,\"\",I1686<8,\"\")","v":""}]
[null,null,null,null,null,null,null,null,null,0,{"$f":"+_xlfn.IFS(H1687>8,\"udgår\",I1687>8,\"udgår\",H1687<8,\"\",I1687<8,\"\")","v":""}]
[null,null,null,null,null,null,null,null,null,0,{"$f":"+_xlfn.IFS(H1688>8,\"udgår\",I1688>8,\"udgår\",H1688<8,\"\",I1688<8,\"\")","v":""}]
[null,null,null,null,null,null,null,null,null,0,{"$f":"+_xlfn.IFS(H1689>8,\"udgår\",I1689>8,\"udgår\",H1689<8,\"\",I1689<8,\"\")","v":""}]
[null,null,null,null,null,null,null,null,null,0,{"$f":"+_xlfn.IFS(H1690>8,\"udgår\",I1690>8,\"udgår\",H1690<8,\"\",I1690<8,\"\")","v":""}]
[null,null,null,null,null,null,null,null,null,0,{"$f":"+_xlfn.IFS(H1691>8,\"udgår\",I1691>8,\"udgår\",H1691<8,\"\",I1691<8,\"\")","v":""}]
[null,null,null,null,null,null,null,null,null,0,{"$f":"+_xlfn.IFS(H1692>8,\"udgår\",I1692>8,\"udgår\",H1692<8,\"\",I1692<8,\"\")","v":""}]
[null,null,null,null,null,null,null,null,null,0,{"$f":"+_xlfn.IFS(H1693>8,\"udgår\",I1693>8,\"udgår\",H1693<8,\"\",I1693<8,\"\")","v":""}]
[null,null,null,null,null,null,null,null,null,0,{"$f":"+_xlfn.IFS(H1694>8,\"udgår\",I1694>8,\"udgår\",H1694<8,\"\",I1694<8,\"\")","v":""}]
[null,null,null,null,null,null,null,null,null,0,{"$f":"+_xlfn.IFS(H1695>8,\"udgår\",I1695>8,\"udgår\",H1695<8,\"\",I1695<8,\"\")","v":""}]
[null,null,null,null,null,null,null,null,null,0,{"$f":"+_xlfn.IFS(H1696>8,\"udgår\",I1696>8,\"udgår\",H1696<8,\"\",I1696<8,\"\")","v":""}]
[null,null,null,null,null,null,null,null,null,0,{"$f":"+_xlfn.IFS(H1697>8,\"udgår\",I1697>8,\"udgår\",H1697<8,\"\",I1697<8,\"\")","v":""}]
[null,null,null,null,null,null,null,null,null,0,{"$f":"+_xlfn.IFS(H1698>8,\"udgår\",I1698>8,\"udgår\",H1698<8,\"\",I1698<8,\"\")","v":""}]
[null,null,null,null,null,null,null,null,null,0,{"$f":"+_xlfn.IFS(H1699>8,\"udgår\",I1699>8,\"udgår\",H1699<8,\"\",I1699<8,\"\")","v":""}]
[null,null,null,null,null,null,null,null,null,0,{"$f":"+_xlfn.IFS(H1700>8,\"udgår\",I1700>8,\"udgår\",H1700<8,\"\",I1700<8,\"\")","v":""}]
[null,null,null,null,null,null,null,null,null,0,{"$f":"+_xlfn.IFS(H1701>8,\"udgår\",I1701>8,\"udgår\",H1701<8,\"\",I1701<8,\"\")","v":""}]
[null,null,null,null,null,null,null,null,null,0,{"$f":"+_xlfn.IFS(H1702>8,\"udgår\",I1702>8,\"udgår\",H1702<8,\"\",I1702<8,\"\")","v":""}]
[null,null,null,null,null,null,null,null,null,0,{"$f":"+_xlfn.IFS(H1703>8,\"udgår\",I1703>8,\"udgår\",H1703<8,\"\",I1703<8,\"\")","v":""}]
[null,null,null,null,null,null,null,null,null,0,{"$f":"+_xlfn.IFS(H1704>8,\"udgår\",I1704>8,\"udgår\",H1704<8,\"\",I1704<8,\"\")","v":""}]
[null,null,null,null,null,null,null,null,null,0,{"$f":"+_xlfn.IFS(H1705>8,\"udgår\",I1705>8,\"udgår\",H1705<8,\"\",I1705<8,\"\")","v":""}]
[null,null,null,null,null,null,null,null,null,0,{"$f":"+_xlfn.IFS(H1706>8,\"udgår\",I1706>8,\"udgår\",H1706<8,\"\",I1706<8,\"\")","v":""}]
[null,null,null,null,null,null,null,null,null,0,{"$f":"+_xlfn.IFS(H1707>8,\"udgår\",I1707>8,\"udgår\",H1707<8,\"\",I1707<8,\"\")","v":""}]
[null,null,null,null,null,null,null,null,null,0,{"$f":"+_xlfn.IFS(H1708>8,\"udgår\",I1708>8,\"udgår\",H1708<8,\"\",I1708<8,\"\")","v":""}]
[null,null,null,null,null,null,null,null,null,0,{"$f":"+_xlfn.IFS(H1709>8,\"udgår\",I1709>8,\"udgår\",H1709<8,\"\",I1709<8,\"\")","v":""}]
[null,null,null,null,null,null,null,null,null,0,{"$f":"+_xlfn.IFS(H1710>8,\"udgår\",I1710>8,\"udgår\",H1710<8,\"\",I1710<8,\"\")","v":""}]
[null,null,null,null,null,null,null,null,null,0,{"$f":"+_xlfn.IFS(H1711>8,\"udgår\",I1711>8,\"udgår\",H1711<8,\"\",I1711<8,\"\")","v":""}]
[null,null,null,null,null,null,null,null,null,0,{"$f":"+_xlfn.IFS(H1712>8,\"udgår\",I1712>8,\"udgår\",H1712<8,\"\",I1712<8,\"\")","v":""}]
[null,null,null,null,null,null,null,null,null,0,{"$f":"+_xlfn.IFS(H1713>8,\"udgår\",I1713>8,\"udgår\",H1713<8,\"\",I1713<8,\"\")","v":""}]
[null,null,null,null,null,null,null,null,null,0,{"$f":"+_xlfn.IFS(H1714>8,\"udgår\",I1714>8,\"udgår\",H1714<8,\"\",I1714<8,\"\")","v":""}]
[null,null,null,null,null,null,null,null,null,0,{"$f":"+_xlfn.IFS(H1715>8,\"udgår\",I1715>8,\"udgår\",H1715<8,\"\",I1715<8,\"\")","v":""}]
[null,null,null,null,null,null,null,null,null,0,{"$f":"+_xlfn.IFS(H1716>8,\"udgår\",I1716>8,\"udgår\",H1716<8,\"\",I1716<8,\"\")","v":""}]
[null,null,null,null,null,null,null,null,null,0,{"$f":"+_xlfn.IFS(H1717>8,\"udgår\",I1717>8,\"udgår\",H1717<8,\"\",I1717<8,\"\")","v":""}]
[null,null,null,null,null,null,null,null,null,0,{"$f":"+_xlfn.IFS(H1718>8,\"udgår\",I1718>8,\"udgår\",H1718<8,\"\",I1718<8,\"\")","v":""}]
[null,null,null,null,null,null,null,null,null,0,{"$f":"+_xlfn.IFS(H1719>8,\"udgår\",I1719>8,\"udgår\",H1719<8,\"\",I1719<8,\"\")","v":""}]
[null,null,null,null,null,null,null,null,null,0,{"$f":"+_xlfn.IFS(H1720>8,\"udgår\",I1720>8,\"udgår\",H1720<8,\"\",I1720<8,\"\")","v":""}]
[null,null,null,null,null,null,null,null,null,0,{"$f":"+_xlfn.IFS(H1721>8,\"udgår\",I1721>8,\"udgår\",H1721<8,\"\",I1721<8,\"\")","v":""}]
[null,null,null,null,null,null,null,null,null,0,{"$f":"+_xlfn.IFS(H1722>8,\"udgår\",I1722>8,\"udgår\",H1722<8,\"\",I1722<8,\"\")","v":""}]
[null,null,null,null,null,null,null,null,null,0,{"$f":"+_xlfn.IFS(H1723>8,\"udgår\",I1723>8,\"udgår\",H1723<8,\"\",I1723<8,\"\")","v":""}]
[null,null,null,null,null,null,null,null,null,0,{"$f":"+_xlfn.IFS(H1724>8,\"udgår\",I1724>8,\"udgår\",H1724<8,\"\",I1724<8,\"\")","v":""}]
[null,null,null,null,null,null,null,null,null,0,{"$f":"+_xlfn.IFS(H1725>8,\"udgår\",I1725>8,\"udgår\",H1725<8,\"\",I1725<8,\"\")","v":""}]
[null,null,null,null,null,null,null,null,null,0,{"$f":"+_xlfn.IFS(H1726>8,\"udgår\",I1726>8,\"udgår\",H1726<8,\"\",I1726<8,\"\")","v":""}]
[null,null,null,null,null,null,null,null,null,0,{"$f":"+_xlfn.IFS(H1727>8,\"udgår\",I1727>8,\"udgår\",H1727<8,\"\",I1727<8,\"\")","v":""}]
[null,null,null,null,null,null,null,null,null,0,{"$f":"+_xlfn.IFS(H1728>8,\"udgår\",I1728>8,\"udgår\",H1728<8,\"\",I1728<8,\"\")","v":""}]
[null,null,null,null,null,null,null,null,null,0,{"$f":"+_xlfn.IFS(H1729>8,\"udgår\",I1729>8,\"udgår\",H1729<8,\"\",I1729<8,\"\")","v":""}]
[null,null,null,null,null,null,null,null,null,0,{"$f":"+_xlfn.IFS(H1730>8,\"udgår\",I1730>8,\"udgår\",H1730<8,\"\",I1730<8,\"\")","v":""}]
[null,null,null,null,null,null,null,null,null,{"$f":"+D1731-F1731","v":0},{"$f":"+_xlfn.IFS(H1731>8,\"udgår\",I1731>8,\"udgår\",H1731<8,\"\",I1731<8,\"\")","v":""}]
[null,null,null,null,null,null,null,null,null,0,{"$f":"+_xlfn.IFS(H1732>8,\"udgår\",I1732>8,\"udgår\",H1732<8,\"\",I1732<8,\"\")","v":""}]
[null,null,null,null,null,null,null,null,null,0,{"$f":"+_xlfn.IFS(H1733>8,\"udgår\",I1733>8,\"udgår\",H1733<8,\"\",I1733<8,\"\")","v":""}]
[null,null,null,null,null,null,null,null,null,0,{"$f":"+_xlfn.IFS(H1734>8,\"udgår\",I1734>8,\"udgår\",H1734<8,\"\",I1734<8,\"\")","v":""}]
[null,null,null,null,null,null,null,null,null,0,{"$f":"+_xlfn.IFS(H1735>8,\"udgår\",I1735>8,\"udgår\",H1735<8,\"\",I1735<8,\"\")","v":""}]
[null,null,null,null,null,null,null,null,null,0,{"$f":"+_xlfn.IFS(H1736>8,\"udgår\",I1736>8,\"udgår\",H1736<8,\"\",I1736<8,\"\")","v":""}]
[null,null,null,null,null,null,null,null,null,0,{"$f":"+_xlfn.IFS(H1737>8,\"udgår\",I1737>8,\"udgår\",H1737<8,\"\",I1737<8,\"\")","v":""}]
[null,null,null,null,null,null,null,null,null,0,{"$f":"+_xlfn.IFS(H1738>8,\"udgår\",I1738>8,\"udgår\",H1738<8,\"\",I1738<8,\"\")","v":""}]
[null,null,null,null,null,null,null,null,null,0,{"$f":"+_xlfn.IFS(H1739>8,\"udgår\",I1739>8,\"udgår\",H1739<8,\"\",I1739<8,\"\")","v":""}]
[null,null,null,null,null,null,null,null,null,0,{"$f":"+_xlfn.IFS(H1740>8,\"udgår\",I1740>8,\"udgår\",H1740<8,\"\",I1740<8,\"\")","v":""}]
[null,null,null,null,null,null,null,null,null,0,{"$f":"+_xlfn.IFS(H1741>8,\"udgår\",I1741>8,\"udgår\",H1741<8,\"\",I1741<8,\"\")","v":""}]
[null,null,null,null,null,null,null,null,null,0,{"$f":"+_xlfn.IFS(H1742>8,\"udgår\",I1742>8,\"udgår\",H1742<8,\"\",I1742<8,\"\")","v":""}]
[null,null,null,null,null,null,null,null,null,0,{"$f":"+_xlfn.IFS(H1743>8,\"udgår\",I1743>8,\"udgår\",H1743<8,\"\",I1743<8,\"\")","v":""}]
[null,null,null,null,null,null,null,null,null,0,{"$f":"+_xlfn.IFS(H1744>8,\"udgår\",I1744>8,\"udgår\",H1744<8,\"\",I1744<8,\"\")","v":""}]
[null,null,null,null,null,null,null,null,null,0,{"$f":"+_xlfn.IFS(H1745>8,\"udgår\",I1745>8,\"udgår\",H1745<8,\"\",I1745<8,\"\")","v":""}]
[null,null,null,null,null,null,null,null,null,0,{"$f":"+_xlfn.IFS(H1746>8,\"udgår\",I1746>8,\"udgår\",H1746<8,\"\",I1746<8,\"\")","v":""}]
[null,null,null,null,null,null,null,null,null,0,{"$f":"+_xlfn.IFS(H1747>8,\"udgår\",I1747>8,\"udgår\",H1747<8,\"\",I1747<8,\"\")","v":""}]
[null,null,null,null,null,null,null,null,null,0,{"$f":"+_xlfn.IFS(H1748>8,\"udgår\",I1748>8,\"udgår\",H1748<8,\"\",I1748<8,\"\")","v":""}]
[null,null,null,null,null,null,null,null,null,0,{"$f":"+_xlfn.IFS(H1749>8,\"udgår\",I1749>8,\"udgår\",H1749<8,\"\",I1749<8,\"\")","v":""}]
[null,null,null,null,null,null,null,null,null,0,{"$f":"+_xlfn.IFS(H1750>8,\"udgår\",I1750>8,\"udgår\",H1750<8,\"\",I1750<8,\"\")","v":""}]
[null,null,null,null,null,null,null,null,null,0,{"$f":"+_xlfn.IFS(H1751>8,\"udgår\",I1751>8,\"udgår\",H1751<8,\"\",I1751<8,\"\")","v":""}]
[null,null,null,null,null,null,null,null,null,0,{"$f":"+_xlfn.IFS(H1752>8,\"udgår\",I1752>8,\"udgår\",H1752<8,\"\",I1752<8,\"\")","v":""}]
[null,null,null,null,null,null,null,null,null,0,{"$f":"+_xlfn.IFS(H1753>8,\"udgår\",I1753>8,\"udgår\",H1753<8,\"\",I1753<8,\"\")","v":""}]
[null,null,null,null,null,null,null,null,null,0,{"$f":"+_xlfn.IFS(H1754>8,\"udgår\",I1754>8,\"udgår\",H1754<8,\"\",I1754<8,\"\")","v":""}]
[null,null,null,null,null,null,null,null,null,0,{"$f":"+_xlfn.IFS(H1755>8,\"udgår\",I1755>8,\"udgår\",H1755<8,\"\",I1755<8,\"\")","v":""}]
[null,null,null,null,null,null,null,null,null,0,{"$f":"+_xlfn.IFS(H1756>8,\"udgår\",I1756>8,\"udgår\",H1756<8,\"\",I1756<8,\"\")","v":""}]
[null,null,null,null,null,null,null,null,null,0,{"$f":"+_xlfn.IFS(H1757>8,\"udgår\",I1757>8,\"udgår\",H1757<8,\"\",I1757<8,\"\")","v":""}]
[null,null,null,null,null,null,null,null,null,0,{"$f":"+_xlfn.IFS(H1758>8,\"udgår\",I1758>8,\"udgår\",H1758<8,\"\",I1758<8,\"\")","v":""}]
[null,null,null,null,null,null,null,null,null,0,{"$f":"+_xlfn.IFS(H1759>8,\"udgår\",I1759>8,\"udgår\",H1759<8,\"\",I1759<8,\"\")","v":""}]
[null,null,null,null,null,null,null,null,null,0,{"$f":"+_xlfn.IFS(H1760>8,\"udgår\",I1760>8,\"udgår\",H1760<8,\"\",I1760<8,\"\")","v":""}]
[null,null,null,null,null,null,null,null,null,0,{"$f":"+_xlfn.IFS(H1761>8,\"udgår\",I1761>8,\"udgår\",H1761<8,\"\",I1761<8,\"\")","v":""}]
[null,null,null,null,null,null,null,null,null,0,{"$f":"+_xlfn.IFS(H1762>8,\"udgår\",I1762>8,\"udgår\",H1762<8,\"\",I1762<8,\"\")","v":""}]
[null,null,null,null,null,null,null,null,null,0,{"$f":"+_xlfn.IFS(H1763>8,\"udgår\",I1763>8,\"udgår\",H1763<8,\"\",I1763<8,\"\")","v":""}]
[null,null,null,null,null,null,null,null,null,0,{"$f":"+_xlfn.IFS(H1764>8,\"udgår\",I1764>8,\"udgår\",H1764<8,\"\",I1764<8,\"\")","v":""}]
[null,null,null,null,null,null,null,null,null,0,{"$f":"+_xlfn.IFS(H1765>8,\"udgår\",I1765>8,\"udgår\",H1765<8,\"\",I1765<8,\"\")","v":""}]
[null,null,null,null,null,null,null,null,null,0,{"$f":"+_xlfn.IFS(H1766>8,\"udgår\",I1766>8,\"udgår\",H1766<8,\"\",I1766<8,\"\")","v":""}]
[null,null,null,null,null,null,null,null,null,0,{"$f":"+_xlfn.IFS(H1767>8,\"udgår\",I1767>8,\"udgår\",H1767<8,\"\",I1767<8,\"\")","v":""}]
[null,null,null,null,null,null,null,null,null,0,{"$f":"+_xlfn.IFS(H1768>8,\"udgår\",I1768>8,\"udgår\",H1768<8,\"\",I1768<8,\"\")","v":""}]
[null,null,null,null,null,null,null,null,null,0,{"$f":"+_xlfn.IFS(H1769>8,\"udgår\",I1769>8,\"udgår\",H1769<8,\"\",I1769<8,\"\")","v":""}]
[null,null,null,null,null,null,null,null,null,0,{"$f":"+_xlfn.IFS(H1770>8,\"udgår\",I1770>8,\"udgår\",H1770<8,\"\",I1770<8,\"\")","v":""}]
[null,null,null,null,null,null,null,null,null,0,{"$f":"+_xlfn.IFS(H1771>8,\"udgår\",I1771>8,\"udgår\",H1771<8,\"\",I1771<8,\"\")","v":""}]
[null,null,null,null,null,null,null,null,null,0,{"$f":"+_xlfn.IFS(H1772>8,\"udgår\",I1772>8,\"udgår\",H1772<8,\"\",I1772<8,\"\")","v":""}]
[null,null,null,null,null,null,null,null,null,0,{"$f":"+_xlfn.IFS(H1773>8,\"udgår\",I1773>8,\"udgår\",H1773<8,\"\",I1773<8,\"\")","v":""}]
[null,null,null,null,null,null,null,null,null,0,{"$f":"+_xlfn.IFS(H1774>8,\"udgår\",I1774>8,\"udgår\",H1774<8,\"\",I1774<8,\"\")","v":""}]
[null,null,null,null,null,null,null,null,null,0,{"$f":"+_xlfn.IFS(H1775>8,\"udgår\",I1775>8,\"udgår\",H1775<8,\"\",I1775<8,\"\")","v":""}]
[null,null,null,null,null,null,null,null,null,0,{"$f":"+_xlfn.IFS(H1776>8,\"udgår\",I1776>8,\"udgår\",H1776<8,\"\",I1776<8,\"\")","v":""}]
[null,null,null,null,null,null,null,null,null,0,{"$f":"+_xlfn.IFS(H1777>8,\"udgår\",I1777>8,\"udgår\",H1777<8,\"\",I1777<8,\"\")","v":""}]
[null,null,null,null,null,null,null,null,null,0,{"$f":"+_xlfn.IFS(H1778>8,\"udgår\",I1778>8,\"udgår\",H1778<8,\"\",I1778<8,\"\")","v":""}]
[null,null,null,null,null,null,null,null,null,0,{"$f":"+_xlfn.IFS(H1779>8,\"udgår\",I1779>8,\"udgår\",H1779<8,\"\",I1779<8,\"\")","v":""}]
[null,null,null,null,null,null,null,null,null,0,{"$f":"+_xlfn.IFS(H1780>8,\"udgår\",I1780>8,\"udgår\",H1780<8,\"\",I1780<8,\"\")","v":""}]
[null,null,null,null,null,null,null,null,null,0,{"$f":"+_xlfn.IFS(H1781>8,\"udgår\",I1781>8,\"udgår\",H1781<8,\"\",I1781<8,\"\")","v":""}]
[null,null,null,null,null,null,null,null,null,0,{"$f":"+_xlfn.IFS(H1782>8,\"udgår\",I1782>8,\"udgår\",H1782<8,\"\",I1782<8,\"\")","v":""}]
[null,null,null,null,null,null,null,null,null,0,{"$f":"+_xlfn.IFS(H1783>8,\"udgår\",I1783>8,\"udgår\",H1783<8,\"\",I1783<8,\"\")","v":""}]
[null,null,null,null,null,null,null,null,null,0,{"$f":"+_xlfn.IFS(H1784>8,\"udgår\",I1784>8,\"udgår\",H1784<8,\"\",I1784<8,\"\")","v":""}]
[null,null,null,null,null,null,null,null,null,0,{"$f":"+_xlfn.IFS(H1785>8,\"udgår\",I1785>8,\"udgår\",H1785<8,\"\",I1785<8,\"\")","v":""}]
[null,null,null,null,null,null,null,null,null,0,{"$f":"+_xlfn.IFS(H1786>8,\"udgår\",I1786>8,\"udgår\",H1786<8,\"\",I1786<8,\"\")","v":""}]
[null,null,null,null,null,null,null,null,null,0,{"$f":"+_xlfn.IFS(H1787>8,\"udgår\",I1787>8,\"udgår\",H1787<8,\"\",I1787<8,\"\")","v":""}]
[null,null,null,null,null,null,null,null,null,0,{"$f":"+_xlfn.IFS(H1788>8,\"udgår\",I1788>8,\"udgår\",H1788<8,\"\",I1788<8,\"\")","v":""}]
[null,null,null,null,null,null,null,null,null,0,{"$f":"+_xlfn.IFS(H1789>8,\"udgår\",I1789>8,\"udgår\",H1789<8,\"\",I1789<8,\"\")","v":""}]
[null,null,null,null,null,null,null,null,null,0,{"$f":"+_xlfn.IFS(H1790>8,\"udgår\",I1790>8,\"udgår\",H1790<8,\"\",I1790<8,\"\")","v":""}]
[null,null,null,null,null,null,null,null,null,0,{"$f":"+_xlfn.IFS(H1791>8,\"udgår\",I1791>8,\"udgår\",H1791<8,\"\",I1791<8,\"\")","v":""}]
[null,null,null,null,null,null,null,null,null,0,{"$f":"+_xlfn.IFS(H1792>8,\"udgår\",I1792>8,\"udgår\",H1792<8,\"\",I1792<8,\"\")","v":""}]
[null,null,null,null,null,null,null,null,null,0,{"$f":"+_xlfn.IFS(H1793>8,\"udgår\",I1793>8,\"udgår\",H1793<8,\"\",I1793<8,\"\")","v":""}]
[null,null,null,null,null,null,null,null,null,0,{"$f":"+_xlfn.IFS(H1794>8,\"udgår\",I1794>8,\"udgår\",H1794<8,\"\",I1794<8,\"\")","v":""}]
[null,null,null,null,null,null,null,null,null,{"$f":"+D1795-F1795","v":0},{"$f":"+_xlfn.IFS(H1795>8,\"udgår\",I1795>8,\"udgår\",H1795<8,\"\",I1795<8,\"\")","v":""}]
[null,null,null,null,null,null,null,null,null,0,{"$f":"+_xlfn.IFS(H1796>8,\"udgår\",I1796>8,\"udgår\",H1796<8,\"\",I1796<8,\"\")","v":""}]
[null,null,null,null,null,null,null,null,null,0,{"$f":"+_xlfn.IFS(H1797>8,\"udgår\",I1797>8,\"udgår\",H1797<8,\"\",I1797<8,\"\")","v":""}]
[null,null,null,null,null,null,null,null,null,0,{"$f":"+_xlfn.IFS(H1798>8,\"udgår\",I1798>8,\"udgår\",H1798<8,\"\",I1798<8,\"\")","v":""}]
[null,null,null,null,null,null,null,null,null,0,{"$f":"+_xlfn.IFS(H1799>8,\"udgår\",I1799>8,\"udgår\",H1799<8,\"\",I1799<8,\"\")","v":""}]
[null,null,null,null,null,null,null,null,null,0,{"$f":"+_xlfn.IFS(H1800>8,\"udgår\",I1800>8,\"udgår\",H1800<8,\"\",I1800<8,\"\")","v":""}]
[null,null,null,null,null,null,null,null,null,0,{"$f":"+_xlfn.IFS(H1801>8,\"udgår\",I1801>8,\"udgår\",H1801<8,\"\",I1801<8,\"\")","v":""}]
[null,null,null,null,null,null,null,null,null,0,{"$f":"+_xlfn.IFS(H1802>8,\"udgår\",I1802>8,\"udgår\",H1802<8,\"\",I1802<8,\"\")","v":""}]
[null,null,null,null,null,null,null,null,null,0,{"$f":"+_xlfn.IFS(H1803>8,\"udgår\",I1803>8,\"udgår\",H1803<8,\"\",I1803<8,\"\")","v":""}]
[null,null,null,null,null,null,null,null,null,0,{"$f":"+_xlfn.IFS(H1804>8,\"udgår\",I1804>8,\"udgår\",H1804<8,\"\",I1804<8,\"\")","v":""}]
[null,null,null,null,null,null,null,null,null,0,{"$f":"+_xlfn.IFS(H1805>8,\"udgår\",I1805>8,\"udgår\",H1805<8,\"\",I1805<8,\"\")","v":""}]
[null,null,null,null,null,null,null,null,null,0,{"$f":"+_xlfn.IFS(H1806>8,\"udgår\",I1806>8,\"udgår\",H1806<8,\"\",I1806<8,\"\")","v":""}]
[null,null,null,null,null,null,null,null,null,0,{"$f":"+_xlfn.IFS(H1807>8,\"udgår\",I1807>8,\"udgår\",H1807<8,\"\",I1807<8,\"\")","v":""}]
[null,null,null,null,null,null,null,null,null,0,{"$f":"+_xlfn.IFS(H1808>8,\"udgår\",I1808>8,\"udgår\",H1808<8,\"\",I1808<8,\"\")","v":""}]
[null,null,null,null,null,null,null,null,null,0,{"$f":"+_xlfn.IFS(H1809>8,\"udgår\",I1809>8,\"udgår\",H1809<8,\"\",I1809<8,\"\")","v":""}]
[null,null,null,null,null,null,null,null,null,0,{"$f":"+_xlfn.IFS(H1810>8,\"udgår\",I1810>8,\"udgår\",H1810<8,\"\",I1810<8,\"\")","v":""}]
[null,null,null,null,null,null,null,null,null,0,{"$f":"+_xlfn.IFS(H1811>8,\"udgår\",I1811>8,\"udgår\",H1811<8,\"\",I1811<8,\"\")","v":""}]
[null,null,null,null,null,null,null,null,null,0,{"$f":"+_xlfn.IFS(H1812>8,\"udgår\",I1812>8,\"udgår\",H1812<8,\"\",I1812<8,\"\")","v":""}]
[null,null,null,null,null,null,null,null,null,0,{"$f":"+_xlfn.IFS(H1813>8,\"udgår\",I1813>8,\"udgår\",H1813<8,\"\",I1813<8,\"\")","v":""}]
[null,null,null,null,null,null,null,null,null,0,{"$f":"+_xlfn.IFS(H1814>8,\"udgår\",I1814>8,\"udgår\",H1814<8,\"\",I1814<8,\"\")","v":""}]
[null,null,null,null,null,null,null,null,null,0,{"$f":"+_xlfn.IFS(H1815>8,\"udgår\",I1815>8,\"udgår\",H1815<8,\"\",I1815<8,\"\")","v":""}]
[null,null,null,null,null,null,null,null,null,0,{"$f":"+_xlfn.IFS(H1816>8,\"udgår\",I1816>8,\"udgår\",H1816<8,\"\",I1816<8,\"\")","v":""}]
[null,null,null,null,null,null,null,null,null,0,{"$f":"+_xlfn.IFS(H1817>8,\"udgår\",I1817>8,\"udgår\",H1817<8,\"\",I1817<8,\"\")","v":""}]
[null,null,null,null,null,null,null,null,null,0,{"$f":"+_xlfn.IFS(H1818>8,\"udgår\",I1818>8,\"udgår\",H1818<8,\"\",I1818<8,\"\")","v":""}]
[null,null,null,null,null,null,null,null,null,0,{"$f":"+_xlfn.IFS(H1819>8,\"udgår\",I1819>8,\"udgår\",H1819<8,\"\",I1819<8,\"\")","v":""}]
[null,null,null,null,null,null,null,null,null,0,{"$f":"+_xlfn.IFS(H1820>8,\"udgår\",I1820>8,\"udgår\",H1820<8,\"\",I1820<8,\"\")","v":""}]
[null,null,null,null,null,null,null,null,null,0,{"$f":"+_xlfn.IFS(H1821>8,\"udgår\",I1821>8,\"udgår\",H1821<8,\"\",I1821<8,\"\")","v":""}]
[null,null,null,null,null,null,null,null,null,0,{"$f":"+_xlfn.IFS(H1822>8,\"udgår\",I1822>8,\"udgår\",H1822<8,\"\",I1822<8,\"\")","v":""}]
[null,null,null,null,null,null,null,null,null,0,{"$f":"+_xlfn.IFS(H1823>8,\"udgår\",I1823>8,\"udgår\",H1823<8,\"\",I1823<8,\"\")","v":""}]
[null,null,null,null,null,null,null,null,null,0,{"$f":"+_xlfn.IFS(H1824>8,\"udgår\",I1824>8,\"udgår\",H1824<8,\"\",I1824<8,\"\")","v":""}]
[null,null,null,null,null,null,null,null,null,0,{"$f":"+_xlfn.IFS(H1825>8,\"udgår\",I1825>8,\"udgår\",H1825<8,\"\",I1825<8,\"\")","v":""}]
[null,null,null,null,null,null,null,null,null,0,{"$f":"+_xlfn.IFS(H1826>8,\"udgår\",I1826>8,\"udgår\",H1826<8,\"\",I1826<8,\"\")","v":""}]
[null,null,null,null,null,null,null,null,null,0,{"$f":"+_xlfn.IFS(H1827>8,\"udgår\",I1827>8,\"udgår\",H1827<8,\"\",I1827<8,\"\")","v":""}]
[null,null,null,null,null,null,null,null,null,0,{"$f":"+_xlfn.IFS(H1828>8,\"udgår\",I1828>8,\"udgår\",H1828<8,\"\",I1828<8,\"\")","v":""}]
[null,null,null,null,null,null,null,null,null,0,{"$f":"+_xlfn.IFS(H1829>8,\"udgår\",I1829>8,\"udgår\",H1829<8,\"\",I1829<8,\"\")","v":""}]
[null,null,null,null,null,null,null,null,null,0,{"$f":"+_xlfn.IFS(H1830>8,\"udgår\",I1830>8,\"udgår\",H1830<8,\"\",I1830<8,\"\")","v":""}]
[null,null,null,null,null,null,null,null,null,0,{"$f":"+_xlfn.IFS(H1831>8,\"udgår\",I1831>8,\"udgår\",H1831<8,\"\",I1831<8,\"\")","v":""}]
[null,null,null,null,null,null,null,null,null,0,{"$f":"+_xlfn.IFS(H1832>8,\"udgår\",I1832>8,\"udgår\",H1832<8,\"\",I1832<8,\"\")","v":""}]
[null,null,null,null,null,null,null,null,null,0,{"$f":"+_xlfn.IFS(H1833>8,\"udgår\",I1833>8,\"udgår\",H1833<8,\"\",I1833<8,\"\")","v":""}]
[null,null,null,null,null,null,null,null,null,0,{"$f":"+_xlfn.IFS(H1834>8,\"udgår\",I1834>8,\"udgår\",H1834<8,\"\",I1834<8,\"\")","v":""}]
[null,null,null,null,null,null,null,null,null,0,{"$f":"+_xlfn.IFS(H1835>8,\"udgår\",I1835>8,\"udgår\",H1835<8,\"\",I1835<8,\"\")","v":""}]
[null,null,null,null,null,null,null,null,null,0,{"$f":"+_xlfn.IFS(H1836>8,\"udgår\",I1836>8,\"udgår\",H1836<8,\"\",I1836<8,\"\")","v":""}]
[null,null,null,null,null,null,null,null,null,0,{"$f":"+_xlfn.IFS(H1837>8,\"udgår\",I1837>8,\"udgår\",H1837<8,\"\",I1837<8,\"\")","v":""}]
[null,null,null,null,null,null,null,null,null,0,{"$f":"+_xlfn.IFS(H1838>8,\"udgår\",I1838>8,\"udgår\",H1838<8,\"\",I1838<8,\"\")","v":""}]
[null,null,null,null,null,null,null,null,null,0,{"$f":"+_xlfn.IFS(H1839>8,\"udgår\",I1839>8,\"udgår\",H1839<8,\"\",I1839<8,\"\")","v":""}]
[null,null,null,null,null,null,null,null,null,0,{"$f":"+_xlfn.IFS(H1840>8,\"udgår\",I1840>8,\"udgår\",H1840<8,\"\",I1840<8,\"\")","v":""}]
[null,null,null,null,null,null,null,null,null,0,{"$f":"+_xlfn.IFS(H1841>8,\"udgår\",I1841>8,\"udgår\",H1841<8,\"\",I1841<8,\"\")","v":""}]
[null,null,null,null,null,null,null,null,null,0,{"$f":"+_xlfn.IFS(H1842>8,\"udgår\",I1842>8,\"udgår\",H1842<8,\"\",I1842<8,\"\")","v":""}]
[null,null,null,null,null,null,null,null,null,0,{"$f":"+_xlfn.IFS(H1843>8,\"udgår\",I1843>8,\"udgår\",H1843<8,\"\",I1843<8,\"\")","v":""}]
[null,null,null,null,null,null,null,null,null,0,{"$f":"+_xlfn.IFS(H1844>8,\"udgår\",I1844>8,\"udgår\",H1844<8,\"\",I1844<8,\"\")","v":""}]
[null,null,null,null,null,null,null,null,null,0,{"$f":"+_xlfn.IFS(H1845>8,\"udgår\",I1845>8,\"udgår\",H1845<8,\"\",I1845<8,\"\")","v":""}]
[null,null,null,null,null,null,null,null,null,0,{"$f":"+_xlfn.IFS(H1846>8,\"udgår\",I1846>8,\"udgår\",H1846<8,\"\",I1846<8,\"\")","v":""}]
[null,null,null,null,null,null,null,null,null,0,{"$f":"+_xlfn.IFS(H1847>8,\"udgår\",I1847>8,\"udgår\",H1847<8,\"\",I1847<8,\"\")","v":""}]
[null,null,null,null,null,null,null,null,null,0,{"$f":"+_xlfn.IFS(H1848>8,\"udgår\",I1848>8,\"udgår\",H1848<8,\"\",I1848<8,\"\")","v":""}]
[null,null,null,null,null,null,null,null,null,0,{"$f":"+_xlfn.IFS(H1849>8,\"udgår\",I1849>8,\"udgår\",H1849<8,\"\",I1849<8,\"\")","v":""}]
[null,null,null,null,null,null,null,null,null,0,{"$f":"+_xlfn.IFS(H1850>8,\"udgår\",I1850>8,\"udgår\",H1850<8,\"\",I1850<8,\"\")","v":""}]
[null,null,null,null,null,null,null,null,null,0,{"$f":"+_xlfn.IFS(H1851>8,\"udgår\",I1851>8,\"udgår\",H1851<8,\"\",I1851<8,\"\")","v":""}]
[null,null,null,null,null,null,null,null,null,0,{"$f":"+_xlfn.IFS(H1852>8,\"udgår\",I1852>8,\"udgår\",H1852<8,\"\",I1852<8,\"\")","v":""}]
[null,null,null,null,null,null,null,null,null,0,{"$f":"+_xlfn.IFS(H1853>8,\"udgår\",I1853>8,\"udgår\",H1853<8,\"\",I1853<8,\"\")","v":""}]
[null,null,null,null,null,null,null,null,null,0,{"$f":"+_xlfn.IFS(H1854>8,\"udgår\",I1854>8,\"udgår\",H1854<8,\"\",I1854<8,\"\")","v":""}]
[null,null,null,null,null,null,null,null,null,0,{"$f":"+_xlfn.IFS(H1855>8,\"udgår\",I1855>8,\"udgår\",H1855<8,\"\",I1855<8,\"\")","v":""}]
[null,null,null,null,null,null,null,null,null,0,{"$f":"+_xlfn.IFS(H1856>8,\"udgår\",I1856>8,\"udgår\",H1856<8,\"\",I1856<8,\"\")","v":""}]
[null,null,null,null,null,null,null,null,null,0,{"$f":"+_xlfn.IFS(H1857>8,\"udgår\",I1857>8,\"udgår\",H1857<8,\"\",I1857<8,\"\")","v":""}]
[null,null,null,null,null,null,null,null,null,0,{"$f":"+_xlfn.IFS(H1858>8,\"udgår\",I1858>8,\"udgår\",H1858<8,\"\",I1858<8,\"\")","v":""}]
[null,null,null,null,null,null,null,null,null,{"$f":"+D1859-F1859","v":0},{"$f":"+_xlfn.IFS(H1859>8,\"udgår\",I1859>8,\"udgår\",H1859<8,\"\",I1859<8,\"\")","v":""}]
[null,null,null,null,null,null,null,null,null,0,{"$f":"+_xlfn.IFS(H1860>8,\"udgår\",I1860>8,\"udgår\",H1860<8,\"\",I1860<8,\"\")","v":""}]
[null,null,null,null,null,null,null,null,null,0,{"$f":"+_xlfn.IFS(H1861>8,\"udgår\",I1861>8,\"udgår\",H1861<8,\"\",I1861<8,\"\")","v":""}]
[null,null,null,null,null,null,null,null,null,0,{"$f":"+_xlfn.IFS(H1862>8,\"udgår\",I1862>8,\"udgår\",H1862<8,\"\",I1862<8,\"\")","v":""}]
[null,null,null,null,null,null,null,null,null,0,{"$f":"+_xlfn.IFS(H1863>8,\"udgår\",I1863>8,\"udgår\",H1863<8,\"\",I1863<8,\"\")","v":""}]
[null,null,null,null,null,null,null,null,null,0,{"$f":"+_xlfn.IFS(H1864>8,\"udgår\",I1864>8,\"udgår\",H1864<8,\"\",I1864<8,\"\")","v":""}]
[null,null,null,null,null,null,null,null,null,0,{"$f":"+_xlfn.IFS(H1865>8,\"udgår\",I1865>8,\"udgår\",H1865<8,\"\",I1865<8,\"\")","v":""}]
[null,null,null,null,null,null,null,null,null,0,{"$f":"+_xlfn.IFS(H1866>8,\"udgår\",I1866>8,\"udgår\",H1866<8,\"\",I1866<8,\"\")","v":""}]
[null,null,null,null,null,null,null,null,null,0,{"$f":"+_xlfn.IFS(H1867>8,\"udgår\",I1867>8,\"udgår\",H1867<8,\"\",I1867<8,\"\")","v":""}]
[null,null,null,null,null,null,null,null,null,0,{"$f":"+_xlfn.IFS(H1868>8,\"udgår\",I1868>8,\"udgår\",H1868<8,\"\",I1868<8,\"\")","v":""}]
[null,null,null,null,null,null,null,null,null,0,{"$f":"+_xlfn.IFS(H1869>8,\"udgår\",I1869>8,\"udgår\",H1869<8,\"\",I1869<8,\"\")","v":""}]
[null,null,null,null,null,null,null,null,null,0,{"$f":"+_xlfn.IFS(H1870>8,\"udgår\",I1870>8,\"udgår\",H1870<8,\"\",I1870<8,\"\")","v":""}]
[null,null,null,null,null,null,null,null,null,0,{"$f":"+_xlfn.IFS(H1871>8,\"udgår\",I1871>8,\"udgår\",H1871<8,\"\",I1871<8,\"\")","v":""}]
[null,null,null,null,null,null,null,null,null,0,{"$f":"+_xlfn.IFS(H1872>8,\"udgår\",I1872>8,\"udgår\",H1872<8,\"\",I1872<8,\"\")","v":""}]
[null,null,null,null,null,null,null,null,null,0,{"$f":"+_xlfn.IFS(H1873>8,\"udgår\",I1873>8,\"udgår\",H1873<8,\"\",I1873<8,\"\")","v":""}]
[null,null,null,null,null,null,null,null,null,0,{"$f":"+_xlfn.IFS(H1874>8,\"udgår\",I1874>8,\"udgår\",H1874<8,\"\",I1874<8,\"\")","v":""}]
[null,null,null,null,null,null,null,null,null,0,{"$f":"+_xlfn.IFS(H1875>8,\"udgår\",I1875>8,\"udgår\",H1875<8,\"\",I1875<8,\"\")","v":""}]
[null,null,null,null,null,null,null,null,null,0,{"$f":"+_xlfn.IFS(H1876>8,\"udgår\",I1876>8,\"udgår\",H1876<8,\"\",I1876<8,\"\")","v":""}]
[null,null,null,null,null,null,null,null,null,0,{"$f":"+_xlfn.IFS(H1877>8,\"udgår\",I1877>8,\"udgår\",H1877<8,\"\",I1877<8,\"\")","v":""}]
[null,null,null,null,null,null,null,null,null,0,{"$f":"+_xlfn.IFS(H1878>8,\"udgår\",I1878>8,\"udgår\",H1878<8,\"\",I1878<8,\"\")","v":""}]
[null,null,null,null,null,null,null,null,null,0,{"$f":"+_xlfn.IFS(H1879>8,\"udgår\",I1879>8,\"udgår\",H1879<8,\"\",I1879<8,\"\")","v":""}]
[null,null,null,null,null,null,null,null,null,0,{"$f":"+_xlfn.IFS(H1880>8,\"udgår\",I1880>8,\"udgår\",H1880<8,\"\",I1880<8,\"\")","v":""}]
[null,null,null,null,null,null,null,null,null,0,{"$f":"+_xlfn.IFS(H1881>8,\"udgår\",I1881>8,\"udgår\",H1881<8,\"\",I1881<8,\"\")","v":""}]
[null,null,null,null,null,null,null,null,null,0,{"$f":"+_xlfn.IFS(H1882>8,\"udgår\",I1882>8,\"udgår\",H1882<8,\"\",I1882<8,\"\")","v":""}]
[null,null,null,null,null,null,null,null,null,0,{"$f":"+_xlfn.IFS(H1883>8,\"udgår\",I1883>8,\"udgår\",H1883<8,\"\",I1883<8,\"\")","v":""}]
[null,null,null,null,null,null,null,null,null,0,{"$f":"+_xlfn.IFS(H1884>8,\"udgår\",I1884>8,\"udgår\",H1884<8,\"\",I1884<8,\"\")","v":""}]
[null,null,null,null,null,null,null,null,null,0,{"$f":"+_xlfn.IFS(H1885>8,\"udgår\",I1885>8,\"udgår\",H1885<8,\"\",I1885<8,\"\")","v":""}]
[null,null,null,null,null,null,null,null,null,0,{"$f":"+_xlfn.IFS(H1886>8,\"udgår\",I1886>8,\"udgår\",H1886<8,\"\",I1886<8,\"\")","v":""}]
[null,null,null,null,null,null,null,null,null,0,{"$f":"+_xlfn.IFS(H1887>8,\"udgår\",I1887>8,\"udgår\",H1887<8,\"\",I1887<8,\"\")","v":""}]
[null,null,null,null,null,null,null,null,null,0,{"$f":"+_xlfn.IFS(H1888>8,\"udgår\",I1888>8,\"udgår\",H1888<8,\"\",I1888<8,\"\")","v":""}]
[null,null,null,null,null,null,null,null,null,0,{"$f":"+_xlfn.IFS(H1889>8,\"udgår\",I1889>8,\"udgår\",H1889<8,\"\",I1889<8,\"\")","v":""}]
[null,null,null,null,null,null,null,null,null,0,{"$f":"+_xlfn.IFS(H1890>8,\"udgår\",I1890>8,\"udgår\",H1890<8,\"\",I1890<8,\"\")","v":""}]
[null,null,null,null,null,null,null,null,null,0,{"$f":"+_xlfn.IFS(H1891>8,\"udgår\",I1891>8,\"udgår\",H1891<8,\"\",I1891<8,\"\")","v":""}]
[null,null,null,null,null,null,null,null,null,0,{"$f":"+_xlfn.IFS(H1892>8,\"udgår\",I1892>8,\"udgår\",H1892<8,\"\",I1892<8,\"\")","v":""}]
[null,null,null,null,null,null,null,null,null,0,{"$f":"+_xlfn.IFS(H1893>8,\"udgår\",I1893>8,\"udgår\",H1893<8,\"\",I1893<8,\"\")","v":""}]
[null,null,null,null,null,null,null,null,null,0,{"$f":"+_xlfn.IFS(H1894>8,\"udgår\",I1894>8,\"udgår\",H1894<8,\"\",I1894<8,\"\")","v":""}]
[null,null,null,null,null,null,null,null,null,0,{"$f":"+_xlfn.IFS(H1895>8,\"udgår\",I1895>8,\"udgår\",H1895<8,\"\",I1895<8,\"\")","v":""}]
[null,null,null,null,null,null,null,null,null,0,{"$f":"+_xlfn.IFS(H1896>8,\"udgår\",I1896>8,\"udgår\",H1896<8,\"\",I1896<8,\"\")","v":""}]
[null,null,null,null,null,null,null,null,null,0,{"$f":"+_xlfn.IFS(H1897>8,\"udgår\",I1897>8,\"udgår\",H1897<8,\"\",I1897<8,\"\")","v":""}]
[null,null,null,null,null,null,null,null,null,0,{"$f":"+_xlfn.IFS(H1898>8,\"udgår\",I1898>8,\"udgår\",H1898<8,\"\",I1898<8,\"\")","v":""}]
[null,null,null,null,null,null,null,null,null,0,{"$f":"+_xlfn.IFS(H1899>8,\"udgår\",I1899>8,\"udgår\",H1899<8,\"\",I1899<8,\"\")","v":""}]
[null,null,null,null,null,null,null,null,null,0,{"$f":"+_xlfn.IFS(H1900>8,\"udgår\",I1900>8,\"udgår\",H1900<8,\"\",I1900<8,\"\")","v":""}]
[null,null,null,null,null,null,null,null,null,0,{"$f":"+_xlfn.IFS(H1901>8,\"udgår\",I1901>8,\"udgår\",H1901<8,\"\",I1901<8,\"\")","v":""}]
[null,null,null,null,null,null,null,null,null,0,{"$f":"+_xlfn.IFS(H1902>8,\"udgår\",I1902>8,\"udgår\",H1902<8,\"\",I1902<8,\"\")","v":""}]
[null,null,null,null,null,null,null,null,null,0,{"$f":"+_xlfn.IFS(H1903>8,\"udgår\",I1903>8,\"udgår\",H1903<8,\"\",I1903<8,\"\")","v":""}]
[null,null,null,null,null,null,null,null,null,0,{"$f":"+_xlfn.IFS(H1904>8,\"udgår\",I1904>8,\"udgår\",H1904<8,\"\",I1904<8,\"\")","v":""}]
[null,null,null,null,null,null,null,null,null,0,{"$f":"+_xlfn.IFS(H1905>8,\"udgår\",I1905>8,\"udgår\",H1905<8,\"\",I1905<8,\"\")","v":""}]
[null,null,null,null,null,null,null,null,null,0,{"$f":"+_xlfn.IFS(H1906>8,\"udgår\",I1906>8,\"udgår\",H1906<8,\"\",I1906<8,\"\")","v":""}]
[null,null,null,null,null,null,null,null,null,0,{"$f":"+_xlfn.IFS(H1907>8,\"udgår\",I1907>8,\"udgår\",H1907<8,\"\",I1907<8,\"\")","v":""}]
[null,null,null,null,null,null,null,null,null,0,{"$f":"+_xlfn.IFS(H1908>8,\"udgår\",I1908>8,\"udgår\",H1908<8,\"\",I1908<8,\"\")","v":""}]
[null,null,null,null,null,null,null,null,null,0,{"$f":"+_xlfn.IFS(H1909>8,\"udgår\",I1909>8,\"udgår\",H1909<8,\"\",I1909<8,\"\")","v":""}]
[null,null,null,null,null,null,null,null,null,0,{"$f":"+_xlfn.IFS(H1910>8,\"udgår\",I1910>8,\"udgår\",H1910<8,\"\",I1910<8,\"\")","v":""}]
[null,null,null,null,null,null,null,null,null,0,{"$f":"+_xlfn.IFS(H1911>8,\"udgår\",I1911>8,\"udgår\",H1911<8,\"\",I1911<8,\"\")","v":""}]
[null,null,null,null,null,null,null,null,null,0,{"$f":"+_xlfn.IFS(H1912>8,\"udgår\",I1912>8,\"udgår\",H1912<8,\"\",I1912<8,\"\")","v":""}]
[null,null,null,null,null,null,null,null,null,0,{"$f":"+_xlfn.IFS(H1913>8,\"udgår\",I1913>8,\"udgår\",H1913<8,\"\",I1913<8,\"\")","v":""}]
[null,null,null,null,null,null,null,null,null,0,{"$f":"+_xlfn.IFS(H1914>8,\"udgår\",I1914>8,\"udgår\",H1914<8,\"\",I1914<8,\"\")","v":""}]
[null,null,null,null,null,null,null,null,null,0,{"$f":"+_xlfn.IFS(H1915>8,\"udgår\",I1915>8,\"udgår\",H1915<8,\"\",I1915<8,\"\")","v":""}]
[null,null,null,null,null,null,null,null,null,0,{"$f":"+_xlfn.IFS(H1916>8,\"udgår\",I1916>8,\"udgår\",H1916<8,\"\",I1916<8,\"\")","v":""}]
[null,null,null,null,null,null,null,null,null,0,{"$f":"+_xlfn.IFS(H1917>8,\"udgår\",I1917>8,\"udgår\",H1917<8,\"\",I1917<8,\"\")","v":""}]
[null,null,null,null,null,null,null,null,null,0,{"$f":"+_xlfn.IFS(H1918>8,\"udgår\",I1918>8,\"udgår\",H1918<8,\"\",I1918<8,\"\")","v":""}]
[null,null,null,null,null,null,null,null,null,0,{"$f":"+_xlfn.IFS(H1919>8,\"udgår\",I1919>8,\"udgår\",H1919<8,\"\",I1919<8,\"\")","v":""}]
[null,null,null,null,null,null,null,null,null,0,{"$f":"+_xlfn.IFS(H1920>8,\"udgår\",I1920>8,\"udgår\",H1920<8,\"\",I1920<8,\"\")","v":""}]
[null,null,null,null,null,null,null,null,null,0,{"$f":"+_xlfn.IFS(H1921>8,\"udgår\",I1921>8,\"udgår\",H1921<8,\"\",I1921<8,\"\")","v":""}]
[null,null,null,null,null,null,null,null,null,0,{"$f":"+_xlfn.IFS(H1922>8,\"udgår\",I1922>8,\"udgår\",H1922<8,\"\",I1922<8,\"\")","v":""}]
[null,null,null,null,null,null,null,null,null,{"$f":"+D1923-F1923","v":0},{"$f":"+_xlfn.IFS(H1923>8,\"udgår\",I1923>8,\"udgår\",H1923<8,\"\",I1923<8,\"\")","v":""}]
[null,null,null,null,null,null,null,null,null,0,{"$f":"+_xlfn.IFS(H1924>8,\"udgår\",I1924>8,\"udgår\",H1924<8,\"\",I1924<8,\"\")","v":""}]
[null,null,null,null,null,null,null,null,null,0,{"$f":"+_xlfn.IFS(H1925>8,\"udgår\",I1925>8,\"udgår\",H1925<8,\"\",I1925<8,\"\")","v":""}]
[null,null,null,null,null,null,null,null,null,0,{"$f":"+_xlfn.IFS(H1926>8,\"udgår\",I1926>8,\"udgår\",H1926<8,\"\",I1926<8,\"\")","v":""}]
[null,null,null,null,null,null,null,null,null,0,{"$f":"+_xlfn.IFS(H1927>8,\"udgår\",I1927>8,\"udgår\",H1927<8,\"\",I1927<8,\"\")","v":""}]
[null,null,null,null,null,null,null,null,null,0,{"$f":"+_xlfn.IFS(H1928>8,\"udgår\",I1928>8,\"udgår\",H1928<8,\"\",I1928<8,\"\")","v":""}]
[null,null,null,null,null,null,null,null,null,0,{"$f":"+_xlfn.IFS(H1929>8,\"udgår\",I1929>8,\"udgår\",H1929<8,\"\",I1929<8,\"\")","v":""}]
[null,null,null,null,null,null,null,null,null,0,{"$f":"+_xlfn.IFS(H1930>8,\"udgår\",I1930>8,\"udgår\",H1930<8,\"\",I1930<8,\"\")","v":""}]
[null,null,null,null,null,null,null,null,null,0,{"$f":"+_xlfn.IFS(H1931>8,\"udgår\",I1931>8,\"udgår\",H1931<8,\"\",I1931<8,\"\")","v":""}]
[null,null,null,null,null,null,null,null,null,0,{"$f":"+_xlfn.IFS(H1932>8,\"udgår\",I1932>8,\"udgår\",H1932<8,\"\",I1932<8,\"\")","v":""}]
[null,null,null,null,null,null,null,null,null,0,{"$f":"+_xlfn.IFS(H1933>8,\"udgår\",I1933>8,\"udgår\",H1933<8,\"\",I1933<8,\"\")","v":""}]
[null,null,null,null,null,null,null,null,null,0,{"$f":"+_xlfn.IFS(H1934>8,\"udgår\",I1934>8,\"udgår\",H1934<8,\"\",I1934<8,\"\")","v":""}]
[null,null,null,null,null,null,null,null,null,0,{"$f":"+_xlfn.IFS(H1935>8,\"udgår\",I1935>8,\"udgår\",H1935<8,\"\",I1935<8,\"\")","v":""}]
[null,null,null,null,null,null,null,null,null,0,{"$f":"+_xlfn.IFS(H1936>8,\"udgår\",I1936>8,\"udgår\",H1936<8,\"\",I1936<8,\"\")","v":""}]
[null,null,null,null,null,null,null,null,null,0,{"$f":"+_xlfn.IFS(H1937>8,\"udgår\",I1937>8,\"udgår\",H1937<8,\"\",I1937<8,\"\")","v":""}]
[null,null,null,null,null,null,null,null,null,0,{"$f":"+_xlfn.IFS(H1938>8,\"udgår\",I1938>8,\"udgår\",H1938<8,\"\",I1938<8,\"\")","v":""}]
[null,null,null,null,null,null,null,null,null,0,{"$f":"+_xlfn.IFS(H1939>8,\"udgår\",I1939>8,\"udgår\",H1939<8,\"\",I1939<8,\"\")","v":""}]
[null,null,null,null,null,null,null,null,null,0,{"$f":"+_xlfn.IFS(H1940>8,\"udgår\",I1940>8,\"udgår\",H1940<8,\"\",I1940<8,\"\")","v":""}]
[null,null,null,null,null,null,null,null,null,0,{"$f":"+_xlfn.IFS(H1941>8,\"udgår\",I1941>8,\"udgår\",H1941<8,\"\",I1941<8,\"\")","v":""}]
[null,null,null,null,null,null,null,null,null,0,{"$f":"+_xlfn.IFS(H1942>8,\"udgår\",I1942>8,\"udgår\",H1942<8,\"\",I1942<8,\"\")","v":""}]
[null,null,null,null,null,null,null,null,null,0,{"$f":"+_xlfn.IFS(H1943>8,\"udgår\",I1943>8,\"udgår\",H1943<8,\"\",I1943<8,\"\")","v":""}]
[null,null,null,null,null,null,null,null,null,0,{"$f":"+_xlfn.IFS(H1944>8,\"udgår\",I1944>8,\"udgår\",H1944<8,\"\",I1944<8,\"\")","v":""}]
[null,null,null,null,null,null,null,null,null,0,{"$f":"+_xlfn.IFS(H1945>8,\"udgår\",I1945>8,\"udgår\",H1945<8,\"\",I1945<8,\"\")","v":""}]
[null,null,null,null,null,null,null,null,null,0,{"$f":"+_xlfn.IFS(H1946>8,\"udgår\",I1946>8,\"udgår\",H1946<8,\"\",I1946<8,\"\")","v":""}]
[null,null,null,null,null,null,null,null,null,0,{"$f":"+_xlfn.IFS(H1947>8,\"udgår\",I1947>8,\"udgår\",H1947<8,\"\",I1947<8,\"\")","v":""}]
[null,null,null,null,null,null,null,null,null,0,{"$f":"+_xlfn.IFS(H1948>8,\"udgår\",I1948>8,\"udgår\",H1948<8,\"\",I1948<8,\"\")","v":""}]
[null,null,null,null,null,null,null,null,null,0,{"$f":"+_xlfn.IFS(H1949>8,\"udgår\",I1949>8,\"udgår\",H1949<8,\"\",I1949<8,\"\")","v":""}]
[null,null,null,null,null,null,null,null,null,0,{"$f":"+_xlfn.IFS(H1950>8,\"udgår\",I1950>8,\"udgår\",H1950<8,\"\",I1950<8,\"\")","v":""}]
[null,null,null,null,null,null,null,null,null,0,{"$f":"+_xlfn.IFS(H1951>8,\"udgår\",I1951>8,\"udgår\",H1951<8,\"\",I1951<8,\"\")","v":""}]
[null,null,null,null,null,null,null,null,null,0,{"$f":"+_xlfn.IFS(H1952>8,\"udgår\",I1952>8,\"udgår\",H1952<8,\"\",I1952<8,\"\")","v":""}]
[null,null,null,null,null,null,null,null,null,0,{"$f":"+_xlfn.IFS(H1953>8,\"udgår\",I1953>8,\"udgår\",H1953<8,\"\",I1953<8,\"\")","v":""}]
[null,null,null,null,null,null,null,null,null,0,{"$f":"+_xlfn.IFS(H1954>8,\"udgår\",I1954>8,\"udgår\",H1954<8,\"\",I1954<8,\"\")","v":""}]
[null,null,null,null,null,null,null,null,null,0,{"$f":"+_xlfn.IFS(H1955>8,\"udgår\",I1955>8,\"udgår\",H1955<8,\"\",I1955<8,\"\")","v":""}]
[null,null,null,null,null,null,null,null,null,0,{"$f":"+_xlfn.IFS(H1956>8,\"udgår\",I1956>8,\"udgår\",H1956<8,\"\",I1956<8,\"\")","v":""}]
[null,null,null,null,null,null,null,null,null,0,{"$f":"+_xlfn.IFS(H1957>8,\"udgår\",I1957>8,\"udgår\",H1957<8,\"\",I1957<8,\"\")","v":""}]
[null,null,null,null,null,null,null,null,null,0,{"$f":"+_xlfn.IFS(H1958>8,\"udgår\",I1958>8,\"udgår\",H1958<8,\"\",I1958<8,\"\")","v":""}]
[null,null,null,null,null,null,null,null,null,0,{"$f":"+_xlfn.IFS(H1959>8,\"udgår\",I1959>8,\"udgår\",H1959<8,\"\",I1959<8,\"\")","v":""}]
[null,null,null,null,null,null,null,null,null,0,{"$f":"+_xlfn.IFS(H1960>8,\"udgår\",I1960>8,\"udgår\",H1960<8,\"\",I1960<8,\"\")","v":""}]
[null,null,null,null,null,null,null,null,null,0,{"$f":"+_xlfn.IFS(H1961>8,\"udgår\",I1961>8,\"udgår\",H1961<8,\"\",I1961<8,\"\")","v":""}]
[null,null,null,null,null,null,null,null,null,0,{"$f":"+_xlfn.IFS(H1962>8,\"udgår\",I1962>8,\"udgår\",H1962<8,\"\",I1962<8,\"\")","v":""}]
[null,null,null,null,null,null,null,null,null,0,{"$f":"+_xlfn.IFS(H1963>8,\"udgår\",I1963>8,\"udgår\",H1963<8,\"\",I1963<8,\"\")","v":""}]
[null,null,null,null,null,null,null,null,null,0,{"$f":"+_xlfn.IFS(H1964>8,\"udgår\",I1964>8,\"udgår\",H1964<8,\"\",I1964<8,\"\")","v":""}]
[null,null,null,null,null,null,null,null,null,0,{"$f":"+_xlfn.IFS(H1965>8,\"udgår\",I1965>8,\"udgår\",H1965<8,\"\",I1965<8,\"\")","v":""}]
[null,null,null,null,null,null,null,null,null,0,{"$f":"+_xlfn.IFS(H1966>8,\"udgår\",I1966>8,\"udgår\",H1966<8,\"\",I1966<8,\"\")","v":""}]
[null,null,null,null,null,null,null,null,null,0,{"$f":"+_xlfn.IFS(H1967>8,\"udgår\",I1967>8,\"udgår\",H1967<8,\"\",I1967<8,\"\")","v":""}]
[null,null,null,null,null,null,null,null,null,0,{"$f":"+_xlfn.IFS(H1968>8,\"udgår\",I1968>8,\"udgår\",H1968<8,\"\",I1968<8,\"\")","v":""}]
[null,null,null,null,null,null,null,null,null,0,{"$f":"+_xlfn.IFS(H1969>8,\"udgår\",I1969>8,\"udgår\",H1969<8,\"\",I1969<8,\"\")","v":""}]
[null,null,null,null,null,null,null,null,null,0,{"$f":"+_xlfn.IFS(H1970>8,\"udgår\",I1970>8,\"udgår\",H1970<8,\"\",I1970<8,\"\")","v":""}]
[null,null,null,null,null,null,null,null,null,0,{"$f":"+_xlfn.IFS(H1971>8,\"udgår\",I1971>8,\"udgår\",H1971<8,\"\",I1971<8,\"\")","v":""}]
[null,null,null,null,null,null,null,null,null,0,{"$f":"+_xlfn.IFS(H1972>8,\"udgår\",I1972>8,\"udgår\",H1972<8,\"\",I1972<8,\"\")","v":""}]
[null,null,null,null,null,null,null,null,null,0,{"$f":"+_xlfn.IFS(H1973>8,\"udgår\",I1973>8,\"udgår\",H1973<8,\"\",I1973<8,\"\")","v":""}]
[null,null,null,null,null,null,null,null,null,0,{"$f":"+_xlfn.IFS(H1974>8,\"udgår\",I1974>8,\"udgår\",H1974<8,\"\",I1974<8,\"\")","v":""}]
[null,null,null,null,null,null,null,null,null,0,{"$f":"+_xlfn.IFS(H1975>8,\"udgår\",I1975>8,\"udgår\",H1975<8,\"\",I1975<8,\"\")","v":""}]
[null,null,null,null,null,null,null,null,null,0,{"$f":"+_xlfn.IFS(H1976>8,\"udgår\",I1976>8,\"udgår\",H1976<8,\"\",I1976<8,\"\")","v":""}]
[null,null,null,null,null,null,null,null,null,0,{"$f":"+_xlfn.IFS(H1977>8,\"udgår\",I1977>8,\"udgår\",H1977<8,\"\",I1977<8,\"\")","v":""}]
[null,null,null,null,null,null,null,null,null,0,{"$f":"+_xlfn.IFS(H1978>8,\"udgår\",I1978>8,\"udgår\",H1978<8,\"\",I1978<8,\"\")","v":""}]
[null,null,null,null,null,null,null,null,null,0,{"$f":"+_xlfn.IFS(H1979>8,\"udgår\",I1979>8,\"udgår\",H1979<8,\"\",I1979<8,\"\")","v":""}]
[null,null,null,null,null,null,null,null,null,0,{"$f":"+_xlfn.IFS(H1980>8,\"udgår\",I1980>8,\"udgår\",H1980<8,\"\",I1980<8,\"\")","v":""}]
[null,null,null,null,null,null,null,null,null,0,{"$f":"+_xlfn.IFS(H1981>8,\"udgår\",I1981>8,\"udgår\",H1981<8,\"\",I1981<8,\"\")","v":""}]
[null,null,null,null,null,null,null,null,null,0,{"$f":"+_xlfn.IFS(H1982>8,\"udgår\",I1982>8,\"udgår\",H1982<8,\"\",I1982<8,\"\")","v":""}]
[null,null,null,null,null,null,null,null,null,0,{"$f":"+_xlfn.IFS(H1983>8,\"udgår\",I1983>8,\"udgår\",H1983<8,\"\",I1983<8,\"\")","v":""}]
[null,null,null,null,null,null,null,null,null,0,{"$f":"+_xlfn.IFS(H1984>8,\"udgår\",I1984>8,\"udgår\",H1984<8,\"\",I1984<8,\"\")","v":""}]
[null,null,null,null,null,null,null,null,null,0,{"$f":"+_xlfn.IFS(H1985>8,\"udgår\",I1985>8,\"udgår\",H1985<8,\"\",I1985<8,\"\")","v":""}]
[null,null,null,null,null,null,null,null,null,0,{"$f":"+_xlfn.IFS(H1986>8,\"udgår\",I1986>8,\"udgår\",H1986<8,\"\",I1986<8,\"\")","v":""}]
[null,null,null,null,null,null,null,null,null,{"$f":"+D1987-F1987","v":0},{"$f":"+_xlfn.IFS(H1987>8,\"udgår\",I1987>8,\"udgår\",H1987<8,\"\",I1987<8,\"\")","v":""}]
[null,null,null,null,null,null,null,null,null,0,{"$f":"+_xlfn.IFS(H1988>8,\"udgår\",I1988>8,\"udgår\",H1988<8,\"\",I1988<8,\"\")","v":""}]
[null,null,null,null,null,null,null,null,null,0,{"$f":"+_xlfn.IFS(H1989>8,\"udgår\",I1989>8,\"udgår\",H1989<8,\"\",I1989<8,\"\")","v":""}]
[null,null,null,null,null,null,null,null,null,0,{"$f":"+_xlfn.IFS(H1990>8,\"udgår\",I1990>8,\"udgår\",H1990<8,\"\",I1990<8,\"\")","v":""}]
[null,null,null,null,null,null,null,null,null,0,{"$f":"+_xlfn.IFS(H1991>8,\"udgår\",I1991>8,\"udgår\",H1991<8,\"\",I1991<8,\"\")","v":""}]
[null,null,null,null,null,null,null,null,null,0,{"$f":"+_xlfn.IFS(H1992>8,\"udgår\",I1992>8,\"udgår\",H1992<8,\"\",I1992<8,\"\")","v":""}]
[null,null,null,null,null,null,null,null,null,0,{"$f":"+_xlfn.IFS(H1993>8,\"udgår\",I1993>8,\"udgår\",H1993<8,\"\",I1993<8,\"\")","v":""}]
[null,null,null,null,null,null,null,null,null,0,{"$f":"+_xlfn.IFS(H1994>8,\"udgår\",I1994>8,\"udgår\",H1994<8,\"\",I1994<8,\"\")","v":""}]
[null,null,null,null,null,null,null,null,null,0,{"$f":"+_xlfn.IFS(H1995>8,\"udgår\",I1995>8,\"udgår\",H1995<8,\"\",I1995<8,\"\")","v":""}]
[null,null,null,null,null,null,null,null,null,0,{"$f":"+_xlfn.IFS(H1996>8,\"udgår\",I1996>8,\"udgår\",H1996<8,\"\",I1996<8,\"\")","v":""}]
[null,null,null,null,null,null,null,null,null,0,{"$f":"+_xlfn.IFS(H1997>8,\"udgår\",I1997>8,\"udgår\",H1997<8,\"\",I1997<8,\"\")","v":""}]
[null,null,null,null,null,null,null,null,null,0,{"$f":"+_xlfn.IFS(H1998>8,\"udgår\",I1998>8,\"udgår\",H1998<8,\"\",I1998<8,\"\")","v":""}]
[null,null,null,null,null,null,null,null,null,0,{"$f":"+_xlfn.IFS(H1999>8,\"udgår\",I1999>8,\"udgår\",H1999<8,\"\",I1999<8,\"\")","v":""}]
[null,null,null,null,null,null,null,null,null,0,{"$f":"+_xlfn.IFS(H2000>8,\"udgår\",I2000>8,\"udgår\",H2000<8,\"\",I2000<8,\"\")","v":""}]
[null,null,null,null,null,null,null,null,null,0,{"$f":"+_xlfn.IFS(H2001>8,\"udgår\",I2001>8,\"udgår\",H2001<8,\"\",I2001<8,\"\")","v":""}]
[null,null,null,null,null,null,null,null,null,0,{"$f":"+_xlfn.IFS(H2002>8,\"udgår\",I2002>8,\"udgår\",H2002<8,\"\",I2002<8,\"\")","v":""}]
[null,null,null,null,null,null,null,null,null,0,{"$f":"+_xlfn.IFS(H2003>8,\"udgår\",I2003>8,\"udgår\",H2003<8,\"\",I2003<8,\"\")","v":""}]
[null,null,null,null,null,null,null,null,null,0,{"$f":"+_xlfn.IFS(H2004>8,\"udgår\",I2004>8,\"udgår\",H2004<8,\"\",I2004<8,\"\")","v":""}]
[null,null,null,null,null,null,null,null,null,0,{"$f":"+_xlfn.IFS(H2005>8,\"udgår\",I2005>8,\"udgår\",H2005<8,\"\",I2005<8,\"\")","v":""}]
[null,null,null,null,null,null,null,null,null,0,{"$f":"+_xlfn.IFS(H2006>8,\"udgår\",I2006>8,\"udgår\",H2006<8,\"\",I2006<8,\"\")","v":""}]
[null,null,null,null,null,null,null,null,null,0,{"$f":"+_xlfn.IFS(H2007>8,\"udgår\",I2007>8,\"udgår\",H2007<8,\"\",I2007<8,\"\")","v":""}]
[null,null,null,null,null,null,null,null,null,0,{"$f":"+_xlfn.IFS(H2008>8,\"udgår\",I2008>8,\"udgår\",H2008<8,\"\",I2008<8,\"\")","v":""}]
[null,null,null,null,null,null,null,null,null,0,{"$f":"+_xlfn.IFS(H2009>8,\"udgår\",I2009>8,\"udgår\",H2009<8,\"\",I2009<8,\"\")","v":""}]
[null,null,null,null,null,null,null,null,null,0,{"$f":"+_xlfn.IFS(H2010>8,\"udgår\",I2010>8,\"udgår\",H2010<8,\"\",I2010<8,\"\")","v":""}]
[null,null,null,null,null,null,null,null,null,0,{"$f":"+_xlfn.IFS(H2011>8,\"udgår\",I2011>8,\"udgår\",H2011<8,\"\",I2011<8,\"\")","v":""}]
[null,null,null,null,null,null,null,null,null,0,{"$f":"+_xlfn.IFS(H2012>8,\"udgår\",I2012>8,\"udgår\",H2012<8,\"\",I2012<8,\"\")","v":""}]
[null,null,null,null,null,null,null,null,null,0,{"$f":"+_xlfn.IFS(H2013>8,\"udgår\",I2013>8,\"udgår\",H2013<8,\"\",I2013<8,\"\")","v":""}]
[null,null,null,null,null,null,null,null,null,0,{"$f":"+_xlfn.IFS(H2014>8,\"udgår\",I2014>8,\"udgår\",H2014<8,\"\",I2014<8,\"\")","v":""}]
[null,null,null,null,null,null,null,null,null,0,{"$f":"+_xlfn.IFS(H2015>8,\"udgår\",I2015>8,\"udgår\",H2015<8,\"\",I2015<8,\"\")","v":""}]
[null,null,null,null,null,null,null,null,null,0,{"$f":"+_xlfn.IFS(H2016>8,\"udgår\",I2016>8,\"udgår\",H2016<8,\"\",I2016<8,\"\")","v":""}]
[null,null,null,null,null,null,null,null,null,0,{"$f":"+_xlfn.IFS(H2017>8,\"udgår\",I2017>8,\"udgår\",H2017<8,\"\",I2017<8,\"\")","v":""}]
[null,null,null,null,null,null,null,null,null,0,{"$f":"+_xlfn.IFS(H2018>8,\"udgår\",I2018>8,\"udgår\",H2018<8,\"\",I2018<8,\"\")","v":""}]
[null,null,null,null,null,null,null,null,null,0,{"$f":"+_xlfn.IFS(H2019>8,\"udgår\",I2019>8,\"udgår\",H2019<8,\"\",I2019<8,\"\")","v":""}]
[null,null,null,null,null,null,null,null,null,0,{"$f":"+_xlfn.IFS(H2020>8,\"udgår\",I2020>8,\"udgår\",H2020<8,\"\",I2020<8,\"\")","v":""}]
[null,null,null,null,null,null,null,null,null,0,{"$f":"+_xlfn.IFS(H2021>8,\"udgår\",I2021>8,\"udgår\",H2021<8,\"\",I2021<8,\"\")","v":""}]
[null,null,null,null,null,null,null,null,null,0,{"$f":"+_xlfn.IFS(H2022>8,\"udgår\",I2022>8,\"udgår\",H2022<8,\"\",I2022<8,\"\")","v":""}]
[null,null,null,null,null,null,null,null,null,0,{"$f":"+_xlfn.IFS(H2023>8,\"udgår\",I2023>8,\"udgår\",H2023<8,\"\",I2023<8,\"\")","v":""}]
[null,null,null,null,null,null,null,null,null,0,{"$f":"+_xlfn.IFS(H2024>8,\"udgår\",I2024>8,\"udgår\",H2024<8,\"\",I2024<8,\"\")","v":""}]
[null,null,null,null,null,null,null,null,null,0,{"$f":"+_xlfn.IFS(H2025>8,\"udgår\",I2025>8,\"udgår\",H2025<8,\"\",I2025<8,\"\")","v":""}]
[null,null,null,null,null,null,null,null,null,0,{"$f":"+_xlfn.IFS(H2026>8,\"udgår\",I2026>8,\"udgår\",H2026<8,\"\",I2026<8,\"\")","v":""}]
[null,null,null,null,null,null,null,null,null,0,{"$f":"+_xlfn.IFS(H2027>8,\"udgår\",I2027>8,\"udgår\",H2027<8,\"\",I2027<8,\"\")","v":""}]
[null,null,null,null,null,null,null,null,null,0,{"$f":"+_xlfn.IFS(H2028>8,\"udgår\",I2028>8,\"udgår\",H2028<8,\"\",I2028<8,\"\")","v":""}]
[null,null,null,null,null,null,null,null,null,0,{"$f":"+_xlfn.IFS(H2029>8,\"udgår\",I2029>8,\"udgår\",H2029<8,\"\",I2029<8,\"\")","v":""}]
[null,null,null,null,null,null,null,null,null,0,{"$f":"+_xlfn.IFS(H2030>8,\"udgår\",I2030>8,\"udgår\",H2030<8,\"\",I2030<8,\"\")","v":""}]
[null,null,null,null,null,null,null,null,null,0,{"$f":"+_xlfn.IFS(H2031>8,\"udgår\",I2031>8,\"udgår\",H2031<8,\"\",I2031<8,\"\")","v":""}]
[null,null,null,null,null,null,null,null,null,0,{"$f":"+_xlfn.IFS(H2032>8,\"udgår\",I2032>8,\"udgår\",H2032<8,\"\",I2032<8,\"\")","v":""}]
[null,null,null,null,null,null,null,null,null,0,{"$f":"+_xlfn.IFS(H2033>8,\"udgår\",I2033>8,\"udgår\",H2033<8,\"\",I2033<8,\"\")","v":""}]
[null,null,null,null,null,null,null,null,null,0,{"$f":"+_xlfn.IFS(H2034>8,\"udgår\",I2034>8,\"udgår\",H2034<8,\"\",I2034<8,\"\")","v":""}]
[null,null,null,null,null,null,null,null,null,0,{"$f":"+_xlfn.IFS(H2035>8,\"udgår\",I2035>8,\"udgår\",H2035<8,\"\",I2035<8,\"\")","v":""}]
[null,null,null,null,null,null,null,null,null,0,{"$f":"+_xlfn.IFS(H2036>8,\"udgår\",I2036>8,\"udgår\",H2036<8,\"\",I2036<8,\"\")","v":""}]
[null,null,null,null,null,null,null,null,null,0,{"$f":"+_xlfn.IFS(H2037>8,\"udgår\",I2037>8,\"udgår\",H2037<8,\"\",I2037<8,\"\")","v":""}]
[null,null,null,null,null,null,null,null,null,0,{"$f":"+_xlfn.IFS(H2038>8,\"udgår\",I2038>8,\"udgår\",H2038<8,\"\",I2038<8,\"\")","v":""}]
[null,null,null,null,null,null,null,null,null,0,{"$f":"+_xlfn.IFS(H2039>8,\"udgår\",I2039>8,\"udgår\",H2039<8,\"\",I2039<8,\"\")","v":""}]
[null,null,null,null,null,null,null,null,null,0,{"$f":"+_xlfn.IFS(H2040>8,\"udgår\",I2040>8,\"udgår\",H2040<8,\"\",I2040<8,\"\")","v":""}]
[null,null,null,null,null,null,null,null,null,0,{"$f":"+_xlfn.IFS(H2041>8,\"udgår\",I2041>8,\"udgår\",H2041<8,\"\",I2041<8,\"\")","v":""}]
[null,null,null,null,null,null,null,null,null,0,{"$f":"+_xlfn.IFS(H2042>8,\"udgår\",I2042>8,\"udgår\",H2042<8,\"\",I2042<8,\"\")","v":""}]
[null,null,null,null,null,null,null,null,null,0,{"$f":"+_xlfn.IFS(H2043>8,\"udgår\",I2043>8,\"udgår\",H2043<8,\"\",I2043<8,\"\")","v":""}]
[null,null,null,null,null,null,null,null,null,0,{"$f":"+_xlfn.IFS(H2044>8,\"udgår\",I2044>8,\"udgår\",H2044<8,\"\",I2044<8,\"\")","v":""}]
[null,null,null,null,null,null,null,null,null,0,{"$f":"+_xlfn.IFS(H2045>8,\"udgår\",I2045>8,\"udgår\",H2045<8,\"\",I2045<8,\"\")","v":""}]
[null,null,null,null,null,null,null,null,null,0,{"$f":"+_xlfn.IFS(H2046>8,\"udgår\",I2046>8,\"udgår\",H2046<8,\"\",I2046<8,\"\")","v":""}]
[null,null,null,null,null,null,null,null,null,0,{"$f":"+_xlfn.IFS(H2047>8,\"udgår\",I2047>8,\"udgår\",H2047<8,\"\",I2047<8,\"\")","v":""}]
[null,null,null,null,null,null,null,null,null,0,{"$f":"+_xlfn.IFS(H2048>8,\"udgår\",I2048>8,\"udgår\",H2048<8,\"\",I2048<8,\"\")","v":""}]
[null,null,null,null,null,null,null,null,null,0,{"$f":"+_xlfn.IFS(H2049>8,\"udgår\",I2049>8,\"udgår\",H2049<8,\"\",I2049<8,\"\")","v":""}]
[null,null,null,null,null,null,null,null,null,0,{"$f":"+_xlfn.IFS(H2050>8,\"udgår\",I2050>8,\"udgår\",H2050<8,\"\",I2050<8,\"\")","v":""}]
[null,null,null,null,null,null,null,null,null,{"$f":"+D2051-F2051","v":0},{"$f":"+_xlfn.IFS(H2051>8,\"udgår\",I2051>8,\"udgår\",H2051<8,\"\",I2051<8,\"\")","v":""}]
[null,null,null,null,null,null,null,null,null,0,{"$f":"+_xlfn.IFS(H2052>8,\"udgår\",I2052>8,\"udgår\",H2052<8,\"\",I2052<8,\"\")","v":""}]
[null,null,null,null,null,null,null,null,null,0,{"$f":"+_xlfn.IFS(H2053>8,\"udgår\",I2053>8,\"udgår\",H2053<8,\"\",I2053<8,\"\")","v":""}]
[null,null,null,null,null,null,null,null,null,0,{"$f":"+_xlfn.IFS(H2054>8,\"udgår\",I2054>8,\"udgår\",H2054<8,\"\",I2054<8,\"\")","v":""}]
[null,null,null,null,null,null,null,null,null,0,{"$f":"+_xlfn.IFS(H2055>8,\"udgår\",I2055>8,\"udgår\",H2055<8,\"\",I2055<8,\"\")","v":""}]
[null,null,null,null,null,null,null,null,null,0,{"$f":"+_xlfn.IFS(H2056>8,\"udgår\",I2056>8,\"udgår\",H2056<8,\"\",I2056<8,\"\")","v":""}]
[null,null,null,null,null,null,null,null,null,0,{"$f":"+_xlfn.IFS(H2057>8,\"udgår\",I2057>8,\"udgår\",H2057<8,\"\",I2057<8,\"\")","v":""}]
[null,null,null,null,null,null,null,null,null,0,{"$f":"+_xlfn.IFS(H2058>8,\"udgår\",I2058>8,\"udgår\",H2058<8,\"\",I2058<8,\"\")","v":""}]
[null,null,null,null,null,null,null,null,null,0,{"$f":"+_xlfn.IFS(H2059>8,\"udgår\",I2059>8,\"udgår\",H2059<8,\"\",I2059<8,\"\")","v":""}]
[null,null,null,null,null,null,null,null,null,0,{"$f":"+_xlfn.IFS(H2060>8,\"udgår\",I2060>8,\"udgår\",H2060<8,\"\",I2060<8,\"\")","v":""}]
[null,null,null,null,null,null,null,null,null,0,{"$f":"+_xlfn.IFS(H2061>8,\"udgår\",I2061>8,\"udgår\",H2061<8,\"\",I2061<8,\"\")","v":""}]
[null,null,null,null,null,null,null,null,null,0,{"$f":"+_xlfn.IFS(H2062>8,\"udgår\",I2062>8,\"udgår\",H2062<8,\"\",I2062<8,\"\")","v":""}]
[null,null,null,null,null,null,null,null,null,0,{"$f":"+_xlfn.IFS(H2063>8,\"udgår\",I2063>8,\"udgår\",H2063<8,\"\",I2063<8,\"\")","v":""}]
[null,null,null,null,null,null,null,null,null,0,{"$f":"+_xlfn.IFS(H2064>8,\"udgår\",I2064>8,\"udgår\",H2064<8,\"\",I2064<8,\"\")","v":""}]
[null,null,null,null,null,null,null,null,null,0,{"$f":"+_xlfn.IFS(H2065>8,\"udgår\",I2065>8,\"udgår\",H2065<8,\"\",I2065<8,\"\")","v":""}]
[null,null,null,null,null,null,null,null,null,0,{"$f":"+_xlfn.IFS(H2066>8,\"udgår\",I2066>8,\"udgår\",H2066<8,\"\",I2066<8,\"\")","v":""}]
[null,null,null,null,null,null,null,null,null,0,{"$f":"+_xlfn.IFS(H2067>8,\"udgår\",I2067>8,\"udgår\",H2067<8,\"\",I2067<8,\"\")","v":""}]
[null,null,null,null,null,null,null,null,null,0,{"$f":"+_xlfn.IFS(H2068>8,\"udgår\",I2068>8,\"udgår\",H2068<8,\"\",I2068<8,\"\")","v":""}]
[null,null,null,null,null,null,null,null,null,0,{"$f":"+_xlfn.IFS(H2069>8,\"udgår\",I2069>8,\"udgår\",H2069<8,\"\",I2069<8,\"\")","v":""}]
[null,null,null,null,null,null,null,null,null,0,{"$f":"+_xlfn.IFS(H2070>8,\"udgår\",I2070>8,\"udgår\",H2070<8,\"\",I2070<8,\"\")","v":""}]
[null,null,null,null,null,null,null,null,null,0,{"$f":"+_xlfn.IFS(H2071>8,\"udgår\",I2071>8,\"udgår\",H2071<8,\"\",I2071<8,\"\")","v":""}]
[null,null,null,null,null,null,null,null,null,0,{"$f":"+_xlfn.IFS(H2072>8,\"udgår\",I2072>8,\"udgår\",H2072<8,\"\",I2072<8,\"\")","v":""}]
[null,null,null,null,null,null,null,null,null,0,{"$f":"+_xlfn.IFS(H2073>8,\"udgår\",I2073>8,\"udgår\",H2073<8,\"\",I2073<8,\"\")","v":""}]
[null,null,null,null,null,null,null,null,null,0,{"$f":"+_xlfn.IFS(H2074>8,\"udgår\",I2074>8,\"udgår\",H2074<8,\"\",I2074<8,\"\")","v":""}]
[null,null,null,null,null,null,null,null,null,0,{"$f":"+_xlfn.IFS(H2075>8,\"udgår\",I2075>8,\"udgår\",H2075<8,\"\",I2075<8,\"\")","v":""}]
[null,null,null,null,null,null,null,null,null,0,{"$f":"+_xlfn.IFS(H2076>8,\"udgår\",I2076>8,\"udgår\",H2076<8,\"\",I2076<8,\"\")","v":""}]
[null,null,null,null,null,null,null,null,null,0,{"$f":"+_xlfn.IFS(H2077>8,\"udgår\",I2077>8,\"udgår\",H2077<8,\"\",I2077<8,\"\")","v":""}]
[null,null,null,null,null,null,null,null,null,0,{"$f":"+_xlfn.IFS(H2078>8,\"udgår\",I2078>8,\"udgår\",H2078<8,\"\",I2078<8,\"\")","v":""}]
[null,null,null,null,null,null,null,null,null,0,{"$f":"+_xlfn.IFS(H2079>8,\"udgår\",I2079>8,\"udgår\",H2079<8,\"\",I2079<8,\"\")","v":""}]
[null,null,null,null,null,null,null,null,null,0,{"$f":"+_xlfn.IFS(H2080>8,\"udgår\",I2080>8,\"udgår\",H2080<8,\"\",I2080<8,\"\")","v":""}]
[null,null,null,null,null,null,null,null,null,0,{"$f":"+_xlfn.IFS(H2081>8,\"udgår\",I2081>8,\"udgår\",H2081<8,\"\",I2081<8,\"\")","v":""}]
[null,null,null,null,null,null,null,null,null,0,{"$f":"+_xlfn.IFS(H2082>8,\"udgår\",I2082>8,\"udgår\",H2082<8,\"\",I2082<8,\"\")","v":""}]
[null,null,null,null,null,null,null,null,null,0,{"$f":"+_xlfn.IFS(H2083>8,\"udgår\",I2083>8,\"udgår\",H2083<8,\"\",I2083<8,\"\")","v":""}]
[null,null,null,null,null,null,null,null,null,0,{"$f":"+_xlfn.IFS(H2084>8,\"udgår\",I2084>8,\"udgår\",H2084<8,\"\",I2084<8,\"\")","v":""}]
[null,null,null,null,null,null,null,null,null,0,{"$f":"+_xlfn.IFS(H2085>8,\"udgår\",I2085>8,\"udgår\",H2085<8,\"\",I2085<8,\"\")","v":""}]
[null,null,null,null,null,null,null,null,null,0,{"$f":"+_xlfn.IFS(H2086>8,\"udgår\",I2086>8,\"udgår\",H2086<8,\"\",I2086<8,\"\")","v":""}]
[null,null,null,null,null,null,null,null,null,0,{"$f":"+_xlfn.IFS(H2087>8,\"udgår\",I2087>8,\"udgår\",H2087<8,\"\",I2087<8,\"\")","v":""}]
[null,null,null,null,null,null,null,null,null,0,{"$f":"+_xlfn.IFS(H2088>8,\"udgår\",I2088>8,\"udgår\",H2088<8,\"\",I2088<8,\"\")","v":""}]
[null,null,null,null,null,null,null,null,null,0,{"$f":"+_xlfn.IFS(H2089>8,\"udgår\",I2089>8,\"udgår\",H2089<8,\"\",I2089<8,\"\")","v":""}]
[null,null,null,null,null,null,null,null,null,0,{"$f":"+_xlfn.IFS(H2090>8,\"udgår\",I2090>8,\"udgår\",H2090<8,\"\",I2090<8,\"\")","v":""}]
[null,null,null,null,null,null,null,null,null,0,{"$f":"+_xlfn.IFS(H2091>8,\"udgår\",I2091>8,\"udgår\",H2091<8,\"\",I2091<8,\"\")","v":""}]
[null,null,null,null,null,null,null,null,null,0,{"$f":"+_xlfn.IFS(H2092>8,\"udgår\",I2092>8,\"udgår\",H2092<8,\"\",I2092<8,\"\")","v":""}]
[null,null,null,null,null,null,null,null,null,0,{"$f":"+_xlfn.IFS(H2093>8,\"udgår\",I2093>8,\"udgår\",H2093<8,\"\",I2093<8,\"\")","v":""}]
[null,null,null,null,null,null,null,null,null,0,{"$f":"+_xlfn.IFS(H2094>8,\"udgår\",I2094>8,\"udgår\",H2094<8,\"\",I2094<8,\"\")","v":""}]
[null,null,null,null,null,null,null,null,null,0,{"$f":"+_xlfn.IFS(H2095>8,\"udgår\",I2095>8,\"udgår\",H2095<8,\"\",I2095<8,\"\")","v":""}]
[null,null,null,null,null,null,null,null,null,0,{"$f":"+_xlfn.IFS(H2096>8,\"udgår\",I2096>8,\"udgår\",H2096<8,\"\",I2096<8,\"\")","v":""}]
[null,null,null,null,null,null,null,null,null,0,{"$f":"+_xlfn.IFS(H2097>8,\"udgår\",I2097>8,\"udgår\",H2097<8,\"\",I2097<8,\"\")","v":""}]
[null,null,null,null,null,null,null,null,null,0,{"$f":"+_xlfn.IFS(H2098>8,\"udgår\",I2098>8,\"udgår\",H2098<8,\"\",I2098<8,\"\")","v":""}]
[null,null,null,null,null,null,null,null,null,0,{"$f":"+_xlfn.IFS(H2099>8,\"udgår\",I2099>8,\"udgår\",H2099<8,\"\",I2099<8,\"\")","v":""}]
[null,null,null,null,null,null,null,null,null,0,{"$f":"+_xlfn.IFS(H2100>8,\"udgår\",I2100>8,\"udgår\",H2100<8,\"\",I2100<8,\"\")","v":""}]
[null,null,null,null,null,null,null,null,null,0,{"$f":"+_xlfn.IFS(H2101>8,\"udgår\",I2101>8,\"udgår\",H2101<8,\"\",I2101<8,\"\")","v":""}]
[null,null,null,null,null,null,null,null,null,0,{"$f":"+_xlfn.IFS(H2102>8,\"udgår\",I2102>8,\"udgår\",H2102<8,\"\",I2102<8,\"\")","v":""}]
[null,null,null,null,null,null,null,null,null,0,{"$f":"+_xlfn.IFS(H2103>8,\"udgår\",I2103>8,\"udgår\",H2103<8,\"\",I2103<8,\"\")","v":""}]
[null,null,null,null,null,null,null,null,null,0,{"$f":"+_xlfn.IFS(H2104>8,\"udgår\",I2104>8,\"udgår\",H2104<8,\"\",I2104<8,\"\")","v":""}]
[null,null,null,null,null,null,null,null,null,0,{"$f":"+_xlfn.IFS(H2105>8,\"udgår\",I2105>8,\"udgår\",H2105<8,\"\",I2105<8,\"\")","v":""}]
[null,null,null,null,null,null,null,null,null,0,{"$f":"+_xlfn.IFS(H2106>8,\"udgår\",I2106>8,\"udgår\",H2106<8,\"\",I2106<8,\"\")","v":""}]
[null,null,null,null,null,null,null,null,null,0,{"$f":"+_xlfn.IFS(H2107>8,\"udgår\",I2107>8,\"udgår\",H2107<8,\"\",I2107<8,\"\")","v":""}]
[null,null,null,null,null,null,null,null,null,0,{"$f":"+_xlfn.IFS(H2108>8,\"udgår\",I2108>8,\"udgår\",H2108<8,\"\",I2108<8,\"\")","v":""}]
[null,null,null,null,null,null,null,null,null,0,{"$f":"+_xlfn.IFS(H2109>8,\"udgår\",I2109>8,\"udgår\",H2109<8,\"\",I2109<8,\"\")","v":""}]
[null,null,null,null,null,null,null,null,null,0,{"$f":"+_xlfn.IFS(H2110>8,\"udgår\",I2110>8,\"udgår\",H2110<8,\"\",I2110<8,\"\")","v":""}]
[null,null,null,null,null,null,null,null,null,0,{"$f":"+_xlfn.IFS(H2111>8,\"udgår\",I2111>8,\"udgår\",H2111<8,\"\",I2111<8,\"\")","v":""}]
[null,null,null,null,null,null,null,null,null,0,{"$f":"+_xlfn.IFS(H2112>8,\"udgår\",I2112>8,\"udgår\",H2112<8,\"\",I2112<8,\"\")","v":""}]
[null,null,null,null,null,null,null,null,null,0,{"$f":"+_xlfn.IFS(H2113>8,\"udgår\",I2113>8,\"udgår\",H2113<8,\"\",I2113<8,\"\")","v":""}]
[null,null,null,null,null,null,null,null,null,0,{"$f":"+_xlfn.IFS(H2114>8,\"udgår\",I2114>8,\"udgår\",H2114<8,\"\",I2114<8,\"\")","v":""}]
[null,null,null,null,null,null,null,null,null,{"$f":"+D2115-F2115","v":0},{"$f":"+_xlfn.IFS(H2115>8,\"udgår\",I2115>8,\"udgår\",H2115<8,\"\",I2115<8,\"\")","v":""}]
[null,null,null,null,null,null,null,null,null,0,{"$f":"+_xlfn.IFS(H2116>8,\"udgår\",I2116>8,\"udgår\",H2116<8,\"\",I2116<8,\"\")","v":""}]
[null,null,null,null,null,null,null,null,null,0,{"$f":"+_xlfn.IFS(H2117>8,\"udgår\",I2117>8,\"udgår\",H2117<8,\"\",I2117<8,\"\")","v":""}]
[null,null,null,null,null,null,null,null,null,0,{"$f":"+_xlfn.IFS(H2118>8,\"udgår\",I2118>8,\"udgår\",H2118<8,\"\",I2118<8,\"\")","v":""}]
[null,null,null,null,null,null,null,null,null,0,{"$f":"+_xlfn.IFS(H2119>8,\"udgår\",I2119>8,\"udgår\",H2119<8,\"\",I2119<8,\"\")","v":""}]
[null,null,null,null,null,null,null,null,null,0,{"$f":"+_xlfn.IFS(H2120>8,\"udgår\",I2120>8,\"udgår\",H2120<8,\"\",I2120<8,\"\")","v":""}]
[null,null,null,null,null,null,null,null,null,0,{"$f":"+_xlfn.IFS(H2121>8,\"udgår\",I2121>8,\"udgår\",H2121<8,\"\",I2121<8,\"\")","v":""}]
[null,null,null,null,null,null,null,null,null,0,{"$f":"+_xlfn.IFS(H2122>8,\"udgår\",I2122>8,\"udgår\",H2122<8,\"\",I2122<8,\"\")","v":""}]
[null,null,null,null,null,null,null,null,null,0,{"$f":"+_xlfn.IFS(H2123>8,\"udgår\",I2123>8,\"udgår\",H2123<8,\"\",I2123<8,\"\")","v":""}]
[null,null,null,null,null,null,null,null,null,0,{"$f":"+_xlfn.IFS(H2124>8,\"udgår\",I2124>8,\"udgår\",H2124<8,\"\",I2124<8,\"\")","v":""}]
[null,null,null,null,null,null,null,null,null,0,{"$f":"+_xlfn.IFS(H2125>8,\"udgår\",I2125>8,\"udgår\",H2125<8,\"\",I2125<8,\"\")","v":""}]
[null,null,null,null,null,null,null,null,null,0,{"$f":"+_xlfn.IFS(H2126>8,\"udgår\",I2126>8,\"udgår\",H2126<8,\"\",I2126<8,\"\")","v":""}]
[null,null,null,null,null,null,null,null,null,0,{"$f":"+_xlfn.IFS(H2127>8,\"udgår\",I2127>8,\"udgår\",H2127<8,\"\",I2127<8,\"\")","v":""}]
[null,null,null,null,null,null,null,null,null,0,{"$f":"+_xlfn.IFS(H2128>8,\"udgår\",I2128>8,\"udgår\",H2128<8,\"\",I2128<8,\"\")","v":""}]
[null,null,null,null,null,null,null,null,null,0,{"$f":"+_xlfn.IFS(H2129>8,\"udgår\",I2129>8,\"udgår\",H2129<8,\"\",I2129<8,\"\")","v":""}]
[null,null,null,null,null,null,null,null,null,0,{"$f":"+_xlfn.IFS(H2130>8,\"udgår\",I2130>8,\"udgår\",H2130<8,\"\",I2130<8,\"\")","v":""}]
[null,null,null,null,null,null,null,null,null,0,{"$f":"+_xlfn.IFS(H2131>8,\"udgår\",I2131>8,\"udgår\",H2131<8,\"\",I2131<8,\"\")","v":""}]
[null,null,null,null,null,null,null,null,null,0,{"$f":"+_xlfn.IFS(H2132>8,\"udgår\",I2132>8,\"udgår\",H2132<8,\"\",I2132<8,\"\")","v":""}]
[null,null,null,null,null,null,null,null,null,0,{"$f":"+_xlfn.IFS(H2133>8,\"udgår\",I2133>8,\"udgår\",H2133<8,\"\",I2133<8,\"\")","v":""}]
[null,null,null,null,null,null,null,null,null,0,{"$f":"+_xlfn.IFS(H2134>8,\"udgår\",I2134>8,\"udgår\",H2134<8,\"\",I2134<8,\"\")","v":""}]
[null,null,null,null,null,null,null,null,null,0,{"$f":"+_xlfn.IFS(H2135>8,\"udgår\",I2135>8,\"udgår\",H2135<8,\"\",I2135<8,\"\")","v":""}]
[null,null,null,null,null,null,null,null,null,0,{"$f":"+_xlfn.IFS(H2136>8,\"udgår\",I2136>8,\"udgår\",H2136<8,\"\",I2136<8,\"\")","v":""}]
[null,null,null,null,null,null,null,null,null,0,{"$f":"+_xlfn.IFS(H2137>8,\"udgår\",I2137>8,\"udgår\",H2137<8,\"\",I2137<8,\"\")","v":""}]
[null,null,null,null,null,null,null,null,null,0,{"$f":"+_xlfn.IFS(H2138>8,\"udgår\",I2138>8,\"udgår\",H2138<8,\"\",I2138<8,\"\")","v":""}]
[null,null,null,null,null,null,null,null,null,0,{"$f":"+_xlfn.IFS(H2139>8,\"udgår\",I2139>8,\"udgår\",H2139<8,\"\",I2139<8,\"\")","v":""}]
[null,null,null,null,null,null,null,null,null,0,{"$f":"+_xlfn.IFS(H2140>8,\"udgår\",I2140>8,\"udgår\",H2140<8,\"\",I2140<8,\"\")","v":""}]
[null,null,null,null,null,null,null,null,null,0,{"$f":"+_xlfn.IFS(H2141>8,\"udgår\",I2141>8,\"udgår\",H2141<8,\"\",I2141<8,\"\")","v":""}]
[null,null,null,null,null,null,null,null,null,0,{"$f":"+_xlfn.IFS(H2142>8,\"udgår\",I2142>8,\"udgår\",H2142<8,\"\",I2142<8,\"\")","v":""}]
[null,null,null,null,null,null,null,null,null,0,{"$f":"+_xlfn.IFS(H2143>8,\"udgår\",I2143>8,\"udgår\",H2143<8,\"\",I2143<8,\"\")","v":""}]
[null,null,null,null,null,null,null,null,null,0,{"$f":"+_xlfn.IFS(H2144>8,\"udgår\",I2144>8,\"udgår\",H2144<8,\"\",I2144<8,\"\")","v":""}]
[null,null,null,null,null,null,null,null,null,0,{"$f":"+_xlfn.IFS(H2145>8,\"udgår\",I2145>8,\"udgår\",H2145<8,\"\",I2145<8,\"\")","v":""}]
[null,null,null,null,null,null,null,null,null,0,{"$f":"+_xlfn.IFS(H2146>8,\"udgår\",I2146>8,\"udgår\",H2146<8,\"\",I2146<8,\"\")","v":""}]
[null,null,null,null,null,null,null,null,null,0,{"$f":"+_xlfn.IFS(H2147>8,\"udgår\",I2147>8,\"udgår\",H2147<8,\"\",I2147<8,\"\")","v":""}]
[null,null,null,null,null,null,null,null,null,0,{"$f":"+_xlfn.IFS(H2148>8,\"udgår\",I2148>8,\"udgår\",H2148<8,\"\",I2148<8,\"\")","v":""}]
[null,null,null,null,null,null,null,null,null,0,{"$f":"+_xlfn.IFS(H2149>8,\"udgår\",I2149>8,\"udgår\",H2149<8,\"\",I2149<8,\"\")","v":""}]
[null,null,null,null,null,null,null,null,null,0,{"$f":"+_xlfn.IFS(H2150>8,\"udgår\",I2150>8,\"udgår\",H2150<8,\"\",I2150<8,\"\")","v":""}]
[null,null,null,null,null,null,null,null,null,0,{"$f":"+_xlfn.IFS(H2151>8,\"udgår\",I2151>8,\"udgår\",H2151<8,\"\",I2151<8,\"\")","v":""}]
[null,null,null,null,null,null,null,null,null,0,{"$f":"+_xlfn.IFS(H2152>8,\"udgår\",I2152>8,\"udgår\",H2152<8,\"\",I2152<8,\"\")","v":""}]
[null,null,null,null,null,null,null,null,null,0,{"$f":"+_xlfn.IFS(H2153>8,\"udgår\",I2153>8,\"udgår\",H2153<8,\"\",I2153<8,\"\")","v":""}]
[null,null,null,null,null,null,null,null,null,0,{"$f":"+_xlfn.IFS(H2154>8,\"udgår\",I2154>8,\"udgår\",H2154<8,\"\",I2154<8,\"\")","v":""}]
[null,null,null,null,null,null,null,null,null,0,{"$f":"+_xlfn.IFS(H2155>8,\"udgår\",I2155>8,\"udgår\",H2155<8,\"\",I2155<8,\"\")","v":""}]
[null,null,null,null,null,null,null,null,null,0,{"$f":"+_xlfn.IFS(H2156>8,\"udgår\",I2156>8,\"udgår\",H2156<8,\"\",I2156<8,\"\")","v":""}]
[null,null,null,null,null,null,null,null,null,0,{"$f":"+_xlfn.IFS(H2157>8,\"udgår\",I2157>8,\"udgår\",H2157<8,\"\",I2157<8,\"\")","v":""}]
[null,null,null,null,null,null,null,null,null,0,{"$f":"+_xlfn.IFS(H2158>8,\"udgår\",I2158>8,\"udgår\",H2158<8,\"\",I2158<8,\"\")","v":""}]
[null,null,null,null,null,null,null,null,null,0,{"$f":"+_xlfn.IFS(H2159>8,\"udgår\",I2159>8,\"udgår\",H2159<8,\"\",I2159<8,\"\")","v":""}]
[null,null,null,null,null,null,null,null,null,0,{"$f":"+_xlfn.IFS(H2160>8,\"udgår\",I2160>8,\"udgår\",H2160<8,\"\",I2160<8,\"\")","v":""}]
[null,null,null,null,null,null,null,null,null,0,{"$f":"+_xlfn.IFS(H2161>8,\"udgår\",I2161>8,\"udgår\",H2161<8,\"\",I2161<8,\"\")","v":""}]
[null,null,null,null,null,null,null,null,null,0,{"$f":"+_xlfn.IFS(H2162>8,\"udgår\",I2162>8,\"udgår\",H2162<8,\"\",I2162<8,\"\")","v":""}]
[null,null,null,null,null,null,null,null,null,0,{"$f":"+_xlfn.IFS(H2163>8,\"udgår\",I2163>8,\"udgår\",H2163<8,\"\",I2163<8,\"\")","v":""}]
[null,null,null,null,null,null,null,null,null,0,{"$f":"+_xlfn.IFS(H2164>8,\"udgår\",I2164>8,\"udgår\",H2164<8,\"\",I2164<8,\"\")","v":""}]
[null,null,null,null,null,null,null,null,null,0,{"$f":"+_xlfn.IFS(H2165>8,\"udgår\",I2165>8,\"udgår\",H2165<8,\"\",I2165<8,\"\")","v":""}]
[null,null,null,null,null,null,null,null,null,0,{"$f":"+_xlfn.IFS(H2166>8,\"udgår\",I2166>8,\"udgår\",H2166<8,\"\",I2166<8,\"\")","v":""}]
[null,null,null,null,null,null,null,null,null,0,{"$f":"+_xlfn.IFS(H2167>8,\"udgår\",I2167>8,\"udgår\",H2167<8,\"\",I2167<8,\"\")","v":""}]
[null,null,null,null,null,null,null,null,null,0,{"$f":"+_xlfn.IFS(H2168>8,\"udgår\",I2168>8,\"udgår\",H2168<8,\"\",I2168<8,\"\")","v":""}]
[null,null,null,null,null,null,null,null,null,0,{"$f":"+_xlfn.IFS(H2169>8,\"udgår\",I2169>8,\"udgår\",H2169<8,\"\",I2169<8,\"\")","v":""}]
[null,null,null,null,null,null,null,null,null,0,{"$f":"+_xlfn.IFS(H2170>8,\"udgår\",I2170>8,\"udgår\",H2170<8,\"\",I2170<8,\"\")","v":""}]
[null,null,null,null,null,null,null,null,null,0,{"$f":"+_xlfn.IFS(H2171>8,\"udgår\",I2171>8,\"udgår\",H2171<8,\"\",I2171<8,\"\")","v":""}]
[null,null,null,null,null,null,null,null,null,0,{"$f":"+_xlfn.IFS(H2172>8,\"udgår\",I2172>8,\"udgår\",H2172<8,\"\",I2172<8,\"\")","v":""}]
[null,null,null,null,null,null,null,null,null,0,{"$f":"+_xlfn.IFS(H2173>8,\"udgår\",I2173>8,\"udgår\",H2173<8,\"\",I2173<8,\"\")","v":""}]
[null,null,null,null,null,null,null,null,null,0,{"$f":"+_xlfn.IFS(H2174>8,\"udgår\",I2174>8,\"udgår\",H2174<8,\"\",I2174<8,\"\")","v":""}]
[null,null,null,null,null,null,null,null,null,0,{"$f":"+_xlfn.IFS(H2175>8,\"udgår\",I2175>8,\"udgår\",H2175<8,\"\",I2175<8,\"\")","v":""}]
[null,null,null,null,null,null,null,null,null,0,{"$f":"+_xlfn.IFS(H2176>8,\"udgår\",I2176>8,\"udgår\",H2176<8,\"\",I2176<8,\"\")","v":""}]
[null,null,null,null,null,null,null,null,null,0,{"$f":"+_xlfn.IFS(H2177>8,\"udgår\",I2177>8,\"udgår\",H2177<8,\"\",I2177<8,\"\")","v":""}]
[null,null,null,null,null,null,null,null,null,0,{"$f":"+_xlfn.IFS(H2178>8,\"udgår\",I2178>8,\"udgår\",H2178<8,\"\",I2178<8,\"\")","v":""}]
[null,null,null,null,null,null,null,null,null,{"$f":"+D2179-F2179","v":0},{"$f":"+_xlfn.IFS(H2179>8,\"udgår\",I2179>8,\"udgår\",H2179<8,\"\",I2179<8,\"\")","v":""}]
[null,null,null,null,null,null,null,null,null,0,{"$f":"+_xlfn.IFS(H2180>8,\"udgår\",I2180>8,\"udgår\",H2180<8,\"\",I2180<8,\"\")","v":""}]
[null,null,null,null,null,null,null,null,null,0,{"$f":"+_xlfn.IFS(H2181>8,\"udgår\",I2181>8,\"udgår\",H2181<8,\"\",I2181<8,\"\")","v":""}]
[null,null,null,null,null,null,null,null,null,0,{"$f":"+_xlfn.IFS(H2182>8,\"udgår\",I2182>8,\"udgår\",H2182<8,\"\",I2182<8,\"\")","v":""}]
[null,null,null,null,null,null,null,null,null,0,{"$f":"+_xlfn.IFS(H2183>8,\"udgår\",I2183>8,\"udgår\",H2183<8,\"\",I2183<8,\"\")","v":""}]
[null,null,null,null,null,null,null,null,null,0,{"$f":"+_xlfn.IFS(H2184>8,\"udgår\",I2184>8,\"udgår\",H2184<8,\"\",I2184<8,\"\")","v":""}]
[null,null,null,null,null,null,null,null,null,0,{"$f":"+_xlfn.IFS(H2185>8,\"udgår\",I2185>8,\"udgår\",H2185<8,\"\",I2185<8,\"\")","v":""}]
[null,null,null,null,null,null,null,null,null,0,{"$f":"+_xlfn.IFS(H2186>8,\"udgår\",I2186>8,\"udgår\",H2186<8,\"\",I2186<8,\"\")","v":""}]
[null,null,null,null,null,null,null,null,null,0,{"$f":"+_xlfn.IFS(H2187>8,\"udgår\",I2187>8,\"udgår\",H2187<8,\"\",I2187<8,\"\")","v":""}]
[null,null,null,null,null,null,null,null,null,0,{"$f":"+_xlfn.IFS(H2188>8,\"udgår\",I2188>8,\"udgår\",H2188<8,\"\",I2188<8,\"\")","v":""}]
[null,null,null,null,null,null,null,null,null,0,{"$f":"+_xlfn.IFS(H2189>8,\"udgår\",I2189>8,\"udgår\",H2189<8,\"\",I2189<8,\"\")","v":""}]
[null,null,null,null,null,null,null,null,null,0,{"$f":"+_xlfn.IFS(H2190>8,\"udgår\",I2190>8,\"udgår\",H2190<8,\"\",I2190<8,\"\")","v":""}]
[null,null,null,null,null,null,null,null,null,0,{"$f":"+_xlfn.IFS(H2191>8,\"udgår\",I2191>8,\"udgår\",H2191<8,\"\",I2191<8,\"\")","v":""}]
[null,null,null,null,null,null,null,null,null,0,{"$f":"+_xlfn.IFS(H2192>8,\"udgår\",I2192>8,\"udgår\",H2192<8,\"\",I2192<8,\"\")","v":""}]
[null,null,null,null,null,null,null,null,null,0,{"$f":"+_xlfn.IFS(H2193>8,\"udgår\",I2193>8,\"udgår\",H2193<8,\"\",I2193<8,\"\")","v":""}]
[null,null,null,null,null,null,null,null,null,0,{"$f":"+_xlfn.IFS(H2194>8,\"udgår\",I2194>8,\"udgår\",H2194<8,\"\",I2194<8,\"\")","v":""}]
[null,null,null,null,null,null,null,null,null,0,{"$f":"+_xlfn.IFS(H2195>8,\"udgår\",I2195>8,\"udgår\",H2195<8,\"\",I2195<8,\"\")","v":""}]
[null,null,null,null,null,null,null,null,null,0,{"$f":"+_xlfn.IFS(H2196>8,\"udgår\",I2196>8,\"udgår\",H2196<8,\"\",I2196<8,\"\")","v":""}]
[null,null,null,null,null,null,null,null,null,0,{"$f":"+_xlfn.IFS(H2197>8,\"udgår\",I2197>8,\"udgår\",H2197<8,\"\",I2197<8,\"\")","v":""}]
[null,null,null,null,null,null,null,null,null,0,{"$f":"+_xlfn.IFS(H2198>8,\"udgår\",I2198>8,\"udgår\",H2198<8,\"\",I2198<8,\"\")","v":""}]
[null,null,null,null,null,null,null,null,null,0,{"$f":"+_xlfn.IFS(H2199>8,\"udgår\",I2199>8,\"udgår\",H2199<8,\"\",I2199<8,\"\")","v":""}]
[null,null,null,null,null,null,null,null,null,0,{"$f":"+_xlfn.IFS(H2200>8,\"udgår\",I2200>8,\"udgår\",H2200<8,\"\",I2200<8,\"\")","v":""}]
[null,null,null,null,null,null,null,null,null,0,{"$f":"+_xlfn.IFS(H2201>8,\"udgår\",I2201>8,\"udgår\",H2201<8,\"\",I2201<8,\"\")","v":""}]
[null,null,null,null,null,null,null,null,null,0,{"$f":"+_xlfn.IFS(H2202>8,\"udgår\",I2202>8,\"udgår\",H2202<8,\"\",I2202<8,\"\")","v":""}]
[null,null,null,null,null,null,null,null,null,0,{"$f":"+_xlfn.IFS(H2203>8,\"udgår\",I2203>8,\"udgår\",H2203<8,\"\",I2203<8,\"\")","v":""}]
[null,null,null,null,null,null,null,null,null,0,{"$f":"+_xlfn.IFS(H2204>8,\"udgår\",I2204>8,\"udgår\",H2204<8,\"\",I2204<8,\"\")","v":""}]
[null,null,null,null,null,null,null,null,null,0,{"$f":"+_xlfn.IFS(H2205>8,\"udgår\",I2205>8,\"udgår\",H2205<8,\"\",I2205<8,\"\")","v":""}]
[null,null,null,null,null,null,null,null,null,0,{"$f":"+_xlfn.IFS(H2206>8,\"udgår\",I2206>8,\"udgår\",H2206<8,\"\",I2206<8,\"\")","v":""}]
[null,null,null,null,null,null,null,null,null,0,{"$f":"+_xlfn.IFS(H2207>8,\"udgår\",I2207>8,\"udgår\",H2207<8,\"\",I2207<8,\"\")","v":""}]
[null,null,null,null,null,null,null,null,null,0,{"$f":"+_xlfn.IFS(H2208>8,\"udgår\",I2208>8,\"udgår\",H2208<8,\"\",I2208<8,\"\")","v":""}]
[null,null,null,null,null,null,null,null,null,0,{"$f":"+_xlfn.IFS(H2209>8,\"udgår\",I2209>8,\"udgår\",H2209<8,\"\",I2209<8,\"\")","v":""}]
[null,null,null,null,null,null,null,null,null,0,{"$f":"+_xlfn.IFS(H2210>8,\"udgår\",I2210>8,\"udgår\",H2210<8,\"\",I2210<8,\"\")","v":""}]
[null,null,null,null,null,null,null,null,null,0,{"$f":"+_xlfn.IFS(H2211>8,\"udgår\",I2211>8,\"udgår\",H2211<8,\"\",I2211<8,\"\")","v":""}]
[null,null,null,null,null,null,null,null,null,0,{"$f":"+_xlfn.IFS(H2212>8,\"udgår\",I2212>8,\"udgår\",H2212<8,\"\",I2212<8,\"\")","v":""}]
[null,null,null,null,null,null,null,null,null,0,{"$f":"+_xlfn.IFS(H2213>8,\"udgår\",I2213>8,\"udgår\",H2213<8,\"\",I2213<8,\"\")","v":""}]
[null,null,null,null,null,null,null,null,null,0,{"$f":"+_xlfn.IFS(H2214>8,\"udgår\",I2214>8,\"udgår\",H2214<8,\"\",I2214<8,\"\")","v":""}]
[null,null,null,null,null,null,null,null,null,0,{"$f":"+_xlfn.IFS(H2215>8,\"udgår\",I2215>8,\"udgår\",H2215<8,\"\",I2215<8,\"\")","v":""}]
[null,null,null,null,null,null,null,null,null,0,{"$f":"+_xlfn.IFS(H2216>8,\"udgår\",I2216>8,\"udgår\",H2216<8,\"\",I2216<8,\"\")","v":""}]
[null,null,null,null,null,null,null,null,null,0,{"$f":"+_xlfn.IFS(H2217>8,\"udgår\",I2217>8,\"udgår\",H2217<8,\"\",I2217<8,\"\")","v":""}]
[null,null,null,null,null,null,null,null,null,0,{"$f":"+_xlfn.IFS(H2218>8,\"udgår\",I2218>8,\"udgår\",H2218<8,\"\",I2218<8,\"\")","v":""}]
[null,null,null,null,null,null,null,null,null,0,{"$f":"+_xlfn.IFS(H2219>8,\"udgår\",I2219>8,\"udgår\",H2219<8,\"\",I2219<8,\"\")","v":""}]
[null,null,null,null,null,null,null,null,null,0,{"$f":"+_xlfn.IFS(H2220>8,\"udgår\",I2220>8,\"udgår\",H2220<8,\"\",I2220<8,\"\")","v":""}]
[null,null,null,null,null,null,null,null,null,0,{"$f":"+_xlfn.IFS(H2221>8,\"udgår\",I2221>8,\"udgår\",H2221<8,\"\",I2221<8,\"\")","v":""}]
[null,null,null,null,null,null,null,null,null,0,{"$f":"+_xlfn.IFS(H2222>8,\"udgår\",I2222>8,\"udgår\",H2222<8,\"\",I2222<8,\"\")","v":""}]
[null,null,null,null,null,null,null,null,null,0,{"$f":"+_xlfn.IFS(H2223>8,\"udgår\",I2223>8,\"udgår\",H2223<8,\"\",I2223<8,\"\")","v":""}]
[null,null,null,null,null,null,null,null,null,0,{"$f":"+_xlfn.IFS(H2224>8,\"udgår\",I2224>8,\"udgår\",H2224<8,\"\",I2224<8,\"\")","v":""}]
[null,null,null,null,null,null,null,null,null,0,{"$f":"+_xlfn.IFS(H2225>8,\"udgår\",I2225>8,\"udgår\",H2225<8,\"\",I2225<8,\"\")","v":""}]
[null,null,null,null,null,null,null,null,null,0,{"$f":"+_xlfn.IFS(H2226>8,\"udgår\",I2226>8,\"udgår\",H2226<8,\"\",I2226<8,\"\")","v":""}]
[null,null,null,null,null,null,null,null,null,0,{"$f":"+_xlfn.IFS(H2227>8,\"udgår\",I2227>8,\"udgår\",H2227<8,\"\",I2227<8,\"\")","v":""}]
[null,null,null,null,null,null,null,null,null,0,{"$f":"+_xlfn.IFS(H2228>8,\"udgår\",I2228>8,\"udgår\",H2228<8,\"\",I2228<8,\"\")","v":""}]
[null,null,null,null,null,null,null,null,null,0,{"$f":"+_xlfn.IFS(H2229>8,\"udgår\",I2229>8,\"udgår\",H2229<8,\"\",I2229<8,\"\")","v":""}]
[null,null,null,null,null,null,null,null,null,0,{"$f":"+_xlfn.IFS(H2230>8,\"udgår\",I2230>8,\"udgår\",H2230<8,\"\",I2230<8,\"\")","v":""}]
[null,null,null,null,null,null,null,null,null,0,{"$f":"+_xlfn.IFS(H2231>8,\"udgår\",I2231>8,\"udgår\",H2231<8,\"\",I2231<8,\"\")","v":""}]
[null,null,null,null,null,null,null,null,null,0,{"$f":"+_xlfn.IFS(H2232>8,\"udgår\",I2232>8,\"udgår\",H2232<8,\"\",I2232<8,\"\")","v":""}]
[null,null,null,null,null,null,null,null,null,0,{"$f":"+_xlfn.IFS(H2233>8,\"udgår\",I2233>8,\"udgår\",H2233<8,\"\",I2233<8,\"\")","v":""}]
[null,null,null,null,null,null,null,null,null,0,{"$f":"+_xlfn.IFS(H2234>8,\"udgår\",I2234>8,\"udgår\",H2234<8,\"\",I2234<8,\"\")","v":""}]
[null,null,null,null,null,null,null,null,null,0,{"$f":"+_xlfn.IFS(H2235>8,\"udgår\",I2235>8,\"udgår\",H2235<8,\"\",I2235<8,\"\")","v":""}]
[null,null,null,null,null,null,null,null,null,0,{"$f":"+_xlfn.IFS(H2236>8,\"udgår\",I2236>8,\"udgår\",H2236<8,\"\",I2236<8,\"\")","v":""}]
[null,null,null,null,null,null,null,null,null,0,{"$f":"+_xlfn.IFS(H2237>8,\"udgår\",I2237>8,\"udgår\",H2237<8,\"\",I2237<8,\"\")","v":""}]
[null,null,null,null,null,null,null,null,null,0,{"$f":"+_xlfn.IFS(H2238>8,\"udgår\",I2238>8,\"udgår\",H2238<8,\"\",I2238<8,\"\")","v":""}]
[null,null,null,null,null,null,null,null,null,0,{"$f":"+_xlfn.IFS(H2239>8,\"udgår\",I2239>8,\"udgår\",H2239<8,\"\",I2239<8,\"\")","v":""}]
[null,null,null,null,null,null,null,null,null,0,{"$f":"+_xlfn.IFS(H2240>8,\"udgår\",I2240>8,\"udgår\",H2240<8,\"\",I2240<8,\"\")","v":""}]
[null,null,null,null,null,null,null,null,null,0,{"$f":"+_xlfn.IFS(H2241>8,\"udgår\",I2241>8,\"udgår\",H2241<8,\"\",I2241<8,\"\")","v":""}]
[null,null,null,null,null,null,null,null,null,0,{"$f":"+_xlfn.IFS(H2242>8,\"udgår\",I2242>8,\"udgår\",H2242<8,\"\",I2242<8,\"\")","v":""}]
[null,null,null,null,null,null,null,null,null,{"$f":"+D2243-F2243","v":0},{"$f":"+_xlfn.IFS(H2243>8,\"udgår\",I2243>8,\"udgår\",H2243<8,\"\",I2243<8,\"\")","v":""}]
[null,null,null,null,null,null,null,null,null,0,{"$f":"+_xlfn.IFS(H2244>8,\"udgår\",I2244>8,\"udgår\",H2244<8,\"\",I2244<8,\"\")","v":""}]
[null,null,null,null,null,null,null,null,null,0,{"$f":"+_xlfn.IFS(H2245>8,\"udgår\",I2245>8,\"udgår\",H2245<8,\"\",I2245<8,\"\")","v":""}]
[null,null,null,null,null,null,null,null,null,0,{"$f":"+_xlfn.IFS(H2246>8,\"udgår\",I2246>8,\"udgår\",H2246<8,\"\",I2246<8,\"\")","v":""}]
[null,null,null,null,null,null,null,null,null,0,{"$f":"+_xlfn.IFS(H2247>8,\"udgår\",I2247>8,\"udgår\",H2247<8,\"\",I2247<8,\"\")","v":""}]
[null,null,null,null,null,null,null,null,null,0,{"$f":"+_xlfn.IFS(H2248>8,\"udgår\",I2248>8,\"udgår\",H2248<8,\"\",I2248<8,\"\")","v":""}]
[null,null,null,null,null,null,null,null,null,0,{"$f":"+_xlfn.IFS(H2249>8,\"udgår\",I2249>8,\"udgår\",H2249<8,\"\",I2249<8,\"\")","v":""}]
[null,null,null,null,null,null,null,null,null,0,{"$f":"+_xlfn.IFS(H2250>8,\"udgår\",I2250>8,\"udgår\",H2250<8,\"\",I2250<8,\"\")","v":""}]
[null,null,null,null,null,null,null,null,null,0,{"$f":"+_xlfn.IFS(H2251>8,\"udgår\",I2251>8,\"udgår\",H2251<8,\"\",I2251<8,\"\")","v":""}]
[null,null,null,null,null,null,null,null,null,0,{"$f":"+_xlfn.IFS(H2252>8,\"udgår\",I2252>8,\"udgår\",H2252<8,\"\",I2252<8,\"\")","v":""}]
[null,null,null,null,null,null,null,null,null,0,{"$f":"+_xlfn.IFS(H2253>8,\"udgår\",I2253>8,\"udgår\",H2253<8,\"\",I2253<8,\"\")","v":""}]
[null,null,null,null,null,null,null,null,null,0,{"$f":"+_xlfn.IFS(H2254>8,\"udgår\",I2254>8,\"udgår\",H2254<8,\"\",I2254<8,\"\")","v":""}]
[null,null,null,null,null,null,null,null,null,0,{"$f":"+_xlfn.IFS(H2255>8,\"udgår\",I2255>8,\"udgår\",H2255<8,\"\",I2255<8,\"\")","v":""}]
[null,null,null,null,null,null,null,null,null,0,{"$f":"+_xlfn.IFS(H2256>8,\"udgår\",I2256>8,\"udgår\",H2256<8,\"\",I2256<8,\"\")","v":""}]
[null,null,null,null,null,null,null,null,null,0,{"$f":"+_xlfn.IFS(H2257>8,\"udgår\",I2257>8,\"udgår\",H2257<8,\"\",I2257<8,\"\")","v":""}]
[null,null,null,null,null,null,null,null,null,0,{"$f":"+_xlfn.IFS(H2258>8,\"udgår\",I2258>8,\"udgår\",H2258<8,\"\",I2258<8,\"\")","v":""}]
[null,null,null,null,null,null,null,null,null,0,{"$f":"+_xlfn.IFS(H2259>8,\"udgår\",I2259>8,\"udgår\",H2259<8,\"\",I2259<8,\"\")","v":""}]
[null,null,null,null,null,null,null,null,null,0,{"$f":"+_xlfn.IFS(H2260>8,\"udgår\",I2260>8,\"udgår\",H2260<8,\"\",I2260<8,\"\")","v":""}]
[null,null,null,null,null,null,null,null,null,0,{"$f":"+_xlfn.IFS(H2261>8,\"udgår\",I2261>8,\"udgår\",H2261<8,\"\",I2261<8,\"\")","v":""}]
[null,null,null,null,null,null,null,null,null,0,{"$f":"+_xlfn.IFS(H2262>8,\"udgår\",I2262>8,\"udgår\",H2262<8,\"\",I2262<8,\"\")","v":""}]
[null,null,null,null,null,null,null,null,null,0,{"$f":"+_xlfn.IFS(H2263>8,\"udgår\",I2263>8,\"udgår\",H2263<8,\"\",I2263<8,\"\")","v":""}]
[null,null,null,null,null,null,null,null,null,0,{"$f":"+_xlfn.IFS(H2264>8,\"udgår\",I2264>8,\"udgår\",H2264<8,\"\",I2264<8,\"\")","v":""}]
[null,null,null,null,null,null,null,null,null,0,{"$f":"+_xlfn.IFS(H2265>8,\"udgår\",I2265>8,\"udgår\",H2265<8,\"\",I2265<8,\"\")","v":""}]
[null,null,null,null,null,null,null,null,null,0,{"$f":"+_xlfn.IFS(H2266>8,\"udgår\",I2266>8,\"udgår\",H2266<8,\"\",I2266<8,\"\")","v":""}]
[null,null,null,null,null,null,null,null,null,0,{"$f":"+_xlfn.IFS(H2267>8,\"udgår\",I2267>8,\"udgår\",H2267<8,\"\",I2267<8,\"\")","v":""}]
[null,null,null,null,null,null,null,null,null,0,{"$f":"+_xlfn.IFS(H2268>8,\"udgår\",I2268>8,\"udgår\",H2268<8,\"\",I2268<8,\"\")","v":""}]
[null,null,null,null,null,null,null,null,null,0,{"$f":"+_xlfn.IFS(H2269>8,\"udgår\",I2269>8,\"udgår\",H2269<8,\"\",I2269<8,\"\")","v":""}]
[null,null,null,null,null,null,null,null,null,0,{"$f":"+_xlfn.IFS(H2270>8,\"udgår\",I2270>8,\"udgår\",H2270<8,\"\",I2270<8,\"\")","v":""}]
[null,null,null,null,null,null,null,null,null,0,{"$f":"+_xlfn.IFS(H2271>8,\"udgår\",I2271>8,\"udgår\",H2271<8,\"\",I2271<8,\"\")","v":""}]
[null,null,null,null,null,null,null,null,null,0,{"$f":"+_xlfn.IFS(H2272>8,\"udgår\",I2272>8,\"udgår\",H2272<8,\"\",I2272<8,\"\")","v":""}]
[null,null,null,null,null,null,null,null,null,0,{"$f":"+_xlfn.IFS(H2273>8,\"udgår\",I2273>8,\"udgår\",H2273<8,\"\",I2273<8,\"\")","v":""}]
[null,null,null,null,null,null,null,null,null,0,{"$f":"+_xlfn.IFS(H2274>8,\"udgår\",I2274>8,\"udgår\",H2274<8,\"\",I2274<8,\"\")","v":""}]
[null,null,null,null,null,null,null,null,null,0,{"$f":"+_xlfn.IFS(H2275>8,\"udgår\",I2275>8,\"udgår\",H2275<8,\"\",I2275<8,\"\")","v":""}]
[null,null,null,null,null,null,null,null,null,0,{"$f":"+_xlfn.IFS(H2276>8,\"udgår\",I2276>8,\"udgår\",H2276<8,\"\",I2276<8,\"\")","v":""}]
[null,null,null,null,null,null,null,null,null,0,{"$f":"+_xlfn.IFS(H2277>8,\"udgår\",I2277>8,\"udgår\",H2277<8,\"\",I2277<8,\"\")","v":""}]
[null,null,null,null,null,null,null,null,null,0,{"$f":"+_xlfn.IFS(H2278>8,\"udgår\",I2278>8,\"udgår\",H2278<8,\"\",I2278<8,\"\")","v":""}]
[null,null,null,null,null,null,null,null,null,0,{"$f":"+_xlfn.IFS(H2279>8,\"udgår\",I2279>8,\"udgår\",H2279<8,\"\",I2279<8,\"\")","v":""}]
[null,null,null,null,null,null,null,null,null,0,{"$f":"+_xlfn.IFS(H2280>8,\"udgår\",I2280>8,\"udgår\",H2280<8,\"\",I2280<8,\"\")","v":""}]
[null,null,null,null,null,null,null,null,null,0,{"$f":"+_xlfn.IFS(H2281>8,\"udgår\",I2281>8,\"udgår\",H2281<8,\"\",I2281<8,\"\")","v":""}]
[null,null,null,null,null,null,null,null,null,0,{"$f":"+_xlfn.IFS(H2282>8,\"udgår\",I2282>8,\"udgår\",H2282<8,\"\",I2282<8,\"\")","v":""}]
[null,null,null,null,null,null,null,null,null,0,{"$f":"+_xlfn.IFS(H2283>8,\"udgår\",I2283>8,\"udgår\",H2283<8,\"\",I2283<8,\"\")","v":""}]
[null,null,null,null,null,null,null,null,null,0,{"$f":"+_xlfn.IFS(H2284>8,\"udgår\",I2284>8,\"udgår\",H2284<8,\"\",I2284<8,\"\")","v":""}]
[null,null,null,null,null,null,null,null,null,0,{"$f":"+_xlfn.IFS(H2285>8,\"udgår\",I2285>8,\"udgår\",H2285<8,\"\",I2285<8,\"\")","v":""}]
[null,null,null,null,null,null,null,null,null,0,{"$f":"+_xlfn.IFS(H2286>8,\"udgår\",I2286>8,\"udgår\",H2286<8,\"\",I2286<8,\"\")","v":""}]
[null,null,null,null,null,null,null,null,null,0,{"$f":"+_xlfn.IFS(H2287>8,\"udgår\",I2287>8,\"udgår\",H2287<8,\"\",I2287<8,\"\")","v":""}]
[null,null,null,null,null,null,null,null,null,0,{"$f":"+_xlfn.IFS(H2288>8,\"udgår\",I2288>8,\"udgår\",H2288<8,\"\",I2288<8,\"\")","v":""}]
[null,null,null,null,null,null,null,null,null,0,{"$f":"+_xlfn.IFS(H2289>8,\"udgår\",I2289>8,\"udgår\",H2289<8,\"\",I2289<8,\"\")","v":""}]
[null,null,null,null,null,null,null,null,null,0,{"$f":"+_xlfn.IFS(H2290>8,\"udgår\",I2290>8,\"udgår\",H2290<8,\"\",I2290<8,\"\")","v":""}]
[null,null,null,null,null,null,null,null,null,0,{"$f":"+_xlfn.IFS(H2291>8,\"udgår\",I2291>8,\"udgår\",H2291<8,\"\",I2291<8,\"\")","v":""}]
[null,null,null,null,null,null,null,null,null,0,{"$f":"+_xlfn.IFS(H2292>8,\"udgår\",I2292>8,\"udgår\",H2292<8,\"\",I2292<8,\"\")","v":""}]
[null,null,null,null,null,null,null,null,null,0,{"$f":"+_xlfn.IFS(H2293>8,\"udgår\",I2293>8,\"udgår\",H2293<8,\"\",I2293<8,\"\")","v":""}]
[null,null,null,null,null,null,null,null,null,0,{"$f":"+_xlfn.IFS(H2294>8,\"udgår\",I2294>8,\"udgår\",H2294<8,\"\",I2294<8,\"\")","v":""}]
[null,null,null,null,null,null,null,null,null,0,{"$f":"+_xlfn.IFS(H2295>8,\"udgår\",I2295>8,\"udgår\",H2295<8,\"\",I2295<8,\"\")","v":""}]
[null,null,null,null,null,null,null,null,null,0,{"$f":"+_xlfn.IFS(H2296>8,\"udgår\",I2296>8,\"udgår\",H2296<8,\"\",I2296<8,\"\")","v":""}]
[null,null,null,null,null,null,null,null,null,0,{"$f":"+_xlfn.IFS(H2297>8,\"udgår\",I2297>8,\"udgår\",H2297<8,\"\",I2297<8,\"\")","v":""}]
[null,null,null,null,null,null,null,null,null,0,{"$f":"+_xlfn.IFS(H2298>8,\"udgår\",I2298>8,\"udgår\",H2298<8,\"\",I2298<8,\"\")","v":""}]
[null,null,null,null,null,null,null,null,null,0,{"$f":"+_xlfn.IFS(H2299>8,\"udgår\",I2299>8,\"udgår\",H2299<8,\"\",I2299<8,\"\")","v":""}]
[null,null,null,null,null,null,null,null,null,0,{"$f":"+_xlfn.IFS(H2300>8,\"udgår\",I2300>8,\"udgår\",H2300<8,\"\",I2300<8,\"\")","v":""}]
[null,null,null,null,null,null,null,null,null,0,{"$f":"+_xlfn.IFS(H2301>8,\"udgår\",I2301>8,\"udgår\",H2301<8,\"\",I2301<8,\"\")","v":""}]
[null,null,null,null,null,null,null,null,null,0,{"$f":"+_xlfn.IFS(H2302>8,\"udgår\",I2302>8,\"udgår\",H2302<8,\"\",I2302<8,\"\")","v":""}]
[null,null,null,null,null,null,null,null,null,0,{"$f":"+_xlfn.IFS(H2303>8,\"udgår\",I2303>8,\"udgår\",H2303<8,\"\",I2303<8,\"\")","v":""}]
[null,null,null,null,null,null,null,null,null,0,{"$f":"+_xlfn.IFS(H2304>8,\"udgår\",I2304>8,\"udgår\",H2304<8,\"\",I2304<8,\"\")","v":""}]
[null,null,null,null,null,null,null,null,null,0,{"$f":"+_xlfn.IFS(H2305>8,\"udgår\",I2305>8,\"udgår\",H2305<8,\"\",I2305<8,\"\")","v":""}]
[null,null,null,null,null,null,null,null,null,0,{"$f":"+_xlfn.IFS(H2306>8,\"udgår\",I2306>8,\"udgår\",H2306<8,\"\",I2306<8,\"\")","v":""}]
[null,null,null,null,null,null,null,null,null,{"$f":"+D2307-F2307","v":0},{"$f":"+_xlfn.IFS(H2307>8,\"udgår\",I2307>8,\"udgår\",H2307<8,\"\",I2307<8,\"\")","v":""}]
[null,null,null,null,null,null,null,null,null,0,{"$f":"+_xlfn.IFS(H2308>8,\"udgår\",I2308>8,\"udgår\",H2308<8,\"\",I2308<8,\"\")","v":""}]
[null,null,null,null,null,null,null,null,null,0,{"$f":"+_xlfn.IFS(H2309>8,\"udgår\",I2309>8,\"udgår\",H2309<8,\"\",I2309<8,\"\")","v":""}]
[null,null,null,null,null,null,null,null,null,0,{"$f":"+_xlfn.IFS(H2310>8,\"udgår\",I2310>8,\"udgår\",H2310<8,\"\",I2310<8,\"\")","v":""}]
[null,null,null,null,null,null,null,null,null,0,{"$f":"+_xlfn.IFS(H2311>8,\"udgår\",I2311>8,\"udgår\",H2311<8,\"\",I2311<8,\"\")","v":""}]
[null,null,null,null,null,null,null,null,null,0,{"$f":"+_xlfn.IFS(H2312>8,\"udgår\",I2312>8,\"udgår\",H2312<8,\"\",I2312<8,\"\")","v":""}]
[null,null,null,null,null,null,null,null,null,0,{"$f":"+_xlfn.IFS(H2313>8,\"udgår\",I2313>8,\"udgår\",H2313<8,\"\",I2313<8,\"\")","v":""}]
[null,null,null,null,null,null,null,null,null,0,{"$f":"+_xlfn.IFS(H2314>8,\"udgår\",I2314>8,\"udgår\",H2314<8,\"\",I2314<8,\"\")","v":""}]
[null,null,null,null,null,null,null,null,null,0,{"$f":"+_xlfn.IFS(H2315>8,\"udgår\",I2315>8,\"udgår\",H2315<8,\"\",I2315<8,\"\")","v":""}]
[null,null,null,null,null,null,null,null,null,0,{"$f":"+_xlfn.IFS(H2316>8,\"udgår\",I2316>8,\"udgår\",H2316<8,\"\",I2316<8,\"\")","v":""}]
[null,null,null,null,null,null,null,null,null,0,{"$f":"+_xlfn.IFS(H2317>8,\"udgår\",I2317>8,\"udgår\",H2317<8,\"\",I2317<8,\"\")","v":""}]
[null,null,null,null,null,null,null,null,null,0,{"$f":"+_xlfn.IFS(H2318>8,\"udgår\",I2318>8,\"udgår\",H2318<8,\"\",I2318<8,\"\")","v":""}]
[null,null,null,null,null,null,null,null,null,0,{"$f":"+_xlfn.IFS(H2319>8,\"udgår\",I2319>8,\"udgår\",H2319<8,\"\",I2319<8,\"\")","v":""}]
[null,null,null,null,null,null,null,null,null,0,{"$f":"+_xlfn.IFS(H2320>8,\"udgår\",I2320>8,\"udgår\",H2320<8,\"\",I2320<8,\"\")","v":""}]
[null,null,null,null,null,null,null,null,null,0,{"$f":"+_xlfn.IFS(H2321>8,\"udgår\",I2321>8,\"udgår\",H2321<8,\"\",I2321<8,\"\")","v":""}]
[null,null,null,null,null,null,null,null,null,0,{"$f":"+_xlfn.IFS(H2322>8,\"udgår\",I2322>8,\"udgår\",H2322<8,\"\",I2322<8,\"\")","v":""}]
[null,null,null,null,null,null,null,null,null,0,{"$f":"+_xlfn.IFS(H2323>8,\"udgår\",I2323>8,\"udgår\",H2323<8,\"\",I2323<8,\"\")","v":""}]
[null,null,null,null,null,null,null,null,null,0,{"$f":"+_xlfn.IFS(H2324>8,\"udgår\",I2324>8,\"udgår\",H2324<8,\"\",I2324<8,\"\")","v":""}]
[null,null,null,null,null,null,null,null,null,0,{"$f":"+_xlfn.IFS(H2325>8,\"udgår\",I2325>8,\"udgår\",H2325<8,\"\",I2325<8,\"\")","v":""}]
[null,null,null,null,null,null,null,null,null,0,{"$f":"+_xlfn.IFS(H2326>8,\"udgår\",I2326>8,\"udgår\",H2326<8,\"\",I2326<8,\"\")","v":""}]
[null,null,null,null,null,null,null,null,null,0,{"$f":"+_xlfn.IFS(H2327>8,\"udgår\",I2327>8,\"udgår\",H2327<8,\"\",I2327<8,\"\")","v":""}]
[null,null,null,null,null,null,null,null,null,0,{"$f":"+_xlfn.IFS(H2328>8,\"udgår\",I2328>8,\"udgår\",H2328<8,\"\",I2328<8,\"\")","v":""}]
[null,null,null,null,null,null,null,null,null,0,{"$f":"+_xlfn.IFS(H2329>8,\"udgår\",I2329>8,\"udgår\",H2329<8,\"\",I2329<8,\"\")","v":""}]
[null,null,null,null,null,null,null,null,null,0,{"$f":"+_xlfn.IFS(H2330>8,\"udgår\",I2330>8,\"udgår\",H2330<8,\"\",I2330<8,\"\")","v":""}]
[null,null,null,null,null,null,null,null,null,0,{"$f":"+_xlfn.IFS(H2331>8,\"udgår\",I2331>8,\"udgår\",H2331<8,\"\",I2331<8,\"\")","v":""}]
[null,null,null,null,null,null,null,null,null,0,{"$f":"+_xlfn.IFS(H2332>8,\"udgår\",I2332>8,\"udgår\",H2332<8,\"\",I2332<8,\"\")","v":""}]
[null,null,null,null,null,null,null,null,null,0,{"$f":"+_xlfn.IFS(H2333>8,\"udgår\",I2333>8,\"udgår\",H2333<8,\"\",I2333<8,\"\")","v":""}]
[null,null,null,null,null,null,null,null,null,0,{"$f":"+_xlfn.IFS(H2334>8,\"udgår\",I2334>8,\"udgår\",H2334<8,\"\",I2334<8,\"\")","v":""}]
[null,null,null,null,null,null,null,null,null,0,{"$f":"+_xlfn.IFS(H2335>8,\"udgår\",I2335>8,\"udgår\",H2335<8,\"\",I2335<8,\"\")","v":""}]
[null,null,null,null,null,null,null,null,null,0,{"$f":"+_xlfn.IFS(H2336>8,\"udgår\",I2336>8,\"udgår\",H2336<8,\"\",I2336<8,\"\")","v":""}]
[null,null,null,null,null,null,null,null,null,0,{"$f":"+_xlfn.IFS(H2337>8,\"udgår\",I2337>8,\"udgår\",H2337<8,\"\",I2337<8,\"\")","v":""}]
[null,null,null,null,null,null,null,null,null,0,{"$f":"+_xlfn.IFS(H2338>8,\"udgår\",I2338>8,\"udgår\",H2338<8,\"\",I2338<8,\"\")","v":""}]
[null,null,null,null,null,null,null,null,null,0,{"$f":"+_xlfn.IFS(H2339>8,\"udgår\",I2339>8,\"udgår\",H2339<8,\"\",I2339<8,\"\")","v":""}]
[null,null,null,null,null,null,null,null,null,0,{"$f":"+_xlfn.IFS(H2340>8,\"udgår\",I2340>8,\"udgår\",H2340<8,\"\",I2340<8,\"\")","v":""}]
[null,null,null,null,null,null,null,null,null,0,{"$f":"+_xlfn.IFS(H2341>8,\"udgår\",I2341>8,\"udgår\",H2341<8,\"\",I2341<8,\"\")","v":""}]
[null,null,null,null,null,null,null,null,null,0,{"$f":"+_xlfn.IFS(H2342>8,\"udgår\",I2342>8,\"udgår\",H2342<8,\"\",I2342<8,\"\")","v":""}]
[null,null,null,null,null,null,null,null,null,0,{"$f":"+_xlfn.IFS(H2343>8,\"udgår\",I2343>8,\"udgår\",H2343<8,\"\",I2343<8,\"\")","v":""}]
[null,null,null,null,null,null,null,null,null,0,{"$f":"+_xlfn.IFS(H2344>8,\"udgår\",I2344>8,\"udgår\",H2344<8,\"\",I2344<8,\"\")","v":""}]
[null,null,null,null,null,null,null,null,null,0,{"$f":"+_xlfn.IFS(H2345>8,\"udgår\",I2345>8,\"udgår\",H2345<8,\"\",I2345<8,\"\")","v":""}]
[null,null,null,null,null,null,null,null,null,0,{"$f":"+_xlfn.IFS(H2346>8,\"udgår\",I2346>8,\"udgår\",H2346<8,\"\",I2346<8,\"\")","v":""}]
[null,null,null,null,null,null,null,null,null,0,{"$f":"+_xlfn.IFS(H2347>8,\"udgår\",I2347>8,\"udgår\",H2347<8,\"\",I2347<8,\"\")","v":""}]
[null,null,null,null,null,null,null,null,null,0,{"$f":"+_xlfn.IFS(H2348>8,\"udgår\",I2348>8,\"udgår\",H2348<8,\"\",I2348<8,\"\")","v":""}]
[null,null,null,null,null,null,null,null,null,0,{"$f":"+_xlfn.IFS(H2349>8,\"udgår\",I2349>8,\"udgår\",H2349<8,\"\",I2349<8,\"\")","v":""}]
[null,null,null,null,null,null,null,null,null,0,{"$f":"+_xlfn.IFS(H2350>8,\"udgår\",I2350>8,\"udgår\",H2350<8,\"\",I2350<8,\"\")","v":""}]
[null,null,null,null,null,null,null,null,null,0,{"$f":"+_xlfn.IFS(H2351>8,\"udgår\",I2351>8,\"udgår\",H2351<8,\"\",I2351<8,\"\")","v":""}]
[null,null,null,null,null,null,null,null,null,0,{"$f":"+_xlfn.IFS(H2352>8,\"udgår\",I2352>8,\"udgår\",H2352<8,\"\",I2352<8,\"\")","v":""}]
[null,null,null,null,null,null,null,null,null,0,{"$f":"+_xlfn.IFS(H2353>8,\"udgår\",I2353>8,\"udgår\",H2353<8,\"\",I2353<8,\"\")","v":""}]
[null,null,null,null,null,null,null,null,null,0,{"$f":"+_xlfn.IFS(H2354>8,\"udgår\",I2354>8,\"udgår\",H2354<8,\"\",I2354<8,\"\")","v":""}]
[null,null,null,null,null,null,null,null,null,0,{"$f":"+_xlfn.IFS(H2355>8,\"udgår\",I2355>8,\"udgår\",H2355<8,\"\",I2355<8,\"\")","v":""}]
[null,null,null,null,null,null,null,null,null,0,{"$f":"+_xlfn.IFS(H2356>8,\"udgår\",I2356>8,\"udgår\",H2356<8,\"\",I2356<8,\"\")","v":""}]
[null,null,null,null,null,null,null,null,null,0,{"$f":"+_xlfn.IFS(H2357>8,\"udgår\",I2357>8,\"udgår\",H2357<8,\"\",I2357<8,\"\")","v":""}]
[null,null,null,null,null,null,null,null,null,0,{"$f":"+_xlfn.IFS(H2358>8,\"udgår\",I2358>8,\"udgår\",H2358<8,\"\",I2358<8,\"\")","v":""}]
[null,null,null,null,null,null,null,null,null,0,{"$f":"+_xlfn.IFS(H2359>8,\"udgår\",I2359>8,\"udgår\",H2359<8,\"\",I2359<8,\"\")","v":""}]
[null,null,null,null,null,null,null,null,null,0,{"$f":"+_xlfn.IFS(H2360>8,\"udgår\",I2360>8,\"udgår\",H2360<8,\"\",I2360<8,\"\")","v":""}]
[null,null,null,null,null,null,null,null,null,0,{"$f":"+_xlfn.IFS(H2361>8,\"udgår\",I2361>8,\"udgår\",H2361<8,\"\",I2361<8,\"\")","v":""}]
[null,null,null,null,null,null,null,null,null,0,{"$f":"+_xlfn.IFS(H2362>8,\"udgår\",I2362>8,\"udgår\",H2362<8,\"\",I2362<8,\"\")","v":""}]
[null,null,null,null,null,null,null,null,null,0,{"$f":"+_xlfn.IFS(H2363>8,\"udgår\",I2363>8,\"udgår\",H2363<8,\"\",I2363<8,\"\")","v":""}]
[null,null,null,null,null,null,null,null,null,0,{"$f":"+_xlfn.IFS(H2364>8,\"udgår\",I2364>8,\"udgår\",H2364<8,\"\",I2364<8,\"\")","v":""}]
[null,null,null,null,null,null,null,null,null,0,{"$f":"+_xlfn.IFS(H2365>8,\"udgår\",I2365>8,\"udgår\",H2365<8,\"\",I2365<8,\"\")","v":""}]
[null,null,null,null,null,null,null,null,null,0,{"$f":"+_xlfn.IFS(H2366>8,\"udgår\",I2366>8,\"udgår\",H2366<8,\"\",I2366<8,\"\")","v":""}]
[null,null,null,null,null,null,null,null,null,0,{"$f":"+_xlfn.IFS(H2367>8,\"udgår\",I2367>8,\"udgår\",H2367<8,\"\",I2367<8,\"\")","v":""}]
[null,null,null,null,null,null,null,null,null,0,{"$f":"+_xlfn.IFS(H2368>8,\"udgår\",I2368>8,\"udgår\",H2368<8,\"\",I2368<8,\"\")","v":""}]
[null,null,null,null,null,null,null,null,null,0,{"$f":"+_xlfn.IFS(H2369>8,\"udgår\",I2369>8,\"udgår\",H2369<8,\"\",I2369<8,\"\")","v":""}]
[null,null,null,null,null,null,null,null,null,0,{"$f":"+_xlfn.IFS(H2370>8,\"udgår\",I2370>8,\"udgår\",H2370<8,\"\",I2370<8,\"\")","v":""}]
[null,null,null,null,null,null,null,null,null,{"$f":"+D2371-F2371","v":0},{"$f":"+_xlfn.IFS(H2371>8,\"udgår\",I2371>8,\"udgår\",H2371<8,\"\",I2371<8,\"\")","v":""}]
[null,null,null,null,null,null,null,null,null,0,{"$f":"+_xlfn.IFS(H2372>8,\"udgår\",I2372>8,\"udgår\",H2372<8,\"\",I2372<8,\"\")","v":""}]
[null,null,null,null,null,null,null,null,null,0,{"$f":"+_xlfn.IFS(H2373>8,\"udgår\",I2373>8,\"udgår\",H2373<8,\"\",I2373<8,\"\")","v":""}]
[null,null,null,null,null,null,null,null,null,0,{"$f":"+_xlfn.IFS(H2374>8,\"udgår\",I2374>8,\"udgår\",H2374<8,\"\",I2374<8,\"\")","v":""}]
[null,null,null,null,null,null,null,null,null,0,{"$f":"+_xlfn.IFS(H2375>8,\"udgår\",I2375>8,\"udgår\",H2375<8,\"\",I2375<8,\"\")","v":""}]
[null,null,null,null,null,null,null,null,null,0,{"$f":"+_xlfn.IFS(H2376>8,\"udgår\",I2376>8,\"udgår\",H2376<8,\"\",I2376<8,\"\")","v":""}]
[null,null,null,null,null,null,null,null,null,0,{"$f":"+_xlfn.IFS(H2377>8,\"udgår\",I2377>8,\"udgår\",H2377<8,\"\",I2377<8,\"\")","v":""}]
[null,null,null,null,null,null,null,null,null,0,{"$f":"+_xlfn.IFS(H2378>8,\"udgår\",I2378>8,\"udgår\",H2378<8,\"\",I2378<8,\"\")","v":""}]
[null,null,null,null,null,null,null,null,null,0,{"$f":"+_xlfn.IFS(H2379>8,\"udgår\",I2379>8,\"udgår\",H2379<8,\"\",I2379<8,\"\")","v":""}]
[null,null,null,null,null,null,null,null,null,0,{"$f":"+_xlfn.IFS(H2380>8,\"udgår\",I2380>8,\"udgår\",H2380<8,\"\",I2380<8,\"\")","v":""}]
[null,null,null,null,null,null,null,null,null,0,{"$f":"+_xlfn.IFS(H2381>8,\"udgår\",I2381>8,\"udgår\",H2381<8,\"\",I2381<8,\"\")","v":""}]
[null,null,null,null,null,null,null,null,null,0,{"$f":"+_xlfn.IFS(H2382>8,\"udgår\",I2382>8,\"udgår\",H2382<8,\"\",I2382<8,\"\")","v":""}]
[null,null,null,null,null,null,null,null,null,0,{"$f":"+_xlfn.IFS(H2383>8,\"udgår\",I2383>8,\"udgår\",H2383<8,\"\",I2383<8,\"\")","v":""}]
[null,null,null,null,null,null,null,null,null,0,{"$f":"+_xlfn.IFS(H2384>8,\"udgår\",I2384>8,\"udgår\",H2384<8,\"\",I2384<8,\"\")","v":""}]
[null,null,null,null,null,null,null,null,null,0,{"$f":"+_xlfn.IFS(H2385>8,\"udgår\",I2385>8,\"udgår\",H2385<8,\"\",I2385<8,\"\")","v":""}]
[null,null,null,null,null,null,null,null,null,0,{"$f":"+_xlfn.IFS(H2386>8,\"udgår\",I2386>8,\"udgår\",H2386<8,\"\",I2386<8,\"\")","v":""}]
[null,null,null,null,null,null,null,null,null,0,{"$f":"+_xlfn.IFS(H2387>8,\"udgår\",I2387>8,\"udgår\",H2387<8,\"\",I2387<8,\"\")","v":""}]
[null,null,null,null,null,null,null,null,null,0,{"$f":"+_xlfn.IFS(H2388>8,\"udgår\",I2388>8,\"udgår\",H2388<8,\"\",I2388<8,\"\")","v":""}]
[null,null,null,null,null,null,null,null,null,0,{"$f":"+_xlfn.IFS(H2389>8,\"udgår\",I2389>8,\"udgår\",H2389<8,\"\",I2389<8,\"\")","v":""}]
[null,null,null,null,null,null,null,null,null,0,{"$f":"+_xlfn.IFS(H2390>8,\"udgår\",I2390>8,\"udgår\",H2390<8,\"\",I2390<8,\"\")","v":""}]
[null,null,null,null,null,null,null,null,null,0,{"$f":"+_xlfn.IFS(H2391>8,\"udgår\",I2391>8,\"udgår\",H2391<8,\"\",I2391<8,\"\")","v":""}]
[null,null,null,null,null,null,null,null,null,0,{"$f":"+_xlfn.IFS(H2392>8,\"udgår\",I2392>8,\"udgår\",H2392<8,\"\",I2392<8,\"\")","v":""}]
[null,null,null,null,null,null,null,null,null,0,{"$f":"+_xlfn.IFS(H2393>8,\"udgår\",I2393>8,\"udgår\",H2393<8,\"\",I2393<8,\"\")","v":""}]
[null,null,null,null,null,null,null,null,null,0,{"$f":"+_xlfn.IFS(H2394>8,\"udgår\",I2394>8,\"udgår\",H2394<8,\"\",I2394<8,\"\")","v":""}]
[null,null,null,null,null,null,null,null,null,0,{"$f":"+_xlfn.IFS(H2395>8,\"udgår\",I2395>8,\"udgår\",H2395<8,\"\",I2395<8,\"\")","v":""}]
[null,null,null,null,null,null,null,null,null,0,{"$f":"+_xlfn.IFS(H2396>8,\"udgår\",I2396>8,\"udgår\",H2396<8,\"\",I2396<8,\"\")","v":""}]
[null,null,null,null,null,null,null,null,null,0,{"$f":"+_xlfn.IFS(H2397>8,\"udgår\",I2397>8,\"udgår\",H2397<8,\"\",I2397<8,\"\")","v":""}]
[null,null,null,null,null,null,null,null,null,0,{"$f":"+_xlfn.IFS(H2398>8,\"udgår\",I2398>8,\"udgår\",H2398<8,\"\",I2398<8,\"\")","v":""}]
[null,null,null,null,null,null,null,null,null,0,{"$f":"+_xlfn.IFS(H2399>8,\"udgår\",I2399>8,\"udgår\",H2399<8,\"\",I2399<8,\"\")","v":""}]
[null,null,null,null,null,null,null,null,null,0,{"$f":"+_xlfn.IFS(H2400>8,\"udgår\",I2400>8,\"udgår\",H2400<8,\"\",I2400<8,\"\")","v":""}]
[null,null,null,null,null,null,null,null,null,0,{"$f":"+_xlfn.IFS(H2401>8,\"udgår\",I2401>8,\"udgår\",H2401<8,\"\",I2401<8,\"\")","v":""}]
[null,null,null,null,null,null,null,null,null,0,{"$f":"+_xlfn.IFS(H2402>8,\"udgår\",I2402>8,\"udgår\",H2402<8,\"\",I2402<8,\"\")","v":""}]
[null,null,null,null,null,null,null,null,null,0,{"$f":"+_xlfn.IFS(H2403>8,\"udgår\",I2403>8,\"udgår\",H2403<8,\"\",I2403<8,\"\")","v":""}]
[null,null,null,null,null,null,null,null,null,0,{"$f":"+_xlfn.IFS(H2404>8,\"udgår\",I2404>8,\"udgår\",H2404<8,\"\",I2404<8,\"\")","v":""}]
[null,null,null,null,null,null,null,null,null,0,{"$f":"+_xlfn.IFS(H2405>8,\"udgår\",I2405>8,\"udgår\",H2405<8,\"\",I2405<8,\"\")","v":""}]
[null,null,null,null,null,null,null,null,null,0,{"$f":"+_xlfn.IFS(H2406>8,\"udgår\",I2406>8,\"udgår\",H2406<8,\"\",I2406<8,\"\")","v":""}]
[null,null,null,null,null,null,null,null,null,0,{"$f":"+_xlfn.IFS(H2407>8,\"udgår\",I2407>8,\"udgår\",H2407<8,\"\",I2407<8,\"\")","v":""}]
[null,null,null,null,null,null,null,null,null,0,{"$f":"+_xlfn.IFS(H2408>8,\"udgår\",I2408>8,\"udgår\",H2408<8,\"\",I2408<8,\"\")","v":""}]
[null,null,null,null,null,null,null,null,null,0,{"$f":"+_xlfn.IFS(H2409>8,\"udgår\",I2409>8,\"udgår\",H2409<8,\"\",I2409<8,\"\")","v":""}]
[null,null,null,null,null,null,null,null,null,0,{"$f":"+_xlfn.IFS(H2410>8,\"udgår\",I2410>8,\"udgår\",H2410<8,\"\",I2410<8,\"\")","v":""}]
[null,null,null,null,null,null,null,null,null,0,{"$f":"+_xlfn.IFS(H2411>8,\"udgår\",I2411>8,\"udgår\",H2411<8,\"\",I2411<8,\"\")","v":""}]
[null,null,null,null,null,null,null,null,null,0,{"$f":"+_xlfn.IFS(H2412>8,\"udgår\",I2412>8,\"udgår\",H2412<8,\"\",I2412<8,\"\")","v":""}]
[null,null,null,null,null,null,null,null,null,0,{"$f":"+_xlfn.IFS(H2413>8,\"udgår\",I2413>8,\"udgår\",H2413<8,\"\",I2413<8,\"\")","v":""}]
[null,null,null,null,null,null,null,null,null,0,{"$f":"+_xlfn.IFS(H2414>8,\"udgår\",I2414>8,\"udgår\",H2414<8,\"\",I2414<8,\"\")","v":""}]
[null,null,null,null,null,null,null,null,null,0,{"$f":"+_xlfn.IFS(H2415>8,\"udgår\",I2415>8,\"udgår\",H2415<8,\"\",I2415<8,\"\")","v":""}]
[null,null,null,null,null,null,null,null,null,0,{"$f":"+_xlfn.IFS(H2416>8,\"udgår\",I2416>8,\"udgår\",H2416<8,\"\",I2416<8,\"\")","v":""}]
[null,null,null,null,null,null,null,null,null,0,{"$f":"+_xlfn.IFS(H2417>8,\"udgår\",I2417>8,\"udgår\",H2417<8,\"\",I2417<8,\"\")","v":""}]
[null,null,null,null,null,null,null,null,null,0,{"$f":"+_xlfn.IFS(H2418>8,\"udgår\",I2418>8,\"udgår\",H2418<8,\"\",I2418<8,\"\")","v":""}]
[null,null,null,null,null,null,null,null,null,0,{"$f":"+_xlfn.IFS(H2419>8,\"udgår\",I2419>8,\"udgår\",H2419<8,\"\",I2419<8,\"\")","v":""}]
[null,null,null,null,null,null,null,null,null,0,{"$f":"+_xlfn.IFS(H2420>8,\"udgår\",I2420>8,\"udgår\",H2420<8,\"\",I2420<8,\"\")","v":""}]
[null,null,null,null,null,null,null,null,null,0,{"$f":"+_xlfn.IFS(H2421>8,\"udgår\",I2421>8,\"udgår\",H2421<8,\"\",I2421<8,\"\")","v":""}]
[null,null,null,null,null,null,null,null,null,0,{"$f":"+_xlfn.IFS(H2422>8,\"udgår\",I2422>8,\"udgår\",H2422<8,\"\",I2422<8,\"\")","v":""}]
[null,null,null,null,null,null,null,null,null,0,{"$f":"+_xlfn.IFS(H2423>8,\"udgår\",I2423>8,\"udgår\",H2423<8,\"\",I2423<8,\"\")","v":""}]
[null,null,null,null,null,null,null,null,null,0,{"$f":"+_xlfn.IFS(H2424>8,\"udgår\",I2424>8,\"udgår\",H2424<8,\"\",I2424<8,\"\")","v":""}]
[null,null,null,null,null,null,null,null,null,0,{"$f":"+_xlfn.IFS(H2425>8,\"udgår\",I2425>8,\"udgår\",H2425<8,\"\",I2425<8,\"\")","v":""}]
[null,null,null,null,null,null,null,null,null,0,{"$f":"+_xlfn.IFS(H2426>8,\"udgår\",I2426>8,\"udgår\",H2426<8,\"\",I2426<8,\"\")","v":""}]
[null,null,null,null,null,null,null,null,null,0,{"$f":"+_xlfn.IFS(H2427>8,\"udgår\",I2427>8,\"udgår\",H2427<8,\"\",I2427<8,\"\")","v":""}]
[null,null,null,null,null,null,null,null,null,0,{"$f":"+_xlfn.IFS(H2428>8,\"udgår\",I2428>8,\"udgår\",H2428<8,\"\",I2428<8,\"\")","v":""}]
[null,null,null,null,null,null,null,null,null,0,{"$f":"+_xlfn.IFS(H2429>8,\"udgår\",I2429>8,\"udgår\",H2429<8,\"\",I2429<8,\"\")","v":""}]
[null,null,null,null,null,null,null,null,null,0,{"$f":"+_xlfn.IFS(H2430>8,\"udgår\",I2430>8,\"udgår\",H2430<8,\"\",I2430<8,\"\")","v":""}]
[null,null,null,null,null,null,null,null,null,0,{"$f":"+_xlfn.IFS(H2431>8,\"udgår\",I2431>8,\"udgår\",H2431<8,\"\",I2431<8,\"\")","v":""}]
[null,null,null,null,null,null,null,null,null,0,{"$f":"+_xlfn.IFS(H2432>8,\"udgår\",I2432>8,\"udgår\",H2432<8,\"\",I2432<8,\"\")","v":""}]
[null,null,null,null,null,null,null,null,null,0,{"$f":"+_xlfn.IFS(H2433>8,\"udgår\",I2433>8,\"udgår\",H2433<8,\"\",I2433<8,\"\")","v":""}]
[null,null,null,null,null,null,null,null,null,0,{"$f":"+_xlfn.IFS(H2434>8,\"udgår\",I2434>8,\"udgår\",H2434<8,\"\",I2434<8,\"\")","v":""}]
[null,null,null,null,null,null,null,null,null,{"$f":"+D2435-F2435","v":0},{"$f":"+_xlfn.IFS(H2435>8,\"udgår\",I2435>8,\"udgår\",H2435<8,\"\",I2435<8,\"\")","v":""}]
[null,null,null,null,null,null,null,null,null,0,{"$f":"+_xlfn.IFS(H2436>8,\"udgår\",I2436>8,\"udgår\",H2436<8,\"\",I2436<8,\"\")","v":""}]
[null,null,null,null,null,null,null,null,null,0,{"$f":"+_xlfn.IFS(H2437>8,\"udgår\",I2437>8,\"udgår\",H2437<8,\"\",I2437<8,\"\")","v":""}]
[null,null,null,null,null,null,null,null,null,0,{"$f":"+_xlfn.IFS(H2438>8,\"udgår\",I2438>8,\"udgår\",H2438<8,\"\",I2438<8,\"\")","v":""}]
[null,null,null,null,null,null,null,null,null,0,{"$f":"+_xlfn.IFS(H2439>8,\"udgår\",I2439>8,\"udgår\",H2439<8,\"\",I2439<8,\"\")","v":""}]
[null,null,null,null,null,null,null,null,null,0,{"$f":"+_xlfn.IFS(H2440>8,\"udgår\",I2440>8,\"udgår\",H2440<8,\"\",I2440<8,\"\")","v":""}]
[null,null,null,null,null,null,null,null,null,0,{"$f":"+_xlfn.IFS(H2441>8,\"udgår\",I2441>8,\"udgår\",H2441<8,\"\",I2441<8,\"\")","v":""}]
[null,null,null,null,null,null,null,null,null,0,{"$f":"+_xlfn.IFS(H2442>8,\"udgår\",I2442>8,\"udgår\",H2442<8,\"\",I2442<8,\"\")","v":""}]
[null,null,null,null,null,null,null,null,null,0,{"$f":"+_xlfn.IFS(H2443>8,\"udgår\",I2443>8,\"udgår\",H2443<8,\"\",I2443<8,\"\")","v":""}]
[null,null,null,null,null,null,null,null,null,0,{"$f":"+_xlfn.IFS(H2444>8,\"udgår\",I2444>8,\"udgår\",H2444<8,\"\",I2444<8,\"\")","v":""}]
[null,null,null,null,null,null,null,null,null,0,{"$f":"+_xlfn.IFS(H2445>8,\"udgår\",I2445>8,\"udgår\",H2445<8,\"\",I2445<8,\"\")","v":""}]
[null,null,null,null,null,null,null,null,null,0,{"$f":"+_xlfn.IFS(H2446>8,\"udgår\",I2446>8,\"udgår\",H2446<8,\"\",I2446<8,\"\")","v":""}]
[null,null,null,null,null,null,null,null,null,0,{"$f":"+_xlfn.IFS(H2447>8,\"udgår\",I2447>8,\"udgår\",H2447<8,\"\",I2447<8,\"\")","v":""}]
[null,null,null,null,null,null,null,null,null,0,{"$f":"+_xlfn.IFS(H2448>8,\"udgår\",I2448>8,\"udgår\",H2448<8,\"\",I2448<8,\"\")","v":""}]
[null,null,null,null,null,null,null,null,null,0,{"$f":"+_xlfn.IFS(H2449>8,\"udgår\",I2449>8,\"udgår\",H2449<8,\"\",I2449<8,\"\")","v":""}]
[null,null,null,null,null,null,null,null,null,0,{"$f":"+_xlfn.IFS(H2450>8,\"udgår\",I2450>8,\"udgår\",H2450<8,\"\",I2450<8,\"\")","v":""}]
[null,null,null,null,null,null,null,null,null,0,{"$f":"+_xlfn.IFS(H2451>8,\"udgår\",I2451>8,\"udgår\",H2451<8,\"\",I2451<8,\"\")","v":""}]
[null,null,null,null,null,null,null,null,null,0,{"$f":"+_xlfn.IFS(H2452>8,\"udgår\",I2452>8,\"udgår\",H2452<8,\"\",I2452<8,\"\")","v":""}]
[null,null,null,null,null,null,null,null,null,0,{"$f":"+_xlfn.IFS(H2453>8,\"udgår\",I2453>8,\"udgår\",H2453<8,\"\",I2453<8,\"\")","v":""}]
[null,null,null,null,null,null,null,null,null,0,{"$f":"+_xlfn.IFS(H2454>8,\"udgår\",I2454>8,\"udgår\",H2454<8,\"\",I2454<8,\"\")","v":""}]
[null,null,null,null,null,null,null,null,null,0,{"$f":"+_xlfn.IFS(H2455>8,\"udgår\",I2455>8,\"udgår\",H2455<8,\"\",I2455<8,\"\")","v":""}]
[null,null,null,null,null,null,null,null,null,0,{"$f":"+_xlfn.IFS(H2456>8,\"udgår\",I2456>8,\"udgår\",H2456<8,\"\",I2456<8,\"\")","v":""}]
[null,null,null,null,null,null,null,null,null,0,{"$f":"+_xlfn.IFS(H2457>8,\"udgår\",I2457>8,\"udgår\",H2457<8,\"\",I2457<8,\"\")","v":""}]
[null,null,null,null,null,null,null,null,null,0,{"$f":"+_xlfn.IFS(H2458>8,\"udgår\",I2458>8,\"udgår\",H2458<8,\"\",I2458<8,\"\")","v":""}]
[null,null,null,null,null,null,null,null,null,0,{"$f":"+_xlfn.IFS(H2459>8,\"udgår\",I2459>8,\"udgår\",H2459<8,\"\",I2459<8,\"\")","v":""}]
[null,null,null,null,null,null,null,null,null,0,{"$f":"+_xlfn.IFS(H2460>8,\"udgår\",I2460>8,\"udgår\",H2460<8,\"\",I2460<8,\"\")","v":""}]
[null,null,null,null,null,null,null,null,null,0,{"$f":"+_xlfn.IFS(H2461>8,\"udgår\",I2461>8,\"udgår\",H2461<8,\"\",I2461<8,\"\")","v":""}]
[null,null,null,null,null,null,null,null,null,0,{"$f":"+_xlfn.IFS(H2462>8,\"udgår\",I2462>8,\"udgår\",H2462<8,\"\",I2462<8,\"\")","v":""}]
[null,null,null,null,null,null,null,null,null,0,{"$f":"+_xlfn.IFS(H2463>8,\"udgår\",I2463>8,\"udgår\",H2463<8,\"\",I2463<8,\"\")","v":""}]
[null,null,null,null,null,null,null,null,null,0,{"$f":"+_xlfn.IFS(H2464>8,\"udgår\",I2464>8,\"udgår\",H2464<8,\"\",I2464<8,\"\")","v":""}]
[null,null,null,null,null,null,null,null,null,0,{"$f":"+_xlfn.IFS(H2465>8,\"udgår\",I2465>8,\"udgår\",H2465<8,\"\",I2465<8,\"\")","v":""}]
[null,null,null,null,null,null,null,null,null,0,{"$f":"+_xlfn.IFS(H2466>8,\"udgår\",I2466>8,\"udgår\",H2466<8,\"\",I2466<8,\"\")","v":""}]
[null,null,null,null,null,null,null,null,null,0,{"$f":"+_xlfn.IFS(H2467>8,\"udgår\",I2467>8,\"udgår\",H2467<8,\"\",I2467<8,\"\")","v":""}]
[null,null,null,null,null,null,null,null,null,0,{"$f":"+_xlfn.IFS(H2468>8,\"udgår\",I2468>8,\"udgår\",H2468<8,\"\",I2468<8,\"\")","v":""}]
[null,null,null,null,null,null,null,null,null,0,{"$f":"+_xlfn.IFS(H2469>8,\"udgår\",I2469>8,\"udgår\",H2469<8,\"\",I2469<8,\"\")","v":""}]
[null,null,null,null,null,null,null,null,null,0,{"$f":"+_xlfn.IFS(H2470>8,\"udgår\",I2470>8,\"udgår\",H2470<8,\"\",I2470<8,\"\")","v":""}]
[null,null,null,null,null,null,null,null,null,0,{"$f":"+_xlfn.IFS(H2471>8,\"udgår\",I2471>8,\"udgår\",H2471<8,\"\",I2471<8,\"\")","v":""}]
[null,null,null,null,null,null,null,null,null,0,{"$f":"+_xlfn.IFS(H2472>8,\"udgår\",I2472>8,\"udgår\",H2472<8,\"\",I2472<8,\"\")","v":""}]
[null,null,null,null,null,null,null,null,null,0,{"$f":"+_xlfn.IFS(H2473>8,\"udgår\",I2473>8,\"udgår\",H2473<8,\"\",I2473<8,\"\")","v":""}]
[null,null,null,null,null,null,null,null,null,0,{"$f":"+_xlfn.IFS(H2474>8,\"udgår\",I2474>8,\"udgår\",H2474<8,\"\",I2474<8,\"\")","v":""}]
[null,null,null,null,null,null,null,null,null,0,{"$f":"+_xlfn.IFS(H2475>8,\"udgår\",I2475>8,\"udgår\",H2475<8,\"\",I2475<8,\"\")","v":""}]
[null,null,null,null,null,null,null,null,null,0,{"$f":"+_xlfn.IFS(H2476>8,\"udgår\",I2476>8,\"udgår\",H2476<8,\"\",I2476<8,\"\")","v":""}]
[null,null,null,null,null,null,null,null,null,0,{"$f":"+_xlfn.IFS(H2477>8,\"udgår\",I2477>8,\"udgår\",H2477<8,\"\",I2477<8,\"\")","v":""}]
[null,null,null,null,null,null,null,null,null,0,{"$f":"+_xlfn.IFS(H2478>8,\"udgår\",I2478>8,\"udgår\",H2478<8,\"\",I2478<8,\"\")","v":""}]
[null,null,null,null,null,null,null,null,null,0,{"$f":"+_xlfn.IFS(H2479>8,\"udgår\",I2479>8,\"udgår\",H2479<8,\"\",I2479<8,\"\")","v":""}]
[null,null,null,null,null,null,null,null,null,0,{"$f":"+_xlfn.IFS(H2480>8,\"udgår\",I2480>8,\"udgår\",H2480<8,\"\",I2480<8,\"\")","v":""}]
[null,null,null,null,null,null,null,null,null,0,{"$f":"+_xlfn.IFS(H2481>8,\"udgår\",I2481>8,\"udgår\",H2481<8,\"\",I2481<8,\"\")","v":""}]
[null,null,null,null,null,null,null,null,null,0,{"$f":"+_xlfn.IFS(H2482>8,\"udgår\",I2482>8,\"udgår\",H2482<8,\"\",I2482<8,\"\")","v":""}]
[null,null,null,null,null,null,null,null,null,0,{"$f":"+_xlfn.IFS(H2483>8,\"udgår\",I2483>8,\"udgår\",H2483<8,\"\",I2483<8,\"\")","v":""}]
[null,null,null,null,null,null,null,null,null,0,{"$f":"+_xlfn.IFS(H2484>8,\"udgår\",I2484>8,\"udgår\",H2484<8,\"\",I2484<8,\"\")","v":""}]
[null,null,null,null,null,null,null,null,null,0,{"$f":"+_xlfn.IFS(H2485>8,\"udgår\",I2485>8,\"udgår\",H2485<8,\"\",I2485<8,\"\")","v":""}]
[null,null,null,null,null,null,null,null,null,0,{"$f":"+_xlfn.IFS(H2486>8,\"udgår\",I2486>8,\"udgår\",H2486<8,\"\",I2486<8,\"\")","v":""}]
[null,null,null,null,null,null,null,null,null,0,{"$f":"+_xlfn.IFS(H2487>8,\"udgår\",I2487>8,\"udgår\",H2487<8,\"\",I2487<8,\"\")","v":""}]
[null,null,null,null,null,null,null,null,null,0,{"$f":"+_xlfn.IFS(H2488>8,\"udgår\",I2488>8,\"udgår\",H2488<8,\"\",I2488<8,\"\")","v":""}]
[null,null,null,null,null,null,null,null,null,0,{"$f":"+_xlfn.IFS(H2489>8,\"udgår\",I2489>8,\"udgår\",H2489<8,\"\",I2489<8,\"\")","v":""}]
[null,null,null,null,null,null,null,null,null,0,{"$f":"+_xlfn.IFS(H2490>8,\"udgår\",I2490>8,\"udgår\",H2490<8,\"\",I2490<8,\"\")","v":""}]
[null,null,null,null,null,null,null,null,null,0,{"$f":"+_xlfn.IFS(H2491>8,\"udgår\",I2491>8,\"udgår\",H2491<8,\"\",I2491<8,\"\")","v":""}]
[null,null,null,null,null,null,null,null,null,0,{"$f":"+_xlfn.IFS(H2492>8,\"udgår\",I2492>8,\"udgår\",H2492<8,\"\",I2492<8,\"\")","v":""}]
[null,null,null,null,null,null,null,null,null,0,{"$f":"+_xlfn.IFS(H2493>8,\"udgår\",I2493>8,\"udgår\",H2493<8,\"\",I2493<8,\"\")","v":""}]
[null,null,null,null,null,null,null,null,null,0,{"$f":"+_xlfn.IFS(H2494>8,\"udgår\",I2494>8,\"udgår\",H2494<8,\"\",I2494<8,\"\")","v":""}]
[null,null,null,null,null,null,null,null,null,0,{"$f":"+_xlfn.IFS(H2495>8,\"udgår\",I2495>8,\"udgår\",H2495<8,\"\",I2495<8,\"\")","v":""}]
[null,null,null,null,null,null,null,null,null,0,{"$f":"+_xlfn.IFS(H2496>8,\"udgår\",I2496>8,\"udgår\",H2496<8,\"\",I2496<8,\"\")","v":""}]
[null,null,null,null,null,null,null,null,null,0,{"$f":"+_xlfn.IFS(H2497>8,\"udgår\",I2497>8,\"udgår\",H2497<8,\"\",I2497<8,\"\")","v":""}]
[null,null,null,null,null,null,null,null,null,0,{"$f":"+_xlfn.IFS(H2498>8,\"udgår\",I2498>8,\"udgår\",H2498<8,\"\",I2498<8,\"\")","v":""}]
[null,null,null,null,null,null,null,null,null,{"$f":"+D2499-F2499","v":0},{"$f":"+_xlfn.IFS(H2499>8,\"udgår\",I2499>8,\"udgår\",H2499<8,\"\",I2499<8,\"\")","v":""}]
[null,null,null,null,null,null,null,null,null,0,{"$f":"+_xlfn.IFS(H2500>8,\"udgår\",I2500>8,\"udgår\",H2500<8,\"\",I2500<8,\"\")","v":""}]
[null,null,null,null,null,null,null,null,null,0,{"$f":"+_xlfn.IFS(H2501>8,\"udgår\",I2501>8,\"udgår\",H2501<8,\"\",I2501<8,\"\")","v":""}]
[null,null,null,null,null,null,null,null,null,0,{"$f":"+_xlfn.IFS(H2502>8,\"udgår\",I2502>8,\"udgår\",H2502<8,\"\",I2502<8,\"\")","v":""}]
[null,null,null,null,null,null,null,null,null,0,{"$f":"+_xlfn.IFS(H2503>8,\"udgår\",I2503>8,\"udgår\",H2503<8,\"\",I2503<8,\"\")","v":""}]
[null,null,null,null,null,null,null,null,null,0,{"$f":"+_xlfn.IFS(H2504>8,\"udgår\",I2504>8,\"udgår\",H2504<8,\"\",I2504<8,\"\")","v":""}]
[null,null,null,null,null,null,null,null,null,0,{"$f":"+_xlfn.IFS(H2505>8,\"udgår\",I2505>8,\"udgår\",H2505<8,\"\",I2505<8,\"\")","v":""}]
[null,null,null,null,null,null,null,null,null,0,{"$f":"+_xlfn.IFS(H2506>8,\"udgår\",I2506>8,\"udgår\",H2506<8,\"\",I2506<8,\"\")","v":""}]
[null,null,null,null,null,null,null,null,null,0,{"$f":"+_xlfn.IFS(H2507>8,\"udgår\",I2507>8,\"udgår\",H2507<8,\"\",I2507<8,\"\")","v":""}]
[null,null,null,null,null,null,null,null,null,0,{"$f":"+_xlfn.IFS(H2508>8,\"udgår\",I2508>8,\"udgår\",H2508<8,\"\",I2508<8,\"\")","v":""}]

{"sheet":"Lageromsætning","index":2,"n_rows":35,"n_cols":32,"rows_kept":35,"cut":false,"hidden":false,"merged":[[0,7,0,12],[0,13,0,18],[0,19,0,24],[0,25,0,30]]}
["PRØVEARK 1",null,null,null,null,null,null,200,null,null,null,null,null,400,null,null,null,null,null,500,null,null,null,null,null,600]
["Kreditornr.","Navn","Varegrp.","Varenr.","Varetekst","B&T","Vamu","Sted","Beh","Lf",null,"Salg","Lager oms","Sted","Beh","Lf",null,"Salg ","Lager oms","Sted","Beh","Lf",null,"Salg","Lager oms","Sted","Beh","Lf",null,"Salg","Lager oms","Varetekst 2"]
[1053,"Leverandør 1",5010,9025263,"Vare 1","T","",200,0,"",null,0,"-",400,14,"1",null,14,1,500,4,"1",null,8,2,600,0,"",null,0,"-"]
[1053,"Leverandør 1",5010,9049180,"Vare 2","T","",200,0,"",null,0,"-",400,49,"1",null,0,"-",500,0,null,null,0,"-",600,0,"",null,0,"-"]
[1212,"Leverandør 2",3130,1270144,"Vare 3","T","",200,1210,"1",null,3881,3.2074380165289256,400,355,"1",null,866,2.4394366197183097,500,424,"1",null,1787,4.2146226415094343,600,139,"1",null,147,1.0575539568345325]
[1212,"Leverandør 2",3130,8339368,"Vare 4","T","",200,0,"",null,0,"-",400,0,"",null,0,"-",500,0,"",null,0,"-",600,1,"1",null,0,"-"]
[1212,"Leverandør 2",4630,1720888,"Vare 5","T","",200,0,"1",null,0,"-",400,0,"",null,0,"-",500,0,"",null,0,"-",600,69,"1",null,0,"-"]
[1212,"Leverandør 2",9120,8340564,"Vare 6","T","",200,6,"1",null,-6,-1,400,1,"",null,-6,-6,500,0,"1",null,0,"-",600,0,"",null,0,"-"]
[1639,"Leverandør 3",4810,9050632,"Vare 7","T","",200,3,"1",null,0,"-",400,0,"",null,0,"-",500,0,null,null,0,"-",600,0,null,null,0,"-"]
[1639,"Leverandør 3",4810,9055607,"Vare 8","T","",200,5,"1",null,0,"-",400,0,"",null,0,"-",500,0,null,null,0,"-",600,0,null,null,0,"-"]
[1888,"Leverandør 4",3410,9067398,"Vare 9","T","",200,25,"1",null,0,"-",400,0,"",null,0,"-",500,0,null,null,0,"-",600,0,null,null,0,"-"]
[1888,"Leverandør 4",3410,9068488,"Vare 10","T","",200,10,"1",null,22,2.2000000000000002,400,0,"",null,0,"-",500,0,null,null,0,"-",600,0,null,null,0,"-"]
[1888,"Leverandør 4",3410,9068524,"Vare 11","T","",200,20,"1",null,58,2.9,400,0,"",null,0,"-",500,0,null,null,0,"-",600,0,null,null,0,"-"]
[1888,"Leverandør 4",3410,9068629,"Vare 12","T","",200,82,"1",null,125,1.524390243902439,400,0,"",null,0,"-",500,0,null,null,0,"-",600,0,null,null,0,"-"]
[1888,"Leverandør 4",3410,9069486,"Vare 13","T","",200,80,"1",null,0,"-",400,0,"",null,0,"-",500,0,null,null,0,"-",600,0,null,null,0,"-"]
[4473,"Leverandør 5",4530,1446513,"Vare 14","T","D",200,0,"",null,0,"-",400,491,"1",null,21,4.2769857433808553E-2,500,0,"",null,0,"-",600,0,null,null,0,"-"]
[4473,"Leverandør 5",4530,1602059,"Vare 15","T","",200,913,"1",null,3537,3.8740416210295727,400,0,"",null,905,"-",500,2117,"1",null,2919,1.3788379782711384,600,0,"",null,937,"-"]
[4473,"Leverandør 5",4530,1863086,"Vare 16","T","D",200,297,"1",null,10774,36.276094276094277,400,1281,"1",null,5601,4.3723653395784545,500,859,"1",null,1962,2.2840512223515717,600,202,"1",null,1646,8.1485148514851478]
[4473,"Leverandør 5",4530,1867031,"Vare 17","T","D",200,35,"1",null,1915,54.714285714285715,400,164,"1",null,1243,7.5792682926829267,500,7,"",null,743,106.14285714285714,600,0,"",null,47,"-"]
[4473,"Leverandør 5",4530,5015401,"Vare 18","T","D",200,331,"1",null,14116,42.646525679758305,400,1034,"1",null,3071,2.9700193423597678,500,1019,"1",null,2125,2.0853778213935232,600,0,"",null,25,"-"]
[4473,"Leverandør 5",4530,5214761,"Vare 19","T","D",200,2622,"1",null,41001,15.637299771167047,400,3585,"1",null,50066,13.965411436541144,500,1271,"1",null,19215,15.118017309205349,600,162,"1",null,7072,43.654320987654323]
[4473,"Leverandør 5",4720,2272567,"Vare 20","B","D",200,9,"1",null,9,1,400,13,"1",null,81,6.2307692307692308,500,9,"1",null,19,2.1111111111111112,600,3,"1",null,8,2.6666666666666665]
[4473,"Leverandør 5",4720,2272569,"Vare 21","B","D",200,4,"1",null,22,5.5,400,4,"1",null,12,3,500,2,"1",null,2,1,600,0,"",null,0,"-"]
[4473,"Leverandør 5",5160,1703736,"Vare 22","T","",200,15,"1",null,119,7.9333333333333336,400,23,"1",null,11,0.47826086956521741,500,18,"1",null,14,0.77777777777777779,600,5,"1",null,9,1.8]
[4473,"Leverandør 5",5160,1703739,"Vare 23","T","D",200,28,"1",null,2903,103.67857142857143,400,192,"1",null,2303,11.994791666666666,500,221,"1",null,1351,6.113122171945701,600,51,"1",null,825,16.176470588235293]
[4473,"Leverandør 5",5160,1703740,"Vare 24","T","",200,30,"1",null,93,3.1,400,141,"1",null,556,3.9432624113475176,500,17,"1",null,66,3.8823529411764706,600,4,"1",null,25,6.25]
[4473,"Leverandør 5",5160,1703741,"Vare 25","B","",200,19,"1",null,65,3.4210526315789473,400,17,"1",null,0,"-",500,0,"",null,28,"-",600,0,"",null,0,"-"]
[4473,"Leverandør 5",5160,1704040,"Vare 26","B","D",200,45,"1",null,214,4.7555555555555555,400,57,"1",null,99,1.736842105263158,500,5,"1",null,53,10.6,600,3,"1",null,12,4]
[4473,"Leverandør 5",5160,1965404,"Vare 27","B","",200,0,"",null,52,"-",400,81,"1",null,117,1.4444444444444444,500,192,"1",null,303,1.578125,600,6,"1",null,75,12.5]
[4473,"Leverandør 5",5160,1965406,"Vare 28","B","",200,3,"1",null,17,5.666666666666667,400,0,"",null,0,"-",500,0,null,null,0,"-",600,0,"",null,7,"-"]
[4473,"Leverandør 5",9120,2033614,"Vare 29","T","",200,56,"1",null,-36,-0.6428571428571429,400,30,"1",null,25,0.83333333333333337,500,-22,"1",null,74,-3.3636363636363638,600,1,"1",null,11,11]
[4473,"Leverandør 5",9120,2171208,"Vare 30","T","",200,176,"1",null,25,0.14204545454545456,400,20,"",null,6,0.3,500,149,"1",null,44,0.29530201342281881,600,1,"1",null,9,9]
[4473,"Leverandør 5",9120,5772333,"Vare 31","T","",200,77,"1",null,-189,-2.4545454545454546,400,-10,"1",null,6,-0.6,500,-10,"1",null,-210,21,600,0,"1",null,0,"-"]
[4473,"Leverandør 5",9120,5772513,"Vare 32","T","",200,0,"",null,0,"-",400,2,"1",null,2,1,500,0,"",null,0,"-",600,0,"",null,0,"-"]
[4473,"Leverandør 5",9120,7603517,"Vare 33","T","",200,123,"1",null,124,1.0081300813008129,400,61,"1",null,323,5.2950819672131146,500,-2,"1",null,71,-35.5,600,31,"1",null,29,0.93548387096774188]

{"sheet":"Leverandørliste","index":3,"n_rows":10,"n_cols":12,"rows_kept":10,"cut":false,"hidden":false,"merged":[]}
["Kolonne1","Kolonne2","Kolonne3",null,"afd"]
[1053,"Leverandør 1",{"$f":"_xlfn.CONCAT(A2,\" \",B2)","v":"1053 Leverandør 1"},null,200,null,null,null,null,{"$f":"--ISNUMBER(IFERROR(SEARCH('Bestilling oversigt'!$E$1,C2,1),\"\"))","v":0},{"$f":"IF(J2=1,COUNTIF($J$2:J2,1),\"\")","v":""},{"$f":"IFERROR(INDEX($C$2:$C$6,MATCH(ROWS($K$2:K2),$K$2:$K$6)),\"\")","v":"4473 Leverandør 5"}]
[1212,"Leverandør 2","1212 Leverandør 2",null,400,null,null,null,null,{"$f":"--ISNUMBER(IFERROR(SEARCH('Bestilling oversigt'!$E$1,C3,1),\"\"))","v":0},{"$f":"IF(J3=1,COUNTIF($J$2:J3,1),\"\")","v":""},{"$f":"IFERROR(INDEX($C$2:$C$6,MATCH(ROWS($K$2:K3),$K$2:$K$6)),\"\")","v":"4473 Leverandør 5"}]
[1639,"Leverandør 3","1639 Leverandør 3",null,500,null,null,null,null,{"$f":"--ISNUMBER(IFERROR(SEARCH('Bestilling oversigt'!$E$1,C4,1),\"\"))","v":0},{"$f":"IF(J4=1,COUNTIF($J$2:J4,1),\"\")","v":""},{"$f":"IFERROR(INDEX($C$2:$C$6,MATCH(ROWS($K$2:K4),$K$2:$K$6)),\"\")","v":"4473 Leverandør 5"}]
[1888,"Leverandør 4","1888 Leverandør 4",null,600,null,null,null,null,{"$f":"--ISNUMBER(IFERROR(SEARCH('Bestilling oversigt'!$E$1,C5,1),\"\"))","v":0},{"$f":"IF(J5=1,COUNTIF($J$2:J5,1),\"\")","v":""},{"$f":"IFERROR(INDEX($C$2:$C$6,MATCH(ROWS($K$2:K5),$K$2:$K$6)),\"\")","v":"4473 Leverandør 5"}]
[4473,"Leverandør 5",{"$f":"_xlfn.CONCAT(A6,\" \",B6)","v":"4473 Leverandør 5"},null,null,null,null,null,null,{"$f":"--ISNUMBER(IFERROR(SEARCH('Bestilling oversigt'!$E$1,C6,1),\"\"))","v":1},{"$f":"IF(J6=1,COUNTIF($J$2:J6,1),\"\")","v":1},{"$f":"IFERROR(INDEX($C$2:$C$6,MATCH(ROWS($K$2:K6),$K$2:$K$6)),\"\")","v":"4473 Leverandør 5"}]
[]
[]
[]
[null,null,"=Leverandørliste!#REF!:INDEX(Leverandørliste!$L$2:$L$6;MAX(Leverandørliste!$K$2:$K$6);1)"]