{"text_format":"1","workbook":"xlsx","n_sheets":10,"sheets":["H01 HC06","H01 HC07","H01 HC08","H01 HC09","H01 HC10","Produktliste","Energiventil ","ABQM report","Broen raport","Pumpe report"],"not_rendered":{"charts":0,"images":1,"macros":1,"external_links":0,"defined_names":23,"comments":1,"pivot_tables":0},"unopened":[],"bounds":{"document_bytes":16777216,"sheet_cells":100000,"rows_first":2000,"rows_last":500,"rows_between":2000,"halvings":0,"cell_chars":16384,"cell_head_chars":4096},"cells_cut":0,"cells_raw":0,"read":"whole","date_system":"1900"}

{"sheet":"H01 HC06","index":0,"n_rows":107,"n_cols":23,"rows_kept":107,"cut":false,"hidden":false,"merged":[[106,1,106,19],[0,6,0,8]]}
[null,"Sektion ",{"$f":"LEFT(F1,3)","v":"H01"},{"$f":"RIGHT(F1,4)","v":"HC06"},null,{"$f":"MID(CELL(\"filnavn\",A1),FIND(\"]\",CELL(\"filnavn\",A1))+1,255)","v":"H01 HC06"},"Navn ændres ved at omdøbe arket"]
[]
[null,null,null,null,null,1,{"$f":"+F3+1","v":2},{"$f":"+G3+1","v":3},4,5,{"$f":"+#REF!+1","v":{"$error":"#REF!"}},{"$error":"#REF!"},{"$error":"#REF!"},{"$error":"#REF!"},{"$error":"#REF!"},{"$error":"#REF!"},{"$error":"#REF!"},{"$error":"#REF!"},{"$error":"#REF!"},{"$error":"#REF!"}]
[null,"ID",null,null,null,null,null,null,null,null,null,null,null,null,null,"Drift oplysninger "]
[null,"Funktionelsystem ","Teknisk system ","Komponent ","komponent nr","ID nr. ","kunde ID","Rum nummer","Etage","Betegnelse ","Producent ","Leverandør","Type","Størrelse","Type nr. ","Flow [l/s]","dP [kpa]","Effektoptag [kW]","Spænding [V]","Strøm[A]",2,3,4]
[null,null,null,null,null,{"$f":"F3","v":1},{"$f":"G3","v":2},3,4,5,{"$error":"#REF!"},{"$error":"#REF!"},{"$error":"#REF!"},{"$error":"#REF!"},{"$error":"#REF!"},{"$error":"#REF!"},{"$error":"#REF!"},{"$error":"#REF!"},{"$error":"#REF!"},{"$error":"#REF!"}]
[null,{"$f":"IF(D7=\"\",\"\",$C$1)","v":"H01"},{"$f":"IF(D7=\"\",\"\",$D$1)","v":"HC06"},"QMA","01",{"$f":"IF(D7=\"\",\"\",CONCATENATE(\"=\",B7,\":\",C7,\":\",D7,E7))","v":"=H01:HC06:QMA01"},null,null,null,{"$f":"IF(D7=\"\",\"\",VLOOKUP(D7,#REF!,2,FALSE))","v":{"$error":"#REF!"}},null,"VIRA","KVLE_P","DN150","KVLE-P_DN150"]
[null,{"$f":"IF(D8=\"\",\"\",$C$1)","v":"H01"},{"$f":"IF(D8=\"\",\"\",$D$1)","v":"HC06"},"QMA","02",{"$f":"IF(D8=\"\",\"\",CONCATENATE(\"=\",B8,\":\",C8,\":\",D8,E8))","v":"=H01:HC06:QMA02"},null,null,null,{"$f":"IF(D8=\"\",\"\",VLOOKUP(D8,#REF!,2,FALSE))","v":{"$error":"#REF!"}},null,"VIRA","KVLE_P","DN150","KVLE-P_DN150"]
[null,"H01","HC06","QMA","03","=H01:HC06:QMA03",null,null,null,{"$f":"IF(D9=\"\",\"\",VLOOKUP(D9,#REF!,2,FALSE))","v":{"$error":"#REF!"}},null,"VIRA","KVLE_P","DN150","KVLE-P_DN150"]
[null,"H01","HC06","QMA","04","=H01:HC06:QMA04",null,null,null,{"$f":"IF(D10=\"\",\"\",VLOOKUP(D10,#REF!,2,FALSE))","v":{"$error":"#REF!"}},null,"VIRA","KVLE_P","DN150","KVLE-P_DN150"]
[null,"H01","HC06","RMA","01","=H01:HC06:RMA01",null,null,null,{"$f":"IF(D11=\"\",\"\",VLOOKUP(D11,#REF!,2,FALSE))","v":{"$error":"#REF!"}},null,"VIRA","WDCV_D","DN150","WDCV-D_DN150"]
[null,"H01","HC06","RMA","02","=H01:HC06:RMA02",null,null,null,{"$f":"IF(D12=\"\",\"\",VLOOKUP(D12,#REF!,2,FALSE))","v":{"$error":"#REF!"}},null,"VIRA","WDCV_D","DN150","WDCV-D_DN150"]
[null,"H01","HC06","RCL","01","=H01:HC06:RCL01",null,null,null,{"$f":"IF(D13=\"\",\"\",VLOOKUP(D13,#REF!,2,FALSE))","v":{"$error":"#REF!"}},null,"VIRA","LK_C","DN150","LK_C_DN150"]
[null,"H01","HC06","RCL","02","=H01:HC06:RCL02",null,null,null,{"$f":"IF(D14=\"\",\"\",VLOOKUP(D14,#REF!,2,FALSE))","v":{"$error":"#REF!"}},null,"VIRA","LK_C","DN150","LK_C_DN150"]
[null,"H01","HC06","RCL","03","=H01:HC06:RCL03",null,null,null,{"$f":"IF(D15=\"\",\"\",VLOOKUP(D15,#REF!,2,FALSE))","v":{"$error":"#REF!"}},null,"VIRA","LK_C","DN150","LK_C_DN150"]
[null,"H01","HC06","RCL","04","=H01:HC06:RCL04",null,null,null,{"$f":"IF(D16=\"\",\"\",VLOOKUP(D16,#REF!,2,FALSE))","v":{"$error":"#REF!"}},null,"VIRA","LK_C","DN150","LK_C_DN150"]
[null,"H01","HC06","RCL","05","=H01:HC06:RCL05",null,null,null,{"$f":"IF(D17=\"\",\"\",VLOOKUP(D17,#REF!,2,FALSE))","v":{"$error":"#REF!"}},null,"VIRA","LK_C","DN150","LK_C_DN150"]
[null,"H01","HC06","RCL","06","=H01:HC06:RCL06",null,null,null,{"$f":"IF(D18=\"\",\"\",VLOOKUP(D18,#REF!,2,FALSE))","v":{"$error":"#REF!"}},null,"VIRA","LK_C","DN150","LK_C_DN150"]
[null,"H01","HC06","GPA","01","=H01:HC06:GPA01",null,null,null,{"$f":"IF(D19=\"\",\"\",VLOOKUP(D19,#REF!,2,FALSE))","v":{"$error":"#REF!"}}]
[null,"H01","HC06","GPA","02","=H01:HC06:GPA02",null,null,null,{"$f":"IF(D20=\"\",\"\",VLOOKUP(D20,#REF!,2,FALSE))","v":{"$error":"#REF!"}}]
[null,"H01","HC06","HQA","200","=H01:HC06:HQA200",null,null,null,{"$f":"IF(D21=\"\",\"\",VLOOKUP(D21,#REF!,2,FALSE))","v":{"$error":"#REF!"}},null,"VIRA","FPT","DN150","FPT_DN150"]
[null,"H01","HC06","QMA","200","=H01:HC06:QMA200",null,null,null,{"$f":"IF(D22=\"\",\"\",VLOOKUP(D22,#REF!,2,FALSE))","v":{"$error":"#REF!"}},null,"VIRA","KVLE_P","DN150","KVLE-P_DN150"]
[null,"H01","HC06","HQA","201","=H01:HC06:HQA201",null,null,null,{"$f":"IF(D23=\"\",\"\",VLOOKUP(D23,#REF!,2,FALSE))","v":{"$error":"#REF!"}},null,"VIRA","FPT","DN150","FPT_DN150"]
[null,"H01","HC06","QMA","201","=H01:HC06:QMA201",null,null,null,{"$f":"IF(D24=\"\",\"\",VLOOKUP(D24,#REF!,2,FALSE))","v":{"$error":"#REF!"}},null,"VIRA","KVLE_P","DN150","KVLE-P_DN150"]
[null,"H01","HC06","PGD","300","=H01:HC06:PGD300",null,null,null,{"$f":"IF(D25=\"\",\"\",VLOOKUP(D25,#REF!,2,FALSE))","v":{"$error":"#REF!"}},null,"Jp industri","0-16 bar","Ø63","kommer"]
[null,"H01","HC06","QMA","300","=H01:HC06:QMA300",null,null,null,{"$f":"IF(D26=\"\",\"\",VLOOKUP(D26,#REF!,2,FALSE))","v":{"$error":"#REF!"}},null,"Sanistål","CIM6 M/M","1/2\"",904805]
[null,"H01","HC06","PGD","301","=H01:HC06:PGD301",null,null,null,{"$f":"IF(D27=\"\",\"\",VLOOKUP(D27,#REF!,2,FALSE))","v":{"$error":"#REF!"}},null,"Jp industri","0-10 bar","Ø63","kommer"]
[null,"H01","HC06","QMA","301","=H01:HC06:QMA301",null,null,null,{"$f":"IF(D28=\"\",\"\",VLOOKUP(D28,#REF!,2,FALSE))","v":{"$error":"#REF!"}},null,"Sanistål","CIM6 M/M","1/2\"",904805]
[null,"H01","HC06","PGD","302","=H01:HC06:PGD302",null,null,null,{"$f":"IF(D29=\"\",\"\",VLOOKUP(D29,#REF!,2,FALSE))","v":{"$error":"#REF!"}},null,"Jp industri","0-16 bar","Ø63","kommer"]
[null,"H01","HC06","QMA","302","=H01:HC06:QMA302",null,null,null,{"$f":"IF(D30=\"\",\"\",VLOOKUP(D30,#REF!,2,FALSE))","v":{"$error":"#REF!"}},null,"Sanistål","CIM6 M/M","1/2\"",904805]
[null,"H01","HC06","PGD","303","=H01:HC06:PGD303",null,null,null,{"$f":"IF(D31=\"\",\"\",VLOOKUP(D31,#REF!,2,FALSE))","v":{"$error":"#REF!"}},null,"Jp industri","0-16 bar","Ø63","kommer"]
[null,"H01","HC06","QMA","303","=H01:HC06:QMA303",null,null,null,{"$f":"IF(D32=\"\",\"\",VLOOKUP(D32,#REF!,2,FALSE))","v":{"$error":"#REF!"}},null,"Sanistål","CIM6 M/M","1/2\"",904805]
[null,"H01","HC06","PGD","304","=H01:HC06:PGD304",null,null,null,{"$f":"IF(D33=\"\",\"\",VLOOKUP(D33,#REF!,2,FALSE))","v":{"$error":"#REF!"}},null,"Jp industri","0-16 bar","Ø63","kommer"]
[null,"H01","HC06","QMA","304","=H01:HC06:QMA304",null,null,null,{"$f":"IF(D34=\"\",\"\",VLOOKUP(D34,#REF!,2,FALSE))","v":{"$error":"#REF!"}},null,"Sanistål","CIM6 M/M","1/2\"",904805]
[null,"H01","HC06","PGD","305","=H01:HC06:PGD305",null,null,null,{"$f":"IF(D35=\"\",\"\",VLOOKUP(D35,#REF!,2,FALSE))","v":{"$error":"#REF!"}},null,"Jp industri","0-16 bar","Ø63","kommer"]
[null,"H01","HC06","QMA","305","=H01:HC06:QMA305",null,null,null,{"$f":"IF(D36=\"\",\"\",VLOOKUP(D36,#REF!,2,FALSE))","v":{"$error":"#REF!"}},null,"Sanistål","CIM6 M/M","1/2\"",904805]
[null,"H01","HC06","PGA","01","=H01:HC06:PGA01",null,null,null,{"$f":"IF(D37=\"\",\"\",VLOOKUP(D37,#REF!,2,FALSE))","v":{"$error":"#REF!"}},null,{"$error":"#N/A"},{"$error":"#N/A"},"DN150",{"$error":"#N/A"}]
[null,"H01","HC06","PGA","02","=H01:HC06:PGA02",null,null,null,{"$f":"IF(D38=\"\",\"\",VLOOKUP(D38,#REF!,2,FALSE))","v":{"$error":"#REF!"}},null,{"$error":"#N/A"},{"$error":"#N/A"},"DN150",{"$error":"#N/A"}]
[null,"H01","HC06","PGA","03","=H01:HC06:PGA03",null,null,null,{"$f":"IF(D39=\"\",\"\",VLOOKUP(D39,#REF!,2,FALSE))","v":{"$error":"#REF!"}},null,{"$error":"#N/A"},{"$error":"#N/A"},"DN150",{"$error":"#N/A"}]
[null,"H01","HC06","PGA","04","=H01:HC06:PGA04",null,null,null,{"$f":"IF(D40=\"\",\"\",VLOOKUP(D40,#REF!,2,FALSE))","v":{"$error":"#REF!"}},null,{"$error":"#N/A"},{"$error":"#N/A"},"DN150",{"$error":"#N/A"}]
[null,"H01","HC06","BTA","01","=H01:HC06:BTA01",null,null,null,{"$f":"IF(D41=\"\",\"\",VLOOKUP(D41,#REF!,2,FALSE))","v":{"$error":"#REF!"}},null,{"$error":"#N/A"},{"$error":"#N/A"},"DN150",{"$error":"#N/A"}]
[null,"H01","HC06","BFA","01","=H01:HC06:BFA01",null,null,null,{"$f":"IF(D42=\"\",\"\",VLOOKUP(D42,#REF!,2,FALSE))","v":{"$error":"#REF!"}},null,{"$error":"#N/A"},{"$error":"#N/A"},"DN150",{"$error":"#N/A"}]
[null,"H01","HC06","QMA","100","=H01:HC06:QMA100",null,null,null,{"$f":"IF(D43=\"\",\"\",VLOOKUP(D43,#REF!,2,FALSE))","v":{"$error":"#REF!"}},null,"VIRA","KVLE_P","DN150","KVLE-P_DN150"]
[null,"H01","HC06","QMA","101","=H01:HC06:QMA101",null,null,null,{"$f":"IF(D44=\"\",\"\",VLOOKUP(D44,#REF!,2,FALSE))","v":{"$error":"#REF!"}},null,"VIRA","KVLE_P","DN150","KVLE-P_DN150"]
[null,"H01","HC06","QMA","102","=H01:HC06:QMA102",null,null,null,{"$f":"IF(D45=\"\",\"\",VLOOKUP(D45,#REF!,2,FALSE))","v":{"$error":"#REF!"}},null,"VIRA","KVLE_P","DN150","KVLE-P_DN150"]
[null,"H01","HC06","QMA","103","=H01:HC06:QMA103",null,null,null,{"$f":"IF(D46=\"\",\"\",VLOOKUP(D46,#REF!,2,FALSE))","v":{"$error":"#REF!"}},null,"VIRA","KVLE_P","DN150","KVLE-P_DN150"]
[null,"","",null,null,"",null,null,null,{"$f":"IF(D47=\"\",\"\",VLOOKUP(D47,#REF!,2,FALSE))","v":""}]
[null,"","",null,null,"",null,null,null,{"$f":"IF(D48=\"\",\"\",VLOOKUP(D48,#REF!,2,FALSE))","v":""}]
[null,"","",null,null,"",null,null,null,{"$f":"IF(D49=\"\",\"\",VLOOKUP(D49,#REF!,2,FALSE))","v":""}]
[null,"","",null,null,"",null,null,null,{"$f":"IF(D50=\"\",\"\",VLOOKUP(D50,#REF!,2,FALSE))","v":""}]
[null,"","",null,null,"",null,null,null,{"$f":"IF(D51=\"\",\"\",VLOOKUP(D51,#REF!,2,FALSE))","v":""}]
[null,"","",null,null,"",null,null,null,{"$f":"IF(D52=\"\",\"\",VLOOKUP(D52,#REF!,2,FALSE))","v":""}]
[null,"","",null,null,"",null,null,null,{"$f":"IF(D53=\"\",\"\",VLOOKUP(D53,#REF!,2,FALSE))","v":""}]
[null,"","",null,null,"",null,null,null,{"$f":"IF(D54=\"\",\"\",VLOOKUP(D54,#REF!,2,FALSE))","v":""}]
[null,"","",null,null,"",null,null,null,{"$f":"IF(D55=\"\",\"\",VLOOKUP(D55,#REF!,2,FALSE))","v":""}]
[null,"","",null,null,"",null,null,null,{"$f":"IF(D56=\"\",\"\",VLOOKUP(D56,#REF!,2,FALSE))","v":""}]
[null,"","",null,null,"",null,null,null,{"$f":"IF(D57=\"\",\"\",VLOOKUP(D57,#REF!,2,FALSE))","v":""}]
[null,"","",null,null,"",null,null,null,{"$f":"IF(D58=\"\",\"\",VLOOKUP(D58,#REF!,2,FALSE))","v":""}]
[null,"","",null,null,"",null,null,null,{"$f":"IF(D59=\"\",\"\",VLOOKUP(D59,#REF!,2,FALSE))","v":""}]
[null,"","",null,null,"",null,null,null,{"$f":"IF(D60=\"\",\"\",VLOOKUP(D60,#REF!,2,FALSE))","v":""}]
[null,"","",null,null,"",null,null,null,{"$f":"IF(D61=\"\",\"\",VLOOKUP(D61,#REF!,2,FALSE))","v":""}]
[null,"","",null,null,"",null,null,null,{"$f":"IF(D62=\"\",\"\",VLOOKUP(D62,#REF!,2,FALSE))","v":""}]
[null,"","",null,null,"",null,null,null,{"$f":"IF(D63=\"\",\"\",VLOOKUP(D63,#REF!,2,FALSE))","v":""}]
[null,"","",null,null,"",null,null,null,{"$f":"IF(D64=\"\",\"\",VLOOKUP(D64,#REF!,2,FALSE))","v":""}]
[null,"","",null,null,"",null,null,null,{"$f":"IF(D65=\"\",\"\",VLOOKUP(D65,#REF!,2,FALSE))","v":""}]
[null,"","",null,null,"",null,null,null,{"$f":"IF(D66=\"\",\"\",VLOOKUP(D66,#REF!,2,FALSE))","v":""}]
[null,"","",null,null,"",null,null,null,{"$f":"IF(D67=\"\",\"\",VLOOKUP(D67,#REF!,2,FALSE))","v":""}]
[null,"","",null,null,"",null,null,null,{"$f":"IF(D68=\"\",\"\",VLOOKUP(D68,#REF!,2,FALSE))","v":""}]
[null,"","",null,null,"",null,null,null,{"$f":"IF(D69=\"\",\"\",VLOOKUP(D69,#REF!,2,FALSE))","v":""}]
[null,"","",null,null,"",null,null,null,{"$f":"IF(D70=\"\",\"\",VLOOKUP(D70,#REF!,2,FALSE))","v":""}]
[null,"","",null,null,"",null,null,null,{"$f":"IF(D71=\"\",\"\",VLOOKUP(D71,#REF!,2,FALSE))","v":""}]
[null,{"$f":"IF(D72=\"\",\"\",$C$1)","v":""},{"$f":"IF(D72=\"\",\"\",$D$1)","v":""},null,null,{"$f":"IF(D72=\"\",\"\",CONCATENATE(\"=\",B72,\":\",C72,\":\",D72,E72))","v":""},null,null,null,{"$f":"IF(D72=\"\",\"\",VLOOKUP(D72,#REF!,2,FALSE))","v":""}]
[null,"","",null,null,"",null,null,null,{"$f":"IF(D73=\"\",\"\",VLOOKUP(D73,#REF!,2,FALSE))","v":""}]
[null,"","",null,null,"",null,null,null,{"$f":"IF(D74=\"\",\"\",VLOOKUP(D74,#REF!,2,FALSE))","v":""}]
[null,"","",null,null,"",null,null,null,{"$f":"IF(D75=\"\",\"\",VLOOKUP(D75,#REF!,2,FALSE))","v":""}]
[null,"","",null,null,"",null,null,null,{"$f":"IF(D76=\"\",\"\",VLOOKUP(D76,#REF!,2,FALSE))","v":""}]
[null,"","",null,null,"",null,null,null,{"$f":"IF(D77=\"\",\"\",VLOOKUP(D77,#REF!,2,FALSE))","v":""}]
[null,"","",null,null,"",null,null,null,{"$f":"IF(D78=\"\",\"\",VLOOKUP(D78,#REF!,2,FALSE))","v":""}]
[null,"","",null,null,"",null,null,null,{"$f":"IF(D79=\"\",\"\",VLOOKUP(D79,#REF!,2,FALSE))","v":""}]
[null,"","",null,null,"",null,null,null,{"$f":"IF(D80=\"\",\"\",VLOOKUP(D80,#REF!,2,FALSE))","v":""}]
[null,"","",null,null,"",null,null,null,{"$f":"IF(D81=\"\",\"\",VLOOKUP(D81,#REF!,2,FALSE))","v":""}]
[null,"","",null,null,"",null,null,null,{"$f":"IF(D82=\"\",\"\",VLOOKUP(D82,#REF!,2,FALSE))","v":""}]
[null,"","",null,null,"",null,null,null,{"$f":"IF(D83=\"\",\"\",VLOOKUP(D83,#REF!,2,FALSE))","v":""}]
[null,"","",null,null,"",null,null,null,{"$f":"IF(D84=\"\",\"\",VLOOKUP(D84,#REF!,2,FALSE))","v":""}]
[null,"","",null,null,"",null,null,null,{"$f":"IF(D85=\"\",\"\",VLOOKUP(D85,#REF!,2,FALSE))","v":""}]
[null,"","",null,null,"",null,null,null,{"$f":"IF(D86=\"\",\"\",VLOOKUP(D86,#REF!,2,FALSE))","v":""}]
[null,"","",null,null,"",null,null,null,{"$f":"IF(D87=\"\",\"\",VLOOKUP(D87,#REF!,2,FALSE))","v":""}]
[null,"","",null,null,"",null,null,null,{"$f":"IF(D88=\"\",\"\",VLOOKUP(D88,#REF!,2,FALSE))","v":""}]
[null,"","",null,null,"",null,null,null,{"$f":"IF(D89=\"\",\"\",VLOOKUP(D89,#REF!,2,FALSE))","v":""}]
[null,"","",null,null,"",null,null,null,{"$f":"IF(D90=\"\",\"\",VLOOKUP(D90,#REF!,2,FALSE))","v":""}]
[null,"","",null,null,"",null,null,null,{"$f":"IF(D91=\"\",\"\",VLOOKUP(D91,#REF!,2,FALSE))","v":""}]
[null,"","",null,null,"",null,null,null,{"$f":"IF(D92=\"\",\"\",VLOOKUP(D92,#REF!,2,FALSE))","v":""}]
[null,"","",null,null,"",null,null,null,{"$f":"IF(D93=\"\",\"\",VLOOKUP(D93,#REF!,2,FALSE))","v":""}]
[null,"","",null,null,"",null,null,null,{"$f":"IF(D94=\"\",\"\",VLOOKUP(D94,#REF!,2,FALSE))","v":""}]
[null,"","",null,null,"",null,null,null,{"$f":"IF(D95=\"\",\"\",VLOOKUP(D95,#REF!,2,FALSE))","v":""}]
[null,"","",null,null,"",null,null,null,{"$f":"IF(D96=\"\",\"\",VLOOKUP(D96,#REF!,2,FALSE))","v":""}]
[null,"","",null,null,"",null,null,null,{"$f":"IF(D97=\"\",\"\",VLOOKUP(D97,#REF!,2,FALSE))","v":""}]
[null,"","",null,null,"",null,null,null,{"$f":"IF(D98=\"\",\"\",VLOOKUP(D98,#REF!,2,FALSE))","v":""}]
[null,"","",null,null,"",null,null,null,{"$f":"IF(D99=\"\",\"\",VLOOKUP(D99,#REF!,2,FALSE))","v":""}]
[null,"","",null,null,"",null,null,null,{"$f":"IF(D100=\"\",\"\",VLOOKUP(D100,#REF!,2,FALSE))","v":""}]
[null,"","",null,null,"",null,null,null,{"$f":"IF(D101=\"\",\"\",VLOOKUP(D101,#REF!,2,FALSE))","v":""}]
[null,"","",null,null,"",null,null,null,{"$f":"IF(D102=\"\",\"\",VLOOKUP(D102,#REF!,2,FALSE))","v":""}]
[null,"","",null,null,"",null,null,null,{"$f":"IF(D103=\"\",\"\",VLOOKUP(D103,#REF!,2,FALSE))","v":""}]
[null,"","",null,null,"",null,null,null,{"$f":"IF(D104=\"\",\"\",VLOOKUP(D104,#REF!,2,FALSE))","v":""}]
[null,"","",null,null,"",null,null,null,{"$f":"IF(D105=\"\",\"\",VLOOKUP(D105,#REF!,2,FALSE))","v":""}]
[null,"","",null,null,"",null,null,null,{"$f":"IF(D106=\"\",\"\",VLOOKUP(D106,#REF!,2,FALSE))","v":""}]
[null,"  -----Ark slutter her-----Ark slutter her-----Ark slutter her-----Ark slutter her-----Ark slutter her-----Ark slutter her-----Ark slutter her-----Ark slutter her-----Ark slutter her-----Ark slutter her-----Ark slutter her-----Ark slutter her-----Ark slutter her-----Ark slutter her-----Ark slutter her-----Ark slutter her-----Ark slutter her-----Ark slutter her-----Ark slutter her-----Ark slutter her-----Ark slutter her"]

{"sheet":"H01 HC07","index":1,"n_rows":107,"n_cols":23,"rows_kept":107,"cut":false,"hidden":false,"merged":[[106,1,106,19],[0,6,0,8]]}
[null,"Sektion ",{"$f":"LEFT(F1,3)","v":"H01"},{"$f":"RIGHT(F1,4)","v":"HC07"},null,{"$f":"MID(CELL(\"filnavn\",A1),FIND(\"]\",CELL(\"filnavn\",A1))+1,255)","v":"H01 HC07"},"Navn ændres ved at omdøbe arket"]
[]
[null,null,null,null,null,1,{"$f":"+F3+1","v":2},{"$f":"+G3+1","v":3},4,5,{"$f":"+#REF!+1","v":{"$error":"#REF!"}},{"$error":"#REF!"},{"$error":"#REF!"},{"$error":"#REF!"},{"$error":"#REF!"},{"$error":"#REF!"},{"$error":"#REF!"},{"$error":"#REF!"},{"$error":"#REF!"},{"$error":"#REF!"}]
[null,"ID",null,null,null,null,null,null,null,null,null,null,null,null,null,"Drift oplysninger "]
[null,"Funktionelsystem ","Teknisk system ","Komponent ","komponent nr","ID nr. ","kunde ID","Rum nummer","Etage","Betegnelse ","Producent ","Leverandør","Type","Størrelse","Type nr. ","Flow [l/s]","dP [kpa]","Effektoptag [kW]","Spænding [V]","Strøm[A]",2,3,4]
[null,null,null,null,null,{"$f":"F3","v":1},{"$f":"G3","v":2},3,4,5,{"$error":"#REF!"},{"$error":"#REF!"},{"$error":"#REF!"},{"$error":"#REF!"},{"$error":"#REF!"},{"$error":"#REF!"},{"$error":"#REF!"},{"$error":"#REF!"},{"$error":"#REF!"},{"$error":"#REF!"}]
[null,{"$f":"IF(D7=\"\",\"\",$C$1)","v":"H01"},{"$f":"IF(D7=\"\",\"\",$D$1)","v":"HC07"},"QMA","01",{"$f":"IF(D7=\"\",\"\",CONCATENATE(\"=\",B7,\":\",C7,\":\",D7,E7))","v":"=H01:HC07:QMA01"},null,null,null,{"$f":"IF(D7=\"\",\"\",VLOOKUP(D7,#REF!,2,FALSE))","v":{"$error":"#REF!"}},null,"VIRA","KVLE_P","DN150","KVLE-P_DN150"]
[null,{"$f":"IF(D8=\"\",\"\",$C$1)","v":"H01"},{"$f":"IF(D8=\"\",\"\",$D$1)","v":"HC07"},"RMB","01",{"$f":"IF(D8=\"\",\"\",CONCATENATE(\"=\",B8,\":\",C8,\":\",D8,E8))","v":"=H01:HC07:RMB01"},null,null,null,{"$f":"IF(D8=\"\",\"\",VLOOKUP(D8,#REF!,2,FALSE))","v":{"$error":"#REF!"}},null,"Broen","Ballorex Venturi","DN150",406942118]
[null,"H01","HC07","RCL","01","=H01:HC07:RCL01",null,null,null,{"$f":"IF(D9=\"\",\"\",VLOOKUP(D9,#REF!,2,FALSE))","v":{"$error":"#REF!"}},null,"VIRA","LK_C","DN150","LK_C_DN150"]
[null,"H01","HC07","RCL","02","=H01:HC07:RCL02",null,null,null,{"$f":"IF(D10=\"\",\"\",VLOOKUP(D10,#REF!,2,FALSE))","v":{"$error":"#REF!"}},null,"VIRA","LK_C","DN150","LK_C_DN150"]
[null,"H01","HC07","QMA","100","=H01:HC07:QMA100",null,null,null,{"$f":"IF(D11=\"\",\"\",VLOOKUP(D11,#REF!,2,FALSE))","v":{"$error":"#REF!"}},null,"Sanistål","Cim6 N/N","1/2\"",889352]
[null,"H01","HC07","QMA","101","=H01:HC07:QMA101",null,null,null,{"$f":"IF(D12=\"\",\"\",VLOOKUP(D12,#REF!,2,FALSE))","v":{"$error":"#REF!"}},null,"Sanistål","Cim6 N/N","1/2\"",889352]
[null,"H01","HC07","XLG","500","=H01:HC07:XLG500",null,null,null,{"$f":"IF(D13=\"\",\"\",VLOOKUP(D13,#REF!,2,FALSE))","v":{"$error":"#REF!"}},null,"Vira","ST","1/2\"","ST 1/2\""]
[null,"H01","HC07","XLG","501","=H01:HC07:XLG501",null,null,null,{"$f":"IF(D14=\"\",\"\",VLOOKUP(D14,#REF!,2,FALSE))","v":{"$error":"#REF!"}},null,"Vira","ST","1/2\"","ST 1/2\""]
[null,"","",null,null,"",null,null,null,{"$f":"IF(D15=\"\",\"\",VLOOKUP(D15,#REF!,2,FALSE))","v":""}]
[null,"","",null,null,"",null,null,null,{"$f":"IF(D16=\"\",\"\",VLOOKUP(D16,#REF!,2,FALSE))","v":""}]
[null,"","",null,null,"",null,null,null,{"$f":"IF(D17=\"\",\"\",VLOOKUP(D17,#REF!,2,FALSE))","v":""}]
[null,"","",null,null,"",null,null,null,{"$f":"IF(D18=\"\",\"\",VLOOKUP(D18,#REF!,2,FALSE))","v":""}]
[null,"","",null,null,"",null,null,null,{"$f":"IF(D19=\"\",\"\",VLOOKUP(D19,#REF!,2,FALSE))","v":""}]
[null,"","",null,null,"",null,null,null,{"$f":"IF(D20=\"\",\"\",VLOOKUP(D20,#REF!,2,FALSE))","v":""}]
[null,"","",null,null,"",null,null,null,{"$f":"IF(D21=\"\",\"\",VLOOKUP(D21,#REF!,2,FALSE))","v":""}]
[null,"","",null,null,"",null,null,null,{"$f":"IF(D22=\"\",\"\",VLOOKUP(D22,#REF!,2,FALSE))","v":""}]
[null,"","",null,null,"",null,null,null,{"$f":"IF(D23=\"\",\"\",VLOOKUP(D23,#REF!,2,FALSE))","v":""}]
[null,"","",null,null,"",null,null,null,{"$f":"IF(D24=\"\",\"\",VLOOKUP(D24,#REF!,2,FALSE))","v":""}]
[null,"","",null,null,"",null,null,null,{"$f":"IF(D25=\"\",\"\",VLOOKUP(D25,#REF!,2,FALSE))","v":""}]
[null,"","",null,null,"",null,null,null,{"$f":"IF(D26=\"\",\"\",VLOOKUP(D26,#REF!,2,FALSE))","v":""}]
[null,"","",null,null,"",null,null,null,{"$f":"IF(D27=\"\",\"\",VLOOKUP(D27,#REF!,2,FALSE))","v":""}]
[null,"","",null,null,"",null,null,null,{"$f":"IF(D28=\"\",\"\",VLOOKUP(D28,#REF!,2,FALSE))","v":""}]
[null,"","",null,null,"",null,null,null,{"$f":"IF(D29=\"\",\"\",VLOOKUP(D29,#REF!,2,FALSE))","v":""}]
[null,"","",null,null,"",null,null,null,{"$f":"IF(D30=\"\",\"\",VLOOKUP(D30,#REF!,2,FALSE))","v":""}]
[null,"","",null,null,"",null,null,null,{"$f":"IF(D31=\"\",\"\",VLOOKUP(D31,#REF!,2,FALSE))","v":""}]
[null,"","",null,null,"",null,null,null,{"$f":"IF(D32=\"\",\"\",VLOOKUP(D32,#REF!,2,FALSE))","v":""}]
[null,"","",null,null,"",null,null,null,{"$f":"IF(D33=\"\",\"\",VLOOKUP(D33,#REF!,2,FALSE))","v":""}]
[null,"","",null,null,"",null,null,null,{"$f":"IF(D34=\"\",\"\",VLOOKUP(D34,#REF!,2,FALSE))","v":""}]
[null,"","",null,null,"",null,null,null,{"$f":"IF(D35=\"\",\"\",VLOOKUP(D35,#REF!,2,FALSE))","v":""}]
[null,"","",null,null,"",null,null,null,{"$f":"IF(D36=\"\",\"\",VLOOKUP(D36,#REF!,2,FALSE))","v":""}]
[null,"","",null,null,"",null,null,null,{"$f":"IF(D37=\"\",\"\",VLOOKUP(D37,#REF!,2,FALSE))","v":""}]
[null,"","",null,null,"",null,null,null,{"$f":"IF(D38=\"\",\"\",VLOOKUP(D38,#REF!,2,FALSE))","v":""}]
[null,"","",null,null,"",null,null,null,{"$f":"IF(D39=\"\",\"\",VLOOKUP(D39,#REF!,2,FALSE))","v":""}]
[null,"","",null,null,"",null,null,null,{"$f":"IF(D40=\"\",\"\",VLOOKUP(D40,#REF!,2,FALSE))","v":""}]
[null,"","",null,null,"",null,null,null,{"$f":"IF(D41=\"\",\"\",VLOOKUP(D41,#REF!,2,FALSE))","v":""}]
[null,"","",null,null,"",null,null,null,{"$f":"IF(D42=\"\",\"\",VLOOKUP(D42,#REF!,2,FALSE))","v":""}]
[null,"","",null,null,"",null,null,null,{"$f":"IF(D43=\"\",\"\",VLOOKUP(D43,#REF!,2,FALSE))","v":""}]
[null,"","",null,null,"",null,null,null,{"$f":"IF(D44=\"\",\"\",VLOOKUP(D44,#REF!,2,FALSE))","v":""}]
[null,"","",null,null,"",null,null,null,{"$f":"IF(D45=\"\",\"\",VLOOKUP(D45,#REF!,2,FALSE))","v":""}]
[null,"","",null,null,"",null,null,null,{"$f":"IF(D46=\"\",\"\",VLOOKUP(D46,#REF!,2,FALSE))","v":""}]
[null,"","",null,null,"",null,null,null,{"$f":"IF(D47=\"\",\"\",VLOOKUP(D47,#REF!,2,FALSE))","v":""}]
[null,"","",null,null,"",null,null,null,{"$f":"IF(D48=\"\",\"\",VLOOKUP(D48,#REF!,2,FALSE))","v":""}]
[null,"","",null,null,"",null,null,null,{"$f":"IF(D49=\"\",\"\",VLOOKUP(D49,#REF!,2,FALSE))","v":""}]
[null,"","",null,null,"",null,null,null,{"$f":"IF(D50=\"\",\"\",VLOOKUP(D50,#REF!,2,FALSE))","v":""}]
[null,"","",null,null,"",null,null,null,{"$f":"IF(D51=\"\",\"\",VLOOKUP(D51,#REF!,2,FALSE))","v":""}]
[null,"","",null,null,"",null,null,null,{"$f":"IF(D52=\"\",\"\",VLOOKUP(D52,#REF!,2,FALSE))","v":""}]
[null,"","",null,null,"",null,null,null,{"$f":"IF(D53=\"\",\"\",VLOOKUP(D53,#REF!,2,FALSE))","v":""}]
[null,"","",null,null,"",null,null,null,{"$f":"IF(D54=\"\",\"\",VLOOKUP(D54,#REF!,2,FALSE))","v":""}]
[null,"","",null,null,"",null,null,null,{"$f":"IF(D55=\"\",\"\",VLOOKUP(D55,#REF!,2,FALSE))","v":""}]
[null,"","",null,null,"",null,null,null,{"$f":"IF(D56=\"\",\"\",VLOOKUP(D56,#REF!,2,FALSE))","v":""}]
[null,"","",null,null,"",null,null,null,{"$f":"IF(D57=\"\",\"\",VLOOKUP(D57,#REF!,2,FALSE))","v":""}]
[null,"","",null,null,"",null,null,null,{"$f":"IF(D58=\"\",\"\",VLOOKUP(D58,#REF!,2,FALSE))","v":""}]
[null,"","",null,null,"",null,null,null,{"$f":"IF(D59=\"\",\"\",VLOOKUP(D59,#REF!,2,FALSE))","v":""}]
[null,"","",null,null,"",null,null,null,{"$f":"IF(D60=\"\",\"\",VLOOKUP(D60,#REF!,2,FALSE))","v":""}]
[null,"","",null,null,"",null,null,null,{"$f":"IF(D61=\"\",\"\",VLOOKUP(D61,#REF!,2,FALSE))","v":""}]
[null,"","",null,null,"",null,null,null,{"$f":"IF(D62=\"\",\"\",VLOOKUP(D62,#REF!,2,FALSE))","v":""}]
[null,"","",null,null,"",null,null,null,{"$f":"IF(D63=\"\",\"\",VLOOKUP(D63,#REF!,2,FALSE))","v":""}]
[null,"","",null,null,"",null,null,null,{"$f":"IF(D64=\"\",\"\",VLOOKUP(D64,#REF!,2,FALSE))","v":""}]
[null,"","",null,null,"",null,null,null,{"$f":"IF(D65=\"\",\"\",VLOOKUP(D65,#REF!,2,FALSE))","v":""}]
[null,"","",null,null,"",null,null,null,{"$f":"IF(D66=\"\",\"\",VLOOKUP(D66,#REF!,2,FALSE))","v":""}]
[null,"","",null,null,"",null,null,null,{"$f":"IF(D67=\"\",\"\",VLOOKUP(D67,#REF!,2,FALSE))","v":""}]
[null,"","",null,null,"",null,null,null,{"$f":"IF(D68=\"\",\"\",VLOOKUP(D68,#REF!,2,FALSE))","v":""}]
[null,"","",null,null,"",null,null,null,{"$f":"IF(D69=\"\",\"\",VLOOKUP(D69,#REF!,2,FALSE))","v":""}]
[null,"","",null,null,"",null,null,null,{"$f":"IF(D70=\"\",\"\",VLOOKUP(D70,#REF!,2,FALSE))","v":""}]
[null,"","",null,null,"",null,null,null,{"$f":"IF(D71=\"\",\"\",VLOOKUP(D71,#REF!,2,FALSE))","v":""}]
[null,{"$f":"IF(D72=\"\",\"\",$C$1)","v":""},{"$f":"IF(D72=\"\",\"\",$D$1)","v":""},null,null,{"$f":"IF(D72=\"\",\"\",CONCATENATE(\"=\",B72,\":\",C72,\":\",D72,E72))","v":""},null,null,null,{"$f":"IF(D72=\"\",\"\",VLOOKUP(D72,#REF!,2,FALSE))","v":""}]
[null,"","",null,null,"",null,null,null,{"$f":"IF(D73=\"\",\"\",VLOOKUP(D73,#REF!,2,FALSE))","v":""}]
[null,"","",null,null,"",null,null,null,{"$f":"IF(D74=\"\",\"\",VLOOKUP(D74,#REF!,2,FALSE))","v":""}]
[null,"","",null,null,"",null,null,null,{"$f":"IF(D75=\"\",\"\",VLOOKUP(D75,#REF!,2,FALSE))","v":""}]
[null,"","",null,null,"",null,null,null,{"$f":"IF(D76=\"\",\"\",VLOOKUP(D76,#REF!,2,FALSE))","v":""}]
[null,"","",null,null,"",null,null,null,{"$f":"IF(D77=\"\",\"\",VLOOKUP(D77,#REF!,2,FALSE))","v":""}]
[null,"","",null,null,"",null,null,null,{"$f":"IF(D78=\"\",\"\",VLOOKUP(D78,#REF!,2,FALSE))","v":""}]
[null,"","",null,null,"",null,null,null,{"$f":"IF(D79=\"\",\"\",VLOOKUP(D79,#REF!,2,FALSE))","v":""}]
[null,"","",null,null,"",null,null,null,{"$f":"IF(D80=\"\",\"\",VLOOKUP(D80,#REF!,2,FALSE))","v":""}]
[null,"","",null,null,"",null,null,null,{"$f":"IF(D81=\"\",\"\",VLOOKUP(D81,#REF!,2,FALSE))","v":""}]
[null,"","",null,null,"",null,null,null,{"$f":"IF(D82=\"\",\"\",VLOOKUP(D82,#REF!,2,FALSE))","v":""}]
[null,"","",null,null,"",null,null,null,{"$f":"IF(D83=\"\",\"\",VLOOKUP(D83,#REF!,2,FALSE))","v":""}]
[null,"","",null,null,"",null,null,null,{"$f":"IF(D84=\"\",\"\",VLOOKUP(D84,#REF!,2,FALSE))","v":""}]
[null,"","",null,null,"",null,null,null,{"$f":"IF(D85=\"\",\"\",VLOOKUP(D85,#REF!,2,FALSE))","v":""}]
[null,"","",null,null,"",null,null,null,{"$f":"IF(D86=\"\",\"\",VLOOKUP(D86,#REF!,2,FALSE))","v":""}]
[null,"","",null,null,"",null,null,null,{"$f":"IF(D87=\"\",\"\",VLOOKUP(D87,#REF!,2,FALSE))","v":""}]
[null,"","",null,null,"",null,null,null,{"$f":"IF(D88=\"\",\"\",VLOOKUP(D88,#REF!,2,FALSE))","v":""}]
[null,"","",null,null,"",null,null,null,{"$f":"IF(D89=\"\",\"\",VLOOKUP(D89,#REF!,2,FALSE))","v":""}]
[null,"","",null,null,"",null,null,null,{"$f":"IF(D90=\"\",\"\",VLOOKUP(D90,#REF!,2,FALSE))","v":""}]
[null,"","",null,null,"",null,null,null,{"$f":"IF(D91=\"\",\"\",VLOOKUP(D91,#REF!,2,FALSE))","v":""}]
[null,"","",null,null,"",null,null,null,{"$f":"IF(D92=\"\",\"\",VLOOKUP(D92,#REF!,2,FALSE))","v":""}]
[null,"","",null,null,"",null,null,null,{"$f":"IF(D93=\"\",\"\",VLOOKUP(D93,#REF!,2,FALSE))","v":""}]
[null,"","",null,null,"",null,null,null,{"$f":"IF(D94=\"\",\"\",VLOOKUP(D94,#REF!,2,FALSE))","v":""}]
[null,"","",null,null,"",null,null,null,{"$f":"IF(D95=\"\",\"\",VLOOKUP(D95,#REF!,2,FALSE))","v":""}]
[null,"","",null,null,"",null,null,null,{"$f":"IF(D96=\"\",\"\",VLOOKUP(D96,#REF!,2,FALSE))","v":""}]
[null,"","",null,null,"",null,null,null,{"$f":"IF(D97=\"\",\"\",VLOOKUP(D97,#REF!,2,FALSE))","v":""}]
[null,"","",null,null,"",null,null,null,{"$f":"IF(D98=\"\",\"\",VLOOKUP(D98,#REF!,2,FALSE))","v":""}]
[null,"","",null,null,"",null,null,null,{"$f":"IF(D99=\"\",\"\",VLOOKUP(D99,#REF!,2,FALSE))","v":""}]
[null,"","",null,null,"",null,null,null,{"$f":"IF(D100=\"\",\"\",VLOOKUP(D100,#REF!,2,FALSE))","v":""}]
[null,"","",null,null,"",null,null,null,{"$f":"IF(D101=\"\",\"\",VLOOKUP(D101,#REF!,2,FALSE))","v":""}]
[null,"","",null,null,"",null,null,null,{"$f":"IF(D102=\"\",\"\",VLOOKUP(D102,#REF!,2,FALSE))","v":""}]
[null,"","",null,null,"",null,null,null,{"$f":"IF(D103=\"\",\"\",VLOOKUP(D103,#REF!,2,FALSE))","v":""}]
[null,"","",null,null,"",null,null,null,{"$f":"IF(D104=\"\",\"\",VLOOKUP(D104,#REF!,2,FALSE))","v":""}]
[null,"","",null,null,"",null,null,null,{"$f":"IF(D105=\"\",\"\",VLOOKUP(D105,#REF!,2,FALSE))","v":""}]
[null,"","",null,null,"",null,null,null,{"$f":"IF(D106=\"\",\"\",VLOOKUP(D106,#REF!,2,FALSE))","v":""}]
[null,"  -----Ark slutter her-----Ark slutter her-----Ark slutter her-----Ark slutter her-----Ark slutter her-----Ark slutter her-----Ark slutter her-----Ark slutter her-----Ark slutter her-----Ark slutter her-----Ark slutter her-----Ark slutter her-----Ark slutter her-----Ark slutter her-----Ark slutter her-----Ark slutter her-----Ark slutter her-----Ark slutter her-----Ark slutter her-----Ark slutter her-----Ark slutter her"]

{"sheet":"H01 HC08","index":2,"n_rows":107,"n_cols":23,"rows_kept":107,"cut":false,"hidden":false,"merged":[[106,1,106,19],[0,6,0,8]]}
[null,"Sektion ",{"$f":"LEFT(F1,3)","v":"H01"},{"$f":"RIGHT(F1,4)","v":"HC08"},null,{"$f":"MID(CELL(\"filnavn\",A1),FIND(\"]\",CELL(\"filnavn\",A1))+1,255)","v":"H01 HC08"},"Navn ændres ved at omdøbe arket"]
[]
[null,null,null,null,null,1,{"$f":"+F3+1","v":2},{"$f":"+G3+1","v":3},4,5,{"$f":"+#REF!+1","v":{"$error":"#REF!"}},{"$error":"#REF!"},{"$error":"#REF!"},{"$error":"#REF!"},{"$error":"#REF!"},{"$error":"#REF!"},{"$error":"#REF!"},{"$error":"#REF!"},{"$error":"#REF!"},{"$error":"#REF!"}]
[null,"ID",null,null,null,null,null,null,null,null,null,null,null,null,null,"Drift oplysninger "]
[null,"Funktionelsystem ","Teknisk system ","Komponent ","komponent nr","ID nr. ","kunde ID","Rum nummer","Etage","Betegnelse ","Producent ","Leverandør","Type","Størrelse","Type nr. ","Flow [l/s]","dP [kpa]","Effektoptag [kW]","Spænding [V]","Strøm[A]",2,3,4]
[null,null,null,null,null,{"$f":"F3","v":1},{"$f":"G3","v":2},3,4,5,{"$error":"#REF!"},{"$error":"#REF!"},{"$error":"#REF!"},{"$error":"#REF!"},{"$error":"#REF!"},{"$error":"#REF!"},{"$error":"#REF!"},{"$error":"#REF!"},{"$error":"#REF!"},{"$error":"#REF!"}]
[null,{"$f":"IF(D7=\"\",\"\",$C$1)","v":"H01"},{"$f":"IF(D7=\"\",\"\",$D$1)","v":"HC08"},"QMA","01",{"$f":"IF(D7=\"\",\"\",CONCATENATE(\"=\",B7,\":\",C7,\":\",D7,E7))","v":"=H01:HC08:QMA01"},null,null,null,{"$f":"IF(D7=\"\",\"\",VLOOKUP(D7,#REF!,2,FALSE))","v":{"$error":"#REF!"}},null,"VIRA","KVLE_P","DN150","KVLE-P_DN150"]
[null,{"$f":"IF(D8=\"\",\"\",$C$1)","v":"H01"},{"$f":"IF(D8=\"\",\"\",$D$1)","v":"HC08"},"QMA","02",{"$f":"IF(D8=\"\",\"\",CONCATENATE(\"=\",B8,\":\",C8,\":\",D8,E8))","v":"=H01:HC08:QMA02"},null,null,null,{"$f":"IF(D8=\"\",\"\",VLOOKUP(D8,#REF!,2,FALSE))","v":{"$error":"#REF!"}},null,"VIRA","KVLE_P","DN150","KVLE-P_DN150"]
[null,"H01","HC08","RMB","01","=H01:HC08:RMB01",null,null,null,{"$f":"IF(D9=\"\",\"\",VLOOKUP(D9,#REF!,2,FALSE))","v":{"$error":"#REF!"}},null,"Broen","Ballorex Venturi","DN150",406942118]
[null,"H01","HC08","RMB","02","=H01:HC08:RMB02",null,null,null,{"$f":"IF(D10=\"\",\"\",VLOOKUP(D10,#REF!,2,FALSE))","v":{"$error":"#REF!"}},null,"Broen","Ballorex Venturi","DN150",406942118]
[null,"H01","HC08","GPA","01","=H01:HC08:GPA01",null,null,null,{"$f":"IF(D11=\"\",\"\",VLOOKUP(D11,#REF!,2,FALSE))","v":{"$error":"#REF!"}}]
[null,"H01","HC08","QNA","01","=H01:HC08:QNA01",null,null,null,{"$f":"IF(D12=\"\",\"\",VLOOKUP(D12,#REF!,2,FALSE))","v":{"$error":"#REF!"}}]
[null,"H01","HC08","RMA","01","=H01:HC08:RMA01",null,null,null,{"$f":"IF(D13=\"\",\"\",VLOOKUP(D13,#REF!,2,FALSE))","v":{"$error":"#REF!"}},null,"VIRA","WDCV_D","DN150","WDCV-D_DN150"]
[null,"","",null,null,"",null,null,null,{"$f":"IF(D14=\"\",\"\",VLOOKUP(D14,#REF!,2,FALSE))","v":""}]
[null,"","",null,null,"",null,null,null,{"$f":"IF(D15=\"\",\"\",VLOOKUP(D15,#REF!,2,FALSE))","v":""}]
[null,"","",null,null,"",null,null,null,{"$f":"IF(D16=\"\",\"\",VLOOKUP(D16,#REF!,2,FALSE))","v":""}]
[null,"","",null,null,"",null,null,null,{"$f":"IF(D17=\"\",\"\",VLOOKUP(D17,#REF!,2,FALSE))","v":""}]
[null,"","",null,null,"",null,null,null,{"$f":"IF(D18=\"\",\"\",VLOOKUP(D18,#REF!,2,FALSE))","v":""}]
[null,"","",null,null,"",null,null,null,{"$f":"IF(D19=\"\",\"\",VLOOKUP(D19,#REF!,2,FALSE))","v":""}]
[null,"","",null,null,"",null,null,null,{"$f":"IF(D20=\"\",\"\",VLOOKUP(D20,#REF!,2,FALSE))","v":""}]
[null,"","",null,null,"",null,null,null,{"$f":"IF(D21=\"\",\"\",VLOOKUP(D21,#REF!,2,FALSE))","v":""}]
[null,"","",null,null,"",null,null,null,{"$f":"IF(D22=\"\",\"\",VLOOKUP(D22,#REF!,2,FALSE))","v":""}]
[null,"","",null,null,"",null,null,null,{"$f":"IF(D23=\"\",\"\",VLOOKUP(D23,#REF!,2,FALSE))","v":""}]
[null,"","",null,null,"",null,null,null,{"$f":"IF(D24=\"\",\"\",VLOOKUP(D24,#REF!,2,FALSE))","v":""}]
[null,"","",null,null,"",null,null,null,{"$f":"IF(D25=\"\",\"\",VLOOKUP(D25,#REF!,2,FALSE))","v":""}]
[null,"","",null,null,"",null,null,null,{"$f":"IF(D26=\"\",\"\",VLOOKUP(D26,#REF!,2,FALSE))","v":""}]
[null,"","",null,null,"",null,null,null,{"$f":"IF(D27=\"\",\"\",VLOOKUP(D27,#REF!,2,FALSE))","v":""}]
[null,"","",null,null,"",null,null,null,{"$f":"IF(D28=\"\",\"\",VLOOKUP(D28,#REF!,2,FALSE))","v":""}]
[null,"","",null,null,"",null,null,null,{"$f":"IF(D29=\"\",\"\",VLOOKUP(D29,#REF!,2,FALSE))","v":""}]
[null,"","",null,null,"",null,null,null,{"$f":"IF(D30=\"\",\"\",VLOOKUP(D30,#REF!,2,FALSE))","v":""}]
[null,"","",null,null,"",null,null,null,{"$f":"IF(D31=\"\",\"\",VLOOKUP(D31,#REF!,2,FALSE))","v":""}]
[null,"","",null,null,"",null,null,null,{"$f":"IF(D32=\"\",\"\",VLOOKUP(D32,#REF!,2,FALSE))","v":""}]
[null,"","",null,null,"",null,null,null,{"$f":"IF(D33=\"\",\"\",VLOOKUP(D33,#REF!,2,FALSE))","v":""}]
[null,"","",null,null,"",null,null,null,{"$f":"IF(D34=\"\",\"\",VLOOKUP(D34,#REF!,2,FALSE))","v":""}]
[null,"","",null,null,"",null,null,null,{"$f":"IF(D35=\"\",\"\",VLOOKUP(D35,#REF!,2,FALSE))","v":""}]
[null,"","",null,null,"",null,null,null,{"$f":"IF(D36=\"\",\"\",VLOOKUP(D36,#REF!,2,FALSE))","v":""}]
[null,"","",null,null,"",null,null,null,{"$f":"IF(D37=\"\",\"\",VLOOKUP(D37,#REF!,2,FALSE))","v":""}]
[null,"","",null,null,"",null,null,null,{"$f":"IF(D38=\"\",\"\",VLOOKUP(D38,#REF!,2,FALSE))","v":""}]
[null,"","",null,null,"",null,null,null,{"$f":"IF(D39=\"\",\"\",VLOOKUP(D39,#REF!,2,FALSE))","v":""}]
[null,"","",null,null,"",null,null,null,{"$f":"IF(D40=\"\",\"\",VLOOKUP(D40,#REF!,2,FALSE))","v":""}]
[null,"","",null,null,"",null,null,null,{"$f":"IF(D41=\"\",\"\",VLOOKUP(D41,#REF!,2,FALSE))","v":""}]
[null,"","",null,null,"",null,null,null,{"$f":"IF(D42=\"\",\"\",VLOOKUP(D42,#REF!,2,FALSE))","v":""}]
[null,"","",null,null,"",null,null,null,{"$f":"IF(D43=\"\",\"\",VLOOKUP(D43,#REF!,2,FALSE))","v":""}]
[null,"","",null,null,"",null,null,null,{"$f":"IF(D44=\"\",\"\",VLOOKUP(D44,#REF!,2,FALSE))","v":""}]
[null,"","",null,null,"",null,null,null,{"$f":"IF(D45=\"\",\"\",VLOOKUP(D45,#REF!,2,FALSE))","v":""}]
[null,"","",null,null,"",null,null,null,{"$f":"IF(D46=\"\",\"\",VLOOKUP(D46,#REF!,2,FALSE))","v":""}]
[null,"","",null,null,"",null,null,null,{"$f":"IF(D47=\"\",\"\",VLOOKUP(D47,#REF!,2,FALSE))","v":""}]
[null,"","",null,null,"",null,null,null,{"$f":"IF(D48=\"\",\"\",VLOOKUP(D48,#REF!,2,FALSE))","v":""}]
[null,"","",null,null,"",null,null,null,{"$f":"IF(D49=\"\",\"\",VLOOKUP(D49,#REF!,2,FALSE))","v":""}]
[null,"","",null,null,"",null,null,null,{"$f":"IF(D50=\"\",\"\",VLOOKUP(D50,#REF!,2,FALSE))","v":""}]
[null,"","",null,null,"",null,null,null,{"$f":"IF(D51=\"\",\"\",VLOOKUP(D51,#REF!,2,FALSE))","v":""}]
[null,"","",null,null,"",null,null,null,{"$f":"IF(D52=\"\",\"\",VLOOKUP(D52,#REF!,2,FALSE))","v":""}]
[null,"","",null,null,"",null,null,null,{"$f":"IF(D53=\"\",\"\",VLOOKUP(D53,#REF!,2,FALSE))","v":""}]
[null,"","",null,null,"",null,null,null,{"$f":"IF(D54=\"\",\"\",VLOOKUP(D54,#REF!,2,FALSE))","v":""}]
[null,"","",null,null,"",null,null,null,{"$f":"IF(D55=\"\",\"\",VLOOKUP(D55,#REF!,2,FALSE))","v":""}]
[null,"","",null,null,"",null,null,null,{"$f":"IF(D56=\"\",\"\",VLOOKUP(D56,#REF!,2,FALSE))","v":""}]
[null,"","",null,null,"",null,null,null,{"$f":"IF(D57=\"\",\"\",VLOOKUP(D57,#REF!,2,FALSE))","v":""}]
[null,"","",null,null,"",null,null,null,{"$f":"IF(D58=\"\",\"\",VLOOKUP(D58,#REF!,2,FALSE))","v":""}]
[null,"","",null,null,"",null,null,null,{"$f":"IF(D59=\"\",\"\",VLOOKUP(D59,#REF!,2,FALSE))","v":""}]
[null,"","",null,null,"",null,null,null,{"$f":"IF(D60=\"\",\"\",VLOOKUP(D60,#REF!,2,FALSE))","v":""}]
[null,"","",null,null,"",null,null,null,{"$f":"IF(D61=\"\",\"\",VLOOKUP(D61,#REF!,2,FALSE))","v":""}]
[null,"","",null,null,"",null,null,null,{"$f":"IF(D62=\"\",\"\",VLOOKUP(D62,#REF!,2,FALSE))","v":""}]
[null,"","",null,null,"",null,null,null,{"$f":"IF(D63=\"\",\"\",VLOOKUP(D63,#REF!,2,FALSE))","v":""}]
[null,"","",null,null,"",null,null,null,{"$f":"IF(D64=\"\",\"\",VLOOKUP(D64,#REF!,2,FALSE))","v":""}]
[null,"","",null,null,"",null,null,null,{"$f":"IF(D65=\"\",\"\",VLOOKUP(D65,#REF!,2,FALSE))","v":""}]
[null,"","",null,null,"",null,null,null,{"$f":"IF(D66=\"\",\"\",VLOOKUP(D66,#REF!,2,FALSE))","v":""}]
[null,"","",null,null,"",null,null,null,{"$f":"IF(D67=\"\",\"\",VLOOKUP(D67,#REF!,2,FALSE))","v":""}]
[null,"","",null,null,"",null,null,null,{"$f":"IF(D68=\"\",\"\",VLOOKUP(D68,#REF!,2,FALSE))","v":""}]
[null,"","",null,null,"",null,null,null,{"$f":"IF(D69=\"\",\"\",VLOOKUP(D69,#REF!,2,FALSE))","v":""}]
[null,"","",null,null,"",null,null,null,{"$f":"IF(D70=\"\",\"\",VLOOKUP(D70,#REF!,2,FALSE))","v":""}]
[null,"","",null,null,"",null,null,null,{"$f":"IF(D71=\"\",\"\",VLOOKUP(D71,#REF!,2,FALSE))","v":""}]
[null,{"$f":"IF(D72=\"\",\"\",$C$1)","v":""},{"$f":"IF(D72=\"\",\"\",$D$1)","v":""},null,null,{"$f":"IF(D72=\"\",\"\",CONCATENATE(\"=\",B72,\":\",C72,\":\",D72,E72))","v":""},null,null,null,{"$f":"IF(D72=\"\",\"\",VLOOKUP(D72,#REF!,2,FALSE))","v":""}]
[null,"","",null,null,"",null,null,null,{"$f":"IF(D73=\"\",\"\",VLOOKUP(D73,#REF!,2,FALSE))","v":""}]
[null,"","",null,null,"",null,null,null,{"$f":"IF(D74=\"\",\"\",VLOOKUP(D74,#REF!,2,FALSE))","v":""}]
[null,"","",null,null,"",null,null,null,{"$f":"IF(D75=\"\",\"\",VLOOKUP(D75,#REF!,2,FALSE))","v":""}]
[null,"","",null,null,"",null,null,null,{"$f":"IF(D76=\"\",\"\",VLOOKUP(D76,#REF!,2,FALSE))","v":""}]
[null,"","",null,null,"",null,null,null,{"$f":"IF(D77=\"\",\"\",VLOOKUP(D77,#REF!,2,FALSE))","v":""}]
[null,"","",null,null,"",null,null,null,{"$f":"IF(D78=\"\",\"\",VLOOKUP(D78,#REF!,2,FALSE))","v":""}]
[null,"","",null,null,"",null,null,null,{"$f":"IF(D79=\"\",\"\",VLOOKUP(D79,#REF!,2,FALSE))","v":""}]
[null,"","",null,null,"",null,null,null,{"$f":"IF(D80=\"\",\"\",VLOOKUP(D80,#REF!,2,FALSE))","v":""}]
[null,"","",null,null,"",null,null,null,{"$f":"IF(D81=\"\",\"\",VLOOKUP(D81,#REF!,2,FALSE))","v":""}]
[null,"","",null,null,"",null,null,null,{"$f":"IF(D82=\"\",\"\",VLOOKUP(D82,#REF!,2,FALSE))","v":""}]
[null,"","",null,null,"",null,null,null,{"$f":"IF(D83=\"\",\"\",VLOOKUP(D83,#REF!,2,FALSE))","v":""}]
[null,"","",null,null,"",null,null,null,{"$f":"IF(D84=\"\",\"\",VLOOKUP(D84,#REF!,2,FALSE))","v":""}]
[null,"","",null,null,"",null,null,null,{"$f":"IF(D85=\"\",\"\",VLOOKUP(D85,#REF!,2,FALSE))","v":""}]
[null,"","",null,null,"",null,null,null,{"$f":"IF(D86=\"\",\"\",VLOOKUP(D86,#REF!,2,FALSE))","v":""}]
[null,"","",null,null,"",null,null,null,{"$f":"IF(D87=\"\",\"\",VLOOKUP(D87,#REF!,2,FALSE))","v":""}]
[null,"","",null,null,"",null,null,null,{"$f":"IF(D88=\"\",\"\",VLOOKUP(D88,#REF!,2,FALSE))","v":""}]
[null,"","",null,null,"",null,null,null,{"$f":"IF(D89=\"\",\"\",VLOOKUP(D89,#REF!,2,FALSE))","v":""}]
[null,"","",null,null,"",null,null,null,{"$f":"IF(D90=\"\",\"\",VLOOKUP(D90,#REF!,2,FALSE))","v":""}]
[null,"","",null,null,"",null,null,null,{"$f":"IF(D91=\"\",\"\",VLOOKUP(D91,#REF!,2,FALSE))","v":""}]
[null,"","",null,null,"",null,null,null,{"$f":"IF(D92=\"\",\"\",VLOOKUP(D92,#REF!,2,FALSE))","v":""}]
[null,"","",null,null,"",null,null,null,{"$f":"IF(D93=\"\",\"\",VLOOKUP(D93,#REF!,2,FALSE))","v":""}]
[null,"","",null,null,"",null,null,null,{"$f":"IF(D94=\"\",\"\",VLOOKUP(D94,#REF!,2,FALSE))","v":""}]
[null,"","",null,null,"",null,null,null,{"$f":"IF(D95=\"\",\"\",VLOOKUP(D95,#REF!,2,FALSE))","v":""}]
[null,"","",null,null,"",null,null,null,{"$f":"IF(D96=\"\",\"\",VLOOKUP(D96,#REF!,2,FALSE))","v":""}]
[null,"","",null,null,"",null,null,null,{"$f":"IF(D97=\"\",\"\",VLOOKUP(D97,#REF!,2,FALSE))","v":""}]
[null,"","",null,null,"",null,null,null,{"$f":"IF(D98=\"\",\"\",VLOOKUP(D98,#REF!,2,FALSE))","v":""}]
[null,"","",null,null,"",null,null,null,{"$f":"IF(D99=\"\",\"\",VLOOKUP(D99,#REF!,2,FALSE))","v":""}]
[null,"","",null,null,"",null,null,null,{"$f":"IF(D100=\"\",\"\",VLOOKUP(D100,#REF!,2,FALSE))","v":""}]
[null,"","",null,null,"",null,null,null,{"$f":"IF(D101=\"\",\"\",VLOOKUP(D101,#REF!,2,FALSE))","v":""}]
[null,"","",null,null,"",null,null,null,{"$f":"IF(D102=\"\",\"\",VLOOKUP(D102,#REF!,2,FALSE))","v":""}]
[null,"","",null,null,"",null,null,null,{"$f":"IF(D103=\"\",\"\",VLOOKUP(D103,#REF!,2,FALSE))","v":""}]
[null,"","",null,null,"",null,null,null,{"$f":"IF(D104=\"\",\"\",VLOOKUP(D104,#REF!,2,FALSE))","v":""}]
[null,"","",null,null,"",null,null,null,{"$f":"IF(D105=\"\",\"\",VLOOKUP(D105,#REF!,2,FALSE))","v":""}]
[null,"","",null,null,"",null,null,null,{"$f":"IF(D106=\"\",\"\",VLOOKUP(D106,#REF!,2,FALSE))","v":""}]
[null,"  -----Ark slutter her-----Ark slutter her-----Ark slutter her-----Ark slutter her-----Ark slutter her-----Ark slutter her-----Ark slutter her-----Ark slutter her-----Ark slutter her-----Ark slutter her-----Ark slutter her-----Ark slutter her-----Ark slutter her-----Ark slutter her-----Ark slutter her-----Ark slutter her-----Ark slutter her-----Ark slutter her-----Ark slutter her-----Ark slutter her-----Ark slutter her"]

{"sheet":"H01 HC09","index":3,"n_rows":107,"n_cols":23,"rows_kept":107,"cut":false,"hidden":false,"merged":[[106,1,106,19],[0,6,0,8]]}
[null,"Sektion ",{"$f":"LEFT(F1,3)","v":"H01"},{"$f":"RIGHT(F1,4)","v":"HC09"},null,{"$f":"MID(CELL(\"filnavn\",A1),FIND(\"]\",CELL(\"filnavn\",A1))+1,255)","v":"H01 HC09"},"Navn ændres ved at omdøbe arket"]
[]
[null,null,null,null,null,1,{"$f":"+F3+1","v":2},{"$f":"+G3+1","v":3},4,5,{"$f":"+#REF!+1","v":{"$error":"#REF!"}},{"$error":"#REF!"},{"$error":"#REF!"},{"$error":"#REF!"},{"$error":"#REF!"},{"$error":"#REF!"},{"$error":"#REF!"},{"$error":"#REF!"},{"$error":"#REF!"},{"$error":"#REF!"}]
[null,"ID",null,null,null,null,null,null,null,null,null,null,null,null,null,"Drift oplysninger "]
[null,"Funktionelsystem ","Teknisk system ","Komponent ","komponent nr","ID nr. ","kunde ID","Rum nummer","Etage","Betegnelse ","Producent ","Leverandør","Type","Størrelse","Type nr. ","Flow [l/s]","dP [kpa]","Effektoptag [kW]","Spænding [V]","Strøm[A]",2,3,4]
[null,null,null,null,null,{"$f":"F3","v":1},{"$f":"G3","v":2},3,4,5,{"$error":"#REF!"},{"$error":"#REF!"},{"$error":"#REF!"},{"$error":"#REF!"},{"$error":"#REF!"},{"$error":"#REF!"},{"$error":"#REF!"},{"$error":"#REF!"},{"$error":"#REF!"},{"$error":"#REF!"}]
[null,{"$f":"IF(D7=\"\",\"\",$C$1)","v":"H01"},{"$f":"IF(D7=\"\",\"\",$D$1)","v":"HC09"},"QMA","01",{"$f":"IF(D7=\"\",\"\",CONCATENATE(\"=\",B7,\":\",C7,\":\",D7,E7))","v":"=H01:HC09:QMA01"},null,null,null,{"$f":"IF(D7=\"\",\"\",VLOOKUP(D7,#REF!,2,FALSE))","v":{"$error":"#REF!"}},null,"VIRA","KVLE_P","DN150","KVLE-P_DN150"]
[null,{"$f":"IF(D8=\"\",\"\",$C$1)","v":"H01"},{"$f":"IF(D8=\"\",\"\",$D$1)","v":"HC09"},"QMA","02",{"$f":"IF(D8=\"\",\"\",CONCATENATE(\"=\",B8,\":\",C8,\":\",D8,E8))","v":"=H01:HC09:QMA02"},null,null,null,{"$f":"IF(D8=\"\",\"\",VLOOKUP(D8,#REF!,2,FALSE))","v":{"$error":"#REF!"}},null,"VIRA","KVLE_P","DN150","KVLE-P_DN150"]
[null,"H01","HC09","RMB","01","=H01:HC09:RMB01",null,null,null,{"$f":"IF(D9=\"\",\"\",VLOOKUP(D9,#REF!,2,FALSE))","v":{"$error":"#REF!"}},null,"Broen","Ballorex Venturi","DN150",406942118]
[null,"H01","HC09","RMB","02","=H01:HC09:RMB02",null,null,null,{"$f":"IF(D10=\"\",\"\",VLOOKUP(D10,#REF!,2,FALSE))","v":{"$error":"#REF!"}},null,"Broen","Ballorex Venturi","DN150",406942118]
[null,"H01","HC09","GPA","01","=H01:HC09:GPA01",null,null,null,{"$f":"IF(D11=\"\",\"\",VLOOKUP(D11,#REF!,2,FALSE))","v":{"$error":"#REF!"}}]
[null,"H01","HC09","QNA","01","=H01:HC09:QNA01",null,null,null,{"$f":"IF(D12=\"\",\"\",VLOOKUP(D12,#REF!,2,FALSE))","v":{"$error":"#REF!"}}]
[null,"H01","HC09","RMA","01","=H01:HC09:RMA01",null,null,null,{"$f":"IF(D13=\"\",\"\",VLOOKUP(D13,#REF!,2,FALSE))","v":{"$error":"#REF!"}},null,"VIRA","WDCV_D","DN150","WDCV-D_DN150"]
[null,"","",null,null,"",null,null,null,{"$f":"IF(D14=\"\",\"\",VLOOKUP(D14,#REF!,2,FALSE))","v":""}]
[null,"","",null,null,"",null,null,null,{"$f":"IF(D15=\"\",\"\",VLOOKUP(D15,#REF!,2,FALSE))","v":""}]
[null,"","",null,null,"",null,null,null,{"$f":"IF(D16=\"\",\"\",VLOOKUP(D16,#REF!,2,FALSE))","v":""}]
[null,"","",null,null,"",null,null,null,{"$f":"IF(D17=\"\",\"\",VLOOKUP(D17,#REF!,2,FALSE))","v":""}]
[null,"","",null,null,"",null,null,null,{"$f":"IF(D18=\"\",\"\",VLOOKUP(D18,#REF!,2,FALSE))","v":""}]
[null,"","",null,null,"",null,null,null,{"$f":"IF(D19=\"\",\"\",VLOOKUP(D19,#REF!,2,FALSE))","v":""}]
[null,"","",null,null,"",null,null,null,{"$f":"IF(D20=\"\",\"\",VLOOKUP(D20,#REF!,2,FALSE))","v":""}]
[null,"","",null,null,"",null,null,null,{"$f":"IF(D21=\"\",\"\",VLOOKUP(D21,#REF!,2,FALSE))","v":""}]
[null,"","",null,null,"",null,null,null,{"$f":"IF(D22=\"\",\"\",VLOOKUP(D22,#REF!,2,FALSE))","v":""}]
[null,"","",null,null,"",null,null,null,{"$f":"IF(D23=\"\",\"\",VLOOKUP(D23,#REF!,2,FALSE))","v":""}]
[null,"","",null,null,"",null,null,null,{"$f":"IF(D24=\"\",\"\",VLOOKUP(D24,#REF!,2,FALSE))","v":""}]
[null,"","",null,null,"",null,null,null,{"$f":"IF(D25=\"\",\"\",VLOOKUP(D25,#REF!,2,FALSE))","v":""}]
[null,"","",null,null,"",null,null,null,{"$f":"IF(D26=\"\",\"\",VLOOKUP(D26,#REF!,2,FALSE))","v":""}]
[null,"","",null,null,"",null,null,null,{"$f":"IF(D27=\"\",\"\",VLOOKUP(D27,#REF!,2,FALSE))","v":""}]
[null,"","",null,null,"",null,null,null,{"$f":"IF(D28=\"\",\"\",VLOOKUP(D28,#REF!,2,FALSE))","v":""}]
[null,"","",null,null,"",null,null,null,{"$f":"IF(D29=\"\",\"\",VLOOKUP(D29,#REF!,2,FALSE))","v":""}]
[null,"","",null,null,"",null,null,null,{"$f":"IF(D30=\"\",\"\",VLOOKUP(D30,#REF!,2,FALSE))","v":""}]
[null,"","",null,null,"",null,null,null,{"$f":"IF(D31=\"\",\"\",VLOOKUP(D31,#REF!,2,FALSE))","v":""}]
[null,"","",null,null,"",null,null,null,{"$f":"IF(D32=\"\",\"\",VLOOKUP(D32,#REF!,2,FALSE))","v":""}]
[null,"","",null,null,"",null,null,null,{"$f":"IF(D33=\"\",\"\",VLOOKUP(D33,#REF!,2,FALSE))","v":""}]
[null,"","",null,null,"",null,null,null,{"$f":"IF(D34=\"\",\"\",VLOOKUP(D34,#REF!,2,FALSE))","v":""}]
[null,"","",null,null,"",null,null,null,{"$f":"IF(D35=\"\",\"\",VLOOKUP(D35,#REF!,2,FALSE))","v":""}]
[null,"","",null,null,"",null,null,null,{"$f":"IF(D36=\"\",\"\",VLOOKUP(D36,#REF!,2,FALSE))","v":""}]
[null,"","",null,null,"",null,null,null,{"$f":"IF(D37=\"\",\"\",VLOOKUP(D37,#REF!,2,FALSE))","v":""}]
[null,"","",null,null,"",null,null,null,{"$f":"IF(D38=\"\",\"\",VLOOKUP(D38,#REF!,2,FALSE))","v":""}]
[null,"","",null,null,"",null,null,null,{"$f":"IF(D39=\"\",\"\",VLOOKUP(D39,#REF!,2,FALSE))","v":""}]
[null,"","",null,null,"",null,null,null,{"$f":"IF(D40=\"\",\"\",VLOOKUP(D40,#REF!,2,FALSE))","v":""}]
[null,"","",null,null,"",null,null,null,{"$f":"IF(D41=\"\",\"\",VLOOKUP(D41,#REF!,2,FALSE))","v":""}]
[null,"","",null,null,"",null,null,null,{"$f":"IF(D42=\"\",\"\",VLOOKUP(D42,#REF!,2,FALSE))","v":""}]
[null,"","",null,null,"",null,null,null,{"$f":"IF(D43=\"\",\"\",VLOOKUP(D43,#REF!,2,FALSE))","v":""}]
[null,"","",null,null,"",null,null,null,{"$f":"IF(D44=\"\",\"\",VLOOKUP(D44,#REF!,2,FALSE))","v":""}]
[null,"","",null,null,"",null,null,null,{"$f":"IF(D45=\"\",\"\",VLOOKUP(D45,#REF!,2,FALSE))","v":""}]
[null,"","",null,null,"",null,null,null,{"$f":"IF(D46=\"\",\"\",VLOOKUP(D46,#REF!,2,FALSE))","v":""}]
[null,"","",null,null,"",null,null,null,{"$f":"IF(D47=\"\",\"\",VLOOKUP(D47,#REF!,2,FALSE))","v":""}]
[null,"","",null,null,"",null,null,null,{"$f":"IF(D48=\"\",\"\",VLOOKUP(D48,#REF!,2,FALSE))","v":""}]
[null,"","",null,null,"",null,null,null,{"$f":"IF(D49=\"\",\"\",VLOOKUP(D49,#REF!,2,FALSE))","v":""}]
[null,"","",null,null,"",null,null,null,{"$f":"IF(D50=\"\",\"\",VLOOKUP(D50,#REF!,2,FALSE))","v":""}]
[null,"","",null,null,"",null,null,null,{"$f":"IF(D51=\"\",\"\",VLOOKUP(D51,#REF!,2,FALSE))","v":""}]
[null,"","",null,null,"",null,null,null,{"$f":"IF(D52=\"\",\"\",VLOOKUP(D52,#REF!,2,FALSE))","v":""}]
[null,"","",null,null,"",null,null,null,{"$f":"IF(D53=\"\",\"\",VLOOKUP(D53,#REF!,2,FALSE))","v":""}]
[null,"","",null,null,"",null,null,null,{"$f":"IF(D54=\"\",\"\",VLOOKUP(D54,#REF!,2,FALSE))","v":""}]
[null,"","",null,null,"",null,null,null,{"$f":"IF(D55=\"\",\"\",VLOOKUP(D55,#REF!,2,FALSE))","v":""}]
[null,"","",null,null,"",null,null,null,{"$f":"IF(D56=\"\",\"\",VLOOKUP(D56,#REF!,2,FALSE))","v":""}]
[null,"","",null,null,"",null,null,null,{"$f":"IF(D57=\"\",\"\",VLOOKUP(D57,#REF!,2,FALSE))","v":""}]
[null,"","",null,null,"",null,null,null,{"$f":"IF(D58=\"\",\"\",VLOOKUP(D58,#REF!,2,FALSE))","v":""}]
[null,"","",null,null,"",null,null,null,{"$f":"IF(D59=\"\",\"\",VLOOKUP(D59,#REF!,2,FALSE))","v":""}]
[null,"","",null,null,"",null,null,null,{"$f":"IF(D60=\"\",\"\",VLOOKUP(D60,#REF!,2,FALSE))","v":""}]
[null,"","",null,null,"",null,null,null,{"$f":"IF(D61=\"\",\"\",VLOOKUP(D61,#REF!,2,FALSE))","v":""}]
[null,"","",null,null,"",null,null,null,{"$f":"IF(D62=\"\",\"\",VLOOKUP(D62,#REF!,2,FALSE))","v":""}]
[null,"","",null,null,"",null,null,null,{"$f":"IF(D63=\"\",\"\",VLOOKUP(D63,#REF!,2,FALSE))","v":""}]
[null,"","",null,null,"",null,null,null,{"$f":"IF(D64=\"\",\"\",VLOOKUP(D64,#REF!,2,FALSE))","v":""}]
[null,"","",null,null,"",null,null,null,{"$f":"IF(D65=\"\",\"\",VLOOKUP(D65,#REF!,2,FALSE))","v":""}]
[null,"","",null,null,"",null,null,null,{"$f":"IF(D66=\"\",\"\",VLOOKUP(D66,#REF!,2,FALSE))","v":""}]
[null,"","",null,null,"",null,null,null,{"$f":"IF(D67=\"\",\"\",VLOOKUP(D67,#REF!,2,FALSE))","v":""}]
[null,"","",null,null,"",null,null,null,{"$f":"IF(D68=\"\",\"\",VLOOKUP(D68,#REF!,2,FALSE))","v":""}]
[null,"","",null,null,"",null,null,null,{"$f":"IF(D69=\"\",\"\",VLOOKUP(D69,#REF!,2,FALSE))","v":""}]
[null,"","",null,null,"",null,null,null,{"$f":"IF(D70=\"\",\"\",VLOOKUP(D70,#REF!,2,FALSE))","v":""}]
[null,"","",null,null,"",null,null,null,{"$f":"IF(D71=\"\",\"\",VLOOKUP(D71,#REF!,2,FALSE))","v":""}]
[null,{"$f":"IF(D72=\"\",\"\",$C$1)","v":""},{"$f":"IF(D72=\"\",\"\",$D$1)","v":""},null,null,{"$f":"IF(D72=\"\",\"\",CONCATENATE(\"=\",B72,\":\",C72,\":\",D72,E72))","v":""},null,null,null,{"$f":"IF(D72=\"\",\"\",VLOOKUP(D72,#REF!,2,FALSE))","v":""}]
[null,"","",null,null,"",null,null,null,{"$f":"IF(D73=\"\",\"\",VLOOKUP(D73,#REF!,2,FALSE))","v":""}]
[null,"","",null,null,"",null,null,null,{"$f":"IF(D74=\"\",\"\",VLOOKUP(D74,#REF!,2,FALSE))","v":""}]
[null,"","",null,null,"",null,null,null,{"$f":"IF(D75=\"\",\"\",VLOOKUP(D75,#REF!,2,FALSE))","v":""}]
[null,"","",null,null,"",null,null,null,{"$f":"IF(D76=\"\",\"\",VLOOKUP(D76,#REF!,2,FALSE))","v":""}]
[null,"","",null,null,"",null,null,null,{"$f":"IF(D77=\"\",\"\",VLOOKUP(D77,#REF!,2,FALSE))","v":""}]
[null,"","",null,null,"",null,null,null,{"$f":"IF(D78=\"\",\"\",VLOOKUP(D78,#REF!,2,FALSE))","v":""}]
[null,"","",null,null,"",null,null,null,{"$f":"IF(D79=\"\",\"\",VLOOKUP(D79,#REF!,2,FALSE))","v":""}]
[null,"","",null,null,"",null,null,null,{"$f":"IF(D80=\"\",\"\",VLOOKUP(D80,#REF!,2,FALSE))","v":""}]
[null,"","",null,null,"",null,null,null,{"$f":"IF(D81=\"\",\"\",VLOOKUP(D81,#REF!,2,FALSE))","v":""}]
[null,"","",null,null,"",null,null,null,{"$f":"IF(D82=\"\",\"\",VLOOKUP(D82,#REF!,2,FALSE))","v":""}]
[null,"","",null,null,"",null,null,null,{"$f":"IF(D83=\"\",\"\",VLOOKUP(D83,#REF!,2,FALSE))","v":""}]
[null,"","",null,null,"",null,null,null,{"$f":"IF(D84=\"\",\"\",VLOOKUP(D84,#REF!,2,FALSE))","v":""}]
[null,"","",null,null,"",null,null,null,{"$f":"IF(D85=\"\",\"\",VLOOKUP(D85,#REF!,2,FALSE))","v":""}]
[null,"","",null,null,"",null,null,null,{"$f":"IF(D86=\"\",\"\",VLOOKUP(D86,#REF!,2,FALSE))","v":""}]
[null,"","",null,null,"",null,null,null,{"$f":"IF(D87=\"\",\"\",VLOOKUP(D87,#REF!,2,FALSE))","v":""}]
[null,"","",null,null,"",null,null,null,{"$f":"IF(D88=\"\",\"\",VLOOKUP(D88,#REF!,2,FALSE))","v":""}]
[null,"","",null,null,"",null,null,null,{"$f":"IF(D89=\"\",\"\",VLOOKUP(D89,#REF!,2,FALSE))","v":""}]
[null,"","",null,null,"",null,null,null,{"$f":"IF(D90=\"\",\"\",VLOOKUP(D90,#REF!,2,FALSE))","v":""}]
[null,"","",null,null,"",null,null,null,{"$f":"IF(D91=\"\",\"\",VLOOKUP(D91,#REF!,2,FALSE))","v":""}]
[null,"","",null,null,"",null,null,null,{"$f":"IF(D92=\"\",\"\",VLOOKUP(D92,#REF!,2,FALSE))","v":""}]
[null,"","",null,null,"",null,null,null,{"$f":"IF(D93=\"\",\"\",VLOOKUP(D93,#REF!,2,FALSE))","v":""}]
[null,"","",null,null,"",null,null,null,{"$f":"IF(D94=\"\",\"\",VLOOKUP(D94,#REF!,2,FALSE))","v":""}]
[null,"","",null,null,"",null,null,null,{"$f":"IF(D95=\"\",\"\",VLOOKUP(D95,#REF!,2,FALSE))","v":""}]
[null,"","",null,null,"",null,null,null,{"$f":"IF(D96=\"\",\"\",VLOOKUP(D96,#REF!,2,FALSE))","v":""}]
[null,"","",null,null,"",null,null,null,{"$f":"IF(D97=\"\",\"\",VLOOKUP(D97,#REF!,2,FALSE))","v":""}]
[null,"","",null,null,"",null,null,null,{"$f":"IF(D98=\"\",\"\",VLOOKUP(D98,#REF!,2,FALSE))","v":""}]
[null,"","",null,null,"",null,null,null,{"$f":"IF(D99=\"\",\"\",VLOOKUP(D99,#REF!,2,FALSE))","v":""}]
[null,"","",null,null,"",null,null,null,{"$f":"IF(D100=\"\",\"\",VLOOKUP(D100,#REF!,2,FALSE))","v":""}]
[null,"","",null,null,"",null,null,null,{"$f":"IF(D101=\"\",\"\",VLOOKUP(D101,#REF!,2,FALSE))","v":""}]
[null,"","",null,null,"",null,null,null,{"$f":"IF(D102=\"\",\"\",VLOOKUP(D102,#REF!,2,FALSE))","v":""}]
[null,"","",null,null,"",null,null,null,{"$f":"IF(D103=\"\",\"\",VLOOKUP(D103,#REF!,2,FALSE))","v":""}]
[null,"","",null,null,"",null,null,null,{"$f":"IF(D104=\"\",\"\",VLOOKUP(D104,#REF!,2,FALSE))","v":""}]
[null,"","",null,null,"",null,null,null,{"$f":"IF(D105=\"\",\"\",VLOOKUP(D105,#REF!,2,FALSE))","v":""}]
[null,"","",null,null,"",null,null,null,{"$f":"IF(D106=\"\",\"\",VLOOKUP(D106,#REF!,2,FALSE))","v":""}]
[null,"  -----Ark slutter her-----Ark slutter her-----Ark slutter her-----Ark slutter her-----Ark slutter her-----Ark slutter her-----Ark slutter her-----Ark slutter her-----Ark slutter her-----Ark slutter her-----Ark slutter her-----Ark slutter her-----Ark slutter her-----Ark slutter her-----Ark slutter her-----Ark slutter her-----Ark slutter her-----Ark slutter her-----Ark slutter her-----Ark slutter her-----Ark slutter her"]

{"sheet":"H01 HC10","index":4,"n_rows":107,"n_cols":23,"rows_kept":107,"cut":false,"hidden":false,"merged":[[106,1,106,19],[0,6,0,8]]}
[null,"Sektion ",{"$f":"LEFT(F1,3)","v":"H01"},{"$f":"RIGHT(F1,4)","v":"HC10"},null,{"$f":"MID(CELL(\"filnavn\",A1),FIND(\"]\",CELL(\"filnavn\",A1))+1,255)","v":"H01 HC10"},"Navn ændres ved at omdøbe arket"]
[]
[null,null,null,null,null,1,{"$f":"+F3+1","v":2},{"$f":"+G3+1","v":3},4,5,{"$f":"+#REF!+1","v":{"$error":"#REF!"}},{"$error":"#REF!"},{"$error":"#REF!"},{"$error":"#REF!"},{"$error":"#REF!"},{"$error":"#REF!"},{"$error":"#REF!"},{"$error":"#REF!"},{"$error":"#REF!"},{"$error":"#REF!"}]
[null,"ID",null,null,null,null,null,null,null,null,null,null,null,null,null,"Drift oplysninger "]
[null,"Funktionelsystem ","Teknisk system ","Komponent ","komponent nr","ID nr. ","kunde ID","Rum nummer","Etage","Betegnelse ","Producent ","Leverandør","Type","Størrelse","Type nr. ","Flow [l/s]","dP [kpa]","Effektoptag [kW]","Spænding [V]","Strøm[A]",2,3,4]
[null,null,null,null,null,{"$f":"F3","v":1},{"$f":"G3","v":2},3,4,5,{"$error":"#REF!"},{"$error":"#REF!"},{"$error":"#REF!"},{"$error":"#REF!"},{"$error":"#REF!"},{"$error":"#REF!"},{"$error":"#REF!"},{"$error":"#REF!"},{"$error":"#REF!"},{"$error":"#REF!"}]
[null,{"$f":"IF(D7=\"\",\"\",$C$1)","v":"H01"},{"$f":"IF(D7=\"\",\"\",$D$1)","v":"HC10"},"QMA","01",{"$f":"IF(D7=\"\",\"\",CONCATENATE(\"=\",B7,\":\",C7,\":\",D7,E7))","v":"=H01:HC10:QMA01"},null,null,null,{"$f":"IF(D7=\"\",\"\",VLOOKUP(D7,#REF!,2,FALSE))","v":{"$error":"#REF!"}},null,"VIRA","KVLE_P","DN150","KVLE-P_DN150"]
[null,{"$f":"IF(D8=\"\",\"\",$C$1)","v":"H01"},{"$f":"IF(D8=\"\",\"\",$D$1)","v":"HC10"},"QMA","02","=H01:HC10:QMA02",null,null,null,{"$f":"IF(D8=\"\",\"\",VLOOKUP(D8,#REF!,2,FALSE))","v":{"$error":"#REF!"}},null,"VIRA","KVLE_P","DN150","KVLE-P_DN150"]
[null,"H01","HC10","RCL","01","=H01:HC10:RCL01",null,null,null,{"$f":"IF(D9=\"\",\"\",VLOOKUP(D9,#REF!,2,FALSE))","v":{"$error":"#REF!"}},null,"VIRA","LK_C","DN150","LK_C_DN150"]
[null,"H01","HC10","RCL","02","=H01:HC10:RCL02",null,null,null,{"$f":"IF(D10=\"\",\"\",VLOOKUP(D10,#REF!,2,FALSE))","v":{"$error":"#REF!"}},null,"VIRA","LK_C","DN150","LK_C_DN150"]
[null,"H01","HC10","PGD","300","=H01:HC10:PGD300",null,null,null,{"$f":"IF(D11=\"\",\"\",VLOOKUP(D11,#REF!,2,FALSE))","v":{"$error":"#REF!"}},null,"Jp industri","0-16 bar","Ø63","kommer"]
[null,"H01","HC10","QMA",300,"=H01:HC10:QMA300",null,null,null,{"$f":"IF(D12=\"\",\"\",VLOOKUP(D12,#REF!,2,FALSE))","v":{"$error":"#REF!"}},null,"Sanistål","CIM6 M/M","1/2\"",904805]
[null,"H01","HC10","PGD","301","=H01:HC10:PGD301",null,null,null,{"$f":"IF(D13=\"\",\"\",VLOOKUP(D13,#REF!,2,FALSE))","v":{"$error":"#REF!"}},null,"Jp industri","0-6 bar","Ø63","kommer"]
[null,"H01","HC10","QMA","301","=H01:HC10:QMA301",null,null,null,{"$f":"IF(D14=\"\",\"\",VLOOKUP(D14,#REF!,2,FALSE))","v":{"$error":"#REF!"}},null,"Sanistål","CIM6 M/M","1/2\"",904805]
[null,"H01","HC10","PGD","302","=H01:HC10:PGD302",null,null,null,{"$f":"IF(D15=\"\",\"\",VLOOKUP(D15,#REF!,2,FALSE))","v":{"$error":"#REF!"}},null,"Jp industri","0-6 bar","Ø63","kommer"]
[null,"H01","HC10","QMA","302","=H01:HC10:QMA302",null,null,null,{"$f":"IF(D16=\"\",\"\",VLOOKUP(D16,#REF!,2,FALSE))","v":{"$error":"#REF!"}},null,"Sanistål","CIM6 M/M","1/2\"",904805]
[null,"H01","HC10","HQA","200","=H01:HC10:HQA200",null,null,null,{"$f":"IF(D17=\"\",\"\",VLOOKUP(D17,#REF!,2,FALSE))","v":{"$error":"#REF!"}},null,"VIRA","FPT","DN150","FPT_DN150"]
[null,"H01","HC10","QMA","200","=H01:HC10:QMA200",null,null,null,{"$f":"IF(D18=\"\",\"\",VLOOKUP(D18,#REF!,2,FALSE))","v":{"$error":"#REF!"}},null,"Sanistål","Simplex","1/2\"",1202415]
[null,"H01","HC10","GPA","01","=H01:HC10:GPA01",null,null,null,{"$f":"IF(D19=\"\",\"\",VLOOKUP(D19,#REF!,2,FALSE))","v":{"$error":"#REF!"}},null,null,null,"DN150"]
[null,"","",null,null,"",null,null,null,{"$f":"IF(D20=\"\",\"\",VLOOKUP(D20,#REF!,2,FALSE))","v":""}]
[null,"","",null,null,"",null,null,null,{"$f":"IF(D21=\"\",\"\",VLOOKUP(D21,#REF!,2,FALSE))","v":""}]
[null,"","",null,null,"",null,null,null,{"$f":"IF(D22=\"\",\"\",VLOOKUP(D22,#REF!,2,FALSE))","v":""}]
[null,"","",null,null,"",null,null,null,{"$f":"IF(D23=\"\",\"\",VLOOKUP(D23,#REF!,2,FALSE))","v":""}]
[null,"","",null,null,"",null,null,null,{"$f":"IF(D24=\"\",\"\",VLOOKUP(D24,#REF!,2,FALSE))","v":""}]
[null,"","",null,null,"",null,null,null,{"$f":"IF(D25=\"\",\"\",VLOOKUP(D25,#REF!,2,FALSE))","v":""}]
[null,"","",null,null,"",null,null,null,{"$f":"IF(D26=\"\",\"\",VLOOKUP(D26,#REF!,2,FALSE))","v":""}]
[null,"","",null,null,"",null,null,null,{"$f":"IF(D27=\"\",\"\",VLOOKUP(D27,#REF!,2,FALSE))","v":""}]
[null,"","",null,null,"",null,null,null,{"$f":"IF(D28=\"\",\"\",VLOOKUP(D28,#REF!,2,FALSE))","v":""}]
[null,"","",null,null,"",null,null,null,{"$f":"IF(D29=\"\",\"\",VLOOKUP(D29,#REF!,2,FALSE))","v":""}]
[null,"","",null,null,"",null,null,null,{"$f":"IF(D30=\"\",\"\",VLOOKUP(D30,#REF!,2,FALSE))","v":""}]
[null,"","",null,null,"",null,null,null,{"$f":"IF(D31=\"\",\"\",VLOOKUP(D31,#REF!,2,FALSE))","v":""}]
[null,"","",null,null,"",null,null,null,{"$f":"IF(D32=\"\",\"\",VLOOKUP(D32,#REF!,2,FALSE))","v":""}]
[null,"","",null,null,"",null,null,null,{"$f":"IF(D33=\"\",\"\",VLOOKUP(D33,#REF!,2,FALSE))","v":""}]
[null,"","",null,null,"",null,null,null,{"$f":"IF(D34=\"\",\"\",VLOOKUP(D34,#REF!,2,FALSE))","v":""}]
[null,"","",null,null,"",null,null,null,{"$f":"IF(D35=\"\",\"\",VLOOKUP(D35,#REF!,2,FALSE))","v":""}]
[null,"","",null,null,"",null,null,null,{"$f":"IF(D36=\"\",\"\",VLOOKUP(D36,#REF!,2,FALSE))","v":""}]
[null,"","",null,null,"",null,null,null,{"$f":"IF(D37=\"\",\"\",VLOOKUP(D37,#REF!,2,FALSE))","v":""}]
[null,"","",null,null,"",null,null,null,{"$f":"IF(D38=\"\",\"\",VLOOKUP(D38,#REF!,2,FALSE))","v":""}]
[null,"","",null,null,"",null,null,null,{"$f":"IF(D39=\"\",\"\",VLOOKUP(D39,#REF!,2,FALSE))","v":""}]
[null,"","",null,null,"",null,null,null,{"$f":"IF(D40=\"\",\"\",VLOOKUP(D40,#REF!,2,FALSE))","v":""}]
[null,"","",null,null,"",null,null,null,{"$f":"IF(D41=\"\",\"\",VLOOKUP(D41,#REF!,2,FALSE))","v":""}]
[null,"","",null,null,"",null,null,null,{"$f":"IF(D42=\"\",\"\",VLOOKUP(D42,#REF!,2,FALSE))","v":""}]
[null,"","",null,null,"",null,null,null,{"$f":"IF(D43=\"\",\"\",VLOOKUP(D43,#REF!,2,FALSE))","v":""}]
[null,"","",null,null,"",null,null,null,{"$f":"IF(D44=\"\",\"\",VLOOKUP(D44,#REF!,2,FALSE))","v":""}]
[null,"","",null,null,"",null,null,null,{"$f":"IF(D45=\"\",\"\",VLOOKUP(D45,#REF!,2,FALSE))","v":""}]
[null,"","",null,null,"",null,null,null,{"$f":"IF(D46=\"\",\"\",VLOOKUP(D46,#REF!,2,FALSE))","v":""}]
[null,"","",null,null,"",null,null,null,{"$f":"IF(D47=\"\",\"\",VLOOKUP(D47,#REF!,2,FALSE))","v":""}]
[null,"","",null,null,"",null,null,null,{"$f":"IF(D48=\"\",\"\",VLOOKUP(D48,#REF!,2,FALSE))","v":""}]
[null,"","",null,null,"",null,null,null,{"$f":"IF(D49=\"\",\"\",VLOOKUP(D49,#REF!,2,FALSE))","v":""}]
[null,"","",null,null,"",null,null,null,{"$f":"IF(D50=\"\",\"\",VLOOKUP(D50,#REF!,2,FALSE))","v":""}]
[null,"","",null,null,"",null,null,null,{"$f":"IF(D51=\"\",\"\",VLOOKUP(D51,#REF!,2,FALSE))","v":""}]
[null,"","",null,null,"",null,null,null,{"$f":"IF(D52=\"\",\"\",VLOOKUP(D52,#REF!,2,FALSE))","v":""}]
[null,"","",null,null,"",null,null,null,{"$f":"IF(D53=\"\",\"\",VLOOKUP(D53,#REF!,2,FALSE))","v":""}]
[null,"","",null,null,"",null,null,null,{"$f":"IF(D54=\"\",\"\",VLOOKUP(D54,#REF!,2,FALSE))","v":""}]
[null,"","",null,null,"",null,null,null,{"$f":"IF(D55=\"\",\"\",VLOOKUP(D55,#REF!,2,FALSE))","v":""}]
[null,"","",null,null,"",null,null,null,{"$f":"IF(D56=\"\",\"\",VLOOKUP(D56,#REF!,2,FALSE))","v":""}]
[null,"","",null,null,"",null,null,null,{"$f":"IF(D57=\"\",\"\",VLOOKUP(D57,#REF!,2,FALSE))","v":""}]
[null,"","",null,null,"",null,null,null,{"$f":"IF(D58=\"\",\"\",VLOOKUP(D58,#REF!,2,FALSE))","v":""}]
[null,"","",null,null,"",null,null,null,{"$f":"IF(D59=\"\",\"\",VLOOKUP(D59,#REF!,2,FALSE))","v":""}]
[null,"","",null,null,"",null,null,null,{"$f":"IF(D60=\"\",\"\",VLOOKUP(D60,#REF!,2,FALSE))","v":""}]
[null,"","",null,null,"",null,null,null,{"$f":"IF(D61=\"\",\"\",VLOOKUP(D61,#REF!,2,FALSE))","v":""}]
[null,"","",null,null,"",null,null,null,{"$f":"IF(D62=\"\",\"\",VLOOKUP(D62,#REF!,2,FALSE))","v":""}]
[null,"","",null,null,"",null,null,null,{"$f":"IF(D63=\"\",\"\",VLOOKUP(D63,#REF!,2,FALSE))","v":""}]
[null,"","",null,null,"",null,null,null,{"$f":"IF(D64=\"\",\"\",VLOOKUP(D64,#REF!,2,FALSE))","v":""}]
[null,"","",null,null,"",null,null,null,{"$f":"IF(D65=\"\",\"\",VLOOKUP(D65,#REF!,2,FALSE))","v":""}]
[null,"","",null,null,"",null,null,null,{"$f":"IF(D66=\"\",\"\",VLOOKUP(D66,#REF!,2,FALSE))","v":""}]
[null,"","",null,null,"",null,null,null,{"$f":"IF(D67=\"\",\"\",VLOOKUP(D67,#REF!,2,FALSE))","v":""}]
[null,"","",null,null,"",null,null,null,{"$f":"IF(D68=\"\",\"\",VLOOKUP(D68,#REF!,2,FALSE))","v":""}]
[null,"","",null,null,"",null,null,null,{"$f":"IF(D69=\"\",\"\",VLOOKUP(D69,#REF!,2,FALSE))","v":""}]
[null,"","",null,null,"",null,null,null,{"$f":"IF(D70=\"\",\"\",VLOOKUP(D70,#REF!,2,FALSE))","v":""}]
[null,"","",null,null,{"$f":"IF(D71=\"\",\"\",CONCATENATE(\"=\",B71,\":\",C71,\":\",D71,E71))","v":""},null,null,null,{"$f":"IF(D71=\"\",\"\",VLOOKUP(D71,#REF!,2,FALSE))","v":""}]
[null,{"$f":"IF(D72=\"\",\"\",$C$1)","v":""},{"$f":"IF(D72=\"\",\"\",$D$1)","v":""},null,null,"",null,null,null,{"$f":"IF(D72=\"\",\"\",VLOOKUP(D72,#REF!,2,FALSE))","v":""}]
[null,"","",null,null,"",null,null,null,{"$f":"IF(D73=\"\",\"\",VLOOKUP(D73,#REF!,2,FALSE))","v":""}]
[null,"","",null,null,"",null,null,null,{"$f":"IF(D74=\"\",\"\",VLOOKUP(D74,#REF!,2,FALSE))","v":""}]
[null,"","",null,null,"",null,null,null,{"$f":"IF(D75=\"\",\"\",VLOOKUP(D75,#REF!,2,FALSE))","v":""}]
[null,"","",null,null,"",null,null,null,{"$f":"IF(D76=\"\",\"\",VLOOKUP(D76,#REF!,2,FALSE))","v":""}]
[null,"","",null,null,"",null,null,null,{"$f":"IF(D77=\"\",\"\",VLOOKUP(D77,#REF!,2,FALSE))","v":""}]
[null,"","",null,null,"",null,null,null,{"$f":"IF(D78=\"\",\"\",VLOOKUP(D78,#REF!,2,FALSE))","v":""}]
[null,"","",null,null,"",null,null,null,{"$f":"IF(D79=\"\",\"\",VLOOKUP(D79,#REF!,2,FALSE))","v":""}]
[null,"","",null,null,"",null,null,null,{"$f":"IF(D80=\"\",\"\",VLOOKUP(D80,#REF!,2,FALSE))","v":""}]
[null,"","",null,null,"",null,null,null,{"$f":"IF(D81=\"\",\"\",VLOOKUP(D81,#REF!,2,FALSE))","v":""}]
[null,"","",null,null,"",null,null,null,{"$f":"IF(D82=\"\",\"\",VLOOKUP(D82,#REF!,2,FALSE))","v":""}]
[null,"","",null,null,"",null,null,null,{"$f":"IF(D83=\"\",\"\",VLOOKUP(D83,#REF!,2,FALSE))","v":""}]
[null,"","",null,null,"",null,null,null,{"$f":"IF(D84=\"\",\"\",VLOOKUP(D84,#REF!,2,FALSE))","v":""}]
[null,"","",null,null,"",null,null,null,{"$f":"IF(D85=\"\",\"\",VLOOKUP(D85,#REF!,2,FALSE))","v":""}]
[null,"","",null,null,"",null,null,null,{"$f":"IF(D86=\"\",\"\",VLOOKUP(D86,#REF!,2,FALSE))","v":""}]
[null,"","",null,null,"",null,null,null,{"$f":"IF(D87=\"\",\"\",VLOOKUP(D87,#REF!,2,FALSE))","v":""}]
[null,"","",null,null,"",null,null,null,{"$f":"IF(D88=\"\",\"\",VLOOKUP(D88,#REF!,2,FALSE))","v":""}]
[null,"","",null,null,"",null,null,null,{"$f":"IF(D89=\"\",\"\",VLOOKUP(D89,#REF!,2,FALSE))","v":""}]
[null,"","",null,null,"",null,null,null,{"$f":"IF(D90=\"\",\"\",VLOOKUP(D90,#REF!,2,FALSE))","v":""}]
[null,"","",null,null,"",null,null,null,{"$f":"IF(D91=\"\",\"\",VLOOKUP(D91,#REF!,2,FALSE))","v":""}]
[null,"","",null,null,"",null,null,null,{"$f":"IF(D92=\"\",\"\",VLOOKUP(D92,#REF!,2,FALSE))","v":""}]
[null,"","",null,null,"",null,null,null,{"$f":"IF(D93=\"\",\"\",VLOOKUP(D93,#REF!,2,FALSE))","v":""}]
[null,"","",null,null,"",null,null,null,{"$f":"IF(D94=\"\",\"\",VLOOKUP(D94,#REF!,2,FALSE))","v":""}]
[null,"","",null,null,"",null,null,null,{"$f":"IF(D95=\"\",\"\",VLOOKUP(D95,#REF!,2,FALSE))","v":""}]
[null,"","",null,null,"",null,null,null,{"$f":"IF(D96=\"\",\"\",VLOOKUP(D96,#REF!,2,FALSE))","v":""}]
[null,"","",null,null,"",null,null,null,{"$f":"IF(D97=\"\",\"\",VLOOKUP(D97,#REF!,2,FALSE))","v":""}]
[null,"","",null,null,"",null,null,null,{"$f":"IF(D98=\"\",\"\",VLOOKUP(D98,#REF!,2,FALSE))","v":""}]
[null,"","",null,null,"",null,null,null,{"$f":"IF(D99=\"\",\"\",VLOOKUP(D99,#REF!,2,FALSE))","v":""}]
[null,"","",null,null,"",null,null,null,{"$f":"IF(D100=\"\",\"\",VLOOKUP(D100,#REF!,2,FALSE))","v":""}]
[null,"","",null,null,"",null,null,null,{"$f":"IF(D101=\"\",\"\",VLOOKUP(D101,#REF!,2,FALSE))","v":""}]
[null,"","",null,null,"",null,null,null,{"$f":"IF(D102=\"\",\"\",VLOOKUP(D102,#REF!,2,FALSE))","v":""}]
[null,"","",null,null,"",null,null,null,{"$f":"IF(D103=\"\",\"\",VLOOKUP(D103,#REF!,2,FALSE))","v":""}]
[null,"","",null,null,"",null,null,null,{"$f":"IF(D104=\"\",\"\",VLOOKUP(D104,#REF!,2,FALSE))","v":""}]
[null,"","",null,null,"",null,null,null,{"$f":"IF(D105=\"\",\"\",VLOOKUP(D105,#REF!,2,FALSE))","v":""}]
[null,"","",null,null,"",null,null,null,{"$f":"IF(D106=\"\",\"\",VLOOKUP(D106,#REF!,2,FALSE))","v":""}]
[null,"  -----Ark slutter her-----Ark slutter her-----Ark slutter her-----Ark slutter her-----Ark slutter her-----Ark slutter her-----Ark slutter her-----Ark slutter her-----Ark slutter her-----Ark slutter her-----Ark slutter her-----Ark slutter her-----Ark slutter her-----Ark slutter her-----Ark slutter her-----Ark slutter her-----Ark slutter her-----Ark slutter her-----Ark slutter her-----Ark slutter her-----Ark slutter her"]

{"sheet":"Produktliste","index":5,"n_rows":2015,"n_cols":41,"rows_kept":2015,"cut":false,"hidden":false,"merged":[]}
[]
[null,null,null,null,null,null,null,null,null,null,"Produkt liste: I2099_P12_D00_N01"]
[]
[]
[]
[]
[null,null,null,null,null,null,null,null,null,null,null,null,null,null,null,null,null,null,"LEVERES AF CTS ENTREPENØR"]
[null,null,null,null,null,null,null,null,null,null,null,null,null,null,null,null,null,null,"LEVERES AF VENTILATION  ENTREPENØR"]
[]
[]
[]
[null,"ID",null,null,null,null,null,null,null,null,null,null,null,null,null,null,null,null,null,null,null,"Drift oplysninger "]
[null,"Funktionelsystem ","Teknisk system ","Komponent ","Energi komponent","Nøgle-Energioversigt","F&T&K","Beregnet komp nr","Komp&Nr","komponent nr","ID nr. ","kunde ID","Rum nummer","Etage","Betegnelse ","Produkt kort nr. ","Producent ","Leverandør","Type","Størrelse","Type nr. ","Flow [l/s]","dP [kpa]","Effektoptag [kW]","Spænding [V]","Strøm[A]","X","Tilbuds nr. ","Bestil ","Leverings tid","Forvente levering","ordre nr ","Kontakt","Barcode","Work package (WP)",null,null,1,2,3,4]
[null,null,null,null,null,null,null,null,null,null,null,2,3,4,5,null,6,7,8]
[]
[]
[]
[]
[]
[]
[]
[]
[]
[]
[]
[]
[]
[]
[]
[]
[]
[]
[]
[]
[]
[]
[]
[]
[]
[]
[]
[]
[]
[]
[]
[]
[]
[]
[]
[]
[]
[]
[]
[]
[]
[]
[]
[]
[]
[]
[]
[]
[]
[]
[]
[]
[]
[]
[]
[]
[]
[]
[]
[]
[]
[]
[]
[]
[]
[]
[]
[]
[]
[]
[]
[]
[]
[]
[]
[]
[]
[]
[]
[]
[]
[]
[]
[]
[]
[]
[]
[]
[]
[]
[]
[]
[]
[]
[]
[]
[]
[]
[]
[]
[]
[]
[]
[]
[]
[]
[]
[]
[]
[]
[]
[]
[]
[]
[]
[]
[]
[]
[]
[]
[]
[]
[]
[]
[]
[]
[]
[]
[]
[]
[]
[]
[]
[]
[]
[]
[]
[]
[]
[]
[]
[]
[]
[]
[]
[]
[]
[]
[]
[]
[]
[]
[]
[]
[]
[]
[]
[]
[]
[]
[]
[]
[]
[]
[]
[]
[]
[]
[]
[]
[]
[]
[]
[]
[]
[]
[]
[]
[]
[]
[]
[]
[]
[]
[]
[]
[]
[]
[]
[]
[]
[]
[]
[]
[]
[]
[]
[]
[]
[]
[]
[]
[]
[]
[]
[]
[]
[]
[]
[]
[]
[]
[]
[]
[]
[]
[]
[]
[]
[]
[]
[]
[]
[]
[]
[]
[]
[]
[]
[]
[]
[]
[]
[]
[]
[]
[]
[]
[]
[]
[]
[]
[]
[]
[]
[]
[]
[]
[]
[]
[]
[]
[]
[]
[]
[]
[]
[]
[]
[]
[]
[]
[]
[]
[]
[]
[]
[]
[]
[]
[]
[]
[]
[]
[]
[]
[]
[]
[]
[]
[]
[]
[]
[]
[]
[]
[]
[]
[]
[]
[]
[]
[]
[]
[]
[]
[]
[]
[]
[]
[]
[]
[]
[]
[]
[]
[]
[]
[]
[]
[]
[]
[]
[]
[]
[]
[]
[]
[]
[]
[]
[]
[]
[]
[]
[]
[]
[]
[]
[]
[]
[]
[]
[]
[]
[]
[]
[]
[]
[]
[]
[]
[]
[]
[]
[]
[]
[]
[]
[]
[]
[]
[]
[]
[]
[]
[]
[]
[]
[]
[]
[]
[]
[]
[]
[]
[]
[]
[]
[]
[]
[]
[]
[]
[]
[]
[]
[]
[]
[]
[]
[]
[]
[]
[]
[]
[]
[]
[]
[]
[]
[]
[]
[]
[]
[]
[]
[]
[]
[]
[]
[]
[]
[]
[]
[]
[]
[]
[]
[]
[]
[]
[]
[]
[]
[]
[]
[]
[]
[]
[]
[]
[]
[]
[]
[]
[]
[]
[]
[]
[]
[]
[]
[]
[]
[]
[]
[]
[]
[]
[]
[]
[]
[]
[]
[]
[]
[]
[]
[]
[]
[]
[]
[]
[]
[]
[]
[]
[]
[]
[]
[]
[]
[]
[]
[]
[]
[]
[]
[]
[]
[]
[]
[]
[]
[]
[]
[]
[]
[]
[]
[]
[]
[]
[]
[]
[]
[]
[]
[]
[]
[]
[]
[]
[]
[]
[]
[]
[]
[]
[null,{"$f":"IF('H01 HC06'!B7=\"\",\"\",'H01 HC06'!B7)","v":"H01"},{"$f":"IF('H01 HC06'!C7=\"\",\"\",'H01 HC06'!C7)","v":"HC06"},{"$f":"IF('H01 HC06'!D7=\"\",\"\",'H01 HC06'!D7)","v":"QMA"},null,null,null,null,null,{"$f":"IF('H01 HC06'!E7=\"\",\"\",'H01 HC06'!E7)","v":"01"},{"$f":"IF('H01 HC06'!F7=\"\",\"\",'H01 HC06'!F7)","v":"=H01:HC06:QMA01"},{"$f":"IF('H01 HC06'!G7=\"\",\"\",'H01 HC06'!G7)","v":""},{"$f":"IF('H01 HC06'!H7=\"\",\"\",'H01 HC06'!H7)","v":""},{"$f":"IF('H01 HC06'!I7=\"\",\"\",'H01 HC06'!I7)","v":""},null,null,{"$f":"IF('H01 HC06'!K7=\"\",\"\",'H01 HC06'!K7)","v":""},{"$f":"IF('H01 HC06'!L7=\"\",\"\",'H01 HC06'!L7)","v":"VIRA"},{"$f":"IF('H01 HC06'!M7=\"\",\"\",'H01 HC06'!M7)","v":"KVLE_P"},{"$f":"IF('H01 HC06'!N7=\"\",\"\",'H01 HC06'!N7)","v":"DN150"},{"$f":"IF('H01 HC06'!O7=\"\",\"\",'H01 HC06'!O7)","v":"KVLE-P_DN150"},{"$f":"IF('H01 HC06'!P7=\"\",\"\",'H01 HC06'!P7)","v":""},{"$f":"IF('H01 HC06'!Q7=\"\",\"\",'H01 HC06'!Q7)","v":""},{"$f":"IF('H01 HC06'!R7=\"\",\"\",'H01 HC06'!R7)","v":""},{"$f":"IF('H01 HC06'!S7=\"\",\"\",'H01 HC06'!S7)","v":""},{"$f":"IF('H01 HC06'!T7=\"\",\"\",'H01 HC06'!T7)","v":""}]
[null,{"$f":"IF('H01 HC06'!B8=\"\",\"\",'H01 HC06'!B8)","v":"H01"},{"$f":"IF('H01 HC06'!C8=\"\",\"\",'H01 HC06'!C8)","v":"HC06"},{"$f":"IF('H01 HC06'!D8=\"\",\"\",'H01 HC06'!D8)","v":"QMA"},null,null,null,null,null,{"$f":"IF('H01 HC06'!E8=\"\",\"\",'H01 HC06'!E8)","v":"02"},{"$f":"IF('H01 HC06'!F8=\"\",\"\",'H01 HC06'!F8)","v":"=H01:HC06:QMA02"},{"$f":"IF('H01 HC06'!G8=\"\",\"\",'H01 HC06'!G8)","v":""},{"$f":"IF('H01 HC06'!H8=\"\",\"\",'H01 HC06'!H8)","v":""},{"$f":"IF('H01 HC06'!I8=\"\",\"\",'H01 HC06'!I8)","v":""},null,null,{"$f":"IF('H01 HC06'!K8=\"\",\"\",'H01 HC06'!K8)","v":""},{"$f":"IF('H01 HC06'!L8=\"\",\"\",'H01 HC06'!L8)","v":"VIRA"},{"$f":"IF('H01 HC06'!M8=\"\",\"\",'H01 HC06'!M8)","v":"KVLE_P"},{"$f":"IF('H01 HC06'!N8=\"\",\"\",'H01 HC06'!N8)","v":"DN150"},{"$f":"IF('H01 HC06'!O8=\"\",\"\",'H01 HC06'!O8)","v":"KVLE-P_DN150"},{"$f":"IF('H01 HC06'!P8=\"\",\"\",'H01 HC06'!P8)","v":""},{"$f":"IF('H01 HC06'!Q8=\"\",\"\",'H01 HC06'!Q8)","v":""},{"$f":"IF('H01 HC06'!R8=\"\",\"\",'H01 HC06'!R8)","v":""},{"$f":"IF('H01 HC06'!S8=\"\",\"\",'H01 HC06'!S8)","v":""},{"$f":"IF('H01 HC06'!T8=\"\",\"\",'H01 HC06'!T8)","v":""}]
[null,{"$f":"IF('H01 HC06'!B9=\"\",\"\",'H01 HC06'!B9)","v":"H01"},{"$f":"IF('H01 HC06'!C9=\"\",\"\",'H01 HC06'!C9)","v":"HC06"},{"$f":"IF('H01 HC06'!D9=\"\",\"\",'H01 HC06'!D9)","v":"QMA"},null,null,null,null,null,{"$f":"IF('H01 HC06'!E9=\"\",\"\",'H01 HC06'!E9)","v":"03"},{"$f":"IF('H01 HC06'!F9=\"\",\"\",'H01 HC06'!F9)","v":"=H01:HC06:QMA03"},{"$f":"IF('H01 HC06'!G9=\"\",\"\",'H01 HC06'!G9)","v":""},{"$f":"IF('H01 HC06'!H9=\"\",\"\",'H01 HC06'!H9)","v":""},{"$f":"IF('H01 HC06'!I9=\"\",\"\",'H01 HC06'!I9)","v":""},null,null,{"$f":"IF('H01 HC06'!K9=\"\",\"\",'H01 HC06'!K9)","v":""},{"$f":"IF('H01 HC06'!L9=\"\",\"\",'H01 HC06'!L9)","v":"VIRA"},{"$f":"IF('H01 HC06'!M9=\"\",\"\",'H01 HC06'!M9)","v":"KVLE_P"},{"$f":"IF('H01 HC06'!N9=\"\",\"\",'H01 HC06'!N9)","v":"DN150"},{"$f":"IF('H01 HC06'!O9=\"\",\"\",'H01 HC06'!O9)","v":"KVLE-P_DN150"},{"$f":"IF('H01 HC06'!P9=\"\",\"\",'H01 HC06'!P9)","v":""},{"$f":"IF('H01 HC06'!Q9=\"\",\"\",'H01 HC06'!Q9)","v":""},{"$f":"IF('H01 HC06'!R9=\"\",\"\",'H01 HC06'!R9)","v":""},{"$f":"IF('H01 HC06'!S9=\"\",\"\",'H01 HC06'!S9)","v":""},{"$f":"IF('H01 HC06'!T9=\"\",\"\",'H01 HC06'!T9)","v":""}]
[null,{"$f":"IF('H01 HC06'!B10=\"\",\"\",'H01 HC06'!B10)","v":"H01"},{"$f":"IF('H01 HC06'!C10=\"\",\"\",'H01 HC06'!C10)","v":"HC06"},{"$f":"IF('H01 HC06'!D10=\"\",\"\",'H01 HC06'!D10)","v":"QMA"},null,null,null,null,null,{"$f":"IF('H01 HC06'!E10=\"\",\"\",'H01 HC06'!E10)","v":"04"},{"$f":"IF('H01 HC06'!F10=\"\",\"\",'H01 HC06'!F10)","v":"=H01:HC06:QMA04"},{"$f":"IF('H01 HC06'!G10=\"\",\"\",'H01 HC06'!G10)","v":""},{"$f":"IF('H01 HC06'!H10=\"\",\"\",'H01 HC06'!H10)","v":""},{"$f":"IF('H01 HC06'!I10=\"\",\"\",'H01 HC06'!I10)","v":""},null,null,{"$f":"IF('H01 HC06'!K10=\"\",\"\",'H01 HC06'!K10)","v":""},{"$f":"IF('H01 HC06'!L10=\"\",\"\",'H01 HC06'!L10)","v":"VIRA"},{"$f":"IF('H01 HC06'!M10=\"\",\"\",'H01 HC06'!M10)","v":"KVLE_P"},{"$f":"IF('H01 HC06'!N10=\"\",\"\",'H01 HC06'!N10)","v":"DN150"},{"$f":"IF('H01 HC06'!O10=\"\",\"\",'H01 HC06'!O10)","v":"KVLE-P_DN150"},{"$f":"IF('H01 HC06'!P10=\"\",\"\",'H01 HC06'!P10)","v":""},{"$f":"IF('H01 HC06'!Q10=\"\",\"\",'H01 HC06'!Q10)","v":""},{"$f":"IF('H01 HC06'!R10=\"\",\"\",'H01 HC06'!R10)","v":""},{"$f":"IF('H01 HC06'!S10=\"\",\"\",'H01 HC06'!S10)","v":""},{"$f":"IF('H01 HC06'!T10=\"\",\"\",'H01 HC06'!T10)","v":""}]
[null,{"$f":"IF('H01 HC06'!B11=\"\",\"\",'H01 HC06'!B11)","v":"H01"},{"$f":"IF('H01 HC06'!C11=\"\",\"\",'H01 HC06'!C11)","v":"HC06"},{"$f":"IF('H01 HC06'!D11=\"\",\"\",'H01 HC06'!D11)","v":"RMA"},null,null,null,null,null,{"$f":"IF('H01 HC06'!E11=\"\",\"\",'H01 HC06'!E11)","v":"01"},{"$f":"IF('H01 HC06'!F11=\"\",\"\",'H01 HC06'!F11)","v":"=H01:HC06:RMA01"},{"$f":"IF('H01 HC06'!G11=\"\",\"\",'H01 HC06'!G11)","v":""},{"$f":"IF('H01 HC06'!H11=\"\",\"\",'H01 HC06'!H11)","v":""},{"$f":"IF('H01 HC06'!I11=\"\",\"\",'H01 HC06'!I11)","v":""},null,null,{"$f":"IF('H01 HC06'!K11=\"\",\"\",'H01 HC06'!K11)","v":""},{"$f":"IF('H01 HC06'!L11=\"\",\"\",'H01 HC06'!L11)","v":"VIRA"},{"$f":"IF('H01 HC06'!M11=\"\",\"\",'H01 HC06'!M11)","v":"WDCV_D"},{"$f":"IF('H01 HC06'!N11=\"\",\"\",'H01 HC06'!N11)","v":"DN150"},{"$f":"IF('H01 HC06'!O11=\"\",\"\",'H01 HC06'!O11)","v":"WDCV-D_DN150"},{"$f":"IF('H01 HC06'!P11=\"\",\"\",'H01 HC06'!P11)","v":""},{"$f":"IF('H01 HC06'!Q11=\"\",\"\",'H01 HC06'!Q11)","v":""},{"$f":"IF('H01 HC06'!R11=\"\",\"\",'H01 HC06'!R11)","v":""},{"$f":"IF('H01 HC06'!S11=\"\",\"\",'H01 HC06'!S11)","v":""},{"$f":"IF('H01 HC06'!T11=\"\",\"\",'H01 HC06'!T11)","v":""}]
[null,{"$f":"IF('H01 HC06'!B12=\"\",\"\",'H01 HC06'!B12)","v":"H01"},{"$f":"IF('H01 HC06'!C12=\"\",\"\",'H01 HC06'!C12)","v":"HC06"},{"$f":"IF('H01 HC06'!D12=\"\",\"\",'H01 HC06'!D12)","v":"RMA"},null,null,null,null,null,{"$f":"IF('H01 HC06'!E12=\"\",\"\",'H01 HC06'!E12)","v":"02"},{"$f":"IF('H01 HC06'!F12=\"\",\"\",'H01 HC06'!F12)","v":"=H01:HC06:RMA02"},{"$f":"IF('H01 HC06'!G12=\"\",\"\",'H01 HC06'!G12)","v":""},{"$f":"IF('H01 HC06'!H12=\"\",\"\",'H01 HC06'!H12)","v":""},{"$f":"IF('H01 HC06'!I12=\"\",\"\",'H01 HC06'!I12)","v":""},null,null,{"$f":"IF('H01 HC06'!K12=\"\",\"\",'H01 HC06'!K12)","v":""},{"$f":"IF('H01 HC06'!L12=\"\",\"\",'H01 HC06'!L12)","v":"VIRA"},{"$f":"IF('H01 HC06'!M12=\"\",\"\",'H01 HC06'!M12)","v":"WDCV_D"},{"$f":"IF('H01 HC06'!N12=\"\",\"\",'H01 HC06'!N12)","v":"DN150"},{"$f":"IF('H01 HC06'!O12=\"\",\"\",'H01 HC06'!O12)","v":"WDCV-D_DN150"},{"$f":"IF('H01 HC06'!P12=\"\",\"\",'H01 HC06'!P12)","v":""},{"$f":"IF('H01 HC06'!Q12=\"\",\"\",'H01 HC06'!Q12)","v":""},{"$f":"IF('H01 HC06'!R12=\"\",\"\",'H01 HC06'!R12)","v":""},{"$f":"IF('H01 HC06'!S12=\"\",\"\",'H01 HC06'!S12)","v":""},{"$f":"IF('H01 HC06'!T12=\"\",\"\",'H01 HC06'!T12)","v":""}]
[null,{"$f":"IF('H01 HC06'!B13=\"\",\"\",'H01 HC06'!B13)","v":"H01"},{"$f":"IF('H01 HC06'!C13=\"\",\"\",'H01 HC06'!C13)","v":"HC06"},{"$f":"IF('H01 HC06'!D13=\"\",\"\",'H01 HC06'!D13)","v":"RCL"},null,null,null,null,null,{"$f":"IF('H01 HC06'!E13=\"\",\"\",'H01 HC06'!E13)","v":"01"},{"$f":"IF('H01 HC06'!F13=\"\",\"\",'H01 HC06'!F13)","v":"=H01:HC06:RCL01"},{"$f":"IF('H01 HC06'!G13=\"\",\"\",'H01 HC06'!G13)","v":""},{"$f":"IF('H01 HC06'!H13=\"\",\"\",'H01 HC06'!H13)","v":""},{"$f":"IF('H01 HC06'!I13=\"\",\"\",'H01 HC06'!I13)","v":""},null,null,{"$f":"IF('H01 HC06'!K13=\"\",\"\",'H01 HC06'!K13)","v":""},{"$f":"IF('H01 HC06'!L13=\"\",\"\",'H01 HC06'!L13)","v":"VIRA"},{"$f":"IF('H01 HC06'!M13=\"\",\"\",'H01 HC06'!M13)","v":"LK_C"},{"$f":"IF('H01 HC06'!N13=\"\",\"\",'H01 HC06'!N13)","v":"DN150"},{"$f":"IF('H01 HC06'!O13=\"\",\"\",'H01 HC06'!O13)","v":"LK_C_DN150"},{"$f":"IF('H01 HC06'!P13=\"\",\"\",'H01 HC06'!P13)","v":""},{"$f":"IF('H01 HC06'!Q13=\"\",\"\",'H01 HC06'!Q13)","v":""},{"$f":"IF('H01 HC06'!R13=\"\",\"\",'H01 HC06'!R13)","v":""},{"$f":"IF('H01 HC06'!S13=\"\",\"\",'H01 HC06'!S13)","v":""},{"$f":"IF('H01 HC06'!T13=\"\",\"\",'H01 HC06'!T13)","v":""}]
[null,{"$f":"IF('H01 HC06'!B14=\"\",\"\",'H01 HC06'!B14)","v":"H01"},{"$f":"IF('H01 HC06'!C14=\"\",\"\",'H01 HC06'!C14)","v":"HC06"},{"$f":"IF('H01 HC06'!D14=\"\",\"\",'H01 HC06'!D14)","v":"RCL"},null,null,null,null,null,{"$f":"IF('H01 HC06'!E14=\"\",\"\",'H01 HC06'!E14)","v":"02"},{"$f":"IF('H01 HC06'!F14=\"\",\"\",'H01 HC06'!F14)","v":"=H01:HC06:RCL02"},{"$f":"IF('H01 HC06'!G14=\"\",\"\",'H01 HC06'!G14)","v":""},{"$f":"IF('H01 HC06'!H14=\"\",\"\",'H01 HC06'!H14)","v":""},{"$f":"IF('H01 HC06'!I14=\"\",\"\",'H01 HC06'!I14)","v":""},null,null,{"$f":"IF('H01 HC06'!K14=\"\",\"\",'H01 HC06'!K14)","v":""},{"$f":"IF('H01 HC06'!L14=\"\",\"\",'H01 HC06'!L14)","v":"VIRA"},{"$f":"IF('H01 HC06'!M14=\"\",\"\",'H01 HC06'!M14)","v":"LK_C"},{"$f":"IF('H01 HC06'!N14=\"\",\"\",'H01 HC06'!N14)","v":"DN150"},{"$f":"IF('H01 HC06'!O14=\"\",\"\",'H01 HC06'!O14)","v":"LK_C_DN150"},{"$f":"IF('H01 HC06'!P14=\"\",\"\",'H01 HC06'!P14)","v":""},{"$f":"IF('H01 HC06'!Q14=\"\",\"\",'H01 HC06'!Q14)","v":""},{"$f":"IF('H01 HC06'!R14=\"\",\"\",'H01 HC06'!R14)","v":""},{"$f":"IF('H01 HC06'!S14=\"\",\"\",'H01 HC06'!S14)","v":""},{"$f":"IF('H01 HC06'!T14=\"\",\"\",'H01 HC06'!T14)","v":""}]
[null,{"$f":"IF('H01 HC06'!B15=\"\",\"\",'H01 HC06'!B15)","v":"H01"},{"$f":"IF('H01 HC06'!C15=\"\",\"\",'H01 HC06'!C15)","v":"HC06"},{"$f":"IF('H01 HC06'!D15=\"\",\"\",'H01 HC06'!D15)","v":"RCL"},null,null,null,null,null,{"$f":"IF('H01 HC06'!E15=\"\",\"\",'H01 HC06'!E15)","v":"03"},{"$f":"IF('H01 HC06'!F15=\"\",\"\",'H01 HC06'!F15)","v":"=H01:HC06:RCL03"},{"$f":"IF('H01 HC06'!G15=\"\",\"\",'H01 HC06'!G15)","v":""},{"$f":"IF('H01 HC06'!H15=\"\",\"\",'H01 HC06'!H15)","v":""},{"$f":"IF('H01 HC06'!I15=\"\",\"\",'H01 HC06'!I15)","v":""},null,null,{"$f":"IF('H01 HC06'!K15=\"\",\"\",'H01 HC06'!K15)","v":""},{"$f":"IF('H01 HC06'!L15=\"\",\"\",'H01 HC06'!L15)","v":"VIRA"},{"$f":"IF('H01 HC06'!M15=\"\",\"\",'H01 HC06'!M15)","v":"LK_C"},{"$f":"IF('H01 HC06'!N15=\"\",\"\",'H01 HC06'!N15)","v":"DN150"},{"$f":"IF('H01 HC06'!O15=\"\",\"\",'H01 HC06'!O15)","v":"LK_C_DN150"},{"$f":"IF('H01 HC06'!P15=\"\",\"\",'H01 HC06'!P15)","v":""},{"$f":"IF('H01 HC06'!Q15=\"\",\"\",'H01 HC06'!Q15)","v":""},{"$f":"IF('H01 HC06'!R15=\"\",\"\",'H01 HC06'!R15)","v":""},{"$f":"IF('H01 HC06'!S15=\"\",\"\",'H01 HC06'!S15)","v":""},{"$f":"IF('H01 HC06'!T15=\"\",\"\",'H01 HC06'!T15)","v":""}]
[null,{"$f":"IF('H01 HC06'!B16=\"\",\"\",'H01 HC06'!B16)","v":"H01"},{"$f":"IF('H01 HC06'!C16=\"\",\"\",'H01 HC06'!C16)","v":"HC06"},{"$f":"IF('H01 HC06'!D16=\"\",\"\",'H01 HC06'!D16)","v":"RCL"},null,null,null,null,null,{"$f":"IF('H01 HC06'!E16=\"\",\"\",'H01 HC06'!E16)","v":"04"},{"$f":"IF('H01 HC06'!F16=\"\",\"\",'H01 HC06'!F16)","v":"=H01:HC06:RCL04"},{"$f":"IF('H01 HC06'!G16=\"\",\"\",'H01 HC06'!G16)","v":""},{"$f":"IF('H01 HC06'!H16=\"\",\"\",'H01 HC06'!H16)","v":""},{"$f":"IF('H01 HC06'!I16=\"\",\"\",'H01 HC06'!I16)","v":""},null,null,{"$f":"IF('H01 HC06'!K16=\"\",\"\",'H01 HC06'!K16)","v":""},{"$f":"IF('H01 HC06'!L16=\"\",\"\",'H01 HC06'!L16)","v":"VIRA"},{"$f":"IF('H01 HC06'!M16=\"\",\"\",'H01 HC06'!M16)","v":"LK_C"},{"$f":"IF('H01 HC06'!N16=\"\",\"\",'H01 HC06'!N16)","v":"DN150"},{"$f":"IF('H01 HC06'!O16=\"\",\"\",'H01 HC06'!O16)","v":"LK_C_DN150"},{"$f":"IF('H01 HC06'!P16=\"\",\"\",'H01 HC06'!P16)","v":""},{"$f":"IF('H01 HC06'!Q16=\"\",\"\",'H01 HC06'!Q16)","v":""},{"$f":"IF('H01 HC06'!R16=\"\",\"\",'H01 HC06'!R16)","v":""},{"$f":"IF('H01 HC06'!S16=\"\",\"\",'H01 HC06'!S16)","v":""},{"$f":"IF('H01 HC06'!T16=\"\",\"\",'H01 HC06'!T16)","v":""}]
[null,{"$f":"IF('H01 HC06'!B17=\"\",\"\",'H01 HC06'!B17)","v":"H01"},{"$f":"IF('H01 HC06'!C17=\"\",\"\",'H01 HC06'!C17)","v":"HC06"},{"$f":"IF('H01 HC06'!D17=\"\",\"\",'H01 HC06'!D17)","v":"RCL"},null,null,null,null,null,{"$f":"IF('H01 HC06'!E17=\"\",\"\",'H01 HC06'!E17)","v":"05"},{"$f":"IF('H01 HC06'!F17=\"\",\"\",'H01 HC06'!F17)","v":"=H01:HC06:RCL05"},{"$f":"IF('H01 HC06'!G17=\"\",\"\",'H01 HC06'!G17)","v":""},{"$f":"IF('H01 HC06'!H17=\"\",\"\",'H01 HC06'!H17)","v":""},{"$f":"IF('H01 HC06'!I17=\"\",\"\",'H01 HC06'!I17)","v":""},null,null,{"$f":"IF('H01 HC06'!K17=\"\",\"\",'H01 HC06'!K17)","v":""},{"$f":"IF('H01 HC06'!L17=\"\",\"\",'H01 HC06'!L17)","v":"VIRA"},{"$f":"IF('H01 HC06'!M17=\"\",\"\",'H01 HC06'!M17)","v":"LK_C"},{"$f":"IF('H01 HC06'!N17=\"\",\"\",'H01 HC06'!N17)","v":"DN150"},{"$f":"IF('H01 HC06'!O17=\"\",\"\",'H01 HC06'!O17)","v":"LK_C_DN150"},{"$f":"IF('H01 HC06'!P17=\"\",\"\",'H01 HC06'!P17)","v":""},{"$f":"IF('H01 HC06'!Q17=\"\",\"\",'H01 HC06'!Q17)","v":""},{"$f":"IF('H01 HC06'!R17=\"\",\"\",'H01 HC06'!R17)","v":""},{"$f":"IF('H01 HC06'!S17=\"\",\"\",'H01 HC06'!S17)","v":""},{"$f":"IF('H01 HC06'!T17=\"\",\"\",'H01 HC06'!T17)","v":""}]
[null,{"$f":"IF('H01 HC06'!B18=\"\",\"\",'H01 HC06'!B18)","v":"H01"},{"$f":"IF('H01 HC06'!C18=\"\",\"\",'H01 HC06'!C18)","v":"HC06"},{"$f":"IF('H01 HC06'!D18=\"\",\"\",'H01 HC06'!D18)","v":"RCL"},null,null,null,null,null,{"$f":"IF('H01 HC06'!E18=\"\",\"\",'H01 HC06'!E18)","v":"06"},{"$f":"IF('H01 HC06'!F18=\"\",\"\",'H01 HC06'!F18)","v":"=H01:HC06:RCL06"},{"$f":"IF('H01 HC06'!G18=\"\",\"\",'H01 HC06'!G18)","v":""},{"$f":"IF('H01 HC06'!H18=\"\",\"\",'H01 HC06'!H18)","v":""},{"$f":"IF('H01 HC06'!I18=\"\",\"\",'H01 HC06'!I18)","v":""},null,null,{"$f":"IF('H01 HC06'!K18=\"\",\"\",'H01 HC06'!K18)","v":""},{"$f":"IF('H01 HC06'!L18=\"\",\"\",'H01 HC06'!L18)","v":"VIRA"},{"$f":"IF('H01 HC06'!M18=\"\",\"\",'H01 HC06'!M18)","v":"LK_C"},{"$f":"IF('H01 HC06'!N18=\"\",\"\",'H01 HC06'!N18)","v":"DN150"},{"$f":"IF('H01 HC06'!O18=\"\",\"\",'H01 HC06'!O18)","v":"LK_C_DN150"},{"$f":"IF('H01 HC06'!P18=\"\",\"\",'H01 HC06'!P18)","v":""},{"$f":"IF('H01 HC06'!Q18=\"\",\"\",'H01 HC06'!Q18)","v":""},{"$f":"IF('H01 HC06'!R18=\"\",\"\",'H01 HC06'!R18)","v":""},{"$f":"IF('H01 HC06'!S18=\"\",\"\",'H01 HC06'!S18)","v":""},{"$f":"IF('H01 HC06'!T18=\"\",\"\",'H01 HC06'!T18)","v":""}]
[null,{"$f":"IF('H01 HC06'!B19=\"\",\"\",'H01 HC06'!B19)","v":"H01"},{"$f":"IF('H01 HC06'!C19=\"\",\"\",'H01 HC06'!C19)","v":"HC06"},{"$f":"IF('H01 HC06'!D19=\"\",\"\",'H01 HC06'!D19)","v":"GPA"},null,null,null,null,null,{"$f":"IF('H01 HC06'!E19=\"\",\"\",'H01 HC06'!E19)","v":"01"},{"$f":"IF('H01 HC06'!F19=\"\",\"\",'H01 HC06'!F19)","v":"=H01:HC06:GPA01"},{"$f":"IF('H01 HC06'!G19=\"\",\"\",'H01 HC06'!G19)","v":""},{"$f":"IF('H01 HC06'!H19=\"\",\"\",'H01 HC06'!H19)","v":""},{"$f":"IF('H01 HC06'!I19=\"\",\"\",'H01 HC06'!I19)","v":""},null,null,{"$f":"IF('H01 HC06'!K19=\"\",\"\",'H01 HC06'!K19)","v":""},{"$f":"IF('H01 HC06'!L19=\"\",\"\",'H01 HC06'!L19)","v":""},{"$f":"IF('H01 HC06'!M19=\"\",\"\",'H01 HC06'!M19)","v":""},{"$f":"IF('H01 HC06'!N19=\"\",\"\",'H01 HC06'!N19)","v":""},{"$f":"IF('H01 HC06'!O19=\"\",\"\",'H01 HC06'!O19)","v":""},{"$f":"IF('H01 HC06'!P19=\"\",\"\",'H01 HC06'!P19)","v":""},{"$f":"IF('H01 HC06'!Q19=\"\",\"\",'H01 HC06'!Q19)","v":""},{"$f":"IF('H01 HC06'!R19=\"\",\"\",'H01 HC06'!R19)","v":""},{"$f":"IF('H01 HC06'!S19=\"\",\"\",'H01 HC06'!S19)","v":""},{"$f":"IF('H01 HC06'!T19=\"\",\"\",'H01 HC06'!T19)","v":""}]
[null,{"$f":"IF('H01 HC06'!B20=\"\",\"\",'H01 HC06'!B20)","v":"H01"},{"$f":"IF('H01 HC06'!C20=\"\",\"\",'H01 HC06'!C20)","v":"HC06"},{"$f":"IF('H01 HC06'!D20=\"\",\"\",'H01 HC06'!D20)","v":"GPA"},null,null,null,null,null,{"$f":"IF('H01 HC06'!E20=\"\",\"\",'H01 HC06'!E20)","v":"02"},{"$f":"IF('H01 HC06'!F20=\"\",\"\",'H01 HC06'!F20)","v":"=H01:HC06:GPA02"},{"$f":"IF('H01 HC06'!G20=\"\",\"\",'H01 HC06'!G20)","v":""},{"$f":"IF('H01 HC06'!H20=\"\",\"\",'H01 HC06'!H20)","v":""},{"$f":"IF('H01 HC06'!I20=\"\",\"\",'H01 HC06'!I20)","v":""},null,null,{"$f":"IF('H01 HC06'!K20=\"\",\"\",'H01 HC06'!K20)","v":""},{"$f":"IF('H01 HC06'!L20=\"\",\"\",'H01 HC06'!L20)","v":""},{"$f":"IF('H01 HC06'!M20=\"\",\"\",'H01 HC06'!M20)","v":""},{"$f":"IF('H01 HC06'!N20=\"\",\"\",'H01 HC06'!N20)","v":""},{"$f":"IF('H01 HC06'!O20=\"\",\"\",'H01 HC06'!O20)","v":""},{"$f":"IF('H01 HC06'!P20=\"\",\"\",'H01 HC06'!P20)","v":""},{"$f":"IF('H01 HC06'!Q20=\"\",\"\",'H01 HC06'!Q20)","v":""},{"$f":"IF('H01 HC06'!R20=\"\",\"\",'H01 HC06'!R20)","v":""},{"$f":"IF('H01 HC06'!S20=\"\",\"\",'H01 HC06'!S20)","v":""},{"$f":"IF('H01 HC06'!T20=\"\",\"\",'H01 HC06'!T20)","v":""}]
[null,{"$f":"IF('H01 HC06'!B21=\"\",\"\",'H01 HC06'!B21)","v":"H01"},{"$f":"IF('H01 HC06'!C21=\"\",\"\",'H01 HC06'!C21)","v":"HC06"},{"$f":"IF('H01 HC06'!D21=\"\",\"\",'H01 HC06'!D21)","v":"HQA"},null,null,null,null,null,{"$f":"IF('H01 HC06'!E21=\"\",\"\",'H01 HC06'!E21)","v":"200"},{"$f":"IF('H01 HC06'!F21=\"\",\"\",'H01 HC06'!F21)","v":"=H01:HC06:HQA200"},{"$f":"IF('H01 HC06'!G21=\"\",\"\",'H01 HC06'!G21)","v":""},{"$f":"IF('H01 HC06'!H21=\"\",\"\",'H01 HC06'!H21)","v":""},{"$f":"IF('H01 HC06'!I21=\"\",\"\",'H01 HC06'!I21)","v":""},null,null,{"$f":"IF('H01 HC06'!K21=\"\",\"\",'H01 HC06'!K21)","v":""},{"$f":"IF('H01 HC06'!L21=\"\",\"\",'H01 HC06'!L21)","v":"VIRA"},{"$f":"IF('H01 HC06'!M21=\"\",\"\",'H01 HC06'!M21)","v":"FPT"},{"$f":"IF('H01 HC06'!N21=\"\",\"\",'H01 HC06'!N21)","v":"DN150"},{"$f":"IF('H01 HC06'!O21=\"\",\"\",'H01 HC06'!O21)","v":"FPT_DN150"},{"$f":"IF('H01 HC06'!P21=\"\",\"\",'H01 HC06'!P21)","v":""},{"$f":"IF('H01 HC06'!Q21=\"\",\"\",'H01 HC06'!Q21)","v":""},{"$f":"IF('H01 HC06'!R21=\"\",\"\",'H01 HC06'!R21)","v":""},{"$f":"IF('H01 HC06'!S21=\"\",\"\",'H01 HC06'!S21)","v":""},{"$f":"IF('H01 HC06'!T21=\"\",\"\",'H01 HC06'!T21)","v":""}]
[null,{"$f":"IF('H01 HC06'!B22=\"\",\"\",'H01 HC06'!B22)","v":"H01"},{"$f":"IF('H01 HC06'!C22=\"\",\"\",'H01 HC06'!C22)","v":"HC06"},{"$f":"IF('H01 HC06'!D22=\"\",\"\",'H01 HC06'!D22)","v":"QMA"},null,null,null,null,null,{"$f":"IF('H01 HC06'!E22=\"\",\"\",'H01 HC06'!E22)","v":"200"},{"$f":"IF('H01 HC06'!F22=\"\",\"\",'H01 HC06'!F22)","v":"=H01:HC06:QMA200"},{"$f":"IF('H01 HC06'!G22=\"\",\"\",'H01 HC06'!G22)","v":""},{"$f":"IF('H01 HC06'!H22=\"\",\"\",'H01 HC06'!H22)","v":""},{"$f":"IF('H01 HC06'!I22=\"\",\"\",'H01 HC06'!I22)","v":""},null,null,{"$f":"IF('H01 HC06'!K22=\"\",\"\",'H01 HC06'!K22)","v":""},{"$f":"IF('H01 HC06'!L22=\"\",\"\",'H01 HC06'!L22)","v":"VIRA"},{"$f":"IF('H01 HC06'!M22=\"\",\"\",'H01 HC06'!M22)","v":"KVLE_P"},{"$f":"IF('H01 HC06'!N22=\"\",\"\",'H01 HC06'!N22)","v":"DN150"},{"$f":"IF('H01 HC06'!O22=\"\",\"\",'H01 HC06'!O22)","v":"KVLE-P_DN150"},{"$f":"IF('H01 HC06'!P22=\"\",\"\",'H01 HC06'!P22)","v":""},{"$f":"IF('H01 HC06'!Q22=\"\",\"\",'H01 HC06'!Q22)","v":""},{"$f":"IF('H01 HC06'!R22=\"\",\"\",'H01 HC06'!R22)","v":""},{"$f":"IF('H01 HC06'!S22=\"\",\"\",'H01 HC06'!S22)","v":""},{"$f":"IF('H01 HC06'!T22=\"\",\"\",'H01 HC06'!T22)","v":""}]
[null,{"$f":"IF('H01 HC06'!B23=\"\",\"\",'H01 HC06'!B23)","v":"H01"},{"$f":"IF('H01 HC06'!C23=\"\",\"\",'H01 HC06'!C23)","v":"HC06"},{"$f":"IF('H01 HC06'!D23=\"\",\"\",'H01 HC06'!D23)","v":"HQA"},null,null,null,null,null,{"$f":"IF('H01 HC06'!E23=\"\",\"\",'H01 HC06'!E23)","v":"201"},{"$f":"IF('H01 HC06'!F23=\"\",\"\",'H01 HC06'!F23)","v":"=H01:HC06:HQA201"},{"$f":"IF('H01 HC06'!G23=\"\",\"\",'H01 HC06'!G23)","v":""},{"$f":"IF('H01 HC06'!H23=\"\",\"\",'H01 HC06'!H23)","v":""},{"$f":"IF('H01 HC06'!I23=\"\",\"\",'H01 HC06'!I23)","v":""},null,null,{"$f":"IF('H01 HC06'!K23=\"\",\"\",'H01 HC06'!K23)","v":""},{"$f":"IF('H01 HC06'!L23=\"\",\"\",'H01 HC06'!L23)","v":"VIRA"},{"$f":"IF('H01 HC06'!M23=\"\",\"\",'H01 HC06'!M23)","v":"FPT"},{"$f":"IF('H01 HC06'!N23=\"\",\"\",'H01 HC06'!N23)","v":"DN150"},{"$f":"IF('H01 HC06'!O23=\"\",\"\",'H01 HC06'!O23)","v":"FPT_DN150"},{"$f":"IF('H01 HC06'!P23=\"\",\"\",'H01 HC06'!P23)","v":""},{"$f":"IF('H01 HC06'!Q23=\"\",\"\",'H01 HC06'!Q23)","v":""},{"$f":"IF('H01 HC06'!R23=\"\",\"\",'H01 HC06'!R23)","v":""},{"$f":"IF('H01 HC06'!S23=\"\",\"\",'H01 HC06'!S23)","v":""},{"$f":"IF('H01 HC06'!T23=\"\",\"\",'H01 HC06'!T23)","v":""}]
[null,{"$f":"IF('H01 HC06'!B24=\"\",\"\",'H01 HC06'!B24)","v":"H01"},{"$f":"IF('H01 HC06'!C24=\"\",\"\",'H01 HC06'!C24)","v":"HC06"},{"$f":"IF('H01 HC06'!D24=\"\",\"\",'H01 HC06'!D24)","v":"QMA"},null,null,null,null,null,{"$f":"IF('H01 HC06'!E24=\"\",\"\",'H01 HC06'!E24)","v":"201"},{"$f":"IF('H01 HC06'!F24=\"\",\"\",'H01 HC06'!F24)","v":"=H01:HC06:QMA201"},{"$f":"IF('H01 HC06'!G24=\"\",\"\",'H01 HC06'!G24)","v":""},{"$f":"IF('H01 HC06'!H24=\"\",\"\",'H01 HC06'!H24)","v":""},{"$f":"IF('H01 HC06'!I24=\"\",\"\",'H01 HC06'!I24)","v":""},null,null,{"$f":"IF('H01 HC06'!K24=\"\",\"\",'H01 HC06'!K24)","v":""},{"$f":"IF('H01 HC06'!L24=\"\",\"\",'H01 HC06'!L24)","v":"VIRA"},{"$f":"IF('H01 HC06'!M24=\"\",\"\",'H01 HC06'!M24)","v":"KVLE_P"},{"$f":"IF('H01 HC06'!N24=\"\",\"\",'H01 HC06'!N24)","v":"DN150"},{"$f":"IF('H01 HC06'!O24=\"\",\"\",'H01 HC06'!O24)","v":"KVLE-P_DN150"},{"$f":"IF('H01 HC06'!P24=\"\",\"\",'H01 HC06'!P24)","v":""},{"$f":"IF('H01 HC06'!Q24=\"\",\"\",'H01 HC06'!Q24)","v":""},{"$f":"IF('H01 HC06'!R24=\"\",\"\",'H01 HC06'!R24)","v":""},{"$f":"IF('H01 HC06'!S24=\"\",\"\",'H01 HC06'!S24)","v":""},{"$f":"IF('H01 HC06'!T24=\"\",\"\",'H01 HC06'!T24)","v":""}]
[null,{"$f":"IF('H01 HC06'!B25=\"\",\"\",'H01 HC06'!B25)","v":"H01"},{"$f":"IF('H01 HC06'!C25=\"\",\"\",'H01 HC06'!C25)","v":"HC06"},{"$f":"IF('H01 HC06'!D25=\"\",\"\",'H01 HC06'!D25)","v":"PGD"},null,null,null,null,null,{"$f":"IF('H01 HC06'!E25=\"\",\"\",'H01 HC06'!E25)","v":"300"},{"$f":"IF('H01 HC06'!F25=\"\",\"\",'H01 HC06'!F25)","v":"=H01:HC06:PGD300"},{"$f":"IF('H01 HC06'!G25=\"\",\"\",'H01 HC06'!G25)","v":""},{"$f":"IF('H01 HC06'!H25=\"\",\"\",'H01 HC06'!H25)","v":""},{"$f":"IF('H01 HC06'!I25=\"\",\"\",'H01 HC06'!I25)","v":""},null,null,{"$f":"IF('H01 HC06'!K25=\"\",\"\",'H01 HC06'!K25)","v":""},{"$f":"IF('H01 HC06'!L25=\"\",\"\",'H01 HC06'!L25)","v":"Jp industri"},{"$f":"IF('H01 HC06'!M25=\"\",\"\",'H01 HC06'!M25)","v":"0-16 bar"},{"$f":"IF('H01 HC06'!N25=\"\",\"\",'H01 HC06'!N25)","v":"Ø63"},{"$f":"IF('H01 HC06'!O25=\"\",\"\",'H01 HC06'!O25)","v":"kommer"},{"$f":"IF('H01 HC06'!P25=\"\",\"\",'H01 HC06'!P25)","v":""},{"$f":"IF('H01 HC06'!Q25=\"\",\"\",'H01 HC06'!Q25)","v":""},{"$f":"IF('H01 HC06'!R25=\"\",\"\",'H01 HC06'!R25)","v":""},{"$f":"IF('H01 HC06'!S25=\"\",\"\",'H01 HC06'!S25)","v":""},{"$f":"IF('H01 HC06'!T25=\"\",\"\",'H01 HC06'!T25)","v":""}]
[null,{"$f":"IF('H01 HC06'!B26=\"\",\"\",'H01 HC06'!B26)","v":"H01"},{"$f":"IF('H01 HC06'!C26=\"\",\"\",'H01 HC06'!C26)","v":"HC06"},{"$f":"IF('H01 HC06'!D26=\"\",\"\",'H01 HC06'!D26)","v":"QMA"},null,null,null,null,null,{"$f":"IF('H01 HC06'!E26=\"\",\"\",'H01 HC06'!E26)","v":"300"},{"$f":"IF('H01 HC06'!F26=\"\",\"\",'H01 HC06'!F26)","v":"=H01:HC06:QMA300"},{"$f":"IF('H01 HC06'!G26=\"\",\"\",'H01 HC06'!G26)","v":""},{"$f":"IF('H01 HC06'!H26=\"\",\"\",'H01 HC06'!H26)","v":""},{"$f":"IF('H01 HC06'!I26=\"\",\"\",'H01 HC06'!I26)","v":""},null,null,{"$f":"IF('H01 HC06'!K26=\"\",\"\",'H01 HC06'!K26)","v":""},{"$f":"IF('H01 HC06'!L26=\"\",\"\",'H01 HC06'!L26)","v":"Sanistål"},{"$f":"IF('H01 HC06'!M26=\"\",\"\",'H01 HC06'!M26)","v":"CIM6 M/M"},{"$f":"IF('H01 HC06'!N26=\"\",\"\",'H01 HC06'!N26)","v":"1/2\""},{"$f":"IF('H01 HC06'!O26=\"\",\"\",'H01 HC06'!O26)","v":904805},{"$f":"IF('H01 HC06'!P26=\"\",\"\",'H01 HC06'!P26)","v":""},{"$f":"IF('H01 HC06'!Q26=\"\",\"\",'H01 HC06'!Q26)","v":""},{"$f":"IF('H01 HC06'!R26=\"\",\"\",'H01 HC06'!R26)","v":""},{"$f":"IF('H01 HC06'!S26=\"\",\"\",'H01 HC06'!S26)","v":""},{"$f":"IF('H01 HC06'!T26=\"\",\"\",'H01 HC06'!T26)","v":""}]
[null,{"$f":"IF('H01 HC06'!B27=\"\",\"\",'H01 HC06'!B27)","v":"H01"},{"$f":"IF('H01 HC06'!C27=\"\",\"\",'H01 HC06'!C27)","v":"HC06"},{"$f":"IF('H01 HC06'!D27=\"\",\"\",'H01 HC06'!D27)","v":"PGD"},null,null,null,null,null,{"$f":"IF('H01 HC06'!E27=\"\",\"\",'H01 HC06'!E27)","v":"301"},{"$f":"IF('H01 HC06'!F27=\"\",\"\",'H01 HC06'!F27)","v":"=H01:HC06:PGD301"},{"$f":"IF('H01 HC06'!G27=\"\",\"\",'H01 HC06'!G27)","v":""},{"$f":"IF('H01 HC06'!H27=\"\",\"\",'H01 HC06'!H27)","v":""},{"$f":"IF('H01 HC06'!I27=\"\",\"\",'H01 HC06'!I27)","v":""},null,null,{"$f":"IF('H01 HC06'!K27=\"\",\"\",'H01 HC06'!K27)","v":""},{"$f":"IF('H01 HC06'!L27=\"\",\"\",'H01 HC06'!L27)","v":"Jp industri"},{"$f":"IF('H01 HC06'!M27=\"\",\"\",'H01 HC06'!M27)","v":"0-10 bar"},{"$f":"IF('H01 HC06'!N27=\"\",\"\",'H01 HC06'!N27)","v":"Ø63"},{"$f":"IF('H01 HC06'!O27=\"\",\"\",'H01 HC06'!O27)","v":"kommer"},{"$f":"IF('H01 HC06'!P27=\"\",\"\",'H01 HC06'!P27)","v":""},{"$f":"IF('H01 HC06'!Q27=\"\",\"\",'H01 HC06'!Q27)","v":""},{"$f":"IF('H01 HC06'!R27=\"\",\"\",'H01 HC06'!R27)","v":""},{"$f":"IF('H01 HC06'!S27=\"\",\"\",'H01 HC06'!S27)","v":""},{"$f":"IF('H01 HC06'!T27=\"\",\"\",'H01 HC06'!T27)","v":""}]
[null,{"$f":"IF('H01 HC06'!B28=\"\",\"\",'H01 HC06'!B28)","v":"H01"},{"$f":"IF('H01 HC06'!C28=\"\",\"\",'H01 HC06'!C28)","v":"HC06"},{"$f":"IF('H01 HC06'!D28=\"\",\"\",'H01 HC06'!D28)","v":"QMA"},null,null,null,null,null,{"$f":"IF('H01 HC06'!E28=\"\",\"\",'H01 HC06'!E28)","v":"301"},{"$f":"IF('H01 HC06'!F28=\"\",\"\",'H01 HC06'!F28)","v":"=H01:HC06:QMA301"},{"$f":"IF('H01 HC06'!G28=\"\",\"\",'H01 HC06'!G28)","v":""},{"$f":"IF('H01 HC06'!H28=\"\",\"\",'H01 HC06'!H28)","v":""},{"$f":"IF('H01 HC06'!I28=\"\",\"\",'H01 HC06'!I28)","v":""},null,null,{"$f":"IF('H01 HC06'!K28=\"\",\"\",'H01 HC06'!K28)","v":""},{"$f":"IF('H01 HC06'!L28=\"\",\"\",'H01 HC06'!L28)","v":"Sanistål"},{"$f":"IF('H01 HC06'!M28=\"\",\"\",'H01 HC06'!M28)","v":"CIM6 M/M"},{"$f":"IF('H01 HC06'!N28=\"\",\"\",'H01 HC06'!N28)","v":"1/2\""},{"$f":"IF('H01 HC06'!O28=\"\",\"\",'H01 HC06'!O28)","v":904805},{"$f":"IF('H01 HC06'!P28=\"\",\"\",'H01 HC06'!P28)","v":""},{"$f":"IF('H01 HC06'!Q28=\"\",\"\",'H01 HC06'!Q28)","v":""},{"$f":"IF('H01 HC06'!R28=\"\",\"\",'H01 HC06'!R28)","v":""},{"$f":"IF('H01 HC06'!S28=\"\",\"\",'H01 HC06'!S28)","v":""},{"$f":"IF('H01 HC06'!T28=\"\",\"\",'H01 HC06'!T28)","v":""}]
[null,{"$f":"IF('H01 HC06'!B29=\"\",\"\",'H01 HC06'!B29)","v":"H01"},{"$f":"IF('H01 HC06'!C29=\"\",\"\",'H01 HC06'!C29)","v":"HC06"},{"$f":"IF('H01 HC06'!D29=\"\",\"\",'H01 HC06'!D29)","v":"PGD"},null,null,null,null,null,{"$f":"IF('H01 HC06'!E29=\"\",\"\",'H01 HC06'!E29)","v":"302"},{"$f":"IF('H01 HC06'!F29=\"\",\"\",'H01 HC06'!F29)","v":"=H01:HC06:PGD302"},{"$f":"IF('H01 HC06'!G29=\"\",\"\",'H01 HC06'!G29)","v":""},{"$f":"IF('H01 HC06'!H29=\"\",\"\",'H01 HC06'!H29)","v":""},{"$f":"IF('H01 HC06'!I29=\"\",\"\",'H01 HC06'!I29)","v":""},null,null,{"$f":"IF('H01 HC06'!K29=\"\",\"\",'H01 HC06'!K29)","v":""},{"$f":"IF('H01 HC06'!L29=\"\",\"\",'H01 HC06'!L29)","v":"Jp industri"},{"$f":"IF('H01 HC06'!M29=\"\",\"\",'H01 HC06'!M29)","v":"0-16 bar"},{"$f":"IF('H01 HC06'!N29=\"\",\"\",'H01 HC06'!N29)","v":"Ø63"},{"$f":"IF('H01 HC06'!O29=\"\",\"\",'H01 HC06'!O29)","v":"kommer"},{"$f":"IF('H01 HC06'!P29=\"\",\"\",'H01 HC06'!P29)","v":""},{"$f":"IF('H01 HC06'!Q29=\"\",\"\",'H01 HC06'!Q29)","v":""},{"$f":"IF('H01 HC06'!R29=\"\",\"\",'H01 HC06'!R29)","v":""},{"$f":"IF('H01 HC06'!S29=\"\",\"\",'H01 HC06'!S29)","v":""},{"$f":"IF('H01 HC06'!T29=\"\",\"\",'H01 HC06'!T29)","v":""}]
[null,{"$f":"IF('H01 HC06'!B30=\"\",\"\",'H01 HC06'!B30)","v":"H01"},{"$f":"IF('H01 HC06'!C30=\"\",\"\",'H01 HC06'!C30)","v":"HC06"},{"$f":"IF('H01 HC06'!D30=\"\",\"\",'H01 HC06'!D30)","v":"QMA"},null,null,null,null,null,{"$f":"IF('H01 HC06'!E30=\"\",\"\",'H01 HC06'!E30)","v":"302"},{"$f":"IF('H01 HC06'!F30=\"\",\"\",'H01 HC06'!F30)","v":"=H01:HC06:QMA302"},{"$f":"IF('H01 HC06'!G30=\"\",\"\",'H01 HC06'!G30)","v":""},{"$f":"IF('H01 HC06'!H30=\"\",\"\",'H01 HC06'!H30)","v":""},{"$f":"IF('H01 HC06'!I30=\"\",\"\",'H01 HC06'!I30)","v":""},null,null,{"$f":"IF('H01 HC06'!K30=\"\",\"\",'H01 HC06'!K30)","v":""},{"$f":"IF('H01 HC06'!L30=\"\",\"\",'H01 HC06'!L30)","v":"Sanistål"},{"$f":"IF('H01 HC06'!M30=\"\",\"\",'H01 HC06'!M30)","v":"CIM6 M/M"},{"$f":"IF('H01 HC06'!N30=\"\",\"\",'H01 HC06'!N30)","v":"1/2\""},{"$f":"IF('H01 HC06'!O30=\"\",\"\",'H01 HC06'!O30)","v":904805},{"$f":"IF('H01 HC06'!P30=\"\",\"\",'H01 HC06'!P30)","v":""},{"$f":"IF('H01 HC06'!Q30=\"\",\"\",'H01 HC06'!Q30)","v":""},{"$f":"IF('H01 HC06'!R30=\"\",\"\",'H01 HC06'!R30)","v":""},{"$f":"IF('H01 HC06'!S30=\"\",\"\",'H01 HC06'!S30)","v":""},{"$f":"IF('H01 HC06'!T30=\"\",\"\",'H01 HC06'!T30)","v":""}]
[null,{"$f":"IF('H01 HC06'!B31=\"\",\"\",'H01 HC06'!B31)","v":"H01"},{"$f":"IF('H01 HC06'!C31=\"\",\"\",'H01 HC06'!C31)","v":"HC06"},{"$f":"IF('H01 HC06'!D31=\"\",\"\",'H01 HC06'!D31)","v":"PGD"},null,null,null,null,null,{"$f":"IF('H01 HC06'!E31=\"\",\"\",'H01 HC06'!E31)","v":"303"},{"$f":"IF('H01 HC06'!F31=\"\",\"\",'H01 HC06'!F31)","v":"=H01:HC06:PGD303"},{"$f":"IF('H01 HC06'!G31=\"\",\"\",'H01 HC06'!G31)","v":""},{"$f":"IF('H01 HC06'!H31=\"\",\"\",'H01 HC06'!H31)","v":""},{"$f":"IF('H01 HC06'!I31=\"\",\"\",'H01 HC06'!I31)","v":""},null,null,{"$f":"IF('H01 HC06'!K31=\"\",\"\",'H01 HC06'!K31)","v":""},{"$f":"IF('H01 HC06'!L31=\"\",\"\",'H01 HC06'!L31)","v":"Jp industri"},{"$f":"IF('H01 HC06'!M31=\"\",\"\",'H01 HC06'!M31)","v":"0-16 bar"},{"$f":"IF('H01 HC06'!N31=\"\",\"\",'H01 HC06'!N31)","v":"Ø63"},{"$f":"IF('H01 HC06'!O31=\"\",\"\",'H01 HC06'!O31)","v":"kommer"},{"$f":"IF('H01 HC06'!P31=\"\",\"\",'H01 HC06'!P31)","v":""},{"$f":"IF('H01 HC06'!Q31=\"\",\"\",'H01 HC06'!Q31)","v":""},{"$f":"IF('H01 HC06'!R31=\"\",\"\",'H01 HC06'!R31)","v":""},{"$f":"IF('H01 HC06'!S31=\"\",\"\",'H01 HC06'!S31)","v":""},{"$f":"IF('H01 HC06'!T31=\"\",\"\",'H01 HC06'!T31)","v":""}]
[null,{"$f":"IF('H01 HC06'!B32=\"\",\"\",'H01 HC06'!B32)","v":"H01"},{"$f":"IF('H01 HC06'!C32=\"\",\"\",'H01 HC06'!C32)","v":"HC06"},{"$f":"IF('H01 HC06'!D32=\"\",\"\",'H01 HC06'!D32)","v":"QMA"},null,null,null,null,null,{"$f":"IF('H01 HC06'!E32=\"\",\"\",'H01 HC06'!E32)","v":"303"},{"$f":"IF('H01 HC06'!F32=\"\",\"\",'H01 HC06'!F32)","v":"=H01:HC06:QMA303"},{"$f":"IF('H01 HC06'!G32=\"\",\"\",'H01 HC06'!G32)","v":""},{"$f":"IF('H01 HC06'!H32=\"\",\"\",'H01 HC06'!H32)","v":""},{"$f":"IF('H01 HC06'!I32=\"\",\"\",'H01 HC06'!I32)","v":""},null,null,{"$f":"IF('H01 HC06'!K32=\"\",\"\",'H01 HC06'!K32)","v":""},{"$f":"IF('H01 HC06'!L32=\"\",\"\",'H01 HC06'!L32)","v":"Sanistål"},{"$f":"IF('H01 HC06'!M32=\"\",\"\",'H01 HC06'!M32)","v":"CIM6 M/M"},{"$f":"IF('H01 HC06'!N32=\"\",\"\",'H01 HC06'!N32)","v":"1/2\""},{"$f":"IF('H01 HC06'!O32=\"\",\"\",'H01 HC06'!O32)","v":904805},{"$f":"IF('H01 HC06'!P32=\"\",\"\",'H01 HC06'!P32)","v":""},{"$f":"IF('H01 HC06'!Q32=\"\",\"\",'H01 HC06'!Q32)","v":""},{"$f":"IF('H01 HC06'!R32=\"\",\"\",'H01 HC06'!R32)","v":""},{"$f":"IF('H01 HC06'!S32=\"\",\"\",'H01 HC06'!S32)","v":""},{"$f":"IF('H01 HC06'!T32=\"\",\"\",'H01 HC06'!T32)","v":""}]
[null,{"$f":"IF('H01 HC06'!B33=\"\",\"\",'H01 HC06'!B33)","v":"H01"},{"$f":"IF('H01 HC06'!C33=\"\",\"\",'H01 HC06'!C33)","v":"HC06"},{"$f":"IF('H01 HC06'!D33=\"\",\"\",'H01 HC06'!D33)","v":"PGD"},null,null,null,null,null,{"$f":"IF('H01 HC06'!E33=\"\",\"\",'H01 HC06'!E33)","v":"304"},{"$f":"IF('H01 HC06'!F33=\"\",\"\",'H01 HC06'!F33)","v":"=H01:HC06:PGD304"},{"$f":"IF('H01 HC06'!G33=\"\",\"\",'H01 HC06'!G33)","v":""},{"$f":"IF('H01 HC06'!H33=\"\",\"\",'H01 HC06'!H33)","v":""},{"$f":"IF('H01 HC06'!I33=\"\",\"\",'H01 HC06'!I33)","v":""},null,null,{"$f":"IF('H01 HC06'!K33=\"\",\"\",'H01 HC06'!K33)","v":""},{"$f":"IF('H01 HC06'!L33=\"\",\"\",'H01 HC06'!L33)","v":"Jp industri"},{"$f":"IF('H01 HC06'!M33=\"\",\"\",'H01 HC06'!M33)","v":"0-16 bar"},{"$f":"IF('H01 HC06'!N33=\"\",\"\",'H01 HC06'!N33)","v":"Ø63"},{"$f":"IF('H01 HC06'!O33=\"\",\"\",'H01 HC06'!O33)","v":"kommer"},{"$f":"IF('H01 HC06'!P33=\"\",\"\",'H01 HC06'!P33)","v":""},{"$f":"IF('H01 HC06'!Q33=\"\",\"\",'H01 HC06'!Q33)","v":""},{"$f":"IF('H01 HC06'!R33=\"\",\"\",'H01 HC06'!R33)","v":""},{"$f":"IF('H01 HC06'!S33=\"\",\"\",'H01 HC06'!S33)","v":""},{"$f":"IF('H01 HC06'!T33=\"\",\"\",'H01 HC06'!T33)","v":""}]
[null,{"$f":"IF('H01 HC06'!B34=\"\",\"\",'H01 HC06'!B34)","v":"H01"},{"$f":"IF('H01 HC06'!C34=\"\",\"\",'H01 HC06'!C34)","v":"HC06"},{"$f":"IF('H01 HC06'!D34=\"\",\"\",'H01 HC06'!D34)","v":"QMA"},null,null,null,null,null,{"$f":"IF('H01 HC06'!E34=\"\",\"\",'H01 HC06'!E34)","v":"304"},{"$f":"IF('H01 HC06'!F34=\"\",\"\",'H01 HC06'!F34)","v":"=H01:HC06:QMA304"},{"$f":"IF('H01 HC06'!G34=\"\",\"\",'H01 HC06'!G34)","v":""},{"$f":"IF('H01 HC06'!H34=\"\",\"\",'H01 HC06'!H34)","v":""},{"$f":"IF('H01 HC06'!I34=\"\",\"\",'H01 HC06'!I34)","v":""},null,null,{"$f":"IF('H01 HC06'!K34=\"\",\"\",'H01 HC06'!K34)","v":""},{"$f":"IF('H01 HC06'!L34=\"\",\"\",'H01 HC06'!L34)","v":"Sanistål"},{"$f":"IF('H01 HC06'!M34=\"\",\"\",'H01 HC06'!M34)","v":"CIM6 M/M"},{"$f":"IF('H01 HC06'!N34=\"\",\"\",'H01 HC06'!N34)","v":"1/2\""},{"$f":"IF('H01 HC06'!O34=\"\",\"\",'H01 HC06'!O34)","v":904805},{"$f":"IF('H01 HC06'!P34=\"\",\"\",'H01 HC06'!P34)","v":""},{"$f":"IF('H01 HC06'!Q34=\"\",\"\",'H01 HC06'!Q34)","v":""},{"$f":"IF('H01 HC06'!R34=\"\",\"\",'H01 HC06'!R34)","v":""},{"$f":"IF('H01 HC06'!S34=\"\",\"\",'H01 HC06'!S34)","v":""},{"$f":"IF('H01 HC06'!T34=\"\",\"\",'H01 HC06'!T34)","v":""}]
[null,{"$f":"IF('H01 HC06'!B35=\"\",\"\",'H01 HC06'!B35)","v":"H01"},{"$f":"IF('H01 HC06'!C35=\"\",\"\",'H01 HC06'!C35)","v":"HC06"},{"$f":"IF('H01 HC06'!D35=\"\",\"\",'H01 HC06'!D35)","v":"PGD"},null,null,null,null,null,{"$f":"IF('H01 HC06'!E35=\"\",\"\",'H01 HC06'!E35)","v":"305"},{"$f":"IF('H01 HC06'!F35=\"\",\"\",'H01 HC06'!F35)","v":"=H01:HC06:PGD305"},{"$f":"IF('H01 HC06'!G35=\"\",\"\",'H01 HC06'!G35)","v":""},{"$f":"IF('H01 HC06'!H35=\"\",\"\",'H01 HC06'!H35)","v":""},{"$f":"IF('H01 HC06'!I35=\"\",\"\",'H01 HC06'!I35)","v":""},null,null,{"$f":"IF('H01 HC06'!K35=\"\",\"\",'H01 HC06'!K35)","v":""},{"$f":"IF('H01 HC06'!L35=\"\",\"\",'H01 HC06'!L35)","v":"Jp industri"},{"$f":"IF('H01 HC06'!M35=\"\",\"\",'H01 HC06'!M35)","v":"0-16 bar"},{"$f":"IF('H01 HC06'!N35=\"\",\"\",'H01 HC06'!N35)","v":"Ø63"},{"$f":"IF('H01 HC06'!O35=\"\",\"\",'H01 HC06'!O35)","v":"kommer"},{"$f":"IF('H01 HC06'!P35=\"\",\"\",'H01 HC06'!P35)","v":""},{"$f":"IF('H01 HC06'!Q35=\"\",\"\",'H01 HC06'!Q35)","v":""},{"$f":"IF('H01 HC06'!R35=\"\",\"\",'H01 HC06'!R35)","v":""},{"$f":"IF('H01 HC06'!S35=\"\",\"\",'H01 HC06'!S35)","v":""},{"$f":"IF('H01 HC06'!T35=\"\",\"\",'H01 HC06'!T35)","v":""}]
[null,{"$f":"IF('H01 HC06'!B36=\"\",\"\",'H01 HC06'!B36)","v":"H01"},{"$f":"IF('H01 HC06'!C36=\"\",\"\",'H01 HC06'!C36)","v":"HC06"},{"$f":"IF('H01 HC06'!D36=\"\",\"\",'H01 HC06'!D36)","v":"QMA"},null,null,null,null,null,{"$f":"IF('H01 HC06'!E36=\"\",\"\",'H01 HC06'!E36)","v":"305"},{"$f":"IF('H01 HC06'!F36=\"\",\"\",'H01 HC06'!F36)","v":"=H01:HC06:QMA305"},{"$f":"IF('H01 HC06'!G36=\"\",\"\",'H01 HC06'!G36)","v":""},{"$f":"IF('H01 HC06'!H36=\"\",\"\",'H01 HC06'!H36)","v":""},{"$f":"IF('H01 HC06'!I36=\"\",\"\",'H01 HC06'!I36)","v":""},null,null,{"$f":"IF('H01 HC06'!K36=\"\",\"\",'H01 HC06'!K36)","v":""},{"$f":"IF('H01 HC06'!L36=\"\",\"\",'H01 HC06'!L36)","v":"Sanistål"},{"$f":"IF('H01 HC06'!M36=\"\",\"\",'H01 HC06'!M36)","v":"CIM6 M/M"},{"$f":"IF('H01 HC06'!N36=\"\",\"\",'H01 HC06'!N36)","v":"1/2\""},{"$f":"IF('H01 HC06'!O36=\"\",\"\",'H01 HC06'!O36)","v":904805},{"$f":"IF('H01 HC06'!P36=\"\",\"\",'H01 HC06'!P36)","v":""},{"$f":"IF('H01 HC06'!Q36=\"\",\"\",'H01 HC06'!Q36)","v":""},{"$f":"IF('H01 HC06'!R36=\"\",\"\",'H01 HC06'!R36)","v":""},{"$f":"IF('H01 HC06'!S36=\"\",\"\",'H01 HC06'!S36)","v":""},{"$f":"IF('H01 HC06'!T36=\"\",\"\",'H01 HC06'!T36)","v":""}]
[null,{"$f":"IF('H01 HC06'!B37=\"\",\"\",'H01 HC06'!B37)","v":"H01"},{"$f":"IF('H01 HC06'!C37=\"\",\"\",'H01 HC06'!C37)","v":"HC06"},{"$f":"IF('H01 HC06'!D37=\"\",\"\",'H01 HC06'!D37)","v":"PGA"},null,null,null,null,null,{"$f":"IF('H01 HC06'!E37=\"\",\"\",'H01 HC06'!E37)","v":"01"},{"$f":"IF('H01 HC06'!F37=\"\",\"\",'H01 HC06'!F37)","v":"=H01:HC06:PGA01"},{"$f":"IF('H01 HC06'!G37=\"\",\"\",'H01 HC06'!G37)","v":""},{"$f":"IF('H01 HC06'!H37=\"\",\"\",'H01 HC06'!H37)","v":""},{"$f":"IF('H01 HC06'!I37=\"\",\"\",'H01 HC06'!I37)","v":""},null,null,{"$f":"IF('H01 HC06'!K37=\"\",\"\",'H01 HC06'!K37)","v":""},null,null,{"$f":"IF('H01 HC06'!N37=\"\",\"\",'H01 HC06'!N37)","v":"DN150"},null,{"$f":"IF('H01 HC06'!P37=\"\",\"\",'H01 HC06'!P37)","v":""},{"$f":"IF('H01 HC06'!Q37=\"\",\"\",'H01 HC06'!Q37)","v":""},{"$f":"IF('H01 HC06'!R37=\"\",\"\",'H01 HC06'!R37)","v":""},{"$f":"IF('H01 HC06'!S37=\"\",\"\",'H01 HC06'!S37)","v":""},{"$f":"IF('H01 HC06'!T37=\"\",\"\",'H01 HC06'!T37)","v":""}]
[null,{"$f":"IF('H01 HC06'!B38=\"\",\"\",'H01 HC06'!B38)","v":"H01"},{"$f":"IF('H01 HC06'!C38=\"\",\"\",'H01 HC06'!C38)","v":"HC06"},{"$f":"IF('H01 HC06'!D38=\"\",\"\",'H01 HC06'!D38)","v":"PGA"},null,null,null,null,null,{"$f":"IF('H01 HC06'!E38=\"\",\"\",'H01 HC06'!E38)","v":"02"},{"$f":"IF('H01 HC06'!F38=\"\",\"\",'H01 HC06'!F38)","v":"=H01:HC06:PGA02"},{"$f":"IF('H01 HC06'!G38=\"\",\"\",'H01 HC06'!G38)","v":""},{"$f":"IF('H01 HC06'!H38=\"\",\"\",'H01 HC06'!H38)","v":""},{"$f":"IF('H01 HC06'!I38=\"\",\"\",'H01 HC06'!I38)","v":""},null,null,{"$f":"IF('H01 HC06'!K38=\"\",\"\",'H01 HC06'!K38)","v":""},null,null,{"$f":"IF('H01 HC06'!N38=\"\",\"\",'H01 HC06'!N38)","v":"DN150"},null,{"$f":"IF('H01 HC06'!P38=\"\",\"\",'H01 HC06'!P38)","v":""},{"$f":"IF('H01 HC06'!Q38=\"\",\"\",'H01 HC06'!Q38)","v":""},{"$f":"IF('H01 HC06'!R38=\"\",\"\",'H01 HC06'!R38)","v":""},{"$f":"IF('H01 HC06'!S38=\"\",\"\",'H01 HC06'!S38)","v":""},{"$f":"IF('H01 HC06'!T38=\"\",\"\",'H01 HC06'!T38)","v":""}]
[null,{"$f":"IF('H01 HC06'!B39=\"\",\"\",'H01 HC06'!B39)","v":"H01"},{"$f":"IF('H01 HC06'!C39=\"\",\"\",'H01 HC06'!C39)","v":"HC06"},{"$f":"IF('H01 HC06'!D39=\"\",\"\",'H01 HC06'!D39)","v":"PGA"},null,null,null,null,null,{"$f":"IF('H01 HC06'!E39=\"\",\"\",'H01 HC06'!E39)","v":"03"},{"$f":"IF('H01 HC06'!F39=\"\",\"\",'H01 HC06'!F39)","v":"=H01:HC06:PGA03"},{"$f":"IF('H01 HC06'!G39=\"\",\"\",'H01 HC06'!G39)","v":""},{"$f":"IF('H01 HC06'!H39=\"\",\"\",'H01 HC06'!H39)","v":""},{"$f":"IF('H01 HC06'!I39=\"\",\"\",'H01 HC06'!I39)","v":""},null,null,{"$f":"IF('H01 HC06'!K39=\"\",\"\",'H01 HC06'!K39)","v":""},null,null,{"$f":"IF('H01 HC06'!N39=\"\",\"\",'H01 HC06'!N39)","v":"DN150"},null,{"$f":"IF('H01 HC06'!P39=\"\",\"\",'H01 HC06'!P39)","v":""},{"$f":"IF('H01 HC06'!Q39=\"\",\"\",'H01 HC06'!Q39)","v":""},{"$f":"IF('H01 HC06'!R39=\"\",\"\",'H01 HC06'!R39)","v":""},{"$f":"IF('H01 HC06'!S39=\"\",\"\",'H01 HC06'!S39)","v":""},{"$f":"IF('H01 HC06'!T39=\"\",\"\",'H01 HC06'!T39)","v":""}]
[null,{"$f":"IF('H01 HC06'!B40=\"\",\"\",'H01 HC06'!B40)","v":"H01"},{"$f":"IF('H01 HC06'!C40=\"\",\"\",'H01 HC06'!C40)","v":"HC06"},{"$f":"IF('H01 HC06'!D40=\"\",\"\",'H01 HC06'!D40)","v":"PGA"},null,null,null,null,null,{"$f":"IF('H01 HC06'!E40=\"\",\"\",'H01 HC06'!E40)","v":"04"},{"$f":"IF('H01 HC06'!F40=\"\",\"\",'H01 HC06'!F40)","v":"=H01:HC06:PGA04"},{"$f":"IF('H01 HC06'!G40=\"\",\"\",'H01 HC06'!G40)","v":""},{"$f":"IF('H01 HC06'!H40=\"\",\"\",'H01 HC06'!H40)","v":""},{"$f":"IF('H01 HC06'!I40=\"\",\"\",'H01 HC06'!I40)","v":""},null,null,{"$f":"IF('H01 HC06'!K40=\"\",\"\",'H01 HC06'!K40)","v":""},null,null,{"$f":"IF('H01 HC06'!N40=\"\",\"\",'H01 HC06'!N40)","v":"DN150"},null,{"$f":"IF('H01 HC06'!P40=\"\",\"\",'H01 HC06'!P40)","v":""},{"$f":"IF('H01 HC06'!Q40=\"\",\"\",'H01 HC06'!Q40)","v":""},{"$f":"IF('H01 HC06'!R40=\"\",\"\",'H01 HC06'!R40)","v":""},{"$f":"IF('H01 HC06'!S40=\"\",\"\",'H01 HC06'!S40)","v":""},{"$f":"IF('H01 HC06'!T40=\"\",\"\",'H01 HC06'!T40)","v":""}]
[null,{"$f":"IF('H01 HC06'!B41=\"\",\"\",'H01 HC06'!B41)","v":"H01"},{"$f":"IF('H01 HC06'!C41=\"\",\"\",'H01 HC06'!C41)","v":"HC06"},{"$f":"IF('H01 HC06'!D41=\"\",\"\",'H01 HC06'!D41)","v":"BTA"},null,null,null,null,null,{"$f":"IF('H01 HC06'!E41=\"\",\"\",'H01 HC06'!E41)","v":"01"},{"$f":"IF('H01 HC06'!F41=\"\",\"\",'H01 HC06'!F41)","v":"=H01:HC06:BTA01"},{"$f":"IF('H01 HC06'!G41=\"\",\"\",'H01 HC06'!G41)","v":""},{"$f":"IF('H01 HC06'!H41=\"\",\"\",'H01 HC06'!H41)","v":""},{"$f":"IF('H01 HC06'!I41=\"\",\"\",'H01 HC06'!I41)","v":""},null,null,{"$f":"IF('H01 HC06'!K41=\"\",\"\",'H01 HC06'!K41)","v":""},null,null,{"$f":"IF('H01 HC06'!N41=\"\",\"\",'H01 HC06'!N41)","v":"DN150"},null,{"$f":"IF('H01 HC06'!P41=\"\",\"\",'H01 HC06'!P41)","v":""},{"$f":"IF('H01 HC06'!Q41=\"\",\"\",'H01 HC06'!Q41)","v":""},{"$f":"IF('H01 HC06'!R41=\"\",\"\",'H01 HC06'!R41)","v":""},{"$f":"IF('H01 HC06'!S41=\"\",\"\",'H01 HC06'!S41)","v":""},{"$f":"IF('H01 HC06'!T41=\"\",\"\",'H01 HC06'!T41)","v":""}]
[null,{"$f":"IF('H01 HC06'!B42=\"\",\"\",'H01 HC06'!B42)","v":"H01"},{"$f":"IF('H01 HC06'!C42=\"\",\"\",'H01 HC06'!C42)","v":"HC06"},{"$f":"IF('H01 HC06'!D42=\"\",\"\",'H01 HC06'!D42)","v":"BFA"},null,null,null,null,null,{"$f":"IF('H01 HC06'!E42=\"\",\"\",'H01 HC06'!E42)","v":"01"},{"$f":"IF('H01 HC06'!F42=\"\",\"\",'H01 HC06'!F42)","v":"=H01:HC06:BFA01"},{"$f":"IF('H01 HC06'!G42=\"\",\"\",'H01 HC06'!G42)","v":""},{"$f":"IF('H01 HC06'!H42=\"\",\"\",'H01 HC06'!H42)","v":""},{"$f":"IF('H01 HC06'!I42=\"\",\"\",'H01 HC06'!I42)","v":""},null,null,{"$f":"IF('H01 HC06'!K42=\"\",\"\",'H01 HC06'!K42)","v":""},null,null,{"$f":"IF('H01 HC06'!N42=\"\",\"\",'H01 HC06'!N42)","v":"DN150"},null,{"$f":"IF('H01 HC06'!P42=\"\",\"\",'H01 HC06'!P42)","v":""},{"$f":"IF('H01 HC06'!Q42=\"\",\"\",'H01 HC06'!Q42)","v":""},{"$f":"IF('H01 HC06'!R42=\"\",\"\",'H01 HC06'!R42)","v":""},{"$f":"IF('H01 HC06'!S42=\"\",\"\",'H01 HC06'!S42)","v":""},{"$f":"IF('H01 HC06'!T42=\"\",\"\",'H01 HC06'!T42)","v":""}]
[null,{"$f":"IF('H01 HC06'!B43=\"\",\"\",'H01 HC06'!B43)","v":"H01"},{"$f":"IF('H01 HC06'!C43=\"\",\"\",'H01 HC06'!C43)","v":"HC06"},{"$f":"IF('H01 HC06'!D43=\"\",\"\",'H01 HC06'!D43)","v":"QMA"},null,null,null,null,null,{"$f":"IF('H01 HC06'!E43=\"\",\"\",'H01 HC06'!E43)","v":"100"},{"$f":"IF('H01 HC06'!F43=\"\",\"\",'H01 HC06'!F43)","v":"=H01:HC06:QMA100"},{"$f":"IF('H01 HC06'!G43=\"\",\"\",'H01 HC06'!G43)","v":""},{"$f":"IF('H01 HC06'!H43=\"\",\"\",'H01 HC06'!H43)","v":""},{"$f":"IF('H01 HC06'!I43=\"\",\"\",'H01 HC06'!I43)","v":""},null,null,{"$f":"IF('H01 HC06'!K43=\"\",\"\",'H01 HC06'!K43)","v":""},{"$f":"IF('H01 HC06'!L43=\"\",\"\",'H01 HC06'!L43)","v":"VIRA"},{"$f":"IF('H01 HC06'!M43=\"\",\"\",'H01 HC06'!M43)","v":"KVLE_P"},{"$f":"IF('H01 HC06'!N43=\"\",\"\",'H01 HC06'!N43)","v":"DN150"},{"$f":"IF('H01 HC06'!O43=\"\",\"\",'H01 HC06'!O43)","v":"KVLE-P_DN150"},{"$f":"IF('H01 HC06'!P43=\"\",\"\",'H01 HC06'!P43)","v":""},{"$f":"IF('H01 HC06'!Q43=\"\",\"\",'H01 HC06'!Q43)","v":""},{"$f":"IF('H01 HC06'!R43=\"\",\"\",'H01 HC06'!R43)","v":""},{"$f":"IF('H01 HC06'!S43=\"\",\"\",'H01 HC06'!S43)","v":""},{"$f":"IF('H01 HC06'!T43=\"\",\"\",'H01 HC06'!T43)","v":""}]
[null,{"$f":"IF('H01 HC06'!B44=\"\",\"\",'H01 HC06'!B44)","v":"H01"},{"$f":"IF('H01 HC06'!C44=\"\",\"\",'H01 HC06'!C44)","v":"HC06"},{"$f":"IF('H01 HC06'!D44=\"\",\"\",'H01 HC06'!D44)","v":"QMA"},null,null,null,null,null,{"$f":"IF('H01 HC06'!E44=\"\",\"\",'H01 HC06'!E44)","v":"101"},{"$f":"IF('H01 HC06'!F44=\"\",\"\",'H01 HC06'!F44)","v":"=H01:HC06:QMA101"},{"$f":"IF('H01 HC06'!G44=\"\",\"\",'H01 HC06'!G44)","v":""},{"$f":"IF('H01 HC06'!H44=\"\",\"\",'H01 HC06'!H44)","v":""},{"$f":"IF('H01 HC06'!I44=\"\",\"\",'H01 HC06'!I44)","v":""},null,null,{"$f":"IF('H01 HC06'!K44=\"\",\"\",'H01 HC06'!K44)","v":""},{"$f":"IF('H01 HC06'!L44=\"\",\"\",'H01 HC06'!L44)","v":"VIRA"},{"$f":"IF('H01 HC06'!M44=\"\",\"\",'H01 HC06'!M44)","v":"KVLE_P"},{"$f":"IF('H01 HC06'!N44=\"\",\"\",'H01 HC06'!N44)","v":"DN150"},{"$f":"IF('H01 HC06'!O44=\"\",\"\",'H01 HC06'!O44)","v":"KVLE-P_DN150"},{"$f":"IF('H01 HC06'!P44=\"\",\"\",'H01 HC06'!P44)","v":""},{"$f":"IF('H01 HC06'!Q44=\"\",\"\",'H01 HC06'!Q44)","v":""},{"$f":"IF('H01 HC06'!R44=\"\",\"\",'H01 HC06'!R44)","v":""},{"$f":"IF('H01 HC06'!S44=\"\",\"\",'H01 HC06'!S44)","v":""},{"$f":"IF('H01 HC06'!T44=\"\",\"\",'H01 HC06'!T44)","v":""}]
[null,{"$f":"IF('H01 HC06'!B45=\"\",\"\",'H01 HC06'!B45)","v":"H01"},{"$f":"IF('H01 HC06'!C45=\"\",\"\",'H01 HC06'!C45)","v":"HC06"},{"$f":"IF('H01 HC06'!D45=\"\",\"\",'H01 HC06'!D45)","v":"QMA"},null,null,null,null,null,{"$f":"IF('H01 HC06'!E45=\"\",\"\",'H01 HC06'!E45)","v":"102"},{"$f":"IF('H01 HC06'!F45=\"\",\"\",'H01 HC06'!F45)","v":"=H01:HC06:QMA102"},{"$f":"IF('H01 HC06'!G45=\"\",\"\",'H01 HC06'!G45)","v":""},{"$f":"IF('H01 HC06'!H45=\"\",\"\",'H01 HC06'!H45)","v":""},{"$f":"IF('H01 HC06'!I45=\"\",\"\",'H01 HC06'!I45)","v":""},null,null,{"$f":"IF('H01 HC06'!K45=\"\",\"\",'H01 HC06'!K45)","v":""},{"$f":"IF('H01 HC06'!L45=\"\",\"\",'H01 HC06'!L45)","v":"VIRA"},{"$f":"IF('H01 HC06'!M45=\"\",\"\",'H01 HC06'!M45)","v":"KVLE_P"},{"$f":"IF('H01 HC06'!N45=\"\",\"\",'H01 HC06'!N45)","v":"DN150"},{"$f":"IF('H01 HC06'!O45=\"\",\"\",'H01 HC06'!O45)","v":"KVLE-P_DN150"},{"$f":"IF('H01 HC06'!P45=\"\",\"\",'H01 HC06'!P45)","v":""},{"$f":"IF('H01 HC06'!Q45=\"\",\"\",'H01 HC06'!Q45)","v":""},{"$f":"IF('H01 HC06'!R45=\"\",\"\",'H01 HC06'!R45)","v":""},{"$f":"IF('H01 HC06'!S45=\"\",\"\",'H01 HC06'!S45)","v":""},{"$f":"IF('H01 HC06'!T45=\"\",\"\",'H01 HC06'!T45)","v":""}]
[null,{"$f":"IF('H01 HC06'!B46=\"\",\"\",'H01 HC06'!B46)","v":"H01"},{"$f":"IF('H01 HC06'!C46=\"\",\"\",'H01 HC06'!C46)","v":"HC06"},{"$f":"IF('H01 HC06'!D46=\"\",\"\",'H01 HC06'!D46)","v":"QMA"},null,null,null,null,null,{"$f":"IF('H01 HC06'!E46=\"\",\"\",'H01 HC06'!E46)","v":"103"},{"$f":"IF('H01 HC06'!F46=\"\",\"\",'H01 HC06'!F46)","v":"=H01:HC06:QMA103"},{"$f":"IF('H01 HC06'!G46=\"\",\"\",'H01 HC06'!G46)","v":""},{"$f":"IF('H01 HC06'!H46=\"\",\"\",'H01 HC06'!H46)","v":""},{"$f":"IF('H01 HC06'!I46=\"\",\"\",'H01 HC06'!I46)","v":""},null,null,{"$f":"IF('H01 HC06'!K46=\"\",\"\",'H01 HC06'!K46)","v":""},{"$f":"IF('H01 HC06'!L46=\"\",\"\",'H01 HC06'!L46)","v":"VIRA"},{"$f":"IF('H01 HC06'!M46=\"\",\"\",'H01 HC06'!M46)","v":"KVLE_P"},{"$f":"IF('H01 HC06'!N46=\"\",\"\",'H01 HC06'!N46)","v":"DN150"},{"$f":"IF('H01 HC06'!O46=\"\",\"\",'H01 HC06'!O46)","v":"KVLE-P_DN150"},{"$f":"IF('H01 HC06'!P46=\"\",\"\",'H01 HC06'!P46)","v":""},{"$f":"IF('H01 HC06'!Q46=\"\",\"\",'H01 HC06'!Q46)","v":""},{"$f":"IF('H01 HC06'!R46=\"\",\"\",'H01 HC06'!R46)","v":""},{"$f":"IF('H01 HC06'!S46=\"\",\"\",'H01 HC06'!S46)","v":""},{"$f":"IF('H01 HC06'!T46=\"\",\"\",'H01 HC06'!T46)","v":""}]
[null,{"$f":"IF('H01 HC06'!B47=\"\",\"\",'H01 HC06'!B47)","v":""},{"$f":"IF('H01 HC06'!C47=\"\",\"\",'H01 HC06'!C47)","v":""},{"$f":"IF('H01 HC06'!D47=\"\",\"\",'H01 HC06'!D47)","v":""},null,null,null,null,null,{"$f":"IF('H01 HC06'!E47=\"\",\"\",'H01 HC06'!E47)","v":""},{"$f":"IF('H01 HC06'!F47=\"\",\"\",'H01 HC06'!F47)","v":""},{"$f":"IF('H01 HC06'!G47=\"\",\"\",'H01 HC06'!G47)","v":""},{"$f":"IF('H01 HC06'!H47=\"\",\"\",'H01 HC06'!H47)","v":""},{"$f":"IF('H01 HC06'!I47=\"\",\"\",'H01 HC06'!I47)","v":""},{"$f":"IF('H01 HC06'!J47=\"\",\"\",'H01 HC06'!J47)","v":""},{"$f":"IF(D555=\"\",\"\",VLOOKUP(D555,#REF!,3,0))","v":""},{"$f":"IF('H01 HC06'!K47=\"\",\"\",'H01 HC06'!K47)","v":""},{"$f":"IF('H01 HC06'!L47=\"\",\"\",'H01 HC06'!L47)","v":""},{"$f":"IF('H01 HC06'!M47=\"\",\"\",'H01 HC06'!M47)","v":""},{"$f":"IF('H01 HC06'!N47=\"\",\"\",'H01 HC06'!N47)","v":""},{"$f":"IF('H01 HC06'!O47=\"\",\"\",'H01 HC06'!O47)","v":""},{"$f":"IF('H01 HC06'!P47=\"\",\"\",'H01 HC06'!P47)","v":""},{"$f":"IF('H01 HC06'!Q47=\"\",\"\",'H01 HC06'!Q47)","v":""},{"$f":"IF('H01 HC06'!R47=\"\",\"\",'H01 HC06'!R47)","v":""},{"$f":"IF('H01 HC06'!S47=\"\",\"\",'H01 HC06'!S47)","v":""},{"$f":"IF('H01 HC06'!T47=\"\",\"\",'H01 HC06'!T47)","v":""}]
[null,{"$f":"IF('H01 HC06'!B48=\"\",\"\",'H01 HC06'!B48)","v":""},{"$f":"IF('H01 HC06'!C48=\"\",\"\",'H01 HC06'!C48)","v":""},{"$f":"IF('H01 HC06'!D48=\"\",\"\",'H01 HC06'!D48)","v":""},null,null,null,null,null,{"$f":"IF('H01 HC06'!E48=\"\",\"\",'H01 HC06'!E48)","v":""},{"$f":"IF('H01 HC06'!F48=\"\",\"\",'H01 HC06'!F48)","v":""},{"$f":"IF('H01 HC06'!G48=\"\",\"\",'H01 HC06'!G48)","v":""},{"$f":"IF('H01 HC06'!H48=\"\",\"\",'H01 HC06'!H48)","v":""},{"$f":"IF('H01 HC06'!I48=\"\",\"\",'H01 HC06'!I48)","v":""},{"$f":"IF('H01 HC06'!J48=\"\",\"\",'H01 HC06'!J48)","v":""},{"$f":"IF(D556=\"\",\"\",VLOOKUP(D556,#REF!,3,0))","v":""},{"$f":"IF('H01 HC06'!K48=\"\",\"\",'H01 HC06'!K48)","v":""},{"$f":"IF('H01 HC06'!L48=\"\",\"\",'H01 HC06'!L48)","v":""},{"$f":"IF('H01 HC06'!M48=\"\",\"\",'H01 HC06'!M48)","v":""},{"$f":"IF('H01 HC06'!N48=\"\",\"\",'H01 HC06'!N48)","v":""},{"$f":"IF('H01 HC06'!O48=\"\",\"\",'H01 HC06'!O48)","v":""},{"$f":"IF('H01 HC06'!P48=\"\",\"\",'H01 HC06'!P48)","v":""},{"$f":"IF('H01 HC06'!Q48=\"\",\"\",'H01 HC06'!Q48)","v":""},{"$f":"IF('H01 HC06'!R48=\"\",\"\",'H01 HC06'!R48)","v":""},{"$f":"IF('H01 HC06'!S48=\"\",\"\",'H01 HC06'!S48)","v":""},{"$f":"IF('H01 HC06'!T48=\"\",\"\",'H01 HC06'!T48)","v":""}]
[null,{"$f":"IF('H01 HC06'!B49=\"\",\"\",'H01 HC06'!B49)","v":""},{"$f":"IF('H01 HC06'!C49=\"\",\"\",'H01 HC06'!C49)","v":""},{"$f":"IF('H01 HC06'!D49=\"\",\"\",'H01 HC06'!D49)","v":""},null,null,null,null,null,{"$f":"IF('H01 HC06'!E49=\"\",\"\",'H01 HC06'!E49)","v":""},{"$f":"IF('H01 HC06'!F49=\"\",\"\",'H01 HC06'!F49)","v":""},{"$f":"IF('H01 HC06'!G49=\"\",\"\",'H01 HC06'!G49)","v":""},{"$f":"IF('H01 HC06'!H49=\"\",\"\",'H01 HC06'!H49)","v":""},{"$f":"IF('H01 HC06'!I49=\"\",\"\",'H01 HC06'!I49)","v":""},{"$f":"IF('H01 HC06'!J49=\"\",\"\",'H01 HC06'!J49)","v":""},{"$f":"IF(D557=\"\",\"\",VLOOKUP(D557,#REF!,3,0))","v":""},{"$f":"IF('H01 HC06'!K49=\"\",\"\",'H01 HC06'!K49)","v":""},{"$f":"IF('H01 HC06'!L49=\"\",\"\",'H01 HC06'!L49)","v":""},{"$f":"IF('H01 HC06'!M49=\"\",\"\",'H01 HC06'!M49)","v":""},{"$f":"IF('H01 HC06'!N49=\"\",\"\",'H01 HC06'!N49)","v":""},{"$f":"IF('H01 HC06'!O49=\"\",\"\",'H01 HC06'!O49)","v":""},{"$f":"IF('H01 HC06'!P49=\"\",\"\",'H01 HC06'!P49)","v":""},{"$f":"IF('H01 HC06'!Q49=\"\",\"\",'H01 HC06'!Q49)","v":""},{"$f":"IF('H01 HC06'!R49=\"\",\"\",'H01 HC06'!R49)","v":""},{"$f":"IF('H01 HC06'!S49=\"\",\"\",'H01 HC06'!S49)","v":""},{"$f":"IF('H01 HC06'!T49=\"\",\"\",'H01 HC06'!T49)","v":""}]
[null,{"$f":"IF('H01 HC06'!B50=\"\",\"\",'H01 HC06'!B50)","v":""},{"$f":"IF('H01 HC06'!C50=\"\",\"\",'H01 HC06'!C50)","v":""},{"$f":"IF('H01 HC06'!D50=\"\",\"\",'H01 HC06'!D50)","v":""},null,null,null,null,null,{"$f":"IF('H01 HC06'!E50=\"\",\"\",'H01 HC06'!E50)","v":""},{"$f":"IF('H01 HC06'!F50=\"\",\"\",'H01 HC06'!F50)","v":""},{"$f":"IF('H01 HC06'!G50=\"\",\"\",'H01 HC06'!G50)","v":""},{"$f":"IF('H01 HC06'!H50=\"\",\"\",'H01 HC06'!H50)","v":""},{"$f":"IF('H01 HC06'!I50=\"\",\"\",'H01 HC06'!I50)","v":""},{"$f":"IF('H01 HC06'!J50=\"\",\"\",'H01 HC06'!J50)","v":""},{"$f":"IF(D558=\"\",\"\",VLOOKUP(D558,#REF!,3,0))","v":""},{"$f":"IF('H01 HC06'!K50=\"\",\"\",'H01 HC06'!K50)","v":""},{"$f":"IF('H01 HC06'!L50=\"\",\"\",'H01 HC06'!L50)","v":""},{"$f":"IF('H01 HC06'!M50=\"\",\"\",'H01 HC06'!M50)","v":""},{"$f":"IF('H01 HC06'!N50=\"\",\"\",'H01 HC06'!N50)","v":""},{"$f":"IF('H01 HC06'!O50=\"\",\"\",'H01 HC06'!O50)","v":""},{"$f":"IF('H01 HC06'!P50=\"\",\"\",'H01 HC06'!P50)","v":""},{"$f":"IF('H01 HC06'!Q50=\"\",\"\",'H01 HC06'!Q50)","v":""},{"$f":"IF('H01 HC06'!R50=\"\",\"\",'H01 HC06'!R50)","v":""},{"$f":"IF('H01 HC06'!S50=\"\",\"\",'H01 HC06'!S50)","v":""},{"$f":"IF('H01 HC06'!T50=\"\",\"\",'H01 HC06'!T50)","v":""}]
[null,{"$f":"IF('H01 HC06'!B51=\"\",\"\",'H01 HC06'!B51)","v":""},{"$f":"IF('H01 HC06'!C51=\"\",\"\",'H01 HC06'!C51)","v":""},{"$f":"IF('H01 HC06'!D51=\"\",\"\",'H01 HC06'!D51)","v":""},null,null,null,null,null,{"$f":"IF('H01 HC06'!E51=\"\",\"\",'H01 HC06'!E51)","v":""},{"$f":"IF('H01 HC06'!F51=\"\",\"\",'H01 HC06'!F51)","v":""},{"$f":"IF('H01 HC06'!G51=\"\",\"\",'H01 HC06'!G51)","v":""},{"$f":"IF('H01 HC06'!H51=\"\",\"\",'H01 HC06'!H51)","v":""},{"$f":"IF('H01 HC06'!I51=\"\",\"\",'H01 HC06'!I51)","v":""},{"$f":"IF('H01 HC06'!J51=\"\",\"\",'H01 HC06'!J51)","v":""},{"$f":"IF(D559=\"\",\"\",VLOOKUP(D559,#REF!,3,0))","v":""},{"$f":"IF('H01 HC06'!K51=\"\",\"\",'H01 HC06'!K51)","v":""},{"$f":"IF('H01 HC06'!L51=\"\",\"\",'H01 HC06'!L51)","v":""},{"$f":"IF('H01 HC06'!M51=\"\",\"\",'H01 HC06'!M51)","v":""},{"$f":"IF('H01 HC06'!N51=\"\",\"\",'H01 HC06'!N51)","v":""},{"$f":"IF('H01 HC06'!O51=\"\",\"\",'H01 HC06'!O51)","v":""},{"$f":"IF('H01 HC06'!P51=\"\",\"\",'H01 HC06'!P51)","v":""},{"$f":"IF('H01 HC06'!Q51=\"\",\"\",'H01 HC06'!Q51)","v":""},{"$f":"IF('H01 HC06'!R51=\"\",\"\",'H01 HC06'!R51)","v":""},{"$f":"IF('H01 HC06'!S51=\"\",\"\",'H01 HC06'!S51)","v":""},{"$f":"IF('H01 HC06'!T51=\"\",\"\",'H01 HC06'!T51)","v":""}]
[null,{"$f":"IF('H01 HC06'!B52=\"\",\"\",'H01 HC06'!B52)","v":""},{"$f":"IF('H01 HC06'!C52=\"\",\"\",'H01 HC06'!C52)","v":""},{"$f":"IF('H01 HC06'!D52=\"\",\"\",'H01 HC06'!D52)","v":""},null,null,null,null,null,{"$f":"IF('H01 HC06'!E52=\"\",\"\",'H01 HC06'!E52)","v":""},{"$f":"IF('H01 HC06'!F52=\"\",\"\",'H01 HC06'!F52)","v":""},{"$f":"IF('H01 HC06'!G52=\"\",\"\",'H01 HC06'!G52)","v":""},{"$f":"IF('H01 HC06'!H52=\"\",\"\",'H01 HC06'!H52)","v":""},{"$f":"IF('H01 HC06'!I52=\"\",\"\",'H01 HC06'!I52)","v":""},{"$f":"IF('H01 HC06'!J52=\"\",\"\",'H01 HC06'!J52)","v":""},{"$f":"IF(D560=\"\",\"\",VLOOKUP(D560,#REF!,3,0))","v":""},{"$f":"IF('H01 HC06'!K52=\"\",\"\",'H01 HC06'!K52)","v":""},{"$f":"IF('H01 HC06'!L52=\"\",\"\",'H01 HC06'!L52)","v":""},{"$f":"IF('H01 HC06'!M52=\"\",\"\",'H01 HC06'!M52)","v":""},{"$f":"IF('H01 HC06'!N52=\"\",\"\",'H01 HC06'!N52)","v":""},{"$f":"IF('H01 HC06'!O52=\"\",\"\",'H01 HC06'!O52)","v":""},{"$f":"IF('H01 HC06'!P52=\"\",\"\",'H01 HC06'!P52)","v":""},{"$f":"IF('H01 HC06'!Q52=\"\",\"\",'H01 HC06'!Q52)","v":""},{"$f":"IF('H01 HC06'!R52=\"\",\"\",'H01 HC06'!R52)","v":""},{"$f":"IF('H01 HC06'!S52=\"\",\"\",'H01 HC06'!S52)","v":""},{"$f":"IF('H01 HC06'!T52=\"\",\"\",'H01 HC06'!T52)","v":""}]
[null,{"$f":"IF('H01 HC06'!B53=\"\",\"\",'H01 HC06'!B53)","v":""},{"$f":"IF('H01 HC06'!C53=\"\",\"\",'H01 HC06'!C53)","v":""},{"$f":"IF('H01 HC06'!D53=\"\",\"\",'H01 HC06'!D53)","v":""},null,null,null,null,null,{"$f":"IF('H01 HC06'!E53=\"\",\"\",'H01 HC06'!E53)","v":""},{"$f":"IF('H01 HC06'!F53=\"\",\"\",'H01 HC06'!F53)","v":""},{"$f":"IF('H01 HC06'!G53=\"\",\"\",'H01 HC06'!G53)","v":""},{"$f":"IF('H01 HC06'!H53=\"\",\"\",'H01 HC06'!H53)","v":""},{"$f":"IF('H01 HC06'!I53=\"\",\"\",'H01 HC06'!I53)","v":""},{"$f":"IF('H01 HC06'!J53=\"\",\"\",'H01 HC06'!J53)","v":""},{"$f":"IF(D561=\"\",\"\",VLOOKUP(D561,#REF!,3,0))","v":""},{"$f":"IF('H01 HC06'!K53=\"\",\"\",'H01 HC06'!K53)","v":""},{"$f":"IF('H01 HC06'!L53=\"\",\"\",'H01 HC06'!L53)","v":""},{"$f":"IF('H01 HC06'!M53=\"\",\"\",'H01 HC06'!M53)","v":""},{"$f":"IF('H01 HC06'!N53=\"\",\"\",'H01 HC06'!N53)","v":""},{"$f":"IF('H01 HC06'!O53=\"\",\"\",'H01 HC06'!O53)","v":""},{"$f":"IF('H01 HC06'!P53=\"\",\"\",'H01 HC06'!P53)","v":""},{"$f":"IF('H01 HC06'!Q53=\"\",\"\",'H01 HC06'!Q53)","v":""},{"$f":"IF('H01 HC06'!R53=\"\",\"\",'H01 HC06'!R53)","v":""},{"$f":"IF('H01 HC06'!S53=\"\",\"\",'H01 HC06'!S53)","v":""},{"$f":"IF('H01 HC06'!T53=\"\",\"\",'H01 HC06'!T53)","v":""}]
[null,{"$f":"IF('H01 HC06'!B54=\"\",\"\",'H01 HC06'!B54)","v":""},{"$f":"IF('H01 HC06'!C54=\"\",\"\",'H01 HC06'!C54)","v":""},{"$f":"IF('H01 HC06'!D54=\"\",\"\",'H01 HC06'!D54)","v":""},null,null,null,null,null,{"$f":"IF('H01 HC06'!E54=\"\",\"\",'H01 HC06'!E54)","v":""},{"$f":"IF('H01 HC06'!F54=\"\",\"\",'H01 HC06'!F54)","v":""},{"$f":"IF('H01 HC06'!G54=\"\",\"\",'H01 HC06'!G54)","v":""},{"$f":"IF('H01 HC06'!H54=\"\",\"\",'H01 HC06'!H54)","v":""},{"$f":"IF('H01 HC06'!I54=\"\",\"\",'H01 HC06'!I54)","v":""},{"$f":"IF('H01 HC06'!J54=\"\",\"\",'H01 HC06'!J54)","v":""},{"$f":"IF(D562=\"\",\"\",VLOOKUP(D562,#REF!,3,0))","v":""},{"$f":"IF('H01 HC06'!K54=\"\",\"\",'H01 HC06'!K54)","v":""},{"$f":"IF('H01 HC06'!L54=\"\",\"\",'H01 HC06'!L54)","v":""},{"$f":"IF('H01 HC06'!M54=\"\",\"\",'H01 HC06'!M54)","v":""},{"$f":"IF('H01 HC06'!N54=\"\",\"\",'H01 HC06'!N54)","v":""},{"$f":"IF('H01 HC06'!O54=\"\",\"\",'H01 HC06'!O54)","v":""},{"$f":"IF('H01 HC06'!P54=\"\",\"\",'H01 HC06'!P54)","v":""},{"$f":"IF('H01 HC06'!Q54=\"\",\"\",'H01 HC06'!Q54)","v":""},{"$f":"IF('H01 HC06'!R54=\"\",\"\",'H01 HC06'!R54)","v":""},{"$f":"IF('H01 HC06'!S54=\"\",\"\",'H01 HC06'!S54)","v":""},{"$f":"IF('H01 HC06'!T54=\"\",\"\",'H01 HC06'!T54)","v":""}]
[null,{"$f":"IF('H01 HC06'!B55=\"\",\"\",'H01 HC06'!B55)","v":""},{"$f":"IF('H01 HC06'!C55=\"\",\"\",'H01 HC06'!C55)","v":""},{"$f":"IF('H01 HC06'!D55=\"\",\"\",'H01 HC06'!D55)","v":""},null,null,null,null,null,{"$f":"IF('H01 HC06'!E55=\"\",\"\",'H01 HC06'!E55)","v":""},{"$f":"IF('H01 HC06'!F55=\"\",\"\",'H01 HC06'!F55)","v":""},{"$f":"IF('H01 HC06'!G55=\"\",\"\",'H01 HC06'!G55)","v":""},{"$f":"IF('H01 HC06'!H55=\"\",\"\",'H01 HC06'!H55)","v":""},{"$f":"IF('H01 HC06'!I55=\"\",\"\",'H01 HC06'!I55)","v":""},{"$f":"IF('H01 HC06'!J55=\"\",\"\",'H01 HC06'!J55)","v":""},{"$f":"IF(D563=\"\",\"\",VLOOKUP(D563,#REF!,3,0))","v":""},{"$f":"IF('H01 HC06'!K55=\"\",\"\",'H01 HC06'!K55)","v":""},{"$f":"IF('H01 HC06'!L55=\"\",\"\",'H01 HC06'!L55)","v":""},{"$f":"IF('H01 HC06'!M55=\"\",\"\",'H01 HC06'!M55)","v":""},{"$f":"IF('H01 HC06'!N55=\"\",\"\",'H01 HC06'!N55)","v":""},{"$f":"IF('H01 HC06'!O55=\"\",\"\",'H01 HC06'!O55)","v":""},{"$f":"IF('H01 HC06'!P55=\"\",\"\",'H01 HC06'!P55)","v":""},{"$f":"IF('H01 HC06'!Q55=\"\",\"\",'H01 HC06'!Q55)","v":""},{"$f":"IF('H01 HC06'!R55=\"\",\"\",'H01 HC06'!R55)","v":""},{"$f":"IF('H01 HC06'!S55=\"\",\"\",'H01 HC06'!S55)","v":""},{"$f":"IF('H01 HC06'!T55=\"\",\"\",'H01 HC06'!T55)","v":""}]
[null,{"$f":"IF('H01 HC06'!B56=\"\",\"\",'H01 HC06'!B56)","v":""},{"$f":"IF('H01 HC06'!C56=\"\",\"\",'H01 HC06'!C56)","v":""},{"$f":"IF('H01 HC06'!D56=\"\",\"\",'H01 HC06'!D56)","v":""},null,null,null,null,null,{"$f":"IF('H01 HC06'!E56=\"\",\"\",'H01 HC06'!E56)","v":""},{"$f":"IF('H01 HC06'!F56=\"\",\"\",'H01 HC06'!F56)","v":""},{"$f":"IF('H01 HC06'!G56=\"\",\"\",'H01 HC06'!G56)","v":""},{"$f":"IF('H01 HC06'!H56=\"\",\"\",'H01 HC06'!H56)","v":""},{"$f":"IF('H01 HC06'!I56=\"\",\"\",'H01 HC06'!I56)","v":""},{"$f":"IF('H01 HC06'!J56=\"\",\"\",'H01 HC06'!J56)","v":""},{"$f":"IF(D564=\"\",\"\",VLOOKUP(D564,#REF!,3,0))","v":""},{"$f":"IF('H01 HC06'!K56=\"\",\"\",'H01 HC06'!K56)","v":""},{"$f":"IF('H01 HC06'!L56=\"\",\"\",'H01 HC06'!L56)","v":""},{"$f":"IF('H01 HC06'!M56=\"\",\"\",'H01 HC06'!M56)","v":""},{"$f":"IF('H01 HC06'!N56=\"\",\"\",'H01 HC06'!N56)","v":""},{"$f":"IF('H01 HC06'!O56=\"\",\"\",'H01 HC06'!O56)","v":""},{"$f":"IF('H01 HC06'!P56=\"\",\"\",'H01 HC06'!P56)","v":""},{"$f":"IF('H01 HC06'!Q56=\"\",\"\",'H01 HC06'!Q56)","v":""},{"$f":"IF('H01 HC06'!R56=\"\",\"\",'H01 HC06'!R56)","v":""},{"$f":"IF('H01 HC06'!S56=\"\",\"\",'H01 HC06'!S56)","v":""},{"$f":"IF('H01 HC06'!T56=\"\",\"\",'H01 HC06'!T56)","v":""}]
[null,{"$f":"IF('H01 HC06'!B57=\"\",\"\",'H01 HC06'!B57)","v":""},{"$f":"IF('H01 HC06'!C57=\"\",\"\",'H01 HC06'!C57)","v":""},{"$f":"IF('H01 HC06'!D57=\"\",\"\",'H01 HC06'!D57)","v":""},null,null,null,null,null,{"$f":"IF('H01 HC06'!E57=\"\",\"\",'H01 HC06'!E57)","v":""},{"$f":"IF('H01 HC06'!F57=\"\",\"\",'H01 HC06'!F57)","v":""},{"$f":"IF('H01 HC06'!G57=\"\",\"\",'H01 HC06'!G57)","v":""},{"$f":"IF('H01 HC06'!H57=\"\",\"\",'H01 HC06'!H57)","v":""},{"$f":"IF('H01 HC06'!I57=\"\",\"\",'H01 HC06'!I57)","v":""},{"$f":"IF('H01 HC06'!J57=\"\",\"\",'H01 HC06'!J57)","v":""},{"$f":"IF(D565=\"\",\"\",VLOOKUP(D565,#REF!,3,0))","v":""},{"$f":"IF('H01 HC06'!K57=\"\",\"\",'H01 HC06'!K57)","v":""},{"$f":"IF('H01 HC06'!L57=\"\",\"\",'H01 HC06'!L57)","v":""},{"$f":"IF('H01 HC06'!M57=\"\",\"\",'H01 HC06'!M57)","v":""},{"$f":"IF('H01 HC06'!N57=\"\",\"\",'H01 HC06'!N57)","v":""},{"$f":"IF('H01 HC06'!O57=\"\",\"\",'H01 HC06'!O57)","v":""},{"$f":"IF('H01 HC06'!P57=\"\",\"\",'H01 HC06'!P57)","v":""},{"$f":"IF('H01 HC06'!Q57=\"\",\"\",'H01 HC06'!Q57)","v":""},{"$f":"IF('H01 HC06'!R57=\"\",\"\",'H01 HC06'!R57)","v":""},{"$f":"IF('H01 HC06'!S57=\"\",\"\",'H01 HC06'!S57)","v":""},{"$f":"IF('H01 HC06'!T57=\"\",\"\",'H01 HC06'!T57)","v":""}]
[null,{"$f":"IF('H01 HC06'!B58=\"\",\"\",'H01 HC06'!B58)","v":""},{"$f":"IF('H01 HC06'!C58=\"\",\"\",'H01 HC06'!C58)","v":""},{"$f":"IF('H01 HC06'!D58=\"\",\"\",'H01 HC06'!D58)","v":""},null,null,null,null,null,{"$f":"IF('H01 HC06'!E58=\"\",\"\",'H01 HC06'!E58)","v":""},{"$f":"IF('H01 HC06'!F58=\"\",\"\",'H01 HC06'!F58)","v":""},{"$f":"IF('H01 HC06'!G58=\"\",\"\",'H01 HC06'!G58)","v":""},{"$f":"IF('H01 HC06'!H58=\"\",\"\",'H01 HC06'!H58)","v":""},{"$f":"IF('H01 HC06'!I58=\"\",\"\",'H01 HC06'!I58)","v":""},{"$f":"IF('H01 HC06'!J58=\"\",\"\",'H01 HC06'!J58)","v":""},{"$f":"IF(D566=\"\",\"\",VLOOKUP(D566,#REF!,3,0))","v":""},{"$f":"IF('H01 HC06'!K58=\"\",\"\",'H01 HC06'!K58)","v":""},{"$f":"IF('H01 HC06'!L58=\"\",\"\",'H01 HC06'!L58)","v":""},{"$f":"IF('H01 HC06'!M58=\"\",\"\",'H01 HC06'!M58)","v":""},{"$f":"IF('H01 HC06'!N58=\"\",\"\",'H01 HC06'!N58)","v":""},{"$f":"IF('H01 HC06'!O58=\"\",\"\",'H01 HC06'!O58)","v":""},{"$f":"IF('H01 HC06'!P58=\"\",\"\",'H01 HC06'!P58)","v":""},{"$f":"IF('H01 HC06'!Q58=\"\",\"\",'H01 HC06'!Q58)","v":""},{"$f":"IF('H01 HC06'!R58=\"\",\"\",'H01 HC06'!R58)","v":""},{"$f":"IF('H01 HC06'!S58=\"\",\"\",'H01 HC06'!S58)","v":""},{"$f":"IF('H01 HC06'!T58=\"\",\"\",'H01 HC06'!T58)","v":""}]
[null,{"$f":"IF('H01 HC06'!B59=\"\",\"\",'H01 HC06'!B59)","v":""},{"$f":"IF('H01 HC06'!C59=\"\",\"\",'H01 HC06'!C59)","v":""},{"$f":"IF('H01 HC06'!D59=\"\",\"\",'H01 HC06'!D59)","v":""},null,null,null,null,null,{"$f":"IF('H01 HC06'!E59=\"\",\"\",'H01 HC06'!E59)","v":""},{"$f":"IF('H01 HC06'!F59=\"\",\"\",'H01 HC06'!F59)","v":""},{"$f":"IF('H01 HC06'!G59=\"\",\"\",'H01 HC06'!G59)","v":""},{"$f":"IF('H01 HC06'!H59=\"\",\"\",'H01 HC06'!H59)","v":""},{"$f":"IF('H01 HC06'!I59=\"\",\"\",'H01 HC06'!I59)","v":""},{"$f":"IF('H01 HC06'!J59=\"\",\"\",'H01 HC06'!J59)","v":""},{"$f":"IF(D567=\"\",\"\",VLOOKUP(D567,#REF!,3,0))","v":""},{"$f":"IF('H01 HC06'!K59=\"\",\"\",'H01 HC06'!K59)","v":""},{"$f":"IF('H01 HC06'!L59=\"\",\"\",'H01 HC06'!L59)","v":""},{"$f":"IF('H01 HC06'!M59=\"\",\"\",'H01 HC06'!M59)","v":""},{"$f":"IF('H01 HC06'!N59=\"\",\"\",'H01 HC06'!N59)","v":""},{"$f":"IF('H01 HC06'!O59=\"\",\"\",'H01 HC06'!O59)","v":""},{"$f":"IF('H01 HC06'!P59=\"\",\"\",'H01 HC06'!P59)","v":""},{"$f":"IF('H01 HC06'!Q59=\"\",\"\",'H01 HC06'!Q59)","v":""},{"$f":"IF('H01 HC06'!R59=\"\",\"\",'H01 HC06'!R59)","v":""},{"$f":"IF('H01 HC06'!S59=\"\",\"\",'H01 HC06'!S59)","v":""},{"$f":"IF('H01 HC06'!T59=\"\",\"\",'H01 HC06'!T59)","v":""}]
[null,{"$f":"IF('H01 HC06'!B60=\"\",\"\",'H01 HC06'!B60)","v":""},{"$f":"IF('H01 HC06'!C60=\"\",\"\",'H01 HC06'!C60)","v":""},{"$f":"IF('H01 HC06'!D60=\"\",\"\",'H01 HC06'!D60)","v":""},null,null,null,null,null,{"$f":"IF('H01 HC06'!E60=\"\",\"\",'H01 HC06'!E60)","v":""},{"$f":"IF('H01 HC06'!F60=\"\",\"\",'H01 HC06'!F60)","v":""},{"$f":"IF('H01 HC06'!G60=\"\",\"\",'H01 HC06'!G60)","v":""},{"$f":"IF('H01 HC06'!H60=\"\",\"\",'H01 HC06'!H60)","v":""},{"$f":"IF('H01 HC06'!I60=\"\",\"\",'H01 HC06'!I60)","v":""},{"$f":"IF('H01 HC06'!J60=\"\",\"\",'H01 HC06'!J60)","v":""},{"$f":"IF(D568=\"\",\"\",VLOOKUP(D568,#REF!,3,0))","v":""},{"$f":"IF('H01 HC06'!K60=\"\",\"\",'H01 HC06'!K60)","v":""},{"$f":"IF('H01 HC06'!L60=\"\",\"\",'H01 HC06'!L60)","v":""},{"$f":"IF('H01 HC06'!M60=\"\",\"\",'H01 HC06'!M60)","v":""},{"$f":"IF('H01 HC06'!N60=\"\",\"\",'H01 HC06'!N60)","v":""},{"$f":"IF('H01 HC06'!O60=\"\",\"\",'H01 HC06'!O60)","v":""},{"$f":"IF('H01 HC06'!P60=\"\",\"\",'H01 HC06'!P60)","v":""},{"$f":"IF('H01 HC06'!Q60=\"\",\"\",'H01 HC06'!Q60)","v":""},{"$f":"IF('H01 HC06'!R60=\"\",\"\",'H01 HC06'!R60)","v":""},{"$f":"IF('H01 HC06'!S60=\"\",\"\",'H01 HC06'!S60)","v":""},{"$f":"IF('H01 HC06'!T60=\"\",\"\",'H01 HC06'!T60)","v":""}]
[null,{"$f":"IF('H01 HC06'!B61=\"\",\"\",'H01 HC06'!B61)","v":""},{"$f":"IF('H01 HC06'!C61=\"\",\"\",'H01 HC06'!C61)","v":""},{"$f":"IF('H01 HC06'!D61=\"\",\"\",'H01 HC06'!D61)","v":""},null,null,null,null,null,{"$f":"IF('H01 HC06'!E61=\"\",\"\",'H01 HC06'!E61)","v":""},{"$f":"IF('H01 HC06'!F61=\"\",\"\",'H01 HC06'!F61)","v":""},{"$f":"IF('H01 HC06'!G61=\"\",\"\",'H01 HC06'!G61)","v":""},{"$f":"IF('H01 HC06'!H61=\"\",\"\",'H01 HC06'!H61)","v":""},{"$f":"IF('H01 HC06'!I61=\"\",\"\",'H01 HC06'!I61)","v":""},{"$f":"IF('H01 HC06'!J61=\"\",\"\",'H01 HC06'!J61)","v":""},{"$f":"IF(D569=\"\",\"\",VLOOKUP(D569,#REF!,3,0))","v":""},{"$f":"IF('H01 HC06'!K61=\"\",\"\",'H01 HC06'!K61)","v":""},{"$f":"IF('H01 HC06'!L61=\"\",\"\",'H01 HC06'!L61)","v":""},{"$f":"IF('H01 HC06'!M61=\"\",\"\",'H01 HC06'!M61)","v":""},{"$f":"IF('H01 HC06'!N61=\"\",\"\",'H01 HC06'!N61)","v":""},{"$f":"IF('H01 HC06'!O61=\"\",\"\",'H01 HC06'!O61)","v":""},{"$f":"IF('H01 HC06'!P61=\"\",\"\",'H01 HC06'!P61)","v":""},{"$f":"IF('H01 HC06'!Q61=\"\",\"\",'H01 HC06'!Q61)","v":""},{"$f":"IF('H01 HC06'!R61=\"\",\"\",'H01 HC06'!R61)","v":""},{"$f":"IF('H01 HC06'!S61=\"\",\"\",'H01 HC06'!S61)","v":""},{"$f":"IF('H01 HC06'!T61=\"\",\"\",'H01 HC06'!T61)","v":""}]
[null,{"$f":"IF('H01 HC06'!B62=\"\",\"\",'H01 HC06'!B62)","v":""},{"$f":"IF('H01 HC06'!C62=\"\",\"\",'H01 HC06'!C62)","v":""},{"$f":"IF('H01 HC06'!D62=\"\",\"\",'H01 HC06'!D62)","v":""},null,null,null,null,null,{"$f":"IF('H01 HC06'!E62=\"\",\"\",'H01 HC06'!E62)","v":""},{"$f":"IF('H01 HC06'!F62=\"\",\"\",'H01 HC06'!F62)","v":""},{"$f":"IF('H01 HC06'!G62=\"\",\"\",'H01 HC06'!G62)","v":""},{"$f":"IF('H01 HC06'!H62=\"\",\"\",'H01 HC06'!H62)","v":""},{"$f":"IF('H01 HC06'!I62=\"\",\"\",'H01 HC06'!I62)","v":""},{"$f":"IF('H01 HC06'!J62=\"\",\"\",'H01 HC06'!J62)","v":""},{"$f":"IF(D570=\"\",\"\",VLOOKUP(D570,#REF!,3,0))","v":""},{"$f":"IF('H01 HC06'!K62=\"\",\"\",'H01 HC06'!K62)","v":""},{"$f":"IF('H01 HC06'!L62=\"\",\"\",'H01 HC06'!L62)","v":""},{"$f":"IF('H01 HC06'!M62=\"\",\"\",'H01 HC06'!M62)","v":""},{"$f":"IF('H01 HC06'!N62=\"\",\"\",'H01 HC06'!N62)","v":""},{"$f":"IF('H01 HC06'!O62=\"\",\"\",'H01 HC06'!O62)","v":""},{"$f":"IF('H01 HC06'!P62=\"\",\"\",'H01 HC06'!P62)","v":""},{"$f":"IF('H01 HC06'!Q62=\"\",\"\",'H01 HC06'!Q62)","v":""},{"$f":"IF('H01 HC06'!R62=\"\",\"\",'H01 HC06'!R62)","v":""},{"$f":"IF('H01 HC06'!S62=\"\",\"\",'H01 HC06'!S62)","v":""},{"$f":"IF('H01 HC06'!T62=\"\",\"\",'H01 HC06'!T62)","v":""}]
[null,{"$f":"IF('H01 HC06'!B63=\"\",\"\",'H01 HC06'!B63)","v":""},{"$f":"IF('H01 HC06'!C63=\"\",\"\",'H01 HC06'!C63)","v":""},{"$f":"IF('H01 HC06'!D63=\"\",\"\",'H01 HC06'!D63)","v":""},null,null,null,null,null,{"$f":"IF('H01 HC06'!E63=\"\",\"\",'H01 HC06'!E63)","v":""},{"$f":"IF('H01 HC06'!F63=\"\",\"\",'H01 HC06'!F63)","v":""},{"$f":"IF('H01 HC06'!G63=\"\",\"\",'H01 HC06'!G63)","v":""},{"$f":"IF('H01 HC06'!H63=\"\",\"\",'H01 HC06'!H63)","v":""},{"$f":"IF('H01 HC06'!I63=\"\",\"\",'H01 HC06'!I63)","v":""},{"$f":"IF('H01 HC06'!J63=\"\",\"\",'H01 HC06'!J63)","v":""},{"$f":"IF(D571=\"\",\"\",VLOOKUP(D571,#REF!,3,0))","v":""},{"$f":"IF('H01 HC06'!K63=\"\",\"\",'H01 HC06'!K63)","v":""},{"$f":"IF('H01 HC06'!L63=\"\",\"\",'H01 HC06'!L63)","v":""},{"$f":"IF('H01 HC06'!M63=\"\",\"\",'H01 HC06'!M63)","v":""},{"$f":"IF('H01 HC06'!N63=\"\",\"\",'H01 HC06'!N63)","v":""},{"$f":"IF('H01 HC06'!O63=\"\",\"\",'H01 HC06'!O63)","v":""},{"$f":"IF('H01 HC06'!P63=\"\",\"\",'H01 HC06'!P63)","v":""},{"$f":"IF('H01 HC06'!Q63=\"\",\"\",'H01 HC06'!Q63)","v":""},{"$f":"IF('H01 HC06'!R63=\"\",\"\",'H01 HC06'!R63)","v":""},{"$f":"IF('H01 HC06'!S63=\"\",\"\",'H01 HC06'!S63)","v":""},{"$f":"IF('H01 HC06'!T63=\"\",\"\",'H01 HC06'!T63)","v":""}]
[null,{"$f":"IF('H01 HC06'!B64=\"\",\"\",'H01 HC06'!B64)","v":""},{"$f":"IF('H01 HC06'!C64=\"\",\"\",'H01 HC06'!C64)","v":""},{"$f":"IF('H01 HC06'!D64=\"\",\"\",'H01 HC06'!D64)","v":""},null,null,null,null,null,{"$f":"IF('H01 HC06'!E64=\"\",\"\",'H01 HC06'!E64)","v":""},{"$f":"IF('H01 HC06'!F64=\"\",\"\",'H01 HC06'!F64)","v":""},{"$f":"IF('H01 HC06'!G64=\"\",\"\",'H01 HC06'!G64)","v":""},{"$f":"IF('H01 HC06'!H64=\"\",\"\",'H01 HC06'!H64)","v":""},{"$f":"IF('H01 HC06'!I64=\"\",\"\",'H01 HC06'!I64)","v":""},{"$f":"IF('H01 HC06'!J64=\"\",\"\",'H01 HC06'!J64)","v":""},{"$f":"IF(D572=\"\",\"\",VLOOKUP(D572,#REF!,3,0))","v":""},{"$f":"IF('H01 HC06'!K64=\"\",\"\",'H01 HC06'!K64)","v":""},{"$f":"IF('H01 HC06'!L64=\"\",\"\",'H01 HC06'!L64)","v":""},{"$f":"IF('H01 HC06'!M64=\"\",\"\",'H01 HC06'!M64)","v":""},{"$f":"IF('H01 HC06'!N64=\"\",\"\",'H01 HC06'!N64)","v":""},{"$f":"IF('H01 HC06'!O64=\"\",\"\",'H01 HC06'!O64)","v":""},{"$f":"IF('H01 HC06'!P64=\"\",\"\",'H01 HC06'!P64)","v":""},{"$f":"IF('H01 HC06'!Q64=\"\",\"\",'H01 HC06'!Q64)","v":""},{"$f":"IF('H01 HC06'!R64=\"\",\"\",'H01 HC06'!R64)","v":""},{"$f":"IF('H01 HC06'!S64=\"\",\"\",'H01 HC06'!S64)","v":""},{"$f":"IF('H01 HC06'!T64=\"\",\"\",'H01 HC06'!T64)","v":""}]
[null,{"$f":"IF('H01 HC06'!B65=\"\",\"\",'H01 HC06'!B65)","v":""},{"$f":"IF('H01 HC06'!C65=\"\",\"\",'H01 HC06'!C65)","v":""},{"$f":"IF('H01 HC06'!D65=\"\",\"\",'H01 HC06'!D65)","v":""},null,null,null,null,null,{"$f":"IF('H01 HC06'!E65=\"\",\"\",'H01 HC06'!E65)","v":""},{"$f":"IF('H01 HC06'!F65=\"\",\"\",'H01 HC06'!F65)","v":""},{"$f":"IF('H01 HC06'!G65=\"\",\"\",'H01 HC06'!G65)","v":""},{"$f":"IF('H01 HC06'!H65=\"\",\"\",'H01 HC06'!H65)","v":""},{"$f":"IF('H01 HC06'!I65=\"\",\"\",'H01 HC06'!I65)","v":""},{"$f":"IF('H01 HC06'!J65=\"\",\"\",'H01 HC06'!J65)","v":""},{"$f":"IF(D573=\"\",\"\",VLOOKUP(D573,#REF!,3,0))","v":""},{"$f":"IF('H01 HC06'!K65=\"\",\"\",'H01 HC06'!K65)","v":""},{"$f":"IF('H01 HC06'!L65=\"\",\"\",'H01 HC06'!L65)","v":""},{"$f":"IF('H01 HC06'!M65=\"\",\"\",'H01 HC06'!M65)","v":""},{"$f":"IF('H01 HC06'!N65=\"\",\"\",'H01 HC06'!N65)","v":""},{"$f":"IF('H01 HC06'!O65=\"\",\"\",'H01 HC06'!O65)","v":""},{"$f":"IF('H01 HC06'!P65=\"\",\"\",'H01 HC06'!P65)","v":""},{"$f":"IF('H01 HC06'!Q65=\"\",\"\",'H01 HC06'!Q65)","v":""},{"$f":"IF('H01 HC06'!R65=\"\",\"\",'H01 HC06'!R65)","v":""},{"$f":"IF('H01 HC06'!S65=\"\",\"\",'H01 HC06'!S65)","v":""},{"$f":"IF('H01 HC06'!T65=\"\",\"\",'H01 HC06'!T65)","v":""}]
[null,{"$f":"IF('H01 HC06'!B66=\"\",\"\",'H01 HC06'!B66)","v":""},{"$f":"IF('H01 HC06'!C66=\"\",\"\",'H01 HC06'!C66)","v":""},{"$f":"IF('H01 HC06'!D66=\"\",\"\",'H01 HC06'!D66)","v":""},null,null,null,null,null,{"$f":"IF('H01 HC06'!E66=\"\",\"\",'H01 HC06'!E66)","v":""},{"$f":"IF('H01 HC06'!F66=\"\",\"\",'H01 HC06'!F66)","v":""},{"$f":"IF('H01 HC06'!G66=\"\",\"\",'H01 HC06'!G66)","v":""},{"$f":"IF('H01 HC06'!H66=\"\",\"\",'H01 HC06'!H66)","v":""},{"$f":"IF('H01 HC06'!I66=\"\",\"\",'H01 HC06'!I66)","v":""},{"$f":"IF('H01 HC06'!J66=\"\",\"\",'H01 HC06'!J66)","v":""},{"$f":"IF(D574=\"\",\"\",VLOOKUP(D574,#REF!,3,0))","v":""},{"$f":"IF('H01 HC06'!K66=\"\",\"\",'H01 HC06'!K66)","v":""},{"$f":"IF('H01 HC06'!L66=\"\",\"\",'H01 HC06'!L66)","v":""},{"$f":"IF('H01 HC06'!M66=\"\",\"\",'H01 HC06'!M66)","v":""},{"$f":"IF('H01 HC06'!N66=\"\",\"\",'H01 HC06'!N66)","v":""},{"$f":"IF('H01 HC06'!O66=\"\",\"\",'H01 HC06'!O66)","v":""},{"$f":"IF('H01 HC06'!P66=\"\",\"\",'H01 HC06'!P66)","v":""},{"$f":"IF('H01 HC06'!Q66=\"\",\"\",'H01 HC06'!Q66)","v":""},{"$f":"IF('H01 HC06'!R66=\"\",\"\",'H01 HC06'!R66)","v":""},{"$f":"IF('H01 HC06'!S66=\"\",\"\",'H01 HC06'!S66)","v":""},{"$f":"IF('H01 HC06'!T66=\"\",\"\",'H01 HC06'!T66)","v":""}]
[null,{"$f":"IF('H01 HC06'!B67=\"\",\"\",'H01 HC06'!B67)","v":""},{"$f":"IF('H01 HC06'!C67=\"\",\"\",'H01 HC06'!C67)","v":""},{"$f":"IF('H01 HC06'!D67=\"\",\"\",'H01 HC06'!D67)","v":""},null,null,null,null,null,{"$f":"IF('H01 HC06'!E67=\"\",\"\",'H01 HC06'!E67)","v":""},{"$f":"IF('H01 HC06'!F67=\"\",\"\",'H01 HC06'!F67)","v":""},{"$f":"IF('H01 HC06'!G67=\"\",\"\",'H01 HC06'!G67)","v":""},{"$f":"IF('H01 HC06'!H67=\"\",\"\",'H01 HC06'!H67)","v":""},{"$f":"IF('H01 HC06'!I67=\"\",\"\",'H01 HC06'!I67)","v":""},{"$f":"IF('H01 HC06'!J67=\"\",\"\",'H01 HC06'!J67)","v":""},{"$f":"IF(D575=\"\",\"\",VLOOKUP(D575,#REF!,3,0))","v":""},{"$f":"IF('H01 HC06'!K67=\"\",\"\",'H01 HC06'!K67)","v":""},{"$f":"IF('H01 HC06'!L67=\"\",\"\",'H01 HC06'!L67)","v":""},{"$f":"IF('H01 HC06'!M67=\"\",\"\",'H01 HC06'!M67)","v":""},{"$f":"IF('H01 HC06'!N67=\"\",\"\",'H01 HC06'!N67)","v":""},{"$f":"IF('H01 HC06'!O67=\"\",\"\",'H01 HC06'!O67)","v":""},{"$f":"IF('H01 HC06'!P67=\"\",\"\",'H01 HC06'!P67)","v":""},{"$f":"IF('H01 HC06'!Q67=\"\",\"\",'H01 HC06'!Q67)","v":""},{"$f":"IF('H01 HC06'!R67=\"\",\"\",'H01 HC06'!R67)","v":""},{"$f":"IF('H01 HC06'!S67=\"\",\"\",'H01 HC06'!S67)","v":""},{"$f":"IF('H01 HC06'!T67=\"\",\"\",'H01 HC06'!T67)","v":""}]
[null,{"$f":"IF('H01 HC06'!B68=\"\",\"\",'H01 HC06'!B68)","v":""},{"$f":"IF('H01 HC06'!C68=\"\",\"\",'H01 HC06'!C68)","v":""},{"$f":"IF('H01 HC06'!D68=\"\",\"\",'H01 HC06'!D68)","v":""},null,null,null,null,null,{"$f":"IF('H01 HC06'!E68=\"\",\"\",'H01 HC06'!E68)","v":""},{"$f":"IF('H01 HC06'!F68=\"\",\"\",'H01 HC06'!F68)","v":""},{"$f":"IF('H01 HC06'!G68=\"\",\"\",'H01 HC06'!G68)","v":""},{"$f":"IF('H01 HC06'!H68=\"\",\"\",'H01 HC06'!H68)","v":""},{"$f":"IF('H01 HC06'!I68=\"\",\"\",'H01 HC06'!I68)","v":""},{"$f":"IF('H01 HC06'!J68=\"\",\"\",'H01 HC06'!J68)","v":""},{"$f":"IF(D576=\"\",\"\",VLOOKUP(D576,#REF!,3,0))","v":""},{"$f":"IF('H01 HC06'!K68=\"\",\"\",'H01 HC06'!K68)","v":""},{"$f":"IF('H01 HC06'!L68=\"\",\"\",'H01 HC06'!L68)","v":""},{"$f":"IF('H01 HC06'!M68=\"\",\"\",'H01 HC06'!M68)","v":""},{"$f":"IF('H01 HC06'!N68=\"\",\"\",'H01 HC06'!N68)","v":""},{"$f":"IF('H01 HC06'!O68=\"\",\"\",'H01 HC06'!O68)","v":""},{"$f":"IF('H01 HC06'!P68=\"\",\"\",'H01 HC06'!P68)","v":""},{"$f":"IF('H01 HC06'!Q68=\"\",\"\",'H01 HC06'!Q68)","v":""},{"$f":"IF('H01 HC06'!R68=\"\",\"\",'H01 HC06'!R68)","v":""},{"$f":"IF('H01 HC06'!S68=\"\",\"\",'H01 HC06'!S68)","v":""},{"$f":"IF('H01 HC06'!T68=\"\",\"\",'H01 HC06'!T68)","v":""}]
[null,{"$f":"IF('H01 HC06'!B69=\"\",\"\",'H01 HC06'!B69)","v":""},{"$f":"IF('H01 HC06'!C69=\"\",\"\",'H01 HC06'!C69)","v":""},{"$f":"IF('H01 HC06'!D69=\"\",\"\",'H01 HC06'!D69)","v":""},null,null,null,null,null,{"$f":"IF('H01 HC06'!E69=\"\",\"\",'H01 HC06'!E69)","v":""},{"$f":"IF('H01 HC06'!F69=\"\",\"\",'H01 HC06'!F69)","v":""},{"$f":"IF('H01 HC06'!G69=\"\",\"\",'H01 HC06'!G69)","v":""},{"$f":"IF('H01 HC06'!H69=\"\",\"\",'H01 HC06'!H69)","v":""},{"$f":"IF('H01 HC06'!I69=\"\",\"\",'H01 HC06'!I69)","v":""},{"$f":"IF('H01 HC06'!J69=\"\",\"\",'H01 HC06'!J69)","v":""},{"$f":"IF(D577=\"\",\"\",VLOOKUP(D577,#REF!,3,0))","v":""},{"$f":"IF('H01 HC06'!K69=\"\",\"\",'H01 HC06'!K69)","v":""},{"$f":"IF('H01 HC06'!L69=\"\",\"\",'H01 HC06'!L69)","v":""},{"$f":"IF('H01 HC06'!M69=\"\",\"\",'H01 HC06'!M69)","v":""},{"$f":"IF('H01 HC06'!N69=\"\",\"\",'H01 HC06'!N69)","v":""},{"$f":"IF('H01 HC06'!O69=\"\",\"\",'H01 HC06'!O69)","v":""},{"$f":"IF('H01 HC06'!P69=\"\",\"\",'H01 HC06'!P69)","v":""},{"$f":"IF('H01 HC06'!Q69=\"\",\"\",'H01 HC06'!Q69)","v":""},{"$f":"IF('H01 HC06'!R69=\"\",\"\",'H01 HC06'!R69)","v":""},{"$f":"IF('H01 HC06'!S69=\"\",\"\",'H01 HC06'!S69)","v":""},{"$f":"IF('H01 HC06'!T69=\"\",\"\",'H01 HC06'!T69)","v":""}]
[null,{"$f":"IF('H01 HC06'!B70=\"\",\"\",'H01 HC06'!B70)","v":""},{"$f":"IF('H01 HC06'!C70=\"\",\"\",'H01 HC06'!C70)","v":""},{"$f":"IF('H01 HC06'!D70=\"\",\"\",'H01 HC06'!D70)","v":""},null,null,null,null,null,{"$f":"IF('H01 HC06'!E70=\"\",\"\",'H01 HC06'!E70)","v":""},{"$f":"IF('H01 HC06'!F70=\"\",\"\",'H01 HC06'!F70)","v":""},{"$f":"IF('H01 HC06'!G70=\"\",\"\",'H01 HC06'!G70)","v":""},{"$f":"IF('H01 HC06'!H70=\"\",\"\",'H01 HC06'!H70)","v":""},{"$f":"IF('H01 HC06'!I70=\"\",\"\",'H01 HC06'!I70)","v":""},{"$f":"IF('H01 HC06'!J70=\"\",\"\",'H01 HC06'!J70)","v":""},{"$f":"IF(D578=\"\",\"\",VLOOKUP(D578,#REF!,3,0))","v":""},{"$f":"IF('H01 HC06'!K70=\"\",\"\",'H01 HC06'!K70)","v":""},{"$f":"IF('H01 HC06'!L70=\"\",\"\",'H01 HC06'!L70)","v":""},{"$f":"IF('H01 HC06'!M70=\"\",\"\",'H01 HC06'!M70)","v":""},{"$f":"IF('H01 HC06'!N70=\"\",\"\",'H01 HC06'!N70)","v":""},{"$f":"IF('H01 HC06'!O70=\"\",\"\",'H01 HC06'!O70)","v":""},{"$f":"IF('H01 HC06'!P70=\"\",\"\",'H01 HC06'!P70)","v":""},{"$f":"IF('H01 HC06'!Q70=\"\",\"\",'H01 HC06'!Q70)","v":""},{"$f":"IF('H01 HC06'!R70=\"\",\"\",'H01 HC06'!R70)","v":""},{"$f":"IF('H01 HC06'!S70=\"\",\"\",'H01 HC06'!S70)","v":""},{"$f":"IF('H01 HC06'!T70=\"\",\"\",'H01 HC06'!T70)","v":""}]
[null,{"$f":"IF('H01 HC06'!B71=\"\",\"\",'H01 HC06'!B71)","v":""},{"$f":"IF('H01 HC06'!C71=\"\",\"\",'H01 HC06'!C71)","v":""},{"$f":"IF('H01 HC06'!D71=\"\",\"\",'H01 HC06'!D71)","v":""},null,null,null,null,null,{"$f":"IF('H01 HC06'!E71=\"\",\"\",'H01 HC06'!E71)","v":""},{"$f":"IF('H01 HC06'!F71=\"\",\"\",'H01 HC06'!F71)","v":""},{"$f":"IF('H01 HC06'!G71=\"\",\"\",'H01 HC06'!G71)","v":""},{"$f":"IF('H01 HC06'!H71=\"\",\"\",'H01 HC06'!H71)","v":""},{"$f":"IF('H01 HC06'!I71=\"\",\"\",'H01 HC06'!I71)","v":""},{"$f":"IF('H01 HC06'!J71=\"\",\"\",'H01 HC06'!J71)","v":""},{"$f":"IF(D579=\"\",\"\",VLOOKUP(D579,#REF!,3,0))","v":""},{"$f":"IF('H01 HC06'!K71=\"\",\"\",'H01 HC06'!K71)","v":""},{"$f":"IF('H01 HC06'!L71=\"\",\"\",'H01 HC06'!L71)","v":""},{"$f":"IF('H01 HC06'!M71=\"\",\"\",'H01 HC06'!M71)","v":""},{"$f":"IF('H01 HC06'!N71=\"\",\"\",'H01 HC06'!N71)","v":""},{"$f":"IF('H01 HC06'!O71=\"\",\"\",'H01 HC06'!O71)","v":""},{"$f":"IF('H01 HC06'!P71=\"\",\"\",'H01 HC06'!P71)","v":""},{"$f":"IF('H01 HC06'!Q71=\"\",\"\",'H01 HC06'!Q71)","v":""},{"$f":"IF('H01 HC06'!R71=\"\",\"\",'H01 HC06'!R71)","v":""},{"$f":"IF('H01 HC06'!S71=\"\",\"\",'H01 HC06'!S71)","v":""},{"$f":"IF('H01 HC06'!T71=\"\",\"\",'H01 HC06'!T71)","v":""}]
[null,{"$f":"IF('H01 HC06'!B72=\"\",\"\",'H01 HC06'!B72)","v":""},{"$f":"IF('H01 HC06'!C72=\"\",\"\",'H01 HC06'!C72)","v":""},{"$f":"IF('H01 HC06'!D72=\"\",\"\",'H01 HC06'!D72)","v":""},null,null,null,null,null,{"$f":"IF('H01 HC06'!E72=\"\",\"\",'H01 HC06'!E72)","v":""},{"$f":"IF('H01 HC06'!F72=\"\",\"\",'H01 HC06'!F72)","v":""},{"$f":"IF('H01 HC06'!G72=\"\",\"\",'H01 HC06'!G72)","v":""},{"$f":"IF('H01 HC06'!H72=\"\",\"\",'H01 HC06'!H72)","v":""},{"$f":"IF('H01 HC06'!I72=\"\",\"\",'H01 HC06'!I72)","v":""},{"$f":"IF('H01 HC06'!J72=\"\",\"\",'H01 HC06'!J72)","v":""},{"$f":"IF(D580=\"\",\"\",VLOOKUP(D580,#REF!,3,0))","v":""},{"$f":"IF('H01 HC06'!K72=\"\",\"\",'H01 HC06'!K72)","v":""},{"$f":"IF('H01 HC06'!L72=\"\",\"\",'H01 HC06'!L72)","v":""},{"$f":"IF('H01 HC06'!M72=\"\",\"\",'H01 HC06'!M72)","v":""},{"$f":"IF('H01 HC06'!N72=\"\",\"\",'H01 HC06'!N72)","v":""},{"$f":"IF('H01 HC06'!O72=\"\",\"\",'H01 HC06'!O72)","v":""},{"$f":"IF('H01 HC06'!P72=\"\",\"\",'H01 HC06'!P72)","v":""},{"$f":"IF('H01 HC06'!Q72=\"\",\"\",'H01 HC06'!Q72)","v":""},{"$f":"IF('H01 HC06'!R72=\"\",\"\",'H01 HC06'!R72)","v":""},{"$f":"IF('H01 HC06'!S72=\"\",\"\",'H01 HC06'!S72)","v":""},{"$f":"IF('H01 HC06'!T72=\"\",\"\",'H01 HC06'!T72)","v":""}]
[null,{"$f":"IF('H01 HC06'!B73=\"\",\"\",'H01 HC06'!B73)","v":""},{"$f":"IF('H01 HC06'!C73=\"\",\"\",'H01 HC06'!C73)","v":""},{"$f":"IF('H01 HC06'!D73=\"\",\"\",'H01 HC06'!D73)","v":""},null,null,null,null,null,{"$f":"IF('H01 HC06'!E73=\"\",\"\",'H01 HC06'!E73)","v":""},{"$f":"IF('H01 HC06'!F73=\"\",\"\",'H01 HC06'!F73)","v":""},{"$f":"IF('H01 HC06'!G73=\"\",\"\",'H01 HC06'!G73)","v":""},{"$f":"IF('H01 HC06'!H73=\"\",\"\",'H01 HC06'!H73)","v":""},{"$f":"IF('H01 HC06'!I73=\"\",\"\",'H01 HC06'!I73)","v":""},{"$f":"IF('H01 HC06'!J73=\"\",\"\",'H01 HC06'!J73)","v":""},{"$f":"IF(D581=\"\",\"\",VLOOKUP(D581,#REF!,3,0))","v":""},{"$f":"IF('H01 HC06'!K73=\"\",\"\",'H01 HC06'!K73)","v":""},{"$f":"IF('H01 HC06'!L73=\"\",\"\",'H01 HC06'!L73)","v":""},{"$f":"IF('H01 HC06'!M73=\"\",\"\",'H01 HC06'!M73)","v":""},{"$f":"IF('H01 HC06'!N73=\"\",\"\",'H01 HC06'!N73)","v":""},{"$f":"IF('H01 HC06'!O73=\"\",\"\",'H01 HC06'!O73)","v":""},{"$f":"IF('H01 HC06'!P73=\"\",\"\",'H01 HC06'!P73)","v":""},{"$f":"IF('H01 HC06'!Q73=\"\",\"\",'H01 HC06'!Q73)","v":""},{"$f":"IF('H01 HC06'!R73=\"\",\"\",'H01 HC06'!R73)","v":""},{"$f":"IF('H01 HC06'!S73=\"\",\"\",'H01 HC06'!S73)","v":""},{"$f":"IF('H01 HC06'!T73=\"\",\"\",'H01 HC06'!T73)","v":""}]
[null,{"$f":"IF('H01 HC06'!B74=\"\",\"\",'H01 HC06'!B74)","v":""},{"$f":"IF('H01 HC06'!C74=\"\",\"\",'H01 HC06'!C74)","v":""},{"$f":"IF('H01 HC06'!D74=\"\",\"\",'H01 HC06'!D74)","v":""},null,null,null,null,null,{"$f":"IF('H01 HC06'!E74=\"\",\"\",'H01 HC06'!E74)","v":""},{"$f":"IF('H01 HC06'!F74=\"\",\"\",'H01 HC06'!F74)","v":""},{"$f":"IF('H01 HC06'!G74=\"\",\"\",'H01 HC06'!G74)","v":""},{"$f":"IF('H01 HC06'!H74=\"\",\"\",'H01 HC06'!H74)","v":""},{"$f":"IF('H01 HC06'!I74=\"\",\"\",'H01 HC06'!I74)","v":""},{"$f":"IF('H01 HC06'!J74=\"\",\"\",'H01 HC06'!J74)","v":""},{"$f":"IF(D582=\"\",\"\",VLOOKUP(D582,#REF!,3,0))","v":""},{"$f":"IF('H01 HC06'!K74=\"\",\"\",'H01 HC06'!K74)","v":""},{"$f":"IF('H01 HC06'!L74=\"\",\"\",'H01 HC06'!L74)","v":""},{"$f":"IF('H01 HC06'!M74=\"\",\"\",'H01 HC06'!M74)","v":""},{"$f":"IF('H01 HC06'!N74=\"\",\"\",'H01 HC06'!N74)","v":""},{"$f":"IF('H01 HC06'!O74=\"\",\"\",'H01 HC06'!O74)","v":""},{"$f":"IF('H01 HC06'!P74=\"\",\"\",'H01 HC06'!P74)","v":""},{"$f":"IF('H01 HC06'!Q74=\"\",\"\",'H01 HC06'!Q74)","v":""},{"$f":"IF('H01 HC06'!R74=\"\",\"\",'H01 HC06'!R74)","v":""},{"$f":"IF('H01 HC06'!S74=\"\",\"\",'H01 HC06'!S74)","v":""},{"$f":"IF('H01 HC06'!T74=\"\",\"\",'H01 HC06'!T74)","v":""}]
[null,{"$f":"IF('H01 HC06'!B75=\"\",\"\",'H01 HC06'!B75)","v":""},{"$f":"IF('H01 HC06'!C75=\"\",\"\",'H01 HC06'!C75)","v":""},{"$f":"IF('H01 HC06'!D75=\"\",\"\",'H01 HC06'!D75)","v":""},null,null,null,null,null,{"$f":"IF('H01 HC06'!E75=\"\",\"\",'H01 HC06'!E75)","v":""},{"$f":"IF('H01 HC06'!F75=\"\",\"\",'H01 HC06'!F75)","v":""},{"$f":"IF('H01 HC06'!G75=\"\",\"\",'H01 HC06'!G75)","v":""},{"$f":"IF('H01 HC06'!H75=\"\",\"\",'H01 HC06'!H75)","v":""},{"$f":"IF('H01 HC06'!I75=\"\",\"\",'H01 HC06'!I75)","v":""},{"$f":"IF('H01 HC06'!J75=\"\",\"\",'H01 HC06'!J75)","v":""},{"$f":"IF(D583=\"\",\"\",VLOOKUP(D583,#REF!,3,0))","v":""},{"$f":"IF('H01 HC06'!K75=\"\",\"\",'H01 HC06'!K75)","v":""},{"$f":"IF('H01 HC06'!L75=\"\",\"\",'H01 HC06'!L75)","v":""},{"$f":"IF('H01 HC06'!M75=\"\",\"\",'H01 HC06'!M75)","v":""},{"$f":"IF('H01 HC06'!N75=\"\",\"\",'H01 HC06'!N75)","v":""},{"$f":"IF('H01 HC06'!O75=\"\",\"\",'H01 HC06'!O75)","v":""},{"$f":"IF('H01 HC06'!P75=\"\",\"\",'H01 HC06'!P75)","v":""},{"$f":"IF('H01 HC06'!Q75=\"\",\"\",'H01 HC06'!Q75)","v":""},{"$f":"IF('H01 HC06'!R75=\"\",\"\",'H01 HC06'!R75)","v":""},{"$f":"IF('H01 HC06'!S75=\"\",\"\",'H01 HC06'!S75)","v":""},{"$f":"IF('H01 HC06'!T75=\"\",\"\",'H01 HC06'!T75)","v":""}]
[null,{"$f":"IF('H01 HC06'!B76=\"\",\"\",'H01 HC06'!B76)","v":""},{"$f":"IF('H01 HC06'!C76=\"\",\"\",'H01 HC06'!C76)","v":""},{"$f":"IF('H01 HC06'!D76=\"\",\"\",'H01 HC06'!D76)","v":""},null,null,null,null,null,{"$f":"IF('H01 HC06'!E76=\"\",\"\",'H01 HC06'!E76)","v":""},{"$f":"IF('H01 HC06'!F76=\"\",\"\",'H01 HC06'!F76)","v":""},{"$f":"IF('H01 HC06'!G76=\"\",\"\",'H01 HC06'!G76)","v":""},{"$f":"IF('H01 HC06'!H76=\"\",\"\",'H01 HC06'!H76)","v":""},{"$f":"IF('H01 HC06'!I76=\"\",\"\",'H01 HC06'!I76)","v":""},{"$f":"IF('H01 HC06'!J76=\"\",\"\",'H01 HC06'!J76)","v":""},{"$f":"IF(D584=\"\",\"\",VLOOKUP(D584,#REF!,3,0))","v":""},{"$f":"IF('H01 HC06'!K76=\"\",\"\",'H01 HC06'!K76)","v":""},{"$f":"IF('H01 HC06'!L76=\"\",\"\",'H01 HC06'!L76)","v":""},{"$f":"IF('H01 HC06'!M76=\"\",\"\",'H01 HC06'!M76)","v":""},{"$f":"IF('H01 HC06'!N76=\"\",\"\",'H01 HC06'!N76)","v":""},{"$f":"IF('H01 HC06'!O76=\"\",\"\",'H01 HC06'!O76)","v":""},{"$f":"IF('H01 HC06'!P76=\"\",\"\",'H01 HC06'!P76)","v":""},{"$f":"IF('H01 HC06'!Q76=\"\",\"\",'H01 HC06'!Q76)","v":""},{"$f":"IF('H01 HC06'!R76=\"\",\"\",'H01 HC06'!R76)","v":""},{"$f":"IF('H01 HC06'!S76=\"\",\"\",'H01 HC06'!S76)","v":""},{"$f":"IF('H01 HC06'!T76=\"\",\"\",'H01 HC06'!T76)","v":""}]
[null,{"$f":"IF('H01 HC06'!B77=\"\",\"\",'H01 HC06'!B77)","v":""},{"$f":"IF('H01 HC06'!C77=\"\",\"\",'H01 HC06'!C77)","v":""},{"$f":"IF('H01 HC06'!D77=\"\",\"\",'H01 HC06'!D77)","v":""},null,null,null,null,null,{"$f":"IF('H01 HC06'!E77=\"\",\"\",'H01 HC06'!E77)","v":""},{"$f":"IF('H01 HC06'!F77=\"\",\"\",'H01 HC06'!F77)","v":""},{"$f":"IF('H01 HC06'!G77=\"\",\"\",'H01 HC06'!G77)","v":""},{"$f":"IF('H01 HC06'!H77=\"\",\"\",'H01 HC06'!H77)","v":""},{"$f":"IF('H01 HC06'!I77=\"\",\"\",'H01 HC06'!I77)","v":""},{"$f":"IF('H01 HC06'!J77=\"\",\"\",'H01 HC06'!J77)","v":""},{"$f":"IF(D585=\"\",\"\",VLOOKUP(D585,#REF!,3,0))","v":""},{"$f":"IF('H01 HC06'!K77=\"\",\"\",'H01 HC06'!K77)","v":""},{"$f":"IF('H01 HC06'!L77=\"\",\"\",'H01 HC06'!L77)","v":""},{"$f":"IF('H01 HC06'!M77=\"\",\"\",'H01 HC06'!M77)","v":""},{"$f":"IF('H01 HC06'!N77=\"\",\"\",'H01 HC06'!N77)","v":""},{"$f":"IF('H01 HC06'!O77=\"\",\"\",'H01 HC06'!O77)","v":""},{"$f":"IF('H01 HC06'!P77=\"\",\"\",'H01 HC06'!P77)","v":""},{"$f":"IF('H01 HC06'!Q77=\"\",\"\",'H01 HC06'!Q77)","v":""},{"$f":"IF('H01 HC06'!R77=\"\",\"\",'H01 HC06'!R77)","v":""},{"$f":"IF('H01 HC06'!S77=\"\",\"\",'H01 HC06'!S77)","v":""},{"$f":"IF('H01 HC06'!T77=\"\",\"\",'H01 HC06'!T77)","v":""}]
[null,{"$f":"IF('H01 HC06'!B78=\"\",\"\",'H01 HC06'!B78)","v":""},{"$f":"IF('H01 HC06'!C78=\"\",\"\",'H01 HC06'!C78)","v":""},{"$f":"IF('H01 HC06'!D78=\"\",\"\",'H01 HC06'!D78)","v":""},null,null,null,null,null,{"$f":"IF('H01 HC06'!E78=\"\",\"\",'H01 HC06'!E78)","v":""},{"$f":"IF('H01 HC06'!F78=\"\",\"\",'H01 HC06'!F78)","v":""},{"$f":"IF('H01 HC06'!G78=\"\",\"\",'H01 HC06'!G78)","v":""},{"$f":"IF('H01 HC06'!H78=\"\",\"\",'H01 HC06'!H78)","v":""},{"$f":"IF('H01 HC06'!I78=\"\",\"\",'H01 HC06'!I78)","v":""},{"$f":"IF('H01 HC06'!J78=\"\",\"\",'H01 HC06'!J78)","v":""},{"$f":"IF(D586=\"\",\"\",VLOOKUP(D586,#REF!,3,0))","v":""},{"$f":"IF('H01 HC06'!K78=\"\",\"\",'H01 HC06'!K78)","v":""},{"$f":"IF('H01 HC06'!L78=\"\",\"\",'H01 HC06'!L78)","v":""},{"$f":"IF('H01 HC06'!M78=\"\",\"\",'H01 HC06'!M78)","v":""},{"$f":"IF('H01 HC06'!N78=\"\",\"\",'H01 HC06'!N78)","v":""},{"$f":"IF('H01 HC06'!O78=\"\",\"\",'H01 HC06'!O78)","v":""},{"$f":"IF('H01 HC06'!P78=\"\",\"\",'H01 HC06'!P78)","v":""},{"$f":"IF('H01 HC06'!Q78=\"\",\"\",'H01 HC06'!Q78)","v":""},{"$f":"IF('H01 HC06'!R78=\"\",\"\",'H01 HC06'!R78)","v":""},{"$f":"IF('H01 HC06'!S78=\"\",\"\",'H01 HC06'!S78)","v":""},{"$f":"IF('H01 HC06'!T78=\"\",\"\",'H01 HC06'!T78)","v":""}]
[null,{"$f":"IF('H01 HC06'!B79=\"\",\"\",'H01 HC06'!B79)","v":""},{"$f":"IF('H01 HC06'!C79=\"\",\"\",'H01 HC06'!C79)","v":""},{"$f":"IF('H01 HC06'!D79=\"\",\"\",'H01 HC06'!D79)","v":""},null,null,null,null,null,{"$f":"IF('H01 HC06'!E79=\"\",\"\",'H01 HC06'!E79)","v":""},{"$f":"IF('H01 HC06'!F79=\"\",\"\",'H01 HC06'!F79)","v":""},{"$f":"IF('H01 HC06'!G79=\"\",\"\",'H01 HC06'!G79)","v":""},{"$f":"IF('H01 HC06'!H79=\"\",\"\",'H01 HC06'!H79)","v":""},{"$f":"IF('H01 HC06'!I79=\"\",\"\",'H01 HC06'!I79)","v":""},{"$f":"IF('H01 HC06'!J79=\"\",\"\",'H01 HC06'!J79)","v":""},{"$f":"IF(D587=\"\",\"\",VLOOKUP(D587,#REF!,3,0))","v":""},{"$f":"IF('H01 HC06'!K79=\"\",\"\",'H01 HC06'!K79)","v":""},{"$f":"IF('H01 HC06'!L79=\"\",\"\",'H01 HC06'!L79)","v":""},{"$f":"IF('H01 HC06'!M79=\"\",\"\",'H01 HC06'!M79)","v":""},{"$f":"IF('H01 HC06'!N79=\"\",\"\",'H01 HC06'!N79)","v":""},{"$f":"IF('H01 HC06'!O79=\"\",\"\",'H01 HC06'!O79)","v":""},{"$f":"IF('H01 HC06'!P79=\"\",\"\",'H01 HC06'!P79)","v":""},{"$f":"IF('H01 HC06'!Q79=\"\",\"\",'H01 HC06'!Q79)","v":""},{"$f":"IF('H01 HC06'!R79=\"\",\"\",'H01 HC06'!R79)","v":""},{"$f":"IF('H01 HC06'!S79=\"\",\"\",'H01 HC06'!S79)","v":""},{"$f":"IF('H01 HC06'!T79=\"\",\"\",'H01 HC06'!T79)","v":""}]
[null,{"$f":"IF('H01 HC06'!B80=\"\",\"\",'H01 HC06'!B80)","v":""},{"$f":"IF('H01 HC06'!C80=\"\",\"\",'H01 HC06'!C80)","v":""},{"$f":"IF('H01 HC06'!D80=\"\",\"\",'H01 HC06'!D80)","v":""},null,null,null,null,null,{"$f":"IF('H01 HC06'!E80=\"\",\"\",'H01 HC06'!E80)","v":""},{"$f":"IF('H01 HC06'!F80=\"\",\"\",'H01 HC06'!F80)","v":""},{"$f":"IF('H01 HC06'!G80=\"\",\"\",'H01 HC06'!G80)","v":""},{"$f":"IF('H01 HC06'!H80=\"\",\"\",'H01 HC06'!H80)","v":""},{"$f":"IF('H01 HC06'!I80=\"\",\"\",'H01 HC06'!I80)","v":""},{"$f":"IF('H01 HC06'!J80=\"\",\"\",'H01 HC06'!J80)","v":""},{"$f":"IF(D588=\"\",\"\",VLOOKUP(D588,#REF!,3,0))","v":""},{"$f":"IF('H01 HC06'!K80=\"\",\"\",'H01 HC06'!K80)","v":""},{"$f":"IF('H01 HC06'!L80=\"\",\"\",'H01 HC06'!L80)","v":""},{"$f":"IF('H01 HC06'!M80=\"\",\"\",'H01 HC06'!M80)","v":""},{"$f":"IF('H01 HC06'!N80=\"\",\"\",'H01 HC06'!N80)","v":""},{"$f":"IF('H01 HC06'!O80=\"\",\"\",'H01 HC06'!O80)","v":""},{"$f":"IF('H01 HC06'!P80=\"\",\"\",'H01 HC06'!P80)","v":""},{"$f":"IF('H01 HC06'!Q80=\"\",\"\",'H01 HC06'!Q80)","v":""},{"$f":"IF('H01 HC06'!R80=\"\",\"\",'H01 HC06'!R80)","v":""},{"$f":"IF('H01 HC06'!S80=\"\",\"\",'H01 HC06'!S80)","v":""},{"$f":"IF('H01 HC06'!T80=\"\",\"\",'H01 HC06'!T80)","v":""}]
[null,{"$f":"IF('H01 HC06'!B81=\"\",\"\",'H01 HC06'!B81)","v":""},{"$f":"IF('H01 HC06'!C81=\"\",\"\",'H01 HC06'!C81)","v":""},{"$f":"IF('H01 HC06'!D81=\"\",\"\",'H01 HC06'!D81)","v":""},null,null,null,null,null,{"$f":"IF('H01 HC06'!E81=\"\",\"\",'H01 HC06'!E81)","v":""},{"$f":"IF('H01 HC06'!F81=\"\",\"\",'H01 HC06'!F81)","v":""},{"$f":"IF('H01 HC06'!G81=\"\",\"\",'H01 HC06'!G81)","v":""},{"$f":"IF('H01 HC06'!H81=\"\",\"\",'H01 HC06'!H81)","v":""},{"$f":"IF('H01 HC06'!I81=\"\",\"\",'H01 HC06'!I81)","v":""},{"$f":"IF('H01 HC06'!J81=\"\",\"\",'H01 HC06'!J81)","v":""},{"$f":"IF(D589=\"\",\"\",VLOOKUP(D589,#REF!,3,0))","v":""},{"$f":"IF('H01 HC06'!K81=\"\",\"\",'H01 HC06'!K81)","v":""},{"$f":"IF('H01 HC06'!L81=\"\",\"\",'H01 HC06'!L81)","v":""},{"$f":"IF('H01 HC06'!M81=\"\",\"\",'H01 HC06'!M81)","v":""},{"$f":"IF('H01 HC06'!N81=\"\",\"\",'H01 HC06'!N81)","v":""},{"$f":"IF('H01 HC06'!O81=\"\",\"\",'H01 HC06'!O81)","v":""},{"$f":"IF('H01 HC06'!P81=\"\",\"\",'H01 HC06'!P81)","v":""},{"$f":"IF('H01 HC06'!Q81=\"\",\"\",'H01 HC06'!Q81)","v":""},{"$f":"IF('H01 HC06'!R81=\"\",\"\",'H01 HC06'!R81)","v":""},{"$f":"IF('H01 HC06'!S81=\"\",\"\",'H01 HC06'!S81)","v":""},{"$f":"IF('H01 HC06'!T81=\"\",\"\",'H01 HC06'!T81)","v":""}]
[null,{"$f":"IF('H01 HC06'!B82=\"\",\"\",'H01 HC06'!B82)","v":""},{"$f":"IF('H01 HC06'!C82=\"\",\"\",'H01 HC06'!C82)","v":""},{"$f":"IF('H01 HC06'!D82=\"\",\"\",'H01 HC06'!D82)","v":""},null,null,null,null,null,{"$f":"IF('H01 HC06'!E82=\"\",\"\",'H01 HC06'!E82)","v":""},{"$f":"IF('H01 HC06'!F82=\"\",\"\",'H01 HC06'!F82)","v":""},{"$f":"IF('H01 HC06'!G82=\"\",\"\",'H01 HC06'!G82)","v":""},{"$f":"IF('H01 HC06'!H82=\"\",\"\",'H01 HC06'!H82)","v":""},{"$f":"IF('H01 HC06'!I82=\"\",\"\",'H01 HC06'!I82)","v":""},{"$f":"IF('H01 HC06'!J82=\"\",\"\",'H01 HC06'!J82)","v":""},{"$f":"IF(D590=\"\",\"\",VLOOKUP(D590,#REF!,3,0))","v":""},{"$f":"IF('H01 HC06'!K82=\"\",\"\",'H01 HC06'!K82)","v":""},{"$f":"IF('H01 HC06'!L82=\"\",\"\",'H01 HC06'!L82)","v":""},{"$f":"IF('H01 HC06'!M82=\"\",\"\",'H01 HC06'!M82)","v":""},{"$f":"IF('H01 HC06'!N82=\"\",\"\",'H01 HC06'!N82)","v":""},{"$f":"IF('H01 HC06'!O82=\"\",\"\",'H01 HC06'!O82)","v":""},{"$f":"IF('H01 HC06'!P82=\"\",\"\",'H01 HC06'!P82)","v":""},{"$f":"IF('H01 HC06'!Q82=\"\",\"\",'H01 HC06'!Q82)","v":""},{"$f":"IF('H01 HC06'!R82=\"\",\"\",'H01 HC06'!R82)","v":""},{"$f":"IF('H01 HC06'!S82=\"\",\"\",'H01 HC06'!S82)","v":""},{"$f":"IF('H01 HC06'!T82=\"\",\"\",'H01 HC06'!T82)","v":""}]
[null,{"$f":"IF('H01 HC06'!B83=\"\",\"\",'H01 HC06'!B83)","v":""},{"$f":"IF('H01 HC06'!C83=\"\",\"\",'H01 HC06'!C83)","v":""},{"$f":"IF('H01 HC06'!D83=\"\",\"\",'H01 HC06'!D83)","v":""},null,null,null,null,null,{"$f":"IF('H01 HC06'!E83=\"\",\"\",'H01 HC06'!E83)","v":""},{"$f":"IF('H01 HC06'!F83=\"\",\"\",'H01 HC06'!F83)","v":""},{"$f":"IF('H01 HC06'!G83=\"\",\"\",'H01 HC06'!G83)","v":""},{"$f":"IF('H01 HC06'!H83=\"\",\"\",'H01 HC06'!H83)","v":""},{"$f":"IF('H01 HC06'!I83=\"\",\"\",'H01 HC06'!I83)","v":""},{"$f":"IF('H01 HC06'!J83=\"\",\"\",'H01 HC06'!J83)","v":""},{"$f":"IF(D591=\"\",\"\",VLOOKUP(D591,#REF!,3,0))","v":""},{"$f":"IF('H01 HC06'!K83=\"\",\"\",'H01 HC06'!K83)","v":""},{"$f":"IF('H01 HC06'!L83=\"\",\"\",'H01 HC06'!L83)","v":""},{"$f":"IF('H01 HC06'!M83=\"\",\"\",'H01 HC06'!M83)","v":""},{"$f":"IF('H01 HC06'!N83=\"\",\"\",'H01 HC06'!N83)","v":""},{"$f":"IF('H01 HC06'!O83=\"\",\"\",'H01 HC06'!O83)","v":""},{"$f":"IF('H01 HC06'!P83=\"\",\"\",'H01 HC06'!P83)","v":""},{"$f":"IF('H01 HC06'!Q83=\"\",\"\",'H01 HC06'!Q83)","v":""},{"$f":"IF('H01 HC06'!R83=\"\",\"\",'H01 HC06'!R83)","v":""},{"$f":"IF('H01 HC06'!S83=\"\",\"\",'H01 HC06'!S83)","v":""},{"$f":"IF('H01 HC06'!T83=\"\",\"\",'H01 HC06'!T83)","v":""}]
[null,{"$f":"IF('H01 HC06'!B84=\"\",\"\",'H01 HC06'!B84)","v":""},{"$f":"IF('H01 HC06'!C84=\"\",\"\",'H01 HC06'!C84)","v":""},{"$f":"IF('H01 HC06'!D84=\"\",\"\",'H01 HC06'!D84)","v":""},null,null,null,null,null,{"$f":"IF('H01 HC06'!E84=\"\",\"\",'H01 HC06'!E84)","v":""},{"$f":"IF('H01 HC06'!F84=\"\",\"\",'H01 HC06'!F84)","v":""},{"$f":"IF('H01 HC06'!G84=\"\",\"\",'H01 HC06'!G84)","v":""},{"$f":"IF('H01 HC06'!H84=\"\",\"\",'H01 HC06'!H84)","v":""},{"$f":"IF('H01 HC06'!I84=\"\",\"\",'H01 HC06'!I84)","v":""},{"$f":"IF('H01 HC06'!J84=\"\",\"\",'H01 HC06'!J84)","v":""},{"$f":"IF(D592=\"\",\"\",VLOOKUP(D592,#REF!,3,0))","v":""},{"$f":"IF('H01 HC06'!K84=\"\",\"\",'H01 HC06'!K84)","v":""},{"$f":"IF('H01 HC06'!L84=\"\",\"\",'H01 HC06'!L84)","v":""},{"$f":"IF('H01 HC06'!M84=\"\",\"\",'H01 HC06'!M84)","v":""},{"$f":"IF('H01 HC06'!N84=\"\",\"\",'H01 HC06'!N84)","v":""},{"$f":"IF('H01 HC06'!O84=\"\",\"\",'H01 HC06'!O84)","v":""},{"$f":"IF('H01 HC06'!P84=\"\",\"\",'H01 HC06'!P84)","v":""},{"$f":"IF('H01 HC06'!Q84=\"\",\"\",'H01 HC06'!Q84)","v":""},{"$f":"IF('H01 HC06'!R84=\"\",\"\",'H01 HC06'!R84)","v":""},{"$f":"IF('H01 HC06'!S84=\"\",\"\",'H01 HC06'!S84)","v":""},{"$f":"IF('H01 HC06'!T84=\"\",\"\",'H01 HC06'!T84)","v":""}]
[null,{"$f":"IF('H01 HC06'!B85=\"\",\"\",'H01 HC06'!B85)","v":""},{"$f":"IF('H01 HC06'!C85=\"\",\"\",'H01 HC06'!C85)","v":""},{"$f":"IF('H01 HC06'!D85=\"\",\"\",'H01 HC06'!D85)","v":""},null,null,null,null,null,{"$f":"IF('H01 HC06'!E85=\"\",\"\",'H01 HC06'!E85)","v":""},{"$f":"IF('H01 HC06'!F85=\"\",\"\",'H01 HC06'!F85)","v":""},{"$f":"IF('H01 HC06'!G85=\"\",\"\",'H01 HC06'!G85)","v":""},{"$f":"IF('H01 HC06'!H85=\"\",\"\",'H01 HC06'!H85)","v":""},{"$f":"IF('H01 HC06'!I85=\"\",\"\",'H01 HC06'!I85)","v":""},{"$f":"IF('H01 HC06'!J85=\"\",\"\",'H01 HC06'!J85)","v":""},{"$f":"IF(D593=\"\",\"\",VLOOKUP(D593,#REF!,3,0))","v":""},{"$f":"IF('H01 HC06'!K85=\"\",\"\",'H01 HC06'!K85)","v":""},{"$f":"IF('H01 HC06'!L85=\"\",\"\",'H01 HC06'!L85)","v":""},{"$f":"IF('H01 HC06'!M85=\"\",\"\",'H01 HC06'!M85)","v":""},{"$f":"IF('H01 HC06'!N85=\"\",\"\",'H01 HC06'!N85)","v":""},{"$f":"IF('H01 HC06'!O85=\"\",\"\",'H01 HC06'!O85)","v":""},{"$f":"IF('H01 HC06'!P85=\"\",\"\",'H01 HC06'!P85)","v":""},{"$f":"IF('H01 HC06'!Q85=\"\",\"\",'H01 HC06'!Q85)","v":""},{"$f":"IF('H01 HC06'!R85=\"\",\"\",'H01 HC06'!R85)","v":""},{"$f":"IF('H01 HC06'!S85=\"\",\"\",'H01 HC06'!S85)","v":""},{"$f":"IF('H01 HC06'!T85=\"\",\"\",'H01 HC06'!T85)","v":""}]
[null,{"$f":"IF('H01 HC06'!B86=\"\",\"\",'H01 HC06'!B86)","v":""},{"$f":"IF('H01 HC06'!C86=\"\",\"\",'H01 HC06'!C86)","v":""},{"$f":"IF('H01 HC06'!D86=\"\",\"\",'H01 HC06'!D86)","v":""},null,null,null,null,null,{"$f":"IF('H01 HC06'!E86=\"\",\"\",'H01 HC06'!E86)","v":""},{"$f":"IF('H01 HC06'!F86=\"\",\"\",'H01 HC06'!F86)","v":""},{"$f":"IF('H01 HC06'!G86=\"\",\"\",'H01 HC06'!G86)","v":""},{"$f":"IF('H01 HC06'!H86=\"\",\"\",'H01 HC06'!H86)","v":""},{"$f":"IF('H01 HC06'!I86=\"\",\"\",'H01 HC06'!I86)","v":""},{"$f":"IF('H01 HC06'!J86=\"\",\"\",'H01 HC06'!J86)","v":""},{"$f":"IF(D594=\"\",\"\",VLOOKUP(D594,#REF!,3,0))","v":""},{"$f":"IF('H01 HC06'!K86=\"\",\"\",'H01 HC06'!K86)","v":""},{"$f":"IF('H01 HC06'!L86=\"\",\"\",'H01 HC06'!L86)","v":""},{"$f":"IF('H01 HC06'!M86=\"\",\"\",'H01 HC06'!M86)","v":""},{"$f":"IF('H01 HC06'!N86=\"\",\"\",'H01 HC06'!N86)","v":""},{"$f":"IF('H01 HC06'!O86=\"\",\"\",'H01 HC06'!O86)","v":""},{"$f":"IF('H01 HC06'!P86=\"\",\"\",'H01 HC06'!P86)","v":""},{"$f":"IF('H01 HC06'!Q86=\"\",\"\",'H01 HC06'!Q86)","v":""},{"$f":"IF('H01 HC06'!R86=\"\",\"\",'H01 HC06'!R86)","v":""},{"$f":"IF('H01 HC06'!S86=\"\",\"\",'H01 HC06'!S86)","v":""},{"$f":"IF('H01 HC06'!T86=\"\",\"\",'H01 HC06'!T86)","v":""}]
[null,{"$f":"IF('H01 HC06'!B87=\"\",\"\",'H01 HC06'!B87)","v":""},{"$f":"IF('H01 HC06'!C87=\"\",\"\",'H01 HC06'!C87)","v":""},{"$f":"IF('H01 HC06'!D87=\"\",\"\",'H01 HC06'!D87)","v":""},null,null,null,null,null,{"$f":"IF('H01 HC06'!E87=\"\",\"\",'H01 HC06'!E87)","v":""},{"$f":"IF('H01 HC06'!F87=\"\",\"\",'H01 HC06'!F87)","v":""},{"$f":"IF('H01 HC06'!G87=\"\",\"\",'H01 HC06'!G87)","v":""},{"$f":"IF('H01 HC06'!H87=\"\",\"\",'H01 HC06'!H87)","v":""},{"$f":"IF('H01 HC06'!I87=\"\",\"\",'H01 HC06'!I87)","v":""},{"$f":"IF('H01 HC06'!J87=\"\",\"\",'H01 HC06'!J87)","v":""},{"$f":"IF(D595=\"\",\"\",VLOOKUP(D595,#REF!,3,0))","v":""},{"$f":"IF('H01 HC06'!K87=\"\",\"\",'H01 HC06'!K87)","v":""},{"$f":"IF('H01 HC06'!L87=\"\",\"\",'H01 HC06'!L87)","v":""},{"$f":"IF('H01 HC06'!M87=\"\",\"\",'H01 HC06'!M87)","v":""},{"$f":"IF('H01 HC06'!N87=\"\",\"\",'H01 HC06'!N87)","v":""},{"$f":"IF('H01 HC06'!O87=\"\",\"\",'H01 HC06'!O87)","v":""},{"$f":"IF('H01 HC06'!P87=\"\",\"\",'H01 HC06'!P87)","v":""},{"$f":"IF('H01 HC06'!Q87=\"\",\"\",'H01 HC06'!Q87)","v":""},{"$f":"IF('H01 HC06'!R87=\"\",\"\",'H01 HC06'!R87)","v":""},{"$f":"IF('H01 HC06'!S87=\"\",\"\",'H01 HC06'!S87)","v":""},{"$f":"IF('H01 HC06'!T87=\"\",\"\",'H01 HC06'!T87)","v":""}]
[null,{"$f":"IF('H01 HC06'!B88=\"\",\"\",'H01 HC06'!B88)","v":""},{"$f":"IF('H01 HC06'!C88=\"\",\"\",'H01 HC06'!C88)","v":""},{"$f":"IF('H01 HC06'!D88=\"\",\"\",'H01 HC06'!D88)","v":""},null,null,null,null,null,{"$f":"IF('H01 HC06'!E88=\"\",\"\",'H01 HC06'!E88)","v":""},{"$f":"IF('H01 HC06'!F88=\"\",\"\",'H01 HC06'!F88)","v":""},{"$f":"IF('H01 HC06'!G88=\"\",\"\",'H01 HC06'!G88)","v":""},{"$f":"IF('H01 HC06'!H88=\"\",\"\",'H01 HC06'!H88)","v":""},{"$f":"IF('H01 HC06'!I88=\"\",\"\",'H01 HC06'!I88)","v":""},{"$f":"IF('H01 HC06'!J88=\"\",\"\",'H01 HC06'!J88)","v":""},{"$f":"IF(D596=\"\",\"\",VLOOKUP(D596,#REF!,3,0))","v":""},{"$f":"IF('H01 HC06'!K88=\"\",\"\",'H01 HC06'!K88)","v":""},{"$f":"IF('H01 HC06'!L88=\"\",\"\",'H01 HC06'!L88)","v":""},{"$f":"IF('H01 HC06'!M88=\"\",\"\",'H01 HC06'!M88)","v":""},{"$f":"IF('H01 HC06'!N88=\"\",\"\",'H01 HC06'!N88)","v":""},{"$f":"IF('H01 HC06'!O88=\"\",\"\",'H01 HC06'!O88)","v":""},{"$f":"IF('H01 HC06'!P88=\"\",\"\",'H01 HC06'!P88)","v":""},{"$f":"IF('H01 HC06'!Q88=\"\",\"\",'H01 HC06'!Q88)","v":""},{"$f":"IF('H01 HC06'!R88=\"\",\"\",'H01 HC06'!R88)","v":""},{"$f":"IF('H01 HC06'!S88=\"\",\"\",'H01 HC06'!S88)","v":""},{"$f":"IF('H01 HC06'!T88=\"\",\"\",'H01 HC06'!T88)","v":""}]
[null,{"$f":"IF('H01 HC06'!B89=\"\",\"\",'H01 HC06'!B89)","v":""},{"$f":"IF('H01 HC06'!C89=\"\",\"\",'H01 HC06'!C89)","v":""},{"$f":"IF('H01 HC06'!D89=\"\",\"\",'H01 HC06'!D89)","v":""},null,null,null,null,null,{"$f":"IF('H01 HC06'!E89=\"\",\"\",'H01 HC06'!E89)","v":""},{"$f":"IF('H01 HC06'!F89=\"\",\"\",'H01 HC06'!F89)","v":""},{"$f":"IF('H01 HC06'!G89=\"\",\"\",'H01 HC06'!G89)","v":""},{"$f":"IF('H01 HC06'!H89=\"\",\"\",'H01 HC06'!H89)","v":""},{"$f":"IF('H01 HC06'!I89=\"\",\"\",'H01 HC06'!I89)","v":""},{"$f":"IF('H01 HC06'!J89=\"\",\"\",'H01 HC06'!J89)","v":""},{"$f":"IF(D597=\"\",\"\",VLOOKUP(D597,#REF!,3,0))","v":""},{"$f":"IF('H01 HC06'!K89=\"\",\"\",'H01 HC06'!K89)","v":""},{"$f":"IF('H01 HC06'!L89=\"\",\"\",'H01 HC06'!L89)","v":""},{"$f":"IF('H01 HC06'!M89=\"\",\"\",'H01 HC06'!M89)","v":""},{"$f":"IF('H01 HC06'!N89=\"\",\"\",'H01 HC06'!N89)","v":""},{"$f":"IF('H01 HC06'!O89=\"\",\"\",'H01 HC06'!O89)","v":""},{"$f":"IF('H01 HC06'!P89=\"\",\"\",'H01 HC06'!P89)","v":""},{"$f":"IF('H01 HC06'!Q89=\"\",\"\",'H01 HC06'!Q89)","v":""},{"$f":"IF('H01 HC06'!R89=\"\",\"\",'H01 HC06'!R89)","v":""},{"$f":"IF('H01 HC06'!S89=\"\",\"\",'H01 HC06'!S89)","v":""},{"$f":"IF('H01 HC06'!T89=\"\",\"\",'H01 HC06'!T89)","v":""}]
[null,{"$f":"IF('H01 HC06'!B90=\"\",\"\",'H01 HC06'!B90)","v":""},{"$f":"IF('H01 HC06'!C90=\"\",\"\",'H01 HC06'!C90)","v":""},{"$f":"IF('H01 HC06'!D90=\"\",\"\",'H01 HC06'!D90)","v":""},null,null,null,null,null,{"$f":"IF('H01 HC06'!E90=\"\",\"\",'H01 HC06'!E90)","v":""},{"$f":"IF('H01 HC06'!F90=\"\",\"\",'H01 HC06'!F90)","v":""},{"$f":"IF('H01 HC06'!G90=\"\",\"\",'H01 HC06'!G90)","v":""},{"$f":"IF('H01 HC06'!H90=\"\",\"\",'H01 HC06'!H90)","v":""},{"$f":"IF('H01 HC06'!I90=\"\",\"\",'H01 HC06'!I90)","v":""},{"$f":"IF('H01 HC06'!J90=\"\",\"\",'H01 HC06'!J90)","v":""},{"$f":"IF(D598=\"\",\"\",VLOOKUP(D598,#REF!,3,0))","v":""},{"$f":"IF('H01 HC06'!K90=\"\",\"\",'H01 HC06'!K90)","v":""},{"$f":"IF('H01 HC06'!L90=\"\",\"\",'H01 HC06'!L90)","v":""},{"$f":"IF('H01 HC06'!M90=\"\",\"\",'H01 HC06'!M90)","v":""},{"$f":"IF('H01 HC06'!N90=\"\",\"\",'H01 HC06'!N90)","v":""},{"$f":"IF('H01 HC06'!O90=\"\",\"\",'H01 HC06'!O90)","v":""},{"$f":"IF('H01 HC06'!P90=\"\",\"\",'H01 HC06'!P90)","v":""},{"$f":"IF('H01 HC06'!Q90=\"\",\"\",'H01 HC06'!Q90)","v":""},{"$f":"IF('H01 HC06'!R90=\"\",\"\",'H01 HC06'!R90)","v":""},{"$f":"IF('H01 HC06'!S90=\"\",\"\",'H01 HC06'!S90)","v":""},{"$f":"IF('H01 HC06'!T90=\"\",\"\",'H01 HC06'!T90)","v":""}]
[null,{"$f":"IF('H01 HC06'!B91=\"\",\"\",'H01 HC06'!B91)","v":""},{"$f":"IF('H01 HC06'!C91=\"\",\"\",'H01 HC06'!C91)","v":""},{"$f":"IF('H01 HC06'!D91=\"\",\"\",'H01 HC06'!D91)","v":""},null,null,null,null,null,{"$f":"IF('H01 HC06'!E91=\"\",\"\",'H01 HC06'!E91)","v":""},{"$f":"IF('H01 HC06'!F91=\"\",\"\",'H01 HC06'!F91)","v":""},{"$f":"IF('H01 HC06'!G91=\"\",\"\",'H01 HC06'!G91)","v":""},{"$f":"IF('H01 HC06'!H91=\"\",\"\",'H01 HC06'!H91)","v":""},{"$f":"IF('H01 HC06'!I91=\"\",\"\",'H01 HC06'!I91)","v":""},{"$f":"IF('H01 HC06'!J91=\"\",\"\",'H01 HC06'!J91)","v":""},{"$f":"IF(D599=\"\",\"\",VLOOKUP(D599,#REF!,3,0))","v":""},{"$f":"IF('H01 HC06'!K91=\"\",\"\",'H01 HC06'!K91)","v":""},{"$f":"IF('H01 HC06'!L91=\"\",\"\",'H01 HC06'!L91)","v":""},{"$f":"IF('H01 HC06'!M91=\"\",\"\",'H01 HC06'!M91)","v":""},{"$f":"IF('H01 HC06'!N91=\"\",\"\",'H01 HC06'!N91)","v":""},{"$f":"IF('H01 HC06'!O91=\"\",\"\",'H01 HC06'!O91)","v":""},{"$f":"IF('H01 HC06'!P91=\"\",\"\",'H01 HC06'!P91)","v":""},{"$f":"IF('H01 HC06'!Q91=\"\",\"\",'H01 HC06'!Q91)","v":""},{"$f":"IF('H01 HC06'!R91=\"\",\"\",'H01 HC06'!R91)","v":""},{"$f":"IF('H01 HC06'!S91=\"\",\"\",'H01 HC06'!S91)","v":""},{"$f":"IF('H01 HC06'!T91=\"\",\"\",'H01 HC06'!T91)","v":""}]
[null,{"$f":"IF('H01 HC06'!B92=\"\",\"\",'H01 HC06'!B92)","v":""},{"$f":"IF('H01 HC06'!C92=\"\",\"\",'H01 HC06'!C92)","v":""},{"$f":"IF('H01 HC06'!D92=\"\",\"\",'H01 HC06'!D92)","v":""},null,null,null,null,null,{"$f":"IF('H01 HC06'!E92=\"\",\"\",'H01 HC06'!E92)","v":""},{"$f":"IF('H01 HC06'!F92=\"\",\"\",'H01 HC06'!F92)","v":""},{"$f":"IF('H01 HC06'!G92=\"\",\"\",'H01 HC06'!G92)","v":""},{"$f":"IF('H01 HC06'!H92=\"\",\"\",'H01 HC06'!H92)","v":""},{"$f":"IF('H01 HC06'!I92=\"\",\"\",'H01 HC06'!I92)","v":""},{"$f":"IF('H01 HC06'!J92=\"\",\"\",'H01 HC06'!J92)","v":""},{"$f":"IF(D600=\"\",\"\",VLOOKUP(D600,#REF!,3,0))","v":""},{"$f":"IF('H01 HC06'!K92=\"\",\"\",'H01 HC06'!K92)","v":""},{"$f":"IF('H01 HC06'!L92=\"\",\"\",'H01 HC06'!L92)","v":""},{"$f":"IF('H01 HC06'!M92=\"\",\"\",'H01 HC06'!M92)","v":""},{"$f":"IF('H01 HC06'!N92=\"\",\"\",'H01 HC06'!N92)","v":""},{"$f":"IF('H01 HC06'!O92=\"\",\"\",'H01 HC06'!O92)","v":""},{"$f":"IF('H01 HC06'!P92=\"\",\"\",'H01 HC06'!P92)","v":""},{"$f":"IF('H01 HC06'!Q92=\"\",\"\",'H01 HC06'!Q92)","v":""},{"$f":"IF('H01 HC06'!R92=\"\",\"\",'H01 HC06'!R92)","v":""},{"$f":"IF('H01 HC06'!S92=\"\",\"\",'H01 HC06'!S92)","v":""},{"$f":"IF('H01 HC06'!T92=\"\",\"\",'H01 HC06'!T92)","v":""}]
[null,{"$f":"IF('H01 HC06'!B93=\"\",\"\",'H01 HC06'!B93)","v":""},{"$f":"IF('H01 HC06'!C93=\"\",\"\",'H01 HC06'!C93)","v":""},{"$f":"IF('H01 HC06'!D93=\"\",\"\",'H01 HC06'!D93)","v":""},null,null,null,null,null,{"$f":"IF('H01 HC06'!E93=\"\",\"\",'H01 HC06'!E93)","v":""},{"$f":"IF('H01 HC06'!F93=\"\",\"\",'H01 HC06'!F93)","v":""},{"$f":"IF('H01 HC06'!G93=\"\",\"\",'H01 HC06'!G93)","v":""},{"$f":"IF('H01 HC06'!H93=\"\",\"\",'H01 HC06'!H93)","v":""},{"$f":"IF('H01 HC06'!I93=\"\",\"\",'H01 HC06'!I93)","v":""},{"$f":"IF('H01 HC06'!J93=\"\",\"\",'H01 HC06'!J93)","v":""},{"$f":"IF(D601=\"\",\"\",VLOOKUP(D601,#REF!,3,0))","v":""},{"$f":"IF('H01 HC06'!K93=\"\",\"\",'H01 HC06'!K93)","v":""},{"$f":"IF('H01 HC06'!L93=\"\",\"\",'H01 HC06'!L93)","v":""},{"$f":"IF('H01 HC06'!M93=\"\",\"\",'H01 HC06'!M93)","v":""},{"$f":"IF('H01 HC06'!N93=\"\",\"\",'H01 HC06'!N93)","v":""},{"$f":"IF('H01 HC06'!O93=\"\",\"\",'H01 HC06'!O93)","v":""},{"$f":"IF('H01 HC06'!P93=\"\",\"\",'H01 HC06'!P93)","v":""},{"$f":"IF('H01 HC06'!Q93=\"\",\"\",'H01 HC06'!Q93)","v":""},{"$f":"IF('H01 HC06'!R93=\"\",\"\",'H01 HC06'!R93)","v":""},{"$f":"IF('H01 HC06'!S93=\"\",\"\",'H01 HC06'!S93)","v":""},{"$f":"IF('H01 HC06'!T93=\"\",\"\",'H01 HC06'!T93)","v":""}]
[null,{"$f":"IF('H01 HC06'!B94=\"\",\"\",'H01 HC06'!B94)","v":""},{"$f":"IF('H01 HC06'!C94=\"\",\"\",'H01 HC06'!C94)","v":""},{"$f":"IF('H01 HC06'!D94=\"\",\"\",'H01 HC06'!D94)","v":""},null,null,null,null,null,{"$f":"IF('H01 HC06'!E94=\"\",\"\",'H01 HC06'!E94)","v":""},{"$f":"IF('H01 HC06'!F94=\"\",\"\",'H01 HC06'!F94)","v":""},{"$f":"IF('H01 HC06'!G94=\"\",\"\",'H01 HC06'!G94)","v":""},{"$f":"IF('H01 HC06'!H94=\"\",\"\",'H01 HC06'!H94)","v":""},{"$f":"IF('H01 HC06'!I94=\"\",\"\",'H01 HC06'!I94)","v":""},{"$f":"IF('H01 HC06'!J94=\"\",\"\",'H01 HC06'!J94)","v":""},{"$f":"IF(D602=\"\",\"\",VLOOKUP(D602,#REF!,3,0))","v":""},{"$f":"IF('H01 HC06'!K94=\"\",\"\",'H01 HC06'!K94)","v":""},{"$f":"IF('H01 HC06'!L94=\"\",\"\",'H01 HC06'!L94)","v":""},{"$f":"IF('H01 HC06'!M94=\"\",\"\",'H01 HC06'!M94)","v":""},{"$f":"IF('H01 HC06'!N94=\"\",\"\",'H01 HC06'!N94)","v":""},{"$f":"IF('H01 HC06'!O94=\"\",\"\",'H01 HC06'!O94)","v":""},{"$f":"IF('H01 HC06'!P94=\"\",\"\",'H01 HC06'!P94)","v":""},{"$f":"IF('H01 HC06'!Q94=\"\",\"\",'H01 HC06'!Q94)","v":""},{"$f":"IF('H01 HC06'!R94=\"\",\"\",'H01 HC06'!R94)","v":""},{"$f":"IF('H01 HC06'!S94=\"\",\"\",'H01 HC06'!S94)","v":""},{"$f":"IF('H01 HC06'!T94=\"\",\"\",'H01 HC06'!T94)","v":""}]
[null,{"$f":"IF('H01 HC06'!B95=\"\",\"\",'H01 HC06'!B95)","v":""},{"$f":"IF('H01 HC06'!C95=\"\",\"\",'H01 HC06'!C95)","v":""},{"$f":"IF('H01 HC06'!D95=\"\",\"\",'H01 HC06'!D95)","v":""},null,null,null,null,null,{"$f":"IF('H01 HC06'!E95=\"\",\"\",'H01 HC06'!E95)","v":""},{"$f":"IF('H01 HC06'!F95=\"\",\"\",'H01 HC06'!F95)","v":""},{"$f":"IF('H01 HC06'!G95=\"\",\"\",'H01 HC06'!G95)","v":""},{"$f":"IF('H01 HC06'!H95=\"\",\"\",'H01 HC06'!H95)","v":""},{"$f":"IF('H01 HC06'!I95=\"\",\"\",'H01 HC06'!I95)","v":""},{"$f":"IF('H01 HC06'!J95=\"\",\"\",'H01 HC06'!J95)","v":""},{"$f":"IF(D603=\"\",\"\",VLOOKUP(D603,#REF!,3,0))","v":""},{"$f":"IF('H01 HC06'!K95=\"\",\"\",'H01 HC06'!K95)","v":""},{"$f":"IF('H01 HC06'!L95=\"\",\"\",'H01 HC06'!L95)","v":""},{"$f":"IF('H01 HC06'!M95=\"\",\"\",'H01 HC06'!M95)","v":""},{"$f":"IF('H01 HC06'!N95=\"\",\"\",'H01 HC06'!N95)","v":""},{"$f":"IF('H01 HC06'!O95=\"\",\"\",'H01 HC06'!O95)","v":""},{"$f":"IF('H01 HC06'!P95=\"\",\"\",'H01 HC06'!P95)","v":""},{"$f":"IF('H01 HC06'!Q95=\"\",\"\",'H01 HC06'!Q95)","v":""},{"$f":"IF('H01 HC06'!R95=\"\",\"\",'H01 HC06'!R95)","v":""},{"$f":"IF('H01 HC06'!S95=\"\",\"\",'H01 HC06'!S95)","v":""},{"$f":"IF('H01 HC06'!T95=\"\",\"\",'H01 HC06'!T95)","v":""}]
[null,{"$f":"IF('H01 HC06'!B96=\"\",\"\",'H01 HC06'!B96)","v":""},{"$f":"IF('H01 HC06'!C96=\"\",\"\",'H01 HC06'!C96)","v":""},{"$f":"IF('H01 HC06'!D96=\"\",\"\",'H01 HC06'!D96)","v":""},null,null,null,null,null,{"$f":"IF('H01 HC06'!E96=\"\",\"\",'H01 HC06'!E96)","v":""},{"$f":"IF('H01 HC06'!F96=\"\",\"\",'H01 HC06'!F96)","v":""},{"$f":"IF('H01 HC06'!G96=\"\",\"\",'H01 HC06'!G96)","v":""},{"$f":"IF('H01 HC06'!H96=\"\",\"\",'H01 HC06'!H96)","v":""},{"$f":"IF('H01 HC06'!I96=\"\",\"\",'H01 HC06'!I96)","v":""},{"$f":"IF('H01 HC06'!J96=\"\",\"\",'H01 HC06'!J96)","v":""},{"$f":"IF(D604=\"\",\"\",VLOOKUP(D604,#REF!,3,0))","v":""},{"$f":"IF('H01 HC06'!K96=\"\",\"\",'H01 HC06'!K96)","v":""},{"$f":"IF('H01 HC06'!L96=\"\",\"\",'H01 HC06'!L96)","v":""},{"$f":"IF('H01 HC06'!M96=\"\",\"\",'H01 HC06'!M96)","v":""},{"$f":"IF('H01 HC06'!N96=\"\",\"\",'H01 HC06'!N96)","v":""},{"$f":"IF('H01 HC06'!O96=\"\",\"\",'H01 HC06'!O96)","v":""},{"$f":"IF('H01 HC06'!P96=\"\",\"\",'H01 HC06'!P96)","v":""},{"$f":"IF('H01 HC06'!Q96=\"\",\"\",'H01 HC06'!Q96)","v":""},{"$f":"IF('H01 HC06'!R96=\"\",\"\",'H01 HC06'!R96)","v":""},{"$f":"IF('H01 HC06'!S96=\"\",\"\",'H01 HC06'!S96)","v":""},{"$f":"IF('H01 HC06'!T96=\"\",\"\",'H01 HC06'!T96)","v":""}]
[null,{"$f":"IF('H01 HC06'!B97=\"\",\"\",'H01 HC06'!B97)","v":""},{"$f":"IF('H01 HC06'!C97=\"\",\"\",'H01 HC06'!C97)","v":""},{"$f":"IF('H01 HC06'!D97=\"\",\"\",'H01 HC06'!D97)","v":""},null,null,null,null,null,{"$f":"IF('H01 HC06'!E97=\"\",\"\",'H01 HC06'!E97)","v":""},{"$f":"IF('H01 HC06'!F97=\"\",\"\",'H01 HC06'!F97)","v":""},{"$f":"IF('H01 HC06'!G97=\"\",\"\",'H01 HC06'!G97)","v":""},{"$f":"IF('H01 HC06'!H97=\"\",\"\",'H01 HC06'!H97)","v":""},{"$f":"IF('H01 HC06'!I97=\"\",\"\",'H01 HC06'!I97)","v":""},{"$f":"IF('H01 HC06'!J97=\"\",\"\",'H01 HC06'!J97)","v":""},{"$f":"IF(D605=\"\",\"\",VLOOKUP(D605,#REF!,3,0))","v":""},{"$f":"IF('H01 HC06'!K97=\"\",\"\",'H01 HC06'!K97)","v":""},{"$f":"IF('H01 HC06'!L97=\"\",\"\",'H01 HC06'!L97)","v":""},{"$f":"IF('H01 HC06'!M97=\"\",\"\",'H01 HC06'!M97)","v":""},{"$f":"IF('H01 HC06'!N97=\"\",\"\",'H01 HC06'!N97)","v":""},{"$f":"IF('H01 HC06'!O97=\"\",\"\",'H01 HC06'!O97)","v":""},{"$f":"IF('H01 HC06'!P97=\"\",\"\",'H01 HC06'!P97)","v":""},{"$f":"IF('H01 HC06'!Q97=\"\",\"\",'H01 HC06'!Q97)","v":""},{"$f":"IF('H01 HC06'!R97=\"\",\"\",'H01 HC06'!R97)","v":""},{"$f":"IF('H01 HC06'!S97=\"\",\"\",'H01 HC06'!S97)","v":""},{"$f":"IF('H01 HC06'!T97=\"\",\"\",'H01 HC06'!T97)","v":""}]
[null,{"$f":"IF('H01 HC06'!B98=\"\",\"\",'H01 HC06'!B98)","v":""},{"$f":"IF('H01 HC06'!C98=\"\",\"\",'H01 HC06'!C98)","v":""},{"$f":"IF('H01 HC06'!D98=\"\",\"\",'H01 HC06'!D98)","v":""},null,null,null,null,null,{"$f":"IF('H01 HC06'!E98=\"\",\"\",'H01 HC06'!E98)","v":""},{"$f":"IF('H01 HC06'!F98=\"\",\"\",'H01 HC06'!F98)","v":""},{"$f":"IF('H01 HC06'!G98=\"\",\"\",'H01 HC06'!G98)","v":""},{"$f":"IF('H01 HC06'!H98=\"\",\"\",'H01 HC06'!H98)","v":""},{"$f":"IF('H01 HC06'!I98=\"\",\"\",'H01 HC06'!I98)","v":""},{"$f":"IF('H01 HC06'!J98=\"\",\"\",'H01 HC06'!J98)","v":""},{"$f":"IF(D606=\"\",\"\",VLOOKUP(D606,#REF!,3,0))","v":""},{"$f":"IF('H01 HC06'!K98=\"\",\"\",'H01 HC06'!K98)","v":""},{"$f":"IF('H01 HC06'!L98=\"\",\"\",'H01 HC06'!L98)","v":""},{"$f":"IF('H01 HC06'!M98=\"\",\"\",'H01 HC06'!M98)","v":""},{"$f":"IF('H01 HC06'!N98=\"\",\"\",'H01 HC06'!N98)","v":""},{"$f":"IF('H01 HC06'!O98=\"\",\"\",'H01 HC06'!O98)","v":""},{"$f":"IF('H01 HC06'!P98=\"\",\"\",'H01 HC06'!P98)","v":""},{"$f":"IF('H01 HC06'!Q98=\"\",\"\",'H01 HC06'!Q98)","v":""},{"$f":"IF('H01 HC06'!R98=\"\",\"\",'H01 HC06'!R98)","v":""},{"$f":"IF('H01 HC06'!S98=\"\",\"\",'H01 HC06'!S98)","v":""},{"$f":"IF('H01 HC06'!T98=\"\",\"\",'H01 HC06'!T98)","v":""}]
[null,{"$f":"IF('H01 HC06'!B99=\"\",\"\",'H01 HC06'!B99)","v":""},{"$f":"IF('H01 HC06'!C99=\"\",\"\",'H01 HC06'!C99)","v":""},{"$f":"IF('H01 HC06'!D99=\"\",\"\",'H01 HC06'!D99)","v":""},null,null,null,null,null,{"$f":"IF('H01 HC06'!E99=\"\",\"\",'H01 HC06'!E99)","v":""},{"$f":"IF('H01 HC06'!F99=\"\",\"\",'H01 HC06'!F99)","v":""},{"$f":"IF('H01 HC06'!G99=\"\",\"\",'H01 HC06'!G99)","v":""},{"$f":"IF('H01 HC06'!H99=\"\",\"\",'H01 HC06'!H99)","v":""},{"$f":"IF('H01 HC06'!I99=\"\",\"\",'H01 HC06'!I99)","v":""},{"$f":"IF('H01 HC06'!J99=\"\",\"\",'H01 HC06'!J99)","v":""},{"$f":"IF(D607=\"\",\"\",VLOOKUP(D607,#REF!,3,0))","v":""},{"$f":"IF('H01 HC06'!K99=\"\",\"\",'H01 HC06'!K99)","v":""},{"$f":"IF('H01 HC06'!L99=\"\",\"\",'H01 HC06'!L99)","v":""},{"$f":"IF('H01 HC06'!M99=\"\",\"\",'H01 HC06'!M99)","v":""},{"$f":"IF('H01 HC06'!N99=\"\",\"\",'H01 HC06'!N99)","v":""},{"$f":"IF('H01 HC06'!O99=\"\",\"\",'H01 HC06'!O99)","v":""},{"$f":"IF('H01 HC06'!P99=\"\",\"\",'H01 HC06'!P99)","v":""},{"$f":"IF('H01 HC06'!Q99=\"\",\"\",'H01 HC06'!Q99)","v":""},{"$f":"IF('H01 HC06'!R99=\"\",\"\",'H01 HC06'!R99)","v":""},{"$f":"IF('H01 HC06'!S99=\"\",\"\",'H01 HC06'!S99)","v":""},{"$f":"IF('H01 HC06'!T99=\"\",\"\",'H01 HC06'!T99)","v":""}]
[null,{"$f":"IF('H01 HC06'!B100=\"\",\"\",'H01 HC06'!B100)","v":""},{"$f":"IF('H01 HC06'!C100=\"\",\"\",'H01 HC06'!C100)","v":""},{"$f":"IF('H01 HC06'!D100=\"\",\"\",'H01 HC06'!D100)","v":""},null,null,null,null,null,{"$f":"IF('H01 HC06'!E100=\"\",\"\",'H01 HC06'!E100)","v":""},{"$f":"IF('H01 HC06'!F100=\"\",\"\",'H01 HC06'!F100)","v":""},{"$f":"IF('H01 HC06'!G100=\"\",\"\",'H01 HC06'!G100)","v":""},{"$f":"IF('H01 HC06'!H100=\"\",\"\",'H01 HC06'!H100)","v":""},{"$f":"IF('H01 HC06'!I100=\"\",\"\",'H01 HC06'!I100)","v":""},{"$f":"IF('H01 HC06'!J100=\"\",\"\",'H01 HC06'!J100)","v":""},{"$f":"IF(D608=\"\",\"\",VLOOKUP(D608,#REF!,3,0))","v":""},{"$f":"IF('H01 HC06'!K100=\"\",\"\",'H01 HC06'!K100)","v":""},{"$f":"IF('H01 HC06'!L100=\"\",\"\",'H01 HC06'!L100)","v":""},{"$f":"IF('H01 HC06'!M100=\"\",\"\",'H01 HC06'!M100)","v":""},{"$f":"IF('H01 HC06'!N100=\"\",\"\",'H01 HC06'!N100)","v":""},{"$f":"IF('H01 HC06'!O100=\"\",\"\",'H01 HC06'!O100)","v":""},{"$f":"IF('H01 HC06'!P100=\"\",\"\",'H01 HC06'!P100)","v":""},{"$f":"IF('H01 HC06'!Q100=\"\",\"\",'H01 HC06'!Q100)","v":""},{"$f":"IF('H01 HC06'!R100=\"\",\"\",'H01 HC06'!R100)","v":""},{"$f":"IF('H01 HC06'!S100=\"\",\"\",'H01 HC06'!S100)","v":""},{"$f":"IF('H01 HC06'!T100=\"\",\"\",'H01 HC06'!T100)","v":""}]
[null,{"$f":"IF('H01 HC06'!B101=\"\",\"\",'H01 HC06'!B101)","v":""},{"$f":"IF('H01 HC06'!C101=\"\",\"\",'H01 HC06'!C101)","v":""},{"$f":"IF('H01 HC06'!D101=\"\",\"\",'H01 HC06'!D101)","v":""},null,null,null,null,null,{"$f":"IF('H01 HC06'!E101=\"\",\"\",'H01 HC06'!E101)","v":""},{"$f":"IF('H01 HC06'!F101=\"\",\"\",'H01 HC06'!F101)","v":""},{"$f":"IF('H01 HC06'!G101=\"\",\"\",'H01 HC06'!G101)","v":""},{"$f":"IF('H01 HC06'!H101=\"\",\"\",'H01 HC06'!H101)","v":""},{"$f":"IF('H01 HC06'!I101=\"\",\"\",'H01 HC06'!I101)","v":""},{"$f":"IF('H01 HC06'!J101=\"\",\"\",'H01 HC06'!J101)","v":""},{"$f":"IF(D609=\"\",\"\",VLOOKUP(D609,#REF!,3,0))","v":""},{"$f":"IF('H01 HC06'!K101=\"\",\"\",'H01 HC06'!K101)","v":""},{"$f":"IF('H01 HC06'!L101=\"\",\"\",'H01 HC06'!L101)","v":""},{"$f":"IF('H01 HC06'!M101=\"\",\"\",'H01 HC06'!M101)","v":""},{"$f":"IF('H01 HC06'!N101=\"\",\"\",'H01 HC06'!N101)","v":""},{"$f":"IF('H01 HC06'!O101=\"\",\"\",'H01 HC06'!O101)","v":""},{"$f":"IF('H01 HC06'!P101=\"\",\"\",'H01 HC06'!P101)","v":""},{"$f":"IF('H01 HC06'!Q101=\"\",\"\",'H01 HC06'!Q101)","v":""},{"$f":"IF('H01 HC06'!R101=\"\",\"\",'H01 HC06'!R101)","v":""},{"$f":"IF('H01 HC06'!S101=\"\",\"\",'H01 HC06'!S101)","v":""},{"$f":"IF('H01 HC06'!T101=\"\",\"\",'H01 HC06'!T101)","v":""}]
[null,{"$f":"IF('H01 HC06'!B102=\"\",\"\",'H01 HC06'!B102)","v":""},{"$f":"IF('H01 HC06'!C102=\"\",\"\",'H01 HC06'!C102)","v":""},{"$f":"IF('H01 HC06'!D102=\"\",\"\",'H01 HC06'!D102)","v":""},null,null,null,null,null,{"$f":"IF('H01 HC06'!E102=\"\",\"\",'H01 HC06'!E102)","v":""},{"$f":"IF('H01 HC06'!F102=\"\",\"\",'H01 HC06'!F102)","v":""},{"$f":"IF('H01 HC06'!G102=\"\",\"\",'H01 HC06'!G102)","v":""},{"$f":"IF('H01 HC06'!H102=\"\",\"\",'H01 HC06'!H102)","v":""},{"$f":"IF('H01 HC06'!I102=\"\",\"\",'H01 HC06'!I102)","v":""},{"$f":"IF('H01 HC06'!J102=\"\",\"\",'H01 HC06'!J102)","v":""},{"$f":"IF(D610=\"\",\"\",VLOOKUP(D610,#REF!,3,0))","v":""},{"$f":"IF('H01 HC06'!K102=\"\",\"\",'H01 HC06'!K102)","v":""},{"$f":"IF('H01 HC06'!L102=\"\",\"\",'H01 HC06'!L102)","v":""},{"$f":"IF('H01 HC06'!M102=\"\",\"\",'H01 HC06'!M102)","v":""},{"$f":"IF('H01 HC06'!N102=\"\",\"\",'H01 HC06'!N102)","v":""},{"$f":"IF('H01 HC06'!O102=\"\",\"\",'H01 HC06'!O102)","v":""},{"$f":"IF('H01 HC06'!P102=\"\",\"\",'H01 HC06'!P102)","v":""},{"$f":"IF('H01 HC06'!Q102=\"\",\"\",'H01 HC06'!Q102)","v":""},{"$f":"IF('H01 HC06'!R102=\"\",\"\",'H01 HC06'!R102)","v":""},{"$f":"IF('H01 HC06'!S102=\"\",\"\",'H01 HC06'!S102)","v":""},{"$f":"IF('H01 HC06'!T102=\"\",\"\",'H01 HC06'!T102)","v":""}]
[null,{"$f":"IF('H01 HC06'!B103=\"\",\"\",'H01 HC06'!B103)","v":""},{"$f":"IF('H01 HC06'!C103=\"\",\"\",'H01 HC06'!C103)","v":""},{"$f":"IF('H01 HC06'!D103=\"\",\"\",'H01 HC06'!D103)","v":""},null,null,null,null,null,{"$f":"IF('H01 HC06'!E103=\"\",\"\",'H01 HC06'!E103)","v":""},{"$f":"IF('H01 HC06'!F103=\"\",\"\",'H01 HC06'!F103)","v":""},{"$f":"IF('H01 HC06'!G103=\"\",\"\",'H01 HC06'!G103)","v":""},{"$f":"IF('H01 HC06'!H103=\"\",\"\",'H01 HC06'!H103)","v":""},{"$f":"IF('H01 HC06'!I103=\"\",\"\",'H01 HC06'!I103)","v":""},{"$f":"IF('H01 HC06'!J103=\"\",\"\",'H01 HC06'!J103)","v":""},{"$f":"IF(D611=\"\",\"\",VLOOKUP(D611,#REF!,3,0))","v":""},{"$f":"IF('H01 HC06'!K103=\"\",\"\",'H01 HC06'!K103)","v":""},{"$f":"IF('H01 HC06'!L103=\"\",\"\",'H01 HC06'!L103)","v":""},{"$f":"IF('H01 HC06'!M103=\"\",\"\",'H01 HC06'!M103)","v":""},{"$f":"IF('H01 HC06'!N103=\"\",\"\",'H01 HC06'!N103)","v":""},{"$f":"IF('H01 HC06'!O103=\"\",\"\",'H01 HC06'!O103)","v":""},{"$f":"IF('H01 HC06'!P103=\"\",\"\",'H01 HC06'!P103)","v":""},{"$f":"IF('H01 HC06'!Q103=\"\",\"\",'H01 HC06'!Q103)","v":""},{"$f":"IF('H01 HC06'!R103=\"\",\"\",'H01 HC06'!R103)","v":""},{"$f":"IF('H01 HC06'!S103=\"\",\"\",'H01 HC06'!S103)","v":""},{"$f":"IF('H01 HC06'!T103=\"\",\"\",'H01 HC06'!T103)","v":""}]
[null,{"$f":"IF('H01 HC06'!B104=\"\",\"\",'H01 HC06'!B104)","v":""},{"$f":"IF('H01 HC06'!C104=\"\",\"\",'H01 HC06'!C104)","v":""},{"$f":"IF('H01 HC06'!D104=\"\",\"\",'H01 HC06'!D104)","v":""},null,null,null,null,null,{"$f":"IF('H01 HC06'!E104=\"\",\"\",'H01 HC06'!E104)","v":""},{"$f":"IF('H01 HC06'!F104=\"\",\"\",'H01 HC06'!F104)","v":""},{"$f":"IF('H01 HC06'!G104=\"\",\"\",'H01 HC06'!G104)","v":""},{"$f":"IF('H01 HC06'!H104=\"\",\"\",'H01 HC06'!H104)","v":""},{"$f":"IF('H01 HC06'!I104=\"\",\"\",'H01 HC06'!I104)","v":""},{"$f":"IF('H01 HC06'!J104=\"\",\"\",'H01 HC06'!J104)","v":""},{"$f":"IF(D612=\"\",\"\",VLOOKUP(D612,#REF!,3,0))","v":""},{"$f":"IF('H01 HC06'!K104=\"\",\"\",'H01 HC06'!K104)","v":""},{"$f":"IF('H01 HC06'!L104=\"\",\"\",'H01 HC06'!L104)","v":""},{"$f":"IF('H01 HC06'!M104=\"\",\"\",'H01 HC06'!M104)","v":""},{"$f":"IF('H01 HC06'!N104=\"\",\"\",'H01 HC06'!N104)","v":""},{"$f":"IF('H01 HC06'!O104=\"\",\"\",'H01 HC06'!O104)","v":""},{"$f":"IF('H01 HC06'!P104=\"\",\"\",'H01 HC06'!P104)","v":""},{"$f":"IF('H01 HC06'!Q104=\"\",\"\",'H01 HC06'!Q104)","v":""},{"$f":"IF('H01 HC06'!R104=\"\",\"\",'H01 HC06'!R104)","v":""},{"$f":"IF('H01 HC06'!S104=\"\",\"\",'H01 HC06'!S104)","v":""},{"$f":"IF('H01 HC06'!T104=\"\",\"\",'H01 HC06'!T104)","v":""}]
[null,{"$f":"IF('H01 HC06'!B105=\"\",\"\",'H01 HC06'!B105)","v":""},{"$f":"IF('H01 HC06'!C105=\"\",\"\",'H01 HC06'!C105)","v":""},{"$f":"IF('H01 HC06'!D105=\"\",\"\",'H01 HC06'!D105)","v":""},null,null,null,null,null,{"$f":"IF('H01 HC06'!E105=\"\",\"\",'H01 HC06'!E105)","v":""},{"$f":"IF('H01 HC06'!F105=\"\",\"\",'H01 HC06'!F105)","v":""},{"$f":"IF('H01 HC06'!G105=\"\",\"\",'H01 HC06'!G105)","v":""},{"$f":"IF('H01 HC06'!H105=\"\",\"\",'H01 HC06'!H105)","v":""},{"$f":"IF('H01 HC06'!I105=\"\",\"\",'H01 HC06'!I105)","v":""},{"$f":"IF('H01 HC06'!J105=\"\",\"\",'H01 HC06'!J105)","v":""},{"$f":"IF(D613=\"\",\"\",VLOOKUP(D613,#REF!,3,0))","v":""},{"$f":"IF('H01 HC06'!K105=\"\",\"\",'H01 HC06'!K105)","v":""},{"$f":"IF('H01 HC06'!L105=\"\",\"\",'H01 HC06'!L105)","v":""},{"$f":"IF('H01 HC06'!M105=\"\",\"\",'H01 HC06'!M105)","v":""},{"$f":"IF('H01 HC06'!N105=\"\",\"\",'H01 HC06'!N105)","v":""},{"$f":"IF('H01 HC06'!O105=\"\",\"\",'H01 HC06'!O105)","v":""},{"$f":"IF('H01 HC06'!P105=\"\",\"\",'H01 HC06'!P105)","v":""},{"$f":"IF('H01 HC06'!Q105=\"\",\"\",'H01 HC06'!Q105)","v":""},{"$f":"IF('H01 HC06'!R105=\"\",\"\",'H01 HC06'!R105)","v":""},{"$f":"IF('H01 HC06'!S105=\"\",\"\",'H01 HC06'!S105)","v":""},{"$f":"IF('H01 HC06'!T105=\"\",\"\",'H01 HC06'!T105)","v":""}]
[null,{"$f":"IF('H01 HC06'!B106=\"\",\"\",'H01 HC06'!B106)","v":""},{"$f":"IF('H01 HC06'!C106=\"\",\"\",'H01 HC06'!C106)","v":""},{"$f":"IF('H01 HC06'!D106=\"\",\"\",'H01 HC06'!D106)","v":""},null,null,null,null,null,{"$f":"IF('H01 HC06'!E106=\"\",\"\",'H01 HC06'!E106)","v":""},{"$f":"IF('H01 HC06'!F106=\"\",\"\",'H01 HC06'!F106)","v":""},{"$f":"IF('H01 HC06'!G106=\"\",\"\",'H01 HC06'!G106)","v":""},{"$f":"IF('H01 HC06'!H106=\"\",\"\",'H01 HC06'!H106)","v":""},{"$f":"IF('H01 HC06'!I106=\"\",\"\",'H01 HC06'!I106)","v":""},{"$f":"IF('H01 HC06'!J106=\"\",\"\",'H01 HC06'!J106)","v":""},{"$f":"IF(D614=\"\",\"\",VLOOKUP(D614,#REF!,3,0))","v":""},{"$f":"IF('H01 HC06'!K106=\"\",\"\",'H01 HC06'!K106)","v":""},{"$f":"IF('H01 HC06'!L106=\"\",\"\",'H01 HC06'!L106)","v":""},{"$f":"IF('H01 HC06'!M106=\"\",\"\",'H01 HC06'!M106)","v":""},{"$f":"IF('H01 HC06'!N106=\"\",\"\",'H01 HC06'!N106)","v":""},{"$f":"IF('H01 HC06'!O106=\"\",\"\",'H01 HC06'!O106)","v":""},{"$f":"IF('H01 HC06'!P106=\"\",\"\",'H01 HC06'!P106)","v":""},{"$f":"IF('H01 HC06'!Q106=\"\",\"\",'H01 HC06'!Q106)","v":""},{"$f":"IF('H01 HC06'!R106=\"\",\"\",'H01 HC06'!R106)","v":""},{"$f":"IF('H01 HC06'!S106=\"\",\"\",'H01 HC06'!S106)","v":""},{"$f":"IF('H01 HC06'!T106=\"\",\"\",'H01 HC06'!T106)","v":""}]
[null,{"$f":"IF('H01 HC07'!B7=\"\",\"\",'H01 HC07'!B7)","v":"H01"},{"$f":"IF('H01 HC07'!C7=\"\",\"\",'H01 HC07'!C7)","v":"HC07"},{"$f":"IF('H01 HC07'!D7=\"\",\"\",'H01 HC07'!D7)","v":"QMA"},null,null,null,null,null,{"$f":"IF('H01 HC07'!E7=\"\",\"\",'H01 HC07'!E7)","v":"01"},{"$f":"IF('H01 HC07'!F7=\"\",\"\",'H01 HC07'!F7)","v":"=H01:HC07:QMA01"},{"$f":"IF('H01 HC07'!G7=\"\",\"\",'H01 HC07'!G7)","v":""},{"$f":"IF('H01 HC07'!H7=\"\",\"\",'H01 HC07'!H7)","v":""},{"$f":"IF('H01 HC07'!I7=\"\",\"\",'H01 HC07'!I7)","v":""},null,null,{"$f":"IF('H01 HC07'!K7=\"\",\"\",'H01 HC07'!K7)","v":""},{"$f":"IF('H01 HC07'!L7=\"\",\"\",'H01 HC07'!L7)","v":"VIRA"},{"$f":"IF('H01 HC07'!M7=\"\",\"\",'H01 HC07'!M7)","v":"KVLE_P"},{"$f":"IF('H01 HC07'!N7=\"\",\"\",'H01 HC07'!N7)","v":"DN150"},{"$f":"IF('H01 HC07'!O7=\"\",\"\",'H01 HC07'!O7)","v":"KVLE-P_DN150"},{"$f":"IF('H01 HC07'!P7=\"\",\"\",'H01 HC07'!P7)","v":""},{"$f":"IF('H01 HC07'!Q7=\"\",\"\",'H01 HC07'!Q7)","v":""},{"$f":"IF('H01 HC07'!R7=\"\",\"\",'H01 HC07'!R7)","v":""},{"$f":"IF('H01 HC07'!S7=\"\",\"\",'H01 HC07'!S7)","v":""},{"$f":"IF('H01 HC07'!T7=\"\",\"\",'H01 HC07'!T7)","v":""}]
[null,{"$f":"IF('H01 HC07'!B8=\"\",\"\",'H01 HC07'!B8)","v":"H01"},{"$f":"IF('H01 HC07'!C8=\"\",\"\",'H01 HC07'!C8)","v":"HC07"},{"$f":"IF('H01 HC07'!D8=\"\",\"\",'H01 HC07'!D8)","v":"RMB"},null,null,null,null,null,{"$f":"IF('H01 HC07'!E8=\"\",\"\",'H01 HC07'!E8)","v":"01"},{"$f":"IF('H01 HC07'!F8=\"\",\"\",'H01 HC07'!F8)","v":"=H01:HC07:RMB01"},{"$f":"IF('H01 HC07'!G8=\"\",\"\",'H01 HC07'!G8)","v":""},{"$f":"IF('H01 HC07'!H8=\"\",\"\",'H01 HC07'!H8)","v":""},{"$f":"IF('H01 HC07'!I8=\"\",\"\",'H01 HC07'!I8)","v":""},null,null,{"$f":"IF('H01 HC07'!K8=\"\",\"\",'H01 HC07'!K8)","v":""},{"$f":"IF('H01 HC07'!L8=\"\",\"\",'H01 HC07'!L8)","v":"Broen"},{"$f":"IF('H01 HC07'!M8=\"\",\"\",'H01 HC07'!M8)","v":"Ballorex Venturi"},{"$f":"IF('H01 HC07'!N8=\"\",\"\",'H01 HC07'!N8)","v":"DN150"},{"$f":"IF('H01 HC07'!O8=\"\",\"\",'H01 HC07'!O8)","v":406942118},{"$f":"IF('H01 HC07'!P8=\"\",\"\",'H01 HC07'!P8)","v":""},{"$f":"IF('H01 HC07'!Q8=\"\",\"\",'H01 HC07'!Q8)","v":""},{"$f":"IF('H01 HC07'!R8=\"\",\"\",'H01 HC07'!R8)","v":""},{"$f":"IF('H01 HC07'!S8=\"\",\"\",'H01 HC07'!S8)","v":""},{"$f":"IF('H01 HC07'!T8=\"\",\"\",'H01 HC07'!T8)","v":""}]
[null,{"$f":"IF('H01 HC07'!B9=\"\",\"\",'H01 HC07'!B9)","v":"H01"},{"$f":"IF('H01 HC07'!C9=\"\",\"\",'H01 HC07'!C9)","v":"HC07"},{"$f":"IF('H01 HC07'!D9=\"\",\"\",'H01 HC07'!D9)","v":"RCL"},null,null,null,null,null,{"$f":"IF('H01 HC07'!E9=\"\",\"\",'H01 HC07'!E9)","v":"01"},{"$f":"IF('H01 HC07'!F9=\"\",\"\",'H01 HC07'!F9)","v":"=H01:HC07:RCL01"},{"$f":"IF('H01 HC07'!G9=\"\",\"\",'H01 HC07'!G9)","v":""},{"$f":"IF('H01 HC07'!H9=\"\",\"\",'H01 HC07'!H9)","v":""},{"$f":"IF('H01 HC07'!I9=\"\",\"\",'H01 HC07'!I9)","v":""},null,null,{"$f":"IF('H01 HC07'!K9=\"\",\"\",'H01 HC07'!K9)","v":""},{"$f":"IF('H01 HC07'!L9=\"\",\"\",'H01 HC07'!L9)","v":"VIRA"},{"$f":"IF('H01 HC07'!M9=\"\",\"\",'H01 HC07'!M9)","v":"LK_C"},{"$f":"IF('H01 HC07'!N9=\"\",\"\",'H01 HC07'!N9)","v":"DN150"},{"$f":"IF('H01 HC07'!O9=\"\",\"\",'H01 HC07'!O9)","v":"LK_C_DN150"},{"$f":"IF('H01 HC07'!P9=\"\",\"\",'H01 HC07'!P9)","v":""},{"$f":"IF('H01 HC07'!Q9=\"\",\"\",'H01 HC07'!Q9)","v":""},{"$f":"IF('H01 HC07'!R9=\"\",\"\",'H01 HC07'!R9)","v":""},{"$f":"IF('H01 HC07'!S9=\"\",\"\",'H01 HC07'!S9)","v":""},{"$f":"IF('H01 HC07'!T9=\"\",\"\",'H01 HC07'!T9)","v":""}]
[null,{"$f":"IF('H01 HC07'!B10=\"\",\"\",'H01 HC07'!B10)","v":"H01"},{"$f":"IF('H01 HC07'!C10=\"\",\"\",'H01 HC07'!C10)","v":"HC07"},{"$f":"IF('H01 HC07'!D10=\"\",\"\",'H01 HC07'!D10)","v":"RCL"},null,null,null,null,null,{"$f":"IF('H01 HC07'!E10=\"\",\"\",'H01 HC07'!E10)","v":"02"},{"$f":"IF('H01 HC07'!F10=\"\",\"\",'H01 HC07'!F10)","v":"=H01:HC07:RCL02"},{"$f":"IF('H01 HC07'!G10=\"\",\"\",'H01 HC07'!G10)","v":""},{"$f":"IF('H01 HC07'!H10=\"\",\"\",'H01 HC07'!H10)","v":""},{"$f":"IF('H01 HC07'!I10=\"\",\"\",'H01 HC07'!I10)","v":""},null,null,{"$f":"IF('H01 HC07'!K10=\"\",\"\",'H01 HC07'!K10)","v":""},{"$f":"IF('H01 HC07'!L10=\"\",\"\",'H01 HC07'!L10)","v":"VIRA"},{"$f":"IF('H01 HC07'!M10=\"\",\"\",'H01 HC07'!M10)","v":"LK_C"},{"$f":"IF('H01 HC07'!N10=\"\",\"\",'H01 HC07'!N10)","v":"DN150"},{"$f":"IF('H01 HC07'!O10=\"\",\"\",'H01 HC07'!O10)","v":"LK_C_DN150"},{"$f":"IF('H01 HC07'!P10=\"\",\"\",'H01 HC07'!P10)","v":""},{"$f":"IF('H01 HC07'!Q10=\"\",\"\",'H01 HC07'!Q10)","v":""},{"$f":"IF('H01 HC07'!R10=\"\",\"\",'H01 HC07'!R10)","v":""},{"$f":"IF('H01 HC07'!S10=\"\",\"\",'H01 HC07'!S10)","v":""},{"$f":"IF('H01 HC07'!T10=\"\",\"\",'H01 HC07'!T10)","v":""}]
[null,{"$f":"IF('H01 HC07'!B11=\"\",\"\",'H01 HC07'!B11)","v":"H01"},{"$f":"IF('H01 HC07'!C11=\"\",\"\",'H01 HC07'!C11)","v":"HC07"},{"$f":"IF('H01 HC07'!D11=\"\",\"\",'H01 HC07'!D11)","v":"QMA"},null,null,null,null,null,{"$f":"IF('H01 HC07'!E11=\"\",\"\",'H01 HC07'!E11)","v":"100"},{"$f":"IF('H01 HC07'!F11=\"\",\"\",'H01 HC07'!F11)","v":"=H01:HC07:QMA100"},{"$f":"IF('H01 HC07'!G11=\"\",\"\",'H01 HC07'!G11)","v":""},{"$f":"IF('H01 HC07'!H11=\"\",\"\",'H01 HC07'!H11)","v":""},{"$f":"IF('H01 HC07'!I11=\"\",\"\",'H01 HC07'!I11)","v":""},null,null,{"$f":"IF('H01 HC07'!K11=\"\",\"\",'H01 HC07'!K11)","v":""},{"$f":"IF('H01 HC07'!L11=\"\",\"\",'H01 HC07'!L11)","v":"Sanistål"},{"$f":"IF('H01 HC07'!M11=\"\",\"\",'H01 HC07'!M11)","v":"Cim6 N/N"},{"$f":"IF('H01 HC07'!N11=\"\",\"\",'H01 HC07'!N11)","v":"1/2\""},{"$f":"IF('H01 HC07'!O11=\"\",\"\",'H01 HC07'!O11)","v":889352},{"$f":"IF('H01 HC07'!P11=\"\",\"\",'H01 HC07'!P11)","v":""},{"$f":"IF('H01 HC07'!Q11=\"\",\"\",'H01 HC07'!Q11)","v":""},{"$f":"IF('H01 HC07'!R11=\"\",\"\",'H01 HC07'!R11)","v":""},{"$f":"IF('H01 HC07'!S11=\"\",\"\",'H01 HC07'!S11)","v":""},{"$f":"IF('H01 HC07'!T11=\"\",\"\",'H01 HC07'!T11)","v":""}]
[null,{"$f":"IF('H01 HC07'!B12=\"\",\"\",'H01 HC07'!B12)","v":"H01"},{"$f":"IF('H01 HC07'!C12=\"\",\"\",'H01 HC07'!C12)","v":"HC07"},{"$f":"IF('H01 HC07'!D12=\"\",\"\",'H01 HC07'!D12)","v":"QMA"},null,null,null,null,null,{"$f":"IF('H01 HC07'!E12=\"\",\"\",'H01 HC07'!E12)","v":"101"},{"$f":"IF('H01 HC07'!F12=\"\",\"\",'H01 HC07'!F12)","v":"=H01:HC07:QMA101"},{"$f":"IF('H01 HC07'!G12=\"\",\"\",'H01 HC07'!G12)","v":""},{"$f":"IF('H01 HC07'!H12=\"\",\"\",'H01 HC07'!H12)","v":""},{"$f":"IF('H01 HC07'!I12=\"\",\"\",'H01 HC07'!I12)","v":""},null,null,{"$f":"IF('H01 HC07'!K12=\"\",\"\",'H01 HC07'!K12)","v":""},{"$f":"IF('H01 HC07'!L12=\"\",\"\",'H01 HC07'!L12)","v":"Sanistål"},{"$f":"IF('H01 HC07'!M12=\"\",\"\",'H01 HC07'!M12)","v":"Cim6 N/N"},{"$f":"IF('H01 HC07'!N12=\"\",\"\",'H01 HC07'!N12)","v":"1/2\""},{"$f":"IF('H01 HC07'!O12=\"\",\"\",'H01 HC07'!O12)","v":889352},{"$f":"IF('H01 HC07'!P12=\"\",\"\",'H01 HC07'!P12)","v":""},{"$f":"IF('H01 HC07'!Q12=\"\",\"\",'H01 HC07'!Q12)","v":""},{"$f":"IF('H01 HC07'!R12=\"\",\"\",'H01 HC07'!R12)","v":""},{"$f":"IF('H01 HC07'!S12=\"\",\"\",'H01 HC07'!S12)","v":""},{"$f":"IF('H01 HC07'!T12=\"\",\"\",'H01 HC07'!T12)","v":""}]
[null,{"$f":"IF('H01 HC07'!B13=\"\",\"\",'H01 HC07'!B13)","v":"H01"},{"$f":"IF('H01 HC07'!C13=\"\",\"\",'H01 HC07'!C13)","v":"HC07"},{"$f":"IF('H01 HC07'!D13=\"\",\"\",'H01 HC07'!D13)","v":"XLG"},null,null,null,null,null,{"$f":"IF('H01 HC07'!E13=\"\",\"\",'H01 HC07'!E13)","v":"500"},{"$f":"IF('H01 HC07'!F13=\"\",\"\",'H01 HC07'!F13)","v":"=H01:HC07:XLG500"},{"$f":"IF('H01 HC07'!G13=\"\",\"\",'H01 HC07'!G13)","v":""},{"$f":"IF('H01 HC07'!H13=\"\",\"\",'H01 HC07'!H13)","v":""},{"$f":"IF('H01 HC07'!I13=\"\",\"\",'H01 HC07'!I13)","v":""},null,null,{"$f":"IF('H01 HC07'!K13=\"\",\"\",'H01 HC07'!K13)","v":""},{"$f":"IF('H01 HC07'!L13=\"\",\"\",'H01 HC07'!L13)","v":"Vira"},{"$f":"IF('H01 HC07'!M13=\"\",\"\",'H01 HC07'!M13)","v":"ST"},{"$f":"IF('H01 HC07'!N13=\"\",\"\",'H01 HC07'!N13)","v":"1/2\""},{"$f":"IF('H01 HC07'!O13=\"\",\"\",'H01 HC07'!O13)","v":"ST 1/2\""},{"$f":"IF('H01 HC07'!P13=\"\",\"\",'H01 HC07'!P13)","v":""},{"$f":"IF('H01 HC07'!Q13=\"\",\"\",'H01 HC07'!Q13)","v":""},{"$f":"IF('H01 HC07'!R13=\"\",\"\",'H01 HC07'!R13)","v":""},{"$f":"IF('H01 HC07'!S13=\"\",\"\",'H01 HC07'!S13)","v":""},{"$f":"IF('H01 HC07'!T13=\"\",\"\",'H01 HC07'!T13)","v":""}]
[null,{"$f":"IF('H01 HC07'!B14=\"\",\"\",'H01 HC07'!B14)","v":"H01"},{"$f":"IF('H01 HC07'!C14=\"\",\"\",'H01 HC07'!C14)","v":"HC07"},{"$f":"IF('H01 HC07'!D14=\"\",\"\",'H01 HC07'!D14)","v":"XLG"},null,null,null,null,null,{"$f":"IF('H01 HC07'!E14=\"\",\"\",'H01 HC07'!E14)","v":"501"},{"$f":"IF('H01 HC07'!F14=\"\",\"\",'H01 HC07'!F14)","v":"=H01:HC07:XLG501"},{"$f":"IF('H01 HC07'!G14=\"\",\"\",'H01 HC07'!G14)","v":""},{"$f":"IF('H01 HC07'!H14=\"\",\"\",'H01 HC07'!H14)","v":""},{"$f":"IF('H01 HC07'!I14=\"\",\"\",'H01 HC07'!I14)","v":""},null,null,{"$f":"IF('H01 HC07'!K14=\"\",\"\",'H01 HC07'!K14)","v":""},{"$f":"IF('H01 HC07'!L14=\"\",\"\",'H01 HC07'!L14)","v":"Vira"},{"$f":"IF('H01 HC07'!M14=\"\",\"\",'H01 HC07'!M14)","v":"ST"},{"$f":"IF('H01 HC07'!N14=\"\",\"\",'H01 HC07'!N14)","v":"1/2\""},{"$f":"IF('H01 HC07'!O14=\"\",\"\",'H01 HC07'!O14)","v":"ST 1/2\""},{"$f":"IF('H01 HC07'!P14=\"\",\"\",'H01 HC07'!P14)","v":""},{"$f":"IF('H01 HC07'!Q14=\"\",\"\",'H01 HC07'!Q14)","v":""},{"$f":"IF('H01 HC07'!R14=\"\",\"\",'H01 HC07'!R14)","v":""},{"$f":"IF('H01 HC07'!S14=\"\",\"\",'H01 HC07'!S14)","v":""},{"$f":"IF('H01 HC07'!T14=\"\",\"\",'H01 HC07'!T14)","v":""}]
[null,{"$f":"IF('H01 HC07'!B15=\"\",\"\",'H01 HC07'!B15)","v":""},{"$f":"IF('H01 HC07'!C15=\"\",\"\",'H01 HC07'!C15)","v":""},{"$f":"IF('H01 HC07'!D15=\"\",\"\",'H01 HC07'!D15)","v":""},null,null,null,null,null,{"$f":"IF('H01 HC07'!E15=\"\",\"\",'H01 HC07'!E15)","v":""},{"$f":"IF('H01 HC07'!F15=\"\",\"\",'H01 HC07'!F15)","v":""},{"$f":"IF('H01 HC07'!G15=\"\",\"\",'H01 HC07'!G15)","v":""},{"$f":"IF('H01 HC07'!H15=\"\",\"\",'H01 HC07'!H15)","v":""},{"$f":"IF('H01 HC07'!I15=\"\",\"\",'H01 HC07'!I15)","v":""},{"$f":"IF('H01 HC07'!J15=\"\",\"\",'H01 HC07'!J15)","v":""},{"$f":"IF(D623=\"\",\"\",VLOOKUP(D623,#REF!,3,0))","v":""},{"$f":"IF('H01 HC07'!K15=\"\",\"\",'H01 HC07'!K15)","v":""},{"$f":"IF('H01 HC07'!L15=\"\",\"\",'H01 HC07'!L15)","v":""},{"$f":"IF('H01 HC07'!M15=\"\",\"\",'H01 HC07'!M15)","v":""},{"$f":"IF('H01 HC07'!N15=\"\",\"\",'H01 HC07'!N15)","v":""},{"$f":"IF('H01 HC07'!O15=\"\",\"\",'H01 HC07'!O15)","v":""},{"$f":"IF('H01 HC07'!P15=\"\",\"\",'H01 HC07'!P15)","v":""},{"$f":"IF('H01 HC07'!Q15=\"\",\"\",'H01 HC07'!Q15)","v":""},{"$f":"IF('H01 HC07'!R15=\"\",\"\",'H01 HC07'!R15)","v":""},{"$f":"IF('H01 HC07'!S15=\"\",\"\",'H01 HC07'!S15)","v":""},{"$f":"IF('H01 HC07'!T15=\"\",\"\",'H01 HC07'!T15)","v":""}]
[null,{"$f":"IF('H01 HC07'!B16=\"\",\"\",'H01 HC07'!B16)","v":""},{"$f":"IF('H01 HC07'!C16=\"\",\"\",'H01 HC07'!C16)","v":""},{"$f":"IF('H01 HC07'!D16=\"\",\"\",'H01 HC07'!D16)","v":""},null,null,null,null,null,{"$f":"IF('H01 HC07'!E16=\"\",\"\",'H01 HC07'!E16)","v":""},{"$f":"IF('H01 HC07'!F16=\"\",\"\",'H01 HC07'!F16)","v":""},{"$f":"IF('H01 HC07'!G16=\"\",\"\",'H01 HC07'!G16)","v":""},{"$f":"IF('H01 HC07'!H16=\"\",\"\",'H01 HC07'!H16)","v":""},{"$f":"IF('H01 HC07'!I16=\"\",\"\",'H01 HC07'!I16)","v":""},{"$f":"IF('H01 HC07'!J16=\"\",\"\",'H01 HC07'!J16)","v":""},{"$f":"IF(D624=\"\",\"\",VLOOKUP(D624,#REF!,3,0))","v":""},{"$f":"IF('H01 HC07'!K16=\"\",\"\",'H01 HC07'!K16)","v":""},{"$f":"IF('H01 HC07'!L16=\"\",\"\",'H01 HC07'!L16)","v":""},{"$f":"IF('H01 HC07'!M16=\"\",\"\",'H01 HC07'!M16)","v":""},{"$f":"IF('H01 HC07'!N16=\"\",\"\",'H01 HC07'!N16)","v":""},{"$f":"IF('H01 HC07'!O16=\"\",\"\",'H01 HC07'!O16)","v":""},{"$f":"IF('H01 HC07'!P16=\"\",\"\",'H01 HC07'!P16)","v":""},{"$f":"IF('H01 HC07'!Q16=\"\",\"\",'H01 HC07'!Q16)","v":""},{"$f":"IF('H01 HC07'!R16=\"\",\"\",'H01 HC07'!R16)","v":""},{"$f":"IF('H01 HC07'!S16=\"\",\"\",'H01 HC07'!S16)","v":""},{"$f":"IF('H01 HC07'!T16=\"\",\"\",'H01 HC07'!T16)","v":""}]
[null,{"$f":"IF('H01 HC07'!B17=\"\",\"\",'H01 HC07'!B17)","v":""},{"$f":"IF('H01 HC07'!C17=\"\",\"\",'H01 HC07'!C17)","v":""},{"$f":"IF('H01 HC07'!D17=\"\",\"\",'H01 HC07'!D17)","v":""},null,null,null,null,null,{"$f":"IF('H01 HC07'!E17=\"\",\"\",'H01 HC07'!E17)","v":""},{"$f":"IF('H01 HC07'!F17=\"\",\"\",'H01 HC07'!F17)","v":""},{"$f":"IF('H01 HC07'!G17=\"\",\"\",'H01 HC07'!G17)","v":""},{"$f":"IF('H01 HC07'!H17=\"\",\"\",'H01 HC07'!H17)","v":""},{"$f":"IF('H01 HC07'!I17=\"\",\"\",'H01 HC07'!I17)","v":""},{"$f":"IF('H01 HC07'!J17=\"\",\"\",'H01 HC07'!J17)","v":""},{"$f":"IF(D625=\"\",\"\",VLOOKUP(D625,#REF!,3,0))","v":""},{"$f":"IF('H01 HC07'!K17=\"\",\"\",'H01 HC07'!K17)","v":""},{"$f":"IF('H01 HC07'!L17=\"\",\"\",'H01 HC07'!L17)","v":""},{"$f":"IF('H01 HC07'!M17=\"\",\"\",'H01 HC07'!M17)","v":""},{"$f":"IF('H01 HC07'!N17=\"\",\"\",'H01 HC07'!N17)","v":""},{"$f":"IF('H01 HC07'!O17=\"\",\"\",'H01 HC07'!O17)","v":""},{"$f":"IF('H01 HC07'!P17=\"\",\"\",'H01 HC07'!P17)","v":""},{"$f":"IF('H01 HC07'!Q17=\"\",\"\",'H01 HC07'!Q17)","v":""},{"$f":"IF('H01 HC07'!R17=\"\",\"\",'H01 HC07'!R17)","v":""},{"$f":"IF('H01 HC07'!S17=\"\",\"\",'H01 HC07'!S17)","v":""},{"$f":"IF('H01 HC07'!T17=\"\",\"\",'H01 HC07'!T17)","v":""}]
[null,{"$f":"IF('H01 HC07'!B18=\"\",\"\",'H01 HC07'!B18)","v":""},{"$f":"IF('H01 HC07'!C18=\"\",\"\",'H01 HC07'!C18)","v":""},{"$f":"IF('H01 HC07'!D18=\"\",\"\",'H01 HC07'!D18)","v":""},null,null,null,null,null,{"$f":"IF('H01 HC07'!E18=\"\",\"\",'H01 HC07'!E18)","v":""},{"$f":"IF('H01 HC07'!F18=\"\",\"\",'H01 HC07'!F18)","v":""},{"$f":"IF('H01 HC07'!G18=\"\",\"\",'H01 HC07'!G18)","v":""},{"$f":"IF('H01 HC07'!H18=\"\",\"\",'H01 HC07'!H18)","v":""},{"$f":"IF('H01 HC07'!I18=\"\",\"\",'H01 HC07'!I18)","v":""},{"$f":"IF('H01 HC07'!J18=\"\",\"\",'H01 HC07'!J18)","v":""},{"$f":"IF(D626=\"\",\"\",VLOOKUP(D626,#REF!,3,0))","v":""},{"$f":"IF('H01 HC07'!K18=\"\",\"\",'H01 HC07'!K18)","v":""},{"$f":"IF('H01 HC07'!L18=\"\",\"\",'H01 HC07'!L18)","v":""},{"$f":"IF('H01 HC07'!M18=\"\",\"\",'H01 HC07'!M18)","v":""},{"$f":"IF('H01 HC07'!N18=\"\",\"\",'H01 HC07'!N18)","v":""},{"$f":"IF('H01 HC07'!O18=\"\",\"\",'H01 HC07'!O18)","v":""},{"$f":"IF('H01 HC07'!P18=\"\",\"\",'H01 HC07'!P18)","v":""},{"$f":"IF('H01 HC07'!Q18=\"\",\"\",'H01 HC07'!Q18)","v":""},{"$f":"IF('H01 HC07'!R18=\"\",\"\",'H01 HC07'!R18)","v":""},{"$f":"IF('H01 HC07'!S18=\"\",\"\",'H01 HC07'!S18)","v":""},{"$f":"IF('H01 HC07'!T18=\"\",\"\",'H01 HC07'!T18)","v":""}]
[null,{"$f":"IF('H01 HC07'!B19=\"\",\"\",'H01 HC07'!B19)","v":""},{"$f":"IF('H01 HC07'!C19=\"\",\"\",'H01 HC07'!C19)","v":""},{"$f":"IF('H01 HC07'!D19=\"\",\"\",'H01 HC07'!D19)","v":""},null,null,null,null,null,{"$f":"IF('H01 HC07'!E19=\"\",\"\",'H01 HC07'!E19)","v":""},{"$f":"IF('H01 HC07'!F19=\"\",\"\",'H01 HC07'!F19)","v":""},{"$f":"IF('H01 HC07'!G19=\"\",\"\",'H01 HC07'!G19)","v":""},{"$f":"IF('H01 HC07'!H19=\"\",\"\",'H01 HC07'!H19)","v":""},{"$f":"IF('H01 HC07'!I19=\"\",\"\",'H01 HC07'!I19)","v":""},{"$f":"IF('H01 HC07'!J19=\"\",\"\",'H01 HC07'!J19)","v":""},{"$f":"IF(D627=\"\",\"\",VLOOKUP(D627,#REF!,3,0))","v":""},{"$f":"IF('H01 HC07'!K19=\"\",\"\",'H01 HC07'!K19)","v":""},{"$f":"IF('H01 HC07'!L19=\"\",\"\",'H01 HC07'!L19)","v":""},{"$f":"IF('H01 HC07'!M19=\"\",\"\",'H01 HC07'!M19)","v":""},{"$f":"IF('H01 HC07'!N19=\"\",\"\",'H01 HC07'!N19)","v":""},{"$f":"IF('H01 HC07'!O19=\"\",\"\",'H01 HC07'!O19)","v":""},{"$f":"IF('H01 HC07'!P19=\"\",\"\",'H01 HC07'!P19)","v":""},{"$f":"IF('H01 HC07'!Q19=\"\",\"\",'H01 HC07'!Q19)","v":""},{"$f":"IF('H01 HC07'!R19=\"\",\"\",'H01 HC07'!R19)","v":""},{"$f":"IF('H01 HC07'!S19=\"\",\"\",'H01 HC07'!S19)","v":""},{"$f":"IF('H01 HC07'!T19=\"\",\"\",'H01 HC07'!T19)","v":""}]
[null,{"$f":"IF('H01 HC07'!B20=\"\",\"\",'H01 HC07'!B20)","v":""},{"$f":"IF('H01 HC07'!C20=\"\",\"\",'H01 HC07'!C20)","v":""},{"$f":"IF('H01 HC07'!D20=\"\",\"\",'H01 HC07'!D20)","v":""},null,null,null,null,null,{"$f":"IF('H01 HC07'!E20=\"\",\"\",'H01 HC07'!E20)","v":""},{"$f":"IF('H01 HC07'!F20=\"\",\"\",'H01 HC07'!F20)","v":""},{"$f":"IF('H01 HC07'!G20=\"\",\"\",'H01 HC07'!G20)","v":""},{"$f":"IF('H01 HC07'!H20=\"\",\"\",'H01 HC07'!H20)","v":""},{"$f":"IF('H01 HC07'!I20=\"\",\"\",'H01 HC07'!I20)","v":""},{"$f":"IF('H01 HC07'!J20=\"\",\"\",'H01 HC07'!J20)","v":""},{"$f":"IF(D628=\"\",\"\",VLOOKUP(D628,#REF!,3,0))","v":""},{"$f":"IF('H01 HC07'!K20=\"\",\"\",'H01 HC07'!K20)","v":""},{"$f":"IF('H01 HC07'!L20=\"\",\"\",'H01 HC07'!L20)","v":""},{"$f":"IF('H01 HC07'!M20=\"\",\"\",'H01 HC07'!M20)","v":""},{"$f":"IF('H01 HC07'!N20=\"\",\"\",'H01 HC07'!N20)","v":""},{"$f":"IF('H01 HC07'!O20=\"\",\"\",'H01 HC07'!O20)","v":""},{"$f":"IF('H01 HC07'!P20=\"\",\"\",'H01 HC07'!P20)","v":""},{"$f":"IF('H01 HC07'!Q20=\"\",\"\",'H01 HC07'!Q20)","v":""},{"$f":"IF('H01 HC07'!R20=\"\",\"\",'H01 HC07'!R20)","v":""},{"$f":"IF('H01 HC07'!S20=\"\",\"\",'H01 HC07'!S20)","v":""},{"$f":"IF('H01 HC07'!T20=\"\",\"\",'H01 HC07'!T20)","v":""}]
[null,{"$f":"IF('H01 HC07'!B21=\"\",\"\",'H01 HC07'!B21)","v":""},{"$f":"IF('H01 HC07'!C21=\"\",\"\",'H01 HC07'!C21)","v":""},{"$f":"IF('H01 HC07'!D21=\"\",\"\",'H01 HC07'!D21)","v":""},null,null,null,null,null,{"$f":"IF('H01 HC07'!E21=\"\",\"\",'H01 HC07'!E21)","v":""},{"$f":"IF('H01 HC07'!F21=\"\",\"\",'H01 HC07'!F21)","v":""},{"$f":"IF('H01 HC07'!G21=\"\",\"\",'H01 HC07'!G21)","v":""},{"$f":"IF('H01 HC07'!H21=\"\",\"\",'H01 HC07'!H21)","v":""},{"$f":"IF('H01 HC07'!I21=\"\",\"\",'H01 HC07'!I21)","v":""},{"$f":"IF('H01 HC07'!J21=\"\",\"\",'H01 HC07'!J21)","v":""},{"$f":"IF(D629=\"\",\"\",VLOOKUP(D629,#REF!,3,0))","v":""},{"$f":"IF('H01 HC07'!K21=\"\",\"\",'H01 HC07'!K21)","v":""},{"$f":"IF('H01 HC07'!L21=\"\",\"\",'H01 HC07'!L21)","v":""},{"$f":"IF('H01 HC07'!M21=\"\",\"\",'H01 HC07'!M21)","v":""},{"$f":"IF('H01 HC07'!N21=\"\",\"\",'H01 HC07'!N21)","v":""},{"$f":"IF('H01 HC07'!O21=\"\",\"\",'H01 HC07'!O21)","v":""},{"$f":"IF('H01 HC07'!P21=\"\",\"\",'H01 HC07'!P21)","v":""},{"$f":"IF('H01 HC07'!Q21=\"\",\"\",'H01 HC07'!Q21)","v":""},{"$f":"IF('H01 HC07'!R21=\"\",\"\",'H01 HC07'!R21)","v":""},{"$f":"IF('H01 HC07'!S21=\"\",\"\",'H01 HC07'!S21)","v":""},{"$f":"IF('H01 HC07'!T21=\"\",\"\",'H01 HC07'!T21)","v":""}]
[null,{"$f":"IF('H01 HC07'!B22=\"\",\"\",'H01 HC07'!B22)","v":""},{"$f":"IF('H01 HC07'!C22=\"\",\"\",'H01 HC07'!C22)","v":""},{"$f":"IF('H01 HC07'!D22=\"\",\"\",'H01 HC07'!D22)","v":""},null,null,null,null,null,{"$f":"IF('H01 HC07'!E22=\"\",\"\",'H01 HC07'!E22)","v":""},{"$f":"IF('H01 HC07'!F22=\"\",\"\",'H01 HC07'!F22)","v":""},{"$f":"IF('H01 HC07'!G22=\"\",\"\",'H01 HC07'!G22)","v":""},{"$f":"IF('H01 HC07'!H22=\"\",\"\",'H01 HC07'!H22)","v":""},{"$f":"IF('H01 HC07'!I22=\"\",\"\",'H01 HC07'!I22)","v":""},{"$f":"IF('H01 HC07'!J22=\"\",\"\",'H01 HC07'!J22)","v":""},{"$f":"IF(D630=\"\",\"\",VLOOKUP(D630,#REF!,3,0))","v":""},{"$f":"IF('H01 HC07'!K22=\"\",\"\",'H01 HC07'!K22)","v":""},{"$f":"IF('H01 HC07'!L22=\"\",\"\",'H01 HC07'!L22)","v":""},{"$f":"IF('H01 HC07'!M22=\"\",\"\",'H01 HC07'!M22)","v":""},{"$f":"IF('H01 HC07'!N22=\"\",\"\",'H01 HC07'!N22)","v":""},{"$f":"IF('H01 HC07'!O22=\"\",\"\",'H01 HC07'!O22)","v":""},{"$f":"IF('H01 HC07'!P22=\"\",\"\",'H01 HC07'!P22)","v":""},{"$f":"IF('H01 HC07'!Q22=\"\",\"\",'H01 HC07'!Q22)","v":""},{"$f":"IF('H01 HC07'!R22=\"\",\"\",'H01 HC07'!R22)","v":""},{"$f":"IF('H01 HC07'!S22=\"\",\"\",'H01 HC07'!S22)","v":""},{"$f":"IF('H01 HC07'!T22=\"\",\"\",'H01 HC07'!T22)","v":""}]
[null,{"$f":"IF('H01 HC07'!B23=\"\",\"\",'H01 HC07'!B23)","v":""},{"$f":"IF('H01 HC07'!C23=\"\",\"\",'H01 HC07'!C23)","v":""},{"$f":"IF('H01 HC07'!D23=\"\",\"\",'H01 HC07'!D23)","v":""},null,null,null,null,null,{"$f":"IF('H01 HC07'!E23=\"\",\"\",'H01 HC07'!E23)","v":""},{"$f":"IF('H01 HC07'!F23=\"\",\"\",'H01 HC07'!F23)","v":""},{"$f":"IF('H01 HC07'!G23=\"\",\"\",'H01 HC07'!G23)","v":""},{"$f":"IF('H01 HC07'!H23=\"\",\"\",'H01 HC07'!H23)","v":""},{"$f":"IF('H01 HC07'!I23=\"\",\"\",'H01 HC07'!I23)","v":""},{"$f":"IF('H01 HC07'!J23=\"\",\"\",'H01 HC07'!J23)","v":""},{"$f":"IF(D631=\"\",\"\",VLOOKUP(D631,#REF!,3,0))","v":""},{"$f":"IF('H01 HC07'!K23=\"\",\"\",'H01 HC07'!K23)","v":""},{"$f":"IF('H01 HC07'!L23=\"\",\"\",'H01 HC07'!L23)","v":""},{"$f":"IF('H01 HC07'!M23=\"\",\"\",'H01 HC07'!M23)","v":""},{"$f":"IF('H01 HC07'!N23=\"\",\"\",'H01 HC07'!N23)","v":""},{"$f":"IF('H01 HC07'!O23=\"\",\"\",'H01 HC07'!O23)","v":""},{"$f":"IF('H01 HC07'!P23=\"\",\"\",'H01 HC07'!P23)","v":""},{"$f":"IF('H01 HC07'!Q23=\"\",\"\",'H01 HC07'!Q23)","v":""},{"$f":"IF('H01 HC07'!R23=\"\",\"\",'H01 HC07'!R23)","v":""},{"$f":"IF('H01 HC07'!S23=\"\",\"\",'H01 HC07'!S23)","v":""},{"$f":"IF('H01 HC07'!T23=\"\",\"\",'H01 HC07'!T23)","v":""}]
[null,{"$f":"IF('H01 HC07'!B24=\"\",\"\",'H01 HC07'!B24)","v":""},{"$f":"IF('H01 HC07'!C24=\"\",\"\",'H01 HC07'!C24)","v":""},{"$f":"IF('H01 HC07'!D24=\"\",\"\",'H01 HC07'!D24)","v":""},null,null,null,null,null,{"$f":"IF('H01 HC07'!E24=\"\",\"\",'H01 HC07'!E24)","v":""},{"$f":"IF('H01 HC07'!F24=\"\",\"\",'H01 HC07'!F24)","v":""},{"$f":"IF('H01 HC07'!G24=\"\",\"\",'H01 HC07'!G24)","v":""},{"$f":"IF('H01 HC07'!H24=\"\",\"\",'H01 HC07'!H24)","v":""},{"$f":"IF('H01 HC07'!I24=\"\",\"\",'H01 HC07'!I24)","v":""},{"$f":"IF('H01 HC07'!J24=\"\",\"\",'H01 HC07'!J24)","v":""},{"$f":"IF(D632=\"\",\"\",VLOOKUP(D632,#REF!,3,0))","v":""},{"$f":"IF('H01 HC07'!K24=\"\",\"\",'H01 HC07'!K24)","v":""},{"$f":"IF('H01 HC07'!L24=\"\",\"\",'H01 HC07'!L24)","v":""},{"$f":"IF('H01 HC07'!M24=\"\",\"\",'H01 HC07'!M24)","v":""},{"$f":"IF('H01 HC07'!N24=\"\",\"\",'H01 HC07'!N24)","v":""},{"$f":"IF('H01 HC07'!O24=\"\",\"\",'H01 HC07'!O24)","v":""},{"$f":"IF('H01 HC07'!P24=\"\",\"\",'H01 HC07'!P24)","v":""},{"$f":"IF('H01 HC07'!Q24=\"\",\"\",'H01 HC07'!Q24)","v":""},{"$f":"IF('H01 HC07'!R24=\"\",\"\",'H01 HC07'!R24)","v":""},{"$f":"IF('H01 HC07'!S24=\"\",\"\",'H01 HC07'!S24)","v":""},{"$f":"IF('H01 HC07'!T24=\"\",\"\",'H01 HC07'!T24)","v":""}]
[null,{"$f":"IF('H01 HC07'!B25=\"\",\"\",'H01 HC07'!B25)","v":""},{"$f":"IF('H01 HC07'!C25=\"\",\"\",'H01 HC07'!C25)","v":""},{"$f":"IF('H01 HC07'!D25=\"\",\"\",'H01 HC07'!D25)","v":""},null,null,null,null,null,{"$f":"IF('H01 HC07'!E25=\"\",\"\",'H01 HC07'!E25)","v":""},{"$f":"IF('H01 HC07'!F25=\"\",\"\",'H01 HC07'!F25)","v":""},{"$f":"IF('H01 HC07'!G25=\"\",\"\",'H01 HC07'!G25)","v":""},{"$f":"IF('H01 HC07'!H25=\"\",\"\",'H01 HC07'!H25)","v":""},{"$f":"IF('H01 HC07'!I25=\"\",\"\",'H01 HC07'!I25)","v":""},{"$f":"IF('H01 HC07'!J25=\"\",\"\",'H01 HC07'!J25)","v":""},{"$f":"IF(D633=\"\",\"\",VLOOKUP(D633,#REF!,3,0))","v":""},{"$f":"IF('H01 HC07'!K25=\"\",\"\",'H01 HC07'!K25)","v":""},{"$f":"IF('H01 HC07'!L25=\"\",\"\",'H01 HC07'!L25)","v":""},{"$f":"IF('H01 HC07'!M25=\"\",\"\",'H01 HC07'!M25)","v":""},{"$f":"IF('H01 HC07'!N25=\"\",\"\",'H01 HC07'!N25)","v":""},{"$f":"IF('H01 HC07'!O25=\"\",\"\",'H01 HC07'!O25)","v":""},{"$f":"IF('H01 HC07'!P25=\"\",\"\",'H01 HC07'!P25)","v":""},{"$f":"IF('H01 HC07'!Q25=\"\",\"\",'H01 HC07'!Q25)","v":""},{"$f":"IF('H01 HC07'!R25=\"\",\"\",'H01 HC07'!R25)","v":""},{"$f":"IF('H01 HC07'!S25=\"\",\"\",'H01 HC07'!S25)","v":""},{"$f":"IF('H01 HC07'!T25=\"\",\"\",'H01 HC07'!T25)","v":""}]
[null,{"$f":"IF('H01 HC07'!B26=\"\",\"\",'H01 HC07'!B26)","v":""},{"$f":"IF('H01 HC07'!C26=\"\",\"\",'H01 HC07'!C26)","v":""},{"$f":"IF('H01 HC07'!D26=\"\",\"\",'H01 HC07'!D26)","v":""},null,null,null,null,null,{"$f":"IF('H01 HC07'!E26=\"\",\"\",'H01 HC07'!E26)","v":""},{"$f":"IF('H01 HC07'!F26=\"\",\"\",'H01 HC07'!F26)","v":""},{"$f":"IF('H01 HC07'!G26=\"\",\"\",'H01 HC07'!G26)","v":""},{"$f":"IF('H01 HC07'!H26=\"\",\"\",'H01 HC07'!H26)","v":""},{"$f":"IF('H01 HC07'!I26=\"\",\"\",'H01 HC07'!I26)","v":""},{"$f":"IF('H01 HC07'!J26=\"\",\"\",'H01 HC07'!J26)","v":""},{"$f":"IF(D634=\"\",\"\",VLOOKUP(D634,#REF!,3,0))","v":""},{"$f":"IF('H01 HC07'!K26=\"\",\"\",'H01 HC07'!K26)","v":""},{"$f":"IF('H01 HC07'!L26=\"\",\"\",'H01 HC07'!L26)","v":""},{"$f":"IF('H01 HC07'!M26=\"\",\"\",'H01 HC07'!M26)","v":""},{"$f":"IF('H01 HC07'!N26=\"\",\"\",'H01 HC07'!N26)","v":""},{"$f":"IF('H01 HC07'!O26=\"\",\"\",'H01 HC07'!O26)","v":""},{"$f":"IF('H01 HC07'!P26=\"\",\"\",'H01 HC07'!P26)","v":""},{"$f":"IF('H01 HC07'!Q26=\"\",\"\",'H01 HC07'!Q26)","v":""},{"$f":"IF('H01 HC07'!R26=\"\",\"\",'H01 HC07'!R26)","v":""},{"$f":"IF('H01 HC07'!S26=\"\",\"\",'H01 HC07'!S26)","v":""},{"$f":"IF('H01 HC07'!T26=\"\",\"\",'H01 HC07'!T26)","v":""}]
[null,{"$f":"IF('H01 HC07'!B27=\"\",\"\",'H01 HC07'!B27)","v":""},{"$f":"IF('H01 HC07'!C27=\"\",\"\",'H01 HC07'!C27)","v":""},{"$f":"IF('H01 HC07'!D27=\"\",\"\",'H01 HC07'!D27)","v":""},null,null,null,null,null,{"$f":"IF('H01 HC07'!E27=\"\",\"\",'H01 HC07'!E27)","v":""},{"$f":"IF('H01 HC07'!F27=\"\",\"\",'H01 HC07'!F27)","v":""},{"$f":"IF('H01 HC07'!G27=\"\",\"\",'H01 HC07'!G27)","v":""},{"$f":"IF('H01 HC07'!H27=\"\",\"\",'H01 HC07'!H27)","v":""},{"$f":"IF('H01 HC07'!I27=\"\",\"\",'H01 HC07'!I27)","v":""},{"$f":"IF('H01 HC07'!J27=\"\",\"\",'H01 HC07'!J27)","v":""},{"$f":"IF(D635=\"\",\"\",VLOOKUP(D635,#REF!,3,0))","v":""},{"$f":"IF('H01 HC07'!K27=\"\",\"\",'H01 HC07'!K27)","v":""},{"$f":"IF('H01 HC07'!L27=\"\",\"\",'H01 HC07'!L27)","v":""},{"$f":"IF('H01 HC07'!M27=\"\",\"\",'H01 HC07'!M27)","v":""},{"$f":"IF('H01 HC07'!N27=\"\",\"\",'H01 HC07'!N27)","v":""},{"$f":"IF('H01 HC07'!O27=\"\",\"\",'H01 HC07'!O27)","v":""},{"$f":"IF('H01 HC07'!P27=\"\",\"\",'H01 HC07'!P27)","v":""},{"$f":"IF('H01 HC07'!Q27=\"\",\"\",'H01 HC07'!Q27)","v":""},{"$f":"IF('H01 HC07'!R27=\"\",\"\",'H01 HC07'!R27)","v":""},{"$f":"IF('H01 HC07'!S27=\"\",\"\",'H01 HC07'!S27)","v":""},{"$f":"IF('H01 HC07'!T27=\"\",\"\",'H01 HC07'!T27)","v":""}]
[null,{"$f":"IF('H01 HC07'!B28=\"\",\"\",'H01 HC07'!B28)","v":""},{"$f":"IF('H01 HC07'!C28=\"\",\"\",'H01 HC07'!C28)","v":""},{"$f":"IF('H01 HC07'!D28=\"\",\"\",'H01 HC07'!D28)","v":""},null,null,null,null,null,{"$f":"IF('H01 HC07'!E28=\"\",\"\",'H01 HC07'!E28)","v":""},{"$f":"IF('H01 HC07'!F28=\"\",\"\",'H01 HC07'!F28)","v":""},{"$f":"IF('H01 HC07'!G28=\"\",\"\",'H01 HC07'!G28)","v":""},{"$f":"IF('H01 HC07'!H28=\"\",\"\",'H01 HC07'!H28)","v":""},{"$f":"IF('H01 HC07'!I28=\"\",\"\",'H01 HC07'!I28)","v":""},{"$f":"IF('H01 HC07'!J28=\"\",\"\",'H01 HC07'!J28)","v":""},{"$f":"IF(D636=\"\",\"\",VLOOKUP(D636,#REF!,3,0))","v":""},{"$f":"IF('H01 HC07'!K28=\"\",\"\",'H01 HC07'!K28)","v":""},{"$f":"IF('H01 HC07'!L28=\"\",\"\",'H01 HC07'!L28)","v":""},{"$f":"IF('H01 HC07'!M28=\"\",\"\",'H01 HC07'!M28)","v":""},{"$f":"IF('H01 HC07'!N28=\"\",\"\",'H01 HC07'!N28)","v":""},{"$f":"IF('H01 HC07'!O28=\"\",\"\",'H01 HC07'!O28)","v":""},{"$f":"IF('H01 HC07'!P28=\"\",\"\",'H01 HC07'!P28)","v":""},{"$f":"IF('H01 HC07'!Q28=\"\",\"\",'H01 HC07'!Q28)","v":""},{"$f":"IF('H01 HC07'!R28=\"\",\"\",'H01 HC07'!R28)","v":""},{"$f":"IF('H01 HC07'!S28=\"\",\"\",'H01 HC07'!S28)","v":""},{"$f":"IF('H01 HC07'!T28=\"\",\"\",'H01 HC07'!T28)","v":""}]
[null,{"$f":"IF('H01 HC07'!B29=\"\",\"\",'H01 HC07'!B29)","v":""},{"$f":"IF('H01 HC07'!C29=\"\",\"\",'H01 HC07'!C29)","v":""},{"$f":"IF('H01 HC07'!D29=\"\",\"\",'H01 HC07'!D29)","v":""},null,null,null,null,null,{"$f":"IF('H01 HC07'!E29=\"\",\"\",'H01 HC07'!E29)","v":""},{"$f":"IF('H01 HC07'!F29=\"\",\"\",'H01 HC07'!F29)","v":""},{"$f":"IF('H01 HC07'!G29=\"\",\"\",'H01 HC07'!G29)","v":""},{"$f":"IF('H01 HC07'!H29=\"\",\"\",'H01 HC07'!H29)","v":""},{"$f":"IF('H01 HC07'!I29=\"\",\"\",'H01 HC07'!I29)","v":""},{"$f":"IF('H01 HC07'!J29=\"\",\"\",'H01 HC07'!J29)","v":""},{"$f":"IF(D637=\"\",\"\",VLOOKUP(D637,#REF!,3,0))","v":""},{"$f":"IF('H01 HC07'!K29=\"\",\"\",'H01 HC07'!K29)","v":""},{"$f":"IF('H01 HC07'!L29=\"\",\"\",'H01 HC07'!L29)","v":""},{"$f":"IF('H01 HC07'!M29=\"\",\"\",'H01 HC07'!M29)","v":""},{"$f":"IF('H01 HC07'!N29=\"\",\"\",'H01 HC07'!N29)","v":""},{"$f":"IF('H01 HC07'!O29=\"\",\"\",'H01 HC07'!O29)","v":""},{"$f":"IF('H01 HC07'!P29=\"\",\"\",'H01 HC07'!P29)","v":""},{"$f":"IF('H01 HC07'!Q29=\"\",\"\",'H01 HC07'!Q29)","v":""},{"$f":"IF('H01 HC07'!R29=\"\",\"\",'H01 HC07'!R29)","v":""},{"$f":"IF('H01 HC07'!S29=\"\",\"\",'H01 HC07'!S29)","v":""},{"$f":"IF('H01 HC07'!T29=\"\",\"\",'H01 HC07'!T29)","v":""}]
[null,{"$f":"IF('H01 HC07'!B30=\"\",\"\",'H01 HC07'!B30)","v":""},{"$f":"IF('H01 HC07'!C30=\"\",\"\",'H01 HC07'!C30)","v":""},{"$f":"IF('H01 HC07'!D30=\"\",\"\",'H01 HC07'!D30)","v":""},null,null,null,null,null,{"$f":"IF('H01 HC07'!E30=\"\",\"\",'H01 HC07'!E30)","v":""},{"$f":"IF('H01 HC07'!F30=\"\",\"\",'H01 HC07'!F30)","v":""},{"$f":"IF('H01 HC07'!G30=\"\",\"\",'H01 HC07'!G30)","v":""},{"$f":"IF('H01 HC07'!H30=\"\",\"\",'H01 HC07'!H30)","v":""},{"$f":"IF('H01 HC07'!I30=\"\",\"\",'H01 HC07'!I30)","v":""},{"$f":"IF('H01 HC07'!J30=\"\",\"\",'H01 HC07'!J30)","v":""},{"$f":"IF(D638=\"\",\"\",VLOOKUP(D638,#REF!,3,0))","v":""},{"$f":"IF('H01 HC07'!K30=\"\",\"\",'H01 HC07'!K30)","v":""},{"$f":"IF('H01 HC07'!L30=\"\",\"\",'H01 HC07'!L30)","v":""},{"$f":"IF('H01 HC07'!M30=\"\",\"\",'H01 HC07'!M30)","v":""},{"$f":"IF('H01 HC07'!N30=\"\",\"\",'H01 HC07'!N30)","v":""},{"$f":"IF('H01 HC07'!O30=\"\",\"\",'H01 HC07'!O30)","v":""},{"$f":"IF('H01 HC07'!P30=\"\",\"\",'H01 HC07'!P30)","v":""},{"$f":"IF('H01 HC07'!Q30=\"\",\"\",'H01 HC07'!Q30)","v":""},{"$f":"IF('H01 HC07'!R30=\"\",\"\",'H01 HC07'!R30)","v":""},{"$f":"IF('H01 HC07'!S30=\"\",\"\",'H01 HC07'!S30)","v":""},{"$f":"IF('H01 HC07'!T30=\"\",\"\",'H01 HC07'!T30)","v":""}]
[null,{"$f":"IF('H01 HC07'!B31=\"\",\"\",'H01 HC07'!B31)","v":""},{"$f":"IF('H01 HC07'!C31=\"\",\"\",'H01 HC07'!C31)","v":""},{"$f":"IF('H01 HC07'!D31=\"\",\"\",'H01 HC07'!D31)","v":""},null,null,null,null,null,{"$f":"IF('H01 HC07'!E31=\"\",\"\",'H01 HC07'!E31)","v":""},{"$f":"IF('H01 HC07'!F31=\"\",\"\",'H01 HC07'!F31)","v":""},{"$f":"IF('H01 HC07'!G31=\"\",\"\",'H01 HC07'!G31)","v":""},{"$f":"IF('H01 HC07'!H31=\"\",\"\",'H01 HC07'!H31)","v":""},{"$f":"IF('H01 HC07'!I31=\"\",\"\",'H01 HC07'!I31)","v":""},{"$f":"IF('H01 HC07'!J31=\"\",\"\",'H01 HC07'!J31)","v":""},{"$f":"IF(D639=\"\",\"\",VLOOKUP(D639,#REF!,3,0))","v":""},{"$f":"IF('H01 HC07'!K31=\"\",\"\",'H01 HC07'!K31)","v":""},{"$f":"IF('H01 HC07'!L31=\"\",\"\",'H01 HC07'!L31)","v":""},{"$f":"IF('H01 HC07'!M31=\"\",\"\",'H01 HC07'!M31)","v":""},{"$f":"IF('H01 HC07'!N31=\"\",\"\",'H01 HC07'!N31)","v":""},{"$f":"IF('H01 HC07'!O31=\"\",\"\",'H01 HC07'!O31)","v":""},{"$f":"IF('H01 HC07'!P31=\"\",\"\",'H01 HC07'!P31)","v":""},{"$f":"IF('H01 HC07'!Q31=\"\",\"\",'H01 HC07'!Q31)","v":""},{"$f":"IF('H01 HC07'!R31=\"\",\"\",'H01 HC07'!R31)","v":""},{"$f":"IF('H01 HC07'!S31=\"\",\"\",'H01 HC07'!S31)","v":""},{"$f":"IF('H01 HC07'!T31=\"\",\"\",'H01 HC07'!T31)","v":""}]
[null,{"$f":"IF('H01 HC07'!B32=\"\",\"\",'H01 HC07'!B32)","v":""},{"$f":"IF('H01 HC07'!C32=\"\",\"\",'H01 HC07'!C32)","v":""},{"$f":"IF('H01 HC07'!D32=\"\",\"\",'H01 HC07'!D32)","v":""},null,null,null,null,null,{"$f":"IF('H01 HC07'!E32=\"\",\"\",'H01 HC07'!E32)","v":""},{"$f":"IF('H01 HC07'!F32=\"\",\"\",'H01 HC07'!F32)","v":""},{"$f":"IF('H01 HC07'!G32=\"\",\"\",'H01 HC07'!G32)","v":""},{"$f":"IF('H01 HC07'!H32=\"\",\"\",'H01 HC07'!H32)","v":""},{"$f":"IF('H01 HC07'!I32=\"\",\"\",'H01 HC07'!I32)","v":""},{"$f":"IF('H01 HC07'!J32=\"\",\"\",'H01 HC07'!J32)","v":""},{"$f":"IF(D640=\"\",\"\",VLOOKUP(D640,#REF!,3,0))","v":""},{"$f":"IF('H01 HC07'!K32=\"\",\"\",'H01 HC07'!K32)","v":""},{"$f":"IF('H01 HC07'!L32=\"\",\"\",'H01 HC07'!L32)","v":""},{"$f":"IF('H01 HC07'!M32=\"\",\"\",'H01 HC07'!M32)","v":""},{"$f":"IF('H01 HC07'!N32=\"\",\"\",'H01 HC07'!N32)","v":""},{"$f":"IF('H01 HC07'!O32=\"\",\"\",'H01 HC07'!O32)","v":""},{"$f":"IF('H01 HC07'!P32=\"\",\"\",'H01 HC07'!P32)","v":""},{"$f":"IF('H01 HC07'!Q32=\"\",\"\",'H01 HC07'!Q32)","v":""},{"$f":"IF('H01 HC07'!R32=\"\",\"\",'H01 HC07'!R32)","v":""},{"$f":"IF('H01 HC07'!S32=\"\",\"\",'H01 HC07'!S32)","v":""},{"$f":"IF('H01 HC07'!T32=\"\",\"\",'H01 HC07'!T32)","v":""}]
[null,{"$f":"IF('H01 HC07'!B33=\"\",\"\",'H01 HC07'!B33)","v":""},{"$f":"IF('H01 HC07'!C33=\"\",\"\",'H01 HC07'!C33)","v":""},{"$f":"IF('H01 HC07'!D33=\"\",\"\",'H01 HC07'!D33)","v":""},null,null,null,null,null,{"$f":"IF('H01 HC07'!E33=\"\",\"\",'H01 HC07'!E33)","v":""},{"$f":"IF('H01 HC07'!F33=\"\",\"\",'H01 HC07'!F33)","v":""},{"$f":"IF('H01 HC07'!G33=\"\",\"\",'H01 HC07'!G33)","v":""},{"$f":"IF('H01 HC07'!H33=\"\",\"\",'H01 HC07'!H33)","v":""},{"$f":"IF('H01 HC07'!I33=\"\",\"\",'H01 HC07'!I33)","v":""},{"$f":"IF('H01 HC07'!J33=\"\",\"\",'H01 HC07'!J33)","v":""},{"$f":"IF(D641=\"\",\"\",VLOOKUP(D641,#REF!,3,0))","v":""},{"$f":"IF('H01 HC07'!K33=\"\",\"\",'H01 HC07'!K33)","v":""},{"$f":"IF('H01 HC07'!L33=\"\",\"\",'H01 HC07'!L33)","v":""},{"$f":"IF('H01 HC07'!M33=\"\",\"\",'H01 HC07'!M33)","v":""},{"$f":"IF('H01 HC07'!N33=\"\",\"\",'H01 HC07'!N33)","v":""},{"$f":"IF('H01 HC07'!O33=\"\",\"\",'H01 HC07'!O33)","v":""},{"$f":"IF('H01 HC07'!P33=\"\",\"\",'H01 HC07'!P33)","v":""},{"$f":"IF('H01 HC07'!Q33=\"\",\"\",'H01 HC07'!Q33)","v":""},{"$f":"IF('H01 HC07'!R33=\"\",\"\",'H01 HC07'!R33)","v":""},{"$f":"IF('H01 HC07'!S33=\"\",\"\",'H01 HC07'!S33)","v":""},{"$f":"IF('H01 HC07'!T33=\"\",\"\",'H01 HC07'!T33)","v":""}]
[null,{"$f":"IF('H01 HC07'!B34=\"\",\"\",'H01 HC07'!B34)","v":""},{"$f":"IF('H01 HC07'!C34=\"\",\"\",'H01 HC07'!C34)","v":""},{"$f":"IF('H01 HC07'!D34=\"\",\"\",'H01 HC07'!D34)","v":""},null,null,null,null,null,{"$f":"IF('H01 HC07'!E34=\"\",\"\",'H01 HC07'!E34)","v":""},{"$f":"IF('H01 HC07'!F34=\"\",\"\",'H01 HC07'!F34)","v":""},{"$f":"IF('H01 HC07'!G34=\"\",\"\",'H01 HC07'!G34)","v":""},{"$f":"IF('H01 HC07'!H34=\"\",\"\",'H01 HC07'!H34)","v":""},{"$f":"IF('H01 HC07'!I34=\"\",\"\",'H01 HC07'!I34)","v":""},{"$f":"IF('H01 HC07'!J34=\"\",\"\",'H01 HC07'!J34)","v":""},{"$f":"IF(D642=\"\",\"\",VLOOKUP(D642,#REF!,3,0))","v":""},{"$f":"IF('H01 HC07'!K34=\"\",\"\",'H01 HC07'!K34)","v":""},{"$f":"IF('H01 HC07'!L34=\"\",\"\",'H01 HC07'!L34)","v":""},{"$f":"IF('H01 HC07'!M34=\"\",\"\",'H01 HC07'!M34)","v":""},{"$f":"IF('H01 HC07'!N34=\"\",\"\",'H01 HC07'!N34)","v":""},{"$f":"IF('H01 HC07'!O34=\"\",\"\",'H01 HC07'!O34)","v":""},{"$f":"IF('H01 HC07'!P34=\"\",\"\",'H01 HC07'!P34)","v":""},{"$f":"IF('H01 HC07'!Q34=\"\",\"\",'H01 HC07'!Q34)","v":""},{"$f":"IF('H01 HC07'!R34=\"\",\"\",'H01 HC07'!R34)","v":""},{"$f":"IF('H01 HC07'!S34=\"\",\"\",'H01 HC07'!S34)","v":""},{"$f":"IF('H01 HC07'!T34=\"\",\"\",'H01 HC07'!T34)","v":""}]
[null,{"$f":"IF('H01 HC07'!B35=\"\",\"\",'H01 HC07'!B35)","v":""},{"$f":"IF('H01 HC07'!C35=\"\",\"\",'H01 HC07'!C35)","v":""},{"$f":"IF('H01 HC07'!D35=\"\",\"\",'H01 HC07'!D35)","v":""},null,null,null,null,null,{"$f":"IF('H01 HC07'!E35=\"\",\"\",'H01 HC07'!E35)","v":""},{"$f":"IF('H01 HC07'!F35=\"\",\"\",'H01 HC07'!F35)","v":""},{"$f":"IF('H01 HC07'!G35=\"\",\"\",'H01 HC07'!G35)","v":""},{"$f":"IF('H01 HC07'!H35=\"\",\"\",'H01 HC07'!H35)","v":""},{"$f":"IF('H01 HC07'!I35=\"\",\"\",'H01 HC07'!I35)","v":""},{"$f":"IF('H01 HC07'!J35=\"\",\"\",'H01 HC07'!J35)","v":""},{"$f":"IF(D643=\"\",\"\",VLOOKUP(D643,#REF!,3,0))","v":""},{"$f":"IF('H01 HC07'!K35=\"\",\"\",'H01 HC07'!K35)","v":""},{"$f":"IF('H01 HC07'!L35=\"\",\"\",'H01 HC07'!L35)","v":""},{"$f":"IF('H01 HC07'!M35=\"\",\"\",'H01 HC07'!M35)","v":""},{"$f":"IF('H01 HC07'!N35=\"\",\"\",'H01 HC07'!N35)","v":""},{"$f":"IF('H01 HC07'!O35=\"\",\"\",'H01 HC07'!O35)","v":""},{"$f":"IF('H01 HC07'!P35=\"\",\"\",'H01 HC07'!P35)","v":""},{"$f":"IF('H01 HC07'!Q35=\"\",\"\",'H01 HC07'!Q35)","v":""},{"$f":"IF('H01 HC07'!R35=\"\",\"\",'H01 HC07'!R35)","v":""},{"$f":"IF('H01 HC07'!S35=\"\",\"\",'H01 HC07'!S35)","v":""},{"$f":"IF('H01 HC07'!T35=\"\",\"\",'H01 HC07'!T35)","v":""}]
[null,{"$f":"IF('H01 HC07'!B36=\"\",\"\",'H01 HC07'!B36)","v":""},{"$f":"IF('H01 HC07'!C36=\"\",\"\",'H01 HC07'!C36)","v":""},{"$f":"IF('H01 HC07'!D36=\"\",\"\",'H01 HC07'!D36)","v":""},null,null,null,null,null,{"$f":"IF('H01 HC07'!E36=\"\",\"\",'H01 HC07'!E36)","v":""},{"$f":"IF('H01 HC07'!F36=\"\",\"\",'H01 HC07'!F36)","v":""},{"$f":"IF('H01 HC07'!G36=\"\",\"\",'H01 HC07'!G36)","v":""},{"$f":"IF('H01 HC07'!H36=\"\",\"\",'H01 HC07'!H36)","v":""},{"$f":"IF('H01 HC07'!I36=\"\",\"\",'H01 HC07'!I36)","v":""},{"$f":"IF('H01 HC07'!J36=\"\",\"\",'H01 HC07'!J36)","v":""},{"$f":"IF(D644=\"\",\"\",VLOOKUP(D644,#REF!,3,0))","v":""},{"$f":"IF('H01 HC07'!K36=\"\",\"\",'H01 HC07'!K36)","v":""},{"$f":"IF('H01 HC07'!L36=\"\",\"\",'H01 HC07'!L36)","v":""},{"$f":"IF('H01 HC07'!M36=\"\",\"\",'H01 HC07'!M36)","v":""},{"$f":"IF('H01 HC07'!N36=\"\",\"\",'H01 HC07'!N36)","v":""},{"$f":"IF('H01 HC07'!O36=\"\",\"\",'H01 HC07'!O36)","v":""},{"$f":"IF('H01 HC07'!P36=\"\",\"\",'H01 HC07'!P36)","v":""},{"$f":"IF('H01 HC07'!Q36=\"\",\"\",'H01 HC07'!Q36)","v":""},{"$f":"IF('H01 HC07'!R36=\"\",\"\",'H01 HC07'!R36)","v":""},{"$f":"IF('H01 HC07'!S36=\"\",\"\",'H01 HC07'!S36)","v":""},{"$f":"IF('H01 HC07'!T36=\"\",\"\",'H01 HC07'!T36)","v":""}]
[null,{"$f":"IF('H01 HC07'!B37=\"\",\"\",'H01 HC07'!B37)","v":""},{"$f":"IF('H01 HC07'!C37=\"\",\"\",'H01 HC07'!C37)","v":""},{"$f":"IF('H01 HC07'!D37=\"\",\"\",'H01 HC07'!D37)","v":""},null,null,null,null,null,{"$f":"IF('H01 HC07'!E37=\"\",\"\",'H01 HC07'!E37)","v":""},{"$f":"IF('H01 HC07'!F37=\"\",\"\",'H01 HC07'!F37)","v":""},{"$f":"IF('H01 HC07'!G37=\"\",\"\",'H01 HC07'!G37)","v":""},{"$f":"IF('H01 HC07'!H37=\"\",\"\",'H01 HC07'!H37)","v":""},{"$f":"IF('H01 HC07'!I37=\"\",\"\",'H01 HC07'!I37)","v":""},{"$f":"IF('H01 HC07'!J37=\"\",\"\",'H01 HC07'!J37)","v":""},{"$f":"IF(D645=\"\",\"\",VLOOKUP(D645,#REF!,3,0))","v":""},{"$f":"IF('H01 HC07'!K37=\"\",\"\",'H01 HC07'!K37)","v":""},{"$f":"IF('H01 HC07'!L37=\"\",\"\",'H01 HC07'!L37)","v":""},{"$f":"IF('H01 HC07'!M37=\"\",\"\",'H01 HC07'!M37)","v":""},{"$f":"IF('H01 HC07'!N37=\"\",\"\",'H01 HC07'!N37)","v":""},{"$f":"IF('H01 HC07'!O37=\"\",\"\",'H01 HC07'!O37)","v":""},{"$f":"IF('H01 HC07'!P37=\"\",\"\",'H01 HC07'!P37)","v":""},{"$f":"IF('H01 HC07'!Q37=\"\",\"\",'H01 HC07'!Q37)","v":""},{"$f":"IF('H01 HC07'!R37=\"\",\"\",'H01 HC07'!R37)","v":""},{"$f":"IF('H01 HC07'!S37=\"\",\"\",'H01 HC07'!S37)","v":""},{"$f":"IF('H01 HC07'!T37=\"\",\"\",'H01 HC07'!T37)","v":""}]
[null,{"$f":"IF('H01 HC07'!B38=\"\",\"\",'H01 HC07'!B38)","v":""},{"$f":"IF('H01 HC07'!C38=\"\",\"\",'H01 HC07'!C38)","v":""},{"$f":"IF('H01 HC07'!D38=\"\",\"\",'H01 HC07'!D38)","v":""},null,null,null,null,null,{"$f":"IF('H01 HC07'!E38=\"\",\"\",'H01 HC07'!E38)","v":""},{"$f":"IF('H01 HC07'!F38=\"\",\"\",'H01 HC07'!F38)","v":""},{"$f":"IF('H01 HC07'!G38=\"\",\"\",'H01 HC07'!G38)","v":""},{"$f":"IF('H01 HC07'!H38=\"\",\"\",'H01 HC07'!H38)","v":""},{"$f":"IF('H01 HC07'!I38=\"\",\"\",'H01 HC07'!I38)","v":""},{"$f":"IF('H01 HC07'!J38=\"\",\"\",'H01 HC07'!J38)","v":""},{"$f":"IF(D646=\"\",\"\",VLOOKUP(D646,#REF!,3,0))","v":""},{"$f":"IF('H01 HC07'!K38=\"\",\"\",'H01 HC07'!K38)","v":""},{"$f":"IF('H01 HC07'!L38=\"\",\"\",'H01 HC07'!L38)","v":""},{"$f":"IF('H01 HC07'!M38=\"\",\"\",'H01 HC07'!M38)","v":""},{"$f":"IF('H01 HC07'!N38=\"\",\"\",'H01 HC07'!N38)","v":""},{"$f":"IF('H01 HC07'!O38=\"\",\"\",'H01 HC07'!O38)","v":""},{"$f":"IF('H01 HC07'!P38=\"\",\"\",'H01 HC07'!P38)","v":""},{"$f":"IF('H01 HC07'!Q38=\"\",\"\",'H01 HC07'!Q38)","v":""},{"$f":"IF('H01 HC07'!R38=\"\",\"\",'H01 HC07'!R38)","v":""},{"$f":"IF('H01 HC07'!S38=\"\",\"\",'H01 HC07'!S38)","v":""},{"$f":"IF('H01 HC07'!T38=\"\",\"\",'H01 HC07'!T38)","v":""}]
[null,{"$f":"IF('H01 HC07'!B39=\"\",\"\",'H01 HC07'!B39)","v":""},{"$f":"IF('H01 HC07'!C39=\"\",\"\",'H01 HC07'!C39)","v":""},{"$f":"IF('H01 HC07'!D39=\"\",\"\",'H01 HC07'!D39)","v":""},null,null,null,null,null,{"$f":"IF('H01 HC07'!E39=\"\",\"\",'H01 HC07'!E39)","v":""},{"$f":"IF('H01 HC07'!F39=\"\",\"\",'H01 HC07'!F39)","v":""},{"$f":"IF('H01 HC07'!G39=\"\",\"\",'H01 HC07'!G39)","v":""},{"$f":"IF('H01 HC07'!H39=\"\",\"\",'H01 HC07'!H39)","v":""},{"$f":"IF('H01 HC07'!I39=\"\",\"\",'H01 HC07'!I39)","v":""},{"$f":"IF('H01 HC07'!J39=\"\",\"\",'H01 HC07'!J39)","v":""},{"$f":"IF(D647=\"\",\"\",VLOOKUP(D647,#REF!,3,0))","v":""},{"$f":"IF('H01 HC07'!K39=\"\",\"\",'H01 HC07'!K39)","v":""},{"$f":"IF('H01 HC07'!L39=\"\",\"\",'H01 HC07'!L39)","v":""},{"$f":"IF('H01 HC07'!M39=\"\",\"\",'H01 HC07'!M39)","v":""},{"$f":"IF('H01 HC07'!N39=\"\",\"\",'H01 HC07'!N39)","v":""},{"$f":"IF('H01 HC07'!O39=\"\",\"\",'H01 HC07'!O39)","v":""},{"$f":"IF('H01 HC07'!P39=\"\",\"\",'H01 HC07'!P39)","v":""},{"$f":"IF('H01 HC07'!Q39=\"\",\"\",'H01 HC07'!Q39)","v":""},{"$f":"IF('H01 HC07'!R39=\"\",\"\",'H01 HC07'!R39)","v":""},{"$f":"IF('H01 HC07'!S39=\"\",\"\",'H01 HC07'!S39)","v":""},{"$f":"IF('H01 HC07'!T39=\"\",\"\",'H01 HC07'!T39)","v":""}]
[null,{"$f":"IF('H01 HC07'!B40=\"\",\"\",'H01 HC07'!B40)","v":""},{"$f":"IF('H01 HC07'!C40=\"\",\"\",'H01 HC07'!C40)","v":""},{"$f":"IF('H01 HC07'!D40=\"\",\"\",'H01 HC07'!D40)","v":""},null,null,null,null,null,{"$f":"IF('H01 HC07'!E40=\"\",\"\",'H01 HC07'!E40)","v":""},{"$f":"IF('H01 HC07'!F40=\"\",\"\",'H01 HC07'!F40)","v":""},{"$f":"IF('H01 HC07'!G40=\"\",\"\",'H01 HC07'!G40)","v":""},{"$f":"IF('H01 HC07'!H40=\"\",\"\",'H01 HC07'!H40)","v":""},{"$f":"IF('H01 HC07'!I40=\"\",\"\",'H01 HC07'!I40)","v":""},{"$f":"IF('H01 HC07'!J40=\"\",\"\",'H01 HC07'!J40)","v":""},{"$f":"IF(D648=\"\",\"\",VLOOKUP(D648,#REF!,3,0))","v":""},{"$f":"IF('H01 HC07'!K40=\"\",\"\",'H01 HC07'!K40)","v":""},{"$f":"IF('H01 HC07'!L40=\"\",\"\",'H01 HC07'!L40)","v":""},{"$f":"IF('H01 HC07'!M40=\"\",\"\",'H01 HC07'!M40)","v":""},{"$f":"IF('H01 HC07'!N40=\"\",\"\",'H01 HC07'!N40)","v":""},{"$f":"IF('H01 HC07'!O40=\"\",\"\",'H01 HC07'!O40)","v":""},{"$f":"IF('H01 HC07'!P40=\"\",\"\",'H01 HC07'!P40)","v":""},{"$f":"IF('H01 HC07'!Q40=\"\",\"\",'H01 HC07'!Q40)","v":""},{"$f":"IF('H01 HC07'!R40=\"\",\"\",'H01 HC07'!R40)","v":""},{"$f":"IF('H01 HC07'!S40=\"\",\"\",'H01 HC07'!S40)","v":""},{"$f":"IF('H01 HC07'!T40=\"\",\"\",'H01 HC07'!T40)","v":""}]
[null,{"$f":"IF('H01 HC07'!B41=\"\",\"\",'H01 HC07'!B41)","v":""},{"$f":"IF('H01 HC07'!C41=\"\",\"\",'H01 HC07'!C41)","v":""},{"$f":"IF('H01 HC07'!D41=\"\",\"\",'H01 HC07'!D41)","v":""},null,null,null,null,null,{"$f":"IF('H01 HC07'!E41=\"\",\"\",'H01 HC07'!E41)","v":""},{"$f":"IF('H01 HC07'!F41=\"\",\"\",'H01 HC07'!F41)","v":""},{"$f":"IF('H01 HC07'!G41=\"\",\"\",'H01 HC07'!G41)","v":""},{"$f":"IF('H01 HC07'!H41=\"\",\"\",'H01 HC07'!H41)","v":""},{"$f":"IF('H01 HC07'!I41=\"\",\"\",'H01 HC07'!I41)","v":""},{"$f":"IF('H01 HC07'!J41=\"\",\"\",'H01 HC07'!J41)","v":""},{"$f":"IF(D649=\"\",\"\",VLOOKUP(D649,#REF!,3,0))","v":""},{"$f":"IF('H01 HC07'!K41=\"\",\"\",'H01 HC07'!K41)","v":""},{"$f":"IF('H01 HC07'!L41=\"\",\"\",'H01 HC07'!L41)","v":""},{"$f":"IF('H01 HC07'!M41=\"\",\"\",'H01 HC07'!M41)","v":""},{"$f":"IF('H01 HC07'!N41=\"\",\"\",'H01 HC07'!N41)","v":""},{"$f":"IF('H01 HC07'!O41=\"\",\"\",'H01 HC07'!O41)","v":""},{"$f":"IF('H01 HC07'!P41=\"\",\"\",'H01 HC07'!P41)","v":""},{"$f":"IF('H01 HC07'!Q41=\"\",\"\",'H01 HC07'!Q41)","v":""},{"$f":"IF('H01 HC07'!R41=\"\",\"\",'H01 HC07'!R41)","v":""},{"$f":"IF('H01 HC07'!S41=\"\",\"\",'H01 HC07'!S41)","v":""},{"$f":"IF('H01 HC07'!T41=\"\",\"\",'H01 HC07'!T41)","v":""}]
[null,{"$f":"IF('H01 HC07'!B42=\"\",\"\",'H01 HC07'!B42)","v":""},{"$f":"IF('H01 HC07'!C42=\"\",\"\",'H01 HC07'!C42)","v":""},{"$f":"IF('H01 HC07'!D42=\"\",\"\",'H01 HC07'!D42)","v":""},null,null,null,null,null,{"$f":"IF('H01 HC07'!E42=\"\",\"\",'H01 HC07'!E42)","v":""},{"$f":"IF('H01 HC07'!F42=\"\",\"\",'H01 HC07'!F42)","v":""},{"$f":"IF('H01 HC07'!G42=\"\",\"\",'H01 HC07'!G42)","v":""},{"$f":"IF('H01 HC07'!H42=\"\",\"\",'H01 HC07'!H42)","v":""},{"$f":"IF('H01 HC07'!I42=\"\",\"\",'H01 HC07'!I42)","v":""},{"$f":"IF('H01 HC07'!J42=\"\",\"\",'H01 HC07'!J42)","v":""},{"$f":"IF(D650=\"\",\"\",VLOOKUP(D650,#REF!,3,0))","v":""},{"$f":"IF('H01 HC07'!K42=\"\",\"\",'H01 HC07'!K42)","v":""},{"$f":"IF('H01 HC07'!L42=\"\",\"\",'H01 HC07'!L42)","v":""},{"$f":"IF('H01 HC07'!M42=\"\",\"\",'H01 HC07'!M42)","v":""},{"$f":"IF('H01 HC07'!N42=\"\",\"\",'H01 HC07'!N42)","v":""},{"$f":"IF('H01 HC07'!O42=\"\",\"\",'H01 HC07'!O42)","v":""},{"$f":"IF('H01 HC07'!P42=\"\",\"\",'H01 HC07'!P42)","v":""},{"$f":"IF('H01 HC07'!Q42=\"\",\"\",'H01 HC07'!Q42)","v":""},{"$f":"IF('H01 HC07'!R42=\"\",\"\",'H01 HC07'!R42)","v":""},{"$f":"IF('H01 HC07'!S42=\"\",\"\",'H01 HC07'!S42)","v":""},{"$f":"IF('H01 HC07'!T42=\"\",\"\",'H01 HC07'!T42)","v":""}]
[null,{"$f":"IF('H01 HC07'!B43=\"\",\"\",'H01 HC07'!B43)","v":""},{"$f":"IF('H01 HC07'!C43=\"\",\"\",'H01 HC07'!C43)","v":""},{"$f":"IF('H01 HC07'!D43=\"\",\"\",'H01 HC07'!D43)","v":""},null,null,null,null,null,{"$f":"IF('H01 HC07'!E43=\"\",\"\",'H01 HC07'!E43)","v":""},{"$f":"IF('H01 HC07'!F43=\"\",\"\",'H01 HC07'!F43)","v":""},{"$f":"IF('H01 HC07'!G43=\"\",\"\",'H01 HC07'!G43)","v":""},{"$f":"IF('H01 HC07'!H43=\"\",\"\",'H01 HC07'!H43)","v":""},{"$f":"IF('H01 HC07'!I43=\"\",\"\",'H01 HC07'!I43)","v":""},{"$f":"IF('H01 HC07'!J43=\"\",\"\",'H01 HC07'!J43)","v":""},{"$f":"IF(D651=\"\",\"\",VLOOKUP(D651,#REF!,3,0))","v":""},{"$f":"IF('H01 HC07'!K43=\"\",\"\",'H01 HC07'!K43)","v":""},{"$f":"IF('H01 HC07'!L43=\"\",\"\",'H01 HC07'!L43)","v":""},{"$f":"IF('H01 HC07'!M43=\"\",\"\",'H01 HC07'!M43)","v":""},{"$f":"IF('H01 HC07'!N43=\"\",\"\",'H01 HC07'!N43)","v":""},{"$f":"IF('H01 HC07'!O43=\"\",\"\",'H01 HC07'!O43)","v":""},{"$f":"IF('H01 HC07'!P43=\"\",\"\",'H01 HC07'!P43)","v":""},{"$f":"IF('H01 HC07'!Q43=\"\",\"\",'H01 HC07'!Q43)","v":""},{"$f":"IF('H01 HC07'!R43=\"\",\"\",'H01 HC07'!R43)","v":""},{"$f":"IF('H01 HC07'!S43=\"\",\"\",'H01 HC07'!S43)","v":""},{"$f":"IF('H01 HC07'!T43=\"\",\"\",'H01 HC07'!T43)","v":""}]
[null,{"$f":"IF('H01 HC07'!B44=\"\",\"\",'H01 HC07'!B44)","v":""},{"$f":"IF('H01 HC07'!C44=\"\",\"\",'H01 HC07'!C44)","v":""},{"$f":"IF('H01 HC07'!D44=\"\",\"\",'H01 HC07'!D44)","v":""},null,null,null,null,null,{"$f":"IF('H01 HC07'!E44=\"\",\"\",'H01 HC07'!E44)","v":""},{"$f":"IF('H01 HC07'!F44=\"\",\"\",'H01 HC07'!F44)","v":""},{"$f":"IF('H01 HC07'!G44=\"\",\"\",'H01 HC07'!G44)","v":""},{"$f":"IF('H01 HC07'!H44=\"\",\"\",'H01 HC07'!H44)","v":""},{"$f":"IF('H01 HC07'!I44=\"\",\"\",'H01 HC07'!I44)","v":""},{"$f":"IF('H01 HC07'!J44=\"\",\"\",'H01 HC07'!J44)","v":""},{"$f":"IF(D652=\"\",\"\",VLOOKUP(D652,#REF!,3,0))","v":""},{"$f":"IF('H01 HC07'!K44=\"\",\"\",'H01 HC07'!K44)","v":""},{"$f":"IF('H01 HC07'!L44=\"\",\"\",'H01 HC07'!L44)","v":""},{"$f":"IF('H01 HC07'!M44=\"\",\"\",'H01 HC07'!M44)","v":""},{"$f":"IF('H01 HC07'!N44=\"\",\"\",'H01 HC07'!N44)","v":""},{"$f":"IF('H01 HC07'!O44=\"\",\"\",'H01 HC07'!O44)","v":""},{"$f":"IF('H01 HC07'!P44=\"\",\"\",'H01 HC07'!P44)","v":""},{"$f":"IF('H01 HC07'!Q44=\"\",\"\",'H01 HC07'!Q44)","v":""},{"$f":"IF('H01 HC07'!R44=\"\",\"\",'H01 HC07'!R44)","v":""},{"$f":"IF('H01 HC07'!S44=\"\",\"\",'H01 HC07'!S44)","v":""},{"$f":"IF('H01 HC07'!T44=\"\",\"\",'H01 HC07'!T44)","v":""}]
[null,{"$f":"IF('H01 HC07'!B45=\"\",\"\",'H01 HC07'!B45)","v":""},{"$f":"IF('H01 HC07'!C45=\"\",\"\",'H01 HC07'!C45)","v":""},{"$f":"IF('H01 HC07'!D45=\"\",\"\",'H01 HC07'!D45)","v":""},null,null,null,null,null,{"$f":"IF('H01 HC07'!E45=\"\",\"\",'H01 HC07'!E45)","v":""},{"$f":"IF('H01 HC07'!F45=\"\",\"\",'H01 HC07'!F45)","v":""},{"$f":"IF('H01 HC07'!G45=\"\",\"\",'H01 HC07'!G45)","v":""},{"$f":"IF('H01 HC07'!H45=\"\",\"\",'H01 HC07'!H45)","v":""},{"$f":"IF('H01 HC07'!I45=\"\",\"\",'H01 HC07'!I45)","v":""},{"$f":"IF('H01 HC07'!J45=\"\",\"\",'H01 HC07'!J45)","v":""},{"$f":"IF(D653=\"\",\"\",VLOOKUP(D653,#REF!,3,0))","v":""},{"$f":"IF('H01 HC07'!K45=\"\",\"\",'H01 HC07'!K45)","v":""},{"$f":"IF('H01 HC07'!L45=\"\",\"\",'H01 HC07'!L45)","v":""},{"$f":"IF('H01 HC07'!M45=\"\",\"\",'H01 HC07'!M45)","v":""},{"$f":"IF('H01 HC07'!N45=\"\",\"\",'H01 HC07'!N45)","v":""},{"$f":"IF('H01 HC07'!O45=\"\",\"\",'H01 HC07'!O45)","v":""},{"$f":"IF('H01 HC07'!P45=\"\",\"\",'H01 HC07'!P45)","v":""},{"$f":"IF('H01 HC07'!Q45=\"\",\"\",'H01 HC07'!Q45)","v":""},{"$f":"IF('H01 HC07'!R45=\"\",\"\",'H01 HC07'!R45)","v":""},{"$f":"IF('H01 HC07'!S45=\"\",\"\",'H01 HC07'!S45)","v":""},{"$f":"IF('H01 HC07'!T45=\"\",\"\",'H01 HC07'!T45)","v":""}]
[null,{"$f":"IF('H01 HC07'!B46=\"\",\"\",'H01 HC07'!B46)","v":""},{"$f":"IF('H01 HC07'!C46=\"\",\"\",'H01 HC07'!C46)","v":""},{"$f":"IF('H01 HC07'!D46=\"\",\"\",'H01 HC07'!D46)","v":""},null,null,null,null,null,{"$f":"IF('H01 HC07'!E46=\"\",\"\",'H01 HC07'!E46)","v":""},{"$f":"IF('H01 HC07'!F46=\"\",\"\",'H01 HC07'!F46)","v":""},{"$f":"IF('H01 HC07'!G46=\"\",\"\",'H01 HC07'!G46)","v":""},{"$f":"IF('H01 HC07'!H46=\"\",\"\",'H01 HC07'!H46)","v":""},{"$f":"IF('H01 HC07'!I46=\"\",\"\",'H01 HC07'!I46)","v":""},{"$f":"IF('H01 HC07'!J46=\"\",\"\",'H01 HC07'!J46)","v":""},{"$f":"IF(D654=\"\",\"\",VLOOKUP(D654,#REF!,3,0))","v":""},{"$f":"IF('H01 HC07'!K46=\"\",\"\",'H01 HC07'!K46)","v":""},{"$f":"IF('H01 HC07'!L46=\"\",\"\",'H01 HC07'!L46)","v":""},{"$f":"IF('H01 HC07'!M46=\"\",\"\",'H01 HC07'!M46)","v":""},{"$f":"IF('H01 HC07'!N46=\"\",\"\",'H01 HC07'!N46)","v":""},{"$f":"IF('H01 HC07'!O46=\"\",\"\",'H01 HC07'!O46)","v":""},{"$f":"IF('H01 HC07'!P46=\"\",\"\",'H01 HC07'!P46)","v":""},{"$f":"IF('H01 HC07'!Q46=\"\",\"\",'H01 HC07'!Q46)","v":""},{"$f":"IF('H01 HC07'!R46=\"\",\"\",'H01 HC07'!R46)","v":""},{"$f":"IF('H01 HC07'!S46=\"\",\"\",'H01 HC07'!S46)","v":""},{"$f":"IF('H01 HC07'!T46=\"\",\"\",'H01 HC07'!T46)","v":""}]
[null,{"$f":"IF('H01 HC07'!B47=\"\",\"\",'H01 HC07'!B47)","v":""},{"$f":"IF('H01 HC07'!C47=\"\",\"\",'H01 HC07'!C47)","v":""},{"$f":"IF('H01 HC07'!D47=\"\",\"\",'H01 HC07'!D47)","v":""},null,null,null,null,null,{"$f":"IF('H01 HC07'!E47=\"\",\"\",'H01 HC07'!E47)","v":""},{"$f":"IF('H01 HC07'!F47=\"\",\"\",'H01 HC07'!F47)","v":""},{"$f":"IF('H01 HC07'!G47=\"\",\"\",'H01 HC07'!G47)","v":""},{"$f":"IF('H01 HC07'!H47=\"\",\"\",'H01 HC07'!H47)","v":""},{"$f":"IF('H01 HC07'!I47=\"\",\"\",'H01 HC07'!I47)","v":""},{"$f":"IF('H01 HC07'!J47=\"\",\"\",'H01 HC07'!J47)","v":""},{"$f":"IF(D655=\"\",\"\",VLOOKUP(D655,#REF!,3,0))","v":""},{"$f":"IF('H01 HC07'!K47=\"\",\"\",'H01 HC07'!K47)","v":""},{"$f":"IF('H01 HC07'!L47=\"\",\"\",'H01 HC07'!L47)","v":""},{"$f":"IF('H01 HC07'!M47=\"\",\"\",'H01 HC07'!M47)","v":""},{"$f":"IF('H01 HC07'!N47=\"\",\"\",'H01 HC07'!N47)","v":""},{"$f":"IF('H01 HC07'!O47=\"\",\"\",'H01 HC07'!O47)","v":""},{"$f":"IF('H01 HC07'!P47=\"\",\"\",'H01 HC07'!P47)","v":""},{"$f":"IF('H01 HC07'!Q47=\"\",\"\",'H01 HC07'!Q47)","v":""},{"$f":"IF('H01 HC07'!R47=\"\",\"\",'H01 HC07'!R47)","v":""},{"$f":"IF('H01 HC07'!S47=\"\",\"\",'H01 HC07'!S47)","v":""},{"$f":"IF('H01 HC07'!T47=\"\",\"\",'H01 HC07'!T47)","v":""}]
[null,{"$f":"IF('H01 HC07'!B48=\"\",\"\",'H01 HC07'!B48)","v":""},{"$f":"IF('H01 HC07'!C48=\"\",\"\",'H01 HC07'!C48)","v":""},{"$f":"IF('H01 HC07'!D48=\"\",\"\",'H01 HC07'!D48)","v":""},null,null,null,null,null,{"$f":"IF('H01 HC07'!E48=\"\",\"\",'H01 HC07'!E48)","v":""},{"$f":"IF('H01 HC07'!F48=\"\",\"\",'H01 HC07'!F48)","v":""},{"$f":"IF('H01 HC07'!G48=\"\",\"\",'H01 HC07'!G48)","v":""},{"$f":"IF('H01 HC07'!H48=\"\",\"\",'H01 HC07'!H48)","v":""},{"$f":"IF('H01 HC07'!I48=\"\",\"\",'H01 HC07'!I48)","v":""},{"$f":"IF('H01 HC07'!J48=\"\",\"\",'H01 HC07'!J48)","v":""},{"$f":"IF(D656=\"\",\"\",VLOOKUP(D656,#REF!,3,0))","v":""},{"$f":"IF('H01 HC07'!K48=\"\",\"\",'H01 HC07'!K48)","v":""},{"$f":"IF('H01 HC07'!L48=\"\",\"\",'H01 HC07'!L48)","v":""},{"$f":"IF('H01 HC07'!M48=\"\",\"\",'H01 HC07'!M48)","v":""},{"$f":"IF('H01 HC07'!N48=\"\",\"\",'H01 HC07'!N48)","v":""},{"$f":"IF('H01 HC07'!O48=\"\",\"\",'H01 HC07'!O48)","v":""},{"$f":"IF('H01 HC07'!P48=\"\",\"\",'H01 HC07'!P48)","v":""},{"$f":"IF('H01 HC07'!Q48=\"\",\"\",'H01 HC07'!Q48)","v":""},{"$f":"IF('H01 HC07'!R48=\"\",\"\",'H01 HC07'!R48)","v":""},{"$f":"IF('H01 HC07'!S48=\"\",\"\",'H01 HC07'!S48)","v":""},{"$f":"IF('H01 HC07'!T48=\"\",\"\",'H01 HC07'!T48)","v":""}]
[null,{"$f":"IF('H01 HC07'!B49=\"\",\"\",'H01 HC07'!B49)","v":""},{"$f":"IF('H01 HC07'!C49=\"\",\"\",'H01 HC07'!C49)","v":""},{"$f":"IF('H01 HC07'!D49=\"\",\"\",'H01 HC07'!D49)","v":""},null,null,null,null,null,{"$f":"IF('H01 HC07'!E49=\"\",\"\",'H01 HC07'!E49)","v":""},{"$f":"IF('H01 HC07'!F49=\"\",\"\",'H01 HC07'!F49)","v":""},{"$f":"IF('H01 HC07'!G49=\"\",\"\",'H01 HC07'!G49)","v":""},{"$f":"IF('H01 HC07'!H49=\"\",\"\",'H01 HC07'!H49)","v":""},{"$f":"IF('H01 HC07'!I49=\"\",\"\",'H01 HC07'!I49)","v":""},{"$f":"IF('H01 HC07'!J49=\"\",\"\",'H01 HC07'!J49)","v":""},{"$f":"IF(D657=\"\",\"\",VLOOKUP(D657,#REF!,3,0))","v":""},{"$f":"IF('H01 HC07'!K49=\"\",\"\",'H01 HC07'!K49)","v":""},{"$f":"IF('H01 HC07'!L49=\"\",\"\",'H01 HC07'!L49)","v":""},{"$f":"IF('H01 HC07'!M49=\"\",\"\",'H01 HC07'!M49)","v":""},{"$f":"IF('H01 HC07'!N49=\"\",\"\",'H01 HC07'!N49)","v":""},{"$f":"IF('H01 HC07'!O49=\"\",\"\",'H01 HC07'!O49)","v":""},{"$f":"IF('H01 HC07'!P49=\"\",\"\",'H01 HC07'!P49)","v":""},{"$f":"IF('H01 HC07'!Q49=\"\",\"\",'H01 HC07'!Q49)","v":""},{"$f":"IF('H01 HC07'!R49=\"\",\"\",'H01 HC07'!R49)","v":""},{"$f":"IF('H01 HC07'!S49=\"\",\"\",'H01 HC07'!S49)","v":""},{"$f":"IF('H01 HC07'!T49=\"\",\"\",'H01 HC07'!T49)","v":""}]
[null,{"$f":"IF('H01 HC07'!B50=\"\",\"\",'H01 HC07'!B50)","v":""},{"$f":"IF('H01 HC07'!C50=\"\",\"\",'H01 HC07'!C50)","v":""},{"$f":"IF('H01 HC07'!D50=\"\",\"\",'H01 HC07'!D50)","v":""},null,null,null,null,null,{"$f":"IF('H01 HC07'!E50=\"\",\"\",'H01 HC07'!E50)","v":""},{"$f":"IF('H01 HC07'!F50=\"\",\"\",'H01 HC07'!F50)","v":""},{"$f":"IF('H01 HC07'!G50=\"\",\"\",'H01 HC07'!G50)","v":""},{"$f":"IF('H01 HC07'!H50=\"\",\"\",'H01 HC07'!H50)","v":""},{"$f":"IF('H01 HC07'!I50=\"\",\"\",'H01 HC07'!I50)","v":""},{"$f":"IF('H01 HC07'!J50=\"\",\"\",'H01 HC07'!J50)","v":""},{"$f":"IF(D658=\"\",\"\",VLOOKUP(D658,#REF!,3,0))","v":""},{"$f":"IF('H01 HC07'!K50=\"\",\"\",'H01 HC07'!K50)","v":""},{"$f":"IF('H01 HC07'!L50=\"\",\"\",'H01 HC07'!L50)","v":""},{"$f":"IF('H01 HC07'!M50=\"\",\"\",'H01 HC07'!M50)","v":""},{"$f":"IF('H01 HC07'!N50=\"\",\"\",'H01 HC07'!N50)","v":""},{"$f":"IF('H01 HC07'!O50=\"\",\"\",'H01 HC07'!O50)","v":""},{"$f":"IF('H01 HC07'!P50=\"\",\"\",'H01 HC07'!P50)","v":""},{"$f":"IF('H01 HC07'!Q50=\"\",\"\",'H01 HC07'!Q50)","v":""},{"$f":"IF('H01 HC07'!R50=\"\",\"\",'H01 HC07'!R50)","v":""},{"$f":"IF('H01 HC07'!S50=\"\",\"\",'H01 HC07'!S50)","v":""},{"$f":"IF('H01 HC07'!T50=\"\",\"\",'H01 HC07'!T50)","v":""}]
[null,{"$f":"IF('H01 HC07'!B51=\"\",\"\",'H01 HC07'!B51)","v":""},{"$f":"IF('H01 HC07'!C51=\"\",\"\",'H01 HC07'!C51)","v":""},{"$f":"IF('H01 HC07'!D51=\"\",\"\",'H01 HC07'!D51)","v":""},null,null,null,null,null,{"$f":"IF('H01 HC07'!E51=\"\",\"\",'H01 HC07'!E51)","v":""},{"$f":"IF('H01 HC07'!F51=\"\",\"\",'H01 HC07'!F51)","v":""},{"$f":"IF('H01 HC07'!G51=\"\",\"\",'H01 HC07'!G51)","v":""},{"$f":"IF('H01 HC07'!H51=\"\",\"\",'H01 HC07'!H51)","v":""},{"$f":"IF('H01 HC07'!I51=\"\",\"\",'H01 HC07'!I51)","v":""},{"$f":"IF('H01 HC07'!J51=\"\",\"\",'H01 HC07'!J51)","v":""},{"$f":"IF(D659=\"\",\"\",VLOOKUP(D659,#REF!,3,0))","v":""},{"$f":"IF('H01 HC07'!K51=\"\",\"\",'H01 HC07'!K51)","v":""},{"$f":"IF('H01 HC07'!L51=\"\",\"\",'H01 HC07'!L51)","v":""},{"$f":"IF('H01 HC07'!M51=\"\",\"\",'H01 HC07'!M51)","v":""},{"$f":"IF('H01 HC07'!N51=\"\",\"\",'H01 HC07'!N51)","v":""},{"$f":"IF('H01 HC07'!O51=\"\",\"\",'H01 HC07'!O51)","v":""},{"$f":"IF('H01 HC07'!P51=\"\",\"\",'H01 HC07'!P51)","v":""},{"$f":"IF('H01 HC07'!Q51=\"\",\"\",'H01 HC07'!Q51)","v":""},{"$f":"IF('H01 HC07'!R51=\"\",\"\",'H01 HC07'!R51)","v":""},{"$f":"IF('H01 HC07'!S51=\"\",\"\",'H01 HC07'!S51)","v":""},{"$f":"IF('H01 HC07'!T51=\"\",\"\",'H01 HC07'!T51)","v":""}]
[null,{"$f":"IF('H01 HC07'!B52=\"\",\"\",'H01 HC07'!B52)","v":""},{"$f":"IF('H01 HC07'!C52=\"\",\"\",'H01 HC07'!C52)","v":""},{"$f":"IF('H01 HC07'!D52=\"\",\"\",'H01 HC07'!D52)","v":""},null,null,null,null,null,{"$f":"IF('H01 HC07'!E52=\"\",\"\",'H01 HC07'!E52)","v":""},{"$f":"IF('H01 HC07'!F52=\"\",\"\",'H01 HC07'!F52)","v":""},{"$f":"IF('H01 HC07'!G52=\"\",\"\",'H01 HC07'!G52)","v":""},{"$f":"IF('H01 HC07'!H52=\"\",\"\",'H01 HC07'!H52)","v":""},{"$f":"IF('H01 HC07'!I52=\"\",\"\",'H01 HC07'!I52)","v":""},{"$f":"IF('H01 HC07'!J52=\"\",\"\",'H01 HC07'!J52)","v":""},{"$f":"IF(D660=\"\",\"\",VLOOKUP(D660,#REF!,3,0))","v":""},{"$f":"IF('H01 HC07'!K52=\"\",\"\",'H01 HC07'!K52)","v":""},{"$f":"IF('H01 HC07'!L52=\"\",\"\",'H01 HC07'!L52)","v":""},{"$f":"IF('H01 HC07'!M52=\"\",\"\",'H01 HC07'!M52)","v":""},{"$f":"IF('H01 HC07'!N52=\"\",\"\",'H01 HC07'!N52)","v":""},{"$f":"IF('H01 HC07'!O52=\"\",\"\",'H01 HC07'!O52)","v":""},{"$f":"IF('H01 HC07'!P52=\"\",\"\",'H01 HC07'!P52)","v":""},{"$f":"IF('H01 HC07'!Q52=\"\",\"\",'H01 HC07'!Q52)","v":""},{"$f":"IF('H01 HC07'!R52=\"\",\"\",'H01 HC07'!R52)","v":""},{"$f":"IF('H01 HC07'!S52=\"\",\"\",'H01 HC07'!S52)","v":""},{"$f":"IF('H01 HC07'!T52=\"\",\"\",'H01 HC07'!T52)","v":""}]
[null,{"$f":"IF('H01 HC07'!B53=\"\",\"\",'H01 HC07'!B53)","v":""},{"$f":"IF('H01 HC07'!C53=\"\",\"\",'H01 HC07'!C53)","v":""},{"$f":"IF('H01 HC07'!D53=\"\",\"\",'H01 HC07'!D53)","v":""},null,null,null,null,null,{"$f":"IF('H01 HC07'!E53=\"\",\"\",'H01 HC07'!E53)","v":""},{"$f":"IF('H01 HC07'!F53=\"\",\"\",'H01 HC07'!F53)","v":""},{"$f":"IF('H01 HC07'!G53=\"\",\"\",'H01 HC07'!G53)","v":""},{"$f":"IF('H01 HC07'!H53=\"\",\"\",'H01 HC07'!H53)","v":""},{"$f":"IF('H01 HC07'!I53=\"\",\"\",'H01 HC07'!I53)","v":""},{"$f":"IF('H01 HC07'!J53=\"\",\"\",'H01 HC07'!J53)","v":""},{"$f":"IF(D661=\"\",\"\",VLOOKUP(D661,#REF!,3,0))","v":""},{"$f":"IF('H01 HC07'!K53=\"\",\"\",'H01 HC07'!K53)","v":""},{"$f":"IF('H01 HC07'!L53=\"\",\"\",'H01 HC07'!L53)","v":""},{"$f":"IF('H01 HC07'!M53=\"\",\"\",'H01 HC07'!M53)","v":""},{"$f":"IF('H01 HC07'!N53=\"\",\"\",'H01 HC07'!N53)","v":""},{"$f":"IF('H01 HC07'!O53=\"\",\"\",'H01 HC07'!O53)","v":""},{"$f":"IF('H01 HC07'!P53=\"\",\"\",'H01 HC07'!P53)","v":""},{"$f":"IF('H01 HC07'!Q53=\"\",\"\",'H01 HC07'!Q53)","v":""},{"$f":"IF('H01 HC07'!R53=\"\",\"\",'H01 HC07'!R53)","v":""},{"$f":"IF('H01 HC07'!S53=\"\",\"\",'H01 HC07'!S53)","v":""},{"$f":"IF('H01 HC07'!T53=\"\",\"\",'H01 HC07'!T53)","v":""}]
[null,{"$f":"IF('H01 HC07'!B54=\"\",\"\",'H01 HC07'!B54)","v":""},{"$f":"IF('H01 HC07'!C54=\"\",\"\",'H01 HC07'!C54)","v":""},{"$f":"IF('H01 HC07'!D54=\"\",\"\",'H01 HC07'!D54)","v":""},null,null,null,null,null,{"$f":"IF('H01 HC07'!E54=\"\",\"\",'H01 HC07'!E54)","v":""},{"$f":"IF('H01 HC07'!F54=\"\",\"\",'H01 HC07'!F54)","v":""},{"$f":"IF('H01 HC07'!G54=\"\",\"\",'H01 HC07'!G54)","v":""},{"$f":"IF('H01 HC07'!H54=\"\",\"\",'H01 HC07'!H54)","v":""},{"$f":"IF('H01 HC07'!I54=\"\",\"\",'H01 HC07'!I54)","v":""},{"$f":"IF('H01 HC07'!J54=\"\",\"\",'H01 HC07'!J54)","v":""},{"$f":"IF(D662=\"\",\"\",VLOOKUP(D662,#REF!,3,0))","v":""},{"$f":"IF('H01 HC07'!K54=\"\",\"\",'H01 HC07'!K54)","v":""},{"$f":"IF('H01 HC07'!L54=\"\",\"\",'H01 HC07'!L54)","v":""},{"$f":"IF('H01 HC07'!M54=\"\",\"\",'H01 HC07'!M54)","v":""},{"$f":"IF('H01 HC07'!N54=\"\",\"\",'H01 HC07'!N54)","v":""},{"$f":"IF('H01 HC07'!O54=\"\",\"\",'H01 HC07'!O54)","v":""},{"$f":"IF('H01 HC07'!P54=\"\",\"\",'H01 HC07'!P54)","v":""},{"$f":"IF('H01 HC07'!Q54=\"\",\"\",'H01 HC07'!Q54)","v":""},{"$f":"IF('H01 HC07'!R54=\"\",\"\",'H01 HC07'!R54)","v":""},{"$f":"IF('H01 HC07'!S54=\"\",\"\",'H01 HC07'!S54)","v":""},{"$f":"IF('H01 HC07'!T54=\"\",\"\",'H01 HC07'!T54)","v":""}]
[null,{"$f":"IF('H01 HC07'!B55=\"\",\"\",'H01 HC07'!B55)","v":""},{"$f":"IF('H01 HC07'!C55=\"\",\"\",'H01 HC07'!C55)","v":""},{"$f":"IF('H01 HC07'!D55=\"\",\"\",'H01 HC07'!D55)","v":""},null,null,null,null,null,{"$f":"IF('H01 HC07'!E55=\"\",\"\",'H01 HC07'!E55)","v":""},{"$f":"IF('H01 HC07'!F55=\"\",\"\",'H01 HC07'!F55)","v":""},{"$f":"IF('H01 HC07'!G55=\"\",\"\",'H01 HC07'!G55)","v":""},{"$f":"IF('H01 HC07'!H55=\"\",\"\",'H01 HC07'!H55)","v":""},{"$f":"IF('H01 HC07'!I55=\"\",\"\",'H01 HC07'!I55)","v":""},{"$f":"IF('H01 HC07'!J55=\"\",\"\",'H01 HC07'!J55)","v":""},{"$f":"IF(D663=\"\",\"\",VLOOKUP(D663,#REF!,3,0))","v":""},{"$f":"IF('H01 HC07'!K55=\"\",\"\",'H01 HC07'!K55)","v":""},{"$f":"IF('H01 HC07'!L55=\"\",\"\",'H01 HC07'!L55)","v":""},{"$f":"IF('H01 HC07'!M55=\"\",\"\",'H01 HC07'!M55)","v":""},{"$f":"IF('H01 HC07'!N55=\"\",\"\",'H01 HC07'!N55)","v":""},{"$f":"IF('H01 HC07'!O55=\"\",\"\",'H01 HC07'!O55)","v":""},{"$f":"IF('H01 HC07'!P55=\"\",\"\",'H01 HC07'!P55)","v":""},{"$f":"IF('H01 HC07'!Q55=\"\",\"\",'H01 HC07'!Q55)","v":""},{"$f":"IF('H01 HC07'!R55=\"\",\"\",'H01 HC07'!R55)","v":""},{"$f":"IF('H01 HC07'!S55=\"\",\"\",'H01 HC07'!S55)","v":""},{"$f":"IF('H01 HC07'!T55=\"\",\"\",'H01 HC07'!T55)","v":""}]
[null,{"$f":"IF('H01 HC07'!B56=\"\",\"\",'H01 HC07'!B56)","v":""},{"$f":"IF('H01 HC07'!C56=\"\",\"\",'H01 HC07'!C56)","v":""},{"$f":"IF('H01 HC07'!D56=\"\",\"\",'H01 HC07'!D56)","v":""},null,null,null,null,null,{"$f":"IF('H01 HC07'!E56=\"\",\"\",'H01 HC07'!E56)","v":""},{"$f":"IF('H01 HC07'!F56=\"\",\"\",'H01 HC07'!F56)","v":""},{"$f":"IF('H01 HC07'!G56=\"\",\"\",'H01 HC07'!G56)","v":""},{"$f":"IF('H01 HC07'!H56=\"\",\"\",'H01 HC07'!H56)","v":""},{"$f":"IF('H01 HC07'!I56=\"\",\"\",'H01 HC07'!I56)","v":""},{"$f":"IF('H01 HC07'!J56=\"\",\"\",'H01 HC07'!J56)","v":""},{"$f":"IF(D664=\"\",\"\",VLOOKUP(D664,#REF!,3,0))","v":""},{"$f":"IF('H01 HC07'!K56=\"\",\"\",'H01 HC07'!K56)","v":""},{"$f":"IF('H01 HC07'!L56=\"\",\"\",'H01 HC07'!L56)","v":""},{"$f":"IF('H01 HC07'!M56=\"\",\"\",'H01 HC07'!M56)","v":""},{"$f":"IF('H01 HC07'!N56=\"\",\"\",'H01 HC07'!N56)","v":""},{"$f":"IF('H01 HC07'!O56=\"\",\"\",'H01 HC07'!O56)","v":""},{"$f":"IF('H01 HC07'!P56=\"\",\"\",'H01 HC07'!P56)","v":""},{"$f":"IF('H01 HC07'!Q56=\"\",\"\",'H01 HC07'!Q56)","v":""},{"$f":"IF('H01 HC07'!R56=\"\",\"\",'H01 HC07'!R56)","v":""},{"$f":"IF('H01 HC07'!S56=\"\",\"\",'H01 HC07'!S56)","v":""},{"$f":"IF('H01 HC07'!T56=\"\",\"\",'H01 HC07'!T56)","v":""}]
[null,{"$f":"IF('H01 HC07'!B57=\"\",\"\",'H01 HC07'!B57)","v":""},{"$f":"IF('H01 HC07'!C57=\"\",\"\",'H01 HC07'!C57)","v":""},{"$f":"IF('H01 HC07'!D57=\"\",\"\",'H01 HC07'!D57)","v":""},null,null,null,null,null,{"$f":"IF('H01 HC07'!E57=\"\",\"\",'H01 HC07'!E57)","v":""},{"$f":"IF('H01 HC07'!F57=\"\",\"\",'H01 HC07'!F57)","v":""},{"$f":"IF('H01 HC07'!G57=\"\",\"\",'H01 HC07'!G57)","v":""},{"$f":"IF('H01 HC07'!H57=\"\",\"\",'H01 HC07'!H57)","v":""},{"$f":"IF('H01 HC07'!I57=\"\",\"\",'H01 HC07'!I57)","v":""},{"$f":"IF('H01 HC07'!J57=\"\",\"\",'H01 HC07'!J57)","v":""},{"$f":"IF(D665=\"\",\"\",VLOOKUP(D665,#REF!,3,0))","v":""},{"$f":"IF('H01 HC07'!K57=\"\",\"\",'H01 HC07'!K57)","v":""},{"$f":"IF('H01 HC07'!L57=\"\",\"\",'H01 HC07'!L57)","v":""},{"$f":"IF('H01 HC07'!M57=\"\",\"\",'H01 HC07'!M57)","v":""},{"$f":"IF('H01 HC07'!N57=\"\",\"\",'H01 HC07'!N57)","v":""},{"$f":"IF('H01 HC07'!O57=\"\",\"\",'H01 HC07'!O57)","v":""},{"$f":"IF('H01 HC07'!P57=\"\",\"\",'H01 HC07'!P57)","v":""},{"$f":"IF('H01 HC07'!Q57=\"\",\"\",'H01 HC07'!Q57)","v":""},{"$f":"IF('H01 HC07'!R57=\"\",\"\",'H01 HC07'!R57)","v":""},{"$f":"IF('H01 HC07'!S57=\"\",\"\",'H01 HC07'!S57)","v":""},{"$f":"IF('H01 HC07'!T57=\"\",\"\",'H01 HC07'!T57)","v":""}]
[null,{"$f":"IF('H01 HC07'!B58=\"\",\"\",'H01 HC07'!B58)","v":""},{"$f":"IF('H01 HC07'!C58=\"\",\"\",'H01 HC07'!C58)","v":""},{"$f":"IF('H01 HC07'!D58=\"\",\"\",'H01 HC07'!D58)","v":""},null,null,null,null,null,{"$f":"IF('H01 HC07'!E58=\"\",\"\",'H01 HC07'!E58)","v":""},{"$f":"IF('H01 HC07'!F58=\"\",\"\",'H01 HC07'!F58)","v":""},{"$f":"IF('H01 HC07'!G58=\"\",\"\",'H01 HC07'!G58)","v":""},{"$f":"IF('H01 HC07'!H58=\"\",\"\",'H01 HC07'!H58)","v":""},{"$f":"IF('H01 HC07'!I58=\"\",\"\",'H01 HC07'!I58)","v":""},{"$f":"IF('H01 HC07'!J58=\"\",\"\",'H01 HC07'!J58)","v":""},{"$f":"IF(D666=\"\",\"\",VLOOKUP(D666,#REF!,3,0))","v":""},{"$f":"IF('H01 HC07'!K58=\"\",\"\",'H01 HC07'!K58)","v":""},{"$f":"IF('H01 HC07'!L58=\"\",\"\",'H01 HC07'!L58)","v":""},{"$f":"IF('H01 HC07'!M58=\"\",\"\",'H01 HC07'!M58)","v":""},{"$f":"IF('H01 HC07'!N58=\"\",\"\",'H01 HC07'!N58)","v":""},{"$f":"IF('H01 HC07'!O58=\"\",\"\",'H01 HC07'!O58)","v":""},{"$f":"IF('H01 HC07'!P58=\"\",\"\",'H01 HC07'!P58)","v":""},{"$f":"IF('H01 HC07'!Q58=\"\",\"\",'H01 HC07'!Q58)","v":""},{"$f":"IF('H01 HC07'!R58=\"\",\"\",'H01 HC07'!R58)","v":""},{"$f":"IF('H01 HC07'!S58=\"\",\"\",'H01 HC07'!S58)","v":""},{"$f":"IF('H01 HC07'!T58=\"\",\"\",'H01 HC07'!T58)","v":""}]
[null,{"$f":"IF('H01 HC07'!B59=\"\",\"\",'H01 HC07'!B59)","v":""},{"$f":"IF('H01 HC07'!C59=\"\",\"\",'H01 HC07'!C59)","v":""},{"$f":"IF('H01 HC07'!D59=\"\",\"\",'H01 HC07'!D59)","v":""},null,null,null,null,null,{"$f":"IF('H01 HC07'!E59=\"\",\"\",'H01 HC07'!E59)","v":""},{"$f":"IF('H01 HC07'!F59=\"\",\"\",'H01 HC07'!F59)","v":""},{"$f":"IF('H01 HC07'!G59=\"\",\"\",'H01 HC07'!G59)","v":""},{"$f":"IF('H01 HC07'!H59=\"\",\"\",'H01 HC07'!H59)","v":""},{"$f":"IF('H01 HC07'!I59=\"\",\"\",'H01 HC07'!I59)","v":""},{"$f":"IF('H01 HC07'!J59=\"\",\"\",'H01 HC07'!J59)","v":""},{"$f":"IF(D667=\"\",\"\",VLOOKUP(D667,#REF!,3,0))","v":""},{"$f":"IF('H01 HC07'!K59=\"\",\"\",'H01 HC07'!K59)","v":""},{"$f":"IF('H01 HC07'!L59=\"\",\"\",'H01 HC07'!L59)","v":""},{"$f":"IF('H01 HC07'!M59=\"\",\"\",'H01 HC07'!M59)","v":""},{"$f":"IF('H01 HC07'!N59=\"\",\"\",'H01 HC07'!N59)","v":""},{"$f":"IF('H01 HC07'!O59=\"\",\"\",'H01 HC07'!O59)","v":""},{"$f":"IF('H01 HC07'!P59=\"\",\"\",'H01 HC07'!P59)","v":""},{"$f":"IF('H01 HC07'!Q59=\"\",\"\",'H01 HC07'!Q59)","v":""},{"$f":"IF('H01 HC07'!R59=\"\",\"\",'H01 HC07'!R59)","v":""},{"$f":"IF('H01 HC07'!S59=\"\",\"\",'H01 HC07'!S59)","v":""},{"$f":"IF('H01 HC07'!T59=\"\",\"\",'H01 HC07'!T59)","v":""}]
[null,{"$f":"IF('H01 HC07'!B60=\"\",\"\",'H01 HC07'!B60)","v":""},{"$f":"IF('H01 HC07'!C60=\"\",\"\",'H01 HC07'!C60)","v":""},{"$f":"IF('H01 HC07'!D60=\"\",\"\",'H01 HC07'!D60)","v":""},null,null,null,null,null,{"$f":"IF('H01 HC07'!E60=\"\",\"\",'H01 HC07'!E60)","v":""},{"$f":"IF('H01 HC07'!F60=\"\",\"\",'H01 HC07'!F60)","v":""},{"$f":"IF('H01 HC07'!G60=\"\",\"\",'H01 HC07'!G60)","v":""},{"$f":"IF('H01 HC07'!H60=\"\",\"\",'H01 HC07'!H60)","v":""},{"$f":"IF('H01 HC07'!I60=\"\",\"\",'H01 HC07'!I60)","v":""},{"$f":"IF('H01 HC07'!J60=\"\",\"\",'H01 HC07'!J60)","v":""},{"$f":"IF(D668=\"\",\"\",VLOOKUP(D668,#REF!,3,0))","v":""},{"$f":"IF('H01 HC07'!K60=\"\",\"\",'H01 HC07'!K60)","v":""},{"$f":"IF('H01 HC07'!L60=\"\",\"\",'H01 HC07'!L60)","v":""},{"$f":"IF('H01 HC07'!M60=\"\",\"\",'H01 HC07'!M60)","v":""},{"$f":"IF('H01 HC07'!N60=\"\",\"\",'H01 HC07'!N60)","v":""},{"$f":"IF('H01 HC07'!O60=\"\",\"\",'H01 HC07'!O60)","v":""},{"$f":"IF('H01 HC07'!P60=\"\",\"\",'H01 HC07'!P60)","v":""},{"$f":"IF('H01 HC07'!Q60=\"\",\"\",'H01 HC07'!Q60)","v":""},{"$f":"IF('H01 HC07'!R60=\"\",\"\",'H01 HC07'!R60)","v":""},{"$f":"IF('H01 HC07'!S60=\"\",\"\",'H01 HC07'!S60)","v":""},{"$f":"IF('H01 HC07'!T60=\"\",\"\",'H01 HC07'!T60)","v":""}]
[null,{"$f":"IF('H01 HC07'!B61=\"\",\"\",'H01 HC07'!B61)","v":""},{"$f":"IF('H01 HC07'!C61=\"\",\"\",'H01 HC07'!C61)","v":""},{"$f":"IF('H01 HC07'!D61=\"\",\"\",'H01 HC07'!D61)","v":""},null,null,null,null,null,{"$f":"IF('H01 HC07'!E61=\"\",\"\",'H01 HC07'!E61)","v":""},{"$f":"IF('H01 HC07'!F61=\"\",\"\",'H01 HC07'!F61)","v":""},{"$f":"IF('H01 HC07'!G61=\"\",\"\",'H01 HC07'!G61)","v":""},{"$f":"IF('H01 HC07'!H61=\"\",\"\",'H01 HC07'!H61)","v":""},{"$f":"IF('H01 HC07'!I61=\"\",\"\",'H01 HC07'!I61)","v":""},{"$f":"IF('H01 HC07'!J61=\"\",\"\",'H01 HC07'!J61)","v":""},{"$f":"IF(D669=\"\",\"\",VLOOKUP(D669,#REF!,3,0))","v":""},{"$f":"IF('H01 HC07'!K61=\"\",\"\",'H01 HC07'!K61)","v":""},{"$f":"IF('H01 HC07'!L61=\"\",\"\",'H01 HC07'!L61)","v":""},{"$f":"IF('H01 HC07'!M61=\"\",\"\",'H01 HC07'!M61)","v":""},{"$f":"IF('H01 HC07'!N61=\"\",\"\",'H01 HC07'!N61)","v":""},{"$f":"IF('H01 HC07'!O61=\"\",\"\",'H01 HC07'!O61)","v":""},{"$f":"IF('H01 HC07'!P61=\"\",\"\",'H01 HC07'!P61)","v":""},{"$f":"IF('H01 HC07'!Q61=\"\",\"\",'H01 HC07'!Q61)","v":""},{"$f":"IF('H01 HC07'!R61=\"\",\"\",'H01 HC07'!R61)","v":""},{"$f":"IF('H01 HC07'!S61=\"\",\"\",'H01 HC07'!S61)","v":""},{"$f":"IF('H01 HC07'!T61=\"\",\"\",'H01 HC07'!T61)","v":""}]
[null,{"$f":"IF('H01 HC07'!B62=\"\",\"\",'H01 HC07'!B62)","v":""},{"$f":"IF('H01 HC07'!C62=\"\",\"\",'H01 HC07'!C62)","v":""},{"$f":"IF('H01 HC07'!D62=\"\",\"\",'H01 HC07'!D62)","v":""},null,null,null,null,null,{"$f":"IF('H01 HC07'!E62=\"\",\"\",'H01 HC07'!E62)","v":""},{"$f":"IF('H01 HC07'!F62=\"\",\"\",'H01 HC07'!F62)","v":""},{"$f":"IF('H01 HC07'!G62=\"\",\"\",'H01 HC07'!G62)","v":""},{"$f":"IF('H01 HC07'!H62=\"\",\"\",'H01 HC07'!H62)","v":""},{"$f":"IF('H01 HC07'!I62=\"\",\"\",'H01 HC07'!I62)","v":""},{"$f":"IF('H01 HC07'!J62=\"\",\"\",'H01 HC07'!J62)","v":""},{"$f":"IF(D670=\"\",\"\",VLOOKUP(D670,#REF!,3,0))","v":""},{"$f":"IF('H01 HC07'!K62=\"\",\"\",'H01 HC07'!K62)","v":""},{"$f":"IF('H01 HC07'!L62=\"\",\"\",'H01 HC07'!L62)","v":""},{"$f":"IF('H01 HC07'!M62=\"\",\"\",'H01 HC07'!M62)","v":""},{"$f":"IF('H01 HC07'!N62=\"\",\"\",'H01 HC07'!N62)","v":""},{"$f":"IF('H01 HC07'!O62=\"\",\"\",'H01 HC07'!O62)","v":""},{"$f":"IF('H01 HC07'!P62=\"\",\"\",'H01 HC07'!P62)","v":""},{"$f":"IF('H01 HC07'!Q62=\"\",\"\",'H01 HC07'!Q62)","v":""},{"$f":"IF('H01 HC07'!R62=\"\",\"\",'H01 HC07'!R62)","v":""},{"$f":"IF('H01 HC07'!S62=\"\",\"\",'H01 HC07'!S62)","v":""},{"$f":"IF('H01 HC07'!T62=\"\",\"\",'H01 HC07'!T62)","v":""}]
[null,{"$f":"IF('H01 HC07'!B63=\"\",\"\",'H01 HC07'!B63)","v":""},{"$f":"IF('H01 HC07'!C63=\"\",\"\",'H01 HC07'!C63)","v":""},{"$f":"IF('H01 HC07'!D63=\"\",\"\",'H01 HC07'!D63)","v":""},null,null,null,null,null,{"$f":"IF('H01 HC07'!E63=\"\",\"\",'H01 HC07'!E63)","v":""},{"$f":"IF('H01 HC07'!F63=\"\",\"\",'H01 HC07'!F63)","v":""},{"$f":"IF('H01 HC07'!G63=\"\",\"\",'H01 HC07'!G63)","v":""},{"$f":"IF('H01 HC07'!H63=\"\",\"\",'H01 HC07'!H63)","v":""},{"$f":"IF('H01 HC07'!I63=\"\",\"\",'H01 HC07'!I63)","v":""},{"$f":"IF('H01 HC07'!J63=\"\",\"\",'H01 HC07'!J63)","v":""},{"$f":"IF(D671=\"\",\"\",VLOOKUP(D671,#REF!,3,0))","v":""},{"$f":"IF('H01 HC07'!K63=\"\",\"\",'H01 HC07'!K63)","v":""},{"$f":"IF('H01 HC07'!L63=\"\",\"\",'H01 HC07'!L63)","v":""},{"$f":"IF('H01 HC07'!M63=\"\",\"\",'H01 HC07'!M63)","v":""},{"$f":"IF('H01 HC07'!N63=\"\",\"\",'H01 HC07'!N63)","v":""},{"$f":"IF('H01 HC07'!O63=\"\",\"\",'H01 HC07'!O63)","v":""},{"$f":"IF('H01 HC07'!P63=\"\",\"\",'H01 HC07'!P63)","v":""},{"$f":"IF('H01 HC07'!Q63=\"\",\"\",'H01 HC07'!Q63)","v":""},{"$f":"IF('H01 HC07'!R63=\"\",\"\",'H01 HC07'!R63)","v":""},{"$f":"IF('H01 HC07'!S63=\"\",\"\",'H01 HC07'!S63)","v":""},{"$f":"IF('H01 HC07'!T63=\"\",\"\",'H01 HC07'!T63)","v":""}]
[null,{"$f":"IF('H01 HC07'!B64=\"\",\"\",'H01 HC07'!B64)","v":""},{"$f":"IF('H01 HC07'!C64=\"\",\"\",'H01 HC07'!C64)","v":""},{"$f":"IF('H01 HC07'!D64=\"\",\"\",'H01 HC07'!D64)","v":""},null,null,null,null,null,{"$f":"IF('H01 HC07'!E64=\"\",\"\",'H01 HC07'!E64)","v":""},{"$f":"IF('H01 HC07'!F64=\"\",\"\",'H01 HC07'!F64)","v":""},{"$f":"IF('H01 HC07'!G64=\"\",\"\",'H01 HC07'!G64)","v":""},{"$f":"IF('H01 HC07'!H64=\"\",\"\",'H01 HC07'!H64)","v":""},{"$f":"IF('H01 HC07'!I64=\"\",\"\",'H01 HC07'!I64)","v":""},{"$f":"IF('H01 HC07'!J64=\"\",\"\",'H01 HC07'!J64)","v":""},{"$f":"IF(D672=\"\",\"\",VLOOKUP(D672,#REF!,3,0))","v":""},{"$f":"IF('H01 HC07'!K64=\"\",\"\",'H01 HC07'!K64)","v":""},{"$f":"IF('H01 HC07'!L64=\"\",\"\",'H01 HC07'!L64)","v":""},{"$f":"IF('H01 HC07'!M64=\"\",\"\",'H01 HC07'!M64)","v":""},{"$f":"IF('H01 HC07'!N64=\"\",\"\",'H01 HC07'!N64)","v":""},{"$f":"IF('H01 HC07'!O64=\"\",\"\",'H01 HC07'!O64)","v":""},{"$f":"IF('H01 HC07'!P64=\"\",\"\",'H01 HC07'!P64)","v":""},{"$f":"IF('H01 HC07'!Q64=\"\",\"\",'H01 HC07'!Q64)","v":""},{"$f":"IF('H01 HC07'!R64=\"\",\"\",'H01 HC07'!R64)","v":""},{"$f":"IF('H01 HC07'!S64=\"\",\"\",'H01 HC07'!S64)","v":""},{"$f":"IF('H01 HC07'!T64=\"\",\"\",'H01 HC07'!T64)","v":""}]
[null,{"$f":"IF('H01 HC07'!B65=\"\",\"\",'H01 HC07'!B65)","v":""},{"$f":"IF('H01 HC07'!C65=\"\",\"\",'H01 HC07'!C65)","v":""},{"$f":"IF('H01 HC07'!D65=\"\",\"\",'H01 HC07'!D65)","v":""},null,null,null,null,null,{"$f":"IF('H01 HC07'!E65=\"\",\"\",'H01 HC07'!E65)","v":""},{"$f":"IF('H01 HC07'!F65=\"\",\"\",'H01 HC07'!F65)","v":""},{"$f":"IF('H01 HC07'!G65=\"\",\"\",'H01 HC07'!G65)","v":""},{"$f":"IF('H01 HC07'!H65=\"\",\"\",'H01 HC07'!H65)","v":""},{"$f":"IF('H01 HC07'!I65=\"\",\"\",'H01 HC07'!I65)","v":""},{"$f":"IF('H01 HC07'!J65=\"\",\"\",'H01 HC07'!J65)","v":""},{"$f":"IF(D673=\"\",\"\",VLOOKUP(D673,#REF!,3,0))","v":""},{"$f":"IF('H01 HC07'!K65=\"\",\"\",'H01 HC07'!K65)","v":""},{"$f":"IF('H01 HC07'!L65=\"\",\"\",'H01 HC07'!L65)","v":""},{"$f":"IF('H01 HC07'!M65=\"\",\"\",'H01 HC07'!M65)","v":""},{"$f":"IF('H01 HC07'!N65=\"\",\"\",'H01 HC07'!N65)","v":""},{"$f":"IF('H01 HC07'!O65=\"\",\"\",'H01 HC07'!O65)","v":""},{"$f":"IF('H01 HC07'!P65=\"\",\"\",'H01 HC07'!P65)","v":""},{"$f":"IF('H01 HC07'!Q65=\"\",\"\",'H01 HC07'!Q65)","v":""},{"$f":"IF('H01 HC07'!R65=\"\",\"\",'H01 HC07'!R65)","v":""},{"$f":"IF('H01 HC07'!S65=\"\",\"\",'H01 HC07'!S65)","v":""},{"$f":"IF('H01 HC07'!T65=\"\",\"\",'H01 HC07'!T65)","v":""}]
[null,{"$f":"IF('H01 HC07'!B66=\"\",\"\",'H01 HC07'!B66)","v":""},{"$f":"IF('H01 HC07'!C66=\"\",\"\",'H01 HC07'!C66)","v":""},{"$f":"IF('H01 HC07'!D66=\"\",\"\",'H01 HC07'!D66)","v":""},null,null,null,null,null,{"$f":"IF('H01 HC07'!E66=\"\",\"\",'H01 HC07'!E66)","v":""},{"$f":"IF('H01 HC07'!F66=\"\",\"\",'H01 HC07'!F66)","v":""},{"$f":"IF('H01 HC07'!G66=\"\",\"\",'H01 HC07'!G66)","v":""},{"$f":"IF('H01 HC07'!H66=\"\",\"\",'H01 HC07'!H66)","v":""},{"$f":"IF('H01 HC07'!I66=\"\",\"\",'H01 HC07'!I66)","v":""},{"$f":"IF('H01 HC07'!J66=\"\",\"\",'H01 HC07'!J66)","v":""},{"$f":"IF(D674=\"\",\"\",VLOOKUP(D674,#REF!,3,0))","v":""},{"$f":"IF('H01 HC07'!K66=\"\",\"\",'H01 HC07'!K66)","v":""},{"$f":"IF('H01 HC07'!L66=\"\",\"\",'H01 HC07'!L66)","v":""},{"$f":"IF('H01 HC07'!M66=\"\",\"\",'H01 HC07'!M66)","v":""},{"$f":"IF('H01 HC07'!N66=\"\",\"\",'H01 HC07'!N66)","v":""},{"$f":"IF('H01 HC07'!O66=\"\",\"\",'H01 HC07'!O66)","v":""},{"$f":"IF('H01 HC07'!P66=\"\",\"\",'H01 HC07'!P66)","v":""},{"$f":"IF('H01 HC07'!Q66=\"\",\"\",'H01 HC07'!Q66)","v":""},{"$f":"IF('H01 HC07'!R66=\"\",\"\",'H01 HC07'!R66)","v":""},{"$f":"IF('H01 HC07'!S66=\"\",\"\",'H01 HC07'!S66)","v":""},{"$f":"IF('H01 HC07'!T66=\"\",\"\",'H01 HC07'!T66)","v":""}]
[null,{"$f":"IF('H01 HC07'!B67=\"\",\"\",'H01 HC07'!B67)","v":""},{"$f":"IF('H01 HC07'!C67=\"\",\"\",'H01 HC07'!C67)","v":""},{"$f":"IF('H01 HC07'!D67=\"\",\"\",'H01 HC07'!D67)","v":""},null,null,null,null,null,{"$f":"IF('H01 HC07'!E67=\"\",\"\",'H01 HC07'!E67)","v":""},{"$f":"IF('H01 HC07'!F67=\"\",\"\",'H01 HC07'!F67)","v":""},{"$f":"IF('H01 HC07'!G67=\"\",\"\",'H01 HC07'!G67)","v":""},{"$f":"IF('H01 HC07'!H67=\"\",\"\",'H01 HC07'!H67)","v":""},{"$f":"IF('H01 HC07'!I67=\"\",\"\",'H01 HC07'!I67)","v":""},{"$f":"IF('H01 HC07'!J67=\"\",\"\",'H01 HC07'!J67)","v":""},{"$f":"IF(D675=\"\",\"\",VLOOKUP(D675,#REF!,3,0))","v":""},{"$f":"IF('H01 HC07'!K67=\"\",\"\",'H01 HC07'!K67)","v":""},{"$f":"IF('H01 HC07'!L67=\"\",\"\",'H01 HC07'!L67)","v":""},{"$f":"IF('H01 HC07'!M67=\"\",\"\",'H01 HC07'!M67)","v":""},{"$f":"IF('H01 HC07'!N67=\"\",\"\",'H01 HC07'!N67)","v":""},{"$f":"IF('H01 HC07'!O67=\"\",\"\",'H01 HC07'!O67)","v":""},{"$f":"IF('H01 HC07'!P67=\"\",\"\",'H01 HC07'!P67)","v":""},{"$f":"IF('H01 HC07'!Q67=\"\",\"\",'H01 HC07'!Q67)","v":""},{"$f":"IF('H01 HC07'!R67=\"\",\"\",'H01 HC07'!R67)","v":""},{"$f":"IF('H01 HC07'!S67=\"\",\"\",'H01 HC07'!S67)","v":""},{"$f":"IF('H01 HC07'!T67=\"\",\"\",'H01 HC07'!T67)","v":""}]
[null,{"$f":"IF('H01 HC07'!B68=\"\",\"\",'H01 HC07'!B68)","v":""},{"$f":"IF('H01 HC07'!C68=\"\",\"\",'H01 HC07'!C68)","v":""},{"$f":"IF('H01 HC07'!D68=\"\",\"\",'H01 HC07'!D68)","v":""},null,null,null,null,null,{"$f":"IF('H01 HC07'!E68=\"\",\"\",'H01 HC07'!E68)","v":""},{"$f":"IF('H01 HC07'!F68=\"\",\"\",'H01 HC07'!F68)","v":""},{"$f":"IF('H01 HC07'!G68=\"\",\"\",'H01 HC07'!G68)","v":""},{"$f":"IF('H01 HC07'!H68=\"\",\"\",'H01 HC07'!H68)","v":""},{"$f":"IF('H01 HC07'!I68=\"\",\"\",'H01 HC07'!I68)","v":""},{"$f":"IF('H01 HC07'!J68=\"\",\"\",'H01 HC07'!J68)","v":""},{"$f":"IF(D676=\"\",\"\",VLOOKUP(D676,#REF!,3,0))","v":""},{"$f":"IF('H01 HC07'!K68=\"\",\"\",'H01 HC07'!K68)","v":""},{"$f":"IF('H01 HC07'!L68=\"\",\"\",'H01 HC07'!L68)","v":""},{"$f":"IF('H01 HC07'!M68=\"\",\"\",'H01 HC07'!M68)","v":""},{"$f":"IF('H01 HC07'!N68=\"\",\"\",'H01 HC07'!N68)","v":""},{"$f":"IF('H01 HC07'!O68=\"\",\"\",'H01 HC07'!O68)","v":""},{"$f":"IF('H01 HC07'!P68=\"\",\"\",'H01 HC07'!P68)","v":""},{"$f":"IF('H01 HC07'!Q68=\"\",\"\",'H01 HC07'!Q68)","v":""},{"$f":"IF('H01 HC07'!R68=\"\",\"\",'H01 HC07'!R68)","v":""},{"$f":"IF('H01 HC07'!S68=\"\",\"\",'H01 HC07'!S68)","v":""},{"$f":"IF('H01 HC07'!T68=\"\",\"\",'H01 HC07'!T68)","v":""}]
[null,{"$f":"IF('H01 HC07'!B69=\"\",\"\",'H01 HC07'!B69)","v":""},{"$f":"IF('H01 HC07'!C69=\"\",\"\",'H01 HC07'!C69)","v":""},{"$f":"IF('H01 HC07'!D69=\"\",\"\",'H01 HC07'!D69)","v":""},null,null,null,null,null,{"$f":"IF('H01 HC07'!E69=\"\",\"\",'H01 HC07'!E69)","v":""},{"$f":"IF('H01 HC07'!F69=\"\",\"\",'H01 HC07'!F69)","v":""},{"$f":"IF('H01 HC07'!G69=\"\",\"\",'H01 HC07'!G69)","v":""},{"$f":"IF('H01 HC07'!H69=\"\",\"\",'H01 HC07'!H69)","v":""},{"$f":"IF('H01 HC07'!I69=\"\",\"\",'H01 HC07'!I69)","v":""},{"$f":"IF('H01 HC07'!J69=\"\",\"\",'H01 HC07'!J69)","v":""},{"$f":"IF(D677=\"\",\"\",VLOOKUP(D677,#REF!,3,0))","v":""},{"$f":"IF('H01 HC07'!K69=\"\",\"\",'H01 HC07'!K69)","v":""},{"$f":"IF('H01 HC07'!L69=\"\",\"\",'H01 HC07'!L69)","v":""},{"$f":"IF('H01 HC07'!M69=\"\",\"\",'H01 HC07'!M69)","v":""},{"$f":"IF('H01 HC07'!N69=\"\",\"\",'H01 HC07'!N69)","v":""},{"$f":"IF('H01 HC07'!O69=\"\",\"\",'H01 HC07'!O69)","v":""},{"$f":"IF('H01 HC07'!P69=\"\",\"\",'H01 HC07'!P69)","v":""},{"$f":"IF('H01 HC07'!Q69=\"\",\"\",'H01 HC07'!Q69)","v":""},{"$f":"IF('H01 HC07'!R69=\"\",\"\",'H01 HC07'!R69)","v":""},{"$f":"IF('H01 HC07'!S69=\"\",\"\",'H01 HC07'!S69)","v":""},{"$f":"IF('H01 HC07'!T69=\"\",\"\",'H01 HC07'!T69)","v":""}]
[null,{"$f":"IF('H01 HC07'!B70=\"\",\"\",'H01 HC07'!B70)","v":""},{"$f":"IF('H01 HC07'!C70=\"\",\"\",'H01 HC07'!C70)","v":""},{"$f":"IF('H01 HC07'!D70=\"\",\"\",'H01 HC07'!D70)","v":""},null,null,null,null,null,{"$f":"IF('H01 HC07'!E70=\"\",\"\",'H01 HC07'!E70)","v":""},{"$f":"IF('H01 HC07'!F70=\"\",\"\",'H01 HC07'!F70)","v":""},{"$f":"IF('H01 HC07'!G70=\"\",\"\",'H01 HC07'!G70)","v":""},{"$f":"IF('H01 HC07'!H70=\"\",\"\",'H01 HC07'!H70)","v":""},{"$f":"IF('H01 HC07'!I70=\"\",\"\",'H01 HC07'!I70)","v":""},{"$f":"IF('H01 HC07'!J70=\"\",\"\",'H01 HC07'!J70)","v":""},{"$f":"IF(D678=\"\",\"\",VLOOKUP(D678,#REF!,3,0))","v":""},{"$f":"IF('H01 HC07'!K70=\"\",\"\",'H01 HC07'!K70)","v":""},{"$f":"IF('H01 HC07'!L70=\"\",\"\",'H01 HC07'!L70)","v":""},{"$f":"IF('H01 HC07'!M70=\"\",\"\",'H01 HC07'!M70)","v":""},{"$f":"IF('H01 HC07'!N70=\"\",\"\",'H01 HC07'!N70)","v":""},{"$f":"IF('H01 HC07'!O70=\"\",\"\",'H01 HC07'!O70)","v":""},{"$f":"IF('H01 HC07'!P70=\"\",\"\",'H01 HC07'!P70)","v":""},{"$f":"IF('H01 HC07'!Q70=\"\",\"\",'H01 HC07'!Q70)","v":""},{"$f":"IF('H01 HC07'!R70=\"\",\"\",'H01 HC07'!R70)","v":""},{"$f":"IF('H01 HC07'!S70=\"\",\"\",'H01 HC07'!S70)","v":""},{"$f":"IF('H01 HC07'!T70=\"\",\"\",'H01 HC07'!T70)","v":""}]
[null,{"$f":"IF('H01 HC07'!B71=\"\",\"\",'H01 HC07'!B71)","v":""},{"$f":"IF('H01 HC07'!C71=\"\",\"\",'H01 HC07'!C71)","v":""},{"$f":"IF('H01 HC07'!D71=\"\",\"\",'H01 HC07'!D71)","v":""},null,null,null,null,null,{"$f":"IF('H01 HC07'!E71=\"\",\"\",'H01 HC07'!E71)","v":""},{"$f":"IF('H01 HC07'!F71=\"\",\"\",'H01 HC07'!F71)","v":""},{"$f":"IF('H01 HC07'!G71=\"\",\"\",'H01 HC07'!G71)","v":""},{"$f":"IF('H01 HC07'!H71=\"\",\"\",'H01 HC07'!H71)","v":""},{"$f":"IF('H01 HC07'!I71=\"\",\"\",'H01 HC07'!I71)","v":""},{"$f":"IF('H01 HC07'!J71=\"\",\"\",'H01 HC07'!J71)","v":""},{"$f":"IF(D679=\"\",\"\",VLOOKUP(D679,#REF!,3,0))","v":""},{"$f":"IF('H01 HC07'!K71=\"\",\"\",'H01 HC07'!K71)","v":""},{"$f":"IF('H01 HC07'!L71=\"\",\"\",'H01 HC07'!L71)","v":""},{"$f":"IF('H01 HC07'!M71=\"\",\"\",'H01 HC07'!M71)","v":""},{"$f":"IF('H01 HC07'!N71=\"\",\"\",'H01 HC07'!N71)","v":""},{"$f":"IF('H01 HC07'!O71=\"\",\"\",'H01 HC07'!O71)","v":""},{"$f":"IF('H01 HC07'!P71=\"\",\"\",'H01 HC07'!P71)","v":""},{"$f":"IF('H01 HC07'!Q71=\"\",\"\",'H01 HC07'!Q71)","v":""},{"$f":"IF('H01 HC07'!R71=\"\",\"\",'H01 HC07'!R71)","v":""},{"$f":"IF('H01 HC07'!S71=\"\",\"\",'H01 HC07'!S71)","v":""},{"$f":"IF('H01 HC07'!T71=\"\",\"\",'H01 HC07'!T71)","v":""}]
[null,{"$f":"IF('H01 HC07'!B72=\"\",\"\",'H01 HC07'!B72)","v":""},{"$f":"IF('H01 HC07'!C72=\"\",\"\",'H01 HC07'!C72)","v":""},{"$f":"IF('H01 HC07'!D72=\"\",\"\",'H01 HC07'!D72)","v":""},null,null,null,null,null,{"$f":"IF('H01 HC07'!E72=\"\",\"\",'H01 HC07'!E72)","v":""},{"$f":"IF('H01 HC07'!F72=\"\",\"\",'H01 HC07'!F72)","v":""},{"$f":"IF('H01 HC07'!G72=\"\",\"\",'H01 HC07'!G72)","v":""},{"$f":"IF('H01 HC07'!H72=\"\",\"\",'H01 HC07'!H72)","v":""},{"$f":"IF('H01 HC07'!I72=\"\",\"\",'H01 HC07'!I72)","v":""},{"$f":"IF('H01 HC07'!J72=\"\",\"\",'H01 HC07'!J72)","v":""},{"$f":"IF(D680=\"\",\"\",VLOOKUP(D680,#REF!,3,0))","v":""},{"$f":"IF('H01 HC07'!K72=\"\",\"\",'H01 HC07'!K72)","v":""},{"$f":"IF('H01 HC07'!L72=\"\",\"\",'H01 HC07'!L72)","v":""},{"$f":"IF('H01 HC07'!M72=\"\",\"\",'H01 HC07'!M72)","v":""},{"$f":"IF('H01 HC07'!N72=\"\",\"\",'H01 HC07'!N72)","v":""},{"$f":"IF('H01 HC07'!O72=\"\",\"\",'H01 HC07'!O72)","v":""},{"$f":"IF('H01 HC07'!P72=\"\",\"\",'H01 HC07'!P72)","v":""},{"$f":"IF('H01 HC07'!Q72=\"\",\"\",'H01 HC07'!Q72)","v":""},{"$f":"IF('H01 HC07'!R72=\"\",\"\",'H01 HC07'!R72)","v":""},{"$f":"IF('H01 HC07'!S72=\"\",\"\",'H01 HC07'!S72)","v":""},{"$f":"IF('H01 HC07'!T72=\"\",\"\",'H01 HC07'!T72)","v":""}]
[null,{"$f":"IF('H01 HC07'!B73=\"\",\"\",'H01 HC07'!B73)","v":""},{"$f":"IF('H01 HC07'!C73=\"\",\"\",'H01 HC07'!C73)","v":""},{"$f":"IF('H01 HC07'!D73=\"\",\"\",'H01 HC07'!D73)","v":""},null,null,null,null,null,{"$f":"IF('H01 HC07'!E73=\"\",\"\",'H01 HC07'!E73)","v":""},{"$f":"IF('H01 HC07'!F73=\"\",\"\",'H01 HC07'!F73)","v":""},{"$f":"IF('H01 HC07'!G73=\"\",\"\",'H01 HC07'!G73)","v":""},{"$f":"IF('H01 HC07'!H73=\"\",\"\",'H01 HC07'!H73)","v":""},{"$f":"IF('H01 HC07'!I73=\"\",\"\",'H01 HC07'!I73)","v":""},{"$f":"IF('H01 HC07'!J73=\"\",\"\",'H01 HC07'!J73)","v":""},{"$f":"IF(D681=\"\",\"\",VLOOKUP(D681,#REF!,3,0))","v":""},{"$f":"IF('H01 HC07'!K73=\"\",\"\",'H01 HC07'!K73)","v":""},{"$f":"IF('H01 HC07'!L73=\"\",\"\",'H01 HC07'!L73)","v":""},{"$f":"IF('H01 HC07'!M73=\"\",\"\",'H01 HC07'!M73)","v":""},{"$f":"IF('H01 HC07'!N73=\"\",\"\",'H01 HC07'!N73)","v":""},{"$f":"IF('H01 HC07'!O73=\"\",\"\",'H01 HC07'!O73)","v":""},{"$f":"IF('H01 HC07'!P73=\"\",\"\",'H01 HC07'!P73)","v":""},{"$f":"IF('H01 HC07'!Q73=\"\",\"\",'H01 HC07'!Q73)","v":""},{"$f":"IF('H01 HC07'!R73=\"\",\"\",'H01 HC07'!R73)","v":""},{"$f":"IF('H01 HC07'!S73=\"\",\"\",'H01 HC07'!S73)","v":""},{"$f":"IF('H01 HC07'!T73=\"\",\"\",'H01 HC07'!T73)","v":""}]
[null,{"$f":"IF('H01 HC07'!B74=\"\",\"\",'H01 HC07'!B74)","v":""},{"$f":"IF('H01 HC07'!C74=\"\",\"\",'H01 HC07'!C74)","v":""},{"$f":"IF('H01 HC07'!D74=\"\",\"\",'H01 HC07'!D74)","v":""},null,null,null,null,null,{"$f":"IF('H01 HC07'!E74=\"\",\"\",'H01 HC07'!E74)","v":""},{"$f":"IF('H01 HC07'!F74=\"\",\"\",'H01 HC07'!F74)","v":""},{"$f":"IF('H01 HC07'!G74=\"\",\"\",'H01 HC07'!G74)","v":""},{"$f":"IF('H01 HC07'!H74=\"\",\"\",'H01 HC07'!H74)","v":""},{"$f":"IF('H01 HC07'!I74=\"\",\"\",'H01 HC07'!I74)","v":""},{"$f":"IF('H01 HC07'!J74=\"\",\"\",'H01 HC07'!J74)","v":""},{"$f":"IF(D682=\"\",\"\",VLOOKUP(D682,#REF!,3,0))","v":""},{"$f":"IF('H01 HC07'!K74=\"\",\"\",'H01 HC07'!K74)","v":""},{"$f":"IF('H01 HC07'!L74=\"\",\"\",'H01 HC07'!L74)","v":""},{"$f":"IF('H01 HC07'!M74=\"\",\"\",'H01 HC07'!M74)","v":""},{"$f":"IF('H01 HC07'!N74=\"\",\"\",'H01 HC07'!N74)","v":""},{"$f":"IF('H01 HC07'!O74=\"\",\"\",'H01 HC07'!O74)","v":""},{"$f":"IF('H01 HC07'!P74=\"\",\"\",'H01 HC07'!P74)","v":""},{"$f":"IF('H01 HC07'!Q74=\"\",\"\",'H01 HC07'!Q74)","v":""},{"$f":"IF('H01 HC07'!R74=\"\",\"\",'H01 HC07'!R74)","v":""},{"$f":"IF('H01 HC07'!S74=\"\",\"\",'H01 HC07'!S74)","v":""},{"$f":"IF('H01 HC07'!T74=\"\",\"\",'H01 HC07'!T74)","v":""}]
[null,{"$f":"IF('H01 HC07'!B75=\"\",\"\",'H01 HC07'!B75)","v":""},{"$f":"IF('H01 HC07'!C75=\"\",\"\",'H01 HC07'!C75)","v":""},{"$f":"IF('H01 HC07'!D75=\"\",\"\",'H01 HC07'!D75)","v":""},null,null,null,null,null,{"$f":"IF('H01 HC07'!E75=\"\",\"\",'H01 HC07'!E75)","v":""},{"$f":"IF('H01 HC07'!F75=\"\",\"\",'H01 HC07'!F75)","v":""},{"$f":"IF('H01 HC07'!G75=\"\",\"\",'H01 HC07'!G75)","v":""},{"$f":"IF('H01 HC07'!H75=\"\",\"\",'H01 HC07'!H75)","v":""},{"$f":"IF('H01 HC07'!I75=\"\",\"\",'H01 HC07'!I75)","v":""},{"$f":"IF('H01 HC07'!J75=\"\",\"\",'H01 HC07'!J75)","v":""},{"$f":"IF(D683=\"\",\"\",VLOOKUP(D683,#REF!,3,0))","v":""},{"$f":"IF('H01 HC07'!K75=\"\",\"\",'H01 HC07'!K75)","v":""},{"$f":"IF('H01 HC07'!L75=\"\",\"\",'H01 HC07'!L75)","v":""},{"$f":"IF('H01 HC07'!M75=\"\",\"\",'H01 HC07'!M75)","v":""},{"$f":"IF('H01 HC07'!N75=\"\",\"\",'H01 HC07'!N75)","v":""},{"$f":"IF('H01 HC07'!O75=\"\",\"\",'H01 HC07'!O75)","v":""},{"$f":"IF('H01 HC07'!P75=\"\",\"\",'H01 HC07'!P75)","v":""},{"$f":"IF('H01 HC07'!Q75=\"\",\"\",'H01 HC07'!Q75)","v":""},{"$f":"IF('H01 HC07'!R75=\"\",\"\",'H01 HC07'!R75)","v":""},{"$f":"IF('H01 HC07'!S75=\"\",\"\",'H01 HC07'!S75)","v":""},{"$f":"IF('H01 HC07'!T75=\"\",\"\",'H01 HC07'!T75)","v":""}]
[null,{"$f":"IF('H01 HC07'!B76=\"\",\"\",'H01 HC07'!B76)","v":""},{"$f":"IF('H01 HC07'!C76=\"\",\"\",'H01 HC07'!C76)","v":""},{"$f":"IF('H01 HC07'!D76=\"\",\"\",'H01 HC07'!D76)","v":""},null,null,null,null,null,{"$f":"IF('H01 HC07'!E76=\"\",\"\",'H01 HC07'!E76)","v":""},{"$f":"IF('H01 HC07'!F76=\"\",\"\",'H01 HC07'!F76)","v":""},{"$f":"IF('H01 HC07'!G76=\"\",\"\",'H01 HC07'!G76)","v":""},{"$f":"IF('H01 HC07'!H76=\"\",\"\",'H01 HC07'!H76)","v":""},{"$f":"IF('H01 HC07'!I76=\"\",\"\",'H01 HC07'!I76)","v":""},{"$f":"IF('H01 HC07'!J76=\"\",\"\",'H01 HC07'!J76)","v":""},{"$f":"IF(D684=\"\",\"\",VLOOKUP(D684,#REF!,3,0))","v":""},{"$f":"IF('H01 HC07'!K76=\"\",\"\",'H01 HC07'!K76)","v":""},{"$f":"IF('H01 HC07'!L76=\"\",\"\",'H01 HC07'!L76)","v":""},{"$f":"IF('H01 HC07'!M76=\"\",\"\",'H01 HC07'!M76)","v":""},{"$f":"IF('H01 HC07'!N76=\"\",\"\",'H01 HC07'!N76)","v":""},{"$f":"IF('H01 HC07'!O76=\"\",\"\",'H01 HC07'!O76)","v":""},{"$f":"IF('H01 HC07'!P76=\"\",\"\",'H01 HC07'!P76)","v":""},{"$f":"IF('H01 HC07'!Q76=\"\",\"\",'H01 HC07'!Q76)","v":""},{"$f":"IF('H01 HC07'!R76=\"\",\"\",'H01 HC07'!R76)","v":""},{"$f":"IF('H01 HC07'!S76=\"\",\"\",'H01 HC07'!S76)","v":""},{"$f":"IF('H01 HC07'!T76=\"\",\"\",'H01 HC07'!T76)","v":""}]
[null,{"$f":"IF('H01 HC07'!B77=\"\",\"\",'H01 HC07'!B77)","v":""},{"$f":"IF('H01 HC07'!C77=\"\",\"\",'H01 HC07'!C77)","v":""},{"$f":"IF('H01 HC07'!D77=\"\",\"\",'H01 HC07'!D77)","v":""},null,null,null,null,null,{"$f":"IF('H01 HC07'!E77=\"\",\"\",'H01 HC07'!E77)","v":""},{"$f":"IF('H01 HC07'!F77=\"\",\"\",'H01 HC07'!F77)","v":""},{"$f":"IF('H01 HC07'!G77=\"\",\"\",'H01 HC07'!G77)","v":""},{"$f":"IF('H01 HC07'!H77=\"\",\"\",'H01 HC07'!H77)","v":""},{"$f":"IF('H01 HC07'!I77=\"\",\"\",'H01 HC07'!I77)","v":""},{"$f":"IF('H01 HC07'!J77=\"\",\"\",'H01 HC07'!J77)","v":""},{"$f":"IF(D685=\"\",\"\",VLOOKUP(D685,#REF!,3,0))","v":""},{"$f":"IF('H01 HC07'!K77=\"\",\"\",'H01 HC07'!K77)","v":""},{"$f":"IF('H01 HC07'!L77=\"\",\"\",'H01 HC07'!L77)","v":""},{"$f":"IF('H01 HC07'!M77=\"\",\"\",'H01 HC07'!M77)","v":""},{"$f":"IF('H01 HC07'!N77=\"\",\"\",'H01 HC07'!N77)","v":""},{"$f":"IF('H01 HC07'!O77=\"\",\"\",'H01 HC07'!O77)","v":""},{"$f":"IF('H01 HC07'!P77=\"\",\"\",'H01 HC07'!P77)","v":""},{"$f":"IF('H01 HC07'!Q77=\"\",\"\",'H01 HC07'!Q77)","v":""},{"$f":"IF('H01 HC07'!R77=\"\",\"\",'H01 HC07'!R77)","v":""},{"$f":"IF('H01 HC07'!S77=\"\",\"\",'H01 HC07'!S77)","v":""},{"$f":"IF('H01 HC07'!T77=\"\",\"\",'H01 HC07'!T77)","v":""}]
[null,{"$f":"IF('H01 HC07'!B78=\"\",\"\",'H01 HC07'!B78)","v":""},{"$f":"IF('H01 HC07'!C78=\"\",\"\",'H01 HC07'!C78)","v":""},{"$f":"IF('H01 HC07'!D78=\"\",\"\",'H01 HC07'!D78)","v":""},null,null,null,null,null,{"$f":"IF('H01 HC07'!E78=\"\",\"\",'H01 HC07'!E78)","v":""},{"$f":"IF('H01 HC07'!F78=\"\",\"\",'H01 HC07'!F78)","v":""},{"$f":"IF('H01 HC07'!G78=\"\",\"\",'H01 HC07'!G78)","v":""},{"$f":"IF('H01 HC07'!H78=\"\",\"\",'H01 HC07'!H78)","v":""},{"$f":"IF('H01 HC07'!I78=\"\",\"\",'H01 HC07'!I78)","v":""},{"$f":"IF('H01 HC07'!J78=\"\",\"\",'H01 HC07'!J78)","v":""},{"$f":"IF(D686=\"\",\"\",VLOOKUP(D686,#REF!,3,0))","v":""},{"$f":"IF('H01 HC07'!K78=\"\",\"\",'H01 HC07'!K78)","v":""},{"$f":"IF('H01 HC07'!L78=\"\",\"\",'H01 HC07'!L78)","v":""},{"$f":"IF('H01 HC07'!M78=\"\",\"\",'H01 HC07'!M78)","v":""},{"$f":"IF('H01 HC07'!N78=\"\",\"\",'H01 HC07'!N78)","v":""},{"$f":"IF('H01 HC07'!O78=\"\",\"\",'H01 HC07'!O78)","v":""},{"$f":"IF('H01 HC07'!P78=\"\",\"\",'H01 HC07'!P78)","v":""},{"$f":"IF('H01 HC07'!Q78=\"\",\"\",'H01 HC07'!Q78)","v":""},{"$f":"IF('H01 HC07'!R78=\"\",\"\",'H01 HC07'!R78)","v":""},{"$f":"IF('H01 HC07'!S78=\"\",\"\",'H01 HC07'!S78)","v":""},{"$f":"IF('H01 HC07'!T78=\"\",\"\",'H01 HC07'!T78)","v":""}]
[null,{"$f":"IF('H01 HC07'!B79=\"\",\"\",'H01 HC07'!B79)","v":""},{"$f":"IF('H01 HC07'!C79=\"\",\"\",'H01 HC07'!C79)","v":""},{"$f":"IF('H01 HC07'!D79=\"\",\"\",'H01 HC07'!D79)","v":""},null,null,null,null,null,{"$f":"IF('H01 HC07'!E79=\"\",\"\",'H01 HC07'!E79)","v":""},{"$f":"IF('H01 HC07'!F79=\"\",\"\",'H01 HC07'!F79)","v":""},{"$f":"IF('H01 HC07'!G79=\"\",\"\",'H01 HC07'!G79)","v":""},{"$f":"IF('H01 HC07'!H79=\"\",\"\",'H01 HC07'!H79)","v":""},{"$f":"IF('H01 HC07'!I79=\"\",\"\",'H01 HC07'!I79)","v":""},{"$f":"IF('H01 HC07'!J79=\"\",\"\",'H01 HC07'!J79)","v":""},{"$f":"IF(D687=\"\",\"\",VLOOKUP(D687,#REF!,3,0))","v":""},{"$f":"IF('H01 HC07'!K79=\"\",\"\",'H01 HC07'!K79)","v":""},{"$f":"IF('H01 HC07'!L79=\"\",\"\",'H01 HC07'!L79)","v":""},{"$f":"IF('H01 HC07'!M79=\"\",\"\",'H01 HC07'!M79)","v":""},{"$f":"IF('H01 HC07'!N79=\"\",\"\",'H01 HC07'!N79)","v":""},{"$f":"IF('H01 HC07'!O79=\"\",\"\",'H01 HC07'!O79)","v":""},{"$f":"IF('H01 HC07'!P79=\"\",\"\",'H01 HC07'!P79)","v":""},{"$f":"IF('H01 HC07'!Q79=\"\",\"\",'H01 HC07'!Q79)","v":""},{"$f":"IF('H01 HC07'!R79=\"\",\"\",'H01 HC07'!R79)","v":""},{"$f":"IF('H01 HC07'!S79=\"\",\"\",'H01 HC07'!S79)","v":""},{"$f":"IF('H01 HC07'!T79=\"\",\"\",'H01 HC07'!T79)","v":""}]
[null,{"$f":"IF('H01 HC07'!B80=\"\",\"\",'H01 HC07'!B80)","v":""},{"$f":"IF('H01 HC07'!C80=\"\",\"\",'H01 HC07'!C80)","v":""},{"$f":"IF('H01 HC07'!D80=\"\",\"\",'H01 HC07'!D80)","v":""},null,null,null,null,null,{"$f":"IF('H01 HC07'!E80=\"\",\"\",'H01 HC07'!E80)","v":""},{"$f":"IF('H01 HC07'!F80=\"\",\"\",'H01 HC07'!F80)","v":""},{"$f":"IF('H01 HC07'!G80=\"\",\"\",'H01 HC07'!G80)","v":""},{"$f":"IF('H01 HC07'!H80=\"\",\"\",'H01 HC07'!H80)","v":""},{"$f":"IF('H01 HC07'!I80=\"\",\"\",'H01 HC07'!I80)","v":""},{"$f":"IF('H01 HC07'!J80=\"\",\"\",'H01 HC07'!J80)","v":""},{"$f":"IF(D688=\"\",\"\",VLOOKUP(D688,#REF!,3,0))","v":""},{"$f":"IF('H01 HC07'!K80=\"\",\"\",'H01 HC07'!K80)","v":""},{"$f":"IF('H01 HC07'!L80=\"\",\"\",'H01 HC07'!L80)","v":""},{"$f":"IF('H01 HC07'!M80=\"\",\"\",'H01 HC07'!M80)","v":""},{"$f":"IF('H01 HC07'!N80=\"\",\"\",'H01 HC07'!N80)","v":""},{"$f":"IF('H01 HC07'!O80=\"\",\"\",'H01 HC07'!O80)","v":""},{"$f":"IF('H01 HC07'!P80=\"\",\"\",'H01 HC07'!P80)","v":""},{"$f":"IF('H01 HC07'!Q80=\"\",\"\",'H01 HC07'!Q80)","v":""},{"$f":"IF('H01 HC07'!R80=\"\",\"\",'H01 HC07'!R80)","v":""},{"$f":"IF('H01 HC07'!S80=\"\",\"\",'H01 HC07'!S80)","v":""},{"$f":"IF('H01 HC07'!T80=\"\",\"\",'H01 HC07'!T80)","v":""}]
[null,{"$f":"IF('H01 HC07'!B81=\"\",\"\",'H01 HC07'!B81)","v":""},{"$f":"IF('H01 HC07'!C81=\"\",\"\",'H01 HC07'!C81)","v":""},{"$f":"IF('H01 HC07'!D81=\"\",\"\",'H01 HC07'!D81)","v":""},null,null,null,null,null,{"$f":"IF('H01 HC07'!E81=\"\",\"\",'H01 HC07'!E81)","v":""},{"$f":"IF('H01 HC07'!F81=\"\",\"\",'H01 HC07'!F81)","v":""},{"$f":"IF('H01 HC07'!G81=\"\",\"\",'H01 HC07'!G81)","v":""},{"$f":"IF('H01 HC07'!H81=\"\",\"\",'H01 HC07'!H81)","v":""},{"$f":"IF('H01 HC07'!I81=\"\",\"\",'H01 HC07'!I81)","v":""},{"$f":"IF('H01 HC07'!J81=\"\",\"\",'H01 HC07'!J81)","v":""},{"$f":"IF(D689=\"\",\"\",VLOOKUP(D689,#REF!,3,0))","v":""},{"$f":"IF('H01 HC07'!K81=\"\",\"\",'H01 HC07'!K81)","v":""},{"$f":"IF('H01 HC07'!L81=\"\",\"\",'H01 HC07'!L81)","v":""},{"$f":"IF('H01 HC07'!M81=\"\",\"\",'H01 HC07'!M81)","v":""},{"$f":"IF('H01 HC07'!N81=\"\",\"\",'H01 HC07'!N81)","v":""},{"$f":"IF('H01 HC07'!O81=\"\",\"\",'H01 HC07'!O81)","v":""},{"$f":"IF('H01 HC07'!P81=\"\",\"\",'H01 HC07'!P81)","v":""},{"$f":"IF('H01 HC07'!Q81=\"\",\"\",'H01 HC07'!Q81)","v":""},{"$f":"IF('H01 HC07'!R81=\"\",\"\",'H01 HC07'!R81)","v":""},{"$f":"IF('H01 HC07'!S81=\"\",\"\",'H01 HC07'!S81)","v":""},{"$f":"IF('H01 HC07'!T81=\"\",\"\",'H01 HC07'!T81)","v":""}]
[null,{"$f":"IF('H01 HC07'!B82=\"\",\"\",'H01 HC07'!B82)","v":""},{"$f":"IF('H01 HC07'!C82=\"\",\"\",'H01 HC07'!C82)","v":""},{"$f":"IF('H01 HC07'!D82=\"\",\"\",'H01 HC07'!D82)","v":""},null,null,null,null,null,{"$f":"IF('H01 HC07'!E82=\"\",\"\",'H01 HC07'!E82)","v":""},{"$f":"IF('H01 HC07'!F82=\"\",\"\",'H01 HC07'!F82)","v":""},{"$f":"IF('H01 HC07'!G82=\"\",\"\",'H01 HC07'!G82)","v":""},{"$f":"IF('H01 HC07'!H82=\"\",\"\",'H01 HC07'!H82)","v":""},{"$f":"IF('H01 HC07'!I82=\"\",\"\",'H01 HC07'!I82)","v":""},{"$f":"IF('H01 HC07'!J82=\"\",\"\",'H01 HC07'!J82)","v":""},{"$f":"IF(D690=\"\",\"\",VLOOKUP(D690,#REF!,3,0))","v":""},{"$f":"IF('H01 HC07'!K82=\"\",\"\",'H01 HC07'!K82)","v":""},{"$f":"IF('H01 HC07'!L82=\"\",\"\",'H01 HC07'!L82)","v":""},{"$f":"IF('H01 HC07'!M82=\"\",\"\",'H01 HC07'!M82)","v":""},{"$f":"IF('H01 HC07'!N82=\"\",\"\",'H01 HC07'!N82)","v":""},{"$f":"IF('H01 HC07'!O82=\"\",\"\",'H01 HC07'!O82)","v":""},{"$f":"IF('H01 HC07'!P82=\"\",\"\",'H01 HC07'!P82)","v":""},{"$f":"IF('H01 HC07'!Q82=\"\",\"\",'H01 HC07'!Q82)","v":""},{"$f":"IF('H01 HC07'!R82=\"\",\"\",'H01 HC07'!R82)","v":""},{"$f":"IF('H01 HC07'!S82=\"\",\"\",'H01 HC07'!S82)","v":""},{"$f":"IF('H01 HC07'!T82=\"\",\"\",'H01 HC07'!T82)","v":""}]
[null,{"$f":"IF('H01 HC07'!B83=\"\",\"\",'H01 HC07'!B83)","v":""},{"$f":"IF('H01 HC07'!C83=\"\",\"\",'H01 HC07'!C83)","v":""},{"$f":"IF('H01 HC07'!D83=\"\",\"\",'H01 HC07'!D83)","v":""},null,null,null,null,null,{"$f":"IF('H01 HC07'!E83=\"\",\"\",'H01 HC07'!E83)","v":""},{"$f":"IF('H01 HC07'!F83=\"\",\"\",'H01 HC07'!F83)","v":""},{"$f":"IF('H01 HC07'!G83=\"\",\"\",'H01 HC07'!G83)","v":""},{"$f":"IF('H01 HC07'!H83=\"\",\"\",'H01 HC07'!H83)","v":""},{"$f":"IF('H01 HC07'!I83=\"\",\"\",'H01 HC07'!I83)","v":""},{"$f":"IF('H01 HC07'!J83=\"\",\"\",'H01 HC07'!J83)","v":""},{"$f":"IF(D691=\"\",\"\",VLOOKUP(D691,#REF!,3,0))","v":""},{"$f":"IF('H01 HC07'!K83=\"\",\"\",'H01 HC07'!K83)","v":""},{"$f":"IF('H01 HC07'!L83=\"\",\"\",'H01 HC07'!L83)","v":""},{"$f":"IF('H01 HC07'!M83=\"\",\"\",'H01 HC07'!M83)","v":""},{"$f":"IF('H01 HC07'!N83=\"\",\"\",'H01 HC07'!N83)","v":""},{"$f":"IF('H01 HC07'!O83=\"\",\"\",'H01 HC07'!O83)","v":""},{"$f":"IF('H01 HC07'!P83=\"\",\"\",'H01 HC07'!P83)","v":""},{"$f":"IF('H01 HC07'!Q83=\"\",\"\",'H01 HC07'!Q83)","v":""},{"$f":"IF('H01 HC07'!R83=\"\",\"\",'H01 HC07'!R83)","v":""},{"$f":"IF('H01 HC07'!S83=\"\",\"\",'H01 HC07'!S83)","v":""},{"$f":"IF('H01 HC07'!T83=\"\",\"\",'H01 HC07'!T83)","v":""}]
[null,{"$f":"IF('H01 HC07'!B84=\"\",\"\",'H01 HC07'!B84)","v":""},{"$f":"IF('H01 HC07'!C84=\"\",\"\",'H01 HC07'!C84)","v":""},{"$f":"IF('H01 HC07'!D84=\"\",\"\",'H01 HC07'!D84)","v":""},null,null,null,null,null,{"$f":"IF('H01 HC07'!E84=\"\",\"\",'H01 HC07'!E84)","v":""},{"$f":"IF('H01 HC07'!F84=\"\",\"\",'H01 HC07'!F84)","v":""},{"$f":"IF('H01 HC07'!G84=\"\",\"\",'H01 HC07'!G84)","v":""},{"$f":"IF('H01 HC07'!H84=\"\",\"\",'H01 HC07'!H84)","v":""},{"$f":"IF('H01 HC07'!I84=\"\",\"\",'H01 HC07'!I84)","v":""},{"$f":"IF('H01 HC07'!J84=\"\",\"\",'H01 HC07'!J84)","v":""},{"$f":"IF(D692=\"\",\"\",VLOOKUP(D692,#REF!,3,0))","v":""},{"$f":"IF('H01 HC07'!K84=\"\",\"\",'H01 HC07'!K84)","v":""},{"$f":"IF('H01 HC07'!L84=\"\",\"\",'H01 HC07'!L84)","v":""},{"$f":"IF('H01 HC07'!M84=\"\",\"\",'H01 HC07'!M84)","v":""},{"$f":"IF('H01 HC07'!N84=\"\",\"\",'H01 HC07'!N84)","v":""},{"$f":"IF('H01 HC07'!O84=\"\",\"\",'H01 HC07'!O84)","v":""},{"$f":"IF('H01 HC07'!P84=\"\",\"\",'H01 HC07'!P84)","v":""},{"$f":"IF('H01 HC07'!Q84=\"\",\"\",'H01 HC07'!Q84)","v":""},{"$f":"IF('H01 HC07'!R84=\"\",\"\",'H01 HC07'!R84)","v":""},{"$f":"IF('H01 HC07'!S84=\"\",\"\",'H01 HC07'!S84)","v":""},{"$f":"IF('H01 HC07'!T84=\"\",\"\",'H01 HC07'!T84)","v":""}]
[null,{"$f":"IF('H01 HC07'!B85=\"\",\"\",'H01 HC07'!B85)","v":""},{"$f":"IF('H01 HC07'!C85=\"\",\"\",'H01 HC07'!C85)","v":""},{"$f":"IF('H01 HC07'!D85=\"\",\"\",'H01 HC07'!D85)","v":""},null,null,null,null,null,{"$f":"IF('H01 HC07'!E85=\"\",\"\",'H01 HC07'!E85)","v":""},{"$f":"IF('H01 HC07'!F85=\"\",\"\",'H01 HC07'!F85)","v":""},{"$f":"IF('H01 HC07'!G85=\"\",\"\",'H01 HC07'!G85)","v":""},{"$f":"IF('H01 HC07'!H85=\"\",\"\",'H01 HC07'!H85)","v":""},{"$f":"IF('H01 HC07'!I85=\"\",\"\",'H01 HC07'!I85)","v":""},{"$f":"IF('H01 HC07'!J85=\"\",\"\",'H01 HC07'!J85)","v":""},{"$f":"IF(D693=\"\",\"\",VLOOKUP(D693,#REF!,3,0))","v":""},{"$f":"IF('H01 HC07'!K85=\"\",\"\",'H01 HC07'!K85)","v":""},{"$f":"IF('H01 HC07'!L85=\"\",\"\",'H01 HC07'!L85)","v":""},{"$f":"IF('H01 HC07'!M85=\"\",\"\",'H01 HC07'!M85)","v":""},{"$f":"IF('H01 HC07'!N85=\"\",\"\",'H01 HC07'!N85)","v":""},{"$f":"IF('H01 HC07'!O85=\"\",\"\",'H01 HC07'!O85)","v":""},{"$f":"IF('H01 HC07'!P85=\"\",\"\",'H01 HC07'!P85)","v":""},{"$f":"IF('H01 HC07'!Q85=\"\",\"\",'H01 HC07'!Q85)","v":""},{"$f":"IF('H01 HC07'!R85=\"\",\"\",'H01 HC07'!R85)","v":""},{"$f":"IF('H01 HC07'!S85=\"\",\"\",'H01 HC07'!S85)","v":""},{"$f":"IF('H01 HC07'!T85=\"\",\"\",'H01 HC07'!T85)","v":""}]
[null,{"$f":"IF('H01 HC07'!B86=\"\",\"\",'H01 HC07'!B86)","v":""},{"$f":"IF('H01 HC07'!C86=\"\",\"\",'H01 HC07'!C86)","v":""},{"$f":"IF('H01 HC07'!D86=\"\",\"\",'H01 HC07'!D86)","v":""},null,null,null,null,null,{"$f":"IF('H01 HC07'!E86=\"\",\"\",'H01 HC07'!E86)","v":""},{"$f":"IF('H01 HC07'!F86=\"\",\"\",'H01 HC07'!F86)","v":""},{"$f":"IF('H01 HC07'!G86=\"\",\"\",'H01 HC07'!G86)","v":""},{"$f":"IF('H01 HC07'!H86=\"\",\"\",'H01 HC07'!H86)","v":""},{"$f":"IF('H01 HC07'!I86=\"\",\"\",'H01 HC07'!I86)","v":""},{"$f":"IF('H01 HC07'!J86=\"\",\"\",'H01 HC07'!J86)","v":""},{"$f":"IF(D694=\"\",\"\",VLOOKUP(D694,#REF!,3,0))","v":""},{"$f":"IF('H01 HC07'!K86=\"\",\"\",'H01 HC07'!K86)","v":""},{"$f":"IF('H01 HC07'!L86=\"\",\"\",'H01 HC07'!L86)","v":""},{"$f":"IF('H01 HC07'!M86=\"\",\"\",'H01 HC07'!M86)","v":""},{"$f":"IF('H01 HC07'!N86=\"\",\"\",'H01 HC07'!N86)","v":""},{"$f":"IF('H01 HC07'!O86=\"\",\"\",'H01 HC07'!O86)","v":""},{"$f":"IF('H01 HC07'!P86=\"\",\"\",'H01 HC07'!P86)","v":""},{"$f":"IF('H01 HC07'!Q86=\"\",\"\",'H01 HC07'!Q86)","v":""},{"$f":"IF('H01 HC07'!R86=\"\",\"\",'H01 HC07'!R86)","v":""},{"$f":"IF('H01 HC07'!S86=\"\",\"\",'H01 HC07'!S86)","v":""},{"$f":"IF('H01 HC07'!T86=\"\",\"\",'H01 HC07'!T86)","v":""}]
[null,{"$f":"IF('H01 HC07'!B87=\"\",\"\",'H01 HC07'!B87)","v":""},{"$f":"IF('H01 HC07'!C87=\"\",\"\",'H01 HC07'!C87)","v":""},{"$f":"IF('H01 HC07'!D87=\"\",\"\",'H01 HC07'!D87)","v":""},null,null,null,null,null,{"$f":"IF('H01 HC07'!E87=\"\",\"\",'H01 HC07'!E87)","v":""},{"$f":"IF('H01 HC07'!F87=\"\",\"\",'H01 HC07'!F87)","v":""},{"$f":"IF('H01 HC07'!G87=\"\",\"\",'H01 HC07'!G87)","v":""},{"$f":"IF('H01 HC07'!H87=\"\",\"\",'H01 HC07'!H87)","v":""},{"$f":"IF('H01 HC07'!I87=\"\",\"\",'H01 HC07'!I87)","v":""},{"$f":"IF('H01 HC07'!J87=\"\",\"\",'H01 HC07'!J87)","v":""},{"$f":"IF(D695=\"\",\"\",VLOOKUP(D695,#REF!,3,0))","v":""},{"$f":"IF('H01 HC07'!K87=\"\",\"\",'H01 HC07'!K87)","v":""},{"$f":"IF('H01 HC07'!L87=\"\",\"\",'H01 HC07'!L87)","v":""},{"$f":"IF('H01 HC07'!M87=\"\",\"\",'H01 HC07'!M87)","v":""},{"$f":"IF('H01 HC07'!N87=\"\",\"\",'H01 HC07'!N87)","v":""},{"$f":"IF('H01 HC07'!O87=\"\",\"\",'H01 HC07'!O87)","v":""},{"$f":"IF('H01 HC07'!P87=\"\",\"\",'H01 HC07'!P87)","v":""},{"$f":"IF('H01 HC07'!Q87=\"\",\"\",'H01 HC07'!Q87)","v":""},{"$f":"IF('H01 HC07'!R87=\"\",\"\",'H01 HC07'!R87)","v":""},{"$f":"IF('H01 HC07'!S87=\"\",\"\",'H01 HC07'!S87)","v":""},{"$f":"IF('H01 HC07'!T87=\"\",\"\",'H01 HC07'!T87)","v":""}]
[null,{"$f":"IF('H01 HC07'!B88=\"\",\"\",'H01 HC07'!B88)","v":""},{"$f":"IF('H01 HC07'!C88=\"\",\"\",'H01 HC07'!C88)","v":""},{"$f":"IF('H01 HC07'!D88=\"\",\"\",'H01 HC07'!D88)","v":""},null,null,null,null,null,{"$f":"IF('H01 HC07'!E88=\"\",\"\",'H01 HC07'!E88)","v":""},{"$f":"IF('H01 HC07'!F88=\"\",\"\",'H01 HC07'!F88)","v":""},{"$f":"IF('H01 HC07'!G88=\"\",\"\",'H01 HC07'!G88)","v":""},{"$f":"IF('H01 HC07'!H88=\"\",\"\",'H01 HC07'!H88)","v":""},{"$f":"IF('H01 HC07'!I88=\"\",\"\",'H01 HC07'!I88)","v":""},{"$f":"IF('H01 HC07'!J88=\"\",\"\",'H01 HC07'!J88)","v":""},{"$f":"IF(D696=\"\",\"\",VLOOKUP(D696,#REF!,3,0))","v":""},{"$f":"IF('H01 HC07'!K88=\"\",\"\",'H01 HC07'!K88)","v":""},{"$f":"IF('H01 HC07'!L88=\"\",\"\",'H01 HC07'!L88)","v":""},{"$f":"IF('H01 HC07'!M88=\"\",\"\",'H01 HC07'!M88)","v":""},{"$f":"IF('H01 HC07'!N88=\"\",\"\",'H01 HC07'!N88)","v":""},{"$f":"IF('H01 HC07'!O88=\"\",\"\",'H01 HC07'!O88)","v":""},{"$f":"IF('H01 HC07'!P88=\"\",\"\",'H01 HC07'!P88)","v":""},{"$f":"IF('H01 HC07'!Q88=\"\",\"\",'H01 HC07'!Q88)","v":""},{"$f":"IF('H01 HC07'!R88=\"\",\"\",'H01 HC07'!R88)","v":""},{"$f":"IF('H01 HC07'!S88=\"\",\"\",'H01 HC07'!S88)","v":""},{"$f":"IF('H01 HC07'!T88=\"\",\"\",'H01 HC07'!T88)","v":""}]
[null,{"$f":"IF('H01 HC07'!B89=\"\",\"\",'H01 HC07'!B89)","v":""},{"$f":"IF('H01 HC07'!C89=\"\",\"\",'H01 HC07'!C89)","v":""},{"$f":"IF('H01 HC07'!D89=\"\",\"\",'H01 HC07'!D89)","v":""},null,null,null,null,null,{"$f":"IF('H01 HC07'!E89=\"\",\"\",'H01 HC07'!E89)","v":""},{"$f":"IF('H01 HC07'!F89=\"\",\"\",'H01 HC07'!F89)","v":""},{"$f":"IF('H01 HC07'!G89=\"\",\"\",'H01 HC07'!G89)","v":""},{"$f":"IF('H01 HC07'!H89=\"\",\"\",'H01 HC07'!H89)","v":""},{"$f":"IF('H01 HC07'!I89=\"\",\"\",'H01 HC07'!I89)","v":""},{"$f":"IF('H01 HC07'!J89=\"\",\"\",'H01 HC07'!J89)","v":""},{"$f":"IF(D697=\"\",\"\",VLOOKUP(D697,#REF!,3,0))","v":""},{"$f":"IF('H01 HC07'!K89=\"\",\"\",'H01 HC07'!K89)","v":""},{"$f":"IF('H01 HC07'!L89=\"\",\"\",'H01 HC07'!L89)","v":""},{"$f":"IF('H01 HC07'!M89=\"\",\"\",'H01 HC07'!M89)","v":""},{"$f":"IF('H01 HC07'!N89=\"\",\"\",'H01 HC07'!N89)","v":""},{"$f":"IF('H01 HC07'!O89=\"\",\"\",'H01 HC07'!O89)","v":""},{"$f":"IF('H01 HC07'!P89=\"\",\"\",'H01 HC07'!P89)","v":""},{"$f":"IF('H01 HC07'!Q89=\"\",\"\",'H01 HC07'!Q89)","v":""},{"$f":"IF('H01 HC07'!R89=\"\",\"\",'H01 HC07'!R89)","v":""},{"$f":"IF('H01 HC07'!S89=\"\",\"\",'H01 HC07'!S89)","v":""},{"$f":"IF('H01 HC07'!T89=\"\",\"\",'H01 HC07'!T89)","v":""}]
[null,{"$f":"IF('H01 HC07'!B90=\"\",\"\",'H01 HC07'!B90)","v":""},{"$f":"IF('H01 HC07'!C90=\"\",\"\",'H01 HC07'!C90)","v":""},{"$f":"IF('H01 HC07'!D90=\"\",\"\",'H01 HC07'!D90)","v":""},null,null,null,null,null,{"$f":"IF('H01 HC07'!E90=\"\",\"\",'H01 HC07'!E90)","v":""},{"$f":"IF('H01 HC07'!F90=\"\",\"\",'H01 HC07'!F90)","v":""},{"$f":"IF('H01 HC07'!G90=\"\",\"\",'H01 HC07'!G90)","v":""},{"$f":"IF('H01 HC07'!H90=\"\",\"\",'H01 HC07'!H90)","v":""},{"$f":"IF('H01 HC07'!I90=\"\",\"\",'H01 HC07'!I90)","v":""},{"$f":"IF('H01 HC07'!J90=\"\",\"\",'H01 HC07'!J90)","v":""},{"$f":"IF(D698=\"\",\"\",VLOOKUP(D698,#REF!,3,0))","v":""},{"$f":"IF('H01 HC07'!K90=\"\",\"\",'H01 HC07'!K90)","v":""},{"$f":"IF('H01 HC07'!L90=\"\",\"\",'H01 HC07'!L90)","v":""},{"$f":"IF('H01 HC07'!M90=\"\",\"\",'H01 HC07'!M90)","v":""},{"$f":"IF('H01 HC07'!N90=\"\",\"\",'H01 HC07'!N90)","v":""},{"$f":"IF('H01 HC07'!O90=\"\",\"\",'H01 HC07'!O90)","v":""},{"$f":"IF('H01 HC07'!P90=\"\",\"\",'H01 HC07'!P90)","v":""},{"$f":"IF('H01 HC07'!Q90=\"\",\"\",'H01 HC07'!Q90)","v":""},{"$f":"IF('H01 HC07'!R90=\"\",\"\",'H01 HC07'!R90)","v":""},{"$f":"IF('H01 HC07'!S90=\"\",\"\",'H01 HC07'!S90)","v":""},{"$f":"IF('H01 HC07'!T90=\"\",\"\",'H01 HC07'!T90)","v":""}]
[null,{"$f":"IF('H01 HC07'!B91=\"\",\"\",'H01 HC07'!B91)","v":""},{"$f":"IF('H01 HC07'!C91=\"\",\"\",'H01 HC07'!C91)","v":""},{"$f":"IF('H01 HC07'!D91=\"\",\"\",'H01 HC07'!D91)","v":""},null,null,null,null,null,{"$f":"IF('H01 HC07'!E91=\"\",\"\",'H01 HC07'!E91)","v":""},{"$f":"IF('H01 HC07'!F91=\"\",\"\",'H01 HC07'!F91)","v":""},{"$f":"IF('H01 HC07'!G91=\"\",\"\",'H01 HC07'!G91)","v":""},{"$f":"IF('H01 HC07'!H91=\"\",\"\",'H01 HC07'!H91)","v":""},{"$f":"IF('H01 HC07'!I91=\"\",\"\",'H01 HC07'!I91)","v":""},{"$f":"IF('H01 HC07'!J91=\"\",\"\",'H01 HC07'!J91)","v":""},{"$f":"IF(D699=\"\",\"\",VLOOKUP(D699,#REF!,3,0))","v":""},{"$f":"IF('H01 HC07'!K91=\"\",\"\",'H01 HC07'!K91)","v":""},{"$f":"IF('H01 HC07'!L91=\"\",\"\",'H01 HC07'!L91)","v":""},{"$f":"IF('H01 HC07'!M91=\"\",\"\",'H01 HC07'!M91)","v":""},{"$f":"IF('H01 HC07'!N91=\"\",\"\",'H01 HC07'!N91)","v":""},{"$f":"IF('H01 HC07'!O91=\"\",\"\",'H01 HC07'!O91)","v":""},{"$f":"IF('H01 HC07'!P91=\"\",\"\",'H01 HC07'!P91)","v":""},{"$f":"IF('H01 HC07'!Q91=\"\",\"\",'H01 HC07'!Q91)","v":""},{"$f":"IF('H01 HC07'!R91=\"\",\"\",'H01 HC07'!R91)","v":""},{"$f":"IF('H01 HC07'!S91=\"\",\"\",'H01 HC07'!S91)","v":""},{"$f":"IF('H01 HC07'!T91=\"\",\"\",'H01 HC07'!T91)","v":""}]
[null,{"$f":"IF('H01 HC07'!B92=\"\",\"\",'H01 HC07'!B92)","v":""},{"$f":"IF('H01 HC07'!C92=\"\",\"\",'H01 HC07'!C92)","v":""},{"$f":"IF('H01 HC07'!D92=\"\",\"\",'H01 HC07'!D92)","v":""},null,null,null,null,null,{"$f":"IF('H01 HC07'!E92=\"\",\"\",'H01 HC07'!E92)","v":""},{"$f":"IF('H01 HC07'!F92=\"\",\"\",'H01 HC07'!F92)","v":""},{"$f":"IF('H01 HC07'!G92=\"\",\"\",'H01 HC07'!G92)","v":""},{"$f":"IF('H01 HC07'!H92=\"\",\"\",'H01 HC07'!H92)","v":""},{"$f":"IF('H01 HC07'!I92=\"\",\"\",'H01 HC07'!I92)","v":""},{"$f":"IF('H01 HC07'!J92=\"\",\"\",'H01 HC07'!J92)","v":""},{"$f":"IF(D700=\"\",\"\",VLOOKUP(D700,#REF!,3,0))","v":""},{"$f":"IF('H01 HC07'!K92=\"\",\"\",'H01 HC07'!K92)","v":""},{"$f":"IF('H01 HC07'!L92=\"\",\"\",'H01 HC07'!L92)","v":""},{"$f":"IF('H01 HC07'!M92=\"\",\"\",'H01 HC07'!M92)","v":""},{"$f":"IF('H01 HC07'!N92=\"\",\"\",'H01 HC07'!N92)","v":""},{"$f":"IF('H01 HC07'!O92=\"\",\"\",'H01 HC07'!O92)","v":""},{"$f":"IF('H01 HC07'!P92=\"\",\"\",'H01 HC07'!P92)","v":""},{"$f":"IF('H01 HC07'!Q92=\"\",\"\",'H01 HC07'!Q92)","v":""},{"$f":"IF('H01 HC07'!R92=\"\",\"\",'H01 HC07'!R92)","v":""},{"$f":"IF('H01 HC07'!S92=\"\",\"\",'H01 HC07'!S92)","v":""},{"$f":"IF('H01 HC07'!T92=\"\",\"\",'H01 HC07'!T92)","v":""}]
[null,{"$f":"IF('H01 HC07'!B93=\"\",\"\",'H01 HC07'!B93)","v":""},{"$f":"IF('H01 HC07'!C93=\"\",\"\",'H01 HC07'!C93)","v":""},{"$f":"IF('H01 HC07'!D93=\"\",\"\",'H01 HC07'!D93)","v":""},null,null,null,null,null,{"$f":"IF('H01 HC07'!E93=\"\",\"\",'H01 HC07'!E93)","v":""},{"$f":"IF('H01 HC07'!F93=\"\",\"\",'H01 HC07'!F93)","v":""},{"$f":"IF('H01 HC07'!G93=\"\",\"\",'H01 HC07'!G93)","v":""},{"$f":"IF('H01 HC07'!H93=\"\",\"\",'H01 HC07'!H93)","v":""},{"$f":"IF('H01 HC07'!I93=\"\",\"\",'H01 HC07'!I93)","v":""},{"$f":"IF('H01 HC07'!J93=\"\",\"\",'H01 HC07'!J93)","v":""},{"$f":"IF(D701=\"\",\"\",VLOOKUP(D701,#REF!,3,0))","v":""},{"$f":"IF('H01 HC07'!K93=\"\",\"\",'H01 HC07'!K93)","v":""},{"$f":"IF('H01 HC07'!L93=\"\",\"\",'H01 HC07'!L93)","v":""},{"$f":"IF('H01 HC07'!M93=\"\",\"\",'H01 HC07'!M93)","v":""},{"$f":"IF('H01 HC07'!N93=\"\",\"\",'H01 HC07'!N93)","v":""},{"$f":"IF('H01 HC07'!O93=\"\",\"\",'H01 HC07'!O93)","v":""},{"$f":"IF('H01 HC07'!P93=\"\",\"\",'H01 HC07'!P93)","v":""},{"$f":"IF('H01 HC07'!Q93=\"\",\"\",'H01 HC07'!Q93)","v":""},{"$f":"IF('H01 HC07'!R93=\"\",\"\",'H01 HC07'!R93)","v":""},{"$f":"IF('H01 HC07'!S93=\"\",\"\",'H01 HC07'!S93)","v":""},{"$f":"IF('H01 HC07'!T93=\"\",\"\",'H01 HC07'!T93)","v":""}]
[null,{"$f":"IF('H01 HC07'!B94=\"\",\"\",'H01 HC07'!B94)","v":""},{"$f":"IF('H01 HC07'!C94=\"\",\"\",'H01 HC07'!C94)","v":""},{"$f":"IF('H01 HC07'!D94=\"\",\"\",'H01 HC07'!D94)","v":""},null,null,null,null,null,{"$f":"IF('H01 HC07'!E94=\"\",\"\",'H01 HC07'!E94)","v":""},{"$f":"IF('H01 HC07'!F94=\"\",\"\",'H01 HC07'!F94)","v":""},{"$f":"IF('H01 HC07'!G94=\"\",\"\",'H01 HC07'!G94)","v":""},{"$f":"IF('H01 HC07'!H94=\"\",\"\",'H01 HC07'!H94)","v":""},{"$f":"IF('H01 HC07'!I94=\"\",\"\",'H01 HC07'!I94)","v":""},{"$f":"IF('H01 HC07'!J94=\"\",\"\",'H01 HC07'!J94)","v":""},{"$f":"IF(D702=\"\",\"\",VLOOKUP(D702,#REF!,3,0))","v":""},{"$f":"IF('H01 HC07'!K94=\"\",\"\",'H01 HC07'!K94)","v":""},{"$f":"IF('H01 HC07'!L94=\"\",\"\",'H01 HC07'!L94)","v":""},{"$f":"IF('H01 HC07'!M94=\"\",\"\",'H01 HC07'!M94)","v":""},{"$f":"IF('H01 HC07'!N94=\"\",\"\",'H01 HC07'!N94)","v":""},{"$f":"IF('H01 HC07'!O94=\"\",\"\",'H01 HC07'!O94)","v":""},{"$f":"IF('H01 HC07'!P94=\"\",\"\",'H01 HC07'!P94)","v":""},{"$f":"IF('H01 HC07'!Q94=\"\",\"\",'H01 HC07'!Q94)","v":""},{"$f":"IF('H01 HC07'!R94=\"\",\"\",'H01 HC07'!R94)","v":""},{"$f":"IF('H01 HC07'!S94=\"\",\"\",'H01 HC07'!S94)","v":""},{"$f":"IF('H01 HC07'!T94=\"\",\"\",'H01 HC07'!T94)","v":""}]
[null,{"$f":"IF('H01 HC07'!B95=\"\",\"\",'H01 HC07'!B95)","v":""},{"$f":"IF('H01 HC07'!C95=\"\",\"\",'H01 HC07'!C95)","v":""},{"$f":"IF('H01 HC07'!D95=\"\",\"\",'H01 HC07'!D95)","v":""},null,null,null,null,null,{"$f":"IF('H01 HC07'!E95=\"\",\"\",'H01 HC07'!E95)","v":""},{"$f":"IF('H01 HC07'!F95=\"\",\"\",'H01 HC07'!F95)","v":""},{"$f":"IF('H01 HC07'!G95=\"\",\"\",'H01 HC07'!G95)","v":""},{"$f":"IF('H01 HC07'!H95=\"\",\"\",'H01 HC07'!H95)","v":""},{"$f":"IF('H01 HC07'!I95=\"\",\"\",'H01 HC07'!I95)","v":""},{"$f":"IF('H01 HC07'!J95=\"\",\"\",'H01 HC07'!J95)","v":""},{"$f":"IF(D703=\"\",\"\",VLOOKUP(D703,#REF!,3,0))","v":""},{"$f":"IF('H01 HC07'!K95=\"\",\"\",'H01 HC07'!K95)","v":""},{"$f":"IF('H01 HC07'!L95=\"\",\"\",'H01 HC07'!L95)","v":""},{"$f":"IF('H01 HC07'!M95=\"\",\"\",'H01 HC07'!M95)","v":""},{"$f":"IF('H01 HC07'!N95=\"\",\"\",'H01 HC07'!N95)","v":""},{"$f":"IF('H01 HC07'!O95=\"\",\"\",'H01 HC07'!O95)","v":""},{"$f":"IF('H01 HC07'!P95=\"\",\"\",'H01 HC07'!P95)","v":""},{"$f":"IF('H01 HC07'!Q95=\"\",\"\",'H01 HC07'!Q95)","v":""},{"$f":"IF('H01 HC07'!R95=\"\",\"\",'H01 HC07'!R95)","v":""},{"$f":"IF('H01 HC07'!S95=\"\",\"\",'H01 HC07'!S95)","v":""},{"$f":"IF('H01 HC07'!T95=\"\",\"\",'H01 HC07'!T95)","v":""}]
[null,{"$f":"IF('H01 HC07'!B96=\"\",\"\",'H01 HC07'!B96)","v":""},{"$f":"IF('H01 HC07'!C96=\"\",\"\",'H01 HC07'!C96)","v":""},{"$f":"IF('H01 HC07'!D96=\"\",\"\",'H01 HC07'!D96)","v":""},null,null,null,null,null,{"$f":"IF('H01 HC07'!E96=\"\",\"\",'H01 HC07'!E96)","v":""},{"$f":"IF('H01 HC07'!F96=\"\",\"\",'H01 HC07'!F96)","v":""},{"$f":"IF('H01 HC07'!G96=\"\",\"\",'H01 HC07'!G96)","v":""},{"$f":"IF('H01 HC07'!H96=\"\",\"\",'H01 HC07'!H96)","v":""},{"$f":"IF('H01 HC07'!I96=\"\",\"\",'H01 HC07'!I96)","v":""},{"$f":"IF('H01 HC07'!J96=\"\",\"\",'H01 HC07'!J96)","v":""},{"$f":"IF(D704=\"\",\"\",VLOOKUP(D704,#REF!,3,0))","v":""},{"$f":"IF('H01 HC07'!K96=\"\",\"\",'H01 HC07'!K96)","v":""},{"$f":"IF('H01 HC07'!L96=\"\",\"\",'H01 HC07'!L96)","v":""},{"$f":"IF('H01 HC07'!M96=\"\",\"\",'H01 HC07'!M96)","v":""},{"$f":"IF('H01 HC07'!N96=\"\",\"\",'H01 HC07'!N96)","v":""},{"$f":"IF('H01 HC07'!O96=\"\",\"\",'H01 HC07'!O96)","v":""},{"$f":"IF('H01 HC07'!P96=\"\",\"\",'H01 HC07'!P96)","v":""},{"$f":"IF('H01 HC07'!Q96=\"\",\"\",'H01 HC07'!Q96)","v":""},{"$f":"IF('H01 HC07'!R96=\"\",\"\",'H01 HC07'!R96)","v":""},{"$f":"IF('H01 HC07'!S96=\"\",\"\",'H01 HC07'!S96)","v":""},{"$f":"IF('H01 HC07'!T96=\"\",\"\",'H01 HC07'!T96)","v":""}]
[null,{"$f":"IF('H01 HC07'!B97=\"\",\"\",'H01 HC07'!B97)","v":""},{"$f":"IF('H01 HC07'!C97=\"\",\"\",'H01 HC07'!C97)","v":""},{"$f":"IF('H01 HC07'!D97=\"\",\"\",'H01 HC07'!D97)","v":""},null,null,null,null,null,{"$f":"IF('H01 HC07'!E97=\"\",\"\",'H01 HC07'!E97)","v":""},{"$f":"IF('H01 HC07'!F97=\"\",\"\",'H01 HC07'!F97)","v":""},{"$f":"IF('H01 HC07'!G97=\"\",\"\",'H01 HC07'!G97)","v":""},{"$f":"IF('H01 HC07'!H97=\"\",\"\",'H01 HC07'!H97)","v":""},{"$f":"IF('H01 HC07'!I97=\"\",\"\",'H01 HC07'!I97)","v":""},{"$f":"IF('H01 HC07'!J97=\"\",\"\",'H01 HC07'!J97)","v":""},{"$f":"IF(D705=\"\",\"\",VLOOKUP(D705,#REF!,3,0))","v":""},{"$f":"IF('H01 HC07'!K97=\"\",\"\",'H01 HC07'!K97)","v":""},{"$f":"IF('H01 HC07'!L97=\"\",\"\",'H01 HC07'!L97)","v":""},{"$f":"IF('H01 HC07'!M97=\"\",\"\",'H01 HC07'!M97)","v":""},{"$f":"IF('H01 HC07'!N97=\"\",\"\",'H01 HC07'!N97)","v":""},{"$f":"IF('H01 HC07'!O97=\"\",\"\",'H01 HC07'!O97)","v":""},{"$f":"IF('H01 HC07'!P97=\"\",\"\",'H01 HC07'!P97)","v":""},{"$f":"IF('H01 HC07'!Q97=\"\",\"\",'H01 HC07'!Q97)","v":""},{"$f":"IF('H01 HC07'!R97=\"\",\"\",'H01 HC07'!R97)","v":""},{"$f":"IF('H01 HC07'!S97=\"\",\"\",'H01 HC07'!S97)","v":""},{"$f":"IF('H01 HC07'!T97=\"\",\"\",'H01 HC07'!T97)","v":""}]
[null,{"$f":"IF('H01 HC07'!B98=\"\",\"\",'H01 HC07'!B98)","v":""},{"$f":"IF('H01 HC07'!C98=\"\",\"\",'H01 HC07'!C98)","v":""},{"$f":"IF('H01 HC07'!D98=\"\",\"\",'H01 HC07'!D98)","v":""},null,null,null,null,null,{"$f":"IF('H01 HC07'!E98=\"\",\"\",'H01 HC07'!E98)","v":""},{"$f":"IF('H01 HC07'!F98=\"\",\"\",'H01 HC07'!F98)","v":""},{"$f":"IF('H01 HC07'!G98=\"\",\"\",'H01 HC07'!G98)","v":""},{"$f":"IF('H01 HC07'!H98=\"\",\"\",'H01 HC07'!H98)","v":""},{"$f":"IF('H01 HC07'!I98=\"\",\"\",'H01 HC07'!I98)","v":""},{"$f":"IF('H01 HC07'!J98=\"\",\"\",'H01 HC07'!J98)","v":""},{"$f":"IF(D706=\"\",\"\",VLOOKUP(D706,#REF!,3,0))","v":""},{"$f":"IF('H01 HC07'!K98=\"\",\"\",'H01 HC07'!K98)","v":""},{"$f":"IF('H01 HC07'!L98=\"\",\"\",'H01 HC07'!L98)","v":""},{"$f":"IF('H01 HC07'!M98=\"\",\"\",'H01 HC07'!M98)","v":""},{"$f":"IF('H01 HC07'!N98=\"\",\"\",'H01 HC07'!N98)","v":""},{"$f":"IF('H01 HC07'!O98=\"\",\"\",'H01 HC07'!O98)","v":""},{"$f":"IF('H01 HC07'!P98=\"\",\"\",'H01 HC07'!P98)","v":""},{"$f":"IF('H01 HC07'!Q98=\"\",\"\",'H01 HC07'!Q98)","v":""},{"$f":"IF('H01 HC07'!R98=\"\",\"\",'H01 HC07'!R98)","v":""},{"$f":"IF('H01 HC07'!S98=\"\",\"\",'H01 HC07'!S98)","v":""},{"$f":"IF('H01 HC07'!T98=\"\",\"\",'H01 HC07'!T98)","v":""}]
[null,{"$f":"IF('H01 HC07'!B99=\"\",\"\",'H01 HC07'!B99)","v":""},{"$f":"IF('H01 HC07'!C99=\"\",\"\",'H01 HC07'!C99)","v":""},{"$f":"IF('H01 HC07'!D99=\"\",\"\",'H01 HC07'!D99)","v":""},null,null,null,null,null,{"$f":"IF('H01 HC07'!E99=\"\",\"\",'H01 HC07'!E99)","v":""},{"$f":"IF('H01 HC07'!F99=\"\",\"\",'H01 HC07'!F99)","v":""},{"$f":"IF('H01 HC07'!G99=\"\",\"\",'H01 HC07'!G99)","v":""},{"$f":"IF('H01 HC07'!H99=\"\",\"\",'H01 HC07'!H99)","v":""},{"$f":"IF('H01 HC07'!I99=\"\",\"\",'H01 HC07'!I99)","v":""},{"$f":"IF('H01 HC07'!J99=\"\",\"\",'H01 HC07'!J99)","v":""},{"$f":"IF(D707=\"\",\"\",VLOOKUP(D707,#REF!,3,0))","v":""},{"$f":"IF('H01 HC07'!K99=\"\",\"\",'H01 HC07'!K99)","v":""},{"$f":"IF('H01 HC07'!L99=\"\",\"\",'H01 HC07'!L99)","v":""},{"$f":"IF('H01 HC07'!M99=\"\",\"\",'H01 HC07'!M99)","v":""},{"$f":"IF('H01 HC07'!N99=\"\",\"\",'H01 HC07'!N99)","v":""},{"$f":"IF('H01 HC07'!O99=\"\",\"\",'H01 HC07'!O99)","v":""},{"$f":"IF('H01 HC07'!P99=\"\",\"\",'H01 HC07'!P99)","v":""},{"$f":"IF('H01 HC07'!Q99=\"\",\"\",'H01 HC07'!Q99)","v":""},{"$f":"IF('H01 HC07'!R99=\"\",\"\",'H01 HC07'!R99)","v":""},{"$f":"IF('H01 HC07'!S99=\"\",\"\",'H01 HC07'!S99)","v":""},{"$f":"IF('H01 HC07'!T99=\"\",\"\",'H01 HC07'!T99)","v":""}]
[null,{"$f":"IF('H01 HC07'!B100=\"\",\"\",'H01 HC07'!B100)","v":""},{"$f":"IF('H01 HC07'!C100=\"\",\"\",'H01 HC07'!C100)","v":""},{"$f":"IF('H01 HC07'!D100=\"\",\"\",'H01 HC07'!D100)","v":""},null,null,null,null,null,{"$f":"IF('H01 HC07'!E100=\"\",\"\",'H01 HC07'!E100)","v":""},{"$f":"IF('H01 HC07'!F100=\"\",\"\",'H01 HC07'!F100)","v":""},{"$f":"IF('H01 HC07'!G100=\"\",\"\",'H01 HC07'!G100)","v":""},{"$f":"IF('H01 HC07'!H100=\"\",\"\",'H01 HC07'!H100)","v":""},{"$f":"IF('H01 HC07'!I100=\"\",\"\",'H01 HC07'!I100)","v":""},{"$f":"IF('H01 HC07'!J100=\"\",\"\",'H01 HC07'!J100)","v":""},{"$f":"IF(D708=\"\",\"\",VLOOKUP(D708,#REF!,3,0))","v":""},{"$f":"IF('H01 HC07'!K100=\"\",\"\",'H01 HC07'!K100)","v":""},{"$f":"IF('H01 HC07'!L100=\"\",\"\",'H01 HC07'!L100)","v":""},{"$f":"IF('H01 HC07'!M100=\"\",\"\",'H01 HC07'!M100)","v":""},{"$f":"IF('H01 HC07'!N100=\"\",\"\",'H01 HC07'!N100)","v":""},{"$f":"IF('H01 HC07'!O100=\"\",\"\",'H01 HC07'!O100)","v":""},{"$f":"IF('H01 HC07'!P100=\"\",\"\",'H01 HC07'!P100)","v":""},{"$f":"IF('H01 HC07'!Q100=\"\",\"\",'H01 HC07'!Q100)","v":""},{"$f":"IF('H01 HC07'!R100=\"\",\"\",'H01 HC07'!R100)","v":""},{"$f":"IF('H01 HC07'!S100=\"\",\"\",'H01 HC07'!S100)","v":""},{"$f":"IF('H01 HC07'!T100=\"\",\"\",'H01 HC07'!T100)","v":""}]
[null,{"$f":"IF('H01 HC07'!B101=\"\",\"\",'H01 HC07'!B101)","v":""},{"$f":"IF('H01 HC07'!C101=\"\",\"\",'H01 HC07'!C101)","v":""},{"$f":"IF('H01 HC07'!D101=\"\",\"\",'H01 HC07'!D101)","v":""},null,null,null,null,null,{"$f":"IF('H01 HC07'!E101=\"\",\"\",'H01 HC07'!E101)","v":""},{"$f":"IF('H01 HC07'!F101=\"\",\"\",'H01 HC07'!F101)","v":""},{"$f":"IF('H01 HC07'!G101=\"\",\"\",'H01 HC07'!G101)","v":""},{"$f":"IF('H01 HC07'!H101=\"\",\"\",'H01 HC07'!H101)","v":""},{"$f":"IF('H01 HC07'!I101=\"\",\"\",'H01 HC07'!I101)","v":""},{"$f":"IF('H01 HC07'!J101=\"\",\"\",'H01 HC07'!J101)","v":""},{"$f":"IF(D709=\"\",\"\",VLOOKUP(D709,#REF!,3,0))","v":""},{"$f":"IF('H01 HC07'!K101=\"\",\"\",'H01 HC07'!K101)","v":""},{"$f":"IF('H01 HC07'!L101=\"\",\"\",'H01 HC07'!L101)","v":""},{"$f":"IF('H01 HC07'!M101=\"\",\"\",'H01 HC07'!M101)","v":""},{"$f":"IF('H01 HC07'!N101=\"\",\"\",'H01 HC07'!N101)","v":""},{"$f":"IF('H01 HC07'!O101=\"\",\"\",'H01 HC07'!O101)","v":""},{"$f":"IF('H01 HC07'!P101=\"\",\"\",'H01 HC07'!P101)","v":""},{"$f":"IF('H01 HC07'!Q101=\"\",\"\",'H01 HC07'!Q101)","v":""},{"$f":"IF('H01 HC07'!R101=\"\",\"\",'H01 HC07'!R101)","v":""},{"$f":"IF('H01 HC07'!S101=\"\",\"\",'H01 HC07'!S101)","v":""},{"$f":"IF('H01 HC07'!T101=\"\",\"\",'H01 HC07'!T101)","v":""}]
[null,{"$f":"IF('H01 HC07'!B102=\"\",\"\",'H01 HC07'!B102)","v":""},{"$f":"IF('H01 HC07'!C102=\"\",\"\",'H01 HC07'!C102)","v":""},{"$f":"IF('H01 HC07'!D102=\"\",\"\",'H01 HC07'!D102)","v":""},null,null,null,null,null,{"$f":"IF('H01 HC07'!E102=\"\",\"\",'H01 HC07'!E102)","v":""},{"$f":"IF('H01 HC07'!F102=\"\",\"\",'H01 HC07'!F102)","v":""},{"$f":"IF('H01 HC07'!G102=\"\",\"\",'H01 HC07'!G102)","v":""},{"$f":"IF('H01 HC07'!H102=\"\",\"\",'H01 HC07'!H102)","v":""},{"$f":"IF('H01 HC07'!I102=\"\",\"\",'H01 HC07'!I102)","v":""},{"$f":"IF('H01 HC07'!J102=\"\",\"\",'H01 HC07'!J102)","v":""},{"$f":"IF(D710=\"\",\"\",VLOOKUP(D710,#REF!,3,0))","v":""},{"$f":"IF('H01 HC07'!K102=\"\",\"\",'H01 HC07'!K102)","v":""},{"$f":"IF('H01 HC07'!L102=\"\",\"\",'H01 HC07'!L102)","v":""},{"$f":"IF('H01 HC07'!M102=\"\",\"\",'H01 HC07'!M102)","v":""},{"$f":"IF('H01 HC07'!N102=\"\",\"\",'H01 HC07'!N102)","v":""},{"$f":"IF('H01 HC07'!O102=\"\",\"\",'H01 HC07'!O102)","v":""},{"$f":"IF('H01 HC07'!P102=\"\",\"\",'H01 HC07'!P102)","v":""},{"$f":"IF('H01 HC07'!Q102=\"\",\"\",'H01 HC07'!Q102)","v":""},{"$f":"IF('H01 HC07'!R102=\"\",\"\",'H01 HC07'!R102)","v":""},{"$f":"IF('H01 HC07'!S102=\"\",\"\",'H01 HC07'!S102)","v":""},{"$f":"IF('H01 HC07'!T102=\"\",\"\",'H01 HC07'!T102)","v":""}]
[null,{"$f":"IF('H01 HC07'!B103=\"\",\"\",'H01 HC07'!B103)","v":""},{"$f":"IF('H01 HC07'!C103=\"\",\"\",'H01 HC07'!C103)","v":""},{"$f":"IF('H01 HC07'!D103=\"\",\"\",'H01 HC07'!D103)","v":""},null,null,null,null,null,{"$f":"IF('H01 HC07'!E103=\"\",\"\",'H01 HC07'!E103)","v":""},{"$f":"IF('H01 HC07'!F103=\"\",\"\",'H01 HC07'!F103)","v":""},{"$f":"IF('H01 HC07'!G103=\"\",\"\",'H01 HC07'!G103)","v":""},{"$f":"IF('H01 HC07'!H103=\"\",\"\",'H01 HC07'!H103)","v":""},{"$f":"IF('H01 HC07'!I103=\"\",\"\",'H01 HC07'!I103)","v":""},{"$f":"IF('H01 HC07'!J103=\"\",\"\",'H01 HC07'!J103)","v":""},{"$f":"IF(D711=\"\",\"\",VLOOKUP(D711,#REF!,3,0))","v":""},{"$f":"IF('H01 HC07'!K103=\"\",\"\",'H01 HC07'!K103)","v":""},{"$f":"IF('H01 HC07'!L103=\"\",\"\",'H01 HC07'!L103)","v":""},{"$f":"IF('H01 HC07'!M103=\"\",\"\",'H01 HC07'!M103)","v":""},{"$f":"IF('H01 HC07'!N103=\"\",\"\",'H01 HC07'!N103)","v":""},{"$f":"IF('H01 HC07'!O103=\"\",\"\",'H01 HC07'!O103)","v":""},{"$f":"IF('H01 HC07'!P103=\"\",\"\",'H01 HC07'!P103)","v":""},{"$f":"IF('H01 HC07'!Q103=\"\",\"\",'H01 HC07'!Q103)","v":""},{"$f":"IF('H01 HC07'!R103=\"\",\"\",'H01 HC07'!R103)","v":""},{"$f":"IF('H01 HC07'!S103=\"\",\"\",'H01 HC07'!S103)","v":""},{"$f":"IF('H01 HC07'!T103=\"\",\"\",'H01 HC07'!T103)","v":""}]
[null,{"$f":"IF('H01 HC07'!B104=\"\",\"\",'H01 HC07'!B104)","v":""},{"$f":"IF('H01 HC07'!C104=\"\",\"\",'H01 HC07'!C104)","v":""},{"$f":"IF('H01 HC07'!D104=\"\",\"\",'H01 HC07'!D104)","v":""},null,null,null,null,null,{"$f":"IF('H01 HC07'!E104=\"\",\"\",'H01 HC07'!E104)","v":""},{"$f":"IF('H01 HC07'!F104=\"\",\"\",'H01 HC07'!F104)","v":""},{"$f":"IF('H01 HC07'!G104=\"\",\"\",'H01 HC07'!G104)","v":""},{"$f":"IF('H01 HC07'!H104=\"\",\"\",'H01 HC07'!H104)","v":""},{"$f":"IF('H01 HC07'!I104=\"\",\"\",'H01 HC07'!I104)","v":""},{"$f":"IF('H01 HC07'!J104=\"\",\"\",'H01 HC07'!J104)","v":""},{"$f":"IF(D712=\"\",\"\",VLOOKUP(D712,#REF!,3,0))","v":""},{"$f":"IF('H01 HC07'!K104=\"\",\"\",'H01 HC07'!K104)","v":""},{"$f":"IF('H01 HC07'!L104=\"\",\"\",'H01 HC07'!L104)","v":""},{"$f":"IF('H01 HC07'!M104=\"\",\"\",'H01 HC07'!M104)","v":""},{"$f":"IF('H01 HC07'!N104=\"\",\"\",'H01 HC07'!N104)","v":""},{"$f":"IF('H01 HC07'!O104=\"\",\"\",'H01 HC07'!O104)","v":""},{"$f":"IF('H01 HC07'!P104=\"\",\"\",'H01 HC07'!P104)","v":""},{"$f":"IF('H01 HC07'!Q104=\"\",\"\",'H01 HC07'!Q104)","v":""},{"$f":"IF('H01 HC07'!R104=\"\",\"\",'H01 HC07'!R104)","v":""},{"$f":"IF('H01 HC07'!S104=\"\",\"\",'H01 HC07'!S104)","v":""},{"$f":"IF('H01 HC07'!T104=\"\",\"\",'H01 HC07'!T104)","v":""}]
[null,{"$f":"IF('H01 HC07'!B105=\"\",\"\",'H01 HC07'!B105)","v":""},{"$f":"IF('H01 HC07'!C105=\"\",\"\",'H01 HC07'!C105)","v":""},{"$f":"IF('H01 HC07'!D105=\"\",\"\",'H01 HC07'!D105)","v":""},null,null,null,null,null,{"$f":"IF('H01 HC07'!E105=\"\",\"\",'H01 HC07'!E105)","v":""},{"$f":"IF('H01 HC07'!F105=\"\",\"\",'H01 HC07'!F105)","v":""},{"$f":"IF('H01 HC07'!G105=\"\",\"\",'H01 HC07'!G105)","v":""},{"$f":"IF('H01 HC07'!H105=\"\",\"\",'H01 HC07'!H105)","v":""},{"$f":"IF('H01 HC07'!I105=\"\",\"\",'H01 HC07'!I105)","v":""},{"$f":"IF('H01 HC07'!J105=\"\",\"\",'H01 HC07'!J105)","v":""},{"$f":"IF(D713=\"\",\"\",VLOOKUP(D713,#REF!,3,0))","v":""},{"$f":"IF('H01 HC07'!K105=\"\",\"\",'H01 HC07'!K105)","v":""},{"$f":"IF('H01 HC07'!L105=\"\",\"\",'H01 HC07'!L105)","v":""},{"$f":"IF('H01 HC07'!M105=\"\",\"\",'H01 HC07'!M105)","v":""},{"$f":"IF('H01 HC07'!N105=\"\",\"\",'H01 HC07'!N105)","v":""},{"$f":"IF('H01 HC07'!O105=\"\",\"\",'H01 HC07'!O105)","v":""},{"$f":"IF('H01 HC07'!P105=\"\",\"\",'H01 HC07'!P105)","v":""},{"$f":"IF('H01 HC07'!Q105=\"\",\"\",'H01 HC07'!Q105)","v":""},{"$f":"IF('H01 HC07'!R105=\"\",\"\",'H01 HC07'!R105)","v":""},{"$f":"IF('H01 HC07'!S105=\"\",\"\",'H01 HC07'!S105)","v":""},{"$f":"IF('H01 HC07'!T105=\"\",\"\",'H01 HC07'!T105)","v":""}]
[null,{"$f":"IF('H01 HC07'!B106=\"\",\"\",'H01 HC07'!B106)","v":""},{"$f":"IF('H01 HC07'!C106=\"\",\"\",'H01 HC07'!C106)","v":""},{"$f":"IF('H01 HC07'!D106=\"\",\"\",'H01 HC07'!D106)","v":""},null,null,null,null,null,{"$f":"IF('H01 HC07'!E106=\"\",\"\",'H01 HC07'!E106)","v":""},{"$f":"IF('H01 HC07'!F106=\"\",\"\",'H01 HC07'!F106)","v":""},{"$f":"IF('H01 HC07'!G106=\"\",\"\",'H01 HC07'!G106)","v":""},{"$f":"IF('H01 HC07'!H106=\"\",\"\",'H01 HC07'!H106)","v":""},{"$f":"IF('H01 HC07'!I106=\"\",\"\",'H01 HC07'!I106)","v":""},{"$f":"IF('H01 HC07'!J106=\"\",\"\",'H01 HC07'!J106)","v":""},{"$f":"IF(D714=\"\",\"\",VLOOKUP(D714,#REF!,3,0))","v":""},{"$f":"IF('H01 HC07'!K106=\"\",\"\",'H01 HC07'!K106)","v":""},{"$f":"IF('H01 HC07'!L106=\"\",\"\",'H01 HC07'!L106)","v":""},{"$f":"IF('H01 HC07'!M106=\"\",\"\",'H01 HC07'!M106)","v":""},{"$f":"IF('H01 HC07'!N106=\"\",\"\",'H01 HC07'!N106)","v":""},{"$f":"IF('H01 HC07'!O106=\"\",\"\",'H01 HC07'!O106)","v":""},{"$f":"IF('H01 HC07'!P106=\"\",\"\",'H01 HC07'!P106)","v":""},{"$f":"IF('H01 HC07'!Q106=\"\",\"\",'H01 HC07'!Q106)","v":""},{"$f":"IF('H01 HC07'!R106=\"\",\"\",'H01 HC07'!R106)","v":""},{"$f":"IF('H01 HC07'!S106=\"\",\"\",'H01 HC07'!S106)","v":""},{"$f":"IF('H01 HC07'!T106=\"\",\"\",'H01 HC07'!T106)","v":""}]
[null,{"$f":"IF('H01 HC08'!B7=\"\",\"\",'H01 HC08'!B7)","v":"H01"},{"$f":"IF('H01 HC08'!C7=\"\",\"\",'H01 HC08'!C7)","v":"HC08"},{"$f":"IF('H01 HC08'!D7=\"\",\"\",'H01 HC08'!D7)","v":"QMA"},null,null,null,null,null,{"$f":"IF('H01 HC08'!E7=\"\",\"\",'H01 HC08'!E7)","v":"01"},{"$f":"IF('H01 HC08'!F7=\"\",\"\",'H01 HC08'!F7)","v":"=H01:HC08:QMA01"},{"$f":"IF('H01 HC08'!G7=\"\",\"\",'H01 HC08'!G7)","v":""},{"$f":"IF('H01 HC08'!H7=\"\",\"\",'H01 HC08'!H7)","v":""},{"$f":"IF('H01 HC08'!I7=\"\",\"\",'H01 HC08'!I7)","v":""},null,null,{"$f":"IF('H01 HC08'!K7=\"\",\"\",'H01 HC08'!K7)","v":""},{"$f":"IF('H01 HC08'!L7=\"\",\"\",'H01 HC08'!L7)","v":"VIRA"},{"$f":"IF('H01 HC08'!M7=\"\",\"\",'H01 HC08'!M7)","v":"KVLE_P"},{"$f":"IF('H01 HC08'!N7=\"\",\"\",'H01 HC08'!N7)","v":"DN150"},{"$f":"IF('H01 HC08'!O7=\"\",\"\",'H01 HC08'!O7)","v":"KVLE-P_DN150"},{"$f":"IF('H01 HC08'!P7=\"\",\"\",'H01 HC08'!P7)","v":""},{"$f":"IF('H01 HC08'!Q7=\"\",\"\",'H01 HC08'!Q7)","v":""},{"$f":"IF('H01 HC08'!R7=\"\",\"\",'H01 HC08'!R7)","v":""},{"$f":"IF('H01 HC08'!S7=\"\",\"\",'H01 HC08'!S7)","v":""},{"$f":"IF('H01 HC08'!T7=\"\",\"\",'H01 HC08'!T7)","v":""}]
[null,{"$f":"IF('H01 HC08'!B8=\"\",\"\",'H01 HC08'!B8)","v":"H01"},{"$f":"IF('H01 HC08'!C8=\"\",\"\",'H01 HC08'!C8)","v":"HC08"},{"$f":"IF('H01 HC08'!D8=\"\",\"\",'H01 HC08'!D8)","v":"QMA"},null,null,null,null,null,{"$f":"IF('H01 HC08'!E8=\"\",\"\",'H01 HC08'!E8)","v":"02"},{"$f":"IF('H01 HC08'!F8=\"\",\"\",'H01 HC08'!F8)","v":"=H01:HC08:QMA02"},{"$f":"IF('H01 HC08'!G8=\"\",\"\",'H01 HC08'!G8)","v":""},{"$f":"IF('H01 HC08'!H8=\"\",\"\",'H01 HC08'!H8)","v":""},{"$f":"IF('H01 HC08'!I8=\"\",\"\",'H01 HC08'!I8)","v":""},null,null,{"$f":"IF('H01 HC08'!K8=\"\",\"\",'H01 HC08'!K8)","v":""},{"$f":"IF('H01 HC08'!L8=\"\",\"\",'H01 HC08'!L8)","v":"VIRA"},{"$f":"IF('H01 HC08'!M8=\"\",\"\",'H01 HC08'!M8)","v":"KVLE_P"},{"$f":"IF('H01 HC08'!N8=\"\",\"\",'H01 HC08'!N8)","v":"DN150"},{"$f":"IF('H01 HC08'!O8=\"\",\"\",'H01 HC08'!O8)","v":"KVLE-P_DN150"},{"$f":"IF('H01 HC08'!P8=\"\",\"\",'H01 HC08'!P8)","v":""},{"$f":"IF('H01 HC08'!Q8=\"\",\"\",'H01 HC08'!Q8)","v":""},{"$f":"IF('H01 HC08'!R8=\"\",\"\",'H01 HC08'!R8)","v":""},{"$f":"IF('H01 HC08'!S8=\"\",\"\",'H01 HC08'!S8)","v":""},{"$f":"IF('H01 HC08'!T8=\"\",\"\",'H01 HC08'!T8)","v":""}]
[null,{"$f":"IF('H01 HC08'!B9=\"\",\"\",'H01 HC08'!B9)","v":"H01"},{"$f":"IF('H01 HC08'!C9=\"\",\"\",'H01 HC08'!C9)","v":"HC08"},{"$f":"IF('H01 HC08'!D9=\"\",\"\",'H01 HC08'!D9)","v":"RMB"},null,null,null,null,null,{"$f":"IF('H01 HC08'!E9=\"\",\"\",'H01 HC08'!E9)","v":"01"},{"$f":"IF('H01 HC08'!F9=\"\",\"\",'H01 HC08'!F9)","v":"=H01:HC08:RMB01"},{"$f":"IF('H01 HC08'!G9=\"\",\"\",'H01 HC08'!G9)","v":""},{"$f":"IF('H01 HC08'!H9=\"\",\"\",'H01 HC08'!H9)","v":""},{"$f":"IF('H01 HC08'!I9=\"\",\"\",'H01 HC08'!I9)","v":""},null,null,{"$f":"IF('H01 HC08'!K9=\"\",\"\",'H01 HC08'!K9)","v":""},{"$f":"IF('H01 HC08'!L9=\"\",\"\",'H01 HC08'!L9)","v":"Broen"},{"$f":"IF('H01 HC08'!M9=\"\",\"\",'H01 HC08'!M9)","v":"Ballorex Venturi"},{"$f":"IF('H01 HC08'!N9=\"\",\"\",'H01 HC08'!N9)","v":"DN150"},{"$f":"IF('H01 HC08'!O9=\"\",\"\",'H01 HC08'!O9)","v":406942118},{"$f":"IF('H01 HC08'!P9=\"\",\"\",'H01 HC08'!P9)","v":""},{"$f":"IF('H01 HC08'!Q9=\"\",\"\",'H01 HC08'!Q9)","v":""},{"$f":"IF('H01 HC08'!R9=\"\",\"\",'H01 HC08'!R9)","v":""},{"$f":"IF('H01 HC08'!S9=\"\",\"\",'H01 HC08'!S9)","v":""},{"$f":"IF('H01 HC08'!T9=\"\",\"\",'H01 HC08'!T9)","v":""}]
[null,{"$f":"IF('H01 HC08'!B10=\"\",\"\",'H01 HC08'!B10)","v":"H01"},{"$f":"IF('H01 HC08'!C10=\"\",\"\",'H01 HC08'!C10)","v":"HC08"},{"$f":"IF('H01 HC08'!D10=\"\",\"\",'H01 HC08'!D10)","v":"RMB"},null,null,null,null,null,{"$f":"IF('H01 HC08'!E10=\"\",\"\",'H01 HC08'!E10)","v":"02"},{"$f":"IF('H01 HC08'!F10=\"\",\"\",'H01 HC08'!F10)","v":"=H01:HC08:RMB02"},{"$f":"IF('H01 HC08'!G10=\"\",\"\",'H01 HC08'!G10)","v":""},{"$f":"IF('H01 HC08'!H10=\"\",\"\",'H01 HC08'!H10)","v":""},{"$f":"IF('H01 HC08'!I10=\"\",\"\",'H01 HC08'!I10)","v":""},null,null,{"$f":"IF('H01 HC08'!K10=\"\",\"\",'H01 HC08'!K10)","v":""},{"$f":"IF('H01 HC08'!L10=\"\",\"\",'H01 HC08'!L10)","v":"Broen"},{"$f":"IF('H01 HC08'!M10=\"\",\"\",'H01 HC08'!M10)","v":"Ballorex Venturi"},{"$f":"IF('H01 HC08'!N10=\"\",\"\",'H01 HC08'!N10)","v":"DN150"},{"$f":"IF('H01 HC08'!O10=\"\",\"\",'H01 HC08'!O10)","v":406942118},{"$f":"IF('H01 HC08'!P10=\"\",\"\",'H01 HC08'!P10)","v":""},{"$f":"IF('H01 HC08'!Q10=\"\",\"\",'H01 HC08'!Q10)","v":""},{"$f":"IF('H01 HC08'!R10=\"\",\"\",'H01 HC08'!R10)","v":""},{"$f":"IF('H01 HC08'!S10=\"\",\"\",'H01 HC08'!S10)","v":""},{"$f":"IF('H01 HC08'!T10=\"\",\"\",'H01 HC08'!T10)","v":""}]
[null,{"$f":"IF('H01 HC08'!B11=\"\",\"\",'H01 HC08'!B11)","v":"H01"},{"$f":"IF('H01 HC08'!C11=\"\",\"\",'H01 HC08'!C11)","v":"HC08"},{"$f":"IF('H01 HC08'!D11=\"\",\"\",'H01 HC08'!D11)","v":"GPA"},null,null,null,null,null,{"$f":"IF('H01 HC08'!E11=\"\",\"\",'H01 HC08'!E11)","v":"01"},{"$f":"IF('H01 HC08'!F11=\"\",\"\",'H01 HC08'!F11)","v":"=H01:HC08:GPA01"},{"$f":"IF('H01 HC08'!G11=\"\",\"\",'H01 HC08'!G11)","v":""},{"$f":"IF('H01 HC08'!H11=\"\",\"\",'H01 HC08'!H11)","v":""},{"$f":"IF('H01 HC08'!I11=\"\",\"\",'H01 HC08'!I11)","v":""},null,null,{"$f":"IF('H01 HC08'!K11=\"\",\"\",'H01 HC08'!K11)","v":""},{"$f":"IF('H01 HC08'!L11=\"\",\"\",'H01 HC08'!L11)","v":""},{"$f":"IF('H01 HC08'!M11=\"\",\"\",'H01 HC08'!M11)","v":""},{"$f":"IF('H01 HC08'!N11=\"\",\"\",'H01 HC08'!N11)","v":""},{"$f":"IF('H01 HC08'!O11=\"\",\"\",'H01 HC08'!O11)","v":""},{"$f":"IF('H01 HC08'!P11=\"\",\"\",'H01 HC08'!P11)","v":""},{"$f":"IF('H01 HC08'!Q11=\"\",\"\",'H01 HC08'!Q11)","v":""},{"$f":"IF('H01 HC08'!R11=\"\",\"\",'H01 HC08'!R11)","v":""},{"$f":"IF('H01 HC08'!S11=\"\",\"\",'H01 HC08'!S11)","v":""},{"$f":"IF('H01 HC08'!T11=\"\",\"\",'H01 HC08'!T11)","v":""}]
[null,{"$f":"IF('H01 HC08'!B12=\"\",\"\",'H01 HC08'!B12)","v":"H01"},{"$f":"IF('H01 HC08'!C12=\"\",\"\",'H01 HC08'!C12)","v":"HC08"},{"$f":"IF('H01 HC08'!D12=\"\",\"\",'H01 HC08'!D12)","v":"QNA"},null,null,null,null,null,{"$f":"IF('H01 HC08'!E12=\"\",\"\",'H01 HC08'!E12)","v":"01"},{"$f":"IF('H01 HC08'!F12=\"\",\"\",'H01 HC08'!F12)","v":"=H01:HC08:QNA01"},{"$f":"IF('H01 HC08'!G12=\"\",\"\",'H01 HC08'!G12)","v":""},{"$f":"IF('H01 HC08'!H12=\"\",\"\",'H01 HC08'!H12)","v":""},{"$f":"IF('H01 HC08'!I12=\"\",\"\",'H01 HC08'!I12)","v":""},null,null,{"$f":"IF('H01 HC08'!K12=\"\",\"\",'H01 HC08'!K12)","v":""},{"$f":"IF('H01 HC08'!L12=\"\",\"\",'H01 HC08'!L12)","v":""},{"$f":"IF('H01 HC08'!M12=\"\",\"\",'H01 HC08'!M12)","v":""},{"$f":"IF('H01 HC08'!N12=\"\",\"\",'H01 HC08'!N12)","v":""},{"$f":"IF('H01 HC08'!O12=\"\",\"\",'H01 HC08'!O12)","v":""},{"$f":"IF('H01 HC08'!P12=\"\",\"\",'H01 HC08'!P12)","v":""},{"$f":"IF('H01 HC08'!Q12=\"\",\"\",'H01 HC08'!Q12)","v":""},{"$f":"IF('H01 HC08'!R12=\"\",\"\",'H01 HC08'!R12)","v":""},{"$f":"IF('H01 HC08'!S12=\"\",\"\",'H01 HC08'!S12)","v":""},{"$f":"IF('H01 HC08'!T12=\"\",\"\",'H01 HC08'!T12)","v":""}]
[null,{"$f":"IF('H01 HC08'!B13=\"\",\"\",'H01 HC08'!B13)","v":"H01"},{"$f":"IF('H01 HC08'!C13=\"\",\"\",'H01 HC08'!C13)","v":"HC08"},{"$f":"IF('H01 HC08'!D13=\"\",\"\",'H01 HC08'!D13)","v":"RMA"},null,null,null,null,null,{"$f":"IF('H01 HC08'!E13=\"\",\"\",'H01 HC08'!E13)","v":"01"},{"$f":"IF('H01 HC08'!F13=\"\",\"\",'H01 HC08'!F13)","v":"=H01:HC08:RMA01"},{"$f":"IF('H01 HC08'!G13=\"\",\"\",'H01 HC08'!G13)","v":""},{"$f":"IF('H01 HC08'!H13=\"\",\"\",'H01 HC08'!H13)","v":""},{"$f":"IF('H01 HC08'!I13=\"\",\"\",'H01 HC08'!I13)","v":""},null,null,{"$f":"IF('H01 HC08'!K13=\"\",\"\",'H01 HC08'!K13)","v":""},{"$f":"IF('H01 HC08'!L13=\"\",\"\",'H01 HC08'!L13)","v":"VIRA"},{"$f":"IF('H01 HC08'!M13=\"\",\"\",'H01 HC08'!M13)","v":"WDCV_D"},{"$f":"IF('H01 HC08'!N13=\"\",\"\",'H01 HC08'!N13)","v":"DN150"},{"$f":"IF('H01 HC08'!O13=\"\",\"\",'H01 HC08'!O13)","v":"WDCV-D_DN150"},{"$f":"IF('H01 HC08'!P13=\"\",\"\",'H01 HC08'!P13)","v":""},{"$f":"IF('H01 HC08'!Q13=\"\",\"\",'H01 HC08'!Q13)","v":""},{"$f":"IF('H01 HC08'!R13=\"\",\"\",'H01 HC08'!R13)","v":""},{"$f":"IF('H01 HC08'!S13=\"\",\"\",'H01 HC08'!S13)","v":""},{"$f":"IF('H01 HC08'!T13=\"\",\"\",'H01 HC08'!T13)","v":""}]
[null,{"$f":"IF('H01 HC08'!B14=\"\",\"\",'H01 HC08'!B14)","v":""},{"$f":"IF('H01 HC08'!C14=\"\",\"\",'H01 HC08'!C14)","v":""},{"$f":"IF('H01 HC08'!D14=\"\",\"\",'H01 HC08'!D14)","v":""},null,null,null,null,null,{"$f":"IF('H01 HC08'!E14=\"\",\"\",'H01 HC08'!E14)","v":""},{"$f":"IF('H01 HC08'!F14=\"\",\"\",'H01 HC08'!F14)","v":""},{"$f":"IF('H01 HC08'!G14=\"\",\"\",'H01 HC08'!G14)","v":""},{"$f":"IF('H01 HC08'!H14=\"\",\"\",'H01 HC08'!H14)","v":""},{"$f":"IF('H01 HC08'!I14=\"\",\"\",'H01 HC08'!I14)","v":""},{"$f":"IF('H01 HC08'!J14=\"\",\"\",'H01 HC08'!J14)","v":""},{"$f":"IF(D722=\"\",\"\",VLOOKUP(D722,#REF!,3,0))","v":""},{"$f":"IF('H01 HC08'!K14=\"\",\"\",'H01 HC08'!K14)","v":""},{"$f":"IF('H01 HC08'!L14=\"\",\"\",'H01 HC08'!L14)","v":""},{"$f":"IF('H01 HC08'!M14=\"\",\"\",'H01 HC08'!M14)","v":""},{"$f":"IF('H01 HC08'!N14=\"\",\"\",'H01 HC08'!N14)","v":""},{"$f":"IF('H01 HC08'!O14=\"\",\"\",'H01 HC08'!O14)","v":""},{"$f":"IF('H01 HC08'!P14=\"\",\"\",'H01 HC08'!P14)","v":""},{"$f":"IF('H01 HC08'!Q14=\"\",\"\",'H01 HC08'!Q14)","v":""},{"$f":"IF('H01 HC08'!R14=\"\",\"\",'H01 HC08'!R14)","v":""},{"$f":"IF('H01 HC08'!S14=\"\",\"\",'H01 HC08'!S14)","v":""},{"$f":"IF('H01 HC08'!T14=\"\",\"\",'H01 HC08'!T14)","v":""}]
[null,{"$f":"IF('H01 HC08'!B15=\"\",\"\",'H01 HC08'!B15)","v":""},{"$f":"IF('H01 HC08'!C15=\"\",\"\",'H01 HC08'!C15)","v":""},{"$f":"IF('H01 HC08'!D15=\"\",\"\",'H01 HC08'!D15)","v":""},null,null,null,null,null,{"$f":"IF('H01 HC08'!E15=\"\",\"\",'H01 HC08'!E15)","v":""},{"$f":"IF('H01 HC08'!F15=\"\",\"\",'H01 HC08'!F15)","v":""},{"$f":"IF('H01 HC08'!G15=\"\",\"\",'H01 HC08'!G15)","v":""},{"$f":"IF('H01 HC08'!H15=\"\",\"\",'H01 HC08'!H15)","v":""},{"$f":"IF('H01 HC08'!I15=\"\",\"\",'H01 HC08'!I15)","v":""},{"$f":"IF('H01 HC08'!J15=\"\",\"\",'H01 HC08'!J15)","v":""},{"$f":"IF(D723=\"\",\"\",VLOOKUP(D723,#REF!,3,0))","v":""},{"$f":"IF('H01 HC08'!K15=\"\",\"\",'H01 HC08'!K15)","v":""},{"$f":"IF('H01 HC08'!L15=\"\",\"\",'H01 HC08'!L15)","v":""},{"$f":"IF('H01 HC08'!M15=\"\",\"\",'H01 HC08'!M15)","v":""},{"$f":"IF('H01 HC08'!N15=\"\",\"\",'H01 HC08'!N15)","v":""},{"$f":"IF('H01 HC08'!O15=\"\",\"\",'H01 HC08'!O15)","v":""},{"$f":"IF('H01 HC08'!P15=\"\",\"\",'H01 HC08'!P15)","v":""},{"$f":"IF('H01 HC08'!Q15=\"\",\"\",'H01 HC08'!Q15)","v":""},{"$f":"IF('H01 HC08'!R15=\"\",\"\",'H01 HC08'!R15)","v":""},{"$f":"IF('H01 HC08'!S15=\"\",\"\",'H01 HC08'!S15)","v":""},{"$f":"IF('H01 HC08'!T15=\"\",\"\",'H01 HC08'!T15)","v":""}]
[null,{"$f":"IF('H01 HC08'!B16=\"\",\"\",'H01 HC08'!B16)","v":""},{"$f":"IF('H01 HC08'!C16=\"\",\"\",'H01 HC08'!C16)","v":""},{"$f":"IF('H01 HC08'!D16=\"\",\"\",'H01 HC08'!D16)","v":""},null,null,null,null,null,{"$f":"IF('H01 HC08'!E16=\"\",\"\",'H01 HC08'!E16)","v":""},{"$f":"IF('H01 HC08'!F16=\"\",\"\",'H01 HC08'!F16)","v":""},{"$f":"IF('H01 HC08'!G16=\"\",\"\",'H01 HC08'!G16)","v":""},{"$f":"IF('H01 HC08'!H16=\"\",\"\",'H01 HC08'!H16)","v":""},{"$f":"IF('H01 HC08'!I16=\"\",\"\",'H01 HC08'!I16)","v":""},{"$f":"IF('H01 HC08'!J16=\"\",\"\",'H01 HC08'!J16)","v":""},{"$f":"IF(D724=\"\",\"\",VLOOKUP(D724,#REF!,3,0))","v":""},{"$f":"IF('H01 HC08'!K16=\"\",\"\",'H01 HC08'!K16)","v":""},{"$f":"IF('H01 HC08'!L16=\"\",\"\",'H01 HC08'!L16)","v":""},{"$f":"IF('H01 HC08'!M16=\"\",\"\",'H01 HC08'!M16)","v":""},{"$f":"IF('H01 HC08'!N16=\"\",\"\",'H01 HC08'!N16)","v":""},{"$f":"IF('H01 HC08'!O16=\"\",\"\",'H01 HC08'!O16)","v":""},{"$f":"IF('H01 HC08'!P16=\"\",\"\",'H01 HC08'!P16)","v":""},{"$f":"IF('H01 HC08'!Q16=\"\",\"\",'H01 HC08'!Q16)","v":""},{"$f":"IF('H01 HC08'!R16=\"\",\"\",'H01 HC08'!R16)","v":""},{"$f":"IF('H01 HC08'!S16=\"\",\"\",'H01 HC08'!S16)","v":""},{"$f":"IF('H01 HC08'!T16=\"\",\"\",'H01 HC08'!T16)","v":""}]
[null,{"$f":"IF('H01 HC08'!B17=\"\",\"\",'H01 HC08'!B17)","v":""},{"$f":"IF('H01 HC08'!C17=\"\",\"\",'H01 HC08'!C17)","v":""},{"$f":"IF('H01 HC08'!D17=\"\",\"\",'H01 HC08'!D17)","v":""},null,null,null,null,null,{"$f":"IF('H01 HC08'!E17=\"\",\"\",'H01 HC08'!E17)","v":""},{"$f":"IF('H01 HC08'!F17=\"\",\"\",'H01 HC08'!F17)","v":""},{"$f":"IF('H01 HC08'!G17=\"\",\"\",'H01 HC08'!G17)","v":""},{"$f":"IF('H01 HC08'!H17=\"\",\"\",'H01 HC08'!H17)","v":""},{"$f":"IF('H01 HC08'!I17=\"\",\"\",'H01 HC08'!I17)","v":""},{"$f":"IF('H01 HC08'!J17=\"\",\"\",'H01 HC08'!J17)","v":""},{"$f":"IF(D725=\"\",\"\",VLOOKUP(D725,#REF!,3,0))","v":""},{"$f":"IF('H01 HC08'!K17=\"\",\"\",'H01 HC08'!K17)","v":""},{"$f":"IF('H01 HC08'!L17=\"\",\"\",'H01 HC08'!L17)","v":""},{"$f":"IF('H01 HC08'!M17=\"\",\"\",'H01 HC08'!M17)","v":""},{"$f":"IF('H01 HC08'!N17=\"\",\"\",'H01 HC08'!N17)","v":""},{"$f":"IF('H01 HC08'!O17=\"\",\"\",'H01 HC08'!O17)","v":""},{"$f":"IF('H01 HC08'!P17=\"\",\"\",'H01 HC08'!P17)","v":""},{"$f":"IF('H01 HC08'!Q17=\"\",\"\",'H01 HC08'!Q17)","v":""},{"$f":"IF('H01 HC08'!R17=\"\",\"\",'H01 HC08'!R17)","v":""},{"$f":"IF('H01 HC08'!S17=\"\",\"\",'H01 HC08'!S17)","v":""},{"$f":"IF('H01 HC08'!T17=\"\",\"\",'H01 HC08'!T17)","v":""}]
[null,{"$f":"IF('H01 HC08'!B18=\"\",\"\",'H01 HC08'!B18)","v":""},{"$f":"IF('H01 HC08'!C18=\"\",\"\",'H01 HC08'!C18)","v":""},{"$f":"IF('H01 HC08'!D18=\"\",\"\",'H01 HC08'!D18)","v":""},null,null,null,null,null,{"$f":"IF('H01 HC08'!E18=\"\",\"\",'H01 HC08'!E18)","v":""},{"$f":"IF('H01 HC08'!F18=\"\",\"\",'H01 HC08'!F18)","v":""},{"$f":"IF('H01 HC08'!G18=\"\",\"\",'H01 HC08'!G18)","v":""},{"$f":"IF('H01 HC08'!H18=\"\",\"\",'H01 HC08'!H18)","v":""},{"$f":"IF('H01 HC08'!I18=\"\",\"\",'H01 HC08'!I18)","v":""},{"$f":"IF('H01 HC08'!J18=\"\",\"\",'H01 HC08'!J18)","v":""},{"$f":"IF(D726=\"\",\"\",VLOOKUP(D726,#REF!,3,0))","v":""},{"$f":"IF('H01 HC08'!K18=\"\",\"\",'H01 HC08'!K18)","v":""},{"$f":"IF('H01 HC08'!L18=\"\",\"\",'H01 HC08'!L18)","v":""},{"$f":"IF('H01 HC08'!M18=\"\",\"\",'H01 HC08'!M18)","v":""},{"$f":"IF('H01 HC08'!N18=\"\",\"\",'H01 HC08'!N18)","v":""},{"$f":"IF('H01 HC08'!O18=\"\",\"\",'H01 HC08'!O18)","v":""},{"$f":"IF('H01 HC08'!P18=\"\",\"\",'H01 HC08'!P18)","v":""},{"$f":"IF('H01 HC08'!Q18=\"\",\"\",'H01 HC08'!Q18)","v":""},{"$f":"IF('H01 HC08'!R18=\"\",\"\",'H01 HC08'!R18)","v":""},{"$f":"IF('H01 HC08'!S18=\"\",\"\",'H01 HC08'!S18)","v":""},{"$f":"IF('H01 HC08'!T18=\"\",\"\",'H01 HC08'!T18)","v":""}]
[null,{"$f":"IF('H01 HC08'!B19=\"\",\"\",'H01 HC08'!B19)","v":""},{"$f":"IF('H01 HC08'!C19=\"\",\"\",'H01 HC08'!C19)","v":""},{"$f":"IF('H01 HC08'!D19=\"\",\"\",'H01 HC08'!D19)","v":""},null,null,null,null,null,{"$f":"IF('H01 HC08'!E19=\"\",\"\",'H01 HC08'!E19)","v":""},{"$f":"IF('H01 HC08'!F19=\"\",\"\",'H01 HC08'!F19)","v":""},{"$f":"IF('H01 HC08'!G19=\"\",\"\",'H01 HC08'!G19)","v":""},{"$f":"IF('H01 HC08'!H19=\"\",\"\",'H01 HC08'!H19)","v":""},{"$f":"IF('H01 HC08'!I19=\"\",\"\",'H01 HC08'!I19)","v":""},{"$f":"IF('H01 HC08'!J19=\"\",\"\",'H01 HC08'!J19)","v":""},{"$f":"IF(D727=\"\",\"\",VLOOKUP(D727,#REF!,3,0))","v":""},{"$f":"IF('H01 HC08'!K19=\"\",\"\",'H01 HC08'!K19)","v":""},{"$f":"IF('H01 HC08'!L19=\"\",\"\",'H01 HC08'!L19)","v":""},{"$f":"IF('H01 HC08'!M19=\"\",\"\",'H01 HC08'!M19)","v":""},{"$f":"IF('H01 HC08'!N19=\"\",\"\",'H01 HC08'!N19)","v":""},{"$f":"IF('H01 HC08'!O19=\"\",\"\",'H01 HC08'!O19)","v":""},{"$f":"IF('H01 HC08'!P19=\"\",\"\",'H01 HC08'!P19)","v":""},{"$f":"IF('H01 HC08'!Q19=\"\",\"\",'H01 HC08'!Q19)","v":""},{"$f":"IF('H01 HC08'!R19=\"\",\"\",'H01 HC08'!R19)","v":""},{"$f":"IF('H01 HC08'!S19=\"\",\"\",'H01 HC08'!S19)","v":""},{"$f":"IF('H01 HC08'!T19=\"\",\"\",'H01 HC08'!T19)","v":""}]
[null,{"$f":"IF('H01 HC08'!B20=\"\",\"\",'H01 HC08'!B20)","v":""},{"$f":"IF('H01 HC08'!C20=\"\",\"\",'H01 HC08'!C20)","v":""},{"$f":"IF('H01 HC08'!D20=\"\",\"\",'H01 HC08'!D20)","v":""},null,null,null,null,null,{"$f":"IF('H01 HC08'!E20=\"\",\"\",'H01 HC08'!E20)","v":""},{"$f":"IF('H01 HC08'!F20=\"\",\"\",'H01 HC08'!F20)","v":""},{"$f":"IF('H01 HC08'!G20=\"\",\"\",'H01 HC08'!G20)","v":""},{"$f":"IF('H01 HC08'!H20=\"\",\"\",'H01 HC08'!H20)","v":""},{"$f":"IF('H01 HC08'!I20=\"\",\"\",'H01 HC08'!I20)","v":""},{"$f":"IF('H01 HC08'!J20=\"\",\"\",'H01 HC08'!J20)","v":""},{"$f":"IF(D728=\"\",\"\",VLOOKUP(D728,#REF!,3,0))","v":""},{"$f":"IF('H01 HC08'!K20=\"\",\"\",'H01 HC08'!K20)","v":""},{"$f":"IF('H01 HC08'!L20=\"\",\"\",'H01 HC08'!L20)","v":""},{"$f":"IF('H01 HC08'!M20=\"\",\"\",'H01 HC08'!M20)","v":""},{"$f":"IF('H01 HC08'!N20=\"\",\"\",'H01 HC08'!N20)","v":""},{"$f":"IF('H01 HC08'!O20=\"\",\"\",'H01 HC08'!O20)","v":""},{"$f":"IF('H01 HC08'!P20=\"\",\"\",'H01 HC08'!P20)","v":""},{"$f":"IF('H01 HC08'!Q20=\"\",\"\",'H01 HC08'!Q20)","v":""},{"$f":"IF('H01 HC08'!R20=\"\",\"\",'H01 HC08'!R20)","v":""},{"$f":"IF('H01 HC08'!S20=\"\",\"\",'H01 HC08'!S20)","v":""},{"$f":"IF('H01 HC08'!T20=\"\",\"\",'H01 HC08'!T20)","v":""}]
[null,{"$f":"IF('H01 HC08'!B21=\"\",\"\",'H01 HC08'!B21)","v":""},{"$f":"IF('H01 HC08'!C21=\"\",\"\",'H01 HC08'!C21)","v":""},{"$f":"IF('H01 HC08'!D21=\"\",\"\",'H01 HC08'!D21)","v":""},null,null,null,null,null,{"$f":"IF('H01 HC08'!E21=\"\",\"\",'H01 HC08'!E21)","v":""},{"$f":"IF('H01 HC08'!F21=\"\",\"\",'H01 HC08'!F21)","v":""},{"$f":"IF('H01 HC08'!G21=\"\",\"\",'H01 HC08'!G21)","v":""},{"$f":"IF('H01 HC08'!H21=\"\",\"\",'H01 HC08'!H21)","v":""},{"$f":"IF('H01 HC08'!I21=\"\",\"\",'H01 HC08'!I21)","v":""},{"$f":"IF('H01 HC08'!J21=\"\",\"\",'H01 HC08'!J21)","v":""},{"$f":"IF(D729=\"\",\"\",VLOOKUP(D729,#REF!,3,0))","v":""},{"$f":"IF('H01 HC08'!K21=\"\",\"\",'H01 HC08'!K21)","v":""},{"$f":"IF('H01 HC08'!L21=\"\",\"\",'H01 HC08'!L21)","v":""},{"$f":"IF('H01 HC08'!M21=\"\",\"\",'H01 HC08'!M21)","v":""},{"$f":"IF('H01 HC08'!N21=\"\",\"\",'H01 HC08'!N21)","v":""},{"$f":"IF('H01 HC08'!O21=\"\",\"\",'H01 HC08'!O21)","v":""},{"$f":"IF('H01 HC08'!P21=\"\",\"\",'H01 HC08'!P21)","v":""},{"$f":"IF('H01 HC08'!Q21=\"\",\"\",'H01 HC08'!Q21)","v":""},{"$f":"IF('H01 HC08'!R21=\"\",\"\",'H01 HC08'!R21)","v":""},{"$f":"IF('H01 HC08'!S21=\"\",\"\",'H01 HC08'!S21)","v":""},{"$f":"IF('H01 HC08'!T21=\"\",\"\",'H01 HC08'!T21)","v":""}]
[null,{"$f":"IF('H01 HC08'!B22=\"\",\"\",'H01 HC08'!B22)","v":""},{"$f":"IF('H01 HC08'!C22=\"\",\"\",'H01 HC08'!C22)","v":""},{"$f":"IF('H01 HC08'!D22=\"\",\"\",'H01 HC08'!D22)","v":""},null,null,null,null,null,{"$f":"IF('H01 HC08'!E22=\"\",\"\",'H01 HC08'!E22)","v":""},{"$f":"IF('H01 HC08'!F22=\"\",\"\",'H01 HC08'!F22)","v":""},{"$f":"IF('H01 HC08'!G22=\"\",\"\",'H01 HC08'!G22)","v":""},{"$f":"IF('H01 HC08'!H22=\"\",\"\",'H01 HC08'!H22)","v":""},{"$f":"IF('H01 HC08'!I22=\"\",\"\",'H01 HC08'!I22)","v":""},{"$f":"IF('H01 HC08'!J22=\"\",\"\",'H01 HC08'!J22)","v":""},{"$f":"IF(D730=\"\",\"\",VLOOKUP(D730,#REF!,3,0))","v":""},{"$f":"IF('H01 HC08'!K22=\"\",\"\",'H01 HC08'!K22)","v":""},{"$f":"IF('H01 HC08'!L22=\"\",\"\",'H01 HC08'!L22)","v":""},{"$f":"IF('H01 HC08'!M22=\"\",\"\",'H01 HC08'!M22)","v":""},{"$f":"IF('H01 HC08'!N22=\"\",\"\",'H01 HC08'!N22)","v":""},{"$f":"IF('H01 HC08'!O22=\"\",\"\",'H01 HC08'!O22)","v":""},{"$f":"IF('H01 HC08'!P22=\"\",\"\",'H01 HC08'!P22)","v":""},{"$f":"IF('H01 HC08'!Q22=\"\",\"\",'H01 HC08'!Q22)","v":""},{"$f":"IF('H01 HC08'!R22=\"\",\"\",'H01 HC08'!R22)","v":""},{"$f":"IF('H01 HC08'!S22=\"\",\"\",'H01 HC08'!S22)","v":""},{"$f":"IF('H01 HC08'!T22=\"\",\"\",'H01 HC08'!T22)","v":""}]
[null,{"$f":"IF('H01 HC08'!B23=\"\",\"\",'H01 HC08'!B23)","v":""},{"$f":"IF('H01 HC08'!C23=\"\",\"\",'H01 HC08'!C23)","v":""},{"$f":"IF('H01 HC08'!D23=\"\",\"\",'H01 HC08'!D23)","v":""},null,null,null,null,null,{"$f":"IF('H01 HC08'!E23=\"\",\"\",'H01 HC08'!E23)","v":""},{"$f":"IF('H01 HC08'!F23=\"\",\"\",'H01 HC08'!F23)","v":""},{"$f":"IF('H01 HC08'!G23=\"\",\"\",'H01 HC08'!G23)","v":""},{"$f":"IF('H01 HC08'!H23=\"\",\"\",'H01 HC08'!H23)","v":""},{"$f":"IF('H01 HC08'!I23=\"\",\"\",'H01 HC08'!I23)","v":""},{"$f":"IF('H01 HC08'!J23=\"\",\"\",'H01 HC08'!J23)","v":""},{"$f":"IF(D731=\"\",\"\",VLOOKUP(D731,#REF!,3,0))","v":""},{"$f":"IF('H01 HC08'!K23=\"\",\"\",'H01 HC08'!K23)","v":""},{"$f":"IF('H01 HC08'!L23=\"\",\"\",'H01 HC08'!L23)","v":""},{"$f":"IF('H01 HC08'!M23=\"\",\"\",'H01 HC08'!M23)","v":""},{"$f":"IF('H01 HC08'!N23=\"\",\"\",'H01 HC08'!N23)","v":""},{"$f":"IF('H01 HC08'!O23=\"\",\"\",'H01 HC08'!O23)","v":""},{"$f":"IF('H01 HC08'!P23=\"\",\"\",'H01 HC08'!P23)","v":""},{"$f":"IF('H01 HC08'!Q23=\"\",\"\",'H01 HC08'!Q23)","v":""},{"$f":"IF('H01 HC08'!R23=\"\",\"\",'H01 HC08'!R23)","v":""},{"$f":"IF('H01 HC08'!S23=\"\",\"\",'H01 HC08'!S23)","v":""},{"$f":"IF('H01 HC08'!T23=\"\",\"\",'H01 HC08'!T23)","v":""}]
[null,{"$f":"IF('H01 HC08'!B24=\"\",\"\",'H01 HC08'!B24)","v":""},{"$f":"IF('H01 HC08'!C24=\"\",\"\",'H01 HC08'!C24)","v":""},{"$f":"IF('H01 HC08'!D24=\"\",\"\",'H01 HC08'!D24)","v":""},null,null,null,null,null,{"$f":"IF('H01 HC08'!E24=\"\",\"\",'H01 HC08'!E24)","v":""},{"$f":"IF('H01 HC08'!F24=\"\",\"\",'H01 HC08'!F24)","v":""},{"$f":"IF('H01 HC08'!G24=\"\",\"\",'H01 HC08'!G24)","v":""},{"$f":"IF('H01 HC08'!H24=\"\",\"\",'H01 HC08'!H24)","v":""},{"$f":"IF('H01 HC08'!I24=\"\",\"\",'H01 HC08'!I24)","v":""},{"$f":"IF('H01 HC08'!J24=\"\",\"\",'H01 HC08'!J24)","v":""},{"$f":"IF(D732=\"\",\"\",VLOOKUP(D732,#REF!,3,0))","v":""},{"$f":"IF('H01 HC08'!K24=\"\",\"\",'H01 HC08'!K24)","v":""},{"$f":"IF('H01 HC08'!L24=\"\",\"\",'H01 HC08'!L24)","v":""},{"$f":"IF('H01 HC08'!M24=\"\",\"\",'H01 HC08'!M24)","v":""},{"$f":"IF('H01 HC08'!N24=\"\",\"\",'H01 HC08'!N24)","v":""},{"$f":"IF('H01 HC08'!O24=\"\",\"\",'H01 HC08'!O24)","v":""},{"$f":"IF('H01 HC08'!P24=\"\",\"\",'H01 HC08'!P24)","v":""},{"$f":"IF('H01 HC08'!Q24=\"\",\"\",'H01 HC08'!Q24)","v":""},{"$f":"IF('H01 HC08'!R24=\"\",\"\",'H01 HC08'!R24)","v":""},{"$f":"IF('H01 HC08'!S24=\"\",\"\",'H01 HC08'!S24)","v":""},{"$f":"IF('H01 HC08'!T24=\"\",\"\",'H01 HC08'!T24)","v":""}]
[null,{"$f":"IF('H01 HC08'!B25=\"\",\"\",'H01 HC08'!B25)","v":""},{"$f":"IF('H01 HC08'!C25=\"\",\"\",'H01 HC08'!C25)","v":""},{"$f":"IF('H01 HC08'!D25=\"\",\"\",'H01 HC08'!D25)","v":""},null,null,null,null,null,{"$f":"IF('H01 HC08'!E25=\"\",\"\",'H01 HC08'!E25)","v":""},{"$f":"IF('H01 HC08'!F25=\"\",\"\",'H01 HC08'!F25)","v":""},{"$f":"IF('H01 HC08'!G25=\"\",\"\",'H01 HC08'!G25)","v":""},{"$f":"IF('H01 HC08'!H25=\"\",\"\",'H01 HC08'!H25)","v":""},{"$f":"IF('H01 HC08'!I25=\"\",\"\",'H01 HC08'!I25)","v":""},{"$f":"IF('H01 HC08'!J25=\"\",\"\",'H01 HC08'!J25)","v":""},{"$f":"IF(D733=\"\",\"\",VLOOKUP(D733,#REF!,3,0))","v":""},{"$f":"IF('H01 HC08'!K25=\"\",\"\",'H01 HC08'!K25)","v":""},{"$f":"IF('H01 HC08'!L25=\"\",\"\",'H01 HC08'!L25)","v":""},{"$f":"IF('H01 HC08'!M25=\"\",\"\",'H01 HC08'!M25)","v":""},{"$f":"IF('H01 HC08'!N25=\"\",\"\",'H01 HC08'!N25)","v":""},{"$f":"IF('H01 HC08'!O25=\"\",\"\",'H01 HC08'!O25)","v":""},{"$f":"IF('H01 HC08'!P25=\"\",\"\",'H01 HC08'!P25)","v":""},{"$f":"IF('H01 HC08'!Q25=\"\",\"\",'H01 HC08'!Q25)","v":""},{"$f":"IF('H01 HC08'!R25=\"\",\"\",'H01 HC08'!R25)","v":""},{"$f":"IF('H01 HC08'!S25=\"\",\"\",'H01 HC08'!S25)","v":""},{"$f":"IF('H01 HC08'!T25=\"\",\"\",'H01 HC08'!T25)","v":""}]
[null,{"$f":"IF('H01 HC08'!B26=\"\",\"\",'H01 HC08'!B26)","v":""},{"$f":"IF('H01 HC08'!C26=\"\",\"\",'H01 HC08'!C26)","v":""},{"$f":"IF('H01 HC08'!D26=\"\",\"\",'H01 HC08'!D26)","v":""},null,null,null,null,null,{"$f":"IF('H01 HC08'!E26=\"\",\"\",'H01 HC08'!E26)","v":""},{"$f":"IF('H01 HC08'!F26=\"\",\"\",'H01 HC08'!F26)","v":""},{"$f":"IF('H01 HC08'!G26=\"\",\"\",'H01 HC08'!G26)","v":""},{"$f":"IF('H01 HC08'!H26=\"\",\"\",'H01 HC08'!H26)","v":""},{"$f":"IF('H01 HC08'!I26=\"\",\"\",'H01 HC08'!I26)","v":""},{"$f":"IF('H01 HC08'!J26=\"\",\"\",'H01 HC08'!J26)","v":""},{"$f":"IF(D734=\"\",\"\",VLOOKUP(D734,#REF!,3,0))","v":""},{"$f":"IF('H01 HC08'!K26=\"\",\"\",'H01 HC08'!K26)","v":""},{"$f":"IF('H01 HC08'!L26=\"\",\"\",'H01 HC08'!L26)","v":""},{"$f":"IF('H01 HC08'!M26=\"\",\"\",'H01 HC08'!M26)","v":""},{"$f":"IF('H01 HC08'!N26=\"\",\"\",'H01 HC08'!N26)","v":""},{"$f":"IF('H01 HC08'!O26=\"\",\"\",'H01 HC08'!O26)","v":""},{"$f":"IF('H01 HC08'!P26=\"\",\"\",'H01 HC08'!P26)","v":""},{"$f":"IF('H01 HC08'!Q26=\"\",\"\",'H01 HC08'!Q26)","v":""},{"$f":"IF('H01 HC08'!R26=\"\",\"\",'H01 HC08'!R26)","v":""},{"$f":"IF('H01 HC08'!S26=\"\",\"\",'H01 HC08'!S26)","v":""},{"$f":"IF('H01 HC08'!T26=\"\",\"\",'H01 HC08'!T26)","v":""}]
[null,{"$f":"IF('H01 HC08'!B27=\"\",\"\",'H01 HC08'!B27)","v":""},{"$f":"IF('H01 HC08'!C27=\"\",\"\",'H01 HC08'!C27)","v":""},{"$f":"IF('H01 HC08'!D27=\"\",\"\",'H01 HC08'!D27)","v":""},null,null,null,null,null,{"$f":"IF('H01 HC08'!E27=\"\",\"\",'H01 HC08'!E27)","v":""},{"$f":"IF('H01 HC08'!F27=\"\",\"\",'H01 HC08'!F27)","v":""},{"$f":"IF('H01 HC08'!G27=\"\",\"\",'H01 HC08'!G27)","v":""},{"$f":"IF('H01 HC08'!H27=\"\",\"\",'H01 HC08'!H27)","v":""},{"$f":"IF('H01 HC08'!I27=\"\",\"\",'H01 HC08'!I27)","v":""},{"$f":"IF('H01 HC08'!J27=\"\",\"\",'H01 HC08'!J27)","v":""},{"$f":"IF(D735=\"\",\"\",VLOOKUP(D735,#REF!,3,0))","v":""},{"$f":"IF('H01 HC08'!K27=\"\",\"\",'H01 HC08'!K27)","v":""},{"$f":"IF('H01 HC08'!L27=\"\",\"\",'H01 HC08'!L27)","v":""},{"$f":"IF('H01 HC08'!M27=\"\",\"\",'H01 HC08'!M27)","v":""},{"$f":"IF('H01 HC08'!N27=\"\",\"\",'H01 HC08'!N27)","v":""},{"$f":"IF('H01 HC08'!O27=\"\",\"\",'H01 HC08'!O27)","v":""},{"$f":"IF('H01 HC08'!P27=\"\",\"\",'H01 HC08'!P27)","v":""},{"$f":"IF('H01 HC08'!Q27=\"\",\"\",'H01 HC08'!Q27)","v":""},{"$f":"IF('H01 HC08'!R27=\"\",\"\",'H01 HC08'!R27)","v":""},{"$f":"IF('H01 HC08'!S27=\"\",\"\",'H01 HC08'!S27)","v":""},{"$f":"IF('H01 HC08'!T27=\"\",\"\",'H01 HC08'!T27)","v":""}]
[null,{"$f":"IF('H01 HC08'!B28=\"\",\"\",'H01 HC08'!B28)","v":""},{"$f":"IF('H01 HC08'!C28=\"\",\"\",'H01 HC08'!C28)","v":""},{"$f":"IF('H01 HC08'!D28=\"\",\"\",'H01 HC08'!D28)","v":""},null,null,null,null,null,{"$f":"IF('H01 HC08'!E28=\"\",\"\",'H01 HC08'!E28)","v":""},{"$f":"IF('H01 HC08'!F28=\"\",\"\",'H01 HC08'!F28)","v":""},{"$f":"IF('H01 HC08'!G28=\"\",\"\",'H01 HC08'!G28)","v":""},{"$f":"IF('H01 HC08'!H28=\"\",\"\",'H01 HC08'!H28)","v":""},{"$f":"IF('H01 HC08'!I28=\"\",\"\",'H01 HC08'!I28)","v":""},{"$f":"IF('H01 HC08'!J28=\"\",\"\",'H01 HC08'!J28)","v":""},{"$f":"IF(D736=\"\",\"\",VLOOKUP(D736,#REF!,3,0))","v":""},{"$f":"IF('H01 HC08'!K28=\"\",\"\",'H01 HC08'!K28)","v":""},{"$f":"IF('H01 HC08'!L28=\"\",\"\",'H01 HC08'!L28)","v":""},{"$f":"IF('H01 HC08'!M28=\"\",\"\",'H01 HC08'!M28)","v":""},{"$f":"IF('H01 HC08'!N28=\"\",\"\",'H01 HC08'!N28)","v":""},{"$f":"IF('H01 HC08'!O28=\"\",\"\",'H01 HC08'!O28)","v":""},{"$f":"IF('H01 HC08'!P28=\"\",\"\",'H01 HC08'!P28)","v":""},{"$f":"IF('H01 HC08'!Q28=\"\",\"\",'H01 HC08'!Q28)","v":""},{"$f":"IF('H01 HC08'!R28=\"\",\"\",'H01 HC08'!R28)","v":""},{"$f":"IF('H01 HC08'!S28=\"\",\"\",'H01 HC08'!S28)","v":""},{"$f":"IF('H01 HC08'!T28=\"\",\"\",'H01 HC08'!T28)","v":""}]
[null,{"$f":"IF('H01 HC08'!B29=\"\",\"\",'H01 HC08'!B29)","v":""},{"$f":"IF('H01 HC08'!C29=\"\",\"\",'H01 HC08'!C29)","v":""},{"$f":"IF('H01 HC08'!D29=\"\",\"\",'H01 HC08'!D29)","v":""},null,null,null,null,null,{"$f":"IF('H01 HC08'!E29=\"\",\"\",'H01 HC08'!E29)","v":""},{"$f":"IF('H01 HC08'!F29=\"\",\"\",'H01 HC08'!F29)","v":""},{"$f":"IF('H01 HC08'!G29=\"\",\"\",'H01 HC08'!G29)","v":""},{"$f":"IF('H01 HC08'!H29=\"\",\"\",'H01 HC08'!H29)","v":""},{"$f":"IF('H01 HC08'!I29=\"\",\"\",'H01 HC08'!I29)","v":""},{"$f":"IF('H01 HC08'!J29=\"\",\"\",'H01 HC08'!J29)","v":""},{"$f":"IF(D737=\"\",\"\",VLOOKUP(D737,#REF!,3,0))","v":""},{"$f":"IF('H01 HC08'!K29=\"\",\"\",'H01 HC08'!K29)","v":""},{"$f":"IF('H01 HC08'!L29=\"\",\"\",'H01 HC08'!L29)","v":""},{"$f":"IF('H01 HC08'!M29=\"\",\"\",'H01 HC08'!M29)","v":""},{"$f":"IF('H01 HC08'!N29=\"\",\"\",'H01 HC08'!N29)","v":""},{"$f":"IF('H01 HC08'!O29=\"\",\"\",'H01 HC08'!O29)","v":""},{"$f":"IF('H01 HC08'!P29=\"\",\"\",'H01 HC08'!P29)","v":""},{"$f":"IF('H01 HC08'!Q29=\"\",\"\",'H01 HC08'!Q29)","v":""},{"$f":"IF('H01 HC08'!R29=\"\",\"\",'H01 HC08'!R29)","v":""},{"$f":"IF('H01 HC08'!S29=\"\",\"\",'H01 HC08'!S29)","v":""},{"$f":"IF('H01 HC08'!T29=\"\",\"\",'H01 HC08'!T29)","v":""}]
[null,{"$f":"IF('H01 HC08'!B30=\"\",\"\",'H01 HC08'!B30)","v":""},{"$f":"IF('H01 HC08'!C30=\"\",\"\",'H01 HC08'!C30)","v":""},{"$f":"IF('H01 HC08'!D30=\"\",\"\",'H01 HC08'!D30)","v":""},null,null,null,null,null,{"$f":"IF('H01 HC08'!E30=\"\",\"\",'H01 HC08'!E30)","v":""},{"$f":"IF('H01 HC08'!F30=\"\",\"\",'H01 HC08'!F30)","v":""},{"$f":"IF('H01 HC08'!G30=\"\",\"\",'H01 HC08'!G30)","v":""},{"$f":"IF('H01 HC08'!H30=\"\",\"\",'H01 HC08'!H30)","v":""},{"$f":"IF('H01 HC08'!I30=\"\",\"\",'H01 HC08'!I30)","v":""},{"$f":"IF('H01 HC08'!J30=\"\",\"\",'H01 HC08'!J30)","v":""},{"$f":"IF(D738=\"\",\"\",VLOOKUP(D738,#REF!,3,0))","v":""},{"$f":"IF('H01 HC08'!K30=\"\",\"\",'H01 HC08'!K30)","v":""},{"$f":"IF('H01 HC08'!L30=\"\",\"\",'H01 HC08'!L30)","v":""},{"$f":"IF('H01 HC08'!M30=\"\",\"\",'H01 HC08'!M30)","v":""},{"$f":"IF('H01 HC08'!N30=\"\",\"\",'H01 HC08'!N30)","v":""},{"$f":"IF('H01 HC08'!O30=\"\",\"\",'H01 HC08'!O30)","v":""},{"$f":"IF('H01 HC08'!P30=\"\",\"\",'H01 HC08'!P30)","v":""},{"$f":"IF('H01 HC08'!Q30=\"\",\"\",'H01 HC08'!Q30)","v":""},{"$f":"IF('H01 HC08'!R30=\"\",\"\",'H01 HC08'!R30)","v":""},{"$f":"IF('H01 HC08'!S30=\"\",\"\",'H01 HC08'!S30)","v":""},{"$f":"IF('H01 HC08'!T30=\"\",\"\",'H01 HC08'!T30)","v":""}]
[null,{"$f":"IF('H01 HC08'!B31=\"\",\"\",'H01 HC08'!B31)","v":""},{"$f":"IF('H01 HC08'!C31=\"\",\"\",'H01 HC08'!C31)","v":""},{"$f":"IF('H01 HC08'!D31=\"\",\"\",'H01 HC08'!D31)","v":""},null,null,null,null,null,{"$f":"IF('H01 HC08'!E31=\"\",\"\",'H01 HC08'!E31)","v":""},{"$f":"IF('H01 HC08'!F31=\"\",\"\",'H01 HC08'!F31)","v":""},{"$f":"IF('H01 HC08'!G31=\"\",\"\",'H01 HC08'!G31)","v":""},{"$f":"IF('H01 HC08'!H31=\"\",\"\",'H01 HC08'!H31)","v":""},{"$f":"IF('H01 HC08'!I31=\"\",\"\",'H01 HC08'!I31)","v":""},{"$f":"IF('H01 HC08'!J31=\"\",\"\",'H01 HC08'!J31)","v":""},{"$f":"IF(D739=\"\",\"\",VLOOKUP(D739,#REF!,3,0))","v":""},{"$f":"IF('H01 HC08'!K31=\"\",\"\",'H01 HC08'!K31)","v":""},{"$f":"IF('H01 HC08'!L31=\"\",\"\",'H01 HC08'!L31)","v":""},{"$f":"IF('H01 HC08'!M31=\"\",\"\",'H01 HC08'!M31)","v":""},{"$f":"IF('H01 HC08'!N31=\"\",\"\",'H01 HC08'!N31)","v":""},{"$f":"IF('H01 HC08'!O31=\"\",\"\",'H01 HC08'!O31)","v":""},{"$f":"IF('H01 HC08'!P31=\"\",\"\",'H01 HC08'!P31)","v":""},{"$f":"IF('H01 HC08'!Q31=\"\",\"\",'H01 HC08'!Q31)","v":""},{"$f":"IF('H01 HC08'!R31=\"\",\"\",'H01 HC08'!R31)","v":""},{"$f":"IF('H01 HC08'!S31=\"\",\"\",'H01 HC08'!S31)","v":""},{"$f":"IF('H01 HC08'!T31=\"\",\"\",'H01 HC08'!T31)","v":""}]
[null,{"$f":"IF('H01 HC08'!B32=\"\",\"\",'H01 HC08'!B32)","v":""},{"$f":"IF('H01 HC08'!C32=\"\",\"\",'H01 HC08'!C32)","v":""},{"$f":"IF('H01 HC08'!D32=\"\",\"\",'H01 HC08'!D32)","v":""},null,null,null,null,null,{"$f":"IF('H01 HC08'!E32=\"\",\"\",'H01 HC08'!E32)","v":""},{"$f":"IF('H01 HC08'!F32=\"\",\"\",'H01 HC08'!F32)","v":""},{"$f":"IF('H01 HC08'!G32=\"\",\"\",'H01 HC08'!G32)","v":""},{"$f":"IF('H01 HC08'!H32=\"\",\"\",'H01 HC08'!H32)","v":""},{"$f":"IF('H01 HC08'!I32=\"\",\"\",'H01 HC08'!I32)","v":""},{"$f":"IF('H01 HC08'!J32=\"\",\"\",'H01 HC08'!J32)","v":""},{"$f":"IF(D740=\"\",\"\",VLOOKUP(D740,#REF!,3,0))","v":""},{"$f":"IF('H01 HC08'!K32=\"\",\"\",'H01 HC08'!K32)","v":""},{"$f":"IF('H01 HC08'!L32=\"\",\"\",'H01 HC08'!L32)","v":""},{"$f":"IF('H01 HC08'!M32=\"\",\"\",'H01 HC08'!M32)","v":""},{"$f":"IF('H01 HC08'!N32=\"\",\"\",'H01 HC08'!N32)","v":""},{"$f":"IF('H01 HC08'!O32=\"\",\"\",'H01 HC08'!O32)","v":""},{"$f":"IF('H01 HC08'!P32=\"\",\"\",'H01 HC08'!P32)","v":""},{"$f":"IF('H01 HC08'!Q32=\"\",\"\",'H01 HC08'!Q32)","v":""},{"$f":"IF('H01 HC08'!R32=\"\",\"\",'H01 HC08'!R32)","v":""},{"$f":"IF('H01 HC08'!S32=\"\",\"\",'H01 HC08'!S32)","v":""},{"$f":"IF('H01 HC08'!T32=\"\",\"\",'H01 HC08'!T32)","v":""}]
[null,{"$f":"IF('H01 HC08'!B33=\"\",\"\",'H01 HC08'!B33)","v":""},{"$f":"IF('H01 HC08'!C33=\"\",\"\",'H01 HC08'!C33)","v":""},{"$f":"IF('H01 HC08'!D33=\"\",\"\",'H01 HC08'!D33)","v":""},null,null,null,null,null,{"$f":"IF('H01 HC08'!E33=\"\",\"\",'H01 HC08'!E33)","v":""},{"$f":"IF('H01 HC08'!F33=\"\",\"\",'H01 HC08'!F33)","v":""},{"$f":"IF('H01 HC08'!G33=\"\",\"\",'H01 HC08'!G33)","v":""},{"$f":"IF('H01 HC08'!H33=\"\",\"\",'H01 HC08'!H33)","v":""},{"$f":"IF('H01 HC08'!I33=\"\",\"\",'H01 HC08'!I33)","v":""},{"$f":"IF('H01 HC08'!J33=\"\",\"\",'H01 HC08'!J33)","v":""},{"$f":"IF(D741=\"\",\"\",VLOOKUP(D741,#REF!,3,0))","v":""},{"$f":"IF('H01 HC08'!K33=\"\",\"\",'H01 HC08'!K33)","v":""},{"$f":"IF('H01 HC08'!L33=\"\",\"\",'H01 HC08'!L33)","v":""},{"$f":"IF('H01 HC08'!M33=\"\",\"\",'H01 HC08'!M33)","v":""},{"$f":"IF('H01 HC08'!N33=\"\",\"\",'H01 HC08'!N33)","v":""},{"$f":"IF('H01 HC08'!O33=\"\",\"\",'H01 HC08'!O33)","v":""},{"$f":"IF('H01 HC08'!P33=\"\",\"\",'H01 HC08'!P33)","v":""},{"$f":"IF('H01 HC08'!Q33=\"\",\"\",'H01 HC08'!Q33)","v":""},{"$f":"IF('H01 HC08'!R33=\"\",\"\",'H01 HC08'!R33)","v":""},{"$f":"IF('H01 HC08'!S33=\"\",\"\",'H01 HC08'!S33)","v":""},{"$f":"IF('H01 HC08'!T33=\"\",\"\",'H01 HC08'!T33)","v":""}]
[null,{"$f":"IF('H01 HC08'!B34=\"\",\"\",'H01 HC08'!B34)","v":""},{"$f":"IF('H01 HC08'!C34=\"\",\"\",'H01 HC08'!C34)","v":""},{"$f":"IF('H01 HC08'!D34=\"\",\"\",'H01 HC08'!D34)","v":""},null,null,null,null,null,{"$f":"IF('H01 HC08'!E34=\"\",\"\",'H01 HC08'!E34)","v":""},{"$f":"IF('H01 HC08'!F34=\"\",\"\",'H01 HC08'!F34)","v":""},{"$f":"IF('H01 HC08'!G34=\"\",\"\",'H01 HC08'!G34)","v":""},{"$f":"IF('H01 HC08'!H34=\"\",\"\",'H01 HC08'!H34)","v":""},{"$f":"IF('H01 HC08'!I34=\"\",\"\",'H01 HC08'!I34)","v":""},{"$f":"IF('H01 HC08'!J34=\"\",\"\",'H01 HC08'!J34)","v":""},{"$f":"IF(D742=\"\",\"\",VLOOKUP(D742,#REF!,3,0))","v":""},{"$f":"IF('H01 HC08'!K34=\"\",\"\",'H01 HC08'!K34)","v":""},{"$f":"IF('H01 HC08'!L34=\"\",\"\",'H01 HC08'!L34)","v":""},{"$f":"IF('H01 HC08'!M34=\"\",\"\",'H01 HC08'!M34)","v":""},{"$f":"IF('H01 HC08'!N34=\"\",\"\",'H01 HC08'!N34)","v":""},{"$f":"IF('H01 HC08'!O34=\"\",\"\",'H01 HC08'!O34)","v":""},{"$f":"IF('H01 HC08'!P34=\"\",\"\",'H01 HC08'!P34)","v":""},{"$f":"IF('H01 HC08'!Q34=\"\",\"\",'H01 HC08'!Q34)","v":""},{"$f":"IF('H01 HC08'!R34=\"\",\"\",'H01 HC08'!R34)","v":""},{"$f":"IF('H01 HC08'!S34=\"\",\"\",'H01 HC08'!S34)","v":""},{"$f":"IF('H01 HC08'!T34=\"\",\"\",'H01 HC08'!T34)","v":""}]
[null,{"$f":"IF('H01 HC08'!B35=\"\",\"\",'H01 HC08'!B35)","v":""},{"$f":"IF('H01 HC08'!C35=\"\",\"\",'H01 HC08'!C35)","v":""},{"$f":"IF('H01 HC08'!D35=\"\",\"\",'H01 HC08'!D35)","v":""},null,null,null,null,null,{"$f":"IF('H01 HC08'!E35=\"\",\"\",'H01 HC08'!E35)","v":""},{"$f":"IF('H01 HC08'!F35=\"\",\"\",'H01 HC08'!F35)","v":""},{"$f":"IF('H01 HC08'!G35=\"\",\"\",'H01 HC08'!G35)","v":""},{"$f":"IF('H01 HC08'!H35=\"\",\"\",'H01 HC08'!H35)","v":""},{"$f":"IF('H01 HC08'!I35=\"\",\"\",'H01 HC08'!I35)","v":""},{"$f":"IF('H01 HC08'!J35=\"\",\"\",'H01 HC08'!J35)","v":""},{"$f":"IF(D743=\"\",\"\",VLOOKUP(D743,#REF!,3,0))","v":""},{"$f":"IF('H01 HC08'!K35=\"\",\"\",'H01 HC08'!K35)","v":""},{"$f":"IF('H01 HC08'!L35=\"\",\"\",'H01 HC08'!L35)","v":""},{"$f":"IF('H01 HC08'!M35=\"\",\"\",'H01 HC08'!M35)","v":""},{"$f":"IF('H01 HC08'!N35=\"\",\"\",'H01 HC08'!N35)","v":""},{"$f":"IF('H01 HC08'!O35=\"\",\"\",'H01 HC08'!O35)","v":""},{"$f":"IF('H01 HC08'!P35=\"\",\"\",'H01 HC08'!P35)","v":""},{"$f":"IF('H01 HC08'!Q35=\"\",\"\",'H01 HC08'!Q35)","v":""},{"$f":"IF('H01 HC08'!R35=\"\",\"\",'H01 HC08'!R35)","v":""},{"$f":"IF('H01 HC08'!S35=\"\",\"\",'H01 HC08'!S35)","v":""},{"$f":"IF('H01 HC08'!T35=\"\",\"\",'H01 HC08'!T35)","v":""}]
[null,{"$f":"IF('H01 HC08'!B36=\"\",\"\",'H01 HC08'!B36)","v":""},{"$f":"IF('H01 HC08'!C36=\"\",\"\",'H01 HC08'!C36)","v":""},{"$f":"IF('H01 HC08'!D36=\"\",\"\",'H01 HC08'!D36)","v":""},null,null,null,null,null,{"$f":"IF('H01 HC08'!E36=\"\",\"\",'H01 HC08'!E36)","v":""},{"$f":"IF('H01 HC08'!F36=\"\",\"\",'H01 HC08'!F36)","v":""},{"$f":"IF('H01 HC08'!G36=\"\",\"\",'H01 HC08'!G36)","v":""},{"$f":"IF('H01 HC08'!H36=\"\",\"\",'H01 HC08'!H36)","v":""},{"$f":"IF('H01 HC08'!I36=\"\",\"\",'H01 HC08'!I36)","v":""},{"$f":"IF('H01 HC08'!J36=\"\",\"\",'H01 HC08'!J36)","v":""},{"$f":"IF(D744=\"\",\"\",VLOOKUP(D744,#REF!,3,0))","v":""},{"$f":"IF('H01 HC08'!K36=\"\",\"\",'H01 HC08'!K36)","v":""},{"$f":"IF('H01 HC08'!L36=\"\",\"\",'H01 HC08'!L36)","v":""},{"$f":"IF('H01 HC08'!M36=\"\",\"\",'H01 HC08'!M36)","v":""},{"$f":"IF('H01 HC08'!N36=\"\",\"\",'H01 HC08'!N36)","v":""},{"$f":"IF('H01 HC08'!O36=\"\",\"\",'H01 HC08'!O36)","v":""},{"$f":"IF('H01 HC08'!P36=\"\",\"\",'H01 HC08'!P36)","v":""},{"$f":"IF('H01 HC08'!Q36=\"\",\"\",'H01 HC08'!Q36)","v":""},{"$f":"IF('H01 HC08'!R36=\"\",\"\",'H01 HC08'!R36)","v":""},{"$f":"IF('H01 HC08'!S36=\"\",\"\",'H01 HC08'!S36)","v":""},{"$f":"IF('H01 HC08'!T36=\"\",\"\",'H01 HC08'!T36)","v":""}]
[null,{"$f":"IF('H01 HC08'!B37=\"\",\"\",'H01 HC08'!B37)","v":""},{"$f":"IF('H01 HC08'!C37=\"\",\"\",'H01 HC08'!C37)","v":""},{"$f":"IF('H01 HC08'!D37=\"\",\"\",'H01 HC08'!D37)","v":""},null,null,null,null,null,{"$f":"IF('H01 HC08'!E37=\"\",\"\",'H01 HC08'!E37)","v":""},{"$f":"IF('H01 HC08'!F37=\"\",\"\",'H01 HC08'!F37)","v":""},{"$f":"IF('H01 HC08'!G37=\"\",\"\",'H01 HC08'!G37)","v":""},{"$f":"IF('H01 HC08'!H37=\"\",\"\",'H01 HC08'!H37)","v":""},{"$f":"IF('H01 HC08'!I37=\"\",\"\",'H01 HC08'!I37)","v":""},{"$f":"IF('H01 HC08'!J37=\"\",\"\",'H01 HC08'!J37)","v":""},{"$f":"IF(D745=\"\",\"\",VLOOKUP(D745,#REF!,3,0))","v":""},{"$f":"IF('H01 HC08'!K37=\"\",\"\",'H01 HC08'!K37)","v":""},{"$f":"IF('H01 HC08'!L37=\"\",\"\",'H01 HC08'!L37)","v":""},{"$f":"IF('H01 HC08'!M37=\"\",\"\",'H01 HC08'!M37)","v":""},{"$f":"IF('H01 HC08'!N37=\"\",\"\",'H01 HC08'!N37)","v":""},{"$f":"IF('H01 HC08'!O37=\"\",\"\",'H01 HC08'!O37)","v":""},{"$f":"IF('H01 HC08'!P37=\"\",\"\",'H01 HC08'!P37)","v":""},{"$f":"IF('H01 HC08'!Q37=\"\",\"\",'H01 HC08'!Q37)","v":""},{"$f":"IF('H01 HC08'!R37=\"\",\"\",'H01 HC08'!R37)","v":""},{"$f":"IF('H01 HC08'!S37=\"\",\"\",'H01 HC08'!S37)","v":""},{"$f":"IF('H01 HC08'!T37=\"\",\"\",'H01 HC08'!T37)","v":""}]
[null,{"$f":"IF('H01 HC08'!B38=\"\",\"\",'H01 HC08'!B38)","v":""},{"$f":"IF('H01 HC08'!C38=\"\",\"\",'H01 HC08'!C38)","v":""},{"$f":"IF('H01 HC08'!D38=\"\",\"\",'H01 HC08'!D38)","v":""},null,null,null,null,null,{"$f":"IF('H01 HC08'!E38=\"\",\"\",'H01 HC08'!E38)","v":""},{"$f":"IF('H01 HC08'!F38=\"\",\"\",'H01 HC08'!F38)","v":""},{"$f":"IF('H01 HC08'!G38=\"\",\"\",'H01 HC08'!G38)","v":""},{"$f":"IF('H01 HC08'!H38=\"\",\"\",'H01 HC08'!H38)","v":""},{"$f":"IF('H01 HC08'!I38=\"\",\"\",'H01 HC08'!I38)","v":""},{"$f":"IF('H01 HC08'!J38=\"\",\"\",'H01 HC08'!J38)","v":""},{"$f":"IF(D746=\"\",\"\",VLOOKUP(D746,#REF!,3,0))","v":""},{"$f":"IF('H01 HC08'!K38=\"\",\"\",'H01 HC08'!K38)","v":""},{"$f":"IF('H01 HC08'!L38=\"\",\"\",'H01 HC08'!L38)","v":""},{"$f":"IF('H01 HC08'!M38=\"\",\"\",'H01 HC08'!M38)","v":""},{"$f":"IF('H01 HC08'!N38=\"\",\"\",'H01 HC08'!N38)","v":""},{"$f":"IF('H01 HC08'!O38=\"\",\"\",'H01 HC08'!O38)","v":""},{"$f":"IF('H01 HC08'!P38=\"\",\"\",'H01 HC08'!P38)","v":""},{"$f":"IF('H01 HC08'!Q38=\"\",\"\",'H01 HC08'!Q38)","v":""},{"$f":"IF('H01 HC08'!R38=\"\",\"\",'H01 HC08'!R38)","v":""},{"$f":"IF('H01 HC08'!S38=\"\",\"\",'H01 HC08'!S38)","v":""},{"$f":"IF('H01 HC08'!T38=\"\",\"\",'H01 HC08'!T38)","v":""}]
[null,{"$f":"IF('H01 HC08'!B39=\"\",\"\",'H01 HC08'!B39)","v":""},{"$f":"IF('H01 HC08'!C39=\"\",\"\",'H01 HC08'!C39)","v":""},{"$f":"IF('H01 HC08'!D39=\"\",\"\",'H01 HC08'!D39)","v":""},null,null,null,null,null,{"$f":"IF('H01 HC08'!E39=\"\",\"\",'H01 HC08'!E39)","v":""},{"$f":"IF('H01 HC08'!F39=\"\",\"\",'H01 HC08'!F39)","v":""},{"$f":"IF('H01 HC08'!G39=\"\",\"\",'H01 HC08'!G39)","v":""},{"$f":"IF('H01 HC08'!H39=\"\",\"\",'H01 HC08'!H39)","v":""},{"$f":"IF('H01 HC08'!I39=\"\",\"\",'H01 HC08'!I39)","v":""},{"$f":"IF('H01 HC08'!J39=\"\",\"\",'H01 HC08'!J39)","v":""},{"$f":"IF(D747=\"\",\"\",VLOOKUP(D747,#REF!,3,0))","v":""},{"$f":"IF('H01 HC08'!K39=\"\",\"\",'H01 HC08'!K39)","v":""},{"$f":"IF('H01 HC08'!L39=\"\",\"\",'H01 HC08'!L39)","v":""},{"$f":"IF('H01 HC08'!M39=\"\",\"\",'H01 HC08'!M39)","v":""},{"$f":"IF('H01 HC08'!N39=\"\",\"\",'H01 HC08'!N39)","v":""},{"$f":"IF('H01 HC08'!O39=\"\",\"\",'H01 HC08'!O39)","v":""},{"$f":"IF('H01 HC08'!P39=\"\",\"\",'H01 HC08'!P39)","v":""},{"$f":"IF('H01 HC08'!Q39=\"\",\"\",'H01 HC08'!Q39)","v":""},{"$f":"IF('H01 HC08'!R39=\"\",\"\",'H01 HC08'!R39)","v":""},{"$f":"IF('H01 HC08'!S39=\"\",\"\",'H01 HC08'!S39)","v":""},{"$f":"IF('H01 HC08'!T39=\"\",\"\",'H01 HC08'!T39)","v":""}]
[null,{"$f":"IF('H01 HC08'!B40=\"\",\"\",'H01 HC08'!B40)","v":""},{"$f":"IF('H01 HC08'!C40=\"\",\"\",'H01 HC08'!C40)","v":""},{"$f":"IF('H01 HC08'!D40=\"\",\"\",'H01 HC08'!D40)","v":""},null,null,null,null,null,{"$f":"IF('H01 HC08'!E40=\"\",\"\",'H01 HC08'!E40)","v":""},{"$f":"IF('H01 HC08'!F40=\"\",\"\",'H01 HC08'!F40)","v":""},{"$f":"IF('H01 HC08'!G40=\"\",\"\",'H01 HC08'!G40)","v":""},{"$f":"IF('H01 HC08'!H40=\"\",\"\",'H01 HC08'!H40)","v":""},{"$f":"IF('H01 HC08'!I40=\"\",\"\",'H01 HC08'!I40)","v":""},{"$f":"IF('H01 HC08'!J40=\"\",\"\",'H01 HC08'!J40)","v":""},{"$f":"IF(D748=\"\",\"\",VLOOKUP(D748,#REF!,3,0))","v":""},{"$f":"IF('H01 HC08'!K40=\"\",\"\",'H01 HC08'!K40)","v":""},{"$f":"IF('H01 HC08'!L40=\"\",\"\",'H01 HC08'!L40)","v":""},{"$f":"IF('H01 HC08'!M40=\"\",\"\",'H01 HC08'!M40)","v":""},{"$f":"IF('H01 HC08'!N40=\"\",\"\",'H01 HC08'!N40)","v":""},{"$f":"IF('H01 HC08'!O40=\"\",\"\",'H01 HC08'!O40)","v":""},{"$f":"IF('H01 HC08'!P40=\"\",\"\",'H01 HC08'!P40)","v":""},{"$f":"IF('H01 HC08'!Q40=\"\",\"\",'H01 HC08'!Q40)","v":""},{"$f":"IF('H01 HC08'!R40=\"\",\"\",'H01 HC08'!R40)","v":""},{"$f":"IF('H01 HC08'!S40=\"\",\"\",'H01 HC08'!S40)","v":""},{"$f":"IF('H01 HC08'!T40=\"\",\"\",'H01 HC08'!T40)","v":""}]
[null,{"$f":"IF('H01 HC08'!B41=\"\",\"\",'H01 HC08'!B41)","v":""},{"$f":"IF('H01 HC08'!C41=\"\",\"\",'H01 HC08'!C41)","v":""},{"$f":"IF('H01 HC08'!D41=\"\",\"\",'H01 HC08'!D41)","v":""},null,null,null,null,null,{"$f":"IF('H01 HC08'!E41=\"\",\"\",'H01 HC08'!E41)","v":""},{"$f":"IF('H01 HC08'!F41=\"\",\"\",'H01 HC08'!F41)","v":""},{"$f":"IF('H01 HC08'!G41=\"\",\"\",'H01 HC08'!G41)","v":""},{"$f":"IF('H01 HC08'!H41=\"\",\"\",'H01 HC08'!H41)","v":""},{"$f":"IF('H01 HC08'!I41=\"\",\"\",'H01 HC08'!I41)","v":""},{"$f":"IF('H01 HC08'!J41=\"\",\"\",'H01 HC08'!J41)","v":""},{"$f":"IF(D749=\"\",\"\",VLOOKUP(D749,#REF!,3,0))","v":""},{"$f":"IF('H01 HC08'!K41=\"\",\"\",'H01 HC08'!K41)","v":""},{"$f":"IF('H01 HC08'!L41=\"\",\"\",'H01 HC08'!L41)","v":""},{"$f":"IF('H01 HC08'!M41=\"\",\"\",'H01 HC08'!M41)","v":""},{"$f":"IF('H01 HC08'!N41=\"\",\"\",'H01 HC08'!N41)","v":""},{"$f":"IF('H01 HC08'!O41=\"\",\"\",'H01 HC08'!O41)","v":""},{"$f":"IF('H01 HC08'!P41=\"\",\"\",'H01 HC08'!P41)","v":""},{"$f":"IF('H01 HC08'!Q41=\"\",\"\",'H01 HC08'!Q41)","v":""},{"$f":"IF('H01 HC08'!R41=\"\",\"\",'H01 HC08'!R41)","v":""},{"$f":"IF('H01 HC08'!S41=\"\",\"\",'H01 HC08'!S41)","v":""},{"$f":"IF('H01 HC08'!T41=\"\",\"\",'H01 HC08'!T41)","v":""}]
[null,{"$f":"IF('H01 HC08'!B42=\"\",\"\",'H01 HC08'!B42)","v":""},{"$f":"IF('H01 HC08'!C42=\"\",\"\",'H01 HC08'!C42)","v":""},{"$f":"IF('H01 HC08'!D42=\"\",\"\",'H01 HC08'!D42)","v":""},null,null,null,null,null,{"$f":"IF('H01 HC08'!E42=\"\",\"\",'H01 HC08'!E42)","v":""},{"$f":"IF('H01 HC08'!F42=\"\",\"\",'H01 HC08'!F42)","v":""},{"$f":"IF('H01 HC08'!G42=\"\",\"\",'H01 HC08'!G42)","v":""},{"$f":"IF('H01 HC08'!H42=\"\",\"\",'H01 HC08'!H42)","v":""},{"$f":"IF('H01 HC08'!I42=\"\",\"\",'H01 HC08'!I42)","v":""},{"$f":"IF('H01 HC08'!J42=\"\",\"\",'H01 HC08'!J42)","v":""},{"$f":"IF(D750=\"\",\"\",VLOOKUP(D750,#REF!,3,0))","v":""},{"$f":"IF('H01 HC08'!K42=\"\",\"\",'H01 HC08'!K42)","v":""},{"$f":"IF('H01 HC08'!L42=\"\",\"\",'H01 HC08'!L42)","v":""},{"$f":"IF('H01 HC08'!M42=\"\",\"\",'H01 HC08'!M42)","v":""},{"$f":"IF('H01 HC08'!N42=\"\",\"\",'H01 HC08'!N42)","v":""},{"$f":"IF('H01 HC08'!O42=\"\",\"\",'H01 HC08'!O42)","v":""},{"$f":"IF('H01 HC08'!P42=\"\",\"\",'H01 HC08'!P42)","v":""},{"$f":"IF('H01 HC08'!Q42=\"\",\"\",'H01 HC08'!Q42)","v":""},{"$f":"IF('H01 HC08'!R42=\"\",\"\",'H01 HC08'!R42)","v":""},{"$f":"IF('H01 HC08'!S42=\"\",\"\",'H01 HC08'!S42)","v":""},{"$f":"IF('H01 HC08'!T42=\"\",\"\",'H01 HC08'!T42)","v":""}]
[null,{"$f":"IF('H01 HC08'!B43=\"\",\"\",'H01 HC08'!B43)","v":""},{"$f":"IF('H01 HC08'!C43=\"\",\"\",'H01 HC08'!C43)","v":""},{"$f":"IF('H01 HC08'!D43=\"\",\"\",'H01 HC08'!D43)","v":""},null,null,null,null,null,{"$f":"IF('H01 HC08'!E43=\"\",\"\",'H01 HC08'!E43)","v":""},{"$f":"IF('H01 HC08'!F43=\"\",\"\",'H01 HC08'!F43)","v":""},{"$f":"IF('H01 HC08'!G43=\"\",\"\",'H01 HC08'!G43)","v":""},{"$f":"IF('H01 HC08'!H43=\"\",\"\",'H01 HC08'!H43)","v":""},{"$f":"IF('H01 HC08'!I43=\"\",\"\",'H01 HC08'!I43)","v":""},{"$f":"IF('H01 HC08'!J43=\"\",\"\",'H01 HC08'!J43)","v":""},{"$f":"IF(D751=\"\",\"\",VLOOKUP(D751,#REF!,3,0))","v":""},{"$f":"IF('H01 HC08'!K43=\"\",\"\",'H01 HC08'!K43)","v":""},{"$f":"IF('H01 HC08'!L43=\"\",\"\",'H01 HC08'!L43)","v":""},{"$f":"IF('H01 HC08'!M43=\"\",\"\",'H01 HC08'!M43)","v":""},{"$f":"IF('H01 HC08'!N43=\"\",\"\",'H01 HC08'!N43)","v":""},{"$f":"IF('H01 HC08'!O43=\"\",\"\",'H01 HC08'!O43)","v":""},{"$f":"IF('H01 HC08'!P43=\"\",\"\",'H01 HC08'!P43)","v":""},{"$f":"IF('H01 HC08'!Q43=\"\",\"\",'H01 HC08'!Q43)","v":""},{"$f":"IF('H01 HC08'!R43=\"\",\"\",'H01 HC08'!R43)","v":""},{"$f":"IF('H01 HC08'!S43=\"\",\"\",'H01 HC08'!S43)","v":""},{"$f":"IF('H01 HC08'!T43=\"\",\"\",'H01 HC08'!T43)","v":""}]
[null,{"$f":"IF('H01 HC08'!B44=\"\",\"\",'H01 HC08'!B44)","v":""},{"$f":"IF('H01 HC08'!C44=\"\",\"\",'H01 HC08'!C44)","v":""},{"$f":"IF('H01 HC08'!D44=\"\",\"\",'H01 HC08'!D44)","v":""},null,null,null,null,null,{"$f":"IF('H01 HC08'!E44=\"\",\"\",'H01 HC08'!E44)","v":""},{"$f":"IF('H01 HC08'!F44=\"\",\"\",'H01 HC08'!F44)","v":""},{"$f":"IF('H01 HC08'!G44=\"\",\"\",'H01 HC08'!G44)","v":""},{"$f":"IF('H01 HC08'!H44=\"\",\"\",'H01 HC08'!H44)","v":""},{"$f":"IF('H01 HC08'!I44=\"\",\"\",'H01 HC08'!I44)","v":""},{"$f":"IF('H01 HC08'!J44=\"\",\"\",'H01 HC08'!J44)","v":""},{"$f":"IF(D752=\"\",\"\",VLOOKUP(D752,#REF!,3,0))","v":""},{"$f":"IF('H01 HC08'!K44=\"\",\"\",'H01 HC08'!K44)","v":""},{"$f":"IF('H01 HC08'!L44=\"\",\"\",'H01 HC08'!L44)","v":""},{"$f":"IF('H01 HC08'!M44=\"\",\"\",'H01 HC08'!M44)","v":""},{"$f":"IF('H01 HC08'!N44=\"\",\"\",'H01 HC08'!N44)","v":""},{"$f":"IF('H01 HC08'!O44=\"\",\"\",'H01 HC08'!O44)","v":""},{"$f":"IF('H01 HC08'!P44=\"\",\"\",'H01 HC08'!P44)","v":""},{"$f":"IF('H01 HC08'!Q44=\"\",\"\",'H01 HC08'!Q44)","v":""},{"$f":"IF('H01 HC08'!R44=\"\",\"\",'H01 HC08'!R44)","v":""},{"$f":"IF('H01 HC08'!S44=\"\",\"\",'H01 HC08'!S44)","v":""},{"$f":"IF('H01 HC08'!T44=\"\",\"\",'H01 HC08'!T44)","v":""}]
[null,{"$f":"IF('H01 HC08'!B45=\"\",\"\",'H01 HC08'!B45)","v":""},{"$f":"IF('H01 HC08'!C45=\"\",\"\",'H01 HC08'!C45)","v":""},{"$f":"IF('H01 HC08'!D45=\"\",\"\",'H01 HC08'!D45)","v":""},null,null,null,null,null,{"$f":"IF('H01 HC08'!E45=\"\",\"\",'H01 HC08'!E45)","v":""},{"$f":"IF('H01 HC08'!F45=\"\",\"\",'H01 HC08'!F45)","v":""},{"$f":"IF('H01 HC08'!G45=\"\",\"\",'H01 HC08'!G45)","v":""},{"$f":"IF('H01 HC08'!H45=\"\",\"\",'H01 HC08'!H45)","v":""},{"$f":"IF('H01 HC08'!I45=\"\",\"\",'H01 HC08'!I45)","v":""},{"$f":"IF('H01 HC08'!J45=\"\",\"\",'H01 HC08'!J45)","v":""},{"$f":"IF(D753=\"\",\"\",VLOOKUP(D753,#REF!,3,0))","v":""},{"$f":"IF('H01 HC08'!K45=\"\",\"\",'H01 HC08'!K45)","v":""},{"$f":"IF('H01 HC08'!L45=\"\",\"\",'H01 HC08'!L45)","v":""},{"$f":"IF('H01 HC08'!M45=\"\",\"\",'H01 HC08'!M45)","v":""},{"$f":"IF('H01 HC08'!N45=\"\",\"\",'H01 HC08'!N45)","v":""},{"$f":"IF('H01 HC08'!O45=\"\",\"\",'H01 HC08'!O45)","v":""},{"$f":"IF('H01 HC08'!P45=\"\",\"\",'H01 HC08'!P45)","v":""},{"$f":"IF('H01 HC08'!Q45=\"\",\"\",'H01 HC08'!Q45)","v":""},{"$f":"IF('H01 HC08'!R45=\"\",\"\",'H01 HC08'!R45)","v":""},{"$f":"IF('H01 HC08'!S45=\"\",\"\",'H01 HC08'!S45)","v":""},{"$f":"IF('H01 HC08'!T45=\"\",\"\",'H01 HC08'!T45)","v":""}]
[null,{"$f":"IF('H01 HC08'!B46=\"\",\"\",'H01 HC08'!B46)","v":""},{"$f":"IF('H01 HC08'!C46=\"\",\"\",'H01 HC08'!C46)","v":""},{"$f":"IF('H01 HC08'!D46=\"\",\"\",'H01 HC08'!D46)","v":""},null,null,null,null,null,{"$f":"IF('H01 HC08'!E46=\"\",\"\",'H01 HC08'!E46)","v":""},{"$f":"IF('H01 HC08'!F46=\"\",\"\",'H01 HC08'!F46)","v":""},{"$f":"IF('H01 HC08'!G46=\"\",\"\",'H01 HC08'!G46)","v":""},{"$f":"IF('H01 HC08'!H46=\"\",\"\",'H01 HC08'!H46)","v":""},{"$f":"IF('H01 HC08'!I46=\"\",\"\",'H01 HC08'!I46)","v":""},{"$f":"IF('H01 HC08'!J46=\"\",\"\",'H01 HC08'!J46)","v":""},{"$f":"IF(D754=\"\",\"\",VLOOKUP(D754,#REF!,3,0))","v":""},{"$f":"IF('H01 HC08'!K46=\"\",\"\",'H01 HC08'!K46)","v":""},{"$f":"IF('H01 HC08'!L46=\"\",\"\",'H01 HC08'!L46)","v":""},{"$f":"IF('H01 HC08'!M46=\"\",\"\",'H01 HC08'!M46)","v":""},{"$f":"IF('H01 HC08'!N46=\"\",\"\",'H01 HC08'!N46)","v":""},{"$f":"IF('H01 HC08'!O46=\"\",\"\",'H01 HC08'!O46)","v":""},{"$f":"IF('H01 HC08'!P46=\"\",\"\",'H01 HC08'!P46)","v":""},{"$f":"IF('H01 HC08'!Q46=\"\",\"\",'H01 HC08'!Q46)","v":""},{"$f":"IF('H01 HC08'!R46=\"\",\"\",'H01 HC08'!R46)","v":""},{"$f":"IF('H01 HC08'!S46=\"\",\"\",'H01 HC08'!S46)","v":""},{"$f":"IF('H01 HC08'!T46=\"\",\"\",'H01 HC08'!T46)","v":""}]
[null,{"$f":"IF('H01 HC08'!B47=\"\",\"\",'H01 HC08'!B47)","v":""},{"$f":"IF('H01 HC08'!C47=\"\",\"\",'H01 HC08'!C47)","v":""},{"$f":"IF('H01 HC08'!D47=\"\",\"\",'H01 HC08'!D47)","v":""},null,null,null,null,null,{"$f":"IF('H01 HC08'!E47=\"\",\"\",'H01 HC08'!E47)","v":""},{"$f":"IF('H01 HC08'!F47=\"\",\"\",'H01 HC08'!F47)","v":""},{"$f":"IF('H01 HC08'!G47=\"\",\"\",'H01 HC08'!G47)","v":""},{"$f":"IF('H01 HC08'!H47=\"\",\"\",'H01 HC08'!H47)","v":""},{"$f":"IF('H01 HC08'!I47=\"\",\"\",'H01 HC08'!I47)","v":""},{"$f":"IF('H01 HC08'!J47=\"\",\"\",'H01 HC08'!J47)","v":""},{"$f":"IF(D755=\"\",\"\",VLOOKUP(D755,#REF!,3,0))","v":""},{"$f":"IF('H01 HC08'!K47=\"\",\"\",'H01 HC08'!K47)","v":""},{"$f":"IF('H01 HC08'!L47=\"\",\"\",'H01 HC08'!L47)","v":""},{"$f":"IF('H01 HC08'!M47=\"\",\"\",'H01 HC08'!M47)","v":""},{"$f":"IF('H01 HC08'!N47=\"\",\"\",'H01 HC08'!N47)","v":""},{"$f":"IF('H01 HC08'!O47=\"\",\"\",'H01 HC08'!O47)","v":""},{"$f":"IF('H01 HC08'!P47=\"\",\"\",'H01 HC08'!P47)","v":""},{"$f":"IF('H01 HC08'!Q47=\"\",\"\",'H01 HC08'!Q47)","v":""},{"$f":"IF('H01 HC08'!R47=\"\",\"\",'H01 HC08'!R47)","v":""},{"$f":"IF('H01 HC08'!S47=\"\",\"\",'H01 HC08'!S47)","v":""},{"$f":"IF('H01 HC08'!T47=\"\",\"\",'H01 HC08'!T47)","v":""}]
[null,{"$f":"IF('H01 HC08'!B48=\"\",\"\",'H01 HC08'!B48)","v":""},{"$f":"IF('H01 HC08'!C48=\"\",\"\",'H01 HC08'!C48)","v":""},{"$f":"IF('H01 HC08'!D48=\"\",\"\",'H01 HC08'!D48)","v":""},null,null,null,null,null,{"$f":"IF('H01 HC08'!E48=\"\",\"\",'H01 HC08'!E48)","v":""},{"$f":"IF('H01 HC08'!F48=\"\",\"\",'H01 HC08'!F48)","v":""},{"$f":"IF('H01 HC08'!G48=\"\",\"\",'H01 HC08'!G48)","v":""},{"$f":"IF('H01 HC08'!H48=\"\",\"\",'H01 HC08'!H48)","v":""},{"$f":"IF('H01 HC08'!I48=\"\",\"\",'H01 HC08'!I48)","v":""},{"$f":"IF('H01 HC08'!J48=\"\",\"\",'H01 HC08'!J48)","v":""},{"$f":"IF(D756=\"\",\"\",VLOOKUP(D756,#REF!,3,0))","v":""},{"$f":"IF('H01 HC08'!K48=\"\",\"\",'H01 HC08'!K48)","v":""},{"$f":"IF('H01 HC08'!L48=\"\",\"\",'H01 HC08'!L48)","v":""},{"$f":"IF('H01 HC08'!M48=\"\",\"\",'H01 HC08'!M48)","v":""},{"$f":"IF('H01 HC08'!N48=\"\",\"\",'H01 HC08'!N48)","v":""},{"$f":"IF('H01 HC08'!O48=\"\",\"\",'H01 HC08'!O48)","v":""},{"$f":"IF('H01 HC08'!P48=\"\",\"\",'H01 HC08'!P48)","v":""},{"$f":"IF('H01 HC08'!Q48=\"\",\"\",'H01 HC08'!Q48)","v":""},{"$f":"IF('H01 HC08'!R48=\"\",\"\",'H01 HC08'!R48)","v":""},{"$f":"IF('H01 HC08'!S48=\"\",\"\",'H01 HC08'!S48)","v":""},{"$f":"IF('H01 HC08'!T48=\"\",\"\",'H01 HC08'!T48)","v":""}]
[null,{"$f":"IF('H01 HC08'!B49=\"\",\"\",'H01 HC08'!B49)","v":""},{"$f":"IF('H01 HC08'!C49=\"\",\"\",'H01 HC08'!C49)","v":""},{"$f":"IF('H01 HC08'!D49=\"\",\"\",'H01 HC08'!D49)","v":""},null,null,null,null,null,{"$f":"IF('H01 HC08'!E49=\"\",\"\",'H01 HC08'!E49)","v":""},{"$f":"IF('H01 HC08'!F49=\"\",\"\",'H01 HC08'!F49)","v":""},{"$f":"IF('H01 HC08'!G49=\"\",\"\",'H01 HC08'!G49)","v":""},{"$f":"IF('H01 HC08'!H49=\"\",\"\",'H01 HC08'!H49)","v":""},{"$f":"IF('H01 HC08'!I49=\"\",\"\",'H01 HC08'!I49)","v":""},{"$f":"IF('H01 HC08'!J49=\"\",\"\",'H01 HC08'!J49)","v":""},{"$f":"IF(D757=\"\",\"\",VLOOKUP(D757,#REF!,3,0))","v":""},{"$f":"IF('H01 HC08'!K49=\"\",\"\",'H01 HC08'!K49)","v":""},{"$f":"IF('H01 HC08'!L49=\"\",\"\",'H01 HC08'!L49)","v":""},{"$f":"IF('H01 HC08'!M49=\"\",\"\",'H01 HC08'!M49)","v":""},{"$f":"IF('H01 HC08'!N49=\"\",\"\",'H01 HC08'!N49)","v":""},{"$f":"IF('H01 HC08'!O49=\"\",\"\",'H01 HC08'!O49)","v":""},{"$f":"IF('H01 HC08'!P49=\"\",\"\",'H01 HC08'!P49)","v":""},{"$f":"IF('H01 HC08'!Q49=\"\",\"\",'H01 HC08'!Q49)","v":""},{"$f":"IF('H01 HC08'!R49=\"\",\"\",'H01 HC08'!R49)","v":""},{"$f":"IF('H01 HC08'!S49=\"\",\"\",'H01 HC08'!S49)","v":""},{"$f":"IF('H01 HC08'!T49=\"\",\"\",'H01 HC08'!T49)","v":""}]
[null,{"$f":"IF('H01 HC08'!B50=\"\",\"\",'H01 HC08'!B50)","v":""},{"$f":"IF('H01 HC08'!C50=\"\",\"\",'H01 HC08'!C50)","v":""},{"$f":"IF('H01 HC08'!D50=\"\",\"\",'H01 HC08'!D50)","v":""},null,null,null,null,null,{"$f":"IF('H01 HC08'!E50=\"\",\"\",'H01 HC08'!E50)","v":""},{"$f":"IF('H01 HC08'!F50=\"\",\"\",'H01 HC08'!F50)","v":""},{"$f":"IF('H01 HC08'!G50=\"\",\"\",'H01 HC08'!G50)","v":""},{"$f":"IF('H01 HC08'!H50=\"\",\"\",'H01 HC08'!H50)","v":""},{"$f":"IF('H01 HC08'!I50=\"\",\"\",'H01 HC08'!I50)","v":""},{"$f":"IF('H01 HC08'!J50=\"\",\"\",'H01 HC08'!J50)","v":""},{"$f":"IF(D758=\"\",\"\",VLOOKUP(D758,#REF!,3,0))","v":""},{"$f":"IF('H01 HC08'!K50=\"\",\"\",'H01 HC08'!K50)","v":""},{"$f":"IF('H01 HC08'!L50=\"\",\"\",'H01 HC08'!L50)","v":""},{"$f":"IF('H01 HC08'!M50=\"\",\"\",'H01 HC08'!M50)","v":""},{"$f":"IF('H01 HC08'!N50=\"\",\"\",'H01 HC08'!N50)","v":""},{"$f":"IF('H01 HC08'!O50=\"\",\"\",'H01 HC08'!O50)","v":""},{"$f":"IF('H01 HC08'!P50=\"\",\"\",'H01 HC08'!P50)","v":""},{"$f":"IF('H01 HC08'!Q50=\"\",\"\",'H01 HC08'!Q50)","v":""},{"$f":"IF('H01 HC08'!R50=\"\",\"\",'H01 HC08'!R50)","v":""},{"$f":"IF('H01 HC08'!S50=\"\",\"\",'H01 HC08'!S50)","v":""},{"$f":"IF('H01 HC08'!T50=\"\",\"\",'H01 HC08'!T50)","v":""}]
[null,{"$f":"IF('H01 HC08'!B51=\"\",\"\",'H01 HC08'!B51)","v":""},{"$f":"IF('H01 HC08'!C51=\"\",\"\",'H01 HC08'!C51)","v":""},{"$f":"IF('H01 HC08'!D51=\"\",\"\",'H01 HC08'!D51)","v":""},null,null,null,null,null,{"$f":"IF('H01 HC08'!E51=\"\",\"\",'H01 HC08'!E51)","v":""},{"$f":"IF('H01 HC08'!F51=\"\",\"\",'H01 HC08'!F51)","v":""},{"$f":"IF('H01 HC08'!G51=\"\",\"\",'H01 HC08'!G51)","v":""},{"$f":"IF('H01 HC08'!H51=\"\",\"\",'H01 HC08'!H51)","v":""},{"$f":"IF('H01 HC08'!I51=\"\",\"\",'H01 HC08'!I51)","v":""},{"$f":"IF('H01 HC08'!J51=\"\",\"\",'H01 HC08'!J51)","v":""},{"$f":"IF(D759=\"\",\"\",VLOOKUP(D759,#REF!,3,0))","v":""},{"$f":"IF('H01 HC08'!K51=\"\",\"\",'H01 HC08'!K51)","v":""},{"$f":"IF('H01 HC08'!L51=\"\",\"\",'H01 HC08'!L51)","v":""},{"$f":"IF('H01 HC08'!M51=\"\",\"\",'H01 HC08'!M51)","v":""},{"$f":"IF('H01 HC08'!N51=\"\",\"\",'H01 HC08'!N51)","v":""},{"$f":"IF('H01 HC08'!O51=\"\",\"\",'H01 HC08'!O51)","v":""},{"$f":"IF('H01 HC08'!P51=\"\",\"\",'H01 HC08'!P51)","v":""},{"$f":"IF('H01 HC08'!Q51=\"\",\"\",'H01 HC08'!Q51)","v":""},{"$f":"IF('H01 HC08'!R51=\"\",\"\",'H01 HC08'!R51)","v":""},{"$f":"IF('H01 HC08'!S51=\"\",\"\",'H01 HC08'!S51)","v":""},{"$f":"IF('H01 HC08'!T51=\"\",\"\",'H01 HC08'!T51)","v":""}]
[null,{"$f":"IF('H01 HC08'!B52=\"\",\"\",'H01 HC08'!B52)","v":""},{"$f":"IF('H01 HC08'!C52=\"\",\"\",'H01 HC08'!C52)","v":""},{"$f":"IF('H01 HC08'!D52=\"\",\"\",'H01 HC08'!D52)","v":""},null,null,null,null,null,{"$f":"IF('H01 HC08'!E52=\"\",\"\",'H01 HC08'!E52)","v":""},{"$f":"IF('H01 HC08'!F52=\"\",\"\",'H01 HC08'!F52)","v":""},{"$f":"IF('H01 HC08'!G52=\"\",\"\",'H01 HC08'!G52)","v":""},{"$f":"IF('H01 HC08'!H52=\"\",\"\",'H01 HC08'!H52)","v":""},{"$f":"IF('H01 HC08'!I52=\"\",\"\",'H01 HC08'!I52)","v":""},{"$f":"IF('H01 HC08'!J52=\"\",\"\",'H01 HC08'!J52)","v":""},{"$f":"IF(D760=\"\",\"\",VLOOKUP(D760,#REF!,3,0))","v":""},{"$f":"IF('H01 HC08'!K52=\"\",\"\",'H01 HC08'!K52)","v":""},{"$f":"IF('H01 HC08'!L52=\"\",\"\",'H01 HC08'!L52)","v":""},{"$f":"IF('H01 HC08'!M52=\"\",\"\",'H01 HC08'!M52)","v":""},{"$f":"IF('H01 HC08'!N52=\"\",\"\",'H01 HC08'!N52)","v":""},{"$f":"IF('H01 HC08'!O52=\"\",\"\",'H01 HC08'!O52)","v":""},{"$f":"IF('H01 HC08'!P52=\"\",\"\",'H01 HC08'!P52)","v":""},{"$f":"IF('H01 HC08'!Q52=\"\",\"\",'H01 HC08'!Q52)","v":""},{"$f":"IF('H01 HC08'!R52=\"\",\"\",'H01 HC08'!R52)","v":""},{"$f":"IF('H01 HC08'!S52=\"\",\"\",'H01 HC08'!S52)","v":""},{"$f":"IF('H01 HC08'!T52=\"\",\"\",'H01 HC08'!T52)","v":""}]
[null,{"$f":"IF('H01 HC08'!B53=\"\",\"\",'H01 HC08'!B53)","v":""},{"$f":"IF('H01 HC08'!C53=\"\",\"\",'H01 HC08'!C53)","v":""},{"$f":"IF('H01 HC08'!D53=\"\",\"\",'H01 HC08'!D53)","v":""},null,null,null,null,null,{"$f":"IF('H01 HC08'!E53=\"\",\"\",'H01 HC08'!E53)","v":""},{"$f":"IF('H01 HC08'!F53=\"\",\"\",'H01 HC08'!F53)","v":""},{"$f":"IF('H01 HC08'!G53=\"\",\"\",'H01 HC08'!G53)","v":""},{"$f":"IF('H01 HC08'!H53=\"\",\"\",'H01 HC08'!H53)","v":""},{"$f":"IF('H01 HC08'!I53=\"\",\"\",'H01 HC08'!I53)","v":""},{"$f":"IF('H01 HC08'!J53=\"\",\"\",'H01 HC08'!J53)","v":""},{"$f":"IF(D761=\"\",\"\",VLOOKUP(D761,#REF!,3,0))","v":""},{"$f":"IF('H01 HC08'!K53=\"\",\"\",'H01 HC08'!K53)","v":""},{"$f":"IF('H01 HC08'!L53=\"\",\"\",'H01 HC08'!L53)","v":""},{"$f":"IF('H01 HC08'!M53=\"\",\"\",'H01 HC08'!M53)","v":""},{"$f":"IF('H01 HC08'!N53=\"\",\"\",'H01 HC08'!N53)","v":""},{"$f":"IF('H01 HC08'!O53=\"\",\"\",'H01 HC08'!O53)","v":""},{"$f":"IF('H01 HC08'!P53=\"\",\"\",'H01 HC08'!P53)","v":""},{"$f":"IF('H01 HC08'!Q53=\"\",\"\",'H01 HC08'!Q53)","v":""},{"$f":"IF('H01 HC08'!R53=\"\",\"\",'H01 HC08'!R53)","v":""},{"$f":"IF('H01 HC08'!S53=\"\",\"\",'H01 HC08'!S53)","v":""},{"$f":"IF('H01 HC08'!T53=\"\",\"\",'H01 HC08'!T53)","v":""}]
[null,{"$f":"IF('H01 HC08'!B54=\"\",\"\",'H01 HC08'!B54)","v":""},{"$f":"IF('H01 HC08'!C54=\"\",\"\",'H01 HC08'!C54)","v":""},{"$f":"IF('H01 HC08'!D54=\"\",\"\",'H01 HC08'!D54)","v":""},null,null,null,null,null,{"$f":"IF('H01 HC08'!E54=\"\",\"\",'H01 HC08'!E54)","v":""},{"$f":"IF('H01 HC08'!F54=\"\",\"\",'H01 HC08'!F54)","v":""},{"$f":"IF('H01 HC08'!G54=\"\",\"\",'H01 HC08'!G54)","v":""},{"$f":"IF('H01 HC08'!H54=\"\",\"\",'H01 HC08'!H54)","v":""},{"$f":"IF('H01 HC08'!I54=\"\",\"\",'H01 HC08'!I54)","v":""},{"$f":"IF('H01 HC08'!J54=\"\",\"\",'H01 HC08'!J54)","v":""},{"$f":"IF(D762=\"\",\"\",VLOOKUP(D762,#REF!,3,0))","v":""},{"$f":"IF('H01 HC08'!K54=\"\",\"\",'H01 HC08'!K54)","v":""},{"$f":"IF('H01 HC08'!L54=\"\",\"\",'H01 HC08'!L54)","v":""},{"$f":"IF('H01 HC08'!M54=\"\",\"\",'H01 HC08'!M54)","v":""},{"$f":"IF('H01 HC08'!N54=\"\",\"\",'H01 HC08'!N54)","v":""},{"$f":"IF('H01 HC08'!O54=\"\",\"\",'H01 HC08'!O54)","v":""},{"$f":"IF('H01 HC08'!P54=\"\",\"\",'H01 HC08'!P54)","v":""},{"$f":"IF('H01 HC08'!Q54=\"\",\"\",'H01 HC08'!Q54)","v":""},{"$f":"IF('H01 HC08'!R54=\"\",\"\",'H01 HC08'!R54)","v":""},{"$f":"IF('H01 HC08'!S54=\"\",\"\",'H01 HC08'!S54)","v":""},{"$f":"IF('H01 HC08'!T54=\"\",\"\",'H01 HC08'!T54)","v":""}]
[null,{"$f":"IF('H01 HC08'!B55=\"\",\"\",'H01 HC08'!B55)","v":""},{"$f":"IF('H01 HC08'!C55=\"\",\"\",'H01 HC08'!C55)","v":""},{"$f":"IF('H01 HC08'!D55=\"\",\"\",'H01 HC08'!D55)","v":""},null,null,null,null,null,{"$f":"IF('H01 HC08'!E55=\"\",\"\",'H01 HC08'!E55)","v":""},{"$f":"IF('H01 HC08'!F55=\"\",\"\",'H01 HC08'!F55)","v":""},{"$f":"IF('H01 HC08'!G55=\"\",\"\",'H01 HC08'!G55)","v":""},{"$f":"IF('H01 HC08'!H55=\"\",\"\",'H01 HC08'!H55)","v":""},{"$f":"IF('H01 HC08'!I55=\"\",\"\",'H01 HC08'!I55)","v":""},{"$f":"IF('H01 HC08'!J55=\"\",\"\",'H01 HC08'!J55)","v":""},{"$f":"IF(D763=\"\",\"\",VLOOKUP(D763,#REF!,3,0))","v":""},{"$f":"IF('H01 HC08'!K55=\"\",\"\",'H01 HC08'!K55)","v":""},{"$f":"IF('H01 HC08'!L55=\"\",\"\",'H01 HC08'!L55)","v":""},{"$f":"IF('H01 HC08'!M55=\"\",\"\",'H01 HC08'!M55)","v":""},{"$f":"IF('H01 HC08'!N55=\"\",\"\",'H01 HC08'!N55)","v":""},{"$f":"IF('H01 HC08'!O55=\"\",\"\",'H01 HC08'!O55)","v":""},{"$f":"IF('H01 HC08'!P55=\"\",\"\",'H01 HC08'!P55)","v":""},{"$f":"IF('H01 HC08'!Q55=\"\",\"\",'H01 HC08'!Q55)","v":""},{"$f":"IF('H01 HC08'!R55=\"\",\"\",'H01 HC08'!R55)","v":""},{"$f":"IF('H01 HC08'!S55=\"\",\"\",'H01 HC08'!S55)","v":""},{"$f":"IF('H01 HC08'!T55=\"\",\"\",'H01 HC08'!T55)","v":""}]
[null,{"$f":"IF('H01 HC08'!B56=\"\",\"\",'H01 HC08'!B56)","v":""},{"$f":"IF('H01 HC08'!C56=\"\",\"\",'H01 HC08'!C56)","v":""},{"$f":"IF('H01 HC08'!D56=\"\",\"\",'H01 HC08'!D56)","v":""},null,null,null,null,null,{"$f":"IF('H01 HC08'!E56=\"\",\"\",'H01 HC08'!E56)","v":""},{"$f":"IF('H01 HC08'!F56=\"\",\"\",'H01 HC08'!F56)","v":""},{"$f":"IF('H01 HC08'!G56=\"\",\"\",'H01 HC08'!G56)","v":""},{"$f":"IF('H01 HC08'!H56=\"\",\"\",'H01 HC08'!H56)","v":""},{"$f":"IF('H01 HC08'!I56=\"\",\"\",'H01 HC08'!I56)","v":""},{"$f":"IF('H01 HC08'!J56=\"\",\"\",'H01 HC08'!J56)","v":""},{"$f":"IF(D764=\"\",\"\",VLOOKUP(D764,#REF!,3,0))","v":""},{"$f":"IF('H01 HC08'!K56=\"\",\"\",'H01 HC08'!K56)","v":""},{"$f":"IF('H01 HC08'!L56=\"\",\"\",'H01 HC08'!L56)","v":""},{"$f":"IF('H01 HC08'!M56=\"\",\"\",'H01 HC08'!M56)","v":""},{"$f":"IF('H01 HC08'!N56=\"\",\"\",'H01 HC08'!N56)","v":""},{"$f":"IF('H01 HC08'!O56=\"\",\"\",'H01 HC08'!O56)","v":""},{"$f":"IF('H01 HC08'!P56=\"\",\"\",'H01 HC08'!P56)","v":""},{"$f":"IF('H01 HC08'!Q56=\"\",\"\",'H01 HC08'!Q56)","v":""},{"$f":"IF('H01 HC08'!R56=\"\",\"\",'H01 HC08'!R56)","v":""},{"$f":"IF('H01 HC08'!S56=\"\",\"\",'H01 HC08'!S56)","v":""},{"$f":"IF('H01 HC08'!T56=\"\",\"\",'H01 HC08'!T56)","v":""}]
[null,{"$f":"IF('H01 HC08'!B57=\"\",\"\",'H01 HC08'!B57)","v":""},{"$f":"IF('H01 HC08'!C57=\"\",\"\",'H01 HC08'!C57)","v":""},{"$f":"IF('H01 HC08'!D57=\"\",\"\",'H01 HC08'!D57)","v":""},null,null,null,null,null,{"$f":"IF('H01 HC08'!E57=\"\",\"\",'H01 HC08'!E57)","v":""},{"$f":"IF('H01 HC08'!F57=\"\",\"\",'H01 HC08'!F57)","v":""},{"$f":"IF('H01 HC08'!G57=\"\",\"\",'H01 HC08'!G57)","v":""},{"$f":"IF('H01 HC08'!H57=\"\",\"\",'H01 HC08'!H57)","v":""},{"$f":"IF('H01 HC08'!I57=\"\",\"\",'H01 HC08'!I57)","v":""},{"$f":"IF('H01 HC08'!J57=\"\",\"\",'H01 HC08'!J57)","v":""},{"$f":"IF(D765=\"\",\"\",VLOOKUP(D765,#REF!,3,0))","v":""},{"$f":"IF('H01 HC08'!K57=\"\",\"\",'H01 HC08'!K57)","v":""},{"$f":"IF('H01 HC08'!L57=\"\",\"\",'H01 HC08'!L57)","v":""},{"$f":"IF('H01 HC08'!M57=\"\",\"\",'H01 HC08'!M57)","v":""},{"$f":"IF('H01 HC08'!N57=\"\",\"\",'H01 HC08'!N57)","v":""},{"$f":"IF('H01 HC08'!O57=\"\",\"\",'H01 HC08'!O57)","v":""},{"$f":"IF('H01 HC08'!P57=\"\",\"\",'H01 HC08'!P57)","v":""},{"$f":"IF('H01 HC08'!Q57=\"\",\"\",'H01 HC08'!Q57)","v":""},{"$f":"IF('H01 HC08'!R57=\"\",\"\",'H01 HC08'!R57)","v":""},{"$f":"IF('H01 HC08'!S57=\"\",\"\",'H01 HC08'!S57)","v":""},{"$f":"IF('H01 HC08'!T57=\"\",\"\",'H01 HC08'!T57)","v":""}]
[null,{"$f":"IF('H01 HC08'!B58=\"\",\"\",'H01 HC08'!B58)","v":""},{"$f":"IF('H01 HC08'!C58=\"\",\"\",'H01 HC08'!C58)","v":""},{"$f":"IF('H01 HC08'!D58=\"\",\"\",'H01 HC08'!D58)","v":""},null,null,null,null,null,{"$f":"IF('H01 HC08'!E58=\"\",\"\",'H01 HC08'!E58)","v":""},{"$f":"IF('H01 HC08'!F58=\"\",\"\",'H01 HC08'!F58)","v":""},{"$f":"IF('H01 HC08'!G58=\"\",\"\",'H01 HC08'!G58)","v":""},{"$f":"IF('H01 HC08'!H58=\"\",\"\",'H01 HC08'!H58)","v":""},{"$f":"IF('H01 HC08'!I58=\"\",\"\",'H01 HC08'!I58)","v":""},{"$f":"IF('H01 HC08'!J58=\"\",\"\",'H01 HC08'!J58)","v":""},{"$f":"IF(D766=\"\",\"\",VLOOKUP(D766,#REF!,3,0))","v":""},{"$f":"IF('H01 HC08'!K58=\"\",\"\",'H01 HC08'!K58)","v":""},{"$f":"IF('H01 HC08'!L58=\"\",\"\",'H01 HC08'!L58)","v":""},{"$f":"IF('H01 HC08'!M58=\"\",\"\",'H01 HC08'!M58)","v":""},{"$f":"IF('H01 HC08'!N58=\"\",\"\",'H01 HC08'!N58)","v":""},{"$f":"IF('H01 HC08'!O58=\"\",\"\",'H01 HC08'!O58)","v":""},{"$f":"IF('H01 HC08'!P58=\"\",\"\",'H01 HC08'!P58)","v":""},{"$f":"IF('H01 HC08'!Q58=\"\",\"\",'H01 HC08'!Q58)","v":""},{"$f":"IF('H01 HC08'!R58=\"\",\"\",'H01 HC08'!R58)","v":""},{"$f":"IF('H01 HC08'!S58=\"\",\"\",'H01 HC08'!S58)","v":""},{"$f":"IF('H01 HC08'!T58=\"\",\"\",'H01 HC08'!T58)","v":""}]
[null,{"$f":"IF('H01 HC08'!B59=\"\",\"\",'H01 HC08'!B59)","v":""},{"$f":"IF('H01 HC08'!C59=\"\",\"\",'H01 HC08'!C59)","v":""},{"$f":"IF('H01 HC08'!D59=\"\",\"\",'H01 HC08'!D59)","v":""},null,null,null,null,null,{"$f":"IF('H01 HC08'!E59=\"\",\"\",'H01 HC08'!E59)","v":""},{"$f":"IF('H01 HC08'!F59=\"\",\"\",'H01 HC08'!F59)","v":""},{"$f":"IF('H01 HC08'!G59=\"\",\"\",'H01 HC08'!G59)","v":""},{"$f":"IF('H01 HC08'!H59=\"\",\"\",'H01 HC08'!H59)","v":""},{"$f":"IF('H01 HC08'!I59=\"\",\"\",'H01 HC08'!I59)","v":""},{"$f":"IF('H01 HC08'!J59=\"\",\"\",'H01 HC08'!J59)","v":""},{"$f":"IF(D767=\"\",\"\",VLOOKUP(D767,#REF!,3,0))","v":""},{"$f":"IF('H01 HC08'!K59=\"\",\"\",'H01 HC08'!K59)","v":""},{"$f":"IF('H01 HC08'!L59=\"\",\"\",'H01 HC08'!L59)","v":""},{"$f":"IF('H01 HC08'!M59=\"\",\"\",'H01 HC08'!M59)","v":""},{"$f":"IF('H01 HC08'!N59=\"\",\"\",'H01 HC08'!N59)","v":""},{"$f":"IF('H01 HC08'!O59=\"\",\"\",'H01 HC08'!O59)","v":""},{"$f":"IF('H01 HC08'!P59=\"\",\"\",'H01 HC08'!P59)","v":""},{"$f":"IF('H01 HC08'!Q59=\"\",\"\",'H01 HC08'!Q59)","v":""},{"$f":"IF('H01 HC08'!R59=\"\",\"\",'H01 HC08'!R59)","v":""},{"$f":"IF('H01 HC08'!S59=\"\",\"\",'H01 HC08'!S59)","v":""},{"$f":"IF('H01 HC08'!T59=\"\",\"\",'H01 HC08'!T59)","v":""}]
[null,{"$f":"IF('H01 HC08'!B60=\"\",\"\",'H01 HC08'!B60)","v":""},{"$f":"IF('H01 HC08'!C60=\"\",\"\",'H01 HC08'!C60)","v":""},{"$f":"IF('H01 HC08'!D60=\"\",\"\",'H01 HC08'!D60)","v":""},null,null,null,null,null,{"$f":"IF('H01 HC08'!E60=\"\",\"\",'H01 HC08'!E60)","v":""},{"$f":"IF('H01 HC08'!F60=\"\",\"\",'H01 HC08'!F60)","v":""},{"$f":"IF('H01 HC08'!G60=\"\",\"\",'H01 HC08'!G60)","v":""},{"$f":"IF('H01 HC08'!H60=\"\",\"\",'H01 HC08'!H60)","v":""},{"$f":"IF('H01 HC08'!I60=\"\",\"\",'H01 HC08'!I60)","v":""},null,{"$f":"IF(D768=\"\",\"\",VLOOKUP(D768,#REF!,3,0))","v":""},{"$f":"IF('H01 HC08'!K60=\"\",\"\",'H01 HC08'!K60)","v":""},{"$f":"IF('H01 HC08'!L60=\"\",\"\",'H01 HC08'!L60)","v":""},{"$f":"IF('H01 HC08'!M60=\"\",\"\",'H01 HC08'!M60)","v":""},{"$f":"IF('H01 HC08'!N60=\"\",\"\",'H01 HC08'!N60)","v":""},{"$f":"IF('H01 HC08'!O60=\"\",\"\",'H01 HC08'!O60)","v":""},{"$f":"IF('H01 HC08'!P60=\"\",\"\",'H01 HC08'!P60)","v":""},{"$f":"IF('H01 HC08'!Q60=\"\",\"\",'H01 HC08'!Q60)","v":""},{"$f":"IF('H01 HC08'!R60=\"\",\"\",'H01 HC08'!R60)","v":""},{"$f":"IF('H01 HC08'!S60=\"\",\"\",'H01 HC08'!S60)","v":""},{"$f":"IF('H01 HC08'!T60=\"\",\"\",'H01 HC08'!T60)","v":""}]
[null,{"$f":"IF('H01 HC08'!B61=\"\",\"\",'H01 HC08'!B61)","v":""},{"$f":"IF('H01 HC08'!C61=\"\",\"\",'H01 HC08'!C61)","v":""},{"$f":"IF('H01 HC08'!D61=\"\",\"\",'H01 HC08'!D61)","v":""},null,null,null,null,null,{"$f":"IF('H01 HC08'!E61=\"\",\"\",'H01 HC08'!E61)","v":""},{"$f":"IF('H01 HC08'!F61=\"\",\"\",'H01 HC08'!F61)","v":""},{"$f":"IF('H01 HC08'!G61=\"\",\"\",'H01 HC08'!G61)","v":""},{"$f":"IF('H01 HC08'!H61=\"\",\"\",'H01 HC08'!H61)","v":""},{"$f":"IF('H01 HC08'!I61=\"\",\"\",'H01 HC08'!I61)","v":""},{"$f":"IF('H01 HC08'!J61=\"\",\"\",'H01 HC08'!J61)","v":""},{"$f":"IF(D769=\"\",\"\",VLOOKUP(D769,#REF!,3,0))","v":""},{"$f":"IF('H01 HC08'!K61=\"\",\"\",'H01 HC08'!K61)","v":""},{"$f":"IF('H01 HC08'!L61=\"\",\"\",'H01 HC08'!L61)","v":""},{"$f":"IF('H01 HC08'!M61=\"\",\"\",'H01 HC08'!M61)","v":""},{"$f":"IF('H01 HC08'!N61=\"\",\"\",'H01 HC08'!N61)","v":""},{"$f":"IF('H01 HC08'!O61=\"\",\"\",'H01 HC08'!O61)","v":""},{"$f":"IF('H01 HC08'!P61=\"\",\"\",'H01 HC08'!P61)","v":""},{"$f":"IF('H01 HC08'!Q61=\"\",\"\",'H01 HC08'!Q61)","v":""},{"$f":"IF('H01 HC08'!R61=\"\",\"\",'H01 HC08'!R61)","v":""},{"$f":"IF('H01 HC08'!S61=\"\",\"\",'H01 HC08'!S61)","v":""},{"$f":"IF('H01 HC08'!T61=\"\",\"\",'H01 HC08'!T61)","v":""}]
[null,{"$f":"IF('H01 HC08'!B62=\"\",\"\",'H01 HC08'!B62)","v":""},{"$f":"IF('H01 HC08'!C62=\"\",\"\",'H01 HC08'!C62)","v":""},{"$f":"IF('H01 HC08'!D62=\"\",\"\",'H01 HC08'!D62)","v":""},null,null,null,null,null,{"$f":"IF('H01 HC08'!E62=\"\",\"\",'H01 HC08'!E62)","v":""},{"$f":"IF('H01 HC08'!F62=\"\",\"\",'H01 HC08'!F62)","v":""},{"$f":"IF('H01 HC08'!G62=\"\",\"\",'H01 HC08'!G62)","v":""},{"$f":"IF('H01 HC08'!H62=\"\",\"\",'H01 HC08'!H62)","v":""},{"$f":"IF('H01 HC08'!I62=\"\",\"\",'H01 HC08'!I62)","v":""},{"$f":"IF('H01 HC08'!J62=\"\",\"\",'H01 HC08'!J62)","v":""},{"$f":"IF(D770=\"\",\"\",VLOOKUP(D770,#REF!,3,0))","v":""},{"$f":"IF('H01 HC08'!K62=\"\",\"\",'H01 HC08'!K62)","v":""},{"$f":"IF('H01 HC08'!L62=\"\",\"\",'H01 HC08'!L62)","v":""},{"$f":"IF('H01 HC08'!M62=\"\",\"\",'H01 HC08'!M62)","v":""},{"$f":"IF('H01 HC08'!N62=\"\",\"\",'H01 HC08'!N62)","v":""},{"$f":"IF('H01 HC08'!O62=\"\",\"\",'H01 HC08'!O62)","v":""},{"$f":"IF('H01 HC08'!P62=\"\",\"\",'H01 HC08'!P62)","v":""},{"$f":"IF('H01 HC08'!Q62=\"\",\"\",'H01 HC08'!Q62)","v":""},{"$f":"IF('H01 HC08'!R62=\"\",\"\",'H01 HC08'!R62)","v":""},{"$f":"IF('H01 HC08'!S62=\"\",\"\",'H01 HC08'!S62)","v":""},{"$f":"IF('H01 HC08'!T62=\"\",\"\",'H01 HC08'!T62)","v":""}]
[null,{"$f":"IF('H01 HC08'!B63=\"\",\"\",'H01 HC08'!B63)","v":""},{"$f":"IF('H01 HC08'!C63=\"\",\"\",'H01 HC08'!C63)","v":""},{"$f":"IF('H01 HC08'!D63=\"\",\"\",'H01 HC08'!D63)","v":""},null,null,null,null,null,{"$f":"IF('H01 HC08'!E63=\"\",\"\",'H01 HC08'!E63)","v":""},{"$f":"IF('H01 HC08'!F63=\"\",\"\",'H01 HC08'!F63)","v":""},{"$f":"IF('H01 HC08'!G63=\"\",\"\",'H01 HC08'!G63)","v":""},{"$f":"IF('H01 HC08'!H63=\"\",\"\",'H01 HC08'!H63)","v":""},{"$f":"IF('H01 HC08'!I63=\"\",\"\",'H01 HC08'!I63)","v":""},{"$f":"IF('H01 HC08'!J60=\"\",\"\",'H01 HC08'!J60)","v":""},{"$f":"IF(D771=\"\",\"\",VLOOKUP(D771,#REF!,3,0))","v":""},{"$f":"IF('H01 HC08'!K63=\"\",\"\",'H01 HC08'!K63)","v":""},{"$f":"IF('H01 HC08'!L63=\"\",\"\",'H01 HC08'!L63)","v":""},{"$f":"IF('H01 HC08'!M63=\"\",\"\",'H01 HC08'!M63)","v":""},{"$f":"IF('H01 HC08'!N63=\"\",\"\",'H01 HC08'!N63)","v":""},{"$f":"IF('H01 HC08'!O63=\"\",\"\",'H01 HC08'!O63)","v":""},{"$f":"IF('H01 HC08'!P63=\"\",\"\",'H01 HC08'!P63)","v":""},{"$f":"IF('H01 HC08'!Q63=\"\",\"\",'H01 HC08'!Q63)","v":""},{"$f":"IF('H01 HC08'!R63=\"\",\"\",'H01 HC08'!R63)","v":""},{"$f":"IF('H01 HC08'!S63=\"\",\"\",'H01 HC08'!S63)","v":""},{"$f":"IF('H01 HC08'!T63=\"\",\"\",'H01 HC08'!T63)","v":""}]
[null,{"$f":"IF('H01 HC08'!B64=\"\",\"\",'H01 HC08'!B64)","v":""},{"$f":"IF('H01 HC08'!C64=\"\",\"\",'H01 HC08'!C64)","v":""},{"$f":"IF('H01 HC08'!D64=\"\",\"\",'H01 HC08'!D64)","v":""},null,null,null,null,null,{"$f":"IF('H01 HC08'!E64=\"\",\"\",'H01 HC08'!E64)","v":""},{"$f":"IF('H01 HC08'!F64=\"\",\"\",'H01 HC08'!F64)","v":""},{"$f":"IF('H01 HC08'!G64=\"\",\"\",'H01 HC08'!G64)","v":""},{"$f":"IF('H01 HC08'!H64=\"\",\"\",'H01 HC08'!H64)","v":""},{"$f":"IF('H01 HC08'!I64=\"\",\"\",'H01 HC08'!I64)","v":""},{"$f":"IF('H01 HC08'!J64=\"\",\"\",'H01 HC08'!J64)","v":""},{"$f":"IF(D772=\"\",\"\",VLOOKUP(D772,#REF!,3,0))","v":""},{"$f":"IF('H01 HC08'!K64=\"\",\"\",'H01 HC08'!K64)","v":""},{"$f":"IF('H01 HC08'!L64=\"\",\"\",'H01 HC08'!L64)","v":""},{"$f":"IF('H01 HC08'!M64=\"\",\"\",'H01 HC08'!M64)","v":""},{"$f":"IF('H01 HC08'!N64=\"\",\"\",'H01 HC08'!N64)","v":""},{"$f":"IF('H01 HC08'!O64=\"\",\"\",'H01 HC08'!O64)","v":""},{"$f":"IF('H01 HC08'!P64=\"\",\"\",'H01 HC08'!P64)","v":""},{"$f":"IF('H01 HC08'!Q64=\"\",\"\",'H01 HC08'!Q64)","v":""},{"$f":"IF('H01 HC08'!R64=\"\",\"\",'H01 HC08'!R64)","v":""},{"$f":"IF('H01 HC08'!S64=\"\",\"\",'H01 HC08'!S64)","v":""},{"$f":"IF('H01 HC08'!T64=\"\",\"\",'H01 HC08'!T64)","v":""}]
[null,{"$f":"IF('H01 HC08'!B65=\"\",\"\",'H01 HC08'!B65)","v":""},{"$f":"IF('H01 HC08'!C65=\"\",\"\",'H01 HC08'!C65)","v":""},{"$f":"IF('H01 HC08'!D65=\"\",\"\",'H01 HC08'!D65)","v":""},null,null,null,null,null,{"$f":"IF('H01 HC08'!E65=\"\",\"\",'H01 HC08'!E65)","v":""},{"$f":"IF('H01 HC08'!F65=\"\",\"\",'H01 HC08'!F65)","v":""},{"$f":"IF('H01 HC08'!G65=\"\",\"\",'H01 HC08'!G65)","v":""},{"$f":"IF('H01 HC08'!H65=\"\",\"\",'H01 HC08'!H65)","v":""},{"$f":"IF('H01 HC08'!I65=\"\",\"\",'H01 HC08'!I65)","v":""},{"$f":"IF('H01 HC08'!J65=\"\",\"\",'H01 HC08'!J65)","v":""},{"$f":"IF(D773=\"\",\"\",VLOOKUP(D773,#REF!,3,0))","v":""},{"$f":"IF('H01 HC08'!K65=\"\",\"\",'H01 HC08'!K65)","v":""},{"$f":"IF('H01 HC08'!L65=\"\",\"\",'H01 HC08'!L65)","v":""},{"$f":"IF('H01 HC08'!M65=\"\",\"\",'H01 HC08'!M65)","v":""},{"$f":"IF('H01 HC08'!N65=\"\",\"\",'H01 HC08'!N65)","v":""},{"$f":"IF('H01 HC08'!O65=\"\",\"\",'H01 HC08'!O65)","v":""},{"$f":"IF('H01 HC08'!P65=\"\",\"\",'H01 HC08'!P65)","v":""},{"$f":"IF('H01 HC08'!Q65=\"\",\"\",'H01 HC08'!Q65)","v":""},{"$f":"IF('H01 HC08'!R65=\"\",\"\",'H01 HC08'!R65)","v":""},{"$f":"IF('H01 HC08'!S65=\"\",\"\",'H01 HC08'!S65)","v":""},{"$f":"IF('H01 HC08'!T65=\"\",\"\",'H01 HC08'!T65)","v":""}]
[null,{"$f":"IF('H01 HC08'!B66=\"\",\"\",'H01 HC08'!B66)","v":""},{"$f":"IF('H01 HC08'!C66=\"\",\"\",'H01 HC08'!C66)","v":""},{"$f":"IF('H01 HC08'!D66=\"\",\"\",'H01 HC08'!D66)","v":""},null,null,null,null,null,{"$f":"IF('H01 HC08'!E66=\"\",\"\",'H01 HC08'!E66)","v":""},{"$f":"IF('H01 HC08'!F66=\"\",\"\",'H01 HC08'!F66)","v":""},{"$f":"IF('H01 HC08'!G66=\"\",\"\",'H01 HC08'!G66)","v":""},{"$f":"IF('H01 HC08'!H66=\"\",\"\",'H01 HC08'!H66)","v":""},{"$f":"IF('H01 HC08'!I66=\"\",\"\",'H01 HC08'!I66)","v":""},{"$f":"IF('H01 HC08'!J66=\"\",\"\",'H01 HC08'!J66)","v":""},{"$f":"IF(D774=\"\",\"\",VLOOKUP(D774,#REF!,3,0))","v":""},{"$f":"IF('H01 HC08'!K66=\"\",\"\",'H01 HC08'!K66)","v":""},{"$f":"IF('H01 HC08'!L66=\"\",\"\",'H01 HC08'!L66)","v":""},{"$f":"IF('H01 HC08'!M66=\"\",\"\",'H01 HC08'!M66)","v":""},{"$f":"IF('H01 HC08'!N66=\"\",\"\",'H01 HC08'!N66)","v":""},{"$f":"IF('H01 HC08'!O66=\"\",\"\",'H01 HC08'!O66)","v":""},{"$f":"IF('H01 HC08'!P66=\"\",\"\",'H01 HC08'!P66)","v":""},{"$f":"IF('H01 HC08'!Q66=\"\",\"\",'H01 HC08'!Q66)","v":""},{"$f":"IF('H01 HC08'!R66=\"\",\"\",'H01 HC08'!R66)","v":""},{"$f":"IF('H01 HC08'!S66=\"\",\"\",'H01 HC08'!S66)","v":""},{"$f":"IF('H01 HC08'!T66=\"\",\"\",'H01 HC08'!T66)","v":""}]
[null,{"$f":"IF('H01 HC08'!B67=\"\",\"\",'H01 HC08'!B67)","v":""},{"$f":"IF('H01 HC08'!C67=\"\",\"\",'H01 HC08'!C67)","v":""},{"$f":"IF('H01 HC08'!D67=\"\",\"\",'H01 HC08'!D67)","v":""},null,null,null,null,null,{"$f":"IF('H01 HC08'!E67=\"\",\"\",'H01 HC08'!E67)","v":""},{"$f":"IF('H01 HC08'!F67=\"\",\"\",'H01 HC08'!F67)","v":""},{"$f":"IF('H01 HC08'!G67=\"\",\"\",'H01 HC08'!G67)","v":""},{"$f":"IF('H01 HC08'!H67=\"\",\"\",'H01 HC08'!H67)","v":""},{"$f":"IF('H01 HC08'!I67=\"\",\"\",'H01 HC08'!I67)","v":""},{"$f":"IF('H01 HC08'!J67=\"\",\"\",'H01 HC08'!J67)","v":""},{"$f":"IF(D775=\"\",\"\",VLOOKUP(D775,#REF!,3,0))","v":""},{"$f":"IF('H01 HC08'!K67=\"\",\"\",'H01 HC08'!K67)","v":""},{"$f":"IF('H01 HC08'!L67=\"\",\"\",'H01 HC08'!L67)","v":""},{"$f":"IF('H01 HC08'!M67=\"\",\"\",'H01 HC08'!M67)","v":""},{"$f":"IF('H01 HC08'!N67=\"\",\"\",'H01 HC08'!N67)","v":""},{"$f":"IF('H01 HC08'!O67=\"\",\"\",'H01 HC08'!O67)","v":""},{"$f":"IF('H01 HC08'!P67=\"\",\"\",'H01 HC08'!P67)","v":""},{"$f":"IF('H01 HC08'!Q67=\"\",\"\",'H01 HC08'!Q67)","v":""},{"$f":"IF('H01 HC08'!R67=\"\",\"\",'H01 HC08'!R67)","v":""},{"$f":"IF('H01 HC08'!S67=\"\",\"\",'H01 HC08'!S67)","v":""},{"$f":"IF('H01 HC08'!T67=\"\",\"\",'H01 HC08'!T67)","v":""}]
[null,{"$f":"IF('H01 HC08'!B68=\"\",\"\",'H01 HC08'!B68)","v":""},{"$f":"IF('H01 HC08'!C68=\"\",\"\",'H01 HC08'!C68)","v":""},{"$f":"IF('H01 HC08'!D68=\"\",\"\",'H01 HC08'!D68)","v":""},null,null,null,null,null,{"$f":"IF('H01 HC08'!E68=\"\",\"\",'H01 HC08'!E68)","v":""},{"$f":"IF('H01 HC08'!F68=\"\",\"\",'H01 HC08'!F68)","v":""},{"$f":"IF('H01 HC08'!G68=\"\",\"\",'H01 HC08'!G68)","v":""},{"$f":"IF('H01 HC08'!H68=\"\",\"\",'H01 HC08'!H68)","v":""},{"$f":"IF('H01 HC08'!I68=\"\",\"\",'H01 HC08'!I68)","v":""},{"$f":"IF('H01 HC08'!J68=\"\",\"\",'H01 HC08'!J68)","v":""},{"$f":"IF(D776=\"\",\"\",VLOOKUP(D776,#REF!,3,0))","v":""},{"$f":"IF('H01 HC08'!K68=\"\",\"\",'H01 HC08'!K68)","v":""},{"$f":"IF('H01 HC08'!L68=\"\",\"\",'H01 HC08'!L68)","v":""},{"$f":"IF('H01 HC08'!M68=\"\",\"\",'H01 HC08'!M68)","v":""},{"$f":"IF('H01 HC08'!N68=\"\",\"\",'H01 HC08'!N68)","v":""},{"$f":"IF('H01 HC08'!O68=\"\",\"\",'H01 HC08'!O68)","v":""},{"$f":"IF('H01 HC08'!P68=\"\",\"\",'H01 HC08'!P68)","v":""},{"$f":"IF('H01 HC08'!Q68=\"\",\"\",'H01 HC08'!Q68)","v":""},{"$f":"IF('H01 HC08'!R68=\"\",\"\",'H01 HC08'!R68)","v":""},{"$f":"IF('H01 HC08'!S68=\"\",\"\",'H01 HC08'!S68)","v":""},{"$f":"IF('H01 HC08'!T68=\"\",\"\",'H01 HC08'!T68)","v":""}]
[null,{"$f":"IF('H01 HC08'!B69=\"\",\"\",'H01 HC08'!B69)","v":""},{"$f":"IF('H01 HC08'!C69=\"\",\"\",'H01 HC08'!C69)","v":""},{"$f":"IF('H01 HC08'!D69=\"\",\"\",'H01 HC08'!D69)","v":""},null,null,null,null,null,{"$f":"IF('H01 HC08'!E69=\"\",\"\",'H01 HC08'!E69)","v":""},{"$f":"IF('H01 HC08'!F69=\"\",\"\",'H01 HC08'!F69)","v":""},{"$f":"IF('H01 HC08'!G69=\"\",\"\",'H01 HC08'!G69)","v":""},{"$f":"IF('H01 HC08'!H69=\"\",\"\",'H01 HC08'!H69)","v":""},{"$f":"IF('H01 HC08'!I69=\"\",\"\",'H01 HC08'!I69)","v":""},{"$f":"IF('H01 HC08'!J69=\"\",\"\",'H01 HC08'!J69)","v":""},{"$f":"IF(D777=\"\",\"\",VLOOKUP(D777,#REF!,3,0))","v":""},{"$f":"IF('H01 HC08'!K69=\"\",\"\",'H01 HC08'!K69)","v":""},{"$f":"IF('H01 HC08'!L69=\"\",\"\",'H01 HC08'!L69)","v":""},{"$f":"IF('H01 HC08'!M69=\"\",\"\",'H01 HC08'!M69)","v":""},{"$f":"IF('H01 HC08'!N69=\"\",\"\",'H01 HC08'!N69)","v":""},{"$f":"IF('H01 HC08'!O69=\"\",\"\",'H01 HC08'!O69)","v":""},{"$f":"IF('H01 HC08'!P69=\"\",\"\",'H01 HC08'!P69)","v":""},{"$f":"IF('H01 HC08'!Q69=\"\",\"\",'H01 HC08'!Q69)","v":""},{"$f":"IF('H01 HC08'!R69=\"\",\"\",'H01 HC08'!R69)","v":""},{"$f":"IF('H01 HC08'!S69=\"\",\"\",'H01 HC08'!S69)","v":""},{"$f":"IF('H01 HC08'!T69=\"\",\"\",'H01 HC08'!T69)","v":""}]
[null,{"$f":"IF('H01 HC08'!B70=\"\",\"\",'H01 HC08'!B70)","v":""},{"$f":"IF('H01 HC08'!C70=\"\",\"\",'H01 HC08'!C70)","v":""},{"$f":"IF('H01 HC08'!D70=\"\",\"\",'H01 HC08'!D70)","v":""},null,null,null,null,null,{"$f":"IF('H01 HC08'!E70=\"\",\"\",'H01 HC08'!E70)","v":""},{"$f":"IF('H01 HC08'!F70=\"\",\"\",'H01 HC08'!F70)","v":""},{"$f":"IF('H01 HC08'!G70=\"\",\"\",'H01 HC08'!G70)","v":""},{"$f":"IF('H01 HC08'!H70=\"\",\"\",'H01 HC08'!H70)","v":""},{"$f":"IF('H01 HC08'!I70=\"\",\"\",'H01 HC08'!I70)","v":""},{"$f":"IF('H01 HC08'!J70=\"\",\"\",'H01 HC08'!J70)","v":""},{"$f":"IF(D778=\"\",\"\",VLOOKUP(D778,#REF!,3,0))","v":""},{"$f":"IF('H01 HC08'!K70=\"\",\"\",'H01 HC08'!K70)","v":""},{"$f":"IF('H01 HC08'!L70=\"\",\"\",'H01 HC08'!L70)","v":""},{"$f":"IF('H01 HC08'!M70=\"\",\"\",'H01 HC08'!M70)","v":""},{"$f":"IF('H01 HC08'!N70=\"\",\"\",'H01 HC08'!N70)","v":""},{"$f":"IF('H01 HC08'!O70=\"\",\"\",'H01 HC08'!O70)","v":""},{"$f":"IF('H01 HC08'!P70=\"\",\"\",'H01 HC08'!P70)","v":""},{"$f":"IF('H01 HC08'!Q70=\"\",\"\",'H01 HC08'!Q70)","v":""},{"$f":"IF('H01 HC08'!R70=\"\",\"\",'H01 HC08'!R70)","v":""},{"$f":"IF('H01 HC08'!S70=\"\",\"\",'H01 HC08'!S70)","v":""},{"$f":"IF('H01 HC08'!T70=\"\",\"\",'H01 HC08'!T70)","v":""}]
[null,{"$f":"IF('H01 HC08'!B71=\"\",\"\",'H01 HC08'!B71)","v":""},{"$f":"IF('H01 HC08'!C71=\"\",\"\",'H01 HC08'!C71)","v":""},{"$f":"IF('H01 HC08'!D71=\"\",\"\",'H01 HC08'!D71)","v":""},null,null,null,null,null,{"$f":"IF('H01 HC08'!E71=\"\",\"\",'H01 HC08'!E71)","v":""},{"$f":"IF('H01 HC08'!F71=\"\",\"\",'H01 HC08'!F71)","v":""},{"$f":"IF('H01 HC08'!G71=\"\",\"\",'H01 HC08'!G71)","v":""},{"$f":"IF('H01 HC08'!H71=\"\",\"\",'H01 HC08'!H71)","v":""},{"$f":"IF('H01 HC08'!I71=\"\",\"\",'H01 HC08'!I71)","v":""},{"$f":"IF('H01 HC08'!J71=\"\",\"\",'H01 HC08'!J71)","v":""},{"$f":"IF(D779=\"\",\"\",VLOOKUP(D779,#REF!,3,0))","v":""},{"$f":"IF('H01 HC08'!K71=\"\",\"\",'H01 HC08'!K71)","v":""},{"$f":"IF('H01 HC08'!L71=\"\",\"\",'H01 HC08'!L71)","v":""},{"$f":"IF('H01 HC08'!M71=\"\",\"\",'H01 HC08'!M71)","v":""},{"$f":"IF('H01 HC08'!N71=\"\",\"\",'H01 HC08'!N71)","v":""},{"$f":"IF('H01 HC08'!O71=\"\",\"\",'H01 HC08'!O71)","v":""},{"$f":"IF('H01 HC08'!P71=\"\",\"\",'H01 HC08'!P71)","v":""},{"$f":"IF('H01 HC08'!Q71=\"\",\"\",'H01 HC08'!Q71)","v":""},{"$f":"IF('H01 HC08'!R71=\"\",\"\",'H01 HC08'!R71)","v":""},{"$f":"IF('H01 HC08'!S71=\"\",\"\",'H01 HC08'!S71)","v":""},{"$f":"IF('H01 HC08'!T71=\"\",\"\",'H01 HC08'!T71)","v":""}]
[null,{"$f":"IF('H01 HC08'!B72=\"\",\"\",'H01 HC08'!B72)","v":""},{"$f":"IF('H01 HC08'!C72=\"\",\"\",'H01 HC08'!C72)","v":""},{"$f":"IF('H01 HC08'!D72=\"\",\"\",'H01 HC08'!D72)","v":""},null,null,null,null,null,{"$f":"IF('H01 HC08'!E72=\"\",\"\",'H01 HC08'!E72)","v":""},{"$f":"IF('H01 HC08'!F72=\"\",\"\",'H01 HC08'!F72)","v":""},{"$f":"IF('H01 HC08'!G72=\"\",\"\",'H01 HC08'!G72)","v":""},{"$f":"IF('H01 HC08'!H72=\"\",\"\",'H01 HC08'!H72)","v":""},{"$f":"IF('H01 HC08'!I72=\"\",\"\",'H01 HC08'!I72)","v":""},{"$f":"IF('H01 HC08'!J72=\"\",\"\",'H01 HC08'!J72)","v":""},{"$f":"IF(D780=\"\",\"\",VLOOKUP(D780,#REF!,3,0))","v":""},{"$f":"IF('H01 HC08'!K72=\"\",\"\",'H01 HC08'!K72)","v":""},{"$f":"IF('H01 HC08'!L72=\"\",\"\",'H01 HC08'!L72)","v":""},{"$f":"IF('H01 HC08'!M72=\"\",\"\",'H01 HC08'!M72)","v":""},{"$f":"IF('H01 HC08'!N72=\"\",\"\",'H01 HC08'!N72)","v":""},{"$f":"IF('H01 HC08'!O72=\"\",\"\",'H01 HC08'!O72)","v":""},{"$f":"IF('H01 HC08'!P72=\"\",\"\",'H01 HC08'!P72)","v":""},{"$f":"IF('H01 HC08'!Q72=\"\",\"\",'H01 HC08'!Q72)","v":""},{"$f":"IF('H01 HC08'!R72=\"\",\"\",'H01 HC08'!R72)","v":""},{"$f":"IF('H01 HC08'!S72=\"\",\"\",'H01 HC08'!S72)","v":""},{"$f":"IF('H01 HC08'!T72=\"\",\"\",'H01 HC08'!T72)","v":""}]
[null,{"$f":"IF('H01 HC08'!B73=\"\",\"\",'H01 HC08'!B73)","v":""},{"$f":"IF('H01 HC08'!C73=\"\",\"\",'H01 HC08'!C73)","v":""},{"$f":"IF('H01 HC08'!D73=\"\",\"\",'H01 HC08'!D73)","v":""},null,null,null,null,null,{"$f":"IF('H01 HC08'!E73=\"\",\"\",'H01 HC08'!E73)","v":""},{"$f":"IF('H01 HC08'!F73=\"\",\"\",'H01 HC08'!F73)","v":""},{"$f":"IF('H01 HC08'!G73=\"\",\"\",'H01 HC08'!G73)","v":""},{"$f":"IF('H01 HC08'!H73=\"\",\"\",'H01 HC08'!H73)","v":""},{"$f":"IF('H01 HC08'!I73=\"\",\"\",'H01 HC08'!I73)","v":""},{"$f":"IF('H01 HC08'!J73=\"\",\"\",'H01 HC08'!J73)","v":""},{"$f":"IF(D781=\"\",\"\",VLOOKUP(D781,#REF!,3,0))","v":""},{"$f":"IF('H01 HC08'!K73=\"\",\"\",'H01 HC08'!K73)","v":""},{"$f":"IF('H01 HC08'!L73=\"\",\"\",'H01 HC08'!L73)","v":""},{"$f":"IF('H01 HC08'!M73=\"\",\"\",'H01 HC08'!M73)","v":""},{"$f":"IF('H01 HC08'!N73=\"\",\"\",'H01 HC08'!N73)","v":""},{"$f":"IF('H01 HC08'!O73=\"\",\"\",'H01 HC08'!O73)","v":""},{"$f":"IF('H01 HC08'!P73=\"\",\"\",'H01 HC08'!P73)","v":""},{"$f":"IF('H01 HC08'!Q73=\"\",\"\",'H01 HC08'!Q73)","v":""},{"$f":"IF('H01 HC08'!R73=\"\",\"\",'H01 HC08'!R73)","v":""},{"$f":"IF('H01 HC08'!S73=\"\",\"\",'H01 HC08'!S73)","v":""},{"$f":"IF('H01 HC08'!T73=\"\",\"\",'H01 HC08'!T73)","v":""}]
[null,{"$f":"IF('H01 HC08'!B74=\"\",\"\",'H01 HC08'!B74)","v":""},{"$f":"IF('H01 HC08'!C74=\"\",\"\",'H01 HC08'!C74)","v":""},{"$f":"IF('H01 HC08'!D74=\"\",\"\",'H01 HC08'!D74)","v":""},null,null,null,null,null,{"$f":"IF('H01 HC08'!E74=\"\",\"\",'H01 HC08'!E74)","v":""},{"$f":"IF('H01 HC08'!F74=\"\",\"\",'H01 HC08'!F74)","v":""},{"$f":"IF('H01 HC08'!G74=\"\",\"\",'H01 HC08'!G74)","v":""},{"$f":"IF('H01 HC08'!H74=\"\",\"\",'H01 HC08'!H74)","v":""},{"$f":"IF('H01 HC08'!I74=\"\",\"\",'H01 HC08'!I74)","v":""},{"$f":"IF('H01 HC08'!J74=\"\",\"\",'H01 HC08'!J74)","v":""},{"$f":"IF(D782=\"\",\"\",VLOOKUP(D782,#REF!,3,0))","v":""},{"$f":"IF('H01 HC08'!K74=\"\",\"\",'H01 HC08'!K74)","v":""},{"$f":"IF('H01 HC08'!L74=\"\",\"\",'H01 HC08'!L74)","v":""},{"$f":"IF('H01 HC08'!M74=\"\",\"\",'H01 HC08'!M74)","v":""},{"$f":"IF('H01 HC08'!N74=\"\",\"\",'H01 HC08'!N74)","v":""},{"$f":"IF('H01 HC08'!O74=\"\",\"\",'H01 HC08'!O74)","v":""},{"$f":"IF('H01 HC08'!P74=\"\",\"\",'H01 HC08'!P74)","v":""},{"$f":"IF('H01 HC08'!Q74=\"\",\"\",'H01 HC08'!Q74)","v":""},{"$f":"IF('H01 HC08'!R74=\"\",\"\",'H01 HC08'!R74)","v":""},{"$f":"IF('H01 HC08'!S74=\"\",\"\",'H01 HC08'!S74)","v":""},{"$f":"IF('H01 HC08'!T74=\"\",\"\",'H01 HC08'!T74)","v":""}]
[null,{"$f":"IF('H01 HC08'!B75=\"\",\"\",'H01 HC08'!B75)","v":""},{"$f":"IF('H01 HC08'!C75=\"\",\"\",'H01 HC08'!C75)","v":""},{"$f":"IF('H01 HC08'!D75=\"\",\"\",'H01 HC08'!D75)","v":""},null,null,null,null,null,{"$f":"IF('H01 HC08'!E75=\"\",\"\",'H01 HC08'!E75)","v":""},{"$f":"IF('H01 HC08'!F75=\"\",\"\",'H01 HC08'!F75)","v":""},{"$f":"IF('H01 HC08'!G75=\"\",\"\",'H01 HC08'!G75)","v":""},{"$f":"IF('H01 HC08'!H75=\"\",\"\",'H01 HC08'!H75)","v":""},{"$f":"IF('H01 HC08'!I75=\"\",\"\",'H01 HC08'!I75)","v":""},{"$f":"IF('H01 HC08'!J75=\"\",\"\",'H01 HC08'!J75)","v":""},{"$f":"IF(D783=\"\",\"\",VLOOKUP(D783,#REF!,3,0))","v":""},{"$f":"IF('H01 HC08'!K75=\"\",\"\",'H01 HC08'!K75)","v":""},{"$f":"IF('H01 HC08'!L75=\"\",\"\",'H01 HC08'!L75)","v":""},{"$f":"IF('H01 HC08'!M75=\"\",\"\",'H01 HC08'!M75)","v":""},{"$f":"IF('H01 HC08'!N75=\"\",\"\",'H01 HC08'!N75)","v":""},{"$f":"IF('H01 HC08'!O75=\"\",\"\",'H01 HC08'!O75)","v":""},{"$f":"IF('H01 HC08'!P75=\"\",\"\",'H01 HC08'!P75)","v":""},{"$f":"IF('H01 HC08'!Q75=\"\",\"\",'H01 HC08'!Q75)","v":""},{"$f":"IF('H01 HC08'!R75=\"\",\"\",'H01 HC08'!R75)","v":""},{"$f":"IF('H01 HC08'!S75=\"\",\"\",'H01 HC08'!S75)","v":""},{"$f":"IF('H01 HC08'!T75=\"\",\"\",'H01 HC08'!T75)","v":""}]
[null,{"$f":"IF('H01 HC08'!B76=\"\",\"\",'H01 HC08'!B76)","v":""},{"$f":"IF('H01 HC08'!C76=\"\",\"\",'H01 HC08'!C76)","v":""},{"$f":"IF('H01 HC08'!D76=\"\",\"\",'H01 HC08'!D76)","v":""},null,null,null,null,null,{"$f":"IF('H01 HC08'!E76=\"\",\"\",'H01 HC08'!E76)","v":""},{"$f":"IF('H01 HC08'!F76=\"\",\"\",'H01 HC08'!F76)","v":""},{"$f":"IF('H01 HC08'!G76=\"\",\"\",'H01 HC08'!G76)","v":""},{"$f":"IF('H01 HC08'!H76=\"\",\"\",'H01 HC08'!H76)","v":""},{"$f":"IF('H01 HC08'!I76=\"\",\"\",'H01 HC08'!I76)","v":""},{"$f":"IF('H01 HC08'!J76=\"\",\"\",'H01 HC08'!J76)","v":""},{"$f":"IF(D784=\"\",\"\",VLOOKUP(D784,#REF!,3,0))","v":""},{"$f":"IF('H01 HC08'!K76=\"\",\"\",'H01 HC08'!K76)","v":""},{"$f":"IF('H01 HC08'!L76=\"\",\"\",'H01 HC08'!L76)","v":""},{"$f":"IF('H01 HC08'!M76=\"\",\"\",'H01 HC08'!M76)","v":""},{"$f":"IF('H01 HC08'!N76=\"\",\"\",'H01 HC08'!N76)","v":""},{"$f":"IF('H01 HC08'!O76=\"\",\"\",'H01 HC08'!O76)","v":""},{"$f":"IF('H01 HC08'!P76=\"\",\"\",'H01 HC08'!P76)","v":""},{"$f":"IF('H01 HC08'!Q76=\"\",\"\",'H01 HC08'!Q76)","v":""},{"$f":"IF('H01 HC08'!R76=\"\",\"\",'H01 HC08'!R76)","v":""},{"$f":"IF('H01 HC08'!S76=\"\",\"\",'H01 HC08'!S76)","v":""},{"$f":"IF('H01 HC08'!T76=\"\",\"\",'H01 HC08'!T76)","v":""}]
[null,{"$f":"IF('H01 HC08'!B77=\"\",\"\",'H01 HC08'!B77)","v":""},{"$f":"IF('H01 HC08'!C77=\"\",\"\",'H01 HC08'!C77)","v":""},{"$f":"IF('H01 HC08'!D77=\"\",\"\",'H01 HC08'!D77)","v":""},null,null,null,null,null,{"$f":"IF('H01 HC08'!E77=\"\",\"\",'H01 HC08'!E77)","v":""},{"$f":"IF('H01 HC08'!F77=\"\",\"\",'H01 HC08'!F77)","v":""},{"$f":"IF('H01 HC08'!G77=\"\",\"\",'H01 HC08'!G77)","v":""},{"$f":"IF('H01 HC08'!H77=\"\",\"\",'H01 HC08'!H77)","v":""},{"$f":"IF('H01 HC08'!I77=\"\",\"\",'H01 HC08'!I77)","v":""},{"$f":"IF('H01 HC08'!J77=\"\",\"\",'H01 HC08'!J77)","v":""},{"$f":"IF(D785=\"\",\"\",VLOOKUP(D785,#REF!,3,0))","v":""},{"$f":"IF('H01 HC08'!K77=\"\",\"\",'H01 HC08'!K77)","v":""},{"$f":"IF('H01 HC08'!L77=\"\",\"\",'H01 HC08'!L77)","v":""},{"$f":"IF('H01 HC08'!M77=\"\",\"\",'H01 HC08'!M77)","v":""},{"$f":"IF('H01 HC08'!N77=\"\",\"\",'H01 HC08'!N77)","v":""},{"$f":"IF('H01 HC08'!O77=\"\",\"\",'H01 HC08'!O77)","v":""},{"$f":"IF('H01 HC08'!P77=\"\",\"\",'H01 HC08'!P77)","v":""},{"$f":"IF('H01 HC08'!Q77=\"\",\"\",'H01 HC08'!Q77)","v":""},{"$f":"IF('H01 HC08'!R77=\"\",\"\",'H01 HC08'!R77)","v":""},{"$f":"IF('H01 HC08'!S77=\"\",\"\",'H01 HC08'!S77)","v":""},{"$f":"IF('H01 HC08'!T77=\"\",\"\",'H01 HC08'!T77)","v":""}]
[null,{"$f":"IF('H01 HC08'!B78=\"\",\"\",'H01 HC08'!B78)","v":""},{"$f":"IF('H01 HC08'!C78=\"\",\"\",'H01 HC08'!C78)","v":""},{"$f":"IF('H01 HC08'!D78=\"\",\"\",'H01 HC08'!D78)","v":""},null,null,null,null,null,{"$f":"IF('H01 HC08'!E78=\"\",\"\",'H01 HC08'!E78)","v":""},{"$f":"IF('H01 HC08'!F78=\"\",\"\",'H01 HC08'!F78)","v":""},{"$f":"IF('H01 HC08'!G78=\"\",\"\",'H01 HC08'!G78)","v":""},{"$f":"IF('H01 HC08'!H78=\"\",\"\",'H01 HC08'!H78)","v":""},{"$f":"IF('H01 HC08'!I78=\"\",\"\",'H01 HC08'!I78)","v":""},{"$f":"IF('H01 HC08'!J78=\"\",\"\",'H01 HC08'!J78)","v":""},{"$f":"IF(D786=\"\",\"\",VLOOKUP(D786,#REF!,3,0))","v":""},{"$f":"IF('H01 HC08'!K78=\"\",\"\",'H01 HC08'!K78)","v":""},{"$f":"IF('H01 HC08'!L78=\"\",\"\",'H01 HC08'!L78)","v":""},{"$f":"IF('H01 HC08'!M78=\"\",\"\",'H01 HC08'!M78)","v":""},{"$f":"IF('H01 HC08'!N78=\"\",\"\",'H01 HC08'!N78)","v":""},{"$f":"IF('H01 HC08'!O78=\"\",\"\",'H01 HC08'!O78)","v":""},{"$f":"IF('H01 HC08'!P78=\"\",\"\",'H01 HC08'!P78)","v":""},{"$f":"IF('H01 HC08'!Q78=\"\",\"\",'H01 HC08'!Q78)","v":""},{"$f":"IF('H01 HC08'!R78=\"\",\"\",'H01 HC08'!R78)","v":""},{"$f":"IF('H01 HC08'!S78=\"\",\"\",'H01 HC08'!S78)","v":""},{"$f":"IF('H01 HC08'!T78=\"\",\"\",'H01 HC08'!T78)","v":""}]
[null,{"$f":"IF('H01 HC08'!B79=\"\",\"\",'H01 HC08'!B79)","v":""},{"$f":"IF('H01 HC08'!C79=\"\",\"\",'H01 HC08'!C79)","v":""},{"$f":"IF('H01 HC08'!D79=\"\",\"\",'H01 HC08'!D79)","v":""},null,null,null,null,null,{"$f":"IF('H01 HC08'!E79=\"\",\"\",'H01 HC08'!E79)","v":""},{"$f":"IF('H01 HC08'!F79=\"\",\"\",'H01 HC08'!F79)","v":""},{"$f":"IF('H01 HC08'!G79=\"\",\"\",'H01 HC08'!G79)","v":""},{"$f":"IF('H01 HC08'!H79=\"\",\"\",'H01 HC08'!H79)","v":""},{"$f":"IF('H01 HC08'!I79=\"\",\"\",'H01 HC08'!I79)","v":""},{"$f":"IF('H01 HC08'!J79=\"\",\"\",'H01 HC08'!J79)","v":""},{"$f":"IF(D787=\"\",\"\",VLOOKUP(D787,#REF!,3,0))","v":""},{"$f":"IF('H01 HC08'!K79=\"\",\"\",'H01 HC08'!K79)","v":""},{"$f":"IF('H01 HC08'!L79=\"\",\"\",'H01 HC08'!L79)","v":""},{"$f":"IF('H01 HC08'!M79=\"\",\"\",'H01 HC08'!M79)","v":""},{"$f":"IF('H01 HC08'!N79=\"\",\"\",'H01 HC08'!N79)","v":""},{"$f":"IF('H01 HC08'!O79=\"\",\"\",'H01 HC08'!O79)","v":""},{"$f":"IF('H01 HC08'!P79=\"\",\"\",'H01 HC08'!P79)","v":""},{"$f":"IF('H01 HC08'!Q79=\"\",\"\",'H01 HC08'!Q79)","v":""},{"$f":"IF('H01 HC08'!R79=\"\",\"\",'H01 HC08'!R79)","v":""},{"$f":"IF('H01 HC08'!S79=\"\",\"\",'H01 HC08'!S79)","v":""},{"$f":"IF('H01 HC08'!T79=\"\",\"\",'H01 HC08'!T79)","v":""}]
[null,{"$f":"IF('H01 HC08'!B80=\"\",\"\",'H01 HC08'!B80)","v":""},{"$f":"IF('H01 HC08'!C80=\"\",\"\",'H01 HC08'!C80)","v":""},{"$f":"IF('H01 HC08'!D80=\"\",\"\",'H01 HC08'!D80)","v":""},null,null,null,null,null,{"$f":"IF('H01 HC08'!E80=\"\",\"\",'H01 HC08'!E80)","v":""},{"$f":"IF('H01 HC08'!F80=\"\",\"\",'H01 HC08'!F80)","v":""},{"$f":"IF('H01 HC08'!G80=\"\",\"\",'H01 HC08'!G80)","v":""},{"$f":"IF('H01 HC08'!H80=\"\",\"\",'H01 HC08'!H80)","v":""},{"$f":"IF('H01 HC08'!I80=\"\",\"\",'H01 HC08'!I80)","v":""},{"$f":"IF('H01 HC08'!J80=\"\",\"\",'H01 HC08'!J80)","v":""},{"$f":"IF(D788=\"\",\"\",VLOOKUP(D788,#REF!,3,0))","v":""},{"$f":"IF('H01 HC08'!K80=\"\",\"\",'H01 HC08'!K80)","v":""},{"$f":"IF('H01 HC08'!L80=\"\",\"\",'H01 HC08'!L80)","v":""},{"$f":"IF('H01 HC08'!M80=\"\",\"\",'H01 HC08'!M80)","v":""},{"$f":"IF('H01 HC08'!N80=\"\",\"\",'H01 HC08'!N80)","v":""},{"$f":"IF('H01 HC08'!O80=\"\",\"\",'H01 HC08'!O80)","v":""},{"$f":"IF('H01 HC08'!P80=\"\",\"\",'H01 HC08'!P80)","v":""},{"$f":"IF('H01 HC08'!Q80=\"\",\"\",'H01 HC08'!Q80)","v":""},{"$f":"IF('H01 HC08'!R80=\"\",\"\",'H01 HC08'!R80)","v":""},{"$f":"IF('H01 HC08'!S80=\"\",\"\",'H01 HC08'!S80)","v":""},{"$f":"IF('H01 HC08'!T80=\"\",\"\",'H01 HC08'!T80)","v":""}]
[null,{"$f":"IF('H01 HC08'!B81=\"\",\"\",'H01 HC08'!B81)","v":""},{"$f":"IF('H01 HC08'!C81=\"\",\"\",'H01 HC08'!C81)","v":""},{"$f":"IF('H01 HC08'!D81=\"\",\"\",'H01 HC08'!D81)","v":""},null,null,null,null,null,{"$f":"IF('H01 HC08'!E81=\"\",\"\",'H01 HC08'!E81)","v":""},{"$f":"IF('H01 HC08'!F81=\"\",\"\",'H01 HC08'!F81)","v":""},{"$f":"IF('H01 HC08'!G81=\"\",\"\",'H01 HC08'!G81)","v":""},{"$f":"IF('H01 HC08'!H81=\"\",\"\",'H01 HC08'!H81)","v":""},{"$f":"IF('H01 HC08'!I81=\"\",\"\",'H01 HC08'!I81)","v":""},{"$f":"IF('H01 HC08'!J81=\"\",\"\",'H01 HC08'!J81)","v":""},{"$f":"IF(D789=\"\",\"\",VLOOKUP(D789,#REF!,3,0))","v":""},{"$f":"IF('H01 HC08'!K81=\"\",\"\",'H01 HC08'!K81)","v":""},{"$f":"IF('H01 HC08'!L81=\"\",\"\",'H01 HC08'!L81)","v":""},{"$f":"IF('H01 HC08'!M81=\"\",\"\",'H01 HC08'!M81)","v":""},{"$f":"IF('H01 HC08'!N81=\"\",\"\",'H01 HC08'!N81)","v":""},{"$f":"IF('H01 HC08'!O81=\"\",\"\",'H01 HC08'!O81)","v":""},{"$f":"IF('H01 HC08'!P81=\"\",\"\",'H01 HC08'!P81)","v":""},{"$f":"IF('H01 HC08'!Q81=\"\",\"\",'H01 HC08'!Q81)","v":""},{"$f":"IF('H01 HC08'!R81=\"\",\"\",'H01 HC08'!R81)","v":""},{"$f":"IF('H01 HC08'!S81=\"\",\"\",'H01 HC08'!S81)","v":""},{"$f":"IF('H01 HC08'!T81=\"\",\"\",'H01 HC08'!T81)","v":""}]
[null,{"$f":"IF('H01 HC08'!B82=\"\",\"\",'H01 HC08'!B82)","v":""},{"$f":"IF('H01 HC08'!C82=\"\",\"\",'H01 HC08'!C82)","v":""},{"$f":"IF('H01 HC08'!D82=\"\",\"\",'H01 HC08'!D82)","v":""},null,null,null,null,null,{"$f":"IF('H01 HC08'!E82=\"\",\"\",'H01 HC08'!E82)","v":""},{"$f":"IF('H01 HC08'!F82=\"\",\"\",'H01 HC08'!F82)","v":""},{"$f":"IF('H01 HC08'!G82=\"\",\"\",'H01 HC08'!G82)","v":""},{"$f":"IF('H01 HC08'!H82=\"\",\"\",'H01 HC08'!H82)","v":""},{"$f":"IF('H01 HC08'!I82=\"\",\"\",'H01 HC08'!I82)","v":""},{"$f":"IF('H01 HC08'!J82=\"\",\"\",'H01 HC08'!J82)","v":""},{"$f":"IF(D790=\"\",\"\",VLOOKUP(D790,#REF!,3,0))","v":""},{"$f":"IF('H01 HC08'!K82=\"\",\"\",'H01 HC08'!K82)","v":""},{"$f":"IF('H01 HC08'!L82=\"\",\"\",'H01 HC08'!L82)","v":""},{"$f":"IF('H01 HC08'!M82=\"\",\"\",'H01 HC08'!M82)","v":""},{"$f":"IF('H01 HC08'!N82=\"\",\"\",'H01 HC08'!N82)","v":""},{"$f":"IF('H01 HC08'!O82=\"\",\"\",'H01 HC08'!O82)","v":""},{"$f":"IF('H01 HC08'!P82=\"\",\"\",'H01 HC08'!P82)","v":""},{"$f":"IF('H01 HC08'!Q82=\"\",\"\",'H01 HC08'!Q82)","v":""},{"$f":"IF('H01 HC08'!R82=\"\",\"\",'H01 HC08'!R82)","v":""},{"$f":"IF('H01 HC08'!S82=\"\",\"\",'H01 HC08'!S82)","v":""},{"$f":"IF('H01 HC08'!T82=\"\",\"\",'H01 HC08'!T82)","v":""}]
[null,{"$f":"IF('H01 HC08'!B83=\"\",\"\",'H01 HC08'!B83)","v":""},{"$f":"IF('H01 HC08'!C83=\"\",\"\",'H01 HC08'!C83)","v":""},{"$f":"IF('H01 HC08'!D83=\"\",\"\",'H01 HC08'!D83)","v":""},null,null,null,null,null,{"$f":"IF('H01 HC08'!E83=\"\",\"\",'H01 HC08'!E83)","v":""},{"$f":"IF('H01 HC08'!F83=\"\",\"\",'H01 HC08'!F83)","v":""},{"$f":"IF('H01 HC08'!G83=\"\",\"\",'H01 HC08'!G83)","v":""},{"$f":"IF('H01 HC08'!H83=\"\",\"\",'H01 HC08'!H83)","v":""},{"$f":"IF('H01 HC08'!I83=\"\",\"\",'H01 HC08'!I83)","v":""},{"$f":"IF('H01 HC08'!J83=\"\",\"\",'H01 HC08'!J83)","v":""},{"$f":"IF(D791=\"\",\"\",VLOOKUP(D791,#REF!,3,0))","v":""},{"$f":"IF('H01 HC08'!K83=\"\",\"\",'H01 HC08'!K83)","v":""},{"$f":"IF('H01 HC08'!L83=\"\",\"\",'H01 HC08'!L83)","v":""},{"$f":"IF('H01 HC08'!M83=\"\",\"\",'H01 HC08'!M83)","v":""},{"$f":"IF('H01 HC08'!N83=\"\",\"\",'H01 HC08'!N83)","v":""},{"$f":"IF('H01 HC08'!O83=\"\",\"\",'H01 HC08'!O83)","v":""},{"$f":"IF('H01 HC08'!P83=\"\",\"\",'H01 HC08'!P83)","v":""},{"$f":"IF('H01 HC08'!Q83=\"\",\"\",'H01 HC08'!Q83)","v":""},{"$f":"IF('H01 HC08'!R83=\"\",\"\",'H01 HC08'!R83)","v":""},{"$f":"IF('H01 HC08'!S83=\"\",\"\",'H01 HC08'!S83)","v":""},{"$f":"IF('H01 HC08'!T83=\"\",\"\",'H01 HC08'!T83)","v":""}]
[null,{"$f":"IF('H01 HC08'!B84=\"\",\"\",'H01 HC08'!B84)","v":""},{"$f":"IF('H01 HC08'!C84=\"\",\"\",'H01 HC08'!C84)","v":""},{"$f":"IF('H01 HC08'!D84=\"\",\"\",'H01 HC08'!D84)","v":""},null,null,null,null,null,{"$f":"IF('H01 HC08'!E84=\"\",\"\",'H01 HC08'!E84)","v":""},{"$f":"IF('H01 HC08'!F84=\"\",\"\",'H01 HC08'!F84)","v":""},{"$f":"IF('H01 HC08'!G84=\"\",\"\",'H01 HC08'!G84)","v":""},{"$f":"IF('H01 HC08'!H84=\"\",\"\",'H01 HC08'!H84)","v":""},{"$f":"IF('H01 HC08'!I84=\"\",\"\",'H01 HC08'!I84)","v":""},{"$f":"IF('H01 HC08'!J84=\"\",\"\",'H01 HC08'!J84)","v":""},{"$f":"IF(D792=\"\",\"\",VLOOKUP(D792,#REF!,3,0))","v":""},{"$f":"IF('H01 HC08'!K84=\"\",\"\",'H01 HC08'!K84)","v":""},{"$f":"IF('H01 HC08'!L84=\"\",\"\",'H01 HC08'!L84)","v":""},{"$f":"IF('H01 HC08'!M84=\"\",\"\",'H01 HC08'!M84)","v":""},{"$f":"IF('H01 HC08'!N84=\"\",\"\",'H01 HC08'!N84)","v":""},{"$f":"IF('H01 HC08'!O84=\"\",\"\",'H01 HC08'!O84)","v":""},{"$f":"IF('H01 HC08'!P84=\"\",\"\",'H01 HC08'!P84)","v":""},{"$f":"IF('H01 HC08'!Q84=\"\",\"\",'H01 HC08'!Q84)","v":""},{"$f":"IF('H01 HC08'!R84=\"\",\"\",'H01 HC08'!R84)","v":""},{"$f":"IF('H01 HC08'!S84=\"\",\"\",'H01 HC08'!S84)","v":""},{"$f":"IF('H01 HC08'!T84=\"\",\"\",'H01 HC08'!T84)","v":""}]
[null,{"$f":"IF('H01 HC08'!B85=\"\",\"\",'H01 HC08'!B85)","v":""},{"$f":"IF('H01 HC08'!C85=\"\",\"\",'H01 HC08'!C85)","v":""},{"$f":"IF('H01 HC08'!D85=\"\",\"\",'H01 HC08'!D85)","v":""},null,null,null,null,null,{"$f":"IF('H01 HC08'!E85=\"\",\"\",'H01 HC08'!E85)","v":""},{"$f":"IF('H01 HC08'!F85=\"\",\"\",'H01 HC08'!F85)","v":""},{"$f":"IF('H01 HC08'!G85=\"\",\"\",'H01 HC08'!G85)","v":""},{"$f":"IF('H01 HC08'!H85=\"\",\"\",'H01 HC08'!H85)","v":""},{"$f":"IF('H01 HC08'!I85=\"\",\"\",'H01 HC08'!I85)","v":""},{"$f":"IF('H01 HC08'!J85=\"\",\"\",'H01 HC08'!J85)","v":""},{"$f":"IF(D793=\"\",\"\",VLOOKUP(D793,#REF!,3,0))","v":""},{"$f":"IF('H01 HC08'!K85=\"\",\"\",'H01 HC08'!K85)","v":""},{"$f":"IF('H01 HC08'!L85=\"\",\"\",'H01 HC08'!L85)","v":""},{"$f":"IF('H01 HC08'!M85=\"\",\"\",'H01 HC08'!M85)","v":""},{"$f":"IF('H01 HC08'!N85=\"\",\"\",'H01 HC08'!N85)","v":""},{"$f":"IF('H01 HC08'!O85=\"\",\"\",'H01 HC08'!O85)","v":""},{"$f":"IF('H01 HC08'!P85=\"\",\"\",'H01 HC08'!P85)","v":""},{"$f":"IF('H01 HC08'!Q85=\"\",\"\",'H01 HC08'!Q85)","v":""},{"$f":"IF('H01 HC08'!R85=\"\",\"\",'H01 HC08'!R85)","v":""},{"$f":"IF('H01 HC08'!S85=\"\",\"\",'H01 HC08'!S85)","v":""},{"$f":"IF('H01 HC08'!T85=\"\",\"\",'H01 HC08'!T85)","v":""}]
[null,{"$f":"IF('H01 HC08'!B86=\"\",\"\",'H01 HC08'!B86)","v":""},{"$f":"IF('H01 HC08'!C86=\"\",\"\",'H01 HC08'!C86)","v":""},{"$f":"IF('H01 HC08'!D86=\"\",\"\",'H01 HC08'!D86)","v":""},null,null,null,null,null,{"$f":"IF('H01 HC08'!E86=\"\",\"\",'H01 HC08'!E86)","v":""},{"$f":"IF('H01 HC08'!F86=\"\",\"\",'H01 HC08'!F86)","v":""},{"$f":"IF('H01 HC08'!G86=\"\",\"\",'H01 HC08'!G86)","v":""},{"$f":"IF('H01 HC08'!H86=\"\",\"\",'H01 HC08'!H86)","v":""},{"$f":"IF('H01 HC08'!I86=\"\",\"\",'H01 HC08'!I86)","v":""},{"$f":"IF('H01 HC08'!J86=\"\",\"\",'H01 HC08'!J86)","v":""},{"$f":"IF(D794=\"\",\"\",VLOOKUP(D794,#REF!,3,0))","v":""},{"$f":"IF('H01 HC08'!K86=\"\",\"\",'H01 HC08'!K86)","v":""},{"$f":"IF('H01 HC08'!L86=\"\",\"\",'H01 HC08'!L86)","v":""},{"$f":"IF('H01 HC08'!M86=\"\",\"\",'H01 HC08'!M86)","v":""},{"$f":"IF('H01 HC08'!N86=\"\",\"\",'H01 HC08'!N86)","v":""},{"$f":"IF('H01 HC08'!O86=\"\",\"\",'H01 HC08'!O86)","v":""},{"$f":"IF('H01 HC08'!P86=\"\",\"\",'H01 HC08'!P86)","v":""},{"$f":"IF('H01 HC08'!Q86=\"\",\"\",'H01 HC08'!Q86)","v":""},{"$f":"IF('H01 HC08'!R86=\"\",\"\",'H01 HC08'!R86)","v":""},{"$f":"IF('H01 HC08'!S86=\"\",\"\",'H01 HC08'!S86)","v":""},{"$f":"IF('H01 HC08'!T86=\"\",\"\",'H01 HC08'!T86)","v":""}]
[null,{"$f":"IF('H01 HC08'!B87=\"\",\"\",'H01 HC08'!B87)","v":""},{"$f":"IF('H01 HC08'!C87=\"\",\"\",'H01 HC08'!C87)","v":""},{"$f":"IF('H01 HC08'!D87=\"\",\"\",'H01 HC08'!D87)","v":""},null,null,null,null,null,{"$f":"IF('H01 HC08'!E87=\"\",\"\",'H01 HC08'!E87)","v":""},{"$f":"IF('H01 HC08'!F87=\"\",\"\",'H01 HC08'!F87)","v":""},{"$f":"IF('H01 HC08'!G87=\"\",\"\",'H01 HC08'!G87)","v":""},{"$f":"IF('H01 HC08'!H87=\"\",\"\",'H01 HC08'!H87)","v":""},{"$f":"IF('H01 HC08'!I87=\"\",\"\",'H01 HC08'!I87)","v":""},{"$f":"IF('H01 HC08'!J87=\"\",\"\",'H01 HC08'!J87)","v":""},{"$f":"IF(D795=\"\",\"\",VLOOKUP(D795,#REF!,3,0))","v":""},{"$f":"IF('H01 HC08'!K87=\"\",\"\",'H01 HC08'!K87)","v":""},{"$f":"IF('H01 HC08'!L87=\"\",\"\",'H01 HC08'!L87)","v":""},{"$f":"IF('H01 HC08'!M87=\"\",\"\",'H01 HC08'!M87)","v":""},{"$f":"IF('H01 HC08'!N87=\"\",\"\",'H01 HC08'!N87)","v":""},{"$f":"IF('H01 HC08'!O87=\"\",\"\",'H01 HC08'!O87)","v":""},{"$f":"IF('H01 HC08'!P87=\"\",\"\",'H01 HC08'!P87)","v":""},{"$f":"IF('H01 HC08'!Q87=\"\",\"\",'H01 HC08'!Q87)","v":""},{"$f":"IF('H01 HC08'!R87=\"\",\"\",'H01 HC08'!R87)","v":""},{"$f":"IF('H01 HC08'!S87=\"\",\"\",'H01 HC08'!S87)","v":""},{"$f":"IF('H01 HC08'!T87=\"\",\"\",'H01 HC08'!T87)","v":""}]
[null,{"$f":"IF('H01 HC08'!B88=\"\",\"\",'H01 HC08'!B88)","v":""},{"$f":"IF('H01 HC08'!C88=\"\",\"\",'H01 HC08'!C88)","v":""},{"$f":"IF('H01 HC08'!D88=\"\",\"\",'H01 HC08'!D88)","v":""},null,null,null,null,null,{"$f":"IF('H01 HC08'!E88=\"\",\"\",'H01 HC08'!E88)","v":""},{"$f":"IF('H01 HC08'!F88=\"\",\"\",'H01 HC08'!F88)","v":""},{"$f":"IF('H01 HC08'!G88=\"\",\"\",'H01 HC08'!G88)","v":""},{"$f":"IF('H01 HC08'!H88=\"\",\"\",'H01 HC08'!H88)","v":""},{"$f":"IF('H01 HC08'!I88=\"\",\"\",'H01 HC08'!I88)","v":""},{"$f":"IF('H01 HC08'!J88=\"\",\"\",'H01 HC08'!J88)","v":""},{"$f":"IF(D796=\"\",\"\",VLOOKUP(D796,#REF!,3,0))","v":""},{"$f":"IF('H01 HC08'!K88=\"\",\"\",'H01 HC08'!K88)","v":""},{"$f":"IF('H01 HC08'!L88=\"\",\"\",'H01 HC08'!L88)","v":""},{"$f":"IF('H01 HC08'!M88=\"\",\"\",'H01 HC08'!M88)","v":""},{"$f":"IF('H01 HC08'!N88=\"\",\"\",'H01 HC08'!N88)","v":""},{"$f":"IF('H01 HC08'!O88=\"\",\"\",'H01 HC08'!O88)","v":""},{"$f":"IF('H01 HC08'!P88=\"\",\"\",'H01 HC08'!P88)","v":""},{"$f":"IF('H01 HC08'!Q88=\"\",\"\",'H01 HC08'!Q88)","v":""},{"$f":"IF('H01 HC08'!R88=\"\",\"\",'H01 HC08'!R88)","v":""},{"$f":"IF('H01 HC08'!S88=\"\",\"\",'H01 HC08'!S88)","v":""},{"$f":"IF('H01 HC08'!T88=\"\",\"\",'H01 HC08'!T88)","v":""}]
[null,{"$f":"IF('H01 HC08'!B89=\"\",\"\",'H01 HC08'!B89)","v":""},{"$f":"IF('H01 HC08'!C89=\"\",\"\",'H01 HC08'!C89)","v":""},{"$f":"IF('H01 HC08'!D89=\"\",\"\",'H01 HC08'!D89)","v":""},null,null,null,null,null,{"$f":"IF('H01 HC08'!E89=\"\",\"\",'H01 HC08'!E89)","v":""},{"$f":"IF('H01 HC08'!F89=\"\",\"\",'H01 HC08'!F89)","v":""},{"$f":"IF('H01 HC08'!G89=\"\",\"\",'H01 HC08'!G89)","v":""},{"$f":"IF('H01 HC08'!H89=\"\",\"\",'H01 HC08'!H89)","v":""},{"$f":"IF('H01 HC08'!I89=\"\",\"\",'H01 HC08'!I89)","v":""},{"$f":"IF('H01 HC08'!J89=\"\",\"\",'H01 HC08'!J89)","v":""},{"$f":"IF(D797=\"\",\"\",VLOOKUP(D797,#REF!,3,0))","v":""},{"$f":"IF('H01 HC08'!K89=\"\",\"\",'H01 HC08'!K89)","v":""},{"$f":"IF('H01 HC08'!L89=\"\",\"\",'H01 HC08'!L89)","v":""},{"$f":"IF('H01 HC08'!M89=\"\",\"\",'H01 HC08'!M89)","v":""},{"$f":"IF('H01 HC08'!N89=\"\",\"\",'H01 HC08'!N89)","v":""},{"$f":"IF('H01 HC08'!O89=\"\",\"\",'H01 HC08'!O89)","v":""},{"$f":"IF('H01 HC08'!P89=\"\",\"\",'H01 HC08'!P89)","v":""},{"$f":"IF('H01 HC08'!Q89=\"\",\"\",'H01 HC08'!Q89)","v":""},{"$f":"IF('H01 HC08'!R89=\"\",\"\",'H01 HC08'!R89)","v":""},{"$f":"IF('H01 HC08'!S89=\"\",\"\",'H01 HC08'!S89)","v":""},{"$f":"IF('H01 HC08'!T89=\"\",\"\",'H01 HC08'!T89)","v":""}]
[null,{"$f":"IF('H01 HC08'!B90=\"\",\"\",'H01 HC08'!B90)","v":""},{"$f":"IF('H01 HC08'!C90=\"\",\"\",'H01 HC08'!C90)","v":""},{"$f":"IF('H01 HC08'!D90=\"\",\"\",'H01 HC08'!D90)","v":""},null,null,null,null,null,{"$f":"IF('H01 HC08'!E90=\"\",\"\",'H01 HC08'!E90)","v":""},{"$f":"IF('H01 HC08'!F90=\"\",\"\",'H01 HC08'!F90)","v":""},{"$f":"IF('H01 HC08'!G90=\"\",\"\",'H01 HC08'!G90)","v":""},{"$f":"IF('H01 HC08'!H90=\"\",\"\",'H01 HC08'!H90)","v":""},{"$f":"IF('H01 HC08'!I90=\"\",\"\",'H01 HC08'!I90)","v":""},{"$f":"IF('H01 HC08'!J90=\"\",\"\",'H01 HC08'!J90)","v":""},{"$f":"IF(D798=\"\",\"\",VLOOKUP(D798,#REF!,3,0))","v":""},{"$f":"IF('H01 HC08'!K90=\"\",\"\",'H01 HC08'!K90)","v":""},{"$f":"IF('H01 HC08'!L90=\"\",\"\",'H01 HC08'!L90)","v":""},{"$f":"IF('H01 HC08'!M90=\"\",\"\",'H01 HC08'!M90)","v":""},{"$f":"IF('H01 HC08'!N90=\"\",\"\",'H01 HC08'!N90)","v":""},{"$f":"IF('H01 HC08'!O90=\"\",\"\",'H01 HC08'!O90)","v":""},{"$f":"IF('H01 HC08'!P90=\"\",\"\",'H01 HC08'!P90)","v":""},{"$f":"IF('H01 HC08'!Q90=\"\",\"\",'H01 HC08'!Q90)","v":""},{"$f":"IF('H01 HC08'!R90=\"\",\"\",'H01 HC08'!R90)","v":""},{"$f":"IF('H01 HC08'!S90=\"\",\"\",'H01 HC08'!S90)","v":""},{"$f":"IF('H01 HC08'!T90=\"\",\"\",'H01 HC08'!T90)","v":""}]
[null,{"$f":"IF('H01 HC08'!B91=\"\",\"\",'H01 HC08'!B91)","v":""},{"$f":"IF('H01 HC08'!C91=\"\",\"\",'H01 HC08'!C91)","v":""},{"$f":"IF('H01 HC08'!D91=\"\",\"\",'H01 HC08'!D91)","v":""},null,null,null,null,null,{"$f":"IF('H01 HC08'!E91=\"\",\"\",'H01 HC08'!E91)","v":""},{"$f":"IF('H01 HC08'!F91=\"\",\"\",'H01 HC08'!F91)","v":""},{"$f":"IF('H01 HC08'!G91=\"\",\"\",'H01 HC08'!G91)","v":""},{"$f":"IF('H01 HC08'!H91=\"\",\"\",'H01 HC08'!H91)","v":""},{"$f":"IF('H01 HC08'!I91=\"\",\"\",'H01 HC08'!I91)","v":""},{"$f":"IF('H01 HC08'!J91=\"\",\"\",'H01 HC08'!J91)","v":""},{"$f":"IF(D799=\"\",\"\",VLOOKUP(D799,#REF!,3,0))","v":""},{"$f":"IF('H01 HC08'!K91=\"\",\"\",'H01 HC08'!K91)","v":""},{"$f":"IF('H01 HC08'!L91=\"\",\"\",'H01 HC08'!L91)","v":""},{"$f":"IF('H01 HC08'!M91=\"\",\"\",'H01 HC08'!M91)","v":""},{"$f":"IF('H01 HC08'!N91=\"\",\"\",'H01 HC08'!N91)","v":""},{"$f":"IF('H01 HC08'!O91=\"\",\"\",'H01 HC08'!O91)","v":""},{"$f":"IF('H01 HC08'!P91=\"\",\"\",'H01 HC08'!P91)","v":""},{"$f":"IF('H01 HC08'!Q91=\"\",\"\",'H01 HC08'!Q91)","v":""},{"$f":"IF('H01 HC08'!R91=\"\",\"\",'H01 HC08'!R91)","v":""},{"$f":"IF('H01 HC08'!S91=\"\",\"\",'H01 HC08'!S91)","v":""},{"$f":"IF('H01 HC08'!T91=\"\",\"\",'H01 HC08'!T91)","v":""}]
[null,{"$f":"IF('H01 HC08'!B92=\"\",\"\",'H01 HC08'!B92)","v":""},{"$f":"IF('H01 HC08'!C92=\"\",\"\",'H01 HC08'!C92)","v":""},{"$f":"IF('H01 HC08'!D92=\"\",\"\",'H01 HC08'!D92)","v":""},null,null,null,null,null,{"$f":"IF('H01 HC08'!E92=\"\",\"\",'H01 HC08'!E92)","v":""},{"$f":"IF('H01 HC08'!F92=\"\",\"\",'H01 HC08'!F92)","v":""},{"$f":"IF('H01 HC08'!G92=\"\",\"\",'H01 HC08'!G92)","v":""},{"$f":"IF('H01 HC08'!H92=\"\",\"\",'H01 HC08'!H92)","v":""},{"$f":"IF('H01 HC08'!I92=\"\",\"\",'H01 HC08'!I92)","v":""},{"$f":"IF('H01 HC08'!J92=\"\",\"\",'H01 HC08'!J92)","v":""},{"$f":"IF(D800=\"\",\"\",VLOOKUP(D800,#REF!,3,0))","v":""},{"$f":"IF('H01 HC08'!K92=\"\",\"\",'H01 HC08'!K92)","v":""},{"$f":"IF('H01 HC08'!L92=\"\",\"\",'H01 HC08'!L92)","v":""},{"$f":"IF('H01 HC08'!M92=\"\",\"\",'H01 HC08'!M92)","v":""},{"$f":"IF('H01 HC08'!N92=\"\",\"\",'H01 HC08'!N92)","v":""},{"$f":"IF('H01 HC08'!O92=\"\",\"\",'H01 HC08'!O92)","v":""},{"$f":"IF('H01 HC08'!P92=\"\",\"\",'H01 HC08'!P92)","v":""},{"$f":"IF('H01 HC08'!Q92=\"\",\"\",'H01 HC08'!Q92)","v":""},{"$f":"IF('H01 HC08'!R92=\"\",\"\",'H01 HC08'!R92)","v":""},{"$f":"IF('H01 HC08'!S92=\"\",\"\",'H01 HC08'!S92)","v":""},{"$f":"IF('H01 HC08'!T92=\"\",\"\",'H01 HC08'!T92)","v":""}]
[null,{"$f":"IF('H01 HC08'!B93=\"\",\"\",'H01 HC08'!B93)","v":""},{"$f":"IF('H01 HC08'!C93=\"\",\"\",'H01 HC08'!C93)","v":""},{"$f":"IF('H01 HC08'!D93=\"\",\"\",'H01 HC08'!D93)","v":""},null,null,null,null,null,{"$f":"IF('H01 HC08'!E93=\"\",\"\",'H01 HC08'!E93)","v":""},{"$f":"IF('H01 HC08'!F93=\"\",\"\",'H01 HC08'!F93)","v":""},{"$f":"IF('H01 HC08'!G93=\"\",\"\",'H01 HC08'!G93)","v":""},{"$f":"IF('H01 HC08'!H93=\"\",\"\",'H01 HC08'!H93)","v":""},{"$f":"IF('H01 HC08'!I93=\"\",\"\",'H01 HC08'!I93)","v":""},{"$f":"IF('H01 HC08'!J93=\"\",\"\",'H01 HC08'!J93)","v":""},{"$f":"IF(D801=\"\",\"\",VLOOKUP(D801,#REF!,3,0))","v":""},{"$f":"IF('H01 HC08'!K93=\"\",\"\",'H01 HC08'!K93)","v":""},{"$f":"IF('H01 HC08'!L93=\"\",\"\",'H01 HC08'!L93)","v":""},{"$f":"IF('H01 HC08'!M93=\"\",\"\",'H01 HC08'!M93)","v":""},{"$f":"IF('H01 HC08'!N93=\"\",\"\",'H01 HC08'!N93)","v":""},{"$f":"IF('H01 HC08'!O93=\"\",\"\",'H01 HC08'!O93)","v":""},{"$f":"IF('H01 HC08'!P93=\"\",\"\",'H01 HC08'!P93)","v":""},{"$f":"IF('H01 HC08'!Q93=\"\",\"\",'H01 HC08'!Q93)","v":""},{"$f":"IF('H01 HC08'!R93=\"\",\"\",'H01 HC08'!R93)","v":""},{"$f":"IF('H01 HC08'!S93=\"\",\"\",'H01 HC08'!S93)","v":""},{"$f":"IF('H01 HC08'!T93=\"\",\"\",'H01 HC08'!T93)","v":""}]
[null,{"$f":"IF('H01 HC08'!B94=\"\",\"\",'H01 HC08'!B94)","v":""},{"$f":"IF('H01 HC08'!C94=\"\",\"\",'H01 HC08'!C94)","v":""},{"$f":"IF('H01 HC08'!D94=\"\",\"\",'H01 HC08'!D94)","v":""},null,null,null,null,null,{"$f":"IF('H01 HC08'!E94=\"\",\"\",'H01 HC08'!E94)","v":""},{"$f":"IF('H01 HC08'!F94=\"\",\"\",'H01 HC08'!F94)","v":""},{"$f":"IF('H01 HC08'!G94=\"\",\"\",'H01 HC08'!G94)","v":""},{"$f":"IF('H01 HC08'!H94=\"\",\"\",'H01 HC08'!H94)","v":""},{"$f":"IF('H01 HC08'!I94=\"\",\"\",'H01 HC08'!I94)","v":""},{"$f":"IF('H01 HC08'!J94=\"\",\"\",'H01 HC08'!J94)","v":""},{"$f":"IF(D802=\"\",\"\",VLOOKUP(D802,#REF!,3,0))","v":""},{"$f":"IF('H01 HC08'!K94=\"\",\"\",'H01 HC08'!K94)","v":""},{"$f":"IF('H01 HC08'!L94=\"\",\"\",'H01 HC08'!L94)","v":""},{"$f":"IF('H01 HC08'!M94=\"\",\"\",'H01 HC08'!M94)","v":""},{"$f":"IF('H01 HC08'!N94=\"\",\"\",'H01 HC08'!N94)","v":""},{"$f":"IF('H01 HC08'!O94=\"\",\"\",'H01 HC08'!O94)","v":""},{"$f":"IF('H01 HC08'!P94=\"\",\"\",'H01 HC08'!P94)","v":""},{"$f":"IF('H01 HC08'!Q94=\"\",\"\",'H01 HC08'!Q94)","v":""},{"$f":"IF('H01 HC08'!R94=\"\",\"\",'H01 HC08'!R94)","v":""},{"$f":"IF('H01 HC08'!S94=\"\",\"\",'H01 HC08'!S94)","v":""},{"$f":"IF('H01 HC08'!T94=\"\",\"\",'H01 HC08'!T94)","v":""}]
[null,{"$f":"IF('H01 HC08'!B95=\"\",\"\",'H01 HC08'!B95)","v":""},{"$f":"IF('H01 HC08'!C95=\"\",\"\",'H01 HC08'!C95)","v":""},{"$f":"IF('H01 HC08'!D95=\"\",\"\",'H01 HC08'!D95)","v":""},null,null,null,null,null,{"$f":"IF('H01 HC08'!E95=\"\",\"\",'H01 HC08'!E95)","v":""},{"$f":"IF('H01 HC08'!F95=\"\",\"\",'H01 HC08'!F95)","v":""},{"$f":"IF('H01 HC08'!G95=\"\",\"\",'H01 HC08'!G95)","v":""},{"$f":"IF('H01 HC08'!H95=\"\",\"\",'H01 HC08'!H95)","v":""},{"$f":"IF('H01 HC08'!I95=\"\",\"\",'H01 HC08'!I95)","v":""},{"$f":"IF('H01 HC08'!J95=\"\",\"\",'H01 HC08'!J95)","v":""},{"$f":"IF(D803=\"\",\"\",VLOOKUP(D803,#REF!,3,0))","v":""},{"$f":"IF('H01 HC08'!K95=\"\",\"\",'H01 HC08'!K95)","v":""},{"$f":"IF('H01 HC08'!L95=\"\",\"\",'H01 HC08'!L95)","v":""},{"$f":"IF('H01 HC08'!M95=\"\",\"\",'H01 HC08'!M95)","v":""},{"$f":"IF('H01 HC08'!N95=\"\",\"\",'H01 HC08'!N95)","v":""},{"$f":"IF('H01 HC08'!O95=\"\",\"\",'H01 HC08'!O95)","v":""},{"$f":"IF('H01 HC08'!P95=\"\",\"\",'H01 HC08'!P95)","v":""},{"$f":"IF('H01 HC08'!Q95=\"\",\"\",'H01 HC08'!Q95)","v":""},{"$f":"IF('H01 HC08'!R95=\"\",\"\",'H01 HC08'!R95)","v":""},{"$f":"IF('H01 HC08'!S95=\"\",\"\",'H01 HC08'!S95)","v":""},{"$f":"IF('H01 HC08'!T95=\"\",\"\",'H01 HC08'!T95)","v":""}]
[null,{"$f":"IF('H01 HC08'!B96=\"\",\"\",'H01 HC08'!B96)","v":""},{"$f":"IF('H01 HC08'!C96=\"\",\"\",'H01 HC08'!C96)","v":""},{"$f":"IF('H01 HC08'!D96=\"\",\"\",'H01 HC08'!D96)","v":""},null,null,null,null,null,{"$f":"IF('H01 HC08'!E96=\"\",\"\",'H01 HC08'!E96)","v":""},{"$f":"IF('H01 HC08'!F96=\"\",\"\",'H01 HC08'!F96)","v":""},{"$f":"IF('H01 HC08'!G96=\"\",\"\",'H01 HC08'!G96)","v":""},{"$f":"IF('H01 HC08'!H96=\"\",\"\",'H01 HC08'!H96)","v":""},{"$f":"IF('H01 HC08'!I96=\"\",\"\",'H01 HC08'!I96)","v":""},{"$f":"IF('H01 HC08'!J96=\"\",\"\",'H01 HC08'!J96)","v":""},{"$f":"IF(D804=\"\",\"\",VLOOKUP(D804,#REF!,3,0))","v":""},{"$f":"IF('H01 HC08'!K96=\"\",\"\",'H01 HC08'!K96)","v":""},{"$f":"IF('H01 HC08'!L96=\"\",\"\",'H01 HC08'!L96)","v":""},{"$f":"IF('H01 HC08'!M96=\"\",\"\",'H01 HC08'!M96)","v":""},{"$f":"IF('H01 HC08'!N96=\"\",\"\",'H01 HC08'!N96)","v":""},{"$f":"IF('H01 HC08'!O96=\"\",\"\",'H01 HC08'!O96)","v":""},{"$f":"IF('H01 HC08'!P96=\"\",\"\",'H01 HC08'!P96)","v":""},{"$f":"IF('H01 HC08'!Q96=\"\",\"\",'H01 HC08'!Q96)","v":""},{"$f":"IF('H01 HC08'!R96=\"\",\"\",'H01 HC08'!R96)","v":""},{"$f":"IF('H01 HC08'!S96=\"\",\"\",'H01 HC08'!S96)","v":""},{"$f":"IF('H01 HC08'!T96=\"\",\"\",'H01 HC08'!T96)","v":""}]
[null,{"$f":"IF('H01 HC08'!B97=\"\",\"\",'H01 HC08'!B97)","v":""},{"$f":"IF('H01 HC08'!C97=\"\",\"\",'H01 HC08'!C97)","v":""},{"$f":"IF('H01 HC08'!D97=\"\",\"\",'H01 HC08'!D97)","v":""},null,null,null,null,null,{"$f":"IF('H01 HC08'!E97=\"\",\"\",'H01 HC08'!E97)","v":""},{"$f":"IF('H01 HC08'!F97=\"\",\"\",'H01 HC08'!F97)","v":""},{"$f":"IF('H01 HC08'!G97=\"\",\"\",'H01 HC08'!G97)","v":""},{"$f":"IF('H01 HC08'!H97=\"\",\"\",'H01 HC08'!H97)","v":""},{"$f":"IF('H01 HC08'!I97=\"\",\"\",'H01 HC08'!I97)","v":""},{"$f":"IF('H01 HC08'!J97=\"\",\"\",'H01 HC08'!J97)","v":""},{"$f":"IF(D805=\"\",\"\",VLOOKUP(D805,#REF!,3,0))","v":""},{"$f":"IF('H01 HC08'!K97=\"\",\"\",'H01 HC08'!K97)","v":""},{"$f":"IF('H01 HC08'!L97=\"\",\"\",'H01 HC08'!L97)","v":""},{"$f":"IF('H01 HC08'!M97=\"\",\"\",'H01 HC08'!M97)","v":""},{"$f":"IF('H01 HC08'!N97=\"\",\"\",'H01 HC08'!N97)","v":""},{"$f":"IF('H01 HC08'!O97=\"\",\"\",'H01 HC08'!O97)","v":""},{"$f":"IF('H01 HC08'!P97=\"\",\"\",'H01 HC08'!P97)","v":""},{"$f":"IF('H01 HC08'!Q97=\"\",\"\",'H01 HC08'!Q97)","v":""},{"$f":"IF('H01 HC08'!R97=\"\",\"\",'H01 HC08'!R97)","v":""},{"$f":"IF('H01 HC08'!S97=\"\",\"\",'H01 HC08'!S97)","v":""},{"$f":"IF('H01 HC08'!T97=\"\",\"\",'H01 HC08'!T97)","v":""}]
[null,{"$f":"IF('H01 HC08'!B98=\"\",\"\",'H01 HC08'!B98)","v":""},{"$f":"IF('H01 HC08'!C98=\"\",\"\",'H01 HC08'!C98)","v":""},{"$f":"IF('H01 HC08'!D98=\"\",\"\",'H01 HC08'!D98)","v":""},null,null,null,null,null,{"$f":"IF('H01 HC08'!E98=\"\",\"\",'H01 HC08'!E98)","v":""},{"$f":"IF('H01 HC08'!F98=\"\",\"\",'H01 HC08'!F98)","v":""},{"$f":"IF('H01 HC08'!G98=\"\",\"\",'H01 HC08'!G98)","v":""},{"$f":"IF('H01 HC08'!H98=\"\",\"\",'H01 HC08'!H98)","v":""},{"$f":"IF('H01 HC08'!I98=\"\",\"\",'H01 HC08'!I98)","v":""},{"$f":"IF('H01 HC08'!J98=\"\",\"\",'H01 HC08'!J98)","v":""},{"$f":"IF(D806=\"\",\"\",VLOOKUP(D806,#REF!,3,0))","v":""},{"$f":"IF('H01 HC08'!K98=\"\",\"\",'H01 HC08'!K98)","v":""},{"$f":"IF('H01 HC08'!L98=\"\",\"\",'H01 HC08'!L98)","v":""},{"$f":"IF('H01 HC08'!M98=\"\",\"\",'H01 HC08'!M98)","v":""},{"$f":"IF('H01 HC08'!N98=\"\",\"\",'H01 HC08'!N98)","v":""},{"$f":"IF('H01 HC08'!O98=\"\",\"\",'H01 HC08'!O98)","v":""},{"$f":"IF('H01 HC08'!P98=\"\",\"\",'H01 HC08'!P98)","v":""},{"$f":"IF('H01 HC08'!Q98=\"\",\"\",'H01 HC08'!Q98)","v":""},{"$f":"IF('H01 HC08'!R98=\"\",\"\",'H01 HC08'!R98)","v":""},{"$f":"IF('H01 HC08'!S98=\"\",\"\",'H01 HC08'!S98)","v":""},{"$f":"IF('H01 HC08'!T98=\"\",\"\",'H01 HC08'!T98)","v":""}]
[null,{"$f":"IF('H01 HC08'!B99=\"\",\"\",'H01 HC08'!B99)","v":""},{"$f":"IF('H01 HC08'!C99=\"\",\"\",'H01 HC08'!C99)","v":""},{"$f":"IF('H01 HC08'!D99=\"\",\"\",'H01 HC08'!D99)","v":""},null,null,null,null,null,{"$f":"IF('H01 HC08'!E99=\"\",\"\",'H01 HC08'!E99)","v":""},{"$f":"IF('H01 HC08'!F99=\"\",\"\",'H01 HC08'!F99)","v":""},{"$f":"IF('H01 HC08'!G99=\"\",\"\",'H01 HC08'!G99)","v":""},{"$f":"IF('H01 HC08'!H99=\"\",\"\",'H01 HC08'!H99)","v":""},{"$f":"IF('H01 HC08'!I99=\"\",\"\",'H01 HC08'!I99)","v":""},{"$f":"IF('H01 HC08'!J99=\"\",\"\",'H01 HC08'!J99)","v":""},{"$f":"IF(D807=\"\",\"\",VLOOKUP(D807,#REF!,3,0))","v":""},{"$f":"IF('H01 HC08'!K99=\"\",\"\",'H01 HC08'!K99)","v":""},{"$f":"IF('H01 HC08'!L99=\"\",\"\",'H01 HC08'!L99)","v":""},{"$f":"IF('H01 HC08'!M99=\"\",\"\",'H01 HC08'!M99)","v":""},{"$f":"IF('H01 HC08'!N99=\"\",\"\",'H01 HC08'!N99)","v":""},{"$f":"IF('H01 HC08'!O99=\"\",\"\",'H01 HC08'!O99)","v":""},{"$f":"IF('H01 HC08'!P99=\"\",\"\",'H01 HC08'!P99)","v":""},{"$f":"IF('H01 HC08'!Q99=\"\",\"\",'H01 HC08'!Q99)","v":""},{"$f":"IF('H01 HC08'!R99=\"\",\"\",'H01 HC08'!R99)","v":""},{"$f":"IF('H01 HC08'!S99=\"\",\"\",'H01 HC08'!S99)","v":""},{"$f":"IF('H01 HC08'!T99=\"\",\"\",'H01 HC08'!T99)","v":""}]
[null,{"$f":"IF('H01 HC08'!B100=\"\",\"\",'H01 HC08'!B100)","v":""},{"$f":"IF('H01 HC08'!C100=\"\",\"\",'H01 HC08'!C100)","v":""},{"$f":"IF('H01 HC08'!D100=\"\",\"\",'H01 HC08'!D100)","v":""},null,null,null,null,null,{"$f":"IF('H01 HC08'!E100=\"\",\"\",'H01 HC08'!E100)","v":""},{"$f":"IF('H01 HC08'!F100=\"\",\"\",'H01 HC08'!F100)","v":""},{"$f":"IF('H01 HC08'!G100=\"\",\"\",'H01 HC08'!G100)","v":""},{"$f":"IF('H01 HC08'!H100=\"\",\"\",'H01 HC08'!H100)","v":""},{"$f":"IF('H01 HC08'!I100=\"\",\"\",'H01 HC08'!I100)","v":""},{"$f":"IF('H01 HC08'!J100=\"\",\"\",'H01 HC08'!J100)","v":""},{"$f":"IF(D808=\"\",\"\",VLOOKUP(D808,#REF!,3,0))","v":""},{"$f":"IF('H01 HC08'!K100=\"\",\"\",'H01 HC08'!K100)","v":""},{"$f":"IF('H01 HC08'!L100=\"\",\"\",'H01 HC08'!L100)","v":""},{"$f":"IF('H01 HC08'!M100=\"\",\"\",'H01 HC08'!M100)","v":""},{"$f":"IF('H01 HC08'!N100=\"\",\"\",'H01 HC08'!N100)","v":""},{"$f":"IF('H01 HC08'!O100=\"\",\"\",'H01 HC08'!O100)","v":""},{"$f":"IF('H01 HC08'!P100=\"\",\"\",'H01 HC08'!P100)","v":""},{"$f":"IF('H01 HC08'!Q100=\"\",\"\",'H01 HC08'!Q100)","v":""},{"$f":"IF('H01 HC08'!R100=\"\",\"\",'H01 HC08'!R100)","v":""},{"$f":"IF('H01 HC08'!S100=\"\",\"\",'H01 HC08'!S100)","v":""},{"$f":"IF('H01 HC08'!T100=\"\",\"\",'H01 HC08'!T100)","v":""}]
[null,{"$f":"IF('H01 HC08'!B101=\"\",\"\",'H01 HC08'!B101)","v":""},{"$f":"IF('H01 HC08'!C101=\"\",\"\",'H01 HC08'!C101)","v":""},{"$f":"IF('H01 HC08'!D101=\"\",\"\",'H01 HC08'!D101)","v":""},null,null,null,null,null,{"$f":"IF('H01 HC08'!E101=\"\",\"\",'H01 HC08'!E101)","v":""},{"$f":"IF('H01 HC08'!F101=\"\",\"\",'H01 HC08'!F101)","v":""},{"$f":"IF('H01 HC08'!G101=\"\",\"\",'H01 HC08'!G101)","v":""},{"$f":"IF('H01 HC08'!H101=\"\",\"\",'H01 HC08'!H101)","v":""},{"$f":"IF('H01 HC08'!I101=\"\",\"\",'H01 HC08'!I101)","v":""},{"$f":"IF('H01 HC08'!J101=\"\",\"\",'H01 HC08'!J101)","v":""},{"$f":"IF(D809=\"\",\"\",VLOOKUP(D809,#REF!,3,0))","v":""},{"$f":"IF('H01 HC08'!K101=\"\",\"\",'H01 HC08'!K101)","v":""},{"$f":"IF('H01 HC08'!L101=\"\",\"\",'H01 HC08'!L101)","v":""},{"$f":"IF('H01 HC08'!M101=\"\",\"\",'H01 HC08'!M101)","v":""},{"$f":"IF('H01 HC08'!N101=\"\",\"\",'H01 HC08'!N101)","v":""},{"$f":"IF('H01 HC08'!O101=\"\",\"\",'H01 HC08'!O101)","v":""},{"$f":"IF('H01 HC08'!P101=\"\",\"\",'H01 HC08'!P101)","v":""},{"$f":"IF('H01 HC08'!Q101=\"\",\"\",'H01 HC08'!Q101)","v":""},{"$f":"IF('H01 HC08'!R101=\"\",\"\",'H01 HC08'!R101)","v":""},{"$f":"IF('H01 HC08'!S101=\"\",\"\",'H01 HC08'!S101)","v":""},{"$f":"IF('H01 HC08'!T101=\"\",\"\",'H01 HC08'!T101)","v":""}]
[null,{"$f":"IF('H01 HC08'!B102=\"\",\"\",'H01 HC08'!B102)","v":""},{"$f":"IF('H01 HC08'!C102=\"\",\"\",'H01 HC08'!C102)","v":""},{"$f":"IF('H01 HC08'!D102=\"\",\"\",'H01 HC08'!D102)","v":""},null,null,null,null,null,{"$f":"IF('H01 HC08'!E102=\"\",\"\",'H01 HC08'!E102)","v":""},{"$f":"IF('H01 HC08'!F102=\"\",\"\",'H01 HC08'!F102)","v":""},{"$f":"IF('H01 HC08'!G102=\"\",\"\",'H01 HC08'!G102)","v":""},{"$f":"IF('H01 HC08'!H102=\"\",\"\",'H01 HC08'!H102)","v":""},{"$f":"IF('H01 HC08'!I102=\"\",\"\",'H01 HC08'!I102)","v":""},{"$f":"IF('H01 HC08'!J102=\"\",\"\",'H01 HC08'!J102)","v":""},{"$f":"IF(D810=\"\",\"\",VLOOKUP(D810,#REF!,3,0))","v":""},{"$f":"IF('H01 HC08'!K102=\"\",\"\",'H01 HC08'!K102)","v":""},{"$f":"IF('H01 HC08'!L102=\"\",\"\",'H01 HC08'!L102)","v":""},{"$f":"IF('H01 HC08'!M102=\"\",\"\",'H01 HC08'!M102)","v":""},{"$f":"IF('H01 HC08'!N102=\"\",\"\",'H01 HC08'!N102)","v":""},{"$f":"IF('H01 HC08'!O102=\"\",\"\",'H01 HC08'!O102)","v":""},{"$f":"IF('H01 HC08'!P102=\"\",\"\",'H01 HC08'!P102)","v":""},{"$f":"IF('H01 HC08'!Q102=\"\",\"\",'H01 HC08'!Q102)","v":""},{"$f":"IF('H01 HC08'!R102=\"\",\"\",'H01 HC08'!R102)","v":""},{"$f":"IF('H01 HC08'!S102=\"\",\"\",'H01 HC08'!S102)","v":""},{"$f":"IF('H01 HC08'!T102=\"\",\"\",'H01 HC08'!T102)","v":""}]
[null,{"$f":"IF('H01 HC08'!B103=\"\",\"\",'H01 HC08'!B103)","v":""},{"$f":"IF('H01 HC08'!C103=\"\",\"\",'H01 HC08'!C103)","v":""},{"$f":"IF('H01 HC08'!D103=\"\",\"\",'H01 HC08'!D103)","v":""},null,null,null,null,null,{"$f":"IF('H01 HC08'!E103=\"\",\"\",'H01 HC08'!E103)","v":""},{"$f":"IF('H01 HC08'!F103=\"\",\"\",'H01 HC08'!F103)","v":""},{"$f":"IF('H01 HC08'!G103=\"\",\"\",'H01 HC08'!G103)","v":""},{"$f":"IF('H01 HC08'!H103=\"\",\"\",'H01 HC08'!H103)","v":""},{"$f":"IF('H01 HC08'!I103=\"\",\"\",'H01 HC08'!I103)","v":""},{"$f":"IF('H01 HC08'!J103=\"\",\"\",'H01 HC08'!J103)","v":""},{"$f":"IF(D811=\"\",\"\",VLOOKUP(D811,#REF!,3,0))","v":""},{"$f":"IF('H01 HC08'!K103=\"\",\"\",'H01 HC08'!K103)","v":""},{"$f":"IF('H01 HC08'!L103=\"\",\"\",'H01 HC08'!L103)","v":""},{"$f":"IF('H01 HC08'!M103=\"\",\"\",'H01 HC08'!M103)","v":""},{"$f":"IF('H01 HC08'!N103=\"\",\"\",'H01 HC08'!N103)","v":""},{"$f":"IF('H01 HC08'!O103=\"\",\"\",'H01 HC08'!O103)","v":""},{"$f":"IF('H01 HC08'!P103=\"\",\"\",'H01 HC08'!P103)","v":""},{"$f":"IF('H01 HC08'!Q103=\"\",\"\",'H01 HC08'!Q103)","v":""},{"$f":"IF('H01 HC08'!R103=\"\",\"\",'H01 HC08'!R103)","v":""},{"$f":"IF('H01 HC08'!S103=\"\",\"\",'H01 HC08'!S103)","v":""},{"$f":"IF('H01 HC08'!T103=\"\",\"\",'H01 HC08'!T103)","v":""}]
[null,{"$f":"IF('H01 HC08'!B104=\"\",\"\",'H01 HC08'!B104)","v":""},{"$f":"IF('H01 HC08'!C104=\"\",\"\",'H01 HC08'!C104)","v":""},{"$f":"IF('H01 HC08'!D104=\"\",\"\",'H01 HC08'!D104)","v":""},null,null,null,null,null,{"$f":"IF('H01 HC08'!E104=\"\",\"\",'H01 HC08'!E104)","v":""},{"$f":"IF('H01 HC08'!F104=\"\",\"\",'H01 HC08'!F104)","v":""},{"$f":"IF('H01 HC08'!G104=\"\",\"\",'H01 HC08'!G104)","v":""},{"$f":"IF('H01 HC08'!H104=\"\",\"\",'H01 HC08'!H104)","v":""},{"$f":"IF('H01 HC08'!I104=\"\",\"\",'H01 HC08'!I104)","v":""},{"$f":"IF('H01 HC08'!J104=\"\",\"\",'H01 HC08'!J104)","v":""},{"$f":"IF(D812=\"\",\"\",VLOOKUP(D812,#REF!,3,0))","v":""},{"$f":"IF('H01 HC08'!K104=\"\",\"\",'H01 HC08'!K104)","v":""},{"$f":"IF('H01 HC08'!L104=\"\",\"\",'H01 HC08'!L104)","v":""},{"$f":"IF('H01 HC08'!M104=\"\",\"\",'H01 HC08'!M104)","v":""},{"$f":"IF('H01 HC08'!N104=\"\",\"\",'H01 HC08'!N104)","v":""},{"$f":"IF('H01 HC08'!O104=\"\",\"\",'H01 HC08'!O104)","v":""},{"$f":"IF('H01 HC08'!P104=\"\",\"\",'H01 HC08'!P104)","v":""},{"$f":"IF('H01 HC08'!Q104=\"\",\"\",'H01 HC08'!Q104)","v":""},{"$f":"IF('H01 HC08'!R104=\"\",\"\",'H01 HC08'!R104)","v":""},{"$f":"IF('H01 HC08'!S104=\"\",\"\",'H01 HC08'!S104)","v":""},{"$f":"IF('H01 HC08'!T104=\"\",\"\",'H01 HC08'!T104)","v":""}]
[null,{"$f":"IF('H01 HC08'!B105=\"\",\"\",'H01 HC08'!B105)","v":""},{"$f":"IF('H01 HC08'!C105=\"\",\"\",'H01 HC08'!C105)","v":""},{"$f":"IF('H01 HC08'!D105=\"\",\"\",'H01 HC08'!D105)","v":""},null,null,null,null,null,{"$f":"IF('H01 HC08'!E105=\"\",\"\",'H01 HC08'!E105)","v":""},{"$f":"IF('H01 HC08'!F105=\"\",\"\",'H01 HC08'!F105)","v":""},{"$f":"IF('H01 HC08'!G105=\"\",\"\",'H01 HC08'!G105)","v":""},{"$f":"IF('H01 HC08'!H105=\"\",\"\",'H01 HC08'!H105)","v":""},{"$f":"IF('H01 HC08'!I105=\"\",\"\",'H01 HC08'!I105)","v":""},{"$f":"IF('H01 HC08'!J105=\"\",\"\",'H01 HC08'!J105)","v":""},{"$f":"IF(D813=\"\",\"\",VLOOKUP(D813,#REF!,3,0))","v":""},{"$f":"IF('H01 HC08'!K105=\"\",\"\",'H01 HC08'!K105)","v":""},{"$f":"IF('H01 HC08'!L105=\"\",\"\",'H01 HC08'!L105)","v":""},{"$f":"IF('H01 HC08'!M105=\"\",\"\",'H01 HC08'!M105)","v":""},{"$f":"IF('H01 HC08'!N105=\"\",\"\",'H01 HC08'!N105)","v":""},{"$f":"IF('H01 HC08'!O105=\"\",\"\",'H01 HC08'!O105)","v":""},{"$f":"IF('H01 HC08'!P105=\"\",\"\",'H01 HC08'!P105)","v":""},{"$f":"IF('H01 HC08'!Q105=\"\",\"\",'H01 HC08'!Q105)","v":""},{"$f":"IF('H01 HC08'!R105=\"\",\"\",'H01 HC08'!R105)","v":""},{"$f":"IF('H01 HC08'!S105=\"\",\"\",'H01 HC08'!S105)","v":""},{"$f":"IF('H01 HC08'!T105=\"\",\"\",'H01 HC08'!T105)","v":""}]
[null,{"$f":"IF('H01 HC08'!B106=\"\",\"\",'H01 HC08'!B106)","v":""},{"$f":"IF('H01 HC08'!C106=\"\",\"\",'H01 HC08'!C106)","v":""},{"$f":"IF('H01 HC08'!D106=\"\",\"\",'H01 HC08'!D106)","v":""},null,null,null,null,null,{"$f":"IF('H01 HC08'!E106=\"\",\"\",'H01 HC08'!E106)","v":""},{"$f":"IF('H01 HC08'!F106=\"\",\"\",'H01 HC08'!F106)","v":""},{"$f":"IF('H01 HC08'!G106=\"\",\"\",'H01 HC08'!G106)","v":""},{"$f":"IF('H01 HC08'!H106=\"\",\"\",'H01 HC08'!H106)","v":""},{"$f":"IF('H01 HC08'!I106=\"\",\"\",'H01 HC08'!I106)","v":""},{"$f":"IF('H01 HC08'!J106=\"\",\"\",'H01 HC08'!J106)","v":""},{"$f":"IF(D814=\"\",\"\",VLOOKUP(D814,#REF!,3,0))","v":""},{"$f":"IF('H01 HC08'!K106=\"\",\"\",'H01 HC08'!K106)","v":""},{"$f":"IF('H01 HC08'!L106=\"\",\"\",'H01 HC08'!L106)","v":""},{"$f":"IF('H01 HC08'!M106=\"\",\"\",'H01 HC08'!M106)","v":""},{"$f":"IF('H01 HC08'!N106=\"\",\"\",'H01 HC08'!N106)","v":""},{"$f":"IF('H01 HC08'!O106=\"\",\"\",'H01 HC08'!O106)","v":""},{"$f":"IF('H01 HC08'!P106=\"\",\"\",'H01 HC08'!P106)","v":""},{"$f":"IF('H01 HC08'!Q106=\"\",\"\",'H01 HC08'!Q106)","v":""},{"$f":"IF('H01 HC08'!R106=\"\",\"\",'H01 HC08'!R106)","v":""},{"$f":"IF('H01 HC08'!S106=\"\",\"\",'H01 HC08'!S106)","v":""},{"$f":"IF('H01 HC08'!T106=\"\",\"\",'H01 HC08'!T106)","v":""}]
[null,{"$f":"IF('H01 HC09'!B7=\"\",\"\",'H01 HC09'!B7)","v":"H01"},{"$f":"IF('H01 HC09'!C7=\"\",\"\",'H01 HC09'!C7)","v":"HC09"},{"$f":"IF('H01 HC09'!D7=\"\",\"\",'H01 HC09'!D7)","v":"QMA"},null,null,null,null,null,{"$f":"IF('H01 HC09'!E7=\"\",\"\",'H01 HC09'!E7)","v":"01"},{"$f":"IF('H01 HC09'!F7=\"\",\"\",'H01 HC09'!F7)","v":"=H01:HC09:QMA01"},{"$f":"IF('H01 HC09'!G7=\"\",\"\",'H01 HC09'!G7)","v":""},{"$f":"IF('H01 HC09'!H7=\"\",\"\",'H01 HC09'!H7)","v":""},{"$f":"IF('H01 HC09'!I7=\"\",\"\",'H01 HC09'!I7)","v":""},null,null,{"$f":"IF('H01 HC09'!K7=\"\",\"\",'H01 HC09'!K7)","v":""},{"$f":"IF('H01 HC09'!L7=\"\",\"\",'H01 HC09'!L7)","v":"VIRA"},{"$f":"IF('H01 HC09'!M7=\"\",\"\",'H01 HC09'!M7)","v":"KVLE_P"},{"$f":"IF('H01 HC09'!N7=\"\",\"\",'H01 HC09'!N7)","v":"DN150"},{"$f":"IF('H01 HC09'!O7=\"\",\"\",'H01 HC09'!O7)","v":"KVLE-P_DN150"},{"$f":"IF('H01 HC09'!P7=\"\",\"\",'H01 HC09'!P7)","v":""},{"$f":"IF('H01 HC09'!Q7=\"\",\"\",'H01 HC09'!Q7)","v":""},{"$f":"IF('H01 HC09'!R7=\"\",\"\",'H01 HC09'!R7)","v":""},{"$f":"IF('H01 HC09'!S7=\"\",\"\",'H01 HC09'!S7)","v":""},{"$f":"IF('H01 HC09'!T7=\"\",\"\",'H01 HC09'!T7)","v":""}]
[null,{"$f":"IF('H01 HC09'!B8=\"\",\"\",'H01 HC09'!B8)","v":"H01"},{"$f":"IF('H01 HC09'!C8=\"\",\"\",'H01 HC09'!C8)","v":"HC09"},{"$f":"IF('H01 HC09'!D8=\"\",\"\",'H01 HC09'!D8)","v":"QMA"},null,null,null,null,null,{"$f":"IF('H01 HC09'!E8=\"\",\"\",'H01 HC09'!E8)","v":"02"},{"$f":"IF('H01 HC09'!F8=\"\",\"\",'H01 HC09'!F8)","v":"=H01:HC09:QMA02"},{"$f":"IF('H01 HC09'!G8=\"\",\"\",'H01 HC09'!G8)","v":""},{"$f":"IF('H01 HC09'!H8=\"\",\"\",'H01 HC09'!H8)","v":""},{"$f":"IF('H01 HC09'!I8=\"\",\"\",'H01 HC09'!I8)","v":""},null,null,{"$f":"IF('H01 HC09'!K8=\"\",\"\",'H01 HC09'!K8)","v":""},{"$f":"IF('H01 HC09'!L8=\"\",\"\",'H01 HC09'!L8)","v":"VIRA"},{"$f":"IF('H01 HC09'!M8=\"\",\"\",'H01 HC09'!M8)","v":"KVLE_P"},{"$f":"IF('H01 HC09'!N8=\"\",\"\",'H01 HC09'!N8)","v":"DN150"},{"$f":"IF('H01 HC09'!O8=\"\",\"\",'H01 HC09'!O8)","v":"KVLE-P_DN150"},{"$f":"IF('H01 HC09'!P8=\"\",\"\",'H01 HC09'!P8)","v":""},{"$f":"IF('H01 HC09'!Q8=\"\",\"\",'H01 HC09'!Q8)","v":""},{"$f":"IF('H01 HC09'!R8=\"\",\"\",'H01 HC09'!R8)","v":""},{"$f":"IF('H01 HC09'!S8=\"\",\"\",'H01 HC09'!S8)","v":""},{"$f":"IF('H01 HC09'!T8=\"\",\"\",'H01 HC09'!T8)","v":""}]
[null,{"$f":"IF('H01 HC09'!B9=\"\",\"\",'H01 HC09'!B9)","v":"H01"},{"$f":"IF('H01 HC09'!C9=\"\",\"\",'H01 HC09'!C9)","v":"HC09"},{"$f":"IF('H01 HC09'!D9=\"\",\"\",'H01 HC09'!D9)","v":"RMB"},null,null,null,null,null,{"$f":"IF('H01 HC09'!E9=\"\",\"\",'H01 HC09'!E9)","v":"01"},{"$f":"IF('H01 HC09'!F9=\"\",\"\",'H01 HC09'!F9)","v":"=H01:HC09:RMB01"},{"$f":"IF('H01 HC09'!G9=\"\",\"\",'H01 HC09'!G9)","v":""},{"$f":"IF('H01 HC09'!H9=\"\",\"\",'H01 HC09'!H9)","v":""},{"$f":"IF('H01 HC09'!I9=\"\",\"\",'H01 HC09'!I9)","v":""},null,null,{"$f":"IF('H01 HC09'!K9=\"\",\"\",'H01 HC09'!K9)","v":""},{"$f":"IF('H01 HC09'!L9=\"\",\"\",'H01 HC09'!L9)","v":"Broen"},{"$f":"IF('H01 HC09'!M9=\"\",\"\",'H01 HC09'!M9)","v":"Ballorex Venturi"},{"$f":"IF('H01 HC09'!N9=\"\",\"\",'H01 HC09'!N9)","v":"DN150"},{"$f":"IF('H01 HC09'!O9=\"\",\"\",'H01 HC09'!O9)","v":406942118},{"$f":"IF('H01 HC09'!P9=\"\",\"\",'H01 HC09'!P9)","v":""},{"$f":"IF('H01 HC09'!Q9=\"\",\"\",'H01 HC09'!Q9)","v":""},{"$f":"IF('H01 HC09'!R9=\"\",\"\",'H01 HC09'!R9)","v":""},{"$f":"IF('H01 HC09'!S9=\"\",\"\",'H01 HC09'!S9)","v":""},{"$f":"IF('H01 HC09'!T9=\"\",\"\",'H01 HC09'!T9)","v":""}]
[null,{"$f":"IF('H01 HC09'!B10=\"\",\"\",'H01 HC09'!B10)","v":"H01"},{"$f":"IF('H01 HC09'!C10=\"\",\"\",'H01 HC09'!C10)","v":"HC09"},{"$f":"IF('H01 HC09'!D10=\"\",\"\",'H01 HC09'!D10)","v":"RMB"},null,null,null,null,null,{"$f":"IF('H01 HC09'!E10=\"\",\"\",'H01 HC09'!E10)","v":"02"},{"$f":"IF('H01 HC09'!F10=\"\",\"\",'H01 HC09'!F10)","v":"=H01:HC09:RMB02"},{"$f":"IF('H01 HC09'!G10=\"\",\"\",'H01 HC09'!G10)","v":""},{"$f":"IF('H01 HC09'!H10=\"\",\"\",'H01 HC09'!H10)","v":""},{"$f":"IF('H01 HC09'!I10=\"\",\"\",'H01 HC09'!I10)","v":""},null,null,{"$f":"IF('H01 HC09'!K10=\"\",\"\",'H01 HC09'!K10)","v":""},{"$f":"IF('H01 HC09'!L10=\"\",\"\",'H01 HC09'!L10)","v":"Broen"},{"$f":"IF('H01 HC09'!M10=\"\",\"\",'H01 HC09'!M10)","v":"Ballorex Venturi"},{"$f":"IF('H01 HC09'!N10=\"\",\"\",'H01 HC09'!N10)","v":"DN150"},{"$f":"IF('H01 HC09'!O10=\"\",\"\",'H01 HC09'!O10)","v":406942118},{"$f":"IF('H01 HC09'!P10=\"\",\"\",'H01 HC09'!P10)","v":""},{"$f":"IF('H01 HC09'!Q10=\"\",\"\",'H01 HC09'!Q10)","v":""},{"$f":"IF('H01 HC09'!R10=\"\",\"\",'H01 HC09'!R10)","v":""},{"$f":"IF('H01 HC09'!S10=\"\",\"\",'H01 HC09'!S10)","v":""},{"$f":"IF('H01 HC09'!T10=\"\",\"\",'H01 HC09'!T10)","v":""}]
[null,{"$f":"IF('H01 HC09'!B11=\"\",\"\",'H01 HC09'!B11)","v":"H01"},{"$f":"IF('H01 HC09'!C11=\"\",\"\",'H01 HC09'!C11)","v":"HC09"},{"$f":"IF('H01 HC09'!D11=\"\",\"\",'H01 HC09'!D11)","v":"GPA"},null,null,null,null,null,{"$f":"IF('H01 HC09'!E11=\"\",\"\",'H01 HC09'!E11)","v":"01"},{"$f":"IF('H01 HC09'!F11=\"\",\"\",'H01 HC09'!F11)","v":"=H01:HC09:GPA01"},{"$f":"IF('H01 HC09'!G11=\"\",\"\",'H01 HC09'!G11)","v":""},{"$f":"IF('H01 HC09'!H11=\"\",\"\",'H01 HC09'!H11)","v":""},{"$f":"IF('H01 HC09'!I11=\"\",\"\",'H01 HC09'!I11)","v":""},null,null,{"$f":"IF('H01 HC09'!K11=\"\",\"\",'H01 HC09'!K11)","v":""},{"$f":"IF('H01 HC09'!L11=\"\",\"\",'H01 HC09'!L11)","v":""},{"$f":"IF('H01 HC09'!M11=\"\",\"\",'H01 HC09'!M11)","v":""},{"$f":"IF('H01 HC09'!N11=\"\",\"\",'H01 HC09'!N11)","v":""},{"$f":"IF('H01 HC09'!O11=\"\",\"\",'H01 HC09'!O11)","v":""},{"$f":"IF('H01 HC09'!P11=\"\",\"\",'H01 HC09'!P11)","v":""},{"$f":"IF('H01 HC09'!Q11=\"\",\"\",'H01 HC09'!Q11)","v":""},{"$f":"IF('H01 HC09'!R11=\"\",\"\",'H01 HC09'!R11)","v":""},{"$f":"IF('H01 HC09'!S11=\"\",\"\",'H01 HC09'!S11)","v":""},{"$f":"IF('H01 HC09'!T11=\"\",\"\",'H01 HC09'!T11)","v":""}]
[null,{"$f":"IF('H01 HC09'!B12=\"\",\"\",'H01 HC09'!B12)","v":"H01"},{"$f":"IF('H01 HC09'!C12=\"\",\"\",'H01 HC09'!C12)","v":"HC09"},{"$f":"IF('H01 HC09'!D12=\"\",\"\",'H01 HC09'!D12)","v":"QNA"},null,null,null,null,null,{"$f":"IF('H01 HC09'!E12=\"\",\"\",'H01 HC09'!E12)","v":"01"},{"$f":"IF('H01 HC09'!F12=\"\",\"\",'H01 HC09'!F12)","v":"=H01:HC09:QNA01"},{"$f":"IF('H01 HC09'!G12=\"\",\"\",'H01 HC09'!G12)","v":""},{"$f":"IF('H01 HC09'!H12=\"\",\"\",'H01 HC09'!H12)","v":""},{"$f":"IF('H01 HC09'!I12=\"\",\"\",'H01 HC09'!I12)","v":""},null,null,{"$f":"IF('H01 HC09'!K12=\"\",\"\",'H01 HC09'!K12)","v":""},{"$f":"IF('H01 HC09'!L12=\"\",\"\",'H01 HC09'!L12)","v":""},{"$f":"IF('H01 HC09'!M12=\"\",\"\",'H01 HC09'!M12)","v":""},{"$f":"IF('H01 HC09'!N12=\"\",\"\",'H01 HC09'!N12)","v":""},{"$f":"IF('H01 HC09'!O12=\"\",\"\",'H01 HC09'!O12)","v":""},{"$f":"IF('H01 HC09'!P12=\"\",\"\",'H01 HC09'!P12)","v":""},{"$f":"IF('H01 HC09'!Q12=\"\",\"\",'H01 HC09'!Q12)","v":""},{"$f":"IF('H01 HC09'!R12=\"\",\"\",'H01 HC09'!R12)","v":""},{"$f":"IF('H01 HC09'!S12=\"\",\"\",'H01 HC09'!S12)","v":""},{"$f":"IF('H01 HC09'!T12=\"\",\"\",'H01 HC09'!T12)","v":""}]
[null,{"$f":"IF('H01 HC09'!B13=\"\",\"\",'H01 HC09'!B13)","v":"H01"},{"$f":"IF('H01 HC09'!C13=\"\",\"\",'H01 HC09'!C13)","v":"HC09"},{"$f":"IF('H01 HC09'!D13=\"\",\"\",'H01 HC09'!D13)","v":"RMA"},null,null,null,null,null,{"$f":"IF('H01 HC09'!E13=\"\",\"\",'H01 HC09'!E13)","v":"01"},{"$f":"IF('H01 HC09'!F13=\"\",\"\",'H01 HC09'!F13)","v":"=H01:HC09:RMA01"},{"$f":"IF('H01 HC09'!G13=\"\",\"\",'H01 HC09'!G13)","v":""},{"$f":"IF('H01 HC09'!H13=\"\",\"\",'H01 HC09'!H13)","v":""},{"$f":"IF('H01 HC09'!I13=\"\",\"\",'H01 HC09'!I13)","v":""},null,null,{"$f":"IF('H01 HC09'!K13=\"\",\"\",'H01 HC09'!K13)","v":""},{"$f":"IF('H01 HC09'!L13=\"\",\"\",'H01 HC09'!L13)","v":"VIRA"},{"$f":"IF('H01 HC09'!M13=\"\",\"\",'H01 HC09'!M13)","v":"WDCV_D"},{"$f":"IF('H01 HC09'!N13=\"\",\"\",'H01 HC09'!N13)","v":"DN150"},{"$f":"IF('H01 HC09'!O13=\"\",\"\",'H01 HC09'!O13)","v":"WDCV-D_DN150"},{"$f":"IF('H01 HC09'!P13=\"\",\"\",'H01 HC09'!P13)","v":""},{"$f":"IF('H01 HC09'!Q13=\"\",\"\",'H01 HC09'!Q13)","v":""},{"$f":"IF('H01 HC09'!R13=\"\",\"\",'H01 HC09'!R13)","v":""},{"$f":"IF('H01 HC09'!S13=\"\",\"\",'H01 HC09'!S13)","v":""},{"$f":"IF('H01 HC09'!T13=\"\",\"\",'H01 HC09'!T13)","v":""}]
[null,{"$f":"IF('H01 HC09'!B14=\"\",\"\",'H01 HC09'!B14)","v":""},{"$f":"IF('H01 HC09'!C14=\"\",\"\",'H01 HC09'!C14)","v":""},{"$f":"IF('H01 HC09'!D14=\"\",\"\",'H01 HC09'!D14)","v":""},null,null,null,null,null,{"$f":"IF('H01 HC09'!E14=\"\",\"\",'H01 HC09'!E14)","v":""},{"$f":"IF('H01 HC09'!F14=\"\",\"\",'H01 HC09'!F14)","v":""},{"$f":"IF('H01 HC09'!G14=\"\",\"\",'H01 HC09'!G14)","v":""},{"$f":"IF('H01 HC09'!H14=\"\",\"\",'H01 HC09'!H14)","v":""},{"$f":"IF('H01 HC09'!I14=\"\",\"\",'H01 HC09'!I14)","v":""},{"$f":"IF('H01 HC09'!J14=\"\",\"\",'H01 HC09'!J14)","v":""},{"$f":"IF(D822=\"\",\"\",VLOOKUP(D822,#REF!,3,0))","v":""},{"$f":"IF('H01 HC09'!K14=\"\",\"\",'H01 HC09'!K14)","v":""},{"$f":"IF('H01 HC09'!L14=\"\",\"\",'H01 HC09'!L14)","v":""},{"$f":"IF('H01 HC09'!M14=\"\",\"\",'H01 HC09'!M14)","v":""},{"$f":"IF('H01 HC09'!N14=\"\",\"\",'H01 HC09'!N14)","v":""},{"$f":"IF('H01 HC09'!O14=\"\",\"\",'H01 HC09'!O14)","v":""},{"$f":"IF('H01 HC09'!P14=\"\",\"\",'H01 HC09'!P14)","v":""},{"$f":"IF('H01 HC09'!Q14=\"\",\"\",'H01 HC09'!Q14)","v":""},{"$f":"IF('H01 HC09'!R14=\"\",\"\",'H01 HC09'!R14)","v":""},{"$f":"IF('H01 HC09'!S14=\"\",\"\",'H01 HC09'!S14)","v":""},{"$f":"IF('H01 HC09'!T14=\"\",\"\",'H01 HC09'!T14)","v":""}]
[null,{"$f":"IF('H01 HC09'!B15=\"\",\"\",'H01 HC09'!B15)","v":""},{"$f":"IF('H01 HC09'!C15=\"\",\"\",'H01 HC09'!C15)","v":""},{"$f":"IF('H01 HC09'!D15=\"\",\"\",'H01 HC09'!D15)","v":""},null,null,null,null,null,{"$f":"IF('H01 HC09'!E15=\"\",\"\",'H01 HC09'!E15)","v":""},{"$f":"IF('H01 HC09'!F15=\"\",\"\",'H01 HC09'!F15)","v":""},{"$f":"IF('H01 HC09'!G15=\"\",\"\",'H01 HC09'!G15)","v":""},{"$f":"IF('H01 HC09'!H15=\"\",\"\",'H01 HC09'!H15)","v":""},{"$f":"IF('H01 HC09'!I15=\"\",\"\",'H01 HC09'!I15)","v":""},{"$f":"IF('H01 HC09'!J15=\"\",\"\",'H01 HC09'!J15)","v":""},{"$f":"IF(D823=\"\",\"\",VLOOKUP(D823,#REF!,3,0))","v":""},{"$f":"IF('H01 HC09'!K15=\"\",\"\",'H01 HC09'!K15)","v":""},{"$f":"IF('H01 HC09'!L15=\"\",\"\",'H01 HC09'!L15)","v":""},{"$f":"IF('H01 HC09'!M15=\"\",\"\",'H01 HC09'!M15)","v":""},{"$f":"IF('H01 HC09'!N15=\"\",\"\",'H01 HC09'!N15)","v":""},{"$f":"IF('H01 HC09'!O15=\"\",\"\",'H01 HC09'!O15)","v":""},{"$f":"IF('H01 HC09'!P15=\"\",\"\",'H01 HC09'!P15)","v":""},{"$f":"IF('H01 HC09'!Q15=\"\",\"\",'H01 HC09'!Q15)","v":""},{"$f":"IF('H01 HC09'!R15=\"\",\"\",'H01 HC09'!R15)","v":""},{"$f":"IF('H01 HC09'!S15=\"\",\"\",'H01 HC09'!S15)","v":""},{"$f":"IF('H01 HC09'!T15=\"\",\"\",'H01 HC09'!T15)","v":""}]
[null,{"$f":"IF('H01 HC09'!B16=\"\",\"\",'H01 HC09'!B16)","v":""},{"$f":"IF('H01 HC09'!C16=\"\",\"\",'H01 HC09'!C16)","v":""},{"$f":"IF('H01 HC09'!D16=\"\",\"\",'H01 HC09'!D16)","v":""},null,null,null,null,null,{"$f":"IF('H01 HC09'!E16=\"\",\"\",'H01 HC09'!E16)","v":""},{"$f":"IF('H01 HC09'!F16=\"\",\"\",'H01 HC09'!F16)","v":""},{"$f":"IF('H01 HC09'!G16=\"\",\"\",'H01 HC09'!G16)","v":""},{"$f":"IF('H01 HC09'!H16=\"\",\"\",'H01 HC09'!H16)","v":""},{"$f":"IF('H01 HC09'!I16=\"\",\"\",'H01 HC09'!I16)","v":""},{"$f":"IF('H01 HC09'!J16=\"\",\"\",'H01 HC09'!J16)","v":""},{"$f":"IF(D824=\"\",\"\",VLOOKUP(D824,#REF!,3,0))","v":""},{"$f":"IF('H01 HC09'!K16=\"\",\"\",'H01 HC09'!K16)","v":""},{"$f":"IF('H01 HC09'!L16=\"\",\"\",'H01 HC09'!L16)","v":""},{"$f":"IF('H01 HC09'!M16=\"\",\"\",'H01 HC09'!M16)","v":""},{"$f":"IF('H01 HC09'!N16=\"\",\"\",'H01 HC09'!N16)","v":""},{"$f":"IF('H01 HC09'!O16=\"\",\"\",'H01 HC09'!O16)","v":""},{"$f":"IF('H01 HC09'!P16=\"\",\"\",'H01 HC09'!P16)","v":""},{"$f":"IF('H01 HC09'!Q16=\"\",\"\",'H01 HC09'!Q16)","v":""},{"$f":"IF('H01 HC09'!R16=\"\",\"\",'H01 HC09'!R16)","v":""},{"$f":"IF('H01 HC09'!S16=\"\",\"\",'H01 HC09'!S16)","v":""},{"$f":"IF('H01 HC09'!T16=\"\",\"\",'H01 HC09'!T16)","v":""}]
[null,{"$f":"IF('H01 HC09'!B17=\"\",\"\",'H01 HC09'!B17)","v":""},{"$f":"IF('H01 HC09'!C17=\"\",\"\",'H01 HC09'!C17)","v":""},{"$f":"IF('H01 HC09'!D17=\"\",\"\",'H01 HC09'!D17)","v":""},null,null,null,null,null,{"$f":"IF('H01 HC09'!E17=\"\",\"\",'H01 HC09'!E17)","v":""},{"$f":"IF('H01 HC09'!F17=\"\",\"\",'H01 HC09'!F17)","v":""},{"$f":"IF('H01 HC09'!G17=\"\",\"\",'H01 HC09'!G17)","v":""},{"$f":"IF('H01 HC09'!H17=\"\",\"\",'H01 HC09'!H17)","v":""},{"$f":"IF('H01 HC09'!I17=\"\",\"\",'H01 HC09'!I17)","v":""},{"$f":"IF('H01 HC09'!J17=\"\",\"\",'H01 HC09'!J17)","v":""},{"$f":"IF(D825=\"\",\"\",VLOOKUP(D825,#REF!,3,0))","v":""},{"$f":"IF('H01 HC09'!K17=\"\",\"\",'H01 HC09'!K17)","v":""},{"$f":"IF('H01 HC09'!L17=\"\",\"\",'H01 HC09'!L17)","v":""},{"$f":"IF('H01 HC09'!M17=\"\",\"\",'H01 HC09'!M17)","v":""},{"$f":"IF('H01 HC09'!N17=\"\",\"\",'H01 HC09'!N17)","v":""},{"$f":"IF('H01 HC09'!O17=\"\",\"\",'H01 HC09'!O17)","v":""},{"$f":"IF('H01 HC09'!P17=\"\",\"\",'H01 HC09'!P17)","v":""},{"$f":"IF('H01 HC09'!Q17=\"\",\"\",'H01 HC09'!Q17)","v":""},{"$f":"IF('H01 HC09'!R17=\"\",\"\",'H01 HC09'!R17)","v":""},{"$f":"IF('H01 HC09'!S17=\"\",\"\",'H01 HC09'!S17)","v":""},{"$f":"IF('H01 HC09'!T17=\"\",\"\",'H01 HC09'!T17)","v":""}]
[null,{"$f":"IF('H01 HC09'!B18=\"\",\"\",'H01 HC09'!B18)","v":""},{"$f":"IF('H01 HC09'!C18=\"\",\"\",'H01 HC09'!C18)","v":""},{"$f":"IF('H01 HC09'!D18=\"\",\"\",'H01 HC09'!D18)","v":""},null,null,null,null,null,{"$f":"IF('H01 HC09'!E18=\"\",\"\",'H01 HC09'!E18)","v":""},{"$f":"IF('H01 HC09'!F18=\"\",\"\",'H01 HC09'!F18)","v":""},{"$f":"IF('H01 HC09'!G18=\"\",\"\",'H01 HC09'!G18)","v":""},{"$f":"IF('H01 HC09'!H18=\"\",\"\",'H01 HC09'!H18)","v":""},{"$f":"IF('H01 HC09'!I18=\"\",\"\",'H01 HC09'!I18)","v":""},{"$f":"IF('H01 HC09'!J18=\"\",\"\",'H01 HC09'!J18)","v":""},{"$f":"IF(D826=\"\",\"\",VLOOKUP(D826,#REF!,3,0))","v":""},{"$f":"IF('H01 HC09'!K18=\"\",\"\",'H01 HC09'!K18)","v":""},{"$f":"IF('H01 HC09'!L18=\"\",\"\",'H01 HC09'!L18)","v":""},{"$f":"IF('H01 HC09'!M18=\"\",\"\",'H01 HC09'!M18)","v":""},{"$f":"IF('H01 HC09'!N18=\"\",\"\",'H01 HC09'!N18)","v":""},{"$f":"IF('H01 HC09'!O18=\"\",\"\",'H01 HC09'!O18)","v":""},{"$f":"IF('H01 HC09'!P18=\"\",\"\",'H01 HC09'!P18)","v":""},{"$f":"IF('H01 HC09'!Q18=\"\",\"\",'H01 HC09'!Q18)","v":""},{"$f":"IF('H01 HC09'!R18=\"\",\"\",'H01 HC09'!R18)","v":""},{"$f":"IF('H01 HC09'!S18=\"\",\"\",'H01 HC09'!S18)","v":""},{"$f":"IF('H01 HC09'!T18=\"\",\"\",'H01 HC09'!T18)","v":""}]
[null,{"$f":"IF('H01 HC09'!B19=\"\",\"\",'H01 HC09'!B19)","v":""},{"$f":"IF('H01 HC09'!C19=\"\",\"\",'H01 HC09'!C19)","v":""},{"$f":"IF('H01 HC09'!D19=\"\",\"\",'H01 HC09'!D19)","v":""},null,null,null,null,null,{"$f":"IF('H01 HC09'!E19=\"\",\"\",'H01 HC09'!E19)","v":""},{"$f":"IF('H01 HC09'!F19=\"\",\"\",'H01 HC09'!F19)","v":""},{"$f":"IF('H01 HC09'!G19=\"\",\"\",'H01 HC09'!G19)","v":""},{"$f":"IF('H01 HC09'!H19=\"\",\"\",'H01 HC09'!H19)","v":""},{"$f":"IF('H01 HC09'!I19=\"\",\"\",'H01 HC09'!I19)","v":""},{"$f":"IF('H01 HC09'!J19=\"\",\"\",'H01 HC09'!J19)","v":""},{"$f":"IF(D827=\"\",\"\",VLOOKUP(D827,#REF!,3,0))","v":""},{"$f":"IF('H01 HC09'!K19=\"\",\"\",'H01 HC09'!K19)","v":""},{"$f":"IF('H01 HC09'!L19=\"\",\"\",'H01 HC09'!L19)","v":""},{"$f":"IF('H01 HC09'!M19=\"\",\"\",'H01 HC09'!M19)","v":""},{"$f":"IF('H01 HC09'!N19=\"\",\"\",'H01 HC09'!N19)","v":""},{"$f":"IF('H01 HC09'!O19=\"\",\"\",'H01 HC09'!O19)","v":""},{"$f":"IF('H01 HC09'!P19=\"\",\"\",'H01 HC09'!P19)","v":""},{"$f":"IF('H01 HC09'!Q19=\"\",\"\",'H01 HC09'!Q19)","v":""},{"$f":"IF('H01 HC09'!R19=\"\",\"\",'H01 HC09'!R19)","v":""},{"$f":"IF('H01 HC09'!S19=\"\",\"\",'H01 HC09'!S19)","v":""},{"$f":"IF('H01 HC09'!T19=\"\",\"\",'H01 HC09'!T19)","v":""}]
[null,{"$f":"IF('H01 HC09'!B20=\"\",\"\",'H01 HC09'!B20)","v":""},{"$f":"IF('H01 HC09'!C20=\"\",\"\",'H01 HC09'!C20)","v":""},{"$f":"IF('H01 HC09'!D20=\"\",\"\",'H01 HC09'!D20)","v":""},null,null,null,null,null,{"$f":"IF('H01 HC09'!E20=\"\",\"\",'H01 HC09'!E20)","v":""},{"$f":"IF('H01 HC09'!F20=\"\",\"\",'H01 HC09'!F20)","v":""},{"$f":"IF('H01 HC09'!G20=\"\",\"\",'H01 HC09'!G20)","v":""},{"$f":"IF('H01 HC09'!H20=\"\",\"\",'H01 HC09'!H20)","v":""},{"$f":"IF('H01 HC09'!I20=\"\",\"\",'H01 HC09'!I20)","v":""},{"$f":"IF('H01 HC09'!J20=\"\",\"\",'H01 HC09'!J20)","v":""},{"$f":"IF(D828=\"\",\"\",VLOOKUP(D828,#REF!,3,0))","v":""},{"$f":"IF('H01 HC09'!K20=\"\",\"\",'H01 HC09'!K20)","v":""},{"$f":"IF('H01 HC09'!L20=\"\",\"\",'H01 HC09'!L20)","v":""},{"$f":"IF('H01 HC09'!M20=\"\",\"\",'H01 HC09'!M20)","v":""},{"$f":"IF('H01 HC09'!N20=\"\",\"\",'H01 HC09'!N20)","v":""},{"$f":"IF('H01 HC09'!O20=\"\",\"\",'H01 HC09'!O20)","v":""},{"$f":"IF('H01 HC09'!P20=\"\",\"\",'H01 HC09'!P20)","v":""},{"$f":"IF('H01 HC09'!Q20=\"\",\"\",'H01 HC09'!Q20)","v":""},{"$f":"IF('H01 HC09'!R20=\"\",\"\",'H01 HC09'!R20)","v":""},{"$f":"IF('H01 HC09'!S20=\"\",\"\",'H01 HC09'!S20)","v":""},{"$f":"IF('H01 HC09'!T20=\"\",\"\",'H01 HC09'!T20)","v":""}]
[null,{"$f":"IF('H01 HC09'!B21=\"\",\"\",'H01 HC09'!B21)","v":""},{"$f":"IF('H01 HC09'!C21=\"\",\"\",'H01 HC09'!C21)","v":""},{"$f":"IF('H01 HC09'!D21=\"\",\"\",'H01 HC09'!D21)","v":""},null,null,null,null,null,{"$f":"IF('H01 HC09'!E21=\"\",\"\",'H01 HC09'!E21)","v":""},{"$f":"IF('H01 HC09'!F21=\"\",\"\",'H01 HC09'!F21)","v":""},{"$f":"IF('H01 HC09'!G21=\"\",\"\",'H01 HC09'!G21)","v":""},{"$f":"IF('H01 HC09'!H21=\"\",\"\",'H01 HC09'!H21)","v":""},{"$f":"IF('H01 HC09'!I21=\"\",\"\",'H01 HC09'!I21)","v":""},{"$f":"IF('H01 HC09'!J21=\"\",\"\",'H01 HC09'!J21)","v":""},{"$f":"IF(D829=\"\",\"\",VLOOKUP(D829,#REF!,3,0))","v":""},{"$f":"IF('H01 HC09'!K21=\"\",\"\",'H01 HC09'!K21)","v":""},{"$f":"IF('H01 HC09'!L21=\"\",\"\",'H01 HC09'!L21)","v":""},{"$f":"IF('H01 HC09'!M21=\"\",\"\",'H01 HC09'!M21)","v":""},{"$f":"IF('H01 HC09'!N21=\"\",\"\",'H01 HC09'!N21)","v":""},{"$f":"IF('H01 HC09'!O21=\"\",\"\",'H01 HC09'!O21)","v":""},{"$f":"IF('H01 HC09'!P21=\"\",\"\",'H01 HC09'!P21)","v":""},{"$f":"IF('H01 HC09'!Q21=\"\",\"\",'H01 HC09'!Q21)","v":""},{"$f":"IF('H01 HC09'!R21=\"\",\"\",'H01 HC09'!R21)","v":""},{"$f":"IF('H01 HC09'!S21=\"\",\"\",'H01 HC09'!S21)","v":""},{"$f":"IF('H01 HC09'!T21=\"\",\"\",'H01 HC09'!T21)","v":""}]
[null,{"$f":"IF('H01 HC09'!B22=\"\",\"\",'H01 HC09'!B22)","v":""},{"$f":"IF('H01 HC09'!C22=\"\",\"\",'H01 HC09'!C22)","v":""},{"$f":"IF('H01 HC09'!D22=\"\",\"\",'H01 HC09'!D22)","v":""},null,null,null,null,null,{"$f":"IF('H01 HC09'!E22=\"\",\"\",'H01 HC09'!E22)","v":""},{"$f":"IF('H01 HC09'!F22=\"\",\"\",'H01 HC09'!F22)","v":""},{"$f":"IF('H01 HC09'!G22=\"\",\"\",'H01 HC09'!G22)","v":""},{"$f":"IF('H01 HC09'!H22=\"\",\"\",'H01 HC09'!H22)","v":""},{"$f":"IF('H01 HC09'!I22=\"\",\"\",'H01 HC09'!I22)","v":""},{"$f":"IF('H01 HC09'!J22=\"\",\"\",'H01 HC09'!J22)","v":""},{"$f":"IF(D830=\"\",\"\",VLOOKUP(D830,#REF!,3,0))","v":""},{"$f":"IF('H01 HC09'!K22=\"\",\"\",'H01 HC09'!K22)","v":""},{"$f":"IF('H01 HC09'!L22=\"\",\"\",'H01 HC09'!L22)","v":""},{"$f":"IF('H01 HC09'!M22=\"\",\"\",'H01 HC09'!M22)","v":""},{"$f":"IF('H01 HC09'!N22=\"\",\"\",'H01 HC09'!N22)","v":""},{"$f":"IF('H01 HC09'!O22=\"\",\"\",'H01 HC09'!O22)","v":""},{"$f":"IF('H01 HC09'!P22=\"\",\"\",'H01 HC09'!P22)","v":""},{"$f":"IF('H01 HC09'!Q22=\"\",\"\",'H01 HC09'!Q22)","v":""},{"$f":"IF('H01 HC09'!R22=\"\",\"\",'H01 HC09'!R22)","v":""},{"$f":"IF('H01 HC09'!S22=\"\",\"\",'H01 HC09'!S22)","v":""},{"$f":"IF('H01 HC09'!T22=\"\",\"\",'H01 HC09'!T22)","v":""}]
[null,{"$f":"IF('H01 HC09'!B23=\"\",\"\",'H01 HC09'!B23)","v":""},{"$f":"IF('H01 HC09'!C23=\"\",\"\",'H01 HC09'!C23)","v":""},{"$f":"IF('H01 HC09'!D23=\"\",\"\",'H01 HC09'!D23)","v":""},null,null,null,null,null,{"$f":"IF('H01 HC09'!E23=\"\",\"\",'H01 HC09'!E23)","v":""},{"$f":"IF('H01 HC09'!F23=\"\",\"\",'H01 HC09'!F23)","v":""},{"$f":"IF('H01 HC09'!G23=\"\",\"\",'H01 HC09'!G23)","v":""},{"$f":"IF('H01 HC09'!H23=\"\",\"\",'H01 HC09'!H23)","v":""},{"$f":"IF('H01 HC09'!I23=\"\",\"\",'H01 HC09'!I23)","v":""},{"$f":"IF('H01 HC09'!J23=\"\",\"\",'H01 HC09'!J23)","v":""},{"$f":"IF(D831=\"\",\"\",VLOOKUP(D831,#REF!,3,0))","v":""},{"$f":"IF('H01 HC09'!K23=\"\",\"\",'H01 HC09'!K23)","v":""},{"$f":"IF('H01 HC09'!L23=\"\",\"\",'H01 HC09'!L23)","v":""},{"$f":"IF('H01 HC09'!M23=\"\",\"\",'H01 HC09'!M23)","v":""},{"$f":"IF('H01 HC09'!N23=\"\",\"\",'H01 HC09'!N23)","v":""},{"$f":"IF('H01 HC09'!O23=\"\",\"\",'H01 HC09'!O23)","v":""},{"$f":"IF('H01 HC09'!P23=\"\",\"\",'H01 HC09'!P23)","v":""},{"$f":"IF('H01 HC09'!Q23=\"\",\"\",'H01 HC09'!Q23)","v":""},{"$f":"IF('H01 HC09'!R23=\"\",\"\",'H01 HC09'!R23)","v":""},{"$f":"IF('H01 HC09'!S23=\"\",\"\",'H01 HC09'!S23)","v":""},{"$f":"IF('H01 HC09'!T23=\"\",\"\",'H01 HC09'!T23)","v":""}]
[null,{"$f":"IF('H01 HC09'!B24=\"\",\"\",'H01 HC09'!B24)","v":""},{"$f":"IF('H01 HC09'!C24=\"\",\"\",'H01 HC09'!C24)","v":""},{"$f":"IF('H01 HC09'!D24=\"\",\"\",'H01 HC09'!D24)","v":""},null,null,null,null,null,{"$f":"IF('H01 HC09'!E24=\"\",\"\",'H01 HC09'!E24)","v":""},{"$f":"IF('H01 HC09'!F24=\"\",\"\",'H01 HC09'!F24)","v":""},{"$f":"IF('H01 HC09'!G24=\"\",\"\",'H01 HC09'!G24)","v":""},{"$f":"IF('H01 HC09'!H24=\"\",\"\",'H01 HC09'!H24)","v":""},{"$f":"IF('H01 HC09'!I24=\"\",\"\",'H01 HC09'!I24)","v":""},{"$f":"IF('H01 HC09'!J24=\"\",\"\",'H01 HC09'!J24)","v":""},{"$f":"IF(D832=\"\",\"\",VLOOKUP(D832,#REF!,3,0))","v":""},{"$f":"IF('H01 HC09'!K24=\"\",\"\",'H01 HC09'!K24)","v":""},{"$f":"IF('H01 HC09'!L24=\"\",\"\",'H01 HC09'!L24)","v":""},{"$f":"IF('H01 HC09'!M24=\"\",\"\",'H01 HC09'!M24)","v":""},{"$f":"IF('H01 HC09'!N24=\"\",\"\",'H01 HC09'!N24)","v":""},{"$f":"IF('H01 HC09'!O24=\"\",\"\",'H01 HC09'!O24)","v":""},{"$f":"IF('H01 HC09'!P24=\"\",\"\",'H01 HC09'!P24)","v":""},{"$f":"IF('H01 HC09'!Q24=\"\",\"\",'H01 HC09'!Q24)","v":""},{"$f":"IF('H01 HC09'!R24=\"\",\"\",'H01 HC09'!R24)","v":""},{"$f":"IF('H01 HC09'!S24=\"\",\"\",'H01 HC09'!S24)","v":""},{"$f":"IF('H01 HC09'!T24=\"\",\"\",'H01 HC09'!T24)","v":""}]
[null,{"$f":"IF('H01 HC09'!B25=\"\",\"\",'H01 HC09'!B25)","v":""},{"$f":"IF('H01 HC09'!C25=\"\",\"\",'H01 HC09'!C25)","v":""},{"$f":"IF('H01 HC09'!D25=\"\",\"\",'H01 HC09'!D25)","v":""},null,null,null,null,null,{"$f":"IF('H01 HC09'!E25=\"\",\"\",'H01 HC09'!E25)","v":""},{"$f":"IF('H01 HC09'!F25=\"\",\"\",'H01 HC09'!F25)","v":""},{"$f":"IF('H01 HC09'!G25=\"\",\"\",'H01 HC09'!G25)","v":""},{"$f":"IF('H01 HC09'!H25=\"\",\"\",'H01 HC09'!H25)","v":""},{"$f":"IF('H01 HC09'!I25=\"\",\"\",'H01 HC09'!I25)","v":""},{"$f":"IF('H01 HC09'!J25=\"\",\"\",'H01 HC09'!J25)","v":""},{"$f":"IF(D833=\"\",\"\",VLOOKUP(D833,#REF!,3,0))","v":""},{"$f":"IF('H01 HC09'!K25=\"\",\"\",'H01 HC09'!K25)","v":""},{"$f":"IF('H01 HC09'!L25=\"\",\"\",'H01 HC09'!L25)","v":""},{"$f":"IF('H01 HC09'!M25=\"\",\"\",'H01 HC09'!M25)","v":""},{"$f":"IF('H01 HC09'!N25=\"\",\"\",'H01 HC09'!N25)","v":""},{"$f":"IF('H01 HC09'!O25=\"\",\"\",'H01 HC09'!O25)","v":""},{"$f":"IF('H01 HC09'!P25=\"\",\"\",'H01 HC09'!P25)","v":""},{"$f":"IF('H01 HC09'!Q25=\"\",\"\",'H01 HC09'!Q25)","v":""},{"$f":"IF('H01 HC09'!R25=\"\",\"\",'H01 HC09'!R25)","v":""},{"$f":"IF('H01 HC09'!S25=\"\",\"\",'H01 HC09'!S25)","v":""},{"$f":"IF('H01 HC09'!T25=\"\",\"\",'H01 HC09'!T25)","v":""}]
[null,{"$f":"IF('H01 HC09'!B26=\"\",\"\",'H01 HC09'!B26)","v":""},{"$f":"IF('H01 HC09'!C26=\"\",\"\",'H01 HC09'!C26)","v":""},{"$f":"IF('H01 HC09'!D26=\"\",\"\",'H01 HC09'!D26)","v":""},null,null,null,null,null,{"$f":"IF('H01 HC09'!E26=\"\",\"\",'H01 HC09'!E26)","v":""},{"$f":"IF('H01 HC09'!F26=\"\",\"\",'H01 HC09'!F26)","v":""},{"$f":"IF('H01 HC09'!G26=\"\",\"\",'H01 HC09'!G26)","v":""},{"$f":"IF('H01 HC09'!H26=\"\",\"\",'H01 HC09'!H26)","v":""},{"$f":"IF('H01 HC09'!I26=\"\",\"\",'H01 HC09'!I26)","v":""},{"$f":"IF('H01 HC09'!J26=\"\",\"\",'H01 HC09'!J26)","v":""},{"$f":"IF(D834=\"\",\"\",VLOOKUP(D834,#REF!,3,0))","v":""},{"$f":"IF('H01 HC09'!K26=\"\",\"\",'H01 HC09'!K26)","v":""},{"$f":"IF('H01 HC09'!L26=\"\",\"\",'H01 HC09'!L26)","v":""},{"$f":"IF('H01 HC09'!M26=\"\",\"\",'H01 HC09'!M26)","v":""},{"$f":"IF('H01 HC09'!N26=\"\",\"\",'H01 HC09'!N26)","v":""},{"$f":"IF('H01 HC09'!O26=\"\",\"\",'H01 HC09'!O26)","v":""},{"$f":"IF('H01 HC09'!P26=\"\",\"\",'H01 HC09'!P26)","v":""},{"$f":"IF('H01 HC09'!Q26=\"\",\"\",'H01 HC09'!Q26)","v":""},{"$f":"IF('H01 HC09'!R26=\"\",\"\",'H01 HC09'!R26)","v":""},{"$f":"IF('H01 HC09'!S26=\"\",\"\",'H01 HC09'!S26)","v":""},{"$f":"IF('H01 HC09'!T26=\"\",\"\",'H01 HC09'!T26)","v":""}]
[null,{"$f":"IF('H01 HC09'!B27=\"\",\"\",'H01 HC09'!B27)","v":""},{"$f":"IF('H01 HC09'!C27=\"\",\"\",'H01 HC09'!C27)","v":""},{"$f":"IF('H01 HC09'!D27=\"\",\"\",'H01 HC09'!D27)","v":""},null,null,null,null,null,{"$f":"IF('H01 HC09'!E27=\"\",\"\",'H01 HC09'!E27)","v":""},{"$f":"IF('H01 HC09'!F27=\"\",\"\",'H01 HC09'!F27)","v":""},{"$f":"IF('H01 HC09'!G27=\"\",\"\",'H01 HC09'!G27)","v":""},{"$f":"IF('H01 HC09'!H27=\"\",\"\",'H01 HC09'!H27)","v":""},{"$f":"IF('H01 HC09'!I27=\"\",\"\",'H01 HC09'!I27)","v":""},{"$f":"IF('H01 HC09'!J27=\"\",\"\",'H01 HC09'!J27)","v":""},{"$f":"IF(D835=\"\",\"\",VLOOKUP(D835,#REF!,3,0))","v":""},{"$f":"IF('H01 HC09'!K27=\"\",\"\",'H01 HC09'!K27)","v":""},{"$f":"IF('H01 HC09'!L27=\"\",\"\",'H01 HC09'!L27)","v":""},{"$f":"IF('H01 HC09'!M27=\"\",\"\",'H01 HC09'!M27)","v":""},{"$f":"IF('H01 HC09'!N27=\"\",\"\",'H01 HC09'!N27)","v":""},{"$f":"IF('H01 HC09'!O27=\"\",\"\",'H01 HC09'!O27)","v":""},{"$f":"IF('H01 HC09'!P27=\"\",\"\",'H01 HC09'!P27)","v":""},{"$f":"IF('H01 HC09'!Q27=\"\",\"\",'H01 HC09'!Q27)","v":""},{"$f":"IF('H01 HC09'!R27=\"\",\"\",'H01 HC09'!R27)","v":""},{"$f":"IF('H01 HC09'!S27=\"\",\"\",'H01 HC09'!S27)","v":""},{"$f":"IF('H01 HC09'!T27=\"\",\"\",'H01 HC09'!T27)","v":""}]
[null,{"$f":"IF('H01 HC09'!B28=\"\",\"\",'H01 HC09'!B28)","v":""},{"$f":"IF('H01 HC09'!C28=\"\",\"\",'H01 HC09'!C28)","v":""},{"$f":"IF('H01 HC09'!D28=\"\",\"\",'H01 HC09'!D28)","v":""},null,null,null,null,null,{"$f":"IF('H01 HC09'!E28=\"\",\"\",'H01 HC09'!E28)","v":""},{"$f":"IF('H01 HC09'!F28=\"\",\"\",'H01 HC09'!F28)","v":""},{"$f":"IF('H01 HC09'!G28=\"\",\"\",'H01 HC09'!G28)","v":""},{"$f":"IF('H01 HC09'!H28=\"\",\"\",'H01 HC09'!H28)","v":""},{"$f":"IF('H01 HC09'!I28=\"\",\"\",'H01 HC09'!I28)","v":""},{"$f":"IF('H01 HC09'!J28=\"\",\"\",'H01 HC09'!J28)","v":""},{"$f":"IF(D836=\"\",\"\",VLOOKUP(D836,#REF!,3,0))","v":""},{"$f":"IF('H01 HC09'!K28=\"\",\"\",'H01 HC09'!K28)","v":""},{"$f":"IF('H01 HC09'!L28=\"\",\"\",'H01 HC09'!L28)","v":""},{"$f":"IF('H01 HC09'!M28=\"\",\"\",'H01 HC09'!M28)","v":""},{"$f":"IF('H01 HC09'!N28=\"\",\"\",'H01 HC09'!N28)","v":""},{"$f":"IF('H01 HC09'!O28=\"\",\"\",'H01 HC09'!O28)","v":""},{"$f":"IF('H01 HC09'!P28=\"\",\"\",'H01 HC09'!P28)","v":""},{"$f":"IF('H01 HC09'!Q28=\"\",\"\",'H01 HC09'!Q28)","v":""},{"$f":"IF('H01 HC09'!R28=\"\",\"\",'H01 HC09'!R28)","v":""},{"$f":"IF('H01 HC09'!S28=\"\",\"\",'H01 HC09'!S28)","v":""},{"$f":"IF('H01 HC09'!T28=\"\",\"\",'H01 HC09'!T28)","v":""}]
[null,{"$f":"IF('H01 HC09'!B29=\"\",\"\",'H01 HC09'!B29)","v":""},{"$f":"IF('H01 HC09'!C29=\"\",\"\",'H01 HC09'!C29)","v":""},{"$f":"IF('H01 HC09'!D29=\"\",\"\",'H01 HC09'!D29)","v":""},null,null,null,null,null,{"$f":"IF('H01 HC09'!E29=\"\",\"\",'H01 HC09'!E29)","v":""},{"$f":"IF('H01 HC09'!F29=\"\",\"\",'H01 HC09'!F29)","v":""},{"$f":"IF('H01 HC09'!G29=\"\",\"\",'H01 HC09'!G29)","v":""},{"$f":"IF('H01 HC09'!H29=\"\",\"\",'H01 HC09'!H29)","v":""},{"$f":"IF('H01 HC09'!I29=\"\",\"\",'H01 HC09'!I29)","v":""},{"$f":"IF('H01 HC09'!J29=\"\",\"\",'H01 HC09'!J29)","v":""},{"$f":"IF(D837=\"\",\"\",VLOOKUP(D837,#REF!,3,0))","v":""},{"$f":"IF('H01 HC09'!K29=\"\",\"\",'H01 HC09'!K29)","v":""},{"$f":"IF('H01 HC09'!L29=\"\",\"\",'H01 HC09'!L29)","v":""},{"$f":"IF('H01 HC09'!M29=\"\",\"\",'H01 HC09'!M29)","v":""},{"$f":"IF('H01 HC09'!N29=\"\",\"\",'H01 HC09'!N29)","v":""},{"$f":"IF('H01 HC09'!O29=\"\",\"\",'H01 HC09'!O29)","v":""},{"$f":"IF('H01 HC09'!P29=\"\",\"\",'H01 HC09'!P29)","v":""},{"$f":"IF('H01 HC09'!Q29=\"\",\"\",'H01 HC09'!Q29)","v":""},{"$f":"IF('H01 HC09'!R29=\"\",\"\",'H01 HC09'!R29)","v":""},{"$f":"IF('H01 HC09'!S29=\"\",\"\",'H01 HC09'!S29)","v":""},{"$f":"IF('H01 HC09'!T29=\"\",\"\",'H01 HC09'!T29)","v":""}]
[null,{"$f":"IF('H01 HC09'!B30=\"\",\"\",'H01 HC09'!B30)","v":""},{"$f":"IF('H01 HC09'!C30=\"\",\"\",'H01 HC09'!C30)","v":""},{"$f":"IF('H01 HC09'!D30=\"\",\"\",'H01 HC09'!D30)","v":""},null,null,null,null,null,{"$f":"IF('H01 HC09'!E30=\"\",\"\",'H01 HC09'!E30)","v":""},{"$f":"IF('H01 HC09'!F30=\"\",\"\",'H01 HC09'!F30)","v":""},{"$f":"IF('H01 HC09'!G30=\"\",\"\",'H01 HC09'!G30)","v":""},{"$f":"IF('H01 HC09'!H30=\"\",\"\",'H01 HC09'!H30)","v":""},{"$f":"IF('H01 HC09'!I30=\"\",\"\",'H01 HC09'!I30)","v":""},{"$f":"IF('H01 HC09'!J30=\"\",\"\",'H01 HC09'!J30)","v":""},{"$f":"IF(D838=\"\",\"\",VLOOKUP(D838,#REF!,3,0))","v":""},{"$f":"IF('H01 HC09'!K30=\"\",\"\",'H01 HC09'!K30)","v":""},{"$f":"IF('H01 HC09'!L30=\"\",\"\",'H01 HC09'!L30)","v":""},{"$f":"IF('H01 HC09'!M30=\"\",\"\",'H01 HC09'!M30)","v":""},{"$f":"IF('H01 HC09'!N30=\"\",\"\",'H01 HC09'!N30)","v":""},{"$f":"IF('H01 HC09'!O30=\"\",\"\",'H01 HC09'!O30)","v":""},{"$f":"IF('H01 HC09'!P30=\"\",\"\",'H01 HC09'!P30)","v":""},{"$f":"IF('H01 HC09'!Q30=\"\",\"\",'H01 HC09'!Q30)","v":""},{"$f":"IF('H01 HC09'!R30=\"\",\"\",'H01 HC09'!R30)","v":""},{"$f":"IF('H01 HC09'!S30=\"\",\"\",'H01 HC09'!S30)","v":""},{"$f":"IF('H01 HC09'!T30=\"\",\"\",'H01 HC09'!T30)","v":""}]
[null,{"$f":"IF('H01 HC09'!B31=\"\",\"\",'H01 HC09'!B31)","v":""},{"$f":"IF('H01 HC09'!C31=\"\",\"\",'H01 HC09'!C31)","v":""},{"$f":"IF('H01 HC09'!D31=\"\",\"\",'H01 HC09'!D31)","v":""},null,null,null,null,null,{"$f":"IF('H01 HC09'!E31=\"\",\"\",'H01 HC09'!E31)","v":""},{"$f":"IF('H01 HC09'!F31=\"\",\"\",'H01 HC09'!F31)","v":""},{"$f":"IF('H01 HC09'!G31=\"\",\"\",'H01 HC09'!G31)","v":""},{"$f":"IF('H01 HC09'!H31=\"\",\"\",'H01 HC09'!H31)","v":""},{"$f":"IF('H01 HC09'!I31=\"\",\"\",'H01 HC09'!I31)","v":""},{"$f":"IF('H01 HC09'!J31=\"\",\"\",'H01 HC09'!J31)","v":""},{"$f":"IF(D839=\"\",\"\",VLOOKUP(D839,#REF!,3,0))","v":""},{"$f":"IF('H01 HC09'!K31=\"\",\"\",'H01 HC09'!K31)","v":""},{"$f":"IF('H01 HC09'!L31=\"\",\"\",'H01 HC09'!L31)","v":""},{"$f":"IF('H01 HC09'!M31=\"\",\"\",'H01 HC09'!M31)","v":""},{"$f":"IF('H01 HC09'!N31=\"\",\"\",'H01 HC09'!N31)","v":""},{"$f":"IF('H01 HC09'!O31=\"\",\"\",'H01 HC09'!O31)","v":""},{"$f":"IF('H01 HC09'!P31=\"\",\"\",'H01 HC09'!P31)","v":""},{"$f":"IF('H01 HC09'!Q31=\"\",\"\",'H01 HC09'!Q31)","v":""},{"$f":"IF('H01 HC09'!R31=\"\",\"\",'H01 HC09'!R31)","v":""},{"$f":"IF('H01 HC09'!S31=\"\",\"\",'H01 HC09'!S31)","v":""},{"$f":"IF('H01 HC09'!T31=\"\",\"\",'H01 HC09'!T31)","v":""}]
[null,{"$f":"IF('H01 HC09'!B32=\"\",\"\",'H01 HC09'!B32)","v":""},{"$f":"IF('H01 HC09'!C32=\"\",\"\",'H01 HC09'!C32)","v":""},{"$f":"IF('H01 HC09'!D32=\"\",\"\",'H01 HC09'!D32)","v":""},null,null,null,null,null,{"$f":"IF('H01 HC09'!E32=\"\",\"\",'H01 HC09'!E32)","v":""},{"$f":"IF('H01 HC09'!F32=\"\",\"\",'H01 HC09'!F32)","v":""},{"$f":"IF('H01 HC09'!G32=\"\",\"\",'H01 HC09'!G32)","v":""},{"$f":"IF('H01 HC09'!H32=\"\",\"\",'H01 HC09'!H32)","v":""},{"$f":"IF('H01 HC09'!I32=\"\",\"\",'H01 HC09'!I32)","v":""},{"$f":"IF('H01 HC09'!J32=\"\",\"\",'H01 HC09'!J32)","v":""},{"$f":"IF(D840=\"\",\"\",VLOOKUP(D840,#REF!,3,0))","v":""},{"$f":"IF('H01 HC09'!K32=\"\",\"\",'H01 HC09'!K32)","v":""},{"$f":"IF('H01 HC09'!L32=\"\",\"\",'H01 HC09'!L32)","v":""},{"$f":"IF('H01 HC09'!M32=\"\",\"\",'H01 HC09'!M32)","v":""},{"$f":"IF('H01 HC09'!N32=\"\",\"\",'H01 HC09'!N32)","v":""},{"$f":"IF('H01 HC09'!O32=\"\",\"\",'H01 HC09'!O32)","v":""},{"$f":"IF('H01 HC09'!P32=\"\",\"\",'H01 HC09'!P32)","v":""},{"$f":"IF('H01 HC09'!Q32=\"\",\"\",'H01 HC09'!Q32)","v":""},{"$f":"IF('H01 HC09'!R32=\"\",\"\",'H01 HC09'!R32)","v":""},{"$f":"IF('H01 HC09'!S32=\"\",\"\",'H01 HC09'!S32)","v":""},{"$f":"IF('H01 HC09'!T32=\"\",\"\",'H01 HC09'!T32)","v":""}]
[null,{"$f":"IF('H01 HC09'!B33=\"\",\"\",'H01 HC09'!B33)","v":""},{"$f":"IF('H01 HC09'!C33=\"\",\"\",'H01 HC09'!C33)","v":""},{"$f":"IF('H01 HC09'!D33=\"\",\"\",'H01 HC09'!D33)","v":""},null,null,null,null,null,{"$f":"IF('H01 HC09'!E33=\"\",\"\",'H01 HC09'!E33)","v":""},{"$f":"IF('H01 HC09'!F33=\"\",\"\",'H01 HC09'!F33)","v":""},{"$f":"IF('H01 HC09'!G33=\"\",\"\",'H01 HC09'!G33)","v":""},{"$f":"IF('H01 HC09'!H33=\"\",\"\",'H01 HC09'!H33)","v":""},{"$f":"IF('H01 HC09'!I33=\"\",\"\",'H01 HC09'!I33)","v":""},{"$f":"IF('H01 HC09'!J33=\"\",\"\",'H01 HC09'!J33)","v":""},{"$f":"IF(D841=\"\",\"\",VLOOKUP(D841,#REF!,3,0))","v":""},{"$f":"IF('H01 HC09'!K33=\"\",\"\",'H01 HC09'!K33)","v":""},{"$f":"IF('H01 HC09'!L33=\"\",\"\",'H01 HC09'!L33)","v":""},{"$f":"IF('H01 HC09'!M33=\"\",\"\",'H01 HC09'!M33)","v":""},{"$f":"IF('H01 HC09'!N33=\"\",\"\",'H01 HC09'!N33)","v":""},{"$f":"IF('H01 HC09'!O33=\"\",\"\",'H01 HC09'!O33)","v":""},{"$f":"IF('H01 HC09'!P33=\"\",\"\",'H01 HC09'!P33)","v":""},{"$f":"IF('H01 HC09'!Q33=\"\",\"\",'H01 HC09'!Q33)","v":""},{"$f":"IF('H01 HC09'!R33=\"\",\"\",'H01 HC09'!R33)","v":""},{"$f":"IF('H01 HC09'!S33=\"\",\"\",'H01 HC09'!S33)","v":""},{"$f":"IF('H01 HC09'!T33=\"\",\"\",'H01 HC09'!T33)","v":""}]
[null,{"$f":"IF('H01 HC09'!B34=\"\",\"\",'H01 HC09'!B34)","v":""},{"$f":"IF('H01 HC09'!C34=\"\",\"\",'H01 HC09'!C34)","v":""},{"$f":"IF('H01 HC09'!D34=\"\",\"\",'H01 HC09'!D34)","v":""},null,null,null,null,null,{"$f":"IF('H01 HC09'!E34=\"\",\"\",'H01 HC09'!E34)","v":""},{"$f":"IF('H01 HC09'!F34=\"\",\"\",'H01 HC09'!F34)","v":""},{"$f":"IF('H01 HC09'!G34=\"\",\"\",'H01 HC09'!G34)","v":""},{"$f":"IF('H01 HC09'!H34=\"\",\"\",'H01 HC09'!H34)","v":""},{"$f":"IF('H01 HC09'!I34=\"\",\"\",'H01 HC09'!I34)","v":""},{"$f":"IF('H01 HC09'!J34=\"\",\"\",'H01 HC09'!J34)","v":""},{"$f":"IF(D842=\"\",\"\",VLOOKUP(D842,#REF!,3,0))","v":""},{"$f":"IF('H01 HC09'!K34=\"\",\"\",'H01 HC09'!K34)","v":""},{"$f":"IF('H01 HC09'!L34=\"\",\"\",'H01 HC09'!L34)","v":""},{"$f":"IF('H01 HC09'!M34=\"\",\"\",'H01 HC09'!M34)","v":""},{"$f":"IF('H01 HC09'!N34=\"\",\"\",'H01 HC09'!N34)","v":""},{"$f":"IF('H01 HC09'!O34=\"\",\"\",'H01 HC09'!O34)","v":""},{"$f":"IF('H01 HC09'!P34=\"\",\"\",'H01 HC09'!P34)","v":""},{"$f":"IF('H01 HC09'!Q34=\"\",\"\",'H01 HC09'!Q34)","v":""},{"$f":"IF('H01 HC09'!R34=\"\",\"\",'H01 HC09'!R34)","v":""},{"$f":"IF('H01 HC09'!S34=\"\",\"\",'H01 HC09'!S34)","v":""},{"$f":"IF('H01 HC09'!T34=\"\",\"\",'H01 HC09'!T34)","v":""}]
[null,{"$f":"IF('H01 HC09'!B35=\"\",\"\",'H01 HC09'!B35)","v":""},{"$f":"IF('H01 HC09'!C35=\"\",\"\",'H01 HC09'!C35)","v":""},{"$f":"IF('H01 HC09'!D35=\"\",\"\",'H01 HC09'!D35)","v":""},null,null,null,null,null,{"$f":"IF('H01 HC09'!E35=\"\",\"\",'H01 HC09'!E35)","v":""},{"$f":"IF('H01 HC09'!F35=\"\",\"\",'H01 HC09'!F35)","v":""},{"$f":"IF('H01 HC09'!G35=\"\",\"\",'H01 HC09'!G35)","v":""},{"$f":"IF('H01 HC09'!H35=\"\",\"\",'H01 HC09'!H35)","v":""},{"$f":"IF('H01 HC09'!I35=\"\",\"\",'H01 HC09'!I35)","v":""},{"$f":"IF('H01 HC09'!J35=\"\",\"\",'H01 HC09'!J35)","v":""},{"$f":"IF(D843=\"\",\"\",VLOOKUP(D843,#REF!,3,0))","v":""},{"$f":"IF('H01 HC09'!K35=\"\",\"\",'H01 HC09'!K35)","v":""},{"$f":"IF('H01 HC09'!L35=\"\",\"\",'H01 HC09'!L35)","v":""},{"$f":"IF('H01 HC09'!M35=\"\",\"\",'H01 HC09'!M35)","v":""},{"$f":"IF('H01 HC09'!N35=\"\",\"\",'H01 HC09'!N35)","v":""},{"$f":"IF('H01 HC09'!O35=\"\",\"\",'H01 HC09'!O35)","v":""},{"$f":"IF('H01 HC09'!P35=\"\",\"\",'H01 HC09'!P35)","v":""},{"$f":"IF('H01 HC09'!Q35=\"\",\"\",'H01 HC09'!Q35)","v":""},{"$f":"IF('H01 HC09'!R35=\"\",\"\",'H01 HC09'!R35)","v":""},{"$f":"IF('H01 HC09'!S35=\"\",\"\",'H01 HC09'!S35)","v":""},{"$f":"IF('H01 HC09'!T35=\"\",\"\",'H01 HC09'!T35)","v":""}]
[null,{"$f":"IF('H01 HC09'!B36=\"\",\"\",'H01 HC09'!B36)","v":""},{"$f":"IF('H01 HC09'!C36=\"\",\"\",'H01 HC09'!C36)","v":""},{"$f":"IF('H01 HC09'!D36=\"\",\"\",'H01 HC09'!D36)","v":""},null,null,null,null,null,{"$f":"IF('H01 HC09'!E36=\"\",\"\",'H01 HC09'!E36)","v":""},{"$f":"IF('H01 HC09'!F36=\"\",\"\",'H01 HC09'!F36)","v":""},{"$f":"IF('H01 HC09'!G36=\"\",\"\",'H01 HC09'!G36)","v":""},{"$f":"IF('H01 HC09'!H36=\"\",\"\",'H01 HC09'!H36)","v":""},{"$f":"IF('H01 HC09'!I36=\"\",\"\",'H01 HC09'!I36)","v":""},{"$f":"IF('H01 HC09'!J36=\"\",\"\",'H01 HC09'!J36)","v":""},{"$f":"IF(D844=\"\",\"\",VLOOKUP(D844,#REF!,3,0))","v":""},{"$f":"IF('H01 HC09'!K36=\"\",\"\",'H01 HC09'!K36)","v":""},{"$f":"IF('H01 HC09'!L36=\"\",\"\",'H01 HC09'!L36)","v":""},{"$f":"IF('H01 HC09'!M36=\"\",\"\",'H01 HC09'!M36)","v":""},{"$f":"IF('H01 HC09'!N36=\"\",\"\",'H01 HC09'!N36)","v":""},{"$f":"IF('H01 HC09'!O36=\"\",\"\",'H01 HC09'!O36)","v":""},{"$f":"IF('H01 HC09'!P36=\"\",\"\",'H01 HC09'!P36)","v":""},{"$f":"IF('H01 HC09'!Q36=\"\",\"\",'H01 HC09'!Q36)","v":""},{"$f":"IF('H01 HC09'!R36=\"\",\"\",'H01 HC09'!R36)","v":""},{"$f":"IF('H01 HC09'!S36=\"\",\"\",'H01 HC09'!S36)","v":""},{"$f":"IF('H01 HC09'!T36=\"\",\"\",'H01 HC09'!T36)","v":""}]
[null,{"$f":"IF('H01 HC09'!B37=\"\",\"\",'H01 HC09'!B37)","v":""},{"$f":"IF('H01 HC09'!C37=\"\",\"\",'H01 HC09'!C37)","v":""},{"$f":"IF('H01 HC09'!D37=\"\",\"\",'H01 HC09'!D37)","v":""},null,null,null,null,null,{"$f":"IF('H01 HC09'!E37=\"\",\"\",'H01 HC09'!E37)","v":""},{"$f":"IF('H01 HC09'!F37=\"\",\"\",'H01 HC09'!F37)","v":""},{"$f":"IF('H01 HC09'!G37=\"\",\"\",'H01 HC09'!G37)","v":""},{"$f":"IF('H01 HC09'!H37=\"\",\"\",'H01 HC09'!H37)","v":""},{"$f":"IF('H01 HC09'!I37=\"\",\"\",'H01 HC09'!I37)","v":""},{"$f":"IF('H01 HC09'!J37=\"\",\"\",'H01 HC09'!J37)","v":""},{"$f":"IF(D845=\"\",\"\",VLOOKUP(D845,#REF!,3,0))","v":""},{"$f":"IF('H01 HC09'!K37=\"\",\"\",'H01 HC09'!K37)","v":""},{"$f":"IF('H01 HC09'!L37=\"\",\"\",'H01 HC09'!L37)","v":""},{"$f":"IF('H01 HC09'!M37=\"\",\"\",'H01 HC09'!M37)","v":""},{"$f":"IF('H01 HC09'!N37=\"\",\"\",'H01 HC09'!N37)","v":""},{"$f":"IF('H01 HC09'!O37=\"\",\"\",'H01 HC09'!O37)","v":""},{"$f":"IF('H01 HC09'!P37=\"\",\"\",'H01 HC09'!P37)","v":""},{"$f":"IF('H01 HC09'!Q37=\"\",\"\",'H01 HC09'!Q37)","v":""},{"$f":"IF('H01 HC09'!R37=\"\",\"\",'H01 HC09'!R37)","v":""},{"$f":"IF('H01 HC09'!S37=\"\",\"\",'H01 HC09'!S37)","v":""},{"$f":"IF('H01 HC09'!T37=\"\",\"\",'H01 HC09'!T37)","v":""}]
[null,{"$f":"IF('H01 HC09'!B38=\"\",\"\",'H01 HC09'!B38)","v":""},{"$f":"IF('H01 HC09'!C38=\"\",\"\",'H01 HC09'!C38)","v":""},{"$f":"IF('H01 HC09'!D38=\"\",\"\",'H01 HC09'!D38)","v":""},null,null,null,null,null,{"$f":"IF('H01 HC09'!E38=\"\",\"\",'H01 HC09'!E38)","v":""},{"$f":"IF('H01 HC09'!F38=\"\",\"\",'H01 HC09'!F38)","v":""},{"$f":"IF('H01 HC09'!G38=\"\",\"\",'H01 HC09'!G38)","v":""},{"$f":"IF('H01 HC09'!H38=\"\",\"\",'H01 HC09'!H38)","v":""},{"$f":"IF('H01 HC09'!I38=\"\",\"\",'H01 HC09'!I38)","v":""},{"$f":"IF('H01 HC09'!J38=\"\",\"\",'H01 HC09'!J38)","v":""},{"$f":"IF(D846=\"\",\"\",VLOOKUP(D846,#REF!,3,0))","v":""},{"$f":"IF('H01 HC09'!K38=\"\",\"\",'H01 HC09'!K38)","v":""},{"$f":"IF('H01 HC09'!L38=\"\",\"\",'H01 HC09'!L38)","v":""},{"$f":"IF('H01 HC09'!M38=\"\",\"\",'H01 HC09'!M38)","v":""},{"$f":"IF('H01 HC09'!N38=\"\",\"\",'H01 HC09'!N38)","v":""},{"$f":"IF('H01 HC09'!O38=\"\",\"\",'H01 HC09'!O38)","v":""},{"$f":"IF('H01 HC09'!P38=\"\",\"\",'H01 HC09'!P38)","v":""},{"$f":"IF('H01 HC09'!Q38=\"\",\"\",'H01 HC09'!Q38)","v":""},{"$f":"IF('H01 HC09'!R38=\"\",\"\",'H01 HC09'!R38)","v":""},{"$f":"IF('H01 HC09'!S38=\"\",\"\",'H01 HC09'!S38)","v":""},{"$f":"IF('H01 HC09'!T38=\"\",\"\",'H01 HC09'!T38)","v":""}]
[null,{"$f":"IF('H01 HC09'!B39=\"\",\"\",'H01 HC09'!B39)","v":""},{"$f":"IF('H01 HC09'!C39=\"\",\"\",'H01 HC09'!C39)","v":""},{"$f":"IF('H01 HC09'!D39=\"\",\"\",'H01 HC09'!D39)","v":""},null,null,null,null,null,{"$f":"IF('H01 HC09'!E39=\"\",\"\",'H01 HC09'!E39)","v":""},{"$f":"IF('H01 HC09'!F39=\"\",\"\",'H01 HC09'!F39)","v":""},{"$f":"IF('H01 HC09'!G39=\"\",\"\",'H01 HC09'!G39)","v":""},{"$f":"IF('H01 HC09'!H39=\"\",\"\",'H01 HC09'!H39)","v":""},{"$f":"IF('H01 HC09'!I39=\"\",\"\",'H01 HC09'!I39)","v":""},{"$f":"IF('H01 HC09'!J39=\"\",\"\",'H01 HC09'!J39)","v":""},{"$f":"IF(D847=\"\",\"\",VLOOKUP(D847,#REF!,3,0))","v":""},{"$f":"IF('H01 HC09'!K39=\"\",\"\",'H01 HC09'!K39)","v":""},{"$f":"IF('H01 HC09'!L39=\"\",\"\",'H01 HC09'!L39)","v":""},{"$f":"IF('H01 HC09'!M39=\"\",\"\",'H01 HC09'!M39)","v":""},{"$f":"IF('H01 HC09'!N39=\"\",\"\",'H01 HC09'!N39)","v":""},{"$f":"IF('H01 HC09'!O39=\"\",\"\",'H01 HC09'!O39)","v":""},{"$f":"IF('H01 HC09'!P39=\"\",\"\",'H01 HC09'!P39)","v":""},{"$f":"IF('H01 HC09'!Q39=\"\",\"\",'H01 HC09'!Q39)","v":""},{"$f":"IF('H01 HC09'!R39=\"\",\"\",'H01 HC09'!R39)","v":""},{"$f":"IF('H01 HC09'!S39=\"\",\"\",'H01 HC09'!S39)","v":""},{"$f":"IF('H01 HC09'!T39=\"\",\"\",'H01 HC09'!T39)","v":""}]
[null,{"$f":"IF('H01 HC09'!B40=\"\",\"\",'H01 HC09'!B40)","v":""},{"$f":"IF('H01 HC09'!C40=\"\",\"\",'H01 HC09'!C40)","v":""},{"$f":"IF('H01 HC09'!D40=\"\",\"\",'H01 HC09'!D40)","v":""},null,null,null,null,null,{"$f":"IF('H01 HC09'!E40=\"\",\"\",'H01 HC09'!E40)","v":""},{"$f":"IF('H01 HC09'!F40=\"\",\"\",'H01 HC09'!F40)","v":""},{"$f":"IF('H01 HC09'!G40=\"\",\"\",'H01 HC09'!G40)","v":""},{"$f":"IF('H01 HC09'!H40=\"\",\"\",'H01 HC09'!H40)","v":""},{"$f":"IF('H01 HC09'!I40=\"\",\"\",'H01 HC09'!I40)","v":""},{"$f":"IF('H01 HC09'!J40=\"\",\"\",'H01 HC09'!J40)","v":""},{"$f":"IF(D848=\"\",\"\",VLOOKUP(D848,#REF!,3,0))","v":""},{"$f":"IF('H01 HC09'!K40=\"\",\"\",'H01 HC09'!K40)","v":""},{"$f":"IF('H01 HC09'!L40=\"\",\"\",'H01 HC09'!L40)","v":""},{"$f":"IF('H01 HC09'!M40=\"\",\"\",'H01 HC09'!M40)","v":""},{"$f":"IF('H01 HC09'!N40=\"\",\"\",'H01 HC09'!N40)","v":""},{"$f":"IF('H01 HC09'!O40=\"\",\"\",'H01 HC09'!O40)","v":""},{"$f":"IF('H01 HC09'!P40=\"\",\"\",'H01 HC09'!P40)","v":""},{"$f":"IF('H01 HC09'!Q40=\"\",\"\",'H01 HC09'!Q40)","v":""},{"$f":"IF('H01 HC09'!R40=\"\",\"\",'H01 HC09'!R40)","v":""},{"$f":"IF('H01 HC09'!S40=\"\",\"\",'H01 HC09'!S40)","v":""},{"$f":"IF('H01 HC09'!T40=\"\",\"\",'H01 HC09'!T40)","v":""}]
[null,{"$f":"IF('H01 HC09'!B41=\"\",\"\",'H01 HC09'!B41)","v":""},{"$f":"IF('H01 HC09'!C41=\"\",\"\",'H01 HC09'!C41)","v":""},{"$f":"IF('H01 HC09'!D41=\"\",\"\",'H01 HC09'!D41)","v":""},null,null,null,null,null,{"$f":"IF('H01 HC09'!E41=\"\",\"\",'H01 HC09'!E41)","v":""},{"$f":"IF('H01 HC09'!F41=\"\",\"\",'H01 HC09'!F41)","v":""},{"$f":"IF('H01 HC09'!G41=\"\",\"\",'H01 HC09'!G41)","v":""},{"$f":"IF('H01 HC09'!H41=\"\",\"\",'H01 HC09'!H41)","v":""},{"$f":"IF('H01 HC09'!I41=\"\",\"\",'H01 HC09'!I41)","v":""},{"$f":"IF('H01 HC09'!J41=\"\",\"\",'H01 HC09'!J41)","v":""},{"$f":"IF(D849=\"\",\"\",VLOOKUP(D849,#REF!,3,0))","v":""},{"$f":"IF('H01 HC09'!K41=\"\",\"\",'H01 HC09'!K41)","v":""},{"$f":"IF('H01 HC09'!L41=\"\",\"\",'H01 HC09'!L41)","v":""},{"$f":"IF('H01 HC09'!M41=\"\",\"\",'H01 HC09'!M41)","v":""},{"$f":"IF('H01 HC09'!N41=\"\",\"\",'H01 HC09'!N41)","v":""},{"$f":"IF('H01 HC09'!O41=\"\",\"\",'H01 HC09'!O41)","v":""},{"$f":"IF('H01 HC09'!P41=\"\",\"\",'H01 HC09'!P41)","v":""},{"$f":"IF('H01 HC09'!Q41=\"\",\"\",'H01 HC09'!Q41)","v":""},{"$f":"IF('H01 HC09'!R41=\"\",\"\",'H01 HC09'!R41)","v":""},{"$f":"IF('H01 HC09'!S41=\"\",\"\",'H01 HC09'!S41)","v":""},{"$f":"IF('H01 HC09'!T41=\"\",\"\",'H01 HC09'!T41)","v":""}]
[null,{"$f":"IF('H01 HC09'!B42=\"\",\"\",'H01 HC09'!B42)","v":""},{"$f":"IF('H01 HC09'!C42=\"\",\"\",'H01 HC09'!C42)","v":""},{"$f":"IF('H01 HC09'!D42=\"\",\"\",'H01 HC09'!D42)","v":""},null,null,null,null,null,{"$f":"IF('H01 HC09'!E42=\"\",\"\",'H01 HC09'!E42)","v":""},{"$f":"IF('H01 HC09'!F42=\"\",\"\",'H01 HC09'!F42)","v":""},{"$f":"IF('H01 HC09'!G42=\"\",\"\",'H01 HC09'!G42)","v":""},{"$f":"IF('H01 HC09'!H42=\"\",\"\",'H01 HC09'!H42)","v":""},{"$f":"IF('H01 HC09'!I42=\"\",\"\",'H01 HC09'!I42)","v":""},{"$f":"IF('H01 HC09'!J42=\"\",\"\",'H01 HC09'!J42)","v":""},{"$f":"IF(D850=\"\",\"\",VLOOKUP(D850,#REF!,3,0))","v":""},{"$f":"IF('H01 HC09'!K42=\"\",\"\",'H01 HC09'!K42)","v":""},{"$f":"IF('H01 HC09'!L42=\"\",\"\",'H01 HC09'!L42)","v":""},{"$f":"IF('H01 HC09'!M42=\"\",\"\",'H01 HC09'!M42)","v":""},{"$f":"IF('H01 HC09'!N42=\"\",\"\",'H01 HC09'!N42)","v":""},{"$f":"IF('H01 HC09'!O42=\"\",\"\",'H01 HC09'!O42)","v":""},{"$f":"IF('H01 HC09'!P42=\"\",\"\",'H01 HC09'!P42)","v":""},{"$f":"IF('H01 HC09'!Q42=\"\",\"\",'H01 HC09'!Q42)","v":""},{"$f":"IF('H01 HC09'!R42=\"\",\"\",'H01 HC09'!R42)","v":""},{"$f":"IF('H01 HC09'!S42=\"\",\"\",'H01 HC09'!S42)","v":""},{"$f":"IF('H01 HC09'!T42=\"\",\"\",'H01 HC09'!T42)","v":""}]
[null,{"$f":"IF('H01 HC09'!B43=\"\",\"\",'H01 HC09'!B43)","v":""},{"$f":"IF('H01 HC09'!C43=\"\",\"\",'H01 HC09'!C43)","v":""},{"$f":"IF('H01 HC09'!D43=\"\",\"\",'H01 HC09'!D43)","v":""},null,null,null,null,null,{"$f":"IF('H01 HC09'!E43=\"\",\"\",'H01 HC09'!E43)","v":""},{"$f":"IF('H01 HC09'!F43=\"\",\"\",'H01 HC09'!F43)","v":""},{"$f":"IF('H01 HC09'!G43=\"\",\"\",'H01 HC09'!G43)","v":""},{"$f":"IF('H01 HC09'!H43=\"\",\"\",'H01 HC09'!H43)","v":""},{"$f":"IF('H01 HC09'!I43=\"\",\"\",'H01 HC09'!I43)","v":""},{"$f":"IF('H01 HC09'!J43=\"\",\"\",'H01 HC09'!J43)","v":""},{"$f":"IF(D851=\"\",\"\",VLOOKUP(D851,#REF!,3,0))","v":""},{"$f":"IF('H01 HC09'!K43=\"\",\"\",'H01 HC09'!K43)","v":""},{"$f":"IF('H01 HC09'!L43=\"\",\"\",'H01 HC09'!L43)","v":""},{"$f":"IF('H01 HC09'!M43=\"\",\"\",'H01 HC09'!M43)","v":""},{"$f":"IF('H01 HC09'!N43=\"\",\"\",'H01 HC09'!N43)","v":""},{"$f":"IF('H01 HC09'!O43=\"\",\"\",'H01 HC09'!O43)","v":""},{"$f":"IF('H01 HC09'!P43=\"\",\"\",'H01 HC09'!P43)","v":""},{"$f":"IF('H01 HC09'!Q43=\"\",\"\",'H01 HC09'!Q43)","v":""},{"$f":"IF('H01 HC09'!R43=\"\",\"\",'H01 HC09'!R43)","v":""},{"$f":"IF('H01 HC09'!S43=\"\",\"\",'H01 HC09'!S43)","v":""},{"$f":"IF('H01 HC09'!T43=\"\",\"\",'H01 HC09'!T43)","v":""}]
[null,{"$f":"IF('H01 HC09'!B44=\"\",\"\",'H01 HC09'!B44)","v":""},{"$f":"IF('H01 HC09'!C44=\"\",\"\",'H01 HC09'!C44)","v":""},{"$f":"IF('H01 HC09'!D44=\"\",\"\",'H01 HC09'!D44)","v":""},null,null,null,null,null,{"$f":"IF('H01 HC09'!E44=\"\",\"\",'H01 HC09'!E44)","v":""},{"$f":"IF('H01 HC09'!F44=\"\",\"\",'H01 HC09'!F44)","v":""},{"$f":"IF('H01 HC09'!G44=\"\",\"\",'H01 HC09'!G44)","v":""},{"$f":"IF('H01 HC09'!H44=\"\",\"\",'H01 HC09'!H44)","v":""},{"$f":"IF('H01 HC09'!I44=\"\",\"\",'H01 HC09'!I44)","v":""},{"$f":"IF('H01 HC09'!J44=\"\",\"\",'H01 HC09'!J44)","v":""},{"$f":"IF(D852=\"\",\"\",VLOOKUP(D852,#REF!,3,0))","v":""},{"$f":"IF('H01 HC09'!K44=\"\",\"\",'H01 HC09'!K44)","v":""},{"$f":"IF('H01 HC09'!L44=\"\",\"\",'H01 HC09'!L44)","v":""},{"$f":"IF('H01 HC09'!M44=\"\",\"\",'H01 HC09'!M44)","v":""},{"$f":"IF('H01 HC09'!N44=\"\",\"\",'H01 HC09'!N44)","v":""},{"$f":"IF('H01 HC09'!O44=\"\",\"\",'H01 HC09'!O44)","v":""},{"$f":"IF('H01 HC09'!P44=\"\",\"\",'H01 HC09'!P44)","v":""},{"$f":"IF('H01 HC09'!Q44=\"\",\"\",'H01 HC09'!Q44)","v":""},{"$f":"IF('H01 HC09'!R44=\"\",\"\",'H01 HC09'!R44)","v":""},{"$f":"IF('H01 HC09'!S44=\"\",\"\",'H01 HC09'!S44)","v":""},{"$f":"IF('H01 HC09'!T44=\"\",\"\",'H01 HC09'!T44)","v":""}]
[null,{"$f":"IF('H01 HC09'!B45=\"\",\"\",'H01 HC09'!B45)","v":""},{"$f":"IF('H01 HC09'!C45=\"\",\"\",'H01 HC09'!C45)","v":""},{"$f":"IF('H01 HC09'!D45=\"\",\"\",'H01 HC09'!D45)","v":""},null,null,null,null,null,{"$f":"IF('H01 HC09'!E45=\"\",\"\",'H01 HC09'!E45)","v":""},{"$f":"IF('H01 HC09'!F45=\"\",\"\",'H01 HC09'!F45)","v":""},{"$f":"IF('H01 HC09'!G45=\"\",\"\",'H01 HC09'!G45)","v":""},{"$f":"IF('H01 HC09'!H45=\"\",\"\",'H01 HC09'!H45)","v":""},{"$f":"IF('H01 HC09'!I45=\"\",\"\",'H01 HC09'!I45)","v":""},{"$f":"IF('H01 HC09'!J45=\"\",\"\",'H01 HC09'!J45)","v":""},{"$f":"IF(D853=\"\",\"\",VLOOKUP(D853,#REF!,3,0))","v":""},{"$f":"IF('H01 HC09'!K45=\"\",\"\",'H01 HC09'!K45)","v":""},{"$f":"IF('H01 HC09'!L45=\"\",\"\",'H01 HC09'!L45)","v":""},{"$f":"IF('H01 HC09'!M45=\"\",\"\",'H01 HC09'!M45)","v":""},{"$f":"IF('H01 HC09'!N45=\"\",\"\",'H01 HC09'!N45)","v":""},{"$f":"IF('H01 HC09'!O45=\"\",\"\",'H01 HC09'!O45)","v":""},{"$f":"IF('H01 HC09'!P45=\"\",\"\",'H01 HC09'!P45)","v":""},{"$f":"IF('H01 HC09'!Q45=\"\",\"\",'H01 HC09'!Q45)","v":""},{"$f":"IF('H01 HC09'!R45=\"\",\"\",'H01 HC09'!R45)","v":""},{"$f":"IF('H01 HC09'!S45=\"\",\"\",'H01 HC09'!S45)","v":""},{"$f":"IF('H01 HC09'!T45=\"\",\"\",'H01 HC09'!T45)","v":""}]
[null,{"$f":"IF('H01 HC09'!B46=\"\",\"\",'H01 HC09'!B46)","v":""},{"$f":"IF('H01 HC09'!C46=\"\",\"\",'H01 HC09'!C46)","v":""},{"$f":"IF('H01 HC09'!D46=\"\",\"\",'H01 HC09'!D46)","v":""},null,null,null,null,null,{"$f":"IF('H01 HC09'!E46=\"\",\"\",'H01 HC09'!E46)","v":""},{"$f":"IF('H01 HC09'!F46=\"\",\"\",'H01 HC09'!F46)","v":""},{"$f":"IF('H01 HC09'!G46=\"\",\"\",'H01 HC09'!G46)","v":""},{"$f":"IF('H01 HC09'!H46=\"\",\"\",'H01 HC09'!H46)","v":""},{"$f":"IF('H01 HC09'!I46=\"\",\"\",'H01 HC09'!I46)","v":""},{"$f":"IF('H01 HC09'!J46=\"\",\"\",'H01 HC09'!J46)","v":""},{"$f":"IF(D854=\"\",\"\",VLOOKUP(D854,#REF!,3,0))","v":""},{"$f":"IF('H01 HC09'!K46=\"\",\"\",'H01 HC09'!K46)","v":""},{"$f":"IF('H01 HC09'!L46=\"\",\"\",'H01 HC09'!L46)","v":""},{"$f":"IF('H01 HC09'!M46=\"\",\"\",'H01 HC09'!M46)","v":""},{"$f":"IF('H01 HC09'!N46=\"\",\"\",'H01 HC09'!N46)","v":""},{"$f":"IF('H01 HC09'!O46=\"\",\"\",'H01 HC09'!O46)","v":""},{"$f":"IF('H01 HC09'!P46=\"\",\"\",'H01 HC09'!P46)","v":""},{"$f":"IF('H01 HC09'!Q46=\"\",\"\",'H01 HC09'!Q46)","v":""},{"$f":"IF('H01 HC09'!R46=\"\",\"\",'H01 HC09'!R46)","v":""},{"$f":"IF('H01 HC09'!S46=\"\",\"\",'H01 HC09'!S46)","v":""},{"$f":"IF('H01 HC09'!T46=\"\",\"\",'H01 HC09'!T46)","v":""}]
[null,{"$f":"IF('H01 HC09'!B47=\"\",\"\",'H01 HC09'!B47)","v":""},{"$f":"IF('H01 HC09'!C47=\"\",\"\",'H01 HC09'!C47)","v":""},{"$f":"IF('H01 HC09'!D47=\"\",\"\",'H01 HC09'!D47)","v":""},null,null,null,null,null,{"$f":"IF('H01 HC09'!E47=\"\",\"\",'H01 HC09'!E47)","v":""},{"$f":"IF('H01 HC09'!F47=\"\",\"\",'H01 HC09'!F47)","v":""},{"$f":"IF('H01 HC09'!G47=\"\",\"\",'H01 HC09'!G47)","v":""},{"$f":"IF('H01 HC09'!H47=\"\",\"\",'H01 HC09'!H47)","v":""},{"$f":"IF('H01 HC09'!I47=\"\",\"\",'H01 HC09'!I47)","v":""},{"$f":"IF('H01 HC09'!J47=\"\",\"\",'H01 HC09'!J47)","v":""},{"$f":"IF(D855=\"\",\"\",VLOOKUP(D855,#REF!,3,0))","v":""},{"$f":"IF('H01 HC09'!K47=\"\",\"\",'H01 HC09'!K47)","v":""},{"$f":"IF('H01 HC09'!L47=\"\",\"\",'H01 HC09'!L47)","v":""},{"$f":"IF('H01 HC09'!M47=\"\",\"\",'H01 HC09'!M47)","v":""},{"$f":"IF('H01 HC09'!N47=\"\",\"\",'H01 HC09'!N47)","v":""},{"$f":"IF('H01 HC09'!O47=\"\",\"\",'H01 HC09'!O47)","v":""},{"$f":"IF('H01 HC09'!P47=\"\",\"\",'H01 HC09'!P47)","v":""},{"$f":"IF('H01 HC09'!Q47=\"\",\"\",'H01 HC09'!Q47)","v":""},{"$f":"IF('H01 HC09'!R47=\"\",\"\",'H01 HC09'!R47)","v":""},{"$f":"IF('H01 HC09'!S47=\"\",\"\",'H01 HC09'!S47)","v":""},{"$f":"IF('H01 HC09'!T47=\"\",\"\",'H01 HC09'!T47)","v":""}]
[null,{"$f":"IF('H01 HC09'!B48=\"\",\"\",'H01 HC09'!B48)","v":""},{"$f":"IF('H01 HC09'!C48=\"\",\"\",'H01 HC09'!C48)","v":""},{"$f":"IF('H01 HC09'!D48=\"\",\"\",'H01 HC09'!D48)","v":""},null,null,null,null,null,{"$f":"IF('H01 HC09'!E48=\"\",\"\",'H01 HC09'!E48)","v":""},{"$f":"IF('H01 HC09'!F48=\"\",\"\",'H01 HC09'!F48)","v":""},{"$f":"IF('H01 HC09'!G48=\"\",\"\",'H01 HC09'!G48)","v":""},{"$f":"IF('H01 HC09'!H48=\"\",\"\",'H01 HC09'!H48)","v":""},{"$f":"IF('H01 HC09'!I48=\"\",\"\",'H01 HC09'!I48)","v":""},{"$f":"IF('H01 HC09'!J48=\"\",\"\",'H01 HC09'!J48)","v":""},{"$f":"IF(D856=\"\",\"\",VLOOKUP(D856,#REF!,3,0))","v":""},{"$f":"IF('H01 HC09'!K48=\"\",\"\",'H01 HC09'!K48)","v":""},{"$f":"IF('H01 HC09'!L48=\"\",\"\",'H01 HC09'!L48)","v":""},{"$f":"IF('H01 HC09'!M48=\"\",\"\",'H01 HC09'!M48)","v":""},{"$f":"IF('H01 HC09'!N48=\"\",\"\",'H01 HC09'!N48)","v":""},{"$f":"IF('H01 HC09'!O48=\"\",\"\",'H01 HC09'!O48)","v":""},{"$f":"IF('H01 HC09'!P48=\"\",\"\",'H01 HC09'!P48)","v":""},{"$f":"IF('H01 HC09'!Q48=\"\",\"\",'H01 HC09'!Q48)","v":""},{"$f":"IF('H01 HC09'!R48=\"\",\"\",'H01 HC09'!R48)","v":""},{"$f":"IF('H01 HC09'!S48=\"\",\"\",'H01 HC09'!S48)","v":""},{"$f":"IF('H01 HC09'!T48=\"\",\"\",'H01 HC09'!T48)","v":""}]
[null,{"$f":"IF('H01 HC09'!B49=\"\",\"\",'H01 HC09'!B49)","v":""},{"$f":"IF('H01 HC09'!C49=\"\",\"\",'H01 HC09'!C49)","v":""},{"$f":"IF('H01 HC09'!D49=\"\",\"\",'H01 HC09'!D49)","v":""},null,null,null,null,null,{"$f":"IF('H01 HC09'!E49=\"\",\"\",'H01 HC09'!E49)","v":""},{"$f":"IF('H01 HC09'!F49=\"\",\"\",'H01 HC09'!F49)","v":""},{"$f":"IF('H01 HC09'!G49=\"\",\"\",'H01 HC09'!G49)","v":""},{"$f":"IF('H01 HC09'!H49=\"\",\"\",'H01 HC09'!H49)","v":""},{"$f":"IF('H01 HC09'!I49=\"\",\"\",'H01 HC09'!I49)","v":""},{"$f":"IF('H01 HC09'!J49=\"\",\"\",'H01 HC09'!J49)","v":""},{"$f":"IF(D857=\"\",\"\",VLOOKUP(D857,#REF!,3,0))","v":""},{"$f":"IF('H01 HC09'!K49=\"\",\"\",'H01 HC09'!K49)","v":""},{"$f":"IF('H01 HC09'!L49=\"\",\"\",'H01 HC09'!L49)","v":""},{"$f":"IF('H01 HC09'!M49=\"\",\"\",'H01 HC09'!M49)","v":""},{"$f":"IF('H01 HC09'!N49=\"\",\"\",'H01 HC09'!N49)","v":""},{"$f":"IF('H01 HC09'!O49=\"\",\"\",'H01 HC09'!O49)","v":""},{"$f":"IF('H01 HC09'!P49=\"\",\"\",'H01 HC09'!P49)","v":""},{"$f":"IF('H01 HC09'!Q49=\"\",\"\",'H01 HC09'!Q49)","v":""},{"$f":"IF('H01 HC09'!R49=\"\",\"\",'H01 HC09'!R49)","v":""},{"$f":"IF('H01 HC09'!S49=\"\",\"\",'H01 HC09'!S49)","v":""},{"$f":"IF('H01 HC09'!T49=\"\",\"\",'H01 HC09'!T49)","v":""}]
[null,{"$f":"IF('H01 HC09'!B50=\"\",\"\",'H01 HC09'!B50)","v":""},{"$f":"IF('H01 HC09'!C50=\"\",\"\",'H01 HC09'!C50)","v":""},{"$f":"IF('H01 HC09'!D50=\"\",\"\",'H01 HC09'!D50)","v":""},null,null,null,null,null,{"$f":"IF('H01 HC09'!E50=\"\",\"\",'H01 HC09'!E50)","v":""},{"$f":"IF('H01 HC09'!F50=\"\",\"\",'H01 HC09'!F50)","v":""},{"$f":"IF('H01 HC09'!G50=\"\",\"\",'H01 HC09'!G50)","v":""},{"$f":"IF('H01 HC09'!H50=\"\",\"\",'H01 HC09'!H50)","v":""},{"$f":"IF('H01 HC09'!I50=\"\",\"\",'H01 HC09'!I50)","v":""},{"$f":"IF('H01 HC09'!J50=\"\",\"\",'H01 HC09'!J50)","v":""},{"$f":"IF(D858=\"\",\"\",VLOOKUP(D858,#REF!,3,0))","v":""},{"$f":"IF('H01 HC09'!K50=\"\",\"\",'H01 HC09'!K50)","v":""},{"$f":"IF('H01 HC09'!L50=\"\",\"\",'H01 HC09'!L50)","v":""},{"$f":"IF('H01 HC09'!M50=\"\",\"\",'H01 HC09'!M50)","v":""},{"$f":"IF('H01 HC09'!N50=\"\",\"\",'H01 HC09'!N50)","v":""},{"$f":"IF('H01 HC09'!O50=\"\",\"\",'H01 HC09'!O50)","v":""},{"$f":"IF('H01 HC09'!P50=\"\",\"\",'H01 HC09'!P50)","v":""},{"$f":"IF('H01 HC09'!Q50=\"\",\"\",'H01 HC09'!Q50)","v":""},{"$f":"IF('H01 HC09'!R50=\"\",\"\",'H01 HC09'!R50)","v":""},{"$f":"IF('H01 HC09'!S50=\"\",\"\",'H01 HC09'!S50)","v":""},{"$f":"IF('H01 HC09'!T50=\"\",\"\",'H01 HC09'!T50)","v":""}]
[null,{"$f":"IF('H01 HC09'!B51=\"\",\"\",'H01 HC09'!B51)","v":""},{"$f":"IF('H01 HC09'!C51=\"\",\"\",'H01 HC09'!C51)","v":""},{"$f":"IF('H01 HC09'!D51=\"\",\"\",'H01 HC09'!D51)","v":""},null,null,null,null,null,{"$f":"IF('H01 HC09'!E51=\"\",\"\",'H01 HC09'!E51)","v":""},{"$f":"IF('H01 HC09'!F51=\"\",\"\",'H01 HC09'!F51)","v":""},{"$f":"IF('H01 HC09'!G51=\"\",\"\",'H01 HC09'!G51)","v":""},{"$f":"IF('H01 HC09'!H51=\"\",\"\",'H01 HC09'!H51)","v":""},{"$f":"IF('H01 HC09'!I51=\"\",\"\",'H01 HC09'!I51)","v":""},{"$f":"IF('H01 HC09'!J51=\"\",\"\",'H01 HC09'!J51)","v":""},{"$f":"IF(D859=\"\",\"\",VLOOKUP(D859,#REF!,3,0))","v":""},{"$f":"IF('H01 HC09'!K51=\"\",\"\",'H01 HC09'!K51)","v":""},{"$f":"IF('H01 HC09'!L51=\"\",\"\",'H01 HC09'!L51)","v":""},{"$f":"IF('H01 HC09'!M51=\"\",\"\",'H01 HC09'!M51)","v":""},{"$f":"IF('H01 HC09'!N51=\"\",\"\",'H01 HC09'!N51)","v":""},{"$f":"IF('H01 HC09'!O51=\"\",\"\",'H01 HC09'!O51)","v":""},{"$f":"IF('H01 HC09'!P51=\"\",\"\",'H01 HC09'!P51)","v":""},{"$f":"IF('H01 HC09'!Q51=\"\",\"\",'H01 HC09'!Q51)","v":""},{"$f":"IF('H01 HC09'!R51=\"\",\"\",'H01 HC09'!R51)","v":""},{"$f":"IF('H01 HC09'!S51=\"\",\"\",'H01 HC09'!S51)","v":""},{"$f":"IF('H01 HC09'!T51=\"\",\"\",'H01 HC09'!T51)","v":""}]
[null,{"$f":"IF('H01 HC09'!B52=\"\",\"\",'H01 HC09'!B52)","v":""},{"$f":"IF('H01 HC09'!C52=\"\",\"\",'H01 HC09'!C52)","v":""},{"$f":"IF('H01 HC09'!D52=\"\",\"\",'H01 HC09'!D52)","v":""},null,null,null,null,null,{"$f":"IF('H01 HC09'!E52=\"\",\"\",'H01 HC09'!E52)","v":""},{"$f":"IF('H01 HC09'!F52=\"\",\"\",'H01 HC09'!F52)","v":""},{"$f":"IF('H01 HC09'!G52=\"\",\"\",'H01 HC09'!G52)","v":""},{"$f":"IF('H01 HC09'!H52=\"\",\"\",'H01 HC09'!H52)","v":""},{"$f":"IF('H01 HC09'!I52=\"\",\"\",'H01 HC09'!I52)","v":""},{"$f":"IF('H01 HC09'!J52=\"\",\"\",'H01 HC09'!J52)","v":""},{"$f":"IF(D860=\"\",\"\",VLOOKUP(D860,#REF!,3,0))","v":""},{"$f":"IF('H01 HC09'!K52=\"\",\"\",'H01 HC09'!K52)","v":""},{"$f":"IF('H01 HC09'!L52=\"\",\"\",'H01 HC09'!L52)","v":""},{"$f":"IF('H01 HC09'!M52=\"\",\"\",'H01 HC09'!M52)","v":""},{"$f":"IF('H01 HC09'!N52=\"\",\"\",'H01 HC09'!N52)","v":""},{"$f":"IF('H01 HC09'!O52=\"\",\"\",'H01 HC09'!O52)","v":""},{"$f":"IF('H01 HC09'!P52=\"\",\"\",'H01 HC09'!P52)","v":""},{"$f":"IF('H01 HC09'!Q52=\"\",\"\",'H01 HC09'!Q52)","v":""},{"$f":"IF('H01 HC09'!R52=\"\",\"\",'H01 HC09'!R52)","v":""},{"$f":"IF('H01 HC09'!S52=\"\",\"\",'H01 HC09'!S52)","v":""},{"$f":"IF('H01 HC09'!T52=\"\",\"\",'H01 HC09'!T52)","v":""}]
[null,{"$f":"IF('H01 HC09'!B53=\"\",\"\",'H01 HC09'!B53)","v":""},{"$f":"IF('H01 HC09'!C53=\"\",\"\",'H01 HC09'!C53)","v":""},{"$f":"IF('H01 HC09'!D53=\"\",\"\",'H01 HC09'!D53)","v":""},null,null,null,null,null,{"$f":"IF('H01 HC09'!E53=\"\",\"\",'H01 HC09'!E53)","v":""},{"$f":"IF('H01 HC09'!F53=\"\",\"\",'H01 HC09'!F53)","v":""},{"$f":"IF('H01 HC09'!G53=\"\",\"\",'H01 HC09'!G53)","v":""},{"$f":"IF('H01 HC09'!H53=\"\",\"\",'H01 HC09'!H53)","v":""},{"$f":"IF('H01 HC09'!I53=\"\",\"\",'H01 HC09'!I53)","v":""},{"$f":"IF('H01 HC09'!J53=\"\",\"\",'H01 HC09'!J53)","v":""},{"$f":"IF(D861=\"\",\"\",VLOOKUP(D861,#REF!,3,0))","v":""},{"$f":"IF('H01 HC09'!K53=\"\",\"\",'H01 HC09'!K53)","v":""},{"$f":"IF('H01 HC09'!L53=\"\",\"\",'H01 HC09'!L53)","v":""},{"$f":"IF('H01 HC09'!M53=\"\",\"\",'H01 HC09'!M53)","v":""},{"$f":"IF('H01 HC09'!N53=\"\",\"\",'H01 HC09'!N53)","v":""},{"$f":"IF('H01 HC09'!O53=\"\",\"\",'H01 HC09'!O53)","v":""},{"$f":"IF('H01 HC09'!P53=\"\",\"\",'H01 HC09'!P53)","v":""},{"$f":"IF('H01 HC09'!Q53=\"\",\"\",'H01 HC09'!Q53)","v":""},{"$f":"IF('H01 HC09'!R53=\"\",\"\",'H01 HC09'!R53)","v":""},{"$f":"IF('H01 HC09'!S53=\"\",\"\",'H01 HC09'!S53)","v":""},{"$f":"IF('H01 HC09'!T53=\"\",\"\",'H01 HC09'!T53)","v":""}]
[null,{"$f":"IF('H01 HC09'!B54=\"\",\"\",'H01 HC09'!B54)","v":""},{"$f":"IF('H01 HC09'!C54=\"\",\"\",'H01 HC09'!C54)","v":""},{"$f":"IF('H01 HC09'!D54=\"\",\"\",'H01 HC09'!D54)","v":""},null,null,null,null,null,{"$f":"IF('H01 HC09'!E54=\"\",\"\",'H01 HC09'!E54)","v":""},{"$f":"IF('H01 HC09'!F54=\"\",\"\",'H01 HC09'!F54)","v":""},{"$f":"IF('H01 HC09'!G54=\"\",\"\",'H01 HC09'!G54)","v":""},{"$f":"IF('H01 HC09'!H54=\"\",\"\",'H01 HC09'!H54)","v":""},{"$f":"IF('H01 HC09'!I54=\"\",\"\",'H01 HC09'!I54)","v":""},{"$f":"IF('H01 HC09'!J54=\"\",\"\",'H01 HC09'!J54)","v":""},{"$f":"IF(D862=\"\",\"\",VLOOKUP(D862,#REF!,3,0))","v":""},{"$f":"IF('H01 HC09'!K54=\"\",\"\",'H01 HC09'!K54)","v":""},{"$f":"IF('H01 HC09'!L54=\"\",\"\",'H01 HC09'!L54)","v":""},{"$f":"IF('H01 HC09'!M54=\"\",\"\",'H01 HC09'!M54)","v":""},{"$f":"IF('H01 HC09'!N54=\"\",\"\",'H01 HC09'!N54)","v":""},{"$f":"IF('H01 HC09'!O54=\"\",\"\",'H01 HC09'!O54)","v":""},{"$f":"IF('H01 HC09'!P54=\"\",\"\",'H01 HC09'!P54)","v":""},{"$f":"IF('H01 HC09'!Q54=\"\",\"\",'H01 HC09'!Q54)","v":""},{"$f":"IF('H01 HC09'!R54=\"\",\"\",'H01 HC09'!R54)","v":""},{"$f":"IF('H01 HC09'!S54=\"\",\"\",'H01 HC09'!S54)","v":""},{"$f":"IF('H01 HC09'!T54=\"\",\"\",'H01 HC09'!T54)","v":""}]
[null,{"$f":"IF('H01 HC09'!B55=\"\",\"\",'H01 HC09'!B55)","v":""},{"$f":"IF('H01 HC09'!C55=\"\",\"\",'H01 HC09'!C55)","v":""},{"$f":"IF('H01 HC09'!D55=\"\",\"\",'H01 HC09'!D55)","v":""},null,null,null,null,null,{"$f":"IF('H01 HC09'!E55=\"\",\"\",'H01 HC09'!E55)","v":""},{"$f":"IF('H01 HC09'!F55=\"\",\"\",'H01 HC09'!F55)","v":""},{"$f":"IF('H01 HC09'!G55=\"\",\"\",'H01 HC09'!G55)","v":""},{"$f":"IF('H01 HC09'!H55=\"\",\"\",'H01 HC09'!H55)","v":""},{"$f":"IF('H01 HC09'!I55=\"\",\"\",'H01 HC09'!I55)","v":""},{"$f":"IF('H01 HC09'!J55=\"\",\"\",'H01 HC09'!J55)","v":""},{"$f":"IF(D863=\"\",\"\",VLOOKUP(D863,#REF!,3,0))","v":""},{"$f":"IF('H01 HC09'!K55=\"\",\"\",'H01 HC09'!K55)","v":""},{"$f":"IF('H01 HC09'!L55=\"\",\"\",'H01 HC09'!L55)","v":""},{"$f":"IF('H01 HC09'!M55=\"\",\"\",'H01 HC09'!M55)","v":""},{"$f":"IF('H01 HC09'!N55=\"\",\"\",'H01 HC09'!N55)","v":""},{"$f":"IF('H01 HC09'!O55=\"\",\"\",'H01 HC09'!O55)","v":""},{"$f":"IF('H01 HC09'!P55=\"\",\"\",'H01 HC09'!P55)","v":""},{"$f":"IF('H01 HC09'!Q55=\"\",\"\",'H01 HC09'!Q55)","v":""},{"$f":"IF('H01 HC09'!R55=\"\",\"\",'H01 HC09'!R55)","v":""},{"$f":"IF('H01 HC09'!S55=\"\",\"\",'H01 HC09'!S55)","v":""},{"$f":"IF('H01 HC09'!T55=\"\",\"\",'H01 HC09'!T55)","v":""}]
[null,{"$f":"IF('H01 HC09'!B56=\"\",\"\",'H01 HC09'!B56)","v":""},{"$f":"IF('H01 HC09'!C56=\"\",\"\",'H01 HC09'!C56)","v":""},{"$f":"IF('H01 HC09'!D56=\"\",\"\",'H01 HC09'!D56)","v":""},null,null,null,null,null,{"$f":"IF('H01 HC09'!E56=\"\",\"\",'H01 HC09'!E56)","v":""},{"$f":"IF('H01 HC09'!F56=\"\",\"\",'H01 HC09'!F56)","v":""},{"$f":"IF('H01 HC09'!G56=\"\",\"\",'H01 HC09'!G56)","v":""},{"$f":"IF('H01 HC09'!H56=\"\",\"\",'H01 HC09'!H56)","v":""},{"$f":"IF('H01 HC09'!I56=\"\",\"\",'H01 HC09'!I56)","v":""},{"$f":"IF('H01 HC09'!J56=\"\",\"\",'H01 HC09'!J56)","v":""},{"$f":"IF(D864=\"\",\"\",VLOOKUP(D864,#REF!,3,0))","v":""},{"$f":"IF('H01 HC09'!K56=\"\",\"\",'H01 HC09'!K56)","v":""},{"$f":"IF('H01 HC09'!L56=\"\",\"\",'H01 HC09'!L56)","v":""},{"$f":"IF('H01 HC09'!M56=\"\",\"\",'H01 HC09'!M56)","v":""},{"$f":"IF('H01 HC09'!N56=\"\",\"\",'H01 HC09'!N56)","v":""},{"$f":"IF('H01 HC09'!O56=\"\",\"\",'H01 HC09'!O56)","v":""},{"$f":"IF('H01 HC09'!P56=\"\",\"\",'H01 HC09'!P56)","v":""},{"$f":"IF('H01 HC09'!Q56=\"\",\"\",'H01 HC09'!Q56)","v":""},{"$f":"IF('H01 HC09'!R56=\"\",\"\",'H01 HC09'!R56)","v":""},{"$f":"IF('H01 HC09'!S56=\"\",\"\",'H01 HC09'!S56)","v":""},{"$f":"IF('H01 HC09'!T56=\"\",\"\",'H01 HC09'!T56)","v":""}]
[null,{"$f":"IF('H01 HC09'!B57=\"\",\"\",'H01 HC09'!B57)","v":""},{"$f":"IF('H01 HC09'!C57=\"\",\"\",'H01 HC09'!C57)","v":""},{"$f":"IF('H01 HC09'!D57=\"\",\"\",'H01 HC09'!D57)","v":""},null,null,null,null,null,{"$f":"IF('H01 HC09'!E57=\"\",\"\",'H01 HC09'!E57)","v":""},{"$f":"IF('H01 HC09'!F57=\"\",\"\",'H01 HC09'!F57)","v":""},{"$f":"IF('H01 HC09'!G57=\"\",\"\",'H01 HC09'!G57)","v":""},{"$f":"IF('H01 HC09'!H57=\"\",\"\",'H01 HC09'!H57)","v":""},{"$f":"IF('H01 HC09'!I57=\"\",\"\",'H01 HC09'!I57)","v":""},{"$f":"IF('H01 HC09'!J57=\"\",\"\",'H01 HC09'!J57)","v":""},{"$f":"IF(D865=\"\",\"\",VLOOKUP(D865,#REF!,3,0))","v":""},{"$f":"IF('H01 HC09'!K57=\"\",\"\",'H01 HC09'!K57)","v":""},{"$f":"IF('H01 HC09'!L57=\"\",\"\",'H01 HC09'!L57)","v":""},{"$f":"IF('H01 HC09'!M57=\"\",\"\",'H01 HC09'!M57)","v":""},{"$f":"IF('H01 HC09'!N57=\"\",\"\",'H01 HC09'!N57)","v":""},{"$f":"IF('H01 HC09'!O57=\"\",\"\",'H01 HC09'!O57)","v":""},{"$f":"IF('H01 HC09'!P57=\"\",\"\",'H01 HC09'!P57)","v":""},{"$f":"IF('H01 HC09'!Q57=\"\",\"\",'H01 HC09'!Q57)","v":""},{"$f":"IF('H01 HC09'!R57=\"\",\"\",'H01 HC09'!R57)","v":""},{"$f":"IF('H01 HC09'!S57=\"\",\"\",'H01 HC09'!S57)","v":""},{"$f":"IF('H01 HC09'!T57=\"\",\"\",'H01 HC09'!T57)","v":""}]
[null,{"$f":"IF('H01 HC09'!B58=\"\",\"\",'H01 HC09'!B58)","v":""},{"$f":"IF('H01 HC09'!C58=\"\",\"\",'H01 HC09'!C58)","v":""},{"$f":"IF('H01 HC09'!D58=\"\",\"\",'H01 HC09'!D58)","v":""},null,null,null,null,null,{"$f":"IF('H01 HC09'!E58=\"\",\"\",'H01 HC09'!E58)","v":""},{"$f":"IF('H01 HC09'!F58=\"\",\"\",'H01 HC09'!F58)","v":""},{"$f":"IF('H01 HC09'!G58=\"\",\"\",'H01 HC09'!G58)","v":""},{"$f":"IF('H01 HC09'!H58=\"\",\"\",'H01 HC09'!H58)","v":""},{"$f":"IF('H01 HC09'!I58=\"\",\"\",'H01 HC09'!I58)","v":""},{"$f":"IF('H01 HC09'!J58=\"\",\"\",'H01 HC09'!J58)","v":""},{"$f":"IF(D866=\"\",\"\",VLOOKUP(D866,#REF!,3,0))","v":""},{"$f":"IF('H01 HC09'!K58=\"\",\"\",'H01 HC09'!K58)","v":""},{"$f":"IF('H01 HC09'!L58=\"\",\"\",'H01 HC09'!L58)","v":""},{"$f":"IF('H01 HC09'!M58=\"\",\"\",'H01 HC09'!M58)","v":""},{"$f":"IF('H01 HC09'!N58=\"\",\"\",'H01 HC09'!N58)","v":""},{"$f":"IF('H01 HC09'!O58=\"\",\"\",'H01 HC09'!O58)","v":""},{"$f":"IF('H01 HC09'!P58=\"\",\"\",'H01 HC09'!P58)","v":""},{"$f":"IF('H01 HC09'!Q58=\"\",\"\",'H01 HC09'!Q58)","v":""},{"$f":"IF('H01 HC09'!R58=\"\",\"\",'H01 HC09'!R58)","v":""},{"$f":"IF('H01 HC09'!S58=\"\",\"\",'H01 HC09'!S58)","v":""},{"$f":"IF('H01 HC09'!T58=\"\",\"\",'H01 HC09'!T58)","v":""}]
[null,{"$f":"IF('H01 HC09'!B59=\"\",\"\",'H01 HC09'!B59)","v":""},{"$f":"IF('H01 HC09'!C59=\"\",\"\",'H01 HC09'!C59)","v":""},{"$f":"IF('H01 HC09'!D59=\"\",\"\",'H01 HC09'!D59)","v":""},null,null,null,null,null,{"$f":"IF('H01 HC09'!E59=\"\",\"\",'H01 HC09'!E59)","v":""},{"$f":"IF('H01 HC09'!F59=\"\",\"\",'H01 HC09'!F59)","v":""},{"$f":"IF('H01 HC09'!G59=\"\",\"\",'H01 HC09'!G59)","v":""},{"$f":"IF('H01 HC09'!H59=\"\",\"\",'H01 HC09'!H59)","v":""},{"$f":"IF('H01 HC09'!I59=\"\",\"\",'H01 HC09'!I59)","v":""},{"$f":"IF('H01 HC09'!J59=\"\",\"\",'H01 HC09'!J59)","v":""},{"$f":"IF(D867=\"\",\"\",VLOOKUP(D867,#REF!,3,0))","v":""},{"$f":"IF('H01 HC09'!K59=\"\",\"\",'H01 HC09'!K59)","v":""},{"$f":"IF('H01 HC09'!L59=\"\",\"\",'H01 HC09'!L59)","v":""},{"$f":"IF('H01 HC09'!M59=\"\",\"\",'H01 HC09'!M59)","v":""},{"$f":"IF('H01 HC09'!N59=\"\",\"\",'H01 HC09'!N59)","v":""},{"$f":"IF('H01 HC09'!O59=\"\",\"\",'H01 HC09'!O59)","v":""},{"$f":"IF('H01 HC09'!P59=\"\",\"\",'H01 HC09'!P59)","v":""},{"$f":"IF('H01 HC09'!Q59=\"\",\"\",'H01 HC09'!Q59)","v":""},{"$f":"IF('H01 HC09'!R59=\"\",\"\",'H01 HC09'!R59)","v":""},{"$f":"IF('H01 HC09'!S59=\"\",\"\",'H01 HC09'!S59)","v":""},{"$f":"IF('H01 HC09'!T59=\"\",\"\",'H01 HC09'!T59)","v":""}]
[null,{"$f":"IF('H01 HC09'!B60=\"\",\"\",'H01 HC09'!B60)","v":""},{"$f":"IF('H01 HC09'!C60=\"\",\"\",'H01 HC09'!C60)","v":""},{"$f":"IF('H01 HC09'!D60=\"\",\"\",'H01 HC09'!D60)","v":""},null,null,null,null,null,{"$f":"IF('H01 HC09'!E60=\"\",\"\",'H01 HC09'!E60)","v":""},{"$f":"IF('H01 HC09'!F60=\"\",\"\",'H01 HC09'!F60)","v":""},{"$f":"IF('H01 HC09'!G60=\"\",\"\",'H01 HC09'!G60)","v":""},{"$f":"IF('H01 HC09'!H60=\"\",\"\",'H01 HC09'!H60)","v":""},{"$f":"IF('H01 HC09'!I60=\"\",\"\",'H01 HC09'!I60)","v":""},{"$f":"IF('H01 HC09'!J60=\"\",\"\",'H01 HC09'!J60)","v":""},{"$f":"IF(D868=\"\",\"\",VLOOKUP(D868,#REF!,3,0))","v":""},{"$f":"IF('H01 HC09'!K60=\"\",\"\",'H01 HC09'!K60)","v":""},{"$f":"IF('H01 HC09'!L60=\"\",\"\",'H01 HC09'!L60)","v":""},{"$f":"IF('H01 HC09'!M60=\"\",\"\",'H01 HC09'!M60)","v":""},{"$f":"IF('H01 HC09'!N60=\"\",\"\",'H01 HC09'!N60)","v":""},{"$f":"IF('H01 HC09'!O60=\"\",\"\",'H01 HC09'!O60)","v":""},{"$f":"IF('H01 HC09'!P60=\"\",\"\",'H01 HC09'!P60)","v":""},{"$f":"IF('H01 HC09'!Q60=\"\",\"\",'H01 HC09'!Q60)","v":""},{"$f":"IF('H01 HC09'!R60=\"\",\"\",'H01 HC09'!R60)","v":""},{"$f":"IF('H01 HC09'!S60=\"\",\"\",'H01 HC09'!S60)","v":""},{"$f":"IF('H01 HC09'!T60=\"\",\"\",'H01 HC09'!T60)","v":""}]
[null,{"$f":"IF('H01 HC09'!B61=\"\",\"\",'H01 HC09'!B61)","v":""},{"$f":"IF('H01 HC09'!C61=\"\",\"\",'H01 HC09'!C61)","v":""},{"$f":"IF('H01 HC09'!D61=\"\",\"\",'H01 HC09'!D61)","v":""},null,null,null,null,null,{"$f":"IF('H01 HC09'!E61=\"\",\"\",'H01 HC09'!E61)","v":""},{"$f":"IF('H01 HC09'!F61=\"\",\"\",'H01 HC09'!F61)","v":""},{"$f":"IF('H01 HC09'!G61=\"\",\"\",'H01 HC09'!G61)","v":""},{"$f":"IF('H01 HC09'!H61=\"\",\"\",'H01 HC09'!H61)","v":""},{"$f":"IF('H01 HC09'!I61=\"\",\"\",'H01 HC09'!I61)","v":""},{"$f":"IF('H01 HC09'!J61=\"\",\"\",'H01 HC09'!J61)","v":""},{"$f":"IF(D869=\"\",\"\",VLOOKUP(D869,#REF!,3,0))","v":""},{"$f":"IF('H01 HC09'!K61=\"\",\"\",'H01 HC09'!K61)","v":""},{"$f":"IF('H01 HC09'!L61=\"\",\"\",'H01 HC09'!L61)","v":""},{"$f":"IF('H01 HC09'!M61=\"\",\"\",'H01 HC09'!M61)","v":""},{"$f":"IF('H01 HC09'!N61=\"\",\"\",'H01 HC09'!N61)","v":""},{"$f":"IF('H01 HC09'!O61=\"\",\"\",'H01 HC09'!O61)","v":""},{"$f":"IF('H01 HC09'!P61=\"\",\"\",'H01 HC09'!P61)","v":""},{"$f":"IF('H01 HC09'!Q61=\"\",\"\",'H01 HC09'!Q61)","v":""},{"$f":"IF('H01 HC09'!R61=\"\",\"\",'H01 HC09'!R61)","v":""},{"$f":"IF('H01 HC09'!S61=\"\",\"\",'H01 HC09'!S61)","v":""},{"$f":"IF('H01 HC09'!T61=\"\",\"\",'H01 HC09'!T61)","v":""}]
[null,{"$f":"IF('H01 HC09'!B62=\"\",\"\",'H01 HC09'!B62)","v":""},{"$f":"IF('H01 HC09'!C62=\"\",\"\",'H01 HC09'!C62)","v":""},{"$f":"IF('H01 HC09'!D62=\"\",\"\",'H01 HC09'!D62)","v":""},null,null,null,null,null,{"$f":"IF('H01 HC09'!E62=\"\",\"\",'H01 HC09'!E62)","v":""},{"$f":"IF('H01 HC09'!F62=\"\",\"\",'H01 HC09'!F62)","v":""},{"$f":"IF('H01 HC09'!G62=\"\",\"\",'H01 HC09'!G62)","v":""},{"$f":"IF('H01 HC09'!H62=\"\",\"\",'H01 HC09'!H62)","v":""},{"$f":"IF('H01 HC09'!I62=\"\",\"\",'H01 HC09'!I62)","v":""},{"$f":"IF('H01 HC09'!J62=\"\",\"\",'H01 HC09'!J62)","v":""},{"$f":"IF(D870=\"\",\"\",VLOOKUP(D870,#REF!,3,0))","v":""},{"$f":"IF('H01 HC09'!K62=\"\",\"\",'H01 HC09'!K62)","v":""},{"$f":"IF('H01 HC09'!L62=\"\",\"\",'H01 HC09'!L62)","v":""},{"$f":"IF('H01 HC09'!M62=\"\",\"\",'H01 HC09'!M62)","v":""},{"$f":"IF('H01 HC09'!N62=\"\",\"\",'H01 HC09'!N62)","v":""},{"$f":"IF('H01 HC09'!O62=\"\",\"\",'H01 HC09'!O62)","v":""},{"$f":"IF('H01 HC09'!P62=\"\",\"\",'H01 HC09'!P62)","v":""},{"$f":"IF('H01 HC09'!Q62=\"\",\"\",'H01 HC09'!Q62)","v":""},{"$f":"IF('H01 HC09'!R62=\"\",\"\",'H01 HC09'!R62)","v":""},{"$f":"IF('H01 HC09'!S62=\"\",\"\",'H01 HC09'!S62)","v":""},{"$f":"IF('H01 HC09'!T62=\"\",\"\",'H01 HC09'!T62)","v":""}]
[null,{"$f":"IF('H01 HC09'!B63=\"\",\"\",'H01 HC09'!B63)","v":""},{"$f":"IF('H01 HC09'!C63=\"\",\"\",'H01 HC09'!C63)","v":""},{"$f":"IF('H01 HC09'!D63=\"\",\"\",'H01 HC09'!D63)","v":""},null,null,null,null,null,{"$f":"IF('H01 HC09'!E63=\"\",\"\",'H01 HC09'!E63)","v":""},{"$f":"IF('H01 HC09'!F63=\"\",\"\",'H01 HC09'!F63)","v":""},{"$f":"IF('H01 HC09'!G63=\"\",\"\",'H01 HC09'!G63)","v":""},{"$f":"IF('H01 HC09'!H63=\"\",\"\",'H01 HC09'!H63)","v":""},{"$f":"IF('H01 HC09'!I63=\"\",\"\",'H01 HC09'!I63)","v":""},{"$f":"IF('H01 HC09'!J63=\"\",\"\",'H01 HC09'!J63)","v":""},{"$f":"IF(D871=\"\",\"\",VLOOKUP(D871,#REF!,3,0))","v":""},{"$f":"IF('H01 HC09'!K63=\"\",\"\",'H01 HC09'!K63)","v":""},{"$f":"IF('H01 HC09'!L63=\"\",\"\",'H01 HC09'!L63)","v":""},{"$f":"IF('H01 HC09'!M63=\"\",\"\",'H01 HC09'!M63)","v":""},{"$f":"IF('H01 HC09'!N63=\"\",\"\",'H01 HC09'!N63)","v":""},{"$f":"IF('H01 HC09'!O63=\"\",\"\",'H01 HC09'!O63)","v":""},{"$f":"IF('H01 HC09'!P63=\"\",\"\",'H01 HC09'!P63)","v":""},{"$f":"IF('H01 HC09'!Q63=\"\",\"\",'H01 HC09'!Q63)","v":""},{"$f":"IF('H01 HC09'!R63=\"\",\"\",'H01 HC09'!R63)","v":""},{"$f":"IF('H01 HC09'!S63=\"\",\"\",'H01 HC09'!S63)","v":""},{"$f":"IF('H01 HC09'!T63=\"\",\"\",'H01 HC09'!T63)","v":""}]
[null,{"$f":"IF('H01 HC09'!B64=\"\",\"\",'H01 HC09'!B64)","v":""},{"$f":"IF('H01 HC09'!C64=\"\",\"\",'H01 HC09'!C64)","v":""},{"$f":"IF('H01 HC09'!D64=\"\",\"\",'H01 HC09'!D64)","v":""},null,null,null,null,null,{"$f":"IF('H01 HC09'!E64=\"\",\"\",'H01 HC09'!E64)","v":""},{"$f":"IF('H01 HC09'!F64=\"\",\"\",'H01 HC09'!F64)","v":""},{"$f":"IF('H01 HC09'!G64=\"\",\"\",'H01 HC09'!G64)","v":""},{"$f":"IF('H01 HC09'!H64=\"\",\"\",'H01 HC09'!H64)","v":""},{"$f":"IF('H01 HC09'!I64=\"\",\"\",'H01 HC09'!I64)","v":""},{"$f":"IF('H01 HC09'!J64=\"\",\"\",'H01 HC09'!J64)","v":""},{"$f":"IF(D872=\"\",\"\",VLOOKUP(D872,#REF!,3,0))","v":""},{"$f":"IF('H01 HC09'!K64=\"\",\"\",'H01 HC09'!K64)","v":""},{"$f":"IF('H01 HC09'!L64=\"\",\"\",'H01 HC09'!L64)","v":""},{"$f":"IF('H01 HC09'!M64=\"\",\"\",'H01 HC09'!M64)","v":""},{"$f":"IF('H01 HC09'!N64=\"\",\"\",'H01 HC09'!N64)","v":""},{"$f":"IF('H01 HC09'!O64=\"\",\"\",'H01 HC09'!O64)","v":""},{"$f":"IF('H01 HC09'!P64=\"\",\"\",'H01 HC09'!P64)","v":""},{"$f":"IF('H01 HC09'!Q64=\"\",\"\",'H01 HC09'!Q64)","v":""},{"$f":"IF('H01 HC09'!R64=\"\",\"\",'H01 HC09'!R64)","v":""},{"$f":"IF('H01 HC09'!S64=\"\",\"\",'H01 HC09'!S64)","v":""},{"$f":"IF('H01 HC09'!T64=\"\",\"\",'H01 HC09'!T64)","v":""}]
[null,{"$f":"IF('H01 HC09'!B65=\"\",\"\",'H01 HC09'!B65)","v":""},{"$f":"IF('H01 HC09'!C65=\"\",\"\",'H01 HC09'!C65)","v":""},{"$f":"IF('H01 HC09'!D65=\"\",\"\",'H01 HC09'!D65)","v":""},null,null,null,null,null,{"$f":"IF('H01 HC09'!E65=\"\",\"\",'H01 HC09'!E65)","v":""},{"$f":"IF('H01 HC09'!F65=\"\",\"\",'H01 HC09'!F65)","v":""},{"$f":"IF('H01 HC09'!G65=\"\",\"\",'H01 HC09'!G65)","v":""},{"$f":"IF('H01 HC09'!H65=\"\",\"\",'H01 HC09'!H65)","v":""},{"$f":"IF('H01 HC09'!I65=\"\",\"\",'H01 HC09'!I65)","v":""},{"$f":"IF('H01 HC09'!J65=\"\",\"\",'H01 HC09'!J65)","v":""},{"$f":"IF(D873=\"\",\"\",VLOOKUP(D873,#REF!,3,0))","v":""},{"$f":"IF('H01 HC09'!K65=\"\",\"\",'H01 HC09'!K65)","v":""},{"$f":"IF('H01 HC09'!L65=\"\",\"\",'H01 HC09'!L65)","v":""},{"$f":"IF('H01 HC09'!M65=\"\",\"\",'H01 HC09'!M65)","v":""},{"$f":"IF('H01 HC09'!N65=\"\",\"\",'H01 HC09'!N65)","v":""},{"$f":"IF('H01 HC09'!O65=\"\",\"\",'H01 HC09'!O65)","v":""},{"$f":"IF('H01 HC09'!P65=\"\",\"\",'H01 HC09'!P65)","v":""},{"$f":"IF('H01 HC09'!Q65=\"\",\"\",'H01 HC09'!Q65)","v":""},{"$f":"IF('H01 HC09'!R65=\"\",\"\",'H01 HC09'!R65)","v":""},{"$f":"IF('H01 HC09'!S65=\"\",\"\",'H01 HC09'!S65)","v":""},{"$f":"IF('H01 HC09'!T65=\"\",\"\",'H01 HC09'!T65)","v":""}]
[null,{"$f":"IF('H01 HC09'!B66=\"\",\"\",'H01 HC09'!B66)","v":""},{"$f":"IF('H01 HC09'!C66=\"\",\"\",'H01 HC09'!C66)","v":""},{"$f":"IF('H01 HC09'!D66=\"\",\"\",'H01 HC09'!D66)","v":""},null,null,null,null,null,{"$f":"IF('H01 HC09'!E66=\"\",\"\",'H01 HC09'!E66)","v":""},{"$f":"IF('H01 HC09'!F66=\"\",\"\",'H01 HC09'!F66)","v":""},{"$f":"IF('H01 HC09'!G66=\"\",\"\",'H01 HC09'!G66)","v":""},{"$f":"IF('H01 HC09'!H66=\"\",\"\",'H01 HC09'!H66)","v":""},{"$f":"IF('H01 HC09'!I66=\"\",\"\",'H01 HC09'!I66)","v":""},{"$f":"IF('H01 HC09'!J66=\"\",\"\",'H01 HC09'!J66)","v":""},{"$f":"IF(D874=\"\",\"\",VLOOKUP(D874,#REF!,3,0))","v":""},{"$f":"IF('H01 HC09'!K66=\"\",\"\",'H01 HC09'!K66)","v":""},{"$f":"IF('H01 HC09'!L66=\"\",\"\",'H01 HC09'!L66)","v":""},{"$f":"IF('H01 HC09'!M66=\"\",\"\",'H01 HC09'!M66)","v":""},{"$f":"IF('H01 HC09'!N66=\"\",\"\",'H01 HC09'!N66)","v":""},{"$f":"IF('H01 HC09'!O66=\"\",\"\",'H01 HC09'!O66)","v":""},{"$f":"IF('H01 HC09'!P66=\"\",\"\",'H01 HC09'!P66)","v":""},{"$f":"IF('H01 HC09'!Q66=\"\",\"\",'H01 HC09'!Q66)","v":""},{"$f":"IF('H01 HC09'!R66=\"\",\"\",'H01 HC09'!R66)","v":""},{"$f":"IF('H01 HC09'!S66=\"\",\"\",'H01 HC09'!S66)","v":""},{"$f":"IF('H01 HC09'!T66=\"\",\"\",'H01 HC09'!T66)","v":""}]
[null,{"$f":"IF('H01 HC09'!B67=\"\",\"\",'H01 HC09'!B67)","v":""},{"$f":"IF('H01 HC09'!C67=\"\",\"\",'H01 HC09'!C67)","v":""},{"$f":"IF('H01 HC09'!D67=\"\",\"\",'H01 HC09'!D67)","v":""},null,null,null,null,null,{"$f":"IF('H01 HC09'!E67=\"\",\"\",'H01 HC09'!E67)","v":""},{"$f":"IF('H01 HC09'!F67=\"\",\"\",'H01 HC09'!F67)","v":""},{"$f":"IF('H01 HC09'!G67=\"\",\"\",'H01 HC09'!G67)","v":""},{"$f":"IF('H01 HC09'!H67=\"\",\"\",'H01 HC09'!H67)","v":""},{"$f":"IF('H01 HC09'!I67=\"\",\"\",'H01 HC09'!I67)","v":""},{"$f":"IF('H01 HC09'!J67=\"\",\"\",'H01 HC09'!J67)","v":""},{"$f":"IF(D875=\"\",\"\",VLOOKUP(D875,#REF!,3,0))","v":""},{"$f":"IF('H01 HC09'!K67=\"\",\"\",'H01 HC09'!K67)","v":""},{"$f":"IF('H01 HC09'!L67=\"\",\"\",'H01 HC09'!L67)","v":""},{"$f":"IF('H01 HC09'!M67=\"\",\"\",'H01 HC09'!M67)","v":""},{"$f":"IF('H01 HC09'!N67=\"\",\"\",'H01 HC09'!N67)","v":""},{"$f":"IF('H01 HC09'!O67=\"\",\"\",'H01 HC09'!O67)","v":""},{"$f":"IF('H01 HC09'!P67=\"\",\"\",'H01 HC09'!P67)","v":""},{"$f":"IF('H01 HC09'!Q67=\"\",\"\",'H01 HC09'!Q67)","v":""},{"$f":"IF('H01 HC09'!R67=\"\",\"\",'H01 HC09'!R67)","v":""},{"$f":"IF('H01 HC09'!S67=\"\",\"\",'H01 HC09'!S67)","v":""},{"$f":"IF('H01 HC09'!T67=\"\",\"\",'H01 HC09'!T67)","v":""}]
[null,{"$f":"IF('H01 HC09'!B68=\"\",\"\",'H01 HC09'!B68)","v":""},{"$f":"IF('H01 HC09'!C68=\"\",\"\",'H01 HC09'!C68)","v":""},{"$f":"IF('H01 HC09'!D68=\"\",\"\",'H01 HC09'!D68)","v":""},null,null,null,null,null,{"$f":"IF('H01 HC09'!E68=\"\",\"\",'H01 HC09'!E68)","v":""},{"$f":"IF('H01 HC09'!F68=\"\",\"\",'H01 HC09'!F68)","v":""},{"$f":"IF('H01 HC09'!G68=\"\",\"\",'H01 HC09'!G68)","v":""},{"$f":"IF('H01 HC09'!H68=\"\",\"\",'H01 HC09'!H68)","v":""},{"$f":"IF('H01 HC09'!I68=\"\",\"\",'H01 HC09'!I68)","v":""},{"$f":"IF('H01 HC09'!J68=\"\",\"\",'H01 HC09'!J68)","v":""},{"$f":"IF(D876=\"\",\"\",VLOOKUP(D876,#REF!,3,0))","v":""},{"$f":"IF('H01 HC09'!K68=\"\",\"\",'H01 HC09'!K68)","v":""},{"$f":"IF('H01 HC09'!L68=\"\",\"\",'H01 HC09'!L68)","v":""},{"$f":"IF('H01 HC09'!M68=\"\",\"\",'H01 HC09'!M68)","v":""},{"$f":"IF('H01 HC09'!N68=\"\",\"\",'H01 HC09'!N68)","v":""},{"$f":"IF('H01 HC09'!O68=\"\",\"\",'H01 HC09'!O68)","v":""},{"$f":"IF('H01 HC09'!P68=\"\",\"\",'H01 HC09'!P68)","v":""},{"$f":"IF('H01 HC09'!Q68=\"\",\"\",'H01 HC09'!Q68)","v":""},{"$f":"IF('H01 HC09'!R68=\"\",\"\",'H01 HC09'!R68)","v":""},{"$f":"IF('H01 HC09'!S68=\"\",\"\",'H01 HC09'!S68)","v":""},{"$f":"IF('H01 HC09'!T68=\"\",\"\",'H01 HC09'!T68)","v":""}]
[null,{"$f":"IF('H01 HC09'!B69=\"\",\"\",'H01 HC09'!B69)","v":""},{"$f":"IF('H01 HC09'!C69=\"\",\"\",'H01 HC09'!C69)","v":""},{"$f":"IF('H01 HC09'!D69=\"\",\"\",'H01 HC09'!D69)","v":""},null,null,null,null,null,{"$f":"IF('H01 HC09'!E69=\"\",\"\",'H01 HC09'!E69)","v":""},{"$f":"IF('H01 HC09'!F69=\"\",\"\",'H01 HC09'!F69)","v":""},{"$f":"IF('H01 HC09'!G69=\"\",\"\",'H01 HC09'!G69)","v":""},{"$f":"IF('H01 HC09'!H69=\"\",\"\",'H01 HC09'!H69)","v":""},{"$f":"IF('H01 HC09'!I69=\"\",\"\",'H01 HC09'!I69)","v":""},{"$f":"IF('H01 HC09'!J69=\"\",\"\",'H01 HC09'!J69)","v":""},{"$f":"IF(D877=\"\",\"\",VLOOKUP(D877,#REF!,3,0))","v":""},{"$f":"IF('H01 HC09'!K69=\"\",\"\",'H01 HC09'!K69)","v":""},{"$f":"IF('H01 HC09'!L69=\"\",\"\",'H01 HC09'!L69)","v":""},{"$f":"IF('H01 HC09'!M69=\"\",\"\",'H01 HC09'!M69)","v":""},{"$f":"IF('H01 HC09'!N69=\"\",\"\",'H01 HC09'!N69)","v":""},{"$f":"IF('H01 HC09'!O69=\"\",\"\",'H01 HC09'!O69)","v":""},{"$f":"IF('H01 HC09'!P69=\"\",\"\",'H01 HC09'!P69)","v":""},{"$f":"IF('H01 HC09'!Q69=\"\",\"\",'H01 HC09'!Q69)","v":""},{"$f":"IF('H01 HC09'!R69=\"\",\"\",'H01 HC09'!R69)","v":""},{"$f":"IF('H01 HC09'!S69=\"\",\"\",'H01 HC09'!S69)","v":""},{"$f":"IF('H01 HC09'!T69=\"\",\"\",'H01 HC09'!T69)","v":""}]
[null,{"$f":"IF('H01 HC09'!B70=\"\",\"\",'H01 HC09'!B70)","v":""},{"$f":"IF('H01 HC09'!C70=\"\",\"\",'H01 HC09'!C70)","v":""},{"$f":"IF('H01 HC09'!D70=\"\",\"\",'H01 HC09'!D70)","v":""},null,null,null,null,null,{"$f":"IF('H01 HC09'!E70=\"\",\"\",'H01 HC09'!E70)","v":""},{"$f":"IF('H01 HC09'!F70=\"\",\"\",'H01 HC09'!F70)","v":""},{"$f":"IF('H01 HC09'!G70=\"\",\"\",'H01 HC09'!G70)","v":""},{"$f":"IF('H01 HC09'!H70=\"\",\"\",'H01 HC09'!H70)","v":""},{"$f":"IF('H01 HC09'!I70=\"\",\"\",'H01 HC09'!I70)","v":""},{"$f":"IF('H01 HC09'!J70=\"\",\"\",'H01 HC09'!J70)","v":""},{"$f":"IF(D878=\"\",\"\",VLOOKUP(D878,#REF!,3,0))","v":""},{"$f":"IF('H01 HC09'!K70=\"\",\"\",'H01 HC09'!K70)","v":""},{"$f":"IF('H01 HC09'!L70=\"\",\"\",'H01 HC09'!L70)","v":""},{"$f":"IF('H01 HC09'!M70=\"\",\"\",'H01 HC09'!M70)","v":""},{"$f":"IF('H01 HC09'!N70=\"\",\"\",'H01 HC09'!N70)","v":""},{"$f":"IF('H01 HC09'!O70=\"\",\"\",'H01 HC09'!O70)","v":""},{"$f":"IF('H01 HC09'!P70=\"\",\"\",'H01 HC09'!P70)","v":""},{"$f":"IF('H01 HC09'!Q70=\"\",\"\",'H01 HC09'!Q70)","v":""},{"$f":"IF('H01 HC09'!R70=\"\",\"\",'H01 HC09'!R70)","v":""},{"$f":"IF('H01 HC09'!S70=\"\",\"\",'H01 HC09'!S70)","v":""},{"$f":"IF('H01 HC09'!T70=\"\",\"\",'H01 HC09'!T70)","v":""}]
[null,{"$f":"IF('H01 HC09'!B71=\"\",\"\",'H01 HC09'!B71)","v":""},{"$f":"IF('H01 HC09'!C71=\"\",\"\",'H01 HC09'!C71)","v":""},{"$f":"IF('H01 HC09'!D71=\"\",\"\",'H01 HC09'!D71)","v":""},null,null,null,null,null,{"$f":"IF('H01 HC09'!E71=\"\",\"\",'H01 HC09'!E71)","v":""},{"$f":"IF('H01 HC09'!F71=\"\",\"\",'H01 HC09'!F71)","v":""},{"$f":"IF('H01 HC09'!G71=\"\",\"\",'H01 HC09'!G71)","v":""},{"$f":"IF('H01 HC09'!H71=\"\",\"\",'H01 HC09'!H71)","v":""},{"$f":"IF('H01 HC09'!I71=\"\",\"\",'H01 HC09'!I71)","v":""},{"$f":"IF('H01 HC09'!J71=\"\",\"\",'H01 HC09'!J71)","v":""},{"$f":"IF(D879=\"\",\"\",VLOOKUP(D879,#REF!,3,0))","v":""},{"$f":"IF('H01 HC09'!K71=\"\",\"\",'H01 HC09'!K71)","v":""},{"$f":"IF('H01 HC09'!L71=\"\",\"\",'H01 HC09'!L71)","v":""},{"$f":"IF('H01 HC09'!M71=\"\",\"\",'H01 HC09'!M71)","v":""},{"$f":"IF('H01 HC09'!N71=\"\",\"\",'H01 HC09'!N71)","v":""},{"$f":"IF('H01 HC09'!O71=\"\",\"\",'H01 HC09'!O71)","v":""},{"$f":"IF('H01 HC09'!P71=\"\",\"\",'H01 HC09'!P71)","v":""},{"$f":"IF('H01 HC09'!Q71=\"\",\"\",'H01 HC09'!Q71)","v":""},{"$f":"IF('H01 HC09'!R71=\"\",\"\",'H01 HC09'!R71)","v":""},{"$f":"IF('H01 HC09'!S71=\"\",\"\",'H01 HC09'!S71)","v":""},{"$f":"IF('H01 HC09'!T71=\"\",\"\",'H01 HC09'!T71)","v":""}]
[null,{"$f":"IF('H01 HC09'!B72=\"\",\"\",'H01 HC09'!B72)","v":""},{"$f":"IF('H01 HC09'!C72=\"\",\"\",'H01 HC09'!C72)","v":""},{"$f":"IF('H01 HC09'!D72=\"\",\"\",'H01 HC09'!D72)","v":""},null,null,null,null,null,{"$f":"IF('H01 HC09'!E72=\"\",\"\",'H01 HC09'!E72)","v":""},{"$f":"IF('H01 HC09'!F72=\"\",\"\",'H01 HC09'!F72)","v":""},{"$f":"IF('H01 HC09'!G72=\"\",\"\",'H01 HC09'!G72)","v":""},{"$f":"IF('H01 HC09'!H72=\"\",\"\",'H01 HC09'!H72)","v":""},{"$f":"IF('H01 HC09'!I72=\"\",\"\",'H01 HC09'!I72)","v":""},{"$f":"IF('H01 HC09'!J72=\"\",\"\",'H01 HC09'!J72)","v":""},{"$f":"IF(D880=\"\",\"\",VLOOKUP(D880,#REF!,3,0))","v":""},{"$f":"IF('H01 HC09'!K72=\"\",\"\",'H01 HC09'!K72)","v":""},{"$f":"IF('H01 HC09'!L72=\"\",\"\",'H01 HC09'!L72)","v":""},{"$f":"IF('H01 HC09'!M72=\"\",\"\",'H01 HC09'!M72)","v":""},{"$f":"IF('H01 HC09'!N72=\"\",\"\",'H01 HC09'!N72)","v":""},{"$f":"IF('H01 HC09'!O72=\"\",\"\",'H01 HC09'!O72)","v":""},{"$f":"IF('H01 HC09'!P72=\"\",\"\",'H01 HC09'!P72)","v":""},{"$f":"IF('H01 HC09'!Q72=\"\",\"\",'H01 HC09'!Q72)","v":""},{"$f":"IF('H01 HC09'!R72=\"\",\"\",'H01 HC09'!R72)","v":""},{"$f":"IF('H01 HC09'!S72=\"\",\"\",'H01 HC09'!S72)","v":""},{"$f":"IF('H01 HC09'!T72=\"\",\"\",'H01 HC09'!T72)","v":""}]
[null,{"$f":"IF('H01 HC09'!B73=\"\",\"\",'H01 HC09'!B73)","v":""},{"$f":"IF('H01 HC09'!C73=\"\",\"\",'H01 HC09'!C73)","v":""},{"$f":"IF('H01 HC09'!D73=\"\",\"\",'H01 HC09'!D73)","v":""},null,null,null,null,null,{"$f":"IF('H01 HC09'!E73=\"\",\"\",'H01 HC09'!E73)","v":""},{"$f":"IF('H01 HC09'!F73=\"\",\"\",'H01 HC09'!F73)","v":""},{"$f":"IF('H01 HC09'!G73=\"\",\"\",'H01 HC09'!G73)","v":""},{"$f":"IF('H01 HC09'!H73=\"\",\"\",'H01 HC09'!H73)","v":""},{"$f":"IF('H01 HC09'!I73=\"\",\"\",'H01 HC09'!I73)","v":""},{"$f":"IF('H01 HC09'!J73=\"\",\"\",'H01 HC09'!J73)","v":""},{"$f":"IF(D881=\"\",\"\",VLOOKUP(D881,#REF!,3,0))","v":""},{"$f":"IF('H01 HC09'!K73=\"\",\"\",'H01 HC09'!K73)","v":""},{"$f":"IF('H01 HC09'!L73=\"\",\"\",'H01 HC09'!L73)","v":""},{"$f":"IF('H01 HC09'!M73=\"\",\"\",'H01 HC09'!M73)","v":""},{"$f":"IF('H01 HC09'!N73=\"\",\"\",'H01 HC09'!N73)","v":""},{"$f":"IF('H01 HC09'!O73=\"\",\"\",'H01 HC09'!O73)","v":""},{"$f":"IF('H01 HC09'!P73=\"\",\"\",'H01 HC09'!P73)","v":""},{"$f":"IF('H01 HC09'!Q73=\"\",\"\",'H01 HC09'!Q73)","v":""},{"$f":"IF('H01 HC09'!R73=\"\",\"\",'H01 HC09'!R73)","v":""},{"$f":"IF('H01 HC09'!S73=\"\",\"\",'H01 HC09'!S73)","v":""},{"$f":"IF('H01 HC09'!T73=\"\",\"\",'H01 HC09'!T73)","v":""}]
[null,{"$f":"IF('H01 HC09'!B74=\"\",\"\",'H01 HC09'!B74)","v":""},{"$f":"IF('H01 HC09'!C74=\"\",\"\",'H01 HC09'!C74)","v":""},{"$f":"IF('H01 HC09'!D74=\"\",\"\",'H01 HC09'!D74)","v":""},null,null,null,null,null,{"$f":"IF('H01 HC09'!E74=\"\",\"\",'H01 HC09'!E74)","v":""},{"$f":"IF('H01 HC09'!F74=\"\",\"\",'H01 HC09'!F74)","v":""},{"$f":"IF('H01 HC09'!G74=\"\",\"\",'H01 HC09'!G74)","v":""},{"$f":"IF('H01 HC09'!H74=\"\",\"\",'H01 HC09'!H74)","v":""},{"$f":"IF('H01 HC09'!I74=\"\",\"\",'H01 HC09'!I74)","v":""},{"$f":"IF('H01 HC09'!J74=\"\",\"\",'H01 HC09'!J74)","v":""},{"$f":"IF(D882=\"\",\"\",VLOOKUP(D882,#REF!,3,0))","v":""},{"$f":"IF('H01 HC09'!K74=\"\",\"\",'H01 HC09'!K74)","v":""},{"$f":"IF('H01 HC09'!L74=\"\",\"\",'H01 HC09'!L74)","v":""},{"$f":"IF('H01 HC09'!M74=\"\",\"\",'H01 HC09'!M74)","v":""},{"$f":"IF('H01 HC09'!N74=\"\",\"\",'H01 HC09'!N74)","v":""},{"$f":"IF('H01 HC09'!O74=\"\",\"\",'H01 HC09'!O74)","v":""},{"$f":"IF('H01 HC09'!P74=\"\",\"\",'H01 HC09'!P74)","v":""},{"$f":"IF('H01 HC09'!Q74=\"\",\"\",'H01 HC09'!Q74)","v":""},{"$f":"IF('H01 HC09'!R74=\"\",\"\",'H01 HC09'!R74)","v":""},{"$f":"IF('H01 HC09'!S74=\"\",\"\",'H01 HC09'!S74)","v":""},{"$f":"IF('H01 HC09'!T74=\"\",\"\",'H01 HC09'!T74)","v":""}]
[null,{"$f":"IF('H01 HC09'!B75=\"\",\"\",'H01 HC09'!B75)","v":""},{"$f":"IF('H01 HC09'!C75=\"\",\"\",'H01 HC09'!C75)","v":""},{"$f":"IF('H01 HC09'!D75=\"\",\"\",'H01 HC09'!D75)","v":""},null,null,null,null,null,{"$f":"IF('H01 HC09'!E75=\"\",\"\",'H01 HC09'!E75)","v":""},{"$f":"IF('H01 HC09'!F75=\"\",\"\",'H01 HC09'!F75)","v":""},{"$f":"IF('H01 HC09'!G75=\"\",\"\",'H01 HC09'!G75)","v":""},{"$f":"IF('H01 HC09'!H75=\"\",\"\",'H01 HC09'!H75)","v":""},{"$f":"IF('H01 HC09'!I75=\"\",\"\",'H01 HC09'!I75)","v":""},{"$f":"IF('H01 HC09'!J75=\"\",\"\",'H01 HC09'!J75)","v":""},{"$f":"IF(D883=\"\",\"\",VLOOKUP(D883,#REF!,3,0))","v":""},{"$f":"IF('H01 HC09'!K75=\"\",\"\",'H01 HC09'!K75)","v":""},{"$f":"IF('H01 HC09'!L75=\"\",\"\",'H01 HC09'!L75)","v":""},{"$f":"IF('H01 HC09'!M75=\"\",\"\",'H01 HC09'!M75)","v":""},{"$f":"IF('H01 HC09'!N75=\"\",\"\",'H01 HC09'!N75)","v":""},{"$f":"IF('H01 HC09'!O75=\"\",\"\",'H01 HC09'!O75)","v":""},{"$f":"IF('H01 HC09'!P75=\"\",\"\",'H01 HC09'!P75)","v":""},{"$f":"IF('H01 HC09'!Q75=\"\",\"\",'H01 HC09'!Q75)","v":""},{"$f":"IF('H01 HC09'!R75=\"\",\"\",'H01 HC09'!R75)","v":""},{"$f":"IF('H01 HC09'!S75=\"\",\"\",'H01 HC09'!S75)","v":""},{"$f":"IF('H01 HC09'!T75=\"\",\"\",'H01 HC09'!T75)","v":""}]
[null,{"$f":"IF('H01 HC09'!B76=\"\",\"\",'H01 HC09'!B76)","v":""},{"$f":"IF('H01 HC09'!C76=\"\",\"\",'H01 HC09'!C76)","v":""},{"$f":"IF('H01 HC09'!D76=\"\",\"\",'H01 HC09'!D76)","v":""},null,null,null,null,null,{"$f":"IF('H01 HC09'!E76=\"\",\"\",'H01 HC09'!E76)","v":""},{"$f":"IF('H01 HC09'!F76=\"\",\"\",'H01 HC09'!F76)","v":""},{"$f":"IF('H01 HC09'!G76=\"\",\"\",'H01 HC09'!G76)","v":""},{"$f":"IF('H01 HC09'!H76=\"\",\"\",'H01 HC09'!H76)","v":""},{"$f":"IF('H01 HC09'!I76=\"\",\"\",'H01 HC09'!I76)","v":""},{"$f":"IF('H01 HC09'!J76=\"\",\"\",'H01 HC09'!J76)","v":""},{"$f":"IF(D884=\"\",\"\",VLOOKUP(D884,#REF!,3,0))","v":""},{"$f":"IF('H01 HC09'!K76=\"\",\"\",'H01 HC09'!K76)","v":""},{"$f":"IF('H01 HC09'!L76=\"\",\"\",'H01 HC09'!L76)","v":""},{"$f":"IF('H01 HC09'!M76=\"\",\"\",'H01 HC09'!M76)","v":""},{"$f":"IF('H01 HC09'!N76=\"\",\"\",'H01 HC09'!N76)","v":""},{"$f":"IF('H01 HC09'!O76=\"\",\"\",'H01 HC09'!O76)","v":""},{"$f":"IF('H01 HC09'!P76=\"\",\"\",'H01 HC09'!P76)","v":""},{"$f":"IF('H01 HC09'!Q76=\"\",\"\",'H01 HC09'!Q76)","v":""},{"$f":"IF('H01 HC09'!R76=\"\",\"\",'H01 HC09'!R76)","v":""},{"$f":"IF('H01 HC09'!S76=\"\",\"\",'H01 HC09'!S76)","v":""},{"$f":"IF('H01 HC09'!T76=\"\",\"\",'H01 HC09'!T76)","v":""}]
[null,{"$f":"IF('H01 HC09'!B77=\"\",\"\",'H01 HC09'!B77)","v":""},{"$f":"IF('H01 HC09'!C77=\"\",\"\",'H01 HC09'!C77)","v":""},{"$f":"IF('H01 HC09'!D77=\"\",\"\",'H01 HC09'!D77)","v":""},null,null,null,null,null,{"$f":"IF('H01 HC09'!E77=\"\",\"\",'H01 HC09'!E77)","v":""},{"$f":"IF('H01 HC09'!F77=\"\",\"\",'H01 HC09'!F77)","v":""},{"$f":"IF('H01 HC09'!G77=\"\",\"\",'H01 HC09'!G77)","v":""},{"$f":"IF('H01 HC09'!H77=\"\",\"\",'H01 HC09'!H77)","v":""},{"$f":"IF('H01 HC09'!I77=\"\",\"\",'H01 HC09'!I77)","v":""},{"$f":"IF('H01 HC09'!J77=\"\",\"\",'H01 HC09'!J77)","v":""},{"$f":"IF(D885=\"\",\"\",VLOOKUP(D885,#REF!,3,0))","v":""},{"$f":"IF('H01 HC09'!K77=\"\",\"\",'H01 HC09'!K77)","v":""},{"$f":"IF('H01 HC09'!L77=\"\",\"\",'H01 HC09'!L77)","v":""},{"$f":"IF('H01 HC09'!M77=\"\",\"\",'H01 HC09'!M77)","v":""},{"$f":"IF('H01 HC09'!N77=\"\",\"\",'H01 HC09'!N77)","v":""},{"$f":"IF('H01 HC09'!O77=\"\",\"\",'H01 HC09'!O77)","v":""},{"$f":"IF('H01 HC09'!P77=\"\",\"\",'H01 HC09'!P77)","v":""},{"$f":"IF('H01 HC09'!Q77=\"\",\"\",'H01 HC09'!Q77)","v":""},{"$f":"IF('H01 HC09'!R77=\"\",\"\",'H01 HC09'!R77)","v":""},{"$f":"IF('H01 HC09'!S77=\"\",\"\",'H01 HC09'!S77)","v":""},{"$f":"IF('H01 HC09'!T77=\"\",\"\",'H01 HC09'!T77)","v":""}]
[null,{"$f":"IF('H01 HC09'!B78=\"\",\"\",'H01 HC09'!B78)","v":""},{"$f":"IF('H01 HC09'!C78=\"\",\"\",'H01 HC09'!C78)","v":""},{"$f":"IF('H01 HC09'!D78=\"\",\"\",'H01 HC09'!D78)","v":""},null,null,null,null,null,{"$f":"IF('H01 HC09'!E78=\"\",\"\",'H01 HC09'!E78)","v":""},{"$f":"IF('H01 HC09'!F78=\"\",\"\",'H01 HC09'!F78)","v":""},{"$f":"IF('H01 HC09'!G78=\"\",\"\",'H01 HC09'!G78)","v":""},{"$f":"IF('H01 HC09'!H78=\"\",\"\",'H01 HC09'!H78)","v":""},{"$f":"IF('H01 HC09'!I78=\"\",\"\",'H01 HC09'!I78)","v":""},{"$f":"IF('H01 HC09'!J78=\"\",\"\",'H01 HC09'!J78)","v":""},{"$f":"IF(D886=\"\",\"\",VLOOKUP(D886,#REF!,3,0))","v":""},{"$f":"IF('H01 HC09'!K78=\"\",\"\",'H01 HC09'!K78)","v":""},{"$f":"IF('H01 HC09'!L78=\"\",\"\",'H01 HC09'!L78)","v":""},{"$f":"IF('H01 HC09'!M78=\"\",\"\",'H01 HC09'!M78)","v":""},{"$f":"IF('H01 HC09'!N78=\"\",\"\",'H01 HC09'!N78)","v":""},{"$f":"IF('H01 HC09'!O78=\"\",\"\",'H01 HC09'!O78)","v":""},{"$f":"IF('H01 HC09'!P78=\"\",\"\",'H01 HC09'!P78)","v":""},{"$f":"IF('H01 HC09'!Q78=\"\",\"\",'H01 HC09'!Q78)","v":""},{"$f":"IF('H01 HC09'!R78=\"\",\"\",'H01 HC09'!R78)","v":""},{"$f":"IF('H01 HC09'!S78=\"\",\"\",'H01 HC09'!S78)","v":""},{"$f":"IF('H01 HC09'!T78=\"\",\"\",'H01 HC09'!T78)","v":""}]
[null,{"$f":"IF('H01 HC09'!B79=\"\",\"\",'H01 HC09'!B79)","v":""},{"$f":"IF('H01 HC09'!C79=\"\",\"\",'H01 HC09'!C79)","v":""},{"$f":"IF('H01 HC09'!D79=\"\",\"\",'H01 HC09'!D79)","v":""},null,null,null,null,null,{"$f":"IF('H01 HC09'!E79=\"\",\"\",'H01 HC09'!E79)","v":""},{"$f":"IF('H01 HC09'!F79=\"\",\"\",'H01 HC09'!F79)","v":""},{"$f":"IF('H01 HC09'!G79=\"\",\"\",'H01 HC09'!G79)","v":""},{"$f":"IF('H01 HC09'!H79=\"\",\"\",'H01 HC09'!H79)","v":""},{"$f":"IF('H01 HC09'!I79=\"\",\"\",'H01 HC09'!I79)","v":""},{"$f":"IF('H01 HC09'!J79=\"\",\"\",'H01 HC09'!J79)","v":""},{"$f":"IF(D887=\"\",\"\",VLOOKUP(D887,#REF!,3,0))","v":""},{"$f":"IF('H01 HC09'!K79=\"\",\"\",'H01 HC09'!K79)","v":""},{"$f":"IF('H01 HC09'!L79=\"\",\"\",'H01 HC09'!L79)","v":""},{"$f":"IF('H01 HC09'!M79=\"\",\"\",'H01 HC09'!M79)","v":""},{"$f":"IF('H01 HC09'!N79=\"\",\"\",'H01 HC09'!N79)","v":""},{"$f":"IF('H01 HC09'!O79=\"\",\"\",'H01 HC09'!O79)","v":""},{"$f":"IF('H01 HC09'!P79=\"\",\"\",'H01 HC09'!P79)","v":""},{"$f":"IF('H01 HC09'!Q79=\"\",\"\",'H01 HC09'!Q79)","v":""},{"$f":"IF('H01 HC09'!R79=\"\",\"\",'H01 HC09'!R79)","v":""},{"$f":"IF('H01 HC09'!S79=\"\",\"\",'H01 HC09'!S79)","v":""},{"$f":"IF('H01 HC09'!T79=\"\",\"\",'H01 HC09'!T79)","v":""}]
[null,{"$f":"IF('H01 HC09'!B80=\"\",\"\",'H01 HC09'!B80)","v":""},{"$f":"IF('H01 HC09'!C80=\"\",\"\",'H01 HC09'!C80)","v":""},{"$f":"IF('H01 HC09'!D80=\"\",\"\",'H01 HC09'!D80)","v":""},null,null,null,null,null,{"$f":"IF('H01 HC09'!E80=\"\",\"\",'H01 HC09'!E80)","v":""},{"$f":"IF('H01 HC09'!F80=\"\",\"\",'H01 HC09'!F80)","v":""},{"$f":"IF('H01 HC09'!G80=\"\",\"\",'H01 HC09'!G80)","v":""},{"$f":"IF('H01 HC09'!H80=\"\",\"\",'H01 HC09'!H80)","v":""},{"$f":"IF('H01 HC09'!I80=\"\",\"\",'H01 HC09'!I80)","v":""},{"$f":"IF('H01 HC09'!J80=\"\",\"\",'H01 HC09'!J80)","v":""},{"$f":"IF(D888=\"\",\"\",VLOOKUP(D888,#REF!,3,0))","v":""},{"$f":"IF('H01 HC09'!K80=\"\",\"\",'H01 HC09'!K80)","v":""},{"$f":"IF('H01 HC09'!L80=\"\",\"\",'H01 HC09'!L80)","v":""},{"$f":"IF('H01 HC09'!M80=\"\",\"\",'H01 HC09'!M80)","v":""},{"$f":"IF('H01 HC09'!N80=\"\",\"\",'H01 HC09'!N80)","v":""},{"$f":"IF('H01 HC09'!O80=\"\",\"\",'H01 HC09'!O80)","v":""},{"$f":"IF('H01 HC09'!P80=\"\",\"\",'H01 HC09'!P80)","v":""},{"$f":"IF('H01 HC09'!Q80=\"\",\"\",'H01 HC09'!Q80)","v":""},{"$f":"IF('H01 HC09'!R80=\"\",\"\",'H01 HC09'!R80)","v":""},{"$f":"IF('H01 HC09'!S80=\"\",\"\",'H01 HC09'!S80)","v":""},{"$f":"IF('H01 HC09'!T80=\"\",\"\",'H01 HC09'!T80)","v":""}]
[null,{"$f":"IF('H01 HC09'!B81=\"\",\"\",'H01 HC09'!B81)","v":""},{"$f":"IF('H01 HC09'!C81=\"\",\"\",'H01 HC09'!C81)","v":""},{"$f":"IF('H01 HC09'!D81=\"\",\"\",'H01 HC09'!D81)","v":""},null,null,null,null,null,{"$f":"IF('H01 HC09'!E81=\"\",\"\",'H01 HC09'!E81)","v":""},{"$f":"IF('H01 HC09'!F81=\"\",\"\",'H01 HC09'!F81)","v":""},{"$f":"IF('H01 HC09'!G81=\"\",\"\",'H01 HC09'!G81)","v":""},{"$f":"IF('H01 HC09'!H81=\"\",\"\",'H01 HC09'!H81)","v":""},{"$f":"IF('H01 HC09'!I81=\"\",\"\",'H01 HC09'!I81)","v":""},{"$f":"IF('H01 HC09'!J81=\"\",\"\",'H01 HC09'!J81)","v":""},{"$f":"IF(D889=\"\",\"\",VLOOKUP(D889,#REF!,3,0))","v":""},{"$f":"IF('H01 HC09'!K81=\"\",\"\",'H01 HC09'!K81)","v":""},{"$f":"IF('H01 HC09'!L81=\"\",\"\",'H01 HC09'!L81)","v":""},{"$f":"IF('H01 HC09'!M81=\"\",\"\",'H01 HC09'!M81)","v":""},{"$f":"IF('H01 HC09'!N81=\"\",\"\",'H01 HC09'!N81)","v":""},{"$f":"IF('H01 HC09'!O81=\"\",\"\",'H01 HC09'!O81)","v":""},{"$f":"IF('H01 HC09'!P81=\"\",\"\",'H01 HC09'!P81)","v":""},{"$f":"IF('H01 HC09'!Q81=\"\",\"\",'H01 HC09'!Q81)","v":""},{"$f":"IF('H01 HC09'!R81=\"\",\"\",'H01 HC09'!R81)","v":""},{"$f":"IF('H01 HC09'!S81=\"\",\"\",'H01 HC09'!S81)","v":""},{"$f":"IF('H01 HC09'!T81=\"\",\"\",'H01 HC09'!T81)","v":""}]
[null,{"$f":"IF('H01 HC09'!B82=\"\",\"\",'H01 HC09'!B82)","v":""},{"$f":"IF('H01 HC09'!C82=\"\",\"\",'H01 HC09'!C82)","v":""},{"$f":"IF('H01 HC09'!D82=\"\",\"\",'H01 HC09'!D82)","v":""},null,null,null,null,null,{"$f":"IF('H01 HC09'!E82=\"\",\"\",'H01 HC09'!E82)","v":""},{"$f":"IF('H01 HC09'!F82=\"\",\"\",'H01 HC09'!F82)","v":""},{"$f":"IF('H01 HC09'!G82=\"\",\"\",'H01 HC09'!G82)","v":""},{"$f":"IF('H01 HC09'!H82=\"\",\"\",'H01 HC09'!H82)","v":""},{"$f":"IF('H01 HC09'!I82=\"\",\"\",'H01 HC09'!I82)","v":""},{"$f":"IF('H01 HC09'!J82=\"\",\"\",'H01 HC09'!J82)","v":""},{"$f":"IF(D890=\"\",\"\",VLOOKUP(D890,#REF!,3,0))","v":""},{"$f":"IF('H01 HC09'!K82=\"\",\"\",'H01 HC09'!K82)","v":""},{"$f":"IF('H01 HC09'!L82=\"\",\"\",'H01 HC09'!L82)","v":""},{"$f":"IF('H01 HC09'!M82=\"\",\"\",'H01 HC09'!M82)","v":""},{"$f":"IF('H01 HC09'!N82=\"\",\"\",'H01 HC09'!N82)","v":""},{"$f":"IF('H01 HC09'!O82=\"\",\"\",'H01 HC09'!O82)","v":""},{"$f":"IF('H01 HC09'!P82=\"\",\"\",'H01 HC09'!P82)","v":""},{"$f":"IF('H01 HC09'!Q82=\"\",\"\",'H01 HC09'!Q82)","v":""},{"$f":"IF('H01 HC09'!R82=\"\",\"\",'H01 HC09'!R82)","v":""},{"$f":"IF('H01 HC09'!S82=\"\",\"\",'H01 HC09'!S82)","v":""},{"$f":"IF('H01 HC09'!T82=\"\",\"\",'H01 HC09'!T82)","v":""}]
[null,{"$f":"IF('H01 HC09'!B83=\"\",\"\",'H01 HC09'!B83)","v":""},{"$f":"IF('H01 HC09'!C83=\"\",\"\",'H01 HC09'!C83)","v":""},{"$f":"IF('H01 HC09'!D83=\"\",\"\",'H01 HC09'!D83)","v":""},null,null,null,null,null,{"$f":"IF('H01 HC09'!E83=\"\",\"\",'H01 HC09'!E83)","v":""},{"$f":"IF('H01 HC09'!F83=\"\",\"\",'H01 HC09'!F83)","v":""},{"$f":"IF('H01 HC09'!G83=\"\",\"\",'H01 HC09'!G83)","v":""},{"$f":"IF('H01 HC09'!H83=\"\",\"\",'H01 HC09'!H83)","v":""},{"$f":"IF('H01 HC09'!I83=\"\",\"\",'H01 HC09'!I83)","v":""},{"$f":"IF('H01 HC09'!J83=\"\",\"\",'H01 HC09'!J83)","v":""},{"$f":"IF(D891=\"\",\"\",VLOOKUP(D891,#REF!,3,0))","v":""},{"$f":"IF('H01 HC09'!K83=\"\",\"\",'H01 HC09'!K83)","v":""},{"$f":"IF('H01 HC09'!L83=\"\",\"\",'H01 HC09'!L83)","v":""},{"$f":"IF('H01 HC09'!M83=\"\",\"\",'H01 HC09'!M83)","v":""},{"$f":"IF('H01 HC09'!N83=\"\",\"\",'H01 HC09'!N83)","v":""},{"$f":"IF('H01 HC09'!O83=\"\",\"\",'H01 HC09'!O83)","v":""},{"$f":"IF('H01 HC09'!P83=\"\",\"\",'H01 HC09'!P83)","v":""},{"$f":"IF('H01 HC09'!Q83=\"\",\"\",'H01 HC09'!Q83)","v":""},{"$f":"IF('H01 HC09'!R83=\"\",\"\",'H01 HC09'!R83)","v":""},{"$f":"IF('H01 HC09'!S83=\"\",\"\",'H01 HC09'!S83)","v":""},{"$f":"IF('H01 HC09'!T83=\"\",\"\",'H01 HC09'!T83)","v":""}]
[null,{"$f":"IF('H01 HC09'!B84=\"\",\"\",'H01 HC09'!B84)","v":""},{"$f":"IF('H01 HC09'!C84=\"\",\"\",'H01 HC09'!C84)","v":""},{"$f":"IF('H01 HC09'!D84=\"\",\"\",'H01 HC09'!D84)","v":""},null,null,null,null,null,{"$f":"IF('H01 HC09'!E84=\"\",\"\",'H01 HC09'!E84)","v":""},{"$f":"IF('H01 HC09'!F84=\"\",\"\",'H01 HC09'!F84)","v":""},{"$f":"IF('H01 HC09'!G84=\"\",\"\",'H01 HC09'!G84)","v":""},{"$f":"IF('H01 HC09'!H84=\"\",\"\",'H01 HC09'!H84)","v":""},{"$f":"IF('H01 HC09'!I84=\"\",\"\",'H01 HC09'!I84)","v":""},{"$f":"IF('H01 HC09'!J84=\"\",\"\",'H01 HC09'!J84)","v":""},{"$f":"IF(D892=\"\",\"\",VLOOKUP(D892,#REF!,3,0))","v":""},{"$f":"IF('H01 HC09'!K84=\"\",\"\",'H01 HC09'!K84)","v":""},{"$f":"IF('H01 HC09'!L84=\"\",\"\",'H01 HC09'!L84)","v":""},{"$f":"IF('H01 HC09'!M84=\"\",\"\",'H01 HC09'!M84)","v":""},{"$f":"IF('H01 HC09'!N84=\"\",\"\",'H01 HC09'!N84)","v":""},{"$f":"IF('H01 HC09'!O84=\"\",\"\",'H01 HC09'!O84)","v":""},{"$f":"IF('H01 HC09'!P84=\"\",\"\",'H01 HC09'!P84)","v":""},{"$f":"IF('H01 HC09'!Q84=\"\",\"\",'H01 HC09'!Q84)","v":""},{"$f":"IF('H01 HC09'!R84=\"\",\"\",'H01 HC09'!R84)","v":""},{"$f":"IF('H01 HC09'!S84=\"\",\"\",'H01 HC09'!S84)","v":""},{"$f":"IF('H01 HC09'!T84=\"\",\"\",'H01 HC09'!T84)","v":""}]
[null,{"$f":"IF('H01 HC09'!B85=\"\",\"\",'H01 HC09'!B85)","v":""},{"$f":"IF('H01 HC09'!C85=\"\",\"\",'H01 HC09'!C85)","v":""},{"$f":"IF('H01 HC09'!D85=\"\",\"\",'H01 HC09'!D85)","v":""},null,null,null,null,null,{"$f":"IF('H01 HC09'!E85=\"\",\"\",'H01 HC09'!E85)","v":""},{"$f":"IF('H01 HC09'!F85=\"\",\"\",'H01 HC09'!F85)","v":""},{"$f":"IF('H01 HC09'!G85=\"\",\"\",'H01 HC09'!G85)","v":""},{"$f":"IF('H01 HC09'!H85=\"\",\"\",'H01 HC09'!H85)","v":""},{"$f":"IF('H01 HC09'!I85=\"\",\"\",'H01 HC09'!I85)","v":""},{"$f":"IF('H01 HC09'!J85=\"\",\"\",'H01 HC09'!J85)","v":""},{"$f":"IF(D893=\"\",\"\",VLOOKUP(D893,#REF!,3,0))","v":""},{"$f":"IF('H01 HC09'!K85=\"\",\"\",'H01 HC09'!K85)","v":""},{"$f":"IF('H01 HC09'!L85=\"\",\"\",'H01 HC09'!L85)","v":""},{"$f":"IF('H01 HC09'!M85=\"\",\"\",'H01 HC09'!M85)","v":""},{"$f":"IF('H01 HC09'!N85=\"\",\"\",'H01 HC09'!N85)","v":""},{"$f":"IF('H01 HC09'!O85=\"\",\"\",'H01 HC09'!O85)","v":""},{"$f":"IF('H01 HC09'!P85=\"\",\"\",'H01 HC09'!P85)","v":""},{"$f":"IF('H01 HC09'!Q85=\"\",\"\",'H01 HC09'!Q85)","v":""},{"$f":"IF('H01 HC09'!R85=\"\",\"\",'H01 HC09'!R85)","v":""},{"$f":"IF('H01 HC09'!S85=\"\",\"\",'H01 HC09'!S85)","v":""},{"$f":"IF('H01 HC09'!T85=\"\",\"\",'H01 HC09'!T85)","v":""}]
[null,{"$f":"IF('H01 HC09'!B86=\"\",\"\",'H01 HC09'!B86)","v":""},{"$f":"IF('H01 HC09'!C86=\"\",\"\",'H01 HC09'!C86)","v":""},{"$f":"IF('H01 HC09'!D86=\"\",\"\",'H01 HC09'!D86)","v":""},null,null,null,null,null,{"$f":"IF('H01 HC09'!E86=\"\",\"\",'H01 HC09'!E86)","v":""},{"$f":"IF('H01 HC09'!F86=\"\",\"\",'H01 HC09'!F86)","v":""},{"$f":"IF('H01 HC09'!G86=\"\",\"\",'H01 HC09'!G86)","v":""},{"$f":"IF('H01 HC09'!H86=\"\",\"\",'H01 HC09'!H86)","v":""},{"$f":"IF('H01 HC09'!I86=\"\",\"\",'H01 HC09'!I86)","v":""},{"$f":"IF('H01 HC09'!J86=\"\",\"\",'H01 HC09'!J86)","v":""},{"$f":"IF(D894=\"\",\"\",VLOOKUP(D894,#REF!,3,0))","v":""},{"$f":"IF('H01 HC09'!K86=\"\",\"\",'H01 HC09'!K86)","v":""},{"$f":"IF('H01 HC09'!L86=\"\",\"\",'H01 HC09'!L86)","v":""},{"$f":"IF('H01 HC09'!M86=\"\",\"\",'H01 HC09'!M86)","v":""},{"$f":"IF('H01 HC09'!N86=\"\",\"\",'H01 HC09'!N86)","v":""},{"$f":"IF('H01 HC09'!O86=\"\",\"\",'H01 HC09'!O86)","v":""},{"$f":"IF('H01 HC09'!P86=\"\",\"\",'H01 HC09'!P86)","v":""},{"$f":"IF('H01 HC09'!Q86=\"\",\"\",'H01 HC09'!Q86)","v":""},{"$f":"IF('H01 HC09'!R86=\"\",\"\",'H01 HC09'!R86)","v":""},{"$f":"IF('H01 HC09'!S86=\"\",\"\",'H01 HC09'!S86)","v":""},{"$f":"IF('H01 HC09'!T86=\"\",\"\",'H01 HC09'!T86)","v":""}]
[null,{"$f":"IF('H01 HC09'!B87=\"\",\"\",'H01 HC09'!B87)","v":""},{"$f":"IF('H01 HC09'!C87=\"\",\"\",'H01 HC09'!C87)","v":""},{"$f":"IF('H01 HC09'!D87=\"\",\"\",'H01 HC09'!D87)","v":""},null,null,null,null,null,{"$f":"IF('H01 HC09'!E87=\"\",\"\",'H01 HC09'!E87)","v":""},{"$f":"IF('H01 HC09'!F87=\"\",\"\",'H01 HC09'!F87)","v":""},{"$f":"IF('H01 HC09'!G87=\"\",\"\",'H01 HC09'!G87)","v":""},{"$f":"IF('H01 HC09'!H87=\"\",\"\",'H01 HC09'!H87)","v":""},{"$f":"IF('H01 HC09'!I87=\"\",\"\",'H01 HC09'!I87)","v":""},{"$f":"IF('H01 HC09'!J87=\"\",\"\",'H01 HC09'!J87)","v":""},{"$f":"IF(D895=\"\",\"\",VLOOKUP(D895,#REF!,3,0))","v":""},{"$f":"IF('H01 HC09'!K87=\"\",\"\",'H01 HC09'!K87)","v":""},{"$f":"IF('H01 HC09'!L87=\"\",\"\",'H01 HC09'!L87)","v":""},{"$f":"IF('H01 HC09'!M87=\"\",\"\",'H01 HC09'!M87)","v":""},{"$f":"IF('H01 HC09'!N87=\"\",\"\",'H01 HC09'!N87)","v":""},{"$f":"IF('H01 HC09'!O87=\"\",\"\",'H01 HC09'!O87)","v":""},{"$f":"IF('H01 HC09'!P87=\"\",\"\",'H01 HC09'!P87)","v":""},{"$f":"IF('H01 HC09'!Q87=\"\",\"\",'H01 HC09'!Q87)","v":""},{"$f":"IF('H01 HC09'!R87=\"\",\"\",'H01 HC09'!R87)","v":""},{"$f":"IF('H01 HC09'!S87=\"\",\"\",'H01 HC09'!S87)","v":""},{"$f":"IF('H01 HC09'!T87=\"\",\"\",'H01 HC09'!T87)","v":""}]
[null,{"$f":"IF('H01 HC09'!B88=\"\",\"\",'H01 HC09'!B88)","v":""},{"$f":"IF('H01 HC09'!C88=\"\",\"\",'H01 HC09'!C88)","v":""},{"$f":"IF('H01 HC09'!D88=\"\",\"\",'H01 HC09'!D88)","v":""},null,null,null,null,null,{"$f":"IF('H01 HC09'!E88=\"\",\"\",'H01 HC09'!E88)","v":""},{"$f":"IF('H01 HC09'!F88=\"\",\"\",'H01 HC09'!F88)","v":""},{"$f":"IF('H01 HC09'!G88=\"\",\"\",'H01 HC09'!G88)","v":""},{"$f":"IF('H01 HC09'!H88=\"\",\"\",'H01 HC09'!H88)","v":""},{"$f":"IF('H01 HC09'!I88=\"\",\"\",'H01 HC09'!I88)","v":""},{"$f":"IF('H01 HC09'!J88=\"\",\"\",'H01 HC09'!J88)","v":""},{"$f":"IF(D896=\"\",\"\",VLOOKUP(D896,#REF!,3,0))","v":""},{"$f":"IF('H01 HC09'!K88=\"\",\"\",'H01 HC09'!K88)","v":""},{"$f":"IF('H01 HC09'!L88=\"\",\"\",'H01 HC09'!L88)","v":""},{"$f":"IF('H01 HC09'!M88=\"\",\"\",'H01 HC09'!M88)","v":""},{"$f":"IF('H01 HC09'!N88=\"\",\"\",'H01 HC09'!N88)","v":""},{"$f":"IF('H01 HC09'!O88=\"\",\"\",'H01 HC09'!O88)","v":""},{"$f":"IF('H01 HC09'!P88=\"\",\"\",'H01 HC09'!P88)","v":""},{"$f":"IF('H01 HC09'!Q88=\"\",\"\",'H01 HC09'!Q88)","v":""},{"$f":"IF('H01 HC09'!R88=\"\",\"\",'H01 HC09'!R88)","v":""},{"$f":"IF('H01 HC09'!S88=\"\",\"\",'H01 HC09'!S88)","v":""},{"$f":"IF('H01 HC09'!T88=\"\",\"\",'H01 HC09'!T88)","v":""}]
[null,{"$f":"IF('H01 HC09'!B89=\"\",\"\",'H01 HC09'!B89)","v":""},{"$f":"IF('H01 HC09'!C89=\"\",\"\",'H01 HC09'!C89)","v":""},{"$f":"IF('H01 HC09'!D89=\"\",\"\",'H01 HC09'!D89)","v":""},null,null,null,null,null,{"$f":"IF('H01 HC09'!E89=\"\",\"\",'H01 HC09'!E89)","v":""},{"$f":"IF('H01 HC09'!F89=\"\",\"\",'H01 HC09'!F89)","v":""},{"$f":"IF('H01 HC09'!G89=\"\",\"\",'H01 HC09'!G89)","v":""},{"$f":"IF('H01 HC09'!H89=\"\",\"\",'H01 HC09'!H89)","v":""},{"$f":"IF('H01 HC09'!I89=\"\",\"\",'H01 HC09'!I89)","v":""},{"$f":"IF('H01 HC09'!J89=\"\",\"\",'H01 HC09'!J89)","v":""},{"$f":"IF(D897=\"\",\"\",VLOOKUP(D897,#REF!,3,0))","v":""},{"$f":"IF('H01 HC09'!K89=\"\",\"\",'H01 HC09'!K89)","v":""},{"$f":"IF('H01 HC09'!L89=\"\",\"\",'H01 HC09'!L89)","v":""},{"$f":"IF('H01 HC09'!M89=\"\",\"\",'H01 HC09'!M89)","v":""},{"$f":"IF('H01 HC09'!N89=\"\",\"\",'H01 HC09'!N89)","v":""},{"$f":"IF('H01 HC09'!O89=\"\",\"\",'H01 HC09'!O89)","v":""},{"$f":"IF('H01 HC09'!P89=\"\",\"\",'H01 HC09'!P89)","v":""},{"$f":"IF('H01 HC09'!Q89=\"\",\"\",'H01 HC09'!Q89)","v":""},{"$f":"IF('H01 HC09'!R89=\"\",\"\",'H01 HC09'!R89)","v":""},{"$f":"IF('H01 HC09'!S89=\"\",\"\",'H01 HC09'!S89)","v":""},{"$f":"IF('H01 HC09'!T89=\"\",\"\",'H01 HC09'!T89)","v":""}]
[null,{"$f":"IF('H01 HC09'!B90=\"\",\"\",'H01 HC09'!B90)","v":""},{"$f":"IF('H01 HC09'!C90=\"\",\"\",'H01 HC09'!C90)","v":""},{"$f":"IF('H01 HC09'!D90=\"\",\"\",'H01 HC09'!D90)","v":""},null,null,null,null,null,{"$f":"IF('H01 HC09'!E90=\"\",\"\",'H01 HC09'!E90)","v":""},{"$f":"IF('H01 HC09'!F90=\"\",\"\",'H01 HC09'!F90)","v":""},{"$f":"IF('H01 HC09'!G90=\"\",\"\",'H01 HC09'!G90)","v":""},{"$f":"IF('H01 HC09'!H90=\"\",\"\",'H01 HC09'!H90)","v":""},{"$f":"IF('H01 HC09'!I90=\"\",\"\",'H01 HC09'!I90)","v":""},{"$f":"IF('H01 HC09'!J90=\"\",\"\",'H01 HC09'!J90)","v":""},{"$f":"IF(D898=\"\",\"\",VLOOKUP(D898,#REF!,3,0))","v":""},{"$f":"IF('H01 HC09'!K90=\"\",\"\",'H01 HC09'!K90)","v":""},{"$f":"IF('H01 HC09'!L90=\"\",\"\",'H01 HC09'!L90)","v":""},{"$f":"IF('H01 HC09'!M90=\"\",\"\",'H01 HC09'!M90)","v":""},{"$f":"IF('H01 HC09'!N90=\"\",\"\",'H01 HC09'!N90)","v":""},{"$f":"IF('H01 HC09'!O90=\"\",\"\",'H01 HC09'!O90)","v":""},{"$f":"IF('H01 HC09'!P90=\"\",\"\",'H01 HC09'!P90)","v":""},{"$f":"IF('H01 HC09'!Q90=\"\",\"\",'H01 HC09'!Q90)","v":""},{"$f":"IF('H01 HC09'!R90=\"\",\"\",'H01 HC09'!R90)","v":""},{"$f":"IF('H01 HC09'!S90=\"\",\"\",'H01 HC09'!S90)","v":""},{"$f":"IF('H01 HC09'!T90=\"\",\"\",'H01 HC09'!T90)","v":""}]
[null,{"$f":"IF('H01 HC09'!B91=\"\",\"\",'H01 HC09'!B91)","v":""},{"$f":"IF('H01 HC09'!C91=\"\",\"\",'H01 HC09'!C91)","v":""},{"$f":"IF('H01 HC09'!D91=\"\",\"\",'H01 HC09'!D91)","v":""},null,null,null,null,null,{"$f":"IF('H01 HC09'!E91=\"\",\"\",'H01 HC09'!E91)","v":""},{"$f":"IF('H01 HC09'!F91=\"\",\"\",'H01 HC09'!F91)","v":""},{"$f":"IF('H01 HC09'!G91=\"\",\"\",'H01 HC09'!G91)","v":""},{"$f":"IF('H01 HC09'!H91=\"\",\"\",'H01 HC09'!H91)","v":""},{"$f":"IF('H01 HC09'!I91=\"\",\"\",'H01 HC09'!I91)","v":""},{"$f":"IF('H01 HC09'!J91=\"\",\"\",'H01 HC09'!J91)","v":""},{"$f":"IF(D899=\"\",\"\",VLOOKUP(D899,#REF!,3,0))","v":""},{"$f":"IF('H01 HC09'!K91=\"\",\"\",'H01 HC09'!K91)","v":""},{"$f":"IF('H01 HC09'!L91=\"\",\"\",'H01 HC09'!L91)","v":""},{"$f":"IF('H01 HC09'!M91=\"\",\"\",'H01 HC09'!M91)","v":""},{"$f":"IF('H01 HC09'!N91=\"\",\"\",'H01 HC09'!N91)","v":""},{"$f":"IF('H01 HC09'!O91=\"\",\"\",'H01 HC09'!O91)","v":""},{"$f":"IF('H01 HC09'!P91=\"\",\"\",'H01 HC09'!P91)","v":""},{"$f":"IF('H01 HC09'!Q91=\"\",\"\",'H01 HC09'!Q91)","v":""},{"$f":"IF('H01 HC09'!R91=\"\",\"\",'H01 HC09'!R91)","v":""},{"$f":"IF('H01 HC09'!S91=\"\",\"\",'H01 HC09'!S91)","v":""},{"$f":"IF('H01 HC09'!T91=\"\",\"\",'H01 HC09'!T91)","v":""}]
[null,{"$f":"IF('H01 HC09'!B92=\"\",\"\",'H01 HC09'!B92)","v":""},{"$f":"IF('H01 HC09'!C92=\"\",\"\",'H01 HC09'!C92)","v":""},{"$f":"IF('H01 HC09'!D92=\"\",\"\",'H01 HC09'!D92)","v":""},null,null,null,null,null,{"$f":"IF('H01 HC09'!E92=\"\",\"\",'H01 HC09'!E92)","v":""},{"$f":"IF('H01 HC09'!F92=\"\",\"\",'H01 HC09'!F92)","v":""},{"$f":"IF('H01 HC09'!G92=\"\",\"\",'H01 HC09'!G92)","v":""},{"$f":"IF('H01 HC09'!H92=\"\",\"\",'H01 HC09'!H92)","v":""},{"$f":"IF('H01 HC09'!I92=\"\",\"\",'H01 HC09'!I92)","v":""},{"$f":"IF('H01 HC09'!J92=\"\",\"\",'H01 HC09'!J92)","v":""},{"$f":"IF(D900=\"\",\"\",VLOOKUP(D900,#REF!,3,0))","v":""},{"$f":"IF('H01 HC09'!K92=\"\",\"\",'H01 HC09'!K92)","v":""},{"$f":"IF('H01 HC09'!L92=\"\",\"\",'H01 HC09'!L92)","v":""},{"$f":"IF('H01 HC09'!M92=\"\",\"\",'H01 HC09'!M92)","v":""},{"$f":"IF('H01 HC09'!N92=\"\",\"\",'H01 HC09'!N92)","v":""},{"$f":"IF('H01 HC09'!O92=\"\",\"\",'H01 HC09'!O92)","v":""},{"$f":"IF('H01 HC09'!P92=\"\",\"\",'H01 HC09'!P92)","v":""},{"$f":"IF('H01 HC09'!Q92=\"\",\"\",'H01 HC09'!Q92)","v":""},{"$f":"IF('H01 HC09'!R92=\"\",\"\",'H01 HC09'!R92)","v":""},{"$f":"IF('H01 HC09'!S92=\"\",\"\",'H01 HC09'!S92)","v":""},{"$f":"IF('H01 HC09'!T92=\"\",\"\",'H01 HC09'!T92)","v":""}]
[null,{"$f":"IF('H01 HC09'!B93=\"\",\"\",'H01 HC09'!B93)","v":""},{"$f":"IF('H01 HC09'!C93=\"\",\"\",'H01 HC09'!C93)","v":""},{"$f":"IF('H01 HC09'!D93=\"\",\"\",'H01 HC09'!D93)","v":""},null,null,null,null,null,{"$f":"IF('H01 HC09'!E93=\"\",\"\",'H01 HC09'!E93)","v":""},{"$f":"IF('H01 HC09'!F93=\"\",\"\",'H01 HC09'!F93)","v":""},{"$f":"IF('H01 HC09'!G93=\"\",\"\",'H01 HC09'!G93)","v":""},{"$f":"IF('H01 HC09'!H93=\"\",\"\",'H01 HC09'!H93)","v":""},{"$f":"IF('H01 HC09'!I93=\"\",\"\",'H01 HC09'!I93)","v":""},{"$f":"IF('H01 HC09'!J93=\"\",\"\",'H01 HC09'!J93)","v":""},{"$f":"IF(D901=\"\",\"\",VLOOKUP(D901,#REF!,3,0))","v":""},{"$f":"IF('H01 HC09'!K93=\"\",\"\",'H01 HC09'!K93)","v":""},{"$f":"IF('H01 HC09'!L93=\"\",\"\",'H01 HC09'!L93)","v":""},{"$f":"IF('H01 HC09'!M93=\"\",\"\",'H01 HC09'!M93)","v":""},{"$f":"IF('H01 HC09'!N93=\"\",\"\",'H01 HC09'!N93)","v":""},{"$f":"IF('H01 HC09'!O93=\"\",\"\",'H01 HC09'!O93)","v":""},{"$f":"IF('H01 HC09'!P93=\"\",\"\",'H01 HC09'!P93)","v":""},{"$f":"IF('H01 HC09'!Q93=\"\",\"\",'H01 HC09'!Q93)","v":""},{"$f":"IF('H01 HC09'!R93=\"\",\"\",'H01 HC09'!R93)","v":""},{"$f":"IF('H01 HC09'!S93=\"\",\"\",'H01 HC09'!S93)","v":""},{"$f":"IF('H01 HC09'!T93=\"\",\"\",'H01 HC09'!T93)","v":""}]
[null,{"$f":"IF('H01 HC09'!B94=\"\",\"\",'H01 HC09'!B94)","v":""},{"$f":"IF('H01 HC09'!C94=\"\",\"\",'H01 HC09'!C94)","v":""},{"$f":"IF('H01 HC09'!D94=\"\",\"\",'H01 HC09'!D94)","v":""},null,null,null,null,null,{"$f":"IF('H01 HC09'!E94=\"\",\"\",'H01 HC09'!E94)","v":""},{"$f":"IF('H01 HC09'!F94=\"\",\"\",'H01 HC09'!F94)","v":""},{"$f":"IF('H01 HC09'!G94=\"\",\"\",'H01 HC09'!G94)","v":""},{"$f":"IF('H01 HC09'!H94=\"\",\"\",'H01 HC09'!H94)","v":""},{"$f":"IF('H01 HC09'!I94=\"\",\"\",'H01 HC09'!I94)","v":""},{"$f":"IF('H01 HC09'!J94=\"\",\"\",'H01 HC09'!J94)","v":""},{"$f":"IF(D902=\"\",\"\",VLOOKUP(D902,#REF!,3,0))","v":""},{"$f":"IF('H01 HC09'!K94=\"\",\"\",'H01 HC09'!K94)","v":""},{"$f":"IF('H01 HC09'!L94=\"\",\"\",'H01 HC09'!L94)","v":""},{"$f":"IF('H01 HC09'!M94=\"\",\"\",'H01 HC09'!M94)","v":""},{"$f":"IF('H01 HC09'!N94=\"\",\"\",'H01 HC09'!N94)","v":""},{"$f":"IF('H01 HC09'!O94=\"\",\"\",'H01 HC09'!O94)","v":""},{"$f":"IF('H01 HC09'!P94=\"\",\"\",'H01 HC09'!P94)","v":""},{"$f":"IF('H01 HC09'!Q94=\"\",\"\",'H01 HC09'!Q94)","v":""},{"$f":"IF('H01 HC09'!R94=\"\",\"\",'H01 HC09'!R94)","v":""},{"$f":"IF('H01 HC09'!S94=\"\",\"\",'H01 HC09'!S94)","v":""},{"$f":"IF('H01 HC09'!T94=\"\",\"\",'H01 HC09'!T94)","v":""}]
[null,{"$f":"IF('H01 HC09'!B95=\"\",\"\",'H01 HC09'!B95)","v":""},{"$f":"IF('H01 HC09'!C95=\"\",\"\",'H01 HC09'!C95)","v":""},{"$f":"IF('H01 HC09'!D95=\"\",\"\",'H01 HC09'!D95)","v":""},null,null,null,null,null,{"$f":"IF('H01 HC09'!E95=\"\",\"\",'H01 HC09'!E95)","v":""},{"$f":"IF('H01 HC09'!F95=\"\",\"\",'H01 HC09'!F95)","v":""},{"$f":"IF('H01 HC09'!G95=\"\",\"\",'H01 HC09'!G95)","v":""},{"$f":"IF('H01 HC09'!H95=\"\",\"\",'H01 HC09'!H95)","v":""},{"$f":"IF('H01 HC09'!I95=\"\",\"\",'H01 HC09'!I95)","v":""},{"$f":"IF('H01 HC09'!J95=\"\",\"\",'H01 HC09'!J95)","v":""},{"$f":"IF(D903=\"\",\"\",VLOOKUP(D903,#REF!,3,0))","v":""},{"$f":"IF('H01 HC09'!K95=\"\",\"\",'H01 HC09'!K95)","v":""},{"$f":"IF('H01 HC09'!L95=\"\",\"\",'H01 HC09'!L95)","v":""},{"$f":"IF('H01 HC09'!M95=\"\",\"\",'H01 HC09'!M95)","v":""},{"$f":"IF('H01 HC09'!N95=\"\",\"\",'H01 HC09'!N95)","v":""},{"$f":"IF('H01 HC09'!O95=\"\",\"\",'H01 HC09'!O95)","v":""},{"$f":"IF('H01 HC09'!P95=\"\",\"\",'H01 HC09'!P95)","v":""},{"$f":"IF('H01 HC09'!Q95=\"\",\"\",'H01 HC09'!Q95)","v":""},{"$f":"IF('H01 HC09'!R95=\"\",\"\",'H01 HC09'!R95)","v":""},{"$f":"IF('H01 HC09'!S95=\"\",\"\",'H01 HC09'!S95)","v":""},{"$f":"IF('H01 HC09'!T95=\"\",\"\",'H01 HC09'!T95)","v":""}]
[null,{"$f":"IF('H01 HC09'!B96=\"\",\"\",'H01 HC09'!B96)","v":""},{"$f":"IF('H01 HC09'!C96=\"\",\"\",'H01 HC09'!C96)","v":""},{"$f":"IF('H01 HC09'!D96=\"\",\"\",'H01 HC09'!D96)","v":""},null,null,null,null,null,{"$f":"IF('H01 HC09'!E96=\"\",\"\",'H01 HC09'!E96)","v":""},{"$f":"IF('H01 HC09'!F96=\"\",\"\",'H01 HC09'!F96)","v":""},{"$f":"IF('H01 HC09'!G96=\"\",\"\",'H01 HC09'!G96)","v":""},{"$f":"IF('H01 HC09'!H96=\"\",\"\",'H01 HC09'!H96)","v":""},{"$f":"IF('H01 HC09'!I96=\"\",\"\",'H01 HC09'!I96)","v":""},{"$f":"IF('H01 HC09'!J96=\"\",\"\",'H01 HC09'!J96)","v":""},{"$f":"IF(D904=\"\",\"\",VLOOKUP(D904,#REF!,3,0))","v":""},{"$f":"IF('H01 HC09'!K96=\"\",\"\",'H01 HC09'!K96)","v":""},{"$f":"IF('H01 HC09'!L96=\"\",\"\",'H01 HC09'!L96)","v":""},{"$f":"IF('H01 HC09'!M96=\"\",\"\",'H01 HC09'!M96)","v":""},{"$f":"IF('H01 HC09'!N96=\"\",\"\",'H01 HC09'!N96)","v":""},{"$f":"IF('H01 HC09'!O96=\"\",\"\",'H01 HC09'!O96)","v":""},{"$f":"IF('H01 HC09'!P96=\"\",\"\",'H01 HC09'!P96)","v":""},{"$f":"IF('H01 HC09'!Q96=\"\",\"\",'H01 HC09'!Q96)","v":""},{"$f":"IF('H01 HC09'!R96=\"\",\"\",'H01 HC09'!R96)","v":""},{"$f":"IF('H01 HC09'!S96=\"\",\"\",'H01 HC09'!S96)","v":""},{"$f":"IF('H01 HC09'!T96=\"\",\"\",'H01 HC09'!T96)","v":""}]
[null,{"$f":"IF('H01 HC09'!B97=\"\",\"\",'H01 HC09'!B97)","v":""},{"$f":"IF('H01 HC09'!C97=\"\",\"\",'H01 HC09'!C97)","v":""},{"$f":"IF('H01 HC09'!D97=\"\",\"\",'H01 HC09'!D97)","v":""},null,null,null,null,null,{"$f":"IF('H01 HC09'!E97=\"\",\"\",'H01 HC09'!E97)","v":""},{"$f":"IF('H01 HC09'!F97=\"\",\"\",'H01 HC09'!F97)","v":""},{"$f":"IF('H01 HC09'!G97=\"\",\"\",'H01 HC09'!G97)","v":""},{"$f":"IF('H01 HC09'!H97=\"\",\"\",'H01 HC09'!H97)","v":""},{"$f":"IF('H01 HC09'!I97=\"\",\"\",'H01 HC09'!I97)","v":""},{"$f":"IF('H01 HC09'!J97=\"\",\"\",'H01 HC09'!J97)","v":""},{"$f":"IF(D905=\"\",\"\",VLOOKUP(D905,#REF!,3,0))","v":""},{"$f":"IF('H01 HC09'!K97=\"\",\"\",'H01 HC09'!K97)","v":""},{"$f":"IF('H01 HC09'!L97=\"\",\"\",'H01 HC09'!L97)","v":""},{"$f":"IF('H01 HC09'!M97=\"\",\"\",'H01 HC09'!M97)","v":""},{"$f":"IF('H01 HC09'!N97=\"\",\"\",'H01 HC09'!N97)","v":""},{"$f":"IF('H01 HC09'!O97=\"\",\"\",'H01 HC09'!O97)","v":""},{"$f":"IF('H01 HC09'!P97=\"\",\"\",'H01 HC09'!P97)","v":""},{"$f":"IF('H01 HC09'!Q97=\"\",\"\",'H01 HC09'!Q97)","v":""},{"$f":"IF('H01 HC09'!R97=\"\",\"\",'H01 HC09'!R97)","v":""},{"$f":"IF('H01 HC09'!S97=\"\",\"\",'H01 HC09'!S97)","v":""},{"$f":"IF('H01 HC09'!T97=\"\",\"\",'H01 HC09'!T97)","v":""}]
[null,{"$f":"IF('H01 HC09'!B98=\"\",\"\",'H01 HC09'!B98)","v":""},{"$f":"IF('H01 HC09'!C98=\"\",\"\",'H01 HC09'!C98)","v":""},{"$f":"IF('H01 HC09'!D98=\"\",\"\",'H01 HC09'!D98)","v":""},null,null,null,null,null,{"$f":"IF('H01 HC09'!E98=\"\",\"\",'H01 HC09'!E98)","v":""},{"$f":"IF('H01 HC09'!F98=\"\",\"\",'H01 HC09'!F98)","v":""},{"$f":"IF('H01 HC09'!G98=\"\",\"\",'H01 HC09'!G98)","v":""},{"$f":"IF('H01 HC09'!H98=\"\",\"\",'H01 HC09'!H98)","v":""},{"$f":"IF('H01 HC09'!I98=\"\",\"\",'H01 HC09'!I98)","v":""},{"$f":"IF('H01 HC09'!J98=\"\",\"\",'H01 HC09'!J98)","v":""},{"$f":"IF(D906=\"\",\"\",VLOOKUP(D906,#REF!,3,0))","v":""},{"$f":"IF('H01 HC09'!K98=\"\",\"\",'H01 HC09'!K98)","v":""},{"$f":"IF('H01 HC09'!L98=\"\",\"\",'H01 HC09'!L98)","v":""},{"$f":"IF('H01 HC09'!M98=\"\",\"\",'H01 HC09'!M98)","v":""},{"$f":"IF('H01 HC09'!N98=\"\",\"\",'H01 HC09'!N98)","v":""},{"$f":"IF('H01 HC09'!O98=\"\",\"\",'H01 HC09'!O98)","v":""},{"$f":"IF('H01 HC09'!P98=\"\",\"\",'H01 HC09'!P98)","v":""},{"$f":"IF('H01 HC09'!Q98=\"\",\"\",'H01 HC09'!Q98)","v":""},{"$f":"IF('H01 HC09'!R98=\"\",\"\",'H01 HC09'!R98)","v":""},{"$f":"IF('H01 HC09'!S98=\"\",\"\",'H01 HC09'!S98)","v":""},{"$f":"IF('H01 HC09'!T98=\"\",\"\",'H01 HC09'!T98)","v":""}]
[null,{"$f":"IF('H01 HC09'!B99=\"\",\"\",'H01 HC09'!B99)","v":""},{"$f":"IF('H01 HC09'!C99=\"\",\"\",'H01 HC09'!C99)","v":""},{"$f":"IF('H01 HC09'!D99=\"\",\"\",'H01 HC09'!D99)","v":""},null,null,null,null,null,{"$f":"IF('H01 HC09'!E99=\"\",\"\",'H01 HC09'!E99)","v":""},{"$f":"IF('H01 HC09'!F99=\"\",\"\",'H01 HC09'!F99)","v":""},{"$f":"IF('H01 HC09'!G99=\"\",\"\",'H01 HC09'!G99)","v":""},{"$f":"IF('H01 HC09'!H99=\"\",\"\",'H01 HC09'!H99)","v":""},{"$f":"IF('H01 HC09'!I99=\"\",\"\",'H01 HC09'!I99)","v":""},{"$f":"IF('H01 HC09'!J99=\"\",\"\",'H01 HC09'!J99)","v":""},{"$f":"IF(D907=\"\",\"\",VLOOKUP(D907,#REF!,3,0))","v":""},{"$f":"IF('H01 HC09'!K99=\"\",\"\",'H01 HC09'!K99)","v":""},{"$f":"IF('H01 HC09'!L99=\"\",\"\",'H01 HC09'!L99)","v":""},{"$f":"IF('H01 HC09'!M99=\"\",\"\",'H01 HC09'!M99)","v":""},{"$f":"IF('H01 HC09'!N99=\"\",\"\",'H01 HC09'!N99)","v":""},{"$f":"IF('H01 HC09'!O99=\"\",\"\",'H01 HC09'!O99)","v":""},{"$f":"IF('H01 HC09'!P99=\"\",\"\",'H01 HC09'!P99)","v":""},{"$f":"IF('H01 HC09'!Q99=\"\",\"\",'H01 HC09'!Q99)","v":""},{"$f":"IF('H01 HC09'!R99=\"\",\"\",'H01 HC09'!R99)","v":""},{"$f":"IF('H01 HC09'!S99=\"\",\"\",'H01 HC09'!S99)","v":""},{"$f":"IF('H01 HC09'!T99=\"\",\"\",'H01 HC09'!T99)","v":""}]
[null,{"$f":"IF('H01 HC09'!B100=\"\",\"\",'H01 HC09'!B100)","v":""},{"$f":"IF('H01 HC09'!C100=\"\",\"\",'H01 HC09'!C100)","v":""},{"$f":"IF('H01 HC09'!D100=\"\",\"\",'H01 HC09'!D100)","v":""},null,null,null,null,null,{"$f":"IF('H01 HC09'!E100=\"\",\"\",'H01 HC09'!E100)","v":""},{"$f":"IF('H01 HC09'!F100=\"\",\"\",'H01 HC09'!F100)","v":""},{"$f":"IF('H01 HC09'!G100=\"\",\"\",'H01 HC09'!G100)","v":""},{"$f":"IF('H01 HC09'!H100=\"\",\"\",'H01 HC09'!H100)","v":""},{"$f":"IF('H01 HC09'!I100=\"\",\"\",'H01 HC09'!I100)","v":""},{"$f":"IF('H01 HC09'!J100=\"\",\"\",'H01 HC09'!J100)","v":""},{"$f":"IF(D908=\"\",\"\",VLOOKUP(D908,#REF!,3,0))","v":""},{"$f":"IF('H01 HC09'!K100=\"\",\"\",'H01 HC09'!K100)","v":""},{"$f":"IF('H01 HC09'!L100=\"\",\"\",'H01 HC09'!L100)","v":""},{"$f":"IF('H01 HC09'!M100=\"\",\"\",'H01 HC09'!M100)","v":""},{"$f":"IF('H01 HC09'!N100=\"\",\"\",'H01 HC09'!N100)","v":""},{"$f":"IF('H01 HC09'!O100=\"\",\"\",'H01 HC09'!O100)","v":""},{"$f":"IF('H01 HC09'!P100=\"\",\"\",'H01 HC09'!P100)","v":""},{"$f":"IF('H01 HC09'!Q100=\"\",\"\",'H01 HC09'!Q100)","v":""},{"$f":"IF('H01 HC09'!R100=\"\",\"\",'H01 HC09'!R100)","v":""},{"$f":"IF('H01 HC09'!S100=\"\",\"\",'H01 HC09'!S100)","v":""},{"$f":"IF('H01 HC09'!T100=\"\",\"\",'H01 HC09'!T100)","v":""}]
[null,{"$f":"IF('H01 HC09'!B101=\"\",\"\",'H01 HC09'!B101)","v":""},{"$f":"IF('H01 HC09'!C101=\"\",\"\",'H01 HC09'!C101)","v":""},{"$f":"IF('H01 HC09'!D101=\"\",\"\",'H01 HC09'!D101)","v":""},null,null,null,null,null,{"$f":"IF('H01 HC09'!E101=\"\",\"\",'H01 HC09'!E101)","v":""},{"$f":"IF('H01 HC09'!F101=\"\",\"\",'H01 HC09'!F101)","v":""},{"$f":"IF('H01 HC09'!G101=\"\",\"\",'H01 HC09'!G101)","v":""},{"$f":"IF('H01 HC09'!H101=\"\",\"\",'H01 HC09'!H101)","v":""},{"$f":"IF('H01 HC09'!I101=\"\",\"\",'H01 HC09'!I101)","v":""},{"$f":"IF('H01 HC09'!J101=\"\",\"\",'H01 HC09'!J101)","v":""},{"$f":"IF(D909=\"\",\"\",VLOOKUP(D909,#REF!,3,0))","v":""},{"$f":"IF('H01 HC09'!K101=\"\",\"\",'H01 HC09'!K101)","v":""},{"$f":"IF('H01 HC09'!L101=\"\",\"\",'H01 HC09'!L101)","v":""},{"$f":"IF('H01 HC09'!M101=\"\",\"\",'H01 HC09'!M101)","v":""},{"$f":"IF('H01 HC09'!N101=\"\",\"\",'H01 HC09'!N101)","v":""},{"$f":"IF('H01 HC09'!O101=\"\",\"\",'H01 HC09'!O101)","v":""},{"$f":"IF('H01 HC09'!P101=\"\",\"\",'H01 HC09'!P101)","v":""},{"$f":"IF('H01 HC09'!Q101=\"\",\"\",'H01 HC09'!Q101)","v":""},{"$f":"IF('H01 HC09'!R101=\"\",\"\",'H01 HC09'!R101)","v":""},{"$f":"IF('H01 HC09'!S101=\"\",\"\",'H01 HC09'!S101)","v":""},{"$f":"IF('H01 HC09'!T101=\"\",\"\",'H01 HC09'!T101)","v":""}]
[null,{"$f":"IF('H01 HC09'!B102=\"\",\"\",'H01 HC09'!B102)","v":""},{"$f":"IF('H01 HC09'!C102=\"\",\"\",'H01 HC09'!C102)","v":""},{"$f":"IF('H01 HC09'!D102=\"\",\"\",'H01 HC09'!D102)","v":""},null,null,null,null,null,{"$f":"IF('H01 HC09'!E102=\"\",\"\",'H01 HC09'!E102)","v":""},{"$f":"IF('H01 HC09'!F102=\"\",\"\",'H01 HC09'!F102)","v":""},{"$f":"IF('H01 HC09'!G102=\"\",\"\",'H01 HC09'!G102)","v":""},{"$f":"IF('H01 HC09'!H102=\"\",\"\",'H01 HC09'!H102)","v":""},{"$f":"IF('H01 HC09'!I102=\"\",\"\",'H01 HC09'!I102)","v":""},{"$f":"IF('H01 HC09'!J102=\"\",\"\",'H01 HC09'!J102)","v":""},{"$f":"IF(D910=\"\",\"\",VLOOKUP(D910,#REF!,3,0))","v":""},{"$f":"IF('H01 HC09'!K102=\"\",\"\",'H01 HC09'!K102)","v":""},{"$f":"IF('H01 HC09'!L102=\"\",\"\",'H01 HC09'!L102)","v":""},{"$f":"IF('H01 HC09'!M102=\"\",\"\",'H01 HC09'!M102)","v":""},{"$f":"IF('H01 HC09'!N102=\"\",\"\",'H01 HC09'!N102)","v":""},{"$f":"IF('H01 HC09'!O102=\"\",\"\",'H01 HC09'!O102)","v":""},{"$f":"IF('H01 HC09'!P102=\"\",\"\",'H01 HC09'!P102)","v":""},{"$f":"IF('H01 HC09'!Q102=\"\",\"\",'H01 HC09'!Q102)","v":""},{"$f":"IF('H01 HC09'!R102=\"\",\"\",'H01 HC09'!R102)","v":""},{"$f":"IF('H01 HC09'!S102=\"\",\"\",'H01 HC09'!S102)","v":""},{"$f":"IF('H01 HC09'!T102=\"\",\"\",'H01 HC09'!T102)","v":""}]
[null,{"$f":"IF('H01 HC09'!B103=\"\",\"\",'H01 HC09'!B103)","v":""},{"$f":"IF('H01 HC09'!C103=\"\",\"\",'H01 HC09'!C103)","v":""},{"$f":"IF('H01 HC09'!D103=\"\",\"\",'H01 HC09'!D103)","v":""},null,null,null,null,null,{"$f":"IF('H01 HC09'!E103=\"\",\"\",'H01 HC09'!E103)","v":""},{"$f":"IF('H01 HC09'!F103=\"\",\"\",'H01 HC09'!F103)","v":""},{"$f":"IF('H01 HC09'!G103=\"\",\"\",'H01 HC09'!G103)","v":""},{"$f":"IF('H01 HC09'!H103=\"\",\"\",'H01 HC09'!H103)","v":""},{"$f":"IF('H01 HC09'!I103=\"\",\"\",'H01 HC09'!I103)","v":""},{"$f":"IF('H01 HC09'!J103=\"\",\"\",'H01 HC09'!J103)","v":""},{"$f":"IF(D911=\"\",\"\",VLOOKUP(D911,#REF!,3,0))","v":""},{"$f":"IF('H01 HC09'!K103=\"\",\"\",'H01 HC09'!K103)","v":""},{"$f":"IF('H01 HC09'!L103=\"\",\"\",'H01 HC09'!L103)","v":""},{"$f":"IF('H01 HC09'!M103=\"\",\"\",'H01 HC09'!M103)","v":""},{"$f":"IF('H01 HC09'!N103=\"\",\"\",'H01 HC09'!N103)","v":""},{"$f":"IF('H01 HC09'!O103=\"\",\"\",'H01 HC09'!O103)","v":""},{"$f":"IF('H01 HC09'!P103=\"\",\"\",'H01 HC09'!P103)","v":""},{"$f":"IF('H01 HC09'!Q103=\"\",\"\",'H01 HC09'!Q103)","v":""},{"$f":"IF('H01 HC09'!R103=\"\",\"\",'H01 HC09'!R103)","v":""},{"$f":"IF('H01 HC09'!S103=\"\",\"\",'H01 HC09'!S103)","v":""},{"$f":"IF('H01 HC09'!T103=\"\",\"\",'H01 HC09'!T103)","v":""}]
[null,{"$f":"IF('H01 HC09'!B104=\"\",\"\",'H01 HC09'!B104)","v":""},{"$f":"IF('H01 HC09'!C104=\"\",\"\",'H01 HC09'!C104)","v":""},{"$f":"IF('H01 HC09'!D104=\"\",\"\",'H01 HC09'!D104)","v":""},null,null,null,null,null,{"$f":"IF('H01 HC09'!E104=\"\",\"\",'H01 HC09'!E104)","v":""},{"$f":"IF('H01 HC09'!F104=\"\",\"\",'H01 HC09'!F104)","v":""},{"$f":"IF('H01 HC09'!G104=\"\",\"\",'H01 HC09'!G104)","v":""},{"$f":"IF('H01 HC09'!H104=\"\",\"\",'H01 HC09'!H104)","v":""},{"$f":"IF('H01 HC09'!I104=\"\",\"\",'H01 HC09'!I104)","v":""},{"$f":"IF('H01 HC09'!J104=\"\",\"\",'H01 HC09'!J104)","v":""},{"$f":"IF(D912=\"\",\"\",VLOOKUP(D912,#REF!,3,0))","v":""},{"$f":"IF('H01 HC09'!K104=\"\",\"\",'H01 HC09'!K104)","v":""},{"$f":"IF('H01 HC09'!L104=\"\",\"\",'H01 HC09'!L104)","v":""},{"$f":"IF('H01 HC09'!M104=\"\",\"\",'H01 HC09'!M104)","v":""},{"$f":"IF('H01 HC09'!N104=\"\",\"\",'H01 HC09'!N104)","v":""},{"$f":"IF('H01 HC09'!O104=\"\",\"\",'H01 HC09'!O104)","v":""},{"$f":"IF('H01 HC09'!P104=\"\",\"\",'H01 HC09'!P104)","v":""},{"$f":"IF('H01 HC09'!Q104=\"\",\"\",'H01 HC09'!Q104)","v":""},{"$f":"IF('H01 HC09'!R104=\"\",\"\",'H01 HC09'!R104)","v":""},{"$f":"IF('H01 HC09'!S104=\"\",\"\",'H01 HC09'!S104)","v":""},{"$f":"IF('H01 HC09'!T104=\"\",\"\",'H01 HC09'!T104)","v":""}]
[null,{"$f":"IF('H01 HC09'!B105=\"\",\"\",'H01 HC09'!B105)","v":""},{"$f":"IF('H01 HC09'!C105=\"\",\"\",'H01 HC09'!C105)","v":""},{"$f":"IF('H01 HC09'!D105=\"\",\"\",'H01 HC09'!D105)","v":""},null,null,null,null,null,{"$f":"IF('H01 HC09'!E105=\"\",\"\",'H01 HC09'!E105)","v":""},{"$f":"IF('H01 HC09'!F105=\"\",\"\",'H01 HC09'!F105)","v":""},{"$f":"IF('H01 HC09'!G105=\"\",\"\",'H01 HC09'!G105)","v":""},{"$f":"IF('H01 HC09'!H105=\"\",\"\",'H01 HC09'!H105)","v":""},{"$f":"IF('H01 HC09'!I105=\"\",\"\",'H01 HC09'!I105)","v":""},{"$f":"IF('H01 HC09'!J105=\"\",\"\",'H01 HC09'!J105)","v":""},{"$f":"IF(D913=\"\",\"\",VLOOKUP(D913,#REF!,3,0))","v":""},{"$f":"IF('H01 HC09'!K105=\"\",\"\",'H01 HC09'!K105)","v":""},{"$f":"IF('H01 HC09'!L105=\"\",\"\",'H01 HC09'!L105)","v":""},{"$f":"IF('H01 HC09'!M105=\"\",\"\",'H01 HC09'!M105)","v":""},{"$f":"IF('H01 HC09'!N105=\"\",\"\",'H01 HC09'!N105)","v":""},{"$f":"IF('H01 HC09'!O105=\"\",\"\",'H01 HC09'!O105)","v":""},{"$f":"IF('H01 HC09'!P105=\"\",\"\",'H01 HC09'!P105)","v":""},{"$f":"IF('H01 HC09'!Q105=\"\",\"\",'H01 HC09'!Q105)","v":""},{"$f":"IF('H01 HC09'!R105=\"\",\"\",'H01 HC09'!R105)","v":""},{"$f":"IF('H01 HC09'!S105=\"\",\"\",'H01 HC09'!S105)","v":""},{"$f":"IF('H01 HC09'!T105=\"\",\"\",'H01 HC09'!T105)","v":""}]
[null,{"$f":"IF('H01 HC09'!B106=\"\",\"\",'H01 HC09'!B106)","v":""},{"$f":"IF('H01 HC09'!C106=\"\",\"\",'H01 HC09'!C106)","v":""},{"$f":"IF('H01 HC09'!D106=\"\",\"\",'H01 HC09'!D106)","v":""},null,null,null,null,null,{"$f":"IF('H01 HC09'!E106=\"\",\"\",'H01 HC09'!E106)","v":""},{"$f":"IF('H01 HC09'!F106=\"\",\"\",'H01 HC09'!F106)","v":""},{"$f":"IF('H01 HC09'!G106=\"\",\"\",'H01 HC09'!G106)","v":""},{"$f":"IF('H01 HC09'!H106=\"\",\"\",'H01 HC09'!H106)","v":""},{"$f":"IF('H01 HC09'!I106=\"\",\"\",'H01 HC09'!I106)","v":""},{"$f":"IF('H01 HC09'!J106=\"\",\"\",'H01 HC09'!J106)","v":""},{"$f":"IF(D914=\"\",\"\",VLOOKUP(D914,#REF!,3,0))","v":""},{"$f":"IF('H01 HC09'!K106=\"\",\"\",'H01 HC09'!K106)","v":""},{"$f":"IF('H01 HC09'!L106=\"\",\"\",'H01 HC09'!L106)","v":""},{"$f":"IF('H01 HC09'!M106=\"\",\"\",'H01 HC09'!M106)","v":""},{"$f":"IF('H01 HC09'!N106=\"\",\"\",'H01 HC09'!N106)","v":""},{"$f":"IF('H01 HC09'!O106=\"\",\"\",'H01 HC09'!O106)","v":""},{"$f":"IF('H01 HC09'!P106=\"\",\"\",'H01 HC09'!P106)","v":""},{"$f":"IF('H01 HC09'!Q106=\"\",\"\",'H01 HC09'!Q106)","v":""},{"$f":"IF('H01 HC09'!R106=\"\",\"\",'H01 HC09'!R106)","v":""},{"$f":"IF('H01 HC09'!S106=\"\",\"\",'H01 HC09'!S106)","v":""},{"$f":"IF('H01 HC09'!T106=\"\",\"\",'H01 HC09'!T106)","v":""}]
[null,{"$f":"IF('H01 HC10'!B7=\"\",\"\",'H01 HC10'!B7)","v":"H01"},{"$f":"IF('H01 HC10'!C7=\"\",\"\",'H01 HC10'!C7)","v":"HC10"},{"$f":"IF('H01 HC10'!D7=\"\",\"\",'H01 HC10'!D7)","v":"QMA"},null,null,null,null,null,{"$f":"IF('H01 HC10'!E7=\"\",\"\",'H01 HC10'!E7)","v":"01"},{"$f":"IF('H01 HC10'!F7=\"\",\"\",'H01 HC10'!F7)","v":"=H01:HC10:QMA01"},{"$f":"IF('H01 HC10'!G7=\"\",\"\",'H01 HC10'!G7)","v":""},{"$f":"IF('H01 HC10'!H7=\"\",\"\",'H01 HC10'!H7)","v":""},{"$f":"IF('H01 HC10'!I7=\"\",\"\",'H01 HC10'!I7)","v":""},null,null,{"$f":"IF('H01 HC10'!K7=\"\",\"\",'H01 HC10'!K7)","v":""},{"$f":"IF('H01 HC10'!L7=\"\",\"\",'H01 HC10'!L7)","v":"VIRA"},{"$f":"IF('H01 HC10'!M7=\"\",\"\",'H01 HC10'!M7)","v":"KVLE_P"},{"$f":"IF('H01 HC10'!N7=\"\",\"\",'H01 HC10'!N7)","v":"DN150"},{"$f":"IF('H01 HC10'!O7=\"\",\"\",'H01 HC10'!O7)","v":"KVLE-P_DN150"},{"$f":"IF('H01 HC10'!P7=\"\",\"\",'H01 HC10'!P7)","v":""},{"$f":"IF('H01 HC10'!Q7=\"\",\"\",'H01 HC10'!Q7)","v":""},{"$f":"IF('H01 HC10'!R7=\"\",\"\",'H01 HC10'!R7)","v":""},{"$f":"IF('H01 HC10'!S7=\"\",\"\",'H01 HC10'!S7)","v":""},{"$f":"IF('H01 HC10'!T7=\"\",\"\",'H01 HC10'!T7)","v":""}]
[null,{"$f":"IF('H01 HC10'!B8=\"\",\"\",'H01 HC10'!B8)","v":"H01"},{"$f":"IF('H01 HC10'!C8=\"\",\"\",'H01 HC10'!C8)","v":"HC10"},{"$f":"IF('H01 HC10'!D8=\"\",\"\",'H01 HC10'!D8)","v":"QMA"},null,null,null,null,null,{"$f":"IF('H01 HC10'!E8=\"\",\"\",'H01 HC10'!E8)","v":"02"},{"$f":"IF('H01 HC10'!F8=\"\",\"\",'H01 HC10'!F8)","v":"=H01:HC10:QMA02"},{"$f":"IF('H01 HC10'!G8=\"\",\"\",'H01 HC10'!G8)","v":""},{"$f":"IF('H01 HC10'!H8=\"\",\"\",'H01 HC10'!H8)","v":""},{"$f":"IF('H01 HC10'!I8=\"\",\"\",'H01 HC10'!I8)","v":""},null,null,{"$f":"IF('H01 HC10'!K8=\"\",\"\",'H01 HC10'!K8)","v":""},{"$f":"IF('H01 HC10'!L8=\"\",\"\",'H01 HC10'!L8)","v":"VIRA"},{"$f":"IF('H01 HC10'!M8=\"\",\"\",'H01 HC10'!M8)","v":"KVLE_P"},{"$f":"IF('H01 HC10'!N8=\"\",\"\",'H01 HC10'!N8)","v":"DN150"},{"$f":"IF('H01 HC10'!O8=\"\",\"\",'H01 HC10'!O8)","v":"KVLE-P_DN150"},{"$f":"IF('H01 HC10'!P8=\"\",\"\",'H01 HC10'!P8)","v":""},{"$f":"IF('H01 HC10'!Q8=\"\",\"\",'H01 HC10'!Q8)","v":""},{"$f":"IF('H01 HC10'!R8=\"\",\"\",'H01 HC10'!R8)","v":""},{"$f":"IF('H01 HC10'!S8=\"\",\"\",'H01 HC10'!S8)","v":""},{"$f":"IF('H01 HC10'!T8=\"\",\"\",'H01 HC10'!T8)","v":""}]
[null,{"$f":"IF('H01 HC10'!B9=\"\",\"\",'H01 HC10'!B9)","v":"H01"},{"$f":"IF('H01 HC10'!C9=\"\",\"\",'H01 HC10'!C9)","v":"HC10"},{"$f":"IF('H01 HC10'!D9=\"\",\"\",'H01 HC10'!D9)","v":"RCL"},null,null,null,null,null,{"$f":"IF('H01 HC10'!E9=\"\",\"\",'H01 HC10'!E9)","v":"01"},{"$f":"IF('H01 HC10'!F9=\"\",\"\",'H01 HC10'!F9)","v":"=H01:HC10:RCL01"},{"$f":"IF('H01 HC10'!G9=\"\",\"\",'H01 HC10'!G9)","v":""},{"$f":"IF('H01 HC10'!H9=\"\",\"\",'H01 HC10'!H9)","v":""},{"$f":"IF('H01 HC10'!I9=\"\",\"\",'H01 HC10'!I9)","v":""},null,null,{"$f":"IF('H01 HC10'!K9=\"\",\"\",'H01 HC10'!K9)","v":""},{"$f":"IF('H01 HC10'!L9=\"\",\"\",'H01 HC10'!L9)","v":"VIRA"},{"$f":"IF('H01 HC10'!M9=\"\",\"\",'H01 HC10'!M9)","v":"LK_C"},{"$f":"IF('H01 HC10'!N9=\"\",\"\",'H01 HC10'!N9)","v":"DN150"},{"$f":"IF('H01 HC10'!O9=\"\",\"\",'H01 HC10'!O9)","v":"LK_C_DN150"},{"$f":"IF('H01 HC10'!P9=\"\",\"\",'H01 HC10'!P9)","v":""},{"$f":"IF('H01 HC10'!Q9=\"\",\"\",'H01 HC10'!Q9)","v":""},{"$f":"IF('H01 HC10'!R9=\"\",\"\",'H01 HC10'!R9)","v":""},{"$f":"IF('H01 HC10'!S9=\"\",\"\",'H01 HC10'!S9)","v":""},{"$f":"IF('H01 HC10'!T9=\"\",\"\",'H01 HC10'!T9)","v":""}]
[null,{"$f":"IF('H01 HC10'!B10=\"\",\"\",'H01 HC10'!B10)","v":"H01"},{"$f":"IF('H01 HC10'!C10=\"\",\"\",'H01 HC10'!C10)","v":"HC10"},{"$f":"IF('H01 HC10'!D10=\"\",\"\",'H01 HC10'!D10)","v":"RCL"},null,null,null,null,null,{"$f":"IF('H01 HC10'!E10=\"\",\"\",'H01 HC10'!E10)","v":"02"},{"$f":"IF('H01 HC10'!F10=\"\",\"\",'H01 HC10'!F10)","v":"=H01:HC10:RCL02"},{"$f":"IF('H01 HC10'!G10=\"\",\"\",'H01 HC10'!G10)","v":""},{"$f":"IF('H01 HC10'!H10=\"\",\"\",'H01 HC10'!H10)","v":""},{"$f":"IF('H01 HC10'!I10=\"\",\"\",'H01 HC10'!I10)","v":""},null,null,{"$f":"IF('H01 HC10'!K10=\"\",\"\",'H01 HC10'!K10)","v":""},{"$f":"IF('H01 HC10'!L10=\"\",\"\",'H01 HC10'!L10)","v":"VIRA"},{"$f":"IF('H01 HC10'!M10=\"\",\"\",'H01 HC10'!M10)","v":"LK_C"},{"$f":"IF('H01 HC10'!N10=\"\",\"\",'H01 HC10'!N10)","v":"DN150"},{"$f":"IF('H01 HC10'!O10=\"\",\"\",'H01 HC10'!O10)","v":"LK_C_DN150"},{"$f":"IF('H01 HC10'!P10=\"\",\"\",'H01 HC10'!P10)","v":""},{"$f":"IF('H01 HC10'!Q10=\"\",\"\",'H01 HC10'!Q10)","v":""},{"$f":"IF('H01 HC10'!R10=\"\",\"\",'H01 HC10'!R10)","v":""},{"$f":"IF('H01 HC10'!S10=\"\",\"\",'H01 HC10'!S10)","v":""},{"$f":"IF('H01 HC10'!T10=\"\",\"\",'H01 HC10'!T10)","v":""}]
[null,{"$f":"IF('H01 HC10'!B11=\"\",\"\",'H01 HC10'!B11)","v":"H01"},{"$f":"IF('H01 HC10'!C11=\"\",\"\",'H01 HC10'!C11)","v":"HC10"},{"$f":"IF('H01 HC10'!D11=\"\",\"\",'H01 HC10'!D11)","v":"PGD"},null,null,null,null,null,{"$f":"IF('H01 HC10'!E11=\"\",\"\",'H01 HC10'!E11)","v":"300"},{"$f":"IF('H01 HC10'!F11=\"\",\"\",'H01 HC10'!F11)","v":"=H01:HC10:PGD300"},{"$f":"IF('H01 HC10'!G11=\"\",\"\",'H01 HC10'!G11)","v":""},{"$f":"IF('H01 HC10'!H11=\"\",\"\",'H01 HC10'!H11)","v":""},{"$f":"IF('H01 HC10'!I11=\"\",\"\",'H01 HC10'!I11)","v":""},null,null,{"$f":"IF('H01 HC10'!K11=\"\",\"\",'H01 HC10'!K11)","v":""},{"$f":"IF('H01 HC10'!L11=\"\",\"\",'H01 HC10'!L11)","v":"Jp industri"},{"$f":"IF('H01 HC10'!M11=\"\",\"\",'H01 HC10'!M11)","v":"0-16 bar"},{"$f":"IF('H01 HC10'!N11=\"\",\"\",'H01 HC10'!N11)","v":"Ø63"},{"$f":"IF('H01 HC10'!O11=\"\",\"\",'H01 HC10'!O11)","v":"kommer"},{"$f":"IF('H01 HC10'!P11=\"\",\"\",'H01 HC10'!P11)","v":""},{"$f":"IF('H01 HC10'!Q11=\"\",\"\",'H01 HC10'!Q11)","v":""},{"$f":"IF('H01 HC10'!R11=\"\",\"\",'H01 HC10'!R11)","v":""},{"$f":"IF('H01 HC10'!S11=\"\",\"\",'H01 HC10'!S11)","v":""},{"$f":"IF('H01 HC10'!T11=\"\",\"\",'H01 HC10'!T11)","v":""}]
[null,{"$f":"IF('H01 HC10'!B12=\"\",\"\",'H01 HC10'!B12)","v":"H01"},{"$f":"IF('H01 HC10'!C12=\"\",\"\",'H01 HC10'!C12)","v":"HC10"},{"$f":"IF('H01 HC10'!D12=\"\",\"\",'H01 HC10'!D12)","v":"QMA"},null,null,null,null,null,{"$f":"IF('H01 HC10'!E12=\"\",\"\",'H01 HC10'!E12)","v":300},{"$f":"IF('H01 HC10'!F12=\"\",\"\",'H01 HC10'!F12)","v":"=H01:HC10:QMA300"},{"$f":"IF('H01 HC10'!G12=\"\",\"\",'H01 HC10'!G12)","v":""},{"$f":"IF('H01 HC10'!H12=\"\",\"\",'H01 HC10'!H12)","v":""},{"$f":"IF('H01 HC10'!I12=\"\",\"\",'H01 HC10'!I12)","v":""},null,null,{"$f":"IF('H01 HC10'!K12=\"\",\"\",'H01 HC10'!K12)","v":""},{"$f":"IF('H01 HC10'!L12=\"\",\"\",'H01 HC10'!L12)","v":"Sanistål"},{"$f":"IF('H01 HC10'!M12=\"\",\"\",'H01 HC10'!M12)","v":"CIM6 M/M"},{"$f":"IF('H01 HC10'!N12=\"\",\"\",'H01 HC10'!N12)","v":"1/2\""},{"$f":"IF('H01 HC10'!O12=\"\",\"\",'H01 HC10'!O12)","v":904805},{"$f":"IF('H01 HC10'!P12=\"\",\"\",'H01 HC10'!P12)","v":""},{"$f":"IF('H01 HC10'!Q12=\"\",\"\",'H01 HC10'!Q12)","v":""},{"$f":"IF('H01 HC10'!R12=\"\",\"\",'H01 HC10'!R12)","v":""},{"$f":"IF('H01 HC10'!S12=\"\",\"\",'H01 HC10'!S12)","v":""},{"$f":"IF('H01 HC10'!T12=\"\",\"\",'H01 HC10'!T12)","v":""}]
[null,{"$f":"IF('H01 HC10'!B13=\"\",\"\",'H01 HC10'!B13)","v":"H01"},{"$f":"IF('H01 HC10'!C13=\"\",\"\",'H01 HC10'!C13)","v":"HC10"},{"$f":"IF('H01 HC10'!D13=\"\",\"\",'H01 HC10'!D13)","v":"PGD"},null,null,null,null,null,{"$f":"IF('H01 HC10'!E13=\"\",\"\",'H01 HC10'!E13)","v":"301"},{"$f":"IF('H01 HC10'!F13=\"\",\"\",'H01 HC10'!F13)","v":"=H01:HC10:PGD301"},{"$f":"IF('H01 HC10'!G13=\"\",\"\",'H01 HC10'!G13)","v":""},{"$f":"IF('H01 HC10'!H13=\"\",\"\",'H01 HC10'!H13)","v":""},{"$f":"IF('H01 HC10'!I13=\"\",\"\",'H01 HC10'!I13)","v":""},null,null,{"$f":"IF('H01 HC10'!K13=\"\",\"\",'H01 HC10'!K13)","v":""},{"$f":"IF('H01 HC10'!L13=\"\",\"\",'H01 HC10'!L13)","v":"Jp industri"},{"$f":"IF('H01 HC10'!M13=\"\",\"\",'H01 HC10'!M13)","v":"0-6 bar"},{"$f":"IF('H01 HC10'!N13=\"\",\"\",'H01 HC10'!N13)","v":"Ø63"},{"$f":"IF('H01 HC10'!O13=\"\",\"\",'H01 HC10'!O13)","v":"kommer"},{"$f":"IF('H01 HC10'!P13=\"\",\"\",'H01 HC10'!P13)","v":""},{"$f":"IF('H01 HC10'!Q13=\"\",\"\",'H01 HC10'!Q13)","v":""},{"$f":"IF('H01 HC10'!R13=\"\",\"\",'H01 HC10'!R13)","v":""},{"$f":"IF('H01 HC10'!S13=\"\",\"\",'H01 HC10'!S13)","v":""},{"$f":"IF('H01 HC10'!T13=\"\",\"\",'H01 HC10'!T13)","v":""}]
[null,{"$f":"IF('H01 HC10'!B14=\"\",\"\",'H01 HC10'!B14)","v":"H01"},{"$f":"IF('H01 HC10'!C14=\"\",\"\",'H01 HC10'!C14)","v":"HC10"},{"$f":"IF('H01 HC10'!D14=\"\",\"\",'H01 HC10'!D14)","v":"QMA"},null,null,null,null,null,{"$f":"IF('H01 HC10'!E14=\"\",\"\",'H01 HC10'!E14)","v":"301"},{"$f":"IF('H01 HC10'!F14=\"\",\"\",'H01 HC10'!F14)","v":"=H01:HC10:QMA301"},{"$f":"IF('H01 HC10'!G14=\"\",\"\",'H01 HC10'!G14)","v":""},{"$f":"IF('H01 HC10'!H14=\"\",\"\",'H01 HC10'!H14)","v":""},{"$f":"IF('H01 HC10'!I14=\"\",\"\",'H01 HC10'!I14)","v":""},null,null,{"$f":"IF('H01 HC10'!K14=\"\",\"\",'H01 HC10'!K14)","v":""},{"$f":"IF('H01 HC10'!L14=\"\",\"\",'H01 HC10'!L14)","v":"Sanistål"},{"$f":"IF('H01 HC10'!M14=\"\",\"\",'H01 HC10'!M14)","v":"CIM6 M/M"},{"$f":"IF('H01 HC10'!N14=\"\",\"\",'H01 HC10'!N14)","v":"1/2\""},{"$f":"IF('H01 HC10'!O14=\"\",\"\",'H01 HC10'!O14)","v":904805},{"$f":"IF('H01 HC10'!P14=\"\",\"\",'H01 HC10'!P14)","v":""},{"$f":"IF('H01 HC10'!Q14=\"\",\"\",'H01 HC10'!Q14)","v":""},{"$f":"IF('H01 HC10'!R14=\"\",\"\",'H01 HC10'!R14)","v":""},{"$f":"IF('H01 HC10'!S14=\"\",\"\",'H01 HC10'!S14)","v":""},{"$f":"IF('H01 HC10'!T14=\"\",\"\",'H01 HC10'!T14)","v":""}]
[null,{"$f":"IF('H01 HC10'!B15=\"\",\"\",'H01 HC10'!B15)","v":"H01"},{"$f":"IF('H01 HC10'!C15=\"\",\"\",'H01 HC10'!C15)","v":"HC10"},{"$f":"IF('H01 HC10'!D15=\"\",\"\",'H01 HC10'!D15)","v":"PGD"},null,null,null,null,null,{"$f":"IF('H01 HC10'!E15=\"\",\"\",'H01 HC10'!E15)","v":"302"},{"$f":"IF('H01 HC10'!F15=\"\",\"\",'H01 HC10'!F15)","v":"=H01:HC10:PGD302"},{"$f":"IF('H01 HC10'!G15=\"\",\"\",'H01 HC10'!G15)","v":""},{"$f":"IF('H01 HC10'!H15=\"\",\"\",'H01 HC10'!H15)","v":""},{"$f":"IF('H01 HC10'!I15=\"\",\"\",'H01 HC10'!I15)","v":""},null,null,{"$f":"IF('H01 HC10'!K15=\"\",\"\",'H01 HC10'!K15)","v":""},{"$f":"IF('H01 HC10'!L15=\"\",\"\",'H01 HC10'!L15)","v":"Jp industri"},{"$f":"IF('H01 HC10'!M15=\"\",\"\",'H01 HC10'!M15)","v":"0-6 bar"},{"$f":"IF('H01 HC10'!N15=\"\",\"\",'H01 HC10'!N15)","v":"Ø63"},{"$f":"IF('H01 HC10'!O15=\"\",\"\",'H01 HC10'!O15)","v":"kommer"},{"$f":"IF('H01 HC10'!P15=\"\",\"\",'H01 HC10'!P15)","v":""},{"$f":"IF('H01 HC10'!Q15=\"\",\"\",'H01 HC10'!Q15)","v":""},{"$f":"IF('H01 HC10'!R15=\"\",\"\",'H01 HC10'!R15)","v":""},{"$f":"IF('H01 HC10'!S15=\"\",\"\",'H01 HC10'!S15)","v":""},{"$f":"IF('H01 HC10'!T15=\"\",\"\",'H01 HC10'!T15)","v":""}]
[null,{"$f":"IF('H01 HC10'!B16=\"\",\"\",'H01 HC10'!B16)","v":"H01"},{"$f":"IF('H01 HC10'!C16=\"\",\"\",'H01 HC10'!C16)","v":"HC10"},{"$f":"IF('H01 HC10'!D16=\"\",\"\",'H01 HC10'!D16)","v":"QMA"},null,null,null,null,null,{"$f":"IF('H01 HC10'!E16=\"\",\"\",'H01 HC10'!E16)","v":"302"},{"$f":"IF('H01 HC10'!F16=\"\",\"\",'H01 HC10'!F16)","v":"=H01:HC10:QMA302"},{"$f":"IF('H01 HC10'!G16=\"\",\"\",'H01 HC10'!G16)","v":""},{"$f":"IF('H01 HC10'!H16=\"\",\"\",'H01 HC10'!H16)","v":""},{"$f":"IF('H01 HC10'!I16=\"\",\"\",'H01 HC10'!I16)","v":""},null,null,{"$f":"IF('H01 HC10'!K16=\"\",\"\",'H01 HC10'!K16)","v":""},{"$f":"IF('H01 HC10'!L16=\"\",\"\",'H01 HC10'!L16)","v":"Sanistål"},{"$f":"IF('H01 HC10'!M16=\"\",\"\",'H01 HC10'!M16)","v":"CIM6 M/M"},{"$f":"IF('H01 HC10'!N16=\"\",\"\",'H01 HC10'!N16)","v":"1/2\""},{"$f":"IF('H01 HC10'!O16=\"\",\"\",'H01 HC10'!O16)","v":904805},{"$f":"IF('H01 HC10'!P16=\"\",\"\",'H01 HC10'!P16)","v":""},{"$f":"IF('H01 HC10'!Q16=\"\",\"\",'H01 HC10'!Q16)","v":""},{"$f":"IF('H01 HC10'!R16=\"\",\"\",'H01 HC10'!R16)","v":""},{"$f":"IF('H01 HC10'!S16=\"\",\"\",'H01 HC10'!S16)","v":""},{"$f":"IF('H01 HC10'!T16=\"\",\"\",'H01 HC10'!T16)","v":""}]
[null,{"$f":"IF('H01 HC10'!B17=\"\",\"\",'H01 HC10'!B17)","v":"H01"},{"$f":"IF('H01 HC10'!C17=\"\",\"\",'H01 HC10'!C17)","v":"HC10"},{"$f":"IF('H01 HC10'!D17=\"\",\"\",'H01 HC10'!D17)","v":"HQA"},null,null,null,null,null,{"$f":"IF('H01 HC10'!E17=\"\",\"\",'H01 HC10'!E17)","v":"200"},{"$f":"IF('H01 HC10'!F17=\"\",\"\",'H01 HC10'!F17)","v":"=H01:HC10:HQA200"},{"$f":"IF('H01 HC10'!G17=\"\",\"\",'H01 HC10'!G17)","v":""},{"$f":"IF('H01 HC10'!H17=\"\",\"\",'H01 HC10'!H17)","v":""},{"$f":"IF('H01 HC10'!I17=\"\",\"\",'H01 HC10'!I17)","v":""},null,null,{"$f":"IF('H01 HC10'!K17=\"\",\"\",'H01 HC10'!K17)","v":""},{"$f":"IF('H01 HC10'!L17=\"\",\"\",'H01 HC10'!L17)","v":"VIRA"},{"$f":"IF('H01 HC10'!M17=\"\",\"\",'H01 HC10'!M17)","v":"FPT"},{"$f":"IF('H01 HC10'!N17=\"\",\"\",'H01 HC10'!N17)","v":"DN150"},{"$f":"IF('H01 HC10'!O17=\"\",\"\",'H01 HC10'!O17)","v":"FPT_DN150"},{"$f":"IF('H01 HC10'!P17=\"\",\"\",'H01 HC10'!P17)","v":""},{"$f":"IF('H01 HC10'!Q17=\"\",\"\",'H01 HC10'!Q17)","v":""},{"$f":"IF('H01 HC10'!R17=\"\",\"\",'H01 HC10'!R17)","v":""},{"$f":"IF('H01 HC10'!S17=\"\",\"\",'H01 HC10'!S17)","v":""},{"$f":"IF('H01 HC10'!T17=\"\",\"\",'H01 HC10'!T17)","v":""}]
[null,{"$f":"IF('H01 HC10'!B18=\"\",\"\",'H01 HC10'!B18)","v":"H01"},{"$f":"IF('H01 HC10'!C18=\"\",\"\",'H01 HC10'!C18)","v":"HC10"},{"$f":"IF('H01 HC10'!D18=\"\",\"\",'H01 HC10'!D18)","v":"QMA"},null,null,null,null,null,{"$f":"IF('H01 HC10'!E18=\"\",\"\",'H01 HC10'!E18)","v":"200"},{"$f":"IF('H01 HC10'!F18=\"\",\"\",'H01 HC10'!F18)","v":"=H01:HC10:QMA200"},{"$f":"IF('H01 HC10'!G18=\"\",\"\",'H01 HC10'!G18)","v":""},{"$f":"IF('H01 HC10'!H18=\"\",\"\",'H01 HC10'!H18)","v":""},{"$f":"IF('H01 HC10'!I18=\"\",\"\",'H01 HC10'!I18)","v":""},null,null,{"$f":"IF('H01 HC10'!K18=\"\",\"\",'H01 HC10'!K18)","v":""},{"$f":"IF('H01 HC10'!L18=\"\",\"\",'H01 HC10'!L18)","v":"Sanistål"},{"$f":"IF('H01 HC10'!M18=\"\",\"\",'H01 HC10'!M18)","v":"Simplex"},{"$f":"IF('H01 HC10'!N18=\"\",\"\",'H01 HC10'!N18)","v":"1/2\""},{"$f":"IF('H01 HC10'!O18=\"\",\"\",'H01 HC10'!O18)","v":1202415},{"$f":"IF('H01 HC10'!P18=\"\",\"\",'H01 HC10'!P18)","v":""},{"$f":"IF('H01 HC10'!Q18=\"\",\"\",'H01 HC10'!Q18)","v":""},{"$f":"IF('H01 HC10'!R18=\"\",\"\",'H01 HC10'!R18)","v":""},{"$f":"IF('H01 HC10'!S18=\"\",\"\",'H01 HC10'!S18)","v":""},{"$f":"IF('H01 HC10'!T18=\"\",\"\",'H01 HC10'!T18)","v":""}]
[null,{"$f":"IF('H01 HC10'!B19=\"\",\"\",'H01 HC10'!B19)","v":"H01"},{"$f":"IF('H01 HC10'!C19=\"\",\"\",'H01 HC10'!C19)","v":"HC10"},{"$f":"IF('H01 HC10'!D19=\"\",\"\",'H01 HC10'!D19)","v":"GPA"},null,null,null,null,null,{"$f":"IF('H01 HC10'!E19=\"\",\"\",'H01 HC10'!E19)","v":"01"},{"$f":"IF('H01 HC10'!F19=\"\",\"\",'H01 HC10'!F19)","v":"=H01:HC10:GPA01"},{"$f":"IF('H01 HC10'!G19=\"\",\"\",'H01 HC10'!G19)","v":""},{"$f":"IF('H01 HC10'!H19=\"\",\"\",'H01 HC10'!H19)","v":""},{"$f":"IF('H01 HC10'!I19=\"\",\"\",'H01 HC10'!I19)","v":""},null,null,{"$f":"IF('H01 HC10'!K19=\"\",\"\",'H01 HC10'!K19)","v":""},{"$f":"IF('H01 HC10'!L19=\"\",\"\",'H01 HC10'!L19)","v":""},{"$f":"IF('H01 HC10'!M19=\"\",\"\",'H01 HC10'!M19)","v":""},{"$f":"IF('H01 HC10'!N19=\"\",\"\",'H01 HC10'!N19)","v":"DN150"},{"$f":"IF('H01 HC10'!O19=\"\",\"\",'H01 HC10'!O19)","v":""},{"$f":"IF('H01 HC10'!P19=\"\",\"\",'H01 HC10'!P19)","v":""},{"$f":"IF('H01 HC10'!Q19=\"\",\"\",'H01 HC10'!Q19)","v":""},{"$f":"IF('H01 HC10'!R19=\"\",\"\",'H01 HC10'!R19)","v":""},{"$f":"IF('H01 HC10'!S19=\"\",\"\",'H01 HC10'!S19)","v":""},{"$f":"IF('H01 HC10'!T19=\"\",\"\",'H01 HC10'!T19)","v":""}]
[null,{"$f":"IF('H01 HC10'!B20=\"\",\"\",'H01 HC10'!B20)","v":""},{"$f":"IF('H01 HC10'!C20=\"\",\"\",'H01 HC10'!C20)","v":""},{"$f":"IF('H01 HC10'!D20=\"\",\"\",'H01 HC10'!D20)","v":""},null,null,null,null,null,{"$f":"IF('H01 HC10'!E20=\"\",\"\",'H01 HC10'!E20)","v":""},{"$f":"IF('H01 HC10'!F20=\"\",\"\",'H01 HC10'!F20)","v":""},{"$f":"IF('H01 HC10'!G20=\"\",\"\",'H01 HC10'!G20)","v":""},{"$f":"IF('H01 HC10'!H20=\"\",\"\",'H01 HC10'!H20)","v":""},{"$f":"IF('H01 HC10'!I20=\"\",\"\",'H01 HC10'!I20)","v":""},{"$f":"IF('H01 HC10'!J20=\"\",\"\",'H01 HC10'!J20)","v":""},{"$f":"IF(D928=\"\",\"\",VLOOKUP(D928,#REF!,3,0))","v":""},{"$f":"IF('H01 HC10'!K20=\"\",\"\",'H01 HC10'!K20)","v":""},{"$f":"IF('H01 HC10'!L20=\"\",\"\",'H01 HC10'!L20)","v":""},{"$f":"IF('H01 HC10'!M20=\"\",\"\",'H01 HC10'!M20)","v":""},{"$f":"IF('H01 HC10'!N20=\"\",\"\",'H01 HC10'!N20)","v":""},{"$f":"IF('H01 HC10'!O20=\"\",\"\",'H01 HC10'!O20)","v":""},{"$f":"IF('H01 HC10'!P20=\"\",\"\",'H01 HC10'!P20)","v":""},{"$f":"IF('H01 HC10'!Q20=\"\",\"\",'H01 HC10'!Q20)","v":""},{"$f":"IF('H01 HC10'!R20=\"\",\"\",'H01 HC10'!R20)","v":""},{"$f":"IF('H01 HC10'!S20=\"\",\"\",'H01 HC10'!S20)","v":""},{"$f":"IF('H01 HC10'!T20=\"\",\"\",'H01 HC10'!T20)","v":""}]
[null,{"$f":"IF('H01 HC10'!B21=\"\",\"\",'H01 HC10'!B21)","v":""},{"$f":"IF('H01 HC10'!C21=\"\",\"\",'H01 HC10'!C21)","v":""},{"$f":"IF('H01 HC10'!D21=\"\",\"\",'H01 HC10'!D21)","v":""},null,null,null,null,null,{"$f":"IF('H01 HC10'!E21=\"\",\"\",'H01 HC10'!E21)","v":""},{"$f":"IF('H01 HC10'!F21=\"\",\"\",'H01 HC10'!F21)","v":""},{"$f":"IF('H01 HC10'!G21=\"\",\"\",'H01 HC10'!G21)","v":""},{"$f":"IF('H01 HC10'!H21=\"\",\"\",'H01 HC10'!H21)","v":""},{"$f":"IF('H01 HC10'!I21=\"\",\"\",'H01 HC10'!I21)","v":""},{"$f":"IF('H01 HC10'!J21=\"\",\"\",'H01 HC10'!J21)","v":""},{"$f":"IF(D929=\"\",\"\",VLOOKUP(D929,#REF!,3,0))","v":""},{"$f":"IF('H01 HC10'!K21=\"\",\"\",'H01 HC10'!K21)","v":""},{"$f":"IF('H01 HC10'!L21=\"\",\"\",'H01 HC10'!L21)","v":""},{"$f":"IF('H01 HC10'!M21=\"\",\"\",'H01 HC10'!M21)","v":""},{"$f":"IF('H01 HC10'!N21=\"\",\"\",'H01 HC10'!N21)","v":""},{"$f":"IF('H01 HC10'!O21=\"\",\"\",'H01 HC10'!O21)","v":""},{"$f":"IF('H01 HC10'!P21=\"\",\"\",'H01 HC10'!P21)","v":""},{"$f":"IF('H01 HC10'!Q21=\"\",\"\",'H01 HC10'!Q21)","v":""},{"$f":"IF('H01 HC10'!R21=\"\",\"\",'H01 HC10'!R21)","v":""},{"$f":"IF('H01 HC10'!S21=\"\",\"\",'H01 HC10'!S21)","v":""},{"$f":"IF('H01 HC10'!T21=\"\",\"\",'H01 HC10'!T21)","v":""}]
[null,{"$f":"IF('H01 HC10'!B22=\"\",\"\",'H01 HC10'!B22)","v":""},{"$f":"IF('H01 HC10'!C22=\"\",\"\",'H01 HC10'!C22)","v":""},{"$f":"IF('H01 HC10'!D22=\"\",\"\",'H01 HC10'!D22)","v":""},null,null,null,null,null,{"$f":"IF('H01 HC10'!E22=\"\",\"\",'H01 HC10'!E22)","v":""},{"$f":"IF('H01 HC10'!F22=\"\",\"\",'H01 HC10'!F22)","v":""},{"$f":"IF('H01 HC10'!G22=\"\",\"\",'H01 HC10'!G22)","v":""},{"$f":"IF('H01 HC10'!H22=\"\",\"\",'H01 HC10'!H22)","v":""},{"$f":"IF('H01 HC10'!I22=\"\",\"\",'H01 HC10'!I22)","v":""},{"$f":"IF('H01 HC10'!J22=\"\",\"\",'H01 HC10'!J22)","v":""},{"$f":"IF(D930=\"\",\"\",VLOOKUP(D930,#REF!,3,0))","v":""},{"$f":"IF('H01 HC10'!K22=\"\",\"\",'H01 HC10'!K22)","v":""},{"$f":"IF('H01 HC10'!L22=\"\",\"\",'H01 HC10'!L22)","v":""},{"$f":"IF('H01 HC10'!M22=\"\",\"\",'H01 HC10'!M22)","v":""},{"$f":"IF('H01 HC10'!N22=\"\",\"\",'H01 HC10'!N22)","v":""},{"$f":"IF('H01 HC10'!O22=\"\",\"\",'H01 HC10'!O22)","v":""},{"$f":"IF('H01 HC10'!P22=\"\",\"\",'H01 HC10'!P22)","v":""},{"$f":"IF('H01 HC10'!Q22=\"\",\"\",'H01 HC10'!Q22)","v":""},{"$f":"IF('H01 HC10'!R22=\"\",\"\",'H01 HC10'!R22)","v":""},{"$f":"IF('H01 HC10'!S22=\"\",\"\",'H01 HC10'!S22)","v":""},{"$f":"IF('H01 HC10'!T22=\"\",\"\",'H01 HC10'!T22)","v":""}]
[null,{"$f":"IF('H01 HC10'!B23=\"\",\"\",'H01 HC10'!B23)","v":""},{"$f":"IF('H01 HC10'!C23=\"\",\"\",'H01 HC10'!C23)","v":""},{"$f":"IF('H01 HC10'!D23=\"\",\"\",'H01 HC10'!D23)","v":""},null,null,null,null,null,{"$f":"IF('H01 HC10'!E23=\"\",\"\",'H01 HC10'!E23)","v":""},{"$f":"IF('H01 HC10'!F23=\"\",\"\",'H01 HC10'!F23)","v":""},{"$f":"IF('H01 HC10'!G23=\"\",\"\",'H01 HC10'!G23)","v":""},{"$f":"IF('H01 HC10'!H23=\"\",\"\",'H01 HC10'!H23)","v":""},{"$f":"IF('H01 HC10'!I23=\"\",\"\",'H01 HC10'!I23)","v":""},{"$f":"IF('H01 HC10'!J23=\"\",\"\",'H01 HC10'!J23)","v":""},{"$f":"IF(D931=\"\",\"\",VLOOKUP(D931,#REF!,3,0))","v":""},{"$f":"IF('H01 HC10'!K23=\"\",\"\",'H01 HC10'!K23)","v":""},{"$f":"IF('H01 HC10'!L23=\"\",\"\",'H01 HC10'!L23)","v":""},{"$f":"IF('H01 HC10'!M23=\"\",\"\",'H01 HC10'!M23)","v":""},{"$f":"IF('H01 HC10'!N23=\"\",\"\",'H01 HC10'!N23)","v":""},{"$f":"IF('H01 HC10'!O23=\"\",\"\",'H01 HC10'!O23)","v":""},{"$f":"IF('H01 HC10'!P23=\"\",\"\",'H01 HC10'!P23)","v":""},{"$f":"IF('H01 HC10'!Q23=\"\",\"\",'H01 HC10'!Q23)","v":""},{"$f":"IF('H01 HC10'!R23=\"\",\"\",'H01 HC10'!R23)","v":""},{"$f":"IF('H01 HC10'!S23=\"\",\"\",'H01 HC10'!S23)","v":""},{"$f":"IF('H01 HC10'!T23=\"\",\"\",'H01 HC10'!T23)","v":""}]
[null,{"$f":"IF('H01 HC10'!B24=\"\",\"\",'H01 HC10'!B24)","v":""},{"$f":"IF('H01 HC10'!C24=\"\",\"\",'H01 HC10'!C24)","v":""},{"$f":"IF('H01 HC10'!D24=\"\",\"\",'H01 HC10'!D24)","v":""},null,null,null,null,null,{"$f":"IF('H01 HC10'!E24=\"\",\"\",'H01 HC10'!E24)","v":""},{"$f":"IF('H01 HC10'!F24=\"\",\"\",'H01 HC10'!F24)","v":""},{"$f":"IF('H01 HC10'!G24=\"\",\"\",'H01 HC10'!G24)","v":""},{"$f":"IF('H01 HC10'!H24=\"\",\"\",'H01 HC10'!H24)","v":""},{"$f":"IF('H01 HC10'!I24=\"\",\"\",'H01 HC10'!I24)","v":""},{"$f":"IF('H01 HC10'!J24=\"\",\"\",'H01 HC10'!J24)","v":""},{"$f":"IF(D932=\"\",\"\",VLOOKUP(D932,#REF!,3,0))","v":""},{"$f":"IF('H01 HC10'!K24=\"\",\"\",'H01 HC10'!K24)","v":""},{"$f":"IF('H01 HC10'!L24=\"\",\"\",'H01 HC10'!L24)","v":""},{"$f":"IF('H01 HC10'!M24=\"\",\"\",'H01 HC10'!M24)","v":""},{"$f":"IF('H01 HC10'!N24=\"\",\"\",'H01 HC10'!N24)","v":""},{"$f":"IF('H01 HC10'!O24=\"\",\"\",'H01 HC10'!O24)","v":""},{"$f":"IF('H01 HC10'!P24=\"\",\"\",'H01 HC10'!P24)","v":""},{"$f":"IF('H01 HC10'!Q24=\"\",\"\",'H01 HC10'!Q24)","v":""},{"$f":"IF('H01 HC10'!R24=\"\",\"\",'H01 HC10'!R24)","v":""},{"$f":"IF('H01 HC10'!S24=\"\",\"\",'H01 HC10'!S24)","v":""},{"$f":"IF('H01 HC10'!T24=\"\",\"\",'H01 HC10'!T24)","v":""}]
[null,{"$f":"IF('H01 HC10'!B25=\"\",\"\",'H01 HC10'!B25)","v":""},{"$f":"IF('H01 HC10'!C25=\"\",\"\",'H01 HC10'!C25)","v":""},{"$f":"IF('H01 HC10'!D25=\"\",\"\",'H01 HC10'!D25)","v":""},null,null,null,null,null,{"$f":"IF('H01 HC10'!E25=\"\",\"\",'H01 HC10'!E25)","v":""},{"$f":"IF('H01 HC10'!F25=\"\",\"\",'H01 HC10'!F25)","v":""},{"$f":"IF('H01 HC10'!G25=\"\",\"\",'H01 HC10'!G25)","v":""},{"$f":"IF('H01 HC10'!H25=\"\",\"\",'H01 HC10'!H25)","v":""},{"$f":"IF('H01 HC10'!I25=\"\",\"\",'H01 HC10'!I25)","v":""},{"$f":"IF('H01 HC10'!J25=\"\",\"\",'H01 HC10'!J25)","v":""},{"$f":"IF(D933=\"\",\"\",VLOOKUP(D933,#REF!,3,0))","v":""},{"$f":"IF('H01 HC10'!K25=\"\",\"\",'H01 HC10'!K25)","v":""},{"$f":"IF('H01 HC10'!L25=\"\",\"\",'H01 HC10'!L25)","v":""},{"$f":"IF('H01 HC10'!M25=\"\",\"\",'H01 HC10'!M25)","v":""},{"$f":"IF('H01 HC10'!N25=\"\",\"\",'H01 HC10'!N25)","v":""},{"$f":"IF('H01 HC10'!O25=\"\",\"\",'H01 HC10'!O25)","v":""},{"$f":"IF('H01 HC10'!P25=\"\",\"\",'H01 HC10'!P25)","v":""},{"$f":"IF('H01 HC10'!Q25=\"\",\"\",'H01 HC10'!Q25)","v":""},{"$f":"IF('H01 HC10'!R25=\"\",\"\",'H01 HC10'!R25)","v":""},{"$f":"IF('H01 HC10'!S25=\"\",\"\",'H01 HC10'!S25)","v":""},{"$f":"IF('H01 HC10'!T25=\"\",\"\",'H01 HC10'!T25)","v":""}]
[null,{"$f":"IF('H01 HC10'!B26=\"\",\"\",'H01 HC10'!B26)","v":""},{"$f":"IF('H01 HC10'!C26=\"\",\"\",'H01 HC10'!C26)","v":""},{"$f":"IF('H01 HC10'!D26=\"\",\"\",'H01 HC10'!D26)","v":""},null,null,null,null,null,{"$f":"IF('H01 HC10'!E26=\"\",\"\",'H01 HC10'!E26)","v":""},{"$f":"IF('H01 HC10'!F26=\"\",\"\",'H01 HC10'!F26)","v":""},{"$f":"IF('H01 HC10'!G26=\"\",\"\",'H01 HC10'!G26)","v":""},{"$f":"IF('H01 HC10'!H26=\"\",\"\",'H01 HC10'!H26)","v":""},{"$f":"IF('H01 HC10'!I26=\"\",\"\",'H01 HC10'!I26)","v":""},{"$f":"IF('H01 HC10'!J26=\"\",\"\",'H01 HC10'!J26)","v":""},{"$f":"IF(D934=\"\",\"\",VLOOKUP(D934,#REF!,3,0))","v":""},{"$f":"IF('H01 HC10'!K26=\"\",\"\",'H01 HC10'!K26)","v":""},{"$f":"IF('H01 HC10'!L26=\"\",\"\",'H01 HC10'!L26)","v":""},{"$f":"IF('H01 HC10'!M26=\"\",\"\",'H01 HC10'!M26)","v":""},{"$f":"IF('H01 HC10'!N26=\"\",\"\",'H01 HC10'!N26)","v":""},{"$f":"IF('H01 HC10'!O26=\"\",\"\",'H01 HC10'!O26)","v":""},{"$f":"IF('H01 HC10'!P26=\"\",\"\",'H01 HC10'!P26)","v":""},{"$f":"IF('H01 HC10'!Q26=\"\",\"\",'H01 HC10'!Q26)","v":""},{"$f":"IF('H01 HC10'!R26=\"\",\"\",'H01 HC10'!R26)","v":""},{"$f":"IF('H01 HC10'!S26=\"\",\"\",'H01 HC10'!S26)","v":""},{"$f":"IF('H01 HC10'!T26=\"\",\"\",'H01 HC10'!T26)","v":""}]
[null,{"$f":"IF('H01 HC10'!B27=\"\",\"\",'H01 HC10'!B27)","v":""},{"$f":"IF('H01 HC10'!C27=\"\",\"\",'H01 HC10'!C27)","v":""},{"$f":"IF('H01 HC10'!D27=\"\",\"\",'H01 HC10'!D27)","v":""},null,null,null,null,null,{"$f":"IF('H01 HC10'!E27=\"\",\"\",'H01 HC10'!E27)","v":""},{"$f":"IF('H01 HC10'!F27=\"\",\"\",'H01 HC10'!F27)","v":""},{"$f":"IF('H01 HC10'!G27=\"\",\"\",'H01 HC10'!G27)","v":""},{"$f":"IF('H01 HC10'!H27=\"\",\"\",'H01 HC10'!H27)","v":""},{"$f":"IF('H01 HC10'!I27=\"\",\"\",'H01 HC10'!I27)","v":""},{"$f":"IF('H01 HC10'!J27=\"\",\"\",'H01 HC10'!J27)","v":""},{"$f":"IF(D935=\"\",\"\",VLOOKUP(D935,#REF!,3,0))","v":""},{"$f":"IF('H01 HC10'!K27=\"\",\"\",'H01 HC10'!K27)","v":""},{"$f":"IF('H01 HC10'!L27=\"\",\"\",'H01 HC10'!L27)","v":""},{"$f":"IF('H01 HC10'!M27=\"\",\"\",'H01 HC10'!M27)","v":""},{"$f":"IF('H01 HC10'!N27=\"\",\"\",'H01 HC10'!N27)","v":""},{"$f":"IF('H01 HC10'!O27=\"\",\"\",'H01 HC10'!O27)","v":""},{"$f":"IF('H01 HC10'!P27=\"\",\"\",'H01 HC10'!P27)","v":""},{"$f":"IF('H01 HC10'!Q27=\"\",\"\",'H01 HC10'!Q27)","v":""},{"$f":"IF('H01 HC10'!R27=\"\",\"\",'H01 HC10'!R27)","v":""},{"$f":"IF('H01 HC10'!S27=\"\",\"\",'H01 HC10'!S27)","v":""},{"$f":"IF('H01 HC10'!T27=\"\",\"\",'H01 HC10'!T27)","v":""}]
[null,{"$f":"IF('H01 HC10'!B28=\"\",\"\",'H01 HC10'!B28)","v":""},{"$f":"IF('H01 HC10'!C28=\"\",\"\",'H01 HC10'!C28)","v":""},{"$f":"IF('H01 HC10'!D28=\"\",\"\",'H01 HC10'!D28)","v":""},null,null,null,null,null,{"$f":"IF('H01 HC10'!E28=\"\",\"\",'H01 HC10'!E28)","v":""},{"$f":"IF('H01 HC10'!F28=\"\",\"\",'H01 HC10'!F28)","v":""},{"$f":"IF('H01 HC10'!G28=\"\",\"\",'H01 HC10'!G28)","v":""},{"$f":"IF('H01 HC10'!H28=\"\",\"\",'H01 HC10'!H28)","v":""},{"$f":"IF('H01 HC10'!I28=\"\",\"\",'H01 HC10'!I28)","v":""},{"$f":"IF('H01 HC10'!J28=\"\",\"\",'H01 HC10'!J28)","v":""},{"$f":"IF(D936=\"\",\"\",VLOOKUP(D936,#REF!,3,0))","v":""},{"$f":"IF('H01 HC10'!K28=\"\",\"\",'H01 HC10'!K28)","v":""},{"$f":"IF('H01 HC10'!L28=\"\",\"\",'H01 HC10'!L28)","v":""},{"$f":"IF('H01 HC10'!M28=\"\",\"\",'H01 HC10'!M28)","v":""},{"$f":"IF('H01 HC10'!N28=\"\",\"\",'H01 HC10'!N28)","v":""},{"$f":"IF('H01 HC10'!O28=\"\",\"\",'H01 HC10'!O28)","v":""},{"$f":"IF('H01 HC10'!P28=\"\",\"\",'H01 HC10'!P28)","v":""},{"$f":"IF('H01 HC10'!Q28=\"\",\"\",'H01 HC10'!Q28)","v":""},{"$f":"IF('H01 HC10'!R28=\"\",\"\",'H01 HC10'!R28)","v":""},{"$f":"IF('H01 HC10'!S28=\"\",\"\",'H01 HC10'!S28)","v":""},{"$f":"IF('H01 HC10'!T28=\"\",\"\",'H01 HC10'!T28)","v":""}]
[null,{"$f":"IF('H01 HC10'!B29=\"\",\"\",'H01 HC10'!B29)","v":""},{"$f":"IF('H01 HC10'!C29=\"\",\"\",'H01 HC10'!C29)","v":""},{"$f":"IF('H01 HC10'!D29=\"\",\"\",'H01 HC10'!D29)","v":""},null,null,null,null,null,{"$f":"IF('H01 HC10'!E29=\"\",\"\",'H01 HC10'!E29)","v":""},{"$f":"IF('H01 HC10'!F29=\"\",\"\",'H01 HC10'!F29)","v":""},{"$f":"IF('H01 HC10'!G29=\"\",\"\",'H01 HC10'!G29)","v":""},{"$f":"IF('H01 HC10'!H29=\"\",\"\",'H01 HC10'!H29)","v":""},{"$f":"IF('H01 HC10'!I29=\"\",\"\",'H01 HC10'!I29)","v":""},{"$f":"IF('H01 HC10'!J29=\"\",\"\",'H01 HC10'!J29)","v":""},{"$f":"IF(D937=\"\",\"\",VLOOKUP(D937,#REF!,3,0))","v":""},{"$f":"IF('H01 HC10'!K29=\"\",\"\",'H01 HC10'!K29)","v":""},{"$f":"IF('H01 HC10'!L29=\"\",\"\",'H01 HC10'!L29)","v":""},{"$f":"IF('H01 HC10'!M29=\"\",\"\",'H01 HC10'!M29)","v":""},{"$f":"IF('H01 HC10'!N29=\"\",\"\",'H01 HC10'!N29)","v":""},{"$f":"IF('H01 HC10'!O29=\"\",\"\",'H01 HC10'!O29)","v":""},{"$f":"IF('H01 HC10'!P29=\"\",\"\",'H01 HC10'!P29)","v":""},{"$f":"IF('H01 HC10'!Q29=\"\",\"\",'H01 HC10'!Q29)","v":""},{"$f":"IF('H01 HC10'!R29=\"\",\"\",'H01 HC10'!R29)","v":""},{"$f":"IF('H01 HC10'!S29=\"\",\"\",'H01 HC10'!S29)","v":""},{"$f":"IF('H01 HC10'!T29=\"\",\"\",'H01 HC10'!T29)","v":""}]
[null,{"$f":"IF('H01 HC10'!B30=\"\",\"\",'H01 HC10'!B30)","v":""},{"$f":"IF('H01 HC10'!C30=\"\",\"\",'H01 HC10'!C30)","v":""},{"$f":"IF('H01 HC10'!D30=\"\",\"\",'H01 HC10'!D30)","v":""},null,null,null,null,null,{"$f":"IF('H01 HC10'!E30=\"\",\"\",'H01 HC10'!E30)","v":""},{"$f":"IF('H01 HC10'!F30=\"\",\"\",'H01 HC10'!F30)","v":""},{"$f":"IF('H01 HC10'!G30=\"\",\"\",'H01 HC10'!G30)","v":""},{"$f":"IF('H01 HC10'!H30=\"\",\"\",'H01 HC10'!H30)","v":""},{"$f":"IF('H01 HC10'!I30=\"\",\"\",'H01 HC10'!I30)","v":""},{"$f":"IF('H01 HC10'!J30=\"\",\"\",'H01 HC10'!J30)","v":""},{"$f":"IF(D938=\"\",\"\",VLOOKUP(D938,#REF!,3,0))","v":""},{"$f":"IF('H01 HC10'!K30=\"\",\"\",'H01 HC10'!K30)","v":""},{"$f":"IF('H01 HC10'!L30=\"\",\"\",'H01 HC10'!L30)","v":""},{"$f":"IF('H01 HC10'!M30=\"\",\"\",'H01 HC10'!M30)","v":""},{"$f":"IF('H01 HC10'!N30=\"\",\"\",'H01 HC10'!N30)","v":""},{"$f":"IF('H01 HC10'!O30=\"\",\"\",'H01 HC10'!O30)","v":""},{"$f":"IF('H01 HC10'!P30=\"\",\"\",'H01 HC10'!P30)","v":""},{"$f":"IF('H01 HC10'!Q30=\"\",\"\",'H01 HC10'!Q30)","v":""},{"$f":"IF('H01 HC10'!R30=\"\",\"\",'H01 HC10'!R30)","v":""},{"$f":"IF('H01 HC10'!S30=\"\",\"\",'H01 HC10'!S30)","v":""},{"$f":"IF('H01 HC10'!T30=\"\",\"\",'H01 HC10'!T30)","v":""}]
[null,{"$f":"IF('H01 HC10'!B31=\"\",\"\",'H01 HC10'!B31)","v":""},{"$f":"IF('H01 HC10'!C31=\"\",\"\",'H01 HC10'!C31)","v":""},{"$f":"IF('H01 HC10'!D31=\"\",\"\",'H01 HC10'!D31)","v":""},null,null,null,null,null,{"$f":"IF('H01 HC10'!E31=\"\",\"\",'H01 HC10'!E31)","v":""},{"$f":"IF('H01 HC10'!F31=\"\",\"\",'H01 HC10'!F31)","v":""},{"$f":"IF('H01 HC10'!G31=\"\",\"\",'H01 HC10'!G31)","v":""},{"$f":"IF('H01 HC10'!H31=\"\",\"\",'H01 HC10'!H31)","v":""},{"$f":"IF('H01 HC10'!I31=\"\",\"\",'H01 HC10'!I31)","v":""},{"$f":"IF('H01 HC10'!J31=\"\",\"\",'H01 HC10'!J31)","v":""},{"$f":"IF(D939=\"\",\"\",VLOOKUP(D939,#REF!,3,0))","v":""},{"$f":"IF('H01 HC10'!K31=\"\",\"\",'H01 HC10'!K31)","v":""},{"$f":"IF('H01 HC10'!L31=\"\",\"\",'H01 HC10'!L31)","v":""},{"$f":"IF('H01 HC10'!M31=\"\",\"\",'H01 HC10'!M31)","v":""},{"$f":"IF('H01 HC10'!N31=\"\",\"\",'H01 HC10'!N31)","v":""},{"$f":"IF('H01 HC10'!O31=\"\",\"\",'H01 HC10'!O31)","v":""},{"$f":"IF('H01 HC10'!P31=\"\",\"\",'H01 HC10'!P31)","v":""},{"$f":"IF('H01 HC10'!Q31=\"\",\"\",'H01 HC10'!Q31)","v":""},{"$f":"IF('H01 HC10'!R31=\"\",\"\",'H01 HC10'!R31)","v":""},{"$f":"IF('H01 HC10'!S31=\"\",\"\",'H01 HC10'!S31)","v":""},{"$f":"IF('H01 HC10'!T31=\"\",\"\",'H01 HC10'!T31)","v":""}]
[null,{"$f":"IF('H01 HC10'!B32=\"\",\"\",'H01 HC10'!B32)","v":""},{"$f":"IF('H01 HC10'!C32=\"\",\"\",'H01 HC10'!C32)","v":""},{"$f":"IF('H01 HC10'!D32=\"\",\"\",'H01 HC10'!D32)","v":""},null,null,null,null,null,{"$f":"IF('H01 HC10'!E32=\"\",\"\",'H01 HC10'!E32)","v":""},{"$f":"IF('H01 HC10'!F32=\"\",\"\",'H01 HC10'!F32)","v":""},{"$f":"IF('H01 HC10'!G32=\"\",\"\",'H01 HC10'!G32)","v":""},{"$f":"IF('H01 HC10'!H32=\"\",\"\",'H01 HC10'!H32)","v":""},{"$f":"IF('H01 HC10'!I32=\"\",\"\",'H01 HC10'!I32)","v":""},{"$f":"IF('H01 HC10'!J32=\"\",\"\",'H01 HC10'!J32)","v":""},{"$f":"IF(D940=\"\",\"\",VLOOKUP(D940,#REF!,3,0))","v":""},{"$f":"IF('H01 HC10'!K32=\"\",\"\",'H01 HC10'!K32)","v":""},{"$f":"IF('H01 HC10'!L32=\"\",\"\",'H01 HC10'!L32)","v":""},{"$f":"IF('H01 HC10'!M32=\"\",\"\",'H01 HC10'!M32)","v":""},{"$f":"IF('H01 HC10'!N32=\"\",\"\",'H01 HC10'!N32)","v":""},{"$f":"IF('H01 HC10'!O32=\"\",\"\",'H01 HC10'!O32)","v":""},{"$f":"IF('H01 HC10'!P32=\"\",\"\",'H01 HC10'!P32)","v":""},{"$f":"IF('H01 HC10'!Q32=\"\",\"\",'H01 HC10'!Q32)","v":""},{"$f":"IF('H01 HC10'!R32=\"\",\"\",'H01 HC10'!R32)","v":""},{"$f":"IF('H01 HC10'!S32=\"\",\"\",'H01 HC10'!S32)","v":""},{"$f":"IF('H01 HC10'!T32=\"\",\"\",'H01 HC10'!T32)","v":""}]
[null,{"$f":"IF('H01 HC10'!B33=\"\",\"\",'H01 HC10'!B33)","v":""},{"$f":"IF('H01 HC10'!C33=\"\",\"\",'H01 HC10'!C33)","v":""},{"$f":"IF('H01 HC10'!D33=\"\",\"\",'H01 HC10'!D33)","v":""},null,null,null,null,null,{"$f":"IF('H01 HC10'!E33=\"\",\"\",'H01 HC10'!E33)","v":""},{"$f":"IF('H01 HC10'!F33=\"\",\"\",'H01 HC10'!F33)","v":""},{"$f":"IF('H01 HC10'!G33=\"\",\"\",'H01 HC10'!G33)","v":""},{"$f":"IF('H01 HC10'!H33=\"\",\"\",'H01 HC10'!H33)","v":""},{"$f":"IF('H01 HC10'!I33=\"\",\"\",'H01 HC10'!I33)","v":""},{"$f":"IF('H01 HC10'!J33=\"\",\"\",'H01 HC10'!J33)","v":""},{"$f":"IF(D941=\"\",\"\",VLOOKUP(D941,#REF!,3,0))","v":""},{"$f":"IF('H01 HC10'!K33=\"\",\"\",'H01 HC10'!K33)","v":""},{"$f":"IF('H01 HC10'!L33=\"\",\"\",'H01 HC10'!L33)","v":""},{"$f":"IF('H01 HC10'!M33=\"\",\"\",'H01 HC10'!M33)","v":""},{"$f":"IF('H01 HC10'!N33=\"\",\"\",'H01 HC10'!N33)","v":""},{"$f":"IF('H01 HC10'!O33=\"\",\"\",'H01 HC10'!O33)","v":""},{"$f":"IF('H01 HC10'!P33=\"\",\"\",'H01 HC10'!P33)","v":""},{"$f":"IF('H01 HC10'!Q33=\"\",\"\",'H01 HC10'!Q33)","v":""},{"$f":"IF('H01 HC10'!R33=\"\",\"\",'H01 HC10'!R33)","v":""},{"$f":"IF('H01 HC10'!S33=\"\",\"\",'H01 HC10'!S33)","v":""},{"$f":"IF('H01 HC10'!T33=\"\",\"\",'H01 HC10'!T33)","v":""}]
[null,{"$f":"IF('H01 HC10'!B34=\"\",\"\",'H01 HC10'!B34)","v":""},{"$f":"IF('H01 HC10'!C34=\"\",\"\",'H01 HC10'!C34)","v":""},{"$f":"IF('H01 HC10'!D34=\"\",\"\",'H01 HC10'!D34)","v":""},null,null,null,null,null,{"$f":"IF('H01 HC10'!E34=\"\",\"\",'H01 HC10'!E34)","v":""},{"$f":"IF('H01 HC10'!F34=\"\",\"\",'H01 HC10'!F34)","v":""},{"$f":"IF('H01 HC10'!G34=\"\",\"\",'H01 HC10'!G34)","v":""},{"$f":"IF('H01 HC10'!H34=\"\",\"\",'H01 HC10'!H34)","v":""},{"$f":"IF('H01 HC10'!I34=\"\",\"\",'H01 HC10'!I34)","v":""},{"$f":"IF('H01 HC10'!J34=\"\",\"\",'H01 HC10'!J34)","v":""},{"$f":"IF(D942=\"\",\"\",VLOOKUP(D942,#REF!,3,0))","v":""},{"$f":"IF('H01 HC10'!K34=\"\",\"\",'H01 HC10'!K34)","v":""},{"$f":"IF('H01 HC10'!L34=\"\",\"\",'H01 HC10'!L34)","v":""},{"$f":"IF('H01 HC10'!M34=\"\",\"\",'H01 HC10'!M34)","v":""},{"$f":"IF('H01 HC10'!N34=\"\",\"\",'H01 HC10'!N34)","v":""},{"$f":"IF('H01 HC10'!O34=\"\",\"\",'H01 HC10'!O34)","v":""},{"$f":"IF('H01 HC10'!P34=\"\",\"\",'H01 HC10'!P34)","v":""},{"$f":"IF('H01 HC10'!Q34=\"\",\"\",'H01 HC10'!Q34)","v":""},{"$f":"IF('H01 HC10'!R34=\"\",\"\",'H01 HC10'!R34)","v":""},{"$f":"IF('H01 HC10'!S34=\"\",\"\",'H01 HC10'!S34)","v":""},{"$f":"IF('H01 HC10'!T34=\"\",\"\",'H01 HC10'!T34)","v":""}]
[null,{"$f":"IF('H01 HC10'!B35=\"\",\"\",'H01 HC10'!B35)","v":""},{"$f":"IF('H01 HC10'!C35=\"\",\"\",'H01 HC10'!C35)","v":""},{"$f":"IF('H01 HC10'!D35=\"\",\"\",'H01 HC10'!D35)","v":""},null,null,null,null,null,{"$f":"IF('H01 HC10'!E35=\"\",\"\",'H01 HC10'!E35)","v":""},{"$f":"IF('H01 HC10'!F35=\"\",\"\",'H01 HC10'!F35)","v":""},{"$f":"IF('H01 HC10'!G35=\"\",\"\",'H01 HC10'!G35)","v":""},{"$f":"IF('H01 HC10'!H35=\"\",\"\",'H01 HC10'!H35)","v":""},{"$f":"IF('H01 HC10'!I35=\"\",\"\",'H01 HC10'!I35)","v":""},{"$f":"IF('H01 HC10'!J35=\"\",\"\",'H01 HC10'!J35)","v":""},{"$f":"IF(D943=\"\",\"\",VLOOKUP(D943,#REF!,3,0))","v":""},{"$f":"IF('H01 HC10'!K35=\"\",\"\",'H01 HC10'!K35)","v":""},{"$f":"IF('H01 HC10'!L35=\"\",\"\",'H01 HC10'!L35)","v":""},{"$f":"IF('H01 HC10'!M35=\"\",\"\",'H01 HC10'!M35)","v":""},{"$f":"IF('H01 HC10'!N35=\"\",\"\",'H01 HC10'!N35)","v":""},{"$f":"IF('H01 HC10'!O35=\"\",\"\",'H01 HC10'!O35)","v":""},{"$f":"IF('H01 HC10'!P35=\"\",\"\",'H01 HC10'!P35)","v":""},{"$f":"IF('H01 HC10'!Q35=\"\",\"\",'H01 HC10'!Q35)","v":""},{"$f":"IF('H01 HC10'!R35=\"\",\"\",'H01 HC10'!R35)","v":""},{"$f":"IF('H01 HC10'!S35=\"\",\"\",'H01 HC10'!S35)","v":""},{"$f":"IF('H01 HC10'!T35=\"\",\"\",'H01 HC10'!T35)","v":""}]
[null,{"$f":"IF('H01 HC10'!B36=\"\",\"\",'H01 HC10'!B36)","v":""},{"$f":"IF('H01 HC10'!C36=\"\",\"\",'H01 HC10'!C36)","v":""},{"$f":"IF('H01 HC10'!D36=\"\",\"\",'H01 HC10'!D36)","v":""},null,null,null,null,null,{"$f":"IF('H01 HC10'!E36=\"\",\"\",'H01 HC10'!E36)","v":""},{"$f":"IF('H01 HC10'!F36=\"\",\"\",'H01 HC10'!F36)","v":""},{"$f":"IF('H01 HC10'!G36=\"\",\"\",'H01 HC10'!G36)","v":""},{"$f":"IF('H01 HC10'!H36=\"\",\"\",'H01 HC10'!H36)","v":""},{"$f":"IF('H01 HC10'!I36=\"\",\"\",'H01 HC10'!I36)","v":""},{"$f":"IF('H01 HC10'!J36=\"\",\"\",'H01 HC10'!J36)","v":""},{"$f":"IF(D944=\"\",\"\",VLOOKUP(D944,#REF!,3,0))","v":""},{"$f":"IF('H01 HC10'!K36=\"\",\"\",'H01 HC10'!K36)","v":""},{"$f":"IF('H01 HC10'!L36=\"\",\"\",'H01 HC10'!L36)","v":""},{"$f":"IF('H01 HC10'!M36=\"\",\"\",'H01 HC10'!M36)","v":""},{"$f":"IF('H01 HC10'!N36=\"\",\"\",'H01 HC10'!N36)","v":""},{"$f":"IF('H01 HC10'!O36=\"\",\"\",'H01 HC10'!O36)","v":""},{"$f":"IF('H01 HC10'!P36=\"\",\"\",'H01 HC10'!P36)","v":""},{"$f":"IF('H01 HC10'!Q36=\"\",\"\",'H01 HC10'!Q36)","v":""},{"$f":"IF('H01 HC10'!R36=\"\",\"\",'H01 HC10'!R36)","v":""},{"$f":"IF('H01 HC10'!S36=\"\",\"\",'H01 HC10'!S36)","v":""},{"$f":"IF('H01 HC10'!T36=\"\",\"\",'H01 HC10'!T36)","v":""}]
[null,{"$f":"IF('H01 HC10'!B37=\"\",\"\",'H01 HC10'!B37)","v":""},{"$f":"IF('H01 HC10'!C37=\"\",\"\",'H01 HC10'!C37)","v":""},{"$f":"IF('H01 HC10'!D37=\"\",\"\",'H01 HC10'!D37)","v":""},null,null,null,null,null,{"$f":"IF('H01 HC10'!E37=\"\",\"\",'H01 HC10'!E37)","v":""},{"$f":"IF('H01 HC10'!F37=\"\",\"\",'H01 HC10'!F37)","v":""},{"$f":"IF('H01 HC10'!G37=\"\",\"\",'H01 HC10'!G37)","v":""},{"$f":"IF('H01 HC10'!H37=\"\",\"\",'H01 HC10'!H37)","v":""},{"$f":"IF('H01 HC10'!I37=\"\",\"\",'H01 HC10'!I37)","v":""},{"$f":"IF('H01 HC10'!J37=\"\",\"\",'H01 HC10'!J37)","v":""},{"$f":"IF(D945=\"\",\"\",VLOOKUP(D945,#REF!,3,0))","v":""},{"$f":"IF('H01 HC10'!K37=\"\",\"\",'H01 HC10'!K37)","v":""},{"$f":"IF('H01 HC10'!L37=\"\",\"\",'H01 HC10'!L37)","v":""},{"$f":"IF('H01 HC10'!M37=\"\",\"\",'H01 HC10'!M37)","v":""},{"$f":"IF('H01 HC10'!N37=\"\",\"\",'H01 HC10'!N37)","v":""},{"$f":"IF('H01 HC10'!O37=\"\",\"\",'H01 HC10'!O37)","v":""},{"$f":"IF('H01 HC10'!P37=\"\",\"\",'H01 HC10'!P37)","v":""},{"$f":"IF('H01 HC10'!Q37=\"\",\"\",'H01 HC10'!Q37)","v":""},{"$f":"IF('H01 HC10'!R37=\"\",\"\",'H01 HC10'!R37)","v":""},{"$f":"IF('H01 HC10'!S37=\"\",\"\",'H01 HC10'!S37)","v":""},{"$f":"IF('H01 HC10'!T37=\"\",\"\",'H01 HC10'!T37)","v":""}]
[null,{"$f":"IF('H01 HC10'!B38=\"\",\"\",'H01 HC10'!B38)","v":""},{"$f":"IF('H01 HC10'!C38=\"\",\"\",'H01 HC10'!C38)","v":""},{"$f":"IF('H01 HC10'!D38=\"\",\"\",'H01 HC10'!D38)","v":""},null,null,null,null,null,{"$f":"IF('H01 HC10'!E38=\"\",\"\",'H01 HC10'!E38)","v":""},{"$f":"IF('H01 HC10'!F38=\"\",\"\",'H01 HC10'!F38)","v":""},{"$f":"IF('H01 HC10'!G38=\"\",\"\",'H01 HC10'!G38)","v":""},{"$f":"IF('H01 HC10'!H38=\"\",\"\",'H01 HC10'!H38)","v":""},{"$f":"IF('H01 HC10'!I38=\"\",\"\",'H01 HC10'!I38)","v":""},{"$f":"IF('H01 HC10'!J38=\"\",\"\",'H01 HC10'!J38)","v":""},{"$f":"IF(D946=\"\",\"\",VLOOKUP(D946,#REF!,3,0))","v":""},{"$f":"IF('H01 HC10'!K38=\"\",\"\",'H01 HC10'!K38)","v":""},{"$f":"IF('H01 HC10'!L38=\"\",\"\",'H01 HC10'!L38)","v":""},{"$f":"IF('H01 HC10'!M38=\"\",\"\",'H01 HC10'!M38)","v":""},{"$f":"IF('H01 HC10'!N38=\"\",\"\",'H01 HC10'!N38)","v":""},{"$f":"IF('H01 HC10'!O38=\"\",\"\",'H01 HC10'!O38)","v":""},{"$f":"IF('H01 HC10'!P38=\"\",\"\",'H01 HC10'!P38)","v":""},{"$f":"IF('H01 HC10'!Q38=\"\",\"\",'H01 HC10'!Q38)","v":""},{"$f":"IF('H01 HC10'!R38=\"\",\"\",'H01 HC10'!R38)","v":""},{"$f":"IF('H01 HC10'!S38=\"\",\"\",'H01 HC10'!S38)","v":""},{"$f":"IF('H01 HC10'!T38=\"\",\"\",'H01 HC10'!T38)","v":""}]
[null,{"$f":"IF('H01 HC10'!B39=\"\",\"\",'H01 HC10'!B39)","v":""},{"$f":"IF('H01 HC10'!C39=\"\",\"\",'H01 HC10'!C39)","v":""},{"$f":"IF('H01 HC10'!D39=\"\",\"\",'H01 HC10'!D39)","v":""},null,null,null,null,null,{"$f":"IF('H01 HC10'!E39=\"\",\"\",'H01 HC10'!E39)","v":""},{"$f":"IF('H01 HC10'!F39=\"\",\"\",'H01 HC10'!F39)","v":""},{"$f":"IF('H01 HC10'!G39=\"\",\"\",'H01 HC10'!G39)","v":""},{"$f":"IF('H01 HC10'!H39=\"\",\"\",'H01 HC10'!H39)","v":""},{"$f":"IF('H01 HC10'!I39=\"\",\"\",'H01 HC10'!I39)","v":""},{"$f":"IF('H01 HC10'!J39=\"\",\"\",'H01 HC10'!J39)","v":""},{"$f":"IF(D947=\"\",\"\",VLOOKUP(D947,#REF!,3,0))","v":""},{"$f":"IF('H01 HC10'!K39=\"\",\"\",'H01 HC10'!K39)","v":""},{"$f":"IF('H01 HC10'!L39=\"\",\"\",'H01 HC10'!L39)","v":""},{"$f":"IF('H01 HC10'!M39=\"\",\"\",'H01 HC10'!M39)","v":""},{"$f":"IF('H01 HC10'!N39=\"\",\"\",'H01 HC10'!N39)","v":""},{"$f":"IF('H01 HC10'!O39=\"\",\"\",'H01 HC10'!O39)","v":""},{"$f":"IF('H01 HC10'!P39=\"\",\"\",'H01 HC10'!P39)","v":""},{"$f":"IF('H01 HC10'!Q39=\"\",\"\",'H01 HC10'!Q39)","v":""},{"$f":"IF('H01 HC10'!R39=\"\",\"\",'H01 HC10'!R39)","v":""},{"$f":"IF('H01 HC10'!S39=\"\",\"\",'H01 HC10'!S39)","v":""},{"$f":"IF('H01 HC10'!T39=\"\",\"\",'H01 HC10'!T39)","v":""}]
[null,{"$f":"IF('H01 HC10'!B40=\"\",\"\",'H01 HC10'!B40)","v":""},{"$f":"IF('H01 HC10'!C40=\"\",\"\",'H01 HC10'!C40)","v":""},{"$f":"IF('H01 HC10'!D40=\"\",\"\",'H01 HC10'!D40)","v":""},null,null,null,null,null,{"$f":"IF('H01 HC10'!E40=\"\",\"\",'H01 HC10'!E40)","v":""},{"$f":"IF('H01 HC10'!F40=\"\",\"\",'H01 HC10'!F40)","v":""},{"$f":"IF('H01 HC10'!G40=\"\",\"\",'H01 HC10'!G40)","v":""},{"$f":"IF('H01 HC10'!H40=\"\",\"\",'H01 HC10'!H40)","v":""},{"$f":"IF('H01 HC10'!I40=\"\",\"\",'H01 HC10'!I40)","v":""},{"$f":"IF('H01 HC10'!J40=\"\",\"\",'H01 HC10'!J40)","v":""},{"$f":"IF(D948=\"\",\"\",VLOOKUP(D948,#REF!,3,0))","v":""},{"$f":"IF('H01 HC10'!K40=\"\",\"\",'H01 HC10'!K40)","v":""},{"$f":"IF('H01 HC10'!L40=\"\",\"\",'H01 HC10'!L40)","v":""},{"$f":"IF('H01 HC10'!M40=\"\",\"\",'H01 HC10'!M40)","v":""},{"$f":"IF('H01 HC10'!N40=\"\",\"\",'H01 HC10'!N40)","v":""},{"$f":"IF('H01 HC10'!O40=\"\",\"\",'H01 HC10'!O40)","v":""},{"$f":"IF('H01 HC10'!P40=\"\",\"\",'H01 HC10'!P40)","v":""},{"$f":"IF('H01 HC10'!Q40=\"\",\"\",'H01 HC10'!Q40)","v":""},{"$f":"IF('H01 HC10'!R40=\"\",\"\",'H01 HC10'!R40)","v":""},{"$f":"IF('H01 HC10'!S40=\"\",\"\",'H01 HC10'!S40)","v":""},{"$f":"IF('H01 HC10'!T40=\"\",\"\",'H01 HC10'!T40)","v":""}]
[null,{"$f":"IF('H01 HC10'!B41=\"\",\"\",'H01 HC10'!B41)","v":""},{"$f":"IF('H01 HC10'!C41=\"\",\"\",'H01 HC10'!C41)","v":""},{"$f":"IF('H01 HC10'!D41=\"\",\"\",'H01 HC10'!D41)","v":""},null,null,null,null,null,{"$f":"IF('H01 HC10'!E41=\"\",\"\",'H01 HC10'!E41)","v":""},{"$f":"IF('H01 HC10'!F41=\"\",\"\",'H01 HC10'!F41)","v":""},{"$f":"IF('H01 HC10'!G41=\"\",\"\",'H01 HC10'!G41)","v":""},{"$f":"IF('H01 HC10'!H41=\"\",\"\",'H01 HC10'!H41)","v":""},{"$f":"IF('H01 HC10'!I41=\"\",\"\",'H01 HC10'!I41)","v":""},{"$f":"IF('H01 HC10'!J41=\"\",\"\",'H01 HC10'!J41)","v":""},{"$f":"IF(D949=\"\",\"\",VLOOKUP(D949,#REF!,3,0))","v":""},{"$f":"IF('H01 HC10'!K41=\"\",\"\",'H01 HC10'!K41)","v":""},{"$f":"IF('H01 HC10'!L41=\"\",\"\",'H01 HC10'!L41)","v":""},{"$f":"IF('H01 HC10'!M41=\"\",\"\",'H01 HC10'!M41)","v":""},{"$f":"IF('H01 HC10'!N41=\"\",\"\",'H01 HC10'!N41)","v":""},{"$f":"IF('H01 HC10'!O41=\"\",\"\",'H01 HC10'!O41)","v":""},{"$f":"IF('H01 HC10'!P41=\"\",\"\",'H01 HC10'!P41)","v":""},{"$f":"IF('H01 HC10'!Q41=\"\",\"\",'H01 HC10'!Q41)","v":""},{"$f":"IF('H01 HC10'!R41=\"\",\"\",'H01 HC10'!R41)","v":""},{"$f":"IF('H01 HC10'!S41=\"\",\"\",'H01 HC10'!S41)","v":""},{"$f":"IF('H01 HC10'!T41=\"\",\"\",'H01 HC10'!T41)","v":""}]
[null,{"$f":"IF('H01 HC10'!B42=\"\",\"\",'H01 HC10'!B42)","v":""},{"$f":"IF('H01 HC10'!C42=\"\",\"\",'H01 HC10'!C42)","v":""},{"$f":"IF('H01 HC10'!D42=\"\",\"\",'H01 HC10'!D42)","v":""},null,null,null,null,null,{"$f":"IF('H01 HC10'!E42=\"\",\"\",'H01 HC10'!E42)","v":""},{"$f":"IF('H01 HC10'!F42=\"\",\"\",'H01 HC10'!F42)","v":""},{"$f":"IF('H01 HC10'!G42=\"\",\"\",'H01 HC10'!G42)","v":""},{"$f":"IF('H01 HC10'!H42=\"\",\"\",'H01 HC10'!H42)","v":""},{"$f":"IF('H01 HC10'!I42=\"\",\"\",'H01 HC10'!I42)","v":""},{"$f":"IF('H01 HC10'!J42=\"\",\"\",'H01 HC10'!J42)","v":""},{"$f":"IF(D950=\"\",\"\",VLOOKUP(D950,#REF!,3,0))","v":""},{"$f":"IF('H01 HC10'!K42=\"\",\"\",'H01 HC10'!K42)","v":""},{"$f":"IF('H01 HC10'!L42=\"\",\"\",'H01 HC10'!L42)","v":""},{"$f":"IF('H01 HC10'!M42=\"\",\"\",'H01 HC10'!M42)","v":""},{"$f":"IF('H01 HC10'!N42=\"\",\"\",'H01 HC10'!N42)","v":""},{"$f":"IF('H01 HC10'!O42=\"\",\"\",'H01 HC10'!O42)","v":""},{"$f":"IF('H01 HC10'!P42=\"\",\"\",'H01 HC10'!P42)","v":""},{"$f":"IF('H01 HC10'!Q42=\"\",\"\",'H01 HC10'!Q42)","v":""},{"$f":"IF('H01 HC10'!R42=\"\",\"\",'H01 HC10'!R42)","v":""},{"$f":"IF('H01 HC10'!S42=\"\",\"\",'H01 HC10'!S42)","v":""},{"$f":"IF('H01 HC10'!T42=\"\",\"\",'H01 HC10'!T42)","v":""}]
[null,{"$f":"IF('H01 HC10'!B43=\"\",\"\",'H01 HC10'!B43)","v":""},{"$f":"IF('H01 HC10'!C43=\"\",\"\",'H01 HC10'!C43)","v":""},{"$f":"IF('H01 HC10'!D43=\"\",\"\",'H01 HC10'!D43)","v":""},null,null,null,null,null,{"$f":"IF('H01 HC10'!E43=\"\",\"\",'H01 HC10'!E43)","v":""},{"$f":"IF('H01 HC10'!F43=\"\",\"\",'H01 HC10'!F43)","v":""},{"$f":"IF('H01 HC10'!G43=\"\",\"\",'H01 HC10'!G43)","v":""},{"$f":"IF('H01 HC10'!H43=\"\",\"\",'H01 HC10'!H43)","v":""},{"$f":"IF('H01 HC10'!I43=\"\",\"\",'H01 HC10'!I43)","v":""},{"$f":"IF('H01 HC10'!J43=\"\",\"\",'H01 HC10'!J43)","v":""},{"$f":"IF(D951=\"\",\"\",VLOOKUP(D951,#REF!,3,0))","v":""},{"$f":"IF('H01 HC10'!K43=\"\",\"\",'H01 HC10'!K43)","v":""},{"$f":"IF('H01 HC10'!L43=\"\",\"\",'H01 HC10'!L43)","v":""},{"$f":"IF('H01 HC10'!M43=\"\",\"\",'H01 HC10'!M43)","v":""},{"$f":"IF('H01 HC10'!N43=\"\",\"\",'H01 HC10'!N43)","v":""},{"$f":"IF('H01 HC10'!O43=\"\",\"\",'H01 HC10'!O43)","v":""},{"$f":"IF('H01 HC10'!P43=\"\",\"\",'H01 HC10'!P43)","v":""},{"$f":"IF('H01 HC10'!Q43=\"\",\"\",'H01 HC10'!Q43)","v":""},{"$f":"IF('H01 HC10'!R43=\"\",\"\",'H01 HC10'!R43)","v":""},{"$f":"IF('H01 HC10'!S43=\"\",\"\",'H01 HC10'!S43)","v":""},{"$f":"IF('H01 HC10'!T43=\"\",\"\",'H01 HC10'!T43)","v":""}]
[null,{"$f":"IF('H01 HC10'!B44=\"\",\"\",'H01 HC10'!B44)","v":""},{"$f":"IF('H01 HC10'!C44=\"\",\"\",'H01 HC10'!C44)","v":""},{"$f":"IF('H01 HC10'!D44=\"\",\"\",'H01 HC10'!D44)","v":""},null,null,null,null,null,{"$f":"IF('H01 HC10'!E44=\"\",\"\",'H01 HC10'!E44)","v":""},{"$f":"IF('H01 HC10'!F44=\"\",\"\",'H01 HC10'!F44)","v":""},{"$f":"IF('H01 HC10'!G44=\"\",\"\",'H01 HC10'!G44)","v":""},{"$f":"IF('H01 HC10'!H44=\"\",\"\",'H01 HC10'!H44)","v":""},{"$f":"IF('H01 HC10'!I44=\"\",\"\",'H01 HC10'!I44)","v":""},{"$f":"IF('H01 HC10'!J44=\"\",\"\",'H01 HC10'!J44)","v":""},{"$f":"IF(D952=\"\",\"\",VLOOKUP(D952,#REF!,3,0))","v":""},{"$f":"IF('H01 HC10'!K44=\"\",\"\",'H01 HC10'!K44)","v":""},{"$f":"IF('H01 HC10'!L44=\"\",\"\",'H01 HC10'!L44)","v":""},{"$f":"IF('H01 HC10'!M44=\"\",\"\",'H01 HC10'!M44)","v":""},{"$f":"IF('H01 HC10'!N44=\"\",\"\",'H01 HC10'!N44)","v":""},{"$f":"IF('H01 HC10'!O44=\"\",\"\",'H01 HC10'!O44)","v":""},{"$f":"IF('H01 HC10'!P44=\"\",\"\",'H01 HC10'!P44)","v":""},{"$f":"IF('H01 HC10'!Q44=\"\",\"\",'H01 HC10'!Q44)","v":""},{"$f":"IF('H01 HC10'!R44=\"\",\"\",'H01 HC10'!R44)","v":""},{"$f":"IF('H01 HC10'!S44=\"\",\"\",'H01 HC10'!S44)","v":""},{"$f":"IF('H01 HC10'!T44=\"\",\"\",'H01 HC10'!T44)","v":""}]
[null,{"$f":"IF('H01 HC10'!B45=\"\",\"\",'H01 HC10'!B45)","v":""},{"$f":"IF('H01 HC10'!C45=\"\",\"\",'H01 HC10'!C45)","v":""},{"$f":"IF('H01 HC10'!D45=\"\",\"\",'H01 HC10'!D45)","v":""},null,null,null,null,null,{"$f":"IF('H01 HC10'!E45=\"\",\"\",'H01 HC10'!E45)","v":""},{"$f":"IF('H01 HC10'!F45=\"\",\"\",'H01 HC10'!F45)","v":""},{"$f":"IF('H01 HC10'!G45=\"\",\"\",'H01 HC10'!G45)","v":""},{"$f":"IF('H01 HC10'!H45=\"\",\"\",'H01 HC10'!H45)","v":""},{"$f":"IF('H01 HC10'!I45=\"\",\"\",'H01 HC10'!I45)","v":""},{"$f":"IF('H01 HC10'!J45=\"\",\"\",'H01 HC10'!J45)","v":""},{"$f":"IF(D953=\"\",\"\",VLOOKUP(D953,#REF!,3,0))","v":""},{"$f":"IF('H01 HC10'!K45=\"\",\"\",'H01 HC10'!K45)","v":""},{"$f":"IF('H01 HC10'!L45=\"\",\"\",'H01 HC10'!L45)","v":""},{"$f":"IF('H01 HC10'!M45=\"\",\"\",'H01 HC10'!M45)","v":""},{"$f":"IF('H01 HC10'!N45=\"\",\"\",'H01 HC10'!N45)","v":""},{"$f":"IF('H01 HC10'!O45=\"\",\"\",'H01 HC10'!O45)","v":""},{"$f":"IF('H01 HC10'!P45=\"\",\"\",'H01 HC10'!P45)","v":""},{"$f":"IF('H01 HC10'!Q45=\"\",\"\",'H01 HC10'!Q45)","v":""},{"$f":"IF('H01 HC10'!R45=\"\",\"\",'H01 HC10'!R45)","v":""},{"$f":"IF('H01 HC10'!S45=\"\",\"\",'H01 HC10'!S45)","v":""},{"$f":"IF('H01 HC10'!T45=\"\",\"\",'H01 HC10'!T45)","v":""}]
[null,{"$f":"IF('H01 HC10'!B46=\"\",\"\",'H01 HC10'!B46)","v":""},{"$f":"IF('H01 HC10'!C46=\"\",\"\",'H01 HC10'!C46)","v":""},{"$f":"IF('H01 HC10'!D46=\"\",\"\",'H01 HC10'!D46)","v":""},null,null,null,null,null,{"$f":"IF('H01 HC10'!E46=\"\",\"\",'H01 HC10'!E46)","v":""},{"$f":"IF('H01 HC10'!F46=\"\",\"\",'H01 HC10'!F46)","v":""},{"$f":"IF('H01 HC10'!G46=\"\",\"\",'H01 HC10'!G46)","v":""},{"$f":"IF('H01 HC10'!H46=\"\",\"\",'H01 HC10'!H46)","v":""},{"$f":"IF('H01 HC10'!I46=\"\",\"\",'H01 HC10'!I46)","v":""},{"$f":"IF('H01 HC10'!J46=\"\",\"\",'H01 HC10'!J46)","v":""},{"$f":"IF(D954=\"\",\"\",VLOOKUP(D954,#REF!,3,0))","v":""},{"$f":"IF('H01 HC10'!K46=\"\",\"\",'H01 HC10'!K46)","v":""},{"$f":"IF('H01 HC10'!L46=\"\",\"\",'H01 HC10'!L46)","v":""},{"$f":"IF('H01 HC10'!M46=\"\",\"\",'H01 HC10'!M46)","v":""},{"$f":"IF('H01 HC10'!N46=\"\",\"\",'H01 HC10'!N46)","v":""},{"$f":"IF('H01 HC10'!O46=\"\",\"\",'H01 HC10'!O46)","v":""},{"$f":"IF('H01 HC10'!P46=\"\",\"\",'H01 HC10'!P46)","v":""},{"$f":"IF('H01 HC10'!Q46=\"\",\"\",'H01 HC10'!Q46)","v":""},{"$f":"IF('H01 HC10'!R46=\"\",\"\",'H01 HC10'!R46)","v":""},{"$f":"IF('H01 HC10'!S46=\"\",\"\",'H01 HC10'!S46)","v":""},{"$f":"IF('H01 HC10'!T46=\"\",\"\",'H01 HC10'!T46)","v":""}]
[null,{"$f":"IF('H01 HC10'!B47=\"\",\"\",'H01 HC10'!B47)","v":""},{"$f":"IF('H01 HC10'!C47=\"\",\"\",'H01 HC10'!C47)","v":""},{"$f":"IF('H01 HC10'!D47=\"\",\"\",'H01 HC10'!D47)","v":""},null,null,null,null,null,{"$f":"IF('H01 HC10'!E47=\"\",\"\",'H01 HC10'!E47)","v":""},{"$f":"IF('H01 HC10'!F47=\"\",\"\",'H01 HC10'!F47)","v":""},{"$f":"IF('H01 HC10'!G47=\"\",\"\",'H01 HC10'!G47)","v":""},{"$f":"IF('H01 HC10'!H47=\"\",\"\",'H01 HC10'!H47)","v":""},{"$f":"IF('H01 HC10'!I47=\"\",\"\",'H01 HC10'!I47)","v":""},{"$f":"IF('H01 HC10'!J47=\"\",\"\",'H01 HC10'!J47)","v":""},{"$f":"IF(D955=\"\",\"\",VLOOKUP(D955,#REF!,3,0))","v":""},{"$f":"IF('H01 HC10'!K47=\"\",\"\",'H01 HC10'!K47)","v":""},{"$f":"IF('H01 HC10'!L47=\"\",\"\",'H01 HC10'!L47)","v":""},{"$f":"IF('H01 HC10'!M47=\"\",\"\",'H01 HC10'!M47)","v":""},{"$f":"IF('H01 HC10'!N47=\"\",\"\",'H01 HC10'!N47)","v":""},{"$f":"IF('H01 HC10'!O47=\"\",\"\",'H01 HC10'!O47)","v":""},{"$f":"IF('H01 HC10'!P47=\"\",\"\",'H01 HC10'!P47)","v":""},{"$f":"IF('H01 HC10'!Q47=\"\",\"\",'H01 HC10'!Q47)","v":""},{"$f":"IF('H01 HC10'!R47=\"\",\"\",'H01 HC10'!R47)","v":""},{"$f":"IF('H01 HC10'!S47=\"\",\"\",'H01 HC10'!S47)","v":""},{"$f":"IF('H01 HC10'!T47=\"\",\"\",'H01 HC10'!T47)","v":""}]
[null,{"$f":"IF('H01 HC10'!B48=\"\",\"\",'H01 HC10'!B48)","v":""},{"$f":"IF('H01 HC10'!C48=\"\",\"\",'H01 HC10'!C48)","v":""},{"$f":"IF('H01 HC10'!D48=\"\",\"\",'H01 HC10'!D48)","v":""},null,null,null,null,null,{"$f":"IF('H01 HC10'!E48=\"\",\"\",'H01 HC10'!E48)","v":""},{"$f":"IF('H01 HC10'!F48=\"\",\"\",'H01 HC10'!F48)","v":""},{"$f":"IF('H01 HC10'!G48=\"\",\"\",'H01 HC10'!G48)","v":""},{"$f":"IF('H01 HC10'!H48=\"\",\"\",'H01 HC10'!H48)","v":""},{"$f":"IF('H01 HC10'!I48=\"\",\"\",'H01 HC10'!I48)","v":""},{"$f":"IF('H01 HC10'!J48=\"\",\"\",'H01 HC10'!J48)","v":""},{"$f":"IF(D956=\"\",\"\",VLOOKUP(D956,#REF!,3,0))","v":""},{"$f":"IF('H01 HC10'!K48=\"\",\"\",'H01 HC10'!K48)","v":""},{"$f":"IF('H01 HC10'!L48=\"\",\"\",'H01 HC10'!L48)","v":""},{"$f":"IF('H01 HC10'!M48=\"\",\"\",'H01 HC10'!M48)","v":""},{"$f":"IF('H01 HC10'!N48=\"\",\"\",'H01 HC10'!N48)","v":""},{"$f":"IF('H01 HC10'!O48=\"\",\"\",'H01 HC10'!O48)","v":""},{"$f":"IF('H01 HC10'!P48=\"\",\"\",'H01 HC10'!P48)","v":""},{"$f":"IF('H01 HC10'!Q48=\"\",\"\",'H01 HC10'!Q48)","v":""},{"$f":"IF('H01 HC10'!R48=\"\",\"\",'H01 HC10'!R48)","v":""},{"$f":"IF('H01 HC10'!S48=\"\",\"\",'H01 HC10'!S48)","v":""},{"$f":"IF('H01 HC10'!T48=\"\",\"\",'H01 HC10'!T48)","v":""}]
[null,{"$f":"IF('H01 HC10'!B49=\"\",\"\",'H01 HC10'!B49)","v":""},{"$f":"IF('H01 HC10'!C49=\"\",\"\",'H01 HC10'!C49)","v":""},{"$f":"IF('H01 HC10'!D49=\"\",\"\",'H01 HC10'!D49)","v":""},null,null,null,null,null,{"$f":"IF('H01 HC10'!E49=\"\",\"\",'H01 HC10'!E49)","v":""},{"$f":"IF('H01 HC10'!F49=\"\",\"\",'H01 HC10'!F49)","v":""},{"$f":"IF('H01 HC10'!G49=\"\",\"\",'H01 HC10'!G49)","v":""},{"$f":"IF('H01 HC10'!H49=\"\",\"\",'H01 HC10'!H49)","v":""},{"$f":"IF('H01 HC10'!I49=\"\",\"\",'H01 HC10'!I49)","v":""},{"$f":"IF('H01 HC10'!J49=\"\",\"\",'H01 HC10'!J49)","v":""},{"$f":"IF(D957=\"\",\"\",VLOOKUP(D957,#REF!,3,0))","v":""},{"$f":"IF('H01 HC10'!K49=\"\",\"\",'H01 HC10'!K49)","v":""},{"$f":"IF('H01 HC10'!L49=\"\",\"\",'H01 HC10'!L49)","v":""},{"$f":"IF('H01 HC10'!M49=\"\",\"\",'H01 HC10'!M49)","v":""},{"$f":"IF('H01 HC10'!N49=\"\",\"\",'H01 HC10'!N49)","v":""},{"$f":"IF('H01 HC10'!O49=\"\",\"\",'H01 HC10'!O49)","v":""},{"$f":"IF('H01 HC10'!P49=\"\",\"\",'H01 HC10'!P49)","v":""},{"$f":"IF('H01 HC10'!Q49=\"\",\"\",'H01 HC10'!Q49)","v":""},{"$f":"IF('H01 HC10'!R49=\"\",\"\",'H01 HC10'!R49)","v":""},{"$f":"IF('H01 HC10'!S49=\"\",\"\",'H01 HC10'!S49)","v":""},{"$f":"IF('H01 HC10'!T49=\"\",\"\",'H01 HC10'!T49)","v":""}]
[null,{"$f":"IF('H01 HC10'!B50=\"\",\"\",'H01 HC10'!B50)","v":""},{"$f":"IF('H01 HC10'!C50=\"\",\"\",'H01 HC10'!C50)","v":""},{"$f":"IF('H01 HC10'!D50=\"\",\"\",'H01 HC10'!D50)","v":""},null,null,null,null,null,{"$f":"IF('H01 HC10'!E50=\"\",\"\",'H01 HC10'!E50)","v":""},{"$f":"IF('H01 HC10'!F50=\"\",\"\",'H01 HC10'!F50)","v":""},{"$f":"IF('H01 HC10'!G50=\"\",\"\",'H01 HC10'!G50)","v":""},{"$f":"IF('H01 HC10'!H50=\"\",\"\",'H01 HC10'!H50)","v":""},{"$f":"IF('H01 HC10'!I50=\"\",\"\",'H01 HC10'!I50)","v":""},{"$f":"IF('H01 HC10'!J50=\"\",\"\",'H01 HC10'!J50)","v":""},{"$f":"IF(D958=\"\",\"\",VLOOKUP(D958,#REF!,3,0))","v":""},{"$f":"IF('H01 HC10'!K50=\"\",\"\",'H01 HC10'!K50)","v":""},{"$f":"IF('H01 HC10'!L50=\"\",\"\",'H01 HC10'!L50)","v":""},{"$f":"IF('H01 HC10'!M50=\"\",\"\",'H01 HC10'!M50)","v":""},{"$f":"IF('H01 HC10'!N50=\"\",\"\",'H01 HC10'!N50)","v":""},{"$f":"IF('H01 HC10'!O50=\"\",\"\",'H01 HC10'!O50)","v":""},{"$f":"IF('H01 HC10'!P50=\"\",\"\",'H01 HC10'!P50)","v":""},{"$f":"IF('H01 HC10'!Q50=\"\",\"\",'H01 HC10'!Q50)","v":""},{"$f":"IF('H01 HC10'!R50=\"\",\"\",'H01 HC10'!R50)","v":""},{"$f":"IF('H01 HC10'!S50=\"\",\"\",'H01 HC10'!S50)","v":""},{"$f":"IF('H01 HC10'!T50=\"\",\"\",'H01 HC10'!T50)","v":""}]
[null,{"$f":"IF('H01 HC10'!B51=\"\",\"\",'H01 HC10'!B51)","v":""},{"$f":"IF('H01 HC10'!C51=\"\",\"\",'H01 HC10'!C51)","v":""},{"$f":"IF('H01 HC10'!D51=\"\",\"\",'H01 HC10'!D51)","v":""},null,null,null,null,null,{"$f":"IF('H01 HC10'!E51=\"\",\"\",'H01 HC10'!E51)","v":""},{"$f":"IF('H01 HC10'!F51=\"\",\"\",'H01 HC10'!F51)","v":""},{"$f":"IF('H01 HC10'!G51=\"\",\"\",'H01 HC10'!G51)","v":""},{"$f":"IF('H01 HC10'!H51=\"\",\"\",'H01 HC10'!H51)","v":""},{"$f":"IF('H01 HC10'!I51=\"\",\"\",'H01 HC10'!I51)","v":""},{"$f":"IF('H01 HC10'!J51=\"\",\"\",'H01 HC10'!J51)","v":""},{"$f":"IF(D959=\"\",\"\",VLOOKUP(D959,#REF!,3,0))","v":""},{"$f":"IF('H01 HC10'!K51=\"\",\"\",'H01 HC10'!K51)","v":""},{"$f":"IF('H01 HC10'!L51=\"\",\"\",'H01 HC10'!L51)","v":""},{"$f":"IF('H01 HC10'!M51=\"\",\"\",'H01 HC10'!M51)","v":""},{"$f":"IF('H01 HC10'!N51=\"\",\"\",'H01 HC10'!N51)","v":""},{"$f":"IF('H01 HC10'!O51=\"\",\"\",'H01 HC10'!O51)","v":""},{"$f":"IF('H01 HC10'!P51=\"\",\"\",'H01 HC10'!P51)","v":""},{"$f":"IF('H01 HC10'!Q51=\"\",\"\",'H01 HC10'!Q51)","v":""},{"$f":"IF('H01 HC10'!R51=\"\",\"\",'H01 HC10'!R51)","v":""},{"$f":"IF('H01 HC10'!S51=\"\",\"\",'H01 HC10'!S51)","v":""},{"$f":"IF('H01 HC10'!T51=\"\",\"\",'H01 HC10'!T51)","v":""}]
[null,{"$f":"IF('H01 HC10'!B52=\"\",\"\",'H01 HC10'!B52)","v":""},{"$f":"IF('H01 HC10'!C52=\"\",\"\",'H01 HC10'!C52)","v":""},{"$f":"IF('H01 HC10'!D52=\"\",\"\",'H01 HC10'!D52)","v":""},null,null,null,null,null,{"$f":"IF('H01 HC10'!E52=\"\",\"\",'H01 HC10'!E52)","v":""},{"$f":"IF('H01 HC10'!F52=\"\",\"\",'H01 HC10'!F52)","v":""},{"$f":"IF('H01 HC10'!G52=\"\",\"\",'H01 HC10'!G52)","v":""},{"$f":"IF('H01 HC10'!H52=\"\",\"\",'H01 HC10'!H52)","v":""},{"$f":"IF('H01 HC10'!I52=\"\",\"\",'H01 HC10'!I52)","v":""},{"$f":"IF('H01 HC10'!J52=\"\",\"\",'H01 HC10'!J52)","v":""},{"$f":"IF(D960=\"\",\"\",VLOOKUP(D960,#REF!,3,0))","v":""},{"$f":"IF('H01 HC10'!K52=\"\",\"\",'H01 HC10'!K52)","v":""},{"$f":"IF('H01 HC10'!L52=\"\",\"\",'H01 HC10'!L52)","v":""},{"$f":"IF('H01 HC10'!M52=\"\",\"\",'H01 HC10'!M52)","v":""},{"$f":"IF('H01 HC10'!N52=\"\",\"\",'H01 HC10'!N52)","v":""},{"$f":"IF('H01 HC10'!O52=\"\",\"\",'H01 HC10'!O52)","v":""},{"$f":"IF('H01 HC10'!P52=\"\",\"\",'H01 HC10'!P52)","v":""},{"$f":"IF('H01 HC10'!Q52=\"\",\"\",'H01 HC10'!Q52)","v":""},{"$f":"IF('H01 HC10'!R52=\"\",\"\",'H01 HC10'!R52)","v":""},{"$f":"IF('H01 HC10'!S52=\"\",\"\",'H01 HC10'!S52)","v":""},{"$f":"IF('H01 HC10'!T52=\"\",\"\",'H01 HC10'!T52)","v":""}]
[null,{"$f":"IF('H01 HC10'!B53=\"\",\"\",'H01 HC10'!B53)","v":""},{"$f":"IF('H01 HC10'!C53=\"\",\"\",'H01 HC10'!C53)","v":""},{"$f":"IF('H01 HC10'!D53=\"\",\"\",'H01 HC10'!D53)","v":""},null,null,null,null,null,{"$f":"IF('H01 HC10'!E53=\"\",\"\",'H01 HC10'!E53)","v":""},{"$f":"IF('H01 HC10'!F53=\"\",\"\",'H01 HC10'!F53)","v":""},{"$f":"IF('H01 HC10'!G53=\"\",\"\",'H01 HC10'!G53)","v":""},{"$f":"IF('H01 HC10'!H53=\"\",\"\",'H01 HC10'!H53)","v":""},{"$f":"IF('H01 HC10'!I53=\"\",\"\",'H01 HC10'!I53)","v":""},{"$f":"IF('H01 HC10'!J53=\"\",\"\",'H01 HC10'!J53)","v":""},{"$f":"IF(D961=\"\",\"\",VLOOKUP(D961,#REF!,3,0))","v":""},{"$f":"IF('H01 HC10'!K53=\"\",\"\",'H01 HC10'!K53)","v":""},{"$f":"IF('H01 HC10'!L53=\"\",\"\",'H01 HC10'!L53)","v":""},{"$f":"IF('H01 HC10'!M53=\"\",\"\",'H01 HC10'!M53)","v":""},{"$f":"IF('H01 HC10'!N53=\"\",\"\",'H01 HC10'!N53)","v":""},{"$f":"IF('H01 HC10'!O53=\"\",\"\",'H01 HC10'!O53)","v":""},{"$f":"IF('H01 HC10'!P53=\"\",\"\",'H01 HC10'!P53)","v":""},{"$f":"IF('H01 HC10'!Q53=\"\",\"\",'H01 HC10'!Q53)","v":""},{"$f":"IF('H01 HC10'!R53=\"\",\"\",'H01 HC10'!R53)","v":""},{"$f":"IF('H01 HC10'!S53=\"\",\"\",'H01 HC10'!S53)","v":""},{"$f":"IF('H01 HC10'!T53=\"\",\"\",'H01 HC10'!T53)","v":""}]
[null,{"$f":"IF('H01 HC10'!B54=\"\",\"\",'H01 HC10'!B54)","v":""},{"$f":"IF('H01 HC10'!C54=\"\",\"\",'H01 HC10'!C54)","v":""},{"$f":"IF('H01 HC10'!D54=\"\",\"\",'H01 HC10'!D54)","v":""},null,null,null,null,null,{"$f":"IF('H01 HC10'!E54=\"\",\"\",'H01 HC10'!E54)","v":""},{"$f":"IF('H01 HC10'!F54=\"\",\"\",'H01 HC10'!F54)","v":""},{"$f":"IF('H01 HC10'!G54=\"\",\"\",'H01 HC10'!G54)","v":""},{"$f":"IF('H01 HC10'!H54=\"\",\"\",'H01 HC10'!H54)","v":""},{"$f":"IF('H01 HC10'!I54=\"\",\"\",'H01 HC10'!I54)","v":""},{"$f":"IF('H01 HC10'!J54=\"\",\"\",'H01 HC10'!J54)","v":""},{"$f":"IF(D962=\"\",\"\",VLOOKUP(D962,#REF!,3,0))","v":""},{"$f":"IF('H01 HC10'!K54=\"\",\"\",'H01 HC10'!K54)","v":""},{"$f":"IF('H01 HC10'!L54=\"\",\"\",'H01 HC10'!L54)","v":""},{"$f":"IF('H01 HC10'!M54=\"\",\"\",'H01 HC10'!M54)","v":""},{"$f":"IF('H01 HC10'!N54=\"\",\"\",'H01 HC10'!N54)","v":""},{"$f":"IF('H01 HC10'!O54=\"\",\"\",'H01 HC10'!O54)","v":""},{"$f":"IF('H01 HC10'!P54=\"\",\"\",'H01 HC10'!P54)","v":""},{"$f":"IF('H01 HC10'!Q54=\"\",\"\",'H01 HC10'!Q54)","v":""},{"$f":"IF('H01 HC10'!R54=\"\",\"\",'H01 HC10'!R54)","v":""},{"$f":"IF('H01 HC10'!S54=\"\",\"\",'H01 HC10'!S54)","v":""},{"$f":"IF('H01 HC10'!T54=\"\",\"\",'H01 HC10'!T54)","v":""}]
[null,{"$f":"IF('H01 HC10'!B55=\"\",\"\",'H01 HC10'!B55)","v":""},{"$f":"IF('H01 HC10'!C55=\"\",\"\",'H01 HC10'!C55)","v":""},{"$f":"IF('H01 HC10'!D55=\"\",\"\",'H01 HC10'!D55)","v":""},null,null,null,null,null,{"$f":"IF('H01 HC10'!E55=\"\",\"\",'H01 HC10'!E55)","v":""},{"$f":"IF('H01 HC10'!F55=\"\",\"\",'H01 HC10'!F55)","v":""},{"$f":"IF('H01 HC10'!G55=\"\",\"\",'H01 HC10'!G55)","v":""},{"$f":"IF('H01 HC10'!H55=\"\",\"\",'H01 HC10'!H55)","v":""},{"$f":"IF('H01 HC10'!I55=\"\",\"\",'H01 HC10'!I55)","v":""},{"$f":"IF('H01 HC10'!J55=\"\",\"\",'H01 HC10'!J55)","v":""},{"$f":"IF(D963=\"\",\"\",VLOOKUP(D963,#REF!,3,0))","v":""},{"$f":"IF('H01 HC10'!K55=\"\",\"\",'H01 HC10'!K55)","v":""},{"$f":"IF('H01 HC10'!L55=\"\",\"\",'H01 HC10'!L55)","v":""},{"$f":"IF('H01 HC10'!M55=\"\",\"\",'H01 HC10'!M55)","v":""},{"$f":"IF('H01 HC10'!N55=\"\",\"\",'H01 HC10'!N55)","v":""},{"$f":"IF('H01 HC10'!O55=\"\",\"\",'H01 HC10'!O55)","v":""},{"$f":"IF('H01 HC10'!P55=\"\",\"\",'H01 HC10'!P55)","v":""},{"$f":"IF('H01 HC10'!Q55=\"\",\"\",'H01 HC10'!Q55)","v":""},{"$f":"IF('H01 HC10'!R55=\"\",\"\",'H01 HC10'!R55)","v":""},{"$f":"IF('H01 HC10'!S55=\"\",\"\",'H01 HC10'!S55)","v":""},{"$f":"IF('H01 HC10'!T55=\"\",\"\",'H01 HC10'!T55)","v":""}]
[null,{"$f":"IF('H01 HC10'!B56=\"\",\"\",'H01 HC10'!B56)","v":""},{"$f":"IF('H01 HC10'!C56=\"\",\"\",'H01 HC10'!C56)","v":""},{"$f":"IF('H01 HC10'!D56=\"\",\"\",'H01 HC10'!D56)","v":""},null,null,null,null,null,{"$f":"IF('H01 HC10'!E56=\"\",\"\",'H01 HC10'!E56)","v":""},{"$f":"IF('H01 HC10'!F56=\"\",\"\",'H01 HC10'!F56)","v":""},{"$f":"IF('H01 HC10'!G56=\"\",\"\",'H01 HC10'!G56)","v":""},{"$f":"IF('H01 HC10'!H56=\"\",\"\",'H01 HC10'!H56)","v":""},{"$f":"IF('H01 HC10'!I56=\"\",\"\",'H01 HC10'!I56)","v":""},{"$f":"IF('H01 HC10'!J56=\"\",\"\",'H01 HC10'!J56)","v":""},{"$f":"IF(D964=\"\",\"\",VLOOKUP(D964,#REF!,3,0))","v":""},{"$f":"IF('H01 HC10'!K56=\"\",\"\",'H01 HC10'!K56)","v":""},{"$f":"IF('H01 HC10'!L56=\"\",\"\",'H01 HC10'!L56)","v":""},{"$f":"IF('H01 HC10'!M56=\"\",\"\",'H01 HC10'!M56)","v":""},{"$f":"IF('H01 HC10'!N56=\"\",\"\",'H01 HC10'!N56)","v":""},{"$f":"IF('H01 HC10'!O56=\"\",\"\",'H01 HC10'!O56)","v":""},{"$f":"IF('H01 HC10'!P56=\"\",\"\",'H01 HC10'!P56)","v":""},{"$f":"IF('H01 HC10'!Q56=\"\",\"\",'H01 HC10'!Q56)","v":""},{"$f":"IF('H01 HC10'!R56=\"\",\"\",'H01 HC10'!R56)","v":""},{"$f":"IF('H01 HC10'!S56=\"\",\"\",'H01 HC10'!S56)","v":""},{"$f":"IF('H01 HC10'!T56=\"\",\"\",'H01 HC10'!T56)","v":""}]
[null,{"$f":"IF('H01 HC10'!B57=\"\",\"\",'H01 HC10'!B57)","v":""},{"$f":"IF('H01 HC10'!C57=\"\",\"\",'H01 HC10'!C57)","v":""},{"$f":"IF('H01 HC10'!D57=\"\",\"\",'H01 HC10'!D57)","v":""},null,null,null,null,null,{"$f":"IF('H01 HC10'!E57=\"\",\"\",'H01 HC10'!E57)","v":""},{"$f":"IF('H01 HC10'!F57=\"\",\"\",'H01 HC10'!F57)","v":""},{"$f":"IF('H01 HC10'!G57=\"\",\"\",'H01 HC10'!G57)","v":""},{"$f":"IF('H01 HC10'!H57=\"\",\"\",'H01 HC10'!H57)","v":""},{"$f":"IF('H01 HC10'!I57=\"\",\"\",'H01 HC10'!I57)","v":""},{"$f":"IF('H01 HC10'!J57=\"\",\"\",'H01 HC10'!J57)","v":""},{"$f":"IF(D965=\"\",\"\",VLOOKUP(D965,#REF!,3,0))","v":""},{"$f":"IF('H01 HC10'!K57=\"\",\"\",'H01 HC10'!K57)","v":""},{"$f":"IF('H01 HC10'!L57=\"\",\"\",'H01 HC10'!L57)","v":""},{"$f":"IF('H01 HC10'!M57=\"\",\"\",'H01 HC10'!M57)","v":""},{"$f":"IF('H01 HC10'!N57=\"\",\"\",'H01 HC10'!N57)","v":""},{"$f":"IF('H01 HC10'!O57=\"\",\"\",'H01 HC10'!O57)","v":""},{"$f":"IF('H01 HC10'!P57=\"\",\"\",'H01 HC10'!P57)","v":""},{"$f":"IF('H01 HC10'!Q57=\"\",\"\",'H01 HC10'!Q57)","v":""},{"$f":"IF('H01 HC10'!R57=\"\",\"\",'H01 HC10'!R57)","v":""},{"$f":"IF('H01 HC10'!S57=\"\",\"\",'H01 HC10'!S57)","v":""},{"$f":"IF('H01 HC10'!T57=\"\",\"\",'H01 HC10'!T57)","v":""}]
[null,{"$f":"IF('H01 HC10'!B58=\"\",\"\",'H01 HC10'!B58)","v":""},{"$f":"IF('H01 HC10'!C58=\"\",\"\",'H01 HC10'!C58)","v":""},{"$f":"IF('H01 HC10'!D58=\"\",\"\",'H01 HC10'!D58)","v":""},null,null,null,null,null,{"$f":"IF('H01 HC10'!E58=\"\",\"\",'H01 HC10'!E58)","v":""},{"$f":"IF('H01 HC10'!F58=\"\",\"\",'H01 HC10'!F58)","v":""},{"$f":"IF('H01 HC10'!G58=\"\",\"\",'H01 HC10'!G58)","v":""},{"$f":"IF('H01 HC10'!H58=\"\",\"\",'H01 HC10'!H58)","v":""},{"$f":"IF('H01 HC10'!I58=\"\",\"\",'H01 HC10'!I58)","v":""},{"$f":"IF('H01 HC10'!J58=\"\",\"\",'H01 HC10'!J58)","v":""},{"$f":"IF(D966=\"\",\"\",VLOOKUP(D966,#REF!,3,0))","v":""},{"$f":"IF('H01 HC10'!K58=\"\",\"\",'H01 HC10'!K58)","v":""},{"$f":"IF('H01 HC10'!L58=\"\",\"\",'H01 HC10'!L58)","v":""},{"$f":"IF('H01 HC10'!M58=\"\",\"\",'H01 HC10'!M58)","v":""},{"$f":"IF('H01 HC10'!N58=\"\",\"\",'H01 HC10'!N58)","v":""},{"$f":"IF('H01 HC10'!O58=\"\",\"\",'H01 HC10'!O58)","v":""},{"$f":"IF('H01 HC10'!P58=\"\",\"\",'H01 HC10'!P58)","v":""},{"$f":"IF('H01 HC10'!Q58=\"\",\"\",'H01 HC10'!Q58)","v":""},{"$f":"IF('H01 HC10'!R58=\"\",\"\",'H01 HC10'!R58)","v":""},{"$f":"IF('H01 HC10'!S58=\"\",\"\",'H01 HC10'!S58)","v":""},{"$f":"IF('H01 HC10'!T58=\"\",\"\",'H01 HC10'!T58)","v":""}]
[null,{"$f":"IF('H01 HC10'!B59=\"\",\"\",'H01 HC10'!B59)","v":""},{"$f":"IF('H01 HC10'!C59=\"\",\"\",'H01 HC10'!C59)","v":""},{"$f":"IF('H01 HC10'!D59=\"\",\"\",'H01 HC10'!D59)","v":""},null,null,null,null,null,{"$f":"IF('H01 HC10'!E59=\"\",\"\",'H01 HC10'!E59)","v":""},{"$f":"IF('H01 HC10'!F59=\"\",\"\",'H01 HC10'!F59)","v":""},{"$f":"IF('H01 HC10'!G59=\"\",\"\",'H01 HC10'!G59)","v":""},{"$f":"IF('H01 HC10'!H59=\"\",\"\",'H01 HC10'!H59)","v":""},{"$f":"IF('H01 HC10'!I59=\"\",\"\",'H01 HC10'!I59)","v":""},{"$f":"IF('H01 HC10'!J59=\"\",\"\",'H01 HC10'!J59)","v":""},{"$f":"IF(D967=\"\",\"\",VLOOKUP(D967,#REF!,3,0))","v":""},{"$f":"IF('H01 HC10'!K59=\"\",\"\",'H01 HC10'!K59)","v":""},{"$f":"IF('H01 HC10'!L59=\"\",\"\",'H01 HC10'!L59)","v":""},{"$f":"IF('H01 HC10'!M59=\"\",\"\",'H01 HC10'!M59)","v":""},{"$f":"IF('H01 HC10'!N59=\"\",\"\",'H01 HC10'!N59)","v":""},{"$f":"IF('H01 HC10'!O59=\"\",\"\",'H01 HC10'!O59)","v":""},{"$f":"IF('H01 HC10'!P59=\"\",\"\",'H01 HC10'!P59)","v":""},{"$f":"IF('H01 HC10'!Q59=\"\",\"\",'H01 HC10'!Q59)","v":""},{"$f":"IF('H01 HC10'!R59=\"\",\"\",'H01 HC10'!R59)","v":""},{"$f":"IF('H01 HC10'!S59=\"\",\"\",'H01 HC10'!S59)","v":""},{"$f":"IF('H01 HC10'!T59=\"\",\"\",'H01 HC10'!T59)","v":""}]
[null,{"$f":"IF('H01 HC10'!B60=\"\",\"\",'H01 HC10'!B60)","v":""},{"$f":"IF('H01 HC10'!C60=\"\",\"\",'H01 HC10'!C60)","v":""},{"$f":"IF('H01 HC10'!D60=\"\",\"\",'H01 HC10'!D60)","v":""},null,null,null,null,null,{"$f":"IF('H01 HC10'!E60=\"\",\"\",'H01 HC10'!E60)","v":""},{"$f":"IF('H01 HC10'!F60=\"\",\"\",'H01 HC10'!F60)","v":""},{"$f":"IF('H01 HC10'!G60=\"\",\"\",'H01 HC10'!G60)","v":""},{"$f":"IF('H01 HC10'!H60=\"\",\"\",'H01 HC10'!H60)","v":""},{"$f":"IF('H01 HC10'!I60=\"\",\"\",'H01 HC10'!I60)","v":""},{"$f":"IF('H01 HC10'!J60=\"\",\"\",'H01 HC10'!J60)","v":""},{"$f":"IF(D968=\"\",\"\",VLOOKUP(D968,#REF!,3,0))","v":""},{"$f":"IF('H01 HC10'!K60=\"\",\"\",'H01 HC10'!K60)","v":""},{"$f":"IF('H01 HC10'!L60=\"\",\"\",'H01 HC10'!L60)","v":""},{"$f":"IF('H01 HC10'!M60=\"\",\"\",'H01 HC10'!M60)","v":""},{"$f":"IF('H01 HC10'!N60=\"\",\"\",'H01 HC10'!N60)","v":""},{"$f":"IF('H01 HC10'!O60=\"\",\"\",'H01 HC10'!O60)","v":""},{"$f":"IF('H01 HC10'!P60=\"\",\"\",'H01 HC10'!P60)","v":""},{"$f":"IF('H01 HC10'!Q60=\"\",\"\",'H01 HC10'!Q60)","v":""},{"$f":"IF('H01 HC10'!R60=\"\",\"\",'H01 HC10'!R60)","v":""},{"$f":"IF('H01 HC10'!S60=\"\",\"\",'H01 HC10'!S60)","v":""},{"$f":"IF('H01 HC10'!T60=\"\",\"\",'H01 HC10'!T60)","v":""}]
[null,{"$f":"IF('H01 HC10'!B61=\"\",\"\",'H01 HC10'!B61)","v":""},{"$f":"IF('H01 HC10'!C61=\"\",\"\",'H01 HC10'!C61)","v":""},{"$f":"IF('H01 HC10'!D61=\"\",\"\",'H01 HC10'!D61)","v":""},null,null,null,null,null,{"$f":"IF('H01 HC10'!E61=\"\",\"\",'H01 HC10'!E61)","v":""},{"$f":"IF('H01 HC10'!F61=\"\",\"\",'H01 HC10'!F61)","v":""},{"$f":"IF('H01 HC10'!G61=\"\",\"\",'H01 HC10'!G61)","v":""},{"$f":"IF('H01 HC10'!H61=\"\",\"\",'H01 HC10'!H61)","v":""},{"$f":"IF('H01 HC10'!I61=\"\",\"\",'H01 HC10'!I61)","v":""},{"$f":"IF('H01 HC10'!J61=\"\",\"\",'H01 HC10'!J61)","v":""},{"$f":"IF(D969=\"\",\"\",VLOOKUP(D969,#REF!,3,0))","v":""},{"$f":"IF('H01 HC10'!K61=\"\",\"\",'H01 HC10'!K61)","v":""},{"$f":"IF('H01 HC10'!L61=\"\",\"\",'H01 HC10'!L61)","v":""},{"$f":"IF('H01 HC10'!M61=\"\",\"\",'H01 HC10'!M61)","v":""},{"$f":"IF('H01 HC10'!N61=\"\",\"\",'H01 HC10'!N61)","v":""},{"$f":"IF('H01 HC10'!O61=\"\",\"\",'H01 HC10'!O61)","v":""},{"$f":"IF('H01 HC10'!P61=\"\",\"\",'H01 HC10'!P61)","v":""},{"$f":"IF('H01 HC10'!Q61=\"\",\"\",'H01 HC10'!Q61)","v":""},{"$f":"IF('H01 HC10'!R61=\"\",\"\",'H01 HC10'!R61)","v":""},{"$f":"IF('H01 HC10'!S61=\"\",\"\",'H01 HC10'!S61)","v":""},{"$f":"IF('H01 HC10'!T61=\"\",\"\",'H01 HC10'!T61)","v":""}]
[null,{"$f":"IF('H01 HC10'!B62=\"\",\"\",'H01 HC10'!B62)","v":""},{"$f":"IF('H01 HC10'!C62=\"\",\"\",'H01 HC10'!C62)","v":""},{"$f":"IF('H01 HC10'!D62=\"\",\"\",'H01 HC10'!D62)","v":""},null,null,null,null,null,{"$f":"IF('H01 HC10'!E62=\"\",\"\",'H01 HC10'!E62)","v":""},{"$f":"IF('H01 HC10'!F62=\"\",\"\",'H01 HC10'!F62)","v":""},{"$f":"IF('H01 HC10'!G62=\"\",\"\",'H01 HC10'!G62)","v":""},{"$f":"IF('H01 HC10'!H62=\"\",\"\",'H01 HC10'!H62)","v":""},{"$f":"IF('H01 HC10'!I62=\"\",\"\",'H01 HC10'!I62)","v":""},{"$f":"IF('H01 HC10'!J62=\"\",\"\",'H01 HC10'!J62)","v":""},{"$f":"IF(D970=\"\",\"\",VLOOKUP(D970,#REF!,3,0))","v":""},{"$f":"IF('H01 HC10'!K62=\"\",\"\",'H01 HC10'!K62)","v":""},{"$f":"IF('H01 HC10'!L62=\"\",\"\",'H01 HC10'!L62)","v":""},{"$f":"IF('H01 HC10'!M62=\"\",\"\",'H01 HC10'!M62)","v":""},{"$f":"IF('H01 HC10'!N62=\"\",\"\",'H01 HC10'!N62)","v":""},{"$f":"IF('H01 HC10'!O62=\"\",\"\",'H01 HC10'!O62)","v":""},{"$f":"IF('H01 HC10'!P62=\"\",\"\",'H01 HC10'!P62)","v":""},{"$f":"IF('H01 HC10'!Q62=\"\",\"\",'H01 HC10'!Q62)","v":""},{"$f":"IF('H01 HC10'!R62=\"\",\"\",'H01 HC10'!R62)","v":""},{"$f":"IF('H01 HC10'!S62=\"\",\"\",'H01 HC10'!S62)","v":""},{"$f":"IF('H01 HC10'!T62=\"\",\"\",'H01 HC10'!T62)","v":""}]
[null,{"$f":"IF('H01 HC10'!B63=\"\",\"\",'H01 HC10'!B63)","v":""},{"$f":"IF('H01 HC10'!C63=\"\",\"\",'H01 HC10'!C63)","v":""},{"$f":"IF('H01 HC10'!D63=\"\",\"\",'H01 HC10'!D63)","v":""},null,null,null,null,null,{"$f":"IF('H01 HC10'!E63=\"\",\"\",'H01 HC10'!E63)","v":""},{"$f":"IF('H01 HC10'!F63=\"\",\"\",'H01 HC10'!F63)","v":""},{"$f":"IF('H01 HC10'!G63=\"\",\"\",'H01 HC10'!G63)","v":""},{"$f":"IF('H01 HC10'!H63=\"\",\"\",'H01 HC10'!H63)","v":""},{"$f":"IF('H01 HC10'!I63=\"\",\"\",'H01 HC10'!I63)","v":""},{"$f":"IF('H01 HC10'!J63=\"\",\"\",'H01 HC10'!J63)","v":""},{"$f":"IF(D971=\"\",\"\",VLOOKUP(D971,#REF!,3,0))","v":""},{"$f":"IF('H01 HC10'!K63=\"\",\"\",'H01 HC10'!K63)","v":""},{"$f":"IF('H01 HC10'!L63=\"\",\"\",'H01 HC10'!L63)","v":""},{"$f":"IF('H01 HC10'!M63=\"\",\"\",'H01 HC10'!M63)","v":""},{"$f":"IF('H01 HC10'!N63=\"\",\"\",'H01 HC10'!N63)","v":""},{"$f":"IF('H01 HC10'!O63=\"\",\"\",'H01 HC10'!O63)","v":""},{"$f":"IF('H01 HC10'!P63=\"\",\"\",'H01 HC10'!P63)","v":""},{"$f":"IF('H01 HC10'!Q63=\"\",\"\",'H01 HC10'!Q63)","v":""},{"$f":"IF('H01 HC10'!R63=\"\",\"\",'H01 HC10'!R63)","v":""},{"$f":"IF('H01 HC10'!S63=\"\",\"\",'H01 HC10'!S63)","v":""},{"$f":"IF('H01 HC10'!T63=\"\",\"\",'H01 HC10'!T63)","v":""}]
[null,{"$f":"IF('H01 HC10'!B64=\"\",\"\",'H01 HC10'!B64)","v":""},{"$f":"IF('H01 HC10'!C64=\"\",\"\",'H01 HC10'!C64)","v":""},{"$f":"IF('H01 HC10'!D64=\"\",\"\",'H01 HC10'!D64)","v":""},null,null,null,null,null,{"$f":"IF('H01 HC10'!E64=\"\",\"\",'H01 HC10'!E64)","v":""},{"$f":"IF('H01 HC10'!F64=\"\",\"\",'H01 HC10'!F64)","v":""},{"$f":"IF('H01 HC10'!G64=\"\",\"\",'H01 HC10'!G64)","v":""},{"$f":"IF('H01 HC10'!H64=\"\",\"\",'H01 HC10'!H64)","v":""},{"$f":"IF('H01 HC10'!I64=\"\",\"\",'H01 HC10'!I64)","v":""},{"$f":"IF('H01 HC10'!J64=\"\",\"\",'H01 HC10'!J64)","v":""},{"$f":"IF(D972=\"\",\"\",VLOOKUP(D972,#REF!,3,0))","v":""},{"$f":"IF('H01 HC10'!K64=\"\",\"\",'H01 HC10'!K64)","v":""},{"$f":"IF('H01 HC10'!L64=\"\",\"\",'H01 HC10'!L64)","v":""},{"$f":"IF('H01 HC10'!M64=\"\",\"\",'H01 HC10'!M64)","v":""},{"$f":"IF('H01 HC10'!N64=\"\",\"\",'H01 HC10'!N64)","v":""},{"$f":"IF('H01 HC10'!O64=\"\",\"\",'H01 HC10'!O64)","v":""},{"$f":"IF('H01 HC10'!P64=\"\",\"\",'H01 HC10'!P64)","v":""},{"$f":"IF('H01 HC10'!Q64=\"\",\"\",'H01 HC10'!Q64)","v":""},{"$f":"IF('H01 HC10'!R64=\"\",\"\",'H01 HC10'!R64)","v":""},{"$f":"IF('H01 HC10'!S64=\"\",\"\",'H01 HC10'!S64)","v":""},{"$f":"IF('H01 HC10'!T64=\"\",\"\",'H01 HC10'!T64)","v":""}]
[null,{"$f":"IF('H01 HC10'!B65=\"\",\"\",'H01 HC10'!B65)","v":""},{"$f":"IF('H01 HC10'!C65=\"\",\"\",'H01 HC10'!C65)","v":""},{"$f":"IF('H01 HC10'!D65=\"\",\"\",'H01 HC10'!D65)","v":""},null,null,null,null,null,{"$f":"IF('H01 HC10'!E65=\"\",\"\",'H01 HC10'!E65)","v":""},{"$f":"IF('H01 HC10'!F65=\"\",\"\",'H01 HC10'!F65)","v":""},{"$f":"IF('H01 HC10'!G65=\"\",\"\",'H01 HC10'!G65)","v":""},{"$f":"IF('H01 HC10'!H65=\"\",\"\",'H01 HC10'!H65)","v":""},{"$f":"IF('H01 HC10'!I65=\"\",\"\",'H01 HC10'!I65)","v":""},{"$f":"IF('H01 HC10'!J65=\"\",\"\",'H01 HC10'!J65)","v":""},{"$f":"IF(D973=\"\",\"\",VLOOKUP(D973,#REF!,3,0))","v":""},{"$f":"IF('H01 HC10'!K65=\"\",\"\",'H01 HC10'!K65)","v":""},{"$f":"IF('H01 HC10'!L65=\"\",\"\",'H01 HC10'!L65)","v":""},{"$f":"IF('H01 HC10'!M65=\"\",\"\",'H01 HC10'!M65)","v":""},{"$f":"IF('H01 HC10'!N65=\"\",\"\",'H01 HC10'!N65)","v":""},{"$f":"IF('H01 HC10'!O65=\"\",\"\",'H01 HC10'!O65)","v":""},{"$f":"IF('H01 HC10'!P65=\"\",\"\",'H01 HC10'!P65)","v":""},{"$f":"IF('H01 HC10'!Q65=\"\",\"\",'H01 HC10'!Q65)","v":""},{"$f":"IF('H01 HC10'!R65=\"\",\"\",'H01 HC10'!R65)","v":""},{"$f":"IF('H01 HC10'!S65=\"\",\"\",'H01 HC10'!S65)","v":""},{"$f":"IF('H01 HC10'!T65=\"\",\"\",'H01 HC10'!T65)","v":""}]
[null,{"$f":"IF('H01 HC10'!B66=\"\",\"\",'H01 HC10'!B66)","v":""},{"$f":"IF('H01 HC10'!C66=\"\",\"\",'H01 HC10'!C66)","v":""},{"$f":"IF('H01 HC10'!D66=\"\",\"\",'H01 HC10'!D66)","v":""},null,null,null,null,null,{"$f":"IF('H01 HC10'!E66=\"\",\"\",'H01 HC10'!E66)","v":""},{"$f":"IF('H01 HC10'!F66=\"\",\"\",'H01 HC10'!F66)","v":""},{"$f":"IF('H01 HC10'!G66=\"\",\"\",'H01 HC10'!G66)","v":""},{"$f":"IF('H01 HC10'!H66=\"\",\"\",'H01 HC10'!H66)","v":""},{"$f":"IF('H01 HC10'!I66=\"\",\"\",'H01 HC10'!I66)","v":""},{"$f":"IF('H01 HC10'!J66=\"\",\"\",'H01 HC10'!J66)","v":""},{"$f":"IF(D974=\"\",\"\",VLOOKUP(D974,#REF!,3,0))","v":""},{"$f":"IF('H01 HC10'!K66=\"\",\"\",'H01 HC10'!K66)","v":""},{"$f":"IF('H01 HC10'!L66=\"\",\"\",'H01 HC10'!L66)","v":""},{"$f":"IF('H01 HC10'!M66=\"\",\"\",'H01 HC10'!M66)","v":""},{"$f":"IF('H01 HC10'!N66=\"\",\"\",'H01 HC10'!N66)","v":""},{"$f":"IF('H01 HC10'!O66=\"\",\"\",'H01 HC10'!O66)","v":""},{"$f":"IF('H01 HC10'!P66=\"\",\"\",'H01 HC10'!P66)","v":""},{"$f":"IF('H01 HC10'!Q66=\"\",\"\",'H01 HC10'!Q66)","v":""},{"$f":"IF('H01 HC10'!R66=\"\",\"\",'H01 HC10'!R66)","v":""},{"$f":"IF('H01 HC10'!S66=\"\",\"\",'H01 HC10'!S66)","v":""},{"$f":"IF('H01 HC10'!T66=\"\",\"\",'H01 HC10'!T66)","v":""}]
[null,{"$f":"IF('H01 HC10'!B67=\"\",\"\",'H01 HC10'!B67)","v":""},{"$f":"IF('H01 HC10'!C67=\"\",\"\",'H01 HC10'!C67)","v":""},{"$f":"IF('H01 HC10'!D67=\"\",\"\",'H01 HC10'!D67)","v":""},null,null,null,null,null,{"$f":"IF('H01 HC10'!E67=\"\",\"\",'H01 HC10'!E67)","v":""},{"$f":"IF('H01 HC10'!F67=\"\",\"\",'H01 HC10'!F67)","v":""},{"$f":"IF('H01 HC10'!G67=\"\",\"\",'H01 HC10'!G67)","v":""},{"$f":"IF('H01 HC10'!H67=\"\",\"\",'H01 HC10'!H67)","v":""},{"$f":"IF('H01 HC10'!I67=\"\",\"\",'H01 HC10'!I67)","v":""},{"$f":"IF('H01 HC10'!J67=\"\",\"\",'H01 HC10'!J67)","v":""},{"$f":"IF(D975=\"\",\"\",VLOOKUP(D975,#REF!,3,0))","v":""},{"$f":"IF('H01 HC10'!K67=\"\",\"\",'H01 HC10'!K67)","v":""},{"$f":"IF('H01 HC10'!L67=\"\",\"\",'H01 HC10'!L67)","v":""},{"$f":"IF('H01 HC10'!M67=\"\",\"\",'H01 HC10'!M67)","v":""},{"$f":"IF('H01 HC10'!N67=\"\",\"\",'H01 HC10'!N67)","v":""},{"$f":"IF('H01 HC10'!O67=\"\",\"\",'H01 HC10'!O67)","v":""},{"$f":"IF('H01 HC10'!P67=\"\",\"\",'H01 HC10'!P67)","v":""},{"$f":"IF('H01 HC10'!Q67=\"\",\"\",'H01 HC10'!Q67)","v":""},{"$f":"IF('H01 HC10'!R67=\"\",\"\",'H01 HC10'!R67)","v":""},{"$f":"IF('H01 HC10'!S67=\"\",\"\",'H01 HC10'!S67)","v":""},{"$f":"IF('H01 HC10'!T67=\"\",\"\",'H01 HC10'!T67)","v":""}]
[null,{"$f":"IF('H01 HC10'!B68=\"\",\"\",'H01 HC10'!B68)","v":""},{"$f":"IF('H01 HC10'!C68=\"\",\"\",'H01 HC10'!C68)","v":""},{"$f":"IF('H01 HC10'!D68=\"\",\"\",'H01 HC10'!D68)","v":""},null,null,null,null,null,{"$f":"IF('H01 HC10'!E68=\"\",\"\",'H01 HC10'!E68)","v":""},{"$f":"IF('H01 HC10'!F68=\"\",\"\",'H01 HC10'!F68)","v":""},{"$f":"IF('H01 HC10'!G68=\"\",\"\",'H01 HC10'!G68)","v":""},{"$f":"IF('H01 HC10'!H68=\"\",\"\",'H01 HC10'!H68)","v":""},{"$f":"IF('H01 HC10'!I68=\"\",\"\",'H01 HC10'!I68)","v":""},{"$f":"IF('H01 HC10'!J68=\"\",\"\",'H01 HC10'!J68)","v":""},{"$f":"IF(D976=\"\",\"\",VLOOKUP(D976,#REF!,3,0))","v":""},{"$f":"IF('H01 HC10'!K68=\"\",\"\",'H01 HC10'!K68)","v":""},{"$f":"IF('H01 HC10'!L68=\"\",\"\",'H01 HC10'!L68)","v":""},{"$f":"IF('H01 HC10'!M68=\"\",\"\",'H01 HC10'!M68)","v":""},{"$f":"IF('H01 HC10'!N68=\"\",\"\",'H01 HC10'!N68)","v":""},{"$f":"IF('H01 HC10'!O68=\"\",\"\",'H01 HC10'!O68)","v":""},{"$f":"IF('H01 HC10'!P68=\"\",\"\",'H01 HC10'!P68)","v":""},{"$f":"IF('H01 HC10'!Q68=\"\",\"\",'H01 HC10'!Q68)","v":""},{"$f":"IF('H01 HC10'!R68=\"\",\"\",'H01 HC10'!R68)","v":""},{"$f":"IF('H01 HC10'!S68=\"\",\"\",'H01 HC10'!S68)","v":""},{"$f":"IF('H01 HC10'!T68=\"\",\"\",'H01 HC10'!T68)","v":""}]
[null,{"$f":"IF('H01 HC10'!B69=\"\",\"\",'H01 HC10'!B69)","v":""},{"$f":"IF('H01 HC10'!C69=\"\",\"\",'H01 HC10'!C69)","v":""},{"$f":"IF('H01 HC10'!D69=\"\",\"\",'H01 HC10'!D69)","v":""},null,null,null,null,null,{"$f":"IF('H01 HC10'!E69=\"\",\"\",'H01 HC10'!E69)","v":""},{"$f":"IF('H01 HC10'!F69=\"\",\"\",'H01 HC10'!F69)","v":""},{"$f":"IF('H01 HC10'!G69=\"\",\"\",'H01 HC10'!G69)","v":""},{"$f":"IF('H01 HC10'!H69=\"\",\"\",'H01 HC10'!H69)","v":""},{"$f":"IF('H01 HC10'!I69=\"\",\"\",'H01 HC10'!I69)","v":""},{"$f":"IF('H01 HC10'!J69=\"\",\"\",'H01 HC10'!J69)","v":""},{"$f":"IF(D977=\"\",\"\",VLOOKUP(D977,#REF!,3,0))","v":""},{"$f":"IF('H01 HC10'!K69=\"\",\"\",'H01 HC10'!K69)","v":""},{"$f":"IF('H01 HC10'!L69=\"\",\"\",'H01 HC10'!L69)","v":""},{"$f":"IF('H01 HC10'!M69=\"\",\"\",'H01 HC10'!M69)","v":""},{"$f":"IF('H01 HC10'!N69=\"\",\"\",'H01 HC10'!N69)","v":""},{"$f":"IF('H01 HC10'!O69=\"\",\"\",'H01 HC10'!O69)","v":""},{"$f":"IF('H01 HC10'!P69=\"\",\"\",'H01 HC10'!P69)","v":""},{"$f":"IF('H01 HC10'!Q69=\"\",\"\",'H01 HC10'!Q69)","v":""},{"$f":"IF('H01 HC10'!R69=\"\",\"\",'H01 HC10'!R69)","v":""},{"$f":"IF('H01 HC10'!S69=\"\",\"\",'H01 HC10'!S69)","v":""},{"$f":"IF('H01 HC10'!T69=\"\",\"\",'H01 HC10'!T69)","v":""}]
[null,{"$f":"IF('H01 HC10'!B70=\"\",\"\",'H01 HC10'!B70)","v":""},{"$f":"IF('H01 HC10'!C70=\"\",\"\",'H01 HC10'!C70)","v":""},{"$f":"IF('H01 HC10'!D70=\"\",\"\",'H01 HC10'!D70)","v":""},null,null,null,null,null,{"$f":"IF('H01 HC10'!E70=\"\",\"\",'H01 HC10'!E70)","v":""},{"$f":"IF('H01 HC10'!F70=\"\",\"\",'H01 HC10'!F70)","v":""},{"$f":"IF('H01 HC10'!G70=\"\",\"\",'H01 HC10'!G70)","v":""},{"$f":"IF('H01 HC10'!H70=\"\",\"\",'H01 HC10'!H70)","v":""},{"$f":"IF('H01 HC10'!I70=\"\",\"\",'H01 HC10'!I70)","v":""},{"$f":"IF('H01 HC10'!J70=\"\",\"\",'H01 HC10'!J70)","v":""},{"$f":"IF(D978=\"\",\"\",VLOOKUP(D978,#REF!,3,0))","v":""},{"$f":"IF('H01 HC10'!K70=\"\",\"\",'H01 HC10'!K70)","v":""},{"$f":"IF('H01 HC10'!L70=\"\",\"\",'H01 HC10'!L70)","v":""},{"$f":"IF('H01 HC10'!M70=\"\",\"\",'H01 HC10'!M70)","v":""},{"$f":"IF('H01 HC10'!N70=\"\",\"\",'H01 HC10'!N70)","v":""},{"$f":"IF('H01 HC10'!O70=\"\",\"\",'H01 HC10'!O70)","v":""},{"$f":"IF('H01 HC10'!P70=\"\",\"\",'H01 HC10'!P70)","v":""},{"$f":"IF('H01 HC10'!Q70=\"\",\"\",'H01 HC10'!Q70)","v":""},{"$f":"IF('H01 HC10'!R70=\"\",\"\",'H01 HC10'!R70)","v":""},{"$f":"IF('H01 HC10'!S70=\"\",\"\",'H01 HC10'!S70)","v":""},{"$f":"IF('H01 HC10'!T70=\"\",\"\",'H01 HC10'!T70)","v":""}]
[null,{"$f":"IF('H01 HC10'!B71=\"\",\"\",'H01 HC10'!B71)","v":""},{"$f":"IF('H01 HC10'!C71=\"\",\"\",'H01 HC10'!C71)","v":""},{"$f":"IF('H01 HC10'!D71=\"\",\"\",'H01 HC10'!D71)","v":""},null,null,null,null,null,{"$f":"IF('H01 HC10'!E71=\"\",\"\",'H01 HC10'!E71)","v":""},{"$f":"IF('H01 HC10'!F71=\"\",\"\",'H01 HC10'!F71)","v":""},{"$f":"IF('H01 HC10'!G71=\"\",\"\",'H01 HC10'!G71)","v":""},{"$f":"IF('H01 HC10'!H71=\"\",\"\",'H01 HC10'!H71)","v":""},{"$f":"IF('H01 HC10'!I71=\"\",\"\",'H01 HC10'!I71)","v":""},{"$f":"IF('H01 HC10'!J71=\"\",\"\",'H01 HC10'!J71)","v":""},{"$f":"IF(D979=\"\",\"\",VLOOKUP(D979,#REF!,3,0))","v":""},{"$f":"IF('H01 HC10'!K71=\"\",\"\",'H01 HC10'!K71)","v":""},{"$f":"IF('H01 HC10'!L71=\"\",\"\",'H01 HC10'!L71)","v":""},{"$f":"IF('H01 HC10'!M71=\"\",\"\",'H01 HC10'!M71)","v":""},{"$f":"IF('H01 HC10'!N71=\"\",\"\",'H01 HC10'!N71)","v":""},{"$f":"IF('H01 HC10'!O71=\"\",\"\",'H01 HC10'!O71)","v":""},{"$f":"IF('H01 HC10'!P71=\"\",\"\",'H01 HC10'!P71)","v":""},{"$f":"IF('H01 HC10'!Q71=\"\",\"\",'H01 HC10'!Q71)","v":""},{"$f":"IF('H01 HC10'!R71=\"\",\"\",'H01 HC10'!R71)","v":""},{"$f":"IF('H01 HC10'!S71=\"\",\"\",'H01 HC10'!S71)","v":""},{"$f":"IF('H01 HC10'!T71=\"\",\"\",'H01 HC10'!T71)","v":""}]
[null,{"$f":"IF('H01 HC10'!B72=\"\",\"\",'H01 HC10'!B72)","v":""},{"$f":"IF('H01 HC10'!C72=\"\",\"\",'H01 HC10'!C72)","v":""},{"$f":"IF('H01 HC10'!D72=\"\",\"\",'H01 HC10'!D72)","v":""},null,null,null,null,null,{"$f":"IF('H01 HC10'!E72=\"\",\"\",'H01 HC10'!E72)","v":""},{"$f":"IF('H01 HC10'!F72=\"\",\"\",'H01 HC10'!F72)","v":""},{"$f":"IF('H01 HC10'!G72=\"\",\"\",'H01 HC10'!G72)","v":""},{"$f":"IF('H01 HC10'!H72=\"\",\"\",'H01 HC10'!H72)","v":""},{"$f":"IF('H01 HC10'!I72=\"\",\"\",'H01 HC10'!I72)","v":""},{"$f":"IF('H01 HC10'!J72=\"\",\"\",'H01 HC10'!J72)","v":""},{"$f":"IF(D980=\"\",\"\",VLOOKUP(D980,#REF!,3,0))","v":""},{"$f":"IF('H01 HC10'!K72=\"\",\"\",'H01 HC10'!K72)","v":""},{"$f":"IF('H01 HC10'!L72=\"\",\"\",'H01 HC10'!L72)","v":""},{"$f":"IF('H01 HC10'!M72=\"\",\"\",'H01 HC10'!M72)","v":""},{"$f":"IF('H01 HC10'!N72=\"\",\"\",'H01 HC10'!N72)","v":""},{"$f":"IF('H01 HC10'!O72=\"\",\"\",'H01 HC10'!O72)","v":""},{"$f":"IF('H01 HC10'!P72=\"\",\"\",'H01 HC10'!P72)","v":""},{"$f":"IF('H01 HC10'!Q72=\"\",\"\",'H01 HC10'!Q72)","v":""},{"$f":"IF('H01 HC10'!R72=\"\",\"\",'H01 HC10'!R72)","v":""},{"$f":"IF('H01 HC10'!S72=\"\",\"\",'H01 HC10'!S72)","v":""},{"$f":"IF('H01 HC10'!T72=\"\",\"\",'H01 HC10'!T72)","v":""}]
[null,{"$f":"IF('H01 HC10'!B73=\"\",\"\",'H01 HC10'!B73)","v":""},{"$f":"IF('H01 HC10'!C73=\"\",\"\",'H01 HC10'!C73)","v":""},{"$f":"IF('H01 HC10'!D73=\"\",\"\",'H01 HC10'!D73)","v":""},null,null,null,null,null,{"$f":"IF('H01 HC10'!E73=\"\",\"\",'H01 HC10'!E73)","v":""},{"$f":"IF('H01 HC10'!F73=\"\",\"\",'H01 HC10'!F73)","v":""},{"$f":"IF('H01 HC10'!G73=\"\",\"\",'H01 HC10'!G73)","v":""},{"$f":"IF('H01 HC10'!H73=\"\",\"\",'H01 HC10'!H73)","v":""},{"$f":"IF('H01 HC10'!I73=\"\",\"\",'H01 HC10'!I73)","v":""},{"$f":"IF('H01 HC10'!J73=\"\",\"\",'H01 HC10'!J73)","v":""},{"$f":"IF(D981=\"\",\"\",VLOOKUP(D981,#REF!,3,0))","v":""},{"$f":"IF('H01 HC10'!K73=\"\",\"\",'H01 HC10'!K73)","v":""},{"$f":"IF('H01 HC10'!L73=\"\",\"\",'H01 HC10'!L73)","v":""},{"$f":"IF('H01 HC10'!M73=\"\",\"\",'H01 HC10'!M73)","v":""},{"$f":"IF('H01 HC10'!N73=\"\",\"\",'H01 HC10'!N73)","v":""},{"$f":"IF('H01 HC10'!O73=\"\",\"\",'H01 HC10'!O73)","v":""},{"$f":"IF('H01 HC10'!P73=\"\",\"\",'H01 HC10'!P73)","v":""},{"$f":"IF('H01 HC10'!Q73=\"\",\"\",'H01 HC10'!Q73)","v":""},{"$f":"IF('H01 HC10'!R73=\"\",\"\",'H01 HC10'!R73)","v":""},{"$f":"IF('H01 HC10'!S73=\"\",\"\",'H01 HC10'!S73)","v":""},{"$f":"IF('H01 HC10'!T73=\"\",\"\",'H01 HC10'!T73)","v":""}]
[null,{"$f":"IF('H01 HC10'!B74=\"\",\"\",'H01 HC10'!B74)","v":""},{"$f":"IF('H01 HC10'!C74=\"\",\"\",'H01 HC10'!C74)","v":""},{"$f":"IF('H01 HC10'!D74=\"\",\"\",'H01 HC10'!D74)","v":""},null,null,null,null,null,{"$f":"IF('H01 HC10'!E74=\"\",\"\",'H01 HC10'!E74)","v":""},{"$f":"IF('H01 HC10'!F74=\"\",\"\",'H01 HC10'!F74)","v":""},{"$f":"IF('H01 HC10'!G74=\"\",\"\",'H01 HC10'!G74)","v":""},{"$f":"IF('H01 HC10'!H74=\"\",\"\",'H01 HC10'!H74)","v":""},{"$f":"IF('H01 HC10'!I74=\"\",\"\",'H01 HC10'!I74)","v":""},{"$f":"IF('H01 HC10'!J74=\"\",\"\",'H01 HC10'!J74)","v":""},{"$f":"IF(D982=\"\",\"\",VLOOKUP(D982,#REF!,3,0))","v":""},{"$f":"IF('H01 HC10'!K74=\"\",\"\",'H01 HC10'!K74)","v":""},{"$f":"IF('H01 HC10'!L74=\"\",\"\",'H01 HC10'!L74)","v":""},{"$f":"IF('H01 HC10'!M74=\"\",\"\",'H01 HC10'!M74)","v":""},{"$f":"IF('H01 HC10'!N74=\"\",\"\",'H01 HC10'!N74)","v":""},{"$f":"IF('H01 HC10'!O74=\"\",\"\",'H01 HC10'!O74)","v":""},{"$f":"IF('H01 HC10'!P74=\"\",\"\",'H01 HC10'!P74)","v":""},{"$f":"IF('H01 HC10'!Q74=\"\",\"\",'H01 HC10'!Q74)","v":""},{"$f":"IF('H01 HC10'!R74=\"\",\"\",'H01 HC10'!R74)","v":""},{"$f":"IF('H01 HC10'!S74=\"\",\"\",'H01 HC10'!S74)","v":""},{"$f":"IF('H01 HC10'!T74=\"\",\"\",'H01 HC10'!T74)","v":""}]
[null,{"$f":"IF('H01 HC10'!B75=\"\",\"\",'H01 HC10'!B75)","v":""},{"$f":"IF('H01 HC10'!C75=\"\",\"\",'H01 HC10'!C75)","v":""},{"$f":"IF('H01 HC10'!D75=\"\",\"\",'H01 HC10'!D75)","v":""},null,null,null,null,null,{"$f":"IF('H01 HC10'!E75=\"\",\"\",'H01 HC10'!E75)","v":""},{"$f":"IF('H01 HC10'!F75=\"\",\"\",'H01 HC10'!F75)","v":""},{"$f":"IF('H01 HC10'!G75=\"\",\"\",'H01 HC10'!G75)","v":""},{"$f":"IF('H01 HC10'!H75=\"\",\"\",'H01 HC10'!H75)","v":""},{"$f":"IF('H01 HC10'!I75=\"\",\"\",'H01 HC10'!I75)","v":""},{"$f":"IF('H01 HC10'!J75=\"\",\"\",'H01 HC10'!J75)","v":""},{"$f":"IF(D983=\"\",\"\",VLOOKUP(D983,#REF!,3,0))","v":""},{"$f":"IF('H01 HC10'!K75=\"\",\"\",'H01 HC10'!K75)","v":""},{"$f":"IF('H01 HC10'!L75=\"\",\"\",'H01 HC10'!L75)","v":""},{"$f":"IF('H01 HC10'!M75=\"\",\"\",'H01 HC10'!M75)","v":""},{"$f":"IF('H01 HC10'!N75=\"\",\"\",'H01 HC10'!N75)","v":""},{"$f":"IF('H01 HC10'!O75=\"\",\"\",'H01 HC10'!O75)","v":""},{"$f":"IF('H01 HC10'!P75=\"\",\"\",'H01 HC10'!P75)","v":""},{"$f":"IF('H01 HC10'!Q75=\"\",\"\",'H01 HC10'!Q75)","v":""},{"$f":"IF('H01 HC10'!R75=\"\",\"\",'H01 HC10'!R75)","v":""},{"$f":"IF('H01 HC10'!S75=\"\",\"\",'H01 HC10'!S75)","v":""},{"$f":"IF('H01 HC10'!T75=\"\",\"\",'H01 HC10'!T75)","v":""}]
[null,{"$f":"IF('H01 HC10'!B76=\"\",\"\",'H01 HC10'!B76)","v":""},{"$f":"IF('H01 HC10'!C76=\"\",\"\",'H01 HC10'!C76)","v":""},{"$f":"IF('H01 HC10'!D76=\"\",\"\",'H01 HC10'!D76)","v":""},null,null,null,null,null,{"$f":"IF('H01 HC10'!E76=\"\",\"\",'H01 HC10'!E76)","v":""},{"$f":"IF('H01 HC10'!F76=\"\",\"\",'H01 HC10'!F76)","v":""},{"$f":"IF('H01 HC10'!G76=\"\",\"\",'H01 HC10'!G76)","v":""},{"$f":"IF('H01 HC10'!H76=\"\",\"\",'H01 HC10'!H76)","v":""},{"$f":"IF('H01 HC10'!I76=\"\",\"\",'H01 HC10'!I76)","v":""},{"$f":"IF('H01 HC10'!J76=\"\",\"\",'H01 HC10'!J76)","v":""},{"$f":"IF(D984=\"\",\"\",VLOOKUP(D984,#REF!,3,0))","v":""},{"$f":"IF('H01 HC10'!K76=\"\",\"\",'H01 HC10'!K76)","v":""},{"$f":"IF('H01 HC10'!L76=\"\",\"\",'H01 HC10'!L76)","v":""},{"$f":"IF('H01 HC10'!M76=\"\",\"\",'H01 HC10'!M76)","v":""},{"$f":"IF('H01 HC10'!N76=\"\",\"\",'H01 HC10'!N76)","v":""},{"$f":"IF('H01 HC10'!O76=\"\",\"\",'H01 HC10'!O76)","v":""},{"$f":"IF('H01 HC10'!P76=\"\",\"\",'H01 HC10'!P76)","v":""},{"$f":"IF('H01 HC10'!Q76=\"\",\"\",'H01 HC10'!Q76)","v":""},{"$f":"IF('H01 HC10'!R76=\"\",\"\",'H01 HC10'!R76)","v":""},{"$f":"IF('H01 HC10'!S76=\"\",\"\",'H01 HC10'!S76)","v":""},{"$f":"IF('H01 HC10'!T76=\"\",\"\",'H01 HC10'!T76)","v":""}]
[null,{"$f":"IF('H01 HC10'!B77=\"\",\"\",'H01 HC10'!B77)","v":""},{"$f":"IF('H01 HC10'!C77=\"\",\"\",'H01 HC10'!C77)","v":""},{"$f":"IF('H01 HC10'!D77=\"\",\"\",'H01 HC10'!D77)","v":""},null,null,null,null,null,{"$f":"IF('H01 HC10'!E77=\"\",\"\",'H01 HC10'!E77)","v":""},{"$f":"IF('H01 HC10'!F77=\"\",\"\",'H01 HC10'!F77)","v":""},{"$f":"IF('H01 HC10'!G77=\"\",\"\",'H01 HC10'!G77)","v":""},{"$f":"IF('H01 HC10'!H77=\"\",\"\",'H01 HC10'!H77)","v":""},{"$f":"IF('H01 HC10'!I77=\"\",\"\",'H01 HC10'!I77)","v":""},{"$f":"IF('H01 HC10'!J77=\"\",\"\",'H01 HC10'!J77)","v":""},{"$f":"IF(D985=\"\",\"\",VLOOKUP(D985,#REF!,3,0))","v":""},{"$f":"IF('H01 HC10'!K77=\"\",\"\",'H01 HC10'!K77)","v":""},{"$f":"IF('H01 HC10'!L77=\"\",\"\",'H01 HC10'!L77)","v":""},{"$f":"IF('H01 HC10'!M77=\"\",\"\",'H01 HC10'!M77)","v":""},{"$f":"IF('H01 HC10'!N77=\"\",\"\",'H01 HC10'!N77)","v":""},{"$f":"IF('H01 HC10'!O77=\"\",\"\",'H01 HC10'!O77)","v":""},{"$f":"IF('H01 HC10'!P77=\"\",\"\",'H01 HC10'!P77)","v":""},{"$f":"IF('H01 HC10'!Q77=\"\",\"\",'H01 HC10'!Q77)","v":""},{"$f":"IF('H01 HC10'!R77=\"\",\"\",'H01 HC10'!R77)","v":""},{"$f":"IF('H01 HC10'!S77=\"\",\"\",'H01 HC10'!S77)","v":""},{"$f":"IF('H01 HC10'!T77=\"\",\"\",'H01 HC10'!T77)","v":""}]
[null,{"$f":"IF('H01 HC10'!B78=\"\",\"\",'H01 HC10'!B78)","v":""},{"$f":"IF('H01 HC10'!C78=\"\",\"\",'H01 HC10'!C78)","v":""},{"$f":"IF('H01 HC10'!D78=\"\",\"\",'H01 HC10'!D78)","v":""},null,null,null,null,null,{"$f":"IF('H01 HC10'!E78=\"\",\"\",'H01 HC10'!E78)","v":""},{"$f":"IF('H01 HC10'!F78=\"\",\"\",'H01 HC10'!F78)","v":""},{"$f":"IF('H01 HC10'!G78=\"\",\"\",'H01 HC10'!G78)","v":""},{"$f":"IF('H01 HC10'!H78=\"\",\"\",'H01 HC10'!H78)","v":""},{"$f":"IF('H01 HC10'!I78=\"\",\"\",'H01 HC10'!I78)","v":""},{"$f":"IF('H01 HC10'!J78=\"\",\"\",'H01 HC10'!J78)","v":""},{"$f":"IF(D986=\"\",\"\",VLOOKUP(D986,#REF!,3,0))","v":""},{"$f":"IF('H01 HC10'!K78=\"\",\"\",'H01 HC10'!K78)","v":""},{"$f":"IF('H01 HC10'!L78=\"\",\"\",'H01 HC10'!L78)","v":""},{"$f":"IF('H01 HC10'!M78=\"\",\"\",'H01 HC10'!M78)","v":""},{"$f":"IF('H01 HC10'!N78=\"\",\"\",'H01 HC10'!N78)","v":""},{"$f":"IF('H01 HC10'!O78=\"\",\"\",'H01 HC10'!O78)","v":""},{"$f":"IF('H01 HC10'!P78=\"\",\"\",'H01 HC10'!P78)","v":""},{"$f":"IF('H01 HC10'!Q78=\"\",\"\",'H01 HC10'!Q78)","v":""},{"$f":"IF('H01 HC10'!R78=\"\",\"\",'H01 HC10'!R78)","v":""},{"$f":"IF('H01 HC10'!S78=\"\",\"\",'H01 HC10'!S78)","v":""},{"$f":"IF('H01 HC10'!T78=\"\",\"\",'H01 HC10'!T78)","v":""}]
[null,{"$f":"IF('H01 HC10'!B79=\"\",\"\",'H01 HC10'!B79)","v":""},{"$f":"IF('H01 HC10'!C79=\"\",\"\",'H01 HC10'!C79)","v":""},{"$f":"IF('H01 HC10'!D79=\"\",\"\",'H01 HC10'!D79)","v":""},null,null,null,null,null,{"$f":"IF('H01 HC10'!E79=\"\",\"\",'H01 HC10'!E79)","v":""},{"$f":"IF('H01 HC10'!F79=\"\",\"\",'H01 HC10'!F79)","v":""},{"$f":"IF('H01 HC10'!G79=\"\",\"\",'H01 HC10'!G79)","v":""},{"$f":"IF('H01 HC10'!H79=\"\",\"\",'H01 HC10'!H79)","v":""},{"$f":"IF('H01 HC10'!I79=\"\",\"\",'H01 HC10'!I79)","v":""},{"$f":"IF('H01 HC10'!J79=\"\",\"\",'H01 HC10'!J79)","v":""},{"$f":"IF(D987=\"\",\"\",VLOOKUP(D987,#REF!,3,0))","v":""},{"$f":"IF('H01 HC10'!K79=\"\",\"\",'H01 HC10'!K79)","v":""},{"$f":"IF('H01 HC10'!L79=\"\",\"\",'H01 HC10'!L79)","v":""},{"$f":"IF('H01 HC10'!M79=\"\",\"\",'H01 HC10'!M79)","v":""},{"$f":"IF('H01 HC10'!N79=\"\",\"\",'H01 HC10'!N79)","v":""},{"$f":"IF('H01 HC10'!O79=\"\",\"\",'H01 HC10'!O79)","v":""},{"$f":"IF('H01 HC10'!P79=\"\",\"\",'H01 HC10'!P79)","v":""},{"$f":"IF('H01 HC10'!Q79=\"\",\"\",'H01 HC10'!Q79)","v":""},{"$f":"IF('H01 HC10'!R79=\"\",\"\",'H01 HC10'!R79)","v":""},{"$f":"IF('H01 HC10'!S79=\"\",\"\",'H01 HC10'!S79)","v":""},{"$f":"IF('H01 HC10'!T79=\"\",\"\",'H01 HC10'!T79)","v":""}]
[null,{"$f":"IF('H01 HC10'!B80=\"\",\"\",'H01 HC10'!B80)","v":""},{"$f":"IF('H01 HC10'!C80=\"\",\"\",'H01 HC10'!C80)","v":""},{"$f":"IF('H01 HC10'!D80=\"\",\"\",'H01 HC10'!D80)","v":""},null,null,null,null,null,{"$f":"IF('H01 HC10'!E80=\"\",\"\",'H01 HC10'!E80)","v":""},{"$f":"IF('H01 HC10'!F80=\"\",\"\",'H01 HC10'!F80)","v":""},{"$f":"IF('H01 HC10'!G80=\"\",\"\",'H01 HC10'!G80)","v":""},{"$f":"IF('H01 HC10'!H80=\"\",\"\",'H01 HC10'!H80)","v":""},{"$f":"IF('H01 HC10'!I80=\"\",\"\",'H01 HC10'!I80)","v":""},{"$f":"IF('H01 HC10'!J80=\"\",\"\",'H01 HC10'!J80)","v":""},{"$f":"IF(D988=\"\",\"\",VLOOKUP(D988,#REF!,3,0))","v":""},{"$f":"IF('H01 HC10'!K80=\"\",\"\",'H01 HC10'!K80)","v":""},{"$f":"IF('H01 HC10'!L80=\"\",\"\",'H01 HC10'!L80)","v":""},{"$f":"IF('H01 HC10'!M80=\"\",\"\",'H01 HC10'!M80)","v":""},{"$f":"IF('H01 HC10'!N80=\"\",\"\",'H01 HC10'!N80)","v":""},{"$f":"IF('H01 HC10'!O80=\"\",\"\",'H01 HC10'!O80)","v":""},{"$f":"IF('H01 HC10'!P80=\"\",\"\",'H01 HC10'!P80)","v":""},{"$f":"IF('H01 HC10'!Q80=\"\",\"\",'H01 HC10'!Q80)","v":""},{"$f":"IF('H01 HC10'!R80=\"\",\"\",'H01 HC10'!R80)","v":""},{"$f":"IF('H01 HC10'!S80=\"\",\"\",'H01 HC10'!S80)","v":""},{"$f":"IF('H01 HC10'!T80=\"\",\"\",'H01 HC10'!T80)","v":""}]
[null,{"$f":"IF('H01 HC10'!B81=\"\",\"\",'H01 HC10'!B81)","v":""},{"$f":"IF('H01 HC10'!C81=\"\",\"\",'H01 HC10'!C81)","v":""},{"$f":"IF('H01 HC10'!D81=\"\",\"\",'H01 HC10'!D81)","v":""},null,null,null,null,null,{"$f":"IF('H01 HC10'!E81=\"\",\"\",'H01 HC10'!E81)","v":""},{"$f":"IF('H01 HC10'!F81=\"\",\"\",'H01 HC10'!F81)","v":""},{"$f":"IF('H01 HC10'!G81=\"\",\"\",'H01 HC10'!G81)","v":""},{"$f":"IF('H01 HC10'!H81=\"\",\"\",'H01 HC10'!H81)","v":""},{"$f":"IF('H01 HC10'!I81=\"\",\"\",'H01 HC10'!I81)","v":""},{"$f":"IF('H01 HC10'!J81=\"\",\"\",'H01 HC10'!J81)","v":""},{"$f":"IF(D989=\"\",\"\",VLOOKUP(D989,#REF!,3,0))","v":""},{"$f":"IF('H01 HC10'!K81=\"\",\"\",'H01 HC10'!K81)","v":""},{"$f":"IF('H01 HC10'!L81=\"\",\"\",'H01 HC10'!L81)","v":""},{"$f":"IF('H01 HC10'!M81=\"\",\"\",'H01 HC10'!M81)","v":""},{"$f":"IF('H01 HC10'!N81=\"\",\"\",'H01 HC10'!N81)","v":""},{"$f":"IF('H01 HC10'!O81=\"\",\"\",'H01 HC10'!O81)","v":""},{"$f":"IF('H01 HC10'!P81=\"\",\"\",'H01 HC10'!P81)","v":""},{"$f":"IF('H01 HC10'!Q81=\"\",\"\",'H01 HC10'!Q81)","v":""},{"$f":"IF('H01 HC10'!R81=\"\",\"\",'H01 HC10'!R81)","v":""},{"$f":"IF('H01 HC10'!S81=\"\",\"\",'H01 HC10'!S81)","v":""},{"$f":"IF('H01 HC10'!T81=\"\",\"\",'H01 HC10'!T81)","v":""}]
[null,{"$f":"IF('H01 HC10'!B82=\"\",\"\",'H01 HC10'!B82)","v":""},{"$f":"IF('H01 HC10'!C82=\"\",\"\",'H01 HC10'!C82)","v":""},{"$f":"IF('H01 HC10'!D82=\"\",\"\",'H01 HC10'!D82)","v":""},null,null,null,null,null,{"$f":"IF('H01 HC10'!E82=\"\",\"\",'H01 HC10'!E82)","v":""},{"$f":"IF('H01 HC10'!F82=\"\",\"\",'H01 HC10'!F82)","v":""},{"$f":"IF('H01 HC10'!G82=\"\",\"\",'H01 HC10'!G82)","v":""},{"$f":"IF('H01 HC10'!H82=\"\",\"\",'H01 HC10'!H82)","v":""},{"$f":"IF('H01 HC10'!I82=\"\",\"\",'H01 HC10'!I82)","v":""},{"$f":"IF('H01 HC10'!J82=\"\",\"\",'H01 HC10'!J82)","v":""},{"$f":"IF(D990=\"\",\"\",VLOOKUP(D990,#REF!,3,0))","v":""},{"$f":"IF('H01 HC10'!K82=\"\",\"\",'H01 HC10'!K82)","v":""},{"$f":"IF('H01 HC10'!L82=\"\",\"\",'H01 HC10'!L82)","v":""},{"$f":"IF('H01 HC10'!M82=\"\",\"\",'H01 HC10'!M82)","v":""},{"$f":"IF('H01 HC10'!N82=\"\",\"\",'H01 HC10'!N82)","v":""},{"$f":"IF('H01 HC10'!O82=\"\",\"\",'H01 HC10'!O82)","v":""},{"$f":"IF('H01 HC10'!P82=\"\",\"\",'H01 HC10'!P82)","v":""},{"$f":"IF('H01 HC10'!Q82=\"\",\"\",'H01 HC10'!Q82)","v":""},{"$f":"IF('H01 HC10'!R82=\"\",\"\",'H01 HC10'!R82)","v":""},{"$f":"IF('H01 HC10'!S82=\"\",\"\",'H01 HC10'!S82)","v":""},{"$f":"IF('H01 HC10'!T82=\"\",\"\",'H01 HC10'!T82)","v":""}]
[null,{"$f":"IF('H01 HC10'!B83=\"\",\"\",'H01 HC10'!B83)","v":""},{"$f":"IF('H01 HC10'!C83=\"\",\"\",'H01 HC10'!C83)","v":""},{"$f":"IF('H01 HC10'!D83=\"\",\"\",'H01 HC10'!D83)","v":""},null,null,null,null,null,{"$f":"IF('H01 HC10'!E83=\"\",\"\",'H01 HC10'!E83)","v":""},{"$f":"IF('H01 HC10'!F83=\"\",\"\",'H01 HC10'!F83)","v":""},{"$f":"IF('H01 HC10'!G83=\"\",\"\",'H01 HC10'!G83)","v":""},{"$f":"IF('H01 HC10'!H83=\"\",\"\",'H01 HC10'!H83)","v":""},{"$f":"IF('H01 HC10'!I83=\"\",\"\",'H01 HC10'!I83)","v":""},{"$f":"IF('H01 HC10'!J83=\"\",\"\",'H01 HC10'!J83)","v":""},{"$f":"IF(D991=\"\",\"\",VLOOKUP(D991,#REF!,3,0))","v":""},{"$f":"IF('H01 HC10'!K83=\"\",\"\",'H01 HC10'!K83)","v":""},{"$f":"IF('H01 HC10'!L83=\"\",\"\",'H01 HC10'!L83)","v":""},{"$f":"IF('H01 HC10'!M83=\"\",\"\",'H01 HC10'!M83)","v":""},{"$f":"IF('H01 HC10'!N83=\"\",\"\",'H01 HC10'!N83)","v":""},{"$f":"IF('H01 HC10'!O83=\"\",\"\",'H01 HC10'!O83)","v":""},{"$f":"IF('H01 HC10'!P83=\"\",\"\",'H01 HC10'!P83)","v":""},{"$f":"IF('H01 HC10'!Q83=\"\",\"\",'H01 HC10'!Q83)","v":""},{"$f":"IF('H01 HC10'!R83=\"\",\"\",'H01 HC10'!R83)","v":""},{"$f":"IF('H01 HC10'!S83=\"\",\"\",'H01 HC10'!S83)","v":""},{"$f":"IF('H01 HC10'!T83=\"\",\"\",'H01 HC10'!T83)","v":""}]
[null,{"$f":"IF('H01 HC10'!B84=\"\",\"\",'H01 HC10'!B84)","v":""},{"$f":"IF('H01 HC10'!C84=\"\",\"\",'H01 HC10'!C84)","v":""},{"$f":"IF('H01 HC10'!D84=\"\",\"\",'H01 HC10'!D84)","v":""},null,null,null,null,null,{"$f":"IF('H01 HC10'!E84=\"\",\"\",'H01 HC10'!E84)","v":""},{"$f":"IF('H01 HC10'!F84=\"\",\"\",'H01 HC10'!F84)","v":""},{"$f":"IF('H01 HC10'!G84=\"\",\"\",'H01 HC10'!G84)","v":""},{"$f":"IF('H01 HC10'!H84=\"\",\"\",'H01 HC10'!H84)","v":""},{"$f":"IF('H01 HC10'!I84=\"\",\"\",'H01 HC10'!I84)","v":""},{"$f":"IF('H01 HC10'!J84=\"\",\"\",'H01 HC10'!J84)","v":""},{"$f":"IF(D992=\"\",\"\",VLOOKUP(D992,#REF!,3,0))","v":""},{"$f":"IF('H01 HC10'!K84=\"\",\"\",'H01 HC10'!K84)","v":""},{"$f":"IF('H01 HC10'!L84=\"\",\"\",'H01 HC10'!L84)","v":""},{"$f":"IF('H01 HC10'!M84=\"\",\"\",'H01 HC10'!M84)","v":""},{"$f":"IF('H01 HC10'!N84=\"\",\"\",'H01 HC10'!N84)","v":""},{"$f":"IF('H01 HC10'!O84=\"\",\"\",'H01 HC10'!O84)","v":""},{"$f":"IF('H01 HC10'!P84=\"\",\"\",'H01 HC10'!P84)","v":""},{"$f":"IF('H01 HC10'!Q84=\"\",\"\",'H01 HC10'!Q84)","v":""},{"$f":"IF('H01 HC10'!R84=\"\",\"\",'H01 HC10'!R84)","v":""},{"$f":"IF('H01 HC10'!S84=\"\",\"\",'H01 HC10'!S84)","v":""},{"$f":"IF('H01 HC10'!T84=\"\",\"\",'H01 HC10'!T84)","v":""}]
[null,{"$f":"IF('H01 HC10'!B85=\"\",\"\",'H01 HC10'!B85)","v":""},{"$f":"IF('H01 HC10'!C85=\"\",\"\",'H01 HC10'!C85)","v":""},{"$f":"IF('H01 HC10'!D85=\"\",\"\",'H01 HC10'!D85)","v":""},null,null,null,null,null,{"$f":"IF('H01 HC10'!E85=\"\",\"\",'H01 HC10'!E85)","v":""},{"$f":"IF('H01 HC10'!F85=\"\",\"\",'H01 HC10'!F85)","v":""},{"$f":"IF('H01 HC10'!G85=\"\",\"\",'H01 HC10'!G85)","v":""},{"$f":"IF('H01 HC10'!H85=\"\",\"\",'H01 HC10'!H85)","v":""},{"$f":"IF('H01 HC10'!I85=\"\",\"\",'H01 HC10'!I85)","v":""},{"$f":"IF('H01 HC10'!J85=\"\",\"\",'H01 HC10'!J85)","v":""},{"$f":"IF(D993=\"\",\"\",VLOOKUP(D993,#REF!,3,0))","v":""},{"$f":"IF('H01 HC10'!K85=\"\",\"\",'H01 HC10'!K85)","v":""},{"$f":"IF('H01 HC10'!L85=\"\",\"\",'H01 HC10'!L85)","v":""},{"$f":"IF('H01 HC10'!M85=\"\",\"\",'H01 HC10'!M85)","v":""},{"$f":"IF('H01 HC10'!N85=\"\",\"\",'H01 HC10'!N85)","v":""},{"$f":"IF('H01 HC10'!O85=\"\",\"\",'H01 HC10'!O85)","v":""},{"$f":"IF('H01 HC10'!P85=\"\",\"\",'H01 HC10'!P85)","v":""},{"$f":"IF('H01 HC10'!Q85=\"\",\"\",'H01 HC10'!Q85)","v":""},{"$f":"IF('H01 HC10'!R85=\"\",\"\",'H01 HC10'!R85)","v":""},{"$f":"IF('H01 HC10'!S85=\"\",\"\",'H01 HC10'!S85)","v":""},{"$f":"IF('H01 HC10'!T85=\"\",\"\",'H01 HC10'!T85)","v":""}]
[null,{"$f":"IF('H01 HC10'!B86=\"\",\"\",'H01 HC10'!B86)","v":""},{"$f":"IF('H01 HC10'!C86=\"\",\"\",'H01 HC10'!C86)","v":""},{"$f":"IF('H01 HC10'!D86=\"\",\"\",'H01 HC10'!D86)","v":""},null,null,null,null,null,{"$f":"IF('H01 HC10'!E86=\"\",\"\",'H01 HC10'!E86)","v":""},{"$f":"IF('H01 HC10'!F86=\"\",\"\",'H01 HC10'!F86)","v":""},{"$f":"IF('H01 HC10'!G86=\"\",\"\",'H01 HC10'!G86)","v":""},{"$f":"IF('H01 HC10'!H86=\"\",\"\",'H01 HC10'!H86)","v":""},{"$f":"IF('H01 HC10'!I86=\"\",\"\",'H01 HC10'!I86)","v":""},{"$f":"IF('H01 HC10'!J86=\"\",\"\",'H01 HC10'!J86)","v":""},{"$f":"IF(D994=\"\",\"\",VLOOKUP(D994,#REF!,3,0))","v":""},{"$f":"IF('H01 HC10'!K86=\"\",\"\",'H01 HC10'!K86)","v":""},{"$f":"IF('H01 HC10'!L86=\"\",\"\",'H01 HC10'!L86)","v":""},{"$f":"IF('H01 HC10'!M86=\"\",\"\",'H01 HC10'!M86)","v":""},{"$f":"IF('H01 HC10'!N86=\"\",\"\",'H01 HC10'!N86)","v":""},{"$f":"IF('H01 HC10'!O86=\"\",\"\",'H01 HC10'!O86)","v":""},{"$f":"IF('H01 HC10'!P86=\"\",\"\",'H01 HC10'!P86)","v":""},{"$f":"IF('H01 HC10'!Q86=\"\",\"\",'H01 HC10'!Q86)","v":""},{"$f":"IF('H01 HC10'!R86=\"\",\"\",'H01 HC10'!R86)","v":""},{"$f":"IF('H01 HC10'!S86=\"\",\"\",'H01 HC10'!S86)","v":""},{"$f":"IF('H01 HC10'!T86=\"\",\"\",'H01 HC10'!T86)","v":""}]
[null,{"$f":"IF('H01 HC10'!B87=\"\",\"\",'H01 HC10'!B87)","v":""},{"$f":"IF('H01 HC10'!C87=\"\",\"\",'H01 HC10'!C87)","v":""},{"$f":"IF('H01 HC10'!D87=\"\",\"\",'H01 HC10'!D87)","v":""},null,null,null,null,null,{"$f":"IF('H01 HC10'!E87=\"\",\"\",'H01 HC10'!E87)","v":""},{"$f":"IF('H01 HC10'!F87=\"\",\"\",'H01 HC10'!F87)","v":""},{"$f":"IF('H01 HC10'!G87=\"\",\"\",'H01 HC10'!G87)","v":""},{"$f":"IF('H01 HC10'!H87=\"\",\"\",'H01 HC10'!H87)","v":""},{"$f":"IF('H01 HC10'!I87=\"\",\"\",'H01 HC10'!I87)","v":""},{"$f":"IF('H01 HC10'!J87=\"\",\"\",'H01 HC10'!J87)","v":""},{"$f":"IF(D995=\"\",\"\",VLOOKUP(D995,#REF!,3,0))","v":""},{"$f":"IF('H01 HC10'!K87=\"\",\"\",'H01 HC10'!K87)","v":""},{"$f":"IF('H01 HC10'!L87=\"\",\"\",'H01 HC10'!L87)","v":""},{"$f":"IF('H01 HC10'!M87=\"\",\"\",'H01 HC10'!M87)","v":""},{"$f":"IF('H01 HC10'!N87=\"\",\"\",'H01 HC10'!N87)","v":""},{"$f":"IF('H01 HC10'!O87=\"\",\"\",'H01 HC10'!O87)","v":""},{"$f":"IF('H01 HC10'!P87=\"\",\"\",'H01 HC10'!P87)","v":""},{"$f":"IF('H01 HC10'!Q87=\"\",\"\",'H01 HC10'!Q87)","v":""},{"$f":"IF('H01 HC10'!R87=\"\",\"\",'H01 HC10'!R87)","v":""},{"$f":"IF('H01 HC10'!S87=\"\",\"\",'H01 HC10'!S87)","v":""},{"$f":"IF('H01 HC10'!T87=\"\",\"\",'H01 HC10'!T87)","v":""}]
[null,{"$f":"IF('H01 HC10'!B88=\"\",\"\",'H01 HC10'!B88)","v":""},{"$f":"IF('H01 HC10'!C88=\"\",\"\",'H01 HC10'!C88)","v":""},{"$f":"IF('H01 HC10'!D88=\"\",\"\",'H01 HC10'!D88)","v":""},null,null,null,null,null,{"$f":"IF('H01 HC10'!E88=\"\",\"\",'H01 HC10'!E88)","v":""},{"$f":"IF('H01 HC10'!F88=\"\",\"\",'H01 HC10'!F88)","v":""},{"$f":"IF('H01 HC10'!G88=\"\",\"\",'H01 HC10'!G88)","v":""},{"$f":"IF('H01 HC10'!H88=\"\",\"\",'H01 HC10'!H88)","v":""},{"$f":"IF('H01 HC10'!I88=\"\",\"\",'H01 HC10'!I88)","v":""},{"$f":"IF('H01 HC10'!J88=\"\",\"\",'H01 HC10'!J88)","v":""},{"$f":"IF(D996=\"\",\"\",VLOOKUP(D996,#REF!,3,0))","v":""},{"$f":"IF('H01 HC10'!K88=\"\",\"\",'H01 HC10'!K88)","v":""},{"$f":"IF('H01 HC10'!L88=\"\",\"\",'H01 HC10'!L88)","v":""},{"$f":"IF('H01 HC10'!M88=\"\",\"\",'H01 HC10'!M88)","v":""},{"$f":"IF('H01 HC10'!N88=\"\",\"\",'H01 HC10'!N88)","v":""},{"$f":"IF('H01 HC10'!O88=\"\",\"\",'H01 HC10'!O88)","v":""},{"$f":"IF('H01 HC10'!P88=\"\",\"\",'H01 HC10'!P88)","v":""},{"$f":"IF('H01 HC10'!Q88=\"\",\"\",'H01 HC10'!Q88)","v":""},{"$f":"IF('H01 HC10'!R88=\"\",\"\",'H01 HC10'!R88)","v":""},{"$f":"IF('H01 HC10'!S88=\"\",\"\",'H01 HC10'!S88)","v":""},{"$f":"IF('H01 HC10'!T88=\"\",\"\",'H01 HC10'!T88)","v":""}]
[null,{"$f":"IF('H01 HC10'!B89=\"\",\"\",'H01 HC10'!B89)","v":""},{"$f":"IF('H01 HC10'!C89=\"\",\"\",'H01 HC10'!C89)","v":""},{"$f":"IF('H01 HC10'!D89=\"\",\"\",'H01 HC10'!D89)","v":""},null,null,null,null,null,{"$f":"IF('H01 HC10'!E89=\"\",\"\",'H01 HC10'!E89)","v":""},{"$f":"IF('H01 HC10'!F89=\"\",\"\",'H01 HC10'!F89)","v":""},{"$f":"IF('H01 HC10'!G89=\"\",\"\",'H01 HC10'!G89)","v":""},{"$f":"IF('H01 HC10'!H89=\"\",\"\",'H01 HC10'!H89)","v":""},{"$f":"IF('H01 HC10'!I89=\"\",\"\",'H01 HC10'!I89)","v":""},{"$f":"IF('H01 HC10'!J89=\"\",\"\",'H01 HC10'!J89)","v":""},{"$f":"IF(D997=\"\",\"\",VLOOKUP(D997,#REF!,3,0))","v":""},{"$f":"IF('H01 HC10'!K89=\"\",\"\",'H01 HC10'!K89)","v":""},{"$f":"IF('H01 HC10'!L89=\"\",\"\",'H01 HC10'!L89)","v":""},{"$f":"IF('H01 HC10'!M89=\"\",\"\",'H01 HC10'!M89)","v":""},{"$f":"IF('H01 HC10'!N89=\"\",\"\",'H01 HC10'!N89)","v":""},{"$f":"IF('H01 HC10'!O89=\"\",\"\",'H01 HC10'!O89)","v":""},{"$f":"IF('H01 HC10'!P89=\"\",\"\",'H01 HC10'!P89)","v":""},{"$f":"IF('H01 HC10'!Q89=\"\",\"\",'H01 HC10'!Q89)","v":""},{"$f":"IF('H01 HC10'!R89=\"\",\"\",'H01 HC10'!R89)","v":""},{"$f":"IF('H01 HC10'!S89=\"\",\"\",'H01 HC10'!S89)","v":""},{"$f":"IF('H01 HC10'!T89=\"\",\"\",'H01 HC10'!T89)","v":""}]
[null,{"$f":"IF('H01 HC10'!B90=\"\",\"\",'H01 HC10'!B90)","v":""},{"$f":"IF('H01 HC10'!C90=\"\",\"\",'H01 HC10'!C90)","v":""},{"$f":"IF('H01 HC10'!D90=\"\",\"\",'H01 HC10'!D90)","v":""},null,null,null,null,null,{"$f":"IF('H01 HC10'!E90=\"\",\"\",'H01 HC10'!E90)","v":""},{"$f":"IF('H01 HC10'!F90=\"\",\"\",'H01 HC10'!F90)","v":""},{"$f":"IF('H01 HC10'!G90=\"\",\"\",'H01 HC10'!G90)","v":""},{"$f":"IF('H01 HC10'!H90=\"\",\"\",'H01 HC10'!H90)","v":""},{"$f":"IF('H01 HC10'!I90=\"\",\"\",'H01 HC10'!I90)","v":""},{"$f":"IF('H01 HC10'!J90=\"\",\"\",'H01 HC10'!J90)","v":""},{"$f":"IF(D998=\"\",\"\",VLOOKUP(D998,#REF!,3,0))","v":""},{"$f":"IF('H01 HC10'!K90=\"\",\"\",'H01 HC10'!K90)","v":""},{"$f":"IF('H01 HC10'!L90=\"\",\"\",'H01 HC10'!L90)","v":""},{"$f":"IF('H01 HC10'!M90=\"\",\"\",'H01 HC10'!M90)","v":""},{"$f":"IF('H01 HC10'!N90=\"\",\"\",'H01 HC10'!N90)","v":""},{"$f":"IF('H01 HC10'!O90=\"\",\"\",'H01 HC10'!O90)","v":""},{"$f":"IF('H01 HC10'!P90=\"\",\"\",'H01 HC10'!P90)","v":""},{"$f":"IF('H01 HC10'!Q90=\"\",\"\",'H01 HC10'!Q90)","v":""},{"$f":"IF('H01 HC10'!R90=\"\",\"\",'H01 HC10'!R90)","v":""},{"$f":"IF('H01 HC10'!S90=\"\",\"\",'H01 HC10'!S90)","v":""},{"$f":"IF('H01 HC10'!T90=\"\",\"\",'H01 HC10'!T90)","v":""}]
[null,{"$f":"IF('H01 HC10'!B91=\"\",\"\",'H01 HC10'!B91)","v":""},{"$f":"IF('H01 HC10'!C91=\"\",\"\",'H01 HC10'!C91)","v":""},{"$f":"IF('H01 HC10'!D91=\"\",\"\",'H01 HC10'!D91)","v":""},null,null,null,null,null,{"$f":"IF('H01 HC10'!E91=\"\",\"\",'H01 HC10'!E91)","v":""},{"$f":"IF('H01 HC10'!F91=\"\",\"\",'H01 HC10'!F91)","v":""},{"$f":"IF('H01 HC10'!G91=\"\",\"\",'H01 HC10'!G91)","v":""},{"$f":"IF('H01 HC10'!H91=\"\",\"\",'H01 HC10'!H91)","v":""},{"$f":"IF('H01 HC10'!I91=\"\",\"\",'H01 HC10'!I91)","v":""},{"$f":"IF('H01 HC10'!J91=\"\",\"\",'H01 HC10'!J91)","v":""},{"$f":"IF(D999=\"\",\"\",VLOOKUP(D999,#REF!,3,0))","v":""},{"$f":"IF('H01 HC10'!K91=\"\",\"\",'H01 HC10'!K91)","v":""},{"$f":"IF('H01 HC10'!L91=\"\",\"\",'H01 HC10'!L91)","v":""},{"$f":"IF('H01 HC10'!M91=\"\",\"\",'H01 HC10'!M91)","v":""},{"$f":"IF('H01 HC10'!N91=\"\",\"\",'H01 HC10'!N91)","v":""},{"$f":"IF('H01 HC10'!O91=\"\",\"\",'H01 HC10'!O91)","v":""},{"$f":"IF('H01 HC10'!P91=\"\",\"\",'H01 HC10'!P91)","v":""},{"$f":"IF('H01 HC10'!Q91=\"\",\"\",'H01 HC10'!Q91)","v":""},{"$f":"IF('H01 HC10'!R91=\"\",\"\",'H01 HC10'!R91)","v":""},{"$f":"IF('H01 HC10'!S91=\"\",\"\",'H01 HC10'!S91)","v":""},{"$f":"IF('H01 HC10'!T91=\"\",\"\",'H01 HC10'!T91)","v":""}]
[null,{"$f":"IF('H01 HC10'!B92=\"\",\"\",'H01 HC10'!B92)","v":""},{"$f":"IF('H01 HC10'!C92=\"\",\"\",'H01 HC10'!C92)","v":""},{"$f":"IF('H01 HC10'!D92=\"\",\"\",'H01 HC10'!D92)","v":""},null,null,null,null,null,{"$f":"IF('H01 HC10'!E92=\"\",\"\",'H01 HC10'!E92)","v":""},{"$f":"IF('H01 HC10'!F92=\"\",\"\",'H01 HC10'!F92)","v":""},{"$f":"IF('H01 HC10'!G92=\"\",\"\",'H01 HC10'!G92)","v":""},{"$f":"IF('H01 HC10'!H92=\"\",\"\",'H01 HC10'!H92)","v":""},{"$f":"IF('H01 HC10'!I92=\"\",\"\",'H01 HC10'!I92)","v":""},{"$f":"IF('H01 HC10'!J92=\"\",\"\",'H01 HC10'!J92)","v":""},{"$f":"IF(D1000=\"\",\"\",VLOOKUP(D1000,#REF!,3,0))","v":""},{"$f":"IF('H01 HC10'!K92=\"\",\"\",'H01 HC10'!K92)","v":""},{"$f":"IF('H01 HC10'!L92=\"\",\"\",'H01 HC10'!L92)","v":""},{"$f":"IF('H01 HC10'!M92=\"\",\"\",'H01 HC10'!M92)","v":""},{"$f":"IF('H01 HC10'!N92=\"\",\"\",'H01 HC10'!N92)","v":""},{"$f":"IF('H01 HC10'!O92=\"\",\"\",'H01 HC10'!O92)","v":""},{"$f":"IF('H01 HC10'!P92=\"\",\"\",'H01 HC10'!P92)","v":""},{"$f":"IF('H01 HC10'!Q92=\"\",\"\",'H01 HC10'!Q92)","v":""},{"$f":"IF('H01 HC10'!R92=\"\",\"\",'H01 HC10'!R92)","v":""},{"$f":"IF('H01 HC10'!S92=\"\",\"\",'H01 HC10'!S92)","v":""},{"$f":"IF('H01 HC10'!T92=\"\",\"\",'H01 HC10'!T92)","v":""}]
[null,{"$f":"IF('H01 HC10'!B93=\"\",\"\",'H01 HC10'!B93)","v":""},{"$f":"IF('H01 HC10'!C93=\"\",\"\",'H01 HC10'!C93)","v":""},{"$f":"IF('H01 HC10'!D93=\"\",\"\",'H01 HC10'!D93)","v":""},null,null,null,null,null,{"$f":"IF('H01 HC10'!E93=\"\",\"\",'H01 HC10'!E93)","v":""},{"$f":"IF('H01 HC10'!F93=\"\",\"\",'H01 HC10'!F93)","v":""},{"$f":"IF('H01 HC10'!G93=\"\",\"\",'H01 HC10'!G93)","v":""},{"$f":"IF('H01 HC10'!H93=\"\",\"\",'H01 HC10'!H93)","v":""},{"$f":"IF('H01 HC10'!I93=\"\",\"\",'H01 HC10'!I93)","v":""},{"$f":"IF('H01 HC10'!J93=\"\",\"\",'H01 HC10'!J93)","v":""},{"$f":"IF(D1001=\"\",\"\",VLOOKUP(D1001,#REF!,3,0))","v":""},{"$f":"IF('H01 HC10'!K93=\"\",\"\",'H01 HC10'!K93)","v":""},{"$f":"IF('H01 HC10'!L93=\"\",\"\",'H01 HC10'!L93)","v":""},{"$f":"IF('H01 HC10'!M93=\"\",\"\",'H01 HC10'!M93)","v":""},{"$f":"IF('H01 HC10'!N93=\"\",\"\",'H01 HC10'!N93)","v":""},{"$f":"IF('H01 HC10'!O93=\"\",\"\",'H01 HC10'!O93)","v":""},{"$f":"IF('H01 HC10'!P93=\"\",\"\",'H01 HC10'!P93)","v":""},{"$f":"IF('H01 HC10'!Q93=\"\",\"\",'H01 HC10'!Q93)","v":""},{"$f":"IF('H01 HC10'!R93=\"\",\"\",'H01 HC10'!R93)","v":""},{"$f":"IF('H01 HC10'!S93=\"\",\"\",'H01 HC10'!S93)","v":""},{"$f":"IF('H01 HC10'!T93=\"\",\"\",'H01 HC10'!T93)","v":""}]
[null,{"$f":"IF('H01 HC10'!B94=\"\",\"\",'H01 HC10'!B94)","v":""},{"$f":"IF('H01 HC10'!C94=\"\",\"\",'H01 HC10'!C94)","v":""},{"$f":"IF('H01 HC10'!D94=\"\",\"\",'H01 HC10'!D94)","v":""},null,null,null,null,null,{"$f":"IF('H01 HC10'!E94=\"\",\"\",'H01 HC10'!E94)","v":""},{"$f":"IF('H01 HC10'!F94=\"\",\"\",'H01 HC10'!F94)","v":""},{"$f":"IF('H01 HC10'!G94=\"\",\"\",'H01 HC10'!G94)","v":""},{"$f":"IF('H01 HC10'!H94=\"\",\"\",'H01 HC10'!H94)","v":""},{"$f":"IF('H01 HC10'!I94=\"\",\"\",'H01 HC10'!I94)","v":""},{"$f":"IF('H01 HC10'!J94=\"\",\"\",'H01 HC10'!J94)","v":""},{"$f":"IF(D1002=\"\",\"\",VLOOKUP(D1002,#REF!,3,0))","v":""},{"$f":"IF('H01 HC10'!K94=\"\",\"\",'H01 HC10'!K94)","v":""},{"$f":"IF('H01 HC10'!L94=\"\",\"\",'H01 HC10'!L94)","v":""},{"$f":"IF('H01 HC10'!M94=\"\",\"\",'H01 HC10'!M94)","v":""},{"$f":"IF('H01 HC10'!N94=\"\",\"\",'H01 HC10'!N94)","v":""},{"$f":"IF('H01 HC10'!O94=\"\",\"\",'H01 HC10'!O94)","v":""},{"$f":"IF('H01 HC10'!P94=\"\",\"\",'H01 HC10'!P94)","v":""},{"$f":"IF('H01 HC10'!Q94=\"\",\"\",'H01 HC10'!Q94)","v":""},{"$f":"IF('H01 HC10'!R94=\"\",\"\",'H01 HC10'!R94)","v":""},{"$f":"IF('H01 HC10'!S94=\"\",\"\",'H01 HC10'!S94)","v":""},{"$f":"IF('H01 HC10'!T94=\"\",\"\",'H01 HC10'!T94)","v":""}]
[null,{"$f":"IF('H01 HC10'!B95=\"\",\"\",'H01 HC10'!B95)","v":""},{"$f":"IF('H01 HC10'!C95=\"\",\"\",'H01 HC10'!C95)","v":""},{"$f":"IF('H01 HC10'!D95=\"\",\"\",'H01 HC10'!D95)","v":""},null,null,null,null,null,{"$f":"IF('H01 HC10'!E95=\"\",\"\",'H01 HC10'!E95)","v":""},{"$f":"IF('H01 HC10'!F95=\"\",\"\",'H01 HC10'!F95)","v":""},{"$f":"IF('H01 HC10'!G95=\"\",\"\",'H01 HC10'!G95)","v":""},{"$f":"IF('H01 HC10'!H95=\"\",\"\",'H01 HC10'!H95)","v":""},{"$f":"IF('H01 HC10'!I95=\"\",\"\",'H01 HC10'!I95)","v":""},{"$f":"IF('H01 HC10'!J95=\"\",\"\",'H01 HC10'!J95)","v":""},{"$f":"IF(D1003=\"\",\"\",VLOOKUP(D1003,#REF!,3,0))","v":""},{"$f":"IF('H01 HC10'!K95=\"\",\"\",'H01 HC10'!K95)","v":""},{"$f":"IF('H01 HC10'!L95=\"\",\"\",'H01 HC10'!L95)","v":""},{"$f":"IF('H01 HC10'!M95=\"\",\"\",'H01 HC10'!M95)","v":""},{"$f":"IF('H01 HC10'!N95=\"\",\"\",'H01 HC10'!N95)","v":""},{"$f":"IF('H01 HC10'!O95=\"\",\"\",'H01 HC10'!O95)","v":""},{"$f":"IF('H01 HC10'!P95=\"\",\"\",'H01 HC10'!P95)","v":""},{"$f":"IF('H01 HC10'!Q95=\"\",\"\",'H01 HC10'!Q95)","v":""},{"$f":"IF('H01 HC10'!R95=\"\",\"\",'H01 HC10'!R95)","v":""},{"$f":"IF('H01 HC10'!S95=\"\",\"\",'H01 HC10'!S95)","v":""},{"$f":"IF('H01 HC10'!T95=\"\",\"\",'H01 HC10'!T95)","v":""}]
[null,{"$f":"IF('H01 HC10'!B96=\"\",\"\",'H01 HC10'!B96)","v":""},{"$f":"IF('H01 HC10'!C96=\"\",\"\",'H01 HC10'!C96)","v":""},{"$f":"IF('H01 HC10'!D96=\"\",\"\",'H01 HC10'!D96)","v":""},null,null,null,null,null,{"$f":"IF('H01 HC10'!E96=\"\",\"\",'H01 HC10'!E96)","v":""},{"$f":"IF('H01 HC10'!F96=\"\",\"\",'H01 HC10'!F96)","v":""},{"$f":"IF('H01 HC10'!G96=\"\",\"\",'H01 HC10'!G96)","v":""},{"$f":"IF('H01 HC10'!H96=\"\",\"\",'H01 HC10'!H96)","v":""},{"$f":"IF('H01 HC10'!I96=\"\",\"\",'H01 HC10'!I96)","v":""},{"$f":"IF('H01 HC10'!J96=\"\",\"\",'H01 HC10'!J96)","v":""},{"$f":"IF(D1004=\"\",\"\",VLOOKUP(D1004,#REF!,3,0))","v":""},{"$f":"IF('H01 HC10'!K96=\"\",\"\",'H01 HC10'!K96)","v":""},{"$f":"IF('H01 HC10'!L96=\"\",\"\",'H01 HC10'!L96)","v":""},{"$f":"IF('H01 HC10'!M96=\"\",\"\",'H01 HC10'!M96)","v":""},{"$f":"IF('H01 HC10'!N96=\"\",\"\",'H01 HC10'!N96)","v":""},{"$f":"IF('H01 HC10'!O96=\"\",\"\",'H01 HC10'!O96)","v":""},{"$f":"IF('H01 HC10'!P96=\"\",\"\",'H01 HC10'!P96)","v":""},{"$f":"IF('H01 HC10'!Q96=\"\",\"\",'H01 HC10'!Q96)","v":""},{"$f":"IF('H01 HC10'!R96=\"\",\"\",'H01 HC10'!R96)","v":""},{"$f":"IF('H01 HC10'!S96=\"\",\"\",'H01 HC10'!S96)","v":""},{"$f":"IF('H01 HC10'!T96=\"\",\"\",'H01 HC10'!T96)","v":""}]
[null,{"$f":"IF('H01 HC10'!B97=\"\",\"\",'H01 HC10'!B97)","v":""},{"$f":"IF('H01 HC10'!C97=\"\",\"\",'H01 HC10'!C97)","v":""},{"$f":"IF('H01 HC10'!D97=\"\",\"\",'H01 HC10'!D97)","v":""},null,null,null,null,null,{"$f":"IF('H01 HC10'!E97=\"\",\"\",'H01 HC10'!E97)","v":""},{"$f":"IF('H01 HC10'!F97=\"\",\"\",'H01 HC10'!F97)","v":""},{"$f":"IF('H01 HC10'!G97=\"\",\"\",'H01 HC10'!G97)","v":""},{"$f":"IF('H01 HC10'!H97=\"\",\"\",'H01 HC10'!H97)","v":""},{"$f":"IF('H01 HC10'!I97=\"\",\"\",'H01 HC10'!I97)","v":""},{"$f":"IF('H01 HC10'!J97=\"\",\"\",'H01 HC10'!J97)","v":""},{"$f":"IF(D1005=\"\",\"\",VLOOKUP(D1005,#REF!,3,0))","v":""},{"$f":"IF('H01 HC10'!K97=\"\",\"\",'H01 HC10'!K97)","v":""},{"$f":"IF('H01 HC10'!L97=\"\",\"\",'H01 HC10'!L97)","v":""},{"$f":"IF('H01 HC10'!M97=\"\",\"\",'H01 HC10'!M97)","v":""},{"$f":"IF('H01 HC10'!N97=\"\",\"\",'H01 HC10'!N97)","v":""},{"$f":"IF('H01 HC10'!O97=\"\",\"\",'H01 HC10'!O97)","v":""},{"$f":"IF('H01 HC10'!P97=\"\",\"\",'H01 HC10'!P97)","v":""},{"$f":"IF('H01 HC10'!Q97=\"\",\"\",'H01 HC10'!Q97)","v":""},{"$f":"IF('H01 HC10'!R97=\"\",\"\",'H01 HC10'!R97)","v":""},{"$f":"IF('H01 HC10'!S97=\"\",\"\",'H01 HC10'!S97)","v":""},{"$f":"IF('H01 HC10'!T97=\"\",\"\",'H01 HC10'!T97)","v":""}]
[null,{"$f":"IF('H01 HC10'!B98=\"\",\"\",'H01 HC10'!B98)","v":""},{"$f":"IF('H01 HC10'!C98=\"\",\"\",'H01 HC10'!C98)","v":""},{"$f":"IF('H01 HC10'!D98=\"\",\"\",'H01 HC10'!D98)","v":""},null,null,null,null,null,{"$f":"IF('H01 HC10'!E98=\"\",\"\",'H01 HC10'!E98)","v":""},{"$f":"IF('H01 HC10'!F98=\"\",\"\",'H01 HC10'!F98)","v":""},{"$f":"IF('H01 HC10'!G98=\"\",\"\",'H01 HC10'!G98)","v":""},{"$f":"IF('H01 HC10'!H98=\"\",\"\",'H01 HC10'!H98)","v":""},{"$f":"IF('H01 HC10'!I98=\"\",\"\",'H01 HC10'!I98)","v":""},{"$f":"IF('H01 HC10'!J98=\"\",\"\",'H01 HC10'!J98)","v":""},{"$f":"IF(D1006=\"\",\"\",VLOOKUP(D1006,#REF!,3,0))","v":""},{"$f":"IF('H01 HC10'!K98=\"\",\"\",'H01 HC10'!K98)","v":""},{"$f":"IF('H01 HC10'!L98=\"\",\"\",'H01 HC10'!L98)","v":""},{"$f":"IF('H01 HC10'!M98=\"\",\"\",'H01 HC10'!M98)","v":""},{"$f":"IF('H01 HC10'!N98=\"\",\"\",'H01 HC10'!N98)","v":""},{"$f":"IF('H01 HC10'!O98=\"\",\"\",'H01 HC10'!O98)","v":""},{"$f":"IF('H01 HC10'!P98=\"\",\"\",'H01 HC10'!P98)","v":""},{"$f":"IF('H01 HC10'!Q98=\"\",\"\",'H01 HC10'!Q98)","v":""},{"$f":"IF('H01 HC10'!R98=\"\",\"\",'H01 HC10'!R98)","v":""},{"$f":"IF('H01 HC10'!S98=\"\",\"\",'H01 HC10'!S98)","v":""},{"$f":"IF('H01 HC10'!T98=\"\",\"\",'H01 HC10'!T98)","v":""}]
[null,{"$f":"IF('H01 HC10'!B99=\"\",\"\",'H01 HC10'!B99)","v":""},{"$f":"IF('H01 HC10'!C99=\"\",\"\",'H01 HC10'!C99)","v":""},{"$f":"IF('H01 HC10'!D99=\"\",\"\",'H01 HC10'!D99)","v":""},null,null,null,null,null,{"$f":"IF('H01 HC10'!E99=\"\",\"\",'H01 HC10'!E99)","v":""},{"$f":"IF('H01 HC10'!F99=\"\",\"\",'H01 HC10'!F99)","v":""},{"$f":"IF('H01 HC10'!G99=\"\",\"\",'H01 HC10'!G99)","v":""},{"$f":"IF('H01 HC10'!H99=\"\",\"\",'H01 HC10'!H99)","v":""},{"$f":"IF('H01 HC10'!I99=\"\",\"\",'H01 HC10'!I99)","v":""},{"$f":"IF('H01 HC10'!J99=\"\",\"\",'H01 HC10'!J99)","v":""},{"$f":"IF(D1007=\"\",\"\",VLOOKUP(D1007,#REF!,3,0))","v":""},{"$f":"IF('H01 HC10'!K99=\"\",\"\",'H01 HC10'!K99)","v":""},{"$f":"IF('H01 HC10'!L99=\"\",\"\",'H01 HC10'!L99)","v":""},{"$f":"IF('H01 HC10'!M99=\"\",\"\",'H01 HC10'!M99)","v":""},{"$f":"IF('H01 HC10'!N99=\"\",\"\",'H01 HC10'!N99)","v":""},{"$f":"IF('H01 HC10'!O99=\"\",\"\",'H01 HC10'!O99)","v":""},{"$f":"IF('H01 HC10'!P99=\"\",\"\",'H01 HC10'!P99)","v":""},{"$f":"IF('H01 HC10'!Q99=\"\",\"\",'H01 HC10'!Q99)","v":""},{"$f":"IF('H01 HC10'!R99=\"\",\"\",'H01 HC10'!R99)","v":""},{"$f":"IF('H01 HC10'!S99=\"\",\"\",'H01 HC10'!S99)","v":""},{"$f":"IF('H01 HC10'!T99=\"\",\"\",'H01 HC10'!T99)","v":""}]
[null,{"$f":"IF('H01 HC10'!B100=\"\",\"\",'H01 HC10'!B100)","v":""},{"$f":"IF('H01 HC10'!C100=\"\",\"\",'H01 HC10'!C100)","v":""},{"$f":"IF('H01 HC10'!D100=\"\",\"\",'H01 HC10'!D100)","v":""},null,null,null,null,null,{"$f":"IF('H01 HC10'!E100=\"\",\"\",'H01 HC10'!E100)","v":""},{"$f":"IF('H01 HC10'!F100=\"\",\"\",'H01 HC10'!F100)","v":""},{"$f":"IF('H01 HC10'!G100=\"\",\"\",'H01 HC10'!G100)","v":""},{"$f":"IF('H01 HC10'!H100=\"\",\"\",'H01 HC10'!H100)","v":""},{"$f":"IF('H01 HC10'!I100=\"\",\"\",'H01 HC10'!I100)","v":""},{"$f":"IF('H01 HC10'!J100=\"\",\"\",'H01 HC10'!J100)","v":""},{"$f":"IF(D1008=\"\",\"\",VLOOKUP(D1008,#REF!,3,0))","v":""},{"$f":"IF('H01 HC10'!K100=\"\",\"\",'H01 HC10'!K100)","v":""},{"$f":"IF('H01 HC10'!L100=\"\",\"\",'H01 HC10'!L100)","v":""},{"$f":"IF('H01 HC10'!M100=\"\",\"\",'H01 HC10'!M100)","v":""},{"$f":"IF('H01 HC10'!N100=\"\",\"\",'H01 HC10'!N100)","v":""},{"$f":"IF('H01 HC10'!O100=\"\",\"\",'H01 HC10'!O100)","v":""},{"$f":"IF('H01 HC10'!P100=\"\",\"\",'H01 HC10'!P100)","v":""},{"$f":"IF('H01 HC10'!Q100=\"\",\"\",'H01 HC10'!Q100)","v":""},{"$f":"IF('H01 HC10'!R100=\"\",\"\",'H01 HC10'!R100)","v":""},{"$f":"IF('H01 HC10'!S100=\"\",\"\",'H01 HC10'!S100)","v":""},{"$f":"IF('H01 HC10'!T100=\"\",\"\",'H01 HC10'!T100)","v":""}]
[null,{"$f":"IF('H01 HC10'!B101=\"\",\"\",'H01 HC10'!B101)","v":""},{"$f":"IF('H01 HC10'!C101=\"\",\"\",'H01 HC10'!C101)","v":""},{"$f":"IF('H01 HC10'!D101=\"\",\"\",'H01 HC10'!D101)","v":""},null,null,null,null,null,{"$f":"IF('H01 HC10'!E101=\"\",\"\",'H01 HC10'!E101)","v":""},{"$f":"IF('H01 HC10'!F101=\"\",\"\",'H01 HC10'!F101)","v":""},{"$f":"IF('H01 HC10'!G101=\"\",\"\",'H01 HC10'!G101)","v":""},{"$f":"IF('H01 HC10'!H101=\"\",\"\",'H01 HC10'!H101)","v":""},{"$f":"IF('H01 HC10'!I101=\"\",\"\",'H01 HC10'!I101)","v":""},{"$f":"IF('H01 HC10'!J101=\"\",\"\",'H01 HC10'!J101)","v":""},{"$f":"IF(D1009=\"\",\"\",VLOOKUP(D1009,#REF!,3,0))","v":""},{"$f":"IF('H01 HC10'!K101=\"\",\"\",'H01 HC10'!K101)","v":""},{"$f":"IF('H01 HC10'!L101=\"\",\"\",'H01 HC10'!L101)","v":""},{"$f":"IF('H01 HC10'!M101=\"\",\"\",'H01 HC10'!M101)","v":""},{"$f":"IF('H01 HC10'!N101=\"\",\"\",'H01 HC10'!N101)","v":""},{"$f":"IF('H01 HC10'!O101=\"\",\"\",'H01 HC10'!O101)","v":""},{"$f":"IF('H01 HC10'!P101=\"\",\"\",'H01 HC10'!P101)","v":""},{"$f":"IF('H01 HC10'!Q101=\"\",\"\",'H01 HC10'!Q101)","v":""},{"$f":"IF('H01 HC10'!R101=\"\",\"\",'H01 HC10'!R101)","v":""},{"$f":"IF('H01 HC10'!S101=\"\",\"\",'H01 HC10'!S101)","v":""},{"$f":"IF('H01 HC10'!T101=\"\",\"\",'H01 HC10'!T101)","v":""}]
[null,{"$f":"IF('H01 HC10'!B102=\"\",\"\",'H01 HC10'!B102)","v":""},{"$f":"IF('H01 HC10'!C102=\"\",\"\",'H01 HC10'!C102)","v":""},{"$f":"IF('H01 HC10'!D102=\"\",\"\",'H01 HC10'!D102)","v":""},null,null,null,null,null,{"$f":"IF('H01 HC10'!E102=\"\",\"\",'H01 HC10'!E102)","v":""},{"$f":"IF('H01 HC10'!F102=\"\",\"\",'H01 HC10'!F102)","v":""},{"$f":"IF('H01 HC10'!G102=\"\",\"\",'H01 HC10'!G102)","v":""},{"$f":"IF('H01 HC10'!H102=\"\",\"\",'H01 HC10'!H102)","v":""},{"$f":"IF('H01 HC10'!I102=\"\",\"\",'H01 HC10'!I102)","v":""},{"$f":"IF('H01 HC10'!J102=\"\",\"\",'H01 HC10'!J102)","v":""},{"$f":"IF(D1010=\"\",\"\",VLOOKUP(D1010,#REF!,3,0))","v":""},{"$f":"IF('H01 HC10'!K102=\"\",\"\",'H01 HC10'!K102)","v":""},{"$f":"IF('H01 HC10'!L102=\"\",\"\",'H01 HC10'!L102)","v":""},{"$f":"IF('H01 HC10'!M102=\"\",\"\",'H01 HC10'!M102)","v":""},{"$f":"IF('H01 HC10'!N102=\"\",\"\",'H01 HC10'!N102)","v":""},{"$f":"IF('H01 HC10'!O102=\"\",\"\",'H01 HC10'!O102)","v":""},{"$f":"IF('H01 HC10'!P102=\"\",\"\",'H01 HC10'!P102)","v":""},{"$f":"IF('H01 HC10'!Q102=\"\",\"\",'H01 HC10'!Q102)","v":""},{"$f":"IF('H01 HC10'!R102=\"\",\"\",'H01 HC10'!R102)","v":""},{"$f":"IF('H01 HC10'!S102=\"\",\"\",'H01 HC10'!S102)","v":""},{"$f":"IF('H01 HC10'!T102=\"\",\"\",'H01 HC10'!T102)","v":""}]
[null,{"$f":"IF('H01 HC10'!B103=\"\",\"\",'H01 HC10'!B103)","v":""},{"$f":"IF('H01 HC10'!C103=\"\",\"\",'H01 HC10'!C103)","v":""},{"$f":"IF('H01 HC10'!D103=\"\",\"\",'H01 HC10'!D103)","v":""},null,null,null,null,null,{"$f":"IF('H01 HC10'!E103=\"\",\"\",'H01 HC10'!E103)","v":""},{"$f":"IF('H01 HC10'!F103=\"\",\"\",'H01 HC10'!F103)","v":""},{"$f":"IF('H01 HC10'!G103=\"\",\"\",'H01 HC10'!G103)","v":""},{"$f":"IF('H01 HC10'!H103=\"\",\"\",'H01 HC10'!H103)","v":""},{"$f":"IF('H01 HC10'!I103=\"\",\"\",'H01 HC10'!I103)","v":""},{"$f":"IF('H01 HC10'!J103=\"\",\"\",'H01 HC10'!J103)","v":""},{"$f":"IF(D1011=\"\",\"\",VLOOKUP(D1011,#REF!,3,0))","v":""},{"$f":"IF('H01 HC10'!K103=\"\",\"\",'H01 HC10'!K103)","v":""},{"$f":"IF('H01 HC10'!L103=\"\",\"\",'H01 HC10'!L103)","v":""},{"$f":"IF('H01 HC10'!M103=\"\",\"\",'H01 HC10'!M103)","v":""},{"$f":"IF('H01 HC10'!N103=\"\",\"\",'H01 HC10'!N103)","v":""},{"$f":"IF('H01 HC10'!O103=\"\",\"\",'H01 HC10'!O103)","v":""},{"$f":"IF('H01 HC10'!P103=\"\",\"\",'H01 HC10'!P103)","v":""},{"$f":"IF('H01 HC10'!Q103=\"\",\"\",'H01 HC10'!Q103)","v":""},{"$f":"IF('H01 HC10'!R103=\"\",\"\",'H01 HC10'!R103)","v":""},{"$f":"IF('H01 HC10'!S103=\"\",\"\",'H01 HC10'!S103)","v":""},{"$f":"IF('H01 HC10'!T103=\"\",\"\",'H01 HC10'!T103)","v":""}]
[null,{"$f":"IF('H01 HC10'!B104=\"\",\"\",'H01 HC10'!B104)","v":""},{"$f":"IF('H01 HC10'!C104=\"\",\"\",'H01 HC10'!C104)","v":""},{"$f":"IF('H01 HC10'!D104=\"\",\"\",'H01 HC10'!D104)","v":""},null,null,null,null,null,{"$f":"IF('H01 HC10'!E104=\"\",\"\",'H01 HC10'!E104)","v":""},{"$f":"IF('H01 HC10'!F104=\"\",\"\",'H01 HC10'!F104)","v":""},{"$f":"IF('H01 HC10'!G104=\"\",\"\",'H01 HC10'!G104)","v":""},{"$f":"IF('H01 HC10'!H104=\"\",\"\",'H01 HC10'!H104)","v":""},{"$f":"IF('H01 HC10'!I104=\"\",\"\",'H01 HC10'!I104)","v":""},{"$f":"IF('H01 HC10'!J104=\"\",\"\",'H01 HC10'!J104)","v":""},{"$f":"IF(D1012=\"\",\"\",VLOOKUP(D1012,#REF!,3,0))","v":""},{"$f":"IF('H01 HC10'!K104=\"\",\"\",'H01 HC10'!K104)","v":""},{"$f":"IF('H01 HC10'!L104=\"\",\"\",'H01 HC10'!L104)","v":""},{"$f":"IF('H01 HC10'!M104=\"\",\"\",'H01 HC10'!M104)","v":""},{"$f":"IF('H01 HC10'!N104=\"\",\"\",'H01 HC10'!N104)","v":""},{"$f":"IF('H01 HC10'!O104=\"\",\"\",'H01 HC10'!O104)","v":""},{"$f":"IF('H01 HC10'!P104=\"\",\"\",'H01 HC10'!P104)","v":""},{"$f":"IF('H01 HC10'!Q104=\"\",\"\",'H01 HC10'!Q104)","v":""},{"$f":"IF('H01 HC10'!R104=\"\",\"\",'H01 HC10'!R104)","v":""},{"$f":"IF('H01 HC10'!S104=\"\",\"\",'H01 HC10'!S104)","v":""},{"$f":"IF('H01 HC10'!T104=\"\",\"\",'H01 HC10'!T104)","v":""}]
[null,{"$f":"IF('H01 HC10'!B105=\"\",\"\",'H01 HC10'!B105)","v":""},{"$f":"IF('H01 HC10'!C105=\"\",\"\",'H01 HC10'!C105)","v":""},{"$f":"IF('H01 HC10'!D105=\"\",\"\",'H01 HC10'!D105)","v":""},null,null,null,null,null,{"$f":"IF('H01 HC10'!E105=\"\",\"\",'H01 HC10'!E105)","v":""},{"$f":"IF('H01 HC10'!F105=\"\",\"\",'H01 HC10'!F105)","v":""},{"$f":"IF('H01 HC10'!G105=\"\",\"\",'H01 HC10'!G105)","v":""},{"$f":"IF('H01 HC10'!H105=\"\",\"\",'H01 HC10'!H105)","v":""},{"$f":"IF('H01 HC10'!I105=\"\",\"\",'H01 HC10'!I105)","v":""},{"$f":"IF('H01 HC10'!J105=\"\",\"\",'H01 HC10'!J105)","v":""},{"$f":"IF(D1013=\"\",\"\",VLOOKUP(D1013,#REF!,3,0))","v":""},{"$f":"IF('H01 HC10'!K105=\"\",\"\",'H01 HC10'!K105)","v":""},{"$f":"IF('H01 HC10'!L105=\"\",\"\",'H01 HC10'!L105)","v":""},{"$f":"IF('H01 HC10'!M105=\"\",\"\",'H01 HC10'!M105)","v":""},{"$f":"IF('H01 HC10'!N105=\"\",\"\",'H01 HC10'!N105)","v":""},{"$f":"IF('H01 HC10'!O105=\"\",\"\",'H01 HC10'!O105)","v":""},{"$f":"IF('H01 HC10'!P105=\"\",\"\",'H01 HC10'!P105)","v":""},{"$f":"IF('H01 HC10'!Q105=\"\",\"\",'H01 HC10'!Q105)","v":""},{"$f":"IF('H01 HC10'!R105=\"\",\"\",'H01 HC10'!R105)","v":""},{"$f":"IF('H01 HC10'!S105=\"\",\"\",'H01 HC10'!S105)","v":""},{"$f":"IF('H01 HC10'!T105=\"\",\"\",'H01 HC10'!T105)","v":""}]
[null,{"$f":"IF('H01 HC10'!B106=\"\",\"\",'H01 HC10'!B106)","v":""},{"$f":"IF('H01 HC10'!C106=\"\",\"\",'H01 HC10'!C106)","v":""},{"$f":"IF('H01 HC10'!D106=\"\",\"\",'H01 HC10'!D106)","v":""},null,null,null,null,null,{"$f":"IF('H01 HC10'!E106=\"\",\"\",'H01 HC10'!E106)","v":""},{"$f":"IF('H01 HC10'!F106=\"\",\"\",'H01 HC10'!F106)","v":""},{"$f":"IF('H01 HC10'!G106=\"\",\"\",'H01 HC10'!G106)","v":""},{"$f":"IF('H01 HC10'!H106=\"\",\"\",'H01 HC10'!H106)","v":""},{"$f":"IF('H01 HC10'!I106=\"\",\"\",'H01 HC10'!I106)","v":""},{"$f":"IF('H01 HC10'!J106=\"\",\"\",'H01 HC10'!J106)","v":""},{"$f":"IF(D1014=\"\",\"\",VLOOKUP(D1014,#REF!,3,0))","v":""},{"$f":"IF('H01 HC10'!K106=\"\",\"\",'H01 HC10'!K106)","v":""},{"$f":"IF('H01 HC10'!L106=\"\",\"\",'H01 HC10'!L106)","v":""},{"$f":"IF('H01 HC10'!M106=\"\",\"\",'H01 HC10'!M106)","v":""},{"$f":"IF('H01 HC10'!N106=\"\",\"\",'H01 HC10'!N106)","v":""},{"$f":"IF('H01 HC10'!O106=\"\",\"\",'H01 HC10'!O106)","v":""},{"$f":"IF('H01 HC10'!P106=\"\",\"\",'H01 HC10'!P106)","v":""},{"$f":"IF('H01 HC10'!Q106=\"\",\"\",'H01 HC10'!Q106)","v":""},{"$f":"IF('H01 HC10'!R106=\"\",\"\",'H01 HC10'!R106)","v":""},{"$f":"IF('H01 HC10'!S106=\"\",\"\",'H01 HC10'!S106)","v":""},{"$f":"IF('H01 HC10'!T106=\"\",\"\",'H01 HC10'!T106)","v":""}]
[]
[]
[]
[]
[]
[]
[]
[]
[]
[]
[]
[]
[]
[]
[]
[]
[]
[]
[]
[]
[]
[]
[]
[]
[]
[]
[]
[]
[]
[]
[]
[]
[]
[]
[]
[]
[]
[]
[]
[]
[]
[]
[]
[]
[]
[]
[]
[]
[]
[]
[]
[]
[]
[]
[]
[]
[]
[]
[]
[]
[]
[]
[]
[]
[]
[]
[]
[]
[]
[]
[]
[]
[]
[]
[]
[]
[]
[]
[]
[]
[]
[]
[]
[]
[]
[]
[]
[]
[]
[]
[]
[]
[]
[]
[]
[]
[]
[]
[]
[]
[]
[]
[]
[]
[]
[]
[]
[]
[]
[]
[]
[]
[]
[]
[]
[]
[]
[]
[]
[]
[]
[]
[]
[]
[]
[]
[]
[]
[]
[]
[]
[]
[]
[]
[]
[]
[]
[]
[]
[]
[]
[]
[]
[]
[]
[]
[]
[]
[]
[]
[]
[]
[]
[]
[]
[]
[]
[]
[]
[]
[]
[]
[]
[]
[]
[]
[]
[]
[]
[]
[]
[]
[]
[]
[]
[]
[]
[]
[]
[]
[]
[]
[]
[]
[]
[]
[]
[]
[]
[]
[]
[]
[]
[]
[]
[]
[]
[]
[]
[]
[]
[]
[]
[]
[]
[]
[]
[]
[]
[]
[]
[]
[]
[]
[]
[]
[]
[]
[]
[]
[]
[]
[]
[]
[]
[]
[]
[]
[]
[]
[]
[]
[]
[]
[]
[]
[]
[]
[]
[]
[]
[]
[]
[]
[]
[]
[]
[]
[]
[]
[]
[]
[]
[]
[]
[]
[]
[]
[]
[]
[]
[]
[]
[]
[]
[]
[]
[]
[]
[]
[]
[]
[]
[]
[]
[]
[]
[]
[]
[]
[]
[]
[]
[]
[]
[]
[]
[]
[]
[]
[]
[]
[]
[]
[]
[]
[]
[]
[]
[]
[]
[]
[]
[]
[]
[]
[]
[]
[]
[]
[]
[]
[]
[]
[]
[]
[]
[]
[]
[]
[]
[]
[]
[]
[]
[]
[]
[]
[]
[]
[]
[]
[]
[]
[]
[]
[]
[]
[]
[]
[]
[]
[]
[]
[]
[]
[]
[]
[]
[]
[]
[]
[]
[]
[]
[]
[]
[]
[]
[]
[]
[]
[]
[]
[]
[]
[]
[]
[]
[]
[]
[]
[]
[]
[]
[]
[]
[]
[]
[]
[]
[]
[]
[]
[]
[]
[]
[]
[]
[]
[]
[]
[]
[]
[]
[]
[]
[]
[]
[]
[]
[]
[]
[]
[]
[]
[]
[]
[]
[]
[]
[]
[]
[]
[]
[]
[]
[]
[]
[]
[]
[]
[]
[]
[]
[]
[]
[]
[]
[]
[]
[]
[]
[]
[]
[]
[]
[]
[]
[]
[]
[]
[]
[]
[]
[]
[]
[]
[]
[]
[]
[]
[]
[]
[]
[]
[]
[]
[]
[]
[]
[]
[]
[]
[]
[]
[]
[]
[]
[]
[]
[]
[]
[]
[]
[]
[]
[]
[]
[]
[]
[]
[]
[]
[]
[]
[]
[]
[]
[]
[]
[]
[]
[]
[]
[]
[]
[]
[]
[]
[]
[]
[]
[]
[]
[]
[]
[]
[]
[]
[]
[]
[]
[]
[]
[]
[]
[]
[]
[]
[]
[]
[]
[]
[]
[]
[]
[]
[]
[]
[]
[]
[]
[]
[]
[]
[]
[]
[]
[]
[]
[]
[]
[]
[]
[]
[]
[]
[]
[]
[]
[]
[]
[]
[]
[]
[]
[]
[]
[]
[]
[]
[]
[]
[]
[]
[]
[]
[]
[]
[]
[]
[]
[]
[]
[]
[]
[]
[]
[]
[]
[]
[]
[]
[]
[]
[]
[]
[]
[]
[]
[]
[]
[]
[]
[]
[]
[]
[]
[]
[]
[]
[]
[]
[]
[]
[]
[]
[]
[]
[]
[]
[]
[]
[]
[]
[]
[]
[]
[]
[]
[]
[]
[]
[]
[]
[]
[]
[]
[]
[]
[]
[]
[]
[]
[]
[]
[]
[]
[]
[]
[]
[]
[]
[]
[]
[]
[]
[]
[]
[]
[]
[]
[]
[]
[]
[]
[]
[]
[]
[]
[]
[]
[]
[]
[]
[]
[]
[]
[]
[]
[]
[]
[]
[]
[]
[]
[]
[]
[]
[]
[]
[]
[]
[]
[]
[]
[]
[]
[]
[]
[]
[]
[]
[]
[]
[]
[]
[]
[]
[]
[]
[]
[]
[]
[]
[]
[]
[]
[]
[]
[]
[]
[]
[]
[]
[]
[]
[]
[]
[]
[]
[]
[]
[]
[]
[]
[]
[]
[]
[]
[]
[]
[]
[]
[]
[]
[]
[]
[]
[]
[]
[]
[]
[]
[]
[]
[]
[]
[]
[]
[]
[]
[]
[]
[]
[]
[]
[]
[]
[]
[]
[]
[]
[]
[]
[]
[]
[]
[]
[]
[]
[]
[]
[]
[]
[]
[]
[]
[]
[]
[]
[]
[]
[]
[]
[]
[]
[]
[]
[]
[]
[]
[]
[]
[]
[]
[]
[]
[]
[]
[]
[]
[]
[]
[]
[]
[]
[]
[]
[]
[]
[]
[]
[]
[]
[]
[]
[]
[]
[]
[]
[]
[]
[]
[]
[]
[]
[]
[]
[]
[]
[]
[]
[]
[]
[]
[]
[]
[]
[]
[]
[]
[]
[]
[]
[]
[]
[]
[]
[]
[]
[]
[]
[]
[]
[]
[]
[]
[]
[]
[]
[]
[]
[]
[]
[]
[]
[]
[]
[]
[]
[]
[]
[]
[]
[]
[]
[]
[]
[]
[]
[]
[]
[]
[]
[]
[]
[]
[]
[]
[]
[]
[]
[]
[]
[]
[]
[]
[]
[]
[]
[]
[]
[]
[]
[]
[]
[]
[]
[]
[]
[]
[]
[]
[]
[]
[]
[]
[]
[]
[]
[]
[]
[]
[]
[]
[]
[]
[]
[]
[]
[]
[]
[]
[]
[]
[]
[]
[]
[]
[]
[]
[]
[]
[]
[]
[]
[]
[]
[]
[]
[]
[]
[]
[]
[]
[]
[]
[]
[]
[]
[]
[]
[]
[]
[]
[]
[]
[]
[]
[]
[]
[]
[]
[]
[]
[]
[]
[]
[]
[]
[]
[]
[]
[]
[]
[]
[]
[]
[]
[]
[]
[]
[]
[]
[]
[]
[]
[]
[null,null,null,null,null,null,null,null,null,null,null,null,null,null,null,{"$f":"IF(D2015=\"\",\"\",VLOOKUP(D2015,#REF!,3,0))","v":""}]

{"sheet":"Energiventil ","index":6,"n_rows":49,"n_cols":10,"rows_kept":49,"cut":false,"hidden":false,"merged":[[47,1,47,14],[48,1,48,14],[11,8,12,8],[11,11,12,11],[11,14,12,14],[41,2,41,14],[43,1,46,14],[11,1,12,1],[11,2,12,2],[11,3,12,3],[11,4,12,4],[11,5,12,5],[2,2,2,3],[7,2,7,4],[10,1,10,5],[10,6,10,8],[10,9,10,13]]}
[]
[]
[]
[]
[]
[]
[]
[]
[]
[null,"QNA",{"$f":"IFERROR(HLOOKUP(C12,Produktliste!$13:$14,2,0),\"\")","v":3},{"$f":"IFERROR(HLOOKUP(D12,Produktliste!$13:$14,2,0),\"\")","v":4},8,{"$f":"IFERROR(HLOOKUP(F12,Produktliste!$13:$14,2,0),\"\")","v":0},{"$f":"IFERROR(HLOOKUP(G12,Produktliste!$13:$14,2,0),\"\")","v":0},12,null,12]
[null,"indregulering",null,null,null,null," Beregent",null,null,"Settings"]
[null,"ID nr. ","Rum nummer","Etage","Leverandør","Størrelse","Type nr. ","Flow [l/s]"]
[null,null,null,null,null,"Beregent","    ","Qm          "]
[null,"QNA",{"$f":"IFERROR(VLOOKUP($B14,Produktliste!$K$15:$W$2015,C$10,FALSE),\"\")","v":""},{"$f":"IFERROR(VLOOKUP($B14,Produktliste!$K$15:$W$2015,D$10,FALSE),\"\")","v":""},{"$f":"IFERROR(VLOOKUP($B14,Produktliste!$K$15:$W$2015,E$10,FALSE),\"\")","v":""},{"$f":"IFERROR(VLOOKUP($B14,Produktliste!$K$15:$W$2015,F$10,FALSE),\"\")","v":""},{"$f":"IFERROR(INDEX(Produktliste!$K$1:$K$3000,SMALL(IF(Produktliste!$D$14:$D$3000=$B$14,ROW(Produktliste!$D$14:$D$3000)),ROW(1:1))),\"\")","v":"=H01:HC08:QNA01"},{"$f":"IFERROR(VLOOKUP($B14,Produktliste!$K$15:$W$2015,H$10,FALSE),\"\")","v":""}]
[null,"QNA",{"$f":"IFERROR(VLOOKUP($B15,Produktliste!$K$15:$W$2015,C$10,FALSE),\"\")","v":""},{"$f":"IFERROR(VLOOKUP($B15,Produktliste!$K$15:$W$2015,D$10,FALSE),\"\")","v":""},{"$f":"IFERROR(VLOOKUP($B15,Produktliste!$K$15:$W$2015,E$10,FALSE),\"\")","v":""},{"$f":"IFERROR(VLOOKUP($B15,Produktliste!$K$15:$W$2015,F$10,FALSE),\"\")","v":""},{"$f":"IFERROR(INDEX(Produktliste!$K$1:$K$3000,SMALL(IF(Produktliste!$D$14:$D$3000=$B$14,ROW(Produktliste!$D$14:$D$3000)),ROW(2:2))),\"\")","v":"=H01:HC09:QNA01"},{"$f":"IFERROR(VLOOKUP($B15,Produktliste!$K$15:$W$2015,H$10,FALSE),\"\")","v":""}]
[null,"QNA",{"$f":"IFERROR(VLOOKUP($B16,Produktliste!$K$15:$W$2015,C$10,FALSE),\"\")","v":""},{"$f":"IFERROR(VLOOKUP($B16,Produktliste!$K$15:$W$2015,D$10,FALSE),\"\")","v":""},{"$f":"IFERROR(VLOOKUP($B16,Produktliste!$K$15:$W$2015,E$10,FALSE),\"\")","v":""},{"$f":"IFERROR(VLOOKUP($B16,Produktliste!$K$15:$W$2015,F$10,FALSE),\"\")","v":""},{"$f":"IFERROR(INDEX(Produktliste!$K$1:$K$3000,SMALL(IF(Produktliste!$D$14:$D$3000=$B$14,ROW(Produktliste!$D$14:$D$3000)),ROW(3:3))),\"\")","v":""},{"$f":"IFERROR(VLOOKUP($B16,Produktliste!$K$15:$W$2015,H$10,FALSE),\"\")","v":""}]
[null,"QNA",{"$f":"IFERROR(VLOOKUP($B17,Produktliste!$K$15:$W$2015,C$10,FALSE),\"\")","v":""},{"$f":"IFERROR(VLOOKUP($B17,Produktliste!$K$15:$W$2015,D$10,FALSE),\"\")","v":""},{"$f":"IFERROR(VLOOKUP($B17,Produktliste!$K$15:$W$2015,E$10,FALSE),\"\")","v":""},{"$f":"IFERROR(VLOOKUP($B17,Produktliste!$K$15:$W$2015,F$10,FALSE),\"\")","v":""},{"$f":"IFERROR(INDEX(Produktliste!$K$1:$K$3000,SMALL(IF(Produktliste!$D$14:$D$3000=$B$14,ROW(Produktliste!$D$14:$D$3000)),ROW(4:4))),\"\")","v":""},{"$f":"IFERROR(VLOOKUP($B17,Produktliste!$K$15:$W$2015,H$10,FALSE),\"\")","v":""}]
[null,"QNA",{"$f":"IFERROR(VLOOKUP($B18,Produktliste!$K$15:$W$2015,C$10,FALSE),\"\")","v":""},{"$f":"IFERROR(VLOOKUP($B18,Produktliste!$K$15:$W$2015,D$10,FALSE),\"\")","v":""},{"$f":"IFERROR(VLOOKUP($B18,Produktliste!$K$15:$W$2015,E$10,FALSE),\"\")","v":""},{"$f":"IFERROR(VLOOKUP($B18,Produktliste!$K$15:$W$2015,F$10,FALSE),\"\")","v":""},{"$f":"IFERROR(INDEX(Produktliste!$K$1:$K$3000,SMALL(IF(Produktliste!$D$14:$D$3000=$B$14,ROW(Produktliste!$D$14:$D$3000)),ROW(5:5))),\"\")","v":""},{"$f":"IFERROR(VLOOKUP($B18,Produktliste!$K$15:$W$2015,H$10,FALSE),\"\")","v":""}]
[null,"QNA",{"$f":"IFERROR(VLOOKUP($B19,Produktliste!$K$15:$W$2015,C$10,FALSE),\"\")","v":""},{"$f":"IFERROR(VLOOKUP($B19,Produktliste!$K$15:$W$2015,D$10,FALSE),\"\")","v":""},{"$f":"IFERROR(VLOOKUP($B19,Produktliste!$K$15:$W$2015,E$10,FALSE),\"\")","v":""},{"$f":"IFERROR(VLOOKUP($B19,Produktliste!$K$15:$W$2015,F$10,FALSE),\"\")","v":""},{"$f":"IFERROR(INDEX(Produktliste!$K$1:$K$3000,SMALL(IF(Produktliste!$D$14:$D$3000=$B$14,ROW(Produktliste!$D$14:$D$3000)),ROW(6:6))),\"\")","v":""},{"$f":"IFERROR(VLOOKUP($B19,Produktliste!$K$15:$W$2015,H$10,FALSE),\"\")","v":""}]
[null,"QNA",{"$f":"IFERROR(VLOOKUP($B20,Produktliste!$K$15:$W$2015,C$10,FALSE),\"\")","v":""},{"$f":"IFERROR(VLOOKUP($B20,Produktliste!$K$15:$W$2015,D$10,FALSE),\"\")","v":""},{"$f":"IFERROR(VLOOKUP($B20,Produktliste!$K$15:$W$2015,E$10,FALSE),\"\")","v":""},{"$f":"IFERROR(VLOOKUP($B20,Produktliste!$K$15:$W$2015,F$10,FALSE),\"\")","v":""},{"$f":"IFERROR(INDEX(Produktliste!$K$1:$K$3000,SMALL(IF(Produktliste!$D$14:$D$3000=$B$14,ROW(Produktliste!$D$14:$D$3000)),ROW(7:7))),\"\")","v":""},{"$f":"IFERROR(VLOOKUP($B20,Produktliste!$K$15:$W$2015,H$10,FALSE),\"\")","v":""}]
[null,"QNA",{"$f":"IFERROR(VLOOKUP($B21,Produktliste!$K$15:$W$2015,C$10,FALSE),\"\")","v":""},{"$f":"IFERROR(VLOOKUP($B21,Produktliste!$K$15:$W$2015,D$10,FALSE),\"\")","v":""},{"$f":"IFERROR(VLOOKUP($B21,Produktliste!$K$15:$W$2015,E$10,FALSE),\"\")","v":""},{"$f":"IFERROR(VLOOKUP($B21,Produktliste!$K$15:$W$2015,F$10,FALSE),\"\")","v":""},{"$f":"IFERROR(INDEX(Produktliste!$K$1:$K$3000,SMALL(IF(Produktliste!$D$14:$D$3000=$B$14,ROW(Produktliste!$D$14:$D$3000)),ROW(8:8))),\"\")","v":""},{"$f":"IFERROR(VLOOKUP($B21,Produktliste!$K$15:$W$2015,H$10,FALSE),\"\")","v":""}]
[null,"QNA",{"$f":"IFERROR(VLOOKUP($B22,Produktliste!$K$15:$W$2015,C$10,FALSE),\"\")","v":""},{"$f":"IFERROR(VLOOKUP($B22,Produktliste!$K$15:$W$2015,D$10,FALSE),\"\")","v":""},{"$f":"IFERROR(VLOOKUP($B22,Produktliste!$K$15:$W$2015,E$10,FALSE),\"\")","v":""},{"$f":"IFERROR(VLOOKUP($B22,Produktliste!$K$15:$W$2015,F$10,FALSE),\"\")","v":""},{"$f":"IFERROR(INDEX(Produktliste!$K$1:$K$3000,SMALL(IF(Produktliste!$D$14:$D$3000=$B$14,ROW(Produktliste!$D$14:$D$3000)),ROW(9:9))),\"\")","v":""},{"$f":"IFERROR(VLOOKUP($B22,Produktliste!$K$15:$W$2015,H$10,FALSE),\"\")","v":""}]
[null,"QNA",{"$f":"IFERROR(VLOOKUP($B23,Produktliste!$K$15:$W$2015,C$10,FALSE),\"\")","v":""},{"$f":"IFERROR(VLOOKUP($B23,Produktliste!$K$15:$W$2015,D$10,FALSE),\"\")","v":""},{"$f":"IFERROR(VLOOKUP($B23,Produktliste!$K$15:$W$2015,E$10,FALSE),\"\")","v":""},{"$f":"IFERROR(VLOOKUP($B23,Produktliste!$K$15:$W$2015,F$10,FALSE),\"\")","v":""},{"$f":"IFERROR(INDEX(Produktliste!$K$1:$K$3000,SMALL(IF(Produktliste!$D$14:$D$3000=$B$14,ROW(Produktliste!$D$14:$D$3000)),ROW(10:10))),\"\")","v":""},{"$f":"IFERROR(VLOOKUP($B23,Produktliste!$K$15:$W$2015,H$10,FALSE),\"\")","v":""}]
[null,"QNA",{"$f":"IFERROR(VLOOKUP($B24,Produktliste!$K$15:$W$2015,C$10,FALSE),\"\")","v":""},{"$f":"IFERROR(VLOOKUP($B24,Produktliste!$K$15:$W$2015,D$10,FALSE),\"\")","v":""},{"$f":"IFERROR(VLOOKUP($B24,Produktliste!$K$15:$W$2015,E$10,FALSE),\"\")","v":""},{"$f":"IFERROR(VLOOKUP($B24,Produktliste!$K$15:$W$2015,F$10,FALSE),\"\")","v":""},{"$f":"IFERROR(INDEX(Produktliste!$K$1:$K$3000,SMALL(IF(Produktliste!$D$14:$D$3000=$B$14,ROW(Produktliste!$D$14:$D$3000)),ROW(11:11))),\"\")","v":""},{"$f":"IFERROR(VLOOKUP($B24,Produktliste!$K$15:$W$2015,H$10,FALSE),\"\")","v":""}]
[null,"QNA",{"$f":"IFERROR(VLOOKUP($B25,Produktliste!$K$15:$W$2015,C$10,FALSE),\"\")","v":""},{"$f":"IFERROR(VLOOKUP($B25,Produktliste!$K$15:$W$2015,D$10,FALSE),\"\")","v":""},{"$f":"IFERROR(VLOOKUP($B25,Produktliste!$K$15:$W$2015,E$10,FALSE),\"\")","v":""},{"$f":"IFERROR(VLOOKUP($B25,Produktliste!$K$15:$W$2015,F$10,FALSE),\"\")","v":""},{"$f":"IFERROR(INDEX(Produktliste!$K$1:$K$3000,SMALL(IF(Produktliste!$D$14:$D$3000=$B$14,ROW(Produktliste!$D$14:$D$3000)),ROW(12:12))),\"\")","v":""},{"$f":"IFERROR(VLOOKUP($B25,Produktliste!$K$15:$W$2015,H$10,FALSE),\"\")","v":""}]
[null,null,{"$f":"IFERROR(VLOOKUP($B26,Produktliste!$K$15:$W$2015,C$10,FALSE),\"\")","v":""},{"$f":"IFERROR(VLOOKUP($B26,Produktliste!$K$15:$W$2015,D$10,FALSE),\"\")","v":""},{"$f":"IFERROR(VLOOKUP($B26,Produktliste!$K$15:$W$2015,E$10,FALSE),\"\")","v":""},{"$f":"IFERROR(VLOOKUP($B26,Produktliste!$K$15:$W$2015,F$10,FALSE),\"\")","v":""},{"$f":"IFERROR(INDEX(Produktliste!$K$1:$K$3000,SMALL(IF(Produktliste!$D$14:$D$3000=$B$14,ROW(Produktliste!$D$14:$D$3000)),ROW(13:13))),\"\")","v":""},{"$f":"IFERROR(VLOOKUP($B26,Produktliste!$K$15:$W$2015,H$10,FALSE),\"\")","v":""}]
[null,null,{"$f":"IFERROR(VLOOKUP($B27,Produktliste!$K$15:$W$2015,C$10,FALSE),\"\")","v":""},{"$f":"IFERROR(VLOOKUP($B27,Produktliste!$K$15:$W$2015,D$10,FALSE),\"\")","v":""},{"$f":"IFERROR(VLOOKUP($B27,Produktliste!$K$15:$W$2015,E$10,FALSE),\"\")","v":""},{"$f":"IFERROR(VLOOKUP($B27,Produktliste!$K$15:$W$2015,F$10,FALSE),\"\")","v":""},{"$f":"IFERROR(INDEX(Produktliste!$K$1:$K$3000,SMALL(IF(Produktliste!$D$14:$D$3000=$B$14,ROW(Produktliste!$D$14:$D$3000)),ROW(14:14))),\"\")","v":""},{"$f":"IFERROR(VLOOKUP($B27,Produktliste!$K$15:$W$2015,H$10,FALSE),\"\")","v":""}]
[null,null,{"$f":"IFERROR(VLOOKUP($B28,Produktliste!$K$15:$W$2015,C$10,FALSE),\"\")","v":""},{"$f":"IFERROR(VLOOKUP($B28,Produktliste!$K$15:$W$2015,D$10,FALSE),\"\")","v":""},{"$f":"IFERROR(VLOOKUP($B28,Produktliste!$K$15:$W$2015,E$10,FALSE),\"\")","v":""},{"$f":"IFERROR(VLOOKUP($B28,Produktliste!$K$15:$W$2015,F$10,FALSE),\"\")","v":""},{"$f":"IFERROR(INDEX(Produktliste!$K$1:$K$3000,SMALL(IF(Produktliste!$D$14:$D$3000=$B$14,ROW(Produktliste!$D$14:$D$3000)),ROW(15:15))),\"\")","v":""},{"$f":"IFERROR(VLOOKUP($B28,Produktliste!$K$15:$W$2015,H$10,FALSE),\"\")","v":""}]
[null,null,{"$f":"IFERROR(VLOOKUP($B29,Produktliste!$K$15:$W$2015,C$10,FALSE),\"\")","v":""},{"$f":"IFERROR(VLOOKUP($B29,Produktliste!$K$15:$W$2015,D$10,FALSE),\"\")","v":""},{"$f":"IFERROR(VLOOKUP($B29,Produktliste!$K$15:$W$2015,E$10,FALSE),\"\")","v":""},{"$f":"IFERROR(VLOOKUP($B29,Produktliste!$K$15:$W$2015,F$10,FALSE),\"\")","v":""},{"$f":"IFERROR(INDEX(Produktliste!$K$1:$K$3000,SMALL(IF(Produktliste!$D$14:$D$3000=$B$14,ROW(Produktliste!$D$14:$D$3000)),ROW(16:16))),\"\")","v":""},{"$f":"IFERROR(VLOOKUP($B29,Produktliste!$K$15:$W$2015,H$10,FALSE),\"\")","v":""}]
[null,null,{"$f":"IFERROR(VLOOKUP($B30,Produktliste!$K$15:$W$2015,C$10,FALSE),\"\")","v":""},{"$f":"IFERROR(VLOOKUP($B30,Produktliste!$K$15:$W$2015,D$10,FALSE),\"\")","v":""},{"$f":"IFERROR(VLOOKUP($B30,Produktliste!$K$15:$W$2015,E$10,FALSE),\"\")","v":""},{"$f":"IFERROR(VLOOKUP($B30,Produktliste!$K$15:$W$2015,F$10,FALSE),\"\")","v":""},{"$f":"IFERROR(INDEX(Produktliste!$K$1:$K$3000,SMALL(IF(Produktliste!$D$14:$D$3000=$B$14,ROW(Produktliste!$D$14:$D$3000)),ROW(17:17))),\"\")","v":""},{"$f":"IFERROR(VLOOKUP($B30,Produktliste!$K$15:$W$2015,H$10,FALSE),\"\")","v":""}]
[null,null,{"$f":"IFERROR(VLOOKUP($B31,Produktliste!$K$15:$W$2015,C$10,FALSE),\"\")","v":""},{"$f":"IFERROR(VLOOKUP($B31,Produktliste!$K$15:$W$2015,D$10,FALSE),\"\")","v":""},{"$f":"IFERROR(VLOOKUP($B31,Produktliste!$K$15:$W$2015,E$10,FALSE),\"\")","v":""},{"$f":"IFERROR(VLOOKUP($B31,Produktliste!$K$15:$W$2015,F$10,FALSE),\"\")","v":""},{"$f":"IFERROR(INDEX(Produktliste!$K$1:$K$3000,SMALL(IF(Produktliste!$D$14:$D$3000=$B$14,ROW(Produktliste!$D$14:$D$3000)),ROW(18:18))),\"\")","v":""},{"$f":"IFERROR(VLOOKUP($B31,Produktliste!$K$15:$W$2015,H$10,FALSE),\"\")","v":""}]
[null,null,{"$f":"IFERROR(VLOOKUP($B32,Produktliste!$K$15:$W$2015,C$10,FALSE),\"\")","v":""},{"$f":"IFERROR(VLOOKUP($B32,Produktliste!$K$15:$W$2015,D$10,FALSE),\"\")","v":""},{"$f":"IFERROR(VLOOKUP($B32,Produktliste!$K$15:$W$2015,E$10,FALSE),\"\")","v":""},{"$f":"IFERROR(VLOOKUP($B32,Produktliste!$K$15:$W$2015,F$10,FALSE),\"\")","v":""},{"$f":"IFERROR(INDEX(Produktliste!$K$1:$K$3000,SMALL(IF(Produktliste!$D$14:$D$3000=$B$14,ROW(Produktliste!$D$14:$D$3000)),ROW(19:19))),\"\")","v":""},{"$f":"IFERROR(VLOOKUP($B32,Produktliste!$K$15:$W$2015,H$10,FALSE),\"\")","v":""}]
[null,null,{"$f":"IFERROR(VLOOKUP($B33,Produktliste!$K$15:$W$2015,C$10,FALSE),\"\")","v":""},{"$f":"IFERROR(VLOOKUP($B33,Produktliste!$K$15:$W$2015,D$10,FALSE),\"\")","v":""},{"$f":"IFERROR(VLOOKUP($B33,Produktliste!$K$15:$W$2015,E$10,FALSE),\"\")","v":""},{"$f":"IFERROR(VLOOKUP($B33,Produktliste!$K$15:$W$2015,F$10,FALSE),\"\")","v":""},{"$f":"IFERROR(INDEX(Produktliste!$K$1:$K$3000,SMALL(IF(Produktliste!$D$14:$D$3000=$B$14,ROW(Produktliste!$D$14:$D$3000)),ROW(20:20))),\"\")","v":""},{"$f":"IFERROR(VLOOKUP($B33,Produktliste!$K$15:$W$2015,H$10,FALSE),\"\")","v":""}]
[null,null,{"$f":"IFERROR(VLOOKUP($B34,Produktliste!$K$15:$W$2015,C$10,FALSE),\"\")","v":""},{"$f":"IFERROR(VLOOKUP($B34,Produktliste!$K$15:$W$2015,D$10,FALSE),\"\")","v":""},{"$f":"IFERROR(VLOOKUP($B34,Produktliste!$K$15:$W$2015,E$10,FALSE),\"\")","v":""},{"$f":"IFERROR(VLOOKUP($B34,Produktliste!$K$15:$W$2015,F$10,FALSE),\"\")","v":""},{"$f":"IFERROR(INDEX(Produktliste!$K$1:$K$3000,SMALL(IF(Produktliste!$D$14:$D$3000=$B$14,ROW(Produktliste!$D$14:$D$3000)),ROW(21:21))),\"\")","v":""},{"$f":"IFERROR(VLOOKUP($B34,Produktliste!$K$15:$W$2015,H$10,FALSE),\"\")","v":""}]
[null,null,{"$f":"IFERROR(VLOOKUP($B35,Produktliste!$K$15:$W$2015,C$10,FALSE),\"\")","v":""},{"$f":"IFERROR(VLOOKUP($B35,Produktliste!$K$15:$W$2015,D$10,FALSE),\"\")","v":""},{"$f":"IFERROR(VLOOKUP($B35,Produktliste!$K$15:$W$2015,E$10,FALSE),\"\")","v":""},{"$f":"IFERROR(VLOOKUP($B35,Produktliste!$K$15:$W$2015,F$10,FALSE),\"\")","v":""},{"$f":"IFERROR(INDEX(Produktliste!$K$1:$K$3000,SMALL(IF(Produktliste!$D$14:$D$3000=$B$14,ROW(Produktliste!$D$14:$D$3000)),ROW(22:22))),\"\")","v":""},{"$f":"IFERROR(VLOOKUP($B35,Produktliste!$K$15:$W$2015,H$10,FALSE),\"\")","v":""}]
[null,null,{"$f":"IFERROR(VLOOKUP($B36,Produktliste!$K$15:$W$2015,C$10,FALSE),\"\")","v":""},{"$f":"IFERROR(VLOOKUP($B36,Produktliste!$K$15:$W$2015,D$10,FALSE),\"\")","v":""},{"$f":"IFERROR(VLOOKUP($B36,Produktliste!$K$15:$W$2015,E$10,FALSE),\"\")","v":""},{"$f":"IFERROR(VLOOKUP($B36,Produktliste!$K$15:$W$2015,F$10,FALSE),\"\")","v":""},{"$f":"IFERROR(INDEX(Produktliste!$K$1:$K$3000,SMALL(IF(Produktliste!$D$14:$D$3000=$B$14,ROW(Produktliste!$D$14:$D$3000)),ROW(23:23))),\"\")","v":""},{"$f":"IFERROR(VLOOKUP($B36,Produktliste!$K$15:$W$2015,H$10,FALSE),\"\")","v":""}]
[null,null,{"$f":"IFERROR(VLOOKUP($B37,Produktliste!$K$15:$W$2015,C$10,FALSE),\"\")","v":""},{"$f":"IFERROR(VLOOKUP($B37,Produktliste!$K$15:$W$2015,D$10,FALSE),\"\")","v":""},{"$f":"IFERROR(VLOOKUP($B37,Produktliste!$K$15:$W$2015,E$10,FALSE),\"\")","v":""},{"$f":"IFERROR(VLOOKUP($B37,Produktliste!$K$15:$W$2015,F$10,FALSE),\"\")","v":""},{"$f":"IFERROR(INDEX(Produktliste!$K$1:$K$3000,SMALL(IF(Produktliste!$D$14:$D$3000=$B$14,ROW(Produktliste!$D$14:$D$3000)),ROW(24:24))),\"\")","v":""},{"$f":"IFERROR(VLOOKUP($B37,Produktliste!$K$15:$W$2015,H$10,FALSE),\"\")","v":""}]
[null,null,{"$f":"IFERROR(VLOOKUP($B38,Produktliste!$K$15:$W$2015,C$10,FALSE),\"\")","v":""},{"$f":"IFERROR(VLOOKUP($B38,Produktliste!$K$15:$W$2015,D$10,FALSE),\"\")","v":""},{"$f":"IFERROR(VLOOKUP($B38,Produktliste!$K$15:$W$2015,E$10,FALSE),\"\")","v":""},{"$f":"IFERROR(VLOOKUP($B38,Produktliste!$K$15:$W$2015,F$10,FALSE),\"\")","v":""},{"$f":"IFERROR(INDEX(Produktliste!$K$1:$K$3000,SMALL(IF(Produktliste!$D$14:$D$3000=$B$14,ROW(Produktliste!$D$14:$D$3000)),ROW(25:25))),\"\")","v":""},{"$f":"IFERROR(VLOOKUP($B38,Produktliste!$K$15:$W$2015,H$10,FALSE),\"\")","v":""}]
[null,null,{"$f":"IFERROR(VLOOKUP($B39,Produktliste!$K$15:$W$2015,C$10,FALSE),\"\")","v":""},{"$f":"IFERROR(VLOOKUP($B39,Produktliste!$K$15:$W$2015,D$10,FALSE),\"\")","v":""},{"$f":"IFERROR(VLOOKUP($B39,Produktliste!$K$15:$W$2015,E$10,FALSE),\"\")","v":""},{"$f":"IFERROR(VLOOKUP($B39,Produktliste!$K$15:$W$2015,F$10,FALSE),\"\")","v":""},{"$f":"IFERROR(INDEX(Produktliste!$K$1:$K$3000,SMALL(IF(Produktliste!$D$14:$D$3000=$B$14,ROW(Produktliste!$D$14:$D$3000)),ROW(26:26))),\"\")","v":""},{"$f":"IFERROR(VLOOKUP($B39,Produktliste!$K$15:$W$2015,H$10,FALSE),\"\")","v":""}]
[]
[]
[null,"*","Hvis      100% < Lambda > 110 %   er OK  elles ikke O.K"]
[]
[null,"Bemærkning:"]
[]
[]
[]
[null,"Måleapparat:"]
[null,"Dato :                                                                                                                                        Indreguleringsteknikker:                                                                                                                                                 Firma:"]

{"sheet":"ABQM report","index":7,"n_rows":47,"n_cols":12,"rows_kept":47,"cut":false,"hidden":false,"merged":[[47,2,47,11],[13,2,14,2],[13,3,14,3],[13,4,14,4],[13,5,14,5],[13,8,14,8],[12,2,12,6],[12,7,12,9],[13,6,14,6],[45,2,45,11],[46,2,46,11]]}
[]
[]
[]
[]
[]
[]
[]
[]
[]
[]
[]
[null,null,null,{"$f":"IFERROR(HLOOKUP(D14,Produktliste!$13:$14,2,0),\"\")","v":3},{"$f":"IFERROR(HLOOKUP(E14,Produktliste!$13:$14,2,0),\"\")","v":4},{"$f":"IFERROR(HLOOKUP(F14,Produktliste!$13:$14,2,0),\"\")","v":8},{"$f":"IFERROR(HLOOKUP(G14,Produktliste!$13:$14,2,0),\"\")","v":0},{"$f":"IFERROR(HLOOKUP(H14,Produktliste!$13:$14,2,0),\"\")","v":0}]
[null,null,"Indregulering",null,null,null,null," Beregnet",null,null," Måling","Status"]
[null,null,"ID nr. ","Rum nummer","Etage","Type","Størrelse","Type nr. ","Forindstilling  %","Tryk  [Kpa]","Tryk  [Kpa]","X"]
[null,null,null,null,null,null,null,"Qd    Beregent",null,"Min Diff.","Målt","OK"]
[null,"01","ESA",{"$f":"IFERROR(VLOOKUP($C16,Produktliste!$K$13:$W$28:'Produktliste'!$K$13:$W$202,D$12,FALSE),\"\")","v":""},{"$f":"IFERROR(VLOOKUP($C16,Produktliste!$K$13:$W$28:'Produktliste'!$K$13:$W$202,E$12,FALSE),\"\")","v":""},{"$f":"IFERROR(INDEX(Produktliste!$K$1:$K$3000,SMALL(IF(Produktliste!$D$14:$D$3000=$C$16,ROW(Produktliste!$D$14:$D$3000)),ROW(1:1))),\"\")","v":""},{"$f":"IFERROR(VLOOKUP($C16,Produktliste!$K$13:$W$28:'Produktliste'!$K$13:$W$202,G$12,FALSE),\"\")","v":""},{"$f":"IFERROR(VLOOKUP($C16,Produktliste!$K$13:$W$28:'Produktliste'!$K$13:$W$202,H$12,FALSE),\"\")","v":""},0.75,12.5]
[null,"02","ESA",{"$f":"IFERROR(VLOOKUP($C17,Produktliste!$K$13:$W$28:'Produktliste'!$K$13:$W$202,D$12,FALSE),\"\")","v":""},{"$f":"IFERROR(VLOOKUP($C17,Produktliste!$K$13:$W$28:'Produktliste'!$K$13:$W$202,E$12,FALSE),\"\")","v":""},{"$f":"IFERROR(INDEX(Produktliste!$K$1:$K$3000,SMALL(IF(Produktliste!$D$14:$D$3000=$C$16,ROW(Produktliste!$D$14:$D$3000)),ROW(2:2))),\"\")","v":""},{"$f":"IFERROR(VLOOKUP($C17,Produktliste!$K$13:$W$28:'Produktliste'!$K$13:$W$202,G$12,FALSE),\"\")","v":""},{"$f":"IFERROR(VLOOKUP($C17,Produktliste!$K$13:$W$28:'Produktliste'!$K$13:$W$202,H$12,FALSE),\"\")","v":""},0.75,12.5]
[null,"03","ESA",{"$f":"IFERROR(VLOOKUP($C18,Produktliste!$K$13:$W$28:'Produktliste'!$K$13:$W$202,D$12,FALSE),\"\")","v":""},{"$f":"IFERROR(VLOOKUP($C18,Produktliste!$K$13:$W$28:'Produktliste'!$K$13:$W$202,E$12,FALSE),\"\")","v":""},{"$f":"IFERROR(INDEX(Produktliste!$K$1:$K$3000,SMALL(IF(Produktliste!$D$14:$D$3000=$C$16,ROW(Produktliste!$D$14:$D$3000)),ROW(3:3))),\"\")","v":""},{"$f":"IFERROR(VLOOKUP($C18,Produktliste!$K$13:$W$28:'Produktliste'!$K$13:$W$202,G$12,FALSE),\"\")","v":""},{"$f":"IFERROR(VLOOKUP($C18,Produktliste!$K$13:$W$28:'Produktliste'!$K$13:$W$202,H$12,FALSE),\"\")","v":""},0.75,12.5]
[null,"04","ESA",{"$f":"IFERROR(VLOOKUP($C19,Produktliste!$K$13:$W$28:'Produktliste'!$K$13:$W$202,D$12,FALSE),\"\")","v":""},{"$f":"IFERROR(VLOOKUP($C19,Produktliste!$K$13:$W$28:'Produktliste'!$K$13:$W$202,E$12,FALSE),\"\")","v":""},{"$f":"IFERROR(INDEX(Produktliste!$K$1:$K$3000,SMALL(IF(Produktliste!$D$14:$D$3000=$C$16,ROW(Produktliste!$D$14:$D$3000)),ROW(4:4))),\"\")","v":""},{"$f":"IFERROR(VLOOKUP($C19,Produktliste!$K$13:$W$28:'Produktliste'!$K$13:$W$202,G$12,FALSE),\"\")","v":""},{"$f":"IFERROR(VLOOKUP($C19,Produktliste!$K$13:$W$28:'Produktliste'!$K$13:$W$202,H$12,FALSE),\"\")","v":""},0.75,12.5]
[null,"05","ESA",{"$f":"IFERROR(VLOOKUP($C20,Produktliste!$K$13:$W$28:'Produktliste'!$K$13:$W$202,D$12,FALSE),\"\")","v":""},{"$f":"IFERROR(VLOOKUP($C20,Produktliste!$K$13:$W$28:'Produktliste'!$K$13:$W$202,E$12,FALSE),\"\")","v":""},{"$f":"IFERROR(INDEX(Produktliste!$K$1:$K$3000,SMALL(IF(Produktliste!$D$14:$D$3000=$C$16,ROW(Produktliste!$D$14:$D$3000)),ROW(5:5))),\"\")","v":""},{"$f":"IFERROR(VLOOKUP($C20,Produktliste!$K$13:$W$28:'Produktliste'!$K$13:$W$202,G$12,FALSE),\"\")","v":""},{"$f":"IFERROR(VLOOKUP($C20,Produktliste!$K$13:$W$28:'Produktliste'!$K$13:$W$202,H$12,FALSE),\"\")","v":""},0.75,12.5]
[null,"06","ESA",{"$f":"IFERROR(VLOOKUP($C21,Produktliste!$K$13:$W$28:'Produktliste'!$K$13:$W$202,D$12,FALSE),\"\")","v":""},{"$f":"IFERROR(VLOOKUP($C21,Produktliste!$K$13:$W$28:'Produktliste'!$K$13:$W$202,E$12,FALSE),\"\")","v":""},{"$f":"IFERROR(INDEX(Produktliste!$K$1:$K$3000,SMALL(IF(Produktliste!$D$14:$D$3000=$C$16,ROW(Produktliste!$D$14:$D$3000)),ROW(6:6))),\"\")","v":""},{"$f":"IFERROR(VLOOKUP($C21,Produktliste!$K$13:$W$28:'Produktliste'!$K$13:$W$202,G$12,FALSE),\"\")","v":""},{"$f":"IFERROR(VLOOKUP($C21,Produktliste!$K$13:$W$28:'Produktliste'!$K$13:$W$202,H$12,FALSE),\"\")","v":""},0.75,12.5]
[null,"07","ESA",{"$f":"IFERROR(VLOOKUP($C22,Produktliste!$K$13:$W$28:'Produktliste'!$K$13:$W$202,D$12,FALSE),\"\")","v":""},{"$f":"IFERROR(VLOOKUP($C22,Produktliste!$K$13:$W$28:'Produktliste'!$K$13:$W$202,E$12,FALSE),\"\")","v":""},{"$f":"IFERROR(INDEX(Produktliste!$K$1:$K$3000,SMALL(IF(Produktliste!$D$14:$D$3000=$C$16,ROW(Produktliste!$D$14:$D$3000)),ROW(7:7))),\"\")","v":""},{"$f":"IFERROR(VLOOKUP($C22,Produktliste!$K$13:$W$28:'Produktliste'!$K$13:$W$202,G$12,FALSE),\"\")","v":""},{"$f":"IFERROR(VLOOKUP($C22,Produktliste!$K$13:$W$28:'Produktliste'!$K$13:$W$202,H$12,FALSE),\"\")","v":""},0.75,12.5]
[null,"08","ESA",{"$f":"IFERROR(VLOOKUP($C23,Produktliste!$K$13:$W$28:'Produktliste'!$K$13:$W$202,D$12,FALSE),\"\")","v":""},{"$f":"IFERROR(VLOOKUP($C23,Produktliste!$K$13:$W$28:'Produktliste'!$K$13:$W$202,E$12,FALSE),\"\")","v":""},{"$f":"IFERROR(INDEX(Produktliste!$K$1:$K$3000,SMALL(IF(Produktliste!$D$14:$D$3000=$C$16,ROW(Produktliste!$D$14:$D$3000)),ROW(8:8))),\"\")","v":""},{"$f":"IFERROR(VLOOKUP($C23,Produktliste!$K$13:$W$28:'Produktliste'!$K$13:$W$202,G$12,FALSE),\"\")","v":""},{"$f":"IFERROR(VLOOKUP($C23,Produktliste!$K$13:$W$28:'Produktliste'!$K$13:$W$202,H$12,FALSE),\"\")","v":""},0.75,12.5]
[null,"09","ESA",{"$f":"IFERROR(VLOOKUP($C24,Produktliste!$K$13:$W$28:'Produktliste'!$K$13:$W$202,D$12,FALSE),\"\")","v":""},{"$f":"IFERROR(VLOOKUP($C24,Produktliste!$K$13:$W$28:'Produktliste'!$K$13:$W$202,E$12,FALSE),\"\")","v":""},{"$f":"IFERROR(INDEX(Produktliste!$K$1:$K$3000,SMALL(IF(Produktliste!$D$14:$D$3000=$C$16,ROW(Produktliste!$D$14:$D$3000)),ROW(9:9))),\"\")","v":""},{"$f":"IFERROR(VLOOKUP($C24,Produktliste!$K$13:$W$28:'Produktliste'!$K$13:$W$202,G$12,FALSE),\"\")","v":""},{"$f":"IFERROR(VLOOKUP($C24,Produktliste!$K$13:$W$28:'Produktliste'!$K$13:$W$202,H$12,FALSE),\"\")","v":""},0.75,12.5]
[null,"10","ESA",{"$f":"IFERROR(VLOOKUP($C25,Produktliste!$K$13:$W$28:'Produktliste'!$K$13:$W$202,D$12,FALSE),\"\")","v":""},{"$f":"IFERROR(VLOOKUP($C25,Produktliste!$K$13:$W$28:'Produktliste'!$K$13:$W$202,E$12,FALSE),\"\")","v":""},{"$f":"IFERROR(INDEX(Produktliste!$K$1:$K$3000,SMALL(IF(Produktliste!$D$14:$D$3000=$C$16,ROW(Produktliste!$D$14:$D$3000)),ROW(10:10))),\"\")","v":""},{"$f":"IFERROR(VLOOKUP($C25,Produktliste!$K$13:$W$28:'Produktliste'!$K$13:$W$202,G$12,FALSE),\"\")","v":""},{"$f":"IFERROR(VLOOKUP($C25,Produktliste!$K$13:$W$28:'Produktliste'!$K$13:$W$202,H$12,FALSE),\"\")","v":""},0.75,12.5]
[null,"11","ESA",{"$f":"IFERROR(VLOOKUP($C26,Produktliste!$K$13:$W$28:'Produktliste'!$K$13:$W$202,D$12,FALSE),\"\")","v":""},{"$f":"IFERROR(VLOOKUP($C26,Produktliste!$K$13:$W$28:'Produktliste'!$K$13:$W$202,E$12,FALSE),\"\")","v":""},{"$f":"IFERROR(INDEX(Produktliste!$K$1:$K$3000,SMALL(IF(Produktliste!$D$14:$D$3000=$C$16,ROW(Produktliste!$D$14:$D$3000)),ROW(11:11))),\"\")","v":""},{"$f":"IFERROR(VLOOKUP($C26,Produktliste!$K$13:$W$28:'Produktliste'!$K$13:$W$202,G$12,FALSE),\"\")","v":""},{"$f":"IFERROR(VLOOKUP($C26,Produktliste!$K$13:$W$28:'Produktliste'!$K$13:$W$202,H$12,FALSE),\"\")","v":""},0.75,12.5]
[null,"12","ESA",{"$f":"IFERROR(VLOOKUP($C27,Produktliste!$K$13:$W$28:'Produktliste'!$K$13:$W$202,D$12,FALSE),\"\")","v":""},{"$f":"IFERROR(VLOOKUP($C27,Produktliste!$K$13:$W$28:'Produktliste'!$K$13:$W$202,E$12,FALSE),\"\")","v":""},{"$f":"IFERROR(INDEX(Produktliste!$K$1:$K$3000,SMALL(IF(Produktliste!$D$14:$D$3000=$C$16,ROW(Produktliste!$D$14:$D$3000)),ROW(12:12))),\"\")","v":""},{"$f":"IFERROR(VLOOKUP($C27,Produktliste!$K$13:$W$28:'Produktliste'!$K$13:$W$202,G$12,FALSE),\"\")","v":""},{"$f":"IFERROR(VLOOKUP($C27,Produktliste!$K$13:$W$28:'Produktliste'!$K$13:$W$202,H$12,FALSE),\"\")","v":""},0.75,12.5]
[null,"13","ESA",{"$f":"IFERROR(VLOOKUP($C28,Produktliste!$K$13:$W$28:'Produktliste'!$K$13:$W$202,D$12,FALSE),\"\")","v":""},{"$f":"IFERROR(VLOOKUP($C28,Produktliste!$K$13:$W$28:'Produktliste'!$K$13:$W$202,E$12,FALSE),\"\")","v":""},{"$f":"IFERROR(INDEX(Produktliste!$K$1:$K$3000,SMALL(IF(Produktliste!$D$14:$D$3000=$C$16,ROW(Produktliste!$D$14:$D$3000)),ROW(13:13))),\"\")","v":""},{"$f":"IFERROR(VLOOKUP($C28,Produktliste!$K$13:$W$28:'Produktliste'!$K$13:$W$202,G$12,FALSE),\"\")","v":""},{"$f":"IFERROR(VLOOKUP($C28,Produktliste!$K$13:$W$28:'Produktliste'!$K$13:$W$202,H$12,FALSE),\"\")","v":""},0.75,12.5]
[null,"14","ESA",{"$f":"IFERROR(VLOOKUP($C29,Produktliste!$K$13:$W$28:'Produktliste'!$K$13:$W$202,D$12,FALSE),\"\")","v":""},{"$f":"IFERROR(VLOOKUP($C29,Produktliste!$K$13:$W$28:'Produktliste'!$K$13:$W$202,E$12,FALSE),\"\")","v":""},{"$f":"IFERROR(INDEX(Produktliste!$K$1:$K$3000,SMALL(IF(Produktliste!$D$14:$D$3000=$C$16,ROW(Produktliste!$D$14:$D$3000)),ROW(14:14))),\"\")","v":""},{"$f":"IFERROR(VLOOKUP($C29,Produktliste!$K$13:$W$28:'Produktliste'!$K$13:$W$202,G$12,FALSE),\"\")","v":""},{"$f":"IFERROR(VLOOKUP($C29,Produktliste!$K$13:$W$28:'Produktliste'!$K$13:$W$202,H$12,FALSE),\"\")","v":""},0.75,12.5]
[null,"15","ESA",{"$f":"IFERROR(VLOOKUP($C30,Produktliste!$K$13:$W$28:'Produktliste'!$K$13:$W$202,D$12,FALSE),\"\")","v":""},{"$f":"IFERROR(VLOOKUP($C30,Produktliste!$K$13:$W$28:'Produktliste'!$K$13:$W$202,E$12,FALSE),\"\")","v":""},{"$f":"IFERROR(INDEX(Produktliste!$K$1:$K$3000,SMALL(IF(Produktliste!$D$14:$D$3000=$C$16,ROW(Produktliste!$D$14:$D$3000)),ROW(15:15))),\"\")","v":""},{"$f":"IFERROR(VLOOKUP($C30,Produktliste!$K$13:$W$28:'Produktliste'!$K$13:$W$202,G$12,FALSE),\"\")","v":""},{"$f":"IFERROR(VLOOKUP($C30,Produktliste!$K$13:$W$28:'Produktliste'!$K$13:$W$202,H$12,FALSE),\"\")","v":""},0.75,12.5]
[null,"16",null,{"$f":"IFERROR(VLOOKUP($C31,Produktliste!$K$13:$W$28:'Produktliste'!$K$13:$W$202,D$12,FALSE),\"\")","v":""},{"$f":"IFERROR(VLOOKUP($C31,Produktliste!$K$13:$W$28:'Produktliste'!$K$13:$W$202,E$12,FALSE),\"\")","v":""},{"$f":"IFERROR(INDEX(Produktliste!$K$1:$K$3000,SMALL(IF(Produktliste!$D$14:$D$3000=$C$16,ROW(Produktliste!$D$14:$D$3000)),ROW(16:16))),\"\")","v":""},{"$f":"IFERROR(VLOOKUP($C31,Produktliste!$K$13:$W$28:'Produktliste'!$K$13:$W$202,G$12,FALSE),\"\")","v":""},{"$f":"IFERROR(VLOOKUP($C31,Produktliste!$K$13:$W$28:'Produktliste'!$K$13:$W$202,H$12,FALSE),\"\")","v":""},0.75,12.5]
[null,"17",null,{"$f":"IFERROR(VLOOKUP($C32,Produktliste!$K$13:$W$28:'Produktliste'!$K$13:$W$202,D$12,FALSE),\"\")","v":""},{"$f":"IFERROR(VLOOKUP($C32,Produktliste!$K$13:$W$28:'Produktliste'!$K$13:$W$202,E$12,FALSE),\"\")","v":""},{"$f":"IFERROR(INDEX(Produktliste!$K$1:$K$3000,SMALL(IF(Produktliste!$D$14:$D$3000=$C$16,ROW(Produktliste!$D$14:$D$3000)),ROW(17:17))),\"\")","v":""},{"$f":"IFERROR(VLOOKUP($C32,Produktliste!$K$13:$W$28:'Produktliste'!$K$13:$W$202,G$12,FALSE),\"\")","v":""},{"$f":"IFERROR(VLOOKUP($C32,Produktliste!$K$13:$W$28:'Produktliste'!$K$13:$W$202,H$12,FALSE),\"\")","v":""},0.75,12.5]
[null,"18",null,{"$f":"IFERROR(VLOOKUP($C33,Produktliste!$K$13:$W$28:'Produktliste'!$K$13:$W$202,D$12,FALSE),\"\")","v":""},{"$f":"IFERROR(VLOOKUP($C33,Produktliste!$K$13:$W$28:'Produktliste'!$K$13:$W$202,E$12,FALSE),\"\")","v":""},{"$f":"IFERROR(INDEX(Produktliste!$K$1:$K$3000,SMALL(IF(Produktliste!$D$14:$D$3000=$C$16,ROW(Produktliste!$D$14:$D$3000)),ROW(18:18))),\"\")","v":""},{"$f":"IFERROR(VLOOKUP($C33,Produktliste!$K$13:$W$28:'Produktliste'!$K$13:$W$202,G$12,FALSE),\"\")","v":""},{"$f":"IFERROR(VLOOKUP($C33,Produktliste!$K$13:$W$28:'Produktliste'!$K$13:$W$202,H$12,FALSE),\"\")","v":""},0.75,12.5]
[null,"19",null,{"$f":"IFERROR(VLOOKUP($C34,Produktliste!$K$13:$W$28:'Produktliste'!$K$13:$W$202,D$12,FALSE),\"\")","v":""},{"$f":"IFERROR(VLOOKUP($C34,Produktliste!$K$13:$W$28:'Produktliste'!$K$13:$W$202,E$12,FALSE),\"\")","v":""},{"$f":"IFERROR(INDEX(Produktliste!$K$1:$K$3000,SMALL(IF(Produktliste!$D$14:$D$3000=$C$16,ROW(Produktliste!$D$14:$D$3000)),ROW(19:19))),\"\")","v":""},{"$f":"IFERROR(VLOOKUP($C34,Produktliste!$K$13:$W$28:'Produktliste'!$K$13:$W$202,G$12,FALSE),\"\")","v":""},{"$f":"IFERROR(VLOOKUP($C34,Produktliste!$K$13:$W$28:'Produktliste'!$K$13:$W$202,H$12,FALSE),\"\")","v":""},0.75,12.5]
[null,"20",null,{"$f":"IFERROR(VLOOKUP($C35,Produktliste!$K$13:$W$28:'Produktliste'!$K$13:$W$202,D$12,FALSE),\"\")","v":""},{"$f":"IFERROR(VLOOKUP($C35,Produktliste!$K$13:$W$28:'Produktliste'!$K$13:$W$202,E$12,FALSE),\"\")","v":""},{"$f":"IFERROR(INDEX(Produktliste!$K$1:$K$3000,SMALL(IF(Produktliste!$D$14:$D$3000=$C$16,ROW(Produktliste!$D$14:$D$3000)),ROW(20:20))),\"\")","v":""},{"$f":"IFERROR(VLOOKUP($C35,Produktliste!$K$13:$W$28:'Produktliste'!$K$13:$W$202,G$12,FALSE),\"\")","v":""},{"$f":"IFERROR(VLOOKUP($C35,Produktliste!$K$13:$W$28:'Produktliste'!$K$13:$W$202,H$12,FALSE),\"\")","v":""},0.75,12.5]
[null,"21",null,{"$f":"IFERROR(VLOOKUP($C36,Produktliste!$K$13:$W$28:'Produktliste'!$K$13:$W$202,D$12,FALSE),\"\")","v":""},{"$f":"IFERROR(VLOOKUP($C36,Produktliste!$K$13:$W$28:'Produktliste'!$K$13:$W$202,E$12,FALSE),\"\")","v":""},{"$f":"IFERROR(INDEX(Produktliste!$K$1:$K$3000,SMALL(IF(Produktliste!$D$14:$D$3000=$C$16,ROW(Produktliste!$D$14:$D$3000)),ROW(21:21))),\"\")","v":""},{"$f":"IFERROR(VLOOKUP($C36,Produktliste!$K$13:$W$28:'Produktliste'!$K$13:$W$202,G$12,FALSE),\"\")","v":""},{"$f":"IFERROR(VLOOKUP($C36,Produktliste!$K$13:$W$28:'Produktliste'!$K$13:$W$202,H$12,FALSE),\"\")","v":""},0.75,12.5]
[null,"22",null,{"$f":"IFERROR(VLOOKUP($C37,Produktliste!$K$13:$W$28:'Produktliste'!$K$13:$W$202,D$12,FALSE),\"\")","v":""},{"$f":"IFERROR(VLOOKUP($C37,Produktliste!$K$13:$W$28:'Produktliste'!$K$13:$W$202,E$12,FALSE),\"\")","v":""},{"$f":"IFERROR(INDEX(Produktliste!$K$1:$K$3000,SMALL(IF(Produktliste!$D$14:$D$3000=$C$16,ROW(Produktliste!$D$14:$D$3000)),ROW(22:22))),\"\")","v":""},{"$f":"IFERROR(VLOOKUP($C37,Produktliste!$K$13:$W$28:'Produktliste'!$K$13:$W$202,G$12,FALSE),\"\")","v":""},{"$f":"IFERROR(VLOOKUP($C37,Produktliste!$K$13:$W$28:'Produktliste'!$K$13:$W$202,H$12,FALSE),\"\")","v":""},0.52500000000000002,14.75]
[null,"23",null,{"$f":"IFERROR(VLOOKUP($C38,Produktliste!$K$13:$W$28:'Produktliste'!$K$13:$W$202,D$12,FALSE),\"\")","v":""},{"$f":"IFERROR(VLOOKUP($C38,Produktliste!$K$13:$W$28:'Produktliste'!$K$13:$W$202,E$12,FALSE),\"\")","v":""},{"$f":"IFERROR(INDEX(Produktliste!$K$1:$K$3000,SMALL(IF(Produktliste!$D$14:$D$3000=$C$16,ROW(Produktliste!$D$14:$D$3000)),ROW(23:23))),\"\")","v":""},{"$f":"IFERROR(VLOOKUP($C38,Produktliste!$K$13:$W$28:'Produktliste'!$K$13:$W$202,G$12,FALSE),\"\")","v":""},{"$f":"IFERROR(VLOOKUP($C38,Produktliste!$K$13:$W$28:'Produktliste'!$K$13:$W$202,H$12,FALSE),\"\")","v":""},0.52500000000000002,14.75]
[null,"24",null,{"$f":"IFERROR(VLOOKUP($C39,Produktliste!$K$13:$W$28:'Produktliste'!$K$13:$W$202,D$12,FALSE),\"\")","v":""},{"$f":"IFERROR(VLOOKUP($C39,Produktliste!$K$13:$W$28:'Produktliste'!$K$13:$W$202,E$12,FALSE),\"\")","v":""},{"$f":"IFERROR(INDEX(Produktliste!$K$1:$K$3000,SMALL(IF(Produktliste!$D$14:$D$3000=$C$16,ROW(Produktliste!$D$14:$D$3000)),ROW(24:24))),\"\")","v":""},{"$f":"IFERROR(VLOOKUP($C39,Produktliste!$K$13:$W$28:'Produktliste'!$K$13:$W$202,G$12,FALSE),\"\")","v":""},{"$f":"IFERROR(VLOOKUP($C39,Produktliste!$K$13:$W$28:'Produktliste'!$K$13:$W$202,H$12,FALSE),\"\")","v":""}]
[null,"25",null,{"$f":"IFERROR(VLOOKUP($C40,Produktliste!$K$13:$W$28:'Produktliste'!$K$13:$W$202,D$12,FALSE),\"\")","v":""},{"$f":"IFERROR(VLOOKUP($C40,Produktliste!$K$13:$W$28:'Produktliste'!$K$13:$W$202,E$12,FALSE),\"\")","v":""},{"$f":"IFERROR(INDEX(Produktliste!$K$1:$K$3000,SMALL(IF(Produktliste!$D$14:$D$3000=$C$16,ROW(Produktliste!$D$14:$D$3000)),ROW(25:25))),\"\")","v":""},{"$f":"IFERROR(VLOOKUP($C40,Produktliste!$K$13:$W$28:'Produktliste'!$K$13:$W$202,G$12,FALSE),\"\")","v":""},{"$f":"IFERROR(VLOOKUP($C40,Produktliste!$K$13:$W$28:'Produktliste'!$K$13:$W$202,H$12,FALSE),\"\")","v":""}]
[]
[null,null,"Bemærkning:"]
[]
[]
[]
[null,null,"Måleapparat:"]
[null,null,"Dato :                                                                                       Indreguleringsteknikker:                                                                                 Firma:"]

{"sheet":"Broen raport","index":8,"n_rows":49,"n_cols":15,"rows_kept":49,"cut":false,"hidden":false,"merged":[[48,1,48,14],[47,1,47,14],[10,9,10,13],[11,11,12,11],[11,14,12,14],[11,1,12,1],[11,2,12,2],[11,3,12,3],[11,4,12,4],[43,1,46,14],[2,2,2,3],[10,1,10,5],[41,2,41,14],[11,5,12,5],[11,7,12,7],[10,6,10,8],[11,8,12,8],[7,2,7,4]]}
[]
[]
[]
[]
[]
[]
[]
[]
[]
[null,null,{"$f":"IFERROR(HLOOKUP(C12,Produktliste!$13:$14,2,0),\"\")","v":3},{"$f":"IFERROR(HLOOKUP(D12,Produktliste!$13:$14,2,0),\"\")","v":4},9,{"$f":"IFERROR(HLOOKUP(F12,Produktliste!$13:$14,2,0),\"\")","v":0},12,null,null,0]
[null,"indregulering",null,null,null,null," Beregent",null,null," Måling"]
[null,"ID nr. ","Rum nummer","Etage","Type","Størrelse","Flow [l/s]",null,null,"Flow [l/s]","Lambda*","F     Ventil indstilling ","[Kpa]","[Kpa]","OK       X"]
[null,null,null,null,null,"Beregent","Qd    ",null,null,"Qm          ","Qm/Qd",null,"Δp ","Δp  Delta","Qk"]
[null,"RMB",{"$f":"IFERROR(VLOOKUP($B14,Produktliste!$K$13:$W$28:'Produktliste'!$K$13:$W$202,C$10,FALSE),\"\")","v":""},{"$f":"IFERROR(VLOOKUP($B14,Produktliste!$K$13:$W$28:'Produktliste'!$K$13:$W$202,D$10,FALSE),\"\")","v":""},{"$f":"IFERROR(INDEX(Produktliste!$K$1:$K$3000,SMALL(IF(Produktliste!$D$14:$D$3000=$B$14,ROW(Produktliste!$D$14:$D$3000)),ROW(1:1))),\"\")","v":"=H01:HC07:RMB01"},{"$f":"IFERROR(VLOOKUP($B14,Produktliste!$K$13:$W$28:'Produktliste'!$K$13:$W$202,F$10,FALSE),\"\")","v":""},{"$f":"IFERROR(VLOOKUP($B14,Produktliste!$K$13:$W$28:'Produktliste'!$K$13:$W$202,G$10,FALSE),\"\")","v":""},null,null,15.28,{"$f":"J14/G14","v":{"$error":"#VALUE!"}},"8.0",null,null,"X"]
[null,"RMB",{"$f":"IFERROR(VLOOKUP($B15,Produktliste!$K$13:$W$28:'Produktliste'!$K$13:$W$202,C$10,FALSE),\"\")","v":""},{"$f":"IFERROR(VLOOKUP($B15,Produktliste!$K$13:$W$28:'Produktliste'!$K$13:$W$202,D$10,FALSE),\"\")","v":""},{"$f":"IFERROR(INDEX(Produktliste!$K$1:$K$3000,SMALL(IF(Produktliste!$D$14:$D$3000=$B$14,ROW(Produktliste!$D$14:$D$3000)),ROW(2:2))),\"\")","v":"=H01:HC08:RMB01"},{"$f":"IFERROR(VLOOKUP($B15,Produktliste!$K$13:$W$28:'Produktliste'!$K$13:$W$202,F$10,FALSE),\"\")","v":""},{"$f":"IFERROR(VLOOKUP($B15,Produktliste!$K$13:$W$28:'Produktliste'!$K$13:$W$202,G$10,FALSE),\"\")","v":""},null,null,15.28,{"$f":"J15/G15","v":{"$error":"#VALUE!"}},"8.0",null,null,"X"]
[null,"RMB",{"$f":"IFERROR(VLOOKUP($B16,Produktliste!$K$13:$W$28:'Produktliste'!$K$13:$W$202,C$10,FALSE),\"\")","v":""},{"$f":"IFERROR(VLOOKUP($B16,Produktliste!$K$13:$W$28:'Produktliste'!$K$13:$W$202,D$10,FALSE),\"\")","v":""},{"$f":"IFERROR(INDEX(Produktliste!$K$1:$K$3000,SMALL(IF(Produktliste!$D$14:$D$3000=$B$14,ROW(Produktliste!$D$14:$D$3000)),ROW(3:3))),\"\")","v":"=H01:HC08:RMB02"},{"$f":"IFERROR(VLOOKUP($B16,Produktliste!$K$13:$W$28:'Produktliste'!$K$13:$W$202,F$10,FALSE),\"\")","v":""},{"$f":"IFERROR(VLOOKUP($B16,Produktliste!$K$13:$W$28:'Produktliste'!$K$13:$W$202,G$10,FALSE),\"\")","v":""},null,null,15.28,{"$error":"#VALUE!"},"8.0",null,null,"X"]
[null,"RMB",{"$f":"IFERROR(VLOOKUP($B17,Produktliste!$K$13:$W$28:'Produktliste'!$K$13:$W$202,C$10,FALSE),\"\")","v":""},{"$f":"IFERROR(VLOOKUP($B17,Produktliste!$K$13:$W$28:'Produktliste'!$K$13:$W$202,D$10,FALSE),\"\")","v":""},{"$f":"IFERROR(INDEX(Produktliste!$K$1:$K$3000,SMALL(IF(Produktliste!$D$14:$D$3000=$B$14,ROW(Produktliste!$D$14:$D$3000)),ROW(4:4))),\"\")","v":"=H01:HC09:RMB01"},{"$f":"IFERROR(VLOOKUP($B17,Produktliste!$K$13:$W$28:'Produktliste'!$K$13:$W$202,F$10,FALSE),\"\")","v":""},{"$f":"IFERROR(VLOOKUP($B17,Produktliste!$K$13:$W$28:'Produktliste'!$K$13:$W$202,G$10,FALSE),\"\")","v":""},null,null,{"$f":"IFERROR(VLOOKUP($B17,Produktliste!$K$13:$W$28:'Produktliste'!$K$13:$W$202,J$10,FALSE),\"\")","v":""}]
[null,"RMB",{"$f":"IFERROR(VLOOKUP($B18,Produktliste!$K$13:$W$28:'Produktliste'!$K$13:$W$202,C$10,FALSE),\"\")","v":""},{"$f":"IFERROR(VLOOKUP($B18,Produktliste!$K$13:$W$28:'Produktliste'!$K$13:$W$202,D$10,FALSE),\"\")","v":""},{"$f":"IFERROR(INDEX(Produktliste!$K$1:$K$3000,SMALL(IF(Produktliste!$D$14:$D$3000=$B$14,ROW(Produktliste!$D$14:$D$3000)),ROW(5:5))),\"\")","v":"=H01:HC09:RMB02"},{"$f":"IFERROR(VLOOKUP($B18,Produktliste!$K$13:$W$28:'Produktliste'!$K$13:$W$202,F$10,FALSE),\"\")","v":""},{"$f":"IFERROR(VLOOKUP($B18,Produktliste!$K$13:$W$28:'Produktliste'!$K$13:$W$202,G$10,FALSE),\"\")","v":""}]
[null,"RMB",{"$f":"IFERROR(VLOOKUP($B19,Produktliste!$K$13:$W$28:'Produktliste'!$K$13:$W$202,C$10,FALSE),\"\")","v":""},{"$f":"IFERROR(VLOOKUP($B19,Produktliste!$K$13:$W$28:'Produktliste'!$K$13:$W$202,D$10,FALSE),\"\")","v":""},{"$f":"IFERROR(INDEX(Produktliste!$K$1:$K$3000,SMALL(IF(Produktliste!$D$14:$D$3000=$B$14,ROW(Produktliste!$D$14:$D$3000)),ROW(6:6))),\"\")","v":""},{"$f":"IFERROR(VLOOKUP($B19,Produktliste!$K$13:$W$28:'Produktliste'!$K$13:$W$202,F$10,FALSE),\"\")","v":""},{"$f":"IFERROR(VLOOKUP($B19,Produktliste!$K$13:$W$28:'Produktliste'!$K$13:$W$202,G$10,FALSE),\"\")","v":""}]
[null,"RMB",{"$f":"IFERROR(VLOOKUP($B20,Produktliste!$K$13:$W$28:'Produktliste'!$K$13:$W$202,C$10,FALSE),\"\")","v":""},{"$f":"IFERROR(VLOOKUP($B20,Produktliste!$K$13:$W$28:'Produktliste'!$K$13:$W$202,D$10,FALSE),\"\")","v":""},{"$f":"IFERROR(INDEX(Produktliste!$K$1:$K$3000,SMALL(IF(Produktliste!$D$14:$D$3000=$B$14,ROW(Produktliste!$D$14:$D$3000)),ROW(7:7))),\"\")","v":""},{"$f":"IFERROR(VLOOKUP($B20,Produktliste!$K$13:$W$28:'Produktliste'!$K$13:$W$202,F$10,FALSE),\"\")","v":""},{"$f":"IFERROR(VLOOKUP($B20,Produktliste!$K$13:$W$28:'Produktliste'!$K$13:$W$202,G$10,FALSE),\"\")","v":""}]
[null,"RMB",{"$f":"IFERROR(VLOOKUP($B21,Produktliste!$K$13:$W$28:'Produktliste'!$K$13:$W$202,C$10,FALSE),\"\")","v":""},{"$f":"IFERROR(VLOOKUP($B21,Produktliste!$K$13:$W$28:'Produktliste'!$K$13:$W$202,D$10,FALSE),\"\")","v":""},{"$f":"IFERROR(INDEX(Produktliste!$K$1:$K$3000,SMALL(IF(Produktliste!$D$14:$D$3000=$B$14,ROW(Produktliste!$D$14:$D$3000)),ROW(8:8))),\"\")","v":""},{"$f":"IFERROR(VLOOKUP($B21,Produktliste!$K$13:$W$28:'Produktliste'!$K$13:$W$202,F$10,FALSE),\"\")","v":""},{"$f":"IFERROR(VLOOKUP($B21,Produktliste!$K$13:$W$28:'Produktliste'!$K$13:$W$202,G$10,FALSE),\"\")","v":""}]
[null,"RMB",{"$f":"IFERROR(VLOOKUP($B22,Produktliste!$K$13:$W$28:'Produktliste'!$K$13:$W$202,C$10,FALSE),\"\")","v":""},{"$f":"IFERROR(VLOOKUP($B22,Produktliste!$K$13:$W$28:'Produktliste'!$K$13:$W$202,D$10,FALSE),\"\")","v":""},{"$f":"IFERROR(INDEX(Produktliste!$K$1:$K$3000,SMALL(IF(Produktliste!$D$14:$D$3000=$B$14,ROW(Produktliste!$D$14:$D$3000)),ROW(9:9))),\"\")","v":""},{"$f":"IFERROR(VLOOKUP($B22,Produktliste!$K$13:$W$28:'Produktliste'!$K$13:$W$202,F$10,FALSE),\"\")","v":""},{"$f":"IFERROR(VLOOKUP($B22,Produktliste!$K$13:$W$28:'Produktliste'!$K$13:$W$202,G$10,FALSE),\"\")","v":""}]
[null,"RMB",{"$f":"IFERROR(VLOOKUP($B23,Produktliste!$K$13:$W$28:'Produktliste'!$K$13:$W$202,C$10,FALSE),\"\")","v":""},{"$f":"IFERROR(VLOOKUP($B23,Produktliste!$K$13:$W$28:'Produktliste'!$K$13:$W$202,D$10,FALSE),\"\")","v":""},{"$f":"IFERROR(INDEX(Produktliste!$K$1:$K$3000,SMALL(IF(Produktliste!$D$14:$D$3000=$B$14,ROW(Produktliste!$D$14:$D$3000)),ROW(10:10))),\"\")","v":""},{"$f":"IFERROR(VLOOKUP($B23,Produktliste!$K$13:$W$28:'Produktliste'!$K$13:$W$202,F$10,FALSE),\"\")","v":""},{"$f":"IFERROR(VLOOKUP($B23,Produktliste!$K$13:$W$28:'Produktliste'!$K$13:$W$202,G$10,FALSE),\"\")","v":""}]
[null,"RMB",{"$f":"IFERROR(VLOOKUP($B24,Produktliste!$K$13:$W$28:'Produktliste'!$K$13:$W$202,C$10,FALSE),\"\")","v":""},{"$f":"IFERROR(VLOOKUP($B24,Produktliste!$K$13:$W$28:'Produktliste'!$K$13:$W$202,D$10,FALSE),\"\")","v":""},{"$f":"IFERROR(INDEX(Produktliste!$K$1:$K$3000,SMALL(IF(Produktliste!$D$14:$D$3000=$B$14,ROW(Produktliste!$D$14:$D$3000)),ROW(11:11))),\"\")","v":""},{"$f":"IFERROR(VLOOKUP($B24,Produktliste!$K$13:$W$28:'Produktliste'!$K$13:$W$202,F$10,FALSE),\"\")","v":""},{"$f":"IFERROR(VLOOKUP($B24,Produktliste!$K$13:$W$28:'Produktliste'!$K$13:$W$202,G$10,FALSE),\"\")","v":""}]
[null,"RMB",{"$f":"IFERROR(VLOOKUP($B25,Produktliste!$K$13:$W$28:'Produktliste'!$K$13:$W$202,C$10,FALSE),\"\")","v":""},{"$f":"IFERROR(VLOOKUP($B25,Produktliste!$K$13:$W$28:'Produktliste'!$K$13:$W$202,D$10,FALSE),\"\")","v":""},{"$f":"IFERROR(INDEX(Produktliste!$K$1:$K$3000,SMALL(IF(Produktliste!$D$14:$D$3000=$B$14,ROW(Produktliste!$D$14:$D$3000)),ROW(12:12))),\"\")","v":""},{"$f":"IFERROR(VLOOKUP($B25,Produktliste!$K$13:$W$28:'Produktliste'!$K$13:$W$202,F$10,FALSE),\"\")","v":""},{"$f":"IFERROR(VLOOKUP($B25,Produktliste!$K$13:$W$28:'Produktliste'!$K$13:$W$202,G$10,FALSE),\"\")","v":""}]
[null,null,{"$f":"IFERROR(VLOOKUP($B26,Produktliste!$K$13:$W$28:'Produktliste'!$K$13:$W$202,C$10,FALSE),\"\")","v":""},{"$f":"IFERROR(VLOOKUP($B26,Produktliste!$K$13:$W$28:'Produktliste'!$K$13:$W$202,D$10,FALSE),\"\")","v":""},{"$f":"IFERROR(INDEX(Produktliste!$K$1:$K$3000,SMALL(IF(Produktliste!$D$14:$D$3000=$B$14,ROW(Produktliste!$D$14:$D$3000)),ROW(13:13))),\"\")","v":""},{"$f":"IFERROR(VLOOKUP($B26,Produktliste!$K$13:$W$28:'Produktliste'!$K$13:$W$202,F$10,FALSE),\"\")","v":""},{"$f":"IFERROR(VLOOKUP($B26,Produktliste!$K$13:$W$28:'Produktliste'!$K$13:$W$202,G$10,FALSE),\"\")","v":""}]
[null,null,{"$f":"IFERROR(VLOOKUP($B27,Produktliste!$K$13:$W$28:'Produktliste'!$K$13:$W$202,C$10,FALSE),\"\")","v":""},{"$f":"IFERROR(VLOOKUP($B27,Produktliste!$K$13:$W$28:'Produktliste'!$K$13:$W$202,D$10,FALSE),\"\")","v":""},{"$f":"IFERROR(INDEX(Produktliste!$K$1:$K$3000,SMALL(IF(Produktliste!$D$14:$D$3000=$B$14,ROW(Produktliste!$D$14:$D$3000)),ROW(14:14))),\"\")","v":""},{"$f":"IFERROR(VLOOKUP($B27,Produktliste!$K$13:$W$28:'Produktliste'!$K$13:$W$202,F$10,FALSE),\"\")","v":""},{"$f":"IFERROR(VLOOKUP($B27,Produktliste!$K$13:$W$28:'Produktliste'!$K$13:$W$202,G$10,FALSE),\"\")","v":""}]
[null,null,{"$f":"IFERROR(VLOOKUP($B28,Produktliste!$K$13:$W$28:'Produktliste'!$K$13:$W$202,C$10,FALSE),\"\")","v":""},{"$f":"IFERROR(VLOOKUP($B28,Produktliste!$K$13:$W$28:'Produktliste'!$K$13:$W$202,D$10,FALSE),\"\")","v":""},{"$f":"IFERROR(INDEX(Produktliste!$K$1:$K$3000,SMALL(IF(Produktliste!$D$14:$D$3000=$B$14,ROW(Produktliste!$D$14:$D$3000)),ROW(15:15))),\"\")","v":""},{"$f":"IFERROR(VLOOKUP($B28,Produktliste!$K$13:$W$28:'Produktliste'!$K$13:$W$202,F$10,FALSE),\"\")","v":""},{"$f":"IFERROR(VLOOKUP($B28,Produktliste!$K$13:$W$28:'Produktliste'!$K$13:$W$202,G$10,FALSE),\"\")","v":""}]
[null,null,{"$f":"IFERROR(VLOOKUP($B29,Produktliste!$K$13:$W$28:'Produktliste'!$K$13:$W$202,C$10,FALSE),\"\")","v":""},{"$f":"IFERROR(VLOOKUP($B29,Produktliste!$K$13:$W$28:'Produktliste'!$K$13:$W$202,D$10,FALSE),\"\")","v":""},{"$f":"IFERROR(INDEX(Produktliste!$K$1:$K$3000,SMALL(IF(Produktliste!$D$14:$D$3000=$B$14,ROW(Produktliste!$D$14:$D$3000)),ROW(16:16))),\"\")","v":""},{"$f":"IFERROR(VLOOKUP($B29,Produktliste!$K$13:$W$28:'Produktliste'!$K$13:$W$202,F$10,FALSE),\"\")","v":""},{"$f":"IFERROR(VLOOKUP($B29,Produktliste!$K$13:$W$28:'Produktliste'!$K$13:$W$202,G$10,FALSE),\"\")","v":""}]
[null,null,{"$f":"IFERROR(VLOOKUP($B30,Produktliste!$K$13:$W$28:'Produktliste'!$K$13:$W$202,C$10,FALSE),\"\")","v":""},{"$f":"IFERROR(VLOOKUP($B30,Produktliste!$K$13:$W$28:'Produktliste'!$K$13:$W$202,D$10,FALSE),\"\")","v":""},{"$f":"IFERROR(INDEX(Produktliste!$K$1:$K$3000,SMALL(IF(Produktliste!$D$14:$D$3000=$B$14,ROW(Produktliste!$D$14:$D$3000)),ROW(17:17))),\"\")","v":""},{"$f":"IFERROR(VLOOKUP($B30,Produktliste!$K$13:$W$28:'Produktliste'!$K$13:$W$202,F$10,FALSE),\"\")","v":""},{"$f":"IFERROR(VLOOKUP($B30,Produktliste!$K$13:$W$28:'Produktliste'!$K$13:$W$202,G$10,FALSE),\"\")","v":""}]
[null,null,{"$f":"IFERROR(VLOOKUP($B31,Produktliste!$K$13:$W$28:'Produktliste'!$K$13:$W$202,C$10,FALSE),\"\")","v":""},{"$f":"IFERROR(VLOOKUP($B31,Produktliste!$K$13:$W$28:'Produktliste'!$K$13:$W$202,D$10,FALSE),\"\")","v":""},{"$f":"IFERROR(INDEX(Produktliste!$K$1:$K$3000,SMALL(IF(Produktliste!$D$14:$D$3000=$B$14,ROW(Produktliste!$D$14:$D$3000)),ROW(18:18))),\"\")","v":""},{"$f":"IFERROR(VLOOKUP($B31,Produktliste!$K$13:$W$28:'Produktliste'!$K$13:$W$202,F$10,FALSE),\"\")","v":""},{"$f":"IFERROR(VLOOKUP($B31,Produktliste!$K$13:$W$28:'Produktliste'!$K$13:$W$202,G$10,FALSE),\"\")","v":""}]
[null,null,{"$f":"IFERROR(VLOOKUP($B32,Produktliste!$K$13:$W$28:'Produktliste'!$K$13:$W$202,C$10,FALSE),\"\")","v":""},{"$f":"IFERROR(VLOOKUP($B32,Produktliste!$K$13:$W$28:'Produktliste'!$K$13:$W$202,D$10,FALSE),\"\")","v":""},{"$f":"IFERROR(INDEX(Produktliste!$K$1:$K$3000,SMALL(IF(Produktliste!$D$14:$D$3000=$B$14,ROW(Produktliste!$D$14:$D$3000)),ROW(19:19))),\"\")","v":""},{"$f":"IFERROR(VLOOKUP($B32,Produktliste!$K$13:$W$28:'Produktliste'!$K$13:$W$202,F$10,FALSE),\"\")","v":""},{"$f":"IFERROR(VLOOKUP($B32,Produktliste!$K$13:$W$28:'Produktliste'!$K$13:$W$202,G$10,FALSE),\"\")","v":""}]
[null,null,{"$f":"IFERROR(VLOOKUP($B33,Produktliste!$K$13:$W$28:'Produktliste'!$K$13:$W$202,C$10,FALSE),\"\")","v":""},{"$f":"IFERROR(VLOOKUP($B33,Produktliste!$K$13:$W$28:'Produktliste'!$K$13:$W$202,D$10,FALSE),\"\")","v":""},{"$f":"IFERROR(INDEX(Produktliste!$K$1:$K$3000,SMALL(IF(Produktliste!$D$14:$D$3000=$B$14,ROW(Produktliste!$D$14:$D$3000)),ROW(20:20))),\"\")","v":""},{"$f":"IFERROR(VLOOKUP($B33,Produktliste!$K$13:$W$28:'Produktliste'!$K$13:$W$202,F$10,FALSE),\"\")","v":""},{"$f":"IFERROR(VLOOKUP($B33,Produktliste!$K$13:$W$28:'Produktliste'!$K$13:$W$202,G$10,FALSE),\"\")","v":""}]
[null,null,{"$f":"IFERROR(VLOOKUP($B34,Produktliste!$K$13:$W$28:'Produktliste'!$K$13:$W$202,C$10,FALSE),\"\")","v":""},{"$f":"IFERROR(VLOOKUP($B34,Produktliste!$K$13:$W$28:'Produktliste'!$K$13:$W$202,D$10,FALSE),\"\")","v":""},{"$f":"IFERROR(INDEX(Produktliste!$K$1:$K$3000,SMALL(IF(Produktliste!$D$14:$D$3000=$B$14,ROW(Produktliste!$D$14:$D$3000)),ROW(21:21))),\"\")","v":""},{"$f":"IFERROR(VLOOKUP($B34,Produktliste!$K$13:$W$28:'Produktliste'!$K$13:$W$202,F$10,FALSE),\"\")","v":""},{"$f":"IFERROR(VLOOKUP($B34,Produktliste!$K$13:$W$28:'Produktliste'!$K$13:$W$202,G$10,FALSE),\"\")","v":""}]
[null,null,{"$f":"IFERROR(VLOOKUP($B35,Produktliste!$K$13:$W$28:'Produktliste'!$K$13:$W$202,C$10,FALSE),\"\")","v":""},{"$f":"IFERROR(VLOOKUP($B35,Produktliste!$K$13:$W$28:'Produktliste'!$K$13:$W$202,D$10,FALSE),\"\")","v":""},{"$f":"IFERROR(INDEX(Produktliste!$K$1:$K$3000,SMALL(IF(Produktliste!$D$14:$D$3000=$B$14,ROW(Produktliste!$D$14:$D$3000)),ROW(22:22))),\"\")","v":""},{"$f":"IFERROR(VLOOKUP($B35,Produktliste!$K$13:$W$28:'Produktliste'!$K$13:$W$202,F$10,FALSE),\"\")","v":""},{"$f":"IFERROR(VLOOKUP($B35,Produktliste!$K$13:$W$28:'Produktliste'!$K$13:$W$202,G$10,FALSE),\"\")","v":""}]
[null,null,{"$f":"IFERROR(VLOOKUP($B36,Produktliste!$K$13:$W$28:'Produktliste'!$K$13:$W$202,C$10,FALSE),\"\")","v":""},{"$f":"IFERROR(VLOOKUP($B36,Produktliste!$K$13:$W$28:'Produktliste'!$K$13:$W$202,D$10,FALSE),\"\")","v":""},{"$f":"IFERROR(INDEX(Produktliste!$K$1:$K$3000,SMALL(IF(Produktliste!$D$14:$D$3000=$B$14,ROW(Produktliste!$D$14:$D$3000)),ROW(23:23))),\"\")","v":""},{"$f":"IFERROR(VLOOKUP($B36,Produktliste!$K$13:$W$28:'Produktliste'!$K$13:$W$202,F$10,FALSE),\"\")","v":""},{"$f":"IFERROR(VLOOKUP($B36,Produktliste!$K$13:$W$28:'Produktliste'!$K$13:$W$202,G$10,FALSE),\"\")","v":""}]
[null,null,{"$f":"IFERROR(VLOOKUP($B37,Produktliste!$K$13:$W$28:'Produktliste'!$K$13:$W$202,C$10,FALSE),\"\")","v":""},{"$f":"IFERROR(VLOOKUP($B37,Produktliste!$K$13:$W$28:'Produktliste'!$K$13:$W$202,D$10,FALSE),\"\")","v":""},{"$f":"IFERROR(INDEX(Produktliste!$K$1:$K$3000,SMALL(IF(Produktliste!$D$14:$D$3000=$B$14,ROW(Produktliste!$D$14:$D$3000)),ROW(24:24))),\"\")","v":""},{"$f":"IFERROR(VLOOKUP($B37,Produktliste!$K$13:$W$28:'Produktliste'!$K$13:$W$202,F$10,FALSE),\"\")","v":""},{"$f":"IFERROR(VLOOKUP($B37,Produktliste!$K$13:$W$28:'Produktliste'!$K$13:$W$202,G$10,FALSE),\"\")","v":""}]
[null,null,{"$f":"IFERROR(VLOOKUP($B38,Produktliste!$K$13:$W$28:'Produktliste'!$K$13:$W$202,C$10,FALSE),\"\")","v":""},{"$f":"IFERROR(VLOOKUP($B38,Produktliste!$K$13:$W$28:'Produktliste'!$K$13:$W$202,D$10,FALSE),\"\")","v":""},{"$f":"IFERROR(INDEX(Produktliste!$K$1:$K$3000,SMALL(IF(Produktliste!$D$14:$D$3000=$B$14,ROW(Produktliste!$D$14:$D$3000)),ROW(25:25))),\"\")","v":""},{"$f":"IFERROR(VLOOKUP($B38,Produktliste!$K$13:$W$28:'Produktliste'!$K$13:$W$202,F$10,FALSE),\"\")","v":""},{"$f":"IFERROR(VLOOKUP($B38,Produktliste!$K$13:$W$28:'Produktliste'!$K$13:$W$202,G$10,FALSE),\"\")","v":""}]
[null,null,{"$f":"IFERROR(VLOOKUP($B39,Produktliste!$K$13:$W$28:'Produktliste'!$K$13:$W$202,C$10,FALSE),\"\")","v":""},{"$f":"IFERROR(VLOOKUP($B39,Produktliste!$K$13:$W$28:'Produktliste'!$K$13:$W$202,D$10,FALSE),\"\")","v":""},{"$f":"IFERROR(INDEX(Produktliste!$K$1:$K$3000,SMALL(IF(Produktliste!$D$14:$D$3000=$B$14,ROW(Produktliste!$D$14:$D$3000)),ROW(26:26))),\"\")","v":""},{"$f":"IFERROR(VLOOKUP($B39,Produktliste!$K$13:$W$28:'Produktliste'!$K$13:$W$202,F$10,FALSE),\"\")","v":""},{"$f":"IFERROR(VLOOKUP($B39,Produktliste!$K$13:$W$28:'Produktliste'!$K$13:$W$202,G$10,FALSE),\"\")","v":""}]
[]
[]
[null,"*","Hvis      100% < Lambda > 110 %   er OK  elles ikke O.K"]
[]
[null,"Bemærkning:"]
[]
[]
[]
[null,"Måleapparat:"]
[null,"Dato :                                                                                                                                        Indreguleringsteknikker:                                                                                                                                                 Firma:"]

{"sheet":"Pumpe report","index":9,"n_rows":44,"n_cols":16,"rows_kept":44,"cut":false,"hidden":false,"merged":[[2,2,7,12],[43,1,43,15],[10,6,11,6],[10,7,11,7],[10,13,11,13],[10,14,11,14],[10,15,11,15],[42,1,42,15],[10,1,11,1],[10,2,11,2],[10,3,11,3],[10,4,11,4],[10,5,11,5],[10,8,11,8],[10,9,11,9]]}
[]
[]
[null,null,"Her skal alle GPA"]
[]
[]
[]
[]
[]
[]
[null,null,{"$f":"IFERROR(HLOOKUP(C11,Produktliste!$13:$14,2,0),\"\")","v":3},{"$f":"IFERROR(HLOOKUP(D11,Produktliste!$13:$14,2,0),\"\")","v":4},{"$f":"IFERROR(HLOOKUP(E11,Produktliste!$13:$14,2,0),\"\")","v":7},{"$f":"IFERROR(HLOOKUP(F11,Produktliste!$13:$14,2,0),\"\")","v":0},{"$f":"IFERROR(HLOOKUP(G11,Produktliste!$13:$14,2,0),\"\")","v":0},{"$f":"IFERROR(HLOOKUP(H11,Produktliste!$13:$14,2,0),\"\")","v":0},{"$f":"IFERROR(HLOOKUP(I11,Produktliste!$13:$14,2,0),\"\")","v":0}]
[null,"ID nr. ","Rum nummer","Etage","Leverandør","Størrelse","Type nr. ","Flow [l/s]","Spænding [V]","Styreform ","Strøm"," Flow[l/s]","[Kpa]","medie","Temperatur   C","OBS       X"]
[null,null,null,null,null,null,null,null,null,null," målt "," målt ","Δp ",null,null,"Qk"]
[null,"GPA",null,null,null,null,{"$f":"IFERROR(INDEX(Produktliste!$K$1:$K$3000,SMALL(IF(Produktliste!$D$14:$D$3000=$B$13,ROW(Produktliste!$D$14:$D$3000)),ROW(1:1))),\"\")","v":"=H01:HC06:GPA01"},null,null,"Dp styring "]
[null,"GPA",null,null,null,null,{"$f":"IFERROR(INDEX(Produktliste!$K$1:$K$3000,SMALL(IF(Produktliste!$D$14:$D$3000=$B$13,ROW(Produktliste!$D$14:$D$3000)),ROW(2:2))),\"\")","v":"=H01:HC06:GPA02"},null,null,"Fast hastighed"]
[null,"GPA",null,null,null,null,{"$f":"IFERROR(INDEX(Produktliste!$K$1:$K$3000,SMALL(IF(Produktliste!$D$14:$D$3000=$B$13,ROW(Produktliste!$D$14:$D$3000)),ROW(3:3))),\"\")","v":"=H01:HC08:GPA01"},null,null,"Eksterne styret temperatur "]
[null,"GPA",{"$f":"IFERROR(VLOOKUP($B16,Produktliste!$K$13:$AJ$770,C$10,FALSE),\"\")","v":""},{"$f":"IFERROR(VLOOKUP($B16,Produktliste!$K$13:$AJ$770,D$10,FALSE),\"\")","v":""},{"$f":"IFERROR(VLOOKUP($B16,Produktliste!$K$13:$AJ$770,E$10,FALSE),\"\")","v":""},{"$f":"IFERROR(VLOOKUP($B16,Produktliste!$K$13:$AJ$770,F$10,FALSE),\"\")","v":""},{"$f":"IFERROR(INDEX(Produktliste!$K$1:$K$3000,SMALL(IF(Produktliste!$D$14:$D$3000=$B$13,ROW(Produktliste!$D$14:$D$3000)),ROW(4:4))),\"\")","v":"=H01:HC09:GPA01"},{"$f":"IFERROR(VLOOKUP($B16,Produktliste!$K$13:$AJ$770,H$10,FALSE),\"\")","v":""},{"$f":"IFERROR(VLOOKUP($B16,Produktliste!$K$13:$AJ$770,I$10,FALSE),\"\")","v":""}]
[null,"GPA",{"$f":"IFERROR(VLOOKUP($B17,Produktliste!$K$13:$AJ$770,C$10,FALSE),\"\")","v":""},{"$f":"IFERROR(VLOOKUP($B17,Produktliste!$K$13:$AJ$770,D$10,FALSE),\"\")","v":""},{"$f":"IFERROR(VLOOKUP($B17,Produktliste!$K$13:$AJ$770,E$10,FALSE),\"\")","v":""},{"$f":"IFERROR(VLOOKUP($B17,Produktliste!$K$13:$AJ$770,F$10,FALSE),\"\")","v":""},{"$f":"IFERROR(INDEX(Produktliste!$K$1:$K$3000,SMALL(IF(Produktliste!$D$14:$D$3000=$B$13,ROW(Produktliste!$D$14:$D$3000)),ROW(5:5))),\"\")","v":"=H01:HC10:GPA01"},{"$f":"IFERROR(VLOOKUP($B17,Produktliste!$K$13:$AJ$770,H$10,FALSE),\"\")","v":""},{"$f":"IFERROR(VLOOKUP($B17,Produktliste!$K$13:$AJ$770,I$10,FALSE),\"\")","v":""}]
[null,"GPA",{"$f":"IFERROR(VLOOKUP($B18,Produktliste!$K$13:$AJ$770,C$10,FALSE),\"\")","v":""},{"$f":"IFERROR(VLOOKUP($B18,Produktliste!$K$13:$AJ$770,D$10,FALSE),\"\")","v":""},{"$f":"IFERROR(VLOOKUP($B18,Produktliste!$K$13:$AJ$770,E$10,FALSE),\"\")","v":""},{"$f":"IFERROR(VLOOKUP($B18,Produktliste!$K$13:$AJ$770,F$10,FALSE),\"\")","v":""},{"$f":"IFERROR(INDEX(Produktliste!$K$1:$K$3000,SMALL(IF(Produktliste!$D$14:$D$3000=$B$13,ROW(Produktliste!$D$14:$D$3000)),ROW(6:6))),\"\")","v":""},{"$f":"IFERROR(VLOOKUP($B18,Produktliste!$K$13:$AJ$770,H$10,FALSE),\"\")","v":""},{"$f":"IFERROR(VLOOKUP($B18,Produktliste!$K$13:$AJ$770,I$10,FALSE),\"\")","v":""}]
[null,"GPA",{"$f":"IFERROR(VLOOKUP($B19,Produktliste!$K$13:$AJ$770,C$10,FALSE),\"\")","v":""},{"$f":"IFERROR(VLOOKUP($B19,Produktliste!$K$13:$AJ$770,D$10,FALSE),\"\")","v":""},{"$f":"IFERROR(VLOOKUP($B19,Produktliste!$K$13:$AJ$770,E$10,FALSE),\"\")","v":""},{"$f":"IFERROR(VLOOKUP($B19,Produktliste!$K$13:$AJ$770,F$10,FALSE),\"\")","v":""},{"$f":"IFERROR(INDEX(Produktliste!$K$1:$K$3000,SMALL(IF(Produktliste!$D$14:$D$3000=$B$13,ROW(Produktliste!$D$14:$D$3000)),ROW(7:7))),\"\")","v":""},{"$f":"IFERROR(VLOOKUP($B19,Produktliste!$K$13:$AJ$770,H$10,FALSE),\"\")","v":""},{"$f":"IFERROR(VLOOKUP($B19,Produktliste!$K$13:$AJ$770,I$10,FALSE),\"\")","v":""}]
[null,"GPA",{"$f":"IFERROR(VLOOKUP($B20,Produktliste!$K$13:$AJ$770,C$10,FALSE),\"\")","v":""},{"$f":"IFERROR(VLOOKUP($B20,Produktliste!$K$13:$AJ$770,D$10,FALSE),\"\")","v":""},{"$f":"IFERROR(VLOOKUP($B20,Produktliste!$K$13:$AJ$770,E$10,FALSE),\"\")","v":""},{"$f":"IFERROR(VLOOKUP($B20,Produktliste!$K$13:$AJ$770,F$10,FALSE),\"\")","v":""},{"$f":"IFERROR(INDEX(Produktliste!$K$1:$K$3000,SMALL(IF(Produktliste!$D$14:$D$3000=$B$13,ROW(Produktliste!$D$14:$D$3000)),ROW(8:8))),\"\")","v":""},{"$f":"IFERROR(VLOOKUP($B20,Produktliste!$K$13:$AJ$770,H$10,FALSE),\"\")","v":""},{"$f":"IFERROR(VLOOKUP($B20,Produktliste!$K$13:$AJ$770,I$10,FALSE),\"\")","v":""}]
[null,"GPA",{"$f":"IFERROR(VLOOKUP($B21,Produktliste!$K$13:$AJ$770,C$10,FALSE),\"\")","v":""},{"$f":"IFERROR(VLOOKUP($B21,Produktliste!$K$13:$AJ$770,D$10,FALSE),\"\")","v":""},{"$f":"IFERROR(VLOOKUP($B21,Produktliste!$K$13:$AJ$770,E$10,FALSE),\"\")","v":""},{"$f":"IFERROR(VLOOKUP($B21,Produktliste!$K$13:$AJ$770,F$10,FALSE),\"\")","v":""},{"$f":"IFERROR(INDEX(Produktliste!$K$1:$K$3000,SMALL(IF(Produktliste!$D$14:$D$3000=$B$13,ROW(Produktliste!$D$14:$D$3000)),ROW(9:9))),\"\")","v":""},{"$f":"IFERROR(VLOOKUP($B21,Produktliste!$K$13:$AJ$770,H$10,FALSE),\"\")","v":""},{"$f":"IFERROR(VLOOKUP($B21,Produktliste!$K$13:$AJ$770,I$10,FALSE),\"\")","v":""}]
[null,"GPA",{"$f":"IFERROR(VLOOKUP($B22,Produktliste!$K$13:$AJ$770,C$10,FALSE),\"\")","v":""},{"$f":"IFERROR(VLOOKUP($B22,Produktliste!$K$13:$AJ$770,D$10,FALSE),\"\")","v":""},{"$f":"IFERROR(VLOOKUP($B22,Produktliste!$K$13:$AJ$770,E$10,FALSE),\"\")","v":""},{"$f":"IFERROR(VLOOKUP($B22,Produktliste!$K$13:$AJ$770,F$10,FALSE),\"\")","v":""},{"$f":"IFERROR(INDEX(Produktliste!$K$1:$K$3000,SMALL(IF(Produktliste!$D$14:$D$3000=$B$13,ROW(Produktliste!$D$14:$D$3000)),ROW(10:10))),\"\")","v":""},{"$f":"IFERROR(VLOOKUP($B22,Produktliste!$K$13:$AJ$770,H$10,FALSE),\"\")","v":""},{"$f":"IFERROR(VLOOKUP($B22,Produktliste!$K$13:$AJ$770,I$10,FALSE),\"\")","v":""}]
[null,null,{"$f":"IFERROR(VLOOKUP($B23,Produktliste!$K$13:$AJ$770,C$10,FALSE),\"\")","v":""},{"$f":"IFERROR(VLOOKUP($B23,Produktliste!$K$13:$AJ$770,D$10,FALSE),\"\")","v":""},{"$f":"IFERROR(VLOOKUP($B23,Produktliste!$K$13:$AJ$770,E$10,FALSE),\"\")","v":""},{"$f":"IFERROR(VLOOKUP($B23,Produktliste!$K$13:$AJ$770,F$10,FALSE),\"\")","v":""},{"$f":"IFERROR(INDEX(Produktliste!$K$1:$K$3000,SMALL(IF(Produktliste!$D$14:$D$3000=$B$13,ROW(Produktliste!$D$14:$D$3000)),ROW(11:11))),\"\")","v":""},{"$f":"IFERROR(VLOOKUP($B23,Produktliste!$K$13:$AJ$770,H$10,FALSE),\"\")","v":""},{"$f":"IFERROR(VLOOKUP($B23,Produktliste!$K$13:$AJ$770,I$10,FALSE),\"\")","v":""}]
[null,null,{"$f":"IFERROR(VLOOKUP($B24,Produktliste!$K$13:$AJ$770,C$10,FALSE),\"\")","v":""},{"$f":"IFERROR(VLOOKUP($B24,Produktliste!$K$13:$AJ$770,D$10,FALSE),\"\")","v":""},{"$f":"IFERROR(VLOOKUP($B24,Produktliste!$K$13:$AJ$770,E$10,FALSE),\"\")","v":""},{"$f":"IFERROR(VLOOKUP($B24,Produktliste!$K$13:$AJ$770,F$10,FALSE),\"\")","v":""},{"$f":"IFERROR(INDEX(Produktliste!$K$1:$K$3000,SMALL(IF(Produktliste!$D$14:$D$3000=$B$13,ROW(Produktliste!$D$14:$D$3000)),ROW(12:12))),\"\")","v":""},{"$f":"IFERROR(VLOOKUP($B24,Produktliste!$K$13:$AJ$770,H$10,FALSE),\"\")","v":""},{"$f":"IFERROR(VLOOKUP($B24,Produktliste!$K$13:$AJ$770,I$10,FALSE),\"\")","v":""}]
[null,null,{"$f":"IFERROR(VLOOKUP($B25,Produktliste!$K$13:$AJ$770,C$10,FALSE),\"\")","v":""},{"$f":"IFERROR(VLOOKUP($B25,Produktliste!$K$13:$AJ$770,D$10,FALSE),\"\")","v":""},{"$f":"IFERROR(VLOOKUP($B25,Produktliste!$K$13:$AJ$770,E$10,FALSE),\"\")","v":""},{"$f":"IFERROR(VLOOKUP($B25,Produktliste!$K$13:$AJ$770,F$10,FALSE),\"\")","v":""},{"$f":"IFERROR(INDEX(Produktliste!$K$1:$K$3000,SMALL(IF(Produktliste!$D$14:$D$3000=$B$13,ROW(Produktliste!$D$14:$D$3000)),ROW(13:13))),\"\")","v":""},{"$f":"IFERROR(VLOOKUP($B25,Produktliste!$K$13:$AJ$770,H$10,FALSE),\"\")","v":""},{"$f":"IFERROR(VLOOKUP($B25,Produktliste!$K$13:$AJ$770,I$10,FALSE),\"\")","v":""}]
[null,null,{"$f":"IFERROR(VLOOKUP($B26,Produktliste!$K$13:$AJ$770,C$10,FALSE),\"\")","v":""},{"$f":"IFERROR(VLOOKUP($B26,Produktliste!$K$13:$AJ$770,D$10,FALSE),\"\")","v":""},{"$f":"IFERROR(VLOOKUP($B26,Produktliste!$K$13:$AJ$770,E$10,FALSE),\"\")","v":""},{"$f":"IFERROR(VLOOKUP($B26,Produktliste!$K$13:$AJ$770,F$10,FALSE),\"\")","v":""},{"$f":"IFERROR(INDEX(Produktliste!$K$1:$K$3000,SMALL(IF(Produktliste!$D$14:$D$3000=$B$13,ROW(Produktliste!$D$14:$D$3000)),ROW(14:14))),\"\")","v":""},{"$f":"IFERROR(VLOOKUP($B26,Produktliste!$K$13:$AJ$770,H$10,FALSE),\"\")","v":""},{"$f":"IFERROR(VLOOKUP($B26,Produktliste!$K$13:$AJ$770,I$10,FALSE),\"\")","v":""}]
[null,null,{"$f":"IFERROR(VLOOKUP($B27,Produktliste!$K$13:$AJ$770,C$10,FALSE),\"\")","v":""},{"$f":"IFERROR(VLOOKUP($B27,Produktliste!$K$13:$AJ$770,D$10,FALSE),\"\")","v":""},{"$f":"IFERROR(VLOOKUP($B27,Produktliste!$K$13:$AJ$770,E$10,FALSE),\"\")","v":""},{"$f":"IFERROR(VLOOKUP($B27,Produktliste!$K$13:$AJ$770,F$10,FALSE),\"\")","v":""},{"$f":"IFERROR(INDEX(Produktliste!$K$1:$K$3000,SMALL(IF(Produktliste!$D$14:$D$3000=$B$13,ROW(Produktliste!$D$14:$D$3000)),ROW(15:15))),\"\")","v":""},{"$f":"IFERROR(VLOOKUP($B27,Produktliste!$K$13:$AJ$770,H$10,FALSE),\"\")","v":""},{"$f":"IFERROR(VLOOKUP($B27,Produktliste!$K$13:$AJ$770,I$10,FALSE),\"\")","v":""}]
[null,null,{"$f":"IFERROR(VLOOKUP($B28,Produktliste!$K$13:$AJ$770,C$10,FALSE),\"\")","v":""},{"$f":"IFERROR(VLOOKUP($B28,Produktliste!$K$13:$AJ$770,D$10,FALSE),\"\")","v":""},{"$f":"IFERROR(VLOOKUP($B28,Produktliste!$K$13:$AJ$770,E$10,FALSE),\"\")","v":""},{"$f":"IFERROR(VLOOKUP($B28,Produktliste!$K$13:$AJ$770,F$10,FALSE),\"\")","v":""},{"$f":"IFERROR(INDEX(Produktliste!$K$1:$K$3000,SMALL(IF(Produktliste!$D$14:$D$3000=$B$13,ROW(Produktliste!$D$14:$D$3000)),ROW(16:16))),\"\")","v":""},{"$f":"IFERROR(VLOOKUP($B28,Produktliste!$K$13:$AJ$770,H$10,FALSE),\"\")","v":""},{"$f":"IFERROR(VLOOKUP($B28,Produktliste!$K$13:$AJ$770,I$10,FALSE),\"\")","v":""}]
[null,null,{"$f":"IFERROR(VLOOKUP($B29,Produktliste!$K$13:$AJ$770,C$10,FALSE),\"\")","v":""},{"$f":"IFERROR(VLOOKUP($B29,Produktliste!$K$13:$AJ$770,D$10,FALSE),\"\")","v":""},{"$f":"IFERROR(VLOOKUP($B29,Produktliste!$K$13:$AJ$770,E$10,FALSE),\"\")","v":""},{"$f":"IFERROR(VLOOKUP($B29,Produktliste!$K$13:$AJ$770,F$10,FALSE),\"\")","v":""},{"$f":"IFERROR(INDEX(Produktliste!$K$1:$K$3000,SMALL(IF(Produktliste!$D$14:$D$3000=$B$13,ROW(Produktliste!$D$14:$D$3000)),ROW(17:17))),\"\")","v":""},{"$f":"IFERROR(VLOOKUP($B29,Produktliste!$K$13:$AJ$770,H$10,FALSE),\"\")","v":""},{"$f":"IFERROR(VLOOKUP($B29,Produktliste!$K$13:$AJ$770,I$10,FALSE),\"\")","v":""}]
[null,null,{"$f":"IFERROR(VLOOKUP($B30,Produktliste!$K$13:$AJ$770,C$10,FALSE),\"\")","v":""},{"$f":"IFERROR(VLOOKUP($B30,Produktliste!$K$13:$AJ$770,D$10,FALSE),\"\")","v":""},{"$f":"IFERROR(VLOOKUP($B30,Produktliste!$K$13:$AJ$770,E$10,FALSE),\"\")","v":""},{"$f":"IFERROR(VLOOKUP($B30,Produktliste!$K$13:$AJ$770,F$10,FALSE),\"\")","v":""},{"$f":"IFERROR(INDEX(Produktliste!$K$1:$K$3000,SMALL(IF(Produktliste!$D$14:$D$3000=$B$13,ROW(Produktliste!$D$14:$D$3000)),ROW(18:18))),\"\")","v":""},{"$f":"IFERROR(VLOOKUP($B30,Produktliste!$K$13:$AJ$770,H$10,FALSE),\"\")","v":""},{"$f":"IFERROR(VLOOKUP($B30,Produktliste!$K$13:$AJ$770,I$10,FALSE),\"\")","v":""}]
[null,null,{"$f":"IFERROR(VLOOKUP($B31,Produktliste!$K$13:$AJ$770,C$10,FALSE),\"\")","v":""},{"$f":"IFERROR(VLOOKUP($B31,Produktliste!$K$13:$AJ$770,D$10,FALSE),\"\")","v":""},{"$f":"IFERROR(VLOOKUP($B31,Produktliste!$K$13:$AJ$770,E$10,FALSE),\"\")","v":""},{"$f":"IFERROR(VLOOKUP($B31,Produktliste!$K$13:$AJ$770,F$10,FALSE),\"\")","v":""},{"$f":"IFERROR(INDEX(Produktliste!$K$1:$K$3000,SMALL(IF(Produktliste!$D$14:$D$3000=$B$13,ROW(Produktliste!$D$14:$D$3000)),ROW(19:19))),\"\")","v":""},{"$f":"IFERROR(VLOOKUP($B31,Produktliste!$K$13:$AJ$770,H$10,FALSE),\"\")","v":""},{"$f":"IFERROR(VLOOKUP($B31,Produktliste!$K$13:$AJ$770,I$10,FALSE),\"\")","v":""}]
[null,null,{"$f":"IFERROR(VLOOKUP($B32,Produktliste!$K$13:$AJ$770,C$10,FALSE),\"\")","v":""},{"$f":"IFERROR(VLOOKUP($B32,Produktliste!$K$13:$AJ$770,D$10,FALSE),\"\")","v":""},{"$f":"IFERROR(VLOOKUP($B32,Produktliste!$K$13:$AJ$770,E$10,FALSE),\"\")","v":""},{"$f":"IFERROR(VLOOKUP($B32,Produktliste!$K$13:$AJ$770,F$10,FALSE),\"\")","v":""},{"$f":"IFERROR(INDEX(Produktliste!$K$1:$K$3000,SMALL(IF(Produktliste!$D$14:$D$3000=$B$13,ROW(Produktliste!$D$14:$D$3000)),ROW(20:20))),\"\")","v":""},{"$f":"IFERROR(VLOOKUP($B32,Produktliste!$K$13:$AJ$770,H$10,FALSE),\"\")","v":""},{"$f":"IFERROR(VLOOKUP($B32,Produktliste!$K$13:$AJ$770,I$10,FALSE),\"\")","v":""}]
[null,null,{"$f":"IFERROR(VLOOKUP($B33,Produktliste!$K$13:$AJ$770,C$10,FALSE),\"\")","v":""},{"$f":"IFERROR(VLOOKUP($B33,Produktliste!$K$13:$AJ$770,D$10,FALSE),\"\")","v":""},{"$f":"IFERROR(VLOOKUP($B33,Produktliste!$K$13:$AJ$770,E$10,FALSE),\"\")","v":""},{"$f":"IFERROR(VLOOKUP($B33,Produktliste!$K$13:$AJ$770,F$10,FALSE),\"\")","v":""},{"$f":"IFERROR(INDEX(Produktliste!$K$1:$K$3000,SMALL(IF(Produktliste!$D$14:$D$3000=$B$13,ROW(Produktliste!$D$14:$D$3000)),ROW(21:21))),\"\")","v":""},{"$f":"IFERROR(VLOOKUP($B33,Produktliste!$K$13:$AJ$770,H$10,FALSE),\"\")","v":""},{"$f":"IFERROR(VLOOKUP($B33,Produktliste!$K$13:$AJ$770,I$10,FALSE),\"\")","v":""}]
[null,null,{"$f":"IFERROR(VLOOKUP($B34,Produktliste!$K$13:$AJ$770,C$10,FALSE),\"\")","v":""},{"$f":"IFERROR(VLOOKUP($B34,Produktliste!$K$13:$AJ$770,D$10,FALSE),\"\")","v":""},{"$f":"IFERROR(VLOOKUP($B34,Produktliste!$K$13:$AJ$770,E$10,FALSE),\"\")","v":""},{"$f":"IFERROR(VLOOKUP($B34,Produktliste!$K$13:$AJ$770,F$10,FALSE),\"\")","v":""},{"$f":"IFERROR(INDEX(Produktliste!$K$1:$K$3000,SMALL(IF(Produktliste!$D$14:$D$3000=$B$13,ROW(Produktliste!$D$14:$D$3000)),ROW(22:22))),\"\")","v":""},{"$f":"IFERROR(VLOOKUP($B34,Produktliste!$K$13:$AJ$770,H$10,FALSE),\"\")","v":""},{"$f":"IFERROR(VLOOKUP($B34,Produktliste!$K$13:$AJ$770,I$10,FALSE),\"\")","v":""}]
[null,null,{"$f":"IFERROR(VLOOKUP($B35,Produktliste!$K$13:$AJ$770,C$10,FALSE),\"\")","v":""},{"$f":"IFERROR(VLOOKUP($B35,Produktliste!$K$13:$AJ$770,D$10,FALSE),\"\")","v":""},{"$f":"IFERROR(VLOOKUP($B35,Produktliste!$K$13:$AJ$770,E$10,FALSE),\"\")","v":""},{"$f":"IFERROR(VLOOKUP($B35,Produktliste!$K$13:$AJ$770,F$10,FALSE),\"\")","v":""},{"$f":"IFERROR(INDEX(Produktliste!$K$1:$K$3000,SMALL(IF(Produktliste!$D$14:$D$3000=$B$13,ROW(Produktliste!$D$14:$D$3000)),ROW(23:23))),\"\")","v":""},{"$f":"IFERROR(VLOOKUP($B35,Produktliste!$K$13:$AJ$770,H$10,FALSE),\"\")","v":""},{"$f":"IFERROR(VLOOKUP($B35,Produktliste!$K$13:$AJ$770,I$10,FALSE),\"\")","v":""}]
[null,null,{"$f":"IFERROR(VLOOKUP($B36,Produktliste!$K$13:$AJ$770,C$10,FALSE),\"\")","v":""},{"$f":"IFERROR(VLOOKUP($B36,Produktliste!$K$13:$AJ$770,D$10,FALSE),\"\")","v":""},{"$f":"IFERROR(VLOOKUP($B36,Produktliste!$K$13:$AJ$770,E$10,FALSE),\"\")","v":""},{"$f":"IFERROR(VLOOKUP($B36,Produktliste!$K$13:$AJ$770,F$10,FALSE),\"\")","v":""},{"$f":"IFERROR(INDEX(Produktliste!$K$1:$K$3000,SMALL(IF(Produktliste!$D$14:$D$3000=$B$13,ROW(Produktliste!$D$14:$D$3000)),ROW(24:24))),\"\")","v":""},{"$f":"IFERROR(VLOOKUP($B36,Produktliste!$K$13:$AJ$770,H$10,FALSE),\"\")","v":""},{"$f":"IFERROR(VLOOKUP($B36,Produktliste!$K$13:$AJ$770,I$10,FALSE),\"\")","v":""}]
[null,null,{"$f":"IFERROR(VLOOKUP($B37,Produktliste!$K$13:$AJ$770,C$10,FALSE),\"\")","v":""},{"$f":"IFERROR(VLOOKUP($B37,Produktliste!$K$13:$AJ$770,D$10,FALSE),\"\")","v":""},{"$f":"IFERROR(VLOOKUP($B37,Produktliste!$K$13:$AJ$770,E$10,FALSE),\"\")","v":""},{"$f":"IFERROR(VLOOKUP($B37,Produktliste!$K$13:$AJ$770,F$10,FALSE),\"\")","v":""},{"$f":"IFERROR(INDEX(Produktliste!$K$1:$K$3000,SMALL(IF(Produktliste!$D$14:$D$3000=$B$13,ROW(Produktliste!$D$14:$D$3000)),ROW(25:25))),\"\")","v":""},{"$f":"IFERROR(VLOOKUP($B37,Produktliste!$K$13:$AJ$770,H$10,FALSE),\"\")","v":""},{"$f":"IFERROR(VLOOKUP($B37,Produktliste!$K$13:$AJ$770,I$10,FALSE),\"\")","v":""}]
[]
[null,"Bemærkning:"]
[]
[]
[]
[null,"Måleapparat:"]
[null,"Dato :                                                                                                                                        Indreguleringsteknikker:                                                                                                                                                 Firma:"]