{"text_format":"1","workbook":"xlsx","n_sheets":2,"sheets":["Nov","Data"],"not_rendered":{"charts":0,"images":0,"macros":1,"external_links":0,"defined_names":1,"comments":0,"pivot_tables":0},"unopened":[],"bounds":{"document_bytes":16777216,"sheet_cells":100000,"rows_first":2000,"rows_last":500,"rows_between":2000,"halvings":0,"cell_chars":16384,"cell_head_chars":4096},"cells_cut":0,"cells_raw":0,"read":"whole","date_system":"1900"}

{"sheet":"Nov","index":0,"n_rows":44,"n_cols":22,"rows_kept":44,"cut":false,"hidden":false,"merged":[[1,16,1,17],[37,15,37,17],[37,10,37,12],[37,2,37,7],[39,2,39,7],[38,2,38,7],[38,10,38,12],[42,2,42,7],[41,2,41,7],[3,4,3,5],[3,6,3,7],[1,10,1,11],[41,10,41,12],[35,4,35,5],[40,2,40,7],[42,8,42,9],[39,10,39,12],[1,12,1,13],[37,18,37,19],[41,15,41,17],[40,10,40,12],[40,15,40,17],[42,10,42,12],[42,15,42,17],[40,13,40,14],[41,13,41,14],[38,15,38,17],[39,15,39,17]]}
[null,null,"Månedsrapport",null,null,null,null,null,null,null,null,null,null,null,null,null,null,null,null,null,null,"Indtast mdr 1-12"]
[null,"Navn: ",null,null,null,null,null,null,null,null,"Måned: ",null,{"$f":"CHOOSE(V2,\"Jan-Feb\",\"Feb-Mar\",\"Mar-Apr\",\"Apr-Maj\",\"Maj-Jun\",\"Jun-Jul\",\"Jul-Aug\",\"Aug-Sep\",\"Sep_Okt\",\"Okt-Nov\",\"Nov-Dec\",\"Dec-Jan\")","v":"Jan-Feb"},null,null,"År :",2021,null,null,null,null,1]
[]
["Uge","Dag","Dato","Vagttype","Planl.\nMøde tid\nFra - Til",null,"Faktisk\nMøde\nTid.\nFra-Til",null,"Udf.\nTim.\nDag","Udf.\nTim.\nA/N","Afsp.\nTim.","Ku.\nTim.","Till.\nA/N","Till\nWeek-\nEnd","Extra\nTim.","Timer\n50%\nTillæg","Timer\n100%\nTillæg","Syg /\nBarn\nS/\nBarsel","Ferie\nTimer","Ferie\nFri\nTimer"]
[{"$f":"_xlfn.ISOWEEKNUM(C5)","v":2},{"$f":"CHOOSE(WEEKDAY(C5,11),\"man\", \"Tirs\",\"Ons\",\"Tors\",\"FRE\",\"Lør\",\"søn\")","v":"Lør"},{"$f":"DATE(Q2,V2,16)","v":"2017-01-15"},null,{"$f":"IFERROR(VLOOKUP(D5,Data!$J$3:$L$4,2,0),\"\")","v":""},{"$f":"IFERROR(VLOOKUP(D5,Data!$J$3:$L$4,3,0),\"\")","v":""},null,null,{"$f":"IF(F5=E5,\" \",IF(F5<E5,(((0-E5)*24)+((F5)*24))+24,(F5-E5)*24))","v":" "},null,{"$f":"IF(OR(G5=\"\",H5=\"\"),\"\",IF(((V5-I5)*-1)<=0.25,\"\", IF((V5-I5)*-1<0,\"\",(V5-I5)*-1)))","v":""},null,{"$f":"IF(H5<=Data!$H$3,\"\",ColTime(Data!$H$3,Data!$H$4,G5,H5)*24)","v":""},null,null,{"$f":"IF(OR(G5=\"\",H5=\"\"),\"\",IF((V5-I5)<=0.25,\"\",IF(V5-I5<0,\"\",V5-I5)))","v":""},{"$f":"IF(OR(G5=\"\",H5=\"\"),\"\",IF((V5-I5)<=0.25,\"\",IF(V5-I5<0,\"\",V5-I5)))","v":""},null,null,null,null,{"$f":"IF(H5=G5,\" \",IF(H5<G5,(((0-G5)*24)+((H5)*24))+24,(H5-G5)*24))","v":" "}]
[{"$f":"IF(WEEKDAY(C6,11)=1,_xlfn.ISOWEEKNUM(C6),\"\")","v":""},{"$f":"CHOOSE(WEEKDAY(C6,11),\"man\", \"Tirs\",\"Ons\",\"Tors\",\"FRE\",\"Lør\",\"søn\")","v":"søn"},{"$f":"C5+1","v":"2017-01-16"},null,{"$f":"IFERROR(VLOOKUP(D6,Data!$J$3:$L$4,2,0),\"\")","v":""},{"$f":"IFERROR(VLOOKUP(D6,Data!$J$3:$L$4,3,0),\"\")","v":""},null,null,{"$f":"IF(F6=E6,\" \",IF(F6<E6,(((0-E6)*24)+((F6)*24))+24,(F6-E6)*24))","v":" "},null,{"$f":"IF(OR(G6=\"\",H6=\"\"),\"\",IF(((V6-I6)*-1)<=0.25,\"\", IF((V6-I6)*-1<0,\"\",(V6-I6)*-1)))","v":""},null,{"$f":"IF(H6<=Data!$H$3,\"\",ColTime(Data!$H$3,Data!$H$4,G6,H6)*24)","v":""},null,null,{"$f":"IF(OR(G6=\"\",H6=\"\"),\"\",IF((V6-I6)<=0.25,\"\",IF(V6-I6<0,\"\",V6-I6)))","v":""},{"$f":"IF(OR(G6=\"\",H6=\"\"),\"\",IF((V6-I6)<=0.25,\"\",IF(V6-I6<0,\"\",V6-I6)))","v":""},null,null,null,null,{"$f":"IF(H6=G6,\" \",IF(H6<G6,(((0-G6)*24)+((H6)*24))+24,(H6-G6)*24))","v":" "}]
[{"$f":"IF(WEEKDAY(C7,11)=1,_xlfn.ISOWEEKNUM(C7),\"\")","v":3},{"$f":"CHOOSE(WEEKDAY(C7,11),\"man\", \"Tirs\",\"Ons\",\"Tors\",\"FRE\",\"Lør\",\"søn\")","v":"man"},{"$f":"C6+1","v":"2017-01-17"},1,{"$f":"IFERROR(VLOOKUP(D7,Data!$J$3:$L$4,2,0),\"\")","v":"07:45:00"},{"$f":"IFERROR(VLOOKUP(D7,Data!$J$3:$L$4,3,0),\"\")","v":"16:00:00"},{"$f":"E7","v":"07:45:00"},{"$f":"F7","v":"16:00:00"},8.2499999999999982,null,"",null,{"$f":"IF(H7<=Data!$H$3,\"\",ColTime(Data!$H$3,Data!$H$4,G7,H7)*24)","v":""},null,null,"","",null,null,null,null,8.2499999999999982]
["",{"$f":"CHOOSE(WEEKDAY(C8,11),\"man\", \"Tirs\",\"Ons\",\"Tors\",\"FRE\",\"Lør\",\"søn\")","v":"Tirs"},"2017-01-18",null,{"$f":"IFERROR(VLOOKUP(D8,Data!$J$3:$L$4,2,0),\"\")","v":""},{"$f":"IFERROR(VLOOKUP(D8,Data!$J$3:$L$4,3,0),\"\")","v":""},{"$f":"E8","v":""},{"$f":"F8","v":""},{"$f":"IF(F8=E8,\" \",IF(F8<E8,(((0-E8)*24)+((F8)*24))+24,(F8-E8)*24))","v":" "},null,"",null,{"$f":"IF(H8<=Data!$H$3,\"\",ColTime(Data!$H$3,Data!$H$4,G8,H8)*24)","v":0},null,null,"","",null,null,null,null," "]
["","Ons","2017-01-19",2,{"$f":"IFERROR(VLOOKUP(D9,Data!$J$3:$L$4,2,0),\"\")","v":"07:45:00"},{"$f":"IFERROR(VLOOKUP(D9,Data!$J$3:$L$4,3,0),\"\")","v":"18:00:00"},"07:45:00","18:00:00",10.25,null,"",null,{"$f":"IF(H9<=Data!$H$3,\"\",ColTime(Data!$H$3,Data!$H$4,G9,H9)*24)","v":0.99999999999999911},null,null,"","",null,null,null,null,10.25]
["","Tors","2017-01-20",1,{"$f":"IFERROR(VLOOKUP(D10,Data!$J$3:$L$4,2,0),\"\")","v":"07:45:00"},{"$f":"IFERROR(VLOOKUP(D10,Data!$J$3:$L$4,3,0),\"\")","v":"16:00:00"},"07:45:00","16:00:00",8.2499999999999982,null,"",null,{"$f":"IF(H10<=Data!$H$3,\"\",ColTime(Data!$H$3,Data!$H$4,G10,H10)*24)","v":""},null,null,"","",null,null,null,null,{"$f":"IF(H10=G10,\" \",IF(H10<G10,(((0-G10)*24)+((H10)*24))+24,(H10-G10)*24))","v":8.2499999999999982}]
["","FRE","2017-01-21",1,{"$f":"IFERROR(VLOOKUP(D11,Data!$J$3:$L$4,2,0),\"\")","v":"07:45:00"},{"$f":"IFERROR(VLOOKUP(D11,Data!$J$3:$L$4,3,0),\"\")","v":"16:00:00"},"07:45:00","16:00:00",8.2499999999999982,null,"",null,{"$f":"IF(H11<=Data!$H$3,\"\",ColTime(Data!$H$3,Data!$H$4,G11,H11)*24)","v":""},null,null,"",{"$f":"IF(OR(G11=\"\",H11=\"\"),\"\",IF((V11-I11)<=0.25,\"\",IF(V11-I11<0,\"\",V11-I11)))","v":""},null,null,null,null,8.2499999999999982]
["","Lør","2017-01-22",null,{"$f":"IFERROR(VLOOKUP(D12,Data!$J$3:$L$4,2,0),\"\")","v":""},{"$f":"IFERROR(VLOOKUP(D12,Data!$J$3:$L$4,3,0),\"\")","v":""},{"$f":"E12","v":""},{"$f":"F12","v":""}," ",null,"",null,{"$f":"IF(H12<=Data!$H$3,\"\",ColTime(Data!$H$3,Data!$H$4,G12,H12)*24)","v":0},null,null,"","",null,null,null,null," "]
["","søn","2017-01-23",null,{"$f":"IFERROR(VLOOKUP(D13,Data!$J$3:$L$4,2,0),\"\")","v":""},{"$f":"IFERROR(VLOOKUP(D13,Data!$J$3:$L$4,3,0),\"\")","v":""},"",""," ",null,"",null,{"$f":"IF(H13<=Data!$H$3,\"\",ColTime(Data!$H$3,Data!$H$4,G13,H13)*24)","v":0},null,null,"","",null,null,null,null," "]
[4,"man","2017-01-24",1,{"$f":"IFERROR(VLOOKUP(D14,Data!$J$3:$L$4,2,0),\"\")","v":"07:45:00"},{"$f":"IFERROR(VLOOKUP(D14,Data!$J$3:$L$4,3,0),\"\")","v":"16:00:00"},"07:45:00","16:00:00",8.2499999999999982,null,"",null,{"$f":"IF(H14<=Data!$H$3,\"\",ColTime(Data!$H$3,Data!$H$4,G14,H14)*24)","v":""},null,null,"","",null,null,null,null,8.2499999999999982]
["","Tirs","2017-01-25",null,{"$f":"IFERROR(VLOOKUP(D15,Data!$J$3:$L$4,2,0),\"\")","v":""},{"$f":"IFERROR(VLOOKUP(D15,Data!$J$3:$L$4,3,0),\"\")","v":""},"",""," ",null,"",null,{"$f":"IF(H15<=Data!$H$3,\"\",ColTime(Data!$H$3,Data!$H$4,G15,H15)*24)","v":0},null,null,"","",null,null,null,null," "]
["","Ons","2017-01-26",1,{"$f":"IFERROR(VLOOKUP(D16,Data!$J$3:$L$4,2,0),\"\")","v":"07:45:00"},{"$f":"IFERROR(VLOOKUP(D16,Data!$J$3:$L$4,3,0),\"\")","v":"16:00:00"},"07:45:00","16:00:00",8.2499999999999982,null,"",null,{"$f":"IF(H16<=Data!$H$3,\"\",ColTime(Data!$H$3,Data!$H$4,G16,H16)*24)","v":""},null,null,"","",null,null,null,null,8.2499999999999982]
["","Tors","2017-01-27",1,{"$f":"IFERROR(VLOOKUP(D17,Data!$J$3:$L$4,2,0),\"\")","v":"07:45:00"},{"$f":"IFERROR(VLOOKUP(D17,Data!$J$3:$L$4,3,0),\"\")","v":"16:00:00"},"07:45:00","16:00:00",8.2499999999999982,null,"",null,{"$f":"IF(H17<=Data!$H$3,\"\",ColTime(Data!$H$3,Data!$H$4,G17,H17)*24)","v":""},null,null,"","",null,null,null,null,8.2499999999999982]
["","FRE","2017-01-28",1,{"$f":"IFERROR(VLOOKUP(D18,Data!$J$3:$L$4,2,0),\"\")","v":"07:45:00"},{"$f":"IFERROR(VLOOKUP(D18,Data!$J$3:$L$4,3,0),\"\")","v":"16:00:00"},"07:45:00","16:00:00",8.2499999999999982,null,"",null,{"$f":"IF(H18<=Data!$H$3,\"\",ColTime(Data!$H$3,Data!$H$4,G18,H18)*24)","v":""},null,null,"","",null,null,null,null,8.2499999999999982]
["","Lør","2017-01-29",null,{"$f":"IFERROR(VLOOKUP(D19,Data!$J$3:$L$4,2,0),\"\")","v":""},{"$f":"IFERROR(VLOOKUP(D19,Data!$J$3:$L$4,3,0),\"\")","v":""},"",""," ",null,"",null,{"$f":"IF(H19<=Data!$H$3,\"\",ColTime(Data!$H$3,Data!$H$4,G19,H19)*24)","v":0},null,null,"","",null,null,null,null," "]
["","søn","2017-01-30",null,{"$f":"IFERROR(VLOOKUP(D20,Data!$J$3:$L$4,2,0),\"\")","v":""},{"$f":"IFERROR(VLOOKUP(D20,Data!$J$3:$L$4,3,0),\"\")","v":""},"",""," ",null,"",null,{"$f":"IF(H20<=Data!$H$3,\"\",ColTime(Data!$H$3,Data!$H$4,G20,H20)*24)","v":0},null,null,"","",null,null,null,null," "]
[5,"man","2017-01-31",1,{"$f":"IFERROR(VLOOKUP(D21,Data!$J$3:$L$4,2,0),\"\")","v":"07:45:00"},{"$f":"IFERROR(VLOOKUP(D21,Data!$J$3:$L$4,3,0),\"\")","v":"16:00:00"},"07:45:00","16:00:00",8.2499999999999982,null,"",null,{"$f":"IF(H21<=Data!$H$3,\"\",ColTime(Data!$H$3,Data!$H$4,G21,H21)*24)","v":""},null,null,"","",null,null,null,null,8.2499999999999982]
["","Tirs","2017-02-01",1,{"$f":"IFERROR(VLOOKUP(D22,Data!$J$3:$L$4,2,0),\"\")","v":"07:45:00"},{"$f":"IFERROR(VLOOKUP(D22,Data!$J$3:$L$4,3,0),\"\")","v":"16:00:00"},"07:45:00","16:00:00",8.2499999999999982,null,"",null,{"$f":"IF(H22<=Data!$H$3,\"\",ColTime(Data!$H$3,Data!$H$4,G22,H22)*24)","v":""},null,null,"","",null,null,null,null,8.2499999999999982]
["","Ons","2017-02-02",2,{"$f":"IFERROR(VLOOKUP(D23,Data!$J$3:$L$4,2,0),\"\")","v":"07:45:00"},{"$f":"IFERROR(VLOOKUP(D23,Data!$J$3:$L$4,3,0),\"\")","v":"18:00:00"},"07:45:00","18:00:00",10.25,null,"",null,{"$f":"IF(H23<=Data!$H$3,\"\",ColTime(Data!$H$3,Data!$H$4,G23,H23)*24)","v":0.99999999999999911},null,null,"","",null,null,null,null,10.25]
["","Tors","2017-02-03",null,{"$f":"IFERROR(VLOOKUP(D24,Data!$J$3:$L$4,2,0),\"\")","v":""},{"$f":"IFERROR(VLOOKUP(D24,Data!$J$3:$L$4,3,0),\"\")","v":""},"",""," ",null,"",null,{"$f":"IF(H24<=Data!$H$3,\"\",ColTime(Data!$H$3,Data!$H$4,G24,H24)*24)","v":0},null,null,"","",null,null,null,null," "]
["","FRE","2017-02-04",1,{"$f":"IFERROR(VLOOKUP(D25,Data!$J$3:$L$4,2,0),\"\")","v":"07:45:00"},{"$f":"IFERROR(VLOOKUP(D25,Data!$J$3:$L$4,3,0),\"\")","v":"16:00:00"},"07:45:00","16:00:00",8.2499999999999982,null,"",null,{"$f":"IF(H25<=Data!$H$3,\"\",ColTime(Data!$H$3,Data!$H$4,G25,H25)*24)","v":""},null,null,"","",null,null,null,null,8.2499999999999982]
["","Lør","2017-02-05",null,{"$f":"IFERROR(VLOOKUP(D26,Data!$J$3:$L$4,2,0),\"\")","v":""},{"$f":"IFERROR(VLOOKUP(D26,Data!$J$3:$L$4,3,0),\"\")","v":""},"",""," ",null,"",null,{"$f":"IF(H26<=Data!$H$3,\"\",ColTime(Data!$H$3,Data!$H$4,G26,H26)*24)","v":0},null,null,"","",null,null,null,null," "]
["","søn","2017-02-06",null,{"$f":"IFERROR(VLOOKUP(D27,Data!$J$3:$L$4,2,0),\"\")","v":""},{"$f":"IFERROR(VLOOKUP(D27,Data!$J$3:$L$4,3,0),\"\")","v":""},"",""," ",null,"",null,{"$f":"IF(H27<=Data!$H$3,\"\",ColTime(Data!$H$3,Data!$H$4,G27,H27)*24)","v":0},null,null,"","",null,null,null,null," "]
[6,"man","2017-02-07",1,{"$f":"IFERROR(VLOOKUP(D28,Data!$J$3:$L$4,2,0),\"\")","v":"07:45:00"},{"$f":"IFERROR(VLOOKUP(D28,Data!$J$3:$L$4,3,0),\"\")","v":"16:00:00"},"07:45:00","16:00:00",8.2499999999999982,null,"",null,{"$f":"IF(H28<=Data!$H$3,\"\",ColTime(Data!$H$3,Data!$H$4,G28,H28)*24)","v":""},null,null,"","",null,null,null,null,8.2499999999999982]
["","Tirs","2017-02-08",1,{"$f":"IFERROR(VLOOKUP(D29,Data!$J$3:$L$4,2,0),\"\")","v":"07:45:00"},{"$f":"IFERROR(VLOOKUP(D29,Data!$J$3:$L$4,3,0),\"\")","v":"16:00:00"},"07:45:00","16:00:00",8.2499999999999982,null,"",null,{"$f":"IF(H29<=Data!$H$3,\"\",ColTime(Data!$H$3,Data!$H$4,G29,H29)*24)","v":""},null,null,"","",null,null,null,null,8.2499999999999982]
["","Ons","2017-02-09",2,{"$f":"IFERROR(VLOOKUP(D30,Data!$J$3:$L$4,2,0),\"\")","v":"07:45:00"},{"$f":"IFERROR(VLOOKUP(D30,Data!$J$3:$L$4,3,0),\"\")","v":"18:00:00"},"07:45:00","18:00:00",10.25,null,"",null,{"$f":"IF(H30<=Data!$H$3,\"\",ColTime(Data!$H$3,Data!$H$4,G30,H30)*24)","v":0.99999999999999911},null,null,"","",null,null,null,null,10.25]
["","Tors","2017-02-10",1,{"$f":"IFERROR(VLOOKUP(D31,Data!$J$3:$L$4,2,0),\"\")","v":"07:45:00"},{"$f":"IFERROR(VLOOKUP(D31,Data!$J$3:$L$4,3,0),\"\")","v":"16:00:00"},"07:45:00","16:00:00",8.2499999999999982,null,"",null,{"$f":"IF(H31<=Data!$H$3,\"\",ColTime(Data!$H$3,Data!$H$4,G31,H31)*24)","v":""},null,null,"","",null,null,null,null,8.2499999999999982]
["","FRE","2017-02-11",null,{"$f":"IFERROR(VLOOKUP(D32,Data!$J$3:$L$4,2,0),\"\")","v":""},{"$f":"IFERROR(VLOOKUP(D32,Data!$J$3:$L$4,3,0),\"\")","v":""},"",""," ",null,"",null,{"$f":"IF(H32<=Data!$H$3,\"\",ColTime(Data!$H$3,Data!$H$4,G32,H32)*24)","v":0},null,null,"","",null,null,null,null," "]
[{"$f":"IFERROR(IF(WEEKDAY(C33,11)=1,_xlfn.ISOWEEKNUM(C33),\"\"),\"\")","v":""},{"$f":"IFERROR(CHOOSE(WEEKDAY(C33,11),\"man\", \"Tirs\",\"Ons\",\"Tors\",\"FRE\",\"Lør\",\"søn\"),\"\")","v":"Lør"},{"$f":"IF(DAY(C32+1)>15,\"\",C32+1)","v":"2017-02-12"},null,{"$f":"IFERROR(VLOOKUP(D33,Data!$J$3:$L$4,2,0),\"\")","v":""},{"$f":"IFERROR(VLOOKUP(D33,Data!$J$3:$L$4,3,0),\"\")","v":""},"",""," ",null,"",null,{"$f":"IF(H33<=Data!$H$3,\"\",ColTime(Data!$H$3,Data!$H$4,G33,H33)*24)","v":0},null,null,"","",null,null,null,null," "]
[{"$f":"IFERROR(IF(WEEKDAY(C34,11)=1,_xlfn.ISOWEEKNUM(C34),\"\"),\"\")","v":""},{"$f":"IFERROR(CHOOSE(WEEKDAY(C34,11),\"man\", \"Tirs\",\"Ons\",\"Tors\",\"FRE\",\"Lør\",\"søn\"),\"\")","v":"søn"},{"$f":"IFERROR(C33+1,\"\")","v":"2017-02-13"},null,{"$f":"IFERROR(VLOOKUP(D34,Data!$J$3:$L$4,2,0),\"\")","v":""},{"$f":"IFERROR(VLOOKUP(D34,Data!$J$3:$L$4,3,0),\"\")","v":""},"",""," ",null,"",null,{"$f":"IF(H34<=Data!$H$3,\"\",ColTime(Data!$H$3,Data!$H$4,G34,H34)*24)","v":0},null,null,"","",null,null,null,null," "]
[7,"man",{"$f":"IFERROR(IF(DAY(C34+1)>15,\"\",C34+1),\"\")","v":"2017-02-14"},null,{"$f":"IFERROR(VLOOKUP(D35,Data!$J$3:$L$4,2,0),\"\")","v":""},{"$f":"IFERROR(VLOOKUP(D35,Data!$J$3:$L$4,3,0),\"\")","v":""},"",""," ",null,"",null,{"$f":"IF(H35<=Data!$H$3,\"\",ColTime(Data!$H$3,Data!$H$4,G35,H35)*24)","v":0},null,null,"","",null,null,null,null," "]
[null,null,null,null,"SUM AF\nTim./till.:",null,null,null,{"$f":"SUM(I5:I35)","v":138},null,{"$f":"SUM(K5:K35)","v":0},null,{"$f":"SUM(M5:M35)","v":2.9999999999999973},null,null,{"$f":"SUM(P5:P35)","v":0},{"$f":"SUM(Q5:Q35)","v":0}]
[]
[null,null,"+/- Norm time overført fra \nsidste periode:",null,null,null,null,null,null,null,"+/- Norm time i\nperiode:",null,null,null,null,"+/- Norm time til\noverførsel næste periode:",null,null,{"$f":"I36-151.66","v":-13.659999999999997}]
[null,null,"+/- Afsp time overført fra \nsidste periode:",null,null,null,null,null,null,null,"Afsp. time i\nperiode:",null,null,null,null,"+/- Afsp. Time i alt til overførsel:\n+/- afsp. tim.+ekstra tim.+OA tim."]
[null,null,"Kursus time i periode:",null,null,null,null,null,null,null,"Ekstra tim. I\nperiode:",null,null,null,null,"Timer til udbetaling:\nA/N till. + evt. øverige timer",null,null,{"$f":"M36","v":2.9999999999999973}]
[null,null,"Afholdt Ferie (I timer) i\nperiode:",null,null,null,null,null,null,null,"Optj. OA tim. +50%:\nTime + 50%",null,null,{"$f":"P36*1.5","v":0},null,"Saldo Ferie timer til\noverførsel:"]
[null,null,"Afholdt FerieFri time i\nperiode:",null,null,null,null,null,null,null,"Optj. OA tim. +100%:\nTime + 100%",null,null,{"$f":"Q36*2","v":0},null,"Saldo FerieFri time til\noverførsel:"]
[null,null,"Optjent NY Ferie (dage)",null,null,null,null,null,2.08,null,"Afholdt NY ferie(dage)",null,null,null,null,"Saldo NY ferie (dage)"]
[null,null,"DATO: ______________________",null,null,null,null,null,null,null,"UNDERSKRIFT: _______________________________ ml 01.09.20"]

{"sheet":"Data","index":1,"n_rows":52,"n_cols":12,"rows_kept":52,"cut":false,"hidden":false,"merged":[[1,1,1,2],[1,3,1,4],[1,9,1,11]]}
[]
[null,"Rulle Liste",null,"Rulle Liste",null,"Timer",null,"Coltime",null,"Vagttype"]
[null,null,null,"07:45:00","07:45:00",{"$f":"SUM(Nov!I5:I35)","v":138},null,"17:00:00",null,1,"07:45:00","16:00:00"]
[null,"07:45:00","16:00:00","08:00:00","08:00:00",null,null,1,null,2,"07:45:00","18:00:00"]
[null,null,"18:00:00","08:15:00","08:15:00","Vagter"]
[null,null,null,"08:30:00","08:30:00",{"$f":"COUNT(Nov!I5:I35)","v":16}]
[null,null,null,"08:45:00","08:45:00"]
[null,null,null,"09:00:00","09:00:00","Vagter (S)"]
[null,null,null,"09:15:00","09:15:00",{"$f":"COUNTIF(Nov!I5:I35, 8.25)","v":13}]
[null,null,null,"09:30:00","09:30:00"]
[null,null,null,"09:45:00","09:45:00","Vagter (L)"]
[null,null,null,"10:00:00","10:00:00",{"$f":"COUNTIF(Nov!I5:I35, 10.25)","v":3}]
[null,null,null,"10:15:00","10:15:00"]
[null,null,null,"10:30:00","10:30:00"]
[null,null,null,"10:45:00","10:45:00"]
[null,null,null,"11:00:00","11:00:00"]
[null,null,null,"11:15:00","11:15:00"]
[null,null,null,"11:30:00","11:30:00"]
[null,null,null,"11:45:00","11:45:00"]
[null,null,null,"12:00:00","12:00:00"]
[null,null,null,"12:15:00","12:15:00"]
[null,null,null,"12:30:00","12:30:00"]
[null,null,null,"12:45:00","12:45:00"]
[null,null,null,"13:00:00","13:00:00"]
[null,null,null,"13:15:00","13:15:00"]
[null,null,null,"13:30:00","13:30:00"]
[null,null,null,"13:45:00","13:45:00"]
[null,null,null,"14:00:00","14:00:00"]
[null,null,null,"14:15:00","14:15:00"]
[null,null,null,"14:30:00","14:30:00"]
[null,null,null,"14:45:00","14:45:00"]
[null,null,null,"15:00:00","15:00:00"]
[null,null,null,"15:15:00","15:15:00"]
[null,null,null,"15:30:00","15:30:00"]
[null,null,null,"15:45:00","15:45:00"]
[null,null,null,"16:00:00","16:00:00"]
[null,null,null,"16:15:00","16:15:00"]
[null,null,null,null,"16:30:00"]
[null,null,null,null,"16:45:00"]
[null,null,null,null,"17:00:00"]
[null,null,null,null,"17:15:00"]
[null,null,null,null,"17:30:00"]
[null,null,null,null,"17:45:00"]
[null,null,null,null,"18:00:00"]
[null,null,null,null,"18:15:00"]
[null,null,null,null,"18:30:00"]
[null,null,null,null,"18:45:00"]
[null,null,null,null,"19:00:00"]
[null,null,null,null,"19:15:00"]
[null,null,null,null,"19:30:00"]
[null,null,null,null,"19:45:00"]
[null,null,null,null,"20:00:00"]