{"text_format":"1","workbook":"xlsx","n_sheets":2,"sheets":["Nov","Data"],"not_rendered":{"charts":0,"images":0,"macros":1,"external_links":0,"defined_names":1,"comments":0,"pivot_tables":0},"unopened":[],"bounds":{"document_bytes":16777216,"sheet_cells":100000,"rows_first":2000,"rows_last":500,"rows_between":2000,"halvings":0,"cell_chars":16384,"cell_head_chars":4096},"cells_cut":0,"cells_raw":0,"read":"whole","date_system":"1900"}

{"sheet":"Nov","index":0,"n_rows":44,"n_cols":21,"rows_kept":44,"cut":false,"hidden":false,"merged":[[37,17,37,18],[41,14,41,16],[40,9,40,11],[40,14,40,16],[42,9,42,11],[42,14,42,16],[40,12,40,13],[41,12,41,13],[38,14,38,16],[39,14,39,16],[42,2,42,5],[41,2,41,5],[3,4,3,5],[1,9,1,10],[41,9,41,11],[35,4,35,5],[40,2,40,5],[42,6,42,8],[39,9,39,11],[1,11,1,12],[1,15,1,16],[37,14,37,16],[37,9,37,11],[37,2,37,5],[39,2,39,5],[38,2,38,5],[38,9,38,11]]}
[null,null,"Månedsrapport",null,null,null,null,null,null,null,null,null,null,null,null,null,null,null,null,null,"Indtast mdr 1-12"]
[null,"Navn: ",null,null,null,null,null,null,null,"Måned: ",null,{"$f":"CHOOSE(U2,\"Jan-Feb\",\"Feb-Mar\",\"Mar-Apr\",\"Apr-Maj\",\"Maj-Jun\",\"Jun-Jul\",\"Jul-Aug\",\"Aug-Sep\",\"Sep_Okt\",\"Okt-Nov\",\"Nov-Dec\",\"Dec-Jan\")","v":"Jan-Feb"},null,null,"År :",2021,null,null,null,null,1]
[]
["Uge","Dag","Dato","Vagttype","Faktisk\nMøde\nTid.\nFra-Til",null,"Udf.\nTim.\nDag","Norm","Udf.\nTim.\nA/N","Afsp.\nTim.","Ku.\nTim.","Till.\nA/N","Till\nWeek-\nEnd","Extra\nTim.","Timer\n50%\nTillæg","Timer\n100%\nTillæg","Syg /\nBarn\nS/\nBarsel","Ferie\nTimer","Ferie\nFri\nTimer"]
[{"$f":"_xlfn.ISOWEEKNUM(C5)","v":2},{"$f":"CHOOSE(WEEKDAY(C5,11),\"man\", \"Tirs\",\"Ons\",\"Tors\",\"FRE\",\"Lør\",\"søn\")","v":"Lør"},{"$f":"DATE(P2,U2,16)","v":"2017-01-15"},null,null,null,{"$f":"IF(OR(E5=\"\",F5=\"\"),\"\",(F5-E5)*24)","v":""},{"$f":"IF(D5<>\"\",VLOOKUP(D5,Data!$M$3:$N$4,2,0),\"\")","v":""},null,{"$f":"IF(OR(E5=\"\",F5=\"\"),\"\",IF(((U5-G5)*-1)<=0.25,\"\", IF((U5-G5)*-1<0,\"\",(U5-G5)*-1)))","v":""},null,{"$f":"IF(OR(E5=\"\",F5=\"\"),\"\",IF(F5<=Data!$H$3,\"\",ColTime(Data!$H$3,Data!$H$4,E5,F5)*24))","v":""},null,null,{"$f":"IFERROR(IF(G5>=H5+3,3,G5-H5),\"\")","v":""},{"$f":"IFERROR(IF(G5>H5+3,G5-(H5+3),\"\"),\"\")","v":""},null,null,null,null,{"$f":"IF(F5=E5,\" \",IF(F5<E5,(((0-E5)*24)+((F5)*24))+24,(F5-E5)*24))","v":" "}]
[{"$f":"IF(WEEKDAY(C6,11)=1,_xlfn.ISOWEEKNUM(C6),\"\")","v":""},{"$f":"CHOOSE(WEEKDAY(C6,11),\"man\", \"Tirs\",\"Ons\",\"Tors\",\"FRE\",\"Lør\",\"søn\")","v":"søn"},{"$f":"C5+1","v":"2017-01-16"},null,null,null,"",{"$f":"IF(D6<>\"\",VLOOKUP(D6,Data!$M$3:$N$4,2,0),\"\")","v":""},null,{"$f":"IF(OR(E6=\"\",F6=\"\"),\"\",IF(((U6-G6)*-1)<=0.25,\"\", IF((U6-G6)*-1<0,\"\",(U6-G6)*-1)))","v":""},null,{"$f":"IF(OR(E6=\"\",F6=\"\"),\"\",IF(F6<=Data!$H$3,\"\",ColTime(Data!$H$3,Data!$H$4,E6,F6)*24))","v":""},null,null,"","",null,null,null,null,{"$f":"IF(F6=E6,\" \",IF(F6<E6,(((0-E6)*24)+((F6)*24))+24,(F6-E6)*24))","v":" "}]
[{"$f":"IF(WEEKDAY(C7,11)=1,_xlfn.ISOWEEKNUM(C7),\"\")","v":3},{"$f":"CHOOSE(WEEKDAY(C7,11),\"man\", \"Tirs\",\"Ons\",\"Tors\",\"FRE\",\"Lør\",\"søn\")","v":"man"},{"$f":"C6+1","v":"2017-01-17"},1,"07:45:00","20:00:00",{"$f":"IF(OR(E7=\"\",F7=\"\"),\"\",(F7-E7)*24)","v":12.250000000000002},{"$f":"IF(D7<>\"\",VLOOKUP(D7,Data!$M$3:$N$4,2,0),\"\")","v":8.25},null,"",null,{"$f":"IF(OR(E7=\"\",F7=\"\"),\"\",IF(F7<=Data!$H$3,\"\",ColTime(Data!$H$3,Data!$H$4,E7,F7)*24))","v":3},null,null,3,1.0000000000000018,null,null,null,null,12.250000000000002]
["",{"$f":"CHOOSE(WEEKDAY(C8,11),\"man\", \"Tirs\",\"Ons\",\"Tors\",\"FRE\",\"Lør\",\"søn\")","v":"Tirs"},"2017-01-18",null,null,null,{"$f":"IF(OR(E8=\"\",F8=\"\"),\"\",(F8-E8)*24)","v":""},{"$f":"IF(D8<>\"\",VLOOKUP(D8,Data!$M$3:$N$4,2,0),\"\")","v":""},null,"",null,{"$f":"IF(OR(E8=\"\",F8=\"\"),\"\",IF(F8<=Data!$H$3,\"\",ColTime(Data!$H$3,Data!$H$4,E8,F8)*24))","v":""},null,null,{"$f":"IFERROR(IF(G8>=H8+3,3,G8-H8),\"\")","v":""},{"$f":"IFERROR(IF(G8>H8+3,G8-(H8+3),\"\"),\"\")","v":""},null,null,null,null," "]
["","Ons","2017-01-19",2,"07:45:00","18:00:00",{"$f":"IF(OR(E9=\"\",F9=\"\"),\"\",(F9-E9)*24)","v":10.25},{"$f":"IF(D9<>\"\",VLOOKUP(D9,Data!$M$3:$N$4,2,0),\"\")","v":10.25},null,"",null,{"$f":"IF(OR(E9=\"\",F9=\"\"),\"\",IF(F9<=Data!$H$3,\"\",ColTime(Data!$H$3,Data!$H$4,E9,F9)*24))","v":0.99999999999999911},null,null,{"$f":"IFERROR(IF(G9>=H9+3,3,G9-H9),\"\")","v":0},{"$f":"IFERROR(IF(G9>H9+3,G9-(H9+3),\"\"),\"\")","v":""},null,null,null,null,10.25]
["","Tors","2017-01-20",1,"07:45:00","16:00:00",8.2499999999999982,{"$f":"IF(D10<>\"\",VLOOKUP(D10,Data!$M$3:$N$4,2,0),\"\")","v":8.25},null,"",null,{"$f":"IF(OR(E10=\"\",F10=\"\"),\"\",IF(F10<=Data!$H$3,\"\",ColTime(Data!$H$3,Data!$H$4,E10,F10)*24))","v":""},null,null,-1.7763568394002505E-15,"",null,null,null,null,{"$f":"IF(F10=E10,\" \",IF(F10<E10,(((0-E10)*24)+((F10)*24))+24,(F10-E10)*24))","v":8.2499999999999982}]
["","FRE","2017-01-21",1,"07:45:00","16:00:00",8.2499999999999911,{"$f":"IF(D11<>\"\",VLOOKUP(D11,Data!$M$3:$N$4,2,0),\"\")","v":8.25},null,"",null,{"$f":"IF(OR(E11=\"\",F11=\"\"),\"\",IF(F11<=Data!$H$3,\"\",ColTime(Data!$H$3,Data!$H$4,E11,F11)*24))","v":""},null,null,-8.8817841970012523E-15,"",null,null,null,null,8.2499999999999911]
["","Lør","2017-01-22",null,null,null,"",{"$f":"IF(D12<>\"\",VLOOKUP(D12,Data!$M$3:$N$4,2,0),\"\")","v":""},null,"",null,{"$f":"IF(OR(E12=\"\",F12=\"\"),\"\",IF(F12<=Data!$H$3,\"\",ColTime(Data!$H$3,Data!$H$4,E12,F12)*24))","v":""},null,null,"","",null,null,null,null," "]
["","søn","2017-01-23",null,null,null,"",{"$f":"IF(D13<>\"\",VLOOKUP(D13,Data!$M$3:$N$4,2,0),\"\")","v":""},null,"",null,{"$f":"IF(OR(E13=\"\",F13=\"\"),\"\",IF(F13<=Data!$H$3,\"\",ColTime(Data!$H$3,Data!$H$4,E13,F13)*24))","v":""},null,null,"","",null,null,null,null," "]
[4,"man","2017-01-24",1,"07:45:00","16:00:00",8.2499999999999982,{"$f":"IF(D14<>\"\",VLOOKUP(D14,Data!$M$3:$N$4,2,0),\"\")","v":8.25},null,"",null,{"$f":"IF(OR(E14=\"\",F14=\"\"),\"\",IF(F14<=Data!$H$3,\"\",ColTime(Data!$H$3,Data!$H$4,E14,F14)*24))","v":""},null,null,-1.7763568394002505E-15,"",null,null,null,null,8.2499999999999982]
["","Tirs","2017-01-25",null,null,null,"",{"$f":"IF(D15<>\"\",VLOOKUP(D15,Data!$M$3:$N$4,2,0),\"\")","v":""},null,"",null,{"$f":"IF(OR(E15=\"\",F15=\"\"),\"\",IF(F15<=Data!$H$3,\"\",ColTime(Data!$H$3,Data!$H$4,E15,F15)*24))","v":""},null,null,"","",null,null,null,null," "]
["","Ons","2017-01-26",1,"07:45:00","16:00:00",8.2499999999999982,{"$f":"IF(D16<>\"\",VLOOKUP(D16,Data!$M$3:$N$4,2,0),\"\")","v":8.25},null,"",null,{"$f":"IF(OR(E16=\"\",F16=\"\"),\"\",IF(F16<=Data!$H$3,\"\",ColTime(Data!$H$3,Data!$H$4,E16,F16)*24))","v":""},null,null,-1.7763568394002505E-15,"",null,null,null,null,8.2499999999999982]
["","Tors","2017-01-27",1,"07:45:00","16:00:00",8.2499999999999982,{"$f":"IF(D17<>\"\",VLOOKUP(D17,Data!$M$3:$N$4,2,0),\"\")","v":8.25},null,"",null,{"$f":"IF(OR(E17=\"\",F17=\"\"),\"\",IF(F17<=Data!$H$3,\"\",ColTime(Data!$H$3,Data!$H$4,E17,F17)*24))","v":""},null,null,-1.7763568394002505E-15,"",null,null,null,null,8.2499999999999982]
["","FRE","2017-01-28",1,"07:45:00","16:00:00",8.2499999999999982,{"$f":"IF(D18<>\"\",VLOOKUP(D18,Data!$M$3:$N$4,2,0),\"\")","v":8.25},null,"",null,{"$f":"IF(OR(E18=\"\",F18=\"\"),\"\",IF(F18<=Data!$H$3,\"\",ColTime(Data!$H$3,Data!$H$4,E18,F18)*24))","v":""},null,null,-1.7763568394002505E-15,"",null,null,null,null,8.2499999999999982]
["","Lør","2017-01-29",null,null,null,"",{"$f":"IF(D19<>\"\",VLOOKUP(D19,Data!$M$3:$N$4,2,0),\"\")","v":""},null,"",null,{"$f":"IF(OR(E19=\"\",F19=\"\"),\"\",IF(F19<=Data!$H$3,\"\",ColTime(Data!$H$3,Data!$H$4,E19,F19)*24))","v":""},null,null,"","",null,null,null,null," "]
["","søn","2017-01-30",null,null,null,"",{"$f":"IF(D20<>\"\",VLOOKUP(D20,Data!$M$3:$N$4,2,0),\"\")","v":""},null,"",null,{"$f":"IF(OR(E20=\"\",F20=\"\"),\"\",IF(F20<=Data!$H$3,\"\",ColTime(Data!$H$3,Data!$H$4,E20,F20)*24))","v":""},null,null,"","",null,null,null,null," "]
[5,"man","2017-01-31",1,"07:45:00","16:00:00",8.2499999999999982,{"$f":"IF(D21<>\"\",VLOOKUP(D21,Data!$M$3:$N$4,2,0),\"\")","v":8.25},null,"",null,{"$f":"IF(OR(E21=\"\",F21=\"\"),\"\",IF(F21<=Data!$H$3,\"\",ColTime(Data!$H$3,Data!$H$4,E21,F21)*24))","v":""},null,null,-1.7763568394002505E-15,"",null,null,null,null,8.2499999999999982]
["","Tirs","2017-02-01",1,"07:45:00","16:00:00",8.2499999999999982,{"$f":"IF(D22<>\"\",VLOOKUP(D22,Data!$M$3:$N$4,2,0),\"\")","v":8.25},null,"",null,{"$f":"IF(OR(E22=\"\",F22=\"\"),\"\",IF(F22<=Data!$H$3,\"\",ColTime(Data!$H$3,Data!$H$4,E22,F22)*24))","v":""},null,null,-1.7763568394002505E-15,"",null,null,null,null,8.2499999999999982]
["","Ons","2017-02-02",2,"07:45:00","18:00:00",10.25,{"$f":"IF(D23<>\"\",VLOOKUP(D23,Data!$M$3:$N$4,2,0),\"\")","v":10.25},null,"",null,{"$f":"IF(OR(E23=\"\",F23=\"\"),\"\",IF(F23<=Data!$H$3,\"\",ColTime(Data!$H$3,Data!$H$4,E23,F23)*24))","v":0.99999999999999911},null,null,0,"",null,null,null,null,10.25]
["","Tors","2017-02-03",null,null,null,"",{"$f":"IF(D24<>\"\",VLOOKUP(D24,Data!$M$3:$N$4,2,0),\"\")","v":""},null,"",null,{"$f":"IF(OR(E24=\"\",F24=\"\"),\"\",IF(F24<=Data!$H$3,\"\",ColTime(Data!$H$3,Data!$H$4,E24,F24)*24))","v":""},null,null,"","",null,null,null,null," "]
["","FRE","2017-02-04",1,"07:45:00","16:00:00",8.2499999999999982,{"$f":"IF(D25<>\"\",VLOOKUP(D25,Data!$M$3:$N$4,2,0),\"\")","v":8.25},null,"",null,{"$f":"IF(OR(E25=\"\",F25=\"\"),\"\",IF(F25<=Data!$H$3,\"\",ColTime(Data!$H$3,Data!$H$4,E25,F25)*24))","v":""},null,null,-1.7763568394002505E-15,"",null,null,null,null,8.2499999999999982]
["","Lør","2017-02-05",null,null,null,"",{"$f":"IF(D26<>\"\",VLOOKUP(D26,Data!$M$3:$N$4,2,0),\"\")","v":""},null,"",null,{"$f":"IF(OR(E26=\"\",F26=\"\"),\"\",IF(F26<=Data!$H$3,\"\",ColTime(Data!$H$3,Data!$H$4,E26,F26)*24))","v":""},null,null,"","",null,null,null,null," "]
["","søn","2017-02-06",null,null,null,"",{"$f":"IF(D27<>\"\",VLOOKUP(D27,Data!$M$3:$N$4,2,0),\"\")","v":""},null,"",null,{"$f":"IF(OR(E27=\"\",F27=\"\"),\"\",IF(F27<=Data!$H$3,\"\",ColTime(Data!$H$3,Data!$H$4,E27,F27)*24))","v":""},null,null,"","",null,null,null,null," "]
[6,"man","2017-02-07",1,"07:45:00","16:00:00",8.2499999999999982,{"$f":"IF(D28<>\"\",VLOOKUP(D28,Data!$M$3:$N$4,2,0),\"\")","v":8.25},null,"",null,{"$f":"IF(OR(E28=\"\",F28=\"\"),\"\",IF(F28<=Data!$H$3,\"\",ColTime(Data!$H$3,Data!$H$4,E28,F28)*24))","v":""},null,null,-1.7763568394002505E-15,"",null,null,null,null,8.2499999999999982]
["","Tirs","2017-02-08",1,"07:45:00","16:00:00",8.2499999999999982,{"$f":"IF(D29<>\"\",VLOOKUP(D29,Data!$M$3:$N$4,2,0),\"\")","v":8.25},null,"",null,{"$f":"IF(OR(E29=\"\",F29=\"\"),\"\",IF(F29<=Data!$H$3,\"\",ColTime(Data!$H$3,Data!$H$4,E29,F29)*24))","v":""},null,null,-1.7763568394002505E-15,"",null,null,null,null,8.2499999999999982]
["","Ons","2017-02-09",2,"07:45:00","18:00:00",10.249999999999991,{"$f":"IF(D30<>\"\",VLOOKUP(D30,Data!$M$3:$N$4,2,0),\"\")","v":10.25},null,"",null,{"$f":"IF(OR(E30=\"\",F30=\"\"),\"\",IF(F30<=Data!$H$3,\"\",ColTime(Data!$H$3,Data!$H$4,E30,F30)*24))","v":0.99999999999999911},null,null,-8.8817841970012523E-15,"",null,null,null,null,10.249999999999991]
["","Tors","2017-02-10",1,"07:45:00","16:00:00",8.2499999999999911,{"$f":"IF(D31<>\"\",VLOOKUP(D31,Data!$M$3:$N$4,2,0),\"\")","v":8.25},null,"",null,{"$f":"IF(OR(E31=\"\",F31=\"\"),\"\",IF(F31<=Data!$H$3,\"\",ColTime(Data!$H$3,Data!$H$4,E31,F31)*24))","v":""},null,null,-8.8817841970012523E-15,"",null,null,null,null,8.2499999999999911]
["","FRE","2017-02-11",null,null,null,"",{"$f":"IF(D32<>\"\",VLOOKUP(D32,Data!$M$3:$N$4,2,0),\"\")","v":""},null,"",null,{"$f":"IF(OR(E32=\"\",F32=\"\"),\"\",IF(F32<=Data!$H$3,\"\",ColTime(Data!$H$3,Data!$H$4,E32,F32)*24))","v":""},null,null,"","",null,null,null,null," "]
[{"$f":"IFERROR(IF(WEEKDAY(C33,11)=1,_xlfn.ISOWEEKNUM(C33),\"\"),\"\")","v":""},{"$f":"IFERROR(CHOOSE(WEEKDAY(C33,11),\"man\", \"Tirs\",\"Ons\",\"Tors\",\"FRE\",\"Lør\",\"søn\"),\"\")","v":"Lør"},{"$f":"IF(DAY(C32+1)>15,\"\",C32+1)","v":"2017-02-12"},null,null,null,"",{"$f":"IF(D33<>\"\",VLOOKUP(D33,Data!$M$3:$N$4,2,0),\"\")","v":""},null,"",null,{"$f":"IF(OR(E33=\"\",F33=\"\"),\"\",IF(F33<=Data!$H$3,\"\",ColTime(Data!$H$3,Data!$H$4,E33,F33)*24))","v":""},null,null,"","",null,null,null,null," "]
[{"$f":"IFERROR(IF(WEEKDAY(C34,11)=1,_xlfn.ISOWEEKNUM(C34),\"\"),\"\")","v":""},{"$f":"IFERROR(CHOOSE(WEEKDAY(C34,11),\"man\", \"Tirs\",\"Ons\",\"Tors\",\"FRE\",\"Lør\",\"søn\"),\"\")","v":"søn"},{"$f":"IFERROR(C33+1,\"\")","v":"2017-02-13"},null,null,null,"",{"$f":"IF(D34<>\"\",VLOOKUP(D34,Data!$M$3:$N$4,2,0),\"\")","v":""},null,"",null,{"$f":"IF(OR(E34=\"\",F34=\"\"),\"\",IF(F34<=Data!$H$3,\"\",ColTime(Data!$H$3,Data!$H$4,E34,F34)*24))","v":""},null,null,"","",null,null,null,null," "]
[7,"man",{"$f":"IFERROR(IF(DAY(C34+1)>15,\"\",C34+1),\"\")","v":"2017-02-14"},null,null,null,"",{"$f":"IF(D35<>\"\",VLOOKUP(D35,Data!$M$3:$N$4,2,0),\"\")","v":""},null,"",null,{"$f":"IF(OR(E35=\"\",F35=\"\"),\"\",IF(F35<=Data!$H$3,\"\",ColTime(Data!$H$3,Data!$H$4,E35,F35)*24))","v":""},null,null,"","",null,null,null,null," "]
[null,null,null,null,"SUM AF\nTim./till.:",null,{"$f":"SUM(G5:G35)","v":141.99999999999997},null,null,{"$f":"SUM(J5:J35)","v":0},null,{"$f":"SUM(L5:L35)","v":5.9999999999999973},null,null,{"$f":"SUM(O5:O35)","v":2.9999999999999556},{"$f":"SUM(P5:P35)","v":1.0000000000000018}]
[]
[null,null,"+/- Norm time overført fra \nsidste periode:",null,null,null,null,null,null,"+/- Norm time i\nperiode:",null,null,null,null,"+/- Norm time til\noverførsel næste periode:",null,null,{"$f":"G36-151.66","v":-9.660000000000025}]
[null,null,"+/- Afsp time overført fra \nsidste periode:",null,null,null,null,null,null,"Afsp. time i\nperiode:",null,null,null,null,"+/- Afsp. Time i alt til overførsel:\n+/- afsp. tim.+ekstra tim.+OA tim."]
[null,null,"Kursus time i periode:",null,null,null,null,null,null,"Ekstra tim. I\nperiode:",null,null,null,null,"Timer til udbetaling:\nA/N till. + evt. øverige timer",null,null,{"$f":"L36","v":5.9999999999999973}]
[null,null,"Afholdt Ferie (I timer) i\nperiode:",null,null,null,null,null,null,"Optj. OA tim. +50%:\nTime + 50%",null,null,{"$f":"O36*1.5","v":4.4999999999999334},null,"Saldo Ferie timer til\noverførsel:"]
[null,null,"Afholdt FerieFri time i\nperiode:",null,null,null,null,null,null,"Optj. OA tim. +100%:\nTime + 100%",null,null,{"$f":"P36*2","v":2.0000000000000036},null,"Saldo FerieFri time til\noverførsel:"]
[null,null,"Optjent NY Ferie (dage)",null,null,null,2.08,null,null,"Afholdt NY ferie(dage)",null,null,null,null,"Saldo NY ferie (dage)"]
[null,null,"DATO: ______________________",null,null,null,null,null,null,"UNDERSKRIFT: _______________________________ ml 01.09.20"]

{"sheet":"Data","index":1,"n_rows":52,"n_cols":14,"rows_kept":52,"cut":false,"hidden":false,"merged":[[1,1,1,2],[1,3,1,4],[1,9,1,11],[1,12,1,13]]}
[]
[null,"Rulle Liste",null,"Rulle Liste",null,"Timer",null,"Coltime",null,"Vagttype",null,null,"Norm"]
[null,null,null,"07:45:00","07:45:00",{"$f":"SUM(Nov!G5:G35)","v":141.99999999999997},null,"17:00:00",null,1,"07:45:00","16:00:00",1,8.25]
[null,"07:45:00","16:00:00","08:00:00","08:00:00",null,null,1,null,2,"07:45:00","18:00:00",2,10.25]
[null,null,"18:00:00","08:15:00","08:15:00","Vagter"]
[null,null,null,"08:30:00","08:30:00",{"$f":"COUNT(Nov!G5:G35)","v":16}]
[null,null,null,"08:45:00","08:45:00"]
[null,null,null,"09:00:00","09:00:00","Vagter (S)"]
[null,null,null,"09:15:00","09:15:00",{"$f":"COUNTIF(Nov!G5:G35, 8.25)","v":10}]
[null,null,null,"09:30:00","09:30:00"]
[null,null,null,"09:45:00","09:45:00","Vagter (L)"]
[null,null,null,"10:00:00","10:00:00",{"$f":"COUNTIF(Nov!G5:G35, 10.25)","v":3}]
[null,null,null,"10:15:00","10:15:00"]
[null,null,null,"10:30:00","10:30:00"]
[null,null,null,"10:45:00","10:45:00"]
[null,null,null,"11:00:00","11:00:00"]
[null,null,null,"11:15:00","11:15:00"]
[null,null,null,"11:30:00","11:30:00"]
[null,null,null,"11:45:00","11:45:00"]
[null,null,null,"12:00:00","12:00:00"]
[null,null,null,"12:15:00","12:15:00"]
[null,null,null,"12:30:00","12:30:00"]
[null,null,null,"12:45:00","12:45:00"]
[null,null,null,"13:00:00","13:00:00"]
[null,null,null,"13:15:00","13:15:00"]
[null,null,null,"13:30:00","13:30:00"]
[null,null,null,"13:45:00","13:45:00"]
[null,null,null,"14:00:00","14:00:00"]
[null,null,null,"14:15:00","14:15:00"]
[null,null,null,"14:30:00","14:30:00"]
[null,null,null,"14:45:00","14:45:00"]
[null,null,null,"15:00:00","15:00:00"]
[null,null,null,"15:15:00","15:15:00"]
[null,null,null,"15:30:00","15:30:00"]
[null,null,null,"15:45:00","15:45:00"]
[null,null,null,"16:00:00","16:00:00"]
[null,null,null,"16:15:00","16:15:00"]
[null,null,null,null,"16:30:00"]
[null,null,null,null,"16:45:00"]
[null,null,null,null,"17:00:00"]
[null,null,null,null,"17:15:00"]
[null,null,null,null,"17:30:00"]
[null,null,null,null,"17:45:00"]
[null,null,null,null,"18:00:00"]
[null,null,null,null,"18:15:00"]
[null,null,null,null,"18:30:00"]
[null,null,null,null,"18:45:00"]
[null,null,null,null,"19:00:00"]
[null,null,null,null,"19:15:00"]
[null,null,null,null,"19:30:00"]
[null,null,null,null,"19:45:00"]
[null,null,null,null,"20:00:00"]