{"text_format":"1","workbook":"xlsx","n_sheets":4,"sheets":["stempel tider","måndes regskab","T","Ark1"],"not_rendered":{"charts":0,"images":0,"macros":1,"external_links":0,"defined_names":0,"comments":0,"pivot_tables":0},"unopened":[],"bounds":{"document_bytes":16777216,"sheet_cells":100000,"rows_first":2000,"rows_last":500,"rows_between":2000,"halvings":0,"cell_chars":16384,"cell_head_chars":4096},"cells_cut":0,"cells_raw":0,"read":"whole","date_system":"1900"}

{"sheet":"stempel tider","index":0,"n_rows":398,"n_cols":20,"rows_kept":398,"cut":false,"hidden":false,"merged":[]}
["Dato\n","Helligdag","Planlagt\nind\n","Planlagt\nud\n","Planlagt\ntimer\n ","Planlagt\nTimer i\n 100 dele\n ","Bemærkning\n","Stempel\nind\n ","Stempel\nud\n ","Faktiske\ntimer\n ","Faktiske\ntimer i\n100 dele","\nUgens  planlagt/\nUgens reelle\n ","\nUgens  planlagt/\nUgens reelle\ni 100 dele","over/under\ntid i forhold til \nugens Planlagt","over/under\ntid i forhold til \ndagens Planlagt","samlet\nover / Under \ntimer",{"$f":"SUM(O4:O184)","v":15.033333333333349},"overført\nferie","Afviklet\nFerie","Rest ferie"]
[null,null,null,null,null,null,null,null,null,null,null,null,null,null,null,null,null,25,{"$f":"COUNTIF(G4:G400,\"=Ferie\")","v":5},{"$f":"R2-S2","v":20}]
[]
["2023-01-02",{"$f":"helligdagsnavn(A4,0,0)","v":""},"09:45:00","17:45:00",{"$f":"SUM(D4-C4)","v":"08:00:00"},{"$f":"SUM(E4*24)","v":8},null,"09:06:00","17:47:00",{"$f":"IF(G4=\"syg\",E4,I4-H4)","v":"08:41:00"},{"$f":"SUM(J4*24)","v":8.6833333333333336},{"$f":"SUM(E4:E10)","v":1.5},{"$f":"SUM(L4)*24","v":36},null,{"$f":"IF(G4=\"Afspadsering\",-F4,IF(K4=0,0,K4-F4))","v":0.68333333333333357}]
["2023-01-03",{"$f":"helligdagsnavn(A5,0,0)","v":""},"09:45:00","16:00:00","06:15:00",{"$f":"SUM(E5*24)","v":6.2499999999999991},null,"09:37:00","16:03:00",{"$f":"IF(G5=\"syg\",E5,I5-H5)","v":"06:26:00"},{"$f":"SUM(J5*24)","v":6.4333333333333345},{"$f":"SUM(J4:J10)","v":1.6423611111111114},{"$f":"SUM(J4:J10)*24","v":39.416666666666671},{"$f":"SUM(M5-M4)","v":3.4166666666666714},{"$f":"IF(G5=\"Afspadsering\",-F5,IF(K5=0,0,K5-F5))","v":0.18333333333333535}]
["2023-01-04",{"$f":"helligdagsnavn(A6,0,0)","v":""},"10:00:00","17:45:00","07:45:00",7.75,null,"09:02:00","17:39:00",{"$f":"IF(G6=\"syg\",E6,I6-H6)","v":"08:37:00"},8.6166666666666654,null,null,null,0.86666666666666536]
["1900-01-05",{"$f":"helligdagsnavn(A7,0,0)","v":""},"09:45:00","17:45:00","08:00:00",8,null,"09:06:00","17:34:00","08:28:00",8.466666666666665,null,null,null,0.46666666666666501]
["2023-01-06",{"$f":"helligdagsnavn(A8,0,0)","v":""},"10:00:00","16:00:00","06:00:00",5.9999999999999982,null,"09:27:00","16:40:00","07:13:00",7.2166666666666686,null,null,null,1.2166666666666703]
["2023-01-07",{"$f":"helligdagsnavn(A9,0,0)","v":""},null,null,"00:00:00",0,null,null,null,"00:00:00",0,null,null,null,0]
["2023-01-08",{"$f":"helligdagsnavn(A10,0,0)","v":""},null,null,"00:00:00",0,null,null,null,"00:00:00",0,null,null,null,0]
["2023-01-09",{"$f":"helligdagsnavn(A11,0,0)","v":""},"12:00:00","17:45:00","05:45:00",5.7500000000000009,"SYG",null,null,"05:45:00",5.7500000000000009,{"$f":"SUM(E11:E17)","v":1.625},{"$f":"SUM(L11)*24","v":39},null,0]
["2023-01-10",{"$f":"helligdagsnavn(A12,0,0)","v":""},"09:45:00","16:00:00","06:15:00",6.2499999999999991,"SYG",null,null,"06:15:00",6.2499999999999991,{"$f":"SUM(J11:J17)","v":1.6965277777777779},{"$f":"SUM(J11:J17)*24","v":40.716666666666669},{"$f":"SUM(M12-M11)","v":1.7166666666666686},0]
["2023-01-11",{"$f":"helligdagsnavn(A13,0,0)","v":""},"10:00:00","17:45:00","07:45:00",7.75,"SYG",null,null,"07:45:00",7.75,null,null,null,0]
["2023-01-12",{"$f":"helligdagsnavn(A14,0,0)","v":""},"09:45:00","17:45:00","08:00:00",8,null,"09:28:00","17:45:00","08:17:00",8.283333333333335,null,null,null,0.28333333333333499]
["2023-01-13",{"$f":"helligdagsnavn(A15,0,0)","v":""},"09:45:00","17:30:00","07:45:00",7.7499999999999991,null,"09:24:00","17:55:00","08:31:00",8.5166666666666675,null,null,null,0.76666666666666838]
["2023-01-14",{"$f":"helligdagsnavn(A16,0,0)","v":""},"09:45:00","13:15:00","03:30:00",3.5000000000000009,null,"09:05:00","13:15:00","04:10:00",4.1666666666666661,null,null,null,0.66666666666666519]
["2023-01-15",{"$f":"helligdagsnavn(A17,0,0)","v":""},null,null,"00:00:00",0,null,null,null,"00:00:00",0,null,null,null,0]
["2023-01-16",{"$f":"helligdagsnavn(A18,0,0)","v":""},"09:45:00","17:45:00",{"$f":"SUM(D18-C18)","v":"08:00:00"},8,null,"09:24:00","17:40:00","08:16:00",8.2666666666666675,{"$f":"SUM(E18:E24)","v":1.5},{"$f":"SUM(L18)*24","v":36},null,0.2666666666666675]
["2023-01-17",{"$f":"helligdagsnavn(A19,0,0)","v":""},"09:45:00","16:00:00",{"$f":"SUM(D19-C19)","v":"06:15:00"},6.2499999999999991,null,"09:17:00","16:00:00","06:43:00",6.716666666666665,{"$f":"SUM(J18:J24)","v":1.5486111111111109},{"$f":"SUM(J18:J24)*24","v":37.166666666666664},{"$f":"SUM(M19-M18)","v":1.1666666666666643},0.4666666666666659]
["2023-01-18",{"$f":"helligdagsnavn(A20,0,0)","v":""},"10:00:00","17:45:00","07:45:00",7.75,null,"09:46:00","17:34:00","07:48:00",7.7999999999999972,null,null,null,4.9999999999997158E-2]
["2023-01-19",{"$f":"helligdagsnavn(A21,0,0)","v":""},"09:45:00","17:45:00","08:00:00",8,null,"09:37:00","17:35:00","07:58:00",7.966666666666665,null,null,null,-3.3333333333334991E-2]
["2023-01-20",{"$f":"helligdagsnavn(A22,0,0)","v":""},"10:00:00","16:00:00","06:00:00",5.9999999999999982,null,"09:40:00","16:05:00","06:25:00",6.4166666666666661,null,null,null,0.41666666666666785]
["2023-01-21",{"$f":"helligdagsnavn(A23,0,0)","v":""},null,null,"00:00:00",0,null,null,null,"00:00:00",0,null,null,null,0]
["2023-01-22",{"$f":"helligdagsnavn(A24,0,0)","v":""},null,null,"00:00:00",0,null,null,null,"00:00:00",0,null,null,null,0]
["2023-01-23",{"$f":"helligdagsnavn(A25,0,0)","v":""},"10:00:00","16:00:00",{"$f":"SUM(D25-C25)","v":"06:00:00"},5.9999999999999982,null,"09:36:00","16:06:00","06:30:00",6.5000000000000018,{"$f":"SUM(E25:E31)","v":1.5729166666666665},{"$f":"SUM(L25)*24","v":37.75},null,0.50000000000000355]
["2023-01-24",{"$f":"helligdagsnavn(A26,0,0)","v":""},"09:45:00","16:00:00",{"$f":"SUM(D26-C26)","v":"06:15:00"},6.2499999999999991,null,"09:20:00","16:00:00","06:40:00",6.6666666666666661,{"$f":"SUM(J25:J31)","v":1.6479166666666667},{"$f":"SUM(J25:J31)*24","v":39.549999999999997},{"$f":"SUM(M26-M25)","v":1.7999999999999972},0.41666666666666696]
["2023-01-25",{"$f":"helligdagsnavn(A27,0,0)","v":""},"10:00:00","17:45:00","07:45:00",7.75,null,"09:32:00","17:45:00","08:13:00",8.2166666666666686,null,null,null,0.46666666666666856]
["2023-01-26",{"$f":"helligdagsnavn(A28,0,0)","v":""},"09:45:00","17:45:00","08:00:00",8,null,"09:38:00","17:47:00","08:09:00",8.1500000000000021,null,null,null,0.15000000000000213]
["2023-01-27",{"$f":"helligdagsnavn(A29,0,0)","v":""},"09:45:00","16:00:00","06:15:00",6.2499999999999991,null,"09:37:00","16:09:00","06:32:00",6.5333333333333314,null,null,null,0.28333333333333233]
["2023-01-28",{"$f":"helligdagsnavn(A30,0,0)","v":""},"09:45:00","13:15:00","03:30:00",3.5000000000000009,null,"09:46:00","13:15:00","03:29:00",3.4833333333333329,null,null,null,-1.666666666666794E-2]
["2023-01-29",{"$f":"helligdagsnavn(A31,0,0)","v":""},null,null,"00:00:00",0,null,null,null,"00:00:00",0,null,null,null,0]
["2023-01-30",{"$f":"helligdagsnavn(A32,0,0)","v":""},"09:45:00","17:45:00",{"$f":"SUM(D32-C32)","v":"08:00:00"},8,"SYG",null,null,"08:00:00",8,{"$f":"SUM(E32:E38)","v":1.5},{"$f":"SUM(L32)*24","v":36},null,0]
["2023-01-31",{"$f":"helligdagsnavn(A33,0,0)","v":""},"09:45:00","16:00:00",{"$f":"SUM(D33-C33)","v":"06:15:00"},6.2499999999999991,"SYG",null,null,"06:15:00",6.2499999999999991,{"$f":"SUM(J32:J38)","v":1.5229166666666669},{"$f":"SUM(J32:J38)*24","v":36.550000000000004},{"$f":"SUM(M33-M32)","v":0.55000000000000426},0]
["2023-02-01",{"$f":"helligdagsnavn(A34,0,0)","v":""},"10:00:00","17:45:00","07:45:00",7.75,"SYG",null,null,"07:45:00",7.75,null,null,null,0]
["2023-02-02",{"$f":"helligdagsnavn(A35,0,0)","v":""},"09:45:00","17:45:00","08:00:00",8,null,"09:35:00","17:45:00","08:10:00",8.1666666666666679,null,null,null,0.16666666666666785]
["2023-02-03",{"$f":"helligdagsnavn(A36,0,0)","v":""},"10:00:00","16:00:00","06:00:00",5.9999999999999982,null,"09:38:00","16:01:00","06:23:00",6.3833333333333329,null,null,null,0.38333333333333464]
["2023-02-04",{"$f":"helligdagsnavn(A37,0,0)","v":""},null,null,"00:00:00",0,null,null,null,"00:00:00",0,null,null,null,0]
["2023-02-05",{"$f":"helligdagsnavn(A38,0,0)","v":""},null,null,"00:00:00",0,null,null,null,"00:00:00",0,null,null,null,0]
["2023-02-06",{"$f":"helligdagsnavn(A39,0,0)","v":""},"12:00:00","17:45:00",{"$f":"SUM(D39-C39)","v":"05:45:00"},5.7500000000000009,null,"11:51:00","17:33:00","05:42:00",5.7000000000000028,{"$f":"SUM(E39:E45)","v":1.4791666666666665},{"$f":"SUM(L39)*24","v":35.5},null,-4.9999999999998046E-2]
["2023-02-07",{"$f":"helligdagsnavn(A40,0,0)","v":""},"09:45:00","16:00:00",{"$f":"SUM(D40-C40)","v":"06:15:00"},6.2499999999999991,null,"09:26:00","16:00:00","06:34:00",6.5666666666666664,{"$f":"SUM(J39:J45)","v":1.5319444444444446},{"$f":"SUM(J39:J45)*24","v":36.766666666666666},{"$f":"SUM(M40-M39)","v":1.2666666666666657},0.31666666666666732]
["2023-02-08",{"$f":"helligdagsnavn(A41,0,0)","v":""},"10:00:00","17:45:00","07:45:00",7.75,null,"09:46:00","17:33:00","07:47:00",7.7833333333333332,null,null,null,3.3333333333333215E-2]
["2023-02-09",{"$f":"helligdagsnavn(A42,0,0)","v":""},"09:45:00","17:45:00","08:00:00",8,null,"09:20:00","17:43:00","08:23:00",8.3833333333333311,null,null,null,0.38333333333333108]
["2023-02-10",{"$f":"helligdagsnavn(A43,0,0)","v":""},"09:45:00","17:30:00","07:45:00",7.7499999999999991,null,"09:17:00","17:37:00","08:20:00",8.3333333333333339,null,null,null,0.58333333333333481]
["2023-02-11",{"$f":"helligdagsnavn(A44,0,0)","v":""},null,null,"00:00:00",0,null,null,null,"00:00:00",0,null,null,null,0]
["2023-02-12",{"$f":"helligdagsnavn(A45,0,0)","v":""},null,null,"00:00:00",0,null,null,null,"00:00:00",0,null,null,null,0]
["2023-02-13",{"$f":"helligdagsnavn(A46,0,0)","v":""},null,null,{"$f":"SUM(D46-C46)","v":"00:00:00"},0,"FERIE",null,null,"00:00:00",0,{"$f":"SUM(E46:E52)","v":1.0520833333333335},{"$f":"SUM(L46)*24","v":25.250000000000004},null,0]
["2023-02-14",{"$f":"helligdagsnavn(A47,0,0)","v":""},null,null,{"$f":"SUM(D47-C47)","v":"00:00:00"},0,"FERIE",null,null,"00:00:00",0,{"$f":"SUM(J46:J52)","v":0.90625},{"$f":"SUM(J46:J52)*24","v":21.75},{"$f":"SUM(M47-M46)","v":-3.5000000000000036},0]
["2023-02-15",{"$f":"helligdagsnavn(A48,0,0)","v":""},"10:00:00","17:45:00","07:45:00",7.75,"SYG",null,null,"07:45:00",7.75,null,null,null,0]
["2023-02-16",{"$f":"helligdagsnavn(A49,0,0)","v":""},"09:45:00","17:45:00","08:00:00",8,"SYG",null,null,"08:00:00",8,null,null,null,0]
["2023-02-17",{"$f":"helligdagsnavn(A50,0,0)","v":""},"10:00:00","16:00:00","06:00:00",5.9999999999999982,"SYG",null,null,"06:00:00",5.9999999999999982,null,null,null,0]
["2023-02-18",{"$f":"helligdagsnavn(A51,0,0)","v":""},"09:45:00","13:15:00","03:30:00",3.5000000000000009,null,null,null,"00:00:00",0,null,null,null,0]
["2023-02-19",{"$f":"helligdagsnavn(A52,0,0)","v":""},null,null,"00:00:00",0,null,null,null,"00:00:00",0,null,null,null,0]
["2023-02-20",{"$f":"helligdagsnavn(A53,0,0)","v":""},"10:00:00","16:00:00",{"$f":"SUM(D53-C53)","v":"06:00:00"},5.9999999999999982,null,"09:22:00","16:11:00","06:49:00",6.8166666666666682,{"$f":"SUM(E53:E59)","v":1.6354166666666665},{"$f":"SUM(L53)*24","v":39.25},null,0.81666666666666998]
["2023-02-21",{"$f":"helligdagsnavn(A54,0,0)","v":""},"09:45:00","16:00:00",{"$f":"SUM(D54-C54)","v":"06:15:00"},6.2499999999999991,null,"09:00:00","16:02:00","07:02:00",7.033333333333335,{"$f":"SUM(J53:J59)","v":1.8027777777777778},{"$f":"SUM(J53:J59)*24","v":43.266666666666666},{"$f":"SUM(M54-M53)","v":4.0166666666666657},0.78333333333333588]
["2023-02-22",{"$f":"helligdagsnavn(A55,0,0)","v":""},"10:00:00","17:45:00","07:45:00",7.75,null,"09:01:00","17:43:00","08:42:00",8.6999999999999975,null,null,null,0.94999999999999751]
["2023-02-23",{"$f":"helligdagsnavn(A56,0,0)","v":""},"09:45:00","17:45:00","08:00:00",8,null,"09:35:00","17:42:00","08:07:00",8.1166666666666636,null,null,null,0.11666666666666359]
["2023-02-24",{"$f":"helligdagsnavn(A57,0,0)","v":""},"09:45:00","17:30:00","07:45:00",7.7499999999999991,null,"09:12:00","17:57:00","08:45:00",8.75,null,null,null,1.0000000000000009]
["2023-02-25",{"$f":"helligdagsnavn(A58,0,0)","v":""},"09:45:00","13:15:00","03:30:00",3.5000000000000009,null,"09:23:00",0.55138888888888882,"03:51:00",3.8499999999999983,null,null,null,0.34999999999999742]
["2023-02-26",{"$f":"helligdagsnavn(A59,0,0)","v":""},null,null,"00:00:00",0,null,null,null,"00:00:00",0,null,null,null,0]
["2023-02-27",{"$f":"helligdagsnavn(A60,0,0)","v":""},"09:45:00","17:45:00",{"$f":"SUM(D60-C60)","v":"08:00:00"},8,null,"09:26:00","17:43:00","08:17:00",8.2833333333333314,{"$f":"SUM(E60:E66)","v":1.5},{"$f":"SUM(L60)*24","v":36},null,0.28333333333333144]
["2023-02-28",{"$f":"helligdagsnavn(A61,0,0)","v":""},"09:45:00","16:00:00",{"$f":"SUM(D61-C61)","v":"06:15:00"},6.2499999999999991,null,"09:18:00","15:55:00","06:37:00",6.6166666666666654,{"$f":"SUM(J60:J66)","v":1.5458333333333334},{"$f":"SUM(J60:J66)*24","v":37.1},{"$f":"SUM(M61-M60)","v":1.1000000000000014},0.36666666666666625]
["2023-03-01",{"$f":"helligdagsnavn(A62,0,0)","v":""},"10:00:00","17:45:00","07:45:00",7.75,null,"09:53:00","17:33:00","07:40:00",7.6666666666666687,null,null,null,-8.3333333333331261E-2]
["2023-03-02",{"$f":"helligdagsnavn(A63,0,0)","v":""},"09:45:00","17:45:00","08:00:00",8,null,"09:32:00","17:37:00","08:05:00",8.0833333333333357,null,null,null,8.3333333333335702E-2]
["2023-03-03",{"$f":"helligdagsnavn(A64,0,0)","v":""},"10:00:00","16:00:00","06:00:00",5.9999999999999982,null,"09:35:00","16:02:00","06:27:00",6.4500000000000011,null,null,null,0.45000000000000284]
["2023-03-04",{"$f":"helligdagsnavn(A65,0,0)","v":""},null,null,"00:00:00",0,null,null,null,"00:00:00",0,null,null,null,0]
["2023-03-05",{"$f":"helligdagsnavn(A66,0,0)","v":""},null,null,"00:00:00",0,null,null,null,"00:00:00",0,null,null,null,0]
["2023-03-06",{"$f":"helligdagsnavn(A67,0,0)","v":""},"10:00:00","16:00:00",{"$f":"SUM(D67-C67)","v":"06:00:00"},5.9999999999999982,null,null,null,"00:00:00",0,{"$f":"SUM(E67:E73)","v":1.489583333333333},{"$f":"SUM(L67)*24","v":35.749999999999993},null,0]
["2023-03-07",{"$f":"helligdagsnavn(A68,0,0)","v":""},"09:45:00","16:00:00",{"$f":"SUM(D68-C68)","v":"06:15:00"},6.2499999999999991,null,null,null,{"$f":"IF(G68=\"syg\",E68,I68-H68)","v":"00:00:00"},0,{"$f":"SUM(J67:J73)","v":0},{"$f":"SUM(J67:J73)*24","v":0},{"$f":"SUM(M68-M67)","v":-35.749999999999993},0]
["2023-03-08",{"$f":"helligdagsnavn(A69,0,0)","v":""},"10:00:00","17:45:00","07:45:00",{"$f":"SUM(E69*24)","v":7.75},null,null,null,"00:00:00",{"$f":"SUM(J69*24)","v":0},null,null,null,{"$f":"IF(G69=\"Afspadsering\",-F69,IF(K69=0,0,K69-F69))","v":0}]
["2023-03-09",{"$f":"helligdagsnavn(A70,0,0)","v":""},"09:45:00","17:45:00","08:00:00",8,null,null,null,"00:00:00",0,null,null,null,0]
["2023-03-10",{"$f":"helligdagsnavn(A71,0,0)","v":""},"09:45:00","17:30:00","07:45:00",7.7499999999999991,null,null,null,"00:00:00",0,null,null,null,0]
["2023-03-11",{"$f":"helligdagsnavn(A72,0,0)","v":""},null,null,"00:00:00",0,null,null,null,"00:00:00",0,null,null,null,0]
["2023-03-12",{"$f":"helligdagsnavn(A73,0,0)","v":""},null,null,"00:00:00",0,null,null,null,"00:00:00",0,null,null,null,0]
["2023-03-13",{"$f":"helligdagsnavn(A74,0,0)","v":""},"09:45:00","17:45:00",{"$f":"SUM(D74-C74)","v":"08:00:00"},8,null,null,null,"00:00:00",0,{"$f":"SUM(E74:E80)","v":1.6458333333333335},{"$f":"SUM(L74)*24","v":39.5},null,0]
["2023-03-14",{"$f":"helligdagsnavn(A75,0,0)","v":""},"09:45:00","16:00:00",{"$f":"SUM(D75-C75)","v":"06:15:00"},6.2499999999999991,null,null,null,"00:00:00",0,{"$f":"SUM(J74:J80)","v":0},{"$f":"SUM(J74:J80)*24","v":0},{"$f":"SUM(M75-M74)","v":-39.5},0]
["2023-03-15",{"$f":"helligdagsnavn(A76,0,0)","v":""},"10:00:00","17:45:00","07:45:00",7.75,null,null,null,"00:00:00",0,null,null,null,0]
["2023-03-16",{"$f":"helligdagsnavn(A77,0,0)","v":""},"09:45:00","17:45:00","08:00:00",8,null,null,null,"00:00:00",0,null,null,null,0]
["2023-03-17",{"$f":"helligdagsnavn(A78,0,0)","v":""},"10:00:00","16:00:00","06:00:00",5.9999999999999982,null,null,null,"00:00:00",0,null,null,null,0]
["2023-03-18",{"$f":"helligdagsnavn(A79,0,0)","v":""},"09:45:00","13:15:00","03:30:00",3.5000000000000009,null,null,null,"00:00:00",0,null,null,null,0]
["2023-03-19",{"$f":"helligdagsnavn(A80,0,0)","v":""},null,null,"00:00:00",0,null,null,null,"00:00:00",0,null,null,null,0]
["2023-03-20",{"$f":"helligdagsnavn(A81,0,0)","v":""},"12:00:00","17:45:00",{"$f":"SUM(D81-C81)","v":"05:45:00"},5.7500000000000009,null,null,null,"00:00:00",0,{"$f":"SUM(E81:E87)","v":1.625},{"$f":"SUM(L81)*24","v":39},null,0]
["2023-03-21",{"$f":"helligdagsnavn(A82,0,0)","v":""},"09:45:00","16:00:00",{"$f":"SUM(D82-C82)","v":"06:15:00"},6.2499999999999991,null,null,null,"00:00:00",0,{"$f":"SUM(J81:J87)","v":0},{"$f":"SUM(J81:J87)*24","v":0},{"$f":"SUM(M82-M81)","v":-39},0]
["2023-03-22",{"$f":"helligdagsnavn(A83,0,0)","v":""},"10:00:00","17:45:00","07:45:00",7.75,null,null,null,"00:00:00",0,null,null,null,0]
["2023-03-23",{"$f":"helligdagsnavn(A84,0,0)","v":""},"09:45:00","17:45:00","08:00:00",8,null,null,null,"00:00:00",0,null,null,null,0]
["2023-03-24",{"$f":"helligdagsnavn(A85,0,0)","v":""},"09:45:00","17:30:00","07:45:00",7.7499999999999991,null,null,null,"00:00:00",0,null,null,null,0]
["2023-03-25",{"$f":"helligdagsnavn(A86,0,0)","v":""},"09:45:00","13:15:00","03:30:00",3.5000000000000009,null,null,null,"00:00:00",0,null,null,null,0]
["2023-03-26",{"$f":"helligdagsnavn(A87,0,0)","v":""},null,null,"00:00:00",0,null,null,null,"00:00:00",0,null,null,null,0]
["2023-03-27",{"$f":"helligdagsnavn(A88,0,0)","v":""},"09:45:00","17:45:00",{"$f":"SUM(D88-C88)","v":"08:00:00"},8,null,null,null,"00:00:00",0,{"$f":"SUM(E88:E94)","v":1.5},{"$f":"SUM(L88)*24","v":36},null,0]
["2023-03-28",{"$f":"helligdagsnavn(A89,0,0)","v":""},"09:45:00","16:00:00",{"$f":"SUM(D89-C89)","v":"06:15:00"},6.2499999999999991,null,null,null,"00:00:00",0,{"$f":"SUM(J88:J94)","v":0},{"$f":"SUM(J88:J94)*24","v":0},{"$f":"SUM(M89-M88)","v":-36},0]
["2023-03-29",{"$f":"helligdagsnavn(A90,0,0)","v":""},"10:00:00","17:45:00","07:45:00",7.75,null,null,null,"00:00:00",0,null,null,null,0]
["2023-03-30",{"$f":"helligdagsnavn(A91,0,0)","v":""},"09:45:00","17:45:00","08:00:00",8,null,null,null,"00:00:00",0,null,null,null,0]
["2023-03-31",{"$f":"helligdagsnavn(A92,0,0)","v":""},"10:00:00","16:00:00","06:00:00",5.9999999999999982,null,null,null,"00:00:00",0,null,null,null,0]
["2023-04-01",{"$f":"helligdagsnavn(A93,0,0)","v":""},null,null,"00:00:00",0,null,null,null,"00:00:00",0,null,null,null,0]
["2023-04-02",{"$f":"helligdagsnavn(A94,0,0)","v":""},null,null,"00:00:00",0,null,null,null,"00:00:00",0,null,null,null,0]
["2023-04-03",{"$f":"helligdagsnavn(A95,0,0)","v":""},null,null,{"$f":"SUM(D95-C95)","v":"00:00:00"},0,"FERIE",null,null,"00:00:00",0,{"$f":"SUM(E95:E101)","v":0.14583333333333337},{"$f":"SUM(L95)*24","v":3.5000000000000009},null,0]
["2023-04-04",{"$f":"helligdagsnavn(A96,0,0)","v":""},null,null,{"$f":"SUM(D96-C96)","v":"00:00:00"},0,"FERIE",null,null,"00:00:00",0,{"$f":"SUM(J95:J101)","v":0},{"$f":"SUM(J95:J101)*24","v":0},{"$f":"SUM(M96-M95)","v":-3.5000000000000009},0]
["2023-04-05",{"$f":"helligdagsnavn(A97,0,0)","v":""},null,null,"00:00:00",0,"FERIE",null,null,"00:00:00",0,null,null,null,0]
["2023-04-06",{"$f":"helligdagsnavn(A98,0,0)","v":"Skærtorsdag"},null,null,"00:00:00",0,"SKÆRTORSDAG",null,null,"00:00:00",0,null,null,null,0]
["2023-04-07",{"$f":"helligdagsnavn(A99,0,0)","v":"Langfredag"},null,null,"00:00:00",0,"LANGFREDAG",null,null,"00:00:00",0,null,null,null,0]
["2023-04-08",{"$f":"helligdagsnavn(A100,0,0)","v":""},"09:45:00","13:15:00","03:30:00",3.5000000000000009,null,null,null,"00:00:00",0,null,null,null,0]
["2023-04-09",{"$f":"helligdagsnavn(A101,0,0)","v":"Påskedag"},null,null,"00:00:00",0,null,null,null,"00:00:00",0,null,null,null,0]
["2023-04-10",{"$f":"helligdagsnavn(A102,0,0)","v":"2. Påskedag"},null,null,{"$f":"SUM(D102-C102)","v":"00:00:00"},0,"2.PINSEDAG",null,null,"00:00:00",0,{"$f":"SUM(E102:E108)","v":1.2916666666666665},{"$f":"SUM(L102)*24","v":30.999999999999996},null,0]
["2023-04-11",{"$f":"helligdagsnavn(A103,0,0)","v":""},"09:45:00","16:00:00",{"$f":"SUM(D103-C103)","v":"06:15:00"},6.2499999999999991,null,null,null,"00:00:00",0,{"$f":"SUM(J102:J108)","v":0},{"$f":"SUM(J102:J108)*24","v":0},{"$f":"SUM(M103-M102)","v":-30.999999999999996},0]
["2023-04-12",{"$f":"helligdagsnavn(A104,0,0)","v":""},"10:00:00","17:45:00","07:45:00",7.75,null,null,null,"00:00:00",0,null,null,null,0]
["2023-04-13",{"$f":"helligdagsnavn(A105,0,0)","v":""},"09:45:00","17:45:00","08:00:00",8,null,null,null,"00:00:00",0,null,null,null,0]
["2023-04-14",{"$f":"helligdagsnavn(A106,0,0)","v":""},"10:00:00","16:00:00","06:00:00",5.9999999999999982,null,null,null,"00:00:00",0,null,null,null,0]
["2023-04-15",{"$f":"helligdagsnavn(A107,0,0)","v":""},"10:00:00","13:00:00","03:00:00",2.9999999999999987,null,null,null,"00:00:00",0,null,null,null,0]
["2023-04-16",{"$f":"helligdagsnavn(A108,0,0)","v":""},null,null,"00:00:00",0,null,null,null,"00:00:00",0,null,null,null,0]
["2023-04-17",{"$f":"helligdagsnavn(A109,0,0)","v":""},"10:00:00","16:00:00",{"$f":"SUM(D109-C109)","v":"06:00:00"},5.9999999999999982,null,null,null,"00:00:00",0,{"$f":"SUM(E109:E115)","v":1.489583333333333},{"$f":"SUM(L109)*24","v":35.749999999999993},null,0]
["2023-04-18",{"$f":"helligdagsnavn(A110,0,0)","v":""},"09:45:00","16:00:00",{"$f":"SUM(D110-C110)","v":"06:15:00"},6.2499999999999991,null,null,null,"00:00:00",0,{"$f":"SUM(J109:J115)","v":0},{"$f":"SUM(J109:J115)*24","v":0},{"$f":"SUM(M110-M109)","v":-35.749999999999993},0]
["2023-04-19",{"$f":"helligdagsnavn(A111,0,0)","v":""},"10:00:00","17:45:00","07:45:00",7.75,null,null,null,"00:00:00",0,null,null,null,0]
["2023-04-20",{"$f":"helligdagsnavn(A112,0,0)","v":""},"09:45:00","17:45:00","08:00:00",8,null,null,null,"00:00:00",0,null,null,null,0]
["2023-04-21",{"$f":"helligdagsnavn(A113,0,0)","v":""},"09:45:00","17:30:00","07:45:00",7.7499999999999991,null,null,null,"00:00:00",0,null,null,null,0]
["2023-04-22",{"$f":"helligdagsnavn(A114,0,0)","v":""},null,null,"00:00:00",0,null,null,null,"00:00:00",0,null,null,null,0]
["2023-04-23",{"$f":"helligdagsnavn(A115,0,0)","v":""},null,null,"00:00:00",0,null,null,null,"00:00:00",0,null,null,null,0]
["2023-04-24",{"$f":"helligdagsnavn(A116,0,0)","v":""},"09:45:00","17:45:00",{"$f":"SUM(D116-C116)","v":"08:00:00"},8,null,null,null,"00:00:00",0,{"$f":"SUM(E116:E122)","v":1.6458333333333335},{"$f":"SUM(L116)*24","v":39.5},null,0]
["2023-04-25",{"$f":"helligdagsnavn(A117,0,0)","v":""},"09:45:00","16:00:00",{"$f":"SUM(D117-C117)","v":"06:15:00"},6.2499999999999991,null,null,null,"00:00:00",0,{"$f":"SUM(J116:J122)","v":0},{"$f":"SUM(J116:J122)*24","v":0},{"$f":"SUM(M117-M116)","v":-39.5},0]
["2023-04-26",{"$f":"helligdagsnavn(A118,0,0)","v":""},"10:00:00","17:45:00","07:45:00",7.75,null,null,null,"00:00:00",0,null,null,null,0]
["2023-04-27",{"$f":"helligdagsnavn(A119,0,0)","v":""},"09:45:00","17:45:00","08:00:00",8,null,null,null,"00:00:00",0,null,null,null,0]
["2023-04-28",{"$f":"helligdagsnavn(A120,0,0)","v":""},"10:00:00","16:00:00","06:00:00",5.9999999999999982,null,null,null,"00:00:00",0,null,null,null,0]
["2023-04-29",{"$f":"helligdagsnavn(A121,0,0)","v":""},"09:45:00","13:15:00","03:30:00",3.5000000000000009,null,null,null,"00:00:00",0,null,null,null,0]
["2023-04-30",{"$f":"helligdagsnavn(A122,0,0)","v":""},null,null,"00:00:00",0,null,null,null,"00:00:00",0,null,null,null,0]
["2023-05-01",{"$f":"helligdagsnavn(A123,0,0)","v":""},"12:00:00","17:45:00",{"$f":"SUM(D123-C123)","v":"05:45:00"},5.7500000000000009,null,null,null,"00:00:00",0,{"$f":"SUM(E123:E129)","v":1.15625},{"$f":"SUM(L123)*24","v":27.75},null,0]
["2023-05-02",{"$f":"helligdagsnavn(A124,0,0)","v":""},"09:45:00","16:00:00",{"$f":"SUM(D124-C124)","v":"06:15:00"},6.2499999999999991,null,null,null,"00:00:00",0,{"$f":"SUM(J123:J129)","v":0},{"$f":"SUM(J123:J129)*24","v":0},{"$f":"SUM(M124-M123)","v":-27.75},0]
["2023-05-03",{"$f":"helligdagsnavn(A125,0,0)","v":""},"10:00:00","17:45:00","07:45:00",7.75,null,null,null,"00:00:00",0,null,null,null,0]
["2023-05-04",{"$f":"helligdagsnavn(A126,0,0)","v":""},"09:45:00","17:45:00","08:00:00",8,null,null,null,"00:00:00",0,null,null,null,0]
["2023-05-05",{"$f":"helligdagsnavn(A127,0,0)","v":"Store Bededag"},null,null,"00:00:00",0,"ST.BEDEDAG",null,null,"00:00:00",0,null,null,null,0]
["2023-05-06",{"$f":"helligdagsnavn(A128,0,0)","v":""},null,null,"00:00:00",0,null,null,null,"00:00:00",0,null,null,null,0]
["2023-05-07",{"$f":"helligdagsnavn(A129,0,0)","v":""},null,null,"00:00:00",0,null,null,null,{"$f":"IF(G129=\"syg\",E129,I129-H129)","v":"00:00:00"},0,null,null,null,0]
["2023-05-08",{"$f":"helligdagsnavn(A130,0,0)","v":""},"09:45:00","17:45:00","08:00:00",8,null,null,null,"00:00:00",0,{"$f":"SUM(E130:E136)","v":1.6458333333333335},{"$f":"SUM(L130)*24","v":39.5},null,0]
["2023-05-09",{"$f":"helligdagsnavn(A131,0,0)","v":""},"09:45:00","16:00:00","06:15:00",6.2499999999999991,null,null,null,"00:00:00",0,{"$f":"SUM(J130:J136)","v":0},{"$f":"SUM(J130:J136)*24","v":0},{"$f":"SUM(M131-M130)","v":-39.5},0]
["2023-05-10",{"$f":"helligdagsnavn(A132,0,0)","v":""},"10:00:00","17:45:00","07:45:00",7.75,null,null,null,"00:00:00",0,null,null,null,0]
["2023-05-11",{"$f":"helligdagsnavn(A133,0,0)","v":""},"09:45:00","17:45:00","08:00:00",{"$f":"SUM(E133*24)","v":8},null,null,null,"00:00:00",{"$f":"SUM(J133*24)","v":0},null,null,null,{"$f":"IF(G133=\"Afspadsering\",-F133,IF(K133=0,0,K133-F133))","v":0}]
["2023-05-12",{"$f":"helligdagsnavn(A134,0,0)","v":""},"10:00:00","16:00:00","06:00:00",5.9999999999999982,null,null,null,"00:00:00",0,null,null,null,0]
["2023-05-13",{"$f":"helligdagsnavn(A135,0,0)","v":""},"09:45:00","13:15:00","03:30:00",3.5000000000000009,null,null,null,"00:00:00",0,null,null,null,0]
["2023-05-14",{"$f":"helligdagsnavn(A136,0,0)","v":""},null,null,"00:00:00",0,null,null,null,"00:00:00",0,null,null,null,0]
["2023-05-15",{"$f":"helligdagsnavn(A137,0,0)","v":""},"10:00:00","16:00:00","06:00:00",5.9999999999999982,null,null,null,"00:00:00",0,{"$f":"SUM(E137:E143)","v":1.15625},{"$f":"SUM(L137)*24","v":27.75},null,0]
["2023-05-16",{"$f":"helligdagsnavn(A138,0,0)","v":""},"09:45:00","16:00:00","06:15:00",6.2499999999999991,null,null,null,"00:00:00",0,{"$f":"SUM(J137:J143)","v":0},{"$f":"SUM(J137:J143)*24","v":0},{"$f":"SUM(M138-M137)","v":-27.75},0]
["2023-05-17",{"$f":"helligdagsnavn(A139,0,0)","v":""},"10:00:00","17:45:00","07:45:00",7.75,null,null,null,"00:00:00",0,null,null,null,0]
["2023-05-18",{"$f":"helligdagsnavn(A140,0,0)","v":"Kristi Himmelfartsdag"},null,null,"00:00:00",0,"KRISTI HIMMEL",null,null,"00:00:00",0,null,null,null,0]
["2023-05-19",{"$f":"helligdagsnavn(A141,0,0)","v":""},"09:45:00","17:30:00","07:45:00",7.7499999999999991,null,null,null,"00:00:00",0,null,null,null,0]
["2023-05-20",{"$f":"helligdagsnavn(A142,0,0)","v":""},null,null,"00:00:00",0,null,null,null,"00:00:00",0,null,null,null,0]
["2023-05-21",{"$f":"helligdagsnavn(A143,0,0)","v":""},null,null,"00:00:00",0,null,null,null,"00:00:00",0,null,null,null,0]
["2023-05-22",{"$f":"helligdagsnavn(A144,0,0)","v":""},"09:45:00","17:45:00","08:00:00",8,null,null,null,"00:00:00",0,{"$f":"SUM(E144:E150)","v":1.625},{"$f":"SUM(L144)*24","v":39},null,0]
["2023-05-23",{"$f":"helligdagsnavn(A145,0,0)","v":""},"09:45:00","16:00:00","06:15:00",6.2499999999999991,null,null,null,"00:00:00",0,{"$f":"SUM(J144:J150)","v":0},{"$f":"SUM(J144:J150)*24","v":0},{"$f":"SUM(M145-M144)","v":-39},0]
["2023-05-24",{"$f":"helligdagsnavn(A146,0,0)","v":""},"10:00:00","17:45:00","07:45:00",7.75,null,null,null,"00:00:00",0,null,null,null,0]
["2023-05-25",{"$f":"helligdagsnavn(A147,0,0)","v":""},"09:45:00","17:45:00","08:00:00",8,null,null,null,"00:00:00",0,null,null,null,0]
["2023-05-26",{"$f":"helligdagsnavn(A148,0,0)","v":""},"10:00:00","16:00:00","06:00:00",5.9999999999999982,null,null,null,"00:00:00",0,null,null,null,0]
["2023-05-27",{"$f":"helligdagsnavn(A149,0,0)","v":""},"10:00:00","13:00:00","03:00:00",2.9999999999999987,null,null,null,"00:00:00",0,null,null,null,0]
["2023-05-28",{"$f":"helligdagsnavn(A150,0,0)","v":"Pinsedag"},null,null,"00:00:00",0,null,null,null,"00:00:00",0,null,null,null,0]
["2023-05-29",{"$f":"helligdagsnavn(A151,0,0)","v":"2. Pinsedag"},null,null,"00:00:00",0,"2.PINSEDAG",null,null,"00:00:00",0,{"$f":"SUM(E151:E157)","v":1.2395833333333333},{"$f":"SUM(L151)*24","v":29.75},null,0]
["2023-05-30",{"$f":"helligdagsnavn(A152,0,0)","v":""},"09:45:00","16:00:00","06:15:00",6.2499999999999991,null,null,null,"00:00:00",0,{"$f":"SUM(J151:J157)","v":0},{"$f":"SUM(J151:J157)*24","v":0},{"$f":"SUM(M152-M151)","v":-29.75},0]
["2023-05-31",{"$f":"helligdagsnavn(A153,0,0)","v":""},"10:00:00","17:45:00","07:45:00",7.75,null,null,null,"00:00:00",0,null,null,null,0]
["2023-06-01",{"$f":"helligdagsnavn(A154,0,0)","v":""},"09:45:00","17:45:00","08:00:00",8,null,null,null,"00:00:00",0,null,null,null,0]
["2023-06-02",{"$f":"helligdagsnavn(A155,0,0)","v":""},"09:45:00","17:30:00","07:45:00",7.7499999999999991,null,null,null,"00:00:00",0,null,null,null,0]
["2023-06-03",{"$f":"helligdagsnavn(A156,0,0)","v":""},null,null,"00:00:00",0,null,null,null,"00:00:00",0,null,null,null,0]
["2023-06-04",{"$f":"helligdagsnavn(A157,0,0)","v":""},null,null,"00:00:00",0,null,null,null,"00:00:00",0,null,null,null,0]
["2023-06-05",{"$f":"helligdagsnavn(A158,0,0)","v":"Grundlovsdag"},"09:45:00","17:45:00","08:00:00",8,null,null,null,"00:00:00",0,{"$f":"SUM(E158:E164)","v":1.6458333333333335},{"$f":"SUM(L158)*24","v":39.5},null,0]
["2023-06-06",{"$f":"helligdagsnavn(A159,0,0)","v":""},"09:45:00","16:00:00","06:15:00",6.2499999999999991,null,null,null,"00:00:00",0,{"$f":"SUM(J158:J164)","v":0},{"$f":"SUM(J158:J164)*24","v":0},{"$f":"SUM(M159-M158)","v":-39.5},0]
["2023-06-07",{"$f":"helligdagsnavn(A160,0,0)","v":""},"10:00:00","17:45:00","07:45:00",7.75,null,null,null,"00:00:00",0,null,null,null,0]
["2023-06-08",{"$f":"helligdagsnavn(A161,0,0)","v":""},"09:45:00","17:45:00","08:00:00",8,null,null,null,"00:00:00",0,null,null,null,0]
["2023-06-09",{"$f":"helligdagsnavn(A162,0,0)","v":""},"10:00:00","16:00:00","06:00:00",5.9999999999999982,null,null,null,"00:00:00",0,null,null,null,0]
["2023-06-10",{"$f":"helligdagsnavn(A163,0,0)","v":""},"09:45:00","13:15:00","03:30:00",3.5000000000000009,null,null,null,"00:00:00",0,null,null,null,0]
["2023-06-11",{"$f":"helligdagsnavn(A164,0,0)","v":""},null,null,"00:00:00",0,null,null,null,"00:00:00",0,null,null,null,0]
["2023-06-12",{"$f":"helligdagsnavn(A165,0,0)","v":""},"12:00:00","17:45:00","05:45:00",5.7500000000000009,null,null,null,"00:00:00",0,{"$f":"SUM(E165:E171)","v":1.4791666666666665},{"$f":"SUM(L165)*24","v":35.5},null,0]
["2023-06-13",{"$f":"helligdagsnavn(A166,0,0)","v":""},"09:45:00","16:00:00","06:15:00",6.2499999999999991,null,null,null,"00:00:00",0,{"$f":"SUM(J165:J171)","v":0},{"$f":"SUM(J165:J171)*24","v":0},{"$f":"SUM(M166-M165)","v":-35.5},0]
["2023-06-14",{"$f":"helligdagsnavn(A167,0,0)","v":""},"10:00:00","17:45:00","07:45:00",7.75,null,null,null,"00:00:00",0,null,null,null,0]
["2023-06-15",{"$f":"helligdagsnavn(A168,0,0)","v":""},"09:45:00","17:45:00","08:00:00",8,null,null,null,"00:00:00",0,null,null,null,0]
["2023-06-16",{"$f":"helligdagsnavn(A169,0,0)","v":""},"09:45:00","17:30:00","07:45:00",7.7499999999999991,null,null,null,"00:00:00",0,null,null,null,0]
["2023-06-17",{"$f":"helligdagsnavn(A170,0,0)","v":""},null,null,"00:00:00",0,null,null,null,"00:00:00",0,null,null,null,0]
["2023-06-18",{"$f":"helligdagsnavn(A171,0,0)","v":""},null,null,"00:00:00",0,null,null,null,"00:00:00",0,null,null,null,0]
["2023-06-19",{"$f":"helligdagsnavn(A172,0,0)","v":""},"09:45:00","17:45:00","08:00:00",8,null,null,null,"00:00:00",0,{"$f":"SUM(E172:E178)","v":1.6458333333333335},{"$f":"SUM(L172)*24","v":39.5},null,0]
["2023-06-20",{"$f":"helligdagsnavn(A173,0,0)","v":""},"09:45:00","16:00:00","06:15:00",6.2499999999999991,null,null,null,"00:00:00",0,{"$f":"SUM(J172:J178)","v":0},{"$f":"SUM(J172:J178)*24","v":0},{"$f":"SUM(M173-M172)","v":-39.5},0]
["2023-06-21",{"$f":"helligdagsnavn(A174,0,0)","v":""},"10:00:00","17:45:00","07:45:00",7.75,null,null,null,"00:00:00",0,null,null,null,0]
["2023-06-22",{"$f":"helligdagsnavn(A175,0,0)","v":""},"09:45:00","17:45:00","08:00:00",8,null,null,null,"00:00:00",0,null,null,null,0]
["2023-06-23",{"$f":"helligdagsnavn(A176,0,0)","v":""},"10:00:00","16:00:00","06:00:00",5.9999999999999982,null,null,null,"00:00:00",0,null,null,null,0]
["2023-06-24",{"$f":"helligdagsnavn(A177,0,0)","v":""},"09:45:00","13:15:00","03:30:00",3.5000000000000009,null,null,null,"00:00:00",0,null,null,null,0]
["2023-06-25",{"$f":"helligdagsnavn(A178,0,0)","v":""},null,null,"00:00:00",0,null,null,null,"00:00:00",0,null,null,null,0]
["2023-06-26",{"$f":"helligdagsnavn(A179,0,0)","v":""},null,null,"00:00:00",0,null,null,null,"00:00:00",0,{"$f":"SUM(E179:E185)","v":0},{"$f":"SUM(L179)*24","v":0},null,0]
["2023-06-27",{"$f":"helligdagsnavn(A180,0,0)","v":""},null,null,"00:00:00",0,null,null,null,null,null,{"$f":"SUM(J179:J185)","v":0},{"$f":"SUM(J179:J185)*24","v":0},{"$f":"SUM(M180-M179)","v":0},0]
["2023-06-28",{"$f":"helligdagsnavn(A181,0,0)","v":""},null,null,"00:00:00",0,null,null,null,null,null,null,null,null,0]
["2023-06-29",{"$f":"helligdagsnavn(A182,0,0)","v":""},null,null,"00:00:00",0,null,null,null,null,null,null,null,null,0]
["2023-06-30",{"$f":"helligdagsnavn(A183,0,0)","v":""},null,null,"00:00:00",0,null,null,null,null,null,null,null,null,0]
["2023-07-01",{"$f":"helligdagsnavn(A184,0,0)","v":""},null,null,"00:00:00",0,null,null,null,null,null,null,null,null,0]
["2023-07-02",{"$f":"helligdagsnavn(A185,0,0)","v":""},null,null,"00:00:00",0,null,null,null,null,null,null,null,null,0]
["2023-07-03",{"$f":"helligdagsnavn(A186,0,0)","v":""},null,null,"00:00:00",0,null,null,null,null,null,{"$f":"SUM(E186:E192)","v":0},{"$f":"SUM(L186)*24","v":0},null,0]
["2023-07-04",{"$f":"helligdagsnavn(A187,0,0)","v":""},null,null,"00:00:00",0,null,null,null,null,null,{"$f":"SUM(J186:J192)","v":0},{"$f":"SUM(J186:J192)*24","v":0},{"$f":"SUM(M187-M186)","v":0},0]
["2023-07-05",{"$f":"helligdagsnavn(A188,0,0)","v":""},null,null,{"$f":"SUM(D188-C188)","v":"00:00:00"},0,null,null,null,null,null,null,null,null,0]
["2023-07-06",{"$f":"helligdagsnavn(A189,0,0)","v":""},null,null,"00:00:00",0,null,null,null,null,null,null,null,null,0]
["2023-07-07",{"$f":"helligdagsnavn(A190,0,0)","v":""},null,null,"00:00:00",0,null,null,null,null,null,null,null,null,0]
["2023-07-08",{"$f":"helligdagsnavn(A191,0,0)","v":""},null,null,"00:00:00",0,null,null,null,null,null,null,null,null,0]
["2023-07-09",{"$f":"helligdagsnavn(A192,0,0)","v":""},null,null,"00:00:00",0,null,null,null,null,null,null,null,null,0]
["2023-07-10",{"$f":"helligdagsnavn(A193,0,0)","v":""},null,null,"00:00:00",0,null,null,null,null,null,{"$f":"SUM(E193:E199)","v":0},{"$f":"SUM(L193)*24","v":0},null,0]
["2023-07-11",{"$f":"helligdagsnavn(A194,0,0)","v":""},null,null,"00:00:00",0,null,null,null,null,null,{"$f":"SUM(J193:J199)","v":0},{"$f":"SUM(J193:J199)*24","v":0},{"$f":"SUM(M194-M193)","v":0},0]
["2023-07-12",{"$f":"helligdagsnavn(A195,0,0)","v":""},null,null,"00:00:00",0,null,null,null,null,null,null,null,null,0]
["2023-07-13",{"$f":"helligdagsnavn(A196,0,0)","v":""},null,null,"00:00:00",0,null,null,null,null,null,null,null,null,0]
["2023-07-14",{"$f":"helligdagsnavn(A197,0,0)","v":""},null,null,"00:00:00",{"$f":"SUM(E197*24)","v":0},null,null,null,null,null,null,null,null,{"$f":"IF(G197=\"Afspadsering\",-F197,IF(K197=0,0,K197-F197))","v":0}]
["2023-07-15",{"$f":"helligdagsnavn(A198,0,0)","v":""},null,null,"00:00:00",0,null,null,null,null,null,null,null,null,0]
["2023-07-16",{"$f":"helligdagsnavn(A199,0,0)","v":""},null,null,"00:00:00",0,null,null,null,null,null,null,null,null,0]
["2023-07-17",{"$f":"helligdagsnavn(A200,0,0)","v":""},null,null,"00:00:00",0,null,null,null,null,null,{"$f":"SUM(E200:E206)","v":0},{"$f":"SUM(L200)*24","v":0},null,0]
["2023-07-18",{"$f":"helligdagsnavn(A201,0,0)","v":""},null,null,"00:00:00",0,null,null,null,null,null,{"$f":"SUM(J200:J206)","v":0},{"$f":"SUM(J200:J206)*24","v":0},{"$f":"SUM(M201-M200)","v":0},0]
["2023-07-19",{"$f":"helligdagsnavn(A202,0,0)","v":""},null,null,"00:00:00",0,null,null,null,null,null,null,null,null,0]
["2023-07-20",{"$f":"helligdagsnavn(A203,0,0)","v":""},null,null,"00:00:00",0,null,null,null,null,null,null,null,null,0]
["2023-07-21",{"$f":"helligdagsnavn(A204,0,0)","v":""},null,null,"00:00:00",0,null,null,null,null,null,null,null,null,0]
["2023-07-22",{"$f":"helligdagsnavn(A205,0,0)","v":""},null,null,"00:00:00",0,null,null,null,null,null,null,null,null,0]
["2023-07-23",{"$f":"helligdagsnavn(A206,0,0)","v":""},null,null,"00:00:00",0,null,null,null,null,null,null,null,null,0]
["2023-07-24",{"$f":"helligdagsnavn(A207,0,0)","v":""},null,null,"00:00:00",0,null,null,null,null,null,{"$f":"SUM(E207:E213)","v":0},{"$f":"SUM(L207)*24","v":0},null,0]
["2023-07-25",{"$f":"helligdagsnavn(A208,0,0)","v":""},null,null,"00:00:00",0,null,null,null,null,null,{"$f":"SUM(J207:J213)","v":0},{"$f":"SUM(J207:J213)*24","v":0},{"$f":"SUM(M208-M207)","v":0},0]
["2023-07-26",{"$f":"helligdagsnavn(A209,0,0)","v":""},null,null,"00:00:00",0,null,null,null,null,null,null,null,null,0]
["2023-07-27",{"$f":"helligdagsnavn(A210,0,0)","v":""},null,null,"00:00:00",0,null,null,null,null,null,null,null,null,0]
["2023-07-28",{"$f":"helligdagsnavn(A211,0,0)","v":""},null,null,"00:00:00",0,null,null,null,null,null,null,null,null,0]
["2023-07-29",{"$f":"helligdagsnavn(A212,0,0)","v":""},null,null,"00:00:00",0,null,null,null,null,null,null,null,null,0]
["2023-07-30",{"$f":"helligdagsnavn(A213,0,0)","v":""},null,null,"00:00:00",0,null,null,null,null,null,null,null,null,0]
["2023-07-31",{"$f":"helligdagsnavn(A214,0,0)","v":""},null,null,"00:00:00",0,null,null,null,null,null,{"$f":"SUM(E214:E220)","v":0},{"$f":"SUM(L214)*24","v":0},null,0]
["2023-08-01",{"$f":"helligdagsnavn(A215,0,0)","v":""},null,null,"00:00:00",0,null,null,null,null,null,{"$f":"SUM(J214:J220)","v":0},{"$f":"SUM(J214:J220)*24","v":0},{"$f":"SUM(M215-M214)","v":0},0]
["2023-08-02",{"$f":"helligdagsnavn(A216,0,0)","v":""},null,null,"00:00:00",0,null,null,null,null,null,null,null,null,0]
["2023-08-03",{"$f":"helligdagsnavn(A217,0,0)","v":""},null,null,"00:00:00",0,null,null,null,null,null,null,null,null,0]
["2023-08-04",{"$f":"helligdagsnavn(A218,0,0)","v":""},null,null,"00:00:00",0,null,null,null,null,null,null,null,null,0]
["2023-08-05",{"$f":"helligdagsnavn(A219,0,0)","v":""},null,null,"00:00:00",0,null,null,null,null,null,null,null,null,0]
["2023-08-06",{"$f":"helligdagsnavn(A220,0,0)","v":""},null,null,"00:00:00",0,null,null,null,null,null,null,null,null,0]
["2023-08-07",{"$f":"helligdagsnavn(A221,0,0)","v":""},null,null,"00:00:00",0,null,null,null,null,null,{"$f":"SUM(E221:E227)","v":0},{"$f":"SUM(L221)*24","v":0},null,0]
["2023-08-08",{"$f":"helligdagsnavn(A222,0,0)","v":""},null,null,"00:00:00",0,null,null,null,null,null,{"$f":"SUM(J221:J227)","v":0},{"$f":"SUM(J221:J227)*24","v":0},{"$f":"SUM(M222-M221)","v":0},0]
["2023-08-09",{"$f":"helligdagsnavn(A223,0,0)","v":""},null,null,"00:00:00",0,null,null,null,null,null,null,null,null,0]
["2023-08-10",{"$f":"helligdagsnavn(A224,0,0)","v":""},null,null,"00:00:00",0,null,null,null,null,null,null,null,null,0]
["2023-08-11",{"$f":"helligdagsnavn(A225,0,0)","v":""},null,null,"00:00:00",0,null,null,null,null,null,null,null,null,0]
["2023-08-12",{"$f":"helligdagsnavn(A226,0,0)","v":""},null,null,"00:00:00",0,null,null,null,null,null,null,null,null,0]
["2023-08-13",{"$f":"helligdagsnavn(A227,0,0)","v":""},null,null,"00:00:00",0,null,null,null,null,null,null,null,null,0]
["2023-08-14",{"$f":"helligdagsnavn(A228,0,0)","v":""},null,null,"00:00:00",0,null,null,null,null,null,{"$f":"SUM(E228:E234)","v":0},{"$f":"SUM(L228)*24","v":0},null,0]
["2023-08-15",{"$f":"helligdagsnavn(A229,0,0)","v":""},null,null,"00:00:00",0,null,null,null,null,null,{"$f":"SUM(J228:J234)","v":0},{"$f":"SUM(J228:J234)*24","v":0},{"$f":"SUM(M229-M228)","v":0},0]
["2023-08-16",{"$f":"helligdagsnavn(A230,0,0)","v":""},null,null,"00:00:00",0,null,null,null,null,null,null,null,null,0]
["2023-08-17",{"$f":"helligdagsnavn(A231,0,0)","v":""},null,null,"00:00:00",0,null,null,null,null,null,null,null,null,0]
["2023-08-18",{"$f":"helligdagsnavn(A232,0,0)","v":""},null,null,"00:00:00",0,null,null,null,null,null,null,null,null,0]
["2023-08-19",{"$f":"helligdagsnavn(A233,0,0)","v":""},null,null,"00:00:00",0,null,null,null,null,null,null,null,null,0]
["2023-08-20",{"$f":"helligdagsnavn(A234,0,0)","v":""},null,null,"00:00:00",0,null,null,null,null,null,null,null,null,0]
["2023-08-21",{"$f":"helligdagsnavn(A235,0,0)","v":""},null,null,"00:00:00",0,null,null,null,null,null,{"$f":"SUM(E235:E241)","v":0},{"$f":"SUM(L235)*24","v":0},null,0]
["2023-08-22",{"$f":"helligdagsnavn(A236,0,0)","v":""},null,null,"00:00:00",0,null,null,null,null,null,{"$f":"SUM(J235:J241)","v":0},{"$f":"SUM(J235:J241)*24","v":0},{"$f":"SUM(M236-M235)","v":0},0]
["2023-08-23",{"$f":"helligdagsnavn(A237,0,0)","v":""},null,null,"00:00:00",0,null,null,null,null,null,null,null,null,0]
["2023-08-24",{"$f":"helligdagsnavn(A238,0,0)","v":""},null,null,"00:00:00",0,null,null,null,null,null,null,null,null,0]
["2023-08-25",{"$f":"helligdagsnavn(A239,0,0)","v":""},null,null,"00:00:00",0,null,null,null,null,null,null,null,null,0]
["2023-08-26",{"$f":"helligdagsnavn(A240,0,0)","v":""},null,null,"00:00:00",0,null,null,null,null,null,null,null,null,0]
["2023-08-27",{"$f":"helligdagsnavn(A241,0,0)","v":""},null,null,"00:00:00",0,null,null,null,null,null,null,null,null,0]
["2023-08-28",{"$f":"helligdagsnavn(A242,0,0)","v":""},null,null,"00:00:00",0,null,null,null,null,null,{"$f":"SUM(E242:E248)","v":0},{"$f":"SUM(L242)*24","v":0},null,0]
["2023-08-29",{"$f":"helligdagsnavn(A243,0,0)","v":""},null,null,"00:00:00",0,null,null,null,null,null,{"$f":"SUM(J242:J248)","v":0},{"$f":"SUM(J242:J248)*24","v":0},{"$f":"SUM(M243-M242)","v":0},0]
["2023-08-30",{"$f":"helligdagsnavn(A244,0,0)","v":""},null,null,"00:00:00",0,null,null,null,null,null,null,null,null,0]
["2023-08-31",{"$f":"helligdagsnavn(A245,0,0)","v":""},null,null,"00:00:00",0,null,null,null,null,null,null,null,null,0]
["2023-09-01",{"$f":"helligdagsnavn(A246,0,0)","v":""},null,null,"00:00:00",0,null,null,null,null,null,null,null,null,0]
["2023-09-02",{"$f":"helligdagsnavn(A247,0,0)","v":""},null,null,"00:00:00",0,null,null,null,null,null,null,null,null,0]
["2023-09-03",{"$f":"helligdagsnavn(A248,0,0)","v":""},null,null,"00:00:00",0,null,null,null,null,null,null,null,null,0]
["2023-09-04",{"$f":"helligdagsnavn(A249,0,0)","v":""},null,null,"00:00:00",0,null,null,null,null,null,{"$f":"SUM(E249:E255)","v":0},{"$f":"SUM(L249)*24","v":0},null,0]
["2023-09-05",{"$f":"helligdagsnavn(A250,0,0)","v":""},null,null,"00:00:00",0,null,null,null,null,null,{"$f":"SUM(J249:J255)","v":0},{"$f":"SUM(J249:J255)*24","v":0},{"$f":"SUM(M250-M249)","v":0},0]
["2023-09-06",{"$f":"helligdagsnavn(A251,0,0)","v":""},null,null,"00:00:00",0,null,null,null,null,null,null,null,null,0]
["2023-09-07",{"$f":"helligdagsnavn(A252,0,0)","v":""},null,null,{"$f":"SUM(D252-C252)","v":"00:00:00"},0,null,null,null,null,null,null,null,null,0]
["2023-09-08",{"$f":"helligdagsnavn(A253,0,0)","v":""},null,null,"00:00:00",0,null,null,null,null,null,null,null,null,0]
["2023-09-09",{"$f":"helligdagsnavn(A254,0,0)","v":""},null,null,"00:00:00",0,null,null,null,null,null,null,null,null,0]
["2023-09-10",{"$f":"helligdagsnavn(A255,0,0)","v":""},null,null,"00:00:00",0,null,null,null,null,null,null,null,null,0]
["2023-09-11",{"$f":"helligdagsnavn(A256,0,0)","v":""},null,null,"00:00:00",0,null,null,null,null,null,{"$f":"SUM(E256:E262)","v":0},{"$f":"SUM(L256)*24","v":0},null,0]
["2023-09-12",{"$f":"helligdagsnavn(A257,0,0)","v":""},null,null,"00:00:00",0,null,null,null,null,null,{"$f":"SUM(J256:J262)","v":0},{"$f":"SUM(J256:J262)*24","v":0},{"$f":"SUM(M257-M256)","v":0},0]
["2023-09-13",{"$f":"helligdagsnavn(A258,0,0)","v":""},null,null,"00:00:00",0,null,null,null,null,null,null,null,null,0]
["2023-09-14",{"$f":"helligdagsnavn(A259,0,0)","v":""},null,null,"00:00:00",0,null,null,null,null,null,null,null,null,0]
["2023-09-15",{"$f":"helligdagsnavn(A260,0,0)","v":""},null,null,"00:00:00",0,null,null,null,null,null,null,null,null,0]
["2023-09-16",{"$f":"helligdagsnavn(A261,0,0)","v":""},null,null,"00:00:00",{"$f":"SUM(E261*24)","v":0},null,null,null,null,null,null,null,null,{"$f":"IF(G261=\"Afspadsering\",-F261,IF(K261=0,0,K261-F261))","v":0}]
["2023-09-17",{"$f":"helligdagsnavn(A262,0,0)","v":""},null,null,"00:00:00",0,null,null,null,null,null,null,null,null,0]
["2023-09-18",{"$f":"helligdagsnavn(A263,0,0)","v":""},null,null,"00:00:00",0,null,null,null,null,null,{"$f":"SUM(E263:E269)","v":0},{"$f":"SUM(L263)*24","v":0},null,0]
["2023-09-19",{"$f":"helligdagsnavn(A264,0,0)","v":""},null,null,"00:00:00",0,null,null,null,null,null,{"$f":"SUM(J263:J269)","v":0},{"$f":"SUM(J263:J269)*24","v":0},{"$f":"SUM(M264-M263)","v":0},0]
["2023-09-20",{"$f":"helligdagsnavn(A265,0,0)","v":""},null,null,"00:00:00",0,null,null,null,null,null,null,null,null,0]
["2023-09-21",{"$f":"helligdagsnavn(A266,0,0)","v":""},null,null,"00:00:00",0,null,null,null,null,null,null,null,null,0]
["2023-09-22",{"$f":"helligdagsnavn(A267,0,0)","v":""},null,null,"00:00:00",0,null,null,null,null,null,null,null,null,0]
["2023-09-23",{"$f":"helligdagsnavn(A268,0,0)","v":""},null,null,"00:00:00",0,null,null,null,null,null,null,null,null,0]
["2023-09-24",{"$f":"helligdagsnavn(A269,0,0)","v":""},null,null,"00:00:00",0,null,null,null,null,null,null,null,null,0]
["2023-09-25",{"$f":"helligdagsnavn(A270,0,0)","v":""},null,null,"00:00:00",0,null,null,null,null,null,{"$f":"SUM(E270:E276)","v":0},{"$f":"SUM(L270)*24","v":0},null,0]
["2023-09-26",{"$f":"helligdagsnavn(A271,0,0)","v":""},null,null,"00:00:00",0,null,null,null,null,null,{"$f":"SUM(J270:J276)","v":0},{"$f":"SUM(J270:J276)*24","v":0},{"$f":"SUM(M271-M270)","v":0},0]
["2023-09-27",{"$f":"helligdagsnavn(A272,0,0)","v":""},null,null,"00:00:00",0,null,null,null,null,null,null,null,null,0]
["2023-09-28",{"$f":"helligdagsnavn(A273,0,0)","v":""},null,null,"00:00:00",0,null,null,null,null,null,null,null,null,0]
["2023-09-29",{"$f":"helligdagsnavn(A274,0,0)","v":""},null,null,"00:00:00",0,null,null,null,null,null,null,null,null,0]
["2023-09-30",{"$f":"helligdagsnavn(A275,0,0)","v":""},null,null,"00:00:00",0,null,null,null,null,null,null,null,null,0]
["2023-10-01",{"$f":"helligdagsnavn(A276,0,0)","v":""},null,null,"00:00:00",0,null,null,null,null,null,null,null,null,0]
["2023-10-02",{"$f":"helligdagsnavn(A277,0,0)","v":""},null,null,"00:00:00",0,null,null,null,null,null,{"$f":"SUM(E277:E283)","v":0},{"$f":"SUM(L277)*24","v":0},null,0]
["2023-10-03",{"$f":"helligdagsnavn(A278,0,0)","v":""},null,null,"00:00:00",0,null,null,null,null,null,{"$f":"SUM(J277:J283)","v":0},{"$f":"SUM(J277:J283)*24","v":0},{"$f":"SUM(M278-M277)","v":0},0]
["2023-10-04",{"$f":"helligdagsnavn(A279,0,0)","v":""},null,null,"00:00:00",0,null,null,null,null,null,null,null,null,0]
["2023-10-05",{"$f":"helligdagsnavn(A280,0,0)","v":""},null,null,"00:00:00",0,null,null,null,null,null,null,null,null,0]
["2023-10-06",{"$f":"helligdagsnavn(A281,0,0)","v":""},null,null,"00:00:00",0,null,null,null,null,null,null,null,null,0]
["2023-10-07",{"$f":"helligdagsnavn(A282,0,0)","v":""},null,null,"00:00:00",0,null,null,null,null,null,null,null,null,0]
["2023-10-08",{"$f":"helligdagsnavn(A283,0,0)","v":""},null,null,"00:00:00",0,null,null,null,null,null,null,null,null,0]
["2023-10-09",{"$f":"helligdagsnavn(A284,0,0)","v":""},null,null,"00:00:00",0,null,null,null,null,null,{"$f":"SUM(E284:E290)","v":0},{"$f":"SUM(L284)*24","v":0},null,0]
["2023-10-10",{"$f":"helligdagsnavn(A285,0,0)","v":""},null,null,"00:00:00",0,null,null,null,null,null,{"$f":"SUM(J284:J290)","v":0},{"$f":"SUM(J284:J290)*24","v":0},{"$f":"SUM(M285-M284)","v":0},0]
["2023-10-11",{"$f":"helligdagsnavn(A286,0,0)","v":""},null,null,"00:00:00",0,null,null,null,null,null,null,null,null,0]
["2023-10-12",{"$f":"helligdagsnavn(A287,0,0)","v":""},null,null,"00:00:00",0,null,null,null,null,null,null,null,null,0]
["2023-10-13",{"$f":"helligdagsnavn(A288,0,0)","v":""},null,null,"00:00:00",0,null,null,null,null,null,null,null,null,0]
["2023-10-14",{"$f":"helligdagsnavn(A289,0,0)","v":""},null,null,"00:00:00",0,null,null,null,null,null,null,null,null,0]
["2023-10-15",{"$f":"helligdagsnavn(A290,0,0)","v":""},null,null,"00:00:00",0,null,null,null,null,null,null,null,null,0]
["2023-10-16",{"$f":"helligdagsnavn(A291,0,0)","v":""},null,null,"00:00:00",0,null,null,null,null,null,{"$f":"SUM(E291:E297)","v":0},{"$f":"SUM(L291)*24","v":0},null,0]
["2023-10-17",{"$f":"helligdagsnavn(A292,0,0)","v":""},null,null,"00:00:00",0,null,null,null,null,null,{"$f":"SUM(J291:J297)","v":0},{"$f":"SUM(J291:J297)*24","v":0},{"$f":"SUM(M292-M291)","v":0},0]
["2023-10-18",{"$f":"helligdagsnavn(A293,0,0)","v":""},null,null,"00:00:00",0,null,null,null,null,null,null,null,null,0]
["2023-10-19",{"$f":"helligdagsnavn(A294,0,0)","v":""},null,null,"00:00:00",0,null,null,null,null,null,null,null,null,0]
["2023-10-20",{"$f":"helligdagsnavn(A295,0,0)","v":""},null,null,"00:00:00",0,null,null,null,null,null,null,null,null,0]
["2023-10-21",{"$f":"helligdagsnavn(A296,0,0)","v":""},null,null,"00:00:00",0,null,null,null,null,null,null,null,null,0]
["2023-10-22",{"$f":"helligdagsnavn(A297,0,0)","v":""},null,null,"00:00:00",0,null,null,null,null,null,null,null,null,0]
["2023-10-23",{"$f":"helligdagsnavn(A298,0,0)","v":""},null,null,"00:00:00",0,null,null,null,null,null,{"$f":"SUM(E298:E304)","v":0},{"$f":"SUM(L298)*24","v":0},null,0]
["2023-10-24",{"$f":"helligdagsnavn(A299,0,0)","v":""},null,null,"00:00:00",0,null,null,null,null,null,{"$f":"SUM(J298:J304)","v":0},{"$f":"SUM(J298:J304)*24","v":0},{"$f":"SUM(M299-M298)","v":0},0]
["2023-10-25",{"$f":"helligdagsnavn(A300,0,0)","v":""},null,null,"00:00:00",0,null,null,null,null,null,null,null,null,0]
["2023-10-26",{"$f":"helligdagsnavn(A301,0,0)","v":""},null,null,"00:00:00",0,null,null,null,null,null,null,null,null,0]
["2023-10-27",{"$f":"helligdagsnavn(A302,0,0)","v":""},null,null,"00:00:00",0,null,null,null,null,null,null,null,null,0]
["2023-10-28",{"$f":"helligdagsnavn(A303,0,0)","v":""},null,null,"00:00:00",0,null,null,null,null,null,null,null,null,0]
["2023-10-29",{"$f":"helligdagsnavn(A304,0,0)","v":""},null,null,"00:00:00",0,null,null,null,null,null,null,null,null,0]
["2023-10-30",{"$f":"helligdagsnavn(A305,0,0)","v":""},null,null,"00:00:00",0,null,null,null,null,null,{"$f":"SUM(E305:E311)","v":0},{"$f":"SUM(L305)*24","v":0},null,0]
["2023-10-31",{"$f":"helligdagsnavn(A306,0,0)","v":""},null,null,"00:00:00",0,null,null,null,null,null,{"$f":"SUM(J305:J311)","v":0},{"$f":"SUM(J305:J311)*24","v":0},{"$f":"SUM(M306-M305)","v":0},0]
["2023-11-01",{"$f":"helligdagsnavn(A307,0,0)","v":""},null,null,"00:00:00",0,null,null,null,null,null,null,null,null,0]
["2023-11-02",{"$f":"helligdagsnavn(A308,0,0)","v":""},null,null,"00:00:00",0,null,null,null,null,null,null,null,null,0]
["2023-11-03",{"$f":"helligdagsnavn(A309,0,0)","v":""},null,null,"00:00:00",0,null,null,null,null,null,null,null,null,0]
["2023-11-04",{"$f":"helligdagsnavn(A310,0,0)","v":""},null,null,"00:00:00",0,null,null,null,null,null,null,null,null,0]
["2023-11-05",{"$f":"helligdagsnavn(A311,0,0)","v":""},null,null,"00:00:00",0,null,null,null,null,null,null,null,null,0]
["2023-11-06",{"$f":"helligdagsnavn(A312,0,0)","v":""},null,null,"00:00:00",0,null,null,null,null,null,{"$f":"SUM(E312:E318)","v":0},{"$f":"SUM(L312)*24","v":0},null,0]
["2023-11-07",{"$f":"helligdagsnavn(A313,0,0)","v":""},null,null,"00:00:00",0,null,null,null,null,null,{"$f":"SUM(J312:J318)","v":0},{"$f":"SUM(J312:J318)*24","v":0},{"$f":"SUM(M313-M312)","v":0},0]
["2023-11-08",{"$f":"helligdagsnavn(A314,0,0)","v":""},null,null,"00:00:00",0,null,null,null,null,null,null,null,null,0]
["2023-11-09",{"$f":"helligdagsnavn(A315,0,0)","v":""},null,null,"00:00:00",0,null,null,null,null,null,null,null,null,0]
["2023-11-10",{"$f":"helligdagsnavn(A316,0,0)","v":""},null,null,{"$f":"SUM(D316-C316)","v":"00:00:00"},0,null,null,null,null,null,null,null,null,0]
["2023-11-11",{"$f":"helligdagsnavn(A317,0,0)","v":""},null,null,"00:00:00",0,null,null,null,null,null,null,null,null,0]
["2023-11-12",{"$f":"helligdagsnavn(A318,0,0)","v":""},null,null,"00:00:00",0,null,null,null,null,null,null,null,null,0]
["2023-11-13",{"$f":"helligdagsnavn(A319,0,0)","v":""},null,null,"00:00:00",0,null,null,null,null,null,{"$f":"SUM(E319:E325)","v":0},{"$f":"SUM(L319)*24","v":0},null,0]
["2023-11-14",{"$f":"helligdagsnavn(A320,0,0)","v":""},null,null,"00:00:00",0,null,null,null,null,null,{"$f":"SUM(J319:J325)","v":0},{"$f":"SUM(J319:J325)*24","v":0},{"$f":"SUM(M320-M319)","v":0},0]
["2023-11-15",{"$f":"helligdagsnavn(A321,0,0)","v":""},null,null,"00:00:00",0,null,null,null,null,null,null,null,null,0]
["2023-11-16",{"$f":"helligdagsnavn(A322,0,0)","v":""},null,null,"00:00:00",0,null,null,null,null,null,null,null,null,0]
["2023-11-17",{"$f":"helligdagsnavn(A323,0,0)","v":""},null,null,"00:00:00",0,null,null,null,null,null,null,null,null,0]
["2023-11-18",{"$f":"helligdagsnavn(A324,0,0)","v":""},null,null,"00:00:00",0,null,null,null,null,null,null,null,null,0]
["2023-11-19",{"$f":"helligdagsnavn(A325,0,0)","v":""},null,null,"00:00:00",{"$f":"SUM(E325*24)","v":0},null,null,null,null,null,null,null,null,{"$f":"IF(G325=\"Afspadsering\",-F325,IF(K325=0,0,K325-F325))","v":0}]
["2023-11-20",{"$f":"helligdagsnavn(A326,0,0)","v":""},null,null,"00:00:00",0,null,null,null,null,null,{"$f":"SUM(E326:E332)","v":0},{"$f":"SUM(L326)*24","v":0},null,0]
["2023-11-21",{"$f":"helligdagsnavn(A327,0,0)","v":""},null,null,"00:00:00",0,null,null,null,null,null,{"$f":"SUM(J326:J332)","v":0},{"$f":"SUM(J326:J332)*24","v":0},{"$f":"SUM(M327-M326)","v":0},0]
["2023-11-22",{"$f":"helligdagsnavn(A328,0,0)","v":""},null,null,"00:00:00",0,null,null,null,null,null,null,null,null,0]
["2023-11-23",{"$f":"helligdagsnavn(A329,0,0)","v":""},null,null,"00:00:00",0,null,null,null,null,null,null,null,null,0]
["2023-11-24",{"$f":"helligdagsnavn(A330,0,0)","v":""},null,null,"00:00:00",0,null,null,null,null,null,null,null,null,0]
["2023-11-25",{"$f":"helligdagsnavn(A331,0,0)","v":""},null,null,"00:00:00",0,null,null,null,null,null,null,null,null,0]
["2023-11-26",{"$f":"helligdagsnavn(A332,0,0)","v":""},null,null,"00:00:00",0,null,null,null,null,null,null,null,null,0]
["2023-11-27",{"$f":"helligdagsnavn(A333,0,0)","v":""},null,null,"00:00:00",0,null,null,null,null,null,{"$f":"SUM(E333:E339)","v":0},{"$f":"SUM(L333)*24","v":0},null,0]
["2023-11-28",{"$f":"helligdagsnavn(A334,0,0)","v":""},null,null,"00:00:00",0,null,null,null,null,null,{"$f":"SUM(J333:J339)","v":0},{"$f":"SUM(J333:J339)*24","v":0},{"$f":"SUM(M334-M333)","v":0},0]
["2023-11-29",{"$f":"helligdagsnavn(A335,0,0)","v":""},null,null,"00:00:00",0,null,null,null,null,null,null,null,null,0]
["2023-11-30",{"$f":"helligdagsnavn(A336,0,0)","v":""},null,null,"00:00:00",0,null,null,null,null,null,null,null,null,0]
["2023-12-01",{"$f":"helligdagsnavn(A337,0,0)","v":""},null,null,"00:00:00",0,null,null,null,null,null,null,null,null,0]
["2023-12-02",{"$f":"helligdagsnavn(A338,0,0)","v":""},null,null,"00:00:00",0,null,null,null,null,null,null,null,null,0]
["2023-12-03",{"$f":"helligdagsnavn(A339,0,0)","v":""},null,null,"00:00:00",0,null,null,null,null,null,null,null,null,0]
["2023-12-04",{"$f":"helligdagsnavn(A340,0,0)","v":""},null,null,"00:00:00",0,null,null,null,null,null,{"$f":"SUM(E340:E346)","v":0},{"$f":"SUM(L340)*24","v":0},null,0]
["2023-12-05",{"$f":"helligdagsnavn(A341,0,0)","v":""},null,null,"00:00:00",0,null,null,null,null,null,{"$f":"SUM(J340:J346)","v":0},{"$f":"SUM(J340:J346)*24","v":0},{"$f":"SUM(M341-M340)","v":0},0]
["2023-12-06",{"$f":"helligdagsnavn(A342,0,0)","v":""},null,null,"00:00:00",0,null,null,null,null,null,null,null,null,0]
["2023-12-07",{"$f":"helligdagsnavn(A343,0,0)","v":""},null,null,"00:00:00",0,null,null,null,null,null,null,null,null,0]
["2023-12-08",{"$f":"helligdagsnavn(A344,0,0)","v":""},null,null,"00:00:00",0,null,null,null,null,null,null,null,null,0]
["2023-12-09",{"$f":"helligdagsnavn(A345,0,0)","v":""},null,null,"00:00:00",0,null,null,null,null,null,null,null,null,0]
["2023-12-10",{"$f":"helligdagsnavn(A346,0,0)","v":""},null,null,"00:00:00",0,null,null,null,null,null,null,null,null,0]
["2023-12-11",{"$f":"helligdagsnavn(A347,0,0)","v":""},null,null,"00:00:00",0,null,null,null,null,null,{"$f":"SUM(E347:E353)","v":0},{"$f":"SUM(L347)*24","v":0},null,0]
["2023-12-12",{"$f":"helligdagsnavn(A348,0,0)","v":""},null,null,"00:00:00",0,null,null,null,null,null,{"$f":"SUM(J347:J353)","v":0},{"$f":"SUM(J347:J353)*24","v":0},{"$f":"SUM(M348-M347)","v":0},0]
["2023-12-13",{"$f":"helligdagsnavn(A349,0,0)","v":""},null,null,"00:00:00",0,null,null,null,null,null,null,null,null,0]
["2023-12-14",{"$f":"helligdagsnavn(A350,0,0)","v":""},null,null,"00:00:00",0,null,null,null,null,null,null,null,null,0]
["2023-12-15",{"$f":"helligdagsnavn(A351,0,0)","v":""},null,null,"00:00:00",0,null,null,null,null,null,null,null,null,0]
["2023-12-16",{"$f":"helligdagsnavn(A352,0,0)","v":""},null,null,"00:00:00",0,null,null,null,null,null,null,null,null,0]
["2023-12-17",{"$f":"helligdagsnavn(A353,0,0)","v":""},null,null,"00:00:00",0,null,null,null,null,null,null,null,null,0]
["2023-12-18",{"$f":"helligdagsnavn(A354,0,0)","v":""},null,null,"00:00:00",0,null,null,null,null,null,{"$f":"SUM(E354:E360)","v":0},{"$f":"SUM(L354)*24","v":0},null,0]
["2023-12-19",{"$f":"helligdagsnavn(A355,0,0)","v":""},null,null,"00:00:00",0,null,null,null,null,null,{"$f":"SUM(J354:J360)","v":0},{"$f":"SUM(J354:J360)*24","v":0},{"$f":"SUM(M355-M354)","v":0},0]
["2023-12-20",{"$f":"helligdagsnavn(A356,0,0)","v":""},null,null,"00:00:00",0,null,null,null,null,null,null,null,null,0]
["2023-12-21",{"$f":"helligdagsnavn(A357,0,0)","v":""},null,null,"00:00:00",0,null,null,null,null,null,null,null,null,0]
["2023-12-22",{"$f":"helligdagsnavn(A358,0,0)","v":""},null,null,"00:00:00",0,null,null,null,null,null,null,null,null,0]
["2023-12-23",{"$f":"helligdagsnavn(A359,0,0)","v":""},null,null,"00:00:00",0,null,null,null,null,null,null,null,null,0]
["2023-12-24",{"$f":"helligdagsnavn(A360,0,0)","v":"Julaftensdag"},null,null,"00:00:00",0,"JULE AFTEN",null,null,null,null,null,null,null,0]
["2023-12-25",{"$f":"helligdagsnavn(A361,0,0)","v":"1. Juledag"},null,null,"00:00:00",0,"JULEDAG",null,null,null,null,{"$f":"SUM(E361:E367)","v":0},{"$f":"SUM(L361)*24","v":0},null,0]
["2023-12-26",{"$f":"helligdagsnavn(A362,0,0)","v":"2. Juledag"},null,null,"00:00:00",0,"2.JULEDAG",null,null,null,null,{"$f":"SUM(J361:J367)","v":0},{"$f":"SUM(J361:J367)*24","v":0},{"$f":"SUM(M362-M361)","v":0},0]
["2023-12-27",{"$f":"helligdagsnavn(A363,0,0)","v":""},null,null,"00:00:00",0,null,null,null,null,null,null,null,null,0]
["2023-12-28",{"$f":"helligdagsnavn(A364,0,0)","v":""},null,null,"00:00:00",0,null,null,null,null,null,null,null,null,0]
["2023-12-29",{"$f":"helligdagsnavn(A365,0,0)","v":""},null,null,"00:00:00",0,null,null,null,null,null,null,null,null,0]
["2023-12-30",{"$f":"helligdagsnavn(A366,0,0)","v":""},null,null,"00:00:00",0,null,null,null,null,null,null,null,null,0]
["2023-12-31",{"$f":"helligdagsnavn(A367,0,0)","v":"Nytårsaftensdag"},null,null,"00:00:00",0,"NYTÅRS AFTEN",null,null,null,null,null,null,null,0]
[null,null,null,null,"00:00:00",0,null,null,null,null,null,null,null,null,0]
[null,null,null,null,"00:00:00",0,null,null,null,null,null,null,null,null,0]
[null,null,null,null,"00:00:00",0,null,null,null,null,null,null,null,null,0]
[null,null,null,null,"00:00:00",0,null,null,null,null,null,null,null,null,0]
[null,null,null,null,"00:00:00",0,null,null,null,null,null,null,null,null,0]
[null,null,null,null,"00:00:00",0,null,null,null,null,null,null,null,null,0]
[null,null,null,null,"00:00:00",0,null,null,null,null,null,null,null,null,0]
[null,null,null,null,"00:00:00",0,null,null,null,null,null,null,null,null,0]
[null,null,null,null,"00:00:00",0,null,null,null,null,null,null,null,null,0]
[null,null,null,null,"00:00:00",0,null,null,null,null,null,null,null,null,0]
[null,null,null,null,"00:00:00",0,null,null,null,null,null,null,null,null,0]
[null,null,null,null,"00:00:00",0,null,null,null,null,null,null,null,null,0]
[null,null,null,null,{"$f":"SUM(D380-C380)","v":"00:00:00"},0,null,null,null,null,null,null,null,null,0]
[null,null,null,null,"00:00:00",0,null,null,null,null,null,null,null,null,0]
[null,null,null,null,"00:00:00",0,null,null,null,null,null,null,null,null,0]
[null,null,null,null,"00:00:00",0,null,null,null,null,null,null,null,null,0]
[null,null,null,null,"00:00:00",0,null,null,null,null,null,null,null,null,0]
[null,null,null,null,"00:00:00",0,null,null,null,null,null,null,null,null,0]
[null,null,null,null,"00:00:00",0,null,null,null,null,null,null,null,null,0]
[null,null,null,null,"00:00:00",0,null,null,null,null,null,null,null,null,0]
[null,null,null,null,"00:00:00",0,null,null,null,null,null,null,null,null,0]
[null,null,null,null,"00:00:00",{"$f":"SUM(E389*24)","v":0},null,null,null,null,null,null,null,null,{"$f":"IF(G389=\"Afspadsering\",-F389,IF(K389=0,0,K389-F389))","v":0}]
[null,null,null,null,"00:00:00",0,null,null,null,null,null,null,null,null,0]
[null,null,null,null,"00:00:00",0,null,null,null,null,null,null,null,null,0]
[null,null,null,null,"00:00:00",0,null,null,null,null,null,null,null,null,0]
[null,null,null,null,"00:00:00",0,null,null,null,null,null,null,null,null,0]
[null,null,null,null,"00:00:00",0,null,null,null,null,null,null,null,null,0]
[null,null,null,null,"00:00:00",0,null,null,null,null,null,null,null,null,0]
[null,null,null,null,"00:00:00",0,null,null,null,null,null,null,null,null,0]
[null,null,null,null,"00:00:00",0,null,null,null,null,null,null,null,null,0]
[null,null,null,null,"00:00:00",0,null,null,null,null,null,null,null,null,0]

{"sheet":"måndes regskab","index":1,"n_rows":5,"n_cols":15,"rows_kept":5,"cut":false,"hidden":false,"merged":[]}
[null,"Jan","Feb","Mar","Apr","Maj","Jun","Jul","Aug","Sep","Okt","Nov","Dec"]
["Planlagt timer",{"$f":"SUM('stempel tider'!F4:F33)","v":163},{"$f":"SUM('stempel tider'!F34:F61)","v":136},{"$f":"SUM('stempel tider'!F62:F92)","v":172},{"$f":"SUM('stempel tider'!F93:F122)","v":109.75},{"$f":"SUM('stempel tider'!F123:F153)","v":148},{"$f":"SUM('stempel tider'!F154:F183)","v":130.25}]
["Afholdt timer ",{"$f":"SUM('stempel tider'!K4:K33)","v":171.1},{"$f":"SUM('stempel tider'!K34:K61)","v":138.98333333333332},{"$f":"SUM('stempel tider'!K62:K92)","v":22.200000000000003},{"$f":"SUM('stempel tider'!K93:K122)","v":0},{"$f":"SUM('stempel tider'!K123:K153)","v":0},{"$f":"SUM('stempel tider'!K154:K183)","v":0},null,null,null,null,null,null,null,{"$f":"SUM(B3:N3)","v":332.2833333333333}]
[]
["over / underskud",{"$f":"SUM(B3-B2)","v":8.0999999999999943},2.9833333333333201,-149.80000000000001,-109.75,-148,-130.25]

{"sheet":"T","index":2,"n_rows":15,"n_cols":1,"rows_kept":15,"cut":false,"hidden":false,"merged":[]}
["AFSPADSERING"]
["FERIE"]
["SYG"]
[]
["SKÆRTORSDAG"]
["LANGFREDAG"]
["2.PÅSKEDAG"]
["ST.BEDEDAG"]
["KRISTI HIMMEL"]
["2.PINSEDAG"]
["JULE AFTEN"]
["JULEDAG"]
["2.JULEDAG"]
["NYTÅRS AFTEN"]
["1.NYTÅRSDAG"]

{"sheet":"Ark1","index":3,"n_rows":0,"n_cols":0,"rows_kept":0,"cut":false,"hidden":false,"merged":[]}