{"text_format":"1","workbook":"xlsx","n_sheets":10,"sheets":["Leaderboard","Race 1","Race 2","Race 3","Race 4","Race 5","Race 6","Race 7","Race 8","Teams"],"not_rendered":{"charts":0,"images":2,"macros":1,"external_links":0,"defined_names":0,"comments":0,"pivot_tables":0},"unopened":[],"bounds":{"document_bytes":16777216,"sheet_cells":100000,"rows_first":2000,"rows_last":500,"rows_between":2000,"halvings":0,"cell_chars":16384,"cell_head_chars":4096},"cells_cut":0,"cells_raw":0,"read":"whole","date_system":"1900"}

{"sheet":"Leaderboard","index":0,"n_rows":38,"n_cols":32,"rows_kept":38,"cut":false,"hidden":false,"merged":[[1,6,2,15],[3,7,4,7],[3,8,4,8],[3,9,4,9],[3,10,4,10],[3,11,4,11],[3,12,4,12],[1,1,2,4],[3,1,4,2],[3,3,4,4],[5,1,6,2],[5,3,6,4],[3,13,4,13],[3,14,4,14],[3,15,4,15],[7,1,8,4],[3,16,4,16],[3,6,4,6]]}
[]
[null,"SEND-IT ESPORT RACING",null,null,null,null,"Driver Championship"]
[]
[null,"Homepage",null,"Race kontrol",null,null,"Pos","Driver                  ","Race      #1","Race      #2","Race      #3","Race      #4","Race      #5","Race      #6","Race      #7","Race      #8","Total:"]
[]
[null,"Rules",null,null,null,null,1,"Mig selv",{"$f":"IFERROR(VLOOKUP(H6,'Race 1'!$C$11:$E$43,3,0),\"\")","v":18},{"$f":"IFERROR(VLOOKUP(H6,'Race 2'!$C$11:$E$43,3,0),\"\")","v":26},{"$f":"IFERROR(VLOOKUP(H6,'Race 3'!$C$11:$E$43,3,0),\"\")","v":""},{"$f":"IFERROR(VLOOKUP(H6,'Race 4'!$C$11:$E$43,3,0),\"\")","v":38},{"$f":"IFERROR(VLOOKUP(H6,'Race 5'!$C$11:$E$43,3,0),\"\")","v":""},{"$f":"IFERROR(VLOOKUP(H6,'Race 6'!$C$11:$E$43,3,0),\"\")","v":40},{"$f":"IFERROR(VLOOKUP(H6,'Race 7'!$C$11:$E$43,3,0),\"\")","v":40},{"$f":"IFERROR(VLOOKUP(H6,'Race 8'!$C$11:$E$43,3,0),\"\")","v":40},{"$f":"SUM(I6:P6)","v":202},null,null,null,null,null,null,"Name","#1","#2","#3","#4","#5","#6","#7","#8"]
[null,null,null,null,null,null,2,"Katy",{"$f":"VLOOKUP(H7,'Race 1'!$C$11:$E$43,3,0)","v":32},{"$f":"IFERROR(VLOOKUP(H7,'Race 2'!$C$11:$E$43,3,0),\"\")","v":28},{"$f":"IFERROR(VLOOKUP(H7,'Race 3'!$C$11:$E$43,3,0),\"\")","v":""},{"$f":"IFERROR(VLOOKUP(H7,'Race 4'!$C$11:$E$43,3,0),\"\")","v":40},{"$f":"IFERROR(VLOOKUP(H7,'Race 5'!$C$11:$E$43,3,0),\"\")","v":""},{"$f":"IFERROR(VLOOKUP(H7,'Race 6'!$C$11:$E$43,3,0),\"\")","v":""},{"$f":"IFERROR(VLOOKUP(H7,'Race 7'!$C$11:$E$43,3,0),\"\")","v":""},{"$f":"IFERROR(VLOOKUP(H7,'Race 8'!$C$11:$E$43,3,0),\"\")","v":""},{"$f":"SUM(I7:P7)","v":100},null,null,null,null,null,null,"Jesper",4]
[null,"Race Calender",null,null,null,null,3,"Meg",{"$f":"VLOOKUP(H8,'Race 1'!$C$11:$E$43,3,0)","v":34},{"$f":"IFERROR(VLOOKUP(H8,'Race 2'!$C$11:$E$43,3,0),\"\")","v":40},{"$f":"IFERROR(VLOOKUP(H8,'Race 3'!$C$11:$E$43,3,0),\"\")","v":""},{"$f":"IFERROR(VLOOKUP(H8,'Race 4'!$C$11:$E$43,3,0),\"\")","v":""},{"$f":"IFERROR(VLOOKUP(H8,'Race 5'!$C$11:$E$43,3,0),\"\")","v":""},{"$f":"IFERROR(VLOOKUP(H8,'Race 6'!$C$11:$E$43,3,0),\"\")","v":""},{"$f":"IFERROR(VLOOKUP(H8,'Race 7'!$C$11:$E$43,3,0),\"\")","v":""},{"$f":"IFERROR(VLOOKUP(H8,'Race 8'!$C$11:$E$43,3,0),\"\")","v":""},{"$f":"SUM(I8:P8)","v":74},null,null,null,null,null,null,"Jennifer",2]
[null,null,null,null,null,null,4,"Laura",{"$f":"VLOOKUP(H9,'Race 1'!$C$11:$E$43,3,0)","v":36},{"$f":"IFERROR(VLOOKUP(H9,'Race 2'!$C$11:$E$43,3,0),\"\")","v":30},{"$f":"IFERROR(VLOOKUP(H9,'Race 3'!$C$11:$E$43,3,0),\"\")","v":""},{"$f":"IFERROR(VLOOKUP(H9,'Race 4'!$C$11:$E$43,3,0),\"\")","v":""},{"$f":"IFERROR(VLOOKUP(H9,'Race 5'!$C$11:$E$43,3,0),\"\")","v":""},{"$f":"IFERROR(VLOOKUP(H9,'Race 6'!$C$11:$E$43,3,0),\"\")","v":""},{"$f":"IFERROR(VLOOKUP(H9,'Race 7'!$C$11:$E$43,3,0),\"\")","v":""},{"$f":"IFERROR(VLOOKUP(H9,'Race 8'!$C$11:$E$43,3,0),\"\")","v":""},{"$f":"SUM(I9:P9)","v":66},null,null,null,null,null,null,"Laura",8]
[null,"Date","Track","Lenght","Ingame time",null,5,"Isabella",{"$f":"VLOOKUP(H10,'Race 1'!$C$11:$E$43,3,0)","v":26},{"$f":"IFERROR(VLOOKUP(H10,'Race 2'!$C$11:$E$43,3,0),\"\")","v":38},{"$f":"IFERROR(VLOOKUP(H10,'Race 3'!$C$11:$E$43,3,0),\"\")","v":""},{"$f":"IFERROR(VLOOKUP(H10,'Race 4'!$C$11:$E$43,3,0),\"\")","v":""},{"$f":"IFERROR(VLOOKUP(H10,'Race 5'!$C$11:$E$43,3,0),\"\")","v":""},{"$f":"IFERROR(VLOOKUP(H10,'Race 6'!$C$11:$E$43,3,0),\"\")","v":""},{"$f":"IFERROR(VLOOKUP(H10,'Race 7'!$C$11:$E$43,3,0),\"\")","v":""},{"$f":"IFERROR(VLOOKUP(H10,'Race 8'!$C$11:$E$43,3,0),\"\")","v":""},{"$f":"SUM(I10:P10)","v":64},null,null,null,null,null,null,"Meg",6]
[null,null,null,null,null,null,6,"Emily",{"$f":"IFERROR(VLOOKUP(H11,'Race 1'!$C$11:$E$43,3,0),\"\")","v":22},{"$f":"IFERROR(VLOOKUP(H11,'Race 2'!$C$11:$E$43,3,0),\"\")","v":36},{"$f":"IFERROR(VLOOKUP(H11,'Race 3'!$C$11:$E$43,3,0),\"\")","v":""},{"$f":"IFERROR(VLOOKUP(H11,'Race 4'!$C$11:$E$43,3,0),\"\")","v":""},{"$f":"IFERROR(VLOOKUP(H11,'Race 5'!$C$11:$E$43,3,0),\"\")","v":""},{"$f":"IFERROR(VLOOKUP(H11,'Race 6'!$C$11:$E$43,3,0),\"\")","v":""},{"$f":"IFERROR(VLOOKUP(H11,'Race 7'!$C$11:$E$43,3,0),\"\")","v":""},{"$f":"IFERROR(VLOOKUP(H11,'Race 8'!$C$11:$E$43,3,0),\"\")","v":""},{"$f":"SUM(I11:P11)","v":58},null,null,null,null,null,null,"Katy",10]
[null,null,null,null,null,null,7,"Olivia",{"$f":"VLOOKUP(H12,'Race 1'!$C$11:$E$43,3,0)","v":24},{"$f":"IFERROR(VLOOKUP(H12,'Race 2'!$C$11:$E$43,3,0),\"\")","v":32},{"$f":"IFERROR(VLOOKUP(H12,'Race 3'!$C$11:$E$43,3,0),\"\")","v":""},{"$f":"IFERROR(VLOOKUP(H12,'Race 4'!$C$11:$E$43,3,0),\"\")","v":""},{"$f":"IFERROR(VLOOKUP(H12,'Race 5'!$C$11:$E$43,3,0),\"\")","v":""},{"$f":"IFERROR(VLOOKUP(H12,'Race 6'!$C$11:$E$43,3,0),\"\")","v":""},{"$f":"IFERROR(VLOOKUP(H12,'Race 7'!$C$11:$E$43,3,0),\"\")","v":""},{"$f":"IFERROR(VLOOKUP(H12,'Race 8'!$C$11:$E$43,3,0),\"\")","v":""},{"$f":"SUM(I12:P12)","v":56},null,null,null,null,null,null,"Emma",2]
[null,null,null,null,null,null,8,"Mia",{"$f":"VLOOKUP(H13,'Race 1'!$C$11:$E$43,3,0)","v":20},{"$f":"IFERROR(VLOOKUP(H13,'Race 2'!$C$11:$E$43,3,0),\"\")","v":34},{"$f":"IFERROR(VLOOKUP(H13,'Race 3'!$C$11:$E$43,3,0),\"\")","v":""},{"$f":"IFERROR(VLOOKUP(H13,'Race 4'!$C$11:$E$43,3,0),\"\")","v":""},{"$f":"IFERROR(VLOOKUP(H13,'Race 5'!$C$11:$E$43,3,0),\"\")","v":""},{"$f":"IFERROR(VLOOKUP(H13,'Race 6'!$C$11:$E$43,3,0),\"\")","v":""},{"$f":"IFERROR(VLOOKUP(H13,'Race 7'!$C$11:$E$43,3,0),\"\")","v":""},{"$f":"IFERROR(VLOOKUP(H13,'Race 8'!$C$11:$E$43,3,0),\"\")","v":""},{"$f":"SUM(I13:P13)","v":54},null,null,null,null,null,null,"Sophia"]
[null,null,null,null,null,null,9,{"$f":"'Race 1'!C11","v":"Jesper"},{"$f":"VLOOKUP(H14,'Race 1'!$C$11:$E$43,3,0)","v":40},{"$f":"IFERROR(VLOOKUP(H14,'Race 2'!$C$11:$E$43,3,0),\"\")","v":""},{"$f":"IFERROR(VLOOKUP(H14,'Race 3'!$C$11:$E$43,3,0),\"\")","v":""},{"$f":"IFERROR(VLOOKUP(H14,'Race 4'!$C$11:$E$43,3,0),\"\")","v":""},{"$f":"IFERROR(VLOOKUP(H14,'Race 5'!$C$11:$E$43,3,0),\"\")","v":""},{"$f":"IFERROR(VLOOKUP(H14,'Race 6'!$C$11:$E$43,3,0),\"\")","v":""},{"$f":"IFERROR(VLOOKUP(H14,'Race 7'!$C$11:$E$43,3,0),\"\")","v":""},{"$f":"IFERROR(VLOOKUP(H14,'Race 8'!$C$11:$E$43,3,0),\"\")","v":""},{"$f":"SUM(I14:P14)","v":40},null,null,null,null,null,null,"Isabella",5]
[null,null,null,null,null,null,10,{"$f":"'Race 1'!C12","v":"Jennifer"},{"$f":"VLOOKUP(H15,'Race 1'!$C$11:$E$43,3,0)","v":38},{"$f":"IFERROR(VLOOKUP(H15,'Race 2'!$C$11:$E$43,3,0),\"\")","v":""},{"$f":"IFERROR(VLOOKUP(H15,'Race 3'!$C$11:$E$43,3,0),\"\")","v":""},{"$f":"IFERROR(VLOOKUP(H15,'Race 4'!$C$11:$E$43,3,0),\"\")","v":""},{"$f":"IFERROR(VLOOKUP(H15,'Race 5'!$C$11:$E$43,3,0),\"\")","v":""},{"$f":"IFERROR(VLOOKUP(H15,'Race 6'!$C$11:$E$43,3,0),\"\")","v":""},{"$f":"IFERROR(VLOOKUP(H15,'Race 7'!$C$11:$E$43,3,0),\"\")","v":""},{"$f":"IFERROR(VLOOKUP(H15,'Race 8'!$C$11:$E$43,3,0),\"\")","v":""},{"$f":"SUM(I15:P15)","v":38},null,null,null,null,null,null,"Olivia"]
[null,null,null,null,null,null,11,"Emma",{"$f":"IFERROR(VLOOKUP(H16,'Race 1'!$C$11:$E$43,3,0),\"\")","v":30},{"$f":"IFERROR(VLOOKUP(H16,'Race 2'!$C$11:$E$43,3,0),\"\")","v":""},{"$f":"IFERROR(VLOOKUP(H16,'Race 3'!$C$11:$E$43,3,0),\"\")","v":""},{"$f":"IFERROR(VLOOKUP(H16,'Race 4'!$C$11:$E$43,3,0),\"\")","v":""},{"$f":"IFERROR(VLOOKUP(H16,'Race 5'!$C$11:$E$43,3,0),\"\")","v":""},{"$f":"IFERROR(VLOOKUP(H16,'Race 6'!$C$11:$E$43,3,0),\"\")","v":""},{"$f":"IFERROR(VLOOKUP(H16,'Race 7'!$C$11:$E$43,3,0),\"\")","v":""},{"$f":"IFERROR(VLOOKUP(H16,'Race 8'!$C$11:$E$43,3,0),\"\")","v":""},{"$f":"SUM(I16:P16)","v":30},null,null,null,null,null,null,"Emily"]
[null,null,null,null,null,null,12,null,{"$f":"IFERROR(VLOOKUP(H17,'Race 1'!$C$11:$E$43,3,0),\"\")","v":""},{"$f":"IFERROR(VLOOKUP(H17,'Race 2'!$C$11:$E$43,3,0),\"\")","v":""},{"$f":"IFERROR(VLOOKUP(H17,'Race 3'!$C$11:$E$43,3,0),\"\")","v":""},{"$f":"IFERROR(VLOOKUP(H17,'Race 4'!$C$11:$E$43,3,0),\"\")","v":""},{"$f":"IFERROR(VLOOKUP(H17,'Race 5'!$C$11:$E$43,3,0),\"\")","v":""},{"$f":"IFERROR(VLOOKUP(H17,'Race 6'!$C$11:$E$43,3,0),\"\")","v":""},{"$f":"IFERROR(VLOOKUP(H17,'Race 7'!$C$11:$E$43,3,0),\"\")","v":""},{"$f":"IFERROR(VLOOKUP(H17,'Race 8'!$C$11:$E$43,3,0),\"\")","v":""},{"$f":"SUM(I17:P17)","v":0},null,null,null,null,null,null,"Mia"]
[null,null,null,null,null,null,13,null,{"$f":"IFERROR(VLOOKUP(H18,'Race 1'!$C$11:$E$43,3,0),\"\")","v":""},{"$f":"IFERROR(VLOOKUP(H18,'Race 2'!$C$11:$E$43,3,0),\"\")","v":""},{"$f":"IFERROR(VLOOKUP(H18,'Race 3'!$C$11:$E$43,3,0),\"\")","v":""},{"$f":"IFERROR(VLOOKUP(H18,'Race 4'!$C$11:$E$43,3,0),\"\")","v":""},{"$f":"IFERROR(VLOOKUP(H18,'Race 5'!$C$11:$E$43,3,0),\"\")","v":""},{"$f":"IFERROR(VLOOKUP(H18,'Race 6'!$C$11:$E$43,3,0),\"\")","v":""},{"$f":"IFERROR(VLOOKUP(H18,'Race 7'!$C$11:$E$43,3,0),\"\")","v":""},{"$f":"IFERROR(VLOOKUP(H18,'Race 8'!$C$11:$E$43,3,0),\"\")","v":""},{"$f":"SUM(I18:P18)","v":0}]
[null,null,null,null,null,null,14,null,{"$f":"IFERROR(VLOOKUP(H19,'Race 1'!$C$11:$E$43,3,0),\"\")","v":""},{"$f":"IFERROR(VLOOKUP(H19,'Race 2'!$C$11:$E$43,3,0),\"\")","v":""},{"$f":"IFERROR(VLOOKUP(H19,'Race 3'!$C$11:$E$43,3,0),\"\")","v":""},{"$f":"IFERROR(VLOOKUP(H19,'Race 4'!$C$11:$E$43,3,0),\"\")","v":""},{"$f":"IFERROR(VLOOKUP(H19,'Race 5'!$C$11:$E$43,3,0),\"\")","v":""},{"$f":"IFERROR(VLOOKUP(H19,'Race 6'!$C$11:$E$43,3,0),\"\")","v":""},{"$f":"IFERROR(VLOOKUP(H19,'Race 7'!$C$11:$E$43,3,0),\"\")","v":""},{"$f":"IFERROR(VLOOKUP(H19,'Race 8'!$C$11:$E$43,3,0),\"\")","v":""},{"$f":"SUM(I19:P19)","v":0}]
[null,null,null,null,null,null,15,null,{"$f":"IFERROR(VLOOKUP(H20,'Race 1'!$C$11:$E$43,3,0),\"\")","v":""},{"$f":"IFERROR(VLOOKUP(H20,'Race 2'!$C$11:$E$43,3,0),\"\")","v":""},{"$f":"IFERROR(VLOOKUP(H20,'Race 3'!$C$11:$E$43,3,0),\"\")","v":""},{"$f":"IFERROR(VLOOKUP(H20,'Race 4'!$C$11:$E$43,3,0),\"\")","v":""},{"$f":"IFERROR(VLOOKUP(H20,'Race 5'!$C$11:$E$43,3,0),\"\")","v":""},{"$f":"IFERROR(VLOOKUP(H20,'Race 6'!$C$11:$E$43,3,0),\"\")","v":""},{"$f":"IFERROR(VLOOKUP(H20,'Race 7'!$C$11:$E$43,3,0),\"\")","v":""},{"$f":"IFERROR(VLOOKUP(H20,'Race 8'!$C$11:$E$43,3,0),\"\")","v":""},{"$f":"SUM(I20:P20)","v":0}]
[null,null,null,null,null,null,16,null,{"$f":"IFERROR(VLOOKUP(H21,'Race 1'!$C$11:$E$43,3,0),\"\")","v":""},{"$f":"IFERROR(VLOOKUP(H21,'Race 2'!$C$11:$E$43,3,0),\"\")","v":""},{"$f":"IFERROR(VLOOKUP(H21,'Race 3'!$C$11:$E$43,3,0),\"\")","v":""},{"$f":"IFERROR(VLOOKUP(H21,'Race 4'!$C$11:$E$43,3,0),\"\")","v":""},{"$f":"IFERROR(VLOOKUP(H21,'Race 5'!$C$11:$E$43,3,0),\"\")","v":""},{"$f":"IFERROR(VLOOKUP(H21,'Race 6'!$C$11:$E$43,3,0),\"\")","v":""},{"$f":"IFERROR(VLOOKUP(H21,'Race 7'!$C$11:$E$43,3,0),\"\")","v":""},{"$f":"IFERROR(VLOOKUP(H21,'Race 8'!$C$11:$E$43,3,0),\"\")","v":""},{"$f":"SUM(I21:P21)","v":0}]
[null,null,null,null,null,null,17,null,{"$f":"IFERROR(VLOOKUP(H22,'Race 1'!$C$11:$E$43,3,0),\"\")","v":""},{"$f":"IFERROR(VLOOKUP(H22,'Race 2'!$C$11:$E$43,3,0),\"\")","v":""},{"$f":"IFERROR(VLOOKUP(H22,'Race 3'!$C$11:$E$43,3,0),\"\")","v":""},{"$f":"IFERROR(VLOOKUP(H22,'Race 4'!$C$11:$E$43,3,0),\"\")","v":""},{"$f":"IFERROR(VLOOKUP(H22,'Race 5'!$C$11:$E$43,3,0),\"\")","v":""},{"$f":"IFERROR(VLOOKUP(H22,'Race 6'!$C$11:$E$43,3,0),\"\")","v":""},{"$f":"IFERROR(VLOOKUP(H22,'Race 7'!$C$11:$E$43,3,0),\"\")","v":""},{"$f":"IFERROR(VLOOKUP(H22,'Race 8'!$C$11:$E$43,3,0),\"\")","v":""},{"$f":"SUM(I22:P22)","v":0}]
[null,null,null,null,null,null,18,null,{"$f":"IFERROR(VLOOKUP(H23,'Race 1'!$C$11:$E$43,3,0),\"\")","v":""},{"$f":"IFERROR(VLOOKUP(H23,'Race 2'!$C$11:$E$43,3,0),\"\")","v":""},{"$f":"IFERROR(VLOOKUP(H23,'Race 3'!$C$11:$E$43,3,0),\"\")","v":""},{"$f":"IFERROR(VLOOKUP(H23,'Race 4'!$C$11:$E$43,3,0),\"\")","v":""},{"$f":"IFERROR(VLOOKUP(H23,'Race 5'!$C$11:$E$43,3,0),\"\")","v":""},{"$f":"IFERROR(VLOOKUP(H23,'Race 6'!$C$11:$E$43,3,0),\"\")","v":""},{"$f":"IFERROR(VLOOKUP(H23,'Race 7'!$C$11:$E$43,3,0),\"\")","v":""},{"$f":"IFERROR(VLOOKUP(H23,'Race 8'!$C$11:$E$43,3,0),\"\")","v":""},{"$f":"SUM(I23:P23)","v":0}]
[null,null,null,null,null,null,19,null,{"$f":"IFERROR(VLOOKUP(H24,'Race 1'!$C$11:$E$43,3,0),\"\")","v":""},{"$f":"IFERROR(VLOOKUP(H24,'Race 2'!$C$11:$E$43,3,0),\"\")","v":""},{"$f":"IFERROR(VLOOKUP(H24,'Race 3'!$C$11:$E$43,3,0),\"\")","v":""},{"$f":"IFERROR(VLOOKUP(H24,'Race 4'!$C$11:$E$43,3,0),\"\")","v":""},{"$f":"IFERROR(VLOOKUP(H24,'Race 5'!$C$11:$E$43,3,0),\"\")","v":""},{"$f":"IFERROR(VLOOKUP(H24,'Race 6'!$C$11:$E$43,3,0),\"\")","v":""},{"$f":"IFERROR(VLOOKUP(H24,'Race 7'!$C$11:$E$43,3,0),\"\")","v":""},{"$f":"IFERROR(VLOOKUP(H24,'Race 8'!$C$11:$E$43,3,0),\"\")","v":""},{"$f":"SUM(I24:P24)","v":0}]
[null,null,null,null,null,null,20,null,{"$f":"IFERROR(VLOOKUP(H25,'Race 1'!$C$11:$E$43,3,0),\"\")","v":""},{"$f":"IFERROR(VLOOKUP(H25,'Race 2'!$C$11:$E$43,3,0),\"\")","v":""},{"$f":"IFERROR(VLOOKUP(H25,'Race 3'!$C$11:$E$43,3,0),\"\")","v":""},{"$f":"IFERROR(VLOOKUP(H25,'Race 4'!$C$11:$E$43,3,0),\"\")","v":""},{"$f":"IFERROR(VLOOKUP(H25,'Race 5'!$C$11:$E$43,3,0),\"\")","v":""},{"$f":"IFERROR(VLOOKUP(H25,'Race 6'!$C$11:$E$43,3,0),\"\")","v":""},{"$f":"IFERROR(VLOOKUP(H25,'Race 7'!$C$11:$E$43,3,0),\"\")","v":""},{"$f":"IFERROR(VLOOKUP(H25,'Race 8'!$C$11:$E$43,3,0),\"\")","v":""},{"$f":"SUM(I25:P25)","v":0}]
[null,null,null,null,null,null,21,null,{"$f":"IFERROR(VLOOKUP(H26,'Race 1'!$C$11:$E$43,3,0),\"\")","v":""},{"$f":"IFERROR(VLOOKUP(H26,'Race 2'!$C$11:$E$43,3,0),\"\")","v":""},{"$f":"IFERROR(VLOOKUP(H26,'Race 3'!$C$11:$E$43,3,0),\"\")","v":""},{"$f":"IFERROR(VLOOKUP(H26,'Race 4'!$C$11:$E$43,3,0),\"\")","v":""},{"$f":"IFERROR(VLOOKUP(H26,'Race 5'!$C$11:$E$43,3,0),\"\")","v":""},{"$f":"IFERROR(VLOOKUP(H26,'Race 6'!$C$11:$E$43,3,0),\"\")","v":""},{"$f":"IFERROR(VLOOKUP(H26,'Race 7'!$C$11:$E$43,3,0),\"\")","v":""},{"$f":"IFERROR(VLOOKUP(H26,'Race 8'!$C$11:$E$43,3,0),\"\")","v":""},{"$f":"SUM(I26:P26)","v":0}]
[null,null,null,null,null,null,22,null,{"$f":"IFERROR(VLOOKUP(H27,'Race 1'!$C$11:$E$43,3,0),\"\")","v":""},{"$f":"IFERROR(VLOOKUP(H27,'Race 2'!$C$11:$E$43,3,0),\"\")","v":""},{"$f":"IFERROR(VLOOKUP(H27,'Race 3'!$C$11:$E$43,3,0),\"\")","v":""},{"$f":"IFERROR(VLOOKUP(H27,'Race 4'!$C$11:$E$43,3,0),\"\")","v":""},{"$f":"IFERROR(VLOOKUP(H27,'Race 5'!$C$11:$E$43,3,0),\"\")","v":""},{"$f":"IFERROR(VLOOKUP(H27,'Race 6'!$C$11:$E$43,3,0),\"\")","v":""},{"$f":"IFERROR(VLOOKUP(H27,'Race 7'!$C$11:$E$43,3,0),\"\")","v":""},{"$f":"IFERROR(VLOOKUP(H27,'Race 8'!$C$11:$E$43,3,0),\"\")","v":""},{"$f":"SUM(I27:P27)","v":0}]
[null,null,null,null,null,null,23,null,{"$f":"IFERROR(VLOOKUP(H28,'Race 1'!$C$11:$E$43,3,0),\"\")","v":""},{"$f":"IFERROR(VLOOKUP(H28,'Race 2'!$C$11:$E$43,3,0),\"\")","v":""},{"$f":"IFERROR(VLOOKUP(H28,'Race 3'!$C$11:$E$43,3,0),\"\")","v":""},{"$f":"IFERROR(VLOOKUP(H28,'Race 4'!$C$11:$E$43,3,0),\"\")","v":""},{"$f":"IFERROR(VLOOKUP(H28,'Race 5'!$C$11:$E$43,3,0),\"\")","v":""},{"$f":"IFERROR(VLOOKUP(H28,'Race 6'!$C$11:$E$43,3,0),\"\")","v":""},{"$f":"IFERROR(VLOOKUP(H28,'Race 7'!$C$11:$E$43,3,0),\"\")","v":""},{"$f":"IFERROR(VLOOKUP(H28,'Race 8'!$C$11:$E$43,3,0),\"\")","v":""},{"$f":"SUM(I28:P28)","v":0}]
[null,null,null,null,null,null,24,null,{"$f":"IFERROR(VLOOKUP(H29,'Race 1'!$C$11:$E$43,3,0),\"\")","v":""},{"$f":"IFERROR(VLOOKUP(H29,'Race 2'!$C$11:$E$43,3,0),\"\")","v":""},{"$f":"IFERROR(VLOOKUP(H29,'Race 3'!$C$11:$E$43,3,0),\"\")","v":""},{"$f":"IFERROR(VLOOKUP(H29,'Race 4'!$C$11:$E$43,3,0),\"\")","v":""},{"$f":"IFERROR(VLOOKUP(H29,'Race 5'!$C$11:$E$43,3,0),\"\")","v":""},{"$f":"IFERROR(VLOOKUP(H29,'Race 6'!$C$11:$E$43,3,0),\"\")","v":""},{"$f":"IFERROR(VLOOKUP(H29,'Race 7'!$C$11:$E$43,3,0),\"\")","v":""},{"$f":"IFERROR(VLOOKUP(H29,'Race 8'!$C$11:$E$43,3,0),\"\")","v":""},{"$f":"SUM(I29:P29)","v":0}]
[null,null,null,null,null,null,25,null,{"$f":"IFERROR(VLOOKUP(H30,'Race 1'!$C$11:$E$43,3,0),\"\")","v":""},{"$f":"IFERROR(VLOOKUP(H30,'Race 2'!$C$11:$E$43,3,0),\"\")","v":""},{"$f":"IFERROR(VLOOKUP(H30,'Race 3'!$C$11:$E$43,3,0),\"\")","v":""},{"$f":"IFERROR(VLOOKUP(H30,'Race 4'!$C$11:$E$43,3,0),\"\")","v":""},{"$f":"IFERROR(VLOOKUP(H30,'Race 5'!$C$11:$E$43,3,0),\"\")","v":""},{"$f":"IFERROR(VLOOKUP(H30,'Race 6'!$C$11:$E$43,3,0),\"\")","v":""},{"$f":"IFERROR(VLOOKUP(H30,'Race 7'!$C$11:$E$43,3,0),\"\")","v":""},{"$f":"IFERROR(VLOOKUP(H30,'Race 8'!$C$11:$E$43,3,0),\"\")","v":""},{"$f":"SUM(I30:P30)","v":0}]
[null,null,null,null,null,null,26,null,{"$f":"IFERROR(VLOOKUP(H31,'Race 1'!$C$11:$E$43,3,0),\"\")","v":""},{"$f":"IFERROR(VLOOKUP(H31,'Race 2'!$C$11:$E$43,3,0),\"\")","v":""},{"$f":"IFERROR(VLOOKUP(H31,'Race 3'!$C$11:$E$43,3,0),\"\")","v":""},{"$f":"IFERROR(VLOOKUP(H31,'Race 4'!$C$11:$E$43,3,0),\"\")","v":""},{"$f":"IFERROR(VLOOKUP(H31,'Race 5'!$C$11:$E$43,3,0),\"\")","v":""},{"$f":"IFERROR(VLOOKUP(H31,'Race 6'!$C$11:$E$43,3,0),\"\")","v":""},{"$f":"IFERROR(VLOOKUP(H31,'Race 7'!$C$11:$E$43,3,0),\"\")","v":""},{"$f":"IFERROR(VLOOKUP(H31,'Race 8'!$C$11:$E$43,3,0),\"\")","v":""},{"$f":"SUM(I31:P31)","v":0}]
[null,null,null,null,null,null,27,null,{"$f":"IFERROR(VLOOKUP(H32,'Race 1'!$C$11:$E$43,3,0),\"\")","v":""},{"$f":"IFERROR(VLOOKUP(H32,'Race 2'!$C$11:$E$43,3,0),\"\")","v":""},{"$f":"IFERROR(VLOOKUP(H32,'Race 3'!$C$11:$E$43,3,0),\"\")","v":""},{"$f":"IFERROR(VLOOKUP(H32,'Race 4'!$C$11:$E$43,3,0),\"\")","v":""},{"$f":"IFERROR(VLOOKUP(H32,'Race 5'!$C$11:$E$43,3,0),\"\")","v":""},{"$f":"IFERROR(VLOOKUP(H32,'Race 6'!$C$11:$E$43,3,0),\"\")","v":""},{"$f":"IFERROR(VLOOKUP(H32,'Race 7'!$C$11:$E$43,3,0),\"\")","v":""},{"$f":"IFERROR(VLOOKUP(H32,'Race 8'!$C$11:$E$43,3,0),\"\")","v":""},{"$f":"SUM(I32:P32)","v":0}]
[null,null,null,null,null,null,28,null,{"$f":"IFERROR(VLOOKUP(H33,'Race 1'!$C$11:$E$43,3,0),\"\")","v":""},{"$f":"IFERROR(VLOOKUP(H33,'Race 2'!$C$11:$E$43,3,0),\"\")","v":""},{"$f":"IFERROR(VLOOKUP(H33,'Race 3'!$C$11:$E$43,3,0),\"\")","v":""},{"$f":"IFERROR(VLOOKUP(H33,'Race 4'!$C$11:$E$43,3,0),\"\")","v":""},{"$f":"IFERROR(VLOOKUP(H33,'Race 5'!$C$11:$E$43,3,0),\"\")","v":""},{"$f":"IFERROR(VLOOKUP(H33,'Race 6'!$C$11:$E$43,3,0),\"\")","v":""},{"$f":"IFERROR(VLOOKUP(H33,'Race 7'!$C$11:$E$43,3,0),\"\")","v":""},{"$f":"IFERROR(VLOOKUP(H33,'Race 8'!$C$11:$E$43,3,0),\"\")","v":""},{"$f":"SUM(I33:P33)","v":0}]
[null,null,null,null,null,null,29,null,{"$f":"IFERROR(VLOOKUP(H34,'Race 1'!$C$11:$E$43,3,0),\"\")","v":""},{"$f":"IFERROR(VLOOKUP(H34,'Race 2'!$C$11:$E$43,3,0),\"\")","v":""},{"$f":"IFERROR(VLOOKUP(H34,'Race 3'!$C$11:$E$43,3,0),\"\")","v":""},{"$f":"IFERROR(VLOOKUP(H34,'Race 4'!$C$11:$E$43,3,0),\"\")","v":""},{"$f":"IFERROR(VLOOKUP(H34,'Race 5'!$C$11:$E$43,3,0),\"\")","v":""},{"$f":"IFERROR(VLOOKUP(H34,'Race 6'!$C$11:$E$43,3,0),\"\")","v":""},{"$f":"IFERROR(VLOOKUP(H34,'Race 7'!$C$11:$E$43,3,0),\"\")","v":""},{"$f":"IFERROR(VLOOKUP(H34,'Race 8'!$C$11:$E$43,3,0),\"\")","v":""},{"$f":"SUM(I34:P34)","v":0}]
[null,null,null,null,null,null,30,null,{"$f":"IFERROR(VLOOKUP(H35,'Race 1'!$C$11:$E$43,3,0),\"\")","v":""},{"$f":"IFERROR(VLOOKUP(H35,'Race 2'!$C$11:$E$43,3,0),\"\")","v":""},{"$f":"IFERROR(VLOOKUP(H35,'Race 3'!$C$11:$E$43,3,0),\"\")","v":""},{"$f":"IFERROR(VLOOKUP(H35,'Race 4'!$C$11:$E$43,3,0),\"\")","v":""},{"$f":"IFERROR(VLOOKUP(H35,'Race 5'!$C$11:$E$43,3,0),\"\")","v":""},{"$f":"IFERROR(VLOOKUP(H35,'Race 6'!$C$11:$E$43,3,0),\"\")","v":""},{"$f":"IFERROR(VLOOKUP(H35,'Race 7'!$C$11:$E$43,3,0),\"\")","v":""},{"$f":"IFERROR(VLOOKUP(H35,'Race 8'!$C$11:$E$43,3,0),\"\")","v":""},{"$f":"SUM(I35:P35)","v":0}]
[null,null,null,null,null,null,31,null,{"$f":"IFERROR(VLOOKUP(H36,'Race 1'!$C$11:$E$43,3,0),\"\")","v":""},{"$f":"IFERROR(VLOOKUP(H36,'Race 2'!$C$11:$E$43,3,0),\"\")","v":""},{"$f":"IFERROR(VLOOKUP(H36,'Race 3'!$C$11:$E$43,3,0),\"\")","v":""},{"$f":"IFERROR(VLOOKUP(H36,'Race 4'!$C$11:$E$43,3,0),\"\")","v":""},{"$f":"IFERROR(VLOOKUP(H36,'Race 5'!$C$11:$E$43,3,0),\"\")","v":""},{"$f":"IFERROR(VLOOKUP(H36,'Race 6'!$C$11:$E$43,3,0),\"\")","v":""},{"$f":"IFERROR(VLOOKUP(H36,'Race 7'!$C$11:$E$43,3,0),\"\")","v":""},{"$f":"IFERROR(VLOOKUP(H36,'Race 8'!$C$11:$E$43,3,0),\"\")","v":""},{"$f":"SUM(I36:P36)","v":0}]
[null,null,null,null,null,null,32,null,{"$f":"IFERROR(VLOOKUP(H37,'Race 1'!$C$11:$E$43,3,0),\"\")","v":""},{"$f":"IFERROR(VLOOKUP(H37,'Race 2'!$C$11:$E$43,3,0),\"\")","v":""},{"$f":"IFERROR(VLOOKUP(H37,'Race 3'!$C$11:$E$43,3,0),\"\")","v":""},{"$f":"IFERROR(VLOOKUP(H37,'Race 4'!$C$11:$E$43,3,0),\"\")","v":""},{"$f":"IFERROR(VLOOKUP(H37,'Race 5'!$C$11:$E$43,3,0),\"\")","v":""},{"$f":"IFERROR(VLOOKUP(H37,'Race 6'!$C$11:$E$43,3,0),\"\")","v":""},{"$f":"IFERROR(VLOOKUP(H37,'Race 7'!$C$11:$E$43,3,0),\"\")","v":""},{"$f":"IFERROR(VLOOKUP(H37,'Race 8'!$C$11:$E$43,3,0),\"\")","v":""},{"$f":"SUM(I37:P37)","v":0}]
[null,null,null,null,null,null,33,null,{"$f":"IFERROR(VLOOKUP(H38,'Race 1'!$C$11:$E$43,3,0),\"\")","v":""},{"$f":"IFERROR(VLOOKUP(H38,'Race 2'!$C$11:$E$43,3,0),\"\")","v":""},{"$f":"IFERROR(VLOOKUP(H38,'Race 3'!$C$11:$E$43,3,0),\"\")","v":""},{"$f":"IFERROR(VLOOKUP(H38,'Race 4'!$C$11:$E$43,3,0),\"\")","v":""},{"$f":"IFERROR(VLOOKUP(H38,'Race 5'!$C$11:$E$43,3,0),\"\")","v":""},{"$f":"IFERROR(VLOOKUP(H38,'Race 6'!$C$11:$E$43,3,0),\"\")","v":""},{"$f":"IFERROR(VLOOKUP(H38,'Race 7'!$C$11:$E$43,3,0),\"\")","v":""},{"$f":"IFERROR(VLOOKUP(H38,'Race 8'!$C$11:$E$43,3,0),\"\")","v":""},{"$f":"SUM(I38:P38)","v":0}]

{"sheet":"Race 1","index":1,"n_rows":43,"n_cols":5,"rows_kept":43,"cut":false,"hidden":false,"merged":[[38,2,38,3],[39,2,39,3],[40,2,40,3],[41,2,41,3],[42,2,42,3],[37,2,37,3],[26,2,26,3],[27,2,27,3],[28,2,28,3],[29,2,29,3],[30,2,30,3],[31,2,31,3],[32,2,32,3],[33,2,33,3],[34,2,34,3],[35,2,35,3],[36,2,36,3],[25,2,25,3],[14,2,14,3],[15,2,15,3],[16,2,16,3],[17,2,17,3],[18,2,18,3],[19,2,19,3],[20,2,20,3],[24,2,24,3],[21,2,21,3],[22,2,22,3],[23,2,23,3],[9,2,9,3],[10,2,10,3],[11,2,11,3],[12,2,12,3],[13,2,13,3],[7,1,8,4],[1,1,2,4],[3,1,4,2],[3,3,4,4],[5,1,6,2],[5,3,6,4]]}
[]
[null,"SEND-IT ESPORT RACING"]
[]
[null,"Homepage",null,"Race kontrol"]
[]
[null,"Rules"]
[]
[null,"Result "]
[]
[null,"Place ","Team",null,"Point"]
[null,1,"Jesper",null,40]
[null,2,"Jennifer",null,38]
[null,3,"Laura",null,36]
[null,4,"Meg",null,34]
[null,5,{"$f":"Teams!B6","v":"Katy"},null,32]
[null,6,{"$f":"Teams!B7","v":"Emma"},null,30]
[null,7,{"$f":"Teams!B8","v":"Sophia"},null,28]
[null,8,{"$f":"Teams!B9","v":"Isabella"},null,26]
[null,9,{"$f":"Teams!B10","v":"Olivia"},null,24]
[null,10,{"$f":"Teams!B11","v":"Emily"},null,22]
[null,11,{"$f":"Teams!B12","v":"Mia"},null,20]
[null,12,"Mig selv",null,18]
[null,13,null,null,16]
[null,14,null,null,14]
[null,15,null,null,12]
[null,16,null,null,10]
[null,17,null,null,8]
[null,18,null,null,6]
[null,19,null,null,4]
[null,20,null,null,2]
[null,21,null,null,0]
[null,22,null,null,0]
[null,23,null,null,0]
[null,24,null,null,0]
[null,25,null,null,0]
[null,26,null,null,0]
[null,27,null,null,0]
[null,28,null,null,0]
[null,29,null,null,0]
[null,30,null,null,0]
[null,31,null,null,0]
[null,32,null,null,0]
[null,33,null,null,0]

{"sheet":"Race 2","index":2,"n_rows":43,"n_cols":5,"rows_kept":43,"cut":false,"hidden":false,"merged":[[39,2,39,3],[40,2,40,3],[41,2,41,3],[42,2,42,3],[33,2,33,3],[34,2,34,3],[35,2,35,3],[36,2,36,3],[37,2,37,3],[38,2,38,3],[32,2,32,3],[21,2,21,3],[22,2,22,3],[23,2,23,3],[24,2,24,3],[25,2,25,3],[26,2,26,3],[27,2,27,3],[28,2,28,3],[29,2,29,3],[30,2,30,3],[31,2,31,3],[20,2,20,3],[9,2,9,3],[10,2,10,3],[11,2,11,3],[12,2,12,3],[13,2,13,3],[14,2,14,3],[15,2,15,3],[16,2,16,3],[17,2,17,3],[18,2,18,3],[19,2,19,3],[7,1,8,4],[1,1,2,4],[3,1,4,2],[3,3,4,4],[5,1,6,2],[5,3,6,4]]}
[]
[null,"SEND-IT ESPORT RACING"]
[]
[null,"Homepage",null,"Race kontrol"]
[]
[null,"Rules"]
[]
[null,"Result "]
[]
[null,"Place ","Team",null,"Point"]
[null,1,"Meg",null,40]
[null,2,"Isabella",null,38]
[null,3,"Emily",null,36]
[null,4,"Mia",null,34]
[null,5,"Olivia",null,32]
[null,6,"Laura",null,30]
[null,7,"Katy",null,28]
[null,8,"Mig selv",null,26]
[null,9,null,null,24]
[null,10,null,null,22]
[null,11,null,null,20]
[null,12,null,null,18]
[null,13,null,null,16]
[null,14,null,null,14]
[null,15,null,null,12]
[null,16,null,null,10]
[null,17,null,null,8]
[null,18,null,null,6]
[null,19,null,null,4]
[null,20,null,null,2]
[null,21,null,null,0]
[null,22,null,null,0]
[null,23,null,null,0]
[null,24,null,null,0]
[null,25,null,null,0]
[null,26,null,null,0]
[null,27,null,null,0]
[null,28,null,null,0]
[null,29,null,null,0]
[null,30,null,null,0]
[null,31,null,null,0]
[null,32,null,null,0]
[null,33,null,null,0]

{"sheet":"Race 3","index":3,"n_rows":43,"n_cols":5,"rows_kept":43,"cut":false,"hidden":false,"merged":[[39,2,39,3],[40,2,40,3],[41,2,41,3],[42,2,42,3],[33,2,33,3],[34,2,34,3],[35,2,35,3],[36,2,36,3],[37,2,37,3],[38,2,38,3],[32,2,32,3],[21,2,21,3],[22,2,22,3],[23,2,23,3],[24,2,24,3],[25,2,25,3],[26,2,26,3],[27,2,27,3],[28,2,28,3],[29,2,29,3],[30,2,30,3],[31,2,31,3],[20,2,20,3],[9,2,9,3],[10,2,10,3],[11,2,11,3],[12,2,12,3],[13,2,13,3],[14,2,14,3],[15,2,15,3],[16,2,16,3],[17,2,17,3],[18,2,18,3],[19,2,19,3],[7,1,8,4],[1,1,2,4],[3,1,4,2],[3,3,4,4],[5,1,6,2],[5,3,6,4]]}
[]
[null,"SEND-IT ESPORT RACING"]
[]
[null,"Homepage",null,"Race kontrol"]
[]
[null,"Rules"]
[]
[null,"Result "]
[]
[null,"Place ","Team",null,"Point"]
[null,1,null,null,40]
[null,2,null,null,38]
[null,3,null,null,36]
[null,4,null,null,34]
[null,5,null,null,32]
[null,6,null,null,30]
[null,7,null,null,28]
[null,8,null,null,26]
[null,9,null,null,24]
[null,10,null,null,22]
[null,11,null,null,20]
[null,12,null,null,18]
[null,13,null,null,16]
[null,14,null,null,14]
[null,15,null,null,12]
[null,16,null,null,10]
[null,17,null,null,8]
[null,18,null,null,6]
[null,19,null,null,4]
[null,20,null,null,2]
[null,21,null,null,0]
[null,22,null,null,0]
[null,23,null,null,0]
[null,24,null,null,0]
[null,25,null,null,0]
[null,26,null,null,0]
[null,27,null,null,0]
[null,28,null,null,0]
[null,29,null,null,0]
[null,30,null,null,0]
[null,31,null,null,0]
[null,32,null,null,0]
[null,33,null,null,0]

{"sheet":"Race 4","index":4,"n_rows":43,"n_cols":5,"rows_kept":43,"cut":false,"hidden":false,"merged":[[39,2,39,3],[40,2,40,3],[41,2,41,3],[42,2,42,3],[33,2,33,3],[34,2,34,3],[35,2,35,3],[36,2,36,3],[37,2,37,3],[38,2,38,3],[32,2,32,3],[21,2,21,3],[22,2,22,3],[23,2,23,3],[24,2,24,3],[25,2,25,3],[26,2,26,3],[27,2,27,3],[28,2,28,3],[29,2,29,3],[30,2,30,3],[31,2,31,3],[20,2,20,3],[9,2,9,3],[10,2,10,3],[11,2,11,3],[12,2,12,3],[13,2,13,3],[14,2,14,3],[15,2,15,3],[16,2,16,3],[17,2,17,3],[18,2,18,3],[19,2,19,3],[7,1,8,4],[1,1,2,4],[3,1,4,2],[3,3,4,4],[5,1,6,2],[5,3,6,4]]}
[]
[null,"SEND-IT ESPORT RACING"]
[]
[null,"Homepage",null,"Race kontrol"]
[]
[null,"Rules"]
[]
[null,"Result "]
[]
[null,"Place ","Team",null,"Point"]
[null,1,"Katy",null,40]
[null,2,"Mig selv",null,38]
[null,3,null,null,36]
[null,4,null,null,34]
[null,5,null,null,32]
[null,6,null,null,30]
[null,7,null,null,28]
[null,8,null,null,26]
[null,9,null,null,24]
[null,10,null,null,22]
[null,11,null,null,20]
[null,12,null,null,18]
[null,13,null,null,16]
[null,14,null,null,14]
[null,15,null,null,12]
[null,16,null,null,10]
[null,17,null,null,8]
[null,18,null,null,6]
[null,19,null,null,4]
[null,20,null,null,2]
[null,21,null,null,0]
[null,22,null,null,0]
[null,23,null,null,0]
[null,24,null,null,0]
[null,25,null,null,0]
[null,26,null,null,0]
[null,27,null,null,0]
[null,28,null,null,0]
[null,29,null,null,0]
[null,30,null,null,0]
[null,31,null,null,0]
[null,32,null,null,0]
[null,33,null,null,0]

{"sheet":"Race 5","index":5,"n_rows":43,"n_cols":5,"rows_kept":43,"cut":false,"hidden":false,"merged":[[39,2,39,3],[40,2,40,3],[41,2,41,3],[42,2,42,3],[33,2,33,3],[34,2,34,3],[35,2,35,3],[36,2,36,3],[37,2,37,3],[38,2,38,3],[32,2,32,3],[21,2,21,3],[22,2,22,3],[23,2,23,3],[24,2,24,3],[25,2,25,3],[26,2,26,3],[27,2,27,3],[28,2,28,3],[29,2,29,3],[30,2,30,3],[31,2,31,3],[20,2,20,3],[9,2,9,3],[10,2,10,3],[11,2,11,3],[12,2,12,3],[13,2,13,3],[14,2,14,3],[15,2,15,3],[16,2,16,3],[17,2,17,3],[18,2,18,3],[19,2,19,3],[7,1,8,4],[1,1,2,4],[3,1,4,2],[3,3,4,4],[5,1,6,2],[5,3,6,4]]}
[]
[null,"SEND-IT ESPORT RACING"]
[]
[null,"Homepage",null,"Race kontrol"]
[]
[null,"Rules"]
[]
[null,"Result "]
[]
[null,"Place ","Team",null,"Point"]
[null,1,null,null,40]
[null,2,null,null,38]
[null,3,null,null,36]
[null,4,null,null,34]
[null,5,null,null,32]
[null,6,null,null,30]
[null,7,null,null,28]
[null,8,null,null,26]
[null,9,null,null,24]
[null,10,null,null,22]
[null,11,null,null,20]
[null,12,null,null,18]
[null,13,null,null,16]
[null,14,null,null,14]
[null,15,null,null,12]
[null,16,null,null,10]
[null,17,null,null,8]
[null,18,null,null,6]
[null,19,null,null,4]
[null,20,null,null,2]
[null,21,null,null,0]
[null,22,null,null,0]
[null,23,null,null,0]
[null,24,null,null,0]
[null,25,null,null,0]
[null,26,null,null,0]
[null,27,null,null,0]
[null,28,null,null,0]
[null,29,null,null,0]
[null,30,null,null,0]
[null,31,null,null,0]
[null,32,null,null,0]
[null,33,null,null,0]

{"sheet":"Race 6","index":6,"n_rows":43,"n_cols":5,"rows_kept":43,"cut":false,"hidden":false,"merged":[[39,2,39,3],[40,2,40,3],[41,2,41,3],[42,2,42,3],[33,2,33,3],[34,2,34,3],[35,2,35,3],[36,2,36,3],[37,2,37,3],[38,2,38,3],[32,2,32,3],[21,2,21,3],[22,2,22,3],[23,2,23,3],[24,2,24,3],[25,2,25,3],[26,2,26,3],[27,2,27,3],[28,2,28,3],[29,2,29,3],[30,2,30,3],[31,2,31,3],[20,2,20,3],[9,2,9,3],[10,2,10,3],[11,2,11,3],[12,2,12,3],[13,2,13,3],[14,2,14,3],[15,2,15,3],[16,2,16,3],[17,2,17,3],[18,2,18,3],[19,2,19,3],[7,1,8,4],[1,1,2,4],[3,1,4,2],[3,3,4,4],[5,1,6,2],[5,3,6,4]]}
[]
[null,"SEND-IT ESPORT RACING"]
[]
[null,"Homepage",null,"Race kontrol"]
[]
[null,"Rules"]
[]
[null,"Result "]
[]
[null,"Place ","Team",null,"Point"]
[null,1,"Mig selv",null,40]
[null,2,null,null,38]
[null,3,null,null,36]
[null,4,null,null,34]
[null,5,null,null,32]
[null,6,null,null,30]
[null,7,null,null,28]
[null,8,null,null,26]
[null,9,null,null,24]
[null,10,null,null,22]
[null,11,null,null,20]
[null,12,null,null,18]
[null,13,null,null,16]
[null,14,null,null,14]
[null,15,null,null,12]
[null,16,null,null,10]
[null,17,null,null,8]
[null,18,null,null,6]
[null,19,null,null,4]
[null,20,null,null,2]
[null,21,null,null,0]
[null,22,null,null,0]
[null,23,null,null,0]
[null,24,null,null,0]
[null,25,null,null,0]
[null,26,null,null,0]
[null,27,null,null,0]
[null,28,null,null,0]
[null,29,null,null,0]
[null,30,null,null,0]
[null,31,null,null,0]
[null,32,null,null,0]
[null,33,null,null,0]

{"sheet":"Race 7","index":7,"n_rows":43,"n_cols":5,"rows_kept":43,"cut":false,"hidden":false,"merged":[[39,2,39,3],[40,2,40,3],[41,2,41,3],[42,2,42,3],[33,2,33,3],[34,2,34,3],[35,2,35,3],[36,2,36,3],[37,2,37,3],[38,2,38,3],[27,2,27,3],[28,2,28,3],[29,2,29,3],[30,2,30,3],[31,2,31,3],[32,2,32,3],[21,2,21,3],[22,2,22,3],[23,2,23,3],[24,2,24,3],[25,2,25,3],[26,2,26,3],[15,2,15,3],[16,2,16,3],[17,2,17,3],[18,2,18,3],[19,2,19,3],[20,2,20,3],[9,2,9,3],[10,2,10,3],[11,2,11,3],[12,2,12,3],[13,2,13,3],[14,2,14,3],[1,1,2,4],[3,1,4,2],[3,3,4,4],[5,1,6,2],[5,3,6,4],[7,1,8,4]]}
[]
[null,"SEND-IT ESPORT RACING"]
[]
[null,"Homepage",null,"Race kontrol"]
[]
[null,"Rules"]
[]
[null,"Result "]
[]
[null,"Place ","Team",null,"Point"]
[null,1,"Mig selv",null,40]
[null,2,null,null,38]
[null,3,null,null,36]
[null,4,null,null,34]
[null,5,null,null,32]
[null,6,null,null,30]
[null,7,null,null,28]
[null,8,null,null,26]
[null,9,null,null,24]
[null,10,null,null,22]
[null,11,null,null,20]
[null,12,null,null,18]
[null,13,null,null,16]
[null,14,null,null,14]
[null,15,null,null,12]
[null,16,null,null,10]
[null,17,null,null,8]
[null,18,null,null,6]
[null,19,null,null,4]
[null,20,null,null,2]
[null,21,null,null,0]
[null,22,null,null,0]
[null,23,null,null,0]
[null,24,null,null,0]
[null,25,null,null,0]
[null,26,null,null,0]
[null,27,null,null,0]
[null,28,null,null,0]
[null,29,null,null,0]
[null,30,null,null,0]
[null,31,null,null,0]
[null,32,null,null,0]
[null,33,null,null,0]

{"sheet":"Race 8","index":8,"n_rows":43,"n_cols":5,"rows_kept":43,"cut":false,"hidden":false,"merged":[[39,2,39,3],[40,2,40,3],[41,2,41,3],[42,2,42,3],[33,2,33,3],[34,2,34,3],[35,2,35,3],[36,2,36,3],[37,2,37,3],[38,2,38,3],[27,2,27,3],[28,2,28,3],[29,2,29,3],[30,2,30,3],[31,2,31,3],[32,2,32,3],[21,2,21,3],[22,2,22,3],[23,2,23,3],[24,2,24,3],[25,2,25,3],[26,2,26,3],[15,2,15,3],[16,2,16,3],[17,2,17,3],[18,2,18,3],[19,2,19,3],[20,2,20,3],[9,2,9,3],[10,2,10,3],[11,2,11,3],[12,2,12,3],[13,2,13,3],[14,2,14,3],[1,1,2,4],[3,1,4,2],[3,3,4,4],[5,1,6,2],[5,3,6,4],[7,1,8,4]]}
[]
[null,"SEND-IT ESPORT RACING"]
[]
[null,"Homepage",null,"Race kontrol"]
[]
[null,"Rules"]
[]
[null,"Result "]
[]
[null,"Place ","Team",null,"Point"]
[null,1,"Mig selv",null,40]
[null,2,null,null,38]
[null,3,null,null,36]
[null,4,null,null,34]
[null,5,null,null,32]
[null,6,null,null,30]
[null,7,null,null,28]
[null,8,null,null,26]
[null,9,null,null,24]
[null,10,null,null,22]
[null,11,null,null,20]
[null,12,null,null,18]
[null,13,null,null,16]
[null,14,null,null,14]
[null,15,null,null,12]
[null,16,null,null,10]
[null,17,null,null,8]
[null,18,null,null,6]
[null,19,null,null,4]
[null,20,null,null,2]
[null,21,null,null,0]
[null,22,null,null,0]
[null,23,null,null,0]
[null,24,null,null,0]
[null,25,null,null,0]
[null,26,null,null,0]
[null,27,null,null,0]
[null,28,null,null,0]
[null,29,null,null,0]
[null,30,null,null,0]
[null,31,null,null,0]
[null,32,null,null,0]
[null,33,null,null,0]

{"sheet":"Teams","index":9,"n_rows":13,"n_cols":2,"rows_kept":13,"cut":false,"hidden":false,"merged":[]}
[null,"Teams"]
[null,"Jesper"]
[null,"Jennifer"]
[null,"Laura"]
[null,"Meg"]
[null,"Katy"]
[null,"Emma"]
[null,"Sophia"]
[null,"Isabella"]
[null,"Olivia"]
[null,"Emily"]
[null,"Mia"]
[null,"Mig selv"]