{"text_format":"1","workbook":"xlsx","n_sheets":3,"sheets":["Helligdage","Backend","Tidsreg"],"not_rendered":{"charts":0,"images":0,"macros":1,"external_links":1,"defined_names":1,"comments":0,"pivot_tables":0},"unopened":[],"bounds":{"document_bytes":16777216,"sheet_cells":100000,"rows_first":2000,"rows_last":500,"rows_between":2000,"halvings":0,"cell_chars":16384,"cell_head_chars":4096},"cells_cut":0,"cells_raw":0,"read":"whole","date_system":"1900"}

{"sheet":"Helligdage","index":0,"n_rows":37,"n_cols":13,"rows_kept":37,"cut":false,"hidden":false,"merged":[]}
["Årstal",{"$f":"Tidsreg!K1","v":2022},null,"Type",null,null,null,"X","Årstal",{"$f":"B1","v":2022}]
["Nytårsdag",{"$f":"DATE(B1,1,1)","v":"2017-12-31"},null,"Fast",null,null,null,"A","Rest",{"$f":"MOD(År,19)","v":8}]
["Palmesøndag",{"$f":"B6-7","v":"2018-04-09"},null,"Beregnet"]
["Skærtorsdag",{"$f":"L24","v":"2018-04-13"},null,"Beregnet",null,null,null,"B","Heltal",{"$f":"INT(År/100)","v":20}]
["Langfredag",{"$f":"L25","v":"2018-04-14"},null,"Beregnet",null,null,null,"C","Rest",{"$f":"MOD(År,100)","v":22}]
["Påskedag",{"$f":"L26","v":"2018-04-16"},null,"Beregnet",null,null,null,"D","Heltal",{"$f":"INT(J4/4)","v":5}]
["2. påskedag",{"$f":"L27","v":"2018-04-17"},null,"Beregnet",null,null,null,"E","Rest",{"$f":"MOD(J4,4)","v":0}]
["1. maj",{"$f":"DATE(B1,5,1)","v":"2018-04-30"},null,"Fast"]
["Store Bededag",{"$f":"L31","v":"2018-05-12"},null,"Beregnet",null,null,null,"F","Heltal",{"$f":"INT((J4+8)/25)","v":1}]
["Kristi Himmelfart",{"$f":"L34","v":"2018-05-25"},null,"Beregnet",null,null,null,"G","Heltal",{"$f":"INT((J4-J9+1)/3)","v":6}]
["Pinsedag",{"$f":"L36","v":"2018-06-04"},null,"Beregnet",null,null,null,"H","Heltal",{"$f":"MOD(19*J2+J4-J6-J10+15,30)","v":26}]
["2. pinsedag",{"$f":"L37","v":"2018-06-05"},null,"Beregnet",null,null,null,"J","Heltal",{"$f":"INT(J5/4)","v":5}]
["Grundlovsdag",{"$f":"DATE(B1,6,5)","v":"2018-06-04"},null,"Fast",null,null,null,"K","Rest",{"$f":"MOD(J5,4)","v":2}]
["Juleaften",{"$f":"DATE(B1,12,24)","v":"2018-12-23"},null,"Fast",null,null,null,"L","Rest",{"$f":"MOD(32+2*J7+2*J12-J11-J13,7)","v":0}]
["1. juledag",{"$f":"B14+1","v":"2018-12-24"},null,"Fast",null,null,null,"M","Heltal",{"$f":"INT((J2+11*J11+22*J14)/451)","v":0}]
["2. juledag",{"$f":"B14+2","v":"2018-12-25"},null,"Fast",null,null,null,"N","Heltal",{"$f":"INT((J11+J14-7*J15+114)/31)","v":4}]
["Nytårsaftens dag",{"$f":"DATE(B1,12,31)","v":"2018-12-30"},null,"Fast",null,null,null,"P","Rest",{"$f":"MOD(J11+J14-7*J15+114,31)","v":16}]
["Mors dag",null,null,null,null,null,null,"Q","Formel",{"$f":"(J16-3)*31+J17-20","v":27}]
[]
[null,null,null,null,null,null,null,null,"Dag",{"$f":"J17+1","v":17}]
[null,null,null,null,null,null,null,null,"Måned",{"$f":"J16","v":4}]
[]
[null,null,null,null,null,null,null,null,null,null,"Mellemregning",null,"Diff ift Påskesøndag"]
[null,null,null,null,null,null,null,null,"Skærtorsdag",null,{"$f":"K26-3","v":"2018-04-13"},{"$f":"L26-3","v":"2018-04-13"},-3]
[null,null,null,null,null,null,null,null,"Langfredag",null,{"$f":"K26-2","v":"2018-04-14"},{"$f":"L26-2","v":"2018-04-14"},-2]
[null,null,null,null,null,null,null,null,"Påskedag",null,{"$f":"DATE(År,J21,J20)","v":"2018-04-16"},{"$f":"DATE(År,J21,J20)","v":"2018-04-16"}]
[null,null,null,null,null,null,null,null,"2. påskedag",null,{"$f":"K26+1","v":"2018-04-17"},{"$f":"L26+1","v":"2018-04-17"},1]
[null,null,null,null,null,null,null,null,"1. s.e. påske",null,{"$f":"K26+7","v":"2018-04-23"}]
[null,null,null,null,null,null,null,null,"2. s.e. påske",null,{"$f":"K28+7","v":"2018-04-30"}]
[null,null,null,null,null,null,null,null,"3. s.e. påske",null,{"$f":"K29+7","v":"2018-05-07"}]
[null,null,null,null,null,null,null,null,"Store Bededag",null,{"$f":"K30+5","v":"2018-05-12"},{"$f":"L26+26","v":"2018-05-12"},26]
[null,null,null,null,null,null,null,null,"4. s.e. påske",null,{"$f":"K30+7","v":"2018-05-14"}]
[null,null,null,null,null,null,null,null,"5. s.e. påske",null,{"$f":"K32+7","v":"2018-05-21"}]
[null,null,null,null,null,null,null,null,"Kristi Himmelfart",null,{"$f":"K33+4","v":"2018-05-25"},{"$f":"L26+39","v":"2018-05-25"},39]
[null,null,null,null,null,null,null,null,"6.s.e. påske",null,{"$f":"K33+7","v":"2018-05-28"}]
[null,null,null,null,null,null,null,null,"Pinsedag",null,{"$f":"K35+7","v":"2018-06-04"},{"$f":"L26+49","v":"2018-06-04"},49]
[null,null,null,null,null,null,null,null,"2. pinsedag",null,{"$f":"K36+1","v":"2018-06-05"},{"$f":"L26+50","v":"2018-06-05"},50]

{"sheet":"Backend","index":1,"n_rows":55,"n_cols":15,"rows_kept":55,"cut":false,"hidden":false,"merged":[[1,6,1,10],[8,1,8,3],[16,6,16,10],[29,6,29,10]]}
[]
[null,"År:",{"$f":"Tidsreg!K1","v":2022},null,null,null,"Mødetider",null,null,null,null,null,"Fraværsgrunde. Hvis der tilføjes mere end rammen viser, skal der aktivt ændres i registreringsarket (Ark2)"]
[null,"Navn:",null,null,null,null,"Normtid:","Timer","Efter pause","Timer","Efter pause",null,"Flex-fri",null,"Fravær ændres i Data -> DavaValidering -> vælg Datavalidering i listen."]
[null,"Normaltimer:",37,null,null,null,"Ugedag","Lige uger","Sum","Ulige uger","Sum",null,"Ferie med løn"]
[null,{"$f":"C2-1","v":2021},{"$f":"D5/24","v":-0.17541666666666667},-4.21,null,1,"Mandag","07:24:00",{"$f":"IF(H5>K14,H5-K13,H5)","v":0.30833333333333335},"07:24:00",{"$f":"IF(J5>K14,J5-K13,J5)","v":0.30833333333333335},null,"Feriefridag"]
[null,{"$f":"C2-1","v":2021},3.2034722222222225,null,null,2,"Tirsdag","07:24:00",{"$f":"IF(H6>K14,H6-K13,H6)","v":0.30833333333333335},"07:24:00",{"$f":"IF(J6>K14,J6-K13,J6)","v":0.30833333333333335},null,"Sygdom"]
[null,"Helligdage der falder på hverdage:",{"$f":"SUM(C10:C25)","v":9},null,null,3,"Onsdag","07:24:00",{"$f":"IF(H7>K14,H7-K13,H7)","v":0.30833333333333335},"07:24:00",{"$f":"IF(J7>K14,J7-K13,J7)","v":0.30833333333333335},null,"Hjemmearbejdsdag"]
[null,null,null,null,null,4,"Torsdag","07:24:00",{"$f":"IF(H8>K14,H8-K13,H8)","v":0.30833333333333335},"07:24:00",{"$f":"IF(J8>K14,J8-K13,J8)","v":0.30833333333333335},null,"Kursus/Uddannelse"]
[null,"Årets helligdage og faste fridage",null,null,null,5,"Fredag","07:24:00",{"$f":"IF(H9>K14,H9-K13,H9)","v":0.30833333333333335},"07:24:00",{"$f":"IF(J9>K14,J9-K13,J9)","v":0.30833333333333335},null,"Andet (Skriv under bemærkninger)"]
[null,"Nytårsdag",{"$f":"IF(WEEKDAY(D10,2)<6,1,0)","v":1},{"$f":"[1]Helligdage!B2","v":"2016-12-31"},null,6,"Lørdag","00:00:00",{"$f":"IF(H10>K14,H10-K13,H10)","v":0},"00:00:00",{"$f":"IF(J10>K14,J10-K13,J10)","v":0},null,"Tjenestefri"]
[null,"Palmesøndag",{"$f":"IF(WEEKDAY(D11,2)<6,1,0)","v":0},{"$f":"[1]Helligdage!B3","v":"2017-03-27"},null,7,"Søndag","00:00:00",{"$f":"IF(H11>K14,H11-K13,H11)","v":0},"00:00:00",{"$f":"IF(J11>K14,J11-K13,J11)","v":0},null,"Ferie uden løn"]
[null,"Skærtorsdag",1,{"$f":"[1]Helligdage!B4","v":"2017-03-31"},null,null,"I alt:",{"$f":"SUM(H5:H11)","v":1.5416666666666667},{"$f":"SUM(I5:I11)","v":1.5416666666666667},{"$f":"SUM(J5:J11)","v":1.5416666666666667},{"$f":"SUM(K5:K11)","v":1.5416666666666667},null,"Omsorgsdag"]
[null,"Langfredag",1,{"$f":"[1]Helligdage!B5","v":"2017-04-01"},null,null,"Selvbetalte","Minutter selvbetalt frokost",null,null,0,null,"Barns sygedag"]
[null,"Påskedag",0,{"$f":"[1]Helligdage!B6","v":"2017-04-03"},null,null,"pauser","Medregn ikke hvis arbejdsdag < eller =",null,null,0,null,"Barsel/Orlov"]
[null,"2. Påskedag",1,{"$f":"[1]Helligdage!B7","v":"2017-04-04"}]
[null,"1. maj",0,{"$f":"[1]Helligdage!B8","v":"2017-04-30"}]
[null,"Store Bededag",1,{"$f":"[1]Helligdage!B9","v":"2017-04-29"},null,null,"Telefontider"]
[null,"Kristi Himmelfartsdag",1,{"$f":"[1]Helligdage!B10","v":"2017-05-12"},null,null,"Normtid:","Timer","Efter pause","Timer","Efter pause"]
[null,"Pinsedag",0,{"$f":"[1]Helligdage!B11","v":"2017-05-22"},null,null,"Ugedag","Lige uger","Sum","Ulige uger","Sum"]
[null,"2. Pinsedag",1,{"$f":"[1]Helligdage!B12","v":"2017-05-23"},null,1,"Mandag","08:00:00",{"$f":"H20*0.8","v":0.26666666666666666},"08:00:00",{"$f":"J20*0.8","v":0.26666666666666666}]
[null,"Grundlovsdag",0,{"$f":"[1]Helligdage!B13","v":"2017-06-04"},null,2,"Tirsdag","01:30:00",{"$f":"H21*0.8","v":0.05},"01:30:00",{"$f":"J21*0.8","v":0.05}]
[null,"Juleaftensdag",1,{"$f":"[1]Helligdage!B14","v":"2017-12-23"},null,3,"Onsdag","07:00:00",0.23333333333333336,"07:00:00",0.23333333333333336,null,null,3.2638888888888891E-2]
[null,"Juledag",0,{"$f":"[1]Helligdage!B15","v":"2017-12-24"},null,4,"Torsdag","07:00:00",0.23333333333333336,"07:00:00",0.23333333333333336,null,null,{"$f":"N22*24","v":0.78333333333333344},{"$f":"N23*1.25","v":0.97916666666666674}]
[null,"2. Juledag",0,{"$f":"[1]Helligdage!B16","v":"2017-12-25"},null,5,"Fredag","06:00:00",0.2,"06:00:00",0.2]
[null,"Nytårsaftensdag",{"$f":"IF(WEEKDAY(D25,2)<6,1,0)","v":1},{"$f":"[1]Helligdage!B17","v":"2017-12-30"},null,6,"Lørdag","00:00:00",0,"00:00:00",0,null,"Tid i tt:mm :",26.95,{"$f":"N25*1.25","v":33.6875}]
[null,"Sommertid start",null,{"$f":"DATE(C2,4,1)-WEEKDAY(DATE(C2,4,1)-1,1)","v":"2018-03-26"},null,7,"Søndag","00:00:00",0,"00:00:00",0,null,"Tid i Decimaler :",{"$f":"N25/24","v":1.1229166666666666}]
[null,"Sommertid slut",null,{"$f":"DATE(C2,11,1)-WEEKDAY(DATE(C2,11,1)-1,1)","v":"2018-10-29"},null,null,"I alt:",{"$f":"SUM(H20:H26)","v":1.2291666666666667},0.98333333333333339,{"$f":"SUM(J20:J26)","v":1.2291666666666667},0.98333333333333339]
[null,null,null,null,null,null,null,null,null,null,null,null,"Tid i decimaler :"]
[null,null,null,null,null,null,"Efter d.","01.05.2015",null,null,null,null,"Tid i tt:mm :"]
[null,"Udfyld grønne felter, så det passer med din arbejdstid.",null,null,null,null,"Telefontider"]
[null,null,null,null,null,null,"Normtid:","Timer","Efter pause","Timer","Efter pause"]
[null,"Helligdage",null,null,null,null,"Ugedag","Lige uger","Sum","Ulige uger","Sum"]
[null,null,null,null,null,null,"Mandag","08:00:00",{"$f":"H33*0.8","v":0.26666666666666666},"08:00:00",{"$f":"J33*0.8","v":0.26666666666666666}]
[null,"Følgende dage er helligdage for alle typer medarbejdere:",null,null,null,null,"Tirsdag","01:30:00",{"$f":"H34*0.8","v":0.05},"01:30:00",{"$f":"J34*0.8","v":0.05}]
[null,null,null,null,null,null,"Onsdag","07:00:00",0.23333333333333336,"07:00:00",0.23333333333333336]
[null,"Nytårsdag ",null,null,null,null,"Torsdag","07:00:00",0.23333333333333336,"07:00:00",0.23333333333333336]
[null,"Skærtorsdag ",null,null,null,null,"Fredag","06:00:00",0.2,"06:00:00",0.2]
[null,"Langfredag ",null,null,null,null,"Lørdag","00:00:00",0,"00:00:00",0]
[null,"2. påskedag ",null,null,null,null,"Søndag","00:00:00",0,"00:00:00",0]
[null,"St. Bededag ",null,null,null,null,"I alt:",{"$f":"SUM(H33:H39)","v":1.2291666666666667},0.98333333333333339,{"$f":"SUM(J33:J39)","v":1.2291666666666667},0.98333333333333339]
[null,"Kristi Himmelfart "]
[null,"2. pinsedag "]
[null,"1. og 2. juledag."]
[]
[null,"Medarbejdere omfattet af Industriens Overenskomst"]
[]
[null,"Medarbejdere der er omfattet af Industriens Overenskomst har som udgangspunkt fri på ovenstående helligdage."]
[]
[null,"Herudover er følgende dage fridage efter overenskomsten:"]
[]
[null,"1. maj "]
[null,"Grundlovsdag "]
[null,"24. december."]
[]
[null,"Fridagene regnes fra klokken 06.00 eller fra normal daglig arbejdstids begyndelse til samme tidspunkt næste dag."]

{"sheet":"Tidsreg","index":2,"n_rows":376,"n_cols":22,"rows_kept":376,"cut":false,"hidden":false,"merged":[]}
[{"$f":"TODAY()","v":"2017-11-02"},null,null,null,null,null,null,null,null,"Timeregistrering",2022,null,null,null,null,null,null,null,null,null,null,"Række 11 - 376 (375)"]
[]
[null,"Antal dage i året:",{"$f":"COUNTA(C11:C376)","v":365},null,null,null,null,null,null,"Sygedage:",{"$f":"COUNTIF($M$11:$M$376,\"Sygdom\")","v":0},null,null,"Arbejdsdage på kontoret:",{"$f":"SUM(F11:F376)","v":260}]
["Aktuel arbejdsdage i året:","Antal arbejdsdage i året:",{"$f":"COUNTIF(O11:O376,\">0\")","v":0},null,null,null,null,null,null,"Feriedage:",{"$f":"COUNTIF($M$11:$M$376,\"Ferie med løn\")","v":0},null,null,"Arbejdsdage hjemmefra:",{"$f":"SUM(G11:G376)","v":0}]
[null,"Helligdage på hverdage:",{"$f":"SUM(Backend!C10:C27)","v":9},null,null,null,null,null,null,"Feriefridage:",{"$f":"COUNTIF($M$11:$M$376,\"Feriefridag\")","v":0},null,null,"Arbejdsdage i weekender:",{"$f":"SUM(H11:H376)","v":0}]
[null,null,null,null,null,null,null,null,null,"Flexdage:",{"$f":"COUNTIF($M$11:$M$376,\"Flex-fri\")","v":0}]
["Weekend, ferie og helligdage i alt:",null,{"$f":"SUM(D11:E376)","v":105},null,null,null,null,null,null,"Fraværsdage i alt:",{"$f":"SUM(K3:K6)","v":0},null,null,"Arbejdsdage til skattekort i alt:"]
[]
[]
["Måned","Uge","Dato","Weekend og helligdage","Ferie og Flex","Arbejdspladsen","Hjemmefra","Ekstraarbejde","Diverse","Dag","Komme","Gå","Fravær","Bemærkning","Optjent","Decimaltal","Normal","Justering",{"$f":"\"+/-\"","v":"+/-"},"Saldo","Flex","Misc"]
[{"$f":"IF(DAY(C11)=1,C11,\"\")","v":"2017-12-31"},{"$f":"1+INT((C11-DATE(YEAR(C11+4-WEEKDAY(C11+6)),1,5)+WEEKDAY(DATE(YEAR(C11+4-WEEKDAY(C11+6)),1,3)))/7)","v":52},{"$f":"DATE(K1,1,1)","v":"2017-12-31"},{"$f":"IF(OR(WEEKDAY(C11)=1,WEEKDAY(C11)=7),1,\"\")","v":1},{"$f":"IF(OR(M11=\"Feriefridag\",M11=\"Ferie med løn\",M11=\"Flex-fri\"),1,\"\")","v":""},{"$f":"IF(AND(Q11<>\"\",G11=\"\"),1,\"\")","v":""},{"$f":"IF(AND(K11<>\"\",$M11=\"Hjemmearbejdsdag\"),1,\"\")","v":""},{"$f":"IF(AND(D11=1,K11<>\"\"),1,\"\")","v":""},null,{"$f":"IF(HelligdagsNavn(C11,0,0)<>\"\",HelligdagsNavn(C11,0,0),C11)","v":"Nytårsdag"},null,null,null,null,{"$f":"IF(OR(K11=\"\",L11=\"\"),0,IF(VALUE(K11)>=VALUE(L11),(TIME(TRUNC(L11/100),MOD(L11,100),0))+1-(TIME(TRUNC(K11/100),MOD(K11,100),0)),(TIME(TRUNC(L11/100),MOD(L11,100),0))-(TIME(TRUNC(K11/100),MOD(K11,100),0))))","v":0},{"$f":"O11*24","v":0},{"$f":"IF(OR(C11=\"\",D11=1),\"\",VLOOKUP(WEEKDAY($C11,2),Backend!$F$5:$K$11,4,FALSE))","v":""}]
[{"$f":"IF(DAY(C12)=1,C12,\"\")","v":""},{"$f":"IF(WEEKDAY(C12,2)=1,1+INT((C12-DATE(YEAR(C12+4-WEEKDAY(C12+6)),1,5)+WEEKDAY(DATE(YEAR(C12+4-WEEKDAY(C12+6)),1,3)))/7),\"\")","v":""},{"$f":"C11+1","v":"2018-01-01"},{"$f":"IF(OR(WEEKDAY(C12)=1,WEEKDAY(C12)=7),1,\"\")","v":1},{"$f":"IF(OR(M12=\"Feriefridag\",M12=\"Ferie med løn\",M12=\"Flex-fri\"),1,\"\")","v":""},"","",{"$f":"IF(AND(D12=1,K12<>\"\"),1,\"\")","v":""},null,{"$f":"C12","v":"2018-01-01"},null,null,null,null,{"$f":"IF(OR(K12=\"\",L12=\"\"),0,IF(VALUE(K12)>=VALUE(L12),(TIME(TRUNC(L12/100),MOD(L12,100),0))+1-(TIME(TRUNC(K12/100),MOD(K12,100),0)),(TIME(TRUNC(L12/100),MOD(L12,100),0))-(TIME(TRUNC(K12/100),MOD(K12,100),0))))","v":0},{"$f":"O12*24","v":0},{"$f":"IF(OR(C12=\"\",D12=1),\"\",VLOOKUP(WEEKDAY($C12,2),Backend!$F$5:$K$11,4,FALSE))","v":""}]
["",1,{"$f":"C12+1","v":"2018-01-02"},"","",1,"","",null,{"$f":"C13","v":"2018-01-02"},null,null,null,null,0,0,{"$f":"IF(OR(C13=\"\",D13=1),\"\",VLOOKUP(WEEKDAY($C13,2),Backend!$F$5:$K$11,4,FALSE))","v":"07:24:00"}]
["","","2018-01-03","","",1,"","",null,"2018-01-03",null,null,null,null,0,0,{"$f":"IF(OR(C14=\"\",D14=1),\"\",VLOOKUP(WEEKDAY($C14,2),Backend!$F$5:$K$11,4,FALSE))","v":"07:24:00"}]
["","","2018-01-04","","",1,"","",null,"2018-01-04",null,null,null,null,0,0,{"$f":"IF(OR(C15=\"\",D15=1),\"\",VLOOKUP(WEEKDAY($C15,2),Backend!$F$5:$K$11,4,FALSE))","v":"07:24:00"}]
["","","2018-01-05","","",1,{"$f":"IF(AND(K16<>\"\",$M16=\"Hjemmearbejdsdag\"),1,\"\")","v":""},"",null,"2018-01-05",null,null,null,null,0,0,{"$f":"IF(OR(C16=\"\",D16=1),\"\",VLOOKUP(WEEKDAY($C16,2),Backend!$F$5:$K$11,4,FALSE))","v":"07:24:00"}]
["","","2018-01-06","","",1,"","",null,"2018-01-06",null,null,null,null,0,0,{"$f":"IF(OR(C17=\"\",D17=1),\"\",VLOOKUP(WEEKDAY($C17,2),Backend!$F$5:$K$11,4,FALSE))","v":"07:24:00"}]
["","","2018-01-07",1,"","","","",null,"2018-01-07",null,null,null,null,0,0,{"$f":"IF(OR(C18=\"\",D18=1),\"\",VLOOKUP(WEEKDAY($C18,2),Backend!$F$5:$K$11,4,FALSE))","v":""}]
["","","2018-01-08",1,"","","","",null,"2018-01-08",null,null,null,null,0,0,{"$f":"IF(OR(C19=\"\",D19=1),\"\",VLOOKUP(WEEKDAY($C19,2),Backend!$F$5:$K$11,4,FALSE))","v":""}]
["",2,"2018-01-09","","",1,"","",null,"2018-01-09",null,null,null,null,0,0,{"$f":"IF(OR(C20=\"\",D20=1),\"\",VLOOKUP(WEEKDAY($C20,2),Backend!$F$5:$K$11,4,FALSE))","v":"07:24:00"}]
["","","2018-01-10","","",1,"","",null,"2018-01-10",null,null,null,null,0,0,{"$f":"IF(OR(C21=\"\",D21=1),\"\",VLOOKUP(WEEKDAY($C21,2),Backend!$F$5:$K$11,4,FALSE))","v":"07:24:00"}]
["","","2018-01-11","","",1,"","",null,"2018-01-11",null,null,null,null,0,0,{"$f":"IF(OR(C22=\"\",D22=1),\"\",VLOOKUP(WEEKDAY($C22,2),Backend!$F$5:$K$11,4,FALSE))","v":"07:24:00"}]
["","","2018-01-12","","",1,"","",null,"2018-01-12",null,null,null,null,0,0,{"$f":"IF(OR(C23=\"\",D23=1),\"\",VLOOKUP(WEEKDAY($C23,2),Backend!$F$5:$K$11,4,FALSE))","v":"07:24:00"}]
["","","2018-01-13","","",1,"","",null,"2018-01-13",null,null,null,null,0,0,{"$f":"IF(OR(C24=\"\",D24=1),\"\",VLOOKUP(WEEKDAY($C24,2),Backend!$F$5:$K$11,4,FALSE))","v":"07:24:00"}]
["","","2018-01-14",1,"","","","",null,"2018-01-14",null,null,null,null,0,0,{"$f":"IF(OR(C25=\"\",D25=1),\"\",VLOOKUP(WEEKDAY($C25,2),Backend!$F$5:$K$11,4,FALSE))","v":""}]
["","","2018-01-15",1,"","","","",null,"2018-01-15",null,null,null,null,0,0,{"$f":"IF(OR(C26=\"\",D26=1),\"\",VLOOKUP(WEEKDAY($C26,2),Backend!$F$5:$K$11,4,FALSE))","v":""}]
["",3,"2018-01-16","","",1,"","",null,"2018-01-16",null,null,null,null,0,0,{"$f":"IF(OR(C27=\"\",D27=1),\"\",VLOOKUP(WEEKDAY($C27,2),Backend!$F$5:$K$11,4,FALSE))","v":"07:24:00"}]
["","","2018-01-17","","",1,"","",null,"2018-01-17",null,null,null,null,0,0,{"$f":"IF(OR(C28=\"\",D28=1),\"\",VLOOKUP(WEEKDAY($C28,2),Backend!$F$5:$K$11,4,FALSE))","v":"07:24:00"}]
["","","2018-01-18","","",1,"","",null,"2018-01-18",null,null,null,null,0,0,{"$f":"IF(OR(C29=\"\",D29=1),\"\",VLOOKUP(WEEKDAY($C29,2),Backend!$F$5:$K$11,4,FALSE))","v":"07:24:00"}]
["","","2018-01-19","","",1,"","",null,"2018-01-19",null,null,null,null,0,0,{"$f":"IF(OR(C30=\"\",D30=1),\"\",VLOOKUP(WEEKDAY($C30,2),Backend!$F$5:$K$11,4,FALSE))","v":"07:24:00"}]
["","","2018-01-20","","",1,"","",null,"2018-01-20",null,null,null,null,0,0,{"$f":"IF(OR(C31=\"\",D31=1),\"\",VLOOKUP(WEEKDAY($C31,2),Backend!$F$5:$K$11,4,FALSE))","v":"07:24:00"}]
["","","2018-01-21",1,"","","","",null,"2018-01-21",null,null,null,null,0,0,{"$f":"IF(OR(C32=\"\",D32=1),\"\",VLOOKUP(WEEKDAY($C32,2),Backend!$F$5:$K$11,4,FALSE))","v":""}]
["","","2018-01-22",1,"","","","",null,"2018-01-22",null,null,null,null,0,0,{"$f":"IF(OR(C33=\"\",D33=1),\"\",VLOOKUP(WEEKDAY($C33,2),Backend!$F$5:$K$11,4,FALSE))","v":""}]
["",4,"2018-01-23","","",1,"","",null,"2018-01-23",null,null,null,null,0,0,{"$f":"IF(OR(C34=\"\",D34=1),\"\",VLOOKUP(WEEKDAY($C34,2),Backend!$F$5:$K$11,4,FALSE))","v":"07:24:00"}]
["","","2018-01-24","","",1,"","",null,"2018-01-24",null,null,null,null,0,0,{"$f":"IF(OR(C35=\"\",D35=1),\"\",VLOOKUP(WEEKDAY($C35,2),Backend!$F$5:$K$11,4,FALSE))","v":"07:24:00"}]
["","","2018-01-25","","",1,"","",null,"2018-01-25",null,null,null,null,0,0,{"$f":"IF(OR(C36=\"\",D36=1),\"\",VLOOKUP(WEEKDAY($C36,2),Backend!$F$5:$K$11,4,FALSE))","v":"07:24:00"}]
["","","2018-01-26","","",1,"","",null,"2018-01-26",null,null,null,null,0,0,{"$f":"IF(OR(C37=\"\",D37=1),\"\",VLOOKUP(WEEKDAY($C37,2),Backend!$F$5:$K$11,4,FALSE))","v":"07:24:00"}]
["","","2018-01-27","","",1,"","",null,"2018-01-27",null,null,null,null,0,0,{"$f":"IF(OR(C38=\"\",D38=1),\"\",VLOOKUP(WEEKDAY($C38,2),Backend!$F$5:$K$11,4,FALSE))","v":"07:24:00"}]
["","","2018-01-28",1,"","","","",null,"2018-01-28",null,null,null,null,0,0,{"$f":"IF(OR(C39=\"\",D39=1),\"\",VLOOKUP(WEEKDAY($C39,2),Backend!$F$5:$K$11,4,FALSE))","v":""}]
["","","2018-01-29",1,"","","","",null,"2018-01-29",null,null,null,null,0,0,{"$f":"IF(OR(C40=\"\",D40=1),\"\",VLOOKUP(WEEKDAY($C40,2),Backend!$F$5:$K$11,4,FALSE))","v":""}]
["",5,"2018-01-30","","",1,"","",null,"2018-01-30",null,null,null,null,0,0,{"$f":"IF(OR(C41=\"\",D41=1),\"\",VLOOKUP(WEEKDAY($C41,2),Backend!$F$5:$K$11,4,FALSE))","v":"07:24:00"}]
["2018-01-31","","2018-01-31","","",1,"","",null,"2018-01-31",null,null,null,null,0,0,{"$f":"IF(OR(C42=\"\",D42=1),\"\",VLOOKUP(WEEKDAY($C42,2),Backend!$F$5:$K$11,4,FALSE))","v":"07:24:00"}]
["","","2018-02-01","","",1,"","",null,"2018-02-01",null,null,null,null,0,0,{"$f":"IF(OR(C43=\"\",D43=1),\"\",VLOOKUP(WEEKDAY($C43,2),Backend!$F$5:$K$11,4,FALSE))","v":"07:24:00"}]
["","","2018-02-02","","",1,"","",null,"2018-02-02",null,null,null,null,0,0,{"$f":"IF(OR(C44=\"\",D44=1),\"\",VLOOKUP(WEEKDAY($C44,2),Backend!$F$5:$K$11,4,FALSE))","v":"07:24:00"}]
["","","2018-02-03","","",1,"","",null,"2018-02-03",null,null,null,null,0,0,{"$f":"IF(OR(C45=\"\",D45=1),\"\",VLOOKUP(WEEKDAY($C45,2),Backend!$F$5:$K$11,4,FALSE))","v":"07:24:00"}]
["","","2018-02-04",1,"","","","",null,"2018-02-04",null,null,null,null,0,0,{"$f":"IF(OR(C46=\"\",D46=1),\"\",VLOOKUP(WEEKDAY($C46,2),Backend!$F$5:$K$11,4,FALSE))","v":""}]
["","","2018-02-05",1,"","","","",null,"2018-02-05",null,null,null,null,0,0,{"$f":"IF(OR(C47=\"\",D47=1),\"\",VLOOKUP(WEEKDAY($C47,2),Backend!$F$5:$K$11,4,FALSE))","v":""}]
["",6,"2018-02-06","","",1,"","",null,"2018-02-06",null,null,null,null,0,0,{"$f":"IF(OR(C48=\"\",D48=1),\"\",VLOOKUP(WEEKDAY($C48,2),Backend!$F$5:$K$11,4,FALSE))","v":"07:24:00"}]
["","","2018-02-07","","",1,"","",null,"2018-02-07",null,null,null,null,0,0,{"$f":"IF(OR(C49=\"\",D49=1),\"\",VLOOKUP(WEEKDAY($C49,2),Backend!$F$5:$K$11,4,FALSE))","v":"07:24:00"}]
["","","2018-02-08","","",1,"","",null,"2018-02-08",null,null,null,null,0,0,{"$f":"IF(OR(C50=\"\",D50=1),\"\",VLOOKUP(WEEKDAY($C50,2),Backend!$F$5:$K$11,4,FALSE))","v":"07:24:00"}]
["","","2018-02-09","","",1,"","",null,"2018-02-09",null,null,null,null,0,0,{"$f":"IF(OR(C51=\"\",D51=1),\"\",VLOOKUP(WEEKDAY($C51,2),Backend!$F$5:$K$11,4,FALSE))","v":"07:24:00"}]
["","","2018-02-10","","",1,"","",null,"2018-02-10",null,null,null,null,0,0,{"$f":"IF(OR(C52=\"\",D52=1),\"\",VLOOKUP(WEEKDAY($C52,2),Backend!$F$5:$K$11,4,FALSE))","v":"07:24:00"}]
["","","2018-02-11",1,"","","","",null,"2018-02-11",null,null,null,null,0,0,{"$f":"IF(OR(C53=\"\",D53=1),\"\",VLOOKUP(WEEKDAY($C53,2),Backend!$F$5:$K$11,4,FALSE))","v":""}]
["","","2018-02-12",1,"","","","",null,"2018-02-12",null,null,null,null,0,0,{"$f":"IF(OR(C54=\"\",D54=1),\"\",VLOOKUP(WEEKDAY($C54,2),Backend!$F$5:$K$11,4,FALSE))","v":""}]
["",7,"2018-02-13","","",1,"","",null,"2018-02-13",null,null,null,null,0,0,{"$f":"IF(OR(C55=\"\",D55=1),\"\",VLOOKUP(WEEKDAY($C55,2),Backend!$F$5:$K$11,4,FALSE))","v":"07:24:00"}]
["","","2018-02-14","","",1,"","",null,"2018-02-14",null,null,null,null,0,0,{"$f":"IF(OR(C56=\"\",D56=1),\"\",VLOOKUP(WEEKDAY($C56,2),Backend!$F$5:$K$11,4,FALSE))","v":"07:24:00"}]
["","","2018-02-15","","",1,"","",null,"2018-02-15",null,null,null,null,0,0,{"$f":"IF(OR(C57=\"\",D57=1),\"\",VLOOKUP(WEEKDAY($C57,2),Backend!$F$5:$K$11,4,FALSE))","v":"07:24:00"}]
["","","2018-02-16","","",1,"","",null,"2018-02-16",null,null,null,null,0,0,{"$f":"IF(OR(C58=\"\",D58=1),\"\",VLOOKUP(WEEKDAY($C58,2),Backend!$F$5:$K$11,4,FALSE))","v":"07:24:00"}]
["","","2018-02-17","","",1,"","",null,"2018-02-17",null,null,null,null,0,0,{"$f":"IF(OR(C59=\"\",D59=1),\"\",VLOOKUP(WEEKDAY($C59,2),Backend!$F$5:$K$11,4,FALSE))","v":"07:24:00"}]
["","","2018-02-18",1,"","","","",null,"2018-02-18",null,null,null,null,0,0,{"$f":"IF(OR(C60=\"\",D60=1),\"\",VLOOKUP(WEEKDAY($C60,2),Backend!$F$5:$K$11,4,FALSE))","v":""}]
["","","2018-02-19",1,"","","","",null,"2018-02-19",null,null,null,null,0,0,{"$f":"IF(OR(C61=\"\",D61=1),\"\",VLOOKUP(WEEKDAY($C61,2),Backend!$F$5:$K$11,4,FALSE))","v":""}]
["",8,"2018-02-20","","",1,"","",null,"2018-02-20",null,null,null,null,0,0,{"$f":"IF(OR(C62=\"\",D62=1),\"\",VLOOKUP(WEEKDAY($C62,2),Backend!$F$5:$K$11,4,FALSE))","v":"07:24:00"}]
["","","2018-02-21","","",1,"","",null,"2018-02-21",null,null,null,null,0,0,{"$f":"IF(OR(C63=\"\",D63=1),\"\",VLOOKUP(WEEKDAY($C63,2),Backend!$F$5:$K$11,4,FALSE))","v":"07:24:00"}]
["","","2018-02-22","","",1,"","",null,"2018-02-22",null,null,null,null,0,0,{"$f":"IF(OR(C64=\"\",D64=1),\"\",VLOOKUP(WEEKDAY($C64,2),Backend!$F$5:$K$11,4,FALSE))","v":"07:24:00"}]
["","","2018-02-23","","",1,"","",null,"2018-02-23",null,null,null,null,0,0,{"$f":"IF(OR(C65=\"\",D65=1),\"\",VLOOKUP(WEEKDAY($C65,2),Backend!$F$5:$K$11,4,FALSE))","v":"07:24:00"}]
["","","2018-02-24","","",1,"","",null,"2018-02-24",null,null,null,null,0,0,{"$f":"IF(OR(C66=\"\",D66=1),\"\",VLOOKUP(WEEKDAY($C66,2),Backend!$F$5:$K$11,4,FALSE))","v":"07:24:00"}]
["","","2018-02-25",1,"","","","",null,"2018-02-25",null,null,null,null,0,0,{"$f":"IF(OR(C67=\"\",D67=1),\"\",VLOOKUP(WEEKDAY($C67,2),Backend!$F$5:$K$11,4,FALSE))","v":""}]
["","","2018-02-26",1,"","","","",null,"2018-02-26",null,null,null,null,0,0,{"$f":"IF(OR(C68=\"\",D68=1),\"\",VLOOKUP(WEEKDAY($C68,2),Backend!$F$5:$K$11,4,FALSE))","v":""}]
["",9,"2018-02-27","","",1,"","",null,"2018-02-27",null,null,null,null,0,0,{"$f":"IF(OR(C69=\"\",D69=1),\"\",VLOOKUP(WEEKDAY($C69,2),Backend!$F$5:$K$11,4,FALSE))","v":"07:24:00"}]
["2018-02-28","","2018-02-28","","",1,"","",null,"2018-02-28",null,null,null,null,0,0,{"$f":"IF(OR(C70=\"\",D70=1),\"\",VLOOKUP(WEEKDAY($C70,2),Backend!$F$5:$K$11,4,FALSE))","v":"07:24:00"}]
["","","2018-03-01","","",1,"","",null,"2018-03-01",null,null,null,null,0,0,{"$f":"IF(OR(C71=\"\",D71=1),\"\",VLOOKUP(WEEKDAY($C71,2),Backend!$F$5:$K$11,4,FALSE))","v":"07:24:00"}]
["","","2018-03-02","","",1,"","",null,"2018-03-02",null,null,null,null,0,0,{"$f":"IF(OR(C72=\"\",D72=1),\"\",VLOOKUP(WEEKDAY($C72,2),Backend!$F$5:$K$11,4,FALSE))","v":"07:24:00"}]
["","","2018-03-03","","",1,"","",null,"2018-03-03",null,null,null,null,0,0,{"$f":"IF(OR(C73=\"\",D73=1),\"\",VLOOKUP(WEEKDAY($C73,2),Backend!$F$5:$K$11,4,FALSE))","v":"07:24:00"}]
["","","2018-03-04",1,"","","","",null,"2018-03-04",null,null,null,null,0,0,{"$f":"IF(OR(C74=\"\",D74=1),\"\",VLOOKUP(WEEKDAY($C74,2),Backend!$F$5:$K$11,4,FALSE))","v":""}]
["","","2018-03-05",1,"",{"$f":"IF(AND(Q75<>\"\",G75=\"\"),1,\"\")","v":""},{"$f":"IF(AND(K75<>\"\",$M75=\"Hjemmearbejdsdag\"),1,\"\")","v":""},"",null,"2018-03-05",null,null,null,null,0,0,{"$f":"IF(OR(C75=\"\",D75=1),\"\",VLOOKUP(WEEKDAY($C75,2),Backend!$F$5:$K$11,4,FALSE))","v":""}]
[{"$f":"IF(DAY(C76)=1,C76,\"\")","v":""},{"$f":"IF(WEEKDAY(C76,2)=1,1+INT((C76-DATE(YEAR(C76+4-WEEKDAY(C76+6)),1,5)+WEEKDAY(DATE(YEAR(C76+4-WEEKDAY(C76+6)),1,3)))/7),\"\")","v":10},"2018-03-06",{"$f":"IF(OR(WEEKDAY(C76)=1,WEEKDAY(C76)=7),1,\"\")","v":""},{"$f":"IF(OR(M76=\"Feriefridag\",M76=\"Ferie med løn\",M76=\"Flex-fri\"),1,\"\")","v":""},1,"",{"$f":"IF(AND(D76=1,K76<>\"\"),1,\"\")","v":""},null,"2018-03-06",null,null,null,null,{"$f":"IF(OR(K76=\"\",L76=\"\"),0,IF(VALUE(K76)>=VALUE(L76),(TIME(TRUNC(L76/100),MOD(L76,100),0))+1-(TIME(TRUNC(K76/100),MOD(K76,100),0)),(TIME(TRUNC(L76/100),MOD(L76,100),0))-(TIME(TRUNC(K76/100),MOD(K76,100),0))))","v":0},{"$f":"O76*24","v":0},{"$f":"IF(OR(C76=\"\",D76=1),\"\",VLOOKUP(WEEKDAY($C76,2),Backend!$F$5:$K$11,4,FALSE))","v":"07:24:00"}]
["","",{"$f":"C76+1","v":"2018-03-07"},"","",1,"","",null,{"$f":"C77","v":"2018-03-07"},null,null,null,null,0,0,{"$f":"IF(OR(C77=\"\",D77=1),\"\",VLOOKUP(WEEKDAY($C77,2),Backend!$F$5:$K$11,4,FALSE))","v":"07:24:00"}]
["","","2018-03-08","","",1,"","",null,"2018-03-08",null,null,null,null,0,0,{"$f":"IF(OR(C78=\"\",D78=1),\"\",VLOOKUP(WEEKDAY($C78,2),Backend!$F$5:$K$11,4,FALSE))","v":"07:24:00"}]
["","","2018-03-09","","",1,"","",null,"2018-03-09",null,null,null,null,0,0,{"$f":"IF(OR(C79=\"\",D79=1),\"\",VLOOKUP(WEEKDAY($C79,2),Backend!$F$5:$K$11,4,FALSE))","v":"07:24:00"}]
["","","2018-03-10","","",1,"","",null,"2018-03-10",null,null,null,null,0,0,{"$f":"IF(OR(C80=\"\",D80=1),\"\",VLOOKUP(WEEKDAY($C80,2),Backend!$F$5:$K$11,4,FALSE))","v":"07:24:00"}]
["","","2018-03-11",1,"","","","",null,"2018-03-11",null,null,null,null,0,0,{"$f":"IF(OR(C81=\"\",D81=1),\"\",VLOOKUP(WEEKDAY($C81,2),Backend!$F$5:$K$11,4,FALSE))","v":""}]
["","","2018-03-12",1,"","","","",null,"2018-03-12",null,null,null,null,0,0,{"$f":"IF(OR(C82=\"\",D82=1),\"\",VLOOKUP(WEEKDAY($C82,2),Backend!$F$5:$K$11,4,FALSE))","v":""}]
["",11,"2018-03-13","","",1,"","",null,"2018-03-13",null,null,null,null,0,0,{"$f":"IF(OR(C83=\"\",D83=1),\"\",VLOOKUP(WEEKDAY($C83,2),Backend!$F$5:$K$11,4,FALSE))","v":"07:24:00"}]
["","","2018-03-14","","",1,"","",null,"2018-03-14",null,null,null,null,0,0,{"$f":"IF(OR(C84=\"\",D84=1),\"\",VLOOKUP(WEEKDAY($C84,2),Backend!$F$5:$K$11,4,FALSE))","v":"07:24:00"}]
["","","2018-03-15","","",1,"","",null,"2018-03-15",null,null,null,null,0,0,{"$f":"IF(OR(C85=\"\",D85=1),\"\",VLOOKUP(WEEKDAY($C85,2),Backend!$F$5:$K$11,4,FALSE))","v":"07:24:00"}]
["","","2018-03-16","","",1,"","",null,"2018-03-16",null,null,null,null,0,0,{"$f":"IF(OR(C86=\"\",D86=1),\"\",VLOOKUP(WEEKDAY($C86,2),Backend!$F$5:$K$11,4,FALSE))","v":"07:24:00"}]
["","","2018-03-17","","",1,"","",null,"2018-03-17",null,null,null,null,0,0,{"$f":"IF(OR(C87=\"\",D87=1),\"\",VLOOKUP(WEEKDAY($C87,2),Backend!$F$5:$K$11,4,FALSE))","v":"07:24:00"}]
["","","2018-03-18",1,"","","","",null,"2018-03-18",null,null,null,null,0,0,{"$f":"IF(OR(C88=\"\",D88=1),\"\",VLOOKUP(WEEKDAY($C88,2),Backend!$F$5:$K$11,4,FALSE))","v":""}]
["","","2018-03-19",1,"","","","",null,"2018-03-19",null,null,null,null,0,0,{"$f":"IF(OR(C89=\"\",D89=1),\"\",VLOOKUP(WEEKDAY($C89,2),Backend!$F$5:$K$11,4,FALSE))","v":""}]
["",12,"2018-03-20","","",1,"","",null,"2018-03-20",null,null,null,null,0,0,{"$f":"IF(OR(C90=\"\",D90=1),\"\",VLOOKUP(WEEKDAY($C90,2),Backend!$F$5:$K$11,4,FALSE))","v":"07:24:00"}]
["","","2018-03-21","","",1,"","",null,"2018-03-21",null,null,null,null,0,0,{"$f":"IF(OR(C91=\"\",D91=1),\"\",VLOOKUP(WEEKDAY($C91,2),Backend!$F$5:$K$11,4,FALSE))","v":"07:24:00"}]
["","","2018-03-22","","",1,"","",null,"2018-03-22",null,null,null,null,0,0,{"$f":"IF(OR(C92=\"\",D92=1),\"\",VLOOKUP(WEEKDAY($C92,2),Backend!$F$5:$K$11,4,FALSE))","v":"07:24:00"}]
["","","2018-03-23","","",1,"","",null,"2018-03-23",null,null,null,null,0,0,{"$f":"IF(OR(C93=\"\",D93=1),\"\",VLOOKUP(WEEKDAY($C93,2),Backend!$F$5:$K$11,4,FALSE))","v":"07:24:00"}]
["","","2018-03-24","","",1,"","",null,"2018-03-24",null,null,null,null,0,0,{"$f":"IF(OR(C94=\"\",D94=1),\"\",VLOOKUP(WEEKDAY($C94,2),Backend!$F$5:$K$11,4,FALSE))","v":"07:24:00"}]
["","","2018-03-25",1,"","","","",null,"2018-03-25",null,null,null,null,0,0,{"$f":"IF(OR(C95=\"\",D95=1),\"\",VLOOKUP(WEEKDAY($C95,2),Backend!$F$5:$K$11,4,FALSE))","v":""}]
["","","2018-03-26",1,"","","","",null,"2018-03-26",null,null,null,null,0,0,{"$f":"IF(OR(C96=\"\",D96=1),\"\",VLOOKUP(WEEKDAY($C96,2),Backend!$F$5:$K$11,4,FALSE))","v":""}]
["",13,"2018-03-27","","",1,"","",null,"2018-03-27",null,null,null,null,0,0,{"$f":"IF(OR(C97=\"\",D97=1),\"\",VLOOKUP(WEEKDAY($C97,2),Backend!$F$5:$K$11,4,FALSE))","v":"07:24:00"}]
["","","2018-03-28","","",1,"","",null,"2018-03-28",null,null,null,null,0,0,{"$f":"IF(OR(C98=\"\",D98=1),\"\",VLOOKUP(WEEKDAY($C98,2),Backend!$F$5:$K$11,4,FALSE))","v":"07:24:00"}]
["","","2018-03-29","","",1,"","",null,"2018-03-29",null,null,null,null,0,0,{"$f":"IF(OR(C99=\"\",D99=1),\"\",VLOOKUP(WEEKDAY($C99,2),Backend!$F$5:$K$11,4,FALSE))","v":"07:24:00"}]
["","","2018-03-30","","",1,"","",null,"2018-03-30",null,null,null,null,0,0,{"$f":"IF(OR(C100=\"\",D100=1),\"\",VLOOKUP(WEEKDAY($C100,2),Backend!$F$5:$K$11,4,FALSE))","v":"07:24:00"}]
["2018-03-31","","2018-03-31","","",1,"","",null,"2018-03-31",null,null,null,null,0,0,{"$f":"IF(OR(C101=\"\",D101=1),\"\",VLOOKUP(WEEKDAY($C101,2),Backend!$F$5:$K$11,4,FALSE))","v":"07:24:00"}]
["","","2018-04-01",1,"","","","",null,"2018-04-01",null,null,null,null,0,0,{"$f":"IF(OR(C102=\"\",D102=1),\"\",VLOOKUP(WEEKDAY($C102,2),Backend!$F$5:$K$11,4,FALSE))","v":""}]
["","","2018-04-02",1,"","","","",null,"2018-04-02",null,null,null,null,0,0,{"$f":"IF(OR(C103=\"\",D103=1),\"\",VLOOKUP(WEEKDAY($C103,2),Backend!$F$5:$K$11,4,FALSE))","v":""}]
["",14,"2018-04-03","","",1,"","",null,"2018-04-03",null,null,null,null,0,0,{"$f":"IF(OR(C104=\"\",D104=1),\"\",VLOOKUP(WEEKDAY($C104,2),Backend!$F$5:$K$11,4,FALSE))","v":"07:24:00"}]
["","","2018-04-04","","",1,"","",null,"2018-04-04",null,null,null,null,0,0,{"$f":"IF(OR(C105=\"\",D105=1),\"\",VLOOKUP(WEEKDAY($C105,2),Backend!$F$5:$K$11,4,FALSE))","v":"07:24:00"}]
["","","2018-04-05","","",1,"","",null,"2018-04-05",null,null,null,null,0,0,{"$f":"IF(OR(C106=\"\",D106=1),\"\",VLOOKUP(WEEKDAY($C106,2),Backend!$F$5:$K$11,4,FALSE))","v":"07:24:00"}]
["","","2018-04-06","","",1,"","",null,"2018-04-06",null,null,null,null,0,0,{"$f":"IF(OR(C107=\"\",D107=1),\"\",VLOOKUP(WEEKDAY($C107,2),Backend!$F$5:$K$11,4,FALSE))","v":"07:24:00"}]
["","","2018-04-07","","",1,"","",null,"2018-04-07",null,null,null,null,0,0,{"$f":"IF(OR(C108=\"\",D108=1),\"\",VLOOKUP(WEEKDAY($C108,2),Backend!$F$5:$K$11,4,FALSE))","v":"07:24:00"}]
["","","2018-04-08",1,"","","","",null,"2018-04-08",null,null,null,null,0,0,{"$f":"IF(OR(C109=\"\",D109=1),\"\",VLOOKUP(WEEKDAY($C109,2),Backend!$F$5:$K$11,4,FALSE))","v":""}]
["","","2018-04-09",1,"","","","",null,"2018-04-09",null,null,null,null,0,0,{"$f":"IF(OR(C110=\"\",D110=1),\"\",VLOOKUP(WEEKDAY($C110,2),Backend!$F$5:$K$11,4,FALSE))","v":""}]
["",15,"2018-04-10","","",1,"","",null,"2018-04-10",null,null,null,null,0,0,{"$f":"IF(OR(C111=\"\",D111=1),\"\",VLOOKUP(WEEKDAY($C111,2),Backend!$F$5:$K$11,4,FALSE))","v":"07:24:00"}]
["","","2018-04-11","","",1,"","",null,"2018-04-11",null,null,null,null,0,0,{"$f":"IF(OR(C112=\"\",D112=1),\"\",VLOOKUP(WEEKDAY($C112,2),Backend!$F$5:$K$11,4,FALSE))","v":"07:24:00"}]
["","","2018-04-12","","",1,"","",null,"2018-04-12",null,null,null,null,0,0,{"$f":"IF(OR(C113=\"\",D113=1),\"\",VLOOKUP(WEEKDAY($C113,2),Backend!$F$5:$K$11,4,FALSE))","v":"07:24:00"}]
["","","2018-04-13","","",1,"","",null,"2018-04-13",null,null,null,null,0,0,{"$f":"IF(OR(C114=\"\",D114=1),\"\",VLOOKUP(WEEKDAY($C114,2),Backend!$F$5:$K$11,4,FALSE))","v":"07:24:00"}]
["","","2018-04-14","","",1,"","",null,"2018-04-14",null,null,null,null,0,0,{"$f":"IF(OR(C115=\"\",D115=1),\"\",VLOOKUP(WEEKDAY($C115,2),Backend!$F$5:$K$11,4,FALSE))","v":"07:24:00"}]
["","","2018-04-15",1,"","","","",null,"2018-04-15",null,null,null,null,0,0,{"$f":"IF(OR(C116=\"\",D116=1),\"\",VLOOKUP(WEEKDAY($C116,2),Backend!$F$5:$K$11,4,FALSE))","v":""}]
["","","2018-04-16",1,"","","","",null,"2018-04-16",null,null,null,null,0,0,{"$f":"IF(OR(C117=\"\",D117=1),\"\",VLOOKUP(WEEKDAY($C117,2),Backend!$F$5:$K$11,4,FALSE))","v":""}]
["",16,"2018-04-17","","",1,"","",null,"2018-04-17",null,null,null,null,0,0,{"$f":"IF(OR(C118=\"\",D118=1),\"\",VLOOKUP(WEEKDAY($C118,2),Backend!$F$5:$K$11,4,FALSE))","v":"07:24:00"}]
["","","2018-04-18","","",1,"","",null,"2018-04-18",null,null,null,null,0,0,{"$f":"IF(OR(C119=\"\",D119=1),\"\",VLOOKUP(WEEKDAY($C119,2),Backend!$F$5:$K$11,4,FALSE))","v":"07:24:00"}]
["","","2018-04-19","","",1,"","",null,"2018-04-19",null,null,null,null,0,0,{"$f":"IF(OR(C120=\"\",D120=1),\"\",VLOOKUP(WEEKDAY($C120,2),Backend!$F$5:$K$11,4,FALSE))","v":"07:24:00"}]
["","","2018-04-20","","",1,"","",null,"2018-04-20",null,null,null,null,0,0,{"$f":"IF(OR(C121=\"\",D121=1),\"\",VLOOKUP(WEEKDAY($C121,2),Backend!$F$5:$K$11,4,FALSE))","v":"07:24:00"}]
["","","2018-04-21","","",1,"","",null,"2018-04-21",null,null,null,null,0,0,{"$f":"IF(OR(C122=\"\",D122=1),\"\",VLOOKUP(WEEKDAY($C122,2),Backend!$F$5:$K$11,4,FALSE))","v":"07:24:00"}]
["","","2018-04-22",1,"","","","",null,"2018-04-22",null,null,null,null,0,0,{"$f":"IF(OR(C123=\"\",D123=1),\"\",VLOOKUP(WEEKDAY($C123,2),Backend!$F$5:$K$11,4,FALSE))","v":""}]
["","","2018-04-23",1,"","","","",null,"2018-04-23",null,null,null,null,0,0,{"$f":"IF(OR(C124=\"\",D124=1),\"\",VLOOKUP(WEEKDAY($C124,2),Backend!$F$5:$K$11,4,FALSE))","v":""}]
["",17,"2018-04-24","","",1,"","",null,"2018-04-24",null,null,null,null,0,0,{"$f":"IF(OR(C125=\"\",D125=1),\"\",VLOOKUP(WEEKDAY($C125,2),Backend!$F$5:$K$11,4,FALSE))","v":"07:24:00"}]
["","","2018-04-25","","",1,"","",null,"2018-04-25",null,null,null,null,0,0,{"$f":"IF(OR(C126=\"\",D126=1),\"\",VLOOKUP(WEEKDAY($C126,2),Backend!$F$5:$K$11,4,FALSE))","v":"07:24:00"}]
["","","2018-04-26","","",1,"","",null,"2018-04-26",null,null,null,null,0,0,{"$f":"IF(OR(C127=\"\",D127=1),\"\",VLOOKUP(WEEKDAY($C127,2),Backend!$F$5:$K$11,4,FALSE))","v":"07:24:00"}]
["","","2018-04-27","","",1,"","",null,"2018-04-27",null,null,null,null,0,0,{"$f":"IF(OR(C128=\"\",D128=1),\"\",VLOOKUP(WEEKDAY($C128,2),Backend!$F$5:$K$11,4,FALSE))","v":"07:24:00"}]
["","","2018-04-28","","",1,"","",null,"2018-04-28",null,null,null,null,0,0,{"$f":"IF(OR(C129=\"\",D129=1),\"\",VLOOKUP(WEEKDAY($C129,2),Backend!$F$5:$K$11,4,FALSE))","v":"07:24:00"}]
["","","2018-04-29",1,"","","","",null,"2018-04-29",null,null,null,null,0,0,{"$f":"IF(OR(C130=\"\",D130=1),\"\",VLOOKUP(WEEKDAY($C130,2),Backend!$F$5:$K$11,4,FALSE))","v":""}]
["2018-04-30","","2018-04-30",1,"","","","",null,"2018-04-30",null,null,null,null,0,0,{"$f":"IF(OR(C131=\"\",D131=1),\"\",VLOOKUP(WEEKDAY($C131,2),Backend!$F$5:$K$11,4,FALSE))","v":""}]
["",18,"2018-05-01","","",1,"","",null,"2018-05-01",null,null,null,null,0,0,{"$f":"IF(OR(C132=\"\",D132=1),\"\",VLOOKUP(WEEKDAY($C132,2),Backend!$F$5:$K$11,4,FALSE))","v":"07:24:00"}]
["","","2018-05-02","","",1,"","",null,"2018-05-02",null,null,null,null,0,0,{"$f":"IF(OR(C133=\"\",D133=1),\"\",VLOOKUP(WEEKDAY($C133,2),Backend!$F$5:$K$11,4,FALSE))","v":"07:24:00"}]
["","","2018-05-03","","",1,"","",null,"2018-05-03",null,null,null,null,0,0,{"$f":"IF(OR(C134=\"\",D134=1),\"\",VLOOKUP(WEEKDAY($C134,2),Backend!$F$5:$K$11,4,FALSE))","v":"07:24:00"}]
["","","2018-05-04","","",1,"","",null,"2018-05-04",null,null,null,null,0,0,{"$f":"IF(OR(C135=\"\",D135=1),\"\",VLOOKUP(WEEKDAY($C135,2),Backend!$F$5:$K$11,4,FALSE))","v":"07:24:00"}]
["","","2018-05-05","","",1,"","",null,"2018-05-05",null,null,null,null,0,0,{"$f":"IF(OR(C136=\"\",D136=1),\"\",VLOOKUP(WEEKDAY($C136,2),Backend!$F$5:$K$11,4,FALSE))","v":"07:24:00"}]
["","","2018-05-06",1,"","","","",null,"2018-05-06",null,null,null,null,0,0,{"$f":"IF(OR(C137=\"\",D137=1),\"\",VLOOKUP(WEEKDAY($C137,2),Backend!$F$5:$K$11,4,FALSE))","v":""}]
["","","2018-05-07",1,"","","","",null,"2018-05-07",null,null,null,null,0,0,{"$f":"IF(OR(C138=\"\",D138=1),\"\",VLOOKUP(WEEKDAY($C138,2),Backend!$F$5:$K$11,4,FALSE))","v":""}]
["",19,"2018-05-08","","",{"$f":"IF(AND(Q139<>\"\",G139=\"\"),1,\"\")","v":1},{"$f":"IF(AND(K139<>\"\",$M139=\"Hjemmearbejdsdag\"),1,\"\")","v":""},"",null,"2018-05-08",null,null,null,null,0,0,{"$f":"IF(OR(C139=\"\",D139=1),\"\",VLOOKUP(WEEKDAY($C139,2),Backend!$F$5:$K$11,4,FALSE))","v":"07:24:00"}]
[{"$f":"IF(DAY(C140)=1,C140,\"\")","v":""},{"$f":"IF(WEEKDAY(C140,2)=1,1+INT((C140-DATE(YEAR(C140+4-WEEKDAY(C140+6)),1,5)+WEEKDAY(DATE(YEAR(C140+4-WEEKDAY(C140+6)),1,3)))/7),\"\")","v":""},"2018-05-09",{"$f":"IF(OR(WEEKDAY(C140)=1,WEEKDAY(C140)=7),1,\"\")","v":""},{"$f":"IF(OR(M140=\"Feriefridag\",M140=\"Ferie med løn\",M140=\"Flex-fri\"),1,\"\")","v":""},1,"",{"$f":"IF(AND(D140=1,K140<>\"\"),1,\"\")","v":""},null,"2018-05-09",null,null,null,null,{"$f":"IF(OR(K140=\"\",L140=\"\"),0,IF(VALUE(K140)>=VALUE(L140),(TIME(TRUNC(L140/100),MOD(L140,100),0))+1-(TIME(TRUNC(K140/100),MOD(K140,100),0)),(TIME(TRUNC(L140/100),MOD(L140,100),0))-(TIME(TRUNC(K140/100),MOD(K140,100),0))))","v":0},{"$f":"O140*24","v":0},{"$f":"IF(OR(C140=\"\",D140=1),\"\",VLOOKUP(WEEKDAY($C140,2),Backend!$F$5:$K$11,4,FALSE))","v":"07:24:00"}]
["","",{"$f":"C140+1","v":"2018-05-10"},"","",1,"","",null,{"$f":"C141","v":"2018-05-10"},null,null,null,null,0,0,{"$f":"IF(OR(C141=\"\",D141=1),\"\",VLOOKUP(WEEKDAY($C141,2),Backend!$F$5:$K$11,4,FALSE))","v":"07:24:00"}]
["","","2018-05-11","","",1,"","",null,"2018-05-11",null,null,null,null,0,0,{"$f":"IF(OR(C142=\"\",D142=1),\"\",VLOOKUP(WEEKDAY($C142,2),Backend!$F$5:$K$11,4,FALSE))","v":"07:24:00"}]
["","","2018-05-12","","",1,"","",null,"2018-05-12",null,null,null,null,0,0,{"$f":"IF(OR(C143=\"\",D143=1),\"\",VLOOKUP(WEEKDAY($C143,2),Backend!$F$5:$K$11,4,FALSE))","v":"07:24:00"}]
["","","2018-05-13",1,"","","","",null,"2018-05-13",null,null,null,null,0,0,{"$f":"IF(OR(C144=\"\",D144=1),\"\",VLOOKUP(WEEKDAY($C144,2),Backend!$F$5:$K$11,4,FALSE))","v":""}]
["","","2018-05-14",1,"","","","",null,"2018-05-14",null,null,null,null,0,0,{"$f":"IF(OR(C145=\"\",D145=1),\"\",VLOOKUP(WEEKDAY($C145,2),Backend!$F$5:$K$11,4,FALSE))","v":""}]
["",20,"2018-05-15","","",1,"","",null,"2018-05-15",null,null,null,null,0,0,{"$f":"IF(OR(C146=\"\",D146=1),\"\",VLOOKUP(WEEKDAY($C146,2),Backend!$F$5:$K$11,4,FALSE))","v":"07:24:00"}]
["","","2018-05-16","","",1,"","",null,"2018-05-16",null,null,null,null,0,0,{"$f":"IF(OR(C147=\"\",D147=1),\"\",VLOOKUP(WEEKDAY($C147,2),Backend!$F$5:$K$11,4,FALSE))","v":"07:24:00"}]
["","","2018-05-17","","",1,"","",null,"2018-05-17",null,null,null,null,0,0,{"$f":"IF(OR(C148=\"\",D148=1),\"\",VLOOKUP(WEEKDAY($C148,2),Backend!$F$5:$K$11,4,FALSE))","v":"07:24:00"}]
["","","2018-05-18","","",1,"","",null,"2018-05-18",null,null,null,null,0,0,{"$f":"IF(OR(C149=\"\",D149=1),\"\",VLOOKUP(WEEKDAY($C149,2),Backend!$F$5:$K$11,4,FALSE))","v":"07:24:00"}]
["","","2018-05-19","","",1,"","",null,"2018-05-19",null,null,null,null,0,0,{"$f":"IF(OR(C150=\"\",D150=1),\"\",VLOOKUP(WEEKDAY($C150,2),Backend!$F$5:$K$11,4,FALSE))","v":"07:24:00"}]
["","","2018-05-20",1,"","","","",null,"2018-05-20",null,null,null,null,0,0,{"$f":"IF(OR(C151=\"\",D151=1),\"\",VLOOKUP(WEEKDAY($C151,2),Backend!$F$5:$K$11,4,FALSE))","v":""}]
["","","2018-05-21",1,"","","","",null,"2018-05-21",null,null,null,null,0,0,{"$f":"IF(OR(C152=\"\",D152=1),\"\",VLOOKUP(WEEKDAY($C152,2),Backend!$F$5:$K$11,4,FALSE))","v":""}]
["",21,"2018-05-22","","",1,"","",null,"2018-05-22",null,null,null,null,0,0,{"$f":"IF(OR(C153=\"\",D153=1),\"\",VLOOKUP(WEEKDAY($C153,2),Backend!$F$5:$K$11,4,FALSE))","v":"07:24:00"}]
["","","2018-05-23","","",1,"","",null,"2018-05-23",null,null,null,null,0,0,{"$f":"IF(OR(C154=\"\",D154=1),\"\",VLOOKUP(WEEKDAY($C154,2),Backend!$F$5:$K$11,4,FALSE))","v":"07:24:00"}]
["","","2018-05-24","","",1,"","",null,"2018-05-24",null,null,null,null,0,0,{"$f":"IF(OR(C155=\"\",D155=1),\"\",VLOOKUP(WEEKDAY($C155,2),Backend!$F$5:$K$11,4,FALSE))","v":"07:24:00"}]
["","","2018-05-25","","",1,"","",null,"2018-05-25",null,null,null,null,0,0,{"$f":"IF(OR(C156=\"\",D156=1),\"\",VLOOKUP(WEEKDAY($C156,2),Backend!$F$5:$K$11,4,FALSE))","v":"07:24:00"}]
["","","2018-05-26","","",1,"","",null,"2018-05-26",null,null,null,null,0,0,{"$f":"IF(OR(C157=\"\",D157=1),\"\",VLOOKUP(WEEKDAY($C157,2),Backend!$F$5:$K$11,4,FALSE))","v":"07:24:00"}]
["","","2018-05-27",1,"","","","",null,"2018-05-27",null,null,null,null,0,0,{"$f":"IF(OR(C158=\"\",D158=1),\"\",VLOOKUP(WEEKDAY($C158,2),Backend!$F$5:$K$11,4,FALSE))","v":""}]
["","","2018-05-28",1,"","","","",null,"2018-05-28",null,null,null,null,0,0,{"$f":"IF(OR(C159=\"\",D159=1),\"\",VLOOKUP(WEEKDAY($C159,2),Backend!$F$5:$K$11,4,FALSE))","v":""}]
["",22,"2018-05-29","","",1,"","",null,"2018-05-29",null,null,null,null,0,0,{"$f":"IF(OR(C160=\"\",D160=1),\"\",VLOOKUP(WEEKDAY($C160,2),Backend!$F$5:$K$11,4,FALSE))","v":"07:24:00"}]
["","","2018-05-30","","",1,"","",null,"2018-05-30",null,null,null,null,0,0,{"$f":"IF(OR(C161=\"\",D161=1),\"\",VLOOKUP(WEEKDAY($C161,2),Backend!$F$5:$K$11,4,FALSE))","v":"07:24:00"}]
["2018-05-31","","2018-05-31","","",1,"","",null,"2018-05-31",null,null,null,null,0,0,{"$f":"IF(OR(C162=\"\",D162=1),\"\",VLOOKUP(WEEKDAY($C162,2),Backend!$F$5:$K$11,4,FALSE))","v":"07:24:00"}]
["","","2018-06-01","","",1,"","",null,"2018-06-01",null,null,null,null,0,0,{"$f":"IF(OR(C163=\"\",D163=1),\"\",VLOOKUP(WEEKDAY($C163,2),Backend!$F$5:$K$11,4,FALSE))","v":"07:24:00"}]
["","","2018-06-02","","",1,"","",null,"2018-06-02",null,null,null,null,0,0,{"$f":"IF(OR(C164=\"\",D164=1),\"\",VLOOKUP(WEEKDAY($C164,2),Backend!$F$5:$K$11,4,FALSE))","v":"07:24:00"}]
["","","2018-06-03",1,"","","","",null,"2018-06-03",null,null,null,null,0,0,{"$f":"IF(OR(C165=\"\",D165=1),\"\",VLOOKUP(WEEKDAY($C165,2),Backend!$F$5:$K$11,4,FALSE))","v":""}]
["","","2018-06-04",1,"","","","",null,"2018-06-04",null,null,null,null,0,0,{"$f":"IF(OR(C166=\"\",D166=1),\"\",VLOOKUP(WEEKDAY($C166,2),Backend!$F$5:$K$11,4,FALSE))","v":""}]
["",23,"2018-06-05","","",1,"","",null,"2018-06-05",null,null,null,null,0,0,{"$f":"IF(OR(C167=\"\",D167=1),\"\",VLOOKUP(WEEKDAY($C167,2),Backend!$F$5:$K$11,4,FALSE))","v":"07:24:00"}]
["","","2018-06-06","","",1,"","",null,"2018-06-06",null,null,null,null,0,0,{"$f":"IF(OR(C168=\"\",D168=1),\"\",VLOOKUP(WEEKDAY($C168,2),Backend!$F$5:$K$11,4,FALSE))","v":"07:24:00"}]
["","","2018-06-07","","",1,"","",null,"2018-06-07",null,null,null,null,0,0,{"$f":"IF(OR(C169=\"\",D169=1),\"\",VLOOKUP(WEEKDAY($C169,2),Backend!$F$5:$K$11,4,FALSE))","v":"07:24:00"}]
["","","2018-06-08","","",1,"","",null,"2018-06-08",null,null,null,null,0,0,{"$f":"IF(OR(C170=\"\",D170=1),\"\",VLOOKUP(WEEKDAY($C170,2),Backend!$F$5:$K$11,4,FALSE))","v":"07:24:00"}]
["","","2018-06-09","","",1,"","",null,"2018-06-09",null,null,null,null,0,0,{"$f":"IF(OR(C171=\"\",D171=1),\"\",VLOOKUP(WEEKDAY($C171,2),Backend!$F$5:$K$11,4,FALSE))","v":"07:24:00"}]
["","","2018-06-10",1,"","","","",null,"2018-06-10",null,null,null,null,0,0,{"$f":"IF(OR(C172=\"\",D172=1),\"\",VLOOKUP(WEEKDAY($C172,2),Backend!$F$5:$K$11,4,FALSE))","v":""}]
["","","2018-06-11",1,"","","","",null,"2018-06-11",null,null,null,null,0,0,{"$f":"IF(OR(C173=\"\",D173=1),\"\",VLOOKUP(WEEKDAY($C173,2),Backend!$F$5:$K$11,4,FALSE))","v":""}]
["",24,"2018-06-12","","",1,"","",null,"2018-06-12",null,null,null,null,0,0,{"$f":"IF(OR(C174=\"\",D174=1),\"\",VLOOKUP(WEEKDAY($C174,2),Backend!$F$5:$K$11,4,FALSE))","v":"07:24:00"}]
["","","2018-06-13","","",1,"","",null,"2018-06-13",null,null,null,null,0,0,{"$f":"IF(OR(C175=\"\",D175=1),\"\",VLOOKUP(WEEKDAY($C175,2),Backend!$F$5:$K$11,4,FALSE))","v":"07:24:00"}]
["","","2018-06-14","","",1,"","",null,"2018-06-14",null,null,null,null,0,0,{"$f":"IF(OR(C176=\"\",D176=1),\"\",VLOOKUP(WEEKDAY($C176,2),Backend!$F$5:$K$11,4,FALSE))","v":"07:24:00"}]
["","","2018-06-15","","",1,"","",null,"2018-06-15",null,null,null,null,0,0,{"$f":"IF(OR(C177=\"\",D177=1),\"\",VLOOKUP(WEEKDAY($C177,2),Backend!$F$5:$K$11,4,FALSE))","v":"07:24:00"}]
["","","2018-06-16","","",1,"","",null,"2018-06-16",null,null,null,null,0,0,{"$f":"IF(OR(C178=\"\",D178=1),\"\",VLOOKUP(WEEKDAY($C178,2),Backend!$F$5:$K$11,4,FALSE))","v":"07:24:00"}]
["","","2018-06-17",1,"","","","",null,"2018-06-17",null,null,null,null,0,0,{"$f":"IF(OR(C179=\"\",D179=1),\"\",VLOOKUP(WEEKDAY($C179,2),Backend!$F$5:$K$11,4,FALSE))","v":""}]
["","","2018-06-18",1,"","","","",null,"2018-06-18",null,null,null,null,0,0,{"$f":"IF(OR(C180=\"\",D180=1),\"\",VLOOKUP(WEEKDAY($C180,2),Backend!$F$5:$K$11,4,FALSE))","v":""}]
["",25,"2018-06-19","","",1,"","",null,"2018-06-19",null,null,null,null,0,0,{"$f":"IF(OR(C181=\"\",D181=1),\"\",VLOOKUP(WEEKDAY($C181,2),Backend!$F$5:$K$11,4,FALSE))","v":"07:24:00"}]
["","","2018-06-20","","",1,"","",null,"2018-06-20",null,null,null,null,0,0,{"$f":"IF(OR(C182=\"\",D182=1),\"\",VLOOKUP(WEEKDAY($C182,2),Backend!$F$5:$K$11,4,FALSE))","v":"07:24:00"}]
["","","2018-06-21","","",1,"","",null,"2018-06-21",null,null,null,null,0,0,{"$f":"IF(OR(C183=\"\",D183=1),\"\",VLOOKUP(WEEKDAY($C183,2),Backend!$F$5:$K$11,4,FALSE))","v":"07:24:00"}]
["","","2018-06-22","","",1,"","",null,"2018-06-22",null,null,null,null,0,0,{"$f":"IF(OR(C184=\"\",D184=1),\"\",VLOOKUP(WEEKDAY($C184,2),Backend!$F$5:$K$11,4,FALSE))","v":"07:24:00"}]
["","","2018-06-23","","",1,"","",null,"2018-06-23",null,null,null,null,0,0,{"$f":"IF(OR(C185=\"\",D185=1),\"\",VLOOKUP(WEEKDAY($C185,2),Backend!$F$5:$K$11,4,FALSE))","v":"07:24:00"}]
["","","2018-06-24",1,"","","","",null,"2018-06-24",null,null,null,null,0,0,{"$f":"IF(OR(C186=\"\",D186=1),\"\",VLOOKUP(WEEKDAY($C186,2),Backend!$F$5:$K$11,4,FALSE))","v":""}]
["","","2018-06-25",1,"","","","",null,"2018-06-25",null,null,null,null,0,0,{"$f":"IF(OR(C187=\"\",D187=1),\"\",VLOOKUP(WEEKDAY($C187,2),Backend!$F$5:$K$11,4,FALSE))","v":""}]
["",26,"2018-06-26","","",1,"","",null,"2018-06-26",null,null,null,null,0,0,{"$f":"IF(OR(C188=\"\",D188=1),\"\",VLOOKUP(WEEKDAY($C188,2),Backend!$F$5:$K$11,4,FALSE))","v":"07:24:00"}]
["","","2018-06-27","","",1,"","",null,"2018-06-27",null,null,null,null,0,0,{"$f":"IF(OR(C189=\"\",D189=1),\"\",VLOOKUP(WEEKDAY($C189,2),Backend!$F$5:$K$11,4,FALSE))","v":"07:24:00"}]
["","","2018-06-28","","",1,"","",null,"2018-06-28",null,null,null,null,0,0,{"$f":"IF(OR(C190=\"\",D190=1),\"\",VLOOKUP(WEEKDAY($C190,2),Backend!$F$5:$K$11,4,FALSE))","v":"07:24:00"}]
["","","2018-06-29","","",1,"","",null,"2018-06-29",null,null,null,null,0,0,{"$f":"IF(OR(C191=\"\",D191=1),\"\",VLOOKUP(WEEKDAY($C191,2),Backend!$F$5:$K$11,4,FALSE))","v":"07:24:00"}]
["2018-06-30","","2018-06-30","","",1,"","",null,"2018-06-30",null,null,null,null,0,0,{"$f":"IF(OR(C192=\"\",D192=1),\"\",VLOOKUP(WEEKDAY($C192,2),Backend!$F$5:$K$11,4,FALSE))","v":"07:24:00"}]
["","","2018-07-01",1,"","","","",null,"2018-07-01",null,null,null,null,0,0,{"$f":"IF(OR(C193=\"\",D193=1),\"\",VLOOKUP(WEEKDAY($C193,2),Backend!$F$5:$K$11,4,FALSE))","v":""}]
["","","2018-07-02",1,"","","","",null,"2018-07-02",null,null,null,null,0,0,{"$f":"IF(OR(C194=\"\",D194=1),\"\",VLOOKUP(WEEKDAY($C194,2),Backend!$F$5:$K$11,4,FALSE))","v":""}]
["",27,"2018-07-03","","",1,"","",null,"2018-07-03",null,null,null,null,0,0,{"$f":"IF(OR(C195=\"\",D195=1),\"\",VLOOKUP(WEEKDAY($C195,2),Backend!$F$5:$K$11,4,FALSE))","v":"07:24:00"}]
["","","2018-07-04","","",1,"","",null,"2018-07-04",null,null,null,null,0,0,{"$f":"IF(OR(C196=\"\",D196=1),\"\",VLOOKUP(WEEKDAY($C196,2),Backend!$F$5:$K$11,4,FALSE))","v":"07:24:00"}]
["","","2018-07-05","","",1,"","",null,"2018-07-05",null,null,null,null,0,0,{"$f":"IF(OR(C197=\"\",D197=1),\"\",VLOOKUP(WEEKDAY($C197,2),Backend!$F$5:$K$11,4,FALSE))","v":"07:24:00"}]
["","","2018-07-06","","",1,"","",null,"2018-07-06",null,null,null,null,0,0,{"$f":"IF(OR(C198=\"\",D198=1),\"\",VLOOKUP(WEEKDAY($C198,2),Backend!$F$5:$K$11,4,FALSE))","v":"07:24:00"}]
["","","2018-07-07","","",1,"","",null,"2018-07-07",null,null,null,null,0,0,{"$f":"IF(OR(C199=\"\",D199=1),\"\",VLOOKUP(WEEKDAY($C199,2),Backend!$F$5:$K$11,4,FALSE))","v":"07:24:00"}]
["","","2018-07-08",1,"","","","",null,"2018-07-08",null,null,null,null,0,0,{"$f":"IF(OR(C200=\"\",D200=1),\"\",VLOOKUP(WEEKDAY($C200,2),Backend!$F$5:$K$11,4,FALSE))","v":""}]
["","","2018-07-09",1,"","","","",null,"2018-07-09",null,null,null,null,0,0,{"$f":"IF(OR(C201=\"\",D201=1),\"\",VLOOKUP(WEEKDAY($C201,2),Backend!$F$5:$K$11,4,FALSE))","v":""}]
["",28,"2018-07-10","","",1,"","",null,"2018-07-10",null,null,null,null,0,0,{"$f":"IF(OR(C202=\"\",D202=1),\"\",VLOOKUP(WEEKDAY($C202,2),Backend!$F$5:$K$11,4,FALSE))","v":"07:24:00"}]
["","","2018-07-11","","",{"$f":"IF(AND(Q203<>\"\",G203=\"\"),1,\"\")","v":1},{"$f":"IF(AND(K203<>\"\",$M203=\"Hjemmearbejdsdag\"),1,\"\")","v":""},"",null,"2018-07-11",null,null,null,null,0,0,{"$f":"IF(OR(C203=\"\",D203=1),\"\",VLOOKUP(WEEKDAY($C203,2),Backend!$F$5:$K$11,4,FALSE))","v":"07:24:00"}]
[{"$f":"IF(DAY(C204)=1,C204,\"\")","v":""},{"$f":"IF(WEEKDAY(C204,2)=1,1+INT((C204-DATE(YEAR(C204+4-WEEKDAY(C204+6)),1,5)+WEEKDAY(DATE(YEAR(C204+4-WEEKDAY(C204+6)),1,3)))/7),\"\")","v":""},"2018-07-12",{"$f":"IF(OR(WEEKDAY(C204)=1,WEEKDAY(C204)=7),1,\"\")","v":""},{"$f":"IF(OR(M204=\"Feriefridag\",M204=\"Ferie med løn\",M204=\"Flex-fri\"),1,\"\")","v":""},1,"",{"$f":"IF(AND(D204=1,K204<>\"\"),1,\"\")","v":""},null,"2018-07-12",null,null,null,null,{"$f":"IF(OR(K204=\"\",L204=\"\"),0,IF(VALUE(K204)>=VALUE(L204),(TIME(TRUNC(L204/100),MOD(L204,100),0))+1-(TIME(TRUNC(K204/100),MOD(K204,100),0)),(TIME(TRUNC(L204/100),MOD(L204,100),0))-(TIME(TRUNC(K204/100),MOD(K204,100),0))))","v":0},{"$f":"O204*24","v":0},{"$f":"IF(OR(C204=\"\",D204=1),\"\",VLOOKUP(WEEKDAY($C204,2),Backend!$F$5:$K$11,4,FALSE))","v":"07:24:00"}]
["","",{"$f":"C204+1","v":"2018-07-13"},"","",1,"","",null,{"$f":"C205","v":"2018-07-13"},null,null,null,null,0,0,{"$f":"IF(OR(C205=\"\",D205=1),\"\",VLOOKUP(WEEKDAY($C205,2),Backend!$F$5:$K$11,4,FALSE))","v":"07:24:00"}]
["","","2018-07-14","","",1,"","",null,"2018-07-14",null,null,null,null,0,0,{"$f":"IF(OR(C206=\"\",D206=1),\"\",VLOOKUP(WEEKDAY($C206,2),Backend!$F$5:$K$11,4,FALSE))","v":"07:24:00"}]
["","","2018-07-15",1,"","","","",null,"2018-07-15",null,null,null,null,0,0,{"$f":"IF(OR(C207=\"\",D207=1),\"\",VLOOKUP(WEEKDAY($C207,2),Backend!$F$5:$K$11,4,FALSE))","v":""}]
["","","2018-07-16",1,"","","","",null,"2018-07-16",null,null,null,null,0,0,{"$f":"IF(OR(C208=\"\",D208=1),\"\",VLOOKUP(WEEKDAY($C208,2),Backend!$F$5:$K$11,4,FALSE))","v":""}]
["",29,"2018-07-17","","",1,"","",null,"2018-07-17",null,null,null,null,0,0,{"$f":"IF(OR(C209=\"\",D209=1),\"\",VLOOKUP(WEEKDAY($C209,2),Backend!$F$5:$K$11,4,FALSE))","v":"07:24:00"}]
["","","2018-07-18","","",1,"","",null,"2018-07-18",null,null,null,null,0,0,{"$f":"IF(OR(C210=\"\",D210=1),\"\",VLOOKUP(WEEKDAY($C210,2),Backend!$F$5:$K$11,4,FALSE))","v":"07:24:00"}]
["","","2018-07-19","","",1,"","",null,"2018-07-19",null,null,null,null,0,0,{"$f":"IF(OR(C211=\"\",D211=1),\"\",VLOOKUP(WEEKDAY($C211,2),Backend!$F$5:$K$11,4,FALSE))","v":"07:24:00"}]
["","","2018-07-20","","",1,"","",null,"2018-07-20",null,null,null,null,0,0,{"$f":"IF(OR(C212=\"\",D212=1),\"\",VLOOKUP(WEEKDAY($C212,2),Backend!$F$5:$K$11,4,FALSE))","v":"07:24:00"}]
["","","2018-07-21","","",1,"","",null,"2018-07-21",null,null,null,null,0,0,{"$f":"IF(OR(C213=\"\",D213=1),\"\",VLOOKUP(WEEKDAY($C213,2),Backend!$F$5:$K$11,4,FALSE))","v":"07:24:00"}]
["","","2018-07-22",1,"","","","",null,"2018-07-22",null,null,null,null,0,0,{"$f":"IF(OR(C214=\"\",D214=1),\"\",VLOOKUP(WEEKDAY($C214,2),Backend!$F$5:$K$11,4,FALSE))","v":""}]
["","","2018-07-23",1,"","","","",null,"2018-07-23",null,null,null,null,0,0,{"$f":"IF(OR(C215=\"\",D215=1),\"\",VLOOKUP(WEEKDAY($C215,2),Backend!$F$5:$K$11,4,FALSE))","v":""}]
["",30,"2018-07-24","","",1,"","",null,"2018-07-24",null,null,null,null,0,0,{"$f":"IF(OR(C216=\"\",D216=1),\"\",VLOOKUP(WEEKDAY($C216,2),Backend!$F$5:$K$11,4,FALSE))","v":"07:24:00"}]
["","","2018-07-25","","",1,"","",null,"2018-07-25",null,null,null,null,0,0,{"$f":"IF(OR(C217=\"\",D217=1),\"\",VLOOKUP(WEEKDAY($C217,2),Backend!$F$5:$K$11,4,FALSE))","v":"07:24:00"}]
["","","2018-07-26","","",1,"","",null,"2018-07-26",null,null,null,null,0,0,{"$f":"IF(OR(C218=\"\",D218=1),\"\",VLOOKUP(WEEKDAY($C218,2),Backend!$F$5:$K$11,4,FALSE))","v":"07:24:00"}]
["","","2018-07-27","","",1,"","",null,"2018-07-27",null,null,null,null,0,0,{"$f":"IF(OR(C219=\"\",D219=1),\"\",VLOOKUP(WEEKDAY($C219,2),Backend!$F$5:$K$11,4,FALSE))","v":"07:24:00"}]
["","","2018-07-28","","",1,"","",null,"2018-07-28",null,null,null,null,0,0,{"$f":"IF(OR(C220=\"\",D220=1),\"\",VLOOKUP(WEEKDAY($C220,2),Backend!$F$5:$K$11,4,FALSE))","v":"07:24:00"}]
["","","2018-07-29",1,"","","","",null,"2018-07-29",null,null,null,null,0,0,{"$f":"IF(OR(C221=\"\",D221=1),\"\",VLOOKUP(WEEKDAY($C221,2),Backend!$F$5:$K$11,4,FALSE))","v":""}]
["","","2018-07-30",1,"","","","",null,"2018-07-30",null,null,null,null,0,0,{"$f":"IF(OR(C222=\"\",D222=1),\"\",VLOOKUP(WEEKDAY($C222,2),Backend!$F$5:$K$11,4,FALSE))","v":""}]
["2018-07-31",31,"2018-07-31","","",1,"","",null,"2018-07-31",null,null,null,null,0,0,{"$f":"IF(OR(C223=\"\",D223=1),\"\",VLOOKUP(WEEKDAY($C223,2),Backend!$F$5:$K$11,4,FALSE))","v":"07:24:00"}]
["","","2018-08-01","","",1,"","",null,"2018-08-01",null,null,null,null,0,0,{"$f":"IF(OR(C224=\"\",D224=1),\"\",VLOOKUP(WEEKDAY($C224,2),Backend!$F$5:$K$11,4,FALSE))","v":"07:24:00"}]
["","","2018-08-02","","",1,"","",null,"2018-08-02",null,null,null,null,0,0,{"$f":"IF(OR(C225=\"\",D225=1),\"\",VLOOKUP(WEEKDAY($C225,2),Backend!$F$5:$K$11,4,FALSE))","v":"07:24:00"}]
["","","2018-08-03","","",1,"","",null,"2018-08-03",null,null,null,null,0,0,{"$f":"IF(OR(C226=\"\",D226=1),\"\",VLOOKUP(WEEKDAY($C226,2),Backend!$F$5:$K$11,4,FALSE))","v":"07:24:00"}]
["","","2018-08-04","","",1,"","",null,"2018-08-04",null,null,null,null,0,0,{"$f":"IF(OR(C227=\"\",D227=1),\"\",VLOOKUP(WEEKDAY($C227,2),Backend!$F$5:$K$11,4,FALSE))","v":"07:24:00"}]
["","","2018-08-05",1,"","","","",null,"2018-08-05",null,null,null,null,0,0,{"$f":"IF(OR(C228=\"\",D228=1),\"\",VLOOKUP(WEEKDAY($C228,2),Backend!$F$5:$K$11,4,FALSE))","v":""}]
["","","2018-08-06",1,"","","","",null,"2018-08-06",null,null,null,null,0,0,{"$f":"IF(OR(C229=\"\",D229=1),\"\",VLOOKUP(WEEKDAY($C229,2),Backend!$F$5:$K$11,4,FALSE))","v":""}]
["",32,"2018-08-07","","",1,"","",null,"2018-08-07",null,null,null,null,0,0,{"$f":"IF(OR(C230=\"\",D230=1),\"\",VLOOKUP(WEEKDAY($C230,2),Backend!$F$5:$K$11,4,FALSE))","v":"07:24:00"}]
["","","2018-08-08","","",1,"","",null,"2018-08-08",null,null,null,null,0,0,{"$f":"IF(OR(C231=\"\",D231=1),\"\",VLOOKUP(WEEKDAY($C231,2),Backend!$F$5:$K$11,4,FALSE))","v":"07:24:00"}]
["","","2018-08-09","","",1,"","",null,"2018-08-09",null,null,null,null,0,0,{"$f":"IF(OR(C232=\"\",D232=1),\"\",VLOOKUP(WEEKDAY($C232,2),Backend!$F$5:$K$11,4,FALSE))","v":"07:24:00"}]
["","","2018-08-10","","",1,"","",null,"2018-08-10",null,null,null,null,0,0,{"$f":"IF(OR(C233=\"\",D233=1),\"\",VLOOKUP(WEEKDAY($C233,2),Backend!$F$5:$K$11,4,FALSE))","v":"07:24:00"}]
["","","2018-08-11","","",1,"","",null,"2018-08-11",null,null,null,null,0,0,{"$f":"IF(OR(C234=\"\",D234=1),\"\",VLOOKUP(WEEKDAY($C234,2),Backend!$F$5:$K$11,4,FALSE))","v":"07:24:00"}]
["","","2018-08-12",1,"","","","",null,"2018-08-12",null,null,null,null,0,0,{"$f":"IF(OR(C235=\"\",D235=1),\"\",VLOOKUP(WEEKDAY($C235,2),Backend!$F$5:$K$11,4,FALSE))","v":""}]
["","","2018-08-13",1,"","","","",null,"2018-08-13",null,null,null,null,0,0,{"$f":"IF(OR(C236=\"\",D236=1),\"\",VLOOKUP(WEEKDAY($C236,2),Backend!$F$5:$K$11,4,FALSE))","v":""}]
["",33,"2018-08-14","","",1,"","",null,"2018-08-14",null,null,null,null,0,0,{"$f":"IF(OR(C237=\"\",D237=1),\"\",VLOOKUP(WEEKDAY($C237,2),Backend!$F$5:$K$11,4,FALSE))","v":"07:24:00"}]
["","","2018-08-15","","",1,"","",null,"2018-08-15",null,null,null,null,0,0,{"$f":"IF(OR(C238=\"\",D238=1),\"\",VLOOKUP(WEEKDAY($C238,2),Backend!$F$5:$K$11,4,FALSE))","v":"07:24:00"}]
["","","2018-08-16","","",1,"","",null,"2018-08-16",null,null,null,null,0,0,{"$f":"IF(OR(C239=\"\",D239=1),\"\",VLOOKUP(WEEKDAY($C239,2),Backend!$F$5:$K$11,4,FALSE))","v":"07:24:00"}]
["","","2018-08-17","","",1,"","",null,"2018-08-17",null,null,null,null,0,0,{"$f":"IF(OR(C240=\"\",D240=1),\"\",VLOOKUP(WEEKDAY($C240,2),Backend!$F$5:$K$11,4,FALSE))","v":"07:24:00"}]
["","","2018-08-18","","",1,"","",null,"2018-08-18",null,null,null,null,0,0,{"$f":"IF(OR(C241=\"\",D241=1),\"\",VLOOKUP(WEEKDAY($C241,2),Backend!$F$5:$K$11,4,FALSE))","v":"07:24:00"}]
["","","2018-08-19",1,"","","","",null,"2018-08-19",null,null,null,null,0,0,{"$f":"IF(OR(C242=\"\",D242=1),\"\",VLOOKUP(WEEKDAY($C242,2),Backend!$F$5:$K$11,4,FALSE))","v":""}]
["","","2018-08-20",1,"","","","",null,"2018-08-20",null,null,null,null,0,0,{"$f":"IF(OR(C243=\"\",D243=1),\"\",VLOOKUP(WEEKDAY($C243,2),Backend!$F$5:$K$11,4,FALSE))","v":""}]
["",34,"2018-08-21","","",1,"","",null,"2018-08-21",null,null,null,null,0,0,{"$f":"IF(OR(C244=\"\",D244=1),\"\",VLOOKUP(WEEKDAY($C244,2),Backend!$F$5:$K$11,4,FALSE))","v":"07:24:00"}]
["","","2018-08-22","","",1,"","",null,"2018-08-22",null,null,null,null,0,0,{"$f":"IF(OR(C245=\"\",D245=1),\"\",VLOOKUP(WEEKDAY($C245,2),Backend!$F$5:$K$11,4,FALSE))","v":"07:24:00"}]
["","","2018-08-23","","",1,"","",null,"2018-08-23",null,null,null,null,0,0,{"$f":"IF(OR(C246=\"\",D246=1),\"\",VLOOKUP(WEEKDAY($C246,2),Backend!$F$5:$K$11,4,FALSE))","v":"07:24:00"}]
["","","2018-08-24","","",1,"","",null,"2018-08-24",null,null,null,null,0,0,{"$f":"IF(OR(C247=\"\",D247=1),\"\",VLOOKUP(WEEKDAY($C247,2),Backend!$F$5:$K$11,4,FALSE))","v":"07:24:00"}]
["","","2018-08-25","","",1,"","",null,"2018-08-25",null,null,null,null,0,0,{"$f":"IF(OR(C248=\"\",D248=1),\"\",VLOOKUP(WEEKDAY($C248,2),Backend!$F$5:$K$11,4,FALSE))","v":"07:24:00"}]
["","","2018-08-26",1,"","","","",null,"2018-08-26",null,null,null,null,0,0,{"$f":"IF(OR(C249=\"\",D249=1),\"\",VLOOKUP(WEEKDAY($C249,2),Backend!$F$5:$K$11,4,FALSE))","v":""}]
["","","2018-08-27",1,"","","","",null,"2018-08-27",null,null,null,null,0,0,{"$f":"IF(OR(C250=\"\",D250=1),\"\",VLOOKUP(WEEKDAY($C250,2),Backend!$F$5:$K$11,4,FALSE))","v":""}]
["",35,"2018-08-28","","",1,"","",null,"2018-08-28",null,null,null,null,0,0,{"$f":"IF(OR(C251=\"\",D251=1),\"\",VLOOKUP(WEEKDAY($C251,2),Backend!$F$5:$K$11,4,FALSE))","v":"07:24:00"}]
["","","2018-08-29","","",1,"","",null,"2018-08-29",null,null,null,null,0,0,{"$f":"IF(OR(C252=\"\",D252=1),\"\",VLOOKUP(WEEKDAY($C252,2),Backend!$F$5:$K$11,4,FALSE))","v":"07:24:00"}]
["","","2018-08-30","","",1,"","",null,"2018-08-30",null,null,null,null,0,0,{"$f":"IF(OR(C253=\"\",D253=1),\"\",VLOOKUP(WEEKDAY($C253,2),Backend!$F$5:$K$11,4,FALSE))","v":"07:24:00"}]
["2018-08-31","","2018-08-31","","",1,"","",null,"2018-08-31",null,null,null,null,0,0,{"$f":"IF(OR(C254=\"\",D254=1),\"\",VLOOKUP(WEEKDAY($C254,2),Backend!$F$5:$K$11,4,FALSE))","v":"07:24:00"}]
["","","2018-09-01","","",1,"","",null,"2018-09-01",null,null,null,null,0,0,{"$f":"IF(OR(C255=\"\",D255=1),\"\",VLOOKUP(WEEKDAY($C255,2),Backend!$F$5:$K$11,4,FALSE))","v":"07:24:00"}]
["","","2018-09-02",1,"","","","",null,"2018-09-02",null,null,null,null,0,0,{"$f":"IF(OR(C256=\"\",D256=1),\"\",VLOOKUP(WEEKDAY($C256,2),Backend!$F$5:$K$11,4,FALSE))","v":""}]
["","","2018-09-03",1,"","","","",null,"2018-09-03",null,null,null,null,0,0,{"$f":"IF(OR(C257=\"\",D257=1),\"\",VLOOKUP(WEEKDAY($C257,2),Backend!$F$5:$K$11,4,FALSE))","v":""}]
["",36,"2018-09-04","","",1,"","",null,"2018-09-04",null,null,null,null,0,0,{"$f":"IF(OR(C258=\"\",D258=1),\"\",VLOOKUP(WEEKDAY($C258,2),Backend!$F$5:$K$11,4,FALSE))","v":"07:24:00"}]
["","","2018-09-05","","",1,"","",null,"2018-09-05",null,null,null,null,0,0,{"$f":"IF(OR(C259=\"\",D259=1),\"\",VLOOKUP(WEEKDAY($C259,2),Backend!$F$5:$K$11,4,FALSE))","v":"07:24:00"}]
["","","2018-09-06","","",1,"","",null,"2018-09-06",null,null,null,null,0,0,{"$f":"IF(OR(C260=\"\",D260=1),\"\",VLOOKUP(WEEKDAY($C260,2),Backend!$F$5:$K$11,4,FALSE))","v":"07:24:00"}]
["","","2018-09-07","","",1,"","",null,"2018-09-07",null,null,null,null,0,0,{"$f":"IF(OR(C261=\"\",D261=1),\"\",VLOOKUP(WEEKDAY($C261,2),Backend!$F$5:$K$11,4,FALSE))","v":"07:24:00"}]
["","","2018-09-08","","",1,"","",null,"2018-09-08",null,null,null,null,0,0,{"$f":"IF(OR(C262=\"\",D262=1),\"\",VLOOKUP(WEEKDAY($C262,2),Backend!$F$5:$K$11,4,FALSE))","v":"07:24:00"}]
["","","2018-09-09",1,"","","","",null,"2018-09-09",null,null,null,null,0,0,{"$f":"IF(OR(C263=\"\",D263=1),\"\",VLOOKUP(WEEKDAY($C263,2),Backend!$F$5:$K$11,4,FALSE))","v":""}]
["","","2018-09-10",1,"","","","",null,"2018-09-10",null,null,null,null,0,0,{"$f":"IF(OR(C264=\"\",D264=1),\"\",VLOOKUP(WEEKDAY($C264,2),Backend!$F$5:$K$11,4,FALSE))","v":""}]
["",37,"2018-09-11","","",1,"","",null,"2018-09-11",null,null,null,null,0,0,{"$f":"IF(OR(C265=\"\",D265=1),\"\",VLOOKUP(WEEKDAY($C265,2),Backend!$F$5:$K$11,4,FALSE))","v":"07:24:00"}]
["","","2018-09-12","","",1,"","",null,"2018-09-12",null,null,null,null,0,0,{"$f":"IF(OR(C266=\"\",D266=1),\"\",VLOOKUP(WEEKDAY($C266,2),Backend!$F$5:$K$11,4,FALSE))","v":"07:24:00"}]
["","","2018-09-13","","",{"$f":"IF(AND(Q267<>\"\",G267=\"\"),1,\"\")","v":1},{"$f":"IF(AND(K267<>\"\",$M267=\"Hjemmearbejdsdag\"),1,\"\")","v":""},"",null,"2018-09-13",null,null,null,null,0,0,{"$f":"IF(OR(C267=\"\",D267=1),\"\",VLOOKUP(WEEKDAY($C267,2),Backend!$F$5:$K$11,4,FALSE))","v":"07:24:00"}]
[{"$f":"IF(DAY(C268)=1,C268,\"\")","v":""},{"$f":"IF(WEEKDAY(C268,2)=1,1+INT((C268-DATE(YEAR(C268+4-WEEKDAY(C268+6)),1,5)+WEEKDAY(DATE(YEAR(C268+4-WEEKDAY(C268+6)),1,3)))/7),\"\")","v":""},"2018-09-14",{"$f":"IF(OR(WEEKDAY(C268)=1,WEEKDAY(C268)=7),1,\"\")","v":""},{"$f":"IF(OR(M268=\"Feriefridag\",M268=\"Ferie med løn\",M268=\"Flex-fri\"),1,\"\")","v":""},1,"",{"$f":"IF(AND(D268=1,K268<>\"\"),1,\"\")","v":""},null,"2018-09-14",null,null,null,null,{"$f":"IF(OR(K268=\"\",L268=\"\"),0,IF(VALUE(K268)>=VALUE(L268),(TIME(TRUNC(L268/100),MOD(L268,100),0))+1-(TIME(TRUNC(K268/100),MOD(K268,100),0)),(TIME(TRUNC(L268/100),MOD(L268,100),0))-(TIME(TRUNC(K268/100),MOD(K268,100),0))))","v":0},{"$f":"O268*24","v":0},{"$f":"IF(OR(C268=\"\",D268=1),\"\",VLOOKUP(WEEKDAY($C268,2),Backend!$F$5:$K$11,4,FALSE))","v":"07:24:00"}]
["","",{"$f":"C268+1","v":"2018-09-15"},"","",1,"","",null,{"$f":"C269","v":"2018-09-15"},null,null,null,null,0,0,{"$f":"IF(OR(C269=\"\",D269=1),\"\",VLOOKUP(WEEKDAY($C269,2),Backend!$F$5:$K$11,4,FALSE))","v":"07:24:00"}]
["","","2018-09-16",1,"","","","",null,"2018-09-16",null,null,null,null,0,0,{"$f":"IF(OR(C270=\"\",D270=1),\"\",VLOOKUP(WEEKDAY($C270,2),Backend!$F$5:$K$11,4,FALSE))","v":""}]
["","","2018-09-17",1,"","","","",null,"2018-09-17",null,null,null,null,0,0,{"$f":"IF(OR(C271=\"\",D271=1),\"\",VLOOKUP(WEEKDAY($C271,2),Backend!$F$5:$K$11,4,FALSE))","v":""}]
["",38,"2018-09-18","","",1,"","",null,"2018-09-18",null,null,null,null,0,0,{"$f":"IF(OR(C272=\"\",D272=1),\"\",VLOOKUP(WEEKDAY($C272,2),Backend!$F$5:$K$11,4,FALSE))","v":"07:24:00"}]
["","","2018-09-19","","",1,"","",null,"2018-09-19",null,null,null,null,0,0,{"$f":"IF(OR(C273=\"\",D273=1),\"\",VLOOKUP(WEEKDAY($C273,2),Backend!$F$5:$K$11,4,FALSE))","v":"07:24:00"}]
["","","2018-09-20","","",1,"","",null,"2018-09-20",null,null,null,null,0,0,{"$f":"IF(OR(C274=\"\",D274=1),\"\",VLOOKUP(WEEKDAY($C274,2),Backend!$F$5:$K$11,4,FALSE))","v":"07:24:00"}]
["","","2018-09-21","","",1,"","",null,"2018-09-21",null,null,null,null,0,0,{"$f":"IF(OR(C275=\"\",D275=1),\"\",VLOOKUP(WEEKDAY($C275,2),Backend!$F$5:$K$11,4,FALSE))","v":"07:24:00"}]
["","","2018-09-22","","",1,"","",null,"2018-09-22",null,null,null,null,0,0,{"$f":"IF(OR(C276=\"\",D276=1),\"\",VLOOKUP(WEEKDAY($C276,2),Backend!$F$5:$K$11,4,FALSE))","v":"07:24:00"}]
["","","2018-09-23",1,"","","","",null,"2018-09-23",null,null,null,null,0,0,{"$f":"IF(OR(C277=\"\",D277=1),\"\",VLOOKUP(WEEKDAY($C277,2),Backend!$F$5:$K$11,4,FALSE))","v":""}]
["","","2018-09-24",1,"","","","",null,"2018-09-24",null,null,null,null,0,0,{"$f":"IF(OR(C278=\"\",D278=1),\"\",VLOOKUP(WEEKDAY($C278,2),Backend!$F$5:$K$11,4,FALSE))","v":""}]
["",39,"2018-09-25","","",1,"","",null,"2018-09-25",null,null,null,null,0,0,{"$f":"IF(OR(C279=\"\",D279=1),\"\",VLOOKUP(WEEKDAY($C279,2),Backend!$F$5:$K$11,4,FALSE))","v":"07:24:00"}]
["","","2018-09-26","","",1,"","",null,"2018-09-26",null,null,null,null,0,0,{"$f":"IF(OR(C280=\"\",D280=1),\"\",VLOOKUP(WEEKDAY($C280,2),Backend!$F$5:$K$11,4,FALSE))","v":"07:24:00"}]
["","","2018-09-27","","",1,"","",null,"2018-09-27",null,null,null,null,0,0,{"$f":"IF(OR(C281=\"\",D281=1),\"\",VLOOKUP(WEEKDAY($C281,2),Backend!$F$5:$K$11,4,FALSE))","v":"07:24:00"}]
["","","2018-09-28","","",1,"","",null,"2018-09-28",null,null,null,null,0,0,{"$f":"IF(OR(C282=\"\",D282=1),\"\",VLOOKUP(WEEKDAY($C282,2),Backend!$F$5:$K$11,4,FALSE))","v":"07:24:00"}]
["","","2018-09-29","","",1,"","",null,"2018-09-29",null,null,null,null,0,0,{"$f":"IF(OR(C283=\"\",D283=1),\"\",VLOOKUP(WEEKDAY($C283,2),Backend!$F$5:$K$11,4,FALSE))","v":"07:24:00"}]
["2018-09-30","","2018-09-30",1,"","","","",null,"2018-09-30",null,null,null,null,0,0,{"$f":"IF(OR(C284=\"\",D284=1),\"\",VLOOKUP(WEEKDAY($C284,2),Backend!$F$5:$K$11,4,FALSE))","v":""}]
["","","2018-10-01",1,"","","","",null,"2018-10-01",null,null,null,null,0,0,{"$f":"IF(OR(C285=\"\",D285=1),\"\",VLOOKUP(WEEKDAY($C285,2),Backend!$F$5:$K$11,4,FALSE))","v":""}]
["",40,"2018-10-02","","",1,"","",null,"2018-10-02",null,null,null,null,0,0,{"$f":"IF(OR(C286=\"\",D286=1),\"\",VLOOKUP(WEEKDAY($C286,2),Backend!$F$5:$K$11,4,FALSE))","v":"07:24:00"}]
["","","2018-10-03","","",1,"","",null,"2018-10-03",null,null,null,null,0,0,{"$f":"IF(OR(C287=\"\",D287=1),\"\",VLOOKUP(WEEKDAY($C287,2),Backend!$F$5:$K$11,4,FALSE))","v":"07:24:00"}]
["","","2018-10-04","","",1,"","",null,"2018-10-04",null,null,null,null,0,0,{"$f":"IF(OR(C288=\"\",D288=1),\"\",VLOOKUP(WEEKDAY($C288,2),Backend!$F$5:$K$11,4,FALSE))","v":"07:24:00"}]
["","","2018-10-05","","",1,"","",null,"2018-10-05",null,null,null,null,0,0,{"$f":"IF(OR(C289=\"\",D289=1),\"\",VLOOKUP(WEEKDAY($C289,2),Backend!$F$5:$K$11,4,FALSE))","v":"07:24:00"}]
["","","2018-10-06","","",1,"","",null,"2018-10-06",null,null,null,null,0,0,{"$f":"IF(OR(C290=\"\",D290=1),\"\",VLOOKUP(WEEKDAY($C290,2),Backend!$F$5:$K$11,4,FALSE))","v":"07:24:00"}]
["","","2018-10-07",1,"","","","",null,"2018-10-07",null,null,null,null,0,0,{"$f":"IF(OR(C291=\"\",D291=1),\"\",VLOOKUP(WEEKDAY($C291,2),Backend!$F$5:$K$11,4,FALSE))","v":""}]
["","","2018-10-08",1,"","","","",null,"2018-10-08",null,null,null,null,0,0,{"$f":"IF(OR(C292=\"\",D292=1),\"\",VLOOKUP(WEEKDAY($C292,2),Backend!$F$5:$K$11,4,FALSE))","v":""}]
["",41,"2018-10-09","","",1,"","",null,"2018-10-09",null,null,null,null,0,0,{"$f":"IF(OR(C293=\"\",D293=1),\"\",VLOOKUP(WEEKDAY($C293,2),Backend!$F$5:$K$11,4,FALSE))","v":"07:24:00"}]
["","","2018-10-10","","",1,"","",null,"2018-10-10",null,null,null,null,0,0,{"$f":"IF(OR(C294=\"\",D294=1),\"\",VLOOKUP(WEEKDAY($C294,2),Backend!$F$5:$K$11,4,FALSE))","v":"07:24:00"}]
["","","2018-10-11","","",1,"","",null,"2018-10-11",null,null,null,null,0,0,{"$f":"IF(OR(C295=\"\",D295=1),\"\",VLOOKUP(WEEKDAY($C295,2),Backend!$F$5:$K$11,4,FALSE))","v":"07:24:00"}]
["","","2018-10-12","","",1,"","",null,"2018-10-12",null,null,null,null,0,0,{"$f":"IF(OR(C296=\"\",D296=1),\"\",VLOOKUP(WEEKDAY($C296,2),Backend!$F$5:$K$11,4,FALSE))","v":"07:24:00"}]
["","","2018-10-13","","",1,"","",null,"2018-10-13",null,null,null,null,0,0,{"$f":"IF(OR(C297=\"\",D297=1),\"\",VLOOKUP(WEEKDAY($C297,2),Backend!$F$5:$K$11,4,FALSE))","v":"07:24:00"}]
["","","2018-10-14",1,"","","","",null,"2018-10-14",null,null,null,null,0,0,{"$f":"IF(OR(C298=\"\",D298=1),\"\",VLOOKUP(WEEKDAY($C298,2),Backend!$F$5:$K$11,4,FALSE))","v":""}]
["","","2018-10-15",1,"","","","",null,"2018-10-15",null,null,null,null,0,0,{"$f":"IF(OR(C299=\"\",D299=1),\"\",VLOOKUP(WEEKDAY($C299,2),Backend!$F$5:$K$11,4,FALSE))","v":""}]
["",42,"2018-10-16","","",1,"","",null,"2018-10-16",null,null,null,null,0,0,{"$f":"IF(OR(C300=\"\",D300=1),\"\",VLOOKUP(WEEKDAY($C300,2),Backend!$F$5:$K$11,4,FALSE))","v":"07:24:00"}]
["","","2018-10-17","","",1,"","",null,"2018-10-17",null,null,null,null,0,0,{"$f":"IF(OR(C301=\"\",D301=1),\"\",VLOOKUP(WEEKDAY($C301,2),Backend!$F$5:$K$11,4,FALSE))","v":"07:24:00"}]
["","","2018-10-18","","",1,"","",null,"2018-10-18",null,null,null,null,0,0,{"$f":"IF(OR(C302=\"\",D302=1),\"\",VLOOKUP(WEEKDAY($C302,2),Backend!$F$5:$K$11,4,FALSE))","v":"07:24:00"}]
["","","2018-10-19","","",1,"","",null,"2018-10-19",null,null,null,null,0,0,{"$f":"IF(OR(C303=\"\",D303=1),\"\",VLOOKUP(WEEKDAY($C303,2),Backend!$F$5:$K$11,4,FALSE))","v":"07:24:00"}]
["","","2018-10-20","","",1,"","",null,"2018-10-20",null,null,null,null,0,0,{"$f":"IF(OR(C304=\"\",D304=1),\"\",VLOOKUP(WEEKDAY($C304,2),Backend!$F$5:$K$11,4,FALSE))","v":"07:24:00"}]
["","","2018-10-21",1,"","","","",null,"2018-10-21",null,null,null,null,0,0,{"$f":"IF(OR(C305=\"\",D305=1),\"\",VLOOKUP(WEEKDAY($C305,2),Backend!$F$5:$K$11,4,FALSE))","v":""}]
["","","2018-10-22",1,"","","","",null,"2018-10-22",null,null,null,null,0,0,{"$f":"IF(OR(C306=\"\",D306=1),\"\",VLOOKUP(WEEKDAY($C306,2),Backend!$F$5:$K$11,4,FALSE))","v":""}]
["",43,"2018-10-23","","",1,"","",null,"2018-10-23",null,null,null,null,0,0,{"$f":"IF(OR(C307=\"\",D307=1),\"\",VLOOKUP(WEEKDAY($C307,2),Backend!$F$5:$K$11,4,FALSE))","v":"07:24:00"}]
["","","2018-10-24","","",1,"","",null,"2018-10-24",null,null,null,null,0,0,{"$f":"IF(OR(C308=\"\",D308=1),\"\",VLOOKUP(WEEKDAY($C308,2),Backend!$F$5:$K$11,4,FALSE))","v":"07:24:00"}]
["","","2018-10-25","","",1,"","",null,"2018-10-25",null,null,null,null,0,0,{"$f":"IF(OR(C309=\"\",D309=1),\"\",VLOOKUP(WEEKDAY($C309,2),Backend!$F$5:$K$11,4,FALSE))","v":"07:24:00"}]
["","","2018-10-26","","",1,"","",null,"2018-10-26",null,null,null,null,0,0,{"$f":"IF(OR(C310=\"\",D310=1),\"\",VLOOKUP(WEEKDAY($C310,2),Backend!$F$5:$K$11,4,FALSE))","v":"07:24:00"}]
["","","2018-10-27","","",1,"","",null,"2018-10-27",null,null,null,null,0,0,{"$f":"IF(OR(C311=\"\",D311=1),\"\",VLOOKUP(WEEKDAY($C311,2),Backend!$F$5:$K$11,4,FALSE))","v":"07:24:00"}]
["","","2018-10-28",1,"","","","",null,"2018-10-28",null,null,null,null,0,0,{"$f":"IF(OR(C312=\"\",D312=1),\"\",VLOOKUP(WEEKDAY($C312,2),Backend!$F$5:$K$11,4,FALSE))","v":""}]
["","","2018-10-29",1,"","","","",null,"2018-10-29",null,null,null,null,0,0,{"$f":"IF(OR(C313=\"\",D313=1),\"\",VLOOKUP(WEEKDAY($C313,2),Backend!$F$5:$K$11,4,FALSE))","v":""}]
["",44,"2018-10-30","","",1,"","",null,"2018-10-30",null,null,null,null,0,0,{"$f":"IF(OR(C314=\"\",D314=1),\"\",VLOOKUP(WEEKDAY($C314,2),Backend!$F$5:$K$11,4,FALSE))","v":"07:24:00"}]
["2018-10-31","","2018-10-31","","",1,"","",null,"2018-10-31",null,null,null,null,0,0,{"$f":"IF(OR(C315=\"\",D315=1),\"\",VLOOKUP(WEEKDAY($C315,2),Backend!$F$5:$K$11,4,FALSE))","v":"07:24:00"}]
["","","2018-11-01","","",1,"","",null,"2018-11-01",null,null,null,null,0,0,{"$f":"IF(OR(C316=\"\",D316=1),\"\",VLOOKUP(WEEKDAY($C316,2),Backend!$F$5:$K$11,4,FALSE))","v":"07:24:00"}]
["","","2018-11-02","","",1,"","",null,"2018-11-02",null,null,null,null,0,0,{"$f":"IF(OR(C317=\"\",D317=1),\"\",VLOOKUP(WEEKDAY($C317,2),Backend!$F$5:$K$11,4,FALSE))","v":"07:24:00"}]
["","","2018-11-03","","",1,"","",null,"2018-11-03",null,null,null,null,0,0,{"$f":"IF(OR(C318=\"\",D318=1),\"\",VLOOKUP(WEEKDAY($C318,2),Backend!$F$5:$K$11,4,FALSE))","v":"07:24:00"}]
["","","2018-11-04",1,"","","","",null,"2018-11-04",null,null,null,null,0,0,{"$f":"IF(OR(C319=\"\",D319=1),\"\",VLOOKUP(WEEKDAY($C319,2),Backend!$F$5:$K$11,4,FALSE))","v":""}]
["","","2018-11-05",1,"","","","",null,"2018-11-05",null,null,null,null,0,0,{"$f":"IF(OR(C320=\"\",D320=1),\"\",VLOOKUP(WEEKDAY($C320,2),Backend!$F$5:$K$11,4,FALSE))","v":""}]
["",45,"2018-11-06","","",1,"","",null,"2018-11-06",null,null,null,null,0,0,{"$f":"IF(OR(C321=\"\",D321=1),\"\",VLOOKUP(WEEKDAY($C321,2),Backend!$F$5:$K$11,4,FALSE))","v":"07:24:00"}]
["","","2018-11-07","","",1,"","",null,"2018-11-07",null,null,null,null,0,0,{"$f":"IF(OR(C322=\"\",D322=1),\"\",VLOOKUP(WEEKDAY($C322,2),Backend!$F$5:$K$11,4,FALSE))","v":"07:24:00"}]
["","","2018-11-08","","",1,"","",null,"2018-11-08",null,null,null,null,0,0,{"$f":"IF(OR(C323=\"\",D323=1),\"\",VLOOKUP(WEEKDAY($C323,2),Backend!$F$5:$K$11,4,FALSE))","v":"07:24:00"}]
["","","2018-11-09","","",1,"","",null,"2018-11-09",null,null,null,null,0,0,{"$f":"IF(OR(C324=\"\",D324=1),\"\",VLOOKUP(WEEKDAY($C324,2),Backend!$F$5:$K$11,4,FALSE))","v":"07:24:00"}]
["","","2018-11-10","","",1,"","",null,"2018-11-10",null,null,null,null,0,0,{"$f":"IF(OR(C325=\"\",D325=1),\"\",VLOOKUP(WEEKDAY($C325,2),Backend!$F$5:$K$11,4,FALSE))","v":"07:24:00"}]
["","","2018-11-11",1,"","","","",null,"2018-11-11",null,null,null,null,0,0,{"$f":"IF(OR(C326=\"\",D326=1),\"\",VLOOKUP(WEEKDAY($C326,2),Backend!$F$5:$K$11,4,FALSE))","v":""}]
["","","2018-11-12",1,"","","","",null,"2018-11-12",null,null,null,null,0,0,{"$f":"IF(OR(C327=\"\",D327=1),\"\",VLOOKUP(WEEKDAY($C327,2),Backend!$F$5:$K$11,4,FALSE))","v":""}]
["",46,"2018-11-13","","",1,"","",null,"2018-11-13",null,null,null,null,0,0,{"$f":"IF(OR(C328=\"\",D328=1),\"\",VLOOKUP(WEEKDAY($C328,2),Backend!$F$5:$K$11,4,FALSE))","v":"07:24:00"}]
["","","2018-11-14","","",1,"","",null,"2018-11-14",null,null,null,null,0,0,{"$f":"IF(OR(C329=\"\",D329=1),\"\",VLOOKUP(WEEKDAY($C329,2),Backend!$F$5:$K$11,4,FALSE))","v":"07:24:00"}]
["","","2018-11-15","","",1,"","",null,"2018-11-15",null,null,null,null,0,0,{"$f":"IF(OR(C330=\"\",D330=1),\"\",VLOOKUP(WEEKDAY($C330,2),Backend!$F$5:$K$11,4,FALSE))","v":"07:24:00"}]
["","","2018-11-16","","",{"$f":"IF(AND(Q331<>\"\",G331=\"\"),1,\"\")","v":1},{"$f":"IF(AND(K331<>\"\",$M331=\"Hjemmearbejdsdag\"),1,\"\")","v":""},"",null,"2018-11-16",null,null,null,null,0,0,{"$f":"IF(OR(C331=\"\",D331=1),\"\",VLOOKUP(WEEKDAY($C331,2),Backend!$F$5:$K$11,4,FALSE))","v":"07:24:00"}]
[{"$f":"IF(DAY(C332)=1,C332,\"\")","v":""},{"$f":"IF(WEEKDAY(C332,2)=1,1+INT((C332-DATE(YEAR(C332+4-WEEKDAY(C332+6)),1,5)+WEEKDAY(DATE(YEAR(C332+4-WEEKDAY(C332+6)),1,3)))/7),\"\")","v":""},"2018-11-17",{"$f":"IF(OR(WEEKDAY(C332)=1,WEEKDAY(C332)=7),1,\"\")","v":""},{"$f":"IF(OR(M332=\"Feriefridag\",M332=\"Ferie med løn\",M332=\"Flex-fri\"),1,\"\")","v":""},1,"",{"$f":"IF(AND(D332=1,K332<>\"\"),1,\"\")","v":""},null,"2018-11-17",null,null,null,null,{"$f":"IF(OR(K332=\"\",L332=\"\"),0,IF(VALUE(K332)>=VALUE(L332),(TIME(TRUNC(L332/100),MOD(L332,100),0))+1-(TIME(TRUNC(K332/100),MOD(K332,100),0)),(TIME(TRUNC(L332/100),MOD(L332,100),0))-(TIME(TRUNC(K332/100),MOD(K332,100),0))))","v":0},{"$f":"O332*24","v":0},{"$f":"IF(OR(C332=\"\",D332=1),\"\",VLOOKUP(WEEKDAY($C332,2),Backend!$F$5:$K$11,4,FALSE))","v":"07:24:00"}]
["","",{"$f":"C332+1","v":"2018-11-18"},1,"","","","",null,{"$f":"C333","v":"2018-11-18"},null,null,null,null,0,0,{"$f":"IF(OR(C333=\"\",D333=1),\"\",VLOOKUP(WEEKDAY($C333,2),Backend!$F$5:$K$11,4,FALSE))","v":""}]
["","","2018-11-19",1,"","","","",null,"2018-11-19",null,null,null,null,0,0,{"$f":"IF(OR(C334=\"\",D334=1),\"\",VLOOKUP(WEEKDAY($C334,2),Backend!$F$5:$K$11,4,FALSE))","v":""}]
["",47,"2018-11-20","","",1,"","",null,"2018-11-20",null,null,null,null,0,0,{"$f":"IF(OR(C335=\"\",D335=1),\"\",VLOOKUP(WEEKDAY($C335,2),Backend!$F$5:$K$11,4,FALSE))","v":"07:24:00"}]
["","","2018-11-21","","",1,"","",null,"2018-11-21",null,null,null,null,0,0,{"$f":"IF(OR(C336=\"\",D336=1),\"\",VLOOKUP(WEEKDAY($C336,2),Backend!$F$5:$K$11,4,FALSE))","v":"07:24:00"}]
["","","2018-11-22","","",1,"","",null,"2018-11-22",null,null,null,null,0,0,{"$f":"IF(OR(C337=\"\",D337=1),\"\",VLOOKUP(WEEKDAY($C337,2),Backend!$F$5:$K$11,4,FALSE))","v":"07:24:00"}]
["","","2018-11-23","","",1,"","",null,"2018-11-23",null,null,null,null,0,0,{"$f":"IF(OR(C338=\"\",D338=1),\"\",VLOOKUP(WEEKDAY($C338,2),Backend!$F$5:$K$11,4,FALSE))","v":"07:24:00"}]
["","","2018-11-24","","",1,"","",null,"2018-11-24",null,null,null,null,0,0,{"$f":"IF(OR(C339=\"\",D339=1),\"\",VLOOKUP(WEEKDAY($C339,2),Backend!$F$5:$K$11,4,FALSE))","v":"07:24:00"}]
["","","2018-11-25",1,"","","","",null,"2018-11-25",null,null,null,null,0,0,{"$f":"IF(OR(C340=\"\",D340=1),\"\",VLOOKUP(WEEKDAY($C340,2),Backend!$F$5:$K$11,4,FALSE))","v":""}]
["","","2018-11-26",1,"","","","",null,"2018-11-26",null,null,null,null,0,0,{"$f":"IF(OR(C341=\"\",D341=1),\"\",VLOOKUP(WEEKDAY($C341,2),Backend!$F$5:$K$11,4,FALSE))","v":""}]
["",48,"2018-11-27","","",1,"","",null,"2018-11-27",null,null,null,null,0,0,{"$f":"IF(OR(C342=\"\",D342=1),\"\",VLOOKUP(WEEKDAY($C342,2),Backend!$F$5:$K$11,4,FALSE))","v":"07:24:00"}]
["","","2018-11-28","","",1,"","",null,"2018-11-28",null,null,null,null,0,0,{"$f":"IF(OR(C343=\"\",D343=1),\"\",VLOOKUP(WEEKDAY($C343,2),Backend!$F$5:$K$11,4,FALSE))","v":"07:24:00"}]
["","","2018-11-29","","",1,"","",null,"2018-11-29",null,null,null,null,0,0,{"$f":"IF(OR(C344=\"\",D344=1),\"\",VLOOKUP(WEEKDAY($C344,2),Backend!$F$5:$K$11,4,FALSE))","v":"07:24:00"}]
["2018-11-30","","2018-11-30","","",1,"","",null,"2018-11-30",null,null,null,null,0,0,{"$f":"IF(OR(C345=\"\",D345=1),\"\",VLOOKUP(WEEKDAY($C345,2),Backend!$F$5:$K$11,4,FALSE))","v":"07:24:00"}]
["","","2018-12-01","","",1,"","",null,"2018-12-01",null,null,null,null,0,0,{"$f":"IF(OR(C346=\"\",D346=1),\"\",VLOOKUP(WEEKDAY($C346,2),Backend!$F$5:$K$11,4,FALSE))","v":"07:24:00"}]
["","","2018-12-02",1,"","","","",null,"2018-12-02",null,null,null,null,0,0,{"$f":"IF(OR(C347=\"\",D347=1),\"\",VLOOKUP(WEEKDAY($C347,2),Backend!$F$5:$K$11,4,FALSE))","v":""}]
["","","2018-12-03",1,"","","","",null,"2018-12-03",null,null,null,null,0,0,{"$f":"IF(OR(C348=\"\",D348=1),\"\",VLOOKUP(WEEKDAY($C348,2),Backend!$F$5:$K$11,4,FALSE))","v":""}]
["",49,"2018-12-04","","",1,"","",null,"2018-12-04",null,null,null,null,0,0,{"$f":"IF(OR(C349=\"\",D349=1),\"\",VLOOKUP(WEEKDAY($C349,2),Backend!$F$5:$K$11,4,FALSE))","v":"07:24:00"}]
["","","2018-12-05","","",1,"","",null,"2018-12-05",null,null,null,null,0,0,{"$f":"IF(OR(C350=\"\",D350=1),\"\",VLOOKUP(WEEKDAY($C350,2),Backend!$F$5:$K$11,4,FALSE))","v":"07:24:00"}]
["","","2018-12-06","","",1,"","",null,"2018-12-06",null,null,null,null,0,0,{"$f":"IF(OR(C351=\"\",D351=1),\"\",VLOOKUP(WEEKDAY($C351,2),Backend!$F$5:$K$11,4,FALSE))","v":"07:24:00"}]
["","","2018-12-07","","",1,"","",null,"2018-12-07",null,null,null,null,0,0,{"$f":"IF(OR(C352=\"\",D352=1),\"\",VLOOKUP(WEEKDAY($C352,2),Backend!$F$5:$K$11,4,FALSE))","v":"07:24:00"}]
["","","2018-12-08","","",1,"","",null,"2018-12-08",null,null,null,null,0,0,{"$f":"IF(OR(C353=\"\",D353=1),\"\",VLOOKUP(WEEKDAY($C353,2),Backend!$F$5:$K$11,4,FALSE))","v":"07:24:00"}]
["","","2018-12-09",1,"","","","",null,"2018-12-09",null,null,null,null,0,0,{"$f":"IF(OR(C354=\"\",D354=1),\"\",VLOOKUP(WEEKDAY($C354,2),Backend!$F$5:$K$11,4,FALSE))","v":""}]
["","","2018-12-10",1,"","","","",null,"2018-12-10",null,null,null,null,0,0,{"$f":"IF(OR(C355=\"\",D355=1),\"\",VLOOKUP(WEEKDAY($C355,2),Backend!$F$5:$K$11,4,FALSE))","v":""}]
["",50,"2018-12-11","","",1,"","",null,"2018-12-11",null,null,null,null,0,0,{"$f":"IF(OR(C356=\"\",D356=1),\"\",VLOOKUP(WEEKDAY($C356,2),Backend!$F$5:$K$11,4,FALSE))","v":"07:24:00"}]
["","","2018-12-12","","",1,"","",null,"2018-12-12",null,null,null,null,0,0,{"$f":"IF(OR(C357=\"\",D357=1),\"\",VLOOKUP(WEEKDAY($C357,2),Backend!$F$5:$K$11,4,FALSE))","v":"07:24:00"}]
["","","2018-12-13","","",1,"","",null,"2018-12-13",null,null,null,null,0,0,{"$f":"IF(OR(C358=\"\",D358=1),\"\",VLOOKUP(WEEKDAY($C358,2),Backend!$F$5:$K$11,4,FALSE))","v":"07:24:00"}]
["","","2018-12-14","","",1,"","",null,"2018-12-14",null,null,null,null,0,0,{"$f":"IF(OR(C359=\"\",D359=1),\"\",VLOOKUP(WEEKDAY($C359,2),Backend!$F$5:$K$11,4,FALSE))","v":"07:24:00"}]
["","","2018-12-15","","",1,"","",null,"2018-12-15",null,null,null,null,0,0,{"$f":"IF(OR(C360=\"\",D360=1),\"\",VLOOKUP(WEEKDAY($C360,2),Backend!$F$5:$K$11,4,FALSE))","v":"07:24:00"}]
["","","2018-12-16",1,"","","","",null,"2018-12-16",null,null,null,null,0,0,{"$f":"IF(OR(C361=\"\",D361=1),\"\",VLOOKUP(WEEKDAY($C361,2),Backend!$F$5:$K$11,4,FALSE))","v":""}]
["","","2018-12-17",1,"","","","",null,"2018-12-17",null,null,null,null,0,0,{"$f":"IF(OR(C362=\"\",D362=1),\"\",VLOOKUP(WEEKDAY($C362,2),Backend!$F$5:$K$11,4,FALSE))","v":""}]
["",51,"2018-12-18","","",1,"","",null,"2018-12-18",null,null,null,null,0,0,{"$f":"IF(OR(C363=\"\",D363=1),\"\",VLOOKUP(WEEKDAY($C363,2),Backend!$F$5:$K$11,4,FALSE))","v":"07:24:00"}]
["","","2018-12-19","","",1,"","",null,"2018-12-19",null,null,null,null,0,0,{"$f":"IF(OR(C364=\"\",D364=1),\"\",VLOOKUP(WEEKDAY($C364,2),Backend!$F$5:$K$11,4,FALSE))","v":"07:24:00"}]
["","","2018-12-20","","",1,"","",null,"2018-12-20",null,null,null,null,0,0,{"$f":"IF(OR(C365=\"\",D365=1),\"\",VLOOKUP(WEEKDAY($C365,2),Backend!$F$5:$K$11,4,FALSE))","v":"07:24:00"}]
["","","2018-12-21","","",1,"","",null,"2018-12-21",null,null,null,null,0,0,{"$f":"IF(OR(C366=\"\",D366=1),\"\",VLOOKUP(WEEKDAY($C366,2),Backend!$F$5:$K$11,4,FALSE))","v":"07:24:00"}]
["","","2018-12-22","","",1,"","",null,"2018-12-22",null,null,null,null,0,0,{"$f":"IF(OR(C367=\"\",D367=1),\"\",VLOOKUP(WEEKDAY($C367,2),Backend!$F$5:$K$11,4,FALSE))","v":"07:24:00"}]
["","","2018-12-23",1,"","","","",null,"2018-12-23",null,null,null,null,0,0,{"$f":"IF(OR(C368=\"\",D368=1),\"\",VLOOKUP(WEEKDAY($C368,2),Backend!$F$5:$K$11,4,FALSE))","v":""}]
["","","2018-12-24",1,"","","","",null,"2018-12-24",null,null,null,null,0,0,{"$f":"IF(OR(C369=\"\",D369=1),\"\",VLOOKUP(WEEKDAY($C369,2),Backend!$F$5:$K$11,4,FALSE))","v":""}]
["",52,"2018-12-25","","",{"$f":"IF(AND(Q370<>\"\",G370=\"\"),1,\"\")","v":1},"","",null,"2018-12-25",null,null,null,null,0,0,{"$f":"IF(OR(C370=\"\",D370=1),\"\",VLOOKUP(WEEKDAY($C370,2),Backend!$F$5:$K$11,4,FALSE))","v":"07:24:00"}]
["","","2018-12-26","","",1,"","",null,"2018-12-26",null,null,null,null,0,0,{"$f":"IF(OR(C371=\"\",D371=1),\"\",VLOOKUP(WEEKDAY($C371,2),Backend!$F$5:$K$11,4,FALSE))","v":"07:24:00"}]
["","","2018-12-27","","",1,"","",null,"2018-12-27",null,null,null,null,0,0,{"$f":"IF(OR(C372=\"\",D372=1),\"\",VLOOKUP(WEEKDAY($C372,2),Backend!$F$5:$K$11,4,FALSE))","v":"07:24:00"}]
["","","2018-12-28","","",1,"","",null,"2018-12-28",null,null,null,null,0,0,{"$f":"IF(OR(C373=\"\",D373=1),\"\",VLOOKUP(WEEKDAY($C373,2),Backend!$F$5:$K$11,4,FALSE))","v":"07:24:00"}]
["","","2018-12-29","","",1,"","",null,"2018-12-29",null,null,null,null,0,0,{"$f":"IF(OR(C374=\"\",D374=1),\"\",VLOOKUP(WEEKDAY($C374,2),Backend!$F$5:$K$11,4,FALSE))","v":"07:24:00"}]
["","","2018-12-30",1,"","","","",null,"2018-12-30",null,null,null,null,0,0,{"$f":"IF(OR(C375=\"\",D375=1),\"\",VLOOKUP(WEEKDAY($C375,2),Backend!$F$5:$K$11,4,FALSE))","v":""}]
[null,null,null,"","",{"$f":"IF(AND(Q376<>\"\",G376=\"\"),1,\"\")","v":""},"","",null,null,null,null,null,null,0,0,{"$f":"IF(OR(C376=\"\",D376=1),\"\",VLOOKUP(WEEKDAY($C376,2),Backend!$F$5:$K$11,4,FALSE))","v":""}]