{"text_format":"1","workbook":"xlsx","n_sheets":24,"sheets":["Bogføring","Kontoplan","Regnskab","Regnskab GF","Medlemsliste","Noter","Afv %","Budget","Kontoplan (2)","indtægtsbilag","Udgiftsbilag","T","Regnskab GF2","vejlend.","Udmeldelser","Om","ToDo","Forside","Erklæringer","Resultatopgørelse","Balance","Noter2","T2","Restanceliste"],"not_rendered":{"charts":0,"images":8,"macros":1,"external_links":1,"defined_names":19,"comments":0,"pivot_tables":0},"unopened":[],"bounds":{"document_bytes":16777216,"sheet_cells":100000,"rows_first":2000,"rows_last":500,"rows_between":2000,"halvings":0,"cell_chars":16384,"cell_head_chars":4096},"cells_cut":0,"cells_raw":0,"read":"whole","date_system":"1900"}

{"sheet":"Bogføring","index":0,"n_rows":2628,"n_cols":10,"rows_kept":2628,"cut":false,"hidden":false,"merged":[]}
[]
[]
[null,12310,"Bankbeholdning",{"$f":"SUMIFS(Bogføring!$G:$G,Bogføring!$A:$A,\">=\"&T!$C$4,Bogføring!$A:$A,\"<=\"&T!$C$5,Bogføring!$F:$F,B3)-SUMIFS(Bogføring!$H:$H,Bogføring!$A:$A,\">=\"&T!$C$4,Bogføring!$A:$A,\"<=\"&T!$C$5,Bogføring!$F:$F,B3)","v":6029}]
[null,12320,"Kassebeholdning",{"$f":"SUMIFS(Bogføring!$G:$G,Bogføring!$A:$A,\">=\"&T!$C$4,Bogføring!$A:$A,\"<=\"&T!$C$5,Bogføring!$F:$F,B4)-SUMIFS(Bogføring!$H:$H,Bogføring!$A:$A,\">=\"&T!$C$4,Bogføring!$A:$A,\"<=\"&T!$C$5,Bogføring!$F:$F,B4)","v":0},null,null,null,null,null,{"$f":"T!C7&\" / Bjarne Hansen\"","v":"version 1.00.009.045 / Bjarne Hansen"}]
["Dato","Bilag","Tekst","Medl. Nr.","Årstal","Konto","Debet","Kredit",{"$f":"IF(SUM(H:H)-SUM(G:G)=0,\"Kontobeskrivelse\",\"Difference: \"&SUM(H:H)-SUM(G:G))","v":"Kontobeskrivelse"},"Kommentarer"]
["2015-03-06",null,"Åbningsbalance, Overført Saldi",null,null,12310,null,0,{"$f":"IF(F6=\"\",\"\",IF(ISERROR(VLOOKUP(F6,[1]Kontoplan!A:D,2,0)),\"Konto findes ikke!\",VLOOKUP(F6,[1]Kontoplan!A:D,2,0)))","v":"Bank konto"}]
["2015-03-06",null,"Åbningsbalance, Overført Saldi",null,null,12330,0,null,{"$f":"IF(F7=\"\",\"\",IF(ISERROR(VLOOKUP(F7,[1]Kontoplan!A:D,2,0)),\"Konto findes ikke!\",VLOOKUP(F7,[1]Kontoplan!A:D,2,0)))","v":"Egenkapital"}]
["2015-03-10",null,"Kontingent, Stoffer",1,2016,1000,null,100,{"$f":"IF(F8=\"\",\"\",IF(ISERROR(VLOOKUP(F8,[1]Kontoplan!A:D,2,0)),\"Konto findes ikke!\",VLOOKUP(F8,[1]Kontoplan!A:D,2,0)))","v":"Kontingenter"}]
["2015-03-10",null,"Kontingent, C. U. Essemann-Bech",13,2016,1000,null,100,{"$f":"IF(F9=\"\",\"\",IF(ISERROR(VLOOKUP(F9,[1]Kontoplan!A:D,2,0)),\"Konto findes ikke!\",VLOOKUP(F9,[1]Kontoplan!A:D,2,0)))","v":"Kontingenter"}]
["2015-03-10",null,"Kontingent, Stoffer",null,null,12310,100,null,{"$f":"IF(F10=\"\",\"\",IF(ISERROR(VLOOKUP(F10,[1]Kontoplan!A:D,2,0)),\"Konto findes ikke!\",VLOOKUP(F10,[1]Kontoplan!A:D,2,0)))","v":"Bank konto"}]
["2015-03-10",null,"Kontingent, C. U. Essemann-Bech",null,null,12310,100,null,{"$f":"IF(F11=\"\",\"\",IF(ISERROR(VLOOKUP(F11,[1]Kontoplan!A:D,2,0)),\"Konto findes ikke!\",VLOOKUP(F11,[1]Kontoplan!A:D,2,0)))","v":"Bank konto"}]
["2015-03-11",null,"Kontingent, Per Nielsen",2,2016,1000,null,100,{"$f":"IF(F12=\"\",\"\",IF(ISERROR(VLOOKUP(F12,[1]Kontoplan!A:D,2,0)),\"Konto findes ikke!\",VLOOKUP(F12,[1]Kontoplan!A:D,2,0)))","v":"Kontingenter"}]
["2015-03-11",null,"Kontingent, Kurt Munch",12,2016,1000,null,100,{"$f":"IF(F13=\"\",\"\",IF(ISERROR(VLOOKUP(F13,[1]Kontoplan!A:D,2,0)),\"Konto findes ikke!\",VLOOKUP(F13,[1]Kontoplan!A:D,2,0)))","v":"Kontingenter"}]
["2015-03-11",null,"Kontingent, Torben Westring",19,2016,1000,null,100,{"$f":"IF(F14=\"\",\"\",IF(ISERROR(VLOOKUP(F14,[1]Kontoplan!A:D,2,0)),\"Konto findes ikke!\",VLOOKUP(F14,[1]Kontoplan!A:D,2,0)))","v":"Kontingenter"}]
["2015-03-11",null,"Kontingent, Kurt Munch",null,null,12310,100,null,{"$f":"IF(F15=\"\",\"\",IF(ISERROR(VLOOKUP(F15,[1]Kontoplan!A:D,2,0)),\"Konto findes ikke!\",VLOOKUP(F15,[1]Kontoplan!A:D,2,0)))","v":"Bank konto"}]
["2015-03-11",null,"Kontingent, Torben Westring",null,null,12310,100,null,{"$f":"IF(F16=\"\",\"\",IF(ISERROR(VLOOKUP(F16,[1]Kontoplan!A:D,2,0)),\"Konto findes ikke!\",VLOOKUP(F16,[1]Kontoplan!A:D,2,0)))","v":"Bank konto"}]
["2015-03-11",null,"Kontingent, Per Nielsen",null,null,12310,100,null,{"$f":"IF(F17=\"\",\"\",IF(ISERROR(VLOOKUP(F17,[1]Kontoplan!A:D,2,0)),\"Konto findes ikke!\",VLOOKUP(F17,[1]Kontoplan!A:D,2,0)))","v":"Bank konto"}]
["2015-03-31",null,"Bankgebyr ifølge nota",null,null,12310,null,21,{"$f":"IF(F18=\"\",\"\",IF(ISERROR(VLOOKUP(F18,[1]Kontoplan!A:D,2,0)),\"Konto findes ikke!\",VLOOKUP(F18,[1]Kontoplan!A:D,2,0)))","v":"Bank konto"}]
["2015-03-31",null,"Bankgebyr ifølge nota",null,null,2130,21,null,{"$f":"IF(F19=\"\",\"\",IF(ISERROR(VLOOKUP(F19,[1]Kontoplan!A:D,2,0)),\"Konto findes ikke!\",VLOOKUP(F19,[1]Kontoplan!A:D,2,0)))","v":"Bankgebyr/Renter"}]
["2015-04-01",null,"Kontingent, 7 stk",null,null,12310,700,null,{"$f":"IF(F20=\"\",\"\",IF(ISERROR(VLOOKUP(F20,[1]Kontoplan!A:D,2,0)),\"Konto findes ikke!\",VLOOKUP(F20,[1]Kontoplan!A:D,2,0)))","v":"Bank konto"},"mangler kontoudskrift nr 2 side 3"]
["2015-04-01",null,"Kontingent, 7 stk",null,null,1000,null,500,{"$f":"IF(F21=\"\",\"\",IF(ISERROR(VLOOKUP(F21,[1]Kontoplan!A:D,2,0)),\"Konto findes ikke!\",VLOOKUP(F21,[1]Kontoplan!A:D,2,0)))","v":"Kontingenter"},"mangler kontoudskrift nr 2 side 3"]
["2015-04-01",null,"Kontingent, 7 stk",null,null,1010,null,200,{"$f":"IF(F22=\"\",\"\",IF(ISERROR(VLOOKUP(F22,[1]Kontoplan!A:D,2,0)),\"Konto findes ikke!\",VLOOKUP(F22,[1]Kontoplan!A:D,2,0)))","v":"Salg af mærker"},"mangler kontoudskrift nr 2 side 3"]
["2015-04-06",null,"Kontingent, Torben Westring",19,2016,1000,null,100,{"$f":"IF(F23=\"\",\"\",IF(ISERROR(VLOOKUP(F23,[1]Kontoplan!A:D,2,0)),\"Konto findes ikke!\",VLOOKUP(F23,[1]Kontoplan!A:D,2,0)))","v":"Kontingenter"}]
["2015-04-06",null,"Kontingent, Torben Westring",null,null,12310,100,null,{"$f":"IF(F24=\"\",\"\",IF(ISERROR(VLOOKUP(F24,[1]Kontoplan!A:D,2,0)),\"Konto findes ikke!\",VLOOKUP(F24,[1]Kontoplan!A:D,2,0)))","v":"Bank konto"}]
["2015-04-06",null,"Kontingent, Erling Olsen",null,null,12310,100,null,{"$f":"IF(F25=\"\",\"\",IF(ISERROR(VLOOKUP(F25,[1]Kontoplan!A:D,2,0)),\"Konto findes ikke!\",VLOOKUP(F25,[1]Kontoplan!A:D,2,0)))","v":"Bank konto"}]
["2015-04-06",null,"Kontingent, Erling Olsen",null,null,1000,null,100,{"$f":"IF(F26=\"\",\"\",IF(ISERROR(VLOOKUP(F26,[1]Kontoplan!A:D,2,0)),\"Konto findes ikke!\",VLOOKUP(F26,[1]Kontoplan!A:D,2,0)))","v":"Kontingenter"}]
["2015-04-07",null,"Kontingent, Klaus Buchholdt",21,2016,1000,null,100,{"$f":"IF(F27=\"\",\"\",IF(ISERROR(VLOOKUP(F27,[1]Kontoplan!A:D,2,0)),\"Konto findes ikke!\",VLOOKUP(F27,[1]Kontoplan!A:D,2,0)))","v":"Kontingenter"}]
["2015-04-07",null,"Kontingent, Richard Finne",48,2016,1000,null,100,{"$f":"IF(F28=\"\",\"\",IF(ISERROR(VLOOKUP(F28,[1]Kontoplan!A:D,2,0)),\"Konto findes ikke!\",VLOOKUP(F28,[1]Kontoplan!A:D,2,0)))","v":"Kontingenter"}]
["2015-04-07",null,"Kontingent, Finn A. Nielsen",64,2016,1000,null,100,{"$f":"IF(F29=\"\",\"\",IF(ISERROR(VLOOKUP(F29,[1]Kontoplan!A:D,2,0)),\"Konto findes ikke!\",VLOOKUP(F29,[1]Kontoplan!A:D,2,0)))","v":"Kontingenter"}]
["2015-04-07",null,"Kontingent, Klaus Buchholdt",null,null,12310,100,null,{"$f":"IF(F30=\"\",\"\",IF(ISERROR(VLOOKUP(F30,[1]Kontoplan!A:D,2,0)),\"Konto findes ikke!\",VLOOKUP(F30,[1]Kontoplan!A:D,2,0)))","v":"Bank konto"}]
["2015-04-07",null,"Kontingent, Richard Finne",null,null,12310,100,null,{"$f":"IF(F31=\"\",\"\",IF(ISERROR(VLOOKUP(F31,[1]Kontoplan!A:D,2,0)),\"Konto findes ikke!\",VLOOKUP(F31,[1]Kontoplan!A:D,2,0)))","v":"Bank konto"}]
["2015-04-07",null,"Kontingent, Finn A. Nielsen",null,null,12310,100,null,{"$f":"IF(F32=\"\",\"\",IF(ISERROR(VLOOKUP(F32,[1]Kontoplan!A:D,2,0)),\"Konto findes ikke!\",VLOOKUP(F32,[1]Kontoplan!A:D,2,0)))","v":"Bank konto"}]
["2015-04-08",null,"Kontingent, J.P. Rasmussen",23,2016,1000,null,100,{"$f":"IF(F33=\"\",\"\",IF(ISERROR(VLOOKUP(F33,[1]Kontoplan!A:D,2,0)),\"Konto findes ikke!\",VLOOKUP(F33,[1]Kontoplan!A:D,2,0)))","v":"Kontingenter"}]
["2015-04-08",null,"Kontingent, J.P. Rasmussen",null,null,12310,100,null,{"$f":"IF(F34=\"\",\"\",IF(ISERROR(VLOOKUP(F34,[1]Kontoplan!A:D,2,0)),\"Konto findes ikke!\",VLOOKUP(F34,[1]Kontoplan!A:D,2,0)))","v":"Bank konto"}]
["2015-04-08",null,"Kontingent, Søren Jelle",null,null,12310,100,null,{"$f":"IF(F35=\"\",\"\",IF(ISERROR(VLOOKUP(F35,[1]Kontoplan!A:D,2,0)),\"Konto findes ikke!\",VLOOKUP(F35,[1]Kontoplan!A:D,2,0)))","v":"Bank konto"}]
["2015-04-08",null,"Kontingent, Søren Jelle",null,null,1000,null,100,{"$f":"IF(F36=\"\",\"\",IF(ISERROR(VLOOKUP(F36,[1]Kontoplan!A:D,2,0)),\"Konto findes ikke!\",VLOOKUP(F36,[1]Kontoplan!A:D,2,0)))","v":"Kontingenter"}]
["2015-04-09",null,"Kontingent, Knud Arne Rasmussen",33,2016,1000,null,100,{"$f":"IF(F37=\"\",\"\",IF(ISERROR(VLOOKUP(F37,[1]Kontoplan!A:D,2,0)),\"Konto findes ikke!\",VLOOKUP(F37,[1]Kontoplan!A:D,2,0)))","v":"Kontingenter"}]
["2015-04-09",null,"Kontingent, Knud Arne Rasmussen",null,null,12310,100,null,{"$f":"IF(F38=\"\",\"\",IF(ISERROR(VLOOKUP(F38,[1]Kontoplan!A:D,2,0)),\"Konto findes ikke!\",VLOOKUP(F38,[1]Kontoplan!A:D,2,0)))","v":"Bank konto"}]
["2015-04-16",null,"Kontingent, Lloyd Jørgensen",null,null,12310,100,null,{"$f":"IF(F39=\"\",\"\",IF(ISERROR(VLOOKUP(F39,[1]Kontoplan!A:D,2,0)),\"Konto findes ikke!\",VLOOKUP(F39,[1]Kontoplan!A:D,2,0)))","v":"Bank konto"}]
["2015-04-16",null,"Kontingent, Lloyd Jørgensen",null,null,1000,null,100,{"$f":"IF(F40=\"\",\"\",IF(ISERROR(VLOOKUP(F40,[1]Kontoplan!A:D,2,0)),\"Konto findes ikke!\",VLOOKUP(F40,[1]Kontoplan!A:D,2,0)))","v":"Kontingenter"}]
["2015-04-18",null,"Kontingent, Hans-Henrik Greve Brandborg",9,2015,1000,null,100,{"$f":"IF(F41=\"\",\"\",IF(ISERROR(VLOOKUP(F41,[1]Kontoplan!A:D,2,0)),\"Konto findes ikke!\",VLOOKUP(F41,[1]Kontoplan!A:D,2,0)))","v":"Kontingenter"}]
["2015-04-18",null,"Kontingent, Hans-Henrik Greve Brandborg",null,null,12310,100,null,{"$f":"IF(F42=\"\",\"\",IF(ISERROR(VLOOKUP(F42,[1]Kontoplan!A:D,2,0)),\"Konto findes ikke!\",VLOOKUP(F42,[1]Kontoplan!A:D,2,0)))","v":"Bank konto"}]
["2015-04-21",null,"Kontingent, Fini Dahl",25,2015,1000,null,100,{"$f":"IF(F43=\"\",\"\",IF(ISERROR(VLOOKUP(F43,[1]Kontoplan!A:D,2,0)),\"Konto findes ikke!\",VLOOKUP(F43,[1]Kontoplan!A:D,2,0)))","v":"Kontingenter"}]
["2015-04-21",null,"Kontingent, Fini Dahl",null,null,12310,100,null,{"$f":"IF(F44=\"\",\"\",IF(ISERROR(VLOOKUP(F44,[1]Kontoplan!A:D,2,0)),\"Konto findes ikke!\",VLOOKUP(F44,[1]Kontoplan!A:D,2,0)))","v":"Bank konto"}]
["2015-04-27",null,"Kontingent, J.K. Pedersen",24,2016,1000,null,100,{"$f":"IF(F45=\"\",\"\",IF(ISERROR(VLOOKUP(F45,[1]Kontoplan!A:D,2,0)),\"Konto findes ikke!\",VLOOKUP(F45,[1]Kontoplan!A:D,2,0)))","v":"Kontingenter"}]
["2015-04-27",null,"Kontingent, J.K. Pedersen",null,null,12310,100,null,{"$f":"IF(F46=\"\",\"\",IF(ISERROR(VLOOKUP(F46,[1]Kontoplan!A:D,2,0)),\"Konto findes ikke!\",VLOOKUP(F46,[1]Kontoplan!A:D,2,0)))","v":"Bank konto"}]
["2015-05-04",null,"Kontingent, Jørn Jensen",42,2016,1000,null,100,{"$f":"IF(F47=\"\",\"\",IF(ISERROR(VLOOKUP(F47,[1]Kontoplan!A:D,2,0)),\"Konto findes ikke!\",VLOOKUP(F47,[1]Kontoplan!A:D,2,0)))","v":"Kontingenter"}]
["2015-05-04",null,"Kontingent, Jørn Jensen",null,null,12310,100,null,{"$f":"IF(F48=\"\",\"\",IF(ISERROR(VLOOKUP(F48,[1]Kontoplan!A:D,2,0)),\"Konto findes ikke!\",VLOOKUP(F48,[1]Kontoplan!A:D,2,0)))","v":"Bank konto"}]
["2015-06-30",null,"Bankgebyr ifølge nota",null,null,12310,null,75,{"$f":"IF(F49=\"\",\"\",IF(ISERROR(VLOOKUP(F49,[1]Kontoplan!A:D,2,0)),\"Konto findes ikke!\",VLOOKUP(F49,[1]Kontoplan!A:D,2,0)))","v":"Bank konto"}]
["2015-06-30",null,"Bankgebyr ifølge nota",null,null,2130,75,null,{"$f":"IF(F50=\"\",\"\",IF(ISERROR(VLOOKUP(F50,[1]Kontoplan!A:D,2,0)),\"Konto findes ikke!\",VLOOKUP(F50,[1]Kontoplan!A:D,2,0)))","v":"Bankgebyr/Renter"}]
["2015-07-01",null,"Kontingent, John Nielsen",30,2016,1000,null,100,{"$f":"IF(F51=\"\",\"\",IF(ISERROR(VLOOKUP(F51,[1]Kontoplan!A:D,2,0)),\"Konto findes ikke!\",VLOOKUP(F51,[1]Kontoplan!A:D,2,0)))","v":"Kontingenter"}]
["2015-07-01",null,"Kontingent, John Nielsen",null,null,12310,100,null,{"$f":"IF(F52=\"\",\"\",IF(ISERROR(VLOOKUP(F52,[1]Kontoplan!A:D,2,0)),\"Konto findes ikke!\",VLOOKUP(F52,[1]Kontoplan!A:D,2,0)))","v":"Bank konto"}]
["2015-07-06",null,"Kontingent, Lars Ejsing",null,null,12310,100,null,{"$f":"IF(F53=\"\",\"\",IF(ISERROR(VLOOKUP(F53,[1]Kontoplan!A:D,2,0)),\"Konto findes ikke!\",VLOOKUP(F53,[1]Kontoplan!A:D,2,0)))","v":"Bank konto"}]
["2015-07-06",null,"Kontingent, Lars Ejsing",null,null,1000,null,100,{"$f":"IF(F54=\"\",\"\",IF(ISERROR(VLOOKUP(F54,[1]Kontoplan!A:D,2,0)),\"Konto findes ikke!\",VLOOKUP(F54,[1]Kontoplan!A:D,2,0)))","v":"Kontingenter"}]
["2015-09-03",null,"Kontingent, Bent Ellevang",11,2016,1000,null,100,{"$f":"IF(F55=\"\",\"\",IF(ISERROR(VLOOKUP(F55,[1]Kontoplan!A:D,2,0)),\"Konto findes ikke!\",VLOOKUP(F55,[1]Kontoplan!A:D,2,0)))","v":"Kontingenter"}]
["2015-09-03",null,"Kontingent, Bent Ellevang",null,null,12310,100,null,{"$f":"IF(F56=\"\",\"\",IF(ISERROR(VLOOKUP(F56,[1]Kontoplan!A:D,2,0)),\"Konto findes ikke!\",VLOOKUP(F56,[1]Kontoplan!A:D,2,0)))","v":"Bank konto"}]
["2015-09-07",null,"Kontingent, Johnny Kofoed",31,2016,1000,null,100,{"$f":"IF(F57=\"\",\"\",IF(ISERROR(VLOOKUP(F57,[1]Kontoplan!A:D,2,0)),\"Konto findes ikke!\",VLOOKUP(F57,[1]Kontoplan!A:D,2,0)))","v":"Kontingenter"}]
["2015-09-07",null,"Kontingent, Johnny Kofoed",null,null,12310,100,null,{"$f":"IF(F58=\"\",\"\",IF(ISERROR(VLOOKUP(F58,[1]Kontoplan!A:D,2,0)),\"Konto findes ikke!\",VLOOKUP(F58,[1]Kontoplan!A:D,2,0)))","v":"Bank konto"}]
["2015-09-08",null,"Kontingent, Carsten Kofoed Pedersen",41,2016,1000,null,100,{"$f":"IF(F59=\"\",\"\",IF(ISERROR(VLOOKUP(F59,[1]Kontoplan!A:D,2,0)),\"Konto findes ikke!\",VLOOKUP(F59,[1]Kontoplan!A:D,2,0)))","v":"Kontingenter"}]
["2015-09-08",null,"Kontingent, Carsten Kofoed Pedersen",null,null,12310,100,null,{"$f":"IF(F60=\"\",\"\",IF(ISERROR(VLOOKUP(F60,[1]Kontoplan!A:D,2,0)),\"Konto findes ikke!\",VLOOKUP(F60,[1]Kontoplan!A:D,2,0)))","v":"Bank konto"}]
["2015-09-29",null,"Kontingent, Michael Fausing",51,2016,1000,null,100,{"$f":"IF(F61=\"\",\"\",IF(ISERROR(VLOOKUP(F61,[1]Kontoplan!A:D,2,0)),\"Konto findes ikke!\",VLOOKUP(F61,[1]Kontoplan!A:D,2,0)))","v":"Kontingenter"}]
["2015-09-29",null,"Kontingent, Poul Guldving",69,2016,1000,null,100,{"$f":"IF(F62=\"\",\"\",IF(ISERROR(VLOOKUP(F62,[1]Kontoplan!A:D,2,0)),\"Konto findes ikke!\",VLOOKUP(F62,[1]Kontoplan!A:D,2,0)))","v":"Kontingenter"}]
["2015-09-29",null,"Kontingent, Poul Guldving",null,null,12310,100,null,{"$f":"IF(F63=\"\",\"\",IF(ISERROR(VLOOKUP(F63,[1]Kontoplan!A:D,2,0)),\"Konto findes ikke!\",VLOOKUP(F63,[1]Kontoplan!A:D,2,0)))","v":"Bank konto"}]
["2015-09-29",null,"Kontingent, Michael Fausing",null,null,12310,100,null,{"$f":"IF(F64=\"\",\"\",IF(ISERROR(VLOOKUP(F64,[1]Kontoplan!A:D,2,0)),\"Konto findes ikke!\",VLOOKUP(F64,[1]Kontoplan!A:D,2,0)))","v":"Bank konto"}]
["2015-09-30",null,"Kontingent, Kaare Hansen",60,2016,1000,null,100,{"$f":"IF(F65=\"\",\"\",IF(ISERROR(VLOOKUP(F65,[1]Kontoplan!A:D,2,0)),\"Konto findes ikke!\",VLOOKUP(F65,[1]Kontoplan!A:D,2,0)))","v":"Kontingenter"}]
["2015-09-30",null,"Kontingent, Peer Madsen",68,2016,1000,null,100,{"$f":"IF(F66=\"\",\"\",IF(ISERROR(VLOOKUP(F66,[1]Kontoplan!A:D,2,0)),\"Konto findes ikke!\",VLOOKUP(F66,[1]Kontoplan!A:D,2,0)))","v":"Kontingenter"}]
["2015-09-30",null,"Kontingent, Kaare Hansen",null,null,12310,100,null,{"$f":"IF(F67=\"\",\"\",IF(ISERROR(VLOOKUP(F67,[1]Kontoplan!A:D,2,0)),\"Konto findes ikke!\",VLOOKUP(F67,[1]Kontoplan!A:D,2,0)))","v":"Bank konto"}]
["2015-09-30",null,"Kontingent, Peer Madsen",null,null,12310,100,null,{"$f":"IF(F68=\"\",\"\",IF(ISERROR(VLOOKUP(F68,[1]Kontoplan!A:D,2,0)),\"Konto findes ikke!\",VLOOKUP(F68,[1]Kontoplan!A:D,2,0)))","v":"Bank konto"}]
["2015-09-30",null,"Bankgebyr ifølge nota",null,null,12310,null,75,{"$f":"IF(F69=\"\",\"\",IF(ISERROR(VLOOKUP(F69,[1]Kontoplan!A:D,2,0)),\"Konto findes ikke!\",VLOOKUP(F69,[1]Kontoplan!A:D,2,0)))","v":"Bank konto"}]
["2015-09-30",null,"Bankgebyr ifølge nota",null,null,2130,75,null,{"$f":"IF(F70=\"\",\"\",IF(ISERROR(VLOOKUP(F70,[1]Kontoplan!A:D,2,0)),\"Konto findes ikke!\",VLOOKUP(F70,[1]Kontoplan!A:D,2,0)))","v":"Bankgebyr/Renter"}]
["2015-10-01",null,"Kontingent, Svend Bendtsen",22,2016,1000,null,100,{"$f":"IF(F71=\"\",\"\",IF(ISERROR(VLOOKUP(F71,[1]Kontoplan!A:D,2,0)),\"Konto findes ikke!\",VLOOKUP(F71,[1]Kontoplan!A:D,2,0)))","v":"Kontingenter"}]
["2015-10-01",null,"Kontingent, E.A. Larsen",63,2016,1000,null,100,{"$f":"IF(F72=\"\",\"\",IF(ISERROR(VLOOKUP(F72,[1]Kontoplan!A:D,2,0)),\"Konto findes ikke!\",VLOOKUP(F72,[1]Kontoplan!A:D,2,0)))","v":"Kontingenter"}]
["2015-10-01",null,"Kontingent, Svend Bendtsen",null,null,12310,100,null,{"$f":"IF(F73=\"\",\"\",IF(ISERROR(VLOOKUP(F73,[1]Kontoplan!A:D,2,0)),\"Konto findes ikke!\",VLOOKUP(F73,[1]Kontoplan!A:D,2,0)))","v":"Bank konto"}]
["2015-10-01",null,"Kontingent, E.A. Larsen",null,null,12310,100,null,{"$f":"IF(F74=\"\",\"\",IF(ISERROR(VLOOKUP(F74,[1]Kontoplan!A:D,2,0)),\"Konto findes ikke!\",VLOOKUP(F74,[1]Kontoplan!A:D,2,0)))","v":"Bank konto"}]
["2015-10-02",null,"Kontingent, Freddy Albæk",10,2016,1000,null,100,{"$f":"IF(F75=\"\",\"\",IF(ISERROR(VLOOKUP(F75,[1]Kontoplan!A:D,2,0)),\"Konto findes ikke!\",VLOOKUP(F75,[1]Kontoplan!A:D,2,0)))","v":"Kontingenter"}]
["2015-10-02",null,"Kontingent, Carl-Erik Larsen",34,2016,1000,null,100,{"$f":"IF(F76=\"\",\"\",IF(ISERROR(VLOOKUP(F76,[1]Kontoplan!A:D,2,0)),\"Konto findes ikke!\",VLOOKUP(F76,[1]Kontoplan!A:D,2,0)))","v":"Kontingenter"}]
["2015-10-02",null,"Kontingent, Ebbe Torgersen",53,2015,1000,null,100,{"$f":"IF(F77=\"\",\"\",IF(ISERROR(VLOOKUP(F77,[1]Kontoplan!A:D,2,0)),\"Konto findes ikke!\",VLOOKUP(F77,[1]Kontoplan!A:D,2,0)))","v":"Kontingenter"}]
["2015-10-02",null,"Kontingent, Ebbe Torgersen",null,null,12310,100,null,{"$f":"IF(F78=\"\",\"\",IF(ISERROR(VLOOKUP(F78,[1]Kontoplan!A:D,2,0)),\"Konto findes ikke!\",VLOOKUP(F78,[1]Kontoplan!A:D,2,0)))","v":"Bank konto"}]
["2015-10-02",null,"Kontingent, Freddy Albæk",null,null,12310,100,null,{"$f":"IF(F79=\"\",\"\",IF(ISERROR(VLOOKUP(F79,[1]Kontoplan!A:D,2,0)),\"Konto findes ikke!\",VLOOKUP(F79,[1]Kontoplan!A:D,2,0)))","v":"Bank konto"}]
["2015-10-02",null,"Kontingent, Hugo Nielsen",null,null,12310,100,null,{"$f":"IF(F80=\"\",\"\",IF(ISERROR(VLOOKUP(F80,[1]Kontoplan!A:D,2,0)),\"Konto findes ikke!\",VLOOKUP(F80,[1]Kontoplan!A:D,2,0)))","v":"Bank konto"}]
["2015-10-02",null,"Kontingent, Hugo Nielsen",null,null,1000,null,100,{"$f":"IF(F81=\"\",\"\",IF(ISERROR(VLOOKUP(F81,[1]Kontoplan!A:D,2,0)),\"Konto findes ikke!\",VLOOKUP(F81,[1]Kontoplan!A:D,2,0)))","v":"Kontingenter"}]
["2015-10-02",null,"Kontingent, Carl-Erik Larsen",null,null,12310,100,null,{"$f":"IF(F82=\"\",\"\",IF(ISERROR(VLOOKUP(F82,[1]Kontoplan!A:D,2,0)),\"Konto findes ikke!\",VLOOKUP(F82,[1]Kontoplan!A:D,2,0)))","v":"Bank konto"}]
["2015-10-04",null,"Kontingent, Sven Holm Jensen",7,2016,1000,null,100,{"$f":"IF(F83=\"\",\"\",IF(ISERROR(VLOOKUP(F83,[1]Kontoplan!A:D,2,0)),\"Konto findes ikke!\",VLOOKUP(F83,[1]Kontoplan!A:D,2,0)))","v":"Kontingenter"}]
["2015-10-04",null,"Kontingent, SSG N-J Johansen",55,2016,1000,null,100,{"$f":"IF(F84=\"\",\"\",IF(ISERROR(VLOOKUP(F84,[1]Kontoplan!A:D,2,0)),\"Konto findes ikke!\",VLOOKUP(F84,[1]Kontoplan!A:D,2,0)))","v":"Kontingenter"}]
["2015-10-04",null,"Kontingent, SSG N-J Johansen",null,null,12310,100,null,{"$f":"IF(F85=\"\",\"\",IF(ISERROR(VLOOKUP(F85,[1]Kontoplan!A:D,2,0)),\"Konto findes ikke!\",VLOOKUP(F85,[1]Kontoplan!A:D,2,0)))","v":"Bank konto"}]
["2015-10-04",null,"Kontingent, Sven Holm Jensen",null,null,12310,100,null,{"$f":"IF(F86=\"\",\"\",IF(ISERROR(VLOOKUP(F86,[1]Kontoplan!A:D,2,0)),\"Konto findes ikke!\",VLOOKUP(F86,[1]Kontoplan!A:D,2,0)))","v":"Bank konto"}]
["2015-10-05",null,"Kontingent, Jørgen Espersen",32,2016,1000,null,100,{"$f":"IF(F87=\"\",\"\",IF(ISERROR(VLOOKUP(F87,[1]Kontoplan!A:D,2,0)),\"Konto findes ikke!\",VLOOKUP(F87,[1]Kontoplan!A:D,2,0)))","v":"Kontingenter"}]
["2015-10-05",null,"Kontingent, Kaj Ingvorsen",40,2016,1000,null,100,{"$f":"IF(F88=\"\",\"\",IF(ISERROR(VLOOKUP(F88,[1]Kontoplan!A:D,2,0)),\"Konto findes ikke!\",VLOOKUP(F88,[1]Kontoplan!A:D,2,0)))","v":"Kontingenter"}]
["2015-10-05",null,"Kontingent, Jørgen Espersen",null,null,12310,100,null,{"$f":"IF(F89=\"\",\"\",IF(ISERROR(VLOOKUP(F89,[1]Kontoplan!A:D,2,0)),\"Konto findes ikke!\",VLOOKUP(F89,[1]Kontoplan!A:D,2,0)))","v":"Bank konto"}]
["2015-10-05",null,"Kontingent, Kaj Ingvorsen",null,null,12310,100,null,{"$f":"IF(F90=\"\",\"\",IF(ISERROR(VLOOKUP(F90,[1]Kontoplan!A:D,2,0)),\"Konto findes ikke!\",VLOOKUP(F90,[1]Kontoplan!A:D,2,0)))","v":"Bank konto"}]
["2015-10-05",null,"Kontingent, Frank Graversen",null,null,12310,100,null,{"$f":"IF(F91=\"\",\"\",IF(ISERROR(VLOOKUP(F91,[1]Kontoplan!A:D,2,0)),\"Konto findes ikke!\",VLOOKUP(F91,[1]Kontoplan!A:D,2,0)))","v":"Bank konto"}]
["2015-10-05",null,"Kontingent, Frank Graversen",null,null,1000,null,100,{"$f":"IF(F92=\"\",\"\",IF(ISERROR(VLOOKUP(F92,[1]Kontoplan!A:D,2,0)),\"Konto findes ikke!\",VLOOKUP(F92,[1]Kontoplan!A:D,2,0)))","v":"Kontingenter"}]
["2015-10-12",null,"Kontingent, Kurt Glud Pedersen",56,2016,1000,null,100,{"$f":"IF(F93=\"\",\"\",IF(ISERROR(VLOOKUP(F93,[1]Kontoplan!A:D,2,0)),\"Konto findes ikke!\",VLOOKUP(F93,[1]Kontoplan!A:D,2,0)))","v":"Kontingenter"}]
["2015-10-12",null,"Kontingent, Kurt Glud Pedersen",null,null,12310,100,null,{"$f":"IF(F94=\"\",\"\",IF(ISERROR(VLOOKUP(F94,[1]Kontoplan!A:D,2,0)),\"Konto findes ikke!\",VLOOKUP(F94,[1]Kontoplan!A:D,2,0)))","v":"Bank konto"}]
["2015-10-12",null,"Kontingent, Peer Christensen",null,null,12310,100,null,{"$f":"IF(F95=\"\",\"\",IF(ISERROR(VLOOKUP(F95,[1]Kontoplan!A:D,2,0)),\"Konto findes ikke!\",VLOOKUP(F95,[1]Kontoplan!A:D,2,0)))","v":"Bank konto"}]
["2015-10-12",null,"Kontingent, Peer Christensen",null,null,1000,null,100,{"$f":"IF(F96=\"\",\"\",IF(ISERROR(VLOOKUP(F96,[1]Kontoplan!A:D,2,0)),\"Konto findes ikke!\",VLOOKUP(F96,[1]Kontoplan!A:D,2,0)))","v":"Kontingenter"}]
["2015-10-13",null,"Kontingent, Michael Bendtsen",59,2016,1000,null,100,{"$f":"IF(F97=\"\",\"\",IF(ISERROR(VLOOKUP(F97,[1]Kontoplan!A:D,2,0)),\"Konto findes ikke!\",VLOOKUP(F97,[1]Kontoplan!A:D,2,0)))","v":"Kontingenter"}]
["2015-10-13",null,"Kontingent, Michael Bendtsen",null,null,12310,100,null,{"$f":"IF(F98=\"\",\"\",IF(ISERROR(VLOOKUP(F98,[1]Kontoplan!A:D,2,0)),\"Konto findes ikke!\",VLOOKUP(F98,[1]Kontoplan!A:D,2,0)))","v":"Bank konto"}]
["2015-10-15",null,"Kontingent, Palle Schrøder Andersen",45,2016,1000,null,100,{"$f":"IF(F99=\"\",\"\",IF(ISERROR(VLOOKUP(F99,[1]Kontoplan!A:D,2,0)),\"Konto findes ikke!\",VLOOKUP(F99,[1]Kontoplan!A:D,2,0)))","v":"Kontingenter"}]
["2015-10-15",null,"Kontingent, Palle Schrøder Andersen",null,null,12310,100,null,{"$f":"IF(F100=\"\",\"\",IF(ISERROR(VLOOKUP(F100,[1]Kontoplan!A:D,2,0)),\"Konto findes ikke!\",VLOOKUP(F100,[1]Kontoplan!A:D,2,0)))","v":"Bank konto"}]
["2015-10-16",null,"Kontingent, Kim Jensen",29,2016,1000,null,100,{"$f":"IF(F101=\"\",\"\",IF(ISERROR(VLOOKUP(F101,[1]Kontoplan!A:D,2,0)),\"Konto findes ikke!\",VLOOKUP(F101,[1]Kontoplan!A:D,2,0)))","v":"Kontingenter"}]
["2015-10-16",null,"Kontingent, Kim Jensen",null,null,12310,100,null,{"$f":"IF(F102=\"\",\"\",IF(ISERROR(VLOOKUP(F102,[1]Kontoplan!A:D,2,0)),\"Konto findes ikke!\",VLOOKUP(F102,[1]Kontoplan!A:D,2,0)))","v":"Bank konto"}]
["2015-10-20",null,"Kontingent, Jens Svendsen",38,2015,1000,null,100,{"$f":"IF(F103=\"\",\"\",IF(ISERROR(VLOOKUP(F103,[1]Kontoplan!A:D,2,0)),\"Konto findes ikke!\",VLOOKUP(F103,[1]Kontoplan!A:D,2,0)))","v":"Kontingenter"}]
["2015-10-20",null,"Kontingent, Jens Svendsen",null,null,12310,100,null,{"$f":"IF(F104=\"\",\"\",IF(ISERROR(VLOOKUP(F104,[1]Kontoplan!A:D,2,0)),\"Konto findes ikke!\",VLOOKUP(F104,[1]Kontoplan!A:D,2,0)))","v":"Bank konto"}]
["2015-10-21",null,"Kontingent, Kim Bjelstrand",62,2016,1000,null,100,{"$f":"IF(F105=\"\",\"\",IF(ISERROR(VLOOKUP(F105,[1]Kontoplan!A:D,2,0)),\"Konto findes ikke!\",VLOOKUP(F105,[1]Kontoplan!A:D,2,0)))","v":"Kontingenter"}]
["2015-10-21",null,"Kontingent, Kim Bjelstrand",null,null,12310,200,null,{"$f":"IF(F106=\"\",\"\",IF(ISERROR(VLOOKUP(F106,[1]Kontoplan!A:D,2,0)),\"Konto findes ikke!\",VLOOKUP(F106,[1]Kontoplan!A:D,2,0)))","v":"Bank konto"}]
["2015-10-21",null,"Kontingent, Kim Bjelstrand",null,null,1010,null,100,{"$f":"IF(F107=\"\",\"\",IF(ISERROR(VLOOKUP(F107,[1]Kontoplan!A:D,2,0)),\"Konto findes ikke!\",VLOOKUP(F107,[1]Kontoplan!A:D,2,0)))","v":"Salg af mærker"},"2 stk. mærker"]
["2015-10-21",null,"Mærker, Jan Witzner Jensen",null,null,12310,100,null,{"$f":"IF(F108=\"\",\"\",IF(ISERROR(VLOOKUP(F108,[1]Kontoplan!A:D,2,0)),\"Konto findes ikke!\",VLOOKUP(F108,[1]Kontoplan!A:D,2,0)))","v":"Bank konto"}]
["2015-10-21",null,"Mærker, Jan Witzner Jensen",null,null,1010,null,100,{"$f":"IF(F109=\"\",\"\",IF(ISERROR(VLOOKUP(F109,[1]Kontoplan!A:D,2,0)),\"Konto findes ikke!\",VLOOKUP(F109,[1]Kontoplan!A:D,2,0)))","v":"Salg af mærker"}]
["2015-10-25",null,"Kontingent, Eilief G Andersen",6,2016,1000,null,100,{"$f":"IF(F110=\"\",\"\",IF(ISERROR(VLOOKUP(F110,[1]Kontoplan!A:D,2,0)),\"Konto findes ikke!\",VLOOKUP(F110,[1]Kontoplan!A:D,2,0)))","v":"Kontingenter"}]
["2015-10-25",null,"Kontingent, Steen M. Jensen",16,2016,1000,null,100,{"$f":"IF(F111=\"\",\"\",IF(ISERROR(VLOOKUP(F111,[1]Kontoplan!A:D,2,0)),\"Konto findes ikke!\",VLOOKUP(F111,[1]Kontoplan!A:D,2,0)))","v":"Kontingenter"}]
["2015-10-25",null,"Kontingent, Steen M. Jensen",null,null,12310,150,null,{"$f":"IF(F112=\"\",\"\",IF(ISERROR(VLOOKUP(F112,[1]Kontoplan!A:D,2,0)),\"Konto findes ikke!\",VLOOKUP(F112,[1]Kontoplan!A:D,2,0)))","v":"Bank konto"}]
["2015-10-25",null,"Kontingent, Steen M. Jensen",null,null,1080,null,50,{"$f":"IF(F113=\"\",\"\",IF(ISERROR(VLOOKUP(F113,[1]Kontoplan!A:D,2,0)),\"Konto findes ikke!\",VLOOKUP(F113,[1]Kontoplan!A:D,2,0)))","v":"Pengegaver"}]
["2015-10-25",null,"Kontingent, Eilief G Andersen",null,null,12310,100,null,{"$f":"IF(F114=\"\",\"\",IF(ISERROR(VLOOKUP(F114,[1]Kontoplan!A:D,2,0)),\"Konto findes ikke!\",VLOOKUP(F114,[1]Kontoplan!A:D,2,0)))","v":"Bank konto"}]
["2015-10-25",null,"Mærker, Eilief G Andersen",null,null,12310,50,null,{"$f":"IF(F115=\"\",\"\",IF(ISERROR(VLOOKUP(F115,[1]Kontoplan!A:D,2,0)),\"Konto findes ikke!\",VLOOKUP(F115,[1]Kontoplan!A:D,2,0)))","v":"Bank konto"}]
["2015-10-25",null,"Mærker, Eilief G Andersen",null,null,1010,null,50,{"$f":"IF(F116=\"\",\"\",IF(ISERROR(VLOOKUP(F116,[1]Kontoplan!A:D,2,0)),\"Konto findes ikke!\",VLOOKUP(F116,[1]Kontoplan!A:D,2,0)))","v":"Salg af mærker"}]
["2015-10-26",null,"Mærker, Søren Jelle",null,null,12310,100,null,{"$f":"IF(F117=\"\",\"\",IF(ISERROR(VLOOKUP(F117,[1]Kontoplan!A:D,2,0)),\"Konto findes ikke!\",VLOOKUP(F117,[1]Kontoplan!A:D,2,0)))","v":"Bank konto"}]
["2015-10-26",null,"Mærker, Søren Jelle",null,null,1010,null,100,{"$f":"IF(F118=\"\",\"\",IF(ISERROR(VLOOKUP(F118,[1]Kontoplan!A:D,2,0)),\"Konto findes ikke!\",VLOOKUP(F118,[1]Kontoplan!A:D,2,0)))","v":"Salg af mærker"}]
["2015-10-27",null,"Kontingent, Søren Jensen",70,2016,1000,null,100,{"$f":"IF(F119=\"\",\"\",IF(ISERROR(VLOOKUP(F119,[1]Kontoplan!A:D,2,0)),\"Konto findes ikke!\",VLOOKUP(F119,[1]Kontoplan!A:D,2,0)))","v":"Kontingenter"}]
["2015-10-27",null,"Kontingent, Søren Jensen",null,null,12310,200,null,{"$f":"IF(F120=\"\",\"\",IF(ISERROR(VLOOKUP(F120,[1]Kontoplan!A:D,2,0)),\"Konto findes ikke!\",VLOOKUP(F120,[1]Kontoplan!A:D,2,0)))","v":"Bank konto"}]
["2015-10-27",null,"Kontingent, Søren Jensen",null,null,1080,null,100,{"$f":"IF(F121=\"\",\"\",IF(ISERROR(VLOOKUP(F121,[1]Kontoplan!A:D,2,0)),\"Konto findes ikke!\",VLOOKUP(F121,[1]Kontoplan!A:D,2,0)))","v":"Pengegaver"}]
["2015-10-28",null,"Kontingent, Jens Givskov",47,2016,1000,null,100,{"$f":"IF(F122=\"\",\"\",IF(ISERROR(VLOOKUP(F122,[1]Kontoplan!A:D,2,0)),\"Konto findes ikke!\",VLOOKUP(F122,[1]Kontoplan!A:D,2,0)))","v":"Kontingenter"}]
["2015-10-28",null,"Kontingent, Jens Givskov",null,null,12310,100,null,{"$f":"IF(F123=\"\",\"\",IF(ISERROR(VLOOKUP(F123,[1]Kontoplan!A:D,2,0)),\"Konto findes ikke!\",VLOOKUP(F123,[1]Kontoplan!A:D,2,0)))","v":"Bank konto"}]
["2015-10-30",null,"Kontingent, Ole Holm",4,2016,1000,null,100,{"$f":"IF(F124=\"\",\"\",IF(ISERROR(VLOOKUP(F124,[1]Kontoplan!A:D,2,0)),\"Konto findes ikke!\",VLOOKUP(F124,[1]Kontoplan!A:D,2,0)))","v":"Kontingenter"}]
["2015-10-30",null,"Kontingent, Ole Holm",null,null,12310,100,null,{"$f":"IF(F125=\"\",\"\",IF(ISERROR(VLOOKUP(F125,[1]Kontoplan!A:D,2,0)),\"Konto findes ikke!\",VLOOKUP(F125,[1]Kontoplan!A:D,2,0)))","v":"Bank konto"}]
["2015-11-01",null,"Åbningsbalance, Overført Saldi",null,null,12310,6029,null,{"$f":"IF(F126=\"\",\"\",IF(ISERROR(VLOOKUP(F126,[1]Kontoplan!A:D,2,0)),\"Konto findes ikke!\",VLOOKUP(F126,[1]Kontoplan!A:D,2,0)))","v":"Bank konto"}]
["2015-11-01",null,"Åbningsbalance, Overført Saldi",null,null,12330,null,6029,{"$f":"IF(F127=\"\",\"\",IF(ISERROR(VLOOKUP(F127,[1]Kontoplan!A:D,2,0)),\"Konto findes ikke!\",VLOOKUP(F127,[1]Kontoplan!A:D,2,0)))","v":"Egenkapital"}]
["2015-11-03",null,"Kontingent, Odd Poulsen",67,2016,1000,null,100,{"$f":"IF(F128=\"\",\"\",IF(ISERROR(VLOOKUP(F128,[1]Kontoplan!A:D,2,0)),\"Konto findes ikke!\",VLOOKUP(F128,[1]Kontoplan!A:D,2,0)))","v":"Kontingenter"}]
["2015-11-03",null,"Kontingent, Odd Poulsen",null,null,12310,200,null,{"$f":"IF(F129=\"\",\"\",IF(ISERROR(VLOOKUP(F129,[1]Kontoplan!A:D,2,0)),\"Konto findes ikke!\",VLOOKUP(F129,[1]Kontoplan!A:D,2,0)))","v":"Bank konto"}]
["2015-11-03",null,"Kontingent, Odd Poulsen",null,null,1010,null,100,{"$f":"IF(F130=\"\",\"\",IF(ISERROR(VLOOKUP(F130,[1]Kontoplan!A:D,2,0)),\"Konto findes ikke!\",VLOOKUP(F130,[1]Kontoplan!A:D,2,0)))","v":"Salg af mærker"}]
["2015-11-04",null,"Kontingent, Ole Larsen",5,2016,1000,null,100,{"$f":"IF(F131=\"\",\"\",IF(ISERROR(VLOOKUP(F131,[1]Kontoplan!A:D,2,0)),\"Konto findes ikke!\",VLOOKUP(F131,[1]Kontoplan!A:D,2,0)))","v":"Kontingenter"}]
["2015-11-04",null,"Kontingent, Ole Larsen",null,null,12310,200,null,{"$f":"IF(F132=\"\",\"\",IF(ISERROR(VLOOKUP(F132,[1]Kontoplan!A:D,2,0)),\"Konto findes ikke!\",VLOOKUP(F132,[1]Kontoplan!A:D,2,0)))","v":"Bank konto"}]
["2015-11-04",null,"Kontingent, Ole Larsen",null,null,1010,null,100,{"$f":"IF(F133=\"\",\"\",IF(ISERROR(VLOOKUP(F133,[1]Kontoplan!A:D,2,0)),\"Konto findes ikke!\",VLOOKUP(F133,[1]Kontoplan!A:D,2,0)))","v":"Salg af mærker"}]
["2015-11-04",null,"Mærker, Per Nielsen",null,null,12310,300,null,{"$f":"IF(F134=\"\",\"\",IF(ISERROR(VLOOKUP(F134,[1]Kontoplan!A:D,2,0)),\"Konto findes ikke!\",VLOOKUP(F134,[1]Kontoplan!A:D,2,0)))","v":"Bank konto"}]
["2015-11-04",null,"Mærker, Per Nielsen",null,null,1010,null,300,{"$f":"IF(F135=\"\",\"\",IF(ISERROR(VLOOKUP(F135,[1]Kontoplan!A:D,2,0)),\"Konto findes ikke!\",VLOOKUP(F135,[1]Kontoplan!A:D,2,0)))","v":"Salg af mærker"}]
["2015-11-06",null,"Kontingent, Henrik Pedersen",39,2016,1000,null,100,{"$f":"IF(F136=\"\",\"\",IF(ISERROR(VLOOKUP(F136,[1]Kontoplan!A:D,2,0)),\"Konto findes ikke!\",VLOOKUP(F136,[1]Kontoplan!A:D,2,0)))","v":"Kontingenter"}]
["2015-11-06",null,"Kontingent, Henrik Pedersen",null,null,12310,100,null,{"$f":"IF(F137=\"\",\"\",IF(ISERROR(VLOOKUP(F137,[1]Kontoplan!A:D,2,0)),\"Konto findes ikke!\",VLOOKUP(F137,[1]Kontoplan!A:D,2,0)))","v":"Bank konto"}]
["2015-11-09",null,"Kontingent, Henrik Green",58,2016,1000,null,100,{"$f":"IF(F138=\"\",\"\",IF(ISERROR(VLOOKUP(F138,[1]Kontoplan!A:D,2,0)),\"Konto findes ikke!\",VLOOKUP(F138,[1]Kontoplan!A:D,2,0)))","v":"Kontingenter"}]
["2015-11-09",null,"Kontingent, Henrik Green",null,null,12310,100,null,{"$f":"IF(F139=\"\",\"\",IF(ISERROR(VLOOKUP(F139,[1]Kontoplan!A:D,2,0)),\"Konto findes ikke!\",VLOOKUP(F139,[1]Kontoplan!A:D,2,0)))","v":"Bank konto"}]
["2015-11-10",null,"Kontingent, Peter munk Petersen",46,2016,1000,null,100,{"$f":"IF(F140=\"\",\"\",IF(ISERROR(VLOOKUP(F140,[1]Kontoplan!A:D,2,0)),\"Konto findes ikke!\",VLOOKUP(F140,[1]Kontoplan!A:D,2,0)))","v":"Kontingenter"}]
["2015-11-10",null,"Kontingent, Peter munk Petersen",null,null,12310,100,null,{"$f":"IF(F141=\"\",\"\",IF(ISERROR(VLOOKUP(F141,[1]Kontoplan!A:D,2,0)),\"Konto findes ikke!\",VLOOKUP(F141,[1]Kontoplan!A:D,2,0)))","v":"Bank konto"}]
["2015-11-10",null,"Kontingent, Beny Birk",null,null,12310,100,null,{"$f":"IF(F142=\"\",\"\",IF(ISERROR(VLOOKUP(F142,[1]Kontoplan!A:D,2,0)),\"Konto findes ikke!\",VLOOKUP(F142,[1]Kontoplan!A:D,2,0)))","v":"Bank konto"}]
["2015-11-10",null,"Kontingent, Beny Birk",null,null,1000,null,100,{"$f":"IF(F143=\"\",\"\",IF(ISERROR(VLOOKUP(F143,[1]Kontoplan!A:D,2,0)),\"Konto findes ikke!\",VLOOKUP(F143,[1]Kontoplan!A:D,2,0)))","v":"Kontingenter"}]
["2015-11-11",null,"Kontingent, John Bloch Andersen",61,2016,1000,null,100,{"$f":"IF(F144=\"\",\"\",IF(ISERROR(VLOOKUP(F144,[1]Kontoplan!A:D,2,0)),\"Konto findes ikke!\",VLOOKUP(F144,[1]Kontoplan!A:D,2,0)))","v":"Kontingenter"}]
["2015-11-11",null,"Kontingent, John Bloch Andersen",null,null,12310,100,null,{"$f":"IF(F145=\"\",\"\",IF(ISERROR(VLOOKUP(F145,[1]Kontoplan!A:D,2,0)),\"Konto findes ikke!\",VLOOKUP(F145,[1]Kontoplan!A:D,2,0)))","v":"Bank konto"}]
["2015-11-12",null,"Kontingent, Kurt Larsen",14,2016,1000,null,100,{"$f":"IF(F146=\"\",\"\",IF(ISERROR(VLOOKUP(F146,[1]Kontoplan!A:D,2,0)),\"Konto findes ikke!\",VLOOKUP(F146,[1]Kontoplan!A:D,2,0)))","v":"Kontingenter"}]
["2015-11-12",null,"Kontingent, Kurt Larsen",null,null,12310,100,null,{"$f":"IF(F147=\"\",\"\",IF(ISERROR(VLOOKUP(F147,[1]Kontoplan!A:D,2,0)),\"Konto findes ikke!\",VLOOKUP(F147,[1]Kontoplan!A:D,2,0)))","v":"Bank konto"}]
["2015-11-16",null,"Kontingent, Hans-Jørgen Jensen",18,2016,1000,null,100,{"$f":"IF(F148=\"\",\"\",IF(ISERROR(VLOOKUP(F148,[1]Kontoplan!A:D,2,0)),\"Konto findes ikke!\",VLOOKUP(F148,[1]Kontoplan!A:D,2,0)))","v":"Kontingenter"}]
["2015-11-16",null,"Kontingent, Hans-Jørgen Jensen",null,null,12310,100,null,{"$f":"IF(F149=\"\",\"\",IF(ISERROR(VLOOKUP(F149,[1]Kontoplan!A:D,2,0)),\"Konto findes ikke!\",VLOOKUP(F149,[1]Kontoplan!A:D,2,0)))","v":"Bank konto"}]
["2015-11-17",null,"Kontingent, Uffe Jensen",28,2016,1000,null,100,{"$f":"IF(F150=\"\",\"\",IF(ISERROR(VLOOKUP(F150,[1]Kontoplan!A:D,2,0)),\"Konto findes ikke!\",VLOOKUP(F150,[1]Kontoplan!A:D,2,0)))","v":"Kontingenter"}]
["2015-11-17",null,"Kontingent, Ebbe Gejl Hansen",35,2016,1000,null,100,{"$f":"IF(F151=\"\",\"\",IF(ISERROR(VLOOKUP(F151,[1]Kontoplan!A:D,2,0)),\"Konto findes ikke!\",VLOOKUP(F151,[1]Kontoplan!A:D,2,0)))","v":"Kontingenter"}]
["2015-11-17",null,"Kontingent, Uffe Jensen",null,null,12310,100,null,{"$f":"IF(F152=\"\",\"\",IF(ISERROR(VLOOKUP(F152,[1]Kontoplan!A:D,2,0)),\"Konto findes ikke!\",VLOOKUP(F152,[1]Kontoplan!A:D,2,0)))","v":"Bank konto"}]
["2015-11-17",null,"Kontingent, Kjeld Ejler Jensen",null,null,12310,100,null,{"$f":"IF(F153=\"\",\"\",IF(ISERROR(VLOOKUP(F153,[1]Kontoplan!A:D,2,0)),\"Konto findes ikke!\",VLOOKUP(F153,[1]Kontoplan!A:D,2,0)))","v":"Bank konto"}]
["2015-11-17",null,"Kontingent, Kjeld Ejler Jensen",null,null,1000,null,100,{"$f":"IF(F154=\"\",\"\",IF(ISERROR(VLOOKUP(F154,[1]Kontoplan!A:D,2,0)),\"Konto findes ikke!\",VLOOKUP(F154,[1]Kontoplan!A:D,2,0)))","v":"Kontingenter"}]
["2015-11-17",null,"Kontingent, Jens Ole Svendsen",null,null,12310,100,null,{"$f":"IF(F155=\"\",\"\",IF(ISERROR(VLOOKUP(F155,[1]Kontoplan!A:D,2,0)),\"Konto findes ikke!\",VLOOKUP(F155,[1]Kontoplan!A:D,2,0)))","v":"Bank konto"}]
["2015-11-17",null,"Kontingent, Jens Ole Svendsen",null,null,1000,null,100,{"$f":"IF(F156=\"\",\"\",IF(ISERROR(VLOOKUP(F156,[1]Kontoplan!A:D,2,0)),\"Konto findes ikke!\",VLOOKUP(F156,[1]Kontoplan!A:D,2,0)))","v":"Kontingenter"}]
["2015-11-17",null,"Kontingent, Ebbe Gejl Hansen",null,null,12310,100,null,{"$f":"IF(F157=\"\",\"\",IF(ISERROR(VLOOKUP(F157,[1]Kontoplan!A:D,2,0)),\"Konto findes ikke!\",VLOOKUP(F157,[1]Kontoplan!A:D,2,0)))","v":"Bank konto"}]
["2015-11-18",null,"Kontingent, Mads egede Krahl",20,2016,1000,null,100,{"$f":"IF(F158=\"\",\"\",IF(ISERROR(VLOOKUP(F158,[1]Kontoplan!A:D,2,0)),\"Konto findes ikke!\",VLOOKUP(F158,[1]Kontoplan!A:D,2,0)))","v":"Kontingenter"}]
["2015-11-18",null,"Kontingent, Flemming Larsen",26,2016,1000,null,100,{"$f":"IF(F159=\"\",\"\",IF(ISERROR(VLOOKUP(F159,[1]Kontoplan!A:D,2,0)),\"Konto findes ikke!\",VLOOKUP(F159,[1]Kontoplan!A:D,2,0)))","v":"Kontingenter"}]
["2015-11-18",null,"Kontingent, Kell Nielsen",null,null,12310,100,null,{"$f":"IF(F160=\"\",\"\",IF(ISERROR(VLOOKUP(F160,[1]Kontoplan!A:D,2,0)),\"Konto findes ikke!\",VLOOKUP(F160,[1]Kontoplan!A:D,2,0)))","v":"Bank konto"}]
["2015-11-18",null,"Kontingent, Kell Nielsen",null,null,1000,null,100,{"$f":"IF(F161=\"\",\"\",IF(ISERROR(VLOOKUP(F161,[1]Kontoplan!A:D,2,0)),\"Konto findes ikke!\",VLOOKUP(F161,[1]Kontoplan!A:D,2,0)))","v":"Kontingenter"}]
["2015-11-18",null,"Kontingent, Flemming Larsen",null,null,12310,100,null,{"$f":"IF(F162=\"\",\"\",IF(ISERROR(VLOOKUP(F162,[1]Kontoplan!A:D,2,0)),\"Konto findes ikke!\",VLOOKUP(F162,[1]Kontoplan!A:D,2,0)))","v":"Bank konto"}]
["2015-11-18",null,"Kontingent, Mads egede Krahl",null,null,12310,100,null,{"$f":"IF(F163=\"\",\"\",IF(ISERROR(VLOOKUP(F163,[1]Kontoplan!A:D,2,0)),\"Konto findes ikke!\",VLOOKUP(F163,[1]Kontoplan!A:D,2,0)))","v":"Bank konto"}]
["2015-11-19",null,"Kontingent, Kim Johansen",36,2016,1000,null,100,{"$f":"IF(F164=\"\",\"\",IF(ISERROR(VLOOKUP(F164,[1]Kontoplan!A:D,2,0)),\"Konto findes ikke!\",VLOOKUP(F164,[1]Kontoplan!A:D,2,0)))","v":"Kontingenter"}]
["2015-11-19",null,"Kontingent, Ebbe Michael Jensen",50,2016,1000,null,100,{"$f":"IF(F165=\"\",\"\",IF(ISERROR(VLOOKUP(F165,[1]Kontoplan!A:D,2,0)),\"Konto findes ikke!\",VLOOKUP(F165,[1]Kontoplan!A:D,2,0)))","v":"Kontingenter"}]
["2015-11-19",null,"Kontingent, Kim Johansen",null,null,12310,100,null,{"$f":"IF(F166=\"\",\"\",IF(ISERROR(VLOOKUP(F166,[1]Kontoplan!A:D,2,0)),\"Konto findes ikke!\",VLOOKUP(F166,[1]Kontoplan!A:D,2,0)))","v":"Bank konto"}]
["2015-11-19",null,"Kontingent, Ebbe Michael Jensen",null,null,12310,100,null,{"$f":"IF(F167=\"\",\"\",IF(ISERROR(VLOOKUP(F167,[1]Kontoplan!A:D,2,0)),\"Konto findes ikke!\",VLOOKUP(F167,[1]Kontoplan!A:D,2,0)))","v":"Bank konto"}]
["2015-11-23",null,"Kontingent, Per Leif Andersen",49,2016,1000,null,100,{"$f":"IF(F168=\"\",\"\",IF(ISERROR(VLOOKUP(F168,[1]Kontoplan!A:D,2,0)),\"Konto findes ikke!\",VLOOKUP(F168,[1]Kontoplan!A:D,2,0)))","v":"Kontingenter"}]
["2015-11-23",null,"Kontingent, Per Leif Andersen",null,null,12310,100,null,{"$f":"IF(F169=\"\",\"\",IF(ISERROR(VLOOKUP(F169,[1]Kontoplan!A:D,2,0)),\"Konto findes ikke!\",VLOOKUP(F169,[1]Kontoplan!A:D,2,0)))","v":"Bank konto"}]
["2015-11-25",null,"Kontingent, Freddy Albæk",10,2017,1000,null,100,{"$f":"IF(F170=\"\",\"\",IF(ISERROR(VLOOKUP(F170,[1]Kontoplan!A:D,2,0)),\"Konto findes ikke!\",VLOOKUP(F170,[1]Kontoplan!A:D,2,0)))","v":"Kontingenter"}]
["2015-11-25",null,"Kontingent, Finn Larsen",54,2016,1000,null,100,{"$f":"IF(F171=\"\",\"\",IF(ISERROR(VLOOKUP(F171,[1]Kontoplan!A:D,2,0)),\"Konto findes ikke!\",VLOOKUP(F171,[1]Kontoplan!A:D,2,0)))","v":"Kontingenter"}]
["2015-11-25",null,"Kontingent, Freddy Albæk",null,null,12310,100,null,{"$f":"IF(F172=\"\",\"\",IF(ISERROR(VLOOKUP(F172,[1]Kontoplan!A:D,2,0)),\"Konto findes ikke!\",VLOOKUP(F172,[1]Kontoplan!A:D,2,0)))","v":"Bank konto"}]
["2015-11-25",null,"Kontingent, Finn Larsen",null,null,12310,100,null,{"$f":"IF(F173=\"\",\"\",IF(ISERROR(VLOOKUP(F173,[1]Kontoplan!A:D,2,0)),\"Konto findes ikke!\",VLOOKUP(F173,[1]Kontoplan!A:D,2,0)))","v":"Bank konto"}]
["2015-11-26",null,"Kontingent, John Jensen",71,2016,1000,null,100,{"$f":"IF(F174=\"\",\"\",IF(ISERROR(VLOOKUP(F174,[1]Kontoplan!A:D,2,0)),\"Konto findes ikke!\",VLOOKUP(F174,[1]Kontoplan!A:D,2,0)))","v":"Kontingenter"}]
["2015-11-26",null,"Kontingent, John Jensen",null,null,12310,100,null,{"$f":"IF(F175=\"\",\"\",IF(ISERROR(VLOOKUP(F175,[1]Kontoplan!A:D,2,0)),\"Konto findes ikke!\",VLOOKUP(F175,[1]Kontoplan!A:D,2,0)))","v":"Bank konto"}]
["2015-11-27",null,"Kontingent, Jørn Tamdrup",57,2016,1000,null,100,{"$f":"IF(F176=\"\",\"\",IF(ISERROR(VLOOKUP(F176,[1]Kontoplan!A:D,2,0)),\"Konto findes ikke!\",VLOOKUP(F176,[1]Kontoplan!A:D,2,0)))","v":"Kontingenter"}]
["2015-11-27",null,"Kontingent, Jørn Tamdrup",null,null,12310,100,null,{"$f":"IF(F177=\"\",\"\",IF(ISERROR(VLOOKUP(F177,[1]Kontoplan!A:D,2,0)),\"Konto findes ikke!\",VLOOKUP(F177,[1]Kontoplan!A:D,2,0)))","v":"Bank konto"}]
["2015-11-30",null,"Kontingent, Søren Dyrby Schou",15,2016,1000,null,100,{"$f":"IF(F178=\"\",\"\",IF(ISERROR(VLOOKUP(F178,[1]Kontoplan!A:D,2,0)),\"Konto findes ikke!\",VLOOKUP(F178,[1]Kontoplan!A:D,2,0)))","v":"Kontingenter"}]
["2015-11-30",null,"Kontingent, Søren Dyrby Schou",null,null,12310,100,null,{"$f":"IF(F179=\"\",\"\",IF(ISERROR(VLOOKUP(F179,[1]Kontoplan!A:D,2,0)),\"Konto findes ikke!\",VLOOKUP(F179,[1]Kontoplan!A:D,2,0)))","v":"Bank konto"}]
["2015-12-02",null,"Kontingent, Bjarne Hansen",3,2016,1000,null,100,{"$f":"IF(F180=\"\",\"\",IF(ISERROR(VLOOKUP(F180,[1]Kontoplan!A:D,2,0)),\"Konto findes ikke!\",VLOOKUP(F180,[1]Kontoplan!A:D,2,0)))","v":"Kontingenter"}]
["2015-12-02",null,"Kontingent, Bjarne Hansen",null,null,12310,100,null,{"$f":"IF(F181=\"\",\"\",IF(ISERROR(VLOOKUP(F181,[1]Kontoplan!A:D,2,0)),\"Konto findes ikke!\",VLOOKUP(F181,[1]Kontoplan!A:D,2,0)))","v":"Bank konto"}]
["2015-12-02",null,"Mærker, Bjarne Hansen",null,null,12310,240,null,{"$f":"IF(F182=\"\",\"\",IF(ISERROR(VLOOKUP(F182,[1]Kontoplan!A:D,2,0)),\"Konto findes ikke!\",VLOOKUP(F182,[1]Kontoplan!A:D,2,0)))","v":"Bank konto"}]
["2015-12-02",null,"Mærker, Bjarne Hansen",null,null,1010,null,240,{"$f":"IF(F183=\"\",\"\",IF(ISERROR(VLOOKUP(F183,[1]Kontoplan!A:D,2,0)),\"Konto findes ikke!\",VLOOKUP(F183,[1]Kontoplan!A:D,2,0)))","v":"Salg af mærker"}]
["2015-12-03",null,"Dragonfest, Odd Bjarne Poulsen",null,null,12310,150,null,{"$f":"IF(F184=\"\",\"\",IF(ISERROR(VLOOKUP(F184,[1]Kontoplan!A:D,2,0)),\"Konto findes ikke!\",VLOOKUP(F184,[1]Kontoplan!A:D,2,0)))","v":"Bank konto"}]
["2015-12-03",null,"Dragonfest, Odd Bjarne Poulsen",null,null,1050,null,150,{"$f":"IF(F185=\"\",\"\",IF(ISERROR(VLOOKUP(F185,[1]Kontoplan!A:D,2,0)),\"Konto findes ikke!\",VLOOKUP(F185,[1]Kontoplan!A:D,2,0)))","v":"Deltagergebyr, Dragonfest"}]
["2015-12-03",null,"Dragonfest, Jan Witzner Jensen",null,null,12310,150,null,{"$f":"IF(F186=\"\",\"\",IF(ISERROR(VLOOKUP(F186,[1]Kontoplan!A:D,2,0)),\"Konto findes ikke!\",VLOOKUP(F186,[1]Kontoplan!A:D,2,0)))","v":"Bank konto"}]
["2015-12-03",null,"Dragonfest, Jan Witzner Jensen",null,null,1050,null,150,{"$f":"IF(F187=\"\",\"\",IF(ISERROR(VLOOKUP(F187,[1]Kontoplan!A:D,2,0)),\"Konto findes ikke!\",VLOOKUP(F187,[1]Kontoplan!A:D,2,0)))","v":"Deltagergebyr, Dragonfest"}]
["2015-12-05",null,"Dragonfest, Hans-Henrik Greve Brandenborg",null,null,12310,480,null,{"$f":"IF(F188=\"\",\"\",IF(ISERROR(VLOOKUP(F188,[1]Kontoplan!A:D,2,0)),\"Konto findes ikke!\",VLOOKUP(F188,[1]Kontoplan!A:D,2,0)))","v":"Bank konto"}]
["2015-12-05",null,"Dragonfest, Hans-Henrik Greve Brandenborg",null,null,1050,null,150,{"$f":"IF(F189=\"\",\"\",IF(ISERROR(VLOOKUP(F189,[1]Kontoplan!A:D,2,0)),\"Konto findes ikke!\",VLOOKUP(F189,[1]Kontoplan!A:D,2,0)))","v":"Deltagergebyr, Dragonfest"}]
["2015-12-05",null,"Dragonfest, Hans-Henrik Greve Brandenborg",null,null,1040,null,150,{"$f":"IF(F190=\"\",\"\",IF(ISERROR(VLOOKUP(F190,[1]Kontoplan!A:D,2,0)),\"Konto findes ikke!\",VLOOKUP(F190,[1]Kontoplan!A:D,2,0)))","v":"Udlejning af værelser"}]
["2015-12-05",null,"Dragonfest, Hans-Henrik Greve Brandenborg",null,null,1030,null,80,{"$f":"IF(F191=\"\",\"\",IF(ISERROR(VLOOKUP(F191,[1]Kontoplan!A:D,2,0)),\"Konto findes ikke!\",VLOOKUP(F191,[1]Kontoplan!A:D,2,0)))","v":"Salg af morgenmad"}]
["2015-12-05",null,"Dragonfest, Hans-Henrik Greve Brandenborg",null,null,1000,null,100,{"$f":"IF(F192=\"\",\"\",IF(ISERROR(VLOOKUP(F192,[1]Kontoplan!A:D,2,0)),\"Konto findes ikke!\",VLOOKUP(F192,[1]Kontoplan!A:D,2,0)))","v":"Kontingenter"}]
["2015-12-06",null,"Dragonfest, Svend Holm Jensen",null,null,12310,150,null,{"$f":"IF(F193=\"\",\"\",IF(ISERROR(VLOOKUP(F193,[1]Kontoplan!A:D,2,0)),\"Konto findes ikke!\",VLOOKUP(F193,[1]Kontoplan!A:D,2,0)))","v":"Bank konto"}]
["2015-12-06",null,"Dragonfest, Svend Holm Jensen",null,null,1050,null,150,{"$f":"IF(F194=\"\",\"\",IF(ISERROR(VLOOKUP(F194,[1]Kontoplan!A:D,2,0)),\"Konto findes ikke!\",VLOOKUP(F194,[1]Kontoplan!A:D,2,0)))","v":"Deltagergebyr, Dragonfest"}]
["2015-12-07",null,"Dragonfest, Per Nielsen",null,null,12310,150,null,{"$f":"IF(F195=\"\",\"\",IF(ISERROR(VLOOKUP(F195,[1]Kontoplan!A:D,2,0)),\"Konto findes ikke!\",VLOOKUP(F195,[1]Kontoplan!A:D,2,0)))","v":"Bank konto"}]
["2015-12-07",null,"Dragonfest, Per Nielsen",null,null,1050,null,150,{"$f":"IF(F196=\"\",\"\",IF(ISERROR(VLOOKUP(F196,[1]Kontoplan!A:D,2,0)),\"Konto findes ikke!\",VLOOKUP(F196,[1]Kontoplan!A:D,2,0)))","v":"Deltagergebyr, Dragonfest"}]
["2015-12-07",null,"Dragonfest, Palle Bo Boye Jensen",null,null,12310,150,null,{"$f":"IF(F197=\"\",\"\",IF(ISERROR(VLOOKUP(F197,[1]Kontoplan!A:D,2,0)),\"Konto findes ikke!\",VLOOKUP(F197,[1]Kontoplan!A:D,2,0)))","v":"Bank konto"}]
["2015-12-07",null,"Dragonfest, Palle Bo Boye Jensen",null,null,1050,null,150,{"$f":"IF(F198=\"\",\"\",IF(ISERROR(VLOOKUP(F198,[1]Kontoplan!A:D,2,0)),\"Konto findes ikke!\",VLOOKUP(F198,[1]Kontoplan!A:D,2,0)))","v":"Deltagergebyr, Dragonfest"}]
["2015-12-09",null,"Kontingent, Torsten Rasmussen",null,null,12310,100,null,{"$f":"IF(F199=\"\",\"\",IF(ISERROR(VLOOKUP(F199,[1]Kontoplan!A:D,2,0)),\"Konto findes ikke!\",VLOOKUP(F199,[1]Kontoplan!A:D,2,0)))","v":"Bank konto"}]
["2015-12-09",null,"Kontingent, Torsten Rasmussen",null,null,1000,null,100,{"$f":"IF(F200=\"\",\"\",IF(ISERROR(VLOOKUP(F200,[1]Kontoplan!A:D,2,0)),\"Konto findes ikke!\",VLOOKUP(F200,[1]Kontoplan!A:D,2,0)))","v":"Kontingenter"}]
["2015-12-11",null,"Dragonfest, Jan Mossin Christiansen",null,null,12310,250,null,{"$f":"IF(F201=\"\",\"\",IF(ISERROR(VLOOKUP(F201,[1]Kontoplan!A:D,2,0)),\"Konto findes ikke!\",VLOOKUP(F201,[1]Kontoplan!A:D,2,0)))","v":"Bank konto"}]
["2015-12-11",null,"Dragonfest, Jan Mossin Christiansen",null,null,1050,null,150,{"$f":"IF(F202=\"\",\"\",IF(ISERROR(VLOOKUP(F202,[1]Kontoplan!A:D,2,0)),\"Konto findes ikke!\",VLOOKUP(F202,[1]Kontoplan!A:D,2,0)))","v":"Deltagergebyr, Dragonfest"}]
["2015-12-11",null,"Dragonfest, Jan Mossin Christiansen",null,null,1000,null,100,{"$f":"IF(F203=\"\",\"\",IF(ISERROR(VLOOKUP(F203,[1]Kontoplan!A:D,2,0)),\"Konto findes ikke!\",VLOOKUP(F203,[1]Kontoplan!A:D,2,0)))","v":"Kontingenter"}]
["2015-12-11",null,"Diverse , udlæg Kurt Munch",null,null,12310,null,174.95,{"$f":"IF(F204=\"\",\"\",IF(ISERROR(VLOOKUP(F204,[1]Kontoplan!A:D,2,0)),\"Konto findes ikke!\",VLOOKUP(F204,[1]Kontoplan!A:D,2,0)))","v":"Bank konto"},"betalt kurt munch udlæg"]
["2015-12-11",null,"Diverse , udlæg Kurt Munch",null,null,2190,174.95,null,{"$f":"IF(F205=\"\",\"\",IF(ISERROR(VLOOKUP(F205,[1]Kontoplan!A:D,2,0)),\"Konto findes ikke!\",VLOOKUP(F205,[1]Kontoplan!A:D,2,0)))","v":"Diverse Indkøb"},"betalt kurt munch udlæg"]
["2015-12-12",null,"Kontingent, Willy Jensen",null,null,12310,100,null,{"$f":"IF(F206=\"\",\"\",IF(ISERROR(VLOOKUP(F206,[1]Kontoplan!A:D,2,0)),\"Konto findes ikke!\",VLOOKUP(F206,[1]Kontoplan!A:D,2,0)))","v":"Bank konto"}]
["2015-12-12",null,"Kontingent, Willy Jensen",null,null,1000,null,100,{"$f":"IF(F207=\"\",\"\",IF(ISERROR(VLOOKUP(F207,[1]Kontoplan!A:D,2,0)),\"Konto findes ikke!\",VLOOKUP(F207,[1]Kontoplan!A:D,2,0)))","v":"Kontingenter"}]
["2015-12-14",null,"Kontingent, Per Sørensen",37,2016,1000,null,100,{"$f":"IF(F208=\"\",\"\",IF(ISERROR(VLOOKUP(F208,[1]Kontoplan!A:D,2,0)),\"Konto findes ikke!\",VLOOKUP(F208,[1]Kontoplan!A:D,2,0)))","v":"Kontingenter"}]
["2015-12-14",null,"Kontingent, Robert Pedersen",72,2016,1000,null,100,{"$f":"IF(F209=\"\",\"\",IF(ISERROR(VLOOKUP(F209,[1]Kontoplan!A:D,2,0)),\"Konto findes ikke!\",VLOOKUP(F209,[1]Kontoplan!A:D,2,0)))","v":"Kontingenter"}]
["2015-12-14",null,"Dragonfest, Frank Graversen",null,null,12310,150,null,{"$f":"IF(F210=\"\",\"\",IF(ISERROR(VLOOKUP(F210,[1]Kontoplan!A:D,2,0)),\"Konto findes ikke!\",VLOOKUP(F210,[1]Kontoplan!A:D,2,0)))","v":"Bank konto"}]
["2015-12-14",null,"Dragonfest, Frank Graversen",null,null,1050,null,150,{"$f":"IF(F211=\"\",\"\",IF(ISERROR(VLOOKUP(F211,[1]Kontoplan!A:D,2,0)),\"Konto findes ikke!\",VLOOKUP(F211,[1]Kontoplan!A:D,2,0)))","v":"Deltagergebyr, Dragonfest"}]
["2015-12-14",null,"Kontingent, Robert Pedersen",null,null,12310,100,null,{"$f":"IF(F212=\"\",\"\",IF(ISERROR(VLOOKUP(F212,[1]Kontoplan!A:D,2,0)),\"Konto findes ikke!\",VLOOKUP(F212,[1]Kontoplan!A:D,2,0)))","v":"Bank konto"}]
["2015-12-14",null,"Kontingent, Per Sørensen",null,null,12310,100,null,{"$f":"IF(F213=\"\",\"\",IF(ISERROR(VLOOKUP(F213,[1]Kontoplan!A:D,2,0)),\"Konto findes ikke!\",VLOOKUP(F213,[1]Kontoplan!A:D,2,0)))","v":"Bank konto"}]
["2015-12-14",null,"Kontingent, Lars Ejsing",null,null,12310,1440,null,{"$f":"IF(F214=\"\",\"\",IF(ISERROR(VLOOKUP(F214,[1]Kontoplan!A:D,2,0)),\"Konto findes ikke!\",VLOOKUP(F214,[1]Kontoplan!A:D,2,0)))","v":"Bank konto"}]
["2015-12-14",null,"Kontingent, Lars Ejsing",null,null,1000,null,1440,{"$f":"IF(F215=\"\",\"\",IF(ISERROR(VLOOKUP(F215,[1]Kontoplan!A:D,2,0)),\"Konto findes ikke!\",VLOOKUP(F215,[1]Kontoplan!A:D,2,0)))","v":"Kontingenter"},"Beløbet skal fordeles "]
["2015-12-14",null,"Dragonfest, Essemann-Bech",null,null,12310,150,null,{"$f":"IF(F216=\"\",\"\",IF(ISERROR(VLOOKUP(F216,[1]Kontoplan!A:D,2,0)),\"Konto findes ikke!\",VLOOKUP(F216,[1]Kontoplan!A:D,2,0)))","v":"Bank konto"}]
["2015-12-14",null,"Dragonfest, Essemann-Bech",null,null,1050,null,150,{"$f":"IF(F217=\"\",\"\",IF(ISERROR(VLOOKUP(F217,[1]Kontoplan!A:D,2,0)),\"Konto findes ikke!\",VLOOKUP(F217,[1]Kontoplan!A:D,2,0)))","v":"Deltagergebyr, Dragonfest"}]
["2015-12-14",null,"Hjemmeside, one.com",null,null,12310,null,168,{"$f":"IF(F218=\"\",\"\",IF(ISERROR(VLOOKUP(F218,[1]Kontoplan!A:D,2,0)),\"Konto findes ikke!\",VLOOKUP(F218,[1]Kontoplan!A:D,2,0)))","v":"Bank konto"}]
["2015-12-14",null,"Hjemmeside, one.com",null,null,2120,168,null,{"$f":"IF(F219=\"\",\"\",IF(ISERROR(VLOOKUP(F219,[1]Kontoplan!A:D,2,0)),\"Konto findes ikke!\",VLOOKUP(F219,[1]Kontoplan!A:D,2,0)))","v":"Hjemmeside"}]
["2015-12-15",null,"Dragonfest, Carl-Erik Larsen",null,null,12310,150,null,{"$f":"IF(F220=\"\",\"\",IF(ISERROR(VLOOKUP(F220,[1]Kontoplan!A:D,2,0)),\"Konto findes ikke!\",VLOOKUP(F220,[1]Kontoplan!A:D,2,0)))","v":"Bank konto"}]
["2015-12-15",null,"Dragonfest, Carl-Erik Larsen",null,null,1050,null,150,{"$f":"IF(F221=\"\",\"\",IF(ISERROR(VLOOKUP(F221,[1]Kontoplan!A:D,2,0)),\"Konto findes ikke!\",VLOOKUP(F221,[1]Kontoplan!A:D,2,0)))","v":"Deltagergebyr, Dragonfest"}]
["2015-12-15",null,"Dragonfest, Carsten Kofoed Pedersen",null,null,12310,150,null,{"$f":"IF(F222=\"\",\"\",IF(ISERROR(VLOOKUP(F222,[1]Kontoplan!A:D,2,0)),\"Konto findes ikke!\",VLOOKUP(F222,[1]Kontoplan!A:D,2,0)))","v":"Bank konto"}]
["2015-12-15",null,"Dragonfest, Carsten Kofoed Pedersen",null,null,1050,null,150,{"$f":"IF(F223=\"\",\"\",IF(ISERROR(VLOOKUP(F223,[1]Kontoplan!A:D,2,0)),\"Konto findes ikke!\",VLOOKUP(F223,[1]Kontoplan!A:D,2,0)))","v":"Deltagergebyr, Dragonfest"}]
["2015-12-15",null,"Dragonfest, J.P. Rasmussen",null,null,12310,150,null,{"$f":"IF(F224=\"\",\"\",IF(ISERROR(VLOOKUP(F224,[1]Kontoplan!A:D,2,0)),\"Konto findes ikke!\",VLOOKUP(F224,[1]Kontoplan!A:D,2,0)))","v":"Bank konto"}]
["2015-12-15",null,"Dragonfest, J.P. Rasmussen",null,null,1050,null,150,{"$f":"IF(F225=\"\",\"\",IF(ISERROR(VLOOKUP(F225,[1]Kontoplan!A:D,2,0)),\"Konto findes ikke!\",VLOOKUP(F225,[1]Kontoplan!A:D,2,0)))","v":"Deltagergebyr, Dragonfest"}]
["2015-12-15",null,"Dragonfest, Per Leif Andersen",null,null,12310,150,null,{"$f":"IF(F226=\"\",\"\",IF(ISERROR(VLOOKUP(F226,[1]Kontoplan!A:D,2,0)),\"Konto findes ikke!\",VLOOKUP(F226,[1]Kontoplan!A:D,2,0)))","v":"Bank konto"}]
["2015-12-15",null,"Dragonfest, Per Leif Andersen",null,null,1050,null,150,{"$f":"IF(F227=\"\",\"\",IF(ISERROR(VLOOKUP(F227,[1]Kontoplan!A:D,2,0)),\"Konto findes ikke!\",VLOOKUP(F227,[1]Kontoplan!A:D,2,0)))","v":"Deltagergebyr, Dragonfest"}]
["2015-12-15",null,"Dragonfest, Johnny Kofoed",null,null,12310,150,null,{"$f":"IF(F228=\"\",\"\",IF(ISERROR(VLOOKUP(F228,[1]Kontoplan!A:D,2,0)),\"Konto findes ikke!\",VLOOKUP(F228,[1]Kontoplan!A:D,2,0)))","v":"Bank konto"}]
["2015-12-15",null,"Dragonfest, Johnny Kofoed",null,null,1050,null,150,{"$f":"IF(F229=\"\",\"\",IF(ISERROR(VLOOKUP(F229,[1]Kontoplan!A:D,2,0)),\"Konto findes ikke!\",VLOOKUP(F229,[1]Kontoplan!A:D,2,0)))","v":"Deltagergebyr, Dragonfest"}]
["2015-12-15",null,"Dragonfest, Ebbe Gejl Hansen",null,null,12310,150,null,{"$f":"IF(F230=\"\",\"\",IF(ISERROR(VLOOKUP(F230,[1]Kontoplan!A:D,2,0)),\"Konto findes ikke!\",VLOOKUP(F230,[1]Kontoplan!A:D,2,0)))","v":"Bank konto"}]
["2015-12-15",null,"Dragonfest, Ebbe Gejl Hansen",null,null,1050,null,150,{"$f":"IF(F231=\"\",\"\",IF(ISERROR(VLOOKUP(F231,[1]Kontoplan!A:D,2,0)),\"Konto findes ikke!\",VLOOKUP(F231,[1]Kontoplan!A:D,2,0)))","v":"Deltagergebyr, Dragonfest"}]
["2015-12-15",null,"Dragonfest, Kaare Hansen",null,null,12310,150,null,{"$f":"IF(F232=\"\",\"\",IF(ISERROR(VLOOKUP(F232,[1]Kontoplan!A:D,2,0)),\"Konto findes ikke!\",VLOOKUP(F232,[1]Kontoplan!A:D,2,0)))","v":"Bank konto"}]
["2015-12-15",null,"Dragonfest, Kaare Hansen",null,null,1050,null,150,{"$f":"IF(F233=\"\",\"\",IF(ISERROR(VLOOKUP(F233,[1]Kontoplan!A:D,2,0)),\"Konto findes ikke!\",VLOOKUP(F233,[1]Kontoplan!A:D,2,0)))","v":"Deltagergebyr, Dragonfest"}]
["2015-12-15",null,"Dragonfest, J.P. Christoffersson",null,null,12310,150,null,{"$f":"IF(F234=\"\",\"\",IF(ISERROR(VLOOKUP(F234,[1]Kontoplan!A:D,2,0)),\"Konto findes ikke!\",VLOOKUP(F234,[1]Kontoplan!A:D,2,0)))","v":"Bank konto"}]
["2015-12-15",null,"Dragonfest, J.P. Christoffersson",null,null,1050,null,150,{"$f":"IF(F235=\"\",\"\",IF(ISERROR(VLOOKUP(F235,[1]Kontoplan!A:D,2,0)),\"Konto findes ikke!\",VLOOKUP(F235,[1]Kontoplan!A:D,2,0)))","v":"Deltagergebyr, Dragonfest"}]
["2015-12-16",null,"Dragonfest, Lloyd Jørgensen",null,null,12310,150,null,{"$f":"IF(F236=\"\",\"\",IF(ISERROR(VLOOKUP(F236,[1]Kontoplan!A:D,2,0)),\"Konto findes ikke!\",VLOOKUP(F236,[1]Kontoplan!A:D,2,0)))","v":"Bank konto"}]
["2015-12-16",null,"Dragonfest, Lloyd Jørgensen",null,null,1050,null,150,{"$f":"IF(F237=\"\",\"\",IF(ISERROR(VLOOKUP(F237,[1]Kontoplan!A:D,2,0)),\"Konto findes ikke!\",VLOOKUP(F237,[1]Kontoplan!A:D,2,0)))","v":"Deltagergebyr, Dragonfest"}]
["2015-12-16",null,"Dragonfest, Kurt Larsen",null,null,12310,150,null,{"$f":"IF(F238=\"\",\"\",IF(ISERROR(VLOOKUP(F238,[1]Kontoplan!A:D,2,0)),\"Konto findes ikke!\",VLOOKUP(F238,[1]Kontoplan!A:D,2,0)))","v":"Bank konto"}]
["2015-12-16",null,"Dragonfest, Kurt Larsen",null,null,1050,null,150,{"$f":"IF(F239=\"\",\"\",IF(ISERROR(VLOOKUP(F239,[1]Kontoplan!A:D,2,0)),\"Konto findes ikke!\",VLOOKUP(F239,[1]Kontoplan!A:D,2,0)))","v":"Deltagergebyr, Dragonfest"}]
["2015-12-16",null,"Dragonfest, Knud Arne Rasmussen",null,null,12310,150,null,{"$f":"IF(F240=\"\",\"\",IF(ISERROR(VLOOKUP(F240,[1]Kontoplan!A:D,2,0)),\"Konto findes ikke!\",VLOOKUP(F240,[1]Kontoplan!A:D,2,0)))","v":"Bank konto"}]
["2015-12-16",null,"Dragonfest, Knud Arne Rasmussen",null,null,1050,null,150,{"$f":"IF(F241=\"\",\"\",IF(ISERROR(VLOOKUP(F241,[1]Kontoplan!A:D,2,0)),\"Konto findes ikke!\",VLOOKUP(F241,[1]Kontoplan!A:D,2,0)))","v":"Deltagergebyr, Dragonfest"}]
["2015-12-16",null,"Dragonfest, Per Sørensen",null,null,12310,250,null,{"$f":"IF(F242=\"\",\"\",IF(ISERROR(VLOOKUP(F242,[1]Kontoplan!A:D,2,0)),\"Konto findes ikke!\",VLOOKUP(F242,[1]Kontoplan!A:D,2,0)))","v":"Bank konto"}]
["2015-12-16",null,"Dragonfest, Per Sørensen",null,null,1050,null,150,{"$f":"IF(F243=\"\",\"\",IF(ISERROR(VLOOKUP(F243,[1]Kontoplan!A:D,2,0)),\"Konto findes ikke!\",VLOOKUP(F243,[1]Kontoplan!A:D,2,0)))","v":"Deltagergebyr, Dragonfest"}]
["2015-12-16",null,"Dragonfest, Per Sørensen",null,null,1010,null,100,{"$f":"IF(F244=\"\",\"\",IF(ISERROR(VLOOKUP(F244,[1]Kontoplan!A:D,2,0)),\"Konto findes ikke!\",VLOOKUP(F244,[1]Kontoplan!A:D,2,0)))","v":"Salg af mærker"}]
["2015-12-16",null,"Dragonfest, E.A. Larsen",null,null,12310,150,null,{"$f":"IF(F245=\"\",\"\",IF(ISERROR(VLOOKUP(F245,[1]Kontoplan!A:D,2,0)),\"Konto findes ikke!\",VLOOKUP(F245,[1]Kontoplan!A:D,2,0)))","v":"Bank konto"}]
["2015-12-16",null,"Dragonfest, E.A. Larsen",null,null,1050,null,150,{"$f":"IF(F246=\"\",\"\",IF(ISERROR(VLOOKUP(F246,[1]Kontoplan!A:D,2,0)),\"Konto findes ikke!\",VLOOKUP(F246,[1]Kontoplan!A:D,2,0)))","v":"Deltagergebyr, Dragonfest"}]
["2015-12-17",null,"Dragonfest, Johs. Petersen",74,2016,1000,null,100,{"$f":"IF(F247=\"\",\"\",IF(ISERROR(VLOOKUP(F247,[1]Kontoplan!A:D,2,0)),\"Konto findes ikke!\",VLOOKUP(F247,[1]Kontoplan!A:D,2,0)))","v":"Kontingenter"}]
["2015-12-17",null,"Dragonfest, Kurt Munch",null,null,12310,150,null,{"$f":"IF(F248=\"\",\"\",IF(ISERROR(VLOOKUP(F248,[1]Kontoplan!A:D,2,0)),\"Konto findes ikke!\",VLOOKUP(F248,[1]Kontoplan!A:D,2,0)))","v":"Bank konto"}]
["2015-12-17",null,"Dragonfest, Kurt Munch",null,null,1050,null,150,{"$f":"IF(F249=\"\",\"\",IF(ISERROR(VLOOKUP(F249,[1]Kontoplan!A:D,2,0)),\"Konto findes ikke!\",VLOOKUP(F249,[1]Kontoplan!A:D,2,0)))","v":"Deltagergebyr, Dragonfest"}]
["2015-12-17",null,"Dragonfest, Johs. Petersen",null,null,12310,250,null,{"$f":"IF(F250=\"\",\"\",IF(ISERROR(VLOOKUP(F250,[1]Kontoplan!A:D,2,0)),\"Konto findes ikke!\",VLOOKUP(F250,[1]Kontoplan!A:D,2,0)))","v":"Bank konto"}]
["2015-12-17",null,"Dragonfest, Johs. Petersen",null,null,1050,null,150,{"$f":"IF(F251=\"\",\"\",IF(ISERROR(VLOOKUP(F251,[1]Kontoplan!A:D,2,0)),\"Konto findes ikke!\",VLOOKUP(F251,[1]Kontoplan!A:D,2,0)))","v":"Deltagergebyr, Dragonfest"}]
["2015-12-18",null,"Dragonfest, Freddy Albæk, Angmagssalik",44,2016,1000,null,100,{"$f":"IF(F252=\"\",\"\",IF(ISERROR(VLOOKUP(F252,[1]Kontoplan!A:D,2,0)),\"Konto findes ikke!\",VLOOKUP(F252,[1]Kontoplan!A:D,2,0)))","v":"Kontingenter"}]
["2015-12-18",null,"Dragonfest, Freddy Albæk",null,null,12310,400,null,{"$f":"IF(F253=\"\",\"\",IF(ISERROR(VLOOKUP(F253,[1]Kontoplan!A:D,2,0)),\"Konto findes ikke!\",VLOOKUP(F253,[1]Kontoplan!A:D,2,0)))","v":"Bank konto"}]
["2015-12-18",null,"Dragonfest, Freddy Albæk",null,null,1050,null,150,{"$f":"IF(F254=\"\",\"\",IF(ISERROR(VLOOKUP(F254,[1]Kontoplan!A:D,2,0)),\"Konto findes ikke!\",VLOOKUP(F254,[1]Kontoplan!A:D,2,0)))","v":"Deltagergebyr, Dragonfest"}]
["2015-12-18",null,"Dragonfest, Freddy Albæk",null,null,1050,null,150,{"$f":"IF(F255=\"\",\"\",IF(ISERROR(VLOOKUP(F255,[1]Kontoplan!A:D,2,0)),\"Konto findes ikke!\",VLOOKUP(F255,[1]Kontoplan!A:D,2,0)))","v":"Deltagergebyr, Dragonfest"}]
["2015-12-20",null,"Dragonfest, Erling Olsen",null,null,12310,150,null,{"$f":"IF(F256=\"\",\"\",IF(ISERROR(VLOOKUP(F256,[1]Kontoplan!A:D,2,0)),\"Konto findes ikke!\",VLOOKUP(F256,[1]Kontoplan!A:D,2,0)))","v":"Bank konto"}]
["2015-12-20",null,"Dragonfest, Erling Olsen",null,null,1050,null,150,{"$f":"IF(F257=\"\",\"\",IF(ISERROR(VLOOKUP(F257,[1]Kontoplan!A:D,2,0)),\"Konto findes ikke!\",VLOOKUP(F257,[1]Kontoplan!A:D,2,0)))","v":"Deltagergebyr, Dragonfest"}]
["2015-12-21",null,"Dragonfest, Torsten Rasmussen",null,null,12310,150,null,{"$f":"IF(F258=\"\",\"\",IF(ISERROR(VLOOKUP(F258,[1]Kontoplan!A:D,2,0)),\"Konto findes ikke!\",VLOOKUP(F258,[1]Kontoplan!A:D,2,0)))","v":"Bank konto"}]
["2015-12-21",null,"Dragonfest, Torsten Rasmussen",null,null,1050,null,150,{"$f":"IF(F259=\"\",\"\",IF(ISERROR(VLOOKUP(F259,[1]Kontoplan!A:D,2,0)),\"Konto findes ikke!\",VLOOKUP(F259,[1]Kontoplan!A:D,2,0)))","v":"Deltagergebyr, Dragonfest"}]
["2015-12-21",null,"Dragonfest, Torben Westring",null,null,12310,150,null,{"$f":"IF(F260=\"\",\"\",IF(ISERROR(VLOOKUP(F260,[1]Kontoplan!A:D,2,0)),\"Konto findes ikke!\",VLOOKUP(F260,[1]Kontoplan!A:D,2,0)))","v":"Bank konto"}]
["2015-12-21",null,"Dragonfest, Torben Westring",null,null,1050,null,150,{"$f":"IF(F261=\"\",\"\",IF(ISERROR(VLOOKUP(F261,[1]Kontoplan!A:D,2,0)),\"Konto findes ikke!\",VLOOKUP(F261,[1]Kontoplan!A:D,2,0)))","v":"Deltagergebyr, Dragonfest"}]
["2015-12-21",null,"Dragonfest, Jens Svendsen",null,null,12310,150,null,{"$f":"IF(F262=\"\",\"\",IF(ISERROR(VLOOKUP(F262,[1]Kontoplan!A:D,2,0)),\"Konto findes ikke!\",VLOOKUP(F262,[1]Kontoplan!A:D,2,0)))","v":"Bank konto"}]
["2015-12-21",null,"Dragonfest, Jens Svendsen",null,null,1050,null,150,{"$f":"IF(F263=\"\",\"\",IF(ISERROR(VLOOKUP(F263,[1]Kontoplan!A:D,2,0)),\"Konto findes ikke!\",VLOOKUP(F263,[1]Kontoplan!A:D,2,0)))","v":"Deltagergebyr, Dragonfest"}]
["2015-12-22",null,"Dragonfest, Fine Dahl",25,2016,1000,null,100,{"$f":"IF(F264=\"\",\"\",IF(ISERROR(VLOOKUP(F264,[1]Kontoplan!A:D,2,0)),\"Konto findes ikke!\",VLOOKUP(F264,[1]Kontoplan!A:D,2,0)))","v":"Kontingenter"}]
["2015-12-22",null,"Dragonfest, Fine Dahl",null,null,12310,250,null,{"$f":"IF(F265=\"\",\"\",IF(ISERROR(VLOOKUP(F265,[1]Kontoplan!A:D,2,0)),\"Konto findes ikke!\",VLOOKUP(F265,[1]Kontoplan!A:D,2,0)))","v":"Bank konto"}]
["2015-12-22",null,"Dragonfest, Fine Dahl",null,null,1050,null,150,{"$f":"IF(F266=\"\",\"\",IF(ISERROR(VLOOKUP(F266,[1]Kontoplan!A:D,2,0)),\"Konto findes ikke!\",VLOOKUP(F266,[1]Kontoplan!A:D,2,0)))","v":"Deltagergebyr, Dragonfest"}]
["2015-12-22",null,"Dragonfest, Flemming Larsen",null,null,12310,150,null,{"$f":"IF(F267=\"\",\"\",IF(ISERROR(VLOOKUP(F267,[1]Kontoplan!A:D,2,0)),\"Konto findes ikke!\",VLOOKUP(F267,[1]Kontoplan!A:D,2,0)))","v":"Bank konto"}]
["2015-12-22",null,"Dragonfest, Flemming Larsen",null,null,1050,null,150,{"$f":"IF(F268=\"\",\"\",IF(ISERROR(VLOOKUP(F268,[1]Kontoplan!A:D,2,0)),\"Konto findes ikke!\",VLOOKUP(F268,[1]Kontoplan!A:D,2,0)))","v":"Deltagergebyr, Dragonfest"}]
["2015-12-22",null,"Dragonfest, Richard Finne",null,null,12310,150,null,{"$f":"IF(F269=\"\",\"\",IF(ISERROR(VLOOKUP(F269,[1]Kontoplan!A:D,2,0)),\"Konto findes ikke!\",VLOOKUP(F269,[1]Kontoplan!A:D,2,0)))","v":"Bank konto"}]
["2015-12-22",null,"Dragonfest, Richard Finne",null,null,1050,null,150,{"$f":"IF(F270=\"\",\"\",IF(ISERROR(VLOOKUP(F270,[1]Kontoplan!A:D,2,0)),\"Konto findes ikke!\",VLOOKUP(F270,[1]Kontoplan!A:D,2,0)))","v":"Deltagergebyr, Dragonfest"}]
["2015-12-23",null,"Dragonfest, Tommy Kiel",null,null,12310,250,null,{"$f":"IF(F271=\"\",\"\",IF(ISERROR(VLOOKUP(F271,[1]Kontoplan!A:D,2,0)),\"Konto findes ikke!\",VLOOKUP(F271,[1]Kontoplan!A:D,2,0)))","v":"Bank konto"}]
["2015-12-23",null,"Dragonfest, Tommy Kiel",null,null,1050,null,150,{"$f":"IF(F272=\"\",\"\",IF(ISERROR(VLOOKUP(F272,[1]Kontoplan!A:D,2,0)),\"Konto findes ikke!\",VLOOKUP(F272,[1]Kontoplan!A:D,2,0)))","v":"Deltagergebyr, Dragonfest"}]
["2015-12-23",null,"Dragonfest, Tommy Kiel",null,null,1000,null,100,{"$f":"IF(F273=\"\",\"\",IF(ISERROR(VLOOKUP(F273,[1]Kontoplan!A:D,2,0)),\"Konto findes ikke!\",VLOOKUP(F273,[1]Kontoplan!A:D,2,0)))","v":"Kontingenter"}]
["2015-12-28",null,"Dragonfest, Hugo Nielsen",null,null,12310,150,null,{"$f":"IF(F274=\"\",\"\",IF(ISERROR(VLOOKUP(F274,[1]Kontoplan!A:D,2,0)),\"Konto findes ikke!\",VLOOKUP(F274,[1]Kontoplan!A:D,2,0)))","v":"Bank konto"}]
["2015-12-28",null,"Dragonfest, Hugo Nielsen",null,null,1050,null,150,{"$f":"IF(F275=\"\",\"\",IF(ISERROR(VLOOKUP(F275,[1]Kontoplan!A:D,2,0)),\"Konto findes ikke!\",VLOOKUP(F275,[1]Kontoplan!A:D,2,0)))","v":"Deltagergebyr, Dragonfest"}]
["2015-12-28",null,"Dragonfest, Kim Jensen",null,null,12310,150,null,{"$f":"IF(F276=\"\",\"\",IF(ISERROR(VLOOKUP(F276,[1]Kontoplan!A:D,2,0)),\"Konto findes ikke!\",VLOOKUP(F276,[1]Kontoplan!A:D,2,0)))","v":"Bank konto"}]
["2015-12-28",null,"Dragonfest, Kim Jensen",null,null,1050,null,150,{"$f":"IF(F277=\"\",\"\",IF(ISERROR(VLOOKUP(F277,[1]Kontoplan!A:D,2,0)),\"Konto findes ikke!\",VLOOKUP(F277,[1]Kontoplan!A:D,2,0)))","v":"Deltagergebyr, Dragonfest"}]
["2015-12-29",null,"Kontingent, Flemming Olsen",43,2016,1000,null,100,{"$f":"IF(F278=\"\",\"\",IF(ISERROR(VLOOKUP(F278,[1]Kontoplan!A:D,2,0)),\"Konto findes ikke!\",VLOOKUP(F278,[1]Kontoplan!A:D,2,0)))","v":"Kontingenter"}]
["2015-12-29",null,"Kontingent, Flemming Olsen",null,null,12310,100,null,{"$f":"IF(F279=\"\",\"\",IF(ISERROR(VLOOKUP(F279,[1]Kontoplan!A:D,2,0)),\"Konto findes ikke!\",VLOOKUP(F279,[1]Kontoplan!A:D,2,0)))","v":"Bank konto"}]
["2015-12-29",null,"Dragonfest, J.K. Pedersen",null,null,12310,150,null,{"$f":"IF(F280=\"\",\"\",IF(ISERROR(VLOOKUP(F280,[1]Kontoplan!A:D,2,0)),\"Konto findes ikke!\",VLOOKUP(F280,[1]Kontoplan!A:D,2,0)))","v":"Bank konto"}]
["2015-12-29",null,"Dragonfest, J.K. Pedersen",null,null,1050,null,150,{"$f":"IF(F281=\"\",\"\",IF(ISERROR(VLOOKUP(F281,[1]Kontoplan!A:D,2,0)),\"Konto findes ikke!\",VLOOKUP(F281,[1]Kontoplan!A:D,2,0)))","v":"Deltagergebyr, Dragonfest"}]
["2015-12-29",null,"Dragonfest, Kim Johansen",null,null,12310,150,null,{"$f":"IF(F282=\"\",\"\",IF(ISERROR(VLOOKUP(F282,[1]Kontoplan!A:D,2,0)),\"Konto findes ikke!\",VLOOKUP(F282,[1]Kontoplan!A:D,2,0)))","v":"Bank konto"}]
["2015-12-29",null,"Dragonfest, Kim Johansen",null,null,1050,null,150,{"$f":"IF(F283=\"\",\"\",IF(ISERROR(VLOOKUP(F283,[1]Kontoplan!A:D,2,0)),\"Konto findes ikke!\",VLOOKUP(F283,[1]Kontoplan!A:D,2,0)))","v":"Deltagergebyr, Dragonfest"}]
["2015-12-30",null,"Dragonfest, Bent Nielsen",null,null,12310,450,null,{"$f":"IF(F284=\"\",\"\",IF(ISERROR(VLOOKUP(F284,[1]Kontoplan!A:D,2,0)),\"Konto findes ikke!\",VLOOKUP(F284,[1]Kontoplan!A:D,2,0)))","v":"Bank konto"}]
["2015-12-30",null,"Dragonfest, Bent Nielsen",null,null,1050,null,450,{"$f":"IF(F285=\"\",\"\",IF(ISERROR(VLOOKUP(F285,[1]Kontoplan!A:D,2,0)),\"Konto findes ikke!\",VLOOKUP(F285,[1]Kontoplan!A:D,2,0)))","v":"Deltagergebyr, Dragonfest"},"mangler fordeling"]
["2015-12-30",null,"Dragonfest, Flemming Pedersen",null,null,12310,150,null,{"$f":"IF(F286=\"\",\"\",IF(ISERROR(VLOOKUP(F286,[1]Kontoplan!A:D,2,0)),\"Konto findes ikke!\",VLOOKUP(F286,[1]Kontoplan!A:D,2,0)))","v":"Bank konto"}]
["2015-12-30",null,"Dragonfest, Flemming Pedersen",null,null,1050,null,150,{"$f":"IF(F287=\"\",\"\",IF(ISERROR(VLOOKUP(F287,[1]Kontoplan!A:D,2,0)),\"Konto findes ikke!\",VLOOKUP(F287,[1]Kontoplan!A:D,2,0)))","v":"Deltagergebyr, Dragonfest"}]
["2015-12-30",null,"Dragonfest, Ole Holm",null,null,12310,450,null,{"$f":"IF(F288=\"\",\"\",IF(ISERROR(VLOOKUP(F288,[1]Kontoplan!A:D,2,0)),\"Konto findes ikke!\",VLOOKUP(F288,[1]Kontoplan!A:D,2,0)))","v":"Bank konto"}]
["2015-12-30",null,"Dragonfest, Ole Holm",null,null,1050,null,150,{"$f":"IF(F289=\"\",\"\",IF(ISERROR(VLOOKUP(F289,[1]Kontoplan!A:D,2,0)),\"Konto findes ikke!\",VLOOKUP(F289,[1]Kontoplan!A:D,2,0)))","v":"Deltagergebyr, Dragonfest"},"(mangler fordeling)"]
["2015-12-30",null,"Dragonfest, Ole Holm",null,null,1040,null,300,{"$f":"IF(F290=\"\",\"\",IF(ISERROR(VLOOKUP(F290,[1]Kontoplan!A:D,2,0)),\"Konto findes ikke!\",VLOOKUP(F290,[1]Kontoplan!A:D,2,0)))","v":"Udlejning af værelser"}]
["2015-12-30",null,"Dragonfest, Kaj Ingvorsen",null,null,12310,150,null,{"$f":"IF(F291=\"\",\"\",IF(ISERROR(VLOOKUP(F291,[1]Kontoplan!A:D,2,0)),\"Konto findes ikke!\",VLOOKUP(F291,[1]Kontoplan!A:D,2,0)))","v":"Bank konto"}]
["2015-12-30",null,"Dragonfest, Kaj Ingvorsen",null,null,1050,null,150,{"$f":"IF(F292=\"\",\"\",IF(ISERROR(VLOOKUP(F292,[1]Kontoplan!A:D,2,0)),\"Konto findes ikke!\",VLOOKUP(F292,[1]Kontoplan!A:D,2,0)))","v":"Deltagergebyr, Dragonfest"}]
["2015-12-30",null,"Dragonfest, Bjarne Hansen",null,null,12310,150,null,{"$f":"IF(F293=\"\",\"\",IF(ISERROR(VLOOKUP(F293,[1]Kontoplan!A:D,2,0)),\"Konto findes ikke!\",VLOOKUP(F293,[1]Kontoplan!A:D,2,0)))","v":"Bank konto"}]
["2015-12-30",null,"Dragonfest, Bjarne Hansen",null,null,1050,null,150,{"$f":"IF(F294=\"\",\"\",IF(ISERROR(VLOOKUP(F294,[1]Kontoplan!A:D,2,0)),\"Konto findes ikke!\",VLOOKUP(F294,[1]Kontoplan!A:D,2,0)))","v":"Deltagergebyr, Dragonfest"}]
["2015-12-30",null,"Dragonfest, Jan Christensen",null,null,12310,150,null,{"$f":"IF(F295=\"\",\"\",IF(ISERROR(VLOOKUP(F295,[1]Kontoplan!A:D,2,0)),\"Konto findes ikke!\",VLOOKUP(F295,[1]Kontoplan!A:D,2,0)))","v":"Bank konto"}]
["2015-12-30",null,"Dragonfest, Jan Christensen",null,null,1050,null,150,{"$f":"IF(F296=\"\",\"\",IF(ISERROR(VLOOKUP(F296,[1]Kontoplan!A:D,2,0)),\"Konto findes ikke!\",VLOOKUP(F296,[1]Kontoplan!A:D,2,0)))","v":"Deltagergebyr, Dragonfest"}]
["2015-12-30",null,"Dragonfest, Eilief G. Andersen",null,null,12310,150,null,{"$f":"IF(F297=\"\",\"\",IF(ISERROR(VLOOKUP(F297,[1]Kontoplan!A:D,2,0)),\"Konto findes ikke!\",VLOOKUP(F297,[1]Kontoplan!A:D,2,0)))","v":"Bank konto"}]
["2015-12-30",null,"Dragonfest, Eilief G. Andersen",null,null,1050,null,150,{"$f":"IF(F298=\"\",\"\",IF(ISERROR(VLOOKUP(F298,[1]Kontoplan!A:D,2,0)),\"Konto findes ikke!\",VLOOKUP(F298,[1]Kontoplan!A:D,2,0)))","v":"Deltagergebyr, Dragonfest"}]
["2015-12-30",null,"Dragonfest, SSG N-J. Johansen",null,null,12310,150,null,{"$f":"IF(F299=\"\",\"\",IF(ISERROR(VLOOKUP(F299,[1]Kontoplan!A:D,2,0)),\"Konto findes ikke!\",VLOOKUP(F299,[1]Kontoplan!A:D,2,0)))","v":"Bank konto"}]
["2015-12-30",null,"Dragonfest, SSG N-J. Johansen",null,null,1050,null,150,{"$f":"IF(F300=\"\",\"\",IF(ISERROR(VLOOKUP(F300,[1]Kontoplan!A:D,2,0)),\"Konto findes ikke!\",VLOOKUP(F300,[1]Kontoplan!A:D,2,0)))","v":"Deltagergebyr, Dragonfest"}]
["2015-12-31",null,"Dragonfest, Steen Jensen",95,2016,1000,null,100,{"$f":"IF(F301=\"\",\"\",IF(ISERROR(VLOOKUP(F301,[1]Kontoplan!A:D,2,0)),\"Konto findes ikke!\",VLOOKUP(F301,[1]Kontoplan!A:D,2,0)))","v":"Kontingenter"}]
["2015-12-31",null,"Dragonfest, John Nielsen",null,null,12310,150,null,{"$f":"IF(F302=\"\",\"\",IF(ISERROR(VLOOKUP(F302,[1]Kontoplan!A:D,2,0)),\"Konto findes ikke!\",VLOOKUP(F302,[1]Kontoplan!A:D,2,0)))","v":"Bank konto"}]
["2015-12-31",null,"Dragonfest, John Nielsen",null,null,1050,null,150,{"$f":"IF(F303=\"\",\"\",IF(ISERROR(VLOOKUP(F303,[1]Kontoplan!A:D,2,0)),\"Konto findes ikke!\",VLOOKUP(F303,[1]Kontoplan!A:D,2,0)))","v":"Deltagergebyr, Dragonfest"}]
["2015-12-31",null,"Dragonfest, Finn Nielsen",null,null,12310,150,null,{"$f":"IF(F304=\"\",\"\",IF(ISERROR(VLOOKUP(F304,[1]Kontoplan!A:D,2,0)),\"Konto findes ikke!\",VLOOKUP(F304,[1]Kontoplan!A:D,2,0)))","v":"Bank konto"}]
["2015-12-31",null,"Dragonfest, Finn Nielsen",null,null,1050,null,150,{"$f":"IF(F305=\"\",\"\",IF(ISERROR(VLOOKUP(F305,[1]Kontoplan!A:D,2,0)),\"Konto findes ikke!\",VLOOKUP(F305,[1]Kontoplan!A:D,2,0)))","v":"Deltagergebyr, Dragonfest"}]
["2015-12-31",null,"Dragonfest, Jørgen Espersen",null,null,12310,150,null,{"$f":"IF(F306=\"\",\"\",IF(ISERROR(VLOOKUP(F306,[1]Kontoplan!A:D,2,0)),\"Konto findes ikke!\",VLOOKUP(F306,[1]Kontoplan!A:D,2,0)))","v":"Bank konto"}]
["2015-12-31",null,"Dragonfest, Jørgen Espersen",null,null,1050,null,150,{"$f":"IF(F307=\"\",\"\",IF(ISERROR(VLOOKUP(F307,[1]Kontoplan!A:D,2,0)),\"Konto findes ikke!\",VLOOKUP(F307,[1]Kontoplan!A:D,2,0)))","v":"Deltagergebyr, Dragonfest"}]
["2015-12-31",null,"Dragonfest, Steen Jensen",null,null,12310,250,null,{"$f":"IF(F308=\"\",\"\",IF(ISERROR(VLOOKUP(F308,[1]Kontoplan!A:D,2,0)),\"Konto findes ikke!\",VLOOKUP(F308,[1]Kontoplan!A:D,2,0)))","v":"Bank konto"}]
["2015-12-31",null,"Dragonfest, Steen Jensen",null,null,1050,null,150,{"$f":"IF(F309=\"\",\"\",IF(ISERROR(VLOOKUP(F309,[1]Kontoplan!A:D,2,0)),\"Konto findes ikke!\",VLOOKUP(F309,[1]Kontoplan!A:D,2,0)))","v":"Deltagergebyr, Dragonfest"}]
["2015-12-31",null,"Dragonfest, Søren Schou",null,null,12310,190,null,{"$f":"IF(F310=\"\",\"\",IF(ISERROR(VLOOKUP(F310,[1]Kontoplan!A:D,2,0)),\"Konto findes ikke!\",VLOOKUP(F310,[1]Kontoplan!A:D,2,0)))","v":"Bank konto"}]
["2015-12-31",null,"Dragonfest, Søren Schou",null,null,1050,null,190,{"$f":"IF(F311=\"\",\"\",IF(ISERROR(VLOOKUP(F311,[1]Kontoplan!A:D,2,0)),\"Konto findes ikke!\",VLOOKUP(F311,[1]Kontoplan!A:D,2,0)))","v":"Deltagergebyr, Dragonfest"},"40,- kr ?"]
["2015-12-31",null,"Gebyr ifølge nota",null,null,12310,null,75,{"$f":"IF(F312=\"\",\"\",IF(ISERROR(VLOOKUP(F312,[1]Kontoplan!A:D,2,0)),\"Konto findes ikke!\",VLOOKUP(F312,[1]Kontoplan!A:D,2,0)))","v":"Bank konto"}]
["2015-12-31",null,"Gebyr ifølge nota",null,null,2130,75,null,{"$f":"IF(F313=\"\",\"\",IF(ISERROR(VLOOKUP(F313,[1]Kontoplan!A:D,2,0)),\"Konto findes ikke!\",VLOOKUP(F313,[1]Kontoplan!A:D,2,0)))","v":"Bankgebyr/Renter"}]
["2016-01-01",null,"Dragonfest, Finn Larsen",null,null,12310,150,null,{"$f":"IF(F314=\"\",\"\",IF(ISERROR(VLOOKUP(F314,[1]Kontoplan!A:D,2,0)),\"Konto findes ikke!\",VLOOKUP(F314,[1]Kontoplan!A:D,2,0)))","v":"Bank konto"}]
["2016-01-01",null,"Dragonfest, Finn Larsen",null,null,1050,null,150,{"$f":"IF(F315=\"\",\"\",IF(ISERROR(VLOOKUP(F315,[1]Kontoplan!A:D,2,0)),\"Konto findes ikke!\",VLOOKUP(F315,[1]Kontoplan!A:D,2,0)))","v":"Deltagergebyr, Dragonfest"}]
["2016-01-04",null,"Kontingent, Jan Skøld",null,null,12310,100,null,{"$f":"IF(F316=\"\",\"\",IF(ISERROR(VLOOKUP(F316,[1]Kontoplan!A:D,2,0)),\"Konto findes ikke!\",VLOOKUP(F316,[1]Kontoplan!A:D,2,0)))","v":"Bank konto"}]
["2016-01-04",null,"Kontingent, Jan Skøld",null,null,1000,null,100,{"$f":"IF(F317=\"\",\"\",IF(ISERROR(VLOOKUP(F317,[1]Kontoplan!A:D,2,0)),\"Konto findes ikke!\",VLOOKUP(F317,[1]Kontoplan!A:D,2,0)))","v":"Kontingenter"}]
["2016-01-04",null,"Dragonfest, Erik Hansen",null,null,12310,580,null,{"$f":"IF(F318=\"\",\"\",IF(ISERROR(VLOOKUP(F318,[1]Kontoplan!A:D,2,0)),\"Konto findes ikke!\",VLOOKUP(F318,[1]Kontoplan!A:D,2,0)))","v":"Bank konto"}]
["2016-01-04",null,"Dragonfest, Erik Hansen",null,null,1050,null,580,{"$f":"IF(F319=\"\",\"\",IF(ISERROR(VLOOKUP(F319,[1]Kontoplan!A:D,2,0)),\"Konto findes ikke!\",VLOOKUP(F319,[1]Kontoplan!A:D,2,0)))","v":"Deltagergebyr, Dragonfest"},"Mangler fordeling af beløb"]
["2016-01-04",null,"Dragonfest, Allan Olsen",null,null,12310,150,null,{"$f":"IF(F320=\"\",\"\",IF(ISERROR(VLOOKUP(F320,[1]Kontoplan!A:D,2,0)),\"Konto findes ikke!\",VLOOKUP(F320,[1]Kontoplan!A:D,2,0)))","v":"Bank konto"}]
["2016-01-04",null,"Dragonfest, Allan Olsen",null,null,1050,null,150,{"$f":"IF(F321=\"\",\"\",IF(ISERROR(VLOOKUP(F321,[1]Kontoplan!A:D,2,0)),\"Konto findes ikke!\",VLOOKUP(F321,[1]Kontoplan!A:D,2,0)))","v":"Deltagergebyr, Dragonfest"}]
["2016-01-05",null,"Dragonfest, Jørn Lundberg",77,2016,1000,null,100,{"$f":"IF(F322=\"\",\"\",IF(ISERROR(VLOOKUP(F322,[1]Kontoplan!A:D,2,0)),\"Konto findes ikke!\",VLOOKUP(F322,[1]Kontoplan!A:D,2,0)))","v":"Kontingenter"}]
["2016-01-05",null,"Kontingent, Martin Mundus",null,null,12310,100,null,{"$f":"IF(F323=\"\",\"\",IF(ISERROR(VLOOKUP(F323,[1]Kontoplan!A:D,2,0)),\"Konto findes ikke!\",VLOOKUP(F323,[1]Kontoplan!A:D,2,0)))","v":"Bank konto"}]
["2016-01-05",null,"Kontingent, Martin Mundus",null,null,1000,null,100,{"$f":"IF(F324=\"\",\"\",IF(ISERROR(VLOOKUP(F324,[1]Kontoplan!A:D,2,0)),\"Konto findes ikke!\",VLOOKUP(F324,[1]Kontoplan!A:D,2,0)))","v":"Kontingenter"}]
["2016-01-05",null,"Dragonfest, Jan Kristoffersen",null,null,12310,150,null,{"$f":"IF(F325=\"\",\"\",IF(ISERROR(VLOOKUP(F325,[1]Kontoplan!A:D,2,0)),\"Konto findes ikke!\",VLOOKUP(F325,[1]Kontoplan!A:D,2,0)))","v":"Bank konto"}]
["2016-01-05",null,"Dragonfest, Jan Kristoffersen",null,null,1050,null,150,{"$f":"IF(F326=\"\",\"\",IF(ISERROR(VLOOKUP(F326,[1]Kontoplan!A:D,2,0)),\"Konto findes ikke!\",VLOOKUP(F326,[1]Kontoplan!A:D,2,0)))","v":"Deltagergebyr, Dragonfest"}]
["2016-01-05",null,"Dragonfest, Jørn Lundberg",null,null,12310,250,null,{"$f":"IF(F327=\"\",\"\",IF(ISERROR(VLOOKUP(F327,[1]Kontoplan!A:D,2,0)),\"Konto findes ikke!\",VLOOKUP(F327,[1]Kontoplan!A:D,2,0)))","v":"Bank konto"}]
["2016-01-05",null,"Dragonfest, Jørn Lundberg",null,null,1050,null,150,{"$f":"IF(F328=\"\",\"\",IF(ISERROR(VLOOKUP(F328,[1]Kontoplan!A:D,2,0)),\"Konto findes ikke!\",VLOOKUP(F328,[1]Kontoplan!A:D,2,0)))","v":"Deltagergebyr, Dragonfest"}]
["2016-01-05",null,"Dragonfest, Bent Ellevang",null,null,12310,810,null,{"$f":"IF(F329=\"\",\"\",IF(ISERROR(VLOOKUP(F329,[1]Kontoplan!A:D,2,0)),\"Konto findes ikke!\",VLOOKUP(F329,[1]Kontoplan!A:D,2,0)))","v":"Bank konto"}]
["2016-01-05",null,"Dragonfest, Bent Ellevang",null,null,1050,null,150,{"$f":"IF(F330=\"\",\"\",IF(ISERROR(VLOOKUP(F330,[1]Kontoplan!A:D,2,0)),\"Konto findes ikke!\",VLOOKUP(F330,[1]Kontoplan!A:D,2,0)))","v":"Deltagergebyr, Dragonfest"}]
["2016-01-05",null,"Dragonfest, Bent Ellevang",null,null,1040,null,600,{"$f":"IF(F331=\"\",\"\",IF(ISERROR(VLOOKUP(F331,[1]Kontoplan!A:D,2,0)),\"Konto findes ikke!\",VLOOKUP(F331,[1]Kontoplan!A:D,2,0)))","v":"Udlejning af værelser"}]
["2016-01-05",null,"Dragonfest, Bent Ellevang",null,null,1030,null,60,{"$f":"IF(F332=\"\",\"\",IF(ISERROR(VLOOKUP(F332,[1]Kontoplan!A:D,2,0)),\"Konto findes ikke!\",VLOOKUP(F332,[1]Kontoplan!A:D,2,0)))","v":"Salg af morgenmad"}]
["2016-01-06",null,"Kontingent, Hans-Jørgen Jensen",18,2017,1000,null,100,{"$f":"IF(F333=\"\",\"\",IF(ISERROR(VLOOKUP(F333,[1]Kontoplan!A:D,2,0)),\"Konto findes ikke!\",VLOOKUP(F333,[1]Kontoplan!A:D,2,0)))","v":"Kontingenter"}]
["2016-01-06",null,"Morgenmad, Kurt Munch",null,null,12310,60,null,{"$f":"IF(F334=\"\",\"\",IF(ISERROR(VLOOKUP(F334,[1]Kontoplan!A:D,2,0)),\"Konto findes ikke!\",VLOOKUP(F334,[1]Kontoplan!A:D,2,0)))","v":"Bank konto"}]
["2016-01-06",null,"Morgenmad, Kurt Munch",null,null,1030,null,60,{"$f":"IF(F335=\"\",\"\",IF(ISERROR(VLOOKUP(F335,[1]Kontoplan!A:D,2,0)),\"Konto findes ikke!\",VLOOKUP(F335,[1]Kontoplan!A:D,2,0)))","v":"Salg af morgenmad"}]
["2016-01-06",null,"Dragonfest, Ole Larsen",null,null,12310,150,null,{"$f":"IF(F336=\"\",\"\",IF(ISERROR(VLOOKUP(F336,[1]Kontoplan!A:D,2,0)),\"Konto findes ikke!\",VLOOKUP(F336,[1]Kontoplan!A:D,2,0)))","v":"Bank konto"}]
["2016-01-06",null,"Dragonfest, Ole Larsen",null,null,1050,null,150,{"$f":"IF(F337=\"\",\"\",IF(ISERROR(VLOOKUP(F337,[1]Kontoplan!A:D,2,0)),\"Konto findes ikke!\",VLOOKUP(F337,[1]Kontoplan!A:D,2,0)))","v":"Deltagergebyr, Dragonfest"}]
["2016-01-06",null,"Kontingent, Hans-Jørgen Jensen",null,null,12310,100,null,{"$f":"IF(F338=\"\",\"\",IF(ISERROR(VLOOKUP(F338,[1]Kontoplan!A:D,2,0)),\"Konto findes ikke!\",VLOOKUP(F338,[1]Kontoplan!A:D,2,0)))","v":"Bank konto"}]
["2016-01-07",null,"Kontingent, Bent Nielsen",78,2016,1000,null,100,{"$f":"IF(F339=\"\",\"\",IF(ISERROR(VLOOKUP(F339,[1]Kontoplan!A:D,2,0)),\"Konto findes ikke!\",VLOOKUP(F339,[1]Kontoplan!A:D,2,0)))","v":"Kontingenter"}]
["2016-01-07",null,"Kontingent, Finn Nielsen",79,2016,1000,null,100,{"$f":"IF(F340=\"\",\"\",IF(ISERROR(VLOOKUP(F340,[1]Kontoplan!A:D,2,0)),\"Konto findes ikke!\",VLOOKUP(F340,[1]Kontoplan!A:D,2,0)))","v":"Kontingenter"}]
["2016-01-07",null,"Kontingent, Flemming Pedersen",80,2016,1000,null,100,{"$f":"IF(F341=\"\",\"\",IF(ISERROR(VLOOKUP(F341,[1]Kontoplan!A:D,2,0)),\"Konto findes ikke!\",VLOOKUP(F341,[1]Kontoplan!A:D,2,0)))","v":"Kontingenter"}]
["2016-01-07",null,"Morgenmad, Ole Holm",null,null,12310,30,null,{"$f":"IF(F342=\"\",\"\",IF(ISERROR(VLOOKUP(F342,[1]Kontoplan!A:D,2,0)),\"Konto findes ikke!\",VLOOKUP(F342,[1]Kontoplan!A:D,2,0)))","v":"Bank konto"}]
["2016-01-07",null,"Morgenmad, Ole Holm",null,null,1030,null,30,{"$f":"IF(F343=\"\",\"\",IF(ISERROR(VLOOKUP(F343,[1]Kontoplan!A:D,2,0)),\"Konto findes ikke!\",VLOOKUP(F343,[1]Kontoplan!A:D,2,0)))","v":"Salg af morgenmad"}]
["2016-01-07",null,"Kontingent, Flemming Pedersen",null,null,12310,100,null,{"$f":"IF(F344=\"\",\"\",IF(ISERROR(VLOOKUP(F344,[1]Kontoplan!A:D,2,0)),\"Konto findes ikke!\",VLOOKUP(F344,[1]Kontoplan!A:D,2,0)))","v":"Bank konto"}]
["2016-01-07",null,"Dragonfest, Hans-Jørgen Jensen",null,null,12310,360,null,{"$f":"IF(F345=\"\",\"\",IF(ISERROR(VLOOKUP(F345,[1]Kontoplan!A:D,2,0)),\"Konto findes ikke!\",VLOOKUP(F345,[1]Kontoplan!A:D,2,0)))","v":"Bank konto"}]
["2016-01-07",null,"Dragonfest, Hans-Jørgen Jensen",null,null,1050,null,150,{"$f":"IF(F346=\"\",\"\",IF(ISERROR(VLOOKUP(F346,[1]Kontoplan!A:D,2,0)),\"Konto findes ikke!\",VLOOKUP(F346,[1]Kontoplan!A:D,2,0)))","v":"Deltagergebyr, Dragonfest"}]
["2016-01-07",null,"Dragonfest, Hans-Jørgen Jensen",null,null,1040,null,150,{"$f":"IF(F347=\"\",\"\",IF(ISERROR(VLOOKUP(F347,[1]Kontoplan!A:D,2,0)),\"Konto findes ikke!\",VLOOKUP(F347,[1]Kontoplan!A:D,2,0)))","v":"Udlejning af værelser"}]
["2016-01-07",null,"Dragonfest, Hans-Jørgen Jensen",null,null,1030,null,60,{"$f":"IF(F348=\"\",\"\",IF(ISERROR(VLOOKUP(F348,[1]Kontoplan!A:D,2,0)),\"Konto findes ikke!\",VLOOKUP(F348,[1]Kontoplan!A:D,2,0)))","v":"Salg af morgenmad"}]
["2016-01-07",null,"Dragonfest, Ebbe Michael Jensen",null,null,12310,150,null,{"$f":"IF(F349=\"\",\"\",IF(ISERROR(VLOOKUP(F349,[1]Kontoplan!A:D,2,0)),\"Konto findes ikke!\",VLOOKUP(F349,[1]Kontoplan!A:D,2,0)))","v":"Bank konto"}]
["2016-01-07",null,"Dragonfest, Ebbe Michael Jensen",null,null,1050,null,150,{"$f":"IF(F350=\"\",\"\",IF(ISERROR(VLOOKUP(F350,[1]Kontoplan!A:D,2,0)),\"Konto findes ikke!\",VLOOKUP(F350,[1]Kontoplan!A:D,2,0)))","v":"Deltagergebyr, Dragonfest"}]
["2016-01-07",null,"Hjemmeside, DK hostmaster",null,null,12310,null,45,{"$f":"IF(F351=\"\",\"\",IF(ISERROR(VLOOKUP(F351,[1]Kontoplan!A:D,2,0)),\"Konto findes ikke!\",VLOOKUP(F351,[1]Kontoplan!A:D,2,0)))","v":"Bank konto"}]
["2016-01-07",null,"Hjemmeside, DK hostmaster",null,null,2120,45,null,{"$f":"IF(F352=\"\",\"\",IF(ISERROR(VLOOKUP(F352,[1]Kontoplan!A:D,2,0)),\"Konto findes ikke!\",VLOOKUP(F352,[1]Kontoplan!A:D,2,0)))","v":"Hjemmeside"}]
["2016-01-07",null,"Dragonfest, Hans-Henrik Greve Brandenborg",null,null,12310,null,480,{"$f":"IF(F353=\"\",\"\",IF(ISERROR(VLOOKUP(F353,[1]Kontoplan!A:D,2,0)),\"Konto findes ikke!\",VLOOKUP(F353,[1]Kontoplan!A:D,2,0)))","v":"Bank konto"},"Tilbage ført "]
["2016-01-07",null,"Dragonfest, Hans-Henrik Greve Brandenborg",null,null,1050,150,null,{"$f":"IF(F354=\"\",\"\",IF(ISERROR(VLOOKUP(F354,[1]Kontoplan!A:D,2,0)),\"Konto findes ikke!\",VLOOKUP(F354,[1]Kontoplan!A:D,2,0)))","v":"Deltagergebyr, Dragonfest"},"Tilbage ført "]
["2016-01-07",null,"Dragonfest, Hans-Henrik Greve Brandenborg",null,null,1040,150,null,{"$f":"IF(F355=\"\",\"\",IF(ISERROR(VLOOKUP(F355,[1]Kontoplan!A:D,2,0)),\"Konto findes ikke!\",VLOOKUP(F355,[1]Kontoplan!A:D,2,0)))","v":"Udlejning af værelser"},"Tilbage ført "]
["2016-01-07",null,"Dragonfest, Hans-Henrik Greve Brandenborg",null,null,1030,80,null,{"$f":"IF(F356=\"\",\"\",IF(ISERROR(VLOOKUP(F356,[1]Kontoplan!A:D,2,0)),\"Konto findes ikke!\",VLOOKUP(F356,[1]Kontoplan!A:D,2,0)))","v":"Salg af morgenmad"},"Tilbage ført "]
["2016-01-07",null,"Dragonfest, Hans-Henrik Greve Brandenborg",null,null,1000,100,null,{"$f":"IF(F357=\"\",\"\",IF(ISERROR(VLOOKUP(F357,[1]Kontoplan!A:D,2,0)),\"Konto findes ikke!\",VLOOKUP(F357,[1]Kontoplan!A:D,2,0)))","v":"Kontingenter"},"Tilbage ført "]
["2016-01-07",null,"Dragonfest, Søren Dyrby Schou",null,null,12310,null,40,{"$f":"IF(F358=\"\",\"\",IF(ISERROR(VLOOKUP(F358,[1]Kontoplan!A:D,2,0)),\"Konto findes ikke!\",VLOOKUP(F358,[1]Kontoplan!A:D,2,0)))","v":"Bank konto"},"Tilbage ført "]
["2016-01-07",null,"Dragonfest, Søren Dyrby Schou",null,null,1050,40,null,{"$f":"IF(F359=\"\",\"\",IF(ISERROR(VLOOKUP(F359,[1]Kontoplan!A:D,2,0)),\"Konto findes ikke!\",VLOOKUP(F359,[1]Kontoplan!A:D,2,0)))","v":"Deltagergebyr, Dragonfest"},"Tilbage ført "]
["2016-01-07",null,"Kontingent, Bent Nielsen, Finn Nielsen",null,null,12310,200,null,{"$f":"IF(F360=\"\",\"\",IF(ISERROR(VLOOKUP(F360,[1]Kontoplan!A:D,2,0)),\"Konto findes ikke!\",VLOOKUP(F360,[1]Kontoplan!A:D,2,0)))","v":"Bank konto"}]
["2016-01-08",null,"Morgenmad, Lars Ejsing",null,null,12310,30,null,{"$f":"IF(F361=\"\",\"\",IF(ISERROR(VLOOKUP(F361,[1]Kontoplan!A:D,2,0)),\"Konto findes ikke!\",VLOOKUP(F361,[1]Kontoplan!A:D,2,0)))","v":"Bank konto"}]
["2016-01-08",null,"Morgenmad, Lars Ejsing",null,null,1030,null,30,{"$f":"IF(F362=\"\",\"\",IF(ISERROR(VLOOKUP(F362,[1]Kontoplan!A:D,2,0)),\"Konto findes ikke!\",VLOOKUP(F362,[1]Kontoplan!A:D,2,0)))","v":"Salg af morgenmad"}]
["2016-01-08",null,"Dragonfest, Freddy Albæk",null,null,12310,150,null,{"$f":"IF(F363=\"\",\"\",IF(ISERROR(VLOOKUP(F363,[1]Kontoplan!A:D,2,0)),\"Konto findes ikke!\",VLOOKUP(F363,[1]Kontoplan!A:D,2,0)))","v":"Bank konto"}]
["2016-01-08",null,"Dragonfest, Freddy Albæk",null,null,1050,null,150,{"$f":"IF(F364=\"\",\"\",IF(ISERROR(VLOOKUP(F364,[1]Kontoplan!A:D,2,0)),\"Konto findes ikke!\",VLOOKUP(F364,[1]Kontoplan!A:D,2,0)))","v":"Deltagergebyr, Dragonfest"}]
["2016-01-08",null,"Dragonfest, Eivind G. Andersen",null,null,12310,150,null,{"$f":"IF(F365=\"\",\"\",IF(ISERROR(VLOOKUP(F365,[1]Kontoplan!A:D,2,0)),\"Konto findes ikke!\",VLOOKUP(F365,[1]Kontoplan!A:D,2,0)))","v":"Bank konto"}]
["2016-01-08",null,"Dragonfest, Eivind G. Andersen",null,null,1050,null,150,{"$f":"IF(F366=\"\",\"\",IF(ISERROR(VLOOKUP(F366,[1]Kontoplan!A:D,2,0)),\"Konto findes ikke!\",VLOOKUP(F366,[1]Kontoplan!A:D,2,0)))","v":"Deltagergebyr, Dragonfest"}]
["2016-01-09",null,"Kontingent, Eivind G. Andersen",81,2016,1000,null,100,{"$f":"IF(F367=\"\",\"\",IF(ISERROR(VLOOKUP(F367,[1]Kontoplan!A:D,2,0)),\"Konto findes ikke!\",VLOOKUP(F367,[1]Kontoplan!A:D,2,0)))","v":"Kontingenter"}]
["2016-01-09",null,"Kontingent, Eivind G. Andersen",null,null,12310,100,null,{"$f":"IF(F368=\"\",\"\",IF(ISERROR(VLOOKUP(F368,[1]Kontoplan!A:D,2,0)),\"Konto findes ikke!\",VLOOKUP(F368,[1]Kontoplan!A:D,2,0)))","v":"Bank konto"}]
["2016-01-11",null,"Forplejning møder",null,null,12310,null,1155,{"$f":"IF(F369=\"\",\"\",IF(ISERROR(VLOOKUP(F369,[1]Kontoplan!A:D,2,0)),\"Konto findes ikke!\",VLOOKUP(F369,[1]Kontoplan!A:D,2,0)))","v":"Bank konto"},"Fakta Neksø 32300"]
["2016-01-11",null,"Forplejning møder",null,null,2180,1155,null,{"$f":"IF(F370=\"\",\"\",IF(ISERROR(VLOOKUP(F370,[1]Kontoplan!A:D,2,0)),\"Konto findes ikke!\",VLOOKUP(F370,[1]Kontoplan!A:D,2,0)))","v":"Bestyrelses møder"},"Fakta Neksø 32301"]
["2016-01-11",null,"Forplejning møder",null,null,12310,null,76,{"$f":"IF(F371=\"\",\"\",IF(ISERROR(VLOOKUP(F371,[1]Kontoplan!A:D,2,0)),\"Konto findes ikke!\",VLOOKUP(F371,[1]Kontoplan!A:D,2,0)))","v":"Bank konto"},"Fakta Neksø 08111"]
["2016-01-11",null,"Forplejning møder",null,null,2180,76,null,{"$f":"IF(F372=\"\",\"\",IF(ISERROR(VLOOKUP(F372,[1]Kontoplan!A:D,2,0)),\"Konto findes ikke!\",VLOOKUP(F372,[1]Kontoplan!A:D,2,0)))","v":"Bestyrelses møder"},"Fakta Neksø 08112"]
["2016-01-12",null,"Kontingent, Troels Nielsen",null,2016,1000,null,100,{"$f":"IF(F373=\"\",\"\",IF(ISERROR(VLOOKUP(F373,[1]Kontoplan!A:D,2,0)),\"Konto findes ikke!\",VLOOKUP(F373,[1]Kontoplan!A:D,2,0)))","v":"Kontingenter"}]
["2016-01-12",null,"Kontingent, Troels Nielsen",null,null,12310,100,null,{"$f":"IF(F374=\"\",\"\",IF(ISERROR(VLOOKUP(F374,[1]Kontoplan!A:D,2,0)),\"Konto findes ikke!\",VLOOKUP(F374,[1]Kontoplan!A:D,2,0)))","v":"Bank konto"}]
["2016-01-13",null,"Dragonfest, Troels Nielsen",null,null,12310,150,null,{"$f":"IF(F375=\"\",\"\",IF(ISERROR(VLOOKUP(F375,[1]Kontoplan!A:D,2,0)),\"Konto findes ikke!\",VLOOKUP(F375,[1]Kontoplan!A:D,2,0)))","v":"Bank konto"}]
["2016-01-13",null,"Dragonfest, Troels Nielsen",null,null,1050,null,150,{"$f":"IF(F376=\"\",\"\",IF(ISERROR(VLOOKUP(F376,[1]Kontoplan!A:D,2,0)),\"Konto findes ikke!\",VLOOKUP(F376,[1]Kontoplan!A:D,2,0)))","v":"Deltagergebyr, Dragonfest"}]
["2016-01-15",null,"Dragonfest, Kell Munk",null,null,12310,250,null,{"$f":"IF(F377=\"\",\"\",IF(ISERROR(VLOOKUP(F377,[1]Kontoplan!A:D,2,0)),\"Konto findes ikke!\",VLOOKUP(F377,[1]Kontoplan!A:D,2,0)))","v":"Bank konto"}]
["2016-01-15",null,"Dragonfest, Kell Munk",null,null,1050,null,150,{"$f":"IF(F378=\"\",\"\",IF(ISERROR(VLOOKUP(F378,[1]Kontoplan!A:D,2,0)),\"Konto findes ikke!\",VLOOKUP(F378,[1]Kontoplan!A:D,2,0)))","v":"Deltagergebyr, Dragonfest"}]
["2016-01-15",null,"Dragonfest, Kell Munk",null,null,1000,null,100,{"$f":"IF(F379=\"\",\"\",IF(ISERROR(VLOOKUP(F379,[1]Kontoplan!A:D,2,0)),\"Konto findes ikke!\",VLOOKUP(F379,[1]Kontoplan!A:D,2,0)))","v":"Kontingenter"}]
["2016-01-15",null,"Forplejning møder",null,null,12310,null,139.94999999999999,{"$f":"IF(F380=\"\",\"\",IF(ISERROR(VLOOKUP(F380,[1]Kontoplan!A:D,2,0)),\"Konto findes ikke!\",VLOOKUP(F380,[1]Kontoplan!A:D,2,0)))","v":"Bank konto"},"Rådhuskiosken 62282"]
["2016-01-15",null,"Forplejning møder",null,null,2180,139.94999999999999,null,{"$f":"IF(F381=\"\",\"\",IF(ISERROR(VLOOKUP(F381,[1]Kontoplan!A:D,2,0)),\"Konto findes ikke!\",VLOOKUP(F381,[1]Kontoplan!A:D,2,0)))","v":"Bestyrelses møder"},"Rådhuskiosken 62283"]
["2016-01-15",null,"Forplejning møder",null,null,12310,null,80,{"$f":"IF(F382=\"\",\"\",IF(ISERROR(VLOOKUP(F382,[1]Kontoplan!A:D,2,0)),\"Konto findes ikke!\",VLOOKUP(F382,[1]Kontoplan!A:D,2,0)))","v":"Bank konto"},"Jensens Bageri 30444"]
["2016-01-15",null,"Forplejning møder",null,null,2180,80,null,{"$f":"IF(F383=\"\",\"\",IF(ISERROR(VLOOKUP(F383,[1]Kontoplan!A:D,2,0)),\"Konto findes ikke!\",VLOOKUP(F383,[1]Kontoplan!A:D,2,0)))","v":"Bestyrelses møder"},"Jensens Bageri 30445"]
["2016-01-15",null,"Forplejning møder",null,null,12310,null,99.95,{"$f":"IF(F384=\"\",\"\",IF(ISERROR(VLOOKUP(F384,[1]Kontoplan!A:D,2,0)),\"Konto findes ikke!\",VLOOKUP(F384,[1]Kontoplan!A:D,2,0)))","v":"Bank konto"},"Bornholms Isenkram 02253"]
["2016-01-15",null,"Forplejning møder",null,null,2180,99.95,null,{"$f":"IF(F385=\"\",\"\",IF(ISERROR(VLOOKUP(F385,[1]Kontoplan!A:D,2,0)),\"Konto findes ikke!\",VLOOKUP(F385,[1]Kontoplan!A:D,2,0)))","v":"Bestyrelses møder"},"Bornholms Isenkram 02254"]
["2016-01-15",null,"Forplejning møder",null,null,12310,null,75,{"$f":"IF(F386=\"\",\"\",IF(ISERROR(VLOOKUP(F386,[1]Kontoplan!A:D,2,0)),\"Konto findes ikke!\",VLOOKUP(F386,[1]Kontoplan!A:D,2,0)))","v":"Bank konto"},"Netto vibegårds 83266"]
["2016-01-15",null,"Forplejning møder",null,null,2180,75,null,{"$f":"IF(F387=\"\",\"\",IF(ISERROR(VLOOKUP(F387,[1]Kontoplan!A:D,2,0)),\"Konto findes ikke!\",VLOOKUP(F387,[1]Kontoplan!A:D,2,0)))","v":"Bestyrelses møder"},"Netto vibegårds 83267"]
["2016-01-18",null,"Kontingent, Jørn Lundberg",77,2016,1000,null,100,{"$f":"IF(F388=\"\",\"\",IF(ISERROR(VLOOKUP(F388,[1]Kontoplan!A:D,2,0)),\"Konto findes ikke!\",VLOOKUP(F388,[1]Kontoplan!A:D,2,0)))","v":"Kontingenter"}]
["2016-01-18",null,"Dragonfest, Jørn Lundberg",null,null,12310,250,null,{"$f":"IF(F389=\"\",\"\",IF(ISERROR(VLOOKUP(F389,[1]Kontoplan!A:D,2,0)),\"Konto findes ikke!\",VLOOKUP(F389,[1]Kontoplan!A:D,2,0)))","v":"Bank konto"}]
["2016-01-18",null,"Dragonfest, Jørn Lundberg",null,null,1050,null,150,{"$f":"IF(F390=\"\",\"\",IF(ISERROR(VLOOKUP(F390,[1]Kontoplan!A:D,2,0)),\"Konto findes ikke!\",VLOOKUP(F390,[1]Kontoplan!A:D,2,0)))","v":"Deltagergebyr, Dragonfest"}]
["2016-01-18",null,"Forplejning møder",null,null,12310,null,300,{"$f":"IF(F391=\"\",\"\",IF(ISERROR(VLOOKUP(F391,[1]Kontoplan!A:D,2,0)),\"Konto findes ikke!\",VLOOKUP(F391,[1]Kontoplan!A:D,2,0)))","v":"Bank konto"}]
["2016-01-18",null,"Forplejning møder",null,null,2180,300,null,{"$f":"IF(F392=\"\",\"\",IF(ISERROR(VLOOKUP(F392,[1]Kontoplan!A:D,2,0)),\"Konto findes ikke!\",VLOOKUP(F392,[1]Kontoplan!A:D,2,0)))","v":"Bestyrelses møder"},"Smør.br."]
["2016-01-19",null,"Forplejning møder",null,null,12310,null,286,{"$f":"IF(F393=\"\",\"\",IF(ISERROR(VLOOKUP(F393,[1]Kontoplan!A:D,2,0)),\"Konto findes ikke!\",VLOOKUP(F393,[1]Kontoplan!A:D,2,0)))","v":"Bank konto"}]
["2016-01-19",null,"Forplejning møder",null,null,2180,286,null,{"$f":"IF(F394=\"\",\"\",IF(ISERROR(VLOOKUP(F394,[1]Kontoplan!A:D,2,0)),\"Konto findes ikke!\",VLOOKUP(F394,[1]Kontoplan!A:D,2,0)))","v":"Bestyrelses møder"},"Morgenmad"]
["2016-01-19",null,"Indkøb af øl/vand",null,null,12310,null,1770,{"$f":"IF(F395=\"\",\"\",IF(ISERROR(VLOOKUP(F395,[1]Kontoplan!A:D,2,0)),\"Konto findes ikke!\",VLOOKUP(F395,[1]Kontoplan!A:D,2,0)))","v":"Bank konto"}]
["2016-01-19",null,"Indkøb af øl/vand",null,null,2010,1770,null,{"$f":"IF(F396=\"\",\"\",IF(ISERROR(VLOOKUP(F396,[1]Kontoplan!A:D,2,0)),\"Konto findes ikke!\",VLOOKUP(F396,[1]Kontoplan!A:D,2,0)))","v":"Indkøb af øl + vand"},"Svaneke bryghus"]
["2016-01-19",null,"Slag, rest øl ",null,null,12310,500,null,{"$f":"IF(F397=\"\",\"\",IF(ISERROR(VLOOKUP(F397,[1]Kontoplan!A:D,2,0)),\"Konto findes ikke!\",VLOOKUP(F397,[1]Kontoplan!A:D,2,0)))","v":"Bank konto"}]
["2016-01-19",null,"Slag, rest øl ",null,null,1020,null,500,{"$f":"IF(F398=\"\",\"\",IF(ISERROR(VLOOKUP(F398,[1]Kontoplan!A:D,2,0)),\"Konto findes ikke!\",VLOOKUP(F398,[1]Kontoplan!A:D,2,0)))","v":"Salg af øl + vand"}]
["2016-01-20",null,"indsat kontant",null,null,12310,3500,null,{"$f":"IF(F399=\"\",\"\",IF(ISERROR(VLOOKUP(F399,[1]Kontoplan!A:D,2,0)),\"Konto findes ikke!\",VLOOKUP(F399,[1]Kontoplan!A:D,2,0)))","v":"Bank konto"}]
["2016-01-20",null,"indsat kontant",null,null,1020,null,3500,{"$f":"IF(F400=\"\",\"\",IF(ISERROR(VLOOKUP(F400,[1]Kontoplan!A:D,2,0)),\"Konto findes ikke!\",VLOOKUP(F400,[1]Kontoplan!A:D,2,0)))","v":"Salg af øl + vand"}]
["2016-01-26",null,"Kontingent, Niels Borg Larsen",83,2016,1000,null,100,{"$f":"IF(F401=\"\",\"\",IF(ISERROR(VLOOKUP(F401,[1]Kontoplan!A:D,2,0)),\"Konto findes ikke!\",VLOOKUP(F401,[1]Kontoplan!A:D,2,0)))","v":"Kontingenter"}]
["2016-01-26",null,"Kontingent, Niels Borg Larsen",null,null,12310,100,null,{"$f":"IF(F402=\"\",\"\",IF(ISERROR(VLOOKUP(F402,[1]Kontoplan!A:D,2,0)),\"Konto findes ikke!\",VLOOKUP(F402,[1]Kontoplan!A:D,2,0)))","v":"Bank konto"}]
["2016-01-27",null,"Kontingent, Thor J K Olsen",75,2016,1000,null,100,{"$f":"IF(F403=\"\",\"\",IF(ISERROR(VLOOKUP(F403,[1]Kontoplan!A:D,2,0)),\"Konto findes ikke!\",VLOOKUP(F403,[1]Kontoplan!A:D,2,0)))","v":"Kontingenter"}]
["2016-01-27",null,"Kontingent, Thor J K Olsen",null,null,12310,100,null,{"$f":"IF(F404=\"\",\"\",IF(ISERROR(VLOOKUP(F404,[1]Kontoplan!A:D,2,0)),\"Konto findes ikke!\",VLOOKUP(F404,[1]Kontoplan!A:D,2,0)))","v":"Bank konto"}]
["2016-01-28",null,"Mad Til Dragonfest",null,null,12310,null,6400,{"$f":"IF(F405=\"\",\"\",IF(ISERROR(VLOOKUP(F405,[1]Kontoplan!A:D,2,0)),\"Konto findes ikke!\",VLOOKUP(F405,[1]Kontoplan!A:D,2,0)))","v":"Bank konto"}]
["2016-01-28",null,"Mad Til Dragonfest",null,null,2090,6400,null,{"$f":"IF(F406=\"\",\"\",IF(ISERROR(VLOOKUP(F406,[1]Kontoplan!A:D,2,0)),\"Konto findes ikke!\",VLOOKUP(F406,[1]Kontoplan!A:D,2,0)))","v":"Mad til Dragonfest"}]
["2016-02-01",null,"Kontingent, Jørn Svendsen",null,null,12310,100,null,{"$f":"IF(F407=\"\",\"\",IF(ISERROR(VLOOKUP(F407,[1]Kontoplan!A:D,2,0)),\"Konto findes ikke!\",VLOOKUP(F407,[1]Kontoplan!A:D,2,0)))","v":"Bank konto"}]
["2016-02-01",null,"Kontingent, Jørn Svendsen",null,null,1000,null,100,{"$f":"IF(F408=\"\",\"\",IF(ISERROR(VLOOKUP(F408,[1]Kontoplan!A:D,2,0)),\"Konto findes ikke!\",VLOOKUP(F408,[1]Kontoplan!A:D,2,0)))","v":"Kontingenter"}]
["2016-02-03",null,"Tilbagebetalt KM",null,null,12310,null,210,{"$f":"IF(F409=\"\",\"\",IF(ISERROR(VLOOKUP(F409,[1]Kontoplan!A:D,2,0)),\"Konto findes ikke!\",VLOOKUP(F409,[1]Kontoplan!A:D,2,0)))","v":"Bank konto"}]
["2016-02-03",null,"Tilbagebetalt KM",null,null,1050,150,null,{"$f":"IF(F410=\"\",\"\",IF(ISERROR(VLOOKUP(F410,[1]Kontoplan!A:D,2,0)),\"Konto findes ikke!\",VLOOKUP(F410,[1]Kontoplan!A:D,2,0)))","v":"Deltagergebyr, Dragonfest"}]
["2016-02-03",null,"Tilbagebetalt KM",null,null,1030,60,null,{"$f":"IF(F411=\"\",\"\",IF(ISERROR(VLOOKUP(F411,[1]Kontoplan!A:D,2,0)),\"Konto findes ikke!\",VLOOKUP(F411,[1]Kontoplan!A:D,2,0)))","v":"Salg af morgenmad"}]
["2016-02-08",null,"Kontingent, Kim Johansen",36,2017,1000,null,100,{"$f":"IF(F412=\"\",\"\",IF(ISERROR(VLOOKUP(F412,[1]Kontoplan!A:D,2,0)),\"Konto findes ikke!\",VLOOKUP(F412,[1]Kontoplan!A:D,2,0)))","v":"Kontingenter"}]
["2016-02-08",null,"Kontingent, Kim Johansen",null,null,12310,100,null,{"$f":"IF(F413=\"\",\"\",IF(ISERROR(VLOOKUP(F413,[1]Kontoplan!A:D,2,0)),\"Konto findes ikke!\",VLOOKUP(F413,[1]Kontoplan!A:D,2,0)))","v":"Bank konto"}]
["2016-02-23",null,"Kontingent, Flemming Kure",84,2016,1000,null,100,{"$f":"IF(F414=\"\",\"\",IF(ISERROR(VLOOKUP(F414,[1]Kontoplan!A:D,2,0)),\"Konto findes ikke!\",VLOOKUP(F414,[1]Kontoplan!A:D,2,0)))","v":"Kontingenter"}]
["2016-02-23",null,"Kontingent, Flemming Kure",null,null,12310,100,null,{"$f":"IF(F415=\"\",\"\",IF(ISERROR(VLOOKUP(F415,[1]Kontoplan!A:D,2,0)),\"Konto findes ikke!\",VLOOKUP(F415,[1]Kontoplan!A:D,2,0)))","v":"Bank konto"}]
["2016-03-15",null,"Forplejning møder",null,null,12310,null,240,{"$f":"IF(F416=\"\",\"\",IF(ISERROR(VLOOKUP(F416,[1]Kontoplan!A:D,2,0)),\"Konto findes ikke!\",VLOOKUP(F416,[1]Kontoplan!A:D,2,0)))","v":"Bank konto"}]
["2016-03-15",null,"Forplejning møder",null,null,2180,240,null,{"$f":"IF(F417=\"\",\"\",IF(ISERROR(VLOOKUP(F417,[1]Kontoplan!A:D,2,0)),\"Konto findes ikke!\",VLOOKUP(F417,[1]Kontoplan!A:D,2,0)))","v":"Bestyrelses møder"}]
["2016-03-22",null,"Værelser til GF",null,null,12310,null,2258.2600000000002,{"$f":"IF(F418=\"\",\"\",IF(ISERROR(VLOOKUP(F418,[1]Kontoplan!A:D,2,0)),\"Konto findes ikke!\",VLOOKUP(F418,[1]Kontoplan!A:D,2,0)))","v":"Bank konto"}]
["2016-03-22",null,"Værelser til GF",null,null,2040,2258.2600000000002,null,{"$f":"IF(F419=\"\",\"\",IF(ISERROR(VLOOKUP(F419,[1]Kontoplan!A:D,2,0)),\"Konto findes ikke!\",VLOOKUP(F419,[1]Kontoplan!A:D,2,0)))","v":"Værelser/GF"}]
["2016-03-31",null,"Kontingent, Gert Bernt Pedersen",17,2016,1000,null,100,{"$f":"IF(F420=\"\",\"\",IF(ISERROR(VLOOKUP(F420,[1]Kontoplan!A:D,2,0)),\"Konto findes ikke!\",VLOOKUP(F420,[1]Kontoplan!A:D,2,0)))","v":"Kontingenter"}]
["2016-03-31",null,"Kontingent, Gert Bernt Pedersen",17,2017,1000,null,100,{"$f":"IF(F421=\"\",\"\",IF(ISERROR(VLOOKUP(F421,[1]Kontoplan!A:D,2,0)),\"Konto findes ikke!\",VLOOKUP(F421,[1]Kontoplan!A:D,2,0)))","v":"Kontingenter"}]
["2016-03-31",null,"Kontingent, Gert Bernt Pedersen",17,2018,1000,null,93.75,{"$f":"IF(F422=\"\",\"\",IF(ISERROR(VLOOKUP(F422,[1]Kontoplan!A:D,2,0)),\"Konto findes ikke!\",VLOOKUP(F422,[1]Kontoplan!A:D,2,0)))","v":"Kontingenter"}]
["2016-03-31",null,"Kontingent, Gert Bernt Pedersen",null,null,12310,293.75,null,{"$f":"IF(F423=\"\",\"\",IF(ISERROR(VLOOKUP(F423,[1]Kontoplan!A:D,2,0)),\"Konto findes ikke!\",VLOOKUP(F423,[1]Kontoplan!A:D,2,0)))","v":"Bank konto"}]
["2016-03-31",null,"Gebyr ifølge nota",null,null,12310,null,75,{"$f":"IF(F424=\"\",\"\",IF(ISERROR(VLOOKUP(F424,[1]Kontoplan!A:D,2,0)),\"Konto findes ikke!\",VLOOKUP(F424,[1]Kontoplan!A:D,2,0)))","v":"Bank konto"}]
["2016-03-31",null,"Gebyr ifølge nota",null,null,2130,75,null,{"$f":"IF(F425=\"\",\"\",IF(ISERROR(VLOOKUP(F425,[1]Kontoplan!A:D,2,0)),\"Konto findes ikke!\",VLOOKUP(F425,[1]Kontoplan!A:D,2,0)))","v":"Bankgebyr/Renter"}]
["2016-04-04",null,"Kontingent, Kim Guldberg",null,null,12310,100,null,{"$f":"IF(F426=\"\",\"\",IF(ISERROR(VLOOKUP(F426,[1]Kontoplan!A:D,2,0)),\"Konto findes ikke!\",VLOOKUP(F426,[1]Kontoplan!A:D,2,0)))","v":"Bank konto"}]
["2016-04-04",null,"Kontingent, Kim Guldberg",null,null,1000,null,100,{"$f":"IF(F427=\"\",\"\",IF(ISERROR(VLOOKUP(F427,[1]Kontoplan!A:D,2,0)),\"Konto findes ikke!\",VLOOKUP(F427,[1]Kontoplan!A:D,2,0)))","v":"Kontingenter"}]
["2016-04-06",null,"Mærker, Poul Guldving",null,null,12310,100,null,{"$f":"IF(F428=\"\",\"\",IF(ISERROR(VLOOKUP(F428,[1]Kontoplan!A:D,2,0)),\"Konto findes ikke!\",VLOOKUP(F428,[1]Kontoplan!A:D,2,0)))","v":"Bank konto"}]
["2016-04-06",null,"Mærker, Poul Guldving",null,null,1010,null,100,{"$f":"IF(F429=\"\",\"\",IF(ISERROR(VLOOKUP(F429,[1]Kontoplan!A:D,2,0)),\"Konto findes ikke!\",VLOOKUP(F429,[1]Kontoplan!A:D,2,0)))","v":"Salg af mærker"},"1 stof + 1 klistermærke"]
["2016-05-04",null,"Indkøb af mærker",null,null,12310,null,2572.88,{"$f":"IF(F430=\"\",\"\",IF(ISERROR(VLOOKUP(F430,[1]Kontoplan!A:D,2,0)),\"Konto findes ikke!\",VLOOKUP(F430,[1]Kontoplan!A:D,2,0)))","v":"Bank konto"}]
["2016-05-04",null,"Indkøb af mærker",null,null,2020,2572.88,null,{"$f":"IF(F431=\"\",\"\",IF(ISERROR(VLOOKUP(F431,[1]Kontoplan!A:D,2,0)),\"Konto findes ikke!\",VLOOKUP(F431,[1]Kontoplan!A:D,2,0)))","v":"Indkøb af mærker"},"200 klistermærker"]
["2016-05-11",null,"Indkøb af mærker",null,null,12310,null,937.5,{"$f":"IF(F432=\"\",\"\",IF(ISERROR(VLOOKUP(F432,[1]Kontoplan!A:D,2,0)),\"Konto findes ikke!\",VLOOKUP(F432,[1]Kontoplan!A:D,2,0)))","v":"Bank konto"}]
["2016-05-11",null,"Indkøb af mærker",null,null,2020,937.5,null,{"$f":"IF(F433=\"\",\"\",IF(ISERROR(VLOOKUP(F433,[1]Kontoplan!A:D,2,0)),\"Konto findes ikke!\",VLOOKUP(F433,[1]Kontoplan!A:D,2,0)))","v":"Indkøb af mærker"},"Depos. Stofmærker"]
["2016-05-24",null,"Tur til oksbøl, Søren Jelle",null,null,12310,650,null,{"$f":"IF(F434=\"\",\"\",IF(ISERROR(VLOOKUP(F434,[1]Kontoplan!A:D,2,0)),\"Konto findes ikke!\",VLOOKUP(F434,[1]Kontoplan!A:D,2,0)))","v":"Bank konto"}]
["2016-05-24",null,"Tur til oksbøl, Søren Jelle",null,null,1055,null,650,{"$f":"IF(F435=\"\",\"\",IF(ISERROR(VLOOKUP(F435,[1]Kontoplan!A:D,2,0)),\"Konto findes ikke!\",VLOOKUP(F435,[1]Kontoplan!A:D,2,0)))","v":"Deltagergebyr, Oksbølturen"},"Tur til Oksbøl"]
["2016-05-24",null,"Tur til oksbøl, Hans-Henrik Greve Brandenborg",null,null,12310,650,null,{"$f":"IF(F436=\"\",\"\",IF(ISERROR(VLOOKUP(F436,[1]Kontoplan!A:D,2,0)),\"Konto findes ikke!\",VLOOKUP(F436,[1]Kontoplan!A:D,2,0)))","v":"Bank konto"}]
["2016-05-24",null,"Tur til oksbøl, Hans-Henrik Greve Brandenborg",null,null,1055,null,650,{"$f":"IF(F437=\"\",\"\",IF(ISERROR(VLOOKUP(F437,[1]Kontoplan!A:D,2,0)),\"Konto findes ikke!\",VLOOKUP(F437,[1]Kontoplan!A:D,2,0)))","v":"Deltagergebyr, Oksbølturen"},"Tur til Oksbøl"]
["2016-05-30",null,"Tur til oksbøl, Per Nielsen",null,null,12310,1600,null,{"$f":"IF(F438=\"\",\"\",IF(ISERROR(VLOOKUP(F438,[1]Kontoplan!A:D,2,0)),\"Konto findes ikke!\",VLOOKUP(F438,[1]Kontoplan!A:D,2,0)))","v":"Bank konto"}]
["2016-05-30",null,"Tur til oksbøl, Per Nielsen",null,null,1055,null,1600,{"$f":"IF(F439=\"\",\"\",IF(ISERROR(VLOOKUP(F439,[1]Kontoplan!A:D,2,0)),\"Konto findes ikke!\",VLOOKUP(F439,[1]Kontoplan!A:D,2,0)))","v":"Deltagergebyr, Oksbølturen"},"Tur til Oksbøl"]
["2016-06-03",null,"Tur til oksbøl, Bjarne Hansen",null,null,12310,1600,null,{"$f":"IF(F440=\"\",\"\",IF(ISERROR(VLOOKUP(F440,[1]Kontoplan!A:D,2,0)),\"Konto findes ikke!\",VLOOKUP(F440,[1]Kontoplan!A:D,2,0)))","v":"Bank konto"}]
["2016-06-03",null,"Tur til oksbøl, Bjarne Hansen",null,null,1055,null,1600,{"$f":"IF(F441=\"\",\"\",IF(ISERROR(VLOOKUP(F441,[1]Kontoplan!A:D,2,0)),\"Konto findes ikke!\",VLOOKUP(F441,[1]Kontoplan!A:D,2,0)))","v":"Deltagergebyr, Oksbølturen"},"Tur til Oksbøl"]
["2016-06-06",null,"Tur til oksbøl, Jan Witzner Jensen",null,null,12310,650,null,{"$f":"IF(F442=\"\",\"\",IF(ISERROR(VLOOKUP(F442,[1]Kontoplan!A:D,2,0)),\"Konto findes ikke!\",VLOOKUP(F442,[1]Kontoplan!A:D,2,0)))","v":"Bank konto"}]
["2016-06-06",null,"Tur til oksbøl, Jan Witzner Jensen",null,null,1055,null,650,{"$f":"IF(F443=\"\",\"\",IF(ISERROR(VLOOKUP(F443,[1]Kontoplan!A:D,2,0)),\"Konto findes ikke!\",VLOOKUP(F443,[1]Kontoplan!A:D,2,0)))","v":"Deltagergebyr, Oksbølturen"},"Tur til Oksbøl"]
["2016-06-07",null,"Tur til oksbøl, Eilief G Andersen",null,null,12310,1600,null,{"$f":"IF(F444=\"\",\"\",IF(ISERROR(VLOOKUP(F444,[1]Kontoplan!A:D,2,0)),\"Konto findes ikke!\",VLOOKUP(F444,[1]Kontoplan!A:D,2,0)))","v":"Bank konto"}]
["2016-06-07",null,"Tur til oksbøl, Eilief G Andersen",null,null,1055,null,1600,{"$f":"IF(F445=\"\",\"\",IF(ISERROR(VLOOKUP(F445,[1]Kontoplan!A:D,2,0)),\"Konto findes ikke!\",VLOOKUP(F445,[1]Kontoplan!A:D,2,0)))","v":"Deltagergebyr, Oksbølturen"},"Tur til Oksbøl"]
["2016-06-08",null,"Tur til oksbøl, Johnny Kofoed",null,null,12310,1600,null,{"$f":"IF(F446=\"\",\"\",IF(ISERROR(VLOOKUP(F446,[1]Kontoplan!A:D,2,0)),\"Konto findes ikke!\",VLOOKUP(F446,[1]Kontoplan!A:D,2,0)))","v":"Bank konto"}]
["2016-06-08",null,"Tur til oksbøl, Johnny Kofoed",null,null,1055,null,1600,{"$f":"IF(F447=\"\",\"\",IF(ISERROR(VLOOKUP(F447,[1]Kontoplan!A:D,2,0)),\"Konto findes ikke!\",VLOOKUP(F447,[1]Kontoplan!A:D,2,0)))","v":"Deltagergebyr, Oksbølturen"},"Tur til Oksbøl"]
["2016-06-08",null,"Ekst.ord. GF.",null,null,12310,null,1125,{"$f":"IF(F448=\"\",\"\",IF(ISERROR(VLOOKUP(F448,[1]Kontoplan!A:D,2,0)),\"Konto findes ikke!\",VLOOKUP(F448,[1]Kontoplan!A:D,2,0)))","v":"Bank konto"}]
["2016-06-08",null,"Ekst.ord. GF.",null,null,2170,1125,null,{"$f":"IF(F449=\"\",\"\",IF(ISERROR(VLOOKUP(F449,[1]Kontoplan!A:D,2,0)),\"Konto findes ikke!\",VLOOKUP(F449,[1]Kontoplan!A:D,2,0)))","v":"GF"}]
["2016-06-09",null,"Tur til oksbøl, Ole Holm",null,null,12310,650,null,{"$f":"IF(F450=\"\",\"\",IF(ISERROR(VLOOKUP(F450,[1]Kontoplan!A:D,2,0)),\"Konto findes ikke!\",VLOOKUP(F450,[1]Kontoplan!A:D,2,0)))","v":"Bank konto"}]
["2016-06-09",null,"Tur til oksbøl, Ole Holm",null,null,1055,null,650,{"$f":"IF(F451=\"\",\"\",IF(ISERROR(VLOOKUP(F451,[1]Kontoplan!A:D,2,0)),\"Konto findes ikke!\",VLOOKUP(F451,[1]Kontoplan!A:D,2,0)))","v":"Deltagergebyr, Oksbølturen"},"Tur til Oksbøl"]
["2016-06-09",null,"Tur til oksbøl, Kim Johansen",null,null,12310,1600,null,{"$f":"IF(F452=\"\",\"\",IF(ISERROR(VLOOKUP(F452,[1]Kontoplan!A:D,2,0)),\"Konto findes ikke!\",VLOOKUP(F452,[1]Kontoplan!A:D,2,0)))","v":"Bank konto"}]
["2016-06-09",null,"Tur til oksbøl, Kim Johansen",null,null,1055,null,1600,{"$f":"IF(F453=\"\",\"\",IF(ISERROR(VLOOKUP(F453,[1]Kontoplan!A:D,2,0)),\"Konto findes ikke!\",VLOOKUP(F453,[1]Kontoplan!A:D,2,0)))","v":"Deltagergebyr, Oksbølturen"},"Tur til Oksbøl"]
["2016-06-12",null,"Kontingent, C. U. Essemann-Bech",13,2017,1000,null,100,{"$f":"IF(F454=\"\",\"\",IF(ISERROR(VLOOKUP(F454,[1]Kontoplan!A:D,2,0)),\"Konto findes ikke!\",VLOOKUP(F454,[1]Kontoplan!A:D,2,0)))","v":"Kontingenter"}]
["2016-06-12",null,"Kontingent, Jens Svendsen",38,2016,1000,null,100,{"$f":"IF(F455=\"\",\"\",IF(ISERROR(VLOOKUP(F455,[1]Kontoplan!A:D,2,0)),\"Konto findes ikke!\",VLOOKUP(F455,[1]Kontoplan!A:D,2,0)))","v":"Kontingenter"}]
["2016-06-12",null,"Forplejning møder, best. Møde 10.06.16",null,null,12310,null,500,{"$f":"IF(F456=\"\",\"\",IF(ISERROR(VLOOKUP(F456,[1]Kontoplan!A:D,2,0)),\"Konto findes ikke!\",VLOOKUP(F456,[1]Kontoplan!A:D,2,0)))","v":"Bank konto"}]
["2016-06-12",null,"Forplejning møder, best. Møde 10.06.17",null,null,2100,500,null,{"$f":"IF(F457=\"\",\"\",IF(ISERROR(VLOOKUP(F457,[1]Kontoplan!A:D,2,0)),\"Konto findes ikke!\",VLOOKUP(F457,[1]Kontoplan!A:D,2,0)))","v":"Forplejning til møder/Rejser"}]
["2016-06-12",null,"Kontingent, C. U. Essemann-Bech",null,null,12310,100,null,{"$f":"IF(F458=\"\",\"\",IF(ISERROR(VLOOKUP(F458,[1]Kontoplan!A:D,2,0)),\"Konto findes ikke!\",VLOOKUP(F458,[1]Kontoplan!A:D,2,0)))","v":"Bank konto"}]
["2016-06-12",null,"Kontingent, Jens Svendsen",null,null,12310,100,null,{"$f":"IF(F459=\"\",\"\",IF(ISERROR(VLOOKUP(F459,[1]Kontoplan!A:D,2,0)),\"Konto findes ikke!\",VLOOKUP(F459,[1]Kontoplan!A:D,2,0)))","v":"Bank konto"}]
["2016-06-12",null,"Kontingent, Lars Ejsing",null,null,12310,100,null,{"$f":"IF(F460=\"\",\"\",IF(ISERROR(VLOOKUP(F460,[1]Kontoplan!A:D,2,0)),\"Konto findes ikke!\",VLOOKUP(F460,[1]Kontoplan!A:D,2,0)))","v":"Bank konto"}]
["2016-06-12",null,"Kontingent, Lars Ejsing",null,null,1000,null,100,{"$f":"IF(F461=\"\",\"\",IF(ISERROR(VLOOKUP(F461,[1]Kontoplan!A:D,2,0)),\"Konto findes ikke!\",VLOOKUP(F461,[1]Kontoplan!A:D,2,0)))","v":"Kontingenter"}]
["2016-06-13",null,"Kontingent, Jan Witzner Jensen",8,2017,1000,null,100,{"$f":"IF(F462=\"\",\"\",IF(ISERROR(VLOOKUP(F462,[1]Kontoplan!A:D,2,0)),\"Konto findes ikke!\",VLOOKUP(F462,[1]Kontoplan!A:D,2,0)))","v":"Kontingenter"}]
["2016-06-13",null,"Kontingent, Hans-Henrik Greve Brandborg",9,2016,1000,null,100,{"$f":"IF(F463=\"\",\"\",IF(ISERROR(VLOOKUP(F463,[1]Kontoplan!A:D,2,0)),\"Konto findes ikke!\",VLOOKUP(F463,[1]Kontoplan!A:D,2,0)))","v":"Kontingenter"}]
["2016-06-13",null,"Kontingent, Kurt Larsen",14,2017,1000,null,100,{"$f":"IF(F464=\"\",\"\",IF(ISERROR(VLOOKUP(F464,[1]Kontoplan!A:D,2,0)),\"Konto findes ikke!\",VLOOKUP(F464,[1]Kontoplan!A:D,2,0)))","v":"Kontingenter"}]
["2016-06-13",null,"Kontingent, Jørn Lundberg",77,2017,1000,null,100,{"$f":"IF(F465=\"\",\"\",IF(ISERROR(VLOOKUP(F465,[1]Kontoplan!A:D,2,0)),\"Konto findes ikke!\",VLOOKUP(F465,[1]Kontoplan!A:D,2,0)))","v":"Kontingenter"}]
["2016-06-13",null,"Kontingent, Jørn Lundberg",null,null,12310,100,null,{"$f":"IF(F466=\"\",\"\",IF(ISERROR(VLOOKUP(F466,[1]Kontoplan!A:D,2,0)),\"Konto findes ikke!\",VLOOKUP(F466,[1]Kontoplan!A:D,2,0)))","v":"Bank konto"}]
["2016-06-13",null,"Kontingent, Hans-Henrik Greve Brandborg",null,null,12310,100,null,{"$f":"IF(F467=\"\",\"\",IF(ISERROR(VLOOKUP(F467,[1]Kontoplan!A:D,2,0)),\"Konto findes ikke!\",VLOOKUP(F467,[1]Kontoplan!A:D,2,0)))","v":"Bank konto"}]
["2016-06-13",null,"Kontingent, Kurt Larsen",null,null,12310,100,null,{"$f":"IF(F468=\"\",\"\",IF(ISERROR(VLOOKUP(F468,[1]Kontoplan!A:D,2,0)),\"Konto findes ikke!\",VLOOKUP(F468,[1]Kontoplan!A:D,2,0)))","v":"Bank konto"}]
["2016-06-13",null,"Kontingent, Jan Witzner Jensen",null,null,12310,100,null,{"$f":"IF(F469=\"\",\"\",IF(ISERROR(VLOOKUP(F469,[1]Kontoplan!A:D,2,0)),\"Konto findes ikke!\",VLOOKUP(F469,[1]Kontoplan!A:D,2,0)))","v":"Bank konto"}]
["2016-06-14",null,"Kontingent, Kurt Munch",12,2017,1000,null,100,{"$f":"IF(F470=\"\",\"\",IF(ISERROR(VLOOKUP(F470,[1]Kontoplan!A:D,2,0)),\"Konto findes ikke!\",VLOOKUP(F470,[1]Kontoplan!A:D,2,0)))","v":"Kontingenter"}]
["2016-06-14",null,"Kontingent, Torben Westring",19,2017,1000,null,100,{"$f":"IF(F471=\"\",\"\",IF(ISERROR(VLOOKUP(F471,[1]Kontoplan!A:D,2,0)),\"Konto findes ikke!\",VLOOKUP(F471,[1]Kontoplan!A:D,2,0)))","v":"Kontingenter"}]
["2016-06-14",null,"Kontingent, Jan-Peter Rasmussen",23,2017,1000,null,100,{"$f":"IF(F472=\"\",\"\",IF(ISERROR(VLOOKUP(F472,[1]Kontoplan!A:D,2,0)),\"Konto findes ikke!\",VLOOKUP(F472,[1]Kontoplan!A:D,2,0)))","v":"Kontingenter"}]
["2016-06-14",null,"Kontingent, Carsten Kofoed Pedersen",41,2017,1000,null,100,{"$f":"IF(F473=\"\",\"\",IF(ISERROR(VLOOKUP(F473,[1]Kontoplan!A:D,2,0)),\"Konto findes ikke!\",VLOOKUP(F473,[1]Kontoplan!A:D,2,0)))","v":"Kontingenter"}]
["2016-06-14",null,"Kontingent, Jens Givskov",47,2017,1000,null,100,{"$f":"IF(F474=\"\",\"\",IF(ISERROR(VLOOKUP(F474,[1]Kontoplan!A:D,2,0)),\"Konto findes ikke!\",VLOOKUP(F474,[1]Kontoplan!A:D,2,0)))","v":"Kontingenter"}]
["2016-06-14",null,"Kontingent, Kurt Munch",null,null,12310,100,null,{"$f":"IF(F475=\"\",\"\",IF(ISERROR(VLOOKUP(F475,[1]Kontoplan!A:D,2,0)),\"Konto findes ikke!\",VLOOKUP(F475,[1]Kontoplan!A:D,2,0)))","v":"Bank konto"}]
["2016-06-14",null,"Kontingent, Erik Hansen",null,null,12310,100,null,{"$f":"IF(F476=\"\",\"\",IF(ISERROR(VLOOKUP(F476,[1]Kontoplan!A:D,2,0)),\"Konto findes ikke!\",VLOOKUP(F476,[1]Kontoplan!A:D,2,0)))","v":"Bank konto"}]
["2016-06-14",null,"Kontingent, Erik Hansen",null,null,1000,null,100,{"$f":"IF(F477=\"\",\"\",IF(ISERROR(VLOOKUP(F477,[1]Kontoplan!A:D,2,0)),\"Konto findes ikke!\",VLOOKUP(F477,[1]Kontoplan!A:D,2,0)))","v":"Kontingenter"}]
["2016-06-14",null,"Kontingent, Carsten Kofoed Pedersen",null,null,12310,100,null,{"$f":"IF(F478=\"\",\"\",IF(ISERROR(VLOOKUP(F478,[1]Kontoplan!A:D,2,0)),\"Konto findes ikke!\",VLOOKUP(F478,[1]Kontoplan!A:D,2,0)))","v":"Bank konto"}]
["2016-06-14",null,"Kontingent, Jens Givskov",null,null,12310,100,null,{"$f":"IF(F479=\"\",\"\",IF(ISERROR(VLOOKUP(F479,[1]Kontoplan!A:D,2,0)),\"Konto findes ikke!\",VLOOKUP(F479,[1]Kontoplan!A:D,2,0)))","v":"Bank konto"}]
["2016-06-14",null,"Kontingent, Jan-Peter Rasmussen",null,null,12310,100,null,{"$f":"IF(F480=\"\",\"\",IF(ISERROR(VLOOKUP(F480,[1]Kontoplan!A:D,2,0)),\"Konto findes ikke!\",VLOOKUP(F480,[1]Kontoplan!A:D,2,0)))","v":"Bank konto"}]
["2016-06-14",null,"Kontingent, Torben Westring",null,null,12310,100,null,{"$f":"IF(F481=\"\",\"\",IF(ISERROR(VLOOKUP(F481,[1]Kontoplan!A:D,2,0)),\"Konto findes ikke!\",VLOOKUP(F481,[1]Kontoplan!A:D,2,0)))","v":"Bank konto"}]
["2016-06-15",null,"Kontingent, Kell Nielsen",null,null,12310,100,null,{"$f":"IF(F482=\"\",\"\",IF(ISERROR(VLOOKUP(F482,[1]Kontoplan!A:D,2,0)),\"Konto findes ikke!\",VLOOKUP(F482,[1]Kontoplan!A:D,2,0)))","v":"Bank konto"}]
["2016-06-15",null,"Kontingent, Kell Nielsen",null,null,1000,null,100,{"$f":"IF(F483=\"\",\"\",IF(ISERROR(VLOOKUP(F483,[1]Kontoplan!A:D,2,0)),\"Konto findes ikke!\",VLOOKUP(F483,[1]Kontoplan!A:D,2,0)))","v":"Kontingenter"}]
["2016-06-15",null,"Kontingent, Martin Mundus",null,null,12310,100,null,{"$f":"IF(F484=\"\",\"\",IF(ISERROR(VLOOKUP(F484,[1]Kontoplan!A:D,2,0)),\"Konto findes ikke!\",VLOOKUP(F484,[1]Kontoplan!A:D,2,0)))","v":"Bank konto"}]
["2016-06-15",null,"Kontingent, Martin Mundus",null,null,1000,null,100,{"$f":"IF(F485=\"\",\"\",IF(ISERROR(VLOOKUP(F485,[1]Kontoplan!A:D,2,0)),\"Konto findes ikke!\",VLOOKUP(F485,[1]Kontoplan!A:D,2,0)))","v":"Kontingenter"}]
["2016-06-16",null,"Kontingent, Jørn Svendsen",null,null,12310,100,null,{"$f":"IF(F486=\"\",\"\",IF(ISERROR(VLOOKUP(F486,[1]Kontoplan!A:D,2,0)),\"Konto findes ikke!\",VLOOKUP(F486,[1]Kontoplan!A:D,2,0)))","v":"Bank konto"}]
["2016-06-16",null,"Kontingent, Jørn Svendsen",null,null,1000,null,100,{"$f":"IF(F487=\"\",\"\",IF(ISERROR(VLOOKUP(F487,[1]Kontoplan!A:D,2,0)),\"Konto findes ikke!\",VLOOKUP(F487,[1]Kontoplan!A:D,2,0)))","v":"Kontingenter"}]
["2016-06-20",null,"Kontingent, Knud Arne Rasmussen",33,2017,1000,null,100,{"$f":"IF(F488=\"\",\"\",IF(ISERROR(VLOOKUP(F488,[1]Kontoplan!A:D,2,0)),\"Konto findes ikke!\",VLOOKUP(F488,[1]Kontoplan!A:D,2,0)))","v":"Kontingenter"}]
["2016-06-20",null,"Kontingent, John Jensen",71,2017,1000,null,100,{"$f":"IF(F489=\"\",\"\",IF(ISERROR(VLOOKUP(F489,[1]Kontoplan!A:D,2,0)),\"Konto findes ikke!\",VLOOKUP(F489,[1]Kontoplan!A:D,2,0)))","v":"Kontingenter"}]
["2016-06-20",null,"Kontingent, Robert Pedersen",72,2017,1000,null,100,{"$f":"IF(F490=\"\",\"\",IF(ISERROR(VLOOKUP(F490,[1]Kontoplan!A:D,2,0)),\"Konto findes ikke!\",VLOOKUP(F490,[1]Kontoplan!A:D,2,0)))","v":"Kontingenter"}]
["2016-06-20",null,"Kontingent, Robert Pedersen",null,null,12310,100,null,{"$f":"IF(F491=\"\",\"\",IF(ISERROR(VLOOKUP(F491,[1]Kontoplan!A:D,2,0)),\"Konto findes ikke!\",VLOOKUP(F491,[1]Kontoplan!A:D,2,0)))","v":"Bank konto"}]
["2016-06-20",null,"Kontingent, John Jensen",null,null,12310,100,null,{"$f":"IF(F492=\"\",\"\",IF(ISERROR(VLOOKUP(F492,[1]Kontoplan!A:D,2,0)),\"Konto findes ikke!\",VLOOKUP(F492,[1]Kontoplan!A:D,2,0)))","v":"Bank konto"}]
["2016-06-20",null,"Kontingent, Knud Arne Rasmussen",null,null,12310,100,null,{"$f":"IF(F493=\"\",\"\",IF(ISERROR(VLOOKUP(F493,[1]Kontoplan!A:D,2,0)),\"Konto findes ikke!\",VLOOKUP(F493,[1]Kontoplan!A:D,2,0)))","v":"Bank konto"}]
["2016-06-24",null,"Kontingent, Lloyd Jørgensen",null,null,12310,100,null,{"$f":"IF(F494=\"\",\"\",IF(ISERROR(VLOOKUP(F494,[1]Kontoplan!A:D,2,0)),\"Konto findes ikke!\",VLOOKUP(F494,[1]Kontoplan!A:D,2,0)))","v":"Bank konto"}]
["2016-06-24",null,"Kontingent, Lloyd Jørgensen",null,null,1000,null,100,{"$f":"IF(F495=\"\",\"\",IF(ISERROR(VLOOKUP(F495,[1]Kontoplan!A:D,2,0)),\"Konto findes ikke!\",VLOOKUP(F495,[1]Kontoplan!A:D,2,0)))","v":"Kontingenter"}]
["2016-06-26",null,"Kontingent, Niels Borg Larsen",83,2017,1000,null,100,{"$f":"IF(F496=\"\",\"\",IF(ISERROR(VLOOKUP(F496,[1]Kontoplan!A:D,2,0)),\"Konto findes ikke!\",VLOOKUP(F496,[1]Kontoplan!A:D,2,0)))","v":"Kontingenter"}]
["2016-06-26",null,"Kontingent, Niels Borg Larsen",null,null,12310,100,null,{"$f":"IF(F497=\"\",\"\",IF(ISERROR(VLOOKUP(F497,[1]Kontoplan!A:D,2,0)),\"Konto findes ikke!\",VLOOKUP(F497,[1]Kontoplan!A:D,2,0)))","v":"Bank konto"}]
["2016-06-27",null,"Kontingent, Johannes Petersen",74,2017,1000,null,100,{"$f":"IF(F498=\"\",\"\",IF(ISERROR(VLOOKUP(F498,[1]Kontoplan!A:D,2,0)),\"Konto findes ikke!\",VLOOKUP(F498,[1]Kontoplan!A:D,2,0)))","v":"Kontingenter"}]
["2016-06-27",null,"Kontingent, Johannes Petersen",null,null,12310,100,null,{"$f":"IF(F499=\"\",\"\",IF(ISERROR(VLOOKUP(F499,[1]Kontoplan!A:D,2,0)),\"Konto findes ikke!\",VLOOKUP(F499,[1]Kontoplan!A:D,2,0)))","v":"Bank konto"}]
["2016-06-27",null,"Kontingent, Erling Olsen",null,null,12310,100,null,{"$f":"IF(F500=\"\",\"\",IF(ISERROR(VLOOKUP(F500,[1]Kontoplan!A:D,2,0)),\"Konto findes ikke!\",VLOOKUP(F500,[1]Kontoplan!A:D,2,0)))","v":"Bank konto"}]
["2016-06-27",null,"Kontingent, Erling Olsen",null,null,1000,null,100,{"$f":"IF(F501=\"\",\"\",IF(ISERROR(VLOOKUP(F501,[1]Kontoplan!A:D,2,0)),\"Konto findes ikke!\",VLOOKUP(F501,[1]Kontoplan!A:D,2,0)))","v":"Kontingenter"}]
["2016-06-30",null,"Kontingent, Jørn Jensen",42,2017,1000,null,100,{"$f":"IF(F502=\"\",\"\",IF(ISERROR(VLOOKUP(F502,[1]Kontoplan!A:D,2,0)),\"Konto findes ikke!\",VLOOKUP(F502,[1]Kontoplan!A:D,2,0)))","v":"Kontingenter"}]
["2016-06-30",null,"Kontingent, Jørn Jensen",null,null,12310,100,null,{"$f":"IF(F503=\"\",\"\",IF(ISERROR(VLOOKUP(F503,[1]Kontoplan!A:D,2,0)),\"Konto findes ikke!\",VLOOKUP(F503,[1]Kontoplan!A:D,2,0)))","v":"Bank konto"}]
["2016-06-30",null,"Gebyr ifølge nota",null,null,12310,null,75,{"$f":"IF(F504=\"\",\"\",IF(ISERROR(VLOOKUP(F504,[1]Kontoplan!A:D,2,0)),\"Konto findes ikke!\",VLOOKUP(F504,[1]Kontoplan!A:D,2,0)))","v":"Bank konto"}]
["2016-06-30",null,"Gebyr ifølge nota",null,null,2130,75,null,{"$f":"IF(F505=\"\",\"\",IF(ISERROR(VLOOKUP(F505,[1]Kontoplan!A:D,2,0)),\"Konto findes ikke!\",VLOOKUP(F505,[1]Kontoplan!A:D,2,0)))","v":"Bankgebyr/Renter"}]
["2016-07-04",null,"Kontingent, Allan Olsen",66,2017,1000,null,100,{"$f":"IF(F506=\"\",\"\",IF(ISERROR(VLOOKUP(F506,[1]Kontoplan!A:D,2,0)),\"Konto findes ikke!\",VLOOKUP(F506,[1]Kontoplan!A:D,2,0)))","v":"Kontingenter"}]
["2016-07-04",null,"Kontingent, Allan Olsen",null,null,12310,100,null,{"$f":"IF(F507=\"\",\"\",IF(ISERROR(VLOOKUP(F507,[1]Kontoplan!A:D,2,0)),\"Konto findes ikke!\",VLOOKUP(F507,[1]Kontoplan!A:D,2,0)))","v":"Bank konto"}]
["2016-07-07",null,"Kontingent, Bent Ellevang",11,2017,1000,null,100,{"$f":"IF(F508=\"\",\"\",IF(ISERROR(VLOOKUP(F508,[1]Kontoplan!A:D,2,0)),\"Konto findes ikke!\",VLOOKUP(F508,[1]Kontoplan!A:D,2,0)))","v":"Kontingenter"}]
["2016-07-07",null,"Kontingent, Johnny Schmidt",87,2016,1000,null,100,{"$f":"IF(F509=\"\",\"\",IF(ISERROR(VLOOKUP(F509,[1]Kontoplan!A:D,2,0)),\"Konto findes ikke!\",VLOOKUP(F509,[1]Kontoplan!A:D,2,0)))","v":"Kontingenter"},"mærker eller 2 år ?"]
["2016-07-07",null,"Kontingent, Johnny Schmidt",87,2017,1000,null,100,{"$f":"IF(F510=\"\",\"\",IF(ISERROR(VLOOKUP(F510,[1]Kontoplan!A:D,2,0)),\"Konto findes ikke!\",VLOOKUP(F510,[1]Kontoplan!A:D,2,0)))","v":"Kontingenter"}]
["2016-07-07",null,"Kontingent, Bent Ellevang",null,null,12310,100,null,{"$f":"IF(F511=\"\",\"\",IF(ISERROR(VLOOKUP(F511,[1]Kontoplan!A:D,2,0)),\"Konto findes ikke!\",VLOOKUP(F511,[1]Kontoplan!A:D,2,0)))","v":"Bank konto"}]
["2016-07-07",null,"Kontingent, Johnny Schmidt",null,null,12310,200,null,{"$f":"IF(F512=\"\",\"\",IF(ISERROR(VLOOKUP(F512,[1]Kontoplan!A:D,2,0)),\"Konto findes ikke!\",VLOOKUP(F512,[1]Kontoplan!A:D,2,0)))","v":"Bank konto"}]
["2016-07-08",null,"Kontingent, Per Nielsen",2,2017,1000,null,100,{"$f":"IF(F513=\"\",\"\",IF(ISERROR(VLOOKUP(F513,[1]Kontoplan!A:D,2,0)),\"Konto findes ikke!\",VLOOKUP(F513,[1]Kontoplan!A:D,2,0)))","v":"Kontingenter"}]
["2016-07-08",null,"Kontingent, Per Nielsen",null,null,12310,100,null,{"$f":"IF(F514=\"\",\"\",IF(ISERROR(VLOOKUP(F514,[1]Kontoplan!A:D,2,0)),\"Konto findes ikke!\",VLOOKUP(F514,[1]Kontoplan!A:D,2,0)))","v":"Bank konto"}]
["2016-07-09",null,"Kontingent, Søren Dyrby Schou",15,2017,1000,null,100,{"$f":"IF(F515=\"\",\"\",IF(ISERROR(VLOOKUP(F515,[1]Kontoplan!A:D,2,0)),\"Konto findes ikke!\",VLOOKUP(F515,[1]Kontoplan!A:D,2,0)))","v":"Kontingenter"}]
["2016-07-09",null,"Kontingent, Søren Dyrby Schou",null,null,12310,100,null,{"$f":"IF(F516=\"\",\"\",IF(ISERROR(VLOOKUP(F516,[1]Kontoplan!A:D,2,0)),\"Konto findes ikke!\",VLOOKUP(F516,[1]Kontoplan!A:D,2,0)))","v":"Bank konto"}]
["2016-07-11",null,"Kontingent, Palle Bo Jensen",65,2017,1000,null,100,{"$f":"IF(F517=\"\",\"\",IF(ISERROR(VLOOKUP(F517,[1]Kontoplan!A:D,2,0)),\"Konto findes ikke!\",VLOOKUP(F517,[1]Kontoplan!A:D,2,0)))","v":"Kontingenter"}]
["2016-07-11",null,"Kontingent, Hardy Jørgensen",88,2017,1000,null,100,{"$f":"IF(F518=\"\",\"\",IF(ISERROR(VLOOKUP(F518,[1]Kontoplan!A:D,2,0)),\"Konto findes ikke!\",VLOOKUP(F518,[1]Kontoplan!A:D,2,0)))","v":"Kontingenter"}]
["2016-07-11",null,"Rejser, Danske Færger 90603",null,null,12310,null,3832,{"$f":"IF(F519=\"\",\"\",IF(ISERROR(VLOOKUP(F519,[1]Kontoplan!A:D,2,0)),\"Konto findes ikke!\",VLOOKUP(F519,[1]Kontoplan!A:D,2,0)))","v":"Bank konto"}]
["2016-07-11",null,"Rejser, Danske Færger 90603",null,null,2055,3832,null,{"$f":"IF(F520=\"\",\"\",IF(ISERROR(VLOOKUP(F520,[1]Kontoplan!A:D,2,0)),\"Konto findes ikke!\",VLOOKUP(F520,[1]Kontoplan!A:D,2,0)))","v":"Udgifter Oksbølturen"},"Oksbøl turen ?"]
["2016-07-11",null,"Rejser, Danske Færger 90426",null,null,12310,null,2600,{"$f":"IF(F521=\"\",\"\",IF(ISERROR(VLOOKUP(F521,[1]Kontoplan!A:D,2,0)),\"Konto findes ikke!\",VLOOKUP(F521,[1]Kontoplan!A:D,2,0)))","v":"Bank konto"}]
["2016-07-11",null,"Rejser, Danske Færger 90426",null,null,2055,2600,null,{"$f":"IF(F522=\"\",\"\",IF(ISERROR(VLOOKUP(F522,[1]Kontoplan!A:D,2,0)),\"Konto findes ikke!\",VLOOKUP(F522,[1]Kontoplan!A:D,2,0)))","v":"Udgifter Oksbølturen"},"Oksbøl turen ?"]
["2016-07-11",null,"Kontingent, Palle Bo Jensen",null,null,12310,100,null,{"$f":"IF(F523=\"\",\"\",IF(ISERROR(VLOOKUP(F523,[1]Kontoplan!A:D,2,0)),\"Konto findes ikke!\",VLOOKUP(F523,[1]Kontoplan!A:D,2,0)))","v":"Bank konto"}]
["2016-07-11",null,"Kontingent, Hardy Jørgensen",null,null,12310,100,null,{"$f":"IF(F524=\"\",\"\",IF(ISERROR(VLOOKUP(F524,[1]Kontoplan!A:D,2,0)),\"Konto findes ikke!\",VLOOKUP(F524,[1]Kontoplan!A:D,2,0)))","v":"Bank konto"}]
["2016-07-12",null,"Kontingent, Søren Jelle",null,null,12310,100,null,{"$f":"IF(F525=\"\",\"\",IF(ISERROR(VLOOKUP(F525,[1]Kontoplan!A:D,2,0)),\"Konto findes ikke!\",VLOOKUP(F525,[1]Kontoplan!A:D,2,0)))","v":"Bank konto"}]
["2016-07-12",null,"Kontingent, Søren Jelle",null,null,1000,null,100,{"$f":"IF(F526=\"\",\"\",IF(ISERROR(VLOOKUP(F526,[1]Kontoplan!A:D,2,0)),\"Konto findes ikke!\",VLOOKUP(F526,[1]Kontoplan!A:D,2,0)))","v":"Kontingenter"}]
["2016-07-19",null,"Kontingent, Flemming Olsen",43,2017,1000,null,100,{"$f":"IF(F527=\"\",\"\",IF(ISERROR(VLOOKUP(F527,[1]Kontoplan!A:D,2,0)),\"Konto findes ikke!\",VLOOKUP(F527,[1]Kontoplan!A:D,2,0)))","v":"Kontingenter"}]
["2016-07-19",null,"Kontingent, Flemming Olsen",null,null,12310,100,null,{"$f":"IF(F528=\"\",\"\",IF(ISERROR(VLOOKUP(F528,[1]Kontoplan!A:D,2,0)),\"Konto findes ikke!\",VLOOKUP(F528,[1]Kontoplan!A:D,2,0)))","v":"Bank konto"}]
["2016-07-20",null,"Kontingent, Michael Fausing",51,2017,1000,null,100,{"$f":"IF(F529=\"\",\"\",IF(ISERROR(VLOOKUP(F529,[1]Kontoplan!A:D,2,0)),\"Konto findes ikke!\",VLOOKUP(F529,[1]Kontoplan!A:D,2,0)))","v":"Kontingenter"}]
["2016-07-20",null,"Kontingent, Michael Fausing",null,null,12310,100,null,{"$f":"IF(F530=\"\",\"\",IF(ISERROR(VLOOKUP(F530,[1]Kontoplan!A:D,2,0)),\"Konto findes ikke!\",VLOOKUP(F530,[1]Kontoplan!A:D,2,0)))","v":"Bank konto"}]
["2016-07-22",null,"Rejser, Danske Færger 75285",null,null,12310,null,180,{"$f":"IF(F531=\"\",\"\",IF(ISERROR(VLOOKUP(F531,[1]Kontoplan!A:D,2,0)),\"Konto findes ikke!\",VLOOKUP(F531,[1]Kontoplan!A:D,2,0)))","v":"Bank konto"}]
["2016-07-22",null,"Rejser, Danske Færger 75286",null,null,2160,180,null,{"$f":"IF(F532=\"\",\"\",IF(ISERROR(VLOOKUP(F532,[1]Kontoplan!A:D,2,0)),\"Konto findes ikke!\",VLOOKUP(F532,[1]Kontoplan!A:D,2,0)))","v":"Rejser"},"Ole Holm ?"]
["2016-07-26",null,"Bestyrelsesmøde 10.06.16",null,null,12310,null,1758,{"$f":"IF(F533=\"\",\"\",IF(ISERROR(VLOOKUP(F533,[1]Kontoplan!A:D,2,0)),\"Konto findes ikke!\",VLOOKUP(F533,[1]Kontoplan!A:D,2,0)))","v":"Bank konto"}]
["2016-07-26",null,"Bestyrelsesmøde 10.06.16",null,null,2180,1758,null,{"$f":"IF(F534=\"\",\"\",IF(ISERROR(VLOOKUP(F534,[1]Kontoplan!A:D,2,0)),\"Konto findes ikke!\",VLOOKUP(F534,[1]Kontoplan!A:D,2,0)))","v":"Bestyrelses møder"}]
["2016-07-26",null,"Bestyrelsesmøde 10.06.16",null,null,12310,null,1268,{"$f":"IF(F535=\"\",\"\",IF(ISERROR(VLOOKUP(F535,[1]Kontoplan!A:D,2,0)),\"Konto findes ikke!\",VLOOKUP(F535,[1]Kontoplan!A:D,2,0)))","v":"Bank konto"}]
["2016-07-26",null,"Bestyrelsesmøde 10.06.16",null,null,2180,1268,null,{"$f":"IF(F536=\"\",\"\",IF(ISERROR(VLOOKUP(F536,[1]Kontoplan!A:D,2,0)),\"Konto findes ikke!\",VLOOKUP(F536,[1]Kontoplan!A:D,2,0)))","v":"Bestyrelses møder"}]
["2016-07-27",null,"Kontingent, Finn Nielsen",79,2017,1000,null,100,{"$f":"IF(F537=\"\",\"\",IF(ISERROR(VLOOKUP(F537,[1]Kontoplan!A:D,2,0)),\"Konto findes ikke!\",VLOOKUP(F537,[1]Kontoplan!A:D,2,0)))","v":"Kontingenter"}]
["2016-07-27",null,"Kontingent, Finn Nielsen",null,null,12310,100,null,{"$f":"IF(F538=\"\",\"\",IF(ISERROR(VLOOKUP(F538,[1]Kontoplan!A:D,2,0)),\"Konto findes ikke!\",VLOOKUP(F538,[1]Kontoplan!A:D,2,0)))","v":"Bank konto"}]
["2016-07-29",null,"Kontingent, Poul Guldving",69,2017,1000,null,100,{"$f":"IF(F539=\"\",\"\",IF(ISERROR(VLOOKUP(F539,[1]Kontoplan!A:D,2,0)),\"Konto findes ikke!\",VLOOKUP(F539,[1]Kontoplan!A:D,2,0)))","v":"Kontingenter"}]
["2016-07-29",null,"Kontingent, Poul Guldving",null,null,12310,100,null,{"$f":"IF(F540=\"\",\"\",IF(ISERROR(VLOOKUP(F540,[1]Kontoplan!A:D,2,0)),\"Konto findes ikke!\",VLOOKUP(F540,[1]Kontoplan!A:D,2,0)))","v":"Bank konto"}]
["2016-08-01",null,"Kontingent, Johnny Kofoed",31,2017,1000,null,100,{"$f":"IF(F541=\"\",\"\",IF(ISERROR(VLOOKUP(F541,[1]Kontoplan!A:D,2,0)),\"Konto findes ikke!\",VLOOKUP(F541,[1]Kontoplan!A:D,2,0)))","v":"Kontingenter"}]
["2016-08-01",null,"Kontingent, Richard Finne",48,2017,1000,null,100,{"$f":"IF(F542=\"\",\"\",IF(ISERROR(VLOOKUP(F542,[1]Kontoplan!A:D,2,0)),\"Konto findes ikke!\",VLOOKUP(F542,[1]Kontoplan!A:D,2,0)))","v":"Kontingenter"}]
["2016-08-01",null,"Kontingent, Richard Finne",null,null,12310,100,null,{"$f":"IF(F543=\"\",\"\",IF(ISERROR(VLOOKUP(F543,[1]Kontoplan!A:D,2,0)),\"Konto findes ikke!\",VLOOKUP(F543,[1]Kontoplan!A:D,2,0)))","v":"Bank konto"}]
["2016-08-01",null,"Kontingent, Johnny Kofoed",null,null,12310,100,null,{"$f":"IF(F544=\"\",\"\",IF(ISERROR(VLOOKUP(F544,[1]Kontoplan!A:D,2,0)),\"Konto findes ikke!\",VLOOKUP(F544,[1]Kontoplan!A:D,2,0)))","v":"Bank konto"}]
["2016-08-02",null,"Kontingent, Eivind G. Andersen",81,2017,1000,null,100,{"$f":"IF(F545=\"\",\"\",IF(ISERROR(VLOOKUP(F545,[1]Kontoplan!A:D,2,0)),\"Konto findes ikke!\",VLOOKUP(F545,[1]Kontoplan!A:D,2,0)))","v":"Kontingenter"}]
["2016-08-02",null,"Kontingent, Eivind G. Andersen",null,null,12310,100,null,{"$f":"IF(F546=\"\",\"\",IF(ISERROR(VLOOKUP(F546,[1]Kontoplan!A:D,2,0)),\"Konto findes ikke!\",VLOOKUP(F546,[1]Kontoplan!A:D,2,0)))","v":"Bank konto"}]
["2016-08-03",null,"Kontingent, Palle Schrøder Andersen",45,2017,1000,null,100,{"$f":"IF(F547=\"\",\"\",IF(ISERROR(VLOOKUP(F547,[1]Kontoplan!A:D,2,0)),\"Konto findes ikke!\",VLOOKUP(F547,[1]Kontoplan!A:D,2,0)))","v":"Kontingenter"}]
["2016-08-03",null,"Kontingent, Palle Schrøder Andersen",null,null,12310,100,null,{"$f":"IF(F548=\"\",\"\",IF(ISERROR(VLOOKUP(F548,[1]Kontoplan!A:D,2,0)),\"Konto findes ikke!\",VLOOKUP(F548,[1]Kontoplan!A:D,2,0)))","v":"Bank konto"}]
["2016-08-07",null,"Rejser, åben hede 2016",null,null,12310,null,2095,{"$f":"IF(F549=\"\",\"\",IF(ISERROR(VLOOKUP(F549,[1]Kontoplan!A:D,2,0)),\"Konto findes ikke!\",VLOOKUP(F549,[1]Kontoplan!A:D,2,0)))","v":"Bank konto"}]
["2016-08-07",null,"Rejser, åben hede 2017",null,null,2160,2095,null,{"$f":"IF(F550=\"\",\"\",IF(ISERROR(VLOOKUP(F550,[1]Kontoplan!A:D,2,0)),\"Konto findes ikke!\",VLOOKUP(F550,[1]Kontoplan!A:D,2,0)))","v":"Rejser"}]
["2016-08-09",null,"Kontingent, Svend Kofoed",82,2017,1000,null,100,{"$f":"IF(F551=\"\",\"\",IF(ISERROR(VLOOKUP(F551,[1]Kontoplan!A:D,2,0)),\"Konto findes ikke!\",VLOOKUP(F551,[1]Kontoplan!A:D,2,0)))","v":"Kontingenter"}]
["2016-08-09",null,"Kontingent, Svend Kofoed",null,null,12310,100,null,{"$f":"IF(F552=\"\",\"\",IF(ISERROR(VLOOKUP(F552,[1]Kontoplan!A:D,2,0)),\"Konto findes ikke!\",VLOOKUP(F552,[1]Kontoplan!A:D,2,0)))","v":"Bank konto"}]
["2016-08-10",null,"Kontingent, Bjarne Hansen",3,2017,1000,null,100,{"$f":"IF(F553=\"\",\"\",IF(ISERROR(VLOOKUP(F553,[1]Kontoplan!A:D,2,0)),\"Konto findes ikke!\",VLOOKUP(F553,[1]Kontoplan!A:D,2,0)))","v":"Kontingenter"}]
["2016-08-10",null,"Kontingent, Bjarne Hansen",null,null,12310,100,null,{"$f":"IF(F554=\"\",\"\",IF(ISERROR(VLOOKUP(F554,[1]Kontoplan!A:D,2,0)),\"Konto findes ikke!\",VLOOKUP(F554,[1]Kontoplan!A:D,2,0)))","v":"Bank konto"}]
["2016-08-12",null,"Kontingent, Jørn K Pedersen",24,2017,1000,null,100,{"$f":"IF(F555=\"\",\"\",IF(ISERROR(VLOOKUP(F555,[1]Kontoplan!A:D,2,0)),\"Konto findes ikke!\",VLOOKUP(F555,[1]Kontoplan!A:D,2,0)))","v":"Kontingenter"}]
["2016-08-12",null,"Kontingent, Jørn K Pedersen",null,null,12310,100,null,{"$f":"IF(F556=\"\",\"\",IF(ISERROR(VLOOKUP(F556,[1]Kontoplan!A:D,2,0)),\"Konto findes ikke!\",VLOOKUP(F556,[1]Kontoplan!A:D,2,0)))","v":"Bank konto"}]
["2016-08-14",null,"Kontingent, Kim Jensen",29,2017,1000,null,100,{"$f":"IF(F557=\"\",\"\",IF(ISERROR(VLOOKUP(F557,[1]Kontoplan!A:D,2,0)),\"Konto findes ikke!\",VLOOKUP(F557,[1]Kontoplan!A:D,2,0)))","v":"Kontingenter"}]
["2016-08-14",null,"Kontingent, Kim Jensen",null,null,12310,100,null,{"$f":"IF(F558=\"\",\"\",IF(ISERROR(VLOOKUP(F558,[1]Kontoplan!A:D,2,0)),\"Konto findes ikke!\",VLOOKUP(F558,[1]Kontoplan!A:D,2,0)))","v":"Bank konto"}]
["2016-08-18",null,"Kontingent, Kaare Hansen",60,2017,1000,null,100,{"$f":"IF(F559=\"\",\"\",IF(ISERROR(VLOOKUP(F559,[1]Kontoplan!A:D,2,0)),\"Konto findes ikke!\",VLOOKUP(F559,[1]Kontoplan!A:D,2,0)))","v":"Kontingenter"}]
["2016-08-18",null,"Kontingent, Peer Madsen",68,2017,1000,null,100,{"$f":"IF(F560=\"\",\"\",IF(ISERROR(VLOOKUP(F560,[1]Kontoplan!A:D,2,0)),\"Konto findes ikke!\",VLOOKUP(F560,[1]Kontoplan!A:D,2,0)))","v":"Kontingenter"}]
["2016-08-18",null,"Kontingent, Kaare Hansen",null,null,12310,100,null,{"$f":"IF(F561=\"\",\"\",IF(ISERROR(VLOOKUP(F561,[1]Kontoplan!A:D,2,0)),\"Konto findes ikke!\",VLOOKUP(F561,[1]Kontoplan!A:D,2,0)))","v":"Bank konto"}]
["2016-08-18",null,"Forplj. Oksbølturen",null,null,12310,null,6000,{"$f":"IF(F562=\"\",\"\",IF(ISERROR(VLOOKUP(F562,[1]Kontoplan!A:D,2,0)),\"Konto findes ikke!\",VLOOKUP(F562,[1]Kontoplan!A:D,2,0)))","v":"Bank konto"}]
["2016-08-18",null,"Forplj. Oksbølturen",null,null,2055,6000,null,{"$f":"IF(F563=\"\",\"\",IF(ISERROR(VLOOKUP(F563,[1]Kontoplan!A:D,2,0)),\"Konto findes ikke!\",VLOOKUP(F563,[1]Kontoplan!A:D,2,0)))","v":"Udgifter Oksbølturen"}]
["2016-08-18",null,"Gaver, Oksbølturen",null,null,12310,null,899.75,{"$f":"IF(F564=\"\",\"\",IF(ISERROR(VLOOKUP(F564,[1]Kontoplan!A:D,2,0)),\"Konto findes ikke!\",VLOOKUP(F564,[1]Kontoplan!A:D,2,0)))","v":"Bank konto"}]
["2016-08-18",null,"Gaver, Oksbølturen",null,null,2055,899.75,null,{"$f":"IF(F565=\"\",\"\",IF(ISERROR(VLOOKUP(F565,[1]Kontoplan!A:D,2,0)),\"Konto findes ikke!\",VLOOKUP(F565,[1]Kontoplan!A:D,2,0)))","v":"Udgifter Oksbølturen"}]
["2016-08-18",null,"Kontingent, Peer Madsen",null,null,12310,100,null,{"$f":"IF(F566=\"\",\"\",IF(ISERROR(VLOOKUP(F566,[1]Kontoplan!A:D,2,0)),\"Konto findes ikke!\",VLOOKUP(F566,[1]Kontoplan!A:D,2,0)))","v":"Bank konto"}]
["2016-08-22",null,"Kontingent, Hans-Henrik Greve Brandborg",9,2017,1000,null,100,{"$f":"IF(F567=\"\",\"\",IF(ISERROR(VLOOKUP(F567,[1]Kontoplan!A:D,2,0)),\"Konto findes ikke!\",VLOOKUP(F567,[1]Kontoplan!A:D,2,0)))","v":"Kontingenter"}]
["2016-08-22",null,"Kontingent, Michael Bendtsen",59,2017,1000,null,100,{"$f":"IF(F568=\"\",\"\",IF(ISERROR(VLOOKUP(F568,[1]Kontoplan!A:D,2,0)),\"Konto findes ikke!\",VLOOKUP(F568,[1]Kontoplan!A:D,2,0)))","v":"Kontingenter"}]
["2016-08-22",null,"Kontingent, Michael Bendtsen",null,null,12310,100,null,{"$f":"IF(F569=\"\",\"\",IF(ISERROR(VLOOKUP(F569,[1]Kontoplan!A:D,2,0)),\"Konto findes ikke!\",VLOOKUP(F569,[1]Kontoplan!A:D,2,0)))","v":"Bank konto"}]
["2016-08-22",null,"Kontingent, Hans-Henrik Greve Brandborg",null,null,12310,200,null,{"$f":"IF(F570=\"\",\"\",IF(ISERROR(VLOOKUP(F570,[1]Kontoplan!A:D,2,0)),\"Konto findes ikke!\",VLOOKUP(F570,[1]Kontoplan!A:D,2,0)))","v":"Bank konto"}]
["2016-08-22",null,"Kontingent, Hans-Henrik Greve Brandborg",null,null,1010,null,100,{"$f":"IF(F571=\"\",\"\",IF(ISERROR(VLOOKUP(F571,[1]Kontoplan!A:D,2,0)),\"Konto findes ikke!\",VLOOKUP(F571,[1]Kontoplan!A:D,2,0)))","v":"Salg af mærker"}]
["2016-08-26",null,"Kontingent, Finn Nielsen",64,2017,1000,null,100,{"$f":"IF(F572=\"\",\"\",IF(ISERROR(VLOOKUP(F572,[1]Kontoplan!A:D,2,0)),\"Konto findes ikke!\",VLOOKUP(F572,[1]Kontoplan!A:D,2,0)))","v":"Kontingenter"}]
["2016-08-26",null,"Kontingent, Finn Nielsen",null,null,12310,100,null,{"$f":"IF(F573=\"\",\"\",IF(ISERROR(VLOOKUP(F573,[1]Kontoplan!A:D,2,0)),\"Konto findes ikke!\",VLOOKUP(F573,[1]Kontoplan!A:D,2,0)))","v":"Bank konto"}]
["2016-08-27",null,"Bunker tarp, Oksbøl turen",null,null,12310,null,330,{"$f":"IF(F574=\"\",\"\",IF(ISERROR(VLOOKUP(F574,[1]Kontoplan!A:D,2,0)),\"Konto findes ikke!\",VLOOKUP(F574,[1]Kontoplan!A:D,2,0)))","v":"Bank konto"}]
["2016-08-27",null,"Bunker tarp, Oksbøl turen",null,null,2055,330,null,{"$f":"IF(F575=\"\",\"\",IF(ISERROR(VLOOKUP(F575,[1]Kontoplan!A:D,2,0)),\"Konto findes ikke!\",VLOOKUP(F575,[1]Kontoplan!A:D,2,0)))","v":"Udgifter Oksbølturen"}]
["2016-08-27",null,"Vin/øl, Oksbøl turen",null,null,12310,null,620,{"$f":"IF(F576=\"\",\"\",IF(ISERROR(VLOOKUP(F576,[1]Kontoplan!A:D,2,0)),\"Konto findes ikke!\",VLOOKUP(F576,[1]Kontoplan!A:D,2,0)))","v":"Bank konto"}]
["2016-08-27",null,"Vin/øl, Oksbøl turen",null,null,2055,620,null,{"$f":"IF(F577=\"\",\"\",IF(ISERROR(VLOOKUP(F577,[1]Kontoplan!A:D,2,0)),\"Konto findes ikke!\",VLOOKUP(F577,[1]Kontoplan!A:D,2,0)))","v":"Udgifter Oksbølturen"}]
["2016-08-28",null,"Kontingent, Svend Holm Jensen",7,2017,1000,null,100,{"$f":"IF(F578=\"\",\"\",IF(ISERROR(VLOOKUP(F578,[1]Kontoplan!A:D,2,0)),\"Konto findes ikke!\",VLOOKUP(F578,[1]Kontoplan!A:D,2,0)))","v":"Kontingenter"}]
["2016-08-28",null,"Kontingent, Svend Holm Jensen",null,null,12310,100,null,{"$f":"IF(F579=\"\",\"\",IF(ISERROR(VLOOKUP(F579,[1]Kontoplan!A:D,2,0)),\"Konto findes ikke!\",VLOOKUP(F579,[1]Kontoplan!A:D,2,0)))","v":"Bank konto"}]
["2016-08-29",null,"Kontingent, Eilief G Andersen",6,2017,1000,null,100,{"$f":"IF(F580=\"\",\"\",IF(ISERROR(VLOOKUP(F580,[1]Kontoplan!A:D,2,0)),\"Konto findes ikke!\",VLOOKUP(F580,[1]Kontoplan!A:D,2,0)))","v":"Kontingenter"}]
["2016-08-29",null,"Kontingent, Klaus Buchholdt",21,2017,1000,null,100,{"$f":"IF(F581=\"\",\"\",IF(ISERROR(VLOOKUP(F581,[1]Kontoplan!A:D,2,0)),\"Konto findes ikke!\",VLOOKUP(F581,[1]Kontoplan!A:D,2,0)))","v":"Kontingenter"}]
["2016-08-29",null,"Kontingent, Svend Torp Bendtsen",22,2017,1000,null,100,{"$f":"IF(F582=\"\",\"\",IF(ISERROR(VLOOKUP(F582,[1]Kontoplan!A:D,2,0)),\"Konto findes ikke!\",VLOOKUP(F582,[1]Kontoplan!A:D,2,0)))","v":"Kontingenter"}]
["2016-08-29",null,"Kontingent, Jørgen Espersen",32,2017,1000,null,100,{"$f":"IF(F583=\"\",\"\",IF(ISERROR(VLOOKUP(F583,[1]Kontoplan!A:D,2,0)),\"Konto findes ikke!\",VLOOKUP(F583,[1]Kontoplan!A:D,2,0)))","v":"Kontingenter"}]
["2016-08-29",null,"Kontingent, Odd Bjarne Poulsen",67,2017,1000,null,100,{"$f":"IF(F584=\"\",\"\",IF(ISERROR(VLOOKUP(F584,[1]Kontoplan!A:D,2,0)),\"Konto findes ikke!\",VLOOKUP(F584,[1]Kontoplan!A:D,2,0)))","v":"Kontingenter"}]
["2016-08-29",null,"Kontingent, Flemming Pedersen",80,2017,1000,null,100,{"$f":"IF(F585=\"\",\"\",IF(ISERROR(VLOOKUP(F585,[1]Kontoplan!A:D,2,0)),\"Konto findes ikke!\",VLOOKUP(F585,[1]Kontoplan!A:D,2,0)))","v":"Kontingenter"}]
["2016-08-29",null,"Kontingent, Jørgen Espersen",null,null,12310,100,null,{"$f":"IF(F586=\"\",\"\",IF(ISERROR(VLOOKUP(F586,[1]Kontoplan!A:D,2,0)),\"Konto findes ikke!\",VLOOKUP(F586,[1]Kontoplan!A:D,2,0)))","v":"Bank konto"}]
["2016-08-29",null,"Kontingent, Flemming Pedersen",null,null,12310,100,null,{"$f":"IF(F587=\"\",\"\",IF(ISERROR(VLOOKUP(F587,[1]Kontoplan!A:D,2,0)),\"Konto findes ikke!\",VLOOKUP(F587,[1]Kontoplan!A:D,2,0)))","v":"Bank konto"}]
["2016-08-29",null,"Kontingent, Klaus Buchholdt",null,null,12310,100,null,{"$f":"IF(F588=\"\",\"\",IF(ISERROR(VLOOKUP(F588,[1]Kontoplan!A:D,2,0)),\"Konto findes ikke!\",VLOOKUP(F588,[1]Kontoplan!A:D,2,0)))","v":"Bank konto"}]
["2016-08-29",null,"Kontingent, Odd Bjarne Poulsen",null,null,12310,100,null,{"$f":"IF(F589=\"\",\"\",IF(ISERROR(VLOOKUP(F589,[1]Kontoplan!A:D,2,0)),\"Konto findes ikke!\",VLOOKUP(F589,[1]Kontoplan!A:D,2,0)))","v":"Bank konto"}]
["2016-08-29",null,"Kontingent, Eilief G Andersen",null,null,12310,100,null,{"$f":"IF(F590=\"\",\"\",IF(ISERROR(VLOOKUP(F590,[1]Kontoplan!A:D,2,0)),\"Konto findes ikke!\",VLOOKUP(F590,[1]Kontoplan!A:D,2,0)))","v":"Bank konto"}]
["2016-08-29",null,"Kontingent, Svend Torp Bendtsen",null,null,12310,100,null,{"$f":"IF(F591=\"\",\"\",IF(ISERROR(VLOOKUP(F591,[1]Kontoplan!A:D,2,0)),\"Konto findes ikke!\",VLOOKUP(F591,[1]Kontoplan!A:D,2,0)))","v":"Bank konto"}]
["2016-08-30",null,"Kontingent, E.A. Larsen",63,2017,1000,null,100,{"$f":"IF(F592=\"\",\"\",IF(ISERROR(VLOOKUP(F592,[1]Kontoplan!A:D,2,0)),\"Konto findes ikke!\",VLOOKUP(F592,[1]Kontoplan!A:D,2,0)))","v":"Kontingenter"}]
["2016-08-30",null,"Kontingent, Bent Nielsen",78,2017,1000,null,100,{"$f":"IF(F593=\"\",\"\",IF(ISERROR(VLOOKUP(F593,[1]Kontoplan!A:D,2,0)),\"Konto findes ikke!\",VLOOKUP(F593,[1]Kontoplan!A:D,2,0)))","v":"Kontingenter"}]
["2016-08-30",null,"Kontingent, Bent Nielsen",null,null,12310,100,null,{"$f":"IF(F594=\"\",\"\",IF(ISERROR(VLOOKUP(F594,[1]Kontoplan!A:D,2,0)),\"Konto findes ikke!\",VLOOKUP(F594,[1]Kontoplan!A:D,2,0)))","v":"Bank konto"}]
["2016-08-30",null,"Kontingent, E.A. Larsen",null,null,12310,100,null,{"$f":"IF(F595=\"\",\"\",IF(ISERROR(VLOOKUP(F595,[1]Kontoplan!A:D,2,0)),\"Konto findes ikke!\",VLOOKUP(F595,[1]Kontoplan!A:D,2,0)))","v":"Bank konto"}]
["2016-08-30",null,"Kontingent, Kell Emil Munk",null,null,12310,100,null,{"$f":"IF(F596=\"\",\"\",IF(ISERROR(VLOOKUP(F596,[1]Kontoplan!A:D,2,0)),\"Konto findes ikke!\",VLOOKUP(F596,[1]Kontoplan!A:D,2,0)))","v":"Bank konto"}]
["2016-08-30",null,"Kontingent, Kell Emil Munk",null,null,1000,null,100,{"$f":"IF(F597=\"\",\"\",IF(ISERROR(VLOOKUP(F597,[1]Kontoplan!A:D,2,0)),\"Konto findes ikke!\",VLOOKUP(F597,[1]Kontoplan!A:D,2,0)))","v":"Kontingenter"}]
["2016-08-30",null,"Kontingent, Jan Skøld",null,null,12310,100,null,{"$f":"IF(F598=\"\",\"\",IF(ISERROR(VLOOKUP(F598,[1]Kontoplan!A:D,2,0)),\"Konto findes ikke!\",VLOOKUP(F598,[1]Kontoplan!A:D,2,0)))","v":"Bank konto"}]
["2016-08-30",null,"Kontingent, Jan Skøld",null,null,1000,null,100,{"$f":"IF(F599=\"\",\"\",IF(ISERROR(VLOOKUP(F599,[1]Kontoplan!A:D,2,0)),\"Konto findes ikke!\",VLOOKUP(F599,[1]Kontoplan!A:D,2,0)))","v":"Kontingenter"}]
["2016-08-31",null,"Kontingent, Ole Holm",4,2017,1000,null,100,{"$f":"IF(F600=\"\",\"\",IF(ISERROR(VLOOKUP(F600,[1]Kontoplan!A:D,2,0)),\"Konto findes ikke!\",VLOOKUP(F600,[1]Kontoplan!A:D,2,0)))","v":"Kontingenter"}]
["2016-08-31",null,"Kontingent, Carl-Erik Larsen",34,2017,1000,null,100,{"$f":"IF(F601=\"\",\"\",IF(ISERROR(VLOOKUP(F601,[1]Kontoplan!A:D,2,0)),\"Konto findes ikke!\",VLOOKUP(F601,[1]Kontoplan!A:D,2,0)))","v":"Kontingenter"}]
["2016-08-31",null,"Kontingent, Kaj Ingvorsen",40,2017,1000,null,100,{"$f":"IF(F602=\"\",\"\",IF(ISERROR(VLOOKUP(F602,[1]Kontoplan!A:D,2,0)),\"Konto findes ikke!\",VLOOKUP(F602,[1]Kontoplan!A:D,2,0)))","v":"Kontingenter"}]
["2016-08-31",null,"Kontingent, Ebbe Torgersen",53,2016,1000,null,100,{"$f":"IF(F603=\"\",\"\",IF(ISERROR(VLOOKUP(F603,[1]Kontoplan!A:D,2,0)),\"Konto findes ikke!\",VLOOKUP(F603,[1]Kontoplan!A:D,2,0)))","v":"Kontingenter"}]
["2016-08-31",null,"Kontingent, Thor J K Olsen",75,2017,1000,null,100,{"$f":"IF(F604=\"\",\"\",IF(ISERROR(VLOOKUP(F604,[1]Kontoplan!A:D,2,0)),\"Konto findes ikke!\",VLOOKUP(F604,[1]Kontoplan!A:D,2,0)))","v":"Kontingenter"}]
["2016-08-31",null,"Kontingent, Flemming Kure",84,2017,1000,null,100,{"$f":"IF(F605=\"\",\"\",IF(ISERROR(VLOOKUP(F605,[1]Kontoplan!A:D,2,0)),\"Konto findes ikke!\",VLOOKUP(F605,[1]Kontoplan!A:D,2,0)))","v":"Kontingenter"}]
["2016-08-31",null,"Kontingent, Thor J K Olsen",null,null,12310,100,null,{"$f":"IF(F606=\"\",\"\",IF(ISERROR(VLOOKUP(F606,[1]Kontoplan!A:D,2,0)),\"Konto findes ikke!\",VLOOKUP(F606,[1]Kontoplan!A:D,2,0)))","v":"Bank konto"}]
["2016-08-31",null,"Kontingent, Frank Graversen",null,null,12310,100,null,{"$f":"IF(F607=\"\",\"\",IF(ISERROR(VLOOKUP(F607,[1]Kontoplan!A:D,2,0)),\"Konto findes ikke!\",VLOOKUP(F607,[1]Kontoplan!A:D,2,0)))","v":"Bank konto"}]
["2016-08-31",null,"Kontingent, Frank Graversen",null,null,1000,null,100,{"$f":"IF(F608=\"\",\"\",IF(ISERROR(VLOOKUP(F608,[1]Kontoplan!A:D,2,0)),\"Konto findes ikke!\",VLOOKUP(F608,[1]Kontoplan!A:D,2,0)))","v":"Kontingenter"}]
["2016-08-31",null,"Kontingent, Troels Nielsen",null,null,12310,100,null,{"$f":"IF(F609=\"\",\"\",IF(ISERROR(VLOOKUP(F609,[1]Kontoplan!A:D,2,0)),\"Konto findes ikke!\",VLOOKUP(F609,[1]Kontoplan!A:D,2,0)))","v":"Bank konto"}]
["2016-08-31",null,"Kontingent, Troels Nielsen",null,null,1000,null,100,{"$f":"IF(F610=\"\",\"\",IF(ISERROR(VLOOKUP(F610,[1]Kontoplan!A:D,2,0)),\"Konto findes ikke!\",VLOOKUP(F610,[1]Kontoplan!A:D,2,0)))","v":"Kontingenter"}]
["2016-08-31",null,"Kontingent, Kaj Ingvorsen",null,null,12310,100,null,{"$f":"IF(F611=\"\",\"\",IF(ISERROR(VLOOKUP(F611,[1]Kontoplan!A:D,2,0)),\"Konto findes ikke!\",VLOOKUP(F611,[1]Kontoplan!A:D,2,0)))","v":"Bank konto"}]
["2016-08-31",null,"Kontingent, Ole Holm",null,null,12310,100,null,{"$f":"IF(F612=\"\",\"\",IF(ISERROR(VLOOKUP(F612,[1]Kontoplan!A:D,2,0)),\"Konto findes ikke!\",VLOOKUP(F612,[1]Kontoplan!A:D,2,0)))","v":"Bank konto"}]
["2016-08-31",null,"Kontingent, Ebbe Torgersen",null,null,12310,100,null,{"$f":"IF(F613=\"\",\"\",IF(ISERROR(VLOOKUP(F613,[1]Kontoplan!A:D,2,0)),\"Konto findes ikke!\",VLOOKUP(F613,[1]Kontoplan!A:D,2,0)))","v":"Bank konto"}]
["2016-08-31",null,"Kontingent, Carl-Erik Larsen",null,null,12310,100,null,{"$f":"IF(F614=\"\",\"\",IF(ISERROR(VLOOKUP(F614,[1]Kontoplan!A:D,2,0)),\"Konto findes ikke!\",VLOOKUP(F614,[1]Kontoplan!A:D,2,0)))","v":"Bank konto"}]
["2016-08-31",null,"Kontingent, Flemming Kure",null,null,12310,100,null,{"$f":"IF(F615=\"\",\"\",IF(ISERROR(VLOOKUP(F615,[1]Kontoplan!A:D,2,0)),\"Konto findes ikke!\",VLOOKUP(F615,[1]Kontoplan!A:D,2,0)))","v":"Bank konto"}]
["2016-09-01",null,"Kontingent, Stoffer",1,2017,1000,null,100,{"$f":"IF(F616=\"\",\"\",IF(ISERROR(VLOOKUP(F616,[1]Kontoplan!A:D,2,0)),\"Konto findes ikke!\",VLOOKUP(F616,[1]Kontoplan!A:D,2,0)))","v":"Kontingenter"}]
["2016-09-01",null,"Kontingent, Fini Dahl",25,2017,1000,null,100,{"$f":"IF(F617=\"\",\"\",IF(ISERROR(VLOOKUP(F617,[1]Kontoplan!A:D,2,0)),\"Konto findes ikke!\",VLOOKUP(F617,[1]Kontoplan!A:D,2,0)))","v":"Kontingenter"}]
["2016-09-01",null,"Kontingent, Thor J K Olsen",75,2018,1000,null,100,{"$f":"IF(F618=\"\",\"\",IF(ISERROR(VLOOKUP(F618,[1]Kontoplan!A:D,2,0)),\"Konto findes ikke!\",VLOOKUP(F618,[1]Kontoplan!A:D,2,0)))","v":"Kontingenter"}]
["2016-09-01",null,"Kontingent, Jan Christensen",85,2017,1000,null,100,{"$f":"IF(F619=\"\",\"\",IF(ISERROR(VLOOKUP(F619,[1]Kontoplan!A:D,2,0)),\"Konto findes ikke!\",VLOOKUP(F619,[1]Kontoplan!A:D,2,0)))","v":"Kontingenter"}]
["2016-09-01",null,"Kontingent, Thor J K Olsen",null,null,12310,100,null,{"$f":"IF(F620=\"\",\"\",IF(ISERROR(VLOOKUP(F620,[1]Kontoplan!A:D,2,0)),\"Konto findes ikke!\",VLOOKUP(F620,[1]Kontoplan!A:D,2,0)))","v":"Bank konto"}]
["2016-09-01",null,"Kontingent, Fini Dahl",null,null,12310,100,null,{"$f":"IF(F621=\"\",\"\",IF(ISERROR(VLOOKUP(F621,[1]Kontoplan!A:D,2,0)),\"Konto findes ikke!\",VLOOKUP(F621,[1]Kontoplan!A:D,2,0)))","v":"Bank konto"}]
["2016-09-01",null,"Kontingent, Stoffer",null,null,12310,100,null,{"$f":"IF(F622=\"\",\"\",IF(ISERROR(VLOOKUP(F622,[1]Kontoplan!A:D,2,0)),\"Konto findes ikke!\",VLOOKUP(F622,[1]Kontoplan!A:D,2,0)))","v":"Bank konto"}]
["2016-09-01",null,"Mærker, udlæg Stoffer",null,null,12310,150,null,{"$f":"IF(F623=\"\",\"\",IF(ISERROR(VLOOKUP(F623,[1]Kontoplan!A:D,2,0)),\"Konto findes ikke!\",VLOOKUP(F623,[1]Kontoplan!A:D,2,0)))","v":"Bank konto"}]
["2016-09-01",null,"Mærker, udlæg Stoffer",null,null,1010,null,150,{"$f":"IF(F624=\"\",\"\",IF(ISERROR(VLOOKUP(F624,[1]Kontoplan!A:D,2,0)),\"Konto findes ikke!\",VLOOKUP(F624,[1]Kontoplan!A:D,2,0)))","v":"Salg af mærker"},"3 stk. klistermærker"]
["2016-09-01",null,"Kontingent, Jan Christensen",null,null,12310,100,null,{"$f":"IF(F625=\"\",\"\",IF(ISERROR(VLOOKUP(F625,[1]Kontoplan!A:D,2,0)),\"Konto findes ikke!\",VLOOKUP(F625,[1]Kontoplan!A:D,2,0)))","v":"Bank konto"}]
["2016-09-01",null,"Kontingent, Benny Birk",null,null,12310,100,null,{"$f":"IF(F626=\"\",\"\",IF(ISERROR(VLOOKUP(F626,[1]Kontoplan!A:D,2,0)),\"Konto findes ikke!\",VLOOKUP(F626,[1]Kontoplan!A:D,2,0)))","v":"Bank konto"}]
["2016-09-01",null,"Kontingent, Benny Birk",null,null,1000,null,100,{"$f":"IF(F627=\"\",\"\",IF(ISERROR(VLOOKUP(F627,[1]Kontoplan!A:D,2,0)),\"Konto findes ikke!\",VLOOKUP(F627,[1]Kontoplan!A:D,2,0)))","v":"Kontingenter"}]
["2016-09-04",null,"Kontingent, SSG N-J Johansen",55,2017,1000,null,100,{"$f":"IF(F628=\"\",\"\",IF(ISERROR(VLOOKUP(F628,[1]Kontoplan!A:D,2,0)),\"Konto findes ikke!\",VLOOKUP(F628,[1]Kontoplan!A:D,2,0)))","v":"Kontingenter"}]
["2016-09-04",null,"Kontingent, Steen Jensen",95,2017,1000,null,100,{"$f":"IF(F629=\"\",\"\",IF(ISERROR(VLOOKUP(F629,[1]Kontoplan!A:D,2,0)),\"Konto findes ikke!\",VLOOKUP(F629,[1]Kontoplan!A:D,2,0)))","v":"Kontingenter"}]
["2016-09-04",null,"Kontingent, Steen Jensen",null,null,12310,100,null,{"$f":"IF(F630=\"\",\"\",IF(ISERROR(VLOOKUP(F630,[1]Kontoplan!A:D,2,0)),\"Konto findes ikke!\",VLOOKUP(F630,[1]Kontoplan!A:D,2,0)))","v":"Bank konto"}]
["2016-09-04",null,"Kontingent, SSG N-J Johansen",null,null,12310,100,null,{"$f":"IF(F631=\"\",\"\",IF(ISERROR(VLOOKUP(F631,[1]Kontoplan!A:D,2,0)),\"Konto findes ikke!\",VLOOKUP(F631,[1]Kontoplan!A:D,2,0)))","v":"Bank konto"}]
["2016-09-04",null,"Kontingent, Peer Christensen",null,null,12310,100,null,{"$f":"IF(F632=\"\",\"\",IF(ISERROR(VLOOKUP(F632,[1]Kontoplan!A:D,2,0)),\"Konto findes ikke!\",VLOOKUP(F632,[1]Kontoplan!A:D,2,0)))","v":"Bank konto"}]
["2016-09-04",null,"Kontingent, Peer Christensen",null,null,1000,null,100,{"$f":"IF(F633=\"\",\"\",IF(ISERROR(VLOOKUP(F633,[1]Kontoplan!A:D,2,0)),\"Konto findes ikke!\",VLOOKUP(F633,[1]Kontoplan!A:D,2,0)))","v":"Kontingenter"}]
["2016-09-05",null,"Kontingent, Ebbe Gejl Hansen",35,2017,1000,null,100,{"$f":"IF(F634=\"\",\"\",IF(ISERROR(VLOOKUP(F634,[1]Kontoplan!A:D,2,0)),\"Konto findes ikke!\",VLOOKUP(F634,[1]Kontoplan!A:D,2,0)))","v":"Kontingenter"}]
["2016-09-05",null,"Kontingent, Ivan Hampe",52,2017,1000,null,100,{"$f":"IF(F635=\"\",\"\",IF(ISERROR(VLOOKUP(F635,[1]Kontoplan!A:D,2,0)),\"Konto findes ikke!\",VLOOKUP(F635,[1]Kontoplan!A:D,2,0)))","v":"Kontingenter"}]
["2016-09-05",null,"Kontingent, Ebbe Gejl Hansen",null,null,12310,100,null,{"$f":"IF(F636=\"\",\"\",IF(ISERROR(VLOOKUP(F636,[1]Kontoplan!A:D,2,0)),\"Konto findes ikke!\",VLOOKUP(F636,[1]Kontoplan!A:D,2,0)))","v":"Bank konto"}]
["2016-09-05",null,"Overnatning, Oksbølturen",null,null,12310,null,1265.25,{"$f":"IF(F637=\"\",\"\",IF(ISERROR(VLOOKUP(F637,[1]Kontoplan!A:D,2,0)),\"Konto findes ikke!\",VLOOKUP(F637,[1]Kontoplan!A:D,2,0)))","v":"Bank konto"}]
["2016-09-05",null,"Overnatning, Oksbølturen",null,null,2055,1265.25,null,{"$f":"IF(F638=\"\",\"\",IF(ISERROR(VLOOKUP(F638,[1]Kontoplan!A:D,2,0)),\"Konto findes ikke!\",VLOOKUP(F638,[1]Kontoplan!A:D,2,0)))","v":"Udgifter Oksbølturen"}]
["2016-09-05",null,"Kontingent, Ivan Hampe",null,null,12310,100,null,{"$f":"IF(F639=\"\",\"\",IF(ISERROR(VLOOKUP(F639,[1]Kontoplan!A:D,2,0)),\"Konto findes ikke!\",VLOOKUP(F639,[1]Kontoplan!A:D,2,0)))","v":"Bank konto"}]
["2016-09-06",null,"Kontingent, Henrik Green",58,2017,1000,null,100,{"$f":"IF(F640=\"\",\"\",IF(ISERROR(VLOOKUP(F640,[1]Kontoplan!A:D,2,0)),\"Konto findes ikke!\",VLOOKUP(F640,[1]Kontoplan!A:D,2,0)))","v":"Kontingenter"}]
["2016-09-06",null,"Kontingent, John Bloch Andersen",61,2017,1000,null,100,{"$f":"IF(F641=\"\",\"\",IF(ISERROR(VLOOKUP(F641,[1]Kontoplan!A:D,2,0)),\"Konto findes ikke!\",VLOOKUP(F641,[1]Kontoplan!A:D,2,0)))","v":"Kontingenter"}]
["2016-09-06",null,"Kontingent, John Bloch Andersen",null,null,12310,100,null,{"$f":"IF(F642=\"\",\"\",IF(ISERROR(VLOOKUP(F642,[1]Kontoplan!A:D,2,0)),\"Konto findes ikke!\",VLOOKUP(F642,[1]Kontoplan!A:D,2,0)))","v":"Bank konto"}]
["2016-09-06",null,"Kontingent, Henrik Green",null,null,12310,100,null,{"$f":"IF(F643=\"\",\"\",IF(ISERROR(VLOOKUP(F643,[1]Kontoplan!A:D,2,0)),\"Konto findes ikke!\",VLOOKUP(F643,[1]Kontoplan!A:D,2,0)))","v":"Bank konto"}]
["2016-09-06",null,"Kontingent, Villy Jensen",null,null,12310,100,null,{"$f":"IF(F644=\"\",\"\",IF(ISERROR(VLOOKUP(F644,[1]Kontoplan!A:D,2,0)),\"Konto findes ikke!\",VLOOKUP(F644,[1]Kontoplan!A:D,2,0)))","v":"Bank konto"}]
["2016-09-06",null,"Kontingent, Villy Jensen",null,null,1000,null,100,{"$f":"IF(F645=\"\",\"\",IF(ISERROR(VLOOKUP(F645,[1]Kontoplan!A:D,2,0)),\"Konto findes ikke!\",VLOOKUP(F645,[1]Kontoplan!A:D,2,0)))","v":"Kontingenter"}]
["2016-09-07",null,"Kontingent, Ole Larsen",5,2017,1000,null,100,{"$f":"IF(F646=\"\",\"\",IF(ISERROR(VLOOKUP(F646,[1]Kontoplan!A:D,2,0)),\"Konto findes ikke!\",VLOOKUP(F646,[1]Kontoplan!A:D,2,0)))","v":"Kontingenter"}]
["2016-09-07",null,"Kontingent, Ole Larsen",5,2018,1000,null,100,{"$f":"IF(F647=\"\",\"\",IF(ISERROR(VLOOKUP(F647,[1]Kontoplan!A:D,2,0)),\"Konto findes ikke!\",VLOOKUP(F647,[1]Kontoplan!A:D,2,0)))","v":"Kontingenter"}]
["2016-09-07",null,"Kontingent, Kim Bjelstrand",62,2017,1000,null,100,{"$f":"IF(F648=\"\",\"\",IF(ISERROR(VLOOKUP(F648,[1]Kontoplan!A:D,2,0)),\"Konto findes ikke!\",VLOOKUP(F648,[1]Kontoplan!A:D,2,0)))","v":"Kontingenter"}]
["2016-09-07",null,"Kontingent, Ole Larsen",null,null,12310,200,null,{"$f":"IF(F649=\"\",\"\",IF(ISERROR(VLOOKUP(F649,[1]Kontoplan!A:D,2,0)),\"Konto findes ikke!\",VLOOKUP(F649,[1]Kontoplan!A:D,2,0)))","v":"Bank konto"},"betalt for 2 år "]
["2016-09-07",null,"Kontingent, Kim Bjelstrand",null,null,12310,100,null,{"$f":"IF(F650=\"\",\"\",IF(ISERROR(VLOOKUP(F650,[1]Kontoplan!A:D,2,0)),\"Konto findes ikke!\",VLOOKUP(F650,[1]Kontoplan!A:D,2,0)))","v":"Bank konto"}]
["2016-09-08",null,"Kontingent, Ebbe Michael Jensen",50,2017,1000,null,100,{"$f":"IF(F651=\"\",\"\",IF(ISERROR(VLOOKUP(F651,[1]Kontoplan!A:D,2,0)),\"Konto findes ikke!\",VLOOKUP(F651,[1]Kontoplan!A:D,2,0)))","v":"Kontingenter"}]
["2016-09-08",null,"Kontingent, Ebbe Michael Jensen",null,null,12310,100,null,{"$f":"IF(F652=\"\",\"\",IF(ISERROR(VLOOKUP(F652,[1]Kontoplan!A:D,2,0)),\"Konto findes ikke!\",VLOOKUP(F652,[1]Kontoplan!A:D,2,0)))","v":"Bank konto"}]
["2016-09-09",null,"Kontingent, Bruno Hansen",null,null,12310,100,null,{"$f":"IF(F653=\"\",\"\",IF(ISERROR(VLOOKUP(F653,[1]Kontoplan!A:D,2,0)),\"Konto findes ikke!\",VLOOKUP(F653,[1]Kontoplan!A:D,2,0)))","v":"Bank konto"}]
["2016-09-09",null,"Kontingent, Bruno Hansen",null,null,1000,null,100,{"$f":"IF(F654=\"\",\"\",IF(ISERROR(VLOOKUP(F654,[1]Kontoplan!A:D,2,0)),\"Konto findes ikke!\",VLOOKUP(F654,[1]Kontoplan!A:D,2,0)))","v":"Kontingenter"}]
["2016-09-11",null,"Kontingent, Finn Larsen",54,2017,1000,null,100,{"$f":"IF(F655=\"\",\"\",IF(ISERROR(VLOOKUP(F655,[1]Kontoplan!A:D,2,0)),\"Konto findes ikke!\",VLOOKUP(F655,[1]Kontoplan!A:D,2,0)))","v":"Kontingenter"}]
["2016-09-11",null,"forplj. Bestyrelsesmøde 08.09.16",null,null,12310,null,520,{"$f":"IF(F656=\"\",\"\",IF(ISERROR(VLOOKUP(F656,[1]Kontoplan!A:D,2,0)),\"Konto findes ikke!\",VLOOKUP(F656,[1]Kontoplan!A:D,2,0)))","v":"Bank konto"}]
["2016-09-11",null,"forplj. Bestyrelsesmøde 08.09.16",null,null,2100,520,null,{"$f":"IF(F657=\"\",\"\",IF(ISERROR(VLOOKUP(F657,[1]Kontoplan!A:D,2,0)),\"Konto findes ikke!\",VLOOKUP(F657,[1]Kontoplan!A:D,2,0)))","v":"Forplejning til møder/Rejser"}]
["2016-09-11",null,"Kontingent, Finn Larsen",null,null,12310,100,null,{"$f":"IF(F658=\"\",\"\",IF(ISERROR(VLOOKUP(F658,[1]Kontoplan!A:D,2,0)),\"Konto findes ikke!\",VLOOKUP(F658,[1]Kontoplan!A:D,2,0)))","v":"Bank konto"}]
["2016-09-12",null,"Kontingent, Henrik Pedersen",39,2017,1000,null,100,{"$f":"IF(F659=\"\",\"\",IF(ISERROR(VLOOKUP(F659,[1]Kontoplan!A:D,2,0)),\"Konto findes ikke!\",VLOOKUP(F659,[1]Kontoplan!A:D,2,0)))","v":"Kontingenter"}]
["2016-09-12",null,"Kontingent, Henrik Pedersen",null,null,12310,100,null,{"$f":"IF(F660=\"\",\"\",IF(ISERROR(VLOOKUP(F660,[1]Kontoplan!A:D,2,0)),\"Konto findes ikke!\",VLOOKUP(F660,[1]Kontoplan!A:D,2,0)))","v":"Bank konto"}]
["2016-09-12",null,"Kontingent, Torsten Rasmussen",null,null,12310,100,null,{"$f":"IF(F661=\"\",\"\",IF(ISERROR(VLOOKUP(F661,[1]Kontoplan!A:D,2,0)),\"Konto findes ikke!\",VLOOKUP(F661,[1]Kontoplan!A:D,2,0)))","v":"Bank konto"}]
["2016-09-12",null,"Kontingent, Torsten Rasmussen",null,null,1000,null,100,{"$f":"IF(F662=\"\",\"\",IF(ISERROR(VLOOKUP(F662,[1]Kontoplan!A:D,2,0)),\"Konto findes ikke!\",VLOOKUP(F662,[1]Kontoplan!A:D,2,0)))","v":"Kontingenter"}]
["2016-09-13",null,"Kontingent, Per Leif Andersen",49,2017,1000,null,100,{"$f":"IF(F663=\"\",\"\",IF(ISERROR(VLOOKUP(F663,[1]Kontoplan!A:D,2,0)),\"Konto findes ikke!\",VLOOKUP(F663,[1]Kontoplan!A:D,2,0)))","v":"Kontingenter"}]
["2016-09-13",null,"Kontingent, Per Leif Andersen",null,null,12310,100,null,{"$f":"IF(F664=\"\",\"\",IF(ISERROR(VLOOKUP(F664,[1]Kontoplan!A:D,2,0)),\"Konto findes ikke!\",VLOOKUP(F664,[1]Kontoplan!A:D,2,0)))","v":"Bank konto"}]
["2016-09-13",null,"Kontingent, Jan Mossin Christiansen",null,null,12310,100,null,{"$f":"IF(F665=\"\",\"\",IF(ISERROR(VLOOKUP(F665,[1]Kontoplan!A:D,2,0)),\"Konto findes ikke!\",VLOOKUP(F665,[1]Kontoplan!A:D,2,0)))","v":"Bank konto"}]
["2016-09-13",null,"Kontingent, Jan Mossin Christiansen",null,null,1000,null,100,{"$f":"IF(F666=\"\",\"\",IF(ISERROR(VLOOKUP(F666,[1]Kontoplan!A:D,2,0)),\"Konto findes ikke!\",VLOOKUP(F666,[1]Kontoplan!A:D,2,0)))","v":"Kontingenter"}]
["2016-09-13",null,"indkøb fakta neksø 85229",null,null,12310,null,2475,{"$f":"IF(F667=\"\",\"\",IF(ISERROR(VLOOKUP(F667,[1]Kontoplan!A:D,2,0)),\"Konto findes ikke!\",VLOOKUP(F667,[1]Kontoplan!A:D,2,0)))","v":"Bank konto"}]
["2016-09-13",null,"indkøb fakta neksø 85230",null,null,2010,2475,null,{"$f":"IF(F668=\"\",\"\",IF(ISERROR(VLOOKUP(F668,[1]Kontoplan!A:D,2,0)),\"Konto findes ikke!\",VLOOKUP(F668,[1]Kontoplan!A:D,2,0)))","v":"Indkøb af øl + vand"}]
["2016-09-16",null,"Kontingent, John Nielsen",30,2017,1000,null,100,{"$f":"IF(F669=\"\",\"\",IF(ISERROR(VLOOKUP(F669,[1]Kontoplan!A:D,2,0)),\"Konto findes ikke!\",VLOOKUP(F669,[1]Kontoplan!A:D,2,0)))","v":"Kontingenter"}]
["2016-09-16",null,"Kontingent, John Nielsen",null,null,12310,100,null,{"$f":"IF(F670=\"\",\"\",IF(ISERROR(VLOOKUP(F670,[1]Kontoplan!A:D,2,0)),\"Konto findes ikke!\",VLOOKUP(F670,[1]Kontoplan!A:D,2,0)))","v":"Bank konto"}]
["2016-09-16",null,"Kontingent, Jens Peter Krisoffersen",null,null,12310,100,null,{"$f":"IF(F671=\"\",\"\",IF(ISERROR(VLOOKUP(F671,[1]Kontoplan!A:D,2,0)),\"Konto findes ikke!\",VLOOKUP(F671,[1]Kontoplan!A:D,2,0)))","v":"Bank konto"}]
["2016-09-16",null,"Kontingent, Jens Peter Krisoffersen",null,null,1000,null,100,{"$f":"IF(F672=\"\",\"\",IF(ISERROR(VLOOKUP(F672,[1]Kontoplan!A:D,2,0)),\"Konto findes ikke!\",VLOOKUP(F672,[1]Kontoplan!A:D,2,0)))","v":"Kontingenter"}]
["2016-09-19",null,"Kontingent, Hans-Jørgen Jensen",18,2017,1000,null,100,{"$f":"IF(F673=\"\",\"\",IF(ISERROR(VLOOKUP(F673,[1]Kontoplan!A:D,2,0)),\"Konto findes ikke!\",VLOOKUP(F673,[1]Kontoplan!A:D,2,0)))","v":"Kontingenter"}]
["2016-09-19",null,"Kontingent, Kurt Glud Pedersen",56,2017,1000,null,100,{"$f":"IF(F674=\"\",\"\",IF(ISERROR(VLOOKUP(F674,[1]Kontoplan!A:D,2,0)),\"Konto findes ikke!\",VLOOKUP(F674,[1]Kontoplan!A:D,2,0)))","v":"Kontingenter"}]
["2016-09-19",null,"Kontingent, Hans-Jørgen Jensen",null,null,12310,100,null,{"$f":"IF(F675=\"\",\"\",IF(ISERROR(VLOOKUP(F675,[1]Kontoplan!A:D,2,0)),\"Konto findes ikke!\",VLOOKUP(F675,[1]Kontoplan!A:D,2,0)))","v":"Bank konto"}]
["2016-09-19",null,"Kontingent, Kurt Glud Pedersen",null,null,12310,100,null,{"$f":"IF(F676=\"\",\"\",IF(ISERROR(VLOOKUP(F676,[1]Kontoplan!A:D,2,0)),\"Konto findes ikke!\",VLOOKUP(F676,[1]Kontoplan!A:D,2,0)))","v":"Bank konto"}]
["2016-09-20",null,"Kontingent, Mads egede Krahl",20,2017,1000,null,100,{"$f":"IF(F677=\"\",\"\",IF(ISERROR(VLOOKUP(F677,[1]Kontoplan!A:D,2,0)),\"Konto findes ikke!\",VLOOKUP(F677,[1]Kontoplan!A:D,2,0)))","v":"Kontingenter"}]
["2016-09-20",null,"Kontingent, Flemming Larsen",26,2017,1000,null,100,{"$f":"IF(F678=\"\",\"\",IF(ISERROR(VLOOKUP(F678,[1]Kontoplan!A:D,2,0)),\"Konto findes ikke!\",VLOOKUP(F678,[1]Kontoplan!A:D,2,0)))","v":"Kontingenter"}]
["2016-09-20",null,"Kontingent, Peter munk Petersen",46,2017,1000,null,100,{"$f":"IF(F679=\"\",\"\",IF(ISERROR(VLOOKUP(F679,[1]Kontoplan!A:D,2,0)),\"Konto findes ikke!\",VLOOKUP(F679,[1]Kontoplan!A:D,2,0)))","v":"Kontingenter"}]
["2016-09-20",null,"Kontingent, Mads egede Krahl",null,null,12310,100,null,{"$f":"IF(F680=\"\",\"\",IF(ISERROR(VLOOKUP(F680,[1]Kontoplan!A:D,2,0)),\"Konto findes ikke!\",VLOOKUP(F680,[1]Kontoplan!A:D,2,0)))","v":"Bank konto"}]
["2016-09-20",null,"Kontingent, Peter munk Petersen",null,null,12310,100,null,{"$f":"IF(F681=\"\",\"\",IF(ISERROR(VLOOKUP(F681,[1]Kontoplan!A:D,2,0)),\"Konto findes ikke!\",VLOOKUP(F681,[1]Kontoplan!A:D,2,0)))","v":"Bank konto"}]
["2016-09-20",null,"Kontingent, Flemming Larsen",null,null,12310,100,null,{"$f":"IF(F682=\"\",\"\",IF(ISERROR(VLOOKUP(F682,[1]Kontoplan!A:D,2,0)),\"Konto findes ikke!\",VLOOKUP(F682,[1]Kontoplan!A:D,2,0)))","v":"Bank konto"}]
["2016-09-24",null,"Kontingent, Karsten Jensen",86,2016,1000,null,100,{"$f":"IF(F683=\"\",\"\",IF(ISERROR(VLOOKUP(F683,[1]Kontoplan!A:D,2,0)),\"Konto findes ikke!\",VLOOKUP(F683,[1]Kontoplan!A:D,2,0)))","v":"Kontingenter"}]
["2016-09-24",null,"Kontingent, Karsten Jensen",86,2017,1000,null,100,{"$f":"IF(F684=\"\",\"\",IF(ISERROR(VLOOKUP(F684,[1]Kontoplan!A:D,2,0)),\"Konto findes ikke!\",VLOOKUP(F684,[1]Kontoplan!A:D,2,0)))","v":"Kontingenter"}]
["2016-09-24",null,"Kontingent, Karsten Jensen",null,null,12310,200,null,{"$f":"IF(F685=\"\",\"\",IF(ISERROR(VLOOKUP(F685,[1]Kontoplan!A:D,2,0)),\"Konto findes ikke!\",VLOOKUP(F685,[1]Kontoplan!A:D,2,0)))","v":"Bank konto"}]
["2016-09-26",null,"Kontingent, Per Sørensen",37,2017,1000,null,100,{"$f":"IF(F686=\"\",\"\",IF(ISERROR(VLOOKUP(F686,[1]Kontoplan!A:D,2,0)),\"Konto findes ikke!\",VLOOKUP(F686,[1]Kontoplan!A:D,2,0)))","v":"Kontingenter"}]
["2016-09-26",null,"Kontingent, Hugo Nielsen",null,null,12310,100,null,{"$f":"IF(F687=\"\",\"\",IF(ISERROR(VLOOKUP(F687,[1]Kontoplan!A:D,2,0)),\"Konto findes ikke!\",VLOOKUP(F687,[1]Kontoplan!A:D,2,0)))","v":"Bank konto"}]
["2016-09-26",null,"Kontingent, Hugo Nielsen",null,null,1000,null,100,{"$f":"IF(F688=\"\",\"\",IF(ISERROR(VLOOKUP(F688,[1]Kontoplan!A:D,2,0)),\"Konto findes ikke!\",VLOOKUP(F688,[1]Kontoplan!A:D,2,0)))","v":"Kontingenter"}]
["2016-09-26",null,"Kontingent, Per Sørensen",null,null,12310,100,null,{"$f":"IF(F689=\"\",\"\",IF(ISERROR(VLOOKUP(F689,[1]Kontoplan!A:D,2,0)),\"Konto findes ikke!\",VLOOKUP(F689,[1]Kontoplan!A:D,2,0)))","v":"Bank konto"}]
["2016-09-30",null,"Kontingent, Søren Jensen",70,2017,1000,null,100,{"$f":"IF(F690=\"\",\"\",IF(ISERROR(VLOOKUP(F690,[1]Kontoplan!A:D,2,0)),\"Konto findes ikke!\",VLOOKUP(F690,[1]Kontoplan!A:D,2,0)))","v":"Kontingenter"}]
["2016-09-30",null,"Kontingent, Søren Jensen",null,null,12310,100,null,{"$f":"IF(F691=\"\",\"\",IF(ISERROR(VLOOKUP(F691,[1]Kontoplan!A:D,2,0)),\"Konto findes ikke!\",VLOOKUP(F691,[1]Kontoplan!A:D,2,0)))","v":"Bank konto"}]
["2016-09-30",null,"Gebyr ifølge nota",null,null,12310,null,75,{"$f":"IF(F692=\"\",\"\",IF(ISERROR(VLOOKUP(F692,[1]Kontoplan!A:D,2,0)),\"Konto findes ikke!\",VLOOKUP(F692,[1]Kontoplan!A:D,2,0)))","v":"Bank konto"}]
["2016-09-30",null,"Gebyr ifølge nota",null,null,2130,75,null,{"$f":"IF(F693=\"\",\"\",IF(ISERROR(VLOOKUP(F693,[1]Kontoplan!A:D,2,0)),\"Konto findes ikke!\",VLOOKUP(F693,[1]Kontoplan!A:D,2,0)))","v":"Bankgebyr/Renter"}]
["2016-10-01",null,"Kontingent, Uffe Jensen",28,2017,1000,null,100,{"$f":"IF(F694=\"\",\"\",IF(ISERROR(VLOOKUP(F694,[1]Kontoplan!A:D,2,0)),\"Konto findes ikke!\",VLOOKUP(F694,[1]Kontoplan!A:D,2,0)))","v":"Kontingenter"}]
["2016-10-01",null,"Kontingent, Uffe Jensen",null,null,12310,100,null,{"$f":"IF(F695=\"\",\"\",IF(ISERROR(VLOOKUP(F695,[1]Kontoplan!A:D,2,0)),\"Konto findes ikke!\",VLOOKUP(F695,[1]Kontoplan!A:D,2,0)))","v":"Bank konto"}]
["2016-10-03",null,"Kontingent, Birger Skov",73,2017,1000,null,100,{"$f":"IF(F696=\"\",\"\",IF(ISERROR(VLOOKUP(F696,[1]Kontoplan!A:D,2,0)),\"Konto findes ikke!\",VLOOKUP(F696,[1]Kontoplan!A:D,2,0)))","v":"Kontingenter"}]
["2016-10-03",null,"Kontingent, Birger Skov",null,null,12310,100,null,{"$f":"IF(F697=\"\",\"\",IF(ISERROR(VLOOKUP(F697,[1]Kontoplan!A:D,2,0)),\"Konto findes ikke!\",VLOOKUP(F697,[1]Kontoplan!A:D,2,0)))","v":"Bank konto"}]
["2016-10-04",null,"Rejse, Bes.møde OH 08.09.16",null,null,12310,null,718,{"$f":"IF(F698=\"\",\"\",IF(ISERROR(VLOOKUP(F698,[1]Kontoplan!A:D,2,0)),\"Konto findes ikke!\",VLOOKUP(F698,[1]Kontoplan!A:D,2,0)))","v":"Bank konto"}]
["2016-10-04",null,"Rejse, Bes.møde OH 08.09.17",null,null,2160,718,null,{"$f":"IF(F699=\"\",\"\",IF(ISERROR(VLOOKUP(F699,[1]Kontoplan!A:D,2,0)),\"Konto findes ikke!\",VLOOKUP(F699,[1]Kontoplan!A:D,2,0)))","v":"Rejser"}]
["2016-10-04",null,"Ops. Nye stof mærker",null,null,12310,null,650,{"$f":"IF(F700=\"\",\"\",IF(ISERROR(VLOOKUP(F700,[1]Kontoplan!A:D,2,0)),\"Konto findes ikke!\",VLOOKUP(F700,[1]Kontoplan!A:D,2,0)))","v":"Bank konto"}]
["2016-10-04",null,"Ops. Nye stof mærker",null,null,2020,650,null,{"$f":"IF(F701=\"\",\"\",IF(ISERROR(VLOOKUP(F701,[1]Kontoplan!A:D,2,0)),\"Konto findes ikke!\",VLOOKUP(F701,[1]Kontoplan!A:D,2,0)))","v":"Indkøb af mærker"}]
["2016-10-13",null,"Kontingent, Jan Kristoffersen",27,2016,1000,null,100,{"$f":"IF(F702=\"\",\"\",IF(ISERROR(VLOOKUP(F702,[1]Kontoplan!A:D,2,0)),\"Konto findes ikke!\",VLOOKUP(F702,[1]Kontoplan!A:D,2,0)))","v":"Kontingenter"}]
["2016-10-13",null,"Kontingent, Jan Kristoffersen",null,null,12310,100,null,{"$f":"IF(F703=\"\",\"\",IF(ISERROR(VLOOKUP(F703,[1]Kontoplan!A:D,2,0)),\"Konto findes ikke!\",VLOOKUP(F703,[1]Kontoplan!A:D,2,0)))","v":"Bank konto"}]
["2016-10-18",null,"Kontingent, Jørn Tamdrup",57,2017,1000,null,100,{"$f":"IF(F704=\"\",\"\",IF(ISERROR(VLOOKUP(F704,[1]Kontoplan!A:D,2,0)),\"Konto findes ikke!\",VLOOKUP(F704,[1]Kontoplan!A:D,2,0)))","v":"Kontingenter"}]
["2016-10-18",null,"Kontingent, Jørn Tamdrup",null,null,12310,100,null,{"$f":"IF(F705=\"\",\"\",IF(ISERROR(VLOOKUP(F705,[1]Kontoplan!A:D,2,0)),\"Konto findes ikke!\",VLOOKUP(F705,[1]Kontoplan!A:D,2,0)))","v":"Bank konto"}]
["2016-10-27",null,"Logi DHM Seminar",null,null,12310,null,65,{"$f":"IF(F706=\"\",\"\",IF(ISERROR(VLOOKUP(F706,[1]Kontoplan!A:D,2,0)),\"Konto findes ikke!\",VLOOKUP(F706,[1]Kontoplan!A:D,2,0)))","v":"Bank konto"}]
["2016-10-27",null,"Logi DHM Seminar",null,null,2160,65,null,{"$f":"IF(F707=\"\",\"\",IF(ISERROR(VLOOKUP(F707,[1]Kontoplan!A:D,2,0)),\"Konto findes ikke!\",VLOOKUP(F707,[1]Kontoplan!A:D,2,0)))","v":"Rejser"}]
["2016-11-01",null,"Overført Saldi",null,null,12310,7083.26,null,{"$f":"IF(F708=\"\",\"\",IF(ISERROR(VLOOKUP(F708,[1]Kontoplan!A:D,2,0)),\"Konto findes ikke!\",VLOOKUP(F708,[1]Kontoplan!A:D,2,0)))","v":"Bank konto"}]
["2016-11-01",null,"Overført Saldi",null,null,12330,null,7083.26,{"$f":"IF(F709=\"\",\"\",IF(ISERROR(VLOOKUP(F709,[1]Kontoplan!A:D,2,0)),\"Konto findes ikke!\",VLOOKUP(F709,[1]Kontoplan!A:D,2,0)))","v":"Egenkapital"}]
["2016-11-04",null,"Dragornfest, Jan Witzner Jensen",null,null,12310,150,null,{"$f":"IF(F710=\"\",\"\",IF(ISERROR(VLOOKUP(F710,[1]Kontoplan!A:D,2,0)),\"Konto findes ikke!\",VLOOKUP(F710,[1]Kontoplan!A:D,2,0)))","v":"Bank konto"}]
["2016-11-04",null,"Dragornfest, Jan Witzner Jensen",null,null,1050,null,150,{"$f":"IF(F711=\"\",\"\",IF(ISERROR(VLOOKUP(F711,[1]Kontoplan!A:D,2,0)),\"Konto findes ikke!\",VLOOKUP(F711,[1]Kontoplan!A:D,2,0)))","v":"Deltagergebyr, Dragonfest"}]
["2016-11-13",null,"Kontingent, Steen M Jensen",16,2017,1000,null,100,{"$f":"IF(F712=\"\",\"\",IF(ISERROR(VLOOKUP(F712,[1]Kontoplan!A:D,2,0)),\"Konto findes ikke!\",VLOOKUP(F712,[1]Kontoplan!A:D,2,0)))","v":"Kontingenter"}]
["2016-11-13",null,"Kontingent, Steen M Jensen",null,null,12310,100,null,{"$f":"IF(F713=\"\",\"\",IF(ISERROR(VLOOKUP(F713,[1]Kontoplan!A:D,2,0)),\"Konto findes ikke!\",VLOOKUP(F713,[1]Kontoplan!A:D,2,0)))","v":"Bank konto"}]
["2016-11-15",null,"Kontingent, Carsten K. Pedersen",41,2017,1000,null,100,{"$f":"IF(F714=\"\",\"\",IF(ISERROR(VLOOKUP(F714,[1]Kontoplan!A:D,2,0)),\"Konto findes ikke!\",VLOOKUP(F714,[1]Kontoplan!A:D,2,0)))","v":"Kontingenter"}]
["2016-11-15",null,"Kontingent, Carsten K. Pedersen",null,null,12310,100,null,{"$f":"IF(F715=\"\",\"\",IF(ISERROR(VLOOKUP(F715,[1]Kontoplan!A:D,2,0)),\"Konto findes ikke!\",VLOOKUP(F715,[1]Kontoplan!A:D,2,0)))","v":"Bank konto"}]
["2016-11-15",null,"Dragonfest, Jørn Svendsen",null,null,12310,150,null,{"$f":"IF(F716=\"\",\"\",IF(ISERROR(VLOOKUP(F716,[1]Kontoplan!A:D,2,0)),\"Konto findes ikke!\",VLOOKUP(F716,[1]Kontoplan!A:D,2,0)))","v":"Bank konto"}]
["2016-11-15",null,"Dragonfest, Jørn Svendsen",null,null,1050,null,150,{"$f":"IF(F717=\"\",\"\",IF(ISERROR(VLOOKUP(F717,[1]Kontoplan!A:D,2,0)),\"Konto findes ikke!\",VLOOKUP(F717,[1]Kontoplan!A:D,2,0)))","v":"Deltagergebyr, Dragonfest"}]
["2016-11-16",null,"Dragonfest, Hans-Henrik Greve Brandenborg",null,null,12310,265,null,{"$f":"IF(F718=\"\",\"\",IF(ISERROR(VLOOKUP(F718,[1]Kontoplan!A:D,2,0)),\"Konto findes ikke!\",VLOOKUP(F718,[1]Kontoplan!A:D,2,0)))","v":"Bank konto"}]
["2016-11-16",null,"Dragonfest, Hans-Henrik Greve Brandenborg",null,null,1050,null,150,{"$f":"IF(F719=\"\",\"\",IF(ISERROR(VLOOKUP(F719,[1]Kontoplan!A:D,2,0)),\"Konto findes ikke!\",VLOOKUP(F719,[1]Kontoplan!A:D,2,0)))","v":"Deltagergebyr, Dragonfest"}]
["2016-11-16",null,"Dragonfest, Hans-Henrik Greve Brandenborg",null,null,1040,null,75,{"$f":"IF(F720=\"\",\"\",IF(ISERROR(VLOOKUP(F720,[1]Kontoplan!A:D,2,0)),\"Konto findes ikke!\",VLOOKUP(F720,[1]Kontoplan!A:D,2,0)))","v":"Udlejning af værelser"}]
["2016-11-16",null,"Dragonfest, Hans-Henrik Greve Brandenborg",null,null,1030,null,40,{"$f":"IF(F721=\"\",\"\",IF(ISERROR(VLOOKUP(F721,[1]Kontoplan!A:D,2,0)),\"Konto findes ikke!\",VLOOKUP(F721,[1]Kontoplan!A:D,2,0)))","v":"Salg af morgenmad"}]
["2016-11-21",1,"Hjemmeside, one.com",null,null,12310,null,168,{"$f":"IF(F722=\"\",\"\",IF(ISERROR(VLOOKUP(F722,[1]Kontoplan!A:D,2,0)),\"Konto findes ikke!\",VLOOKUP(F722,[1]Kontoplan!A:D,2,0)))","v":"Bank konto"}]
["2016-11-21",1,"Hjemmeside, one.com",null,null,2120,168,null,{"$f":"IF(F723=\"\",\"\",IF(ISERROR(VLOOKUP(F723,[1]Kontoplan!A:D,2,0)),\"Konto findes ikke!\",VLOOKUP(F723,[1]Kontoplan!A:D,2,0)))","v":"Hjemmeside"}]
["2016-11-21",null,"Dragonfest, Fine Dahl",null,null,12310,150,null,{"$f":"IF(F724=\"\",\"\",IF(ISERROR(VLOOKUP(F724,[1]Kontoplan!A:D,2,0)),\"Konto findes ikke!\",VLOOKUP(F724,[1]Kontoplan!A:D,2,0)))","v":"Bank konto"}]
["2016-11-21",null,"Dragonfest, Fine Dahl",null,null,1050,null,150,{"$f":"IF(F725=\"\",\"\",IF(ISERROR(VLOOKUP(F725,[1]Kontoplan!A:D,2,0)),\"Konto findes ikke!\",VLOOKUP(F725,[1]Kontoplan!A:D,2,0)))","v":"Deltagergebyr, Dragonfest"}]
["2016-11-22",null,"Dragonfest, Per Nielsen",null,null,12310,150,null,{"$f":"IF(F726=\"\",\"\",IF(ISERROR(VLOOKUP(F726,[1]Kontoplan!A:D,2,0)),\"Konto findes ikke!\",VLOOKUP(F726,[1]Kontoplan!A:D,2,0)))","v":"Bank konto"}]
["2016-11-22",null,"Dragonfest, Per Nielsen",null,null,1050,null,150,{"$f":"IF(F727=\"\",\"\",IF(ISERROR(VLOOKUP(F727,[1]Kontoplan!A:D,2,0)),\"Konto findes ikke!\",VLOOKUP(F727,[1]Kontoplan!A:D,2,0)))","v":"Deltagergebyr, Dragonfest"}]
["2016-11-22",null,"Dragonfest, Carl-Erik Larsen",null,null,12310,150,null,{"$f":"IF(F728=\"\",\"\",IF(ISERROR(VLOOKUP(F728,[1]Kontoplan!A:D,2,0)),\"Konto findes ikke!\",VLOOKUP(F728,[1]Kontoplan!A:D,2,0)))","v":"Bank konto"}]
["2016-11-22",null,"Dragonfest, Carl-Erik Larsen",null,null,1050,null,150,{"$f":"IF(F729=\"\",\"\",IF(ISERROR(VLOOKUP(F729,[1]Kontoplan!A:D,2,0)),\"Konto findes ikke!\",VLOOKUP(F729,[1]Kontoplan!A:D,2,0)))","v":"Deltagergebyr, Dragonfest"}]
["2016-11-23",2,"forplj. Bestyrelsesmøde",null,null,12310,null,480,{"$f":"IF(F730=\"\",\"\",IF(ISERROR(VLOOKUP(F730,[1]Kontoplan!A:D,2,0)),\"Konto findes ikke!\",VLOOKUP(F730,[1]Kontoplan!A:D,2,0)))","v":"Bank konto"}]
["2016-11-23",2,"forplj. Bestyrelsesmøde",null,null,2100,480,null,{"$f":"IF(F731=\"\",\"\",IF(ISERROR(VLOOKUP(F731,[1]Kontoplan!A:D,2,0)),\"Konto findes ikke!\",VLOOKUP(F731,[1]Kontoplan!A:D,2,0)))","v":"Forplejning til møder/Rejser"}]
["2016-11-24",null,"Dragonfest, Lloyd Jørgensen",null,null,12310,150,null,{"$f":"IF(F732=\"\",\"\",IF(ISERROR(VLOOKUP(F732,[1]Kontoplan!A:D,2,0)),\"Konto findes ikke!\",VLOOKUP(F732,[1]Kontoplan!A:D,2,0)))","v":"Bank konto"}]
["2016-11-24",null,"Dragonfest, Lloyd Jørgensen",null,null,1050,null,150,{"$f":"IF(F733=\"\",\"\",IF(ISERROR(VLOOKUP(F733,[1]Kontoplan!A:D,2,0)),\"Konto findes ikke!\",VLOOKUP(F733,[1]Kontoplan!A:D,2,0)))","v":"Deltagergebyr, Dragonfest"}]
["2016-11-30",null,"Dragonfest, Søren Dyrby Schou",null,null,12310,150,null,{"$f":"IF(F734=\"\",\"\",IF(ISERROR(VLOOKUP(F734,[1]Kontoplan!A:D,2,0)),\"Konto findes ikke!\",VLOOKUP(F734,[1]Kontoplan!A:D,2,0)))","v":"Bank konto"}]
["2016-11-30",null,"Dragonfest, Søren Dyrby Schou",null,null,1050,null,150,{"$f":"IF(F735=\"\",\"\",IF(ISERROR(VLOOKUP(F735,[1]Kontoplan!A:D,2,0)),\"Konto findes ikke!\",VLOOKUP(F735,[1]Kontoplan!A:D,2,0)))","v":"Deltagergebyr, Dragonfest"}]
["2016-12-01",null,"Dragonfest, John Nielsen",null,null,12310,150,null,{"$f":"IF(F736=\"\",\"\",IF(ISERROR(VLOOKUP(F736,[1]Kontoplan!A:D,2,0)),\"Konto findes ikke!\",VLOOKUP(F736,[1]Kontoplan!A:D,2,0)))","v":"Bank konto"}]
["2016-12-01",null,"Dragonfest, John Nielsen",null,null,1050,null,150,{"$f":"IF(F737=\"\",\"\",IF(ISERROR(VLOOKUP(F737,[1]Kontoplan!A:D,2,0)),\"Konto findes ikke!\",VLOOKUP(F737,[1]Kontoplan!A:D,2,0)))","v":"Deltagergebyr, Dragonfest"}]
["2016-12-05",null,"Dragonfest, Richard Finne",null,null,12310,150,null,{"$f":"IF(F738=\"\",\"\",IF(ISERROR(VLOOKUP(F738,[1]Kontoplan!A:D,2,0)),\"Konto findes ikke!\",VLOOKUP(F738,[1]Kontoplan!A:D,2,0)))","v":"Bank konto"}]
["2016-12-05",null,"Dragonfest, Richard Finne",null,null,1050,null,150,{"$f":"IF(F739=\"\",\"\",IF(ISERROR(VLOOKUP(F739,[1]Kontoplan!A:D,2,0)),\"Konto findes ikke!\",VLOOKUP(F739,[1]Kontoplan!A:D,2,0)))","v":"Deltagergebyr, Dragonfest"}]
["2016-12-06",null,"Dragonfest, Stoffer",null,null,12310,150,null,{"$f":"IF(F740=\"\",\"\",IF(ISERROR(VLOOKUP(F740,[1]Kontoplan!A:D,2,0)),\"Konto findes ikke!\",VLOOKUP(F740,[1]Kontoplan!A:D,2,0)))","v":"Bank konto"}]
["2016-12-06",null,"Dragonfest, Stoffer",null,null,1050,null,150,{"$f":"IF(F741=\"\",\"\",IF(ISERROR(VLOOKUP(F741,[1]Kontoplan!A:D,2,0)),\"Konto findes ikke!\",VLOOKUP(F741,[1]Kontoplan!A:D,2,0)))","v":"Deltagergebyr, Dragonfest"}]
["2016-12-07",null,"Dragonfest, Jens Givskov",null,null,12310,380,null,{"$f":"IF(F742=\"\",\"\",IF(ISERROR(VLOOKUP(F742,[1]Kontoplan!A:D,2,0)),\"Konto findes ikke!\",VLOOKUP(F742,[1]Kontoplan!A:D,2,0)))","v":"Bank konto"}]
["2016-12-07",null,"Dragonfest, Jens Givskov",null,null,1050,null,150,{"$f":"IF(F743=\"\",\"\",IF(ISERROR(VLOOKUP(F743,[1]Kontoplan!A:D,2,0)),\"Konto findes ikke!\",VLOOKUP(F743,[1]Kontoplan!A:D,2,0)))","v":"Deltagergebyr, Dragonfest"}]
["2016-12-07",null,"Dragonfest, Jens Givskov",null,null,1040,null,150,{"$f":"IF(F744=\"\",\"\",IF(ISERROR(VLOOKUP(F744,[1]Kontoplan!A:D,2,0)),\"Konto findes ikke!\",VLOOKUP(F744,[1]Kontoplan!A:D,2,0)))","v":"Udlejning af værelser"}]
["2016-12-07",null,"Dragonfest, Jens Givskov",null,null,1030,null,80,{"$f":"IF(F745=\"\",\"\",IF(ISERROR(VLOOKUP(F745,[1]Kontoplan!A:D,2,0)),\"Konto findes ikke!\",VLOOKUP(F745,[1]Kontoplan!A:D,2,0)))","v":"Salg af morgenmad"}]
["2016-12-08",null,"Dragonfest, Kurt Munch",null,null,12310,360,null,{"$f":"IF(F746=\"\",\"\",IF(ISERROR(VLOOKUP(F746,[1]Kontoplan!A:D,2,0)),\"Konto findes ikke!\",VLOOKUP(F746,[1]Kontoplan!A:D,2,0)))","v":"Bank konto"}]
["2016-12-08",null,"Dragonfest, Kurt Munch",null,null,1050,null,150,{"$f":"IF(F747=\"\",\"\",IF(ISERROR(VLOOKUP(F747,[1]Kontoplan!A:D,2,0)),\"Konto findes ikke!\",VLOOKUP(F747,[1]Kontoplan!A:D,2,0)))","v":"Deltagergebyr, Dragonfest"}]
["2016-12-08",null,"Dragonfest, Kurt Munch",null,null,1040,null,150,{"$f":"IF(F748=\"\",\"\",IF(ISERROR(VLOOKUP(F748,[1]Kontoplan!A:D,2,0)),\"Konto findes ikke!\",VLOOKUP(F748,[1]Kontoplan!A:D,2,0)))","v":"Udlejning af værelser"}]
["2016-12-08",null,"Dragonfest, Kurt Munch",null,null,1030,null,60,{"$f":"IF(F749=\"\",\"\",IF(ISERROR(VLOOKUP(F749,[1]Kontoplan!A:D,2,0)),\"Konto findes ikke!\",VLOOKUP(F749,[1]Kontoplan!A:D,2,0)))","v":"Salg af morgenmad"}]
["2016-12-08",null,"Dragonfest, Flemming Larsen",null,null,12310,150,null,{"$f":"IF(F750=\"\",\"\",IF(ISERROR(VLOOKUP(F750,[1]Kontoplan!A:D,2,0)),\"Konto findes ikke!\",VLOOKUP(F750,[1]Kontoplan!A:D,2,0)))","v":"Bank konto"}]
["2016-12-08",null,"Dragonfest, Flemming Larsen",null,null,1050,null,150,{"$f":"IF(F751=\"\",\"\",IF(ISERROR(VLOOKUP(F751,[1]Kontoplan!A:D,2,0)),\"Konto findes ikke!\",VLOOKUP(F751,[1]Kontoplan!A:D,2,0)))","v":"Deltagergebyr, Dragonfest"}]
["2016-12-08",null,"Dragonfest, Peter Munk Petersen",null,null,12310,380,null,{"$f":"IF(F752=\"\",\"\",IF(ISERROR(VLOOKUP(F752,[1]Kontoplan!A:D,2,0)),\"Konto findes ikke!\",VLOOKUP(F752,[1]Kontoplan!A:D,2,0)))","v":"Bank konto"}]
["2016-12-08",null,"Dragonfest, Peter Munk Petersen",null,null,1050,null,150,{"$f":"IF(F753=\"\",\"\",IF(ISERROR(VLOOKUP(F753,[1]Kontoplan!A:D,2,0)),\"Konto findes ikke!\",VLOOKUP(F753,[1]Kontoplan!A:D,2,0)))","v":"Deltagergebyr, Dragonfest"}]
["2016-12-08",null,"Dragonfest, Peter Munk Petersen",null,null,1040,null,150,{"$f":"IF(F754=\"\",\"\",IF(ISERROR(VLOOKUP(F754,[1]Kontoplan!A:D,2,0)),\"Konto findes ikke!\",VLOOKUP(F754,[1]Kontoplan!A:D,2,0)))","v":"Udlejning af værelser"}]
["2016-12-08",null,"Dragonfest, Peter Munk Petersen",null,null,1030,null,80,{"$f":"IF(F755=\"\",\"\",IF(ISERROR(VLOOKUP(F755,[1]Kontoplan!A:D,2,0)),\"Konto findes ikke!\",VLOOKUP(F755,[1]Kontoplan!A:D,2,0)))","v":"Salg af morgenmad"}]
["2016-12-08",null,"Dragonfest, Knud Arne Rasmussen",null,null,12310,150,null,{"$f":"IF(F756=\"\",\"\",IF(ISERROR(VLOOKUP(F756,[1]Kontoplan!A:D,2,0)),\"Konto findes ikke!\",VLOOKUP(F756,[1]Kontoplan!A:D,2,0)))","v":"Bank konto"}]
["2016-12-08",null,"Dragonfest, Knud Arne Rasmussen",null,null,1050,null,150,{"$f":"IF(F757=\"\",\"\",IF(ISERROR(VLOOKUP(F757,[1]Kontoplan!A:D,2,0)),\"Konto findes ikke!\",VLOOKUP(F757,[1]Kontoplan!A:D,2,0)))","v":"Deltagergebyr, Dragonfest"}]
["2016-12-08",null,"Dragonfest, Jan Skøld",null,null,12310,150,null,{"$f":"IF(F758=\"\",\"\",IF(ISERROR(VLOOKUP(F758,[1]Kontoplan!A:D,2,0)),\"Konto findes ikke!\",VLOOKUP(F758,[1]Kontoplan!A:D,2,0)))","v":"Bank konto"}]
["2016-12-08",null,"Dragonfest, Jan Skøld",null,null,1050,null,150,{"$f":"IF(F759=\"\",\"\",IF(ISERROR(VLOOKUP(F759,[1]Kontoplan!A:D,2,0)),\"Konto findes ikke!\",VLOOKUP(F759,[1]Kontoplan!A:D,2,0)))","v":"Deltagergebyr, Dragonfest"}]
["2016-12-12",3,"Forplj. Bestyrelsesmøde",null,null,12310,null,420,{"$f":"IF(F760=\"\",\"\",IF(ISERROR(VLOOKUP(F760,[1]Kontoplan!A:D,2,0)),\"Konto findes ikke!\",VLOOKUP(F760,[1]Kontoplan!A:D,2,0)))","v":"Bank konto"}]
["2016-12-12",3,"Forplj. Bestyrelsesmøde",null,null,2100,420,null,{"$f":"IF(F761=\"\",\"\",IF(ISERROR(VLOOKUP(F761,[1]Kontoplan!A:D,2,0)),\"Konto findes ikke!\",VLOOKUP(F761,[1]Kontoplan!A:D,2,0)))","v":"Forplejning til møder/Rejser"}]
["2016-12-12",null,"Dragonfest, Jan Kristoffersen",null,null,12310,150,null,{"$f":"IF(F762=\"\",\"\",IF(ISERROR(VLOOKUP(F762,[1]Kontoplan!A:D,2,0)),\"Konto findes ikke!\",VLOOKUP(F762,[1]Kontoplan!A:D,2,0)))","v":"Bank konto"}]
["2016-12-12",null,"Dragonfest, Jan Kristoffersen",null,null,1050,null,150,{"$f":"IF(F763=\"\",\"\",IF(ISERROR(VLOOKUP(F763,[1]Kontoplan!A:D,2,0)),\"Konto findes ikke!\",VLOOKUP(F763,[1]Kontoplan!A:D,2,0)))","v":"Deltagergebyr, Dragonfest"}]
["2016-12-12",null,"Dragonfest, Johnny Kofoed",null,null,12310,150,null,{"$f":"IF(F764=\"\",\"\",IF(ISERROR(VLOOKUP(F764,[1]Kontoplan!A:D,2,0)),\"Konto findes ikke!\",VLOOKUP(F764,[1]Kontoplan!A:D,2,0)))","v":"Bank konto"}]
["2016-12-12",null,"Dragonfest, Johnny Kofoed",null,null,1050,null,150,{"$f":"IF(F765=\"\",\"\",IF(ISERROR(VLOOKUP(F765,[1]Kontoplan!A:D,2,0)),\"Konto findes ikke!\",VLOOKUP(F765,[1]Kontoplan!A:D,2,0)))","v":"Deltagergebyr, Dragonfest"}]
["2016-12-13",4,"Transport be.møde 23/11/16",null,null,12310,null,781,{"$f":"IF(F766=\"\",\"\",IF(ISERROR(VLOOKUP(F766,[1]Kontoplan!A:D,2,0)),\"Konto findes ikke!\",VLOOKUP(F766,[1]Kontoplan!A:D,2,0)))","v":"Bank konto"}]
["2016-12-13",4,"Transport be.møde 23/11/16",null,null,2160,781,null,{"$f":"IF(F767=\"\",\"\",IF(ISERROR(VLOOKUP(F767,[1]Kontoplan!A:D,2,0)),\"Konto findes ikke!\",VLOOKUP(F767,[1]Kontoplan!A:D,2,0)))","v":"Rejser"}]
["2016-12-14",null,"Dragonfest, Bent Nielsen",null,null,12310,150,null,{"$f":"IF(F768=\"\",\"\",IF(ISERROR(VLOOKUP(F768,[1]Kontoplan!A:D,2,0)),\"Konto findes ikke!\",VLOOKUP(F768,[1]Kontoplan!A:D,2,0)))","v":"Bank konto"}]
["2016-12-14",null,"Dragonfest, Bent Nielsen",null,null,1050,null,150,{"$f":"IF(F769=\"\",\"\",IF(ISERROR(VLOOKUP(F769,[1]Kontoplan!A:D,2,0)),\"Konto findes ikke!\",VLOOKUP(F769,[1]Kontoplan!A:D,2,0)))","v":"Deltagergebyr, Dragonfest"}]
["2016-12-14",null,"Dragonfest, Svend Holm Jensen",null,null,12310,150,null,{"$f":"IF(F770=\"\",\"\",IF(ISERROR(VLOOKUP(F770,[1]Kontoplan!A:D,2,0)),\"Konto findes ikke!\",VLOOKUP(F770,[1]Kontoplan!A:D,2,0)))","v":"Bank konto"}]
["2016-12-14",null,"Dragonfest, Svend Holm Jensen",null,null,1050,null,150,{"$f":"IF(F771=\"\",\"\",IF(ISERROR(VLOOKUP(F771,[1]Kontoplan!A:D,2,0)),\"Konto findes ikke!\",VLOOKUP(F771,[1]Kontoplan!A:D,2,0)))","v":"Deltagergebyr, Dragonfest"}]
["2016-12-14",null,"Dragonfest, SSG N-J. Johansen",null,null,12310,150,null,{"$f":"IF(F772=\"\",\"\",IF(ISERROR(VLOOKUP(F772,[1]Kontoplan!A:D,2,0)),\"Konto findes ikke!\",VLOOKUP(F772,[1]Kontoplan!A:D,2,0)))","v":"Bank konto"}]
["2016-12-14",null,"Dragonfest, SSG N-J. Johansen",null,null,1050,null,150,{"$f":"IF(F773=\"\",\"\",IF(ISERROR(VLOOKUP(F773,[1]Kontoplan!A:D,2,0)),\"Konto findes ikke!\",VLOOKUP(F773,[1]Kontoplan!A:D,2,0)))","v":"Deltagergebyr, Dragonfest"}]
["2016-12-15",null,"Kontingent, Ebbe Torgersen",53,2017,1000,null,100,{"$f":"IF(F774=\"\",\"\",IF(ISERROR(VLOOKUP(F774,[1]Kontoplan!A:D,2,0)),\"Konto findes ikke!\",VLOOKUP(F774,[1]Kontoplan!A:D,2,0)))","v":"Kontingenter"}]
["2016-12-15",null,"Dragonfest, Freddy Albæk",null,null,12310,150,null,{"$f":"IF(F775=\"\",\"\",IF(ISERROR(VLOOKUP(F775,[1]Kontoplan!A:D,2,0)),\"Konto findes ikke!\",VLOOKUP(F775,[1]Kontoplan!A:D,2,0)))","v":"Bank konto"}]
["2016-12-15",null,"Dragonfest, Freddy Albæk",null,null,1050,null,150,{"$f":"IF(F776=\"\",\"\",IF(ISERROR(VLOOKUP(F776,[1]Kontoplan!A:D,2,0)),\"Konto findes ikke!\",VLOOKUP(F776,[1]Kontoplan!A:D,2,0)))","v":"Deltagergebyr, Dragonfest"}]
["2016-12-15",null,"Dragonfest, Jørn K. Pedersen",null,null,12310,150,null,{"$f":"IF(F777=\"\",\"\",IF(ISERROR(VLOOKUP(F777,[1]Kontoplan!A:D,2,0)),\"Konto findes ikke!\",VLOOKUP(F777,[1]Kontoplan!A:D,2,0)))","v":"Bank konto"}]
["2016-12-15",null,"Dragonfest, Jørn K. Pedersen",null,null,1050,null,150,{"$f":"IF(F778=\"\",\"\",IF(ISERROR(VLOOKUP(F778,[1]Kontoplan!A:D,2,0)),\"Konto findes ikke!\",VLOOKUP(F778,[1]Kontoplan!A:D,2,0)))","v":"Deltagergebyr, Dragonfest"}]
["2016-12-15",null,"Dragonfest, Ebbe Torgersen",null,null,12310,250,null,{"$f":"IF(F779=\"\",\"\",IF(ISERROR(VLOOKUP(F779,[1]Kontoplan!A:D,2,0)),\"Konto findes ikke!\",VLOOKUP(F779,[1]Kontoplan!A:D,2,0)))","v":"Bank konto"}]
["2016-12-15",null,"Dragonfest, Ebbe Torgersen",null,null,1050,null,150,{"$f":"IF(F780=\"\",\"\",IF(ISERROR(VLOOKUP(F780,[1]Kontoplan!A:D,2,0)),\"Konto findes ikke!\",VLOOKUP(F780,[1]Kontoplan!A:D,2,0)))","v":"Deltagergebyr, Dragonfest"}]
["2016-12-16",null,"Kontingent, Johnny S. E. Jacobsen",89,2017,1000,null,100,{"$f":"IF(F781=\"\",\"\",IF(ISERROR(VLOOKUP(F781,[1]Kontoplan!A:D,2,0)),\"Konto findes ikke!\",VLOOKUP(F781,[1]Kontoplan!A:D,2,0)))","v":"Kontingenter"}]
["2016-12-16",null,"Kontingent, Johnny S. E. Jacobsen",null,null,12310,100,null,{"$f":"IF(F782=\"\",\"\",IF(ISERROR(VLOOKUP(F782,[1]Kontoplan!A:D,2,0)),\"Konto findes ikke!\",VLOOKUP(F782,[1]Kontoplan!A:D,2,0)))","v":"Bank konto"}]
["2016-12-18",null,"Lån af Jan W. Jensen",null,null,12310,6000,null,{"$f":"IF(F783=\"\",\"\",IF(ISERROR(VLOOKUP(F783,[1]Kontoplan!A:D,2,0)),\"Konto findes ikke!\",VLOOKUP(F783,[1]Kontoplan!A:D,2,0)))","v":"Bank konto"}]
["2016-12-18",null,"Lån af Jan W. Jensen",null,null,1060,null,6000,{"$f":"IF(F784=\"\",\"\",IF(ISERROR(VLOOKUP(F784,[1]Kontoplan!A:D,2,0)),\"Konto findes ikke!\",VLOOKUP(F784,[1]Kontoplan!A:D,2,0)))","v":"Private Lån"}]
["2016-12-19",null,"Dragonfest, Ole Larsen",null,null,12310,150,null,{"$f":"IF(F785=\"\",\"\",IF(ISERROR(VLOOKUP(F785,[1]Kontoplan!A:D,2,0)),\"Konto findes ikke!\",VLOOKUP(F785,[1]Kontoplan!A:D,2,0)))","v":"Bank konto"}]
["2016-12-19",null,"Dragonfest, Ole Larsen",null,null,1050,null,150,{"$f":"IF(F786=\"\",\"\",IF(ISERROR(VLOOKUP(F786,[1]Kontoplan!A:D,2,0)),\"Konto findes ikke!\",VLOOKUP(F786,[1]Kontoplan!A:D,2,0)))","v":"Deltagergebyr, Dragonfest"}]
["2016-12-19",null,"Lån af Per Nielsen",null,null,12310,6000,null,{"$f":"IF(F787=\"\",\"\",IF(ISERROR(VLOOKUP(F787,[1]Kontoplan!A:D,2,0)),\"Konto findes ikke!\",VLOOKUP(F787,[1]Kontoplan!A:D,2,0)))","v":"Bank konto"}]
["2016-12-19",null,"Lån af Per Nielsen",null,null,1060,null,6000,{"$f":"IF(F788=\"\",\"\",IF(ISERROR(VLOOKUP(F788,[1]Kontoplan!A:D,2,0)),\"Konto findes ikke!\",VLOOKUP(F788,[1]Kontoplan!A:D,2,0)))","v":"Private Lån"}]
["2016-12-19",null,"Dragonfest, Freddy Albæk",null,null,12310,300,null,{"$f":"IF(F789=\"\",\"\",IF(ISERROR(VLOOKUP(F789,[1]Kontoplan!A:D,2,0)),\"Konto findes ikke!\",VLOOKUP(F789,[1]Kontoplan!A:D,2,0)))","v":"Bank konto"}]
["2016-12-19",null,"Dragonfest, Freddy Albæk",null,null,1050,null,300,{"$f":"IF(F790=\"\",\"\",IF(ISERROR(VLOOKUP(F790,[1]Kontoplan!A:D,2,0)),\"Konto findes ikke!\",VLOOKUP(F790,[1]Kontoplan!A:D,2,0)))","v":"Deltagergebyr, Dragonfest"},"Amangsalik??"]
["2016-12-20",5,"Rep. Af køler",null,null,12310,null,7750,{"$f":"IF(F791=\"\",\"\",IF(ISERROR(VLOOKUP(F791,[1]Kontoplan!A:D,2,0)),\"Konto findes ikke!\",VLOOKUP(F791,[1]Kontoplan!A:D,2,0)))","v":"Bank konto"}]
["2016-12-20",5,"Rep. Af køler",null,null,2085,7750,null,{"$f":"IF(F792=\"\",\"\",IF(ISERROR(VLOOKUP(F792,[1]Kontoplan!A:D,2,0)),\"Konto findes ikke!\",VLOOKUP(F792,[1]Kontoplan!A:D,2,0)))","v":"Diverse Reperationer"},"køler 1"]
["2016-12-20",null,"Kontingent, Martin Jakab Hansen",90,2017,1000,null,100,{"$f":"IF(F793=\"\",\"\",IF(ISERROR(VLOOKUP(F793,[1]Kontoplan!A:D,2,0)),\"Konto findes ikke!\",VLOOKUP(F793,[1]Kontoplan!A:D,2,0)))","v":"Kontingenter"}]
["2016-12-20",null,"Kontingent, Martin Jakab Hansen",null,null,12310,100,null,{"$f":"IF(F794=\"\",\"\",IF(ISERROR(VLOOKUP(F794,[1]Kontoplan!A:D,2,0)),\"Konto findes ikke!\",VLOOKUP(F794,[1]Kontoplan!A:D,2,0)))","v":"Bank konto"}]
["2016-12-20",null,"Lån af Stoffer",null,null,12310,6000,null,{"$f":"IF(F795=\"\",\"\",IF(ISERROR(VLOOKUP(F795,[1]Kontoplan!A:D,2,0)),\"Konto findes ikke!\",VLOOKUP(F795,[1]Kontoplan!A:D,2,0)))","v":"Bank konto"}]
["2016-12-20",null,"Lån af Stoffer",null,null,1060,null,6000,{"$f":"IF(F796=\"\",\"\",IF(ISERROR(VLOOKUP(F796,[1]Kontoplan!A:D,2,0)),\"Konto findes ikke!\",VLOOKUP(F796,[1]Kontoplan!A:D,2,0)))","v":"Private Lån"}]
["2016-12-21",null,"Dragonfest, Martin Jakob Hansen",null,null,12310,150,null,{"$f":"IF(F797=\"\",\"\",IF(ISERROR(VLOOKUP(F797,[1]Kontoplan!A:D,2,0)),\"Konto findes ikke!\",VLOOKUP(F797,[1]Kontoplan!A:D,2,0)))","v":"Bank konto"}]
["2016-12-21",null,"Dragonfest, Martin Jakob Hansen",null,null,1050,null,150,{"$f":"IF(F798=\"\",\"\",IF(ISERROR(VLOOKUP(F798,[1]Kontoplan!A:D,2,0)),\"Konto findes ikke!\",VLOOKUP(F798,[1]Kontoplan!A:D,2,0)))","v":"Deltagergebyr, Dragonfest"}]
["2016-12-22",null,"Dragonfest, Kaare Hansen",null,null,12310,150,null,{"$f":"IF(F799=\"\",\"\",IF(ISERROR(VLOOKUP(F799,[1]Kontoplan!A:D,2,0)),\"Konto findes ikke!\",VLOOKUP(F799,[1]Kontoplan!A:D,2,0)))","v":"Bank konto"}]
["2016-12-22",null,"Dragonfest, Kaare Hansen",null,null,1050,null,150,{"$f":"IF(F800=\"\",\"\",IF(ISERROR(VLOOKUP(F800,[1]Kontoplan!A:D,2,0)),\"Konto findes ikke!\",VLOOKUP(F800,[1]Kontoplan!A:D,2,0)))","v":"Deltagergebyr, Dragonfest"}]
["2016-12-23",null,"Dragonfest, Bjarne Hansen",null,null,12310,150,null,{"$f":"IF(F801=\"\",\"\",IF(ISERROR(VLOOKUP(F801,[1]Kontoplan!A:D,2,0)),\"Konto findes ikke!\",VLOOKUP(F801,[1]Kontoplan!A:D,2,0)))","v":"Bank konto"}]
["2016-12-23",null,"Dragonfest, Bjarne Hansen",null,null,1050,null,150,{"$f":"IF(F802=\"\",\"\",IF(ISERROR(VLOOKUP(F802,[1]Kontoplan!A:D,2,0)),\"Konto findes ikke!\",VLOOKUP(F802,[1]Kontoplan!A:D,2,0)))","v":"Deltagergebyr, Dragonfest"}]
["2016-12-27",6,"overnatning bestyrmøde 23.11.16",null,null,12310,null,285.14999999999998,{"$f":"IF(F803=\"\",\"\",IF(ISERROR(VLOOKUP(F803,[1]Kontoplan!A:D,2,0)),\"Konto findes ikke!\",VLOOKUP(F803,[1]Kontoplan!A:D,2,0)))","v":"Bank konto"}]
["2016-12-27",6,"overnatning bestyrmøde 23.11.17",null,null,2180,285.14999999999998,null,{"$f":"IF(F804=\"\",\"\",IF(ISERROR(VLOOKUP(F804,[1]Kontoplan!A:D,2,0)),\"Konto findes ikke!\",VLOOKUP(F804,[1]Kontoplan!A:D,2,0)))","v":"Bestyrelses møder"}]
["2016-12-27",null,"Kontingent, Sven Haugaard Jørgensen",91,2017,1000,null,100,{"$f":"IF(F805=\"\",\"\",IF(ISERROR(VLOOKUP(F805,[1]Kontoplan!A:D,2,0)),\"Konto findes ikke!\",VLOOKUP(F805,[1]Kontoplan!A:D,2,0)))","v":"Kontingenter"}]
["2016-12-27",null,"Kontingent, Sven Haugaard Jørgensen",null,null,12310,100,null,{"$f":"IF(F806=\"\",\"\",IF(ISERROR(VLOOKUP(F806,[1]Kontoplan!A:D,2,0)),\"Konto findes ikke!\",VLOOKUP(F806,[1]Kontoplan!A:D,2,0)))","v":"Bank konto"}]
["2016-12-27",null,"Dragonfest, Henrik Pedersen",null,null,12310,150,null,{"$f":"IF(F807=\"\",\"\",IF(ISERROR(VLOOKUP(F807,[1]Kontoplan!A:D,2,0)),\"Konto findes ikke!\",VLOOKUP(F807,[1]Kontoplan!A:D,2,0)))","v":"Bank konto"}]
["2016-12-27",null,"Dragonfest, Henrik Pedersen",null,null,1050,null,150,{"$f":"IF(F808=\"\",\"\",IF(ISERROR(VLOOKUP(F808,[1]Kontoplan!A:D,2,0)),\"Konto findes ikke!\",VLOOKUP(F808,[1]Kontoplan!A:D,2,0)))","v":"Deltagergebyr, Dragonfest"}]
["2016-12-27",null,"Dragonfest, Kim Jensen",null,null,12310,150,null,{"$f":"IF(F809=\"\",\"\",IF(ISERROR(VLOOKUP(F809,[1]Kontoplan!A:D,2,0)),\"Konto findes ikke!\",VLOOKUP(F809,[1]Kontoplan!A:D,2,0)))","v":"Bank konto"}]
["2016-12-27",null,"Dragonfest, Kim Jensen",null,null,1050,null,150,{"$f":"IF(F810=\"\",\"\",IF(ISERROR(VLOOKUP(F810,[1]Kontoplan!A:D,2,0)),\"Konto findes ikke!\",VLOOKUP(F810,[1]Kontoplan!A:D,2,0)))","v":"Deltagergebyr, Dragonfest"}]
["2016-12-28",7,"Forplej. Skruedag",null,null,12310,null,400,{"$f":"IF(F811=\"\",\"\",IF(ISERROR(VLOOKUP(F811,[1]Kontoplan!A:D,2,0)),\"Konto findes ikke!\",VLOOKUP(F811,[1]Kontoplan!A:D,2,0)))","v":"Bank konto"}]
["2016-12-28",7,"Forplej. Skruedag",null,null,2100,400,null,{"$f":"IF(F812=\"\",\"\",IF(ISERROR(VLOOKUP(F812,[1]Kontoplan!A:D,2,0)),\"Konto findes ikke!\",VLOOKUP(F812,[1]Kontoplan!A:D,2,0)))","v":"Forplejning til møder/Rejser"}]
["2016-12-28",null,"Dragonfest, Kim Johansen",null,null,12310,150,null,{"$f":"IF(F813=\"\",\"\",IF(ISERROR(VLOOKUP(F813,[1]Kontoplan!A:D,2,0)),\"Konto findes ikke!\",VLOOKUP(F813,[1]Kontoplan!A:D,2,0)))","v":"Bank konto"}]
["2016-12-28",null,"Dragonfest, Kim Johansen",null,null,1050,null,150,{"$f":"IF(F814=\"\",\"\",IF(ISERROR(VLOOKUP(F814,[1]Kontoplan!A:D,2,0)),\"Konto findes ikke!\",VLOOKUP(F814,[1]Kontoplan!A:D,2,0)))","v":"Deltagergebyr, Dragonfest"}]
["2016-12-28",null,"Dragonfest, Kim Johansen",null,null,12310,150,null,{"$f":"IF(F815=\"\",\"\",IF(ISERROR(VLOOKUP(F815,[1]Kontoplan!A:D,2,0)),\"Konto findes ikke!\",VLOOKUP(F815,[1]Kontoplan!A:D,2,0)))","v":"Bank konto"}]
["2016-12-28",null,"Dragonfest, Kim Johansen",null,null,1050,null,150,{"$f":"IF(F816=\"\",\"\",IF(ISERROR(VLOOKUP(F816,[1]Kontoplan!A:D,2,0)),\"Konto findes ikke!\",VLOOKUP(F816,[1]Kontoplan!A:D,2,0)))","v":"Deltagergebyr, Dragonfest"}]
["2016-12-29",null,"Dragonfest, Kaj Ingvorsen",null,null,12310,150,null,{"$f":"IF(F817=\"\",\"\",IF(ISERROR(VLOOKUP(F817,[1]Kontoplan!A:D,2,0)),\"Konto findes ikke!\",VLOOKUP(F817,[1]Kontoplan!A:D,2,0)))","v":"Bank konto"}]
["2016-12-29",null,"Dragonfest, Kaj Ingvorsen",null,null,1050,null,150,{"$f":"IF(F818=\"\",\"\",IF(ISERROR(VLOOKUP(F818,[1]Kontoplan!A:D,2,0)),\"Konto findes ikke!\",VLOOKUP(F818,[1]Kontoplan!A:D,2,0)))","v":"Deltagergebyr, Dragonfest"}]
["2016-12-30",null,"Dragonfest, Michael Fausing",null,null,12310,150,null,{"$f":"IF(F819=\"\",\"\",IF(ISERROR(VLOOKUP(F819,[1]Kontoplan!A:D,2,0)),\"Konto findes ikke!\",VLOOKUP(F819,[1]Kontoplan!A:D,2,0)))","v":"Bank konto"}]
["2016-12-30",null,"Dragonfest, Michael Fausing",null,null,1050,null,150,{"$f":"IF(F820=\"\",\"\",IF(ISERROR(VLOOKUP(F820,[1]Kontoplan!A:D,2,0)),\"Konto findes ikke!\",VLOOKUP(F820,[1]Kontoplan!A:D,2,0)))","v":"Deltagergebyr, Dragonfest"}]
["2016-12-30",null,"Dragonfest, E.A. Larsen",null,null,12310,150,null,{"$f":"IF(F821=\"\",\"\",IF(ISERROR(VLOOKUP(F821,[1]Kontoplan!A:D,2,0)),\"Konto findes ikke!\",VLOOKUP(F821,[1]Kontoplan!A:D,2,0)))","v":"Bank konto"}]
["2016-12-30",null,"Dragonfest, E.A. Larsen",null,null,1050,null,150,{"$f":"IF(F822=\"\",\"\",IF(ISERROR(VLOOKUP(F822,[1]Kontoplan!A:D,2,0)),\"Konto findes ikke!\",VLOOKUP(F822,[1]Kontoplan!A:D,2,0)))","v":"Deltagergebyr, Dragonfest"}]
["2016-12-30",null,"Dragonfest, Tommy Kiel",null,null,12310,150,null,{"$f":"IF(F823=\"\",\"\",IF(ISERROR(VLOOKUP(F823,[1]Kontoplan!A:D,2,0)),\"Konto findes ikke!\",VLOOKUP(F823,[1]Kontoplan!A:D,2,0)))","v":"Bank konto"}]
["2016-12-30",null,"Dragonfest, Tommy Kiel",null,null,1050,null,150,{"$f":"IF(F824=\"\",\"\",IF(ISERROR(VLOOKUP(F824,[1]Kontoplan!A:D,2,0)),\"Konto findes ikke!\",VLOOKUP(F824,[1]Kontoplan!A:D,2,0)))","v":"Deltagergebyr, Dragonfest"}]
["2016-12-30",null,"Dragonfest, Essemann-Bech",null,null,12310,150,null,{"$f":"IF(F825=\"\",\"\",IF(ISERROR(VLOOKUP(F825,[1]Kontoplan!A:D,2,0)),\"Konto findes ikke!\",VLOOKUP(F825,[1]Kontoplan!A:D,2,0)))","v":"Bank konto"}]
["2016-12-30",null,"Dragonfest, Essemann-Bech",null,null,1050,null,150,{"$f":"IF(F826=\"\",\"\",IF(ISERROR(VLOOKUP(F826,[1]Kontoplan!A:D,2,0)),\"Konto findes ikke!\",VLOOKUP(F826,[1]Kontoplan!A:D,2,0)))","v":"Deltagergebyr, Dragonfest"}]
["2016-12-30",null,"Dragonfest, Palle Schrøder Andersen",null,null,12310,150,null,{"$f":"IF(F827=\"\",\"\",IF(ISERROR(VLOOKUP(F827,[1]Kontoplan!A:D,2,0)),\"Konto findes ikke!\",VLOOKUP(F827,[1]Kontoplan!A:D,2,0)))","v":"Bank konto"}]
["2016-12-30",null,"Dragonfest, Palle Schrøder Andersen",null,null,1050,null,150,{"$f":"IF(F828=\"\",\"\",IF(ISERROR(VLOOKUP(F828,[1]Kontoplan!A:D,2,0)),\"Konto findes ikke!\",VLOOKUP(F828,[1]Kontoplan!A:D,2,0)))","v":"Deltagergebyr, Dragonfest"}]
["2016-12-30",null,"Dragonfest, Ole Holm",null,null,12310,245,null,{"$f":"IF(F829=\"\",\"\",IF(ISERROR(VLOOKUP(F829,[1]Kontoplan!A:D,2,0)),\"Konto findes ikke!\",VLOOKUP(F829,[1]Kontoplan!A:D,2,0)))","v":"Bank konto"}]
["2016-12-30",null,"Dragonfest, Ole Holm",null,null,1050,null,245,{"$f":"IF(F830=\"\",\"\",IF(ISERROR(VLOOKUP(F830,[1]Kontoplan!A:D,2,0)),\"Konto findes ikke!\",VLOOKUP(F830,[1]Kontoplan!A:D,2,0)))","v":"Deltagergebyr, Dragonfest"},"??"]
["2016-12-30",null,"Gebyr ifølge nota",null,null,12310,null,75,{"$f":"IF(F831=\"\",\"\",IF(ISERROR(VLOOKUP(F831,[1]Kontoplan!A:D,2,0)),\"Konto findes ikke!\",VLOOKUP(F831,[1]Kontoplan!A:D,2,0)))","v":"Bank konto"}]
["2016-12-30",null,"Gebyr ifølge nota",null,null,2130,75,null,{"$f":"IF(F832=\"\",\"\",IF(ISERROR(VLOOKUP(F832,[1]Kontoplan!A:D,2,0)),\"Konto findes ikke!\",VLOOKUP(F832,[1]Kontoplan!A:D,2,0)))","v":"Bankgebyr/Renter"}]
["2016-12-31",null,"Dragonfest, Eilief G Andersen",null,null,12310,150,null,{"$f":"IF(F833=\"\",\"\",IF(ISERROR(VLOOKUP(F833,[1]Kontoplan!A:D,2,0)),\"Konto findes ikke!\",VLOOKUP(F833,[1]Kontoplan!A:D,2,0)))","v":"Bank konto"}]
["2016-12-31",null,"Dragonfest, Eilief G Andersen",null,null,1050,null,150,{"$f":"IF(F834=\"\",\"\",IF(ISERROR(VLOOKUP(F834,[1]Kontoplan!A:D,2,0)),\"Konto findes ikke!\",VLOOKUP(F834,[1]Kontoplan!A:D,2,0)))","v":"Deltagergebyr, Dragonfest"}]
["2017-01-01",null,"Dragonfest, Bent Ellevang",null,null,12310,380,null,{"$f":"IF(F835=\"\",\"\",IF(ISERROR(VLOOKUP(F835,[1]Kontoplan!A:D,2,0)),\"Konto findes ikke!\",VLOOKUP(F835,[1]Kontoplan!A:D,2,0)))","v":"Bank konto"}]
["2017-01-01",null,"Dragonfest, Bent Ellevang",null,null,1050,null,150,{"$f":"IF(F836=\"\",\"\",IF(ISERROR(VLOOKUP(F836,[1]Kontoplan!A:D,2,0)),\"Konto findes ikke!\",VLOOKUP(F836,[1]Kontoplan!A:D,2,0)))","v":"Deltagergebyr, Dragonfest"}]
["2017-01-01",null,"Dragonfest, Bent Ellevang",null,null,1040,null,150,{"$f":"IF(F837=\"\",\"\",IF(ISERROR(VLOOKUP(F837,[1]Kontoplan!A:D,2,0)),\"Konto findes ikke!\",VLOOKUP(F837,[1]Kontoplan!A:D,2,0)))","v":"Udlejning af værelser"}]
["2017-01-01",null,"Dragonfest, Bent Ellevang",null,null,1030,null,80,{"$f":"IF(F838=\"\",\"\",IF(ISERROR(VLOOKUP(F838,[1]Kontoplan!A:D,2,0)),\"Konto findes ikke!\",VLOOKUP(F838,[1]Kontoplan!A:D,2,0)))","v":"Salg af morgenmad"}]
["2017-01-02",null,"Dragonfest, Kim Bjelstrand",null,null,12310,150,null,{"$f":"IF(F839=\"\",\"\",IF(ISERROR(VLOOKUP(F839,[1]Kontoplan!A:D,2,0)),\"Konto findes ikke!\",VLOOKUP(F839,[1]Kontoplan!A:D,2,0)))","v":"Bank konto"}]
["2017-01-02",null,"Dragonfest, Kim Bjelstrand",null,null,1050,null,150,{"$f":"IF(F840=\"\",\"\",IF(ISERROR(VLOOKUP(F840,[1]Kontoplan!A:D,2,0)),\"Konto findes ikke!\",VLOOKUP(F840,[1]Kontoplan!A:D,2,0)))","v":"Deltagergebyr, Dragonfest"}]
["2017-01-02",null,"Dragonfest, Hans-Jørgen Jensen",null,null,12310,255,null,{"$f":"IF(F841=\"\",\"\",IF(ISERROR(VLOOKUP(F841,[1]Kontoplan!A:D,2,0)),\"Konto findes ikke!\",VLOOKUP(F841,[1]Kontoplan!A:D,2,0)))","v":"Bank konto"}]
["2017-01-02",null,"Dragonfest, Hans-Jørgen Jensen",null,null,1050,null,255,{"$f":"IF(F842=\"\",\"\",IF(ISERROR(VLOOKUP(F842,[1]Kontoplan!A:D,2,0)),\"Konto findes ikke!\",VLOOKUP(F842,[1]Kontoplan!A:D,2,0)))","v":"Deltagergebyr, Dragonfest"},"Hvad dækker resten"]
["2017-01-02",null,"Dragonfest, Ebbe Michael Jensen",null,null,12310,150,null,{"$f":"IF(F843=\"\",\"\",IF(ISERROR(VLOOKUP(F843,[1]Kontoplan!A:D,2,0)),\"Konto findes ikke!\",VLOOKUP(F843,[1]Kontoplan!A:D,2,0)))","v":"Bank konto"}]
["2017-01-02",null,"Dragonfest, Ebbe Michael Jensen",null,null,1050,null,150,{"$f":"IF(F844=\"\",\"\",IF(ISERROR(VLOOKUP(F844,[1]Kontoplan!A:D,2,0)),\"Konto findes ikke!\",VLOOKUP(F844,[1]Kontoplan!A:D,2,0)))","v":"Deltagergebyr, Dragonfest"}]
["2017-01-02",null,"Dragonfest, Ebbe Gejl Hansen",null,null,12310,150,null,{"$f":"IF(F845=\"\",\"\",IF(ISERROR(VLOOKUP(F845,[1]Kontoplan!A:D,2,0)),\"Konto findes ikke!\",VLOOKUP(F845,[1]Kontoplan!A:D,2,0)))","v":"Bank konto"}]
["2017-01-02",null,"Dragonfest, Ebbe Gejl Hansen",null,null,1050,null,150,{"$f":"IF(F846=\"\",\"\",IF(ISERROR(VLOOKUP(F846,[1]Kontoplan!A:D,2,0)),\"Konto findes ikke!\",VLOOKUP(F846,[1]Kontoplan!A:D,2,0)))","v":"Deltagergebyr, Dragonfest"}]
["2017-01-05",null,"kontingent, Piet Andreasen",null,null,12310,100,null,{"$f":"IF(F847=\"\",\"\",IF(ISERROR(VLOOKUP(F847,[1]Kontoplan!A:D,2,0)),\"Konto findes ikke!\",VLOOKUP(F847,[1]Kontoplan!A:D,2,0)))","v":"Bank konto"}]
["2017-01-05",null,"kontingent, Piet Andreasen",null,null,1000,null,100,{"$f":"IF(F848=\"\",\"\",IF(ISERROR(VLOOKUP(F848,[1]Kontoplan!A:D,2,0)),\"Konto findes ikke!\",VLOOKUP(F848,[1]Kontoplan!A:D,2,0)))","v":"Kontingenter"}]
["2017-01-11",8,"Reservedele, TA Motor AB",null,null,12310,null,3664.37,{"$f":"IF(F849=\"\",\"\",IF(ISERROR(VLOOKUP(F849,[1]Kontoplan!A:D,2,0)),\"Konto findes ikke!\",VLOOKUP(F849,[1]Kontoplan!A:D,2,0)))","v":"Bank konto"}]
["2017-01-11",8,"Reservedele, TA Motor AB",null,null,2080,3664.37,null,{"$f":"IF(F850=\"\",\"\",IF(ISERROR(VLOOKUP(F850,[1]Kontoplan!A:D,2,0)),\"Konto findes ikke!\",VLOOKUP(F850,[1]Kontoplan!A:D,2,0)))","v":"Reservedele"}]
["2017-01-13",9,"Gave til  KM",null,null,12310,null,289.75,{"$f":"IF(F851=\"\",\"\",IF(ISERROR(VLOOKUP(F851,[1]Kontoplan!A:D,2,0)),\"Konto findes ikke!\",VLOOKUP(F851,[1]Kontoplan!A:D,2,0)))","v":"Bank konto"},"Rådhuskiosken"]
["2017-01-13",9,"Gave til  KM",null,null,2070,289.75,null,{"$f":"IF(F852=\"\",\"\",IF(ISERROR(VLOOKUP(F852,[1]Kontoplan!A:D,2,0)),\"Konto findes ikke!\",VLOOKUP(F852,[1]Kontoplan!A:D,2,0)))","v":"Gaver"},"Rådhuskiosken"]
["2017-01-16",10,"Mad, morgenmad til GF",null,null,12310,null,5260,{"$f":"IF(F853=\"\",\"\",IF(ISERROR(VLOOKUP(F853,[1]Kontoplan!A:D,2,0)),\"Konto findes ikke!\",VLOOKUP(F853,[1]Kontoplan!A:D,2,0)))","v":"Bank konto"}]
["2017-01-16",10,"Mad, morgenmad til GF",null,null,2030,560,null,{"$f":"IF(F854=\"\",\"\",IF(ISERROR(VLOOKUP(F854,[1]Kontoplan!A:D,2,0)),\"Konto findes ikke!\",VLOOKUP(F854,[1]Kontoplan!A:D,2,0)))","v":"Morgenmad/GF"}]
["2017-01-16",10,"Mad, morgenmad til GF",null,null,2090,4700,null,{"$f":"IF(F855=\"\",\"\",IF(ISERROR(VLOOKUP(F855,[1]Kontoplan!A:D,2,0)),\"Konto findes ikke!\",VLOOKUP(F855,[1]Kontoplan!A:D,2,0)))","v":"Mad til Dragonfest"}]
["2017-01-17",null,"mærker, Kurt Munch",null,null,12310,350,null,{"$f":"IF(F856=\"\",\"\",IF(ISERROR(VLOOKUP(F856,[1]Kontoplan!A:D,2,0)),\"Konto findes ikke!\",VLOOKUP(F856,[1]Kontoplan!A:D,2,0)))","v":"Bank konto"}]
["2017-01-17",null,"mærker, Kurt Munch",null,null,1010,null,350,{"$f":"IF(F857=\"\",\"\",IF(ISERROR(VLOOKUP(F857,[1]Kontoplan!A:D,2,0)),\"Konto findes ikke!\",VLOOKUP(F857,[1]Kontoplan!A:D,2,0)))","v":"Salg af mærker"}]
["2017-01-18",11,"Skruedag i neksø ",null,null,12310,null,110.55,{"$f":"IF(F858=\"\",\"\",IF(ISERROR(VLOOKUP(F858,[1]Kontoplan!A:D,2,0)),\"Konto findes ikke!\",VLOOKUP(F858,[1]Kontoplan!A:D,2,0)))","v":"Bank konto"}]
["2017-01-18",11,"Skruedag i neksø ",null,null,2100,110.55,null,{"$f":"IF(F859=\"\",\"\",IF(ISERROR(VLOOKUP(F859,[1]Kontoplan!A:D,2,0)),\"Konto findes ikke!\",VLOOKUP(F859,[1]Kontoplan!A:D,2,0)))","v":"Forplejning til møder/Rejser"},"Netto neksø"]
["2017-01-18","10A","Kontant indbetalt",null,null,12310,3170.5,null,{"$f":"IF(F860=\"\",\"\",IF(ISERROR(VLOOKUP(F860,[1]Kontoplan!A:D,2,0)),\"Konto findes ikke!\",VLOOKUP(F860,[1]Kontoplan!A:D,2,0)))","v":"Bank konto"}]
["2017-01-18","10A","Kontant indbetalt",null,null,1020,null,3170.5,{"$f":"IF(F861=\"\",\"\",IF(ISERROR(VLOOKUP(F861,[1]Kontoplan!A:D,2,0)),\"Konto findes ikke!\",VLOOKUP(F861,[1]Kontoplan!A:D,2,0)))","v":"Salg af øl + vand"}]
["2017-01-30",12,"Skruedag AK",null,null,12310,null,248,{"$f":"IF(F862=\"\",\"\",IF(ISERROR(VLOOKUP(F862,[1]Kontoplan!A:D,2,0)),\"Konto findes ikke!\",VLOOKUP(F862,[1]Kontoplan!A:D,2,0)))","v":"Bank konto"}]
["2017-01-30",12,"Skruedag AK",null,null,2100,248,null,{"$f":"IF(F863=\"\",\"\",IF(ISERROR(VLOOKUP(F863,[1]Kontoplan!A:D,2,0)),\"Konto findes ikke!\",VLOOKUP(F863,[1]Kontoplan!A:D,2,0)))","v":"Forplejning til møder/Rejser"},"Gartnervangens grill"]
["2017-02-08",13,"Hjemmeside, Hostmaster",null,null,12310,null,45,{"$f":"IF(F864=\"\",\"\",IF(ISERROR(VLOOKUP(F864,[1]Kontoplan!A:D,2,0)),\"Konto findes ikke!\",VLOOKUP(F864,[1]Kontoplan!A:D,2,0)))","v":"Bank konto"}]
["2017-02-08",13,"Hjemmeside, Hostmaster",null,null,2120,45,null,{"$f":"IF(F865=\"\",\"\",IF(ISERROR(VLOOKUP(F865,[1]Kontoplan!A:D,2,0)),\"Konto findes ikke!\",VLOOKUP(F865,[1]Kontoplan!A:D,2,0)))","v":"Hjemmeside"}]
["2017-02-10",null,"Fond, Veluxfonden",null,null,12310,20000,null,{"$f":"IF(F866=\"\",\"\",IF(ISERROR(VLOOKUP(F866,[1]Kontoplan!A:D,2,0)),\"Konto findes ikke!\",VLOOKUP(F866,[1]Kontoplan!A:D,2,0)))","v":"Bank konto"}]
["2017-02-10",null,"Fond, Veluxfonden",null,null,1070,null,20000,{"$f":"IF(F867=\"\",\"\",IF(ISERROR(VLOOKUP(F867,[1]Kontoplan!A:D,2,0)),\"Konto findes ikke!\",VLOOKUP(F867,[1]Kontoplan!A:D,2,0)))","v":"Fonde"}]
["2017-02-10",null,"Tibage betalt lån, Jan W. Jensen",null,null,12310,null,6000,{"$f":"IF(F868=\"\",\"\",IF(ISERROR(VLOOKUP(F868,[1]Kontoplan!A:D,2,0)),\"Konto findes ikke!\",VLOOKUP(F868,[1]Kontoplan!A:D,2,0)))","v":"Bank konto"}]
["2017-02-10",null,"Tibage betalt lån, Jan W. Jensen",null,null,2050,6000,null,{"$f":"IF(F869=\"\",\"\",IF(ISERROR(VLOOKUP(F869,[1]Kontoplan!A:D,2,0)),\"Konto findes ikke!\",VLOOKUP(F869,[1]Kontoplan!A:D,2,0)))","v":"Tilbage betaling af Private lån"}]
["2017-02-10",null,"Tibage betalt lån, Per Nielsen",null,null,12310,null,6000,{"$f":"IF(F870=\"\",\"\",IF(ISERROR(VLOOKUP(F870,[1]Kontoplan!A:D,2,0)),\"Konto findes ikke!\",VLOOKUP(F870,[1]Kontoplan!A:D,2,0)))","v":"Bank konto"}]
["2017-02-10",null,"Tibage betalt lån, Per Nielsen",null,null,2050,6000,null,{"$f":"IF(F871=\"\",\"\",IF(ISERROR(VLOOKUP(F871,[1]Kontoplan!A:D,2,0)),\"Konto findes ikke!\",VLOOKUP(F871,[1]Kontoplan!A:D,2,0)))","v":"Tilbage betaling af Private lån"}]
["2017-02-10",null,"Tibage betalt lån, Stoffer",null,null,12310,null,6000,{"$f":"IF(F872=\"\",\"\",IF(ISERROR(VLOOKUP(F872,[1]Kontoplan!A:D,2,0)),\"Konto findes ikke!\",VLOOKUP(F872,[1]Kontoplan!A:D,2,0)))","v":"Bank konto"}]
["2017-02-10",null,"Tibage betalt lån, Stoffer",null,null,2050,6000,null,{"$f":"IF(F873=\"\",\"\",IF(ISERROR(VLOOKUP(F873,[1]Kontoplan!A:D,2,0)),\"Konto findes ikke!\",VLOOKUP(F873,[1]Kontoplan!A:D,2,0)))","v":"Tilbage betaling af Private lån"}]
["2017-02-11",14,"Rep. Af køler",null,null,12310,null,8118.75,{"$f":"IF(F874=\"\",\"\",IF(ISERROR(VLOOKUP(F874,[1]Kontoplan!A:D,2,0)),\"Konto findes ikke!\",VLOOKUP(F874,[1]Kontoplan!A:D,2,0)))","v":"Bank konto"}]
["2017-02-11",14,"Rep. Af køler",null,null,2085,8118.75,null,{"$f":"IF(F875=\"\",\"\",IF(ISERROR(VLOOKUP(F875,[1]Kontoplan!A:D,2,0)),\"Konto findes ikke!\",VLOOKUP(F875,[1]Kontoplan!A:D,2,0)))","v":"Diverse Reperationer"},"Køler 2"]
["2017-02-23",15,"Overnat. GF",null,null,12310,null,784.16,{"$f":"IF(F876=\"\",\"\",IF(ISERROR(VLOOKUP(F876,[1]Kontoplan!A:D,2,0)),\"Konto findes ikke!\",VLOOKUP(F876,[1]Kontoplan!A:D,2,0)))","v":"Bank konto"}]
["2017-02-23",15,"Overnat. GF",null,null,2040,784.16,null,{"$f":"IF(F877=\"\",\"\",IF(ISERROR(VLOOKUP(F877,[1]Kontoplan!A:D,2,0)),\"Konto findes ikke!\",VLOOKUP(F877,[1]Kontoplan!A:D,2,0)))","v":"Værelser/GF"}]
["2017-03-03",16,"Prøver på mærker",null,null,12310,null,527.5,{"$f":"IF(F878=\"\",\"\",IF(ISERROR(VLOOKUP(F878,[1]Kontoplan!A:D,2,0)),\"Konto findes ikke!\",VLOOKUP(F878,[1]Kontoplan!A:D,2,0)))","v":"Bank konto"}]
["2017-03-03",16,"Prøver på mærker",null,null,2020,527.5,null,{"$f":"IF(F879=\"\",\"\",IF(ISERROR(VLOOKUP(F879,[1]Kontoplan!A:D,2,0)),\"Konto findes ikke!\",VLOOKUP(F879,[1]Kontoplan!A:D,2,0)))","v":"Indkøb af mærker"}]
["2017-03-08",17,"Reservedele, Bornholms elektromotor",null,null,12310,null,280,{"$f":"IF(F880=\"\",\"\",IF(ISERROR(VLOOKUP(F880,[1]Kontoplan!A:D,2,0)),\"Konto findes ikke!\",VLOOKUP(F880,[1]Kontoplan!A:D,2,0)))","v":"Bank konto"}]
["2017-03-08",17,"Reservedele, Bornholms elektromotor",null,null,2080,280,null,{"$f":"IF(F881=\"\",\"\",IF(ISERROR(VLOOKUP(F881,[1]Kontoplan!A:D,2,0)),\"Konto findes ikke!\",VLOOKUP(F881,[1]Kontoplan!A:D,2,0)))","v":"Reservedele"}]
["2017-03-08",18,"Reservedele, jem og fix",null,null,12310,null,249,{"$f":"IF(F882=\"\",\"\",IF(ISERROR(VLOOKUP(F882,[1]Kontoplan!A:D,2,0)),\"Konto findes ikke!\",VLOOKUP(F882,[1]Kontoplan!A:D,2,0)))","v":"Bank konto"}]
["2017-03-08",18,"Reservedele, jem og fix",null,null,2080,249,null,{"$f":"IF(F883=\"\",\"\",IF(ISERROR(VLOOKUP(F883,[1]Kontoplan!A:D,2,0)),\"Konto findes ikke!\",VLOOKUP(F883,[1]Kontoplan!A:D,2,0)))","v":"Reservedele"}]
["2017-03-17",19,"Forplej. Skruedag",null,null,12310,null,159.88,{"$f":"IF(F884=\"\",\"\",IF(ISERROR(VLOOKUP(F884,[1]Kontoplan!A:D,2,0)),\"Konto findes ikke!\",VLOOKUP(F884,[1]Kontoplan!A:D,2,0)))","v":"Bank konto"}]
["2017-03-17",19,"Forplej. Skruedag",null,null,2100,159.88,null,{"$f":"IF(F885=\"\",\"\",IF(ISERROR(VLOOKUP(F885,[1]Kontoplan!A:D,2,0)),\"Konto findes ikke!\",VLOOKUP(F885,[1]Kontoplan!A:D,2,0)))","v":"Forplejning til møder/Rejser"}]
["2017-03-22",null,"Tilskud, Kastellets venner",null,null,12310,3500,null,{"$f":"IF(F886=\"\",\"\",IF(ISERROR(VLOOKUP(F886,[1]Kontoplan!A:D,2,0)),\"Konto findes ikke!\",VLOOKUP(F886,[1]Kontoplan!A:D,2,0)))","v":"Bank konto"}]
["2017-03-22",null,"Tilskud, Kastellets venner",null,null,1070,null,3500,{"$f":"IF(F887=\"\",\"\",IF(ISERROR(VLOOKUP(F887,[1]Kontoplan!A:D,2,0)),\"Konto findes ikke!\",VLOOKUP(F887,[1]Kontoplan!A:D,2,0)))","v":"Fonde"},"Tilskud til trappe"]
["2017-03-23",null,"Fonde, Bornholms Brand",null,null,12310,5000,null,{"$f":"IF(F888=\"\",\"\",IF(ISERROR(VLOOKUP(F888,[1]Kontoplan!A:D,2,0)),\"Konto findes ikke!\",VLOOKUP(F888,[1]Kontoplan!A:D,2,0)))","v":"Bank konto"}]
["2017-03-23",null,"Fonde, Bornholms Brand",null,null,1070,null,5000,{"$f":"IF(F889=\"\",\"\",IF(ISERROR(VLOOKUP(F889,[1]Kontoplan!A:D,2,0)),\"Konto findes ikke!\",VLOOKUP(F889,[1]Kontoplan!A:D,2,0)))","v":"Fonde"},"Tilskud til trappe"]
["2017-03-27",20,"Trappe",null,null,12310,null,13285.74,{"$f":"IF(F890=\"\",\"\",IF(ISERROR(VLOOKUP(F890,[1]Kontoplan!A:D,2,0)),\"Konto findes ikke!\",VLOOKUP(F890,[1]Kontoplan!A:D,2,0)))","v":"Bank konto"}]
["2017-03-27",20,"Trappe",null,null,2190,13285.74,null,{"$f":"IF(F891=\"\",\"\",IF(ISERROR(VLOOKUP(F891,[1]Kontoplan!A:D,2,0)),\"Konto findes ikke!\",VLOOKUP(F891,[1]Kontoplan!A:D,2,0)))","v":"Diverse Indkøb"}]
["2017-03-31",null,"Gebyr ifølge nota",null,null,12310,null,75,{"$f":"IF(F892=\"\",\"\",IF(ISERROR(VLOOKUP(F892,[1]Kontoplan!A:D,2,0)),\"Konto findes ikke!\",VLOOKUP(F892,[1]Kontoplan!A:D,2,0)))","v":"Bank konto"}]
["2017-03-31",null,"Gebyr ifølge nota",null,null,2130,75,null,{"$f":"IF(F893=\"\",\"\",IF(ISERROR(VLOOKUP(F893,[1]Kontoplan!A:D,2,0)),\"Konto findes ikke!\",VLOOKUP(F893,[1]Kontoplan!A:D,2,0)))","v":"Bankgebyr/Renter"}]
["2017-04-18",21,"indkøb af mærker",null,null,12310,null,2062.5,{"$f":"IF(F894=\"\",\"\",IF(ISERROR(VLOOKUP(F894,[1]Kontoplan!A:D,2,0)),\"Konto findes ikke!\",VLOOKUP(F894,[1]Kontoplan!A:D,2,0)))","v":"Bank konto"}]
["2017-04-18",21,"indkøb af mærker",null,null,2020,2062.5,null,{"$f":"IF(F895=\"\",\"\",IF(ISERROR(VLOOKUP(F895,[1]Kontoplan!A:D,2,0)),\"Konto findes ikke!\",VLOOKUP(F895,[1]Kontoplan!A:D,2,0)))","v":"Indkøb af mærker"}]
["2017-05-04",null,"Fonde, Bornholms Brand",null,null,12310,4500,null,{"$f":"IF(F896=\"\",\"\",IF(ISERROR(VLOOKUP(F896,[1]Kontoplan!A:D,2,0)),\"Konto findes ikke!\",VLOOKUP(F896,[1]Kontoplan!A:D,2,0)))","v":"Bank konto"}]
["2017-05-04",null,"Fonde, Bornholms Brand",null,null,1070,null,4500,{"$f":"IF(F897=\"\",\"\",IF(ISERROR(VLOOKUP(F897,[1]Kontoplan!A:D,2,0)),\"Konto findes ikke!\",VLOOKUP(F897,[1]Kontoplan!A:D,2,0)))","v":"Fonde"}]
["2017-05-29",22,"Forplejning omskoling",null,null,12310,null,960,{"$f":"IF(F898=\"\",\"\",IF(ISERROR(VLOOKUP(F898,[1]Kontoplan!A:D,2,0)),\"Konto findes ikke!\",VLOOKUP(F898,[1]Kontoplan!A:D,2,0)))","v":"Bank konto"}]
["2017-05-29",22,"omskoling",null,null,2100,960,null,{"$f":"IF(F899=\"\",\"\",IF(ISERROR(VLOOKUP(F899,[1]Kontoplan!A:D,2,0)),\"Konto findes ikke!\",VLOOKUP(F899,[1]Kontoplan!A:D,2,0)))","v":"Forplejning til møder/Rejser"},"Gartnervangens grill"]
["2017-05-30",23,"Flaskepant, indsat",null,null,12310,180,null,{"$f":"IF(F900=\"\",\"\",IF(ISERROR(VLOOKUP(F900,[1]Kontoplan!A:D,2,0)),\"Konto findes ikke!\",VLOOKUP(F900,[1]Kontoplan!A:D,2,0)))","v":"Bank konto"}]
["2017-05-30",23,"Flaskepant, indsat",null,null,1020,null,180,{"$f":"IF(F901=\"\",\"\",IF(ISERROR(VLOOKUP(F901,[1]Kontoplan!A:D,2,0)),\"Konto findes ikke!\",VLOOKUP(F901,[1]Kontoplan!A:D,2,0)))","v":"Salg af øl + vand"}]
["2017-05-30",null,"Mærker, Per Nielsen",null,null,12310,100,null,{"$f":"IF(F902=\"\",\"\",IF(ISERROR(VLOOKUP(F902,[1]Kontoplan!A:D,2,0)),\"Konto findes ikke!\",VLOOKUP(F902,[1]Kontoplan!A:D,2,0)))","v":"Bank konto"}]
["2017-05-30",null,"Mærker, Per Nielsen",null,null,1010,null,100,{"$f":"IF(F903=\"\",\"\",IF(ISERROR(VLOOKUP(F903,[1]Kontoplan!A:D,2,0)),\"Konto findes ikke!\",VLOOKUP(F903,[1]Kontoplan!A:D,2,0)))","v":"Salg af mærker"},"2 stofmærker"]
["2017-05-30",null,"Blomster, Fiskers Båre",null,null,12310,100,null,{"$f":"IF(F904=\"\",\"\",IF(ISERROR(VLOOKUP(F904,[1]Kontoplan!A:D,2,0)),\"Konto findes ikke!\",VLOOKUP(F904,[1]Kontoplan!A:D,2,0)))","v":"Bank konto"}]
["2017-05-30",null,"Blomster, Fiskers Båre",null,null,1090,null,100,{"$f":"IF(F905=\"\",\"\",IF(ISERROR(VLOOKUP(F905,[1]Kontoplan!A:D,2,0)),\"Konto findes ikke!\",VLOOKUP(F905,[1]Kontoplan!A:D,2,0)))","v":"Indsamling begravelser"}]
["2017-05-30",null,"Blomster, Fiskers Båre",null,null,12310,50,null,{"$f":"IF(F906=\"\",\"\",IF(ISERROR(VLOOKUP(F906,[1]Kontoplan!A:D,2,0)),\"Konto findes ikke!\",VLOOKUP(F906,[1]Kontoplan!A:D,2,0)))","v":"Bank konto"}]
["2017-05-30",null,"Blomster, Fiskers Båre",null,null,1090,null,50,{"$f":"IF(F907=\"\",\"\",IF(ISERROR(VLOOKUP(F907,[1]Kontoplan!A:D,2,0)),\"Konto findes ikke!\",VLOOKUP(F907,[1]Kontoplan!A:D,2,0)))","v":"Indsamling begravelser"}]
["2017-05-30",null,"Blomster, Fiskers Båre",null,null,12310,100,null,{"$f":"IF(F908=\"\",\"\",IF(ISERROR(VLOOKUP(F908,[1]Kontoplan!A:D,2,0)),\"Konto findes ikke!\",VLOOKUP(F908,[1]Kontoplan!A:D,2,0)))","v":"Bank konto"}]
["2017-05-30",null,"Blomster, Fiskers Båre",null,null,1090,null,100,{"$f":"IF(F909=\"\",\"\",IF(ISERROR(VLOOKUP(F909,[1]Kontoplan!A:D,2,0)),\"Konto findes ikke!\",VLOOKUP(F909,[1]Kontoplan!A:D,2,0)))","v":"Indsamling begravelser"}]
["2017-05-30",null,"Blomster, Fiskers Båre",null,null,12310,50,null,{"$f":"IF(F910=\"\",\"\",IF(ISERROR(VLOOKUP(F910,[1]Kontoplan!A:D,2,0)),\"Konto findes ikke!\",VLOOKUP(F910,[1]Kontoplan!A:D,2,0)))","v":"Bank konto"}]
["2017-05-30",null,"Blomster, Fiskers Båre",null,null,1090,null,50,{"$f":"IF(F911=\"\",\"\",IF(ISERROR(VLOOKUP(F911,[1]Kontoplan!A:D,2,0)),\"Konto findes ikke!\",VLOOKUP(F911,[1]Kontoplan!A:D,2,0)))","v":"Indsamling begravelser"}]
["2017-05-30",null,"Blomster, Fiskers Båre",null,null,12310,100,null,{"$f":"IF(F912=\"\",\"\",IF(ISERROR(VLOOKUP(F912,[1]Kontoplan!A:D,2,0)),\"Konto findes ikke!\",VLOOKUP(F912,[1]Kontoplan!A:D,2,0)))","v":"Bank konto"}]
["2017-05-30",null,"Blomster, Fiskers Båre",null,null,1090,null,100,{"$f":"IF(F913=\"\",\"\",IF(ISERROR(VLOOKUP(F913,[1]Kontoplan!A:D,2,0)),\"Konto findes ikke!\",VLOOKUP(F913,[1]Kontoplan!A:D,2,0)))","v":"Indsamling begravelser"}]
["2017-05-30",null,"Blomster, Fiskers Båre",null,null,12310,50,null,{"$f":"IF(F914=\"\",\"\",IF(ISERROR(VLOOKUP(F914,[1]Kontoplan!A:D,2,0)),\"Konto findes ikke!\",VLOOKUP(F914,[1]Kontoplan!A:D,2,0)))","v":"Bank konto"}]
["2017-05-30",null,"Blomster, Fiskers Båre",null,null,1090,null,50,{"$f":"IF(F915=\"\",\"\",IF(ISERROR(VLOOKUP(F915,[1]Kontoplan!A:D,2,0)),\"Konto findes ikke!\",VLOOKUP(F915,[1]Kontoplan!A:D,2,0)))","v":"Indsamling begravelser"}]
["2017-05-31",null,"Blomster, Fiskers Båre",null,null,12310,50,null,{"$f":"IF(F916=\"\",\"\",IF(ISERROR(VLOOKUP(F916,[1]Kontoplan!A:D,2,0)),\"Konto findes ikke!\",VLOOKUP(F916,[1]Kontoplan!A:D,2,0)))","v":"Bank konto"}]
["2017-05-31",null,"Blomster, Fiskers Båre",null,null,1090,null,50,{"$f":"IF(F917=\"\",\"\",IF(ISERROR(VLOOKUP(F917,[1]Kontoplan!A:D,2,0)),\"Konto findes ikke!\",VLOOKUP(F917,[1]Kontoplan!A:D,2,0)))","v":"Indsamling begravelser"}]
["2017-05-31",null,"Blomster, Fiskers Båre",null,null,12310,50,null,{"$f":"IF(F918=\"\",\"\",IF(ISERROR(VLOOKUP(F918,[1]Kontoplan!A:D,2,0)),\"Konto findes ikke!\",VLOOKUP(F918,[1]Kontoplan!A:D,2,0)))","v":"Bank konto"}]
["2017-05-31",null,"Blomster, Fiskers Båre",null,null,1090,null,50,{"$f":"IF(F919=\"\",\"\",IF(ISERROR(VLOOKUP(F919,[1]Kontoplan!A:D,2,0)),\"Konto findes ikke!\",VLOOKUP(F919,[1]Kontoplan!A:D,2,0)))","v":"Indsamling begravelser"}]
["2017-05-31",null,"Blomster, Fiskers Båre",null,null,12310,50,null,{"$f":"IF(F920=\"\",\"\",IF(ISERROR(VLOOKUP(F920,[1]Kontoplan!A:D,2,0)),\"Konto findes ikke!\",VLOOKUP(F920,[1]Kontoplan!A:D,2,0)))","v":"Bank konto"}]
["2017-05-31",null,"Blomster, Fiskers Båre",null,null,1090,null,50,{"$f":"IF(F921=\"\",\"\",IF(ISERROR(VLOOKUP(F921,[1]Kontoplan!A:D,2,0)),\"Konto findes ikke!\",VLOOKUP(F921,[1]Kontoplan!A:D,2,0)))","v":"Indsamling begravelser"}]
["2017-05-31",null,"Blomster, Fiskers Båre",null,null,12310,75,null,{"$f":"IF(F922=\"\",\"\",IF(ISERROR(VLOOKUP(F922,[1]Kontoplan!A:D,2,0)),\"Konto findes ikke!\",VLOOKUP(F922,[1]Kontoplan!A:D,2,0)))","v":"Bank konto"}]
["2017-05-31",null,"Blomster, Fiskers Båre",null,null,1090,null,75,{"$f":"IF(F923=\"\",\"\",IF(ISERROR(VLOOKUP(F923,[1]Kontoplan!A:D,2,0)),\"Konto findes ikke!\",VLOOKUP(F923,[1]Kontoplan!A:D,2,0)))","v":"Indsamling begravelser"}]
["2017-05-31",null,"Blomster, Fiskers Båre",null,null,12310,100,null,{"$f":"IF(F924=\"\",\"\",IF(ISERROR(VLOOKUP(F924,[1]Kontoplan!A:D,2,0)),\"Konto findes ikke!\",VLOOKUP(F924,[1]Kontoplan!A:D,2,0)))","v":"Bank konto"}]
["2017-05-31",null,"Blomster, Fiskers Båre",null,null,1090,null,100,{"$f":"IF(F925=\"\",\"\",IF(ISERROR(VLOOKUP(F925,[1]Kontoplan!A:D,2,0)),\"Konto findes ikke!\",VLOOKUP(F925,[1]Kontoplan!A:D,2,0)))","v":"Indsamling begravelser"}]
["2017-05-31",null,"Blomster, Fiskers Båre",null,null,12310,100,null,{"$f":"IF(F926=\"\",\"\",IF(ISERROR(VLOOKUP(F926,[1]Kontoplan!A:D,2,0)),\"Konto findes ikke!\",VLOOKUP(F926,[1]Kontoplan!A:D,2,0)))","v":"Bank konto"}]
["2017-05-31",null,"Blomster, Fiskers Båre",null,null,1090,null,100,{"$f":"IF(F927=\"\",\"\",IF(ISERROR(VLOOKUP(F927,[1]Kontoplan!A:D,2,0)),\"Konto findes ikke!\",VLOOKUP(F927,[1]Kontoplan!A:D,2,0)))","v":"Indsamling begravelser"}]
["2017-05-31",null,"Blomster, Fiskers Båre",null,null,12310,50,null,{"$f":"IF(F928=\"\",\"\",IF(ISERROR(VLOOKUP(F928,[1]Kontoplan!A:D,2,0)),\"Konto findes ikke!\",VLOOKUP(F928,[1]Kontoplan!A:D,2,0)))","v":"Bank konto"}]
["2017-05-31",null,"Blomster, Fiskers Båre",null,null,1090,null,50,{"$f":"IF(F929=\"\",\"\",IF(ISERROR(VLOOKUP(F929,[1]Kontoplan!A:D,2,0)),\"Konto findes ikke!\",VLOOKUP(F929,[1]Kontoplan!A:D,2,0)))","v":"Indsamling begravelser"}]
["2017-05-31",null,"Blomster, Fiskers Båre",null,null,12310,100,null,{"$f":"IF(F930=\"\",\"\",IF(ISERROR(VLOOKUP(F930,[1]Kontoplan!A:D,2,0)),\"Konto findes ikke!\",VLOOKUP(F930,[1]Kontoplan!A:D,2,0)))","v":"Bank konto"}]
["2017-05-31",null,"Blomster, Fiskers Båre",null,null,1090,null,100,{"$f":"IF(F931=\"\",\"\",IF(ISERROR(VLOOKUP(F931,[1]Kontoplan!A:D,2,0)),\"Konto findes ikke!\",VLOOKUP(F931,[1]Kontoplan!A:D,2,0)))","v":"Indsamling begravelser"}]
["2017-05-31",null,"Blomster, Fiskers Båre",null,null,12310,50,null,{"$f":"IF(F932=\"\",\"\",IF(ISERROR(VLOOKUP(F932,[1]Kontoplan!A:D,2,0)),\"Konto findes ikke!\",VLOOKUP(F932,[1]Kontoplan!A:D,2,0)))","v":"Bank konto"}]
["2017-05-31",null,"Blomster, Fiskers Båre",null,null,1090,null,50,{"$f":"IF(F933=\"\",\"\",IF(ISERROR(VLOOKUP(F933,[1]Kontoplan!A:D,2,0)),\"Konto findes ikke!\",VLOOKUP(F933,[1]Kontoplan!A:D,2,0)))","v":"Indsamling begravelser"}]
["2017-05-31",null,"Blomster, Fiskers Båre",null,null,12310,50,null,{"$f":"IF(F934=\"\",\"\",IF(ISERROR(VLOOKUP(F934,[1]Kontoplan!A:D,2,0)),\"Konto findes ikke!\",VLOOKUP(F934,[1]Kontoplan!A:D,2,0)))","v":"Bank konto"}]
["2017-05-31",null,"Blomster, Fiskers Båre",null,null,1090,null,50,{"$f":"IF(F935=\"\",\"\",IF(ISERROR(VLOOKUP(F935,[1]Kontoplan!A:D,2,0)),\"Konto findes ikke!\",VLOOKUP(F935,[1]Kontoplan!A:D,2,0)))","v":"Indsamling begravelser"}]
["2017-05-31",null,"Blomster, Fiskers Båre",null,null,12310,100,null,{"$f":"IF(F936=\"\",\"\",IF(ISERROR(VLOOKUP(F936,[1]Kontoplan!A:D,2,0)),\"Konto findes ikke!\",VLOOKUP(F936,[1]Kontoplan!A:D,2,0)))","v":"Bank konto"}]
["2017-05-31",null,"Blomster, Fiskers Båre",null,null,1090,null,100,{"$f":"IF(F937=\"\",\"\",IF(ISERROR(VLOOKUP(F937,[1]Kontoplan!A:D,2,0)),\"Konto findes ikke!\",VLOOKUP(F937,[1]Kontoplan!A:D,2,0)))","v":"Indsamling begravelser"}]
["2017-05-31",null,"Blomster, Fiskers Båre",null,null,12310,50,null,{"$f":"IF(F938=\"\",\"\",IF(ISERROR(VLOOKUP(F938,[1]Kontoplan!A:D,2,0)),\"Konto findes ikke!\",VLOOKUP(F938,[1]Kontoplan!A:D,2,0)))","v":"Bank konto"}]
["2017-05-31",null,"Blomster, Fiskers Båre",null,null,1090,null,50,{"$f":"IF(F939=\"\",\"\",IF(ISERROR(VLOOKUP(F939,[1]Kontoplan!A:D,2,0)),\"Konto findes ikke!\",VLOOKUP(F939,[1]Kontoplan!A:D,2,0)))","v":"Indsamling begravelser"}]
["2017-05-31",null,"Blomster, Fiskers Båre",null,null,12310,100,null,{"$f":"IF(F940=\"\",\"\",IF(ISERROR(VLOOKUP(F940,[1]Kontoplan!A:D,2,0)),\"Konto findes ikke!\",VLOOKUP(F940,[1]Kontoplan!A:D,2,0)))","v":"Bank konto"}]
["2017-05-31",null,"Blomster, Fiskers Båre",null,null,1090,null,100,{"$f":"IF(F941=\"\",\"\",IF(ISERROR(VLOOKUP(F941,[1]Kontoplan!A:D,2,0)),\"Konto findes ikke!\",VLOOKUP(F941,[1]Kontoplan!A:D,2,0)))","v":"Indsamling begravelser"}]
["2017-05-31",null,"Blomster, Fiskers Båre",null,null,12310,100,null,{"$f":"IF(F942=\"\",\"\",IF(ISERROR(VLOOKUP(F942,[1]Kontoplan!A:D,2,0)),\"Konto findes ikke!\",VLOOKUP(F942,[1]Kontoplan!A:D,2,0)))","v":"Bank konto"}]
["2017-05-31",null,"Blomster, Fiskers Båre",null,null,1090,null,100,{"$f":"IF(F943=\"\",\"\",IF(ISERROR(VLOOKUP(F943,[1]Kontoplan!A:D,2,0)),\"Konto findes ikke!\",VLOOKUP(F943,[1]Kontoplan!A:D,2,0)))","v":"Indsamling begravelser"}]
["2017-05-31",null,"Blomster, Fiskers Båre",null,null,12310,50,null,{"$f":"IF(F944=\"\",\"\",IF(ISERROR(VLOOKUP(F944,[1]Kontoplan!A:D,2,0)),\"Konto findes ikke!\",VLOOKUP(F944,[1]Kontoplan!A:D,2,0)))","v":"Bank konto"}]
["2017-05-31",null,"Blomster, Fiskers Båre",null,null,1090,null,50,{"$f":"IF(F945=\"\",\"\",IF(ISERROR(VLOOKUP(F945,[1]Kontoplan!A:D,2,0)),\"Konto findes ikke!\",VLOOKUP(F945,[1]Kontoplan!A:D,2,0)))","v":"Indsamling begravelser"}]
["2017-05-31",null,"Blomster, Fiskers Båre",null,null,12310,50,null,{"$f":"IF(F946=\"\",\"\",IF(ISERROR(VLOOKUP(F946,[1]Kontoplan!A:D,2,0)),\"Konto findes ikke!\",VLOOKUP(F946,[1]Kontoplan!A:D,2,0)))","v":"Bank konto"}]
["2017-05-31",null,"Blomster, Fiskers Båre",null,null,1090,null,50,{"$f":"IF(F947=\"\",\"\",IF(ISERROR(VLOOKUP(F947,[1]Kontoplan!A:D,2,0)),\"Konto findes ikke!\",VLOOKUP(F947,[1]Kontoplan!A:D,2,0)))","v":"Indsamling begravelser"}]
["2017-06-01",null,"Blomster, Fiskers Båre",null,null,12310,50,null,{"$f":"IF(F948=\"\",\"\",IF(ISERROR(VLOOKUP(F948,[1]Kontoplan!A:D,2,0)),\"Konto findes ikke!\",VLOOKUP(F948,[1]Kontoplan!A:D,2,0)))","v":"Bank konto"}]
["2017-06-01",null,"Blomster, Fiskers Båre",null,null,1090,null,50,{"$f":"IF(F949=\"\",\"\",IF(ISERROR(VLOOKUP(F949,[1]Kontoplan!A:D,2,0)),\"Konto findes ikke!\",VLOOKUP(F949,[1]Kontoplan!A:D,2,0)))","v":"Indsamling begravelser"}]
["2017-06-01",null,"Blomster, Fiskers Båre",null,null,12310,100,null,{"$f":"IF(F950=\"\",\"\",IF(ISERROR(VLOOKUP(F950,[1]Kontoplan!A:D,2,0)),\"Konto findes ikke!\",VLOOKUP(F950,[1]Kontoplan!A:D,2,0)))","v":"Bank konto"}]
["2017-06-01",null,"Blomster, Fiskers Båre",null,null,1090,null,100,{"$f":"IF(F951=\"\",\"\",IF(ISERROR(VLOOKUP(F951,[1]Kontoplan!A:D,2,0)),\"Konto findes ikke!\",VLOOKUP(F951,[1]Kontoplan!A:D,2,0)))","v":"Indsamling begravelser"}]
["2017-06-01",null,"Blomster, Fiskers Båre",null,null,12310,50,null,{"$f":"IF(F952=\"\",\"\",IF(ISERROR(VLOOKUP(F952,[1]Kontoplan!A:D,2,0)),\"Konto findes ikke!\",VLOOKUP(F952,[1]Kontoplan!A:D,2,0)))","v":"Bank konto"}]
["2017-06-01",null,"Blomster, Fiskers Båre",null,null,1090,null,50,{"$f":"IF(F953=\"\",\"\",IF(ISERROR(VLOOKUP(F953,[1]Kontoplan!A:D,2,0)),\"Konto findes ikke!\",VLOOKUP(F953,[1]Kontoplan!A:D,2,0)))","v":"Indsamling begravelser"}]
["2017-06-01",null,"Blomster, Fiskers Båre",null,null,12310,150,null,{"$f":"IF(F954=\"\",\"\",IF(ISERROR(VLOOKUP(F954,[1]Kontoplan!A:D,2,0)),\"Konto findes ikke!\",VLOOKUP(F954,[1]Kontoplan!A:D,2,0)))","v":"Bank konto"}]
["2017-06-01",null,"Blomster, Fiskers Båre",null,null,1090,null,150,{"$f":"IF(F955=\"\",\"\",IF(ISERROR(VLOOKUP(F955,[1]Kontoplan!A:D,2,0)),\"Konto findes ikke!\",VLOOKUP(F955,[1]Kontoplan!A:D,2,0)))","v":"Indsamling begravelser"}]
["2017-06-01",null,"Blomster, Fiskers Båre",null,null,12310,100,null,{"$f":"IF(F956=\"\",\"\",IF(ISERROR(VLOOKUP(F956,[1]Kontoplan!A:D,2,0)),\"Konto findes ikke!\",VLOOKUP(F956,[1]Kontoplan!A:D,2,0)))","v":"Bank konto"}]
["2017-06-01",null,"Blomster, Fiskers Båre",null,null,1090,null,100,{"$f":"IF(F957=\"\",\"\",IF(ISERROR(VLOOKUP(F957,[1]Kontoplan!A:D,2,0)),\"Konto findes ikke!\",VLOOKUP(F957,[1]Kontoplan!A:D,2,0)))","v":"Indsamling begravelser"}]
["2017-06-01",null,"Blomster, Fiskers Båre",null,null,12310,100,null,{"$f":"IF(F958=\"\",\"\",IF(ISERROR(VLOOKUP(F958,[1]Kontoplan!A:D,2,0)),\"Konto findes ikke!\",VLOOKUP(F958,[1]Kontoplan!A:D,2,0)))","v":"Bank konto"}]
["2017-06-01",null,"Blomster, Fiskers Båre",null,null,1090,null,100,{"$f":"IF(F959=\"\",\"\",IF(ISERROR(VLOOKUP(F959,[1]Kontoplan!A:D,2,0)),\"Konto findes ikke!\",VLOOKUP(F959,[1]Kontoplan!A:D,2,0)))","v":"Indsamling begravelser"}]
["2017-06-01",null,"Blomster, Fiskers Båre",null,null,12310,100,null,{"$f":"IF(F960=\"\",\"\",IF(ISERROR(VLOOKUP(F960,[1]Kontoplan!A:D,2,0)),\"Konto findes ikke!\",VLOOKUP(F960,[1]Kontoplan!A:D,2,0)))","v":"Bank konto"}]
["2017-06-01",null,"Blomster, Fiskers Båre",null,null,1090,null,100,{"$f":"IF(F961=\"\",\"\",IF(ISERROR(VLOOKUP(F961,[1]Kontoplan!A:D,2,0)),\"Konto findes ikke!\",VLOOKUP(F961,[1]Kontoplan!A:D,2,0)))","v":"Indsamling begravelser"}]
["2017-06-01",null,"Blomster, Fiskers Båre",null,null,12310,50,null,{"$f":"IF(F962=\"\",\"\",IF(ISERROR(VLOOKUP(F962,[1]Kontoplan!A:D,2,0)),\"Konto findes ikke!\",VLOOKUP(F962,[1]Kontoplan!A:D,2,0)))","v":"Bank konto"}]
["2017-06-01",null,"Blomster, Fiskers Båre",null,null,1090,null,50,{"$f":"IF(F963=\"\",\"\",IF(ISERROR(VLOOKUP(F963,[1]Kontoplan!A:D,2,0)),\"Konto findes ikke!\",VLOOKUP(F963,[1]Kontoplan!A:D,2,0)))","v":"Indsamling begravelser"}]
["2017-06-01",null,"Blomster, Fiskers Båre",null,null,12310,50,null,{"$f":"IF(F964=\"\",\"\",IF(ISERROR(VLOOKUP(F964,[1]Kontoplan!A:D,2,0)),\"Konto findes ikke!\",VLOOKUP(F964,[1]Kontoplan!A:D,2,0)))","v":"Bank konto"}]
["2017-06-01",null,"Blomster, Fiskers Båre",null,null,1090,null,50,{"$f":"IF(F965=\"\",\"\",IF(ISERROR(VLOOKUP(F965,[1]Kontoplan!A:D,2,0)),\"Konto findes ikke!\",VLOOKUP(F965,[1]Kontoplan!A:D,2,0)))","v":"Indsamling begravelser"}]
["2017-06-01",null,"Blomster, Fiskers Båre",null,null,12310,50,null,{"$f":"IF(F966=\"\",\"\",IF(ISERROR(VLOOKUP(F966,[1]Kontoplan!A:D,2,0)),\"Konto findes ikke!\",VLOOKUP(F966,[1]Kontoplan!A:D,2,0)))","v":"Bank konto"}]
["2017-06-01",null,"Blomster, Fiskers Båre",null,null,1090,null,50,{"$f":"IF(F967=\"\",\"\",IF(ISERROR(VLOOKUP(F967,[1]Kontoplan!A:D,2,0)),\"Konto findes ikke!\",VLOOKUP(F967,[1]Kontoplan!A:D,2,0)))","v":"Indsamling begravelser"}]
["2017-06-01",null,"Blomster, Fiskers Båre",null,null,12310,50,null,{"$f":"IF(F968=\"\",\"\",IF(ISERROR(VLOOKUP(F968,[1]Kontoplan!A:D,2,0)),\"Konto findes ikke!\",VLOOKUP(F968,[1]Kontoplan!A:D,2,0)))","v":"Bank konto"}]
["2017-06-01",null,"Blomster, Fiskers Båre",null,null,1090,null,50,{"$f":"IF(F969=\"\",\"\",IF(ISERROR(VLOOKUP(F969,[1]Kontoplan!A:D,2,0)),\"Konto findes ikke!\",VLOOKUP(F969,[1]Kontoplan!A:D,2,0)))","v":"Indsamling begravelser"}]
["2017-06-01",null,"Blomster, Fiskers Båre",null,null,12310,50,null,{"$f":"IF(F970=\"\",\"\",IF(ISERROR(VLOOKUP(F970,[1]Kontoplan!A:D,2,0)),\"Konto findes ikke!\",VLOOKUP(F970,[1]Kontoplan!A:D,2,0)))","v":"Bank konto"}]
["2017-06-01",null,"Blomster, Fiskers Båre",null,null,1090,null,50,{"$f":"IF(F971=\"\",\"\",IF(ISERROR(VLOOKUP(F971,[1]Kontoplan!A:D,2,0)),\"Konto findes ikke!\",VLOOKUP(F971,[1]Kontoplan!A:D,2,0)))","v":"Indsamling begravelser"}]
["2017-06-28",24,"Blomster til Fiskers båre",null,null,12310,null,2275,{"$f":"IF(F972=\"\",\"\",IF(ISERROR(VLOOKUP(F972,[1]Kontoplan!A:D,2,0)),\"Konto findes ikke!\",VLOOKUP(F972,[1]Kontoplan!A:D,2,0)))","v":"Bank konto"}]
["2017-06-28",24,"Blomster til Fiskers båre",null,null,2140,2275,null,{"$f":"IF(F973=\"\",\"\",IF(ISERROR(VLOOKUP(F973,[1]Kontoplan!A:D,2,0)),\"Konto findes ikke!\",VLOOKUP(F973,[1]Kontoplan!A:D,2,0)))","v":"Begravelser"},"Fruens Blomster"]
["2017-06-30",null,"Gebyr ifølge nota",null,null,12310,null,75,{"$f":"IF(F974=\"\",\"\",IF(ISERROR(VLOOKUP(F974,[1]Kontoplan!A:D,2,0)),\"Konto findes ikke!\",VLOOKUP(F974,[1]Kontoplan!A:D,2,0)))","v":"Bank konto"}]
["2017-06-30",null,"Gebyr ifølge nota",null,null,2130,75,null,{"$f":"IF(F975=\"\",\"\",IF(ISERROR(VLOOKUP(F975,[1]Kontoplan!A:D,2,0)),\"Konto findes ikke!\",VLOOKUP(F975,[1]Kontoplan!A:D,2,0)))","v":"Bankgebyr/Renter"}]
["2017-07-07",null,"Blomster, Greves båre",null,null,12310,25,null,{"$f":"IF(F976=\"\",\"\",IF(ISERROR(VLOOKUP(F976,[1]Kontoplan!A:D,2,0)),\"Konto findes ikke!\",VLOOKUP(F976,[1]Kontoplan!A:D,2,0)))","v":"Bank konto"}]
["2017-07-07",null,"Blomster, Greves båre",null,null,1090,null,25,{"$f":"IF(F977=\"\",\"\",IF(ISERROR(VLOOKUP(F977,[1]Kontoplan!A:D,2,0)),\"Konto findes ikke!\",VLOOKUP(F977,[1]Kontoplan!A:D,2,0)))","v":"Indsamling begravelser"}]
["2017-07-07",null,"Blomster, Greves båre",null,null,12310,50,null,{"$f":"IF(F978=\"\",\"\",IF(ISERROR(VLOOKUP(F978,[1]Kontoplan!A:D,2,0)),\"Konto findes ikke!\",VLOOKUP(F978,[1]Kontoplan!A:D,2,0)))","v":"Bank konto"}]
["2017-07-07",null,"Blomster, Greves båre",null,null,1090,null,50,{"$f":"IF(F979=\"\",\"\",IF(ISERROR(VLOOKUP(F979,[1]Kontoplan!A:D,2,0)),\"Konto findes ikke!\",VLOOKUP(F979,[1]Kontoplan!A:D,2,0)))","v":"Indsamling begravelser"}]
["2017-07-07",null,"Blomster, Greves båre",null,null,12310,20,null,{"$f":"IF(F980=\"\",\"\",IF(ISERROR(VLOOKUP(F980,[1]Kontoplan!A:D,2,0)),\"Konto findes ikke!\",VLOOKUP(F980,[1]Kontoplan!A:D,2,0)))","v":"Bank konto"}]
["2017-07-07",null,"Blomster, Greves båre",null,null,1090,null,20,{"$f":"IF(F981=\"\",\"\",IF(ISERROR(VLOOKUP(F981,[1]Kontoplan!A:D,2,0)),\"Konto findes ikke!\",VLOOKUP(F981,[1]Kontoplan!A:D,2,0)))","v":"Indsamling begravelser"}]
["2017-07-07",null,"Blomster, Greves båre",null,null,12310,100,null,{"$f":"IF(F982=\"\",\"\",IF(ISERROR(VLOOKUP(F982,[1]Kontoplan!A:D,2,0)),\"Konto findes ikke!\",VLOOKUP(F982,[1]Kontoplan!A:D,2,0)))","v":"Bank konto"}]
["2017-07-07",null,"Blomster, Greves båre",null,null,1090,null,100,{"$f":"IF(F983=\"\",\"\",IF(ISERROR(VLOOKUP(F983,[1]Kontoplan!A:D,2,0)),\"Konto findes ikke!\",VLOOKUP(F983,[1]Kontoplan!A:D,2,0)))","v":"Indsamling begravelser"}]
["2017-07-08",null,"Blomster, Greves båre",null,null,12310,100,null,{"$f":"IF(F984=\"\",\"\",IF(ISERROR(VLOOKUP(F984,[1]Kontoplan!A:D,2,0)),\"Konto findes ikke!\",VLOOKUP(F984,[1]Kontoplan!A:D,2,0)))","v":"Bank konto"}]
["2017-07-08",null,"Blomster, Greves båre",null,null,1090,null,100,{"$f":"IF(F985=\"\",\"\",IF(ISERROR(VLOOKUP(F985,[1]Kontoplan!A:D,2,0)),\"Konto findes ikke!\",VLOOKUP(F985,[1]Kontoplan!A:D,2,0)))","v":"Indsamling begravelser"}]
["2017-07-08",null,"Blomster, Greves båre",null,null,12310,25,null,{"$f":"IF(F986=\"\",\"\",IF(ISERROR(VLOOKUP(F986,[1]Kontoplan!A:D,2,0)),\"Konto findes ikke!\",VLOOKUP(F986,[1]Kontoplan!A:D,2,0)))","v":"Bank konto"}]
["2017-07-08",null,"Blomster, Greves båre",null,null,1090,null,25,{"$f":"IF(F987=\"\",\"\",IF(ISERROR(VLOOKUP(F987,[1]Kontoplan!A:D,2,0)),\"Konto findes ikke!\",VLOOKUP(F987,[1]Kontoplan!A:D,2,0)))","v":"Indsamling begravelser"}]
["2017-07-10",25,"Lån af Stoffer",null,null,12310,10000,null,{"$f":"IF(F988=\"\",\"\",IF(ISERROR(VLOOKUP(F988,[1]Kontoplan!A:D,2,0)),\"Konto findes ikke!\",VLOOKUP(F988,[1]Kontoplan!A:D,2,0)))","v":"Bank konto"}]
["2017-07-10",25,"Lån af Stoffer",null,null,1060,null,10000,{"$f":"IF(F989=\"\",\"\",IF(ISERROR(VLOOKUP(F989,[1]Kontoplan!A:D,2,0)),\"Konto findes ikke!\",VLOOKUP(F989,[1]Kontoplan!A:D,2,0)))","v":"Private Lån"}]
["2017-07-10",26,"Købt SEK 12600",null,null,12310,null,null,{"$f":"IF(F990=\"\",\"\",IF(ISERROR(VLOOKUP(F990,[1]Kontoplan!A:D,2,0)),\"Konto findes ikke!\",VLOOKUP(F990,[1]Kontoplan!A:D,2,0)))","v":"Bank konto"},9882.06]
["2017-07-10",26,"Købt SEK 12600",null,null,2165,null,null,{"$f":"IF(F991=\"\",\"\",IF(ISERROR(VLOOKUP(F991,[1]Kontoplan!A:D,2,0)),\"Konto findes ikke!\",VLOOKUP(F991,[1]Kontoplan!A:D,2,0)))","v":"Køb af udenlandsk valuta"},"mangler at finde et konto nr."]
["2017-07-10",null,"Kontingent, Flemming Knøsgaard",93,2018,1000,null,175,{"$f":"IF(F992=\"\",\"\",IF(ISERROR(VLOOKUP(F992,[1]Kontoplan!A:D,2,0)),\"Konto findes ikke!\",VLOOKUP(F992,[1]Kontoplan!A:D,2,0)))","v":"Kontingenter"}]
["2017-07-10",null,"Blomster, Greves båre",null,null,12310,50,null,{"$f":"IF(F993=\"\",\"\",IF(ISERROR(VLOOKUP(F993,[1]Kontoplan!A:D,2,0)),\"Konto findes ikke!\",VLOOKUP(F993,[1]Kontoplan!A:D,2,0)))","v":"Bank konto"}]
["2017-07-10",null,"Blomster, Greves båre",null,null,1090,null,50,{"$f":"IF(F994=\"\",\"\",IF(ISERROR(VLOOKUP(F994,[1]Kontoplan!A:D,2,0)),\"Konto findes ikke!\",VLOOKUP(F994,[1]Kontoplan!A:D,2,0)))","v":"Indsamling begravelser"}]
["2017-07-10",null,"Blomster, Greves båre",null,null,12310,25,null,{"$f":"IF(F995=\"\",\"\",IF(ISERROR(VLOOKUP(F995,[1]Kontoplan!A:D,2,0)),\"Konto findes ikke!\",VLOOKUP(F995,[1]Kontoplan!A:D,2,0)))","v":"Bank konto"}]
["2017-07-10",null,"Blomster, Greves båre",null,null,1090,null,25,{"$f":"IF(F996=\"\",\"\",IF(ISERROR(VLOOKUP(F996,[1]Kontoplan!A:D,2,0)),\"Konto findes ikke!\",VLOOKUP(F996,[1]Kontoplan!A:D,2,0)))","v":"Indsamling begravelser"}]
["2017-07-10",null,"Blomster, Greves båre",null,null,12310,25,null,{"$f":"IF(F997=\"\",\"\",IF(ISERROR(VLOOKUP(F997,[1]Kontoplan!A:D,2,0)),\"Konto findes ikke!\",VLOOKUP(F997,[1]Kontoplan!A:D,2,0)))","v":"Bank konto"}]
["2017-07-10",null,"Blomster, Greves båre",null,null,1090,null,25,{"$f":"IF(F998=\"\",\"\",IF(ISERROR(VLOOKUP(F998,[1]Kontoplan!A:D,2,0)),\"Konto findes ikke!\",VLOOKUP(F998,[1]Kontoplan!A:D,2,0)))","v":"Indsamling begravelser"}]
["2017-07-10",null,"Blomster, Greves båre",null,null,12310,50,null,{"$f":"IF(F999=\"\",\"\",IF(ISERROR(VLOOKUP(F999,[1]Kontoplan!A:D,2,0)),\"Konto findes ikke!\",VLOOKUP(F999,[1]Kontoplan!A:D,2,0)))","v":"Bank konto"}]
["2017-07-10",null,"Blomster, Greves båre",null,null,1090,null,50,{"$f":"IF(F1000=\"\",\"\",IF(ISERROR(VLOOKUP(F1000,[1]Kontoplan!A:D,2,0)),\"Konto findes ikke!\",VLOOKUP(F1000,[1]Kontoplan!A:D,2,0)))","v":"Indsamling begravelser"}]
["2017-07-10",null,"Kontingent, Flemming Knøsgaard",null,null,12310,175,null,{"$f":"IF(F1001=\"\",\"\",IF(ISERROR(VLOOKUP(F1001,[1]Kontoplan!A:D,2,0)),\"Konto findes ikke!\",VLOOKUP(F1001,[1]Kontoplan!A:D,2,0)))","v":"Bank konto"}]
["2017-07-11",null,"Kontingent, Poul Guldving",69,2018,1000,null,175,{"$f":"IF(F1002=\"\",\"\",IF(ISERROR(VLOOKUP(F1002,[1]Kontoplan!A:D,2,0)),\"Konto findes ikke!\",VLOOKUP(F1002,[1]Kontoplan!A:D,2,0)))","v":"Kontingenter"}]
["2017-07-11",null,"Kontingent, Poul Guldving",null,null,12310,175,null,{"$f":"IF(F1003=\"\",\"\",IF(ISERROR(VLOOKUP(F1003,[1]Kontoplan!A:D,2,0)),\"Konto findes ikke!\",VLOOKUP(F1003,[1]Kontoplan!A:D,2,0)))","v":"Bank konto"}]
["2017-07-12",null,"Kontingent, Per Nielsen",2,2018,1000,null,175,{"$f":"IF(F1004=\"\",\"\",IF(ISERROR(VLOOKUP(F1004,[1]Kontoplan!A:D,2,0)),\"Konto findes ikke!\",VLOOKUP(F1004,[1]Kontoplan!A:D,2,0)))","v":"Kontingenter"}]
["2017-07-12",null,"Kontingent, Eilief G Andersen",6,2018,1000,null,175,{"$f":"IF(F1005=\"\",\"\",IF(ISERROR(VLOOKUP(F1005,[1]Kontoplan!A:D,2,0)),\"Konto findes ikke!\",VLOOKUP(F1005,[1]Kontoplan!A:D,2,0)))","v":"Kontingenter"}]
["2017-07-12",null,"Kontingent, Sven Holm Jensen",7,2018,1000,null,175,{"$f":"IF(F1006=\"\",\"\",IF(ISERROR(VLOOKUP(F1006,[1]Kontoplan!A:D,2,0)),\"Konto findes ikke!\",VLOOKUP(F1006,[1]Kontoplan!A:D,2,0)))","v":"Kontingenter"}]
["2017-07-12",null,"Kontingent, Flemming Hejdenberg",94,2018,1000,null,175,{"$f":"IF(F1007=\"\",\"\",IF(ISERROR(VLOOKUP(F1007,[1]Kontoplan!A:D,2,0)),\"Konto findes ikke!\",VLOOKUP(F1007,[1]Kontoplan!A:D,2,0)))","v":"Kontingenter"}]
["2017-07-12",null,"Kontingent, Flemming Hejdenberg",null,null,12310,175,null,{"$f":"IF(F1008=\"\",\"\",IF(ISERROR(VLOOKUP(F1008,[1]Kontoplan!A:D,2,0)),\"Konto findes ikke!\",VLOOKUP(F1008,[1]Kontoplan!A:D,2,0)))","v":"Bank konto"}]
["2017-07-12",null,"Kontingent, Eilief G Andersen",null,null,12310,175,null,{"$f":"IF(F1009=\"\",\"\",IF(ISERROR(VLOOKUP(F1009,[1]Kontoplan!A:D,2,0)),\"Konto findes ikke!\",VLOOKUP(F1009,[1]Kontoplan!A:D,2,0)))","v":"Bank konto"}]
["2017-07-12",null,"Kontingent, Per Nielsen",null,null,12310,175,null,{"$f":"IF(F1010=\"\",\"\",IF(ISERROR(VLOOKUP(F1010,[1]Kontoplan!A:D,2,0)),\"Konto findes ikke!\",VLOOKUP(F1010,[1]Kontoplan!A:D,2,0)))","v":"Bank konto"}]
["2017-07-12",null,"Kontingent, Sven Holm Jensen",null,null,12310,175,null,{"$f":"IF(F1011=\"\",\"\",IF(ISERROR(VLOOKUP(F1011,[1]Kontoplan!A:D,2,0)),\"Konto findes ikke!\",VLOOKUP(F1011,[1]Kontoplan!A:D,2,0)))","v":"Bank konto"}]
["2017-07-13",null,"Kontingent, Carl-Erik Larsen",34,2018,1000,null,175,{"$f":"IF(F1012=\"\",\"\",IF(ISERROR(VLOOKUP(F1012,[1]Kontoplan!A:D,2,0)),\"Konto findes ikke!\",VLOOKUP(F1012,[1]Kontoplan!A:D,2,0)))","v":"Kontingenter"}]
["2017-07-13",null,"Kontingent, Flemming Olsen",43,2018,1000,null,175,{"$f":"IF(F1013=\"\",\"\",IF(ISERROR(VLOOKUP(F1013,[1]Kontoplan!A:D,2,0)),\"Konto findes ikke!\",VLOOKUP(F1013,[1]Kontoplan!A:D,2,0)))","v":"Kontingenter"}]
["2017-07-13",null,"Kontingent, Erik B. Hansen",76,2018,1000,null,175,{"$f":"IF(F1014=\"\",\"\",IF(ISERROR(VLOOKUP(F1014,[1]Kontoplan!A:D,2,0)),\"Konto findes ikke!\",VLOOKUP(F1014,[1]Kontoplan!A:D,2,0)))","v":"Kontingenter"}]
["2017-07-13",null,"Kontingent, Bent Nielsen",78,2018,1000,null,175,{"$f":"IF(F1015=\"\",\"\",IF(ISERROR(VLOOKUP(F1015,[1]Kontoplan!A:D,2,0)),\"Konto findes ikke!\",VLOOKUP(F1015,[1]Kontoplan!A:D,2,0)))","v":"Kontingenter"}]
["2017-07-13",null,"Kontingent, Flemming Olsen",null,null,12310,175,null,{"$f":"IF(F1016=\"\",\"\",IF(ISERROR(VLOOKUP(F1016,[1]Kontoplan!A:D,2,0)),\"Konto findes ikke!\",VLOOKUP(F1016,[1]Kontoplan!A:D,2,0)))","v":"Bank konto"}]
["2017-07-13",null,"Kontingent, Bent Nielsen",null,null,12310,175,null,{"$f":"IF(F1017=\"\",\"\",IF(ISERROR(VLOOKUP(F1017,[1]Kontoplan!A:D,2,0)),\"Konto findes ikke!\",VLOOKUP(F1017,[1]Kontoplan!A:D,2,0)))","v":"Bank konto"}]
["2017-07-13",null,"Kontingent, Erik B. Hansen",null,null,12310,175,null,{"$f":"IF(F1018=\"\",\"\",IF(ISERROR(VLOOKUP(F1018,[1]Kontoplan!A:D,2,0)),\"Konto findes ikke!\",VLOOKUP(F1018,[1]Kontoplan!A:D,2,0)))","v":"Bank konto"}]
["2017-07-13",null,"Kontingent, Carl-Erik Larsen",null,null,12310,175,null,{"$f":"IF(F1019=\"\",\"\",IF(ISERROR(VLOOKUP(F1019,[1]Kontoplan!A:D,2,0)),\"Konto findes ikke!\",VLOOKUP(F1019,[1]Kontoplan!A:D,2,0)))","v":"Bank konto"}]
["2017-07-14",null,"Kontingent, Sven Haugaard Jørgensen",91,2018,1000,null,175,{"$f":"IF(F1020=\"\",\"\",IF(ISERROR(VLOOKUP(F1020,[1]Kontoplan!A:D,2,0)),\"Konto findes ikke!\",VLOOKUP(F1020,[1]Kontoplan!A:D,2,0)))","v":"Kontingenter"}]
["2017-07-14",null,"Kontingent, Sven Haugaard Jørgensen",null,null,12310,175,null,{"$f":"IF(F1021=\"\",\"\",IF(ISERROR(VLOOKUP(F1021,[1]Kontoplan!A:D,2,0)),\"Konto findes ikke!\",VLOOKUP(F1021,[1]Kontoplan!A:D,2,0)))","v":"Bank konto"}]
["2017-07-16",null,"Kontingent, Torben Westring",19,2018,1000,null,175,{"$f":"IF(F1022=\"\",\"\",IF(ISERROR(VLOOKUP(F1022,[1]Kontoplan!A:D,2,0)),\"Konto findes ikke!\",VLOOKUP(F1022,[1]Kontoplan!A:D,2,0)))","v":"Kontingenter"}]
["2017-07-16",null,"Kontingent, Finn Nielsen (Åkirkeby)",79,2018,1000,null,100,{"$f":"IF(F1023=\"\",\"\",IF(ISERROR(VLOOKUP(F1023,[1]Kontoplan!A:D,2,0)),\"Konto findes ikke!\",VLOOKUP(F1023,[1]Kontoplan!A:D,2,0)))","v":"Kontingenter"},"mangler 75,-"]
["2017-07-16",null,"Kontingent, Finn Nielsen (Åkirkeby)",79,2018,1000,null,75,{"$f":"IF(F1024=\"\",\"\",IF(ISERROR(VLOOKUP(F1024,[1]Kontoplan!A:D,2,0)),\"Konto findes ikke!\",VLOOKUP(F1024,[1]Kontoplan!A:D,2,0)))","v":"Kontingenter"},"75,- indbetalt"]
["2017-07-16",null,"Kontingent, Finn Nielsen (Åkirkeby)",null,null,12310,100,null,{"$f":"IF(F1025=\"\",\"\",IF(ISERROR(VLOOKUP(F1025,[1]Kontoplan!A:D,2,0)),\"Konto findes ikke!\",VLOOKUP(F1025,[1]Kontoplan!A:D,2,0)))","v":"Bank konto"}]
["2017-07-16",null,"Kontingent, Finn Nielsen (Åkirkeby)",null,null,12310,75,null,{"$f":"IF(F1026=\"\",\"\",IF(ISERROR(VLOOKUP(F1026,[1]Kontoplan!A:D,2,0)),\"Konto findes ikke!\",VLOOKUP(F1026,[1]Kontoplan!A:D,2,0)))","v":"Bank konto"}]
["2017-07-16",null,"Kontingent, Torben Westring",null,null,12310,175,null,{"$f":"IF(F1027=\"\",\"\",IF(ISERROR(VLOOKUP(F1027,[1]Kontoplan!A:D,2,0)),\"Konto findes ikke!\",VLOOKUP(F1027,[1]Kontoplan!A:D,2,0)))","v":"Bank konto"}]
["2017-07-17",null,"Kontingent, Svend Torp Bendtsen",22,2018,1000,null,175,{"$f":"IF(F1028=\"\",\"\",IF(ISERROR(VLOOKUP(F1028,[1]Kontoplan!A:D,2,0)),\"Konto findes ikke!\",VLOOKUP(F1028,[1]Kontoplan!A:D,2,0)))","v":"Kontingenter"}]
["2017-07-17",null,"Kontingent, Knud Arne Rasmussen",33,2018,1000,null,175,{"$f":"IF(F1029=\"\",\"\",IF(ISERROR(VLOOKUP(F1029,[1]Kontoplan!A:D,2,0)),\"Konto findes ikke!\",VLOOKUP(F1029,[1]Kontoplan!A:D,2,0)))","v":"Kontingenter"}]
["2017-07-17",null,"Kontingent, Martin Jakob Hansen",90,2018,1000,null,175,{"$f":"IF(F1030=\"\",\"\",IF(ISERROR(VLOOKUP(F1030,[1]Kontoplan!A:D,2,0)),\"Konto findes ikke!\",VLOOKUP(F1030,[1]Kontoplan!A:D,2,0)))","v":"Kontingenter"}]
["2017-07-17",null,"Kontingent, Martin Jakob Hansen",null,null,12310,175,null,{"$f":"IF(F1031=\"\",\"\",IF(ISERROR(VLOOKUP(F1031,[1]Kontoplan!A:D,2,0)),\"Konto findes ikke!\",VLOOKUP(F1031,[1]Kontoplan!A:D,2,0)))","v":"Bank konto"}]
["2017-07-17",null,"Kontingent, Svend Torp Bendtsen",null,null,12310,175,null,{"$f":"IF(F1032=\"\",\"\",IF(ISERROR(VLOOKUP(F1032,[1]Kontoplan!A:D,2,0)),\"Konto findes ikke!\",VLOOKUP(F1032,[1]Kontoplan!A:D,2,0)))","v":"Bank konto"}]
["2017-07-17",null,"Kontingent, Knud Arne Rasmussen",null,null,12310,175,null,{"$f":"IF(F1033=\"\",\"\",IF(ISERROR(VLOOKUP(F1033,[1]Kontoplan!A:D,2,0)),\"Konto findes ikke!\",VLOOKUP(F1033,[1]Kontoplan!A:D,2,0)))","v":"Bank konto"}]
["2017-07-18",null,"Kontingent, Jan Witzner Jensen",8,2018,1000,null,175,{"$f":"IF(F1034=\"\",\"\",IF(ISERROR(VLOOKUP(F1034,[1]Kontoplan!A:D,2,0)),\"Konto findes ikke!\",VLOOKUP(F1034,[1]Kontoplan!A:D,2,0)))","v":"Kontingenter"}]
["2017-07-18",null,"Kontingent, Jan Witzner Jensen",null,null,12310,175,null,{"$f":"IF(F1035=\"\",\"\",IF(ISERROR(VLOOKUP(F1035,[1]Kontoplan!A:D,2,0)),\"Konto findes ikke!\",VLOOKUP(F1035,[1]Kontoplan!A:D,2,0)))","v":"Bank konto"}]
["2017-07-19",null,"Kontingent, Jens-Peter Rasmussen",23,2018,1000,null,175,{"$f":"IF(F1036=\"\",\"\",IF(ISERROR(VLOOKUP(F1036,[1]Kontoplan!A:D,2,0)),\"Konto findes ikke!\",VLOOKUP(F1036,[1]Kontoplan!A:D,2,0)))","v":"Kontingenter"}]
["2017-07-19",null,"Kontingent, Jens-Peter Rasmussen",null,null,12310,175,null,{"$f":"IF(F1037=\"\",\"\",IF(ISERROR(VLOOKUP(F1037,[1]Kontoplan!A:D,2,0)),\"Konto findes ikke!\",VLOOKUP(F1037,[1]Kontoplan!A:D,2,0)))","v":"Bank konto"}]
["2017-07-20",null,"Kontingent, Jens Svendsen",38,2017,1000,null,175,{"$f":"IF(F1038=\"\",\"\",IF(ISERROR(VLOOKUP(F1038,[1]Kontoplan!A:D,2,0)),\"Konto findes ikke!\",VLOOKUP(F1038,[1]Kontoplan!A:D,2,0)))","v":"Kontingenter"}]
["2017-07-20",null,"Kontingent, Jens Svendsen",null,null,12310,175,null,{"$f":"IF(F1039=\"\",\"\",IF(ISERROR(VLOOKUP(F1039,[1]Kontoplan!A:D,2,0)),\"Konto findes ikke!\",VLOOKUP(F1039,[1]Kontoplan!A:D,2,0)))","v":"Bank konto"}]
["2017-07-21","26A","Reservedele, Nyhems Motor",null,null,12310,null,7811,{"$f":"IF(F1040=\"\",\"\",IF(ISERROR(VLOOKUP(F1040,[1]Kontoplan!A:D,2,0)),\"Konto findes ikke!\",VLOOKUP(F1040,[1]Kontoplan!A:D,2,0)))","v":"Bank konto"}]
["2017-07-21","26A","Reservedele, Nyhems Motor",null,null,2080,7811,null,{"$f":"IF(F1041=\"\",\"\",IF(ISERROR(VLOOKUP(F1041,[1]Kontoplan!A:D,2,0)),\"Konto findes ikke!\",VLOOKUP(F1041,[1]Kontoplan!A:D,2,0)))","v":"Reservedele"}]
["2017-07-21",null,"Kontingent, Johannes Petersen",74,2018,1000,null,175,{"$f":"IF(F1042=\"\",\"\",IF(ISERROR(VLOOKUP(F1042,[1]Kontoplan!A:D,2,0)),\"Konto findes ikke!\",VLOOKUP(F1042,[1]Kontoplan!A:D,2,0)))","v":"Kontingenter"}]
["2017-07-21",null,"Kontingent, Johannes Petersen",null,null,12310,175,null,{"$f":"IF(F1043=\"\",\"\",IF(ISERROR(VLOOKUP(F1043,[1]Kontoplan!A:D,2,0)),\"Konto findes ikke!\",VLOOKUP(F1043,[1]Kontoplan!A:D,2,0)))","v":"Bank konto"}]
["2017-07-24",null,"Kontingent, Ole Larsen",5,2018,1000,null,75,{"$f":"IF(F1044=\"\",\"\",IF(ISERROR(VLOOKUP(F1044,[1]Kontoplan!A:D,2,0)),\"Konto findes ikke!\",VLOOKUP(F1044,[1]Kontoplan!A:D,2,0)))","v":"Kontingenter"},"75,- manglede 2017"]
["2017-07-24",null,"Kontingent, Hans-Henrik Greve Brandborg",9,2017,1000,null,75,{"$f":"IF(F1045=\"\",\"\",IF(ISERROR(VLOOKUP(F1045,[1]Kontoplan!A:D,2,0)),\"Konto findes ikke!\",VLOOKUP(F1045,[1]Kontoplan!A:D,2,0)))","v":"Kontingenter"},"2018, 2019, 2020 + 75,- fra 2017"]
["2017-07-24",null,"Kontingent, Hans-Henrik Greve Brandborg",9,2018,1000,null,175,{"$f":"IF(F1046=\"\",\"\",IF(ISERROR(VLOOKUP(F1046,[1]Kontoplan!A:D,2,0)),\"Konto findes ikke!\",VLOOKUP(F1046,[1]Kontoplan!A:D,2,0)))","v":"Kontingenter"}]
["2017-07-24",null,"Kontingent, Hans-Henrik Greve Brandborg",9,2019,1000,null,175,{"$f":"IF(F1047=\"\",\"\",IF(ISERROR(VLOOKUP(F1047,[1]Kontoplan!A:D,2,0)),\"Konto findes ikke!\",VLOOKUP(F1047,[1]Kontoplan!A:D,2,0)))","v":"Kontingenter"}]
["2017-07-24",null,"Kontingent, Hans-Henrik Greve Brandborg",9,2020,1000,null,175,{"$f":"IF(F1048=\"\",\"\",IF(ISERROR(VLOOKUP(F1048,[1]Kontoplan!A:D,2,0)),\"Konto findes ikke!\",VLOOKUP(F1048,[1]Kontoplan!A:D,2,0)))","v":"Kontingenter"}]
["2017-07-24",null,"Kontingent, Kurt Munch",12,2018,1000,null,175,{"$f":"IF(F1049=\"\",\"\",IF(ISERROR(VLOOKUP(F1049,[1]Kontoplan!A:D,2,0)),\"Konto findes ikke!\",VLOOKUP(F1049,[1]Kontoplan!A:D,2,0)))","v":"Kontingenter"}]
["2017-07-24",null,"Kontingent, Richard Finne",48,2018,1000,null,175,{"$f":"IF(F1050=\"\",\"\",IF(ISERROR(VLOOKUP(F1050,[1]Kontoplan!A:D,2,0)),\"Konto findes ikke!\",VLOOKUP(F1050,[1]Kontoplan!A:D,2,0)))","v":"Kontingenter"}]
["2017-07-24",null,"Kontingent, Eivind G. Andersen",81,null,1000,null,175,{"$f":"IF(F1051=\"\",\"\",IF(ISERROR(VLOOKUP(F1051,[1]Kontoplan!A:D,2,0)),\"Konto findes ikke!\",VLOOKUP(F1051,[1]Kontoplan!A:D,2,0)))","v":"Kontingenter"}]
["2017-07-24",null,"Kontingent, Kurt Munch",null,null,12310,175,null,{"$f":"IF(F1052=\"\",\"\",IF(ISERROR(VLOOKUP(F1052,[1]Kontoplan!A:D,2,0)),\"Konto findes ikke!\",VLOOKUP(F1052,[1]Kontoplan!A:D,2,0)))","v":"Bank konto"}]
["2017-07-24",null,"mærker, Kurt Munch",null,null,12310,50,null,{"$f":"IF(F1053=\"\",\"\",IF(ISERROR(VLOOKUP(F1053,[1]Kontoplan!A:D,2,0)),\"Konto findes ikke!\",VLOOKUP(F1053,[1]Kontoplan!A:D,2,0)))","v":"Bank konto"}]
["2017-07-24",null,"mærker, Kurt Munch",null,null,1010,null,50,{"$f":"IF(F1054=\"\",\"\",IF(ISERROR(VLOOKUP(F1054,[1]Kontoplan!A:D,2,0)),\"Konto findes ikke!\",VLOOKUP(F1054,[1]Kontoplan!A:D,2,0)))","v":"Salg af mærker"}]
["2017-07-24",null,"Kontingent, Eivind G. Andersen",null,null,12310,175,null,{"$f":"IF(F1055=\"\",\"\",IF(ISERROR(VLOOKUP(F1055,[1]Kontoplan!A:D,2,0)),\"Konto findes ikke!\",VLOOKUP(F1055,[1]Kontoplan!A:D,2,0)))","v":"Bank konto"}]
["2017-07-24",null,"Kontingent, Richard Finne",null,null,12310,175,null,{"$f":"IF(F1056=\"\",\"\",IF(ISERROR(VLOOKUP(F1056,[1]Kontoplan!A:D,2,0)),\"Konto findes ikke!\",VLOOKUP(F1056,[1]Kontoplan!A:D,2,0)))","v":"Bank konto"}]
["2017-07-24",null,"Kontingent, Hans-Henrik Greve Brandborg",null,null,12310,600,null,{"$f":"IF(F1057=\"\",\"\",IF(ISERROR(VLOOKUP(F1057,[1]Kontoplan!A:D,2,0)),\"Konto findes ikke!\",VLOOKUP(F1057,[1]Kontoplan!A:D,2,0)))","v":"Bank konto"}]
["2017-07-24",null,"Kontingent, Ole Larsen",null,null,12310,75,null,{"$f":"IF(F1058=\"\",\"\",IF(ISERROR(VLOOKUP(F1058,[1]Kontoplan!A:D,2,0)),\"Konto findes ikke!\",VLOOKUP(F1058,[1]Kontoplan!A:D,2,0)))","v":"Bank konto"}]
["2017-07-27",27,"solgt sek 2760",null,null,12310,null,null,{"$f":"IF(F1059=\"\",\"\",IF(ISERROR(VLOOKUP(F1059,[1]Kontoplan!A:D,2,0)),\"Konto findes ikke!\",VLOOKUP(F1059,[1]Kontoplan!A:D,2,0)))","v":"Bank konto"},2071.06]
["2017-07-27",27,"solgt sek 2760",null,null,1065,null,null,{"$f":"IF(F1060=\"\",\"\",IF(ISERROR(VLOOKUP(F1060,[1]Kontoplan!A:D,2,0)),\"Konto findes ikke!\",VLOOKUP(F1060,[1]Kontoplan!A:D,2,0)))","v":"Slag af udenlandsk valuta"}]
["2017-07-27",null,"Kontingent, Fini Dahl",25,2018,1000,null,175,{"$f":"IF(F1061=\"\",\"\",IF(ISERROR(VLOOKUP(F1061,[1]Kontoplan!A:D,2,0)),\"Konto findes ikke!\",VLOOKUP(F1061,[1]Kontoplan!A:D,2,0)))","v":"Kontingenter"}]
["2017-07-27",null,"Kontingent, Fini Dahl",null,null,12310,175,null,{"$f":"IF(F1062=\"\",\"\",IF(ISERROR(VLOOKUP(F1062,[1]Kontoplan!A:D,2,0)),\"Konto findes ikke!\",VLOOKUP(F1062,[1]Kontoplan!A:D,2,0)))","v":"Bank konto"}]
["2017-07-27",null,"Gebyr ifølge nota",null,null,12310,null,40,{"$f":"IF(F1063=\"\",\"\",IF(ISERROR(VLOOKUP(F1063,[1]Kontoplan!A:D,2,0)),\"Konto findes ikke!\",VLOOKUP(F1063,[1]Kontoplan!A:D,2,0)))","v":"Bank konto"}]
["2017-07-27",null,"Gebyr ifølge nota",null,null,2130,40,null,{"$f":"IF(F1064=\"\",\"\",IF(ISERROR(VLOOKUP(F1064,[1]Kontoplan!A:D,2,0)),\"Konto findes ikke!\",VLOOKUP(F1064,[1]Kontoplan!A:D,2,0)))","v":"Bankgebyr/Renter"},"Vekslegebyr"]
["2017-07-31",null,"Kontingent, Jørn Jensen",42,2018,1000,null,175,{"$f":"IF(F1065=\"\",\"\",IF(ISERROR(VLOOKUP(F1065,[1]Kontoplan!A:D,2,0)),\"Konto findes ikke!\",VLOOKUP(F1065,[1]Kontoplan!A:D,2,0)))","v":"Kontingenter"}]
["2017-07-31",null,"Kontingent, Niels Borg Larsen",83,2018,1000,null,175,{"$f":"IF(F1066=\"\",\"\",IF(ISERROR(VLOOKUP(F1066,[1]Kontoplan!A:D,2,0)),\"Konto findes ikke!\",VLOOKUP(F1066,[1]Kontoplan!A:D,2,0)))","v":"Kontingenter"}]
["2017-07-31",null,"Kontingent, Niels Borg Larsen",null,null,12310,175,null,{"$f":"IF(F1067=\"\",\"\",IF(ISERROR(VLOOKUP(F1067,[1]Kontoplan!A:D,2,0)),\"Konto findes ikke!\",VLOOKUP(F1067,[1]Kontoplan!A:D,2,0)))","v":"Bank konto"}]
["2017-07-31",null,"Kontingent, Jørn Jensen",null,null,12310,175,null,{"$f":"IF(F1068=\"\",\"\",IF(ISERROR(VLOOKUP(F1068,[1]Kontoplan!A:D,2,0)),\"Konto findes ikke!\",VLOOKUP(F1068,[1]Kontoplan!A:D,2,0)))","v":"Bank konto"}]
["2017-08-01",28,"Flaskepant, indsat",null,null,12310,85,null,{"$f":"IF(F1069=\"\",\"\",IF(ISERROR(VLOOKUP(F1069,[1]Kontoplan!A:D,2,0)),\"Konto findes ikke!\",VLOOKUP(F1069,[1]Kontoplan!A:D,2,0)))","v":"Bank konto"}]
["2017-08-01",28,"Flaskepant, indsat",null,null,1020,null,85,{"$f":"IF(F1070=\"\",\"\",IF(ISERROR(VLOOKUP(F1070,[1]Kontoplan!A:D,2,0)),\"Konto findes ikke!\",VLOOKUP(F1070,[1]Kontoplan!A:D,2,0)))","v":"Salg af øl + vand"}]
["2017-08-01",29,"Kontant salg af øl",null,null,12310,165,null,{"$f":"IF(F1071=\"\",\"\",IF(ISERROR(VLOOKUP(F1071,[1]Kontoplan!A:D,2,0)),\"Konto findes ikke!\",VLOOKUP(F1071,[1]Kontoplan!A:D,2,0)))","v":"Bank konto"}]
["2017-08-01",29,"Kontant salg af øl",null,null,1020,null,165,{"$f":"IF(F1072=\"\",\"\",IF(ISERROR(VLOOKUP(F1072,[1]Kontoplan!A:D,2,0)),\"Konto findes ikke!\",VLOOKUP(F1072,[1]Kontoplan!A:D,2,0)))","v":"Salg af øl + vand"}]
["2017-08-01",null,"Kontingent, Stoffer",1,2018,1000,null,175,{"$f":"IF(F1073=\"\",\"\",IF(ISERROR(VLOOKUP(F1073,[1]Kontoplan!A:D,2,0)),\"Konto findes ikke!\",VLOOKUP(F1073,[1]Kontoplan!A:D,2,0)))","v":"Kontingenter"}]
["2017-08-01",null,"Kontingent, Bjarne Hansen",3,2018,1000,null,175,{"$f":"IF(F1074=\"\",\"\",IF(ISERROR(VLOOKUP(F1074,[1]Kontoplan!A:D,2,0)),\"Konto findes ikke!\",VLOOKUP(F1074,[1]Kontoplan!A:D,2,0)))","v":"Kontingenter"}]
["2017-08-01",null,"Kontingent, Johnny S. E. Jacobsen",89,2018,1000,null,175,{"$f":"IF(F1075=\"\",\"\",IF(ISERROR(VLOOKUP(F1075,[1]Kontoplan!A:D,2,0)),\"Konto findes ikke!\",VLOOKUP(F1075,[1]Kontoplan!A:D,2,0)))","v":"Kontingenter"}]
["2017-08-01",null,"Kontingent, Johnny S. E. Jacobsen",null,null,12310,175,null,{"$f":"IF(F1076=\"\",\"\",IF(ISERROR(VLOOKUP(F1076,[1]Kontoplan!A:D,2,0)),\"Konto findes ikke!\",VLOOKUP(F1076,[1]Kontoplan!A:D,2,0)))","v":"Bank konto"}]
["2017-08-01",null,"Kontingent, Bjarne Hansen",null,null,12310,175,null,{"$f":"IF(F1077=\"\",\"\",IF(ISERROR(VLOOKUP(F1077,[1]Kontoplan!A:D,2,0)),\"Konto findes ikke!\",VLOOKUP(F1077,[1]Kontoplan!A:D,2,0)))","v":"Bank konto"}]
["2017-08-01",null,"Kontingent, Stoffer",null,null,12310,175,null,{"$f":"IF(F1078=\"\",\"\",IF(ISERROR(VLOOKUP(F1078,[1]Kontoplan!A:D,2,0)),\"Konto findes ikke!\",VLOOKUP(F1078,[1]Kontoplan!A:D,2,0)))","v":"Bank konto"}]
["2017-08-03",null,"Kontingent, Svend Kofoed",82,2018,1000,null,175,{"$f":"IF(F1079=\"\",\"\",IF(ISERROR(VLOOKUP(F1079,[1]Kontoplan!A:D,2,0)),\"Konto findes ikke!\",VLOOKUP(F1079,[1]Kontoplan!A:D,2,0)))","v":"Kontingenter"}]
["2017-08-03",null,"Kontingent, Svend Kofoed",null,null,12310,175,null,{"$f":"IF(F1080=\"\",\"\",IF(ISERROR(VLOOKUP(F1080,[1]Kontoplan!A:D,2,0)),\"Konto findes ikke!\",VLOOKUP(F1080,[1]Kontoplan!A:D,2,0)))","v":"Bank konto"}]
["2017-08-04",null,"Kontingent, Kim Jensen",29,2018,1000,null,175,{"$f":"IF(F1081=\"\",\"\",IF(ISERROR(VLOOKUP(F1081,[1]Kontoplan!A:D,2,0)),\"Konto findes ikke!\",VLOOKUP(F1081,[1]Kontoplan!A:D,2,0)))","v":"Kontingenter"}]
["2017-08-04",null,"Mærker, Bjarne Hansen",null,null,12310,200,null,{"$f":"IF(F1082=\"\",\"\",IF(ISERROR(VLOOKUP(F1082,[1]Kontoplan!A:D,2,0)),\"Konto findes ikke!\",VLOOKUP(F1082,[1]Kontoplan!A:D,2,0)))","v":"Bank konto"}]
["2017-08-04",null,"Mærker, Bjarne Hansen",null,null,1010,null,200,{"$f":"IF(F1083=\"\",\"\",IF(ISERROR(VLOOKUP(F1083,[1]Kontoplan!A:D,2,0)),\"Konto findes ikke!\",VLOOKUP(F1083,[1]Kontoplan!A:D,2,0)))","v":"Salg af mærker"}]
["2017-08-04",null,"Kontingent, Kim Jensen",null,null,12310,175,null,{"$f":"IF(F1084=\"\",\"\",IF(ISERROR(VLOOKUP(F1084,[1]Kontoplan!A:D,2,0)),\"Konto findes ikke!\",VLOOKUP(F1084,[1]Kontoplan!A:D,2,0)))","v":"Bank konto"}]
["2017-08-04",null,"Mærke, Sven Holm Jensen",null,null,12310,50,null,{"$f":"IF(F1085=\"\",\"\",IF(ISERROR(VLOOKUP(F1085,[1]Kontoplan!A:D,2,0)),\"Konto findes ikke!\",VLOOKUP(F1085,[1]Kontoplan!A:D,2,0)))","v":"Bank konto"}]
["2017-08-04",null,"Mærke, Sven Holm Jensen",null,null,1010,null,50,{"$f":"IF(F1086=\"\",\"\",IF(ISERROR(VLOOKUP(F1086,[1]Kontoplan!A:D,2,0)),\"Konto findes ikke!\",VLOOKUP(F1086,[1]Kontoplan!A:D,2,0)))","v":"Salg af mærker"}]
["2017-08-07",30,"Blomster, Greves båre",null,null,12310,null,500,{"$f":"IF(F1087=\"\",\"\",IF(ISERROR(VLOOKUP(F1087,[1]Kontoplan!A:D,2,0)),\"Konto findes ikke!\",VLOOKUP(F1087,[1]Kontoplan!A:D,2,0)))","v":"Bank konto"}]
["2017-08-07",30,"Blomster, Greves båre",null,null,2140,500,null,{"$f":"IF(F1088=\"\",\"\",IF(ISERROR(VLOOKUP(F1088,[1]Kontoplan!A:D,2,0)),\"Konto findes ikke!\",VLOOKUP(F1088,[1]Kontoplan!A:D,2,0)))","v":"Begravelser"}]
["2017-08-07",31,"Bestyrelsesmøde 4/8-17",null,null,12310,null,792,{"$f":"IF(F1089=\"\",\"\",IF(ISERROR(VLOOKUP(F1089,[1]Kontoplan!A:D,2,0)),\"Konto findes ikke!\",VLOOKUP(F1089,[1]Kontoplan!A:D,2,0)))","v":"Bank konto"}]
["2017-08-07",31,"Bestyrelsesmøde 4/8-18",null,null,2180,792,null,{"$f":"IF(F1090=\"\",\"\",IF(ISERROR(VLOOKUP(F1090,[1]Kontoplan!A:D,2,0)),\"Konto findes ikke!\",VLOOKUP(F1090,[1]Kontoplan!A:D,2,0)))","v":"Bestyrelses møder"}]
["2017-08-07",null,"Kontingent, John Bloch Andersen",61,2018,1000,null,175,{"$f":"IF(F1091=\"\",\"\",IF(ISERROR(VLOOKUP(F1091,[1]Kontoplan!A:D,2,0)),\"Konto findes ikke!\",VLOOKUP(F1091,[1]Kontoplan!A:D,2,0)))","v":"Kontingenter"}]
["2017-08-07",null,"Kontingent, Odd Bjarne Poulsen",67,2018,1000,null,175,{"$f":"IF(F1092=\"\",\"\",IF(ISERROR(VLOOKUP(F1092,[1]Kontoplan!A:D,2,0)),\"Konto findes ikke!\",VLOOKUP(F1092,[1]Kontoplan!A:D,2,0)))","v":"Kontingenter"}]
["2017-08-07",null,"Kontingent, Odd Bjarne Poulsen",null,null,12310,175,null,{"$f":"IF(F1093=\"\",\"\",IF(ISERROR(VLOOKUP(F1093,[1]Kontoplan!A:D,2,0)),\"Konto findes ikke!\",VLOOKUP(F1093,[1]Kontoplan!A:D,2,0)))","v":"Bank konto"}]
["2017-08-07",null,"Kontingent, John Bloch Andersen",null,null,12310,175,null,{"$f":"IF(F1094=\"\",\"\",IF(ISERROR(VLOOKUP(F1094,[1]Kontoplan!A:D,2,0)),\"Konto findes ikke!\",VLOOKUP(F1094,[1]Kontoplan!A:D,2,0)))","v":"Bank konto"}]
["2017-08-08",null,"Kontingent, Peter Munk Petersen",46,2018,1000,null,175,{"$f":"IF(F1095=\"\",\"\",IF(ISERROR(VLOOKUP(F1095,[1]Kontoplan!A:D,2,0)),\"Konto findes ikke!\",VLOOKUP(F1095,[1]Kontoplan!A:D,2,0)))","v":"Kontingenter"}]
["2017-08-08",null,"Kontingent, Peter Munk Petersen",null,null,12310,175,null,{"$f":"IF(F1096=\"\",\"\",IF(ISERROR(VLOOKUP(F1096,[1]Kontoplan!A:D,2,0)),\"Konto findes ikke!\",VLOOKUP(F1096,[1]Kontoplan!A:D,2,0)))","v":"Bank konto"}]
["2017-08-09",null,"Kontingent, Johnny Kofoed",31,2018,1000,null,175,{"$f":"IF(F1097=\"\",\"\",IF(ISERROR(VLOOKUP(F1097,[1]Kontoplan!A:D,2,0)),\"Konto findes ikke!\",VLOOKUP(F1097,[1]Kontoplan!A:D,2,0)))","v":"Kontingenter"}]
["2017-08-09",null,"Kontingent, Johnny Kofoed",null,null,12310,175,null,{"$f":"IF(F1098=\"\",\"\",IF(ISERROR(VLOOKUP(F1098,[1]Kontoplan!A:D,2,0)),\"Konto findes ikke!\",VLOOKUP(F1098,[1]Kontoplan!A:D,2,0)))","v":"Bank konto"}]
["2017-08-10",null,"Kontingent, Palle Schrøder Andersen",45,2018,1000,null,175,{"$f":"IF(F1099=\"\",\"\",IF(ISERROR(VLOOKUP(F1099,[1]Kontoplan!A:D,2,0)),\"Konto findes ikke!\",VLOOKUP(F1099,[1]Kontoplan!A:D,2,0)))","v":"Kontingenter"}]
["2017-08-10",null,"Kontingent, Palle Schrøder Andersen",null,null,12310,175,null,{"$f":"IF(F1100=\"\",\"\",IF(ISERROR(VLOOKUP(F1100,[1]Kontoplan!A:D,2,0)),\"Konto findes ikke!\",VLOOKUP(F1100,[1]Kontoplan!A:D,2,0)))","v":"Bank konto"}]
["2017-08-13",32,"Udlæg Stoffer",null,null,12310,null,622,{"$f":"IF(F1101=\"\",\"\",IF(ISERROR(VLOOKUP(F1101,[1]Kontoplan!A:D,2,0)),\"Konto findes ikke!\",VLOOKUP(F1101,[1]Kontoplan!A:D,2,0)))","v":"Bank konto"}]
["2017-08-13",32,"Udlæg Stoffer",null,null,2100,500,null,{"$f":"IF(F1102=\"\",\"\",IF(ISERROR(VLOOKUP(F1102,[1]Kontoplan!A:D,2,0)),\"Konto findes ikke!\",VLOOKUP(F1102,[1]Kontoplan!A:D,2,0)))","v":"Forplejning til møder/Rejser"}]
["2017-08-13",32,"Udlæg Stoffer",null,null,2140,50,null,{"$f":"IF(F1103=\"\",\"\",IF(ISERROR(VLOOKUP(F1103,[1]Kontoplan!A:D,2,0)),\"Konto findes ikke!\",VLOOKUP(F1103,[1]Kontoplan!A:D,2,0)))","v":"Begravelser"}]
["2017-08-13",32,"Udlæg Stoffer",null,null,2100,72,null,{"$f":"IF(F1104=\"\",\"\",IF(ISERROR(VLOOKUP(F1104,[1]Kontoplan!A:D,2,0)),\"Konto findes ikke!\",VLOOKUP(F1104,[1]Kontoplan!A:D,2,0)))","v":"Forplejning til møder/Rejser"}]
["2017-08-14",33,"Forplejning omskoling",null,null,12310,null,390,{"$f":"IF(F1105=\"\",\"\",IF(ISERROR(VLOOKUP(F1105,[1]Kontoplan!A:D,2,0)),\"Konto findes ikke!\",VLOOKUP(F1105,[1]Kontoplan!A:D,2,0)))","v":"Bank konto"}]
["2017-08-14",33,"Forplejning omskoling",null,null,2100,390,null,{"$f":"IF(F1106=\"\",\"\",IF(ISERROR(VLOOKUP(F1106,[1]Kontoplan!A:D,2,0)),\"Konto findes ikke!\",VLOOKUP(F1106,[1]Kontoplan!A:D,2,0)))","v":"Forplejning til møder/Rejser"}]
["2017-08-14",null,"Kontingent, Flemming Pedersen",80,2018,1000,null,175,{"$f":"IF(F1107=\"\",\"\",IF(ISERROR(VLOOKUP(F1107,[1]Kontoplan!A:D,2,0)),\"Konto findes ikke!\",VLOOKUP(F1107,[1]Kontoplan!A:D,2,0)))","v":"Kontingenter"}]
["2017-08-14",null,"Kontingent, Flemming Pedersen",null,null,12310,175,null,{"$f":"IF(F1108=\"\",\"\",IF(ISERROR(VLOOKUP(F1108,[1]Kontoplan!A:D,2,0)),\"Konto findes ikke!\",VLOOKUP(F1108,[1]Kontoplan!A:D,2,0)))","v":"Bank konto"}]
["2017-08-18",null,"Kontingent, John Johannes Jensen",71,2018,1000,null,175,{"$f":"IF(F1109=\"\",\"\",IF(ISERROR(VLOOKUP(F1109,[1]Kontoplan!A:D,2,0)),\"Konto findes ikke!\",VLOOKUP(F1109,[1]Kontoplan!A:D,2,0)))","v":"Kontingenter"}]
["2017-08-18",null,"Kontingent, John Johannes Jensen",null,null,12310,175,null,{"$f":"IF(F1110=\"\",\"\",IF(ISERROR(VLOOKUP(F1110,[1]Kontoplan!A:D,2,0)),\"Konto findes ikke!\",VLOOKUP(F1110,[1]Kontoplan!A:D,2,0)))","v":"Bank konto"}]
["2017-08-19",34,"Rejser Be.mød OH 040817",null,null,12310,null,707,{"$f":"IF(F1111=\"\",\"\",IF(ISERROR(VLOOKUP(F1111,[1]Kontoplan!A:D,2,0)),\"Konto findes ikke!\",VLOOKUP(F1111,[1]Kontoplan!A:D,2,0)))","v":"Bank konto"}]
["2017-08-19",34,"Rejser Be.mød OH 040818",null,null,2160,707,null,{"$f":"IF(F1112=\"\",\"\",IF(ISERROR(VLOOKUP(F1112,[1]Kontoplan!A:D,2,0)),\"Konto findes ikke!\",VLOOKUP(F1112,[1]Kontoplan!A:D,2,0)))","v":"Rejser"}]
["2017-08-20",null,"Kontingent, Michael Fausing",51,2018,1000,null,175,{"$f":"IF(F1113=\"\",\"\",IF(ISERROR(VLOOKUP(F1113,[1]Kontoplan!A:D,2,0)),\"Konto findes ikke!\",VLOOKUP(F1113,[1]Kontoplan!A:D,2,0)))","v":"Kontingenter"}]
["2017-08-20",null,"Kontingent, Karsten Kofoed Jensen",86,2018,1000,null,175,{"$f":"IF(F1114=\"\",\"\",IF(ISERROR(VLOOKUP(F1114,[1]Kontoplan!A:D,2,0)),\"Konto findes ikke!\",VLOOKUP(F1114,[1]Kontoplan!A:D,2,0)))","v":"Kontingenter"}]
["2017-08-20",null,"Kontingent, Karsten Kofoed Jensen",null,null,12310,175,null,{"$f":"IF(F1115=\"\",\"\",IF(ISERROR(VLOOKUP(F1115,[1]Kontoplan!A:D,2,0)),\"Konto findes ikke!\",VLOOKUP(F1115,[1]Kontoplan!A:D,2,0)))","v":"Bank konto"}]
["2017-08-20",null,"Kontingent, Michael Fausing",null,null,12310,175,null,{"$f":"IF(F1116=\"\",\"\",IF(ISERROR(VLOOKUP(F1116,[1]Kontoplan!A:D,2,0)),\"Konto findes ikke!\",VLOOKUP(F1116,[1]Kontoplan!A:D,2,0)))","v":"Bank konto"}]
["2017-08-21",35,"Gave, Essemann",null,null,12310,null,289.75,{"$f":"IF(F1117=\"\",\"\",IF(ISERROR(VLOOKUP(F1117,[1]Kontoplan!A:D,2,0)),\"Konto findes ikke!\",VLOOKUP(F1117,[1]Kontoplan!A:D,2,0)))","v":"Bank konto"}]
["2017-08-21",35,"Gave, Essemann",null,null,2070,289.75,null,{"$f":"IF(F1118=\"\",\"\",IF(ISERROR(VLOOKUP(F1118,[1]Kontoplan!A:D,2,0)),\"Konto findes ikke!\",VLOOKUP(F1118,[1]Kontoplan!A:D,2,0)))","v":"Gaver"}]
["2017-08-21",null,"Kontingent, Per Sørensen",37,2018,1000,null,175,{"$f":"IF(F1119=\"\",\"\",IF(ISERROR(VLOOKUP(F1119,[1]Kontoplan!A:D,2,0)),\"Konto findes ikke!\",VLOOKUP(F1119,[1]Kontoplan!A:D,2,0)))","v":"Kontingenter"}]
["2017-08-21",null,"Kontingent, Jørn Lundberg",77,2018,1000,null,175,{"$f":"IF(F1120=\"\",\"\",IF(ISERROR(VLOOKUP(F1120,[1]Kontoplan!A:D,2,0)),\"Konto findes ikke!\",VLOOKUP(F1120,[1]Kontoplan!A:D,2,0)))","v":"Kontingenter"}]
["2017-08-21",null,"Kontingent, Hardy Jørgensen",88,2018,1000,null,175,{"$f":"IF(F1121=\"\",\"\",IF(ISERROR(VLOOKUP(F1121,[1]Kontoplan!A:D,2,0)),\"Konto findes ikke!\",VLOOKUP(F1121,[1]Kontoplan!A:D,2,0)))","v":"Kontingenter"}]
["2017-08-21",null,"Kontingent, Hardy Jørgensen",null,null,12310,175,null,{"$f":"IF(F1122=\"\",\"\",IF(ISERROR(VLOOKUP(F1122,[1]Kontoplan!A:D,2,0)),\"Konto findes ikke!\",VLOOKUP(F1122,[1]Kontoplan!A:D,2,0)))","v":"Bank konto"}]
["2017-08-21",null,"Kontingent, Per Sørensen",null,null,12310,175,null,{"$f":"IF(F1123=\"\",\"\",IF(ISERROR(VLOOKUP(F1123,[1]Kontoplan!A:D,2,0)),\"Konto findes ikke!\",VLOOKUP(F1123,[1]Kontoplan!A:D,2,0)))","v":"Bank konto"}]
["2017-08-21",null,"Kontingent, Jørn Lundberg",null,null,12310,175,null,{"$f":"IF(F1124=\"\",\"\",IF(ISERROR(VLOOKUP(F1124,[1]Kontoplan!A:D,2,0)),\"Konto findes ikke!\",VLOOKUP(F1124,[1]Kontoplan!A:D,2,0)))","v":"Bank konto"}]
["2017-08-22",null,"Kontingent, Bent Ellevang",11,2018,1000,null,175,{"$f":"IF(F1125=\"\",\"\",IF(ISERROR(VLOOKUP(F1125,[1]Kontoplan!A:D,2,0)),\"Konto findes ikke!\",VLOOKUP(F1125,[1]Kontoplan!A:D,2,0)))","v":"Kontingenter"}]
["2017-08-22",null,"Kontingent, Jørgen Espersen",32,2018,1000,null,175,{"$f":"IF(F1126=\"\",\"\",IF(ISERROR(VLOOKUP(F1126,[1]Kontoplan!A:D,2,0)),\"Konto findes ikke!\",VLOOKUP(F1126,[1]Kontoplan!A:D,2,0)))","v":"Kontingenter"}]
["2017-08-22",null,"Kontingent, Carsten Kofod Pedersen",41,2018,1000,null,175,{"$f":"IF(F1127=\"\",\"\",IF(ISERROR(VLOOKUP(F1127,[1]Kontoplan!A:D,2,0)),\"Konto findes ikke!\",VLOOKUP(F1127,[1]Kontoplan!A:D,2,0)))","v":"Kontingenter"}]
["2017-08-22",null,"Kontingent, Michael Bendtsen",59,2018,1000,null,175,{"$f":"IF(F1128=\"\",\"\",IF(ISERROR(VLOOKUP(F1128,[1]Kontoplan!A:D,2,0)),\"Konto findes ikke!\",VLOOKUP(F1128,[1]Kontoplan!A:D,2,0)))","v":"Kontingenter"}]
["2017-08-22",null,"Kontingent, Flemming Kure",84,2018,1000,null,175,{"$f":"IF(F1129=\"\",\"\",IF(ISERROR(VLOOKUP(F1129,[1]Kontoplan!A:D,2,0)),\"Konto findes ikke!\",VLOOKUP(F1129,[1]Kontoplan!A:D,2,0)))","v":"Kontingenter"}]
["2017-08-22",null,"Kontingent, Johnny Schmidt",87,2018,1000,null,175,{"$f":"IF(F1130=\"\",\"\",IF(ISERROR(VLOOKUP(F1130,[1]Kontoplan!A:D,2,0)),\"Konto findes ikke!\",VLOOKUP(F1130,[1]Kontoplan!A:D,2,0)))","v":"Kontingenter"}]
["2017-08-22",null,"Kontingent, Johnny Schmidt",null,null,12310,175,null,{"$f":"IF(F1131=\"\",\"\",IF(ISERROR(VLOOKUP(F1131,[1]Kontoplan!A:D,2,0)),\"Konto findes ikke!\",VLOOKUP(F1131,[1]Kontoplan!A:D,2,0)))","v":"Bank konto"}]
["2017-08-22",null,"Kontingent, Michael Bendtsen",null,null,12310,175,null,{"$f":"IF(F1132=\"\",\"\",IF(ISERROR(VLOOKUP(F1132,[1]Kontoplan!A:D,2,0)),\"Konto findes ikke!\",VLOOKUP(F1132,[1]Kontoplan!A:D,2,0)))","v":"Bank konto"}]
["2017-08-22",null,"Kontingent, Flemming Kure",null,null,12310,175,null,{"$f":"IF(F1133=\"\",\"\",IF(ISERROR(VLOOKUP(F1133,[1]Kontoplan!A:D,2,0)),\"Konto findes ikke!\",VLOOKUP(F1133,[1]Kontoplan!A:D,2,0)))","v":"Bank konto"}]
["2017-08-22",null,"Kontingent, Carsten Kofod Pedersen",null,null,12310,175,null,{"$f":"IF(F1134=\"\",\"\",IF(ISERROR(VLOOKUP(F1134,[1]Kontoplan!A:D,2,0)),\"Konto findes ikke!\",VLOOKUP(F1134,[1]Kontoplan!A:D,2,0)))","v":"Bank konto"}]
["2017-08-22",null,"Kontingent, Jørgen Espersen",null,null,12310,175,null,{"$f":"IF(F1135=\"\",\"\",IF(ISERROR(VLOOKUP(F1135,[1]Kontoplan!A:D,2,0)),\"Konto findes ikke!\",VLOOKUP(F1135,[1]Kontoplan!A:D,2,0)))","v":"Bank konto"}]
["2017-08-22",null,"Kontingent, Bent Ellevang",null,null,12310,175,null,{"$f":"IF(F1136=\"\",\"\",IF(ISERROR(VLOOKUP(F1136,[1]Kontoplan!A:D,2,0)),\"Konto findes ikke!\",VLOOKUP(F1136,[1]Kontoplan!A:D,2,0)))","v":"Bank konto"}]
["2017-08-24",null,"Kontingent, C. U. Essemann-Bech",13,2018,1000,null,175,{"$f":"IF(F1137=\"\",\"\",IF(ISERROR(VLOOKUP(F1137,[1]Kontoplan!A:D,2,0)),\"Konto findes ikke!\",VLOOKUP(F1137,[1]Kontoplan!A:D,2,0)))","v":"Kontingenter"}]
["2017-08-24",null,"Kontingent, C. U. Essemann-Bech",null,null,12310,175,null,{"$f":"IF(F1138=\"\",\"\",IF(ISERROR(VLOOKUP(F1138,[1]Kontoplan!A:D,2,0)),\"Konto findes ikke!\",VLOOKUP(F1138,[1]Kontoplan!A:D,2,0)))","v":"Bank konto"}]
["2017-08-25",null,"Kontingent, Jørn Kofoed Pedersen",24,2018,1000,null,175,{"$f":"IF(F1139=\"\",\"\",IF(ISERROR(VLOOKUP(F1139,[1]Kontoplan!A:D,2,0)),\"Konto findes ikke!\",VLOOKUP(F1139,[1]Kontoplan!A:D,2,0)))","v":"Kontingenter"}]
["2017-08-25",null,"Kontingent, Karsten Kofoed Jensen",86,2019,1000,null,175,{"$f":"IF(F1140=\"\",\"\",IF(ISERROR(VLOOKUP(F1140,[1]Kontoplan!A:D,2,0)),\"Konto findes ikke!\",VLOOKUP(F1140,[1]Kontoplan!A:D,2,0)))","v":"Kontingenter"}]
["2017-08-25",null,"Kontingent, Karsten Kofoed Jensen",null,null,12310,175,null,{"$f":"IF(F1141=\"\",\"\",IF(ISERROR(VLOOKUP(F1141,[1]Kontoplan!A:D,2,0)),\"Konto findes ikke!\",VLOOKUP(F1141,[1]Kontoplan!A:D,2,0)))","v":"Bank konto"}]
["2017-08-25",null,"Kontingent, Jørn Kofoed Pedersen",null,null,12310,175,null,{"$f":"IF(F1142=\"\",\"\",IF(ISERROR(VLOOKUP(F1142,[1]Kontoplan!A:D,2,0)),\"Konto findes ikke!\",VLOOKUP(F1142,[1]Kontoplan!A:D,2,0)))","v":"Bank konto"}]
["2017-08-30",null,"Kontingent, Ole Holm",4,2018,1000,null,175,{"$f":"IF(F1143=\"\",\"\",IF(ISERROR(VLOOKUP(F1143,[1]Kontoplan!A:D,2,0)),\"Konto findes ikke!\",VLOOKUP(F1143,[1]Kontoplan!A:D,2,0)))","v":"Kontingenter"}]
["2017-08-30",null,"Kontingent, Ivan Hampe",52,2018,1000,null,175,{"$f":"IF(F1144=\"\",\"\",IF(ISERROR(VLOOKUP(F1144,[1]Kontoplan!A:D,2,0)),\"Konto findes ikke!\",VLOOKUP(F1144,[1]Kontoplan!A:D,2,0)))","v":"Kontingenter"}]
["2017-08-30",null,"Kontingent, Ole Holm",null,null,12310,175,null,{"$f":"IF(F1145=\"\",\"\",IF(ISERROR(VLOOKUP(F1145,[1]Kontoplan!A:D,2,0)),\"Konto findes ikke!\",VLOOKUP(F1145,[1]Kontoplan!A:D,2,0)))","v":"Bank konto"}]
["2017-08-30",null,"Kontingent, Ivan Hampe",null,null,12310,175,null,{"$f":"IF(F1146=\"\",\"\",IF(ISERROR(VLOOKUP(F1146,[1]Kontoplan!A:D,2,0)),\"Konto findes ikke!\",VLOOKUP(F1146,[1]Kontoplan!A:D,2,0)))","v":"Bank konto"}]
["2017-08-31",null,"Kontingent, Kurt Larsen",14,2018,1000,null,175,{"$f":"IF(F1147=\"\",\"\",IF(ISERROR(VLOOKUP(F1147,[1]Kontoplan!A:D,2,0)),\"Konto findes ikke!\",VLOOKUP(F1147,[1]Kontoplan!A:D,2,0)))","v":"Kontingenter"}]
["2017-08-31",null,"Kontingent, Søren Dyrby Schou",15,2018,1000,null,175,{"$f":"IF(F1148=\"\",\"\",IF(ISERROR(VLOOKUP(F1148,[1]Kontoplan!A:D,2,0)),\"Konto findes ikke!\",VLOOKUP(F1148,[1]Kontoplan!A:D,2,0)))","v":"Kontingenter"}]
["2017-08-31",null,"Kontingent, Klaus Buchholdt",21,2018,1000,null,175,{"$f":"IF(F1149=\"\",\"\",IF(ISERROR(VLOOKUP(F1149,[1]Kontoplan!A:D,2,0)),\"Konto findes ikke!\",VLOOKUP(F1149,[1]Kontoplan!A:D,2,0)))","v":"Kontingenter"}]
["2017-08-31",null,"Kontingent, John Nielsen",30,2018,1000,null,175,{"$f":"IF(F1150=\"\",\"\",IF(ISERROR(VLOOKUP(F1150,[1]Kontoplan!A:D,2,0)),\"Konto findes ikke!\",VLOOKUP(F1150,[1]Kontoplan!A:D,2,0)))","v":"Kontingenter"}]
["2017-08-31",null,"Kontingent, Kaj Ingvorsen",40,2018,1000,null,175,{"$f":"IF(F1151=\"\",\"\",IF(ISERROR(VLOOKUP(F1151,[1]Kontoplan!A:D,2,0)),\"Konto findes ikke!\",VLOOKUP(F1151,[1]Kontoplan!A:D,2,0)))","v":"Kontingenter"}]
["2017-08-31",null,"Kontingent, Jens Givskov",47,2018,1000,null,175,{"$f":"IF(F1152=\"\",\"\",IF(ISERROR(VLOOKUP(F1152,[1]Kontoplan!A:D,2,0)),\"Konto findes ikke!\",VLOOKUP(F1152,[1]Kontoplan!A:D,2,0)))","v":"Kontingenter"}]
["2017-08-31",null,"Kontingent, Ebbe Torgersen",53,2018,1000,null,175,{"$f":"IF(F1153=\"\",\"\",IF(ISERROR(VLOOKUP(F1153,[1]Kontoplan!A:D,2,0)),\"Konto findes ikke!\",VLOOKUP(F1153,[1]Kontoplan!A:D,2,0)))","v":"Kontingenter"}]
["2017-08-31",null,"Kontingent, E. A. Larsen",63,2018,1000,null,175,{"$f":"IF(F1154=\"\",\"\",IF(ISERROR(VLOOKUP(F1154,[1]Kontoplan!A:D,2,0)),\"Konto findes ikke!\",VLOOKUP(F1154,[1]Kontoplan!A:D,2,0)))","v":"Kontingenter"}]
["2017-08-31",null,"Kontingent, Finn Nielsen (Østermarie)",64,2018,1000,null,175,{"$f":"IF(F1155=\"\",\"\",IF(ISERROR(VLOOKUP(F1155,[1]Kontoplan!A:D,2,0)),\"Konto findes ikke!\",VLOOKUP(F1155,[1]Kontoplan!A:D,2,0)))","v":"Kontingenter"}]
["2017-08-31",null,"Kontingent, Palle Bo Jensen",65,2018,1000,null,175,{"$f":"IF(F1156=\"\",\"\",IF(ISERROR(VLOOKUP(F1156,[1]Kontoplan!A:D,2,0)),\"Konto findes ikke!\",VLOOKUP(F1156,[1]Kontoplan!A:D,2,0)))","v":"Kontingenter"}]
["2017-08-31",null,"Kontingent, Allan Olsen",66,2018,1000,null,175,{"$f":"IF(F1157=\"\",\"\",IF(ISERROR(VLOOKUP(F1157,[1]Kontoplan!A:D,2,0)),\"Konto findes ikke!\",VLOOKUP(F1157,[1]Kontoplan!A:D,2,0)))","v":"Kontingenter"}]
["2017-08-31",null,"Kontingent, Kaj Ingvorsen",null,null,12310,175,null,{"$f":"IF(F1158=\"\",\"\",IF(ISERROR(VLOOKUP(F1158,[1]Kontoplan!A:D,2,0)),\"Konto findes ikke!\",VLOOKUP(F1158,[1]Kontoplan!A:D,2,0)))","v":"Bank konto"}]
["2017-08-31",null,"Kontingent, John Nielsen",null,null,12310,175,null,{"$f":"IF(F1159=\"\",\"\",IF(ISERROR(VLOOKUP(F1159,[1]Kontoplan!A:D,2,0)),\"Konto findes ikke!\",VLOOKUP(F1159,[1]Kontoplan!A:D,2,0)))","v":"Bank konto"}]
["2017-08-31",null,"Kontingent, Finn Nielsen (Østermarie)",null,null,12310,175,null,{"$f":"IF(F1160=\"\",\"\",IF(ISERROR(VLOOKUP(F1160,[1]Kontoplan!A:D,2,0)),\"Konto findes ikke!\",VLOOKUP(F1160,[1]Kontoplan!A:D,2,0)))","v":"Bank konto"}]
["2017-08-31",null,"Kontingent, Jens Givskov",null,null,12310,175,null,{"$f":"IF(F1161=\"\",\"\",IF(ISERROR(VLOOKUP(F1161,[1]Kontoplan!A:D,2,0)),\"Konto findes ikke!\",VLOOKUP(F1161,[1]Kontoplan!A:D,2,0)))","v":"Bank konto"}]
["2017-08-31",null,"Kontingent, Ebbe Torgersen",null,null,12310,175,null,{"$f":"IF(F1162=\"\",\"\",IF(ISERROR(VLOOKUP(F1162,[1]Kontoplan!A:D,2,0)),\"Konto findes ikke!\",VLOOKUP(F1162,[1]Kontoplan!A:D,2,0)))","v":"Bank konto"}]
["2017-08-31",null,"Kontingent, E. A. Larsen",null,null,12310,175,null,{"$f":"IF(F1163=\"\",\"\",IF(ISERROR(VLOOKUP(F1163,[1]Kontoplan!A:D,2,0)),\"Konto findes ikke!\",VLOOKUP(F1163,[1]Kontoplan!A:D,2,0)))","v":"Bank konto"}]
["2017-08-31",null,"Kontingent, Kurt Larsen",null,null,12310,175,null,{"$f":"IF(F1164=\"\",\"\",IF(ISERROR(VLOOKUP(F1164,[1]Kontoplan!A:D,2,0)),\"Konto findes ikke!\",VLOOKUP(F1164,[1]Kontoplan!A:D,2,0)))","v":"Bank konto"}]
["2017-08-31",null,"Kontingent, Klaus Buchholdt",null,null,12310,175,null,{"$f":"IF(F1165=\"\",\"\",IF(ISERROR(VLOOKUP(F1165,[1]Kontoplan!A:D,2,0)),\"Konto findes ikke!\",VLOOKUP(F1165,[1]Kontoplan!A:D,2,0)))","v":"Bank konto"}]
["2017-08-31",null,"Kontingent, Palle Jensen",null,null,12310,175,null,{"$f":"IF(F1166=\"\",\"\",IF(ISERROR(VLOOKUP(F1166,[1]Kontoplan!A:D,2,0)),\"Konto findes ikke!\",VLOOKUP(F1166,[1]Kontoplan!A:D,2,0)))","v":"Bank konto"}]
["2017-08-31",null,"Kontingent, Allan Olsen",null,null,12310,175,null,{"$f":"IF(F1167=\"\",\"\",IF(ISERROR(VLOOKUP(F1167,[1]Kontoplan!A:D,2,0)),\"Konto findes ikke!\",VLOOKUP(F1167,[1]Kontoplan!A:D,2,0)))","v":"Bank konto"}]
["2017-08-31",null,"Kontingent, Søren Dyrby Schou",null,null,12310,175,null,{"$f":"IF(F1168=\"\",\"\",IF(ISERROR(VLOOKUP(F1168,[1]Kontoplan!A:D,2,0)),\"Konto findes ikke!\",VLOOKUP(F1168,[1]Kontoplan!A:D,2,0)))","v":"Bank konto"}]
["2017-09-01",null,"Kontingent, Steen M Jensen",16,2018,1000,null,175,{"$f":"IF(F1169=\"\",\"\",IF(ISERROR(VLOOKUP(F1169,[1]Kontoplan!A:D,2,0)),\"Konto findes ikke!\",VLOOKUP(F1169,[1]Kontoplan!A:D,2,0)))","v":"Kontingenter"}]
["2017-09-01",null,"Kontingent, Jørn Tamdrup",57,2018,1000,null,175,{"$f":"IF(F1170=\"\",\"\",IF(ISERROR(VLOOKUP(F1170,[1]Kontoplan!A:D,2,0)),\"Konto findes ikke!\",VLOOKUP(F1170,[1]Kontoplan!A:D,2,0)))","v":"Kontingenter"}]
["2017-09-01",null,"Kontingent, Kaare Hansen",60,2018,1000,null,175,{"$f":"IF(F1171=\"\",\"\",IF(ISERROR(VLOOKUP(F1171,[1]Kontoplan!A:D,2,0)),\"Konto findes ikke!\",VLOOKUP(F1171,[1]Kontoplan!A:D,2,0)))","v":"Kontingenter"}]
["2017-09-01",null,"Kontingent, Thor J K Olsen",75,2018,1000,null,75,{"$f":"IF(F1172=\"\",\"\",IF(ISERROR(VLOOKUP(F1172,[1]Kontoplan!A:D,2,0)),\"Konto findes ikke!\",VLOOKUP(F1172,[1]Kontoplan!A:D,2,0)))","v":"Kontingenter"},"Manglende Kontingent"]
["2017-09-01",null,"Kontingent, Thor J K Olsen",null,null,12310,75,null,{"$f":"IF(F1173=\"\",\"\",IF(ISERROR(VLOOKUP(F1173,[1]Kontoplan!A:D,2,0)),\"Konto findes ikke!\",VLOOKUP(F1173,[1]Kontoplan!A:D,2,0)))","v":"Bank konto"}]
["2017-09-01",null,"Kontingent, Steen M Jensen",null,null,12310,175,null,{"$f":"IF(F1174=\"\",\"\",IF(ISERROR(VLOOKUP(F1174,[1]Kontoplan!A:D,2,0)),\"Konto findes ikke!\",VLOOKUP(F1174,[1]Kontoplan!A:D,2,0)))","v":"Bank konto"}]
["2017-09-01",null,"Kontingent, Kaare Hansen",null,null,12310,175,null,{"$f":"IF(F1175=\"\",\"\",IF(ISERROR(VLOOKUP(F1175,[1]Kontoplan!A:D,2,0)),\"Konto findes ikke!\",VLOOKUP(F1175,[1]Kontoplan!A:D,2,0)))","v":"Bank konto"}]
["2017-09-01",null,"Kontingent, Jørn Tamdrup",null,null,12310,175,null,{"$f":"IF(F1176=\"\",\"\",IF(ISERROR(VLOOKUP(F1176,[1]Kontoplan!A:D,2,0)),\"Konto findes ikke!\",VLOOKUP(F1176,[1]Kontoplan!A:D,2,0)))","v":"Bank konto"}]
["2017-09-04",null,"Kontingent, Ebbe Gejl Hansen",35,2018,1000,null,175,{"$f":"IF(F1177=\"\",\"\",IF(ISERROR(VLOOKUP(F1177,[1]Kontoplan!A:D,2,0)),\"Konto findes ikke!\",VLOOKUP(F1177,[1]Kontoplan!A:D,2,0)))","v":"Kontingenter"}]
["2017-09-04",null,"Kontingent, Kim Johansen",36,2018,1000,null,75,{"$f":"IF(F1178=\"\",\"\",IF(ISERROR(VLOOKUP(F1178,[1]Kontoplan!A:D,2,0)),\"Konto findes ikke!\",VLOOKUP(F1178,[1]Kontoplan!A:D,2,0)))","v":"Kontingenter"}]
["2017-09-04",null,"Kontingent, SSG N-J Johansen",55,2018,1000,null,175,{"$f":"IF(F1179=\"\",\"\",IF(ISERROR(VLOOKUP(F1179,[1]Kontoplan!A:D,2,0)),\"Konto findes ikke!\",VLOOKUP(F1179,[1]Kontoplan!A:D,2,0)))","v":"Kontingenter"}]
["2017-09-04",null,"Kontingent, Peer Madsen",68,2018,1000,null,175,{"$f":"IF(F1180=\"\",\"\",IF(ISERROR(VLOOKUP(F1180,[1]Kontoplan!A:D,2,0)),\"Konto findes ikke!\",VLOOKUP(F1180,[1]Kontoplan!A:D,2,0)))","v":"Kontingenter"}]
["2017-09-04",null,"Kontingent, Søren Jensen",70,2018,1000,null,175,{"$f":"IF(F1181=\"\",\"\",IF(ISERROR(VLOOKUP(F1181,[1]Kontoplan!A:D,2,0)),\"Konto findes ikke!\",VLOOKUP(F1181,[1]Kontoplan!A:D,2,0)))","v":"Kontingenter"}]
["2017-09-04",null,"Kontingent, Kim Johansen",null,null,12310,75,null,{"$f":"IF(F1182=\"\",\"\",IF(ISERROR(VLOOKUP(F1182,[1]Kontoplan!A:D,2,0)),\"Konto findes ikke!\",VLOOKUP(F1182,[1]Kontoplan!A:D,2,0)))","v":"Bank konto"}]
["2017-09-04",null,"Kontingent, Søren Jensen",null,null,12310,175,null,{"$f":"IF(F1183=\"\",\"\",IF(ISERROR(VLOOKUP(F1183,[1]Kontoplan!A:D,2,0)),\"Konto findes ikke!\",VLOOKUP(F1183,[1]Kontoplan!A:D,2,0)))","v":"Bank konto"}]
["2017-09-04",null,"Kontingent, Ebbe Gejl Hansen",null,null,12310,175,null,{"$f":"IF(F1184=\"\",\"\",IF(ISERROR(VLOOKUP(F1184,[1]Kontoplan!A:D,2,0)),\"Konto findes ikke!\",VLOOKUP(F1184,[1]Kontoplan!A:D,2,0)))","v":"Bank konto"}]
["2017-09-04",null,"Kontingent, Peer Madsen",null,null,12310,175,null,{"$f":"IF(F1185=\"\",\"\",IF(ISERROR(VLOOKUP(F1185,[1]Kontoplan!A:D,2,0)),\"Konto findes ikke!\",VLOOKUP(F1185,[1]Kontoplan!A:D,2,0)))","v":"Bank konto"}]
["2017-09-04",null,"Kontingent, SSG N-J Johansen",null,null,12310,175,null,{"$f":"IF(F1186=\"\",\"\",IF(ISERROR(VLOOKUP(F1186,[1]Kontoplan!A:D,2,0)),\"Konto findes ikke!\",VLOOKUP(F1186,[1]Kontoplan!A:D,2,0)))","v":"Bank konto"}]
["2017-09-05",null,"Kontingent, Hans-Jørgen Jensen",18,2018,1000,null,175,{"$f":"IF(F1187=\"\",\"\",IF(ISERROR(VLOOKUP(F1187,[1]Kontoplan!A:D,2,0)),\"Konto findes ikke!\",VLOOKUP(F1187,[1]Kontoplan!A:D,2,0)))","v":"Kontingenter"}]
["2017-09-05",null,"Kontingent, Uffe Jensen",28,2018,1000,null,175,{"$f":"IF(F1188=\"\",\"\",IF(ISERROR(VLOOKUP(F1188,[1]Kontoplan!A:D,2,0)),\"Konto findes ikke!\",VLOOKUP(F1188,[1]Kontoplan!A:D,2,0)))","v":"Kontingenter"}]
["2017-09-05",null,"Kontingent, Uffe G Jensen",null,null,12310,175,null,{"$f":"IF(F1189=\"\",\"\",IF(ISERROR(VLOOKUP(F1189,[1]Kontoplan!A:D,2,0)),\"Konto findes ikke!\",VLOOKUP(F1189,[1]Kontoplan!A:D,2,0)))","v":"Bank konto"}]
["2017-09-05",null,"Kontingent, Hans-Jørgen Jensen",null,null,12310,175,null,{"$f":"IF(F1190=\"\",\"\",IF(ISERROR(VLOOKUP(F1190,[1]Kontoplan!A:D,2,0)),\"Konto findes ikke!\",VLOOKUP(F1190,[1]Kontoplan!A:D,2,0)))","v":"Bank konto"}]
["2017-09-06",null,"Kontingent, Gerth Bernt Pedersen",17,2018,1000,null,75,{"$f":"IF(F1191=\"\",\"\",IF(ISERROR(VLOOKUP(F1191,[1]Kontoplan!A:D,2,0)),\"Konto findes ikke!\",VLOOKUP(F1191,[1]Kontoplan!A:D,2,0)))","v":"Kontingenter"}]
["2017-09-06",null,"Kontingent, Gerth Bernt Pedersen",null,null,12310,75,null,{"$f":"IF(F1192=\"\",\"\",IF(ISERROR(VLOOKUP(F1192,[1]Kontoplan!A:D,2,0)),\"Konto findes ikke!\",VLOOKUP(F1192,[1]Kontoplan!A:D,2,0)))","v":"Bank konto"}]
["2017-09-07",null,"Kontingent, Kurt Pedersen",56,2018,1000,null,175,{"$f":"IF(F1193=\"\",\"\",IF(ISERROR(VLOOKUP(F1193,[1]Kontoplan!A:D,2,0)),\"Konto findes ikke!\",VLOOKUP(F1193,[1]Kontoplan!A:D,2,0)))","v":"Kontingenter"}]
["2017-09-07",null,"Kontingent, Kurt Pedersen",null,null,12310,175,null,{"$f":"IF(F1194=\"\",\"\",IF(ISERROR(VLOOKUP(F1194,[1]Kontoplan!A:D,2,0)),\"Konto findes ikke!\",VLOOKUP(F1194,[1]Kontoplan!A:D,2,0)))","v":"Bank konto"}]
["2017-09-11",null,"Kontingent, Henrik Green",58,2018,1000,null,175,{"$f":"IF(F1195=\"\",\"\",IF(ISERROR(VLOOKUP(F1195,[1]Kontoplan!A:D,2,0)),\"Konto findes ikke!\",VLOOKUP(F1195,[1]Kontoplan!A:D,2,0)))","v":"Kontingenter"}]
["2017-09-11",null,"Kontingent, Henrik Green",null,null,12310,175,null,{"$f":"IF(F1196=\"\",\"\",IF(ISERROR(VLOOKUP(F1196,[1]Kontoplan!A:D,2,0)),\"Konto findes ikke!\",VLOOKUP(F1196,[1]Kontoplan!A:D,2,0)))","v":"Bank konto"}]
["2017-09-13",null,"Kontingent, Kim Bjelstrand",62,2018,1000,null,175,{"$f":"IF(F1197=\"\",\"\",IF(ISERROR(VLOOKUP(F1197,[1]Kontoplan!A:D,2,0)),\"Konto findes ikke!\",VLOOKUP(F1197,[1]Kontoplan!A:D,2,0)))","v":"Kontingenter"}]
["2017-09-13",null,"Kontingent, Kim Bjelstrand",null,null,12310,175,null,{"$f":"IF(F1198=\"\",\"\",IF(ISERROR(VLOOKUP(F1198,[1]Kontoplan!A:D,2,0)),\"Konto findes ikke!\",VLOOKUP(F1198,[1]Kontoplan!A:D,2,0)))","v":"Bank konto"}]
["2017-09-15",null,"Kontingent, Steen R Jensen",95,2018,1000,null,175,{"$f":"IF(F1199=\"\",\"\",IF(ISERROR(VLOOKUP(F1199,[1]Kontoplan!A:D,2,0)),\"Konto findes ikke!\",VLOOKUP(F1199,[1]Kontoplan!A:D,2,0)))","v":"Kontingenter"}]
["2017-09-15",null,"Kontingent, Steen R Jensen",null,null,12310,175,null,{"$f":"IF(F1200=\"\",\"\",IF(ISERROR(VLOOKUP(F1200,[1]Kontoplan!A:D,2,0)),\"Konto findes ikke!\",VLOOKUP(F1200,[1]Kontoplan!A:D,2,0)))","v":"Bank konto"}]
["2017-09-20",null,"Kontingent, Flemming Larsen",26,2018,1000,null,175,{"$f":"IF(F1201=\"\",\"\",IF(ISERROR(VLOOKUP(F1201,[1]Kontoplan!A:D,2,0)),\"Konto findes ikke!\",VLOOKUP(F1201,[1]Kontoplan!A:D,2,0)))","v":"Kontingenter"}]
["2017-09-20",null,"Betalt lån til JPC",null,null,12310,null,10000,{"$f":"IF(F1202=\"\",\"\",IF(ISERROR(VLOOKUP(F1202,[1]Kontoplan!A:D,2,0)),\"Konto findes ikke!\",VLOOKUP(F1202,[1]Kontoplan!A:D,2,0)))","v":"Bank konto"}]
["2017-09-20",null,"Betalt lån til JPC",null,null,2050,10000,null,{"$f":"IF(F1203=\"\",\"\",IF(ISERROR(VLOOKUP(F1203,[1]Kontoplan!A:D,2,0)),\"Konto findes ikke!\",VLOOKUP(F1203,[1]Kontoplan!A:D,2,0)))","v":"Tilbage betaling af Private lån"}]
["2017-09-20",null,"Kontingent, Flemming Larsen",null,null,12310,175,null,{"$f":"IF(F1204=\"\",\"\",IF(ISERROR(VLOOKUP(F1204,[1]Kontoplan!A:D,2,0)),\"Konto findes ikke!\",VLOOKUP(F1204,[1]Kontoplan!A:D,2,0)))","v":"Bank konto"}]
["2017-09-22",null,"Kontingent, Poul Lang-Jensen",96,2018,1000,null,175,{"$f":"IF(F1205=\"\",\"\",IF(ISERROR(VLOOKUP(F1205,[1]Kontoplan!A:D,2,0)),\"Konto findes ikke!\",VLOOKUP(F1205,[1]Kontoplan!A:D,2,0)))","v":"Kontingenter"}]
["2017-09-22",null,"Forplejn. Åbengård 2017",null,null,12310,null,95,{"$f":"IF(F1206=\"\",\"\",IF(ISERROR(VLOOKUP(F1206,[1]Kontoplan!A:D,2,0)),\"Konto findes ikke!\",VLOOKUP(F1206,[1]Kontoplan!A:D,2,0)))","v":"Bank konto"}]
["2017-09-22",null,"Forplejn. Åbengård 2018",null,null,2100,95,null,{"$f":"IF(F1207=\"\",\"\",IF(ISERROR(VLOOKUP(F1207,[1]Kontoplan!A:D,2,0)),\"Konto findes ikke!\",VLOOKUP(F1207,[1]Kontoplan!A:D,2,0)))","v":"Forplejning til møder/Rejser"}]
["2017-09-22",null,"Kontorhold, Williams Dams",null,null,12310,null,199.95,{"$f":"IF(F1208=\"\",\"\",IF(ISERROR(VLOOKUP(F1208,[1]Kontoplan!A:D,2,0)),\"Konto findes ikke!\",VLOOKUP(F1208,[1]Kontoplan!A:D,2,0)))","v":"Bank konto"}]
["2017-09-22",null,"Kontorhold, Williams Dams",null,null,2110,199.95,null,{"$f":"IF(F1209=\"\",\"\",IF(ISERROR(VLOOKUP(F1209,[1]Kontoplan!A:D,2,0)),\"Konto findes ikke!\",VLOOKUP(F1209,[1]Kontoplan!A:D,2,0)))","v":"Kontorhold"}]
["2017-09-22",null,"Kontingent, Poul Lang-Jensen",null,null,12310,175,null,{"$f":"IF(F1210=\"\",\"\",IF(ISERROR(VLOOKUP(F1210,[1]Kontoplan!A:D,2,0)),\"Konto findes ikke!\",VLOOKUP(F1210,[1]Kontoplan!A:D,2,0)))","v":"Bank konto"}]
["2017-09-25",null,"Udlæg til SBD, Danhostel Rønne",null,null,12310,null,980,{"$f":"IF(F1211=\"\",\"\",IF(ISERROR(VLOOKUP(F1211,[1]Kontoplan!A:D,2,0)),\"Konto findes ikke!\",VLOOKUP(F1211,[1]Kontoplan!A:D,2,0)))","v":"Bank konto"}]
["2017-09-25",null,"Udlæg til SBD, Danhostel Rønne",null,null,2065,980,null,{"$f":"IF(F1212=\"\",\"\",IF(ISERROR(VLOOKUP(F1212,[1]Kontoplan!A:D,2,0)),\"Konto findes ikke!\",VLOOKUP(F1212,[1]Kontoplan!A:D,2,0)))","v":"Opstart SBD"}]
["2017-09-26",null,"Kontingent, Angmagssalik",44,2017,1000,null,100,{"$f":"IF(F1213=\"\",\"\",IF(ISERROR(VLOOKUP(F1213,[1]Kontoplan!A:D,2,0)),\"Konto findes ikke!\",VLOOKUP(F1213,[1]Kontoplan!A:D,2,0)))","v":"Kontingenter"},"Mangler 75,-"]
["2017-09-26",null,"Kontingent, Angmagssalik",null,null,12310,250,null,{"$f":"IF(F1214=\"\",\"\",IF(ISERROR(VLOOKUP(F1214,[1]Kontoplan!A:D,2,0)),\"Konto findes ikke!\",VLOOKUP(F1214,[1]Kontoplan!A:D,2,0)))","v":"Bank konto"}]
["2017-09-26",null,"Kontingent, Angmagssalik",null,null,1050,null,150,{"$f":"IF(F1215=\"\",\"\",IF(ISERROR(VLOOKUP(F1215,[1]Kontoplan!A:D,2,0)),\"Konto findes ikke!\",VLOOKUP(F1215,[1]Kontoplan!A:D,2,0)))","v":"Deltagergebyr, Dragonfest"}]
["2017-09-29",null,"Gebyr ifølge nota",null,null,12310,null,75,{"$f":"IF(F1216=\"\",\"\",IF(ISERROR(VLOOKUP(F1216,[1]Kontoplan!A:D,2,0)),\"Konto findes ikke!\",VLOOKUP(F1216,[1]Kontoplan!A:D,2,0)))","v":"Bank konto"}]
["2017-09-29",null,"Gebyr ifølge nota",null,null,2130,75,null,{"$f":"IF(F1217=\"\",\"\",IF(ISERROR(VLOOKUP(F1217,[1]Kontoplan!A:D,2,0)),\"Konto findes ikke!\",VLOOKUP(F1217,[1]Kontoplan!A:D,2,0)))","v":"Bankgebyr/Renter"}]
["2017-10-02",null,"Kontingent, Henrik Pedersen",39,2018,1000,null,175,{"$f":"IF(F1218=\"\",\"\",IF(ISERROR(VLOOKUP(F1218,[1]Kontoplan!A:D,2,0)),\"Konto findes ikke!\",VLOOKUP(F1218,[1]Kontoplan!A:D,2,0)))","v":"Kontingenter"}]
["2017-10-02",null,"Kontingent, Henrik Pedersen",null,null,12310,175,null,{"$f":"IF(F1219=\"\",\"\",IF(ISERROR(VLOOKUP(F1219,[1]Kontoplan!A:D,2,0)),\"Konto findes ikke!\",VLOOKUP(F1219,[1]Kontoplan!A:D,2,0)))","v":"Bank konto"}]
["2017-10-03",38,"udlæg Reservedele EGA",null,null,2080,195.5,null,{"$f":"IF(F1220=\"\",\"\",IF(ISERROR(VLOOKUP(F1220,[1]Kontoplan!A:D,2,0)),\"Konto findes ikke!\",VLOOKUP(F1220,[1]Kontoplan!A:D,2,0)))","v":"Reservedele"}]
["2017-10-03",39,"udlæg Reservedele EGA",null,null,2080,392.5,null,{"$f":"IF(F1221=\"\",\"\",IF(ISERROR(VLOOKUP(F1221,[1]Kontoplan!A:D,2,0)),\"Konto findes ikke!\",VLOOKUP(F1221,[1]Kontoplan!A:D,2,0)))","v":"Reservedele"}]
["2017-10-03",null,"udlæg Reservedele EGA",null,null,12310,null,588,{"$f":"IF(F1222=\"\",\"\",IF(ISERROR(VLOOKUP(F1222,[1]Kontoplan!A:D,2,0)),\"Konto findes ikke!\",VLOOKUP(F1222,[1]Kontoplan!A:D,2,0)))","v":"Bank konto"}]
["2017-10-04",null,"Kontingent, Per Leif Andersen",49,2018,1000,null,175,{"$f":"IF(F1223=\"\",\"\",IF(ISERROR(VLOOKUP(F1223,[1]Kontoplan!A:D,2,0)),\"Konto findes ikke!\",VLOOKUP(F1223,[1]Kontoplan!A:D,2,0)))","v":"Kontingenter"}]
["2017-10-04",null,"Kontingent, Tom Nielsen",97,2018,1000,null,175,{"$f":"IF(F1224=\"\",\"\",IF(ISERROR(VLOOKUP(F1224,[1]Kontoplan!A:D,2,0)),\"Konto findes ikke!\",VLOOKUP(F1224,[1]Kontoplan!A:D,2,0)))","v":"Kontingenter"}]
["2017-10-04",null,"Kontingent, Per Leif Andersen",null,null,12310,175,null,{"$f":"IF(F1225=\"\",\"\",IF(ISERROR(VLOOKUP(F1225,[1]Kontoplan!A:D,2,0)),\"Konto findes ikke!\",VLOOKUP(F1225,[1]Kontoplan!A:D,2,0)))","v":"Bank konto"}]
["2017-10-04",null,"Kontingent, Tom Nielsen",null,null,12310,175,null,{"$f":"IF(F1226=\"\",\"\",IF(ISERROR(VLOOKUP(F1226,[1]Kontoplan!A:D,2,0)),\"Konto findes ikke!\",VLOOKUP(F1226,[1]Kontoplan!A:D,2,0)))","v":"Bank konto"}]
["2017-10-10",40,"Bestyrelsesmøde, 11.10.17",null,null,12310,null,394.1,{"$f":"IF(F1227=\"\",\"\",IF(ISERROR(VLOOKUP(F1227,[1]Kontoplan!A:D,2,0)),\"Konto findes ikke!\",VLOOKUP(F1227,[1]Kontoplan!A:D,2,0)))","v":"Bank konto"}]
["2017-10-10",40,"Bestyrelsesmøde, 11.10.18",null,null,2180,394.1,null,{"$f":"IF(F1228=\"\",\"\",IF(ISERROR(VLOOKUP(F1228,[1]Kontoplan!A:D,2,0)),\"Konto findes ikke!\",VLOOKUP(F1228,[1]Kontoplan!A:D,2,0)))","v":"Bestyrelses møder"}]
["2017-10-10",null,"Kontingent, Finn Larsen",54,2018,1000,null,175,{"$f":"IF(F1229=\"\",\"\",IF(ISERROR(VLOOKUP(F1229,[1]Kontoplan!A:D,2,0)),\"Konto findes ikke!\",VLOOKUP(F1229,[1]Kontoplan!A:D,2,0)))","v":"Kontingenter"}]
["2017-10-10",null,"Kontingent, Finn Larsen",null,null,12310,175,null,{"$f":"IF(F1230=\"\",\"\",IF(ISERROR(VLOOKUP(F1230,[1]Kontoplan!A:D,2,0)),\"Konto findes ikke!\",VLOOKUP(F1230,[1]Kontoplan!A:D,2,0)))","v":"Bank konto"}]
["2017-10-12",null,"Kontingent, Mads Egede Krahl",20,2018,1000,null,175,{"$f":"IF(F1231=\"\",\"\",IF(ISERROR(VLOOKUP(F1231,[1]Kontoplan!A:D,2,0)),\"Konto findes ikke!\",VLOOKUP(F1231,[1]Kontoplan!A:D,2,0)))","v":"Kontingenter"}]
["2017-10-12",null,"Kontingent, Mads Egede Krahl",null,null,12310,175,null,{"$f":"IF(F1232=\"\",\"\",IF(ISERROR(VLOOKUP(F1232,[1]Kontoplan!A:D,2,0)),\"Konto findes ikke!\",VLOOKUP(F1232,[1]Kontoplan!A:D,2,0)))","v":"Bank konto"}]
["2017-10-17",null,"Kontingent, Gert Lykke Espersen",92,2018,1000,null,175,{"$f":"IF(F1233=\"\",\"\",IF(ISERROR(VLOOKUP(F1233,[1]Kontoplan!A:D,2,0)),\"Konto findes ikke!\",VLOOKUP(F1233,[1]Kontoplan!A:D,2,0)))","v":"Kontingenter"}]
["2017-10-17",null,"Kontingent, Gert Lykke Espersen",null,null,12310,175,null,{"$f":"IF(F1234=\"\",\"\",IF(ISERROR(VLOOKUP(F1234,[1]Kontoplan!A:D,2,0)),\"Konto findes ikke!\",VLOOKUP(F1234,[1]Kontoplan!A:D,2,0)))","v":"Bank konto"}]
["2017-10-18",null,"Kontingent, Birger E. Skov",73,2018,1000,null,175,{"$f":"IF(F1235=\"\",\"\",IF(ISERROR(VLOOKUP(F1235,[1]Kontoplan!A:D,2,0)),\"Konto findes ikke!\",VLOOKUP(F1235,[1]Kontoplan!A:D,2,0)))","v":"Kontingenter"}]
["2017-10-18",null,"Kontingent, Birger E. Skov",null,null,12310,175,null,{"$f":"IF(F1236=\"\",\"\",IF(ISERROR(VLOOKUP(F1236,[1]Kontoplan!A:D,2,0)),\"Konto findes ikke!\",VLOOKUP(F1236,[1]Kontoplan!A:D,2,0)))","v":"Bank konto"}]
["2017-10-19",null,"Kontingent, Robert Pedersen",72,2018,1000,null,175,{"$f":"IF(F1237=\"\",\"\",IF(ISERROR(VLOOKUP(F1237,[1]Kontoplan!A:D,2,0)),\"Konto findes ikke!\",VLOOKUP(F1237,[1]Kontoplan!A:D,2,0)))","v":"Kontingenter"}]
["2017-10-19",null,"Kontingent, Robert Pedersen",null,null,12310,175,null,{"$f":"IF(F1238=\"\",\"\",IF(ISERROR(VLOOKUP(F1238,[1]Kontoplan!A:D,2,0)),\"Konto findes ikke!\",VLOOKUP(F1238,[1]Kontoplan!A:D,2,0)))","v":"Bank konto"}]
["2017-10-19",null,"Øl + vand Fakta Nexø",null,null,12310,null,1650,{"$f":"IF(F1239=\"\",\"\",IF(ISERROR(VLOOKUP(F1239,[1]Kontoplan!A:D,2,0)),\"Konto findes ikke!\",VLOOKUP(F1239,[1]Kontoplan!A:D,2,0)))","v":"Bank konto"}]
["2017-10-19",null,"Øl + vand Fakta Nexø",null,null,2010,1650,null,{"$f":"IF(F1240=\"\",\"\",IF(ISERROR(VLOOKUP(F1240,[1]Kontoplan!A:D,2,0)),\"Konto findes ikke!\",VLOOKUP(F1240,[1]Kontoplan!A:D,2,0)))","v":"Indkøb af øl + vand"}]
["2017-10-20",null,"Kontingent, Ebbe M Jensen",50,2018,1000,null,175,{"$f":"IF(F1241=\"\",\"\",IF(ISERROR(VLOOKUP(F1241,[1]Kontoplan!A:D,2,0)),\"Konto findes ikke!\",VLOOKUP(F1241,[1]Kontoplan!A:D,2,0)))","v":"Kontingenter"}]
["2017-10-20",null,"Kontingent, Ebbe M Jensen",null,null,12310,175,null,{"$f":"IF(F1242=\"\",\"\",IF(ISERROR(VLOOKUP(F1242,[1]Kontoplan!A:D,2,0)),\"Konto findes ikke!\",VLOOKUP(F1242,[1]Kontoplan!A:D,2,0)))","v":"Bank konto"}]
["2017-10-26",null,"Overnat b.møde August OH",null,null,12310,null,71.290000000000006,{"$f":"IF(F1243=\"\",\"\",IF(ISERROR(VLOOKUP(F1243,[1]Kontoplan!A:D,2,0)),\"Konto findes ikke!\",VLOOKUP(F1243,[1]Kontoplan!A:D,2,0)))","v":"Bank konto"}]
["2017-10-26",null,"Overnat b.møde August OH",null,null,2180,71.290000000000006,null,{"$f":"IF(F1244=\"\",\"\",IF(ISERROR(VLOOKUP(F1244,[1]Kontoplan!A:D,2,0)),\"Konto findes ikke!\",VLOOKUP(F1244,[1]Kontoplan!A:D,2,0)))","v":"Bestyrelses møder"}]
["2017-11-01",null,"Overført Saldi",null,null,12310,9184.34,null,{"$f":"IF(F1245=\"\",\"\",IF(ISERROR(VLOOKUP(F1245,[1]Kontoplan!A:D,2,0)),\"Konto findes ikke!\",VLOOKUP(F1245,[1]Kontoplan!A:D,2,0)))","v":"Bank konto"}]
["2017-11-01",null,"Overført Saldi",null,null,12330,null,9184.34,{"$f":"IF(F1246=\"\",\"\",IF(ISERROR(VLOOKUP(F1246,[1]Kontoplan!A:D,2,0)),\"Konto findes ikke!\",VLOOKUP(F1246,[1]Kontoplan!A:D,2,0)))","v":"Egenkapital"}]
["2017-11-19",null,"Opstart SBD",null,null,12310,1094.95,null,{"$f":"IF(F1247=\"\",\"\",IF(ISERROR(VLOOKUP(F1247,[1]Kontoplan!A:D,2,0)),\"Konto findes ikke!\",VLOOKUP(F1247,[1]Kontoplan!A:D,2,0)))","v":"Bank konto"}]
["2017-11-19",null,"Opstart SBD",null,null,1100,null,1094.95,{"$f":"IF(F1248=\"\",\"\",IF(ISERROR(VLOOKUP(F1248,[1]Kontoplan!A:D,2,0)),\"Konto findes ikke!\",VLOOKUP(F1248,[1]Kontoplan!A:D,2,0)))","v":"Overført fra SBD"}]
["2017-11-20",1,"Hjemmeside",null,null,12310,null,648,{"$f":"IF(F1249=\"\",\"\",IF(ISERROR(VLOOKUP(F1249,[1]Kontoplan!A:D,2,0)),\"Konto findes ikke!\",VLOOKUP(F1249,[1]Kontoplan!A:D,2,0)))","v":"Bank konto"}]
["2017-11-20",1,"Hjemmeside",null,null,2120,648,null,{"$f":"IF(F1250=\"\",\"\",IF(ISERROR(VLOOKUP(F1250,[1]Kontoplan!A:D,2,0)),\"Konto findes ikke!\",VLOOKUP(F1250,[1]Kontoplan!A:D,2,0)))","v":"Hjemmeside"}]
["2017-11-21",null,"Kontingent, Jens Svendsen",38,2018,1000,null,175,{"$f":"IF(F1251=\"\",\"\",IF(ISERROR(VLOOKUP(F1251,[1]Kontoplan!A:D,2,0)),\"Konto findes ikke!\",VLOOKUP(F1251,[1]Kontoplan!A:D,2,0)))","v":"Kontingenter"}]
["2017-11-21",null,"Kontingent, Jens Svendsen",null,null,12310,175,null,{"$f":"IF(F1252=\"\",\"\",IF(ISERROR(VLOOKUP(F1252,[1]Kontoplan!A:D,2,0)),\"Konto findes ikke!\",VLOOKUP(F1252,[1]Kontoplan!A:D,2,0)))","v":"Bank konto"}]
["2017-11-21",null,"Retur SBD",null,null,12310,null,95,{"$f":"IF(F1253=\"\",\"\",IF(ISERROR(VLOOKUP(F1253,[1]Kontoplan!A:D,2,0)),\"Konto findes ikke!\",VLOOKUP(F1253,[1]Kontoplan!A:D,2,0)))","v":"Bank konto"}]
["2017-11-21",null,"Retur SBD",null,null,2060,95,null,{"$f":"IF(F1254=\"\",\"\",IF(ISERROR(VLOOKUP(F1254,[1]Kontoplan!A:D,2,0)),\"Konto findes ikke!\",VLOOKUP(F1254,[1]Kontoplan!A:D,2,0)))","v":"Overført til SBD"},"Tilbage ført for meget betalt"]
["2017-11-22",null,"Dragonfest, Søren Durby Schou",null,null,12310,150,null,{"$f":"IF(F1255=\"\",\"\",IF(ISERROR(VLOOKUP(F1255,[1]Kontoplan!A:D,2,0)),\"Konto findes ikke!\",VLOOKUP(F1255,[1]Kontoplan!A:D,2,0)))","v":"Bank konto"}]
["2017-11-22",null,"Dragonfest, Søren Durby Schou",null,null,1050,null,150,{"$f":"IF(F1256=\"\",\"\",IF(ISERROR(VLOOKUP(F1256,[1]Kontoplan!A:D,2,0)),\"Konto findes ikke!\",VLOOKUP(F1256,[1]Kontoplan!A:D,2,0)))","v":"Deltagergebyr, Dragonfest"}]
["2017-11-23",null,"Dragonfest Jan W Jensen",null,null,12310,150,null,{"$f":"IF(F1257=\"\",\"\",IF(ISERROR(VLOOKUP(F1257,[1]Kontoplan!A:D,2,0)),\"Konto findes ikke!\",VLOOKUP(F1257,[1]Kontoplan!A:D,2,0)))","v":"Bank konto"}]
["2017-11-23",null,"Dragonfest Jan W Jensen",null,null,1050,null,150,{"$f":"IF(F1258=\"\",\"\",IF(ISERROR(VLOOKUP(F1258,[1]Kontoplan!A:D,2,0)),\"Konto findes ikke!\",VLOOKUP(F1258,[1]Kontoplan!A:D,2,0)))","v":"Deltagergebyr, Dragonfest"}]
["2017-11-23",null,"Dragonfest Stoffer",null,null,12310,150,null,{"$f":"IF(F1259=\"\",\"\",IF(ISERROR(VLOOKUP(F1259,[1]Kontoplan!A:D,2,0)),\"Konto findes ikke!\",VLOOKUP(F1259,[1]Kontoplan!A:D,2,0)))","v":"Bank konto"}]
["2017-11-23",null,"Dragonfest Stoffer",null,null,1050,null,150,{"$f":"IF(F1260=\"\",\"\",IF(ISERROR(VLOOKUP(F1260,[1]Kontoplan!A:D,2,0)),\"Konto findes ikke!\",VLOOKUP(F1260,[1]Kontoplan!A:D,2,0)))","v":"Deltagergebyr, Dragonfest"}]
["2017-11-24",null,"Dragonfest Jens-Peter Rasmussen",null,null,12310,150,null,{"$f":"IF(F1261=\"\",\"\",IF(ISERROR(VLOOKUP(F1261,[1]Kontoplan!A:D,2,0)),\"Konto findes ikke!\",VLOOKUP(F1261,[1]Kontoplan!A:D,2,0)))","v":"Bank konto"}]
["2017-11-24",null,"Dragonfest Jens-Peter Rasmussen",null,null,1050,null,150,{"$f":"IF(F1262=\"\",\"\",IF(ISERROR(VLOOKUP(F1262,[1]Kontoplan!A:D,2,0)),\"Konto findes ikke!\",VLOOKUP(F1262,[1]Kontoplan!A:D,2,0)))","v":"Deltagergebyr, Dragonfest"}]
["2017-11-27",2,"Forplejning rejser",null,null,12310,null,414.15,{"$f":"IF(F1263=\"\",\"\",IF(ISERROR(VLOOKUP(F1263,[1]Kontoplan!A:D,2,0)),\"Konto findes ikke!\",VLOOKUP(F1263,[1]Kontoplan!A:D,2,0)))","v":"Bank konto"}]
["2017-11-27",2,"Forplejning rejser",null,null,2100,414.15,null,{"$f":"IF(F1264=\"\",\"\",IF(ISERROR(VLOOKUP(F1264,[1]Kontoplan!A:D,2,0)),\"Konto findes ikke!\",VLOOKUP(F1264,[1]Kontoplan!A:D,2,0)))","v":"Forplejning til møder/Rejser"}]
["2017-11-27",null,"Dragonfest Hans-Henrik Greve Brandenborg",null,null,12310,265,null,{"$f":"IF(F1265=\"\",\"\",IF(ISERROR(VLOOKUP(F1265,[1]Kontoplan!A:D,2,0)),\"Konto findes ikke!\",VLOOKUP(F1265,[1]Kontoplan!A:D,2,0)))","v":"Bank konto"}]
["2017-11-27",null,"Dragonfest Hans-Henrik Greve Brandenborg",null,null,1050,null,150,{"$f":"IF(F1266=\"\",\"\",IF(ISERROR(VLOOKUP(F1266,[1]Kontoplan!A:D,2,0)),\"Konto findes ikke!\",VLOOKUP(F1266,[1]Kontoplan!A:D,2,0)))","v":"Deltagergebyr, Dragonfest"}]
["2017-11-27",null,"Værelse",null,null,1040,null,75,{"$f":"IF(F1267=\"\",\"\",IF(ISERROR(VLOOKUP(F1267,[1]Kontoplan!A:D,2,0)),\"Konto findes ikke!\",VLOOKUP(F1267,[1]Kontoplan!A:D,2,0)))","v":"Udlejning af værelser"}]
["2017-11-27",null,"Morgenmad",null,null,1030,null,40,{"$f":"IF(F1268=\"\",\"\",IF(ISERROR(VLOOKUP(F1268,[1]Kontoplan!A:D,2,0)),\"Konto findes ikke!\",VLOOKUP(F1268,[1]Kontoplan!A:D,2,0)))","v":"Salg af morgenmad"}]
["2017-11-28",null,"Dragonfest Fini Dahl",null,null,12310,150,null,{"$f":"IF(F1269=\"\",\"\",IF(ISERROR(VLOOKUP(F1269,[1]Kontoplan!A:D,2,0)),\"Konto findes ikke!\",VLOOKUP(F1269,[1]Kontoplan!A:D,2,0)))","v":"Bank konto"}]
["2017-11-28",null,"Dragonfest Fini Dahl",null,null,1050,null,150,{"$f":"IF(F1270=\"\",\"\",IF(ISERROR(VLOOKUP(F1270,[1]Kontoplan!A:D,2,0)),\"Konto findes ikke!\",VLOOKUP(F1270,[1]Kontoplan!A:D,2,0)))","v":"Deltagergebyr, Dragonfest"}]
["2017-12-04",null,"Dragonfest Flemming Lindstrøm",null,null,12310,150,null,{"$f":"IF(F1271=\"\",\"\",IF(ISERROR(VLOOKUP(F1271,[1]Kontoplan!A:D,2,0)),\"Konto findes ikke!\",VLOOKUP(F1271,[1]Kontoplan!A:D,2,0)))","v":"Bank konto"}]
["2017-12-04",null,"Dragonfest Flemming Lindstrøm",null,null,1050,null,150,{"$f":"IF(F1272=\"\",\"\",IF(ISERROR(VLOOKUP(F1272,[1]Kontoplan!A:D,2,0)),\"Konto findes ikke!\",VLOOKUP(F1272,[1]Kontoplan!A:D,2,0)))","v":"Deltagergebyr, Dragonfest"}]
["2017-12-05",null,"Dragonfest Johannes Petersen",null,null,12310,225,null,{"$f":"IF(F1273=\"\",\"\",IF(ISERROR(VLOOKUP(F1273,[1]Kontoplan!A:D,2,0)),\"Konto findes ikke!\",VLOOKUP(F1273,[1]Kontoplan!A:D,2,0)))","v":"Bank konto"}]
["2017-12-05",null,"Dragonfest Johannes Petersen",null,null,1050,null,150,{"$f":"IF(F1274=\"\",\"\",IF(ISERROR(VLOOKUP(F1274,[1]Kontoplan!A:D,2,0)),\"Konto findes ikke!\",VLOOKUP(F1274,[1]Kontoplan!A:D,2,0)))","v":"Deltagergebyr, Dragonfest"}]
["2017-12-05",null,"Værelse",null,null,1040,null,75,{"$f":"IF(F1275=\"\",\"\",IF(ISERROR(VLOOKUP(F1275,[1]Kontoplan!A:D,2,0)),\"Konto findes ikke!\",VLOOKUP(F1275,[1]Kontoplan!A:D,2,0)))","v":"Udlejning af værelser"}]
["2017-12-05",null,"Dragonfest Allan Olsen",null,null,12310,150,null,{"$f":"IF(F1276=\"\",\"\",IF(ISERROR(VLOOKUP(F1276,[1]Kontoplan!A:D,2,0)),\"Konto findes ikke!\",VLOOKUP(F1276,[1]Kontoplan!A:D,2,0)))","v":"Bank konto"}]
["2017-12-05",null,"Dragonfest Allan Olsen",null,null,1050,null,150,{"$f":"IF(F1277=\"\",\"\",IF(ISERROR(VLOOKUP(F1277,[1]Kontoplan!A:D,2,0)),\"Konto findes ikke!\",VLOOKUP(F1277,[1]Kontoplan!A:D,2,0)))","v":"Deltagergebyr, Dragonfest"}]
["2017-12-07","2A","Mærker Henrik Thørgersen",null,null,12310,100,null,{"$f":"IF(F1278=\"\",\"\",IF(ISERROR(VLOOKUP(F1278,[1]Kontoplan!A:D,2,0)),\"Konto findes ikke!\",VLOOKUP(F1278,[1]Kontoplan!A:D,2,0)))","v":"Bank konto"}]
["2017-12-07","2A","Mærker Henrik Thørgersen",null,null,1010,null,100,{"$f":"IF(F1279=\"\",\"\",IF(ISERROR(VLOOKUP(F1279,[1]Kontoplan!A:D,2,0)),\"Konto findes ikke!\",VLOOKUP(F1279,[1]Kontoplan!A:D,2,0)))","v":"Salg af mærker"}]
["2017-12-07",null,"Kontingent, Jan Christensen",85,2018,1000,null,175,{"$f":"IF(F1280=\"\",\"\",IF(ISERROR(VLOOKUP(F1280,[1]Kontoplan!A:D,2,0)),\"Konto findes ikke!\",VLOOKUP(F1280,[1]Kontoplan!A:D,2,0)))","v":"Kontingenter"}]
["2017-12-07",null,"Kontingent, Jan Christensen",null,null,12310,175,null,{"$f":"IF(F1281=\"\",\"\",IF(ISERROR(VLOOKUP(F1281,[1]Kontoplan!A:D,2,0)),\"Konto findes ikke!\",VLOOKUP(F1281,[1]Kontoplan!A:D,2,0)))","v":"Bank konto"}]
["2017-12-11",null,"Dragonfest Per Nielsen",null,null,12310,225,null,{"$f":"IF(F1282=\"\",\"\",IF(ISERROR(VLOOKUP(F1282,[1]Kontoplan!A:D,2,0)),\"Konto findes ikke!\",VLOOKUP(F1282,[1]Kontoplan!A:D,2,0)))","v":"Bank konto"}]
["2017-12-11",null,"Dragonfest Per Nielsen",null,null,1050,null,150,{"$f":"IF(F1283=\"\",\"\",IF(ISERROR(VLOOKUP(F1283,[1]Kontoplan!A:D,2,0)),\"Konto findes ikke!\",VLOOKUP(F1283,[1]Kontoplan!A:D,2,0)))","v":"Deltagergebyr, Dragonfest"}]
["2017-12-11",null,"Værelse",null,null,1040,null,75,{"$f":"IF(F1284=\"\",\"\",IF(ISERROR(VLOOKUP(F1284,[1]Kontoplan!A:D,2,0)),\"Konto findes ikke!\",VLOOKUP(F1284,[1]Kontoplan!A:D,2,0)))","v":"Udlejning af værelser"}]
["2017-12-12",null,"Dragonfest Per Leif Andersen",null,null,12310,150,null,{"$f":"IF(F1285=\"\",\"\",IF(ISERROR(VLOOKUP(F1285,[1]Kontoplan!A:D,2,0)),\"Konto findes ikke!\",VLOOKUP(F1285,[1]Kontoplan!A:D,2,0)))","v":"Bank konto"}]
["2017-12-12",null,"Dragonfest Per Leif Andersen",null,null,1050,null,150,{"$f":"IF(F1286=\"\",\"\",IF(ISERROR(VLOOKUP(F1286,[1]Kontoplan!A:D,2,0)),\"Konto findes ikke!\",VLOOKUP(F1286,[1]Kontoplan!A:D,2,0)))","v":"Deltagergebyr, Dragonfest"}]
["2017-12-12",null,"Dragonfest Carl-Erik Jessien Larsen",null,null,12310,150,null,{"$f":"IF(F1287=\"\",\"\",IF(ISERROR(VLOOKUP(F1287,[1]Kontoplan!A:D,2,0)),\"Konto findes ikke!\",VLOOKUP(F1287,[1]Kontoplan!A:D,2,0)))","v":"Bank konto"}]
["2017-12-12",null,"Dragonfest Carl-Erik Jessien Larsen",null,null,1050,null,150,{"$f":"IF(F1288=\"\",\"\",IF(ISERROR(VLOOKUP(F1288,[1]Kontoplan!A:D,2,0)),\"Konto findes ikke!\",VLOOKUP(F1288,[1]Kontoplan!A:D,2,0)))","v":"Deltagergebyr, Dragonfest"}]
["2017-12-12",null,"Dragonfest, P. og S. Petersen",null,null,12310,340,null,{"$f":"IF(F1289=\"\",\"\",IF(ISERROR(VLOOKUP(F1289,[1]Kontoplan!A:D,2,0)),\"Konto findes ikke!\",VLOOKUP(F1289,[1]Kontoplan!A:D,2,0)))","v":"Bank konto"}]
["2017-12-12",null,"Dragonfest, P. og S. Petersen",null,null,1050,null,150,{"$f":"IF(F1290=\"\",\"\",IF(ISERROR(VLOOKUP(F1290,[1]Kontoplan!A:D,2,0)),\"Konto findes ikke!\",VLOOKUP(F1290,[1]Kontoplan!A:D,2,0)))","v":"Deltagergebyr, Dragonfest"}]
["2017-12-12",null,"Værelse",null,null,1040,null,150,{"$f":"IF(F1291=\"\",\"\",IF(ISERROR(VLOOKUP(F1291,[1]Kontoplan!A:D,2,0)),\"Konto findes ikke!\",VLOOKUP(F1291,[1]Kontoplan!A:D,2,0)))","v":"Udlejning af værelser"}]
["2017-12-12",null,"Morgenmad",null,null,1030,null,40,{"$f":"IF(F1292=\"\",\"\",IF(ISERROR(VLOOKUP(F1292,[1]Kontoplan!A:D,2,0)),\"Konto findes ikke!\",VLOOKUP(F1292,[1]Kontoplan!A:D,2,0)))","v":"Salg af morgenmad"}]
["2017-12-12",null,"Dragonfest, Eilief G Andersen",null,null,12310,150,null,{"$f":"IF(F1293=\"\",\"\",IF(ISERROR(VLOOKUP(F1293,[1]Kontoplan!A:D,2,0)),\"Konto findes ikke!\",VLOOKUP(F1293,[1]Kontoplan!A:D,2,0)))","v":"Bank konto"}]
["2017-12-12",null,"Dragonfest, Eilief G Andersen",null,null,1050,null,150,{"$f":"IF(F1294=\"\",\"\",IF(ISERROR(VLOOKUP(F1294,[1]Kontoplan!A:D,2,0)),\"Konto findes ikke!\",VLOOKUP(F1294,[1]Kontoplan!A:D,2,0)))","v":"Deltagergebyr, Dragonfest"}]
["2017-12-13",null,"Værelse +Morgenmad, Allan Hoe",null,null,12310,310,null,{"$f":"IF(F1295=\"\",\"\",IF(ISERROR(VLOOKUP(F1295,[1]Kontoplan!A:D,2,0)),\"Konto findes ikke!\",VLOOKUP(F1295,[1]Kontoplan!A:D,2,0)))","v":"Bank konto"}]
["2017-12-13",null,"Værelse",null,null,1040,null,150,{"$f":"IF(F1296=\"\",\"\",IF(ISERROR(VLOOKUP(F1296,[1]Kontoplan!A:D,2,0)),\"Konto findes ikke!\",VLOOKUP(F1296,[1]Kontoplan!A:D,2,0)))","v":"Udlejning af værelser"}]
["2017-12-13",null,"Morgenmad",null,null,1030,null,160,{"$f":"IF(F1297=\"\",\"\",IF(ISERROR(VLOOKUP(F1297,[1]Kontoplan!A:D,2,0)),\"Konto findes ikke!\",VLOOKUP(F1297,[1]Kontoplan!A:D,2,0)))","v":"Salg af morgenmad"}]
["2017-12-13",null,"Dragonfest, Allan Hoe",null,null,12310,300,null,{"$f":"IF(F1298=\"\",\"\",IF(ISERROR(VLOOKUP(F1298,[1]Kontoplan!A:D,2,0)),\"Konto findes ikke!\",VLOOKUP(F1298,[1]Kontoplan!A:D,2,0)))","v":"Bank konto"}]
["2017-12-13",null,"Dragonfest, Allan Hoe",null,null,1050,null,300,{"$f":"IF(F1299=\"\",\"\",IF(ISERROR(VLOOKUP(F1299,[1]Kontoplan!A:D,2,0)),\"Konto findes ikke!\",VLOOKUP(F1299,[1]Kontoplan!A:D,2,0)))","v":"Deltagergebyr, Dragonfest"}]
["2017-12-14",null,"Kontingent, Allan Hoe",98,2018,1000,null,175,{"$f":"IF(F1300=\"\",\"\",IF(ISERROR(VLOOKUP(F1300,[1]Kontoplan!A:D,2,0)),\"Konto findes ikke!\",VLOOKUP(F1300,[1]Kontoplan!A:D,2,0)))","v":"Kontingenter"}]
["2017-12-14",null,"Dragonfest, Flemming Larsen",null,null,12310,150,null,{"$f":"IF(F1301=\"\",\"\",IF(ISERROR(VLOOKUP(F1301,[1]Kontoplan!A:D,2,0)),\"Konto findes ikke!\",VLOOKUP(F1301,[1]Kontoplan!A:D,2,0)))","v":"Bank konto"}]
["2017-12-14",null,"Dragonfest, Flemming Larsen",null,null,1050,null,150,{"$f":"IF(F1302=\"\",\"\",IF(ISERROR(VLOOKUP(F1302,[1]Kontoplan!A:D,2,0)),\"Konto findes ikke!\",VLOOKUP(F1302,[1]Kontoplan!A:D,2,0)))","v":"Deltagergebyr, Dragonfest"}]
["2017-12-14",null,"Kontingent, Allan Hoe",null,null,12310,175,null,{"$f":"IF(F1303=\"\",\"\",IF(ISERROR(VLOOKUP(F1303,[1]Kontoplan!A:D,2,0)),\"Konto findes ikke!\",VLOOKUP(F1303,[1]Kontoplan!A:D,2,0)))","v":"Bank konto"}]
["2017-12-15",null,"Dragonfest, Finn Larsen",null,null,12310,150,null,{"$f":"IF(F1304=\"\",\"\",IF(ISERROR(VLOOKUP(F1304,[1]Kontoplan!A:D,2,0)),\"Konto findes ikke!\",VLOOKUP(F1304,[1]Kontoplan!A:D,2,0)))","v":"Bank konto"}]
["2017-12-15",null,"Dragonfest, Finn Larsen",null,null,1050,null,150,{"$f":"IF(F1305=\"\",\"\",IF(ISERROR(VLOOKUP(F1305,[1]Kontoplan!A:D,2,0)),\"Konto findes ikke!\",VLOOKUP(F1305,[1]Kontoplan!A:D,2,0)))","v":"Deltagergebyr, Dragonfest"}]
["2017-12-16",null,"Dragonfest, N-J. Johansen SSG",null,null,12310,150,null,{"$f":"IF(F1306=\"\",\"\",IF(ISERROR(VLOOKUP(F1306,[1]Kontoplan!A:D,2,0)),\"Konto findes ikke!\",VLOOKUP(F1306,[1]Kontoplan!A:D,2,0)))","v":"Bank konto"}]
["2017-12-16",null,"Dragonfest, N-J. Johansen SSG",null,null,1050,null,150,{"$f":"IF(F1307=\"\",\"\",IF(ISERROR(VLOOKUP(F1307,[1]Kontoplan!A:D,2,0)),\"Konto findes ikke!\",VLOOKUP(F1307,[1]Kontoplan!A:D,2,0)))","v":"Deltagergebyr, Dragonfest"}]
["2017-12-18",null,"Dragonfest, Ole Holm",null,null,12310,225,null,{"$f":"IF(F1308=\"\",\"\",IF(ISERROR(VLOOKUP(F1308,[1]Kontoplan!A:D,2,0)),\"Konto findes ikke!\",VLOOKUP(F1308,[1]Kontoplan!A:D,2,0)))","v":"Bank konto"}]
["2017-12-18",null,"Dragonfest, Ole Holm",null,null,1050,null,150,{"$f":"IF(F1309=\"\",\"\",IF(ISERROR(VLOOKUP(F1309,[1]Kontoplan!A:D,2,0)),\"Konto findes ikke!\",VLOOKUP(F1309,[1]Kontoplan!A:D,2,0)))","v":"Deltagergebyr, Dragonfest"}]
["2017-12-18",null,"Værelse",null,null,1040,null,75,{"$f":"IF(F1310=\"\",\"\",IF(ISERROR(VLOOKUP(F1310,[1]Kontoplan!A:D,2,0)),\"Konto findes ikke!\",VLOOKUP(F1310,[1]Kontoplan!A:D,2,0)))","v":"Udlejning af værelser"}]
["2017-12-18",null,"Dragonfest, Hans-Jørgen Jensen",null,null,12310,255,null,{"$f":"IF(F1311=\"\",\"\",IF(ISERROR(VLOOKUP(F1311,[1]Kontoplan!A:D,2,0)),\"Konto findes ikke!\",VLOOKUP(F1311,[1]Kontoplan!A:D,2,0)))","v":"Bank konto"},"Mangler 10,- kr"]
["2017-12-18",null,"Dragonfest, Hans-Jørgen Jensen",null,null,1050,null,150,{"$f":"IF(F1312=\"\",\"\",IF(ISERROR(VLOOKUP(F1312,[1]Kontoplan!A:D,2,0)),\"Konto findes ikke!\",VLOOKUP(F1312,[1]Kontoplan!A:D,2,0)))","v":"Deltagergebyr, Dragonfest"}]
["2017-12-18",null,"Værelse",null,null,1040,null,75,{"$f":"IF(F1313=\"\",\"\",IF(ISERROR(VLOOKUP(F1313,[1]Kontoplan!A:D,2,0)),\"Konto findes ikke!\",VLOOKUP(F1313,[1]Kontoplan!A:D,2,0)))","v":"Udlejning af værelser"}]
["2017-12-18",null,"Morgenmad",null,null,1030,null,30,{"$f":"IF(F1314=\"\",\"\",IF(ISERROR(VLOOKUP(F1314,[1]Kontoplan!A:D,2,0)),\"Konto findes ikke!\",VLOOKUP(F1314,[1]Kontoplan!A:D,2,0)))","v":"Salg af morgenmad"}]
["2017-12-18",null,"Dragonfest, Kim Jensen",null,null,12310,150,null,{"$f":"IF(F1315=\"\",\"\",IF(ISERROR(VLOOKUP(F1315,[1]Kontoplan!A:D,2,0)),\"Konto findes ikke!\",VLOOKUP(F1315,[1]Kontoplan!A:D,2,0)))","v":"Bank konto"}]
["2017-12-18",null,"Dragonfest, Kim Jensen",null,null,1050,null,150,{"$f":"IF(F1316=\"\",\"\",IF(ISERROR(VLOOKUP(F1316,[1]Kontoplan!A:D,2,0)),\"Konto findes ikke!\",VLOOKUP(F1316,[1]Kontoplan!A:D,2,0)))","v":"Deltagergebyr, Dragonfest"}]
["2017-12-19",null,"Dragonfest, Palle Schrøder Andersen",null,null,12310,150,null,{"$f":"IF(F1317=\"\",\"\",IF(ISERROR(VLOOKUP(F1317,[1]Kontoplan!A:D,2,0)),\"Konto findes ikke!\",VLOOKUP(F1317,[1]Kontoplan!A:D,2,0)))","v":"Bank konto"}]
["2017-12-19",null,"Dragonfest, Palle Schrøder Andersen",null,null,1050,null,150,{"$f":"IF(F1318=\"\",\"\",IF(ISERROR(VLOOKUP(F1318,[1]Kontoplan!A:D,2,0)),\"Konto findes ikke!\",VLOOKUP(F1318,[1]Kontoplan!A:D,2,0)))","v":"Deltagergebyr, Dragonfest"}]
["2017-12-21",null,"Dragonfest, Bjarne Hansen",null,null,12310,150,null,{"$f":"IF(F1319=\"\",\"\",IF(ISERROR(VLOOKUP(F1319,[1]Kontoplan!A:D,2,0)),\"Konto findes ikke!\",VLOOKUP(F1319,[1]Kontoplan!A:D,2,0)))","v":"Bank konto"}]
["2017-12-21",null,"Dragonfest, Bjarne Hansen",null,null,1050,null,150,{"$f":"IF(F1320=\"\",\"\",IF(ISERROR(VLOOKUP(F1320,[1]Kontoplan!A:D,2,0)),\"Konto findes ikke!\",VLOOKUP(F1320,[1]Kontoplan!A:D,2,0)))","v":"Deltagergebyr, Dragonfest"}]
["2017-12-21",null,"Dragonfest, Kim Johansen",null,null,12310,150,null,{"$f":"IF(F1321=\"\",\"\",IF(ISERROR(VLOOKUP(F1321,[1]Kontoplan!A:D,2,0)),\"Konto findes ikke!\",VLOOKUP(F1321,[1]Kontoplan!A:D,2,0)))","v":"Bank konto"}]
["2017-12-21",null,"Dragonfest, Kim Johansen",null,null,1050,null,150,{"$f":"IF(F1322=\"\",\"\",IF(ISERROR(VLOOKUP(F1322,[1]Kontoplan!A:D,2,0)),\"Konto findes ikke!\",VLOOKUP(F1322,[1]Kontoplan!A:D,2,0)))","v":"Deltagergebyr, Dragonfest"}]
["2017-12-21",null,"Dragonfest, Jørgen Espersen SSG",null,null,12310,150,null,{"$f":"IF(F1323=\"\",\"\",IF(ISERROR(VLOOKUP(F1323,[1]Kontoplan!A:D,2,0)),\"Konto findes ikke!\",VLOOKUP(F1323,[1]Kontoplan!A:D,2,0)))","v":"Bank konto"}]
["2017-12-21",null,"Dragonfest, Jørgen Espersen SSG",null,null,1050,null,150,{"$f":"IF(F1324=\"\",\"\",IF(ISERROR(VLOOKUP(F1324,[1]Kontoplan!A:D,2,0)),\"Konto findes ikke!\",VLOOKUP(F1324,[1]Kontoplan!A:D,2,0)))","v":"Deltagergebyr, Dragonfest"}]
["2017-12-21",null,"Dragonfest, Jørn K. Pedersen",null,null,12310,150,null,{"$f":"IF(F1325=\"\",\"\",IF(ISERROR(VLOOKUP(F1325,[1]Kontoplan!A:D,2,0)),\"Konto findes ikke!\",VLOOKUP(F1325,[1]Kontoplan!A:D,2,0)))","v":"Bank konto"}]
["2017-12-21",null,"Dragonfest, Jørn K. Pedersen",null,null,1050,null,150,{"$f":"IF(F1326=\"\",\"\",IF(ISERROR(VLOOKUP(F1326,[1]Kontoplan!A:D,2,0)),\"Konto findes ikke!\",VLOOKUP(F1326,[1]Kontoplan!A:D,2,0)))","v":"Deltagergebyr, Dragonfest"}]
["2017-12-21",null,"Dragonfest, Kaare Hansen",null,null,12310,150,null,{"$f":"IF(F1327=\"\",\"\",IF(ISERROR(VLOOKUP(F1327,[1]Kontoplan!A:D,2,0)),\"Konto findes ikke!\",VLOOKUP(F1327,[1]Kontoplan!A:D,2,0)))","v":"Bank konto"}]
["2017-12-21",null,"Dragonfest, Kaare Hansen",null,null,1050,null,150,{"$f":"IF(F1328=\"\",\"\",IF(ISERROR(VLOOKUP(F1328,[1]Kontoplan!A:D,2,0)),\"Konto findes ikke!\",VLOOKUP(F1328,[1]Kontoplan!A:D,2,0)))","v":"Deltagergebyr, Dragonfest"}]
["2017-12-21",null,"Dragonfest, Bent Ellevang",null,null,12310,380,null,{"$f":"IF(F1329=\"\",\"\",IF(ISERROR(VLOOKUP(F1329,[1]Kontoplan!A:D,2,0)),\"Konto findes ikke!\",VLOOKUP(F1329,[1]Kontoplan!A:D,2,0)))","v":"Bank konto"}]
["2017-12-21",null,"Dragonfest, Bent Ellevang",null,null,1050,null,150,{"$f":"IF(F1330=\"\",\"\",IF(ISERROR(VLOOKUP(F1330,[1]Kontoplan!A:D,2,0)),\"Konto findes ikke!\",VLOOKUP(F1330,[1]Kontoplan!A:D,2,0)))","v":"Deltagergebyr, Dragonfest"}]
["2017-12-21",null,"Værelse",null,null,1040,null,150,{"$f":"IF(F1331=\"\",\"\",IF(ISERROR(VLOOKUP(F1331,[1]Kontoplan!A:D,2,0)),\"Konto findes ikke!\",VLOOKUP(F1331,[1]Kontoplan!A:D,2,0)))","v":"Udlejning af værelser"}]
["2017-12-21",null,"Morgenmad",null,null,1030,null,80,{"$f":"IF(F1332=\"\",\"\",IF(ISERROR(VLOOKUP(F1332,[1]Kontoplan!A:D,2,0)),\"Konto findes ikke!\",VLOOKUP(F1332,[1]Kontoplan!A:D,2,0)))","v":"Salg af morgenmad"}]
["2017-12-22",null,"Dragonfest, Ebbe Torgersen og Mo",null,null,12310,300,null,{"$f":"IF(F1333=\"\",\"\",IF(ISERROR(VLOOKUP(F1333,[1]Kontoplan!A:D,2,0)),\"Konto findes ikke!\",VLOOKUP(F1333,[1]Kontoplan!A:D,2,0)))","v":"Bank konto"}]
["2017-12-22",null,"Dragonfest, Ebbe Torgersen og Mo",null,null,1050,null,300,{"$f":"IF(F1334=\"\",\"\",IF(ISERROR(VLOOKUP(F1334,[1]Kontoplan!A:D,2,0)),\"Konto findes ikke!\",VLOOKUP(F1334,[1]Kontoplan!A:D,2,0)))","v":"Deltagergebyr, Dragonfest"}]
["2017-12-22",null,"Dragonfest, Michael Fausing",null,null,12310,150,null,{"$f":"IF(F1335=\"\",\"\",IF(ISERROR(VLOOKUP(F1335,[1]Kontoplan!A:D,2,0)),\"Konto findes ikke!\",VLOOKUP(F1335,[1]Kontoplan!A:D,2,0)))","v":"Bank konto"}]
["2017-12-22",null,"Dragonfest, Michael Fausing",null,null,1050,null,150,{"$f":"IF(F1336=\"\",\"\",IF(ISERROR(VLOOKUP(F1336,[1]Kontoplan!A:D,2,0)),\"Konto findes ikke!\",VLOOKUP(F1336,[1]Kontoplan!A:D,2,0)))","v":"Deltagergebyr, Dragonfest"}]
["2017-12-22",null,"Dragonfest, Sven Holm Jensen",null,null,12310,150,null,{"$f":"IF(F1337=\"\",\"\",IF(ISERROR(VLOOKUP(F1337,[1]Kontoplan!A:D,2,0)),\"Konto findes ikke!\",VLOOKUP(F1337,[1]Kontoplan!A:D,2,0)))","v":"Bank konto"}]
["2017-12-22",null,"Dragonfest, Sven Holm Jensen",null,null,1050,null,150,{"$f":"IF(F1338=\"\",\"\",IF(ISERROR(VLOOKUP(F1338,[1]Kontoplan!A:D,2,0)),\"Konto findes ikke!\",VLOOKUP(F1338,[1]Kontoplan!A:D,2,0)))","v":"Deltagergebyr, Dragonfest"}]
["2017-12-22",null,"Dragonfest, Ebbe M Jensen",null,null,12310,150,null,{"$f":"IF(F1339=\"\",\"\",IF(ISERROR(VLOOKUP(F1339,[1]Kontoplan!A:D,2,0)),\"Konto findes ikke!\",VLOOKUP(F1339,[1]Kontoplan!A:D,2,0)))","v":"Bank konto"}]
["2017-12-22",null,"Dragonfest, Ebbe M Jensen",null,null,1050,null,150,{"$f":"IF(F1340=\"\",\"\",IF(ISERROR(VLOOKUP(F1340,[1]Kontoplan!A:D,2,0)),\"Konto findes ikke!\",VLOOKUP(F1340,[1]Kontoplan!A:D,2,0)))","v":"Deltagergebyr, Dragonfest"}]
["2017-12-24",null,"Dragonfest, F. Knøsgaard",null,null,12310,265,null,{"$f":"IF(F1341=\"\",\"\",IF(ISERROR(VLOOKUP(F1341,[1]Kontoplan!A:D,2,0)),\"Konto findes ikke!\",VLOOKUP(F1341,[1]Kontoplan!A:D,2,0)))","v":"Bank konto"}]
["2017-12-24",null,"Dragonfest, F. Knøsgaard",null,null,1050,null,150,{"$f":"IF(F1342=\"\",\"\",IF(ISERROR(VLOOKUP(F1342,[1]Kontoplan!A:D,2,0)),\"Konto findes ikke!\",VLOOKUP(F1342,[1]Kontoplan!A:D,2,0)))","v":"Deltagergebyr, Dragonfest"}]
["2017-12-24",null,"Værelse",null,null,1040,null,75,{"$f":"IF(F1343=\"\",\"\",IF(ISERROR(VLOOKUP(F1343,[1]Kontoplan!A:D,2,0)),\"Konto findes ikke!\",VLOOKUP(F1343,[1]Kontoplan!A:D,2,0)))","v":"Udlejning af værelser"}]
["2017-12-24",null,"Morgenmad",null,null,1030,null,40,{"$f":"IF(F1344=\"\",\"\",IF(ISERROR(VLOOKUP(F1344,[1]Kontoplan!A:D,2,0)),\"Konto findes ikke!\",VLOOKUP(F1344,[1]Kontoplan!A:D,2,0)))","v":"Salg af morgenmad"}]
["2017-12-27",null,"Dragonfest, Ole Larsen",null,null,12310,150,null,{"$f":"IF(F1345=\"\",\"\",IF(ISERROR(VLOOKUP(F1345,[1]Kontoplan!A:D,2,0)),\"Konto findes ikke!\",VLOOKUP(F1345,[1]Kontoplan!A:D,2,0)))","v":"Bank konto"}]
["2017-12-27",null,"Dragonfest, Ole Larsen",null,null,1050,null,150,{"$f":"IF(F1346=\"\",\"\",IF(ISERROR(VLOOKUP(F1346,[1]Kontoplan!A:D,2,0)),\"Konto findes ikke!\",VLOOKUP(F1346,[1]Kontoplan!A:D,2,0)))","v":"Deltagergebyr, Dragonfest"}]
["2017-12-27",null,"Dragonfest, Catsten Kofod Pedersen",null,null,12310,150,null,{"$f":"IF(F1347=\"\",\"\",IF(ISERROR(VLOOKUP(F1347,[1]Kontoplan!A:D,2,0)),\"Konto findes ikke!\",VLOOKUP(F1347,[1]Kontoplan!A:D,2,0)))","v":"Bank konto"}]
["2017-12-27",null,"Dragonfest, Catsten Kofod Pedersen",null,null,1050,null,150,{"$f":"IF(F1348=\"\",\"\",IF(ISERROR(VLOOKUP(F1348,[1]Kontoplan!A:D,2,0)),\"Konto findes ikke!\",VLOOKUP(F1348,[1]Kontoplan!A:D,2,0)))","v":"Deltagergebyr, Dragonfest"}]
["2017-12-27",null,"Dragonfest, Morten Jensen",null,null,12310,150,null,{"$f":"IF(F1349=\"\",\"\",IF(ISERROR(VLOOKUP(F1349,[1]Kontoplan!A:D,2,0)),\"Konto findes ikke!\",VLOOKUP(F1349,[1]Kontoplan!A:D,2,0)))","v":"Bank konto"}]
["2017-12-27",null,"Dragonfest, Morten Jensen",null,null,1050,null,150,{"$f":"IF(F1350=\"\",\"\",IF(ISERROR(VLOOKUP(F1350,[1]Kontoplan!A:D,2,0)),\"Konto findes ikke!\",VLOOKUP(F1350,[1]Kontoplan!A:D,2,0)))","v":"Deltagergebyr, Dragonfest"}]
["2017-12-27",null,"Dragonfest, Kim Bjelstrand",null,null,12310,150,null,{"$f":"IF(F1351=\"\",\"\",IF(ISERROR(VLOOKUP(F1351,[1]Kontoplan!A:D,2,0)),\"Konto findes ikke!\",VLOOKUP(F1351,[1]Kontoplan!A:D,2,0)))","v":"Bank konto"}]
["2017-12-27",null,"Dragonfest, Kim Bjelstrand",null,null,1050,null,150,{"$f":"IF(F1352=\"\",\"\",IF(ISERROR(VLOOKUP(F1352,[1]Kontoplan!A:D,2,0)),\"Konto findes ikke!\",VLOOKUP(F1352,[1]Kontoplan!A:D,2,0)))","v":"Deltagergebyr, Dragonfest"}]
["2017-12-28",null,"Dragonfest, Freddy Albæk",null,null,12310,1500,null,{"$f":"IF(F1353=\"\",\"\",IF(ISERROR(VLOOKUP(F1353,[1]Kontoplan!A:D,2,0)),\"Konto findes ikke!\",VLOOKUP(F1353,[1]Kontoplan!A:D,2,0)))","v":"Bank konto"}]
["2017-12-28",null,"Dragonfest, Freddy Albæk",null,null,1050,null,1500,{"$f":"IF(F1354=\"\",\"\",IF(ISERROR(VLOOKUP(F1354,[1]Kontoplan!A:D,2,0)),\"Konto findes ikke!\",VLOOKUP(F1354,[1]Kontoplan!A:D,2,0)))","v":"Deltagergebyr, Dragonfest"}]
["2017-12-28",null,"Dragonfest, Freddy Albæk",null,null,12310,null,1350,{"$f":"IF(F1355=\"\",\"\",IF(ISERROR(VLOOKUP(F1355,[1]Kontoplan!A:D,2,0)),\"Konto findes ikke!\",VLOOKUP(F1355,[1]Kontoplan!A:D,2,0)))","v":"Bank konto"},"Tilbageført formeget indbetalt"]
["2017-12-28",null,"Dragonfest, Freddy Albæk",null,null,1050,1350,null,{"$f":"IF(F1356=\"\",\"\",IF(ISERROR(VLOOKUP(F1356,[1]Kontoplan!A:D,2,0)),\"Konto findes ikke!\",VLOOKUP(F1356,[1]Kontoplan!A:D,2,0)))","v":"Deltagergebyr, Dragonfest"},"Tilbageført formeget indbetalt"]
["2017-12-28",null,"Dragonfest, Steen R Jensen",null,null,12310,26500,null,{"$f":"IF(F1357=\"\",\"\",IF(ISERROR(VLOOKUP(F1357,[1]Kontoplan!A:D,2,0)),\"Konto findes ikke!\",VLOOKUP(F1357,[1]Kontoplan!A:D,2,0)))","v":"Bank konto"}]
["2017-12-28",null,"Dragonfest, Steen R Jensen",null,null,1050,null,26385,{"$f":"IF(F1358=\"\",\"\",IF(ISERROR(VLOOKUP(F1358,[1]Kontoplan!A:D,2,0)),\"Konto findes ikke!\",VLOOKUP(F1358,[1]Kontoplan!A:D,2,0)))","v":"Deltagergebyr, Dragonfest"}]
["2017-12-28",null,"Værelse",null,null,1040,null,75,{"$f":"IF(F1359=\"\",\"\",IF(ISERROR(VLOOKUP(F1359,[1]Kontoplan!A:D,2,0)),\"Konto findes ikke!\",VLOOKUP(F1359,[1]Kontoplan!A:D,2,0)))","v":"Udlejning af værelser"}]
["2017-12-28",null,"Morgenmad",null,null,1030,null,40,{"$f":"IF(F1360=\"\",\"\",IF(ISERROR(VLOOKUP(F1360,[1]Kontoplan!A:D,2,0)),\"Konto findes ikke!\",VLOOKUP(F1360,[1]Kontoplan!A:D,2,0)))","v":"Salg af morgenmad"}]
["2017-12-29",null,"Dragonfest, Ole Bramsgaard",null,null,12310,150,null,{"$f":"IF(F1361=\"\",\"\",IF(ISERROR(VLOOKUP(F1361,[1]Kontoplan!A:D,2,0)),\"Konto findes ikke!\",VLOOKUP(F1361,[1]Kontoplan!A:D,2,0)))","v":"Bank konto"}]
["2017-12-29",null,"Dragonfest, Ole Bramsgaard",null,null,1050,null,150,{"$f":"IF(F1362=\"\",\"\",IF(ISERROR(VLOOKUP(F1362,[1]Kontoplan!A:D,2,0)),\"Konto findes ikke!\",VLOOKUP(F1362,[1]Kontoplan!A:D,2,0)))","v":"Deltagergebyr, Dragonfest"}]
["2017-12-29",null,"Dragonfest, Steen R Jensen",null,null,12310,null,26235,{"$f":"IF(F1363=\"\",\"\",IF(ISERROR(VLOOKUP(F1363,[1]Kontoplan!A:D,2,0)),\"Konto findes ikke!\",VLOOKUP(F1363,[1]Kontoplan!A:D,2,0)))","v":"Bank konto"},"Tilbageført formeget indbetalt"]
["2017-12-29",null,"Dragonfest, Steen R Jensen",null,null,1050,26235,null,{"$f":"IF(F1364=\"\",\"\",IF(ISERROR(VLOOKUP(F1364,[1]Kontoplan!A:D,2,0)),\"Konto findes ikke!\",VLOOKUP(F1364,[1]Kontoplan!A:D,2,0)))","v":"Deltagergebyr, Dragonfest"},"Tilbageført formeget indbetalt"]
["2017-12-29",null,"Bankgebyr ifølge nota",null,null,12310,null,75,{"$f":"IF(F1365=\"\",\"\",IF(ISERROR(VLOOKUP(F1365,[1]Kontoplan!A:D,2,0)),\"Konto findes ikke!\",VLOOKUP(F1365,[1]Kontoplan!A:D,2,0)))","v":"Bank konto"}]
["2017-12-29",null,"Bankgebyr ifølge nota",null,null,2130,75,null,{"$f":"IF(F1366=\"\",\"\",IF(ISERROR(VLOOKUP(F1366,[1]Kontoplan!A:D,2,0)),\"Konto findes ikke!\",VLOOKUP(F1366,[1]Kontoplan!A:D,2,0)))","v":"Bankgebyr/Renter"}]
["2018-01-03",null,"Kontingent, Mogens Dam",99,2018,1000,null,175,{"$f":"IF(F1367=\"\",\"\",IF(ISERROR(VLOOKUP(F1367,[1]Kontoplan!A:D,2,0)),\"Konto findes ikke!\",VLOOKUP(F1367,[1]Kontoplan!A:D,2,0)))","v":"Kontingenter"}]
["2018-01-03",null,"Kontingent, Mogens Dam",null,null,12310,175,null,{"$f":"IF(F1368=\"\",\"\",IF(ISERROR(VLOOKUP(F1368,[1]Kontoplan!A:D,2,0)),\"Konto findes ikke!\",VLOOKUP(F1368,[1]Kontoplan!A:D,2,0)))","v":"Bank konto"}]
["2018-01-08",null,"Morgemad, Ole Holm",null,null,12310,40,null,{"$f":"IF(F1369=\"\",\"\",IF(ISERROR(VLOOKUP(F1369,[1]Kontoplan!A:D,2,0)),\"Konto findes ikke!\",VLOOKUP(F1369,[1]Kontoplan!A:D,2,0)))","v":"Bank konto"}]
["2018-01-08",null,"Morgemad, Ole Holm",null,null,1030,null,40,{"$f":"IF(F1370=\"\",\"\",IF(ISERROR(VLOOKUP(F1370,[1]Kontoplan!A:D,2,0)),\"Konto findes ikke!\",VLOOKUP(F1370,[1]Kontoplan!A:D,2,0)))","v":"Salg af morgenmad"}]
["2018-01-09",null,"Dragonfest, Richard Finne",null,null,12310,150,null,{"$f":"IF(F1371=\"\",\"\",IF(ISERROR(VLOOKUP(F1371,[1]Kontoplan!A:D,2,0)),\"Konto findes ikke!\",VLOOKUP(F1371,[1]Kontoplan!A:D,2,0)))","v":"Bank konto"}]
["2018-01-09",null,"Dragonfest, Richard Finne",null,null,1050,null,150,{"$f":"IF(F1372=\"\",\"\",IF(ISERROR(VLOOKUP(F1372,[1]Kontoplan!A:D,2,0)),\"Konto findes ikke!\",VLOOKUP(F1372,[1]Kontoplan!A:D,2,0)))","v":"Deltagergebyr, Dragonfest"}]
["2018-01-09",null,"Dragonfest, Angmagssalik",null,null,12310,150,null,{"$f":"IF(F1373=\"\",\"\",IF(ISERROR(VLOOKUP(F1373,[1]Kontoplan!A:D,2,0)),\"Konto findes ikke!\",VLOOKUP(F1373,[1]Kontoplan!A:D,2,0)))","v":"Bank konto"}]
["2018-01-09",null,"Dragonfest, Angmagssalik",null,null,1050,null,150,{"$f":"IF(F1374=\"\",\"\",IF(ISERROR(VLOOKUP(F1374,[1]Kontoplan!A:D,2,0)),\"Konto findes ikke!\",VLOOKUP(F1374,[1]Kontoplan!A:D,2,0)))","v":"Deltagergebyr, Dragonfest"}]
["2018-01-11",3,"GF, Bornholms Papirlager",null,null,12310,null,610.38,{"$f":"IF(F1375=\"\",\"\",IF(ISERROR(VLOOKUP(F1375,[1]Kontoplan!A:D,2,0)),\"Konto findes ikke!\",VLOOKUP(F1375,[1]Kontoplan!A:D,2,0)))","v":"Bank konto"}]
["2018-01-11",3,"GF, Bornholms Papirlager",null,null,2170,610.38,null,{"$f":"IF(F1376=\"\",\"\",IF(ISERROR(VLOOKUP(F1376,[1]Kontoplan!A:D,2,0)),\"Konto findes ikke!\",VLOOKUP(F1376,[1]Kontoplan!A:D,2,0)))","v":"GF"}]
["2018-01-11",4,"GF, REMA 1000",null,null,12310,null,183.45,{"$f":"IF(F1377=\"\",\"\",IF(ISERROR(VLOOKUP(F1377,[1]Kontoplan!A:D,2,0)),\"Konto findes ikke!\",VLOOKUP(F1377,[1]Kontoplan!A:D,2,0)))","v":"Bank konto"}]
["2018-01-11",4,"GF, REMA 1001",null,null,2170,183.45,null,{"$f":"IF(F1378=\"\",\"\",IF(ISERROR(VLOOKUP(F1378,[1]Kontoplan!A:D,2,0)),\"Konto findes ikke!\",VLOOKUP(F1378,[1]Kontoplan!A:D,2,0)))","v":"GF"}]
["2018-01-15",5,"GF, Konditor bageren",null,null,12310,null,292,{"$f":"IF(F1379=\"\",\"\",IF(ISERROR(VLOOKUP(F1379,[1]Kontoplan!A:D,2,0)),\"Konto findes ikke!\",VLOOKUP(F1379,[1]Kontoplan!A:D,2,0)))","v":"Bank konto"}]
["2018-01-15",5,"GF, Konditor bageren",null,null,2170,292,null,{"$f":"IF(F1380=\"\",\"\",IF(ISERROR(VLOOKUP(F1380,[1]Kontoplan!A:D,2,0)),\"Konto findes ikke!\",VLOOKUP(F1380,[1]Kontoplan!A:D,2,0)))","v":"GF"}]
["2018-01-15",6,"GF, indsat kontant",null,null,12310,2750,null,{"$f":"IF(F1381=\"\",\"\",IF(ISERROR(VLOOKUP(F1381,[1]Kontoplan!A:D,2,0)),\"Konto findes ikke!\",VLOOKUP(F1381,[1]Kontoplan!A:D,2,0)))","v":"Bank konto"}]
["2018-01-15",6,"GF, indsat kontant",null,null,1020,null,2750,{"$f":"IF(F1382=\"\",\"\",IF(ISERROR(VLOOKUP(F1382,[1]Kontoplan!A:D,2,0)),\"Konto findes ikke!\",VLOOKUP(F1382,[1]Kontoplan!A:D,2,0)))","v":"Salg af øl + vand"}]
["2018-01-15",7,"mad til GF ",null,null,12310,null,3772,{"$f":"IF(F1383=\"\",\"\",IF(ISERROR(VLOOKUP(F1383,[1]Kontoplan!A:D,2,0)),\"Konto findes ikke!\",VLOOKUP(F1383,[1]Kontoplan!A:D,2,0)))","v":"Bank konto"}]
["2018-01-15",7,"mad til GF ",null,null,2090,3772,null,{"$f":"IF(F1384=\"\",\"\",IF(ISERROR(VLOOKUP(F1384,[1]Kontoplan!A:D,2,0)),\"Konto findes ikke!\",VLOOKUP(F1384,[1]Kontoplan!A:D,2,0)))","v":"Mad til Dragonfest"}]
["2018-01-24",null,"Flaskepant, indsat",null,null,12310,120,null,{"$f":"IF(F1385=\"\",\"\",IF(ISERROR(VLOOKUP(F1385,[1]Kontoplan!A:D,2,0)),\"Konto findes ikke!\",VLOOKUP(F1385,[1]Kontoplan!A:D,2,0)))","v":"Bank konto"}]
["2018-01-24",null,"Flaskepant, indsat",null,null,1020,null,120,{"$f":"IF(F1386=\"\",\"\",IF(ISERROR(VLOOKUP(F1386,[1]Kontoplan!A:D,2,0)),\"Konto findes ikke!\",VLOOKUP(F1386,[1]Kontoplan!A:D,2,0)))","v":"Salg af øl + vand"}]
["2018-01-25",8,"Rejser, Danske Færger",null,null,12310,null,542,{"$f":"IF(F1387=\"\",\"\",IF(ISERROR(VLOOKUP(F1387,[1]Kontoplan!A:D,2,0)),\"Konto findes ikke!\",VLOOKUP(F1387,[1]Kontoplan!A:D,2,0)))","v":"Bank konto"}]
["2018-01-25",8,"Rejser, Danske Færger",null,null,2160,542,null,{"$f":"IF(F1388=\"\",\"\",IF(ISERROR(VLOOKUP(F1388,[1]Kontoplan!A:D,2,0)),\"Konto findes ikke!\",VLOOKUP(F1388,[1]Kontoplan!A:D,2,0)))","v":"Rejser"}]
["2018-02-01",9,"Mad rejser, Skive",null,null,12310,null,302.68,{"$f":"IF(F1389=\"\",\"\",IF(ISERROR(VLOOKUP(F1389,[1]Kontoplan!A:D,2,0)),\"Konto findes ikke!\",VLOOKUP(F1389,[1]Kontoplan!A:D,2,0)))","v":"Bank konto"}]
["2018-02-01",9,"Mad rejser, Skive",null,null,2100,302.68,null,{"$f":"IF(F1390=\"\",\"\",IF(ISERROR(VLOOKUP(F1390,[1]Kontoplan!A:D,2,0)),\"Konto findes ikke!\",VLOOKUP(F1390,[1]Kontoplan!A:D,2,0)))","v":"Forplejning til møder/Rejser"}]
["2018-02-02",10,"Mad rejser, Skive",null,null,12310,null,139,{"$f":"IF(F1391=\"\",\"\",IF(ISERROR(VLOOKUP(F1391,[1]Kontoplan!A:D,2,0)),\"Konto findes ikke!\",VLOOKUP(F1391,[1]Kontoplan!A:D,2,0)))","v":"Bank konto"}]
["2018-02-02",10,"Mad rejser, Skive",null,null,2100,139,null,{"$f":"IF(F1392=\"\",\"\",IF(ISERROR(VLOOKUP(F1392,[1]Kontoplan!A:D,2,0)),\"Konto findes ikke!\",VLOOKUP(F1392,[1]Kontoplan!A:D,2,0)))","v":"Forplejning til møder/Rejser"}]
["2018-02-02",11,"Mad rejser, Netto",null,null,12310,null,237.85,{"$f":"IF(F1393=\"\",\"\",IF(ISERROR(VLOOKUP(F1393,[1]Kontoplan!A:D,2,0)),\"Konto findes ikke!\",VLOOKUP(F1393,[1]Kontoplan!A:D,2,0)))","v":"Bank konto"}]
["2018-02-02",11,"Mad rejser, Netto",null,null,2100,237.85,null,{"$f":"IF(F1394=\"\",\"\",IF(ISERROR(VLOOKUP(F1394,[1]Kontoplan!A:D,2,0)),\"Konto findes ikke!\",VLOOKUP(F1394,[1]Kontoplan!A:D,2,0)))","v":"Forplejning til møder/Rejser"}]
["2018-02-08",12,"Hjemmeside, DK hostmaster",null,null,12310,null,50,{"$f":"IF(F1395=\"\",\"\",IF(ISERROR(VLOOKUP(F1395,[1]Kontoplan!A:D,2,0)),\"Konto findes ikke!\",VLOOKUP(F1395,[1]Kontoplan!A:D,2,0)))","v":"Bank konto"}]
["2018-02-08",12,"Hjemmeside, DK hostmaster",null,null,2120,50,null,{"$f":"IF(F1396=\"\",\"\",IF(ISERROR(VLOOKUP(F1396,[1]Kontoplan!A:D,2,0)),\"Konto findes ikke!\",VLOOKUP(F1396,[1]Kontoplan!A:D,2,0)))","v":"Hjemmeside"}]
["2018-02-09",13,"Reservedele, Bælteprøve",null,null,12310,null,1213.06,{"$f":"IF(F1397=\"\",\"\",IF(ISERROR(VLOOKUP(F1397,[1]Kontoplan!A:D,2,0)),\"Konto findes ikke!\",VLOOKUP(F1397,[1]Kontoplan!A:D,2,0)))","v":"Bank konto"}]
["2018-02-09",13,"Reservedele, Bælteprøve",null,null,2080,1213.06,null,{"$f":"IF(F1398=\"\",\"\",IF(ISERROR(VLOOKUP(F1398,[1]Kontoplan!A:D,2,0)),\"Konto findes ikke!\",VLOOKUP(F1398,[1]Kontoplan!A:D,2,0)))","v":"Reservedele"}]
["2018-02-14",14,"Salg af mærker, Henrik Thøgersen",null,null,12310,100,null,{"$f":"IF(F1399=\"\",\"\",IF(ISERROR(VLOOKUP(F1399,[1]Kontoplan!A:D,2,0)),\"Konto findes ikke!\",VLOOKUP(F1399,[1]Kontoplan!A:D,2,0)))","v":"Bank konto"}]
["2018-02-14",14,"Salg af mærker, Henrik Thøgersen",null,null,1010,null,100,{"$f":"IF(F1400=\"\",\"\",IF(ISERROR(VLOOKUP(F1400,[1]Kontoplan!A:D,2,0)),\"Konto findes ikke!\",VLOOKUP(F1400,[1]Kontoplan!A:D,2,0)))","v":"Salg af mærker"}]
["2018-03-19",15,"Fragt, motor vinderup",null,null,12310,null,562.5,{"$f":"IF(F1401=\"\",\"\",IF(ISERROR(VLOOKUP(F1401,[1]Kontoplan!A:D,2,0)),\"Konto findes ikke!\",VLOOKUP(F1401,[1]Kontoplan!A:D,2,0)))","v":"Bank konto"}]
["2018-03-19",15,"Fragt, motor vinderup",null,null,2150,562.5,null,{"$f":"IF(F1402=\"\",\"\",IF(ISERROR(VLOOKUP(F1402,[1]Kontoplan!A:D,2,0)),\"Konto findes ikke!\",VLOOKUP(F1402,[1]Kontoplan!A:D,2,0)))","v":"Fragt"}]
["2018-03-19",16,"Fragt, bælter grækenland",null,null,12310,null,3375,{"$f":"IF(F1403=\"\",\"\",IF(ISERROR(VLOOKUP(F1403,[1]Kontoplan!A:D,2,0)),\"Konto findes ikke!\",VLOOKUP(F1403,[1]Kontoplan!A:D,2,0)))","v":"Bank konto"}]
["2018-03-19",16,"Fragt, bælter grækenland",null,null,2150,3375,null,{"$f":"IF(F1404=\"\",\"\",IF(ISERROR(VLOOKUP(F1404,[1]Kontoplan!A:D,2,0)),\"Konto findes ikke!\",VLOOKUP(F1404,[1]Kontoplan!A:D,2,0)))","v":"Fragt"}]
["2018-03-26",17,"Privatelån, JPC",null,null,12310,11000,null,{"$f":"IF(F1405=\"\",\"\",IF(ISERROR(VLOOKUP(F1405,[1]Kontoplan!A:D,2,0)),\"Konto findes ikke!\",VLOOKUP(F1405,[1]Kontoplan!A:D,2,0)))","v":"Bank konto"}]
["2018-03-26",17,"Privatelån, JPC",null,null,12390,null,11000,{"$f":"IF(F1406=\"\",\"\",IF(ISERROR(VLOOKUP(F1406,[1]Kontoplan!A:D,2,0)),\"Konto findes ikke!\",VLOOKUP(F1406,[1]Kontoplan!A:D,2,0)))","v":"Private Lån"}]
["2018-03-26",18,"Reservedele, Motorblok england",null,null,12310,null,17143.8,{"$f":"IF(F1407=\"\",\"\",IF(ISERROR(VLOOKUP(F1407,[1]Kontoplan!A:D,2,0)),\"Konto findes ikke!\",VLOOKUP(F1407,[1]Kontoplan!A:D,2,0)))","v":"Bank konto"}]
["2018-03-26",18,"Reservedele, Motorblok england",null,null,2080,17143.8,null,{"$f":"IF(F1408=\"\",\"\",IF(ISERROR(VLOOKUP(F1408,[1]Kontoplan!A:D,2,0)),\"Konto findes ikke!\",VLOOKUP(F1408,[1]Kontoplan!A:D,2,0)))","v":"Reservedele"}]
["2018-03-30",19,"Gebyr ifølge nota",null,null,12310,null,75,{"$f":"IF(F1409=\"\",\"\",IF(ISERROR(VLOOKUP(F1409,[1]Kontoplan!A:D,2,0)),\"Konto findes ikke!\",VLOOKUP(F1409,[1]Kontoplan!A:D,2,0)))","v":"Bank konto"}]
["2018-03-30",19,"Gebyr ifølge nota",null,null,2130,75,null,{"$f":"IF(F1410=\"\",\"\",IF(ISERROR(VLOOKUP(F1410,[1]Kontoplan!A:D,2,0)),\"Konto findes ikke!\",VLOOKUP(F1410,[1]Kontoplan!A:D,2,0)))","v":"Bankgebyr/Renter"}]
["2018-04-03",20,"Kontingent, Klaus Bendixen",100,2018,1000,null,175,{"$f":"IF(F1411=\"\",\"\",IF(ISERROR(VLOOKUP(F1411,[1]Kontoplan!A:D,2,0)),\"Konto findes ikke!\",VLOOKUP(F1411,[1]Kontoplan!A:D,2,0)))","v":"Kontingenter"}]
["2018-04-03",20,"Kontingent, Klaus Bendixen",null,null,12310,175,null,{"$f":"IF(F1412=\"\",\"\",IF(ISERROR(VLOOKUP(F1412,[1]Kontoplan!A:D,2,0)),\"Konto findes ikke!\",VLOOKUP(F1412,[1]Kontoplan!A:D,2,0)))","v":"Bank konto"}]
["2018-04-11",21,"Kontingent, Birger Jønsson",101,2018,1000,null,175,{"$f":"IF(F1413=\"\",\"\",IF(ISERROR(VLOOKUP(F1413,[1]Kontoplan!A:D,2,0)),\"Konto findes ikke!\",VLOOKUP(F1413,[1]Kontoplan!A:D,2,0)))","v":"Kontingenter"}]
["2018-04-11",21,"Kontingent, Birger Jønsson",null,null,12310,175,null,{"$f":"IF(F1414=\"\",\"\",IF(ISERROR(VLOOKUP(F1414,[1]Kontoplan!A:D,2,0)),\"Konto findes ikke!\",VLOOKUP(F1414,[1]Kontoplan!A:D,2,0)))","v":"Bank konto"}]
["2018-04-13",22,"Værelser/GF",null,null,12310,null,654.41,{"$f":"IF(F1415=\"\",\"\",IF(ISERROR(VLOOKUP(F1415,[1]Kontoplan!A:D,2,0)),\"Konto findes ikke!\",VLOOKUP(F1415,[1]Kontoplan!A:D,2,0)))","v":"Bank konto"}]
["2018-04-13",22,"Værelser/GF",null,null,2040,654.41,null,{"$f":"IF(F1416=\"\",\"\",IF(ISERROR(VLOOKUP(F1416,[1]Kontoplan!A:D,2,0)),\"Konto findes ikke!\",VLOOKUP(F1416,[1]Kontoplan!A:D,2,0)))","v":"Værelser/GF"}]
["2018-04-26",null,"Ovrført fra SBD",null,null,12310,1000,null,{"$f":"IF(F1417=\"\",\"\",IF(ISERROR(VLOOKUP(F1417,[1]Kontoplan!A:D,2,0)),\"Konto findes ikke!\",VLOOKUP(F1417,[1]Kontoplan!A:D,2,0)))","v":"Bank konto"}]
["2018-04-26",null,"Ovrført fra SBD",null,null,1100,null,1000,{"$f":"IF(F1418=\"\",\"\",IF(ISERROR(VLOOKUP(F1418,[1]Kontoplan!A:D,2,0)),\"Konto findes ikke!\",VLOOKUP(F1418,[1]Kontoplan!A:D,2,0)))","v":"Overført fra SBD"}]
["2018-04-30",23,"kontingent, DHM",null,null,12310,null,200,{"$f":"IF(F1419=\"\",\"\",IF(ISERROR(VLOOKUP(F1419,[1]Kontoplan!A:D,2,0)),\"Konto findes ikke!\",VLOOKUP(F1419,[1]Kontoplan!A:D,2,0)))","v":"Bank konto"}]
["2018-04-30",23,"kontingent, DHM",null,null,2000,200,null,{"$f":"IF(F1420=\"\",\"\",IF(ISERROR(VLOOKUP(F1420,[1]Kontoplan!A:D,2,0)),\"Konto findes ikke!\",VLOOKUP(F1420,[1]Kontoplan!A:D,2,0)))","v":"Kontigent til andre Foreninger"}]
["2018-05-07",24,"Privatelån, JPC",null,null,12310,9000,null,{"$f":"IF(F1421=\"\",\"\",IF(ISERROR(VLOOKUP(F1421,[1]Kontoplan!A:D,2,0)),\"Konto findes ikke!\",VLOOKUP(F1421,[1]Kontoplan!A:D,2,0)))","v":"Bank konto"}]
["2018-05-07",24,"Privatelån, JPC",null,null,12390,null,9000,{"$f":"IF(F1422=\"\",\"\",IF(ISERROR(VLOOKUP(F1422,[1]Kontoplan!A:D,2,0)),\"Konto findes ikke!\",VLOOKUP(F1422,[1]Kontoplan!A:D,2,0)))","v":"Private Lån"}]
["2018-05-07",25,"Udlæg til Morten",null,null,12310,null,6490.76,{"$f":"IF(F1423=\"\",\"\",IF(ISERROR(VLOOKUP(F1423,[1]Kontoplan!A:D,2,0)),\"Konto findes ikke!\",VLOOKUP(F1423,[1]Kontoplan!A:D,2,0)))","v":"Bank konto"},"Betalt morten for hans udlæg til reservedele iflg. Bilag"]
["2018-05-07",25,"Udlæg til Morten",null,null,2080,6490.76,null,{"$f":"IF(F1424=\"\",\"\",IF(ISERROR(VLOOKUP(F1424,[1]Kontoplan!A:D,2,0)),\"Konto findes ikke!\",VLOOKUP(F1424,[1]Kontoplan!A:D,2,0)))","v":"Reservedele"},"Bilag 26 - 27 - 28 - 29"]
["2018-05-14",30,"Udlæg til EGA for gave",null,null,12310,null,500,{"$f":"IF(F1425=\"\",\"\",IF(ISERROR(VLOOKUP(F1425,[1]Kontoplan!A:D,2,0)),\"Konto findes ikke!\",VLOOKUP(F1425,[1]Kontoplan!A:D,2,0)))","v":"Bank konto"}]
["2018-05-14",30,"Udlæg til EGA for gave",null,null,2070,500,null,{"$f":"IF(F1426=\"\",\"\",IF(ISERROR(VLOOKUP(F1426,[1]Kontoplan!A:D,2,0)),\"Konto findes ikke!\",VLOOKUP(F1426,[1]Kontoplan!A:D,2,0)))","v":"Gaver"}]
["2018-05-17",31,"Fragt motor fra england",null,null,12310,null,1375,{"$f":"IF(F1427=\"\",\"\",IF(ISERROR(VLOOKUP(F1427,[1]Kontoplan!A:D,2,0)),\"Konto findes ikke!\",VLOOKUP(F1427,[1]Kontoplan!A:D,2,0)))","v":"Bank konto"}]
["2018-05-17",31,"Fragt motor fra england",null,null,2150,1375,null,{"$f":"IF(F1428=\"\",\"\",IF(ISERROR(VLOOKUP(F1428,[1]Kontoplan!A:D,2,0)),\"Konto findes ikke!\",VLOOKUP(F1428,[1]Kontoplan!A:D,2,0)))","v":"Fragt"}]
["2018-05-20",32,"Udlæg til Morten Jensen",null,null,12310,null,2043.4,{"$f":"IF(F1429=\"\",\"\",IF(ISERROR(VLOOKUP(F1429,[1]Kontoplan!A:D,2,0)),\"Konto findes ikke!\",VLOOKUP(F1429,[1]Kontoplan!A:D,2,0)))","v":"Bank konto"}]
["2018-05-20",32,"Udlæg til Morten Jensen",null,null,2080,2043.4,null,{"$f":"IF(F1430=\"\",\"\",IF(ISERROR(VLOOKUP(F1430,[1]Kontoplan!A:D,2,0)),\"Konto findes ikke!\",VLOOKUP(F1430,[1]Kontoplan!A:D,2,0)))","v":"Reservedele"}]
["2018-05-22",33,"indkvartering skive 16-17 feb 2018",null,null,12310,null,137.5,{"$f":"IF(F1431=\"\",\"\",IF(ISERROR(VLOOKUP(F1431,[1]Kontoplan!A:D,2,0)),\"Konto findes ikke!\",VLOOKUP(F1431,[1]Kontoplan!A:D,2,0)))","v":"Bank konto"}]
["2018-05-22",33,"indkvartering skive 16-17 feb 2018",null,null,2160,137.5,null,{"$f":"IF(F1432=\"\",\"\",IF(ISERROR(VLOOKUP(F1432,[1]Kontoplan!A:D,2,0)),\"Konto findes ikke!\",VLOOKUP(F1432,[1]Kontoplan!A:D,2,0)))","v":"Rejser"}]
["2018-05-31",34,"Kontingent, Henrik svendsen",102,2018,1000,null,175,{"$f":"IF(F1433=\"\",\"\",IF(ISERROR(VLOOKUP(F1433,[1]Kontoplan!A:D,2,0)),\"Konto findes ikke!\",VLOOKUP(F1433,[1]Kontoplan!A:D,2,0)))","v":"Kontingenter"}]
["2018-05-31",34,"Kontingent, Henrik svendsen",null,null,12310,175,null,{"$f":"IF(F1434=\"\",\"\",IF(ISERROR(VLOOKUP(F1434,[1]Kontoplan!A:D,2,0)),\"Konto findes ikke!\",VLOOKUP(F1434,[1]Kontoplan!A:D,2,0)))","v":"Bank konto"}]
["2018-06-03",35,"Overskud hyggeaften",null,null,12310,420,null,{"$f":"IF(F1435=\"\",\"\",IF(ISERROR(VLOOKUP(F1435,[1]Kontoplan!A:D,2,0)),\"Konto findes ikke!\",VLOOKUP(F1435,[1]Kontoplan!A:D,2,0)))","v":"Bank konto"}]
["2018-06-03",35,"Overskud hyggeaften",null,null,1130,null,420,{"$f":"IF(F1436=\"\",\"\",IF(ISERROR(VLOOKUP(F1436,[1]Kontoplan!A:D,2,0)),\"Konto findes ikke!\",VLOOKUP(F1436,[1]Kontoplan!A:D,2,0)))","v":"Diverse Indtægter"}]
["2018-06-08",36,"Kontingent, Allan Olsen",66,2019,1000,null,175,{"$f":"IF(F1437=\"\",\"\",IF(ISERROR(VLOOKUP(F1437,[1]Kontoplan!A:D,2,0)),\"Konto findes ikke!\",VLOOKUP(F1437,[1]Kontoplan!A:D,2,0)))","v":"Kontingenter"}]
["2018-06-08",36,"Kontingent, Allan Olsen",null,null,12310,175,null,{"$f":"IF(F1438=\"\",\"\",IF(ISERROR(VLOOKUP(F1438,[1]Kontoplan!A:D,2,0)),\"Konto findes ikke!\",VLOOKUP(F1438,[1]Kontoplan!A:D,2,0)))","v":"Bank konto"}]
["2018-06-08",37,"Kontingent, Hans-Henrik Greve Brandborg",9,2021,1000,null,175,{"$f":"IF(F1439=\"\",\"\",IF(ISERROR(VLOOKUP(F1439,[1]Kontoplan!A:D,2,0)),\"Konto findes ikke!\",VLOOKUP(F1439,[1]Kontoplan!A:D,2,0)))","v":"Kontingenter"}]
["2018-06-08",37,"Kontingent, Hans-Henrik Greve Brandborg",null,null,12310,175,null,{"$f":"IF(F1440=\"\",\"\",IF(ISERROR(VLOOKUP(F1440,[1]Kontoplan!A:D,2,0)),\"Konto findes ikke!\",VLOOKUP(F1440,[1]Kontoplan!A:D,2,0)))","v":"Bank konto"}]
["2018-06-08",38,"Kontingent, Flemming Knøsgaard",93,2019,1000,null,175,{"$f":"IF(F1441=\"\",\"\",IF(ISERROR(VLOOKUP(F1441,[1]Kontoplan!A:D,2,0)),\"Konto findes ikke!\",VLOOKUP(F1441,[1]Kontoplan!A:D,2,0)))","v":"Kontingenter"}]
["2018-06-08",38,"Kontingent, Flemming Knøsgaard",null,null,12310,175,null,{"$f":"IF(F1442=\"\",\"\",IF(ISERROR(VLOOKUP(F1442,[1]Kontoplan!A:D,2,0)),\"Konto findes ikke!\",VLOOKUP(F1442,[1]Kontoplan!A:D,2,0)))","v":"Bank konto"}]
["2018-06-08",39,"Kontingent, Poul Lang-Jensen",96,2019,1000,null,175,{"$f":"IF(F1443=\"\",\"\",IF(ISERROR(VLOOKUP(F1443,[1]Kontoplan!A:D,2,0)),\"Konto findes ikke!\",VLOOKUP(F1443,[1]Kontoplan!A:D,2,0)))","v":"Kontingenter"}]
["2018-06-08",39,"Kontingent, Poul Lang-Jensen",null,null,12310,175,null,{"$f":"IF(F1444=\"\",\"\",IF(ISERROR(VLOOKUP(F1444,[1]Kontoplan!A:D,2,0)),\"Konto findes ikke!\",VLOOKUP(F1444,[1]Kontoplan!A:D,2,0)))","v":"Bank konto"}]
["2018-06-08",40,"Kontingent, Sven Holm Jensen",7,2019,1000,null,175,{"$f":"IF(F1445=\"\",\"\",IF(ISERROR(VLOOKUP(F1445,[1]Kontoplan!A:D,2,0)),\"Konto findes ikke!\",VLOOKUP(F1445,[1]Kontoplan!A:D,2,0)))","v":"Kontingenter"}]
["2018-06-08",40,"Kontingent, Sven Holm Jensen",null,null,12310,175,null,{"$f":"IF(F1446=\"\",\"\",IF(ISERROR(VLOOKUP(F1446,[1]Kontoplan!A:D,2,0)),\"Konto findes ikke!\",VLOOKUP(F1446,[1]Kontoplan!A:D,2,0)))","v":"Bank konto"}]
["2018-06-09",41,"Blomster PL",null,null,12310,100,null,{"$f":"IF(F1447=\"\",\"\",IF(ISERROR(VLOOKUP(F1447,[1]Kontoplan!A:D,2,0)),\"Konto findes ikke!\",VLOOKUP(F1447,[1]Kontoplan!A:D,2,0)))","v":"Bank konto"}]
["2018-06-09",41,"Blomster PL",null,null,1090,null,100,{"$f":"IF(F1448=\"\",\"\",IF(ISERROR(VLOOKUP(F1448,[1]Kontoplan!A:D,2,0)),\"Konto findes ikke!\",VLOOKUP(F1448,[1]Kontoplan!A:D,2,0)))","v":"Indsamling begravelser"}]
["2018-06-09",42,"Blomster PL",null,null,12310,25,null,{"$f":"IF(F1449=\"\",\"\",IF(ISERROR(VLOOKUP(F1449,[1]Kontoplan!A:D,2,0)),\"Konto findes ikke!\",VLOOKUP(F1449,[1]Kontoplan!A:D,2,0)))","v":"Bank konto"}]
["2018-06-09",42,"Blomster PL",null,null,1090,null,25,{"$f":"IF(F1450=\"\",\"\",IF(ISERROR(VLOOKUP(F1450,[1]Kontoplan!A:D,2,0)),\"Konto findes ikke!\",VLOOKUP(F1450,[1]Kontoplan!A:D,2,0)))","v":"Indsamling begravelser"}]
["2018-06-09",43,"Blomster PL",null,null,12310,50,null,{"$f":"IF(F1451=\"\",\"\",IF(ISERROR(VLOOKUP(F1451,[1]Kontoplan!A:D,2,0)),\"Konto findes ikke!\",VLOOKUP(F1451,[1]Kontoplan!A:D,2,0)))","v":"Bank konto"}]
["2018-06-09",43,"Blomster PL",null,null,1090,null,50,{"$f":"IF(F1452=\"\",\"\",IF(ISERROR(VLOOKUP(F1452,[1]Kontoplan!A:D,2,0)),\"Konto findes ikke!\",VLOOKUP(F1452,[1]Kontoplan!A:D,2,0)))","v":"Indsamling begravelser"}]
["2018-06-10",44,"Blomster PL",null,null,12310,50,null,{"$f":"IF(F1453=\"\",\"\",IF(ISERROR(VLOOKUP(F1453,[1]Kontoplan!A:D,2,0)),\"Konto findes ikke!\",VLOOKUP(F1453,[1]Kontoplan!A:D,2,0)))","v":"Bank konto"}]
["2018-06-10",44,"Blomster PL",null,null,1090,null,50,{"$f":"IF(F1454=\"\",\"\",IF(ISERROR(VLOOKUP(F1454,[1]Kontoplan!A:D,2,0)),\"Konto findes ikke!\",VLOOKUP(F1454,[1]Kontoplan!A:D,2,0)))","v":"Indsamling begravelser"}]
["2018-06-11",45,"Blomster PL",null,null,12310,50,null,{"$f":"IF(F1455=\"\",\"\",IF(ISERROR(VLOOKUP(F1455,[1]Kontoplan!A:D,2,0)),\"Konto findes ikke!\",VLOOKUP(F1455,[1]Kontoplan!A:D,2,0)))","v":"Bank konto"}]
["2018-06-11",45,"Blomster PL",null,null,1090,null,50,{"$f":"IF(F1456=\"\",\"\",IF(ISERROR(VLOOKUP(F1456,[1]Kontoplan!A:D,2,0)),\"Konto findes ikke!\",VLOOKUP(F1456,[1]Kontoplan!A:D,2,0)))","v":"Indsamling begravelser"}]
["2018-06-11",46,"Kontingent, C. U. Essemann-Bech",13,2019,1000,null,175,{"$f":"IF(F1457=\"\",\"\",IF(ISERROR(VLOOKUP(F1457,[1]Kontoplan!A:D,2,0)),\"Konto findes ikke!\",VLOOKUP(F1457,[1]Kontoplan!A:D,2,0)))","v":"Kontingenter"}]
["2018-06-11",46,"Kontingent, C. U. Essemann-Bech",null,null,12310,175,null,{"$f":"IF(F1458=\"\",\"\",IF(ISERROR(VLOOKUP(F1458,[1]Kontoplan!A:D,2,0)),\"Konto findes ikke!\",VLOOKUP(F1458,[1]Kontoplan!A:D,2,0)))","v":"Bank konto"}]
["2018-06-11",47,"Blomster PL",null,null,12310,200,null,{"$f":"IF(F1459=\"\",\"\",IF(ISERROR(VLOOKUP(F1459,[1]Kontoplan!A:D,2,0)),\"Konto findes ikke!\",VLOOKUP(F1459,[1]Kontoplan!A:D,2,0)))","v":"Bank konto"}]
["2018-06-11",47,"Blomster PL",null,null,1090,null,200,{"$f":"IF(F1460=\"\",\"\",IF(ISERROR(VLOOKUP(F1460,[1]Kontoplan!A:D,2,0)),\"Konto findes ikke!\",VLOOKUP(F1460,[1]Kontoplan!A:D,2,0)))","v":"Indsamling begravelser"}]
["2018-06-11",48,"Blomster PL",null,null,12310,50,null,{"$f":"IF(F1461=\"\",\"\",IF(ISERROR(VLOOKUP(F1461,[1]Kontoplan!A:D,2,0)),\"Konto findes ikke!\",VLOOKUP(F1461,[1]Kontoplan!A:D,2,0)))","v":"Bank konto"}]
["2018-06-11",48,"Blomster PL",null,null,1090,null,50,{"$f":"IF(F1462=\"\",\"\",IF(ISERROR(VLOOKUP(F1462,[1]Kontoplan!A:D,2,0)),\"Konto findes ikke!\",VLOOKUP(F1462,[1]Kontoplan!A:D,2,0)))","v":"Indsamling begravelser"}]
["2018-06-11",49,"Kontingent, Richard Finne",48,2019,1000,null,175,{"$f":"IF(F1463=\"\",\"\",IF(ISERROR(VLOOKUP(F1463,[1]Kontoplan!A:D,2,0)),\"Konto findes ikke!\",VLOOKUP(F1463,[1]Kontoplan!A:D,2,0)))","v":"Kontingenter"}]
["2018-06-11",49,"Kontingent, Richard Finne",null,null,12310,175,null,{"$f":"IF(F1464=\"\",\"\",IF(ISERROR(VLOOKUP(F1464,[1]Kontoplan!A:D,2,0)),\"Konto findes ikke!\",VLOOKUP(F1464,[1]Kontoplan!A:D,2,0)))","v":"Bank konto"}]
["2018-06-11",50,"Blomster PL",null,null,12310,100,null,{"$f":"IF(F1465=\"\",\"\",IF(ISERROR(VLOOKUP(F1465,[1]Kontoplan!A:D,2,0)),\"Konto findes ikke!\",VLOOKUP(F1465,[1]Kontoplan!A:D,2,0)))","v":"Bank konto"}]
["2018-06-11",50,"Blomster PL",null,null,1090,null,100,{"$f":"IF(F1466=\"\",\"\",IF(ISERROR(VLOOKUP(F1466,[1]Kontoplan!A:D,2,0)),\"Konto findes ikke!\",VLOOKUP(F1466,[1]Kontoplan!A:D,2,0)))","v":"Indsamling begravelser"}]
["2018-06-11",51,"Kontingent, Jørn Lundberg",77,2019,1000,null,175,{"$f":"IF(F1467=\"\",\"\",IF(ISERROR(VLOOKUP(F1467,[1]Kontoplan!A:D,2,0)),\"Konto findes ikke!\",VLOOKUP(F1467,[1]Kontoplan!A:D,2,0)))","v":"Kontingenter"}]
["2018-06-11",51,"Kontingent, Jørn Lundberg",null,null,12310,175,null,{"$f":"IF(F1468=\"\",\"\",IF(ISERROR(VLOOKUP(F1468,[1]Kontoplan!A:D,2,0)),\"Konto findes ikke!\",VLOOKUP(F1468,[1]Kontoplan!A:D,2,0)))","v":"Bank konto"}]
["2018-06-11",52,"Blomster PL",null,null,12310,100,null,{"$f":"IF(F1469=\"\",\"\",IF(ISERROR(VLOOKUP(F1469,[1]Kontoplan!A:D,2,0)),\"Konto findes ikke!\",VLOOKUP(F1469,[1]Kontoplan!A:D,2,0)))","v":"Bank konto"}]
["2018-06-11",52,"Blomster PL",null,null,1090,null,100,{"$f":"IF(F1470=\"\",\"\",IF(ISERROR(VLOOKUP(F1470,[1]Kontoplan!A:D,2,0)),\"Konto findes ikke!\",VLOOKUP(F1470,[1]Kontoplan!A:D,2,0)))","v":"Indsamling begravelser"}]
["2018-06-11",53,"Kontingent, Bjarne Hansen",3,2019,1000,null,175,{"$f":"IF(F1471=\"\",\"\",IF(ISERROR(VLOOKUP(F1471,[1]Kontoplan!A:D,2,0)),\"Konto findes ikke!\",VLOOKUP(F1471,[1]Kontoplan!A:D,2,0)))","v":"Kontingenter"}]
["2018-06-11",53,"Kontingent, Bjarne Hansen",null,null,12310,175,null,{"$f":"IF(F1472=\"\",\"\",IF(ISERROR(VLOOKUP(F1472,[1]Kontoplan!A:D,2,0)),\"Konto findes ikke!\",VLOOKUP(F1472,[1]Kontoplan!A:D,2,0)))","v":"Bank konto"}]
["2018-06-11",54,"Blomster PL",null,null,12310,50,null,{"$f":"IF(F1473=\"\",\"\",IF(ISERROR(VLOOKUP(F1473,[1]Kontoplan!A:D,2,0)),\"Konto findes ikke!\",VLOOKUP(F1473,[1]Kontoplan!A:D,2,0)))","v":"Bank konto"}]
["2018-06-11",54,"Blomster PL",null,null,1090,null,50,{"$f":"IF(F1474=\"\",\"\",IF(ISERROR(VLOOKUP(F1474,[1]Kontoplan!A:D,2,0)),\"Konto findes ikke!\",VLOOKUP(F1474,[1]Kontoplan!A:D,2,0)))","v":"Indsamling begravelser"}]
["2018-06-11",55,"Blomster PL",null,null,12310,50,null,{"$f":"IF(F1475=\"\",\"\",IF(ISERROR(VLOOKUP(F1475,[1]Kontoplan!A:D,2,0)),\"Konto findes ikke!\",VLOOKUP(F1475,[1]Kontoplan!A:D,2,0)))","v":"Bank konto"}]
["2018-06-11",55,"Blomster PL",null,null,1090,null,50,{"$f":"IF(F1476=\"\",\"\",IF(ISERROR(VLOOKUP(F1476,[1]Kontoplan!A:D,2,0)),\"Konto findes ikke!\",VLOOKUP(F1476,[1]Kontoplan!A:D,2,0)))","v":"Indsamling begravelser"}]
["2018-06-11",56,"Blomster PL",null,null,12310,100,null,{"$f":"IF(F1477=\"\",\"\",IF(ISERROR(VLOOKUP(F1477,[1]Kontoplan!A:D,2,0)),\"Konto findes ikke!\",VLOOKUP(F1477,[1]Kontoplan!A:D,2,0)))","v":"Bank konto"}]
["2018-06-11",56,"Blomster PL",null,null,1090,null,100,{"$f":"IF(F1478=\"\",\"\",IF(ISERROR(VLOOKUP(F1478,[1]Kontoplan!A:D,2,0)),\"Konto findes ikke!\",VLOOKUP(F1478,[1]Kontoplan!A:D,2,0)))","v":"Indsamling begravelser"}]
["2018-06-11",57,"Blomster PL",null,null,12310,50,null,{"$f":"IF(F1479=\"\",\"\",IF(ISERROR(VLOOKUP(F1479,[1]Kontoplan!A:D,2,0)),\"Konto findes ikke!\",VLOOKUP(F1479,[1]Kontoplan!A:D,2,0)))","v":"Bank konto"}]
["2018-06-11",57,"Blomster PL",null,null,1090,null,50,{"$f":"IF(F1480=\"\",\"\",IF(ISERROR(VLOOKUP(F1480,[1]Kontoplan!A:D,2,0)),\"Konto findes ikke!\",VLOOKUP(F1480,[1]Kontoplan!A:D,2,0)))","v":"Indsamling begravelser"}]
["2018-06-11",58,"Kontingent, Hardy Lynby Jørgensen",88,2019,1000,null,175,{"$f":"IF(F1481=\"\",\"\",IF(ISERROR(VLOOKUP(F1481,[1]Kontoplan!A:D,2,0)),\"Konto findes ikke!\",VLOOKUP(F1481,[1]Kontoplan!A:D,2,0)))","v":"Kontingenter"}]
["2018-06-11",58,"Kontingent, Hardy Lynby Jørgensen",null,null,12310,175,null,{"$f":"IF(F1482=\"\",\"\",IF(ISERROR(VLOOKUP(F1482,[1]Kontoplan!A:D,2,0)),\"Konto findes ikke!\",VLOOKUP(F1482,[1]Kontoplan!A:D,2,0)))","v":"Bank konto"}]
["2018-06-11",59,"Blomster PL",null,null,12310,50,null,{"$f":"IF(F1483=\"\",\"\",IF(ISERROR(VLOOKUP(F1483,[1]Kontoplan!A:D,2,0)),\"Konto findes ikke!\",VLOOKUP(F1483,[1]Kontoplan!A:D,2,0)))","v":"Bank konto"}]
["2018-06-11",59,"Blomster PL",null,null,1090,null,50,{"$f":"IF(F1484=\"\",\"\",IF(ISERROR(VLOOKUP(F1484,[1]Kontoplan!A:D,2,0)),\"Konto findes ikke!\",VLOOKUP(F1484,[1]Kontoplan!A:D,2,0)))","v":"Indsamling begravelser"}]
["2018-06-11",60,"Kontingent, Odd Bjarne Poulsen",67,2019,1000,null,175,{"$f":"IF(F1485=\"\",\"\",IF(ISERROR(VLOOKUP(F1485,[1]Kontoplan!A:D,2,0)),\"Konto findes ikke!\",VLOOKUP(F1485,[1]Kontoplan!A:D,2,0)))","v":"Kontingenter"}]
["2018-06-11",60,"Kontingent, Odd Bjarne Poulsen",null,null,12310,175,null,{"$f":"IF(F1486=\"\",\"\",IF(ISERROR(VLOOKUP(F1486,[1]Kontoplan!A:D,2,0)),\"Konto findes ikke!\",VLOOKUP(F1486,[1]Kontoplan!A:D,2,0)))","v":"Bank konto"}]
["2018-06-11",61,"Blomster PL",null,null,12310,50,null,{"$f":"IF(F1487=\"\",\"\",IF(ISERROR(VLOOKUP(F1487,[1]Kontoplan!A:D,2,0)),\"Konto findes ikke!\",VLOOKUP(F1487,[1]Kontoplan!A:D,2,0)))","v":"Bank konto"}]
["2018-06-11",61,"Blomster PL",null,null,1090,null,50,{"$f":"IF(F1488=\"\",\"\",IF(ISERROR(VLOOKUP(F1488,[1]Kontoplan!A:D,2,0)),\"Konto findes ikke!\",VLOOKUP(F1488,[1]Kontoplan!A:D,2,0)))","v":"Indsamling begravelser"}]
["2018-06-11",62,"Kontingent, Jens-Peter Rasmussen",23,2019,1000,null,175,{"$f":"IF(F1489=\"\",\"\",IF(ISERROR(VLOOKUP(F1489,[1]Kontoplan!A:D,2,0)),\"Konto findes ikke!\",VLOOKUP(F1489,[1]Kontoplan!A:D,2,0)))","v":"Kontingenter"}]
["2018-06-11",62,"Kontingent, Jens-Peter Rasmussen",null,null,12310,175,null,{"$f":"IF(F1490=\"\",\"\",IF(ISERROR(VLOOKUP(F1490,[1]Kontoplan!A:D,2,0)),\"Konto findes ikke!\",VLOOKUP(F1490,[1]Kontoplan!A:D,2,0)))","v":"Bank konto"}]
["2018-06-11",63,"Kontingent, Fini Dahl",25,2019,1000,null,175,{"$f":"IF(F1491=\"\",\"\",IF(ISERROR(VLOOKUP(F1491,[1]Kontoplan!A:D,2,0)),\"Konto findes ikke!\",VLOOKUP(F1491,[1]Kontoplan!A:D,2,0)))","v":"Kontingenter"}]
["2018-06-11",63,"Kontingent, Fini Dahl",null,null,12310,175,null,{"$f":"IF(F1492=\"\",\"\",IF(ISERROR(VLOOKUP(F1492,[1]Kontoplan!A:D,2,0)),\"Konto findes ikke!\",VLOOKUP(F1492,[1]Kontoplan!A:D,2,0)))","v":"Bank konto"}]
["2018-06-11",64,"Blomster PL",null,null,12310,150,null,{"$f":"IF(F1493=\"\",\"\",IF(ISERROR(VLOOKUP(F1493,[1]Kontoplan!A:D,2,0)),\"Konto findes ikke!\",VLOOKUP(F1493,[1]Kontoplan!A:D,2,0)))","v":"Bank konto"}]
["2018-06-11",64,"Blomster PL",null,null,1090,null,150,{"$f":"IF(F1494=\"\",\"\",IF(ISERROR(VLOOKUP(F1494,[1]Kontoplan!A:D,2,0)),\"Konto findes ikke!\",VLOOKUP(F1494,[1]Kontoplan!A:D,2,0)))","v":"Indsamling begravelser"}]
["2018-06-11",65,"Blomster PL",null,null,12310,50,null,{"$f":"IF(F1495=\"\",\"\",IF(ISERROR(VLOOKUP(F1495,[1]Kontoplan!A:D,2,0)),\"Konto findes ikke!\",VLOOKUP(F1495,[1]Kontoplan!A:D,2,0)))","v":"Bank konto"}]
["2018-06-11",65,"Blomster PL",null,null,1090,null,50,{"$f":"IF(F1496=\"\",\"\",IF(ISERROR(VLOOKUP(F1496,[1]Kontoplan!A:D,2,0)),\"Konto findes ikke!\",VLOOKUP(F1496,[1]Kontoplan!A:D,2,0)))","v":"Indsamling begravelser"}]
["2018-06-11",66,"Blomster PL",null,null,12310,50,null,{"$f":"IF(F1497=\"\",\"\",IF(ISERROR(VLOOKUP(F1497,[1]Kontoplan!A:D,2,0)),\"Konto findes ikke!\",VLOOKUP(F1497,[1]Kontoplan!A:D,2,0)))","v":"Bank konto"}]
["2018-06-11",66,"Blomster PL",null,null,1090,null,50,{"$f":"IF(F1498=\"\",\"\",IF(ISERROR(VLOOKUP(F1498,[1]Kontoplan!A:D,2,0)),\"Konto findes ikke!\",VLOOKUP(F1498,[1]Kontoplan!A:D,2,0)))","v":"Indsamling begravelser"}]
["2018-06-11",67,"Kontingent, Klaus Bendixen",100,2019,1000,null,175,{"$f":"IF(F1499=\"\",\"\",IF(ISERROR(VLOOKUP(F1499,[1]Kontoplan!A:D,2,0)),\"Konto findes ikke!\",VLOOKUP(F1499,[1]Kontoplan!A:D,2,0)))","v":"Kontingenter"}]
["2018-06-11",67,"Kontingent, Klaus Bendixen",null,null,12310,175,null,{"$f":"IF(F1500=\"\",\"\",IF(ISERROR(VLOOKUP(F1500,[1]Kontoplan!A:D,2,0)),\"Konto findes ikke!\",VLOOKUP(F1500,[1]Kontoplan!A:D,2,0)))","v":"Bank konto"}]
["2018-06-12",68,"Blomster PL",null,null,12310,100,null,{"$f":"IF(F1501=\"\",\"\",IF(ISERROR(VLOOKUP(F1501,[1]Kontoplan!A:D,2,0)),\"Konto findes ikke!\",VLOOKUP(F1501,[1]Kontoplan!A:D,2,0)))","v":"Bank konto"}]
["2018-06-12",68,"Blomster PL",null,null,1090,null,100,{"$f":"IF(F1502=\"\",\"\",IF(ISERROR(VLOOKUP(F1502,[1]Kontoplan!A:D,2,0)),\"Konto findes ikke!\",VLOOKUP(F1502,[1]Kontoplan!A:D,2,0)))","v":"Indsamling begravelser"}]
["2018-06-12",69,"Blomster PL",null,null,12310,30,null,{"$f":"IF(F1503=\"\",\"\",IF(ISERROR(VLOOKUP(F1503,[1]Kontoplan!A:D,2,0)),\"Konto findes ikke!\",VLOOKUP(F1503,[1]Kontoplan!A:D,2,0)))","v":"Bank konto"}]
["2018-06-12",69,"Blomster PL",null,null,1090,null,30,{"$f":"IF(F1504=\"\",\"\",IF(ISERROR(VLOOKUP(F1504,[1]Kontoplan!A:D,2,0)),\"Konto findes ikke!\",VLOOKUP(F1504,[1]Kontoplan!A:D,2,0)))","v":"Indsamling begravelser"}]
["2018-06-12",70,"Blomster PL",null,null,12310,50,null,{"$f":"IF(F1505=\"\",\"\",IF(ISERROR(VLOOKUP(F1505,[1]Kontoplan!A:D,2,0)),\"Konto findes ikke!\",VLOOKUP(F1505,[1]Kontoplan!A:D,2,0)))","v":"Bank konto"}]
["2018-06-12",70,"Blomster PL",null,null,1090,null,50,{"$f":"IF(F1506=\"\",\"\",IF(ISERROR(VLOOKUP(F1506,[1]Kontoplan!A:D,2,0)),\"Konto findes ikke!\",VLOOKUP(F1506,[1]Kontoplan!A:D,2,0)))","v":"Indsamling begravelser"}]
["2018-06-12",71,"Blomster PL",null,null,12310,100,null,{"$f":"IF(F1507=\"\",\"\",IF(ISERROR(VLOOKUP(F1507,[1]Kontoplan!A:D,2,0)),\"Konto findes ikke!\",VLOOKUP(F1507,[1]Kontoplan!A:D,2,0)))","v":"Bank konto"}]
["2018-06-12",71,"Blomster PL",null,null,1090,null,100,{"$f":"IF(F1508=\"\",\"\",IF(ISERROR(VLOOKUP(F1508,[1]Kontoplan!A:D,2,0)),\"Konto findes ikke!\",VLOOKUP(F1508,[1]Kontoplan!A:D,2,0)))","v":"Indsamling begravelser"}]
["2018-06-12",72,"Blomster PL",null,null,12310,100,null,{"$f":"IF(F1509=\"\",\"\",IF(ISERROR(VLOOKUP(F1509,[1]Kontoplan!A:D,2,0)),\"Konto findes ikke!\",VLOOKUP(F1509,[1]Kontoplan!A:D,2,0)))","v":"Bank konto"}]
["2018-06-12",72,"Blomster PL",null,null,1090,null,100,{"$f":"IF(F1510=\"\",\"\",IF(ISERROR(VLOOKUP(F1510,[1]Kontoplan!A:D,2,0)),\"Konto findes ikke!\",VLOOKUP(F1510,[1]Kontoplan!A:D,2,0)))","v":"Indsamling begravelser"}]
["2018-06-12",73,"Kontingent, Poul Guldving",69,2019,1000,null,175,{"$f":"IF(F1511=\"\",\"\",IF(ISERROR(VLOOKUP(F1511,[1]Kontoplan!A:D,2,0)),\"Konto findes ikke!\",VLOOKUP(F1511,[1]Kontoplan!A:D,2,0)))","v":"Kontingenter"}]
["2018-06-12",73,"Kontingent, Poul Guldving",null,null,12310,175,null,{"$f":"IF(F1512=\"\",\"\",IF(ISERROR(VLOOKUP(F1512,[1]Kontoplan!A:D,2,0)),\"Konto findes ikke!\",VLOOKUP(F1512,[1]Kontoplan!A:D,2,0)))","v":"Bank konto"}]
["2018-06-13",74,"Fond indbetaling, Velux Fonden 1 rate",null,null,12310,27615.46,null,{"$f":"IF(F1513=\"\",\"\",IF(ISERROR(VLOOKUP(F1513,[1]Kontoplan!A:D,2,0)),\"Konto findes ikke!\",VLOOKUP(F1513,[1]Kontoplan!A:D,2,0)))","v":"Bank konto"}]
["2018-06-13",74,"Fond indbetaling, Velux Fonden 1 rate",null,null,1070,null,27615.46,{"$f":"IF(F1514=\"\",\"\",IF(ISERROR(VLOOKUP(F1514,[1]Kontoplan!A:D,2,0)),\"Konto findes ikke!\",VLOOKUP(F1514,[1]Kontoplan!A:D,2,0)))","v":"Fonde"}]
["2018-06-13",75,"Kontingent, Johannes Petersen",74,2019,1000,null,175,{"$f":"IF(F1515=\"\",\"\",IF(ISERROR(VLOOKUP(F1515,[1]Kontoplan!A:D,2,0)),\"Konto findes ikke!\",VLOOKUP(F1515,[1]Kontoplan!A:D,2,0)))","v":"Kontingenter"}]
["2018-06-13",75,"Kontingent, Johannes Petersen",null,null,12310,175,null,{"$f":"IF(F1516=\"\",\"\",IF(ISERROR(VLOOKUP(F1516,[1]Kontoplan!A:D,2,0)),\"Konto findes ikke!\",VLOOKUP(F1516,[1]Kontoplan!A:D,2,0)))","v":"Bank konto"}]
["2018-06-19",76,"Kontingent, Per A. Nielsen",2,2019,1000,null,175,{"$f":"IF(F1517=\"\",\"\",IF(ISERROR(VLOOKUP(F1517,[1]Kontoplan!A:D,2,0)),\"Konto findes ikke!\",VLOOKUP(F1517,[1]Kontoplan!A:D,2,0)))","v":"Kontingenter"}]
["2018-06-19",76,"Kontingent, Per A. Nielsen",null,null,12310,175,null,{"$f":"IF(F1518=\"\",\"\",IF(ISERROR(VLOOKUP(F1518,[1]Kontoplan!A:D,2,0)),\"Konto findes ikke!\",VLOOKUP(F1518,[1]Kontoplan!A:D,2,0)))","v":"Bank konto"}]
["2018-06-19",77,"Krans til PL",null,null,12310,null,1375,{"$f":"IF(F1519=\"\",\"\",IF(ISERROR(VLOOKUP(F1519,[1]Kontoplan!A:D,2,0)),\"Konto findes ikke!\",VLOOKUP(F1519,[1]Kontoplan!A:D,2,0)))","v":"Bank konto"}]
["2018-06-19",77,"Krans til PL",null,null,2140,1375,null,{"$f":"IF(F1520=\"\",\"\",IF(ISERROR(VLOOKUP(F1520,[1]Kontoplan!A:D,2,0)),\"Konto findes ikke!\",VLOOKUP(F1520,[1]Kontoplan!A:D,2,0)))","v":"Begravelser"}]
["2018-06-20",78,"Kontingent, Knud Arne Rasmussen",33,2019,1000,null,175,{"$f":"IF(F1521=\"\",\"\",IF(ISERROR(VLOOKUP(F1521,[1]Kontoplan!A:D,2,0)),\"Konto findes ikke!\",VLOOKUP(F1521,[1]Kontoplan!A:D,2,0)))","v":"Kontingenter"}]
["2018-06-20",78,"Kontingent, Knud Arne Rasmussen",null,null,12310,175,null,{"$f":"IF(F1522=\"\",\"\",IF(ISERROR(VLOOKUP(F1522,[1]Kontoplan!A:D,2,0)),\"Konto findes ikke!\",VLOOKUP(F1522,[1]Kontoplan!A:D,2,0)))","v":"Bank konto"}]
["2018-06-21",79,"Kontingent, John Bloch Andersen",61,2019,1000,null,100,{"$f":"IF(F1523=\"\",\"\",IF(ISERROR(VLOOKUP(F1523,[1]Kontoplan!A:D,2,0)),\"Konto findes ikke!\",VLOOKUP(F1523,[1]Kontoplan!A:D,2,0)))","v":"Kontingenter"},"Mangler 75,- kr."]
["2018-06-21",79,"Kontingent, John Bloch Andersen",null,null,12310,100,null,{"$f":"IF(F1524=\"\",\"\",IF(ISERROR(VLOOKUP(F1524,[1]Kontoplan!A:D,2,0)),\"Konto findes ikke!\",VLOOKUP(F1524,[1]Kontoplan!A:D,2,0)))","v":"Bank konto"}]
["2018-06-24",80,"Kontingent, J.P.Christoffersson",1,2019,1000,null,175,{"$f":"IF(F1525=\"\",\"\",IF(ISERROR(VLOOKUP(F1525,[1]Kontoplan!A:D,2,0)),\"Konto findes ikke!\",VLOOKUP(F1525,[1]Kontoplan!A:D,2,0)))","v":"Kontingenter"}]
["2018-06-24",80,"Kontingent, J.P.Christoffersson",null,null,12310,175,null,{"$f":"IF(F1526=\"\",\"\",IF(ISERROR(VLOOKUP(F1526,[1]Kontoplan!A:D,2,0)),\"Konto findes ikke!\",VLOOKUP(F1526,[1]Kontoplan!A:D,2,0)))","v":"Bank konto"}]
["2018-06-27",81,"Kontingent, Allan Hoe Andersen",98,2019,1000,null,175,{"$f":"IF(F1527=\"\",\"\",IF(ISERROR(VLOOKUP(F1527,[1]Kontoplan!A:D,2,0)),\"Konto findes ikke!\",VLOOKUP(F1527,[1]Kontoplan!A:D,2,0)))","v":"Kontingenter"}]
["2018-06-27",81,"Kontingent, Allan Hoe Andersen",null,null,12310,175,null,{"$f":"IF(F1528=\"\",\"\",IF(ISERROR(VLOOKUP(F1528,[1]Kontoplan!A:D,2,0)),\"Konto findes ikke!\",VLOOKUP(F1528,[1]Kontoplan!A:D,2,0)))","v":"Bank konto"}]
["2018-06-28",82,"Kontingent, John J. Jensen",71,2019,1000,null,175,{"$f":"IF(F1529=\"\",\"\",IF(ISERROR(VLOOKUP(F1529,[1]Kontoplan!A:D,2,0)),\"Konto findes ikke!\",VLOOKUP(F1529,[1]Kontoplan!A:D,2,0)))","v":"Kontingenter"}]
["2018-06-28",82,"Kontingent, John J. Jensen",null,null,12310,175,null,{"$f":"IF(F1530=\"\",\"\",IF(ISERROR(VLOOKUP(F1530,[1]Kontoplan!A:D,2,0)),\"Konto findes ikke!\",VLOOKUP(F1530,[1]Kontoplan!A:D,2,0)))","v":"Bank konto"}]
["2018-06-28",83,"Kontingent, Flemming Olsen",43,2019,1000,null,175,{"$f":"IF(F1531=\"\",\"\",IF(ISERROR(VLOOKUP(F1531,[1]Kontoplan!A:D,2,0)),\"Konto findes ikke!\",VLOOKUP(F1531,[1]Kontoplan!A:D,2,0)))","v":"Kontingenter"}]
["2018-06-28",83,"Kontingent, Flemming Olsen",null,null,12310,175,null,{"$f":"IF(F1532=\"\",\"\",IF(ISERROR(VLOOKUP(F1532,[1]Kontoplan!A:D,2,0)),\"Konto findes ikke!\",VLOOKUP(F1532,[1]Kontoplan!A:D,2,0)))","v":"Bank konto"}]
["2018-06-29",84,"Gebyr ifølge nota",null,null,12310,null,75,{"$f":"IF(F1533=\"\",\"\",IF(ISERROR(VLOOKUP(F1533,[1]Kontoplan!A:D,2,0)),\"Konto findes ikke!\",VLOOKUP(F1533,[1]Kontoplan!A:D,2,0)))","v":"Bank konto"}]
["2018-06-29",84,"Gebyr ifølge nota",null,null,2130,75,null,{"$f":"IF(F1534=\"\",\"\",IF(ISERROR(VLOOKUP(F1534,[1]Kontoplan!A:D,2,0)),\"Konto findes ikke!\",VLOOKUP(F1534,[1]Kontoplan!A:D,2,0)))","v":"Bankgebyr/Renter"}]
["2018-07-04",85,"Kontingent, Niels Borg Larsen",83,2019,1000,null,175,{"$f":"IF(F1535=\"\",\"\",IF(ISERROR(VLOOKUP(F1535,[1]Kontoplan!A:D,2,0)),\"Konto findes ikke!\",VLOOKUP(F1535,[1]Kontoplan!A:D,2,0)))","v":"Kontingenter"}]
["2018-07-04",85,"Kontingent, Niels Borg Larsen",null,null,12310,175,null,{"$f":"IF(F1536=\"\",\"\",IF(ISERROR(VLOOKUP(F1536,[1]Kontoplan!A:D,2,0)),\"Konto findes ikke!\",VLOOKUP(F1536,[1]Kontoplan!A:D,2,0)))","v":"Bank konto"}]
["2018-07-09",86,"Kontingent, Flemming Kure",84,2019,1000,null,175,{"$f":"IF(F1537=\"\",\"\",IF(ISERROR(VLOOKUP(F1537,[1]Kontoplan!A:D,2,0)),\"Konto findes ikke!\",VLOOKUP(F1537,[1]Kontoplan!A:D,2,0)))","v":"Kontingenter"}]
["2018-07-09",86,"Kontingent, Flemming Kure",null,null,12310,175,null,{"$f":"IF(F1538=\"\",\"\",IF(ISERROR(VLOOKUP(F1538,[1]Kontoplan!A:D,2,0)),\"Konto findes ikke!\",VLOOKUP(F1538,[1]Kontoplan!A:D,2,0)))","v":"Bank konto"}]
["2018-07-12",87,"MDF Plader - Dragon stâuan - Fridolf",null,null,12310,null,518.4,{"$f":"IF(F1539=\"\",\"\",IF(ISERROR(VLOOKUP(F1539,[1]Kontoplan!A:D,2,0)),\"Konto findes ikke!\",VLOOKUP(F1539,[1]Kontoplan!A:D,2,0)))","v":"Bank konto"}]
["2018-07-12",87,"MDF Plader - Dragon stâuan - Fridolf",null,null,2190,518.4,null,{"$f":"IF(F1540=\"\",\"\",IF(ISERROR(VLOOKUP(F1540,[1]Kontoplan!A:D,2,0)),\"Konto findes ikke!\",VLOOKUP(F1540,[1]Kontoplan!A:D,2,0)))","v":"Diverse Indkøb"}]
["2018-07-19",88,"lydpotter til M24",null,null,12310,null,2008.69,{"$f":"IF(F1541=\"\",\"\",IF(ISERROR(VLOOKUP(F1541,[1]Kontoplan!A:D,2,0)),\"Konto findes ikke!\",VLOOKUP(F1541,[1]Kontoplan!A:D,2,0)))","v":"Bank konto"}]
["2018-07-19",88,"lydpotter til M24",null,null,2080,2008.69,null,{"$f":"IF(F1542=\"\",\"\",IF(ISERROR(VLOOKUP(F1542,[1]Kontoplan!A:D,2,0)),\"Konto findes ikke!\",VLOOKUP(F1542,[1]Kontoplan!A:D,2,0)))","v":"Reservedele"}]
["2018-07-27",89,"Kontingent, Flemming Pedersen",80,2019,1000,null,175,{"$f":"IF(F1543=\"\",\"\",IF(ISERROR(VLOOKUP(F1543,[1]Kontoplan!A:D,2,0)),\"Konto findes ikke!\",VLOOKUP(F1543,[1]Kontoplan!A:D,2,0)))","v":"Kontingenter"}]
["2018-07-27",89,"Kontingent, Flemming Pedersen",null,null,12310,175,null,{"$f":"IF(F1544=\"\",\"\",IF(ISERROR(VLOOKUP(F1544,[1]Kontoplan!A:D,2,0)),\"Konto findes ikke!\",VLOOKUP(F1544,[1]Kontoplan!A:D,2,0)))","v":"Bank konto"}]
["2018-07-27",90,"Kontingent, Svend Torp Bendtsen",22,2019,1000,null,175,{"$f":"IF(F1545=\"\",\"\",IF(ISERROR(VLOOKUP(F1545,[1]Kontoplan!A:D,2,0)),\"Konto findes ikke!\",VLOOKUP(F1545,[1]Kontoplan!A:D,2,0)))","v":"Kontingenter"}]
["2018-07-27",90,"Kontingent, Svend Torp Bendtsen",null,null,12310,175,null,{"$f":"IF(F1546=\"\",\"\",IF(ISERROR(VLOOKUP(F1546,[1]Kontoplan!A:D,2,0)),\"Konto findes ikke!\",VLOOKUP(F1546,[1]Kontoplan!A:D,2,0)))","v":"Bank konto"}]
["2018-07-30",91,"Kontingent, Eilief G Andersen",6,2019,1000,null,175,{"$f":"IF(F1547=\"\",\"\",IF(ISERROR(VLOOKUP(F1547,[1]Kontoplan!A:D,2,0)),\"Konto findes ikke!\",VLOOKUP(F1547,[1]Kontoplan!A:D,2,0)))","v":"Kontingenter"}]
["2018-07-30",91,"Kontingent, Eilief G Andersen",null,null,12310,175,null,{"$f":"IF(F1548=\"\",\"\",IF(ISERROR(VLOOKUP(F1548,[1]Kontoplan!A:D,2,0)),\"Konto findes ikke!\",VLOOKUP(F1548,[1]Kontoplan!A:D,2,0)))","v":"Bank konto"}]
["2018-07-31",92,"Kontingent, John Nielsen",30,2019,1000,null,175,{"$f":"IF(F1549=\"\",\"\",IF(ISERROR(VLOOKUP(F1549,[1]Kontoplan!A:D,2,0)),\"Konto findes ikke!\",VLOOKUP(F1549,[1]Kontoplan!A:D,2,0)))","v":"Kontingenter"}]
["2018-07-31",92,"Kontingent, John Nielsen",null,null,12310,175,null,{"$f":"IF(F1550=\"\",\"\",IF(ISERROR(VLOOKUP(F1550,[1]Kontoplan!A:D,2,0)),\"Konto findes ikke!\",VLOOKUP(F1550,[1]Kontoplan!A:D,2,0)))","v":"Bank konto"}]
["2018-07-31",93,"Kontingent, Jørn Westh Jensen",42,2019,1000,null,175,{"$f":"IF(F1551=\"\",\"\",IF(ISERROR(VLOOKUP(F1551,[1]Kontoplan!A:D,2,0)),\"Konto findes ikke!\",VLOOKUP(F1551,[1]Kontoplan!A:D,2,0)))","v":"Kontingenter"}]
["2018-07-31",93,"Kontingent, Jørn Westh Jensen",null,null,12310,175,null,{"$f":"IF(F1552=\"\",\"\",IF(ISERROR(VLOOKUP(F1552,[1]Kontoplan!A:D,2,0)),\"Konto findes ikke!\",VLOOKUP(F1552,[1]Kontoplan!A:D,2,0)))","v":"Bank konto"}]
["2018-08-01",94,"Kontingent, Carl-Erik Larsen",34,2019,1000,null,175,{"$f":"IF(F1553=\"\",\"\",IF(ISERROR(VLOOKUP(F1553,[1]Kontoplan!A:D,2,0)),\"Konto findes ikke!\",VLOOKUP(F1553,[1]Kontoplan!A:D,2,0)))","v":"Kontingenter"}]
["2018-08-01",94,"Kontingent, Carl-Erik Larsen",null,null,12310,175,null,{"$f":"IF(F1554=\"\",\"\",IF(ISERROR(VLOOKUP(F1554,[1]Kontoplan!A:D,2,0)),\"Konto findes ikke!\",VLOOKUP(F1554,[1]Kontoplan!A:D,2,0)))","v":"Bank konto"}]
["2018-08-01",95,"Kontingent, Jan Witzner Bergliot",8,2019,1000,null,175,{"$f":"IF(F1555=\"\",\"\",IF(ISERROR(VLOOKUP(F1555,[1]Kontoplan!A:D,2,0)),\"Konto findes ikke!\",VLOOKUP(F1555,[1]Kontoplan!A:D,2,0)))","v":"Kontingenter"}]
["2018-08-01",95,"Kontingent, Jan Witzner Bergliot",null,null,12310,175,null,{"$f":"IF(F1556=\"\",\"\",IF(ISERROR(VLOOKUP(F1556,[1]Kontoplan!A:D,2,0)),\"Konto findes ikke!\",VLOOKUP(F1556,[1]Kontoplan!A:D,2,0)))","v":"Bank konto"}]
["2018-08-02",96,"Kontingent, Bent Nielsen",78,2019,1000,null,175,{"$f":"IF(F1557=\"\",\"\",IF(ISERROR(VLOOKUP(F1557,[1]Kontoplan!A:D,2,0)),\"Konto findes ikke!\",VLOOKUP(F1557,[1]Kontoplan!A:D,2,0)))","v":"Kontingenter"}]
["2018-08-02",96,"Kontingent, Bent Nielsen",null,null,12310,175,null,{"$f":"IF(F1558=\"\",\"\",IF(ISERROR(VLOOKUP(F1558,[1]Kontoplan!A:D,2,0)),\"Konto findes ikke!\",VLOOKUP(F1558,[1]Kontoplan!A:D,2,0)))","v":"Bank konto"}]
["2018-08-07",97,"Kontingent, Michael Bendtsen",59,2019,1000,null,175,{"$f":"IF(F1559=\"\",\"\",IF(ISERROR(VLOOKUP(F1559,[1]Kontoplan!A:D,2,0)),\"Konto findes ikke!\",VLOOKUP(F1559,[1]Kontoplan!A:D,2,0)))","v":"Kontingenter"}]
["2018-08-07",97,"Kontingent, Michael Bendtsen",null,null,12310,175,null,{"$f":"IF(F1560=\"\",\"\",IF(ISERROR(VLOOKUP(F1560,[1]Kontoplan!A:D,2,0)),\"Konto findes ikke!\",VLOOKUP(F1560,[1]Kontoplan!A:D,2,0)))","v":"Bank konto"}]
["2018-08-08",98,"Kontingent, Torben Westring",19,2019,1000,null,175,{"$f":"IF(F1561=\"\",\"\",IF(ISERROR(VLOOKUP(F1561,[1]Kontoplan!A:D,2,0)),\"Konto findes ikke!\",VLOOKUP(F1561,[1]Kontoplan!A:D,2,0)))","v":"Kontingenter"}]
["2018-08-08",98,"Kontingent, Torben Westring",null,null,12310,175,null,{"$f":"IF(F1562=\"\",\"\",IF(ISERROR(VLOOKUP(F1562,[1]Kontoplan!A:D,2,0)),\"Konto findes ikke!\",VLOOKUP(F1562,[1]Kontoplan!A:D,2,0)))","v":"Bank konto"}]
["2018-08-09",99,"forplejning bestyrm. 4/8/18",null,null,12310,null,139.01,{"$f":"IF(F1563=\"\",\"\",IF(ISERROR(VLOOKUP(F1563,[1]Kontoplan!A:D,2,0)),\"Konto findes ikke!\",VLOOKUP(F1563,[1]Kontoplan!A:D,2,0)))","v":"Bank konto"}]
["2018-08-09",99,"forplejning bestyrm. 4/8/18",null,null,2100,139.01,null,{"$f":"IF(F1564=\"\",\"\",IF(ISERROR(VLOOKUP(F1564,[1]Kontoplan!A:D,2,0)),\"Konto findes ikke!\",VLOOKUP(F1564,[1]Kontoplan!A:D,2,0)))","v":"Forplejning til møder/Rejser"}]
["2018-08-09",100,"Udlæg rejse bestyrelm. 4/8/18 Ole Holm",null,null,12310,null,1014,{"$f":"IF(F1565=\"\",\"\",IF(ISERROR(VLOOKUP(F1565,[1]Kontoplan!A:D,2,0)),\"Konto findes ikke!\",VLOOKUP(F1565,[1]Kontoplan!A:D,2,0)))","v":"Bank konto"}]
["2018-08-09",100,"Udlæg rejse bestyrelm. 4/8/18 Ole Holm",null,null,2160,1014,null,{"$f":"IF(F1566=\"\",\"\",IF(ISERROR(VLOOKUP(F1566,[1]Kontoplan!A:D,2,0)),\"Konto findes ikke!\",VLOOKUP(F1566,[1]Kontoplan!A:D,2,0)))","v":"Rejser"}]
["2018-08-14",101,"Kontingent, Peter Munk Petersen",46,2019,1000,null,178,{"$f":"IF(F1567=\"\",\"\",IF(ISERROR(VLOOKUP(F1567,[1]Kontoplan!A:D,2,0)),\"Konto findes ikke!\",VLOOKUP(F1567,[1]Kontoplan!A:D,2,0)))","v":"Kontingenter"}]
["2018-08-14",101,"Kontingent, Peter Munk Petersen",null,null,12310,178,null,{"$f":"IF(F1568=\"\",\"\",IF(ISERROR(VLOOKUP(F1568,[1]Kontoplan!A:D,2,0)),\"Konto findes ikke!\",VLOOKUP(F1568,[1]Kontoplan!A:D,2,0)))","v":"Bank konto"}]
["2018-08-16",102,"Kontingent, Jørn Kofoed Pedersen",24,2019,1000,null,175,{"$f":"IF(F1569=\"\",\"\",IF(ISERROR(VLOOKUP(F1569,[1]Kontoplan!A:D,2,0)),\"Konto findes ikke!\",VLOOKUP(F1569,[1]Kontoplan!A:D,2,0)))","v":"Kontingenter"}]
["2018-08-16",102,"Kontingent, Jørn Kofoed Pedersen",null,null,12310,175,null,{"$f":"IF(F1570=\"\",\"\",IF(ISERROR(VLOOKUP(F1570,[1]Kontoplan!A:D,2,0)),\"Konto findes ikke!\",VLOOKUP(F1570,[1]Kontoplan!A:D,2,0)))","v":"Bank konto"}]
["2018-08-18",103,"Kontingent, Allan Hoe Andersen",98,2020,1000,null,175,{"$f":"IF(F1571=\"\",\"\",IF(ISERROR(VLOOKUP(F1571,[1]Kontoplan!A:D,2,0)),\"Konto findes ikke!\",VLOOKUP(F1571,[1]Kontoplan!A:D,2,0)))","v":"Kontingenter"}]
["2018-08-18",103,"Kontingent, Allan Hoe Andersen",null,null,12310,350,null,{"$f":"IF(F1572=\"\",\"\",IF(ISERROR(VLOOKUP(F1572,[1]Kontoplan!A:D,2,0)),\"Konto findes ikke!\",VLOOKUP(F1572,[1]Kontoplan!A:D,2,0)))","v":"Bank konto"}]
["2018-08-18",103,"Kontingent, Allan Hoe Andersen",null,null,1130,null,175,{"$f":"IF(F1573=\"\",\"\",IF(ISERROR(VLOOKUP(F1573,[1]Kontoplan!A:D,2,0)),\"Konto findes ikke!\",VLOOKUP(F1573,[1]Kontoplan!A:D,2,0)))","v":"Diverse Indtægter"}]
["2018-08-18",104,"Kontingent, Flemming Knøsgaard",93,2020,1000,null,175,{"$f":"IF(F1574=\"\",\"\",IF(ISERROR(VLOOKUP(F1574,[1]Kontoplan!A:D,2,0)),\"Konto findes ikke!\",VLOOKUP(F1574,[1]Kontoplan!A:D,2,0)))","v":"Kontingenter"}]
["2018-08-18",104,"Kontingent, Flemming Knøsgaard",null,null,12310,175,null,{"$f":"IF(F1575=\"\",\"\",IF(ISERROR(VLOOKUP(F1575,[1]Kontoplan!A:D,2,0)),\"Konto findes ikke!\",VLOOKUP(F1575,[1]Kontoplan!A:D,2,0)))","v":"Bank konto"}]
["2018-08-19",105,"Kontingent, Klaus Bendixen",100,2020,1000,null,175,{"$f":"IF(F1576=\"\",\"\",IF(ISERROR(VLOOKUP(F1576,[1]Kontoplan!A:D,2,0)),\"Konto findes ikke!\",VLOOKUP(F1576,[1]Kontoplan!A:D,2,0)))","v":"Kontingenter"}]
["2018-08-19",105,"Kontingent, Klaus Bendixen",null,null,12310,175,null,{"$f":"IF(F1577=\"\",\"\",IF(ISERROR(VLOOKUP(F1577,[1]Kontoplan!A:D,2,0)),\"Konto findes ikke!\",VLOOKUP(F1577,[1]Kontoplan!A:D,2,0)))","v":"Bank konto"}]
["2018-08-19",106,"Kontingent, Steen R Jensen",95,2019,1000,null,175,{"$f":"IF(F1578=\"\",\"\",IF(ISERROR(VLOOKUP(F1578,[1]Kontoplan!A:D,2,0)),\"Konto findes ikke!\",VLOOKUP(F1578,[1]Kontoplan!A:D,2,0)))","v":"Kontingenter"}]
["2018-08-19",106,"Kontingent, Steen R Jensen",null,null,12310,175,null,{"$f":"IF(F1579=\"\",\"\",IF(ISERROR(VLOOKUP(F1579,[1]Kontoplan!A:D,2,0)),\"Konto findes ikke!\",VLOOKUP(F1579,[1]Kontoplan!A:D,2,0)))","v":"Bank konto"}]
["2018-08-20",107,"Overført kont. til SBD, AllanHoe Andersen",null,null,12310,null,175,{"$f":"IF(F1580=\"\",\"\",IF(ISERROR(VLOOKUP(F1580,[1]Kontoplan!A:D,2,0)),\"Konto findes ikke!\",VLOOKUP(F1580,[1]Kontoplan!A:D,2,0)))","v":"Bank konto"}]
["2018-08-20",107,"Overført kont. til SBD, AllanHoe Andersen",null,null,2060,175,null,{"$f":"IF(F1581=\"\",\"\",IF(ISERROR(VLOOKUP(F1581,[1]Kontoplan!A:D,2,0)),\"Konto findes ikke!\",VLOOKUP(F1581,[1]Kontoplan!A:D,2,0)))","v":"Overført til SBD"}]
["2018-08-20",108,"Kontigent, Johnny Kofoed",31,2019,1000,null,175,{"$f":"IF(F1582=\"\",\"\",IF(ISERROR(VLOOKUP(F1582,[1]Kontoplan!A:D,2,0)),\"Konto findes ikke!\",VLOOKUP(F1582,[1]Kontoplan!A:D,2,0)))","v":"Kontingenter"}]
["2018-08-20",108,"Kontigent, Johnny Kofoed",null,null,12310,175,null,{"$f":"IF(F1583=\"\",\"\",IF(ISERROR(VLOOKUP(F1583,[1]Kontoplan!A:D,2,0)),\"Konto findes ikke!\",VLOOKUP(F1583,[1]Kontoplan!A:D,2,0)))","v":"Bank konto"}]
["2018-08-20",109,"Kontingent, Ole Larsen",5,2019,1000,null,175,{"$f":"IF(F1584=\"\",\"\",IF(ISERROR(VLOOKUP(F1584,[1]Kontoplan!A:D,2,0)),\"Konto findes ikke!\",VLOOKUP(F1584,[1]Kontoplan!A:D,2,0)))","v":"Kontingenter"}]
["2018-08-20",109,"Kontingent, Ole Larsen",null,null,12310,175,null,{"$f":"IF(F1585=\"\",\"\",IF(ISERROR(VLOOKUP(F1585,[1]Kontoplan!A:D,2,0)),\"Konto findes ikke!\",VLOOKUP(F1585,[1]Kontoplan!A:D,2,0)))","v":"Bank konto"}]
["2018-08-21",110,"Kontingent, Martin Jakob Hansen",90,2019,1000,null,175,{"$f":"IF(F1586=\"\",\"\",IF(ISERROR(VLOOKUP(F1586,[1]Kontoplan!A:D,2,0)),\"Konto findes ikke!\",VLOOKUP(F1586,[1]Kontoplan!A:D,2,0)))","v":"Kontingenter"}]
["2018-08-21",110,"Kontingent, Martin Jakob Hansen",null,null,12310,175,null,{"$f":"IF(F1587=\"\",\"\",IF(ISERROR(VLOOKUP(F1587,[1]Kontoplan!A:D,2,0)),\"Konto findes ikke!\",VLOOKUP(F1587,[1]Kontoplan!A:D,2,0)))","v":"Bank konto"}]
["2018-08-21",111,"Kontingent, Mads Egede Krahl",20,2019,1000,null,175,{"$f":"IF(F1588=\"\",\"\",IF(ISERROR(VLOOKUP(F1588,[1]Kontoplan!A:D,2,0)),\"Konto findes ikke!\",VLOOKUP(F1588,[1]Kontoplan!A:D,2,0)))","v":"Kontingenter"}]
["2018-08-21",111,"Kontingent, Mads Egede Krahl",null,null,12310,175,null,{"$f":"IF(F1589=\"\",\"\",IF(ISERROR(VLOOKUP(F1589,[1]Kontoplan!A:D,2,0)),\"Konto findes ikke!\",VLOOKUP(F1589,[1]Kontoplan!A:D,2,0)))","v":"Bank konto"}]
["2018-08-22",112,"Kontingent, Sven Jørgensen",91,2019,1000,null,175,{"$f":"IF(F1590=\"\",\"\",IF(ISERROR(VLOOKUP(F1590,[1]Kontoplan!A:D,2,0)),\"Konto findes ikke!\",VLOOKUP(F1590,[1]Kontoplan!A:D,2,0)))","v":"Kontingenter"}]
["2018-08-22",112,"Kontingent, Sven Jørgensen",null,null,12310,175,null,{"$f":"IF(F1591=\"\",\"\",IF(ISERROR(VLOOKUP(F1591,[1]Kontoplan!A:D,2,0)),\"Konto findes ikke!\",VLOOKUP(F1591,[1]Kontoplan!A:D,2,0)))","v":"Bank konto"}]
["2018-08-22",113,"Kontingent, Palle Schrøder Andersen",45,2019,1000,null,175,{"$f":"IF(F1592=\"\",\"\",IF(ISERROR(VLOOKUP(F1592,[1]Kontoplan!A:D,2,0)),\"Konto findes ikke!\",VLOOKUP(F1592,[1]Kontoplan!A:D,2,0)))","v":"Kontingenter"}]
["2018-08-22",113,"Kontingent, Palle Schrøder Andersen",null,null,12310,175,null,{"$f":"IF(F1593=\"\",\"\",IF(ISERROR(VLOOKUP(F1593,[1]Kontoplan!A:D,2,0)),\"Konto findes ikke!\",VLOOKUP(F1593,[1]Kontoplan!A:D,2,0)))","v":"Bank konto"}]
["2018-08-23",114,"Kontingent, Per A. Nielsen",2,2020,1000,null,175,{"$f":"IF(F1594=\"\",\"\",IF(ISERROR(VLOOKUP(F1594,[1]Kontoplan!A:D,2,0)),\"Konto findes ikke!\",VLOOKUP(F1594,[1]Kontoplan!A:D,2,0)))","v":"Kontingenter"}]
["2018-08-23",114,"Kontingent, Per A. Nielsen",null,null,12310,175,null,{"$f":"IF(F1595=\"\",\"\",IF(ISERROR(VLOOKUP(F1595,[1]Kontoplan!A:D,2,0)),\"Konto findes ikke!\",VLOOKUP(F1595,[1]Kontoplan!A:D,2,0)))","v":"Bank konto"}]
["2018-08-23",115,"Kontingent, Michael Fausing",51,2019,1000,null,175,{"$f":"IF(F1596=\"\",\"\",IF(ISERROR(VLOOKUP(F1596,[1]Kontoplan!A:D,2,0)),\"Konto findes ikke!\",VLOOKUP(F1596,[1]Kontoplan!A:D,2,0)))","v":"Kontingenter"}]
["2018-08-23",115,"Kontingent, Michael Fausing",null,null,12310,175,null,{"$f":"IF(F1597=\"\",\"\",IF(ISERROR(VLOOKUP(F1597,[1]Kontoplan!A:D,2,0)),\"Konto findes ikke!\",VLOOKUP(F1597,[1]Kontoplan!A:D,2,0)))","v":"Bank konto"}]
["2018-08-24",116,"Kontingent, Erik A. Larsen",63,2019,1000,null,175,{"$f":"IF(F1598=\"\",\"\",IF(ISERROR(VLOOKUP(F1598,[1]Kontoplan!A:D,2,0)),\"Konto findes ikke!\",VLOOKUP(F1598,[1]Kontoplan!A:D,2,0)))","v":"Kontingenter"}]
["2018-08-24",116,"Kontingent, Erik A. Larsen",null,null,12310,175,null,{"$f":"IF(F1599=\"\",\"\",IF(ISERROR(VLOOKUP(F1599,[1]Kontoplan!A:D,2,0)),\"Konto findes ikke!\",VLOOKUP(F1599,[1]Kontoplan!A:D,2,0)))","v":"Bank konto"}]
["2018-08-27",117,"Kontingent, Kaare Hansen",60,2019,1000,null,175,{"$f":"IF(F1600=\"\",\"\",IF(ISERROR(VLOOKUP(F1600,[1]Kontoplan!A:D,2,0)),\"Konto findes ikke!\",VLOOKUP(F1600,[1]Kontoplan!A:D,2,0)))","v":"Kontingenter"}]
["2018-08-27",117,"Kontingent, Kaare Hansen",null,null,12310,175,null,{"$f":"IF(F1601=\"\",\"\",IF(ISERROR(VLOOKUP(F1601,[1]Kontoplan!A:D,2,0)),\"Konto findes ikke!\",VLOOKUP(F1601,[1]Kontoplan!A:D,2,0)))","v":"Bank konto"}]
["2018-08-28",118,"Kontingent, Kaj Ingvorsen",40,2019,1000,null,175,{"$f":"IF(F1602=\"\",\"\",IF(ISERROR(VLOOKUP(F1602,[1]Kontoplan!A:D,2,0)),\"Konto findes ikke!\",VLOOKUP(F1602,[1]Kontoplan!A:D,2,0)))","v":"Kontingenter"}]
["2018-08-28",118,"Kontingent, Kaj Ingvorsen",null,null,12310,175,null,{"$f":"IF(F1603=\"\",\"\",IF(ISERROR(VLOOKUP(F1603,[1]Kontoplan!A:D,2,0)),\"Konto findes ikke!\",VLOOKUP(F1603,[1]Kontoplan!A:D,2,0)))","v":"Bank konto"}]
["2018-08-28",119,"Kontingent, Carsten Kofod Pedersen",41,2019,1000,null,175,{"$f":"IF(F1604=\"\",\"\",IF(ISERROR(VLOOKUP(F1604,[1]Kontoplan!A:D,2,0)),\"Konto findes ikke!\",VLOOKUP(F1604,[1]Kontoplan!A:D,2,0)))","v":"Kontingenter"}]
["2018-08-28",119,"Kontingent, Carsten Kofod Pedersen",null,null,12310,175,null,{"$f":"IF(F1605=\"\",\"\",IF(ISERROR(VLOOKUP(F1605,[1]Kontoplan!A:D,2,0)),\"Konto findes ikke!\",VLOOKUP(F1605,[1]Kontoplan!A:D,2,0)))","v":"Bank konto"}]
["2018-08-30",120,"Kontingent, Finn Andreas Nielsen",64,2019,1000,null,175,{"$f":"IF(F1606=\"\",\"\",IF(ISERROR(VLOOKUP(F1606,[1]Kontoplan!A:D,2,0)),\"Konto findes ikke!\",VLOOKUP(F1606,[1]Kontoplan!A:D,2,0)))","v":"Kontingenter"}]
["2018-08-30",120,"Kontingent, Finn Andreas Nielsen",null,null,12310,175,null,{"$f":"IF(F1607=\"\",\"\",IF(ISERROR(VLOOKUP(F1607,[1]Kontoplan!A:D,2,0)),\"Konto findes ikke!\",VLOOKUP(F1607,[1]Kontoplan!A:D,2,0)))","v":"Bank konto"}]
["2018-08-30",121,"Kontingent, Klaus Buchholdt",21,2019,1000,null,175,{"$f":"IF(F1608=\"\",\"\",IF(ISERROR(VLOOKUP(F1608,[1]Kontoplan!A:D,2,0)),\"Konto findes ikke!\",VLOOKUP(F1608,[1]Kontoplan!A:D,2,0)))","v":"Kontingenter"}]
["2018-08-30",121,"Kontingent, Klaus Buchholdt",null,null,12310,175,null,{"$f":"IF(F1609=\"\",\"\",IF(ISERROR(VLOOKUP(F1609,[1]Kontoplan!A:D,2,0)),\"Konto findes ikke!\",VLOOKUP(F1609,[1]Kontoplan!A:D,2,0)))","v":"Bank konto"}]
["2018-08-30",122,"Kontingent, Birger Jønsson",101,2019,1000,null,175,{"$f":"IF(F1610=\"\",\"\",IF(ISERROR(VLOOKUP(F1610,[1]Kontoplan!A:D,2,0)),\"Konto findes ikke!\",VLOOKUP(F1610,[1]Kontoplan!A:D,2,0)))","v":"Kontingenter"}]
["2018-08-30",122,"Kontingent, Birger Jønsson",null,null,12310,175,null,{"$f":"IF(F1611=\"\",\"\",IF(ISERROR(VLOOKUP(F1611,[1]Kontoplan!A:D,2,0)),\"Konto findes ikke!\",VLOOKUP(F1611,[1]Kontoplan!A:D,2,0)))","v":"Bank konto"}]
["2018-08-30",123,"Kontingent, Kim Jensen",29,2019,1000,null,175,{"$f":"IF(F1612=\"\",\"\",IF(ISERROR(VLOOKUP(F1612,[1]Kontoplan!A:D,2,0)),\"Konto findes ikke!\",VLOOKUP(F1612,[1]Kontoplan!A:D,2,0)))","v":"Kontingenter"}]
["2018-08-30",123,"Kontingent, Kim Jensen",null,null,12310,175,null,{"$f":"IF(F1613=\"\",\"\",IF(ISERROR(VLOOKUP(F1613,[1]Kontoplan!A:D,2,0)),\"Konto findes ikke!\",VLOOKUP(F1613,[1]Kontoplan!A:D,2,0)))","v":"Bank konto"}]
["2018-08-31",124,"Kontingent, Flemming Hejdenberg",94,2019,1000,null,175,{"$f":"IF(F1614=\"\",\"\",IF(ISERROR(VLOOKUP(F1614,[1]Kontoplan!A:D,2,0)),\"Konto findes ikke!\",VLOOKUP(F1614,[1]Kontoplan!A:D,2,0)))","v":"Kontingenter"}]
["2018-08-31",124,"Kontingent, Flemming Hejdenberg",null,null,12310,175,null,{"$f":"IF(F1615=\"\",\"\",IF(ISERROR(VLOOKUP(F1615,[1]Kontoplan!A:D,2,0)),\"Konto findes ikke!\",VLOOKUP(F1615,[1]Kontoplan!A:D,2,0)))","v":"Bank konto"}]
["2018-08-31",125,"Kontingent, Tom Nielsen",97,2019,1000,null,175,{"$f":"IF(F1616=\"\",\"\",IF(ISERROR(VLOOKUP(F1616,[1]Kontoplan!A:D,2,0)),\"Konto findes ikke!\",VLOOKUP(F1616,[1]Kontoplan!A:D,2,0)))","v":"Kontingenter"}]
["2018-08-31",125,"Kontingent, Tom Nielsen",null,null,12310,175,null,{"$f":"IF(F1617=\"\",\"\",IF(ISERROR(VLOOKUP(F1617,[1]Kontoplan!A:D,2,0)),\"Konto findes ikke!\",VLOOKUP(F1617,[1]Kontoplan!A:D,2,0)))","v":"Bank konto"}]
["2018-08-31",126,"Kontingent, Palle Jensen",65,2019,1000,null,175,{"$f":"IF(F1618=\"\",\"\",IF(ISERROR(VLOOKUP(F1618,[1]Kontoplan!A:D,2,0)),\"Konto findes ikke!\",VLOOKUP(F1618,[1]Kontoplan!A:D,2,0)))","v":"Kontingenter"}]
["2018-08-31",126,"Kontingent, Palle Jensen",null,null,12310,175,null,{"$f":"IF(F1619=\"\",\"\",IF(ISERROR(VLOOKUP(F1619,[1]Kontoplan!A:D,2,0)),\"Konto findes ikke!\",VLOOKUP(F1619,[1]Kontoplan!A:D,2,0)))","v":"Bank konto"}]
["2018-08-31",127,"Kontingent, Ebbe Torgersen",53,2019,1000,null,175,{"$f":"IF(F1620=\"\",\"\",IF(ISERROR(VLOOKUP(F1620,[1]Kontoplan!A:D,2,0)),\"Konto findes ikke!\",VLOOKUP(F1620,[1]Kontoplan!A:D,2,0)))","v":"Kontingenter"}]
["2018-08-31",127,"Kontingent, Ebbe Torgersen",null,null,12310,175,null,{"$f":"IF(F1621=\"\",\"\",IF(ISERROR(VLOOKUP(F1621,[1]Kontoplan!A:D,2,0)),\"Konto findes ikke!\",VLOOKUP(F1621,[1]Kontoplan!A:D,2,0)))","v":"Bank konto"}]
["2018-08-31",128,"Kontingent, Kurt Larsen",14,2019,1000,null,175,{"$f":"IF(F1622=\"\",\"\",IF(ISERROR(VLOOKUP(F1622,[1]Kontoplan!A:D,2,0)),\"Konto findes ikke!\",VLOOKUP(F1622,[1]Kontoplan!A:D,2,0)))","v":"Kontingenter"}]
["2018-08-31",128,"Kontingent, Kurt Larsen",null,null,12310,175,null,{"$f":"IF(F1623=\"\",\"\",IF(ISERROR(VLOOKUP(F1623,[1]Kontoplan!A:D,2,0)),\"Konto findes ikke!\",VLOOKUP(F1623,[1]Kontoplan!A:D,2,0)))","v":"Bank konto"}]
["2018-08-31",129,"Kontingent, Ole Holm",4,2019,1000,null,175,{"$f":"IF(F1624=\"\",\"\",IF(ISERROR(VLOOKUP(F1624,[1]Kontoplan!A:D,2,0)),\"Konto findes ikke!\",VLOOKUP(F1624,[1]Kontoplan!A:D,2,0)))","v":"Kontingenter"}]
["2018-08-31",129,"Kontingent, Ole Holm",null,null,12310,175,null,{"$f":"IF(F1625=\"\",\"\",IF(ISERROR(VLOOKUP(F1625,[1]Kontoplan!A:D,2,0)),\"Konto findes ikke!\",VLOOKUP(F1625,[1]Kontoplan!A:D,2,0)))","v":"Bank konto"}]
["2018-08-31",130,"Kontingent, Henrik Green",58,2019,1000,null,175,{"$f":"IF(F1626=\"\",\"\",IF(ISERROR(VLOOKUP(F1626,[1]Kontoplan!A:D,2,0)),\"Konto findes ikke!\",VLOOKUP(F1626,[1]Kontoplan!A:D,2,0)))","v":"Kontingenter"}]
["2018-08-31",130,"Kontingent, Henrik Green",null,null,12310,175,null,{"$f":"IF(F1627=\"\",\"\",IF(ISERROR(VLOOKUP(F1627,[1]Kontoplan!A:D,2,0)),\"Konto findes ikke!\",VLOOKUP(F1627,[1]Kontoplan!A:D,2,0)))","v":"Bank konto"}]
["2018-08-31",131,"Kontingent, Jørgen Espersen",32,2019,1000,null,175,{"$f":"IF(F1628=\"\",\"\",IF(ISERROR(VLOOKUP(F1628,[1]Kontoplan!A:D,2,0)),\"Konto findes ikke!\",VLOOKUP(F1628,[1]Kontoplan!A:D,2,0)))","v":"Kontingenter"}]
["2018-08-31",131,"Kontingent, Jørgen Espersen",null,null,12310,175,null,{"$f":"IF(F1629=\"\",\"\",IF(ISERROR(VLOOKUP(F1629,[1]Kontoplan!A:D,2,0)),\"Konto findes ikke!\",VLOOKUP(F1629,[1]Kontoplan!A:D,2,0)))","v":"Bank konto"}]
["2018-08-31",132,"Kontingent, Søren Dyrby Schou",15,2019,1000,null,175,{"$f":"IF(F1630=\"\",\"\",IF(ISERROR(VLOOKUP(F1630,[1]Kontoplan!A:D,2,0)),\"Konto findes ikke!\",VLOOKUP(F1630,[1]Kontoplan!A:D,2,0)))","v":"Kontingenter"}]
["2018-08-31",132,"Kontingent, Søren Dyrby Schou",null,null,12310,175,null,{"$f":"IF(F1631=\"\",\"\",IF(ISERROR(VLOOKUP(F1631,[1]Kontoplan!A:D,2,0)),\"Konto findes ikke!\",VLOOKUP(F1631,[1]Kontoplan!A:D,2,0)))","v":"Bank konto"}]
["2018-09-02",133,"Kontingent,Poul Guldving",69,2019,1000,null,175,{"$f":"IF(F1632=\"\",\"\",IF(ISERROR(VLOOKUP(F1632,[1]Kontoplan!A:D,2,0)),\"Konto findes ikke!\",VLOOKUP(F1632,[1]Kontoplan!A:D,2,0)))","v":"Kontingenter"}]
["2018-09-02",133,"Kontingent,Poul Guldving",null,null,12310,175,null,{"$f":"IF(F1633=\"\",\"\",IF(ISERROR(VLOOKUP(F1633,[1]Kontoplan!A:D,2,0)),\"Konto findes ikke!\",VLOOKUP(F1633,[1]Kontoplan!A:D,2,0)))","v":"Bank konto"}]
["2018-09-03",134,"Kontingent, Eivind G. Andersen",81,2019,1000,null,175,{"$f":"IF(F1634=\"\",\"\",IF(ISERROR(VLOOKUP(F1634,[1]Kontoplan!A:D,2,0)),\"Konto findes ikke!\",VLOOKUP(F1634,[1]Kontoplan!A:D,2,0)))","v":"Kontingenter"}]
["2018-09-03",134,"Kontingent, Eivind G. Andersen",null,null,12310,175,null,{"$f":"IF(F1635=\"\",\"\",IF(ISERROR(VLOOKUP(F1635,[1]Kontoplan!A:D,2,0)),\"Konto findes ikke!\",VLOOKUP(F1635,[1]Kontoplan!A:D,2,0)))","v":"Bank konto"}]
["2018-09-03",135,"Kontingent, Jens Aksel Givskov",47,2019,1000,null,175,{"$f":"IF(F1636=\"\",\"\",IF(ISERROR(VLOOKUP(F1636,[1]Kontoplan!A:D,2,0)),\"Konto findes ikke!\",VLOOKUP(F1636,[1]Kontoplan!A:D,2,0)))","v":"Kontingenter"}]
["2018-09-03",135,"Kontingent, Jens Aksel Givskov",null,null,12310,175,null,{"$f":"IF(F1637=\"\",\"\",IF(ISERROR(VLOOKUP(F1637,[1]Kontoplan!A:D,2,0)),\"Konto findes ikke!\",VLOOKUP(F1637,[1]Kontoplan!A:D,2,0)))","v":"Bank konto"}]
["2018-09-07",136,"Kontingent, Steen M Jensen",16,2019,1000,null,175,{"$f":"IF(F1638=\"\",\"\",IF(ISERROR(VLOOKUP(F1638,[1]Kontoplan!A:D,2,0)),\"Konto findes ikke!\",VLOOKUP(F1638,[1]Kontoplan!A:D,2,0)))","v":"Kontingenter"}]
["2018-09-07",136,"Kontingent, Steen M Jensen",null,null,12310,175,null,{"$f":"IF(F1639=\"\",\"\",IF(ISERROR(VLOOKUP(F1639,[1]Kontoplan!A:D,2,0)),\"Konto findes ikke!\",VLOOKUP(F1639,[1]Kontoplan!A:D,2,0)))","v":"Bank konto"}]
["2018-09-10",137,"Kontingent, Bent Ellevang",11,2019,1000,null,175,{"$f":"IF(F1640=\"\",\"\",IF(ISERROR(VLOOKUP(F1640,[1]Kontoplan!A:D,2,0)),\"Konto findes ikke!\",VLOOKUP(F1640,[1]Kontoplan!A:D,2,0)))","v":"Kontingenter"}]
["2018-09-10",137,"Kontingent, Bent Ellevang",null,null,12310,175,null,{"$f":"IF(F1641=\"\",\"\",IF(ISERROR(VLOOKUP(F1641,[1]Kontoplan!A:D,2,0)),\"Konto findes ikke!\",VLOOKUP(F1641,[1]Kontoplan!A:D,2,0)))","v":"Bank konto"}]
["2018-09-10",138,"Ole Holm udlæg gave omskoling",null,null,12310,null,109.95,{"$f":"IF(F1642=\"\",\"\",IF(ISERROR(VLOOKUP(F1642,[1]Kontoplan!A:D,2,0)),\"Konto findes ikke!\",VLOOKUP(F1642,[1]Kontoplan!A:D,2,0)))","v":"Bank konto"}]
["2018-09-10",138,"Ole Holm udlæg gave omskoling",null,null,2070,109.95,null,{"$f":"IF(F1643=\"\",\"\",IF(ISERROR(VLOOKUP(F1643,[1]Kontoplan!A:D,2,0)),\"Konto findes ikke!\",VLOOKUP(F1643,[1]Kontoplan!A:D,2,0)))","v":"Gaver"}]
["2018-09-18",139,"Kontingent, Jens Svendsen",38,2019,1000,null,175,{"$f":"IF(F1644=\"\",\"\",IF(ISERROR(VLOOKUP(F1644,[1]Kontoplan!A:D,2,0)),\"Konto findes ikke!\",VLOOKUP(F1644,[1]Kontoplan!A:D,2,0)))","v":"Kontingenter"}]
["2018-09-18",139,"Kontingent, Jens Svendsen",null,null,12310,175,null,{"$f":"IF(F1645=\"\",\"\",IF(ISERROR(VLOOKUP(F1645,[1]Kontoplan!A:D,2,0)),\"Konto findes ikke!\",VLOOKUP(F1645,[1]Kontoplan!A:D,2,0)))","v":"Bank konto"}]
["2018-09-19",140,"Kontingent, Johnny S. E. Jacobsen",89,2019,1000,null,175,{"$f":"IF(F1646=\"\",\"\",IF(ISERROR(VLOOKUP(F1646,[1]Kontoplan!A:D,2,0)),\"Konto findes ikke!\",VLOOKUP(F1646,[1]Kontoplan!A:D,2,0)))","v":"Kontingenter"}]
["2018-09-19",140,"Kontingent, Johnny S. E. Jacobsen",null,null,12310,175,null,{"$f":"IF(F1647=\"\",\"\",IF(ISERROR(VLOOKUP(F1647,[1]Kontoplan!A:D,2,0)),\"Konto findes ikke!\",VLOOKUP(F1647,[1]Kontoplan!A:D,2,0)))","v":"Bank konto"}]
["2018-09-20",141,"Kontingent, SSG N-J Johansen",55,2019,1000,null,175,{"$f":"IF(F1648=\"\",\"\",IF(ISERROR(VLOOKUP(F1648,[1]Kontoplan!A:D,2,0)),\"Konto findes ikke!\",VLOOKUP(F1648,[1]Kontoplan!A:D,2,0)))","v":"Kontingenter"}]
["2018-09-20",141,"Kontingent, SSG N-J Johansen",null,null,12310,175,null,{"$f":"IF(F1649=\"\",\"\",IF(ISERROR(VLOOKUP(F1649,[1]Kontoplan!A:D,2,0)),\"Konto findes ikke!\",VLOOKUP(F1649,[1]Kontoplan!A:D,2,0)))","v":"Bank konto"}]
["2018-09-21",142,"Kontingent, Svend Kofoed",82,2019,1000,null,175,{"$f":"IF(F1650=\"\",\"\",IF(ISERROR(VLOOKUP(F1650,[1]Kontoplan!A:D,2,0)),\"Konto findes ikke!\",VLOOKUP(F1650,[1]Kontoplan!A:D,2,0)))","v":"Kontingenter"}]
["2018-09-21",142,"Kontingent, Svend Kofoed",null,null,12310,175,null,{"$f":"IF(F1651=\"\",\"\",IF(ISERROR(VLOOKUP(F1651,[1]Kontoplan!A:D,2,0)),\"Konto findes ikke!\",VLOOKUP(F1651,[1]Kontoplan!A:D,2,0)))","v":"Bank konto"}]
["2018-09-25",143,"Kontingent, Hans-Jørgen Jensen",18,2019,1000,null,250,{"$f":"IF(F1652=\"\",\"\",IF(ISERROR(VLOOKUP(F1652,[1]Kontoplan!A:D,2,0)),\"Konto findes ikke!\",VLOOKUP(F1652,[1]Kontoplan!A:D,2,0)))","v":"Kontingenter"}]
["2018-09-25",143,"Kontingent, Hans-Jørgen Jensen",null,null,12310,250,null,{"$f":"IF(F1653=\"\",\"\",IF(ISERROR(VLOOKUP(F1653,[1]Kontoplan!A:D,2,0)),\"Konto findes ikke!\",VLOOKUP(F1653,[1]Kontoplan!A:D,2,0)))","v":"Bank konto"}]
["2018-09-25",144,"Stoffer udlæg til Dragon stâuan",null,null,12310,null,476.75,{"$f":"IF(F1654=\"\",\"\",IF(ISERROR(VLOOKUP(F1654,[1]Kontoplan!A:D,2,0)),\"Konto findes ikke!\",VLOOKUP(F1654,[1]Kontoplan!A:D,2,0)))","v":"Bank konto"}]
["2018-09-25",144,"Stoffer udlæg til Dragon stâuan",null,null,2190,476.75,null,{"$f":"IF(F1655=\"\",\"\",IF(ISERROR(VLOOKUP(F1655,[1]Kontoplan!A:D,2,0)),\"Konto findes ikke!\",VLOOKUP(F1655,[1]Kontoplan!A:D,2,0)))","v":"Diverse Indkøb"},"Div. Isenkram til Dragon stâuan"]
["2018-09-26",145,"Kontingent, Freddy Albæk",10,2019,1000,null,175,{"$f":"IF(F1656=\"\",\"\",IF(ISERROR(VLOOKUP(F1656,[1]Kontoplan!A:D,2,0)),\"Konto findes ikke!\",VLOOKUP(F1656,[1]Kontoplan!A:D,2,0)))","v":"Kontingenter"}]
["2018-09-26",145,"Kontingent, Freddy Albæk",null,null,12310,175,null,{"$f":"IF(F1657=\"\",\"\",IF(ISERROR(VLOOKUP(F1657,[1]Kontoplan!A:D,2,0)),\"Konto findes ikke!\",VLOOKUP(F1657,[1]Kontoplan!A:D,2,0)))","v":"Bank konto"}]
["2018-09-28",146,"Bankgebyr ifølge nota",null,null,12310,null,75,{"$f":"IF(F1658=\"\",\"\",IF(ISERROR(VLOOKUP(F1658,[1]Kontoplan!A:D,2,0)),\"Konto findes ikke!\",VLOOKUP(F1658,[1]Kontoplan!A:D,2,0)))","v":"Bank konto"}]
["2018-09-28",146,"Bankgebyr ifølge nota",null,null,2130,75,null,{"$f":"IF(F1659=\"\",\"\",IF(ISERROR(VLOOKUP(F1659,[1]Kontoplan!A:D,2,0)),\"Konto findes ikke!\",VLOOKUP(F1659,[1]Kontoplan!A:D,2,0)))","v":"Bankgebyr/Renter"}]
["2018-10-01",147,"Kontingent, Uffe Jensen",28,2019,1000,null,175,{"$f":"IF(F1660=\"\",\"\",IF(ISERROR(VLOOKUP(F1660,[1]Kontoplan!A:D,2,0)),\"Konto findes ikke!\",VLOOKUP(F1660,[1]Kontoplan!A:D,2,0)))","v":"Kontingenter"}]
["2018-10-01",147,"Kontingent, Uffe Jensen",null,null,12310,175,null,{"$f":"IF(F1661=\"\",\"\",IF(ISERROR(VLOOKUP(F1661,[1]Kontoplan!A:D,2,0)),\"Konto findes ikke!\",VLOOKUP(F1661,[1]Kontoplan!A:D,2,0)))","v":"Bank konto"}]
["2018-10-07",148,"Tilbage betaling af privat lån",null,null,12310,null,10000,{"$f":"IF(F1662=\"\",\"\",IF(ISERROR(VLOOKUP(F1662,[1]Kontoplan!A:D,2,0)),\"Konto findes ikke!\",VLOOKUP(F1662,[1]Kontoplan!A:D,2,0)))","v":"Bank konto"},"Betalt til Stoffer"]
["2018-10-07",148,"Tilbage betaling af privat lån",null,null,12390,10000,null,{"$f":"IF(F1663=\"\",\"\",IF(ISERROR(VLOOKUP(F1663,[1]Kontoplan!A:D,2,0)),\"Konto findes ikke!\",VLOOKUP(F1663,[1]Kontoplan!A:D,2,0)))","v":"Private Lån"}]
["2018-10-10",149,"Kontingent, Ivan Hampe",52,2019,1000,null,175,{"$f":"IF(F1664=\"\",\"\",IF(ISERROR(VLOOKUP(F1664,[1]Kontoplan!A:D,2,0)),\"Konto findes ikke!\",VLOOKUP(F1664,[1]Kontoplan!A:D,2,0)))","v":"Kontingenter"}]
["2018-10-10",149,"Kontingent, Ivan Hampe",null,null,12310,175,null,{"$f":"IF(F1665=\"\",\"\",IF(ISERROR(VLOOKUP(F1665,[1]Kontoplan!A:D,2,0)),\"Konto findes ikke!\",VLOOKUP(F1665,[1]Kontoplan!A:D,2,0)))","v":"Bank konto"}]
["2018-10-10",150,"Kontingent, Kim Bjelstrand",62,2019,1000,null,175,{"$f":"IF(F1666=\"\",\"\",IF(ISERROR(VLOOKUP(F1666,[1]Kontoplan!A:D,2,0)),\"Konto findes ikke!\",VLOOKUP(F1666,[1]Kontoplan!A:D,2,0)))","v":"Kontingenter"}]
["2018-10-10",150,"Kontingent, Kim Bjelstrand",null,null,12310,175,null,{"$f":"IF(F1667=\"\",\"\",IF(ISERROR(VLOOKUP(F1667,[1]Kontoplan!A:D,2,0)),\"Konto findes ikke!\",VLOOKUP(F1667,[1]Kontoplan!A:D,2,0)))","v":"Bank konto"}]
["2018-10-15",151,"Kontingent,Thor J K Olsen",75,2019,1000,null,175,{"$f":"IF(F1668=\"\",\"\",IF(ISERROR(VLOOKUP(F1668,[1]Kontoplan!A:D,2,0)),\"Konto findes ikke!\",VLOOKUP(F1668,[1]Kontoplan!A:D,2,0)))","v":"Kontingenter"}]
["2018-10-15",151,"Kontingent,Thor J K Olsen",null,null,12310,175,null,{"$f":"IF(F1669=\"\",\"\",IF(ISERROR(VLOOKUP(F1669,[1]Kontoplan!A:D,2,0)),\"Konto findes ikke!\",VLOOKUP(F1669,[1]Kontoplan!A:D,2,0)))","v":"Bank konto"}]
["2018-10-15",152,"Kontingent, Ebbe M Jensen",50,2019,1000,null,175,{"$f":"IF(F1670=\"\",\"\",IF(ISERROR(VLOOKUP(F1670,[1]Kontoplan!A:D,2,0)),\"Konto findes ikke!\",VLOOKUP(F1670,[1]Kontoplan!A:D,2,0)))","v":"Kontingenter"}]
["2018-10-15",152,"Kontingent, Ebbe M Jensen",null,null,12310,175,null,{"$f":"IF(F1671=\"\",\"\",IF(ISERROR(VLOOKUP(F1671,[1]Kontoplan!A:D,2,0)),\"Konto findes ikke!\",VLOOKUP(F1671,[1]Kontoplan!A:D,2,0)))","v":"Bank konto"}]
["2018-10-15",153,"Kontingent, Jørn Tamdrup",57,2019,1000,null,175,{"$f":"IF(F1672=\"\",\"\",IF(ISERROR(VLOOKUP(F1672,[1]Kontoplan!A:D,2,0)),\"Konto findes ikke!\",VLOOKUP(F1672,[1]Kontoplan!A:D,2,0)))","v":"Kontingenter"}]
["2018-10-15",153,"Kontingent, Jørn Tamdrup",null,null,12310,175,null,{"$f":"IF(F1673=\"\",\"\",IF(ISERROR(VLOOKUP(F1673,[1]Kontoplan!A:D,2,0)),\"Konto findes ikke!\",VLOOKUP(F1673,[1]Kontoplan!A:D,2,0)))","v":"Bank konto"}]
["2018-10-16",154,"Kontingent, Gerth Bernt Pedersen",17,2019,1000,null,179,{"$f":"IF(F1674=\"\",\"\",IF(ISERROR(VLOOKUP(F1674,[1]Kontoplan!A:D,2,0)),\"Konto findes ikke!\",VLOOKUP(F1674,[1]Kontoplan!A:D,2,0)))","v":"Kontingenter"}]
["2018-10-16",154,"Kontingent, Gerth Bernt Pedersen",null,null,12310,179,null,{"$f":"IF(F1675=\"\",\"\",IF(ISERROR(VLOOKUP(F1675,[1]Kontoplan!A:D,2,0)),\"Konto findes ikke!\",VLOOKUP(F1675,[1]Kontoplan!A:D,2,0)))","v":"Bank konto"}]
["2018-10-16",155,"Kontingent, Kurt Munch",12,2019,1000,null,175,{"$f":"IF(F1676=\"\",\"\",IF(ISERROR(VLOOKUP(F1676,[1]Kontoplan!A:D,2,0)),\"Konto findes ikke!\",VLOOKUP(F1676,[1]Kontoplan!A:D,2,0)))","v":"Kontingenter"}]
["2018-10-16",155,"Kontingent, Kurt Munch",null,null,12310,175,null,{"$f":"IF(F1677=\"\",\"\",IF(ISERROR(VLOOKUP(F1677,[1]Kontoplan!A:D,2,0)),\"Konto findes ikke!\",VLOOKUP(F1677,[1]Kontoplan!A:D,2,0)))","v":"Bank konto"}]
["2018-10-17",156,"Indbetalt af Morten Jensen",null,null,12310,150,null,{"$f":"IF(F1678=\"\",\"\",IF(ISERROR(VLOOKUP(F1678,[1]Kontoplan!A:D,2,0)),\"Konto findes ikke!\",VLOOKUP(F1678,[1]Kontoplan!A:D,2,0)))","v":"Bank konto"},"Fejl indbetaling"]
["2018-10-17",156,"Indbetalt af Morten Jensen",null,null,1130,null,150,{"$f":"IF(F1679=\"\",\"\",IF(ISERROR(VLOOKUP(F1679,[1]Kontoplan!A:D,2,0)),\"Konto findes ikke!\",VLOOKUP(F1679,[1]Kontoplan!A:D,2,0)))","v":"Diverse Indtægter"}]
["2018-10-17",157,"Tilbage betaling til Morten Jensen",null,null,2190,150,null,{"$f":"IF(F1680=\"\",\"\",IF(ISERROR(VLOOKUP(F1680,[1]Kontoplan!A:D,2,0)),\"Konto findes ikke!\",VLOOKUP(F1680,[1]Kontoplan!A:D,2,0)))","v":"Diverse Indkøb"}]
["2018-10-17",157,"Tilbage betaling til Morten Jensen",null,null,12310,null,150,{"$f":"IF(F1681=\"\",\"\",IF(ISERROR(VLOOKUP(F1681,[1]Kontoplan!A:D,2,0)),\"Konto findes ikke!\",VLOOKUP(F1681,[1]Kontoplan!A:D,2,0)))","v":"Bank konto"}]
["2018-10-22",158,"Kontingent, Flemming Larsen",26,2019,1000,null,175,{"$f":"IF(F1682=\"\",\"\",IF(ISERROR(VLOOKUP(F1682,[1]Kontoplan!A:D,2,0)),\"Konto findes ikke!\",VLOOKUP(F1682,[1]Kontoplan!A:D,2,0)))","v":"Kontingenter"}]
["2018-10-22",158,"Kontingent, Flemming Larsen",null,null,12310,175,null,{"$f":"IF(F1683=\"\",\"\",IF(ISERROR(VLOOKUP(F1683,[1]Kontoplan!A:D,2,0)),\"Konto findes ikke!\",VLOOKUP(F1683,[1]Kontoplan!A:D,2,0)))","v":"Bank konto"}]
["2018-10-22",159,"Kontingent, Per Sørensen",37,2019,1000,null,175,{"$f":"IF(F1684=\"\",\"\",IF(ISERROR(VLOOKUP(F1684,[1]Kontoplan!A:D,2,0)),\"Konto findes ikke!\",VLOOKUP(F1684,[1]Kontoplan!A:D,2,0)))","v":"Kontingenter"}]
["2018-10-22",159,"Kontingent, Per Sørensen",null,null,12310,175,null,{"$f":"IF(F1685=\"\",\"\",IF(ISERROR(VLOOKUP(F1685,[1]Kontoplan!A:D,2,0)),\"Konto findes ikke!\",VLOOKUP(F1685,[1]Kontoplan!A:D,2,0)))","v":"Bank konto"}]
["2018-10-22",160,"Kontingent, Kai Dahl Andersen",104,2019,1000,null,175,{"$f":"IF(F1686=\"\",\"\",IF(ISERROR(VLOOKUP(F1686,[1]Kontoplan!A:D,2,0)),\"Konto findes ikke!\",VLOOKUP(F1686,[1]Kontoplan!A:D,2,0)))","v":"Kontingenter"}]
["2018-10-22",160,"Kontingent, Kai Dahl Andersen",null,null,12310,175,null,{"$f":"IF(F1687=\"\",\"\",IF(ISERROR(VLOOKUP(F1687,[1]Kontoplan!A:D,2,0)),\"Konto findes ikke!\",VLOOKUP(F1687,[1]Kontoplan!A:D,2,0)))","v":"Bank konto"}]
["2018-10-23",161,"Salg af mærker, Hans-Henrik Brandenborg",null,null,12310,100,null,{"$f":"IF(F1688=\"\",\"\",IF(ISERROR(VLOOKUP(F1688,[1]Kontoplan!A:D,2,0)),\"Konto findes ikke!\",VLOOKUP(F1688,[1]Kontoplan!A:D,2,0)))","v":"Bank konto"}]
["2018-10-23",161,"Salg af mærker, Hans-Henrik Brandenborg",null,null,1010,null,100,{"$f":"IF(F1689=\"\",\"\",IF(ISERROR(VLOOKUP(F1689,[1]Kontoplan!A:D,2,0)),\"Konto findes ikke!\",VLOOKUP(F1689,[1]Kontoplan!A:D,2,0)))","v":"Salg af mærker"}]
["2018-10-24",162,"Kontingent, Jan Kristoffersen",27,2019,1000,null,175,{"$f":"IF(F1690=\"\",\"\",IF(ISERROR(VLOOKUP(F1690,[1]Kontoplan!A:D,2,0)),\"Konto findes ikke!\",VLOOKUP(F1690,[1]Kontoplan!A:D,2,0)))","v":"Kontingenter"}]
["2018-10-24",162,"Kontingent, Jan Kristoffersen",null,null,12310,175,null,{"$f":"IF(F1691=\"\",\"\",IF(ISERROR(VLOOKUP(F1691,[1]Kontoplan!A:D,2,0)),\"Konto findes ikke!\",VLOOKUP(F1691,[1]Kontoplan!A:D,2,0)))","v":"Bank konto"}]
["2018-10-24",163,"Kontingent, Kim Johansen",36,2019,1000,null,175,{"$f":"IF(F1692=\"\",\"\",IF(ISERROR(VLOOKUP(F1692,[1]Kontoplan!A:D,2,0)),\"Konto findes ikke!\",VLOOKUP(F1692,[1]Kontoplan!A:D,2,0)))","v":"Kontingenter"}]
["2018-10-24",163,"Kontingent, Kim Johansen",null,null,12310,175,null,{"$f":"IF(F1693=\"\",\"\",IF(ISERROR(VLOOKUP(F1693,[1]Kontoplan!A:D,2,0)),\"Konto findes ikke!\",VLOOKUP(F1693,[1]Kontoplan!A:D,2,0)))","v":"Bank konto"}]
["2018-10-25",164,"Kontingent, Søren Jensen",70,2019,1000,null,175,{"$f":"IF(F1694=\"\",\"\",IF(ISERROR(VLOOKUP(F1694,[1]Kontoplan!A:D,2,0)),\"Konto findes ikke!\",VLOOKUP(F1694,[1]Kontoplan!A:D,2,0)))","v":"Kontingenter"}]
["2018-10-25",164,"Kontingent, Søren Jensen",null,null,12310,175,null,{"$f":"IF(F1695=\"\",\"\",IF(ISERROR(VLOOKUP(F1695,[1]Kontoplan!A:D,2,0)),\"Konto findes ikke!\",VLOOKUP(F1695,[1]Kontoplan!A:D,2,0)))","v":"Bank konto"}]
["2018-10-31",165,"Tilbage betaling af privat lån",null,null,12310,null,10000,{"$f":"IF(F1696=\"\",\"\",IF(ISERROR(VLOOKUP(F1696,[1]Kontoplan!A:D,2,0)),\"Konto findes ikke!\",VLOOKUP(F1696,[1]Kontoplan!A:D,2,0)))","v":"Bank konto"}]
["2018-10-31",165,"Tilbage betaling af privat lån",null,null,12390,10000,null,{"$f":"IF(F1697=\"\",\"\",IF(ISERROR(VLOOKUP(F1697,[1]Kontoplan!A:D,2,0)),\"Konto findes ikke!\",VLOOKUP(F1697,[1]Kontoplan!A:D,2,0)))","v":"Private Lån"}]
["2018-10-31",166,"Kontingent, Peer Madsen",68,2019,1000,null,175,{"$f":"IF(F1698=\"\",\"\",IF(ISERROR(VLOOKUP(F1698,[1]Kontoplan!A:D,2,0)),\"Konto findes ikke!\",VLOOKUP(F1698,[1]Kontoplan!A:D,2,0)))","v":"Kontingenter"}]
["2018-10-31",166,"Kontingent, Peer Madsen",null,null,12310,175,null,{"$f":"IF(F1699=\"\",\"\",IF(ISERROR(VLOOKUP(F1699,[1]Kontoplan!A:D,2,0)),\"Konto findes ikke!\",VLOOKUP(F1699,[1]Kontoplan!A:D,2,0)))","v":"Bank konto"}]
["2018-11-01",null,"Overført Saldi",null,null,12310,22643.01,null,{"$f":"IF(F1700=\"\",\"\",IF(ISERROR(VLOOKUP(F1700,[1]Kontoplan!A:D,2,0)),\"Konto findes ikke!\",VLOOKUP(F1700,[1]Kontoplan!A:D,2,0)))","v":"Bank konto"}]
["2018-11-01",null,"Overført Saldi",null,null,12330,null,22643.01,{"$f":"IF(F1701=\"\",\"\",IF(ISERROR(VLOOKUP(F1701,[1]Kontoplan!A:D,2,0)),\"Konto findes ikke!\",VLOOKUP(F1701,[1]Kontoplan!A:D,2,0)))","v":"Egenkapital"}]
["2018-11-05",1,"Kontingent, Henrk Svendsen",102,2019,1000,null,175,{"$f":"IF(F1702=\"\",\"\",IF(ISERROR(VLOOKUP(F1702,[1]Kontoplan!A:D,2,0)),\"Konto findes ikke!\",VLOOKUP(F1702,[1]Kontoplan!A:D,2,0)))","v":"Kontingenter"}]
["2018-11-05",1,"Kontingent, Henrk Svendsen",null,null,12310,175,null,{"$f":"IF(F1703=\"\",\"\",IF(ISERROR(VLOOKUP(F1703,[1]Kontoplan!A:D,2,0)),\"Konto findes ikke!\",VLOOKUP(F1703,[1]Kontoplan!A:D,2,0)))","v":"Bank konto"}]
["2018-11-06",2,"Kontingent, Ole Petterseon",103,2019,1000,null,175,{"$f":"IF(F1704=\"\",\"\",IF(ISERROR(VLOOKUP(F1704,[1]Kontoplan!A:D,2,0)),\"Konto findes ikke!\",VLOOKUP(F1704,[1]Kontoplan!A:D,2,0)))","v":"Kontingenter"}]
["2018-11-06",2,"Kontingent, Ole Petterseon",null,null,12310,175,null,{"$f":"IF(F1705=\"\",\"\",IF(ISERROR(VLOOKUP(F1705,[1]Kontoplan!A:D,2,0)),\"Konto findes ikke!\",VLOOKUP(F1705,[1]Kontoplan!A:D,2,0)))","v":"Bank konto"}]
["2018-11-15",3,"Kontingent, Jan Christensen",85,2019,1000,null,175,{"$f":"IF(F1706=\"\",\"\",IF(ISERROR(VLOOKUP(F1706,[1]Kontoplan!A:D,2,0)),\"Konto findes ikke!\",VLOOKUP(F1706,[1]Kontoplan!A:D,2,0)))","v":"Kontingenter"}]
["2018-11-15",3,"Kontingent, Jan Christensen",null,null,12310,175,null,{"$f":"IF(F1707=\"\",\"\",IF(ISERROR(VLOOKUP(F1707,[1]Kontoplan!A:D,2,0)),\"Konto findes ikke!\",VLOOKUP(F1707,[1]Kontoplan!A:D,2,0)))","v":"Bank konto"}]
["2018-11-16",4,"One.com ved Ole Holm",null,null,12310,null,888,{"$f":"IF(F1708=\"\",\"\",IF(ISERROR(VLOOKUP(F1708,[1]Kontoplan!A:D,2,0)),\"Konto findes ikke!\",VLOOKUP(F1708,[1]Kontoplan!A:D,2,0)))","v":"Bank konto"}]
["2018-11-16",4,"One.com ved Ole Holm",null,null,2120,888,null,{"$f":"IF(F1709=\"\",\"\",IF(ISERROR(VLOOKUP(F1709,[1]Kontoplan!A:D,2,0)),\"Konto findes ikke!\",VLOOKUP(F1709,[1]Kontoplan!A:D,2,0)))","v":"Hjemmeside"}]
["2018-11-19",5,"Dragonfest, Bjarne Hansen",null,null,12310,175,null,{"$f":"IF(F1710=\"\",\"\",IF(ISERROR(VLOOKUP(F1710,[1]Kontoplan!A:D,2,0)),\"Konto findes ikke!\",VLOOKUP(F1710,[1]Kontoplan!A:D,2,0)))","v":"Bank konto"},"indbetalt for meget til GF overført til mærker"]
["2018-11-19",5,"Dragonfest, Bjarne Hansen",null,null,1050,null,150,{"$f":"IF(F1711=\"\",\"\",IF(ISERROR(VLOOKUP(F1711,[1]Kontoplan!A:D,2,0)),\"Konto findes ikke!\",VLOOKUP(F1711,[1]Kontoplan!A:D,2,0)))","v":"Deltagergebyr, Dragonfest"}]
["2018-11-19",5,"Salg af mærker, Bjarne Hansen",null,null,1010,null,25,{"$f":"IF(F1712=\"\",\"\",IF(ISERROR(VLOOKUP(F1712,[1]Kontoplan!A:D,2,0)),\"Konto findes ikke!\",VLOOKUP(F1712,[1]Kontoplan!A:D,2,0)))","v":"Salg af mærker"}]
["2018-11-19",6,"Dragonfest, Per Nielsen",null,null,12310,250,null,{"$f":"IF(F1713=\"\",\"\",IF(ISERROR(VLOOKUP(F1713,[1]Kontoplan!A:D,2,0)),\"Konto findes ikke!\",VLOOKUP(F1713,[1]Kontoplan!A:D,2,0)))","v":"Bank konto"}]
["2018-11-19",6,"Dragonfest, Per Nielsen",null,null,1050,null,150,{"$f":"IF(F1714=\"\",\"\",IF(ISERROR(VLOOKUP(F1714,[1]Kontoplan!A:D,2,0)),\"Konto findes ikke!\",VLOOKUP(F1714,[1]Kontoplan!A:D,2,0)))","v":"Deltagergebyr, Dragonfest"}]
["2018-11-19",6,"Værelser/GF",null,null,1040,null,100,{"$f":"IF(F1715=\"\",\"\",IF(ISERROR(VLOOKUP(F1715,[1]Kontoplan!A:D,2,0)),\"Konto findes ikke!\",VLOOKUP(F1715,[1]Kontoplan!A:D,2,0)))","v":"Udlejning af værelser"}]
["2018-11-20",7,"Dragonfest, Jan Witzner Jensen",null,null,12310,150,null,{"$f":"IF(F1716=\"\",\"\",IF(ISERROR(VLOOKUP(F1716,[1]Kontoplan!A:D,2,0)),\"Konto findes ikke!\",VLOOKUP(F1716,[1]Kontoplan!A:D,2,0)))","v":"Bank konto"}]
["2018-11-20",7,"Dragonfest, Jan Witzner Jensen",null,null,1050,null,150,{"$f":"IF(F1717=\"\",\"\",IF(ISERROR(VLOOKUP(F1717,[1]Kontoplan!A:D,2,0)),\"Konto findes ikke!\",VLOOKUP(F1717,[1]Kontoplan!A:D,2,0)))","v":"Deltagergebyr, Dragonfest"}]
["2018-11-20",8,"Køb af Øl, rønne syd",null,null,12310,null,2880,{"$f":"IF(F1718=\"\",\"\",IF(ISERROR(VLOOKUP(F1718,[1]Kontoplan!A:D,2,0)),\"Konto findes ikke!\",VLOOKUP(F1718,[1]Kontoplan!A:D,2,0)))","v":"Bank konto"}]
["2018-11-20",8,"Køb af Øl, rønne syd",null,null,2010,2880,null,{"$f":"IF(F1719=\"\",\"\",IF(ISERROR(VLOOKUP(F1719,[1]Kontoplan!A:D,2,0)),\"Konto findes ikke!\",VLOOKUP(F1719,[1]Kontoplan!A:D,2,0)))","v":"Indkøb af øl + vand"}]
["2018-11-20",9,"Dragonfest, Bent Nielsen",null,null,12310,150,null,{"$f":"IF(F1720=\"\",\"\",IF(ISERROR(VLOOKUP(F1720,[1]Kontoplan!A:D,2,0)),\"Konto findes ikke!\",VLOOKUP(F1720,[1]Kontoplan!A:D,2,0)))","v":"Bank konto"}]
["2018-11-20",9,"Dragonfest, Bent Nielsen",null,null,1050,null,150,{"$f":"IF(F1721=\"\",\"\",IF(ISERROR(VLOOKUP(F1721,[1]Kontoplan!A:D,2,0)),\"Konto findes ikke!\",VLOOKUP(F1721,[1]Kontoplan!A:D,2,0)))","v":"Deltagergebyr, Dragonfest"}]
["2018-11-22",10,"Salg af mærker, Ole Petterson ",null,null,12310,450,null,{"$f":"IF(F1722=\"\",\"\",IF(ISERROR(VLOOKUP(F1722,[1]Kontoplan!A:D,2,0)),\"Konto findes ikke!\",VLOOKUP(F1722,[1]Kontoplan!A:D,2,0)))","v":"Bank konto"},"6 stk klisterm. - 3 stk stofm."]
["2018-11-22",10,"Salg af mærker, Ole Petterson ",null,null,1010,null,450,{"$f":"IF(F1723=\"\",\"\",IF(ISERROR(VLOOKUP(F1723,[1]Kontoplan!A:D,2,0)),\"Konto findes ikke!\",VLOOKUP(F1723,[1]Kontoplan!A:D,2,0)))","v":"Salg af mærker"}]
["2018-11-23",11,"Salg af mærker, Bjarne Hansen",null,null,12310,175,null,{"$f":"IF(F1724=\"\",\"\",IF(ISERROR(VLOOKUP(F1724,[1]Kontoplan!A:D,2,0)),\"Konto findes ikke!\",VLOOKUP(F1724,[1]Kontoplan!A:D,2,0)))","v":"Bank konto"}]
["2018-11-23",11,"Salg af mærker, Bjarne Hansen",null,null,1010,null,175,{"$f":"IF(F1725=\"\",\"\",IF(ISERROR(VLOOKUP(F1725,[1]Kontoplan!A:D,2,0)),\"Konto findes ikke!\",VLOOKUP(F1725,[1]Kontoplan!A:D,2,0)))","v":"Salg af mærker"}]
["2018-11-23",12,"Forplejning , rejse",null,null,12310,null,44.6,{"$f":"IF(F1726=\"\",\"\",IF(ISERROR(VLOOKUP(F1726,[1]Kontoplan!A:D,2,0)),\"Konto findes ikke!\",VLOOKUP(F1726,[1]Kontoplan!A:D,2,0)))","v":"Bank konto"}]
["2018-11-23",12,"Forplejning , rejse",null,null,2100,44.6,null,{"$f":"IF(F1727=\"\",\"\",IF(ISERROR(VLOOKUP(F1727,[1]Kontoplan!A:D,2,0)),\"Konto findes ikke!\",VLOOKUP(F1727,[1]Kontoplan!A:D,2,0)))","v":"Forplejning til møder/Rejser"}]
["2018-11-26",13,"Forplejning , rejse",null,null,12310,null,44.59,{"$f":"IF(F1728=\"\",\"\",IF(ISERROR(VLOOKUP(F1728,[1]Kontoplan!A:D,2,0)),\"Konto findes ikke!\",VLOOKUP(F1728,[1]Kontoplan!A:D,2,0)))","v":"Bank konto"}]
["2018-11-26",13,"Forplejning , rejse",null,null,2100,44.59,null,{"$f":"IF(F1729=\"\",\"\",IF(ISERROR(VLOOKUP(F1729,[1]Kontoplan!A:D,2,0)),\"Konto findes ikke!\",VLOOKUP(F1729,[1]Kontoplan!A:D,2,0)))","v":"Forplejning til møder/Rejser"}]
["2018-11-26",14,"Forplejning , rejse",null,null,12310,null,60.15,{"$f":"IF(F1730=\"\",\"\",IF(ISERROR(VLOOKUP(F1730,[1]Kontoplan!A:D,2,0)),\"Konto findes ikke!\",VLOOKUP(F1730,[1]Kontoplan!A:D,2,0)))","v":"Bank konto"}]
["2018-11-26",14,"Forplejning , rejse",null,null,2100,60.15,null,{"$f":"IF(F1731=\"\",\"\",IF(ISERROR(VLOOKUP(F1731,[1]Kontoplan!A:D,2,0)),\"Konto findes ikke!\",VLOOKUP(F1731,[1]Kontoplan!A:D,2,0)))","v":"Forplejning til møder/Rejser"}]
["2018-11-26",15,"Dragonfest, Kaj D. Andersen",null,null,12310,150,null,{"$f":"IF(F1732=\"\",\"\",IF(ISERROR(VLOOKUP(F1732,[1]Kontoplan!A:D,2,0)),\"Konto findes ikke!\",VLOOKUP(F1732,[1]Kontoplan!A:D,2,0)))","v":"Bank konto"}]
["2018-11-26",15,"Dragonfest, Kaj D. Andersen",null,null,1050,null,150,{"$f":"IF(F1733=\"\",\"\",IF(ISERROR(VLOOKUP(F1733,[1]Kontoplan!A:D,2,0)),\"Konto findes ikke!\",VLOOKUP(F1733,[1]Kontoplan!A:D,2,0)))","v":"Deltagergebyr, Dragonfest"}]
["2018-11-27",16,"Forplejning , rejse",null,null,12310,null,75.81,{"$f":"IF(F1734=\"\",\"\",IF(ISERROR(VLOOKUP(F1734,[1]Kontoplan!A:D,2,0)),\"Konto findes ikke!\",VLOOKUP(F1734,[1]Kontoplan!A:D,2,0)))","v":"Bank konto"}]
["2018-11-27",16,"Forplejning , rejse",null,null,2100,75.81,null,{"$f":"IF(F1735=\"\",\"\",IF(ISERROR(VLOOKUP(F1735,[1]Kontoplan!A:D,2,0)),\"Konto findes ikke!\",VLOOKUP(F1735,[1]Kontoplan!A:D,2,0)))","v":"Forplejning til møder/Rejser"}]
["2018-11-27",17,"Dragonfest, Jens-Peter Rasmussen",null,null,12310,150,null,{"$f":"IF(F1736=\"\",\"\",IF(ISERROR(VLOOKUP(F1736,[1]Kontoplan!A:D,2,0)),\"Konto findes ikke!\",VLOOKUP(F1736,[1]Kontoplan!A:D,2,0)))","v":"Bank konto"}]
["2018-11-27",17,"Dragonfest, Jens-Peter Rasmussen",null,null,1050,null,150,{"$f":"IF(F1737=\"\",\"\",IF(ISERROR(VLOOKUP(F1737,[1]Kontoplan!A:D,2,0)),\"Konto findes ikke!\",VLOOKUP(F1737,[1]Kontoplan!A:D,2,0)))","v":"Deltagergebyr, Dragonfest"}]
["2018-11-27",18,"Dragonfest, Johnny Kofoed",null,null,12310,150,null,{"$f":"IF(F1738=\"\",\"\",IF(ISERROR(VLOOKUP(F1738,[1]Kontoplan!A:D,2,0)),\"Konto findes ikke!\",VLOOKUP(F1738,[1]Kontoplan!A:D,2,0)))","v":"Bank konto"}]
["2018-11-27",18,"Dragonfest, Johnny Kofoed",null,null,1050,null,150,{"$f":"IF(F1739=\"\",\"\",IF(ISERROR(VLOOKUP(F1739,[1]Kontoplan!A:D,2,0)),\"Konto findes ikke!\",VLOOKUP(F1739,[1]Kontoplan!A:D,2,0)))","v":"Deltagergebyr, Dragonfest"}]
["2018-11-28",19,"Kontingent, Gert Lykke Espersen",92,2019,1000,null,170,{"$f":"IF(F1740=\"\",\"\",IF(ISERROR(VLOOKUP(F1740,[1]Kontoplan!A:D,2,0)),\"Konto findes ikke!\",VLOOKUP(F1740,[1]Kontoplan!A:D,2,0)))","v":"Kontingenter"}]
["2018-11-28",19,"Kontingent, Gert Lykke Espersen",null,null,12310,170,null,{"$f":"IF(F1741=\"\",\"\",IF(ISERROR(VLOOKUP(F1741,[1]Kontoplan!A:D,2,0)),\"Konto findes ikke!\",VLOOKUP(F1741,[1]Kontoplan!A:D,2,0)))","v":"Bank konto"},"Mangler 5;- kr"]
["2018-12-03",20,"Dragonfest, Martin Jakob Hansen",null,null,12310,150,null,{"$f":"IF(F1742=\"\",\"\",IF(ISERROR(VLOOKUP(F1742,[1]Kontoplan!A:D,2,0)),\"Konto findes ikke!\",VLOOKUP(F1742,[1]Kontoplan!A:D,2,0)))","v":"Bank konto"}]
["2018-12-03",20,"Dragonfest, Martin Jakob Hansen",null,null,1050,null,150,{"$f":"IF(F1743=\"\",\"\",IF(ISERROR(VLOOKUP(F1743,[1]Kontoplan!A:D,2,0)),\"Konto findes ikke!\",VLOOKUP(F1743,[1]Kontoplan!A:D,2,0)))","v":"Deltagergebyr, Dragonfest"}]
["2018-12-04",21,"Dragonfest, Hans-Henrik Greve Brandenborg",null,null,12310,290,null,{"$f":"IF(F1744=\"\",\"\",IF(ISERROR(VLOOKUP(F1744,[1]Kontoplan!A:D,2,0)),\"Konto findes ikke!\",VLOOKUP(F1744,[1]Kontoplan!A:D,2,0)))","v":"Bank konto"}]
["2018-12-04",21,"Dragonfest, Hans-Henrik Greve Brandenborg",null,null,1050,null,150,{"$f":"IF(F1745=\"\",\"\",IF(ISERROR(VLOOKUP(F1745,[1]Kontoplan!A:D,2,0)),\"Konto findes ikke!\",VLOOKUP(F1745,[1]Kontoplan!A:D,2,0)))","v":"Deltagergebyr, Dragonfest"}]
["2018-12-04",21,"Dragonfest, Hans-Henrik Greve Brandenborg",null,null,1030,null,40,{"$f":"IF(F1746=\"\",\"\",IF(ISERROR(VLOOKUP(F1746,[1]Kontoplan!A:D,2,0)),\"Konto findes ikke!\",VLOOKUP(F1746,[1]Kontoplan!A:D,2,0)))","v":"Salg af morgenmad"}]
["2018-12-04",21,"Dragonfest, Hans-Henrik Greve Brandenborg",null,null,1040,null,100,{"$f":"IF(F1747=\"\",\"\",IF(ISERROR(VLOOKUP(F1747,[1]Kontoplan!A:D,2,0)),\"Konto findes ikke!\",VLOOKUP(F1747,[1]Kontoplan!A:D,2,0)))","v":"Udlejning af værelser"}]
["2018-12-06",22,"Dragonfest, Søren Dyrby Schou",null,null,12310,150,null,{"$f":"IF(F1748=\"\",\"\",IF(ISERROR(VLOOKUP(F1748,[1]Kontoplan!A:D,2,0)),\"Konto findes ikke!\",VLOOKUP(F1748,[1]Kontoplan!A:D,2,0)))","v":"Bank konto"}]
["2018-12-06",22,"Dragonfest, Søren Dyrby Schou",null,null,1050,null,150,{"$f":"IF(F1749=\"\",\"\",IF(ISERROR(VLOOKUP(F1749,[1]Kontoplan!A:D,2,0)),\"Konto findes ikke!\",VLOOKUP(F1749,[1]Kontoplan!A:D,2,0)))","v":"Deltagergebyr, Dragonfest"}]
["2018-12-07",23,"Porto, sende regnskab til Revisor",null,null,12310,null,54,{"$f":"IF(F1750=\"\",\"\",IF(ISERROR(VLOOKUP(F1750,[1]Kontoplan!A:D,2,0)),\"Konto findes ikke!\",VLOOKUP(F1750,[1]Kontoplan!A:D,2,0)))","v":"Bank konto"},"Bent Ellevang"]
["2018-12-07",23,"Porto, sende regnskab til Revisor",null,null,2110,54,null,{"$f":"IF(F1751=\"\",\"\",IF(ISERROR(VLOOKUP(F1751,[1]Kontoplan!A:D,2,0)),\"Konto findes ikke!\",VLOOKUP(F1751,[1]Kontoplan!A:D,2,0)))","v":"Kontorhold"}]
["2018-12-08",24,"Dragonfest, Jens  P. Christofferson",null,null,12310,150,null,{"$f":"IF(F1752=\"\",\"\",IF(ISERROR(VLOOKUP(F1752,[1]Kontoplan!A:D,2,0)),\"Konto findes ikke!\",VLOOKUP(F1752,[1]Kontoplan!A:D,2,0)))","v":"Bank konto"}]
["2018-12-08",24,"Dragonfest, Jens  P. Christofferson",null,null,1050,null,150,{"$f":"IF(F1753=\"\",\"\",IF(ISERROR(VLOOKUP(F1753,[1]Kontoplan!A:D,2,0)),\"Konto findes ikke!\",VLOOKUP(F1753,[1]Kontoplan!A:D,2,0)))","v":"Deltagergebyr, Dragonfest"}]
["2018-12-08",25,"Dragonfest, Flemming Larsen",null,null,12310,150,null,{"$f":"IF(F1754=\"\",\"\",IF(ISERROR(VLOOKUP(F1754,[1]Kontoplan!A:D,2,0)),\"Konto findes ikke!\",VLOOKUP(F1754,[1]Kontoplan!A:D,2,0)))","v":"Bank konto"}]
["2018-12-08",25,"Dragonfest, Flemming Larsen",null,null,1050,null,150,{"$f":"IF(F1755=\"\",\"\",IF(ISERROR(VLOOKUP(F1755,[1]Kontoplan!A:D,2,0)),\"Konto findes ikke!\",VLOOKUP(F1755,[1]Kontoplan!A:D,2,0)))","v":"Deltagergebyr, Dragonfest"}]
["2018-12-10",26,"Dragonfest, Kim Bjelstrand",null,null,12310,150,null,{"$f":"IF(F1756=\"\",\"\",IF(ISERROR(VLOOKUP(F1756,[1]Kontoplan!A:D,2,0)),\"Konto findes ikke!\",VLOOKUP(F1756,[1]Kontoplan!A:D,2,0)))","v":"Bank konto"}]
["2018-12-10",26,"Dragonfest, Kim Bjelstrand",null,null,1050,null,150,{"$f":"IF(F1757=\"\",\"\",IF(ISERROR(VLOOKUP(F1757,[1]Kontoplan!A:D,2,0)),\"Konto findes ikke!\",VLOOKUP(F1757,[1]Kontoplan!A:D,2,0)))","v":"Deltagergebyr, Dragonfest"}]
["2018-12-10",27,"Kontingent, Finn Larsen",54,2019,1000,null,175,{"$f":"IF(F1758=\"\",\"\",IF(ISERROR(VLOOKUP(F1758,[1]Kontoplan!A:D,2,0)),\"Konto findes ikke!\",VLOOKUP(F1758,[1]Kontoplan!A:D,2,0)))","v":"Kontingenter"}]
["2018-12-10",27,"Kontingent, Finn Larsen",null,null,12310,175,null,{"$f":"IF(F1759=\"\",\"\",IF(ISERROR(VLOOKUP(F1759,[1]Kontoplan!A:D,2,0)),\"Konto findes ikke!\",VLOOKUP(F1759,[1]Kontoplan!A:D,2,0)))","v":"Bank konto"}]
["2018-12-10",28,"Dragonfest, Svend Kofoed",null,null,12310,150,null,{"$f":"IF(F1760=\"\",\"\",IF(ISERROR(VLOOKUP(F1760,[1]Kontoplan!A:D,2,0)),\"Konto findes ikke!\",VLOOKUP(F1760,[1]Kontoplan!A:D,2,0)))","v":"Bank konto"}]
["2018-12-10",28,"Dragonfest, Svend Kofoed",null,null,1050,null,150,{"$f":"IF(F1761=\"\",\"\",IF(ISERROR(VLOOKUP(F1761,[1]Kontoplan!A:D,2,0)),\"Konto findes ikke!\",VLOOKUP(F1761,[1]Kontoplan!A:D,2,0)))","v":"Deltagergebyr, Dragonfest"}]
["2018-12-10",29,"Dragonfest, Fini Dahl",null,null,12310,150,null,{"$f":"IF(F1762=\"\",\"\",IF(ISERROR(VLOOKUP(F1762,[1]Kontoplan!A:D,2,0)),\"Konto findes ikke!\",VLOOKUP(F1762,[1]Kontoplan!A:D,2,0)))","v":"Bank konto"}]
["2018-12-10",29,"Dragonfest, Fini Dahl",null,null,1050,null,150,{"$f":"IF(F1763=\"\",\"\",IF(ISERROR(VLOOKUP(F1763,[1]Kontoplan!A:D,2,0)),\"Konto findes ikke!\",VLOOKUP(F1763,[1]Kontoplan!A:D,2,0)))","v":"Deltagergebyr, Dragonfest"}]
["2018-12-10",30,"Dankort, Rådhuskiosken",null,null,12310,null,265,{"$f":"IF(F1764=\"\",\"\",IF(ISERROR(VLOOKUP(F1764,[1]Kontoplan!A:D,2,0)),\"Konto findes ikke!\",VLOOKUP(F1764,[1]Kontoplan!A:D,2,0)))","v":"Bank konto"}]
["2018-12-10",30,"Dankort, Rådhuskiosken",null,null,2070,265,null,{"$f":"IF(F1765=\"\",\"\",IF(ISERROR(VLOOKUP(F1765,[1]Kontoplan!A:D,2,0)),\"Konto findes ikke!\",VLOOKUP(F1765,[1]Kontoplan!A:D,2,0)))","v":"Gaver"},"Gave til …."]
["2018-12-12",31,"Dragonfest, Jan Kristoffersen",null,null,12310,150,null,{"$f":"IF(F1766=\"\",\"\",IF(ISERROR(VLOOKUP(F1766,[1]Kontoplan!A:D,2,0)),\"Konto findes ikke!\",VLOOKUP(F1766,[1]Kontoplan!A:D,2,0)))","v":"Bank konto"}]
["2018-12-12",31,"Dragonfest, Jan Kristoffersen",null,null,1050,null,150,{"$f":"IF(F1767=\"\",\"\",IF(ISERROR(VLOOKUP(F1767,[1]Kontoplan!A:D,2,0)),\"Konto findes ikke!\",VLOOKUP(F1767,[1]Kontoplan!A:D,2,0)))","v":"Deltagergebyr, Dragonfest"}]
["2018-12-12",32,"Dragonfest, Jørn K. Pedersen",null,null,12310,150,null,{"$f":"IF(F1768=\"\",\"\",IF(ISERROR(VLOOKUP(F1768,[1]Kontoplan!A:D,2,0)),\"Konto findes ikke!\",VLOOKUP(F1768,[1]Kontoplan!A:D,2,0)))","v":"Bank konto"}]
["2018-12-12",32,"Dragonfest, Jørn K. Pedersen",null,null,1050,null,150,{"$f":"IF(F1769=\"\",\"\",IF(ISERROR(VLOOKUP(F1769,[1]Kontoplan!A:D,2,0)),\"Konto findes ikke!\",VLOOKUP(F1769,[1]Kontoplan!A:D,2,0)))","v":"Deltagergebyr, Dragonfest"}]
["2018-12-13",33,"Dragonfest, Peter Munk Petersen",null,null,12310,350,null,{"$f":"IF(F1770=\"\",\"\",IF(ISERROR(VLOOKUP(F1770,[1]Kontoplan!A:D,2,0)),\"Konto findes ikke!\",VLOOKUP(F1770,[1]Kontoplan!A:D,2,0)))","v":"Bank konto"}]
["2018-12-13",33,"Dragonfest, Peter Munk Petersen",null,null,1050,null,150,{"$f":"IF(F1771=\"\",\"\",IF(ISERROR(VLOOKUP(F1771,[1]Kontoplan!A:D,2,0)),\"Konto findes ikke!\",VLOOKUP(F1771,[1]Kontoplan!A:D,2,0)))","v":"Deltagergebyr, Dragonfest"}]
["2018-12-13",33,"Dragonfest, Peter Munk Petersen",null,null,1040,null,200,{"$f":"IF(F1772=\"\",\"\",IF(ISERROR(VLOOKUP(F1772,[1]Kontoplan!A:D,2,0)),\"Konto findes ikke!\",VLOOKUP(F1772,[1]Kontoplan!A:D,2,0)))","v":"Udlejning af værelser"}]
["2018-12-14",34,"Dragonfest, Carl-Erik Larsen",null,null,12310,150,null,{"$f":"IF(F1773=\"\",\"\",IF(ISERROR(VLOOKUP(F1773,[1]Kontoplan!A:D,2,0)),\"Konto findes ikke!\",VLOOKUP(F1773,[1]Kontoplan!A:D,2,0)))","v":"Bank konto"}]
["2018-12-14",34,"Dragonfest, Carl-Erik Larsen",null,null,1050,null,150,{"$f":"IF(F1774=\"\",\"\",IF(ISERROR(VLOOKUP(F1774,[1]Kontoplan!A:D,2,0)),\"Konto findes ikke!\",VLOOKUP(F1774,[1]Kontoplan!A:D,2,0)))","v":"Deltagergebyr, Dragonfest"}]
["2018-12-14",35,"Dragonfest, Kim Jensen",null,null,12310,150,null,{"$f":"IF(F1775=\"\",\"\",IF(ISERROR(VLOOKUP(F1775,[1]Kontoplan!A:D,2,0)),\"Konto findes ikke!\",VLOOKUP(F1775,[1]Kontoplan!A:D,2,0)))","v":"Bank konto"}]
["2018-12-14",35,"Dragonfest, Kim Jensen",null,null,1050,null,150,{"$f":"IF(F1776=\"\",\"\",IF(ISERROR(VLOOKUP(F1776,[1]Kontoplan!A:D,2,0)),\"Konto findes ikke!\",VLOOKUP(F1776,[1]Kontoplan!A:D,2,0)))","v":"Deltagergebyr, Dragonfest"}]
["2018-12-15",36,"Dragonfest, Sven Holm Jensen",null,null,12310,150,null,{"$f":"IF(F1777=\"\",\"\",IF(ISERROR(VLOOKUP(F1777,[1]Kontoplan!A:D,2,0)),\"Konto findes ikke!\",VLOOKUP(F1777,[1]Kontoplan!A:D,2,0)))","v":"Bank konto"}]
["2018-12-15",36,"Dragonfest, Sven Holm Jensen",null,null,1050,null,150,{"$f":"IF(F1778=\"\",\"\",IF(ISERROR(VLOOKUP(F1778,[1]Kontoplan!A:D,2,0)),\"Konto findes ikke!\",VLOOKUP(F1778,[1]Kontoplan!A:D,2,0)))","v":"Deltagergebyr, Dragonfest"}]
["2018-12-16",37,"Dragonfest, Eilief G. Andersen",null,null,12310,150,null,{"$f":"IF(F1779=\"\",\"\",IF(ISERROR(VLOOKUP(F1779,[1]Kontoplan!A:D,2,0)),\"Konto findes ikke!\",VLOOKUP(F1779,[1]Kontoplan!A:D,2,0)))","v":"Bank konto"}]
["2018-12-16",37,"Dragonfest, Eilief G. Andersen",null,null,1050,null,150,{"$f":"IF(F1780=\"\",\"\",IF(ISERROR(VLOOKUP(F1780,[1]Kontoplan!A:D,2,0)),\"Konto findes ikke!\",VLOOKUP(F1780,[1]Kontoplan!A:D,2,0)))","v":"Deltagergebyr, Dragonfest"}]
["2018-12-16",38,"Dragonfest, C. U. Essemann-Beck",null,null,12310,150,null,{"$f":"IF(F1781=\"\",\"\",IF(ISERROR(VLOOKUP(F1781,[1]Kontoplan!A:D,2,0)),\"Konto findes ikke!\",VLOOKUP(F1781,[1]Kontoplan!A:D,2,0)))","v":"Bank konto"}]
["2018-12-16",38,"Dragonfest, C. U. Essemann-Beck",null,null,1050,null,150,{"$f":"IF(F1782=\"\",\"\",IF(ISERROR(VLOOKUP(F1782,[1]Kontoplan!A:D,2,0)),\"Konto findes ikke!\",VLOOKUP(F1782,[1]Kontoplan!A:D,2,0)))","v":"Deltagergebyr, Dragonfest"}]
["2018-12-17",39,"Dragonfest, Ebbe Torgersen",null,null,12310,150,null,{"$f":"IF(F1783=\"\",\"\",IF(ISERROR(VLOOKUP(F1783,[1]Kontoplan!A:D,2,0)),\"Konto findes ikke!\",VLOOKUP(F1783,[1]Kontoplan!A:D,2,0)))","v":"Bank konto"}]
["2018-12-17",39,"Dragonfest, Ebbe Torgersen",null,null,1050,null,150,{"$f":"IF(F1784=\"\",\"\",IF(ISERROR(VLOOKUP(F1784,[1]Kontoplan!A:D,2,0)),\"Konto findes ikke!\",VLOOKUP(F1784,[1]Kontoplan!A:D,2,0)))","v":"Deltagergebyr, Dragonfest"}]
["2018-12-17",40,"Forplejning , møde på ndr. mulebygård",null,null,12310,null,72,{"$f":"IF(F1785=\"\",\"\",IF(ISERROR(VLOOKUP(F1785,[1]Kontoplan!A:D,2,0)),\"Konto findes ikke!\",VLOOKUP(F1785,[1]Kontoplan!A:D,2,0)))","v":"Bank konto"}]
["2018-12-17",40,"Forplejning , møde på ndr. mulebygård",null,null,2100,72,null,{"$f":"IF(F1786=\"\",\"\",IF(ISERROR(VLOOKUP(F1786,[1]Kontoplan!A:D,2,0)),\"Konto findes ikke!\",VLOOKUP(F1786,[1]Kontoplan!A:D,2,0)))","v":"Forplejning til møder/Rejser"}]
["2018-12-17",41,"Dragonfest, Allan Hoe Andersen",null,null,12310,150,null,{"$f":"IF(F1787=\"\",\"\",IF(ISERROR(VLOOKUP(F1787,[1]Kontoplan!A:D,2,0)),\"Konto findes ikke!\",VLOOKUP(F1787,[1]Kontoplan!A:D,2,0)))","v":"Bank konto"}]
["2018-12-17",41,"Dragonfest, Allan Hoe Andersen",null,null,1050,null,150,{"$f":"IF(F1788=\"\",\"\",IF(ISERROR(VLOOKUP(F1788,[1]Kontoplan!A:D,2,0)),\"Konto findes ikke!\",VLOOKUP(F1788,[1]Kontoplan!A:D,2,0)))","v":"Deltagergebyr, Dragonfest"}]
["2018-12-17",42,"Dragonfest, Jens Aksel Givskov",null,null,12310,350,null,{"$f":"IF(F1789=\"\",\"\",IF(ISERROR(VLOOKUP(F1789,[1]Kontoplan!A:D,2,0)),\"Konto findes ikke!\",VLOOKUP(F1789,[1]Kontoplan!A:D,2,0)))","v":"Bank konto"}]
["2018-12-17",42,"Dragonfest, Jens Aksel Givskov",null,null,1050,null,150,{"$f":"IF(F1790=\"\",\"\",IF(ISERROR(VLOOKUP(F1790,[1]Kontoplan!A:D,2,0)),\"Konto findes ikke!\",VLOOKUP(F1790,[1]Kontoplan!A:D,2,0)))","v":"Deltagergebyr, Dragonfest"}]
["2018-12-17",42,"Dragonfest, Jens Aksel Givskov",null,null,1040,null,200,{"$f":"IF(F1791=\"\",\"\",IF(ISERROR(VLOOKUP(F1791,[1]Kontoplan!A:D,2,0)),\"Konto findes ikke!\",VLOOKUP(F1791,[1]Kontoplan!A:D,2,0)))","v":"Udlejning af værelser"}]
["2018-12-17",43,"Dragonfest, Flemming Koch",null,null,12310,150,null,{"$f":"IF(F1792=\"\",\"\",IF(ISERROR(VLOOKUP(F1792,[1]Kontoplan!A:D,2,0)),\"Konto findes ikke!\",VLOOKUP(F1792,[1]Kontoplan!A:D,2,0)))","v":"Bank konto"}]
["2018-12-17",43,"Dragonfest, Flemming Koch",null,null,1050,null,150,{"$f":"IF(F1793=\"\",\"\",IF(ISERROR(VLOOKUP(F1793,[1]Kontoplan!A:D,2,0)),\"Konto findes ikke!\",VLOOKUP(F1793,[1]Kontoplan!A:D,2,0)))","v":"Deltagergebyr, Dragonfest"}]
["2018-12-19",44,"Dragonfest, Palle Schrøder Andersen",null,null,12310,150,null,{"$f":"IF(F1794=\"\",\"\",IF(ISERROR(VLOOKUP(F1794,[1]Kontoplan!A:D,2,0)),\"Konto findes ikke!\",VLOOKUP(F1794,[1]Kontoplan!A:D,2,0)))","v":"Bank konto"}]
["2018-12-19",44,"Dragonfest, Palle Schrøder Andersen",null,null,1050,null,150,{"$f":"IF(F1795=\"\",\"\",IF(ISERROR(VLOOKUP(F1795,[1]Kontoplan!A:D,2,0)),\"Konto findes ikke!\",VLOOKUP(F1795,[1]Kontoplan!A:D,2,0)))","v":"Deltagergebyr, Dragonfest"}]
["2018-12-20",45,"Dragonfest, Kaare Hansen",null,null,12310,150,null,{"$f":"IF(F1796=\"\",\"\",IF(ISERROR(VLOOKUP(F1796,[1]Kontoplan!A:D,2,0)),\"Konto findes ikke!\",VLOOKUP(F1796,[1]Kontoplan!A:D,2,0)))","v":"Bank konto"}]
["2018-12-20",45,"Dragonfest, Kaare Hansen",null,null,1050,null,150,{"$f":"IF(F1797=\"\",\"\",IF(ISERROR(VLOOKUP(F1797,[1]Kontoplan!A:D,2,0)),\"Konto findes ikke!\",VLOOKUP(F1797,[1]Kontoplan!A:D,2,0)))","v":"Deltagergebyr, Dragonfest"}]
["2018-12-20",46,"Dragonfest, Ebbe M Jensen",null,null,12310,150,null,{"$f":"IF(F1798=\"\",\"\",IF(ISERROR(VLOOKUP(F1798,[1]Kontoplan!A:D,2,0)),\"Konto findes ikke!\",VLOOKUP(F1798,[1]Kontoplan!A:D,2,0)))","v":"Bank konto"}]
["2018-12-20",46,"Dragonfest, Ebbe M Jensen",null,null,1050,null,150,{"$f":"IF(F1799=\"\",\"\",IF(ISERROR(VLOOKUP(F1799,[1]Kontoplan!A:D,2,0)),\"Konto findes ikke!\",VLOOKUP(F1799,[1]Kontoplan!A:D,2,0)))","v":"Deltagergebyr, Dragonfest"}]
["2018-12-20",47,"Dragonfest, Ole Holm",null,null,12310,150,null,{"$f":"IF(F1800=\"\",\"\",IF(ISERROR(VLOOKUP(F1800,[1]Kontoplan!A:D,2,0)),\"Konto findes ikke!\",VLOOKUP(F1800,[1]Kontoplan!A:D,2,0)))","v":"Bank konto"}]
["2018-12-20",47,"Dragonfest, Ole Holm",null,null,1050,null,150,{"$f":"IF(F1801=\"\",\"\",IF(ISERROR(VLOOKUP(F1801,[1]Kontoplan!A:D,2,0)),\"Konto findes ikke!\",VLOOKUP(F1801,[1]Kontoplan!A:D,2,0)))","v":"Deltagergebyr, Dragonfest"}]
["2018-12-20",48,"Dragonfest, Ole Holm",null,null,12310,140,null,{"$f":"IF(F1802=\"\",\"\",IF(ISERROR(VLOOKUP(F1802,[1]Kontoplan!A:D,2,0)),\"Konto findes ikke!\",VLOOKUP(F1802,[1]Kontoplan!A:D,2,0)))","v":"Bank konto"}]
["2018-12-20",48,"Dragonfest, Ole Holm",null,null,1040,null,100,{"$f":"IF(F1803=\"\",\"\",IF(ISERROR(VLOOKUP(F1803,[1]Kontoplan!A:D,2,0)),\"Konto findes ikke!\",VLOOKUP(F1803,[1]Kontoplan!A:D,2,0)))","v":"Udlejning af værelser"}]
["2018-12-20",48,"Dragonfest, Ole Holm",null,null,1030,null,40,{"$f":"IF(F1804=\"\",\"\",IF(ISERROR(VLOOKUP(F1804,[1]Kontoplan!A:D,2,0)),\"Konto findes ikke!\",VLOOKUP(F1804,[1]Kontoplan!A:D,2,0)))","v":"Salg af morgenmad"}]
["2018-12-21",49,"Dragonfest, John Nielsen",null,null,12310,150,null,{"$f":"IF(F1805=\"\",\"\",IF(ISERROR(VLOOKUP(F1805,[1]Kontoplan!A:D,2,0)),\"Konto findes ikke!\",VLOOKUP(F1805,[1]Kontoplan!A:D,2,0)))","v":"Bank konto"}]
["2018-12-21",49,"Dragonfest, John Nielsen",null,null,1050,null,150,{"$f":"IF(F1806=\"\",\"\",IF(ISERROR(VLOOKUP(F1806,[1]Kontoplan!A:D,2,0)),\"Konto findes ikke!\",VLOOKUP(F1806,[1]Kontoplan!A:D,2,0)))","v":"Deltagergebyr, Dragonfest"}]
["2018-12-21",50,"Dragonfest, Michael Fausing",null,null,12310,150,null,{"$f":"IF(F1807=\"\",\"\",IF(ISERROR(VLOOKUP(F1807,[1]Kontoplan!A:D,2,0)),\"Konto findes ikke!\",VLOOKUP(F1807,[1]Kontoplan!A:D,2,0)))","v":"Bank konto"}]
["2018-12-21",50,"Dragonfest, Michael Fausing",null,null,1050,null,150,{"$f":"IF(F1808=\"\",\"\",IF(ISERROR(VLOOKUP(F1808,[1]Kontoplan!A:D,2,0)),\"Konto findes ikke!\",VLOOKUP(F1808,[1]Kontoplan!A:D,2,0)))","v":"Deltagergebyr, Dragonfest"}]
["2018-12-21",51,"Dragonfest, Knud Arne Rasmussen",null,null,12310,150,null,{"$f":"IF(F1809=\"\",\"\",IF(ISERROR(VLOOKUP(F1809,[1]Kontoplan!A:D,2,0)),\"Konto findes ikke!\",VLOOKUP(F1809,[1]Kontoplan!A:D,2,0)))","v":"Bank konto"}]
["2018-12-21",51,"Dragonfest, Knud Arne Rasmussen",null,null,1050,null,150,{"$f":"IF(F1810=\"\",\"\",IF(ISERROR(VLOOKUP(F1810,[1]Kontoplan!A:D,2,0)),\"Konto findes ikke!\",VLOOKUP(F1810,[1]Kontoplan!A:D,2,0)))","v":"Deltagergebyr, Dragonfest"}]
["2018-12-22",52,"Dragonfest, N-J. Johansen SSG",null,null,12310,150,null,{"$f":"IF(F1811=\"\",\"\",IF(ISERROR(VLOOKUP(F1811,[1]Kontoplan!A:D,2,0)),\"Konto findes ikke!\",VLOOKUP(F1811,[1]Kontoplan!A:D,2,0)))","v":"Bank konto"}]
["2018-12-22",52,"Dragonfest, N-J. Johansen SSG",null,null,1050,null,150,{"$f":"IF(F1812=\"\",\"\",IF(ISERROR(VLOOKUP(F1812,[1]Kontoplan!A:D,2,0)),\"Konto findes ikke!\",VLOOKUP(F1812,[1]Kontoplan!A:D,2,0)))","v":"Deltagergebyr, Dragonfest"}]
["2018-12-24",53,"Dragonfest, Richard Finne",null,null,12310,150,null,{"$f":"IF(F1813=\"\",\"\",IF(ISERROR(VLOOKUP(F1813,[1]Kontoplan!A:D,2,0)),\"Konto findes ikke!\",VLOOKUP(F1813,[1]Kontoplan!A:D,2,0)))","v":"Bank konto"}]
["2018-12-24",53,"Dragonfest, Richard Finne",null,null,1050,null,150,{"$f":"IF(F1814=\"\",\"\",IF(ISERROR(VLOOKUP(F1814,[1]Kontoplan!A:D,2,0)),\"Konto findes ikke!\",VLOOKUP(F1814,[1]Kontoplan!A:D,2,0)))","v":"Deltagergebyr, Dragonfest"}]
["2018-12-27",54,"Dragonfest, Bent Ellevang",null,null,12310,430,null,{"$f":"IF(F1815=\"\",\"\",IF(ISERROR(VLOOKUP(F1815,[1]Kontoplan!A:D,2,0)),\"Konto findes ikke!\",VLOOKUP(F1815,[1]Kontoplan!A:D,2,0)))","v":"Bank konto"}]
["2018-12-27",54,"Dragonfest, Bent Ellevang",null,null,1050,null,150,{"$f":"IF(F1816=\"\",\"\",IF(ISERROR(VLOOKUP(F1816,[1]Kontoplan!A:D,2,0)),\"Konto findes ikke!\",VLOOKUP(F1816,[1]Kontoplan!A:D,2,0)))","v":"Deltagergebyr, Dragonfest"}]
["2018-12-27",54,"Dragonfest, Bent Ellevang",null,null,1040,null,200,{"$f":"IF(F1817=\"\",\"\",IF(ISERROR(VLOOKUP(F1817,[1]Kontoplan!A:D,2,0)),\"Konto findes ikke!\",VLOOKUP(F1817,[1]Kontoplan!A:D,2,0)))","v":"Udlejning af værelser"}]
["2018-12-27",54,"Dragonfest, Bent Ellevang",null,null,1030,null,80,{"$f":"IF(F1818=\"\",\"\",IF(ISERROR(VLOOKUP(F1818,[1]Kontoplan!A:D,2,0)),\"Konto findes ikke!\",VLOOKUP(F1818,[1]Kontoplan!A:D,2,0)))","v":"Salg af morgenmad"}]
["2018-12-28",55,"Dragonfest, Carsten Kofoed Pedersen",null,null,12310,150,null,{"$f":"IF(F1819=\"\",\"\",IF(ISERROR(VLOOKUP(F1819,[1]Kontoplan!A:D,2,0)),\"Konto findes ikke!\",VLOOKUP(F1819,[1]Kontoplan!A:D,2,0)))","v":"Bank konto"}]
["2018-12-28",55,"Dragonfest, Carsten Kofoed Pedersen",null,null,1050,null,150,{"$f":"IF(F1820=\"\",\"\",IF(ISERROR(VLOOKUP(F1820,[1]Kontoplan!A:D,2,0)),\"Konto findes ikke!\",VLOOKUP(F1820,[1]Kontoplan!A:D,2,0)))","v":"Deltagergebyr, Dragonfest"}]
["2018-12-28",56,"Dragonfest, Hans-Jørgen Jensen",null,null,12310,290,null,{"$f":"IF(F1821=\"\",\"\",IF(ISERROR(VLOOKUP(F1821,[1]Kontoplan!A:D,2,0)),\"Konto findes ikke!\",VLOOKUP(F1821,[1]Kontoplan!A:D,2,0)))","v":"Bank konto"}]
["2018-12-28",56,"Dragonfest, Hans-Jørgen Jensen",null,null,1050,null,150,{"$f":"IF(F1822=\"\",\"\",IF(ISERROR(VLOOKUP(F1822,[1]Kontoplan!A:D,2,0)),\"Konto findes ikke!\",VLOOKUP(F1822,[1]Kontoplan!A:D,2,0)))","v":"Deltagergebyr, Dragonfest"}]
["2018-12-28",56,"Dragonfest, Hans-Jørgen Jensen",null,null,1040,null,100,{"$f":"IF(F1823=\"\",\"\",IF(ISERROR(VLOOKUP(F1823,[1]Kontoplan!A:D,2,0)),\"Konto findes ikke!\",VLOOKUP(F1823,[1]Kontoplan!A:D,2,0)))","v":"Udlejning af værelser"}]
["2018-12-28",56,"Dragonfest, Hans-Jørgen Jensen",null,null,1030,null,40,{"$f":"IF(F1824=\"\",\"\",IF(ISERROR(VLOOKUP(F1824,[1]Kontoplan!A:D,2,0)),\"Konto findes ikke!\",VLOOKUP(F1824,[1]Kontoplan!A:D,2,0)))","v":"Salg af morgenmad"}]
["2018-12-31",57,"Bankgebyr ifølge nota",null,null,12310,null,75,{"$f":"IF(F1825=\"\",\"\",IF(ISERROR(VLOOKUP(F1825,[1]Kontoplan!A:D,2,0)),\"Konto findes ikke!\",VLOOKUP(F1825,[1]Kontoplan!A:D,2,0)))","v":"Bank konto"}]
["2018-12-31",57,"Bankgebyr ifølge nota",null,null,2130,75,null,{"$f":"IF(F1826=\"\",\"\",IF(ISERROR(VLOOKUP(F1826,[1]Kontoplan!A:D,2,0)),\"Konto findes ikke!\",VLOOKUP(F1826,[1]Kontoplan!A:D,2,0)))","v":"Bankgebyr/Renter"}]
["2019-01-04",58,"Dragonfest, Ole Larsen",null,null,12310,150,null,{"$f":"IF(F1827=\"\",\"\",IF(ISERROR(VLOOKUP(F1827,[1]Kontoplan!A:D,2,0)),\"Konto findes ikke!\",VLOOKUP(F1827,[1]Kontoplan!A:D,2,0)))","v":"Bank konto"}]
["2019-01-04",58,"Dragonfest, Ole Larsen",null,null,1050,null,150,{"$f":"IF(F1828=\"\",\"\",IF(ISERROR(VLOOKUP(F1828,[1]Kontoplan!A:D,2,0)),\"Konto findes ikke!\",VLOOKUP(F1828,[1]Kontoplan!A:D,2,0)))","v":"Deltagergebyr, Dragonfest"}]
["2019-01-04",59,"Dragonfest, Kurt Munch",null,null,12310,150,null,{"$f":"IF(F1829=\"\",\"\",IF(ISERROR(VLOOKUP(F1829,[1]Kontoplan!A:D,2,0)),\"Konto findes ikke!\",VLOOKUP(F1829,[1]Kontoplan!A:D,2,0)))","v":"Bank konto"}]
["2019-01-04",59,"Dragonfest, Kurt Munch",null,null,1050,null,150,{"$f":"IF(F1830=\"\",\"\",IF(ISERROR(VLOOKUP(F1830,[1]Kontoplan!A:D,2,0)),\"Konto findes ikke!\",VLOOKUP(F1830,[1]Kontoplan!A:D,2,0)))","v":"Deltagergebyr, Dragonfest"}]
["2019-01-07",60,"Kontingent, Angmagssalik ",44,2019,1000,null,175,{"$f":"IF(F1831=\"\",\"\",IF(ISERROR(VLOOKUP(F1831,[1]Kontoplan!A:D,2,0)),\"Konto findes ikke!\",VLOOKUP(F1831,[1]Kontoplan!A:D,2,0)))","v":"Kontingenter"}]
["2019-01-07",60,"Kontingent, Angmagssalik ",null,null,12310,175,null,{"$f":"IF(F1832=\"\",\"\",IF(ISERROR(VLOOKUP(F1832,[1]Kontoplan!A:D,2,0)),\"Konto findes ikke!\",VLOOKUP(F1832,[1]Kontoplan!A:D,2,0)))","v":"Bank konto"}]
["2019-01-07",61,"Dragonfest, Angmagssalik ",null,null,12310,150,null,{"$f":"IF(F1833=\"\",\"\",IF(ISERROR(VLOOKUP(F1833,[1]Kontoplan!A:D,2,0)),\"Konto findes ikke!\",VLOOKUP(F1833,[1]Kontoplan!A:D,2,0)))","v":"Bank konto"}]
["2019-01-07",61,"Dragonfest, Angmagssalik ",null,null,1050,null,150,{"$f":"IF(F1834=\"\",\"\",IF(ISERROR(VLOOKUP(F1834,[1]Kontoplan!A:D,2,0)),\"Konto findes ikke!\",VLOOKUP(F1834,[1]Kontoplan!A:D,2,0)))","v":"Deltagergebyr, Dragonfest"}]
["2019-01-09",62,"Afholdelse af GF",null,null,12310,null,151.5,{"$f":"IF(F1835=\"\",\"\",IF(ISERROR(VLOOKUP(F1835,[1]Kontoplan!A:D,2,0)),\"Konto findes ikke!\",VLOOKUP(F1835,[1]Kontoplan!A:D,2,0)))","v":"Bank konto"}]
["2019-01-09",62,"Afholdelse af GF",null,null,2170,151.5,null,{"$f":"IF(F1836=\"\",\"\",IF(ISERROR(VLOOKUP(F1836,[1]Kontoplan!A:D,2,0)),\"Konto findes ikke!\",VLOOKUP(F1836,[1]Kontoplan!A:D,2,0)))","v":"GF"},"Rema 1000"]
["2019-01-13",63,"GF, Mad til GF",null,null,12310,null,3690,{"$f":"IF(F1837=\"\",\"\",IF(ISERROR(VLOOKUP(F1837,[1]Kontoplan!A:D,2,0)),\"Konto findes ikke!\",VLOOKUP(F1837,[1]Kontoplan!A:D,2,0)))","v":"Bank konto"}]
["2019-01-13",63,"GF, Mad til GF",null,null,2090,3690,null,{"$f":"IF(F1838=\"\",\"\",IF(ISERROR(VLOOKUP(F1838,[1]Kontoplan!A:D,2,0)),\"Konto findes ikke!\",VLOOKUP(F1838,[1]Kontoplan!A:D,2,0)))","v":"Mad til Dragonfest"}]
["2019-01-14",64,"Morgenmad GF",null,null,12310,null,158.6,{"$f":"IF(F1839=\"\",\"\",IF(ISERROR(VLOOKUP(F1839,[1]Kontoplan!A:D,2,0)),\"Konto findes ikke!\",VLOOKUP(F1839,[1]Kontoplan!A:D,2,0)))","v":"Bank konto"}]
["2019-01-14",64,"Morgenmad GF",null,null,2030,158.6,null,{"$f":"IF(F1840=\"\",\"\",IF(ISERROR(VLOOKUP(F1840,[1]Kontoplan!A:D,2,0)),\"Konto findes ikke!\",VLOOKUP(F1840,[1]Kontoplan!A:D,2,0)))","v":"Morgenmad/GF"}]
["2019-01-14",65,"Salg kontant",null,null,12310,2350,null,{"$f":"IF(F1841=\"\",\"\",IF(ISERROR(VLOOKUP(F1841,[1]Kontoplan!A:D,2,0)),\"Konto findes ikke!\",VLOOKUP(F1841,[1]Kontoplan!A:D,2,0)))","v":"Bank konto"}]
["2019-01-14",65,"Salg kontant, mærker til GF",null,null,1010,null,250,{"$f":"IF(F1842=\"\",\"\",IF(ISERROR(VLOOKUP(F1842,[1]Kontoplan!A:D,2,0)),\"Konto findes ikke!\",VLOOKUP(F1842,[1]Kontoplan!A:D,2,0)))","v":"Salg af mærker"}]
["2019-01-14",65,"Salg kontant, øl og vand til GF",null,null,1020,null,2100,{"$f":"IF(F1843=\"\",\"\",IF(ISERROR(VLOOKUP(F1843,[1]Kontoplan!A:D,2,0)),\"Konto findes ikke!\",VLOOKUP(F1843,[1]Kontoplan!A:D,2,0)))","v":"Salg af øl + vand"}]
["2019-01-24",66,"Flaskepant, indsat",null,null,12310,120,null,{"$f":"IF(F1844=\"\",\"\",IF(ISERROR(VLOOKUP(F1844,[1]Kontoplan!A:D,2,0)),\"Konto findes ikke!\",VLOOKUP(F1844,[1]Kontoplan!A:D,2,0)))","v":"Bank konto"}]
["2019-01-24",66,"Flaskepant, indsat",null,null,1130,null,120,{"$f":"IF(F1845=\"\",\"\",IF(ISERROR(VLOOKUP(F1845,[1]Kontoplan!A:D,2,0)),\"Konto findes ikke!\",VLOOKUP(F1845,[1]Kontoplan!A:D,2,0)))","v":"Diverse Indtægter"}]
["2019-01-24",67,"Udlæg GHRVPK- Morten",null,null,12310,null,2650.12,{"$f":"IF(F1846=\"\",\"\",IF(ISERROR(VLOOKUP(F1846,[1]Kontoplan!A:D,2,0)),\"Konto findes ikke!\",VLOOKUP(F1846,[1]Kontoplan!A:D,2,0)))","v":"Bank konto"}]
["2019-01-24",67,"Udlæg GHRVPK- Morten",null,null,2081,2650.12,null,{"$f":"IF(F1847=\"\",\"\",IF(ISERROR(VLOOKUP(F1847,[1]Kontoplan!A:D,2,0)),\"Konto findes ikke!\",VLOOKUP(F1847,[1]Kontoplan!A:D,2,0)))","v":"Reservedele til GHRVPK"},"Pakningssæt til GHRVPK"]
["2019-01-28",68,"GHRVPK indbetalt",null,null,12310,2650.12,null,{"$f":"IF(F1848=\"\",\"\",IF(ISERROR(VLOOKUP(F1848,[1]Kontoplan!A:D,2,0)),\"Konto findes ikke!\",VLOOKUP(F1848,[1]Kontoplan!A:D,2,0)))","v":"Bank konto"}]
["2019-01-28",68,"GHRVPK indbetalt",null,null,1110,null,2650.12,{"$f":"IF(F1849=\"\",\"\",IF(ISERROR(VLOOKUP(F1849,[1]Kontoplan!A:D,2,0)),\"Konto findes ikke!\",VLOOKUP(F1849,[1]Kontoplan!A:D,2,0)))","v":"Salg af Reservedele"},"Pakningssæt til GHRVPK"]
["2019-02-06",69,"Kontingent til DHM 2019",null,null,12310,null,200,{"$f":"IF(F1850=\"\",\"\",IF(ISERROR(VLOOKUP(F1850,[1]Kontoplan!A:D,2,0)),\"Konto findes ikke!\",VLOOKUP(F1850,[1]Kontoplan!A:D,2,0)))","v":"Bank konto"}]
["2019-02-06",69,"Kontingent til DHM 2020",null,null,2000,200,null,{"$f":"IF(F1851=\"\",\"\",IF(ISERROR(VLOOKUP(F1851,[1]Kontoplan!A:D,2,0)),\"Konto findes ikke!\",VLOOKUP(F1851,[1]Kontoplan!A:D,2,0)))","v":"Kontigent til andre Foreninger"}]
["2019-02-08",70,"Gave, transport til cylinder simon",null,null,12310,null,129.75,{"$f":"IF(F1852=\"\",\"\",IF(ISERROR(VLOOKUP(F1852,[1]Kontoplan!A:D,2,0)),\"Konto findes ikke!\",VLOOKUP(F1852,[1]Kontoplan!A:D,2,0)))","v":"Bank konto"}]
["2019-02-08",70,"Gave, transport til cylinder simon",null,null,2070,129.75,null,{"$f":"IF(F1853=\"\",\"\",IF(ISERROR(VLOOKUP(F1853,[1]Kontoplan!A:D,2,0)),\"Konto findes ikke!\",VLOOKUP(F1853,[1]Kontoplan!A:D,2,0)))","v":"Gaver"}]
["2019-02-15",71,"Kontingent, C. U. Essemann-Bech",13,2020,1000,null,175,{"$f":"IF(F1854=\"\",\"\",IF(ISERROR(VLOOKUP(F1854,[1]Kontoplan!A:D,2,0)),\"Konto findes ikke!\",VLOOKUP(F1854,[1]Kontoplan!A:D,2,0)))","v":"Kontingenter"}]
["2019-02-15",71,"Kontingent, C. U. Essemann-Bech",null,null,12310,175,null,{"$f":"IF(F1855=\"\",\"\",IF(ISERROR(VLOOKUP(F1855,[1]Kontoplan!A:D,2,0)),\"Konto findes ikke!\",VLOOKUP(F1855,[1]Kontoplan!A:D,2,0)))","v":"Bank konto"}]
["2019-02-15",72,"Deltagelse i GF i DHM 2019",null,null,12310,null,375,{"$f":"IF(F1856=\"\",\"\",IF(ISERROR(VLOOKUP(F1856,[1]Kontoplan!A:D,2,0)),\"Konto findes ikke!\",VLOOKUP(F1856,[1]Kontoplan!A:D,2,0)))","v":"Bank konto"}]
["2019-02-15",72,"Deltagelse i GF i DHM 2020",null,null,2005,375,null,{"$f":"IF(F1857=\"\",\"\",IF(ISERROR(VLOOKUP(F1857,[1]Kontoplan!A:D,2,0)),\"Konto findes ikke!\",VLOOKUP(F1857,[1]Kontoplan!A:D,2,0)))","v":"Deltagelse i GF i Andre Foren."},"Perle deltager i GF DHM 2019"]
["2019-02-17",73,"Udlæg Toppakning M24, Morten",null,null,12310,null,1720,{"$f":"IF(F1858=\"\",\"\",IF(ISERROR(VLOOKUP(F1858,[1]Kontoplan!A:D,2,0)),\"Konto findes ikke!\",VLOOKUP(F1858,[1]Kontoplan!A:D,2,0)))","v":"Bank konto"}]
["2019-02-17",73,"Udlæg Toppakning M24, Morten",null,null,2080,1720,null,{"$f":"IF(F1859=\"\",\"\",IF(ISERROR(VLOOKUP(F1859,[1]Kontoplan!A:D,2,0)),\"Konto findes ikke!\",VLOOKUP(F1859,[1]Kontoplan!A:D,2,0)))","v":"Reservedele"},"Købt 5/7/18 så det skulle have været på sidste regnskab"]
["2019-02-24",74,"Fortæring tur til Cylindersimon ",null,null,12310,null,200,{"$f":"IF(F1860=\"\",\"\",IF(ISERROR(VLOOKUP(F1860,[1]Kontoplan!A:D,2,0)),\"Konto findes ikke!\",VLOOKUP(F1860,[1]Kontoplan!A:D,2,0)))","v":"Bank konto"}]
["2019-02-24",74,"Fortæring tur til Cylindersimon ",null,null,2100,200,null,{"$f":"IF(F1861=\"\",\"\",IF(ISERROR(VLOOKUP(F1861,[1]Kontoplan!A:D,2,0)),\"Konto findes ikke!\",VLOOKUP(F1861,[1]Kontoplan!A:D,2,0)))","v":"Forplejning til møder/Rejser"},"Flemmng Koch"]
["2019-02-24",75,"Rejse til Cylindersimon, Perle",null,null,12310,null,1230,{"$f":"IF(F1862=\"\",\"\",IF(ISERROR(VLOOKUP(F1862,[1]Kontoplan!A:D,2,0)),\"Konto findes ikke!\",VLOOKUP(F1862,[1]Kontoplan!A:D,2,0)))","v":"Bank konto"}]
["2019-02-24",75,"Rejse til Cylindersimon, Perle",null,null,2160,1230,null,{"$f":"IF(F1863=\"\",\"\",IF(ISERROR(VLOOKUP(F1863,[1]Kontoplan!A:D,2,0)),\"Konto findes ikke!\",VLOOKUP(F1863,[1]Kontoplan!A:D,2,0)))","v":"Rejser"},"Hente motor hos cylindersimon"]
["2019-03-07",76,"Overført fra SBD",null,null,12310,2500,null,{"$f":"IF(F1864=\"\",\"\",IF(ISERROR(VLOOKUP(F1864,[1]Kontoplan!A:D,2,0)),\"Konto findes ikke!\",VLOOKUP(F1864,[1]Kontoplan!A:D,2,0)))","v":"Bank konto"}]
["2019-03-07",76,"Overført fra SBD",null,null,1100,null,2500,{"$f":"IF(F1865=\"\",\"\",IF(ISERROR(VLOOKUP(F1865,[1]Kontoplan!A:D,2,0)),\"Konto findes ikke!\",VLOOKUP(F1865,[1]Kontoplan!A:D,2,0)))","v":"Overført fra SBD"}]
["2019-03-08",77,"Hjemmeside, Hostmaster",null,null,12310,null,50,{"$f":"IF(F1866=\"\",\"\",IF(ISERROR(VLOOKUP(F1866,[1]Kontoplan!A:D,2,0)),\"Konto findes ikke!\",VLOOKUP(F1866,[1]Kontoplan!A:D,2,0)))","v":"Bank konto"}]
["2019-03-08",77,"Hjemmeside, Hostmaster",null,null,2120,50,null,{"$f":"IF(F1867=\"\",\"\",IF(ISERROR(VLOOKUP(F1867,[1]Kontoplan!A:D,2,0)),\"Konto findes ikke!\",VLOOKUP(F1867,[1]Kontoplan!A:D,2,0)))","v":"Hjemmeside"}]
["2019-03-11",78,"Modtaget fra velux Fonden",null,null,12310,32384.54,null,{"$f":"IF(F1868=\"\",\"\",IF(ISERROR(VLOOKUP(F1868,[1]Kontoplan!A:D,2,0)),\"Konto findes ikke!\",VLOOKUP(F1868,[1]Kontoplan!A:D,2,0)))","v":"Bank konto"}]
["2019-03-11",78,"Modtaget fra velux Fonden",null,null,1070,null,32384.54,{"$f":"IF(F1869=\"\",\"\",IF(ISERROR(VLOOKUP(F1869,[1]Kontoplan!A:D,2,0)),\"Konto findes ikke!\",VLOOKUP(F1869,[1]Kontoplan!A:D,2,0)))","v":"Fonde"}]
["2019-03-12",79,"Cylindersimon, Faktura 11",null,null,12310,null,35000,{"$f":"IF(F1870=\"\",\"\",IF(ISERROR(VLOOKUP(F1870,[1]Kontoplan!A:D,2,0)),\"Konto findes ikke!\",VLOOKUP(F1870,[1]Kontoplan!A:D,2,0)))","v":"Bank konto"}]
["2019-03-12",79,"Cylindersimon, Faktura 11",null,null,2080,35000,null,{"$f":"IF(F1871=\"\",\"\",IF(ISERROR(VLOOKUP(F1871,[1]Kontoplan!A:D,2,0)),\"Konto findes ikke!\",VLOOKUP(F1871,[1]Kontoplan!A:D,2,0)))","v":"Reservedele"}]
["2019-03-23",80,"Udlæg af stoffer",null,null,12310,null,209.2,{"$f":"IF(F1872=\"\",\"\",IF(ISERROR(VLOOKUP(F1872,[1]Kontoplan!A:D,2,0)),\"Konto findes ikke!\",VLOOKUP(F1872,[1]Kontoplan!A:D,2,0)))","v":"Bank konto"}]
["2019-03-23",80,"Udlæg af stoffer",null,null,2100,209.2,null,{"$f":"IF(F1873=\"\",\"\",IF(ISERROR(VLOOKUP(F1873,[1]Kontoplan!A:D,2,0)),\"Konto findes ikke!\",VLOOKUP(F1873,[1]Kontoplan!A:D,2,0)))","v":"Forplejning til møder/Rejser"}]
["2019-03-28",81,"Udlæg af Morten til Olie",null,null,12310,null,1300,{"$f":"IF(F1874=\"\",\"\",IF(ISERROR(VLOOKUP(F1874,[1]Kontoplan!A:D,2,0)),\"Konto findes ikke!\",VLOOKUP(F1874,[1]Kontoplan!A:D,2,0)))","v":"Bank konto"}]
["2019-03-28",81,"Udlæg af Morten til Olie",null,null,2082,1300,null,{"$f":"IF(F1875=\"\",\"\",IF(ISERROR(VLOOKUP(F1875,[1]Kontoplan!A:D,2,0)),\"Konto findes ikke!\",VLOOKUP(F1875,[1]Kontoplan!A:D,2,0)))","v":"Drivmidler/Olie til M24"}]
["2019-03-29",82,"Bankgebyr ifølge nota",null,null,12310,null,75,{"$f":"IF(F1876=\"\",\"\",IF(ISERROR(VLOOKUP(F1876,[1]Kontoplan!A:D,2,0)),\"Konto findes ikke!\",VLOOKUP(F1876,[1]Kontoplan!A:D,2,0)))","v":"Bank konto"}]
["2019-03-29",82,"Bankgebyr ifølge nota",null,null,2130,75,null,{"$f":"IF(F1877=\"\",\"\",IF(ISERROR(VLOOKUP(F1877,[1]Kontoplan!A:D,2,0)),\"Konto findes ikke!\",VLOOKUP(F1877,[1]Kontoplan!A:D,2,0)))","v":"Bankgebyr/Renter"}]
["2019-04-23",83,"Salg af mærker, Ole Holm",null,null,12310,100,null,{"$f":"IF(F1878=\"\",\"\",IF(ISERROR(VLOOKUP(F1878,[1]Kontoplan!A:D,2,0)),\"Konto findes ikke!\",VLOOKUP(F1878,[1]Kontoplan!A:D,2,0)))","v":"Bank konto"}]
["2019-04-23",83,"Salg af mærker, Ole Holm",null,null,1010,null,100,{"$f":"IF(F1879=\"\",\"\",IF(ISERROR(VLOOKUP(F1879,[1]Kontoplan!A:D,2,0)),\"Konto findes ikke!\",VLOOKUP(F1879,[1]Kontoplan!A:D,2,0)))","v":"Salg af mærker"},"2 stk. mærker"]
["2019-05-19",84,"rejser ole holm",null,null,12310,null,982,{"$f":"IF(F1880=\"\",\"\",IF(ISERROR(VLOOKUP(F1880,[1]Kontoplan!A:D,2,0)),\"Konto findes ikke!\",VLOOKUP(F1880,[1]Kontoplan!A:D,2,0)))","v":"Bank konto"}]
["2019-05-19",84,"rejser ole holm",null,null,2160,982,null,{"$f":"IF(F1881=\"\",\"\",IF(ISERROR(VLOOKUP(F1881,[1]Kontoplan!A:D,2,0)),\"Konto findes ikke!\",VLOOKUP(F1881,[1]Kontoplan!A:D,2,0)))","v":"Rejser"}]
["2019-06-26",85,"udlæg morten vandpumpe",null,null,12310,null,1779.65,{"$f":"IF(F1882=\"\",\"\",IF(ISERROR(VLOOKUP(F1882,[1]Kontoplan!A:D,2,0)),\"Konto findes ikke!\",VLOOKUP(F1882,[1]Kontoplan!A:D,2,0)))","v":"Bank konto"}]
["2019-06-26",85,"udlæg morten vandpumpe",null,null,2080,1779.65,null,{"$f":"IF(F1883=\"\",\"\",IF(ISERROR(VLOOKUP(F1883,[1]Kontoplan!A:D,2,0)),\"Konto findes ikke!\",VLOOKUP(F1883,[1]Kontoplan!A:D,2,0)))","v":"Reservedele"}]
["2019-06-28",86,"Gebyr ifølge nota",null,null,12310,null,75,{"$f":"IF(F1884=\"\",\"\",IF(ISERROR(VLOOKUP(F1884,[1]Kontoplan!A:D,2,0)),\"Konto findes ikke!\",VLOOKUP(F1884,[1]Kontoplan!A:D,2,0)))","v":"Bank konto"}]
["2019-06-28",86,"Gebyr ifølge nota",null,null,2130,75,null,{"$f":"IF(F1885=\"\",\"\",IF(ISERROR(VLOOKUP(F1885,[1]Kontoplan!A:D,2,0)),\"Konto findes ikke!\",VLOOKUP(F1885,[1]Kontoplan!A:D,2,0)))","v":"Bankgebyr/Renter"}]
["2019-06-30",87,"ole udlæg fyringsolie",null,null,12310,null,250,{"$f":"IF(F1886=\"\",\"\",IF(ISERROR(VLOOKUP(F1886,[1]Kontoplan!A:D,2,0)),\"Konto findes ikke!\",VLOOKUP(F1886,[1]Kontoplan!A:D,2,0)))","v":"Bank konto"}]
["2019-06-30",87,"ole udlæg fyringsolie",null,null,2190,250,null,{"$f":"IF(F1887=\"\",\"\",IF(ISERROR(VLOOKUP(F1887,[1]Kontoplan!A:D,2,0)),\"Konto findes ikke!\",VLOOKUP(F1887,[1]Kontoplan!A:D,2,0)))","v":"Diverse Indkøb"}]
["2019-07-17",88,"Modtaget fra GHR-veteran pakning M24",null,null,12310,2000,null,{"$f":"IF(F1888=\"\",\"\",IF(ISERROR(VLOOKUP(F1888,[1]Kontoplan!A:D,2,0)),\"Konto findes ikke!\",VLOOKUP(F1888,[1]Kontoplan!A:D,2,0)))","v":"Bank konto"}]
["2019-07-17",88,"Modtaget fra GHR-veteran pakning M24",null,null,1110,null,2000,{"$f":"IF(F1889=\"\",\"\",IF(ISERROR(VLOOKUP(F1889,[1]Kontoplan!A:D,2,0)),\"Konto findes ikke!\",VLOOKUP(F1889,[1]Kontoplan!A:D,2,0)))","v":"Salg af Reservedele"}]
["2019-07-18",89,"Kontingent, J.P.Christoffersson",1,2020,1000,null,175,{"$f":"IF(F1890=\"\",\"\",IF(ISERROR(VLOOKUP(F1890,[1]Kontoplan!A:D,2,0)),\"Konto findes ikke!\",VLOOKUP(F1890,[1]Kontoplan!A:D,2,0)))","v":"Kontingenter"}]
["2019-07-18",89,"Kontingent, J.P.Christoffersson",null,null,12310,175,null,{"$f":"IF(F1891=\"\",\"\",IF(ISERROR(VLOOKUP(F1891,[1]Kontoplan!A:D,2,0)),\"Konto findes ikke!\",VLOOKUP(F1891,[1]Kontoplan!A:D,2,0)))","v":"Bank konto"}]
["2019-07-24",90,"Kontingent, Torben Westring",19,2020,1000,null,175,{"$f":"IF(F1892=\"\",\"\",IF(ISERROR(VLOOKUP(F1892,[1]Kontoplan!A:D,2,0)),\"Konto findes ikke!\",VLOOKUP(F1892,[1]Kontoplan!A:D,2,0)))","v":"Kontingenter"}]
["2019-07-24",90,"Kontingent, Torben Westring",null,null,12310,175,null,{"$f":"IF(F1893=\"\",\"\",IF(ISERROR(VLOOKUP(F1893,[1]Kontoplan!A:D,2,0)),\"Konto findes ikke!\",VLOOKUP(F1893,[1]Kontoplan!A:D,2,0)))","v":"Bank konto"}]
["2019-07-24",91,"Kontingent, Poul Lang-Jensen",96,2020,1000,null,175,{"$f":"IF(F1894=\"\",\"\",IF(ISERROR(VLOOKUP(F1894,[1]Kontoplan!A:D,2,0)),\"Konto findes ikke!\",VLOOKUP(F1894,[1]Kontoplan!A:D,2,0)))","v":"Kontingenter"}]
["2019-07-24",91,"Kontingent, Poul Lang-Jensen",null,null,12310,175,null,{"$f":"IF(F1895=\"\",\"\",IF(ISERROR(VLOOKUP(F1895,[1]Kontoplan!A:D,2,0)),\"Konto findes ikke!\",VLOOKUP(F1895,[1]Kontoplan!A:D,2,0)))","v":"Bank konto"}]
["2019-07-25",92,"Kontingent, Sven H. Jørgensen",91,2020,1000,null,175,{"$f":"IF(F1896=\"\",\"\",IF(ISERROR(VLOOKUP(F1896,[1]Kontoplan!A:D,2,0)),\"Konto findes ikke!\",VLOOKUP(F1896,[1]Kontoplan!A:D,2,0)))","v":"Kontingenter"}]
["2019-07-25",92,"Kontingent, Sven H. Jørgensen",null,null,12310,175,null,{"$f":"IF(F1897=\"\",\"\",IF(ISERROR(VLOOKUP(F1897,[1]Kontoplan!A:D,2,0)),\"Konto findes ikke!\",VLOOKUP(F1897,[1]Kontoplan!A:D,2,0)))","v":"Bank konto"}]
["2019-07-26",93,"Kontingent, Klaus Bendixen",100,2021,1000,null,175,{"$f":"IF(F1898=\"\",\"\",IF(ISERROR(VLOOKUP(F1898,[1]Kontoplan!A:D,2,0)),\"Konto findes ikke!\",VLOOKUP(F1898,[1]Kontoplan!A:D,2,0)))","v":"Kontingenter"}]
["2019-07-26",93,"Kontingent, Klaus Bendixen",null,null,12310,175,null,{"$f":"IF(F1899=\"\",\"\",IF(ISERROR(VLOOKUP(F1899,[1]Kontoplan!A:D,2,0)),\"Konto findes ikke!\",VLOOKUP(F1899,[1]Kontoplan!A:D,2,0)))","v":"Bank konto"}]
["2019-07-27",94,"udlæg til flytning af m24",null,null,12310,null,82.65,{"$f":"IF(F1900=\"\",\"\",IF(ISERROR(VLOOKUP(F1900,[1]Kontoplan!A:D,2,0)),\"Konto findes ikke!\",VLOOKUP(F1900,[1]Kontoplan!A:D,2,0)))","v":"Bank konto"}]
["2019-07-27",94,"udlæg til flytning af m25",null,null,2100,82.65,null,{"$f":"IF(F1901=\"\",\"\",IF(ISERROR(VLOOKUP(F1901,[1]Kontoplan!A:D,2,0)),\"Konto findes ikke!\",VLOOKUP(F1901,[1]Kontoplan!A:D,2,0)))","v":"Forplejning til møder/Rejser"}]
["2019-07-28",95,"Kontingent, Richard Finne",48,2020,1000,null,175,{"$f":"IF(F1902=\"\",\"\",IF(ISERROR(VLOOKUP(F1902,[1]Kontoplan!A:D,2,0)),\"Konto findes ikke!\",VLOOKUP(F1902,[1]Kontoplan!A:D,2,0)))","v":"Kontingenter"}]
["2019-07-28",95,"Kontingent, Richard Finne",null,null,12310,175,null,{"$f":"IF(F1903=\"\",\"\",IF(ISERROR(VLOOKUP(F1903,[1]Kontoplan!A:D,2,0)),\"Konto findes ikke!\",VLOOKUP(F1903,[1]Kontoplan!A:D,2,0)))","v":"Bank konto"}]
["2019-07-28",96,"Krans til P.K.",null,null,12310,50,null,{"$f":"IF(F1904=\"\",\"\",IF(ISERROR(VLOOKUP(F1904,[1]Kontoplan!A:D,2,0)),\"Konto findes ikke!\",VLOOKUP(F1904,[1]Kontoplan!A:D,2,0)))","v":"Bank konto"}]
["2019-07-28",96,"Krans til P.K.",null,null,1090,null,50,{"$f":"IF(F1905=\"\",\"\",IF(ISERROR(VLOOKUP(F1905,[1]Kontoplan!A:D,2,0)),\"Konto findes ikke!\",VLOOKUP(F1905,[1]Kontoplan!A:D,2,0)))","v":"Indsamling begravelser"}]
["2019-07-28",97,"Kontingent, Jens Aksel Givskov",47,2020,1000,null,175,{"$f":"IF(F1906=\"\",\"\",IF(ISERROR(VLOOKUP(F1906,[1]Kontoplan!A:D,2,0)),\"Konto findes ikke!\",VLOOKUP(F1906,[1]Kontoplan!A:D,2,0)))","v":"Kontingenter"}]
["2019-07-28",97,"Kontingent, Jens Aksel Givskov",null,null,12310,175,null,{"$f":"IF(F1907=\"\",\"\",IF(ISERROR(VLOOKUP(F1907,[1]Kontoplan!A:D,2,0)),\"Konto findes ikke!\",VLOOKUP(F1907,[1]Kontoplan!A:D,2,0)))","v":"Bank konto"}]
["2019-07-29",98,"Kontingent, Jens-Peter Rasmussen",23,2020,1000,null,175,{"$f":"IF(F1908=\"\",\"\",IF(ISERROR(VLOOKUP(F1908,[1]Kontoplan!A:D,2,0)),\"Konto findes ikke!\",VLOOKUP(F1908,[1]Kontoplan!A:D,2,0)))","v":"Kontingenter"}]
["2019-07-29",98,"Kontingent, Jens-Peter Rasmussen",null,null,12310,175,null,{"$f":"IF(F1909=\"\",\"\",IF(ISERROR(VLOOKUP(F1909,[1]Kontoplan!A:D,2,0)),\"Konto findes ikke!\",VLOOKUP(F1909,[1]Kontoplan!A:D,2,0)))","v":"Bank konto"}]
["2019-07-29",99,"Krans til P.K.",null,null,12310,100,null,{"$f":"IF(F1910=\"\",\"\",IF(ISERROR(VLOOKUP(F1910,[1]Kontoplan!A:D,2,0)),\"Konto findes ikke!\",VLOOKUP(F1910,[1]Kontoplan!A:D,2,0)))","v":"Bank konto"}]
["2019-07-29",99,"Krans til P.K.",null,null,1090,null,100,{"$f":"IF(F1911=\"\",\"\",IF(ISERROR(VLOOKUP(F1911,[1]Kontoplan!A:D,2,0)),\"Konto findes ikke!\",VLOOKUP(F1911,[1]Kontoplan!A:D,2,0)))","v":"Indsamling begravelser"}]
["2019-07-29",100,"Kontingent, Per A. Nielsen",null,null,1000,null,175,{"$f":"IF(F1912=\"\",\"\",IF(ISERROR(VLOOKUP(F1912,[1]Kontoplan!A:D,2,0)),\"Konto findes ikke!\",VLOOKUP(F1912,[1]Kontoplan!A:D,2,0)))","v":"Kontingenter"},"Skal overføres til SBD"]
["2019-07-29",100,"Kontingent, Per A. Nielsen",null,null,12310,175,null,{"$f":"IF(F1913=\"\",\"\",IF(ISERROR(VLOOKUP(F1913,[1]Kontoplan!A:D,2,0)),\"Konto findes ikke!\",VLOOKUP(F1913,[1]Kontoplan!A:D,2,0)))","v":"Bank konto"},"Skal overføres til SBD"]
["2019-07-29",101,"Krans til P.K.",null,null,12310,50,null,{"$f":"IF(F1914=\"\",\"\",IF(ISERROR(VLOOKUP(F1914,[1]Kontoplan!A:D,2,0)),\"Konto findes ikke!\",VLOOKUP(F1914,[1]Kontoplan!A:D,2,0)))","v":"Bank konto"}]
["2019-07-29",101,"Krans til P.K.",null,null,1090,null,50,{"$f":"IF(F1915=\"\",\"\",IF(ISERROR(VLOOKUP(F1915,[1]Kontoplan!A:D,2,0)),\"Konto findes ikke!\",VLOOKUP(F1915,[1]Kontoplan!A:D,2,0)))","v":"Indsamling begravelser"}]
["2019-07-29",102,"Krans til P.K.",null,null,12310,50,null,{"$f":"IF(F1916=\"\",\"\",IF(ISERROR(VLOOKUP(F1916,[1]Kontoplan!A:D,2,0)),\"Konto findes ikke!\",VLOOKUP(F1916,[1]Kontoplan!A:D,2,0)))","v":"Bank konto"}]
["2019-07-29",102,"Krans til P.K.",null,null,1090,null,50,{"$f":"IF(F1917=\"\",\"\",IF(ISERROR(VLOOKUP(F1917,[1]Kontoplan!A:D,2,0)),\"Konto findes ikke!\",VLOOKUP(F1917,[1]Kontoplan!A:D,2,0)))","v":"Indsamling begravelser"}]
["2019-07-29",103,"Krans til P.K.",null,null,12310,100,null,{"$f":"IF(F1918=\"\",\"\",IF(ISERROR(VLOOKUP(F1918,[1]Kontoplan!A:D,2,0)),\"Konto findes ikke!\",VLOOKUP(F1918,[1]Kontoplan!A:D,2,0)))","v":"Bank konto"}]
["2019-07-29",103,"Krans til P.K.",null,null,1090,null,100,{"$f":"IF(F1919=\"\",\"\",IF(ISERROR(VLOOKUP(F1919,[1]Kontoplan!A:D,2,0)),\"Konto findes ikke!\",VLOOKUP(F1919,[1]Kontoplan!A:D,2,0)))","v":"Indsamling begravelser"}]
["2019-07-29",104,"Krans til P.K.",null,null,12310,50,null,{"$f":"IF(F1920=\"\",\"\",IF(ISERROR(VLOOKUP(F1920,[1]Kontoplan!A:D,2,0)),\"Konto findes ikke!\",VLOOKUP(F1920,[1]Kontoplan!A:D,2,0)))","v":"Bank konto"}]
["2019-07-29",104,"Krans til P.K.",null,null,1090,null,50,{"$f":"IF(F1921=\"\",\"\",IF(ISERROR(VLOOKUP(F1921,[1]Kontoplan!A:D,2,0)),\"Konto findes ikke!\",VLOOKUP(F1921,[1]Kontoplan!A:D,2,0)))","v":"Indsamling begravelser"}]
["2019-07-30",105,"Krans til P.K.",null,null,12310,200,null,{"$f":"IF(F1922=\"\",\"\",IF(ISERROR(VLOOKUP(F1922,[1]Kontoplan!A:D,2,0)),\"Konto findes ikke!\",VLOOKUP(F1922,[1]Kontoplan!A:D,2,0)))","v":"Bank konto"}]
["2019-07-30",105,"Krans til P.K.",null,null,1090,null,200,{"$f":"IF(F1923=\"\",\"\",IF(ISERROR(VLOOKUP(F1923,[1]Kontoplan!A:D,2,0)),\"Konto findes ikke!\",VLOOKUP(F1923,[1]Kontoplan!A:D,2,0)))","v":"Indsamling begravelser"}]
["2019-07-30",106,"Kontingent, Jens Svendsen",38,2020,1000,null,175,{"$f":"IF(F1924=\"\",\"\",IF(ISERROR(VLOOKUP(F1924,[1]Kontoplan!A:D,2,0)),\"Konto findes ikke!\",VLOOKUP(F1924,[1]Kontoplan!A:D,2,0)))","v":"Kontingenter"}]
["2019-07-30",106,"Kontingent, Jens Svendsen",null,null,12310,175,null,{"$f":"IF(F1925=\"\",\"\",IF(ISERROR(VLOOKUP(F1925,[1]Kontoplan!A:D,2,0)),\"Konto findes ikke!\",VLOOKUP(F1925,[1]Kontoplan!A:D,2,0)))","v":"Bank konto"}]
["2019-07-31",107,"Kontingent, Allan Olsen",66,2020,1000,null,175,{"$f":"IF(F1926=\"\",\"\",IF(ISERROR(VLOOKUP(F1926,[1]Kontoplan!A:D,2,0)),\"Konto findes ikke!\",VLOOKUP(F1926,[1]Kontoplan!A:D,2,0)))","v":"Kontingenter"}]
["2019-07-31",107,"Kontingent, Allan Olsen",null,null,12310,175,null,{"$f":"IF(F1927=\"\",\"\",IF(ISERROR(VLOOKUP(F1927,[1]Kontoplan!A:D,2,0)),\"Konto findes ikke!\",VLOOKUP(F1927,[1]Kontoplan!A:D,2,0)))","v":"Bank konto"}]
["2019-07-31",108,"Krans til P.K.",null,null,12310,300,null,{"$f":"IF(F1928=\"\",\"\",IF(ISERROR(VLOOKUP(F1928,[1]Kontoplan!A:D,2,0)),\"Konto findes ikke!\",VLOOKUP(F1928,[1]Kontoplan!A:D,2,0)))","v":"Bank konto"}]
["2019-07-31",108,"Krans til P.K.",null,null,1090,null,300,{"$f":"IF(F1929=\"\",\"\",IF(ISERROR(VLOOKUP(F1929,[1]Kontoplan!A:D,2,0)),\"Konto findes ikke!\",VLOOKUP(F1929,[1]Kontoplan!A:D,2,0)))","v":"Indsamling begravelser"}]
["2019-08-01",109,"Kontingent, Jan Witzner Bergliot",8,2020,1000,null,175,{"$f":"IF(F1930=\"\",\"\",IF(ISERROR(VLOOKUP(F1930,[1]Kontoplan!A:D,2,0)),\"Konto findes ikke!\",VLOOKUP(F1930,[1]Kontoplan!A:D,2,0)))","v":"Kontingenter"}]
["2019-08-01",109,"Kontingent, Jan Witzner Bergliot",null,null,12310,175,null,{"$f":"IF(F1931=\"\",\"\",IF(ISERROR(VLOOKUP(F1931,[1]Kontoplan!A:D,2,0)),\"Konto findes ikke!\",VLOOKUP(F1931,[1]Kontoplan!A:D,2,0)))","v":"Bank konto"}]
["2019-08-02",110,"Kontingent, Martin Jacob Hansen",90,2020,1000,null,175,{"$f":"IF(F1932=\"\",\"\",IF(ISERROR(VLOOKUP(F1932,[1]Kontoplan!A:D,2,0)),\"Konto findes ikke!\",VLOOKUP(F1932,[1]Kontoplan!A:D,2,0)))","v":"Kontingenter"}]
["2019-08-02",110,"Kontingent, Martin Jacob Hansen",null,null,12310,175,null,{"$f":"IF(F1933=\"\",\"\",IF(ISERROR(VLOOKUP(F1933,[1]Kontoplan!A:D,2,0)),\"Konto findes ikke!\",VLOOKUP(F1933,[1]Kontoplan!A:D,2,0)))","v":"Bank konto"}]
["2019-08-02",111,"Krans til P.K.",null,null,12310,100,null,{"$f":"IF(F1934=\"\",\"\",IF(ISERROR(VLOOKUP(F1934,[1]Kontoplan!A:D,2,0)),\"Konto findes ikke!\",VLOOKUP(F1934,[1]Kontoplan!A:D,2,0)))","v":"Bank konto"}]
["2019-08-02",111,"Krans til P.K.",null,null,1090,null,100,{"$f":"IF(F1935=\"\",\"\",IF(ISERROR(VLOOKUP(F1935,[1]Kontoplan!A:D,2,0)),\"Konto findes ikke!\",VLOOKUP(F1935,[1]Kontoplan!A:D,2,0)))","v":"Indsamling begravelser"}]
["2019-08-02",112,"Kontingent, Poul Guldving",69,2020,1000,null,175,{"$f":"IF(F1936=\"\",\"\",IF(ISERROR(VLOOKUP(F1936,[1]Kontoplan!A:D,2,0)),\"Konto findes ikke!\",VLOOKUP(F1936,[1]Kontoplan!A:D,2,0)))","v":"Kontingenter"}]
["2019-08-02",112,"Kontingent, Poul Guldving",null,null,12310,175,null,{"$f":"IF(F1937=\"\",\"\",IF(ISERROR(VLOOKUP(F1937,[1]Kontoplan!A:D,2,0)),\"Konto findes ikke!\",VLOOKUP(F1937,[1]Kontoplan!A:D,2,0)))","v":"Bank konto"}]
["2019-08-04",113,"Kontingent, John Bloch Andersen",61,2020,1000,null,175,{"$f":"IF(F1938=\"\",\"\",IF(ISERROR(VLOOKUP(F1938,[1]Kontoplan!A:D,2,0)),\"Konto findes ikke!\",VLOOKUP(F1938,[1]Kontoplan!A:D,2,0)))","v":"Kontingenter"}]
["2019-08-04",113,"Kontingent, John Bloch Andersen",null,null,12310,175,null,{"$f":"IF(F1939=\"\",\"\",IF(ISERROR(VLOOKUP(F1939,[1]Kontoplan!A:D,2,0)),\"Konto findes ikke!\",VLOOKUP(F1939,[1]Kontoplan!A:D,2,0)))","v":"Bank konto"}]
["2019-08-04",114,"Krans til P.K.",null,null,12310,100,null,{"$f":"IF(F1940=\"\",\"\",IF(ISERROR(VLOOKUP(F1940,[1]Kontoplan!A:D,2,0)),\"Konto findes ikke!\",VLOOKUP(F1940,[1]Kontoplan!A:D,2,0)))","v":"Bank konto"}]
["2019-08-04",114,"Krans til P.K.",null,null,1090,null,100,{"$f":"IF(F1941=\"\",\"\",IF(ISERROR(VLOOKUP(F1941,[1]Kontoplan!A:D,2,0)),\"Konto findes ikke!\",VLOOKUP(F1941,[1]Kontoplan!A:D,2,0)))","v":"Indsamling begravelser"}]
["2019-08-05",115,"Kontingent, Kurt Erik Larsen",14,2020,1000,null,175,{"$f":"IF(F1942=\"\",\"\",IF(ISERROR(VLOOKUP(F1942,[1]Kontoplan!A:D,2,0)),\"Konto findes ikke!\",VLOOKUP(F1942,[1]Kontoplan!A:D,2,0)))","v":"Kontingenter"}]
["2019-08-05",115,"Kontingent, Kurt Erik Larsen",null,null,12310,175,null,{"$f":"IF(F1943=\"\",\"\",IF(ISERROR(VLOOKUP(F1943,[1]Kontoplan!A:D,2,0)),\"Konto findes ikke!\",VLOOKUP(F1943,[1]Kontoplan!A:D,2,0)))","v":"Bank konto"}]
["2019-08-05",116,"Krans til P.K.",null,null,12310,30,null,{"$f":"IF(F1944=\"\",\"\",IF(ISERROR(VLOOKUP(F1944,[1]Kontoplan!A:D,2,0)),\"Konto findes ikke!\",VLOOKUP(F1944,[1]Kontoplan!A:D,2,0)))","v":"Bank konto"}]
["2019-08-05",116,"Krans til P.K.",null,null,1090,null,30,{"$f":"IF(F1945=\"\",\"\",IF(ISERROR(VLOOKUP(F1945,[1]Kontoplan!A:D,2,0)),\"Konto findes ikke!\",VLOOKUP(F1945,[1]Kontoplan!A:D,2,0)))","v":"Indsamling begravelser"}]
["2019-08-06",117,"Kontingent, Michael Bendtsen",59,2020,1000,null,175,{"$f":"IF(F1946=\"\",\"\",IF(ISERROR(VLOOKUP(F1946,[1]Kontoplan!A:D,2,0)),\"Konto findes ikke!\",VLOOKUP(F1946,[1]Kontoplan!A:D,2,0)))","v":"Kontingenter"}]
["2019-08-06",117,"Kontingent, Michael Bendtsen",null,null,12310,175,null,{"$f":"IF(F1947=\"\",\"\",IF(ISERROR(VLOOKUP(F1947,[1]Kontoplan!A:D,2,0)),\"Konto findes ikke!\",VLOOKUP(F1947,[1]Kontoplan!A:D,2,0)))","v":"Bank konto"}]
["2019-08-08",118,"Kontingent, Svend Kofoed",82,2020,1000,null,175,{"$f":"IF(F1948=\"\",\"\",IF(ISERROR(VLOOKUP(F1948,[1]Kontoplan!A:D,2,0)),\"Konto findes ikke!\",VLOOKUP(F1948,[1]Kontoplan!A:D,2,0)))","v":"Kontingenter"}]
["2019-08-08",118,"Kontingent, Svend Kofoed",null,null,12310,175,null,{"$f":"IF(F1949=\"\",\"\",IF(ISERROR(VLOOKUP(F1949,[1]Kontoplan!A:D,2,0)),\"Konto findes ikke!\",VLOOKUP(F1949,[1]Kontoplan!A:D,2,0)))","v":"Bank konto"}]
["2019-08-09",119,"Kontingent, Johnny S. E. Jacobsen",89,2020,1000,null,175,{"$f":"IF(F1950=\"\",\"\",IF(ISERROR(VLOOKUP(F1950,[1]Kontoplan!A:D,2,0)),\"Konto findes ikke!\",VLOOKUP(F1950,[1]Kontoplan!A:D,2,0)))","v":"Kontingenter"}]
["2019-08-09",119,"Kontingent, Johnny S. E. Jacobsen",null,null,12310,175,null,{"$f":"IF(F1951=\"\",\"\",IF(ISERROR(VLOOKUP(F1951,[1]Kontoplan!A:D,2,0)),\"Konto findes ikke!\",VLOOKUP(F1951,[1]Kontoplan!A:D,2,0)))","v":"Bank konto"}]
["2019-08-10",120,"Kontingent, Kim Jensen",29,2020,1000,null,175,{"$f":"IF(F1952=\"\",\"\",IF(ISERROR(VLOOKUP(F1952,[1]Kontoplan!A:D,2,0)),\"Konto findes ikke!\",VLOOKUP(F1952,[1]Kontoplan!A:D,2,0)))","v":"Kontingenter"}]
["2019-08-10",120,"Kontingent, Kim Jensen",null,null,12310,175,null,{"$f":"IF(F1953=\"\",\"\",IF(ISERROR(VLOOKUP(F1953,[1]Kontoplan!A:D,2,0)),\"Konto findes ikke!\",VLOOKUP(F1953,[1]Kontoplan!A:D,2,0)))","v":"Bank konto"}]
["2019-08-12",121,"Krans til P.K.",null,null,12310,50,null,{"$f":"IF(F1954=\"\",\"\",IF(ISERROR(VLOOKUP(F1954,[1]Kontoplan!A:D,2,0)),\"Konto findes ikke!\",VLOOKUP(F1954,[1]Kontoplan!A:D,2,0)))","v":"Bank konto"}]
["2019-08-12",121,"Krans til P.K.",null,null,1090,null,50,{"$f":"IF(F1955=\"\",\"\",IF(ISERROR(VLOOKUP(F1955,[1]Kontoplan!A:D,2,0)),\"Konto findes ikke!\",VLOOKUP(F1955,[1]Kontoplan!A:D,2,0)))","v":"Indsamling begravelser"}]
["2019-08-12",122,"Kontingent, Sven Holm Jensen",7,2020,1000,null,175,{"$f":"IF(F1956=\"\",\"\",IF(ISERROR(VLOOKUP(F1956,[1]Kontoplan!A:D,2,0)),\"Konto findes ikke!\",VLOOKUP(F1956,[1]Kontoplan!A:D,2,0)))","v":"Kontingenter"}]
["2019-08-12",122,"Kontingent, Sven Holm Jensen",null,null,12310,175,null,{"$f":"IF(F1957=\"\",\"\",IF(ISERROR(VLOOKUP(F1957,[1]Kontoplan!A:D,2,0)),\"Konto findes ikke!\",VLOOKUP(F1957,[1]Kontoplan!A:D,2,0)))","v":"Bank konto"}]
["2019-08-12",123,"Kontingent, Flemming Kure",84,2020,1000,null,175,{"$f":"IF(F1958=\"\",\"\",IF(ISERROR(VLOOKUP(F1958,[1]Kontoplan!A:D,2,0)),\"Konto findes ikke!\",VLOOKUP(F1958,[1]Kontoplan!A:D,2,0)))","v":"Kontingenter"}]
["2019-08-12",123,"Kontingent, Flemming Kure",null,null,12310,175,null,{"$f":"IF(F1959=\"\",\"\",IF(ISERROR(VLOOKUP(F1959,[1]Kontoplan!A:D,2,0)),\"Konto findes ikke!\",VLOOKUP(F1959,[1]Kontoplan!A:D,2,0)))","v":"Bank konto"}]
["2019-08-12",124,"Krans til P.K.",null,null,12310,50,null,{"$f":"IF(F1960=\"\",\"\",IF(ISERROR(VLOOKUP(F1960,[1]Kontoplan!A:D,2,0)),\"Konto findes ikke!\",VLOOKUP(F1960,[1]Kontoplan!A:D,2,0)))","v":"Bank konto"}]
["2019-08-12",124,"Krans til P.K.",null,null,1090,null,50,{"$f":"IF(F1961=\"\",\"\",IF(ISERROR(VLOOKUP(F1961,[1]Kontoplan!A:D,2,0)),\"Konto findes ikke!\",VLOOKUP(F1961,[1]Kontoplan!A:D,2,0)))","v":"Indsamling begravelser"}]
["2019-08-14",125,"Kontingent, Carl-Erik Larsen",34,2020,1000,null,175,{"$f":"IF(F1962=\"\",\"\",IF(ISERROR(VLOOKUP(F1962,[1]Kontoplan!A:D,2,0)),\"Konto findes ikke!\",VLOOKUP(F1962,[1]Kontoplan!A:D,2,0)))","v":"Kontingenter"}]
["2019-08-14",125,"Kontingent, Carl-Erik Larsen",null,null,12310,175,null,{"$f":"IF(F1963=\"\",\"\",IF(ISERROR(VLOOKUP(F1963,[1]Kontoplan!A:D,2,0)),\"Konto findes ikke!\",VLOOKUP(F1963,[1]Kontoplan!A:D,2,0)))","v":"Bank konto"}]
["2019-08-15",126,"Kontingent, Palle Schrøder Andersen",45,2020,1000,null,175,{"$f":"IF(F1964=\"\",\"\",IF(ISERROR(VLOOKUP(F1964,[1]Kontoplan!A:D,2,0)),\"Konto findes ikke!\",VLOOKUP(F1964,[1]Kontoplan!A:D,2,0)))","v":"Kontingenter"}]
["2019-08-15",126,"Kontingent, Palle Schrøder Andersen",null,null,12310,175,null,{"$f":"IF(F1965=\"\",\"\",IF(ISERROR(VLOOKUP(F1965,[1]Kontoplan!A:D,2,0)),\"Konto findes ikke!\",VLOOKUP(F1965,[1]Kontoplan!A:D,2,0)))","v":"Bank konto"}]
["2019-08-16",127,"Kontingent, John Johannes Jensen",71,2020,1000,null,175,{"$f":"IF(F1966=\"\",\"\",IF(ISERROR(VLOOKUP(F1966,[1]Kontoplan!A:D,2,0)),\"Konto findes ikke!\",VLOOKUP(F1966,[1]Kontoplan!A:D,2,0)))","v":"Kontingenter"}]
["2019-08-16",127,"Kontingent, John Johannes Jensen",null,null,12310,175,null,{"$f":"IF(F1967=\"\",\"\",IF(ISERROR(VLOOKUP(F1967,[1]Kontoplan!A:D,2,0)),\"Konto findes ikke!\",VLOOKUP(F1967,[1]Kontoplan!A:D,2,0)))","v":"Bank konto"}]
["2019-08-16",128,"Kontingent, Jørn Kofoed Pedersen",24,2020,1000,null,175,{"$f":"IF(F1968=\"\",\"\",IF(ISERROR(VLOOKUP(F1968,[1]Kontoplan!A:D,2,0)),\"Konto findes ikke!\",VLOOKUP(F1968,[1]Kontoplan!A:D,2,0)))","v":"Kontingenter"}]
["2019-08-16",128,"Kontingent, Jørn Kofoed Pedersen",null,null,12310,175,null,{"$f":"IF(F1969=\"\",\"\",IF(ISERROR(VLOOKUP(F1969,[1]Kontoplan!A:D,2,0)),\"Konto findes ikke!\",VLOOKUP(F1969,[1]Kontoplan!A:D,2,0)))","v":"Bank konto"}]
["2019-08-16",129,"Kontingent, Bjarne Hansen",3,2020,1000,null,175,{"$f":"IF(F1970=\"\",\"\",IF(ISERROR(VLOOKUP(F1970,[1]Kontoplan!A:D,2,0)),\"Konto findes ikke!\",VLOOKUP(F1970,[1]Kontoplan!A:D,2,0)))","v":"Kontingenter"}]
["2019-08-16",129,"Kontingent, Bjarne Hansen",null,null,12310,175,null,{"$f":"IF(F1971=\"\",\"\",IF(ISERROR(VLOOKUP(F1971,[1]Kontoplan!A:D,2,0)),\"Konto findes ikke!\",VLOOKUP(F1971,[1]Kontoplan!A:D,2,0)))","v":"Bank konto"}]
["2019-08-19",130,"Morten udlæg til oliekøler",null,null,12310,null,456.44,{"$f":"IF(F1972=\"\",\"\",IF(ISERROR(VLOOKUP(F1972,[1]Kontoplan!A:D,2,0)),\"Konto findes ikke!\",VLOOKUP(F1972,[1]Kontoplan!A:D,2,0)))","v":"Bank konto"}]
["2019-08-19",130,"Morten udlæg til oliekøler",null,null,2080,456.44,null,{"$f":"IF(F1973=\"\",\"\",IF(ISERROR(VLOOKUP(F1973,[1]Kontoplan!A:D,2,0)),\"Konto findes ikke!\",VLOOKUP(F1973,[1]Kontoplan!A:D,2,0)))","v":"Reservedele"}]
["2019-08-20",131,"Kontingent, Flemming Pedersen",80,2020,1000,null,175,{"$f":"IF(F1974=\"\",\"\",IF(ISERROR(VLOOKUP(F1974,[1]Kontoplan!A:D,2,0)),\"Konto findes ikke!\",VLOOKUP(F1974,[1]Kontoplan!A:D,2,0)))","v":"Kontingenter"}]
["2019-08-20",131,"Kontingent, Flemming Pedersen",null,null,12310,175,null,{"$f":"IF(F1975=\"\",\"\",IF(ISERROR(VLOOKUP(F1975,[1]Kontoplan!A:D,2,0)),\"Konto findes ikke!\",VLOOKUP(F1975,[1]Kontoplan!A:D,2,0)))","v":"Bank konto"}]
["2019-08-21",132,"Kontingent, Fini Dahl",25,2020,1000,null,175,{"$f":"IF(F1976=\"\",\"\",IF(ISERROR(VLOOKUP(F1976,[1]Kontoplan!A:D,2,0)),\"Konto findes ikke!\",VLOOKUP(F1976,[1]Kontoplan!A:D,2,0)))","v":"Kontingenter"}]
["2019-08-21",132,"Kontingent, Fini Dahl",null,null,12310,175,null,{"$f":"IF(F1977=\"\",\"\",IF(ISERROR(VLOOKUP(F1977,[1]Kontoplan!A:D,2,0)),\"Konto findes ikke!\",VLOOKUP(F1977,[1]Kontoplan!A:D,2,0)))","v":"Bank konto"}]
["2019-08-21",133,"Gave Perle",null,null,12310,50,null,{"$f":"IF(F1978=\"\",\"\",IF(ISERROR(VLOOKUP(F1978,[1]Kontoplan!A:D,2,0)),\"Konto findes ikke!\",VLOOKUP(F1978,[1]Kontoplan!A:D,2,0)))","v":"Bank konto"}]
["2019-08-21",133,"Gave Perle",null,null,1095,null,50,{"$f":"IF(F1979=\"\",\"\",IF(ISERROR(VLOOKUP(F1979,[1]Kontoplan!A:D,2,0)),\"Konto findes ikke!\",VLOOKUP(F1979,[1]Kontoplan!A:D,2,0)))","v":"Indsamling til Gave"}]
["2019-08-21",134,"Gave Perle",null,null,12310,50,null,{"$f":"IF(F1980=\"\",\"\",IF(ISERROR(VLOOKUP(F1980,[1]Kontoplan!A:D,2,0)),\"Konto findes ikke!\",VLOOKUP(F1980,[1]Kontoplan!A:D,2,0)))","v":"Bank konto"}]
["2019-08-21",134,"Gave Perle",null,null,1095,null,50,{"$f":"IF(F1981=\"\",\"\",IF(ISERROR(VLOOKUP(F1981,[1]Kontoplan!A:D,2,0)),\"Konto findes ikke!\",VLOOKUP(F1981,[1]Kontoplan!A:D,2,0)))","v":"Indsamling til Gave"}]
["2019-08-21",135,"Gave Perle",null,null,12310,50,null,{"$f":"IF(F1982=\"\",\"\",IF(ISERROR(VLOOKUP(F1982,[1]Kontoplan!A:D,2,0)),\"Konto findes ikke!\",VLOOKUP(F1982,[1]Kontoplan!A:D,2,0)))","v":"Bank konto"}]
["2019-08-21",135,"Gave Perle",null,null,1095,null,50,{"$f":"IF(F1983=\"\",\"\",IF(ISERROR(VLOOKUP(F1983,[1]Kontoplan!A:D,2,0)),\"Konto findes ikke!\",VLOOKUP(F1983,[1]Kontoplan!A:D,2,0)))","v":"Indsamling til Gave"}]
["2019-08-21",136,"P.K. Begravelse",null,null,12310,null,1300,{"$f":"IF(F1984=\"\",\"\",IF(ISERROR(VLOOKUP(F1984,[1]Kontoplan!A:D,2,0)),\"Konto findes ikke!\",VLOOKUP(F1984,[1]Kontoplan!A:D,2,0)))","v":"Bank konto"}]
["2019-08-21",136,"P.K. Begravelse",null,null,2140,1300,null,{"$f":"IF(F1985=\"\",\"\",IF(ISERROR(VLOOKUP(F1985,[1]Kontoplan!A:D,2,0)),\"Konto findes ikke!\",VLOOKUP(F1985,[1]Kontoplan!A:D,2,0)))","v":"Begravelser"}]
["2019-08-22",137,"Gave Perle",null,null,12310,100,null,{"$f":"IF(F1986=\"\",\"\",IF(ISERROR(VLOOKUP(F1986,[1]Kontoplan!A:D,2,0)),\"Konto findes ikke!\",VLOOKUP(F1986,[1]Kontoplan!A:D,2,0)))","v":"Bank konto"}]
["2019-08-22",137,"Gave Perle",null,null,1095,null,100,{"$f":"IF(F1987=\"\",\"\",IF(ISERROR(VLOOKUP(F1987,[1]Kontoplan!A:D,2,0)),\"Konto findes ikke!\",VLOOKUP(F1987,[1]Kontoplan!A:D,2,0)))","v":"Indsamling til Gave"}]
["2019-08-22",138,"Gave Perle",null,null,12310,100,null,{"$f":"IF(F1988=\"\",\"\",IF(ISERROR(VLOOKUP(F1988,[1]Kontoplan!A:D,2,0)),\"Konto findes ikke!\",VLOOKUP(F1988,[1]Kontoplan!A:D,2,0)))","v":"Bank konto"}]
["2019-08-22",138,"Gave Perle",null,null,1095,null,100,{"$f":"IF(F1989=\"\",\"\",IF(ISERROR(VLOOKUP(F1989,[1]Kontoplan!A:D,2,0)),\"Konto findes ikke!\",VLOOKUP(F1989,[1]Kontoplan!A:D,2,0)))","v":"Indsamling til Gave"}]
["2019-08-23",139,"Gave Perle",null,null,12310,25,null,{"$f":"IF(F1990=\"\",\"\",IF(ISERROR(VLOOKUP(F1990,[1]Kontoplan!A:D,2,0)),\"Konto findes ikke!\",VLOOKUP(F1990,[1]Kontoplan!A:D,2,0)))","v":"Bank konto"}]
["2019-08-23",139,"Gave Perle",null,null,1095,null,25,{"$f":"IF(F1991=\"\",\"\",IF(ISERROR(VLOOKUP(F1991,[1]Kontoplan!A:D,2,0)),\"Konto findes ikke!\",VLOOKUP(F1991,[1]Kontoplan!A:D,2,0)))","v":"Indsamling til Gave"}]
["2019-08-23",140,"Gave Perle",null,null,12310,100,null,{"$f":"IF(F1992=\"\",\"\",IF(ISERROR(VLOOKUP(F1992,[1]Kontoplan!A:D,2,0)),\"Konto findes ikke!\",VLOOKUP(F1992,[1]Kontoplan!A:D,2,0)))","v":"Bank konto"}]
["2019-08-23",140,"Gave Perle",null,null,1095,null,100,{"$f":"IF(F1993=\"\",\"\",IF(ISERROR(VLOOKUP(F1993,[1]Kontoplan!A:D,2,0)),\"Konto findes ikke!\",VLOOKUP(F1993,[1]Kontoplan!A:D,2,0)))","v":"Indsamling til Gave"}]
["2019-08-23",141,"Gave Perle",null,null,12310,200,null,{"$f":"IF(F1994=\"\",\"\",IF(ISERROR(VLOOKUP(F1994,[1]Kontoplan!A:D,2,0)),\"Konto findes ikke!\",VLOOKUP(F1994,[1]Kontoplan!A:D,2,0)))","v":"Bank konto"}]
["2019-08-23",141,"Gave Perle",null,null,1095,null,200,{"$f":"IF(F1995=\"\",\"\",IF(ISERROR(VLOOKUP(F1995,[1]Kontoplan!A:D,2,0)),\"Konto findes ikke!\",VLOOKUP(F1995,[1]Kontoplan!A:D,2,0)))","v":"Indsamling til Gave"}]
["2019-08-23",142,"Gave Perle",null,null,12310,150,null,{"$f":"IF(F1996=\"\",\"\",IF(ISERROR(VLOOKUP(F1996,[1]Kontoplan!A:D,2,0)),\"Konto findes ikke!\",VLOOKUP(F1996,[1]Kontoplan!A:D,2,0)))","v":"Bank konto"}]
["2019-08-23",142,"Gave Perle",null,null,1095,null,150,{"$f":"IF(F1997=\"\",\"\",IF(ISERROR(VLOOKUP(F1997,[1]Kontoplan!A:D,2,0)),\"Konto findes ikke!\",VLOOKUP(F1997,[1]Kontoplan!A:D,2,0)))","v":"Indsamling til Gave"}]
["2019-08-23",143,"Kontingent, Johnny Kofoed",31,2020,1000,null,175,{"$f":"IF(F1998=\"\",\"\",IF(ISERROR(VLOOKUP(F1998,[1]Kontoplan!A:D,2,0)),\"Konto findes ikke!\",VLOOKUP(F1998,[1]Kontoplan!A:D,2,0)))","v":"Kontingenter"}]
["2019-08-23",143,"Kontingent, Johnny Kofoed",null,null,12310,175,null,{"$f":"IF(F1999=\"\",\"\",IF(ISERROR(VLOOKUP(F1999,[1]Kontoplan!A:D,2,0)),\"Konto findes ikke!\",VLOOKUP(F1999,[1]Kontoplan!A:D,2,0)))","v":"Bank konto"}]
["2019-08-23",144,"Gave Perle",null,null,12310,50,null,{"$f":"IF(F2000=\"\",\"\",IF(ISERROR(VLOOKUP(F2000,[1]Kontoplan!A:D,2,0)),\"Konto findes ikke!\",VLOOKUP(F2000,[1]Kontoplan!A:D,2,0)))","v":"Bank konto"}]
["2019-08-23",144,"Gave Perle",null,null,1095,null,50,{"$f":"IF(F2001=\"\",\"\",IF(ISERROR(VLOOKUP(F2001,[1]Kontoplan!A:D,2,0)),\"Konto findes ikke!\",VLOOKUP(F2001,[1]Kontoplan!A:D,2,0)))","v":"Indsamling til Gave"}]
["2019-08-26",145,"Kontingent, Birger Jønsson",101,2020,1000,null,175,{"$f":"IF(F2002=\"\",\"\",IF(ISERROR(VLOOKUP(F2002,[1]Kontoplan!A:D,2,0)),\"Konto findes ikke!\",VLOOKUP(F2002,[1]Kontoplan!A:D,2,0)))","v":"Kontingenter"}]
["2019-08-26",145,"Kontingent, Birger Jønsson",null,null,12310,175,null,{"$f":"IF(F2003=\"\",\"\",IF(ISERROR(VLOOKUP(F2003,[1]Kontoplan!A:D,2,0)),\"Konto findes ikke!\",VLOOKUP(F2003,[1]Kontoplan!A:D,2,0)))","v":"Bank konto"}]
["2019-08-26",146,"Gave Perle",null,null,12310,100,null,{"$f":"IF(F2004=\"\",\"\",IF(ISERROR(VLOOKUP(F2004,[1]Kontoplan!A:D,2,0)),\"Konto findes ikke!\",VLOOKUP(F2004,[1]Kontoplan!A:D,2,0)))","v":"Bank konto"}]
["2019-08-26",146,"Gave Perle",null,null,1095,null,100,{"$f":"IF(F2005=\"\",\"\",IF(ISERROR(VLOOKUP(F2005,[1]Kontoplan!A:D,2,0)),\"Konto findes ikke!\",VLOOKUP(F2005,[1]Kontoplan!A:D,2,0)))","v":"Indsamling til Gave"}]
["2019-08-26",147,"Gave Perle",null,null,12310,100,null,{"$f":"IF(F2006=\"\",\"\",IF(ISERROR(VLOOKUP(F2006,[1]Kontoplan!A:D,2,0)),\"Konto findes ikke!\",VLOOKUP(F2006,[1]Kontoplan!A:D,2,0)))","v":"Bank konto"}]
["2019-08-26",147,"Gave Perle",null,null,1095,null,100,{"$f":"IF(F2007=\"\",\"\",IF(ISERROR(VLOOKUP(F2007,[1]Kontoplan!A:D,2,0)),\"Konto findes ikke!\",VLOOKUP(F2007,[1]Kontoplan!A:D,2,0)))","v":"Indsamling til Gave"}]
["2019-08-26",148,"Gave Perle",null,null,12310,100,null,{"$f":"IF(F2008=\"\",\"\",IF(ISERROR(VLOOKUP(F2008,[1]Kontoplan!A:D,2,0)),\"Konto findes ikke!\",VLOOKUP(F2008,[1]Kontoplan!A:D,2,0)))","v":"Bank konto"}]
["2019-08-26",148,"Gave Perle",null,null,1095,null,100,{"$f":"IF(F2009=\"\",\"\",IF(ISERROR(VLOOKUP(F2009,[1]Kontoplan!A:D,2,0)),\"Konto findes ikke!\",VLOOKUP(F2009,[1]Kontoplan!A:D,2,0)))","v":"Indsamling til Gave"}]
["2019-08-26",149,"Kontingent, Kaare Hansen",60,2020,1000,null,175,{"$f":"IF(F2010=\"\",\"\",IF(ISERROR(VLOOKUP(F2010,[1]Kontoplan!A:D,2,0)),\"Konto findes ikke!\",VLOOKUP(F2010,[1]Kontoplan!A:D,2,0)))","v":"Kontingenter"}]
["2019-08-26",149,"Kontingent, Kaare Hansen",null,null,12310,175,null,{"$f":"IF(F2011=\"\",\"\",IF(ISERROR(VLOOKUP(F2011,[1]Kontoplan!A:D,2,0)),\"Konto findes ikke!\",VLOOKUP(F2011,[1]Kontoplan!A:D,2,0)))","v":"Bank konto"}]
["2019-08-26",150,"Gave Perle",null,null,12310,50,null,{"$f":"IF(F2012=\"\",\"\",IF(ISERROR(VLOOKUP(F2012,[1]Kontoplan!A:D,2,0)),\"Konto findes ikke!\",VLOOKUP(F2012,[1]Kontoplan!A:D,2,0)))","v":"Bank konto"}]
["2019-08-26",150,"Gave Perle",null,null,1095,null,50,{"$f":"IF(F2013=\"\",\"\",IF(ISERROR(VLOOKUP(F2013,[1]Kontoplan!A:D,2,0)),\"Konto findes ikke!\",VLOOKUP(F2013,[1]Kontoplan!A:D,2,0)))","v":"Indsamling til Gave"}]
["2019-08-26",151,"Gave Perle",null,null,12310,100,null,{"$f":"IF(F2014=\"\",\"\",IF(ISERROR(VLOOKUP(F2014,[1]Kontoplan!A:D,2,0)),\"Konto findes ikke!\",VLOOKUP(F2014,[1]Kontoplan!A:D,2,0)))","v":"Bank konto"}]
["2019-08-26",151,"Gave Perle",null,null,1095,null,100,{"$f":"IF(F2015=\"\",\"\",IF(ISERROR(VLOOKUP(F2015,[1]Kontoplan!A:D,2,0)),\"Konto findes ikke!\",VLOOKUP(F2015,[1]Kontoplan!A:D,2,0)))","v":"Indsamling til Gave"}]
["2019-08-27",152,"Kontingent, Flemming Olsen",43,2020,1000,null,175,{"$f":"IF(F2016=\"\",\"\",IF(ISERROR(VLOOKUP(F2016,[1]Kontoplan!A:D,2,0)),\"Konto findes ikke!\",VLOOKUP(F2016,[1]Kontoplan!A:D,2,0)))","v":"Kontingenter"}]
["2019-08-27",152,"Kontingent, Flemming Olsen",null,null,12310,175,null,{"$f":"IF(F2017=\"\",\"\",IF(ISERROR(VLOOKUP(F2017,[1]Kontoplan!A:D,2,0)),\"Konto findes ikke!\",VLOOKUP(F2017,[1]Kontoplan!A:D,2,0)))","v":"Bank konto"}]
["2019-08-27",153,"Kontingent, Peter Munk Petersen",46,2020,1000,null,175,{"$f":"IF(F2018=\"\",\"\",IF(ISERROR(VLOOKUP(F2018,[1]Kontoplan!A:D,2,0)),\"Konto findes ikke!\",VLOOKUP(F2018,[1]Kontoplan!A:D,2,0)))","v":"Kontingenter"}]
["2019-08-27",153,"Kontingent, Peter Munk Petersen",null,null,12310,175,null,{"$f":"IF(F2019=\"\",\"\",IF(ISERROR(VLOOKUP(F2019,[1]Kontoplan!A:D,2,0)),\"Konto findes ikke!\",VLOOKUP(F2019,[1]Kontoplan!A:D,2,0)))","v":"Bank konto"}]
["2019-08-27",154,"Gave Perle",null,null,12310,100,null,{"$f":"IF(F2020=\"\",\"\",IF(ISERROR(VLOOKUP(F2020,[1]Kontoplan!A:D,2,0)),\"Konto findes ikke!\",VLOOKUP(F2020,[1]Kontoplan!A:D,2,0)))","v":"Bank konto"}]
["2019-08-27",154,"Gave Perle",null,null,1095,null,100,{"$f":"IF(F2021=\"\",\"\",IF(ISERROR(VLOOKUP(F2021,[1]Kontoplan!A:D,2,0)),\"Konto findes ikke!\",VLOOKUP(F2021,[1]Kontoplan!A:D,2,0)))","v":"Indsamling til Gave"}]
["2019-08-28",155,"Kontingent, Ebbe Torgersen",53,2020,1000,null,175,{"$f":"IF(F2022=\"\",\"\",IF(ISERROR(VLOOKUP(F2022,[1]Kontoplan!A:D,2,0)),\"Konto findes ikke!\",VLOOKUP(F2022,[1]Kontoplan!A:D,2,0)))","v":"Kontingenter"}]
["2019-08-28",155,"Kontingent, Ebbe Torgersen",null,null,12310,175,null,{"$f":"IF(F2023=\"\",\"\",IF(ISERROR(VLOOKUP(F2023,[1]Kontoplan!A:D,2,0)),\"Konto findes ikke!\",VLOOKUP(F2023,[1]Kontoplan!A:D,2,0)))","v":"Bank konto"}]
["2019-08-28",156,"Gave Perle",null,null,12310,100,null,{"$f":"IF(F2024=\"\",\"\",IF(ISERROR(VLOOKUP(F2024,[1]Kontoplan!A:D,2,0)),\"Konto findes ikke!\",VLOOKUP(F2024,[1]Kontoplan!A:D,2,0)))","v":"Bank konto"}]
["2019-08-28",156,"Gave Perle",null,null,1095,null,100,{"$f":"IF(F2025=\"\",\"\",IF(ISERROR(VLOOKUP(F2025,[1]Kontoplan!A:D,2,0)),\"Konto findes ikke!\",VLOOKUP(F2025,[1]Kontoplan!A:D,2,0)))","v":"Indsamling til Gave"}]
["2019-08-28",157,"Kontingent, Eilief G Andersen",6,2020,1000,null,175,{"$f":"IF(F2026=\"\",\"\",IF(ISERROR(VLOOKUP(F2026,[1]Kontoplan!A:D,2,0)),\"Konto findes ikke!\",VLOOKUP(F2026,[1]Kontoplan!A:D,2,0)))","v":"Kontingenter"}]
["2019-08-28",157,"Kontingent, Eilief G Andersen",null,null,12310,175,null,{"$f":"IF(F2027=\"\",\"\",IF(ISERROR(VLOOKUP(F2027,[1]Kontoplan!A:D,2,0)),\"Konto findes ikke!\",VLOOKUP(F2027,[1]Kontoplan!A:D,2,0)))","v":"Bank konto"}]
["2019-08-29",158,"Kontingent, Niels Borg Larsen",83,2020,1000,null,175,{"$f":"IF(F2028=\"\",\"\",IF(ISERROR(VLOOKUP(F2028,[1]Kontoplan!A:D,2,0)),\"Konto findes ikke!\",VLOOKUP(F2028,[1]Kontoplan!A:D,2,0)))","v":"Kontingenter"}]
["2019-08-29",158,"Kontingent, Niels Borg Larsen",null,null,12310,175,null,{"$f":"IF(F2029=\"\",\"\",IF(ISERROR(VLOOKUP(F2029,[1]Kontoplan!A:D,2,0)),\"Konto findes ikke!\",VLOOKUP(F2029,[1]Kontoplan!A:D,2,0)))","v":"Bank konto"}]
["2019-08-29",159,"Gave Perle",null,null,12310,50,null,{"$f":"IF(F2030=\"\",\"\",IF(ISERROR(VLOOKUP(F2030,[1]Kontoplan!A:D,2,0)),\"Konto findes ikke!\",VLOOKUP(F2030,[1]Kontoplan!A:D,2,0)))","v":"Bank konto"}]
["2019-08-29",159,"Gave Perle",null,null,1095,null,50,{"$f":"IF(F2031=\"\",\"\",IF(ISERROR(VLOOKUP(F2031,[1]Kontoplan!A:D,2,0)),\"Konto findes ikke!\",VLOOKUP(F2031,[1]Kontoplan!A:D,2,0)))","v":"Indsamling til Gave"}]
["2019-08-29",160,"Kontingent, Jan Kristoffersen",27,2020,1000,null,175,{"$f":"IF(F2032=\"\",\"\",IF(ISERROR(VLOOKUP(F2032,[1]Kontoplan!A:D,2,0)),\"Konto findes ikke!\",VLOOKUP(F2032,[1]Kontoplan!A:D,2,0)))","v":"Kontingenter"}]
["2019-08-29",160,"Kontingent, Jan Kristoffersen",null,null,12310,175,null,{"$f":"IF(F2033=\"\",\"\",IF(ISERROR(VLOOKUP(F2033,[1]Kontoplan!A:D,2,0)),\"Konto findes ikke!\",VLOOKUP(F2033,[1]Kontoplan!A:D,2,0)))","v":"Bank konto"}]
["2019-08-29",161,"Gave Perle",null,null,12310,50,null,{"$f":"IF(F2034=\"\",\"\",IF(ISERROR(VLOOKUP(F2034,[1]Kontoplan!A:D,2,0)),\"Konto findes ikke!\",VLOOKUP(F2034,[1]Kontoplan!A:D,2,0)))","v":"Bank konto"}]
["2019-08-29",161,"Gave Perle",null,null,1095,null,50,{"$f":"IF(F2035=\"\",\"\",IF(ISERROR(VLOOKUP(F2035,[1]Kontoplan!A:D,2,0)),\"Konto findes ikke!\",VLOOKUP(F2035,[1]Kontoplan!A:D,2,0)))","v":"Indsamling til Gave"}]
["2019-08-29",162,"Gave Perle",null,null,12310,100,null,{"$f":"IF(F2036=\"\",\"\",IF(ISERROR(VLOOKUP(F2036,[1]Kontoplan!A:D,2,0)),\"Konto findes ikke!\",VLOOKUP(F2036,[1]Kontoplan!A:D,2,0)))","v":"Bank konto"}]
["2019-08-29",162,"Gave Perle",null,null,1095,null,100,{"$f":"IF(F2037=\"\",\"\",IF(ISERROR(VLOOKUP(F2037,[1]Kontoplan!A:D,2,0)),\"Konto findes ikke!\",VLOOKUP(F2037,[1]Kontoplan!A:D,2,0)))","v":"Indsamling til Gave"}]
["2019-08-30",163,"Kontingent, Flemming Hejdenberg",94,2020,1000,null,175,{"$f":"IF(F2038=\"\",\"\",IF(ISERROR(VLOOKUP(F2038,[1]Kontoplan!A:D,2,0)),\"Konto findes ikke!\",VLOOKUP(F2038,[1]Kontoplan!A:D,2,0)))","v":"Kontingenter"}]
["2019-08-30",163,"Kontingent, Flemming Hejdenberg",null,null,12310,175,null,{"$f":"IF(F2039=\"\",\"\",IF(ISERROR(VLOOKUP(F2039,[1]Kontoplan!A:D,2,0)),\"Konto findes ikke!\",VLOOKUP(F2039,[1]Kontoplan!A:D,2,0)))","v":"Bank konto"}]
["2019-08-30",164,"Kontingent, John Nielsen",30,2020,1000,null,175,{"$f":"IF(F2040=\"\",\"\",IF(ISERROR(VLOOKUP(F2040,[1]Kontoplan!A:D,2,0)),\"Konto findes ikke!\",VLOOKUP(F2040,[1]Kontoplan!A:D,2,0)))","v":"Kontingenter"}]
["2019-08-30",164,"Kontingent, John Nielsen",null,null,12310,175,null,{"$f":"IF(F2041=\"\",\"\",IF(ISERROR(VLOOKUP(F2041,[1]Kontoplan!A:D,2,0)),\"Konto findes ikke!\",VLOOKUP(F2041,[1]Kontoplan!A:D,2,0)))","v":"Bank konto"}]
["2019-08-30",165,"Kontingent, Finn Nielsen",64,2020,1000,null,175,{"$f":"IF(F2042=\"\",\"\",IF(ISERROR(VLOOKUP(F2042,[1]Kontoplan!A:D,2,0)),\"Konto findes ikke!\",VLOOKUP(F2042,[1]Kontoplan!A:D,2,0)))","v":"Kontingenter"}]
["2019-08-30",165,"Kontingent, Finn Nielsen",null,null,12310,175,null,{"$f":"IF(F2043=\"\",\"\",IF(ISERROR(VLOOKUP(F2043,[1]Kontoplan!A:D,2,0)),\"Konto findes ikke!\",VLOOKUP(F2043,[1]Kontoplan!A:D,2,0)))","v":"Bank konto"}]
["2019-08-30",166,"Kontingent, Hans-Jørgen Jensen",18,2020,1000,null,175,{"$f":"IF(F2044=\"\",\"\",IF(ISERROR(VLOOKUP(F2044,[1]Kontoplan!A:D,2,0)),\"Konto findes ikke!\",VLOOKUP(F2044,[1]Kontoplan!A:D,2,0)))","v":"Kontingenter"}]
["2019-08-30",166,"Kontingent, Hans-Jørgen Jensen",null,null,12310,175,null,{"$f":"IF(F2045=\"\",\"\",IF(ISERROR(VLOOKUP(F2045,[1]Kontoplan!A:D,2,0)),\"Konto findes ikke!\",VLOOKUP(F2045,[1]Kontoplan!A:D,2,0)))","v":"Bank konto"}]
["2019-08-30",167,"Kontingent, Jørn Jensen",42,2020,1000,null,175,{"$f":"IF(F2046=\"\",\"\",IF(ISERROR(VLOOKUP(F2046,[1]Kontoplan!A:D,2,0)),\"Konto findes ikke!\",VLOOKUP(F2046,[1]Kontoplan!A:D,2,0)))","v":"Kontingenter"}]
["2019-08-30",167,"Kontingent, Jørn Jensen",null,null,12310,175,null,{"$f":"IF(F2047=\"\",\"\",IF(ISERROR(VLOOKUP(F2047,[1]Kontoplan!A:D,2,0)),\"Konto findes ikke!\",VLOOKUP(F2047,[1]Kontoplan!A:D,2,0)))","v":"Bank konto"}]
["2019-08-30",168,"Kontingent, Ole Holm",4,2020,1000,null,175,{"$f":"IF(F2048=\"\",\"\",IF(ISERROR(VLOOKUP(F2048,[1]Kontoplan!A:D,2,0)),\"Konto findes ikke!\",VLOOKUP(F2048,[1]Kontoplan!A:D,2,0)))","v":"Kontingenter"}]
["2019-08-30",168,"Kontingent, Ole Holm",null,null,12310,175,null,{"$f":"IF(F2049=\"\",\"\",IF(ISERROR(VLOOKUP(F2049,[1]Kontoplan!A:D,2,0)),\"Konto findes ikke!\",VLOOKUP(F2049,[1]Kontoplan!A:D,2,0)))","v":"Bank konto"}]
["2019-08-30",169,"Kontingent, Henrik Holm Svendensen",102,2020,1000,null,175,{"$f":"IF(F2050=\"\",\"\",IF(ISERROR(VLOOKUP(F2050,[1]Kontoplan!A:D,2,0)),\"Konto findes ikke!\",VLOOKUP(F2050,[1]Kontoplan!A:D,2,0)))","v":"Kontingenter"}]
["2019-08-30",169,"Kontingent, Henrik Holm Svendensen",null,null,12310,175,null,{"$f":"IF(F2051=\"\",\"\",IF(ISERROR(VLOOKUP(F2051,[1]Kontoplan!A:D,2,0)),\"Konto findes ikke!\",VLOOKUP(F2051,[1]Kontoplan!A:D,2,0)))","v":"Bank konto"}]
["2019-08-30",170,"Kontingent, Uffe Jensen",28,2020,1000,null,175,{"$f":"IF(F2052=\"\",\"\",IF(ISERROR(VLOOKUP(F2052,[1]Kontoplan!A:D,2,0)),\"Konto findes ikke!\",VLOOKUP(F2052,[1]Kontoplan!A:D,2,0)))","v":"Kontingenter"}]
["2019-08-30",170,"Kontingent, Uffe Jensen",null,null,12310,175,null,{"$f":"IF(F2053=\"\",\"\",IF(ISERROR(VLOOKUP(F2053,[1]Kontoplan!A:D,2,0)),\"Konto findes ikke!\",VLOOKUP(F2053,[1]Kontoplan!A:D,2,0)))","v":"Bank konto"}]
["2019-08-30",171,"Gave til Perle",null,null,12310,null,1999,{"$f":"IF(F2054=\"\",\"\",IF(ISERROR(VLOOKUP(F2054,[1]Kontoplan!A:D,2,0)),\"Konto findes ikke!\",VLOOKUP(F2054,[1]Kontoplan!A:D,2,0)))","v":"Bank konto"}]
["2019-08-30",171,"Gave til Perle",null,null,2070,1999,null,{"$f":"IF(F2055=\"\",\"\",IF(ISERROR(VLOOKUP(F2055,[1]Kontoplan!A:D,2,0)),\"Konto findes ikke!\",VLOOKUP(F2055,[1]Kontoplan!A:D,2,0)))","v":"Gaver"}]
["2019-08-30",172,"Gave til Perle",null,null,12310,null,299,{"$f":"IF(F2056=\"\",\"\",IF(ISERROR(VLOOKUP(F2056,[1]Kontoplan!A:D,2,0)),\"Konto findes ikke!\",VLOOKUP(F2056,[1]Kontoplan!A:D,2,0)))","v":"Bank konto"}]
["2019-08-30",172,"Gave til Perle",null,null,2070,299,null,{"$f":"IF(F2057=\"\",\"\",IF(ISERROR(VLOOKUP(F2057,[1]Kontoplan!A:D,2,0)),\"Konto findes ikke!\",VLOOKUP(F2057,[1]Kontoplan!A:D,2,0)))","v":"Gaver"}]
["2019-09-01",173,"Kontingent, Michael Fausing",51,2020,1000,null,175,{"$f":"IF(F2058=\"\",\"\",IF(ISERROR(VLOOKUP(F2058,[1]Kontoplan!A:D,2,0)),\"Konto findes ikke!\",VLOOKUP(F2058,[1]Kontoplan!A:D,2,0)))","v":"Kontingenter"}]
["2019-09-01",173,"Kontingent, Michael Fausing",null,null,12310,175,null,{"$f":"IF(F2059=\"\",\"\",IF(ISERROR(VLOOKUP(F2059,[1]Kontoplan!A:D,2,0)),\"Konto findes ikke!\",VLOOKUP(F2059,[1]Kontoplan!A:D,2,0)))","v":"Bank konto"}]
["2019-09-02",174,"Kontingent, Tom Nielsen",97,2020,1000,null,175,{"$f":"IF(F2060=\"\",\"\",IF(ISERROR(VLOOKUP(F2060,[1]Kontoplan!A:D,2,0)),\"Konto findes ikke!\",VLOOKUP(F2060,[1]Kontoplan!A:D,2,0)))","v":"Kontingenter"}]
["2019-09-02",174,"Kontingent, Tom Nielsen",null,null,12310,175,null,{"$f":"IF(F2061=\"\",\"\",IF(ISERROR(VLOOKUP(F2061,[1]Kontoplan!A:D,2,0)),\"Konto findes ikke!\",VLOOKUP(F2061,[1]Kontoplan!A:D,2,0)))","v":"Bank konto"}]
["2019-09-02",175,"Kontingent, Palle Jensen",65,2020,1000,null,175,{"$f":"IF(F2062=\"\",\"\",IF(ISERROR(VLOOKUP(F2062,[1]Kontoplan!A:D,2,0)),\"Konto findes ikke!\",VLOOKUP(F2062,[1]Kontoplan!A:D,2,0)))","v":"Kontingenter"}]
["2019-09-02",175,"Kontingent, Palle Jensen",null,null,12310,175,null,{"$f":"IF(F2063=\"\",\"\",IF(ISERROR(VLOOKUP(F2063,[1]Kontoplan!A:D,2,0)),\"Konto findes ikke!\",VLOOKUP(F2063,[1]Kontoplan!A:D,2,0)))","v":"Bank konto"}]
["2019-09-02",176,"Kontingent, Gert Pedersen",17,2020,1000,null,175,{"$f":"IF(F2064=\"\",\"\",IF(ISERROR(VLOOKUP(F2064,[1]Kontoplan!A:D,2,0)),\"Konto findes ikke!\",VLOOKUP(F2064,[1]Kontoplan!A:D,2,0)))","v":"Kontingenter"}]
["2019-09-02",176,"Kontingent, Gert Pedersen",null,null,12310,175,null,{"$f":"IF(F2065=\"\",\"\",IF(ISERROR(VLOOKUP(F2065,[1]Kontoplan!A:D,2,0)),\"Konto findes ikke!\",VLOOKUP(F2065,[1]Kontoplan!A:D,2,0)))","v":"Bank konto"}]
["2019-09-02",177,"Kontingent, Nils-Jørn Johansen",55,2020,1000,null,175,{"$f":"IF(F2066=\"\",\"\",IF(ISERROR(VLOOKUP(F2066,[1]Kontoplan!A:D,2,0)),\"Konto findes ikke!\",VLOOKUP(F2066,[1]Kontoplan!A:D,2,0)))","v":"Kontingenter"}]
["2019-09-02",177,"Kontingent, Nils-Jørn Johansen",null,null,12310,175,null,{"$f":"IF(F2067=\"\",\"\",IF(ISERROR(VLOOKUP(F2067,[1]Kontoplan!A:D,2,0)),\"Konto findes ikke!\",VLOOKUP(F2067,[1]Kontoplan!A:D,2,0)))","v":"Bank konto"}]
["2019-09-04",178,"Kontingent, Erik A. Larsen",63,2020,1000,null,175,{"$f":"IF(F2068=\"\",\"\",IF(ISERROR(VLOOKUP(F2068,[1]Kontoplan!A:D,2,0)),\"Konto findes ikke!\",VLOOKUP(F2068,[1]Kontoplan!A:D,2,0)))","v":"Kontingenter"}]
["2019-09-04",178,"Kontingent, Erik A. Larsen",null,null,12310,175,null,{"$f":"IF(F2069=\"\",\"\",IF(ISERROR(VLOOKUP(F2069,[1]Kontoplan!A:D,2,0)),\"Konto findes ikke!\",VLOOKUP(F2069,[1]Kontoplan!A:D,2,0)))","v":"Bank konto"}]
["2019-09-11",179,"Kontingent, Knud Arne Rasmussen",33,2020,1000,null,175,{"$f":"IF(F2070=\"\",\"\",IF(ISERROR(VLOOKUP(F2070,[1]Kontoplan!A:D,2,0)),\"Konto findes ikke!\",VLOOKUP(F2070,[1]Kontoplan!A:D,2,0)))","v":"Kontingenter"}]
["2019-09-11",179,"Kontingent, Knud Arne Rasmussen",null,null,12310,175,null,{"$f":"IF(F2071=\"\",\"\",IF(ISERROR(VLOOKUP(F2071,[1]Kontoplan!A:D,2,0)),\"Konto findes ikke!\",VLOOKUP(F2071,[1]Kontoplan!A:D,2,0)))","v":"Bank konto"}]
["2019-09-13",180,"Kontingent, Hardy Jørgensen",88,2020,1000,null,175,{"$f":"IF(F2072=\"\",\"\",IF(ISERROR(VLOOKUP(F2072,[1]Kontoplan!A:D,2,0)),\"Konto findes ikke!\",VLOOKUP(F2072,[1]Kontoplan!A:D,2,0)))","v":"Kontingenter"}]
["2019-09-13",180,"Kontingent, Hardy Jørgensen",null,null,12310,175,null,{"$f":"IF(F2073=\"\",\"\",IF(ISERROR(VLOOKUP(F2073,[1]Kontoplan!A:D,2,0)),\"Konto findes ikke!\",VLOOKUP(F2073,[1]Kontoplan!A:D,2,0)))","v":"Bank konto"}]
["2019-09-16",181,"Kontingent, Henrik Green",58,2020,1000,null,175,{"$f":"IF(F2074=\"\",\"\",IF(ISERROR(VLOOKUP(F2074,[1]Kontoplan!A:D,2,0)),\"Konto findes ikke!\",VLOOKUP(F2074,[1]Kontoplan!A:D,2,0)))","v":"Kontingenter"}]
["2019-09-16",181,"Kontingent, Henrik Green",null,null,12310,175,null,{"$f":"IF(F2075=\"\",\"\",IF(ISERROR(VLOOKUP(F2075,[1]Kontoplan!A:D,2,0)),\"Konto findes ikke!\",VLOOKUP(F2075,[1]Kontoplan!A:D,2,0)))","v":"Bank konto"}]
["2019-09-16",182,"Kontingent, Odd Bjarne Poulsen",67,2020,1000,null,175,{"$f":"IF(F2076=\"\",\"\",IF(ISERROR(VLOOKUP(F2076,[1]Kontoplan!A:D,2,0)),\"Konto findes ikke!\",VLOOKUP(F2076,[1]Kontoplan!A:D,2,0)))","v":"Kontingenter"}]
["2019-09-16",182,"Kontingent, Odd Bjarne Poulsen",null,null,12310,175,null,{"$f":"IF(F2077=\"\",\"\",IF(ISERROR(VLOOKUP(F2077,[1]Kontoplan!A:D,2,0)),\"Konto findes ikke!\",VLOOKUP(F2077,[1]Kontoplan!A:D,2,0)))","v":"Bank konto"}]
["2019-09-16",183,"Kontingent, Kaj Dahl Andersen",104,2020,1000,null,175,{"$f":"IF(F2078=\"\",\"\",IF(ISERROR(VLOOKUP(F2078,[1]Kontoplan!A:D,2,0)),\"Konto findes ikke!\",VLOOKUP(F2078,[1]Kontoplan!A:D,2,0)))","v":"Kontingenter"}]
["2019-09-16",183,"Kontingent, Kaj Dahl Andersen",null,null,12310,175,null,{"$f":"IF(F2079=\"\",\"\",IF(ISERROR(VLOOKUP(F2079,[1]Kontoplan!A:D,2,0)),\"Konto findes ikke!\",VLOOKUP(F2079,[1]Kontoplan!A:D,2,0)))","v":"Bank konto"}]
["2019-09-16",184,"Kontingent, Klaus Buchholdt",21,2020,1000,null,175,{"$f":"IF(F2080=\"\",\"\",IF(ISERROR(VLOOKUP(F2080,[1]Kontoplan!A:D,2,0)),\"Konto findes ikke!\",VLOOKUP(F2080,[1]Kontoplan!A:D,2,0)))","v":"Kontingenter"}]
["2019-09-16",184,"Kontingent, Klaus Buchholdt",null,null,12310,175,null,{"$f":"IF(F2081=\"\",\"\",IF(ISERROR(VLOOKUP(F2081,[1]Kontoplan!A:D,2,0)),\"Konto findes ikke!\",VLOOKUP(F2081,[1]Kontoplan!A:D,2,0)))","v":"Bank konto"}]
["2019-09-16",185,"Kontingent, Jørgen Espersen",32,2020,1000,null,175,{"$f":"IF(F2082=\"\",\"\",IF(ISERROR(VLOOKUP(F2082,[1]Kontoplan!A:D,2,0)),\"Konto findes ikke!\",VLOOKUP(F2082,[1]Kontoplan!A:D,2,0)))","v":"Kontingenter"}]
["2019-09-16",185,"Kontingent, Jørgen Espersen",null,null,12310,175,null,{"$f":"IF(F2083=\"\",\"\",IF(ISERROR(VLOOKUP(F2083,[1]Kontoplan!A:D,2,0)),\"Konto findes ikke!\",VLOOKUP(F2083,[1]Kontoplan!A:D,2,0)))","v":"Bank konto"}]
["2019-09-16",186,"Kontingent, Christian-Ulrich Essemann-Bech",null,null,1000,null,175,{"$f":"IF(F2084=\"\",\"\",IF(ISERROR(VLOOKUP(F2084,[1]Kontoplan!A:D,2,0)),\"Konto findes ikke!\",VLOOKUP(F2084,[1]Kontoplan!A:D,2,0)))","v":"Kontingenter"}]
["2019-09-16",186,"Kontingent, Christian-Ulrich Essemann-Bech",null,null,12310,175,null,{"$f":"IF(F2085=\"\",\"\",IF(ISERROR(VLOOKUP(F2085,[1]Kontoplan!A:D,2,0)),\"Konto findes ikke!\",VLOOKUP(F2085,[1]Kontoplan!A:D,2,0)))","v":"Bank konto"}]
["2019-09-16",187,"Kontingent, Steen M. Jensen",16,2020,1000,null,175,{"$f":"IF(F2086=\"\",\"\",IF(ISERROR(VLOOKUP(F2086,[1]Kontoplan!A:D,2,0)),\"Konto findes ikke!\",VLOOKUP(F2086,[1]Kontoplan!A:D,2,0)))","v":"Kontingenter"}]
["2019-09-16",187,"Kontingent, Steen M. Jensen",null,null,12310,175,null,{"$f":"IF(F2087=\"\",\"\",IF(ISERROR(VLOOKUP(F2087,[1]Kontoplan!A:D,2,0)),\"Konto findes ikke!\",VLOOKUP(F2087,[1]Kontoplan!A:D,2,0)))","v":"Bank konto"}]
["2019-09-19",188,"Kontingent, Steen R Jensen",95,2020,1000,null,175,{"$f":"IF(F2088=\"\",\"\",IF(ISERROR(VLOOKUP(F2088,[1]Kontoplan!A:D,2,0)),\"Konto findes ikke!\",VLOOKUP(F2088,[1]Kontoplan!A:D,2,0)))","v":"Kontingenter"}]
["2019-09-19",188,"Kontingent, Steen R Jensen",null,null,12310,175,null,{"$f":"IF(F2089=\"\",\"\",IF(ISERROR(VLOOKUP(F2089,[1]Kontoplan!A:D,2,0)),\"Konto findes ikke!\",VLOOKUP(F2089,[1]Kontoplan!A:D,2,0)))","v":"Bank konto"}]
["2019-09-24",189,"Kontingent, Kim Johansen",36,2020,1000,null,175,{"$f":"IF(F2090=\"\",\"\",IF(ISERROR(VLOOKUP(F2090,[1]Kontoplan!A:D,2,0)),\"Konto findes ikke!\",VLOOKUP(F2090,[1]Kontoplan!A:D,2,0)))","v":"Kontingenter"}]
["2019-09-24",189,"Kontingent, Kim Johansen",null,null,12310,175,null,{"$f":"IF(F2091=\"\",\"\",IF(ISERROR(VLOOKUP(F2091,[1]Kontoplan!A:D,2,0)),\"Konto findes ikke!\",VLOOKUP(F2091,[1]Kontoplan!A:D,2,0)))","v":"Bank konto"}]
["2019-09-30",190,"Kontingent, Søren Dyrby Schou",15,2020,1000,null,175,{"$f":"IF(F2092=\"\",\"\",IF(ISERROR(VLOOKUP(F2092,[1]Kontoplan!A:D,2,0)),\"Konto findes ikke!\",VLOOKUP(F2092,[1]Kontoplan!A:D,2,0)))","v":"Kontingenter"}]
["2019-09-30",190,"Kontingent, Søren Dyrby Schou",null,null,12310,175,null,{"$f":"IF(F2093=\"\",\"\",IF(ISERROR(VLOOKUP(F2093,[1]Kontoplan!A:D,2,0)),\"Konto findes ikke!\",VLOOKUP(F2093,[1]Kontoplan!A:D,2,0)))","v":"Bank konto"}]
["2019-09-30",191,"Bankgebyr ifølge nota",null,null,12310,null,75,{"$f":"IF(F2094=\"\",\"\",IF(ISERROR(VLOOKUP(F2094,[1]Kontoplan!A:D,2,0)),\"Konto findes ikke!\",VLOOKUP(F2094,[1]Kontoplan!A:D,2,0)))","v":"Bank konto"}]
["2019-09-30",191,"Bankgebyr ifølge nota",null,null,2130,75,null,{"$f":"IF(F2095=\"\",\"\",IF(ISERROR(VLOOKUP(F2095,[1]Kontoplan!A:D,2,0)),\"Konto findes ikke!\",VLOOKUP(F2095,[1]Kontoplan!A:D,2,0)))","v":"Bankgebyr/Renter"}]
["2019-10-15",192,"Kontingent, Carsten K. Pedersen",null,null,12310,25,null,{"$f":"IF(F2096=\"\",\"\",IF(ISERROR(VLOOKUP(F2096,[1]Kontoplan!A:D,2,0)),\"Konto findes ikke!\",VLOOKUP(F2096,[1]Kontoplan!A:D,2,0)))","v":"Bank konto"}]
["2019-10-15",192,"Kontingent, Carsten K. Pedersen",41,2020,1000,null,25,{"$f":"IF(F2097=\"\",\"\",IF(ISERROR(VLOOKUP(F2097,[1]Kontoplan!A:D,2,0)),\"Konto findes ikke!\",VLOOKUP(F2097,[1]Kontoplan!A:D,2,0)))","v":"Kontingenter"},"150,- er fra indbetaling til dragonfest "]
["2019-10-15",193,"Kontingent, Bent Ellevang",null,null,12310,175,null,{"$f":"IF(F2098=\"\",\"\",IF(ISERROR(VLOOKUP(F2098,[1]Kontoplan!A:D,2,0)),\"Konto findes ikke!\",VLOOKUP(F2098,[1]Kontoplan!A:D,2,0)))","v":"Bank konto"}]
["2019-10-15",193,"Kontingent, Bent Ellevang",11,2020,1000,null,175,{"$f":"IF(F2099=\"\",\"\",IF(ISERROR(VLOOKUP(F2099,[1]Kontoplan!A:D,2,0)),\"Konto findes ikke!\",VLOOKUP(F2099,[1]Kontoplan!A:D,2,0)))","v":"Kontingenter"}]
["2019-10-15",194,"Jan, udlæg til rejse",null,null,12310,null,882,{"$f":"IF(F2100=\"\",\"\",IF(ISERROR(VLOOKUP(F2100,[1]Kontoplan!A:D,2,0)),\"Konto findes ikke!\",VLOOKUP(F2100,[1]Kontoplan!A:D,2,0)))","v":"Bank konto"}]
["2019-10-15",194,"Jan, udlæg til rejse",null,null,2160,882,null,{"$f":"IF(F2101=\"\",\"\",IF(ISERROR(VLOOKUP(F2101,[1]Kontoplan!A:D,2,0)),\"Konto findes ikke!\",VLOOKUP(F2101,[1]Kontoplan!A:D,2,0)))","v":"Rejser"}]
["2019-10-17",195,"Kontingent, Gert Lykke Espersen",null,null,12310,175,null,{"$f":"IF(F2102=\"\",\"\",IF(ISERROR(VLOOKUP(F2102,[1]Kontoplan!A:D,2,0)),\"Konto findes ikke!\",VLOOKUP(F2102,[1]Kontoplan!A:D,2,0)))","v":"Bank konto"}]
["2019-10-17",195,"Kontingent, Gert Lykke Espersen",92,2020,1000,null,175,{"$f":"IF(F2103=\"\",\"\",IF(ISERROR(VLOOKUP(F2103,[1]Kontoplan!A:D,2,0)),\"Konto findes ikke!\",VLOOKUP(F2103,[1]Kontoplan!A:D,2,0)))","v":"Kontingenter"}]
["2019-10-18",196,"Kontingent, Kim Bjelstrand",null,null,12310,175,null,{"$f":"IF(F2104=\"\",\"\",IF(ISERROR(VLOOKUP(F2104,[1]Kontoplan!A:D,2,0)),\"Konto findes ikke!\",VLOOKUP(F2104,[1]Kontoplan!A:D,2,0)))","v":"Bank konto"}]
["2019-10-18",196,"Kontingent, Kim Bjelstrand",62,2020,1000,null,175,{"$f":"IF(F2105=\"\",\"\",IF(ISERROR(VLOOKUP(F2105,[1]Kontoplan!A:D,2,0)),\"Konto findes ikke!\",VLOOKUP(F2105,[1]Kontoplan!A:D,2,0)))","v":"Kontingenter"}]
["2019-10-28",197,"Kontingent, Freddy Albæk",null,null,12310,175,null,{"$f":"IF(F2106=\"\",\"\",IF(ISERROR(VLOOKUP(F2106,[1]Kontoplan!A:D,2,0)),\"Konto findes ikke!\",VLOOKUP(F2106,[1]Kontoplan!A:D,2,0)))","v":"Bank konto"}]
["2019-10-28",197,"Kontingent, Freddy Albæk",10,2020,1000,null,175,{"$f":"IF(F2107=\"\",\"\",IF(ISERROR(VLOOKUP(F2107,[1]Kontoplan!A:D,2,0)),\"Konto findes ikke!\",VLOOKUP(F2107,[1]Kontoplan!A:D,2,0)))","v":"Kontingenter"}]
["2019-10-31",198,"Kontingent, Flemming Larsen",null,null,12310,175,null,{"$f":"IF(F2108=\"\",\"\",IF(ISERROR(VLOOKUP(F2108,[1]Kontoplan!A:D,2,0)),\"Konto findes ikke!\",VLOOKUP(F2108,[1]Kontoplan!A:D,2,0)))","v":"Bank konto"}]
["2019-10-31",198,"Kontingent, Flemming Larsen",26,2020,1000,null,175,{"$f":"IF(F2109=\"\",\"\",IF(ISERROR(VLOOKUP(F2109,[1]Kontoplan!A:D,2,0)),\"Konto findes ikke!\",VLOOKUP(F2109,[1]Kontoplan!A:D,2,0)))","v":"Kontingenter"}]
["2019-11-01",null,"Overført Saldi",null,null,12310,29393.61,null,{"$f":"IF(F2110=\"\",\"\",IF(ISERROR(VLOOKUP(F2110,[1]Kontoplan!A:D,2,0)),\"Konto findes ikke!\",VLOOKUP(F2110,[1]Kontoplan!A:D,2,0)))","v":"Bank konto"}]
["2019-11-01",null,"Overført Saldi",null,null,12330,null,29393.61,{"$f":"IF(F2111=\"\",\"\",IF(ISERROR(VLOOKUP(F2111,[1]Kontoplan!A:D,2,0)),\"Konto findes ikke!\",VLOOKUP(F2111,[1]Kontoplan!A:D,2,0)))","v":"Egenkapital"}]
["2019-11-05",1,"Dragonfest, Bent Ellevang",null,null,12310,175,null,{"$f":"IF(F2112=\"\",\"\",IF(ISERROR(VLOOKUP(F2112,[1]Kontoplan!A:D,2,0)),\"Konto findes ikke!\",VLOOKUP(F2112,[1]Kontoplan!A:D,2,0)))","v":"Bank konto"}]
["2019-11-05",1,"Dragonfest, Bent Ellevang",null,null,1050,null,100,{"$f":"IF(F2113=\"\",\"\",IF(ISERROR(VLOOKUP(F2113,[1]Kontoplan!A:D,2,0)),\"Konto findes ikke!\",VLOOKUP(F2113,[1]Kontoplan!A:D,2,0)))","v":"Deltagergebyr, Dragonfest"}]
["2019-11-05",1,"Dragonfest, Bent Ellevang",null,null,1030,null,75,{"$f":"IF(F2114=\"\",\"\",IF(ISERROR(VLOOKUP(F2114,[1]Kontoplan!A:D,2,0)),\"Konto findes ikke!\",VLOOKUP(F2114,[1]Kontoplan!A:D,2,0)))","v":"Salg af morgenmad"}]
["2019-11-11",2,"Kontingent, Ole Larsen",null,null,12310,175,null,{"$f":"IF(F2115=\"\",\"\",IF(ISERROR(VLOOKUP(F2115,[1]Kontoplan!A:D,2,0)),\"Konto findes ikke!\",VLOOKUP(F2115,[1]Kontoplan!A:D,2,0)))","v":"Bank konto"}]
["2019-11-11",2,"Kontingent, Ole Larsen",5,2020,1000,null,175,{"$f":"IF(F2116=\"\",\"\",IF(ISERROR(VLOOKUP(F2116,[1]Kontoplan!A:D,2,0)),\"Konto findes ikke!\",VLOOKUP(F2116,[1]Kontoplan!A:D,2,0)))","v":"Kontingenter"}]
["2019-11-12",3,"Kontingent, Ivan Hampe",null,null,12310,175,null,{"$f":"IF(F2117=\"\",\"\",IF(ISERROR(VLOOKUP(F2117,[1]Kontoplan!A:D,2,0)),\"Konto findes ikke!\",VLOOKUP(F2117,[1]Kontoplan!A:D,2,0)))","v":"Bank konto"}]
["2019-11-12",3,"Kontingent, Ivan Hampe",52,2020,1000,null,175,{"$f":"IF(F2118=\"\",\"\",IF(ISERROR(VLOOKUP(F2118,[1]Kontoplan!A:D,2,0)),\"Konto findes ikke!\",VLOOKUP(F2118,[1]Kontoplan!A:D,2,0)))","v":"Kontingenter"}]
["2019-11-18",4,"Hjemmeside, ONE.COM",null,null,12310,null,888,{"$f":"IF(F2119=\"\",\"\",IF(ISERROR(VLOOKUP(F2119,[1]Kontoplan!A:D,2,0)),\"Konto findes ikke!\",VLOOKUP(F2119,[1]Kontoplan!A:D,2,0)))","v":"Bank konto"}]
["2019-11-18",4,"Hjemmeside, ONE.COM",null,null,2120,888,null,{"$f":"IF(F2120=\"\",\"\",IF(ISERROR(VLOOKUP(F2120,[1]Kontoplan!A:D,2,0)),\"Konto findes ikke!\",VLOOKUP(F2120,[1]Kontoplan!A:D,2,0)))","v":"Hjemmeside"}]
["2019-11-18",5,"ØL til Dragonfesten",null,null,12310,null,288,{"$f":"IF(F2121=\"\",\"\",IF(ISERROR(VLOOKUP(F2121,[1]Kontoplan!A:D,2,0)),\"Konto findes ikke!\",VLOOKUP(F2121,[1]Kontoplan!A:D,2,0)))","v":"Bank konto"}]
["2019-11-18",5,"ØL til Dragonfesten",null,null,2010,288,null,{"$f":"IF(F2122=\"\",\"\",IF(ISERROR(VLOOKUP(F2122,[1]Kontoplan!A:D,2,0)),\"Konto findes ikke!\",VLOOKUP(F2122,[1]Kontoplan!A:D,2,0)))","v":"Indkøb af øl + vand"}]
["2019-11-18",6,"Anette udlæg til Øl til Dragonfesten",null,null,12310,null,576,{"$f":"IF(F2123=\"\",\"\",IF(ISERROR(VLOOKUP(F2123,[1]Kontoplan!A:D,2,0)),\"Konto findes ikke!\",VLOOKUP(F2123,[1]Kontoplan!A:D,2,0)))","v":"Bank konto"}]
["2019-11-18",6,"Anette udlæg til Øl til Dragonfesten",null,null,2010,576,null,{"$f":"IF(F2124=\"\",\"\",IF(ISERROR(VLOOKUP(F2124,[1]Kontoplan!A:D,2,0)),\"Konto findes ikke!\",VLOOKUP(F2124,[1]Kontoplan!A:D,2,0)))","v":"Indkøb af øl + vand"}]
["2019-11-20",7,"Dragonfest, Jens Peter Rasmussen",null,null,12310,100,null,{"$f":"IF(F2125=\"\",\"\",IF(ISERROR(VLOOKUP(F2125,[1]Kontoplan!A:D,2,0)),\"Konto findes ikke!\",VLOOKUP(F2125,[1]Kontoplan!A:D,2,0)))","v":"Bank konto"}]
["2019-11-20",7,"Dragonfest, Jens Peter Rasmussen",null,null,1050,null,100,{"$f":"IF(F2126=\"\",\"\",IF(ISERROR(VLOOKUP(F2126,[1]Kontoplan!A:D,2,0)),\"Konto findes ikke!\",VLOOKUP(F2126,[1]Kontoplan!A:D,2,0)))","v":"Deltagergebyr, Dragonfest"}]
["2019-11-20",8,"Kontingent, Ebbe M Jensen",null,null,12310,175,null,{"$f":"IF(F2127=\"\",\"\",IF(ISERROR(VLOOKUP(F2127,[1]Kontoplan!A:D,2,0)),\"Konto findes ikke!\",VLOOKUP(F2127,[1]Kontoplan!A:D,2,0)))","v":"Bank konto"}]
["2019-11-20",8,"Kontingent, Ebbe M Jensen",50,2020,1000,null,175,{"$f":"IF(F2128=\"\",\"\",IF(ISERROR(VLOOKUP(F2128,[1]Kontoplan!A:D,2,0)),\"Konto findes ikke!\",VLOOKUP(F2128,[1]Kontoplan!A:D,2,0)))","v":"Kontingenter"}]
["2019-11-21",9,"Dragonfest, Martin Jakob Hansen",null,null,12310,100,null,{"$f":"IF(F2129=\"\",\"\",IF(ISERROR(VLOOKUP(F2129,[1]Kontoplan!A:D,2,0)),\"Konto findes ikke!\",VLOOKUP(F2129,[1]Kontoplan!A:D,2,0)))","v":"Bank konto"}]
["2019-11-21",9,"Dragonfest, Martin Jakob Hansen",null,null,1050,null,100,{"$f":"IF(F2130=\"\",\"\",IF(ISERROR(VLOOKUP(F2130,[1]Kontoplan!A:D,2,0)),\"Konto findes ikke!\",VLOOKUP(F2130,[1]Kontoplan!A:D,2,0)))","v":"Deltagergebyr, Dragonfest"}]
["2019-11-22",10,"Dragonfest, Richard Finne",null,null,12310,100,null,{"$f":"IF(F2131=\"\",\"\",IF(ISERROR(VLOOKUP(F2131,[1]Kontoplan!A:D,2,0)),\"Konto findes ikke!\",VLOOKUP(F2131,[1]Kontoplan!A:D,2,0)))","v":"Bank konto"}]
["2019-11-22",10,"Dragonfest, Richard Finne",null,null,1050,null,100,{"$f":"IF(F2132=\"\",\"\",IF(ISERROR(VLOOKUP(F2132,[1]Kontoplan!A:D,2,0)),\"Konto findes ikke!\",VLOOKUP(F2132,[1]Kontoplan!A:D,2,0)))","v":"Deltagergebyr, Dragonfest"}]
["2019-11-24",11,"Dragonfest, Jens Aksel Givskov",null,null,12310,100,null,{"$f":"IF(F2133=\"\",\"\",IF(ISERROR(VLOOKUP(F2133,[1]Kontoplan!A:D,2,0)),\"Konto findes ikke!\",VLOOKUP(F2133,[1]Kontoplan!A:D,2,0)))","v":"Bank konto"}]
["2019-11-24",11,"Dragonfest, Jens Aksel Givskov",null,null,1050,null,100,{"$f":"IF(F2134=\"\",\"\",IF(ISERROR(VLOOKUP(F2134,[1]Kontoplan!A:D,2,0)),\"Konto findes ikke!\",VLOOKUP(F2134,[1]Kontoplan!A:D,2,0)))","v":"Deltagergebyr, Dragonfest"}]
["2019-11-25",12,"Dragonfest, Fini Dahl",null,null,12310,100,null,{"$f":"IF(F2135=\"\",\"\",IF(ISERROR(VLOOKUP(F2135,[1]Kontoplan!A:D,2,0)),\"Konto findes ikke!\",VLOOKUP(F2135,[1]Kontoplan!A:D,2,0)))","v":"Bank konto"}]
["2019-11-25",12,"Dragonfest, Fini Dahl",null,null,1050,null,100,{"$f":"IF(F2136=\"\",\"\",IF(ISERROR(VLOOKUP(F2136,[1]Kontoplan!A:D,2,0)),\"Konto findes ikke!\",VLOOKUP(F2136,[1]Kontoplan!A:D,2,0)))","v":"Deltagergebyr, Dragonfest"}]
["2019-11-25",13,"Dragonfest, Bjarne Hansen",null,null,12310,100,null,{"$f":"IF(F2137=\"\",\"\",IF(ISERROR(VLOOKUP(F2137,[1]Kontoplan!A:D,2,0)),\"Konto findes ikke!\",VLOOKUP(F2137,[1]Kontoplan!A:D,2,0)))","v":"Bank konto"}]
["2019-11-25",13,"Dragonfest, Bjarne Hansen",null,null,1050,null,100,{"$f":"IF(F2138=\"\",\"\",IF(ISERROR(VLOOKUP(F2138,[1]Kontoplan!A:D,2,0)),\"Konto findes ikke!\",VLOOKUP(F2138,[1]Kontoplan!A:D,2,0)))","v":"Deltagergebyr, Dragonfest"}]
["2019-11-27",14,"Dragonfest, Jørn K. Pedersen",null,null,12310,100,null,{"$f":"IF(F2139=\"\",\"\",IF(ISERROR(VLOOKUP(F2139,[1]Kontoplan!A:D,2,0)),\"Konto findes ikke!\",VLOOKUP(F2139,[1]Kontoplan!A:D,2,0)))","v":"Bank konto"}]
["2019-11-27",14,"Dragonfest, Jørn K. Pedersen",null,null,1050,null,100,{"$f":"IF(F2140=\"\",\"\",IF(ISERROR(VLOOKUP(F2140,[1]Kontoplan!A:D,2,0)),\"Konto findes ikke!\",VLOOKUP(F2140,[1]Kontoplan!A:D,2,0)))","v":"Deltagergebyr, Dragonfest"}]
["2019-11-28",15,"Kontingent, Allan Hoe Andersen",null,null,12310,175,null,{"$f":"IF(F2141=\"\",\"\",IF(ISERROR(VLOOKUP(F2141,[1]Kontoplan!A:D,2,0)),\"Konto findes ikke!\",VLOOKUP(F2141,[1]Kontoplan!A:D,2,0)))","v":"Bank konto"},"Skal overføres til SBD"]
["2019-11-28",15,"Kontingent, Allan Hoe Andersen",null,null,1000,null,175,{"$f":"IF(F2142=\"\",\"\",IF(ISERROR(VLOOKUP(F2142,[1]Kontoplan!A:D,2,0)),\"Konto findes ikke!\",VLOOKUP(F2142,[1]Kontoplan!A:D,2,0)))","v":"Kontingenter"}]
["2019-12-01",16,"Udlæg rejse til DHM i ålborg",null,null,12310,null,147.5,{"$f":"IF(F2143=\"\",\"\",IF(ISERROR(VLOOKUP(F2143,[1]Kontoplan!A:D,2,0)),\"Konto findes ikke!\",VLOOKUP(F2143,[1]Kontoplan!A:D,2,0)))","v":"Bank konto"}]
["2019-12-01",16,"Udlæg rejse til DHM i ålborg",null,null,2160,147.5,null,{"$f":"IF(F2144=\"\",\"\",IF(ISERROR(VLOOKUP(F2144,[1]Kontoplan!A:D,2,0)),\"Konto findes ikke!\",VLOOKUP(F2144,[1]Kontoplan!A:D,2,0)))","v":"Rejser"}]
["2019-12-01",17,"Udlæg rejse Brobizz DHM Ålborg",null,null,12310,null,360.8,{"$f":"IF(F2145=\"\",\"\",IF(ISERROR(VLOOKUP(F2145,[1]Kontoplan!A:D,2,0)),\"Konto findes ikke!\",VLOOKUP(F2145,[1]Kontoplan!A:D,2,0)))","v":"Bank konto"}]
["2019-12-01",17,"Udlæg rejse Brobizz DHM Ålborg",null,null,2160,360.8,null,{"$f":"IF(F2146=\"\",\"\",IF(ISERROR(VLOOKUP(F2146,[1]Kontoplan!A:D,2,0)),\"Konto findes ikke!\",VLOOKUP(F2146,[1]Kontoplan!A:D,2,0)))","v":"Rejser"}]
["2019-12-01",18,"Udlæg Til rejse benzin DHM Ålborg",null,null,12310,null,383.24,{"$f":"IF(F2147=\"\",\"\",IF(ISERROR(VLOOKUP(F2147,[1]Kontoplan!A:D,2,0)),\"Konto findes ikke!\",VLOOKUP(F2147,[1]Kontoplan!A:D,2,0)))","v":"Bank konto"}]
["2019-12-01",18,"Udlæg Til rejse benzin DHM Ålborg",null,null,2160,383.24,null,{"$f":"IF(F2148=\"\",\"\",IF(ISERROR(VLOOKUP(F2148,[1]Kontoplan!A:D,2,0)),\"Konto findes ikke!\",VLOOKUP(F2148,[1]Kontoplan!A:D,2,0)))","v":"Rejser"}]
["2019-12-01",19,"Udlæg Fortæring DHM ålborg",null,null,12310,null,192.43,{"$f":"IF(F2149=\"\",\"\",IF(ISERROR(VLOOKUP(F2149,[1]Kontoplan!A:D,2,0)),\"Konto findes ikke!\",VLOOKUP(F2149,[1]Kontoplan!A:D,2,0)))","v":"Bank konto"}]
["2019-12-01",19,"Udlæg Fortæring DHM ålborg",null,null,2100,192.43,null,{"$f":"IF(F2150=\"\",\"\",IF(ISERROR(VLOOKUP(F2150,[1]Kontoplan!A:D,2,0)),\"Konto findes ikke!\",VLOOKUP(F2150,[1]Kontoplan!A:D,2,0)))","v":"Forplejning til møder/Rejser"}]
["2019-12-01",20,"overført Allan hoe Andersen indbetaling SBD",null,null,12310,null,175,{"$f":"IF(F2151=\"\",\"\",IF(ISERROR(VLOOKUP(F2151,[1]Kontoplan!A:D,2,0)),\"Konto findes ikke!\",VLOOKUP(F2151,[1]Kontoplan!A:D,2,0)))","v":"Bank konto"},"overført til SBD"]
["2019-12-01",20,"overført Allan hoe Andersen indbetaling SBD",null,null,2060,175,null,{"$f":"IF(F2152=\"\",\"\",IF(ISERROR(VLOOKUP(F2152,[1]Kontoplan!A:D,2,0)),\"Konto findes ikke!\",VLOOKUP(F2152,[1]Kontoplan!A:D,2,0)))","v":"Overført til SBD"}]
["2019-12-02",21,"Dragonfest, Birger Jønsson",null,null,12310,400,null,{"$f":"IF(F2153=\"\",\"\",IF(ISERROR(VLOOKUP(F2153,[1]Kontoplan!A:D,2,0)),\"Konto findes ikke!\",VLOOKUP(F2153,[1]Kontoplan!A:D,2,0)))","v":"Bank konto"}]
["2019-12-02",21,"Dragonfest, Birger Jønsson",null,null,1050,null,100,{"$f":"IF(F2154=\"\",\"\",IF(ISERROR(VLOOKUP(F2154,[1]Kontoplan!A:D,2,0)),\"Konto findes ikke!\",VLOOKUP(F2154,[1]Kontoplan!A:D,2,0)))","v":"Deltagergebyr, Dragonfest"}]
["2019-12-02",21,"Dragonfest, Birger Jønsson",null,null,1030,null,100,{"$f":"IF(F2155=\"\",\"\",IF(ISERROR(VLOOKUP(F2155,[1]Kontoplan!A:D,2,0)),\"Konto findes ikke!\",VLOOKUP(F2155,[1]Kontoplan!A:D,2,0)))","v":"Salg af morgenmad"}]
["2019-12-02",21,"Dragonfest, Birger Jønsson",null,null,1040,null,200,{"$f":"IF(F2156=\"\",\"\",IF(ISERROR(VLOOKUP(F2156,[1]Kontoplan!A:D,2,0)),\"Konto findes ikke!\",VLOOKUP(F2156,[1]Kontoplan!A:D,2,0)))","v":"Udlejning af værelser"}]
["2019-12-02",22,"Dragonfest, Hans-Henrik Greve Brandenborg",null,null,12310,250,null,{"$f":"IF(F2157=\"\",\"\",IF(ISERROR(VLOOKUP(F2157,[1]Kontoplan!A:D,2,0)),\"Konto findes ikke!\",VLOOKUP(F2157,[1]Kontoplan!A:D,2,0)))","v":"Bank konto"}]
["2019-12-02",22,"Dragonfest, Hans-Henrik Greve Brandenborg",null,null,1040,null,100,{"$f":"IF(F2158=\"\",\"\",IF(ISERROR(VLOOKUP(F2158,[1]Kontoplan!A:D,2,0)),\"Konto findes ikke!\",VLOOKUP(F2158,[1]Kontoplan!A:D,2,0)))","v":"Udlejning af værelser"}]
["2019-12-02",22,"Dragonfest, Hans-Henrik Greve Brandenborg",null,null,1030,null,50,{"$f":"IF(F2159=\"\",\"\",IF(ISERROR(VLOOKUP(F2159,[1]Kontoplan!A:D,2,0)),\"Konto findes ikke!\",VLOOKUP(F2159,[1]Kontoplan!A:D,2,0)))","v":"Salg af morgenmad"}]
["2019-12-02",22,"Dragonfest, Hans-Henrik Greve Brandenborg",null,null,1050,null,100,{"$f":"IF(F2160=\"\",\"\",IF(ISERROR(VLOOKUP(F2160,[1]Kontoplan!A:D,2,0)),\"Konto findes ikke!\",VLOOKUP(F2160,[1]Kontoplan!A:D,2,0)))","v":"Deltagergebyr, Dragonfest"}]
["2019-12-03",23,"Dragonfest, Jan Witzner Jensen",null,null,12310,250,null,{"$f":"IF(F2161=\"\",\"\",IF(ISERROR(VLOOKUP(F2161,[1]Kontoplan!A:D,2,0)),\"Konto findes ikke!\",VLOOKUP(F2161,[1]Kontoplan!A:D,2,0)))","v":"Bank konto"}]
["2019-12-03",23,"Dragonfest, Jan Witzner Jensen",null,null,1050,null,100,{"$f":"IF(F2162=\"\",\"\",IF(ISERROR(VLOOKUP(F2162,[1]Kontoplan!A:D,2,0)),\"Konto findes ikke!\",VLOOKUP(F2162,[1]Kontoplan!A:D,2,0)))","v":"Deltagergebyr, Dragonfest"}]
["2019-12-03",23,"Dragonfest, Jan Witzner Jensen",null,null,1040,null,100,{"$f":"IF(F2163=\"\",\"\",IF(ISERROR(VLOOKUP(F2163,[1]Kontoplan!A:D,2,0)),\"Konto findes ikke!\",VLOOKUP(F2163,[1]Kontoplan!A:D,2,0)))","v":"Udlejning af værelser"}]
["2019-12-03",23,"Dragonfest, Jan Witzner Jensen",null,null,1030,null,50,{"$f":"IF(F2164=\"\",\"\",IF(ISERROR(VLOOKUP(F2164,[1]Kontoplan!A:D,2,0)),\"Konto findes ikke!\",VLOOKUP(F2164,[1]Kontoplan!A:D,2,0)))","v":"Salg af morgenmad"}]
["2019-12-03",24,"Dragonfest, Jens Svendsen",null,null,12310,275,null,{"$f":"IF(F2165=\"\",\"\",IF(ISERROR(VLOOKUP(F2165,[1]Kontoplan!A:D,2,0)),\"Konto findes ikke!\",VLOOKUP(F2165,[1]Kontoplan!A:D,2,0)))","v":"Bank konto"}]
["2019-12-03",24,"Dragonfest, Jens Svendsen",null,null,1050,null,100,{"$f":"IF(F2166=\"\",\"\",IF(ISERROR(VLOOKUP(F2166,[1]Kontoplan!A:D,2,0)),\"Konto findes ikke!\",VLOOKUP(F2166,[1]Kontoplan!A:D,2,0)))","v":"Deltagergebyr, Dragonfest"}]
["2019-12-03",24,"Dragonfest, Jens Svendsen",null,null,1080,null,175,{"$f":"IF(F2167=\"\",\"\",IF(ISERROR(VLOOKUP(F2167,[1]Kontoplan!A:D,2,0)),\"Konto findes ikke!\",VLOOKUP(F2167,[1]Kontoplan!A:D,2,0)))","v":"Pengegaver"},"indbetalt formeget gives som pengegave"]
["2019-12-04",25,"Dragonfest, Morten Jensen",null,null,12310,100,null,{"$f":"IF(F2168=\"\",\"\",IF(ISERROR(VLOOKUP(F2168,[1]Kontoplan!A:D,2,0)),\"Konto findes ikke!\",VLOOKUP(F2168,[1]Kontoplan!A:D,2,0)))","v":"Bank konto"}]
["2019-12-04",25,"Dragonfest, Morten Jensen",null,null,1050,null,100,{"$f":"IF(F2169=\"\",\"\",IF(ISERROR(VLOOKUP(F2169,[1]Kontoplan!A:D,2,0)),\"Konto findes ikke!\",VLOOKUP(F2169,[1]Kontoplan!A:D,2,0)))","v":"Deltagergebyr, Dragonfest"}]
["2019-12-06",26,"Dragonfest, Carl-Erik Larsen",null,null,12310,100,null,{"$f":"IF(F2170=\"\",\"\",IF(ISERROR(VLOOKUP(F2170,[1]Kontoplan!A:D,2,0)),\"Konto findes ikke!\",VLOOKUP(F2170,[1]Kontoplan!A:D,2,0)))","v":"Bank konto"}]
["2019-12-06",26,"Dragonfest, Carl-Erik Larsen",null,null,1050,null,100,{"$f":"IF(F2171=\"\",\"\",IF(ISERROR(VLOOKUP(F2171,[1]Kontoplan!A:D,2,0)),\"Konto findes ikke!\",VLOOKUP(F2171,[1]Kontoplan!A:D,2,0)))","v":"Deltagergebyr, Dragonfest"}]
["2019-12-06",27,"Dragonfest, Eilief Grønvall Andersen",null,null,12310,100,null,{"$f":"IF(F2172=\"\",\"\",IF(ISERROR(VLOOKUP(F2172,[1]Kontoplan!A:D,2,0)),\"Konto findes ikke!\",VLOOKUP(F2172,[1]Kontoplan!A:D,2,0)))","v":"Bank konto"}]
["2019-12-06",27,"Dragonfest, Eilief Grønvall Andersen",null,null,1050,null,100,{"$f":"IF(F2173=\"\",\"\",IF(ISERROR(VLOOKUP(F2173,[1]Kontoplan!A:D,2,0)),\"Konto findes ikke!\",VLOOKUP(F2173,[1]Kontoplan!A:D,2,0)))","v":"Deltagergebyr, Dragonfest"}]
["2019-12-06",28,"Dragonfest, Jens P. Christoffersen",null,null,12310,100,null,{"$f":"IF(F2174=\"\",\"\",IF(ISERROR(VLOOKUP(F2174,[1]Kontoplan!A:D,2,0)),\"Konto findes ikke!\",VLOOKUP(F2174,[1]Kontoplan!A:D,2,0)))","v":"Bank konto"}]
["2019-12-06",28,"Dragonfest, Jens P. Christoffersen",null,null,1050,null,100,{"$f":"IF(F2175=\"\",\"\",IF(ISERROR(VLOOKUP(F2175,[1]Kontoplan!A:D,2,0)),\"Konto findes ikke!\",VLOOKUP(F2175,[1]Kontoplan!A:D,2,0)))","v":"Deltagergebyr, Dragonfest"}]
["2019-12-07",29,"Dragonfest, Susanne Kempfner Andersem",null,null,12310,100,null,{"$f":"IF(F2176=\"\",\"\",IF(ISERROR(VLOOKUP(F2176,[1]Kontoplan!A:D,2,0)),\"Konto findes ikke!\",VLOOKUP(F2176,[1]Kontoplan!A:D,2,0)))","v":"Bank konto"}]
["2019-12-07",29,"overført fra SBD fejlindtast",null,null,1050,null,100,{"$f":"IF(F2177=\"\",\"\",IF(ISERROR(VLOOKUP(F2177,[1]Kontoplan!A:D,2,0)),\"Konto findes ikke!\",VLOOKUP(F2177,[1]Kontoplan!A:D,2,0)))","v":"Deltagergebyr, Dragonfest"}]
["2019-12-09",30,"Dragonfest, Sven Holm Jensen",null,null,12310,100,null,{"$f":"IF(F2178=\"\",\"\",IF(ISERROR(VLOOKUP(F2178,[1]Kontoplan!A:D,2,0)),\"Konto findes ikke!\",VLOOKUP(F2178,[1]Kontoplan!A:D,2,0)))","v":"Bank konto"}]
["2019-12-09",30,"Dragonfest, Sven Holm Jensen",null,null,1050,null,100,{"$f":"IF(F2179=\"\",\"\",IF(ISERROR(VLOOKUP(F2179,[1]Kontoplan!A:D,2,0)),\"Konto findes ikke!\",VLOOKUP(F2179,[1]Kontoplan!A:D,2,0)))","v":"Deltagergebyr, Dragonfest"}]
["2019-12-09",31,"Dragonfest, Hans-Jørgen Jensen",null,null,12310,250,null,{"$f":"IF(F2180=\"\",\"\",IF(ISERROR(VLOOKUP(F2180,[1]Kontoplan!A:D,2,0)),\"Konto findes ikke!\",VLOOKUP(F2180,[1]Kontoplan!A:D,2,0)))","v":"Bank konto"}]
["2019-12-09",31,"Dragonfest, Hans-Jørgen Jensen",null,null,1050,null,100,{"$f":"IF(F2181=\"\",\"\",IF(ISERROR(VLOOKUP(F2181,[1]Kontoplan!A:D,2,0)),\"Konto findes ikke!\",VLOOKUP(F2181,[1]Kontoplan!A:D,2,0)))","v":"Deltagergebyr, Dragonfest"}]
["2019-12-09",31,"Dragonfest, Hans-Jørgen Jensen",null,null,1040,null,100,{"$f":"IF(F2182=\"\",\"\",IF(ISERROR(VLOOKUP(F2182,[1]Kontoplan!A:D,2,0)),\"Konto findes ikke!\",VLOOKUP(F2182,[1]Kontoplan!A:D,2,0)))","v":"Udlejning af værelser"}]
["2019-12-09",31,"Dragonfest, Hans-Jørgen Jensen",null,null,1030,null,50,{"$f":"IF(F2183=\"\",\"\",IF(ISERROR(VLOOKUP(F2183,[1]Kontoplan!A:D,2,0)),\"Konto findes ikke!\",VLOOKUP(F2183,[1]Kontoplan!A:D,2,0)))","v":"Salg af morgenmad"}]
["2019-12-09",32,"Dragonfest, Svend Kofoed",null,null,12310,100,null,{"$f":"IF(F2184=\"\",\"\",IF(ISERROR(VLOOKUP(F2184,[1]Kontoplan!A:D,2,0)),\"Konto findes ikke!\",VLOOKUP(F2184,[1]Kontoplan!A:D,2,0)))","v":"Bank konto"}]
["2019-12-09",32,"Dragonfest, Svend Kofoed",null,null,1050,null,100,{"$f":"IF(F2185=\"\",\"\",IF(ISERROR(VLOOKUP(F2185,[1]Kontoplan!A:D,2,0)),\"Konto findes ikke!\",VLOOKUP(F2185,[1]Kontoplan!A:D,2,0)))","v":"Deltagergebyr, Dragonfest"}]
["2019-12-09",33,"Dragonfest, Per Nielsen",null,null,12310,100,null,{"$f":"IF(F2186=\"\",\"\",IF(ISERROR(VLOOKUP(F2186,[1]Kontoplan!A:D,2,0)),\"Konto findes ikke!\",VLOOKUP(F2186,[1]Kontoplan!A:D,2,0)))","v":"Bank konto"}]
["2019-12-09",33,"Dragonfest, Per Nielsen",null,null,1050,null,100,{"$f":"IF(F2187=\"\",\"\",IF(ISERROR(VLOOKUP(F2187,[1]Kontoplan!A:D,2,0)),\"Konto findes ikke!\",VLOOKUP(F2187,[1]Kontoplan!A:D,2,0)))","v":"Deltagergebyr, Dragonfest"}]
["2019-12-09",34,"Dragonfest, Helle Miland",null,null,12310,100,null,{"$f":"IF(F2188=\"\",\"\",IF(ISERROR(VLOOKUP(F2188,[1]Kontoplan!A:D,2,0)),\"Konto findes ikke!\",VLOOKUP(F2188,[1]Kontoplan!A:D,2,0)))","v":"Bank konto"}]
["2019-12-09",34,"Dragonfest, Helle Miland",null,null,1050,null,100,{"$f":"IF(F2189=\"\",\"\",IF(ISERROR(VLOOKUP(F2189,[1]Kontoplan!A:D,2,0)),\"Konto findes ikke!\",VLOOKUP(F2189,[1]Kontoplan!A:D,2,0)))","v":"Deltagergebyr, Dragonfest"}]
["2019-12-11",35,"Dragonfest, Annette Dreyer",null,null,12310,100,null,{"$f":"IF(F2190=\"\",\"\",IF(ISERROR(VLOOKUP(F2190,[1]Kontoplan!A:D,2,0)),\"Konto findes ikke!\",VLOOKUP(F2190,[1]Kontoplan!A:D,2,0)))","v":"Bank konto"}]
["2019-12-11",35,"Dragonfest, Annette Dreyer",null,null,1050,null,100,{"$f":"IF(F2191=\"\",\"\",IF(ISERROR(VLOOKUP(F2191,[1]Kontoplan!A:D,2,0)),\"Konto findes ikke!\",VLOOKUP(F2191,[1]Kontoplan!A:D,2,0)))","v":"Deltagergebyr, Dragonfest"}]
["2019-12-11",36,"Dragonfest, N-J. Johansen SSG",null,null,12310,100,null,{"$f":"IF(F2192=\"\",\"\",IF(ISERROR(VLOOKUP(F2192,[1]Kontoplan!A:D,2,0)),\"Konto findes ikke!\",VLOOKUP(F2192,[1]Kontoplan!A:D,2,0)))","v":"Bank konto"}]
["2019-12-11",36,"Dragonfest, N-J. Johansen SSG",null,null,1050,null,100,{"$f":"IF(F2193=\"\",\"\",IF(ISERROR(VLOOKUP(F2193,[1]Kontoplan!A:D,2,0)),\"Konto findes ikke!\",VLOOKUP(F2193,[1]Kontoplan!A:D,2,0)))","v":"Deltagergebyr, Dragonfest"}]
["2019-12-12",37,"Dragonfest, Peter Munk Petersen",null,null,12310,300,null,{"$f":"IF(F2194=\"\",\"\",IF(ISERROR(VLOOKUP(F2194,[1]Kontoplan!A:D,2,0)),\"Konto findes ikke!\",VLOOKUP(F2194,[1]Kontoplan!A:D,2,0)))","v":"Bank konto"}]
["2019-12-12",37,"Dragonfest, Peter Munk Petersen",null,null,1050,null,100,{"$f":"IF(F2195=\"\",\"\",IF(ISERROR(VLOOKUP(F2195,[1]Kontoplan!A:D,2,0)),\"Konto findes ikke!\",VLOOKUP(F2195,[1]Kontoplan!A:D,2,0)))","v":"Deltagergebyr, Dragonfest"}]
["2019-12-12",37,"Dragonfest, Peter Munk Petersen",null,null,1040,null,200,{"$f":"IF(F2196=\"\",\"\",IF(ISERROR(VLOOKUP(F2196,[1]Kontoplan!A:D,2,0)),\"Konto findes ikke!\",VLOOKUP(F2196,[1]Kontoplan!A:D,2,0)))","v":"Udlejning af værelser"}]
["2019-12-12",38,"Dragonfest, Palle Schrøder Andersen",null,null,12310,100,null,{"$f":"IF(F2197=\"\",\"\",IF(ISERROR(VLOOKUP(F2197,[1]Kontoplan!A:D,2,0)),\"Konto findes ikke!\",VLOOKUP(F2197,[1]Kontoplan!A:D,2,0)))","v":"Bank konto"}]
["2019-12-12",38,"Dragonfest, Palle Schrøder Andersen",null,null,1050,null,100,{"$f":"IF(F2198=\"\",\"\",IF(ISERROR(VLOOKUP(F2198,[1]Kontoplan!A:D,2,0)),\"Konto findes ikke!\",VLOOKUP(F2198,[1]Kontoplan!A:D,2,0)))","v":"Deltagergebyr, Dragonfest"}]
["2019-12-12",39,"Dragonfest, John Nielsen",null,null,12310,100,null,{"$f":"IF(F2199=\"\",\"\",IF(ISERROR(VLOOKUP(F2199,[1]Kontoplan!A:D,2,0)),\"Konto findes ikke!\",VLOOKUP(F2199,[1]Kontoplan!A:D,2,0)))","v":"Bank konto"}]
["2019-12-12",39,"Dragonfest, John Nielsen",null,null,1050,null,100,{"$f":"IF(F2200=\"\",\"\",IF(ISERROR(VLOOKUP(F2200,[1]Kontoplan!A:D,2,0)),\"Konto findes ikke!\",VLOOKUP(F2200,[1]Kontoplan!A:D,2,0)))","v":"Deltagergebyr, Dragonfest"}]
["2019-12-12",40,"Dragonfest, Ole Holm",null,null,12310,150,null,{"$f":"IF(F2201=\"\",\"\",IF(ISERROR(VLOOKUP(F2201,[1]Kontoplan!A:D,2,0)),\"Konto findes ikke!\",VLOOKUP(F2201,[1]Kontoplan!A:D,2,0)))","v":"Bank konto"}]
["2019-12-12",40,"Dragonfest, Ole Holm",null,null,1050,null,100,{"$f":"IF(F2202=\"\",\"\",IF(ISERROR(VLOOKUP(F2202,[1]Kontoplan!A:D,2,0)),\"Konto findes ikke!\",VLOOKUP(F2202,[1]Kontoplan!A:D,2,0)))","v":"Deltagergebyr, Dragonfest"}]
["2019-12-12",40,"Dragonfest, Ole Holm",null,null,1030,null,50,{"$f":"IF(F2203=\"\",\"\",IF(ISERROR(VLOOKUP(F2203,[1]Kontoplan!A:D,2,0)),\"Konto findes ikke!\",VLOOKUP(F2203,[1]Kontoplan!A:D,2,0)))","v":"Salg af morgenmad"}]
["2019-12-12",41,"Dragonfest, Steen M Jensen",null,null,12310,100,null,{"$f":"IF(F2204=\"\",\"\",IF(ISERROR(VLOOKUP(F2204,[1]Kontoplan!A:D,2,0)),\"Konto findes ikke!\",VLOOKUP(F2204,[1]Kontoplan!A:D,2,0)))","v":"Bank konto"}]
["2019-12-12",41,"Dragonfest, Steen M Jensen",null,null,1050,null,100,{"$f":"IF(F2205=\"\",\"\",IF(ISERROR(VLOOKUP(F2205,[1]Kontoplan!A:D,2,0)),\"Konto findes ikke!\",VLOOKUP(F2205,[1]Kontoplan!A:D,2,0)))","v":"Deltagergebyr, Dragonfest"}]
["2019-12-13",42,"Dragonfest, Ole Holm",null,null,12310,100,null,{"$f":"IF(F2206=\"\",\"\",IF(ISERROR(VLOOKUP(F2206,[1]Kontoplan!A:D,2,0)),\"Konto findes ikke!\",VLOOKUP(F2206,[1]Kontoplan!A:D,2,0)))","v":"Bank konto"}]
["2019-12-13",42,"Dragonfest, Ole Holm",null,null,1040,null,100,{"$f":"IF(F2207=\"\",\"\",IF(ISERROR(VLOOKUP(F2207,[1]Kontoplan!A:D,2,0)),\"Konto findes ikke!\",VLOOKUP(F2207,[1]Kontoplan!A:D,2,0)))","v":"Udlejning af værelser"}]
["2019-12-13",43,"Dragonfest, Flemming Olsen",null,null,12310,100,null,{"$f":"IF(F2208=\"\",\"\",IF(ISERROR(VLOOKUP(F2208,[1]Kontoplan!A:D,2,0)),\"Konto findes ikke!\",VLOOKUP(F2208,[1]Kontoplan!A:D,2,0)))","v":"Bank konto"}]
["2019-12-13",43,"Dragonfest, Flemming Olsen",null,null,1050,null,100,{"$f":"IF(F2209=\"\",\"\",IF(ISERROR(VLOOKUP(F2209,[1]Kontoplan!A:D,2,0)),\"Konto findes ikke!\",VLOOKUP(F2209,[1]Kontoplan!A:D,2,0)))","v":"Deltagergebyr, Dragonfest"}]
["2019-12-14",44,"Dragonfest, Michael Fausing",null,null,12310,100,null,{"$f":"IF(F2210=\"\",\"\",IF(ISERROR(VLOOKUP(F2210,[1]Kontoplan!A:D,2,0)),\"Konto findes ikke!\",VLOOKUP(F2210,[1]Kontoplan!A:D,2,0)))","v":"Bank konto"}]
["2019-12-14",44,"Dragonfest, Michael Fausing",null,null,1050,null,100,{"$f":"IF(F2211=\"\",\"\",IF(ISERROR(VLOOKUP(F2211,[1]Kontoplan!A:D,2,0)),\"Konto findes ikke!\",VLOOKUP(F2211,[1]Kontoplan!A:D,2,0)))","v":"Deltagergebyr, Dragonfest"}]
["2019-12-14",45,"Dragonfest, Allan Olsen",null,null,12310,100,null,{"$f":"IF(F2212=\"\",\"\",IF(ISERROR(VLOOKUP(F2212,[1]Kontoplan!A:D,2,0)),\"Konto findes ikke!\",VLOOKUP(F2212,[1]Kontoplan!A:D,2,0)))","v":"Bank konto"}]
["2019-12-14",45,"Dragonfest, Allan Olsen",null,null,1050,null,100,{"$f":"IF(F2213=\"\",\"\",IF(ISERROR(VLOOKUP(F2213,[1]Kontoplan!A:D,2,0)),\"Konto findes ikke!\",VLOOKUP(F2213,[1]Kontoplan!A:D,2,0)))","v":"Deltagergebyr, Dragonfest"}]
["2019-12-14",46,"Dragonfest, C. U. Essemann-Beck",null,null,12310,100,null,{"$f":"IF(F2214=\"\",\"\",IF(ISERROR(VLOOKUP(F2214,[1]Kontoplan!A:D,2,0)),\"Konto findes ikke!\",VLOOKUP(F2214,[1]Kontoplan!A:D,2,0)))","v":"Bank konto"}]
["2019-12-14",46,"Dragonfest, C. U. Essemann-Beck",null,null,1050,null,100,{"$f":"IF(F2215=\"\",\"\",IF(ISERROR(VLOOKUP(F2215,[1]Kontoplan!A:D,2,0)),\"Konto findes ikke!\",VLOOKUP(F2215,[1]Kontoplan!A:D,2,0)))","v":"Deltagergebyr, Dragonfest"}]
["2019-12-14",47,"Dragonfest, Carsten Egeskov-Gjerka",null,null,12310,100,null,{"$f":"IF(F2216=\"\",\"\",IF(ISERROR(VLOOKUP(F2216,[1]Kontoplan!A:D,2,0)),\"Konto findes ikke!\",VLOOKUP(F2216,[1]Kontoplan!A:D,2,0)))","v":"Bank konto"}]
["2019-12-14",47,"Dragonfest, Carsten Egeskov-Gjerka",null,null,1050,null,100,{"$f":"IF(F2217=\"\",\"\",IF(ISERROR(VLOOKUP(F2217,[1]Kontoplan!A:D,2,0)),\"Konto findes ikke!\",VLOOKUP(F2217,[1]Kontoplan!A:D,2,0)))","v":"Deltagergebyr, Dragonfest"}]
["2019-12-16",48,"Dragonfest, Palle Jensen",null,null,12310,100,null,{"$f":"IF(F2218=\"\",\"\",IF(ISERROR(VLOOKUP(F2218,[1]Kontoplan!A:D,2,0)),\"Konto findes ikke!\",VLOOKUP(F2218,[1]Kontoplan!A:D,2,0)))","v":"Bank konto"}]
["2019-12-16",48,"Dragonfest, Palle Jensen",null,null,1050,null,100,{"$f":"IF(F2219=\"\",\"\",IF(ISERROR(VLOOKUP(F2219,[1]Kontoplan!A:D,2,0)),\"Konto findes ikke!\",VLOOKUP(F2219,[1]Kontoplan!A:D,2,0)))","v":"Deltagergebyr, Dragonfest"}]
["2019-12-18",49,"Dragonfest, Kim Bjelstrand",null,null,12310,100,null,{"$f":"IF(F2220=\"\",\"\",IF(ISERROR(VLOOKUP(F2220,[1]Kontoplan!A:D,2,0)),\"Konto findes ikke!\",VLOOKUP(F2220,[1]Kontoplan!A:D,2,0)))","v":"Bank konto"}]
["2019-12-18",49,"Dragonfest, Kim Bjelstrand",null,null,1050,null,100,{"$f":"IF(F2221=\"\",\"\",IF(ISERROR(VLOOKUP(F2221,[1]Kontoplan!A:D,2,0)),\"Konto findes ikke!\",VLOOKUP(F2221,[1]Kontoplan!A:D,2,0)))","v":"Deltagergebyr, Dragonfest"}]
["2019-12-19",50,"Dragonfest, Bent Ellevang",null,null,12310,225,null,{"$f":"IF(F2222=\"\",\"\",IF(ISERROR(VLOOKUP(F2222,[1]Kontoplan!A:D,2,0)),\"Konto findes ikke!\",VLOOKUP(F2222,[1]Kontoplan!A:D,2,0)))","v":"Bank konto"}]
["2019-12-19",50,"Dragonfest, Bent Ellevang",null,null,1030,null,25,{"$f":"IF(F2223=\"\",\"\",IF(ISERROR(VLOOKUP(F2223,[1]Kontoplan!A:D,2,0)),\"Konto findes ikke!\",VLOOKUP(F2223,[1]Kontoplan!A:D,2,0)))","v":"Salg af morgenmad"}]
["2019-12-19",50,"Dragonfest, Bent Ellevang",null,null,1040,null,200,{"$f":"IF(F2224=\"\",\"\",IF(ISERROR(VLOOKUP(F2224,[1]Kontoplan!A:D,2,0)),\"Konto findes ikke!\",VLOOKUP(F2224,[1]Kontoplan!A:D,2,0)))","v":"Udlejning af værelser"}]
["2019-12-19",51,"Dragonfest, Ebbe M Jensen",null,null,12310,100,null,{"$f":"IF(F2225=\"\",\"\",IF(ISERROR(VLOOKUP(F2225,[1]Kontoplan!A:D,2,0)),\"Konto findes ikke!\",VLOOKUP(F2225,[1]Kontoplan!A:D,2,0)))","v":"Bank konto"}]
["2019-12-19",51,"Dragonfest, Ebbe M Jensen",null,null,1050,null,100,{"$f":"IF(F2226=\"\",\"\",IF(ISERROR(VLOOKUP(F2226,[1]Kontoplan!A:D,2,0)),\"Konto findes ikke!\",VLOOKUP(F2226,[1]Kontoplan!A:D,2,0)))","v":"Deltagergebyr, Dragonfest"}]
["2019-12-19",52,"Dragonfest, Steen R Jensen",null,null,12310,250,null,{"$f":"IF(F2227=\"\",\"\",IF(ISERROR(VLOOKUP(F2227,[1]Kontoplan!A:D,2,0)),\"Konto findes ikke!\",VLOOKUP(F2227,[1]Kontoplan!A:D,2,0)))","v":"Bank konto"}]
["2019-12-19",52,"Dragonfest, Steen R Jensen",null,null,1050,null,100,{"$f":"IF(F2228=\"\",\"\",IF(ISERROR(VLOOKUP(F2228,[1]Kontoplan!A:D,2,0)),\"Konto findes ikke!\",VLOOKUP(F2228,[1]Kontoplan!A:D,2,0)))","v":"Deltagergebyr, Dragonfest"}]
["2019-12-19",52,"Dragonfest, Steen R Jensen",null,null,1040,null,100,{"$f":"IF(F2229=\"\",\"\",IF(ISERROR(VLOOKUP(F2229,[1]Kontoplan!A:D,2,0)),\"Konto findes ikke!\",VLOOKUP(F2229,[1]Kontoplan!A:D,2,0)))","v":"Udlejning af værelser"}]
["2019-12-19",52,"Dragonfest, Steen R Jensen",null,null,1030,null,50,{"$f":"IF(F2230=\"\",\"\",IF(ISERROR(VLOOKUP(F2230,[1]Kontoplan!A:D,2,0)),\"Konto findes ikke!\",VLOOKUP(F2230,[1]Kontoplan!A:D,2,0)))","v":"Salg af morgenmad"}]
["2019-12-20",53,"Dragonfest, Knud Arne Rasmussen",null,null,12310,100,null,{"$f":"IF(F2231=\"\",\"\",IF(ISERROR(VLOOKUP(F2231,[1]Kontoplan!A:D,2,0)),\"Konto findes ikke!\",VLOOKUP(F2231,[1]Kontoplan!A:D,2,0)))","v":"Bank konto"}]
["2019-12-20",53,"Dragonfest, Knud Arne Rasmussen",null,null,1050,null,100,{"$f":"IF(F2232=\"\",\"\",IF(ISERROR(VLOOKUP(F2232,[1]Kontoplan!A:D,2,0)),\"Konto findes ikke!\",VLOOKUP(F2232,[1]Kontoplan!A:D,2,0)))","v":"Deltagergebyr, Dragonfest"}]
["2019-12-20",54,"Dragonfest, E.A. Larsen",null,null,12310,100,null,{"$f":"IF(F2233=\"\",\"\",IF(ISERROR(VLOOKUP(F2233,[1]Kontoplan!A:D,2,0)),\"Konto findes ikke!\",VLOOKUP(F2233,[1]Kontoplan!A:D,2,0)))","v":"Bank konto"}]
["2019-12-20",54,"Dragonfest, E.A. Larsen",null,null,1050,null,100,{"$f":"IF(F2234=\"\",\"\",IF(ISERROR(VLOOKUP(F2234,[1]Kontoplan!A:D,2,0)),\"Konto findes ikke!\",VLOOKUP(F2234,[1]Kontoplan!A:D,2,0)))","v":"Deltagergebyr, Dragonfest"}]
["2019-12-20",55,"Dragonfest, Jan Kristoffersen",null,null,12310,100,null,{"$f":"IF(F2235=\"\",\"\",IF(ISERROR(VLOOKUP(F2235,[1]Kontoplan!A:D,2,0)),\"Konto findes ikke!\",VLOOKUP(F2235,[1]Kontoplan!A:D,2,0)))","v":"Bank konto"}]
["2019-12-20",55,"Dragonfest, Jan Kristoffersen",null,null,1050,null,100,{"$f":"IF(F2236=\"\",\"\",IF(ISERROR(VLOOKUP(F2236,[1]Kontoplan!A:D,2,0)),\"Konto findes ikke!\",VLOOKUP(F2236,[1]Kontoplan!A:D,2,0)))","v":"Deltagergebyr, Dragonfest"}]
["2019-12-23",56,"Dragonfest, Johnny Kofoed",null,null,12310,100,null,{"$f":"IF(F2237=\"\",\"\",IF(ISERROR(VLOOKUP(F2237,[1]Kontoplan!A:D,2,0)),\"Konto findes ikke!\",VLOOKUP(F2237,[1]Kontoplan!A:D,2,0)))","v":"Bank konto"}]
["2019-12-23",56,"Dragonfest, Johnny Kofoed",null,null,1050,null,100,{"$f":"IF(F2238=\"\",\"\",IF(ISERROR(VLOOKUP(F2238,[1]Kontoplan!A:D,2,0)),\"Konto findes ikke!\",VLOOKUP(F2238,[1]Kontoplan!A:D,2,0)))","v":"Deltagergebyr, Dragonfest"}]
["2019-12-23",57,"Kontigent, Jens Dideriksen",null,null,12310,575,null,{"$f":"IF(F2239=\"\",\"\",IF(ISERROR(VLOOKUP(F2239,[1]Kontoplan!A:D,2,0)),\"Konto findes ikke!\",VLOOKUP(F2239,[1]Kontoplan!A:D,2,0)))","v":"Bank konto"}]
["2019-12-23",57,"Kontigent, Jens Dideriksen",107,2020,1000,null,175,{"$f":"IF(F2240=\"\",\"\",IF(ISERROR(VLOOKUP(F2240,[1]Kontoplan!A:D,2,0)),\"Konto findes ikke!\",VLOOKUP(F2240,[1]Kontoplan!A:D,2,0)))","v":"Kontingenter"}]
["2019-12-23",57,"Dragonfest, Jens Dideriksen",null,null,1050,null,100,{"$f":"IF(F2241=\"\",\"\",IF(ISERROR(VLOOKUP(F2241,[1]Kontoplan!A:D,2,0)),\"Konto findes ikke!\",VLOOKUP(F2241,[1]Kontoplan!A:D,2,0)))","v":"Deltagergebyr, Dragonfest"}]
["2019-12-23",57,"Dragonfest, Jens Dideriksen",null,null,1040,null,200,{"$f":"IF(F2242=\"\",\"\",IF(ISERROR(VLOOKUP(F2242,[1]Kontoplan!A:D,2,0)),\"Konto findes ikke!\",VLOOKUP(F2242,[1]Kontoplan!A:D,2,0)))","v":"Udlejning af værelser"}]
["2019-12-23",57,"Dragonfest, Jens Dideriksen",null,null,1040,null,100,{"$f":"IF(F2243=\"\",\"\",IF(ISERROR(VLOOKUP(F2243,[1]Kontoplan!A:D,2,0)),\"Konto findes ikke!\",VLOOKUP(F2243,[1]Kontoplan!A:D,2,0)))","v":"Udlejning af værelser"},"kun betale fredag og lørdag overnatning"]
["2019-12-24",58,"overført til SBD, Essemann kontingent",null,null,12310,null,175,{"$f":"IF(F2244=\"\",\"\",IF(ISERROR(VLOOKUP(F2244,[1]Kontoplan!A:D,2,0)),\"Konto findes ikke!\",VLOOKUP(F2244,[1]Kontoplan!A:D,2,0)))","v":"Bank konto"}]
["2019-12-24",58,"overført til SBD, Essemann kontingent",null,null,2060,175,null,{"$f":"IF(F2245=\"\",\"\",IF(ISERROR(VLOOKUP(F2245,[1]Kontoplan!A:D,2,0)),\"Konto findes ikke!\",VLOOKUP(F2245,[1]Kontoplan!A:D,2,0)))","v":"Overført til SBD"}]
["2019-12-24",59,"Dragonfest, Kaare Hansen",null,null,12310,100,null,{"$f":"IF(F2246=\"\",\"\",IF(ISERROR(VLOOKUP(F2246,[1]Kontoplan!A:D,2,0)),\"Konto findes ikke!\",VLOOKUP(F2246,[1]Kontoplan!A:D,2,0)))","v":"Bank konto"}]
["2019-12-24",59,"Dragonfest, Kaare Hansen",null,null,1050,null,100,{"$f":"IF(F2247=\"\",\"\",IF(ISERROR(VLOOKUP(F2247,[1]Kontoplan!A:D,2,0)),\"Konto findes ikke!\",VLOOKUP(F2247,[1]Kontoplan!A:D,2,0)))","v":"Deltagergebyr, Dragonfest"}]
["2019-12-24",60,"Dragonfest, Søren Dyrby Schou",null,null,12310,100,null,{"$f":"IF(F2248=\"\",\"\",IF(ISERROR(VLOOKUP(F2248,[1]Kontoplan!A:D,2,0)),\"Konto findes ikke!\",VLOOKUP(F2248,[1]Kontoplan!A:D,2,0)))","v":"Bank konto"}]
["2019-12-24",60,"Dragonfest, Søren Dyrby Schou",null,null,1050,null,100,{"$f":"IF(F2249=\"\",\"\",IF(ISERROR(VLOOKUP(F2249,[1]Kontoplan!A:D,2,0)),\"Konto findes ikke!\",VLOOKUP(F2249,[1]Kontoplan!A:D,2,0)))","v":"Deltagergebyr, Dragonfest"}]
["2019-12-27",61,"Dragonfest, Freddy",null,null,12310,100,null,{"$f":"IF(F2250=\"\",\"\",IF(ISERROR(VLOOKUP(F2250,[1]Kontoplan!A:D,2,0)),\"Konto findes ikke!\",VLOOKUP(F2250,[1]Kontoplan!A:D,2,0)))","v":"Bank konto"}]
["2019-12-27",61,"Dragonfest, Freddy",null,null,1050,null,100,{"$f":"IF(F2251=\"\",\"\",IF(ISERROR(VLOOKUP(F2251,[1]Kontoplan!A:D,2,0)),\"Konto findes ikke!\",VLOOKUP(F2251,[1]Kontoplan!A:D,2,0)))","v":"Deltagergebyr, Dragonfest"}]
["2019-12-27",62,"Dragonfest, Jens Givskov",null,null,12310,200,null,{"$f":"IF(F2252=\"\",\"\",IF(ISERROR(VLOOKUP(F2252,[1]Kontoplan!A:D,2,0)),\"Konto findes ikke!\",VLOOKUP(F2252,[1]Kontoplan!A:D,2,0)))","v":"Bank konto"}]
["2019-12-27",62,"Dragonfest, Jens Givskov",null,null,1040,null,200,{"$f":"IF(F2253=\"\",\"\",IF(ISERROR(VLOOKUP(F2253,[1]Kontoplan!A:D,2,0)),\"Konto findes ikke!\",VLOOKUP(F2253,[1]Kontoplan!A:D,2,0)))","v":"Udlejning af værelser"}]
["2019-12-29",63,"overført til SBD ,Perles kontingent",null,null,12310,null,175,{"$f":"IF(F2254=\"\",\"\",IF(ISERROR(VLOOKUP(F2254,[1]Kontoplan!A:D,2,0)),\"Konto findes ikke!\",VLOOKUP(F2254,[1]Kontoplan!A:D,2,0)))","v":"Bank konto"},"indbetalt d. 29/7-19"]
["2019-12-29",63,"overført til SBD ,Perles kontingent",null,null,2060,175,null,{"$f":"IF(F2255=\"\",\"\",IF(ISERROR(VLOOKUP(F2255,[1]Kontoplan!A:D,2,0)),\"Konto findes ikke!\",VLOOKUP(F2255,[1]Kontoplan!A:D,2,0)))","v":"Overført til SBD"},"indbetalt d. 29/7-19"]
["2019-12-30",64,"Dragonfest, Flemming Larsen",null,null,12310,100,null,{"$f":"IF(F2256=\"\",\"\",IF(ISERROR(VLOOKUP(F2256,[1]Kontoplan!A:D,2,0)),\"Konto findes ikke!\",VLOOKUP(F2256,[1]Kontoplan!A:D,2,0)))","v":"Bank konto"}]
["2019-12-30",64,"Dragonfest, Flemming Larsen",null,null,1050,null,100,{"$f":"IF(F2257=\"\",\"\",IF(ISERROR(VLOOKUP(F2257,[1]Kontoplan!A:D,2,0)),\"Konto findes ikke!\",VLOOKUP(F2257,[1]Kontoplan!A:D,2,0)))","v":"Deltagergebyr, Dragonfest"}]
["2019-12-31",65,"Gebyr ifølge nota",null,null,12310,null,75,{"$f":"IF(F2258=\"\",\"\",IF(ISERROR(VLOOKUP(F2258,[1]Kontoplan!A:D,2,0)),\"Konto findes ikke!\",VLOOKUP(F2258,[1]Kontoplan!A:D,2,0)))","v":"Bank konto"}]
["2019-12-31",65,"Gebyr ifølge nota",null,null,2130,75,null,{"$f":"IF(F2259=\"\",\"\",IF(ISERROR(VLOOKUP(F2259,[1]Kontoplan!A:D,2,0)),\"Konto findes ikke!\",VLOOKUP(F2259,[1]Kontoplan!A:D,2,0)))","v":"Bankgebyr/Renter"}]
["2020-01-03",66,"Dragonfest, Jesper vindum",null,null,12310,375,null,{"$f":"IF(F2260=\"\",\"\",IF(ISERROR(VLOOKUP(F2260,[1]Kontoplan!A:D,2,0)),\"Konto findes ikke!\",VLOOKUP(F2260,[1]Kontoplan!A:D,2,0)))","v":"Bank konto"}]
["2020-01-03",66,"Dragonfest, Jesper vindum",null,null,1040,null,200,{"$f":"IF(F2261=\"\",\"\",IF(ISERROR(VLOOKUP(F2261,[1]Kontoplan!A:D,2,0)),\"Konto findes ikke!\",VLOOKUP(F2261,[1]Kontoplan!A:D,2,0)))","v":"Udlejning af værelser"}]
["2020-01-03",66,"Dragonfest, Jesper vindum",null,null,1130,null,175,{"$f":"IF(F2262=\"\",\"\",IF(ISERROR(VLOOKUP(F2262,[1]Kontoplan!A:D,2,0)),\"Konto findes ikke!\",VLOOKUP(F2262,[1]Kontoplan!A:D,2,0)))","v":"Diverse Indtægter"},"overføres til SBD"]
["2020-01-04",67,"overført, vindum kotingent til SBD",null,null,12310,null,175,{"$f":"IF(F2263=\"\",\"\",IF(ISERROR(VLOOKUP(F2263,[1]Kontoplan!A:D,2,0)),\"Konto findes ikke!\",VLOOKUP(F2263,[1]Kontoplan!A:D,2,0)))","v":"Bank konto"}]
["2020-01-04",67,"overført, vindum kotingent til SBD",null,null,2060,175,null,{"$f":"IF(F2264=\"\",\"\",IF(ISERROR(VLOOKUP(F2264,[1]Kontoplan!A:D,2,0)),\"Konto findes ikke!\",VLOOKUP(F2264,[1]Kontoplan!A:D,2,0)))","v":"Overført til SBD"}]
["2020-01-08",68,"Dragonfest, Jesper vindum",null,null,12310,100,null,{"$f":"IF(F2265=\"\",\"\",IF(ISERROR(VLOOKUP(F2265,[1]Kontoplan!A:D,2,0)),\"Konto findes ikke!\",VLOOKUP(F2265,[1]Kontoplan!A:D,2,0)))","v":"Bank konto"}]
["2020-01-08",68,"Dragonfest, Jesper vindum",null,null,1050,null,100,{"$f":"IF(F2266=\"\",\"\",IF(ISERROR(VLOOKUP(F2266,[1]Kontoplan!A:D,2,0)),\"Konto findes ikke!\",VLOOKUP(F2266,[1]Kontoplan!A:D,2,0)))","v":"Deltagergebyr, Dragonfest"}]
["2020-01-08",69,"Rema 1000 Dragonfest",null,null,12310,null,312.33999999999997,{"$f":"IF(F2267=\"\",\"\",IF(ISERROR(VLOOKUP(F2267,[1]Kontoplan!A:D,2,0)),\"Konto findes ikke!\",VLOOKUP(F2267,[1]Kontoplan!A:D,2,0)))","v":"Bank konto"}]
["2020-01-08",69,"Rema 1000 Dragonfest",null,null,2030,312.33999999999997,null,{"$f":"IF(F2268=\"\",\"\",IF(ISERROR(VLOOKUP(F2268,[1]Kontoplan!A:D,2,0)),\"Konto findes ikke!\",VLOOKUP(F2268,[1]Kontoplan!A:D,2,0)))","v":"Morgenmad/GF"}]
["2020-01-09",70,"Bornholms papirlager, Dragonfest",null,null,12310,null,360,{"$f":"IF(F2269=\"\",\"\",IF(ISERROR(VLOOKUP(F2269,[1]Kontoplan!A:D,2,0)),\"Konto findes ikke!\",VLOOKUP(F2269,[1]Kontoplan!A:D,2,0)))","v":"Bank konto"}]
["2020-01-09",70,"Bornholms papirlager, Dragonfest",null,null,2100,360,null,{"$f":"IF(F2270=\"\",\"\",IF(ISERROR(VLOOKUP(F2270,[1]Kontoplan!A:D,2,0)),\"Konto findes ikke!\",VLOOKUP(F2270,[1]Kontoplan!A:D,2,0)))","v":"Forplejning til møder/Rejser"}]
["2020-01-10",71,"Dragonfest, Ole Larsen",null,null,12310,100,null,{"$f":"IF(F2271=\"\",\"\",IF(ISERROR(VLOOKUP(F2271,[1]Kontoplan!A:D,2,0)),\"Konto findes ikke!\",VLOOKUP(F2271,[1]Kontoplan!A:D,2,0)))","v":"Bank konto"}]
["2020-01-10",71,"Dragonfest, Ole Larsen",null,null,1050,null,100,{"$f":"IF(F2272=\"\",\"\",IF(ISERROR(VLOOKUP(F2272,[1]Kontoplan!A:D,2,0)),\"Konto findes ikke!\",VLOOKUP(F2272,[1]Kontoplan!A:D,2,0)))","v":"Deltagergebyr, Dragonfest"}]
["2020-01-12",72,"udlæg for Øl til Dragonfest, Richard Finne",null,null,12310,null,1000,{"$f":"IF(F2273=\"\",\"\",IF(ISERROR(VLOOKUP(F2273,[1]Kontoplan!A:D,2,0)),\"Konto findes ikke!\",VLOOKUP(F2273,[1]Kontoplan!A:D,2,0)))","v":"Bank konto"}]
["2020-01-12",72,"udlæg for Øl til Dragonfest, Richard Finne",null,null,2010,1000,null,{"$f":"IF(F2274=\"\",\"\",IF(ISERROR(VLOOKUP(F2274,[1]Kontoplan!A:D,2,0)),\"Konto findes ikke!\",VLOOKUP(F2274,[1]Kontoplan!A:D,2,0)))","v":"Indkøb af øl + vand"}]
["2020-01-13",73,"3 * 100kr værelser",null,null,12310,300,null,{"$f":"IF(F2275=\"\",\"\",IF(ISERROR(VLOOKUP(F2275,[1]Kontoplan!A:D,2,0)),\"Konto findes ikke!\",VLOOKUP(F2275,[1]Kontoplan!A:D,2,0)))","v":"Bank konto"}]
["2020-01-13",73,"3 * 100kr værelser",null,null,1040,null,300,{"$f":"IF(F2276=\"\",\"\",IF(ISERROR(VLOOKUP(F2276,[1]Kontoplan!A:D,2,0)),\"Konto findes ikke!\",VLOOKUP(F2276,[1]Kontoplan!A:D,2,0)))","v":"Udlejning af værelser"}]
["2020-01-13",74,"Flaskepant, indsat",null,null,12310,192.5,null,{"$f":"IF(F2277=\"\",\"\",IF(ISERROR(VLOOKUP(F2277,[1]Kontoplan!A:D,2,0)),\"Konto findes ikke!\",VLOOKUP(F2277,[1]Kontoplan!A:D,2,0)))","v":"Bank konto"}]
["2020-01-13",74,"Flaskepant, indsat",null,null,1130,null,192.5,{"$f":"IF(F2278=\"\",\"\",IF(ISERROR(VLOOKUP(F2278,[1]Kontoplan!A:D,2,0)),\"Konto findes ikke!\",VLOOKUP(F2278,[1]Kontoplan!A:D,2,0)))","v":"Diverse Indtægter"}]
["2020-01-13",75,"Salg af øl-vand-mærker",null,null,12310,1615,null,{"$f":"IF(F2279=\"\",\"\",IF(ISERROR(VLOOKUP(F2279,[1]Kontoplan!A:D,2,0)),\"Konto findes ikke!\",VLOOKUP(F2279,[1]Kontoplan!A:D,2,0)))","v":"Bank konto"}]
["2020-01-13",75,"Salg af øl-vand-mærker",null,null,1020,null,1515,{"$f":"IF(F2280=\"\",\"\",IF(ISERROR(VLOOKUP(F2280,[1]Kontoplan!A:D,2,0)),\"Konto findes ikke!\",VLOOKUP(F2280,[1]Kontoplan!A:D,2,0)))","v":"Salg af øl + vand"}]
["2020-01-13",75,"Salg af øl-vand-mærker",null,null,1010,null,100,{"$f":"IF(F2281=\"\",\"\",IF(ISERROR(VLOOKUP(F2281,[1]Kontoplan!A:D,2,0)),\"Konto findes ikke!\",VLOOKUP(F2281,[1]Kontoplan!A:D,2,0)))","v":"Salg af mærker"}]
["2020-01-13",76,"Mad til Dragonfest, Rabeækkens madservice",null,null,12310,null,4320,{"$f":"IF(F2282=\"\",\"\",IF(ISERROR(VLOOKUP(F2282,[1]Kontoplan!A:D,2,0)),\"Konto findes ikke!\",VLOOKUP(F2282,[1]Kontoplan!A:D,2,0)))","v":"Bank konto"}]
["2020-01-13",76,"Mad til Dragonfest, Rabeækkens madservice",null,null,2090,4320,null,{"$f":"IF(F2283=\"\",\"\",IF(ISERROR(VLOOKUP(F2283,[1]Kontoplan!A:D,2,0)),\"Konto findes ikke!\",VLOOKUP(F2283,[1]Kontoplan!A:D,2,0)))","v":"Mad til Dragonfest"}]
["2020-01-13",77,"Rest på faktura på Dragonøl til Richard",null,null,12310,null,12.5,{"$f":"IF(F2284=\"\",\"\",IF(ISERROR(VLOOKUP(F2284,[1]Kontoplan!A:D,2,0)),\"Konto findes ikke!\",VLOOKUP(F2284,[1]Kontoplan!A:D,2,0)))","v":"Bank konto"}]
["2020-01-13",77,"Rest på faktura på Dragonøl til Richard",null,null,2010,12.5,null,{"$f":"IF(F2285=\"\",\"\",IF(ISERROR(VLOOKUP(F2285,[1]Kontoplan!A:D,2,0)),\"Konto findes ikke!\",VLOOKUP(F2285,[1]Kontoplan!A:D,2,0)))","v":"Indkøb af øl + vand"}]
["2020-01-26",78,"rejse til skruedag, Ole Holm",null,null,12310,null,538,{"$f":"IF(F2286=\"\",\"\",IF(ISERROR(VLOOKUP(F2286,[1]Kontoplan!A:D,2,0)),\"Konto findes ikke!\",VLOOKUP(F2286,[1]Kontoplan!A:D,2,0)))","v":"Bank konto"}]
["2020-01-26",78,"rejse til skruedag, Ole Holm",null,null,2160,538,null,{"$f":"IF(F2287=\"\",\"\",IF(ISERROR(VLOOKUP(F2287,[1]Kontoplan!A:D,2,0)),\"Konto findes ikke!\",VLOOKUP(F2287,[1]Kontoplan!A:D,2,0)))","v":"Rejser"}]
["2020-01-27",79,"Udlæg til startere, Morten",null,null,12310,null,7020.85,{"$f":"IF(F2288=\"\",\"\",IF(ISERROR(VLOOKUP(F2288,[1]Kontoplan!A:D,2,0)),\"Konto findes ikke!\",VLOOKUP(F2288,[1]Kontoplan!A:D,2,0)))","v":"Bank konto"}]
["2020-01-27",79,"Udlæg til startere, Morten",null,null,2080,7020.85,null,{"$f":"IF(F2289=\"\",\"\",IF(ISERROR(VLOOKUP(F2289,[1]Kontoplan!A:D,2,0)),\"Konto findes ikke!\",VLOOKUP(F2289,[1]Kontoplan!A:D,2,0)))","v":"Reservedele"},"2 startere til M24"]
["2020-01-31",80,"NøgleBox bygning 42",null,null,12310,null,355,{"$f":"IF(F2290=\"\",\"\",IF(ISERROR(VLOOKUP(F2290,[1]Kontoplan!A:D,2,0)),\"Konto findes ikke!\",VLOOKUP(F2290,[1]Kontoplan!A:D,2,0)))","v":"Bank konto"}]
["2020-01-31",80,"NøgleBox bygning 43",null,null,2190,355,null,{"$f":"IF(F2291=\"\",\"\",IF(ISERROR(VLOOKUP(F2291,[1]Kontoplan!A:D,2,0)),\"Konto findes ikke!\",VLOOKUP(F2291,[1]Kontoplan!A:D,2,0)))","v":"Diverse Indkøb"}]
["2020-02-02",81,"Forplejning skuehold 24-25/1-20",null,null,12310,null,50,{"$f":"IF(F2292=\"\",\"\",IF(ISERROR(VLOOKUP(F2292,[1]Kontoplan!A:D,2,0)),\"Konto findes ikke!\",VLOOKUP(F2292,[1]Kontoplan!A:D,2,0)))","v":"Bank konto"}]
["2020-02-02",81,"Forplejning skuehold 24-25/1-20",null,null,2100,50,null,{"$f":"IF(F2293=\"\",\"\",IF(ISERROR(VLOOKUP(F2293,[1]Kontoplan!A:D,2,0)),\"Konto findes ikke!\",VLOOKUP(F2293,[1]Kontoplan!A:D,2,0)))","v":"Forplejning til møder/Rejser"}]
["2020-02-03",82,"Udlæg bremsebånd, Moreten",null,null,12310,null,2518.4499999999998,{"$f":"IF(F2294=\"\",\"\",IF(ISERROR(VLOOKUP(F2294,[1]Kontoplan!A:D,2,0)),\"Konto findes ikke!\",VLOOKUP(F2294,[1]Kontoplan!A:D,2,0)))","v":"Bank konto"}]
["2020-02-03",82,"Udlæg bremsebånd, Moreten",null,null,2080,2518.4499999999998,null,{"$f":"IF(F2295=\"\",\"\",IF(ISERROR(VLOOKUP(F2295,[1]Kontoplan!A:D,2,0)),\"Konto findes ikke!\",VLOOKUP(F2295,[1]Kontoplan!A:D,2,0)))","v":"Reservedele"}]
["2020-02-10",83,"Hjemmeside; Hostmaster",null,null,12310,null,58.75,{"$f":"IF(F2296=\"\",\"\",IF(ISERROR(VLOOKUP(F2296,[1]Kontoplan!A:D,2,0)),\"Konto findes ikke!\",VLOOKUP(F2296,[1]Kontoplan!A:D,2,0)))","v":"Bank konto"}]
["2020-02-10",83,"Hjemmeside; Hostmaster",null,null,2120,58.75,null,{"$f":"IF(F2297=\"\",\"\",IF(ISERROR(VLOOKUP(F2297,[1]Kontoplan!A:D,2,0)),\"Konto findes ikke!\",VLOOKUP(F2297,[1]Kontoplan!A:D,2,0)))","v":"Hjemmeside"}]
["2020-02-11",84,"Kontingent, Thomas Blangshøj",null,null,12310,175,null,{"$f":"IF(F2298=\"\",\"\",IF(ISERROR(VLOOKUP(F2298,[1]Kontoplan!A:D,2,0)),\"Konto findes ikke!\",VLOOKUP(F2298,[1]Kontoplan!A:D,2,0)))","v":"Bank konto"}]
["2020-02-11",84,"Kontingent, Thomas Blangshøj",108,2020,1000,null,175,{"$f":"IF(F2299=\"\",\"\",IF(ISERROR(VLOOKUP(F2299,[1]Kontoplan!A:D,2,0)),\"Konto findes ikke!\",VLOOKUP(F2299,[1]Kontoplan!A:D,2,0)))","v":"Kontingenter"}]
["2020-02-13",85,"Udlæg rejse Rep M24, Jan",null,null,12310,null,538,{"$f":"IF(F2300=\"\",\"\",IF(ISERROR(VLOOKUP(F2300,[1]Kontoplan!A:D,2,0)),\"Konto findes ikke!\",VLOOKUP(F2300,[1]Kontoplan!A:D,2,0)))","v":"Bank konto"}]
["2020-02-13",85,"Udlæg rejse Rep M24, Jan",null,null,2160,538,null,{"$f":"IF(F2301=\"\",\"\",IF(ISERROR(VLOOKUP(F2301,[1]Kontoplan!A:D,2,0)),\"Konto findes ikke!\",VLOOKUP(F2301,[1]Kontoplan!A:D,2,0)))","v":"Rejser"}]
["2020-02-18",86,"Forplejning skuehold 6/2/20",null,null,12310,null,46.15,{"$f":"IF(F2302=\"\",\"\",IF(ISERROR(VLOOKUP(F2302,[1]Kontoplan!A:D,2,0)),\"Konto findes ikke!\",VLOOKUP(F2302,[1]Kontoplan!A:D,2,0)))","v":"Bank konto"}]
["2020-02-18",86,"Forplejning skuehold 6/2/20",null,null,2100,46.15,null,{"$f":"IF(F2303=\"\",\"\",IF(ISERROR(VLOOKUP(F2303,[1]Kontoplan!A:D,2,0)),\"Konto findes ikke!\",VLOOKUP(F2303,[1]Kontoplan!A:D,2,0)))","v":"Forplejning til møder/Rejser"}]
["2020-02-20",87,"Forplejning skuehold 19/2/20",null,null,12310,null,46.15,{"$f":"IF(F2304=\"\",\"\",IF(ISERROR(VLOOKUP(F2304,[1]Kontoplan!A:D,2,0)),\"Konto findes ikke!\",VLOOKUP(F2304,[1]Kontoplan!A:D,2,0)))","v":"Bank konto"}]
["2020-02-20",87,"Forplejning skuehold 19/2/20",null,null,2100,46.15,null,{"$f":"IF(F2305=\"\",\"\",IF(ISERROR(VLOOKUP(F2305,[1]Kontoplan!A:D,2,0)),\"Konto findes ikke!\",VLOOKUP(F2305,[1]Kontoplan!A:D,2,0)))","v":"Forplejning til møder/Rejser"}]
["2020-02-21",88,"Udlæg rejse rep/syn M24",null,null,12310,null,538,{"$f":"IF(F2306=\"\",\"\",IF(ISERROR(VLOOKUP(F2306,[1]Kontoplan!A:D,2,0)),\"Konto findes ikke!\",VLOOKUP(F2306,[1]Kontoplan!A:D,2,0)))","v":"Bank konto"}]
["2020-02-21",88,"Udlæd rejse Rep/Syn M24",null,null,2160,538,null,{"$f":"IF(F2307=\"\",\"\",IF(ISERROR(VLOOKUP(F2307,[1]Kontoplan!A:D,2,0)),\"Konto findes ikke!\",VLOOKUP(F2307,[1]Kontoplan!A:D,2,0)))","v":"Rejser"}]
["2020-03-03",89,"Mærker, Perle",null,null,12310,400,null,{"$f":"IF(F2308=\"\",\"\",IF(ISERROR(VLOOKUP(F2308,[1]Kontoplan!A:D,2,0)),\"Konto findes ikke!\",VLOOKUP(F2308,[1]Kontoplan!A:D,2,0)))","v":"Bank konto"}]
["2020-03-03",89,"Mærker, Perle",null,null,1010,null,400,{"$f":"IF(F2309=\"\",\"\",IF(ISERROR(VLOOKUP(F2309,[1]Kontoplan!A:D,2,0)),\"Konto findes ikke!\",VLOOKUP(F2309,[1]Kontoplan!A:D,2,0)))","v":"Salg af mærker"}]
["2020-03-13",90,"modtaget fra SBD",null,null,12310,2000,null,{"$f":"IF(F2310=\"\",\"\",IF(ISERROR(VLOOKUP(F2310,[1]Kontoplan!A:D,2,0)),\"Konto findes ikke!\",VLOOKUP(F2310,[1]Kontoplan!A:D,2,0)))","v":"Bank konto"}]
["2020-03-13",90,"modtaget fra SBD",null,null,1100,null,2000,{"$f":"IF(F2311=\"\",\"\",IF(ISERROR(VLOOKUP(F2311,[1]Kontoplan!A:D,2,0)),\"Konto findes ikke!\",VLOOKUP(F2311,[1]Kontoplan!A:D,2,0)))","v":"Overført fra SBD"}]
["2020-03-14",91,"Udlæg reservedele m24, Jan",null,null,12310,null,44,{"$f":"IF(F2312=\"\",\"\",IF(ISERROR(VLOOKUP(F2312,[1]Kontoplan!A:D,2,0)),\"Konto findes ikke!\",VLOOKUP(F2312,[1]Kontoplan!A:D,2,0)))","v":"Bank konto"}]
["2020-03-14",91,"Udlæg reservedele m24, Jan",null,null,2080,44,null,{"$f":"IF(F2313=\"\",\"\",IF(ISERROR(VLOOKUP(F2313,[1]Kontoplan!A:D,2,0)),\"Konto findes ikke!\",VLOOKUP(F2313,[1]Kontoplan!A:D,2,0)))","v":"Reservedele"}]
["2020-03-31",92,"Gebyr ifølge nota",null,null,12310,null,75,{"$f":"IF(F2314=\"\",\"\",IF(ISERROR(VLOOKUP(F2314,[1]Kontoplan!A:D,2,0)),\"Konto findes ikke!\",VLOOKUP(F2314,[1]Kontoplan!A:D,2,0)))","v":"Bank konto"}]
["2020-03-31",92,"Gebyr ifølge nota",null,null,2130,75,null,{"$f":"IF(F2315=\"\",\"\",IF(ISERROR(VLOOKUP(F2315,[1]Kontoplan!A:D,2,0)),\"Konto findes ikke!\",VLOOKUP(F2315,[1]Kontoplan!A:D,2,0)))","v":"Bankgebyr/Renter"}]
["2020-04-29",93,"Kontingent til DHM",null,null,12310,null,200,{"$f":"IF(F2316=\"\",\"\",IF(ISERROR(VLOOKUP(F2316,[1]Kontoplan!A:D,2,0)),\"Konto findes ikke!\",VLOOKUP(F2316,[1]Kontoplan!A:D,2,0)))","v":"Bank konto"}]
["2020-04-29",93,"Kontingent til DHM",null,null,2000,200,null,{"$f":"IF(F2317=\"\",\"\",IF(ISERROR(VLOOKUP(F2317,[1]Kontoplan!A:D,2,0)),\"Konto findes ikke!\",VLOOKUP(F2317,[1]Kontoplan!A:D,2,0)))","v":"Kontigent til andre Foreninger"}]
["2020-05-04",94,"Udlæg til Forplejning Skruehold 1-2/5-20",null,null,12310,null,47.05,{"$f":"IF(F2318=\"\",\"\",IF(ISERROR(VLOOKUP(F2318,[1]Kontoplan!A:D,2,0)),\"Konto findes ikke!\",VLOOKUP(F2318,[1]Kontoplan!A:D,2,0)))","v":"Bank konto"}]
["2020-05-04",94,"Udlæg til Forplejning Skruehold 1-2/5-20",null,null,2100,47.05,null,{"$f":"IF(F2319=\"\",\"\",IF(ISERROR(VLOOKUP(F2319,[1]Kontoplan!A:D,2,0)),\"Konto findes ikke!\",VLOOKUP(F2319,[1]Kontoplan!A:D,2,0)))","v":"Forplejning til møder/Rejser"}]
["2020-06-30",95,"Gebyr ifølge nota",null,null,12310,null,75,{"$f":"IF(F2320=\"\",\"\",IF(ISERROR(VLOOKUP(F2320,[1]Kontoplan!A:D,2,0)),\"Konto findes ikke!\",VLOOKUP(F2320,[1]Kontoplan!A:D,2,0)))","v":"Bank konto"}]
["2020-06-30",95,"Gebyr ifølge nota",null,null,2130,75,null,{"$f":"IF(F2321=\"\",\"\",IF(ISERROR(VLOOKUP(F2321,[1]Kontoplan!A:D,2,0)),\"Konto findes ikke!\",VLOOKUP(F2321,[1]Kontoplan!A:D,2,0)))","v":"Bankgebyr/Renter"}]
["2020-07-01",96,"Kontingent, Klaus Buchholdt",null,null,12310,175,null,{"$f":"IF(F2322=\"\",\"\",IF(ISERROR(VLOOKUP(F2322,[1]Kontoplan!A:D,2,0)),\"Konto findes ikke!\",VLOOKUP(F2322,[1]Kontoplan!A:D,2,0)))","v":"Bank konto"}]
["2020-07-01",96,"Kontingent, Klaus Buchholdt",21,2021,1000,null,175,{"$f":"IF(F2323=\"\",\"\",IF(ISERROR(VLOOKUP(F2323,[1]Kontoplan!A:D,2,0)),\"Konto findes ikke!\",VLOOKUP(F2323,[1]Kontoplan!A:D,2,0)))","v":"Kontingenter"}]
["2020-08-03",97,"Kontingent, Jan Witzer Bergliot",null,null,12310,175,null,{"$f":"IF(F2324=\"\",\"\",IF(ISERROR(VLOOKUP(F2324,[1]Kontoplan!A:D,2,0)),\"Konto findes ikke!\",VLOOKUP(F2324,[1]Kontoplan!A:D,2,0)))","v":"Bank konto"}]
["2020-08-03",97,"Kontingent, Jan Witzer Bergliot",8,2021,1000,null,175,{"$f":"IF(F2325=\"\",\"\",IF(ISERROR(VLOOKUP(F2325,[1]Kontoplan!A:D,2,0)),\"Konto findes ikke!\",VLOOKUP(F2325,[1]Kontoplan!A:D,2,0)))","v":"Kontingenter"}]
["2020-08-07",98,"Udlæg til M24, XL-Byg, Jan Bergliot",null,null,12310,null,70,{"$f":"IF(F2326=\"\",\"\",IF(ISERROR(VLOOKUP(F2326,[1]Kontoplan!A:D,2,0)),\"Konto findes ikke!\",VLOOKUP(F2326,[1]Kontoplan!A:D,2,0)))","v":"Bank konto"}]
["2020-08-07",98,"Udlæg til M24, XL-Byg, Jan Bergliot",null,null,2080,70,null,{"$f":"IF(F2327=\"\",\"\",IF(ISERROR(VLOOKUP(F2327,[1]Kontoplan!A:D,2,0)),\"Konto findes ikke!\",VLOOKUP(F2327,[1]Kontoplan!A:D,2,0)))","v":"Reservedele"}]
["2020-08-07",99,"Mærker, Jan Witzner Jensen",null,null,12310,150,null,{"$f":"IF(F2328=\"\",\"\",IF(ISERROR(VLOOKUP(F2328,[1]Kontoplan!A:D,2,0)),\"Konto findes ikke!\",VLOOKUP(F2328,[1]Kontoplan!A:D,2,0)))","v":"Bank konto"}]
["2020-08-07",99,"Mærker, Jan Witzner Jensen",null,null,1010,null,150,{"$f":"IF(F2329=\"\",\"\",IF(ISERROR(VLOOKUP(F2329,[1]Kontoplan!A:D,2,0)),\"Konto findes ikke!\",VLOOKUP(F2329,[1]Kontoplan!A:D,2,0)))","v":"Salg af mærker"}]
["2020-08-07",100,"Kontingent, Stoffer",null,null,12310,175,null,{"$f":"IF(F2330=\"\",\"\",IF(ISERROR(VLOOKUP(F2330,[1]Kontoplan!A:D,2,0)),\"Konto findes ikke!\",VLOOKUP(F2330,[1]Kontoplan!A:D,2,0)))","v":"Bank konto"}]
["2020-08-07",100,"Kontingent, Stoffer",1,2021,1000,null,175,{"$f":"IF(F2331=\"\",\"\",IF(ISERROR(VLOOKUP(F2331,[1]Kontoplan!A:D,2,0)),\"Konto findes ikke!\",VLOOKUP(F2331,[1]Kontoplan!A:D,2,0)))","v":"Kontingenter"}]
["2020-08-07",101,"Kontingent, Jens Givskov",null,null,12310,175,null,{"$f":"IF(F2332=\"\",\"\",IF(ISERROR(VLOOKUP(F2332,[1]Kontoplan!A:D,2,0)),\"Konto findes ikke!\",VLOOKUP(F2332,[1]Kontoplan!A:D,2,0)))","v":"Bank konto"}]
["2020-08-07",101,"Kontingent, Jens Givskov",47,2021,1000,null,175,{"$f":"IF(F2333=\"\",\"\",IF(ISERROR(VLOOKUP(F2333,[1]Kontoplan!A:D,2,0)),\"Konto findes ikke!\",VLOOKUP(F2333,[1]Kontoplan!A:D,2,0)))","v":"Kontingenter"}]
["2020-08-07",102,"Kontingent, Bjarne Hansen",null,null,12310,175,null,{"$f":"IF(F2334=\"\",\"\",IF(ISERROR(VLOOKUP(F2334,[1]Kontoplan!A:D,2,0)),\"Konto findes ikke!\",VLOOKUP(F2334,[1]Kontoplan!A:D,2,0)))","v":"Bank konto"}]
["2020-08-07",102,"Kontingent, Bjarne Hansen",3,2021,1000,null,175,{"$f":"IF(F2335=\"\",\"\",IF(ISERROR(VLOOKUP(F2335,[1]Kontoplan!A:D,2,0)),\"Konto findes ikke!\",VLOOKUP(F2335,[1]Kontoplan!A:D,2,0)))","v":"Kontingenter"}]
["2020-08-07",103,"Kontingent, Kim Bjelstrand",null,null,12310,175,null,{"$f":"IF(F2336=\"\",\"\",IF(ISERROR(VLOOKUP(F2336,[1]Kontoplan!A:D,2,0)),\"Konto findes ikke!\",VLOOKUP(F2336,[1]Kontoplan!A:D,2,0)))","v":"Bank konto"}]
["2020-08-07",103,"Kontingent, Kim Bjelstrand",62,2021,1000,null,175,{"$f":"IF(F2337=\"\",\"\",IF(ISERROR(VLOOKUP(F2337,[1]Kontoplan!A:D,2,0)),\"Konto findes ikke!\",VLOOKUP(F2337,[1]Kontoplan!A:D,2,0)))","v":"Kontingenter"}]
["2020-08-07",104,"Kontingent, Allan Olsen",null,null,12310,175,null,{"$f":"IF(F2338=\"\",\"\",IF(ISERROR(VLOOKUP(F2338,[1]Kontoplan!A:D,2,0)),\"Konto findes ikke!\",VLOOKUP(F2338,[1]Kontoplan!A:D,2,0)))","v":"Bank konto"}]
["2020-08-07",104,"Kontingent, Allan Olsen",66,2021,1000,null,175,{"$f":"IF(F2339=\"\",\"\",IF(ISERROR(VLOOKUP(F2339,[1]Kontoplan!A:D,2,0)),\"Konto findes ikke!\",VLOOKUP(F2339,[1]Kontoplan!A:D,2,0)))","v":"Kontingenter"}]
["2020-08-07",105,"Kontingent, Torben Westring",null,null,12310,175,null,{"$f":"IF(F2340=\"\",\"\",IF(ISERROR(VLOOKUP(F2340,[1]Kontoplan!A:D,2,0)),\"Konto findes ikke!\",VLOOKUP(F2340,[1]Kontoplan!A:D,2,0)))","v":"Bank konto"}]
["2020-08-07",105,"Kontingent, Torben Westring",19,2021,1000,null,175,{"$f":"IF(F2341=\"\",\"\",IF(ISERROR(VLOOKUP(F2341,[1]Kontoplan!A:D,2,0)),\"Konto findes ikke!\",VLOOKUP(F2341,[1]Kontoplan!A:D,2,0)))","v":"Kontingenter"}]
["2020-08-09",106,"Kontingent, Poul Guldving",null,null,12310,150,null,{"$f":"IF(F2342=\"\",\"\",IF(ISERROR(VLOOKUP(F2342,[1]Kontoplan!A:D,2,0)),\"Konto findes ikke!\",VLOOKUP(F2342,[1]Kontoplan!A:D,2,0)))","v":"Bank konto"}]
["2020-08-09",106,"Kontingent, Poul Guldving",69,2021,1000,null,150,{"$f":"IF(F2343=\"\",\"\",IF(ISERROR(VLOOKUP(F2343,[1]Kontoplan!A:D,2,0)),\"Konto findes ikke!\",VLOOKUP(F2343,[1]Kontoplan!A:D,2,0)))","v":"Kontingenter"},"mangler 25,- kr"]
["2020-08-09",107,"Kontingent, Sven Holm Jensen",null,null,12310,175,null,{"$f":"IF(F2344=\"\",\"\",IF(ISERROR(VLOOKUP(F2344,[1]Kontoplan!A:D,2,0)),\"Konto findes ikke!\",VLOOKUP(F2344,[1]Kontoplan!A:D,2,0)))","v":"Bank konto"}]
["2020-08-09",107,"Kontingent, Sven Holm Jensen",7,2021,1000,null,175,{"$f":"IF(F2345=\"\",\"\",IF(ISERROR(VLOOKUP(F2345,[1]Kontoplan!A:D,2,0)),\"Konto findes ikke!\",VLOOKUP(F2345,[1]Kontoplan!A:D,2,0)))","v":"Kontingenter"}]
["2020-08-10",108,"Kontingent, Tom Nielsen",null,null,12310,175,null,{"$f":"IF(F2346=\"\",\"\",IF(ISERROR(VLOOKUP(F2346,[1]Kontoplan!A:D,2,0)),\"Konto findes ikke!\",VLOOKUP(F2346,[1]Kontoplan!A:D,2,0)))","v":"Bank konto"}]
["2020-08-10",108,"Kontingent, Tom Nielsen",97,2021,1000,null,175,{"$f":"IF(F2347=\"\",\"\",IF(ISERROR(VLOOKUP(F2347,[1]Kontoplan!A:D,2,0)),\"Konto findes ikke!\",VLOOKUP(F2347,[1]Kontoplan!A:D,2,0)))","v":"Kontingenter"}]
["2020-08-10",109,"Kontingent, John Jensen",null,null,12310,175,null,{"$f":"IF(F2348=\"\",\"\",IF(ISERROR(VLOOKUP(F2348,[1]Kontoplan!A:D,2,0)),\"Konto findes ikke!\",VLOOKUP(F2348,[1]Kontoplan!A:D,2,0)))","v":"Bank konto"}]
["2020-08-10",109,"Kontingent, John Jensen",71,2021,1000,null,175,{"$f":"IF(F2349=\"\",\"\",IF(ISERROR(VLOOKUP(F2349,[1]Kontoplan!A:D,2,0)),\"Konto findes ikke!\",VLOOKUP(F2349,[1]Kontoplan!A:D,2,0)))","v":"Kontingenter"}]
["2020-08-10",110,"Kontingent, Hardy Jørgensen",null,null,12310,175,null,{"$f":"IF(F2350=\"\",\"\",IF(ISERROR(VLOOKUP(F2350,[1]Kontoplan!A:D,2,0)),\"Konto findes ikke!\",VLOOKUP(F2350,[1]Kontoplan!A:D,2,0)))","v":"Bank konto"}]
["2020-08-10",110,"Kontingent, Hardy Jørgensen",88,2021,1000,null,175,{"$f":"IF(F2351=\"\",\"\",IF(ISERROR(VLOOKUP(F2351,[1]Kontoplan!A:D,2,0)),\"Konto findes ikke!\",VLOOKUP(F2351,[1]Kontoplan!A:D,2,0)))","v":"Kontingenter"}]
["2020-08-10",111,"Kontingent, Svend Kofoed",null,null,12310,175,null,{"$f":"IF(F2352=\"\",\"\",IF(ISERROR(VLOOKUP(F2352,[1]Kontoplan!A:D,2,0)),\"Konto findes ikke!\",VLOOKUP(F2352,[1]Kontoplan!A:D,2,0)))","v":"Bank konto"}]
["2020-08-10",111,"Kontingent, Svend Kofoed",82,2021,1000,null,175,{"$f":"IF(F2353=\"\",\"\",IF(ISERROR(VLOOKUP(F2353,[1]Kontoplan!A:D,2,0)),\"Konto findes ikke!\",VLOOKUP(F2353,[1]Kontoplan!A:D,2,0)))","v":"Kontingenter"}]
["2020-08-10",112,"Kontingent, Jens-Peter Rasmussen",null,null,12310,175,null,{"$f":"IF(F2354=\"\",\"\",IF(ISERROR(VLOOKUP(F2354,[1]Kontoplan!A:D,2,0)),\"Konto findes ikke!\",VLOOKUP(F2354,[1]Kontoplan!A:D,2,0)))","v":"Bank konto"}]
["2020-08-10",112,"Kontingent, Jens-Peter Rasmussen",23,2021,1000,null,175,{"$f":"IF(F2355=\"\",\"\",IF(ISERROR(VLOOKUP(F2355,[1]Kontoplan!A:D,2,0)),\"Konto findes ikke!\",VLOOKUP(F2355,[1]Kontoplan!A:D,2,0)))","v":"Kontingenter"}]
["2020-08-10",113,"Kontingent, Poul Guldving",null,null,12310,25,null,{"$f":"IF(F2356=\"\",\"\",IF(ISERROR(VLOOKUP(F2356,[1]Kontoplan!A:D,2,0)),\"Konto findes ikke!\",VLOOKUP(F2356,[1]Kontoplan!A:D,2,0)))","v":"Bank konto"}]
["2020-08-10",113,"Kontingent, Poul Guldving",69,2021,1000,null,25,{"$f":"IF(F2357=\"\",\"\",IF(ISERROR(VLOOKUP(F2357,[1]Kontoplan!A:D,2,0)),\"Konto findes ikke!\",VLOOKUP(F2357,[1]Kontoplan!A:D,2,0)))","v":"Kontingenter"},"indbetalt rest 25,- kr"]
["2020-08-10",114,"Kontingent, Johnny Kofoed",null,null,12310,175,null,{"$f":"IF(F2358=\"\",\"\",IF(ISERROR(VLOOKUP(F2358,[1]Kontoplan!A:D,2,0)),\"Konto findes ikke!\",VLOOKUP(F2358,[1]Kontoplan!A:D,2,0)))","v":"Bank konto"}]
["2020-08-10",114,"Kontingent, Johnny Kofoed",31,2021,1000,null,175,{"$f":"IF(F2359=\"\",\"\",IF(ISERROR(VLOOKUP(F2359,[1]Kontoplan!A:D,2,0)),\"Konto findes ikke!\",VLOOKUP(F2359,[1]Kontoplan!A:D,2,0)))","v":"Kontingenter"}]
["2020-08-13",115,"Kontingent, Peter Munk Petersen",null,null,12310,175,null,{"$f":"IF(F2360=\"\",\"\",IF(ISERROR(VLOOKUP(F2360,[1]Kontoplan!A:D,2,0)),\"Konto findes ikke!\",VLOOKUP(F2360,[1]Kontoplan!A:D,2,0)))","v":"Bank konto"}]
["2020-08-13",115,"Kontingent, Peter Munk Petersen",46,2021,1000,null,175,{"$f":"IF(F2361=\"\",\"\",IF(ISERROR(VLOOKUP(F2361,[1]Kontoplan!A:D,2,0)),\"Konto findes ikke!\",VLOOKUP(F2361,[1]Kontoplan!A:D,2,0)))","v":"Kontingenter"}]
["2020-08-13",116,"Kontingent, Richard Finne",null,null,12310,175,null,{"$f":"IF(F2362=\"\",\"\",IF(ISERROR(VLOOKUP(F2362,[1]Kontoplan!A:D,2,0)),\"Konto findes ikke!\",VLOOKUP(F2362,[1]Kontoplan!A:D,2,0)))","v":"Bank konto"}]
["2020-08-13",116,"Kontingent, Richard Finne",48,2021,1000,null,175,{"$f":"IF(F2363=\"\",\"\",IF(ISERROR(VLOOKUP(F2363,[1]Kontoplan!A:D,2,0)),\"Konto findes ikke!\",VLOOKUP(F2363,[1]Kontoplan!A:D,2,0)))","v":"Kontingenter"}]
["2020-08-13",117,"Kontingent, Flemming Knøsgaard",null,null,12310,175,null,{"$f":"IF(F2364=\"\",\"\",IF(ISERROR(VLOOKUP(F2364,[1]Kontoplan!A:D,2,0)),\"Konto findes ikke!\",VLOOKUP(F2364,[1]Kontoplan!A:D,2,0)))","v":"Bank konto"}]
["2020-08-13",117,"Kontingent, Flemming Knøsgaard",93,2021,1000,null,175,{"$f":"IF(F2365=\"\",\"\",IF(ISERROR(VLOOKUP(F2365,[1]Kontoplan!A:D,2,0)),\"Konto findes ikke!\",VLOOKUP(F2365,[1]Kontoplan!A:D,2,0)))","v":"Kontingenter"}]
["2020-08-13",118,"Kontingent, Eilief G Andersen",null,null,12310,175,null,{"$f":"IF(F2366=\"\",\"\",IF(ISERROR(VLOOKUP(F2366,[1]Kontoplan!A:D,2,0)),\"Konto findes ikke!\",VLOOKUP(F2366,[1]Kontoplan!A:D,2,0)))","v":"Bank konto"}]
["2020-08-13",118,"Kontingent, Eilief G Andersen",6,2021,1000,null,175,{"$f":"IF(F2367=\"\",\"\",IF(ISERROR(VLOOKUP(F2367,[1]Kontoplan!A:D,2,0)),\"Konto findes ikke!\",VLOOKUP(F2367,[1]Kontoplan!A:D,2,0)))","v":"Kontingenter"}]
["2020-08-14",119,"Kontingent, Jørn Kofoed Pedersen",null,null,12310,175,null,{"$f":"IF(F2368=\"\",\"\",IF(ISERROR(VLOOKUP(F2368,[1]Kontoplan!A:D,2,0)),\"Konto findes ikke!\",VLOOKUP(F2368,[1]Kontoplan!A:D,2,0)))","v":"Bank konto"}]
["2020-08-14",119,"Kontingent, Jørn Kofoed Pedersen",24,2021,1000,null,175,{"$f":"IF(F2369=\"\",\"\",IF(ISERROR(VLOOKUP(F2369,[1]Kontoplan!A:D,2,0)),\"Konto findes ikke!\",VLOOKUP(F2369,[1]Kontoplan!A:D,2,0)))","v":"Kontingenter"}]
["2020-08-14",120,"Kontingent, Per A. Nielsen",null,null,12310,175,null,{"$f":"IF(F2370=\"\",\"\",IF(ISERROR(VLOOKUP(F2370,[1]Kontoplan!A:D,2,0)),\"Konto findes ikke!\",VLOOKUP(F2370,[1]Kontoplan!A:D,2,0)))","v":"Bank konto"}]
["2020-08-14",120,"Kontingent, Per A. Nielsen",2,2021,1000,null,175,{"$f":"IF(F2371=\"\",\"\",IF(ISERROR(VLOOKUP(F2371,[1]Kontoplan!A:D,2,0)),\"Konto findes ikke!\",VLOOKUP(F2371,[1]Kontoplan!A:D,2,0)))","v":"Kontingenter"}]
["2020-08-17",121,"Kontingent, Jens Svendsen",null,null,12310,175,null,{"$f":"IF(F2372=\"\",\"\",IF(ISERROR(VLOOKUP(F2372,[1]Kontoplan!A:D,2,0)),\"Konto findes ikke!\",VLOOKUP(F2372,[1]Kontoplan!A:D,2,0)))","v":"Bank konto"}]
["2020-08-17",121,"Kontingent, Jens Svendsen",38,2021,1000,null,175,{"$f":"IF(F2373=\"\",\"\",IF(ISERROR(VLOOKUP(F2373,[1]Kontoplan!A:D,2,0)),\"Konto findes ikke!\",VLOOKUP(F2373,[1]Kontoplan!A:D,2,0)))","v":"Kontingenter"}]
["2020-08-17",122,"Kontingent, Steen R Jensen",null,null,12310,175,null,{"$f":"IF(F2374=\"\",\"\",IF(ISERROR(VLOOKUP(F2374,[1]Kontoplan!A:D,2,0)),\"Konto findes ikke!\",VLOOKUP(F2374,[1]Kontoplan!A:D,2,0)))","v":"Bank konto"}]
["2020-08-17",122,"Kontingent, Steen R Jensen",95,2021,1000,null,175,{"$f":"IF(F2375=\"\",\"\",IF(ISERROR(VLOOKUP(F2375,[1]Kontoplan!A:D,2,0)),\"Konto findes ikke!\",VLOOKUP(F2375,[1]Kontoplan!A:D,2,0)))","v":"Kontingenter"}]
["2020-08-19",123,"Kontingent, Sven H. Jørgensen",null,null,12310,175,null,{"$f":"IF(F2376=\"\",\"\",IF(ISERROR(VLOOKUP(F2376,[1]Kontoplan!A:D,2,0)),\"Konto findes ikke!\",VLOOKUP(F2376,[1]Kontoplan!A:D,2,0)))","v":"Bank konto"}]
["2020-08-19",123,"Kontingent, Sven H. Jørgensen",91,2021,1000,null,175,{"$f":"IF(F2377=\"\",\"\",IF(ISERROR(VLOOKUP(F2377,[1]Kontoplan!A:D,2,0)),\"Konto findes ikke!\",VLOOKUP(F2377,[1]Kontoplan!A:D,2,0)))","v":"Kontingenter"}]
["2020-08-24",124,"Kontingent, Kaare Hansen",null,null,12310,175,null,{"$f":"IF(F2378=\"\",\"\",IF(ISERROR(VLOOKUP(F2378,[1]Kontoplan!A:D,2,0)),\"Konto findes ikke!\",VLOOKUP(F2378,[1]Kontoplan!A:D,2,0)))","v":"Bank konto"}]
["2020-08-24",124,"Kontingent, Kaare Hansen",60,2021,1000,null,175,{"$f":"IF(F2379=\"\",\"\",IF(ISERROR(VLOOKUP(F2379,[1]Kontoplan!A:D,2,0)),\"Konto findes ikke!\",VLOOKUP(F2379,[1]Kontoplan!A:D,2,0)))","v":"Kontingenter"}]
["2020-08-25",125,"Kontingent, Fini Dahl",null,null,12310,175,null,{"$f":"IF(F2380=\"\",\"\",IF(ISERROR(VLOOKUP(F2380,[1]Kontoplan!A:D,2,0)),\"Konto findes ikke!\",VLOOKUP(F2380,[1]Kontoplan!A:D,2,0)))","v":"Bank konto"}]
["2020-08-25",125,"Kontingent, Fini Dahl",25,2021,1000,null,175,{"$f":"IF(F2381=\"\",\"\",IF(ISERROR(VLOOKUP(F2381,[1]Kontoplan!A:D,2,0)),\"Konto findes ikke!\",VLOOKUP(F2381,[1]Kontoplan!A:D,2,0)))","v":"Kontingenter"}]
["2020-08-26",126,"Kontingent, Palle Schrøder Andersen",null,null,12310,75,null,{"$f":"IF(F2382=\"\",\"\",IF(ISERROR(VLOOKUP(F2382,[1]Kontoplan!A:D,2,0)),\"Konto findes ikke!\",VLOOKUP(F2382,[1]Kontoplan!A:D,2,0)))","v":"Bank konto"}]
["2020-08-26",126,"Kontingent, Palle Schrøder Andersen",45,2021,1000,null,75,{"$f":"IF(F2383=\"\",\"\",IF(ISERROR(VLOOKUP(F2383,[1]Kontoplan!A:D,2,0)),\"Konto findes ikke!\",VLOOKUP(F2383,[1]Kontoplan!A:D,2,0)))","v":"Kontingenter"}]
["2020-08-28",127,"Kontingent, John Nielsen",null,null,12310,175,null,{"$f":"IF(F2384=\"\",\"\",IF(ISERROR(VLOOKUP(F2384,[1]Kontoplan!A:D,2,0)),\"Konto findes ikke!\",VLOOKUP(F2384,[1]Kontoplan!A:D,2,0)))","v":"Bank konto"}]
["2020-08-28",127,"Kontingent, John Nielsen",30,2021,1000,null,175,{"$f":"IF(F2385=\"\",\"\",IF(ISERROR(VLOOKUP(F2385,[1]Kontoplan!A:D,2,0)),\"Konto findes ikke!\",VLOOKUP(F2385,[1]Kontoplan!A:D,2,0)))","v":"Kontingenter"}]
["2020-08-28",128,"Kontingent, Birger Jønsson",null,null,12310,175,null,{"$f":"IF(F2386=\"\",\"\",IF(ISERROR(VLOOKUP(F2386,[1]Kontoplan!A:D,2,0)),\"Konto findes ikke!\",VLOOKUP(F2386,[1]Kontoplan!A:D,2,0)))","v":"Bank konto"}]
["2020-08-28",128,"Kontingent, Birger Jønsson",101,2021,1000,null,175,{"$f":"IF(F2387=\"\",\"\",IF(ISERROR(VLOOKUP(F2387,[1]Kontoplan!A:D,2,0)),\"Konto findes ikke!\",VLOOKUP(F2387,[1]Kontoplan!A:D,2,0)))","v":"Kontingenter"}]
["2020-08-28",129,"Kontingent, Gerth Bernt Pedersen",null,null,12310,175,null,{"$f":"IF(F2388=\"\",\"\",IF(ISERROR(VLOOKUP(F2388,[1]Kontoplan!A:D,2,0)),\"Konto findes ikke!\",VLOOKUP(F2388,[1]Kontoplan!A:D,2,0)))","v":"Bank konto"}]
["2020-08-28",129,"Kontingent, Gerth Bernt Pedersen",17,2021,1000,null,175,{"$f":"IF(F2389=\"\",\"\",IF(ISERROR(VLOOKUP(F2389,[1]Kontoplan!A:D,2,0)),\"Konto findes ikke!\",VLOOKUP(F2389,[1]Kontoplan!A:D,2,0)))","v":"Kontingenter"}]
["2020-08-31",130,"Kontingent, Flemming Hejdenberg",null,null,12310,175,null,{"$f":"IF(F2390=\"\",\"\",IF(ISERROR(VLOOKUP(F2390,[1]Kontoplan!A:D,2,0)),\"Konto findes ikke!\",VLOOKUP(F2390,[1]Kontoplan!A:D,2,0)))","v":"Bank konto"}]
["2020-08-31",130,"Kontingent, Flemming Hejdenberg",94,2021,1000,null,175,{"$f":"IF(F2391=\"\",\"\",IF(ISERROR(VLOOKUP(F2391,[1]Kontoplan!A:D,2,0)),\"Konto findes ikke!\",VLOOKUP(F2391,[1]Kontoplan!A:D,2,0)))","v":"Kontingenter"}]
["2020-08-31",131,"Kontingent, Finn Andreas Nielsen",null,null,12310,175,null,{"$f":"IF(F2392=\"\",\"\",IF(ISERROR(VLOOKUP(F2392,[1]Kontoplan!A:D,2,0)),\"Konto findes ikke!\",VLOOKUP(F2392,[1]Kontoplan!A:D,2,0)))","v":"Bank konto"}]
["2020-08-31",131,"Kontingent, Finn Andreas Nielsen",64,2021,1000,null,175,{"$f":"IF(F2393=\"\",\"\",IF(ISERROR(VLOOKUP(F2393,[1]Kontoplan!A:D,2,0)),\"Konto findes ikke!\",VLOOKUP(F2393,[1]Kontoplan!A:D,2,0)))","v":"Kontingenter"}]
["2020-08-31",132,"Kontingent, Jørgen Espersen",null,null,12310,175,null,{"$f":"IF(F2394=\"\",\"\",IF(ISERROR(VLOOKUP(F2394,[1]Kontoplan!A:D,2,0)),\"Konto findes ikke!\",VLOOKUP(F2394,[1]Kontoplan!A:D,2,0)))","v":"Bank konto"}]
["2020-08-31",132,"Kontingent, Jørgen Espersen",32,2021,1000,null,175,{"$f":"IF(F2395=\"\",\"\",IF(ISERROR(VLOOKUP(F2395,[1]Kontoplan!A:D,2,0)),\"Konto findes ikke!\",VLOOKUP(F2395,[1]Kontoplan!A:D,2,0)))","v":"Kontingenter"}]
["2020-08-31",133,"Kontingent, Kim Jensen",null,null,12310,175,null,{"$f":"IF(F2396=\"\",\"\",IF(ISERROR(VLOOKUP(F2396,[1]Kontoplan!A:D,2,0)),\"Konto findes ikke!\",VLOOKUP(F2396,[1]Kontoplan!A:D,2,0)))","v":"Bank konto"}]
["2020-08-31",133,"Kontingent, Kim Jensen",29,2021,1000,null,175,{"$f":"IF(F2397=\"\",\"\",IF(ISERROR(VLOOKUP(F2397,[1]Kontoplan!A:D,2,0)),\"Konto findes ikke!\",VLOOKUP(F2397,[1]Kontoplan!A:D,2,0)))","v":"Kontingenter"}]
["2020-08-31",134,"Kontingent, Hans-Jørgen Jensen",null,null,12310,175,null,{"$f":"IF(F2398=\"\",\"\",IF(ISERROR(VLOOKUP(F2398,[1]Kontoplan!A:D,2,0)),\"Konto findes ikke!\",VLOOKUP(F2398,[1]Kontoplan!A:D,2,0)))","v":"Bank konto"}]
["2020-08-31",134,"Kontingent, Hans-Jørgen Jensen",18,2021,1000,null,175,{"$f":"IF(F2399=\"\",\"\",IF(ISERROR(VLOOKUP(F2399,[1]Kontoplan!A:D,2,0)),\"Konto findes ikke!\",VLOOKUP(F2399,[1]Kontoplan!A:D,2,0)))","v":"Kontingenter"}]
["2020-08-31",135,"Kontingent, Kurt Larsen",null,null,12310,175,null,{"$f":"IF(F2400=\"\",\"\",IF(ISERROR(VLOOKUP(F2400,[1]Kontoplan!A:D,2,0)),\"Konto findes ikke!\",VLOOKUP(F2400,[1]Kontoplan!A:D,2,0)))","v":"Bank konto"}]
["2020-08-31",135,"Kontingent, Kurt Larsen",14,2021,1000,null,175,{"$f":"IF(F2401=\"\",\"\",IF(ISERROR(VLOOKUP(F2401,[1]Kontoplan!A:D,2,0)),\"Konto findes ikke!\",VLOOKUP(F2401,[1]Kontoplan!A:D,2,0)))","v":"Kontingenter"}]
["2020-08-31",136,"Kontingent, Jørn Westh Jensen",null,null,12310,175,null,{"$f":"IF(F2402=\"\",\"\",IF(ISERROR(VLOOKUP(F2402,[1]Kontoplan!A:D,2,0)),\"Konto findes ikke!\",VLOOKUP(F2402,[1]Kontoplan!A:D,2,0)))","v":"Bank konto"}]
["2020-08-31",136,"Kontingent, Jørn Westh Jensen",42,2021,1000,null,175,{"$f":"IF(F2403=\"\",\"\",IF(ISERROR(VLOOKUP(F2403,[1]Kontoplan!A:D,2,0)),\"Konto findes ikke!\",VLOOKUP(F2403,[1]Kontoplan!A:D,2,0)))","v":"Kontingenter"}]
["2020-08-31",137,"Kontingent, Ole Holm",null,null,12310,175,null,{"$f":"IF(F2404=\"\",\"\",IF(ISERROR(VLOOKUP(F2404,[1]Kontoplan!A:D,2,0)),\"Konto findes ikke!\",VLOOKUP(F2404,[1]Kontoplan!A:D,2,0)))","v":"Bank konto"}]
["2020-08-31",137,"Kontingent, Ole Holm",4,2021,1000,null,175,{"$f":"IF(F2405=\"\",\"\",IF(ISERROR(VLOOKUP(F2405,[1]Kontoplan!A:D,2,0)),\"Konto findes ikke!\",VLOOKUP(F2405,[1]Kontoplan!A:D,2,0)))","v":"Kontingenter"}]
["2020-08-31",138,"Kontingent, C. U. Essemann-Bech",null,null,12310,175,null,{"$f":"IF(F2406=\"\",\"\",IF(ISERROR(VLOOKUP(F2406,[1]Kontoplan!A:D,2,0)),\"Konto findes ikke!\",VLOOKUP(F2406,[1]Kontoplan!A:D,2,0)))","v":"Bank konto"}]
["2020-08-31",138,"Kontingent, C. U. Essemann-Bech",13,2021,1000,null,175,{"$f":"IF(F2407=\"\",\"\",IF(ISERROR(VLOOKUP(F2407,[1]Kontoplan!A:D,2,0)),\"Konto findes ikke!\",VLOOKUP(F2407,[1]Kontoplan!A:D,2,0)))","v":"Kontingenter"}]
["2020-08-31",139,"Kontingent, Søren Dyrby Schou",null,null,12310,175,null,{"$f":"IF(F2408=\"\",\"\",IF(ISERROR(VLOOKUP(F2408,[1]Kontoplan!A:D,2,0)),\"Konto findes ikke!\",VLOOKUP(F2408,[1]Kontoplan!A:D,2,0)))","v":"Bank konto"}]
["2020-08-31",139,"Kontingent, Søren Dyrby Schou",15,2021,1000,null,175,{"$f":"IF(F2409=\"\",\"\",IF(ISERROR(VLOOKUP(F2409,[1]Kontoplan!A:D,2,0)),\"Konto findes ikke!\",VLOOKUP(F2409,[1]Kontoplan!A:D,2,0)))","v":"Kontingenter"}]
["2020-09-01",140,"Kontingent, Nils-Jørn Johansen",null,null,12310,175,null,{"$f":"IF(F2410=\"\",\"\",IF(ISERROR(VLOOKUP(F2410,[1]Kontoplan!A:D,2,0)),\"Konto findes ikke!\",VLOOKUP(F2410,[1]Kontoplan!A:D,2,0)))","v":"Bank konto"}]
["2020-09-01",140,"Kontingent, Nils-Jørn Johansen",55,2021,1000,null,175,{"$f":"IF(F2411=\"\",\"\",IF(ISERROR(VLOOKUP(F2411,[1]Kontoplan!A:D,2,0)),\"Konto findes ikke!\",VLOOKUP(F2411,[1]Kontoplan!A:D,2,0)))","v":"Kontingenter"}]
["2020-09-02",141,"Kontingent, Carl-Erik Larsen",null,null,12310,175,null,{"$f":"IF(F2412=\"\",\"\",IF(ISERROR(VLOOKUP(F2412,[1]Kontoplan!A:D,2,0)),\"Konto findes ikke!\",VLOOKUP(F2412,[1]Kontoplan!A:D,2,0)))","v":"Bank konto"}]
["2020-09-02",141,"Kontingent, Carl-Erik Larsen",34,2021,1000,null,175,{"$f":"IF(F2413=\"\",\"\",IF(ISERROR(VLOOKUP(F2413,[1]Kontoplan!A:D,2,0)),\"Konto findes ikke!\",VLOOKUP(F2413,[1]Kontoplan!A:D,2,0)))","v":"Kontingenter"}]
["2020-09-03",142,"Kontingent, Bent Ellevang",null,null,12310,175,null,{"$f":"IF(F2414=\"\",\"\",IF(ISERROR(VLOOKUP(F2414,[1]Kontoplan!A:D,2,0)),\"Konto findes ikke!\",VLOOKUP(F2414,[1]Kontoplan!A:D,2,0)))","v":"Bank konto"}]
["2020-09-03",142,"Kontingent, Bent Ellevang",11,2021,1000,null,175,{"$f":"IF(F2415=\"\",\"\",IF(ISERROR(VLOOKUP(F2415,[1]Kontoplan!A:D,2,0)),\"Konto findes ikke!\",VLOOKUP(F2415,[1]Kontoplan!A:D,2,0)))","v":"Kontingenter"}]
["2020-09-06",143,"Udlæg til rejse, Gummiliste, Jan",null,null,12310,null,1119,{"$f":"IF(F2416=\"\",\"\",IF(ISERROR(VLOOKUP(F2416,[1]Kontoplan!A:D,2,0)),\"Konto findes ikke!\",VLOOKUP(F2416,[1]Kontoplan!A:D,2,0)))","v":"Bank konto"}]
["2020-09-06",143,"Reservedele, gummiliste til M24",null,null,2080,271,null,{"$f":"IF(F2417=\"\",\"\",IF(ISERROR(VLOOKUP(F2417,[1]Kontoplan!A:D,2,0)),\"Konto findes ikke!\",VLOOKUP(F2417,[1]Kontoplan!A:D,2,0)))","v":"Reservedele"}]
["2020-09-06",143,"Rejser, Jan og Ole",null,null,2160,848,null,{"$f":"IF(F2418=\"\",\"\",IF(ISERROR(VLOOKUP(F2418,[1]Kontoplan!A:D,2,0)),\"Konto findes ikke!\",VLOOKUP(F2418,[1]Kontoplan!A:D,2,0)))","v":"Rejser"}]
["2020-09-07",144,"Kontingent, Palle Jensen",null,null,12310,175,null,{"$f":"IF(F2419=\"\",\"\",IF(ISERROR(VLOOKUP(F2419,[1]Kontoplan!A:D,2,0)),\"Konto findes ikke!\",VLOOKUP(F2419,[1]Kontoplan!A:D,2,0)))","v":"Bank konto"}]
["2020-09-07",144,"Kontingent, Palle Jensen",65,2021,1000,null,175,{"$f":"IF(F2420=\"\",\"\",IF(ISERROR(VLOOKUP(F2420,[1]Kontoplan!A:D,2,0)),\"Konto findes ikke!\",VLOOKUP(F2420,[1]Kontoplan!A:D,2,0)))","v":"Kontingenter"}]
["2020-09-09",145,"Kontingent, Odd Bjarne Poulsen",null,null,12310,175,null,{"$f":"IF(F2421=\"\",\"\",IF(ISERROR(VLOOKUP(F2421,[1]Kontoplan!A:D,2,0)),\"Konto findes ikke!\",VLOOKUP(F2421,[1]Kontoplan!A:D,2,0)))","v":"Bank konto"}]
["2020-09-09",145,"Kontingent, Odd Bjarne Poulsen",67,2021,1000,null,175,{"$f":"IF(F2422=\"\",\"\",IF(ISERROR(VLOOKUP(F2422,[1]Kontoplan!A:D,2,0)),\"Konto findes ikke!\",VLOOKUP(F2422,[1]Kontoplan!A:D,2,0)))","v":"Kontingenter"}]
["2020-09-12",146,"Kontingent, Henrik svendsen",null,null,12310,175,null,{"$f":"IF(F2423=\"\",\"\",IF(ISERROR(VLOOKUP(F2423,[1]Kontoplan!A:D,2,0)),\"Konto findes ikke!\",VLOOKUP(F2423,[1]Kontoplan!A:D,2,0)))","v":"Bank konto"}]
["2020-09-12",146,"Kontingent, Henrik svendsen",102,2021,1000,null,175,{"$f":"IF(F2424=\"\",\"\",IF(ISERROR(VLOOKUP(F2424,[1]Kontoplan!A:D,2,0)),\"Konto findes ikke!\",VLOOKUP(F2424,[1]Kontoplan!A:D,2,0)))","v":"Kontingenter"}]
["2020-09-14",147,"Kontingent, Michael Fausing",null,null,12310,175,null,{"$f":"IF(F2425=\"\",\"\",IF(ISERROR(VLOOKUP(F2425,[1]Kontoplan!A:D,2,0)),\"Konto findes ikke!\",VLOOKUP(F2425,[1]Kontoplan!A:D,2,0)))","v":"Bank konto"}]
["2020-09-14",147,"Kontingent, Michael Fausing",51,2021,1000,null,175,{"$f":"IF(F2426=\"\",\"\",IF(ISERROR(VLOOKUP(F2426,[1]Kontoplan!A:D,2,0)),\"Konto findes ikke!\",VLOOKUP(F2426,[1]Kontoplan!A:D,2,0)))","v":"Kontingenter"}]
["2020-09-14",148,"Kontingent, Ole Larsen",null,null,12310,175,null,{"$f":"IF(F2427=\"\",\"\",IF(ISERROR(VLOOKUP(F2427,[1]Kontoplan!A:D,2,0)),\"Konto findes ikke!\",VLOOKUP(F2427,[1]Kontoplan!A:D,2,0)))","v":"Bank konto"}]
["2020-09-14",148,"Kontingent, Ole Larsen",5,2021,1000,null,175,{"$f":"IF(F2428=\"\",\"\",IF(ISERROR(VLOOKUP(F2428,[1]Kontoplan!A:D,2,0)),\"Konto findes ikke!\",VLOOKUP(F2428,[1]Kontoplan!A:D,2,0)))","v":"Kontingenter"}]
["2020-09-14",149,"Kontingent, Flemming Bille",null,null,12310,175,null,{"$f":"IF(F2429=\"\",\"\",IF(ISERROR(VLOOKUP(F2429,[1]Kontoplan!A:D,2,0)),\"Konto findes ikke!\",VLOOKUP(F2429,[1]Kontoplan!A:D,2,0)))","v":"Bank konto"}]
["2020-09-14",149,"Kontingent, Flemming Bille",110,2021,1000,null,175,{"$f":"IF(F2430=\"\",\"\",IF(ISERROR(VLOOKUP(F2430,[1]Kontoplan!A:D,2,0)),\"Konto findes ikke!\",VLOOKUP(F2430,[1]Kontoplan!A:D,2,0)))","v":"Kontingenter"}]
["2020-09-15",150,"indbetalt af Per Lindorf Jørgensen",null,null,12310,575,null,{"$f":"IF(F2431=\"\",\"\",IF(ISERROR(VLOOKUP(F2431,[1]Kontoplan!A:D,2,0)),\"Konto findes ikke!\",VLOOKUP(F2431,[1]Kontoplan!A:D,2,0)))","v":"Bank konto"}]
["2020-09-15",150,"indbetalt af Per Lindorf Jørgensen",109,2021,1000,null,175,{"$f":"IF(F2432=\"\",\"\",IF(ISERROR(VLOOKUP(F2432,[1]Kontoplan!A:D,2,0)),\"Konto findes ikke!\",VLOOKUP(F2432,[1]Kontoplan!A:D,2,0)))","v":"Kontingenter"}]
["2020-09-15",150,"indbetalt af Per Lindorf Jørgensen",null,null,1010,null,400,{"$f":"IF(F2433=\"\",\"\",IF(ISERROR(VLOOKUP(F2433,[1]Kontoplan!A:D,2,0)),\"Konto findes ikke!\",VLOOKUP(F2433,[1]Kontoplan!A:D,2,0)))","v":"Salg af mærker"}]
["2020-09-28",151,"Kontingent, Jens Dideriksen",null,null,12310,175,null,{"$f":"IF(F2434=\"\",\"\",IF(ISERROR(VLOOKUP(F2434,[1]Kontoplan!A:D,2,0)),\"Konto findes ikke!\",VLOOKUP(F2434,[1]Kontoplan!A:D,2,0)))","v":"Bank konto"}]
["2020-09-28",151,"Kontingent, Jens Dideriksen",107,2021,1000,null,175,{"$f":"IF(F2435=\"\",\"\",IF(ISERROR(VLOOKUP(F2435,[1]Kontoplan!A:D,2,0)),\"Konto findes ikke!\",VLOOKUP(F2435,[1]Kontoplan!A:D,2,0)))","v":"Kontingenter"}]
["2020-09-28",152,"Kontingent, Henrik Green",null,null,12310,175,null,{"$f":"IF(F2436=\"\",\"\",IF(ISERROR(VLOOKUP(F2436,[1]Kontoplan!A:D,2,0)),\"Konto findes ikke!\",VLOOKUP(F2436,[1]Kontoplan!A:D,2,0)))","v":"Bank konto"}]
["2020-09-28",152,"Kontingent, Henrik Green",58,2021,1000,null,175,{"$f":"IF(F2437=\"\",\"\",IF(ISERROR(VLOOKUP(F2437,[1]Kontoplan!A:D,2,0)),\"Konto findes ikke!\",VLOOKUP(F2437,[1]Kontoplan!A:D,2,0)))","v":"Kontingenter"}]
["2020-09-28",153,"Kontingent, Knud Arne Rasmussen",null,null,12310,175,null,{"$f":"IF(F2438=\"\",\"\",IF(ISERROR(VLOOKUP(F2438,[1]Kontoplan!A:D,2,0)),\"Konto findes ikke!\",VLOOKUP(F2438,[1]Kontoplan!A:D,2,0)))","v":"Bank konto"}]
["2020-09-28",153,"Kontingent, Knud Arne Rasmussen",33,2021,1000,null,175,{"$f":"IF(F2439=\"\",\"\",IF(ISERROR(VLOOKUP(F2439,[1]Kontoplan!A:D,2,0)),\"Konto findes ikke!\",VLOOKUP(F2439,[1]Kontoplan!A:D,2,0)))","v":"Kontingenter"}]
["2020-09-28",154,"Kontingent, Flemming Pedersen",null,null,12310,175,null,{"$f":"IF(F2440=\"\",\"\",IF(ISERROR(VLOOKUP(F2440,[1]Kontoplan!A:D,2,0)),\"Konto findes ikke!\",VLOOKUP(F2440,[1]Kontoplan!A:D,2,0)))","v":"Bank konto"}]
["2020-09-28",154,"Kontingent, Flemming Pedersen",80,2021,1000,null,175,{"$f":"IF(F2441=\"\",\"\",IF(ISERROR(VLOOKUP(F2441,[1]Kontoplan!A:D,2,0)),\"Konto findes ikke!\",VLOOKUP(F2441,[1]Kontoplan!A:D,2,0)))","v":"Kontingenter"}]
["2020-09-29",155,"Kontingent, Michael Bendtsen",null,null,12310,175,null,{"$f":"IF(F2442=\"\",\"\",IF(ISERROR(VLOOKUP(F2442,[1]Kontoplan!A:D,2,0)),\"Konto findes ikke!\",VLOOKUP(F2442,[1]Kontoplan!A:D,2,0)))","v":"Bank konto"}]
["2020-09-29",155,"Kontingent, Michael Bendtsen",59,2021,1000,null,175,{"$f":"IF(F2443=\"\",\"\",IF(ISERROR(VLOOKUP(F2443,[1]Kontoplan!A:D,2,0)),\"Konto findes ikke!\",VLOOKUP(F2443,[1]Kontoplan!A:D,2,0)))","v":"Kontingenter"}]
["2020-09-29",156,"Kontingent, Martin Jacob Hansen",null,null,12310,175,null,{"$f":"IF(F2444=\"\",\"\",IF(ISERROR(VLOOKUP(F2444,[1]Kontoplan!A:D,2,0)),\"Konto findes ikke!\",VLOOKUP(F2444,[1]Kontoplan!A:D,2,0)))","v":"Bank konto"}]
["2020-09-29",156,"Kontingent, Martin Jacob Hansen",90,2021,1000,null,175,{"$f":"IF(F2445=\"\",\"\",IF(ISERROR(VLOOKUP(F2445,[1]Kontoplan!A:D,2,0)),\"Konto findes ikke!\",VLOOKUP(F2445,[1]Kontoplan!A:D,2,0)))","v":"Kontingenter"}]
["2020-09-30",157,"Kontingent, Thomas Blangshøj",null,null,12310,175,null,{"$f":"IF(F2446=\"\",\"\",IF(ISERROR(VLOOKUP(F2446,[1]Kontoplan!A:D,2,0)),\"Konto findes ikke!\",VLOOKUP(F2446,[1]Kontoplan!A:D,2,0)))","v":"Bank konto"}]
["2020-09-30",157,"Kontingent, Thomas Blangshøj",108,2021,1000,null,175,{"$f":"IF(F2447=\"\",\"\",IF(ISERROR(VLOOKUP(F2447,[1]Kontoplan!A:D,2,0)),\"Konto findes ikke!\",VLOOKUP(F2447,[1]Kontoplan!A:D,2,0)))","v":"Kontingenter"}]
["2020-09-30",158,"Kontingent, Flemming Olsen",null,null,12310,175,null,{"$f":"IF(F2448=\"\",\"\",IF(ISERROR(VLOOKUP(F2448,[1]Kontoplan!A:D,2,0)),\"Konto findes ikke!\",VLOOKUP(F2448,[1]Kontoplan!A:D,2,0)))","v":"Bank konto"}]
["2020-09-30",158,"Kontingent, Flemming Olsen",43,2021,1000,null,175,{"$f":"IF(F2449=\"\",\"\",IF(ISERROR(VLOOKUP(F2449,[1]Kontoplan!A:D,2,0)),\"Konto findes ikke!\",VLOOKUP(F2449,[1]Kontoplan!A:D,2,0)))","v":"Kontingenter"}]
["2020-09-30",159,"Gebyr ifølge nota",null,null,12310,null,75,{"$f":"IF(F2450=\"\",\"\",IF(ISERROR(VLOOKUP(F2450,[1]Kontoplan!A:D,2,0)),\"Konto findes ikke!\",VLOOKUP(F2450,[1]Kontoplan!A:D,2,0)))","v":"Bank konto"}]
["2020-09-30",159,"Gebyr ifølge nota",null,null,2130,75,null,{"$f":"IF(F2451=\"\",\"\",IF(ISERROR(VLOOKUP(F2451,[1]Kontoplan!A:D,2,0)),\"Konto findes ikke!\",VLOOKUP(F2451,[1]Kontoplan!A:D,2,0)))","v":"Bankgebyr/Renter"}]
["2020-10-02",160,"Kontingent, Kim Johansen",null,null,12310,175,null,{"$f":"IF(F2452=\"\",\"\",IF(ISERROR(VLOOKUP(F2452,[1]Kontoplan!A:D,2,0)),\"Konto findes ikke!\",VLOOKUP(F2452,[1]Kontoplan!A:D,2,0)))","v":"Bank konto"}]
["2020-10-02",160,"Kontingent, Kim Johansen",36,2021,1000,null,175,{"$f":"IF(F2453=\"\",\"\",IF(ISERROR(VLOOKUP(F2453,[1]Kontoplan!A:D,2,0)),\"Konto findes ikke!\",VLOOKUP(F2453,[1]Kontoplan!A:D,2,0)))","v":"Kontingenter"}]
["2020-10-02",161,"Kontingent, Allan Hoe Andersen",null,null,12310,175,null,{"$f":"IF(F2454=\"\",\"\",IF(ISERROR(VLOOKUP(F2454,[1]Kontoplan!A:D,2,0)),\"Konto findes ikke!\",VLOOKUP(F2454,[1]Kontoplan!A:D,2,0)))","v":"Bank konto"}]
["2020-10-02",161,"Kontingent, Allan Hoe Andersen",98,2021,1000,null,175,{"$f":"IF(F2455=\"\",\"\",IF(ISERROR(VLOOKUP(F2455,[1]Kontoplan!A:D,2,0)),\"Konto findes ikke!\",VLOOKUP(F2455,[1]Kontoplan!A:D,2,0)))","v":"Kontingenter"}]
["2020-10-03",162,"Kontingent, Steen M Jensen",null,null,12310,175,null,{"$f":"IF(F2456=\"\",\"\",IF(ISERROR(VLOOKUP(F2456,[1]Kontoplan!A:D,2,0)),\"Konto findes ikke!\",VLOOKUP(F2456,[1]Kontoplan!A:D,2,0)))","v":"Bank konto"}]
["2020-10-03",162,"Kontingent, Steen M Jensen",16,2021,1000,null,175,{"$f":"IF(F2457=\"\",\"\",IF(ISERROR(VLOOKUP(F2457,[1]Kontoplan!A:D,2,0)),\"Konto findes ikke!\",VLOOKUP(F2457,[1]Kontoplan!A:D,2,0)))","v":"Kontingenter"}]
["2020-10-03",163,"Kontingent, Gert Lykke Espersen",null,null,12310,175,null,{"$f":"IF(F2458=\"\",\"\",IF(ISERROR(VLOOKUP(F2458,[1]Kontoplan!A:D,2,0)),\"Konto findes ikke!\",VLOOKUP(F2458,[1]Kontoplan!A:D,2,0)))","v":"Bank konto"}]
["2020-10-03",163,"Kontingent, Gert Lykke Espersen",92,2021,1000,null,175,{"$f":"IF(F2459=\"\",\"\",IF(ISERROR(VLOOKUP(F2459,[1]Kontoplan!A:D,2,0)),\"Konto findes ikke!\",VLOOKUP(F2459,[1]Kontoplan!A:D,2,0)))","v":"Kontingenter"}]
["2020-10-05",164,"Kontingent, Carsten Egeskow-Gjerka",null,null,12310,175,null,{"$f":"IF(F2460=\"\",\"\",IF(ISERROR(VLOOKUP(F2460,[1]Kontoplan!A:D,2,0)),\"Konto findes ikke!\",VLOOKUP(F2460,[1]Kontoplan!A:D,2,0)))","v":"Bank konto"}]
["2020-10-05",164,"Kontingent, Carsten Egeskow-Gjerka",106,2021,1000,null,175,{"$f":"IF(F2461=\"\",\"\",IF(ISERROR(VLOOKUP(F2461,[1]Kontoplan!A:D,2,0)),\"Konto findes ikke!\",VLOOKUP(F2461,[1]Kontoplan!A:D,2,0)))","v":"Kontingenter"}]
["2020-10-05",165,"Kontingent, Erik A. Larsen",null,null,12310,175,null,{"$f":"IF(F2462=\"\",\"\",IF(ISERROR(VLOOKUP(F2462,[1]Kontoplan!A:D,2,0)),\"Konto findes ikke!\",VLOOKUP(F2462,[1]Kontoplan!A:D,2,0)))","v":"Bank konto"}]
["2020-10-05",165,"Kontingent, Erik A. Larsen",63,2021,1000,null,175,{"$f":"IF(F2463=\"\",\"\",IF(ISERROR(VLOOKUP(F2463,[1]Kontoplan!A:D,2,0)),\"Konto findes ikke!\",VLOOKUP(F2463,[1]Kontoplan!A:D,2,0)))","v":"Kontingenter"}]
["2020-10-05",166,"Forplejning til stormøde, Anette udlæg",null,null,12310,null,270.64999999999998,{"$f":"IF(F2464=\"\",\"\",IF(ISERROR(VLOOKUP(F2464,[1]Kontoplan!A:D,2,0)),\"Konto findes ikke!\",VLOOKUP(F2464,[1]Kontoplan!A:D,2,0)))","v":"Bank konto"}]
["2020-10-05",166,"Forplejning til stormøde, Anette udlæg",null,null,2100,270.64999999999998,null,{"$f":"IF(F2465=\"\",\"\",IF(ISERROR(VLOOKUP(F2465,[1]Kontoplan!A:D,2,0)),\"Konto findes ikke!\",VLOOKUP(F2465,[1]Kontoplan!A:D,2,0)))","v":"Forplejning til møder/Rejser"}]
["2020-11-01",null,"Overført Saldi",null,null,12310,30975.25,null,{"$f":"IF(F2466=\"\",\"\",IF(ISERROR(VLOOKUP(F2466,[1]Kontoplan!A:D,2,0)),\"Konto findes ikke!\",VLOOKUP(F2466,[1]Kontoplan!A:D,2,0)))","v":"Bank konto"}]
["2020-11-01",null,"Overført Saldi",null,null,12330,null,30975.25,{"$f":"IF(F2467=\"\",\"\",IF(ISERROR(VLOOKUP(F2467,[1]Kontoplan!A:D,2,0)),\"Konto findes ikke!\",VLOOKUP(F2467,[1]Kontoplan!A:D,2,0)))","v":"Egenkapital"}]
["2020-11-03",1,"Freddy's Båre",null,null,12310,50,null,{"$f":"IF(F2468=\"\",\"\",IF(ISERROR(VLOOKUP(F2468,[1]Kontoplan!A:D,2,0)),\"Konto findes ikke!\",VLOOKUP(F2468,[1]Kontoplan!A:D,2,0)))","v":"Bank konto"}]
["2020-11-03",1,"Freddy's Båre",null,null,1090,null,50,{"$f":"IF(F2469=\"\",\"\",IF(ISERROR(VLOOKUP(F2469,[1]Kontoplan!A:D,2,0)),\"Konto findes ikke!\",VLOOKUP(F2469,[1]Kontoplan!A:D,2,0)))","v":"Indsamling begravelser"}]
["2020-11-03",2,"Freddy's Båre",null,null,12310,100,null,{"$f":"IF(F2470=\"\",\"\",IF(ISERROR(VLOOKUP(F2470,[1]Kontoplan!A:D,2,0)),\"Konto findes ikke!\",VLOOKUP(F2470,[1]Kontoplan!A:D,2,0)))","v":"Bank konto"}]
["2020-11-03",2,"Freddy's Båre",null,null,1090,null,100,{"$f":"IF(F2471=\"\",\"\",IF(ISERROR(VLOOKUP(F2471,[1]Kontoplan!A:D,2,0)),\"Konto findes ikke!\",VLOOKUP(F2471,[1]Kontoplan!A:D,2,0)))","v":"Indsamling begravelser"}]
["2020-11-03",3,"Freddy's Båre",null,null,12310,100,null,{"$f":"IF(F2472=\"\",\"\",IF(ISERROR(VLOOKUP(F2472,[1]Kontoplan!A:D,2,0)),\"Konto findes ikke!\",VLOOKUP(F2472,[1]Kontoplan!A:D,2,0)))","v":"Bank konto"}]
["2020-11-03",3,"Freddy's Båre",null,null,1090,null,100,{"$f":"IF(F2473=\"\",\"\",IF(ISERROR(VLOOKUP(F2473,[1]Kontoplan!A:D,2,0)),\"Konto findes ikke!\",VLOOKUP(F2473,[1]Kontoplan!A:D,2,0)))","v":"Indsamling begravelser"}]
["2020-11-03",4,"Freddy's Båre",null,null,12310,100,null,{"$f":"IF(F2474=\"\",\"\",IF(ISERROR(VLOOKUP(F2474,[1]Kontoplan!A:D,2,0)),\"Konto findes ikke!\",VLOOKUP(F2474,[1]Kontoplan!A:D,2,0)))","v":"Bank konto"}]
["2020-11-03",4,"Freddy's Båre",null,null,1090,null,100,{"$f":"IF(F2475=\"\",\"\",IF(ISERROR(VLOOKUP(F2475,[1]Kontoplan!A:D,2,0)),\"Konto findes ikke!\",VLOOKUP(F2475,[1]Kontoplan!A:D,2,0)))","v":"Indsamling begravelser"}]
["2020-11-03",5,"Freddy's Båre",null,null,12310,150,null,{"$f":"IF(F2476=\"\",\"\",IF(ISERROR(VLOOKUP(F2476,[1]Kontoplan!A:D,2,0)),\"Konto findes ikke!\",VLOOKUP(F2476,[1]Kontoplan!A:D,2,0)))","v":"Bank konto"}]
["2020-11-03",5,"Freddy's Båre",null,null,1090,null,150,{"$f":"IF(F2477=\"\",\"\",IF(ISERROR(VLOOKUP(F2477,[1]Kontoplan!A:D,2,0)),\"Konto findes ikke!\",VLOOKUP(F2477,[1]Kontoplan!A:D,2,0)))","v":"Indsamling begravelser"}]
["2020-11-03",6,"Freddy's Båre",null,null,12310,25,null,{"$f":"IF(F2478=\"\",\"\",IF(ISERROR(VLOOKUP(F2478,[1]Kontoplan!A:D,2,0)),\"Konto findes ikke!\",VLOOKUP(F2478,[1]Kontoplan!A:D,2,0)))","v":"Bank konto"}]
["2020-11-03",6,"Freddy's Båre",null,null,1090,null,25,{"$f":"IF(F2479=\"\",\"\",IF(ISERROR(VLOOKUP(F2479,[1]Kontoplan!A:D,2,0)),\"Konto findes ikke!\",VLOOKUP(F2479,[1]Kontoplan!A:D,2,0)))","v":"Indsamling begravelser"}]
["2020-11-03",7,"Freddy's Båre",null,null,12310,200,null,{"$f":"IF(F2480=\"\",\"\",IF(ISERROR(VLOOKUP(F2480,[1]Kontoplan!A:D,2,0)),\"Konto findes ikke!\",VLOOKUP(F2480,[1]Kontoplan!A:D,2,0)))","v":"Bank konto"}]
["2020-11-03",7,"Freddy's Båre",null,null,1090,null,200,{"$f":"IF(F2481=\"\",\"\",IF(ISERROR(VLOOKUP(F2481,[1]Kontoplan!A:D,2,0)),\"Konto findes ikke!\",VLOOKUP(F2481,[1]Kontoplan!A:D,2,0)))","v":"Indsamling begravelser"}]
["2020-11-04",8,"Freddy's Båre",null,null,12310,50,null,{"$f":"IF(F2482=\"\",\"\",IF(ISERROR(VLOOKUP(F2482,[1]Kontoplan!A:D,2,0)),\"Konto findes ikke!\",VLOOKUP(F2482,[1]Kontoplan!A:D,2,0)))","v":"Bank konto"}]
["2020-11-04",8,"Freddy's Båre",null,null,1090,null,50,{"$f":"IF(F2483=\"\",\"\",IF(ISERROR(VLOOKUP(F2483,[1]Kontoplan!A:D,2,0)),\"Konto findes ikke!\",VLOOKUP(F2483,[1]Kontoplan!A:D,2,0)))","v":"Indsamling begravelser"}]
["2020-11-04",9,"Freddy's Båre",null,null,12310,100,null,{"$f":"IF(F2484=\"\",\"\",IF(ISERROR(VLOOKUP(F2484,[1]Kontoplan!A:D,2,0)),\"Konto findes ikke!\",VLOOKUP(F2484,[1]Kontoplan!A:D,2,0)))","v":"Bank konto"}]
["2020-11-04",9,"Freddy's Båre",null,null,1090,null,100,{"$f":"IF(F2485=\"\",\"\",IF(ISERROR(VLOOKUP(F2485,[1]Kontoplan!A:D,2,0)),\"Konto findes ikke!\",VLOOKUP(F2485,[1]Kontoplan!A:D,2,0)))","v":"Indsamling begravelser"}]
["2020-11-04",10,"Freddy's Båre",null,null,12310,50,null,{"$f":"IF(F2486=\"\",\"\",IF(ISERROR(VLOOKUP(F2486,[1]Kontoplan!A:D,2,0)),\"Konto findes ikke!\",VLOOKUP(F2486,[1]Kontoplan!A:D,2,0)))","v":"Bank konto"}]
["2020-11-04",10,"Freddy's Båre",null,null,1090,null,50,{"$f":"IF(F2487=\"\",\"\",IF(ISERROR(VLOOKUP(F2487,[1]Kontoplan!A:D,2,0)),\"Konto findes ikke!\",VLOOKUP(F2487,[1]Kontoplan!A:D,2,0)))","v":"Indsamling begravelser"}]
["2020-11-04",11,"Freddy's Båre",null,null,12310,100,null,{"$f":"IF(F2488=\"\",\"\",IF(ISERROR(VLOOKUP(F2488,[1]Kontoplan!A:D,2,0)),\"Konto findes ikke!\",VLOOKUP(F2488,[1]Kontoplan!A:D,2,0)))","v":"Bank konto"}]
["2020-11-04",11,"Freddy's Båre",null,null,1090,null,100,{"$f":"IF(F2489=\"\",\"\",IF(ISERROR(VLOOKUP(F2489,[1]Kontoplan!A:D,2,0)),\"Konto findes ikke!\",VLOOKUP(F2489,[1]Kontoplan!A:D,2,0)))","v":"Indsamling begravelser"}]
["2020-11-04",12,"Freddy's Båre",null,null,12310,50,null,{"$f":"IF(F2490=\"\",\"\",IF(ISERROR(VLOOKUP(F2490,[1]Kontoplan!A:D,2,0)),\"Konto findes ikke!\",VLOOKUP(F2490,[1]Kontoplan!A:D,2,0)))","v":"Bank konto"}]
["2020-11-04",12,"Freddy's Båre",null,null,1090,null,50,{"$f":"IF(F2491=\"\",\"\",IF(ISERROR(VLOOKUP(F2491,[1]Kontoplan!A:D,2,0)),\"Konto findes ikke!\",VLOOKUP(F2491,[1]Kontoplan!A:D,2,0)))","v":"Indsamling begravelser"}]
["2020-11-04",13,"Freddy's Båre",null,null,12310,100,null,{"$f":"IF(F2492=\"\",\"\",IF(ISERROR(VLOOKUP(F2492,[1]Kontoplan!A:D,2,0)),\"Konto findes ikke!\",VLOOKUP(F2492,[1]Kontoplan!A:D,2,0)))","v":"Bank konto"}]
["2020-11-04",13,"Freddy's Båre",null,null,1090,null,100,{"$f":"IF(F2493=\"\",\"\",IF(ISERROR(VLOOKUP(F2493,[1]Kontoplan!A:D,2,0)),\"Konto findes ikke!\",VLOOKUP(F2493,[1]Kontoplan!A:D,2,0)))","v":"Indsamling begravelser"}]
["2020-11-04",14,"Freddy's Båre",null,null,12310,25,null,{"$f":"IF(F2494=\"\",\"\",IF(ISERROR(VLOOKUP(F2494,[1]Kontoplan!A:D,2,0)),\"Konto findes ikke!\",VLOOKUP(F2494,[1]Kontoplan!A:D,2,0)))","v":"Bank konto"}]
["2020-11-04",14,"Freddy's Båre",null,null,1090,null,25,{"$f":"IF(F2495=\"\",\"\",IF(ISERROR(VLOOKUP(F2495,[1]Kontoplan!A:D,2,0)),\"Konto findes ikke!\",VLOOKUP(F2495,[1]Kontoplan!A:D,2,0)))","v":"Indsamling begravelser"}]
["2020-11-04",15,"Freddy's Båre",null,null,12310,50,null,{"$f":"IF(F2496=\"\",\"\",IF(ISERROR(VLOOKUP(F2496,[1]Kontoplan!A:D,2,0)),\"Konto findes ikke!\",VLOOKUP(F2496,[1]Kontoplan!A:D,2,0)))","v":"Bank konto"}]
["2020-11-04",15,"Freddy's Båre",null,null,1090,null,50,{"$f":"IF(F2497=\"\",\"\",IF(ISERROR(VLOOKUP(F2497,[1]Kontoplan!A:D,2,0)),\"Konto findes ikke!\",VLOOKUP(F2497,[1]Kontoplan!A:D,2,0)))","v":"Indsamling begravelser"}]
["2020-11-04",16,"Freddy's Båre",null,null,12310,50,null,{"$f":"IF(F2498=\"\",\"\",IF(ISERROR(VLOOKUP(F2498,[1]Kontoplan!A:D,2,0)),\"Konto findes ikke!\",VLOOKUP(F2498,[1]Kontoplan!A:D,2,0)))","v":"Bank konto"}]
["2020-11-04",16,"Freddy's Båre",null,null,1090,null,50,{"$f":"IF(F2499=\"\",\"\",IF(ISERROR(VLOOKUP(F2499,[1]Kontoplan!A:D,2,0)),\"Konto findes ikke!\",VLOOKUP(F2499,[1]Kontoplan!A:D,2,0)))","v":"Indsamling begravelser"}]
["2020-11-05",17,"Freddy's Båre",null,null,12310,50,null,{"$f":"IF(F2500=\"\",\"\",IF(ISERROR(VLOOKUP(F2500,[1]Kontoplan!A:D,2,0)),\"Konto findes ikke!\",VLOOKUP(F2500,[1]Kontoplan!A:D,2,0)))","v":"Bank konto"}]
["2020-11-05",17,"Freddy's Båre",null,null,1090,null,50,{"$f":"IF(F2501=\"\",\"\",IF(ISERROR(VLOOKUP(F2501,[1]Kontoplan!A:D,2,0)),\"Konto findes ikke!\",VLOOKUP(F2501,[1]Kontoplan!A:D,2,0)))","v":"Indsamling begravelser"}]
["2020-11-05",18,"Freddy's Båre",null,null,12310,50,null,{"$f":"IF(F2502=\"\",\"\",IF(ISERROR(VLOOKUP(F2502,[1]Kontoplan!A:D,2,0)),\"Konto findes ikke!\",VLOOKUP(F2502,[1]Kontoplan!A:D,2,0)))","v":"Bank konto"}]
["2020-11-05",18,"Freddy's Båre",null,null,1090,null,50,{"$f":"IF(F2503=\"\",\"\",IF(ISERROR(VLOOKUP(F2503,[1]Kontoplan!A:D,2,0)),\"Konto findes ikke!\",VLOOKUP(F2503,[1]Kontoplan!A:D,2,0)))","v":"Indsamling begravelser"}]
["2020-11-11",19,"Krans til Freddy",null,null,12310,null,1300,{"$f":"IF(F2504=\"\",\"\",IF(ISERROR(VLOOKUP(F2504,[1]Kontoplan!A:D,2,0)),\"Konto findes ikke!\",VLOOKUP(F2504,[1]Kontoplan!A:D,2,0)))","v":"Bank konto"}]
["2020-11-11",19,"Krans til Freddy",null,null,2140,1300,null,{"$f":"IF(F2505=\"\",\"\",IF(ISERROR(VLOOKUP(F2505,[1]Kontoplan!A:D,2,0)),\"Konto findes ikke!\",VLOOKUP(F2505,[1]Kontoplan!A:D,2,0)))","v":"Begravelser"}]
["2020-11-15",20,"Ole Holm Udlæg til Rejse ",null,null,12310,null,638,{"$f":"IF(F2506=\"\",\"\",IF(ISERROR(VLOOKUP(F2506,[1]Kontoplan!A:D,2,0)),\"Konto findes ikke!\",VLOOKUP(F2506,[1]Kontoplan!A:D,2,0)))","v":"Bank konto"}]
["2020-11-15",20,"Ole Holm Udlæg til Rejse ",null,null,2160,638,null,{"$f":"IF(F2507=\"\",\"\",IF(ISERROR(VLOOKUP(F2507,[1]Kontoplan!A:D,2,0)),\"Konto findes ikke!\",VLOOKUP(F2507,[1]Kontoplan!A:D,2,0)))","v":"Rejser"}]
["2020-11-16",21,"ONE-COM",null,null,12310,null,1071,{"$f":"IF(F2508=\"\",\"\",IF(ISERROR(VLOOKUP(F2508,[1]Kontoplan!A:D,2,0)),\"Konto findes ikke!\",VLOOKUP(F2508,[1]Kontoplan!A:D,2,0)))","v":"Bank konto"}]
["2020-11-16",21,"ONE-COM",null,null,2120,1071,null,{"$f":"IF(F2509=\"\",\"\",IF(ISERROR(VLOOKUP(F2509,[1]Kontoplan!A:D,2,0)),\"Konto findes ikke!\",VLOOKUP(F2509,[1]Kontoplan!A:D,2,0)))","v":"Hjemmeside"}]
["2021-01-01",22,"Gebyr ifølge nota",null,null,12310,null,75,{"$f":"IF(F2510=\"\",\"\",IF(ISERROR(VLOOKUP(F2510,[1]Kontoplan!A:D,2,0)),\"Konto findes ikke!\",VLOOKUP(F2510,[1]Kontoplan!A:D,2,0)))","v":"Bank konto"}]
["2021-01-01",22,"Gebyr ifølge nota",null,null,2130,75,null,{"$f":"IF(F2511=\"\",\"\",IF(ISERROR(VLOOKUP(F2511,[1]Kontoplan!A:D,2,0)),\"Konto findes ikke!\",VLOOKUP(F2511,[1]Kontoplan!A:D,2,0)))","v":"Bankgebyr/Renter"}]
["2021-02-08",23,"DK Hostmaster",null,null,12310,null,58.75,{"$f":"IF(F2512=\"\",\"\",IF(ISERROR(VLOOKUP(F2512,[1]Kontoplan!A:D,2,0)),\"Konto findes ikke!\",VLOOKUP(F2512,[1]Kontoplan!A:D,2,0)))","v":"Bank konto"}]
["2021-02-08",23,"DK Hostmaster",null,null,2120,58.75,null,{"$f":"IF(F2513=\"\",\"\",IF(ISERROR(VLOOKUP(F2513,[1]Kontoplan!A:D,2,0)),\"Konto findes ikke!\",VLOOKUP(F2513,[1]Kontoplan!A:D,2,0)))","v":"Hjemmeside"}]
["2021-03-16",24,"Flaskepant, indsat",null,null,12310,400,null,{"$f":"IF(F2514=\"\",\"\",IF(ISERROR(VLOOKUP(F2514,[1]Kontoplan!A:D,2,0)),\"Konto findes ikke!\",VLOOKUP(F2514,[1]Kontoplan!A:D,2,0)))","v":"Bank konto"}]
["2021-03-16",24,"Flaskepant, indsat",null,null,1130,null,400,{"$f":"IF(F2515=\"\",\"\",IF(ISERROR(VLOOKUP(F2515,[1]Kontoplan!A:D,2,0)),\"Konto findes ikke!\",VLOOKUP(F2515,[1]Kontoplan!A:D,2,0)))","v":"Diverse Indtægter"}]
["2021-04-01",25,"Gebyr ifølge nota",null,null,12310,null,75,{"$f":"IF(F2516=\"\",\"\",IF(ISERROR(VLOOKUP(F2516,[1]Kontoplan!A:D,2,0)),\"Konto findes ikke!\",VLOOKUP(F2516,[1]Kontoplan!A:D,2,0)))","v":"Bank konto"}]
["2021-04-01",25,"Gebyr ifølge nota",null,null,2130,75,null,{"$f":"IF(F2517=\"\",\"\",IF(ISERROR(VLOOKUP(F2517,[1]Kontoplan!A:D,2,0)),\"Konto findes ikke!\",VLOOKUP(F2517,[1]Kontoplan!A:D,2,0)))","v":"Bankgebyr/Renter"}]
["2021-05-07",26,"Ole Holm Udlæg til Rejse ",null,null,12310,null,1242,{"$f":"IF(F2518=\"\",\"\",IF(ISERROR(VLOOKUP(F2518,[1]Kontoplan!A:D,2,0)),\"Konto findes ikke!\",VLOOKUP(F2518,[1]Kontoplan!A:D,2,0)))","v":"Bank konto"}]
["2021-05-07",26,"Ole Holm Udlæg til Rejse ",null,null,2160,1242,null,{"$f":"IF(F2519=\"\",\"\",IF(ISERROR(VLOOKUP(F2519,[1]Kontoplan!A:D,2,0)),\"Konto findes ikke!\",VLOOKUP(F2519,[1]Kontoplan!A:D,2,0)))","v":"Rejser"}]
["2021-06-03",27,"Salg af mærker 4 stk.",null,null,12310,200,null,{"$f":"IF(F2520=\"\",\"\",IF(ISERROR(VLOOKUP(F2520,[1]Kontoplan!A:D,2,0)),\"Konto findes ikke!\",VLOOKUP(F2520,[1]Kontoplan!A:D,2,0)))","v":"Bank konto"}]
["2021-06-03",27,"Salg af mærker 4 stk.",null,null,1010,null,200,{"$f":"IF(F2521=\"\",\"\",IF(ISERROR(VLOOKUP(F2521,[1]Kontoplan!A:D,2,0)),\"Konto findes ikke!\",VLOOKUP(F2521,[1]Kontoplan!A:D,2,0)))","v":"Salg af mærker"}]
["2021-07-04",28,"Gebyr ifølge nota",null,null,12310,null,75,{"$f":"IF(F2522=\"\",\"\",IF(ISERROR(VLOOKUP(F2522,[1]Kontoplan!A:D,2,0)),\"Konto findes ikke!\",VLOOKUP(F2522,[1]Kontoplan!A:D,2,0)))","v":"Bank konto"}]
["2021-07-04",28,"Gebyr ifølge nota",null,null,2130,75,null,{"$f":"IF(F2523=\"\",\"\",IF(ISERROR(VLOOKUP(F2523,[1]Kontoplan!A:D,2,0)),\"Konto findes ikke!\",VLOOKUP(F2523,[1]Kontoplan!A:D,2,0)))","v":"Bankgebyr/Renter"}]
["2021-07-04",29,"Jan udlæg til rejse den 11-13/6",null,null,12310,null,598,{"$f":"IF(F2524=\"\",\"\",IF(ISERROR(VLOOKUP(F2524,[1]Kontoplan!A:D,2,0)),\"Konto findes ikke!\",VLOOKUP(F2524,[1]Kontoplan!A:D,2,0)))","v":"Bank konto"}]
["2021-07-04",29,"Jan udlæg til rejse den 11-13/6",null,null,2160,598,null,{"$f":"IF(F2525=\"\",\"\",IF(ISERROR(VLOOKUP(F2525,[1]Kontoplan!A:D,2,0)),\"Konto findes ikke!\",VLOOKUP(F2525,[1]Kontoplan!A:D,2,0)))","v":"Rejser"}]
["2021-07-04",30,"Morten udlæg til reservedele til gearkasse",null,null,12310,null,4932.04,{"$f":"IF(F2526=\"\",\"\",IF(ISERROR(VLOOKUP(F2526,[1]Kontoplan!A:D,2,0)),\"Konto findes ikke!\",VLOOKUP(F2526,[1]Kontoplan!A:D,2,0)))","v":"Bank konto"}]
["2021-07-04",30,"Morten udlæg til reservedele til gearkasse",null,null,2080,4932.04,null,{"$f":"IF(F2527=\"\",\"\",IF(ISERROR(VLOOKUP(F2527,[1]Kontoplan!A:D,2,0)),\"Konto findes ikke!\",VLOOKUP(F2527,[1]Kontoplan!A:D,2,0)))","v":"Reservedele"}]
["2021-08-29",31,"Ole Holm Udlæg til Rejse ",null,null,2160,145,null,{"$f":"IF(F2528=\"\",\"\",IF(ISERROR(VLOOKUP(F2528,[1]Kontoplan!A:D,2,0)),\"Konto findes ikke!\",VLOOKUP(F2528,[1]Kontoplan!A:D,2,0)))","v":"Rejser"}]
["2021-08-29",31,"Ole Holm Udlæg til Rejse ",null,null,12310,null,145,{"$f":"IF(F2529=\"\",\"\",IF(ISERROR(VLOOKUP(F2529,[1]Kontoplan!A:D,2,0)),\"Konto findes ikke!\",VLOOKUP(F2529,[1]Kontoplan!A:D,2,0)))","v":"Bank konto"}]
["2021-10-01",32,"Gebyr ifølge nota",null,null,2130,75,null,{"$f":"IF(F2530=\"\",\"\",IF(ISERROR(VLOOKUP(F2530,[1]Kontoplan!A:D,2,0)),\"Konto findes ikke!\",VLOOKUP(F2530,[1]Kontoplan!A:D,2,0)))","v":"Bankgebyr/Renter"}]
["2021-10-01",32,"Gebyr ifølge nota",null,null,12310,null,75,{"$f":"IF(F2531=\"\",\"\",IF(ISERROR(VLOOKUP(F2531,[1]Kontoplan!A:D,2,0)),\"Konto findes ikke!\",VLOOKUP(F2531,[1]Kontoplan!A:D,2,0)))","v":"Bank konto"}]
["2021-11-01",null,"Overført Saldi",null,null,12310,22690.46,null,{"$f":"IF(F2532=\"\",\"\",IF(ISERROR(VLOOKUP(F2532,[1]Kontoplan!A:D,2,0)),\"Konto findes ikke!\",VLOOKUP(F2532,[1]Kontoplan!A:D,2,0)))","v":"Bank konto"}]
["2021-11-01",null,"Overført Saldi",null,null,12330,null,22690.46,{"$f":"IF(F2533=\"\",\"\",IF(ISERROR(VLOOKUP(F2533,[1]Kontoplan!A:D,2,0)),\"Konto findes ikke!\",VLOOKUP(F2533,[1]Kontoplan!A:D,2,0)))","v":"Egenkapital"}]
["2021-11-10",1,"Dragonfest. Hans Greve Brandenburg",null,null,12310,100,null,{"$f":"IF(F2534=\"\",\"\",IF(ISERROR(VLOOKUP(F2534,[1]Kontoplan!A:D,2,0)),\"Konto findes ikke!\",VLOOKUP(F2534,[1]Kontoplan!A:D,2,0)))","v":"Bank konto"}]
["2021-11-10",1,"Dragonfest. Hans Greve Brandenburg",null,null,1050,null,100,{"$f":"IF(F2535=\"\",\"\",IF(ISERROR(VLOOKUP(F2535,[1]Kontoplan!A:D,2,0)),\"Konto findes ikke!\",VLOOKUP(F2535,[1]Kontoplan!A:D,2,0)))","v":"Deltagergebyr, Dragonfest"}]
["2021-11-22",2,"Hjemmeside, one.com",null,null,2120,1356,null,{"$f":"IF(F2536=\"\",\"\",IF(ISERROR(VLOOKUP(F2536,[1]Kontoplan!A:D,2,0)),\"Konto findes ikke!\",VLOOKUP(F2536,[1]Kontoplan!A:D,2,0)))","v":"Hjemmeside"}]
["2021-11-22",2,"Hjemmeside, one.com",null,null,12310,null,1356,{"$f":"IF(F2537=\"\",\"\",IF(ISERROR(VLOOKUP(F2537,[1]Kontoplan!A:D,2,0)),\"Konto findes ikke!\",VLOOKUP(F2537,[1]Kontoplan!A:D,2,0)))","v":"Bank konto"}]
["2021-11-26",3,"Dragonfest, Fini Dahl",null,null,12310,100,null,{"$f":"IF(F2538=\"\",\"\",IF(ISERROR(VLOOKUP(F2538,[1]Kontoplan!A:D,2,0)),\"Konto findes ikke!\",VLOOKUP(F2538,[1]Kontoplan!A:D,2,0)))","v":"Bank konto"}]
["2021-11-26",3,"Dragonfest, Fini Dahl",null,null,1050,null,100,{"$f":"IF(F2539=\"\",\"\",IF(ISERROR(VLOOKUP(F2539,[1]Kontoplan!A:D,2,0)),\"Konto findes ikke!\",VLOOKUP(F2539,[1]Kontoplan!A:D,2,0)))","v":"Deltagergebyr, Dragonfest"}]
["2021-12-02",4,"Dragonfest, Per Nielsen",null,null,12310,100,null,{"$f":"IF(F2540=\"\",\"\",IF(ISERROR(VLOOKUP(F2540,[1]Kontoplan!A:D,2,0)),\"Konto findes ikke!\",VLOOKUP(F2540,[1]Kontoplan!A:D,2,0)))","v":"Bank konto"}]
["2021-12-02",4,"Dragonfest, Per Nielsen",null,null,1050,null,100,{"$f":"IF(F2541=\"\",\"\",IF(ISERROR(VLOOKUP(F2541,[1]Kontoplan!A:D,2,0)),\"Konto findes ikke!\",VLOOKUP(F2541,[1]Kontoplan!A:D,2,0)))","v":"Deltagergebyr, Dragonfest"}]
["2021-12-13",5,"Dragonfest, Jens-Peter Rasmussen",null,null,12310,100,null,{"$f":"IF(F2542=\"\",\"\",IF(ISERROR(VLOOKUP(F2542,[1]Kontoplan!A:D,2,0)),\"Konto findes ikke!\",VLOOKUP(F2542,[1]Kontoplan!A:D,2,0)))","v":"Bank konto"}]
["2021-12-13",5,"Dragonfest, Jens-Peter Rasmussen",null,null,1050,null,100,{"$f":"IF(F2543=\"\",\"\",IF(ISERROR(VLOOKUP(F2543,[1]Kontoplan!A:D,2,0)),\"Konto findes ikke!\",VLOOKUP(F2543,[1]Kontoplan!A:D,2,0)))","v":"Deltagergebyr, Dragonfest"}]
["2021-12-13",6,"Dragonfest, Palle Schrøder Andersen",null,null,12310,100,null,{"$f":"IF(F2544=\"\",\"\",IF(ISERROR(VLOOKUP(F2544,[1]Kontoplan!A:D,2,0)),\"Konto findes ikke!\",VLOOKUP(F2544,[1]Kontoplan!A:D,2,0)))","v":"Bank konto"}]
["2021-12-13",6,"Dragonfest, Palle Schrøder Andersen",null,null,1050,null,100,{"$f":"IF(F2545=\"\",\"\",IF(ISERROR(VLOOKUP(F2545,[1]Kontoplan!A:D,2,0)),\"Konto findes ikke!\",VLOOKUP(F2545,[1]Kontoplan!A:D,2,0)))","v":"Deltagergebyr, Dragonfest"}]
["2021-12-15",7,"Udlæg til rejse, Jan flytning af KVG",null,null,2160,442,null,{"$f":"IF(F2546=\"\",\"\",IF(ISERROR(VLOOKUP(F2546,[1]Kontoplan!A:D,2,0)),\"Konto findes ikke!\",VLOOKUP(F2546,[1]Kontoplan!A:D,2,0)))","v":"Rejser"}]
["2021-12-15",7,"Udlæg til rejse, Jan flytning af KVG",null,null,12310,null,442,{"$f":"IF(F2547=\"\",\"\",IF(ISERROR(VLOOKUP(F2547,[1]Kontoplan!A:D,2,0)),\"Konto findes ikke!\",VLOOKUP(F2547,[1]Kontoplan!A:D,2,0)))","v":"Bank konto"}]
["2021-12-15",8,"Dragonfest, Bjarne Hansen",null,null,12310,100,null,{"$f":"IF(F2548=\"\",\"\",IF(ISERROR(VLOOKUP(F2548,[1]Kontoplan!A:D,2,0)),\"Konto findes ikke!\",VLOOKUP(F2548,[1]Kontoplan!A:D,2,0)))","v":"Bank konto"}]
["2021-12-15",8,"Dragonfest, Bjarne Hansen",null,null,1050,null,100,{"$f":"IF(F2549=\"\",\"\",IF(ISERROR(VLOOKUP(F2549,[1]Kontoplan!A:D,2,0)),\"Konto findes ikke!\",VLOOKUP(F2549,[1]Kontoplan!A:D,2,0)))","v":"Deltagergebyr, Dragonfest"}]
["2021-12-15",9,"Dragonfest, Allan Olsen",null,null,12310,100,null,{"$f":"IF(F2550=\"\",\"\",IF(ISERROR(VLOOKUP(F2550,[1]Kontoplan!A:D,2,0)),\"Konto findes ikke!\",VLOOKUP(F2550,[1]Kontoplan!A:D,2,0)))","v":"Bank konto"}]
["2021-12-15",9,"Dragonfest, Allan Olsen",null,null,1050,null,100,{"$f":"IF(F2551=\"\",\"\",IF(ISERROR(VLOOKUP(F2551,[1]Kontoplan!A:D,2,0)),\"Konto findes ikke!\",VLOOKUP(F2551,[1]Kontoplan!A:D,2,0)))","v":"Deltagergebyr, Dragonfest"}]
["2021-12-15",10,"Dragonfest, Eilief G. Andersen",null,null,12310,100,null,{"$f":"IF(F2552=\"\",\"\",IF(ISERROR(VLOOKUP(F2552,[1]Kontoplan!A:D,2,0)),\"Konto findes ikke!\",VLOOKUP(F2552,[1]Kontoplan!A:D,2,0)))","v":"Bank konto"}]
["2021-12-15",10,"Dragonfest, Eilief G. Andersen",null,null,1050,null,100,{"$f":"IF(F2553=\"\",\"\",IF(ISERROR(VLOOKUP(F2553,[1]Kontoplan!A:D,2,0)),\"Konto findes ikke!\",VLOOKUP(F2553,[1]Kontoplan!A:D,2,0)))","v":"Deltagergebyr, Dragonfest"}]
["2021-12-16",11,"Dragonfest, Jens Aksel Givskov",null,null,12310,300,null,{"$f":"IF(F2554=\"\",\"\",IF(ISERROR(VLOOKUP(F2554,[1]Kontoplan!A:D,2,0)),\"Konto findes ikke!\",VLOOKUP(F2554,[1]Kontoplan!A:D,2,0)))","v":"Bank konto"}]
["2021-12-16",11,"Dragonfest, Jens Aksel Givskov",null,null,1050,null,300,{"$f":"IF(F2555=\"\",\"\",IF(ISERROR(VLOOKUP(F2555,[1]Kontoplan!A:D,2,0)),\"Konto findes ikke!\",VLOOKUP(F2555,[1]Kontoplan!A:D,2,0)))","v":"Deltagergebyr, Dragonfest"}]
["2021-12-16",12,"Dragonfest, Jens Dideriksen",null,null,12310,300,null,{"$f":"IF(F2556=\"\",\"\",IF(ISERROR(VLOOKUP(F2556,[1]Kontoplan!A:D,2,0)),\"Konto findes ikke!\",VLOOKUP(F2556,[1]Kontoplan!A:D,2,0)))","v":"Bank konto"}]
["2021-12-16",12,"Dragonfest, Jens Dideriksen",null,null,1050,null,300,{"$f":"IF(F2557=\"\",\"\",IF(ISERROR(VLOOKUP(F2557,[1]Kontoplan!A:D,2,0)),\"Konto findes ikke!\",VLOOKUP(F2557,[1]Kontoplan!A:D,2,0)))","v":"Deltagergebyr, Dragonfest"}]
["2021-12-17",13,"Dragonfest, John Nielsen",null,null,12310,100,null,{"$f":"IF(F2558=\"\",\"\",IF(ISERROR(VLOOKUP(F2558,[1]Kontoplan!A:D,2,0)),\"Konto findes ikke!\",VLOOKUP(F2558,[1]Kontoplan!A:D,2,0)))","v":"Bank konto"}]
["2021-12-17",13,"Dragonfest, John Nielsen",null,null,1050,null,100,{"$f":"IF(F2559=\"\",\"\",IF(ISERROR(VLOOKUP(F2559,[1]Kontoplan!A:D,2,0)),\"Konto findes ikke!\",VLOOKUP(F2559,[1]Kontoplan!A:D,2,0)))","v":"Deltagergebyr, Dragonfest"}]
["2021-12-18",14,"Kontingent til DHM",null,null,2000,200,null,{"$f":"IF(F2560=\"\",\"\",IF(ISERROR(VLOOKUP(F2560,[1]Kontoplan!A:D,2,0)),\"Konto findes ikke!\",VLOOKUP(F2560,[1]Kontoplan!A:D,2,0)))","v":"Kontigent til andre Foreninger"}]
["2021-12-18",14,"Kontingent til DHM",null,null,12310,null,200,{"$f":"IF(F2561=\"\",\"\",IF(ISERROR(VLOOKUP(F2561,[1]Kontoplan!A:D,2,0)),\"Konto findes ikke!\",VLOOKUP(F2561,[1]Kontoplan!A:D,2,0)))","v":"Bank konto"}]
["2021-12-20",15,"Dragonfest, Jørn K. Pedersen",null,null,12310,100,null,{"$f":"IF(F2562=\"\",\"\",IF(ISERROR(VLOOKUP(F2562,[1]Kontoplan!A:D,2,0)),\"Konto findes ikke!\",VLOOKUP(F2562,[1]Kontoplan!A:D,2,0)))","v":"Bank konto"}]
["2021-12-20",15,"Dragonfest, Jørn K. Pedersen",null,null,1050,null,100,{"$f":"IF(F2563=\"\",\"\",IF(ISERROR(VLOOKUP(F2563,[1]Kontoplan!A:D,2,0)),\"Konto findes ikke!\",VLOOKUP(F2563,[1]Kontoplan!A:D,2,0)))","v":"Deltagergebyr, Dragonfest"}]
["2021-12-31",16,"Gebyr ifølge nota",null,null,2130,75,null,{"$f":"IF(F2564=\"\",\"\",IF(ISERROR(VLOOKUP(F2564,[1]Kontoplan!A:D,2,0)),\"Konto findes ikke!\",VLOOKUP(F2564,[1]Kontoplan!A:D,2,0)))","v":"Bankgebyr/Renter"}]
["2021-12-31",16,"Gebyr ifølge nota",null,null,12310,null,75,{"$f":"IF(F2565=\"\",\"\",IF(ISERROR(VLOOKUP(F2565,[1]Kontoplan!A:D,2,0)),\"Konto findes ikke!\",VLOOKUP(F2565,[1]Kontoplan!A:D,2,0)))","v":"Bank konto"}]
["2022-01-03",17,"DK Hostmaster A/S",null,null,2120,68.75,null,{"$f":"IF(F2566=\"\",\"\",IF(ISERROR(VLOOKUP(F2566,[1]Kontoplan!A:D,2,0)),\"Konto findes ikke!\",VLOOKUP(F2566,[1]Kontoplan!A:D,2,0)))","v":"Hjemmeside"}]
["2022-01-03",17,"DK Hostmaster A/S",null,null,12310,null,68.75,{"$f":"IF(F2567=\"\",\"\",IF(ISERROR(VLOOKUP(F2567,[1]Kontoplan!A:D,2,0)),\"Konto findes ikke!\",VLOOKUP(F2567,[1]Kontoplan!A:D,2,0)))","v":"Bank konto"}]
["2022-02-17",18,"Kims båre",null,null,12310,150,null,{"$f":"IF(F2568=\"\",\"\",IF(ISERROR(VLOOKUP(F2568,[1]Kontoplan!A:D,2,0)),\"Konto findes ikke!\",VLOOKUP(F2568,[1]Kontoplan!A:D,2,0)))","v":"Bank konto"}]
["2022-02-17",18,"Kims båre",null,null,1090,null,150,{"$f":"IF(F2569=\"\",\"\",IF(ISERROR(VLOOKUP(F2569,[1]Kontoplan!A:D,2,0)),\"Konto findes ikke!\",VLOOKUP(F2569,[1]Kontoplan!A:D,2,0)))","v":"Indsamling begravelser"}]
["2022-02-17",19,"Kims båre",null,null,12310,50,null,{"$f":"IF(F2570=\"\",\"\",IF(ISERROR(VLOOKUP(F2570,[1]Kontoplan!A:D,2,0)),\"Konto findes ikke!\",VLOOKUP(F2570,[1]Kontoplan!A:D,2,0)))","v":"Bank konto"}]
["2022-02-17",19,"Kims båre",null,null,1090,null,50,{"$f":"IF(F2571=\"\",\"\",IF(ISERROR(VLOOKUP(F2571,[1]Kontoplan!A:D,2,0)),\"Konto findes ikke!\",VLOOKUP(F2571,[1]Kontoplan!A:D,2,0)))","v":"Indsamling begravelser"}]
["2022-02-17",20,"Kims båre",null,null,12310,100,null,{"$f":"IF(F2572=\"\",\"\",IF(ISERROR(VLOOKUP(F2572,[1]Kontoplan!A:D,2,0)),\"Konto findes ikke!\",VLOOKUP(F2572,[1]Kontoplan!A:D,2,0)))","v":"Bank konto"}]
["2022-02-17",20,"Kims båre",null,null,1090,null,100,{"$f":"IF(F2573=\"\",\"\",IF(ISERROR(VLOOKUP(F2573,[1]Kontoplan!A:D,2,0)),\"Konto findes ikke!\",VLOOKUP(F2573,[1]Kontoplan!A:D,2,0)))","v":"Indsamling begravelser"}]
["2022-02-21",21,"Kims båre",null,null,12310,100,null,{"$f":"IF(F2574=\"\",\"\",IF(ISERROR(VLOOKUP(F2574,[1]Kontoplan!A:D,2,0)),\"Konto findes ikke!\",VLOOKUP(F2574,[1]Kontoplan!A:D,2,0)))","v":"Bank konto"}]
["2022-02-21",21,"Kims båre",null,null,1090,null,100,{"$f":"IF(F2575=\"\",\"\",IF(ISERROR(VLOOKUP(F2575,[1]Kontoplan!A:D,2,0)),\"Konto findes ikke!\",VLOOKUP(F2575,[1]Kontoplan!A:D,2,0)))","v":"Indsamling begravelser"}]
["2022-02-21",22,"Kims båre",null,null,12310,200,null,{"$f":"IF(F2576=\"\",\"\",IF(ISERROR(VLOOKUP(F2576,[1]Kontoplan!A:D,2,0)),\"Konto findes ikke!\",VLOOKUP(F2576,[1]Kontoplan!A:D,2,0)))","v":"Bank konto"}]
["2022-02-21",22,"Kims båre",null,null,1090,null,200,{"$f":"IF(F2577=\"\",\"\",IF(ISERROR(VLOOKUP(F2577,[1]Kontoplan!A:D,2,0)),\"Konto findes ikke!\",VLOOKUP(F2577,[1]Kontoplan!A:D,2,0)))","v":"Indsamling begravelser"}]
["2022-02-22",23,"Kims båre",null,null,12310,50,null,{"$f":"IF(F2578=\"\",\"\",IF(ISERROR(VLOOKUP(F2578,[1]Kontoplan!A:D,2,0)),\"Konto findes ikke!\",VLOOKUP(F2578,[1]Kontoplan!A:D,2,0)))","v":"Bank konto"}]
["2022-02-22",23,"Kims båre",null,null,1090,null,50,{"$f":"IF(F2579=\"\",\"\",IF(ISERROR(VLOOKUP(F2579,[1]Kontoplan!A:D,2,0)),\"Konto findes ikke!\",VLOOKUP(F2579,[1]Kontoplan!A:D,2,0)))","v":"Indsamling begravelser"}]
["2022-02-22",24,"Kontingent, Poul Lang-Jensen",null,null,12310,175,null,{"$f":"IF(F2580=\"\",\"\",IF(ISERROR(VLOOKUP(F2580,[1]Kontoplan!A:D,2,0)),\"Konto findes ikke!\",VLOOKUP(F2580,[1]Kontoplan!A:D,2,0)))","v":"Bank konto"}]
["2022-02-22",24,"Kontingent, Poul Lang-Jensen",96,2021,1000,null,175,{"$f":"IF(F2581=\"\",\"\",IF(ISERROR(VLOOKUP(F2581,[1]Kontoplan!A:D,2,0)),\"Konto findes ikke!\",VLOOKUP(F2581,[1]Kontoplan!A:D,2,0)))","v":"Kontingenter"}]
["2022-02-22",25,"Dragonfest, Poul Lang-Jensen",null,null,12310,100,null,{"$f":"IF(F2582=\"\",\"\",IF(ISERROR(VLOOKUP(F2582,[1]Kontoplan!A:D,2,0)),\"Konto findes ikke!\",VLOOKUP(F2582,[1]Kontoplan!A:D,2,0)))","v":"Bank konto"}]
["2022-02-22",25,"Dragonfest, Poul Lang-Jensen",null,null,1050,null,100,{"$f":"IF(F2583=\"\",\"\",IF(ISERROR(VLOOKUP(F2583,[1]Kontoplan!A:D,2,0)),\"Konto findes ikke!\",VLOOKUP(F2583,[1]Kontoplan!A:D,2,0)))","v":"Deltagergebyr, Dragonfest"}]
["2022-02-23",26,"Dragonfest, Jan Witzner Jensen",null,null,12310,100,null,{"$f":"IF(F2584=\"\",\"\",IF(ISERROR(VLOOKUP(F2584,[1]Kontoplan!A:D,2,0)),\"Konto findes ikke!\",VLOOKUP(F2584,[1]Kontoplan!A:D,2,0)))","v":"Bank konto"}]
["2022-02-23",26,"Dragonfest, Jan Witzner Jensen",null,null,1050,null,100,{"$f":"IF(F2585=\"\",\"\",IF(ISERROR(VLOOKUP(F2585,[1]Kontoplan!A:D,2,0)),\"Konto findes ikke!\",VLOOKUP(F2585,[1]Kontoplan!A:D,2,0)))","v":"Deltagergebyr, Dragonfest"}]
["2022-02-25",27,"Dragonfest, Ole Holm",null,null,12310,100,null,{"$f":"IF(F2586=\"\",\"\",IF(ISERROR(VLOOKUP(F2586,[1]Kontoplan!A:D,2,0)),\"Konto findes ikke!\",VLOOKUP(F2586,[1]Kontoplan!A:D,2,0)))","v":"Bank konto"}]
["2022-02-25",27,"Dragonfest, Ole Holm",null,null,1050,null,100,{"$f":"IF(F2587=\"\",\"\",IF(ISERROR(VLOOKUP(F2587,[1]Kontoplan!A:D,2,0)),\"Konto findes ikke!\",VLOOKUP(F2587,[1]Kontoplan!A:D,2,0)))","v":"Deltagergebyr, Dragonfest"}]
["2022-03-01",28,"Dragonfest, Johnny Kofoed",null,null,12310,100,null,{"$f":"IF(F2588=\"\",\"\",IF(ISERROR(VLOOKUP(F2588,[1]Kontoplan!A:D,2,0)),\"Konto findes ikke!\",VLOOKUP(F2588,[1]Kontoplan!A:D,2,0)))","v":"Bank konto"}]
["2022-03-01",28,"Dragonfest, Johnny Kofoed",null,null,1050,null,100,{"$f":"IF(F2589=\"\",\"\",IF(ISERROR(VLOOKUP(F2589,[1]Kontoplan!A:D,2,0)),\"Konto findes ikke!\",VLOOKUP(F2589,[1]Kontoplan!A:D,2,0)))","v":"Deltagergebyr, Dragonfest"}]
["2022-03-01",29,"Dragonfest, Kim Jensen",null,null,12310,100,null,{"$f":"IF(F2590=\"\",\"\",IF(ISERROR(VLOOKUP(F2590,[1]Kontoplan!A:D,2,0)),\"Konto findes ikke!\",VLOOKUP(F2590,[1]Kontoplan!A:D,2,0)))","v":"Bank konto"}]
["2022-03-01",29,"Dragonfest, Kim Jensen",null,null,1050,null,100,{"$f":"IF(F2591=\"\",\"\",IF(ISERROR(VLOOKUP(F2591,[1]Kontoplan!A:D,2,0)),\"Konto findes ikke!\",VLOOKUP(F2591,[1]Kontoplan!A:D,2,0)))","v":"Deltagergebyr, Dragonfest"}]
["2022-03-02",30,"Dragonfest, Per Nielsen",null,null,12310,100,null,{"$f":"IF(F2592=\"\",\"\",IF(ISERROR(VLOOKUP(F2592,[1]Kontoplan!A:D,2,0)),\"Konto findes ikke!\",VLOOKUP(F2592,[1]Kontoplan!A:D,2,0)))","v":"Bank konto"}]
["2022-03-02",30,"Dragonfest, Per Nielsen",null,null,1050,null,100,{"$f":"IF(F2593=\"\",\"\",IF(ISERROR(VLOOKUP(F2593,[1]Kontoplan!A:D,2,0)),\"Konto findes ikke!\",VLOOKUP(F2593,[1]Kontoplan!A:D,2,0)))","v":"Deltagergebyr, Dragonfest"}]
["2022-03-03",31,"Dragonfest, Morten Jensen",null,null,12310,100,null,{"$f":"IF(F2594=\"\",\"\",IF(ISERROR(VLOOKUP(F2594,[1]Kontoplan!A:D,2,0)),\"Konto findes ikke!\",VLOOKUP(F2594,[1]Kontoplan!A:D,2,0)))","v":"Bank konto"}]
["2022-03-03",31,"Dragonfest, Morten Jensen",null,null,1050,null,100,{"$f":"IF(F2595=\"\",\"\",IF(ISERROR(VLOOKUP(F2595,[1]Kontoplan!A:D,2,0)),\"Konto findes ikke!\",VLOOKUP(F2595,[1]Kontoplan!A:D,2,0)))","v":"Deltagergebyr, Dragonfest"}]
["2022-03-03",32,"Krans til kim bjelstrand",null,null,2140,1200,null,{"$f":"IF(F2596=\"\",\"\",IF(ISERROR(VLOOKUP(F2596,[1]Kontoplan!A:D,2,0)),\"Konto findes ikke!\",VLOOKUP(F2596,[1]Kontoplan!A:D,2,0)))","v":"Begravelser"}]
["2022-03-03",32,"Krans til kim bjelstrand",null,null,12310,null,1200,{"$f":"IF(F2597=\"\",\"\",IF(ISERROR(VLOOKUP(F2597,[1]Kontoplan!A:D,2,0)),\"Konto findes ikke!\",VLOOKUP(F2597,[1]Kontoplan!A:D,2,0)))","v":"Bank konto"}]
["2022-03-03",33,"Sven udlæg til attrapper",null,null,2190,4258.3999999999996,null,{"$f":"IF(F2598=\"\",\"\",IF(ISERROR(VLOOKUP(F2598,[1]Kontoplan!A:D,2,0)),\"Konto findes ikke!\",VLOOKUP(F2598,[1]Kontoplan!A:D,2,0)))","v":"Diverse Indkøb"}]
["2022-03-03",33,"Sven udlæg til attrapper",null,null,12310,null,4258.3999999999996,{"$f":"IF(F2599=\"\",\"\",IF(ISERROR(VLOOKUP(F2599,[1]Kontoplan!A:D,2,0)),\"Konto findes ikke!\",VLOOKUP(F2599,[1]Kontoplan!A:D,2,0)))","v":"Bank konto"}]
["2022-03-04",34,"Dragonfest, Sven Holm Jensen",null,null,12310,100,null,{"$f":"IF(F2600=\"\",\"\",IF(ISERROR(VLOOKUP(F2600,[1]Kontoplan!A:D,2,0)),\"Konto findes ikke!\",VLOOKUP(F2600,[1]Kontoplan!A:D,2,0)))","v":"Bank konto"}]
["2022-03-04",34,"Dragonfest, Sven Holm Jensen",null,null,1050,null,100,{"$f":"IF(F2601=\"\",\"\",IF(ISERROR(VLOOKUP(F2601,[1]Kontoplan!A:D,2,0)),\"Konto findes ikke!\",VLOOKUP(F2601,[1]Kontoplan!A:D,2,0)))","v":"Deltagergebyr, Dragonfest"}]
["2022-03-05",35,"Dragonfest, Steen Jensen",null,null,12310,100,null,{"$f":"IF(F2602=\"\",\"\",IF(ISERROR(VLOOKUP(F2602,[1]Kontoplan!A:D,2,0)),\"Konto findes ikke!\",VLOOKUP(F2602,[1]Kontoplan!A:D,2,0)))","v":"Bank konto"}]
["2022-03-05",35,"Dragonfest, Steen Jensen",null,null,1050,null,100,{"$f":"IF(F2603=\"\",\"\",IF(ISERROR(VLOOKUP(F2603,[1]Kontoplan!A:D,2,0)),\"Konto findes ikke!\",VLOOKUP(F2603,[1]Kontoplan!A:D,2,0)))","v":"Deltagergebyr, Dragonfest"}]
["2022-03-05",36,"Dragonfest, Ebbe M Jensen",null,null,12310,100,null,{"$f":"IF(F2604=\"\",\"\",IF(ISERROR(VLOOKUP(F2604,[1]Kontoplan!A:D,2,0)),\"Konto findes ikke!\",VLOOKUP(F2604,[1]Kontoplan!A:D,2,0)))","v":"Bank konto"}]
["2022-03-05",36,"Dragonfest, Ebbe M Jensen",null,null,1050,null,100,{"$f":"IF(F2605=\"\",\"\",IF(ISERROR(VLOOKUP(F2605,[1]Kontoplan!A:D,2,0)),\"Konto findes ikke!\",VLOOKUP(F2605,[1]Kontoplan!A:D,2,0)))","v":"Deltagergebyr, Dragonfest"}]
["2022-03-06",37,"Dragonfest, Jens P. Christoffersen",null,null,12310,100,null,{"$f":"IF(F2606=\"\",\"\",IF(ISERROR(VLOOKUP(F2606,[1]Kontoplan!A:D,2,0)),\"Konto findes ikke!\",VLOOKUP(F2606,[1]Kontoplan!A:D,2,0)))","v":"Bank konto"}]
["2022-03-06",37,"Dragonfest, Jens P. Christoffersen",null,null,1050,null,100,{"$f":"IF(F2607=\"\",\"\",IF(ISERROR(VLOOKUP(F2607,[1]Kontoplan!A:D,2,0)),\"Konto findes ikke!\",VLOOKUP(F2607,[1]Kontoplan!A:D,2,0)))","v":"Deltagergebyr, Dragonfest"}]
["2022-03-08",38,"Dragonfest, Bent Ellevang",null,null,12310,100,null,{"$f":"IF(F2608=\"\",\"\",IF(ISERROR(VLOOKUP(F2608,[1]Kontoplan!A:D,2,0)),\"Konto findes ikke!\",VLOOKUP(F2608,[1]Kontoplan!A:D,2,0)))","v":"Bank konto"}]
["2022-03-08",38,"Dragonfest, Bent Ellevang",null,null,1050,null,100,{"$f":"IF(F2609=\"\",\"\",IF(ISERROR(VLOOKUP(F2609,[1]Kontoplan!A:D,2,0)),\"Konto findes ikke!\",VLOOKUP(F2609,[1]Kontoplan!A:D,2,0)))","v":"Deltagergebyr, Dragonfest"}]
["2022-03-13",39,"Dragonfest, Richard Finne",null,null,12310,100,null,{"$f":"IF(F2610=\"\",\"\",IF(ISERROR(VLOOKUP(F2610,[1]Kontoplan!A:D,2,0)),\"Konto findes ikke!\",VLOOKUP(F2610,[1]Kontoplan!A:D,2,0)))","v":"Bank konto"}]
["2022-03-13",39,"Dragonfest, Richard Finne",null,null,1050,null,100,{"$f":"IF(F2611=\"\",\"\",IF(ISERROR(VLOOKUP(F2611,[1]Kontoplan!A:D,2,0)),\"Konto findes ikke!\",VLOOKUP(F2611,[1]Kontoplan!A:D,2,0)))","v":"Deltagergebyr, Dragonfest"}]
["2022-03-14",40,"Dragonfest, Hans-Jørgen Jensen",null,null,12310,100,null,{"$f":"IF(F2612=\"\",\"\",IF(ISERROR(VLOOKUP(F2612,[1]Kontoplan!A:D,2,0)),\"Konto findes ikke!\",VLOOKUP(F2612,[1]Kontoplan!A:D,2,0)))","v":"Bank konto"}]
["2022-03-14",40,"Dragonfest, Hans-Jørgen Jensen",null,null,1050,null,100,{"$f":"IF(F2613=\"\",\"\",IF(ISERROR(VLOOKUP(F2613,[1]Kontoplan!A:D,2,0)),\"Konto findes ikke!\",VLOOKUP(F2613,[1]Kontoplan!A:D,2,0)))","v":"Deltagergebyr, Dragonfest"}]
["2022-03-18",41,"Dragonfest, Ole Larsen",null,null,12310,100,null,{"$f":"IF(F2614=\"\",\"\",IF(ISERROR(VLOOKUP(F2614,[1]Kontoplan!A:D,2,0)),\"Konto findes ikke!\",VLOOKUP(F2614,[1]Kontoplan!A:D,2,0)))","v":"Bank konto"}]
["2022-03-18",41,"Dragonfest, Ole Larsen",null,null,1050,null,100,{"$f":"IF(F2615=\"\",\"\",IF(ISERROR(VLOOKUP(F2615,[1]Kontoplan!A:D,2,0)),\"Konto findes ikke!\",VLOOKUP(F2615,[1]Kontoplan!A:D,2,0)))","v":"Deltagergebyr, Dragonfest"}]
["2022-03-20",42,"Annette udlæg til Mad",null,null,2090,537.01,null,{"$f":"IF(F2616=\"\",\"\",IF(ISERROR(VLOOKUP(F2616,[1]Kontoplan!A:D,2,0)),\"Konto findes ikke!\",VLOOKUP(F2616,[1]Kontoplan!A:D,2,0)))","v":"Mad til Dragonfest"}]
["2022-03-20",42,"Annette udlæg til Mad",null,null,12310,null,537.01,{"$f":"IF(F2617=\"\",\"\",IF(ISERROR(VLOOKUP(F2617,[1]Kontoplan!A:D,2,0)),\"Konto findes ikke!\",VLOOKUP(F2617,[1]Kontoplan!A:D,2,0)))","v":"Bank konto"}]
["2022-03-21",43,"Svaneke Bryghus faktura 53120.",null,null,2010,607.5,null,{"$f":"IF(F2618=\"\",\"\",IF(ISERROR(VLOOKUP(F2618,[1]Kontoplan!A:D,2,0)),\"Konto findes ikke!\",VLOOKUP(F2618,[1]Kontoplan!A:D,2,0)))","v":"Indkøb af øl + vand"}]
["2022-03-21",43,"Svaneke Bryghus faktura 53120.",null,null,12310,null,607.5,{"$f":"IF(F2619=\"\",\"\",IF(ISERROR(VLOOKUP(F2619,[1]Kontoplan!A:D,2,0)),\"Konto findes ikke!\",VLOOKUP(F2619,[1]Kontoplan!A:D,2,0)))","v":"Bank konto"}]
["2022-03-21",44,"Sveneke Bryghus faktura 53121.",null,null,2010,405,null,{"$f":"IF(F2620=\"\",\"\",IF(ISERROR(VLOOKUP(F2620,[1]Kontoplan!A:D,2,0)),\"Konto findes ikke!\",VLOOKUP(F2620,[1]Kontoplan!A:D,2,0)))","v":"Indkøb af øl + vand"}]
["2022-03-21",44,"Sveneke Bryghus faktura 53121.",null,null,12310,null,405,{"$f":"IF(F2621=\"\",\"\",IF(ISERROR(VLOOKUP(F2621,[1]Kontoplan!A:D,2,0)),\"Konto findes ikke!\",VLOOKUP(F2621,[1]Kontoplan!A:D,2,0)))","v":"Bank konto"}]
["2022-03-26",45,"Indsat flaskepant fra GF",null,null,12310,70,null,{"$f":"IF(F2622=\"\",\"\",IF(ISERROR(VLOOKUP(F2622,[1]Kontoplan!A:D,2,0)),\"Konto findes ikke!\",VLOOKUP(F2622,[1]Kontoplan!A:D,2,0)))","v":"Bank konto"}]
["2022-03-26",45,"Indsat flaskepant fra GF",null,null,1130,null,70,{"$f":"IF(F2623=\"\",\"\",IF(ISERROR(VLOOKUP(F2623,[1]Kontoplan!A:D,2,0)),\"Konto findes ikke!\",VLOOKUP(F2623,[1]Kontoplan!A:D,2,0)))","v":"Diverse Indtægter"}]
["2022-03-26",46,"salg af drikkevarer ved GF",null,null,12310,330,null,{"$f":"IF(F2624=\"\",\"\",IF(ISERROR(VLOOKUP(F2624,[1]Kontoplan!A:D,2,0)),\"Konto findes ikke!\",VLOOKUP(F2624,[1]Kontoplan!A:D,2,0)))","v":"Bank konto"}]
["2022-03-26",46,"salg af drikkevarer ved GF",null,null,1020,null,330,{"$f":"IF(F2625=\"\",\"\",IF(ISERROR(VLOOKUP(F2625,[1]Kontoplan!A:D,2,0)),\"Konto findes ikke!\",VLOOKUP(F2625,[1]Kontoplan!A:D,2,0)))","v":"Salg af øl + vand"}]
["2022-03-26",47,"Indkøb af Dragon Dram til GF",null,null,2010,2000,null,{"$f":"IF(F2626=\"\",\"\",IF(ISERROR(VLOOKUP(F2626,[1]Kontoplan!A:D,2,0)),\"Konto findes ikke!\",VLOOKUP(F2626,[1]Kontoplan!A:D,2,0)))","v":"Indkøb af øl + vand"}]
["2022-03-26",47,"Indkøb af Dragon Dram til GF",null,null,12310,null,2000,{"$f":"IF(F2627=\"\",\"\",IF(ISERROR(VLOOKUP(F2627,[1]Kontoplan!A:D,2,0)),\"Konto findes ikke!\",VLOOKUP(F2627,[1]Kontoplan!A:D,2,0)))","v":"Bank konto"}]
[null,null,null,null,null,null,null,null,{"$f":"IF(F2628=\"\",\"\",IF(ISERROR(VLOOKUP(F2628,[1]Kontoplan!A:D,2,0)),\"Konto findes ikke!\",VLOOKUP(F2628,[1]Kontoplan!A:D,2,0)))","v":""}]

{"sheet":"Kontoplan","index":1,"n_rows":94,"n_cols":9,"rows_kept":94,"cut":false,"hidden":false,"merged":[]}
["Konto","Kontobeskrivelse","Saldo","Kommentarer","Fra","Til"]
[1000,"Entre i alt",{"$f":"SUM(C3:C11)","v":700},null,1001,1090,null,1000]
[1010,"Voksne",{"$f":"SUMIFS(Bogføring!$H:$H,Bogføring!$A:$A,\">=\"&T!$C$4,Bogføring!$A:$A,\"<=\"&T!$C$5,Bogføring!$F:$F,A3)-SUMIFS(Bogføring!$G:$G,Bogføring!$A:$A,\">=\"&T!$C$4,Bogføring!$A:$A,\"<=\"&T!$C$5,Bogføring!$F:$F,A3)","v":550},null,null,null,null,1010]
[1020,"Pensionister",{"$f":"SUMIFS(Bogføring!$H:$H,Bogføring!$A:$A,\">=\"&T!$C$4,Bogføring!$A:$A,\"<=\"&T!$C$5,Bogføring!$F:$F,A4)-SUMIFS(Bogføring!$G:$G,Bogføring!$A:$A,\">=\"&T!$C$4,Bogføring!$A:$A,\"<=\"&T!$C$5,Bogføring!$F:$F,A4)","v":0},null,null,null,null,1020]
[1030,"Børn 6-16",{"$f":"SUMIFS(Bogføring!$H:$H,Bogføring!$A:$A,\">=\"&T!$C$4,Bogføring!$A:$A,\"<=\"&T!$C$5,Bogføring!$F:$F,A5)-SUMIFS(Bogføring!$G:$G,Bogføring!$A:$A,\">=\"&T!$C$4,Bogføring!$A:$A,\"<=\"&T!$C$5,Bogføring!$F:$F,A5)","v":0},null,null,null,null,1030]
[1040,"Soldater/veteraner",{"$f":"SUMIFS(Bogføring!$H:$H,Bogføring!$A:$A,\">=\"&T!$C$4,Bogføring!$A:$A,\"<=\"&T!$C$5,Bogføring!$F:$F,A6)-SUMIFS(Bogføring!$G:$G,Bogføring!$A:$A,\">=\"&T!$C$4,Bogføring!$A:$A,\"<=\"&T!$C$5,Bogføring!$F:$F,A6)","v":0},null,null,null,null,1040]
[1050,"Skoler",{"$f":"SUMIFS(Bogføring!$H:$H,Bogføring!$A:$A,\">=\"&T!$C$4,Bogføring!$A:$A,\"<=\"&T!$C$5,Bogføring!$F:$F,A7)-SUMIFS(Bogføring!$G:$G,Bogføring!$A:$A,\">=\"&T!$C$4,Bogføring!$A:$A,\"<=\"&T!$C$5,Bogføring!$F:$F,A7)","v":0},null,null,null,null,1050]
[1060,"Grupper",{"$f":"SUMIFS(Bogføring!$H:$H,Bogføring!$A:$A,\">=\"&T!$C$4,Bogføring!$A:$A,\"<=\"&T!$C$5,Bogføring!$F:$F,A8)-SUMIFS(Bogføring!$G:$G,Bogføring!$A:$A,\">=\"&T!$C$4,Bogføring!$A:$A,\"<=\"&T!$C$5,Bogføring!$F:$F,A8)","v":0},null,null,null,null,1060]
[1070,"Guide",{"$f":"SUMIFS(Bogføring!$H:$H,Bogføring!$A:$A,\">=\"&T!$C$4,Bogføring!$A:$A,\"<=\"&T!$C$5,Bogføring!$F:$F,A9)-SUMIFS(Bogføring!$G:$G,Bogføring!$A:$A,\">=\"&T!$C$4,Bogføring!$A:$A,\"<=\"&T!$C$5,Bogføring!$F:$F,A9)","v":0},null,null,null,null,1070]
[1080,null,{"$f":"SUMIFS(Bogføring!$H:$H,Bogføring!$A:$A,\">=\"&T!$C$4,Bogføring!$A:$A,\"<=\"&T!$C$5,Bogføring!$F:$F,A10)-SUMIFS(Bogføring!$G:$G,Bogføring!$A:$A,\">=\"&T!$C$4,Bogføring!$A:$A,\"<=\"&T!$C$5,Bogføring!$F:$F,A10)","v":150},null,null,null,null,1080]
[1090,null,{"$f":"SUMIFS(Bogføring!$H:$H,Bogføring!$A:$A,\">=\"&T!$C$4,Bogføring!$A:$A,\"<=\"&T!$C$5,Bogføring!$F:$F,A11)-SUMIFS(Bogføring!$G:$G,Bogføring!$A:$A,\">=\"&T!$C$4,Bogføring!$A:$A,\"<=\"&T!$C$5,Bogføring!$F:$F,A11)","v":0},null,null,null,null,1090]
[1200,"Kiosk salg",{"$f":"SUM(C13:C22)","v":0},null,1110,1200,null,1100]
[1210,"Bælter",{"$f":"SUMIFS(Bogføring!$H:$H,Bogføring!$A:$A,\">=\"&T!$C$4,Bogføring!$A:$A,\"<=\"&T!$C$5,Bogføring!$F:$F,A13)-SUMIFS(Bogføring!$G:$G,Bogføring!$A:$A,\">=\"&T!$C$4,Bogføring!$A:$A,\"<=\"&T!$C$5,Bogføring!$F:$F,A13)","v":0},null,null,null,null,1110]
[1220,"Bog salg",{"$f":"SUMIFS(Bogføring!$H:$H,Bogføring!$A:$A,\">=\"&T!$C$4,Bogføring!$A:$A,\"<=\"&T!$C$5,Bogføring!$F:$F,A14)-SUMIFS(Bogføring!$G:$G,Bogføring!$A:$A,\">=\"&T!$C$4,Bogføring!$A:$A,\"<=\"&T!$C$5,Bogføring!$F:$F,A14)","v":0},null,null,null,null,1120]
[1230,"Færdige Tinsoldater",{"$f":"SUMIFS(Bogføring!$H:$H,Bogføring!$A:$A,\">=\"&T!$C$4,Bogføring!$A:$A,\"<=\"&T!$C$5,Bogføring!$F:$F,A15)-SUMIFS(Bogføring!$G:$G,Bogføring!$A:$A,\">=\"&T!$C$4,Bogføring!$A:$A,\"<=\"&T!$C$5,Bogføring!$F:$F,A15)","v":0},null,null,null,null,1130]
[1240,"Landkort",{"$f":"SUMIFS(Bogføring!$H:$H,Bogføring!$A:$A,\">=\"&T!$C$4,Bogføring!$A:$A,\"<=\"&T!$C$5,Bogføring!$F:$F,A16)-SUMIFS(Bogføring!$G:$G,Bogføring!$A:$A,\">=\"&T!$C$4,Bogføring!$A:$A,\"<=\"&T!$C$5,Bogføring!$F:$F,A16)","v":0},null,null,null,null,1140]
[1250,"Oplukker",{"$f":"SUMIFS(Bogføring!$H:$H,Bogføring!$A:$A,\">=\"&T!$C$4,Bogføring!$A:$A,\"<=\"&T!$C$5,Bogføring!$F:$F,A17)-SUMIFS(Bogføring!$G:$G,Bogføring!$A:$A,\">=\"&T!$C$4,Bogføring!$A:$A,\"<=\"&T!$C$5,Bogføring!$F:$F,A17)","v":0},null,null,null,null,1150]
[1260,"Køleskabsmagneter",{"$f":"SUMIFS(Bogføring!$H:$H,Bogføring!$A:$A,\">=\"&T!$C$4,Bogføring!$A:$A,\"<=\"&T!$C$5,Bogføring!$F:$F,A18)-SUMIFS(Bogføring!$G:$G,Bogføring!$A:$A,\">=\"&T!$C$4,Bogføring!$A:$A,\"<=\"&T!$C$5,Bogføring!$F:$F,A18)","v":0},null,null,null,null,1160]
[1270,"Postkort 3 stk.",{"$f":"SUMIFS(Bogføring!$H:$H,Bogføring!$A:$A,\">=\"&T!$C$4,Bogføring!$A:$A,\"<=\"&T!$C$5,Bogføring!$F:$F,A19)-SUMIFS(Bogføring!$G:$G,Bogføring!$A:$A,\">=\"&T!$C$4,Bogføring!$A:$A,\"<=\"&T!$C$5,Bogføring!$F:$F,A19)","v":0},null,null,null,null,1170]
[1280,"Postkort",{"$f":"SUMIFS(Bogføring!$H:$H,Bogføring!$A:$A,\">=\"&T!$C$4,Bogføring!$A:$A,\"<=\"&T!$C$5,Bogføring!$F:$F,A20)-SUMIFS(Bogføring!$G:$G,Bogføring!$A:$A,\">=\"&T!$C$4,Bogføring!$A:$A,\"<=\"&T!$C$5,Bogføring!$F:$F,A20)","v":0},null,null,null,null,1180]
[1290,"Sodavand",{"$f":"SUMIFS(Bogføring!$H:$H,Bogføring!$A:$A,\">=\"&T!$C$4,Bogføring!$A:$A,\"<=\"&T!$C$5,Bogføring!$F:$F,A21)-SUMIFS(Bogføring!$G:$G,Bogføring!$A:$A,\">=\"&T!$C$4,Bogføring!$A:$A,\"<=\"&T!$C$5,Bogføring!$F:$F,A21)","v":0},null,null,null,null,1190]
[1300,"Kage",{"$f":"SUMIFS(Bogføring!$H:$H,Bogføring!$A:$A,\">=\"&T!$C$4,Bogføring!$A:$A,\"<=\"&T!$C$5,Bogføring!$F:$F,A22)-SUMIFS(Bogføring!$G:$G,Bogføring!$A:$A,\">=\"&T!$C$4,Bogføring!$A:$A,\"<=\"&T!$C$5,Bogføring!$F:$F,A22)","v":0},null,null,null,null,1200]
[1400,"Tilskud fra BRK / drifttilskud",{"$f":"SUMIFS(Bogføring!$H:$H,Bogføring!$A:$A,\">=\"&T!$C$4,Bogføring!$A:$A,\"<=\"&T!$C$5,Bogføring!$F:$F,A23)-SUMIFS(Bogføring!$G:$G,Bogføring!$A:$A,\">=\"&T!$C$4,Bogføring!$A:$A,\"<=\"&T!$C$5,Bogføring!$F:$F,A23)","v":0},null,null,null,null,1210]
[1405,"Tilskud fra BRK",{"$f":"SUMIFS(Bogføring!$H:$H,Bogføring!$A:$A,\">=\"&T!$C$4,Bogføring!$A:$A,\"<=\"&T!$C$5,Bogføring!$F:$F,A24)-SUMIFS(Bogføring!$G:$G,Bogføring!$A:$A,\">=\"&T!$C$4,Bogføring!$A:$A,\"<=\"&T!$C$5,Bogføring!$F:$F,A24)","v":0}]
[1410,"Tilskud fra KVB",{"$f":"SUMIFS(Bogføring!$H:$H,Bogføring!$A:$A,\">=\"&T!$C$4,Bogføring!$A:$A,\"<=\"&T!$C$5,Bogføring!$F:$F,A25)-SUMIFS(Bogføring!$G:$G,Bogføring!$A:$A,\">=\"&T!$C$4,Bogføring!$A:$A,\"<=\"&T!$C$5,Bogføring!$F:$F,A25)","v":0},null,null,null,null,1220]
[1420,"Fonde/Gaver",{"$f":"SUMIFS(Bogføring!$H:$H,Bogføring!$A:$A,\">=\"&T!$C$4,Bogføring!$A:$A,\"<=\"&T!$C$5,Bogføring!$F:$F,A26)-SUMIFS(Bogføring!$G:$G,Bogføring!$A:$A,\">=\"&T!$C$4,Bogføring!$A:$A,\"<=\"&T!$C$5,Bogføring!$F:$F,A26)","v":0},null,null,null,null,1230]
[1430,"Sponsering/Pengegaver",{"$f":"SUMIFS(Bogføring!$H:$H,Bogføring!$A:$A,\">=\"&T!$C$4,Bogføring!$A:$A,\"<=\"&T!$C$5,Bogføring!$F:$F,A27)-SUMIFS(Bogføring!$G:$G,Bogføring!$A:$A,\">=\"&T!$C$4,Bogføring!$A:$A,\"<=\"&T!$C$5,Bogføring!$F:$F,A27)","v":0},null,null,null,null,1240]
[1440,"Aktiviteter",{"$f":"SUMIFS(Bogføring!$H:$H,Bogføring!$A:$A,\">=\"&T!$C$4,Bogføring!$A:$A,\"<=\"&T!$C$5,Bogføring!$F:$F,A28)-SUMIFS(Bogføring!$G:$G,Bogføring!$A:$A,\">=\"&T!$C$4,Bogføring!$A:$A,\"<=\"&T!$C$5,Bogføring!$F:$F,A28)","v":0},null,null,null,null,1250]
[1450,"Flaskepant retur",{"$f":"SUMIFS(Bogføring!$H:$H,Bogføring!$A:$A,\">=\"&T!$C$4,Bogføring!$A:$A,\"<=\"&T!$C$5,Bogføring!$F:$F,A29)-SUMIFS(Bogføring!$G:$G,Bogføring!$A:$A,\">=\"&T!$C$4,Bogføring!$A:$A,\"<=\"&T!$C$5,Bogføring!$F:$F,A29)","v":0},null,null,null,null,1260]
[1460,"Kassedifferance",{"$f":"SUMIFS(Bogføring!$H:$H,Bogføring!$A:$A,\">=\"&T!$C$4,Bogføring!$A:$A,\"<=\"&T!$C$5,Bogføring!$F:$F,A30)-SUMIFS(Bogføring!$G:$G,Bogføring!$A:$A,\">=\"&T!$C$4,Bogføring!$A:$A,\"<=\"&T!$C$5,Bogføring!$F:$F,A30)","v":0},null,null,null,null,1270]
[1470,"Diverse Indtægter",{"$f":"SUMIFS(Bogføring!$H:$H,Bogføring!$A:$A,\">=\"&T!$C$4,Bogføring!$A:$A,\"<=\"&T!$C$5,Bogføring!$F:$F,A31)-SUMIFS(Bogføring!$G:$G,Bogføring!$A:$A,\">=\"&T!$C$4,Bogføring!$A:$A,\"<=\"&T!$C$5,Bogføring!$F:$F,A31)","v":0},null,null,null,{"$f":"SUM(C2:C31)","v":1400},1280]
[2000,"Bankgebyr DB",{"$f":"SUMIFS(Bogføring!$G:$G,Bogføring!$A:$A,\">=\"&T!$C$4,Bogføring!$A:$A,\"<=\"&T!$C$5,Bogføring!$F:$F,A32)-SUMIFS(Bogføring!$H:$H,Bogføring!$A:$A,\">=\"&T!$C$4,Bogføring!$A:$A,\"<=\"&T!$C$5,Bogføring!$F:$F,A32)","v":0},null,null,null,null,2000]
[2010,"Gebyr Zettle",{"$f":"SUMIFS(Bogføring!$G:$G,Bogføring!$A:$A,\">=\"&T!$C$4,Bogføring!$A:$A,\"<=\"&T!$C$5,Bogføring!$F:$F,A33)-SUMIFS(Bogføring!$H:$H,Bogføring!$A:$A,\">=\"&T!$C$4,Bogføring!$A:$A,\"<=\"&T!$C$5,Bogføring!$F:$F,A33)","v":0},null,null,null,null,2010]
[2020,"Danløn",{"$f":"SUMIFS(Bogføring!$G:$G,Bogføring!$A:$A,\">=\"&T!$C$4,Bogføring!$A:$A,\"<=\"&T!$C$5,Bogføring!$F:$F,A34)-SUMIFS(Bogføring!$H:$H,Bogføring!$A:$A,\">=\"&T!$C$4,Bogføring!$A:$A,\"<=\"&T!$C$5,Bogføring!$F:$F,A34)","v":0},null,null,null,null,2020]
[2030,"Revisor",{"$f":"SUMIFS(Bogføring!$G:$G,Bogføring!$A:$A,\">=\"&T!$C$4,Bogføring!$A:$A,\"<=\"&T!$C$5,Bogføring!$F:$F,A35)-SUMIFS(Bogføring!$H:$H,Bogføring!$A:$A,\">=\"&T!$C$4,Bogføring!$A:$A,\"<=\"&T!$C$5,Bogføring!$F:$F,A35)","v":0},null,null,null,null,2030]
[2035,"Advokat",{"$f":"SUMIFS(Bogføring!$G:$G,Bogføring!$A:$A,\">=\"&T!$C$4,Bogføring!$A:$A,\"<=\"&T!$C$5,Bogføring!$F:$F,A36)-SUMIFS(Bogføring!$H:$H,Bogføring!$A:$A,\">=\"&T!$C$4,Bogføring!$A:$A,\"<=\"&T!$C$5,Bogføring!$F:$F,A36)","v":0},null,null,null,null,2035,"Advokat"]
[2040,"Regnskabsservice",{"$f":"SUMIFS(Bogføring!$G:$G,Bogføring!$A:$A,\">=\"&T!$C$4,Bogføring!$A:$A,\"<=\"&T!$C$5,Bogføring!$F:$F,A37)-SUMIFS(Bogføring!$H:$H,Bogføring!$A:$A,\">=\"&T!$C$4,Bogføring!$A:$A,\"<=\"&T!$C$5,Bogføring!$F:$F,A37)","v":0},null,null,null,null,2040]
[2050,"Kontorhold - Porto - IT",{"$f":"SUMIFS(Bogføring!$G:$G,Bogføring!$A:$A,\">=\"&T!$C$4,Bogføring!$A:$A,\"<=\"&T!$C$5,Bogføring!$F:$F,A38)-SUMIFS(Bogføring!$H:$H,Bogføring!$A:$A,\">=\"&T!$C$4,Bogføring!$A:$A,\"<=\"&T!$C$5,Bogføring!$F:$F,A38)","v":0},null,null,null,null,2050]
[2060,"Internet, mobiltelefon.",{"$f":"SUMIFS(Bogføring!$G:$G,Bogføring!$A:$A,\">=\"&T!$C$4,Bogføring!$A:$A,\"<=\"&T!$C$5,Bogføring!$F:$F,A39)-SUMIFS(Bogføring!$H:$H,Bogføring!$A:$A,\">=\"&T!$C$4,Bogføring!$A:$A,\"<=\"&T!$C$5,Bogføring!$F:$F,A39)","v":0},null,null,null,null,2060]
[2070,"Facebook",{"$f":"SUMIFS(Bogføring!$G:$G,Bogføring!$A:$A,\">=\"&T!$C$4,Bogføring!$A:$A,\"<=\"&T!$C$5,Bogføring!$F:$F,A40)-SUMIFS(Bogføring!$H:$H,Bogføring!$A:$A,\">=\"&T!$C$4,Bogføring!$A:$A,\"<=\"&T!$C$5,Bogføring!$F:$F,A40)","v":0},null,null,null,null,2070]
[2075,"Microsoft",{"$f":"SUMIFS(Bogføring!$G:$G,Bogføring!$A:$A,\">=\"&T!$C$4,Bogføring!$A:$A,\"<=\"&T!$C$5,Bogføring!$F:$F,A41)-SUMIFS(Bogføring!$H:$H,Bogføring!$A:$A,\">=\"&T!$C$4,Bogføring!$A:$A,\"<=\"&T!$C$5,Bogføring!$F:$F,A41)","v":0},null,null,null,null,null,"Microsoft"]
[2080,"Hjemmeside, Webhotel",{"$f":"SUMIFS(Bogføring!$G:$G,Bogføring!$A:$A,\">=\"&T!$C$4,Bogføring!$A:$A,\"<=\"&T!$C$5,Bogføring!$F:$F,A42)-SUMIFS(Bogføring!$H:$H,Bogføring!$A:$A,\">=\"&T!$C$4,Bogføring!$A:$A,\"<=\"&T!$C$5,Bogføring!$F:$F,A42)","v":0},null,null,null,null,2080]
[2090,"Bygnings vedligehold",{"$f":"SUMIFS(Bogføring!$G:$G,Bogføring!$A:$A,\">=\"&T!$C$4,Bogføring!$A:$A,\"<=\"&T!$C$5,Bogføring!$F:$F,A43)-SUMIFS(Bogføring!$H:$H,Bogføring!$A:$A,\">=\"&T!$C$4,Bogføring!$A:$A,\"<=\"&T!$C$5,Bogføring!$F:$F,A43)","v":0},null,null,null,null,2090]
[2100,"Grønne områder",{"$f":"SUMIFS(Bogføring!$G:$G,Bogføring!$A:$A,\">=\"&T!$C$4,Bogføring!$A:$A,\"<=\"&T!$C$5,Bogføring!$F:$F,A44)-SUMIFS(Bogføring!$H:$H,Bogføring!$A:$A,\">=\"&T!$C$4,Bogføring!$A:$A,\"<=\"&T!$C$5,Bogføring!$F:$F,A44)","v":0},null,null,null,null,2100,"havemaskiner"]
[2110,"El, Vand og Varme",{"$f":"SUMIFS(Bogføring!$G:$G,Bogføring!$A:$A,\">=\"&T!$C$4,Bogføring!$A:$A,\"<=\"&T!$C$5,Bogføring!$F:$F,A45)-SUMIFS(Bogføring!$H:$H,Bogføring!$A:$A,\">=\"&T!$C$4,Bogføring!$A:$A,\"<=\"&T!$C$5,Bogføring!$F:$F,A45)","v":0},null,2120,2150,null,2110]
[2120,"El Beof 2054531",{"$f":"SUMIFS(Bogføring!$G:$G,Bogføring!$A:$A,\">=\"&T!$C$4,Bogføring!$A:$A,\"<=\"&T!$C$5,Bogføring!$F:$F,A46)-SUMIFS(Bogføring!$H:$H,Bogføring!$A:$A,\">=\"&T!$C$4,Bogføring!$A:$A,\"<=\"&T!$C$5,Bogføring!$F:$F,A46)","v":0},null,null,null,null,2120]
[2130,"El Beof 2054558",{"$f":"SUMIFS(Bogføring!$G:$G,Bogføring!$A:$A,\">=\"&T!$C$4,Bogføring!$A:$A,\"<=\"&T!$C$5,Bogføring!$F:$F,A47)-SUMIFS(Bogføring!$H:$H,Bogføring!$A:$A,\">=\"&T!$C$4,Bogføring!$A:$A,\"<=\"&T!$C$5,Bogføring!$F:$F,A47)","v":171},null,null,null,null,2130]
[2140,"Vand RVV",{"$f":"SUMIFS(Bogføring!$G:$G,Bogføring!$A:$A,\">=\"&T!$C$4,Bogføring!$A:$A,\"<=\"&T!$C$5,Bogføring!$F:$F,A48)-SUMIFS(Bogføring!$H:$H,Bogføring!$A:$A,\">=\"&T!$C$4,Bogføring!$A:$A,\"<=\"&T!$C$5,Bogføring!$F:$F,A48)","v":0},null,null,null,null,2140]
[2150,"Varme RVV",{"$f":"SUMIFS(Bogføring!$G:$G,Bogføring!$A:$A,\">=\"&T!$C$4,Bogføring!$A:$A,\"<=\"&T!$C$5,Bogføring!$F:$F,A49)-SUMIFS(Bogføring!$H:$H,Bogføring!$A:$A,\">=\"&T!$C$4,Bogføring!$A:$A,\"<=\"&T!$C$5,Bogføring!$F:$F,A49)","v":0},null,null,null,null,2150]
[2160,"Forsikringere",{"$f":"SUMIFS(Bogføring!$G:$G,Bogføring!$A:$A,\">=\"&T!$C$4,Bogføring!$A:$A,\"<=\"&T!$C$5,Bogføring!$F:$F,A50)-SUMIFS(Bogføring!$H:$H,Bogføring!$A:$A,\">=\"&T!$C$4,Bogføring!$A:$A,\"<=\"&T!$C$5,Bogføring!$F:$F,A50)","v":0},null,null,null,null,2160]
[2170,"G4S tyverialarm",{"$f":"SUMIFS(Bogføring!$G:$G,Bogføring!$A:$A,\">=\"&T!$C$4,Bogføring!$A:$A,\"<=\"&T!$C$5,Bogføring!$F:$F,A51)-SUMIFS(Bogføring!$H:$H,Bogføring!$A:$A,\">=\"&T!$C$4,Bogføring!$A:$A,\"<=\"&T!$C$5,Bogføring!$F:$F,A51)","v":0},null,null,null,null,2170]
[2180,"Kontingent til andre Foreninger",{"$f":"SUMIFS(Bogføring!$G:$G,Bogføring!$A:$A,\">=\"&T!$C$4,Bogføring!$A:$A,\"<=\"&T!$C$5,Bogføring!$F:$F,A52)-SUMIFS(Bogføring!$H:$H,Bogføring!$A:$A,\">=\"&T!$C$4,Bogføring!$A:$A,\"<=\"&T!$C$5,Bogføring!$F:$F,A52)","v":0},null,null,null,null,2180]
[2190,"Deltagelse i GF i Andre Foren.",{"$f":"SUMIFS(Bogføring!$G:$G,Bogføring!$A:$A,\">=\"&T!$C$4,Bogføring!$A:$A,\"<=\"&T!$C$5,Bogføring!$F:$F,A53)-SUMIFS(Bogføring!$H:$H,Bogføring!$A:$A,\">=\"&T!$C$4,Bogføring!$A:$A,\"<=\"&T!$C$5,Bogføring!$F:$F,A53)","v":0},null,null,null,null,2190]
[2200,"Indkøb af øl + vand",{"$f":"SUMIFS(Bogføring!$G:$G,Bogføring!$A:$A,\">=\"&T!$C$4,Bogføring!$A:$A,\"<=\"&T!$C$5,Bogføring!$F:$F,A54)-SUMIFS(Bogføring!$H:$H,Bogføring!$A:$A,\">=\"&T!$C$4,Bogføring!$A:$A,\"<=\"&T!$C$5,Bogføring!$F:$F,A54)","v":0},null,null,null,null,2200]
[2210,"Indkøb af bøger",{"$f":"SUMIFS(Bogføring!$G:$G,Bogføring!$A:$A,\">=\"&T!$C$4,Bogføring!$A:$A,\"<=\"&T!$C$5,Bogføring!$F:$F,A55)-SUMIFS(Bogføring!$H:$H,Bogføring!$A:$A,\">=\"&T!$C$4,Bogføring!$A:$A,\"<=\"&T!$C$5,Bogføring!$F:$F,A55)","v":0},null,null,null,null,2210]
[2220,"Køb af varer - Kiosken",{"$f":"SUMIFS(Bogføring!$G:$G,Bogføring!$A:$A,\">=\"&T!$C$4,Bogføring!$A:$A,\"<=\"&T!$C$5,Bogføring!$F:$F,A56)-SUMIFS(Bogføring!$H:$H,Bogføring!$A:$A,\">=\"&T!$C$4,Bogføring!$A:$A,\"<=\"&T!$C$5,Bogføring!$F:$F,A56)","v":0},null,null,null,null,2220]
[2230,"Tin og sortkrudt",{"$f":"SUMIFS(Bogføring!$G:$G,Bogføring!$A:$A,\">=\"&T!$C$4,Bogføring!$A:$A,\"<=\"&T!$C$5,Bogføring!$F:$F,A57)-SUMIFS(Bogføring!$H:$H,Bogføring!$A:$A,\">=\"&T!$C$4,Bogføring!$A:$A,\"<=\"&T!$C$5,Bogføring!$F:$F,A57)","v":0},null,null,null,null,2230]
[2240,"Udstilling",{"$f":"SUMIFS(Bogføring!$G:$G,Bogføring!$A:$A,\">=\"&T!$C$4,Bogføring!$A:$A,\"<=\"&T!$C$5,Bogføring!$F:$F,A57)-SUMIFS(Bogføring!$H:$H,Bogføring!$A:$A,\">=\"&T!$C$4,Bogføring!$A:$A,\"<=\"&T!$C$5,Bogføring!$F:$F,A57)","v":0},null,null,null,null,2240]
[2250,"Annoncer",{"$f":"SUMIFS(Bogføring!$G:$G,Bogføring!$A:$A,\">=\"&T!$C$4,Bogføring!$A:$A,\"<=\"&T!$C$5,Bogføring!$F:$F,#REF!)-SUMIFS(Bogføring!$H:$H,Bogføring!$A:$A,\">=\"&T!$C$4,Bogføring!$A:$A,\"<=\"&T!$C$5,Bogføring!$F:$F,#REF!)","v":0},null,null,null,null,2250]
[2260,"Afholdelse af GF",{"$f":"SUMIFS(Bogføring!$G:$G,Bogføring!$A:$A,\">=\"&T!$C$4,Bogføring!$A:$A,\"<=\"&T!$C$5,Bogføring!$F:$F,#REF!)-SUMIFS(Bogføring!$H:$H,Bogføring!$A:$A,\">=\"&T!$C$4,Bogføring!$A:$A,\"<=\"&T!$C$5,Bogføring!$F:$F,#REF!)","v":0},null,null,null,null,2260]
[2270,"Bestyrelses møder",{"$f":"SUMIFS(Bogføring!$G:$G,Bogføring!$A:$A,\">=\"&T!$C$4,Bogføring!$A:$A,\"<=\"&T!$C$5,Bogføring!$F:$F,A52)-SUMIFS(Bogføring!$H:$H,Bogføring!$A:$A,\">=\"&T!$C$4,Bogføring!$A:$A,\"<=\"&T!$C$5,Bogføring!$F:$F,A52)","v":0},null,null,null,null,2270]
[2280,"Forplejning til møder/Rejser",{"$f":"SUMIFS(Bogføring!$G:$G,Bogføring!$A:$A,\">=\"&T!$C$4,Bogføring!$A:$A,\"<=\"&T!$C$5,Bogføring!$F:$F,A62)-SUMIFS(Bogføring!$H:$H,Bogføring!$A:$A,\">=\"&T!$C$4,Bogføring!$A:$A,\"<=\"&T!$C$5,Bogføring!$F:$F,A62)","v":0},null,null,null,null,2280]
[2290,"Rejser",{"$f":"SUMIFS(Bogføring!$G:$G,Bogføring!$A:$A,\">=\"&T!$C$4,Bogføring!$A:$A,\"<=\"&T!$C$5,Bogføring!$F:$F,#REF!)-SUMIFS(Bogføring!$H:$H,Bogføring!$A:$A,\">=\"&T!$C$4,Bogføring!$A:$A,\"<=\"&T!$C$5,Bogføring!$F:$F,#REF!)","v":0},null,null,null,null,2290]
[2295,"Bornholmer dag",{"$f":"SUMIFS(Bogføring!$G:$G,Bogføring!$A:$A,\">=\"&T!$C$4,Bogføring!$A:$A,\"<=\"&T!$C$5,Bogføring!$F:$F,#REF!)-SUMIFS(Bogføring!$H:$H,Bogføring!$A:$A,\">=\"&T!$C$4,Bogføring!$A:$A,\"<=\"&T!$C$5,Bogføring!$F:$F,#REF!)","v":0},null,null,null,null,2295,"Bornholmer dag"]
[2300,"Gaver",{"$f":"SUMIFS(Bogføring!$G:$G,Bogføring!$A:$A,\">=\"&T!$C$4,Bogføring!$A:$A,\"<=\"&T!$C$5,Bogføring!$F:$F,#REF!)-SUMIFS(Bogføring!$H:$H,Bogføring!$A:$A,\">=\"&T!$C$4,Bogføring!$A:$A,\"<=\"&T!$C$5,Bogføring!$F:$F,#REF!)","v":0},null,null,null,null,2300]
[2310,"Kassedifferance",{"$f":"SUMIFS(Bogføring!$G:$G,Bogføring!$A:$A,\">=\"&T!$C$4,Bogføring!$A:$A,\"<=\"&T!$C$5,Bogføring!$F:$F,A66)-SUMIFS(Bogføring!$H:$H,Bogføring!$A:$A,\">=\"&T!$C$4,Bogføring!$A:$A,\"<=\"&T!$C$5,Bogføring!$F:$F,A66)","v":0},null,null,null,null,2310]
[2320,"Øreafrundning",{"$f":"SUMIFS(Bogføring!$G:$G,Bogføring!$A:$A,\">=\"&T!$C$4,Bogføring!$A:$A,\"<=\"&T!$C$5,Bogføring!$F:$F,A67)-SUMIFS(Bogføring!$H:$H,Bogføring!$A:$A,\">=\"&T!$C$4,Bogføring!$A:$A,\"<=\"&T!$C$5,Bogføring!$F:$F,A67)","v":0},null,null,null,null,2320]
[2330,"Diverse Udgifter",{"$f":"SUMIFS(Bogføring!$G:$G,Bogføring!$A:$A,\">=\"&T!$C$4,Bogføring!$A:$A,\"<=\"&T!$C$5,Bogføring!$F:$F,A68)-SUMIFS(Bogføring!$H:$H,Bogføring!$A:$A,\">=\"&T!$C$4,Bogføring!$A:$A,\"<=\"&T!$C$5,Bogføring!$F:$F,A68)","v":0},null,null,null,null,2330]
[2340,"Kontingenter overført til KVB",{"$f":"SUMIFS(Bogføring!$G:$G,Bogføring!$A:$A,\">=\"&T!$C$4,Bogføring!$A:$A,\"<=\"&T!$C$5,Bogføring!$F:$F,A69)-SUMIFS(Bogføring!$H:$H,Bogføring!$A:$A,\">=\"&T!$C$4,Bogføring!$A:$A,\"<=\"&T!$C$5,Bogføring!$F:$F,A69)","v":0},null,null,null,null,2340]
[3000,"Lønomkostninger",{"$f":"SUMIFS(Bogføring!$G:$G,Bogføring!$A:$A,\">=\"&T!$C$4,Bogføring!$A:$A,\"<=\"&T!$C$5,Bogføring!$F:$F,A70)-SUMIFS(Bogføring!$H:$H,Bogføring!$A:$A,\">=\"&T!$C$4,Bogføring!$A:$A,\"<=\"&T!$C$5,Bogføring!$F:$F,A70)","v":0},null,null,null,null,3000]
[3010,"Lønninger",{"$f":"SUMIFS(Bogføring!$G:$G,Bogføring!$A:$A,\">=\"&T!$C$4,Bogføring!$A:$A,\"<=\"&T!$C$5,Bogføring!$F:$F,A71)-SUMIFS(Bogføring!$H:$H,Bogføring!$A:$A,\">=\"&T!$C$4,Bogføring!$A:$A,\"<=\"&T!$C$5,Bogføring!$F:$F,A71)","v":0},null,null,null,null,3010]
[3020,"ATP",{"$f":"SUMIFS(Bogføring!$G:$G,Bogføring!$A:$A,\">=\"&T!$C$4,Bogføring!$A:$A,\"<=\"&T!$C$5,Bogføring!$F:$F,A72)-SUMIFS(Bogføring!$H:$H,Bogføring!$A:$A,\">=\"&T!$C$4,Bogføring!$A:$A,\"<=\"&T!$C$5,Bogføring!$F:$F,A72)","v":0},null,null,null,null,3020]
[3025,"Samlet Betaling",{"$f":"SUMIFS(Bogføring!$G:$G,Bogføring!$A:$A,\">=\"&T!$C$4,Bogføring!$A:$A,\"<=\"&T!$C$5,Bogføring!$F:$F,A73)-SUMIFS(Bogføring!$H:$H,Bogføring!$A:$A,\">=\"&T!$C$4,Bogføring!$A:$A,\"<=\"&T!$C$5,Bogføring!$F:$F,A73)","v":0}]
[3030,"Am",{"$f":"SUMIFS(Bogføring!$G:$G,Bogføring!$A:$A,\">=\"&T!$C$4,Bogføring!$A:$A,\"<=\"&T!$C$5,Bogføring!$F:$F,A74)-SUMIFS(Bogføring!$H:$H,Bogføring!$A:$A,\">=\"&T!$C$4,Bogføring!$A:$A,\"<=\"&T!$C$5,Bogføring!$F:$F,A74)","v":0},null,null,null,null,3030]
[3040,"Lønsum",{"$f":"SUMIFS(Bogføring!$G:$G,Bogføring!$A:$A,\">=\"&T!$C$4,Bogføring!$A:$A,\"<=\"&T!$C$5,Bogføring!$F:$F,A75)-SUMIFS(Bogføring!$H:$H,Bogføring!$A:$A,\">=\"&T!$C$4,Bogføring!$A:$A,\"<=\"&T!$C$5,Bogføring!$F:$F,A75)","v":0},null,null,null,{"$f":"SUM(C32:C75)","v":171},3040]
[null,null,null,null,null,null,{"$f":"G31-G75","v":1229}]
[12310,"Bank konto",{"$f":"SUMIFS(Bogføring!$G:$G,Bogføring!$A:$A,\">=\"&T!$C$4,Bogføring!$A:$A,\"<=\"&T!$C$5,Bogføring!$F:$F,A77)-SUMIFS(Bogføring!$H:$H,Bogføring!$A:$A,\">=\"&T!$C$4,Bogføring!$A:$A,\"<=\"&T!$C$5,Bogføring!$F:$F,A77)","v":6029}]
[12320,"Kasse",{"$f":"SUMIFS(Bogføring!$G:$G,Bogføring!$A:$A,\">=\"&T!$C$4,Bogføring!$A:$A,\"<=\"&T!$C$5,Bogføring!$F:$F,A78)-SUMIFS(Bogføring!$H:$H,Bogføring!$A:$A,\">=\"&T!$C$4,Bogføring!$A:$A,\"<=\"&T!$C$5,Bogføring!$F:$F,A78)","v":0}]
[12330,"Egenkapital",{"$f":"SUMIFS(Bogføring!$H:$H,Bogføring!$A:$A,\">=\"&T!$C$4,Bogføring!$A:$A,\"<=\"&T!$C$5,Bogføring!$F:$F,A79)-SUMIFS(Bogføring!$G:$G,Bogføring!$A:$A,\">=\"&T!$C$4,Bogføring!$A:$A,\"<=\"&T!$C$5,Bogføring!$F:$F,A79)+G76","v":1229}]
[null,null,{"$f":"SUMIFS(Bogføring!$H:$H,Bogføring!$A:$A,\">=\"&T!$C$4,Bogføring!$A:$A,\"<=\"&T!$C$5,Bogføring!$F:$F,A80)-SUMIFS(Bogføring!$G:$G,Bogføring!$A:$A,\">=\"&T!$C$4,Bogføring!$A:$A,\"<=\"&T!$C$5,Bogføring!$F:$F,A80)+F75","v":0}]
[12360,"Skyldig A-skat",{"$f":"SUMIFS(Bogføring!$H:$H,Bogføring!$A:$A,\">=\"&T!$C$4,Bogføring!$A:$A,\"<=\"&T!$C$5,Bogføring!$F:$F,A81)-SUMIFS(Bogføring!$G:$G,Bogføring!$A:$A,\">=\"&T!$C$4,Bogføring!$A:$A,\"<=\"&T!$C$5,Bogføring!$F:$F,A81)+F76","v":0}]
[12361,"Skyldig AM ",{"$f":"SUMIFS(Bogføring!$H:$H,Bogføring!$A:$A,\">=\"&T!$C$4,Bogføring!$A:$A,\"<=\"&T!$C$5,Bogføring!$F:$F,A82)-SUMIFS(Bogføring!$G:$G,Bogføring!$A:$A,\">=\"&T!$C$4,Bogføring!$A:$A,\"<=\"&T!$C$5,Bogføring!$F:$F,A82)+F77","v":0}]
[12362,"Skyldig ATP",{"$f":"SUMIFS(Bogføring!$H:$H,Bogføring!$A:$A,\">=\"&T!$C$4,Bogføring!$A:$A,\"<=\"&T!$C$5,Bogføring!$F:$F,A83)-SUMIFS(Bogføring!$G:$G,Bogføring!$A:$A,\">=\"&T!$C$4,Bogføring!$A:$A,\"<=\"&T!$C$5,Bogføring!$F:$F,A83)+F76","v":0}]
[12364,"Skyldige Feriepenge",{"$f":"SUMIFS(Bogføring!$H:$H,Bogføring!$A:$A,\">=\"&T!$C$4,Bogføring!$A:$A,\"<=\"&T!$C$5,Bogføring!$F:$F,A84)-SUMIFS(Bogføring!$G:$G,Bogføring!$A:$A,\">=\"&T!$C$4,Bogføring!$A:$A,\"<=\"&T!$C$5,Bogføring!$F:$F,A84)+F77","v":0}]
[]
[12370,"Medlemskab i KVB",{"$f":"SUMIFS(Bogføring!$H:$H,Bogføring!$A:$A,\">=\"&T!$C$4,Bogføring!$A:$A,\"<=\"&T!$C$5,Bogføring!$F:$F,A86)-SUMIFS(Bogføring!$G:$G,Bogføring!$A:$A,\">=\"&T!$C$4,Bogføring!$A:$A,\"<=\"&T!$C$5,Bogføring!$F:$F,A86)+F78","v":0}]
[12380,"Banklån",{"$f":"SUMIFS(Bogføring!$H:$H,Bogføring!$A:$A,\">=\"&T!$C$4,Bogføring!$A:$A,\"<=\"&T!$C$5,Bogføring!$F:$F,A87)-SUMIFS(Bogføring!$G:$G,Bogføring!$A:$A,\">=\"&T!$C$4,Bogføring!$A:$A,\"<=\"&T!$C$5,Bogføring!$F:$F,A87)+F78","v":0}]
[12390,"Andre Lån",{"$f":"SUMIFS(Bogføring!$H:$H,Bogføring!$A:$A,\">=\"&T!$C$4,Bogføring!$A:$A,\"<=\"&T!$C$5,Bogføring!$F:$F,A88)-SUMIFS(Bogføring!$G:$G,Bogføring!$A:$A,\">=\"&T!$C$4,Bogføring!$A:$A,\"<=\"&T!$C$5,Bogføring!$F:$F,A88)+F79","v":0}]
[12400,"Kreditorer samler konto",{"$f":"SUM(C86:C88)","v":0},null,12370,12390]
[]
[12410,"Tilgodehavende Kontingenter",{"$f":"SUMIFS(Bogføring!$H:$H,Bogføring!$A:$A,\">=\"&T!$C$4,Bogføring!$A:$A,\"<=\"&T!$C$5,Bogføring!$F:$F,A91)-SUMIFS(Bogføring!$G:$G,Bogføring!$A:$A,\">=\"&T!$C$4,Bogføring!$A:$A,\"<=\"&T!$C$5,Bogføring!$F:$F,A91)+F87","v":0}]
[12420,"Lån til Forsvarsmuseumet",{"$f":"SUMIFS(Bogføring!$G:$G,Bogføring!$A:$A,\">=\"&T!$C$4,Bogføring!$A:$A,\"<=\"&T!$C$5,Bogføring!$F:$F,A92)-SUMIFS(Bogføring!$H:$H,Bogføring!$A:$A,\">=\"&T!$C$4,Bogføring!$A:$A,\"<=\"&T!$C$5,Bogføring!$F:$F,A92)+F88","v":0}]
[12430,"Indbetalinger tilgode hos PayPal",{"$f":"SUMIFS(Bogføring!$H:$H,Bogføring!$A:$A,\">=\"&T!$C$4,Bogføring!$A:$A,\"<=\"&T!$C$5,Bogføring!$F:$F,A93)-SUMIFS(Bogføring!$G:$G,Bogføring!$A:$A,\">=\"&T!$C$4,Bogføring!$A:$A,\"<=\"&T!$C$5,Bogføring!$F:$F,A93)+F86","v":0}]
[12500,"Debitorer samler konto",{"$f":"SUM(C91:C93)","v":0},null,12410,12420]

{"sheet":"Regnskab","index":2,"n_rows":90,"n_cols":11,"rows_kept":90,"cut":false,"hidden":false,"merged":[[103,1,103,3],[85,1,85,6],[53,1,53,6],[1,1,2,6],[3,1,3,6],[54,1,54,6],[4,1,4,6]]}
[]
[null,{"$f":"T!B9&\" Årsregnskab \"&T!C2","v":"TEST - REGNSKAB Årsregnskab 2014"}]
[]
[null,{"$f":"T!A7","v":"Periode : 01-11-2014 - 31-10-2015"}]
["konto nr.","Resultatopgørelse"]
[]
[null,"Indtægter","Noter",null,{"$f":"T!C2","v":2014},{"$f":"E7-1","v":2013},{"$f":"E7-2","v":2012}]
[]
[1000,{"$f":"IFERROR(VLOOKUP(A9,Kontoplan!$A$2:$D$96,2,0),\"\")","v":"Entre i alt"},1,null,{"$f":"Kontoplan!C2","v":700},{"$f":"SUMIFS(Bogføring!$H:$H,Bogføring!$A:$A,\">=\"&T!$D$4,Bogføring!$A:$A,\"<=\"&T!$D$5,Bogføring!$F:$F,A9)-SUMIFS(Bogføring!$G:$G,Bogføring!$A:$A,\">=\"&T!$D$4,Bogføring!$A:$A,\"<=\"&T!$D$5,Bogføring!$F:$F,A9)","v":0},{"$f":"SUMIFS(Bogføring!$H:$H,Bogføring!$A:$A,\">=\"&T!$E$4,Bogføring!$A:$A,\"<=\"&T!$E$5,Bogføring!$F:$F,A9)-SUMIFS(Bogføring!$G:$G,Bogføring!$A:$A,\">=\"&T!$E$4,Bogføring!$A:$A,\"<=\"&T!$E$5,Bogføring!$F:$F,A9)","v":0},null,null,null,"i de grønne celler vælges kontonr der skal med i regnskabet "]
[1200,{"$f":"IFERROR(VLOOKUP(A10,Kontoplan!$A$2:$D$96,2,0),\"\")","v":"Kiosk salg"},2,null,{"$f":"Kontoplan!C12","v":0},{"$f":"SUMIFS(Bogføring!$H:$H,Bogføring!$A:$A,\">=\"&T!$D$4,Bogføring!$A:$A,\"<=\"&T!$D$5,Bogføring!$F:$F,A10)-SUMIFS(Bogføring!$G:$G,Bogføring!$A:$A,\">=\"&T!$D$4,Bogføring!$A:$A,\"<=\"&T!$D$5,Bogføring!$F:$F,A10)","v":0},{"$f":"SUMIFS(Bogføring!$H:$H,Bogføring!$A:$A,\">=\"&T!$E$4,Bogføring!$A:$A,\"<=\"&T!$E$5,Bogføring!$F:$F,A10)-SUMIFS(Bogføring!$G:$G,Bogføring!$A:$A,\">=\"&T!$E$4,Bogføring!$A:$A,\"<=\"&T!$E$5,Bogføring!$F:$F,A10)","v":0}]
[1400,{"$f":"IFERROR(VLOOKUP(A11,Kontoplan!$A$2:$D$96,2,0),\"\")","v":"Tilskud fra BRK / drifttilskud"},null,null,{"$f":"SUMIFS(Bogføring!$H:$H,Bogføring!$A:$A,\">=\"&T!$C$4,Bogføring!$A:$A,\"<=\"&T!$C$5,Bogføring!$F:$F,A11)-SUMIFS(Bogføring!$G:$G,Bogføring!$A:$A,\">=\"&T!$C$4,Bogføring!$A:$A,\"<=\"&T!$C$5,Bogføring!$F:$F,A11)","v":0}]
[1410,{"$f":"IFERROR(VLOOKUP(A12,Kontoplan!$A$2:$D$96,2,0),\"\")","v":"Tilskud fra KVB"},null,null,{"$f":"SUMIFS(Bogføring!$H:$H,Bogføring!$A:$A,\">=\"&T!$C$4,Bogføring!$A:$A,\"<=\"&T!$C$5,Bogføring!$F:$F,A12)-SUMIFS(Bogføring!$G:$G,Bogføring!$A:$A,\">=\"&T!$C$4,Bogføring!$A:$A,\"<=\"&T!$C$5,Bogføring!$F:$F,A12)","v":0}]
[1420,{"$f":"IFERROR(VLOOKUP(A13,Kontoplan!$A$2:$D$96,2,0),\"\")","v":"Fonde/Gaver"},null,null,{"$f":"SUMIFS(Bogføring!$H:$H,Bogføring!$A:$A,\">=\"&T!$C$4,Bogføring!$A:$A,\"<=\"&T!$C$5,Bogføring!$F:$F,A13)-SUMIFS(Bogføring!$G:$G,Bogføring!$A:$A,\">=\"&T!$C$4,Bogføring!$A:$A,\"<=\"&T!$C$5,Bogføring!$F:$F,A13)","v":0},{"$f":"SUMIFS(Bogføring!$H:$H,Bogføring!$A:$A,\">=\"&T!$D$4,Bogføring!$A:$A,\"<=\"&T!$D$5,Bogføring!$F:$F,A13)-SUMIFS(Bogføring!$G:$G,Bogføring!$A:$A,\">=\"&T!$D$4,Bogføring!$A:$A,\"<=\"&T!$D$5,Bogføring!$F:$F,A13)","v":0},{"$f":"SUMIFS(Bogføring!$H:$H,Bogføring!$A:$A,\">=\"&T!$E$4,Bogføring!$A:$A,\"<=\"&T!$E$5,Bogføring!$F:$F,A13)-SUMIFS(Bogføring!$G:$G,Bogføring!$A:$A,\">=\"&T!$E$4,Bogføring!$A:$A,\"<=\"&T!$E$5,Bogføring!$F:$F,A13)","v":0}]
[1430,{"$f":"IFERROR(VLOOKUP(A14,Kontoplan!$A$2:$D$96,2,0),\"\")","v":"Sponsering/Pengegaver"},null,null,{"$f":"SUMIFS(Bogføring!$H:$H,Bogføring!$A:$A,\">=\"&T!$C$4,Bogføring!$A:$A,\"<=\"&T!$C$5,Bogføring!$F:$F,A14)-SUMIFS(Bogføring!$G:$G,Bogføring!$A:$A,\">=\"&T!$C$4,Bogføring!$A:$A,\"<=\"&T!$C$5,Bogføring!$F:$F,A14)","v":0},{"$f":"SUMIFS(Bogføring!$H:$H,Bogføring!$A:$A,\">=\"&T!$D$4,Bogføring!$A:$A,\"<=\"&T!$D$5,Bogføring!$F:$F,A14)-SUMIFS(Bogføring!$G:$G,Bogføring!$A:$A,\">=\"&T!$D$4,Bogføring!$A:$A,\"<=\"&T!$D$5,Bogføring!$F:$F,A14)","v":0},{"$f":"SUMIFS(Bogføring!$H:$H,Bogføring!$A:$A,\">=\"&T!$E$4,Bogføring!$A:$A,\"<=\"&T!$E$5,Bogføring!$F:$F,A14)-SUMIFS(Bogføring!$G:$G,Bogføring!$A:$A,\">=\"&T!$E$4,Bogføring!$A:$A,\"<=\"&T!$E$5,Bogføring!$F:$F,A14)","v":0}]
[1440,{"$f":"IFERROR(VLOOKUP(A15,Kontoplan!$A$2:$D$96,2,0),\"\")","v":"Aktiviteter"},null,null,{"$f":"SUMIFS(Bogføring!$H:$H,Bogføring!$A:$A,\">=\"&T!$C$4,Bogføring!$A:$A,\"<=\"&T!$C$5,Bogføring!$F:$F,A15)-SUMIFS(Bogføring!$G:$G,Bogføring!$A:$A,\">=\"&T!$C$4,Bogføring!$A:$A,\"<=\"&T!$C$5,Bogføring!$F:$F,A15)","v":0}]
[null,{"$f":"IFERROR(VLOOKUP(A16,Kontoplan!$A$2:$D$96,2,0),\"\")","v":""},null,null,{"$f":"SUMIFS(Bogføring!$H:$H,Bogføring!$A:$A,\">=\"&T!$C$4,Bogføring!$A:$A,\"<=\"&T!$C$5,Bogføring!$F:$F,A16)-SUMIFS(Bogføring!$G:$G,Bogføring!$A:$A,\">=\"&T!$C$4,Bogføring!$A:$A,\"<=\"&T!$C$5,Bogføring!$F:$F,A16)","v":0}]
[1470,{"$f":"IFERROR(VLOOKUP(A17,Kontoplan!$A$2:$D$96,2,0),\"\")","v":"Diverse Indtægter"},null,null,{"$f":"SUMIFS(Bogføring!$H:$H,Bogføring!$A:$A,\">=\"&T!$C$4,Bogføring!$A:$A,\"<=\"&T!$C$5,Bogføring!$F:$F,A17)-SUMIFS(Bogføring!$G:$G,Bogføring!$A:$A,\">=\"&T!$C$4,Bogføring!$A:$A,\"<=\"&T!$C$5,Bogføring!$F:$F,A17)","v":0},{"$f":"SUMIFS(Bogføring!$H:$H,Bogføring!$A:$A,\">=\"&T!$D$4,Bogføring!$A:$A,\"<=\"&T!$D$5,Bogføring!$F:$F,A17)-SUMIFS(Bogføring!$G:$G,Bogføring!$A:$A,\">=\"&T!$D$4,Bogføring!$A:$A,\"<=\"&T!$D$5,Bogføring!$F:$F,A17)","v":0},{"$f":"SUMIFS(Bogføring!$H:$H,Bogføring!$A:$A,\">=\"&T!$E$4,Bogføring!$A:$A,\"<=\"&T!$E$5,Bogføring!$F:$F,A17)-SUMIFS(Bogføring!$G:$G,Bogføring!$A:$A,\">=\"&T!$E$4,Bogføring!$A:$A,\"<=\"&T!$E$5,Bogføring!$F:$F,A17)","v":0}]
[]
[null,"Indtægter i alt",null,null,{"$f":"SUM(E9:E17)","v":700},{"$f":"SUM(F9:F17)","v":0},{"$f":"SUM(G9:G17)","v":0}]
[]
[null,"Udgifter"]
[]
[2000,{"$f":"IFERROR(VLOOKUP(A23,Kontoplan!$A$2:$D$96,2,0),\"\")","v":"Bankgebyr DB"},null,null,{"$f":"SUMIFS(Bogføring!$G:$G,Bogføring!$A:$A,\">=\"&T!$C$4,Bogføring!$A:$A,\"<=\"&T!$C$5,Bogføring!$F:$F,A23)","v":0},{"$f":"SUMIFS(Bogføring!$G:$G,Bogføring!$A:$A,\">=\"&T!$D$4,Bogføring!$A:$A,\"<=\"&T!$D$5,Bogføring!$F:$F,A23)","v":0},{"$f":"SUMIFS(Bogføring!$G:$G,Bogføring!$A:$A,\">=\"&T!$E$4,Bogføring!$A:$A,\"<=\"&T!$E$5,Bogføring!$F:$F,A23)","v":0}]
[2010,{"$f":"IFERROR(VLOOKUP(A24,Kontoplan!$A$2:$D$96,2,0),\"\")","v":"Gebyr Zettle"},null,null,{"$f":"SUMIFS(Bogføring!$G:$G,Bogføring!$A:$A,\">=\"&T!$C$4,Bogføring!$A:$A,\"<=\"&T!$C$5,Bogføring!$F:$F,A24)","v":0}]
[2020,{"$f":"IFERROR(VLOOKUP(A25,Kontoplan!$A$2:$D$96,2,0),\"\")","v":"Danløn"},null,null,{"$f":"SUMIFS(Bogføring!$G:$G,Bogføring!$A:$A,\">=\"&T!$C$4,Bogføring!$A:$A,\"<=\"&T!$C$5,Bogføring!$F:$F,A25)","v":0}]
[2030,{"$f":"IFERROR(VLOOKUP(A26,Kontoplan!$A$2:$D$96,2,0),\"\")","v":"Revisor"},null,null,{"$f":"SUMIFS(Bogføring!$G:$G,Bogføring!$A:$A,\">=\"&T!$C$4,Bogføring!$A:$A,\"<=\"&T!$C$5,Bogføring!$F:$F,A26)","v":0}]
[2040,{"$f":"IFERROR(VLOOKUP(A27,Kontoplan!$A$2:$D$96,2,0),\"\")","v":"Regnskabsservice"},null,null,{"$f":"SUMIFS(Bogføring!$G:$G,Bogføring!$A:$A,\">=\"&T!$C$4,Bogføring!$A:$A,\"<=\"&T!$C$5,Bogføring!$F:$F,A27)","v":0}]
[2050,{"$f":"IFERROR(VLOOKUP(A28,Kontoplan!$A$2:$D$96,2,0),\"\")","v":"Kontorhold - Porto - IT"},null,null,{"$f":"SUMIFS(Bogføring!$G:$G,Bogføring!$A:$A,\">=\"&T!$C$4,Bogføring!$A:$A,\"<=\"&T!$C$5,Bogføring!$F:$F,A28)","v":0}]
[2060,{"$f":"IFERROR(VLOOKUP(A29,Kontoplan!$A$2:$D$96,2,0),\"\")","v":"Internet, mobiltelefon."},null,null,{"$f":"SUMIFS(Bogføring!$G:$G,Bogføring!$A:$A,\">=\"&T!$C$4,Bogføring!$A:$A,\"<=\"&T!$C$5,Bogføring!$F:$F,A29)","v":0}]
[2070,{"$f":"IFERROR(VLOOKUP(A30,Kontoplan!$A$2:$D$96,2,0),\"\")","v":"Facebook"},null,null,{"$f":"SUMIFS(Bogføring!$G:$G,Bogføring!$A:$A,\">=\"&T!$C$4,Bogføring!$A:$A,\"<=\"&T!$C$5,Bogføring!$F:$F,A30)","v":0}]
[2080,{"$f":"IFERROR(VLOOKUP(A31,Kontoplan!$A$2:$D$96,2,0),\"\")","v":"Hjemmeside, Webhotel"},null,null,{"$f":"SUMIFS(Bogføring!$G:$G,Bogføring!$A:$A,\">=\"&T!$C$4,Bogføring!$A:$A,\"<=\"&T!$C$5,Bogføring!$F:$F,A31)","v":0},{"$f":"SUMIFS(Bogføring!$G:$G,Bogføring!$A:$A,\">=\"&T!$D$4,Bogføring!$A:$A,\"<=\"&T!$D$5,Bogføring!$F:$F,A31)","v":0},{"$f":"SUMIFS(Bogføring!$G:$G,Bogføring!$A:$A,\">=\"&T!$E$4,Bogføring!$A:$A,\"<=\"&T!$E$5,Bogføring!$F:$F,A31)","v":0}]
[2090,{"$f":"IFERROR(VLOOKUP(A32,Kontoplan!$A$2:$D$96,2,0),\"\")","v":"Bygnings vedligehold"},null,null,{"$f":"SUMIFS(Bogføring!$G:$G,Bogføring!$A:$A,\">=\"&T!$C$4,Bogføring!$A:$A,\"<=\"&T!$C$5,Bogføring!$F:$F,A32)","v":0},{"$f":"SUMIFS(Bogføring!$G:$G,Bogføring!$A:$A,\">=\"&T!$D$4,Bogføring!$A:$A,\"<=\"&T!$D$5,Bogføring!$F:$F,A32)","v":0},{"$f":"SUMIFS(Bogføring!$G:$G,Bogføring!$A:$A,\">=\"&T!$E$4,Bogføring!$A:$A,\"<=\"&T!$E$5,Bogføring!$F:$F,A32)","v":0}]
[2100,{"$f":"IFERROR(VLOOKUP(A33,Kontoplan!$A$2:$D$96,2,0),\"\")","v":"Grønne områder"},null,null,null,{"$f":"SUMIFS(Bogføring!$G:$G,Bogføring!$A:$A,\">=\"&T!$D$4,Bogføring!$A:$A,\"<=\"&T!$D$5,Bogføring!$F:$F,A33)","v":0},{"$f":"SUMIFS(Bogføring!$G:$G,Bogføring!$A:$A,\">=\"&T!$E$4,Bogføring!$A:$A,\"<=\"&T!$E$5,Bogføring!$F:$F,A33)","v":0}]
[2110,{"$f":"IFERROR(VLOOKUP(A34,Kontoplan!$A$2:$D$96,2,0),\"\")","v":"El, Vand og Varme"},null,null,{"$f":"SUMIFS(Bogføring!$G:$G,Bogføring!$A:$A,\">=\"&T!$C$4,Bogføring!$A:$A,\"<=\"&T!$C$5,Bogføring!$F:$F,A34)","v":0}]
[2170,{"$f":"IFERROR(VLOOKUP(A35,Kontoplan!$A$2:$D$96,2,0),\"\")","v":"G4S tyverialarm"},null,null,{"$f":"SUMIFS(Bogføring!$G:$G,Bogføring!$A:$A,\">=\"&T!$C$4,Bogføring!$A:$A,\"<=\"&T!$C$5,Bogføring!$F:$F,A35)","v":0}]
[2180,{"$f":"IFERROR(VLOOKUP(A36,Kontoplan!$A$2:$D$96,2,0),\"\")","v":"Kontingent til andre Foreninger"},null,null,{"$f":"SUMIFS(Bogføring!$G:$G,Bogføring!$A:$A,\">=\"&T!$C$4,Bogføring!$A:$A,\"<=\"&T!$C$5,Bogføring!$F:$F,A36)","v":0},{"$f":"SUMIFS(Bogføring!$G:$G,Bogføring!$A:$A,\">=\"&T!$D$4,Bogføring!$A:$A,\"<=\"&T!$D$5,Bogføring!$F:$F,A36)","v":0},{"$f":"SUMIFS(Bogføring!$G:$G,Bogføring!$A:$A,\">=\"&T!$E$4,Bogføring!$A:$A,\"<=\"&T!$E$5,Bogføring!$F:$F,A36)","v":0}]
[2200,{"$f":"IFERROR(VLOOKUP(A37,Kontoplan!$A$2:$D$96,2,0),\"\")","v":"Indkøb af øl + vand"},null,null,{"$f":"SUMIFS(Bogføring!$G:$G,Bogføring!$A:$A,\">=\"&T!$C$4,Bogføring!$A:$A,\"<=\"&T!$C$5,Bogføring!$F:$F,A37)","v":0},{"$f":"SUMIFS(Bogføring!$G:$G,Bogføring!$A:$A,\">=\"&T!$D$4,Bogføring!$A:$A,\"<=\"&T!$D$5,Bogføring!$F:$F,A37)","v":0},{"$f":"SUMIFS(Bogføring!$G:$G,Bogføring!$A:$A,\">=\"&T!$E$4,Bogføring!$A:$A,\"<=\"&T!$E$5,Bogføring!$F:$F,A37)","v":0}]
[2230,{"$f":"IFERROR(VLOOKUP(A38,Kontoplan!$A$2:$D$96,2,0),\"\")","v":"Tin og sortkrudt"},null,null,{"$f":"SUMIFS(Bogføring!$G:$G,Bogføring!$A:$A,\">=\"&T!$C$4,Bogføring!$A:$A,\"<=\"&T!$C$5,Bogføring!$F:$F,A38)","v":0}]
[2240,{"$f":"IFERROR(VLOOKUP(A39,Kontoplan!$A$2:$D$96,2,0),\"\")","v":"Udstilling"},null,null,{"$f":"SUMIFS(Bogføring!$G:$G,Bogføring!$A:$A,\">=\"&T!$C$4,Bogføring!$A:$A,\"<=\"&T!$C$5,Bogføring!$F:$F,A39)","v":0},{"$f":"SUMIFS(Bogføring!$G:$G,Bogføring!$A:$A,\">=\"&T!$D$4,Bogføring!$A:$A,\"<=\"&T!$D$5,Bogføring!$F:$F,A39)","v":0},{"$f":"SUMIFS(Bogføring!$G:$G,Bogføring!$A:$A,\">=\"&T!$E$4,Bogføring!$A:$A,\"<=\"&T!$E$5,Bogføring!$F:$F,A39)","v":0}]
[2250,{"$f":"IFERROR(VLOOKUP(A40,Kontoplan!$A$2:$D$96,2,0),\"\")","v":"Annoncer"},null,null,{"$f":"SUMIFS(Bogføring!$G:$G,Bogføring!$A:$A,\">=\"&T!$C$4,Bogføring!$A:$A,\"<=\"&T!$C$5,Bogføring!$F:$F,A40)","v":0},{"$f":"SUMIFS(Bogføring!$G:$G,Bogføring!$A:$A,\">=\"&T!$D$4,Bogføring!$A:$A,\"<=\"&T!$D$5,Bogføring!$F:$F,A40)","v":0},{"$f":"SUMIFS(Bogføring!$G:$G,Bogføring!$A:$A,\">=\"&T!$E$4,Bogføring!$A:$A,\"<=\"&T!$E$5,Bogføring!$F:$F,A40)","v":0}]
[2260,{"$f":"IFERROR(VLOOKUP(A41,Kontoplan!$A$2:$D$96,2,0),\"\")","v":"Afholdelse af GF"},null,null,{"$f":"SUMIFS(Bogføring!$G:$G,Bogføring!$A:$A,\">=\"&T!$C$4,Bogføring!$A:$A,\"<=\"&T!$C$5,Bogføring!$F:$F,A41)","v":0}]
[2270,{"$f":"IFERROR(VLOOKUP(A42,Kontoplan!$A$2:$D$96,2,0),\"\")","v":"Bestyrelses møder"},null,null,{"$f":"SUMIFS(Bogføring!$G:$G,Bogføring!$A:$A,\">=\"&T!$C$4,Bogføring!$A:$A,\"<=\"&T!$C$5,Bogføring!$F:$F,A42)-SUMIFS(Bogføring!$H:$H,Bogføring!$A:$A,\">=\"&T!$C$4,Bogføring!$A:$A,\"<=\"&T!$C$5,Bogføring!$F:$F,A42)","v":0},{"$f":"SUMIFS(Bogføring!$G:$G,Bogføring!$A:$A,\">=\"&T!$D$4,Bogføring!$A:$A,\"<=\"&T!$D$5,Bogføring!$F:$F,A42)","v":0},{"$f":"SUMIFS(Bogføring!$G:$G,Bogføring!$A:$A,\">=\"&T!$E$4,Bogføring!$A:$A,\"<=\"&T!$E$5,Bogføring!$F:$F,A42)","v":0}]
[2280,{"$f":"IFERROR(VLOOKUP(A43,Kontoplan!$A$2:$D$96,2,0),\"\")","v":"Forplejning til møder/Rejser"},null,null,{"$f":"SUMIFS(Bogføring!$G:$G,Bogføring!$A:$A,\">=\"&T!$C$4,Bogføring!$A:$A,\"<=\"&T!$C$5,Bogføring!$F:$F,A43)","v":0},{"$f":"SUMIFS(Bogføring!$G:$G,Bogføring!$A:$A,\">=\"&T!$D$4,Bogføring!$A:$A,\"<=\"&T!$D$5,Bogføring!$F:$F,A43)","v":0},{"$f":"SUMIFS(Bogføring!$G:$G,Bogføring!$A:$A,\">=\"&T!$E$4,Bogføring!$A:$A,\"<=\"&T!$E$5,Bogføring!$F:$F,A43)","v":0}]
[2310,{"$f":"IFERROR(VLOOKUP(A44,Kontoplan!$A$2:$D$96,2,0),\"\")","v":"Kassedifferance"},null,null,{"$f":"SUMIFS(Bogføring!$G:$G,Bogføring!$A:$A,\">=\"&T!$C$4,Bogføring!$A:$A,\"<=\"&T!$C$5,Bogføring!$F:$F,A44)","v":0},{"$f":"SUMIFS(Bogføring!$G:$G,Bogføring!$A:$A,\">=\"&T!$D$4,Bogføring!$A:$A,\"<=\"&T!$D$5,Bogføring!$F:$F,A44)","v":0},{"$f":"SUMIFS(Bogføring!$G:$G,Bogføring!$A:$A,\">=\"&T!$E$4,Bogføring!$A:$A,\"<=\"&T!$E$5,Bogføring!$F:$F,A44)","v":0}]
[2330,{"$f":"IFERROR(VLOOKUP(A45,Kontoplan!$A$2:$D$96,2,0),\"\")","v":"Diverse Udgifter"},null,null,{"$f":"SUMIFS(Bogføring!$G:$G,Bogføring!$A:$A,\">=\"&T!$C$4,Bogføring!$A:$A,\"<=\"&T!$C$5,Bogføring!$F:$F,A45)","v":0}]
[2340,{"$f":"IFERROR(VLOOKUP(A46,Kontoplan!$A$2:$D$96,2,0),\"\")","v":"Kontingenter overført til KVB"},null,null,{"$f":"SUMIFS(Bogføring!$G:$G,Bogføring!$A:$A,\">=\"&T!$C$4,Bogføring!$A:$A,\"<=\"&T!$C$5,Bogføring!$F:$F,A46)","v":0},{"$f":"SUMIFS(Bogføring!$G:$G,Bogføring!$A:$A,\">=\"&T!$D$4,Bogføring!$A:$A,\"<=\"&T!$D$5,Bogføring!$F:$F,A46)","v":0},{"$f":"SUMIFS(Bogføring!$G:$G,Bogføring!$A:$A,\">=\"&T!$E$4,Bogføring!$A:$A,\"<=\"&T!$E$5,Bogføring!$F:$F,A46)","v":0}]
[3000,{"$f":"IFERROR(VLOOKUP(A47,Kontoplan!$A$2:$D$96,2,0),\"\")","v":"Lønomkostninger"},null,null,{"$f":"SUMIFS(Bogføring!$G:$G,Bogføring!$A:$A,\">=\"&T!$C$4,Bogføring!$A:$A,\"<=\"&T!$C$5,Bogføring!$F:$F,A47)","v":0},{"$f":"SUMIFS(Bogføring!$G:$G,Bogføring!$A:$A,\">=\"&T!$D$4,Bogføring!$A:$A,\"<=\"&T!$D$5,Bogføring!$F:$F,A47)","v":0},{"$f":"SUMIFS(Bogføring!$G:$G,Bogføring!$A:$A,\">=\"&T!$E$4,Bogføring!$A:$A,\"<=\"&T!$E$5,Bogføring!$F:$F,A47)","v":0}]
[3010,{"$f":"IFERROR(VLOOKUP(A48,Kontoplan!$A$2:$D$96,2,0),\"\")","v":"Lønninger"},null,null,{"$f":"SUMIFS(Bogføring!$G:$G,Bogføring!$A:$A,\">=\"&T!$C$4,Bogføring!$A:$A,\"<=\"&T!$C$5,Bogføring!$F:$F,A48)","v":0},{"$f":"SUMIFS(Bogføring!$G:$G,Bogføring!$A:$A,\">=\"&T!$D$4,Bogføring!$A:$A,\"<=\"&T!$D$5,Bogføring!$F:$F,A48)","v":0},{"$f":"SUMIFS(Bogføring!$G:$G,Bogføring!$A:$A,\">=\"&T!$E$4,Bogføring!$A:$A,\"<=\"&T!$E$5,Bogføring!$F:$F,A48)","v":0}]
[3020,{"$f":"IFERROR(VLOOKUP(A49,Kontoplan!$A$2:$D$96,2,0),\"\")","v":"ATP"},null,null,{"$f":"SUMIFS(Bogføring!$G:$G,Bogføring!$A:$A,\">=\"&T!$C$4,Bogføring!$A:$A,\"<=\"&T!$C$5,Bogføring!$F:$F,A49)","v":0},{"$f":"SUMIFS(Bogføring!$G:$G,Bogføring!$A:$A,\">=\"&T!$D$4,Bogføring!$A:$A,\"<=\"&T!$D$5,Bogføring!$F:$F,A49)","v":0},{"$f":"SUMIFS(Bogføring!$G:$G,Bogføring!$A:$A,\">=\"&T!$E$4,Bogføring!$A:$A,\"<=\"&T!$E$5,Bogføring!$F:$F,A49)","v":0}]
[]
[null,"Udgifter i alt",null,null,{"$f":"SUM(E23:E50)","v":0},{"$f":"SUM(F23:F50)","v":0},{"$f":"SUM(G23:G50)","v":0}]
[]
[null,{"$f":"IF(E53<0,\"Årets resultat, Underskud\",\"Årets resultat, Overskud\")","v":"Årets resultat, Overskud"},null,null,{"$f":"E19-E51","v":700},{"$f":"F19-F51","v":0},{"$f":"G19-G51","v":0}]
[]
[null,"Balance"]
[]
[null,"AKTIVER",null,null,{"$f":"E7","v":2014},{"$f":"F7","v":2013},{"$f":"G7","v":2012}]
[12310,{"$f":"IFERROR(VLOOKUP(A58,Kontoplan!A68:D128,2,0),\"\")","v":"Bank konto"},null,null,{"$f":"SUMIFS(Bogføring!$G:$G,Bogføring!$A:$A,\">=\"&T!$C$4,Bogføring!$A:$A,\"<=\"&T!$C$5,Bogføring!$F:$F,A58)-SUMIFS(Bogføring!$H:$H,Bogføring!$A:$A,\">=\"&T!$C$4,Bogføring!$A:$A,\"<=\"&T!$C$5,Bogføring!$F:$F,A58)","v":6029},{"$f":"SUMIFS(Bogføring!$G:$G,Bogføring!$A:$A,\">=\"&T!$D$4,Bogføring!$A:$A,\"<=\"&T!$D$5,Bogføring!$F:$F,A58)-SUMIFS(Bogføring!$H:$H,Bogføring!$A:$A,\">=\"&T!$D$4,Bogføring!$A:$A,\"<=\"&T!$D$5,Bogføring!$F:$F,A58)","v":0},{"$f":"SUMIFS(Bogføring!$G:$G,Bogføring!$A:$A,\">=\"&T!$E$4,Bogføring!$A:$A,\"<=\"&T!$E$5,Bogføring!$F:$F,A58)-SUMIFS(Bogføring!$H:$H,Bogføring!$A:$A,\">=\"&T!$E$4,Bogføring!$A:$A,\"<=\"&T!$E$5,Bogføring!$F:$F,A58)","v":0}]
[12320,{"$f":"IFERROR(VLOOKUP(A59,Kontoplan!A68:D129,2,0),\"\")","v":"Kasse"},null,null,{"$f":"SUMIFS(Bogføring!$G:$G,Bogføring!$A:$A,\">=\"&T!$C$4,Bogføring!$A:$A,\"<=\"&T!$C$5,Bogføring!$F:$F,A59)-SUMIFS(Bogføring!$H:$H,Bogføring!$A:$A,\">=\"&T!$C$4,Bogføring!$A:$A,\"<=\"&T!$C$5,Bogføring!$F:$F,A59)","v":0},{"$f":"SUMIFS(Bogføring!$G:$G,Bogføring!$A:$A,\">=\"&T!$D$4,Bogføring!$A:$A,\"<=\"&T!$D$5,Bogføring!$F:$F,A59)-SUMIFS(Bogføring!$H:$H,Bogføring!$A:$A,\">=\"&T!$D$4,Bogføring!$A:$A,\"<=\"&T!$D$5,Bogføring!$F:$F,A59)","v":0},{"$f":"SUMIFS(Bogføring!$G:$G,Bogføring!$A:$A,\">=\"&T!$E$4,Bogføring!$A:$A,\"<=\"&T!$E$5,Bogføring!$F:$F,A59)-SUMIFS(Bogføring!$H:$H,Bogføring!$A:$A,\">=\"&T!$E$4,Bogføring!$A:$A,\"<=\"&T!$E$5,Bogføring!$F:$F,A59)","v":0}]
[null,{"$f":"IFERROR(VLOOKUP(A60,Kontoplan!A69:D130,2,0),\"\")","v":""},null,null,{"$f":"SUMIFS(Bogføring!$G:$G,Bogføring!$A:$A,\">=\"&T!$C$4,Bogføring!$A:$A,\"<=\"&T!$C$5,Bogføring!$F:$F,A60)-SUMIFS(Bogføring!$H:$H,Bogføring!$A:$A,\">=\"&T!$C$4,Bogføring!$A:$A,\"<=\"&T!$C$5,Bogføring!$F:$F,A60)","v":0},{"$f":"SUMIFS(Bogføring!$G:$G,Bogføring!$A:$A,\">=\"&T!$D$4,Bogføring!$A:$A,\"<=\"&T!$D$5,Bogføring!$F:$F,A60)-SUMIFS(Bogføring!$H:$H,Bogføring!$A:$A,\">=\"&T!$D$4,Bogføring!$A:$A,\"<=\"&T!$D$5,Bogføring!$F:$F,A60)","v":0},{"$f":"SUMIFS(Bogføring!$G:$G,Bogføring!$A:$A,\">=\"&T!$E$4,Bogføring!$A:$A,\"<=\"&T!$E$5,Bogføring!$F:$F,A60)-SUMIFS(Bogføring!$H:$H,Bogføring!$A:$A,\">=\"&T!$E$4,Bogføring!$A:$A,\"<=\"&T!$E$5,Bogføring!$F:$F,A60)","v":0}]
[12500,{"$f":"IFERROR(VLOOKUP(A61,Kontoplan!A77:D130,2,0),\"\")","v":"Debitorer samler konto"},4,null,{"$f":"-VLOOKUP(A61,Kontoplan!A58:C94,3,0)","v":0},{"$f":"SUMIFS(Bogføring!$G:$G,Bogføring!$A:$A,\">=\"&T!$D$4,Bogføring!$A:$A,\"<=\"&T!$D$5,Bogføring!$F:$F,A61)-SUMIFS(Bogføring!$H:$H,Bogføring!$A:$A,\">=\"&T!$D$4,Bogføring!$A:$A,\"<=\"&T!$D$5,Bogføring!$F:$F,A61)","v":0},{"$f":"SUMIFS(Bogføring!$G:$G,Bogføring!$A:$A,\">=\"&T!$E$4,Bogføring!$A:$A,\"<=\"&T!$E$5,Bogføring!$F:$F,A61)-SUMIFS(Bogføring!$H:$H,Bogføring!$A:$A,\">=\"&T!$E$4,Bogføring!$A:$A,\"<=\"&T!$E$5,Bogføring!$F:$F,A61)","v":0}]
[null,"Aktiver i alt","     ---- >",null,{"$f":"SUM(E58:E61)","v":6029},{"$f":"F58+F59+F61","v":0},{"$f":"G58+G59+G61","v":0}]
[]
[null,"PASSIVER"]
[12360,{"$f":"IFERROR(VLOOKUP(A65,Kontoplan!$A$2:$D$96,2,0),\"\")","v":"Skyldig A-skat"},null,null,{"$f":"VLOOKUP(A65,Kontoplan!A45:C88,3,0)","v":0}]
[12361,{"$f":"IFERROR(VLOOKUP(A66,Kontoplan!$A$2:$D$96,2,0),\"\")","v":"Skyldig AM "},null,null,{"$f":"VLOOKUP(A66,Kontoplan!A45:C89,3,0)","v":0}]
[12362,{"$f":"IFERROR(VLOOKUP(A67,Kontoplan!$A$2:$D$96,2,0),\"\")","v":"Skyldig ATP"},null,null,{"$f":"VLOOKUP(A67,Kontoplan!A53:C90,3,0)","v":0}]
[12364,{"$f":"IFERROR(VLOOKUP(A68,Kontoplan!$A$2:$D$96,2,0),\"\")","v":"Skyldige Feriepenge"},null,null,{"$f":"VLOOKUP(A68,Kontoplan!A53:C91,3,0)","v":0}]
[null,{"$f":"IFERROR(VLOOKUP(A69,Kontoplan!$A$2:$D$96,2,0),\"\")","v":""},null,null,{"$f":"IFERROR(VLOOKUP(A69,Kontoplan!A54:C92,3,0),0)","v":0}]
[null,{"$f":"IFERROR(VLOOKUP(A70,Kontoplan!$A$2:$D$96,2,0),\"\")","v":""},null,null,{"$f":"IFERROR(VLOOKUP(A70,Kontoplan!A58:C94,3,0),0)","v":0}]
[12400,{"$f":"IFERROR(VLOOKUP(A71,Kontoplan!$A$2:$D$96,2,0),\"\")","v":"Kreditorer samler konto"},3,null,{"$f":"Noter!G39","v":0}]
[null,"Skyldige og Kreditorer","     ---- >",null,{"$f":"SUM(E65:E71)","v":0}]
[]
[null,"Før Egenkapital ","     ---- >",null,{"$f":"-E65-E66-E67-E68-E69-E70-E71","v":0}]
[12330,{"$f":"\"Egenkap. \"&TEXT(T!C4,\"dd.mm.åå\")","v":"Egenkap. 01.11.14"},null,{"$f":"SUMIFS(Bogføring!$H:$H,Bogføring!$A:$A,\">=\"&T!$C$4,Bogføring!$A:$A,\"<=\"&T!$C$5,Bogføring!A:A,\"=\"&T!C4,Bogføring!$F:$F,A75)","v":0},null,{"$f":"SUMIFS(Bogføring!$H:$H,Bogføring!$A:$A,\">=\"&T!$D$4,Bogføring!$A:$A,\"<=\"&T!$D$5,Bogføring!A:A,\"=\"&T!D4,Bogføring!$F:$F,A75)","v":0},{"$f":"SUMIFS(Bogføring!$H:$H,Bogføring!$A:$A,\">=\"&T!$E$4,Bogføring!$A:$A,\"<=\"&T!$E$5,Bogføring!A:A,\"=\"&T!E4,Bogføring!$F:$F,A75)","v":0}]
[null,{"$f":"\"Årets resultat \"&T!C3","v":"Årets resultat 2014-2015"},null,{"$f":"E53","v":700},null,0,0,null,"0-Kontrol"]
[null,{"$f":"\"Egenkap. \"&TEXT(T!C5,\"dd.mm.åå\")","v":"Egenkap. 31.10.15"},null,{"$f":"D76+D75","v":700},{"$f":"D77","v":700},0,0,null,{"$f":"E62+E78","v":5329},"(skal være 0,00)"]
[null,"Passiver i alt","     ---- >",null,{"$f":"E74-E77","v":-700},0,0]
[]
[]
[null,"Rønne, den"]
[]
[null,{"$f":"T!B11&\" -  Kasserer\"","v":"Bjarne Hansen -  Kasserer"}]
[]
[null,"Revisionspåtegning:"]
[null,{"$f":"IF(T!K9=1,T!A20,IF(T!K9=2,T!A23,IF(T!K9=3,T!A26,\"\")))","v":"Regnskabet er d.d. revideret. Beholdningkonti er fundet til stede. Bogføringen er kontrollet. \nRevisionen gav anledning til flg. Bemærkning"}]
[]
[null,"Rønne, den",null,"Rønne, den"]
[]
[null,{"$f":"T!B13&\" - Bilagskontrollant\"","v":"Xxxx Xxxx - Bilagskontrollant"},null,{"$f":"T!B15&\" - Bilagskontrollant\"","v":"Xxxxx Xxx - Bilagskontrollant"}]

{"sheet":"Regnskab GF","index":3,"n_rows":46,"n_cols":6,"rows_kept":46,"cut":false,"hidden":true,"merged":[[1,0,1,6],[35,0,35,6],[20,0,20,5]]}
[]
["REGNSKAB FOR 3. ORDINÆRE GENERALFORSAMLING 13.01.18. "]
[]
[null,null,null,"Indtægt","Udgift","Resultat"]
["41 Kuv. Gule ærter/Stroganof",null,null,6450,3772]
["41 øl",null,null,null,430]
["Kaffe, småkager",null,null,null,64]
["12 Morgenmad inkl. bestyrelse",null,null,470,410]
["Værelser (10 enheder)",null,null,1125,784.16]
["Duge, servietter m.m.",null,null,null,611]
["Salg af 79 øl",null,null,1580]
["Salg af 27 snaps",null,null,540]
["Salg af 8 vand",null,null,80]
["11 mærker",null,null,550]
[null,null,null,null,0]
[null,null,null,null,0]
[null,null,null,null,0]
["Gave til ",null,null,null,0]
["I alt",null,null,{"$f":"SUM(D5:D18)","v":10795},{"$f":"SUM(E5:E18)","v":6071.16},{"$f":"D19-E19","v":4723.84}]
[]
["Salget på denne generalforsamling har vist sig at passe perfekt - det stemmer på øren - og det er dejligt. Ved optælling af beholdning af øl og snaps, er der 30 øl og lidt snaps, til næste arrangement."]
[]
[]
[null,null,null,"Indtægt","Udgift","TOTAL"]
["Kontant fra festen indsat i bank",null,null,null,null,2750]
[]
["Salg af 11 klister/stofmærker",null,null,550]
["Salg af 79 øl og 27 snaps = 106",null,null,2120]
["Salg af 8 vand",null,null,80]
["I alt",null,null,{"$f":"SUM(D27:D29)","v":2750},null,2750]
["Overskud",null,null,null,null,{"$f":"F25-F30","v":0}]
[]
[]
[]
[]
["Der er overskud af snaps til næste Generalforsamling, samt 30 øl til brug ved et senere arrangement. Som det fremgår er der ingen udgift til øl, da disse er købt i okt 2017 og indgår i 2017 regnskabet, ligesom snaps, da der var overskud fra sidste generalforsamlingdet indhentet u/b."]
[]
[]
[]
[]
[]
[]
[]
[]
[]
["Jens P. Christoffersson - formand"]

{"sheet":"Medlemsliste","index":4,"n_rows":180,"n_cols":30,"rows_kept":180,"cut":false,"hidden":true,"merged":[[5,39,5,41],[7,39,7,41],[0,0,3,8],[3,9,4,9],[0,9,0,10],[1,9,1,10],[2,9,2,10],[3,39,3,41],[4,39,4,41],[0,12,2,12]]}
[{"$f":"\"Medlemsliste for \"&T!B9","v":"Medlemsliste for TEST - REGNSKAB"},null,null,null,null,null,null,null,null," Antal medlemmer : ",null,{"$f":"COUNT(A5:A189)","v":155},null,{"$f":"COUNT($A:$A)","v":155},null,{"$f":"COUNT($A:$A)","v":155},null,{"$f":"COUNT($A:$A)","v":155},null,{"$f":"COUNT($A:$A)","v":155}]
[null,null,null,null,null,null,null,null,null," Betalende medlemmer : ",null,{"$f":"COUNTIF(L6:L190,\">0\")+1","v":78},null,{"$f":"COUNTIF(M:M,\">0\")","v":67},null,{"$f":"COUNTIF(O:O,\">0\")","v":0},null,{"$f":"COUNTIF(Q:Q,\">0\")","v":0},null,{"$f":"COUNTIF(S:S,\">0\")","v":0}]
[null,null,null,null,null,null,null,null,null,"Rest : ",null,{"$f":"L1-L2-3","v":74},null,{"$f":"N1-N2","v":88},null,{"$f":"P1-P2","v":155},null,{"$f":"R1-R2","v":155},null,{"$f":"T1-T2","v":155}]
[null,null,null,null,null,null,null,null,null,"Medl.nr. :",null,{"$f":"DATE(L5,4,1)","v":"2020-04-01"},null,{"$f":"DATE(N5,4,1)","v":"2021-04-01"},null,"2022-04-01",null,"2023-04-01",null,"2024-04-01",null,"2025-04-01",null,"2026-04-01",null,"2027-04-01",null,"2028-04-01",null,"2029-04-01"]
["Medl.nr. :","NAVN","ADRESSE ","POSTNR","By","TELEFON","E-MAIL","Indmeldt","Bemærkning:",null,"Bet. Dato",2020,"Bet. Dato",2021,null,2022,null,2023,null,2024,null,2025,null,2026,null,2027,null,2028,null,2029]
[1,"Jens P. Christoffersson ","Højvangsparken 8 st. 1.",3700,"Rønne",40373460,"jp.stoffer.555@gmail.com",null,"Formand, Medlem af FU ",{"$f":"IF(A6=\"\",\"\",A6)","v":1},{"$f":"IF(L6=0,\"\",INDEX(Bogføring!$A:$A,MATCH(Tabel2[[#This Row],[Medl.nr. :]],Bogføring!$D:$D,0),0))","v":"2015-03-10"},{"$f":"SUMIFS(Bogføring!H:H,Bogføring!E:E,\"=\"&$L$5,Bogføring!D:D,\"=\"&A6)","v":175},{"$f":"IF(N6=0,\"\",SUMIFS(Bogføring!$A:$A,Bogføring!$E:$E,\"=\"&$N$5,Bogføring!$D:$D,\"=\"&A6))","v":"2020-08-07"},{"$f":"SUMIFS(Bogføring!H:H,Bogføring!E:E,\"=\"&$N$5,Bogføring!D:D,\"=\"&A6)","v":175},{"$f":"IF(P6=0,\"\",SUMIFS(Bogføring!$A:$A,Bogføring!$E:$E,\"=\"&$P$5,Bogføring!$D:$D,\"=\"&A6))","v":""},{"$f":"SUMIFS(Bogføring!$H:$H,Bogføring!$E:$E,\"=\"&$P$5,Bogføring!$D:$D,\"=\"&A6)","v":0},{"$f":"IF(R6=0,\"\",SUMIFS(Bogføring!$A:$A,Bogføring!$E:$E,\"=\"&$R$5,Bogføring!$D:$D,\"=\"&A6))","v":""},{"$f":"SUMIFS(Bogføring!$H:$H,Bogføring!$E:$E,\"=\"&$R$5,Bogføring!$D:$D,\"=\"&A6)","v":0},{"$f":"IF(T6=0,\"\",SUMIFS(Bogføring!$A:$A,Bogføring!$E:$E,\"=\"&$T$5,Bogføring!$D:$D,\"=\"&A6))","v":""},{"$f":"SUMIFS(Bogføring!$H:$H,Bogføring!$E:$E,\"=\"&$T$5,Bogføring!$D:$D,\"=\"&A6)","v":0},null,{"$f":"SUMIFS(Bogføring!$H:$H,Bogføring!$E:$E,\"=\"&$V$5,Bogføring!$D:$D,\"=\"&A6)","v":0},null,{"$f":"SUMIFS(Bogføring!$H:$H,Bogføring!$E:$E,\"=\"&$X$5,Bogføring!$D:$D,\"=\"&A6)","v":0},null,{"$f":"SUMIFS(Bogføring!$H:$H,Bogføring!$E:$E,\"=\"&$Z$5,Bogføring!$D:$D,\"=\"&A6)","v":0},null,{"$f":"SUMIFS(Bogføring!$H:$H,Bogføring!$E:$E,\"=\"&$AB$5,Bogføring!$D:$D,\"=\"&A6)","v":0},null,{"$f":"SUMIFS(Bogføring!$H:$H,Bogføring!$E:$E,\"=\"&$AD$5,Bogføring!$D:$D,\"=\"&A6)","v":0}]
[2,"Jens Chr. Skaarup","Hedningestræde 1",3700,"Rønne",21240945,"bjskaarup@gmail.com",null,"Næstformand, Medlem af FU",2,{"$f":"IF(L7=0,\"\",INDEX(Bogføring!$A:$A,MATCH(Tabel2[[#This Row],[Medl.nr. :]],Bogføring!$D:$D,0),0))","v":"2015-03-11"},{"$f":"SUMIFS(Bogføring!H:H,Bogføring!E:E,\"=\"&$L$5,Bogføring!D:D,\"=\"&A7)","v":175},{"$f":"IF(N7=0,\"\",SUMIFS(Bogføring!A:A,Bogføring!E:E,\"=\"&$N$5,Bogføring!D:D,\"=\"&A7))","v":"2020-08-14"},{"$f":"SUMIFS(Bogføring!H:H,Bogføring!E:E,\"=\"&$N$5,Bogføring!D:D,\"=\"&A7)","v":175},{"$f":"IF(N7=0,\"\",SUMIFS(Bogføring!$A:$A,Bogføring!$E:$E,\"=\"&$P$5,Bogføring!$D:$D,\"=\"&A7))","v":0},{"$f":"SUMIFS(Bogføring!$H:$H,Bogføring!$E:$E,\"=\"&$P$5,Bogføring!$D:$D,\"=\"&A7)","v":0}]
[3,"Jens Ole Ipsen Fassel","Smedegård, Kirkedalsvej 17, Rutsker",3700,"Rønne",56969798,"f@ssel.dk",null,"Bestyrelsesmedlem",3,{"$f":"IF(L8=0,\"\",INDEX(Bogføring!$A:$A,MATCH(Tabel2[[#This Row],[Medl.nr. :]],Bogføring!$D:$D,0),0))","v":"2015-12-02"},{"$f":"SUMIFS(Bogføring!H:H,Bogføring!E:E,\"=\"&$L$5,Bogføring!D:D,\"=\"&A8)","v":175},{"$f":"IF(N8=0,\"\",SUMIFS(Bogføring!A:A,Bogføring!E:E,\"=\"&$N$5,Bogføring!D:D,\"=\"&A8))","v":"2020-08-07"},{"$f":"SUMIFS(Bogføring!H:H,Bogføring!E:E,\"=\"&$N$5,Bogføring!D:D,\"=\"&A8)","v":175},{"$f":"IF(N8=0,\"\",SUMIFS(Bogføring!$A:$A,Bogføring!$E:$E,\"=\"&$P$5,Bogføring!$D:$D,\"=\"&A8))","v":0},{"$f":"SUMIFS(Bogføring!$H:$H,Bogføring!$E:$E,\"=\"&$P$5,Bogføring!$D:$D,\"=\"&A8)","v":0}]
[4,"Finn Kjerulff Hansen","Sigurdsgade 13",3700,"Rønne",30254320,"fkh.segen@gmail.com",null,"Sekretær, Medlem af FU",4,{"$f":"IF(L9=0,\"\",INDEX(Bogføring!$A:$A,MATCH(Tabel2[[#This Row],[Medl.nr. :]],Bogføring!$D:$D,0),0))","v":"2015-10-30"},{"$f":"SUMIFS(Bogføring!H:H,Bogføring!E:E,\"=\"&$L$5,Bogføring!D:D,\"=\"&A9)","v":175},{"$f":"IF(N9=0,\"\",SUMIFS(Bogføring!A:A,Bogføring!E:E,\"=\"&$N$5,Bogføring!D:D,\"=\"&A9))","v":"2020-08-31"},{"$f":"SUMIFS(Bogføring!H:H,Bogføring!E:E,\"=\"&$N$5,Bogføring!D:D,\"=\"&A9)","v":175},{"$f":"IF(N9=0,\"\",SUMIFS(Bogføring!$A:$A,Bogføring!$E:$E,\"=\"&$P$5,Bogføring!$D:$D,\"=\"&A9))","v":0},{"$f":"SUMIFS(Bogføring!$H:$H,Bogføring!$E:$E,\"=\"&$P$5,Bogføring!$D:$D,\"=\"&A9)","v":0}]
[5,"Stefan Erik Asp","Thorkildsvej 43, 2. th.",3700,"Rønne",23820033,"stefan_easp@hotmail.com",null,"Web&Marketing, Medlem af FU",5,{"$f":"IF(L10=0,\"\",INDEX(Bogføring!$A:$A,MATCH(Tabel2[[#This Row],[Medl.nr. :]],Bogføring!$D:$D,0),0))","v":"2015-11-04"},{"$f":"SUMIFS(Bogføring!H:H,Bogføring!E:E,\"=\"&$L$5,Bogføring!D:D,\"=\"&A10)","v":175},{"$f":"IF(N10=0,\"\",SUMIFS(Bogføring!A:A,Bogføring!E:E,\"=\"&$N$5,Bogføring!D:D,\"=\"&A10))","v":"2020-09-14"},{"$f":"SUMIFS(Bogføring!H:H,Bogføring!E:E,\"=\"&$N$5,Bogføring!D:D,\"=\"&A10)","v":175},{"$f":"IF(N10=0,\"\",SUMIFS(Bogføring!$A:$A,Bogføring!$E:$E,\"=\"&$P$5,Bogføring!$D:$D,\"=\"&A10))","v":0},{"$f":"SUMIFS(Bogføring!$H:$H,Bogføring!$E:$E,\"=\"&$P$5,Bogføring!$D:$D,\"=\"&A10)","v":0}]
[6,"Henrik Frost Rasmussen","Bøgeløkken 5",3700,"Rønne",21260931,"frost_rasmussen@mail.tele.dk",null,"Bestyrelsesmedlem",6,{"$f":"IF(L11=0,\"\",INDEX(Bogføring!$A:$A,MATCH(Tabel2[[#This Row],[Medl.nr. :]],Bogføring!$D:$D,0),0))","v":"2015-10-25"},{"$f":"SUMIFS(Bogføring!H:H,Bogføring!E:E,\"=\"&$L$5,Bogføring!D:D,\"=\"&A11)","v":175},{"$f":"IF(N11=0,\"\",SUMIFS(Bogføring!A:A,Bogføring!E:E,\"=\"&$N$5,Bogføring!D:D,\"=\"&A11))","v":"2020-08-13"},{"$f":"SUMIFS(Bogføring!H:H,Bogføring!E:E,\"=\"&$N$5,Bogføring!D:D,\"=\"&A11)","v":175},{"$f":"IF(N11=0,\"\",SUMIFS(Bogføring!$A:$A,Bogføring!$E:$E,\"=\"&$P$5,Bogføring!$D:$D,\"=\"&A11))","v":0},{"$f":"SUMIFS(Bogføring!$H:$H,Bogføring!$E:$E,\"=\"&$P$5,Bogføring!$D:$D,\"=\"&A11)","v":0}]
[7,"Henrik Vensild","Storegade 29",3700,"Rønne",21254190,"h.vensild@mail.dk",null,"Bestyrelsesmedlem",7,{"$f":"IF(L12=0,\"\",INDEX(Bogføring!$A:$A,MATCH(Tabel2[[#This Row],[Medl.nr. :]],Bogføring!$D:$D,0),0))","v":"2015-10-04"},{"$f":"SUMIFS(Bogføring!H:H,Bogføring!E:E,\"=\"&$L$5,Bogføring!D:D,\"=\"&A12)","v":175},{"$f":"IF(N12=0,\"\",SUMIFS(Bogføring!A:A,Bogføring!E:E,\"=\"&$N$5,Bogføring!D:D,\"=\"&A12))","v":"2020-08-09"},{"$f":"SUMIFS(Bogføring!H:H,Bogføring!E:E,\"=\"&$N$5,Bogføring!D:D,\"=\"&A12)","v":175},{"$f":"IF(N12=0,\"\",SUMIFS(Bogføring!$A:$A,Bogføring!$E:$E,\"=\"&$P$5,Bogføring!$D:$D,\"=\"&A12))","v":0},{"$f":"SUMIFS(Bogføring!$H:$H,Bogføring!$E:$E,\"=\"&$P$5,Bogføring!$D:$D,\"=\"&A12)","v":0}]
[8,"Jacob Bjerring-Hansen","Bh. Museum, Sct. Mortensgade 29",3700,"Rønne",25601164,"jbh@bornholmsmuseum.dk",null,"Udpeget bestyrelssmedlem",8,{"$f":"IF(L13=0,\"\",INDEX(Bogføring!$A:$A,MATCH(Tabel2[[#This Row],[Medl.nr. :]],Bogføring!$D:$D,0),0))","v":"2016-06-13"},{"$f":"SUMIFS(Bogføring!H:H,Bogføring!E:E,\"=\"&$L$5,Bogføring!D:D,\"=\"&A13)","v":175},{"$f":"IF(N13=0,\"\",SUMIFS(Bogføring!A:A,Bogføring!E:E,\"=\"&$N$5,Bogføring!D:D,\"=\"&A13))","v":"2020-08-03"},{"$f":"SUMIFS(Bogføring!H:H,Bogføring!E:E,\"=\"&$N$5,Bogføring!D:D,\"=\"&A13)","v":175},{"$f":"IF(N13=0,\"\",SUMIFS(Bogføring!$A:$A,Bogføring!$E:$E,\"=\"&$P$5,Bogføring!$D:$D,\"=\"&A13))","v":0},{"$f":"SUMIFS(Bogføring!$H:$H,Bogføring!$E:$E,\"=\"&$P$5,Bogføring!$D:$D,\"=\"&A13)","v":0}]
[9,"Torben Hedeman Petersen ","GSE, Almegårds Kaserne",3700,"Rønne",24654997,"ghr-3b-gse01@mil.dk",null,"Udpeget bestyrelsesmedlem",9,{"$f":"IF(L14=0,\"\",INDEX(Bogføring!$A:$A,MATCH(Tabel2[[#This Row],[Medl.nr. :]],Bogføring!$D:$D,0),0))","v":"2015-04-18"},{"$f":"SUMIFS(Bogføring!H:H,Bogføring!E:E,\"=\"&$L$5,Bogføring!D:D,\"=\"&A14)","v":175},{"$f":"IF(N14=0,\"\",SUMIFS(Bogføring!A:A,Bogføring!E:E,\"=\"&$N$5,Bogføring!D:D,\"=\"&A14))","v":"2018-06-08"},{"$f":"SUMIFS(Bogføring!H:H,Bogføring!E:E,\"=\"&$N$5,Bogføring!D:D,\"=\"&A14)","v":175},{"$f":"IF(N14=0,\"\",SUMIFS(Bogføring!$A:$A,Bogføring!$E:$E,\"=\"&$P$5,Bogføring!$D:$D,\"=\"&A14))","v":0},{"$f":"SUMIFS(Bogføring!$H:$H,Bogføring!$E:$E,\"=\"&$P$5,Bogføring!$D:$D,\"=\"&A14)","v":0}]
[10,"Poul E. T. Figa ","Møllebakken 21 A",3740,"Svaneke",51515550,"petfiga@gmail.com",null,"Udpeget bestyrelsesmedlem",10,{"$f":"IF(L15=0,\"\",INDEX(Bogføring!$A:$A,MATCH(Tabel2[[#This Row],[Medl.nr. :]],Bogføring!$D:$D,0),0))","v":"2015-10-02"},{"$f":"SUMIFS(Bogføring!H:H,Bogføring!E:E,\"=\"&$L$5,Bogføring!D:D,\"=\"&A15)","v":175},{"$f":"IF(N15=0,\"\",SUMIFS(Bogføring!A:A,Bogføring!E:E,\"=\"&$N$5,Bogføring!D:D,\"=\"&A15))","v":""},{"$f":"SUMIFS(Bogføring!H:H,Bogføring!E:E,\"=\"&$N$5,Bogføring!D:D,\"=\"&A15)","v":0},{"$f":"IF(N15=0,\"\",SUMIFS(Bogføring!$A:$A,Bogføring!$E:$E,\"=\"&$P$5,Bogføring!$D:$D,\"=\"&A15))","v":""},{"$f":"SUMIFS(Bogføring!$H:$H,Bogføring!$E:$E,\"=\"&$P$5,Bogføring!$D:$D,\"=\"&A15)","v":0}]
[11,"Bjarne Hansen                                            ","Lyrsbyvej 31",3751,"Østermarie",40212694,"bjarne-hansen@outlook.dk",null,"Kasserer, Medlem af FU",11,{"$f":"IF(L16=0,\"\",INDEX(Bogføring!$A:$A,MATCH(Tabel2[[#This Row],[Medl.nr. :]],Bogføring!$D:$D,0),0))","v":"2015-09-03"},{"$f":"SUMIFS(Bogføring!H:H,Bogføring!E:E,\"=\"&$L$5,Bogføring!D:D,\"=\"&A16)","v":175},{"$f":"IF(N16=0,\"\",SUMIFS(Bogføring!A:A,Bogføring!E:E,\"=\"&$N$5,Bogføring!D:D,\"=\"&A16))","v":"2020-09-03"},{"$f":"SUMIFS(Bogføring!H:H,Bogføring!E:E,\"=\"&$N$5,Bogføring!D:D,\"=\"&A16)","v":175},{"$f":"IF(N16=0,\"\",SUMIFS(Bogføring!$A:$A,Bogføring!$E:$E,\"=\"&$P$5,Bogføring!$D:$D,\"=\"&A16))","v":0},{"$f":"SUMIFS(Bogføring!$H:$H,Bogføring!$E:$E,\"=\"&$P$5,Bogføring!$D:$D,\"=\"&A16)","v":0}]
[12,"Jakob Pii","Østerled 20",3700,"Rønne",null,"pii@mil.dk",null,"Bilagskontrollant",12,{"$f":"IF(L17=0,\"\",INDEX(Bogføring!$A:$A,MATCH(Tabel2[[#This Row],[Medl.nr. :]],Bogføring!$D:$D,0),0))","v":""},{"$f":"SUMIFS(Bogføring!H:H,Bogføring!E:E,\"=\"&$L$5,Bogføring!D:D,\"=\"&A17)","v":0},{"$f":"IF(N17=0,\"\",SUMIFS(Bogføring!A:A,Bogføring!E:E,\"=\"&$N$5,Bogføring!D:D,\"=\"&A17))","v":""},{"$f":"SUMIFS(Bogføring!H:H,Bogføring!E:E,\"=\"&$N$5,Bogføring!D:D,\"=\"&A17)","v":0},{"$f":"IF(N17=0,\"\",SUMIFS(Bogføring!$A:$A,Bogføring!$E:$E,\"=\"&$P$5,Bogføring!$D:$D,\"=\"&A17))","v":""},{"$f":"SUMIFS(Bogføring!$H:$H,Bogføring!$E:$E,\"=\"&$P$5,Bogføring!$D:$D,\"=\"&A17)","v":0}]
[13,"Kai Platz ","Sandgade 8",3700,"Rønne",null,"kaiplatz@mail.dk",null,"ÆRESMEDLEM - Bilagskontrollant",13,{"$f":"IF(L18=0,\"\",INDEX(Bogføring!$A:$A,MATCH(Tabel2[[#This Row],[Medl.nr. :]],Bogføring!$D:$D,0),0))","v":"2015-03-10"},{"$f":"SUMIFS(Bogføring!H:H,Bogføring!E:E,\"=\"&$L$5,Bogføring!D:D,\"=\"&A18)","v":175},{"$f":"IF(N18=0,\"\",SUMIFS(Bogføring!A:A,Bogføring!E:E,\"=\"&$N$5,Bogføring!D:D,\"=\"&A18))","v":"2020-08-31"},{"$f":"SUMIFS(Bogføring!H:H,Bogføring!E:E,\"=\"&$N$5,Bogføring!D:D,\"=\"&A18)","v":175},{"$f":"IF(N18=0,\"\",SUMIFS(Bogføring!$A:$A,Bogføring!$E:$E,\"=\"&$P$5,Bogføring!$D:$D,\"=\"&A18))","v":0},{"$f":"SUMIFS(Bogføring!$H:$H,Bogføring!$E:$E,\"=\"&$P$5,Bogføring!$D:$D,\"=\"&A18)","v":0}]
[14,"Maud og Tom West","Sølunden 4",3700,"Rønne",null,"sbfmw@mail.dk",null,"Maud, Bilagskontrollantsuppleant",14,{"$f":"IF(L19=0,\"\",INDEX(Bogføring!$A:$A,MATCH(Tabel2[[#This Row],[Medl.nr. :]],Bogføring!$D:$D,0),0))","v":"2015-11-12"},{"$f":"SUMIFS(Bogføring!H:H,Bogføring!E:E,\"=\"&$L$5,Bogføring!D:D,\"=\"&A19)","v":175},{"$f":"IF(N19=0,\"\",SUMIFS(Bogføring!A:A,Bogføring!E:E,\"=\"&$N$5,Bogføring!D:D,\"=\"&A19))","v":"2020-08-31"},{"$f":"SUMIFS(Bogføring!H:H,Bogføring!E:E,\"=\"&$N$5,Bogføring!D:D,\"=\"&A19)","v":175},{"$f":"IF(N19=0,\"\",SUMIFS(Bogføring!$A:$A,Bogføring!$E:$E,\"=\"&$P$5,Bogføring!$D:$D,\"=\"&A19))","v":0},{"$f":"SUMIFS(Bogføring!$H:$H,Bogføring!$E:$E,\"=\"&$P$5,Bogføring!$D:$D,\"=\"&A19)","v":0}]
[15,"Klaus Linnert ","Hedebovej 22, Knudsker",3700,"Rønne",51330033,"klaus@linnert.dk",null,"Museumsleder",15,{"$f":"IF(L20=0,\"\",INDEX(Bogføring!$A:$A,MATCH(Tabel2[[#This Row],[Medl.nr. :]],Bogføring!$D:$D,0),0))","v":"2015-11-30"},{"$f":"SUMIFS(Bogføring!H:H,Bogføring!E:E,\"=\"&$L$5,Bogføring!D:D,\"=\"&A20)","v":175},{"$f":"IF(N20=0,\"\",SUMIFS(Bogføring!A:A,Bogføring!E:E,\"=\"&$N$5,Bogføring!D:D,\"=\"&A20))","v":"2020-08-31"},{"$f":"SUMIFS(Bogføring!H:H,Bogføring!E:E,\"=\"&$N$5,Bogføring!D:D,\"=\"&A20)","v":175},{"$f":"IF(N20=0,\"\",SUMIFS(Bogføring!$A:$A,Bogføring!$E:$E,\"=\"&$P$5,Bogføring!$D:$D,\"=\"&A20))","v":0},{"$f":"SUMIFS(Bogføring!$H:$H,Bogføring!$E:$E,\"=\"&$P$5,Bogføring!$D:$D,\"=\"&A20)","v":0}]
[16,"Per A. Nielsen","Ingemannsvej 2, Listed",3740,"Svaneke",56496374,"signeogper@gmail.com",null,"ÆRESMEDLEM",16,{"$f":"IF(L21=0,\"\",INDEX(Bogføring!$A:$A,MATCH(Tabel2[[#This Row],[Medl.nr. :]],Bogføring!$D:$D,0),0))","v":"2015-10-25"},{"$f":"SUMIFS(Bogføring!H:H,Bogføring!E:E,\"=\"&$L$5,Bogføring!D:D,\"=\"&A21)","v":175},{"$f":"IF(N21=0,\"\",SUMIFS(Bogføring!A:A,Bogføring!E:E,\"=\"&$N$5,Bogføring!D:D,\"=\"&A21))","v":"2020-10-03"},{"$f":"SUMIFS(Bogføring!H:H,Bogføring!E:E,\"=\"&$N$5,Bogføring!D:D,\"=\"&A21)","v":175},{"$f":"IF(N21=0,\"\",SUMIFS(Bogføring!$A:$A,Bogføring!$E:$E,\"=\"&$P$5,Bogføring!$D:$D,\"=\"&A21))","v":0},{"$f":"SUMIFS(Bogføring!$H:$H,Bogføring!$E:$E,\"=\"&$P$5,Bogføring!$D:$D,\"=\"&A21)","v":0}]
[17,"Knud K. Pallesen","Weidekampsgade 29, 5.tv.",2300,"København S.",35391251,"kpallesen@gmail.com",null,null,17,{"$f":"IF(L22=0,\"\",INDEX(Bogføring!$A:$A,MATCH(Tabel2[[#This Row],[Medl.nr. :]],Bogføring!$D:$D,0),0))","v":"2016-03-31"},{"$f":"SUMIFS(Bogføring!H:H,Bogføring!E:E,\"=\"&$L$5,Bogføring!D:D,\"=\"&A22)","v":175},{"$f":"IF(N22=0,\"\",SUMIFS(Bogføring!A:A,Bogføring!E:E,\"=\"&$N$5,Bogføring!D:D,\"=\"&A22))","v":"2020-08-28"},{"$f":"SUMIFS(Bogføring!H:H,Bogføring!E:E,\"=\"&$N$5,Bogføring!D:D,\"=\"&A22)","v":175},{"$f":"IF(N22=0,\"\",SUMIFS(Bogføring!$A:$A,Bogføring!$E:$E,\"=\"&$P$5,Bogføring!$D:$D,\"=\"&A22))","v":0},{"$f":"SUMIFS(Bogføring!$H:$H,Bogføring!$E:$E,\"=\"&$P$5,Bogføring!$D:$D,\"=\"&A22)","v":0}]
[18,"Kristian Hofgaard","Kong Georgs Vej 54, I.tv.",2000,"Frederiksberg",null,"hofgaardkristian@gmail.com",null,null,18,{"$f":"IF(L23=0,\"\",INDEX(Bogføring!$A:$A,MATCH(Tabel2[[#This Row],[Medl.nr. :]],Bogføring!$D:$D,0),0))","v":"2015-11-16"},{"$f":"SUMIFS(Bogføring!H:H,Bogføring!E:E,\"=\"&$L$5,Bogføring!D:D,\"=\"&A23)","v":175},{"$f":"IF(N23=0,\"\",SUMIFS(Bogføring!A:A,Bogføring!E:E,\"=\"&$N$5,Bogføring!D:D,\"=\"&A23))","v":"2020-08-31"},{"$f":"SUMIFS(Bogføring!H:H,Bogføring!E:E,\"=\"&$N$5,Bogføring!D:D,\"=\"&A23)","v":175},{"$f":"IF(N23=0,\"\",SUMIFS(Bogføring!$A:$A,Bogføring!$E:$E,\"=\"&$P$5,Bogføring!$D:$D,\"=\"&A23))","v":0},{"$f":"SUMIFS(Bogføring!$H:$H,Bogføring!$E:$E,\"=\"&$P$5,Bogføring!$D:$D,\"=\"&A23)","v":0}]
[19,"Søren Bech Jensen","Østergade 46 b, ",3700,"Rønne",null,"sbjdansk@gmail.com",null,null,19,{"$f":"IF(L24=0,\"\",INDEX(Bogføring!$A:$A,MATCH(Tabel2[[#This Row],[Medl.nr. :]],Bogføring!$D:$D,0),0))","v":"2015-03-11"},{"$f":"SUMIFS(Bogføring!H:H,Bogføring!E:E,\"=\"&$L$5,Bogføring!D:D,\"=\"&A24)","v":175},{"$f":"IF(N24=0,\"\",SUMIFS(Bogføring!A:A,Bogføring!E:E,\"=\"&$N$5,Bogføring!D:D,\"=\"&A24))","v":"2020-08-07"},{"$f":"SUMIFS(Bogføring!H:H,Bogføring!E:E,\"=\"&$N$5,Bogføring!D:D,\"=\"&A24)","v":175},{"$f":"IF(N24=0,\"\",SUMIFS(Bogføring!$A:$A,Bogføring!$E:$E,\"=\"&$P$5,Bogføring!$D:$D,\"=\"&A24))","v":0},{"$f":"SUMIFS(Bogføring!$H:$H,Bogføring!$E:$E,\"=\"&$P$5,Bogføring!$D:$D,\"=\"&A24)","v":0}]
[20,"Peder Jon Andersen","Gartnerhaven 8",2800,"Kgs. Lyngby",null,"peajay@pc.dk",null,null,20,{"$f":"IF(L25=0,\"\",INDEX(Bogføring!$A:$A,MATCH(Tabel2[[#This Row],[Medl.nr. :]],Bogføring!$D:$D,0),0))","v":""},{"$f":"SUMIFS(Bogføring!H:H,Bogføring!E:E,\"=\"&$L$5,Bogføring!D:D,\"=\"&A25)","v":0},{"$f":"IF(N25=0,\"\",SUMIFS(Bogføring!A:A,Bogføring!E:E,\"=\"&$N$5,Bogføring!D:D,\"=\"&A25))","v":""},{"$f":"SUMIFS(Bogføring!H:H,Bogføring!E:E,\"=\"&$N$5,Bogføring!D:D,\"=\"&A25)","v":0},{"$f":"IF(N25=0,\"\",SUMIFS(Bogføring!$A:$A,Bogføring!$E:$E,\"=\"&$P$5,Bogføring!$D:$D,\"=\"&A25))","v":""},{"$f":"SUMIFS(Bogføring!$H:$H,Bogføring!$E:$E,\"=\"&$P$5,Bogføring!$D:$D,\"=\"&A25)","v":0}]
[21,"Kaj E. Boesen","Birkevej 20",3770,"Allinge",null,"kaje.boesen@gmail.com",null,"Frivillig",21,{"$f":"IF(L26=0,\"\",INDEX(Bogføring!$A:$A,MATCH(Tabel2[[#This Row],[Medl.nr. :]],Bogføring!$D:$D,0),0))","v":"2015-04-07"},{"$f":"SUMIFS(Bogføring!H:H,Bogføring!E:E,\"=\"&$L$5,Bogføring!D:D,\"=\"&A26)","v":175},{"$f":"IF(N26=0,\"\",SUMIFS(Bogføring!A:A,Bogføring!E:E,\"=\"&$N$5,Bogføring!D:D,\"=\"&A26))","v":"2020-07-01"},{"$f":"SUMIFS(Bogføring!H:H,Bogføring!E:E,\"=\"&$N$5,Bogføring!D:D,\"=\"&A26)","v":175},{"$f":"IF(N26=0,\"\",SUMIFS(Bogføring!$A:$A,Bogføring!$E:$E,\"=\"&$P$5,Bogføring!$D:$D,\"=\"&A26))","v":0},{"$f":"SUMIFS(Bogføring!$H:$H,Bogføring!$E:$E,\"=\"&$P$5,Bogføring!$D:$D,\"=\"&A26)","v":0}]
[22,"Jørn-Ole Lund","Borgmester Nielsensvej 84",3700,"Rønne",null,"jomlund@hotmail.com",null,"Pluggegårdsvej 25, Nyker",22,{"$f":"IF(L27=0,\"\",INDEX(Bogføring!$A:$A,MATCH(Tabel2[[#This Row],[Medl.nr. :]],Bogføring!$D:$D,0),0))","v":""},{"$f":"SUMIFS(Bogføring!H:H,Bogføring!E:E,\"=\"&$L$5,Bogføring!D:D,\"=\"&A27)","v":0},{"$f":"IF(N27=0,\"\",SUMIFS(Bogføring!A:A,Bogføring!E:E,\"=\"&$N$5,Bogføring!D:D,\"=\"&A27))","v":""},{"$f":"SUMIFS(Bogføring!H:H,Bogføring!E:E,\"=\"&$N$5,Bogføring!D:D,\"=\"&A27)","v":0},{"$f":"IF(N27=0,\"\",SUMIFS(Bogføring!$A:$A,Bogføring!$E:$E,\"=\"&$P$5,Bogføring!$D:$D,\"=\"&A27))","v":""},{"$f":"SUMIFS(Bogføring!$H:$H,Bogføring!$E:$E,\"=\"&$P$5,Bogføring!$D:$D,\"=\"&A27)","v":0}]
[23,"Henrik H. Poulsen","Kirkebyvej 46",3751,"Østermarie",null,"hhp@cabh.dk",null,null,23,{"$f":"IF(L28=0,\"\",INDEX(Bogføring!$A:$A,MATCH(Tabel2[[#This Row],[Medl.nr. :]],Bogføring!$D:$D,0),0))","v":"2015-04-08"},{"$f":"SUMIFS(Bogføring!H:H,Bogføring!E:E,\"=\"&$L$5,Bogføring!D:D,\"=\"&A28)","v":175},{"$f":"IF(N28=0,\"\",SUMIFS(Bogføring!A:A,Bogføring!E:E,\"=\"&$N$5,Bogføring!D:D,\"=\"&A28))","v":"2020-08-10"},{"$f":"SUMIFS(Bogføring!H:H,Bogføring!E:E,\"=\"&$N$5,Bogføring!D:D,\"=\"&A28)","v":175},{"$f":"IF(N28=0,\"\",SUMIFS(Bogføring!$A:$A,Bogføring!$E:$E,\"=\"&$P$5,Bogføring!$D:$D,\"=\"&A28))","v":0},{"$f":"SUMIFS(Bogføring!$H:$H,Bogføring!$E:$E,\"=\"&$P$5,Bogføring!$D:$D,\"=\"&A28)","v":0}]
[24,"Knud og Randi Veje","Teglgårdsvej 12",3700,"Rønne",null,"rkveje@pc.dk",null,null,24,{"$f":"IF(L29=0,\"\",INDEX(Bogføring!$A:$A,MATCH(Tabel2[[#This Row],[Medl.nr. :]],Bogføring!$D:$D,0),0))","v":"2015-04-27"},{"$f":"SUMIFS(Bogføring!H:H,Bogføring!E:E,\"=\"&$L$5,Bogføring!D:D,\"=\"&A29)","v":175},{"$f":"IF(N29=0,\"\",SUMIFS(Bogføring!A:A,Bogføring!E:E,\"=\"&$N$5,Bogføring!D:D,\"=\"&A29))","v":"2020-08-14"},{"$f":"SUMIFS(Bogføring!H:H,Bogføring!E:E,\"=\"&$N$5,Bogføring!D:D,\"=\"&A29)","v":175},{"$f":"IF(N29=0,\"\",SUMIFS(Bogføring!$A:$A,Bogføring!$E:$E,\"=\"&$P$5,Bogføring!$D:$D,\"=\"&A29))","v":0},{"$f":"SUMIFS(Bogføring!$H:$H,Bogføring!$E:$E,\"=\"&$P$5,Bogføring!$D:$D,\"=\"&A29)","v":0}]
[25,"John Bloch Andersen","Tornegård, Almegårdsvej 12",3700,"Rønne",21612882,"bloch44@hotmail.com",null,"Paradisvej 11, -10",25,{"$f":"IF(L30=0,\"\",INDEX(Bogføring!$A:$A,MATCH(Tabel2[[#This Row],[Medl.nr. :]],Bogføring!$D:$D,0),0))","v":"2015-04-21"},{"$f":"SUMIFS(Bogføring!H:H,Bogføring!E:E,\"=\"&$L$5,Bogføring!D:D,\"=\"&A30)","v":175},{"$f":"IF(N30=0,\"\",SUMIFS(Bogføring!A:A,Bogføring!E:E,\"=\"&$N$5,Bogføring!D:D,\"=\"&A30))","v":"2020-08-25"},{"$f":"SUMIFS(Bogføring!H:H,Bogføring!E:E,\"=\"&$N$5,Bogføring!D:D,\"=\"&A30)","v":175},{"$f":"IF(N30=0,\"\",SUMIFS(Bogføring!$A:$A,Bogføring!$E:$E,\"=\"&$P$5,Bogføring!$D:$D,\"=\"&A30))","v":0},{"$f":"SUMIFS(Bogføring!$H:$H,Bogføring!$E:$E,\"=\"&$P$5,Bogføring!$D:$D,\"=\"&A30)","v":0}]
[26,"Margrethe & Jørn Birk","Sdr. Landevej 47, Aaker",3720,"Åkirkeby",56974743,"aakervvs@os.dk",null,null,26,{"$f":"IF(L31=0,\"\",INDEX(Bogføring!$A:$A,MATCH(Tabel2[[#This Row],[Medl.nr. :]],Bogføring!$D:$D,0),0))","v":"2015-11-18"},{"$f":"SUMIFS(Bogføring!H:H,Bogføring!E:E,\"=\"&$L$5,Bogføring!D:D,\"=\"&A31)","v":175},{"$f":"IF(N31=0,\"\",SUMIFS(Bogføring!A:A,Bogføring!E:E,\"=\"&$N$5,Bogføring!D:D,\"=\"&A31))","v":""},{"$f":"SUMIFS(Bogføring!H:H,Bogføring!E:E,\"=\"&$N$5,Bogføring!D:D,\"=\"&A31)","v":0},{"$f":"IF(N31=0,\"\",SUMIFS(Bogføring!$A:$A,Bogføring!$E:$E,\"=\"&$P$5,Bogføring!$D:$D,\"=\"&A31))","v":""},{"$f":"SUMIFS(Bogføring!$H:$H,Bogføring!$E:$E,\"=\"&$P$5,Bogføring!$D:$D,\"=\"&A31)","v":0}]
[27,"Helge Holst","Bramsnæslund 12 Ejby",4070,"Kirke Hylling",null,"helgeaholst@gmail.com",null,null,27,{"$f":"IF(L32=0,\"\",INDEX(Bogføring!$A:$A,MATCH(Tabel2[[#This Row],[Medl.nr. :]],Bogføring!$D:$D,0),0))","v":"2016-10-13"},{"$f":"SUMIFS(Bogføring!H:H,Bogføring!E:E,\"=\"&$L$5,Bogføring!D:D,\"=\"&A32)","v":175},{"$f":"IF(N32=0,\"\",SUMIFS(Bogføring!A:A,Bogføring!E:E,\"=\"&$N$5,Bogføring!D:D,\"=\"&A32))","v":""},{"$f":"SUMIFS(Bogføring!H:H,Bogføring!E:E,\"=\"&$N$5,Bogføring!D:D,\"=\"&A32)","v":0},{"$f":"IF(N32=0,\"\",SUMIFS(Bogføring!$A:$A,Bogføring!$E:$E,\"=\"&$P$5,Bogføring!$D:$D,\"=\"&A32))","v":""},{"$f":"SUMIFS(Bogføring!$H:$H,Bogføring!$E:$E,\"=\"&$P$5,Bogføring!$D:$D,\"=\"&A32)","v":0}]
[28,"Lars T. Jensen","Poul Ankersvej 17",3700,"Rønne",null,"bltjacn@gmail.com",null,null,28,{"$f":"IF(L33=0,\"\",INDEX(Bogføring!$A:$A,MATCH(Tabel2[[#This Row],[Medl.nr. :]],Bogføring!$D:$D,0),0))","v":"2015-11-17"},{"$f":"SUMIFS(Bogføring!H:H,Bogføring!E:E,\"=\"&$L$5,Bogføring!D:D,\"=\"&A33)","v":175},{"$f":"IF(N33=0,\"\",SUMIFS(Bogføring!A:A,Bogføring!E:E,\"=\"&$N$5,Bogføring!D:D,\"=\"&A33))","v":""},{"$f":"SUMIFS(Bogføring!H:H,Bogføring!E:E,\"=\"&$N$5,Bogføring!D:D,\"=\"&A33)","v":0},{"$f":"IF(N33=0,\"\",SUMIFS(Bogføring!$A:$A,Bogføring!$E:$E,\"=\"&$P$5,Bogføring!$D:$D,\"=\"&A33))","v":""},{"$f":"SUMIFS(Bogføring!$H:$H,Bogføring!$E:$E,\"=\"&$P$5,Bogføring!$D:$D,\"=\"&A33)","v":0}]
[30,"Grethe og Finn J.H. Carlsen","Brøndshøj 7",3700,"Rønne",56950212,"finnc@post12.tele.dk",null,null,30,{"$f":"IF(L34=0,\"\",INDEX(Bogføring!$A:$A,MATCH(Tabel2[[#This Row],[Medl.nr. :]],Bogføring!$D:$D,0),0))","v":"2015-07-01"},{"$f":"SUMIFS(Bogføring!H:H,Bogføring!E:E,\"=\"&$L$5,Bogføring!D:D,\"=\"&A34)","v":175},{"$f":"IF(N34=0,\"\",SUMIFS(Bogføring!A:A,Bogføring!E:E,\"=\"&$N$5,Bogføring!D:D,\"=\"&A34))","v":"2020-08-28"},{"$f":"SUMIFS(Bogføring!H:H,Bogføring!E:E,\"=\"&$N$5,Bogføring!D:D,\"=\"&A34)","v":175},{"$f":"IF(N34=0,\"\",SUMIFS(Bogføring!$A:$A,Bogføring!$E:$E,\"=\"&$P$5,Bogføring!$D:$D,\"=\"&A34))","v":0},{"$f":"SUMIFS(Bogføring!$H:$H,Bogføring!$E:$E,\"=\"&$P$5,Bogføring!$D:$D,\"=\"&A34)","v":0}]
[31,"Ivar Jørgensen","Havnebryggen 1",3740,"Svaneke",null,"havnebryggen@gmail.com",null,null,31,{"$f":"IF(L35=0,\"\",INDEX(Bogføring!$A:$A,MATCH(Tabel2[[#This Row],[Medl.nr. :]],Bogføring!$D:$D,0),0))","v":"2015-09-07"},{"$f":"SUMIFS(Bogføring!H:H,Bogføring!E:E,\"=\"&$L$5,Bogføring!D:D,\"=\"&A35)","v":175},{"$f":"IF(N35=0,\"\",SUMIFS(Bogføring!A:A,Bogføring!E:E,\"=\"&$N$5,Bogføring!D:D,\"=\"&A35))","v":"2020-08-10"},{"$f":"SUMIFS(Bogføring!H:H,Bogføring!E:E,\"=\"&$N$5,Bogføring!D:D,\"=\"&A35)","v":175},{"$f":"IF(N35=0,\"\",SUMIFS(Bogføring!$A:$A,Bogføring!$E:$E,\"=\"&$P$5,Bogføring!$D:$D,\"=\"&A35))","v":0},{"$f":"SUMIFS(Bogføring!$H:$H,Bogføring!$E:$E,\"=\"&$P$5,Bogføring!$D:$D,\"=\"&A35)","v":0}]
[32,"Carsten Gjessing","Kirkepladsen 6",3700,"Rønne",null,"oz4cg@post3.tele.dk",null,null,32,{"$f":"IF(L36=0,\"\",INDEX(Bogføring!$A:$A,MATCH(Tabel2[[#This Row],[Medl.nr. :]],Bogføring!$D:$D,0),0))","v":"2015-10-05"},{"$f":"SUMIFS(Bogføring!H:H,Bogføring!E:E,\"=\"&$L$5,Bogføring!D:D,\"=\"&A36)","v":175},{"$f":"IF(N36=0,\"\",SUMIFS(Bogføring!A:A,Bogføring!E:E,\"=\"&$N$5,Bogføring!D:D,\"=\"&A36))","v":"2020-08-31"},{"$f":"SUMIFS(Bogføring!H:H,Bogføring!E:E,\"=\"&$N$5,Bogføring!D:D,\"=\"&A36)","v":175},{"$f":"IF(N36=0,\"\",SUMIFS(Bogføring!$A:$A,Bogføring!$E:$E,\"=\"&$P$5,Bogføring!$D:$D,\"=\"&A36))","v":0},{"$f":"SUMIFS(Bogføring!$H:$H,Bogføring!$E:$E,\"=\"&$P$5,Bogføring!$D:$D,\"=\"&A36)","v":0}]
[33,"Jan Kristiansen","Bækken 21",3700,"Rønne",null,"jandor51@youmail.dk",null,"Solbakkevej 4",33,{"$f":"IF(L37=0,\"\",INDEX(Bogføring!$A:$A,MATCH(Tabel2[[#This Row],[Medl.nr. :]],Bogføring!$D:$D,0),0))","v":"2015-04-09"},{"$f":"SUMIFS(Bogføring!H:H,Bogføring!E:E,\"=\"&$L$5,Bogføring!D:D,\"=\"&A37)","v":175},{"$f":"IF(N37=0,\"\",SUMIFS(Bogføring!A:A,Bogføring!E:E,\"=\"&$N$5,Bogføring!D:D,\"=\"&A37))","v":"2020-09-28"},{"$f":"SUMIFS(Bogføring!H:H,Bogføring!E:E,\"=\"&$N$5,Bogføring!D:D,\"=\"&A37)","v":175},{"$f":"IF(N37=0,\"\",SUMIFS(Bogføring!$A:$A,Bogføring!$E:$E,\"=\"&$P$5,Bogføring!$D:$D,\"=\"&A37))","v":0},{"$f":"SUMIFS(Bogføring!$H:$H,Bogføring!$E:$E,\"=\"&$P$5,Bogføring!$D:$D,\"=\"&A37)","v":0}]
[34,"Elin og Hans Jørgen Brandt","Præstegårdsvejen 7, Vestermarie",3700,"Rønne",null,"maresoe@hotmail.com",null,null,{"$f":"IF(A38=\"\",\"\",A38)","v":34},{"$f":"IF(L38=0,\"\",INDEX(Bogføring!$A:$A,MATCH(Tabel2[[#This Row],[Medl.nr. :]],Bogføring!$D:$D,0),0))","v":"2015-10-02"},{"$f":"SUMIFS(Bogføring!H:H,Bogføring!E:E,\"=\"&$L$5,Bogføring!D:D,\"=\"&A38)","v":175},{"$f":"IF(N38=0,\"\",SUMIFS(Bogføring!A:A,Bogføring!E:E,\"=\"&$N$5,Bogføring!D:D,\"=\"&A38))","v":"2020-09-02"},{"$f":"SUMIFS(Bogføring!H:H,Bogføring!E:E,\"=\"&$N$5,Bogføring!D:D,\"=\"&A38)","v":175},{"$f":"IF(N38=0,\"\",SUMIFS(Bogføring!$A:$A,Bogføring!$E:$E,\"=\"&$P$5,Bogføring!$D:$D,\"=\"&A38))","v":0},{"$f":"SUMIFS(Bogføring!$H:$H,Bogføring!$E:$E,\"=\"&$P$5,Bogføring!$D:$D,\"=\"&A38)","v":0}]
[35,"Niels Chr. Garde","Mulebyvej 24",3700,"Rønne",null,"niels-garde@hotmail.com",null,null,35,{"$f":"IF(L39=0,\"\",INDEX(Bogføring!$A:$A,MATCH(Tabel2[[#This Row],[Medl.nr. :]],Bogføring!$D:$D,0),0))","v":""},{"$f":"SUMIFS(Bogføring!H:H,Bogføring!E:E,\"=\"&$L$5,Bogføring!D:D,\"=\"&A39)","v":0},{"$f":"IF(N39=0,\"\",SUMIFS(Bogføring!A:A,Bogføring!E:E,\"=\"&$N$5,Bogføring!D:D,\"=\"&A39))","v":""},{"$f":"SUMIFS(Bogføring!H:H,Bogføring!E:E,\"=\"&$N$5,Bogføring!D:D,\"=\"&A39)","v":0},{"$f":"IF(N39=0,\"\",SUMIFS(Bogføring!$A:$A,Bogføring!$E:$E,\"=\"&$P$5,Bogføring!$D:$D,\"=\"&A39))","v":""},{"$f":"SUMIFS(Bogføring!$H:$H,Bogføring!$E:$E,\"=\"&$P$5,Bogføring!$D:$D,\"=\"&A39)","v":0}]
[36,"Connie og Flemming Lykke Koch","Møllevænget 11, Nyker",3700,"Rønne",20186030,"flkoch@outlook.com",null,null,36,{"$f":"IF(L40=0,\"\",INDEX(Bogføring!$A:$A,MATCH(Tabel2[[#This Row],[Medl.nr. :]],Bogføring!$D:$D,0),0))","v":"2015-11-19"},{"$f":"SUMIFS(Bogføring!H:H,Bogføring!E:E,\"=\"&$L$5,Bogføring!D:D,\"=\"&A40)","v":175},{"$f":"IF(N40=0,\"\",SUMIFS(Bogføring!A:A,Bogføring!E:E,\"=\"&$N$5,Bogføring!D:D,\"=\"&A40))","v":"2020-10-02"},{"$f":"SUMIFS(Bogføring!H:H,Bogføring!E:E,\"=\"&$N$5,Bogføring!D:D,\"=\"&A40)","v":175},{"$f":"IF(N40=0,\"\",SUMIFS(Bogføring!$A:$A,Bogføring!$E:$E,\"=\"&$P$5,Bogføring!$D:$D,\"=\"&A40))","v":0},{"$f":"SUMIFS(Bogføring!$H:$H,Bogføring!$E:$E,\"=\"&$P$5,Bogføring!$D:$D,\"=\"&A40)","v":0}]
[37,"Erik Andersen","Malmøvej 26",3700,"Rønne",null,"erik-ag@mail.dk ",null,null,37,{"$f":"IF(L41=0,\"\",INDEX(Bogføring!$A:$A,MATCH(Tabel2[[#This Row],[Medl.nr. :]],Bogføring!$D:$D,0),0))","v":""},{"$f":"SUMIFS(Bogføring!H:H,Bogføring!E:E,\"=\"&$L$5,Bogføring!D:D,\"=\"&A41)","v":0},{"$f":"IF(N41=0,\"\",SUMIFS(Bogføring!A:A,Bogføring!E:E,\"=\"&$N$5,Bogføring!D:D,\"=\"&A41))","v":""},{"$f":"SUMIFS(Bogføring!H:H,Bogføring!E:E,\"=\"&$N$5,Bogføring!D:D,\"=\"&A41)","v":0},{"$f":"IF(N41=0,\"\",SUMIFS(Bogføring!$A:$A,Bogføring!$E:$E,\"=\"&$P$5,Bogføring!$D:$D,\"=\"&A41))","v":""},{"$f":"SUMIFS(Bogføring!$H:$H,Bogføring!$E:$E,\"=\"&$P$5,Bogføring!$D:$D,\"=\"&A41)","v":0}]
[38,"Holger Pii","Byvangen 37",3700,"Rønne",null,"hpii@city.dk",null,null,38,{"$f":"IF(L42=0,\"\",INDEX(Bogføring!$A:$A,MATCH(Tabel2[[#This Row],[Medl.nr. :]],Bogføring!$D:$D,0),0))","v":"2015-10-20"},{"$f":"SUMIFS(Bogføring!H:H,Bogføring!E:E,\"=\"&$L$5,Bogføring!D:D,\"=\"&A42)","v":175},{"$f":"IF(N42=0,\"\",SUMIFS(Bogføring!A:A,Bogføring!E:E,\"=\"&$N$5,Bogføring!D:D,\"=\"&A42))","v":"2020-08-17"},{"$f":"SUMIFS(Bogføring!H:H,Bogføring!E:E,\"=\"&$N$5,Bogføring!D:D,\"=\"&A42)","v":175},{"$f":"IF(N42=0,\"\",SUMIFS(Bogføring!$A:$A,Bogføring!$E:$E,\"=\"&$P$5,Bogføring!$D:$D,\"=\"&A42))","v":0},{"$f":"SUMIFS(Bogføring!$H:$H,Bogføring!$E:$E,\"=\"&$P$5,Bogføring!$D:$D,\"=\"&A42)","v":0}]
[39,"Bente Kofod","Østergade 44 C",3700,"Rønne",24402236,"bhkofod@email.dk",null,null,39,{"$f":"IF(L43=0,\"\",INDEX(Bogføring!$A:$A,MATCH(Tabel2[[#This Row],[Medl.nr. :]],Bogføring!$D:$D,0),0))","v":""},{"$f":"SUMIFS(Bogføring!H:H,Bogføring!E:E,\"=\"&$L$5,Bogføring!D:D,\"=\"&A43)","v":0},{"$f":"IF(N43=0,\"\",SUMIFS(Bogføring!A:A,Bogføring!E:E,\"=\"&$N$5,Bogføring!D:D,\"=\"&A43))","v":""},{"$f":"SUMIFS(Bogføring!H:H,Bogføring!E:E,\"=\"&$N$5,Bogføring!D:D,\"=\"&A43)","v":0},{"$f":"IF(N43=0,\"\",SUMIFS(Bogføring!$A:$A,Bogføring!$E:$E,\"=\"&$P$5,Bogføring!$D:$D,\"=\"&A43))","v":""},{"$f":"SUMIFS(Bogføring!$H:$H,Bogføring!$E:$E,\"=\"&$P$5,Bogføring!$D:$D,\"=\"&A43)","v":0}]
[40,"Jens Baunsgaard","Teglkåsvej 36, Rutsker",3790,"Hasle",null,"j_baunsgaard@hotmail.com",null,null,40,{"$f":"IF(L44=0,\"\",INDEX(Bogføring!$A:$A,MATCH(Tabel2[[#This Row],[Medl.nr. :]],Bogføring!$D:$D,0),0))","v":""},{"$f":"SUMIFS(Bogføring!H:H,Bogføring!E:E,\"=\"&$L$5,Bogføring!D:D,\"=\"&A44)","v":0},{"$f":"IF(N44=0,\"\",SUMIFS(Bogføring!A:A,Bogføring!E:E,\"=\"&$N$5,Bogføring!D:D,\"=\"&A44))","v":""},{"$f":"SUMIFS(Bogføring!H:H,Bogføring!E:E,\"=\"&$N$5,Bogføring!D:D,\"=\"&A44)","v":0},{"$f":"IF(N44=0,\"\",SUMIFS(Bogføring!$A:$A,Bogføring!$E:$E,\"=\"&$P$5,Bogføring!$D:$D,\"=\"&A44))","v":""},{"$f":"SUMIFS(Bogføring!$H:$H,Bogføring!$E:$E,\"=\"&$P$5,Bogføring!$D:$D,\"=\"&A44)","v":0}]
[41,"Charlotte Henriksen","Malmøvej 7",3700,"Rønne",null,"kim.charlotte@stofanet.dk",2018,null,41,{"$f":"IF(L45=0,\"\",INDEX(Bogføring!$A:$A,MATCH(Tabel2[[#This Row],[Medl.nr. :]],Bogføring!$D:$D,0),0))","v":"2015-09-08"},{"$f":"SUMIFS(Bogføring!H:H,Bogføring!E:E,\"=\"&$L$5,Bogføring!D:D,\"=\"&A45)","v":25},{"$f":"IF(N45=0,\"\",SUMIFS(Bogføring!A:A,Bogføring!E:E,\"=\"&$N$5,Bogføring!D:D,\"=\"&A45))","v":""},{"$f":"SUMIFS(Bogføring!H:H,Bogføring!E:E,\"=\"&$N$5,Bogføring!D:D,\"=\"&A45)","v":0},{"$f":"IF(N45=0,\"\",SUMIFS(Bogføring!$A:$A,Bogføring!$E:$E,\"=\"&$P$5,Bogføring!$D:$D,\"=\"&A45))","v":""},{"$f":"SUMIFS(Bogføring!$H:$H,Bogføring!$E:$E,\"=\"&$P$5,Bogføring!$D:$D,\"=\"&A45)","v":0}]
[42,"Hanne og Sten Hueg","Sofienborg, Lynggårdsvej 11, Olsker",3770,"Allinge",null,"sfhueg@godmail.dk",null,null,42,{"$f":"IF(L46=0,\"\",INDEX(Bogføring!$A:$A,MATCH(Tabel2[[#This Row],[Medl.nr. :]],Bogføring!$D:$D,0),0))","v":"2015-05-04"},{"$f":"SUMIFS(Bogføring!H:H,Bogføring!E:E,\"=\"&$L$5,Bogføring!D:D,\"=\"&A46)","v":175},{"$f":"IF(N46=0,\"\",SUMIFS(Bogføring!A:A,Bogføring!E:E,\"=\"&$N$5,Bogføring!D:D,\"=\"&A46))","v":"2020-08-31"},{"$f":"SUMIFS(Bogføring!H:H,Bogføring!E:E,\"=\"&$N$5,Bogføring!D:D,\"=\"&A46)","v":175},{"$f":"IF(N46=0,\"\",SUMIFS(Bogføring!$A:$A,Bogføring!$E:$E,\"=\"&$P$5,Bogføring!$D:$D,\"=\"&A46))","v":0},{"$f":"SUMIFS(Bogføring!$H:$H,Bogføring!$E:$E,\"=\"&$P$5,Bogføring!$D:$D,\"=\"&A46)","v":0}]
[43,"Zarina Tina Sose","Pilestræde 18",3700,"Rønne",null,"zizisose@outlook.dk",null,"Frivillig",43,{"$f":"IF(L47=0,\"\",INDEX(Bogføring!$A:$A,MATCH(Tabel2[[#This Row],[Medl.nr. :]],Bogføring!$D:$D,0),0))","v":"2015-12-29"},{"$f":"SUMIFS(Bogføring!H:H,Bogføring!E:E,\"=\"&$L$5,Bogføring!D:D,\"=\"&A47)","v":175},{"$f":"IF(N47=0,\"\",SUMIFS(Bogføring!A:A,Bogføring!E:E,\"=\"&$N$5,Bogføring!D:D,\"=\"&A47))","v":"2020-09-30"},{"$f":"SUMIFS(Bogføring!H:H,Bogføring!E:E,\"=\"&$N$5,Bogføring!D:D,\"=\"&A47)","v":175},{"$f":"IF(N47=0,\"\",SUMIFS(Bogføring!$A:$A,Bogføring!$E:$E,\"=\"&$P$5,Bogføring!$D:$D,\"=\"&A47))","v":0},{"$f":"SUMIFS(Bogføring!$H:$H,Bogføring!$E:$E,\"=\"&$P$5,Bogføring!$D:$D,\"=\"&A47)","v":0}]
[44,"Ole Bramsgaard","Borgergade 11",3700,"Rønne",21647153,"ole@bramsgaard.dk",null,null,44,{"$f":"IF(L48=0,\"\",INDEX(Bogføring!$A:$A,MATCH(Tabel2[[#This Row],[Medl.nr. :]],Bogføring!$D:$D,0),0))","v":""},{"$f":"SUMIFS(Bogføring!H:H,Bogføring!E:E,\"=\"&$L$5,Bogføring!D:D,\"=\"&A48)","v":0},{"$f":"IF(N48=0,\"\",SUMIFS(Bogføring!A:A,Bogføring!E:E,\"=\"&$N$5,Bogføring!D:D,\"=\"&A48))","v":""},{"$f":"SUMIFS(Bogføring!H:H,Bogføring!E:E,\"=\"&$N$5,Bogføring!D:D,\"=\"&A48)","v":0},{"$f":"IF(N48=0,\"\",SUMIFS(Bogføring!$A:$A,Bogføring!$E:$E,\"=\"&$P$5,Bogføring!$D:$D,\"=\"&A48))","v":""},{"$f":"SUMIFS(Bogføring!$H:$H,Bogføring!$E:$E,\"=\"&$P$5,Bogføring!$D:$D,\"=\"&A48)","v":0}]
[45,"Hanne Bærild Jacobsen","St. Torvegade 58",3700,"Rønne",null,"hbj0940@gmail.com",null,null,45,{"$f":"IF(L49=0,\"\",INDEX(Bogføring!$A:$A,MATCH(Tabel2[[#This Row],[Medl.nr. :]],Bogføring!$D:$D,0),0))","v":"2015-10-15"},{"$f":"SUMIFS(Bogføring!H:H,Bogføring!E:E,\"=\"&$L$5,Bogføring!D:D,\"=\"&A49)","v":175},{"$f":"IF(N49=0,\"\",SUMIFS(Bogføring!A:A,Bogføring!E:E,\"=\"&$N$5,Bogføring!D:D,\"=\"&A49))","v":"2020-08-26"},{"$f":"SUMIFS(Bogføring!H:H,Bogføring!E:E,\"=\"&$N$5,Bogføring!D:D,\"=\"&A49)","v":75},{"$f":"IF(N49=0,\"\",SUMIFS(Bogføring!$A:$A,Bogføring!$E:$E,\"=\"&$P$5,Bogføring!$D:$D,\"=\"&A49))","v":0},{"$f":"SUMIFS(Bogføring!$H:$H,Bogføring!$E:$E,\"=\"&$P$5,Bogføring!$D:$D,\"=\"&A49)","v":0}]
[46,"Anne og Niels-Kristian Pii","Langholmen 3",2630,"Tåstrup",null,"anne.pii@mail.dk",null,null,46,{"$f":"IF(L50=0,\"\",INDEX(Bogføring!$A:$A,MATCH(Tabel2[[#This Row],[Medl.nr. :]],Bogføring!$D:$D,0),0))","v":"2015-11-10"},{"$f":"SUMIFS(Bogføring!H:H,Bogføring!E:E,\"=\"&$L$5,Bogføring!D:D,\"=\"&A50)","v":175},{"$f":"IF(N50=0,\"\",SUMIFS(Bogføring!A:A,Bogføring!E:E,\"=\"&$N$5,Bogføring!D:D,\"=\"&A50))","v":"2020-08-13"},{"$f":"SUMIFS(Bogføring!H:H,Bogføring!E:E,\"=\"&$N$5,Bogføring!D:D,\"=\"&A50)","v":175},{"$f":"IF(N50=0,\"\",SUMIFS(Bogføring!$A:$A,Bogføring!$E:$E,\"=\"&$P$5,Bogføring!$D:$D,\"=\"&A50))","v":0},{"$f":"SUMIFS(Bogføring!$H:$H,Bogføring!$E:$E,\"=\"&$P$5,Bogføring!$D:$D,\"=\"&A50)","v":0}]
[47,"Arne V. Hansen","Gyldengårdsvej 5",3700,"Rønne",null,"arne.v@hansen.mail.dk",null,null,47,{"$f":"IF(L51=0,\"\",INDEX(Bogføring!$A:$A,MATCH(Tabel2[[#This Row],[Medl.nr. :]],Bogføring!$D:$D,0),0))","v":"2015-10-28"},{"$f":"SUMIFS(Bogføring!H:H,Bogføring!E:E,\"=\"&$L$5,Bogføring!D:D,\"=\"&A51)","v":175},{"$f":"IF(N51=0,\"\",SUMIFS(Bogføring!A:A,Bogføring!E:E,\"=\"&$N$5,Bogføring!D:D,\"=\"&A51))","v":"2020-08-07"},{"$f":"SUMIFS(Bogføring!H:H,Bogføring!E:E,\"=\"&$N$5,Bogføring!D:D,\"=\"&A51)","v":175},{"$f":"IF(N51=0,\"\",SUMIFS(Bogføring!$A:$A,Bogføring!$E:$E,\"=\"&$P$5,Bogføring!$D:$D,\"=\"&A51))","v":0},{"$f":"SUMIFS(Bogføring!$H:$H,Bogføring!$E:$E,\"=\"&$P$5,Bogføring!$D:$D,\"=\"&A51)","v":0}]
[48,"Marian og Holger Juul-Pedersen","Bagergade 1",3700,"Rønne",null,"juul-pedersen@hotmail.dk",null,null,48,{"$f":"IF(L52=0,\"\",INDEX(Bogføring!$A:$A,MATCH(Tabel2[[#This Row],[Medl.nr. :]],Bogføring!$D:$D,0),0))","v":"2015-04-07"},{"$f":"SUMIFS(Bogføring!H:H,Bogføring!E:E,\"=\"&$L$5,Bogføring!D:D,\"=\"&A52)","v":175},{"$f":"IF(N52=0,\"\",SUMIFS(Bogføring!A:A,Bogføring!E:E,\"=\"&$N$5,Bogføring!D:D,\"=\"&A52))","v":"2020-08-13"},{"$f":"SUMIFS(Bogføring!H:H,Bogføring!E:E,\"=\"&$N$5,Bogføring!D:D,\"=\"&A52)","v":175},{"$f":"IF(N52=0,\"\",SUMIFS(Bogføring!$A:$A,Bogføring!$E:$E,\"=\"&$P$5,Bogføring!$D:$D,\"=\"&A52))","v":0},{"$f":"SUMIFS(Bogføring!$H:$H,Bogføring!$E:$E,\"=\"&$P$5,Bogføring!$D:$D,\"=\"&A52)","v":0}]
[49,"C.U. Essemann-Beck","Sejersvej 29",3700,"Rønne",56955329,"essebeck3@gmail.com",null,null,49,{"$f":"IF(L53=0,\"\",INDEX(Bogføring!$A:$A,MATCH(Tabel2[[#This Row],[Medl.nr. :]],Bogføring!$D:$D,0),0))","v":""},{"$f":"SUMIFS(Bogføring!H:H,Bogføring!E:E,\"=\"&$L$5,Bogføring!D:D,\"=\"&A53)","v":0},{"$f":"IF(N53=0,\"\",SUMIFS(Bogføring!A:A,Bogføring!E:E,\"=\"&$N$5,Bogføring!D:D,\"=\"&A53))","v":""},{"$f":"SUMIFS(Bogføring!H:H,Bogføring!E:E,\"=\"&$N$5,Bogføring!D:D,\"=\"&A53)","v":0},{"$f":"IF(N53=0,\"\",SUMIFS(Bogføring!$A:$A,Bogføring!$E:$E,\"=\"&$P$5,Bogføring!$D:$D,\"=\"&A53))","v":""},{"$f":"SUMIFS(Bogføring!$H:$H,Bogføring!$E:$E,\"=\"&$P$5,Bogføring!$D:$D,\"=\"&A53)","v":0}]
[50,"Erik A. Larsen","Svanekevej 60",3700,"Rønne",56953180,"erik.a.larsen@mail.dk",null,null,50,{"$f":"IF(L54=0,\"\",INDEX(Bogføring!$A:$A,MATCH(Tabel2[[#This Row],[Medl.nr. :]],Bogføring!$D:$D,0),0))","v":"2015-11-19"},{"$f":"SUMIFS(Bogføring!H:H,Bogføring!E:E,\"=\"&$L$5,Bogføring!D:D,\"=\"&A54)","v":175},{"$f":"IF(N54=0,\"\",SUMIFS(Bogføring!A:A,Bogføring!E:E,\"=\"&$N$5,Bogføring!D:D,\"=\"&A54))","v":""},{"$f":"SUMIFS(Bogføring!H:H,Bogføring!E:E,\"=\"&$N$5,Bogføring!D:D,\"=\"&A54)","v":0},{"$f":"IF(N54=0,\"\",SUMIFS(Bogføring!$A:$A,Bogføring!$E:$E,\"=\"&$P$5,Bogføring!$D:$D,\"=\"&A54))","v":""},{"$f":"SUMIFS(Bogføring!$H:$H,Bogføring!$E:$E,\"=\"&$P$5,Bogføring!$D:$D,\"=\"&A54)","v":0}]
[51,"Finn Jakobsen","Toftekrogen 2",3790,"Hasle",null,"finn@stortuen.dk",null,null,51,{"$f":"IF(L55=0,\"\",INDEX(Bogføring!$A:$A,MATCH(Tabel2[[#This Row],[Medl.nr. :]],Bogføring!$D:$D,0),0))","v":"2015-09-29"},{"$f":"SUMIFS(Bogføring!H:H,Bogføring!E:E,\"=\"&$L$5,Bogføring!D:D,\"=\"&A55)","v":175},{"$f":"IF(N55=0,\"\",SUMIFS(Bogføring!A:A,Bogføring!E:E,\"=\"&$N$5,Bogføring!D:D,\"=\"&A55))","v":"2020-09-14"},{"$f":"SUMIFS(Bogføring!H:H,Bogføring!E:E,\"=\"&$N$5,Bogføring!D:D,\"=\"&A55)","v":175},{"$f":"IF(N55=0,\"\",SUMIFS(Bogføring!$A:$A,Bogføring!$E:$E,\"=\"&$P$5,Bogføring!$D:$D,\"=\"&A55))","v":0},{"$f":"SUMIFS(Bogføring!$H:$H,Bogføring!$E:$E,\"=\"&$P$5,Bogføring!$D:$D,\"=\"&A55)","v":0}]
[52,"Jens Kofod","Søndre Mosevej 2, Snogebæk",3730,"Nexø",22115310,"jenskofod@outlook.com",null,null,52,{"$f":"IF(L56=0,\"\",INDEX(Bogføring!$A:$A,MATCH(Tabel2[[#This Row],[Medl.nr. :]],Bogføring!$D:$D,0),0))","v":"2016-09-05"},{"$f":"SUMIFS(Bogføring!H:H,Bogføring!E:E,\"=\"&$L$5,Bogføring!D:D,\"=\"&A56)","v":175},{"$f":"IF(N56=0,\"\",SUMIFS(Bogføring!A:A,Bogføring!E:E,\"=\"&$N$5,Bogføring!D:D,\"=\"&A56))","v":""},{"$f":"SUMIFS(Bogføring!H:H,Bogføring!E:E,\"=\"&$N$5,Bogføring!D:D,\"=\"&A56)","v":0},{"$f":"IF(N56=0,\"\",SUMIFS(Bogføring!$A:$A,Bogføring!$E:$E,\"=\"&$P$5,Bogføring!$D:$D,\"=\"&A56))","v":""},{"$f":"SUMIFS(Bogføring!$H:$H,Bogføring!$E:$E,\"=\"&$P$5,Bogføring!$D:$D,\"=\"&A56)","v":0}]
[53,"Jørn Ole Jensen","Højegårdsvej 9",3700,"Rønne",null,"joj74@icloud.com",null,null,53,{"$f":"IF(L57=0,\"\",INDEX(Bogføring!$A:$A,MATCH(Tabel2[[#This Row],[Medl.nr. :]],Bogføring!$D:$D,0),0))","v":"2015-10-02"},{"$f":"SUMIFS(Bogføring!H:H,Bogføring!E:E,\"=\"&$L$5,Bogføring!D:D,\"=\"&A57)","v":175},{"$f":"IF(N57=0,\"\",SUMIFS(Bogføring!A:A,Bogføring!E:E,\"=\"&$N$5,Bogføring!D:D,\"=\"&A57))","v":""},{"$f":"SUMIFS(Bogføring!H:H,Bogføring!E:E,\"=\"&$N$5,Bogføring!D:D,\"=\"&A57)","v":0},{"$f":"IF(N57=0,\"\",SUMIFS(Bogføring!$A:$A,Bogføring!$E:$E,\"=\"&$P$5,Bogføring!$D:$D,\"=\"&A57))","v":""},{"$f":"SUMIFS(Bogføring!$H:$H,Bogføring!$E:$E,\"=\"&$P$5,Bogføring!$D:$D,\"=\"&A57)","v":0}]
[54,"Ole Ingvorsen","Duebjerggård, Simblegårdsvej 21",3790,"Hasle",null,"ole.ingvorsen40@gmail.com",null,null,54,{"$f":"IF(L58=0,\"\",INDEX(Bogføring!$A:$A,MATCH(Tabel2[[#This Row],[Medl.nr. :]],Bogføring!$D:$D,0),0))","v":""},{"$f":"SUMIFS(Bogføring!H:H,Bogføring!E:E,\"=\"&$L$5,Bogføring!D:D,\"=\"&A58)","v":0},{"$f":"IF(N58=0,\"\",SUMIFS(Bogføring!A:A,Bogføring!E:E,\"=\"&$N$5,Bogføring!D:D,\"=\"&A58))","v":""},{"$f":"SUMIFS(Bogføring!H:H,Bogføring!E:E,\"=\"&$N$5,Bogføring!D:D,\"=\"&A58)","v":0},{"$f":"IF(N58=0,\"\",SUMIFS(Bogføring!$A:$A,Bogføring!$E:$E,\"=\"&$P$5,Bogføring!$D:$D,\"=\"&A58))","v":""},{"$f":"SUMIFS(Bogføring!$H:$H,Bogføring!$E:$E,\"=\"&$P$5,Bogføring!$D:$D,\"=\"&A58)","v":0}]
[55,"Michael Berg Petersen","Lille Madsegade 123",3700,"Rønne",null,"mbpberg@image.dk",null,null,55,{"$f":"IF(L59=0,\"\",INDEX(Bogføring!$A:$A,MATCH(Tabel2[[#This Row],[Medl.nr. :]],Bogføring!$D:$D,0),0))","v":"2015-10-04"},{"$f":"SUMIFS(Bogføring!H:H,Bogføring!E:E,\"=\"&$L$5,Bogføring!D:D,\"=\"&A59)","v":175},{"$f":"IF(N59=0,\"\",SUMIFS(Bogføring!A:A,Bogføring!E:E,\"=\"&$N$5,Bogføring!D:D,\"=\"&A59))","v":"2020-09-01"},{"$f":"SUMIFS(Bogføring!H:H,Bogføring!E:E,\"=\"&$N$5,Bogføring!D:D,\"=\"&A59)","v":175},{"$f":"IF(N59=0,\"\",SUMIFS(Bogføring!$A:$A,Bogføring!$E:$E,\"=\"&$P$5,Bogføring!$D:$D,\"=\"&A59))","v":0},{"$f":"SUMIFS(Bogføring!$H:$H,Bogføring!$E:$E,\"=\"&$P$5,Bogføring!$D:$D,\"=\"&A59)","v":0}]
[56,"Hans Jørn Sonne","Tornegård, Hovedgårdsvejen 3",3720,"Åkirkeby",null,"Sellesborg@mail.tele.dk",null,null,56,{"$f":"IF(L60=0,\"\",INDEX(Bogføring!$A:$A,MATCH(Tabel2[[#This Row],[Medl.nr. :]],Bogføring!$D:$D,0),0))","v":""},{"$f":"SUMIFS(Bogføring!H:H,Bogføring!E:E,\"=\"&$L$5,Bogføring!D:D,\"=\"&A60)","v":0},{"$f":"IF(N60=0,\"\",SUMIFS(Bogføring!A:A,Bogføring!E:E,\"=\"&$N$5,Bogføring!D:D,\"=\"&A60))","v":""},{"$f":"SUMIFS(Bogføring!H:H,Bogføring!E:E,\"=\"&$N$5,Bogføring!D:D,\"=\"&A60)","v":0},{"$f":"IF(N60=0,\"\",SUMIFS(Bogføring!$A:$A,Bogføring!$E:$E,\"=\"&$P$5,Bogføring!$D:$D,\"=\"&A60))","v":""},{"$f":"SUMIFS(Bogføring!$H:$H,Bogføring!$E:$E,\"=\"&$P$5,Bogføring!$D:$D,\"=\"&A60)","v":0}]
[57,"Palle Roch Nielsen","Ugleengevejen 1",3720,"Åkirkeby",null,"palle@roch.dk",null,null,57,{"$f":"IF(L61=0,\"\",INDEX(Bogføring!$A:$A,MATCH(Tabel2[[#This Row],[Medl.nr. :]],Bogføring!$D:$D,0),0))","v":""},{"$f":"SUMIFS(Bogføring!H:H,Bogføring!E:E,\"=\"&$L$5,Bogføring!D:D,\"=\"&A61)","v":0},{"$f":"IF(N61=0,\"\",SUMIFS(Bogføring!A:A,Bogføring!E:E,\"=\"&$N$5,Bogføring!D:D,\"=\"&A61))","v":""},{"$f":"SUMIFS(Bogføring!H:H,Bogføring!E:E,\"=\"&$N$5,Bogføring!D:D,\"=\"&A61)","v":0},{"$f":"IF(N61=0,\"\",SUMIFS(Bogføring!$A:$A,Bogføring!$E:$E,\"=\"&$P$5,Bogføring!$D:$D,\"=\"&A61))","v":""},{"$f":"SUMIFS(Bogføring!$H:$H,Bogføring!$E:$E,\"=\"&$P$5,Bogføring!$D:$D,\"=\"&A61)","v":0}]
[58,"Per Erik Christiansen","Hellestien 3",8600,"Silkeborg",null,"hellestien3@yahoo.dk",null,null,58,{"$f":"IF(L62=0,\"\",INDEX(Bogføring!$A:$A,MATCH(Tabel2[[#This Row],[Medl.nr. :]],Bogføring!$D:$D,0),0))","v":"2015-11-09"},{"$f":"SUMIFS(Bogføring!H:H,Bogføring!E:E,\"=\"&$L$5,Bogføring!D:D,\"=\"&A62)","v":175},{"$f":"IF(N62=0,\"\",SUMIFS(Bogføring!A:A,Bogføring!E:E,\"=\"&$N$5,Bogføring!D:D,\"=\"&A62))","v":"2020-09-28"},{"$f":"SUMIFS(Bogføring!H:H,Bogføring!E:E,\"=\"&$N$5,Bogføring!D:D,\"=\"&A62)","v":175},{"$f":"IF(N62=0,\"\",SUMIFS(Bogføring!$A:$A,Bogføring!$E:$E,\"=\"&$P$5,Bogføring!$D:$D,\"=\"&A62))","v":0},{"$f":"SUMIFS(Bogføring!$H:$H,Bogføring!$E:$E,\"=\"&$P$5,Bogføring!$D:$D,\"=\"&A62)","v":0}]
[59,"Flemming Hansen","Bøllingsvej 15 D, st. th.,",4100,"Ringsted",22369745,"lifl@live.dk",null,null,59,{"$f":"IF(L63=0,\"\",INDEX(Bogføring!$A:$A,MATCH(Tabel2[[#This Row],[Medl.nr. :]],Bogføring!$D:$D,0),0))","v":"2015-10-13"},{"$f":"SUMIFS(Bogføring!H:H,Bogføring!E:E,\"=\"&$L$5,Bogføring!D:D,\"=\"&A63)","v":175},{"$f":"IF(N63=0,\"\",SUMIFS(Bogføring!A:A,Bogføring!E:E,\"=\"&$N$5,Bogføring!D:D,\"=\"&A63))","v":"2020-09-29"},{"$f":"SUMIFS(Bogføring!H:H,Bogføring!E:E,\"=\"&$N$5,Bogføring!D:D,\"=\"&A63)","v":175},{"$f":"IF(N63=0,\"\",SUMIFS(Bogføring!$A:$A,Bogføring!$E:$E,\"=\"&$P$5,Bogføring!$D:$D,\"=\"&A63))","v":0},{"$f":"SUMIFS(Bogføring!$H:$H,Bogføring!$E:$E,\"=\"&$P$5,Bogføring!$D:$D,\"=\"&A63)","v":0}]
[60,"Jørgen Ulrik Selmer","Østergade 2",3700,"Rønne",53656166,"joergenselmer@gmail.com",2018,null,60,{"$f":"IF(L64=0,\"\",INDEX(Bogføring!$A:$A,MATCH(Tabel2[[#This Row],[Medl.nr. :]],Bogføring!$D:$D,0),0))","v":"2015-09-30"},{"$f":"SUMIFS(Bogføring!H:H,Bogføring!E:E,\"=\"&$L$5,Bogføring!D:D,\"=\"&A64)","v":175},{"$f":"IF(N64=0,\"\",SUMIFS(Bogføring!A:A,Bogføring!E:E,\"=\"&$N$5,Bogføring!D:D,\"=\"&A64))","v":"2020-08-24"},{"$f":"SUMIFS(Bogføring!H:H,Bogføring!E:E,\"=\"&$N$5,Bogføring!D:D,\"=\"&A64)","v":175},{"$f":"IF(N64=0,\"\",SUMIFS(Bogføring!$A:$A,Bogføring!$E:$E,\"=\"&$P$5,Bogføring!$D:$D,\"=\"&A64))","v":0},{"$f":"SUMIFS(Bogføring!$H:$H,Bogføring!$E:$E,\"=\"&$P$5,Bogføring!$D:$D,\"=\"&A64)","v":0}]
[61,"Hans Hellisen","Slamrebjergvej 4, Bodilsker",3730,"Nexø",null,"hans.hellisen@get2net.dk",null,null,61,{"$f":"IF(L65=0,\"\",INDEX(Bogføring!$A:$A,MATCH(Tabel2[[#This Row],[Medl.nr. :]],Bogføring!$D:$D,0),0))","v":"2015-11-11"},{"$f":"SUMIFS(Bogføring!H:H,Bogføring!E:E,\"=\"&$L$5,Bogføring!D:D,\"=\"&A65)","v":175},{"$f":"IF(N65=0,\"\",SUMIFS(Bogføring!A:A,Bogføring!E:E,\"=\"&$N$5,Bogføring!D:D,\"=\"&A65))","v":""},{"$f":"SUMIFS(Bogføring!H:H,Bogføring!E:E,\"=\"&$N$5,Bogføring!D:D,\"=\"&A65)","v":0},{"$f":"IF(N65=0,\"\",SUMIFS(Bogføring!$A:$A,Bogføring!$E:$E,\"=\"&$P$5,Bogføring!$D:$D,\"=\"&A65))","v":""},{"$f":"SUMIFS(Bogføring!$H:$H,Bogføring!$E:$E,\"=\"&$P$5,Bogføring!$D:$D,\"=\"&A65)","v":0}]
[62,"Tommy Niels Bendtsen","Bodernevej 6",3720,"Åkirkeby",23274895,"Tommy25dk@gmail.com",2018,null,62,{"$f":"IF(L66=0,\"\",INDEX(Bogføring!$A:$A,MATCH(Tabel2[[#This Row],[Medl.nr. :]],Bogføring!$D:$D,0),0))","v":"2015-10-21"},{"$f":"SUMIFS(Bogføring!H:H,Bogføring!E:E,\"=\"&$L$5,Bogføring!D:D,\"=\"&A66)","v":175},{"$f":"IF(N66=0,\"\",SUMIFS(Bogføring!A:A,Bogføring!E:E,\"=\"&$N$5,Bogføring!D:D,\"=\"&A66))","v":"2020-08-07"},{"$f":"SUMIFS(Bogføring!H:H,Bogføring!E:E,\"=\"&$N$5,Bogføring!D:D,\"=\"&A66)","v":175},{"$f":"IF(N66=0,\"\",SUMIFS(Bogføring!$A:$A,Bogføring!$E:$E,\"=\"&$P$5,Bogføring!$D:$D,\"=\"&A66))","v":0},{"$f":"SUMIFS(Bogføring!$H:$H,Bogføring!$E:$E,\"=\"&$P$5,Bogføring!$D:$D,\"=\"&A66)","v":0}]
[63,"Jens Christian Hansen","Snorrebakken 50",3700,"Rønne",null,"jchansen@nypost.dk",null,null,63,{"$f":"IF(L67=0,\"\",INDEX(Bogføring!$A:$A,MATCH(Tabel2[[#This Row],[Medl.nr. :]],Bogføring!$D:$D,0),0))","v":"2015-10-01"},{"$f":"SUMIFS(Bogføring!H:H,Bogføring!E:E,\"=\"&$L$5,Bogføring!D:D,\"=\"&A67)","v":175},{"$f":"IF(N67=0,\"\",SUMIFS(Bogføring!A:A,Bogføring!E:E,\"=\"&$N$5,Bogføring!D:D,\"=\"&A67))","v":"2020-10-05"},{"$f":"SUMIFS(Bogføring!H:H,Bogføring!E:E,\"=\"&$N$5,Bogføring!D:D,\"=\"&A67)","v":175},{"$f":"IF(N67=0,\"\",SUMIFS(Bogføring!$A:$A,Bogføring!$E:$E,\"=\"&$P$5,Bogføring!$D:$D,\"=\"&A67))","v":0},{"$f":"SUMIFS(Bogføring!$H:$H,Bogføring!$E:$E,\"=\"&$P$5,Bogføring!$D:$D,\"=\"&A67)","v":0}]
[64,"Erik Ipsen","Borgmester Nielsensvej 153",3700,"Rønne",null,"ipsen@post7.tele.dk",null,null,64,{"$f":"IF(L68=0,\"\",INDEX(Bogføring!$A:$A,MATCH(Tabel2[[#This Row],[Medl.nr. :]],Bogføring!$D:$D,0),0))","v":"2015-04-07"},{"$f":"SUMIFS(Bogføring!H:H,Bogføring!E:E,\"=\"&$L$5,Bogføring!D:D,\"=\"&A68)","v":175},{"$f":"IF(N68=0,\"\",SUMIFS(Bogføring!A:A,Bogføring!E:E,\"=\"&$N$5,Bogføring!D:D,\"=\"&A68))","v":"2020-08-31"},{"$f":"SUMIFS(Bogføring!H:H,Bogføring!E:E,\"=\"&$N$5,Bogføring!D:D,\"=\"&A68)","v":175},{"$f":"IF(N68=0,\"\",SUMIFS(Bogføring!$A:$A,Bogføring!$E:$E,\"=\"&$P$5,Bogføring!$D:$D,\"=\"&A68))","v":0},{"$f":"SUMIFS(Bogføring!$H:$H,Bogføring!$E:$E,\"=\"&$P$5,Bogføring!$D:$D,\"=\"&A68)","v":0}]
[65,"Jesper Lund Koefoed","Spageregård, Loftsgårdsvej 1",3720,"Åkirkeby",null,"spageregaard@get2net.dk",null,null,65,{"$f":"IF(L69=0,\"\",INDEX(Bogføring!$A:$A,MATCH(Tabel2[[#This Row],[Medl.nr. :]],Bogføring!$D:$D,0),0))","v":"2016-07-11"},{"$f":"SUMIFS(Bogføring!H:H,Bogføring!E:E,\"=\"&$L$5,Bogføring!D:D,\"=\"&A69)","v":175},{"$f":"IF(N69=0,\"\",SUMIFS(Bogføring!A:A,Bogføring!E:E,\"=\"&$N$5,Bogføring!D:D,\"=\"&A69))","v":"2020-09-07"},{"$f":"SUMIFS(Bogføring!H:H,Bogføring!E:E,\"=\"&$N$5,Bogføring!D:D,\"=\"&A69)","v":175},{"$f":"IF(N69=0,\"\",SUMIFS(Bogføring!$A:$A,Bogføring!$E:$E,\"=\"&$P$5,Bogføring!$D:$D,\"=\"&A69))","v":0},{"$f":"SUMIFS(Bogføring!$H:$H,Bogføring!$E:$E,\"=\"&$P$5,Bogføring!$D:$D,\"=\"&A69)","v":0}]
[66,"Jens & Lene Holm Andersen","Sandmarksvej 6, Sorthat-Muleby",3700,"Rønne",null,"jensandersen59@gmail.com",null,null,{"$f":"IF(A70=\"\",\"\",A70)","v":66},{"$f":"IF(L70=0,\"\",INDEX(Bogføring!$A:$A,MATCH(Tabel2[[#This Row],[Medl.nr. :]],Bogføring!$D:$D,0),0))","v":"2016-07-04"},{"$f":"SUMIFS(Bogføring!H:H,Bogføring!E:E,\"=\"&$L$5,Bogføring!D:D,\"=\"&A70)","v":175},{"$f":"IF(N70=0,\"\",SUMIFS(Bogføring!A:A,Bogføring!E:E,\"=\"&$N$5,Bogføring!D:D,\"=\"&A70))","v":"2020-08-07"},{"$f":"SUMIFS(Bogføring!H:H,Bogføring!E:E,\"=\"&$N$5,Bogføring!D:D,\"=\"&A70)","v":175},{"$f":"IF(N70=0,\"\",SUMIFS(Bogføring!$A:$A,Bogføring!$E:$E,\"=\"&$P$5,Bogføring!$D:$D,\"=\"&A70))","v":0},{"$f":"SUMIFS(Bogføring!$H:$H,Bogføring!$E:$E,\"=\"&$P$5,Bogføring!$D:$D,\"=\"&A70)","v":0}]
[67,"Poul Hviid","Tyttebærløkken 1",3700,"Rønne",null,"poul.hviid@gmail.com",null,null,67,{"$f":"IF(L71=0,\"\",INDEX(Bogføring!$A:$A,MATCH(Tabel2[[#This Row],[Medl.nr. :]],Bogføring!$D:$D,0),0))","v":"2015-11-03"},{"$f":"SUMIFS(Bogføring!H:H,Bogføring!E:E,\"=\"&$L$5,Bogføring!D:D,\"=\"&A71)","v":175},{"$f":"IF(N71=0,\"\",SUMIFS(Bogføring!A:A,Bogføring!E:E,\"=\"&$N$5,Bogføring!D:D,\"=\"&A71))","v":"2020-09-09"},{"$f":"SUMIFS(Bogføring!H:H,Bogføring!E:E,\"=\"&$N$5,Bogføring!D:D,\"=\"&A71)","v":175},{"$f":"IF(N71=0,\"\",SUMIFS(Bogføring!$A:$A,Bogføring!$E:$E,\"=\"&$P$5,Bogføring!$D:$D,\"=\"&A71))","v":0},{"$f":"SUMIFS(Bogføring!$H:$H,Bogføring!$E:$E,\"=\"&$P$5,Bogføring!$D:$D,\"=\"&A71)","v":0}]
[68,"Ketty Fuglsbjerg Hansen","Ingemannsvej 6, Listed",3740,"Svaneke",null,"fuglsbjerg@privat.dk",null,null,68,{"$f":"IF(L72=0,\"\",INDEX(Bogføring!$A:$A,MATCH(Tabel2[[#This Row],[Medl.nr. :]],Bogføring!$D:$D,0),0))","v":""},{"$f":"SUMIFS(Bogføring!H:H,Bogføring!E:E,\"=\"&$L$5,Bogføring!D:D,\"=\"&A72)","v":0},{"$f":"IF(N72=0,\"\",SUMIFS(Bogføring!A:A,Bogføring!E:E,\"=\"&$N$5,Bogføring!D:D,\"=\"&A72))","v":""},{"$f":"SUMIFS(Bogføring!H:H,Bogføring!E:E,\"=\"&$N$5,Bogføring!D:D,\"=\"&A72)","v":0},{"$f":"IF(N72=0,\"\",SUMIFS(Bogføring!$A:$A,Bogføring!$E:$E,\"=\"&$P$5,Bogføring!$D:$D,\"=\"&A72))","v":""},{"$f":"SUMIFS(Bogføring!$H:$H,Bogføring!$E:$E,\"=\"&$P$5,Bogføring!$D:$D,\"=\"&A72)","v":0}]
[69,"Annette S. Dreyer","Højvangsparken 43 st.",3700,"Rønne",50994923,"a.solveig.dreyer@gmail.com",2019,"Frivillig",69,{"$f":"IF(L73=0,\"\",INDEX(Bogføring!$A:$A,MATCH(Tabel2[[#This Row],[Medl.nr. :]],Bogføring!$D:$D,0),0))","v":"2015-09-29"},{"$f":"SUMIFS(Bogføring!H:H,Bogføring!E:E,\"=\"&$L$5,Bogføring!D:D,\"=\"&A73)","v":175},{"$f":"IF(N73=0,\"\",SUMIFS(Bogføring!A:A,Bogføring!E:E,\"=\"&$N$5,Bogføring!D:D,\"=\"&A73))","v":"2141-03-21"},{"$f":"SUMIFS(Bogføring!H:H,Bogføring!E:E,\"=\"&$N$5,Bogføring!D:D,\"=\"&A73)","v":175},{"$f":"IF(N73=0,\"\",SUMIFS(Bogføring!$A:$A,Bogføring!$E:$E,\"=\"&$P$5,Bogføring!$D:$D,\"=\"&A73))","v":0},{"$f":"SUMIFS(Bogføring!$H:$H,Bogføring!$E:$E,\"=\"&$P$5,Bogføring!$D:$D,\"=\"&A73)","v":0}]
[70,"Bjarne Rasmussen","Bygvænget 6, Lendemarke",4780,"Stege",28408914,"ulla.bjarne@dlgtele.dk",2019,null,70,{"$f":"IF(L74=0,\"\",INDEX(Bogføring!$A:$A,MATCH(Tabel2[[#This Row],[Medl.nr. :]],Bogføring!$D:$D,0),0))","v":""},{"$f":"SUMIFS(Bogføring!H:H,Bogføring!E:E,\"=\"&$L$5,Bogføring!D:D,\"=\"&A74)","v":0},{"$f":"IF(N74=0,\"\",SUMIFS(Bogføring!A:A,Bogføring!E:E,\"=\"&$N$5,Bogføring!D:D,\"=\"&A74))","v":""},{"$f":"SUMIFS(Bogføring!H:H,Bogføring!E:E,\"=\"&$N$5,Bogføring!D:D,\"=\"&A74)","v":0},{"$f":"IF(N74=0,\"\",SUMIFS(Bogføring!$A:$A,Bogføring!$E:$E,\"=\"&$P$5,Bogføring!$D:$D,\"=\"&A74))","v":""},{"$f":"SUMIFS(Bogføring!$H:$H,Bogføring!$E:$E,\"=\"&$P$5,Bogføring!$D:$D,\"=\"&A74)","v":0}]
[71,"Bitten Poss Jørgensen","Studebyvej 10",3760,"Gudhjem",51893547,"maj-ben@privat.dk",2019,null,71,{"$f":"IF(L75=0,\"\",INDEX(Bogføring!$A:$A,MATCH(Tabel2[[#This Row],[Medl.nr. :]],Bogføring!$D:$D,0),0))","v":"2015-11-26"},{"$f":"SUMIFS(Bogføring!H:H,Bogføring!E:E,\"=\"&$L$5,Bogføring!D:D,\"=\"&A75)","v":175},{"$f":"IF(N75=0,\"\",SUMIFS(Bogføring!A:A,Bogføring!E:E,\"=\"&$N$5,Bogføring!D:D,\"=\"&A75))","v":"2020-08-10"},{"$f":"SUMIFS(Bogføring!H:H,Bogføring!E:E,\"=\"&$N$5,Bogføring!D:D,\"=\"&A75)","v":175},{"$f":"IF(N75=0,\"\",SUMIFS(Bogføring!$A:$A,Bogføring!$E:$E,\"=\"&$P$5,Bogføring!$D:$D,\"=\"&A75))","v":0},{"$f":"SUMIFS(Bogføring!$H:$H,Bogføring!$E:$E,\"=\"&$P$5,Bogføring!$D:$D,\"=\"&A75)","v":0}]
[72,"Sven Holm Jensen","Smørengevejen 26, V-Marie",3720,"Åkirkeby",61334913,"lykkensproeve@gmail.com",2019,null,72,{"$f":"IF(L76=0,\"\",INDEX(Bogføring!$A:$A,MATCH(Tabel2[[#This Row],[Medl.nr. :]],Bogføring!$D:$D,0),0))","v":""},{"$f":"SUMIFS(Bogføring!H:H,Bogføring!E:E,\"=\"&$L$5,Bogføring!D:D,\"=\"&A76)","v":0},{"$f":"IF(N76=0,\"\",SUMIFS(Bogføring!A:A,Bogføring!E:E,\"=\"&$N$5,Bogføring!D:D,\"=\"&A76))","v":""},{"$f":"SUMIFS(Bogføring!H:H,Bogføring!E:E,\"=\"&$N$5,Bogføring!D:D,\"=\"&A76)","v":0},{"$f":"IF(N76=0,\"\",SUMIFS(Bogføring!$A:$A,Bogføring!$E:$E,\"=\"&$P$5,Bogføring!$D:$D,\"=\"&A76))","v":""},{"$f":"SUMIFS(Bogføring!$H:$H,Bogføring!$E:$E,\"=\"&$P$5,Bogføring!$D:$D,\"=\"&A76)","v":0}]
[73,"Kenneth Frithiof Kure","Meulenborg Park 31",3070,"Snekkersten",24630084,"kurs@mail.dk",2019,null,73,{"$f":"IF(L77=0,\"\",INDEX(Bogføring!$A:$A,MATCH(Tabel2[[#This Row],[Medl.nr. :]],Bogføring!$D:$D,0),0))","v":""},{"$f":"SUMIFS(Bogføring!H:H,Bogføring!E:E,\"=\"&$L$5,Bogføring!D:D,\"=\"&A77)","v":0},{"$f":"IF(N77=0,\"\",SUMIFS(Bogføring!A:A,Bogføring!E:E,\"=\"&$N$5,Bogføring!D:D,\"=\"&A77))","v":""},{"$f":"SUMIFS(Bogføring!H:H,Bogføring!E:E,\"=\"&$N$5,Bogføring!D:D,\"=\"&A77)","v":0},{"$f":"IF(N77=0,\"\",SUMIFS(Bogføring!$A:$A,Bogføring!$E:$E,\"=\"&$P$5,Bogføring!$D:$D,\"=\"&A77))","v":""},{"$f":"SUMIFS(Bogføring!$H:$H,Bogføring!$E:$E,\"=\"&$P$5,Bogføring!$D:$D,\"=\"&A77)","v":0}]
[74,"Lotte Roch","Strøbyvej 2",3720,"Åkirkeby",21912063,"lotte@roch.dk",null,null,74,{"$f":"IF(L78=0,\"\",INDEX(Bogføring!$A:$A,MATCH(Tabel2[[#This Row],[Medl.nr. :]],Bogføring!$D:$D,0),0))","v":""},{"$f":"SUMIFS(Bogføring!H:H,Bogføring!E:E,\"=\"&$L$5,Bogføring!D:D,\"=\"&A78)","v":0},{"$f":"IF(N78=0,\"\",SUMIFS(Bogføring!A:A,Bogføring!E:E,\"=\"&$N$5,Bogføring!D:D,\"=\"&A78))","v":""},{"$f":"SUMIFS(Bogføring!H:H,Bogføring!E:E,\"=\"&$N$5,Bogføring!D:D,\"=\"&A78)","v":0},{"$f":"IF(N78=0,\"\",SUMIFS(Bogføring!$A:$A,Bogføring!$E:$E,\"=\"&$P$5,Bogføring!$D:$D,\"=\"&A78))","v":""},{"$f":"SUMIFS(Bogføring!$H:$H,Bogføring!$E:$E,\"=\"&$P$5,Bogføring!$D:$D,\"=\"&A78)","v":0}]
[75,"Niels-Viggo Stage","Kapelvej 53",3700,"Rønne",56914825,"niels-viggostage@mail.dk",null,null,75,{"$f":"IF(L79=0,\"\",INDEX(Bogføring!$A:$A,MATCH(Tabel2[[#This Row],[Medl.nr. :]],Bogføring!$D:$D,0),0))","v":""},{"$f":"SUMIFS(Bogføring!H:H,Bogføring!E:E,\"=\"&$L$5,Bogføring!D:D,\"=\"&A79)","v":0},{"$f":"IF(N79=0,\"\",SUMIFS(Bogføring!A:A,Bogføring!E:E,\"=\"&$N$5,Bogføring!D:D,\"=\"&A79))","v":""},{"$f":"SUMIFS(Bogføring!H:H,Bogføring!E:E,\"=\"&$N$5,Bogføring!D:D,\"=\"&A79)","v":0},{"$f":"IF(N79=0,\"\",SUMIFS(Bogføring!$A:$A,Bogføring!$E:$E,\"=\"&$P$5,Bogføring!$D:$D,\"=\"&A79))","v":""},{"$f":"SUMIFS(Bogføring!$H:$H,Bogføring!$E:$E,\"=\"&$P$5,Bogføring!$D:$D,\"=\"&A79)","v":0}]
[76,"Søren Peter Elleby","Slappegade 12",3700,"Rønne",56951086,"s.p.elleby@hotmail.com",null,"Bet. af Hanne Merete Elleby, Solnavej 23,St tv,2860 Søborg",76,{"$f":"IF(L80=0,\"\",INDEX(Bogføring!$A:$A,MATCH(Tabel2[[#This Row],[Medl.nr. :]],Bogføring!$D:$D,0),0))","v":""},{"$f":"SUMIFS(Bogføring!H:H,Bogføring!E:E,\"=\"&$L$5,Bogføring!D:D,\"=\"&A80)","v":0},{"$f":"IF(N80=0,\"\",SUMIFS(Bogføring!A:A,Bogføring!E:E,\"=\"&$N$5,Bogføring!D:D,\"=\"&A80))","v":""},{"$f":"SUMIFS(Bogføring!H:H,Bogføring!E:E,\"=\"&$N$5,Bogføring!D:D,\"=\"&A80)","v":0},{"$f":"IF(N80=0,\"\",SUMIFS(Bogføring!$A:$A,Bogføring!$E:$E,\"=\"&$P$5,Bogføring!$D:$D,\"=\"&A80))","v":""},{"$f":"SUMIFS(Bogføring!$H:$H,Bogføring!$E:$E,\"=\"&$P$5,Bogføring!$D:$D,\"=\"&A80)","v":0}]
[77,"Jørgen Christian Espersen","Peter Ipsensvej 49",3700,"Rønne",24436630,"espersen@piv49.dk",null,null,77,{"$f":"IF(L81=0,\"\",INDEX(Bogføring!$A:$A,MATCH(Tabel2[[#This Row],[Medl.nr. :]],Bogføring!$D:$D,0),0))","v":""},{"$f":"SUMIFS(Bogføring!H:H,Bogføring!E:E,\"=\"&$L$5,Bogføring!D:D,\"=\"&A81)","v":0},{"$f":"IF(N81=0,\"\",SUMIFS(Bogføring!A:A,Bogføring!E:E,\"=\"&$N$5,Bogføring!D:D,\"=\"&A81))","v":""},{"$f":"SUMIFS(Bogføring!H:H,Bogføring!E:E,\"=\"&$N$5,Bogføring!D:D,\"=\"&A81)","v":0},{"$f":"IF(N81=0,\"\",SUMIFS(Bogføring!$A:$A,Bogføring!$E:$E,\"=\"&$P$5,Bogføring!$D:$D,\"=\"&A81))","v":""},{"$f":"SUMIFS(Bogføring!$H:$H,Bogføring!$E:$E,\"=\"&$P$5,Bogføring!$D:$D,\"=\"&A81)","v":0}]
[78,"Henning Nielsen","Gammelvældevej 1 A, Østerlars",3760,"Gudhjem",23245589,"hnielsen293@gmail.com",null,null,78,{"$f":"IF(L82=0,\"\",INDEX(Bogføring!$A:$A,MATCH(Tabel2[[#This Row],[Medl.nr. :]],Bogføring!$D:$D,0),0))","v":""},{"$f":"SUMIFS(Bogføring!H:H,Bogføring!E:E,\"=\"&$L$5,Bogføring!D:D,\"=\"&A82)","v":0},{"$f":"IF(N82=0,\"\",SUMIFS(Bogføring!A:A,Bogføring!E:E,\"=\"&$N$5,Bogføring!D:D,\"=\"&A82))","v":""},{"$f":"SUMIFS(Bogføring!H:H,Bogføring!E:E,\"=\"&$N$5,Bogføring!D:D,\"=\"&A82)","v":0},{"$f":"IF(N82=0,\"\",SUMIFS(Bogføring!$A:$A,Bogføring!$E:$E,\"=\"&$P$5,Bogføring!$D:$D,\"=\"&A82))","v":""},{"$f":"SUMIFS(Bogføring!$H:$H,Bogføring!$E:$E,\"=\"&$P$5,Bogføring!$D:$D,\"=\"&A82)","v":0}]
[79,"Jørn Uffe Hansen","Krakvej 7, Rutsker",3790,"Hasle",30119065,"j.u.hansen@mail.dk",null,null,79,{"$f":"IF(L83=0,\"\",INDEX(Bogføring!$A:$A,MATCH(Tabel2[[#This Row],[Medl.nr. :]],Bogføring!$D:$D,0),0))","v":""},{"$f":"SUMIFS(Bogføring!H:H,Bogføring!E:E,\"=\"&$L$5,Bogføring!D:D,\"=\"&A83)","v":0},{"$f":"IF(N83=0,\"\",SUMIFS(Bogføring!A:A,Bogføring!E:E,\"=\"&$N$5,Bogføring!D:D,\"=\"&A83))","v":""},{"$f":"SUMIFS(Bogføring!H:H,Bogføring!E:E,\"=\"&$N$5,Bogføring!D:D,\"=\"&A83)","v":0},{"$f":"IF(N83=0,\"\",SUMIFS(Bogføring!$A:$A,Bogføring!$E:$E,\"=\"&$P$5,Bogføring!$D:$D,\"=\"&A83))","v":""},{"$f":"SUMIFS(Bogføring!$H:$H,Bogføring!$E:$E,\"=\"&$P$5,Bogføring!$D:$D,\"=\"&A83)","v":0}]
[80,"Georg Wibe Nielsen","Rønnevej 109",3700,"Rønne",56972146,"geni2@outlook.dk ",null,null,80,{"$f":"IF(L84=0,\"\",INDEX(Bogføring!$A:$A,MATCH(Tabel2[[#This Row],[Medl.nr. :]],Bogføring!$D:$D,0),0))","v":"2016-01-07"},{"$f":"SUMIFS(Bogføring!H:H,Bogføring!E:E,\"=\"&$L$5,Bogføring!D:D,\"=\"&A84)","v":175},{"$f":"IF(N84=0,\"\",SUMIFS(Bogføring!A:A,Bogføring!E:E,\"=\"&$N$5,Bogføring!D:D,\"=\"&A84))","v":"2020-09-28"},{"$f":"SUMIFS(Bogføring!H:H,Bogføring!E:E,\"=\"&$N$5,Bogføring!D:D,\"=\"&A84)","v":175},{"$f":"IF(N84=0,\"\",SUMIFS(Bogføring!$A:$A,Bogføring!$E:$E,\"=\"&$P$5,Bogføring!$D:$D,\"=\"&A84))","v":0},{"$f":"SUMIFS(Bogføring!$H:$H,Bogføring!$E:$E,\"=\"&$P$5,Bogføring!$D:$D,\"=\"&A84)","v":0}]
[81,"Jørn Lund","St. Torvegade 62",3700,"Rønne",40282002,"jorn.lund.ronne@gmail.com",null,null,81,{"$f":"IF(L85=0,\"\",INDEX(Bogføring!$A:$A,MATCH(Tabel2[[#This Row],[Medl.nr. :]],Bogføring!$D:$D,0),0))","v":""},{"$f":"SUMIFS(Bogføring!H:H,Bogføring!E:E,\"=\"&$L$5,Bogføring!D:D,\"=\"&A85)","v":0},{"$f":"IF(N85=0,\"\",SUMIFS(Bogføring!A:A,Bogføring!E:E,\"=\"&$N$5,Bogføring!D:D,\"=\"&A85))","v":""},{"$f":"SUMIFS(Bogføring!H:H,Bogføring!E:E,\"=\"&$N$5,Bogføring!D:D,\"=\"&A85)","v":0},{"$f":"IF(N85=0,\"\",SUMIFS(Bogføring!$A:$A,Bogføring!$E:$E,\"=\"&$P$5,Bogføring!$D:$D,\"=\"&A85))","v":""},{"$f":"SUMIFS(Bogføring!$H:$H,Bogføring!$E:$E,\"=\"&$P$5,Bogføring!$D:$D,\"=\"&A85)","v":0}]
[82,"Jan og Inge Grete Gulstad","Sveasvej 28",3700,"Rønne",29435783,"janinge@youmail.dk",null,null,82,{"$f":"IF(L86=0,\"\",INDEX(Bogføring!$A:$A,MATCH(Tabel2[[#This Row],[Medl.nr. :]],Bogføring!$D:$D,0),0))","v":"2016-08-09"},{"$f":"SUMIFS(Bogføring!H:H,Bogføring!E:E,\"=\"&$L$5,Bogføring!D:D,\"=\"&A86)","v":175},{"$f":"IF(N86=0,\"\",SUMIFS(Bogføring!A:A,Bogføring!E:E,\"=\"&$N$5,Bogføring!D:D,\"=\"&A86))","v":"2020-08-10"},{"$f":"SUMIFS(Bogføring!H:H,Bogføring!E:E,\"=\"&$N$5,Bogføring!D:D,\"=\"&A86)","v":175},{"$f":"IF(N86=0,\"\",SUMIFS(Bogføring!$A:$A,Bogføring!$E:$E,\"=\"&$P$5,Bogføring!$D:$D,\"=\"&A86))","v":0},{"$f":"SUMIFS(Bogføring!$H:$H,Bogføring!$E:$E,\"=\"&$P$5,Bogføring!$D:$D,\"=\"&A86)","v":0}]
[83,"Pia Thykjær & Ole Gerhard Jørgensen","Blemmelyngvejen 12, Nylars",3700,"Rønne",24455947,"pjot@mail.dk",null,null,83,{"$f":"IF(L87=0,\"\",INDEX(Bogføring!$A:$A,MATCH(Tabel2[[#This Row],[Medl.nr. :]],Bogføring!$D:$D,0),0))","v":"2016-01-26"},{"$f":"SUMIFS(Bogføring!H:H,Bogføring!E:E,\"=\"&$L$5,Bogføring!D:D,\"=\"&A87)","v":175},{"$f":"IF(N87=0,\"\",SUMIFS(Bogføring!A:A,Bogføring!E:E,\"=\"&$N$5,Bogføring!D:D,\"=\"&A87))","v":""},{"$f":"SUMIFS(Bogføring!H:H,Bogføring!E:E,\"=\"&$N$5,Bogføring!D:D,\"=\"&A87)","v":0},{"$f":"IF(N87=0,\"\",SUMIFS(Bogføring!$A:$A,Bogføring!$E:$E,\"=\"&$P$5,Bogføring!$D:$D,\"=\"&A87))","v":""},{"$f":"SUMIFS(Bogføring!$H:$H,Bogføring!$E:$E,\"=\"&$P$5,Bogføring!$D:$D,\"=\"&A87)","v":0}]
[84,"Per Loumand","Stationsvej 72, Pjedsted",7000,"Frederecia",27777890,"Per@spanensbjerg-loumand.dk",2019,null,84,{"$f":"IF(L88=0,\"\",INDEX(Bogføring!$A:$A,MATCH(Tabel2[[#This Row],[Medl.nr. :]],Bogføring!$D:$D,0),0))","v":"2016-02-23"},{"$f":"SUMIFS(Bogføring!H:H,Bogføring!E:E,\"=\"&$L$5,Bogføring!D:D,\"=\"&A88)","v":175},{"$f":"IF(N88=0,\"\",SUMIFS(Bogføring!A:A,Bogføring!E:E,\"=\"&$N$5,Bogføring!D:D,\"=\"&A88))","v":""},{"$f":"SUMIFS(Bogføring!H:H,Bogføring!E:E,\"=\"&$N$5,Bogføring!D:D,\"=\"&A88)","v":0},{"$f":"IF(N88=0,\"\",SUMIFS(Bogføring!$A:$A,Bogføring!$E:$E,\"=\"&$P$5,Bogføring!$D:$D,\"=\"&A88))","v":""},{"$f":"SUMIFS(Bogføring!$H:$H,Bogføring!$E:$E,\"=\"&$P$5,Bogføring!$D:$D,\"=\"&A88)","v":0}]
[85,"Bente Hansen","Morrevej 14",7500,"Holstebro",30428102,"bh.fjt@fibermail.dk ",2019,null,85,{"$f":"IF(L89=0,\"\",INDEX(Bogføring!$A:$A,MATCH(Tabel2[[#This Row],[Medl.nr. :]],Bogføring!$D:$D,0),0))","v":""},{"$f":"SUMIFS(Bogføring!H:H,Bogføring!E:E,\"=\"&$L$5,Bogføring!D:D,\"=\"&A89)","v":0},{"$f":"IF(N89=0,\"\",SUMIFS(Bogføring!A:A,Bogføring!E:E,\"=\"&$N$5,Bogføring!D:D,\"=\"&A89))","v":""},{"$f":"SUMIFS(Bogføring!H:H,Bogføring!E:E,\"=\"&$N$5,Bogføring!D:D,\"=\"&A89)","v":0},{"$f":"IF(N89=0,\"\",SUMIFS(Bogføring!$A:$A,Bogføring!$E:$E,\"=\"&$P$5,Bogføring!$D:$D,\"=\"&A89))","v":""},{"$f":"SUMIFS(Bogføring!$H:$H,Bogføring!$E:$E,\"=\"&$P$5,Bogføring!$D:$D,\"=\"&A89)","v":0}]
[86,"Hans Jacob Rømer","Fabriksvej 30",3782,"Klemensker",56966024,"hansjacobroemer@gmail.com",null,null,86,{"$f":"IF(L90=0,\"\",INDEX(Bogføring!$A:$A,MATCH(Tabel2[[#This Row],[Medl.nr. :]],Bogføring!$D:$D,0),0))","v":""},{"$f":"SUMIFS(Bogføring!H:H,Bogføring!E:E,\"=\"&$L$5,Bogføring!D:D,\"=\"&A90)","v":0},{"$f":"IF(N90=0,\"\",SUMIFS(Bogføring!A:A,Bogføring!E:E,\"=\"&$N$5,Bogføring!D:D,\"=\"&A90))","v":""},{"$f":"SUMIFS(Bogføring!H:H,Bogføring!E:E,\"=\"&$N$5,Bogføring!D:D,\"=\"&A90)","v":0},{"$f":"IF(N90=0,\"\",SUMIFS(Bogføring!$A:$A,Bogføring!$E:$E,\"=\"&$P$5,Bogføring!$D:$D,\"=\"&A90))","v":""},{"$f":"SUMIFS(Bogføring!$H:$H,Bogføring!$E:$E,\"=\"&$P$5,Bogføring!$D:$D,\"=\"&A90)","v":0}]
[87,"Jens og Anne-Lise Aagesen","Egeløkken 11",3700,"Rønne",51895289,"jens.aagesen@gmail.com ",null,null,87,{"$f":"IF(L91=0,\"\",INDEX(Bogføring!$A:$A,MATCH(Tabel2[[#This Row],[Medl.nr. :]],Bogføring!$D:$D,0),0))","v":""},{"$f":"SUMIFS(Bogføring!H:H,Bogføring!E:E,\"=\"&$L$5,Bogføring!D:D,\"=\"&A91)","v":0},{"$f":"IF(N91=0,\"\",SUMIFS(Bogføring!A:A,Bogføring!E:E,\"=\"&$N$5,Bogføring!D:D,\"=\"&A91))","v":""},{"$f":"SUMIFS(Bogføring!H:H,Bogføring!E:E,\"=\"&$N$5,Bogføring!D:D,\"=\"&A91)","v":0},{"$f":"IF(N91=0,\"\",SUMIFS(Bogføring!$A:$A,Bogføring!$E:$E,\"=\"&$P$5,Bogføring!$D:$D,\"=\"&A91))","v":""},{"$f":"SUMIFS(Bogføring!$H:$H,Bogføring!$E:$E,\"=\"&$P$5,Bogføring!$D:$D,\"=\"&A91)","v":0}]
[88,"S. Aa. Olsen","Dampmøllegade 5B",3700,"Rønne",30265597,"svaaolsen@godmail.dk ",null,null,88,{"$f":"IF(L92=0,\"\",INDEX(Bogføring!$A:$A,MATCH(Tabel2[[#This Row],[Medl.nr. :]],Bogføring!$D:$D,0),0))","v":"2016-07-11"},{"$f":"SUMIFS(Bogføring!H:H,Bogføring!E:E,\"=\"&$L$5,Bogføring!D:D,\"=\"&A92)","v":175},{"$f":"IF(N92=0,\"\",SUMIFS(Bogføring!A:A,Bogføring!E:E,\"=\"&$N$5,Bogføring!D:D,\"=\"&A92))","v":"2020-08-10"},{"$f":"SUMIFS(Bogføring!H:H,Bogføring!E:E,\"=\"&$N$5,Bogføring!D:D,\"=\"&A92)","v":175},{"$f":"IF(N92=0,\"\",SUMIFS(Bogføring!$A:$A,Bogføring!$E:$E,\"=\"&$P$5,Bogføring!$D:$D,\"=\"&A92))","v":0},{"$f":"SUMIFS(Bogføring!$H:$H,Bogføring!$E:$E,\"=\"&$P$5,Bogføring!$D:$D,\"=\"&A92)","v":0}]
[89,"Claus Paulsen","Syrenvej 5",3700,"Rønne",30715477,"birgit_claus@paulsen.mail.dk",null,null,89,{"$f":"IF(L93=0,\"\",INDEX(Bogføring!$A:$A,MATCH(Tabel2[[#This Row],[Medl.nr. :]],Bogføring!$D:$D,0),0))","v":"2016-12-16"},{"$f":"SUMIFS(Bogføring!H:H,Bogføring!E:E,\"=\"&$L$5,Bogføring!D:D,\"=\"&A93)","v":175},{"$f":"IF(N93=0,\"\",SUMIFS(Bogføring!A:A,Bogføring!E:E,\"=\"&$N$5,Bogføring!D:D,\"=\"&A93))","v":""},{"$f":"SUMIFS(Bogføring!H:H,Bogføring!E:E,\"=\"&$N$5,Bogføring!D:D,\"=\"&A93)","v":0},{"$f":"IF(N93=0,\"\",SUMIFS(Bogføring!$A:$A,Bogføring!$E:$E,\"=\"&$P$5,Bogføring!$D:$D,\"=\"&A93))","v":""},{"$f":"SUMIFS(Bogføring!$H:$H,Bogføring!$E:$E,\"=\"&$P$5,Bogføring!$D:$D,\"=\"&A93)","v":0}]
[90,"Dan Olsen","Ølenevejen 58",3720,"Åkirkeby",29421873,"d-olsen8268@gmail.com",null,null,90,{"$f":"IF(L94=0,\"\",INDEX(Bogføring!$A:$A,MATCH(Tabel2[[#This Row],[Medl.nr. :]],Bogføring!$D:$D,0),0))","v":"2016-12-20"},{"$f":"SUMIFS(Bogføring!H:H,Bogføring!E:E,\"=\"&$L$5,Bogføring!D:D,\"=\"&A94)","v":175},{"$f":"IF(N94=0,\"\",SUMIFS(Bogføring!A:A,Bogføring!E:E,\"=\"&$N$5,Bogføring!D:D,\"=\"&A94))","v":"2020-09-29"},{"$f":"SUMIFS(Bogføring!H:H,Bogføring!E:E,\"=\"&$N$5,Bogføring!D:D,\"=\"&A94)","v":175},{"$f":"IF(N94=0,\"\",SUMIFS(Bogføring!$A:$A,Bogføring!$E:$E,\"=\"&$P$5,Bogføring!$D:$D,\"=\"&A94))","v":0},{"$f":"SUMIFS(Bogføring!$H:$H,Bogføring!$E:$E,\"=\"&$P$5,Bogføring!$D:$D,\"=\"&A94)","v":0}]
[91,"Sven Haugaard Jørgensen","Timianløkken 10",3700,"Rønne",20185984,"jemsj@youmail.dk",null,null,91,{"$f":"IF(L95=0,\"\",INDEX(Bogføring!$A:$A,MATCH(Tabel2[[#This Row],[Medl.nr. :]],Bogføring!$D:$D,0),0))","v":"2016-12-27"},{"$f":"SUMIFS(Bogføring!H:H,Bogføring!E:E,\"=\"&$L$5,Bogføring!D:D,\"=\"&A95)","v":175},{"$f":"IF(N95=0,\"\",SUMIFS(Bogføring!A:A,Bogføring!E:E,\"=\"&$N$5,Bogføring!D:D,\"=\"&A95))","v":"2020-08-19"},{"$f":"SUMIFS(Bogføring!H:H,Bogføring!E:E,\"=\"&$N$5,Bogføring!D:D,\"=\"&A95)","v":175},{"$f":"IF(N95=0,\"\",SUMIFS(Bogføring!$A:$A,Bogføring!$E:$E,\"=\"&$P$5,Bogføring!$D:$D,\"=\"&A95))","v":0},{"$f":"SUMIFS(Bogføring!$H:$H,Bogføring!$E:$E,\"=\"&$P$5,Bogføring!$D:$D,\"=\"&A95)","v":0}]
[92,"Ole Kock-Jensen","Skovløkken 8",3720,"Åkirkeby",21458148,"ole.kock-jensen@mail.dk",null,null,92,{"$f":"IF(L96=0,\"\",INDEX(Bogføring!$A:$A,MATCH(Tabel2[[#This Row],[Medl.nr. :]],Bogføring!$D:$D,0),0))","v":"2017-10-17"},{"$f":"SUMIFS(Bogføring!H:H,Bogføring!E:E,\"=\"&$L$5,Bogføring!D:D,\"=\"&A96)","v":175},{"$f":"IF(N96=0,\"\",SUMIFS(Bogføring!A:A,Bogføring!E:E,\"=\"&$N$5,Bogføring!D:D,\"=\"&A96))","v":"2020-10-03"},{"$f":"SUMIFS(Bogføring!H:H,Bogføring!E:E,\"=\"&$N$5,Bogføring!D:D,\"=\"&A96)","v":175},{"$f":"IF(N96=0,\"\",SUMIFS(Bogføring!$A:$A,Bogføring!$E:$E,\"=\"&$P$5,Bogføring!$D:$D,\"=\"&A96))","v":0},{"$f":"SUMIFS(Bogføring!$H:$H,Bogføring!$E:$E,\"=\"&$P$5,Bogføring!$D:$D,\"=\"&A96)","v":0}]
[93,"Thomas Thors","Tyttebærløkken 4",3700,"Rønne",56951349,"thomas.thors@live.dk",null,null,93,{"$f":"IF(L97=0,\"\",INDEX(Bogføring!$A:$A,MATCH(Tabel2[[#This Row],[Medl.nr. :]],Bogføring!$D:$D,0),0))","v":"2017-07-10"},{"$f":"SUMIFS(Bogføring!H:H,Bogføring!E:E,\"=\"&$L$5,Bogføring!D:D,\"=\"&A97)","v":175},{"$f":"IF(N97=0,\"\",SUMIFS(Bogføring!A:A,Bogføring!E:E,\"=\"&$N$5,Bogføring!D:D,\"=\"&A97))","v":"2020-08-13"},{"$f":"SUMIFS(Bogføring!H:H,Bogføring!E:E,\"=\"&$N$5,Bogføring!D:D,\"=\"&A97)","v":175},{"$f":"IF(N97=0,\"\",SUMIFS(Bogføring!$A:$A,Bogføring!$E:$E,\"=\"&$P$5,Bogføring!$D:$D,\"=\"&A97))","v":0},{"$f":"SUMIFS(Bogføring!$H:$H,Bogføring!$E:$E,\"=\"&$P$5,Bogføring!$D:$D,\"=\"&A97)","v":0}]
[94,"Frank Kofoed","Engvej 1",3700,"Rønne",61339036,"engvej1@live.dk",null,null,94,{"$f":"IF(L98=0,\"\",INDEX(Bogføring!$A:$A,MATCH(Tabel2[[#This Row],[Medl.nr. :]],Bogføring!$D:$D,0),0))","v":"2017-07-12"},{"$f":"SUMIFS(Bogføring!H:H,Bogføring!E:E,\"=\"&$L$5,Bogføring!D:D,\"=\"&A98)","v":175},{"$f":"IF(N98=0,\"\",SUMIFS(Bogføring!A:A,Bogføring!E:E,\"=\"&$N$5,Bogføring!D:D,\"=\"&A98))","v":"2020-08-31"},{"$f":"SUMIFS(Bogføring!H:H,Bogføring!E:E,\"=\"&$N$5,Bogføring!D:D,\"=\"&A98)","v":175},{"$f":"IF(N98=0,\"\",SUMIFS(Bogføring!$A:$A,Bogføring!$E:$E,\"=\"&$P$5,Bogføring!$D:$D,\"=\"&A98))","v":0},{"$f":"SUMIFS(Bogføring!$H:$H,Bogføring!$E:$E,\"=\"&$P$5,Bogføring!$D:$D,\"=\"&A98)","v":0}]
[95,"Per Ole Westall","Rønnebær Allé 32",3000,"Helsingør",25411343,"westall@it.dk",null,null,95,{"$f":"IF(L99=0,\"\",INDEX(Bogføring!$A:$A,MATCH(Tabel2[[#This Row],[Medl.nr. :]],Bogføring!$D:$D,0),0))","v":"2015-12-31"},{"$f":"SUMIFS(Bogføring!H:H,Bogføring!E:E,\"=\"&$L$5,Bogføring!D:D,\"=\"&A99)","v":175},{"$f":"IF(N99=0,\"\",SUMIFS(Bogføring!A:A,Bogføring!E:E,\"=\"&$N$5,Bogføring!D:D,\"=\"&A99))","v":"2020-08-17"},{"$f":"SUMIFS(Bogføring!H:H,Bogføring!E:E,\"=\"&$N$5,Bogføring!D:D,\"=\"&A99)","v":175},{"$f":"IF(N99=0,\"\",SUMIFS(Bogføring!$A:$A,Bogføring!$E:$E,\"=\"&$P$5,Bogføring!$D:$D,\"=\"&A99))","v":0},{"$f":"SUMIFS(Bogføring!$H:$H,Bogføring!$E:$E,\"=\"&$P$5,Bogføring!$D:$D,\"=\"&A99)","v":0}]
[96,"Flemming Thorsen","Præstevej 65 c",4700,"Næstved",26821044,"thormark27@gmail.com",null,null,96,{"$f":"IF(L100=0,\"\",INDEX(Bogføring!$A:$A,MATCH(Tabel2[[#This Row],[Medl.nr. :]],Bogføring!$D:$D,0),0))","v":"2017-09-22"},{"$f":"SUMIFS(Bogføring!H:H,Bogføring!E:E,\"=\"&$L$5,Bogføring!D:D,\"=\"&A100)","v":175},{"$f":"IF(N100=0,\"\",SUMIFS(Bogføring!A:A,Bogføring!E:E,\"=\"&$N$5,Bogføring!D:D,\"=\"&A100))","v":"2022-02-22"},{"$f":"SUMIFS(Bogføring!H:H,Bogføring!E:E,\"=\"&$N$5,Bogføring!D:D,\"=\"&A100)","v":175},{"$f":"IF(N100=0,\"\",SUMIFS(Bogføring!$A:$A,Bogføring!$E:$E,\"=\"&$P$5,Bogføring!$D:$D,\"=\"&A100))","v":0},{"$f":"SUMIFS(Bogføring!$H:$H,Bogføring!$E:$E,\"=\"&$P$5,Bogføring!$D:$D,\"=\"&A100)","v":0}]
[97,"Bettina Pedersen","Sursænkevej 1",3700,"Rønne",23477109,"pedersen@outlook.dk",2019,null,97,{"$f":"IF(L101=0,\"\",INDEX(Bogføring!$A:$A,MATCH(Tabel2[[#This Row],[Medl.nr. :]],Bogføring!$D:$D,0),0))","v":"2017-10-04"},{"$f":"SUMIFS(Bogføring!H:H,Bogføring!E:E,\"=\"&$L$5,Bogføring!D:D,\"=\"&A101)","v":175},{"$f":"IF(N101=0,\"\",SUMIFS(Bogføring!A:A,Bogføring!E:E,\"=\"&$N$5,Bogføring!D:D,\"=\"&A101))","v":"2020-08-10"},{"$f":"SUMIFS(Bogføring!H:H,Bogføring!E:E,\"=\"&$N$5,Bogføring!D:D,\"=\"&A101)","v":175},{"$f":"IF(N101=0,\"\",SUMIFS(Bogføring!$A:$A,Bogføring!$E:$E,\"=\"&$P$5,Bogføring!$D:$D,\"=\"&A101))","v":0},{"$f":"SUMIFS(Bogføring!$H:$H,Bogføring!$E:$E,\"=\"&$P$5,Bogføring!$D:$D,\"=\"&A101)","v":0}]
[98,"Gitte Haahr","Jerndorffsvænget",7000,"Frederecia",30115670,"haahr.gitte@gmail.com",2019,null,{"$f":"IF(A102=\"\",\"\",A102)","v":98},{"$f":"IF(L102=0,\"\",INDEX(Bogføring!$A:$A,MATCH(Tabel2[[#This Row],[Medl.nr. :]],Bogføring!$D:$D,0),0))","v":"2017-12-14"},{"$f":"SUMIFS(Bogføring!H:H,Bogføring!E:E,\"=\"&$L$5,Bogføring!D:D,\"=\"&A102)","v":175},{"$f":"IF(N102=0,\"\",SUMIFS(Bogføring!A:A,Bogføring!E:E,\"=\"&$N$5,Bogføring!D:D,\"=\"&A102))","v":"2020-10-02"},{"$f":"SUMIFS(Bogføring!H:H,Bogføring!E:E,\"=\"&$N$5,Bogføring!D:D,\"=\"&A102)","v":175},{"$f":"IF(N102=0,\"\",SUMIFS(Bogføring!$A:$A,Bogføring!$E:$E,\"=\"&$P$5,Bogføring!$D:$D,\"=\"&A102))","v":0},{"$f":"SUMIFS(Bogføring!$H:$H,Bogføring!$E:$E,\"=\"&$P$5,Bogføring!$D:$D,\"=\"&A102)","v":0}]
[99,"Jørn Kofod","Gadekæret 9",3720,"Åkirkeby",21391507,"jekofod4501@gmail.com",null,null,99,{"$f":"IF(L103=0,\"\",INDEX(Bogføring!$A:$A,MATCH(Tabel2[[#This Row],[Medl.nr. :]],Bogføring!$D:$D,0),0))","v":""},{"$f":"SUMIFS(Bogføring!H:H,Bogføring!E:E,\"=\"&$L$5,Bogføring!D:D,\"=\"&A103)","v":0},{"$f":"IF(N103=0,\"\",SUMIFS(Bogføring!A:A,Bogføring!E:E,\"=\"&$N$5,Bogføring!D:D,\"=\"&A103))","v":""},{"$f":"SUMIFS(Bogføring!H:H,Bogføring!E:E,\"=\"&$N$5,Bogføring!D:D,\"=\"&A103)","v":0},{"$f":"IF(N103=0,\"\",SUMIFS(Bogføring!$A:$A,Bogføring!$E:$E,\"=\"&$P$5,Bogføring!$D:$D,\"=\"&A103))","v":""},{"$f":"SUMIFS(Bogføring!$H:$H,Bogføring!$E:$E,\"=\"&$P$5,Bogføring!$D:$D,\"=\"&A103)","v":0}]
[100,"Kurt Friedrich Peters","Søndre Allé 30",3700,"Rønne",56958686,"kurt.peters@dadelnet.dk",null,null,100,{"$f":"IF(L104=0,\"\",INDEX(Bogføring!$A:$A,MATCH(Tabel2[[#This Row],[Medl.nr. :]],Bogføring!$D:$D,0),0))","v":"2018-04-03"},{"$f":"SUMIFS(Bogføring!H:H,Bogføring!E:E,\"=\"&$L$5,Bogføring!D:D,\"=\"&A104)","v":175},{"$f":"IF(N104=0,\"\",SUMIFS(Bogføring!A:A,Bogføring!E:E,\"=\"&$N$5,Bogføring!D:D,\"=\"&A104))","v":"2019-07-26"},{"$f":"SUMIFS(Bogføring!H:H,Bogføring!E:E,\"=\"&$N$5,Bogføring!D:D,\"=\"&A104)","v":175},{"$f":"IF(N104=0,\"\",SUMIFS(Bogføring!$A:$A,Bogføring!$E:$E,\"=\"&$P$5,Bogføring!$D:$D,\"=\"&A104))","v":0},{"$f":"SUMIFS(Bogføring!$H:$H,Bogføring!$E:$E,\"=\"&$P$5,Bogføring!$D:$D,\"=\"&A104)","v":0}]
[101,"Gunnar Kofoed","Lillegade 20",3700,"Rønne",51329941,"gunnar-kofoed@gmail.com",null,null,101,{"$f":"IF(L105=0,\"\",INDEX(Bogføring!$A:$A,MATCH(Tabel2[[#This Row],[Medl.nr. :]],Bogføring!$D:$D,0),0))","v":"2018-04-11"},{"$f":"SUMIFS(Bogføring!H:H,Bogføring!E:E,\"=\"&$L$5,Bogføring!D:D,\"=\"&A105)","v":175},{"$f":"IF(N105=0,\"\",SUMIFS(Bogføring!A:A,Bogføring!E:E,\"=\"&$N$5,Bogføring!D:D,\"=\"&A105))","v":"2020-08-28"},{"$f":"SUMIFS(Bogføring!H:H,Bogføring!E:E,\"=\"&$N$5,Bogføring!D:D,\"=\"&A105)","v":175},{"$f":"IF(N105=0,\"\",SUMIFS(Bogføring!$A:$A,Bogføring!$E:$E,\"=\"&$P$5,Bogføring!$D:$D,\"=\"&A105))","v":0},{"$f":"SUMIFS(Bogføring!$H:$H,Bogføring!$E:$E,\"=\"&$P$5,Bogføring!$D:$D,\"=\"&A105)","v":0}]
[102,"Mogens Christoffersen","Pingels Allé 70",3700,"Rønne",56951013,"mac@teliamail.dk",null,null,102,{"$f":"IF(L106=0,\"\",INDEX(Bogføring!$A:$A,MATCH(Tabel2[[#This Row],[Medl.nr. :]],Bogføring!$D:$D,0),0))","v":"2018-05-31"},{"$f":"SUMIFS(Bogføring!H:H,Bogføring!E:E,\"=\"&$L$5,Bogføring!D:D,\"=\"&A106)","v":175},{"$f":"IF(N106=0,\"\",SUMIFS(Bogføring!A:A,Bogføring!E:E,\"=\"&$N$5,Bogføring!D:D,\"=\"&A106))","v":"2020-09-12"},{"$f":"SUMIFS(Bogføring!H:H,Bogføring!E:E,\"=\"&$N$5,Bogføring!D:D,\"=\"&A106)","v":175},{"$f":"IF(N106=0,\"\",SUMIFS(Bogføring!$A:$A,Bogføring!$E:$E,\"=\"&$P$5,Bogføring!$D:$D,\"=\"&A106))","v":0},{"$f":"SUMIFS(Bogføring!$H:$H,Bogføring!$E:$E,\"=\"&$P$5,Bogføring!$D:$D,\"=\"&A106)","v":0}]
[103,"Kjeld E. Hansen","Torneværksvej 36",3700,"Rønne",56955076,"torn@hansen.mail.dk",null,null,103,{"$f":"IF(L107=0,\"\",INDEX(Bogføring!$A:$A,MATCH(Tabel2[[#This Row],[Medl.nr. :]],Bogføring!$D:$D,0),0))","v":""},{"$f":"SUMIFS(Bogføring!H:H,Bogføring!E:E,\"=\"&$L$5,Bogføring!D:D,\"=\"&A107)","v":0},{"$f":"IF(N107=0,\"\",SUMIFS(Bogføring!A:A,Bogføring!E:E,\"=\"&$N$5,Bogføring!D:D,\"=\"&A107))","v":""},{"$f":"SUMIFS(Bogføring!H:H,Bogføring!E:E,\"=\"&$N$5,Bogføring!D:D,\"=\"&A107)","v":0},{"$f":"IF(N107=0,\"\",SUMIFS(Bogføring!$A:$A,Bogføring!$E:$E,\"=\"&$P$5,Bogføring!$D:$D,\"=\"&A107))","v":""},{"$f":"SUMIFS(Bogføring!$H:$H,Bogføring!$E:$E,\"=\"&$P$5,Bogføring!$D:$D,\"=\"&A107)","v":0}]
[104,"Christian J. Duch","Borreshovedvej 5",4654,"Fakse Ladeplads",21220340,"christianduch@fakse-ladeplads.dk",null,null,104,{"$f":"IF(L108=0,\"\",INDEX(Bogføring!$A:$A,MATCH(Tabel2[[#This Row],[Medl.nr. :]],Bogføring!$D:$D,0),0))","v":"2018-10-22"},{"$f":"SUMIFS(Bogføring!H:H,Bogføring!E:E,\"=\"&$L$5,Bogføring!D:D,\"=\"&A108)","v":175},{"$f":"IF(N108=0,\"\",SUMIFS(Bogføring!A:A,Bogføring!E:E,\"=\"&$N$5,Bogføring!D:D,\"=\"&A108))","v":""},{"$f":"SUMIFS(Bogføring!H:H,Bogføring!E:E,\"=\"&$N$5,Bogføring!D:D,\"=\"&A108)","v":0},{"$f":"IF(N108=0,\"\",SUMIFS(Bogføring!$A:$A,Bogføring!$E:$E,\"=\"&$P$5,Bogføring!$D:$D,\"=\"&A108))","v":""},{"$f":"SUMIFS(Bogføring!$H:$H,Bogføring!$E:$E,\"=\"&$P$5,Bogføring!$D:$D,\"=\"&A108)","v":0}]
[105,"Lauge Madsen","Østergade 19",4171,"Glumsø",57646877,"inge-lise@madsen.adsl.tdc.dk",null,null,105,{"$f":"IF(L109=0,\"\",INDEX(Bogføring!$A:$A,MATCH(Tabel2[[#This Row],[Medl.nr. :]],Bogføring!$D:$D,0),0))","v":""},{"$f":"SUMIFS(Bogføring!H:H,Bogføring!E:E,\"=\"&$L$5,Bogføring!D:D,\"=\"&A109)","v":0},{"$f":"IF(N109=0,\"\",SUMIFS(Bogføring!A:A,Bogføring!E:E,\"=\"&$N$5,Bogføring!D:D,\"=\"&A109))","v":""},{"$f":"SUMIFS(Bogføring!H:H,Bogføring!E:E,\"=\"&$N$5,Bogføring!D:D,\"=\"&A109)","v":0},{"$f":"IF(N109=0,\"\",SUMIFS(Bogføring!$A:$A,Bogføring!$E:$E,\"=\"&$P$5,Bogføring!$D:$D,\"=\"&A109))","v":""},{"$f":"SUMIFS(Bogføring!$H:$H,Bogføring!$E:$E,\"=\"&$P$5,Bogføring!$D:$D,\"=\"&A109)","v":0}]
[106,"Bjarne Lind","Strandvejen 140",3700,"Rønne",21750454,"b.lind@privat.dk",null,"Har betalt 2 gange, 31/3/20 - næste år",106,{"$f":"IF(L110=0,\"\",INDEX(Bogføring!$A:$A,MATCH(Tabel2[[#This Row],[Medl.nr. :]],Bogføring!$D:$D,0),0))","v":""},{"$f":"SUMIFS(Bogføring!H:H,Bogføring!E:E,\"=\"&$L$5,Bogføring!D:D,\"=\"&A110)","v":0},{"$f":"IF(N110=0,\"\",SUMIFS(Bogføring!A:A,Bogføring!E:E,\"=\"&$N$5,Bogføring!D:D,\"=\"&A110))","v":"2020-10-05"},{"$f":"SUMIFS(Bogføring!H:H,Bogføring!E:E,\"=\"&$N$5,Bogføring!D:D,\"=\"&A110)","v":175},{"$f":"IF(N110=0,\"\",SUMIFS(Bogføring!$A:$A,Bogføring!$E:$E,\"=\"&$P$5,Bogføring!$D:$D,\"=\"&A110))","v":0},{"$f":"SUMIFS(Bogføring!$H:$H,Bogføring!$E:$E,\"=\"&$P$5,Bogføring!$D:$D,\"=\"&A110)","v":0}]
[107,"Vagn Risager","Ndr. Strandvej 73, Tejn",3770,"Allinge",21275950,"vri@mail.dk",null,"Har betalt 2 gange, 13/3/20 - næste år",107,{"$f":"IF(L111=0,\"\",INDEX(Bogføring!$A:$A,MATCH(Tabel2[[#This Row],[Medl.nr. :]],Bogføring!$D:$D,0),0))","v":"2019-12-23"},{"$f":"SUMIFS(Bogføring!H:H,Bogføring!E:E,\"=\"&$L$5,Bogføring!D:D,\"=\"&A111)","v":175},{"$f":"IF(N111=0,\"\",SUMIFS(Bogføring!A:A,Bogføring!E:E,\"=\"&$N$5,Bogføring!D:D,\"=\"&A111))","v":"2020-09-28"},{"$f":"SUMIFS(Bogføring!H:H,Bogføring!E:E,\"=\"&$N$5,Bogføring!D:D,\"=\"&A111)","v":175},{"$f":"IF(N111=0,\"\",SUMIFS(Bogføring!$A:$A,Bogføring!$E:$E,\"=\"&$P$5,Bogføring!$D:$D,\"=\"&A111))","v":0},{"$f":"SUMIFS(Bogføring!$H:$H,Bogføring!$E:$E,\"=\"&$P$5,Bogføring!$D:$D,\"=\"&A111)","v":0}]
[108,"Kornel L. Christiansen","Blykobbevej 26",3700,"Rønne",56952610,"jytte-kornel@post.tele.dk",null,null,108,{"$f":"IF(L112=0,\"\",INDEX(Bogføring!$A:$A,MATCH(Tabel2[[#This Row],[Medl.nr. :]],Bogføring!$D:$D,0),0))","v":"2020-02-11"},{"$f":"SUMIFS(Bogføring!H:H,Bogføring!E:E,\"=\"&$L$5,Bogføring!D:D,\"=\"&A112)","v":175},{"$f":"IF(N112=0,\"\",SUMIFS(Bogføring!A:A,Bogføring!E:E,\"=\"&$N$5,Bogføring!D:D,\"=\"&A112))","v":"2020-09-30"},{"$f":"SUMIFS(Bogføring!H:H,Bogføring!E:E,\"=\"&$N$5,Bogføring!D:D,\"=\"&A112)","v":175},{"$f":"IF(N112=0,\"\",SUMIFS(Bogføring!$A:$A,Bogføring!$E:$E,\"=\"&$P$5,Bogføring!$D:$D,\"=\"&A112))","v":0},{"$f":"SUMIFS(Bogføring!$H:$H,Bogføring!$E:$E,\"=\"&$P$5,Bogføring!$D:$D,\"=\"&A112)","v":0}]
[109,"Svend Rasmussen","Kjeldgårdsvej 8, Gl. Mollerup",7900,"Nykøbing Mors",20153735,"svendrasmussen@hotmail.com",2018,null,109,{"$f":"IF(L113=0,\"\",INDEX(Bogføring!$A:$A,MATCH(Tabel2[[#This Row],[Medl.nr. :]],Bogføring!$D:$D,0),0))","v":""},{"$f":"SUMIFS(Bogføring!H:H,Bogføring!E:E,\"=\"&$L$5,Bogføring!D:D,\"=\"&A113)","v":0},{"$f":"IF(N113=0,\"\",SUMIFS(Bogføring!A:A,Bogføring!E:E,\"=\"&$N$5,Bogføring!D:D,\"=\"&A113))","v":"2020-09-15"},{"$f":"SUMIFS(Bogføring!H:H,Bogføring!E:E,\"=\"&$N$5,Bogføring!D:D,\"=\"&A113)","v":175},{"$f":"IF(N113=0,\"\",SUMIFS(Bogføring!$A:$A,Bogføring!$E:$E,\"=\"&$P$5,Bogføring!$D:$D,\"=\"&A113))","v":0},{"$f":"SUMIFS(Bogføring!$H:$H,Bogføring!$E:$E,\"=\"&$P$5,Bogføring!$D:$D,\"=\"&A113)","v":0}]
[110,"Kaj Grøn","Egeløkken 14",3700,"Rønne",56952592,"kgron@mail.dk",null,null,110,{"$f":"IF(L114=0,\"\",INDEX(Bogføring!$A:$A,MATCH(Tabel2[[#This Row],[Medl.nr. :]],Bogføring!$D:$D,0),0))","v":""},{"$f":"SUMIFS(Bogføring!H:H,Bogføring!E:E,\"=\"&$L$5,Bogføring!D:D,\"=\"&A114)","v":0},{"$f":"IF(N114=0,\"\",SUMIFS(Bogføring!A:A,Bogføring!E:E,\"=\"&$N$5,Bogføring!D:D,\"=\"&A114))","v":"2020-09-14"},{"$f":"SUMIFS(Bogføring!H:H,Bogføring!E:E,\"=\"&$N$5,Bogføring!D:D,\"=\"&A114)","v":175},{"$f":"IF(N114=0,\"\",SUMIFS(Bogføring!$A:$A,Bogføring!$E:$E,\"=\"&$P$5,Bogføring!$D:$D,\"=\"&A114))","v":0},{"$f":"SUMIFS(Bogføring!$H:$H,Bogføring!$E:$E,\"=\"&$P$5,Bogføring!$D:$D,\"=\"&A114)","v":0}]
[111,"Carl Ilsøe","Kapelvej 15",3700,"Rønne",30181939,"carlilsoe@gmail.com",null,null,111,{"$f":"IF(L115=0,\"\",INDEX(Bogføring!$A:$A,MATCH(Tabel2[[#This Row],[Medl.nr. :]],Bogføring!$D:$D,0),0))","v":""},{"$f":"SUMIFS(Bogføring!H:H,Bogføring!E:E,\"=\"&$L$5,Bogføring!D:D,\"=\"&A115)","v":0},{"$f":"IF(N115=0,\"\",SUMIFS(Bogføring!A:A,Bogføring!E:E,\"=\"&$N$5,Bogføring!D:D,\"=\"&A115))","v":""},{"$f":"SUMIFS(Bogføring!H:H,Bogføring!E:E,\"=\"&$N$5,Bogføring!D:D,\"=\"&A115)","v":0},{"$f":"IF(N115=0,\"\",SUMIFS(Bogføring!$A:$A,Bogføring!$E:$E,\"=\"&$P$5,Bogføring!$D:$D,\"=\"&A115))","v":""},{"$f":"SUMIFS(Bogføring!$H:$H,Bogføring!$E:$E,\"=\"&$P$5,Bogføring!$D:$D,\"=\"&A115)","v":0}]
[112,"Nicolai Ilsted Bech","Teglporten 16",3460,"Birkerød",60777958,"ilsted.nb@gmail.com",2018,null,112,{"$f":"IF(L116=0,\"\",INDEX(Bogføring!$A:$A,MATCH(Tabel2[[#This Row],[Medl.nr. :]],Bogføring!$D:$D,0),0))","v":""},{"$f":"SUMIFS(Bogføring!H:H,Bogføring!E:E,\"=\"&$L$5,Bogføring!D:D,\"=\"&A116)","v":0},{"$f":"IF(N116=0,\"\",SUMIFS(Bogføring!A:A,Bogføring!E:E,\"=\"&$N$5,Bogføring!D:D,\"=\"&A116))","v":""},{"$f":"SUMIFS(Bogføring!H:H,Bogføring!E:E,\"=\"&$N$5,Bogføring!D:D,\"=\"&A116)","v":0},{"$f":"IF(N116=0,\"\",SUMIFS(Bogføring!$A:$A,Bogføring!$E:$E,\"=\"&$P$5,Bogføring!$D:$D,\"=\"&A116))","v":""},{"$f":"SUMIFS(Bogføring!$H:$H,Bogføring!$E:$E,\"=\"&$P$5,Bogføring!$D:$D,\"=\"&A116)","v":0}]
[113,"Marianne Thomsen Kjæmpe","Røglevænget 5",3450,"Allerød",null,"Marianne@kjoeller.dk",null,null,113,{"$f":"IF(L117=0,\"\",INDEX(Bogføring!$A:$A,MATCH(Tabel2[[#This Row],[Medl.nr. :]],Bogføring!$D:$D,0),0))","v":""},{"$f":"SUMIFS(Bogføring!H:H,Bogføring!E:E,\"=\"&$L$5,Bogføring!D:D,\"=\"&A117)","v":0},{"$f":"IF(N117=0,\"\",SUMIFS(Bogføring!A:A,Bogføring!E:E,\"=\"&$N$5,Bogføring!D:D,\"=\"&A117))","v":""},{"$f":"SUMIFS(Bogføring!H:H,Bogføring!E:E,\"=\"&$N$5,Bogføring!D:D,\"=\"&A117)","v":0},{"$f":"IF(N117=0,\"\",SUMIFS(Bogføring!$A:$A,Bogføring!$E:$E,\"=\"&$P$5,Bogføring!$D:$D,\"=\"&A117))","v":""},{"$f":"SUMIFS(Bogføring!$H:$H,Bogføring!$E:$E,\"=\"&$P$5,Bogføring!$D:$D,\"=\"&A117)","v":0}]
[114,"Henning Søby Andersen","Hedebovej 31",3700,"Rønne",24851642,"hsoebyandersen1961@gmail.com",null,null,114,{"$f":"IF(L118=0,\"\",INDEX(Bogføring!$A:$A,MATCH(Tabel2[[#This Row],[Medl.nr. :]],Bogføring!$D:$D,0),0))","v":""},{"$f":"SUMIFS(Bogføring!H:H,Bogføring!E:E,\"=\"&$L$5,Bogføring!D:D,\"=\"&A118)","v":0},{"$f":"IF(N118=0,\"\",SUMIFS(Bogføring!A:A,Bogføring!E:E,\"=\"&$N$5,Bogføring!D:D,\"=\"&A118))","v":""},{"$f":"SUMIFS(Bogføring!H:H,Bogføring!E:E,\"=\"&$N$5,Bogføring!D:D,\"=\"&A118)","v":0},{"$f":"IF(N118=0,\"\",SUMIFS(Bogføring!$A:$A,Bogføring!$E:$E,\"=\"&$P$5,Bogføring!$D:$D,\"=\"&A118))","v":""},{"$f":"SUMIFS(Bogføring!$H:$H,Bogføring!$E:$E,\"=\"&$P$5,Bogføring!$D:$D,\"=\"&A118)","v":0}]
[115,"Anders Koefoed Larsen","Kampeløkken 9",3770,"Allinge",40322002,"akl@sport.dk",null,null,115,{"$f":"IF(L119=0,\"\",INDEX(Bogføring!$A:$A,MATCH(Tabel2[[#This Row],[Medl.nr. :]],Bogføring!$D:$D,0),0))","v":""},{"$f":"SUMIFS(Bogføring!H:H,Bogføring!E:E,\"=\"&$L$5,Bogføring!D:D,\"=\"&A119)","v":0},{"$f":"IF(N119=0,\"\",SUMIFS(Bogføring!A:A,Bogføring!E:E,\"=\"&$N$5,Bogføring!D:D,\"=\"&A119))","v":""},{"$f":"SUMIFS(Bogføring!H:H,Bogføring!E:E,\"=\"&$N$5,Bogføring!D:D,\"=\"&A119)","v":0},{"$f":"IF(N119=0,\"\",SUMIFS(Bogføring!$A:$A,Bogføring!$E:$E,\"=\"&$P$5,Bogføring!$D:$D,\"=\"&A119))","v":""},{"$f":"SUMIFS(Bogføring!$H:$H,Bogføring!$E:$E,\"=\"&$P$5,Bogføring!$D:$D,\"=\"&A119)","v":0}]
[116,"Holger Fuglsang-Damgård","Pæretræsdalen 12",3700,"Rønne",23305594,"fuglsang@info.dk",null,null,116,{"$f":"IF(L120=0,\"\",INDEX(Bogføring!$A:$A,MATCH(Tabel2[[#This Row],[Medl.nr. :]],Bogføring!$D:$D,0),0))","v":""},{"$f":"SUMIFS(Bogføring!H:H,Bogføring!E:E,\"=\"&$L$5,Bogføring!D:D,\"=\"&A120)","v":0},{"$f":"IF(N120=0,\"\",SUMIFS(Bogføring!A:A,Bogføring!E:E,\"=\"&$N$5,Bogføring!D:D,\"=\"&A120))","v":""},{"$f":"SUMIFS(Bogføring!H:H,Bogføring!E:E,\"=\"&$N$5,Bogføring!D:D,\"=\"&A120)","v":0},{"$f":"IF(N120=0,\"\",SUMIFS(Bogføring!$A:$A,Bogføring!$E:$E,\"=\"&$P$5,Bogføring!$D:$D,\"=\"&A120))","v":""},{"$f":"SUMIFS(Bogføring!$H:$H,Bogføring!$E:$E,\"=\"&$P$5,Bogføring!$D:$D,\"=\"&A120)","v":0}]
[117,"Martin Kaltoft","Lille Madsegade 19",3700,"Rønne",40412349,"seattle@mail.tele.dk",null,"OBS - 2019 - betalt til og med 2029",117,{"$f":"IF(L121=0,\"\",INDEX(Bogføring!$A:$A,MATCH(Tabel2[[#This Row],[Medl.nr. :]],Bogføring!$D:$D,0),0))","v":""},{"$f":"SUMIFS(Bogføring!H:H,Bogføring!E:E,\"=\"&$L$5,Bogføring!D:D,\"=\"&A121)","v":0},{"$f":"IF(N121=0,\"\",SUMIFS(Bogføring!A:A,Bogføring!E:E,\"=\"&$N$5,Bogføring!D:D,\"=\"&A121))","v":""},{"$f":"SUMIFS(Bogføring!H:H,Bogføring!E:E,\"=\"&$N$5,Bogføring!D:D,\"=\"&A121)","v":0},{"$f":"IF(N121=0,\"\",SUMIFS(Bogføring!$A:$A,Bogføring!$E:$E,\"=\"&$P$5,Bogføring!$D:$D,\"=\"&A121))","v":""},{"$f":"SUMIFS(Bogføring!$H:$H,Bogføring!$E:$E,\"=\"&$P$5,Bogføring!$D:$D,\"=\"&A121)","v":0}]
[118,"Poul Johnny Drachmann","Toftelunden 24",3790,"Hasle",61713848,"johnny.drachmann@gmail.com",2018,null,118,{"$f":"IF(L122=0,\"\",INDEX(Bogføring!$A:$A,MATCH(Tabel2[[#This Row],[Medl.nr. :]],Bogføring!$D:$D,0),0))","v":""},{"$f":"SUMIFS(Bogføring!H:H,Bogføring!E:E,\"=\"&$L$5,Bogføring!D:D,\"=\"&A122)","v":0},{"$f":"IF(N122=0,\"\",SUMIFS(Bogføring!A:A,Bogføring!E:E,\"=\"&$N$5,Bogføring!D:D,\"=\"&A122))","v":""},{"$f":"SUMIFS(Bogføring!H:H,Bogføring!E:E,\"=\"&$N$5,Bogføring!D:D,\"=\"&A122)","v":0},{"$f":"IF(N122=0,\"\",SUMIFS(Bogføring!$A:$A,Bogføring!$E:$E,\"=\"&$P$5,Bogføring!$D:$D,\"=\"&A122))","v":""},{"$f":"SUMIFS(Bogføring!$H:$H,Bogføring!$G:$G,\"=\"&$P$5,Bogføring!$D:$D,\"=\"&A122)","v":0}]
[119,"John V. Jakobsen","Kong Georgs Vej 88, 4 th.",2000,"Frederiksberg",28608077,"jvarmark@gmail.com",null,null,119,{"$f":"IF(L123=0,\"\",INDEX(Bogføring!$A:$A,MATCH(Tabel2[[#This Row],[Medl.nr. :]],Bogføring!$D:$D,0),0))","v":""},{"$f":"SUMIFS(Bogføring!H:H,Bogføring!E:E,\"=\"&$L$5,Bogføring!D:D,\"=\"&A123)","v":0},{"$f":"IF(N123=0,\"\",SUMIFS(Bogføring!A:A,Bogføring!E:E,\"=\"&$N$5,Bogføring!D:D,\"=\"&A123))","v":""},{"$f":"SUMIFS(Bogføring!H:H,Bogføring!E:E,\"=\"&$N$5,Bogføring!D:D,\"=\"&A123)","v":0},{"$f":"IF(N123=0,\"\",SUMIFS(Bogføring!$A:$A,Bogføring!$E:$E,\"=\"&$P$5,Bogføring!$D:$D,\"=\"&A123))","v":""},{"$f":"SUMIFS(Bogføring!$H:$H,Bogføring!$G:$G,\"=\"&$P$5,Bogføring!$D:$D,\"=\"&A123)","v":0}]
[120,"Aage Juul","Svanekevej 19",3700,"Rønne",56952410,"aagejuul@mail.dk",null,null,120,{"$f":"IF(L124=0,\"\",INDEX(Bogføring!$A:$A,MATCH(Tabel2[[#This Row],[Medl.nr. :]],Bogføring!$D:$D,0),0))","v":""},{"$f":"SUMIFS(Bogføring!H:H,Bogføring!E:E,\"=\"&$L$5,Bogføring!D:D,\"=\"&A124)","v":0},{"$f":"IF(N124=0,\"\",SUMIFS(Bogføring!A:A,Bogføring!E:E,\"=\"&$N$5,Bogføring!D:D,\"=\"&A124))","v":""},{"$f":"SUMIFS(Bogføring!H:H,Bogføring!E:E,\"=\"&$N$5,Bogføring!D:D,\"=\"&A124)","v":0},{"$f":"IF(N124=0,\"\",SUMIFS(Bogføring!$A:$A,Bogføring!$E:$E,\"=\"&$P$5,Bogføring!$D:$D,\"=\"&A124))","v":""},{"$f":"SUMIFS(Bogføring!$H:$H,Bogføring!$G:$G,\"=\"&$P$5,Bogføring!$D:$D,\"=\"&A124)","v":0}]
[121,"Ole og Gurli Hansen","Munkegårdsvejen 10, Poulsker",3730,"Nexø",42211180,"gurli@mailreal.dk",null,null,121,{"$f":"IF(L125=0,\"\",INDEX(Bogføring!$A:$A,MATCH(Tabel2[[#This Row],[Medl.nr. :]],Bogføring!$D:$D,0),0))","v":""},{"$f":"SUMIFS(Bogføring!H:H,Bogføring!E:E,\"=\"&$L$5,Bogføring!D:D,\"=\"&A125)","v":0},{"$f":"IF(N125=0,\"\",SUMIFS(Bogføring!A:A,Bogføring!E:E,\"=\"&$N$5,Bogføring!D:D,\"=\"&A125))","v":""},{"$f":"SUMIFS(Bogføring!H:H,Bogføring!E:E,\"=\"&$N$5,Bogføring!D:D,\"=\"&A125)","v":0},{"$f":"IF(N125=0,\"\",SUMIFS(Bogføring!$A:$A,Bogføring!$E:$E,\"=\"&$P$5,Bogføring!$D:$D,\"=\"&A125))","v":""},{"$f":"SUMIFS(Bogføring!$H:$H,Bogføring!$G:$G,\"=\"&$P$5,Bogføring!$D:$D,\"=\"&A125)","v":0}]
[122,"Noomi og Peter Aage Bak","Rønnevej 132, Nylars",3700,"Rønne",56972166,"peteraagebak@gmail.com",null,null,122,{"$f":"IF(L126=0,\"\",INDEX(Bogføring!$A:$A,MATCH(Tabel2[[#This Row],[Medl.nr. :]],Bogføring!$D:$D,0),0))","v":""},{"$f":"SUMIFS(Bogføring!H:H,Bogføring!E:E,\"=\"&$L$5,Bogføring!D:D,\"=\"&A126)","v":0},{"$f":"IF(N126=0,\"\",SUMIFS(Bogføring!A:A,Bogføring!E:E,\"=\"&$N$5,Bogføring!D:D,\"=\"&A126))","v":""},{"$f":"SUMIFS(Bogføring!H:H,Bogføring!E:E,\"=\"&$N$5,Bogføring!D:D,\"=\"&A126)","v":0},{"$f":"IF(N126=0,\"\",SUMIFS(Bogføring!$A:$A,Bogføring!$E:$E,\"=\"&$P$5,Bogføring!$D:$D,\"=\"&A126))","v":""},{"$f":"SUMIFS(Bogføring!$H:$H,Bogføring!$G:$G,\"=\"&$P$5,Bogføring!$D:$D,\"=\"&A126)","v":0}]
[123,"Carl Emil Kragh","Helgenæsvej 175",4900,"Nakskov",51158426,"cekragh@youmail.dk",null,null,123,{"$f":"IF(L127=0,\"\",INDEX(Bogføring!$A:$A,MATCH(Tabel2[[#This Row],[Medl.nr. :]],Bogføring!$D:$D,0),0))","v":""},{"$f":"SUMIFS(Bogføring!H:H,Bogføring!E:E,\"=\"&$L$5,Bogføring!D:D,\"=\"&A127)","v":0},{"$f":"IF(N127=0,\"\",SUMIFS(Bogføring!A:A,Bogføring!E:E,\"=\"&$N$5,Bogføring!D:D,\"=\"&A127))","v":""},{"$f":"SUMIFS(Bogføring!H:H,Bogføring!E:E,\"=\"&$N$5,Bogføring!D:D,\"=\"&A127)","v":0},{"$f":"IF(N127=0,\"\",SUMIFS(Bogføring!$A:$A,Bogføring!$E:$E,\"=\"&$P$5,Bogføring!$D:$D,\"=\"&A127))","v":""},{"$f":"SUMIFS(Bogføring!$H:$H,Bogføring!$G:$G,\"=\"&$P$5,Bogføring!$D:$D,\"=\"&A127)","v":0}]
[124,"Jørn Koefoed Larsen","Mågevej 34, Madsnedø",4760,"Vordingborg",23628188,"masnedbo34@gmail.com",null,null,124,{"$f":"IF(L128=0,\"\",INDEX(Bogføring!$A:$A,MATCH(Tabel2[[#This Row],[Medl.nr. :]],Bogføring!$D:$D,0),0))","v":""},{"$f":"SUMIFS(Bogføring!H:H,Bogføring!E:E,\"=\"&$L$5,Bogføring!D:D,\"=\"&A128)","v":0},{"$f":"IF(N128=0,\"\",SUMIFS(Bogføring!A:A,Bogføring!E:E,\"=\"&$N$5,Bogføring!D:D,\"=\"&A128))","v":""},{"$f":"SUMIFS(Bogføring!H:H,Bogføring!E:E,\"=\"&$N$5,Bogføring!D:D,\"=\"&A128)","v":0},{"$f":"IF(N128=0,\"\",SUMIFS(Bogføring!$A:$A,Bogføring!$E:$E,\"=\"&$P$5,Bogføring!$D:$D,\"=\"&A128))","v":""},{"$f":"SUMIFS(Bogføring!$H:$H,Bogføring!$G:$G,\"=\"&$P$5,Bogføring!$D:$D,\"=\"&A128)","v":0}]
[125,"Jørgen Jensen","Stenhusvej 2",4130,"Viby Sj.",23414178,"jfmj78@gmail.com",2020,null,125,{"$f":"IF(L129=0,\"\",INDEX(Bogføring!$A:$A,MATCH(Tabel2[[#This Row],[Medl.nr. :]],Bogføring!$D:$D,0),0))","v":""},{"$f":"SUMIFS(Bogføring!H:H,Bogføring!E:E,\"=\"&$L$5,Bogføring!D:D,\"=\"&A129)","v":0},{"$f":"IF(N129=0,\"\",SUMIFS(Bogføring!A:A,Bogføring!E:E,\"=\"&$N$5,Bogføring!D:D,\"=\"&A129))","v":""},{"$f":"SUMIFS(Bogføring!H:H,Bogføring!E:E,\"=\"&$N$5,Bogføring!D:D,\"=\"&A129)","v":0},{"$f":"IF(N129=0,\"\",SUMIFS(Bogføring!$A:$A,Bogføring!$E:$E,\"=\"&$P$5,Bogføring!$D:$D,\"=\"&A129))","v":""},{"$f":"SUMIFS(Bogføring!$H:$H,Bogføring!$G:$G,\"=\"&$P$5,Bogføring!$D:$D,\"=\"&A129)","v":0}]
[126,"Ole Hassager","Ved Grænsen 62",2000,"Frederiksberg",23652303,"ole.hassager@gmail.com",2020,null,126,{"$f":"IF(L130=0,\"\",INDEX(Bogføring!$A:$A,MATCH(Tabel2[[#This Row],[Medl.nr. :]],Bogføring!$D:$D,0),0))","v":""},{"$f":"SUMIFS(Bogføring!H:H,Bogføring!E:E,\"=\"&$L$5,Bogføring!D:D,\"=\"&A130)","v":0},{"$f":"IF(N130=0,\"\",SUMIFS(Bogføring!A:A,Bogføring!E:E,\"=\"&$N$5,Bogføring!D:D,\"=\"&A130))","v":""},{"$f":"SUMIFS(Bogføring!H:H,Bogføring!E:E,\"=\"&$N$5,Bogføring!D:D,\"=\"&A130)","v":0},{"$f":"IF(N130=0,\"\",SUMIFS(Bogføring!$A:$A,Bogføring!$E:$E,\"=\"&$P$5,Bogføring!$D:$D,\"=\"&A130))","v":""},{"$f":"SUMIFS(Bogføring!$H:$H,Bogføring!$G:$G,\"=\"&$P$5,Bogføring!$D:$D,\"=\"&A130)","v":0}]
[127,"Per K. Funch","Skarpegade 5",3700,"Rønne",null,"GIRO",null,null,127,{"$f":"IF(L131=0,\"\",INDEX(Bogføring!$A:$A,MATCH(Tabel2[[#This Row],[Medl.nr. :]],Bogføring!$D:$D,0),0))","v":""},{"$f":"SUMIFS(Bogføring!H:H,Bogføring!E:E,\"=\"&$L$5,Bogføring!D:D,\"=\"&A131)","v":0},{"$f":"IF(N131=0,\"\",SUMIFS(Bogføring!A:A,Bogføring!E:E,\"=\"&$N$5,Bogføring!D:D,\"=\"&A131))","v":""},{"$f":"SUMIFS(Bogføring!H:H,Bogføring!E:E,\"=\"&$N$5,Bogføring!D:D,\"=\"&A131)","v":0},{"$f":"IF(N131=0,\"\",SUMIFS(Bogføring!$A:$A,Bogføring!$E:$E,\"=\"&$P$5,Bogføring!$D:$D,\"=\"&A131))","v":""},{"$f":"SUMIFS(Bogføring!$H:$H,Bogføring!$G:$G,\"=\"&$P$5,Bogføring!$D:$D,\"=\"&A131)","v":0}]
[128,"Niels Bøje P. Karlsen","Torneværksvej 45,1 lejl. 5",3700,"Rønne",40203559,"GIRO",2019,null,128,{"$f":"IF(L132=0,\"\",INDEX(Bogføring!$A:$A,MATCH(Tabel2[[#This Row],[Medl.nr. :]],Bogføring!$D:$D,0),0))","v":""},{"$f":"SUMIFS(Bogføring!H:H,Bogføring!E:E,\"=\"&$L$5,Bogføring!D:D,\"=\"&A132)","v":0},{"$f":"IF(N132=0,\"\",SUMIFS(Bogføring!A:A,Bogføring!E:E,\"=\"&$N$5,Bogføring!D:D,\"=\"&A132))","v":""},{"$f":"SUMIFS(Bogføring!H:H,Bogføring!E:E,\"=\"&$N$5,Bogføring!D:D,\"=\"&A132)","v":0},{"$f":"IF(N132=0,\"\",SUMIFS(Bogføring!$A:$A,Bogføring!$E:$E,\"=\"&$P$5,Bogføring!$D:$D,\"=\"&A132))","v":""},{"$f":"SUMIFS(Bogføring!$H:$H,Bogføring!$G:$G,\"=\"&$P$5,Bogføring!$D:$D,\"=\"&A132)","v":0}]
[129,"Ebba L. Bang","Skarvigen 8, Aarsdale",3740,"Svaneke",56496566,"GIRO",null,null,129,{"$f":"IF(L133=0,\"\",INDEX(Bogføring!$A:$A,MATCH(Tabel2[[#This Row],[Medl.nr. :]],Bogføring!$D:$D,0),0))","v":""},{"$f":"SUMIFS(Bogføring!H:H,Bogføring!E:E,\"=\"&$L$5,Bogføring!D:D,\"=\"&A133)","v":0},{"$f":"IF(N133=0,\"\",SUMIFS(Bogføring!A:A,Bogføring!E:E,\"=\"&$N$5,Bogføring!D:D,\"=\"&A133))","v":""},{"$f":"SUMIFS(Bogføring!H:H,Bogføring!E:E,\"=\"&$N$5,Bogføring!D:D,\"=\"&A133)","v":0},{"$f":"IF(N133=0,\"\",SUMIFS(Bogføring!$A:$A,Bogføring!$E:$E,\"=\"&$P$5,Bogføring!$D:$D,\"=\"&A133))","v":""},{"$f":"SUMIFS(Bogføring!$H:$H,Bogføring!$G:$G,\"=\"&$P$5,Bogføring!$D:$D,\"=\"&A133)","v":0}]
[130,"Jørn Nilsson","Snellemark 4",3700,"Rønne",null,"GIRO",2018,"Bet. af Jesper Nilsson - Stormgade 5",{"$f":"IF(A134=\"\",\"\",A134)","v":130},{"$f":"IF(L134=0,\"\",INDEX(Bogføring!$A:$A,MATCH(Tabel2[[#This Row],[Medl.nr. :]],Bogføring!$D:$D,0),0))","v":""},{"$f":"SUMIFS(Bogføring!H:H,Bogføring!E:E,\"=\"&$L$5,Bogføring!D:D,\"=\"&A134)","v":0},{"$f":"IF(N134=0,\"\",SUMIFS(Bogføring!A:A,Bogføring!E:E,\"=\"&$N$5,Bogføring!D:D,\"=\"&A134))","v":""},{"$f":"SUMIFS(Bogføring!H:H,Bogføring!E:E,\"=\"&$N$5,Bogføring!D:D,\"=\"&A134)","v":0},{"$f":"IF(N134=0,\"\",SUMIFS(Bogføring!$A:$A,Bogføring!$E:$E,\"=\"&$P$5,Bogføring!$D:$D,\"=\"&A134))","v":""},{"$f":"SUMIFS(Bogføring!$H:$H,Bogføring!$G:$G,\"=\"&$P$5,Bogføring!$D:$D,\"=\"&A134)","v":0}]
[131,"Ole Brandt Andersen","Æblestien 13",3700,"Rønne",29889916,"GIRO",null,null,131,{"$f":"IF(L135=0,\"\",INDEX(Bogføring!$A:$A,MATCH(Tabel2[[#This Row],[Medl.nr. :]],Bogføring!$D:$D,0),0))","v":""},{"$f":"SUMIFS(Bogføring!H:H,Bogføring!E:E,\"=\"&$L$5,Bogføring!D:D,\"=\"&A135)","v":0},{"$f":"IF(N135=0,\"\",SUMIFS(Bogføring!A:A,Bogføring!E:E,\"=\"&$N$5,Bogføring!D:D,\"=\"&A135))","v":""},{"$f":"SUMIFS(Bogføring!H:H,Bogføring!E:E,\"=\"&$N$5,Bogføring!D:D,\"=\"&A135)","v":0},{"$f":"IF(N135=0,\"\",SUMIFS(Bogføring!$A:$A,Bogføring!$E:$E,\"=\"&$P$5,Bogføring!$D:$D,\"=\"&A135))","v":""},{"$f":"SUMIFS(Bogføring!$H:$H,Bogføring!$G:$G,\"=\"&$P$5,Bogføring!$D:$D,\"=\"&A135)","v":0}]
[132,"Bent Aune","Gammel Byvej 4A, 1.th.",2650,"Hvidovre",29629091,"GIRO",null,null,132,{"$f":"IF(L136=0,\"\",INDEX(Bogføring!$A:$A,MATCH(Tabel2[[#This Row],[Medl.nr. :]],Bogføring!$D:$D,0),0))","v":""},{"$f":"SUMIFS(Bogføring!H:H,Bogføring!E:E,\"=\"&$L$5,Bogføring!D:D,\"=\"&A136)","v":0},{"$f":"IF(N136=0,\"\",SUMIFS(Bogføring!A:A,Bogføring!E:E,\"=\"&$N$5,Bogføring!D:D,\"=\"&A136))","v":""},{"$f":"SUMIFS(Bogføring!H:H,Bogføring!E:E,\"=\"&$N$5,Bogføring!D:D,\"=\"&A136)","v":0},{"$f":"IF(N136=0,\"\",SUMIFS(Bogføring!$A:$A,Bogføring!$E:$E,\"=\"&$P$5,Bogføring!$D:$D,\"=\"&A136))","v":""},{"$f":"SUMIFS(Bogføring!$H:$H,Bogføring!$G:$G,\"=\"&$P$5,Bogføring!$D:$D,\"=\"&A136)","v":0}]
[134,"Poul Dyrekær Nielsen","Diget 16",4652,"Hårlev",23906231,"GIRO",null,null,134,{"$f":"IF(L137=0,\"\",INDEX(Bogføring!$A:$A,MATCH(Tabel2[[#This Row],[Medl.nr. :]],Bogføring!$D:$D,0),0))","v":""},{"$f":"SUMIFS(Bogføring!H:H,Bogføring!E:E,\"=\"&$L$5,Bogføring!D:D,\"=\"&A137)","v":0},{"$f":"IF(N137=0,\"\",SUMIFS(Bogføring!A:A,Bogføring!E:E,\"=\"&$N$5,Bogføring!D:D,\"=\"&A137))","v":""},{"$f":"SUMIFS(Bogføring!H:H,Bogføring!E:E,\"=\"&$N$5,Bogføring!D:D,\"=\"&A137)","v":0},{"$f":"IF(N137=0,\"\",SUMIFS(Bogføring!$A:$A,Bogføring!$E:$E,\"=\"&$P$5,Bogføring!$D:$D,\"=\"&A137))","v":""},{"$f":"SUMIFS(Bogføring!$H:$H,Bogføring!$G:$G,\"=\"&$P$5,Bogføring!$D:$D,\"=\"&A137)","v":0}]
[135,"Leif Herluf Nielsen","Smålandsvej 25",3700,"Rønne",56957971,"GIRO",null,null,135,{"$f":"IF(L138=0,\"\",INDEX(Bogføring!$A:$A,MATCH(Tabel2[[#This Row],[Medl.nr. :]],Bogføring!$D:$D,0),0))","v":""},{"$f":"SUMIFS(Bogføring!H:H,Bogføring!E:E,\"=\"&$L$5,Bogføring!D:D,\"=\"&A138)","v":0},{"$f":"IF(N138=0,\"\",SUMIFS(Bogføring!A:A,Bogføring!E:E,\"=\"&$N$5,Bogføring!D:D,\"=\"&A138))","v":""},{"$f":"SUMIFS(Bogføring!H:H,Bogføring!E:E,\"=\"&$N$5,Bogføring!D:D,\"=\"&A138)","v":0},{"$f":"IF(N138=0,\"\",SUMIFS(Bogføring!$A:$A,Bogføring!$E:$E,\"=\"&$P$5,Bogføring!$D:$D,\"=\"&A138))","v":""},{"$f":"SUMIFS(Bogføring!$H:$H,Bogføring!$G:$G,\"=\"&$P$5,Bogføring!$D:$D,\"=\"&A138)","v":0}]
[136,"Kurt Mogensen","Voldgade 28",3700,"Rønne",24803842,"GIRO",null,null,136,{"$f":"IF(L139=0,\"\",INDEX(Bogføring!$A:$A,MATCH(Tabel2[[#This Row],[Medl.nr. :]],Bogføring!$D:$D,0),0))","v":""},{"$f":"SUMIFS(Bogføring!H:H,Bogføring!E:E,\"=\"&$L$5,Bogføring!D:D,\"=\"&A139)","v":0},{"$f":"IF(N139=0,\"\",SUMIFS(Bogføring!A:A,Bogføring!E:E,\"=\"&$N$5,Bogføring!D:D,\"=\"&A139))","v":""},{"$f":"SUMIFS(Bogføring!H:H,Bogføring!E:E,\"=\"&$N$5,Bogføring!D:D,\"=\"&A139)","v":0},{"$f":"IF(N139=0,\"\",SUMIFS(Bogføring!$A:$A,Bogføring!$E:$E,\"=\"&$P$5,Bogføring!$D:$D,\"=\"&A139))","v":""},{"$f":"SUMIFS(Bogføring!$H:$H,Bogføring!$G:$G,\"=\"&$P$5,Bogføring!$D:$D,\"=\"&A139)","v":0}]
[137,"Hans Hardo Holmgaard Christensen","Skørpingevej 21 a",4673,"Rødvig",21192109,"GIRO",null,"Bet. af Tina Egholm Jensen",137,{"$f":"IF(L140=0,\"\",INDEX(Bogføring!$A:$A,MATCH(Tabel2[[#This Row],[Medl.nr. :]],Bogføring!$D:$D,0),0))","v":""},{"$f":"SUMIFS(Bogføring!H:H,Bogføring!E:E,\"=\"&$L$5,Bogføring!D:D,\"=\"&A140)","v":0},{"$f":"IF(N140=0,\"\",SUMIFS(Bogføring!A:A,Bogføring!E:E,\"=\"&$N$5,Bogføring!D:D,\"=\"&A140))","v":""},{"$f":"SUMIFS(Bogføring!H:H,Bogføring!E:E,\"=\"&$N$5,Bogføring!D:D,\"=\"&A140)","v":0},{"$f":"IF(N140=0,\"\",SUMIFS(Bogføring!$A:$A,Bogføring!$E:$E,\"=\"&$P$5,Bogføring!$D:$D,\"=\"&A140))","v":""},{"$f":"SUMIFS(Bogføring!$H:$H,Bogføring!$G:$G,\"=\"&$P$5,Bogføring!$D:$D,\"=\"&A140)","v":0}]
[138,"Bente Bojesen-Koefoed","Storegade 67",3700,"Rønne",56950941,"GIRO",null,null,138,{"$f":"IF(L141=0,\"\",INDEX(Bogføring!$A:$A,MATCH(Tabel2[[#This Row],[Medl.nr. :]],Bogføring!$D:$D,0),0))","v":""},{"$f":"SUMIFS(Bogføring!H:H,Bogføring!E:E,\"=\"&$L$5,Bogføring!D:D,\"=\"&A141)","v":0},{"$f":"IF(N141=0,\"\",SUMIFS(Bogføring!A:A,Bogføring!E:E,\"=\"&$N$5,Bogføring!D:D,\"=\"&A141))","v":""},{"$f":"SUMIFS(Bogføring!H:H,Bogføring!E:E,\"=\"&$N$5,Bogføring!D:D,\"=\"&A141)","v":0},{"$f":"IF(N141=0,\"\",SUMIFS(Bogføring!$A:$A,Bogføring!$E:$E,\"=\"&$P$5,Bogføring!$D:$D,\"=\"&A141))","v":""},{"$f":"SUMIFS(Bogføring!$H:$H,Bogføring!$G:$G,\"=\"&$P$5,Bogføring!$D:$D,\"=\"&A141)","v":0}]
[139,"Fritz Olsen","Teglgårdsvej 19",3700,"Rønne",56950217,"GIRO",null,null,139,{"$f":"IF(L142=0,\"\",INDEX(Bogføring!$A:$A,MATCH(Tabel2[[#This Row],[Medl.nr. :]],Bogføring!$D:$D,0),0))","v":""},{"$f":"SUMIFS(Bogføring!H:H,Bogføring!E:E,\"=\"&$L$5,Bogføring!D:D,\"=\"&A142)","v":0},{"$f":"IF(N142=0,\"\",SUMIFS(Bogføring!A:A,Bogføring!E:E,\"=\"&$N$5,Bogføring!D:D,\"=\"&A142))","v":""},{"$f":"SUMIFS(Bogføring!H:H,Bogføring!E:E,\"=\"&$N$5,Bogføring!D:D,\"=\"&A142)","v":0},{"$f":"IF(N142=0,\"\",SUMIFS(Bogføring!$A:$A,Bogføring!$E:$E,\"=\"&$P$5,Bogføring!$D:$D,\"=\"&A142))","v":""},{"$f":"SUMIFS(Bogføring!$H:$H,Bogføring!$G:$G,\"=\"&$P$5,Bogføring!$D:$D,\"=\"&A142)","v":0}]
[140,"Birthe Jepsen","Finsensvej 7C, st.th",2000,"Frederiksberg",29661836,"GIRO",null,null,140,{"$f":"IF(L143=0,\"\",INDEX(Bogføring!$A:$A,MATCH(Tabel2[[#This Row],[Medl.nr. :]],Bogføring!$D:$D,0),0))","v":""},{"$f":"SUMIFS(Bogføring!H:H,Bogføring!E:E,\"=\"&$L$5,Bogføring!D:D,\"=\"&A143)","v":0},{"$f":"IF(N143=0,\"\",SUMIFS(Bogføring!A:A,Bogføring!E:E,\"=\"&$N$5,Bogføring!D:D,\"=\"&A143))","v":""},{"$f":"SUMIFS(Bogføring!H:H,Bogføring!E:E,\"=\"&$N$5,Bogføring!D:D,\"=\"&A143)","v":0},{"$f":"IF(N143=0,\"\",SUMIFS(Bogføring!$A:$A,Bogføring!$E:$E,\"=\"&$P$5,Bogføring!$D:$D,\"=\"&A143))","v":""},{"$f":"SUMIFS(Bogføring!$H:$H,Bogføring!$G:$G,\"=\"&$P$5,Bogføring!$D:$D,\"=\"&A143)","v":0}]
[141,"Niels Holm","Havnebakken 1 A, Lejl. 1",3700,"Rønne",56951638,"GIRO",null,null,141,{"$f":"IF(L144=0,\"\",INDEX(Bogføring!$A:$A,MATCH(Tabel2[[#This Row],[Medl.nr. :]],Bogføring!$D:$D,0),0))","v":""},{"$f":"SUMIFS(Bogføring!H:H,Bogføring!E:E,\"=\"&$L$5,Bogføring!D:D,\"=\"&A144)","v":0},{"$f":"IF(N144=0,\"\",SUMIFS(Bogføring!A:A,Bogføring!E:E,\"=\"&$N$5,Bogføring!D:D,\"=\"&A144))","v":""},{"$f":"SUMIFS(Bogføring!H:H,Bogføring!E:E,\"=\"&$N$5,Bogføring!D:D,\"=\"&A144)","v":0},{"$f":"IF(N144=0,\"\",SUMIFS(Bogføring!$A:$A,Bogføring!$E:$E,\"=\"&$P$5,Bogføring!$D:$D,\"=\"&A144))","v":""},{"$f":"SUMIFS(Bogføring!$H:$H,Bogføring!$G:$G,\"=\"&$P$5,Bogføring!$D:$D,\"=\"&A144)","v":0}]
[142,"Ole Sonne","Sorteengevejen 2, Nylars",3700,"Rønne",30495111,"GIRO",null,null,142,{"$f":"IF(L145=0,\"\",INDEX(Bogføring!$A:$A,MATCH(Tabel2[[#This Row],[Medl.nr. :]],Bogføring!$D:$D,0),0))","v":""},{"$f":"SUMIFS(Bogføring!H:H,Bogføring!E:E,\"=\"&$L$5,Bogføring!D:D,\"=\"&A145)","v":0},{"$f":"IF(N145=0,\"\",SUMIFS(Bogføring!A:A,Bogføring!E:E,\"=\"&$N$5,Bogføring!D:D,\"=\"&A145))","v":""},{"$f":"SUMIFS(Bogføring!H:H,Bogføring!E:E,\"=\"&$N$5,Bogføring!D:D,\"=\"&A145)","v":0},{"$f":"IF(N145=0,\"\",SUMIFS(Bogføring!$A:$A,Bogføring!$E:$E,\"=\"&$P$5,Bogføring!$D:$D,\"=\"&A145))","v":""},{"$f":"SUMIFS(Bogføring!$H:$H,Bogføring!$G:$G,\"=\"&$P$5,Bogføring!$D:$D,\"=\"&A145)","v":0}]
[143,"Peter Aage Henriksen","Overgaden Neden Vandet 5B, st.tv.",1414,"København K",20305977,"Hx@webspeed.dk",null,null,143,{"$f":"IF(L146=0,\"\",INDEX(Bogføring!$A:$A,MATCH(Tabel2[[#This Row],[Medl.nr. :]],Bogføring!$D:$D,0),0))","v":""},{"$f":"SUMIFS(Bogføring!H:H,Bogføring!E:E,\"=\"&$L$5,Bogføring!D:D,\"=\"&A146)","v":0},{"$f":"IF(N146=0,\"\",SUMIFS(Bogføring!A:A,Bogføring!E:E,\"=\"&$N$5,Bogføring!D:D,\"=\"&A146))","v":""},{"$f":"SUMIFS(Bogføring!H:H,Bogføring!E:E,\"=\"&$N$5,Bogføring!D:D,\"=\"&A146)","v":0},{"$f":"IF(N146=0,\"\",SUMIFS(Bogføring!$A:$A,Bogføring!$E:$E,\"=\"&$P$5,Bogføring!$D:$D,\"=\"&A146))","v":""},{"$f":"SUMIFS(Bogføring!$H:$H,Bogføring!$G:$G,\"=\"&$P$5,Bogføring!$D:$D,\"=\"&A146)","v":0}]
[144,"Karsten Rasmussen","Løkkegade 3",3790,"Hasle",56955227,"GIRO-nummeret ikke i brug",null,null,144,{"$f":"IF(L147=0,\"\",INDEX(Bogføring!$A:$A,MATCH(Tabel2[[#This Row],[Medl.nr. :]],Bogføring!$D:$D,0),0))","v":""},{"$f":"SUMIFS(Bogføring!H:H,Bogføring!E:E,\"=\"&$L$5,Bogføring!D:D,\"=\"&A147)","v":0},{"$f":"IF(N147=0,\"\",SUMIFS(Bogføring!A:A,Bogføring!E:E,\"=\"&$N$5,Bogføring!D:D,\"=\"&A147))","v":""},{"$f":"SUMIFS(Bogføring!H:H,Bogføring!E:E,\"=\"&$N$5,Bogføring!D:D,\"=\"&A147)","v":0},{"$f":"IF(N147=0,\"\",SUMIFS(Bogføring!$A:$A,Bogføring!$E:$E,\"=\"&$P$5,Bogføring!$D:$D,\"=\"&A147))","v":""},{"$f":"SUMIFS(Bogføring!$H:$H,Bogføring!$G:$G,\"=\"&$P$5,Bogføring!$D:$D,\"=\"&A147)","v":0}]
[145,"John Pedersen","Rundløkkevejen 2",3720,"Åkirkeby",56974224,"GIRO-nummeret ikke i brug",null,null,145,{"$f":"IF(L148=0,\"\",INDEX(Bogføring!$A:$A,MATCH(Tabel2[[#This Row],[Medl.nr. :]],Bogføring!$D:$D,0),0))","v":""},{"$f":"SUMIFS(Bogføring!H:H,Bogføring!E:E,\"=\"&$L$5,Bogføring!D:D,\"=\"&A148)","v":0},{"$f":"IF(N148=0,\"\",SUMIFS(Bogføring!A:A,Bogføring!E:E,\"=\"&$N$5,Bogføring!D:D,\"=\"&A148))","v":""},{"$f":"SUMIFS(Bogføring!H:H,Bogføring!E:E,\"=\"&$N$5,Bogføring!D:D,\"=\"&A148)","v":0},{"$f":"IF(N148=0,\"\",SUMIFS(Bogføring!$A:$A,Bogføring!$E:$E,\"=\"&$P$5,Bogføring!$D:$D,\"=\"&A148))","v":""},{"$f":"SUMIFS(Bogføring!$H:$H,Bogføring!$G:$G,\"=\"&$P$5,Bogføring!$D:$D,\"=\"&A148)","v":0}]
[146,"Marianne Hansen","Ipsens Have 10",3700,"Rønne",61394505,"Giro",null,null,146,{"$f":"IF(L149=0,\"\",INDEX(Bogføring!$A:$A,MATCH(Tabel2[[#This Row],[Medl.nr. :]],Bogføring!$D:$D,0),0))","v":""},{"$f":"SUMIFS(Bogføring!H:H,Bogføring!E:E,\"=\"&$L$5,Bogføring!D:D,\"=\"&A149)","v":0},{"$f":"IF(N149=0,\"\",SUMIFS(Bogføring!A:A,Bogføring!E:E,\"=\"&$N$5,Bogføring!D:D,\"=\"&A149))","v":""},{"$f":"SUMIFS(Bogføring!H:H,Bogføring!E:E,\"=\"&$N$5,Bogføring!D:D,\"=\"&A149)","v":0},{"$f":"IF(N149=0,\"\",SUMIFS(Bogføring!$A:$A,Bogføring!$E:$E,\"=\"&$P$5,Bogføring!$D:$D,\"=\"&A149))","v":""},{"$f":"SUMIFS(Bogføring!$H:$H,Bogføring!$G:$G,\"=\"&$P$5,Bogføring!$D:$D,\"=\"&A149)","v":0}]
[147,"Michael Christian Kofoed","Langelinie 10",3700,"Rønne ",null,null,null,null,147,{"$f":"IF(L150=0,\"\",INDEX(Bogføring!$A:$A,MATCH(Tabel2[[#This Row],[Medl.nr. :]],Bogføring!$D:$D,0),0))","v":""},{"$f":"SUMIFS(Bogføring!H:H,Bogføring!E:E,\"=\"&$L$5,Bogføring!D:D,\"=\"&A150)","v":0},{"$f":"IF(N150=0,\"\",SUMIFS(Bogføring!A:A,Bogføring!E:E,\"=\"&$N$5,Bogføring!D:D,\"=\"&A150))","v":""},{"$f":"SUMIFS(Bogføring!H:H,Bogføring!E:E,\"=\"&$N$5,Bogføring!D:D,\"=\"&A150)","v":0},{"$f":"IF(N150=0,\"\",SUMIFS(Bogføring!$A:$A,Bogføring!$E:$E,\"=\"&$P$5,Bogføring!$D:$D,\"=\"&A150))","v":""},{"$f":"SUMIFS(Bogføring!$H:$H,Bogføring!$G:$G,\"=\"&$P$5,Bogføring!$D:$D,\"=\"&A150)","v":0}]
[148,"Poul-Erik Kofoed","Slåenvej 31",3700,"Rønne",29253020,"pekofoed@hotmail.dk",null,null,148,{"$f":"IF(L151=0,\"\",INDEX(Bogføring!$A:$A,MATCH(Tabel2[[#This Row],[Medl.nr. :]],Bogføring!$D:$D,0),0))","v":""},{"$f":"SUMIFS(Bogføring!H:H,Bogføring!E:E,\"=\"&$L$5,Bogføring!D:D,\"=\"&A151)","v":0},{"$f":"IF(N151=0,\"\",SUMIFS(Bogføring!A:A,Bogføring!E:E,\"=\"&$N$5,Bogføring!D:D,\"=\"&A151))","v":""},{"$f":"SUMIFS(Bogføring!H:H,Bogføring!E:E,\"=\"&$N$5,Bogføring!D:D,\"=\"&A151)","v":0},{"$f":"IF(N151=0,\"\",SUMIFS(Bogføring!$A:$A,Bogføring!$E:$E,\"=\"&$P$5,Bogføring!$D:$D,\"=\"&A151))","v":""},{"$f":"SUMIFS(Bogføring!$H:$H,Bogføring!$G:$G,\"=\"&$P$5,Bogføring!$D:$D,\"=\"&A151)","v":0}]
[1001,"Rønne Handelsstandsfor. c/o Meny","StoreTorv 11",3700,"Rønne",null,"037619@meny.dk",null,null,1001,{"$f":"IF(L152=0,\"\",INDEX(Bogføring!$A:$A,MATCH(Tabel2[[#This Row],[Medl.nr. :]],Bogføring!$D:$D,0),0))","v":""},{"$f":"SUMIFS(Bogføring!H:H,Bogføring!E:E,\"=\"&$L$5,Bogføring!D:D,\"=\"&A152)","v":0},{"$f":"IF(N152=0,\"\",SUMIFS(Bogføring!A:A,Bogføring!E:E,\"=\"&$N$5,Bogføring!D:D,\"=\"&A152))","v":""},{"$f":"SUMIFS(Bogføring!H:H,Bogføring!E:E,\"=\"&$N$5,Bogføring!D:D,\"=\"&A152)","v":0},{"$f":"IF(N152=0,\"\",SUMIFS(Bogføring!$A:$A,Bogføring!$E:$E,\"=\"&$P$5,Bogføring!$D:$D,\"=\"&A152))","v":""},{"$f":"SUMIFS(Bogføring!$H:$H,Bogføring!$G:$G,\"=\"&$P$5,Bogføring!$D:$D,\"=\"&A152)","v":0}]
[1002,"Kastellets Venner og Historisk Samling c/o Steen Kjær","Skoletoften 1",6430,"Nordborg",null,null,null,"Gl. Hovedvagt, Kastellet 1, 2100 København Ø",1002,{"$f":"IF(L153=0,\"\",INDEX(Bogføring!$A:$A,MATCH(Tabel2[[#This Row],[Medl.nr. :]],Bogføring!$D:$D,0),0))","v":""},{"$f":"SUMIFS(Bogføring!H:H,Bogføring!E:E,\"=\"&$L$5,Bogføring!D:D,\"=\"&A153)","v":0},{"$f":"IF(N153=0,\"\",SUMIFS(Bogføring!A:A,Bogføring!E:E,\"=\"&$N$5,Bogføring!D:D,\"=\"&A153))","v":""},{"$f":"SUMIFS(Bogføring!H:H,Bogføring!E:E,\"=\"&$N$5,Bogføring!D:D,\"=\"&A153)","v":0},{"$f":"IF(N153=0,\"\",SUMIFS(Bogføring!$A:$A,Bogføring!$E:$E,\"=\"&$P$5,Bogføring!$D:$D,\"=\"&A153))","v":""},{"$f":"SUMIFS(Bogføring!$H:$H,Bogføring!$G:$G,\"=\"&$P$5,Bogføring!$D:$D,\"=\"&A153)","v":0}]
[1003,"BH LT-Gilde v/Niels Lausten Brogård","Skolebakken 84",2830,"Virum",null,null,null,"Bidrag Betalt den 3/12/2019",1003,{"$f":"IF(L154=0,\"\",INDEX(Bogføring!$A:$A,MATCH(Tabel2[[#This Row],[Medl.nr. :]],Bogføring!$D:$D,0),0))","v":""},{"$f":"SUMIFS(Bogføring!H:H,Bogføring!E:E,\"=\"&$L$5,Bogføring!D:D,\"=\"&A154)","v":0},{"$f":"IF(N154=0,\"\",SUMIFS(Bogføring!A:A,Bogføring!E:E,\"=\"&$N$5,Bogføring!D:D,\"=\"&A154))","v":""},{"$f":"SUMIFS(Bogføring!H:H,Bogføring!E:E,\"=\"&$N$5,Bogføring!D:D,\"=\"&A154)","v":0},{"$f":"IF(N154=0,\"\",SUMIFS(Bogføring!$A:$A,Bogføring!$E:$E,\"=\"&$P$5,Bogføring!$D:$D,\"=\"&A154))","v":""},{"$f":"SUMIFS(Bogføring!$H:$H,Bogføring!$G:$G,\"=\"&$P$5,Bogføring!$D:$D,\"=\"&A154)","v":0}]
[1004,"EDC BornholmerBo-Kurt Mortensen","Tornegade 1-3",3700,"Rønne",56955683,"371@edc.dk ",2019,null,1004,{"$f":"IF(L155=0,\"\",INDEX(Bogføring!$A:$A,MATCH(Tabel2[[#This Row],[Medl.nr. :]],Bogføring!$D:$D,0),0))","v":""},{"$f":"SUMIFS(Bogføring!H:H,Bogføring!E:E,\"=\"&$L$5,Bogføring!D:D,\"=\"&A155)","v":0},{"$f":"IF(N155=0,\"\",SUMIFS(Bogføring!A:A,Bogføring!E:E,\"=\"&$N$5,Bogføring!D:D,\"=\"&A155))","v":""},{"$f":"SUMIFS(Bogføring!H:H,Bogføring!E:E,\"=\"&$N$5,Bogføring!D:D,\"=\"&A155)","v":0},{"$f":"IF(N155=0,\"\",SUMIFS(Bogføring!$A:$A,Bogføring!$E:$E,\"=\"&$P$5,Bogføring!$D:$D,\"=\"&A155))","v":""},{"$f":"SUMIFS(Bogføring!$H:$H,Bogføring!$G:$G,\"=\"&$P$5,Bogføring!$D:$D,\"=\"&A155)","v":0}]
[1005,"HKKF Hærens Konstabel- og Korporalfor.","Borgergade 101, Postboks 143",8600,"Silkeborg",null,"GIRO",null,null,1005,{"$f":"IF(L156=0,\"\",INDEX(Bogføring!$A:$A,MATCH(Tabel2[[#This Row],[Medl.nr. :]],Bogføring!$D:$D,0),0))","v":""},{"$f":"SUMIFS(Bogføring!H:H,Bogføring!E:E,\"=\"&$L$5,Bogføring!D:D,\"=\"&A156)","v":0},{"$f":"IF(N156=0,\"\",SUMIFS(Bogføring!A:A,Bogføring!E:E,\"=\"&$N$5,Bogføring!D:D,\"=\"&A156))","v":""},{"$f":"SUMIFS(Bogføring!H:H,Bogføring!E:E,\"=\"&$N$5,Bogføring!D:D,\"=\"&A156)","v":0},{"$f":"IF(N156=0,\"\",SUMIFS(Bogføring!$A:$A,Bogføring!$E:$E,\"=\"&$P$5,Bogføring!$D:$D,\"=\"&A156))","v":""},{"$f":"SUMIFS(Bogføring!$H:$H,Bogføring!$G:$G,\"=\"&$P$5,Bogføring!$D:$D,\"=\"&A156)","v":0}]
[1006,"BECK PACK SYSTEM a/s","Sandemandsvej 6",3700,"Rønne",null,"GIRO",null,null,1006,{"$f":"IF(L157=0,\"\",INDEX(Bogføring!$A:$A,MATCH(Tabel2[[#This Row],[Medl.nr. :]],Bogføring!$D:$D,0),0))","v":""},{"$f":"SUMIFS(Bogføring!H:H,Bogføring!E:E,\"=\"&$L$5,Bogføring!D:D,\"=\"&A157)","v":0},{"$f":"IF(N157=0,\"\",SUMIFS(Bogføring!A:A,Bogføring!E:E,\"=\"&$N$5,Bogføring!D:D,\"=\"&A157))","v":""},{"$f":"SUMIFS(Bogføring!H:H,Bogføring!E:E,\"=\"&$N$5,Bogføring!D:D,\"=\"&A157)","v":0},{"$f":"IF(N157=0,\"\",SUMIFS(Bogføring!$A:$A,Bogføring!$E:$E,\"=\"&$P$5,Bogføring!$D:$D,\"=\"&A157))","v":""},{"$f":"SUMIFS(Bogføring!$H:$H,Bogføring!$G:$G,\"=\"&$P$5,Bogføring!$D:$D,\"=\"&A157)","v":0}]
[1008,"Rønne Ejendomshandel","Søndergade 6",3700,"Rønne",56956886,"post@reh.dk",2020,null,1008,{"$f":"IF(L158=0,\"\",INDEX(Bogføring!$A:$A,MATCH(Tabel2[[#This Row],[Medl.nr. :]],Bogføring!$D:$D,0),0))","v":""},{"$f":"SUMIFS(Bogføring!H:H,Bogføring!E:E,\"=\"&$L$5,Bogføring!D:D,\"=\"&A158)","v":0},{"$f":"IF(N158=0,\"\",SUMIFS(Bogføring!A:A,Bogføring!E:E,\"=\"&$N$5,Bogføring!D:D,\"=\"&A158))","v":""},{"$f":"SUMIFS(Bogføring!H:H,Bogføring!E:E,\"=\"&$N$5,Bogføring!D:D,\"=\"&A158)","v":0},{"$f":"IF(N158=0,\"\",SUMIFS(Bogføring!$A:$A,Bogføring!$E:$E,\"=\"&$P$5,Bogføring!$D:$D,\"=\"&A158))","v":""},{"$f":"SUMIFS(Bogføring!$H:$H,Bogføring!$G:$G,\"=\"&$P$5,Bogføring!$D:$D,\"=\"&A158)","v":0}]
[1009,"Danbolig Bornholm","Nørregade 6",3700,"Rønne",56951995,"roenne@danbolig.dk",null,null,1009,{"$f":"IF(L159=0,\"\",INDEX(Bogføring!$A:$A,MATCH(Tabel2[[#This Row],[Medl.nr. :]],Bogføring!$D:$D,0),0))","v":""},{"$f":"SUMIFS(Bogføring!H:H,Bogføring!E:E,\"=\"&$L$5,Bogføring!D:D,\"=\"&A159)","v":0},{"$f":"IF(N159=0,\"\",SUMIFS(Bogføring!A:A,Bogføring!E:E,\"=\"&$N$5,Bogføring!D:D,\"=\"&A159))","v":""},{"$f":"SUMIFS(Bogføring!H:H,Bogføring!E:E,\"=\"&$N$5,Bogføring!D:D,\"=\"&A159)","v":0},{"$f":"IF(N159=0,\"\",SUMIFS(Bogføring!$A:$A,Bogføring!$E:$E,\"=\"&$P$5,Bogføring!$D:$D,\"=\"&A159))","v":""},{"$f":"SUMIFS(Bogføring!$H:$H,Bogføring!$G:$G,\"=\"&$P$5,Bogføring!$D:$D,\"=\"&A159)","v":0}]
[1010,"Danmarks Veteraner Afd. Bornholm v/KS Klaus RIIs Buchholdt","Glentevangen10",3700,"Rønne",20159791,"54atehena@gmail.com",2020,"betalt 2 gange 14/4/20",1010,{"$f":"IF(L160=0,\"\",INDEX(Bogføring!$A:$A,MATCH(Tabel2[[#This Row],[Medl.nr. :]],Bogføring!$D:$D,0),0))","v":""},{"$f":"SUMIFS(Bogføring!H:H,Bogføring!E:E,\"=\"&$L$5,Bogføring!D:D,\"=\"&A160)","v":0},{"$f":"IF(N160=0,\"\",SUMIFS(Bogføring!A:A,Bogføring!E:E,\"=\"&$N$5,Bogføring!D:D,\"=\"&A160))","v":""},{"$f":"SUMIFS(Bogføring!H:H,Bogføring!E:E,\"=\"&$N$5,Bogføring!D:D,\"=\"&A160)","v":0},{"$f":"IF(N160=0,\"\",SUMIFS(Bogføring!$A:$A,Bogføring!$E:$E,\"=\"&$P$5,Bogføring!$D:$D,\"=\"&A160))","v":""},{"$f":"SUMIFS(Bogføring!$H:$H,Bogføring!$G:$G,\"=\"&$P$5,Bogføring!$D:$D,\"=\"&A160)","v":0}]
[null,null,null,null,null,null,null,null,null,"",{"$f":"IF(L161=0,\"\",INDEX(Bogføring!$A:$A,MATCH(Tabel2[[#This Row],[Medl.nr. :]],Bogføring!$D:$D,0),0))","v":""},{"$f":"SUMIFS(Bogføring!H:H,Bogføring!E:E,\"=\"&$L$5,Bogføring!D:D,\"=\"&A161)","v":0},{"$f":"IF(N161=0,\"\",SUMIFS(Bogføring!A:A,Bogføring!E:E,\"=\"&$N$5,Bogføring!D:D,\"=\"&A161))","v":""},{"$f":"SUMIFS(Bogføring!H:H,Bogføring!E:E,\"=\"&$N$5,Bogføring!D:D,\"=\"&A161)","v":0},{"$f":"IF(N161=0,\"\",SUMIFS(Bogføring!$A:$A,Bogføring!$E:$E,\"=\"&$P$5,Bogføring!$D:$D,\"=\"&A161))","v":""},{"$f":"SUMIFS(Bogføring!$H:$H,Bogføring!$G:$G,\"=\"&$P$5,Bogføring!$D:$D,\"=\"&A161)","v":0}]
[null,null,null,null,null,null,null,null,null,"",{"$f":"IF(L162=0,\"\",INDEX(Bogføring!$A:$A,MATCH(Tabel2[[#This Row],[Medl.nr. :]],Bogføring!$D:$D,0),0))","v":""},{"$f":"SUMIFS(Bogføring!H:H,Bogføring!E:E,\"=\"&$L$5,Bogføring!D:D,\"=\"&A162)","v":0},{"$f":"IF(N162=0,\"\",SUMIFS(Bogføring!A:A,Bogføring!E:E,\"=\"&$N$5,Bogføring!D:D,\"=\"&A162))","v":""},{"$f":"SUMIFS(Bogføring!H:H,Bogføring!E:E,\"=\"&$N$5,Bogføring!D:D,\"=\"&A162)","v":0},{"$f":"IF(N162=0,\"\",SUMIFS(Bogføring!$A:$A,Bogføring!$E:$E,\"=\"&$P$5,Bogføring!$D:$D,\"=\"&A162))","v":""},{"$f":"SUMIFS(Bogføring!$H:$H,Bogføring!$G:$G,\"=\"&$P$5,Bogføring!$D:$D,\"=\"&A162)","v":0}]
[null,null,null,null,null,null,null,null,null,"",{"$f":"IF(L163=0,\"\",INDEX(Bogføring!$A:$A,MATCH(Tabel2[[#This Row],[Medl.nr. :]],Bogføring!$D:$D,0),0))","v":""},{"$f":"SUMIFS(Bogføring!H:H,Bogføring!E:E,\"=\"&$L$5,Bogføring!D:D,\"=\"&A163)","v":0},{"$f":"IF(N163=0,\"\",SUMIFS(Bogføring!A:A,Bogføring!E:E,\"=\"&$N$5,Bogføring!D:D,\"=\"&A163))","v":""},{"$f":"SUMIFS(Bogføring!H:H,Bogføring!E:E,\"=\"&$N$5,Bogføring!D:D,\"=\"&A163)","v":0},{"$f":"IF(N163=0,\"\",SUMIFS(Bogføring!$A:$A,Bogføring!$E:$E,\"=\"&$P$5,Bogføring!$D:$D,\"=\"&A163))","v":""},{"$f":"SUMIFS(Bogføring!$H:$H,Bogføring!$G:$G,\"=\"&$P$5,Bogføring!$D:$D,\"=\"&A163)","v":0}]
[null,null,null,null,null,null,null,null,null,"",{"$f":"IF(L164=0,\"\",INDEX(Bogføring!$A:$A,MATCH(Tabel2[[#This Row],[Medl.nr. :]],Bogføring!$D:$D,0),0))","v":""},{"$f":"SUMIFS(Bogføring!H:H,Bogføring!E:E,\"=\"&$L$5,Bogføring!D:D,\"=\"&A164)","v":0},{"$f":"IF(N164=0,\"\",SUMIFS(Bogføring!A:A,Bogføring!E:E,\"=\"&$N$5,Bogføring!D:D,\"=\"&A164))","v":""},{"$f":"SUMIFS(Bogføring!H:H,Bogføring!E:E,\"=\"&$N$5,Bogføring!D:D,\"=\"&A164)","v":0},{"$f":"IF(N164=0,\"\",SUMIFS(Bogføring!$A:$A,Bogføring!$E:$E,\"=\"&$P$5,Bogføring!$D:$D,\"=\"&A164))","v":""},{"$f":"SUMIFS(Bogføring!$H:$H,Bogføring!$G:$G,\"=\"&$P$5,Bogføring!$D:$D,\"=\"&A164)","v":0}]
[null,null,null,null,null,null,null,null,null,"",{"$f":"IF(L165=0,\"\",INDEX(Bogføring!$A:$A,MATCH(Tabel2[[#This Row],[Medl.nr. :]],Bogføring!$D:$D,0),0))","v":""},{"$f":"SUMIFS(Bogføring!H:H,Bogføring!E:E,\"=\"&$L$5,Bogføring!D:D,\"=\"&A165)","v":0},{"$f":"IF(N165=0,\"\",SUMIFS(Bogføring!A:A,Bogføring!E:E,\"=\"&$N$5,Bogføring!D:D,\"=\"&A165))","v":""},{"$f":"SUMIFS(Bogføring!H:H,Bogføring!E:E,\"=\"&$N$5,Bogføring!D:D,\"=\"&A165)","v":0},{"$f":"IF(N165=0,\"\",SUMIFS(Bogføring!$A:$A,Bogføring!$E:$E,\"=\"&$P$5,Bogføring!$D:$D,\"=\"&A165))","v":""},{"$f":"SUMIFS(Bogføring!$H:$H,Bogføring!$G:$G,\"=\"&$P$5,Bogføring!$D:$D,\"=\"&A165)","v":0}]
[null,null,null,null,null,null,null,null,null,{"$f":"IF(A166=\"\",\"\",A166)","v":""},{"$f":"IF(L166=0,\"\",INDEX(Bogføring!$A:$A,MATCH(Tabel2[[#This Row],[Medl.nr. :]],Bogføring!$D:$D,0),0))","v":""},{"$f":"SUMIFS(Bogføring!H:H,Bogføring!E:E,\"=\"&$L$5,Bogføring!D:D,\"=\"&A166)","v":0},{"$f":"IF(N166=0,\"\",SUMIFS(Bogføring!A:A,Bogføring!E:E,\"=\"&$N$5,Bogføring!D:D,\"=\"&A166))","v":""},{"$f":"SUMIFS(Bogføring!H:H,Bogføring!E:E,\"=\"&$N$5,Bogføring!D:D,\"=\"&A166)","v":0},{"$f":"IF(N166=0,\"\",SUMIFS(Bogføring!$A:$A,Bogføring!$E:$E,\"=\"&$P$5,Bogføring!$D:$D,\"=\"&A166))","v":""},{"$f":"SUMIFS(Bogføring!$H:$H,Bogføring!$G:$G,\"=\"&$P$5,Bogføring!$D:$D,\"=\"&A166)","v":0}]
[null,null,null,null,null,null,null,null,null,""]
[null,null,null,null,null,null,null,null,null,""]
[null,null,null,null,null,null,null,null,null,""]
[null,null,null,null,null,null,null,null,null,""]
[null,null,null,null,null,null,null,null,null,""]
[null,null,null,null,null,null,null,null,null,""]
[null,null,null,null,null,null,null,null,null,""]
[null,null,null,null,null,null,null,null,null,""]
[null,null,null,null,null,null,null,null,null,""]
[null,null,null,null,null,null,null,null,null,""]
[null,null,null,null,null,null,null,null,null,""]
[null,null,null,null,null,null,null,null,null,""]
[null,null,null,null,null,null,null,null,null,""]
[null,null,null,null,null,null,null,null,null,""]

{"sheet":"Noter","index":5,"n_rows":81,"n_cols":7,"rows_kept":81,"cut":false,"hidden":false,"merged":[[73,1,73,3],[49,1,49,3],[2,0,2,6],[60,1,60,3],[33,1,33,3],[41,1,41,3],[5,1,5,3],[18,1,18,3],[4,5,4,6]]}
[]
[]
[{"$f":"\"NOTER TIL ÅRSREGNSKAB FOR \"&'T2'!B2","v":"NOTER TIL ÅRSREGNSKAB FOR 2023"}]
["Note"]
[null,null,null,null,null,{"$f":"T!C7","v":"version 1.00.009.045"}]
[1,"Entre"]
[null,1010,{"$f":"VLOOKUP(B7,Kontoplan!$A$2:$B$98,2,0)","v":"Voksne"},null,null,null,{"$f":"IFERROR(VLOOKUP(B7,Kontoplan!$A$2:$C$95,3,0),0)","v":550}]
[null,1020,{"$f":"VLOOKUP(B8,Kontoplan!$A$2:$B$98,2,0)","v":"Pensionister"},null,null,null,{"$f":"IFERROR(VLOOKUP(B8,Kontoplan!$A$2:$C$95,3,0),0)","v":0}]
[null,1030,{"$f":"VLOOKUP(B9,Kontoplan!$A$2:$B$98,2,0)","v":"Børn 6-16"},null,null,null,{"$f":"IFERROR(VLOOKUP(B9,Kontoplan!$A$2:$C$95,3,0),0)","v":0}]
[null,1040,{"$f":"VLOOKUP(B10,Kontoplan!$A$2:$B$98,2,0)","v":"Soldater/veteraner"},null,null,null,{"$f":"IFERROR(VLOOKUP(B10,Kontoplan!$A$2:$C$95,3,0),0)","v":0}]
[null,1050,{"$f":"VLOOKUP(B11,Kontoplan!$A$2:$B$98,2,0)","v":"Skoler"},null,null,null,{"$f":"IFERROR(VLOOKUP(B11,Kontoplan!$A$2:$C$95,3,0),0)","v":0}]
[null,1060,{"$f":"VLOOKUP(B12,Kontoplan!$A$2:$B$98,2,0)","v":"Grupper"},null,null,null,{"$f":"IFERROR(VLOOKUP(B12,Kontoplan!$A$2:$C$95,3,0),0)","v":0}]
[null,1070,{"$f":"VLOOKUP(B13,Kontoplan!$A$2:$B$98,2,0)","v":"Guide"},null,null,null,{"$f":"IFERROR(VLOOKUP(B13,Kontoplan!$A$2:$C$95,3,0),0)","v":0}]
[null,1080,{"$f":"VLOOKUP(B14,Kontoplan!$A$2:$B$98,2,0)","v":0},null,null,null,{"$f":"IFERROR(VLOOKUP(B14,Kontoplan!$A$2:$C$95,3,0),0)","v":150}]
[]
[null,1000,{"$f":"VLOOKUP(B16,Kontoplan!$A$2:$B$98,2,0)","v":"Entre i alt"},null,null,null,{"$f":"SUM(G7:G14)","v":700}]
[]
[]
[2,"Kiosk Salg"]
[null,1210,{"$f":"VLOOKUP(B20,Kontoplan!$A$2:$B$98,2,0)","v":"Bælter"},null,null,null,{"$f":"IFERROR(VLOOKUP(B20,Kontoplan!$A$2:$C$95,3,0),0)","v":0}]
[null,1220,{"$f":"VLOOKUP(B21,Kontoplan!$A$2:$B$98,2,0)","v":"Bog salg"},null,null,null,{"$f":"IFERROR(VLOOKUP(B21,Kontoplan!$A$2:$C$95,3,0),0)","v":0}]
[null,1230,{"$f":"VLOOKUP(B22,Kontoplan!$A$2:$B$98,2,0)","v":"Færdige Tinsoldater"},null,null,null,{"$f":"IFERROR(VLOOKUP(B22,Kontoplan!$A$2:$C$95,3,0),0)","v":0}]
[null,1240,{"$f":"VLOOKUP(B23,Kontoplan!$A$2:$B$98,2,0)","v":"Landkort"},null,null,null,{"$f":"IFERROR(VLOOKUP(B23,Kontoplan!$A$2:$C$95,3,0),0)","v":0}]
[null,1250,{"$f":"VLOOKUP(B24,Kontoplan!$A$2:$B$98,2,0)","v":"Oplukker"},null,null,null,{"$f":"IFERROR(VLOOKUP(B24,Kontoplan!$A$2:$C$95,3,0),0)","v":0}]
[null,1260,{"$f":"VLOOKUP(B25,Kontoplan!$A$2:$B$98,2,0)","v":"Køleskabsmagneter"},null,null,null,{"$f":"IFERROR(VLOOKUP(B25,Kontoplan!$A$2:$C$95,3,0),0)","v":0}]
[null,1270,{"$f":"VLOOKUP(B26,Kontoplan!$A$2:$B$98,2,0)","v":"Postkort 3 stk."},null,null,null,{"$f":"IFERROR(VLOOKUP(B26,Kontoplan!$A$2:$C$95,3,0),0)","v":0}]
[null,1280,{"$f":"VLOOKUP(B27,Kontoplan!$A$2:$B$98,2,0)","v":"Postkort"},null,null,null,{"$f":"IFERROR(VLOOKUP(B27,Kontoplan!$A$2:$C$95,3,0),0)","v":0}]
[null,1290,{"$f":"VLOOKUP(B28,Kontoplan!$A$2:$B$98,2,0)","v":"Sodavand"},null,null,null,{"$f":"IFERROR(VLOOKUP(B28,Kontoplan!$A$2:$C$95,3,0),0)","v":0}]
[null,1300,{"$f":"VLOOKUP(B29,Kontoplan!$A$2:$B$98,2,0)","v":"Kage"},null,null,null,{"$f":"IFERROR(VLOOKUP(B29,Kontoplan!$A$2:$C$95,3,0),0)","v":0}]
[]
[null,1200,{"$f":"VLOOKUP(B31,Kontoplan!$A$2:$B$98,2,0)","v":"Kiosk salg"},null,null,null,{"$f":"VLOOKUP(B31,Kontoplan!$A$2:$C$95,3,0)","v":0}]
[]
[]
[3,"Kreditorer"]
[null,12370,{"$f":"VLOOKUP(B35,Kontoplan!$A$2:$B$98,2,0)","v":"Medlemskab i KVB"},null,null,null,{"$f":"IFERROR(VLOOKUP(B35,Kontoplan!$A$2:$C$95,3,0),0)","v":0}]
[null,12380,"Banklån",null,null,null,{"$f":"IFERROR(VLOOKUP(B36,Kontoplan!$A$2:$C$95,3,0),0)","v":0}]
[null,12390,"Private lån",null,null,null,{"$f":"IFERROR(VLOOKUP(B37,Kontoplan!$A$2:$C$95,3,0),0)","v":0}]
[]
[null,12400,"Kreditorer samler konto",null,null,null,{"$f":"SUM(G35:G37)","v":0}]
[]
[]
[4,"Debitorer"]
[null,12410,{"$f":"VLOOKUP(B43,Kontoplan!$A$2:$B$98,2,0)","v":"Tilgodehavende Kontingenter"},null,null,null,{"$f":"IFERROR(VLOOKUP(B43,Kontoplan!$A$2:$C$95,3,0),0)","v":0}]
[null,12420,{"$f":"VLOOKUP(B44,Kontoplan!$A$2:$B$98,2,0)","v":"Lån til Forsvarsmuseumet"},null,null,null,{"$f":"IFERROR(VLOOKUP(B44,Kontoplan!$A$2:$C$95,3,0),0)","v":0}]
[null,12430,{"$f":"VLOOKUP(B45,Kontoplan!$A$2:$B$98,2,0)","v":"Indbetalinger tilgode hos PayPal"},null,null,null,{"$f":"IFERROR(VLOOKUP(B45,Kontoplan!$A$2:$C$95,3,0),0)","v":0}]
[]
[null,12500,"Bebitorer i alt :",null,null,null,{"$f":"SUM(G43:G45)","v":0}]
[]
[]
[5,"Lokaleomkostninger"]
[null,null,"Forsikring af lokaler",null,null,null,{"$f":"IFERROR(VLOOKUP(B51,Kontoplan!$A$2:$C$95,3,0),0)","v":0}]
[null,null,"El, vand og varme",null,null,null,{"$f":"IFERROR(VLOOKUP(B52,Kontoplan!$A$2:$C$95,3,0),0)","v":0}]
[null,null,"Småanskaffelser og inventar",null,null,null,{"$f":"IFERROR(VLOOKUP(B53,Kontoplan!$A$2:$C$95,3,0),0)","v":0}]
[null,null,"Indvendig vedligeholdelse",null,null,null,{"$f":"IFERROR(VLOOKUP(B54,Kontoplan!$A$2:$C$95,3,0),0)","v":0}]
[null,null,"Udvendig vedligeholdelse",null,null,null,{"$f":"IFERROR(VLOOKUP(B55,Kontoplan!$A$2:$C$95,3,0),0)","v":0}]
[null,null,"…",null,null,null,{"$f":"IFERROR(VLOOKUP(B56,Kontoplan!$A$2:$C$95,3,0),0)","v":0}]
[]
[null,null,"Lokaleomkostninger i alt",null,null,null,{"$f":"SUM(G51:G56)","v":0}]
[]
[]
[6,"Administrationsomkostninger"]
[null,null,"Forsikring (ansvar, løsøre mv.)",null,null,null,{"$f":"IFERROR(VLOOKUP(B62,Kontoplan!$A$2:$C$95,3,0),0)","v":0}]
[null,null,"Kontorhold",null,null,null,{"$f":"IFERROR(VLOOKUP(B63,Kontoplan!$A$2:$C$95,3,0),0)","v":0}]
[null,null,"Kontingenter",null,null,null,{"$f":"IFERROR(VLOOKUP(B64,Kontoplan!$A$2:$C$95,3,0),0)","v":0}]
[null,null,"Uddannelse",null,null,null,{"$f":"IFERROR(VLOOKUP(B65,Kontoplan!$A$2:$C$95,3,0),0)","v":0}]
[null,null,"IT-udgifter",null,null,null,{"$f":"IFERROR(VLOOKUP(B66,Kontoplan!$A$2:$C$95,3,0),0)","v":0}]
[null,null,"Møder",null,null,null,{"$f":"IFERROR(VLOOKUP(B67,Kontoplan!$A$2:$C$95,3,0),0)","v":0}]
[null,null,"Porto og gebyrer",null,null,null,{"$f":"IFERROR(VLOOKUP(B68,Kontoplan!$A$2:$C$95,3,0),0)","v":0}]
[null,null,"…",null,null,null,{"$f":"IFERROR(VLOOKUP(B69,Kontoplan!$A$2:$C$95,3,0),0)","v":0}]
[]
[null,null,"Administrationsomkostninger i alt",null,null,null,{"$f":"SUM(G62:G69)","v":0}]
[]
[]
[7,"Markedsføring og repræsentation"]
[null,null,"Annoncering",null,null,null,{"$f":"IFERROR(VLOOKUP(B75,Kontoplan!$A$2:$C$95,3,0),0)","v":0}]
[null,null,"Sociale medier",null,null,null,{"$f":"IFERROR(VLOOKUP(B76,Kontoplan!$A$2:$C$95,3,0),0)","v":0}]
[null,null,"Gaver",null,null,null,{"$f":"IFERROR(VLOOKUP(B77,Kontoplan!$A$2:$C$95,3,0),0)","v":0}]
[null,null,"Repræsentation",null,null,null,{"$f":"IFERROR(VLOOKUP(B78,Kontoplan!$A$2:$C$95,3,0),0)","v":0}]
[null,null,"…",null,null,null,{"$f":"IFERROR(VLOOKUP(B79,Kontoplan!$A$2:$C$95,3,0),0)","v":0}]
[]
[null,null,"Markedsføring og repræsentation i alt",null,null,null,{"$f":"SUM(G75:G79)","v":0}]

{"sheet":"Afv %","index":6,"n_rows":61,"n_cols":10,"rows_kept":61,"cut":false,"hidden":true,"merged":[[0,1,0,9],[6,1,6,10],[7,3,7,4],[7,5,7,6],[7,7,7,8],[4,1,5,9]]}
[null,{"$f":"T!B9","v":"TEST - REGNSKAB"}]
[]
[]
[]
[null,{"$f":"\"Afvigelser \"&T!C2","v":"Afvigelser 2014"}]
[]
[null,{"$f":"T!A7","v":"Periode : 01-11-2014 - 31-10-2015"}]
[null,null,null,null,null,"Aktuelt år",null,"Sidste år",null,"Forrige år"]
[null,null,null,null,null,{"$f":"T!C2","v":2014},"afv i %",{"$f":"F9-1","v":2013},"afv i %",{"$f":"F9-2","v":2012}]
[null,"Indtægter"]
[]
[1000,{"$f":"IFERROR(VLOOKUP(A12,Kontoplan!$A$2:$D$96,2,0),\"\")","v":"Entre i alt"},null,null,{"$f":"IFERROR(IF(D12=0,\"\",(D12-H12)/H12),\"\")","v":""},{"$f":"SUMIFS(Bogføring!$H:$H,Bogføring!$A:$A,\">=\"&T!$C$4,Bogføring!$A:$A,\"<=\"&T!$C$5,Bogføring!$F:$F,A12)-SUMIFS(Bogføring!$G:$G,Bogføring!$A:$A,\">=\"&T!$C$4,Bogføring!$A:$A,\"<=\"&T!$C$5,Bogføring!$F:$F,A12)","v":5500},{"$f":"IFERROR((F12-H12)/H12,\"\")","v":""},{"$f":"SUMIFS(Bogføring!$H:$H,Bogføring!$A:$A,\">=\"&T!$D$4,Bogføring!$A:$A,\"<=\"&T!$D$5,Bogføring!$F:$F,A12)","v":0},{"$f":"IFERROR((H12-J12)/J12,\"\")","v":""},{"$f":"SUMIFS(Bogføring!$H:$H,Bogføring!$A:$A,\">=\"&T!$E$4,Bogføring!$A:$A,\"<=\"&T!$E$5,Bogføring!$F:$F,A12)","v":0}]
[1010,{"$f":"IFERROR(VLOOKUP(A13,Kontoplan!$A$2:$D$96,2,0),\"\")","v":"Voksne"},null,null,{"$f":"IFERROR(IF(D13=0,\"\",(D13-H13)/H13),\"\")","v":""},{"$f":"SUMIFS(Bogføring!$H:$H,Bogføring!$A:$A,\">=\"&T!$C$4,Bogføring!$A:$A,\"<=\"&T!$C$5,Bogføring!$F:$F,A13)-SUMIFS(Bogføring!$G:$G,Bogføring!$A:$A,\">=\"&T!$C$4,Bogføring!$A:$A,\"<=\"&T!$C$5,Bogføring!$F:$F,A13)","v":550},{"$f":"IFERROR((F13-H13)/H13,\"\")","v":""},{"$f":"SUMIFS(Bogføring!$H:$H,Bogføring!$A:$A,\">=\"&T!$D$4,Bogføring!$A:$A,\"<=\"&T!$D$5,Bogføring!$F:$F,A13)-SUMIFS(Bogføring!$G:$G,Bogføring!$A:$A,\">=\"&T!$D$4,Bogføring!$A:$A,\"<=\"&T!$D$5,Bogføring!$F:$F,A13)","v":0},{"$f":"IFERROR((H13-J13)/J13,\"\")","v":""},{"$f":"SUMIFS(Bogføring!$H:$H,Bogføring!$A:$A,\">=\"&T!$E$4,Bogføring!$A:$A,\"<=\"&T!$E$5,Bogføring!$F:$F,A13)","v":0}]
[1020,{"$f":"IFERROR(VLOOKUP(A14,Kontoplan!$A$2:$D$96,2,0),\"\")","v":"Pensionister"},null,null,{"$f":"IFERROR(IF(D14=0,\"\",(D14-H14)/H14),\"\")","v":""},{"$f":"SUMIFS(Bogføring!$H:$H,Bogføring!$A:$A,\">=\"&T!$C$4,Bogføring!$A:$A,\"<=\"&T!$C$5,Bogføring!$F:$F,A14)-SUMIFS(Bogføring!$G:$G,Bogføring!$A:$A,\">=\"&T!$C$4,Bogføring!$A:$A,\"<=\"&T!$C$5,Bogføring!$F:$F,A14)","v":0},{"$f":"IFERROR((F14-H14)/H14,\"\")","v":""},{"$f":"SUMIFS(Bogføring!$H:$H,Bogføring!$A:$A,\">=\"&T!$D$4,Bogføring!$A:$A,\"<=\"&T!$D$5,Bogføring!$F:$F,A14)-SUMIFS(Bogføring!$G:$G,Bogføring!$A:$A,\">=\"&T!$D$4,Bogføring!$A:$A,\"<=\"&T!$D$5,Bogføring!$F:$F,A14)","v":0},{"$f":"IFERROR((H14-J14)/J14,\"\")","v":""},{"$f":"SUMIFS(Bogføring!$H:$H,Bogføring!$A:$A,\">=\"&T!$E$4,Bogføring!$A:$A,\"<=\"&T!$E$5,Bogføring!$F:$F,A14)","v":0}]
[1030,{"$f":"IFERROR(VLOOKUP(A15,Kontoplan!$A$2:$D$96,2,0),\"\")","v":"Børn 6-16"},null,null,"",{"$f":"SUMIFS(Bogføring!$H:$H,Bogføring!$A:$A,\">=\"&T!$C$4,Bogføring!$A:$A,\"<=\"&T!$C$5,Bogføring!$F:$F,A15)-SUMIFS(Bogføring!$G:$G,Bogføring!$A:$A,\">=\"&T!$C$4,Bogføring!$A:$A,\"<=\"&T!$C$5,Bogføring!$F:$F,A15)","v":0},{"$f":"IFERROR((F15-H15)/H15,\"\")","v":""},{"$f":"SUMIFS(Bogføring!$H:$H,Bogføring!$A:$A,\">=\"&T!$D$4,Bogføring!$A:$A,\"<=\"&T!$D$5,Bogføring!$F:$F,A15)-SUMIFS(Bogføring!$G:$G,Bogføring!$A:$A,\">=\"&T!$D$4,Bogføring!$A:$A,\"<=\"&T!$D$5,Bogføring!$F:$F,A15)","v":0},{"$f":"IFERROR((H15-J15)/J15,\"\")","v":""},{"$f":"SUMIFS(Bogføring!$H:$H,Bogføring!$A:$A,\">=\"&T!$E$4,Bogføring!$A:$A,\"<=\"&T!$E$5,Bogføring!$F:$F,A15)","v":0}]
[1040,{"$f":"IFERROR(VLOOKUP(A16,Kontoplan!$A$2:$D$96,2,0),\"\")","v":"Soldater/veteraner"},null,null,"",{"$f":"SUMIFS(Bogføring!$H:$H,Bogføring!$A:$A,\">=\"&T!$C$4,Bogføring!$A:$A,\"<=\"&T!$C$5,Bogføring!$F:$F,A16)-SUMIFS(Bogføring!$G:$G,Bogføring!$A:$A,\">=\"&T!$C$4,Bogføring!$A:$A,\"<=\"&T!$C$5,Bogføring!$F:$F,A16)","v":0},"",{"$f":"SUMIFS(Bogføring!$H:$H,Bogføring!$A:$A,\">=\"&T!$D$4,Bogføring!$A:$A,\"<=\"&T!$D$5,Bogføring!$F:$F,A16)-SUMIFS(Bogføring!$G:$G,Bogføring!$A:$A,\">=\"&T!$D$4,Bogføring!$A:$A,\"<=\"&T!$D$5,Bogføring!$F:$F,A16)","v":0},{"$f":"IFERROR((H16-J16)/J16,\"\")","v":""},{"$f":"SUMIFS(Bogføring!$H:$H,Bogføring!$A:$A,\">=\"&T!$E$4,Bogføring!$A:$A,\"<=\"&T!$E$5,Bogføring!$F:$F,A16)","v":0}]
[1050,{"$f":"IFERROR(VLOOKUP(A17,Kontoplan!$A$2:$D$96,2,0),\"\")","v":"Skoler"},null,null,"",{"$f":"SUMIFS(Bogføring!$H:$H,Bogføring!$A:$A,\">=\"&T!$C$4,Bogføring!$A:$A,\"<=\"&T!$C$5,Bogføring!$F:$F,A17)-SUMIFS(Bogføring!$G:$G,Bogføring!$A:$A,\">=\"&T!$C$4,Bogføring!$A:$A,\"<=\"&T!$C$5,Bogføring!$F:$F,A17)","v":0},"",{"$f":"SUMIFS(Bogføring!$H:$H,Bogføring!$A:$A,\">=\"&T!$D$4,Bogføring!$A:$A,\"<=\"&T!$D$5,Bogføring!$F:$F,A17)-SUMIFS(Bogføring!$G:$G,Bogføring!$A:$A,\">=\"&T!$D$4,Bogføring!$A:$A,\"<=\"&T!$D$5,Bogføring!$F:$F,A17)","v":0},{"$f":"IFERROR((H17-J17)/J17,\"\")","v":""},{"$f":"SUMIFS(Bogføring!$H:$H,Bogføring!$A:$A,\">=\"&T!$E$4,Bogføring!$A:$A,\"<=\"&T!$E$5,Bogføring!$F:$F,A17)","v":0}]
[1070,{"$f":"IFERROR(VLOOKUP(A18,Kontoplan!$A$2:$D$96,2,0),\"\")","v":"Guide"},null,null,"",{"$f":"SUMIFS(Bogføring!$H:$H,Bogføring!$A:$A,\">=\"&T!$C$4,Bogføring!$A:$A,\"<=\"&T!$C$5,Bogføring!$F:$F,A18)-SUMIFS(Bogføring!$G:$G,Bogføring!$A:$A,\">=\"&T!$C$4,Bogføring!$A:$A,\"<=\"&T!$C$5,Bogføring!$F:$F,A18)","v":0},"",{"$f":"SUMIFS(Bogføring!$H:$H,Bogføring!$A:$A,\">=\"&T!$D$4,Bogføring!$A:$A,\"<=\"&T!$D$5,Bogføring!$F:$F,A18)","v":0},"",{"$f":"SUMIFS(Bogføring!$H:$H,Bogføring!$A:$A,\">=\"&T!$E$4,Bogføring!$A:$A,\"<=\"&T!$E$5,Bogføring!$F:$F,A18)","v":0}]
[1080,{"$f":"IFERROR(VLOOKUP(A19,Kontoplan!$A$2:$D$96,2,0),\"\")","v":0},null,null,"",{"$f":"SUMIFS(Bogføring!$H:$H,Bogføring!$A:$A,\">=\"&T!$C$4,Bogføring!$A:$A,\"<=\"&T!$C$5,Bogføring!$F:$F,A19)-SUMIFS(Bogføring!$G:$G,Bogføring!$A:$A,\">=\"&T!$C$4,Bogføring!$A:$A,\"<=\"&T!$C$5,Bogføring!$F:$F,A19)","v":150},"",{"$f":"SUMIFS(Bogføring!$H:$H,Bogføring!$A:$A,\">=\"&T!$D$4,Bogføring!$A:$A,\"<=\"&T!$D$5,Bogføring!$F:$F,A20)","v":0},"",{"$f":"SUMIFS(Bogføring!$H:$H,Bogføring!$A:$A,\">=\"&T!$E$4,Bogføring!$A:$A,\"<=\"&T!$E$5,Bogføring!$F:$F,A20)","v":0}]
[1090,{"$f":"IFERROR(VLOOKUP(A20,Kontoplan!$A$2:$D$96,2,0),\"\")","v":0},null,null,"",{"$f":"SUMIFS(Bogføring!$H:$H,Bogføring!$A:$A,\">=\"&T!$C$4,Bogføring!$A:$A,\"<=\"&T!$C$5,Bogføring!$F:$F,A20)-SUMIFS(Bogføring!$G:$G,Bogføring!$A:$A,\">=\"&T!$C$4,Bogføring!$A:$A,\"<=\"&T!$C$5,Bogføring!$F:$F,A20)","v":0},"",{"$f":"SUMIFS(Bogføring!$H:$H,Bogføring!$A:$A,\">=\"&T!$D$4,Bogføring!$A:$A,\"<=\"&T!$D$5,Bogføring!$F:$F,A21)","v":0},"",{"$f":"SUMIFS(Bogføring!$H:$H,Bogføring!$A:$A,\">=\"&T!$E$4,Bogføring!$A:$A,\"<=\"&T!$E$5,Bogføring!$F:$F,A21)","v":0}]
[null,{"$f":"IFERROR(VLOOKUP(A21,Kontoplan!$A$2:$D$96,2,0),\"\")","v":""},null,null,"",{"$f":"SUMIFS(Bogføring!$H:$H,Bogføring!$A:$A,\">=\"&T!$C$4,Bogføring!$A:$A,\"<=\"&T!$C$5,Bogføring!$F:$F,A21)-SUMIFS(Bogføring!$G:$G,Bogføring!$A:$A,\">=\"&T!$C$4,Bogføring!$A:$A,\"<=\"&T!$C$5,Bogføring!$F:$F,A21)","v":0},"",{"$f":"SUMIFS(Bogføring!$H:$H,Bogføring!$A:$A,\">=\"&T!$D$4,Bogføring!$A:$A,\"<=\"&T!$D$5,Bogføring!$F:$F,A22)","v":0},"",{"$f":"SUMIFS(Bogføring!$H:$H,Bogføring!$A:$A,\">=\"&T!$E$4,Bogføring!$A:$A,\"<=\"&T!$E$5,Bogføring!$F:$F,A22)","v":0}]
[null,{"$f":"IFERROR(VLOOKUP(A22,Kontoplan!$A$2:$D$96,2,0),\"\")","v":""},null,null,"",{"$f":"SUMIFS(Bogføring!$H:$H,Bogføring!$A:$A,\">=\"&T!$C$4,Bogføring!$A:$A,\"<=\"&T!$C$5,Bogføring!$F:$F,A22)-SUMIFS(Bogføring!$G:$G,Bogføring!$A:$A,\">=\"&T!$C$4,Bogføring!$A:$A,\"<=\"&T!$C$5,Bogføring!$F:$F,A22)","v":0},"",{"$f":"SUMIFS(Bogføring!$H:$H,Bogføring!$A:$A,\">=\"&T!$D$4,Bogføring!$A:$A,\"<=\"&T!$D$5,Bogføring!$F:$F,A23)","v":0},"",{"$f":"SUMIFS(Bogføring!$H:$H,Bogføring!$A:$A,\">=\"&T!$E$4,Bogføring!$A:$A,\"<=\"&T!$E$5,Bogføring!$F:$F,A23)","v":0}]
[1130,{"$f":"IFERROR(VLOOKUP(A23,Kontoplan!$A$2:$D$96,2,0),\"\")","v":""},null,null,"",{"$f":"SUMIFS(Bogføring!$H:$H,Bogføring!$A:$A,\">=\"&T!$C$4,Bogføring!$A:$A,\"<=\"&T!$C$5,Bogføring!$F:$F,A23)-SUMIFS(Bogføring!$G:$G,Bogføring!$A:$A,\">=\"&T!$C$4,Bogføring!$A:$A,\"<=\"&T!$C$5,Bogføring!$F:$F,A23)","v":0},"",{"$f":"SUMIFS(Bogføring!$H:$H,Bogføring!$A:$A,\">=\"&T!$D$4,Bogføring!$A:$A,\"<=\"&T!$D$5,Bogføring!$F:$F,A24)","v":0},"",{"$f":"SUMIFS(Bogføring!$H:$H,Bogføring!$A:$A,\">=\"&T!$E$4,Bogføring!$A:$A,\"<=\"&T!$E$5,Bogføring!$F:$F,A24)","v":0}]
[null,{"$f":"IFERROR(VLOOKUP(A24,Kontoplan!$A$2:$D$96,2,0),\"\")","v":""},null,null,"",{"$f":"SUMIFS(Bogføring!$H:$H,Bogføring!$A:$A,\">=\"&T!$C$4,Bogføring!$A:$A,\"<=\"&T!$C$5,Bogføring!$F:$F,A24)-SUMIFS(Bogføring!$G:$G,Bogføring!$A:$A,\">=\"&T!$C$4,Bogføring!$A:$A,\"<=\"&T!$C$5,Bogføring!$F:$F,A24)","v":0},"",{"$f":"SUMIFS(Bogføring!$H:$H,Bogføring!$A:$A,\">=\"&T!$D$4,Bogføring!$A:$A,\"<=\"&T!$D$5,Bogføring!$F:$F,#REF!)","v":0},"",{"$f":"SUMIFS(Bogføring!$H:$H,Bogføring!$A:$A,\">=\"&T!$E$4,Bogføring!$A:$A,\"<=\"&T!$E$5,Bogføring!$F:$F,#REF!)","v":0}]
[null,{"$f":"IFERROR(VLOOKUP(A25,Kontoplan!$A$2:$D$96,2,0),\"\")","v":""},null,null,"",{"$f":"SUMIFS(Bogføring!$H:$H,Bogføring!$A:$A,\">=\"&T!$C$4,Bogføring!$A:$A,\"<=\"&T!$C$5,Bogføring!$F:$F,A25)-SUMIFS(Bogføring!$G:$G,Bogføring!$A:$A,\">=\"&T!$C$4,Bogføring!$A:$A,\"<=\"&T!$C$5,Bogføring!$F:$F,A25)","v":0},"",{"$f":"SUMIFS(Bogføring!$H:$H,Bogføring!$A:$A,\">=\"&T!$D$4,Bogføring!$A:$A,\"<=\"&T!$D$5,Bogføring!$F:$F,A25)","v":0},"",{"$f":"SUMIFS(Bogføring!$H:$H,Bogføring!$A:$A,\">=\"&T!$E$4,Bogføring!$A:$A,\"<=\"&T!$E$5,Bogføring!$F:$F,A25)","v":0}]
[null,null,null,null,null,null,""]
[null,"Indtægter i alt",null,null,"",{"$f":"SUM(F12:F25)","v":6200},"",{"$f":"SUM(H12:H25)","v":0},{"$f":"IFERROR((H27-J27)/H27,\"\")","v":""},{"$f":"SUM(J12:J25)","v":0}]
[null,null,null,null,{"$f":"IFERROR((D28-F28)/D28,\"\")","v":""},null,{"$f":"IFERROR((F28-H28)/F28,\"\")","v":""},null,{"$f":"IFERROR((H28-J28)/H28,\"\")","v":""}]
[null,"Udgifter",null,null,{"$f":"IFERROR((D29-F29)/D29,\"\")","v":""},null,{"$f":"IFERROR((F29-H29)/F29,\"\")","v":""},null,{"$f":"IFERROR((H29-J29)/H29,\"\")","v":""}]
[null,null,null,null,{"$f":"IFERROR((D30-F30)/D30,\"\")","v":""},null,{"$f":"IFERROR((F30-H30)/F30,\"\")","v":""},null,{"$f":"IFERROR((H30-J30)/H30,\"\")","v":""}]
[2000,{"$f":"IFERROR(VLOOKUP(A31,Kontoplan!$A$2:$D$96,2,0),\"\")","v":"Bankgebyr DB"},null,null,{"$f":"IFERROR(IF(D31=0,\"\",(D31-H31)/H31),\"\")","v":""},{"$f":"SUMIFS(Bogføring!$G:$G,Bogføring!$A:$A,\">=\"&T!$C$4,Bogføring!$A:$A,\"<=\"&T!$C$5,Bogføring!$F:$F,A31)-SUMIFS(Bogføring!$H:$H,Bogføring!$A:$A,\">=\"&T!$C$4,Bogføring!$A:$A,\"<=\"&T!$C$5,Bogføring!$F:$F,A31)","v":0},{"$f":"IFERROR((F31-H31)/H31,\"\")","v":""},{"$f":"SUMIFS(Bogføring!$G:$G,Bogføring!$A:$A,\">=\"&T!$D$4,Bogføring!$A:$A,\"<=\"&T!$D$5,Bogføring!$F:$F,A31)","v":0},{"$f":"IFERROR((H31-J31)/J31,\"\")","v":""},{"$f":"SUMIFS(Bogføring!$G:$G,Bogføring!$A:$A,\">=\"&T!$E$4,Bogføring!$A:$A,\"<=\"&T!$E$5,Bogføring!$F:$F,A31)","v":0}]
[2010,{"$f":"IFERROR(VLOOKUP(A32,Kontoplan!$A$2:$D$96,2,0),\"\")","v":"Gebyr Zettle"},null,null,{"$f":"IFERROR(IF(D32=0,\"\",(D32-H32)/H32),\"\")","v":""},{"$f":"SUMIFS(Bogføring!$G:$G,Bogføring!$A:$A,\">=\"&T!$C$4,Bogføring!$A:$A,\"<=\"&T!$C$5,Bogføring!$F:$F,A32)-SUMIFS(Bogføring!$H:$H,Bogføring!$A:$A,\">=\"&T!$C$4,Bogføring!$A:$A,\"<=\"&T!$C$5,Bogføring!$F:$F,A32)","v":0},{"$f":"IFERROR((F32-H32)/H32,\"\")","v":""},{"$f":"SUMIFS(Bogføring!$G:$G,Bogføring!$A:$A,\">=\"&T!$D$4,Bogføring!$A:$A,\"<=\"&T!$D$5,Bogføring!$F:$F,A32)","v":0},{"$f":"IFERROR((H32-J32)/J32,\"\")","v":""},{"$f":"SUMIFS(Bogføring!$G:$G,Bogføring!$A:$A,\">=\"&T!$E$4,Bogføring!$A:$A,\"<=\"&T!$E$5,Bogføring!$F:$F,A32)","v":0}]
[2020,{"$f":"IFERROR(VLOOKUP(A33,Kontoplan!$A$2:$D$96,2,0),\"\")","v":"Danløn"},null,null,"",{"$f":"SUMIFS(Bogføring!$G:$G,Bogføring!$A:$A,\">=\"&T!$C$4,Bogføring!$A:$A,\"<=\"&T!$C$5,Bogføring!$F:$F,A33)-SUMIFS(Bogføring!$H:$H,Bogføring!$A:$A,\">=\"&T!$C$4,Bogføring!$A:$A,\"<=\"&T!$C$5,Bogføring!$F:$F,A33)","v":0},"",{"$f":"SUMIFS(Bogføring!$G:$G,Bogføring!$A:$A,\">=\"&T!$D$4,Bogføring!$A:$A,\"<=\"&T!$D$5,Bogføring!$F:$F,A33)","v":0},"",{"$f":"SUMIFS(Bogføring!$G:$G,Bogføring!$A:$A,\">=\"&T!$E$4,Bogføring!$A:$A,\"<=\"&T!$E$5,Bogføring!$F:$F,A33)","v":0}]
[2025,{"$f":"IFERROR(VLOOKUP(A34,Kontoplan!$A$2:$D$96,2,0),\"\")","v":""},null,null,"",{"$f":"SUMIFS(Bogføring!$G:$G,Bogføring!$A:$A,\">=\"&T!$C$4,Bogføring!$A:$A,\"<=\"&T!$C$5,Bogføring!$F:$F,A34)-SUMIFS(Bogføring!$H:$H,Bogføring!$A:$A,\">=\"&T!$C$4,Bogføring!$A:$A,\"<=\"&T!$C$5,Bogføring!$F:$F,A34)","v":0},"",{"$f":"SUMIFS(Bogføring!$G:$G,Bogføring!$A:$A,\">=\"&T!$D$4,Bogføring!$A:$A,\"<=\"&T!$D$5,Bogføring!$F:$F,A34)","v":0},"",{"$f":"SUMIFS(Bogføring!$G:$G,Bogføring!$A:$A,\">=\"&T!$E$4,Bogføring!$A:$A,\"<=\"&T!$E$5,Bogføring!$F:$F,A34)","v":0}]
[2030,{"$f":"IFERROR(VLOOKUP(A35,Kontoplan!$A$2:$D$96,2,0),\"\")","v":"Revisor"},null,null,"",{"$f":"SUMIFS(Bogføring!$G:$G,Bogføring!$A:$A,\">=\"&T!$C$4,Bogføring!$A:$A,\"<=\"&T!$C$5,Bogføring!$F:$F,A35)-SUMIFS(Bogføring!$H:$H,Bogføring!$A:$A,\">=\"&T!$C$4,Bogføring!$A:$A,\"<=\"&T!$C$5,Bogføring!$F:$F,A35)","v":0},"",{"$f":"SUMIFS(Bogføring!$G:$G,Bogføring!$A:$A,\">=\"&T!$D$4,Bogføring!$A:$A,\"<=\"&T!$D$5,Bogføring!$F:$F,A35)","v":0},"",{"$f":"SUMIFS(Bogføring!$G:$G,Bogføring!$A:$A,\">=\"&T!$E$4,Bogføring!$A:$A,\"<=\"&T!$E$5,Bogføring!$F:$F,A35)","v":0}]
[2040,{"$f":"IFERROR(VLOOKUP(A36,Kontoplan!$A$2:$D$96,2,0),\"\")","v":"Regnskabsservice"},null,null,"",{"$f":"SUMIFS(Bogføring!$G:$G,Bogføring!$A:$A,\">=\"&T!$C$4,Bogføring!$A:$A,\"<=\"&T!$C$5,Bogføring!$F:$F,A36)-SUMIFS(Bogføring!$H:$H,Bogføring!$A:$A,\">=\"&T!$C$4,Bogføring!$A:$A,\"<=\"&T!$C$5,Bogføring!$F:$F,A36)","v":0},"",{"$f":"SUMIFS(Bogføring!$G:$G,Bogføring!$A:$A,\">=\"&T!$D$4,Bogføring!$A:$A,\"<=\"&T!$D$5,Bogføring!$F:$F,A36)","v":0},"",{"$f":"SUMIFS(Bogføring!$G:$G,Bogføring!$A:$A,\">=\"&T!$E$4,Bogføring!$A:$A,\"<=\"&T!$E$5,Bogføring!$F:$F,A36)","v":0}]
[2055,{"$f":"IFERROR(VLOOKUP(A37,Kontoplan!$A$2:$D$96,2,0),\"\")","v":""},null,null,"",{"$f":"SUMIFS(Bogføring!$G:$G,Bogføring!$A:$A,\">=\"&T!$C$4,Bogføring!$A:$A,\"<=\"&T!$C$5,Bogføring!$F:$F,A37)-SUMIFS(Bogføring!$H:$H,Bogføring!$A:$A,\">=\"&T!$C$4,Bogføring!$A:$A,\"<=\"&T!$C$5,Bogføring!$F:$F,A37)","v":0},"",{"$f":"SUMIFS(Bogføring!$G:$G,Bogføring!$A:$A,\">=\"&T!$D$4,Bogføring!$A:$A,\"<=\"&T!$D$5,Bogføring!$F:$F,A37)","v":0},"",{"$f":"SUMIFS(Bogføring!$G:$G,Bogføring!$A:$A,\">=\"&T!$E$4,Bogføring!$A:$A,\"<=\"&T!$E$5,Bogføring!$F:$F,A37)","v":0}]
[2060,{"$f":"IFERROR(VLOOKUP(A38,Kontoplan!$A$2:$D$96,2,0),\"\")","v":"Internet, mobiltelefon."},null,null,"",{"$f":"SUMIFS(Bogføring!$G:$G,Bogføring!$A:$A,\">=\"&T!$C$4,Bogføring!$A:$A,\"<=\"&T!$C$5,Bogføring!$F:$F,A38)-SUMIFS(Bogføring!$H:$H,Bogføring!$A:$A,\">=\"&T!$C$4,Bogføring!$A:$A,\"<=\"&T!$C$5,Bogføring!$F:$F,A38)","v":0},"",{"$f":"SUMIFS(Bogføring!$G:$G,Bogføring!$A:$A,\">=\"&T!$D$4,Bogføring!$A:$A,\"<=\"&T!$D$5,Bogføring!$F:$F,A38)","v":0},"",{"$f":"SUMIFS(Bogføring!$G:$G,Bogføring!$A:$A,\">=\"&T!$E$4,Bogføring!$A:$A,\"<=\"&T!$E$5,Bogføring!$F:$F,A38)","v":0}]
[2065,{"$f":"IFERROR(VLOOKUP(A39,Kontoplan!$A$2:$D$96,2,0),\"\")","v":""},null,null,"",{"$f":"SUMIFS(Bogføring!$G:$G,Bogføring!$A:$A,\">=\"&T!$C$4,Bogføring!$A:$A,\"<=\"&T!$C$5,Bogføring!$F:$F,A39)-SUMIFS(Bogføring!$H:$H,Bogføring!$A:$A,\">=\"&T!$C$4,Bogføring!$A:$A,\"<=\"&T!$C$5,Bogføring!$F:$F,A39)","v":0},"",{"$f":"SUMIFS(Bogføring!$G:$G,Bogføring!$A:$A,\">=\"&T!$D$4,Bogføring!$A:$A,\"<=\"&T!$D$5,Bogføring!$F:$F,A39)","v":0},"",{"$f":"SUMIFS(Bogføring!$G:$G,Bogføring!$A:$A,\">=\"&T!$E$4,Bogføring!$A:$A,\"<=\"&T!$E$5,Bogføring!$F:$F,A39)","v":0}]
[2070,{"$f":"IFERROR(VLOOKUP(A40,Kontoplan!$A$2:$D$96,2,0),\"\")","v":"Facebook"},null,null,"",{"$f":"SUMIFS(Bogføring!$G:$G,Bogføring!$A:$A,\">=\"&T!$C$4,Bogføring!$A:$A,\"<=\"&T!$C$5,Bogføring!$F:$F,A40)-SUMIFS(Bogføring!$H:$H,Bogføring!$A:$A,\">=\"&T!$C$4,Bogføring!$A:$A,\"<=\"&T!$C$5,Bogføring!$F:$F,A40)","v":0},{"$f":"IFERROR((F40-H40)/H40,\"\")","v":""},{"$f":"SUMIFS(Bogføring!$G:$G,Bogføring!$A:$A,\">=\"&T!$D$4,Bogføring!$A:$A,\"<=\"&T!$D$5,Bogføring!$F:$F,A40)","v":0},"",{"$f":"SUMIFS(Bogføring!$G:$G,Bogføring!$A:$A,\">=\"&T!$E$4,Bogføring!$A:$A,\"<=\"&T!$E$5,Bogføring!$F:$F,A40)","v":0}]
[2090,{"$f":"IFERROR(VLOOKUP(A41,Kontoplan!$A$2:$D$96,2,0),\"\")","v":"Bygnings vedligehold"},null,null,"",{"$f":"SUMIFS(Bogføring!$G:$G,Bogføring!$A:$A,\">=\"&T!$C$4,Bogføring!$A:$A,\"<=\"&T!$C$5,Bogføring!$F:$F,A41)-SUMIFS(Bogføring!$H:$H,Bogføring!$A:$A,\">=\"&T!$C$4,Bogføring!$A:$A,\"<=\"&T!$C$5,Bogføring!$F:$F,A41)","v":0},"",{"$f":"SUMIFS(Bogføring!$G:$G,Bogføring!$A:$A,\">=\"&T!$D$4,Bogføring!$A:$A,\"<=\"&T!$D$5,Bogføring!$F:$F,A41)","v":0},"",{"$f":"SUMIFS(Bogføring!$G:$G,Bogføring!$A:$A,\">=\"&T!$E$4,Bogføring!$A:$A,\"<=\"&T!$E$5,Bogføring!$F:$F,A41)","v":0}]
[2100,{"$f":"IFERROR(VLOOKUP(A42,Kontoplan!$A$2:$D$96,2,0),\"\")","v":"Grønne områder"},null,null,"",{"$f":"SUMIFS(Bogføring!$G:$G,Bogføring!$A:$A,\">=\"&T!$C$4,Bogføring!$A:$A,\"<=\"&T!$C$5,Bogføring!$F:$F,A42)-SUMIFS(Bogføring!$H:$H,Bogføring!$A:$A,\">=\"&T!$C$4,Bogføring!$A:$A,\"<=\"&T!$C$5,Bogføring!$F:$F,A42)","v":0},"",{"$f":"SUMIFS(Bogføring!$G:$G,Bogføring!$A:$A,\">=\"&T!$D$4,Bogføring!$A:$A,\"<=\"&T!$D$5,Bogføring!$F:$F,A42)","v":0},"",{"$f":"SUMIFS(Bogføring!$G:$G,Bogføring!$A:$A,\">=\"&T!$E$4,Bogføring!$A:$A,\"<=\"&T!$E$5,Bogføring!$F:$F,A42)","v":0}]
[2140,{"$f":"IFERROR(VLOOKUP(A43,Kontoplan!$A$2:$D$96,2,0),\"\")","v":"Vand RVV"},null,null,"",{"$f":"SUMIFS(Bogføring!$G:$G,Bogføring!$A:$A,\">=\"&T!$C$4,Bogføring!$A:$A,\"<=\"&T!$C$5,Bogføring!$F:$F,A43)-SUMIFS(Bogføring!$H:$H,Bogføring!$A:$A,\">=\"&T!$C$4,Bogføring!$A:$A,\"<=\"&T!$C$5,Bogføring!$F:$F,A43)","v":0},"",{"$f":"SUMIFS(Bogføring!$G:$G,Bogføring!$A:$A,\">=\"&T!$D$4,Bogføring!$A:$A,\"<=\"&T!$D$5,Bogføring!$F:$F,A43)","v":0},"",{"$f":"SUMIFS(Bogføring!$G:$G,Bogføring!$A:$A,\">=\"&T!$E$4,Bogføring!$A:$A,\"<=\"&T!$E$5,Bogføring!$F:$F,A43)","v":0}]
[2110,{"$f":"IFERROR(VLOOKUP(A44,Kontoplan!$A$2:$D$96,2,0),\"\")","v":"El, Vand og Varme"},null,null,"",{"$f":"SUMIFS(Bogføring!$G:$G,Bogføring!$A:$A,\">=\"&T!$C$4,Bogføring!$A:$A,\"<=\"&T!$C$5,Bogføring!$F:$F,A44)-SUMIFS(Bogføring!$H:$H,Bogføring!$A:$A,\">=\"&T!$C$4,Bogføring!$A:$A,\"<=\"&T!$C$5,Bogføring!$F:$F,A44)","v":0},"",{"$f":"SUMIFS(Bogføring!$G:$G,Bogføring!$A:$A,\">=\"&T!$D$4,Bogføring!$A:$A,\"<=\"&T!$D$5,Bogføring!$F:$F,A44)","v":0},"",{"$f":"SUMIFS(Bogføring!$G:$G,Bogføring!$A:$A,\">=\"&T!$E$4,Bogføring!$A:$A,\"<=\"&T!$E$5,Bogføring!$F:$F,A44)","v":0}]
[2120,{"$f":"IFERROR(VLOOKUP(A45,Kontoplan!$A$2:$D$96,2,0),\"\")","v":"El Beof 2054531"},null,null,"",{"$f":"SUMIFS(Bogføring!$G:$G,Bogføring!$A:$A,\">=\"&T!$C$4,Bogføring!$A:$A,\"<=\"&T!$C$5,Bogføring!$F:$F,A45)-SUMIFS(Bogføring!$H:$H,Bogføring!$A:$A,\">=\"&T!$C$4,Bogføring!$A:$A,\"<=\"&T!$C$5,Bogføring!$F:$F,A45)","v":0},"",{"$f":"SUMIFS(Bogføring!$G:$G,Bogføring!$A:$A,\">=\"&T!$D$4,Bogføring!$A:$A,\"<=\"&T!$D$5,Bogføring!$F:$F,A45)","v":0},"",{"$f":"SUMIFS(Bogføring!$G:$G,Bogføring!$A:$A,\">=\"&T!$E$4,Bogføring!$A:$A,\"<=\"&T!$E$5,Bogføring!$F:$F,A45)","v":0}]
[2165,{"$f":"IFERROR(VLOOKUP(A46,Kontoplan!$A$2:$D$96,2,0),\"\")","v":""},null,null,"",{"$f":"SUMIFS(Bogføring!$G:$G,Bogføring!$A:$A,\">=\"&T!$C$4,Bogføring!$A:$A,\"<=\"&T!$C$5,Bogføring!$F:$F,A46)-SUMIFS(Bogføring!$H:$H,Bogføring!$A:$A,\">=\"&T!$C$4,Bogføring!$A:$A,\"<=\"&T!$C$5,Bogføring!$F:$F,A46)","v":0},"",{"$f":"SUMIFS(Bogføring!$G:$G,Bogføring!$A:$A,\">=\"&T!$D$4,Bogføring!$A:$A,\"<=\"&T!$D$5,Bogføring!$F:$F,A46)","v":0},"",{"$f":"SUMIFS(Bogføring!$G:$G,Bogføring!$A:$A,\">=\"&T!$E$4,Bogføring!$A:$A,\"<=\"&T!$E$5,Bogføring!$F:$F,A46)","v":0}]
[2170,{"$f":"IFERROR(VLOOKUP(A47,Kontoplan!$A$2:$D$96,2,0),\"\")","v":"G4S tyverialarm"},null,null,"",{"$f":"SUMIFS(Bogføring!$G:$G,Bogføring!$A:$A,\">=\"&T!$C$4,Bogføring!$A:$A,\"<=\"&T!$C$5,Bogføring!$F:$F,A47)-SUMIFS(Bogføring!$H:$H,Bogføring!$A:$A,\">=\"&T!$C$4,Bogføring!$A:$A,\"<=\"&T!$C$5,Bogføring!$F:$F,A47)","v":0},"",{"$f":"SUMIFS(Bogføring!$G:$G,Bogføring!$A:$A,\">=\"&T!$D$4,Bogføring!$A:$A,\"<=\"&T!$D$5,Bogføring!$F:$F,A47)","v":0},"",{"$f":"SUMIFS(Bogføring!$G:$G,Bogføring!$A:$A,\">=\"&T!$E$4,Bogføring!$A:$A,\"<=\"&T!$E$5,Bogføring!$F:$F,A47)","v":0}]
[2180,{"$f":"IFERROR(VLOOKUP(A48,Kontoplan!$A$2:$D$96,2,0),\"\")","v":"Kontingent til andre Foreninger"},null,null,null,{"$f":"SUMIFS(Bogføring!$G:$G,Bogføring!$A:$A,\">=\"&T!$C$4,Bogføring!$A:$A,\"<=\"&T!$C$5,Bogføring!$F:$F,A48)-SUMIFS(Bogføring!$H:$H,Bogføring!$A:$A,\">=\"&T!$C$4,Bogføring!$A:$A,\"<=\"&T!$C$5,Bogføring!$F:$F,A48)","v":0},"",{"$f":"SUMIFS(Bogføring!$G:$G,Bogføring!$A:$A,\">=\"&T!$D$4,Bogføring!$A:$A,\"<=\"&T!$D$5,Bogføring!$F:$F,A48)","v":0},{"$f":"IFERROR((H48-J48)/J48,\"\")","v":""},{"$f":"SUMIFS(Bogføring!$G:$G,Bogføring!$A:$A,\">=\"&T!$E$4,Bogføring!$A:$A,\"<=\"&T!$E$5,Bogføring!$F:$F,A48)","v":0}]
[2190,{"$f":"IFERROR(VLOOKUP(A49,Kontoplan!$A$2:$D$96,2,0),\"\")","v":"Deltagelse i GF i Andre Foren."},null,null,"",{"$f":"SUMIFS(Bogføring!$G:$G,Bogføring!$A:$A,\">=\"&T!$C$4,Bogføring!$A:$A,\"<=\"&T!$C$5,Bogføring!$F:$F,A49)-SUMIFS(Bogføring!$H:$H,Bogføring!$A:$A,\">=\"&T!$C$4,Bogføring!$A:$A,\"<=\"&T!$C$5,Bogføring!$F:$F,A49)","v":0},{"$f":"IFERROR((F49-H49)/H49,\"\")","v":""},{"$f":"SUMIFS(Bogføring!$G:$G,Bogføring!$A:$A,\">=\"&T!$D$4,Bogføring!$A:$A,\"<=\"&T!$D$5,Bogføring!$F:$F,A49)","v":0},"",{"$f":"SUMIFS(Bogføring!$G:$G,Bogføring!$A:$A,\">=\"&T!$E$4,Bogføring!$A:$A,\"<=\"&T!$E$5,Bogføring!$F:$F,A49)","v":0}]
[2200,{"$f":"IFERROR(VLOOKUP(A50,Kontoplan!$A$2:$D$96,2,0),\"\")","v":"Indkøb af øl + vand"},null,null,"",{"$f":"SUMIFS(Bogføring!$G:$G,Bogføring!$A:$A,\">=\"&T!$C$4,Bogføring!$A:$A,\"<=\"&T!$C$5,Bogføring!$F:$F,A50)-SUMIFS(Bogføring!$H:$H,Bogføring!$A:$A,\">=\"&T!$C$4,Bogføring!$A:$A,\"<=\"&T!$C$5,Bogføring!$F:$F,A50)","v":0},"",{"$f":"SUMIFS(Bogføring!$G:$G,Bogføring!$A:$A,\">=\"&T!$D$4,Bogføring!$A:$A,\"<=\"&T!$D$5,Bogføring!$F:$F,A50)","v":0},"",{"$f":"SUMIFS(Bogføring!$G:$G,Bogføring!$A:$A,\">=\"&T!$E$4,Bogføring!$A:$A,\"<=\"&T!$E$5,Bogføring!$F:$F,A50)","v":0}]
[3100,{"$f":"IFERROR(VLOOKUP(A51,Kontoplan!$A$2:$D$96,2,0),\"\")","v":""},null,null,"",{"$f":"SUMIFS(Bogføring!$G:$G,Bogføring!$A:$A,\">=\"&T!$C$4,Bogføring!$A:$A,\"<=\"&T!$C$5,Bogføring!$F:$F,A51)-SUMIFS(Bogføring!$H:$H,Bogføring!$A:$A,\">=\"&T!$C$4,Bogføring!$A:$A,\"<=\"&T!$C$5,Bogføring!$F:$F,A51)","v":0},"",{"$f":"SUMIFS(Bogføring!$G:$G,Bogføring!$A:$A,\">=\"&T!$D$4,Bogføring!$A:$A,\"<=\"&T!$D$5,Bogføring!$F:$F,A51)","v":0},"",{"$f":"SUMIFS(Bogføring!$G:$G,Bogføring!$A:$A,\">=\"&T!$E$4,Bogføring!$A:$A,\"<=\"&T!$E$5,Bogføring!$F:$F,A51)","v":0}]
[3110,{"$f":"IFERROR(VLOOKUP(A52,Kontoplan!$A$2:$D$96,2,0),\"\")","v":""},null,null,"",{"$f":"SUMIFS(Bogføring!$G:$G,Bogføring!$A:$A,\">=\"&T!$C$4,Bogføring!$A:$A,\"<=\"&T!$C$5,Bogføring!$F:$F,A52)-SUMIFS(Bogføring!$H:$H,Bogføring!$A:$A,\">=\"&T!$C$4,Bogføring!$A:$A,\"<=\"&T!$C$5,Bogføring!$F:$F,A52)","v":0},"",{"$f":"SUMIFS(Bogføring!$G:$G,Bogføring!$A:$A,\">=\"&T!$D$4,Bogføring!$A:$A,\"<=\"&T!$D$5,Bogføring!$F:$F,A52)","v":0},"",{"$f":"SUMIFS(Bogføring!$G:$G,Bogføring!$A:$A,\">=\"&T!$E$4,Bogføring!$A:$A,\"<=\"&T!$E$5,Bogføring!$F:$F,A52)","v":0}]
[3120,{"$f":"IFERROR(VLOOKUP(A53,Kontoplan!$A$2:$D$96,2,0),\"\")","v":""},null,null,"",{"$f":"SUMIFS(Bogføring!$G:$G,Bogføring!$A:$A,\">=\"&T!$C$4,Bogføring!$A:$A,\"<=\"&T!$C$5,Bogføring!$F:$F,A53)-SUMIFS(Bogføring!$H:$H,Bogføring!$A:$A,\">=\"&T!$C$4,Bogføring!$A:$A,\"<=\"&T!$C$5,Bogføring!$F:$F,A53)","v":0},"",{"$f":"SUMIFS(Bogføring!$G:$G,Bogføring!$A:$A,\">=\"&T!$D$4,Bogføring!$A:$A,\"<=\"&T!$D$5,Bogføring!$F:$F,A53)","v":0},"",{"$f":"SUMIFS(Bogføring!$G:$G,Bogføring!$A:$A,\">=\"&T!$E$4,Bogføring!$A:$A,\"<=\"&T!$E$5,Bogføring!$F:$F,A53)","v":0}]
[null,{"$f":"IFERROR(VLOOKUP(A54,Kontoplan!$A$2:$D$96,2,0),\"\")","v":""},null,null,"",{"$f":"SUMIFS(Bogføring!$G:$G,Bogføring!$A:$A,\">=\"&T!$C$4,Bogføring!$A:$A,\"<=\"&T!$C$5,Bogføring!$F:$F,A54)-SUMIFS(Bogføring!$H:$H,Bogføring!$A:$A,\">=\"&T!$C$4,Bogføring!$A:$A,\"<=\"&T!$C$5,Bogføring!$F:$F,A54)","v":0},"",{"$f":"SUMIFS(Bogføring!$G:$G,Bogføring!$A:$A,\">=\"&T!$D$4,Bogføring!$A:$A,\"<=\"&T!$D$5,Bogføring!$F:$F,A54)","v":0},"",{"$f":"SUMIFS(Bogføring!$G:$G,Bogføring!$A:$A,\">=\"&T!$E$4,Bogføring!$A:$A,\"<=\"&T!$E$5,Bogføring!$F:$F,A54)","v":0}]
[null,{"$f":"IFERROR(VLOOKUP(A55,Kontoplan!$A$2:$D$96,2,0),\"\")","v":""},null,null,"",{"$f":"SUMIFS(Bogføring!$G:$G,Bogføring!$A:$A,\">=\"&T!$C$4,Bogføring!$A:$A,\"<=\"&T!$C$5,Bogføring!$F:$F,A55)-SUMIFS(Bogføring!$H:$H,Bogføring!$A:$A,\">=\"&T!$C$4,Bogføring!$A:$A,\"<=\"&T!$C$5,Bogføring!$F:$F,A55)","v":0},"",{"$f":"SUMIFS(Bogføring!$G:$G,Bogføring!$A:$A,\">=\"&T!$D$4,Bogføring!$A:$A,\"<=\"&T!$D$5,Bogføring!$F:$F,A55)","v":0},"",{"$f":"SUMIFS(Bogføring!$G:$G,Bogføring!$A:$A,\">=\"&T!$E$4,Bogføring!$A:$A,\"<=\"&T!$E$5,Bogføring!$F:$F,A55)","v":0}]
[null,{"$f":"IFERROR(VLOOKUP(A56,Kontoplan!$A$2:$D$96,2,0),\"\")","v":""},null,null,"",{"$f":"SUMIFS(Bogføring!$G:$G,Bogføring!$A:$A,\">=\"&T!$C$4,Bogføring!$A:$A,\"<=\"&T!$C$5,Bogføring!$F:$F,A56)-SUMIFS(Bogføring!$H:$H,Bogføring!$A:$A,\">=\"&T!$C$4,Bogføring!$A:$A,\"<=\"&T!$C$5,Bogføring!$F:$F,A56)","v":0},"",{"$f":"SUMIFS(Bogføring!$G:$G,Bogføring!$A:$A,\">=\"&T!$D$4,Bogføring!$A:$A,\"<=\"&T!$D$5,Bogføring!$F:$F,A56)","v":0},"",{"$f":"SUMIFS(Bogføring!$G:$G,Bogføring!$A:$A,\">=\"&T!$E$4,Bogføring!$A:$A,\"<=\"&T!$E$5,Bogføring!$F:$F,A56)","v":0}]
[null,null,null,null,null,null,"",null,""]
[null,"Udgifter i alt",null,null,"",{"$f":"SUM(F31:F57)","v":0},"",{"$f":"SUM(H31:H57)","v":0},"",{"$f":"SUM(J31:J57)","v":0}]
[null,null,null,null,null,null,null,null,""]
[null,{"$f":"IF(F60<0,\"Årets resultat, Underskud\",\"Årets resultat, Overskud\")","v":"Årets resultat, Overskud"},null,null,"",{"$f":"F27-F58","v":6200},{"$f":"IFERROR((F60-H60)/H60,\"\")","v":""},{"$f":"H27-H58","v":0},"",{"$f":"J27-J58","v":0}]
[null,null,null,null,{"$f":"IFERROR((D61-F61)/D61,\"\")","v":""},null,{"$f":"IFERROR((F61-H61)/F61,\"\")","v":""},null,{"$f":"IFERROR((H61-J61)/H61,\"\")","v":""}]

{"sheet":"Budget","index":7,"n_rows":63,"n_cols":8,"rows_kept":63,"cut":false,"hidden":true,"merged":[[0,1,0,7],[4,1,5,7],[6,1,6,8],[7,3,7,4]]}
[null,"Bornholms Forsvarsmuseum"]
[]
[]
[]
[null,{"$f":"\"Budget \"&T!B2","v":"Budget 2015"}]
[]
[null,{"$f":"\"Periode : \"&TEXT(T!B4,\"dd-mm-åååå\")&\" - \"&TEXT(T!B5,\"dd-mm-åååå\")","v":"Periode : 01-11-2015 - 31-10-2016"}]
[null,null,null,"Budget 2020",null,"Aktuelt år","Sidste år","Forrige år"]
[null,null,null,{"$f":"T!B2","v":2015},"afv i %",{"$f":"T!C2","v":2014},{"$f":"F9-1","v":2013},{"$f":"F9-2","v":2012}]
[null,"Indtægter"]
[]
[1000,{"$f":"IFERROR(VLOOKUP(A12,Kontoplan!$A$2:$D$96,2,0),\"\")","v":"Entre i alt"},null,13500,{"$f":"IFERROR((D12-F12)/D12,\"\")","v":0.59259259259259256},{"$f":"SUMIFS(Bogføring!$H:$H,Bogføring!$A:$A,\">=\"&T!$C$4,Bogføring!$A:$A,\"<=\"&T!$C$5,Bogføring!$F:$F,A12)-SUMIFS(Bogføring!$G:$G,Bogføring!$A:$A,\">=\"&T!$C$4,Bogføring!$A:$A,\"<=\"&T!$C$5,Bogføring!$F:$F,A12)","v":5500},{"$f":"SUMIFS(Bogføring!$H:$H,Bogføring!$A:$A,\">=\"&T!$D$4,Bogføring!$A:$A,\"<=\"&T!$D$5,Bogføring!$F:$F,A12)-SUMIFS(Bogføring!$G:$G,Bogføring!$A:$A,\">=\"&T!$D$4,Bogføring!$A:$A,\"<=\"&T!$D$5,Bogføring!$F:$F,A12)","v":0},{"$f":"SUMIFS(Bogføring!$H:$H,Bogføring!$A:$A,\">=\"&T!$E$4,Bogføring!$A:$A,\"<=\"&T!$E$5,Bogføring!$F:$F,A12)-SUMIFS(Bogføring!$G:$G,Bogføring!$A:$A,\">=\"&T!$E$4,Bogføring!$A:$A,\"<=\"&T!$E$5,Bogføring!$F:$F,A12)","v":0}]
[1010,{"$f":"IFERROR(VLOOKUP(A13,Kontoplan!$A$2:$D$96,2,0),\"\")","v":"Voksne"},null,400,-0.375,{"$f":"SUMIFS(Bogføring!$H:$H,Bogføring!$A:$A,\">=\"&T!$C$4,Bogføring!$A:$A,\"<=\"&T!$C$5,Bogføring!$F:$F,A13)-SUMIFS(Bogføring!$G:$G,Bogføring!$A:$A,\">=\"&T!$C$4,Bogføring!$A:$A,\"<=\"&T!$C$5,Bogføring!$F:$F,A13)","v":550},{"$f":"SUMIFS(Bogføring!$H:$H,Bogføring!$A:$A,\">=\"&T!$D$4,Bogføring!$A:$A,\"<=\"&T!$D$5,Bogføring!$F:$F,A13)-SUMIFS(Bogføring!$G:$G,Bogføring!$A:$A,\">=\"&T!$D$4,Bogføring!$A:$A,\"<=\"&T!$D$5,Bogføring!$F:$F,A13)","v":0},{"$f":"SUMIFS(Bogføring!$H:$H,Bogføring!$A:$A,\">=\"&T!$E$4,Bogføring!$A:$A,\"<=\"&T!$E$5,Bogføring!$F:$F,A13)-SUMIFS(Bogføring!$G:$G,Bogføring!$A:$A,\">=\"&T!$E$4,Bogføring!$A:$A,\"<=\"&T!$E$5,Bogføring!$F:$F,A13)","v":0}]
[1100,{"$f":"IFERROR(VLOOKUP(A14,Kontoplan!$A$2:$D$96,2,0),\"\")","v":""},null,2500,1,{"$f":"SUMIFS(Bogføring!$H:$H,Bogføring!$A:$A,\">=\"&T!$C$4,Bogføring!$A:$A,\"<=\"&T!$C$5,Bogføring!$F:$F,A14)-SUMIFS(Bogføring!$G:$G,Bogføring!$A:$A,\">=\"&T!$C$4,Bogføring!$A:$A,\"<=\"&T!$C$5,Bogføring!$F:$F,A14)","v":0},{"$f":"SUMIFS(Bogføring!$H:$H,Bogføring!$A:$A,\">=\"&T!$D$4,Bogføring!$A:$A,\"<=\"&T!$D$5,Bogføring!$F:$F,A14)-SUMIFS(Bogføring!$G:$G,Bogføring!$A:$A,\">=\"&T!$D$4,Bogføring!$A:$A,\"<=\"&T!$D$5,Bogføring!$F:$F,A14)","v":0},{"$f":"SUMIFS(Bogføring!$H:$H,Bogføring!$A:$A,\">=\"&T!$E$4,Bogføring!$A:$A,\"<=\"&T!$E$5,Bogføring!$F:$F,A14)-SUMIFS(Bogføring!$G:$G,Bogføring!$A:$A,\">=\"&T!$E$4,Bogføring!$A:$A,\"<=\"&T!$E$5,Bogføring!$F:$F,A14)","v":0}]
[1050,{"$f":"IFERROR(VLOOKUP(A15,Kontoplan!$A$2:$D$96,2,0),\"\")","v":"Skoler"},null,4800,{"$f":"IFERROR((D15-F15)/D15,\"\")","v":1},{"$f":"SUMIFS(Bogføring!$H:$H,Bogføring!$A:$A,\">=\"&T!$C$4,Bogføring!$A:$A,\"<=\"&T!$C$5,Bogføring!$F:$F,A15)-SUMIFS(Bogføring!$G:$G,Bogføring!$A:$A,\">=\"&T!$C$4,Bogføring!$A:$A,\"<=\"&T!$C$5,Bogføring!$F:$F,A15)","v":0},{"$f":"SUMIFS(Bogføring!$H:$H,Bogføring!$A:$A,\">=\"&T!$D$4,Bogføring!$A:$A,\"<=\"&T!$D$5,Bogføring!$F:$F,A15)-SUMIFS(Bogføring!$G:$G,Bogføring!$A:$A,\">=\"&T!$D$4,Bogføring!$A:$A,\"<=\"&T!$D$5,Bogføring!$F:$F,A15)","v":0},{"$f":"SUMIFS(Bogføring!$H:$H,Bogføring!$A:$A,\">=\"&T!$E$4,Bogføring!$A:$A,\"<=\"&T!$E$5,Bogføring!$F:$F,A15)-SUMIFS(Bogføring!$G:$G,Bogføring!$A:$A,\">=\"&T!$E$4,Bogføring!$A:$A,\"<=\"&T!$E$5,Bogføring!$F:$F,A15)","v":0}]
[1040,{"$f":"IFERROR(VLOOKUP(A16,Kontoplan!$A$2:$D$96,2,0),\"\")","v":"Soldater/veteraner"},null,1700,1,{"$f":"SUMIFS(Bogføring!$H:$H,Bogføring!$A:$A,\">=\"&T!$C$4,Bogføring!$A:$A,\"<=\"&T!$C$5,Bogføring!$F:$F,A16)-SUMIFS(Bogføring!$G:$G,Bogføring!$A:$A,\">=\"&T!$C$4,Bogføring!$A:$A,\"<=\"&T!$C$5,Bogføring!$F:$F,A16)","v":0},{"$f":"SUMIFS(Bogføring!$H:$H,Bogføring!$A:$A,\">=\"&T!$D$4,Bogføring!$A:$A,\"<=\"&T!$D$5,Bogføring!$F:$F,A16)-SUMIFS(Bogføring!$G:$G,Bogføring!$A:$A,\">=\"&T!$D$4,Bogføring!$A:$A,\"<=\"&T!$D$5,Bogføring!$F:$F,A16)","v":0},{"$f":"SUMIFS(Bogføring!$H:$H,Bogføring!$A:$A,\">=\"&T!$E$4,Bogføring!$A:$A,\"<=\"&T!$E$5,Bogføring!$F:$F,A16)-SUMIFS(Bogføring!$G:$G,Bogføring!$A:$A,\">=\"&T!$E$4,Bogføring!$A:$A,\"<=\"&T!$E$5,Bogføring!$F:$F,A16)","v":0}]
[1030,{"$f":"IFERROR(VLOOKUP(A17,Kontoplan!$A$2:$D$96,2,0),\"\")","v":"Børn 6-16"},null,450,1,{"$f":"SUMIFS(Bogføring!$H:$H,Bogføring!$A:$A,\">=\"&T!$C$4,Bogføring!$A:$A,\"<=\"&T!$C$5,Bogføring!$F:$F,A17)-SUMIFS(Bogføring!$G:$G,Bogføring!$A:$A,\">=\"&T!$C$4,Bogføring!$A:$A,\"<=\"&T!$C$5,Bogføring!$F:$F,A17)","v":0},{"$f":"SUMIFS(Bogføring!$H:$H,Bogføring!$A:$A,\">=\"&T!$D$4,Bogføring!$A:$A,\"<=\"&T!$D$5,Bogføring!$F:$F,A17)-SUMIFS(Bogføring!$G:$G,Bogføring!$A:$A,\">=\"&T!$D$4,Bogføring!$A:$A,\"<=\"&T!$D$5,Bogføring!$F:$F,A17)","v":0},{"$f":"SUMIFS(Bogføring!$H:$H,Bogføring!$A:$A,\">=\"&T!$E$4,Bogføring!$A:$A,\"<=\"&T!$E$5,Bogføring!$F:$F,A17)-SUMIFS(Bogføring!$G:$G,Bogføring!$A:$A,\">=\"&T!$E$4,Bogføring!$A:$A,\"<=\"&T!$E$5,Bogføring!$F:$F,A17)","v":0}]
[1020,{"$f":"IFERROR(VLOOKUP(A18,Kontoplan!$A$2:$D$96,2,0),\"\")","v":"Pensionister"},null,2100,1,{"$f":"SUMIFS(Bogføring!$H:$H,Bogføring!$A:$A,\">=\"&T!$C$4,Bogføring!$A:$A,\"<=\"&T!$C$5,Bogføring!$F:$F,A18)-SUMIFS(Bogføring!$G:$G,Bogføring!$A:$A,\">=\"&T!$C$4,Bogføring!$A:$A,\"<=\"&T!$C$5,Bogføring!$F:$F,A18)","v":0},{"$f":"SUMIFS(Bogføring!$H:$H,Bogføring!$A:$A,\">=\"&T!$D$4,Bogføring!$A:$A,\"<=\"&T!$D$5,Bogføring!$F:$F,A18)-SUMIFS(Bogføring!$G:$G,Bogføring!$A:$A,\">=\"&T!$D$4,Bogføring!$A:$A,\"<=\"&T!$D$5,Bogføring!$F:$F,A18)","v":0},{"$f":"SUMIFS(Bogføring!$H:$H,Bogføring!$A:$A,\">=\"&T!$E$4,Bogføring!$A:$A,\"<=\"&T!$E$5,Bogføring!$F:$F,A18)-SUMIFS(Bogføring!$G:$G,Bogføring!$A:$A,\">=\"&T!$E$4,Bogføring!$A:$A,\"<=\"&T!$E$5,Bogføring!$F:$F,A18)","v":0}]
[1130,{"$f":"IFERROR(VLOOKUP(A19,Kontoplan!$A$2:$D$96,2,0),\"\")","v":""},null,null,"",{"$f":"SUMIFS(Bogføring!$H:$H,Bogføring!$A:$A,\">=\"&T!$C$4,Bogføring!$A:$A,\"<=\"&T!$C$5,Bogføring!$F:$F,A19)-SUMIFS(Bogføring!$G:$G,Bogføring!$A:$A,\">=\"&T!$C$4,Bogføring!$A:$A,\"<=\"&T!$C$5,Bogføring!$F:$F,A19)","v":0},{"$f":"SUMIFS(Bogføring!$H:$H,Bogføring!$A:$A,\">=\"&T!$D$4,Bogføring!$A:$A,\"<=\"&T!$D$5,Bogføring!$F:$F,A19)-SUMIFS(Bogføring!$G:$G,Bogføring!$A:$A,\">=\"&T!$D$4,Bogføring!$A:$A,\"<=\"&T!$D$5,Bogføring!$F:$F,A19)","v":0},{"$f":"SUMIFS(Bogføring!$H:$H,Bogføring!$A:$A,\">=\"&T!$E$4,Bogføring!$A:$A,\"<=\"&T!$E$5,Bogføring!$F:$F,A19)-SUMIFS(Bogføring!$G:$G,Bogføring!$A:$A,\">=\"&T!$E$4,Bogføring!$A:$A,\"<=\"&T!$E$5,Bogføring!$F:$F,A19)","v":0}]
[1070,{"$f":"IFERROR(VLOOKUP(A20,Kontoplan!$A$2:$D$96,2,0),\"\")","v":"Guide"},null,null,"",{"$f":"SUMIFS(Bogføring!$H:$H,Bogføring!$A:$A,\">=\"&T!$C$4,Bogføring!$A:$A,\"<=\"&T!$C$5,Bogføring!$F:$F,A20)-SUMIFS(Bogføring!$G:$G,Bogføring!$A:$A,\">=\"&T!$C$4,Bogføring!$A:$A,\"<=\"&T!$C$5,Bogføring!$F:$F,A20)","v":0},{"$f":"SUMIFS(Bogføring!$H:$H,Bogføring!$A:$A,\">=\"&T!$D$4,Bogføring!$A:$A,\"<=\"&T!$D$5,Bogføring!$F:$F,A20)-SUMIFS(Bogføring!$G:$G,Bogføring!$A:$A,\">=\"&T!$D$4,Bogføring!$A:$A,\"<=\"&T!$D$5,Bogføring!$F:$F,A20)","v":0},{"$f":"SUMIFS(Bogføring!$H:$H,Bogføring!$A:$A,\">=\"&T!$E$4,Bogføring!$A:$A,\"<=\"&T!$E$5,Bogføring!$F:$F,A20)-SUMIFS(Bogføring!$G:$G,Bogføring!$A:$A,\">=\"&T!$E$4,Bogføring!$A:$A,\"<=\"&T!$E$5,Bogføring!$F:$F,A20)","v":0}]
[1080,{"$f":"IFERROR(VLOOKUP(A21,Kontoplan!$A$2:$D$96,2,0),\"\")","v":0},null,null,"",{"$f":"SUMIFS(Bogføring!$H:$H,Bogføring!$A:$A,\">=\"&T!$C$4,Bogføring!$A:$A,\"<=\"&T!$C$5,Bogføring!$F:$F,A21)-SUMIFS(Bogføring!$G:$G,Bogføring!$A:$A,\">=\"&T!$C$4,Bogføring!$A:$A,\"<=\"&T!$C$5,Bogføring!$F:$F,A21)","v":150},{"$f":"SUMIFS(Bogføring!$H:$H,Bogføring!$A:$A,\">=\"&T!$D$4,Bogføring!$A:$A,\"<=\"&T!$D$5,Bogføring!$F:$F,A21)-SUMIFS(Bogføring!$G:$G,Bogføring!$A:$A,\">=\"&T!$D$4,Bogføring!$A:$A,\"<=\"&T!$D$5,Bogføring!$F:$F,A21)","v":0},{"$f":"SUMIFS(Bogføring!$H:$H,Bogføring!$A:$A,\">=\"&T!$E$4,Bogføring!$A:$A,\"<=\"&T!$E$5,Bogføring!$F:$F,A21)-SUMIFS(Bogføring!$G:$G,Bogføring!$A:$A,\">=\"&T!$E$4,Bogføring!$A:$A,\"<=\"&T!$E$5,Bogføring!$F:$F,A21)","v":0}]
[null,{"$f":"IFERROR(VLOOKUP(A22,Kontoplan!$A$2:$D$96,2,0),\"\")","v":""},null,null,"",{"$f":"SUMIFS(Bogføring!$H:$H,Bogføring!$A:$A,\">=\"&T!$C$4,Bogføring!$A:$A,\"<=\"&T!$C$5,Bogføring!$F:$F,A22)-SUMIFS(Bogføring!$G:$G,Bogføring!$A:$A,\">=\"&T!$C$4,Bogføring!$A:$A,\"<=\"&T!$C$5,Bogføring!$F:$F,A22)","v":0},{"$f":"SUMIFS(Bogføring!$H:$H,Bogføring!$A:$A,\">=\"&T!$D$4,Bogføring!$A:$A,\"<=\"&T!$D$5,Bogføring!$F:$F,A22)-SUMIFS(Bogføring!$G:$G,Bogføring!$A:$A,\">=\"&T!$D$4,Bogføring!$A:$A,\"<=\"&T!$D$5,Bogføring!$F:$F,A22)","v":0},{"$f":"SUMIFS(Bogføring!$H:$H,Bogføring!$A:$A,\">=\"&T!$E$4,Bogføring!$A:$A,\"<=\"&T!$E$5,Bogføring!$F:$F,A22)-SUMIFS(Bogføring!$G:$G,Bogføring!$A:$A,\">=\"&T!$E$4,Bogføring!$A:$A,\"<=\"&T!$E$5,Bogføring!$F:$F,A22)","v":0}]
[1095,{"$f":"IFERROR(VLOOKUP(A23,Kontoplan!$A$2:$D$96,2,0),\"\")","v":""},null,null,"",{"$f":"SUMIFS(Bogføring!$H:$H,Bogføring!$A:$A,\">=\"&T!$C$4,Bogføring!$A:$A,\"<=\"&T!$C$5,Bogføring!$F:$F,A23)-SUMIFS(Bogføring!$G:$G,Bogføring!$A:$A,\">=\"&T!$C$4,Bogføring!$A:$A,\"<=\"&T!$C$5,Bogføring!$F:$F,A23)","v":0},{"$f":"SUMIFS(Bogføring!$H:$H,Bogføring!$A:$A,\">=\"&T!$D$4,Bogføring!$A:$A,\"<=\"&T!$D$5,Bogføring!$F:$F,A23)-SUMIFS(Bogføring!$G:$G,Bogføring!$A:$A,\">=\"&T!$D$4,Bogføring!$A:$A,\"<=\"&T!$D$5,Bogføring!$F:$F,A23)","v":0},{"$f":"SUMIFS(Bogføring!$H:$H,Bogføring!$A:$A,\">=\"&T!$E$4,Bogføring!$A:$A,\"<=\"&T!$E$5,Bogføring!$F:$F,A23)-SUMIFS(Bogføring!$G:$G,Bogføring!$A:$A,\">=\"&T!$E$4,Bogføring!$A:$A,\"<=\"&T!$E$5,Bogføring!$F:$F,A23)","v":0}]
[1110,{"$f":"IFERROR(VLOOKUP(A24,Kontoplan!$A$2:$D$96,2,0),\"\")","v":""},null,null,{"$f":"IFERROR((D24-G24)/G24,\"\")","v":""},{"$f":"SUMIFS(Bogføring!$H:$H,Bogføring!$A:$A,\">=\"&T!$C$4,Bogføring!$A:$A,\"<=\"&T!$C$5,Bogføring!$F:$F,A24)-SUMIFS(Bogføring!$G:$G,Bogføring!$A:$A,\">=\"&T!$C$4,Bogføring!$A:$A,\"<=\"&T!$C$5,Bogføring!$F:$F,A24)","v":0},{"$f":"SUMIFS(Bogføring!$H:$H,Bogføring!$A:$A,\">=\"&T!$D$4,Bogføring!$A:$A,\"<=\"&T!$D$5,Bogføring!$F:$F,A24)-SUMIFS(Bogføring!$G:$G,Bogføring!$A:$A,\">=\"&T!$D$4,Bogføring!$A:$A,\"<=\"&T!$D$5,Bogføring!$F:$F,A24)","v":0},{"$f":"SUMIFS(Bogføring!$H:$H,Bogføring!$A:$A,\">=\"&T!$E$4,Bogføring!$A:$A,\"<=\"&T!$E$5,Bogføring!$F:$F,A24)-SUMIFS(Bogføring!$G:$G,Bogføring!$A:$A,\">=\"&T!$E$4,Bogføring!$A:$A,\"<=\"&T!$E$5,Bogføring!$F:$F,A24)","v":0}]
[null,"",null,null,{"$f":"IFERROR((D25-G25)/G25,\"\")","v":""},{"$f":"SUMIFS(Bogføring!$H:$H,Bogføring!$A:$A,\">=\"&T!$C$4,Bogføring!$A:$A,\"<=\"&T!$C$5,Bogføring!$F:$F,A25)-SUMIFS(Bogføring!$G:$G,Bogføring!$A:$A,\">=\"&T!$C$4,Bogføring!$A:$A,\"<=\"&T!$C$5,Bogføring!$F:$F,A25)","v":0},{"$f":"SUMIFS(Bogføring!$H:$H,Bogføring!$A:$A,\">=\"&T!$D$4,Bogføring!$A:$A,\"<=\"&T!$D$5,Bogføring!$F:$F,A25)-SUMIFS(Bogføring!$G:$G,Bogføring!$A:$A,\">=\"&T!$D$4,Bogføring!$A:$A,\"<=\"&T!$D$5,Bogføring!$F:$F,A25)","v":0},{"$f":"SUMIFS(Bogføring!$H:$H,Bogføring!$A:$A,\">=\"&T!$E$4,Bogføring!$A:$A,\"<=\"&T!$E$5,Bogføring!$F:$F,A25)-SUMIFS(Bogføring!$G:$G,Bogføring!$A:$A,\">=\"&T!$E$4,Bogføring!$A:$A,\"<=\"&T!$E$5,Bogføring!$F:$F,A25)","v":0}]
[]
[null,"Indtægter i alt",null,{"$f":"SUM(D12:D25)","v":25450},{"$f":"IFERROR((D27-F27)/D27,\"\")","v":0.75638506876227896},{"$f":"SUM(F12:F25)","v":6200},{"$f":"SUM(G12:G25)","v":0},{"$f":"SUM(H12:H25)","v":0}]
[null,null,null,null,""]
[null,"Udgifter",null,null,""]
[null,null,null,null,""]
[2000,{"$f":"IFERROR(VLOOKUP(A31,Kontoplan!$A$2:$D$96,2,0),\"\")","v":"Bankgebyr DB"},null,200,1,{"$f":"SUMIFS(Bogføring!$G:$G,Bogføring!$A:$A,\">=\"&T!$C$4,Bogføring!$A:$A,\"<=\"&T!$C$5,Bogføring!$F:$F,A31)","v":0},{"$f":"SUMIFS(Bogføring!$G:$G,Bogføring!$A:$A,\">=\"&T!$D$4,Bogføring!$A:$A,\"<=\"&T!$D$5,Bogføring!$F:$F,A31)","v":0},{"$f":"SUMIFS(Bogføring!$G:$G,Bogføring!$A:$A,\">=\"&T!$E$4,Bogføring!$A:$A,\"<=\"&T!$E$5,Bogføring!$F:$F,A31)","v":0}]
[2005,{"$f":"IFERROR(VLOOKUP(A32,Kontoplan!$A$2:$D$96,2,0),\"\")","v":""},null,375,{"$f":"IFERROR((D32-F32)/D32,\"\")","v":1},{"$f":"SUMIFS(Bogføring!$G:$G,Bogføring!$A:$A,\">=\"&T!$C$4,Bogføring!$A:$A,\"<=\"&T!$C$5,Bogføring!$F:$F,A32)","v":0},{"$f":"SUMIFS(Bogføring!$G:$G,Bogføring!$A:$A,\">=\"&T!$D$4,Bogføring!$A:$A,\"<=\"&T!$D$5,Bogføring!$F:$F,A32)","v":0},{"$f":"SUMIFS(Bogføring!$G:$G,Bogføring!$A:$A,\">=\"&T!$E$4,Bogføring!$A:$A,\"<=\"&T!$E$5,Bogføring!$F:$F,A32)","v":0}]
[2010,{"$f":"IFERROR(VLOOKUP(A33,Kontoplan!$A$2:$D$96,2,0),\"\")","v":"Gebyr Zettle"},null,2500,1,{"$f":"SUMIFS(Bogføring!$G:$G,Bogføring!$A:$A,\">=\"&T!$C$4,Bogføring!$A:$A,\"<=\"&T!$C$5,Bogføring!$F:$F,A33)","v":0},{"$f":"SUMIFS(Bogføring!$G:$G,Bogføring!$A:$A,\">=\"&T!$D$4,Bogføring!$A:$A,\"<=\"&T!$D$5,Bogføring!$F:$F,A33)","v":0},{"$f":"SUMIFS(Bogføring!$G:$G,Bogføring!$A:$A,\">=\"&T!$E$4,Bogføring!$A:$A,\"<=\"&T!$E$5,Bogføring!$F:$F,A33)","v":0}]
[2020,{"$f":"IFERROR(VLOOKUP(A34,Kontoplan!$A$2:$D$96,2,0),\"\")","v":"Danløn"},null,null,"",{"$f":"SUMIFS(Bogføring!$G:$G,Bogføring!$A:$A,\">=\"&T!$C$4,Bogføring!$A:$A,\"<=\"&T!$C$5,Bogføring!$F:$F,A34)","v":0},{"$f":"SUMIFS(Bogføring!$G:$G,Bogføring!$A:$A,\">=\"&T!$D$4,Bogføring!$A:$A,\"<=\"&T!$D$5,Bogføring!$F:$F,A34)","v":0},{"$f":"SUMIFS(Bogføring!$G:$G,Bogføring!$A:$A,\">=\"&T!$E$4,Bogføring!$A:$A,\"<=\"&T!$E$5,Bogføring!$F:$F,A34)","v":0}]
[2030,{"$f":"IFERROR(VLOOKUP(A35,Kontoplan!$A$2:$D$96,2,0),\"\")","v":"Revisor"},null,150,1,{"$f":"SUMIFS(Bogføring!$G:$G,Bogføring!$A:$A,\">=\"&T!$C$4,Bogføring!$A:$A,\"<=\"&T!$C$5,Bogføring!$F:$F,A35)","v":0},{"$f":"SUMIFS(Bogføring!$G:$G,Bogføring!$A:$A,\">=\"&T!$D$4,Bogføring!$A:$A,\"<=\"&T!$D$5,Bogføring!$F:$F,A35)","v":0},{"$f":"SUMIFS(Bogføring!$G:$G,Bogføring!$A:$A,\">=\"&T!$E$4,Bogføring!$A:$A,\"<=\"&T!$E$5,Bogføring!$F:$F,A35)","v":0}]
[2070,{"$f":"IFERROR(VLOOKUP(A36,Kontoplan!$A$2:$D$96,2,0),\"\")","v":"Facebook"},null,null,"",{"$f":"SUMIFS(Bogføring!$G:$G,Bogføring!$A:$A,\">=\"&T!$C$4,Bogføring!$A:$A,\"<=\"&T!$C$5,Bogføring!$F:$F,A36)","v":0},{"$f":"SUMIFS(Bogføring!$G:$G,Bogføring!$A:$A,\">=\"&T!$D$4,Bogføring!$A:$A,\"<=\"&T!$D$5,Bogføring!$F:$F,A36)","v":0},{"$f":"SUMIFS(Bogføring!$G:$G,Bogføring!$A:$A,\">=\"&T!$E$4,Bogføring!$A:$A,\"<=\"&T!$E$5,Bogføring!$F:$F,A36)","v":0}]
[2100,{"$f":"IFERROR(VLOOKUP(A37,Kontoplan!$A$2:$D$96,2,0),\"\")","v":"Grønne områder"},null,800,1,{"$f":"SUMIFS(Bogføring!$G:$G,Bogføring!$A:$A,\">=\"&T!$C$4,Bogføring!$A:$A,\"<=\"&T!$C$5,Bogføring!$F:$F,A37)","v":0},{"$f":"SUMIFS(Bogføring!$G:$G,Bogføring!$A:$A,\">=\"&T!$D$4,Bogføring!$A:$A,\"<=\"&T!$D$5,Bogføring!$F:$F,A37)","v":0},{"$f":"SUMIFS(Bogføring!$G:$G,Bogføring!$A:$A,\">=\"&T!$E$4,Bogføring!$A:$A,\"<=\"&T!$E$5,Bogføring!$F:$F,A37)","v":0}]
[2110,{"$f":"IFERROR(VLOOKUP(A38,Kontoplan!$A$2:$D$96,2,0),\"\")","v":"El, Vand og Varme"},null,100,1,{"$f":"SUMIFS(Bogføring!$G:$G,Bogføring!$A:$A,\">=\"&T!$C$4,Bogføring!$A:$A,\"<=\"&T!$C$5,Bogføring!$F:$F,A38)","v":0},{"$f":"SUMIFS(Bogføring!$G:$G,Bogføring!$A:$A,\">=\"&T!$D$4,Bogføring!$A:$A,\"<=\"&T!$D$5,Bogføring!$F:$F,A38)","v":0},{"$f":"SUMIFS(Bogføring!$G:$G,Bogføring!$A:$A,\">=\"&T!$E$4,Bogføring!$A:$A,\"<=\"&T!$E$5,Bogføring!$F:$F,A38)","v":0}]
[2085,{"$f":"IFERROR(VLOOKUP(A39,Kontoplan!$A$2:$D$96,2,0),\"\")","v":""},null,null,"",{"$f":"SUMIFS(Bogføring!$G:$G,Bogføring!$A:$A,\">=\"&T!$C$4,Bogføring!$A:$A,\"<=\"&T!$C$5,Bogføring!$F:$F,A39)","v":0},{"$f":"SUMIFS(Bogføring!$G:$G,Bogføring!$A:$A,\">=\"&T!$D$4,Bogføring!$A:$A,\"<=\"&T!$D$5,Bogføring!$F:$F,A39)","v":0},{"$f":"SUMIFS(Bogføring!$G:$G,Bogføring!$A:$A,\">=\"&T!$E$4,Bogføring!$A:$A,\"<=\"&T!$E$5,Bogføring!$F:$F,A39)","v":0}]
[2120,{"$f":"IFERROR(VLOOKUP(A40,Kontoplan!$A$2:$D$96,2,0),\"\")","v":"El Beof 2054531"},null,938,1,{"$f":"SUMIFS(Bogføring!$G:$G,Bogføring!$A:$A,\">=\"&T!$C$4,Bogføring!$A:$A,\"<=\"&T!$C$5,Bogføring!$F:$F,A40)","v":0},{"$f":"SUMIFS(Bogføring!$G:$G,Bogføring!$A:$A,\">=\"&T!$D$4,Bogføring!$A:$A,\"<=\"&T!$D$5,Bogføring!$F:$F,A40)","v":0},{"$f":"SUMIFS(Bogføring!$G:$G,Bogføring!$A:$A,\">=\"&T!$E$4,Bogføring!$A:$A,\"<=\"&T!$E$5,Bogføring!$F:$F,A40)","v":0}]
[2040,{"$f":"IFERROR(VLOOKUP(A41,Kontoplan!$A$2:$D$96,2,0),\"\")","v":"Regnskabsservice"},null,null,"",{"$f":"SUMIFS(Bogføring!$G:$G,Bogføring!$A:$A,\">=\"&T!$C$4,Bogføring!$A:$A,\"<=\"&T!$C$5,Bogføring!$F:$F,A41)","v":0},{"$f":"SUMIFS(Bogføring!$G:$G,Bogføring!$A:$A,\">=\"&T!$D$4,Bogføring!$A:$A,\"<=\"&T!$D$5,Bogføring!$F:$F,A41)","v":0},{"$f":"SUMIFS(Bogføring!$G:$G,Bogføring!$A:$A,\">=\"&T!$E$4,Bogføring!$A:$A,\"<=\"&T!$E$5,Bogføring!$F:$F,A41)","v":0}]
[2170,{"$f":"IFERROR(VLOOKUP(A42,Kontoplan!$A$2:$D$96,2,0),\"\")","v":"G4S tyverialarm"},null,1100,1,{"$f":"SUMIFS(Bogføring!$G:$G,Bogføring!$A:$A,\">=\"&T!$C$4,Bogføring!$A:$A,\"<=\"&T!$C$5,Bogføring!$F:$F,A42)","v":0},{"$f":"SUMIFS(Bogføring!$G:$G,Bogføring!$A:$A,\">=\"&T!$D$4,Bogføring!$A:$A,\"<=\"&T!$D$5,Bogføring!$F:$F,A42)","v":0},{"$f":"SUMIFS(Bogføring!$G:$G,Bogføring!$A:$A,\">=\"&T!$E$4,Bogføring!$A:$A,\"<=\"&T!$E$5,Bogføring!$F:$F,A42)","v":0}]
[2130,{"$f":"IFERROR(VLOOKUP(A43,Kontoplan!$A$2:$D$96,2,0),\"\")","v":"El Beof 2054558"},null,300,0.43,{"$f":"SUMIFS(Bogføring!$G:$G,Bogføring!$A:$A,\">=\"&T!$C$4,Bogføring!$A:$A,\"<=\"&T!$C$5,Bogføring!$F:$F,A43)","v":171},{"$f":"SUMIFS(Bogføring!$G:$G,Bogføring!$A:$A,\">=\"&T!$D$4,Bogføring!$A:$A,\"<=\"&T!$D$5,Bogføring!$F:$F,A43)","v":0},{"$f":"SUMIFS(Bogføring!$G:$G,Bogføring!$A:$A,\">=\"&T!$E$4,Bogføring!$A:$A,\"<=\"&T!$E$5,Bogføring!$F:$F,A43)","v":0}]
[2150,{"$f":"IFERROR(VLOOKUP(A44,Kontoplan!$A$2:$D$96,2,0),\"\")","v":"Varme RVV"},null,null,"",{"$f":"SUMIFS(Bogføring!$G:$G,Bogføring!$A:$A,\">=\"&T!$C$4,Bogføring!$A:$A,\"<=\"&T!$C$5,Bogføring!$F:$F,A44)","v":0},{"$f":"SUMIFS(Bogføring!$G:$G,Bogføring!$A:$A,\">=\"&T!$D$4,Bogføring!$A:$A,\"<=\"&T!$D$5,Bogføring!$F:$F,A44)","v":0},{"$f":"SUMIFS(Bogføring!$G:$G,Bogføring!$A:$A,\">=\"&T!$E$4,Bogføring!$A:$A,\"<=\"&T!$E$5,Bogføring!$F:$F,A44)","v":0}]
[2160,{"$f":"IFERROR(VLOOKUP(A45,Kontoplan!$A$2:$D$96,2,0),\"\")","v":"Forsikringere"},null,3000,1,{"$f":"SUMIFS(Bogføring!$G:$G,Bogføring!$A:$A,\">=\"&T!$C$4,Bogføring!$A:$A,\"<=\"&T!$C$5,Bogføring!$F:$F,A45)","v":0},{"$f":"SUMIFS(Bogføring!$G:$G,Bogføring!$A:$A,\">=\"&T!$D$4,Bogføring!$A:$A,\"<=\"&T!$D$5,Bogføring!$F:$F,A45)","v":0},{"$f":"SUMIFS(Bogføring!$G:$G,Bogføring!$A:$A,\">=\"&T!$E$4,Bogføring!$A:$A,\"<=\"&T!$E$5,Bogføring!$F:$F,A45)","v":0}]
[2165,{"$f":"IFERROR(VLOOKUP(A46,Kontoplan!$A$2:$D$96,2,0),\"\")","v":""},null,null,"",{"$f":"SUMIFS(Bogføring!$G:$G,Bogføring!$A:$A,\">=\"&T!$C$4,Bogføring!$A:$A,\"<=\"&T!$C$5,Bogføring!$F:$F,A46)","v":0},{"$f":"SUMIFS(Bogføring!$G:$G,Bogføring!$A:$A,\">=\"&T!$D$4,Bogføring!$A:$A,\"<=\"&T!$D$5,Bogføring!$F:$F,A46)","v":0},{"$f":"SUMIFS(Bogføring!$G:$G,Bogføring!$A:$A,\">=\"&T!$E$4,Bogføring!$A:$A,\"<=\"&T!$E$5,Bogføring!$F:$F,A46)","v":0}]
[2090,{"$f":"IFERROR(VLOOKUP(A47,Kontoplan!$A$2:$D$96,2,0),\"\")","v":"Bygnings vedligehold"},null,3700,1,{"$f":"SUMIFS(Bogføring!$G:$G,Bogføring!$A:$A,\">=\"&T!$C$4,Bogføring!$A:$A,\"<=\"&T!$C$5,Bogføring!$F:$F,A47)","v":0},{"$f":"SUMIFS(Bogføring!$G:$G,Bogføring!$A:$A,\">=\"&T!$D$4,Bogføring!$A:$A,\"<=\"&T!$D$5,Bogføring!$F:$F,A47)","v":0},{"$f":"SUMIFS(Bogføring!$G:$G,Bogføring!$A:$A,\">=\"&T!$E$4,Bogføring!$A:$A,\"<=\"&T!$E$5,Bogføring!$F:$F,A47)","v":0}]
[2080,{"$f":"IFERROR(VLOOKUP(A48,Kontoplan!$A$2:$D$96,2,0),\"\")","v":"Hjemmeside, Webhotel"},null,5000,1,{"$f":"SUMIFS(Bogføring!$G:$G,Bogføring!$A:$A,\">=\"&T!$C$4,Bogføring!$A:$A,\"<=\"&T!$C$5,Bogføring!$F:$F,A48)","v":0},{"$f":"SUMIFS(Bogføring!$G:$G,Bogføring!$A:$A,\">=\"&T!$D$4,Bogføring!$A:$A,\"<=\"&T!$D$5,Bogføring!$F:$F,A48)","v":0},{"$f":"SUMIFS(Bogføring!$G:$G,Bogføring!$A:$A,\">=\"&T!$E$4,Bogføring!$A:$A,\"<=\"&T!$E$5,Bogføring!$F:$F,A48)","v":0}]
[2081,{"$f":"IFERROR(VLOOKUP(A49,Kontoplan!$A$2:$D$96,2,0),\"\")","v":""},null,null,"",{"$f":"SUMIFS(Bogføring!$G:$G,Bogføring!$A:$A,\">=\"&T!$C$4,Bogføring!$A:$A,\"<=\"&T!$C$5,Bogføring!$F:$F,A49)","v":0},{"$f":"SUMIFS(Bogføring!$G:$G,Bogføring!$A:$A,\">=\"&T!$D$4,Bogføring!$A:$A,\"<=\"&T!$D$5,Bogføring!$F:$F,A49)","v":0},{"$f":"SUMIFS(Bogføring!$G:$G,Bogføring!$A:$A,\">=\"&T!$E$4,Bogføring!$A:$A,\"<=\"&T!$E$5,Bogføring!$F:$F,A49)","v":0}]
[2082,{"$f":"IFERROR(VLOOKUP(A50,Kontoplan!$A$2:$D$96,2,0),\"\")","v":""},null,null,"",{"$f":"SUMIFS(Bogføring!$G:$G,Bogføring!$A:$A,\">=\"&T!$C$4,Bogføring!$A:$A,\"<=\"&T!$C$5,Bogføring!$F:$F,A50)","v":0},{"$f":"SUMIFS(Bogføring!$G:$G,Bogføring!$A:$A,\">=\"&T!$D$4,Bogføring!$A:$A,\"<=\"&T!$D$5,Bogføring!$F:$F,A50)","v":0},{"$f":"SUMIFS(Bogføring!$G:$G,Bogføring!$A:$A,\">=\"&T!$E$4,Bogføring!$A:$A,\"<=\"&T!$E$5,Bogføring!$F:$F,A50)","v":0}]
[2180,{"$f":"IFERROR(VLOOKUP(A51,Kontoplan!$A$2:$D$96,2,0),\"\")","v":"Kontingent til andre Foreninger"},null,null,"",{"$f":"SUMIFS(Bogføring!$G:$G,Bogføring!$A:$A,\">=\"&T!$C$4,Bogføring!$A:$A,\"<=\"&T!$C$5,Bogføring!$F:$F,A51)","v":0},{"$f":"SUMIFS(Bogføring!$G:$G,Bogføring!$A:$A,\">=\"&T!$D$4,Bogføring!$A:$A,\"<=\"&T!$D$5,Bogføring!$F:$F,A51)","v":0},{"$f":"SUMIFS(Bogføring!$G:$G,Bogføring!$A:$A,\">=\"&T!$E$4,Bogføring!$A:$A,\"<=\"&T!$E$5,Bogføring!$F:$F,A51)","v":0}]
[2140,{"$f":"IFERROR(VLOOKUP(A52,Kontoplan!$A$2:$D$96,2,0),\"\")","v":"Vand RVV"},null,null,"",{"$f":"SUMIFS(Bogføring!$G:$G,Bogføring!$A:$A,\">=\"&T!$C$4,Bogføring!$A:$A,\"<=\"&T!$C$5,Bogføring!$F:$F,A52)","v":0},{"$f":"SUMIFS(Bogføring!$G:$G,Bogføring!$A:$A,\">=\"&T!$D$4,Bogføring!$A:$A,\"<=\"&T!$D$5,Bogføring!$F:$F,A52)","v":0},{"$f":"SUMIFS(Bogføring!$G:$G,Bogføring!$A:$A,\">=\"&T!$E$4,Bogføring!$A:$A,\"<=\"&T!$E$5,Bogføring!$F:$F,A52)","v":0}]
[2060,{"$f":"IFERROR(VLOOKUP(A53,Kontoplan!$A$2:$D$96,2,0),\"\")","v":"Internet, mobiltelefon."},null,null,"",{"$f":"SUMIFS(Bogføring!$G:$G,Bogføring!$A:$A,\">=\"&T!$C$4,Bogføring!$A:$A,\"<=\"&T!$C$5,Bogføring!$F:$F,A53)","v":0},{"$f":"SUMIFS(Bogføring!$G:$G,Bogføring!$A:$A,\">=\"&T!$D$4,Bogføring!$A:$A,\"<=\"&T!$D$5,Bogføring!$F:$F,A53)","v":0},{"$f":"SUMIFS(Bogføring!$G:$G,Bogføring!$A:$A,\">=\"&T!$E$4,Bogføring!$A:$A,\"<=\"&T!$E$5,Bogføring!$F:$F,A53)","v":0}]
[2190,{"$f":"IFERROR(VLOOKUP(A54,Kontoplan!$A$2:$D$96,2,0),\"\")","v":"Deltagelse i GF i Andre Foren."},null,null,"",{"$f":"SUMIFS(Bogføring!$G:$G,Bogføring!$A:$A,\">=\"&T!$C$4,Bogføring!$A:$A,\"<=\"&T!$C$5,Bogføring!$F:$F,A54)","v":0},{"$f":"SUMIFS(Bogføring!$G:$G,Bogføring!$A:$A,\">=\"&T!$D$4,Bogføring!$A:$A,\"<=\"&T!$D$5,Bogføring!$F:$F,A54)","v":0},{"$f":"SUMIFS(Bogføring!$G:$G,Bogføring!$A:$A,\">=\"&T!$E$4,Bogføring!$A:$A,\"<=\"&T!$E$5,Bogføring!$F:$F,A54)","v":0}]
[null,"",null,null,"",{"$f":"SUMIFS(Bogføring!$G:$G,Bogføring!$A:$A,\">=\"&T!$C$4,Bogføring!$A:$A,\"<=\"&T!$C$5,Bogføring!$F:$F,A55)","v":0},{"$f":"SUMIFS(Bogføring!$G:$G,Bogføring!$A:$A,\">=\"&T!$D$4,Bogføring!$A:$A,\"<=\"&T!$D$5,Bogføring!$F:$F,A55)","v":0},{"$f":"SUMIFS(Bogføring!$G:$G,Bogføring!$A:$A,\">=\"&T!$E$4,Bogføring!$A:$A,\"<=\"&T!$E$5,Bogføring!$F:$F,A55)","v":0}]
[]
[null,"Udgifter i alt",null,{"$f":"SUM(D31:D55)","v":18163},0.99058525573969058,{"$f":"SUM(F31:F55)","v":171},{"$f":"SUM(G31:G55)","v":0},{"$f":"SUM(H31:H55)","v":0}]
[]
[null,{"$f":"IF(F59<0,\"Årets resultat, Underskud\",\"Årets resultat, Overskud\")","v":"Årets resultat, Overskud"},null,{"$f":"D27-D57","v":7287},0.17263620145464526,{"$f":"F27-F57","v":6029},{"$f":"G27-G57","v":0},{"$f":"H27-H57","v":0}]
[null,null,null,null,""]
[]
[null,"Bjarne Hansen"]
[null,"kasserer"]

{"sheet":"Kontoplan (2)","index":8,"n_rows":78,"n_cols":9,"rows_kept":78,"cut":false,"hidden":true,"merged":[]}
["Konto","Kontobeskrivelse","Saldo","Kommentarer","Fra","Til"]
[1000,"Entre",{"$f":"SUMIFS(Bogføring!$H:$H,Bogføring!$A:$A,\">=\"&T!$C$4,Bogføring!$A:$A,\"<=\"&T!$C$5,Bogføring!$F:$F,A2)-SUMIFS(Bogføring!$G:$G,Bogføring!$A:$A,\">=\"&T!$C$4,Bogføring!$A:$A,\"<=\"&T!$C$5,Bogføring!$F:$F,A2)","v":5500},{"$f":"SUM(C3:C10)","v":0}]
[1001,"Voksne",{"$f":"SUMIFS(Bogføring!$H:$H,Bogføring!$A:$A,\">=\"&T!$C$4,Bogføring!$A:$A,\"<=\"&T!$C$5,Bogføring!$F:$F,A3)-SUMIFS(Bogføring!$G:$G,Bogføring!$A:$A,\">=\"&T!$C$4,Bogføring!$A:$A,\"<=\"&T!$C$5,Bogføring!$F:$F,A3)","v":0},null,null,null,null,null,14603.17]
[1002,"Pensionister",{"$f":"SUMIFS(Bogføring!$H:$H,Bogføring!$A:$A,\">=\"&T!$C$4,Bogføring!$A:$A,\"<=\"&T!$C$5,Bogføring!$F:$F,A4)-SUMIFS(Bogføring!$G:$G,Bogføring!$A:$A,\">=\"&T!$C$4,Bogføring!$A:$A,\"<=\"&T!$C$5,Bogføring!$F:$F,A4)","v":0}]
[1003,"Børn 6/16",{"$f":"SUMIFS(Bogføring!$H:$H,Bogføring!$A:$A,\">=\"&T!$C$4,Bogføring!$A:$A,\"<=\"&T!$C$5,Bogføring!$F:$F,A5)-SUMIFS(Bogføring!$G:$G,Bogføring!$A:$A,\">=\"&T!$C$4,Bogføring!$A:$A,\"<=\"&T!$C$5,Bogføring!$F:$F,A5)","v":0}]
[1004,"Børn u/6",{"$f":"SUMIFS(Bogføring!$H:$H,Bogføring!$A:$A,\">=\"&T!$C$4,Bogføring!$A:$A,\"<=\"&T!$C$5,Bogføring!$F:$F,A6)-SUMIFS(Bogføring!$G:$G,Bogføring!$A:$A,\">=\"&T!$C$4,Bogføring!$A:$A,\"<=\"&T!$C$5,Bogføring!$F:$F,A6)","v":0}]
[1005,"skoler",{"$f":"SUMIFS(Bogføring!$H:$H,Bogføring!$A:$A,\">=\"&T!$C$4,Bogføring!$A:$A,\"<=\"&T!$C$5,Bogføring!$F:$F,A7)-SUMIFS(Bogføring!$G:$G,Bogføring!$A:$A,\">=\"&T!$C$4,Bogføring!$A:$A,\"<=\"&T!$C$5,Bogføring!$F:$F,A7)","v":0}]
[1006,"BH skoler",{"$f":"SUMIFS(Bogføring!$H:$H,Bogføring!$A:$A,\">=\"&T!$C$4,Bogføring!$A:$A,\"<=\"&T!$C$5,Bogføring!$F:$F,A8)-SUMIFS(Bogføring!$G:$G,Bogføring!$A:$A,\">=\"&T!$C$4,Bogføring!$A:$A,\"<=\"&T!$C$5,Bogføring!$F:$F,A8)","v":0}]
[1007,"Grupper",{"$f":"SUMIFS(Bogføring!$H:$H,Bogføring!$A:$A,\">=\"&T!$C$4,Bogføring!$A:$A,\"<=\"&T!$C$5,Bogføring!$F:$F,A9)-SUMIFS(Bogføring!$G:$G,Bogføring!$A:$A,\">=\"&T!$C$4,Bogføring!$A:$A,\"<=\"&T!$C$5,Bogføring!$F:$F,A9)","v":0}]
[1008,"Militær ID",{"$f":"SUMIFS(Bogføring!$H:$H,Bogføring!$A:$A,\">=\"&T!$C$4,Bogføring!$A:$A,\"<=\"&T!$C$5,Bogføring!$F:$F,A10)-SUMIFS(Bogføring!$G:$G,Bogføring!$A:$A,\">=\"&T!$C$4,Bogføring!$A:$A,\"<=\"&T!$C$5,Bogføring!$F:$F,A10)","v":0}]
[1010,"Kiosk salg",{"$f":"SUMIFS(Bogføring!$H:$H,Bogføring!$A:$A,\">=\"&T!$C$4,Bogføring!$A:$A,\"<=\"&T!$C$5,Bogføring!$F:$F,A11)-SUMIFS(Bogføring!$G:$G,Bogføring!$A:$A,\">=\"&T!$C$4,Bogføring!$A:$A,\"<=\"&T!$C$5,Bogføring!$F:$F,A11)","v":550}]
[1011,"Sodavand",{"$f":"SUMIFS(Bogføring!$H:$H,Bogføring!$A:$A,\">=\"&T!$C$4,Bogføring!$A:$A,\"<=\"&T!$C$5,Bogføring!$F:$F,A12)-SUMIFS(Bogføring!$G:$G,Bogføring!$A:$A,\">=\"&T!$C$4,Bogføring!$A:$A,\"<=\"&T!$C$5,Bogføring!$F:$F,A12)","v":0}]
[1012,"kort",{"$f":"SUMIFS(Bogføring!$H:$H,Bogføring!$A:$A,\">=\"&T!$C$4,Bogføring!$A:$A,\"<=\"&T!$C$5,Bogføring!$F:$F,A13)-SUMIFS(Bogføring!$G:$G,Bogføring!$A:$A,\">=\"&T!$C$4,Bogføring!$A:$A,\"<=\"&T!$C$5,Bogføring!$F:$F,A13)","v":0}]
[1013,"Bælter",{"$f":"SUMIFS(Bogføring!$H:$H,Bogføring!$A:$A,\">=\"&T!$C$4,Bogføring!$A:$A,\"<=\"&T!$C$5,Bogføring!$F:$F,A14)-SUMIFS(Bogføring!$G:$G,Bogføring!$A:$A,\">=\"&T!$C$4,Bogføring!$A:$A,\"<=\"&T!$C$5,Bogføring!$F:$F,A14)","v":0}]
[1014,"Færdige Tinsoldater",{"$f":"SUMIFS(Bogføring!$H:$H,Bogføring!$A:$A,\">=\"&T!$C$4,Bogføring!$A:$A,\"<=\"&T!$C$5,Bogføring!$F:$F,A15)-SUMIFS(Bogføring!$G:$G,Bogføring!$A:$A,\">=\"&T!$C$4,Bogføring!$A:$A,\"<=\"&T!$C$5,Bogføring!$F:$F,A15)","v":0}]
[1015]
[1020,"Tilskud BRK",{"$f":"SUMIFS(Bogføring!$H:$H,Bogføring!$A:$A,\">=\"&T!$C$4,Bogføring!$A:$A,\"<=\"&T!$C$5,Bogføring!$F:$F,A17)-SUMIFS(Bogføring!$G:$G,Bogføring!$A:$A,\">=\"&T!$C$4,Bogføring!$A:$A,\"<=\"&T!$C$5,Bogføring!$F:$F,A17)","v":0}]
[1030,"Tilskud KVB",{"$f":"SUMIFS(Bogføring!$H:$H,Bogføring!$A:$A,\">=\"&T!$C$4,Bogføring!$A:$A,\"<=\"&T!$C$5,Bogføring!$F:$F,A18)-SUMIFS(Bogføring!$G:$G,Bogføring!$A:$A,\">=\"&T!$C$4,Bogføring!$A:$A,\"<=\"&T!$C$5,Bogføring!$F:$F,A18)","v":0}]
[1040,"Fonde/Gaver",{"$f":"SUMIFS(Bogføring!$H:$H,Bogføring!$A:$A,\">=\"&T!$C$4,Bogføring!$A:$A,\"<=\"&T!$C$5,Bogføring!$F:$F,A19)-SUMIFS(Bogføring!$G:$G,Bogføring!$A:$A,\">=\"&T!$C$4,Bogføring!$A:$A,\"<=\"&T!$C$5,Bogføring!$F:$F,A19)","v":0}]
[1050,"Aktiviteter",{"$f":"SUMIFS(Bogføring!$H:$H,Bogføring!$A:$A,\">=\"&T!$C$4,Bogføring!$A:$A,\"<=\"&T!$C$5,Bogføring!$F:$F,A20)-SUMIFS(Bogføring!$G:$G,Bogføring!$A:$A,\">=\"&T!$C$4,Bogføring!$A:$A,\"<=\"&T!$C$5,Bogføring!$F:$F,A20)","v":0}]
[1060,null,{"$f":"SUMIFS(Bogføring!$H:$H,Bogføring!$A:$A,\">=\"&T!$C$4,Bogføring!$A:$A,\"<=\"&T!$C$5,Bogføring!$F:$F,A21)-SUMIFS(Bogføring!$G:$G,Bogføring!$A:$A,\">=\"&T!$C$4,Bogføring!$A:$A,\"<=\"&T!$C$5,Bogføring!$F:$F,A21)","v":0}]
[1070,"Pengegaver",{"$f":"SUMIFS(Bogføring!$H:$H,Bogføring!$A:$A,\">=\"&T!$C$4,Bogføring!$A:$A,\"<=\"&T!$C$5,Bogføring!$F:$F,A22)-SUMIFS(Bogføring!$G:$G,Bogføring!$A:$A,\">=\"&T!$C$4,Bogføring!$A:$A,\"<=\"&T!$C$5,Bogføring!$F:$F,A22)","v":0}]
[1080,"Flaskepant retur",{"$f":"SUMIFS(Bogføring!$H:$H,Bogføring!$A:$A,\">=\"&T!$C$4,Bogføring!$A:$A,\"<=\"&T!$C$5,Bogføring!$F:$F,A23)-SUMIFS(Bogføring!$G:$G,Bogføring!$A:$A,\">=\"&T!$C$4,Bogføring!$A:$A,\"<=\"&T!$C$5,Bogføring!$F:$F,A23)","v":150}]
[1090,"Kassedifferance",{"$f":"SUMIFS(Bogføring!$H:$H,Bogføring!$A:$A,\">=\"&T!$C$4,Bogføring!$A:$A,\"<=\"&T!$C$5,Bogføring!$F:$F,A24)-SUMIFS(Bogføring!$G:$G,Bogføring!$A:$A,\">=\"&T!$C$4,Bogføring!$A:$A,\"<=\"&T!$C$5,Bogføring!$F:$F,A24)","v":0}]
[1100,null,{"$f":"SUMIFS(Bogføring!$H:$H,Bogføring!$A:$A,\">=\"&T!$C$4,Bogføring!$A:$A,\"<=\"&T!$C$5,Bogføring!$F:$F,A25)-SUMIFS(Bogføring!$G:$G,Bogføring!$A:$A,\">=\"&T!$C$4,Bogføring!$A:$A,\"<=\"&T!$C$5,Bogføring!$F:$F,A25)","v":0}]
[1110,null,{"$f":"SUMIFS(Bogføring!$H:$H,Bogføring!$A:$A,\">=\"&T!$C$4,Bogføring!$A:$A,\"<=\"&T!$C$5,Bogføring!$F:$F,A26)-SUMIFS(Bogføring!$G:$G,Bogføring!$A:$A,\">=\"&T!$C$4,Bogføring!$A:$A,\"<=\"&T!$C$5,Bogføring!$F:$F,A26)","v":0}]
[1120,null,{"$f":"SUMIFS(Bogføring!$H:$H,Bogføring!$A:$A,\">=\"&T!$C$4,Bogføring!$A:$A,\"<=\"&T!$C$5,Bogføring!$F:$F,A27)-SUMIFS(Bogføring!$G:$G,Bogføring!$A:$A,\">=\"&T!$C$4,Bogføring!$A:$A,\"<=\"&T!$C$5,Bogføring!$F:$F,A27)","v":0}]
[1130,"Diverse Indtægter",{"$f":"SUMIFS(Bogføring!$H:$H,Bogføring!$A:$A,\">=\"&T!$C$4,Bogføring!$A:$A,\"<=\"&T!$C$5,Bogføring!$F:$F,A28)-SUMIFS(Bogføring!$G:$G,Bogføring!$A:$A,\">=\"&T!$C$4,Bogføring!$A:$A,\"<=\"&T!$C$5,Bogføring!$F:$F,A28)","v":0},null,null,null,{"$f":"SUM(C2:C28)","v":6200}]
[2000,"Bankgebyr+iZ",{"$f":"SUMIFS(Bogføring!$G:$G,Bogføring!$A:$A,\">=\"&T!$C$4,Bogføring!$A:$A,\"<=\"&T!$C$5,Bogføring!$F:$F,A29)-SUMIFS(Bogføring!$H:$H,Bogføring!$A:$A,\">=\"&T!$C$4,Bogføring!$A:$A,\"<=\"&T!$C$5,Bogføring!$F:$F,A29)","v":0}]
[2010,"Visma ",{"$f":"SUMIFS(Bogføring!$G:$G,Bogføring!$A:$A,\">=\"&T!$C$4,Bogføring!$A:$A,\"<=\"&T!$C$5,Bogføring!$F:$F,A30)-SUMIFS(Bogføring!$H:$H,Bogføring!$A:$A,\">=\"&T!$C$4,Bogføring!$A:$A,\"<=\"&T!$C$5,Bogføring!$F:$F,A30)","v":0}]
[2020,"Revision",{"$f":"SUMIFS(Bogføring!$G:$G,Bogføring!$A:$A,\">=\"&T!$C$4,Bogføring!$A:$A,\"<=\"&T!$C$5,Bogføring!$F:$F,A31)-SUMIFS(Bogføring!$H:$H,Bogføring!$A:$A,\">=\"&T!$C$4,Bogføring!$A:$A,\"<=\"&T!$C$5,Bogføring!$F:$F,A31)","v":0}]
[2030,"Bygnings vedligehold",{"$f":"SUMIFS(Bogføring!$G:$G,Bogføring!$A:$A,\">=\"&T!$C$4,Bogføring!$A:$A,\"<=\"&T!$C$5,Bogføring!$F:$F,A32)-SUMIFS(Bogføring!$H:$H,Bogføring!$A:$A,\">=\"&T!$C$4,Bogføring!$A:$A,\"<=\"&T!$C$5,Bogføring!$F:$F,A32)","v":0}]
[2040,"El, Vand og Varme",{"$f":"SUMIFS(Bogføring!$G:$G,Bogføring!$A:$A,\">=\"&T!$C$4,Bogføring!$A:$A,\"<=\"&T!$C$5,Bogføring!$F:$F,A33)-SUMIFS(Bogføring!$H:$H,Bogføring!$A:$A,\">=\"&T!$C$4,Bogføring!$A:$A,\"<=\"&T!$C$5,Bogføring!$F:$F,A33)","v":0}]
[2050,"Deltagelse i GF i Andre Foren.",{"$f":"SUMIFS(Bogføring!$G:$G,Bogføring!$A:$A,\">=\"&T!$C$4,Bogføring!$A:$A,\"<=\"&T!$C$5,Bogføring!$F:$F,A34)-SUMIFS(Bogføring!$H:$H,Bogføring!$A:$A,\">=\"&T!$C$4,Bogføring!$A:$A,\"<=\"&T!$C$5,Bogføring!$F:$F,A34)","v":0}]
[2055,"Indkøb af øl + vand",{"$f":"SUMIFS(Bogføring!$G:$G,Bogføring!$A:$A,\">=\"&T!$C$4,Bogføring!$A:$A,\"<=\"&T!$C$5,Bogføring!$F:$F,A35)-SUMIFS(Bogføring!$H:$H,Bogføring!$A:$A,\">=\"&T!$C$4,Bogføring!$A:$A,\"<=\"&T!$C$5,Bogføring!$F:$F,A35)","v":0}]
[2060,"Internet, mobiltelefon, Forsik.",{"$f":"SUMIFS(Bogføring!$G:$G,Bogføring!$A:$A,\">=\"&T!$C$4,Bogføring!$A:$A,\"<=\"&T!$C$5,Bogføring!$F:$F,A36)-SUMIFS(Bogføring!$H:$H,Bogføring!$A:$A,\">=\"&T!$C$4,Bogføring!$A:$A,\"<=\"&T!$C$5,Bogføring!$F:$F,A36)","v":0}]
[2065,"Udstilling",{"$f":"SUMIFS(Bogføring!$G:$G,Bogføring!$A:$A,\">=\"&T!$C$4,Bogføring!$A:$A,\"<=\"&T!$C$5,Bogføring!$F:$F,A37)-SUMIFS(Bogføring!$H:$H,Bogføring!$A:$A,\">=\"&T!$C$4,Bogføring!$A:$A,\"<=\"&T!$C$5,Bogføring!$F:$F,A37)","v":0}]
[2070,"Tin og sortkrudt",{"$f":"SUMIFS(Bogføring!$G:$G,Bogføring!$A:$A,\">=\"&T!$C$4,Bogføring!$A:$A,\"<=\"&T!$C$5,Bogføring!$F:$F,A38)-SUMIFS(Bogføring!$H:$H,Bogføring!$A:$A,\">=\"&T!$C$4,Bogføring!$A:$A,\"<=\"&T!$C$5,Bogføring!$F:$F,A38)","v":0}]
[2075,"Gaver",{"$f":"SUMIFS(Bogføring!$G:$G,Bogføring!$A:$A,\">=\"&T!$C$4,Bogføring!$A:$A,\"<=\"&T!$C$5,Bogføring!$F:$F,A39)-SUMIFS(Bogføring!$H:$H,Bogføring!$A:$A,\">=\"&T!$C$4,Bogføring!$A:$A,\"<=\"&T!$C$5,Bogføring!$F:$F,A39)","v":0}]
[2090,"Kontigent til andre Foreninger",{"$f":"SUMIFS(Bogføring!$G:$G,Bogføring!$A:$A,\">=\"&T!$C$4,Bogføring!$A:$A,\"<=\"&T!$C$5,Bogføring!$F:$F,A40)-SUMIFS(Bogføring!$H:$H,Bogføring!$A:$A,\">=\"&T!$C$4,Bogføring!$A:$A,\"<=\"&T!$C$5,Bogføring!$F:$F,A40)","v":0}]
[2100,"Forplejning til møder/Rejser",{"$f":"SUMIFS(Bogføring!$G:$G,Bogføring!$A:$A,\">=\"&T!$C$4,Bogføring!$A:$A,\"<=\"&T!$C$5,Bogføring!$F:$F,A41)-SUMIFS(Bogføring!$H:$H,Bogføring!$A:$A,\">=\"&T!$C$4,Bogføring!$A:$A,\"<=\"&T!$C$5,Bogføring!$F:$F,A41)","v":0}]
[2110,"Kontorhold - Porto - IT",{"$f":"SUMIFS(Bogføring!$G:$G,Bogføring!$A:$A,\">=\"&T!$C$4,Bogføring!$A:$A,\"<=\"&T!$C$5,Bogføring!$F:$F,A42)-SUMIFS(Bogføring!$H:$H,Bogføring!$A:$A,\">=\"&T!$C$4,Bogføring!$A:$A,\"<=\"&T!$C$5,Bogføring!$F:$F,A42)","v":0}]
[2120,"Hjemmeside",{"$f":"SUMIFS(Bogføring!$G:$G,Bogføring!$A:$A,\">=\"&T!$C$4,Bogføring!$A:$A,\"<=\"&T!$C$5,Bogføring!$F:$F,A43)-SUMIFS(Bogføring!$H:$H,Bogføring!$A:$A,\">=\"&T!$C$4,Bogføring!$A:$A,\"<=\"&T!$C$5,Bogføring!$F:$F,A43)","v":0}]
[2130,"Annoncer",{"$f":"SUMIFS(Bogføring!$G:$G,Bogføring!$A:$A,\">=\"&T!$C$4,Bogføring!$A:$A,\"<=\"&T!$C$5,Bogføring!$F:$F,A44)-SUMIFS(Bogføring!$H:$H,Bogføring!$A:$A,\">=\"&T!$C$4,Bogføring!$A:$A,\"<=\"&T!$C$5,Bogføring!$F:$F,A44)","v":171}]
[2140,"Kassedifferance",{"$f":"SUMIFS(Bogføring!$G:$G,Bogføring!$A:$A,\">=\"&T!$C$4,Bogføring!$A:$A,\"<=\"&T!$C$5,Bogføring!$F:$F,A45)-SUMIFS(Bogføring!$H:$H,Bogføring!$A:$A,\">=\"&T!$C$4,Bogføring!$A:$A,\"<=\"&T!$C$5,Bogføring!$F:$F,A45)","v":0}]
[2150,"Øreafrundning",{"$f":"SUMIFS(Bogføring!$G:$G,Bogføring!$A:$A,\">=\"&T!$C$4,Bogføring!$A:$A,\"<=\"&T!$C$5,Bogføring!$F:$F,A46)-SUMIFS(Bogføring!$H:$H,Bogføring!$A:$A,\">=\"&T!$C$4,Bogføring!$A:$A,\"<=\"&T!$C$5,Bogføring!$F:$F,A46)","v":0}]
[2160,"Rejser",{"$f":"SUMIFS(Bogføring!$G:$G,Bogføring!$A:$A,\">=\"&T!$C$4,Bogføring!$A:$A,\"<=\"&T!$C$5,Bogføring!$F:$F,A47)-SUMIFS(Bogføring!$H:$H,Bogføring!$A:$A,\">=\"&T!$C$4,Bogføring!$A:$A,\"<=\"&T!$C$5,Bogføring!$F:$F,A47)","v":0}]
[2165,"G4S tyverialarm",{"$f":"SUMIFS(Bogføring!$G:$G,Bogføring!$A:$A,\">=\"&T!$C$4,Bogføring!$A:$A,\"<=\"&T!$C$5,Bogføring!$F:$F,A48)-SUMIFS(Bogføring!$H:$H,Bogføring!$A:$A,\">=\"&T!$C$4,Bogføring!$A:$A,\"<=\"&T!$C$5,Bogføring!$F:$F,A48)","v":0}]
[2170,"Afholdelse af GF",{"$f":"SUMIFS(Bogføring!$G:$G,Bogføring!$A:$A,\">=\"&T!$C$4,Bogføring!$A:$A,\"<=\"&T!$C$5,Bogføring!$F:$F,A49)-SUMIFS(Bogføring!$H:$H,Bogføring!$A:$A,\">=\"&T!$C$4,Bogføring!$A:$A,\"<=\"&T!$C$5,Bogføring!$F:$F,A49)","v":0}]
[2180,"Bestyrelses møder",{"$f":"SUMIFS(Bogføring!$G:$G,Bogføring!$A:$A,\">=\"&T!$C$4,Bogføring!$A:$A,\"<=\"&T!$C$5,Bogføring!$F:$F,A50)-SUMIFS(Bogføring!$H:$H,Bogføring!$A:$A,\">=\"&T!$C$4,Bogføring!$A:$A,\"<=\"&T!$C$5,Bogføring!$F:$F,A50)","v":0}]
[2190,"Diverse Udgifter",{"$f":"SUMIFS(Bogføring!$G:$G,Bogføring!$A:$A,\">=\"&T!$C$4,Bogføring!$A:$A,\"<=\"&T!$C$5,Bogføring!$F:$F,A51)-SUMIFS(Bogføring!$H:$H,Bogføring!$A:$A,\">=\"&T!$C$4,Bogføring!$A:$A,\"<=\"&T!$C$5,Bogføring!$F:$F,A51)","v":0}]
[2200,"Kontingenter overført til KVB",{"$f":"SUMIFS(Bogføring!$G:$G,Bogføring!$A:$A,\">=\"&T!$C$4,Bogføring!$A:$A,\"<=\"&T!$C$5,Bogføring!$F:$F,A52)-SUMIFS(Bogføring!$H:$H,Bogføring!$A:$A,\">=\"&T!$C$4,Bogføring!$A:$A,\"<=\"&T!$C$5,Bogføring!$F:$F,A52)","v":0}]
[3100,"Lønomkostninger",{"$f":"SUMIFS(Bogføring!$G:$G,Bogføring!$A:$A,\">=\"&T!$C$4,Bogføring!$A:$A,\"<=\"&T!$C$5,Bogføring!$F:$F,A53)-SUMIFS(Bogføring!$H:$H,Bogføring!$A:$A,\">=\"&T!$C$4,Bogføring!$A:$A,\"<=\"&T!$C$5,Bogføring!$F:$F,A53)","v":0}]
[3110,"Løn inkl. feriepenge",{"$f":"SUMIFS(Bogføring!$G:$G,Bogføring!$A:$A,\">=\"&T!$C$4,Bogføring!$A:$A,\"<=\"&T!$C$5,Bogføring!$F:$F,A54)-SUMIFS(Bogføring!$H:$H,Bogføring!$A:$A,\">=\"&T!$C$4,Bogføring!$A:$A,\"<=\"&T!$C$5,Bogføring!$F:$F,A54)","v":0}]
[3120,"ATP",{"$f":"SUMIFS(Bogføring!$G:$G,Bogføring!$A:$A,\">=\"&T!$C$4,Bogføring!$A:$A,\"<=\"&T!$C$5,Bogføring!$F:$F,A55)-SUMIFS(Bogføring!$H:$H,Bogføring!$A:$A,\">=\"&T!$C$4,Bogføring!$A:$A,\"<=\"&T!$C$5,Bogføring!$F:$F,A55)","v":0}]
[3130,"Am",{"$f":"SUMIFS(Bogføring!$G:$G,Bogføring!$A:$A,\">=\"&T!$C$4,Bogføring!$A:$A,\"<=\"&T!$C$5,Bogføring!$F:$F,A56)-SUMIFS(Bogføring!$H:$H,Bogføring!$A:$A,\">=\"&T!$C$4,Bogføring!$A:$A,\"<=\"&T!$C$5,Bogføring!$F:$F,A56)","v":0}]
[3140,"Lønsum",{"$f":"SUMIFS(Bogføring!$G:$G,Bogføring!$A:$A,\">=\"&T!$C$4,Bogføring!$A:$A,\"<=\"&T!$C$5,Bogføring!$F:$F,A57)-SUMIFS(Bogføring!$H:$H,Bogføring!$A:$A,\">=\"&T!$C$4,Bogføring!$A:$A,\"<=\"&T!$C$5,Bogføring!$F:$F,A57)","v":0}]
[null,null,{"$f":"SUMIFS(Bogføring!$G:$G,Bogføring!$A:$A,\">=\"&T!$C$4,Bogføring!$A:$A,\"<=\"&T!$C$5,Bogføring!$F:$F,A58)-SUMIFS(Bogføring!$H:$H,Bogføring!$A:$A,\">=\"&T!$C$4,Bogføring!$A:$A,\"<=\"&T!$C$5,Bogføring!$F:$F,A58)","v":0}]
[null,null,{"$f":"SUMIFS(Bogføring!$G:$G,Bogføring!$A:$A,\">=\"&T!$C$4,Bogføring!$A:$A,\"<=\"&T!$C$5,Bogføring!$F:$F,A59)-SUMIFS(Bogføring!$H:$H,Bogføring!$A:$A,\">=\"&T!$C$4,Bogføring!$A:$A,\"<=\"&T!$C$5,Bogføring!$F:$F,A59)","v":0},null,null,null,{"$f":"SUM(C29:C57)","v":171}]
[null,null,null,null,null,null,{"$f":"G28-G59","v":6029}]
[12310,"Bank konto",{"$f":"SUMIFS(Bogføring!$G:$G,Bogføring!$A:$A,\">=\"&T!$C$4,Bogføring!$A:$A,\"<=\"&T!$C$5,Bogføring!$F:$F,A61)-SUMIFS(Bogføring!$H:$H,Bogføring!$A:$A,\">=\"&T!$C$4,Bogføring!$A:$A,\"<=\"&T!$C$5,Bogføring!$F:$F,A61)","v":6029}]
[12320,"Kasse",{"$f":"SUMIFS(Bogføring!$G:$G,Bogføring!$A:$A,\">=\"&T!$C$4,Bogføring!$A:$A,\"<=\"&T!$C$5,Bogføring!$F:$F,A62)-SUMIFS(Bogføring!$H:$H,Bogføring!$A:$A,\">=\"&T!$C$4,Bogføring!$A:$A,\"<=\"&T!$C$5,Bogføring!$F:$F,A62)","v":0}]
[12330,"Egenkapital",{"$f":"SUMIFS(Bogføring!$H:$H,Bogføring!$A:$A,\">=\"&T!$C$4,Bogføring!$A:$A,\"<=\"&T!$C$5,Bogføring!$F:$F,A63)-SUMIFS(Bogføring!$G:$G,Bogføring!$A:$A,\">=\"&T!$C$4,Bogføring!$A:$A,\"<=\"&T!$C$5,Bogføring!$F:$F,A63)+G60","v":6029}]
[null,null,{"$f":"SUMIFS(Bogføring!$H:$H,Bogføring!$A:$A,\">=\"&T!$C$4,Bogføring!$A:$A,\"<=\"&T!$C$5,Bogføring!$F:$F,A64)-SUMIFS(Bogføring!$G:$G,Bogføring!$A:$A,\">=\"&T!$C$4,Bogføring!$A:$A,\"<=\"&T!$C$5,Bogføring!$F:$F,A64)+F57","v":0}]
[12360,"Skyldig A-skat",{"$f":"SUMIFS(Bogføring!$H:$H,Bogføring!$A:$A,\">=\"&T!$C$4,Bogføring!$A:$A,\"<=\"&T!$C$5,Bogføring!$F:$F,A65)-SUMIFS(Bogføring!$G:$G,Bogføring!$A:$A,\">=\"&T!$C$4,Bogføring!$A:$A,\"<=\"&T!$C$5,Bogføring!$F:$F,A65)+F58","v":0}]
[12361,"Skyldig AM ",{"$f":"SUMIFS(Bogføring!$H:$H,Bogføring!$A:$A,\">=\"&T!$C$4,Bogføring!$A:$A,\"<=\"&T!$C$5,Bogføring!$F:$F,A66)-SUMIFS(Bogføring!$G:$G,Bogføring!$A:$A,\">=\"&T!$C$4,Bogføring!$A:$A,\"<=\"&T!$C$5,Bogføring!$F:$F,A66)+F59","v":0}]
[12362,"Skyldig ATP",{"$f":"SUMIFS(Bogføring!$H:$H,Bogføring!$A:$A,\">=\"&T!$C$4,Bogføring!$A:$A,\"<=\"&T!$C$5,Bogføring!$F:$F,A67)-SUMIFS(Bogføring!$G:$G,Bogføring!$A:$A,\">=\"&T!$C$4,Bogføring!$A:$A,\"<=\"&T!$C$5,Bogføring!$F:$F,A67)+F60","v":0}]
[12364,"Skyldige Feriepenge",{"$f":"SUMIFS(Bogføring!$H:$H,Bogføring!$A:$A,\">=\"&T!$C$4,Bogføring!$A:$A,\"<=\"&T!$C$5,Bogføring!$F:$F,A68)-SUMIFS(Bogføring!$G:$G,Bogføring!$A:$A,\">=\"&T!$C$4,Bogføring!$A:$A,\"<=\"&T!$C$5,Bogføring!$F:$F,A68)+F61","v":0}]
[]
[]
[12370,"Forudbetalt kontingent",{"$f":"SUMIFS(Bogføring!$H:$H,Bogføring!$A:$A,\">=\"&T!$C$4,Bogføring!$A:$A,\"<=\"&T!$C$5,Bogføring!$F:$F,A71)-SUMIFS(Bogføring!$G:$G,Bogføring!$A:$A,\">=\"&T!$C$4,Bogføring!$A:$A,\"<=\"&T!$C$5,Bogføring!$F:$F,A71)+F62","v":0}]
[12380,"Banklån",{"$f":"SUMIFS(Bogføring!$H:$H,Bogføring!$A:$A,\">=\"&T!$C$4,Bogføring!$A:$A,\"<=\"&T!$C$5,Bogføring!$F:$F,A72)-SUMIFS(Bogføring!$G:$G,Bogføring!$A:$A,\">=\"&T!$C$4,Bogføring!$A:$A,\"<=\"&T!$C$5,Bogføring!$F:$F,A72)+F62","v":0}]
[12390,"Andre Lån",{"$f":"SUMIFS(Bogføring!$H:$H,Bogføring!$A:$A,\">=\"&T!$C$4,Bogføring!$A:$A,\"<=\"&T!$C$5,Bogføring!$F:$F,A73)-SUMIFS(Bogføring!$G:$G,Bogføring!$A:$A,\">=\"&T!$C$4,Bogføring!$A:$A,\"<=\"&T!$C$5,Bogføring!$F:$F,A73)+F63","v":0}]
[12400,"Kreditorer samler konto",{"$f":"SUM(C71:C73)","v":0},null,12370,12390]
[null,null,{"$f":"SUM(C66:C74)","v":0}]
[12410,"Tilgodehavende Kontingenter",{"$f":"SUMIFS(Bogføring!$H:$H,Bogføring!$A:$A,\">=\"&T!$C$4,Bogføring!$A:$A,\"<=\"&T!$C$5,Bogføring!$F:$F,A76)-SUMIFS(Bogføring!$G:$G,Bogføring!$A:$A,\">=\"&T!$C$4,Bogføring!$A:$A,\"<=\"&T!$C$5,Bogføring!$F:$F,A76)+F72","v":0}]
[12420,"Lån til Forsvarsmuseumet",{"$f":"SUMIFS(Bogføring!$G:$G,Bogføring!$A:$A,\">=\"&T!$C$4,Bogføring!$A:$A,\"<=\"&T!$C$5,Bogføring!$F:$F,A77)-SUMIFS(Bogføring!$H:$H,Bogføring!$A:$A,\">=\"&T!$C$4,Bogføring!$A:$A,\"<=\"&T!$C$5,Bogføring!$F:$F,A77)+F73","v":0}]
[12500,"Debitorer samler konto",{"$f":"SUM(C76:C77)","v":0},null,12410,12420]

{"sheet":"indtægtsbilag","index":9,"n_rows":24,"n_cols":9,"rows_kept":24,"cut":false,"hidden":true,"merged":[[12,2,12,3],[12,6,14,7],[12,8,14,9],[14,2,14,3],[8,6,9,9],[2,2,2,4],[6,1,6,2],[6,8,6,9],[10,6,11,7],[10,8,11,9]]}
[]
[]
[null,null,"Bornholms Forsvarsmuseum"]
[]
[]
[]
[null,"Indtægts bilag.",null,null,null,null,"Bilags nr.:"]
[]
[null,null,null,null,null,null,"Kontering"]
[]
[null,null,null,null,null,null,"D",null,"K"]
[]
[null,"Dato:"]
[]
[null,"Beløb:"]
[]
[null,"Formål:"]
[]
[]
[]
[]
[null,"Modtaget af : "]
[]
[null,"Underskrift:"]

{"sheet":"Udgiftsbilag","index":10,"n_rows":24,"n_cols":9,"rows_kept":24,"cut":false,"hidden":true,"merged":[[10,6,11,7],[10,8,11,9],[12,2,12,3],[12,6,14,7],[12,8,14,9],[14,2,14,3],[8,6,9,9],[1,2,1,4],[2,2,2,4],[6,1,6,2],[6,8,6,9]]}
[]
[]
[null,null,"Bornholms Forsvarsmuseum"]
[]
[]
[]
[null,"Udgifts bilag.",null,null,null,null,"Bilags nr.:"]
[]
[null,null,null,null,null,null,"Kontering"]
[]
[null,null,null,null,null,null,"D",null,"K"]
[]
[null,"Dato:"]
[]
[null,"Beløb:"]
[]
[null,"Formål:"]
[]
[]
[]
[]
[null,"Betalt til : "]
[]
[null,"Underskrift:"]

{"sheet":"T","index":11,"n_rows":34,"n_cols":20,"rows_kept":34,"cut":false,"hidden":false,"merged":[[28,0,28,4],[29,0,29,5],[25,0,25,4],[14,1,14,4],[22,0,22,6],[16,1,16,4],[12,1,12,4],[6,2,6,4],[19,0,19,6],[3,7,3,9],[5,12,5,13],[12,8,12,9],[5,14,5,15],[10,7,10,9],[5,18,5,19],[8,1,8,4],[8,7,8,9],[5,16,5,17],[6,7,6,9],[10,1,10,4],[5,10,5,11]]}
[]
["Regnskabs år ",{"$f":"C2+1","v":2015},2014,{"$f":"C2-1","v":2013},{"$f":"C2-2","v":2012},{"$f":"D2-2","v":2011},null,"cellen C2","her indtastes det indeværende regnskabs år"]
[null,{"$f":"IF(YEAR(B4)<>YEAR(B5),YEAR(B4)&\"-\"&YEAR(B5),YEAR(B4))","v":"2015-2016"},{"$f":"IF(YEAR(C4)<>YEAR(C5),YEAR(C4)&\"-\"&YEAR(C5),YEAR(C4))","v":"2014-2015"},{"$f":"IF(YEAR(D4)<>YEAR(D5),YEAR(D4)&\"-\"&YEAR(D5),YEAR(D4))","v":"2013-2014"},{"$f":"IF(YEAR(E4)<>YEAR(E5),YEAR(E4)&\"-\"&YEAR(E5),YEAR(E4))","v":"2012-2013"},{"$f":"IF(YEAR(F4)<>YEAR(F5),YEAR(F4)&\"-\"&YEAR(F5),YEAR(F4))","v":"2011-2012"}]
["Regnskabsårets start ",{"$f":"DATE(B2-I5,$L$5,$K$5)","v":"2015-11-01"},{"$f":"DATE(C2-I5,$L$5,$K$5)","v":"2014-11-01"},{"$f":"DATE(D2-I5,$L$5,$K$5)","v":"2013-11-01"},{"$f":"DATE(E2-I5,$L$5,$K$5)","v":"2012-11-01"},{"$f":"DATE(F2-I5,$L$5,$K$5)","v":"2011-11-01"},null,"Regnskabs året starter :",null,null,"dag","måned"]
["Regnskabs årets slut",{"$f":"N7","v":"2016-10-31"},{"$f":"L7","v":"2015-10-31"},{"$f":"P7","v":"2014-10-31"},{"$f":"R7","v":"2013-10-31"},{"$f":"T7","v":"2012-10-31"},null,null,0,null,1,11]
[null,null,null,null,null,null,null,null,null,null,"Aktuelt år",null,"Budget år",null,"realiseret år",null,"realiseret år",null,"realiseret år"]
[{"$f":"\"Periode : \"&TEXT(C4, \"dd-mm-åååå\")& \" - \"&TEXT(C5,\"dd-mm-åååå\")","v":"Periode : 01-11-2014 - 31-10-2015"},null,"version 1.00.009.045",null,null,null,null,"Regnskabs året slutter :",null,null,{"$f":"C4-1","v":"2014-10-31"},{"$f":"DATE(YEAR(K7)+1,MONTH(K7),DAY(K7))","v":"2015-10-31"},{"$f":"B4-1","v":"2015-10-31"},{"$f":"DATE(YEAR(M7)+1,MONTH(M7),DAY(M7))","v":"2016-10-31"},{"$f":"D4-1","v":"2013-10-31"},{"$f":"DATE(YEAR(O7)+1,MONTH(O7),DAY(O7))","v":"2014-10-31"},{"$f":"E4-1","v":"2012-10-31"},{"$f":"DATE(YEAR(Q7)+1,MONTH(Q7),DAY(Q7))","v":"2013-10-31"},{"$f":"F4-1","v":"2011-10-31"},{"$f":"DATE(YEAR(S7)+1,MONTH(S7),DAY(S7))","v":"2012-10-31"}]
[]
["Foreningens navn:","TEST - REGNSKAB",null,null,null,null,null,"Revisionspåtegning: (1-3)",null,null,1,"0= tomt felt"]
[]
["Kasserer :","Bjarne Hansen",null,null,null,null,null,"Næste medl. Nr. :",null,null,109]
[]
["Bilagskontollant :","Xxxx Xxxx",null,null,null,null,null,"SE-NR : ",88739817]
[]
["Bilagskontollant :","Xxxxx Xxx"]
[]
["Mail til Revisor :","xxx"]
[]
["Revisionspåtegning: 1"]
["Regnskabet er d.d. revideret. Beholdningkonti er fundet til stede. Bogføringen er kontrollet. \nRevisionen gav anledning til flg. Bemærkning"]
[]
["Revisionspåtegning: 2"]
["Kalenderårsregnskabet med resultatopgørese og balance er gennemgået og afstemt af\ngeneralforsamlingsvante revisorer samt jf. foreningens lov/vedtægt\nmed bogføringsbekendtgørelsen som vejledning.\nFra statustidspunktet og til revisionsdatoen er der ikke kendskab til forhold, som vil kunne forrykke\nvurderingen af regnskabet, som giver et retvisende billede.\n\n"]
[]
["Revisionspåtegning: 3"]
["Årsregnskabet med bilag, resultat, balance og udtog er gennemgået og afstemt af\nde valgte revisorer.\nGennemgangen har ikke givet anledning til bemærkninger."]
[]
["Bemærkninger:"]
["Regnskabet er det 6. i Bornholmske Dragoner, og på baggrund af 74 betalende medlemmer.\nDer er 14 restancer."]
[]
[]
[]
[]
[2021]

{"sheet":"Regnskab GF2","index":12,"n_rows":31,"n_cols":7,"rows_kept":31,"cut":false,"hidden":true,"merged":[[1,1,1,7],[20,1,20,6],[35,1,35,7]]}
[]
[null,"REGNSKAB FOR 3. ORDINÆRE GENERALFORSAMLING 13.01.18. "]
[]
[null,null,"Antal",null,"Indtægt","Udgift","Resultat"]
[null,"Kuv. Gule ærter/Stroganof",null,150]
[null,"øl",null,10]
[null,"Kaffe, småkager"]
[null,"12 Morgenmad inkl. bestyrelse"]
[null,"Værelser (10 enheder)",null,75]
[null,"Duge, servietter m.m."]
[null,"Salg af øl",null,20]
[null,"Salg af snaps",null,20]
[null,"Salg af vand",null,10]
[null,"Salg af mærker",null,50]
[null,null,null,null,null,0]
[null,null,null,null,null,0]
[null,null,null,null,null,0]
[null,"Gave til ",null,null,null,0]
[null,"I alt",null,null,{"$f":"SUM(E5:E18)","v":0},{"$f":"SUM(F5:F18)","v":0},{"$f":"E19-F19","v":0}]
[]
[null,"Salget på denne generalforsamling har vist sig at passe perfekt - det stemmer på øren - og det er dejligt. Ved optælling af beholdning af øl og snaps, er der 30 øl og lidt snaps, til næste arrangement."]
[]
[]
[null,null,null,null,"Indtægt","Udgift","TOTAL"]
[null,"Kontant fra festen indsat i bank"]
[]
[null,"Salg af 11 klister/stofmærker"]
[null,"Salg af 79 øl og 27 snaps = 106"]
[null,"Salg af 8 vand"]
[null,"I alt"]
[null,"Overskud",null,null,null,null,{"$f":"G25-G30","v":0}]

{"sheet":"vejlend.","index":13,"n_rows":46,"n_cols":5,"rows_kept":46,"cut":false,"hidden":true,"merged":[]}
["HUSK:"]
["Ved årsskifte / regnskabsårsafslutning."]
[]
["PRINT:","DETTE ÅR:"]
[null,"Bogføring hele året"]
[null,"Kontoplan"]
[null,"Regnskab"]
[null,"1. Kontoudtog fra banken hele året (fra 1/1 til 31/12)"]
[null,"2. Kontoudtog fra banken hele året (fra 1/1 til 31/12)"]
[]
["PRINT:","NYT ÅR:"]
[null,"Bogføring for nyt år"]
[null,"Kontoplan"]
[null,"1. Kontoudtog fra banken nyt år (fra 1/1 -  ….)"]
[null,"2. Kontoudtog fra banken nyt år (fra 1/1 -  ….)"]
[]
["Mail til REVISOR:","Sende mail med vedhæftet:"]
[null,"Bogføring dette år"]
[null,"Bogføring nyt år"]
[null,"Tid for besøg med bilag"]
[null,"Evt.  -  bemærkninger til året"]
[]
["Til REVISOR:","Alle bilag"]
[null,"Alle udtog"]
[null,"Alle kontoudtog / bankkontoudtog"]
[null,"Alle opgørelser"]
[null,"Evt. køb/salg"]
[null,"evt. +???"]
[]
[]
["ÅRSSKIFTE","Ændre til nyt år på ÅR p.t."]
[null,"BEMÆRK:"]
[null,"år 1 = budget / næste år",null,null,"rettes efter aktuelt år"]
["nyt år","år 2 = aktuelt år / dette år",null,null,"KUN aktuelt år indtastes"]
[null,"år 3 = sidste år realiseret",null,null,"rettes efter aktuelt år"]
[null,"år 4 = forrige år realiseret",null,null,"rettes efter aktuelt år"]
[]
["nyt år","Rette ARK Bogføring: B55 til ny dato"]
[null,"(rette ARK Bogføring: B45 til ny dato)"]
[]
["BUDGET:","indtastes i Bogføring med næste års dato"]
[null,"(evt. i hovedtal) - nyt regnskabsår + 1 år.."]
[]
[]
["NB.","Afslutningsposter i tilhørende år (31/12 / ultimo)"]
[null,"Åbningsposter fra tilhørende år (1/1 / primo)"]

{"sheet":"Udmeldelser","index":14,"n_rows":11,"n_cols":9,"rows_kept":11,"cut":false,"hidden":true,"merged":[]}
["Medl.nr. :","NAVN","ADRESSE ","POSTNR","By","TELEFON","E-MAIL","Udmeldt ","Bemærkning:"]
[1,"Finn Bræstrup Karlsen","Vimmelskaftet 14",3700,"Rønne",null,"fjkarlsen@gmail.com"]
[2,"Lone Kure","Harbovej 40A",3700,"Rønne",null,"lonekure2014@gmail.com"]
[3,"Ole og Olga Drobova Andersen","Vesterbro 10",3720,"Åkirkeby",null,"ole_andersen@hotmail.com"]
[4,"Ole Koefoed Marker","Piberegård, Bodernevej 17",3720,"Åkirkeby",null,null,null,"DØD-oplyst 13.09.19."]
[5,"Birgit Andersen","Mulebyvej 2",3700,"Rønne",null,"birgitkure@gmail.com"]
[6,"Birthe Juel-Jensen","Egeløkken 3",3700,"Rønne",56961052,null,null,"Død - jan 2020"]
[7,"Sven Munch og Pyllis Holm","Morbærstien 5",3700,"Rønne",null,null,null,"Død - feb 2020"]
[29,"Nina Vibe","Charlottevej 7, Muleby",3700,"Rønne",null,"ninavibe@live.dk","2020-04-07"]
[133,"Jonna Jensen","Spodsbjergvej 127",5900,"Rudkøbing",20311031,"GIRO",2019]
[1007,"MALERFIRMAET Borg Aps","Åkirkebyvej 66",3700,"Rønne",null," info@malerborg.dk"]

{"sheet":"Om","index":15,"n_rows":71,"n_cols":3,"rows_kept":71,"cut":false,"hidden":true,"merged":[]}
[null,"Dette regneark er lavet efter en ide fra Excelgaard.dk"]
[null,"Revideret af Bjarne Hansen "]
[]
[null,"Besøg excelgaard.dk"]
[]
[null,"START med DATAår + kontoplan"]
[null,"Jeg vil gerne knytte en kommentar til det regneark, som Bjarne H. har lagt op..."]
[]
[null,"Fra: EXCELGAARD:  19/4-2018:"]
[null,"1. Bemærk, at man skal kende til, og benytte det dobbelt bogføringssystem, med debit og kredit posteringer."]
[null,"2. En \"fed\" ting ved systemet, er, at man kan benytte bogføringen løbende år efter år, og i princippet aldrig behøver opstarte et nyt bogføringsark, selvom man starter et nyt regnskabsår - ja, faktisk er det meningen, at man blot skal forsætte, og så på 'Regnskab' arket, skal man benytter '=SUM.HVISSER()' til både, at afgrænse på konto og datoer (regnskabsår)."]
[null,"(Bjarne er netop opstartet på regnearket, og afgrænser, lige nu, blot på konto, men, når der skiftes regnskabsår, skal formlerne lige udvides til datoer også"]
[null,"3. Er man rigtigt snu, så laver man et felt til indtastning af regnskabsår på ARK: \"ÅR p.t.\", og dermed kan man altid hente et bestemt regnskabsår, med sammenligningsregnskab, selvom årene går."]
[null,"4. Man kan let udvide bogføringsarket til også, at indeholde dimensioner - hvis man f.eks. tilføjer en kolonne, der hedder 'Faktua', kan man altid indtast både egne og leverandørers faktura nummer, og fremover hurtigt finde dem, ved hjælp af filteret."]
[null,"5. Og, det er jo kun fantasien, der bestemmer, hvilke dimensioner man ønsker på posteringerne, f.eks. 'Køretøj', 'Medarbejder', 'Afdeling', 'Formål', 'Bærer', 'Kunde', 'Medlem', 'Leverandør', o.s.v.."]
[]
[null,"Kilde:"]
[null,"Udarbejdet af: Excelgaard 2016"]
[null,"Tilrettet af: Bjarne Hansen 2018"]
[null,"+ønsker m.m. fra: InfoTAL / H.C. 04/2018 (via DRF)"]
[]
[null,"Dette program er velegnet til "]
[null,"mindre regnskaber for foreninger o.l."]
[]
[null,"Skal der være konti med moms, så se evt. på: www.dinero.dk"]
[null,"(u/beregning u/revisionsmodul - ellers gebyr pr. md.)"]
[]
[null,"BOGFØRING: - (vejledning) - ARK: Bogføring"]
[null,"ART:                Debet                    Kredit"]
[null,"drift                 udgift                     indtægt"]
[null,"status              ejer                        skylder"]
[]
[null,"egenkapital     negativ                   positiv"]
[null,"resultat           positiv                    negativ"]
[]
[]
[]
["ÅRSSKIFTE","Ændre til nyt år på ÅR p.t."]
[null,"BEMÆRK:"]
[null,"år 1 = budget / næste år","rettes efter aktuelt år"]
[null,"år 2 = aktuelt år / dette år","KUN aktuelt år indtastes"]
[null,"år 3 = sidste år realiseret","rettes efter aktuelt år"]
[null,"år 4 = forrige år realiseret","rettes efter aktuelt år"]
[]
["BUDGET:","indtastes i Bogføring med næste års dato"]
[null,"(evt. i hovedtal)"]
[]
[]
["NB.","Afslutningsposter i tilhørende år (31/12 / ultimo)"]
[null,"Åbningsposter fra tilhørende år (1/1 / primo)"]
[]
[]
["(daglig)","ARK: Bogføring= posteriger e/bilag o.l. (kasse) m/saldokontrol"]
[null,"ARK: vejledn.= vejledning"]
["(opstart)","ARK: Kontoplan= opret/oprettede konti"]
[null,"ARK: Regnskab= de bogførte bilag/poster på konti"]
["(årligt)","ARK: ÅR p.t.= til oprettelse af aktuelt regnskabsår"]
[null,"ARK: Om= beskrivelse af funktioner"]
[null,"ARK: Afv %= er BUDGET + aktuelt år og de sidste 2 år - med sammenligning/afvigelse"]
[null,"            (Budget oprettes i Bogføring - se vejledning)"]
[null,"FORMLER:  MÅ IKKE ÆNDRES - så virker regnearket ikke.."]
[]
[null,"Revisionspåtegning:"]
[null,"Tilrettes efter revisorernes eget valg  (kun forslag på ARK: Regnskab)"]
[]
[null,"KONTROL:"]
[null,"Bankkonti afstemmes løbende på ARK: Bogføring øverst efter E1 og E2 (saldo)"]
[]
[null,"LÅSTE CELLER:"]
[null,"Der er ikke låste celler - det kan frit oprettes e/ønske"]
[null,"Frys ruder kan udvides e/ønske"]

{"sheet":"ToDo","index":16,"n_rows":13,"n_cols":2,"rows_kept":13,"cut":false,"hidden":false,"merged":[]}
[null,"ToDo liste"]
[1,"oprette nyt medlem"]
[2,"opdatere medlem"]
[3,"Slette medlem, overføres til fanen \"udmeldelser\""]
[4,"Medlemslisten laves færdig"]
[5,"føje nyt år til medlemdslisten/kontingent indbetalingerne"]
[6,"Sende mail til revisor"]
[7,"Userform til opret nyt medl."]
[8,"Ribbon"]
[9,"Tilmelding til GF - Dragonfest"]
[10,"lave en restanceliste"]
[11,"kunne flette fra restancelisten til at sende rykkere"]
[12,"sponser"]

{"sheet":"Forside","index":17,"n_rows":43,"n_cols":12,"rows_kept":43,"cut":false,"hidden":false,"merged":[[12,2,12,6],[15,2,15,5],[18,2,18,5],[19,2,19,5],[22,2,22,5]]}
[]
[null,null,null,null,null,null,null,null,null,null,null,"Denne regnskabsmodel er et hjælpeværktøj til alle foreninger. Det er derfor foreningerne"]
[null,null,null,null,null,null,null,null,null,null,null,"selv, der er ansvarlige for rigtigheden af alle oplysninger, der indtastes i modellen."]
[null,null,null,null,null,null,null,null,null,null,null,"Vi tager forbehold for, at denne regnskabsmodel alene virker efter hensigten,"]
[null,null,null,null,null,null,null,null,null,null,null,"såfremt der ikke ændres i formlerne."]
[null,null,null,null,null,null,null,null,null,null,null,"Hvis der slettes eller indsættes nye linjer eller kolonner,"]
[null,null,null,null,null,null,null,null,null,null,null,"skal formlerne efterses og eventuelt tilrettes."]
[]
[null,null,null,null,null,null,null,null,null,null,null,"ALENE TEKSTER OG TAL MED BLÅ SKRIFT SKAL ÆNDRES I DENNE MODEL"]
[null,null,null,null,null,null,null,null,null,null,null,"Denne regnskabsmodel er opbygget med links og formler. Det betyder, at alene tekster og "]
[null,null,null,null,null,null,null,null,null,null,null,"tal med blå skrift skal ændres. Alle tal og tekster med sort skrift skal som udgangspunkt IKKE ændres."]
[]
[null,null,{"$f":"'T2'!B9","v":"TEST Regnskab"},null,null,null,null,null,null,null,null,"Her anføres foreningens navn"]
[]
[]
[null,null,{"$f":"\"ÅRSREGNSKAB FOR \"&'T2'!C2","v":"ÅRSREGNSKAB FOR 2022"},null,null,null,null,null,null,null,null,"Anfør relevant regnskabsår"]
[null,null,null,null,null,null,null,null,null,null,null,"Hvis forskudt regnskabsår anføres perioden f.eks. \"1. juli - 30. juni 20XX\""]
[]
[null,null,{"$f":"'T2'!B11","v":"Arsenalvej 8"},null,null,null,null,null,null,null,null,"Her anføres foreningens adresse"]
[null,null,{"$f":"'T2'!B13","v":"3700 Rønne"}]
[]
[]
[null,null,{"$f":"\"CVR-nr. \"&'T2'!B25","v":"CVR-nr. 88 73 98 17"},null,null,null,null,null,null,null,null,"Her anføres foreningens CVR-nr."]
[]
[]
[]
[]
[]
[]
[]
[]
[]
[]
[]
[]
[]
[]
[]
[]
[null,null,{"$f":"\"Godkendt på generalforsamlingen den      /     \"&'T2'!C2+1","v":"Godkendt på generalforsamlingen den      /     2023"},null,null,null,null,null,null,null,null,"Ret årstal"]
[]
[]
[null,null,"Dirigent"]

{"sheet":"Erklæringer","index":18,"n_rows":49,"n_cols":18,"rows_kept":49,"cut":false,"hidden":false,"merged":[]}
[]
[null,null,null,null,null,null,null,null,null,null,null,null,null,"Det anførte er et eksempel på og minimumskrav til hhv. ”Bestyrelsens erklæring” samt ”Revisors erklæring” "]
[null,"BESTYRELSENS ERKLÆRING",null,null,null,null,null,null,null,null,null,null,null,{"$f":"\"ved aflæggelse af regnskab som tilskudsmodtager i \"&'T2'!K13","v":"ved aflæggelse af regnskab som tilskudsmodtager i Bornholms Regionskommune"}]
[null,null,null,null,null,null,null,null,null,null,null,null,null,"Der må gerne tilføjes i erklæringerne, men de skal som minimum indeholde det nedenfor anførte."]
[null,{"$f":"\"Vi bekræfter med vores underskrift, at vi har godkendt regnskabet for \"&'T2'!C2&\" og herunder anser dette for\"","v":"Vi bekræfter med vores underskrift, at vi har godkendt regnskabet for 2022 og herunder anser dette for"},null,null,null,null,null,null,null,null,null,null,null,"Anfør relevant regnskabsår"]
[null,"at være aflagt i overensstemmelse med regnskabsprincipperne i Administrationsgrundlaget for Kultur",null,null,null,null,null,null,null,null,null,null,null,"Hvis forskudt regnskabsår anføres perioden f.eks. \"1. juli - 30. juni 20XX\""]
[null,{"$f":"\"og fritid i \"&'T2'!K13","v":"og fritid i Bornholms Regionskommune"}]
[null,null,null,null,null,null,null,null,null,null,null,null,null,"ALENE TEKSTER OG TAL MED BLÅ SKRIFT SKAL ÆNDRES I DENNE MODEL"]
[null,{"$f":"\"Vi bekræfter samtidig, at modtagne tilskud fra \"&'T2'!K13&\" er anvendt til det/de\"","v":"Vi bekræfter samtidig, at modtagne tilskud fra Bornholms Regionskommune er anvendt til det/de"},null,null,null,null,null,null,null,null,null,null,null,"Denne regnskabsmodel er opbygget med links og formler. Det betyder, at alene tekster og "]
[null,"tildelte formål samt, at de er anvendt i overensstemmelse med Folkeoplysningslovens bestemmelser.",null,null,null,null,null,null,null,null,null,null,null,"tal med blå skrift skal ændres. Alle tal og tekster med sort skrift skal som udgangspunkt IKKE ændres."]
[]
[]
[null,"Rønne, den xx. måned 20XX",null,null,null,null,null,null,null,null,null,null,null,"Ret by, dato, måned og år"]
[]
[]
[]
[]
[null,{"$f":"'T2'!B15","v":"Formand"},null,null,{"$f":"'T2'!B17","v":"Kassereren"},null,null,null,null,null,null,null,null,"Her anføres underskrivers navn"]
[null,"Formand",null,null,"Kasserer",null,null,null,null,null,null,null,null,"Her anføre bestyrelsespost"]
[]
[]
[]
[]
[null,{"$f":"'T2'!B19","v":"Bestyrelses medlem 1"},null,null,{"$f":"'T2'!B21","v":"Bestyrelses medlem 2"},null,null,{"$f":"'T2'!B23","v":"Bestyrelses medlem 3"},null,null,null,null,null,"Her anføres underskrivers navn"]
[null,"Bestyrelsesmedlem",null,null,"Bestyrelsesmedlem",null,null,"Bestyrelsesmedlem",null,null,null,null,null,"Her anføre bestyrelsespost"]
[]
[]
[]
[]
[null,"REVISORS ERKLÆRING"]
[]
[null,{"$f":"\"Vi har gennemgået regnskabet for \"&'T2'!C2&\" (resultatopgørelse, balance og noter) og har som en del heraf\"","v":"Vi har gennemgået regnskabet for 2022 (resultatopgørelse, balance og noter) og har som en del heraf"},null,null,null,null,null,null,null,null,null,null,null,"Anfør relevant regnskabsår"]
[null,"kontrolleret, at regnskabet er aflagt i overensstemmelse med regnskabsprincipperne i Administrations-",null,null,null,null,null,null,null,null,null,null,null,"Hvis forskudt regnskabsår anføres perioden f.eks. \"1. juli - 30. juni 20XX\""]
[null,{"$f":"\"grundlaget for Kultur og fritid i \"&'T2'!K13&\" samt Folkeoplysningslovens kapitel 8 og tilhørende\"","v":"grundlaget for Kultur og fritid i Bornholms Regionskommune samt Folkeoplysningslovens kapitel 8 og tilhørende"}]
[null,"bekendtgørelser.",null,null,null,null,null,null,null,null,null,null,null,"Link til Folkeoplysningslovens kapitel 8:",null,null,null,"https://www.retsinformation.dk/Forms/R0710.aspx?id=202909"]
[]
[null,"Vi har herunder stikprøvevist efterprøvet bilagene, kontrolleret at modtagne tilskud er anvendt til"]
[null,"det/de tildelte formål, og vi har påset likvidernes tilstedeværelse."]
[]
[null,"Gennemgangen gav ikke anledning til forbehold eller øvrige bemærkninger.",null,null,null,null,null,null,null,null,null,null,null,"Såfremt gennemgangen af regnskabet giver anledning til forbehold eller øvrige bemærkninger,"]
[null,null,null,null,null,null,null,null,null,null,null,null,null,"anføres disse her."]
[]
[null,"Rønne, den xx. måned 20XX",null,null,null,null,null,null,null,null,null,null,null,"Ret by, dato, måned og år"]
[]
[]
[]
[]
[null,"…. …..",null,null,"…. …..",null,null,null,null,null,null,null,null,"Her anføres underskrivers navn"]
[null,"Revisor",null,null,"Revisor",null,null,null,null,null,null,null,null,"Hvis foreningen kun vælger en revisor iht. foreningens vedtægter slettes anførelsen af den anden revisor"]

{"sheet":"Resultatopgørelse","index":19,"n_rows":34,"n_cols":18,"rows_kept":34,"cut":false,"hidden":false,"merged":[]}
[]
[null,null,null,null,null,null,null,null,null,null,null,null,null,null,null,null,null,"ALENE TEKSTER OG TAL MED BLÅ SKRIFT SKAL ÆNDRES I DENNE MODEL"]
[null,null,null,{"$f":"\"RESULTATOPGØRELSE FOR \"&'T2'!C2","v":"RESULTATOPGØRELSE FOR 2022"},null,null,null,null,null,null,null,null,null,"Anfør relevant regnskabsår",null,null,null,"Denne regnskabsmodel er opbygget med links og formler. Det betyder, at alene tekster og "]
[null,null,null,null,null,null,null,null,null,null,null,null,null,null,null,null,null,"tal med blå skrift skal ændres. Alle tal og tekster med sort skrift skal som udgangspunkt IKKE ændres."]
[null,null,null,null,null,null,null,null,null,null,"Budget"]
[null,null,null,null,null,null,{"$f":"'T2'!C2","v":2022},null,{"$f":"G6-1","v":2021},null,{"$f":"G6","v":2022},null,null,"Anfør relevant regnskabsår samt forrige regnskabsår for sammenligningstal."]
["Note",null,null,null,null,null,"kr.",null,"kr.",null,"kr."]
[null,null,null,null,null,null,null,null,null,null,null,null,null,"Alle beløb anføres som positive værdier - både indtægter og udgifter"]
[null,"Indtægter"]
[1,"Entre",null,null,null,null,{"$f":"+Noter2!I19","v":700},null,{"$f":"+Noter2!K33","v":0},null,null,null,null,"Beløb anføres i fanen \"Noter\""]
[2,"Kiosk salg",null,null,null,null,{"$f":"Noter2!I33","v":0},null,{"$f":"+Noter2!K34","v":0}]
[3,"Tilskud fra BRK",null,null,null,null,{"$f":"+Noter2!I40","v":0},null,{"$f":"+Noter2!K40","v":0},null,null,null,null,"Beløb anføres i fanen \"Noter\""]
[null,"Sponsorindtægter"]
[null,"Stævneindtægter"]
[null,"Andre indtægter",null,null,null,null,null,null,null,null,null,null,null,"Hvis yderligere indtægtsarter ønskes tilføjes disse blot ved at indsætte linje(r) over \"Andre indtægter\""]
[]
[null,"Indtægter i alt",null,null,null,null,{"$f":"SUM(G10:G16)","v":700},null,{"$f":"SUM(I10:I16)","v":0},null,{"$f":"SUM(K10:K16)","v":0}]
[]
[null,"Udgifter"]
[3,"Lokaleomkostninger",null,null,null,null,{"$f":"+Noter2!I50","v":0},null,{"$f":"+Noter2!K50","v":0},null,null,null,null,"Beløb anføres i fanen \"Noter\""]
[4,"Administrationsomkostninger",null,null,null,null,{"$f":"+Noter2!I69","v":0},null,{"$f":"+Noter2!K69","v":0},null,null,null,null,"Beløb anføres i fanen \"Noter\""]
[5,"Markedsføring og repræsentation",null,null,null,null,{"$f":"+Noter2!I78","v":0},null,{"$f":"+Noter2!K78","v":0},null,null,null,null,"Beløb anføres i fanen \"Noter\""]
[6,"Aktivitetsrelaterede udgifter",null,null,null,null,{"$f":"+Noter2!I89","v":0},null,{"$f":"+Noter2!K89","v":0},null,null,null,null,"Beløb anføres i fanen \"Noter\""]
[]
[null,"….",null,null,null,null,null,null,null,null,null,null,null,"Hvis yderligere udgiftsarter ønskes tilføjes disse blot ved at indsætte linje(r) under \"Aktivitetsrelaterede udgifter\""]
[null,null,null,null,null,null,null,null,null,null,null,null,null,"Ellers slettes linjen."]
[null,"Udgifter i alt",null,null,null,null,{"$f":"SUM(G20:G26)","v":0},null,{"$f":"SUM(I20:I26)","v":0},null,{"$f":"SUM(K20:K26)","v":0}]
[]
[null,"RESULTAT FØR RENTER",null,null,null,null,{"$f":"+G17-G27","v":700},null,{"$f":"+I17-I27","v":0},null,{"$f":"+K17-K27","v":0}]
[]
[null,"Renteindtægter"]
[null,"Renteudgifter"]
[]
[null,"ÅRETS RESULTAT",null,null,null,null,{"$f":"+G29+G31-G32","v":700},null,{"$f":"+I29+I31-I32","v":0},null,{"$f":"+K29+K31-K32","v":0}]

{"sheet":"Balance","index":20,"n_rows":47,"n_cols":21,"rows_kept":47,"cut":false,"hidden":false,"merged":[]}
[]
[null,null,null,null,null,null,null,null,null,null,null,null,null,null,null,null,null,null,null,null,"ALENE TEKSTER OG TAL MED BLÅ SKRIFT SKAL ÆNDRES I DENNE MODEL"]
[null,null,null,{"$f":"\"BALANCE PR. 31. DECEMBER \"&'T2'!C2","v":"BALANCE PR. 31. DECEMBER 2022"},null,null,null,null,null,null,null,null,"Anfør relevant regnskabsår (og ret evt. dato ved forskudt regnskabsår)",null,null,null,null,null,null,null,"Denne regnskabsmodel er opbygget med links og formler. Det betyder, at alene tekster og "]
[null,null,null,null,null,null,null,null,null,null,null,null,null,null,null,null,null,null,null,null,"tal med blå skrift skal ændres. Alle tal og tekster med sort skrift skal som udgangspunkt IKKE ændres."]
[null,null,null,null,null,null,null,{"$f":"+Resultatopgørelse!G6","v":2022},null,{"$f":"+Resultatopgørelse!I6","v":2021}]
["Note",null,null,null,null,null,null,"kr.",null,"kr."]
[null,null,null,null,null,null,null,null,null,null,null,null,"Alle beløb anføres som positive værdier - både aktiver og passiver"]
[null,null,null,null,"AKTIVER",null,null,null,null,null,null,null,"Såfremt noter til en eller flere af aktiverne ønskes kan disse tilføjes med nummer angivelse (næste i talrækken),"]
[null,null,null,null,null,null,null,null,null,null,null,null,"og noten oprettes i næste fane \"Noter\""]
[null,"Ejendom"]
[null,"Øvrige anlægsaktiver"]
[]
[null,"ANLÆGSAKTIVER I ALT",null,null,null,null,null,{"$f":"SUM(H10:H12)","v":0},null,{"$f":"SUM(J10:J12)","v":0},null,null,"Såfremt foreningen ikke har nogen anlægsaktiver, kan række 10 til 14 slettes og formel for \"aktiver i alt\" tilrettes. "]
[]
[null,"Bankindeståender",null,null,null,null,null,{"$f":"Kontoplan!C77","v":6029}]
[null,"Kassebeholdning",null,null,null,null,null,{"$f":"Kontoplan!C78","v":0}]
[null,"Tilgodehavender"]
[null,"Periodeafgræsningsposter"]
[]
[null,"OMSÆTNINGSAKTIVER I ALT",null,null,null,null,null,{"$f":"SUM(H15:H19)","v":6029},null,{"$f":"SUM(J15:J19)","v":0}]
[]
[null,"AKTIVER I ALT",null,null,null,null,null,{"$f":"+H13+H20","v":6029},null,{"$f":"+J13+J20","v":0}]
[]
[]
[null,null,null,null,"PASSIVER",null,null,null,null,null,null,null,"Såfremt noter til en eller flere af passiverne ønskes kan disse tilføjes med nummer angivelse (næste i talrækken),"]
[null,null,null,null,null,null,null,null,null,null,null,null,"og noten oprettes i næste fane \"Noter\""]
[null,{"$f":"\"Egenkapital pr. 1. januar \"&'T2'!C2","v":"Egenkapital pr. 1. januar 2022"},null,null,null,null,null,{"$f":"Regnskab!F58","v":0},null,null,null,null,"Anfør relevant regnskabsår (og ret evt. dato ved forskudt regnskabsår)"]
[null,"Årets resultat",null,null,null,null,null,{"$f":"+Resultatopgørelse!G34","v":700},null,55910]
[]
[null,"EGENKAPITAL I ALT",null,null,null,null,null,{"$f":"+H27+H28","v":700},null,{"$f":"+J27+J28","v":55910}]
[]
[null,"Hensættelse til YYY",null,null,null,null,null,null,null,null,null,null,"Hvis aktuelt anføres typen af hensættelse. Ellers kan række 32 til 35 slettes og formel for \"passiver i alt\" tilrettes. "]
[]
[null,"HENSÆTTELSER I ALT",null,null,null,null,null,{"$f":"SUM(H32:H33)","v":0},null,{"$f":"SUM(J32:J33)","v":0}]
[]
[null,"Gæld til bank"]
[null,"Gæld til Realkreditinstitut"]
[null,"Skyldige omkostninger"]
[null,"Forudbetalt kontingent"]
[]
[null,"GÆLD I ALT",null,null,null,null,null,{"$f":"SUM(H36:H40)","v":0},null,{"$f":"SUM(J36:J40)","v":0}]
[]
[null,"PASSIVER I ALT",null,null,null,null,null,{"$f":"+H30+H34+H41","v":700},null,{"$f":"+J30+J34+J41","v":55910}]
[]
[]
[]
[null,"Kontrol",null,null,null,null,null,{"$f":"+H22-H43","v":5329},null,{"$f":"+J22-J43","v":-55910},null,null,"Skal altid være 0"]

{"sheet":"Noter2","index":21,"n_rows":89,"n_cols":22,"rows_kept":89,"cut":false,"hidden":false,"merged":[[2,1,2,10],[53,1,53,10],[8,2,8,6],[20,2,20,6],[39,2,39,6],[34,2,34,6]]}
[]
[null,null,null,null,null,null,null,null,null,null,null,null,null,null,null,null,null,null,null,null,null,"ALENE TEKSTER OG TAL MED BLÅ SKRIFT SKAL ÆNDRES I DENNE MODEL"]
[null,{"$f":"\"NOTER TIL ÅRSREGNSKAB FOR \"&'T2'!C2","v":"NOTER TIL ÅRSREGNSKAB FOR 2022"},null,null,null,null,null,null,null,null,null,null,null,"Anfør relevant regnskabsår",null,null,null,null,null,null,null,"Denne regnskabsmodel er opbygget med links og formler. Det betyder, at alene tekster og "]
[null,null,null,null,null,null,null,null,null,null,null,null,null,null,null,null,null,null,null,null,null,"tal med blå skrift skal ændres. Alle tal og tekster med sort skrift skal som udgangspunkt IKKE ændres."]
[null,null,null,null,null,null,null,null,{"$f":"+Balance!H5","v":2022},null,{"$f":"+Balance!J5","v":2021}]
[null,"Note",null,null,null,null,null,null,"kr.",null,"kr."]
[null,null,null,null,null,null,null,null,null,null,null,null,null,"Alle beløb anføres som positive værdier - både indtægter og udgifter"]
[null,null,"Indtægter"]
[null,1,"Entre"]
[1010,null,"Voksne",null,null,null,null,null,{"$f":"VLOOKUP(A10,Kontoplan!$A$2:$C$38,3,0)","v":550}]
[1020,null,"Pensionister",null,null,null,null,null,{"$f":"VLOOKUP(A11,Kontoplan!$A$2:$C$38,3,0)","v":0}]
[1030,null,"Børn 6-16",null,null,null,null,null,{"$f":"VLOOKUP(A12,Kontoplan!$A$2:$C$38,3,0)","v":0}]
[1040,null,"Soldater/veteraner",null,null,null,null,null,{"$f":"VLOOKUP(A13,Kontoplan!$A$2:$C$38,3,0)","v":0}]
[1050,null,"Kørsel",null,null,null,null,null,{"$f":"VLOOKUP(A14,Kontoplan!$A$2:$C$38,3,0)","v":0}]
[1060,null,"Bunkertur",null,null,null,null,null,{"$f":"VLOOKUP(A15,Kontoplan!$A$2:$C$38,3,0)","v":0}]
[1070,null,"Tårn",null,null,null,null,null,{"$f":"VLOOKUP(A16,Kontoplan!$A$2:$C$38,3,0)","v":0}]
[1080,null,"Skoler",null,null,null,null,null,{"$f":"VLOOKUP(A17,Kontoplan!$A$2:$C$38,3,0)","v":150}]
[]
[1000,null,"Entre i alt",null,null,null,null,null,{"$f":"SUM(I10:I18)","v":700},null,{"$f":"SUM(K9:K18)","v":0}]
[]
[null,2,"Kiosk Salg"]
[1210,null,"Bælter",null,null,null,null,null,{"$f":"VLOOKUP(A22,Kontoplan!$A$2:$C$38,3,0)","v":0}]
[1220,null,"Bog salg",null,null,null,null,null,{"$f":"VLOOKUP(A23,Kontoplan!$A$2:$C$38,3,0)","v":0}]
[1230,null,"Færdige Tinsoldater",null,null,null,null,null,{"$f":"VLOOKUP(A24,Kontoplan!$A$2:$C$38,3,0)","v":0}]
[1240,null,"Landkort",null,null,null,null,null,{"$f":"VLOOKUP(A25,Kontoplan!$A$2:$C$38,3,0)","v":0}]
[1250,null,"Oplukker",null,null,null,null,null,{"$f":"VLOOKUP(A26,Kontoplan!$A$2:$C$38,3,0)","v":0}]
[1260,null,"Køleskabsmagneter",null,null,null,null,null,{"$f":"VLOOKUP(A27,Kontoplan!$A$2:$C$38,3,0)","v":0}]
[1270,null,"Postkort 3 stk.",null,null,null,null,null,{"$f":"VLOOKUP(A28,Kontoplan!$A$2:$C$38,3,0)","v":0}]
[1280,null,"Postkort",null,null,null,null,null,{"$f":"VLOOKUP(A29,Kontoplan!$A$2:$C$38,3,0)","v":0}]
[1290,null,"Sodavand",null,null,null,null,null,{"$f":"VLOOKUP(A30,Kontoplan!$A$2:$C$38,3,0)","v":0}]
[1300,null,"Kage",null,null,null,null,null,{"$f":"VLOOKUP(A31,Kontoplan!$A$2:$C$38,3,0)","v":0}]
[]
[1200,null,"Kiosk salg i alt",null,null,null,null,null,{"$f":"SUM(I22:I32)","v":0},null,{"$f":"SUM(K9:K22)","v":0}]
[]
[null,3,"Tilskud fra Bornholms RegionsKommune",null,null,null,null,null,null,null,null,null,null,{"$f":"\"Tilskud fra \"&'T2'!K13&\" skal anføres linje for linje efter art.\"","v":"Tilskud fra Bornholms Regionskommune skal anføres linje for linje efter art."}]
[1400,null,"Driftstilskud",null,null,null,null,null,{"$f":"VLOOKUP(A36,Kontoplan!$A$2:$C$38,3,0)","v":0}]
[1405,null,"Andre tilskud ",null,null,null,null,null,{"$f":"VLOOKUP(A37,Kontoplan!$A$2:$C$38,3,0)","v":0}]
[null,null,"Tilskud fra pulje - f.eks. til Uddannelse",null,null,null,null,null,null,null,null,null,null,"Her anføres den konkrete art, og der tilføjes ekstra linjer efter denne, hvis tilskud fra flere puljer"]
[]
[null,null,"Tilskud fra Bornholms RegionsKommune i alt",null,null,null,null,null,{"$f":"SUM(I36:I39)","v":0},null,{"$f":"SUM(K36:K39)","v":0}]
[]
[null,4,"Lokaleomkostninger",null,null,null,null,null,null,null,null,null,null,"Hvis den enkelte udgiftsart ikke er aktuelt for foreningen, så kan linjen slettes."]
[null,null,"Forsikring af lokaler"]
[null,null,"El, vand og varme"]
[null,null,"Småanskaffelser og inventar"]
[null,null,"Indvendig vedligeholdelse"]
[null,null,"Udvendig vedligeholdelse"]
[null,null,"…"]
[]
[null,null,"Lokaleomkostninger i alt",null,null,null,null,null,{"$f":"SUM(I43:I49)","v":0},null,{"$f":"SUM(K43:K49)","v":0}]
[]
[]
[]
[null,{"$f":"\"NOTER TIL ÅRSREGNSKAB FOR \"&'T2'!C2","v":"NOTER TIL ÅRSREGNSKAB FOR 2022"}]
[]
[null,null,null,null,null,null,null,null,{"$f":"+Balance!H5","v":2022},null,{"$f":"+Balance!J5","v":2021}]
[null,"Note",null,null,null,null,null,null,"kr.",null,"kr."]
[]
[null,5,"Administrationsomkostninger",null,null,null,null,null,null,null,null,null,null,"Hvis den enkelte udgiftsart ikke er aktuelt for foreningen, så kan linjen slettes."]
[null,null,"Forsikring (ansvar, løsøre mv.)"]
[null,null,"Kontorhold"]
[null,null,"Kontingenter"]
[null,null,"Uddannelse"]
[null,null,"IT-udgifter"]
[null,null,"Møder"]
[null,null,"Porto og gebyrer"]
[null,null,"…"]
[]
[null,null,"Administrationsomkostninger i alt",null,null,null,null,null,{"$f":"SUM(I60:I68)","v":0},null,{"$f":"SUM(K60:K68)","v":0}]
[]
[null,6,"Markedsføring og repræsentation",null,null,null,null,null,null,null,null,null,null,"Hvis den enkelte udgiftsart ikke er aktuelt for foreningen, så kan linjen slettes."]
[null,null,"Annoncering"]
[null,null,"Sociale medier"]
[null,null,"Gaver"]
[null,null,"Repræsentation"]
[null,null,"…"]
[]
[null,null,"Markedsføring og repræsentation i alt",null,null,null,null,null,{"$f":"SUM(I72:I77)","v":0},null,{"$f":"SUM(K72:K77)","v":0}]
[]
[null,7,"Aktivitetsrelaterede udgifter",null,null,null,null,null,null,null,null,null,null,"Såfremt anden overskrift ønskes, kan dette blot tilrettes, og hvis den enkelte udgiftsart ikke er aktuelt for foreningen, så kan linjen slettes."]
[null,null,"Materialer og rekvisitter"]
[null,null,"Tøj"]
[null,null,"Lejre (herunder træningslejre)"]
[null,null,"Turneringsgebyrer"]
[null,null,"Kørsel"]
[null,null,"Træner-/ledergodtgørelse"]
[null,null,"…"]
[]
[null,null,"Aktivitetsrelaterede udgifter i alt",null,null,null,null,null,{"$f":"SUM(I81:I88)","v":0},null,{"$f":"SUM(K81:K88)","v":0}]

{"sheet":"T2","index":22,"n_rows":43,"n_cols":23,"rows_kept":43,"cut":false,"hidden":false,"merged":[[39,0,39,4],[42,0,42,4],[43,0,43,5],[24,1,24,4],[26,1,26,4],[28,1,28,4],[30,1,30,4],[33,0,33,4],[36,0,36,4],[22,1,22,4],[6,2,6,4],[6,7,6,9],[8,1,8,4],[8,7,8,9],[10,1,10,4],[10,7,10,9],[12,1,12,4],[14,1,14,4],[16,1,16,4],[18,1,18,4],[20,1,20,4],[12,7,12,9],[12,10,12,13],[5,18,5,19],[3,7,3,9],[5,10,5,11],[5,12,5,13],[5,14,5,15],[5,16,5,17]]}
[null,null,null,null,null,null,null,null,null,null,null,null,null,null,null,null,null,null,null,null,null,null,"Formand/Sekretær"]
["Regnskabs år ",{"$f":"C2+1","v":2023},2022,{"$f":"C2-1","v":2021},{"$f":"C2-2","v":2020},{"$f":"D2-2","v":2019},null,"cellen C2","her indtastes det indeværende regnskabs år",null,null,null,null,null,null,null,null,null,null,null,null,null,"Næstformand"]
[null,{"$f":"IF(YEAR(B4)<>YEAR(B5),YEAR(B4)&\"-\"&YEAR(B5),YEAR(B4))","v":2023},{"$f":"IF(YEAR(C4)<>YEAR(C5),YEAR(C4)&\"-\"&YEAR(C5),YEAR(C4))","v":2022},{"$f":"IF(YEAR(D4)<>YEAR(D5),YEAR(D4)&\"-\"&YEAR(D5),YEAR(D4))","v":2021},{"$f":"IF(YEAR(E4)<>YEAR(E5),YEAR(E4)&\"-\"&YEAR(E5),YEAR(E4))","v":2020},{"$f":"IF(YEAR(F4)<>YEAR(F5),YEAR(F4)&\"-\"&YEAR(F5),YEAR(F4))","v":2019},null,null,null,null,null,null,null,null,null,null,null,null,null,null,null,null,"Web ansvarlig"]
["Regnskabsårets start ",{"$f":"DATE(B2-I5,$L$5,$K$5)","v":"2023-01-01"},{"$f":"DATE(C2-I5,$L$5,$K$5)","v":"2022-01-01"},{"$f":"DATE(D2-I5,$L$5,$K$5)","v":"2021-01-01"},{"$f":"DATE(E2-I5,$L$5,$K$5)","v":"2020-01-01"},{"$f":"DATE(F2-I5,$L$5,$K$5)","v":"2019-01-01"},null,"Regnskabs året starter :",null,null,"dag","måned",null,null,null,null,null,null,null,null,null,null,"Forbindelsesp. til AK"]
["Regnskabs årets slut",{"$f":"N7","v":"2023-12-31"},{"$f":"L7","v":"2022-12-31"},{"$f":"P7","v":"2021-12-31"},{"$f":"R7","v":"2020-12-31"},{"$f":"T7","v":"2019-12-31"},null,null,0,null,1,1,null,null,null,null,null,null,null,null,null,null,"Ad hoc"]
[null,null,null,null,null,null,null,null,null,null,"Aktuelt år",null,"Budget år",null,"realiseret år",null,"realiseret år",null,"realiseret år",null,null,null,"Suppleant"]
[{"$f":"\"Periode : \"&TEXT(C4, \"dd-mm-åååå\")& \" - \"&TEXT(C5,\"dd-mm-åååå\")","v":"Periode : 01-01-2022 - 31-12-2022"},null,"version 2020.00.02.00",null,null,null,null,"Regnskabs året slutter :",null,null,{"$f":"C4-1","v":"2021-12-31"},{"$f":"DATE(YEAR(K7)+1,MONTH(K7),DAY(K7))","v":"2022-12-31"},{"$f":"B4-1","v":"2022-12-31"},{"$f":"DATE(YEAR(M7)+1,MONTH(M7),DAY(M7))","v":"2023-12-31"},{"$f":"D4-1","v":"2020-12-31"},{"$f":"DATE(YEAR(O7)+1,MONTH(O7),DAY(O7))","v":"2021-12-31"},{"$f":"E4-1","v":"2019-12-31"},{"$f":"DATE(YEAR(Q7)+1,MONTH(Q7),DAY(Q7))","v":"2020-12-31"},{"$f":"F4-1","v":"2018-12-31"},{"$f":"DATE(YEAR(S7)+1,MONTH(S7),DAY(S7))","v":"2019-12-31"},null,null,"Bilagskontrollant"]
[null,null,null,null,null,null,null,null,null,null,null,null,null,null,null,null,null,null,null,null,null,null,"Kasserer"]
["Foreningens navn:","TEST Regnskab",null,null,null,null,null,"Revisionspåtegning: (1-3)",null,null,1,"0= tomt felt"]
[]
["Foreningens adresse : ","Arsenalvej 8",null,null,null,null,null,"Næste medl. Nr. :",null,null,147]
[]
["Foreningens Postnr & By : ","3700 Rønne",null,null,null,null,null,"Kommune : ",null,null,"Bornholms Regionskommune"]
[]
["Formand : ","Formand"]
[]
["Kasserer :","Kassereren"]
[]
["Bestyrelses medlem  : ","Bestyrelses medlem 1"]
[]
["Bestyrelses medlem  : ","Bestyrelses medlem 2"]
[]
["Bestyrelses medlem  : ","Bestyrelses medlem 3"]
[]
["Foreningens CVR-nr.  : ","88 73 98 17"]
[]
["Resiosor : ","revisor1"]
[]
["Bilagskontollant :","revisor 2"]
[]
["Mail til Revisor :","xxx"]
[]
["Revisionspåtegning: 1"]
["Regnskabet er d.d. revideret. Beholdningkonti er fundet til stede. Bogføringen er kontrollet. \nRevisionen gav anledning til flg. Bemærkning"]
[]
["Revisionspåtegning: 2"]
["Kalenderårsregnskabet med resultatopgørese og balance er gennemgået og afstemt af\ngeneralforsamlingsvante revisorer samt jf. foreningens lov/vedtægt\nmed bogføringsbekendtgørelsen som vejledning.\nFra statustidspunktet og til revisionsdatoen er der ikke kendskab til forhold, som vil kunne forrykke\nvurderingen af regnskabet, som giver et retvisende billede.\n\n"]
[]
["Revisionspåtegning: 3"]
["Årsregnskabet med bilag, resultat, balance og udtog er gennemgået og afstemt af\nde valgte revisorer.\nGennemgangen har ikke givet anledning til bemærkninger."]
[]
["Bemærkninger:"]
["Regnskabet er d.d. revideret. Beholdningkonti er fundet til stede. Bogføringen er kontrollet. \nRevisionen gav anledning til flg. Bemærkning"]

{"sheet":"Restanceliste","index":23,"n_rows":7,"n_cols":5,"rows_kept":7,"cut":false,"hidden":true,"merged":[[5,1,5,6],[4,0,4,6]]}
[]
[]
[]
[]
["der laves en funktion der danner restancelisten ved tryk på en knap\nhvis der findes en liste kommer der en msgbox om man ønsker at overskrive den"]
[null,"Hentes fra medlemslisten udfra A kolonnen med lopslag"]
["Medlems nr.:","Navn","Adresse","postnr","by"]