{"text_format":"1","workbook":"xlsx","n_sheets":3,"sheets":["Ark1","Sept","Data"],"not_rendered":{"charts":0,"images":0,"macros":1,"external_links":0,"defined_names":0,"comments":0,"pivot_tables":0},"unopened":[],"bounds":{"document_bytes":16777216,"sheet_cells":100000,"rows_first":2000,"rows_last":500,"rows_between":2000,"halvings":0,"cell_chars":16384,"cell_head_chars":4096},"cells_cut":0,"cells_raw":0,"read":"whole","date_system":"1900"}

{"sheet":"Ark1","index":0,"n_rows":0,"n_cols":0,"rows_kept":0,"cut":false,"hidden":false,"merged":[]}

{"sheet":"Sept","index":1,"n_rows":41,"n_cols":9,"rows_kept":41,"cut":false,"hidden":false,"merged":[]}
[]
[]
[]
[]
[null,null,null,null,null,null,"08-1530","1530-0800","0000-0000"]
["Dato","Ugedag","Helligdag","Start","Slut","Timer i alt","Dag","Aften","Weekend"]
["2024-01-01",{"$f":"CHOOSE(WEEKDAY(A7),\"Mandag\",\"Tirsdag\",\"Onsdag\",\"Torsdag\",\"Fredag\",\"Lørdag\",\"Søndag\")","v":"Tirsdag"},{"$f":"HelligdagsNavn(A7,0,0)","v":"Nytårsdag"},"08:00:00","17:00:00",{"$f":"IF(D7=\"\",\"\",(E7-D7)+(D7>E7))","v":0.37500000000000006},{"$f":"IF(C7<>\"\",\"\",ColTime(Data!$B$2,Data!$C$2,Sept!D7,Sept!E7))","v":""},{"$f":"IF(C7<>\"\",\"\",ColTime(Data!$B$3,Data!$C$3,Sept!D7,Sept!E7))","v":""},{"$f":"IF(OR(C7<>\"\",WEEKDAY(A7)=6,WEEKDAY(A7)=7),F7,\"\")","v":0.37500000000000006}]
[{"$f":"A7+1","v":"2024-01-02"},{"$f":"CHOOSE(WEEKDAY(A8),\"Mandag\",\"Tirsdag\",\"Onsdag\",\"Torsdag\",\"Fredag\",\"Lørdag\",\"Søndag\")","v":"Onsdag"},null,"15:30:00","22:00:00",{"$f":"IF(D8=\"\",\"\",(E8-D8)+(D8>E8))","v":0.27083333333333326},{"$f":"IF(C8<>\"\",\"\",ColTime(Data!$B$2,Data!$C$2,Sept!D8,Sept!E8))","v":0},{"$f":"IF(C8<>\"\",\"\",ColTime(Data!$B$3,Data!$C$3,Sept!D8,Sept!E8))","v":0.27083333333333326},{"$f":"IF(OR(WEEKDAY(A8)=6,WEEKDAY(A8)=7),F8,\"\")","v":""}]
[{"$f":"A8+1","v":"2024-01-03"},"Torsdag",null,null,null,"",{"$f":"IF(C9<>\"\",\"\",ColTime(Data!$B$2,Data!$C$2,Sept!D9,Sept!E9))","v":0},{"$f":"IF(C9<>\"\",\"\",ColTime(Data!$B$3,Data!$C$3,Sept!D9,Sept!E9))","v":0},{"$f":"IF(OR(WEEKDAY(A9)=6,WEEKDAY(A9)=7),F9,\"\")","v":""}]
["2024-01-04","Fredag",null,null,null,"",{"$f":"IF(C10<>\"\",\"\",ColTime(Data!$B$2,Data!$C$2,Sept!D10,Sept!E10))","v":0},{"$f":"IF(C10<>\"\",\"\",ColTime(Data!$B$3,Data!$C$3,Sept!D10,Sept!E10))","v":0},{"$f":"IF(OR(WEEKDAY(A10)=6,WEEKDAY(A10)=7),F10,\"\")","v":""}]
["2024-01-05","Lørdag",null,null,null,"",{"$f":"IF(C11<>\"\",\"\",ColTime(Data!$B$2,Data!$C$2,Sept!D11,Sept!E11))","v":0},{"$f":"IF(C11<>\"\",\"\",ColTime(Data!$B$3,Data!$C$3,Sept!D11,Sept!E11))","v":0},{"$f":"IF(OR(WEEKDAY(A11)=6,WEEKDAY(A11)=7),F11,\"\")","v":""}]
["2024-01-06","Søndag",null,null,null,"",{"$f":"IF(C12<>\"\",\"\",ColTime(Data!$B$2,Data!$C$2,Sept!D12,Sept!E12))","v":0},{"$f":"IF(C12<>\"\",\"\",ColTime(Data!$B$3,Data!$C$3,Sept!D12,Sept!E12))","v":0},{"$f":"IF(OR(WEEKDAY(A12)=6,WEEKDAY(A12)=7),F12,\"\")","v":""}]
["2024-01-07","Mandag",null,null,null,"",{"$f":"IF(C13<>\"\",\"\",ColTime(Data!$B$2,Data!$C$2,Sept!D13,Sept!E13))","v":0},{"$f":"IF(C13<>\"\",\"\",ColTime(Data!$B$3,Data!$C$3,Sept!D13,Sept!E13))","v":0},{"$f":"IF(OR(WEEKDAY(A13)=6,WEEKDAY(A13)=7),F13,\"\")","v":""}]
["2024-01-08","Tirsdag",null,null,null,"",{"$f":"IF(C14<>\"\",\"\",ColTime(Data!$B$2,Data!$C$2,Sept!D14,Sept!E14))","v":0},{"$f":"IF(C14<>\"\",\"\",ColTime(Data!$B$3,Data!$C$3,Sept!D14,Sept!E14))","v":0},{"$f":"IF(OR(WEEKDAY(A14)=6,WEEKDAY(A14)=7),F14,\"\")","v":""}]
["2024-01-09","Onsdag",null,null,null,"",{"$f":"IF(C15<>\"\",\"\",ColTime(Data!$B$2,Data!$C$2,Sept!D15,Sept!E15))","v":0},{"$f":"IF(C15<>\"\",\"\",ColTime(Data!$B$3,Data!$C$3,Sept!D15,Sept!E15))","v":0},{"$f":"IF(OR(WEEKDAY(A15)=6,WEEKDAY(A15)=7),F15,\"\")","v":""}]
["2024-01-10","Torsdag",null,null,null,"",{"$f":"IF(C16<>\"\",\"\",ColTime(Data!$B$2,Data!$C$2,Sept!D16,Sept!E16))","v":0},{"$f":"IF(C16<>\"\",\"\",ColTime(Data!$B$3,Data!$C$3,Sept!D16,Sept!E16))","v":0},{"$f":"IF(OR(WEEKDAY(A16)=6,WEEKDAY(A16)=7),F16,\"\")","v":""}]
["2024-01-11","Fredag",null,null,null,"",{"$f":"IF(C17<>\"\",\"\",ColTime(Data!$B$2,Data!$C$2,Sept!D17,Sept!E17))","v":0},{"$f":"IF(C17<>\"\",\"\",ColTime(Data!$B$3,Data!$C$3,Sept!D17,Sept!E17))","v":0},{"$f":"IF(OR(WEEKDAY(A17)=6,WEEKDAY(A17)=7),F17,\"\")","v":""}]
["2024-01-12","Lørdag",null,null,null,"",{"$f":"IF(C18<>\"\",\"\",ColTime(Data!$B$2,Data!$C$2,Sept!D18,Sept!E18))","v":0},{"$f":"IF(C18<>\"\",\"\",ColTime(Data!$B$3,Data!$C$3,Sept!D18,Sept!E18))","v":0},{"$f":"IF(OR(WEEKDAY(A18)=6,WEEKDAY(A18)=7),F18,\"\")","v":""}]
["2024-01-13","Søndag",null,null,null,"",{"$f":"IF(C19<>\"\",\"\",ColTime(Data!$B$2,Data!$C$2,Sept!D19,Sept!E19))","v":0},{"$f":"IF(C19<>\"\",\"\",ColTime(Data!$B$3,Data!$C$3,Sept!D19,Sept!E19))","v":0},{"$f":"IF(OR(WEEKDAY(A19)=6,WEEKDAY(A19)=7),F19,\"\")","v":""}]
["2024-01-14","Mandag",null,null,null,"",{"$f":"IF(C20<>\"\",\"\",ColTime(Data!$B$2,Data!$C$2,Sept!D20,Sept!E20))","v":0},{"$f":"IF(C20<>\"\",\"\",ColTime(Data!$B$3,Data!$C$3,Sept!D20,Sept!E20))","v":0},{"$f":"IF(OR(WEEKDAY(A20)=6,WEEKDAY(A20)=7),F20,\"\")","v":""}]
["2024-01-15","Tirsdag",null,null,null,"",{"$f":"IF(C21<>\"\",\"\",ColTime(Data!$B$2,Data!$C$2,Sept!D21,Sept!E21))","v":0},{"$f":"IF(C21<>\"\",\"\",ColTime(Data!$B$3,Data!$C$3,Sept!D21,Sept!E21))","v":0},{"$f":"IF(OR(WEEKDAY(A21)=6,WEEKDAY(A21)=7),F21,\"\")","v":""}]
["2024-01-16","Onsdag",null,null,null,"",{"$f":"IF(C22<>\"\",\"\",ColTime(Data!$B$2,Data!$C$2,Sept!D22,Sept!E22))","v":0},{"$f":"IF(C22<>\"\",\"\",ColTime(Data!$B$3,Data!$C$3,Sept!D22,Sept!E22))","v":0},{"$f":"IF(OR(WEEKDAY(A22)=6,WEEKDAY(A22)=7),F22,\"\")","v":""}]
["2024-01-17","Torsdag",null,null,null,"",{"$f":"IF(C23<>\"\",\"\",ColTime(Data!$B$2,Data!$C$2,Sept!D23,Sept!E23))","v":0},{"$f":"IF(C23<>\"\",\"\",ColTime(Data!$B$3,Data!$C$3,Sept!D23,Sept!E23))","v":0},{"$f":"IF(OR(WEEKDAY(A23)=6,WEEKDAY(A23)=7),F23,\"\")","v":""}]
["2024-01-18","Fredag",null,null,null,"",{"$f":"IF(C24<>\"\",\"\",ColTime(Data!$B$2,Data!$C$2,Sept!D24,Sept!E24))","v":0},{"$f":"IF(C24<>\"\",\"\",ColTime(Data!$B$3,Data!$C$3,Sept!D24,Sept!E24))","v":0},{"$f":"IF(OR(WEEKDAY(A24)=6,WEEKDAY(A24)=7),F24,\"\")","v":""}]
["2024-01-19","Lørdag",null,null,null,"",{"$f":"IF(C25<>\"\",\"\",ColTime(Data!$B$2,Data!$C$2,Sept!D25,Sept!E25))","v":0},{"$f":"IF(C25<>\"\",\"\",ColTime(Data!$B$3,Data!$C$3,Sept!D25,Sept!E25))","v":0},{"$f":"IF(OR(WEEKDAY(A25)=6,WEEKDAY(A25)=7),F25,\"\")","v":""}]
["2024-01-20","Søndag",null,null,null,"",{"$f":"IF(C26<>\"\",\"\",ColTime(Data!$B$2,Data!$C$2,Sept!D26,Sept!E26))","v":0},{"$f":"IF(C26<>\"\",\"\",ColTime(Data!$B$3,Data!$C$3,Sept!D26,Sept!E26))","v":0},{"$f":"IF(OR(WEEKDAY(A26)=6,WEEKDAY(A26)=7),F26,\"\")","v":""}]
["2024-01-21","Mandag",null,null,null,"",{"$f":"IF(C27<>\"\",\"\",ColTime(Data!$B$2,Data!$C$2,Sept!D27,Sept!E27))","v":0},{"$f":"IF(C27<>\"\",\"\",ColTime(Data!$B$3,Data!$C$3,Sept!D27,Sept!E27))","v":0},{"$f":"IF(OR(WEEKDAY(A27)=6,WEEKDAY(A27)=7),F27,\"\")","v":""}]
["2024-01-22","Tirsdag",null,null,null,"",{"$f":"IF(C28<>\"\",\"\",ColTime(Data!$B$2,Data!$C$2,Sept!D28,Sept!E28))","v":0},{"$f":"IF(C28<>\"\",\"\",ColTime(Data!$B$3,Data!$C$3,Sept!D28,Sept!E28))","v":0},{"$f":"IF(OR(WEEKDAY(A28)=6,WEEKDAY(A28)=7),F28,\"\")","v":""}]
["2024-01-23","Onsdag",null,null,null,"",{"$f":"IF(C29<>\"\",\"\",ColTime(Data!$B$2,Data!$C$2,Sept!D29,Sept!E29))","v":0},{"$f":"IF(C29<>\"\",\"\",ColTime(Data!$B$3,Data!$C$3,Sept!D29,Sept!E29))","v":0},{"$f":"IF(OR(WEEKDAY(A29)=6,WEEKDAY(A29)=7),F29,\"\")","v":""}]
["2024-01-24","Torsdag",null,null,null,"",{"$f":"IF(C30<>\"\",\"\",ColTime(Data!$B$2,Data!$C$2,Sept!D30,Sept!E30))","v":0},{"$f":"IF(C30<>\"\",\"\",ColTime(Data!$B$3,Data!$C$3,Sept!D30,Sept!E30))","v":0},{"$f":"IF(OR(WEEKDAY(A30)=6,WEEKDAY(A30)=7),F30,\"\")","v":""}]
["2024-01-25","Fredag",null,null,null,"",{"$f":"IF(C31<>\"\",\"\",ColTime(Data!$B$2,Data!$C$2,Sept!D31,Sept!E31))","v":0},{"$f":"IF(C31<>\"\",\"\",ColTime(Data!$B$3,Data!$C$3,Sept!D31,Sept!E31))","v":0},{"$f":"IF(OR(WEEKDAY(A31)=6,WEEKDAY(A31)=7),F31,\"\")","v":""}]
["2024-01-26","Lørdag",null,null,null,"",{"$f":"IF(C32<>\"\",\"\",ColTime(Data!$B$2,Data!$C$2,Sept!D32,Sept!E32))","v":0},{"$f":"IF(C32<>\"\",\"\",ColTime(Data!$B$3,Data!$C$3,Sept!D32,Sept!E32))","v":0},{"$f":"IF(OR(WEEKDAY(A32)=6,WEEKDAY(A32)=7),F32,\"\")","v":""}]
["2024-01-27","Søndag",null,null,null,"",{"$f":"IF(C33<>\"\",\"\",ColTime(Data!$B$2,Data!$C$2,Sept!D33,Sept!E33))","v":0},{"$f":"IF(C33<>\"\",\"\",ColTime(Data!$B$3,Data!$C$3,Sept!D33,Sept!E33))","v":0},{"$f":"IF(OR(WEEKDAY(A33)=6,WEEKDAY(A33)=7),F33,\"\")","v":""}]
["2024-01-28","Mandag",null,null,null,{"$f":"IF(D34=\"\",\"\",(E34-D34)+(D34>E34))","v":""},{"$f":"IF(C34<>\"\",\"\",ColTime(Data!$B$2,Data!$C$2,Sept!D34,Sept!E34))","v":0},{"$f":"IF(C34<>\"\",\"\",ColTime(Data!$B$3,Data!$C$3,Sept!D34,Sept!E34))","v":0},{"$f":"IF(OR(WEEKDAY(A34)=6,WEEKDAY(A34)=7),F34,\"\")","v":""}]
["2024-01-29","Tirsdag",null,null,null,"",{"$f":"IF(C35<>\"\",\"\",ColTime(Data!$B$2,Data!$C$2,Sept!D35,Sept!E35))","v":0},{"$f":"IF(C35<>\"\",\"\",ColTime(Data!$B$3,Data!$C$3,Sept!D35,Sept!E35))","v":0},""]
["2024-01-30","Onsdag",null,null,null,"",{"$f":"IF(C36<>\"\",\"\",ColTime(Data!$B$2,Data!$C$2,Sept!D36,Sept!E36))","v":0},{"$f":"IF(C36<>\"\",\"\",ColTime(Data!$B$3,Data!$C$3,Sept!D36,Sept!E36))","v":0},""]
["2024-01-31","Torsdag",null,null,null,"",{"$f":"IF(C37<>\"\",\"\",ColTime(Data!$B$2,Data!$C$2,Sept!D37,Sept!E37))","v":0},{"$f":"IF(C37<>\"\",\"\",ColTime(Data!$B$3,Data!$C$3,Sept!D37,Sept!E37))","v":0},""]
[null,null,null,null,null,null,{"$f":"SUM(G7:G37)","v":0},{"$f":"SUM(H7:H37)","v":0.27083333333333326},0.37500000000000006]
[null,null,null,null,null,null,{"$f":"G38*24","v":0},{"$f":"H38*24","v":6.4999999999999982},9.0000000000000018]
[null,null,null,null,null,null,{"$f":"Data!D2","v":110},{"$f":"Data!D3","v":120},{"$f":"Data!D4","v":150}]
[null,null,null,null,null,null,{"$f":"G39*G40","v":0},{"$f":"H39*H40","v":779.99999999999977},1350.0000000000002]

{"sheet":"Data","index":2,"n_rows":5,"n_cols":4,"rows_kept":5,"cut":false,"hidden":false,"merged":[]}
[null,"Start","Slut","Pris"]
["Dag","08:00:00","15:30:00",110]
["Aften","15:30:00","08:00:00",120]
["Lørdag","00:00:00","00:00:00",150]
["Søndag","00:00:00","00:00:00",150]