{"text_format":"1","workbook":"xlsx","n_sheets":5,"sheets":["Juni2010 (2)","Hele Året","Data","Satser","Ark3"],"not_rendered":{"charts":0,"images":0,"macros":1,"external_links":0,"defined_names":2,"comments":0,"pivot_tables":0},"unopened":[],"bounds":{"document_bytes":16777216,"sheet_cells":100000,"rows_first":2000,"rows_last":500,"rows_between":2000,"halvings":0,"cell_chars":16384,"cell_head_chars":4096},"cells_cut":0,"cells_raw":0,"read":"whole","date_system":"1900"}

{"sheet":"Juni2010 (2)","index":0,"n_rows":45,"n_cols":26,"rows_kept":45,"cut":false,"hidden":true,"merged":[[43,0,43,3],[0,1,0,5],[39,0,39,3],[40,0,40,3],[41,0,41,3],[42,0,42,3],[2,1,2,2],[1,1,1,2]]}
["Løn","1 juni 2010 - 30 juni 2010",null,null,null,null,null,null,null,null,null,null,null,null,null,null,"Time beregning:"]
["Lønart",null,null,null,null,null,3025,3425,3426,3600,3602,3605,3610,9091,9092,null,"Betalt pause ved vagt over 5 timer",null,null,null,"00:25:00","minutter","00:00:00","06:00:00","18:00:00","14:00:00"]
["Dato","Dag",null,"Vagt","Start","Slut","Time SID","Overtid           1-3 time","Overtid            4 - time","Aftenstillæg","Nattillæg     00-06","Søndags tillæg","Delt tjenste"]
["2010-04-01",{"$f":"PROPER(TEXT(A4,\"ddd\"))","v":"To"},{"$f":"HelligdagsNavn(A4,0,0)","v":"Skærtorsdag"},111,{"$f":"IF($D4=\"\",\"\",IF(VLOOKUP($D4,#REF!,2)=0,\"\",VLOOKUP($D4,#REF!,2)))","v":{"$error":"#REF!"}},{"$f":"IF($D4=\"\",\"\",IF(VLOOKUP($D4,#REF!,3)=\"\",\"\",VLOOKUP($D4,#REF!,3)))","v":{"$error":"#REF!"}},{"$f":"IF($D4=\"\",\"\",VLOOKUP($D4,#REF!,13))","v":{"$error":"#REF!"}},null,null,{"$f":"IF(E4<>\"\",IF(WEEKDAY(A4,2)<>6,IF(E4>F4,(F4-MAX(E4,(18/24))+(E4>F4))-F4,IF(F4>Y$2,(F4-MAX(E4,(18/24))),\"\")),IF(E4>F4,(F4-MAX(E4,(14/24))+(E4>F4))-F4,IF(F4>Z$2,(F4-MAX(E4,(14/24))),\"\"))),\"\")","v":{"$error":"#REF!"}},{"$f":"IF(G4<>\"\",IF(S4<X$2,(X$2-S4),IF(V4<X$2,(V4-W$2),\"\")),\"\")","v":{"$error":"#REF!"}},{"$f":"IF(G4<>0,IF(WEEKDAY(A4,2)=7,G4,\"\"),\"\")","v":{"$error":"#REF!"}},{"$f":"IF($D4=\"\",\"\",IF(VLOOKUP($D4,#REF!,15)=\"\",\"\",VLOOKUP($D4,#REF!,15)))","v":{"$error":"#REF!"}},{"$f":"IF(SUM(H4:I4)=0,\"\",SUM(H4:I4))","v":""},null,null,{"$f":"IF(E4=\"\",\"\",HOUR(E4))","v":{"$error":"#REF!"}},{"$f":"IF(E4=\"\",\"\",MINUTE(E4))","v":{"$error":"#REF!"}},{"$f":"IF(E4=\"\",\"\",TIME(HOUR(E4),MINUTE(E4),0))","v":{"$error":"#REF!"}},{"$f":"IF(F4=\"\",\"\",HOUR(F4))","v":{"$error":"#REF!"}},{"$f":"IF(F4=\"\",\"\",MINUTE(F4))","v":{"$error":"#REF!"}},{"$f":"TIME(HOUR(F4),MINUTE(F4),0)","v":{"$error":"#REF!"}}]
["2010-04-02",{"$f":"PROPER(TEXT(A5,\"ddd\"))","v":"Fr"},{"$f":"HelligdagsNavn(A5,0,0)","v":"Langfredag"},134,{"$f":"IF($D5=\"\",\"\",IF(VLOOKUP($D5,#REF!,2)=0,\"\",VLOOKUP($D5,#REF!,2)))","v":{"$error":"#REF!"}},{"$f":"IF($D5=\"\",\"\",IF(VLOOKUP($D5,#REF!,3)=\"\",\"\",VLOOKUP($D5,#REF!,3)))","v":{"$error":"#REF!"}},{"$f":"IF($D5=\"\",\"\",VLOOKUP($D5,#REF!,13))","v":{"$error":"#REF!"}},null,null,{"$f":"IF(E5<>\"\",IF(WEEKDAY(A5,2)<>6,IF(E5>F5,(F5-MAX(E5,(18/24))+(E5>F5))-F5,IF(F5>Y$2,(F5-MAX(E5,(18/24))),\"\")),IF(E5>F5,(F5-MAX(E5,(14/24))+(E5>F5))-F5,IF(F5>Z$2,(F5-MAX(E5,(14/24))),\"\"))),\"\")","v":{"$error":"#REF!"}},{"$error":"#REF!"},{"$error":"#REF!"},{"$f":"IF($D5=\"\",\"\",IF(VLOOKUP($D5,#REF!,15)=\"\",\"\",VLOOKUP($D5,#REF!,15)))","v":{"$error":"#REF!"}},{"$f":"IF(SUM(H5:I5)=0,\"\",SUM(H5:I5))","v":""},null,null,{"$error":"#REF!"},{"$error":"#REF!"},{"$error":"#REF!"},{"$error":"#REF!"},{"$error":"#REF!"},{"$f":"TIME(HOUR(F5),MINUTE(F5),0)","v":{"$error":"#REF!"}}]
["2010-04-03",{"$f":"PROPER(TEXT(A6,\"ddd\"))","v":"Lø"},"",612,{"$f":"IF($D6=\"\",\"\",IF(VLOOKUP($D6,#REF!,2)=0,\"\",VLOOKUP($D6,#REF!,2)))","v":{"$error":"#REF!"}},{"$f":"IF($D6=\"\",\"\",IF(VLOOKUP($D6,#REF!,3)=\"\",\"\",VLOOKUP($D6,#REF!,3)))","v":{"$error":"#REF!"}},{"$f":"IF($D6=\"\",\"\",VLOOKUP($D6,#REF!,13))","v":{"$error":"#REF!"}},null,null,{"$f":"IF(E6<>\"\",IF(WEEKDAY(A6,2)<>6,IF(E6>F6,(F6-MAX(E6,(18/24))+(E6>F6))-F6,IF(F6>Y$2,(F6-MAX(E6,(18/24))),\"\")),IF(E6>F6,(F6-MAX(E6,(14/24))+(E6>F6))-F6,IF(F6>Z$2,(F6-MAX(E6,(14/24))),\"\"))),\"\")","v":{"$error":"#REF!"}},{"$error":"#REF!"},{"$error":"#REF!"},{"$f":"IF($D6=\"\",\"\",IF(VLOOKUP($D6,#REF!,15)=\"\",\"\",VLOOKUP($D6,#REF!,15)))","v":{"$error":"#REF!"}},"",null,null,{"$error":"#REF!"},{"$error":"#REF!"},{"$error":"#REF!"},{"$error":"#REF!"},{"$error":"#REF!"},{"$f":"TIME(HOUR(F6),MINUTE(F6),0)","v":{"$error":"#REF!"}}]
["2010-04-04","Sø","Påskedag",711,{"$f":"IF($D7=\"\",\"\",IF(VLOOKUP($D7,#REF!,2)=0,\"\",VLOOKUP($D7,#REF!,2)))","v":{"$error":"#REF!"}},{"$f":"IF($D7=\"\",\"\",IF(VLOOKUP($D7,#REF!,3)=\"\",\"\",VLOOKUP($D7,#REF!,3)))","v":{"$error":"#REF!"}},{"$f":"IF($D7=\"\",\"\",VLOOKUP($D7,#REF!,13))","v":{"$error":"#REF!"}},null,null,{"$error":"#REF!"},{"$error":"#REF!"},{"$error":"#REF!"},{"$f":"IF($D7=\"\",\"\",IF(VLOOKUP($D7,#REF!,15)=\"\",\"\",VLOOKUP($D7,#REF!,15)))","v":{"$error":"#REF!"}},"",{"$f":"IF($D7=\"\",\"\",IF(VLOOKUP($D7,#REF!,16)=\"\",\"\",VLOOKUP($D7,#REF!,16)))","v":{"$error":"#REF!"}},null,{"$error":"#REF!"},{"$error":"#REF!"},{"$error":"#REF!"},{"$error":"#REF!"},{"$error":"#REF!"},{"$f":"TIME(HOUR(F7),MINUTE(F7),0)","v":{"$error":"#REF!"}}]
["2010-04-05","Ma","2. Påskedag",122,{"$f":"IF($D8=\"\",\"\",IF(VLOOKUP($D8,#REF!,2)=0,\"\",VLOOKUP($D8,#REF!,2)))","v":{"$error":"#REF!"}},{"$f":"IF($D8=\"\",\"\",IF(VLOOKUP($D8,#REF!,3)=\"\",\"\",VLOOKUP($D8,#REF!,3)))","v":{"$error":"#REF!"}},{"$f":"IF($D8=\"\",\"\",VLOOKUP($D8,#REF!,13))","v":{"$error":"#REF!"}},null,null,{"$error":"#REF!"},{"$error":"#REF!"},{"$error":"#REF!"},{"$f":"IF($D8=\"\",\"\",IF(VLOOKUP($D8,#REF!,15)=\"\",\"\",VLOOKUP($D8,#REF!,15)))","v":{"$error":"#REF!"}},"",{"$f":"IF($D8=\"\",\"\",IF(VLOOKUP($D8,#REF!,16)=\"\",\"\",VLOOKUP($D8,#REF!,16)))","v":{"$error":"#REF!"}},null,{"$error":"#REF!"},{"$error":"#REF!"},{"$error":"#REF!"},{"$error":"#REF!"},{"$error":"#REF!"},{"$f":"TIME(HOUR(F8),MINUTE(F8),0)","v":{"$error":"#REF!"}}]
["2010-04-06","Ti","3. Påskedag",124,{"$f":"IF($D9=\"\",\"\",IF(VLOOKUP($D9,#REF!,2)=0,\"\",VLOOKUP($D9,#REF!,2)))","v":{"$error":"#REF!"}},{"$f":"IF($D9=\"\",\"\",IF(VLOOKUP($D9,#REF!,3)=\"\",\"\",VLOOKUP($D9,#REF!,3)))","v":{"$error":"#REF!"}},{"$f":"IF($D9=\"\",\"\",VLOOKUP($D9,#REF!,13))","v":{"$error":"#REF!"}},null,null,{"$error":"#REF!"},{"$error":"#REF!"},{"$error":"#REF!"},{"$f":"IF($D9=\"\",\"\",IF(VLOOKUP($D9,#REF!,15)=\"\",\"\",VLOOKUP($D9,#REF!,15)))","v":{"$error":"#REF!"}},"",{"$f":"IF($D9=\"\",\"\",IF(VLOOKUP($D9,#REF!,16)=\"\",\"\",VLOOKUP($D9,#REF!,16)))","v":{"$error":"#REF!"}},null,{"$error":"#REF!"},{"$error":"#REF!"},{"$error":"#REF!"},{"$error":"#REF!"},{"$error":"#REF!"},{"$f":"IF(F9=\"\",\"\",TIME(HOUR(F9),MINUTE(F9),0))","v":{"$error":"#REF!"}}]
["2010-04-07","On","",606,{"$f":"IF($D10=\"\",\"\",IF(VLOOKUP($D10,#REF!,2)=0,\"\",VLOOKUP($D10,#REF!,2)))","v":{"$error":"#REF!"}},{"$f":"IF($D10=\"\",\"\",IF(VLOOKUP($D10,#REF!,3)=\"\",\"\",VLOOKUP($D10,#REF!,3)))","v":{"$error":"#REF!"}},{"$f":"IF($D10=\"\",\"\",IF(VLOOKUP($D10,#REF!,13)=\"\",\"\",VLOOKUP($D10,#REF!,13)))","v":{"$error":"#REF!"}},null,null,{"$error":"#REF!"},{"$error":"#REF!"},{"$error":"#REF!"},{"$f":"IF($D10=\"\",\"\",IF(VLOOKUP($D10,#REF!,15)=\"\",\"\",VLOOKUP($D10,#REF!,15)))","v":{"$error":"#REF!"}},"",{"$f":"IF($D10=\"\",\"\",IF(VLOOKUP($D10,#REF!,16)=\"\",\"\",VLOOKUP($D10,#REF!,16)))","v":{"$error":"#REF!"}},null,{"$error":"#REF!"},{"$error":"#REF!"},{"$error":"#REF!"},{"$error":"#REF!"},{"$error":"#REF!"},{"$error":"#REF!"}]
["2010-04-08","To","",122,{"$f":"IF($D11=\"\",\"\",IF(VLOOKUP($D11,#REF!,2)=0,\"\",VLOOKUP($D11,#REF!,2)))","v":{"$error":"#REF!"}},{"$f":"IF($D11=\"\",\"\",IF(VLOOKUP($D11,#REF!,3)=\"\",\"\",VLOOKUP($D11,#REF!,3)))","v":{"$error":"#REF!"}},{"$f":"IF($D11=\"\",\"\",IF(VLOOKUP($D11,#REF!,13)=\"\",\"\",VLOOKUP($D11,#REF!,13)))","v":{"$error":"#REF!"}},null,null,{"$error":"#REF!"},{"$error":"#REF!"},{"$f":"IF(G11<>0,IF(WEEKDAY(A11,2)=7,G11,\"\"),\"\")","v":{"$error":"#REF!"}},{"$f":"IF($D11=\"\",\"\",IF(VLOOKUP($D11,#REF!,15)=\"\",\"\",VLOOKUP($D11,#REF!,15)))","v":{"$error":"#REF!"}},"",{"$f":"IF($D11=\"\",\"\",IF(VLOOKUP($D11,#REF!,16)=\"\",\"\",VLOOKUP($D11,#REF!,16)))","v":{"$error":"#REF!"}},null,{"$error":"#REF!"},{"$error":"#REF!"},{"$error":"#REF!"},{"$error":"#REF!"},{"$error":"#REF!"},{"$error":"#REF!"}]
["2010-04-09","Fr","","afsp.",{"$f":"IF($D12=\"\",\"\",IF(VLOOKUP($D12,#REF!,2)=0,\"\",VLOOKUP($D12,#REF!,2)))","v":{"$error":"#REF!"}},{"$f":"IF($D12=\"\",\"\",IF(VLOOKUP($D12,#REF!,3)=\"\",\"\",VLOOKUP($D12,#REF!,3)))","v":{"$error":"#REF!"}},{"$f":"IF($D12=\"\",\"\",IF(VLOOKUP($D12,#REF!,13)=\"\",\"\",VLOOKUP($D12,#REF!,13)))","v":{"$error":"#REF!"}},null,null,{"$error":"#REF!"},{"$error":"#REF!"},{"$error":"#REF!"},{"$f":"IF($D12=\"\",\"\",IF(VLOOKUP($D12,#REF!,15)=\"\",\"\",VLOOKUP($D12,#REF!,15)))","v":{"$error":"#REF!"}},"",{"$f":"IF($D12=\"\",\"\",IF(VLOOKUP($D12,#REF!,16)=\"\",\"\",VLOOKUP($D12,#REF!,16)))","v":{"$error":"#REF!"}},null,{"$error":"#REF!"},{"$error":"#REF!"},{"$error":"#REF!"},{"$error":"#REF!"},{"$error":"#REF!"},{"$error":"#REF!"}]
["2010-04-10","Lø","",121,{"$f":"IF($D13=\"\",\"\",IF(VLOOKUP($D13,#REF!,2)=0,\"\",VLOOKUP($D13,#REF!,2)))","v":{"$error":"#REF!"}},{"$f":"IF($D13=\"\",\"\",IF(VLOOKUP($D13,#REF!,3)=\"\",\"\",VLOOKUP($D13,#REF!,3)))","v":{"$error":"#REF!"}},{"$f":"IF($D13=\"\",\"\",IF(VLOOKUP($D13,#REF!,13)=\"\",\"\",VLOOKUP($D13,#REF!,13)))","v":{"$error":"#REF!"}},null,null,{"$error":"#REF!"},{"$error":"#REF!"},{"$error":"#REF!"},{"$f":"IF($D13=\"\",\"\",IF(VLOOKUP($D13,#REF!,15)=\"\",\"\",VLOOKUP($D13,#REF!,15)))","v":{"$error":"#REF!"}},"",{"$f":"IF($D13=\"\",\"\",IF(VLOOKUP($D13,#REF!,16)=\"\",\"\",VLOOKUP($D13,#REF!,16)))","v":{"$error":"#REF!"}},null,{"$error":"#REF!"},{"$error":"#REF!"},{"$error":"#REF!"},{"$error":"#REF!"},{"$error":"#REF!"},{"$error":"#REF!"}]
["2010-04-11","Sø","",606,{"$f":"IF($D14=\"\",\"\",IF(VLOOKUP($D14,#REF!,2)=0,\"\",VLOOKUP($D14,#REF!,2)))","v":{"$error":"#REF!"}},{"$f":"IF($D14=\"\",\"\",IF(VLOOKUP($D14,#REF!,3)=\"\",\"\",VLOOKUP($D14,#REF!,3)))","v":{"$error":"#REF!"}},{"$f":"IF($D14=\"\",\"\",IF(VLOOKUP($D14,#REF!,13)=\"\",\"\",VLOOKUP($D14,#REF!,13)))","v":{"$error":"#REF!"}},null,null,{"$error":"#REF!"},{"$error":"#REF!"},{"$error":"#REF!"},{"$f":"IF($D14=\"\",\"\",IF(VLOOKUP($D14,#REF!,15)=\"\",\"\",VLOOKUP($D14,#REF!,15)))","v":{"$error":"#REF!"}},"",{"$f":"IF($D14=\"\",\"\",IF(VLOOKUP($D14,#REF!,16)=\"\",\"\",VLOOKUP($D14,#REF!,16)))","v":{"$error":"#REF!"}},null,{"$error":"#REF!"},{"$error":"#REF!"},{"$error":"#REF!"},{"$error":"#REF!"},{"$error":"#REF!"},{"$error":"#REF!"}]
["2010-04-12","Ma","",606,{"$f":"IF($D15=\"\",\"\",IF(VLOOKUP($D15,#REF!,2)=0,\"\",VLOOKUP($D15,#REF!,2)))","v":{"$error":"#REF!"}},{"$f":"IF($D15=\"\",\"\",IF(VLOOKUP($D15,#REF!,3)=\"\",\"\",VLOOKUP($D15,#REF!,3)))","v":{"$error":"#REF!"}},{"$f":"IF($D15=\"\",\"\",IF(VLOOKUP($D15,#REF!,13)=\"\",\"\",VLOOKUP($D15,#REF!,13)))","v":{"$error":"#REF!"}},null,null,{"$error":"#REF!"},{"$error":"#REF!"},{"$error":"#REF!"},{"$f":"IF($D15=\"\",\"\",IF(VLOOKUP($D15,#REF!,15)=\"\",\"\",VLOOKUP($D15,#REF!,15)))","v":{"$error":"#REF!"}},"",{"$f":"IF($D15=\"\",\"\",IF(VLOOKUP($D15,#REF!,16)=\"\",\"\",VLOOKUP($D15,#REF!,16)))","v":{"$error":"#REF!"}},null,{"$error":"#REF!"},{"$error":"#REF!"},{"$error":"#REF!"},{"$error":"#REF!"},{"$error":"#REF!"},{"$error":"#REF!"}]
["2010-04-13","Ti","",127,{"$f":"IF($D16=\"\",\"\",IF(VLOOKUP($D16,#REF!,2)=0,\"\",VLOOKUP($D16,#REF!,2)))","v":{"$error":"#REF!"}},{"$f":"IF($D16=\"\",\"\",IF(VLOOKUP($D16,#REF!,3)=\"\",\"\",VLOOKUP($D16,#REF!,3)))","v":{"$error":"#REF!"}},{"$f":"IF($D16=\"\",\"\",IF(VLOOKUP($D16,#REF!,13)=\"\",\"\",VLOOKUP($D16,#REF!,13)))","v":{"$error":"#REF!"}},null,null,{"$error":"#REF!"},{"$error":"#REF!"},{"$error":"#REF!"},{"$f":"IF($D16=\"\",\"\",IF(VLOOKUP($D16,#REF!,15)=\"\",\"\",VLOOKUP($D16,#REF!,15)))","v":{"$error":"#REF!"}},"",{"$f":"IF($D16=\"\",\"\",IF(VLOOKUP($D16,#REF!,16)=\"\",\"\",VLOOKUP($D16,#REF!,16)))","v":{"$error":"#REF!"}},null,{"$error":"#REF!"},{"$error":"#REF!"},{"$error":"#REF!"},{"$error":"#REF!"},{"$error":"#REF!"},{"$error":"#REF!"}]
["2010-04-14","On","","x",{"$f":"IF($D17=\"\",\"\",IF(VLOOKUP($D17,#REF!,2)=0,\"\",VLOOKUP($D17,#REF!,2)))","v":{"$error":"#REF!"}},{"$f":"IF($D17=\"\",\"\",IF(VLOOKUP($D17,#REF!,3)=\"\",\"\",VLOOKUP($D17,#REF!,3)))","v":{"$error":"#REF!"}},{"$f":"IF($D17=\"\",\"\",IF(VLOOKUP($D17,#REF!,13)=\"\",\"\",VLOOKUP($D17,#REF!,13)))","v":{"$error":"#REF!"}},null,null,{"$error":"#REF!"},{"$error":"#REF!"},{"$error":"#REF!"},{"$f":"IF($D17=\"\",\"\",IF(VLOOKUP($D17,#REF!,15)=\"\",\"\",VLOOKUP($D17,#REF!,15)))","v":{"$error":"#REF!"}},"",{"$f":"IF($D17=\"\",\"\",IF(VLOOKUP($D17,#REF!,16)=\"\",\"\",VLOOKUP($D17,#REF!,16)))","v":{"$error":"#REF!"}},null,{"$error":"#REF!"},{"$error":"#REF!"},{"$error":"#REF!"},{"$error":"#REF!"},{"$error":"#REF!"},{"$error":"#REF!"}]
["2010-04-15","To","","x",{"$f":"IF($D18=\"\",\"\",IF(VLOOKUP($D18,#REF!,2)=0,\"\",VLOOKUP($D18,#REF!,2)))","v":{"$error":"#REF!"}},{"$f":"IF($D18=\"\",\"\",IF(VLOOKUP($D18,#REF!,3)=\"\",\"\",VLOOKUP($D18,#REF!,3)))","v":{"$error":"#REF!"}},{"$f":"IF($D18=\"\",\"\",IF(VLOOKUP($D18,#REF!,13)=\"\",\"\",VLOOKUP($D18,#REF!,13)))","v":{"$error":"#REF!"}},null,null,{"$error":"#REF!"},{"$error":"#REF!"},{"$error":"#REF!"},{"$f":"IF($D18=\"\",\"\",IF(VLOOKUP($D18,#REF!,15)=\"\",\"\",VLOOKUP($D18,#REF!,15)))","v":{"$error":"#REF!"}},"",{"$f":"IF($D18=\"\",\"\",IF(VLOOKUP($D18,#REF!,16)=\"\",\"\",VLOOKUP($D18,#REF!,16)))","v":{"$error":"#REF!"}},null,{"$error":"#REF!"},{"$error":"#REF!"},{"$error":"#REF!"},{"$error":"#REF!"},{"$error":"#REF!"},{"$error":"#REF!"}]
["2010-04-16","Fr","",142,{"$f":"IF($D19=\"\",\"\",IF(VLOOKUP($D19,#REF!,2)=0,\"\",VLOOKUP($D19,#REF!,2)))","v":{"$error":"#REF!"}},{"$f":"IF($D19=\"\",\"\",IF(VLOOKUP($D19,#REF!,3)=\"\",\"\",VLOOKUP($D19,#REF!,3)))","v":{"$error":"#REF!"}},{"$f":"IF($D19=\"\",\"\",IF(VLOOKUP($D19,#REF!,13)=\"\",\"\",VLOOKUP($D19,#REF!,13)))","v":{"$error":"#REF!"}},null,null,{"$error":"#REF!"},{"$error":"#REF!"},{"$error":"#REF!"},{"$f":"IF($D19=\"\",\"\",IF(VLOOKUP($D19,#REF!,15)=\"\",\"\",VLOOKUP($D19,#REF!,15)))","v":{"$error":"#REF!"}},"",{"$f":"IF($D19=\"\",\"\",IF(VLOOKUP($D19,#REF!,16)=\"\",\"\",VLOOKUP($D19,#REF!,16)))","v":{"$error":"#REF!"}},null,{"$error":"#REF!"},{"$error":"#REF!"},{"$error":"#REF!"},{"$error":"#REF!"},{"$error":"#REF!"},{"$error":"#REF!"}]
["2010-04-17","Lø","","143f",{"$f":"IF($D20=\"\",\"\",IF(VLOOKUP($D20,#REF!,2)=0,\"\",VLOOKUP($D20,#REF!,2)))","v":{"$error":"#REF!"}},{"$f":"IF($D20=\"\",\"\",IF(VLOOKUP($D20,#REF!,3)=\"\",\"\",VLOOKUP($D20,#REF!,3)))","v":{"$error":"#REF!"}},{"$f":"IF($D20=\"\",\"\",IF(VLOOKUP($D20,#REF!,13)=\"\",\"\",VLOOKUP($D20,#REF!,13)))","v":{"$error":"#REF!"}},null,null,{"$error":"#REF!"},{"$error":"#REF!"},{"$error":"#REF!"},{"$f":"IF($D20=\"\",\"\",IF(VLOOKUP($D20,#REF!,15)=\"\",\"\",VLOOKUP($D20,#REF!,15)))","v":{"$error":"#REF!"}},"",{"$f":"IF($D20=\"\",\"\",IF(VLOOKUP($D20,#REF!,16)=\"\",\"\",VLOOKUP($D20,#REF!,16)))","v":{"$error":"#REF!"}},null,{"$error":"#REF!"},{"$error":"#REF!"},{"$error":"#REF!"},{"$error":"#REF!"},{"$error":"#REF!"},{"$error":"#REF!"}]
["2010-04-18","Sø","",147,{"$f":"IF($D21=\"\",\"\",IF(VLOOKUP($D21,#REF!,2)=0,\"\",VLOOKUP($D21,#REF!,2)))","v":{"$error":"#REF!"}},{"$f":"IF($D21=\"\",\"\",IF(VLOOKUP($D21,#REF!,3)=\"\",\"\",VLOOKUP($D21,#REF!,3)))","v":{"$error":"#REF!"}},{"$f":"IF($D21=\"\",\"\",IF(VLOOKUP($D21,#REF!,13)=\"\",\"\",VLOOKUP($D21,#REF!,13)))","v":{"$error":"#REF!"}},null,null,{"$error":"#REF!"},{"$error":"#REF!"},{"$error":"#REF!"},{"$f":"IF($D21=\"\",\"\",IF(VLOOKUP($D21,#REF!,15)=\"\",\"\",VLOOKUP($D21,#REF!,15)))","v":{"$error":"#REF!"}},"",{"$f":"IF($D21=\"\",\"\",IF(VLOOKUP($D21,#REF!,16)=\"\",\"\",VLOOKUP($D21,#REF!,16)))","v":{"$error":"#REF!"}},null,{"$error":"#REF!"},{"$error":"#REF!"},{"$error":"#REF!"},{"$error":"#REF!"},{"$error":"#REF!"},{"$error":"#REF!"}]
["2010-04-19","Ma","",146,{"$f":"IF($D22=\"\",\"\",IF(VLOOKUP($D22,#REF!,2)=0,\"\",VLOOKUP($D22,#REF!,2)))","v":{"$error":"#REF!"}},{"$f":"IF($D22=\"\",\"\",IF(VLOOKUP($D22,#REF!,3)=\"\",\"\",VLOOKUP($D22,#REF!,3)))","v":{"$error":"#REF!"}},{"$f":"IF($D22=\"\",\"\",IF(VLOOKUP($D22,#REF!,13)=\"\",\"\",VLOOKUP($D22,#REF!,13)))","v":{"$error":"#REF!"}},null,null,{"$error":"#REF!"},{"$error":"#REF!"},{"$error":"#REF!"},{"$f":"IF($D22=\"\",\"\",IF(VLOOKUP($D22,#REF!,15)=\"\",\"\",VLOOKUP($D22,#REF!,15)))","v":{"$error":"#REF!"}},"",{"$f":"IF($D22=\"\",\"\",IF(VLOOKUP($D22,#REF!,16)=\"\",\"\",VLOOKUP($D22,#REF!,16)))","v":{"$error":"#REF!"}},null,{"$error":"#REF!"},{"$error":"#REF!"},{"$error":"#REF!"},{"$error":"#REF!"},{"$error":"#REF!"},{"$error":"#REF!"}]
["2010-04-20","Ti","",145,{"$f":"IF($D23=\"\",\"\",IF(VLOOKUP($D23,#REF!,2)=0,\"\",VLOOKUP($D23,#REF!,2)))","v":{"$error":"#REF!"}},{"$f":"IF($D23=\"\",\"\",IF(VLOOKUP($D23,#REF!,3)=\"\",\"\",VLOOKUP($D23,#REF!,3)))","v":{"$error":"#REF!"}},{"$f":"IF($D23=\"\",\"\",IF(VLOOKUP($D23,#REF!,13)=\"\",\"\",VLOOKUP($D23,#REF!,13)))","v":{"$error":"#REF!"}},null,null,{"$error":"#REF!"},{"$error":"#REF!"},{"$error":"#REF!"},{"$f":"IF($D23=\"\",\"\",IF(VLOOKUP($D23,#REF!,15)=\"\",\"\",VLOOKUP($D23,#REF!,15)))","v":{"$error":"#REF!"}},"",{"$f":"IF($D23=\"\",\"\",IF(VLOOKUP($D23,#REF!,16)=\"\",\"\",VLOOKUP($D23,#REF!,16)))","v":{"$error":"#REF!"}},null,{"$error":"#REF!"},{"$error":"#REF!"},{"$error":"#REF!"},{"$error":"#REF!"},{"$error":"#REF!"},{"$error":"#REF!"}]
["2010-04-21","On","","afsp.",{"$f":"IF($D24=\"\",\"\",IF(VLOOKUP($D24,#REF!,2)=0,\"\",VLOOKUP($D24,#REF!,2)))","v":{"$error":"#REF!"}},{"$f":"IF($D24=\"\",\"\",IF(VLOOKUP($D24,#REF!,3)=\"\",\"\",VLOOKUP($D24,#REF!,3)))","v":{"$error":"#REF!"}},{"$f":"IF($D24=\"\",\"\",IF(VLOOKUP($D24,#REF!,13)=\"\",\"\",VLOOKUP($D24,#REF!,13)))","v":{"$error":"#REF!"}},null,null,{"$error":"#REF!"},{"$error":"#REF!"},{"$error":"#REF!"},{"$f":"IF($D24=\"\",\"\",IF(VLOOKUP($D24,#REF!,15)=\"\",\"\",VLOOKUP($D24,#REF!,15)))","v":{"$error":"#REF!"}},"",{"$f":"IF($D24=\"\",\"\",IF(VLOOKUP($D24,#REF!,16)=\"\",\"\",VLOOKUP($D24,#REF!,16)))","v":{"$error":"#REF!"}},null,{"$error":"#REF!"},{"$error":"#REF!"},{"$error":"#REF!"},{"$error":"#REF!"},{"$error":"#REF!"},{"$error":"#REF!"}]
["2010-04-22","To","",715,{"$f":"IF($D25=\"\",\"\",IF(VLOOKUP($D25,#REF!,2)=0,\"\",VLOOKUP($D25,#REF!,2)))","v":{"$error":"#REF!"}},{"$f":"IF($D25=\"\",\"\",IF(VLOOKUP($D25,#REF!,3)=\"\",\"\",VLOOKUP($D25,#REF!,3)))","v":{"$error":"#REF!"}},{"$f":"IF($D25=\"\",\"\",IF(VLOOKUP($D25,#REF!,13)=\"\",\"\",VLOOKUP($D25,#REF!,13)))","v":{"$error":"#REF!"}},null,null,{"$error":"#REF!"},{"$error":"#REF!"},{"$error":"#REF!"},{"$f":"IF($D25=\"\",\"\",IF(VLOOKUP($D25,#REF!,15)=\"\",\"\",VLOOKUP($D25,#REF!,15)))","v":{"$error":"#REF!"}},"",{"$f":"IF($D25=\"\",\"\",IF(VLOOKUP($D25,#REF!,16)=\"\",\"\",VLOOKUP($D25,#REF!,16)))","v":{"$error":"#REF!"}},null,{"$error":"#REF!"},{"$error":"#REF!"},{"$error":"#REF!"},{"$error":"#REF!"},{"$error":"#REF!"},{"$error":"#REF!"}]
["2010-04-23","Fr","",null,{"$f":"IF($D26=\"\",\"\",IF(VLOOKUP($D26,#REF!,2)=0,\"\",VLOOKUP($D26,#REF!,2)))","v":""},{"$f":"IF($D26=\"\",\"\",IF(VLOOKUP($D26,#REF!,3)=\"\",\"\",VLOOKUP($D26,#REF!,3)))","v":""},{"$f":"IF($D26=\"\",\"\",IF(VLOOKUP($D26,#REF!,13)=\"\",\"\",VLOOKUP($D26,#REF!,13)))","v":""},null,null,"","","",{"$f":"IF($D26=\"\",\"\",IF(VLOOKUP($D26,#REF!,15)=\"\",\"\",VLOOKUP($D26,#REF!,15)))","v":""},"",{"$f":"IF($D26=\"\",\"\",IF(VLOOKUP($D26,#REF!,16)=\"\",\"\",VLOOKUP($D26,#REF!,16)))","v":""},null,"","","","","",""]
["2010-04-24","Lø","",612,{"$f":"IF($D27=\"\",\"\",IF(VLOOKUP($D27,#REF!,2)=0,\"\",VLOOKUP($D27,#REF!,2)))","v":{"$error":"#REF!"}},{"$f":"IF($D27=\"\",\"\",IF(VLOOKUP($D27,#REF!,3)=\"\",\"\",VLOOKUP($D27,#REF!,3)))","v":{"$error":"#REF!"}},{"$f":"IF($D27=\"\",\"\",IF(VLOOKUP($D27,#REF!,13)=\"\",\"\",VLOOKUP($D27,#REF!,13)))","v":{"$error":"#REF!"}},null,null,{"$error":"#REF!"},{"$error":"#REF!"},{"$error":"#REF!"},{"$f":"IF($D27=\"\",\"\",IF(VLOOKUP($D27,#REF!,15)=\"\",\"\",VLOOKUP($D27,#REF!,15)))","v":{"$error":"#REF!"}},"",{"$f":"IF($D27=\"\",\"\",IF(VLOOKUP($D27,#REF!,16)=\"\",\"\",VLOOKUP($D27,#REF!,16)))","v":{"$error":"#REF!"}},null,{"$error":"#REF!"},{"$error":"#REF!"},{"$error":"#REF!"},{"$error":"#REF!"},{"$error":"#REF!"},{"$error":"#REF!"}]
["2010-04-25","Sø","",null,{"$f":"IF($D28=\"\",\"\",IF(VLOOKUP($D28,#REF!,2)=0,\"\",VLOOKUP($D28,#REF!,2)))","v":""},{"$f":"IF($D28=\"\",\"\",IF(VLOOKUP($D28,#REF!,3)=\"\",\"\",VLOOKUP($D28,#REF!,3)))","v":""},{"$f":"IF($D28=\"\",\"\",IF(VLOOKUP($D28,#REF!,13)=\"\",\"\",VLOOKUP($D28,#REF!,13)))","v":""},null,null,"","","",{"$f":"IF($D28=\"\",\"\",IF(VLOOKUP($D28,#REF!,15)=\"\",\"\",VLOOKUP($D28,#REF!,15)))","v":""},"",{"$f":"IF($D28=\"\",\"\",IF(VLOOKUP($D28,#REF!,16)=\"\",\"\",VLOOKUP($D28,#REF!,16)))","v":""},null,"","","","","",""]
["2010-04-26","Ma","",null,{"$f":"IF($D29=\"\",\"\",IF(VLOOKUP($D29,#REF!,2)=0,\"\",VLOOKUP($D29,#REF!,2)))","v":""},{"$f":"IF($D29=\"\",\"\",IF(VLOOKUP($D29,#REF!,3)=\"\",\"\",VLOOKUP($D29,#REF!,3)))","v":""},{"$f":"IF($D29=\"\",\"\",IF(VLOOKUP($D29,#REF!,13)=\"\",\"\",VLOOKUP($D29,#REF!,13)))","v":""},null,null,"","","",{"$f":"IF($D29=\"\",\"\",IF(VLOOKUP($D29,#REF!,15)=\"\",\"\",VLOOKUP($D29,#REF!,15)))","v":""},"",{"$f":"IF($D29=\"\",\"\",IF(VLOOKUP($D29,#REF!,16)=\"\",\"\",VLOOKUP($D29,#REF!,16)))","v":""},null,"","","","","",""]
["2010-04-27","Ti","",null,{"$f":"IF($D30=\"\",\"\",IF(VLOOKUP($D30,#REF!,2)=0,\"\",VLOOKUP($D30,#REF!,2)))","v":""},{"$f":"IF($D30=\"\",\"\",IF(VLOOKUP($D30,#REF!,3)=\"\",\"\",VLOOKUP($D30,#REF!,3)))","v":""},{"$f":"IF($D30=\"\",\"\",IF(VLOOKUP($D30,#REF!,13)=\"\",\"\",VLOOKUP($D30,#REF!,13)))","v":""},null,null,"","","",{"$f":"IF($D30=\"\",\"\",IF(VLOOKUP($D30,#REF!,15)=\"\",\"\",VLOOKUP($D30,#REF!,15)))","v":""},"",{"$f":"IF($D30=\"\",\"\",IF(VLOOKUP($D30,#REF!,16)=\"\",\"\",VLOOKUP($D30,#REF!,16)))","v":""},null,"","","","","",""]
["2010-04-28","On","","afsp.",{"$f":"IF($D31=\"\",\"\",IF(VLOOKUP($D31,#REF!,2)=0,\"\",VLOOKUP($D31,#REF!,2)))","v":{"$error":"#REF!"}},{"$f":"IF($D31=\"\",\"\",IF(VLOOKUP($D31,#REF!,3)=\"\",\"\",VLOOKUP($D31,#REF!,3)))","v":{"$error":"#REF!"}},{"$f":"IF($D31=\"\",\"\",IF(VLOOKUP($D31,#REF!,13)=\"\",\"\",VLOOKUP($D31,#REF!,13)))","v":{"$error":"#REF!"}},null,null,{"$error":"#REF!"},{"$error":"#REF!"},{"$error":"#REF!"},{"$f":"IF($D31=\"\",\"\",IF(VLOOKUP($D31,#REF!,15)=\"\",\"\",VLOOKUP($D31,#REF!,15)))","v":{"$error":"#REF!"}},"",{"$f":"IF($D31=\"\",\"\",IF(VLOOKUP($D31,#REF!,16)=\"\",\"\",VLOOKUP($D31,#REF!,16)))","v":{"$error":"#REF!"}},null,{"$error":"#REF!"},{"$error":"#REF!"},{"$error":"#REF!"},{"$error":"#REF!"},{"$error":"#REF!"},{"$error":"#REF!"}]
["2010-04-29",{"$f":"IF(A32=\"\",\"\",PROPER(TEXT(A32,\"ddd\")))","v":"To"},"","afsp.",{"$f":"IF($D32=\"\",\"\",IF(VLOOKUP($D32,#REF!,2)=0,\"\",VLOOKUP($D32,#REF!,2)))","v":{"$error":"#REF!"}},{"$f":"IF($D32=\"\",\"\",IF(VLOOKUP($D32,#REF!,3)=\"\",\"\",VLOOKUP($D32,#REF!,3)))","v":{"$error":"#REF!"}},{"$f":"IF($D32=\"\",\"\",IF(VLOOKUP($D32,#REF!,13)=\"\",\"\",VLOOKUP($D32,#REF!,13)))","v":{"$error":"#REF!"}},null,null,{"$error":"#REF!"},{"$error":"#REF!"},{"$error":"#REF!"},{"$f":"IF($D32=\"\",\"\",IF(VLOOKUP($D32,#REF!,15)=\"\",\"\",VLOOKUP($D32,#REF!,15)))","v":{"$error":"#REF!"}},"",{"$f":"IF($D32=\"\",\"\",IF(VLOOKUP($D32,#REF!,16)=\"\",\"\",VLOOKUP($D32,#REF!,16)))","v":{"$error":"#REF!"}},null,{"$error":"#REF!"},{"$error":"#REF!"},{"$error":"#REF!"},{"$error":"#REF!"},{"$error":"#REF!"},{"$error":"#REF!"}]
["2010-04-30",{"$f":"IF(A33=\"\",\"\",PROPER(TEXT(A33,\"ddd\")))","v":"Fr"},"Store Bededag","x",{"$f":"IF($D33=\"\",\"\",IF(VLOOKUP($D33,#REF!,2)=0,\"\",VLOOKUP($D33,#REF!,2)))","v":{"$error":"#REF!"}},{"$f":"IF($D33=\"\",\"\",IF(VLOOKUP($D33,#REF!,3)=\"\",\"\",VLOOKUP($D33,#REF!,3)))","v":{"$error":"#REF!"}},{"$f":"IF($D33=\"\",\"\",IF(VLOOKUP($D33,#REF!,13)=\"\",\"\",VLOOKUP($D33,#REF!,13)))","v":{"$error":"#REF!"}},null,null,{"$error":"#REF!"},{"$error":"#REF!"},{"$error":"#REF!"},{"$f":"IF($D33=\"\",\"\",IF(VLOOKUP($D33,#REF!,15)=\"\",\"\",VLOOKUP($D33,#REF!,15)))","v":{"$error":"#REF!"}},"",{"$f":"IF($D33=\"\",\"\",IF(VLOOKUP($D33,#REF!,16)=\"\",\"\",VLOOKUP($D33,#REF!,16)))","v":{"$error":"#REF!"}},null,{"$error":"#REF!"},{"$error":"#REF!"},{"$error":"#REF!"},{"$error":"#REF!"},{"$error":"#REF!"},{"$error":"#REF!"}]
[null,{"$f":"IF(A34=\"\",\"\",PROPER(TEXT(A34,\"ddd\")))","v":""},"",null,{"$f":"IF($D34=\"\",\"\",IF(VLOOKUP($D34,#REF!,2)=0,\"\",VLOOKUP($D34,#REF!,2)))","v":""},{"$f":"IF($D34=\"\",\"\",IF(VLOOKUP($D34,#REF!,3)=\"\",\"\",VLOOKUP($D34,#REF!,3)))","v":""},{"$f":"IF($D34=\"\",\"\",IF(VLOOKUP($D34,#REF!,13)=\"\",\"\",VLOOKUP($D34,#REF!,13)))","v":""},null,null,"","","",{"$f":"IF($D34=\"\",\"\",IF(VLOOKUP($D34,#REF!,15)=\"\",\"\",VLOOKUP($D34,#REF!,15)))","v":""},"",{"$f":"IF($D34=\"\",\"\",IF(VLOOKUP($D34,#REF!,16)=\"\",\"\",VLOOKUP($D34,#REF!,16)))","v":""},null,"","","","","",""]
["Total timer",null,null,null,null,null,{"$f":"IF(SUM(G9:G34)<>\"0\",SUM(G4:G34),\"\")","v":{"$error":"#REF!"}},{"$f":"IF(SUM(H4:H34)<>\"0\",SUM(H4:H34),\"\")","v":0},0,{"$error":"#REF!"},{"$error":"#REF!"},{"$error":"#REF!"},{"$error":"#REF!"},{"$f":"SUM(N4:N34)","v":0},{"$f":"SUM(O4:O34)","v":{"$error":"#REF!"}}]
["Timer 1/100",null,null,null,null,null,{"$f":"IF(G35<>\"\",ROUND(G35*24,2),\"\")","v":{"$error":"#REF!"}},{"$f":"IF(H35<>\"\",ROUND(H35*24,2),\"\")","v":0},0,{"$error":"#REF!"},{"$error":"#REF!"},{"$error":"#REF!"},null,0,{"$error":"#REF!"}]
["Satser",null,null,null,null,null,{"$f":"Satser!B7","v":125.76},{"$f":"Satser!B9","v":59.81},{"$f":"Satser!B12","v":119.62},18.8,21.81,28.68,67]
[null,null,null,null,null,null,{"$f":"IF(G35<>\"\",G36*G37,\"\")","v":{"$error":"#REF!"}},0,0,{"$error":"#REF!"},{"$error":"#REF!"},{"$error":"#REF!"},{"$f":"IF(M35<>\"\",M35*M37,\"\")","v":{"$error":"#REF!"}}]
[]
["Lønart"]
[3025,null,null,null,null,null,{"$f":"G35","v":{"$error":"#REF!"}}]
[3425,null,null,null,null,null,{"$f":"H35","v":0}]
[3426,null,null,null,null,null,{"$f":"I35","v":0}]
["Timer",null,null,null,null,null,{"$f":"SUM(G41:G43)","v":{"$error":"#REF!"}},{"$f":"IF(G44<>\"\",ROUND(G44*24,2),\"\")","v":{"$error":"#REF!"}}]
[null,null,null,null,null,null,null,{"$f":"G37*H44","v":{"$error":"#REF!"}}]

{"sheet":"Hele Året","index":1,"n_rows":394,"n_cols":31,"rows_kept":394,"cut":false,"hidden":false,"merged":[[0,0,0,2],[13,20,13,21],[14,20,14,21],[15,20,15,21],[16,20,16,21],[7,20,7,21],[8,20,8,21],[371,20,371,21],[372,20,372,21],[9,20,9,21],[10,20,10,21],[11,20,11,21],[370,20,370,21],[12,20,12,21],[62,20,62,21],[25,20,25,21],[26,20,26,21],[27,20,27,21],[28,20,28,21],[29,20,29,21],[20,20,20,21],[21,20,21,21],[22,20,22,21],[19,20,19,21],[23,20,23,21],[382,0,382,2],[2,1,2,2],[4,1,4,2],[378,0,378,2],[379,0,379,2],[12,18,12,19],[13,18,13,19],[14,18,14,19],[19,18,19,19],[26,18,26,19],[15,18,15,19],[16,18,16,19],[17,18,17,19],[18,18,18,19],[20,18,20,19],[21,18,21,19],[7,18,7,19],[371,0,371,4],[372,0,372,4],[373,0,373,4],[8,18,8,19],[9,18,9,19],[10,18,10,19],[11,18,11,19],[380,18,380,19],[1,1,1,9],[2,18,2,19],[4,18,4,19],[5,18,5,19],[6,18,6,19],[1,19,1,20],[2,20,2,21],[4,20,4,21],[5,20,5,21],[6,20,6,21],[3,20,3,21],[3,18,3,19],[374,18,374,19],[31,18,31,19],[62,18,62,19],[371,18,371,19],[366,18,366,19],[369,18,369,19],[370,18,370,19],[30,20,30,21],[31,20,31,21],[17,20,17,21],[18,20,18,21],[372,18,372,19],[373,18,373,19],[29,18,29,19],[30,18,30,19],[22,18,22,19],[23,18,23,19],[24,18,24,19],[25,18,25,19],[28,18,28,19],[27,18,27,19],[33,18,33,19],[38,18,38,19],[43,18,43,19],[48,18,48,19],[53,18,53,19],[58,18,58,19],[64,18,64,19],[69,18,69,19],[74,18,74,19],[79,18,79,19],[84,18,84,19],[89,18,89,19],[94,18,94,19],[99,18,99,19],[24,20,24,21],[366,20,366,21],[369,20,369,21],[373,20,373,21],[374,0,374,4],[375,0,375,4],[380,20,380,21],[381,18,381,19],[381,20,381,21],[377,18,377,19],[377,20,377,21],[378,18,378,19],[378,20,378,21],[379,18,379,19],[379,20,379,21],[374,20,374,21],[376,20,376,21],[375,20,375,21],[376,18,376,19],[375,18,375,19],[380,0,380,2],[381,0,381,2],[32,18,32,19],[32,20,32,21],[33,20,33,21],[34,18,34,19],[34,20,34,21],[35,18,35,19],[35,20,35,21],[36,18,36,19],[36,20,36,21],[37,18,37,19],[37,20,37,21],[38,20,38,21],[39,18,39,19],[39,20,39,21],[40,18,40,19],[40,20,40,21],[41,18,41,19],[41,20,41,21],[42,18,42,19],[42,20,42,21],[43,20,43,21],[44,18,44,19],[44,20,44,21],[45,18,45,19],[45,20,45,21],[46,18,46,19],[46,20,46,21],[47,18,47,19],[47,20,47,21],[48,20,48,21],[49,18,49,19],[49,20,49,21],[50,18,50,19],[50,20,50,21],[51,18,51,19],[51,20,51,21],[52,18,52,19],[52,20,52,21],[53,20,53,21],[54,18,54,19],[54,20,54,21],[55,18,55,19],[55,20,55,21],[56,18,56,19],[56,20,56,21],[57,18,57,19],[57,20,57,21],[58,20,58,21],[59,18,59,19],[59,20,59,21],[60,18,60,19],[60,20,60,21],[61,18,61,19],[61,20,61,21],[63,18,63,19],[63,20,63,21],[64,20,64,21],[65,18,65,19],[65,20,65,21],[66,18,66,19],[66,20,66,21],[67,18,67,19],[67,20,67,21],[68,18,68,19],[68,20,68,21],[69,20,69,21],[70,18,70,19],[70,20,70,21],[71,18,71,19],[71,20,71,21],[72,18,72,19],[72,20,72,21],[73,18,73,19],[73,20,73,21],[74,20,74,21],[75,18,75,19],[75,20,75,21],[76,18,76,19],[76,20,76,21],[77,18,77,19],[77,20,77,21],[78,18,78,19],[78,20,78,21],[79,20,79,21],[80,18,80,19],[80,20,80,21],[81,18,81,19],[81,20,81,21],[82,18,82,19],[82,20,82,21],[83,18,83,19],[83,20,83,21],[84,20,84,21],[85,18,85,19],[85,20,85,21],[86,18,86,19],[86,20,86,21],[87,18,87,19],[87,20,87,21],[88,18,88,19],[88,20,88,21],[89,20,89,21],[90,18,90,19],[90,20,90,21],[91,18,91,19],[91,20,91,21],[92,18,92,19],[92,20,92,21],[93,18,93,19],[93,20,93,21],[94,20,94,21],[95,18,95,19],[95,20,95,21],[96,18,96,19],[96,20,96,21],[97,18,97,19],[97,20,97,21],[98,18,98,19],[98,20,98,21],[99,20,99,21],[100,18,100,19],[100,20,100,21],[101,18,101,19],[101,20,101,21],[102,18,102,19],[102,20,102,21],[103,18,103,19],[103,20,103,21],[104,18,104,19],[104,20,104,21],[105,18,105,19],[105,20,105,21],[106,18,106,19],[106,20,106,21],[107,18,107,19],[107,20,107,21],[108,18,108,19],[108,20,108,21],[109,18,109,19],[109,20,109,21],[110,18,110,19],[110,20,110,21],[111,18,111,19],[111,20,111,21],[112,18,112,19],[112,20,112,21],[113,18,113,19],[113,20,113,21],[114,18,114,19],[114,20,114,21],[115,18,115,19],[115,20,115,21],[116,18,116,19],[116,20,116,21],[117,18,117,19],[117,20,117,21],[118,18,118,19],[118,20,118,21],[119,18,119,19],[119,20,119,21],[120,18,120,19],[120,20,120,21],[121,18,121,19],[121,20,121,21],[122,18,122,19],[122,20,122,21],[123,18,123,19],[123,20,123,21],[124,18,124,19],[124,20,124,21],[125,18,125,19],[125,20,125,21],[126,18,126,19],[126,20,126,21],[127,18,127,19],[127,20,127,21],[128,18,128,19],[128,20,128,21],[129,18,129,19],[129,20,129,21],[130,18,130,19],[130,20,130,21],[131,18,131,19],[131,20,131,21],[132,18,132,19],[132,20,132,21],[133,18,133,19],[133,20,133,21],[134,18,134,19],[134,20,134,21],[135,18,135,19],[135,20,135,21],[136,18,136,19],[136,20,136,21],[137,18,137,19],[137,20,137,21],[138,18,138,19],[138,20,138,21],[139,18,139,19],[139,20,139,21],[140,18,140,19],[140,20,140,21],[141,18,141,19],[141,20,141,21],[142,18,142,19],[142,20,142,21],[143,18,143,19],[143,20,143,21],[144,18,144,19],[144,20,144,21],[145,18,145,19],[145,20,145,21],[146,18,146,19],[146,20,146,21],[147,18,147,19],[147,20,147,21],[148,18,148,19],[148,20,148,21],[149,18,149,19],[149,20,149,21],[150,18,150,19],[150,20,150,21],[151,18,151,19],[151,20,151,21],[152,18,152,19],[152,20,152,21],[153,18,153,19],[153,20,153,21],[154,18,154,19],[154,20,154,21],[155,18,155,19],[155,20,155,21],[156,18,156,19],[156,20,156,21],[157,18,157,19],[157,20,157,21],[158,18,158,19],[158,20,158,21],[159,18,159,19],[159,20,159,21],[160,18,160,19],[160,20,160,21],[161,18,161,19],[161,20,161,21],[162,18,162,19],[162,20,162,21],[163,18,163,19],[163,20,163,21],[164,18,164,19],[164,20,164,21],[165,18,165,19],[165,20,165,21],[166,18,166,19],[166,20,166,21],[167,18,167,19],[167,20,167,21],[168,18,168,19],[168,20,168,21],[169,18,169,19],[169,20,169,21],[170,18,170,19],[170,20,170,21],[171,18,171,19],[171,20,171,21],[172,18,172,19],[172,20,172,21],[173,18,173,19],[173,20,173,21],[174,18,174,19],[174,20,174,21],[175,18,175,19],[175,20,175,21],[176,18,176,19],[176,20,176,21],[177,18,177,19],[177,20,177,21],[178,18,178,19],[178,20,178,21],[179,18,179,19],[179,20,179,21],[180,18,180,19],[180,20,180,21],[181,18,181,19],[181,20,181,21],[182,18,182,19],[182,20,182,21],[183,18,183,19],[183,20,183,21],[184,18,184,19],[184,20,184,21],[185,18,185,19],[185,20,185,21],[186,18,186,19],[186,20,186,21],[187,18,187,19],[187,20,187,21],[188,18,188,19],[188,20,188,21],[189,18,189,19],[189,20,189,21],[190,18,190,19],[190,20,190,21],[191,18,191,19],[191,20,191,21],[192,18,192,19],[192,20,192,21],[193,18,193,19],[193,20,193,21],[194,18,194,19],[194,20,194,21],[195,18,195,19],[195,20,195,21],[196,18,196,19],[196,20,196,21],[197,18,197,19],[197,20,197,21],[198,18,198,19],[198,20,198,21],[199,18,199,19],[199,20,199,21],[200,18,200,19],[200,20,200,21],[201,18,201,19],[201,20,201,21],[202,18,202,19],[202,20,202,21],[203,18,203,19],[203,20,203,21],[204,18,204,19],[204,20,204,21],[205,18,205,19],[205,20,205,21],[206,18,206,19],[206,20,206,21],[207,18,207,19],[207,20,207,21],[208,18,208,19],[208,20,208,21],[209,18,209,19],[209,20,209,21],[210,18,210,19],[210,20,210,21],[211,18,211,19],[211,20,211,21],[212,18,212,19],[212,20,212,21],[213,18,213,19],[213,20,213,21],[214,18,214,19],[214,20,214,21],[215,18,215,19],[215,20,215,21],[216,18,216,19],[216,20,216,21],[217,18,217,19],[217,20,217,21],[218,18,218,19],[218,20,218,21],[219,18,219,19],[219,20,219,21],[220,18,220,19],[220,20,220,21],[221,18,221,19],[221,20,221,21],[222,18,222,19],[222,20,222,21],[223,18,223,19],[223,20,223,21],[224,18,224,19],[224,20,224,21],[225,18,225,19],[225,20,225,21],[226,18,226,19],[226,20,226,21],[227,18,227,19],[227,20,227,21],[228,18,228,19],[228,20,228,21],[229,18,229,19],[229,20,229,21],[230,18,230,19],[230,20,230,21],[231,18,231,19],[231,20,231,21],[232,18,232,19],[232,20,232,21],[233,18,233,19],[233,20,233,21],[234,18,234,19],[234,20,234,21],[235,18,235,19],[235,20,235,21],[236,18,236,19],[236,20,236,21],[237,18,237,19],[237,20,237,21],[238,18,238,19],[238,20,238,21],[239,18,239,19],[239,20,239,21],[240,18,240,19],[240,20,240,21],[241,18,241,19],[241,20,241,21],[242,18,242,19],[242,20,242,21],[243,18,243,19],[243,20,243,21],[244,18,244,19],[244,20,244,21],[245,18,245,19],[245,20,245,21],[246,18,246,19],[246,20,246,21],[247,18,247,19],[247,20,247,21],[248,18,248,19],[248,20,248,21],[249,18,249,19],[249,20,249,21],[250,18,250,19],[250,20,250,21],[251,18,251,19],[251,20,251,21],[252,18,252,19],[252,20,252,21],[253,18,253,19],[253,20,253,21],[254,18,254,19],[254,20,254,21],[255,18,255,19],[255,20,255,21],[256,18,256,19],[256,20,256,21],[257,18,257,19],[257,20,257,21],[258,18,258,19],[258,20,258,21],[259,18,259,19],[259,20,259,21],[260,18,260,19],[260,20,260,21],[261,18,261,19],[261,20,261,21],[262,18,262,19],[262,20,262,21],[263,18,263,19],[263,20,263,21],[264,18,264,19],[264,20,264,21],[265,18,265,19],[265,20,265,21],[266,18,266,19],[266,20,266,21],[267,18,267,19],[267,20,267,21],[268,18,268,19],[268,20,268,21],[269,18,269,19],[269,20,269,21],[270,18,270,19],[270,20,270,21],[271,18,271,19],[271,20,271,21],[272,18,272,19],[272,20,272,21],[273,18,273,19],[273,20,273,21],[274,18,274,19],[274,20,274,21],[275,18,275,19],[275,20,275,21],[276,18,276,19],[276,20,276,21],[277,18,277,19],[277,20,277,21],[278,18,278,19],[278,20,278,21],[279,18,279,19],[279,20,279,21],[280,18,280,19],[280,20,280,21],[281,18,281,19],[281,20,281,21],[282,18,282,19],[282,20,282,21],[283,18,283,19],[283,20,283,21],[284,18,284,19],[284,20,284,21],[285,18,285,19],[285,20,285,21],[286,18,286,19],[286,20,286,21],[287,18,287,19],[287,20,287,21],[288,18,288,19],[288,20,288,21],[289,18,289,19],[289,20,289,21],[290,18,290,19],[290,20,290,21],[291,18,291,19],[291,20,291,21],[292,18,292,19],[292,20,292,21],[293,18,293,19],[293,20,293,21],[294,18,294,19],[294,20,294,21],[295,18,295,19],[295,20,295,21],[296,18,296,19],[296,20,296,21],[297,18,297,19],[297,20,297,21],[298,18,298,19],[298,20,298,21],[299,18,299,19],[299,20,299,21],[300,18,300,19],[300,20,300,21],[301,18,301,19],[301,20,301,21],[302,18,302,19],[302,20,302,21],[303,18,303,19],[303,20,303,21],[304,18,304,19],[304,20,304,21],[305,18,305,19],[305,20,305,21],[306,18,306,19],[306,20,306,21],[307,18,307,19],[307,20,307,21],[308,18,308,19],[308,20,308,21],[309,18,309,19],[309,20,309,21],[310,18,310,19],[310,20,310,21],[311,18,311,19],[311,20,311,21],[312,18,312,19],[312,20,312,21],[313,18,313,19],[313,20,313,21],[314,18,314,19],[314,20,314,21],[315,18,315,19],[315,20,315,21],[316,18,316,19],[316,20,316,21],[317,18,317,19],[317,20,317,21],[318,18,318,19],[318,20,318,21],[319,18,319,19],[319,20,319,21],[320,18,320,19],[320,20,320,21],[321,18,321,19],[321,20,321,21],[322,18,322,19],[322,20,322,21],[323,18,323,19],[323,20,323,21],[324,18,324,19],[324,20,324,21],[325,18,325,19],[325,20,325,21],[326,18,326,19],[326,20,326,21],[327,18,327,19],[327,20,327,21],[328,18,328,19],[328,20,328,21],[329,18,329,19],[329,20,329,21],[330,18,330,19],[330,20,330,21],[331,18,331,19],[331,20,331,21],[332,18,332,19],[332,20,332,21],[333,18,333,19],[333,20,333,21],[334,18,334,19],[334,20,334,21],[335,18,335,19],[335,20,335,21],[336,18,336,19],[336,20,336,21],[337,18,337,19],[337,20,337,21],[338,18,338,19],[338,20,338,21],[339,18,339,19],[339,20,339,21],[340,18,340,19],[340,20,340,21],[341,18,341,19],[341,20,341,21],[342,18,342,19],[342,20,342,21],[343,18,343,19],[343,20,343,21],[344,18,344,19],[344,20,344,21],[345,18,345,19],[345,20,345,21],[346,18,346,19],[346,20,346,21],[347,18,347,19],[347,20,347,21],[348,18,348,19],[348,20,348,21],[356,20,356,21],[357,18,357,19],[357,20,357,21],[358,18,358,19],[358,20,358,21],[349,18,349,19],[349,20,349,21],[350,18,350,19],[350,20,350,21],[351,18,351,19],[351,20,351,21],[352,18,352,19],[352,20,352,21],[353,18,353,19],[353,20,353,21],[364,18,364,19],[364,20,364,21],[365,18,365,19],[365,20,365,21],[367,18,367,19],[368,18,368,19],[367,20,367,21],[368,20,368,21],[2,24,2,25],[359,18,359,19],[359,20,359,21],[360,18,360,19],[360,20,360,21],[361,18,361,19],[361,20,361,21],[362,18,362,19],[362,20,362,21],[363,18,363,19],[363,20,363,21],[354,18,354,19],[354,20,354,21],[355,18,355,19],[355,20,355,21],[356,18,356,19]]}
["Timeseddel med Gl. danske helligdage"]
["Løn",{"$f":"PROPER(TEXT(A6,\"dd mmmm åååå\")) & PROPER(TEXT(AE2,\"  -  dd mmmm åååå\"))","v":"01 Januar 2020  -  31 December 2020"},null,null,null,null,null,null,null,null,null,null,null,null,null,null,null,"Uge :",{"$f":"IF(A6=\"\",\"\",TRUNC((A6-WEEKDAY(A6,2)-DATE(YEAR(A6+4-WEEKDAY(A6,2)),1,-10))/7))","v":1},"-",null,{"$f":"IF(A27=\"\",\"\",TRUNC((A27-WEEKDAY(A27,2)-DATE(YEAR(A27+4-WEEKDAY(A27,2)),1,-10))/7))","v":4},null,"År: ",2020,null,null,null,null,null,{"$f":"IF(A367=\"\",A63,IF(A370=\"\",A367,IF(A371=\"\",A370,A371)))","v":"2020-12-31"}]
["Lønart",null,null,null,null,null,null,null,null,"7-15","7-15","15-23","15-23","15-23","23-00","23-00","23-00","00-07","00-07",null,"00-07",null,null,null,"vinterferie er i Uge nr.:"]
[null,null,null,null,null,null,null,null,null,"Lø-sø","Helligdage","Ma-fr","Lø-sø","Helligdage","Ma-to","fr-sø","helligdage","Man/lø-sø","ti-fr",null,"helligdage",null,null,"Fastelavn",{"$f":"Påskedag(Y2)-49","v":"2020-02-23"},{"$f":"IF(SUM(Y4)<2,\"\",1+INT((Y4-DATE(YEAR(Y4+4-WEEKDAY(Y4+6)),1,5)+WEEKDAY(DATE(YEAR(Y4+4-WEEKDAY(Y4+6)),1,3)))/7))+1","v":9}]
["Dato","Dag",null,"Start","Slut","Arb. Tid","Norm",null,null,"Dag\n07-15","Dag\n07-15","Aftenstillæg\nMan-Fre\n15-23","Aftenstillæg\nLør-Søn\n15-23","Aftenstillæg\nHeligdage\n15-23","Aftenstillæg\nMan-Tor\n23-24","Aftenstillæg\nFre-Søn\n23-24","Aftenstillæg\nHelligdage\n23-24","Nattillæg\nMan/Lø-Sø\n00-07","Nattillæg\nTir-Fre\n00-07",null,"Nattillæg\nHeligdage\n00-07"]
[{"$f":"DATE(Y2,1,1)","v":"2020-01-01"},{"$f":"PROPER(TEXT(A6,\"ddd\"))","v":"On"},{"$f":"HelligdagsNavn(A6,0,0)","v":"Nytårsdag"},"22:00:00","06:00:00",{"$f":"IF(D6=\"\",\"\",(E6-D6)+(D6>E6))","v":"08:00:00"},null,null,null,{"$f":"IF(OR(AND(C6<>\"\",D6>E6,WEEKDAY(A6,2)=5),AND(C6=\"\",WEEKDAY(A6,2)>5)),IF(D6=\"\",\"\",ColTime(Data!$J$3,Data!$L$3,D6,E6)),\"\")","v":""},{"$f":"IF(C6<>\"\",IF(D6=\"\",\"\",(IF(E6-MAX(D6,(7/24))+(E6<D6)<0,0,E6-MAX(D6,(7/24))+(E6<D6)))-(IF((E6-MAX(D6,(15/24))+(E6<D6))<0,0,(E6-MAX(D6,(15/24))+(E6<D6))))),\"\")","v":"00:00:00"},{"$f":"IF(AND(C6=\"\",WEEKDAY(A6,2)<6),IF(D6=\"\",\"\",(IF(E6-MAX(D6,(15/24))+(E6<D6)<0,0,E6-MAX(D6,(15/24))+(E6<D6)))-(IF((E6-MAX(D6,(23/24))+(E6<D6))<0,0,(E6-MAX(D6,(23/24))+(E6<D6))))),\"\")","v":""},{"$f":"IF(AND(C6=\"\",WEEKDAY(A6,2)>5),IF(D6=\"\",\"\",(IF(E6-MAX(D6,(15/24))+(E6<D6)<0,0,E6-MAX(D6,(15/24))+($E6<D6)))-(IF((E6-MAX(D6,(23/24))+(E6<D6))<0,0,(E6-MAX(D6,(23/24))+(E6<D6))))),\"\")","v":""},{"$f":"IF(C6<>\"\",IF(D6=\"\",\"\",(IF(E6-MAX(D6,(15/24))+(E6<D6)<0,0,E6-MAX(D6,(15/24))+(E6<D6)))-(IF((E6-MAX(D6,(23/24))+(E6<D6))<0,0,(E6-MAX(D6,(23/24))+(E6<D6))))),\"\")","v":"01:00:00"},{"$f":"IF(AND(C6=\"\",WEEKDAY(A6,2)<5),IF(D6=\"\",\"\",(IF(E6-MAX(D6,(23/24))+(E6<D6)<0,0,E6-MAX(D6,(23/24))+(E6<D6)))-(IF((E6-MAX(D6,(24/24))+(E6<D6))<0,0,(E6-MAX(D6,(24/24))+(E6<D6))))),\"\")","v":""},{"$f":"IF(AND(C6=\"\",WEEKDAY(A6,2)>4),IF(D6=\"\",\"\",(IF(E6-MAX(D6,(23/24))+(E6<D6)<0,0,E6-MAX(D6,(23/24))+(E6<D6)))-(IF((E6-MAX(D6,(24/24))+(E6<D6))<0,0,(E6-MAX(D6,(24/24))+(E6<D6))))),\"\")","v":""},{"$f":"IF(D6=\"\",\"\",IF(C6<>\"\",IF(D6=\"\",\"\",(IF(E6-MAX(D6,(23/24))+(E6<D6)<0,0,E6-MAX(D6,(23/24))+(E6<D6)))-(IF((E6-MAX(D6,(24/24))+(E6<D6))<0,0,(E6-MAX(D6,(24/24))+(E6<D6))))),0))","v":"01:00:00"},{"$f":"IF(OR(AND(C6=\"\",D6<E6,OR(WEEKDAY(A6,2)=1,WEEKDAY(A6,2)>=6)),AND(C6=\"\",D6>E6,OR(WEEKDAY(A6,2)>=5)),AND(C6<>\"\",D6>E6,WEEKDAY(A6,2)>=5)),ColTime(Data!$J$6,Data!$L$6,D6,E6),\"\")","v":""},{"$f":"IFERROR(IF(OR(AND(WEEKDAY(A6,2)>1,WEEKDAY(A6,2)<6,D6<E6,C6=\"\"),AND(C6=\"\",WEEKDAY(A6,2)=1,E6<D6),AND(C6<>\"\",D6<E6,WEEKDAY(A6,2)>1,WEEKDAY(A6,2)<4),AND(C6<>\"\",D6>E6,WEEKDAY(A6,2)=1)),ColTime(Data!$J$6,Data!$L$6,D6,E6),\"\"),\"\")","v":""},null,{"$f":"IF(F6=\"\",\"\",IF(AND(C6<>\"\",OR(D6<E6,AND(D6>E6,C7<>\"\"))),ColTime(Data!$J$6,Data!$L$6,D6,E6),\"\"))","v":""}]
[{"$f":"A6+1","v":"2020-01-02"},"To",{"$f":"HelligdagsNavn(A7,0,0)","v":""},"07:00:00","06:00:00","23:00:00",null,null,null,{"$f":"IF(OR(AND(C7<>\"\",D7>E7,WEEKDAY(A7,2)=5),AND(C7=\"\",WEEKDAY(A7,2)>5)),IF(D7=\"\",\"\",ColTime(Data!$J$3,Data!$L$3,D7,E7)),\"\")","v":""},{"$f":"IF(C7<>\"\",IF(D7=\"\",\"\",(IF(E7-MAX(D7,(7/24))+(E7<D7)<0,0,E7-MAX(D7,(7/24))+(E7<D7)))-(IF((E7-MAX(D7,(15/24))+(E7<D7))<0,0,(E7-MAX(D7,(15/24))+(E7<D7))))),\"\")","v":""},"08:00:00",{"$f":"IF(AND(C7=\"\",WEEKDAY(A7,2)>5),IF(D7=\"\",\"\",(IF(E7-MAX(D7,(15/24))+(E7<D7)<0,0,E7-MAX(D7,(15/24))+($E7<D7)))-(IF((E7-MAX(D7,(23/24))+(E7<D7))<0,0,(E7-MAX(D7,(23/24))+(E7<D7))))),\"\")","v":""},{"$f":"IF(C7<>\"\",IF(D7=\"\",\"\",(IF(E7-MAX(D7,(15/24))+(E7<D7)<0,0,E7-MAX(D7,(15/24))+(E7<D7)))-(IF((E7-MAX(D7,(23/24))+(E7<D7))<0,0,(E7-MAX(D7,(23/24))+(E7<D7))))),\"\")","v":""},{"$f":"IF(AND(C7=\"\",WEEKDAY(A7,2)<5),IF(D7=\"\",\"\",(IF(E7-MAX(D7,(23/24))+(E7<D7)<0,0,E7-MAX(D7,(23/24))+(E7<D7)))-(IF((E7-MAX(D7,(24/24))+(E7<D7))<0,0,(E7-MAX(D7,(24/24))+(E7<D7))))),\"\")","v":"01:00:00"},{"$f":"IF(AND(C7=\"\",WEEKDAY(A7,2)>4),IF(D7=\"\",\"\",(IF(E7-MAX(D7,(23/24))+(E7<D7)<0,0,E7-MAX(D7,(23/24))+(E7<D7)))-(IF((E7-MAX(D7,(24/24))+(E7<D7))<0,0,(E7-MAX(D7,(24/24))+(E7<D7))))),\"\")","v":""},{"$f":"IF(D7=\"\",\"\",IF(C7<>\"\",IF(D7=\"\",\"\",(IF(E7-MAX(D7,(23/24))+(E7<D7)<0,0,E7-MAX(D7,(23/24))+(E7<D7)))-(IF((E7-MAX(D7,(24/24))+(E7<D7))<0,0,(E7-MAX(D7,(24/24))+(E7<D7))))),0))","v":"00:00:00"},{"$f":"IF(OR(AND(C7=\"\",D7<E7,OR(WEEKDAY(A7,2)=1,WEEKDAY(A7,2)>=6)),AND(C7=\"\",D7>E7,OR(WEEKDAY(A7,2)>=5)),AND(C7<>\"\",D7>E7,WEEKDAY(A7,2)>=5)),ColTime(Data!$J$6,Data!$L$6,D7,E7),\"\")","v":""},{"$f":"IFERROR(IF(OR(AND(WEEKDAY(A7,2)>1,WEEKDAY(A7,2)<6,D7<E7,C7=\"\"),AND(C7=\"\",WEEKDAY(A7,2)=1,E7<D7),AND(C7<>\"\",D7<E7,WEEKDAY(A7,2)>1,WEEKDAY(A7,2)<4),AND(C7<>\"\",D7>E7,WEEKDAY(A7,2)=1)),ColTime(Data!$J$6,Data!$L$6,D7,E7),\"\"),\"\")","v":""},null,{"$f":"IF(F7=\"\",\"\",IF(AND(C7<>\"\",OR(D7<E7,AND(D7>E7,C8<>\"\"))),ColTime(Data!$J$6,Data!$L$6,D7,E7),\"\"))","v":""}]
["2020-01-03","Fr","","07:00:00","06:00:00","23:00:00",null,null,null,{"$f":"IF(OR(AND(C8<>\"\",D8>E8,WEEKDAY(A8,2)=5),AND(C8=\"\",WEEKDAY(A8,2)>5)),IF(D8=\"\",\"\",ColTime(Data!$J$3,Data!$L$3,D8,E8)),\"\")","v":""},"","08:00:00",{"$f":"IF(AND(C8=\"\",WEEKDAY(A8,2)>5),IF(D8=\"\",\"\",(IF(E8-MAX(D8,(15/24))+(E8<D8)<0,0,E8-MAX(D8,(15/24))+($E8<D8)))-(IF((E8-MAX(D8,(23/24))+(E8<D8))<0,0,(E8-MAX(D8,(23/24))+(E8<D8))))),\"\")","v":""},{"$f":"IF(C8<>\"\",IF(D8=\"\",\"\",(IF(E8-MAX(D8,(15/24))+(E8<D8)<0,0,E8-MAX(D8,(15/24))+(E8<D8)))-(IF((E8-MAX(D8,(23/24))+(E8<D8))<0,0,(E8-MAX(D8,(23/24))+(E8<D8))))),\"\")","v":""},"","01:00:00",{"$f":"IF(D8=\"\",\"\",IF(C8<>\"\",IF(D8=\"\",\"\",(IF(E8-MAX(D8,(23/24))+(E8<D8)<0,0,E8-MAX(D8,(23/24))+(E8<D8)))-(IF((E8-MAX(D8,(24/24))+(E8<D8))<0,0,(E8-MAX(D8,(24/24))+(E8<D8))))),0))","v":"00:00:00"},{"$f":"IF(OR(AND(C8=\"\",D8<E8,OR(WEEKDAY(A8,2)=1,WEEKDAY(A8,2)>=6)),AND(C8=\"\",D8>E8,OR(WEEKDAY(A8,2)>=5)),AND(C8<>\"\",D8>E8,WEEKDAY(A8,2)>=5)),ColTime(Data!$J$6,Data!$L$6,D8,E8),\"\")","v":"06:00:00"},{"$f":"IFERROR(IF(OR(AND(WEEKDAY(A8,2)>1,WEEKDAY(A8,2)<6,D8<E8,C8=\"\"),AND(C8=\"\",WEEKDAY(A8,2)=1,E8<D8),AND(C8<>\"\",D8<E8,WEEKDAY(A8,2)>1,WEEKDAY(A8,2)<4),AND(C8<>\"\",D8>E8,WEEKDAY(A8,2)=1)),ColTime(Data!$J$6,Data!$L$6,D8,E8),\"\"),\"\")","v":""},null,{"$f":"IF(F8=\"\",\"\",IF(AND(C8<>\"\",OR(D8<E8,AND(D8>E8,C9<>\"\"))),ColTime(Data!$J$6,Data!$L$6,D8,E8),\"\"))","v":""}]
["2020-01-04","Lø","","07:00:00","06:00:00","23:00:00",null,null,null,{"$f":"IF(OR(AND(C9<>\"\",D9>E9,WEEKDAY(A9,2)=5),AND(C9=\"\",WEEKDAY(A9,2)>5)),IF(D9=\"\",\"\",ColTime(Data!$J$3,Data!$L$3,D9,E9)),\"\")","v":"08:00:00"},"","","08:00:00","","","01:00:00","00:00:00",{"$f":"IF(OR(AND(C9=\"\",D9<E9,OR(WEEKDAY(A9,2)=1,WEEKDAY(A9,2)>=6)),AND(C9=\"\",D9>E9,OR(WEEKDAY(A9,2)>=5)),AND(C9<>\"\",D9>E9,WEEKDAY(A9,2)>=5)),ColTime(Data!$J$6,Data!$L$6,D9,E9),\"\")","v":"06:00:00"},{"$f":"IFERROR(IF(OR(AND(WEEKDAY(A9,2)>1,WEEKDAY(A9,2)<6,D9<E9,C9=\"\"),AND(C9=\"\",WEEKDAY(A9,2)=1,E9<D9),AND(C9<>\"\",D9<E9,WEEKDAY(A9,2)>1,WEEKDAY(A9,2)<4),AND(C9<>\"\",D9>E9,WEEKDAY(A9,2)=1)),ColTime(Data!$J$6,Data!$L$6,D9,E9),\"\"),\"\")","v":""},null,{"$f":"IF(F9=\"\",\"\",IF(AND(C9<>\"\",OR(D9<E9,AND(D9>E9,C10<>\"\"))),ColTime(Data!$J$6,Data!$L$6,D9,E9),\"\"))","v":""}]
["2020-01-05","Sø","","07:00:00","06:00:00","23:00:00",null,null,null,{"$f":"IF(OR(AND(C10<>\"\",D10>E10,WEEKDAY(A10,2)=5),AND(C10=\"\",WEEKDAY(A10,2)>5)),IF(D10=\"\",\"\",ColTime(Data!$J$3,Data!$L$3,D10,E10)),\"\")","v":"08:00:00"},"","","08:00:00","","","01:00:00","00:00:00",{"$f":"IF(OR(AND(C10=\"\",D10<E10,OR(WEEKDAY(A10,2)=1,WEEKDAY(A10,2)>=6)),AND(C10=\"\",D10>E10,OR(WEEKDAY(A10,2)>=5)),AND(C10<>\"\",D10>E10,WEEKDAY(A10,2)>=5)),ColTime(Data!$J$6,Data!$L$6,D10,E10),\"\")","v":"06:00:00"},{"$f":"IFERROR(IF(OR(AND(WEEKDAY(A10,2)>1,WEEKDAY(A10,2)<6,D10<E10,C10=\"\"),AND(C10=\"\",WEEKDAY(A10,2)=1,E10<D10),AND(C10<>\"\",D10<E10,WEEKDAY(A10,2)>1,WEEKDAY(A10,2)<4),AND(C10<>\"\",D10>E10,WEEKDAY(A10,2)=1)),ColTime(Data!$J$6,Data!$L$6,D10,E10),\"\"),\"\")","v":""},null,{"$f":"IF(F10=\"\",\"\",IF(AND(C10<>\"\",OR(D10<E10,AND(D10>E10,C11<>\"\"))),ColTime(Data!$J$6,Data!$L$6,D10,E10),\"\"))","v":""}]
["2020-01-06","Ma","Helligtrekongersdag","03:00:00","16:00:00","13:00:00",null,null,null,{"$f":"IF(OR(AND(C11<>\"\",D11>E11,WEEKDAY(A11,2)=5),AND(C11=\"\",WEEKDAY(A11,2)>5)),IF(D11=\"\",\"\",ColTime(Data!$J$3,Data!$L$3,D11,E11)),\"\")","v":""},"08:00:00","","","01:00:00","","","00:00:00",{"$f":"IF(OR(AND(C11=\"\",D11<E11,OR(WEEKDAY(A11,2)=1,WEEKDAY(A11,2)>=6)),AND(C11=\"\",D11>E11,OR(WEEKDAY(A11,2)>=5)),AND(C11<>\"\",D11>E11,WEEKDAY(A11,2)>=5)),ColTime(Data!$J$6,Data!$L$6,D11,E11),\"\")","v":""},{"$f":"IFERROR(IF(OR(AND(WEEKDAY(A11,2)>1,WEEKDAY(A11,2)<6,D11<E11,C11=\"\"),AND(C11=\"\",WEEKDAY(A11,2)=1,E11<D11),AND(C11<>\"\",D11<E11,WEEKDAY(A11,2)>1,WEEKDAY(A11,2)<4),AND(C11<>\"\",D11>E11,WEEKDAY(A11,2)=1)),ColTime(Data!$J$6,Data!$L$6,D11,E11),\"\"),\"\")","v":""},null,{"$f":"IF(F11=\"\",\"\",IF(AND(C11<>\"\",OR(D11<E11,AND(D11>E11,C12<>\"\"))),ColTime(Data!$J$6,Data!$L$6,D11,E11),\"\"))","v":"04:00:00"}]
["2020-01-07","Ti","",null,null,"",null,null,null,{"$f":"IF(OR(AND(C12<>\"\",D12>E12,WEEKDAY(A12,2)=5),AND(C12=\"\",WEEKDAY(A12,2)>5)),IF(D12=\"\",\"\",ColTime(Data!$J$3,Data!$L$3,D12,E12)),\"\")","v":""},"","","","","","","",{"$f":"IF(OR(AND(C12=\"\",D12<E12,OR(WEEKDAY(A12,2)=1,WEEKDAY(A12,2)>=6)),AND(C12=\"\",D12>E12,OR(WEEKDAY(A12,2)>=5)),AND(C12<>\"\",D12>E12,WEEKDAY(A12,2)>=5)),ColTime(Data!$J$6,Data!$L$6,D12,E12),\"\")","v":""},{"$f":"IFERROR(IF(OR(AND(WEEKDAY(A12,2)>1,WEEKDAY(A12,2)<6,D12<E12,C12=\"\"),AND(C12=\"\",WEEKDAY(A12,2)=1,E12<D12),AND(C12<>\"\",D12<E12,WEEKDAY(A12,2)>1,WEEKDAY(A12,2)<4),AND(C12<>\"\",D12>E12,WEEKDAY(A12,2)=1)),ColTime(Data!$J$6,Data!$L$6,D12,E12),\"\"),\"\")","v":""},null,{"$f":"IF(F12=\"\",\"\",IF(AND(C12<>\"\",OR(D12<E12,AND(D12>E12,C13<>\"\"))),ColTime(Data!$J$6,Data!$L$6,D12,E12),\"\"))","v":""}]
["2020-01-08","On",{"$f":"HelligdagsNavn(A13,0,0)","v":""},null,null,"",null,null,null,{"$f":"IF(OR(AND(C13<>\"\",D13>E13,WEEKDAY(A13,2)=5),AND(C13=\"\",WEEKDAY(A13,2)>5)),IF(D13=\"\",\"\",ColTime(Data!$J$3,Data!$L$3,D13,E13)),\"\")","v":""},"","","","","","","",{"$f":"IF(OR(AND(C13=\"\",D13<E13,OR(WEEKDAY(A13,2)=1,WEEKDAY(A13,2)>=6)),AND(C13=\"\",D13>E13,OR(WEEKDAY(A13,2)>=5)),AND(C13<>\"\",D13>E13,WEEKDAY(A13,2)>=5)),ColTime(Data!$J$6,Data!$L$6,D13,E13),\"\")","v":""},{"$f":"IFERROR(IF(OR(AND(WEEKDAY(A13,2)>1,WEEKDAY(A13,2)<6,D13<E13,C13=\"\"),AND(C13=\"\",WEEKDAY(A13,2)=1,E13<D13),AND(C13<>\"\",D13<E13,WEEKDAY(A13,2)>1,WEEKDAY(A13,2)<4),AND(C13<>\"\",D13>E13,WEEKDAY(A13,2)=1)),ColTime(Data!$J$6,Data!$L$6,D13,E13),\"\"),\"\")","v":""},null,{"$f":"IF(F13=\"\",\"\",IF(AND(C13<>\"\",OR(D13<E13,AND(D13>E13,C14<>\"\"))),ColTime(Data!$J$6,Data!$L$6,D13,E13),\"\"))","v":""}]
["2020-01-09","To",{"$f":"HelligdagsNavn(A14,0,0)","v":""},null,null,{"$f":"IF(D14=\"\",\"\",(E14-D14)+(D14>E14))","v":""},null,null,null,{"$f":"IF(OR(AND(C14<>\"\",D14>E14,WEEKDAY(A14,2)=5),AND(C14=\"\",WEEKDAY(A14,2)>5)),IF(D14=\"\",\"\",ColTime(Data!$J$3,Data!$L$3,D14,E14)),\"\")","v":""},"",{"$f":"IF(AND(C14=\"\",WEEKDAY(A14,2)<6),IF(D14=\"\",\"\",(IF(E14-MAX(D14,(15/24))+(E14<D14)<0,0,E14-MAX(D14,(15/24))+(E14<D14)))-(IF((E14-MAX(D14,(23/24))+(E14<D14))<0,0,(E14-MAX(D14,(23/24))+(E14<D14))))),\"\")","v":""},{"$f":"IF(AND(C14=\"\",WEEKDAY(A14,2)>5),IF(D14=\"\",\"\",(IF(E14-MAX(D14,(15/24))+(E14<D14)<0,0,E14-MAX(D14,(15/24))+($E14<D14)))-(IF((E14-MAX(D14,(23/24))+(E14<D14))<0,0,(E14-MAX(D14,(23/24))+(E14<D14))))),\"\")","v":""},{"$f":"IF(C14<>\"\",IF(D14=\"\",\"\",(IF(E14-MAX(D14,(15/24))+(E14<D14)<0,0,E14-MAX(D14,(15/24))+(E14<D14)))-(IF((E14-MAX(D14,(23/24))+(E14<D14))<0,0,(E14-MAX(D14,(23/24))+(E14<D14))))),\"\")","v":""},{"$f":"IF(AND(C14=\"\",WEEKDAY(A14,2)<5),IF(D14=\"\",\"\",(IF(E14-MAX(D14,(23/24))+(E14<D14)<0,0,E14-MAX(D14,(23/24))+(E14<D14)))-(IF((E14-MAX(D14,(24/24))+(E14<D14))<0,0,(E14-MAX(D14,(24/24))+(E14<D14))))),\"\")","v":""},{"$f":"IF(AND(C14=\"\",WEEKDAY(A14,2)>4),IF(D14=\"\",\"\",(IF(E14-MAX(D14,(23/24))+(E14<D14)<0,0,E14-MAX(D14,(23/24))+(E14<D14)))-(IF((E14-MAX(D14,(24/24))+(E14<D14))<0,0,(E14-MAX(D14,(24/24))+(E14<D14))))),\"\")","v":""},"",{"$f":"IF(OR(AND(C14=\"\",D14<E14,OR(WEEKDAY(A14,2)=1,WEEKDAY(A14,2)>=6)),AND(C14=\"\",D14>E14,OR(WEEKDAY(A14,2)>=5)),AND(C14<>\"\",D14>E14,WEEKDAY(A14,2)>=5)),ColTime(Data!$J$6,Data!$L$6,D14,E14),\"\")","v":""},{"$f":"IFERROR(IF(OR(AND(WEEKDAY(A14,2)>1,WEEKDAY(A14,2)<6,D14<E14,C14=\"\"),AND(C14=\"\",WEEKDAY(A14,2)=1,E14<D14),AND(C14<>\"\",D14<E14,WEEKDAY(A14,2)>1,WEEKDAY(A14,2)<4),AND(C14<>\"\",D14>E14,WEEKDAY(A14,2)=1)),ColTime(Data!$J$6,Data!$L$6,D14,E14),\"\"),\"\")","v":""},null,{"$f":"IF(F14=\"\",\"\",IF(AND(C14<>\"\",OR(D14<E14,AND(D14>E14,C15<>\"\"))),ColTime(Data!$J$6,Data!$L$6,D14,E14),\"\"))","v":""}]
["2020-01-10","Fr","",null,null,"",null,null,null,{"$f":"IF(OR(AND(C15<>\"\",D15>E15,WEEKDAY(A15,2)=5),AND(C15=\"\",WEEKDAY(A15,2)>5)),IF(D15=\"\",\"\",ColTime(Data!$J$3,Data!$L$3,D15,E15)),\"\")","v":""},"","","","","","","",{"$f":"IF(OR(AND(C15=\"\",D15<E15,OR(WEEKDAY(A15,2)=1,WEEKDAY(A15,2)>=6)),AND(C15=\"\",D15>E15,OR(WEEKDAY(A15,2)>=5)),AND(C15<>\"\",D15>E15,WEEKDAY(A15,2)>=5)),ColTime(Data!$J$6,Data!$L$6,D15,E15),\"\")","v":""},{"$f":"IFERROR(IF(OR(AND(WEEKDAY(A15,2)>1,WEEKDAY(A15,2)<6,D15<E15,C15=\"\"),AND(C15=\"\",WEEKDAY(A15,2)=1,E15<D15),AND(C15<>\"\",D15<E15,WEEKDAY(A15,2)>1,WEEKDAY(A15,2)<4),AND(C15<>\"\",D15>E15,WEEKDAY(A15,2)=1)),ColTime(Data!$J$6,Data!$L$6,D15,E15),\"\"),\"\")","v":""},null,{"$f":"IF(F15=\"\",\"\",IF(AND(C15<>\"\",OR(D15<E15,AND(D15>E15,C16<>\"\"))),ColTime(Data!$J$6,Data!$L$6,D15,E15),\"\"))","v":""}]
["2020-01-11","Lø","",null,null,"",null,null,null,{"$f":"IF(OR(AND(C16<>\"\",D16>E16,WEEKDAY(A16,2)=5),AND(C16=\"\",WEEKDAY(A16,2)>5)),IF(D16=\"\",\"\",ColTime(Data!$J$3,Data!$L$3,D16,E16)),\"\")","v":""},"","","","","","","",{"$f":"IF(OR(AND(C16=\"\",D16<E16,OR(WEEKDAY(A16,2)=1,WEEKDAY(A16,2)>=6)),AND(C16=\"\",D16>E16,OR(WEEKDAY(A16,2)>=5)),AND(C16<>\"\",D16>E16,WEEKDAY(A16,2)>=5)),ColTime(Data!$J$6,Data!$L$6,D16,E16),\"\")","v":""},{"$f":"IFERROR(IF(OR(AND(WEEKDAY(A16,2)>1,WEEKDAY(A16,2)<6,D16<E16,C16=\"\"),AND(C16=\"\",WEEKDAY(A16,2)=1,E16<D16),AND(C16<>\"\",D16<E16,WEEKDAY(A16,2)>1,WEEKDAY(A16,2)<4),AND(C16<>\"\",D16>E16,WEEKDAY(A16,2)=1)),ColTime(Data!$J$6,Data!$L$6,D16,E16),\"\"),\"\")","v":""},null,{"$f":"IF(F16=\"\",\"\",IF(AND(C16<>\"\",OR(D16<E16,AND(D16>E16,C17<>\"\"))),ColTime(Data!$J$6,Data!$L$6,D16,E16),\"\"))","v":""}]
["2020-01-12","Sø","",null,null,"",null,null,null,{"$f":"IF(OR(AND(C17<>\"\",D17>E17,WEEKDAY(A17,2)=5),AND(C17=\"\",WEEKDAY(A17,2)>5)),IF(D17=\"\",\"\",ColTime(Data!$J$3,Data!$L$3,D17,E17)),\"\")","v":""},"","","","","","","",{"$f":"IF(OR(AND(C17=\"\",D17<E17,OR(WEEKDAY(A17,2)=1,WEEKDAY(A17,2)>=6)),AND(C17=\"\",D17>E17,OR(WEEKDAY(A17,2)>=5)),AND(C17<>\"\",D17>E17,WEEKDAY(A17,2)>=5)),ColTime(Data!$J$6,Data!$L$6,D17,E17),\"\")","v":""},{"$f":"IFERROR(IF(OR(AND(WEEKDAY(A17,2)>1,WEEKDAY(A17,2)<6,D17<E17,C17=\"\"),AND(C17=\"\",WEEKDAY(A17,2)=1,E17<D17),AND(C17<>\"\",D17<E17,WEEKDAY(A17,2)>1,WEEKDAY(A17,2)<4),AND(C17<>\"\",D17>E17,WEEKDAY(A17,2)=1)),ColTime(Data!$J$6,Data!$L$6,D17,E17),\"\"),\"\")","v":""},null,{"$f":"IF(F17=\"\",\"\",IF(AND(C17<>\"\",OR(D17<E17,AND(D17>E17,C18<>\"\"))),ColTime(Data!$J$6,Data!$L$6,D17,E17),\"\"))","v":""}]
["2020-01-13","Ma","",null,null,"",null,null,null,{"$f":"IF(OR(AND(C18<>\"\",D18>E18,WEEKDAY(A18,2)=5),AND(C18=\"\",WEEKDAY(A18,2)>5)),IF(D18=\"\",\"\",ColTime(Data!$J$3,Data!$L$3,D18,E18)),\"\")","v":""},"","","","","","","",{"$f":"IF(OR(AND(C18=\"\",D18<E18,OR(WEEKDAY(A18,2)=1,WEEKDAY(A18,2)>=6)),AND(C18=\"\",D18>E18,OR(WEEKDAY(A18,2)>=5)),AND(C18<>\"\",D18>E18,WEEKDAY(A18,2)>=5)),ColTime(Data!$J$6,Data!$L$6,D18,E18),\"\")","v":""},{"$f":"IFERROR(IF(OR(AND(WEEKDAY(A18,2)>1,WEEKDAY(A18,2)<6,D18<E18,C18=\"\"),AND(C18=\"\",WEEKDAY(A18,2)=1,E18<D18),AND(C18<>\"\",D18<E18,WEEKDAY(A18,2)>1,WEEKDAY(A18,2)<4),AND(C18<>\"\",D18>E18,WEEKDAY(A18,2)=1)),ColTime(Data!$J$6,Data!$L$6,D18,E18),\"\"),\"\")","v":""},null,{"$f":"IF(F18=\"\",\"\",IF(AND(C18<>\"\",OR(D18<E18,AND(D18>E18,C19<>\"\"))),ColTime(Data!$J$6,Data!$L$6,D18,E18),\"\"))","v":""}]
["2020-01-14","Ti","",null,null,"",null,null,null,{"$f":"IF(OR(AND(C19<>\"\",D19>E19,WEEKDAY(A19,2)=5),AND(C19=\"\",WEEKDAY(A19,2)>5)),IF(D19=\"\",\"\",ColTime(Data!$J$3,Data!$L$3,D19,E19)),\"\")","v":""},"","","","","","","",{"$f":"IF(OR(AND(C19=\"\",D19<E19,OR(WEEKDAY(A19,2)=1,WEEKDAY(A19,2)>=6)),AND(C19=\"\",D19>E19,OR(WEEKDAY(A19,2)>=5)),AND(C19<>\"\",D19>E19,WEEKDAY(A19,2)>=5)),ColTime(Data!$J$6,Data!$L$6,D19,E19),\"\")","v":""},{"$f":"IFERROR(IF(OR(AND(WEEKDAY(A19,2)>1,WEEKDAY(A19,2)<6,D19<E19,C19=\"\"),AND(C19=\"\",WEEKDAY(A19,2)=1,E19<D19),AND(C19<>\"\",D19<E19,WEEKDAY(A19,2)>1,WEEKDAY(A19,2)<4),AND(C19<>\"\",D19>E19,WEEKDAY(A19,2)=1)),ColTime(Data!$J$6,Data!$L$6,D19,E19),\"\"),\"\")","v":""},null,{"$f":"IF(F19=\"\",\"\",IF(AND(C19<>\"\",OR(D19<E19,AND(D19>E19,C20<>\"\"))),ColTime(Data!$J$6,Data!$L$6,D19,E19),\"\"))","v":""}]
["2020-01-15","On",{"$f":"HelligdagsNavn(A20,0,0)","v":""},null,null,"",null,null,null,{"$f":"IF(OR(AND(C20<>\"\",D20>E20,WEEKDAY(A20,2)=5),AND(C20=\"\",WEEKDAY(A20,2)>5)),IF(D20=\"\",\"\",ColTime(Data!$J$3,Data!$L$3,D20,E20)),\"\")","v":""},"","","","","","","",{"$f":"IF(OR(AND(C20=\"\",D20<E20,OR(WEEKDAY(A20,2)=1,WEEKDAY(A20,2)>=6)),AND(C20=\"\",D20>E20,OR(WEEKDAY(A20,2)>=5)),AND(C20<>\"\",D20>E20,WEEKDAY(A20,2)>=5)),ColTime(Data!$J$6,Data!$L$6,D20,E20),\"\")","v":""},{"$f":"IFERROR(IF(OR(AND(WEEKDAY(A20,2)>1,WEEKDAY(A20,2)<6,D20<E20,C20=\"\"),AND(C20=\"\",WEEKDAY(A20,2)=1,E20<D20),AND(C20<>\"\",D20<E20,WEEKDAY(A20,2)>1,WEEKDAY(A20,2)<4),AND(C20<>\"\",D20>E20,WEEKDAY(A20,2)=1)),ColTime(Data!$J$6,Data!$L$6,D20,E20),\"\"),\"\")","v":""},null,{"$f":"IF(F20=\"\",\"\",IF(AND(C20<>\"\",OR(D20<E20,AND(D20>E20,C21<>\"\"))),ColTime(Data!$J$6,Data!$L$6,D20,E20),\"\"))","v":""},null,null,null,null,{"$f":"IF(E20=\"\",\"\",TIME(HOUR(E20),MINUTE(E20),0))","v":""}]
["2020-01-16","To",{"$f":"HelligdagsNavn(A21,0,0)","v":""},null,null,"",null,null,null,{"$f":"IF(OR(AND(C21<>\"\",D21>E21,WEEKDAY(A21,2)=5),AND(C21=\"\",WEEKDAY(A21,2)>5)),IF(D21=\"\",\"\",ColTime(Data!$J$3,Data!$L$3,D21,E21)),\"\")","v":""},"","","","","","","",{"$f":"IF(OR(AND(C21=\"\",D21<E21,OR(WEEKDAY(A21,2)=1,WEEKDAY(A21,2)>=6)),AND(C21=\"\",D21>E21,OR(WEEKDAY(A21,2)>=5)),AND(C21<>\"\",D21>E21,WEEKDAY(A21,2)>=5)),ColTime(Data!$J$6,Data!$L$6,D21,E21),\"\")","v":""},{"$f":"IFERROR(IF(OR(AND(WEEKDAY(A21,2)>1,WEEKDAY(A21,2)<6,D21<E21,C21=\"\"),AND(C21=\"\",WEEKDAY(A21,2)=1,E21<D21),AND(C21<>\"\",D21<E21,WEEKDAY(A21,2)>1,WEEKDAY(A21,2)<4),AND(C21<>\"\",D21>E21,WEEKDAY(A21,2)=1)),ColTime(Data!$J$6,Data!$L$6,D21,E21),\"\"),\"\")","v":""},null,{"$f":"IF(F21=\"\",\"\",IF(AND(C21<>\"\",OR(D21<E21,AND(D21>E21,C22<>\"\"))),ColTime(Data!$J$6,Data!$L$6,D21,E21),\"\"))","v":""},null,null,null,null,""]
["2020-01-17","Fr","",null,null,"",null,null,null,{"$f":"IF(OR(AND(C22<>\"\",D22>E22,WEEKDAY(A22,2)=5),AND(C22=\"\",WEEKDAY(A22,2)>5)),IF(D22=\"\",\"\",ColTime(Data!$J$3,Data!$L$3,D22,E22)),\"\")","v":""},"","","","","","","",{"$f":"IF(OR(AND(C22=\"\",D22<E22,OR(WEEKDAY(A22,2)=1,WEEKDAY(A22,2)>=6)),AND(C22=\"\",D22>E22,OR(WEEKDAY(A22,2)>=5)),AND(C22<>\"\",D22>E22,WEEKDAY(A22,2)>=5)),ColTime(Data!$J$6,Data!$L$6,D22,E22),\"\")","v":""},{"$f":"IFERROR(IF(OR(AND(WEEKDAY(A22,2)>1,WEEKDAY(A22,2)<6,D22<E22,C22=\"\"),AND(C22=\"\",WEEKDAY(A22,2)=1,E22<D22),AND(C22<>\"\",D22<E22,WEEKDAY(A22,2)>1,WEEKDAY(A22,2)<4),AND(C22<>\"\",D22>E22,WEEKDAY(A22,2)=1)),ColTime(Data!$J$6,Data!$L$6,D22,E22),\"\"),\"\")","v":""},null,{"$f":"IF(F22=\"\",\"\",IF(AND(C22<>\"\",OR(D22<E22,AND(D22>E22,C23<>\"\"))),ColTime(Data!$J$6,Data!$L$6,D22,E22),\"\"))","v":""},null,null,null,null,""]
["2020-01-18","Lø","",null,null,"",null,null,null,{"$f":"IF(OR(AND(C23<>\"\",D23>E23,WEEKDAY(A23,2)=5),AND(C23=\"\",WEEKDAY(A23,2)>5)),IF(D23=\"\",\"\",ColTime(Data!$J$3,Data!$L$3,D23,E23)),\"\")","v":""},"","","","","","","",{"$f":"IF(OR(AND(C23=\"\",D23<E23,OR(WEEKDAY(A23,2)=1,WEEKDAY(A23,2)>=6)),AND(C23=\"\",D23>E23,OR(WEEKDAY(A23,2)>=5)),AND(C23<>\"\",D23>E23,WEEKDAY(A23,2)>=5)),ColTime(Data!$J$6,Data!$L$6,D23,E23),\"\")","v":""},{"$f":"IFERROR(IF(OR(AND(WEEKDAY(A23,2)>1,WEEKDAY(A23,2)<6,D23<E23,C23=\"\"),AND(C23=\"\",WEEKDAY(A23,2)=1,E23<D23),AND(C23<>\"\",D23<E23,WEEKDAY(A23,2)>1,WEEKDAY(A23,2)<4),AND(C23<>\"\",D23>E23,WEEKDAY(A23,2)=1)),ColTime(Data!$J$6,Data!$L$6,D23,E23),\"\"),\"\")","v":""},null,{"$f":"IF(F23=\"\",\"\",IF(AND(C23<>\"\",OR(D23<E23,AND(D23>E23,C24<>\"\"))),ColTime(Data!$J$6,Data!$L$6,D23,E23),\"\"))","v":""},null,null,null,null,""]
["2020-01-19","Sø","",null,null,"",null,null,null,{"$f":"IF(OR(AND(C24<>\"\",D24>E24,WEEKDAY(A24,2)=5),AND(C24=\"\",WEEKDAY(A24,2)>5)),IF(D24=\"\",\"\",ColTime(Data!$J$3,Data!$L$3,D24,E24)),\"\")","v":""},"","","","","","","",{"$f":"IF(OR(AND(C24=\"\",D24<E24,OR(WEEKDAY(A24,2)=1,WEEKDAY(A24,2)>=6)),AND(C24=\"\",D24>E24,OR(WEEKDAY(A24,2)>=5)),AND(C24<>\"\",D24>E24,WEEKDAY(A24,2)>=5)),ColTime(Data!$J$6,Data!$L$6,D24,E24),\"\")","v":""},{"$f":"IFERROR(IF(OR(AND(WEEKDAY(A24,2)>1,WEEKDAY(A24,2)<6,D24<E24,C24=\"\"),AND(C24=\"\",WEEKDAY(A24,2)=1,E24<D24),AND(C24<>\"\",D24<E24,WEEKDAY(A24,2)>1,WEEKDAY(A24,2)<4),AND(C24<>\"\",D24>E24,WEEKDAY(A24,2)=1)),ColTime(Data!$J$6,Data!$L$6,D24,E24),\"\"),\"\")","v":""},null,{"$f":"IF(F24=\"\",\"\",IF(AND(C24<>\"\",OR(D24<E24,AND(D24>E24,C25<>\"\"))),ColTime(Data!$J$6,Data!$L$6,D24,E24),\"\"))","v":""},null,{"$f":"IF(D24=\"\",\"\",TIME(HOUR(D24),MINUTE(D24),0))","v":""},{"$f":"IF(E24=\"\",\"\",HOUR(E24))","v":""},{"$f":"IF(E24=\"\",\"\",MINUTE(E24))","v":""},""]
["2020-01-20","Ma","",null,null,"",null,null,null,{"$f":"IF(OR(AND(C25<>\"\",D25>E25,WEEKDAY(A25,2)=5),AND(C25=\"\",WEEKDAY(A25,2)>5)),IF(D25=\"\",\"\",ColTime(Data!$J$3,Data!$L$3,D25,E25)),\"\")","v":""},"","","","","","","",{"$f":"IF(OR(AND(C25=\"\",D25<E25,OR(WEEKDAY(A25,2)=1,WEEKDAY(A25,2)>=6)),AND(C25=\"\",D25>E25,OR(WEEKDAY(A25,2)>=5)),AND(C25<>\"\",D25>E25,WEEKDAY(A25,2)>=5)),ColTime(Data!$J$6,Data!$L$6,D25,E25),\"\")","v":""},{"$f":"IFERROR(IF(OR(AND(WEEKDAY(A25,2)>1,WEEKDAY(A25,2)<6,D25<E25,C25=\"\"),AND(C25=\"\",WEEKDAY(A25,2)=1,E25<D25),AND(C25<>\"\",D25<E25,WEEKDAY(A25,2)>1,WEEKDAY(A25,2)<4),AND(C25<>\"\",D25>E25,WEEKDAY(A25,2)=1)),ColTime(Data!$J$6,Data!$L$6,D25,E25),\"\"),\"\")","v":""},null,{"$f":"IF(F25=\"\",\"\",IF(AND(C25<>\"\",OR(D25<E25,AND(D25>E25,C26<>\"\"))),ColTime(Data!$J$6,Data!$L$6,D25,E25),\"\"))","v":""},null,"","","",""]
["2020-01-21","Ti","",null,null,"",null,null,null,{"$f":"IF(OR(AND(C26<>\"\",D26>E26,WEEKDAY(A26,2)=5),AND(C26=\"\",WEEKDAY(A26,2)>5)),IF(D26=\"\",\"\",ColTime(Data!$J$3,Data!$L$3,D26,E26)),\"\")","v":""},"","","","","","","",{"$f":"IF(OR(AND(C26=\"\",D26<E26,OR(WEEKDAY(A26,2)=1,WEEKDAY(A26,2)>=6)),AND(C26=\"\",D26>E26,OR(WEEKDAY(A26,2)>=5)),AND(C26<>\"\",D26>E26,WEEKDAY(A26,2)>=5)),ColTime(Data!$J$6,Data!$L$6,D26,E26),\"\")","v":""},{"$f":"IFERROR(IF(OR(AND(WEEKDAY(A26,2)>1,WEEKDAY(A26,2)<6,D26<E26,C26=\"\"),AND(C26=\"\",WEEKDAY(A26,2)=1,E26<D26),AND(C26<>\"\",D26<E26,WEEKDAY(A26,2)>1,WEEKDAY(A26,2)<4),AND(C26<>\"\",D26>E26,WEEKDAY(A26,2)=1)),ColTime(Data!$J$6,Data!$L$6,D26,E26),\"\"),\"\")","v":""},null,{"$f":"IF(F26=\"\",\"\",IF(AND(C26<>\"\",OR(D26<E26,AND(D26>E26,C27<>\"\"))),ColTime(Data!$J$6,Data!$L$6,D26,E26),\"\"))","v":""},null,"","","",""]
["2020-01-22","On",{"$f":"HelligdagsNavn(A27,0,0)","v":""},null,null,"",null,null,null,{"$f":"IF(OR(AND(C27<>\"\",D27>E27,WEEKDAY(A27,2)=5),AND(C27=\"\",WEEKDAY(A27,2)>5)),IF(D27=\"\",\"\",ColTime(Data!$J$3,Data!$L$3,D27,E27)),\"\")","v":""},"","","","","","","",{"$f":"IF(OR(AND(C27=\"\",D27<E27,OR(WEEKDAY(A27,2)=1,WEEKDAY(A27,2)>=6)),AND(C27=\"\",D27>E27,OR(WEEKDAY(A27,2)>=5)),AND(C27<>\"\",D27>E27,WEEKDAY(A27,2)>=5)),ColTime(Data!$J$6,Data!$L$6,D27,E27),\"\")","v":""},{"$f":"IFERROR(IF(OR(AND(WEEKDAY(A27,2)>1,WEEKDAY(A27,2)<6,D27<E27,C27=\"\"),AND(C27=\"\",WEEKDAY(A27,2)=1,E27<D27),AND(C27<>\"\",D27<E27,WEEKDAY(A27,2)>1,WEEKDAY(A27,2)<4),AND(C27<>\"\",D27>E27,WEEKDAY(A27,2)=1)),ColTime(Data!$J$6,Data!$L$6,D27,E27),\"\"),\"\")","v":""},null,{"$f":"IF(F27=\"\",\"\",IF(AND(C27<>\"\",OR(D27<E27,AND(D27>E27,C28<>\"\"))),ColTime(Data!$J$6,Data!$L$6,D27,E27),\"\"))","v":""},null,"","","",""]
["2020-01-23","To",{"$f":"HelligdagsNavn(A28,0,0)","v":""},null,null,"",null,null,null,{"$f":"IF(OR(AND(C28<>\"\",D28>E28,WEEKDAY(A28,2)=5),AND(C28=\"\",WEEKDAY(A28,2)>5)),IF(D28=\"\",\"\",ColTime(Data!$J$3,Data!$L$3,D28,E28)),\"\")","v":""},"","","","","","","",{"$f":"IF(OR(AND(C28=\"\",D28<E28,OR(WEEKDAY(A28,2)=1,WEEKDAY(A28,2)>=6)),AND(C28=\"\",D28>E28,OR(WEEKDAY(A28,2)>=5)),AND(C28<>\"\",D28>E28,WEEKDAY(A28,2)>=5)),ColTime(Data!$J$6,Data!$L$6,D28,E28),\"\")","v":""},{"$f":"IFERROR(IF(OR(AND(WEEKDAY(A28,2)>1,WEEKDAY(A28,2)<6,D28<E28,C28=\"\"),AND(C28=\"\",WEEKDAY(A28,2)=1,E28<D28),AND(C28<>\"\",D28<E28,WEEKDAY(A28,2)>1,WEEKDAY(A28,2)<4),AND(C28<>\"\",D28>E28,WEEKDAY(A28,2)=1)),ColTime(Data!$J$6,Data!$L$6,D28,E28),\"\"),\"\")","v":""},null,{"$f":"IF(F28=\"\",\"\",IF(AND(C28<>\"\",OR(D28<E28,AND(D28>E28,C29<>\"\"))),ColTime(Data!$J$6,Data!$L$6,D28,E28),\"\"))","v":""},null,"","","",""]
["2020-01-24","Fr","",null,null,"",null,null,null,{"$f":"IF(OR(AND(C29<>\"\",D29>E29,WEEKDAY(A29,2)=5),AND(C29=\"\",WEEKDAY(A29,2)>5)),IF(D29=\"\",\"\",ColTime(Data!$J$3,Data!$L$3,D29,E29)),\"\")","v":""},"","","","","","","",{"$f":"IF(OR(AND(C29=\"\",D29<E29,OR(WEEKDAY(A29,2)=1,WEEKDAY(A29,2)>=6)),AND(C29=\"\",D29>E29,OR(WEEKDAY(A29,2)>=5)),AND(C29<>\"\",D29>E29,WEEKDAY(A29,2)>=5)),ColTime(Data!$J$6,Data!$L$6,D29,E29),\"\")","v":""},{"$f":"IFERROR(IF(OR(AND(WEEKDAY(A29,2)>1,WEEKDAY(A29,2)<6,D29<E29,C29=\"\"),AND(C29=\"\",WEEKDAY(A29,2)=1,E29<D29),AND(C29<>\"\",D29<E29,WEEKDAY(A29,2)>1,WEEKDAY(A29,2)<4),AND(C29<>\"\",D29>E29,WEEKDAY(A29,2)=1)),ColTime(Data!$J$6,Data!$L$6,D29,E29),\"\"),\"\")","v":""},null,{"$f":"IF(F29=\"\",\"\",IF(AND(C29<>\"\",OR(D29<E29,AND(D29>E29,C30<>\"\"))),ColTime(Data!$J$6,Data!$L$6,D29,E29),\"\"))","v":""},null,"","","",""]
["2020-01-25","Lø","",null,null,"",null,null,null,{"$f":"IF(OR(AND(C30<>\"\",D30>E30,WEEKDAY(A30,2)=5),AND(C30=\"\",WEEKDAY(A30,2)>5)),IF(D30=\"\",\"\",ColTime(Data!$J$3,Data!$L$3,D30,E30)),\"\")","v":""},"","","","","","","",{"$f":"IF(OR(AND(C30=\"\",D30<E30,OR(WEEKDAY(A30,2)=1,WEEKDAY(A30,2)>=6)),AND(C30=\"\",D30>E30,OR(WEEKDAY(A30,2)>=5)),AND(C30<>\"\",D30>E30,WEEKDAY(A30,2)>=5)),ColTime(Data!$J$6,Data!$L$6,D30,E30),\"\")","v":""},{"$f":"IFERROR(IF(OR(AND(WEEKDAY(A30,2)>1,WEEKDAY(A30,2)<6,D30<E30,C30=\"\"),AND(C30=\"\",WEEKDAY(A30,2)=1,E30<D30),AND(C30<>\"\",D30<E30,WEEKDAY(A30,2)>1,WEEKDAY(A30,2)<4),AND(C30<>\"\",D30>E30,WEEKDAY(A30,2)=1)),ColTime(Data!$J$6,Data!$L$6,D30,E30),\"\"),\"\")","v":""},null,{"$f":"IF(F30=\"\",\"\",IF(AND(C30<>\"\",OR(D30<E30,AND(D30>E30,C31<>\"\"))),ColTime(Data!$J$6,Data!$L$6,D30,E30),\"\"))","v":""},null,"","","",""]
["2020-01-26","Sø",null,null,null,"",null,null,null,{"$f":"IF(OR(AND(C31<>\"\",D31>E31,WEEKDAY(A31,2)=5),AND(C31=\"\",WEEKDAY(A31,2)>5)),IF(D31=\"\",\"\",ColTime(Data!$J$3,Data!$L$3,D31,E31)),\"\")","v":""},"","","","","","","",{"$f":"IF(OR(AND(C31=\"\",D31<E31,OR(WEEKDAY(A31,2)=1,WEEKDAY(A31,2)>=6)),AND(C31=\"\",D31>E31,OR(WEEKDAY(A31,2)>=5)),AND(C31<>\"\",D31>E31,WEEKDAY(A31,2)>=5)),ColTime(Data!$J$6,Data!$L$6,D31,E31),\"\")","v":""},{"$f":"IFERROR(IF(OR(AND(WEEKDAY(A31,2)>1,WEEKDAY(A31,2)<6,D31<E31,C31=\"\"),AND(C31=\"\",WEEKDAY(A31,2)=1,E31<D31),AND(C31<>\"\",D31<E31,WEEKDAY(A31,2)>1,WEEKDAY(A31,2)<4),AND(C31<>\"\",D31>E31,WEEKDAY(A31,2)=1)),ColTime(Data!$J$6,Data!$L$6,D31,E31),\"\"),\"\")","v":""},null,{"$f":"IF(F31=\"\",\"\",IF(AND(C31<>\"\",OR(D31<E31,AND(D31>E31,C32<>\"\"))),ColTime(Data!$J$6,Data!$L$6,D31,E31),\"\"))","v":""},null,"","","",""]
["2020-01-27","Ma","",null,null,"",null,null,null,{"$f":"IF(OR(AND(C32<>\"\",D32>E32,WEEKDAY(A32,2)=5),AND(C32=\"\",WEEKDAY(A32,2)>5)),IF(D32=\"\",\"\",ColTime(Data!$J$3,Data!$L$3,D32,E32)),\"\")","v":""},"","","","","","","",{"$f":"IF(OR(AND(C32=\"\",D32<E32,OR(WEEKDAY(A32,2)=1,WEEKDAY(A32,2)>=6)),AND(C32=\"\",D32>E32,OR(WEEKDAY(A32,2)>=5)),AND(C32<>\"\",D32>E32,WEEKDAY(A32,2)>=5)),ColTime(Data!$J$6,Data!$L$6,D32,E32),\"\")","v":""},{"$f":"IFERROR(IF(OR(AND(WEEKDAY(A32,2)>1,WEEKDAY(A32,2)<6,D32<E32,C32=\"\"),AND(C32=\"\",WEEKDAY(A32,2)=1,E32<D32),AND(C32<>\"\",D32<E32,WEEKDAY(A32,2)>1,WEEKDAY(A32,2)<4),AND(C32<>\"\",D32>E32,WEEKDAY(A32,2)=1)),ColTime(Data!$J$6,Data!$L$6,D32,E32),\"\"),\"\")","v":""},null,{"$f":"IF(F32=\"\",\"\",IF(AND(C32<>\"\",OR(D32<E32,AND(D32>E32,C63<>\"\"))),ColTime(Data!$J$6,Data!$L$6,D32,E32),\"\"))","v":""}]
["2020-01-28",{"$f":"PROPER(TEXT(A33,\"ddd\"))","v":"Ti"},{"$f":"HelligdagsNavn(A33,0,0)","v":""},null,null,{"$f":"IF(D33=\"\",\"\",(E33-D33)+(D33>E33))","v":""},null,null,null,{"$f":"IF(OR(AND(C33<>\"\",D33>E33,WEEKDAY(A33,2)=5),AND(C33=\"\",WEEKDAY(A33,2)>5)),IF(D33=\"\",\"\",ColTime(Data!$J$3,Data!$L$3,D33,E33)),\"\")","v":""},{"$f":"IF(C33<>\"\",IF(D33=\"\",\"\",(IF(E33-MAX(D33,(7/24))+(E33<D33)<0,0,E33-MAX(D33,(7/24))+(E33<D33)))-(IF((E33-MAX(D33,(15/24))+(E33<D33))<0,0,(E33-MAX(D33,(15/24))+(E33<D33))))),\"\")","v":""},{"$f":"IF(AND(C33=\"\",WEEKDAY(A33,2)<6),IF(D33=\"\",\"\",(IF(E33-MAX(D33,(15/24))+(E33<D33)<0,0,E33-MAX(D33,(15/24))+(E33<D33)))-(IF((E33-MAX(D33,(23/24))+(E33<D33))<0,0,(E33-MAX(D33,(23/24))+(E33<D33))))),\"\")","v":""},{"$f":"IF(AND(C33=\"\",WEEKDAY(A33,2)>5),IF(D33=\"\",\"\",(IF(E33-MAX(D33,(15/24))+(E33<D33)<0,0,E33-MAX(D33,(15/24))+($E33<D33)))-(IF((E33-MAX(D33,(23/24))+(E33<D33))<0,0,(E33-MAX(D33,(23/24))+(E33<D33))))),\"\")","v":""},{"$f":"IF(C33<>\"\",IF(D33=\"\",\"\",(IF(E33-MAX(D33,(15/24))+(E33<D33)<0,0,E33-MAX(D33,(15/24))+(E33<D33)))-(IF((E33-MAX(D33,(23/24))+(E33<D33))<0,0,(E33-MAX(D33,(23/24))+(E33<D33))))),\"\")","v":""},{"$f":"IF(AND(C33=\"\",WEEKDAY(A33,2)<5),IF(D33=\"\",\"\",(IF(E33-MAX(D33,(23/24))+(E33<D33)<0,0,E33-MAX(D33,(23/24))+(E33<D33)))-(IF((E33-MAX(D33,(24/24))+(E33<D33))<0,0,(E33-MAX(D33,(24/24))+(E33<D33))))),\"\")","v":""},{"$f":"IF(AND(C33=\"\",WEEKDAY(A33,2)>4),IF(D33=\"\",\"\",(IF(E33-MAX(D33,(23/24))+(E33<D33)<0,0,E33-MAX(D33,(23/24))+(E33<D33)))-(IF((E33-MAX(D33,(24/24))+(E33<D33))<0,0,(E33-MAX(D33,(24/24))+(E33<D33))))),\"\")","v":""},"",{"$f":"IF(OR(AND(C33=\"\",D33<E33,OR(WEEKDAY(A33,2)=1,WEEKDAY(A33,2)>=6)),AND(C33=\"\",D33>E33,OR(WEEKDAY(A33,2)>=5)),AND(C33<>\"\",D33>E33,WEEKDAY(A33,2)>=5)),ColTime(Data!$J$6,Data!$L$6,D33,E33),\"\")","v":""},{"$f":"IFERROR(IF(OR(AND(WEEKDAY(A33,2)>1,WEEKDAY(A33,2)<6,D33<E33,C33=\"\"),AND(C33=\"\",WEEKDAY(A33,2)=1,E33<D33),AND(C33<>\"\",D33<E33,WEEKDAY(A33,2)>1,WEEKDAY(A33,2)<4),AND(C33<>\"\",D33>E33,WEEKDAY(A33,2)=1)),ColTime(Data!$J$6,Data!$L$6,D33,E33),\"\"),\"\")","v":""},null,{"$f":"IF(F33=\"\",\"\",IF(AND(C33<>\"\",OR(D33<E33,AND(D33>E33,C367<>\"\"))),ColTime(Data!$J$6,Data!$L$6,D33,E33),\"\"))","v":""}]
["2020-01-29","On","",null,null,"",null,null,null,{"$f":"IF(OR(AND(C34<>\"\",D34>E34,WEEKDAY(A34,2)=5),AND(C34=\"\",WEEKDAY(A34,2)>5)),IF(D34=\"\",\"\",ColTime(Data!$J$3,Data!$L$3,D34,E34)),\"\")","v":""},"","","","","","","",{"$f":"IF(OR(AND(C34=\"\",D34<E34,OR(WEEKDAY(A34,2)=1,WEEKDAY(A34,2)>=6)),AND(C34=\"\",D34>E34,OR(WEEKDAY(A34,2)>=5)),AND(C34<>\"\",D34>E34,WEEKDAY(A34,2)>=5)),ColTime(Data!$J$6,Data!$L$6,D34,E34),\"\")","v":""},{"$f":"IFERROR(IF(OR(AND(WEEKDAY(A34,2)>1,WEEKDAY(A34,2)<6,D34<E34,C34=\"\"),AND(C34=\"\",WEEKDAY(A34,2)=1,E34<D34),AND(C34<>\"\",D34<E34,WEEKDAY(A34,2)>1,WEEKDAY(A34,2)<4),AND(C34<>\"\",D34>E34,WEEKDAY(A34,2)=1)),ColTime(Data!$J$6,Data!$L$6,D34,E34),\"\"),\"\")","v":""},null,{"$f":"IF(F34=\"\",\"\",IF(AND(C34<>\"\",OR(D34<E34,AND(D34>E34,C370<>\"\"))),ColTime(Data!$J$6,Data!$L$6,D34,E34),\"\"))","v":""}]
["2020-01-30","To","",null,null,"",null,null,null,{"$f":"IF(OR(AND(C35<>\"\",D35>E35,WEEKDAY(A35,2)=5),AND(C35=\"\",WEEKDAY(A35,2)>5)),IF(D35=\"\",\"\",ColTime(Data!$J$3,Data!$L$3,D35,E35)),\"\")","v":""},"","","","","","","",{"$f":"IF(OR(AND(C35=\"\",D35<E35,OR(WEEKDAY(A35,2)=1,WEEKDAY(A35,2)>=6)),AND(C35=\"\",D35>E35,OR(WEEKDAY(A35,2)>=5)),AND(C35<>\"\",D35>E35,WEEKDAY(A35,2)>=5)),ColTime(Data!$J$6,Data!$L$6,D35,E35),\"\")","v":""},{"$f":"IFERROR(IF(OR(AND(WEEKDAY(A35,2)>1,WEEKDAY(A35,2)<6,D35<E35,C35=\"\"),AND(C35=\"\",WEEKDAY(A35,2)=1,E35<D35),AND(C35<>\"\",D35<E35,WEEKDAY(A35,2)>1,WEEKDAY(A35,2)<4),AND(C35<>\"\",D35>E35,WEEKDAY(A35,2)=1)),ColTime(Data!$J$6,Data!$L$6,D35,E35),\"\"),\"\")","v":""},null,{"$f":"IF(F35=\"\",\"\",IF(AND(C35<>\"\",OR(D35<E35,AND(D35>E35,C371<>\"\"))),ColTime(Data!$J$6,Data!$L$6,D35,E35),\"\"))","v":""}]
["2020-01-31","Fr","",null,null,"",null,null,null,{"$f":"IF(OR(AND(C36<>\"\",D36>E36,WEEKDAY(A36,2)=5),AND(C36=\"\",WEEKDAY(A36,2)>5)),IF(D36=\"\",\"\",ColTime(Data!$J$3,Data!$L$3,D36,E36)),\"\")","v":""},"","","","","","","",{"$f":"IF(OR(AND(C36=\"\",D36<E36,OR(WEEKDAY(A36,2)=1,WEEKDAY(A36,2)>=6)),AND(C36=\"\",D36>E36,OR(WEEKDAY(A36,2)>=5)),AND(C36<>\"\",D36>E36,WEEKDAY(A36,2)>=5)),ColTime(Data!$J$6,Data!$L$6,D36,E36),\"\")","v":""},{"$f":"IFERROR(IF(OR(AND(WEEKDAY(A36,2)>1,WEEKDAY(A36,2)<6,D36<E36,C36=\"\"),AND(C36=\"\",WEEKDAY(A36,2)=1,E36<D36),AND(C36<>\"\",D36<E36,WEEKDAY(A36,2)>1,WEEKDAY(A36,2)<4),AND(C36<>\"\",D36>E36,WEEKDAY(A36,2)=1)),ColTime(Data!$J$6,Data!$L$6,D36,E36),\"\"),\"\")","v":""},null,{"$f":"IF(F36=\"\",\"\",IF(AND(C36<>\"\",OR(D36<E36,AND(D36>E36,C372<>\"\"))),ColTime(Data!$J$6,Data!$L$6,D36,E36),\"\"))","v":""}]
["2020-02-01","Lø","",null,null,"",null,null,null,{"$f":"IF(OR(AND(C37<>\"\",D37>E37,WEEKDAY(A37,2)=5),AND(C37=\"\",WEEKDAY(A37,2)>5)),IF(D37=\"\",\"\",ColTime(Data!$J$3,Data!$L$3,D37,E37)),\"\")","v":""},"","","","","","","",{"$f":"IF(OR(AND(C37=\"\",D37<E37,OR(WEEKDAY(A37,2)=1,WEEKDAY(A37,2)>=6)),AND(C37=\"\",D37>E37,OR(WEEKDAY(A37,2)>=5)),AND(C37<>\"\",D37>E37,WEEKDAY(A37,2)>=5)),ColTime(Data!$J$6,Data!$L$6,D37,E37),\"\")","v":""},{"$f":"IFERROR(IF(OR(AND(WEEKDAY(A37,2)>1,WEEKDAY(A37,2)<6,D37<E37,C37=\"\"),AND(C37=\"\",WEEKDAY(A37,2)=1,E37<D37),AND(C37<>\"\",D37<E37,WEEKDAY(A37,2)>1,WEEKDAY(A37,2)<4),AND(C37<>\"\",D37>E37,WEEKDAY(A37,2)=1)),ColTime(Data!$J$6,Data!$L$6,D37,E37),\"\"),\"\")","v":""},null,{"$f":"IF(F37=\"\",\"\",IF(AND(C37<>\"\",OR(D37<E37,AND(D37>E37,C373<>\"\"))),ColTime(Data!$J$6,Data!$L$6,D37,E37),\"\"))","v":""}]
["2020-02-02","Sø","Maria Renselsesdag",null,null,"",null,null,null,{"$f":"IF(OR(AND(C38<>\"\",D38>E38,WEEKDAY(A38,2)=5),AND(C38=\"\",WEEKDAY(A38,2)>5)),IF(D38=\"\",\"\",ColTime(Data!$J$3,Data!$L$3,D38,E38)),\"\")","v":""},"","","","","","","",{"$f":"IF(OR(AND(C38=\"\",D38<E38,OR(WEEKDAY(A38,2)=1,WEEKDAY(A38,2)>=6)),AND(C38=\"\",D38>E38,OR(WEEKDAY(A38,2)>=5)),AND(C38<>\"\",D38>E38,WEEKDAY(A38,2)>=5)),ColTime(Data!$J$6,Data!$L$6,D38,E38),\"\")","v":""},{"$f":"IFERROR(IF(OR(AND(WEEKDAY(A38,2)>1,WEEKDAY(A38,2)<6,D38<E38,C38=\"\"),AND(C38=\"\",WEEKDAY(A38,2)=1,E38<D38),AND(C38<>\"\",D38<E38,WEEKDAY(A38,2)>1,WEEKDAY(A38,2)<4),AND(C38<>\"\",D38>E38,WEEKDAY(A38,2)=1)),ColTime(Data!$J$6,Data!$L$6,D38,E38),\"\"),\"\")","v":""},null,{"$f":"IF(F38=\"\",\"\",IF(AND(C38<>\"\",OR(D38<E38,AND(D38>E38,C374<>\"\"))),ColTime(Data!$J$6,Data!$L$6,D38,E38),\"\"))","v":""}]
["2020-02-03","Ma","",null,null,"",null,null,null,{"$f":"IF(OR(AND(C39<>\"\",D39>E39,WEEKDAY(A39,2)=5),AND(C39=\"\",WEEKDAY(A39,2)>5)),IF(D39=\"\",\"\",ColTime(Data!$J$3,Data!$L$3,D39,E39)),\"\")","v":""},"","","","","","","",{"$f":"IF(OR(AND(C39=\"\",D39<E39,OR(WEEKDAY(A39,2)=1,WEEKDAY(A39,2)>=6)),AND(C39=\"\",D39>E39,OR(WEEKDAY(A39,2)>=5)),AND(C39<>\"\",D39>E39,WEEKDAY(A39,2)>=5)),ColTime(Data!$J$6,Data!$L$6,D39,E39),\"\")","v":""},{"$f":"IFERROR(IF(OR(AND(WEEKDAY(A39,2)>1,WEEKDAY(A39,2)<6,D39<E39,C39=\"\"),AND(C39=\"\",WEEKDAY(A39,2)=1,E39<D39),AND(C39<>\"\",D39<E39,WEEKDAY(A39,2)>1,WEEKDAY(A39,2)<4),AND(C39<>\"\",D39>E39,WEEKDAY(A39,2)=1)),ColTime(Data!$J$6,Data!$L$6,D39,E39),\"\"),\"\")","v":""},null,{"$f":"IF(F39=\"\",\"\",IF(AND(C39<>\"\",OR(D39<E39,AND(D39>E39,C375<>\"\"))),ColTime(Data!$J$6,Data!$L$6,D39,E39),\"\"))","v":""}]
["2020-02-04","Ti","",null,null,"",null,null,null,{"$f":"IF(OR(AND(C40<>\"\",D40>E40,WEEKDAY(A40,2)=5),AND(C40=\"\",WEEKDAY(A40,2)>5)),IF(D40=\"\",\"\",ColTime(Data!$J$3,Data!$L$3,D40,E40)),\"\")","v":""},"","","","","","","",{"$f":"IF(OR(AND(C40=\"\",D40<E40,OR(WEEKDAY(A40,2)=1,WEEKDAY(A40,2)>=6)),AND(C40=\"\",D40>E40,OR(WEEKDAY(A40,2)>=5)),AND(C40<>\"\",D40>E40,WEEKDAY(A40,2)>=5)),ColTime(Data!$J$6,Data!$L$6,D40,E40),\"\")","v":""},{"$f":"IFERROR(IF(OR(AND(WEEKDAY(A40,2)>1,WEEKDAY(A40,2)<6,D40<E40,C40=\"\"),AND(C40=\"\",WEEKDAY(A40,2)=1,E40<D40),AND(C40<>\"\",D40<E40,WEEKDAY(A40,2)>1,WEEKDAY(A40,2)<4),AND(C40<>\"\",D40>E40,WEEKDAY(A40,2)=1)),ColTime(Data!$J$6,Data!$L$6,D40,E40),\"\"),\"\")","v":""},null,{"$f":"IF(F40=\"\",\"\",IF(AND(C40<>\"\",OR(D40<E40,AND(D40>E40,C376<>\"\"))),ColTime(Data!$J$6,Data!$L$6,D40,E40),\"\"))","v":""}]
["2020-02-05","On","",null,null,"",null,null,null,{"$f":"IF(OR(AND(C41<>\"\",D41>E41,WEEKDAY(A41,2)=5),AND(C41=\"\",WEEKDAY(A41,2)>5)),IF(D41=\"\",\"\",ColTime(Data!$J$3,Data!$L$3,D41,E41)),\"\")","v":""},"","","","","","","",{"$f":"IF(OR(AND(C41=\"\",D41<E41,OR(WEEKDAY(A41,2)=1,WEEKDAY(A41,2)>=6)),AND(C41=\"\",D41>E41,OR(WEEKDAY(A41,2)>=5)),AND(C41<>\"\",D41>E41,WEEKDAY(A41,2)>=5)),ColTime(Data!$J$6,Data!$L$6,D41,E41),\"\")","v":""},{"$f":"IFERROR(IF(OR(AND(WEEKDAY(A41,2)>1,WEEKDAY(A41,2)<6,D41<E41,C41=\"\"),AND(C41=\"\",WEEKDAY(A41,2)=1,E41<D41),AND(C41<>\"\",D41<E41,WEEKDAY(A41,2)>1,WEEKDAY(A41,2)<4),AND(C41<>\"\",D41>E41,WEEKDAY(A41,2)=1)),ColTime(Data!$J$6,Data!$L$6,D41,E41),\"\"),\"\")","v":""},null,{"$f":"IF(F41=\"\",\"\",IF(AND(C41<>\"\",OR(D41<E41,AND(D41>E41,C377<>\"\"))),ColTime(Data!$J$6,Data!$L$6,D41,E41),\"\"))","v":""}]
["2020-02-06","To","",null,null,"",null,null,null,{"$f":"IF(OR(AND(C42<>\"\",D42>E42,WEEKDAY(A42,2)=5),AND(C42=\"\",WEEKDAY(A42,2)>5)),IF(D42=\"\",\"\",ColTime(Data!$J$3,Data!$L$3,D42,E42)),\"\")","v":""},"","","","","","","",{"$f":"IF(OR(AND(C42=\"\",D42<E42,OR(WEEKDAY(A42,2)=1,WEEKDAY(A42,2)>=6)),AND(C42=\"\",D42>E42,OR(WEEKDAY(A42,2)>=5)),AND(C42<>\"\",D42>E42,WEEKDAY(A42,2)>=5)),ColTime(Data!$J$6,Data!$L$6,D42,E42),\"\")","v":""},{"$f":"IFERROR(IF(OR(AND(WEEKDAY(A42,2)>1,WEEKDAY(A42,2)<6,D42<E42,C42=\"\"),AND(C42=\"\",WEEKDAY(A42,2)=1,E42<D42),AND(C42<>\"\",D42<E42,WEEKDAY(A42,2)>1,WEEKDAY(A42,2)<4),AND(C42<>\"\",D42>E42,WEEKDAY(A42,2)=1)),ColTime(Data!$J$6,Data!$L$6,D42,E42),\"\"),\"\")","v":""},null,{"$f":"IF(F42=\"\",\"\",IF(AND(C42<>\"\",OR(D42<E42,AND(D42>E42,C378<>\"\"))),ColTime(Data!$J$6,Data!$L$6,D42,E42),\"\"))","v":""}]
["2020-02-07","Fr","",null,null,"",null,null,null,{"$f":"IF(OR(AND(C43<>\"\",D43>E43,WEEKDAY(A43,2)=5),AND(C43=\"\",WEEKDAY(A43,2)>5)),IF(D43=\"\",\"\",ColTime(Data!$J$3,Data!$L$3,D43,E43)),\"\")","v":""},"","","","","","","",{"$f":"IF(OR(AND(C43=\"\",D43<E43,OR(WEEKDAY(A43,2)=1,WEEKDAY(A43,2)>=6)),AND(C43=\"\",D43>E43,OR(WEEKDAY(A43,2)>=5)),AND(C43<>\"\",D43>E43,WEEKDAY(A43,2)>=5)),ColTime(Data!$J$6,Data!$L$6,D43,E43),\"\")","v":""},{"$f":"IFERROR(IF(OR(AND(WEEKDAY(A43,2)>1,WEEKDAY(A43,2)<6,D43<E43,C43=\"\"),AND(C43=\"\",WEEKDAY(A43,2)=1,E43<D43),AND(C43<>\"\",D43<E43,WEEKDAY(A43,2)>1,WEEKDAY(A43,2)<4),AND(C43<>\"\",D43>E43,WEEKDAY(A43,2)=1)),ColTime(Data!$J$6,Data!$L$6,D43,E43),\"\"),\"\")","v":""},null,{"$f":"IF(F43=\"\",\"\",IF(AND(C43<>\"\",OR(D43<E43,AND(D43>E43,C379<>\"\"))),ColTime(Data!$J$6,Data!$L$6,D43,E43),\"\"))","v":""}]
["2020-02-08","Lø","",null,null,"",null,null,null,{"$f":"IF(OR(AND(C44<>\"\",D44>E44,WEEKDAY(A44,2)=5),AND(C44=\"\",WEEKDAY(A44,2)>5)),IF(D44=\"\",\"\",ColTime(Data!$J$3,Data!$L$3,D44,E44)),\"\")","v":""},"","","","","","","",{"$f":"IF(OR(AND(C44=\"\",D44<E44,OR(WEEKDAY(A44,2)=1,WEEKDAY(A44,2)>=6)),AND(C44=\"\",D44>E44,OR(WEEKDAY(A44,2)>=5)),AND(C44<>\"\",D44>E44,WEEKDAY(A44,2)>=5)),ColTime(Data!$J$6,Data!$L$6,D44,E44),\"\")","v":""},{"$f":"IFERROR(IF(OR(AND(WEEKDAY(A44,2)>1,WEEKDAY(A44,2)<6,D44<E44,C44=\"\"),AND(C44=\"\",WEEKDAY(A44,2)=1,E44<D44),AND(C44<>\"\",D44<E44,WEEKDAY(A44,2)>1,WEEKDAY(A44,2)<4),AND(C44<>\"\",D44>E44,WEEKDAY(A44,2)=1)),ColTime(Data!$J$6,Data!$L$6,D44,E44),\"\"),\"\")","v":""},null,{"$f":"IF(F44=\"\",\"\",IF(AND(C44<>\"\",OR(D44<E44,AND(D44>E44,C380<>\"\"))),ColTime(Data!$J$6,Data!$L$6,D44,E44),\"\"))","v":""}]
["2020-02-09","Sø","",null,null,"",null,null,null,{"$f":"IF(OR(AND(C45<>\"\",D45>E45,WEEKDAY(A45,2)=5),AND(C45=\"\",WEEKDAY(A45,2)>5)),IF(D45=\"\",\"\",ColTime(Data!$J$3,Data!$L$3,D45,E45)),\"\")","v":""},"","","","","","","",{"$f":"IF(OR(AND(C45=\"\",D45<E45,OR(WEEKDAY(A45,2)=1,WEEKDAY(A45,2)>=6)),AND(C45=\"\",D45>E45,OR(WEEKDAY(A45,2)>=5)),AND(C45<>\"\",D45>E45,WEEKDAY(A45,2)>=5)),ColTime(Data!$J$6,Data!$L$6,D45,E45),\"\")","v":""},{"$f":"IFERROR(IF(OR(AND(WEEKDAY(A45,2)>1,WEEKDAY(A45,2)<6,D45<E45,C45=\"\"),AND(C45=\"\",WEEKDAY(A45,2)=1,E45<D45),AND(C45<>\"\",D45<E45,WEEKDAY(A45,2)>1,WEEKDAY(A45,2)<4),AND(C45<>\"\",D45>E45,WEEKDAY(A45,2)=1)),ColTime(Data!$J$6,Data!$L$6,D45,E45),\"\"),\"\")","v":""},null,{"$f":"IF(F45=\"\",\"\",IF(AND(C45<>\"\",OR(D45<E45,AND(D45>E45,C381<>\"\"))),ColTime(Data!$J$6,Data!$L$6,D45,E45),\"\"))","v":""}]
["2020-02-10","Ma","",null,null,"",null,null,null,{"$f":"IF(OR(AND(C46<>\"\",D46>E46,WEEKDAY(A46,2)=5),AND(C46=\"\",WEEKDAY(A46,2)>5)),IF(D46=\"\",\"\",ColTime(Data!$J$3,Data!$L$3,D46,E46)),\"\")","v":""},"","","","","","","",{"$f":"IF(OR(AND(C46=\"\",D46<E46,OR(WEEKDAY(A46,2)=1,WEEKDAY(A46,2)>=6)),AND(C46=\"\",D46>E46,OR(WEEKDAY(A46,2)>=5)),AND(C46<>\"\",D46>E46,WEEKDAY(A46,2)>=5)),ColTime(Data!$J$6,Data!$L$6,D46,E46),\"\")","v":""},{"$f":"IFERROR(IF(OR(AND(WEEKDAY(A46,2)>1,WEEKDAY(A46,2)<6,D46<E46,C46=\"\"),AND(C46=\"\",WEEKDAY(A46,2)=1,E46<D46),AND(C46<>\"\",D46<E46,WEEKDAY(A46,2)>1,WEEKDAY(A46,2)<4),AND(C46<>\"\",D46>E46,WEEKDAY(A46,2)=1)),ColTime(Data!$J$6,Data!$L$6,D46,E46),\"\"),\"\")","v":""},null,{"$f":"IF(F46=\"\",\"\",IF(AND(C46<>\"\",OR(D46<E46,AND(D46>E46,C382<>\"\"))),ColTime(Data!$J$6,Data!$L$6,D46,E46),\"\"))","v":""}]
["2020-02-11","Ti","",null,null,"",null,null,null,{"$f":"IF(OR(AND(C47<>\"\",D47>E47,WEEKDAY(A47,2)=5),AND(C47=\"\",WEEKDAY(A47,2)>5)),IF(D47=\"\",\"\",ColTime(Data!$J$3,Data!$L$3,D47,E47)),\"\")","v":""},"","","","","","","",{"$f":"IF(OR(AND(C47=\"\",D47<E47,OR(WEEKDAY(A47,2)=1,WEEKDAY(A47,2)>=6)),AND(C47=\"\",D47>E47,OR(WEEKDAY(A47,2)>=5)),AND(C47<>\"\",D47>E47,WEEKDAY(A47,2)>=5)),ColTime(Data!$J$6,Data!$L$6,D47,E47),\"\")","v":""},{"$f":"IFERROR(IF(OR(AND(WEEKDAY(A47,2)>1,WEEKDAY(A47,2)<6,D47<E47,C47=\"\"),AND(C47=\"\",WEEKDAY(A47,2)=1,E47<D47),AND(C47<>\"\",D47<E47,WEEKDAY(A47,2)>1,WEEKDAY(A47,2)<4),AND(C47<>\"\",D47>E47,WEEKDAY(A47,2)=1)),ColTime(Data!$J$6,Data!$L$6,D47,E47),\"\"),\"\")","v":""},null,{"$f":"IF(F47=\"\",\"\",IF(AND(C47<>\"\",OR(D47<E47,AND(D47>E47,C383<>\"\"))),ColTime(Data!$J$6,Data!$L$6,D47,E47),\"\"))","v":""}]
["2020-02-12","On","",null,null,"",null,null,null,{"$f":"IF(OR(AND(C48<>\"\",D48>E48,WEEKDAY(A48,2)=5),AND(C48=\"\",WEEKDAY(A48,2)>5)),IF(D48=\"\",\"\",ColTime(Data!$J$3,Data!$L$3,D48,E48)),\"\")","v":""},"","","","","","","",{"$f":"IF(OR(AND(C48=\"\",D48<E48,OR(WEEKDAY(A48,2)=1,WEEKDAY(A48,2)>=6)),AND(C48=\"\",D48>E48,OR(WEEKDAY(A48,2)>=5)),AND(C48<>\"\",D48>E48,WEEKDAY(A48,2)>=5)),ColTime(Data!$J$6,Data!$L$6,D48,E48),\"\")","v":""},{"$f":"IFERROR(IF(OR(AND(WEEKDAY(A48,2)>1,WEEKDAY(A48,2)<6,D48<E48,C48=\"\"),AND(C48=\"\",WEEKDAY(A48,2)=1,E48<D48),AND(C48<>\"\",D48<E48,WEEKDAY(A48,2)>1,WEEKDAY(A48,2)<4),AND(C48<>\"\",D48>E48,WEEKDAY(A48,2)=1)),ColTime(Data!$J$6,Data!$L$6,D48,E48),\"\"),\"\")","v":""},null,{"$f":"IF(F48=\"\",\"\",IF(AND(C48<>\"\",OR(D48<E48,AND(D48>E48,C384<>\"\"))),ColTime(Data!$J$6,Data!$L$6,D48,E48),\"\"))","v":""}]
["2020-02-13","To","",null,null,"",null,null,null,{"$f":"IF(OR(AND(C49<>\"\",D49>E49,WEEKDAY(A49,2)=5),AND(C49=\"\",WEEKDAY(A49,2)>5)),IF(D49=\"\",\"\",ColTime(Data!$J$3,Data!$L$3,D49,E49)),\"\")","v":""},"","","","","","","",{"$f":"IF(OR(AND(C49=\"\",D49<E49,OR(WEEKDAY(A49,2)=1,WEEKDAY(A49,2)>=6)),AND(C49=\"\",D49>E49,OR(WEEKDAY(A49,2)>=5)),AND(C49<>\"\",D49>E49,WEEKDAY(A49,2)>=5)),ColTime(Data!$J$6,Data!$L$6,D49,E49),\"\")","v":""},{"$f":"IFERROR(IF(OR(AND(WEEKDAY(A49,2)>1,WEEKDAY(A49,2)<6,D49<E49,C49=\"\"),AND(C49=\"\",WEEKDAY(A49,2)=1,E49<D49),AND(C49<>\"\",D49<E49,WEEKDAY(A49,2)>1,WEEKDAY(A49,2)<4),AND(C49<>\"\",D49>E49,WEEKDAY(A49,2)=1)),ColTime(Data!$J$6,Data!$L$6,D49,E49),\"\"),\"\")","v":""},null,{"$f":"IF(F49=\"\",\"\",IF(AND(C49<>\"\",OR(D49<E49,AND(D49>E49,C385<>\"\"))),ColTime(Data!$J$6,Data!$L$6,D49,E49),\"\"))","v":""}]
["2020-02-14","Fr","",null,null,"",null,null,null,{"$f":"IF(OR(AND(C50<>\"\",D50>E50,WEEKDAY(A50,2)=5),AND(C50=\"\",WEEKDAY(A50,2)>5)),IF(D50=\"\",\"\",ColTime(Data!$J$3,Data!$L$3,D50,E50)),\"\")","v":""},"","","","","","","",{"$f":"IF(OR(AND(C50=\"\",D50<E50,OR(WEEKDAY(A50,2)=1,WEEKDAY(A50,2)>=6)),AND(C50=\"\",D50>E50,OR(WEEKDAY(A50,2)>=5)),AND(C50<>\"\",D50>E50,WEEKDAY(A50,2)>=5)),ColTime(Data!$J$6,Data!$L$6,D50,E50),\"\")","v":""},{"$f":"IFERROR(IF(OR(AND(WEEKDAY(A50,2)>1,WEEKDAY(A50,2)<6,D50<E50,C50=\"\"),AND(C50=\"\",WEEKDAY(A50,2)=1,E50<D50),AND(C50<>\"\",D50<E50,WEEKDAY(A50,2)>1,WEEKDAY(A50,2)<4),AND(C50<>\"\",D50>E50,WEEKDAY(A50,2)=1)),ColTime(Data!$J$6,Data!$L$6,D50,E50),\"\"),\"\")","v":""},null,{"$f":"IF(F50=\"\",\"\",IF(AND(C50<>\"\",OR(D50<E50,AND(D50>E50,C386<>\"\"))),ColTime(Data!$J$6,Data!$L$6,D50,E50),\"\"))","v":""}]
["2020-02-15","Lø","",null,null,"",null,null,null,{"$f":"IF(OR(AND(C51<>\"\",D51>E51,WEEKDAY(A51,2)=5),AND(C51=\"\",WEEKDAY(A51,2)>5)),IF(D51=\"\",\"\",ColTime(Data!$J$3,Data!$L$3,D51,E51)),\"\")","v":""},"","","","","","","",{"$f":"IF(OR(AND(C51=\"\",D51<E51,OR(WEEKDAY(A51,2)=1,WEEKDAY(A51,2)>=6)),AND(C51=\"\",D51>E51,OR(WEEKDAY(A51,2)>=5)),AND(C51<>\"\",D51>E51,WEEKDAY(A51,2)>=5)),ColTime(Data!$J$6,Data!$L$6,D51,E51),\"\")","v":""},{"$f":"IFERROR(IF(OR(AND(WEEKDAY(A51,2)>1,WEEKDAY(A51,2)<6,D51<E51,C51=\"\"),AND(C51=\"\",WEEKDAY(A51,2)=1,E51<D51),AND(C51<>\"\",D51<E51,WEEKDAY(A51,2)>1,WEEKDAY(A51,2)<4),AND(C51<>\"\",D51>E51,WEEKDAY(A51,2)=1)),ColTime(Data!$J$6,Data!$L$6,D51,E51),\"\"),\"\")","v":""},null,{"$f":"IF(F51=\"\",\"\",IF(AND(C51<>\"\",OR(D51<E51,AND(D51>E51,C387<>\"\"))),ColTime(Data!$J$6,Data!$L$6,D51,E51),\"\"))","v":""}]
["2020-02-16","Sø","",null,null,"",null,null,null,{"$f":"IF(OR(AND(C52<>\"\",D52>E52,WEEKDAY(A52,2)=5),AND(C52=\"\",WEEKDAY(A52,2)>5)),IF(D52=\"\",\"\",ColTime(Data!$J$3,Data!$L$3,D52,E52)),\"\")","v":""},"","","","","","","",{"$f":"IF(OR(AND(C52=\"\",D52<E52,OR(WEEKDAY(A52,2)=1,WEEKDAY(A52,2)>=6)),AND(C52=\"\",D52>E52,OR(WEEKDAY(A52,2)>=5)),AND(C52<>\"\",D52>E52,WEEKDAY(A52,2)>=5)),ColTime(Data!$J$6,Data!$L$6,D52,E52),\"\")","v":""},{"$f":"IFERROR(IF(OR(AND(WEEKDAY(A52,2)>1,WEEKDAY(A52,2)<6,D52<E52,C52=\"\"),AND(C52=\"\",WEEKDAY(A52,2)=1,E52<D52),AND(C52<>\"\",D52<E52,WEEKDAY(A52,2)>1,WEEKDAY(A52,2)<4),AND(C52<>\"\",D52>E52,WEEKDAY(A52,2)=1)),ColTime(Data!$J$6,Data!$L$6,D52,E52),\"\"),\"\")","v":""},null,{"$f":"IF(F52=\"\",\"\",IF(AND(C52<>\"\",OR(D52<E52,AND(D52>E52,C388<>\"\"))),ColTime(Data!$J$6,Data!$L$6,D52,E52),\"\"))","v":""}]
["2020-02-17","Ma","",null,null,"",null,null,null,{"$f":"IF(OR(AND(C53<>\"\",D53>E53,WEEKDAY(A53,2)=5),AND(C53=\"\",WEEKDAY(A53,2)>5)),IF(D53=\"\",\"\",ColTime(Data!$J$3,Data!$L$3,D53,E53)),\"\")","v":""},"","","","","","","",{"$f":"IF(OR(AND(C53=\"\",D53<E53,OR(WEEKDAY(A53,2)=1,WEEKDAY(A53,2)>=6)),AND(C53=\"\",D53>E53,OR(WEEKDAY(A53,2)>=5)),AND(C53<>\"\",D53>E53,WEEKDAY(A53,2)>=5)),ColTime(Data!$J$6,Data!$L$6,D53,E53),\"\")","v":""},{"$f":"IFERROR(IF(OR(AND(WEEKDAY(A53,2)>1,WEEKDAY(A53,2)<6,D53<E53,C53=\"\"),AND(C53=\"\",WEEKDAY(A53,2)=1,E53<D53),AND(C53<>\"\",D53<E53,WEEKDAY(A53,2)>1,WEEKDAY(A53,2)<4),AND(C53<>\"\",D53>E53,WEEKDAY(A53,2)=1)),ColTime(Data!$J$6,Data!$L$6,D53,E53),\"\"),\"\")","v":""},null,{"$f":"IF(F53=\"\",\"\",IF(AND(C53<>\"\",OR(D53<E53,AND(D53>E53,C389<>\"\"))),ColTime(Data!$J$6,Data!$L$6,D53,E53),\"\"))","v":""}]
["2020-02-18","Ti","",null,null,"",null,null,null,{"$f":"IF(OR(AND(C54<>\"\",D54>E54,WEEKDAY(A54,2)=5),AND(C54=\"\",WEEKDAY(A54,2)>5)),IF(D54=\"\",\"\",ColTime(Data!$J$3,Data!$L$3,D54,E54)),\"\")","v":""},"","","","","","","",{"$f":"IF(OR(AND(C54=\"\",D54<E54,OR(WEEKDAY(A54,2)=1,WEEKDAY(A54,2)>=6)),AND(C54=\"\",D54>E54,OR(WEEKDAY(A54,2)>=5)),AND(C54<>\"\",D54>E54,WEEKDAY(A54,2)>=5)),ColTime(Data!$J$6,Data!$L$6,D54,E54),\"\")","v":""},{"$f":"IFERROR(IF(OR(AND(WEEKDAY(A54,2)>1,WEEKDAY(A54,2)<6,D54<E54,C54=\"\"),AND(C54=\"\",WEEKDAY(A54,2)=1,E54<D54),AND(C54<>\"\",D54<E54,WEEKDAY(A54,2)>1,WEEKDAY(A54,2)<4),AND(C54<>\"\",D54>E54,WEEKDAY(A54,2)=1)),ColTime(Data!$J$6,Data!$L$6,D54,E54),\"\"),\"\")","v":""},null,{"$f":"IF(F54=\"\",\"\",IF(AND(C54<>\"\",OR(D54<E54,AND(D54>E54,C390<>\"\"))),ColTime(Data!$J$6,Data!$L$6,D54,E54),\"\"))","v":""}]
["2020-02-19","On","",null,null,"",null,null,null,{"$f":"IF(OR(AND(C55<>\"\",D55>E55,WEEKDAY(A55,2)=5),AND(C55=\"\",WEEKDAY(A55,2)>5)),IF(D55=\"\",\"\",ColTime(Data!$J$3,Data!$L$3,D55,E55)),\"\")","v":""},"","","","","","","",{"$f":"IF(OR(AND(C55=\"\",D55<E55,OR(WEEKDAY(A55,2)=1,WEEKDAY(A55,2)>=6)),AND(C55=\"\",D55>E55,OR(WEEKDAY(A55,2)>=5)),AND(C55<>\"\",D55>E55,WEEKDAY(A55,2)>=5)),ColTime(Data!$J$6,Data!$L$6,D55,E55),\"\")","v":""},{"$f":"IFERROR(IF(OR(AND(WEEKDAY(A55,2)>1,WEEKDAY(A55,2)<6,D55<E55,C55=\"\"),AND(C55=\"\",WEEKDAY(A55,2)=1,E55<D55),AND(C55<>\"\",D55<E55,WEEKDAY(A55,2)>1,WEEKDAY(A55,2)<4),AND(C55<>\"\",D55>E55,WEEKDAY(A55,2)=1)),ColTime(Data!$J$6,Data!$L$6,D55,E55),\"\"),\"\")","v":""},null,{"$f":"IF(F55=\"\",\"\",IF(AND(C55<>\"\",OR(D55<E55,AND(D55>E55,C391<>\"\"))),ColTime(Data!$J$6,Data!$L$6,D55,E55),\"\"))","v":""}]
["2020-02-20","To","",null,null,"",null,null,null,{"$f":"IF(OR(AND(C56<>\"\",D56>E56,WEEKDAY(A56,2)=5),AND(C56=\"\",WEEKDAY(A56,2)>5)),IF(D56=\"\",\"\",ColTime(Data!$J$3,Data!$L$3,D56,E56)),\"\")","v":""},"","","","","","","",{"$f":"IF(OR(AND(C56=\"\",D56<E56,OR(WEEKDAY(A56,2)=1,WEEKDAY(A56,2)>=6)),AND(C56=\"\",D56>E56,OR(WEEKDAY(A56,2)>=5)),AND(C56<>\"\",D56>E56,WEEKDAY(A56,2)>=5)),ColTime(Data!$J$6,Data!$L$6,D56,E56),\"\")","v":""},{"$f":"IFERROR(IF(OR(AND(WEEKDAY(A56,2)>1,WEEKDAY(A56,2)<6,D56<E56,C56=\"\"),AND(C56=\"\",WEEKDAY(A56,2)=1,E56<D56),AND(C56<>\"\",D56<E56,WEEKDAY(A56,2)>1,WEEKDAY(A56,2)<4),AND(C56<>\"\",D56>E56,WEEKDAY(A56,2)=1)),ColTime(Data!$J$6,Data!$L$6,D56,E56),\"\"),\"\")","v":""},null,{"$f":"IF(F56=\"\",\"\",IF(AND(C56<>\"\",OR(D56<E56,AND(D56>E56,C392<>\"\"))),ColTime(Data!$J$6,Data!$L$6,D56,E56),\"\"))","v":""}]
["2020-02-21","Fr","",null,null,"",null,null,null,{"$f":"IF(OR(AND(C57<>\"\",D57>E57,WEEKDAY(A57,2)=5),AND(C57=\"\",WEEKDAY(A57,2)>5)),IF(D57=\"\",\"\",ColTime(Data!$J$3,Data!$L$3,D57,E57)),\"\")","v":""},"","","","","","","",{"$f":"IF(OR(AND(C57=\"\",D57<E57,OR(WEEKDAY(A57,2)=1,WEEKDAY(A57,2)>=6)),AND(C57=\"\",D57>E57,OR(WEEKDAY(A57,2)>=5)),AND(C57<>\"\",D57>E57,WEEKDAY(A57,2)>=5)),ColTime(Data!$J$6,Data!$L$6,D57,E57),\"\")","v":""},{"$f":"IFERROR(IF(OR(AND(WEEKDAY(A57,2)>1,WEEKDAY(A57,2)<6,D57<E57,C57=\"\"),AND(C57=\"\",WEEKDAY(A57,2)=1,E57<D57),AND(C57<>\"\",D57<E57,WEEKDAY(A57,2)>1,WEEKDAY(A57,2)<4),AND(C57<>\"\",D57>E57,WEEKDAY(A57,2)=1)),ColTime(Data!$J$6,Data!$L$6,D57,E57),\"\"),\"\")","v":""},null,{"$f":"IF(F57=\"\",\"\",IF(AND(C57<>\"\",OR(D57<E57,AND(D57>E57,C393<>\"\"))),ColTime(Data!$J$6,Data!$L$6,D57,E57),\"\"))","v":""}]
["2020-02-22","Lø","",null,null,"",null,null,null,{"$f":"IF(OR(AND(C58<>\"\",D58>E58,WEEKDAY(A58,2)=5),AND(C58=\"\",WEEKDAY(A58,2)>5)),IF(D58=\"\",\"\",ColTime(Data!$J$3,Data!$L$3,D58,E58)),\"\")","v":""},"","","","","","","",{"$f":"IF(OR(AND(C58=\"\",D58<E58,OR(WEEKDAY(A58,2)=1,WEEKDAY(A58,2)>=6)),AND(C58=\"\",D58>E58,OR(WEEKDAY(A58,2)>=5)),AND(C58<>\"\",D58>E58,WEEKDAY(A58,2)>=5)),ColTime(Data!$J$6,Data!$L$6,D58,E58),\"\")","v":""},{"$f":"IFERROR(IF(OR(AND(WEEKDAY(A58,2)>1,WEEKDAY(A58,2)<6,D58<E58,C58=\"\"),AND(C58=\"\",WEEKDAY(A58,2)=1,E58<D58),AND(C58<>\"\",D58<E58,WEEKDAY(A58,2)>1,WEEKDAY(A58,2)<4),AND(C58<>\"\",D58>E58,WEEKDAY(A58,2)=1)),ColTime(Data!$J$6,Data!$L$6,D58,E58),\"\"),\"\")","v":""},null,{"$f":"IF(F58=\"\",\"\",IF(AND(C58<>\"\",OR(D58<E58,AND(D58>E58,C394<>\"\"))),ColTime(Data!$J$6,Data!$L$6,D58,E58),\"\"))","v":""}]
["2020-02-23","Sø","Fastelavn",null,null,"",null,null,null,{"$f":"IF(OR(AND(C59<>\"\",D59>E59,WEEKDAY(A59,2)=5),AND(C59=\"\",WEEKDAY(A59,2)>5)),IF(D59=\"\",\"\",ColTime(Data!$J$3,Data!$L$3,D59,E59)),\"\")","v":""},"","","","","","","",{"$f":"IF(OR(AND(C59=\"\",D59<E59,OR(WEEKDAY(A59,2)=1,WEEKDAY(A59,2)>=6)),AND(C59=\"\",D59>E59,OR(WEEKDAY(A59,2)>=5)),AND(C59<>\"\",D59>E59,WEEKDAY(A59,2)>=5)),ColTime(Data!$J$6,Data!$L$6,D59,E59),\"\")","v":""},{"$f":"IFERROR(IF(OR(AND(WEEKDAY(A59,2)>1,WEEKDAY(A59,2)<6,D59<E59,C59=\"\"),AND(C59=\"\",WEEKDAY(A59,2)=1,E59<D59),AND(C59<>\"\",D59<E59,WEEKDAY(A59,2)>1,WEEKDAY(A59,2)<4),AND(C59<>\"\",D59>E59,WEEKDAY(A59,2)=1)),ColTime(Data!$J$6,Data!$L$6,D59,E59),\"\"),\"\")","v":""},null,{"$f":"IF(F59=\"\",\"\",IF(AND(C59<>\"\",OR(D59<E59,AND(D59>E59,C395<>\"\"))),ColTime(Data!$J$6,Data!$L$6,D59,E59),\"\"))","v":""}]
["2020-02-24","Ma","",null,null,"",null,null,null,{"$f":"IF(OR(AND(C60<>\"\",D60>E60,WEEKDAY(A60,2)=5),AND(C60=\"\",WEEKDAY(A60,2)>5)),IF(D60=\"\",\"\",ColTime(Data!$J$3,Data!$L$3,D60,E60)),\"\")","v":""},"","","","","","","",{"$f":"IF(OR(AND(C60=\"\",D60<E60,OR(WEEKDAY(A60,2)=1,WEEKDAY(A60,2)>=6)),AND(C60=\"\",D60>E60,OR(WEEKDAY(A60,2)>=5)),AND(C60<>\"\",D60>E60,WEEKDAY(A60,2)>=5)),ColTime(Data!$J$6,Data!$L$6,D60,E60),\"\")","v":""},{"$f":"IFERROR(IF(OR(AND(WEEKDAY(A60,2)>1,WEEKDAY(A60,2)<6,D60<E60,C60=\"\"),AND(C60=\"\",WEEKDAY(A60,2)=1,E60<D60),AND(C60<>\"\",D60<E60,WEEKDAY(A60,2)>1,WEEKDAY(A60,2)<4),AND(C60<>\"\",D60>E60,WEEKDAY(A60,2)=1)),ColTime(Data!$J$6,Data!$L$6,D60,E60),\"\"),\"\")","v":""},null,{"$f":"IF(F60=\"\",\"\",IF(AND(C60<>\"\",OR(D60<E60,AND(D60>E60,C396<>\"\"))),ColTime(Data!$J$6,Data!$L$6,D60,E60),\"\"))","v":""}]
["2020-02-25","Ti","",null,null,"",null,null,null,{"$f":"IF(OR(AND(C61<>\"\",D61>E61,WEEKDAY(A61,2)=5),AND(C61=\"\",WEEKDAY(A61,2)>5)),IF(D61=\"\",\"\",ColTime(Data!$J$3,Data!$L$3,D61,E61)),\"\")","v":""},"","","","","","","",{"$f":"IF(OR(AND(C61=\"\",D61<E61,OR(WEEKDAY(A61,2)=1,WEEKDAY(A61,2)>=6)),AND(C61=\"\",D61>E61,OR(WEEKDAY(A61,2)>=5)),AND(C61<>\"\",D61>E61,WEEKDAY(A61,2)>=5)),ColTime(Data!$J$6,Data!$L$6,D61,E61),\"\")","v":""},{"$f":"IFERROR(IF(OR(AND(WEEKDAY(A61,2)>1,WEEKDAY(A61,2)<6,D61<E61,C61=\"\"),AND(C61=\"\",WEEKDAY(A61,2)=1,E61<D61),AND(C61<>\"\",D61<E61,WEEKDAY(A61,2)>1,WEEKDAY(A61,2)<4),AND(C61<>\"\",D61>E61,WEEKDAY(A61,2)=1)),ColTime(Data!$J$6,Data!$L$6,D61,E61),\"\"),\"\")","v":""},null,{"$f":"IF(F61=\"\",\"\",IF(AND(C61<>\"\",OR(D61<E61,AND(D61>E61,C397<>\"\"))),ColTime(Data!$J$6,Data!$L$6,D61,E61),\"\"))","v":""}]
["2020-02-26","On","",null,null,"",null,null,null,{"$f":"IF(OR(AND(C62<>\"\",D62>E62,WEEKDAY(A62,2)=5),AND(C62=\"\",WEEKDAY(A62,2)>5)),IF(D62=\"\",\"\",ColTime(Data!$J$3,Data!$L$3,D62,E62)),\"\")","v":""},"","","","","","","",{"$f":"IF(OR(AND(C62=\"\",D62<E62,OR(WEEKDAY(A62,2)=1,WEEKDAY(A62,2)>=6)),AND(C62=\"\",D62>E62,OR(WEEKDAY(A62,2)>=5)),AND(C62<>\"\",D62>E62,WEEKDAY(A62,2)>=5)),ColTime(Data!$J$6,Data!$L$6,D62,E62),\"\")","v":""},{"$f":"IFERROR(IF(OR(AND(WEEKDAY(A62,2)>1,WEEKDAY(A62,2)<6,D62<E62,C62=\"\"),AND(C62=\"\",WEEKDAY(A62,2)=1,E62<D62),AND(C62<>\"\",D62<E62,WEEKDAY(A62,2)>1,WEEKDAY(A62,2)<4),AND(C62<>\"\",D62>E62,WEEKDAY(A62,2)=1)),ColTime(Data!$J$6,Data!$L$6,D62,E62),\"\"),\"\")","v":""},null,{"$f":"IF(F62=\"\",\"\",IF(AND(C62<>\"\",OR(D62<E62,AND(D62>E62,C398<>\"\"))),ColTime(Data!$J$6,Data!$L$6,D62,E62),\"\"))","v":""}]
["2020-02-27","To","",null,null,"",null,null,null,{"$f":"IF(OR(AND(C63<>\"\",D63>E63,WEEKDAY(A63,2)=5),AND(C63=\"\",WEEKDAY(A63,2)>5)),IF(D63=\"\",\"\",ColTime(Data!$J$3,Data!$L$3,D63,E63)),\"\")","v":""},"",{"$f":"IFERROR(IF(AND(C63=\"\",WEEKDAY(A63,2)<6),IF(D63=\"\",\"\",(IF(E63-MAX(D63,(15/24))+(E63<D63)<0,0,E63-MAX(D63,(15/24))+(E63<D63)))-(IF((E63-MAX(D63,(23/24))+(E63<D63))<0,0,(E63-MAX(D63,(23/24))+(E63<D63))))),\"\"),\"\")","v":""},{"$f":"IFERROR(IF(AND(C63=\"\",WEEKDAY(A63,2)>5),IF(D63=\"\",\"\",(IF(E63-MAX(D63,(15/24))+(E63<D63)<0,0,E63-MAX(D63,(15/24))+($E63<D63)))-(IF((E63-MAX(D63,(23/24))+(E63<D63))<0,0,(E63-MAX(D63,(23/24))+(E63<D63))))),o),\"\")","v":""},"",{"$f":"IF(A63=\"\",\"\",IF(AND(C63=\"\",WEEKDAY(A63,2)<5),IF(D63=\"\",\"\",(IF(E63-MAX(D63,(23/24))+(E63<D63)<0,0,E63-MAX(D63,(23/24))+(E63<D63)))-(IF((E63-MAX(D63,(24/24))+(E63<D63))<0,0,(E63-MAX(D63,(24/24))+(E63<D63))))),\"\"))","v":""},{"$f":"IFERROR(IF(AND(C63=\"\",WEEKDAY(A63,2)>4),IF(D63=\"\",\"\",(IF(E63-MAX(D63,(23/24))+(E63<D63)<0,0,E63-MAX(D63,(23/24))+(E63<D63)))-(IF((E63-MAX(D63,(24/24))+(E63<D63))<0,0,(E63-MAX(D63,(24/24))+(E63<D63))))),\"\"),\"\")","v":""},"",{"$f":"IFERROR(IF(OR(AND(C63=\"\",D63<E63,OR(WEEKDAY(A63,2)=1,WEEKDAY(A63,2)>=6)),AND(C63=\"\",D63>E63,OR(WEEKDAY(A63,2)>=5)),AND(C63<>\"\",D63>E63,WEEKDAY(A63,2)>=5)),ColTime(Data!$J$6,Data!$L$6,D63,E63),\"\"),\"\")","v":""},{"$f":"IFERROR(IF(OR(AND(WEEKDAY(A63,2)>1,WEEKDAY(A63,2)<6,D63<E63,C63=\"\"),AND(C63=\"\",WEEKDAY(A63,2)=1,E63<D63),AND(C63<>\"\",D63<E63,WEEKDAY(A63,2)>1,WEEKDAY(A63,2)<4),AND(C63<>\"\",D63>E63,WEEKDAY(A63,2)=1)),ColTime(Data!$J$6,Data!$L$6,D63,E63),\"\"),\"\")","v":""},null,{"$f":"IF(F63=\"\",\"\",IF(AND(C63<>\"\",OR(D63<E63,AND(D63>E63,C367<>\"\"))),ColTime(Data!$J$6,Data!$L$6,D63,E63),\"\"))","v":""},null,"","","",""]
["2020-02-28",{"$f":"PROPER(TEXT(A64,\"ddd\"))","v":"Fr"},{"$f":"HelligdagsNavn(A64,0,0)","v":""},null,null,{"$f":"IF(D64=\"\",\"\",(E64-D64)+(D64>E64))","v":""},null,null,null,{"$f":"IF(OR(AND(C64<>\"\",D64>E64,WEEKDAY(A64,2)=5),AND(C64=\"\",WEEKDAY(A64,2)>5)),IF(D64=\"\",\"\",ColTime(Data!$J$3,Data!$L$3,D64,E64)),\"\")","v":""},{"$f":"IF(C64<>\"\",IF(D64=\"\",\"\",(IF(E64-MAX(D64,(7/24))+(E64<D64)<0,0,E64-MAX(D64,(7/24))+(E64<D64)))-(IF((E64-MAX(D64,(15/24))+(E64<D64))<0,0,(E64-MAX(D64,(15/24))+(E64<D64))))),\"\")","v":""},{"$f":"IFERROR(IF(AND(C64=\"\",WEEKDAY(A64,2)<6),IF(D64=\"\",\"\",(IF(E64-MAX(D64,(15/24))+(E64<D64)<0,0,E64-MAX(D64,(15/24))+(E64<D64)))-(IF((E64-MAX(D64,(23/24))+(E64<D64))<0,0,(E64-MAX(D64,(23/24))+(E64<D64))))),\"\"),\"\")","v":""},{"$f":"IFERROR(IF(AND(C64=\"\",WEEKDAY(A64,2)>5),IF(D64=\"\",\"\",(IF(E64-MAX(D64,(15/24))+(E64<D64)<0,0,E64-MAX(D64,(15/24))+($E64<D64)))-(IF((E64-MAX(D64,(23/24))+(E64<D64))<0,0,(E64-MAX(D64,(23/24))+(E64<D64))))),o),\"\")","v":""},{"$f":"IF(C64<>\"\",IF(D64=\"\",\"\",(IF(E64-MAX(D64,(15/24))+(E64<D64)<0,0,E64-MAX(D64,(15/24))+(E64<D64)))-(IF((E64-MAX(D64,(23/24))+(E64<D64))<0,0,(E64-MAX(D64,(23/24))+(E64<D64))))),\"\")","v":""},{"$f":"IF(A64=\"\",\"\",IF(AND(C64=\"\",WEEKDAY(A64,2)<5),IF(D64=\"\",\"\",(IF(E64-MAX(D64,(23/24))+(E64<D64)<0,0,E64-MAX(D64,(23/24))+(E64<D64)))-(IF((E64-MAX(D64,(24/24))+(E64<D64))<0,0,(E64-MAX(D64,(24/24))+(E64<D64))))),\"\"))","v":""},{"$f":"IFERROR(IF(AND(C64=\"\",WEEKDAY(A64,2)>4),IF(D64=\"\",\"\",(IF(E64-MAX(D64,(23/24))+(E64<D64)<0,0,E64-MAX(D64,(23/24))+(E64<D64)))-(IF((E64-MAX(D64,(24/24))+(E64<D64))<0,0,(E64-MAX(D64,(24/24))+(E64<D64))))),\"\"),\"\")","v":""},"",{"$f":"IFERROR(IF(OR(AND(C64=\"\",D64<E64,OR(WEEKDAY(A64,2)=1,WEEKDAY(A64,2)>=6)),AND(C64=\"\",D64>E64,OR(WEEKDAY(A64,2)>=5)),AND(C64<>\"\",D64>E64,WEEKDAY(A64,2)>=5)),ColTime(Data!$J$6,Data!$L$6,D64,E64),\"\"),\"\")","v":""},{"$f":"IFERROR(IF(OR(AND(WEEKDAY(A64,2)>1,WEEKDAY(A64,2)<6,D64<E64,C64=\"\"),AND(C64=\"\",WEEKDAY(A64,2)=1,E64<D64),AND(C64<>\"\",D64<E64,WEEKDAY(A64,2)>1,WEEKDAY(A64,2)<4),AND(C64<>\"\",D64>E64,WEEKDAY(A64,2)=1)),ColTime(Data!$J$6,Data!$L$6,D64,E64),\"\"),\"\")","v":""},null,{"$f":"IF(F64=\"\",\"\",IF(AND(C64<>\"\",OR(D64<E64,AND(D64>E64,C370<>\"\"))),ColTime(Data!$J$6,Data!$L$6,D64,E64),\"\"))","v":""}]
["2020-02-29","Lø","",null,null,"",null,null,null,{"$f":"IF(OR(AND(C65<>\"\",D65>E65,WEEKDAY(A65,2)=5),AND(C65=\"\",WEEKDAY(A65,2)>5)),IF(D65=\"\",\"\",ColTime(Data!$J$3,Data!$L$3,D65,E65)),\"\")","v":""},"","",{"$f":"IFERROR(IF(AND(C65=\"\",WEEKDAY(A65,2)>5),IF(D65=\"\",\"\",(IF(E65-MAX(D65,(15/24))+(E65<D65)<0,0,E65-MAX(D65,(15/24))+($E65<D65)))-(IF((E65-MAX(D65,(23/24))+(E65<D65))<0,0,(E65-MAX(D65,(23/24))+(E65<D65))))),o),\"\")","v":""},"","","","",{"$f":"IFERROR(IF(OR(AND(C65=\"\",D65<E65,OR(WEEKDAY(A65,2)=1,WEEKDAY(A65,2)>=6)),AND(C65=\"\",D65>E65,OR(WEEKDAY(A65,2)>=5)),AND(C65<>\"\",D65>E65,WEEKDAY(A65,2)>=5)),ColTime(Data!$J$6,Data!$L$6,D65,E65),\"\"),\"\")","v":""},{"$f":"IFERROR(IF(OR(AND(WEEKDAY(A65,2)>1,WEEKDAY(A65,2)<6,D65<E65,C65=\"\"),AND(C65=\"\",WEEKDAY(A65,2)=1,E65<D65),AND(C65<>\"\",D65<E65,WEEKDAY(A65,2)>1,WEEKDAY(A65,2)<4),AND(C65<>\"\",D65>E65,WEEKDAY(A65,2)=1)),ColTime(Data!$J$6,Data!$L$6,D65,E65),\"\"),\"\")","v":""},null,{"$f":"IF(F65=\"\",\"\",IF(AND(C65<>\"\",OR(D65<E65,AND(D65>E65,C371<>\"\"))),ColTime(Data!$J$6,Data!$L$6,D65,E65),\"\"))","v":""}]
["2020-03-01","Sø","",null,null,"",null,null,null,{"$f":"IF(OR(AND(C66<>\"\",D66>E66,WEEKDAY(A66,2)=5),AND(C66=\"\",WEEKDAY(A66,2)>5)),IF(D66=\"\",\"\",ColTime(Data!$J$3,Data!$L$3,D66,E66)),\"\")","v":""},"","",{"$f":"IFERROR(IF(AND(C66=\"\",WEEKDAY(A66,2)>5),IF(D66=\"\",\"\",(IF(E66-MAX(D66,(15/24))+(E66<D66)<0,0,E66-MAX(D66,(15/24))+($E66<D66)))-(IF((E66-MAX(D66,(23/24))+(E66<D66))<0,0,(E66-MAX(D66,(23/24))+(E66<D66))))),o),\"\")","v":""},"","","","",{"$f":"IFERROR(IF(OR(AND(C66=\"\",D66<E66,OR(WEEKDAY(A66,2)=1,WEEKDAY(A66,2)>=6)),AND(C66=\"\",D66>E66,OR(WEEKDAY(A66,2)>=5)),AND(C66<>\"\",D66>E66,WEEKDAY(A66,2)>=5)),ColTime(Data!$J$6,Data!$L$6,D66,E66),\"\"),\"\")","v":""},{"$f":"IFERROR(IF(OR(AND(WEEKDAY(A66,2)>1,WEEKDAY(A66,2)<6,D66<E66,C66=\"\"),AND(C66=\"\",WEEKDAY(A66,2)=1,E66<D66),AND(C66<>\"\",D66<E66,WEEKDAY(A66,2)>1,WEEKDAY(A66,2)<4),AND(C66<>\"\",D66>E66,WEEKDAY(A66,2)=1)),ColTime(Data!$J$6,Data!$L$6,D66,E66),\"\"),\"\")","v":""},null,{"$f":"IF(F66=\"\",\"\",IF(AND(C66<>\"\",OR(D66<E66,AND(D66>E66,C372<>\"\"))),ColTime(Data!$J$6,Data!$L$6,D66,E66),\"\"))","v":""}]
["2020-03-02","Ma","",null,null,"",null,null,null,{"$f":"IF(OR(AND(C67<>\"\",D67>E67,WEEKDAY(A67,2)=5),AND(C67=\"\",WEEKDAY(A67,2)>5)),IF(D67=\"\",\"\",ColTime(Data!$J$3,Data!$L$3,D67,E67)),\"\")","v":""},"","",{"$f":"IFERROR(IF(AND(C67=\"\",WEEKDAY(A67,2)>5),IF(D67=\"\",\"\",(IF(E67-MAX(D67,(15/24))+(E67<D67)<0,0,E67-MAX(D67,(15/24))+($E67<D67)))-(IF((E67-MAX(D67,(23/24))+(E67<D67))<0,0,(E67-MAX(D67,(23/24))+(E67<D67))))),o),\"\")","v":""},"","","","",{"$f":"IFERROR(IF(OR(AND(C67=\"\",D67<E67,OR(WEEKDAY(A67,2)=1,WEEKDAY(A67,2)>=6)),AND(C67=\"\",D67>E67,OR(WEEKDAY(A67,2)>=5)),AND(C67<>\"\",D67>E67,WEEKDAY(A67,2)>=5)),ColTime(Data!$J$6,Data!$L$6,D67,E67),\"\"),\"\")","v":""},{"$f":"IFERROR(IF(OR(AND(WEEKDAY(A67,2)>1,WEEKDAY(A67,2)<6,D67<E67,C67=\"\"),AND(C67=\"\",WEEKDAY(A67,2)=1,E67<D67),AND(C67<>\"\",D67<E67,WEEKDAY(A67,2)>1,WEEKDAY(A67,2)<4),AND(C67<>\"\",D67>E67,WEEKDAY(A67,2)=1)),ColTime(Data!$J$6,Data!$L$6,D67,E67),\"\"),\"\")","v":""},null,{"$f":"IF(F67=\"\",\"\",IF(AND(C67<>\"\",OR(D67<E67,AND(D67>E67,C373<>\"\"))),ColTime(Data!$J$6,Data!$L$6,D67,E67),\"\"))","v":""}]
["2020-03-03","Ti","",null,null,"",null,null,null,{"$f":"IF(OR(AND(C68<>\"\",D68>E68,WEEKDAY(A68,2)=5),AND(C68=\"\",WEEKDAY(A68,2)>5)),IF(D68=\"\",\"\",ColTime(Data!$J$3,Data!$L$3,D68,E68)),\"\")","v":""},"","",{"$f":"IFERROR(IF(AND(C68=\"\",WEEKDAY(A68,2)>5),IF(D68=\"\",\"\",(IF(E68-MAX(D68,(15/24))+(E68<D68)<0,0,E68-MAX(D68,(15/24))+($E68<D68)))-(IF((E68-MAX(D68,(23/24))+(E68<D68))<0,0,(E68-MAX(D68,(23/24))+(E68<D68))))),o),\"\")","v":""},"","","","",{"$f":"IFERROR(IF(OR(AND(C68=\"\",D68<E68,OR(WEEKDAY(A68,2)=1,WEEKDAY(A68,2)>=6)),AND(C68=\"\",D68>E68,OR(WEEKDAY(A68,2)>=5)),AND(C68<>\"\",D68>E68,WEEKDAY(A68,2)>=5)),ColTime(Data!$J$6,Data!$L$6,D68,E68),\"\"),\"\")","v":""},{"$f":"IFERROR(IF(OR(AND(WEEKDAY(A68,2)>1,WEEKDAY(A68,2)<6,D68<E68,C68=\"\"),AND(C68=\"\",WEEKDAY(A68,2)=1,E68<D68),AND(C68<>\"\",D68<E68,WEEKDAY(A68,2)>1,WEEKDAY(A68,2)<4),AND(C68<>\"\",D68>E68,WEEKDAY(A68,2)=1)),ColTime(Data!$J$6,Data!$L$6,D68,E68),\"\"),\"\")","v":""},null,{"$f":"IF(F68=\"\",\"\",IF(AND(C68<>\"\",OR(D68<E68,AND(D68>E68,C374<>\"\"))),ColTime(Data!$J$6,Data!$L$6,D68,E68),\"\"))","v":""}]
["2020-03-04","On","",null,null,"",null,null,null,{"$f":"IF(OR(AND(C69<>\"\",D69>E69,WEEKDAY(A69,2)=5),AND(C69=\"\",WEEKDAY(A69,2)>5)),IF(D69=\"\",\"\",ColTime(Data!$J$3,Data!$L$3,D69,E69)),\"\")","v":""},"","",{"$f":"IFERROR(IF(AND(C69=\"\",WEEKDAY(A69,2)>5),IF(D69=\"\",\"\",(IF(E69-MAX(D69,(15/24))+(E69<D69)<0,0,E69-MAX(D69,(15/24))+($E69<D69)))-(IF((E69-MAX(D69,(23/24))+(E69<D69))<0,0,(E69-MAX(D69,(23/24))+(E69<D69))))),o),\"\")","v":""},"","","","",{"$f":"IFERROR(IF(OR(AND(C69=\"\",D69<E69,OR(WEEKDAY(A69,2)=1,WEEKDAY(A69,2)>=6)),AND(C69=\"\",D69>E69,OR(WEEKDAY(A69,2)>=5)),AND(C69<>\"\",D69>E69,WEEKDAY(A69,2)>=5)),ColTime(Data!$J$6,Data!$L$6,D69,E69),\"\"),\"\")","v":""},{"$f":"IFERROR(IF(OR(AND(WEEKDAY(A69,2)>1,WEEKDAY(A69,2)<6,D69<E69,C69=\"\"),AND(C69=\"\",WEEKDAY(A69,2)=1,E69<D69),AND(C69<>\"\",D69<E69,WEEKDAY(A69,2)>1,WEEKDAY(A69,2)<4),AND(C69<>\"\",D69>E69,WEEKDAY(A69,2)=1)),ColTime(Data!$J$6,Data!$L$6,D69,E69),\"\"),\"\")","v":""},null,{"$f":"IF(F69=\"\",\"\",IF(AND(C69<>\"\",OR(D69<E69,AND(D69>E69,C375<>\"\"))),ColTime(Data!$J$6,Data!$L$6,D69,E69),\"\"))","v":""}]
["2020-03-05","To","",null,null,"",null,null,null,{"$f":"IF(OR(AND(C70<>\"\",D70>E70,WEEKDAY(A70,2)=5),AND(C70=\"\",WEEKDAY(A70,2)>5)),IF(D70=\"\",\"\",ColTime(Data!$J$3,Data!$L$3,D70,E70)),\"\")","v":""},"","",{"$f":"IFERROR(IF(AND(C70=\"\",WEEKDAY(A70,2)>5),IF(D70=\"\",\"\",(IF(E70-MAX(D70,(15/24))+(E70<D70)<0,0,E70-MAX(D70,(15/24))+($E70<D70)))-(IF((E70-MAX(D70,(23/24))+(E70<D70))<0,0,(E70-MAX(D70,(23/24))+(E70<D70))))),o),\"\")","v":""},"","","","",{"$f":"IFERROR(IF(OR(AND(C70=\"\",D70<E70,OR(WEEKDAY(A70,2)=1,WEEKDAY(A70,2)>=6)),AND(C70=\"\",D70>E70,OR(WEEKDAY(A70,2)>=5)),AND(C70<>\"\",D70>E70,WEEKDAY(A70,2)>=5)),ColTime(Data!$J$6,Data!$L$6,D70,E70),\"\"),\"\")","v":""},{"$f":"IFERROR(IF(OR(AND(WEEKDAY(A70,2)>1,WEEKDAY(A70,2)<6,D70<E70,C70=\"\"),AND(C70=\"\",WEEKDAY(A70,2)=1,E70<D70),AND(C70<>\"\",D70<E70,WEEKDAY(A70,2)>1,WEEKDAY(A70,2)<4),AND(C70<>\"\",D70>E70,WEEKDAY(A70,2)=1)),ColTime(Data!$J$6,Data!$L$6,D70,E70),\"\"),\"\")","v":""},null,{"$f":"IF(F70=\"\",\"\",IF(AND(C70<>\"\",OR(D70<E70,AND(D70>E70,C376<>\"\"))),ColTime(Data!$J$6,Data!$L$6,D70,E70),\"\"))","v":""}]
[{"$f":"A70+1","v":"2020-03-06"},"Fr","",null,null,"",null,null,null,{"$f":"IF(OR(AND(C71<>\"\",D71>E71,WEEKDAY(A71,2)=5),AND(C71=\"\",WEEKDAY(A71,2)>5)),IF(D71=\"\",\"\",ColTime(Data!$J$3,Data!$L$3,D71,E71)),\"\")","v":""},"","",{"$f":"IFERROR(IF(AND(C71=\"\",WEEKDAY(A71,2)>5),IF(D71=\"\",\"\",(IF(E71-MAX(D71,(15/24))+(E71<D71)<0,0,E71-MAX(D71,(15/24))+($E71<D71)))-(IF((E71-MAX(D71,(23/24))+(E71<D71))<0,0,(E71-MAX(D71,(23/24))+(E71<D71))))),o),\"\")","v":""},"","","","",{"$f":"IFERROR(IF(OR(AND(C71=\"\",D71<E71,OR(WEEKDAY(A71,2)=1,WEEKDAY(A71,2)>=6)),AND(C71=\"\",D71>E71,OR(WEEKDAY(A71,2)>=5)),AND(C71<>\"\",D71>E71,WEEKDAY(A71,2)>=5)),ColTime(Data!$J$6,Data!$L$6,D71,E71),\"\"),\"\")","v":""},{"$f":"IFERROR(IF(OR(AND(WEEKDAY(A71,2)>1,WEEKDAY(A71,2)<6,D71<E71,C71=\"\"),AND(C71=\"\",WEEKDAY(A71,2)=1,E71<D71),AND(C71<>\"\",D71<E71,WEEKDAY(A71,2)>1,WEEKDAY(A71,2)<4),AND(C71<>\"\",D71>E71,WEEKDAY(A71,2)=1)),ColTime(Data!$J$6,Data!$L$6,D71,E71),\"\"),\"\")","v":""},null,{"$f":"IF(F71=\"\",\"\",IF(AND(C71<>\"\",OR(D71<E71,AND(D71>E71,C377<>\"\"))),ColTime(Data!$J$6,Data!$L$6,D71,E71),\"\"))","v":""}]
["2020-03-07","Lø","",null,null,"",null,null,null,{"$f":"IF(OR(AND(C72<>\"\",D72>E72,WEEKDAY(A72,2)=5),AND(C72=\"\",WEEKDAY(A72,2)>5)),IF(D72=\"\",\"\",ColTime(Data!$J$3,Data!$L$3,D72,E72)),\"\")","v":""},"","",{"$f":"IFERROR(IF(AND(C72=\"\",WEEKDAY(A72,2)>5),IF(D72=\"\",\"\",(IF(E72-MAX(D72,(15/24))+(E72<D72)<0,0,E72-MAX(D72,(15/24))+($E72<D72)))-(IF((E72-MAX(D72,(23/24))+(E72<D72))<0,0,(E72-MAX(D72,(23/24))+(E72<D72))))),o),\"\")","v":""},"","","",{"$f":"IF(D72=\"\",\"\",IF(C72<>\"\",IF(D72=\"\",\"\",(IF(E72-MAX(D72,(23/24))+(E72<D72)<0,0,E72-MAX(D72,(23/24))+(E72<D72)))-(IF((E72-MAX(D72,(24/24))+(E72<D72))<0,0,(E72-MAX(D72,(24/24))+(E72<D72))))),0))","v":""},{"$f":"IFERROR(IF(OR(AND(C72=\"\",D72<E72,OR(WEEKDAY(A72,2)=1,WEEKDAY(A72,2)>=6)),AND(C72=\"\",D72>E72,OR(WEEKDAY(A72,2)>=5)),AND(C72<>\"\",D72>E72,WEEKDAY(A72,2)>=5)),ColTime(Data!$J$6,Data!$L$6,D72,E72),\"\"),\"\")","v":""},{"$f":"IFERROR(IF(OR(AND(WEEKDAY(A72,2)>1,WEEKDAY(A72,2)<6,D72<E72,C72=\"\"),AND(C72=\"\",WEEKDAY(A72,2)=1,E72<D72),AND(C72<>\"\",D72<E72,WEEKDAY(A72,2)>1,WEEKDAY(A72,2)<4),AND(C72<>\"\",D72>E72,WEEKDAY(A72,2)=1)),ColTime(Data!$J$6,Data!$L$6,D72,E72),\"\"),\"\")","v":""},null,{"$f":"IF(F72=\"\",\"\",IF(AND(C72<>\"\",OR(D72<E72,AND(D72>E72,C378<>\"\"))),ColTime(Data!$J$6,Data!$L$6,D72,E72),\"\"))","v":""}]
["2020-03-08","Sø","",null,null,"",null,null,null,{"$f":"IF(OR(AND(C73<>\"\",D73>E73,WEEKDAY(A73,2)=5),AND(C73=\"\",WEEKDAY(A73,2)>5)),IF(D73=\"\",\"\",ColTime(Data!$J$3,Data!$L$3,D73,E73)),\"\")","v":""},"","",{"$f":"IFERROR(IF(AND(C73=\"\",WEEKDAY(A73,2)>5),IF(D73=\"\",\"\",(IF(E73-MAX(D73,(15/24))+(E73<D73)<0,0,E73-MAX(D73,(15/24))+($E73<D73)))-(IF((E73-MAX(D73,(23/24))+(E73<D73))<0,0,(E73-MAX(D73,(23/24))+(E73<D73))))),o),\"\")","v":""},"","","","",{"$f":"IFERROR(IF(OR(AND(C73=\"\",D73<E73,OR(WEEKDAY(A73,2)=1,WEEKDAY(A73,2)>=6)),AND(C73=\"\",D73>E73,OR(WEEKDAY(A73,2)>=5)),AND(C73<>\"\",D73>E73,WEEKDAY(A73,2)>=5)),ColTime(Data!$J$6,Data!$L$6,D73,E73),\"\"),\"\")","v":""},{"$f":"IFERROR(IF(OR(AND(WEEKDAY(A73,2)>1,WEEKDAY(A73,2)<6,D73<E73,C73=\"\"),AND(C73=\"\",WEEKDAY(A73,2)=1,E73<D73),AND(C73<>\"\",D73<E73,WEEKDAY(A73,2)>1,WEEKDAY(A73,2)<4),AND(C73<>\"\",D73>E73,WEEKDAY(A73,2)=1)),ColTime(Data!$J$6,Data!$L$6,D73,E73),\"\"),\"\")","v":""},null,{"$f":"IF(F73=\"\",\"\",IF(AND(C73<>\"\",OR(D73<E73,AND(D73>E73,C379<>\"\"))),ColTime(Data!$J$6,Data!$L$6,D73,E73),\"\"))","v":""}]
["2020-03-09","Ma","",null,null,"",null,null,null,{"$f":"IF(OR(AND(C74<>\"\",D74>E74,WEEKDAY(A74,2)=5),AND(C74=\"\",WEEKDAY(A74,2)>5)),IF(D74=\"\",\"\",ColTime(Data!$J$3,Data!$L$3,D74,E74)),\"\")","v":""},"","",{"$f":"IFERROR(IF(AND(C74=\"\",WEEKDAY(A74,2)>5),IF(D74=\"\",\"\",(IF(E74-MAX(D74,(15/24))+(E74<D74)<0,0,E74-MAX(D74,(15/24))+($E74<D74)))-(IF((E74-MAX(D74,(23/24))+(E74<D74))<0,0,(E74-MAX(D74,(23/24))+(E74<D74))))),o),\"\")","v":""},"","","","",{"$f":"IFERROR(IF(OR(AND(C74=\"\",D74<E74,OR(WEEKDAY(A74,2)=1,WEEKDAY(A74,2)>=6)),AND(C74=\"\",D74>E74,OR(WEEKDAY(A74,2)>=5)),AND(C74<>\"\",D74>E74,WEEKDAY(A74,2)>=5)),ColTime(Data!$J$6,Data!$L$6,D74,E74),\"\"),\"\")","v":""},{"$f":"IFERROR(IF(OR(AND(WEEKDAY(A74,2)>1,WEEKDAY(A74,2)<6,D74<E74,C74=\"\"),AND(C74=\"\",WEEKDAY(A74,2)=1,E74<D74),AND(C74<>\"\",D74<E74,WEEKDAY(A74,2)>1,WEEKDAY(A74,2)<4),AND(C74<>\"\",D74>E74,WEEKDAY(A74,2)=1)),ColTime(Data!$J$6,Data!$L$6,D74,E74),\"\"),\"\")","v":""},null,{"$f":"IF(F74=\"\",\"\",IF(AND(C74<>\"\",OR(D74<E74,AND(D74>E74,C380<>\"\"))),ColTime(Data!$J$6,Data!$L$6,D74,E74),\"\"))","v":""}]
["2020-03-10","Ti","",null,null,"",null,null,null,{"$f":"IF(OR(AND(C75<>\"\",D75>E75,WEEKDAY(A75,2)=5),AND(C75=\"\",WEEKDAY(A75,2)>5)),IF(D75=\"\",\"\",ColTime(Data!$J$3,Data!$L$3,D75,E75)),\"\")","v":""},"","",{"$f":"IFERROR(IF(AND(C75=\"\",WEEKDAY(A75,2)>5),IF(D75=\"\",\"\",(IF(E75-MAX(D75,(15/24))+(E75<D75)<0,0,E75-MAX(D75,(15/24))+($E75<D75)))-(IF((E75-MAX(D75,(23/24))+(E75<D75))<0,0,(E75-MAX(D75,(23/24))+(E75<D75))))),o),\"\")","v":""},"","","","",{"$f":"IFERROR(IF(OR(AND(C75=\"\",D75<E75,OR(WEEKDAY(A75,2)=1,WEEKDAY(A75,2)>=6)),AND(C75=\"\",D75>E75,OR(WEEKDAY(A75,2)>=5)),AND(C75<>\"\",D75>E75,WEEKDAY(A75,2)>=5)),ColTime(Data!$J$6,Data!$L$6,D75,E75),\"\"),\"\")","v":""},{"$f":"IFERROR(IF(OR(AND(WEEKDAY(A75,2)>1,WEEKDAY(A75,2)<6,D75<E75,C75=\"\"),AND(C75=\"\",WEEKDAY(A75,2)=1,E75<D75),AND(C75<>\"\",D75<E75,WEEKDAY(A75,2)>1,WEEKDAY(A75,2)<4),AND(C75<>\"\",D75>E75,WEEKDAY(A75,2)=1)),ColTime(Data!$J$6,Data!$L$6,D75,E75),\"\"),\"\")","v":""},null,{"$f":"IF(F75=\"\",\"\",IF(AND(C75<>\"\",OR(D75<E75,AND(D75>E75,C381<>\"\"))),ColTime(Data!$J$6,Data!$L$6,D75,E75),\"\"))","v":""}]
["2020-03-11","On","",null,null,"",null,null,null,{"$f":"IF(OR(AND(C76<>\"\",D76>E76,WEEKDAY(A76,2)=5),AND(C76=\"\",WEEKDAY(A76,2)>5)),IF(D76=\"\",\"\",ColTime(Data!$J$3,Data!$L$3,D76,E76)),\"\")","v":""},"","",{"$f":"IFERROR(IF(AND(C76=\"\",WEEKDAY(A76,2)>5),IF(D76=\"\",\"\",(IF(E76-MAX(D76,(15/24))+(E76<D76)<0,0,E76-MAX(D76,(15/24))+($E76<D76)))-(IF((E76-MAX(D76,(23/24))+(E76<D76))<0,0,(E76-MAX(D76,(23/24))+(E76<D76))))),o),\"\")","v":""},"","","","",{"$f":"IFERROR(IF(OR(AND(C76=\"\",D76<E76,OR(WEEKDAY(A76,2)=1,WEEKDAY(A76,2)>=6)),AND(C76=\"\",D76>E76,OR(WEEKDAY(A76,2)>=5)),AND(C76<>\"\",D76>E76,WEEKDAY(A76,2)>=5)),ColTime(Data!$J$6,Data!$L$6,D76,E76),\"\"),\"\")","v":""},{"$f":"IFERROR(IF(OR(AND(WEEKDAY(A76,2)>1,WEEKDAY(A76,2)<6,D76<E76,C76=\"\"),AND(C76=\"\",WEEKDAY(A76,2)=1,E76<D76),AND(C76<>\"\",D76<E76,WEEKDAY(A76,2)>1,WEEKDAY(A76,2)<4),AND(C76<>\"\",D76>E76,WEEKDAY(A76,2)=1)),ColTime(Data!$J$6,Data!$L$6,D76,E76),\"\"),\"\")","v":""},null,{"$f":"IF(F76=\"\",\"\",IF(AND(C76<>\"\",OR(D76<E76,AND(D76>E76,C382<>\"\"))),ColTime(Data!$J$6,Data!$L$6,D76,E76),\"\"))","v":""}]
["2020-03-12","To","",null,null,"",null,null,null,{"$f":"IF(OR(AND(C77<>\"\",D77>E77,WEEKDAY(A77,2)=5),AND(C77=\"\",WEEKDAY(A77,2)>5)),IF(D77=\"\",\"\",ColTime(Data!$J$3,Data!$L$3,D77,E77)),\"\")","v":""},"","",{"$f":"IFERROR(IF(AND(C77=\"\",WEEKDAY(A77,2)>5),IF(D77=\"\",\"\",(IF(E77-MAX(D77,(15/24))+(E77<D77)<0,0,E77-MAX(D77,(15/24))+($E77<D77)))-(IF((E77-MAX(D77,(23/24))+(E77<D77))<0,0,(E77-MAX(D77,(23/24))+(E77<D77))))),o),\"\")","v":""},"","","","",{"$f":"IFERROR(IF(OR(AND(C77=\"\",D77<E77,OR(WEEKDAY(A77,2)=1,WEEKDAY(A77,2)>=6)),AND(C77=\"\",D77>E77,OR(WEEKDAY(A77,2)>=5)),AND(C77<>\"\",D77>E77,WEEKDAY(A77,2)>=5)),ColTime(Data!$J$6,Data!$L$6,D77,E77),\"\"),\"\")","v":""},{"$f":"IFERROR(IF(OR(AND(WEEKDAY(A77,2)>1,WEEKDAY(A77,2)<6,D77<E77,C77=\"\"),AND(C77=\"\",WEEKDAY(A77,2)=1,E77<D77),AND(C77<>\"\",D77<E77,WEEKDAY(A77,2)>1,WEEKDAY(A77,2)<4),AND(C77<>\"\",D77>E77,WEEKDAY(A77,2)=1)),ColTime(Data!$J$6,Data!$L$6,D77,E77),\"\"),\"\")","v":""},null,{"$f":"IF(F77=\"\",\"\",IF(AND(C77<>\"\",OR(D77<E77,AND(D77>E77,C383<>\"\"))),ColTime(Data!$J$6,Data!$L$6,D77,E77),\"\"))","v":""}]
["2020-03-13","Fr","",null,null,"",null,null,null,{"$f":"IF(OR(AND(C78<>\"\",D78>E78,WEEKDAY(A78,2)=5),AND(C78=\"\",WEEKDAY(A78,2)>5)),IF(D78=\"\",\"\",ColTime(Data!$J$3,Data!$L$3,D78,E78)),\"\")","v":""},"","",{"$f":"IFERROR(IF(AND(C78=\"\",WEEKDAY(A78,2)>5),IF(D78=\"\",\"\",(IF(E78-MAX(D78,(15/24))+(E78<D78)<0,0,E78-MAX(D78,(15/24))+($E78<D78)))-(IF((E78-MAX(D78,(23/24))+(E78<D78))<0,0,(E78-MAX(D78,(23/24))+(E78<D78))))),o),\"\")","v":""},"","","","",{"$f":"IFERROR(IF(OR(AND(C78=\"\",D78<E78,OR(WEEKDAY(A78,2)=1,WEEKDAY(A78,2)>=6)),AND(C78=\"\",D78>E78,OR(WEEKDAY(A78,2)>=5)),AND(C78<>\"\",D78>E78,WEEKDAY(A78,2)>=5)),ColTime(Data!$J$6,Data!$L$6,D78,E78),\"\"),\"\")","v":""},{"$f":"IFERROR(IF(OR(AND(WEEKDAY(A78,2)>1,WEEKDAY(A78,2)<6,D78<E78,C78=\"\"),AND(C78=\"\",WEEKDAY(A78,2)=1,E78<D78),AND(C78<>\"\",D78<E78,WEEKDAY(A78,2)>1,WEEKDAY(A78,2)<4),AND(C78<>\"\",D78>E78,WEEKDAY(A78,2)=1)),ColTime(Data!$J$6,Data!$L$6,D78,E78),\"\"),\"\")","v":""},null,{"$f":"IF(F78=\"\",\"\",IF(AND(C78<>\"\",OR(D78<E78,AND(D78>E78,C384<>\"\"))),ColTime(Data!$J$6,Data!$L$6,D78,E78),\"\"))","v":""}]
["2020-03-14","Lø","",null,null,"",null,null,null,{"$f":"IF(OR(AND(C79<>\"\",D79>E79,WEEKDAY(A79,2)=5),AND(C79=\"\",WEEKDAY(A79,2)>5)),IF(D79=\"\",\"\",ColTime(Data!$J$3,Data!$L$3,D79,E79)),\"\")","v":""},"","",{"$f":"IFERROR(IF(AND(C79=\"\",WEEKDAY(A79,2)>5),IF(D79=\"\",\"\",(IF(E79-MAX(D79,(15/24))+(E79<D79)<0,0,E79-MAX(D79,(15/24))+($E79<D79)))-(IF((E79-MAX(D79,(23/24))+(E79<D79))<0,0,(E79-MAX(D79,(23/24))+(E79<D79))))),o),\"\")","v":""},"","","","",{"$f":"IFERROR(IF(OR(AND(C79=\"\",D79<E79,OR(WEEKDAY(A79,2)=1,WEEKDAY(A79,2)>=6)),AND(C79=\"\",D79>E79,OR(WEEKDAY(A79,2)>=5)),AND(C79<>\"\",D79>E79,WEEKDAY(A79,2)>=5)),ColTime(Data!$J$6,Data!$L$6,D79,E79),\"\"),\"\")","v":""},{"$f":"IFERROR(IF(OR(AND(WEEKDAY(A79,2)>1,WEEKDAY(A79,2)<6,D79<E79,C79=\"\"),AND(C79=\"\",WEEKDAY(A79,2)=1,E79<D79),AND(C79<>\"\",D79<E79,WEEKDAY(A79,2)>1,WEEKDAY(A79,2)<4),AND(C79<>\"\",D79>E79,WEEKDAY(A79,2)=1)),ColTime(Data!$J$6,Data!$L$6,D79,E79),\"\"),\"\")","v":""},null,{"$f":"IF(F79=\"\",\"\",IF(AND(C79<>\"\",OR(D79<E79,AND(D79>E79,C385<>\"\"))),ColTime(Data!$J$6,Data!$L$6,D79,E79),\"\"))","v":""}]
["2020-03-15","Sø","",null,null,"",null,null,null,{"$f":"IF(OR(AND(C80<>\"\",D80>E80,WEEKDAY(A80,2)=5),AND(C80=\"\",WEEKDAY(A80,2)>5)),IF(D80=\"\",\"\",ColTime(Data!$J$3,Data!$L$3,D80,E80)),\"\")","v":""},"","",{"$f":"IFERROR(IF(AND(C80=\"\",WEEKDAY(A80,2)>5),IF(D80=\"\",\"\",(IF(E80-MAX(D80,(15/24))+(E80<D80)<0,0,E80-MAX(D80,(15/24))+($E80<D80)))-(IF((E80-MAX(D80,(23/24))+(E80<D80))<0,0,(E80-MAX(D80,(23/24))+(E80<D80))))),o),\"\")","v":""},"","","","",{"$f":"IFERROR(IF(OR(AND(C80=\"\",D80<E80,OR(WEEKDAY(A80,2)=1,WEEKDAY(A80,2)>=6)),AND(C80=\"\",D80>E80,OR(WEEKDAY(A80,2)>=5)),AND(C80<>\"\",D80>E80,WEEKDAY(A80,2)>=5)),ColTime(Data!$J$6,Data!$L$6,D80,E80),\"\"),\"\")","v":""},{"$f":"IFERROR(IF(OR(AND(WEEKDAY(A80,2)>1,WEEKDAY(A80,2)<6,D80<E80,C80=\"\"),AND(C80=\"\",WEEKDAY(A80,2)=1,E80<D80),AND(C80<>\"\",D80<E80,WEEKDAY(A80,2)>1,WEEKDAY(A80,2)<4),AND(C80<>\"\",D80>E80,WEEKDAY(A80,2)=1)),ColTime(Data!$J$6,Data!$L$6,D80,E80),\"\"),\"\")","v":""},null,{"$f":"IF(F80=\"\",\"\",IF(AND(C80<>\"\",OR(D80<E80,AND(D80>E80,C386<>\"\"))),ColTime(Data!$J$6,Data!$L$6,D80,E80),\"\"))","v":""}]
["2020-03-16","Ma","",null,null,"",null,null,null,{"$f":"IF(OR(AND(C81<>\"\",D81>E81,WEEKDAY(A81,2)=5),AND(C81=\"\",WEEKDAY(A81,2)>5)),IF(D81=\"\",\"\",ColTime(Data!$J$3,Data!$L$3,D81,E81)),\"\")","v":""},"","",{"$f":"IFERROR(IF(AND(C81=\"\",WEEKDAY(A81,2)>5),IF(D81=\"\",\"\",(IF(E81-MAX(D81,(15/24))+(E81<D81)<0,0,E81-MAX(D81,(15/24))+($E81<D81)))-(IF((E81-MAX(D81,(23/24))+(E81<D81))<0,0,(E81-MAX(D81,(23/24))+(E81<D81))))),o),\"\")","v":""},"","","","",{"$f":"IFERROR(IF(OR(AND(C81=\"\",D81<E81,OR(WEEKDAY(A81,2)=1,WEEKDAY(A81,2)>=6)),AND(C81=\"\",D81>E81,OR(WEEKDAY(A81,2)>=5)),AND(C81<>\"\",D81>E81,WEEKDAY(A81,2)>=5)),ColTime(Data!$J$6,Data!$L$6,D81,E81),\"\"),\"\")","v":""},{"$f":"IFERROR(IF(OR(AND(WEEKDAY(A81,2)>1,WEEKDAY(A81,2)<6,D81<E81,C81=\"\"),AND(C81=\"\",WEEKDAY(A81,2)=1,E81<D81),AND(C81<>\"\",D81<E81,WEEKDAY(A81,2)>1,WEEKDAY(A81,2)<4),AND(C81<>\"\",D81>E81,WEEKDAY(A81,2)=1)),ColTime(Data!$J$6,Data!$L$6,D81,E81),\"\"),\"\")","v":""},null,{"$f":"IF(F81=\"\",\"\",IF(AND(C81<>\"\",OR(D81<E81,AND(D81>E81,C387<>\"\"))),ColTime(Data!$J$6,Data!$L$6,D81,E81),\"\"))","v":""}]
["2020-03-17","Ti","",null,null,"",null,null,null,{"$f":"IF(OR(AND(C82<>\"\",D82>E82,WEEKDAY(A82,2)=5),AND(C82=\"\",WEEKDAY(A82,2)>5)),IF(D82=\"\",\"\",ColTime(Data!$J$3,Data!$L$3,D82,E82)),\"\")","v":""},"","",{"$f":"IFERROR(IF(AND(C82=\"\",WEEKDAY(A82,2)>5),IF(D82=\"\",\"\",(IF(E82-MAX(D82,(15/24))+(E82<D82)<0,0,E82-MAX(D82,(15/24))+($E82<D82)))-(IF((E82-MAX(D82,(23/24))+(E82<D82))<0,0,(E82-MAX(D82,(23/24))+(E82<D82))))),o),\"\")","v":""},"","","","",{"$f":"IFERROR(IF(OR(AND(C82=\"\",D82<E82,OR(WEEKDAY(A82,2)=1,WEEKDAY(A82,2)>=6)),AND(C82=\"\",D82>E82,OR(WEEKDAY(A82,2)>=5)),AND(C82<>\"\",D82>E82,WEEKDAY(A82,2)>=5)),ColTime(Data!$J$6,Data!$L$6,D82,E82),\"\"),\"\")","v":""},{"$f":"IFERROR(IF(OR(AND(WEEKDAY(A82,2)>1,WEEKDAY(A82,2)<6,D82<E82,C82=\"\"),AND(C82=\"\",WEEKDAY(A82,2)=1,E82<D82),AND(C82<>\"\",D82<E82,WEEKDAY(A82,2)>1,WEEKDAY(A82,2)<4),AND(C82<>\"\",D82>E82,WEEKDAY(A82,2)=1)),ColTime(Data!$J$6,Data!$L$6,D82,E82),\"\"),\"\")","v":""},null,{"$f":"IF(F82=\"\",\"\",IF(AND(C82<>\"\",OR(D82<E82,AND(D82>E82,C388<>\"\"))),ColTime(Data!$J$6,Data!$L$6,D82,E82),\"\"))","v":""}]
["2020-03-18","On","",null,null,"",null,null,null,{"$f":"IF(OR(AND(C83<>\"\",D83>E83,WEEKDAY(A83,2)=5),AND(C83=\"\",WEEKDAY(A83,2)>5)),IF(D83=\"\",\"\",ColTime(Data!$J$3,Data!$L$3,D83,E83)),\"\")","v":""},"","",{"$f":"IFERROR(IF(AND(C83=\"\",WEEKDAY(A83,2)>5),IF(D83=\"\",\"\",(IF(E83-MAX(D83,(15/24))+(E83<D83)<0,0,E83-MAX(D83,(15/24))+($E83<D83)))-(IF((E83-MAX(D83,(23/24))+(E83<D83))<0,0,(E83-MAX(D83,(23/24))+(E83<D83))))),o),\"\")","v":""},"","","","",{"$f":"IFERROR(IF(OR(AND(C83=\"\",D83<E83,OR(WEEKDAY(A83,2)=1,WEEKDAY(A83,2)>=6)),AND(C83=\"\",D83>E83,OR(WEEKDAY(A83,2)>=5)),AND(C83<>\"\",D83>E83,WEEKDAY(A83,2)>=5)),ColTime(Data!$J$6,Data!$L$6,D83,E83),\"\"),\"\")","v":""},{"$f":"IFERROR(IF(OR(AND(WEEKDAY(A83,2)>1,WEEKDAY(A83,2)<6,D83<E83,C83=\"\"),AND(C83=\"\",WEEKDAY(A83,2)=1,E83<D83),AND(C83<>\"\",D83<E83,WEEKDAY(A83,2)>1,WEEKDAY(A83,2)<4),AND(C83<>\"\",D83>E83,WEEKDAY(A83,2)=1)),ColTime(Data!$J$6,Data!$L$6,D83,E83),\"\"),\"\")","v":""},null,{"$f":"IF(F83=\"\",\"\",IF(AND(C83<>\"\",OR(D83<E83,AND(D83>E83,C389<>\"\"))),ColTime(Data!$J$6,Data!$L$6,D83,E83),\"\"))","v":""}]
["2020-03-19","To","",null,null,"",null,null,null,{"$f":"IF(OR(AND(C84<>\"\",D84>E84,WEEKDAY(A84,2)=5),AND(C84=\"\",WEEKDAY(A84,2)>5)),IF(D84=\"\",\"\",ColTime(Data!$J$3,Data!$L$3,D84,E84)),\"\")","v":""},"","",{"$f":"IFERROR(IF(AND(C84=\"\",WEEKDAY(A84,2)>5),IF(D84=\"\",\"\",(IF(E84-MAX(D84,(15/24))+(E84<D84)<0,0,E84-MAX(D84,(15/24))+($E84<D84)))-(IF((E84-MAX(D84,(23/24))+(E84<D84))<0,0,(E84-MAX(D84,(23/24))+(E84<D84))))),o),\"\")","v":""},"","","","",{"$f":"IFERROR(IF(OR(AND(C84=\"\",D84<E84,OR(WEEKDAY(A84,2)=1,WEEKDAY(A84,2)>=6)),AND(C84=\"\",D84>E84,OR(WEEKDAY(A84,2)>=5)),AND(C84<>\"\",D84>E84,WEEKDAY(A84,2)>=5)),ColTime(Data!$J$6,Data!$L$6,D84,E84),\"\"),\"\")","v":""},{"$f":"IFERROR(IF(OR(AND(WEEKDAY(A84,2)>1,WEEKDAY(A84,2)<6,D84<E84,C84=\"\"),AND(C84=\"\",WEEKDAY(A84,2)=1,E84<D84),AND(C84<>\"\",D84<E84,WEEKDAY(A84,2)>1,WEEKDAY(A84,2)<4),AND(C84<>\"\",D84>E84,WEEKDAY(A84,2)=1)),ColTime(Data!$J$6,Data!$L$6,D84,E84),\"\"),\"\")","v":""},null,{"$f":"IF(F84=\"\",\"\",IF(AND(C84<>\"\",OR(D84<E84,AND(D84>E84,C390<>\"\"))),ColTime(Data!$J$6,Data!$L$6,D84,E84),\"\"))","v":""}]
["2020-03-20","Fr","",null,null,"",null,null,null,{"$f":"IF(OR(AND(C85<>\"\",D85>E85,WEEKDAY(A85,2)=5),AND(C85=\"\",WEEKDAY(A85,2)>5)),IF(D85=\"\",\"\",ColTime(Data!$J$3,Data!$L$3,D85,E85)),\"\")","v":""},"","",{"$f":"IFERROR(IF(AND(C85=\"\",WEEKDAY(A85,2)>5),IF(D85=\"\",\"\",(IF(E85-MAX(D85,(15/24))+(E85<D85)<0,0,E85-MAX(D85,(15/24))+($E85<D85)))-(IF((E85-MAX(D85,(23/24))+(E85<D85))<0,0,(E85-MAX(D85,(23/24))+(E85<D85))))),o),\"\")","v":""},"","","","",{"$f":"IFERROR(IF(OR(AND(C85=\"\",D85<E85,OR(WEEKDAY(A85,2)=1,WEEKDAY(A85,2)>=6)),AND(C85=\"\",D85>E85,OR(WEEKDAY(A85,2)>=5)),AND(C85<>\"\",D85>E85,WEEKDAY(A85,2)>=5)),ColTime(Data!$J$6,Data!$L$6,D85,E85),\"\"),\"\")","v":""},{"$f":"IFERROR(IF(OR(AND(WEEKDAY(A85,2)>1,WEEKDAY(A85,2)<6,D85<E85,C85=\"\"),AND(C85=\"\",WEEKDAY(A85,2)=1,E85<D85),AND(C85<>\"\",D85<E85,WEEKDAY(A85,2)>1,WEEKDAY(A85,2)<4),AND(C85<>\"\",D85>E85,WEEKDAY(A85,2)=1)),ColTime(Data!$J$6,Data!$L$6,D85,E85),\"\"),\"\")","v":""},null,{"$f":"IF(F85=\"\",\"\",IF(AND(C85<>\"\",OR(D85<E85,AND(D85>E85,C391<>\"\"))),ColTime(Data!$J$6,Data!$L$6,D85,E85),\"\"))","v":""}]
["2020-03-21","Lø","",null,null,"",null,null,null,{"$f":"IF(OR(AND(C86<>\"\",D86>E86,WEEKDAY(A86,2)=5),AND(C86=\"\",WEEKDAY(A86,2)>5)),IF(D86=\"\",\"\",ColTime(Data!$J$3,Data!$L$3,D86,E86)),\"\")","v":""},"","",{"$f":"IFERROR(IF(AND(C86=\"\",WEEKDAY(A86,2)>5),IF(D86=\"\",\"\",(IF(E86-MAX(D86,(15/24))+(E86<D86)<0,0,E86-MAX(D86,(15/24))+($E86<D86)))-(IF((E86-MAX(D86,(23/24))+(E86<D86))<0,0,(E86-MAX(D86,(23/24))+(E86<D86))))),o),\"\")","v":""},"","","","",{"$f":"IFERROR(IF(OR(AND(C86=\"\",D86<E86,OR(WEEKDAY(A86,2)=1,WEEKDAY(A86,2)>=6)),AND(C86=\"\",D86>E86,OR(WEEKDAY(A86,2)>=5)),AND(C86<>\"\",D86>E86,WEEKDAY(A86,2)>=5)),ColTime(Data!$J$6,Data!$L$6,D86,E86),\"\"),\"\")","v":""},{"$f":"IFERROR(IF(OR(AND(WEEKDAY(A86,2)>1,WEEKDAY(A86,2)<6,D86<E86,C86=\"\"),AND(C86=\"\",WEEKDAY(A86,2)=1,E86<D86),AND(C86<>\"\",D86<E86,WEEKDAY(A86,2)>1,WEEKDAY(A86,2)<4),AND(C86<>\"\",D86>E86,WEEKDAY(A86,2)=1)),ColTime(Data!$J$6,Data!$L$6,D86,E86),\"\"),\"\")","v":""},null,{"$f":"IF(F86=\"\",\"\",IF(AND(C86<>\"\",OR(D86<E86,AND(D86>E86,C392<>\"\"))),ColTime(Data!$J$6,Data!$L$6,D86,E86),\"\"))","v":""}]
["2020-03-22","Sø","",null,null,"",null,null,null,{"$f":"IF(OR(AND(C87<>\"\",D87>E87,WEEKDAY(A87,2)=5),AND(C87=\"\",WEEKDAY(A87,2)>5)),IF(D87=\"\",\"\",ColTime(Data!$J$3,Data!$L$3,D87,E87)),\"\")","v":""},"","",{"$f":"IFERROR(IF(AND(C87=\"\",WEEKDAY(A87,2)>5),IF(D87=\"\",\"\",(IF(E87-MAX(D87,(15/24))+(E87<D87)<0,0,E87-MAX(D87,(15/24))+($E87<D87)))-(IF((E87-MAX(D87,(23/24))+(E87<D87))<0,0,(E87-MAX(D87,(23/24))+(E87<D87))))),o),\"\")","v":""},"","","","",{"$f":"IFERROR(IF(OR(AND(C87=\"\",D87<E87,OR(WEEKDAY(A87,2)=1,WEEKDAY(A87,2)>=6)),AND(C87=\"\",D87>E87,OR(WEEKDAY(A87,2)>=5)),AND(C87<>\"\",D87>E87,WEEKDAY(A87,2)>=5)),ColTime(Data!$J$6,Data!$L$6,D87,E87),\"\"),\"\")","v":""},{"$f":"IFERROR(IF(OR(AND(WEEKDAY(A87,2)>1,WEEKDAY(A87,2)<6,D87<E87,C87=\"\"),AND(C87=\"\",WEEKDAY(A87,2)=1,E87<D87),AND(C87<>\"\",D87<E87,WEEKDAY(A87,2)>1,WEEKDAY(A87,2)<4),AND(C87<>\"\",D87>E87,WEEKDAY(A87,2)=1)),ColTime(Data!$J$6,Data!$L$6,D87,E87),\"\"),\"\")","v":""},null,{"$f":"IF(F87=\"\",\"\",IF(AND(C87<>\"\",OR(D87<E87,AND(D87>E87,C393<>\"\"))),ColTime(Data!$J$6,Data!$L$6,D87,E87),\"\"))","v":""}]
["2020-03-23","Ma","",null,null,"",null,null,null,{"$f":"IF(OR(AND(C88<>\"\",D88>E88,WEEKDAY(A88,2)=5),AND(C88=\"\",WEEKDAY(A88,2)>5)),IF(D88=\"\",\"\",ColTime(Data!$J$3,Data!$L$3,D88,E88)),\"\")","v":""},"","",{"$f":"IFERROR(IF(AND(C88=\"\",WEEKDAY(A88,2)>5),IF(D88=\"\",\"\",(IF(E88-MAX(D88,(15/24))+(E88<D88)<0,0,E88-MAX(D88,(15/24))+($E88<D88)))-(IF((E88-MAX(D88,(23/24))+(E88<D88))<0,0,(E88-MAX(D88,(23/24))+(E88<D88))))),o),\"\")","v":""},"","","","",{"$f":"IFERROR(IF(OR(AND(C88=\"\",D88<E88,OR(WEEKDAY(A88,2)=1,WEEKDAY(A88,2)>=6)),AND(C88=\"\",D88>E88,OR(WEEKDAY(A88,2)>=5)),AND(C88<>\"\",D88>E88,WEEKDAY(A88,2)>=5)),ColTime(Data!$J$6,Data!$L$6,D88,E88),\"\"),\"\")","v":""},{"$f":"IFERROR(IF(OR(AND(WEEKDAY(A88,2)>1,WEEKDAY(A88,2)<6,D88<E88,C88=\"\"),AND(C88=\"\",WEEKDAY(A88,2)=1,E88<D88),AND(C88<>\"\",D88<E88,WEEKDAY(A88,2)>1,WEEKDAY(A88,2)<4),AND(C88<>\"\",D88>E88,WEEKDAY(A88,2)=1)),ColTime(Data!$J$6,Data!$L$6,D88,E88),\"\"),\"\")","v":""},null,{"$f":"IF(F88=\"\",\"\",IF(AND(C88<>\"\",OR(D88<E88,AND(D88>E88,C394<>\"\"))),ColTime(Data!$J$6,Data!$L$6,D88,E88),\"\"))","v":""}]
["2020-03-24","Ti","",null,null,"",null,null,null,{"$f":"IF(OR(AND(C89<>\"\",D89>E89,WEEKDAY(A89,2)=5),AND(C89=\"\",WEEKDAY(A89,2)>5)),IF(D89=\"\",\"\",ColTime(Data!$J$3,Data!$L$3,D89,E89)),\"\")","v":""},"","",{"$f":"IFERROR(IF(AND(C89=\"\",WEEKDAY(A89,2)>5),IF(D89=\"\",\"\",(IF(E89-MAX(D89,(15/24))+(E89<D89)<0,0,E89-MAX(D89,(15/24))+($E89<D89)))-(IF((E89-MAX(D89,(23/24))+(E89<D89))<0,0,(E89-MAX(D89,(23/24))+(E89<D89))))),o),\"\")","v":""},"","","","",{"$f":"IFERROR(IF(OR(AND(C89=\"\",D89<E89,OR(WEEKDAY(A89,2)=1,WEEKDAY(A89,2)>=6)),AND(C89=\"\",D89>E89,OR(WEEKDAY(A89,2)>=5)),AND(C89<>\"\",D89>E89,WEEKDAY(A89,2)>=5)),ColTime(Data!$J$6,Data!$L$6,D89,E89),\"\"),\"\")","v":""},{"$f":"IFERROR(IF(OR(AND(WEEKDAY(A89,2)>1,WEEKDAY(A89,2)<6,D89<E89,C89=\"\"),AND(C89=\"\",WEEKDAY(A89,2)=1,E89<D89),AND(C89<>\"\",D89<E89,WEEKDAY(A89,2)>1,WEEKDAY(A89,2)<4),AND(C89<>\"\",D89>E89,WEEKDAY(A89,2)=1)),ColTime(Data!$J$6,Data!$L$6,D89,E89),\"\"),\"\")","v":""},null,{"$f":"IF(F89=\"\",\"\",IF(AND(C89<>\"\",OR(D89<E89,AND(D89>E89,C395<>\"\"))),ColTime(Data!$J$6,Data!$L$6,D89,E89),\"\"))","v":""}]
["2020-03-25","On","Maria Bebudelsesdag",null,null,"",null,null,null,{"$f":"IF(OR(AND(C90<>\"\",D90>E90,WEEKDAY(A90,2)=5),AND(C90=\"\",WEEKDAY(A90,2)>5)),IF(D90=\"\",\"\",ColTime(Data!$J$3,Data!$L$3,D90,E90)),\"\")","v":""},"","",{"$f":"IFERROR(IF(AND(C90=\"\",WEEKDAY(A90,2)>5),IF(D90=\"\",\"\",(IF(E90-MAX(D90,(15/24))+(E90<D90)<0,0,E90-MAX(D90,(15/24))+($E90<D90)))-(IF((E90-MAX(D90,(23/24))+(E90<D90))<0,0,(E90-MAX(D90,(23/24))+(E90<D90))))),o),\"\")","v":""},"","","","",{"$f":"IFERROR(IF(OR(AND(C90=\"\",D90<E90,OR(WEEKDAY(A90,2)=1,WEEKDAY(A90,2)>=6)),AND(C90=\"\",D90>E90,OR(WEEKDAY(A90,2)>=5)),AND(C90<>\"\",D90>E90,WEEKDAY(A90,2)>=5)),ColTime(Data!$J$6,Data!$L$6,D90,E90),\"\"),\"\")","v":""},{"$f":"IFERROR(IF(OR(AND(WEEKDAY(A90,2)>1,WEEKDAY(A90,2)<6,D90<E90,C90=\"\"),AND(C90=\"\",WEEKDAY(A90,2)=1,E90<D90),AND(C90<>\"\",D90<E90,WEEKDAY(A90,2)>1,WEEKDAY(A90,2)<4),AND(C90<>\"\",D90>E90,WEEKDAY(A90,2)=1)),ColTime(Data!$J$6,Data!$L$6,D90,E90),\"\"),\"\")","v":""},null,{"$f":"IF(F90=\"\",\"\",IF(AND(C90<>\"\",OR(D90<E90,AND(D90>E90,C396<>\"\"))),ColTime(Data!$J$6,Data!$L$6,D90,E90),\"\"))","v":""}]
["2020-03-26","To","",null,null,"",null,null,null,{"$f":"IF(OR(AND(C91<>\"\",D91>E91,WEEKDAY(A91,2)=5),AND(C91=\"\",WEEKDAY(A91,2)>5)),IF(D91=\"\",\"\",ColTime(Data!$J$3,Data!$L$3,D91,E91)),\"\")","v":""},"","",{"$f":"IFERROR(IF(AND(C91=\"\",WEEKDAY(A91,2)>5),IF(D91=\"\",\"\",(IF(E91-MAX(D91,(15/24))+(E91<D91)<0,0,E91-MAX(D91,(15/24))+($E91<D91)))-(IF((E91-MAX(D91,(23/24))+(E91<D91))<0,0,(E91-MAX(D91,(23/24))+(E91<D91))))),o),\"\")","v":""},"","","","",{"$f":"IFERROR(IF(OR(AND(C91=\"\",D91<E91,OR(WEEKDAY(A91,2)=1,WEEKDAY(A91,2)>=6)),AND(C91=\"\",D91>E91,OR(WEEKDAY(A91,2)>=5)),AND(C91<>\"\",D91>E91,WEEKDAY(A91,2)>=5)),ColTime(Data!$J$6,Data!$L$6,D91,E91),\"\"),\"\")","v":""},{"$f":"IFERROR(IF(OR(AND(WEEKDAY(A91,2)>1,WEEKDAY(A91,2)<6,D91<E91,C91=\"\"),AND(C91=\"\",WEEKDAY(A91,2)=1,E91<D91),AND(C91<>\"\",D91<E91,WEEKDAY(A91,2)>1,WEEKDAY(A91,2)<4),AND(C91<>\"\",D91>E91,WEEKDAY(A91,2)=1)),ColTime(Data!$J$6,Data!$L$6,D91,E91),\"\"),\"\")","v":""},null,{"$f":"IF(F91=\"\",\"\",IF(AND(C91<>\"\",OR(D91<E91,AND(D91>E91,C397<>\"\"))),ColTime(Data!$J$6,Data!$L$6,D91,E91),\"\"))","v":""}]
["2020-03-27","Fr","",null,null,"",null,null,null,{"$f":"IF(OR(AND(C92<>\"\",D92>E92,WEEKDAY(A92,2)=5),AND(C92=\"\",WEEKDAY(A92,2)>5)),IF(D92=\"\",\"\",ColTime(Data!$J$3,Data!$L$3,D92,E92)),\"\")","v":""},"","",{"$f":"IFERROR(IF(AND(C92=\"\",WEEKDAY(A92,2)>5),IF(D92=\"\",\"\",(IF(E92-MAX(D92,(15/24))+(E92<D92)<0,0,E92-MAX(D92,(15/24))+($E92<D92)))-(IF((E92-MAX(D92,(23/24))+(E92<D92))<0,0,(E92-MAX(D92,(23/24))+(E92<D92))))),o),\"\")","v":""},"","","","",{"$f":"IFERROR(IF(OR(AND(C92=\"\",D92<E92,OR(WEEKDAY(A92,2)=1,WEEKDAY(A92,2)>=6)),AND(C92=\"\",D92>E92,OR(WEEKDAY(A92,2)>=5)),AND(C92<>\"\",D92>E92,WEEKDAY(A92,2)>=5)),ColTime(Data!$J$6,Data!$L$6,D92,E92),\"\"),\"\")","v":""},{"$f":"IFERROR(IF(OR(AND(WEEKDAY(A92,2)>1,WEEKDAY(A92,2)<6,D92<E92,C92=\"\"),AND(C92=\"\",WEEKDAY(A92,2)=1,E92<D92),AND(C92<>\"\",D92<E92,WEEKDAY(A92,2)>1,WEEKDAY(A92,2)<4),AND(C92<>\"\",D92>E92,WEEKDAY(A92,2)=1)),ColTime(Data!$J$6,Data!$L$6,D92,E92),\"\"),\"\")","v":""},null,{"$f":"IF(F92=\"\",\"\",IF(AND(C92<>\"\",OR(D92<E92,AND(D92>E92,C398<>\"\"))),ColTime(Data!$J$6,Data!$L$6,D92,E92),\"\"))","v":""}]
["2020-03-28","Lø","",null,null,"",null,null,null,{"$f":"IF(OR(AND(C93<>\"\",D93>E93,WEEKDAY(A93,2)=5),AND(C93=\"\",WEEKDAY(A93,2)>5)),IF(D93=\"\",\"\",ColTime(Data!$J$3,Data!$L$3,D93,E93)),\"\")","v":""},"","",{"$f":"IFERROR(IF(AND(C93=\"\",WEEKDAY(A93,2)>5),IF(D93=\"\",\"\",(IF(E93-MAX(D93,(15/24))+(E93<D93)<0,0,E93-MAX(D93,(15/24))+($E93<D93)))-(IF((E93-MAX(D93,(23/24))+(E93<D93))<0,0,(E93-MAX(D93,(23/24))+(E93<D93))))),o),\"\")","v":""},"","","","",{"$f":"IFERROR(IF(OR(AND(C93=\"\",D93<E93,OR(WEEKDAY(A93,2)=1,WEEKDAY(A93,2)>=6)),AND(C93=\"\",D93>E93,OR(WEEKDAY(A93,2)>=5)),AND(C93<>\"\",D93>E93,WEEKDAY(A93,2)>=5)),ColTime(Data!$J$6,Data!$L$6,D93,E93),\"\"),\"\")","v":""},{"$f":"IFERROR(IF(OR(AND(WEEKDAY(A93,2)>1,WEEKDAY(A93,2)<6,D93<E93,C93=\"\"),AND(C93=\"\",WEEKDAY(A93,2)=1,E93<D93),AND(C93<>\"\",D93<E93,WEEKDAY(A93,2)>1,WEEKDAY(A93,2)<4),AND(C93<>\"\",D93>E93,WEEKDAY(A93,2)=1)),ColTime(Data!$J$6,Data!$L$6,D93,E93),\"\"),\"\")","v":""},null,{"$f":"IF(F93=\"\",\"\",IF(AND(C93<>\"\",OR(D93<E93,AND(D93>E93,C399<>\"\"))),ColTime(Data!$J$6,Data!$L$6,D93,E93),\"\"))","v":""}]
["2020-03-29","Sø","",null,null,"",null,null,null,{"$f":"IF(OR(AND(C94<>\"\",D94>E94,WEEKDAY(A94,2)=5),AND(C94=\"\",WEEKDAY(A94,2)>5)),IF(D94=\"\",\"\",ColTime(Data!$J$3,Data!$L$3,D94,E94)),\"\")","v":""},"","",{"$f":"IFERROR(IF(AND(C94=\"\",WEEKDAY(A94,2)>5),IF(D94=\"\",\"\",(IF(E94-MAX(D94,(15/24))+(E94<D94)<0,0,E94-MAX(D94,(15/24))+($E94<D94)))-(IF((E94-MAX(D94,(23/24))+(E94<D94))<0,0,(E94-MAX(D94,(23/24))+(E94<D94))))),o),\"\")","v":""},"","","","",{"$f":"IFERROR(IF(OR(AND(C94=\"\",D94<E94,OR(WEEKDAY(A94,2)=1,WEEKDAY(A94,2)>=6)),AND(C94=\"\",D94>E94,OR(WEEKDAY(A94,2)>=5)),AND(C94<>\"\",D94>E94,WEEKDAY(A94,2)>=5)),ColTime(Data!$J$6,Data!$L$6,D94,E94),\"\"),\"\")","v":""},{"$f":"IFERROR(IF(OR(AND(WEEKDAY(A94,2)>1,WEEKDAY(A94,2)<6,D94<E94,C94=\"\"),AND(C94=\"\",WEEKDAY(A94,2)=1,E94<D94),AND(C94<>\"\",D94<E94,WEEKDAY(A94,2)>1,WEEKDAY(A94,2)<4),AND(C94<>\"\",D94>E94,WEEKDAY(A94,2)=1)),ColTime(Data!$J$6,Data!$L$6,D94,E94),\"\"),\"\")","v":""},null,{"$f":"IF(F94=\"\",\"\",IF(AND(C94<>\"\",OR(D94<E94,AND(D94>E94,C400<>\"\"))),ColTime(Data!$J$6,Data!$L$6,D94,E94),\"\"))","v":""}]
["2020-03-30","Ma","",null,null,"",null,null,null,{"$f":"IF(OR(AND(C95<>\"\",D95>E95,WEEKDAY(A95,2)=5),AND(C95=\"\",WEEKDAY(A95,2)>5)),IF(D95=\"\",\"\",ColTime(Data!$J$3,Data!$L$3,D95,E95)),\"\")","v":""},"","",{"$f":"IFERROR(IF(AND(C95=\"\",WEEKDAY(A95,2)>5),IF(D95=\"\",\"\",(IF(E95-MAX(D95,(15/24))+(E95<D95)<0,0,E95-MAX(D95,(15/24))+($E95<D95)))-(IF((E95-MAX(D95,(23/24))+(E95<D95))<0,0,(E95-MAX(D95,(23/24))+(E95<D95))))),o),\"\")","v":""},"","","","",{"$f":"IFERROR(IF(OR(AND(C95=\"\",D95<E95,OR(WEEKDAY(A95,2)=1,WEEKDAY(A95,2)>=6)),AND(C95=\"\",D95>E95,OR(WEEKDAY(A95,2)>=5)),AND(C95<>\"\",D95>E95,WEEKDAY(A95,2)>=5)),ColTime(Data!$J$6,Data!$L$6,D95,E95),\"\"),\"\")","v":""},{"$f":"IFERROR(IF(OR(AND(WEEKDAY(A95,2)>1,WEEKDAY(A95,2)<6,D95<E95,C95=\"\"),AND(C95=\"\",WEEKDAY(A95,2)=1,E95<D95),AND(C95<>\"\",D95<E95,WEEKDAY(A95,2)>1,WEEKDAY(A95,2)<4),AND(C95<>\"\",D95>E95,WEEKDAY(A95,2)=1)),ColTime(Data!$J$6,Data!$L$6,D95,E95),\"\"),\"\")","v":""},null,{"$f":"IF(F95=\"\",\"\",IF(AND(C95<>\"\",OR(D95<E95,AND(D95>E95,C401<>\"\"))),ColTime(Data!$J$6,Data!$L$6,D95,E95),\"\"))","v":""}]
["2020-03-31","Ti","",null,null,"",null,null,null,{"$f":"IF(OR(AND(C96<>\"\",D96>E96,WEEKDAY(A96,2)=5),AND(C96=\"\",WEEKDAY(A96,2)>5)),IF(D96=\"\",\"\",ColTime(Data!$J$3,Data!$L$3,D96,E96)),\"\")","v":""},"","",{"$f":"IFERROR(IF(AND(C96=\"\",WEEKDAY(A96,2)>5),IF(D96=\"\",\"\",(IF(E96-MAX(D96,(15/24))+(E96<D96)<0,0,E96-MAX(D96,(15/24))+($E96<D96)))-(IF((E96-MAX(D96,(23/24))+(E96<D96))<0,0,(E96-MAX(D96,(23/24))+(E96<D96))))),o),\"\")","v":""},"","","","",{"$f":"IFERROR(IF(OR(AND(C96=\"\",D96<E96,OR(WEEKDAY(A96,2)=1,WEEKDAY(A96,2)>=6)),AND(C96=\"\",D96>E96,OR(WEEKDAY(A96,2)>=5)),AND(C96<>\"\",D96>E96,WEEKDAY(A96,2)>=5)),ColTime(Data!$J$6,Data!$L$6,D96,E96),\"\"),\"\")","v":""},{"$f":"IFERROR(IF(OR(AND(WEEKDAY(A96,2)>1,WEEKDAY(A96,2)<6,D96<E96,C96=\"\"),AND(C96=\"\",WEEKDAY(A96,2)=1,E96<D96),AND(C96<>\"\",D96<E96,WEEKDAY(A96,2)>1,WEEKDAY(A96,2)<4),AND(C96<>\"\",D96>E96,WEEKDAY(A96,2)=1)),ColTime(Data!$J$6,Data!$L$6,D96,E96),\"\"),\"\")","v":""},null,{"$f":"IF(F96=\"\",\"\",IF(AND(C96<>\"\",OR(D96<E96,AND(D96>E96,C402<>\"\"))),ColTime(Data!$J$6,Data!$L$6,D96,E96),\"\"))","v":""}]
["2020-04-01","On","",null,null,"",null,null,null,{"$f":"IF(OR(AND(C97<>\"\",D97>E97,WEEKDAY(A97,2)=5),AND(C97=\"\",WEEKDAY(A97,2)>5)),IF(D97=\"\",\"\",ColTime(Data!$J$3,Data!$L$3,D97,E97)),\"\")","v":""},"","",{"$f":"IFERROR(IF(AND(C97=\"\",WEEKDAY(A97,2)>5),IF(D97=\"\",\"\",(IF(E97-MAX(D97,(15/24))+(E97<D97)<0,0,E97-MAX(D97,(15/24))+($E97<D97)))-(IF((E97-MAX(D97,(23/24))+(E97<D97))<0,0,(E97-MAX(D97,(23/24))+(E97<D97))))),o),\"\")","v":""},"","","","",{"$f":"IFERROR(IF(OR(AND(C97=\"\",D97<E97,OR(WEEKDAY(A97,2)=1,WEEKDAY(A97,2)>=6)),AND(C97=\"\",D97>E97,OR(WEEKDAY(A97,2)>=5)),AND(C97<>\"\",D97>E97,WEEKDAY(A97,2)>=5)),ColTime(Data!$J$6,Data!$L$6,D97,E97),\"\"),\"\")","v":""},{"$f":"IFERROR(IF(OR(AND(WEEKDAY(A97,2)>1,WEEKDAY(A97,2)<6,D97<E97,C97=\"\"),AND(C97=\"\",WEEKDAY(A97,2)=1,E97<D97),AND(C97<>\"\",D97<E97,WEEKDAY(A97,2)>1,WEEKDAY(A97,2)<4),AND(C97<>\"\",D97>E97,WEEKDAY(A97,2)=1)),ColTime(Data!$J$6,Data!$L$6,D97,E97),\"\"),\"\")","v":""},null,{"$f":"IF(F97=\"\",\"\",IF(AND(C97<>\"\",OR(D97<E97,AND(D97>E97,C403<>\"\"))),ColTime(Data!$J$6,Data!$L$6,D97,E97),\"\"))","v":""}]
["2020-04-02","To","",null,null,"",null,null,null,{"$f":"IF(OR(AND(C98<>\"\",D98>E98,WEEKDAY(A98,2)=5),AND(C98=\"\",WEEKDAY(A98,2)>5)),IF(D98=\"\",\"\",ColTime(Data!$J$3,Data!$L$3,D98,E98)),\"\")","v":""},"","",{"$f":"IFERROR(IF(AND(C98=\"\",WEEKDAY(A98,2)>5),IF(D98=\"\",\"\",(IF(E98-MAX(D98,(15/24))+(E98<D98)<0,0,E98-MAX(D98,(15/24))+($E98<D98)))-(IF((E98-MAX(D98,(23/24))+(E98<D98))<0,0,(E98-MAX(D98,(23/24))+(E98<D98))))),o),\"\")","v":""},"","","","",{"$f":"IFERROR(IF(OR(AND(C98=\"\",D98<E98,OR(WEEKDAY(A98,2)=1,WEEKDAY(A98,2)>=6)),AND(C98=\"\",D98>E98,OR(WEEKDAY(A98,2)>=5)),AND(C98<>\"\",D98>E98,WEEKDAY(A98,2)>=5)),ColTime(Data!$J$6,Data!$L$6,D98,E98),\"\"),\"\")","v":""},{"$f":"IFERROR(IF(OR(AND(WEEKDAY(A98,2)>1,WEEKDAY(A98,2)<6,D98<E98,C98=\"\"),AND(C98=\"\",WEEKDAY(A98,2)=1,E98<D98),AND(C98<>\"\",D98<E98,WEEKDAY(A98,2)>1,WEEKDAY(A98,2)<4),AND(C98<>\"\",D98>E98,WEEKDAY(A98,2)=1)),ColTime(Data!$J$6,Data!$L$6,D98,E98),\"\"),\"\")","v":""},null,{"$f":"IF(F98=\"\",\"\",IF(AND(C98<>\"\",OR(D98<E98,AND(D98>E98,C404<>\"\"))),ColTime(Data!$J$6,Data!$L$6,D98,E98),\"\"))","v":""}]
["2020-04-03","Fr","",null,null,"",null,null,null,{"$f":"IF(OR(AND(C99<>\"\",D99>E99,WEEKDAY(A99,2)=5),AND(C99=\"\",WEEKDAY(A99,2)>5)),IF(D99=\"\",\"\",ColTime(Data!$J$3,Data!$L$3,D99,E99)),\"\")","v":""},"","",{"$f":"IFERROR(IF(AND(C99=\"\",WEEKDAY(A99,2)>5),IF(D99=\"\",\"\",(IF(E99-MAX(D99,(15/24))+(E99<D99)<0,0,E99-MAX(D99,(15/24))+($E99<D99)))-(IF((E99-MAX(D99,(23/24))+(E99<D99))<0,0,(E99-MAX(D99,(23/24))+(E99<D99))))),o),\"\")","v":""},"","","","",{"$f":"IFERROR(IF(OR(AND(C99=\"\",D99<E99,OR(WEEKDAY(A99,2)=1,WEEKDAY(A99,2)>=6)),AND(C99=\"\",D99>E99,OR(WEEKDAY(A99,2)>=5)),AND(C99<>\"\",D99>E99,WEEKDAY(A99,2)>=5)),ColTime(Data!$J$6,Data!$L$6,D99,E99),\"\"),\"\")","v":""},{"$f":"IFERROR(IF(OR(AND(WEEKDAY(A99,2)>1,WEEKDAY(A99,2)<6,D99<E99,C99=\"\"),AND(C99=\"\",WEEKDAY(A99,2)=1,E99<D99),AND(C99<>\"\",D99<E99,WEEKDAY(A99,2)>1,WEEKDAY(A99,2)<4),AND(C99<>\"\",D99>E99,WEEKDAY(A99,2)=1)),ColTime(Data!$J$6,Data!$L$6,D99,E99),\"\"),\"\")","v":""},null,{"$f":"IF(F99=\"\",\"\",IF(AND(C99<>\"\",OR(D99<E99,AND(D99>E99,C405<>\"\"))),ColTime(Data!$J$6,Data!$L$6,D99,E99),\"\"))","v":""}]
["2020-04-04","Lø","",null,null,"",null,null,null,{"$f":"IF(OR(AND(C100<>\"\",D100>E100,WEEKDAY(A100,2)=5),AND(C100=\"\",WEEKDAY(A100,2)>5)),IF(D100=\"\",\"\",ColTime(Data!$J$3,Data!$L$3,D100,E100)),\"\")","v":""},"","",{"$f":"IFERROR(IF(AND(C100=\"\",WEEKDAY(A100,2)>5),IF(D100=\"\",\"\",(IF(E100-MAX(D100,(15/24))+(E100<D100)<0,0,E100-MAX(D100,(15/24))+($E100<D100)))-(IF((E100-MAX(D100,(23/24))+(E100<D100))<0,0,(E100-MAX(D100,(23/24))+(E100<D100))))),o),\"\")","v":""},"","","","",{"$f":"IFERROR(IF(OR(AND(C100=\"\",D100<E100,OR(WEEKDAY(A100,2)=1,WEEKDAY(A100,2)>=6)),AND(C100=\"\",D100>E100,OR(WEEKDAY(A100,2)>=5)),AND(C100<>\"\",D100>E100,WEEKDAY(A100,2)>=5)),ColTime(Data!$J$6,Data!$L$6,D100,E100),\"\"),\"\")","v":""},{"$f":"IFERROR(IF(OR(AND(WEEKDAY(A100,2)>1,WEEKDAY(A100,2)<6,D100<E100,C100=\"\"),AND(C100=\"\",WEEKDAY(A100,2)=1,E100<D100),AND(C100<>\"\",D100<E100,WEEKDAY(A100,2)>1,WEEKDAY(A100,2)<4),AND(C100<>\"\",D100>E100,WEEKDAY(A100,2)=1)),ColTime(Data!$J$6,Data!$L$6,D100,E100),\"\"),\"\")","v":""},null,{"$f":"IF(F100=\"\",\"\",IF(AND(C100<>\"\",OR(D100<E100,AND(D100>E100,C406<>\"\"))),ColTime(Data!$J$6,Data!$L$6,D100,E100),\"\"))","v":""}]
["2020-04-05","Sø","Palmesøndag",null,null,"",null,null,null,{"$f":"IF(OR(AND(C101<>\"\",D101>E101,WEEKDAY(A101,2)=5),AND(C101=\"\",WEEKDAY(A101,2)>5)),IF(D101=\"\",\"\",ColTime(Data!$J$3,Data!$L$3,D101,E101)),\"\")","v":""},"","",{"$f":"IFERROR(IF(AND(C101=\"\",WEEKDAY(A101,2)>5),IF(D101=\"\",\"\",(IF(E101-MAX(D101,(15/24))+(E101<D101)<0,0,E101-MAX(D101,(15/24))+($E101<D101)))-(IF((E101-MAX(D101,(23/24))+(E101<D101))<0,0,(E101-MAX(D101,(23/24))+(E101<D101))))),o),\"\")","v":""},"","","","",{"$f":"IFERROR(IF(OR(AND(C101=\"\",D101<E101,OR(WEEKDAY(A101,2)=1,WEEKDAY(A101,2)>=6)),AND(C101=\"\",D101>E101,OR(WEEKDAY(A101,2)>=5)),AND(C101<>\"\",D101>E101,WEEKDAY(A101,2)>=5)),ColTime(Data!$J$6,Data!$L$6,D101,E101),\"\"),\"\")","v":""},{"$f":"IFERROR(IF(OR(AND(WEEKDAY(A101,2)>1,WEEKDAY(A101,2)<6,D101<E101,C101=\"\"),AND(C101=\"\",WEEKDAY(A101,2)=1,E101<D101),AND(C101<>\"\",D101<E101,WEEKDAY(A101,2)>1,WEEKDAY(A101,2)<4),AND(C101<>\"\",D101>E101,WEEKDAY(A101,2)=1)),ColTime(Data!$J$6,Data!$L$6,D101,E101),\"\"),\"\")","v":""},null,{"$f":"IF(F101=\"\",\"\",IF(AND(C101<>\"\",OR(D101<E101,AND(D101>E101,C407<>\"\"))),ColTime(Data!$J$6,Data!$L$6,D101,E101),\"\"))","v":""}]
["2020-04-06","Ma","",null,null,"",null,null,null,{"$f":"IF(OR(AND(C102<>\"\",D102>E102,WEEKDAY(A102,2)=5),AND(C102=\"\",WEEKDAY(A102,2)>5)),IF(D102=\"\",\"\",ColTime(Data!$J$3,Data!$L$3,D102,E102)),\"\")","v":""},"","",{"$f":"IFERROR(IF(AND(C102=\"\",WEEKDAY(A102,2)>5),IF(D102=\"\",\"\",(IF(E102-MAX(D102,(15/24))+(E102<D102)<0,0,E102-MAX(D102,(15/24))+($E102<D102)))-(IF((E102-MAX(D102,(23/24))+(E102<D102))<0,0,(E102-MAX(D102,(23/24))+(E102<D102))))),o),\"\")","v":""},"","","","",{"$f":"IFERROR(IF(OR(AND(C102=\"\",D102<E102,OR(WEEKDAY(A102,2)=1,WEEKDAY(A102,2)>=6)),AND(C102=\"\",D102>E102,OR(WEEKDAY(A102,2)>=5)),AND(C102<>\"\",D102>E102,WEEKDAY(A102,2)>=5)),ColTime(Data!$J$6,Data!$L$6,D102,E102),\"\"),\"\")","v":""},{"$f":"IFERROR(IF(OR(AND(WEEKDAY(A102,2)>1,WEEKDAY(A102,2)<6,D102<E102,C102=\"\"),AND(C102=\"\",WEEKDAY(A102,2)=1,E102<D102),AND(C102<>\"\",D102<E102,WEEKDAY(A102,2)>1,WEEKDAY(A102,2)<4),AND(C102<>\"\",D102>E102,WEEKDAY(A102,2)=1)),ColTime(Data!$J$6,Data!$L$6,D102,E102),\"\"),\"\")","v":""},null,{"$f":"IF(F102=\"\",\"\",IF(AND(C102<>\"\",OR(D102<E102,AND(D102>E102,C408<>\"\"))),ColTime(Data!$J$6,Data!$L$6,D102,E102),\"\"))","v":""}]
["2020-04-07","Ti","",null,null,"",null,null,null,{"$f":"IF(OR(AND(C103<>\"\",D103>E103,WEEKDAY(A103,2)=5),AND(C103=\"\",WEEKDAY(A103,2)>5)),IF(D103=\"\",\"\",ColTime(Data!$J$3,Data!$L$3,D103,E103)),\"\")","v":""},"","",{"$f":"IFERROR(IF(AND(C103=\"\",WEEKDAY(A103,2)>5),IF(D103=\"\",\"\",(IF(E103-MAX(D103,(15/24))+(E103<D103)<0,0,E103-MAX(D103,(15/24))+($E103<D103)))-(IF((E103-MAX(D103,(23/24))+(E103<D103))<0,0,(E103-MAX(D103,(23/24))+(E103<D103))))),o),\"\")","v":""},"","","","",{"$f":"IFERROR(IF(OR(AND(C103=\"\",D103<E103,OR(WEEKDAY(A103,2)=1,WEEKDAY(A103,2)>=6)),AND(C103=\"\",D103>E103,OR(WEEKDAY(A103,2)>=5)),AND(C103<>\"\",D103>E103,WEEKDAY(A103,2)>=5)),ColTime(Data!$J$6,Data!$L$6,D103,E103),\"\"),\"\")","v":""},{"$f":"IFERROR(IF(OR(AND(WEEKDAY(A103,2)>1,WEEKDAY(A103,2)<6,D103<E103,C103=\"\"),AND(C103=\"\",WEEKDAY(A103,2)=1,E103<D103),AND(C103<>\"\",D103<E103,WEEKDAY(A103,2)>1,WEEKDAY(A103,2)<4),AND(C103<>\"\",D103>E103,WEEKDAY(A103,2)=1)),ColTime(Data!$J$6,Data!$L$6,D103,E103),\"\"),\"\")","v":""},null,{"$f":"IF(F103=\"\",\"\",IF(AND(C103<>\"\",OR(D103<E103,AND(D103>E103,C409<>\"\"))),ColTime(Data!$J$6,Data!$L$6,D103,E103),\"\"))","v":""}]
["2020-04-08","On","",null,null,"",null,null,null,{"$f":"IF(OR(AND(C104<>\"\",D104>E104,WEEKDAY(A104,2)=5),AND(C104=\"\",WEEKDAY(A104,2)>5)),IF(D104=\"\",\"\",ColTime(Data!$J$3,Data!$L$3,D104,E104)),\"\")","v":""},"","",{"$f":"IFERROR(IF(AND(C104=\"\",WEEKDAY(A104,2)>5),IF(D104=\"\",\"\",(IF(E104-MAX(D104,(15/24))+(E104<D104)<0,0,E104-MAX(D104,(15/24))+($E104<D104)))-(IF((E104-MAX(D104,(23/24))+(E104<D104))<0,0,(E104-MAX(D104,(23/24))+(E104<D104))))),o),\"\")","v":""},"","","","",{"$f":"IFERROR(IF(OR(AND(C104=\"\",D104<E104,OR(WEEKDAY(A104,2)=1,WEEKDAY(A104,2)>=6)),AND(C104=\"\",D104>E104,OR(WEEKDAY(A104,2)>=5)),AND(C104<>\"\",D104>E104,WEEKDAY(A104,2)>=5)),ColTime(Data!$J$6,Data!$L$6,D104,E104),\"\"),\"\")","v":""},{"$f":"IFERROR(IF(OR(AND(WEEKDAY(A104,2)>1,WEEKDAY(A104,2)<6,D104<E104,C104=\"\"),AND(C104=\"\",WEEKDAY(A104,2)=1,E104<D104),AND(C104<>\"\",D104<E104,WEEKDAY(A104,2)>1,WEEKDAY(A104,2)<4),AND(C104<>\"\",D104>E104,WEEKDAY(A104,2)=1)),ColTime(Data!$J$6,Data!$L$6,D104,E104),\"\"),\"\")","v":""},null,{"$f":"IF(F104=\"\",\"\",IF(AND(C104<>\"\",OR(D104<E104,AND(D104>E104,C410<>\"\"))),ColTime(Data!$J$6,Data!$L$6,D104,E104),\"\"))","v":""}]
["2020-04-09","To","Skærtorsdag",null,null,"",null,null,null,{"$f":"IF(OR(AND(C105<>\"\",D105>E105,WEEKDAY(A105,2)=5),AND(C105=\"\",WEEKDAY(A105,2)>5)),IF(D105=\"\",\"\",ColTime(Data!$J$3,Data!$L$3,D105,E105)),\"\")","v":""},"","",{"$f":"IFERROR(IF(AND(C105=\"\",WEEKDAY(A105,2)>5),IF(D105=\"\",\"\",(IF(E105-MAX(D105,(15/24))+(E105<D105)<0,0,E105-MAX(D105,(15/24))+($E105<D105)))-(IF((E105-MAX(D105,(23/24))+(E105<D105))<0,0,(E105-MAX(D105,(23/24))+(E105<D105))))),o),\"\")","v":""},"","","","",{"$f":"IFERROR(IF(OR(AND(C105=\"\",D105<E105,OR(WEEKDAY(A105,2)=1,WEEKDAY(A105,2)>=6)),AND(C105=\"\",D105>E105,OR(WEEKDAY(A105,2)>=5)),AND(C105<>\"\",D105>E105,WEEKDAY(A105,2)>=5)),ColTime(Data!$J$6,Data!$L$6,D105,E105),\"\"),\"\")","v":""},{"$f":"IFERROR(IF(OR(AND(WEEKDAY(A105,2)>1,WEEKDAY(A105,2)<6,D105<E105,C105=\"\"),AND(C105=\"\",WEEKDAY(A105,2)=1,E105<D105),AND(C105<>\"\",D105<E105,WEEKDAY(A105,2)>1,WEEKDAY(A105,2)<4),AND(C105<>\"\",D105>E105,WEEKDAY(A105,2)=1)),ColTime(Data!$J$6,Data!$L$6,D105,E105),\"\"),\"\")","v":""},null,{"$f":"IF(F105=\"\",\"\",IF(AND(C105<>\"\",OR(D105<E105,AND(D105>E105,C411<>\"\"))),ColTime(Data!$J$6,Data!$L$6,D105,E105),\"\"))","v":""}]
["2020-04-10","Fr","Langfredag",null,null,"",null,null,null,{"$f":"IF(OR(AND(C106<>\"\",D106>E106,WEEKDAY(A106,2)=5),AND(C106=\"\",WEEKDAY(A106,2)>5)),IF(D106=\"\",\"\",ColTime(Data!$J$3,Data!$L$3,D106,E106)),\"\")","v":""},"","",{"$f":"IFERROR(IF(AND(C106=\"\",WEEKDAY(A106,2)>5),IF(D106=\"\",\"\",(IF(E106-MAX(D106,(15/24))+(E106<D106)<0,0,E106-MAX(D106,(15/24))+($E106<D106)))-(IF((E106-MAX(D106,(23/24))+(E106<D106))<0,0,(E106-MAX(D106,(23/24))+(E106<D106))))),o),\"\")","v":""},"","","","",{"$f":"IFERROR(IF(OR(AND(C106=\"\",D106<E106,OR(WEEKDAY(A106,2)=1,WEEKDAY(A106,2)>=6)),AND(C106=\"\",D106>E106,OR(WEEKDAY(A106,2)>=5)),AND(C106<>\"\",D106>E106,WEEKDAY(A106,2)>=5)),ColTime(Data!$J$6,Data!$L$6,D106,E106),\"\"),\"\")","v":""},{"$f":"IFERROR(IF(OR(AND(WEEKDAY(A106,2)>1,WEEKDAY(A106,2)<6,D106<E106,C106=\"\"),AND(C106=\"\",WEEKDAY(A106,2)=1,E106<D106),AND(C106<>\"\",D106<E106,WEEKDAY(A106,2)>1,WEEKDAY(A106,2)<4),AND(C106<>\"\",D106>E106,WEEKDAY(A106,2)=1)),ColTime(Data!$J$6,Data!$L$6,D106,E106),\"\"),\"\")","v":""},null,{"$f":"IF(F106=\"\",\"\",IF(AND(C106<>\"\",OR(D106<E106,AND(D106>E106,C412<>\"\"))),ColTime(Data!$J$6,Data!$L$6,D106,E106),\"\"))","v":""}]
["2020-04-11","Lø","",null,null,"",null,null,null,{"$f":"IF(OR(AND(C107<>\"\",D107>E107,WEEKDAY(A107,2)=5),AND(C107=\"\",WEEKDAY(A107,2)>5)),IF(D107=\"\",\"\",ColTime(Data!$J$3,Data!$L$3,D107,E107)),\"\")","v":""},"","",{"$f":"IFERROR(IF(AND(C107=\"\",WEEKDAY(A107,2)>5),IF(D107=\"\",\"\",(IF(E107-MAX(D107,(15/24))+(E107<D107)<0,0,E107-MAX(D107,(15/24))+($E107<D107)))-(IF((E107-MAX(D107,(23/24))+(E107<D107))<0,0,(E107-MAX(D107,(23/24))+(E107<D107))))),o),\"\")","v":""},"","","","",{"$f":"IFERROR(IF(OR(AND(C107=\"\",D107<E107,OR(WEEKDAY(A107,2)=1,WEEKDAY(A107,2)>=6)),AND(C107=\"\",D107>E107,OR(WEEKDAY(A107,2)>=5)),AND(C107<>\"\",D107>E107,WEEKDAY(A107,2)>=5)),ColTime(Data!$J$6,Data!$L$6,D107,E107),\"\"),\"\")","v":""},{"$f":"IFERROR(IF(OR(AND(WEEKDAY(A107,2)>1,WEEKDAY(A107,2)<6,D107<E107,C107=\"\"),AND(C107=\"\",WEEKDAY(A107,2)=1,E107<D107),AND(C107<>\"\",D107<E107,WEEKDAY(A107,2)>1,WEEKDAY(A107,2)<4),AND(C107<>\"\",D107>E107,WEEKDAY(A107,2)=1)),ColTime(Data!$J$6,Data!$L$6,D107,E107),\"\"),\"\")","v":""},null,{"$f":"IF(F107=\"\",\"\",IF(AND(C107<>\"\",OR(D107<E107,AND(D107>E107,C413<>\"\"))),ColTime(Data!$J$6,Data!$L$6,D107,E107),\"\"))","v":""}]
["2020-04-12","Sø","Påskedag",null,null,"",null,null,null,{"$f":"IF(OR(AND(C108<>\"\",D108>E108,WEEKDAY(A108,2)=5),AND(C108=\"\",WEEKDAY(A108,2)>5)),IF(D108=\"\",\"\",ColTime(Data!$J$3,Data!$L$3,D108,E108)),\"\")","v":""},"","",{"$f":"IFERROR(IF(AND(C108=\"\",WEEKDAY(A108,2)>5),IF(D108=\"\",\"\",(IF(E108-MAX(D108,(15/24))+(E108<D108)<0,0,E108-MAX(D108,(15/24))+($E108<D108)))-(IF((E108-MAX(D108,(23/24))+(E108<D108))<0,0,(E108-MAX(D108,(23/24))+(E108<D108))))),o),\"\")","v":""},"","","","",{"$f":"IFERROR(IF(OR(AND(C108=\"\",D108<E108,OR(WEEKDAY(A108,2)=1,WEEKDAY(A108,2)>=6)),AND(C108=\"\",D108>E108,OR(WEEKDAY(A108,2)>=5)),AND(C108<>\"\",D108>E108,WEEKDAY(A108,2)>=5)),ColTime(Data!$J$6,Data!$L$6,D108,E108),\"\"),\"\")","v":""},{"$f":"IFERROR(IF(OR(AND(WEEKDAY(A108,2)>1,WEEKDAY(A108,2)<6,D108<E108,C108=\"\"),AND(C108=\"\",WEEKDAY(A108,2)=1,E108<D108),AND(C108<>\"\",D108<E108,WEEKDAY(A108,2)>1,WEEKDAY(A108,2)<4),AND(C108<>\"\",D108>E108,WEEKDAY(A108,2)=1)),ColTime(Data!$J$6,Data!$L$6,D108,E108),\"\"),\"\")","v":""},null,{"$f":"IF(F108=\"\",\"\",IF(AND(C108<>\"\",OR(D108<E108,AND(D108>E108,C414<>\"\"))),ColTime(Data!$J$6,Data!$L$6,D108,E108),\"\"))","v":""}]
["2020-04-13","Ma","2. Påskedag",null,null,"",null,null,null,{"$f":"IF(OR(AND(C109<>\"\",D109>E109,WEEKDAY(A109,2)=5),AND(C109=\"\",WEEKDAY(A109,2)>5)),IF(D109=\"\",\"\",ColTime(Data!$J$3,Data!$L$3,D109,E109)),\"\")","v":""},"","",{"$f":"IFERROR(IF(AND(C109=\"\",WEEKDAY(A109,2)>5),IF(D109=\"\",\"\",(IF(E109-MAX(D109,(15/24))+(E109<D109)<0,0,E109-MAX(D109,(15/24))+($E109<D109)))-(IF((E109-MAX(D109,(23/24))+(E109<D109))<0,0,(E109-MAX(D109,(23/24))+(E109<D109))))),o),\"\")","v":""},"","","","",{"$f":"IFERROR(IF(OR(AND(C109=\"\",D109<E109,OR(WEEKDAY(A109,2)=1,WEEKDAY(A109,2)>=6)),AND(C109=\"\",D109>E109,OR(WEEKDAY(A109,2)>=5)),AND(C109<>\"\",D109>E109,WEEKDAY(A109,2)>=5)),ColTime(Data!$J$6,Data!$L$6,D109,E109),\"\"),\"\")","v":""},{"$f":"IFERROR(IF(OR(AND(WEEKDAY(A109,2)>1,WEEKDAY(A109,2)<6,D109<E109,C109=\"\"),AND(C109=\"\",WEEKDAY(A109,2)=1,E109<D109),AND(C109<>\"\",D109<E109,WEEKDAY(A109,2)>1,WEEKDAY(A109,2)<4),AND(C109<>\"\",D109>E109,WEEKDAY(A109,2)=1)),ColTime(Data!$J$6,Data!$L$6,D109,E109),\"\"),\"\")","v":""},null,{"$f":"IF(F109=\"\",\"\",IF(AND(C109<>\"\",OR(D109<E109,AND(D109>E109,C415<>\"\"))),ColTime(Data!$J$6,Data!$L$6,D109,E109),\"\"))","v":""}]
["2020-04-14","Ti","3. Påskedag",null,null,"",null,null,null,{"$f":"IF(OR(AND(C110<>\"\",D110>E110,WEEKDAY(A110,2)=5),AND(C110=\"\",WEEKDAY(A110,2)>5)),IF(D110=\"\",\"\",ColTime(Data!$J$3,Data!$L$3,D110,E110)),\"\")","v":""},"","",{"$f":"IFERROR(IF(AND(C110=\"\",WEEKDAY(A110,2)>5),IF(D110=\"\",\"\",(IF(E110-MAX(D110,(15/24))+(E110<D110)<0,0,E110-MAX(D110,(15/24))+($E110<D110)))-(IF((E110-MAX(D110,(23/24))+(E110<D110))<0,0,(E110-MAX(D110,(23/24))+(E110<D110))))),o),\"\")","v":""},"","","","",{"$f":"IFERROR(IF(OR(AND(C110=\"\",D110<E110,OR(WEEKDAY(A110,2)=1,WEEKDAY(A110,2)>=6)),AND(C110=\"\",D110>E110,OR(WEEKDAY(A110,2)>=5)),AND(C110<>\"\",D110>E110,WEEKDAY(A110,2)>=5)),ColTime(Data!$J$6,Data!$L$6,D110,E110),\"\"),\"\")","v":""},{"$f":"IFERROR(IF(OR(AND(WEEKDAY(A110,2)>1,WEEKDAY(A110,2)<6,D110<E110,C110=\"\"),AND(C110=\"\",WEEKDAY(A110,2)=1,E110<D110),AND(C110<>\"\",D110<E110,WEEKDAY(A110,2)>1,WEEKDAY(A110,2)<4),AND(C110<>\"\",D110>E110,WEEKDAY(A110,2)=1)),ColTime(Data!$J$6,Data!$L$6,D110,E110),\"\"),\"\")","v":""},null,{"$f":"IF(F110=\"\",\"\",IF(AND(C110<>\"\",OR(D110<E110,AND(D110>E110,C416<>\"\"))),ColTime(Data!$J$6,Data!$L$6,D110,E110),\"\"))","v":""}]
["2020-04-15","On","",null,null,"",null,null,null,{"$f":"IF(OR(AND(C111<>\"\",D111>E111,WEEKDAY(A111,2)=5),AND(C111=\"\",WEEKDAY(A111,2)>5)),IF(D111=\"\",\"\",ColTime(Data!$J$3,Data!$L$3,D111,E111)),\"\")","v":""},"","",{"$f":"IFERROR(IF(AND(C111=\"\",WEEKDAY(A111,2)>5),IF(D111=\"\",\"\",(IF(E111-MAX(D111,(15/24))+(E111<D111)<0,0,E111-MAX(D111,(15/24))+($E111<D111)))-(IF((E111-MAX(D111,(23/24))+(E111<D111))<0,0,(E111-MAX(D111,(23/24))+(E111<D111))))),o),\"\")","v":""},"","","","",{"$f":"IFERROR(IF(OR(AND(C111=\"\",D111<E111,OR(WEEKDAY(A111,2)=1,WEEKDAY(A111,2)>=6)),AND(C111=\"\",D111>E111,OR(WEEKDAY(A111,2)>=5)),AND(C111<>\"\",D111>E111,WEEKDAY(A111,2)>=5)),ColTime(Data!$J$6,Data!$L$6,D111,E111),\"\"),\"\")","v":""},{"$f":"IFERROR(IF(OR(AND(WEEKDAY(A111,2)>1,WEEKDAY(A111,2)<6,D111<E111,C111=\"\"),AND(C111=\"\",WEEKDAY(A111,2)=1,E111<D111),AND(C111<>\"\",D111<E111,WEEKDAY(A111,2)>1,WEEKDAY(A111,2)<4),AND(C111<>\"\",D111>E111,WEEKDAY(A111,2)=1)),ColTime(Data!$J$6,Data!$L$6,D111,E111),\"\"),\"\")","v":""},null,{"$f":"IF(F111=\"\",\"\",IF(AND(C111<>\"\",OR(D111<E111,AND(D111>E111,C417<>\"\"))),ColTime(Data!$J$6,Data!$L$6,D111,E111),\"\"))","v":""}]
["2020-04-16","To","",null,null,"",null,null,null,{"$f":"IF(OR(AND(C112<>\"\",D112>E112,WEEKDAY(A112,2)=5),AND(C112=\"\",WEEKDAY(A112,2)>5)),IF(D112=\"\",\"\",ColTime(Data!$J$3,Data!$L$3,D112,E112)),\"\")","v":""},"","",{"$f":"IFERROR(IF(AND(C112=\"\",WEEKDAY(A112,2)>5),IF(D112=\"\",\"\",(IF(E112-MAX(D112,(15/24))+(E112<D112)<0,0,E112-MAX(D112,(15/24))+($E112<D112)))-(IF((E112-MAX(D112,(23/24))+(E112<D112))<0,0,(E112-MAX(D112,(23/24))+(E112<D112))))),o),\"\")","v":""},"","","","",{"$f":"IFERROR(IF(OR(AND(C112=\"\",D112<E112,OR(WEEKDAY(A112,2)=1,WEEKDAY(A112,2)>=6)),AND(C112=\"\",D112>E112,OR(WEEKDAY(A112,2)>=5)),AND(C112<>\"\",D112>E112,WEEKDAY(A112,2)>=5)),ColTime(Data!$J$6,Data!$L$6,D112,E112),\"\"),\"\")","v":""},{"$f":"IFERROR(IF(OR(AND(WEEKDAY(A112,2)>1,WEEKDAY(A112,2)<6,D112<E112,C112=\"\"),AND(C112=\"\",WEEKDAY(A112,2)=1,E112<D112),AND(C112<>\"\",D112<E112,WEEKDAY(A112,2)>1,WEEKDAY(A112,2)<4),AND(C112<>\"\",D112>E112,WEEKDAY(A112,2)=1)),ColTime(Data!$J$6,Data!$L$6,D112,E112),\"\"),\"\")","v":""},null,{"$f":"IF(F112=\"\",\"\",IF(AND(C112<>\"\",OR(D112<E112,AND(D112>E112,C418<>\"\"))),ColTime(Data!$J$6,Data!$L$6,D112,E112),\"\"))","v":""}]
["2020-04-17","Fr","",null,null,"",null,null,null,{"$f":"IF(OR(AND(C113<>\"\",D113>E113,WEEKDAY(A113,2)=5),AND(C113=\"\",WEEKDAY(A113,2)>5)),IF(D113=\"\",\"\",ColTime(Data!$J$3,Data!$L$3,D113,E113)),\"\")","v":""},"","",{"$f":"IFERROR(IF(AND(C113=\"\",WEEKDAY(A113,2)>5),IF(D113=\"\",\"\",(IF(E113-MAX(D113,(15/24))+(E113<D113)<0,0,E113-MAX(D113,(15/24))+($E113<D113)))-(IF((E113-MAX(D113,(23/24))+(E113<D113))<0,0,(E113-MAX(D113,(23/24))+(E113<D113))))),o),\"\")","v":""},"","","","",{"$f":"IFERROR(IF(OR(AND(C113=\"\",D113<E113,OR(WEEKDAY(A113,2)=1,WEEKDAY(A113,2)>=6)),AND(C113=\"\",D113>E113,OR(WEEKDAY(A113,2)>=5)),AND(C113<>\"\",D113>E113,WEEKDAY(A113,2)>=5)),ColTime(Data!$J$6,Data!$L$6,D113,E113),\"\"),\"\")","v":""},{"$f":"IFERROR(IF(OR(AND(WEEKDAY(A113,2)>1,WEEKDAY(A113,2)<6,D113<E113,C113=\"\"),AND(C113=\"\",WEEKDAY(A113,2)=1,E113<D113),AND(C113<>\"\",D113<E113,WEEKDAY(A113,2)>1,WEEKDAY(A113,2)<4),AND(C113<>\"\",D113>E113,WEEKDAY(A113,2)=1)),ColTime(Data!$J$6,Data!$L$6,D113,E113),\"\"),\"\")","v":""},null,{"$f":"IF(F113=\"\",\"\",IF(AND(C113<>\"\",OR(D113<E113,AND(D113>E113,C419<>\"\"))),ColTime(Data!$J$6,Data!$L$6,D113,E113),\"\"))","v":""}]
["2020-04-18","Lø","",null,null,"",null,null,null,{"$f":"IF(OR(AND(C114<>\"\",D114>E114,WEEKDAY(A114,2)=5),AND(C114=\"\",WEEKDAY(A114,2)>5)),IF(D114=\"\",\"\",ColTime(Data!$J$3,Data!$L$3,D114,E114)),\"\")","v":""},"","",{"$f":"IFERROR(IF(AND(C114=\"\",WEEKDAY(A114,2)>5),IF(D114=\"\",\"\",(IF(E114-MAX(D114,(15/24))+(E114<D114)<0,0,E114-MAX(D114,(15/24))+($E114<D114)))-(IF((E114-MAX(D114,(23/24))+(E114<D114))<0,0,(E114-MAX(D114,(23/24))+(E114<D114))))),o),\"\")","v":""},"","","","",{"$f":"IFERROR(IF(OR(AND(C114=\"\",D114<E114,OR(WEEKDAY(A114,2)=1,WEEKDAY(A114,2)>=6)),AND(C114=\"\",D114>E114,OR(WEEKDAY(A114,2)>=5)),AND(C114<>\"\",D114>E114,WEEKDAY(A114,2)>=5)),ColTime(Data!$J$6,Data!$L$6,D114,E114),\"\"),\"\")","v":""},{"$f":"IFERROR(IF(OR(AND(WEEKDAY(A114,2)>1,WEEKDAY(A114,2)<6,D114<E114,C114=\"\"),AND(C114=\"\",WEEKDAY(A114,2)=1,E114<D114),AND(C114<>\"\",D114<E114,WEEKDAY(A114,2)>1,WEEKDAY(A114,2)<4),AND(C114<>\"\",D114>E114,WEEKDAY(A114,2)=1)),ColTime(Data!$J$6,Data!$L$6,D114,E114),\"\"),\"\")","v":""},null,{"$f":"IF(F114=\"\",\"\",IF(AND(C114<>\"\",OR(D114<E114,AND(D114>E114,C420<>\"\"))),ColTime(Data!$J$6,Data!$L$6,D114,E114),\"\"))","v":""}]
["2020-04-19","Sø","",null,null,"",null,null,null,{"$f":"IF(OR(AND(C115<>\"\",D115>E115,WEEKDAY(A115,2)=5),AND(C115=\"\",WEEKDAY(A115,2)>5)),IF(D115=\"\",\"\",ColTime(Data!$J$3,Data!$L$3,D115,E115)),\"\")","v":""},"","",{"$f":"IFERROR(IF(AND(C115=\"\",WEEKDAY(A115,2)>5),IF(D115=\"\",\"\",(IF(E115-MAX(D115,(15/24))+(E115<D115)<0,0,E115-MAX(D115,(15/24))+($E115<D115)))-(IF((E115-MAX(D115,(23/24))+(E115<D115))<0,0,(E115-MAX(D115,(23/24))+(E115<D115))))),o),\"\")","v":""},"","","","",{"$f":"IFERROR(IF(OR(AND(C115=\"\",D115<E115,OR(WEEKDAY(A115,2)=1,WEEKDAY(A115,2)>=6)),AND(C115=\"\",D115>E115,OR(WEEKDAY(A115,2)>=5)),AND(C115<>\"\",D115>E115,WEEKDAY(A115,2)>=5)),ColTime(Data!$J$6,Data!$L$6,D115,E115),\"\"),\"\")","v":""},{"$f":"IFERROR(IF(OR(AND(WEEKDAY(A115,2)>1,WEEKDAY(A115,2)<6,D115<E115,C115=\"\"),AND(C115=\"\",WEEKDAY(A115,2)=1,E115<D115),AND(C115<>\"\",D115<E115,WEEKDAY(A115,2)>1,WEEKDAY(A115,2)<4),AND(C115<>\"\",D115>E115,WEEKDAY(A115,2)=1)),ColTime(Data!$J$6,Data!$L$6,D115,E115),\"\"),\"\")","v":""},null,{"$f":"IF(F115=\"\",\"\",IF(AND(C115<>\"\",OR(D115<E115,AND(D115>E115,C421<>\"\"))),ColTime(Data!$J$6,Data!$L$6,D115,E115),\"\"))","v":""}]
["2020-04-20","Ma","",null,null,"",null,null,null,{"$f":"IF(OR(AND(C116<>\"\",D116>E116,WEEKDAY(A116,2)=5),AND(C116=\"\",WEEKDAY(A116,2)>5)),IF(D116=\"\",\"\",ColTime(Data!$J$3,Data!$L$3,D116,E116)),\"\")","v":""},"","",{"$f":"IFERROR(IF(AND(C116=\"\",WEEKDAY(A116,2)>5),IF(D116=\"\",\"\",(IF(E116-MAX(D116,(15/24))+(E116<D116)<0,0,E116-MAX(D116,(15/24))+($E116<D116)))-(IF((E116-MAX(D116,(23/24))+(E116<D116))<0,0,(E116-MAX(D116,(23/24))+(E116<D116))))),o),\"\")","v":""},"","","","",{"$f":"IFERROR(IF(OR(AND(C116=\"\",D116<E116,OR(WEEKDAY(A116,2)=1,WEEKDAY(A116,2)>=6)),AND(C116=\"\",D116>E116,OR(WEEKDAY(A116,2)>=5)),AND(C116<>\"\",D116>E116,WEEKDAY(A116,2)>=5)),ColTime(Data!$J$6,Data!$L$6,D116,E116),\"\"),\"\")","v":""},{"$f":"IFERROR(IF(OR(AND(WEEKDAY(A116,2)>1,WEEKDAY(A116,2)<6,D116<E116,C116=\"\"),AND(C116=\"\",WEEKDAY(A116,2)=1,E116<D116),AND(C116<>\"\",D116<E116,WEEKDAY(A116,2)>1,WEEKDAY(A116,2)<4),AND(C116<>\"\",D116>E116,WEEKDAY(A116,2)=1)),ColTime(Data!$J$6,Data!$L$6,D116,E116),\"\"),\"\")","v":""},null,{"$f":"IF(F116=\"\",\"\",IF(AND(C116<>\"\",OR(D116<E116,AND(D116>E116,C422<>\"\"))),ColTime(Data!$J$6,Data!$L$6,D116,E116),\"\"))","v":""}]
["2020-04-21","Ti","",null,null,"",null,null,null,{"$f":"IF(OR(AND(C117<>\"\",D117>E117,WEEKDAY(A117,2)=5),AND(C117=\"\",WEEKDAY(A117,2)>5)),IF(D117=\"\",\"\",ColTime(Data!$J$3,Data!$L$3,D117,E117)),\"\")","v":""},"","",{"$f":"IFERROR(IF(AND(C117=\"\",WEEKDAY(A117,2)>5),IF(D117=\"\",\"\",(IF(E117-MAX(D117,(15/24))+(E117<D117)<0,0,E117-MAX(D117,(15/24))+($E117<D117)))-(IF((E117-MAX(D117,(23/24))+(E117<D117))<0,0,(E117-MAX(D117,(23/24))+(E117<D117))))),o),\"\")","v":""},"","","","",{"$f":"IFERROR(IF(OR(AND(C117=\"\",D117<E117,OR(WEEKDAY(A117,2)=1,WEEKDAY(A117,2)>=6)),AND(C117=\"\",D117>E117,OR(WEEKDAY(A117,2)>=5)),AND(C117<>\"\",D117>E117,WEEKDAY(A117,2)>=5)),ColTime(Data!$J$6,Data!$L$6,D117,E117),\"\"),\"\")","v":""},{"$f":"IFERROR(IF(OR(AND(WEEKDAY(A117,2)>1,WEEKDAY(A117,2)<6,D117<E117,C117=\"\"),AND(C117=\"\",WEEKDAY(A117,2)=1,E117<D117),AND(C117<>\"\",D117<E117,WEEKDAY(A117,2)>1,WEEKDAY(A117,2)<4),AND(C117<>\"\",D117>E117,WEEKDAY(A117,2)=1)),ColTime(Data!$J$6,Data!$L$6,D117,E117),\"\"),\"\")","v":""},null,{"$f":"IF(F117=\"\",\"\",IF(AND(C117<>\"\",OR(D117<E117,AND(D117>E117,C423<>\"\"))),ColTime(Data!$J$6,Data!$L$6,D117,E117),\"\"))","v":""}]
["2020-04-22","On","",null,null,"",null,null,null,{"$f":"IF(OR(AND(C118<>\"\",D118>E118,WEEKDAY(A118,2)=5),AND(C118=\"\",WEEKDAY(A118,2)>5)),IF(D118=\"\",\"\",ColTime(Data!$J$3,Data!$L$3,D118,E118)),\"\")","v":""},"","",{"$f":"IFERROR(IF(AND(C118=\"\",WEEKDAY(A118,2)>5),IF(D118=\"\",\"\",(IF(E118-MAX(D118,(15/24))+(E118<D118)<0,0,E118-MAX(D118,(15/24))+($E118<D118)))-(IF((E118-MAX(D118,(23/24))+(E118<D118))<0,0,(E118-MAX(D118,(23/24))+(E118<D118))))),o),\"\")","v":""},"","","","",{"$f":"IFERROR(IF(OR(AND(C118=\"\",D118<E118,OR(WEEKDAY(A118,2)=1,WEEKDAY(A118,2)>=6)),AND(C118=\"\",D118>E118,OR(WEEKDAY(A118,2)>=5)),AND(C118<>\"\",D118>E118,WEEKDAY(A118,2)>=5)),ColTime(Data!$J$6,Data!$L$6,D118,E118),\"\"),\"\")","v":""},{"$f":"IFERROR(IF(OR(AND(WEEKDAY(A118,2)>1,WEEKDAY(A118,2)<6,D118<E118,C118=\"\"),AND(C118=\"\",WEEKDAY(A118,2)=1,E118<D118),AND(C118<>\"\",D118<E118,WEEKDAY(A118,2)>1,WEEKDAY(A118,2)<4),AND(C118<>\"\",D118>E118,WEEKDAY(A118,2)=1)),ColTime(Data!$J$6,Data!$L$6,D118,E118),\"\"),\"\")","v":""},null,{"$f":"IF(F118=\"\",\"\",IF(AND(C118<>\"\",OR(D118<E118,AND(D118>E118,C424<>\"\"))),ColTime(Data!$J$6,Data!$L$6,D118,E118),\"\"))","v":""}]
["2020-04-23","To","",null,null,"",null,null,null,{"$f":"IF(OR(AND(C119<>\"\",D119>E119,WEEKDAY(A119,2)=5),AND(C119=\"\",WEEKDAY(A119,2)>5)),IF(D119=\"\",\"\",ColTime(Data!$J$3,Data!$L$3,D119,E119)),\"\")","v":""},"","",{"$f":"IFERROR(IF(AND(C119=\"\",WEEKDAY(A119,2)>5),IF(D119=\"\",\"\",(IF(E119-MAX(D119,(15/24))+(E119<D119)<0,0,E119-MAX(D119,(15/24))+($E119<D119)))-(IF((E119-MAX(D119,(23/24))+(E119<D119))<0,0,(E119-MAX(D119,(23/24))+(E119<D119))))),o),\"\")","v":""},"","","","",{"$f":"IFERROR(IF(OR(AND(C119=\"\",D119<E119,OR(WEEKDAY(A119,2)=1,WEEKDAY(A119,2)>=6)),AND(C119=\"\",D119>E119,OR(WEEKDAY(A119,2)>=5)),AND(C119<>\"\",D119>E119,WEEKDAY(A119,2)>=5)),ColTime(Data!$J$6,Data!$L$6,D119,E119),\"\"),\"\")","v":""},{"$f":"IFERROR(IF(OR(AND(WEEKDAY(A119,2)>1,WEEKDAY(A119,2)<6,D119<E119,C119=\"\"),AND(C119=\"\",WEEKDAY(A119,2)=1,E119<D119),AND(C119<>\"\",D119<E119,WEEKDAY(A119,2)>1,WEEKDAY(A119,2)<4),AND(C119<>\"\",D119>E119,WEEKDAY(A119,2)=1)),ColTime(Data!$J$6,Data!$L$6,D119,E119),\"\"),\"\")","v":""},null,{"$f":"IF(F119=\"\",\"\",IF(AND(C119<>\"\",OR(D119<E119,AND(D119>E119,C425<>\"\"))),ColTime(Data!$J$6,Data!$L$6,D119,E119),\"\"))","v":""}]
["2020-04-24","Fr","",null,null,"",null,null,null,{"$f":"IF(OR(AND(C120<>\"\",D120>E120,WEEKDAY(A120,2)=5),AND(C120=\"\",WEEKDAY(A120,2)>5)),IF(D120=\"\",\"\",ColTime(Data!$J$3,Data!$L$3,D120,E120)),\"\")","v":""},"","",{"$f":"IFERROR(IF(AND(C120=\"\",WEEKDAY(A120,2)>5),IF(D120=\"\",\"\",(IF(E120-MAX(D120,(15/24))+(E120<D120)<0,0,E120-MAX(D120,(15/24))+($E120<D120)))-(IF((E120-MAX(D120,(23/24))+(E120<D120))<0,0,(E120-MAX(D120,(23/24))+(E120<D120))))),o),\"\")","v":""},"","","","",{"$f":"IFERROR(IF(OR(AND(C120=\"\",D120<E120,OR(WEEKDAY(A120,2)=1,WEEKDAY(A120,2)>=6)),AND(C120=\"\",D120>E120,OR(WEEKDAY(A120,2)>=5)),AND(C120<>\"\",D120>E120,WEEKDAY(A120,2)>=5)),ColTime(Data!$J$6,Data!$L$6,D120,E120),\"\"),\"\")","v":""},{"$f":"IFERROR(IF(OR(AND(WEEKDAY(A120,2)>1,WEEKDAY(A120,2)<6,D120<E120,C120=\"\"),AND(C120=\"\",WEEKDAY(A120,2)=1,E120<D120),AND(C120<>\"\",D120<E120,WEEKDAY(A120,2)>1,WEEKDAY(A120,2)<4),AND(C120<>\"\",D120>E120,WEEKDAY(A120,2)=1)),ColTime(Data!$J$6,Data!$L$6,D120,E120),\"\"),\"\")","v":""},null,{"$f":"IF(F120=\"\",\"\",IF(AND(C120<>\"\",OR(D120<E120,AND(D120>E120,C426<>\"\"))),ColTime(Data!$J$6,Data!$L$6,D120,E120),\"\"))","v":""}]
["2020-04-25","Lø","",null,null,"",null,null,null,{"$f":"IF(OR(AND(C121<>\"\",D121>E121,WEEKDAY(A121,2)=5),AND(C121=\"\",WEEKDAY(A121,2)>5)),IF(D121=\"\",\"\",ColTime(Data!$J$3,Data!$L$3,D121,E121)),\"\")","v":""},"","",{"$f":"IFERROR(IF(AND(C121=\"\",WEEKDAY(A121,2)>5),IF(D121=\"\",\"\",(IF(E121-MAX(D121,(15/24))+(E121<D121)<0,0,E121-MAX(D121,(15/24))+($E121<D121)))-(IF((E121-MAX(D121,(23/24))+(E121<D121))<0,0,(E121-MAX(D121,(23/24))+(E121<D121))))),o),\"\")","v":""},"","","","",{"$f":"IFERROR(IF(OR(AND(C121=\"\",D121<E121,OR(WEEKDAY(A121,2)=1,WEEKDAY(A121,2)>=6)),AND(C121=\"\",D121>E121,OR(WEEKDAY(A121,2)>=5)),AND(C121<>\"\",D121>E121,WEEKDAY(A121,2)>=5)),ColTime(Data!$J$6,Data!$L$6,D121,E121),\"\"),\"\")","v":""},{"$f":"IFERROR(IF(OR(AND(WEEKDAY(A121,2)>1,WEEKDAY(A121,2)<6,D121<E121,C121=\"\"),AND(C121=\"\",WEEKDAY(A121,2)=1,E121<D121),AND(C121<>\"\",D121<E121,WEEKDAY(A121,2)>1,WEEKDAY(A121,2)<4),AND(C121<>\"\",D121>E121,WEEKDAY(A121,2)=1)),ColTime(Data!$J$6,Data!$L$6,D121,E121),\"\"),\"\")","v":""},null,{"$f":"IF(F121=\"\",\"\",IF(AND(C121<>\"\",OR(D121<E121,AND(D121>E121,C427<>\"\"))),ColTime(Data!$J$6,Data!$L$6,D121,E121),\"\"))","v":""}]
["2020-04-26","Sø","",null,null,"",null,null,null,{"$f":"IF(OR(AND(C122<>\"\",D122>E122,WEEKDAY(A122,2)=5),AND(C122=\"\",WEEKDAY(A122,2)>5)),IF(D122=\"\",\"\",ColTime(Data!$J$3,Data!$L$3,D122,E122)),\"\")","v":""},"","",{"$f":"IFERROR(IF(AND(C122=\"\",WEEKDAY(A122,2)>5),IF(D122=\"\",\"\",(IF(E122-MAX(D122,(15/24))+(E122<D122)<0,0,E122-MAX(D122,(15/24))+($E122<D122)))-(IF((E122-MAX(D122,(23/24))+(E122<D122))<0,0,(E122-MAX(D122,(23/24))+(E122<D122))))),o),\"\")","v":""},"","","","",{"$f":"IFERROR(IF(OR(AND(C122=\"\",D122<E122,OR(WEEKDAY(A122,2)=1,WEEKDAY(A122,2)>=6)),AND(C122=\"\",D122>E122,OR(WEEKDAY(A122,2)>=5)),AND(C122<>\"\",D122>E122,WEEKDAY(A122,2)>=5)),ColTime(Data!$J$6,Data!$L$6,D122,E122),\"\"),\"\")","v":""},{"$f":"IFERROR(IF(OR(AND(WEEKDAY(A122,2)>1,WEEKDAY(A122,2)<6,D122<E122,C122=\"\"),AND(C122=\"\",WEEKDAY(A122,2)=1,E122<D122),AND(C122<>\"\",D122<E122,WEEKDAY(A122,2)>1,WEEKDAY(A122,2)<4),AND(C122<>\"\",D122>E122,WEEKDAY(A122,2)=1)),ColTime(Data!$J$6,Data!$L$6,D122,E122),\"\"),\"\")","v":""},null,{"$f":"IF(F122=\"\",\"\",IF(AND(C122<>\"\",OR(D122<E122,AND(D122>E122,C428<>\"\"))),ColTime(Data!$J$6,Data!$L$6,D122,E122),\"\"))","v":""}]
["2020-04-27","Ma","",null,null,"",null,null,null,{"$f":"IF(OR(AND(C123<>\"\",D123>E123,WEEKDAY(A123,2)=5),AND(C123=\"\",WEEKDAY(A123,2)>5)),IF(D123=\"\",\"\",ColTime(Data!$J$3,Data!$L$3,D123,E123)),\"\")","v":""},"","",{"$f":"IFERROR(IF(AND(C123=\"\",WEEKDAY(A123,2)>5),IF(D123=\"\",\"\",(IF(E123-MAX(D123,(15/24))+(E123<D123)<0,0,E123-MAX(D123,(15/24))+($E123<D123)))-(IF((E123-MAX(D123,(23/24))+(E123<D123))<0,0,(E123-MAX(D123,(23/24))+(E123<D123))))),o),\"\")","v":""},"","","","",{"$f":"IFERROR(IF(OR(AND(C123=\"\",D123<E123,OR(WEEKDAY(A123,2)=1,WEEKDAY(A123,2)>=6)),AND(C123=\"\",D123>E123,OR(WEEKDAY(A123,2)>=5)),AND(C123<>\"\",D123>E123,WEEKDAY(A123,2)>=5)),ColTime(Data!$J$6,Data!$L$6,D123,E123),\"\"),\"\")","v":""},{"$f":"IFERROR(IF(OR(AND(WEEKDAY(A123,2)>1,WEEKDAY(A123,2)<6,D123<E123,C123=\"\"),AND(C123=\"\",WEEKDAY(A123,2)=1,E123<D123),AND(C123<>\"\",D123<E123,WEEKDAY(A123,2)>1,WEEKDAY(A123,2)<4),AND(C123<>\"\",D123>E123,WEEKDAY(A123,2)=1)),ColTime(Data!$J$6,Data!$L$6,D123,E123),\"\"),\"\")","v":""},null,{"$f":"IF(F123=\"\",\"\",IF(AND(C123<>\"\",OR(D123<E123,AND(D123>E123,C429<>\"\"))),ColTime(Data!$J$6,Data!$L$6,D123,E123),\"\"))","v":""}]
["2020-04-28","Ti","",null,null,"",null,null,null,{"$f":"IF(OR(AND(C124<>\"\",D124>E124,WEEKDAY(A124,2)=5),AND(C124=\"\",WEEKDAY(A124,2)>5)),IF(D124=\"\",\"\",ColTime(Data!$J$3,Data!$L$3,D124,E124)),\"\")","v":""},"","",{"$f":"IFERROR(IF(AND(C124=\"\",WEEKDAY(A124,2)>5),IF(D124=\"\",\"\",(IF(E124-MAX(D124,(15/24))+(E124<D124)<0,0,E124-MAX(D124,(15/24))+($E124<D124)))-(IF((E124-MAX(D124,(23/24))+(E124<D124))<0,0,(E124-MAX(D124,(23/24))+(E124<D124))))),o),\"\")","v":""},"","","","",{"$f":"IFERROR(IF(OR(AND(C124=\"\",D124<E124,OR(WEEKDAY(A124,2)=1,WEEKDAY(A124,2)>=6)),AND(C124=\"\",D124>E124,OR(WEEKDAY(A124,2)>=5)),AND(C124<>\"\",D124>E124,WEEKDAY(A124,2)>=5)),ColTime(Data!$J$6,Data!$L$6,D124,E124),\"\"),\"\")","v":""},{"$f":"IFERROR(IF(OR(AND(WEEKDAY(A124,2)>1,WEEKDAY(A124,2)<6,D124<E124,C124=\"\"),AND(C124=\"\",WEEKDAY(A124,2)=1,E124<D124),AND(C124<>\"\",D124<E124,WEEKDAY(A124,2)>1,WEEKDAY(A124,2)<4),AND(C124<>\"\",D124>E124,WEEKDAY(A124,2)=1)),ColTime(Data!$J$6,Data!$L$6,D124,E124),\"\"),\"\")","v":""},null,{"$f":"IF(F124=\"\",\"\",IF(AND(C124<>\"\",OR(D124<E124,AND(D124>E124,C430<>\"\"))),ColTime(Data!$J$6,Data!$L$6,D124,E124),\"\"))","v":""}]
["2020-04-29","On","",null,null,"",null,null,null,{"$f":"IF(OR(AND(C125<>\"\",D125>E125,WEEKDAY(A125,2)=5),AND(C125=\"\",WEEKDAY(A125,2)>5)),IF(D125=\"\",\"\",ColTime(Data!$J$3,Data!$L$3,D125,E125)),\"\")","v":""},"","",{"$f":"IFERROR(IF(AND(C125=\"\",WEEKDAY(A125,2)>5),IF(D125=\"\",\"\",(IF(E125-MAX(D125,(15/24))+(E125<D125)<0,0,E125-MAX(D125,(15/24))+($E125<D125)))-(IF((E125-MAX(D125,(23/24))+(E125<D125))<0,0,(E125-MAX(D125,(23/24))+(E125<D125))))),o),\"\")","v":""},"","","","",{"$f":"IFERROR(IF(OR(AND(C125=\"\",D125<E125,OR(WEEKDAY(A125,2)=1,WEEKDAY(A125,2)>=6)),AND(C125=\"\",D125>E125,OR(WEEKDAY(A125,2)>=5)),AND(C125<>\"\",D125>E125,WEEKDAY(A125,2)>=5)),ColTime(Data!$J$6,Data!$L$6,D125,E125),\"\"),\"\")","v":""},{"$f":"IFERROR(IF(OR(AND(WEEKDAY(A125,2)>1,WEEKDAY(A125,2)<6,D125<E125,C125=\"\"),AND(C125=\"\",WEEKDAY(A125,2)=1,E125<D125),AND(C125<>\"\",D125<E125,WEEKDAY(A125,2)>1,WEEKDAY(A125,2)<4),AND(C125<>\"\",D125>E125,WEEKDAY(A125,2)=1)),ColTime(Data!$J$6,Data!$L$6,D125,E125),\"\"),\"\")","v":""},null,{"$f":"IF(F125=\"\",\"\",IF(AND(C125<>\"\",OR(D125<E125,AND(D125>E125,C431<>\"\"))),ColTime(Data!$J$6,Data!$L$6,D125,E125),\"\"))","v":""}]
["2020-04-30","To","",null,null,"",null,null,null,{"$f":"IF(OR(AND(C126<>\"\",D126>E126,WEEKDAY(A126,2)=5),AND(C126=\"\",WEEKDAY(A126,2)>5)),IF(D126=\"\",\"\",ColTime(Data!$J$3,Data!$L$3,D126,E126)),\"\")","v":""},"","",{"$f":"IFERROR(IF(AND(C126=\"\",WEEKDAY(A126,2)>5),IF(D126=\"\",\"\",(IF(E126-MAX(D126,(15/24))+(E126<D126)<0,0,E126-MAX(D126,(15/24))+($E126<D126)))-(IF((E126-MAX(D126,(23/24))+(E126<D126))<0,0,(E126-MAX(D126,(23/24))+(E126<D126))))),o),\"\")","v":""},"","","","",{"$f":"IFERROR(IF(OR(AND(C126=\"\",D126<E126,OR(WEEKDAY(A126,2)=1,WEEKDAY(A126,2)>=6)),AND(C126=\"\",D126>E126,OR(WEEKDAY(A126,2)>=5)),AND(C126<>\"\",D126>E126,WEEKDAY(A126,2)>=5)),ColTime(Data!$J$6,Data!$L$6,D126,E126),\"\"),\"\")","v":""},{"$f":"IFERROR(IF(OR(AND(WEEKDAY(A126,2)>1,WEEKDAY(A126,2)<6,D126<E126,C126=\"\"),AND(C126=\"\",WEEKDAY(A126,2)=1,E126<D126),AND(C126<>\"\",D126<E126,WEEKDAY(A126,2)>1,WEEKDAY(A126,2)<4),AND(C126<>\"\",D126>E126,WEEKDAY(A126,2)=1)),ColTime(Data!$J$6,Data!$L$6,D126,E126),\"\"),\"\")","v":""},null,{"$f":"IF(F126=\"\",\"\",IF(AND(C126<>\"\",OR(D126<E126,AND(D126>E126,C432<>\"\"))),ColTime(Data!$J$6,Data!$L$6,D126,E126),\"\"))","v":""}]
["2020-05-01","Fr","",null,null,"",null,null,null,{"$f":"IF(OR(AND(C127<>\"\",D127>E127,WEEKDAY(A127,2)=5),AND(C127=\"\",WEEKDAY(A127,2)>5)),IF(D127=\"\",\"\",ColTime(Data!$J$3,Data!$L$3,D127,E127)),\"\")","v":""},"","",{"$f":"IFERROR(IF(AND(C127=\"\",WEEKDAY(A127,2)>5),IF(D127=\"\",\"\",(IF(E127-MAX(D127,(15/24))+(E127<D127)<0,0,E127-MAX(D127,(15/24))+($E127<D127)))-(IF((E127-MAX(D127,(23/24))+(E127<D127))<0,0,(E127-MAX(D127,(23/24))+(E127<D127))))),o),\"\")","v":""},"","","","",{"$f":"IFERROR(IF(OR(AND(C127=\"\",D127<E127,OR(WEEKDAY(A127,2)=1,WEEKDAY(A127,2)>=6)),AND(C127=\"\",D127>E127,OR(WEEKDAY(A127,2)>=5)),AND(C127<>\"\",D127>E127,WEEKDAY(A127,2)>=5)),ColTime(Data!$J$6,Data!$L$6,D127,E127),\"\"),\"\")","v":""},{"$f":"IFERROR(IF(OR(AND(WEEKDAY(A127,2)>1,WEEKDAY(A127,2)<6,D127<E127,C127=\"\"),AND(C127=\"\",WEEKDAY(A127,2)=1,E127<D127),AND(C127<>\"\",D127<E127,WEEKDAY(A127,2)>1,WEEKDAY(A127,2)<4),AND(C127<>\"\",D127>E127,WEEKDAY(A127,2)=1)),ColTime(Data!$J$6,Data!$L$6,D127,E127),\"\"),\"\")","v":""},null,{"$f":"IF(F127=\"\",\"\",IF(AND(C127<>\"\",OR(D127<E127,AND(D127>E127,C433<>\"\"))),ColTime(Data!$J$6,Data!$L$6,D127,E127),\"\"))","v":""}]
["2020-05-02",{"$f":"PROPER(TEXT(A128,\"ddd\"))","v":"Lø"},{"$f":"HelligdagsNavn(A128,0,0)","v":""},null,null,{"$f":"IF(D128=\"\",\"\",(E128-D128)+(D128>E128))","v":""},null,null,null,{"$f":"IF(OR(AND(C128<>\"\",D128>E128,WEEKDAY(A128,2)=5),AND(C128=\"\",WEEKDAY(A128,2)>5)),IF(D128=\"\",\"\",ColTime(Data!$J$3,Data!$L$3,D128,E128)),\"\")","v":""},{"$f":"IF(C128<>\"\",IF(D128=\"\",\"\",(IF(E128-MAX(D128,(7/24))+(E128<D128)<0,0,E128-MAX(D128,(7/24))+(E128<D128)))-(IF((E128-MAX(D128,(15/24))+(E128<D128))<0,0,(E128-MAX(D128,(15/24))+(E128<D128))))),\"\")","v":""},{"$f":"IFERROR(IF(AND(C128=\"\",WEEKDAY(A128,2)<6),IF(D128=\"\",\"\",(IF(E128-MAX(D128,(15/24))+(E128<D128)<0,0,E128-MAX(D128,(15/24))+(E128<D128)))-(IF((E128-MAX(D128,(23/24))+(E128<D128))<0,0,(E128-MAX(D128,(23/24))+(E128<D128))))),\"\"),\"\")","v":""},{"$f":"IFERROR(IF(AND(C128=\"\",WEEKDAY(A128,2)>5),IF(D128=\"\",\"\",(IF(E128-MAX(D128,(15/24))+(E128<D128)<0,0,E128-MAX(D128,(15/24))+($E128<D128)))-(IF((E128-MAX(D128,(23/24))+(E128<D128))<0,0,(E128-MAX(D128,(23/24))+(E128<D128))))),o),\"\")","v":""},{"$f":"IF(C128<>\"\",IF(D128=\"\",\"\",(IF(E128-MAX(D128,(15/24))+(E128<D128)<0,0,E128-MAX(D128,(15/24))+(E128<D128)))-(IF((E128-MAX(D128,(23/24))+(E128<D128))<0,0,(E128-MAX(D128,(23/24))+(E128<D128))))),\"\")","v":""},{"$f":"IF(A128=\"\",\"\",IF(AND(C128=\"\",WEEKDAY(A128,2)<5),IF(D128=\"\",\"\",(IF(E128-MAX(D128,(23/24))+(E128<D128)<0,0,E128-MAX(D128,(23/24))+(E128<D128)))-(IF((E128-MAX(D128,(24/24))+(E128<D128))<0,0,(E128-MAX(D128,(24/24))+(E128<D128))))),\"\"))","v":""},{"$f":"IFERROR(IF(AND(C128=\"\",WEEKDAY(A128,2)>4),IF(D128=\"\",\"\",(IF(E128-MAX(D128,(23/24))+(E128<D128)<0,0,E128-MAX(D128,(23/24))+(E128<D128)))-(IF((E128-MAX(D128,(24/24))+(E128<D128))<0,0,(E128-MAX(D128,(24/24))+(E128<D128))))),\"\"),\"\")","v":""},"",{"$f":"IFERROR(IF(OR(AND(C128=\"\",D128<E128,OR(WEEKDAY(A128,2)=1,WEEKDAY(A128,2)>=6)),AND(C128=\"\",D128>E128,OR(WEEKDAY(A128,2)>=5)),AND(C128<>\"\",D128>E128,WEEKDAY(A128,2)>=5)),ColTime(Data!$J$6,Data!$L$6,D128,E128),\"\"),\"\")","v":""},{"$f":"IFERROR(IF(OR(AND(WEEKDAY(A128,2)>1,WEEKDAY(A128,2)<6,D128<E128,C128=\"\"),AND(C128=\"\",WEEKDAY(A128,2)=1,E128<D128),AND(C128<>\"\",D128<E128,WEEKDAY(A128,2)>1,WEEKDAY(A128,2)<4),AND(C128<>\"\",D128>E128,WEEKDAY(A128,2)=1)),ColTime(Data!$J$6,Data!$L$6,D128,E128),\"\"),\"\")","v":""},null,{"$f":"IF(F128=\"\",\"\",IF(AND(C128<>\"\",OR(D128<E128,AND(D128>E128,C434<>\"\"))),ColTime(Data!$J$6,Data!$L$6,D128,E128),\"\"))","v":""}]
["2020-05-03","Sø","",null,null,"",null,null,null,{"$f":"IF(OR(AND(C129<>\"\",D129>E129,WEEKDAY(A129,2)=5),AND(C129=\"\",WEEKDAY(A129,2)>5)),IF(D129=\"\",\"\",ColTime(Data!$J$3,Data!$L$3,D129,E129)),\"\")","v":""},"","",{"$f":"IFERROR(IF(AND(C129=\"\",WEEKDAY(A129,2)>5),IF(D129=\"\",\"\",(IF(E129-MAX(D129,(15/24))+(E129<D129)<0,0,E129-MAX(D129,(15/24))+($E129<D129)))-(IF((E129-MAX(D129,(23/24))+(E129<D129))<0,0,(E129-MAX(D129,(23/24))+(E129<D129))))),o),\"\")","v":""},"","","","",{"$f":"IFERROR(IF(OR(AND(C129=\"\",D129<E129,OR(WEEKDAY(A129,2)=1,WEEKDAY(A129,2)>=6)),AND(C129=\"\",D129>E129,OR(WEEKDAY(A129,2)>=5)),AND(C129<>\"\",D129>E129,WEEKDAY(A129,2)>=5)),ColTime(Data!$J$6,Data!$L$6,D129,E129),\"\"),\"\")","v":""},{"$f":"IFERROR(IF(OR(AND(WEEKDAY(A129,2)>1,WEEKDAY(A129,2)<6,D129<E129,C129=\"\"),AND(C129=\"\",WEEKDAY(A129,2)=1,E129<D129),AND(C129<>\"\",D129<E129,WEEKDAY(A129,2)>1,WEEKDAY(A129,2)<4),AND(C129<>\"\",D129>E129,WEEKDAY(A129,2)=1)),ColTime(Data!$J$6,Data!$L$6,D129,E129),\"\"),\"\")","v":""},null,{"$f":"IF(F129=\"\",\"\",IF(AND(C129<>\"\",OR(D129<E129,AND(D129>E129,C435<>\"\"))),ColTime(Data!$J$6,Data!$L$6,D129,E129),\"\"))","v":""}]
["2020-05-04","Ma","",null,null,"",null,null,null,{"$f":"IF(OR(AND(C130<>\"\",D130>E130,WEEKDAY(A130,2)=5),AND(C130=\"\",WEEKDAY(A130,2)>5)),IF(D130=\"\",\"\",ColTime(Data!$J$3,Data!$L$3,D130,E130)),\"\")","v":""},"","",{"$f":"IFERROR(IF(AND(C130=\"\",WEEKDAY(A130,2)>5),IF(D130=\"\",\"\",(IF(E130-MAX(D130,(15/24))+(E130<D130)<0,0,E130-MAX(D130,(15/24))+($E130<D130)))-(IF((E130-MAX(D130,(23/24))+(E130<D130))<0,0,(E130-MAX(D130,(23/24))+(E130<D130))))),o),\"\")","v":""},"","","","",{"$f":"IFERROR(IF(OR(AND(C130=\"\",D130<E130,OR(WEEKDAY(A130,2)=1,WEEKDAY(A130,2)>=6)),AND(C130=\"\",D130>E130,OR(WEEKDAY(A130,2)>=5)),AND(C130<>\"\",D130>E130,WEEKDAY(A130,2)>=5)),ColTime(Data!$J$6,Data!$L$6,D130,E130),\"\"),\"\")","v":""},{"$f":"IFERROR(IF(OR(AND(WEEKDAY(A130,2)>1,WEEKDAY(A130,2)<6,D130<E130,C130=\"\"),AND(C130=\"\",WEEKDAY(A130,2)=1,E130<D130),AND(C130<>\"\",D130<E130,WEEKDAY(A130,2)>1,WEEKDAY(A130,2)<4),AND(C130<>\"\",D130>E130,WEEKDAY(A130,2)=1)),ColTime(Data!$J$6,Data!$L$6,D130,E130),\"\"),\"\")","v":""},null,{"$f":"IF(F130=\"\",\"\",IF(AND(C130<>\"\",OR(D130<E130,AND(D130>E130,C436<>\"\"))),ColTime(Data!$J$6,Data!$L$6,D130,E130),\"\"))","v":""}]
["2020-05-05","Ti","",null,null,"",null,null,null,{"$f":"IF(OR(AND(C131<>\"\",D131>E131,WEEKDAY(A131,2)=5),AND(C131=\"\",WEEKDAY(A131,2)>5)),IF(D131=\"\",\"\",ColTime(Data!$J$3,Data!$L$3,D131,E131)),\"\")","v":""},"","",{"$f":"IFERROR(IF(AND(C131=\"\",WEEKDAY(A131,2)>5),IF(D131=\"\",\"\",(IF(E131-MAX(D131,(15/24))+(E131<D131)<0,0,E131-MAX(D131,(15/24))+($E131<D131)))-(IF((E131-MAX(D131,(23/24))+(E131<D131))<0,0,(E131-MAX(D131,(23/24))+(E131<D131))))),o),\"\")","v":""},"","","","",{"$f":"IFERROR(IF(OR(AND(C131=\"\",D131<E131,OR(WEEKDAY(A131,2)=1,WEEKDAY(A131,2)>=6)),AND(C131=\"\",D131>E131,OR(WEEKDAY(A131,2)>=5)),AND(C131<>\"\",D131>E131,WEEKDAY(A131,2)>=5)),ColTime(Data!$J$6,Data!$L$6,D131,E131),\"\"),\"\")","v":""},{"$f":"IFERROR(IF(OR(AND(WEEKDAY(A131,2)>1,WEEKDAY(A131,2)<6,D131<E131,C131=\"\"),AND(C131=\"\",WEEKDAY(A131,2)=1,E131<D131),AND(C131<>\"\",D131<E131,WEEKDAY(A131,2)>1,WEEKDAY(A131,2)<4),AND(C131<>\"\",D131>E131,WEEKDAY(A131,2)=1)),ColTime(Data!$J$6,Data!$L$6,D131,E131),\"\"),\"\")","v":""},null,{"$f":"IF(F131=\"\",\"\",IF(AND(C131<>\"\",OR(D131<E131,AND(D131>E131,C437<>\"\"))),ColTime(Data!$J$6,Data!$L$6,D131,E131),\"\"))","v":""}]
["2020-05-06","On","",null,null,"",null,null,null,{"$f":"IF(OR(AND(C132<>\"\",D132>E132,WEEKDAY(A132,2)=5),AND(C132=\"\",WEEKDAY(A132,2)>5)),IF(D132=\"\",\"\",ColTime(Data!$J$3,Data!$L$3,D132,E132)),\"\")","v":""},"","",{"$f":"IFERROR(IF(AND(C132=\"\",WEEKDAY(A132,2)>5),IF(D132=\"\",\"\",(IF(E132-MAX(D132,(15/24))+(E132<D132)<0,0,E132-MAX(D132,(15/24))+($E132<D132)))-(IF((E132-MAX(D132,(23/24))+(E132<D132))<0,0,(E132-MAX(D132,(23/24))+(E132<D132))))),o),\"\")","v":""},"","","","",{"$f":"IFERROR(IF(OR(AND(C132=\"\",D132<E132,OR(WEEKDAY(A132,2)=1,WEEKDAY(A132,2)>=6)),AND(C132=\"\",D132>E132,OR(WEEKDAY(A132,2)>=5)),AND(C132<>\"\",D132>E132,WEEKDAY(A132,2)>=5)),ColTime(Data!$J$6,Data!$L$6,D132,E132),\"\"),\"\")","v":""},{"$f":"IFERROR(IF(OR(AND(WEEKDAY(A132,2)>1,WEEKDAY(A132,2)<6,D132<E132,C132=\"\"),AND(C132=\"\",WEEKDAY(A132,2)=1,E132<D132),AND(C132<>\"\",D132<E132,WEEKDAY(A132,2)>1,WEEKDAY(A132,2)<4),AND(C132<>\"\",D132>E132,WEEKDAY(A132,2)=1)),ColTime(Data!$J$6,Data!$L$6,D132,E132),\"\"),\"\")","v":""},null,{"$f":"IF(F132=\"\",\"\",IF(AND(C132<>\"\",OR(D132<E132,AND(D132>E132,C438<>\"\"))),ColTime(Data!$J$6,Data!$L$6,D132,E132),\"\"))","v":""}]
["2020-05-07","To","",null,null,"",null,null,null,{"$f":"IF(OR(AND(C133<>\"\",D133>E133,WEEKDAY(A133,2)=5),AND(C133=\"\",WEEKDAY(A133,2)>5)),IF(D133=\"\",\"\",ColTime(Data!$J$3,Data!$L$3,D133,E133)),\"\")","v":""},"","",{"$f":"IFERROR(IF(AND(C133=\"\",WEEKDAY(A133,2)>5),IF(D133=\"\",\"\",(IF(E133-MAX(D133,(15/24))+(E133<D133)<0,0,E133-MAX(D133,(15/24))+($E133<D133)))-(IF((E133-MAX(D133,(23/24))+(E133<D133))<0,0,(E133-MAX(D133,(23/24))+(E133<D133))))),o),\"\")","v":""},"","","","",{"$f":"IFERROR(IF(OR(AND(C133=\"\",D133<E133,OR(WEEKDAY(A133,2)=1,WEEKDAY(A133,2)>=6)),AND(C133=\"\",D133>E133,OR(WEEKDAY(A133,2)>=5)),AND(C133<>\"\",D133>E133,WEEKDAY(A133,2)>=5)),ColTime(Data!$J$6,Data!$L$6,D133,E133),\"\"),\"\")","v":""},{"$f":"IFERROR(IF(OR(AND(WEEKDAY(A133,2)>1,WEEKDAY(A133,2)<6,D133<E133,C133=\"\"),AND(C133=\"\",WEEKDAY(A133,2)=1,E133<D133),AND(C133<>\"\",D133<E133,WEEKDAY(A133,2)>1,WEEKDAY(A133,2)<4),AND(C133<>\"\",D133>E133,WEEKDAY(A133,2)=1)),ColTime(Data!$J$6,Data!$L$6,D133,E133),\"\"),\"\")","v":""},null,{"$f":"IF(F133=\"\",\"\",IF(AND(C133<>\"\",OR(D133<E133,AND(D133>E133,C439<>\"\"))),ColTime(Data!$J$6,Data!$L$6,D133,E133),\"\"))","v":""}]
["2020-05-08","Fr","Store Bededag",null,null,"",null,null,null,{"$f":"IF(OR(AND(C134<>\"\",D134>E134,WEEKDAY(A134,2)=5),AND(C134=\"\",WEEKDAY(A134,2)>5)),IF(D134=\"\",\"\",ColTime(Data!$J$3,Data!$L$3,D134,E134)),\"\")","v":""},"","",{"$f":"IFERROR(IF(AND(C134=\"\",WEEKDAY(A134,2)>5),IF(D134=\"\",\"\",(IF(E134-MAX(D134,(15/24))+(E134<D134)<0,0,E134-MAX(D134,(15/24))+($E134<D134)))-(IF((E134-MAX(D134,(23/24))+(E134<D134))<0,0,(E134-MAX(D134,(23/24))+(E134<D134))))),o),\"\")","v":""},"","","","",{"$f":"IFERROR(IF(OR(AND(C134=\"\",D134<E134,OR(WEEKDAY(A134,2)=1,WEEKDAY(A134,2)>=6)),AND(C134=\"\",D134>E134,OR(WEEKDAY(A134,2)>=5)),AND(C134<>\"\",D134>E134,WEEKDAY(A134,2)>=5)),ColTime(Data!$J$6,Data!$L$6,D134,E134),\"\"),\"\")","v":""},{"$f":"IFERROR(IF(OR(AND(WEEKDAY(A134,2)>1,WEEKDAY(A134,2)<6,D134<E134,C134=\"\"),AND(C134=\"\",WEEKDAY(A134,2)=1,E134<D134),AND(C134<>\"\",D134<E134,WEEKDAY(A134,2)>1,WEEKDAY(A134,2)<4),AND(C134<>\"\",D134>E134,WEEKDAY(A134,2)=1)),ColTime(Data!$J$6,Data!$L$6,D134,E134),\"\"),\"\")","v":""},null,{"$f":"IF(F134=\"\",\"\",IF(AND(C134<>\"\",OR(D134<E134,AND(D134>E134,C440<>\"\"))),ColTime(Data!$J$6,Data!$L$6,D134,E134),\"\"))","v":""}]
[{"$f":"A134+1","v":"2020-05-09"},"Lø","",null,null,"",null,null,null,{"$f":"IF(OR(AND(C135<>\"\",D135>E135,WEEKDAY(A135,2)=5),AND(C135=\"\",WEEKDAY(A135,2)>5)),IF(D135=\"\",\"\",ColTime(Data!$J$3,Data!$L$3,D135,E135)),\"\")","v":""},"","",{"$f":"IFERROR(IF(AND(C135=\"\",WEEKDAY(A135,2)>5),IF(D135=\"\",\"\",(IF(E135-MAX(D135,(15/24))+(E135<D135)<0,0,E135-MAX(D135,(15/24))+($E135<D135)))-(IF((E135-MAX(D135,(23/24))+(E135<D135))<0,0,(E135-MAX(D135,(23/24))+(E135<D135))))),o),\"\")","v":""},"","","","",{"$f":"IFERROR(IF(OR(AND(C135=\"\",D135<E135,OR(WEEKDAY(A135,2)=1,WEEKDAY(A135,2)>=6)),AND(C135=\"\",D135>E135,OR(WEEKDAY(A135,2)>=5)),AND(C135<>\"\",D135>E135,WEEKDAY(A135,2)>=5)),ColTime(Data!$J$6,Data!$L$6,D135,E135),\"\"),\"\")","v":""},{"$f":"IFERROR(IF(OR(AND(WEEKDAY(A135,2)>1,WEEKDAY(A135,2)<6,D135<E135,C135=\"\"),AND(C135=\"\",WEEKDAY(A135,2)=1,E135<D135),AND(C135<>\"\",D135<E135,WEEKDAY(A135,2)>1,WEEKDAY(A135,2)<4),AND(C135<>\"\",D135>E135,WEEKDAY(A135,2)=1)),ColTime(Data!$J$6,Data!$L$6,D135,E135),\"\"),\"\")","v":""},null,{"$f":"IF(F135=\"\",\"\",IF(AND(C135<>\"\",OR(D135<E135,AND(D135>E135,C441<>\"\"))),ColTime(Data!$J$6,Data!$L$6,D135,E135),\"\"))","v":""}]
["2020-05-10","Sø","",null,null,"",null,null,null,{"$f":"IF(OR(AND(C136<>\"\",D136>E136,WEEKDAY(A136,2)=5),AND(C136=\"\",WEEKDAY(A136,2)>5)),IF(D136=\"\",\"\",ColTime(Data!$J$3,Data!$L$3,D136,E136)),\"\")","v":""},"","",{"$f":"IFERROR(IF(AND(C136=\"\",WEEKDAY(A136,2)>5),IF(D136=\"\",\"\",(IF(E136-MAX(D136,(15/24))+(E136<D136)<0,0,E136-MAX(D136,(15/24))+($E136<D136)))-(IF((E136-MAX(D136,(23/24))+(E136<D136))<0,0,(E136-MAX(D136,(23/24))+(E136<D136))))),o),\"\")","v":""},"","","",{"$f":"IF(D136=\"\",\"\",IF(C136<>\"\",IF(D136=\"\",\"\",(IF(E136-MAX(D136,(23/24))+(E136<D136)<0,0,E136-MAX(D136,(23/24))+(E136<D136)))-(IF((E136-MAX(D136,(24/24))+(E136<D136))<0,0,(E136-MAX(D136,(24/24))+(E136<D136))))),0))","v":""},{"$f":"IFERROR(IF(OR(AND(C136=\"\",D136<E136,OR(WEEKDAY(A136,2)=1,WEEKDAY(A136,2)>=6)),AND(C136=\"\",D136>E136,OR(WEEKDAY(A136,2)>=5)),AND(C136<>\"\",D136>E136,WEEKDAY(A136,2)>=5)),ColTime(Data!$J$6,Data!$L$6,D136,E136),\"\"),\"\")","v":""},{"$f":"IFERROR(IF(OR(AND(WEEKDAY(A136,2)>1,WEEKDAY(A136,2)<6,D136<E136,C136=\"\"),AND(C136=\"\",WEEKDAY(A136,2)=1,E136<D136),AND(C136<>\"\",D136<E136,WEEKDAY(A136,2)>1,WEEKDAY(A136,2)<4),AND(C136<>\"\",D136>E136,WEEKDAY(A136,2)=1)),ColTime(Data!$J$6,Data!$L$6,D136,E136),\"\"),\"\")","v":""},null,{"$f":"IF(F136=\"\",\"\",IF(AND(C136<>\"\",OR(D136<E136,AND(D136>E136,C442<>\"\"))),ColTime(Data!$J$6,Data!$L$6,D136,E136),\"\"))","v":""}]
["2020-05-11","Ma","",null,null,"",null,null,null,{"$f":"IF(OR(AND(C137<>\"\",D137>E137,WEEKDAY(A137,2)=5),AND(C137=\"\",WEEKDAY(A137,2)>5)),IF(D137=\"\",\"\",ColTime(Data!$J$3,Data!$L$3,D137,E137)),\"\")","v":""},"","",{"$f":"IFERROR(IF(AND(C137=\"\",WEEKDAY(A137,2)>5),IF(D137=\"\",\"\",(IF(E137-MAX(D137,(15/24))+(E137<D137)<0,0,E137-MAX(D137,(15/24))+($E137<D137)))-(IF((E137-MAX(D137,(23/24))+(E137<D137))<0,0,(E137-MAX(D137,(23/24))+(E137<D137))))),o),\"\")","v":""},"","","","",{"$f":"IFERROR(IF(OR(AND(C137=\"\",D137<E137,OR(WEEKDAY(A137,2)=1,WEEKDAY(A137,2)>=6)),AND(C137=\"\",D137>E137,OR(WEEKDAY(A137,2)>=5)),AND(C137<>\"\",D137>E137,WEEKDAY(A137,2)>=5)),ColTime(Data!$J$6,Data!$L$6,D137,E137),\"\"),\"\")","v":""},{"$f":"IFERROR(IF(OR(AND(WEEKDAY(A137,2)>1,WEEKDAY(A137,2)<6,D137<E137,C137=\"\"),AND(C137=\"\",WEEKDAY(A137,2)=1,E137<D137),AND(C137<>\"\",D137<E137,WEEKDAY(A137,2)>1,WEEKDAY(A137,2)<4),AND(C137<>\"\",D137>E137,WEEKDAY(A137,2)=1)),ColTime(Data!$J$6,Data!$L$6,D137,E137),\"\"),\"\")","v":""},null,{"$f":"IF(F137=\"\",\"\",IF(AND(C137<>\"\",OR(D137<E137,AND(D137>E137,C443<>\"\"))),ColTime(Data!$J$6,Data!$L$6,D137,E137),\"\"))","v":""}]
["2020-05-12","Ti","",null,null,"",null,null,null,{"$f":"IF(OR(AND(C138<>\"\",D138>E138,WEEKDAY(A138,2)=5),AND(C138=\"\",WEEKDAY(A138,2)>5)),IF(D138=\"\",\"\",ColTime(Data!$J$3,Data!$L$3,D138,E138)),\"\")","v":""},"","",{"$f":"IFERROR(IF(AND(C138=\"\",WEEKDAY(A138,2)>5),IF(D138=\"\",\"\",(IF(E138-MAX(D138,(15/24))+(E138<D138)<0,0,E138-MAX(D138,(15/24))+($E138<D138)))-(IF((E138-MAX(D138,(23/24))+(E138<D138))<0,0,(E138-MAX(D138,(23/24))+(E138<D138))))),o),\"\")","v":""},"","","","",{"$f":"IFERROR(IF(OR(AND(C138=\"\",D138<E138,OR(WEEKDAY(A138,2)=1,WEEKDAY(A138,2)>=6)),AND(C138=\"\",D138>E138,OR(WEEKDAY(A138,2)>=5)),AND(C138<>\"\",D138>E138,WEEKDAY(A138,2)>=5)),ColTime(Data!$J$6,Data!$L$6,D138,E138),\"\"),\"\")","v":""},{"$f":"IFERROR(IF(OR(AND(WEEKDAY(A138,2)>1,WEEKDAY(A138,2)<6,D138<E138,C138=\"\"),AND(C138=\"\",WEEKDAY(A138,2)=1,E138<D138),AND(C138<>\"\",D138<E138,WEEKDAY(A138,2)>1,WEEKDAY(A138,2)<4),AND(C138<>\"\",D138>E138,WEEKDAY(A138,2)=1)),ColTime(Data!$J$6,Data!$L$6,D138,E138),\"\"),\"\")","v":""},null,{"$f":"IF(F138=\"\",\"\",IF(AND(C138<>\"\",OR(D138<E138,AND(D138>E138,C444<>\"\"))),ColTime(Data!$J$6,Data!$L$6,D138,E138),\"\"))","v":""}]
["2020-05-13","On","",null,null,"",null,null,null,{"$f":"IF(OR(AND(C139<>\"\",D139>E139,WEEKDAY(A139,2)=5),AND(C139=\"\",WEEKDAY(A139,2)>5)),IF(D139=\"\",\"\",ColTime(Data!$J$3,Data!$L$3,D139,E139)),\"\")","v":""},"","",{"$f":"IFERROR(IF(AND(C139=\"\",WEEKDAY(A139,2)>5),IF(D139=\"\",\"\",(IF(E139-MAX(D139,(15/24))+(E139<D139)<0,0,E139-MAX(D139,(15/24))+($E139<D139)))-(IF((E139-MAX(D139,(23/24))+(E139<D139))<0,0,(E139-MAX(D139,(23/24))+(E139<D139))))),o),\"\")","v":""},"","","","",{"$f":"IFERROR(IF(OR(AND(C139=\"\",D139<E139,OR(WEEKDAY(A139,2)=1,WEEKDAY(A139,2)>=6)),AND(C139=\"\",D139>E139,OR(WEEKDAY(A139,2)>=5)),AND(C139<>\"\",D139>E139,WEEKDAY(A139,2)>=5)),ColTime(Data!$J$6,Data!$L$6,D139,E139),\"\"),\"\")","v":""},{"$f":"IFERROR(IF(OR(AND(WEEKDAY(A139,2)>1,WEEKDAY(A139,2)<6,D139<E139,C139=\"\"),AND(C139=\"\",WEEKDAY(A139,2)=1,E139<D139),AND(C139<>\"\",D139<E139,WEEKDAY(A139,2)>1,WEEKDAY(A139,2)<4),AND(C139<>\"\",D139>E139,WEEKDAY(A139,2)=1)),ColTime(Data!$J$6,Data!$L$6,D139,E139),\"\"),\"\")","v":""},null,{"$f":"IF(F139=\"\",\"\",IF(AND(C139<>\"\",OR(D139<E139,AND(D139>E139,C445<>\"\"))),ColTime(Data!$J$6,Data!$L$6,D139,E139),\"\"))","v":""}]
["2020-05-14","To","",null,null,"",null,null,null,{"$f":"IF(OR(AND(C140<>\"\",D140>E140,WEEKDAY(A140,2)=5),AND(C140=\"\",WEEKDAY(A140,2)>5)),IF(D140=\"\",\"\",ColTime(Data!$J$3,Data!$L$3,D140,E140)),\"\")","v":""},"","",{"$f":"IFERROR(IF(AND(C140=\"\",WEEKDAY(A140,2)>5),IF(D140=\"\",\"\",(IF(E140-MAX(D140,(15/24))+(E140<D140)<0,0,E140-MAX(D140,(15/24))+($E140<D140)))-(IF((E140-MAX(D140,(23/24))+(E140<D140))<0,0,(E140-MAX(D140,(23/24))+(E140<D140))))),o),\"\")","v":""},"","","","",{"$f":"IFERROR(IF(OR(AND(C140=\"\",D140<E140,OR(WEEKDAY(A140,2)=1,WEEKDAY(A140,2)>=6)),AND(C140=\"\",D140>E140,OR(WEEKDAY(A140,2)>=5)),AND(C140<>\"\",D140>E140,WEEKDAY(A140,2)>=5)),ColTime(Data!$J$6,Data!$L$6,D140,E140),\"\"),\"\")","v":""},{"$f":"IFERROR(IF(OR(AND(WEEKDAY(A140,2)>1,WEEKDAY(A140,2)<6,D140<E140,C140=\"\"),AND(C140=\"\",WEEKDAY(A140,2)=1,E140<D140),AND(C140<>\"\",D140<E140,WEEKDAY(A140,2)>1,WEEKDAY(A140,2)<4),AND(C140<>\"\",D140>E140,WEEKDAY(A140,2)=1)),ColTime(Data!$J$6,Data!$L$6,D140,E140),\"\"),\"\")","v":""},null,{"$f":"IF(F140=\"\",\"\",IF(AND(C140<>\"\",OR(D140<E140,AND(D140>E140,C446<>\"\"))),ColTime(Data!$J$6,Data!$L$6,D140,E140),\"\"))","v":""}]
["2020-05-15","Fr","",null,null,"",null,null,null,{"$f":"IF(OR(AND(C141<>\"\",D141>E141,WEEKDAY(A141,2)=5),AND(C141=\"\",WEEKDAY(A141,2)>5)),IF(D141=\"\",\"\",ColTime(Data!$J$3,Data!$L$3,D141,E141)),\"\")","v":""},"","",{"$f":"IFERROR(IF(AND(C141=\"\",WEEKDAY(A141,2)>5),IF(D141=\"\",\"\",(IF(E141-MAX(D141,(15/24))+(E141<D141)<0,0,E141-MAX(D141,(15/24))+($E141<D141)))-(IF((E141-MAX(D141,(23/24))+(E141<D141))<0,0,(E141-MAX(D141,(23/24))+(E141<D141))))),o),\"\")","v":""},"","","","",{"$f":"IFERROR(IF(OR(AND(C141=\"\",D141<E141,OR(WEEKDAY(A141,2)=1,WEEKDAY(A141,2)>=6)),AND(C141=\"\",D141>E141,OR(WEEKDAY(A141,2)>=5)),AND(C141<>\"\",D141>E141,WEEKDAY(A141,2)>=5)),ColTime(Data!$J$6,Data!$L$6,D141,E141),\"\"),\"\")","v":""},{"$f":"IFERROR(IF(OR(AND(WEEKDAY(A141,2)>1,WEEKDAY(A141,2)<6,D141<E141,C141=\"\"),AND(C141=\"\",WEEKDAY(A141,2)=1,E141<D141),AND(C141<>\"\",D141<E141,WEEKDAY(A141,2)>1,WEEKDAY(A141,2)<4),AND(C141<>\"\",D141>E141,WEEKDAY(A141,2)=1)),ColTime(Data!$J$6,Data!$L$6,D141,E141),\"\"),\"\")","v":""},null,{"$f":"IF(F141=\"\",\"\",IF(AND(C141<>\"\",OR(D141<E141,AND(D141>E141,C447<>\"\"))),ColTime(Data!$J$6,Data!$L$6,D141,E141),\"\"))","v":""}]
["2020-05-16","Lø","",null,null,"",null,null,null,{"$f":"IF(OR(AND(C142<>\"\",D142>E142,WEEKDAY(A142,2)=5),AND(C142=\"\",WEEKDAY(A142,2)>5)),IF(D142=\"\",\"\",ColTime(Data!$J$3,Data!$L$3,D142,E142)),\"\")","v":""},"","",{"$f":"IFERROR(IF(AND(C142=\"\",WEEKDAY(A142,2)>5),IF(D142=\"\",\"\",(IF(E142-MAX(D142,(15/24))+(E142<D142)<0,0,E142-MAX(D142,(15/24))+($E142<D142)))-(IF((E142-MAX(D142,(23/24))+(E142<D142))<0,0,(E142-MAX(D142,(23/24))+(E142<D142))))),o),\"\")","v":""},"","","","",{"$f":"IFERROR(IF(OR(AND(C142=\"\",D142<E142,OR(WEEKDAY(A142,2)=1,WEEKDAY(A142,2)>=6)),AND(C142=\"\",D142>E142,OR(WEEKDAY(A142,2)>=5)),AND(C142<>\"\",D142>E142,WEEKDAY(A142,2)>=5)),ColTime(Data!$J$6,Data!$L$6,D142,E142),\"\"),\"\")","v":""},{"$f":"IFERROR(IF(OR(AND(WEEKDAY(A142,2)>1,WEEKDAY(A142,2)<6,D142<E142,C142=\"\"),AND(C142=\"\",WEEKDAY(A142,2)=1,E142<D142),AND(C142<>\"\",D142<E142,WEEKDAY(A142,2)>1,WEEKDAY(A142,2)<4),AND(C142<>\"\",D142>E142,WEEKDAY(A142,2)=1)),ColTime(Data!$J$6,Data!$L$6,D142,E142),\"\"),\"\")","v":""},null,{"$f":"IF(F142=\"\",\"\",IF(AND(C142<>\"\",OR(D142<E142,AND(D142>E142,C448<>\"\"))),ColTime(Data!$J$6,Data!$L$6,D142,E142),\"\"))","v":""}]
["2020-05-17","Sø","",null,null,"",null,null,null,{"$f":"IF(OR(AND(C143<>\"\",D143>E143,WEEKDAY(A143,2)=5),AND(C143=\"\",WEEKDAY(A143,2)>5)),IF(D143=\"\",\"\",ColTime(Data!$J$3,Data!$L$3,D143,E143)),\"\")","v":""},"","",{"$f":"IFERROR(IF(AND(C143=\"\",WEEKDAY(A143,2)>5),IF(D143=\"\",\"\",(IF(E143-MAX(D143,(15/24))+(E143<D143)<0,0,E143-MAX(D143,(15/24))+($E143<D143)))-(IF((E143-MAX(D143,(23/24))+(E143<D143))<0,0,(E143-MAX(D143,(23/24))+(E143<D143))))),o),\"\")","v":""},"","","","",{"$f":"IFERROR(IF(OR(AND(C143=\"\",D143<E143,OR(WEEKDAY(A143,2)=1,WEEKDAY(A143,2)>=6)),AND(C143=\"\",D143>E143,OR(WEEKDAY(A143,2)>=5)),AND(C143<>\"\",D143>E143,WEEKDAY(A143,2)>=5)),ColTime(Data!$J$6,Data!$L$6,D143,E143),\"\"),\"\")","v":""},{"$f":"IFERROR(IF(OR(AND(WEEKDAY(A143,2)>1,WEEKDAY(A143,2)<6,D143<E143,C143=\"\"),AND(C143=\"\",WEEKDAY(A143,2)=1,E143<D143),AND(C143<>\"\",D143<E143,WEEKDAY(A143,2)>1,WEEKDAY(A143,2)<4),AND(C143<>\"\",D143>E143,WEEKDAY(A143,2)=1)),ColTime(Data!$J$6,Data!$L$6,D143,E143),\"\"),\"\")","v":""},null,{"$f":"IF(F143=\"\",\"\",IF(AND(C143<>\"\",OR(D143<E143,AND(D143>E143,C449<>\"\"))),ColTime(Data!$J$6,Data!$L$6,D143,E143),\"\"))","v":""}]
["2020-05-18","Ma","",null,null,"",null,null,null,{"$f":"IF(OR(AND(C144<>\"\",D144>E144,WEEKDAY(A144,2)=5),AND(C144=\"\",WEEKDAY(A144,2)>5)),IF(D144=\"\",\"\",ColTime(Data!$J$3,Data!$L$3,D144,E144)),\"\")","v":""},"","",{"$f":"IFERROR(IF(AND(C144=\"\",WEEKDAY(A144,2)>5),IF(D144=\"\",\"\",(IF(E144-MAX(D144,(15/24))+(E144<D144)<0,0,E144-MAX(D144,(15/24))+($E144<D144)))-(IF((E144-MAX(D144,(23/24))+(E144<D144))<0,0,(E144-MAX(D144,(23/24))+(E144<D144))))),o),\"\")","v":""},"","","","",{"$f":"IFERROR(IF(OR(AND(C144=\"\",D144<E144,OR(WEEKDAY(A144,2)=1,WEEKDAY(A144,2)>=6)),AND(C144=\"\",D144>E144,OR(WEEKDAY(A144,2)>=5)),AND(C144<>\"\",D144>E144,WEEKDAY(A144,2)>=5)),ColTime(Data!$J$6,Data!$L$6,D144,E144),\"\"),\"\")","v":""},{"$f":"IFERROR(IF(OR(AND(WEEKDAY(A144,2)>1,WEEKDAY(A144,2)<6,D144<E144,C144=\"\"),AND(C144=\"\",WEEKDAY(A144,2)=1,E144<D144),AND(C144<>\"\",D144<E144,WEEKDAY(A144,2)>1,WEEKDAY(A144,2)<4),AND(C144<>\"\",D144>E144,WEEKDAY(A144,2)=1)),ColTime(Data!$J$6,Data!$L$6,D144,E144),\"\"),\"\")","v":""},null,{"$f":"IF(F144=\"\",\"\",IF(AND(C144<>\"\",OR(D144<E144,AND(D144>E144,C450<>\"\"))),ColTime(Data!$J$6,Data!$L$6,D144,E144),\"\"))","v":""}]
["2020-05-19","Ti","",null,null,"",null,null,null,{"$f":"IF(OR(AND(C145<>\"\",D145>E145,WEEKDAY(A145,2)=5),AND(C145=\"\",WEEKDAY(A145,2)>5)),IF(D145=\"\",\"\",ColTime(Data!$J$3,Data!$L$3,D145,E145)),\"\")","v":""},"","",{"$f":"IFERROR(IF(AND(C145=\"\",WEEKDAY(A145,2)>5),IF(D145=\"\",\"\",(IF(E145-MAX(D145,(15/24))+(E145<D145)<0,0,E145-MAX(D145,(15/24))+($E145<D145)))-(IF((E145-MAX(D145,(23/24))+(E145<D145))<0,0,(E145-MAX(D145,(23/24))+(E145<D145))))),o),\"\")","v":""},"","","","",{"$f":"IFERROR(IF(OR(AND(C145=\"\",D145<E145,OR(WEEKDAY(A145,2)=1,WEEKDAY(A145,2)>=6)),AND(C145=\"\",D145>E145,OR(WEEKDAY(A145,2)>=5)),AND(C145<>\"\",D145>E145,WEEKDAY(A145,2)>=5)),ColTime(Data!$J$6,Data!$L$6,D145,E145),\"\"),\"\")","v":""},{"$f":"IFERROR(IF(OR(AND(WEEKDAY(A145,2)>1,WEEKDAY(A145,2)<6,D145<E145,C145=\"\"),AND(C145=\"\",WEEKDAY(A145,2)=1,E145<D145),AND(C145<>\"\",D145<E145,WEEKDAY(A145,2)>1,WEEKDAY(A145,2)<4),AND(C145<>\"\",D145>E145,WEEKDAY(A145,2)=1)),ColTime(Data!$J$6,Data!$L$6,D145,E145),\"\"),\"\")","v":""},null,{"$f":"IF(F145=\"\",\"\",IF(AND(C145<>\"\",OR(D145<E145,AND(D145>E145,C451<>\"\"))),ColTime(Data!$J$6,Data!$L$6,D145,E145),\"\"))","v":""}]
["2020-05-20","On","",null,null,"",null,null,null,{"$f":"IF(OR(AND(C146<>\"\",D146>E146,WEEKDAY(A146,2)=5),AND(C146=\"\",WEEKDAY(A146,2)>5)),IF(D146=\"\",\"\",ColTime(Data!$J$3,Data!$L$3,D146,E146)),\"\")","v":""},"","",{"$f":"IFERROR(IF(AND(C146=\"\",WEEKDAY(A146,2)>5),IF(D146=\"\",\"\",(IF(E146-MAX(D146,(15/24))+(E146<D146)<0,0,E146-MAX(D146,(15/24))+($E146<D146)))-(IF((E146-MAX(D146,(23/24))+(E146<D146))<0,0,(E146-MAX(D146,(23/24))+(E146<D146))))),o),\"\")","v":""},"","","","",{"$f":"IFERROR(IF(OR(AND(C146=\"\",D146<E146,OR(WEEKDAY(A146,2)=1,WEEKDAY(A146,2)>=6)),AND(C146=\"\",D146>E146,OR(WEEKDAY(A146,2)>=5)),AND(C146<>\"\",D146>E146,WEEKDAY(A146,2)>=5)),ColTime(Data!$J$6,Data!$L$6,D146,E146),\"\"),\"\")","v":""},{"$f":"IFERROR(IF(OR(AND(WEEKDAY(A146,2)>1,WEEKDAY(A146,2)<6,D146<E146,C146=\"\"),AND(C146=\"\",WEEKDAY(A146,2)=1,E146<D146),AND(C146<>\"\",D146<E146,WEEKDAY(A146,2)>1,WEEKDAY(A146,2)<4),AND(C146<>\"\",D146>E146,WEEKDAY(A146,2)=1)),ColTime(Data!$J$6,Data!$L$6,D146,E146),\"\"),\"\")","v":""},null,{"$f":"IF(F146=\"\",\"\",IF(AND(C146<>\"\",OR(D146<E146,AND(D146>E146,C452<>\"\"))),ColTime(Data!$J$6,Data!$L$6,D146,E146),\"\"))","v":""}]
["2020-05-21","To","Kristi Himmelfartsdag",null,null,"",null,null,null,{"$f":"IF(OR(AND(C147<>\"\",D147>E147,WEEKDAY(A147,2)=5),AND(C147=\"\",WEEKDAY(A147,2)>5)),IF(D147=\"\",\"\",ColTime(Data!$J$3,Data!$L$3,D147,E147)),\"\")","v":""},"","",{"$f":"IFERROR(IF(AND(C147=\"\",WEEKDAY(A147,2)>5),IF(D147=\"\",\"\",(IF(E147-MAX(D147,(15/24))+(E147<D147)<0,0,E147-MAX(D147,(15/24))+($E147<D147)))-(IF((E147-MAX(D147,(23/24))+(E147<D147))<0,0,(E147-MAX(D147,(23/24))+(E147<D147))))),o),\"\")","v":""},"","","","",{"$f":"IFERROR(IF(OR(AND(C147=\"\",D147<E147,OR(WEEKDAY(A147,2)=1,WEEKDAY(A147,2)>=6)),AND(C147=\"\",D147>E147,OR(WEEKDAY(A147,2)>=5)),AND(C147<>\"\",D147>E147,WEEKDAY(A147,2)>=5)),ColTime(Data!$J$6,Data!$L$6,D147,E147),\"\"),\"\")","v":""},{"$f":"IFERROR(IF(OR(AND(WEEKDAY(A147,2)>1,WEEKDAY(A147,2)<6,D147<E147,C147=\"\"),AND(C147=\"\",WEEKDAY(A147,2)=1,E147<D147),AND(C147<>\"\",D147<E147,WEEKDAY(A147,2)>1,WEEKDAY(A147,2)<4),AND(C147<>\"\",D147>E147,WEEKDAY(A147,2)=1)),ColTime(Data!$J$6,Data!$L$6,D147,E147),\"\"),\"\")","v":""},null,{"$f":"IF(F147=\"\",\"\",IF(AND(C147<>\"\",OR(D147<E147,AND(D147>E147,C453<>\"\"))),ColTime(Data!$J$6,Data!$L$6,D147,E147),\"\"))","v":""}]
["2020-05-22","Fr","",null,null,"",null,null,null,{"$f":"IF(OR(AND(C148<>\"\",D148>E148,WEEKDAY(A148,2)=5),AND(C148=\"\",WEEKDAY(A148,2)>5)),IF(D148=\"\",\"\",ColTime(Data!$J$3,Data!$L$3,D148,E148)),\"\")","v":""},"","",{"$f":"IFERROR(IF(AND(C148=\"\",WEEKDAY(A148,2)>5),IF(D148=\"\",\"\",(IF(E148-MAX(D148,(15/24))+(E148<D148)<0,0,E148-MAX(D148,(15/24))+($E148<D148)))-(IF((E148-MAX(D148,(23/24))+(E148<D148))<0,0,(E148-MAX(D148,(23/24))+(E148<D148))))),o),\"\")","v":""},"","","","",{"$f":"IFERROR(IF(OR(AND(C148=\"\",D148<E148,OR(WEEKDAY(A148,2)=1,WEEKDAY(A148,2)>=6)),AND(C148=\"\",D148>E148,OR(WEEKDAY(A148,2)>=5)),AND(C148<>\"\",D148>E148,WEEKDAY(A148,2)>=5)),ColTime(Data!$J$6,Data!$L$6,D148,E148),\"\"),\"\")","v":""},{"$f":"IFERROR(IF(OR(AND(WEEKDAY(A148,2)>1,WEEKDAY(A148,2)<6,D148<E148,C148=\"\"),AND(C148=\"\",WEEKDAY(A148,2)=1,E148<D148),AND(C148<>\"\",D148<E148,WEEKDAY(A148,2)>1,WEEKDAY(A148,2)<4),AND(C148<>\"\",D148>E148,WEEKDAY(A148,2)=1)),ColTime(Data!$J$6,Data!$L$6,D148,E148),\"\"),\"\")","v":""},null,{"$f":"IF(F148=\"\",\"\",IF(AND(C148<>\"\",OR(D148<E148,AND(D148>E148,C454<>\"\"))),ColTime(Data!$J$6,Data!$L$6,D148,E148),\"\"))","v":""}]
["2020-05-23","Lø","",null,null,"",null,null,null,{"$f":"IF(OR(AND(C149<>\"\",D149>E149,WEEKDAY(A149,2)=5),AND(C149=\"\",WEEKDAY(A149,2)>5)),IF(D149=\"\",\"\",ColTime(Data!$J$3,Data!$L$3,D149,E149)),\"\")","v":""},"","",{"$f":"IFERROR(IF(AND(C149=\"\",WEEKDAY(A149,2)>5),IF(D149=\"\",\"\",(IF(E149-MAX(D149,(15/24))+(E149<D149)<0,0,E149-MAX(D149,(15/24))+($E149<D149)))-(IF((E149-MAX(D149,(23/24))+(E149<D149))<0,0,(E149-MAX(D149,(23/24))+(E149<D149))))),o),\"\")","v":""},"","","","",{"$f":"IFERROR(IF(OR(AND(C149=\"\",D149<E149,OR(WEEKDAY(A149,2)=1,WEEKDAY(A149,2)>=6)),AND(C149=\"\",D149>E149,OR(WEEKDAY(A149,2)>=5)),AND(C149<>\"\",D149>E149,WEEKDAY(A149,2)>=5)),ColTime(Data!$J$6,Data!$L$6,D149,E149),\"\"),\"\")","v":""},{"$f":"IFERROR(IF(OR(AND(WEEKDAY(A149,2)>1,WEEKDAY(A149,2)<6,D149<E149,C149=\"\"),AND(C149=\"\",WEEKDAY(A149,2)=1,E149<D149),AND(C149<>\"\",D149<E149,WEEKDAY(A149,2)>1,WEEKDAY(A149,2)<4),AND(C149<>\"\",D149>E149,WEEKDAY(A149,2)=1)),ColTime(Data!$J$6,Data!$L$6,D149,E149),\"\"),\"\")","v":""},null,{"$f":"IF(F149=\"\",\"\",IF(AND(C149<>\"\",OR(D149<E149,AND(D149>E149,C455<>\"\"))),ColTime(Data!$J$6,Data!$L$6,D149,E149),\"\"))","v":""}]
["2020-05-24","Sø","",null,null,"",null,null,null,{"$f":"IF(OR(AND(C150<>\"\",D150>E150,WEEKDAY(A150,2)=5),AND(C150=\"\",WEEKDAY(A150,2)>5)),IF(D150=\"\",\"\",ColTime(Data!$J$3,Data!$L$3,D150,E150)),\"\")","v":""},"","",{"$f":"IFERROR(IF(AND(C150=\"\",WEEKDAY(A150,2)>5),IF(D150=\"\",\"\",(IF(E150-MAX(D150,(15/24))+(E150<D150)<0,0,E150-MAX(D150,(15/24))+($E150<D150)))-(IF((E150-MAX(D150,(23/24))+(E150<D150))<0,0,(E150-MAX(D150,(23/24))+(E150<D150))))),o),\"\")","v":""},"","","","",{"$f":"IFERROR(IF(OR(AND(C150=\"\",D150<E150,OR(WEEKDAY(A150,2)=1,WEEKDAY(A150,2)>=6)),AND(C150=\"\",D150>E150,OR(WEEKDAY(A150,2)>=5)),AND(C150<>\"\",D150>E150,WEEKDAY(A150,2)>=5)),ColTime(Data!$J$6,Data!$L$6,D150,E150),\"\"),\"\")","v":""},{"$f":"IFERROR(IF(OR(AND(WEEKDAY(A150,2)>1,WEEKDAY(A150,2)<6,D150<E150,C150=\"\"),AND(C150=\"\",WEEKDAY(A150,2)=1,E150<D150),AND(C150<>\"\",D150<E150,WEEKDAY(A150,2)>1,WEEKDAY(A150,2)<4),AND(C150<>\"\",D150>E150,WEEKDAY(A150,2)=1)),ColTime(Data!$J$6,Data!$L$6,D150,E150),\"\"),\"\")","v":""},null,{"$f":"IF(F150=\"\",\"\",IF(AND(C150<>\"\",OR(D150<E150,AND(D150>E150,C456<>\"\"))),ColTime(Data!$J$6,Data!$L$6,D150,E150),\"\"))","v":""}]
["2020-05-25","Ma","",null,null,"",null,null,null,{"$f":"IF(OR(AND(C151<>\"\",D151>E151,WEEKDAY(A151,2)=5),AND(C151=\"\",WEEKDAY(A151,2)>5)),IF(D151=\"\",\"\",ColTime(Data!$J$3,Data!$L$3,D151,E151)),\"\")","v":""},"","",{"$f":"IFERROR(IF(AND(C151=\"\",WEEKDAY(A151,2)>5),IF(D151=\"\",\"\",(IF(E151-MAX(D151,(15/24))+(E151<D151)<0,0,E151-MAX(D151,(15/24))+($E151<D151)))-(IF((E151-MAX(D151,(23/24))+(E151<D151))<0,0,(E151-MAX(D151,(23/24))+(E151<D151))))),o),\"\")","v":""},"","","","",{"$f":"IFERROR(IF(OR(AND(C151=\"\",D151<E151,OR(WEEKDAY(A151,2)=1,WEEKDAY(A151,2)>=6)),AND(C151=\"\",D151>E151,OR(WEEKDAY(A151,2)>=5)),AND(C151<>\"\",D151>E151,WEEKDAY(A151,2)>=5)),ColTime(Data!$J$6,Data!$L$6,D151,E151),\"\"),\"\")","v":""},{"$f":"IFERROR(IF(OR(AND(WEEKDAY(A151,2)>1,WEEKDAY(A151,2)<6,D151<E151,C151=\"\"),AND(C151=\"\",WEEKDAY(A151,2)=1,E151<D151),AND(C151<>\"\",D151<E151,WEEKDAY(A151,2)>1,WEEKDAY(A151,2)<4),AND(C151<>\"\",D151>E151,WEEKDAY(A151,2)=1)),ColTime(Data!$J$6,Data!$L$6,D151,E151),\"\"),\"\")","v":""},null,{"$f":"IF(F151=\"\",\"\",IF(AND(C151<>\"\",OR(D151<E151,AND(D151>E151,C457<>\"\"))),ColTime(Data!$J$6,Data!$L$6,D151,E151),\"\"))","v":""}]
["2020-05-26","Ti","",null,null,"",null,null,null,{"$f":"IF(OR(AND(C152<>\"\",D152>E152,WEEKDAY(A152,2)=5),AND(C152=\"\",WEEKDAY(A152,2)>5)),IF(D152=\"\",\"\",ColTime(Data!$J$3,Data!$L$3,D152,E152)),\"\")","v":""},"","",{"$f":"IFERROR(IF(AND(C152=\"\",WEEKDAY(A152,2)>5),IF(D152=\"\",\"\",(IF(E152-MAX(D152,(15/24))+(E152<D152)<0,0,E152-MAX(D152,(15/24))+($E152<D152)))-(IF((E152-MAX(D152,(23/24))+(E152<D152))<0,0,(E152-MAX(D152,(23/24))+(E152<D152))))),o),\"\")","v":""},"","","","",{"$f":"IFERROR(IF(OR(AND(C152=\"\",D152<E152,OR(WEEKDAY(A152,2)=1,WEEKDAY(A152,2)>=6)),AND(C152=\"\",D152>E152,OR(WEEKDAY(A152,2)>=5)),AND(C152<>\"\",D152>E152,WEEKDAY(A152,2)>=5)),ColTime(Data!$J$6,Data!$L$6,D152,E152),\"\"),\"\")","v":""},{"$f":"IFERROR(IF(OR(AND(WEEKDAY(A152,2)>1,WEEKDAY(A152,2)<6,D152<E152,C152=\"\"),AND(C152=\"\",WEEKDAY(A152,2)=1,E152<D152),AND(C152<>\"\",D152<E152,WEEKDAY(A152,2)>1,WEEKDAY(A152,2)<4),AND(C152<>\"\",D152>E152,WEEKDAY(A152,2)=1)),ColTime(Data!$J$6,Data!$L$6,D152,E152),\"\"),\"\")","v":""},null,{"$f":"IF(F152=\"\",\"\",IF(AND(C152<>\"\",OR(D152<E152,AND(D152>E152,C458<>\"\"))),ColTime(Data!$J$6,Data!$L$6,D152,E152),\"\"))","v":""}]
["2020-05-27","On","",null,null,"",null,null,null,{"$f":"IF(OR(AND(C153<>\"\",D153>E153,WEEKDAY(A153,2)=5),AND(C153=\"\",WEEKDAY(A153,2)>5)),IF(D153=\"\",\"\",ColTime(Data!$J$3,Data!$L$3,D153,E153)),\"\")","v":""},"","",{"$f":"IFERROR(IF(AND(C153=\"\",WEEKDAY(A153,2)>5),IF(D153=\"\",\"\",(IF(E153-MAX(D153,(15/24))+(E153<D153)<0,0,E153-MAX(D153,(15/24))+($E153<D153)))-(IF((E153-MAX(D153,(23/24))+(E153<D153))<0,0,(E153-MAX(D153,(23/24))+(E153<D153))))),o),\"\")","v":""},"","","","",{"$f":"IFERROR(IF(OR(AND(C153=\"\",D153<E153,OR(WEEKDAY(A153,2)=1,WEEKDAY(A153,2)>=6)),AND(C153=\"\",D153>E153,OR(WEEKDAY(A153,2)>=5)),AND(C153<>\"\",D153>E153,WEEKDAY(A153,2)>=5)),ColTime(Data!$J$6,Data!$L$6,D153,E153),\"\"),\"\")","v":""},{"$f":"IFERROR(IF(OR(AND(WEEKDAY(A153,2)>1,WEEKDAY(A153,2)<6,D153<E153,C153=\"\"),AND(C153=\"\",WEEKDAY(A153,2)=1,E153<D153),AND(C153<>\"\",D153<E153,WEEKDAY(A153,2)>1,WEEKDAY(A153,2)<4),AND(C153<>\"\",D153>E153,WEEKDAY(A153,2)=1)),ColTime(Data!$J$6,Data!$L$6,D153,E153),\"\"),\"\")","v":""},null,{"$f":"IF(F153=\"\",\"\",IF(AND(C153<>\"\",OR(D153<E153,AND(D153>E153,C459<>\"\"))),ColTime(Data!$J$6,Data!$L$6,D153,E153),\"\"))","v":""}]
["2020-05-28",{"$f":"PROPER(TEXT(A154,\"ddd\"))","v":"To"},{"$f":"HelligdagsNavn(A154,0,0)","v":""},null,null,{"$f":"IF(D154=\"\",\"\",(E154-D154)+(D154>E154))","v":""},null,null,null,{"$f":"IF(OR(AND(C154<>\"\",D154>E154,WEEKDAY(A154,2)=5),AND(C154=\"\",WEEKDAY(A154,2)>5)),IF(D154=\"\",\"\",ColTime(Data!$J$3,Data!$L$3,D154,E154)),\"\")","v":""},{"$f":"IF(C154<>\"\",IF(D154=\"\",\"\",(IF(E154-MAX(D154,(7/24))+(E154<D154)<0,0,E154-MAX(D154,(7/24))+(E154<D154)))-(IF((E154-MAX(D154,(15/24))+(E154<D154))<0,0,(E154-MAX(D154,(15/24))+(E154<D154))))),\"\")","v":""},{"$f":"IFERROR(IF(AND(C154=\"\",WEEKDAY(A154,2)<6),IF(D154=\"\",\"\",(IF(E154-MAX(D154,(15/24))+(E154<D154)<0,0,E154-MAX(D154,(15/24))+(E154<D154)))-(IF((E154-MAX(D154,(23/24))+(E154<D154))<0,0,(E154-MAX(D154,(23/24))+(E154<D154))))),\"\"),\"\")","v":""},{"$f":"IFERROR(IF(AND(C154=\"\",WEEKDAY(A154,2)>5),IF(D154=\"\",\"\",(IF(E154-MAX(D154,(15/24))+(E154<D154)<0,0,E154-MAX(D154,(15/24))+($E154<D154)))-(IF((E154-MAX(D154,(23/24))+(E154<D154))<0,0,(E154-MAX(D154,(23/24))+(E154<D154))))),o),\"\")","v":""},{"$f":"IF(C154<>\"\",IF(D154=\"\",\"\",(IF(E154-MAX(D154,(15/24))+(E154<D154)<0,0,E154-MAX(D154,(15/24))+(E154<D154)))-(IF((E154-MAX(D154,(23/24))+(E154<D154))<0,0,(E154-MAX(D154,(23/24))+(E154<D154))))),\"\")","v":""},{"$f":"IF(A154=\"\",\"\",IF(AND(C154=\"\",WEEKDAY(A154,2)<5),IF(D154=\"\",\"\",(IF(E154-MAX(D154,(23/24))+(E154<D154)<0,0,E154-MAX(D154,(23/24))+(E154<D154)))-(IF((E154-MAX(D154,(24/24))+(E154<D154))<0,0,(E154-MAX(D154,(24/24))+(E154<D154))))),\"\"))","v":""},{"$f":"IFERROR(IF(AND(C154=\"\",WEEKDAY(A154,2)>4),IF(D154=\"\",\"\",(IF(E154-MAX(D154,(23/24))+(E154<D154)<0,0,E154-MAX(D154,(23/24))+(E154<D154)))-(IF((E154-MAX(D154,(24/24))+(E154<D154))<0,0,(E154-MAX(D154,(24/24))+(E154<D154))))),\"\"),\"\")","v":""},"",{"$f":"IFERROR(IF(OR(AND(C154=\"\",D154<E154,OR(WEEKDAY(A154,2)=1,WEEKDAY(A154,2)>=6)),AND(C154=\"\",D154>E154,OR(WEEKDAY(A154,2)>=5)),AND(C154<>\"\",D154>E154,WEEKDAY(A154,2)>=5)),ColTime(Data!$J$6,Data!$L$6,D154,E154),\"\"),\"\")","v":""},{"$f":"IFERROR(IF(OR(AND(WEEKDAY(A154,2)>1,WEEKDAY(A154,2)<6,D154<E154,C154=\"\"),AND(C154=\"\",WEEKDAY(A154,2)=1,E154<D154),AND(C154<>\"\",D154<E154,WEEKDAY(A154,2)>1,WEEKDAY(A154,2)<4),AND(C154<>\"\",D154>E154,WEEKDAY(A154,2)=1)),ColTime(Data!$J$6,Data!$L$6,D154,E154),\"\"),\"\")","v":""},null,{"$f":"IF(F154=\"\",\"\",IF(AND(C154<>\"\",OR(D154<E154,AND(D154>E154,C460<>\"\"))),ColTime(Data!$J$6,Data!$L$6,D154,E154),\"\"))","v":""}]
["2020-05-29","Fr","",null,null,"",null,null,null,{"$f":"IF(OR(AND(C155<>\"\",D155>E155,WEEKDAY(A155,2)=5),AND(C155=\"\",WEEKDAY(A155,2)>5)),IF(D155=\"\",\"\",ColTime(Data!$J$3,Data!$L$3,D155,E155)),\"\")","v":""},"","",{"$f":"IFERROR(IF(AND(C155=\"\",WEEKDAY(A155,2)>5),IF(D155=\"\",\"\",(IF(E155-MAX(D155,(15/24))+(E155<D155)<0,0,E155-MAX(D155,(15/24))+($E155<D155)))-(IF((E155-MAX(D155,(23/24))+(E155<D155))<0,0,(E155-MAX(D155,(23/24))+(E155<D155))))),o),\"\")","v":""},"","","","",{"$f":"IFERROR(IF(OR(AND(C155=\"\",D155<E155,OR(WEEKDAY(A155,2)=1,WEEKDAY(A155,2)>=6)),AND(C155=\"\",D155>E155,OR(WEEKDAY(A155,2)>=5)),AND(C155<>\"\",D155>E155,WEEKDAY(A155,2)>=5)),ColTime(Data!$J$6,Data!$L$6,D155,E155),\"\"),\"\")","v":""},{"$f":"IFERROR(IF(OR(AND(WEEKDAY(A155,2)>1,WEEKDAY(A155,2)<6,D155<E155,C155=\"\"),AND(C155=\"\",WEEKDAY(A155,2)=1,E155<D155),AND(C155<>\"\",D155<E155,WEEKDAY(A155,2)>1,WEEKDAY(A155,2)<4),AND(C155<>\"\",D155>E155,WEEKDAY(A155,2)=1)),ColTime(Data!$J$6,Data!$L$6,D155,E155),\"\"),\"\")","v":""},null,{"$f":"IF(F155=\"\",\"\",IF(AND(C155<>\"\",OR(D155<E155,AND(D155>E155,C461<>\"\"))),ColTime(Data!$J$6,Data!$L$6,D155,E155),\"\"))","v":""}]
["2020-05-30","Lø","",null,null,"",null,null,null,{"$f":"IF(OR(AND(C156<>\"\",D156>E156,WEEKDAY(A156,2)=5),AND(C156=\"\",WEEKDAY(A156,2)>5)),IF(D156=\"\",\"\",ColTime(Data!$J$3,Data!$L$3,D156,E156)),\"\")","v":""},"","",{"$f":"IFERROR(IF(AND(C156=\"\",WEEKDAY(A156,2)>5),IF(D156=\"\",\"\",(IF(E156-MAX(D156,(15/24))+(E156<D156)<0,0,E156-MAX(D156,(15/24))+($E156<D156)))-(IF((E156-MAX(D156,(23/24))+(E156<D156))<0,0,(E156-MAX(D156,(23/24))+(E156<D156))))),o),\"\")","v":""},"","","","",{"$f":"IFERROR(IF(OR(AND(C156=\"\",D156<E156,OR(WEEKDAY(A156,2)=1,WEEKDAY(A156,2)>=6)),AND(C156=\"\",D156>E156,OR(WEEKDAY(A156,2)>=5)),AND(C156<>\"\",D156>E156,WEEKDAY(A156,2)>=5)),ColTime(Data!$J$6,Data!$L$6,D156,E156),\"\"),\"\")","v":""},{"$f":"IFERROR(IF(OR(AND(WEEKDAY(A156,2)>1,WEEKDAY(A156,2)<6,D156<E156,C156=\"\"),AND(C156=\"\",WEEKDAY(A156,2)=1,E156<D156),AND(C156<>\"\",D156<E156,WEEKDAY(A156,2)>1,WEEKDAY(A156,2)<4),AND(C156<>\"\",D156>E156,WEEKDAY(A156,2)=1)),ColTime(Data!$J$6,Data!$L$6,D156,E156),\"\"),\"\")","v":""},null,{"$f":"IF(F156=\"\",\"\",IF(AND(C156<>\"\",OR(D156<E156,AND(D156>E156,C462<>\"\"))),ColTime(Data!$J$6,Data!$L$6,D156,E156),\"\"))","v":""}]
["2020-05-31","Sø","Pinsedag",null,null,"",null,null,null,{"$f":"IF(OR(AND(C157<>\"\",D157>E157,WEEKDAY(A157,2)=5),AND(C157=\"\",WEEKDAY(A157,2)>5)),IF(D157=\"\",\"\",ColTime(Data!$J$3,Data!$L$3,D157,E157)),\"\")","v":""},"","",{"$f":"IFERROR(IF(AND(C157=\"\",WEEKDAY(A157,2)>5),IF(D157=\"\",\"\",(IF(E157-MAX(D157,(15/24))+(E157<D157)<0,0,E157-MAX(D157,(15/24))+($E157<D157)))-(IF((E157-MAX(D157,(23/24))+(E157<D157))<0,0,(E157-MAX(D157,(23/24))+(E157<D157))))),o),\"\")","v":""},"","","","",{"$f":"IFERROR(IF(OR(AND(C157=\"\",D157<E157,OR(WEEKDAY(A157,2)=1,WEEKDAY(A157,2)>=6)),AND(C157=\"\",D157>E157,OR(WEEKDAY(A157,2)>=5)),AND(C157<>\"\",D157>E157,WEEKDAY(A157,2)>=5)),ColTime(Data!$J$6,Data!$L$6,D157,E157),\"\"),\"\")","v":""},{"$f":"IFERROR(IF(OR(AND(WEEKDAY(A157,2)>1,WEEKDAY(A157,2)<6,D157<E157,C157=\"\"),AND(C157=\"\",WEEKDAY(A157,2)=1,E157<D157),AND(C157<>\"\",D157<E157,WEEKDAY(A157,2)>1,WEEKDAY(A157,2)<4),AND(C157<>\"\",D157>E157,WEEKDAY(A157,2)=1)),ColTime(Data!$J$6,Data!$L$6,D157,E157),\"\"),\"\")","v":""},null,{"$f":"IF(F157=\"\",\"\",IF(AND(C157<>\"\",OR(D157<E157,AND(D157>E157,C463<>\"\"))),ColTime(Data!$J$6,Data!$L$6,D157,E157),\"\"))","v":""}]
["2020-06-01","Ma","2. Pinsedag",null,null,"",null,null,null,{"$f":"IF(OR(AND(C158<>\"\",D158>E158,WEEKDAY(A158,2)=5),AND(C158=\"\",WEEKDAY(A158,2)>5)),IF(D158=\"\",\"\",ColTime(Data!$J$3,Data!$L$3,D158,E158)),\"\")","v":""},"","",{"$f":"IFERROR(IF(AND(C158=\"\",WEEKDAY(A158,2)>5),IF(D158=\"\",\"\",(IF(E158-MAX(D158,(15/24))+(E158<D158)<0,0,E158-MAX(D158,(15/24))+($E158<D158)))-(IF((E158-MAX(D158,(23/24))+(E158<D158))<0,0,(E158-MAX(D158,(23/24))+(E158<D158))))),o),\"\")","v":""},"","","","",{"$f":"IFERROR(IF(OR(AND(C158=\"\",D158<E158,OR(WEEKDAY(A158,2)=1,WEEKDAY(A158,2)>=6)),AND(C158=\"\",D158>E158,OR(WEEKDAY(A158,2)>=5)),AND(C158<>\"\",D158>E158,WEEKDAY(A158,2)>=5)),ColTime(Data!$J$6,Data!$L$6,D158,E158),\"\"),\"\")","v":""},{"$f":"IFERROR(IF(OR(AND(WEEKDAY(A158,2)>1,WEEKDAY(A158,2)<6,D158<E158,C158=\"\"),AND(C158=\"\",WEEKDAY(A158,2)=1,E158<D158),AND(C158<>\"\",D158<E158,WEEKDAY(A158,2)>1,WEEKDAY(A158,2)<4),AND(C158<>\"\",D158>E158,WEEKDAY(A158,2)=1)),ColTime(Data!$J$6,Data!$L$6,D158,E158),\"\"),\"\")","v":""},null,{"$f":"IF(F158=\"\",\"\",IF(AND(C158<>\"\",OR(D158<E158,AND(D158>E158,C464<>\"\"))),ColTime(Data!$J$6,Data!$L$6,D158,E158),\"\"))","v":""}]
["2020-06-02","Ti","3. Pinsedag",null,null,"",null,null,null,{"$f":"IF(OR(AND(C159<>\"\",D159>E159,WEEKDAY(A159,2)=5),AND(C159=\"\",WEEKDAY(A159,2)>5)),IF(D159=\"\",\"\",ColTime(Data!$J$3,Data!$L$3,D159,E159)),\"\")","v":""},"","",{"$f":"IFERROR(IF(AND(C159=\"\",WEEKDAY(A159,2)>5),IF(D159=\"\",\"\",(IF(E159-MAX(D159,(15/24))+(E159<D159)<0,0,E159-MAX(D159,(15/24))+($E159<D159)))-(IF((E159-MAX(D159,(23/24))+(E159<D159))<0,0,(E159-MAX(D159,(23/24))+(E159<D159))))),o),\"\")","v":""},"","","","",{"$f":"IFERROR(IF(OR(AND(C159=\"\",D159<E159,OR(WEEKDAY(A159,2)=1,WEEKDAY(A159,2)>=6)),AND(C159=\"\",D159>E159,OR(WEEKDAY(A159,2)>=5)),AND(C159<>\"\",D159>E159,WEEKDAY(A159,2)>=5)),ColTime(Data!$J$6,Data!$L$6,D159,E159),\"\"),\"\")","v":""},{"$f":"IFERROR(IF(OR(AND(WEEKDAY(A159,2)>1,WEEKDAY(A159,2)<6,D159<E159,C159=\"\"),AND(C159=\"\",WEEKDAY(A159,2)=1,E159<D159),AND(C159<>\"\",D159<E159,WEEKDAY(A159,2)>1,WEEKDAY(A159,2)<4),AND(C159<>\"\",D159>E159,WEEKDAY(A159,2)=1)),ColTime(Data!$J$6,Data!$L$6,D159,E159),\"\"),\"\")","v":""},null,{"$f":"IF(F159=\"\",\"\",IF(AND(C159<>\"\",OR(D159<E159,AND(D159>E159,C465<>\"\"))),ColTime(Data!$J$6,Data!$L$6,D159,E159),\"\"))","v":""}]
["2020-06-03","On","",null,null,"",null,null,null,{"$f":"IF(OR(AND(C160<>\"\",D160>E160,WEEKDAY(A160,2)=5),AND(C160=\"\",WEEKDAY(A160,2)>5)),IF(D160=\"\",\"\",ColTime(Data!$J$3,Data!$L$3,D160,E160)),\"\")","v":""},"","",{"$f":"IFERROR(IF(AND(C160=\"\",WEEKDAY(A160,2)>5),IF(D160=\"\",\"\",(IF(E160-MAX(D160,(15/24))+(E160<D160)<0,0,E160-MAX(D160,(15/24))+($E160<D160)))-(IF((E160-MAX(D160,(23/24))+(E160<D160))<0,0,(E160-MAX(D160,(23/24))+(E160<D160))))),o),\"\")","v":""},"","","","",{"$f":"IFERROR(IF(OR(AND(C160=\"\",D160<E160,OR(WEEKDAY(A160,2)=1,WEEKDAY(A160,2)>=6)),AND(C160=\"\",D160>E160,OR(WEEKDAY(A160,2)>=5)),AND(C160<>\"\",D160>E160,WEEKDAY(A160,2)>=5)),ColTime(Data!$J$6,Data!$L$6,D160,E160),\"\"),\"\")","v":""},{"$f":"IFERROR(IF(OR(AND(WEEKDAY(A160,2)>1,WEEKDAY(A160,2)<6,D160<E160,C160=\"\"),AND(C160=\"\",WEEKDAY(A160,2)=1,E160<D160),AND(C160<>\"\",D160<E160,WEEKDAY(A160,2)>1,WEEKDAY(A160,2)<4),AND(C160<>\"\",D160>E160,WEEKDAY(A160,2)=1)),ColTime(Data!$J$6,Data!$L$6,D160,E160),\"\"),\"\")","v":""},null,{"$f":"IF(F160=\"\",\"\",IF(AND(C160<>\"\",OR(D160<E160,AND(D160>E160,C466<>\"\"))),ColTime(Data!$J$6,Data!$L$6,D160,E160),\"\"))","v":""}]
["2020-06-04","To","",null,null,"",null,null,null,{"$f":"IF(OR(AND(C161<>\"\",D161>E161,WEEKDAY(A161,2)=5),AND(C161=\"\",WEEKDAY(A161,2)>5)),IF(D161=\"\",\"\",ColTime(Data!$J$3,Data!$L$3,D161,E161)),\"\")","v":""},"","",{"$f":"IFERROR(IF(AND(C161=\"\",WEEKDAY(A161,2)>5),IF(D161=\"\",\"\",(IF(E161-MAX(D161,(15/24))+(E161<D161)<0,0,E161-MAX(D161,(15/24))+($E161<D161)))-(IF((E161-MAX(D161,(23/24))+(E161<D161))<0,0,(E161-MAX(D161,(23/24))+(E161<D161))))),o),\"\")","v":""},"","","","",{"$f":"IFERROR(IF(OR(AND(C161=\"\",D161<E161,OR(WEEKDAY(A161,2)=1,WEEKDAY(A161,2)>=6)),AND(C161=\"\",D161>E161,OR(WEEKDAY(A161,2)>=5)),AND(C161<>\"\",D161>E161,WEEKDAY(A161,2)>=5)),ColTime(Data!$J$6,Data!$L$6,D161,E161),\"\"),\"\")","v":""},{"$f":"IFERROR(IF(OR(AND(WEEKDAY(A161,2)>1,WEEKDAY(A161,2)<6,D161<E161,C161=\"\"),AND(C161=\"\",WEEKDAY(A161,2)=1,E161<D161),AND(C161<>\"\",D161<E161,WEEKDAY(A161,2)>1,WEEKDAY(A161,2)<4),AND(C161<>\"\",D161>E161,WEEKDAY(A161,2)=1)),ColTime(Data!$J$6,Data!$L$6,D161,E161),\"\"),\"\")","v":""},null,{"$f":"IF(F161=\"\",\"\",IF(AND(C161<>\"\",OR(D161<E161,AND(D161>E161,C467<>\"\"))),ColTime(Data!$J$6,Data!$L$6,D161,E161),\"\"))","v":""}]
["2020-06-05","Fr","Grundlovsdag",null,null,"",null,null,null,{"$f":"IF(OR(AND(C162<>\"\",D162>E162,WEEKDAY(A162,2)=5),AND(C162=\"\",WEEKDAY(A162,2)>5)),IF(D162=\"\",\"\",ColTime(Data!$J$3,Data!$L$3,D162,E162)),\"\")","v":""},"","",{"$f":"IFERROR(IF(AND(C162=\"\",WEEKDAY(A162,2)>5),IF(D162=\"\",\"\",(IF(E162-MAX(D162,(15/24))+(E162<D162)<0,0,E162-MAX(D162,(15/24))+($E162<D162)))-(IF((E162-MAX(D162,(23/24))+(E162<D162))<0,0,(E162-MAX(D162,(23/24))+(E162<D162))))),o),\"\")","v":""},"","","","",{"$f":"IFERROR(IF(OR(AND(C162=\"\",D162<E162,OR(WEEKDAY(A162,2)=1,WEEKDAY(A162,2)>=6)),AND(C162=\"\",D162>E162,OR(WEEKDAY(A162,2)>=5)),AND(C162<>\"\",D162>E162,WEEKDAY(A162,2)>=5)),ColTime(Data!$J$6,Data!$L$6,D162,E162),\"\"),\"\")","v":""},{"$f":"IFERROR(IF(OR(AND(WEEKDAY(A162,2)>1,WEEKDAY(A162,2)<6,D162<E162,C162=\"\"),AND(C162=\"\",WEEKDAY(A162,2)=1,E162<D162),AND(C162<>\"\",D162<E162,WEEKDAY(A162,2)>1,WEEKDAY(A162,2)<4),AND(C162<>\"\",D162>E162,WEEKDAY(A162,2)=1)),ColTime(Data!$J$6,Data!$L$6,D162,E162),\"\"),\"\")","v":""},null,{"$f":"IF(F162=\"\",\"\",IF(AND(C162<>\"\",OR(D162<E162,AND(D162>E162,C468<>\"\"))),ColTime(Data!$J$6,Data!$L$6,D162,E162),\"\"))","v":""}]
["2020-06-06","Lø","",null,null,"",null,null,null,{"$f":"IF(OR(AND(C163<>\"\",D163>E163,WEEKDAY(A163,2)=5),AND(C163=\"\",WEEKDAY(A163,2)>5)),IF(D163=\"\",\"\",ColTime(Data!$J$3,Data!$L$3,D163,E163)),\"\")","v":""},"","",{"$f":"IFERROR(IF(AND(C163=\"\",WEEKDAY(A163,2)>5),IF(D163=\"\",\"\",(IF(E163-MAX(D163,(15/24))+(E163<D163)<0,0,E163-MAX(D163,(15/24))+($E163<D163)))-(IF((E163-MAX(D163,(23/24))+(E163<D163))<0,0,(E163-MAX(D163,(23/24))+(E163<D163))))),o),\"\")","v":""},"","","","",{"$f":"IFERROR(IF(OR(AND(C163=\"\",D163<E163,OR(WEEKDAY(A163,2)=1,WEEKDAY(A163,2)>=6)),AND(C163=\"\",D163>E163,OR(WEEKDAY(A163,2)>=5)),AND(C163<>\"\",D163>E163,WEEKDAY(A163,2)>=5)),ColTime(Data!$J$6,Data!$L$6,D163,E163),\"\"),\"\")","v":""},{"$f":"IFERROR(IF(OR(AND(WEEKDAY(A163,2)>1,WEEKDAY(A163,2)<6,D163<E163,C163=\"\"),AND(C163=\"\",WEEKDAY(A163,2)=1,E163<D163),AND(C163<>\"\",D163<E163,WEEKDAY(A163,2)>1,WEEKDAY(A163,2)<4),AND(C163<>\"\",D163>E163,WEEKDAY(A163,2)=1)),ColTime(Data!$J$6,Data!$L$6,D163,E163),\"\"),\"\")","v":""},null,{"$f":"IF(F163=\"\",\"\",IF(AND(C163<>\"\",OR(D163<E163,AND(D163>E163,C469<>\"\"))),ColTime(Data!$J$6,Data!$L$6,D163,E163),\"\"))","v":""}]
["2020-06-07","Sø","",null,null,"",null,null,null,{"$f":"IF(OR(AND(C164<>\"\",D164>E164,WEEKDAY(A164,2)=5),AND(C164=\"\",WEEKDAY(A164,2)>5)),IF(D164=\"\",\"\",ColTime(Data!$J$3,Data!$L$3,D164,E164)),\"\")","v":""},"","",{"$f":"IFERROR(IF(AND(C164=\"\",WEEKDAY(A164,2)>5),IF(D164=\"\",\"\",(IF(E164-MAX(D164,(15/24))+(E164<D164)<0,0,E164-MAX(D164,(15/24))+($E164<D164)))-(IF((E164-MAX(D164,(23/24))+(E164<D164))<0,0,(E164-MAX(D164,(23/24))+(E164<D164))))),o),\"\")","v":""},"","","","",{"$f":"IFERROR(IF(OR(AND(C164=\"\",D164<E164,OR(WEEKDAY(A164,2)=1,WEEKDAY(A164,2)>=6)),AND(C164=\"\",D164>E164,OR(WEEKDAY(A164,2)>=5)),AND(C164<>\"\",D164>E164,WEEKDAY(A164,2)>=5)),ColTime(Data!$J$6,Data!$L$6,D164,E164),\"\"),\"\")","v":""},{"$f":"IFERROR(IF(OR(AND(WEEKDAY(A164,2)>1,WEEKDAY(A164,2)<6,D164<E164,C164=\"\"),AND(C164=\"\",WEEKDAY(A164,2)=1,E164<D164),AND(C164<>\"\",D164<E164,WEEKDAY(A164,2)>1,WEEKDAY(A164,2)<4),AND(C164<>\"\",D164>E164,WEEKDAY(A164,2)=1)),ColTime(Data!$J$6,Data!$L$6,D164,E164),\"\"),\"\")","v":""},null,{"$f":"IF(F164=\"\",\"\",IF(AND(C164<>\"\",OR(D164<E164,AND(D164>E164,C470<>\"\"))),ColTime(Data!$J$6,Data!$L$6,D164,E164),\"\"))","v":""}]
["2020-06-08","Ma","",null,null,"",null,null,null,{"$f":"IF(OR(AND(C165<>\"\",D165>E165,WEEKDAY(A165,2)=5),AND(C165=\"\",WEEKDAY(A165,2)>5)),IF(D165=\"\",\"\",ColTime(Data!$J$3,Data!$L$3,D165,E165)),\"\")","v":""},"","",{"$f":"IFERROR(IF(AND(C165=\"\",WEEKDAY(A165,2)>5),IF(D165=\"\",\"\",(IF(E165-MAX(D165,(15/24))+(E165<D165)<0,0,E165-MAX(D165,(15/24))+($E165<D165)))-(IF((E165-MAX(D165,(23/24))+(E165<D165))<0,0,(E165-MAX(D165,(23/24))+(E165<D165))))),o),\"\")","v":""},"","","","",{"$f":"IFERROR(IF(OR(AND(C165=\"\",D165<E165,OR(WEEKDAY(A165,2)=1,WEEKDAY(A165,2)>=6)),AND(C165=\"\",D165>E165,OR(WEEKDAY(A165,2)>=5)),AND(C165<>\"\",D165>E165,WEEKDAY(A165,2)>=5)),ColTime(Data!$J$6,Data!$L$6,D165,E165),\"\"),\"\")","v":""},{"$f":"IFERROR(IF(OR(AND(WEEKDAY(A165,2)>1,WEEKDAY(A165,2)<6,D165<E165,C165=\"\"),AND(C165=\"\",WEEKDAY(A165,2)=1,E165<D165),AND(C165<>\"\",D165<E165,WEEKDAY(A165,2)>1,WEEKDAY(A165,2)<4),AND(C165<>\"\",D165>E165,WEEKDAY(A165,2)=1)),ColTime(Data!$J$6,Data!$L$6,D165,E165),\"\"),\"\")","v":""},null,{"$f":"IF(F165=\"\",\"\",IF(AND(C165<>\"\",OR(D165<E165,AND(D165>E165,C471<>\"\"))),ColTime(Data!$J$6,Data!$L$6,D165,E165),\"\"))","v":""}]
["2020-06-09","Ti","",null,null,"",null,null,null,{"$f":"IF(OR(AND(C166<>\"\",D166>E166,WEEKDAY(A166,2)=5),AND(C166=\"\",WEEKDAY(A166,2)>5)),IF(D166=\"\",\"\",ColTime(Data!$J$3,Data!$L$3,D166,E166)),\"\")","v":""},"","",{"$f":"IFERROR(IF(AND(C166=\"\",WEEKDAY(A166,2)>5),IF(D166=\"\",\"\",(IF(E166-MAX(D166,(15/24))+(E166<D166)<0,0,E166-MAX(D166,(15/24))+($E166<D166)))-(IF((E166-MAX(D166,(23/24))+(E166<D166))<0,0,(E166-MAX(D166,(23/24))+(E166<D166))))),o),\"\")","v":""},"","","","",{"$f":"IFERROR(IF(OR(AND(C166=\"\",D166<E166,OR(WEEKDAY(A166,2)=1,WEEKDAY(A166,2)>=6)),AND(C166=\"\",D166>E166,OR(WEEKDAY(A166,2)>=5)),AND(C166<>\"\",D166>E166,WEEKDAY(A166,2)>=5)),ColTime(Data!$J$6,Data!$L$6,D166,E166),\"\"),\"\")","v":""},{"$f":"IFERROR(IF(OR(AND(WEEKDAY(A166,2)>1,WEEKDAY(A166,2)<6,D166<E166,C166=\"\"),AND(C166=\"\",WEEKDAY(A166,2)=1,E166<D166),AND(C166<>\"\",D166<E166,WEEKDAY(A166,2)>1,WEEKDAY(A166,2)<4),AND(C166<>\"\",D166>E166,WEEKDAY(A166,2)=1)),ColTime(Data!$J$6,Data!$L$6,D166,E166),\"\"),\"\")","v":""},null,{"$f":"IF(F166=\"\",\"\",IF(AND(C166<>\"\",OR(D166<E166,AND(D166>E166,C472<>\"\"))),ColTime(Data!$J$6,Data!$L$6,D166,E166),\"\"))","v":""}]
["2020-06-10","On","",null,null,"",null,null,null,{"$f":"IF(OR(AND(C167<>\"\",D167>E167,WEEKDAY(A167,2)=5),AND(C167=\"\",WEEKDAY(A167,2)>5)),IF(D167=\"\",\"\",ColTime(Data!$J$3,Data!$L$3,D167,E167)),\"\")","v":""},"","",{"$f":"IFERROR(IF(AND(C167=\"\",WEEKDAY(A167,2)>5),IF(D167=\"\",\"\",(IF(E167-MAX(D167,(15/24))+(E167<D167)<0,0,E167-MAX(D167,(15/24))+($E167<D167)))-(IF((E167-MAX(D167,(23/24))+(E167<D167))<0,0,(E167-MAX(D167,(23/24))+(E167<D167))))),o),\"\")","v":""},"","","","",{"$f":"IFERROR(IF(OR(AND(C167=\"\",D167<E167,OR(WEEKDAY(A167,2)=1,WEEKDAY(A167,2)>=6)),AND(C167=\"\",D167>E167,OR(WEEKDAY(A167,2)>=5)),AND(C167<>\"\",D167>E167,WEEKDAY(A167,2)>=5)),ColTime(Data!$J$6,Data!$L$6,D167,E167),\"\"),\"\")","v":""},{"$f":"IFERROR(IF(OR(AND(WEEKDAY(A167,2)>1,WEEKDAY(A167,2)<6,D167<E167,C167=\"\"),AND(C167=\"\",WEEKDAY(A167,2)=1,E167<D167),AND(C167<>\"\",D167<E167,WEEKDAY(A167,2)>1,WEEKDAY(A167,2)<4),AND(C167<>\"\",D167>E167,WEEKDAY(A167,2)=1)),ColTime(Data!$J$6,Data!$L$6,D167,E167),\"\"),\"\")","v":""},null,{"$f":"IF(F167=\"\",\"\",IF(AND(C167<>\"\",OR(D167<E167,AND(D167>E167,C473<>\"\"))),ColTime(Data!$J$6,Data!$L$6,D167,E167),\"\"))","v":""}]
["2020-06-11","To","",null,null,"",null,null,null,{"$f":"IF(OR(AND(C168<>\"\",D168>E168,WEEKDAY(A168,2)=5),AND(C168=\"\",WEEKDAY(A168,2)>5)),IF(D168=\"\",\"\",ColTime(Data!$J$3,Data!$L$3,D168,E168)),\"\")","v":""},"","",{"$f":"IFERROR(IF(AND(C168=\"\",WEEKDAY(A168,2)>5),IF(D168=\"\",\"\",(IF(E168-MAX(D168,(15/24))+(E168<D168)<0,0,E168-MAX(D168,(15/24))+($E168<D168)))-(IF((E168-MAX(D168,(23/24))+(E168<D168))<0,0,(E168-MAX(D168,(23/24))+(E168<D168))))),o),\"\")","v":""},"","","","",{"$f":"IFERROR(IF(OR(AND(C168=\"\",D168<E168,OR(WEEKDAY(A168,2)=1,WEEKDAY(A168,2)>=6)),AND(C168=\"\",D168>E168,OR(WEEKDAY(A168,2)>=5)),AND(C168<>\"\",D168>E168,WEEKDAY(A168,2)>=5)),ColTime(Data!$J$6,Data!$L$6,D168,E168),\"\"),\"\")","v":""},{"$f":"IFERROR(IF(OR(AND(WEEKDAY(A168,2)>1,WEEKDAY(A168,2)<6,D168<E168,C168=\"\"),AND(C168=\"\",WEEKDAY(A168,2)=1,E168<D168),AND(C168<>\"\",D168<E168,WEEKDAY(A168,2)>1,WEEKDAY(A168,2)<4),AND(C168<>\"\",D168>E168,WEEKDAY(A168,2)=1)),ColTime(Data!$J$6,Data!$L$6,D168,E168),\"\"),\"\")","v":""},null,{"$f":"IF(F168=\"\",\"\",IF(AND(C168<>\"\",OR(D168<E168,AND(D168>E168,C474<>\"\"))),ColTime(Data!$J$6,Data!$L$6,D168,E168),\"\"))","v":""}]
["2020-06-12","Fr","",null,null,"",null,null,null,{"$f":"IF(OR(AND(C169<>\"\",D169>E169,WEEKDAY(A169,2)=5),AND(C169=\"\",WEEKDAY(A169,2)>5)),IF(D169=\"\",\"\",ColTime(Data!$J$3,Data!$L$3,D169,E169)),\"\")","v":""},"","",{"$f":"IFERROR(IF(AND(C169=\"\",WEEKDAY(A169,2)>5),IF(D169=\"\",\"\",(IF(E169-MAX(D169,(15/24))+(E169<D169)<0,0,E169-MAX(D169,(15/24))+($E169<D169)))-(IF((E169-MAX(D169,(23/24))+(E169<D169))<0,0,(E169-MAX(D169,(23/24))+(E169<D169))))),o),\"\")","v":""},"","","","",{"$f":"IFERROR(IF(OR(AND(C169=\"\",D169<E169,OR(WEEKDAY(A169,2)=1,WEEKDAY(A169,2)>=6)),AND(C169=\"\",D169>E169,OR(WEEKDAY(A169,2)>=5)),AND(C169<>\"\",D169>E169,WEEKDAY(A169,2)>=5)),ColTime(Data!$J$6,Data!$L$6,D169,E169),\"\"),\"\")","v":""},{"$f":"IFERROR(IF(OR(AND(WEEKDAY(A169,2)>1,WEEKDAY(A169,2)<6,D169<E169,C169=\"\"),AND(C169=\"\",WEEKDAY(A169,2)=1,E169<D169),AND(C169<>\"\",D169<E169,WEEKDAY(A169,2)>1,WEEKDAY(A169,2)<4),AND(C169<>\"\",D169>E169,WEEKDAY(A169,2)=1)),ColTime(Data!$J$6,Data!$L$6,D169,E169),\"\"),\"\")","v":""},null,{"$f":"IF(F169=\"\",\"\",IF(AND(C169<>\"\",OR(D169<E169,AND(D169>E169,C475<>\"\"))),ColTime(Data!$J$6,Data!$L$6,D169,E169),\"\"))","v":""}]
["2020-06-13","Lø","",null,null,"",null,null,null,{"$f":"IF(OR(AND(C170<>\"\",D170>E170,WEEKDAY(A170,2)=5),AND(C170=\"\",WEEKDAY(A170,2)>5)),IF(D170=\"\",\"\",ColTime(Data!$J$3,Data!$L$3,D170,E170)),\"\")","v":""},"","",{"$f":"IFERROR(IF(AND(C170=\"\",WEEKDAY(A170,2)>5),IF(D170=\"\",\"\",(IF(E170-MAX(D170,(15/24))+(E170<D170)<0,0,E170-MAX(D170,(15/24))+($E170<D170)))-(IF((E170-MAX(D170,(23/24))+(E170<D170))<0,0,(E170-MAX(D170,(23/24))+(E170<D170))))),o),\"\")","v":""},"","","","",{"$f":"IFERROR(IF(OR(AND(C170=\"\",D170<E170,OR(WEEKDAY(A170,2)=1,WEEKDAY(A170,2)>=6)),AND(C170=\"\",D170>E170,OR(WEEKDAY(A170,2)>=5)),AND(C170<>\"\",D170>E170,WEEKDAY(A170,2)>=5)),ColTime(Data!$J$6,Data!$L$6,D170,E170),\"\"),\"\")","v":""},{"$f":"IFERROR(IF(OR(AND(WEEKDAY(A170,2)>1,WEEKDAY(A170,2)<6,D170<E170,C170=\"\"),AND(C170=\"\",WEEKDAY(A170,2)=1,E170<D170),AND(C170<>\"\",D170<E170,WEEKDAY(A170,2)>1,WEEKDAY(A170,2)<4),AND(C170<>\"\",D170>E170,WEEKDAY(A170,2)=1)),ColTime(Data!$J$6,Data!$L$6,D170,E170),\"\"),\"\")","v":""},null,{"$f":"IF(F170=\"\",\"\",IF(AND(C170<>\"\",OR(D170<E170,AND(D170>E170,C476<>\"\"))),ColTime(Data!$J$6,Data!$L$6,D170,E170),\"\"))","v":""}]
["2020-06-14","Sø","",null,null,"",null,null,null,{"$f":"IF(OR(AND(C171<>\"\",D171>E171,WEEKDAY(A171,2)=5),AND(C171=\"\",WEEKDAY(A171,2)>5)),IF(D171=\"\",\"\",ColTime(Data!$J$3,Data!$L$3,D171,E171)),\"\")","v":""},"","",{"$f":"IFERROR(IF(AND(C171=\"\",WEEKDAY(A171,2)>5),IF(D171=\"\",\"\",(IF(E171-MAX(D171,(15/24))+(E171<D171)<0,0,E171-MAX(D171,(15/24))+($E171<D171)))-(IF((E171-MAX(D171,(23/24))+(E171<D171))<0,0,(E171-MAX(D171,(23/24))+(E171<D171))))),o),\"\")","v":""},"","","","",{"$f":"IFERROR(IF(OR(AND(C171=\"\",D171<E171,OR(WEEKDAY(A171,2)=1,WEEKDAY(A171,2)>=6)),AND(C171=\"\",D171>E171,OR(WEEKDAY(A171,2)>=5)),AND(C171<>\"\",D171>E171,WEEKDAY(A171,2)>=5)),ColTime(Data!$J$6,Data!$L$6,D171,E171),\"\"),\"\")","v":""},{"$f":"IFERROR(IF(OR(AND(WEEKDAY(A171,2)>1,WEEKDAY(A171,2)<6,D171<E171,C171=\"\"),AND(C171=\"\",WEEKDAY(A171,2)=1,E171<D171),AND(C171<>\"\",D171<E171,WEEKDAY(A171,2)>1,WEEKDAY(A171,2)<4),AND(C171<>\"\",D171>E171,WEEKDAY(A171,2)=1)),ColTime(Data!$J$6,Data!$L$6,D171,E171),\"\"),\"\")","v":""},null,{"$f":"IF(F171=\"\",\"\",IF(AND(C171<>\"\",OR(D171<E171,AND(D171>E171,C477<>\"\"))),ColTime(Data!$J$6,Data!$L$6,D171,E171),\"\"))","v":""}]
["2020-06-15","Ma","",null,null,"",null,null,null,{"$f":"IF(OR(AND(C172<>\"\",D172>E172,WEEKDAY(A172,2)=5),AND(C172=\"\",WEEKDAY(A172,2)>5)),IF(D172=\"\",\"\",ColTime(Data!$J$3,Data!$L$3,D172,E172)),\"\")","v":""},"","",{"$f":"IFERROR(IF(AND(C172=\"\",WEEKDAY(A172,2)>5),IF(D172=\"\",\"\",(IF(E172-MAX(D172,(15/24))+(E172<D172)<0,0,E172-MAX(D172,(15/24))+($E172<D172)))-(IF((E172-MAX(D172,(23/24))+(E172<D172))<0,0,(E172-MAX(D172,(23/24))+(E172<D172))))),o),\"\")","v":""},"","","","",{"$f":"IFERROR(IF(OR(AND(C172=\"\",D172<E172,OR(WEEKDAY(A172,2)=1,WEEKDAY(A172,2)>=6)),AND(C172=\"\",D172>E172,OR(WEEKDAY(A172,2)>=5)),AND(C172<>\"\",D172>E172,WEEKDAY(A172,2)>=5)),ColTime(Data!$J$6,Data!$L$6,D172,E172),\"\"),\"\")","v":""},{"$f":"IFERROR(IF(OR(AND(WEEKDAY(A172,2)>1,WEEKDAY(A172,2)<6,D172<E172,C172=\"\"),AND(C172=\"\",WEEKDAY(A172,2)=1,E172<D172),AND(C172<>\"\",D172<E172,WEEKDAY(A172,2)>1,WEEKDAY(A172,2)<4),AND(C172<>\"\",D172>E172,WEEKDAY(A172,2)=1)),ColTime(Data!$J$6,Data!$L$6,D172,E172),\"\"),\"\")","v":""},null,{"$f":"IF(F172=\"\",\"\",IF(AND(C172<>\"\",OR(D172<E172,AND(D172>E172,C478<>\"\"))),ColTime(Data!$J$6,Data!$L$6,D172,E172),\"\"))","v":""}]
["2020-06-16","Ti","",null,null,"",null,null,null,{"$f":"IF(OR(AND(C173<>\"\",D173>E173,WEEKDAY(A173,2)=5),AND(C173=\"\",WEEKDAY(A173,2)>5)),IF(D173=\"\",\"\",ColTime(Data!$J$3,Data!$L$3,D173,E173)),\"\")","v":""},"","",{"$f":"IFERROR(IF(AND(C173=\"\",WEEKDAY(A173,2)>5),IF(D173=\"\",\"\",(IF(E173-MAX(D173,(15/24))+(E173<D173)<0,0,E173-MAX(D173,(15/24))+($E173<D173)))-(IF((E173-MAX(D173,(23/24))+(E173<D173))<0,0,(E173-MAX(D173,(23/24))+(E173<D173))))),o),\"\")","v":""},"","","","",{"$f":"IFERROR(IF(OR(AND(C173=\"\",D173<E173,OR(WEEKDAY(A173,2)=1,WEEKDAY(A173,2)>=6)),AND(C173=\"\",D173>E173,OR(WEEKDAY(A173,2)>=5)),AND(C173<>\"\",D173>E173,WEEKDAY(A173,2)>=5)),ColTime(Data!$J$6,Data!$L$6,D173,E173),\"\"),\"\")","v":""},{"$f":"IFERROR(IF(OR(AND(WEEKDAY(A173,2)>1,WEEKDAY(A173,2)<6,D173<E173,C173=\"\"),AND(C173=\"\",WEEKDAY(A173,2)=1,E173<D173),AND(C173<>\"\",D173<E173,WEEKDAY(A173,2)>1,WEEKDAY(A173,2)<4),AND(C173<>\"\",D173>E173,WEEKDAY(A173,2)=1)),ColTime(Data!$J$6,Data!$L$6,D173,E173),\"\"),\"\")","v":""},null,{"$f":"IF(F173=\"\",\"\",IF(AND(C173<>\"\",OR(D173<E173,AND(D173>E173,C479<>\"\"))),ColTime(Data!$J$6,Data!$L$6,D173,E173),\"\"))","v":""}]
["2020-06-17","On","",null,null,"",null,null,null,{"$f":"IF(OR(AND(C174<>\"\",D174>E174,WEEKDAY(A174,2)=5),AND(C174=\"\",WEEKDAY(A174,2)>5)),IF(D174=\"\",\"\",ColTime(Data!$J$3,Data!$L$3,D174,E174)),\"\")","v":""},"","",{"$f":"IFERROR(IF(AND(C174=\"\",WEEKDAY(A174,2)>5),IF(D174=\"\",\"\",(IF(E174-MAX(D174,(15/24))+(E174<D174)<0,0,E174-MAX(D174,(15/24))+($E174<D174)))-(IF((E174-MAX(D174,(23/24))+(E174<D174))<0,0,(E174-MAX(D174,(23/24))+(E174<D174))))),o),\"\")","v":""},"","","","",{"$f":"IFERROR(IF(OR(AND(C174=\"\",D174<E174,OR(WEEKDAY(A174,2)=1,WEEKDAY(A174,2)>=6)),AND(C174=\"\",D174>E174,OR(WEEKDAY(A174,2)>=5)),AND(C174<>\"\",D174>E174,WEEKDAY(A174,2)>=5)),ColTime(Data!$J$6,Data!$L$6,D174,E174),\"\"),\"\")","v":""},{"$f":"IFERROR(IF(OR(AND(WEEKDAY(A174,2)>1,WEEKDAY(A174,2)<6,D174<E174,C174=\"\"),AND(C174=\"\",WEEKDAY(A174,2)=1,E174<D174),AND(C174<>\"\",D174<E174,WEEKDAY(A174,2)>1,WEEKDAY(A174,2)<4),AND(C174<>\"\",D174>E174,WEEKDAY(A174,2)=1)),ColTime(Data!$J$6,Data!$L$6,D174,E174),\"\"),\"\")","v":""},null,{"$f":"IF(F174=\"\",\"\",IF(AND(C174<>\"\",OR(D174<E174,AND(D174>E174,C480<>\"\"))),ColTime(Data!$J$6,Data!$L$6,D174,E174),\"\"))","v":""}]
["2020-06-18","To","",null,null,"",null,null,null,{"$f":"IF(OR(AND(C175<>\"\",D175>E175,WEEKDAY(A175,2)=5),AND(C175=\"\",WEEKDAY(A175,2)>5)),IF(D175=\"\",\"\",ColTime(Data!$J$3,Data!$L$3,D175,E175)),\"\")","v":""},"","",{"$f":"IFERROR(IF(AND(C175=\"\",WEEKDAY(A175,2)>5),IF(D175=\"\",\"\",(IF(E175-MAX(D175,(15/24))+(E175<D175)<0,0,E175-MAX(D175,(15/24))+($E175<D175)))-(IF((E175-MAX(D175,(23/24))+(E175<D175))<0,0,(E175-MAX(D175,(23/24))+(E175<D175))))),o),\"\")","v":""},"","","","",{"$f":"IFERROR(IF(OR(AND(C175=\"\",D175<E175,OR(WEEKDAY(A175,2)=1,WEEKDAY(A175,2)>=6)),AND(C175=\"\",D175>E175,OR(WEEKDAY(A175,2)>=5)),AND(C175<>\"\",D175>E175,WEEKDAY(A175,2)>=5)),ColTime(Data!$J$6,Data!$L$6,D175,E175),\"\"),\"\")","v":""},{"$f":"IFERROR(IF(OR(AND(WEEKDAY(A175,2)>1,WEEKDAY(A175,2)<6,D175<E175,C175=\"\"),AND(C175=\"\",WEEKDAY(A175,2)=1,E175<D175),AND(C175<>\"\",D175<E175,WEEKDAY(A175,2)>1,WEEKDAY(A175,2)<4),AND(C175<>\"\",D175>E175,WEEKDAY(A175,2)=1)),ColTime(Data!$J$6,Data!$L$6,D175,E175),\"\"),\"\")","v":""},null,{"$f":"IF(F175=\"\",\"\",IF(AND(C175<>\"\",OR(D175<E175,AND(D175>E175,C481<>\"\"))),ColTime(Data!$J$6,Data!$L$6,D175,E175),\"\"))","v":""}]
["2020-06-19","Fr","",null,null,"",null,null,null,{"$f":"IF(OR(AND(C176<>\"\",D176>E176,WEEKDAY(A176,2)=5),AND(C176=\"\",WEEKDAY(A176,2)>5)),IF(D176=\"\",\"\",ColTime(Data!$J$3,Data!$L$3,D176,E176)),\"\")","v":""},"","",{"$f":"IFERROR(IF(AND(C176=\"\",WEEKDAY(A176,2)>5),IF(D176=\"\",\"\",(IF(E176-MAX(D176,(15/24))+(E176<D176)<0,0,E176-MAX(D176,(15/24))+($E176<D176)))-(IF((E176-MAX(D176,(23/24))+(E176<D176))<0,0,(E176-MAX(D176,(23/24))+(E176<D176))))),o),\"\")","v":""},"","","","",{"$f":"IFERROR(IF(OR(AND(C176=\"\",D176<E176,OR(WEEKDAY(A176,2)=1,WEEKDAY(A176,2)>=6)),AND(C176=\"\",D176>E176,OR(WEEKDAY(A176,2)>=5)),AND(C176<>\"\",D176>E176,WEEKDAY(A176,2)>=5)),ColTime(Data!$J$6,Data!$L$6,D176,E176),\"\"),\"\")","v":""},{"$f":"IFERROR(IF(OR(AND(WEEKDAY(A176,2)>1,WEEKDAY(A176,2)<6,D176<E176,C176=\"\"),AND(C176=\"\",WEEKDAY(A176,2)=1,E176<D176),AND(C176<>\"\",D176<E176,WEEKDAY(A176,2)>1,WEEKDAY(A176,2)<4),AND(C176<>\"\",D176>E176,WEEKDAY(A176,2)=1)),ColTime(Data!$J$6,Data!$L$6,D176,E176),\"\"),\"\")","v":""},null,{"$f":"IF(F176=\"\",\"\",IF(AND(C176<>\"\",OR(D176<E176,AND(D176>E176,C482<>\"\"))),ColTime(Data!$J$6,Data!$L$6,D176,E176),\"\"))","v":""}]
["2020-06-20","Lø","",null,null,"",null,null,null,{"$f":"IF(OR(AND(C177<>\"\",D177>E177,WEEKDAY(A177,2)=5),AND(C177=\"\",WEEKDAY(A177,2)>5)),IF(D177=\"\",\"\",ColTime(Data!$J$3,Data!$L$3,D177,E177)),\"\")","v":""},"","",{"$f":"IFERROR(IF(AND(C177=\"\",WEEKDAY(A177,2)>5),IF(D177=\"\",\"\",(IF(E177-MAX(D177,(15/24))+(E177<D177)<0,0,E177-MAX(D177,(15/24))+($E177<D177)))-(IF((E177-MAX(D177,(23/24))+(E177<D177))<0,0,(E177-MAX(D177,(23/24))+(E177<D177))))),o),\"\")","v":""},"","","","",{"$f":"IFERROR(IF(OR(AND(C177=\"\",D177<E177,OR(WEEKDAY(A177,2)=1,WEEKDAY(A177,2)>=6)),AND(C177=\"\",D177>E177,OR(WEEKDAY(A177,2)>=5)),AND(C177<>\"\",D177>E177,WEEKDAY(A177,2)>=5)),ColTime(Data!$J$6,Data!$L$6,D177,E177),\"\"),\"\")","v":""},{"$f":"IFERROR(IF(OR(AND(WEEKDAY(A177,2)>1,WEEKDAY(A177,2)<6,D177<E177,C177=\"\"),AND(C177=\"\",WEEKDAY(A177,2)=1,E177<D177),AND(C177<>\"\",D177<E177,WEEKDAY(A177,2)>1,WEEKDAY(A177,2)<4),AND(C177<>\"\",D177>E177,WEEKDAY(A177,2)=1)),ColTime(Data!$J$6,Data!$L$6,D177,E177),\"\"),\"\")","v":""},null,{"$f":"IF(F177=\"\",\"\",IF(AND(C177<>\"\",OR(D177<E177,AND(D177>E177,C483<>\"\"))),ColTime(Data!$J$6,Data!$L$6,D177,E177),\"\"))","v":""}]
["2020-06-21","Sø","",null,null,"",null,null,null,{"$f":"IF(OR(AND(C178<>\"\",D178>E178,WEEKDAY(A178,2)=5),AND(C178=\"\",WEEKDAY(A178,2)>5)),IF(D178=\"\",\"\",ColTime(Data!$J$3,Data!$L$3,D178,E178)),\"\")","v":""},"","",{"$f":"IFERROR(IF(AND(C178=\"\",WEEKDAY(A178,2)>5),IF(D178=\"\",\"\",(IF(E178-MAX(D178,(15/24))+(E178<D178)<0,0,E178-MAX(D178,(15/24))+($E178<D178)))-(IF((E178-MAX(D178,(23/24))+(E178<D178))<0,0,(E178-MAX(D178,(23/24))+(E178<D178))))),o),\"\")","v":""},"","","","",{"$f":"IFERROR(IF(OR(AND(C178=\"\",D178<E178,OR(WEEKDAY(A178,2)=1,WEEKDAY(A178,2)>=6)),AND(C178=\"\",D178>E178,OR(WEEKDAY(A178,2)>=5)),AND(C178<>\"\",D178>E178,WEEKDAY(A178,2)>=5)),ColTime(Data!$J$6,Data!$L$6,D178,E178),\"\"),\"\")","v":""},{"$f":"IFERROR(IF(OR(AND(WEEKDAY(A178,2)>1,WEEKDAY(A178,2)<6,D178<E178,C178=\"\"),AND(C178=\"\",WEEKDAY(A178,2)=1,E178<D178),AND(C178<>\"\",D178<E178,WEEKDAY(A178,2)>1,WEEKDAY(A178,2)<4),AND(C178<>\"\",D178>E178,WEEKDAY(A178,2)=1)),ColTime(Data!$J$6,Data!$L$6,D178,E178),\"\"),\"\")","v":""},null,{"$f":"IF(F178=\"\",\"\",IF(AND(C178<>\"\",OR(D178<E178,AND(D178>E178,C484<>\"\"))),ColTime(Data!$J$6,Data!$L$6,D178,E178),\"\"))","v":""}]
["2020-06-22","Ma","",null,null,"",null,null,null,{"$f":"IF(OR(AND(C179<>\"\",D179>E179,WEEKDAY(A179,2)=5),AND(C179=\"\",WEEKDAY(A179,2)>5)),IF(D179=\"\",\"\",ColTime(Data!$J$3,Data!$L$3,D179,E179)),\"\")","v":""},"","",{"$f":"IFERROR(IF(AND(C179=\"\",WEEKDAY(A179,2)>5),IF(D179=\"\",\"\",(IF(E179-MAX(D179,(15/24))+(E179<D179)<0,0,E179-MAX(D179,(15/24))+($E179<D179)))-(IF((E179-MAX(D179,(23/24))+(E179<D179))<0,0,(E179-MAX(D179,(23/24))+(E179<D179))))),o),\"\")","v":""},"","","","",{"$f":"IFERROR(IF(OR(AND(C179=\"\",D179<E179,OR(WEEKDAY(A179,2)=1,WEEKDAY(A179,2)>=6)),AND(C179=\"\",D179>E179,OR(WEEKDAY(A179,2)>=5)),AND(C179<>\"\",D179>E179,WEEKDAY(A179,2)>=5)),ColTime(Data!$J$6,Data!$L$6,D179,E179),\"\"),\"\")","v":""},{"$f":"IFERROR(IF(OR(AND(WEEKDAY(A179,2)>1,WEEKDAY(A179,2)<6,D179<E179,C179=\"\"),AND(C179=\"\",WEEKDAY(A179,2)=1,E179<D179),AND(C179<>\"\",D179<E179,WEEKDAY(A179,2)>1,WEEKDAY(A179,2)<4),AND(C179<>\"\",D179>E179,WEEKDAY(A179,2)=1)),ColTime(Data!$J$6,Data!$L$6,D179,E179),\"\"),\"\")","v":""},null,{"$f":"IF(F179=\"\",\"\",IF(AND(C179<>\"\",OR(D179<E179,AND(D179>E179,C485<>\"\"))),ColTime(Data!$J$6,Data!$L$6,D179,E179),\"\"))","v":""}]
["2020-06-23","Ti","Sankt Hansaften",null,null,"",null,null,null,{"$f":"IF(OR(AND(C180<>\"\",D180>E180,WEEKDAY(A180,2)=5),AND(C180=\"\",WEEKDAY(A180,2)>5)),IF(D180=\"\",\"\",ColTime(Data!$J$3,Data!$L$3,D180,E180)),\"\")","v":""},"","",{"$f":"IFERROR(IF(AND(C180=\"\",WEEKDAY(A180,2)>5),IF(D180=\"\",\"\",(IF(E180-MAX(D180,(15/24))+(E180<D180)<0,0,E180-MAX(D180,(15/24))+($E180<D180)))-(IF((E180-MAX(D180,(23/24))+(E180<D180))<0,0,(E180-MAX(D180,(23/24))+(E180<D180))))),o),\"\")","v":""},"","","","",{"$f":"IFERROR(IF(OR(AND(C180=\"\",D180<E180,OR(WEEKDAY(A180,2)=1,WEEKDAY(A180,2)>=6)),AND(C180=\"\",D180>E180,OR(WEEKDAY(A180,2)>=5)),AND(C180<>\"\",D180>E180,WEEKDAY(A180,2)>=5)),ColTime(Data!$J$6,Data!$L$6,D180,E180),\"\"),\"\")","v":""},{"$f":"IFERROR(IF(OR(AND(WEEKDAY(A180,2)>1,WEEKDAY(A180,2)<6,D180<E180,C180=\"\"),AND(C180=\"\",WEEKDAY(A180,2)=1,E180<D180),AND(C180<>\"\",D180<E180,WEEKDAY(A180,2)>1,WEEKDAY(A180,2)<4),AND(C180<>\"\",D180>E180,WEEKDAY(A180,2)=1)),ColTime(Data!$J$6,Data!$L$6,D180,E180),\"\"),\"\")","v":""},null,{"$f":"IF(F180=\"\",\"\",IF(AND(C180<>\"\",OR(D180<E180,AND(D180>E180,C486<>\"\"))),ColTime(Data!$J$6,Data!$L$6,D180,E180),\"\"))","v":""}]
["2020-06-24","On","Sankt Hansdag",null,null,"",null,null,null,{"$f":"IF(OR(AND(C181<>\"\",D181>E181,WEEKDAY(A181,2)=5),AND(C181=\"\",WEEKDAY(A181,2)>5)),IF(D181=\"\",\"\",ColTime(Data!$J$3,Data!$L$3,D181,E181)),\"\")","v":""},"","",{"$f":"IFERROR(IF(AND(C181=\"\",WEEKDAY(A181,2)>5),IF(D181=\"\",\"\",(IF(E181-MAX(D181,(15/24))+(E181<D181)<0,0,E181-MAX(D181,(15/24))+($E181<D181)))-(IF((E181-MAX(D181,(23/24))+(E181<D181))<0,0,(E181-MAX(D181,(23/24))+(E181<D181))))),o),\"\")","v":""},"","","","",{"$f":"IFERROR(IF(OR(AND(C181=\"\",D181<E181,OR(WEEKDAY(A181,2)=1,WEEKDAY(A181,2)>=6)),AND(C181=\"\",D181>E181,OR(WEEKDAY(A181,2)>=5)),AND(C181<>\"\",D181>E181,WEEKDAY(A181,2)>=5)),ColTime(Data!$J$6,Data!$L$6,D181,E181),\"\"),\"\")","v":""},{"$f":"IFERROR(IF(OR(AND(WEEKDAY(A181,2)>1,WEEKDAY(A181,2)<6,D181<E181,C181=\"\"),AND(C181=\"\",WEEKDAY(A181,2)=1,E181<D181),AND(C181<>\"\",D181<E181,WEEKDAY(A181,2)>1,WEEKDAY(A181,2)<4),AND(C181<>\"\",D181>E181,WEEKDAY(A181,2)=1)),ColTime(Data!$J$6,Data!$L$6,D181,E181),\"\"),\"\")","v":""},null,{"$f":"IF(F181=\"\",\"\",IF(AND(C181<>\"\",OR(D181<E181,AND(D181>E181,C487<>\"\"))),ColTime(Data!$J$6,Data!$L$6,D181,E181),\"\"))","v":""}]
["2020-06-25","To","",null,null,"",null,null,null,{"$f":"IF(OR(AND(C182<>\"\",D182>E182,WEEKDAY(A182,2)=5),AND(C182=\"\",WEEKDAY(A182,2)>5)),IF(D182=\"\",\"\",ColTime(Data!$J$3,Data!$L$3,D182,E182)),\"\")","v":""},"","",{"$f":"IFERROR(IF(AND(C182=\"\",WEEKDAY(A182,2)>5),IF(D182=\"\",\"\",(IF(E182-MAX(D182,(15/24))+(E182<D182)<0,0,E182-MAX(D182,(15/24))+($E182<D182)))-(IF((E182-MAX(D182,(23/24))+(E182<D182))<0,0,(E182-MAX(D182,(23/24))+(E182<D182))))),o),\"\")","v":""},"","","","",{"$f":"IFERROR(IF(OR(AND(C182=\"\",D182<E182,OR(WEEKDAY(A182,2)=1,WEEKDAY(A182,2)>=6)),AND(C182=\"\",D182>E182,OR(WEEKDAY(A182,2)>=5)),AND(C182<>\"\",D182>E182,WEEKDAY(A182,2)>=5)),ColTime(Data!$J$6,Data!$L$6,D182,E182),\"\"),\"\")","v":""},{"$f":"IFERROR(IF(OR(AND(WEEKDAY(A182,2)>1,WEEKDAY(A182,2)<6,D182<E182,C182=\"\"),AND(C182=\"\",WEEKDAY(A182,2)=1,E182<D182),AND(C182<>\"\",D182<E182,WEEKDAY(A182,2)>1,WEEKDAY(A182,2)<4),AND(C182<>\"\",D182>E182,WEEKDAY(A182,2)=1)),ColTime(Data!$J$6,Data!$L$6,D182,E182),\"\"),\"\")","v":""},null,{"$f":"IF(F182=\"\",\"\",IF(AND(C182<>\"\",OR(D182<E182,AND(D182>E182,C488<>\"\"))),ColTime(Data!$J$6,Data!$L$6,D182,E182),\"\"))","v":""}]
["2020-06-26","Fr","",null,null,"",null,null,null,{"$f":"IF(OR(AND(C183<>\"\",D183>E183,WEEKDAY(A183,2)=5),AND(C183=\"\",WEEKDAY(A183,2)>5)),IF(D183=\"\",\"\",ColTime(Data!$J$3,Data!$L$3,D183,E183)),\"\")","v":""},"","",{"$f":"IFERROR(IF(AND(C183=\"\",WEEKDAY(A183,2)>5),IF(D183=\"\",\"\",(IF(E183-MAX(D183,(15/24))+(E183<D183)<0,0,E183-MAX(D183,(15/24))+($E183<D183)))-(IF((E183-MAX(D183,(23/24))+(E183<D183))<0,0,(E183-MAX(D183,(23/24))+(E183<D183))))),o),\"\")","v":""},"","","","",{"$f":"IFERROR(IF(OR(AND(C183=\"\",D183<E183,OR(WEEKDAY(A183,2)=1,WEEKDAY(A183,2)>=6)),AND(C183=\"\",D183>E183,OR(WEEKDAY(A183,2)>=5)),AND(C183<>\"\",D183>E183,WEEKDAY(A183,2)>=5)),ColTime(Data!$J$6,Data!$L$6,D183,E183),\"\"),\"\")","v":""},{"$f":"IFERROR(IF(OR(AND(WEEKDAY(A183,2)>1,WEEKDAY(A183,2)<6,D183<E183,C183=\"\"),AND(C183=\"\",WEEKDAY(A183,2)=1,E183<D183),AND(C183<>\"\",D183<E183,WEEKDAY(A183,2)>1,WEEKDAY(A183,2)<4),AND(C183<>\"\",D183>E183,WEEKDAY(A183,2)=1)),ColTime(Data!$J$6,Data!$L$6,D183,E183),\"\"),\"\")","v":""},null,{"$f":"IF(F183=\"\",\"\",IF(AND(C183<>\"\",OR(D183<E183,AND(D183>E183,C489<>\"\"))),ColTime(Data!$J$6,Data!$L$6,D183,E183),\"\"))","v":""}]
["2020-06-27",{"$f":"PROPER(TEXT(A184,\"ddd\"))","v":"Lø"},{"$f":"HelligdagsNavn(A184,0,0)","v":""},null,null,{"$f":"IF(D184=\"\",\"\",(E184-D184)+(D184>E184))","v":""},null,null,null,{"$f":"IF(OR(AND(C184<>\"\",D184>E184,WEEKDAY(A184,2)=5),AND(C184=\"\",WEEKDAY(A184,2)>5)),IF(D184=\"\",\"\",ColTime(Data!$J$3,Data!$L$3,D184,E184)),\"\")","v":""},{"$f":"IF(C184<>\"\",IF(D184=\"\",\"\",(IF(E184-MAX(D184,(7/24))+(E184<D184)<0,0,E184-MAX(D184,(7/24))+(E184<D184)))-(IF((E184-MAX(D184,(15/24))+(E184<D184))<0,0,(E184-MAX(D184,(15/24))+(E184<D184))))),\"\")","v":""},{"$f":"IFERROR(IF(AND(C184=\"\",WEEKDAY(A184,2)<6),IF(D184=\"\",\"\",(IF(E184-MAX(D184,(15/24))+(E184<D184)<0,0,E184-MAX(D184,(15/24))+(E184<D184)))-(IF((E184-MAX(D184,(23/24))+(E184<D184))<0,0,(E184-MAX(D184,(23/24))+(E184<D184))))),\"\"),\"\")","v":""},{"$f":"IFERROR(IF(AND(C184=\"\",WEEKDAY(A184,2)>5),IF(D184=\"\",\"\",(IF(E184-MAX(D184,(15/24))+(E184<D184)<0,0,E184-MAX(D184,(15/24))+($E184<D184)))-(IF((E184-MAX(D184,(23/24))+(E184<D184))<0,0,(E184-MAX(D184,(23/24))+(E184<D184))))),o),\"\")","v":""},{"$f":"IF(C184<>\"\",IF(D184=\"\",\"\",(IF(E184-MAX(D184,(15/24))+(E184<D184)<0,0,E184-MAX(D184,(15/24))+(E184<D184)))-(IF((E184-MAX(D184,(23/24))+(E184<D184))<0,0,(E184-MAX(D184,(23/24))+(E184<D184))))),\"\")","v":""},{"$f":"IF(A184=\"\",\"\",IF(AND(C184=\"\",WEEKDAY(A184,2)<5),IF(D184=\"\",\"\",(IF(E184-MAX(D184,(23/24))+(E184<D184)<0,0,E184-MAX(D184,(23/24))+(E184<D184)))-(IF((E184-MAX(D184,(24/24))+(E184<D184))<0,0,(E184-MAX(D184,(24/24))+(E184<D184))))),\"\"))","v":""},{"$f":"IFERROR(IF(AND(C184=\"\",WEEKDAY(A184,2)>4),IF(D184=\"\",\"\",(IF(E184-MAX(D184,(23/24))+(E184<D184)<0,0,E184-MAX(D184,(23/24))+(E184<D184)))-(IF((E184-MAX(D184,(24/24))+(E184<D184))<0,0,(E184-MAX(D184,(24/24))+(E184<D184))))),\"\"),\"\")","v":""},"",{"$f":"IFERROR(IF(OR(AND(C184=\"\",D184<E184,OR(WEEKDAY(A184,2)=1,WEEKDAY(A184,2)>=6)),AND(C184=\"\",D184>E184,OR(WEEKDAY(A184,2)>=5)),AND(C184<>\"\",D184>E184,WEEKDAY(A184,2)>=5)),ColTime(Data!$J$6,Data!$L$6,D184,E184),\"\"),\"\")","v":""},{"$f":"IFERROR(IF(OR(AND(WEEKDAY(A184,2)>1,WEEKDAY(A184,2)<6,D184<E184,C184=\"\"),AND(C184=\"\",WEEKDAY(A184,2)=1,E184<D184),AND(C184<>\"\",D184<E184,WEEKDAY(A184,2)>1,WEEKDAY(A184,2)<4),AND(C184<>\"\",D184>E184,WEEKDAY(A184,2)=1)),ColTime(Data!$J$6,Data!$L$6,D184,E184),\"\"),\"\")","v":""},null,{"$f":"IF(F184=\"\",\"\",IF(AND(C184<>\"\",OR(D184<E184,AND(D184>E184,C490<>\"\"))),ColTime(Data!$J$6,Data!$L$6,D184,E184),\"\"))","v":""}]
["2020-06-28","Sø","",null,null,"",null,null,null,{"$f":"IF(OR(AND(C185<>\"\",D185>E185,WEEKDAY(A185,2)=5),AND(C185=\"\",WEEKDAY(A185,2)>5)),IF(D185=\"\",\"\",ColTime(Data!$J$3,Data!$L$3,D185,E185)),\"\")","v":""},"","",{"$f":"IFERROR(IF(AND(C185=\"\",WEEKDAY(A185,2)>5),IF(D185=\"\",\"\",(IF(E185-MAX(D185,(15/24))+(E185<D185)<0,0,E185-MAX(D185,(15/24))+($E185<D185)))-(IF((E185-MAX(D185,(23/24))+(E185<D185))<0,0,(E185-MAX(D185,(23/24))+(E185<D185))))),o),\"\")","v":""},"","","","",{"$f":"IFERROR(IF(OR(AND(C185=\"\",D185<E185,OR(WEEKDAY(A185,2)=1,WEEKDAY(A185,2)>=6)),AND(C185=\"\",D185>E185,OR(WEEKDAY(A185,2)>=5)),AND(C185<>\"\",D185>E185,WEEKDAY(A185,2)>=5)),ColTime(Data!$J$6,Data!$L$6,D185,E185),\"\"),\"\")","v":""},{"$f":"IFERROR(IF(OR(AND(WEEKDAY(A185,2)>1,WEEKDAY(A185,2)<6,D185<E185,C185=\"\"),AND(C185=\"\",WEEKDAY(A185,2)=1,E185<D185),AND(C185<>\"\",D185<E185,WEEKDAY(A185,2)>1,WEEKDAY(A185,2)<4),AND(C185<>\"\",D185>E185,WEEKDAY(A185,2)=1)),ColTime(Data!$J$6,Data!$L$6,D185,E185),\"\"),\"\")","v":""},null,{"$f":"IF(F185=\"\",\"\",IF(AND(C185<>\"\",OR(D185<E185,AND(D185>E185,C491<>\"\"))),ColTime(Data!$J$6,Data!$L$6,D185,E185),\"\"))","v":""}]
["2020-06-29","Ma","",null,null,"",null,null,null,{"$f":"IF(OR(AND(C186<>\"\",D186>E186,WEEKDAY(A186,2)=5),AND(C186=\"\",WEEKDAY(A186,2)>5)),IF(D186=\"\",\"\",ColTime(Data!$J$3,Data!$L$3,D186,E186)),\"\")","v":""},"","",{"$f":"IFERROR(IF(AND(C186=\"\",WEEKDAY(A186,2)>5),IF(D186=\"\",\"\",(IF(E186-MAX(D186,(15/24))+(E186<D186)<0,0,E186-MAX(D186,(15/24))+($E186<D186)))-(IF((E186-MAX(D186,(23/24))+(E186<D186))<0,0,(E186-MAX(D186,(23/24))+(E186<D186))))),o),\"\")","v":""},"","","","",{"$f":"IFERROR(IF(OR(AND(C186=\"\",D186<E186,OR(WEEKDAY(A186,2)=1,WEEKDAY(A186,2)>=6)),AND(C186=\"\",D186>E186,OR(WEEKDAY(A186,2)>=5)),AND(C186<>\"\",D186>E186,WEEKDAY(A186,2)>=5)),ColTime(Data!$J$6,Data!$L$6,D186,E186),\"\"),\"\")","v":""},{"$f":"IFERROR(IF(OR(AND(WEEKDAY(A186,2)>1,WEEKDAY(A186,2)<6,D186<E186,C186=\"\"),AND(C186=\"\",WEEKDAY(A186,2)=1,E186<D186),AND(C186<>\"\",D186<E186,WEEKDAY(A186,2)>1,WEEKDAY(A186,2)<4),AND(C186<>\"\",D186>E186,WEEKDAY(A186,2)=1)),ColTime(Data!$J$6,Data!$L$6,D186,E186),\"\"),\"\")","v":""},null,{"$f":"IF(F186=\"\",\"\",IF(AND(C186<>\"\",OR(D186<E186,AND(D186>E186,C492<>\"\"))),ColTime(Data!$J$6,Data!$L$6,D186,E186),\"\"))","v":""}]
["2020-06-30","Ti","",null,null,"",null,null,null,{"$f":"IF(OR(AND(C187<>\"\",D187>E187,WEEKDAY(A187,2)=5),AND(C187=\"\",WEEKDAY(A187,2)>5)),IF(D187=\"\",\"\",ColTime(Data!$J$3,Data!$L$3,D187,E187)),\"\")","v":""},"","",{"$f":"IFERROR(IF(AND(C187=\"\",WEEKDAY(A187,2)>5),IF(D187=\"\",\"\",(IF(E187-MAX(D187,(15/24))+(E187<D187)<0,0,E187-MAX(D187,(15/24))+($E187<D187)))-(IF((E187-MAX(D187,(23/24))+(E187<D187))<0,0,(E187-MAX(D187,(23/24))+(E187<D187))))),o),\"\")","v":""},"","","","",{"$f":"IFERROR(IF(OR(AND(C187=\"\",D187<E187,OR(WEEKDAY(A187,2)=1,WEEKDAY(A187,2)>=6)),AND(C187=\"\",D187>E187,OR(WEEKDAY(A187,2)>=5)),AND(C187<>\"\",D187>E187,WEEKDAY(A187,2)>=5)),ColTime(Data!$J$6,Data!$L$6,D187,E187),\"\"),\"\")","v":""},{"$f":"IFERROR(IF(OR(AND(WEEKDAY(A187,2)>1,WEEKDAY(A187,2)<6,D187<E187,C187=\"\"),AND(C187=\"\",WEEKDAY(A187,2)=1,E187<D187),AND(C187<>\"\",D187<E187,WEEKDAY(A187,2)>1,WEEKDAY(A187,2)<4),AND(C187<>\"\",D187>E187,WEEKDAY(A187,2)=1)),ColTime(Data!$J$6,Data!$L$6,D187,E187),\"\"),\"\")","v":""},null,{"$f":"IF(F187=\"\",\"\",IF(AND(C187<>\"\",OR(D187<E187,AND(D187>E187,C493<>\"\"))),ColTime(Data!$J$6,Data!$L$6,D187,E187),\"\"))","v":""}]
["2020-07-01","On","",null,null,"",null,null,null,{"$f":"IF(OR(AND(C188<>\"\",D188>E188,WEEKDAY(A188,2)=5),AND(C188=\"\",WEEKDAY(A188,2)>5)),IF(D188=\"\",\"\",ColTime(Data!$J$3,Data!$L$3,D188,E188)),\"\")","v":""},"","",{"$f":"IFERROR(IF(AND(C188=\"\",WEEKDAY(A188,2)>5),IF(D188=\"\",\"\",(IF(E188-MAX(D188,(15/24))+(E188<D188)<0,0,E188-MAX(D188,(15/24))+($E188<D188)))-(IF((E188-MAX(D188,(23/24))+(E188<D188))<0,0,(E188-MAX(D188,(23/24))+(E188<D188))))),o),\"\")","v":""},"","","","",{"$f":"IFERROR(IF(OR(AND(C188=\"\",D188<E188,OR(WEEKDAY(A188,2)=1,WEEKDAY(A188,2)>=6)),AND(C188=\"\",D188>E188,OR(WEEKDAY(A188,2)>=5)),AND(C188<>\"\",D188>E188,WEEKDAY(A188,2)>=5)),ColTime(Data!$J$6,Data!$L$6,D188,E188),\"\"),\"\")","v":""},{"$f":"IFERROR(IF(OR(AND(WEEKDAY(A188,2)>1,WEEKDAY(A188,2)<6,D188<E188,C188=\"\"),AND(C188=\"\",WEEKDAY(A188,2)=1,E188<D188),AND(C188<>\"\",D188<E188,WEEKDAY(A188,2)>1,WEEKDAY(A188,2)<4),AND(C188<>\"\",D188>E188,WEEKDAY(A188,2)=1)),ColTime(Data!$J$6,Data!$L$6,D188,E188),\"\"),\"\")","v":""},null,{"$f":"IF(F188=\"\",\"\",IF(AND(C188<>\"\",OR(D188<E188,AND(D188>E188,C494<>\"\"))),ColTime(Data!$J$6,Data!$L$6,D188,E188),\"\"))","v":""}]
["2020-07-02","To","Maria Besøgelsesdag",null,null,"",null,null,null,{"$f":"IF(OR(AND(C189<>\"\",D189>E189,WEEKDAY(A189,2)=5),AND(C189=\"\",WEEKDAY(A189,2)>5)),IF(D189=\"\",\"\",ColTime(Data!$J$3,Data!$L$3,D189,E189)),\"\")","v":""},"","",{"$f":"IFERROR(IF(AND(C189=\"\",WEEKDAY(A189,2)>5),IF(D189=\"\",\"\",(IF(E189-MAX(D189,(15/24))+(E189<D189)<0,0,E189-MAX(D189,(15/24))+($E189<D189)))-(IF((E189-MAX(D189,(23/24))+(E189<D189))<0,0,(E189-MAX(D189,(23/24))+(E189<D189))))),o),\"\")","v":""},"","","","",{"$f":"IFERROR(IF(OR(AND(C189=\"\",D189<E189,OR(WEEKDAY(A189,2)=1,WEEKDAY(A189,2)>=6)),AND(C189=\"\",D189>E189,OR(WEEKDAY(A189,2)>=5)),AND(C189<>\"\",D189>E189,WEEKDAY(A189,2)>=5)),ColTime(Data!$J$6,Data!$L$6,D189,E189),\"\"),\"\")","v":""},{"$f":"IFERROR(IF(OR(AND(WEEKDAY(A189,2)>1,WEEKDAY(A189,2)<6,D189<E189,C189=\"\"),AND(C189=\"\",WEEKDAY(A189,2)=1,E189<D189),AND(C189<>\"\",D189<E189,WEEKDAY(A189,2)>1,WEEKDAY(A189,2)<4),AND(C189<>\"\",D189>E189,WEEKDAY(A189,2)=1)),ColTime(Data!$J$6,Data!$L$6,D189,E189),\"\"),\"\")","v":""},null,{"$f":"IF(F189=\"\",\"\",IF(AND(C189<>\"\",OR(D189<E189,AND(D189>E189,C495<>\"\"))),ColTime(Data!$J$6,Data!$L$6,D189,E189),\"\"))","v":""}]
["2020-07-03","Fr","",null,null,"",null,null,null,{"$f":"IF(OR(AND(C190<>\"\",D190>E190,WEEKDAY(A190,2)=5),AND(C190=\"\",WEEKDAY(A190,2)>5)),IF(D190=\"\",\"\",ColTime(Data!$J$3,Data!$L$3,D190,E190)),\"\")","v":""},"","",{"$f":"IFERROR(IF(AND(C190=\"\",WEEKDAY(A190,2)>5),IF(D190=\"\",\"\",(IF(E190-MAX(D190,(15/24))+(E190<D190)<0,0,E190-MAX(D190,(15/24))+($E190<D190)))-(IF((E190-MAX(D190,(23/24))+(E190<D190))<0,0,(E190-MAX(D190,(23/24))+(E190<D190))))),o),\"\")","v":""},"","","","",{"$f":"IFERROR(IF(OR(AND(C190=\"\",D190<E190,OR(WEEKDAY(A190,2)=1,WEEKDAY(A190,2)>=6)),AND(C190=\"\",D190>E190,OR(WEEKDAY(A190,2)>=5)),AND(C190<>\"\",D190>E190,WEEKDAY(A190,2)>=5)),ColTime(Data!$J$6,Data!$L$6,D190,E190),\"\"),\"\")","v":""},{"$f":"IFERROR(IF(OR(AND(WEEKDAY(A190,2)>1,WEEKDAY(A190,2)<6,D190<E190,C190=\"\"),AND(C190=\"\",WEEKDAY(A190,2)=1,E190<D190),AND(C190<>\"\",D190<E190,WEEKDAY(A190,2)>1,WEEKDAY(A190,2)<4),AND(C190<>\"\",D190>E190,WEEKDAY(A190,2)=1)),ColTime(Data!$J$6,Data!$L$6,D190,E190),\"\"),\"\")","v":""},null,{"$f":"IF(F190=\"\",\"\",IF(AND(C190<>\"\",OR(D190<E190,AND(D190>E190,C496<>\"\"))),ColTime(Data!$J$6,Data!$L$6,D190,E190),\"\"))","v":""}]
["2020-07-04","Lø","",null,null,"",null,null,null,{"$f":"IF(OR(AND(C191<>\"\",D191>E191,WEEKDAY(A191,2)=5),AND(C191=\"\",WEEKDAY(A191,2)>5)),IF(D191=\"\",\"\",ColTime(Data!$J$3,Data!$L$3,D191,E191)),\"\")","v":""},"","",{"$f":"IFERROR(IF(AND(C191=\"\",WEEKDAY(A191,2)>5),IF(D191=\"\",\"\",(IF(E191-MAX(D191,(15/24))+(E191<D191)<0,0,E191-MAX(D191,(15/24))+($E191<D191)))-(IF((E191-MAX(D191,(23/24))+(E191<D191))<0,0,(E191-MAX(D191,(23/24))+(E191<D191))))),o),\"\")","v":""},"","","","",{"$f":"IFERROR(IF(OR(AND(C191=\"\",D191<E191,OR(WEEKDAY(A191,2)=1,WEEKDAY(A191,2)>=6)),AND(C191=\"\",D191>E191,OR(WEEKDAY(A191,2)>=5)),AND(C191<>\"\",D191>E191,WEEKDAY(A191,2)>=5)),ColTime(Data!$J$6,Data!$L$6,D191,E191),\"\"),\"\")","v":""},{"$f":"IFERROR(IF(OR(AND(WEEKDAY(A191,2)>1,WEEKDAY(A191,2)<6,D191<E191,C191=\"\"),AND(C191=\"\",WEEKDAY(A191,2)=1,E191<D191),AND(C191<>\"\",D191<E191,WEEKDAY(A191,2)>1,WEEKDAY(A191,2)<4),AND(C191<>\"\",D191>E191,WEEKDAY(A191,2)=1)),ColTime(Data!$J$6,Data!$L$6,D191,E191),\"\"),\"\")","v":""},null,{"$f":"IF(F191=\"\",\"\",IF(AND(C191<>\"\",OR(D191<E191,AND(D191>E191,C497<>\"\"))),ColTime(Data!$J$6,Data!$L$6,D191,E191),\"\"))","v":""}]
["2020-07-05","Sø","",null,null,"",null,null,null,{"$f":"IF(OR(AND(C192<>\"\",D192>E192,WEEKDAY(A192,2)=5),AND(C192=\"\",WEEKDAY(A192,2)>5)),IF(D192=\"\",\"\",ColTime(Data!$J$3,Data!$L$3,D192,E192)),\"\")","v":""},"","",{"$f":"IFERROR(IF(AND(C192=\"\",WEEKDAY(A192,2)>5),IF(D192=\"\",\"\",(IF(E192-MAX(D192,(15/24))+(E192<D192)<0,0,E192-MAX(D192,(15/24))+($E192<D192)))-(IF((E192-MAX(D192,(23/24))+(E192<D192))<0,0,(E192-MAX(D192,(23/24))+(E192<D192))))),o),\"\")","v":""},"","","","",{"$f":"IFERROR(IF(OR(AND(C192=\"\",D192<E192,OR(WEEKDAY(A192,2)=1,WEEKDAY(A192,2)>=6)),AND(C192=\"\",D192>E192,OR(WEEKDAY(A192,2)>=5)),AND(C192<>\"\",D192>E192,WEEKDAY(A192,2)>=5)),ColTime(Data!$J$6,Data!$L$6,D192,E192),\"\"),\"\")","v":""},{"$f":"IFERROR(IF(OR(AND(WEEKDAY(A192,2)>1,WEEKDAY(A192,2)<6,D192<E192,C192=\"\"),AND(C192=\"\",WEEKDAY(A192,2)=1,E192<D192),AND(C192<>\"\",D192<E192,WEEKDAY(A192,2)>1,WEEKDAY(A192,2)<4),AND(C192<>\"\",D192>E192,WEEKDAY(A192,2)=1)),ColTime(Data!$J$6,Data!$L$6,D192,E192),\"\"),\"\")","v":""},null,{"$f":"IF(F192=\"\",\"\",IF(AND(C192<>\"\",OR(D192<E192,AND(D192>E192,C498<>\"\"))),ColTime(Data!$J$6,Data!$L$6,D192,E192),\"\"))","v":""}]
["2020-07-06","Ma","",null,null,"",null,null,null,{"$f":"IF(OR(AND(C193<>\"\",D193>E193,WEEKDAY(A193,2)=5),AND(C193=\"\",WEEKDAY(A193,2)>5)),IF(D193=\"\",\"\",ColTime(Data!$J$3,Data!$L$3,D193,E193)),\"\")","v":""},"","",{"$f":"IFERROR(IF(AND(C193=\"\",WEEKDAY(A193,2)>5),IF(D193=\"\",\"\",(IF(E193-MAX(D193,(15/24))+(E193<D193)<0,0,E193-MAX(D193,(15/24))+($E193<D193)))-(IF((E193-MAX(D193,(23/24))+(E193<D193))<0,0,(E193-MAX(D193,(23/24))+(E193<D193))))),o),\"\")","v":""},"","","","",{"$f":"IFERROR(IF(OR(AND(C193=\"\",D193<E193,OR(WEEKDAY(A193,2)=1,WEEKDAY(A193,2)>=6)),AND(C193=\"\",D193>E193,OR(WEEKDAY(A193,2)>=5)),AND(C193<>\"\",D193>E193,WEEKDAY(A193,2)>=5)),ColTime(Data!$J$6,Data!$L$6,D193,E193),\"\"),\"\")","v":""},{"$f":"IFERROR(IF(OR(AND(WEEKDAY(A193,2)>1,WEEKDAY(A193,2)<6,D193<E193,C193=\"\"),AND(C193=\"\",WEEKDAY(A193,2)=1,E193<D193),AND(C193<>\"\",D193<E193,WEEKDAY(A193,2)>1,WEEKDAY(A193,2)<4),AND(C193<>\"\",D193>E193,WEEKDAY(A193,2)=1)),ColTime(Data!$J$6,Data!$L$6,D193,E193),\"\"),\"\")","v":""},null,{"$f":"IF(F193=\"\",\"\",IF(AND(C193<>\"\",OR(D193<E193,AND(D193>E193,C499<>\"\"))),ColTime(Data!$J$6,Data!$L$6,D193,E193),\"\"))","v":""}]
["2020-07-07","Ti","",null,null,"",null,null,null,{"$f":"IF(OR(AND(C194<>\"\",D194>E194,WEEKDAY(A194,2)=5),AND(C194=\"\",WEEKDAY(A194,2)>5)),IF(D194=\"\",\"\",ColTime(Data!$J$3,Data!$L$3,D194,E194)),\"\")","v":""},"","",{"$f":"IFERROR(IF(AND(C194=\"\",WEEKDAY(A194,2)>5),IF(D194=\"\",\"\",(IF(E194-MAX(D194,(15/24))+(E194<D194)<0,0,E194-MAX(D194,(15/24))+($E194<D194)))-(IF((E194-MAX(D194,(23/24))+(E194<D194))<0,0,(E194-MAX(D194,(23/24))+(E194<D194))))),o),\"\")","v":""},"","","","",{"$f":"IFERROR(IF(OR(AND(C194=\"\",D194<E194,OR(WEEKDAY(A194,2)=1,WEEKDAY(A194,2)>=6)),AND(C194=\"\",D194>E194,OR(WEEKDAY(A194,2)>=5)),AND(C194<>\"\",D194>E194,WEEKDAY(A194,2)>=5)),ColTime(Data!$J$6,Data!$L$6,D194,E194),\"\"),\"\")","v":""},{"$f":"IFERROR(IF(OR(AND(WEEKDAY(A194,2)>1,WEEKDAY(A194,2)<6,D194<E194,C194=\"\"),AND(C194=\"\",WEEKDAY(A194,2)=1,E194<D194),AND(C194<>\"\",D194<E194,WEEKDAY(A194,2)>1,WEEKDAY(A194,2)<4),AND(C194<>\"\",D194>E194,WEEKDAY(A194,2)=1)),ColTime(Data!$J$6,Data!$L$6,D194,E194),\"\"),\"\")","v":""},null,{"$f":"IF(F194=\"\",\"\",IF(AND(C194<>\"\",OR(D194<E194,AND(D194>E194,C500<>\"\"))),ColTime(Data!$J$6,Data!$L$6,D194,E194),\"\"))","v":""}]
["2020-07-08","On","",null,null,"",null,null,null,{"$f":"IF(OR(AND(C195<>\"\",D195>E195,WEEKDAY(A195,2)=5),AND(C195=\"\",WEEKDAY(A195,2)>5)),IF(D195=\"\",\"\",ColTime(Data!$J$3,Data!$L$3,D195,E195)),\"\")","v":""},"","",{"$f":"IFERROR(IF(AND(C195=\"\",WEEKDAY(A195,2)>5),IF(D195=\"\",\"\",(IF(E195-MAX(D195,(15/24))+(E195<D195)<0,0,E195-MAX(D195,(15/24))+($E195<D195)))-(IF((E195-MAX(D195,(23/24))+(E195<D195))<0,0,(E195-MAX(D195,(23/24))+(E195<D195))))),o),\"\")","v":""},"","","","",{"$f":"IFERROR(IF(OR(AND(C195=\"\",D195<E195,OR(WEEKDAY(A195,2)=1,WEEKDAY(A195,2)>=6)),AND(C195=\"\",D195>E195,OR(WEEKDAY(A195,2)>=5)),AND(C195<>\"\",D195>E195,WEEKDAY(A195,2)>=5)),ColTime(Data!$J$6,Data!$L$6,D195,E195),\"\"),\"\")","v":""},{"$f":"IFERROR(IF(OR(AND(WEEKDAY(A195,2)>1,WEEKDAY(A195,2)<6,D195<E195,C195=\"\"),AND(C195=\"\",WEEKDAY(A195,2)=1,E195<D195),AND(C195<>\"\",D195<E195,WEEKDAY(A195,2)>1,WEEKDAY(A195,2)<4),AND(C195<>\"\",D195>E195,WEEKDAY(A195,2)=1)),ColTime(Data!$J$6,Data!$L$6,D195,E195),\"\"),\"\")","v":""},null,{"$f":"IF(F195=\"\",\"\",IF(AND(C195<>\"\",OR(D195<E195,AND(D195>E195,C501<>\"\"))),ColTime(Data!$J$6,Data!$L$6,D195,E195),\"\"))","v":""}]
["2020-07-09","To","",null,null,"",null,null,null,{"$f":"IF(OR(AND(C196<>\"\",D196>E196,WEEKDAY(A196,2)=5),AND(C196=\"\",WEEKDAY(A196,2)>5)),IF(D196=\"\",\"\",ColTime(Data!$J$3,Data!$L$3,D196,E196)),\"\")","v":""},"","",{"$f":"IFERROR(IF(AND(C196=\"\",WEEKDAY(A196,2)>5),IF(D196=\"\",\"\",(IF(E196-MAX(D196,(15/24))+(E196<D196)<0,0,E196-MAX(D196,(15/24))+($E196<D196)))-(IF((E196-MAX(D196,(23/24))+(E196<D196))<0,0,(E196-MAX(D196,(23/24))+(E196<D196))))),o),\"\")","v":""},"","","","",{"$f":"IFERROR(IF(OR(AND(C196=\"\",D196<E196,OR(WEEKDAY(A196,2)=1,WEEKDAY(A196,2)>=6)),AND(C196=\"\",D196>E196,OR(WEEKDAY(A196,2)>=5)),AND(C196<>\"\",D196>E196,WEEKDAY(A196,2)>=5)),ColTime(Data!$J$6,Data!$L$6,D196,E196),\"\"),\"\")","v":""},{"$f":"IFERROR(IF(OR(AND(WEEKDAY(A196,2)>1,WEEKDAY(A196,2)<6,D196<E196,C196=\"\"),AND(C196=\"\",WEEKDAY(A196,2)=1,E196<D196),AND(C196<>\"\",D196<E196,WEEKDAY(A196,2)>1,WEEKDAY(A196,2)<4),AND(C196<>\"\",D196>E196,WEEKDAY(A196,2)=1)),ColTime(Data!$J$6,Data!$L$6,D196,E196),\"\"),\"\")","v":""},null,{"$f":"IF(F196=\"\",\"\",IF(AND(C196<>\"\",OR(D196<E196,AND(D196>E196,C502<>\"\"))),ColTime(Data!$J$6,Data!$L$6,D196,E196),\"\"))","v":""}]
["2020-07-10","Fr","",null,null,"",null,null,null,{"$f":"IF(OR(AND(C197<>\"\",D197>E197,WEEKDAY(A197,2)=5),AND(C197=\"\",WEEKDAY(A197,2)>5)),IF(D197=\"\",\"\",ColTime(Data!$J$3,Data!$L$3,D197,E197)),\"\")","v":""},"","",{"$f":"IFERROR(IF(AND(C197=\"\",WEEKDAY(A197,2)>5),IF(D197=\"\",\"\",(IF(E197-MAX(D197,(15/24))+(E197<D197)<0,0,E197-MAX(D197,(15/24))+($E197<D197)))-(IF((E197-MAX(D197,(23/24))+(E197<D197))<0,0,(E197-MAX(D197,(23/24))+(E197<D197))))),o),\"\")","v":""},"","","","",{"$f":"IFERROR(IF(OR(AND(C197=\"\",D197<E197,OR(WEEKDAY(A197,2)=1,WEEKDAY(A197,2)>=6)),AND(C197=\"\",D197>E197,OR(WEEKDAY(A197,2)>=5)),AND(C197<>\"\",D197>E197,WEEKDAY(A197,2)>=5)),ColTime(Data!$J$6,Data!$L$6,D197,E197),\"\"),\"\")","v":""},{"$f":"IFERROR(IF(OR(AND(WEEKDAY(A197,2)>1,WEEKDAY(A197,2)<6,D197<E197,C197=\"\"),AND(C197=\"\",WEEKDAY(A197,2)=1,E197<D197),AND(C197<>\"\",D197<E197,WEEKDAY(A197,2)>1,WEEKDAY(A197,2)<4),AND(C197<>\"\",D197>E197,WEEKDAY(A197,2)=1)),ColTime(Data!$J$6,Data!$L$6,D197,E197),\"\"),\"\")","v":""},null,{"$f":"IF(F197=\"\",\"\",IF(AND(C197<>\"\",OR(D197<E197,AND(D197>E197,C503<>\"\"))),ColTime(Data!$J$6,Data!$L$6,D197,E197),\"\"))","v":""}]
["2020-07-11","Lø","",null,null,"",null,null,null,{"$f":"IF(OR(AND(C198<>\"\",D198>E198,WEEKDAY(A198,2)=5),AND(C198=\"\",WEEKDAY(A198,2)>5)),IF(D198=\"\",\"\",ColTime(Data!$J$3,Data!$L$3,D198,E198)),\"\")","v":""},"","",{"$f":"IFERROR(IF(AND(C198=\"\",WEEKDAY(A198,2)>5),IF(D198=\"\",\"\",(IF(E198-MAX(D198,(15/24))+(E198<D198)<0,0,E198-MAX(D198,(15/24))+($E198<D198)))-(IF((E198-MAX(D198,(23/24))+(E198<D198))<0,0,(E198-MAX(D198,(23/24))+(E198<D198))))),o),\"\")","v":""},"","","","",{"$f":"IFERROR(IF(OR(AND(C198=\"\",D198<E198,OR(WEEKDAY(A198,2)=1,WEEKDAY(A198,2)>=6)),AND(C198=\"\",D198>E198,OR(WEEKDAY(A198,2)>=5)),AND(C198<>\"\",D198>E198,WEEKDAY(A198,2)>=5)),ColTime(Data!$J$6,Data!$L$6,D198,E198),\"\"),\"\")","v":""},{"$f":"IFERROR(IF(OR(AND(WEEKDAY(A198,2)>1,WEEKDAY(A198,2)<6,D198<E198,C198=\"\"),AND(C198=\"\",WEEKDAY(A198,2)=1,E198<D198),AND(C198<>\"\",D198<E198,WEEKDAY(A198,2)>1,WEEKDAY(A198,2)<4),AND(C198<>\"\",D198>E198,WEEKDAY(A198,2)=1)),ColTime(Data!$J$6,Data!$L$6,D198,E198),\"\"),\"\")","v":""},null,{"$f":"IF(F198=\"\",\"\",IF(AND(C198<>\"\",OR(D198<E198,AND(D198>E198,C504<>\"\"))),ColTime(Data!$J$6,Data!$L$6,D198,E198),\"\"))","v":""}]
[{"$f":"A198+1","v":"2020-07-12"},"Sø","",null,null,"",null,null,null,{"$f":"IF(OR(AND(C199<>\"\",D199>E199,WEEKDAY(A199,2)=5),AND(C199=\"\",WEEKDAY(A199,2)>5)),IF(D199=\"\",\"\",ColTime(Data!$J$3,Data!$L$3,D199,E199)),\"\")","v":""},"","",{"$f":"IFERROR(IF(AND(C199=\"\",WEEKDAY(A199,2)>5),IF(D199=\"\",\"\",(IF(E199-MAX(D199,(15/24))+(E199<D199)<0,0,E199-MAX(D199,(15/24))+($E199<D199)))-(IF((E199-MAX(D199,(23/24))+(E199<D199))<0,0,(E199-MAX(D199,(23/24))+(E199<D199))))),o),\"\")","v":""},"","","","",{"$f":"IFERROR(IF(OR(AND(C199=\"\",D199<E199,OR(WEEKDAY(A199,2)=1,WEEKDAY(A199,2)>=6)),AND(C199=\"\",D199>E199,OR(WEEKDAY(A199,2)>=5)),AND(C199<>\"\",D199>E199,WEEKDAY(A199,2)>=5)),ColTime(Data!$J$6,Data!$L$6,D199,E199),\"\"),\"\")","v":""},{"$f":"IFERROR(IF(OR(AND(WEEKDAY(A199,2)>1,WEEKDAY(A199,2)<6,D199<E199,C199=\"\"),AND(C199=\"\",WEEKDAY(A199,2)=1,E199<D199),AND(C199<>\"\",D199<E199,WEEKDAY(A199,2)>1,WEEKDAY(A199,2)<4),AND(C199<>\"\",D199>E199,WEEKDAY(A199,2)=1)),ColTime(Data!$J$6,Data!$L$6,D199,E199),\"\"),\"\")","v":""},null,{"$f":"IF(F199=\"\",\"\",IF(AND(C199<>\"\",OR(D199<E199,AND(D199>E199,C505<>\"\"))),ColTime(Data!$J$6,Data!$L$6,D199,E199),\"\"))","v":""}]
["2020-07-13","Ma","",null,null,"",null,null,null,{"$f":"IF(OR(AND(C200<>\"\",D200>E200,WEEKDAY(A200,2)=5),AND(C200=\"\",WEEKDAY(A200,2)>5)),IF(D200=\"\",\"\",ColTime(Data!$J$3,Data!$L$3,D200,E200)),\"\")","v":""},"","",{"$f":"IFERROR(IF(AND(C200=\"\",WEEKDAY(A200,2)>5),IF(D200=\"\",\"\",(IF(E200-MAX(D200,(15/24))+(E200<D200)<0,0,E200-MAX(D200,(15/24))+($E200<D200)))-(IF((E200-MAX(D200,(23/24))+(E200<D200))<0,0,(E200-MAX(D200,(23/24))+(E200<D200))))),o),\"\")","v":""},"","","",{"$f":"IF(D200=\"\",\"\",IF(C200<>\"\",IF(D200=\"\",\"\",(IF(E200-MAX(D200,(23/24))+(E200<D200)<0,0,E200-MAX(D200,(23/24))+(E200<D200)))-(IF((E200-MAX(D200,(24/24))+(E200<D200))<0,0,(E200-MAX(D200,(24/24))+(E200<D200))))),0))","v":""},{"$f":"IFERROR(IF(OR(AND(C200=\"\",D200<E200,OR(WEEKDAY(A200,2)=1,WEEKDAY(A200,2)>=6)),AND(C200=\"\",D200>E200,OR(WEEKDAY(A200,2)>=5)),AND(C200<>\"\",D200>E200,WEEKDAY(A200,2)>=5)),ColTime(Data!$J$6,Data!$L$6,D200,E200),\"\"),\"\")","v":""},{"$f":"IFERROR(IF(OR(AND(WEEKDAY(A200,2)>1,WEEKDAY(A200,2)<6,D200<E200,C200=\"\"),AND(C200=\"\",WEEKDAY(A200,2)=1,E200<D200),AND(C200<>\"\",D200<E200,WEEKDAY(A200,2)>1,WEEKDAY(A200,2)<4),AND(C200<>\"\",D200>E200,WEEKDAY(A200,2)=1)),ColTime(Data!$J$6,Data!$L$6,D200,E200),\"\"),\"\")","v":""},null,{"$f":"IF(F200=\"\",\"\",IF(AND(C200<>\"\",OR(D200<E200,AND(D200>E200,C506<>\"\"))),ColTime(Data!$J$6,Data!$L$6,D200,E200),\"\"))","v":""}]
["2020-07-14","Ti","",null,null,"",null,null,null,{"$f":"IF(OR(AND(C201<>\"\",D201>E201,WEEKDAY(A201,2)=5),AND(C201=\"\",WEEKDAY(A201,2)>5)),IF(D201=\"\",\"\",ColTime(Data!$J$3,Data!$L$3,D201,E201)),\"\")","v":""},"","",{"$f":"IFERROR(IF(AND(C201=\"\",WEEKDAY(A201,2)>5),IF(D201=\"\",\"\",(IF(E201-MAX(D201,(15/24))+(E201<D201)<0,0,E201-MAX(D201,(15/24))+($E201<D201)))-(IF((E201-MAX(D201,(23/24))+(E201<D201))<0,0,(E201-MAX(D201,(23/24))+(E201<D201))))),o),\"\")","v":""},"","","","",{"$f":"IFERROR(IF(OR(AND(C201=\"\",D201<E201,OR(WEEKDAY(A201,2)=1,WEEKDAY(A201,2)>=6)),AND(C201=\"\",D201>E201,OR(WEEKDAY(A201,2)>=5)),AND(C201<>\"\",D201>E201,WEEKDAY(A201,2)>=5)),ColTime(Data!$J$6,Data!$L$6,D201,E201),\"\"),\"\")","v":""},{"$f":"IFERROR(IF(OR(AND(WEEKDAY(A201,2)>1,WEEKDAY(A201,2)<6,D201<E201,C201=\"\"),AND(C201=\"\",WEEKDAY(A201,2)=1,E201<D201),AND(C201<>\"\",D201<E201,WEEKDAY(A201,2)>1,WEEKDAY(A201,2)<4),AND(C201<>\"\",D201>E201,WEEKDAY(A201,2)=1)),ColTime(Data!$J$6,Data!$L$6,D201,E201),\"\"),\"\")","v":""},null,{"$f":"IF(F201=\"\",\"\",IF(AND(C201<>\"\",OR(D201<E201,AND(D201>E201,C507<>\"\"))),ColTime(Data!$J$6,Data!$L$6,D201,E201),\"\"))","v":""}]
["2020-07-15","On","",null,null,"",null,null,null,{"$f":"IF(OR(AND(C202<>\"\",D202>E202,WEEKDAY(A202,2)=5),AND(C202=\"\",WEEKDAY(A202,2)>5)),IF(D202=\"\",\"\",ColTime(Data!$J$3,Data!$L$3,D202,E202)),\"\")","v":""},"","",{"$f":"IFERROR(IF(AND(C202=\"\",WEEKDAY(A202,2)>5),IF(D202=\"\",\"\",(IF(E202-MAX(D202,(15/24))+(E202<D202)<0,0,E202-MAX(D202,(15/24))+($E202<D202)))-(IF((E202-MAX(D202,(23/24))+(E202<D202))<0,0,(E202-MAX(D202,(23/24))+(E202<D202))))),o),\"\")","v":""},"","","","",{"$f":"IFERROR(IF(OR(AND(C202=\"\",D202<E202,OR(WEEKDAY(A202,2)=1,WEEKDAY(A202,2)>=6)),AND(C202=\"\",D202>E202,OR(WEEKDAY(A202,2)>=5)),AND(C202<>\"\",D202>E202,WEEKDAY(A202,2)>=5)),ColTime(Data!$J$6,Data!$L$6,D202,E202),\"\"),\"\")","v":""},{"$f":"IFERROR(IF(OR(AND(WEEKDAY(A202,2)>1,WEEKDAY(A202,2)<6,D202<E202,C202=\"\"),AND(C202=\"\",WEEKDAY(A202,2)=1,E202<D202),AND(C202<>\"\",D202<E202,WEEKDAY(A202,2)>1,WEEKDAY(A202,2)<4),AND(C202<>\"\",D202>E202,WEEKDAY(A202,2)=1)),ColTime(Data!$J$6,Data!$L$6,D202,E202),\"\"),\"\")","v":""},null,{"$f":"IF(F202=\"\",\"\",IF(AND(C202<>\"\",OR(D202<E202,AND(D202>E202,C508<>\"\"))),ColTime(Data!$J$6,Data!$L$6,D202,E202),\"\"))","v":""}]
["2020-07-16","To","",null,null,"",null,null,null,{"$f":"IF(OR(AND(C203<>\"\",D203>E203,WEEKDAY(A203,2)=5),AND(C203=\"\",WEEKDAY(A203,2)>5)),IF(D203=\"\",\"\",ColTime(Data!$J$3,Data!$L$3,D203,E203)),\"\")","v":""},"","",{"$f":"IFERROR(IF(AND(C203=\"\",WEEKDAY(A203,2)>5),IF(D203=\"\",\"\",(IF(E203-MAX(D203,(15/24))+(E203<D203)<0,0,E203-MAX(D203,(15/24))+($E203<D203)))-(IF((E203-MAX(D203,(23/24))+(E203<D203))<0,0,(E203-MAX(D203,(23/24))+(E203<D203))))),o),\"\")","v":""},"","","","",{"$f":"IFERROR(IF(OR(AND(C203=\"\",D203<E203,OR(WEEKDAY(A203,2)=1,WEEKDAY(A203,2)>=6)),AND(C203=\"\",D203>E203,OR(WEEKDAY(A203,2)>=5)),AND(C203<>\"\",D203>E203,WEEKDAY(A203,2)>=5)),ColTime(Data!$J$6,Data!$L$6,D203,E203),\"\"),\"\")","v":""},{"$f":"IFERROR(IF(OR(AND(WEEKDAY(A203,2)>1,WEEKDAY(A203,2)<6,D203<E203,C203=\"\"),AND(C203=\"\",WEEKDAY(A203,2)=1,E203<D203),AND(C203<>\"\",D203<E203,WEEKDAY(A203,2)>1,WEEKDAY(A203,2)<4),AND(C203<>\"\",D203>E203,WEEKDAY(A203,2)=1)),ColTime(Data!$J$6,Data!$L$6,D203,E203),\"\"),\"\")","v":""},null,{"$f":"IF(F203=\"\",\"\",IF(AND(C203<>\"\",OR(D203<E203,AND(D203>E203,C509<>\"\"))),ColTime(Data!$J$6,Data!$L$6,D203,E203),\"\"))","v":""}]
["2020-07-17","Fr","",null,null,"",null,null,null,{"$f":"IF(OR(AND(C204<>\"\",D204>E204,WEEKDAY(A204,2)=5),AND(C204=\"\",WEEKDAY(A204,2)>5)),IF(D204=\"\",\"\",ColTime(Data!$J$3,Data!$L$3,D204,E204)),\"\")","v":""},"","",{"$f":"IFERROR(IF(AND(C204=\"\",WEEKDAY(A204,2)>5),IF(D204=\"\",\"\",(IF(E204-MAX(D204,(15/24))+(E204<D204)<0,0,E204-MAX(D204,(15/24))+($E204<D204)))-(IF((E204-MAX(D204,(23/24))+(E204<D204))<0,0,(E204-MAX(D204,(23/24))+(E204<D204))))),o),\"\")","v":""},"","","","",{"$f":"IFERROR(IF(OR(AND(C204=\"\",D204<E204,OR(WEEKDAY(A204,2)=1,WEEKDAY(A204,2)>=6)),AND(C204=\"\",D204>E204,OR(WEEKDAY(A204,2)>=5)),AND(C204<>\"\",D204>E204,WEEKDAY(A204,2)>=5)),ColTime(Data!$J$6,Data!$L$6,D204,E204),\"\"),\"\")","v":""},{"$f":"IFERROR(IF(OR(AND(WEEKDAY(A204,2)>1,WEEKDAY(A204,2)<6,D204<E204,C204=\"\"),AND(C204=\"\",WEEKDAY(A204,2)=1,E204<D204),AND(C204<>\"\",D204<E204,WEEKDAY(A204,2)>1,WEEKDAY(A204,2)<4),AND(C204<>\"\",D204>E204,WEEKDAY(A204,2)=1)),ColTime(Data!$J$6,Data!$L$6,D204,E204),\"\"),\"\")","v":""},null,{"$f":"IF(F204=\"\",\"\",IF(AND(C204<>\"\",OR(D204<E204,AND(D204>E204,C510<>\"\"))),ColTime(Data!$J$6,Data!$L$6,D204,E204),\"\"))","v":""}]
["2020-07-18","Lø","",null,null,"",null,null,null,{"$f":"IF(OR(AND(C205<>\"\",D205>E205,WEEKDAY(A205,2)=5),AND(C205=\"\",WEEKDAY(A205,2)>5)),IF(D205=\"\",\"\",ColTime(Data!$J$3,Data!$L$3,D205,E205)),\"\")","v":""},"","",{"$f":"IFERROR(IF(AND(C205=\"\",WEEKDAY(A205,2)>5),IF(D205=\"\",\"\",(IF(E205-MAX(D205,(15/24))+(E205<D205)<0,0,E205-MAX(D205,(15/24))+($E205<D205)))-(IF((E205-MAX(D205,(23/24))+(E205<D205))<0,0,(E205-MAX(D205,(23/24))+(E205<D205))))),o),\"\")","v":""},"","","","",{"$f":"IFERROR(IF(OR(AND(C205=\"\",D205<E205,OR(WEEKDAY(A205,2)=1,WEEKDAY(A205,2)>=6)),AND(C205=\"\",D205>E205,OR(WEEKDAY(A205,2)>=5)),AND(C205<>\"\",D205>E205,WEEKDAY(A205,2)>=5)),ColTime(Data!$J$6,Data!$L$6,D205,E205),\"\"),\"\")","v":""},{"$f":"IFERROR(IF(OR(AND(WEEKDAY(A205,2)>1,WEEKDAY(A205,2)<6,D205<E205,C205=\"\"),AND(C205=\"\",WEEKDAY(A205,2)=1,E205<D205),AND(C205<>\"\",D205<E205,WEEKDAY(A205,2)>1,WEEKDAY(A205,2)<4),AND(C205<>\"\",D205>E205,WEEKDAY(A205,2)=1)),ColTime(Data!$J$6,Data!$L$6,D205,E205),\"\"),\"\")","v":""},null,{"$f":"IF(F205=\"\",\"\",IF(AND(C205<>\"\",OR(D205<E205,AND(D205>E205,C511<>\"\"))),ColTime(Data!$J$6,Data!$L$6,D205,E205),\"\"))","v":""}]
["2020-07-19","Sø","",null,null,"",null,null,null,{"$f":"IF(OR(AND(C206<>\"\",D206>E206,WEEKDAY(A206,2)=5),AND(C206=\"\",WEEKDAY(A206,2)>5)),IF(D206=\"\",\"\",ColTime(Data!$J$3,Data!$L$3,D206,E206)),\"\")","v":""},"","",{"$f":"IFERROR(IF(AND(C206=\"\",WEEKDAY(A206,2)>5),IF(D206=\"\",\"\",(IF(E206-MAX(D206,(15/24))+(E206<D206)<0,0,E206-MAX(D206,(15/24))+($E206<D206)))-(IF((E206-MAX(D206,(23/24))+(E206<D206))<0,0,(E206-MAX(D206,(23/24))+(E206<D206))))),o),\"\")","v":""},"","","","",{"$f":"IFERROR(IF(OR(AND(C206=\"\",D206<E206,OR(WEEKDAY(A206,2)=1,WEEKDAY(A206,2)>=6)),AND(C206=\"\",D206>E206,OR(WEEKDAY(A206,2)>=5)),AND(C206<>\"\",D206>E206,WEEKDAY(A206,2)>=5)),ColTime(Data!$J$6,Data!$L$6,D206,E206),\"\"),\"\")","v":""},{"$f":"IFERROR(IF(OR(AND(WEEKDAY(A206,2)>1,WEEKDAY(A206,2)<6,D206<E206,C206=\"\"),AND(C206=\"\",WEEKDAY(A206,2)=1,E206<D206),AND(C206<>\"\",D206<E206,WEEKDAY(A206,2)>1,WEEKDAY(A206,2)<4),AND(C206<>\"\",D206>E206,WEEKDAY(A206,2)=1)),ColTime(Data!$J$6,Data!$L$6,D206,E206),\"\"),\"\")","v":""},null,{"$f":"IF(F206=\"\",\"\",IF(AND(C206<>\"\",OR(D206<E206,AND(D206>E206,C512<>\"\"))),ColTime(Data!$J$6,Data!$L$6,D206,E206),\"\"))","v":""}]
["2020-07-20","Ma","",null,null,"",null,null,null,{"$f":"IF(OR(AND(C207<>\"\",D207>E207,WEEKDAY(A207,2)=5),AND(C207=\"\",WEEKDAY(A207,2)>5)),IF(D207=\"\",\"\",ColTime(Data!$J$3,Data!$L$3,D207,E207)),\"\")","v":""},"","",{"$f":"IFERROR(IF(AND(C207=\"\",WEEKDAY(A207,2)>5),IF(D207=\"\",\"\",(IF(E207-MAX(D207,(15/24))+(E207<D207)<0,0,E207-MAX(D207,(15/24))+($E207<D207)))-(IF((E207-MAX(D207,(23/24))+(E207<D207))<0,0,(E207-MAX(D207,(23/24))+(E207<D207))))),o),\"\")","v":""},"","","","",{"$f":"IFERROR(IF(OR(AND(C207=\"\",D207<E207,OR(WEEKDAY(A207,2)=1,WEEKDAY(A207,2)>=6)),AND(C207=\"\",D207>E207,OR(WEEKDAY(A207,2)>=5)),AND(C207<>\"\",D207>E207,WEEKDAY(A207,2)>=5)),ColTime(Data!$J$6,Data!$L$6,D207,E207),\"\"),\"\")","v":""},{"$f":"IFERROR(IF(OR(AND(WEEKDAY(A207,2)>1,WEEKDAY(A207,2)<6,D207<E207,C207=\"\"),AND(C207=\"\",WEEKDAY(A207,2)=1,E207<D207),AND(C207<>\"\",D207<E207,WEEKDAY(A207,2)>1,WEEKDAY(A207,2)<4),AND(C207<>\"\",D207>E207,WEEKDAY(A207,2)=1)),ColTime(Data!$J$6,Data!$L$6,D207,E207),\"\"),\"\")","v":""},null,{"$f":"IF(F207=\"\",\"\",IF(AND(C207<>\"\",OR(D207<E207,AND(D207>E207,C513<>\"\"))),ColTime(Data!$J$6,Data!$L$6,D207,E207),\"\"))","v":""}]
["2020-07-21","Ti","",null,null,"",null,null,null,{"$f":"IF(OR(AND(C208<>\"\",D208>E208,WEEKDAY(A208,2)=5),AND(C208=\"\",WEEKDAY(A208,2)>5)),IF(D208=\"\",\"\",ColTime(Data!$J$3,Data!$L$3,D208,E208)),\"\")","v":""},"","",{"$f":"IFERROR(IF(AND(C208=\"\",WEEKDAY(A208,2)>5),IF(D208=\"\",\"\",(IF(E208-MAX(D208,(15/24))+(E208<D208)<0,0,E208-MAX(D208,(15/24))+($E208<D208)))-(IF((E208-MAX(D208,(23/24))+(E208<D208))<0,0,(E208-MAX(D208,(23/24))+(E208<D208))))),o),\"\")","v":""},"","","","",{"$f":"IFERROR(IF(OR(AND(C208=\"\",D208<E208,OR(WEEKDAY(A208,2)=1,WEEKDAY(A208,2)>=6)),AND(C208=\"\",D208>E208,OR(WEEKDAY(A208,2)>=5)),AND(C208<>\"\",D208>E208,WEEKDAY(A208,2)>=5)),ColTime(Data!$J$6,Data!$L$6,D208,E208),\"\"),\"\")","v":""},{"$f":"IFERROR(IF(OR(AND(WEEKDAY(A208,2)>1,WEEKDAY(A208,2)<6,D208<E208,C208=\"\"),AND(C208=\"\",WEEKDAY(A208,2)=1,E208<D208),AND(C208<>\"\",D208<E208,WEEKDAY(A208,2)>1,WEEKDAY(A208,2)<4),AND(C208<>\"\",D208>E208,WEEKDAY(A208,2)=1)),ColTime(Data!$J$6,Data!$L$6,D208,E208),\"\"),\"\")","v":""},null,{"$f":"IF(F208=\"\",\"\",IF(AND(C208<>\"\",OR(D208<E208,AND(D208>E208,C514<>\"\"))),ColTime(Data!$J$6,Data!$L$6,D208,E208),\"\"))","v":""}]
["2020-07-22","On","",null,null,"",null,null,null,{"$f":"IF(OR(AND(C209<>\"\",D209>E209,WEEKDAY(A209,2)=5),AND(C209=\"\",WEEKDAY(A209,2)>5)),IF(D209=\"\",\"\",ColTime(Data!$J$3,Data!$L$3,D209,E209)),\"\")","v":""},"","",{"$f":"IFERROR(IF(AND(C209=\"\",WEEKDAY(A209,2)>5),IF(D209=\"\",\"\",(IF(E209-MAX(D209,(15/24))+(E209<D209)<0,0,E209-MAX(D209,(15/24))+($E209<D209)))-(IF((E209-MAX(D209,(23/24))+(E209<D209))<0,0,(E209-MAX(D209,(23/24))+(E209<D209))))),o),\"\")","v":""},"","","","",{"$f":"IFERROR(IF(OR(AND(C209=\"\",D209<E209,OR(WEEKDAY(A209,2)=1,WEEKDAY(A209,2)>=6)),AND(C209=\"\",D209>E209,OR(WEEKDAY(A209,2)>=5)),AND(C209<>\"\",D209>E209,WEEKDAY(A209,2)>=5)),ColTime(Data!$J$6,Data!$L$6,D209,E209),\"\"),\"\")","v":""},{"$f":"IFERROR(IF(OR(AND(WEEKDAY(A209,2)>1,WEEKDAY(A209,2)<6,D209<E209,C209=\"\"),AND(C209=\"\",WEEKDAY(A209,2)=1,E209<D209),AND(C209<>\"\",D209<E209,WEEKDAY(A209,2)>1,WEEKDAY(A209,2)<4),AND(C209<>\"\",D209>E209,WEEKDAY(A209,2)=1)),ColTime(Data!$J$6,Data!$L$6,D209,E209),\"\"),\"\")","v":""},null,{"$f":"IF(F209=\"\",\"\",IF(AND(C209<>\"\",OR(D209<E209,AND(D209>E209,C515<>\"\"))),ColTime(Data!$J$6,Data!$L$6,D209,E209),\"\"))","v":""}]
["2020-07-23","To","",null,null,"",null,null,null,{"$f":"IF(OR(AND(C210<>\"\",D210>E210,WEEKDAY(A210,2)=5),AND(C210=\"\",WEEKDAY(A210,2)>5)),IF(D210=\"\",\"\",ColTime(Data!$J$3,Data!$L$3,D210,E210)),\"\")","v":""},"","",{"$f":"IFERROR(IF(AND(C210=\"\",WEEKDAY(A210,2)>5),IF(D210=\"\",\"\",(IF(E210-MAX(D210,(15/24))+(E210<D210)<0,0,E210-MAX(D210,(15/24))+($E210<D210)))-(IF((E210-MAX(D210,(23/24))+(E210<D210))<0,0,(E210-MAX(D210,(23/24))+(E210<D210))))),o),\"\")","v":""},"","","","",{"$f":"IFERROR(IF(OR(AND(C210=\"\",D210<E210,OR(WEEKDAY(A210,2)=1,WEEKDAY(A210,2)>=6)),AND(C210=\"\",D210>E210,OR(WEEKDAY(A210,2)>=5)),AND(C210<>\"\",D210>E210,WEEKDAY(A210,2)>=5)),ColTime(Data!$J$6,Data!$L$6,D210,E210),\"\"),\"\")","v":""},{"$f":"IFERROR(IF(OR(AND(WEEKDAY(A210,2)>1,WEEKDAY(A210,2)<6,D210<E210,C210=\"\"),AND(C210=\"\",WEEKDAY(A210,2)=1,E210<D210),AND(C210<>\"\",D210<E210,WEEKDAY(A210,2)>1,WEEKDAY(A210,2)<4),AND(C210<>\"\",D210>E210,WEEKDAY(A210,2)=1)),ColTime(Data!$J$6,Data!$L$6,D210,E210),\"\"),\"\")","v":""},null,{"$f":"IF(F210=\"\",\"\",IF(AND(C210<>\"\",OR(D210<E210,AND(D210>E210,C516<>\"\"))),ColTime(Data!$J$6,Data!$L$6,D210,E210),\"\"))","v":""}]
["2020-07-24","Fr","",null,null,"",null,null,null,{"$f":"IF(OR(AND(C211<>\"\",D211>E211,WEEKDAY(A211,2)=5),AND(C211=\"\",WEEKDAY(A211,2)>5)),IF(D211=\"\",\"\",ColTime(Data!$J$3,Data!$L$3,D211,E211)),\"\")","v":""},"","",{"$f":"IFERROR(IF(AND(C211=\"\",WEEKDAY(A211,2)>5),IF(D211=\"\",\"\",(IF(E211-MAX(D211,(15/24))+(E211<D211)<0,0,E211-MAX(D211,(15/24))+($E211<D211)))-(IF((E211-MAX(D211,(23/24))+(E211<D211))<0,0,(E211-MAX(D211,(23/24))+(E211<D211))))),o),\"\")","v":""},"","","","",{"$f":"IFERROR(IF(OR(AND(C211=\"\",D211<E211,OR(WEEKDAY(A211,2)=1,WEEKDAY(A211,2)>=6)),AND(C211=\"\",D211>E211,OR(WEEKDAY(A211,2)>=5)),AND(C211<>\"\",D211>E211,WEEKDAY(A211,2)>=5)),ColTime(Data!$J$6,Data!$L$6,D211,E211),\"\"),\"\")","v":""},{"$f":"IFERROR(IF(OR(AND(WEEKDAY(A211,2)>1,WEEKDAY(A211,2)<6,D211<E211,C211=\"\"),AND(C211=\"\",WEEKDAY(A211,2)=1,E211<D211),AND(C211<>\"\",D211<E211,WEEKDAY(A211,2)>1,WEEKDAY(A211,2)<4),AND(C211<>\"\",D211>E211,WEEKDAY(A211,2)=1)),ColTime(Data!$J$6,Data!$L$6,D211,E211),\"\"),\"\")","v":""},null,{"$f":"IF(F211=\"\",\"\",IF(AND(C211<>\"\",OR(D211<E211,AND(D211>E211,C517<>\"\"))),ColTime(Data!$J$6,Data!$L$6,D211,E211),\"\"))","v":""}]
["2020-07-25","Lø","",null,null,"",null,null,null,{"$f":"IF(OR(AND(C212<>\"\",D212>E212,WEEKDAY(A212,2)=5),AND(C212=\"\",WEEKDAY(A212,2)>5)),IF(D212=\"\",\"\",ColTime(Data!$J$3,Data!$L$3,D212,E212)),\"\")","v":""},"","",{"$f":"IFERROR(IF(AND(C212=\"\",WEEKDAY(A212,2)>5),IF(D212=\"\",\"\",(IF(E212-MAX(D212,(15/24))+(E212<D212)<0,0,E212-MAX(D212,(15/24))+($E212<D212)))-(IF((E212-MAX(D212,(23/24))+(E212<D212))<0,0,(E212-MAX(D212,(23/24))+(E212<D212))))),o),\"\")","v":""},"","","","",{"$f":"IFERROR(IF(OR(AND(C212=\"\",D212<E212,OR(WEEKDAY(A212,2)=1,WEEKDAY(A212,2)>=6)),AND(C212=\"\",D212>E212,OR(WEEKDAY(A212,2)>=5)),AND(C212<>\"\",D212>E212,WEEKDAY(A212,2)>=5)),ColTime(Data!$J$6,Data!$L$6,D212,E212),\"\"),\"\")","v":""},{"$f":"IFERROR(IF(OR(AND(WEEKDAY(A212,2)>1,WEEKDAY(A212,2)<6,D212<E212,C212=\"\"),AND(C212=\"\",WEEKDAY(A212,2)=1,E212<D212),AND(C212<>\"\",D212<E212,WEEKDAY(A212,2)>1,WEEKDAY(A212,2)<4),AND(C212<>\"\",D212>E212,WEEKDAY(A212,2)=1)),ColTime(Data!$J$6,Data!$L$6,D212,E212),\"\"),\"\")","v":""},null,{"$f":"IF(F212=\"\",\"\",IF(AND(C212<>\"\",OR(D212<E212,AND(D212>E212,C518<>\"\"))),ColTime(Data!$J$6,Data!$L$6,D212,E212),\"\"))","v":""}]
["2020-07-26","Sø","",null,null,"",null,null,null,{"$f":"IF(OR(AND(C213<>\"\",D213>E213,WEEKDAY(A213,2)=5),AND(C213=\"\",WEEKDAY(A213,2)>5)),IF(D213=\"\",\"\",ColTime(Data!$J$3,Data!$L$3,D213,E213)),\"\")","v":""},"","",{"$f":"IFERROR(IF(AND(C213=\"\",WEEKDAY(A213,2)>5),IF(D213=\"\",\"\",(IF(E213-MAX(D213,(15/24))+(E213<D213)<0,0,E213-MAX(D213,(15/24))+($E213<D213)))-(IF((E213-MAX(D213,(23/24))+(E213<D213))<0,0,(E213-MAX(D213,(23/24))+(E213<D213))))),o),\"\")","v":""},"","","","",{"$f":"IFERROR(IF(OR(AND(C213=\"\",D213<E213,OR(WEEKDAY(A213,2)=1,WEEKDAY(A213,2)>=6)),AND(C213=\"\",D213>E213,OR(WEEKDAY(A213,2)>=5)),AND(C213<>\"\",D213>E213,WEEKDAY(A213,2)>=5)),ColTime(Data!$J$6,Data!$L$6,D213,E213),\"\"),\"\")","v":""},{"$f":"IFERROR(IF(OR(AND(WEEKDAY(A213,2)>1,WEEKDAY(A213,2)<6,D213<E213,C213=\"\"),AND(C213=\"\",WEEKDAY(A213,2)=1,E213<D213),AND(C213<>\"\",D213<E213,WEEKDAY(A213,2)>1,WEEKDAY(A213,2)<4),AND(C213<>\"\",D213>E213,WEEKDAY(A213,2)=1)),ColTime(Data!$J$6,Data!$L$6,D213,E213),\"\"),\"\")","v":""},null,{"$f":"IF(F213=\"\",\"\",IF(AND(C213<>\"\",OR(D213<E213,AND(D213>E213,C519<>\"\"))),ColTime(Data!$J$6,Data!$L$6,D213,E213),\"\"))","v":""}]
["2020-07-27",{"$f":"PROPER(TEXT(A214,\"ddd\"))","v":"Ma"},{"$f":"HelligdagsNavn(A214,0,0)","v":""},null,null,{"$f":"IF(D214=\"\",\"\",(E214-D214)+(D214>E214))","v":""},null,null,null,{"$f":"IF(OR(AND(C214<>\"\",D214>E214,WEEKDAY(A214,2)=5),AND(C214=\"\",WEEKDAY(A214,2)>5)),IF(D214=\"\",\"\",ColTime(Data!$J$3,Data!$L$3,D214,E214)),\"\")","v":""},{"$f":"IF(C214<>\"\",IF(D214=\"\",\"\",(IF(E214-MAX(D214,(7/24))+(E214<D214)<0,0,E214-MAX(D214,(7/24))+(E214<D214)))-(IF((E214-MAX(D214,(15/24))+(E214<D214))<0,0,(E214-MAX(D214,(15/24))+(E214<D214))))),\"\")","v":""},{"$f":"IFERROR(IF(AND(C214=\"\",WEEKDAY(A214,2)<6),IF(D214=\"\",\"\",(IF(E214-MAX(D214,(15/24))+(E214<D214)<0,0,E214-MAX(D214,(15/24))+(E214<D214)))-(IF((E214-MAX(D214,(23/24))+(E214<D214))<0,0,(E214-MAX(D214,(23/24))+(E214<D214))))),\"\"),\"\")","v":""},{"$f":"IFERROR(IF(AND(C214=\"\",WEEKDAY(A214,2)>5),IF(D214=\"\",\"\",(IF(E214-MAX(D214,(15/24))+(E214<D214)<0,0,E214-MAX(D214,(15/24))+($E214<D214)))-(IF((E214-MAX(D214,(23/24))+(E214<D214))<0,0,(E214-MAX(D214,(23/24))+(E214<D214))))),o),\"\")","v":""},{"$f":"IF(C214<>\"\",IF(D214=\"\",\"\",(IF(E214-MAX(D214,(15/24))+(E214<D214)<0,0,E214-MAX(D214,(15/24))+(E214<D214)))-(IF((E214-MAX(D214,(23/24))+(E214<D214))<0,0,(E214-MAX(D214,(23/24))+(E214<D214))))),\"\")","v":""},{"$f":"IF(A214=\"\",\"\",IF(AND(C214=\"\",WEEKDAY(A214,2)<5),IF(D214=\"\",\"\",(IF(E214-MAX(D214,(23/24))+(E214<D214)<0,0,E214-MAX(D214,(23/24))+(E214<D214)))-(IF((E214-MAX(D214,(24/24))+(E214<D214))<0,0,(E214-MAX(D214,(24/24))+(E214<D214))))),\"\"))","v":""},{"$f":"IFERROR(IF(AND(C214=\"\",WEEKDAY(A214,2)>4),IF(D214=\"\",\"\",(IF(E214-MAX(D214,(23/24))+(E214<D214)<0,0,E214-MAX(D214,(23/24))+(E214<D214)))-(IF((E214-MAX(D214,(24/24))+(E214<D214))<0,0,(E214-MAX(D214,(24/24))+(E214<D214))))),\"\"),\"\")","v":""},"",{"$f":"IFERROR(IF(OR(AND(C214=\"\",D214<E214,OR(WEEKDAY(A214,2)=1,WEEKDAY(A214,2)>=6)),AND(C214=\"\",D214>E214,OR(WEEKDAY(A214,2)>=5)),AND(C214<>\"\",D214>E214,WEEKDAY(A214,2)>=5)),ColTime(Data!$J$6,Data!$L$6,D214,E214),\"\"),\"\")","v":""},{"$f":"IFERROR(IF(OR(AND(WEEKDAY(A214,2)>1,WEEKDAY(A214,2)<6,D214<E214,C214=\"\"),AND(C214=\"\",WEEKDAY(A214,2)=1,E214<D214),AND(C214<>\"\",D214<E214,WEEKDAY(A214,2)>1,WEEKDAY(A214,2)<4),AND(C214<>\"\",D214>E214,WEEKDAY(A214,2)=1)),ColTime(Data!$J$6,Data!$L$6,D214,E214),\"\"),\"\")","v":""},null,{"$f":"IF(F214=\"\",\"\",IF(AND(C214<>\"\",OR(D214<E214,AND(D214>E214,C520<>\"\"))),ColTime(Data!$J$6,Data!$L$6,D214,E214),\"\"))","v":""}]
["2020-07-28","Ti","",null,null,"",null,null,null,{"$f":"IF(OR(AND(C215<>\"\",D215>E215,WEEKDAY(A215,2)=5),AND(C215=\"\",WEEKDAY(A215,2)>5)),IF(D215=\"\",\"\",ColTime(Data!$J$3,Data!$L$3,D215,E215)),\"\")","v":""},"","",{"$f":"IFERROR(IF(AND(C215=\"\",WEEKDAY(A215,2)>5),IF(D215=\"\",\"\",(IF(E215-MAX(D215,(15/24))+(E215<D215)<0,0,E215-MAX(D215,(15/24))+($E215<D215)))-(IF((E215-MAX(D215,(23/24))+(E215<D215))<0,0,(E215-MAX(D215,(23/24))+(E215<D215))))),o),\"\")","v":""},"","","","",{"$f":"IFERROR(IF(OR(AND(C215=\"\",D215<E215,OR(WEEKDAY(A215,2)=1,WEEKDAY(A215,2)>=6)),AND(C215=\"\",D215>E215,OR(WEEKDAY(A215,2)>=5)),AND(C215<>\"\",D215>E215,WEEKDAY(A215,2)>=5)),ColTime(Data!$J$6,Data!$L$6,D215,E215),\"\"),\"\")","v":""},{"$f":"IFERROR(IF(OR(AND(WEEKDAY(A215,2)>1,WEEKDAY(A215,2)<6,D215<E215,C215=\"\"),AND(C215=\"\",WEEKDAY(A215,2)=1,E215<D215),AND(C215<>\"\",D215<E215,WEEKDAY(A215,2)>1,WEEKDAY(A215,2)<4),AND(C215<>\"\",D215>E215,WEEKDAY(A215,2)=1)),ColTime(Data!$J$6,Data!$L$6,D215,E215),\"\"),\"\")","v":""},null,{"$f":"IF(F215=\"\",\"\",IF(AND(C215<>\"\",OR(D215<E215,AND(D215>E215,C521<>\"\"))),ColTime(Data!$J$6,Data!$L$6,D215,E215),\"\"))","v":""}]
["2020-07-29","On","",null,null,"",null,null,null,{"$f":"IF(OR(AND(C216<>\"\",D216>E216,WEEKDAY(A216,2)=5),AND(C216=\"\",WEEKDAY(A216,2)>5)),IF(D216=\"\",\"\",ColTime(Data!$J$3,Data!$L$3,D216,E216)),\"\")","v":""},"","",{"$f":"IFERROR(IF(AND(C216=\"\",WEEKDAY(A216,2)>5),IF(D216=\"\",\"\",(IF(E216-MAX(D216,(15/24))+(E216<D216)<0,0,E216-MAX(D216,(15/24))+($E216<D216)))-(IF((E216-MAX(D216,(23/24))+(E216<D216))<0,0,(E216-MAX(D216,(23/24))+(E216<D216))))),o),\"\")","v":""},"","","","",{"$f":"IFERROR(IF(OR(AND(C216=\"\",D216<E216,OR(WEEKDAY(A216,2)=1,WEEKDAY(A216,2)>=6)),AND(C216=\"\",D216>E216,OR(WEEKDAY(A216,2)>=5)),AND(C216<>\"\",D216>E216,WEEKDAY(A216,2)>=5)),ColTime(Data!$J$6,Data!$L$6,D216,E216),\"\"),\"\")","v":""},{"$f":"IFERROR(IF(OR(AND(WEEKDAY(A216,2)>1,WEEKDAY(A216,2)<6,D216<E216,C216=\"\"),AND(C216=\"\",WEEKDAY(A216,2)=1,E216<D216),AND(C216<>\"\",D216<E216,WEEKDAY(A216,2)>1,WEEKDAY(A216,2)<4),AND(C216<>\"\",D216>E216,WEEKDAY(A216,2)=1)),ColTime(Data!$J$6,Data!$L$6,D216,E216),\"\"),\"\")","v":""},null,{"$f":"IF(F216=\"\",\"\",IF(AND(C216<>\"\",OR(D216<E216,AND(D216>E216,C522<>\"\"))),ColTime(Data!$J$6,Data!$L$6,D216,E216),\"\"))","v":""}]
["2020-07-30","To","",null,null,"",null,null,null,{"$f":"IF(OR(AND(C217<>\"\",D217>E217,WEEKDAY(A217,2)=5),AND(C217=\"\",WEEKDAY(A217,2)>5)),IF(D217=\"\",\"\",ColTime(Data!$J$3,Data!$L$3,D217,E217)),\"\")","v":""},"","",{"$f":"IFERROR(IF(AND(C217=\"\",WEEKDAY(A217,2)>5),IF(D217=\"\",\"\",(IF(E217-MAX(D217,(15/24))+(E217<D217)<0,0,E217-MAX(D217,(15/24))+($E217<D217)))-(IF((E217-MAX(D217,(23/24))+(E217<D217))<0,0,(E217-MAX(D217,(23/24))+(E217<D217))))),o),\"\")","v":""},"","","","",{"$f":"IFERROR(IF(OR(AND(C217=\"\",D217<E217,OR(WEEKDAY(A217,2)=1,WEEKDAY(A217,2)>=6)),AND(C217=\"\",D217>E217,OR(WEEKDAY(A217,2)>=5)),AND(C217<>\"\",D217>E217,WEEKDAY(A217,2)>=5)),ColTime(Data!$J$6,Data!$L$6,D217,E217),\"\"),\"\")","v":""},{"$f":"IFERROR(IF(OR(AND(WEEKDAY(A217,2)>1,WEEKDAY(A217,2)<6,D217<E217,C217=\"\"),AND(C217=\"\",WEEKDAY(A217,2)=1,E217<D217),AND(C217<>\"\",D217<E217,WEEKDAY(A217,2)>1,WEEKDAY(A217,2)<4),AND(C217<>\"\",D217>E217,WEEKDAY(A217,2)=1)),ColTime(Data!$J$6,Data!$L$6,D217,E217),\"\"),\"\")","v":""},null,{"$f":"IF(F217=\"\",\"\",IF(AND(C217<>\"\",OR(D217<E217,AND(D217>E217,C523<>\"\"))),ColTime(Data!$J$6,Data!$L$6,D217,E217),\"\"))","v":""}]
["2020-07-31","Fr","",null,null,"",null,null,null,{"$f":"IF(OR(AND(C218<>\"\",D218>E218,WEEKDAY(A218,2)=5),AND(C218=\"\",WEEKDAY(A218,2)>5)),IF(D218=\"\",\"\",ColTime(Data!$J$3,Data!$L$3,D218,E218)),\"\")","v":""},"","",{"$f":"IFERROR(IF(AND(C218=\"\",WEEKDAY(A218,2)>5),IF(D218=\"\",\"\",(IF(E218-MAX(D218,(15/24))+(E218<D218)<0,0,E218-MAX(D218,(15/24))+($E218<D218)))-(IF((E218-MAX(D218,(23/24))+(E218<D218))<0,0,(E218-MAX(D218,(23/24))+(E218<D218))))),o),\"\")","v":""},"","","","",{"$f":"IFERROR(IF(OR(AND(C218=\"\",D218<E218,OR(WEEKDAY(A218,2)=1,WEEKDAY(A218,2)>=6)),AND(C218=\"\",D218>E218,OR(WEEKDAY(A218,2)>=5)),AND(C218<>\"\",D218>E218,WEEKDAY(A218,2)>=5)),ColTime(Data!$J$6,Data!$L$6,D218,E218),\"\"),\"\")","v":""},{"$f":"IFERROR(IF(OR(AND(WEEKDAY(A218,2)>1,WEEKDAY(A218,2)<6,D218<E218,C218=\"\"),AND(C218=\"\",WEEKDAY(A218,2)=1,E218<D218),AND(C218<>\"\",D218<E218,WEEKDAY(A218,2)>1,WEEKDAY(A218,2)<4),AND(C218<>\"\",D218>E218,WEEKDAY(A218,2)=1)),ColTime(Data!$J$6,Data!$L$6,D218,E218),\"\"),\"\")","v":""},null,{"$f":"IF(F218=\"\",\"\",IF(AND(C218<>\"\",OR(D218<E218,AND(D218>E218,C524<>\"\"))),ColTime(Data!$J$6,Data!$L$6,D218,E218),\"\"))","v":""}]
["2020-08-01","Lø","",null,null,"",null,null,null,{"$f":"IF(OR(AND(C219<>\"\",D219>E219,WEEKDAY(A219,2)=5),AND(C219=\"\",WEEKDAY(A219,2)>5)),IF(D219=\"\",\"\",ColTime(Data!$J$3,Data!$L$3,D219,E219)),\"\")","v":""},"","",{"$f":"IFERROR(IF(AND(C219=\"\",WEEKDAY(A219,2)>5),IF(D219=\"\",\"\",(IF(E219-MAX(D219,(15/24))+(E219<D219)<0,0,E219-MAX(D219,(15/24))+($E219<D219)))-(IF((E219-MAX(D219,(23/24))+(E219<D219))<0,0,(E219-MAX(D219,(23/24))+(E219<D219))))),o),\"\")","v":""},"","","","",{"$f":"IFERROR(IF(OR(AND(C219=\"\",D219<E219,OR(WEEKDAY(A219,2)=1,WEEKDAY(A219,2)>=6)),AND(C219=\"\",D219>E219,OR(WEEKDAY(A219,2)>=5)),AND(C219<>\"\",D219>E219,WEEKDAY(A219,2)>=5)),ColTime(Data!$J$6,Data!$L$6,D219,E219),\"\"),\"\")","v":""},{"$f":"IFERROR(IF(OR(AND(WEEKDAY(A219,2)>1,WEEKDAY(A219,2)<6,D219<E219,C219=\"\"),AND(C219=\"\",WEEKDAY(A219,2)=1,E219<D219),AND(C219<>\"\",D219<E219,WEEKDAY(A219,2)>1,WEEKDAY(A219,2)<4),AND(C219<>\"\",D219>E219,WEEKDAY(A219,2)=1)),ColTime(Data!$J$6,Data!$L$6,D219,E219),\"\"),\"\")","v":""},null,{"$f":"IF(F219=\"\",\"\",IF(AND(C219<>\"\",OR(D219<E219,AND(D219>E219,C525<>\"\"))),ColTime(Data!$J$6,Data!$L$6,D219,E219),\"\"))","v":""}]
["2020-08-02","Sø","",null,null,"",null,null,null,{"$f":"IF(OR(AND(C220<>\"\",D220>E220,WEEKDAY(A220,2)=5),AND(C220=\"\",WEEKDAY(A220,2)>5)),IF(D220=\"\",\"\",ColTime(Data!$J$3,Data!$L$3,D220,E220)),\"\")","v":""},"","",{"$f":"IFERROR(IF(AND(C220=\"\",WEEKDAY(A220,2)>5),IF(D220=\"\",\"\",(IF(E220-MAX(D220,(15/24))+(E220<D220)<0,0,E220-MAX(D220,(15/24))+($E220<D220)))-(IF((E220-MAX(D220,(23/24))+(E220<D220))<0,0,(E220-MAX(D220,(23/24))+(E220<D220))))),o),\"\")","v":""},"","","","",{"$f":"IFERROR(IF(OR(AND(C220=\"\",D220<E220,OR(WEEKDAY(A220,2)=1,WEEKDAY(A220,2)>=6)),AND(C220=\"\",D220>E220,OR(WEEKDAY(A220,2)>=5)),AND(C220<>\"\",D220>E220,WEEKDAY(A220,2)>=5)),ColTime(Data!$J$6,Data!$L$6,D220,E220),\"\"),\"\")","v":""},{"$f":"IFERROR(IF(OR(AND(WEEKDAY(A220,2)>1,WEEKDAY(A220,2)<6,D220<E220,C220=\"\"),AND(C220=\"\",WEEKDAY(A220,2)=1,E220<D220),AND(C220<>\"\",D220<E220,WEEKDAY(A220,2)>1,WEEKDAY(A220,2)<4),AND(C220<>\"\",D220>E220,WEEKDAY(A220,2)=1)),ColTime(Data!$J$6,Data!$L$6,D220,E220),\"\"),\"\")","v":""},null,{"$f":"IF(F220=\"\",\"\",IF(AND(C220<>\"\",OR(D220<E220,AND(D220>E220,C526<>\"\"))),ColTime(Data!$J$6,Data!$L$6,D220,E220),\"\"))","v":""}]
["2020-08-03","Ma","",null,null,"",null,null,null,{"$f":"IF(OR(AND(C221<>\"\",D221>E221,WEEKDAY(A221,2)=5),AND(C221=\"\",WEEKDAY(A221,2)>5)),IF(D221=\"\",\"\",ColTime(Data!$J$3,Data!$L$3,D221,E221)),\"\")","v":""},"","",{"$f":"IFERROR(IF(AND(C221=\"\",WEEKDAY(A221,2)>5),IF(D221=\"\",\"\",(IF(E221-MAX(D221,(15/24))+(E221<D221)<0,0,E221-MAX(D221,(15/24))+($E221<D221)))-(IF((E221-MAX(D221,(23/24))+(E221<D221))<0,0,(E221-MAX(D221,(23/24))+(E221<D221))))),o),\"\")","v":""},"","","","",{"$f":"IFERROR(IF(OR(AND(C221=\"\",D221<E221,OR(WEEKDAY(A221,2)=1,WEEKDAY(A221,2)>=6)),AND(C221=\"\",D221>E221,OR(WEEKDAY(A221,2)>=5)),AND(C221<>\"\",D221>E221,WEEKDAY(A221,2)>=5)),ColTime(Data!$J$6,Data!$L$6,D221,E221),\"\"),\"\")","v":""},{"$f":"IFERROR(IF(OR(AND(WEEKDAY(A221,2)>1,WEEKDAY(A221,2)<6,D221<E221,C221=\"\"),AND(C221=\"\",WEEKDAY(A221,2)=1,E221<D221),AND(C221<>\"\",D221<E221,WEEKDAY(A221,2)>1,WEEKDAY(A221,2)<4),AND(C221<>\"\",D221>E221,WEEKDAY(A221,2)=1)),ColTime(Data!$J$6,Data!$L$6,D221,E221),\"\"),\"\")","v":""},null,{"$f":"IF(F221=\"\",\"\",IF(AND(C221<>\"\",OR(D221<E221,AND(D221>E221,C527<>\"\"))),ColTime(Data!$J$6,Data!$L$6,D221,E221),\"\"))","v":""}]
["2020-08-04","Ti","",null,null,"",null,null,null,{"$f":"IF(OR(AND(C222<>\"\",D222>E222,WEEKDAY(A222,2)=5),AND(C222=\"\",WEEKDAY(A222,2)>5)),IF(D222=\"\",\"\",ColTime(Data!$J$3,Data!$L$3,D222,E222)),\"\")","v":""},"","",{"$f":"IFERROR(IF(AND(C222=\"\",WEEKDAY(A222,2)>5),IF(D222=\"\",\"\",(IF(E222-MAX(D222,(15/24))+(E222<D222)<0,0,E222-MAX(D222,(15/24))+($E222<D222)))-(IF((E222-MAX(D222,(23/24))+(E222<D222))<0,0,(E222-MAX(D222,(23/24))+(E222<D222))))),o),\"\")","v":""},"","","","",{"$f":"IFERROR(IF(OR(AND(C222=\"\",D222<E222,OR(WEEKDAY(A222,2)=1,WEEKDAY(A222,2)>=6)),AND(C222=\"\",D222>E222,OR(WEEKDAY(A222,2)>=5)),AND(C222<>\"\",D222>E222,WEEKDAY(A222,2)>=5)),ColTime(Data!$J$6,Data!$L$6,D222,E222),\"\"),\"\")","v":""},{"$f":"IFERROR(IF(OR(AND(WEEKDAY(A222,2)>1,WEEKDAY(A222,2)<6,D222<E222,C222=\"\"),AND(C222=\"\",WEEKDAY(A222,2)=1,E222<D222),AND(C222<>\"\",D222<E222,WEEKDAY(A222,2)>1,WEEKDAY(A222,2)<4),AND(C222<>\"\",D222>E222,WEEKDAY(A222,2)=1)),ColTime(Data!$J$6,Data!$L$6,D222,E222),\"\"),\"\")","v":""},null,{"$f":"IF(F222=\"\",\"\",IF(AND(C222<>\"\",OR(D222<E222,AND(D222>E222,C528<>\"\"))),ColTime(Data!$J$6,Data!$L$6,D222,E222),\"\"))","v":""}]
["2020-08-05","On","",null,null,"",null,null,null,{"$f":"IF(OR(AND(C223<>\"\",D223>E223,WEEKDAY(A223,2)=5),AND(C223=\"\",WEEKDAY(A223,2)>5)),IF(D223=\"\",\"\",ColTime(Data!$J$3,Data!$L$3,D223,E223)),\"\")","v":""},"","",{"$f":"IFERROR(IF(AND(C223=\"\",WEEKDAY(A223,2)>5),IF(D223=\"\",\"\",(IF(E223-MAX(D223,(15/24))+(E223<D223)<0,0,E223-MAX(D223,(15/24))+($E223<D223)))-(IF((E223-MAX(D223,(23/24))+(E223<D223))<0,0,(E223-MAX(D223,(23/24))+(E223<D223))))),o),\"\")","v":""},"","","","",{"$f":"IFERROR(IF(OR(AND(C223=\"\",D223<E223,OR(WEEKDAY(A223,2)=1,WEEKDAY(A223,2)>=6)),AND(C223=\"\",D223>E223,OR(WEEKDAY(A223,2)>=5)),AND(C223<>\"\",D223>E223,WEEKDAY(A223,2)>=5)),ColTime(Data!$J$6,Data!$L$6,D223,E223),\"\"),\"\")","v":""},{"$f":"IFERROR(IF(OR(AND(WEEKDAY(A223,2)>1,WEEKDAY(A223,2)<6,D223<E223,C223=\"\"),AND(C223=\"\",WEEKDAY(A223,2)=1,E223<D223),AND(C223<>\"\",D223<E223,WEEKDAY(A223,2)>1,WEEKDAY(A223,2)<4),AND(C223<>\"\",D223>E223,WEEKDAY(A223,2)=1)),ColTime(Data!$J$6,Data!$L$6,D223,E223),\"\"),\"\")","v":""},null,{"$f":"IF(F223=\"\",\"\",IF(AND(C223<>\"\",OR(D223<E223,AND(D223>E223,C529<>\"\"))),ColTime(Data!$J$6,Data!$L$6,D223,E223),\"\"))","v":""}]
["2020-08-06","To","",null,null,"",null,null,null,{"$f":"IF(OR(AND(C224<>\"\",D224>E224,WEEKDAY(A224,2)=5),AND(C224=\"\",WEEKDAY(A224,2)>5)),IF(D224=\"\",\"\",ColTime(Data!$J$3,Data!$L$3,D224,E224)),\"\")","v":""},"","",{"$f":"IFERROR(IF(AND(C224=\"\",WEEKDAY(A224,2)>5),IF(D224=\"\",\"\",(IF(E224-MAX(D224,(15/24))+(E224<D224)<0,0,E224-MAX(D224,(15/24))+($E224<D224)))-(IF((E224-MAX(D224,(23/24))+(E224<D224))<0,0,(E224-MAX(D224,(23/24))+(E224<D224))))),o),\"\")","v":""},"","","","",{"$f":"IFERROR(IF(OR(AND(C224=\"\",D224<E224,OR(WEEKDAY(A224,2)=1,WEEKDAY(A224,2)>=6)),AND(C224=\"\",D224>E224,OR(WEEKDAY(A224,2)>=5)),AND(C224<>\"\",D224>E224,WEEKDAY(A224,2)>=5)),ColTime(Data!$J$6,Data!$L$6,D224,E224),\"\"),\"\")","v":""},{"$f":"IFERROR(IF(OR(AND(WEEKDAY(A224,2)>1,WEEKDAY(A224,2)<6,D224<E224,C224=\"\"),AND(C224=\"\",WEEKDAY(A224,2)=1,E224<D224),AND(C224<>\"\",D224<E224,WEEKDAY(A224,2)>1,WEEKDAY(A224,2)<4),AND(C224<>\"\",D224>E224,WEEKDAY(A224,2)=1)),ColTime(Data!$J$6,Data!$L$6,D224,E224),\"\"),\"\")","v":""},null,{"$f":"IF(F224=\"\",\"\",IF(AND(C224<>\"\",OR(D224<E224,AND(D224>E224,C530<>\"\"))),ColTime(Data!$J$6,Data!$L$6,D224,E224),\"\"))","v":""}]
["2020-08-07","Fr","",null,null,"",null,null,null,{"$f":"IF(OR(AND(C225<>\"\",D225>E225,WEEKDAY(A225,2)=5),AND(C225=\"\",WEEKDAY(A225,2)>5)),IF(D225=\"\",\"\",ColTime(Data!$J$3,Data!$L$3,D225,E225)),\"\")","v":""},"","",{"$f":"IFERROR(IF(AND(C225=\"\",WEEKDAY(A225,2)>5),IF(D225=\"\",\"\",(IF(E225-MAX(D225,(15/24))+(E225<D225)<0,0,E225-MAX(D225,(15/24))+($E225<D225)))-(IF((E225-MAX(D225,(23/24))+(E225<D225))<0,0,(E225-MAX(D225,(23/24))+(E225<D225))))),o),\"\")","v":""},"","","","",{"$f":"IFERROR(IF(OR(AND(C225=\"\",D225<E225,OR(WEEKDAY(A225,2)=1,WEEKDAY(A225,2)>=6)),AND(C225=\"\",D225>E225,OR(WEEKDAY(A225,2)>=5)),AND(C225<>\"\",D225>E225,WEEKDAY(A225,2)>=5)),ColTime(Data!$J$6,Data!$L$6,D225,E225),\"\"),\"\")","v":""},{"$f":"IFERROR(IF(OR(AND(WEEKDAY(A225,2)>1,WEEKDAY(A225,2)<6,D225<E225,C225=\"\"),AND(C225=\"\",WEEKDAY(A225,2)=1,E225<D225),AND(C225<>\"\",D225<E225,WEEKDAY(A225,2)>1,WEEKDAY(A225,2)<4),AND(C225<>\"\",D225>E225,WEEKDAY(A225,2)=1)),ColTime(Data!$J$6,Data!$L$6,D225,E225),\"\"),\"\")","v":""},null,{"$f":"IF(F225=\"\",\"\",IF(AND(C225<>\"\",OR(D225<E225,AND(D225>E225,C531<>\"\"))),ColTime(Data!$J$6,Data!$L$6,D225,E225),\"\"))","v":""}]
["2020-08-08","Lø","",null,null,"",null,null,null,{"$f":"IF(OR(AND(C226<>\"\",D226>E226,WEEKDAY(A226,2)=5),AND(C226=\"\",WEEKDAY(A226,2)>5)),IF(D226=\"\",\"\",ColTime(Data!$J$3,Data!$L$3,D226,E226)),\"\")","v":""},"","",{"$f":"IFERROR(IF(AND(C226=\"\",WEEKDAY(A226,2)>5),IF(D226=\"\",\"\",(IF(E226-MAX(D226,(15/24))+(E226<D226)<0,0,E226-MAX(D226,(15/24))+($E226<D226)))-(IF((E226-MAX(D226,(23/24))+(E226<D226))<0,0,(E226-MAX(D226,(23/24))+(E226<D226))))),o),\"\")","v":""},"","","","",{"$f":"IFERROR(IF(OR(AND(C226=\"\",D226<E226,OR(WEEKDAY(A226,2)=1,WEEKDAY(A226,2)>=6)),AND(C226=\"\",D226>E226,OR(WEEKDAY(A226,2)>=5)),AND(C226<>\"\",D226>E226,WEEKDAY(A226,2)>=5)),ColTime(Data!$J$6,Data!$L$6,D226,E226),\"\"),\"\")","v":""},{"$f":"IFERROR(IF(OR(AND(WEEKDAY(A226,2)>1,WEEKDAY(A226,2)<6,D226<E226,C226=\"\"),AND(C226=\"\",WEEKDAY(A226,2)=1,E226<D226),AND(C226<>\"\",D226<E226,WEEKDAY(A226,2)>1,WEEKDAY(A226,2)<4),AND(C226<>\"\",D226>E226,WEEKDAY(A226,2)=1)),ColTime(Data!$J$6,Data!$L$6,D226,E226),\"\"),\"\")","v":""},null,{"$f":"IF(F226=\"\",\"\",IF(AND(C226<>\"\",OR(D226<E226,AND(D226>E226,C532<>\"\"))),ColTime(Data!$J$6,Data!$L$6,D226,E226),\"\"))","v":""}]
["2020-08-09","Sø","",null,null,"",null,null,null,{"$f":"IF(OR(AND(C227<>\"\",D227>E227,WEEKDAY(A227,2)=5),AND(C227=\"\",WEEKDAY(A227,2)>5)),IF(D227=\"\",\"\",ColTime(Data!$J$3,Data!$L$3,D227,E227)),\"\")","v":""},"","",{"$f":"IFERROR(IF(AND(C227=\"\",WEEKDAY(A227,2)>5),IF(D227=\"\",\"\",(IF(E227-MAX(D227,(15/24))+(E227<D227)<0,0,E227-MAX(D227,(15/24))+($E227<D227)))-(IF((E227-MAX(D227,(23/24))+(E227<D227))<0,0,(E227-MAX(D227,(23/24))+(E227<D227))))),o),\"\")","v":""},"","","","",{"$f":"IFERROR(IF(OR(AND(C227=\"\",D227<E227,OR(WEEKDAY(A227,2)=1,WEEKDAY(A227,2)>=6)),AND(C227=\"\",D227>E227,OR(WEEKDAY(A227,2)>=5)),AND(C227<>\"\",D227>E227,WEEKDAY(A227,2)>=5)),ColTime(Data!$J$6,Data!$L$6,D227,E227),\"\"),\"\")","v":""},{"$f":"IFERROR(IF(OR(AND(WEEKDAY(A227,2)>1,WEEKDAY(A227,2)<6,D227<E227,C227=\"\"),AND(C227=\"\",WEEKDAY(A227,2)=1,E227<D227),AND(C227<>\"\",D227<E227,WEEKDAY(A227,2)>1,WEEKDAY(A227,2)<4),AND(C227<>\"\",D227>E227,WEEKDAY(A227,2)=1)),ColTime(Data!$J$6,Data!$L$6,D227,E227),\"\"),\"\")","v":""},null,{"$f":"IF(F227=\"\",\"\",IF(AND(C227<>\"\",OR(D227<E227,AND(D227>E227,C533<>\"\"))),ColTime(Data!$J$6,Data!$L$6,D227,E227),\"\"))","v":""}]
["2020-08-10","Ma","",null,null,"",null,null,null,{"$f":"IF(OR(AND(C228<>\"\",D228>E228,WEEKDAY(A228,2)=5),AND(C228=\"\",WEEKDAY(A228,2)>5)),IF(D228=\"\",\"\",ColTime(Data!$J$3,Data!$L$3,D228,E228)),\"\")","v":""},"","",{"$f":"IFERROR(IF(AND(C228=\"\",WEEKDAY(A228,2)>5),IF(D228=\"\",\"\",(IF(E228-MAX(D228,(15/24))+(E228<D228)<0,0,E228-MAX(D228,(15/24))+($E228<D228)))-(IF((E228-MAX(D228,(23/24))+(E228<D228))<0,0,(E228-MAX(D228,(23/24))+(E228<D228))))),o),\"\")","v":""},"","","","",{"$f":"IFERROR(IF(OR(AND(C228=\"\",D228<E228,OR(WEEKDAY(A228,2)=1,WEEKDAY(A228,2)>=6)),AND(C228=\"\",D228>E228,OR(WEEKDAY(A228,2)>=5)),AND(C228<>\"\",D228>E228,WEEKDAY(A228,2)>=5)),ColTime(Data!$J$6,Data!$L$6,D228,E228),\"\"),\"\")","v":""},{"$f":"IFERROR(IF(OR(AND(WEEKDAY(A228,2)>1,WEEKDAY(A228,2)<6,D228<E228,C228=\"\"),AND(C228=\"\",WEEKDAY(A228,2)=1,E228<D228),AND(C228<>\"\",D228<E228,WEEKDAY(A228,2)>1,WEEKDAY(A228,2)<4),AND(C228<>\"\",D228>E228,WEEKDAY(A228,2)=1)),ColTime(Data!$J$6,Data!$L$6,D228,E228),\"\"),\"\")","v":""},null,{"$f":"IF(F228=\"\",\"\",IF(AND(C228<>\"\",OR(D228<E228,AND(D228>E228,C534<>\"\"))),ColTime(Data!$J$6,Data!$L$6,D228,E228),\"\"))","v":""}]
["2020-08-11","Ti","",null,null,"",null,null,null,{"$f":"IF(OR(AND(C229<>\"\",D229>E229,WEEKDAY(A229,2)=5),AND(C229=\"\",WEEKDAY(A229,2)>5)),IF(D229=\"\",\"\",ColTime(Data!$J$3,Data!$L$3,D229,E229)),\"\")","v":""},"","",{"$f":"IFERROR(IF(AND(C229=\"\",WEEKDAY(A229,2)>5),IF(D229=\"\",\"\",(IF(E229-MAX(D229,(15/24))+(E229<D229)<0,0,E229-MAX(D229,(15/24))+($E229<D229)))-(IF((E229-MAX(D229,(23/24))+(E229<D229))<0,0,(E229-MAX(D229,(23/24))+(E229<D229))))),o),\"\")","v":""},"","","","",{"$f":"IFERROR(IF(OR(AND(C229=\"\",D229<E229,OR(WEEKDAY(A229,2)=1,WEEKDAY(A229,2)>=6)),AND(C229=\"\",D229>E229,OR(WEEKDAY(A229,2)>=5)),AND(C229<>\"\",D229>E229,WEEKDAY(A229,2)>=5)),ColTime(Data!$J$6,Data!$L$6,D229,E229),\"\"),\"\")","v":""},{"$f":"IFERROR(IF(OR(AND(WEEKDAY(A229,2)>1,WEEKDAY(A229,2)<6,D229<E229,C229=\"\"),AND(C229=\"\",WEEKDAY(A229,2)=1,E229<D229),AND(C229<>\"\",D229<E229,WEEKDAY(A229,2)>1,WEEKDAY(A229,2)<4),AND(C229<>\"\",D229>E229,WEEKDAY(A229,2)=1)),ColTime(Data!$J$6,Data!$L$6,D229,E229),\"\"),\"\")","v":""},null,{"$f":"IF(F229=\"\",\"\",IF(AND(C229<>\"\",OR(D229<E229,AND(D229>E229,C535<>\"\"))),ColTime(Data!$J$6,Data!$L$6,D229,E229),\"\"))","v":""}]
["2020-08-12","On","",null,null,"",null,null,null,{"$f":"IF(OR(AND(C230<>\"\",D230>E230,WEEKDAY(A230,2)=5),AND(C230=\"\",WEEKDAY(A230,2)>5)),IF(D230=\"\",\"\",ColTime(Data!$J$3,Data!$L$3,D230,E230)),\"\")","v":""},"","",{"$f":"IFERROR(IF(AND(C230=\"\",WEEKDAY(A230,2)>5),IF(D230=\"\",\"\",(IF(E230-MAX(D230,(15/24))+(E230<D230)<0,0,E230-MAX(D230,(15/24))+($E230<D230)))-(IF((E230-MAX(D230,(23/24))+(E230<D230))<0,0,(E230-MAX(D230,(23/24))+(E230<D230))))),o),\"\")","v":""},"","","","",{"$f":"IFERROR(IF(OR(AND(C230=\"\",D230<E230,OR(WEEKDAY(A230,2)=1,WEEKDAY(A230,2)>=6)),AND(C230=\"\",D230>E230,OR(WEEKDAY(A230,2)>=5)),AND(C230<>\"\",D230>E230,WEEKDAY(A230,2)>=5)),ColTime(Data!$J$6,Data!$L$6,D230,E230),\"\"),\"\")","v":""},{"$f":"IFERROR(IF(OR(AND(WEEKDAY(A230,2)>1,WEEKDAY(A230,2)<6,D230<E230,C230=\"\"),AND(C230=\"\",WEEKDAY(A230,2)=1,E230<D230),AND(C230<>\"\",D230<E230,WEEKDAY(A230,2)>1,WEEKDAY(A230,2)<4),AND(C230<>\"\",D230>E230,WEEKDAY(A230,2)=1)),ColTime(Data!$J$6,Data!$L$6,D230,E230),\"\"),\"\")","v":""},null,{"$f":"IF(F230=\"\",\"\",IF(AND(C230<>\"\",OR(D230<E230,AND(D230>E230,C536<>\"\"))),ColTime(Data!$J$6,Data!$L$6,D230,E230),\"\"))","v":""}]
["2020-08-13","To","",null,null,"",null,null,null,{"$f":"IF(OR(AND(C231<>\"\",D231>E231,WEEKDAY(A231,2)=5),AND(C231=\"\",WEEKDAY(A231,2)>5)),IF(D231=\"\",\"\",ColTime(Data!$J$3,Data!$L$3,D231,E231)),\"\")","v":""},"","",{"$f":"IFERROR(IF(AND(C231=\"\",WEEKDAY(A231,2)>5),IF(D231=\"\",\"\",(IF(E231-MAX(D231,(15/24))+(E231<D231)<0,0,E231-MAX(D231,(15/24))+($E231<D231)))-(IF((E231-MAX(D231,(23/24))+(E231<D231))<0,0,(E231-MAX(D231,(23/24))+(E231<D231))))),o),\"\")","v":""},"","","","",{"$f":"IFERROR(IF(OR(AND(C231=\"\",D231<E231,OR(WEEKDAY(A231,2)=1,WEEKDAY(A231,2)>=6)),AND(C231=\"\",D231>E231,OR(WEEKDAY(A231,2)>=5)),AND(C231<>\"\",D231>E231,WEEKDAY(A231,2)>=5)),ColTime(Data!$J$6,Data!$L$6,D231,E231),\"\"),\"\")","v":""},{"$f":"IFERROR(IF(OR(AND(WEEKDAY(A231,2)>1,WEEKDAY(A231,2)<6,D231<E231,C231=\"\"),AND(C231=\"\",WEEKDAY(A231,2)=1,E231<D231),AND(C231<>\"\",D231<E231,WEEKDAY(A231,2)>1,WEEKDAY(A231,2)<4),AND(C231<>\"\",D231>E231,WEEKDAY(A231,2)=1)),ColTime(Data!$J$6,Data!$L$6,D231,E231),\"\"),\"\")","v":""},null,{"$f":"IF(F231=\"\",\"\",IF(AND(C231<>\"\",OR(D231<E231,AND(D231>E231,C537<>\"\"))),ColTime(Data!$J$6,Data!$L$6,D231,E231),\"\"))","v":""}]
["2020-08-14","Fr","",null,null,"",null,null,null,{"$f":"IF(OR(AND(C232<>\"\",D232>E232,WEEKDAY(A232,2)=5),AND(C232=\"\",WEEKDAY(A232,2)>5)),IF(D232=\"\",\"\",ColTime(Data!$J$3,Data!$L$3,D232,E232)),\"\")","v":""},"","",{"$f":"IFERROR(IF(AND(C232=\"\",WEEKDAY(A232,2)>5),IF(D232=\"\",\"\",(IF(E232-MAX(D232,(15/24))+(E232<D232)<0,0,E232-MAX(D232,(15/24))+($E232<D232)))-(IF((E232-MAX(D232,(23/24))+(E232<D232))<0,0,(E232-MAX(D232,(23/24))+(E232<D232))))),o),\"\")","v":""},"","","","",{"$f":"IFERROR(IF(OR(AND(C232=\"\",D232<E232,OR(WEEKDAY(A232,2)=1,WEEKDAY(A232,2)>=6)),AND(C232=\"\",D232>E232,OR(WEEKDAY(A232,2)>=5)),AND(C232<>\"\",D232>E232,WEEKDAY(A232,2)>=5)),ColTime(Data!$J$6,Data!$L$6,D232,E232),\"\"),\"\")","v":""},{"$f":"IFERROR(IF(OR(AND(WEEKDAY(A232,2)>1,WEEKDAY(A232,2)<6,D232<E232,C232=\"\"),AND(C232=\"\",WEEKDAY(A232,2)=1,E232<D232),AND(C232<>\"\",D232<E232,WEEKDAY(A232,2)>1,WEEKDAY(A232,2)<4),AND(C232<>\"\",D232>E232,WEEKDAY(A232,2)=1)),ColTime(Data!$J$6,Data!$L$6,D232,E232),\"\"),\"\")","v":""},null,{"$f":"IF(F232=\"\",\"\",IF(AND(C232<>\"\",OR(D232<E232,AND(D232>E232,C538<>\"\"))),ColTime(Data!$J$6,Data!$L$6,D232,E232),\"\"))","v":""}]
["2020-08-15","Lø","",null,null,"",null,null,null,{"$f":"IF(OR(AND(C233<>\"\",D233>E233,WEEKDAY(A233,2)=5),AND(C233=\"\",WEEKDAY(A233,2)>5)),IF(D233=\"\",\"\",ColTime(Data!$J$3,Data!$L$3,D233,E233)),\"\")","v":""},"","",{"$f":"IFERROR(IF(AND(C233=\"\",WEEKDAY(A233,2)>5),IF(D233=\"\",\"\",(IF(E233-MAX(D233,(15/24))+(E233<D233)<0,0,E233-MAX(D233,(15/24))+($E233<D233)))-(IF((E233-MAX(D233,(23/24))+(E233<D233))<0,0,(E233-MAX(D233,(23/24))+(E233<D233))))),o),\"\")","v":""},"","","","",{"$f":"IFERROR(IF(OR(AND(C233=\"\",D233<E233,OR(WEEKDAY(A233,2)=1,WEEKDAY(A233,2)>=6)),AND(C233=\"\",D233>E233,OR(WEEKDAY(A233,2)>=5)),AND(C233<>\"\",D233>E233,WEEKDAY(A233,2)>=5)),ColTime(Data!$J$6,Data!$L$6,D233,E233),\"\"),\"\")","v":""},{"$f":"IFERROR(IF(OR(AND(WEEKDAY(A233,2)>1,WEEKDAY(A233,2)<6,D233<E233,C233=\"\"),AND(C233=\"\",WEEKDAY(A233,2)=1,E233<D233),AND(C233<>\"\",D233<E233,WEEKDAY(A233,2)>1,WEEKDAY(A233,2)<4),AND(C233<>\"\",D233>E233,WEEKDAY(A233,2)=1)),ColTime(Data!$J$6,Data!$L$6,D233,E233),\"\"),\"\")","v":""},null,{"$f":"IF(F233=\"\",\"\",IF(AND(C233<>\"\",OR(D233<E233,AND(D233>E233,C539<>\"\"))),ColTime(Data!$J$6,Data!$L$6,D233,E233),\"\"))","v":""}]
["2020-08-16","Sø","",null,null,"",null,null,null,{"$f":"IF(OR(AND(C234<>\"\",D234>E234,WEEKDAY(A234,2)=5),AND(C234=\"\",WEEKDAY(A234,2)>5)),IF(D234=\"\",\"\",ColTime(Data!$J$3,Data!$L$3,D234,E234)),\"\")","v":""},"","",{"$f":"IFERROR(IF(AND(C234=\"\",WEEKDAY(A234,2)>5),IF(D234=\"\",\"\",(IF(E234-MAX(D234,(15/24))+(E234<D234)<0,0,E234-MAX(D234,(15/24))+($E234<D234)))-(IF((E234-MAX(D234,(23/24))+(E234<D234))<0,0,(E234-MAX(D234,(23/24))+(E234<D234))))),o),\"\")","v":""},"","","","",{"$f":"IFERROR(IF(OR(AND(C234=\"\",D234<E234,OR(WEEKDAY(A234,2)=1,WEEKDAY(A234,2)>=6)),AND(C234=\"\",D234>E234,OR(WEEKDAY(A234,2)>=5)),AND(C234<>\"\",D234>E234,WEEKDAY(A234,2)>=5)),ColTime(Data!$J$6,Data!$L$6,D234,E234),\"\"),\"\")","v":""},{"$f":"IFERROR(IF(OR(AND(WEEKDAY(A234,2)>1,WEEKDAY(A234,2)<6,D234<E234,C234=\"\"),AND(C234=\"\",WEEKDAY(A234,2)=1,E234<D234),AND(C234<>\"\",D234<E234,WEEKDAY(A234,2)>1,WEEKDAY(A234,2)<4),AND(C234<>\"\",D234>E234,WEEKDAY(A234,2)=1)),ColTime(Data!$J$6,Data!$L$6,D234,E234),\"\"),\"\")","v":""},null,{"$f":"IF(F234=\"\",\"\",IF(AND(C234<>\"\",OR(D234<E234,AND(D234>E234,C540<>\"\"))),ColTime(Data!$J$6,Data!$L$6,D234,E234),\"\"))","v":""}]
["2020-08-17","Ma","",null,null,"",null,null,null,{"$f":"IF(OR(AND(C235<>\"\",D235>E235,WEEKDAY(A235,2)=5),AND(C235=\"\",WEEKDAY(A235,2)>5)),IF(D235=\"\",\"\",ColTime(Data!$J$3,Data!$L$3,D235,E235)),\"\")","v":""},"","",{"$f":"IFERROR(IF(AND(C235=\"\",WEEKDAY(A235,2)>5),IF(D235=\"\",\"\",(IF(E235-MAX(D235,(15/24))+(E235<D235)<0,0,E235-MAX(D235,(15/24))+($E235<D235)))-(IF((E235-MAX(D235,(23/24))+(E235<D235))<0,0,(E235-MAX(D235,(23/24))+(E235<D235))))),o),\"\")","v":""},"","","","",{"$f":"IFERROR(IF(OR(AND(C235=\"\",D235<E235,OR(WEEKDAY(A235,2)=1,WEEKDAY(A235,2)>=6)),AND(C235=\"\",D235>E235,OR(WEEKDAY(A235,2)>=5)),AND(C235<>\"\",D235>E235,WEEKDAY(A235,2)>=5)),ColTime(Data!$J$6,Data!$L$6,D235,E235),\"\"),\"\")","v":""},{"$f":"IFERROR(IF(OR(AND(WEEKDAY(A235,2)>1,WEEKDAY(A235,2)<6,D235<E235,C235=\"\"),AND(C235=\"\",WEEKDAY(A235,2)=1,E235<D235),AND(C235<>\"\",D235<E235,WEEKDAY(A235,2)>1,WEEKDAY(A235,2)<4),AND(C235<>\"\",D235>E235,WEEKDAY(A235,2)=1)),ColTime(Data!$J$6,Data!$L$6,D235,E235),\"\"),\"\")","v":""},null,{"$f":"IF(F235=\"\",\"\",IF(AND(C235<>\"\",OR(D235<E235,AND(D235>E235,C541<>\"\"))),ColTime(Data!$J$6,Data!$L$6,D235,E235),\"\"))","v":""}]
["2020-08-18","Ti","",null,null,"",null,null,null,{"$f":"IF(OR(AND(C236<>\"\",D236>E236,WEEKDAY(A236,2)=5),AND(C236=\"\",WEEKDAY(A236,2)>5)),IF(D236=\"\",\"\",ColTime(Data!$J$3,Data!$L$3,D236,E236)),\"\")","v":""},"","",{"$f":"IFERROR(IF(AND(C236=\"\",WEEKDAY(A236,2)>5),IF(D236=\"\",\"\",(IF(E236-MAX(D236,(15/24))+(E236<D236)<0,0,E236-MAX(D236,(15/24))+($E236<D236)))-(IF((E236-MAX(D236,(23/24))+(E236<D236))<0,0,(E236-MAX(D236,(23/24))+(E236<D236))))),o),\"\")","v":""},"","","","",{"$f":"IFERROR(IF(OR(AND(C236=\"\",D236<E236,OR(WEEKDAY(A236,2)=1,WEEKDAY(A236,2)>=6)),AND(C236=\"\",D236>E236,OR(WEEKDAY(A236,2)>=5)),AND(C236<>\"\",D236>E236,WEEKDAY(A236,2)>=5)),ColTime(Data!$J$6,Data!$L$6,D236,E236),\"\"),\"\")","v":""},{"$f":"IFERROR(IF(OR(AND(WEEKDAY(A236,2)>1,WEEKDAY(A236,2)<6,D236<E236,C236=\"\"),AND(C236=\"\",WEEKDAY(A236,2)=1,E236<D236),AND(C236<>\"\",D236<E236,WEEKDAY(A236,2)>1,WEEKDAY(A236,2)<4),AND(C236<>\"\",D236>E236,WEEKDAY(A236,2)=1)),ColTime(Data!$J$6,Data!$L$6,D236,E236),\"\"),\"\")","v":""},null,{"$f":"IF(F236=\"\",\"\",IF(AND(C236<>\"\",OR(D236<E236,AND(D236>E236,C542<>\"\"))),ColTime(Data!$J$6,Data!$L$6,D236,E236),\"\"))","v":""}]
["2020-08-19","On","",null,null,"",null,null,null,{"$f":"IF(OR(AND(C237<>\"\",D237>E237,WEEKDAY(A237,2)=5),AND(C237=\"\",WEEKDAY(A237,2)>5)),IF(D237=\"\",\"\",ColTime(Data!$J$3,Data!$L$3,D237,E237)),\"\")","v":""},"","",{"$f":"IFERROR(IF(AND(C237=\"\",WEEKDAY(A237,2)>5),IF(D237=\"\",\"\",(IF(E237-MAX(D237,(15/24))+(E237<D237)<0,0,E237-MAX(D237,(15/24))+($E237<D237)))-(IF((E237-MAX(D237,(23/24))+(E237<D237))<0,0,(E237-MAX(D237,(23/24))+(E237<D237))))),o),\"\")","v":""},"","","","",{"$f":"IFERROR(IF(OR(AND(C237=\"\",D237<E237,OR(WEEKDAY(A237,2)=1,WEEKDAY(A237,2)>=6)),AND(C237=\"\",D237>E237,OR(WEEKDAY(A237,2)>=5)),AND(C237<>\"\",D237>E237,WEEKDAY(A237,2)>=5)),ColTime(Data!$J$6,Data!$L$6,D237,E237),\"\"),\"\")","v":""},{"$f":"IFERROR(IF(OR(AND(WEEKDAY(A237,2)>1,WEEKDAY(A237,2)<6,D237<E237,C237=\"\"),AND(C237=\"\",WEEKDAY(A237,2)=1,E237<D237),AND(C237<>\"\",D237<E237,WEEKDAY(A237,2)>1,WEEKDAY(A237,2)<4),AND(C237<>\"\",D237>E237,WEEKDAY(A237,2)=1)),ColTime(Data!$J$6,Data!$L$6,D237,E237),\"\"),\"\")","v":""},null,{"$f":"IF(F237=\"\",\"\",IF(AND(C237<>\"\",OR(D237<E237,AND(D237>E237,C543<>\"\"))),ColTime(Data!$J$6,Data!$L$6,D237,E237),\"\"))","v":""}]
["2020-08-20","To","",null,null,"",null,null,null,{"$f":"IF(OR(AND(C238<>\"\",D238>E238,WEEKDAY(A238,2)=5),AND(C238=\"\",WEEKDAY(A238,2)>5)),IF(D238=\"\",\"\",ColTime(Data!$J$3,Data!$L$3,D238,E238)),\"\")","v":""},"","",{"$f":"IFERROR(IF(AND(C238=\"\",WEEKDAY(A238,2)>5),IF(D238=\"\",\"\",(IF(E238-MAX(D238,(15/24))+(E238<D238)<0,0,E238-MAX(D238,(15/24))+($E238<D238)))-(IF((E238-MAX(D238,(23/24))+(E238<D238))<0,0,(E238-MAX(D238,(23/24))+(E238<D238))))),o),\"\")","v":""},"","","","",{"$f":"IFERROR(IF(OR(AND(C238=\"\",D238<E238,OR(WEEKDAY(A238,2)=1,WEEKDAY(A238,2)>=6)),AND(C238=\"\",D238>E238,OR(WEEKDAY(A238,2)>=5)),AND(C238<>\"\",D238>E238,WEEKDAY(A238,2)>=5)),ColTime(Data!$J$6,Data!$L$6,D238,E238),\"\"),\"\")","v":""},{"$f":"IFERROR(IF(OR(AND(WEEKDAY(A238,2)>1,WEEKDAY(A238,2)<6,D238<E238,C238=\"\"),AND(C238=\"\",WEEKDAY(A238,2)=1,E238<D238),AND(C238<>\"\",D238<E238,WEEKDAY(A238,2)>1,WEEKDAY(A238,2)<4),AND(C238<>\"\",D238>E238,WEEKDAY(A238,2)=1)),ColTime(Data!$J$6,Data!$L$6,D238,E238),\"\"),\"\")","v":""},null,{"$f":"IF(F238=\"\",\"\",IF(AND(C238<>\"\",OR(D238<E238,AND(D238>E238,C544<>\"\"))),ColTime(Data!$J$6,Data!$L$6,D238,E238),\"\"))","v":""}]
["2020-08-21","Fr","",null,null,"",null,null,null,{"$f":"IF(OR(AND(C239<>\"\",D239>E239,WEEKDAY(A239,2)=5),AND(C239=\"\",WEEKDAY(A239,2)>5)),IF(D239=\"\",\"\",ColTime(Data!$J$3,Data!$L$3,D239,E239)),\"\")","v":""},"","",{"$f":"IFERROR(IF(AND(C239=\"\",WEEKDAY(A239,2)>5),IF(D239=\"\",\"\",(IF(E239-MAX(D239,(15/24))+(E239<D239)<0,0,E239-MAX(D239,(15/24))+($E239<D239)))-(IF((E239-MAX(D239,(23/24))+(E239<D239))<0,0,(E239-MAX(D239,(23/24))+(E239<D239))))),o),\"\")","v":""},"","","","",{"$f":"IFERROR(IF(OR(AND(C239=\"\",D239<E239,OR(WEEKDAY(A239,2)=1,WEEKDAY(A239,2)>=6)),AND(C239=\"\",D239>E239,OR(WEEKDAY(A239,2)>=5)),AND(C239<>\"\",D239>E239,WEEKDAY(A239,2)>=5)),ColTime(Data!$J$6,Data!$L$6,D239,E239),\"\"),\"\")","v":""},{"$f":"IFERROR(IF(OR(AND(WEEKDAY(A239,2)>1,WEEKDAY(A239,2)<6,D239<E239,C239=\"\"),AND(C239=\"\",WEEKDAY(A239,2)=1,E239<D239),AND(C239<>\"\",D239<E239,WEEKDAY(A239,2)>1,WEEKDAY(A239,2)<4),AND(C239<>\"\",D239>E239,WEEKDAY(A239,2)=1)),ColTime(Data!$J$6,Data!$L$6,D239,E239),\"\"),\"\")","v":""},null,{"$f":"IF(F239=\"\",\"\",IF(AND(C239<>\"\",OR(D239<E239,AND(D239>E239,C545<>\"\"))),ColTime(Data!$J$6,Data!$L$6,D239,E239),\"\"))","v":""}]
["2020-08-22","Lø","",null,null,"",null,null,null,{"$f":"IF(OR(AND(C240<>\"\",D240>E240,WEEKDAY(A240,2)=5),AND(C240=\"\",WEEKDAY(A240,2)>5)),IF(D240=\"\",\"\",ColTime(Data!$J$3,Data!$L$3,D240,E240)),\"\")","v":""},"","",{"$f":"IFERROR(IF(AND(C240=\"\",WEEKDAY(A240,2)>5),IF(D240=\"\",\"\",(IF(E240-MAX(D240,(15/24))+(E240<D240)<0,0,E240-MAX(D240,(15/24))+($E240<D240)))-(IF((E240-MAX(D240,(23/24))+(E240<D240))<0,0,(E240-MAX(D240,(23/24))+(E240<D240))))),o),\"\")","v":""},"","","","",{"$f":"IFERROR(IF(OR(AND(C240=\"\",D240<E240,OR(WEEKDAY(A240,2)=1,WEEKDAY(A240,2)>=6)),AND(C240=\"\",D240>E240,OR(WEEKDAY(A240,2)>=5)),AND(C240<>\"\",D240>E240,WEEKDAY(A240,2)>=5)),ColTime(Data!$J$6,Data!$L$6,D240,E240),\"\"),\"\")","v":""},{"$f":"IFERROR(IF(OR(AND(WEEKDAY(A240,2)>1,WEEKDAY(A240,2)<6,D240<E240,C240=\"\"),AND(C240=\"\",WEEKDAY(A240,2)=1,E240<D240),AND(C240<>\"\",D240<E240,WEEKDAY(A240,2)>1,WEEKDAY(A240,2)<4),AND(C240<>\"\",D240>E240,WEEKDAY(A240,2)=1)),ColTime(Data!$J$6,Data!$L$6,D240,E240),\"\"),\"\")","v":""},null,{"$f":"IF(F240=\"\",\"\",IF(AND(C240<>\"\",OR(D240<E240,AND(D240>E240,C546<>\"\"))),ColTime(Data!$J$6,Data!$L$6,D240,E240),\"\"))","v":""}]
["2020-08-23","Sø","",null,null,"",null,null,null,{"$f":"IF(OR(AND(C241<>\"\",D241>E241,WEEKDAY(A241,2)=5),AND(C241=\"\",WEEKDAY(A241,2)>5)),IF(D241=\"\",\"\",ColTime(Data!$J$3,Data!$L$3,D241,E241)),\"\")","v":""},"","",{"$f":"IFERROR(IF(AND(C241=\"\",WEEKDAY(A241,2)>5),IF(D241=\"\",\"\",(IF(E241-MAX(D241,(15/24))+(E241<D241)<0,0,E241-MAX(D241,(15/24))+($E241<D241)))-(IF((E241-MAX(D241,(23/24))+(E241<D241))<0,0,(E241-MAX(D241,(23/24))+(E241<D241))))),o),\"\")","v":""},"","","","",{"$f":"IFERROR(IF(OR(AND(C241=\"\",D241<E241,OR(WEEKDAY(A241,2)=1,WEEKDAY(A241,2)>=6)),AND(C241=\"\",D241>E241,OR(WEEKDAY(A241,2)>=5)),AND(C241<>\"\",D241>E241,WEEKDAY(A241,2)>=5)),ColTime(Data!$J$6,Data!$L$6,D241,E241),\"\"),\"\")","v":""},{"$f":"IFERROR(IF(OR(AND(WEEKDAY(A241,2)>1,WEEKDAY(A241,2)<6,D241<E241,C241=\"\"),AND(C241=\"\",WEEKDAY(A241,2)=1,E241<D241),AND(C241<>\"\",D241<E241,WEEKDAY(A241,2)>1,WEEKDAY(A241,2)<4),AND(C241<>\"\",D241>E241,WEEKDAY(A241,2)=1)),ColTime(Data!$J$6,Data!$L$6,D241,E241),\"\"),\"\")","v":""},null,{"$f":"IF(F241=\"\",\"\",IF(AND(C241<>\"\",OR(D241<E241,AND(D241>E241,C547<>\"\"))),ColTime(Data!$J$6,Data!$L$6,D241,E241),\"\"))","v":""}]
["2020-08-24","Ma","",null,null,"",null,null,null,{"$f":"IF(OR(AND(C242<>\"\",D242>E242,WEEKDAY(A242,2)=5),AND(C242=\"\",WEEKDAY(A242,2)>5)),IF(D242=\"\",\"\",ColTime(Data!$J$3,Data!$L$3,D242,E242)),\"\")","v":""},"","",{"$f":"IFERROR(IF(AND(C242=\"\",WEEKDAY(A242,2)>5),IF(D242=\"\",\"\",(IF(E242-MAX(D242,(15/24))+(E242<D242)<0,0,E242-MAX(D242,(15/24))+($E242<D242)))-(IF((E242-MAX(D242,(23/24))+(E242<D242))<0,0,(E242-MAX(D242,(23/24))+(E242<D242))))),o),\"\")","v":""},"","","","",{"$f":"IFERROR(IF(OR(AND(C242=\"\",D242<E242,OR(WEEKDAY(A242,2)=1,WEEKDAY(A242,2)>=6)),AND(C242=\"\",D242>E242,OR(WEEKDAY(A242,2)>=5)),AND(C242<>\"\",D242>E242,WEEKDAY(A242,2)>=5)),ColTime(Data!$J$6,Data!$L$6,D242,E242),\"\"),\"\")","v":""},{"$f":"IFERROR(IF(OR(AND(WEEKDAY(A242,2)>1,WEEKDAY(A242,2)<6,D242<E242,C242=\"\"),AND(C242=\"\",WEEKDAY(A242,2)=1,E242<D242),AND(C242<>\"\",D242<E242,WEEKDAY(A242,2)>1,WEEKDAY(A242,2)<4),AND(C242<>\"\",D242>E242,WEEKDAY(A242,2)=1)),ColTime(Data!$J$6,Data!$L$6,D242,E242),\"\"),\"\")","v":""},null,{"$f":"IF(F242=\"\",\"\",IF(AND(C242<>\"\",OR(D242<E242,AND(D242>E242,C548<>\"\"))),ColTime(Data!$J$6,Data!$L$6,D242,E242),\"\"))","v":""}]
["2020-08-25","Ti","",null,null,"",null,null,null,{"$f":"IF(OR(AND(C243<>\"\",D243>E243,WEEKDAY(A243,2)=5),AND(C243=\"\",WEEKDAY(A243,2)>5)),IF(D243=\"\",\"\",ColTime(Data!$J$3,Data!$L$3,D243,E243)),\"\")","v":""},"","",{"$f":"IFERROR(IF(AND(C243=\"\",WEEKDAY(A243,2)>5),IF(D243=\"\",\"\",(IF(E243-MAX(D243,(15/24))+(E243<D243)<0,0,E243-MAX(D243,(15/24))+($E243<D243)))-(IF((E243-MAX(D243,(23/24))+(E243<D243))<0,0,(E243-MAX(D243,(23/24))+(E243<D243))))),o),\"\")","v":""},"","","","",{"$f":"IFERROR(IF(OR(AND(C243=\"\",D243<E243,OR(WEEKDAY(A243,2)=1,WEEKDAY(A243,2)>=6)),AND(C243=\"\",D243>E243,OR(WEEKDAY(A243,2)>=5)),AND(C243<>\"\",D243>E243,WEEKDAY(A243,2)>=5)),ColTime(Data!$J$6,Data!$L$6,D243,E243),\"\"),\"\")","v":""},{"$f":"IFERROR(IF(OR(AND(WEEKDAY(A243,2)>1,WEEKDAY(A243,2)<6,D243<E243,C243=\"\"),AND(C243=\"\",WEEKDAY(A243,2)=1,E243<D243),AND(C243<>\"\",D243<E243,WEEKDAY(A243,2)>1,WEEKDAY(A243,2)<4),AND(C243<>\"\",D243>E243,WEEKDAY(A243,2)=1)),ColTime(Data!$J$6,Data!$L$6,D243,E243),\"\"),\"\")","v":""},null,{"$f":"IF(F243=\"\",\"\",IF(AND(C243<>\"\",OR(D243<E243,AND(D243>E243,C549<>\"\"))),ColTime(Data!$J$6,Data!$L$6,D243,E243),\"\"))","v":""}]
["2020-08-26",{"$f":"PROPER(TEXT(A244,\"ddd\"))","v":"On"},{"$f":"HelligdagsNavn(A244,0,0)","v":""},null,null,{"$f":"IF(D244=\"\",\"\",(E244-D244)+(D244>E244))","v":""},null,null,null,{"$f":"IF(OR(AND(C244<>\"\",D244>E244,WEEKDAY(A244,2)=5),AND(C244=\"\",WEEKDAY(A244,2)>5)),IF(D244=\"\",\"\",ColTime(Data!$J$3,Data!$L$3,D244,E244)),\"\")","v":""},{"$f":"IF(C244<>\"\",IF(D244=\"\",\"\",(IF(E244-MAX(D244,(7/24))+(E244<D244)<0,0,E244-MAX(D244,(7/24))+(E244<D244)))-(IF((E244-MAX(D244,(15/24))+(E244<D244))<0,0,(E244-MAX(D244,(15/24))+(E244<D244))))),\"\")","v":""},{"$f":"IFERROR(IF(AND(C244=\"\",WEEKDAY(A244,2)<6),IF(D244=\"\",\"\",(IF(E244-MAX(D244,(15/24))+(E244<D244)<0,0,E244-MAX(D244,(15/24))+(E244<D244)))-(IF((E244-MAX(D244,(23/24))+(E244<D244))<0,0,(E244-MAX(D244,(23/24))+(E244<D244))))),\"\"),\"\")","v":""},{"$f":"IFERROR(IF(AND(C244=\"\",WEEKDAY(A244,2)>5),IF(D244=\"\",\"\",(IF(E244-MAX(D244,(15/24))+(E244<D244)<0,0,E244-MAX(D244,(15/24))+($E244<D244)))-(IF((E244-MAX(D244,(23/24))+(E244<D244))<0,0,(E244-MAX(D244,(23/24))+(E244<D244))))),o),\"\")","v":""},{"$f":"IF(C244<>\"\",IF(D244=\"\",\"\",(IF(E244-MAX(D244,(15/24))+(E244<D244)<0,0,E244-MAX(D244,(15/24))+(E244<D244)))-(IF((E244-MAX(D244,(23/24))+(E244<D244))<0,0,(E244-MAX(D244,(23/24))+(E244<D244))))),\"\")","v":""},{"$f":"IF(A244=\"\",\"\",IF(AND(C244=\"\",WEEKDAY(A244,2)<5),IF(D244=\"\",\"\",(IF(E244-MAX(D244,(23/24))+(E244<D244)<0,0,E244-MAX(D244,(23/24))+(E244<D244)))-(IF((E244-MAX(D244,(24/24))+(E244<D244))<0,0,(E244-MAX(D244,(24/24))+(E244<D244))))),\"\"))","v":""},{"$f":"IFERROR(IF(AND(C244=\"\",WEEKDAY(A244,2)>4),IF(D244=\"\",\"\",(IF(E244-MAX(D244,(23/24))+(E244<D244)<0,0,E244-MAX(D244,(23/24))+(E244<D244)))-(IF((E244-MAX(D244,(24/24))+(E244<D244))<0,0,(E244-MAX(D244,(24/24))+(E244<D244))))),\"\"),\"\")","v":""},"",{"$f":"IFERROR(IF(OR(AND(C244=\"\",D244<E244,OR(WEEKDAY(A244,2)=1,WEEKDAY(A244,2)>=6)),AND(C244=\"\",D244>E244,OR(WEEKDAY(A244,2)>=5)),AND(C244<>\"\",D244>E244,WEEKDAY(A244,2)>=5)),ColTime(Data!$J$6,Data!$L$6,D244,E244),\"\"),\"\")","v":""},{"$f":"IFERROR(IF(OR(AND(WEEKDAY(A244,2)>1,WEEKDAY(A244,2)<6,D244<E244,C244=\"\"),AND(C244=\"\",WEEKDAY(A244,2)=1,E244<D244),AND(C244<>\"\",D244<E244,WEEKDAY(A244,2)>1,WEEKDAY(A244,2)<4),AND(C244<>\"\",D244>E244,WEEKDAY(A244,2)=1)),ColTime(Data!$J$6,Data!$L$6,D244,E244),\"\"),\"\")","v":""},null,{"$f":"IF(F244=\"\",\"\",IF(AND(C244<>\"\",OR(D244<E244,AND(D244>E244,C550<>\"\"))),ColTime(Data!$J$6,Data!$L$6,D244,E244),\"\"))","v":""}]
["2020-08-27","To","",null,null,"",null,null,null,{"$f":"IF(OR(AND(C245<>\"\",D245>E245,WEEKDAY(A245,2)=5),AND(C245=\"\",WEEKDAY(A245,2)>5)),IF(D245=\"\",\"\",ColTime(Data!$J$3,Data!$L$3,D245,E245)),\"\")","v":""},"","",{"$f":"IFERROR(IF(AND(C245=\"\",WEEKDAY(A245,2)>5),IF(D245=\"\",\"\",(IF(E245-MAX(D245,(15/24))+(E245<D245)<0,0,E245-MAX(D245,(15/24))+($E245<D245)))-(IF((E245-MAX(D245,(23/24))+(E245<D245))<0,0,(E245-MAX(D245,(23/24))+(E245<D245))))),o),\"\")","v":""},"","","","",{"$f":"IFERROR(IF(OR(AND(C245=\"\",D245<E245,OR(WEEKDAY(A245,2)=1,WEEKDAY(A245,2)>=6)),AND(C245=\"\",D245>E245,OR(WEEKDAY(A245,2)>=5)),AND(C245<>\"\",D245>E245,WEEKDAY(A245,2)>=5)),ColTime(Data!$J$6,Data!$L$6,D245,E245),\"\"),\"\")","v":""},{"$f":"IFERROR(IF(OR(AND(WEEKDAY(A245,2)>1,WEEKDAY(A245,2)<6,D245<E245,C245=\"\"),AND(C245=\"\",WEEKDAY(A245,2)=1,E245<D245),AND(C245<>\"\",D245<E245,WEEKDAY(A245,2)>1,WEEKDAY(A245,2)<4),AND(C245<>\"\",D245>E245,WEEKDAY(A245,2)=1)),ColTime(Data!$J$6,Data!$L$6,D245,E245),\"\"),\"\")","v":""},null,{"$f":"IF(F245=\"\",\"\",IF(AND(C245<>\"\",OR(D245<E245,AND(D245>E245,C551<>\"\"))),ColTime(Data!$J$6,Data!$L$6,D245,E245),\"\"))","v":""}]
["2020-08-28","Fr","",null,null,"",null,null,null,{"$f":"IF(OR(AND(C246<>\"\",D246>E246,WEEKDAY(A246,2)=5),AND(C246=\"\",WEEKDAY(A246,2)>5)),IF(D246=\"\",\"\",ColTime(Data!$J$3,Data!$L$3,D246,E246)),\"\")","v":""},"","",{"$f":"IFERROR(IF(AND(C246=\"\",WEEKDAY(A246,2)>5),IF(D246=\"\",\"\",(IF(E246-MAX(D246,(15/24))+(E246<D246)<0,0,E246-MAX(D246,(15/24))+($E246<D246)))-(IF((E246-MAX(D246,(23/24))+(E246<D246))<0,0,(E246-MAX(D246,(23/24))+(E246<D246))))),o),\"\")","v":""},"","","","",{"$f":"IFERROR(IF(OR(AND(C246=\"\",D246<E246,OR(WEEKDAY(A246,2)=1,WEEKDAY(A246,2)>=6)),AND(C246=\"\",D246>E246,OR(WEEKDAY(A246,2)>=5)),AND(C246<>\"\",D246>E246,WEEKDAY(A246,2)>=5)),ColTime(Data!$J$6,Data!$L$6,D246,E246),\"\"),\"\")","v":""},{"$f":"IFERROR(IF(OR(AND(WEEKDAY(A246,2)>1,WEEKDAY(A246,2)<6,D246<E246,C246=\"\"),AND(C246=\"\",WEEKDAY(A246,2)=1,E246<D246),AND(C246<>\"\",D246<E246,WEEKDAY(A246,2)>1,WEEKDAY(A246,2)<4),AND(C246<>\"\",D246>E246,WEEKDAY(A246,2)=1)),ColTime(Data!$J$6,Data!$L$6,D246,E246),\"\"),\"\")","v":""},null,{"$f":"IF(F246=\"\",\"\",IF(AND(C246<>\"\",OR(D246<E246,AND(D246>E246,C552<>\"\"))),ColTime(Data!$J$6,Data!$L$6,D246,E246),\"\"))","v":""}]
["2020-08-29","Lø","",null,null,"",null,null,null,{"$f":"IF(OR(AND(C247<>\"\",D247>E247,WEEKDAY(A247,2)=5),AND(C247=\"\",WEEKDAY(A247,2)>5)),IF(D247=\"\",\"\",ColTime(Data!$J$3,Data!$L$3,D247,E247)),\"\")","v":""},"","",{"$f":"IFERROR(IF(AND(C247=\"\",WEEKDAY(A247,2)>5),IF(D247=\"\",\"\",(IF(E247-MAX(D247,(15/24))+(E247<D247)<0,0,E247-MAX(D247,(15/24))+($E247<D247)))-(IF((E247-MAX(D247,(23/24))+(E247<D247))<0,0,(E247-MAX(D247,(23/24))+(E247<D247))))),o),\"\")","v":""},"","","","",{"$f":"IFERROR(IF(OR(AND(C247=\"\",D247<E247,OR(WEEKDAY(A247,2)=1,WEEKDAY(A247,2)>=6)),AND(C247=\"\",D247>E247,OR(WEEKDAY(A247,2)>=5)),AND(C247<>\"\",D247>E247,WEEKDAY(A247,2)>=5)),ColTime(Data!$J$6,Data!$L$6,D247,E247),\"\"),\"\")","v":""},{"$f":"IFERROR(IF(OR(AND(WEEKDAY(A247,2)>1,WEEKDAY(A247,2)<6,D247<E247,C247=\"\"),AND(C247=\"\",WEEKDAY(A247,2)=1,E247<D247),AND(C247<>\"\",D247<E247,WEEKDAY(A247,2)>1,WEEKDAY(A247,2)<4),AND(C247<>\"\",D247>E247,WEEKDAY(A247,2)=1)),ColTime(Data!$J$6,Data!$L$6,D247,E247),\"\"),\"\")","v":""},null,{"$f":"IF(F247=\"\",\"\",IF(AND(C247<>\"\",OR(D247<E247,AND(D247>E247,C553<>\"\"))),ColTime(Data!$J$6,Data!$L$6,D247,E247),\"\"))","v":""}]
["2020-08-30","Sø","",null,null,"",null,null,null,{"$f":"IF(OR(AND(C248<>\"\",D248>E248,WEEKDAY(A248,2)=5),AND(C248=\"\",WEEKDAY(A248,2)>5)),IF(D248=\"\",\"\",ColTime(Data!$J$3,Data!$L$3,D248,E248)),\"\")","v":""},"","",{"$f":"IFERROR(IF(AND(C248=\"\",WEEKDAY(A248,2)>5),IF(D248=\"\",\"\",(IF(E248-MAX(D248,(15/24))+(E248<D248)<0,0,E248-MAX(D248,(15/24))+($E248<D248)))-(IF((E248-MAX(D248,(23/24))+(E248<D248))<0,0,(E248-MAX(D248,(23/24))+(E248<D248))))),o),\"\")","v":""},"","","","",{"$f":"IFERROR(IF(OR(AND(C248=\"\",D248<E248,OR(WEEKDAY(A248,2)=1,WEEKDAY(A248,2)>=6)),AND(C248=\"\",D248>E248,OR(WEEKDAY(A248,2)>=5)),AND(C248<>\"\",D248>E248,WEEKDAY(A248,2)>=5)),ColTime(Data!$J$6,Data!$L$6,D248,E248),\"\"),\"\")","v":""},{"$f":"IFERROR(IF(OR(AND(WEEKDAY(A248,2)>1,WEEKDAY(A248,2)<6,D248<E248,C248=\"\"),AND(C248=\"\",WEEKDAY(A248,2)=1,E248<D248),AND(C248<>\"\",D248<E248,WEEKDAY(A248,2)>1,WEEKDAY(A248,2)<4),AND(C248<>\"\",D248>E248,WEEKDAY(A248,2)=1)),ColTime(Data!$J$6,Data!$L$6,D248,E248),\"\"),\"\")","v":""},null,{"$f":"IF(F248=\"\",\"\",IF(AND(C248<>\"\",OR(D248<E248,AND(D248>E248,C554<>\"\"))),ColTime(Data!$J$6,Data!$L$6,D248,E248),\"\"))","v":""}]
["2020-08-31","Ma","",null,null,"",null,null,null,{"$f":"IF(OR(AND(C249<>\"\",D249>E249,WEEKDAY(A249,2)=5),AND(C249=\"\",WEEKDAY(A249,2)>5)),IF(D249=\"\",\"\",ColTime(Data!$J$3,Data!$L$3,D249,E249)),\"\")","v":""},"","",{"$f":"IFERROR(IF(AND(C249=\"\",WEEKDAY(A249,2)>5),IF(D249=\"\",\"\",(IF(E249-MAX(D249,(15/24))+(E249<D249)<0,0,E249-MAX(D249,(15/24))+($E249<D249)))-(IF((E249-MAX(D249,(23/24))+(E249<D249))<0,0,(E249-MAX(D249,(23/24))+(E249<D249))))),o),\"\")","v":""},"","","","",{"$f":"IFERROR(IF(OR(AND(C249=\"\",D249<E249,OR(WEEKDAY(A249,2)=1,WEEKDAY(A249,2)>=6)),AND(C249=\"\",D249>E249,OR(WEEKDAY(A249,2)>=5)),AND(C249<>\"\",D249>E249,WEEKDAY(A249,2)>=5)),ColTime(Data!$J$6,Data!$L$6,D249,E249),\"\"),\"\")","v":""},{"$f":"IFERROR(IF(OR(AND(WEEKDAY(A249,2)>1,WEEKDAY(A249,2)<6,D249<E249,C249=\"\"),AND(C249=\"\",WEEKDAY(A249,2)=1,E249<D249),AND(C249<>\"\",D249<E249,WEEKDAY(A249,2)>1,WEEKDAY(A249,2)<4),AND(C249<>\"\",D249>E249,WEEKDAY(A249,2)=1)),ColTime(Data!$J$6,Data!$L$6,D249,E249),\"\"),\"\")","v":""},null,{"$f":"IF(F249=\"\",\"\",IF(AND(C249<>\"\",OR(D249<E249,AND(D249>E249,C555<>\"\"))),ColTime(Data!$J$6,Data!$L$6,D249,E249),\"\"))","v":""}]
["2020-09-01","Ti","",null,null,"",null,null,null,{"$f":"IF(OR(AND(C250<>\"\",D250>E250,WEEKDAY(A250,2)=5),AND(C250=\"\",WEEKDAY(A250,2)>5)),IF(D250=\"\",\"\",ColTime(Data!$J$3,Data!$L$3,D250,E250)),\"\")","v":""},"","",{"$f":"IFERROR(IF(AND(C250=\"\",WEEKDAY(A250,2)>5),IF(D250=\"\",\"\",(IF(E250-MAX(D250,(15/24))+(E250<D250)<0,0,E250-MAX(D250,(15/24))+($E250<D250)))-(IF((E250-MAX(D250,(23/24))+(E250<D250))<0,0,(E250-MAX(D250,(23/24))+(E250<D250))))),o),\"\")","v":""},"","","","",{"$f":"IFERROR(IF(OR(AND(C250=\"\",D250<E250,OR(WEEKDAY(A250,2)=1,WEEKDAY(A250,2)>=6)),AND(C250=\"\",D250>E250,OR(WEEKDAY(A250,2)>=5)),AND(C250<>\"\",D250>E250,WEEKDAY(A250,2)>=5)),ColTime(Data!$J$6,Data!$L$6,D250,E250),\"\"),\"\")","v":""},{"$f":"IFERROR(IF(OR(AND(WEEKDAY(A250,2)>1,WEEKDAY(A250,2)<6,D250<E250,C250=\"\"),AND(C250=\"\",WEEKDAY(A250,2)=1,E250<D250),AND(C250<>\"\",D250<E250,WEEKDAY(A250,2)>1,WEEKDAY(A250,2)<4),AND(C250<>\"\",D250>E250,WEEKDAY(A250,2)=1)),ColTime(Data!$J$6,Data!$L$6,D250,E250),\"\"),\"\")","v":""},null,{"$f":"IF(F250=\"\",\"\",IF(AND(C250<>\"\",OR(D250<E250,AND(D250>E250,C556<>\"\"))),ColTime(Data!$J$6,Data!$L$6,D250,E250),\"\"))","v":""}]
["2020-09-02","On","",null,null,"",null,null,null,{"$f":"IF(OR(AND(C251<>\"\",D251>E251,WEEKDAY(A251,2)=5),AND(C251=\"\",WEEKDAY(A251,2)>5)),IF(D251=\"\",\"\",ColTime(Data!$J$3,Data!$L$3,D251,E251)),\"\")","v":""},"","",{"$f":"IFERROR(IF(AND(C251=\"\",WEEKDAY(A251,2)>5),IF(D251=\"\",\"\",(IF(E251-MAX(D251,(15/24))+(E251<D251)<0,0,E251-MAX(D251,(15/24))+($E251<D251)))-(IF((E251-MAX(D251,(23/24))+(E251<D251))<0,0,(E251-MAX(D251,(23/24))+(E251<D251))))),o),\"\")","v":""},"","","","",{"$f":"IFERROR(IF(OR(AND(C251=\"\",D251<E251,OR(WEEKDAY(A251,2)=1,WEEKDAY(A251,2)>=6)),AND(C251=\"\",D251>E251,OR(WEEKDAY(A251,2)>=5)),AND(C251<>\"\",D251>E251,WEEKDAY(A251,2)>=5)),ColTime(Data!$J$6,Data!$L$6,D251,E251),\"\"),\"\")","v":""},{"$f":"IFERROR(IF(OR(AND(WEEKDAY(A251,2)>1,WEEKDAY(A251,2)<6,D251<E251,C251=\"\"),AND(C251=\"\",WEEKDAY(A251,2)=1,E251<D251),AND(C251<>\"\",D251<E251,WEEKDAY(A251,2)>1,WEEKDAY(A251,2)<4),AND(C251<>\"\",D251>E251,WEEKDAY(A251,2)=1)),ColTime(Data!$J$6,Data!$L$6,D251,E251),\"\"),\"\")","v":""},null,{"$f":"IF(F251=\"\",\"\",IF(AND(C251<>\"\",OR(D251<E251,AND(D251>E251,C557<>\"\"))),ColTime(Data!$J$6,Data!$L$6,D251,E251),\"\"))","v":""}]
["2020-09-03","To","",null,null,"",null,null,null,{"$f":"IF(OR(AND(C252<>\"\",D252>E252,WEEKDAY(A252,2)=5),AND(C252=\"\",WEEKDAY(A252,2)>5)),IF(D252=\"\",\"\",ColTime(Data!$J$3,Data!$L$3,D252,E252)),\"\")","v":""},"","",{"$f":"IFERROR(IF(AND(C252=\"\",WEEKDAY(A252,2)>5),IF(D252=\"\",\"\",(IF(E252-MAX(D252,(15/24))+(E252<D252)<0,0,E252-MAX(D252,(15/24))+($E252<D252)))-(IF((E252-MAX(D252,(23/24))+(E252<D252))<0,0,(E252-MAX(D252,(23/24))+(E252<D252))))),o),\"\")","v":""},"","","","",{"$f":"IFERROR(IF(OR(AND(C252=\"\",D252<E252,OR(WEEKDAY(A252,2)=1,WEEKDAY(A252,2)>=6)),AND(C252=\"\",D252>E252,OR(WEEKDAY(A252,2)>=5)),AND(C252<>\"\",D252>E252,WEEKDAY(A252,2)>=5)),ColTime(Data!$J$6,Data!$L$6,D252,E252),\"\"),\"\")","v":""},{"$f":"IFERROR(IF(OR(AND(WEEKDAY(A252,2)>1,WEEKDAY(A252,2)<6,D252<E252,C252=\"\"),AND(C252=\"\",WEEKDAY(A252,2)=1,E252<D252),AND(C252<>\"\",D252<E252,WEEKDAY(A252,2)>1,WEEKDAY(A252,2)<4),AND(C252<>\"\",D252>E252,WEEKDAY(A252,2)=1)),ColTime(Data!$J$6,Data!$L$6,D252,E252),\"\"),\"\")","v":""},null,{"$f":"IF(F252=\"\",\"\",IF(AND(C252<>\"\",OR(D252<E252,AND(D252>E252,C558<>\"\"))),ColTime(Data!$J$6,Data!$L$6,D252,E252),\"\"))","v":""}]
["2020-09-04","Fr","",null,null,"",null,null,null,{"$f":"IF(OR(AND(C253<>\"\",D253>E253,WEEKDAY(A253,2)=5),AND(C253=\"\",WEEKDAY(A253,2)>5)),IF(D253=\"\",\"\",ColTime(Data!$J$3,Data!$L$3,D253,E253)),\"\")","v":""},"","",{"$f":"IFERROR(IF(AND(C253=\"\",WEEKDAY(A253,2)>5),IF(D253=\"\",\"\",(IF(E253-MAX(D253,(15/24))+(E253<D253)<0,0,E253-MAX(D253,(15/24))+($E253<D253)))-(IF((E253-MAX(D253,(23/24))+(E253<D253))<0,0,(E253-MAX(D253,(23/24))+(E253<D253))))),o),\"\")","v":""},"","","","",{"$f":"IFERROR(IF(OR(AND(C253=\"\",D253<E253,OR(WEEKDAY(A253,2)=1,WEEKDAY(A253,2)>=6)),AND(C253=\"\",D253>E253,OR(WEEKDAY(A253,2)>=5)),AND(C253<>\"\",D253>E253,WEEKDAY(A253,2)>=5)),ColTime(Data!$J$6,Data!$L$6,D253,E253),\"\"),\"\")","v":""},{"$f":"IFERROR(IF(OR(AND(WEEKDAY(A253,2)>1,WEEKDAY(A253,2)<6,D253<E253,C253=\"\"),AND(C253=\"\",WEEKDAY(A253,2)=1,E253<D253),AND(C253<>\"\",D253<E253,WEEKDAY(A253,2)>1,WEEKDAY(A253,2)<4),AND(C253<>\"\",D253>E253,WEEKDAY(A253,2)=1)),ColTime(Data!$J$6,Data!$L$6,D253,E253),\"\"),\"\")","v":""},null,{"$f":"IF(F253=\"\",\"\",IF(AND(C253<>\"\",OR(D253<E253,AND(D253>E253,C559<>\"\"))),ColTime(Data!$J$6,Data!$L$6,D253,E253),\"\"))","v":""}]
["2020-09-05","Lø","",null,null,"",null,null,null,{"$f":"IF(OR(AND(C254<>\"\",D254>E254,WEEKDAY(A254,2)=5),AND(C254=\"\",WEEKDAY(A254,2)>5)),IF(D254=\"\",\"\",ColTime(Data!$J$3,Data!$L$3,D254,E254)),\"\")","v":""},"","",{"$f":"IFERROR(IF(AND(C254=\"\",WEEKDAY(A254,2)>5),IF(D254=\"\",\"\",(IF(E254-MAX(D254,(15/24))+(E254<D254)<0,0,E254-MAX(D254,(15/24))+($E254<D254)))-(IF((E254-MAX(D254,(23/24))+(E254<D254))<0,0,(E254-MAX(D254,(23/24))+(E254<D254))))),o),\"\")","v":""},"","","","",{"$f":"IFERROR(IF(OR(AND(C254=\"\",D254<E254,OR(WEEKDAY(A254,2)=1,WEEKDAY(A254,2)>=6)),AND(C254=\"\",D254>E254,OR(WEEKDAY(A254,2)>=5)),AND(C254<>\"\",D254>E254,WEEKDAY(A254,2)>=5)),ColTime(Data!$J$6,Data!$L$6,D254,E254),\"\"),\"\")","v":""},{"$f":"IFERROR(IF(OR(AND(WEEKDAY(A254,2)>1,WEEKDAY(A254,2)<6,D254<E254,C254=\"\"),AND(C254=\"\",WEEKDAY(A254,2)=1,E254<D254),AND(C254<>\"\",D254<E254,WEEKDAY(A254,2)>1,WEEKDAY(A254,2)<4),AND(C254<>\"\",D254>E254,WEEKDAY(A254,2)=1)),ColTime(Data!$J$6,Data!$L$6,D254,E254),\"\"),\"\")","v":""},null,{"$f":"IF(F254=\"\",\"\",IF(AND(C254<>\"\",OR(D254<E254,AND(D254>E254,C560<>\"\"))),ColTime(Data!$J$6,Data!$L$6,D254,E254),\"\"))","v":""}]
["2020-09-06","Sø","",null,null,"",null,null,null,{"$f":"IF(OR(AND(C255<>\"\",D255>E255,WEEKDAY(A255,2)=5),AND(C255=\"\",WEEKDAY(A255,2)>5)),IF(D255=\"\",\"\",ColTime(Data!$J$3,Data!$L$3,D255,E255)),\"\")","v":""},"","",{"$f":"IFERROR(IF(AND(C255=\"\",WEEKDAY(A255,2)>5),IF(D255=\"\",\"\",(IF(E255-MAX(D255,(15/24))+(E255<D255)<0,0,E255-MAX(D255,(15/24))+($E255<D255)))-(IF((E255-MAX(D255,(23/24))+(E255<D255))<0,0,(E255-MAX(D255,(23/24))+(E255<D255))))),o),\"\")","v":""},"","","","",{"$f":"IFERROR(IF(OR(AND(C255=\"\",D255<E255,OR(WEEKDAY(A255,2)=1,WEEKDAY(A255,2)>=6)),AND(C255=\"\",D255>E255,OR(WEEKDAY(A255,2)>=5)),AND(C255<>\"\",D255>E255,WEEKDAY(A255,2)>=5)),ColTime(Data!$J$6,Data!$L$6,D255,E255),\"\"),\"\")","v":""},{"$f":"IFERROR(IF(OR(AND(WEEKDAY(A255,2)>1,WEEKDAY(A255,2)<6,D255<E255,C255=\"\"),AND(C255=\"\",WEEKDAY(A255,2)=1,E255<D255),AND(C255<>\"\",D255<E255,WEEKDAY(A255,2)>1,WEEKDAY(A255,2)<4),AND(C255<>\"\",D255>E255,WEEKDAY(A255,2)=1)),ColTime(Data!$J$6,Data!$L$6,D255,E255),\"\"),\"\")","v":""},null,{"$f":"IF(F255=\"\",\"\",IF(AND(C255<>\"\",OR(D255<E255,AND(D255>E255,C561<>\"\"))),ColTime(Data!$J$6,Data!$L$6,D255,E255),\"\"))","v":""}]
["2020-09-07","Ma","",null,null,"",null,null,null,{"$f":"IF(OR(AND(C256<>\"\",D256>E256,WEEKDAY(A256,2)=5),AND(C256=\"\",WEEKDAY(A256,2)>5)),IF(D256=\"\",\"\",ColTime(Data!$J$3,Data!$L$3,D256,E256)),\"\")","v":""},"","",{"$f":"IFERROR(IF(AND(C256=\"\",WEEKDAY(A256,2)>5),IF(D256=\"\",\"\",(IF(E256-MAX(D256,(15/24))+(E256<D256)<0,0,E256-MAX(D256,(15/24))+($E256<D256)))-(IF((E256-MAX(D256,(23/24))+(E256<D256))<0,0,(E256-MAX(D256,(23/24))+(E256<D256))))),o),\"\")","v":""},"","","","",{"$f":"IFERROR(IF(OR(AND(C256=\"\",D256<E256,OR(WEEKDAY(A256,2)=1,WEEKDAY(A256,2)>=6)),AND(C256=\"\",D256>E256,OR(WEEKDAY(A256,2)>=5)),AND(C256<>\"\",D256>E256,WEEKDAY(A256,2)>=5)),ColTime(Data!$J$6,Data!$L$6,D256,E256),\"\"),\"\")","v":""},{"$f":"IFERROR(IF(OR(AND(WEEKDAY(A256,2)>1,WEEKDAY(A256,2)<6,D256<E256,C256=\"\"),AND(C256=\"\",WEEKDAY(A256,2)=1,E256<D256),AND(C256<>\"\",D256<E256,WEEKDAY(A256,2)>1,WEEKDAY(A256,2)<4),AND(C256<>\"\",D256>E256,WEEKDAY(A256,2)=1)),ColTime(Data!$J$6,Data!$L$6,D256,E256),\"\"),\"\")","v":""},null,{"$f":"IF(F256=\"\",\"\",IF(AND(C256<>\"\",OR(D256<E256,AND(D256>E256,C562<>\"\"))),ColTime(Data!$J$6,Data!$L$6,D256,E256),\"\"))","v":""}]
["2020-09-08","Ti","",null,null,"",null,null,null,{"$f":"IF(OR(AND(C257<>\"\",D257>E257,WEEKDAY(A257,2)=5),AND(C257=\"\",WEEKDAY(A257,2)>5)),IF(D257=\"\",\"\",ColTime(Data!$J$3,Data!$L$3,D257,E257)),\"\")","v":""},"","",{"$f":"IFERROR(IF(AND(C257=\"\",WEEKDAY(A257,2)>5),IF(D257=\"\",\"\",(IF(E257-MAX(D257,(15/24))+(E257<D257)<0,0,E257-MAX(D257,(15/24))+($E257<D257)))-(IF((E257-MAX(D257,(23/24))+(E257<D257))<0,0,(E257-MAX(D257,(23/24))+(E257<D257))))),o),\"\")","v":""},"","","","",{"$f":"IFERROR(IF(OR(AND(C257=\"\",D257<E257,OR(WEEKDAY(A257,2)=1,WEEKDAY(A257,2)>=6)),AND(C257=\"\",D257>E257,OR(WEEKDAY(A257,2)>=5)),AND(C257<>\"\",D257>E257,WEEKDAY(A257,2)>=5)),ColTime(Data!$J$6,Data!$L$6,D257,E257),\"\"),\"\")","v":""},{"$f":"IFERROR(IF(OR(AND(WEEKDAY(A257,2)>1,WEEKDAY(A257,2)<6,D257<E257,C257=\"\"),AND(C257=\"\",WEEKDAY(A257,2)=1,E257<D257),AND(C257<>\"\",D257<E257,WEEKDAY(A257,2)>1,WEEKDAY(A257,2)<4),AND(C257<>\"\",D257>E257,WEEKDAY(A257,2)=1)),ColTime(Data!$J$6,Data!$L$6,D257,E257),\"\"),\"\")","v":""},null,{"$f":"IF(F257=\"\",\"\",IF(AND(C257<>\"\",OR(D257<E257,AND(D257>E257,C563<>\"\"))),ColTime(Data!$J$6,Data!$L$6,D257,E257),\"\"))","v":""}]
["2020-09-09","On","",null,null,"",null,null,null,{"$f":"IF(OR(AND(C258<>\"\",D258>E258,WEEKDAY(A258,2)=5),AND(C258=\"\",WEEKDAY(A258,2)>5)),IF(D258=\"\",\"\",ColTime(Data!$J$3,Data!$L$3,D258,E258)),\"\")","v":""},"","",{"$f":"IFERROR(IF(AND(C258=\"\",WEEKDAY(A258,2)>5),IF(D258=\"\",\"\",(IF(E258-MAX(D258,(15/24))+(E258<D258)<0,0,E258-MAX(D258,(15/24))+($E258<D258)))-(IF((E258-MAX(D258,(23/24))+(E258<D258))<0,0,(E258-MAX(D258,(23/24))+(E258<D258))))),o),\"\")","v":""},"","","","",{"$f":"IFERROR(IF(OR(AND(C258=\"\",D258<E258,OR(WEEKDAY(A258,2)=1,WEEKDAY(A258,2)>=6)),AND(C258=\"\",D258>E258,OR(WEEKDAY(A258,2)>=5)),AND(C258<>\"\",D258>E258,WEEKDAY(A258,2)>=5)),ColTime(Data!$J$6,Data!$L$6,D258,E258),\"\"),\"\")","v":""},{"$f":"IFERROR(IF(OR(AND(WEEKDAY(A258,2)>1,WEEKDAY(A258,2)<6,D258<E258,C258=\"\"),AND(C258=\"\",WEEKDAY(A258,2)=1,E258<D258),AND(C258<>\"\",D258<E258,WEEKDAY(A258,2)>1,WEEKDAY(A258,2)<4),AND(C258<>\"\",D258>E258,WEEKDAY(A258,2)=1)),ColTime(Data!$J$6,Data!$L$6,D258,E258),\"\"),\"\")","v":""},null,{"$f":"IF(F258=\"\",\"\",IF(AND(C258<>\"\",OR(D258<E258,AND(D258>E258,C564<>\"\"))),ColTime(Data!$J$6,Data!$L$6,D258,E258),\"\"))","v":""}]
["2020-09-10","To","",null,null,"",null,null,null,{"$f":"IF(OR(AND(C259<>\"\",D259>E259,WEEKDAY(A259,2)=5),AND(C259=\"\",WEEKDAY(A259,2)>5)),IF(D259=\"\",\"\",ColTime(Data!$J$3,Data!$L$3,D259,E259)),\"\")","v":""},"","",{"$f":"IFERROR(IF(AND(C259=\"\",WEEKDAY(A259,2)>5),IF(D259=\"\",\"\",(IF(E259-MAX(D259,(15/24))+(E259<D259)<0,0,E259-MAX(D259,(15/24))+($E259<D259)))-(IF((E259-MAX(D259,(23/24))+(E259<D259))<0,0,(E259-MAX(D259,(23/24))+(E259<D259))))),o),\"\")","v":""},"","","","",{"$f":"IFERROR(IF(OR(AND(C259=\"\",D259<E259,OR(WEEKDAY(A259,2)=1,WEEKDAY(A259,2)>=6)),AND(C259=\"\",D259>E259,OR(WEEKDAY(A259,2)>=5)),AND(C259<>\"\",D259>E259,WEEKDAY(A259,2)>=5)),ColTime(Data!$J$6,Data!$L$6,D259,E259),\"\"),\"\")","v":""},{"$f":"IFERROR(IF(OR(AND(WEEKDAY(A259,2)>1,WEEKDAY(A259,2)<6,D259<E259,C259=\"\"),AND(C259=\"\",WEEKDAY(A259,2)=1,E259<D259),AND(C259<>\"\",D259<E259,WEEKDAY(A259,2)>1,WEEKDAY(A259,2)<4),AND(C259<>\"\",D259>E259,WEEKDAY(A259,2)=1)),ColTime(Data!$J$6,Data!$L$6,D259,E259),\"\"),\"\")","v":""},null,{"$f":"IF(F259=\"\",\"\",IF(AND(C259<>\"\",OR(D259<E259,AND(D259>E259,C565<>\"\"))),ColTime(Data!$J$6,Data!$L$6,D259,E259),\"\"))","v":""}]
["2020-09-11","Fr","",null,null,"",null,null,null,{"$f":"IF(OR(AND(C260<>\"\",D260>E260,WEEKDAY(A260,2)=5),AND(C260=\"\",WEEKDAY(A260,2)>5)),IF(D260=\"\",\"\",ColTime(Data!$J$3,Data!$L$3,D260,E260)),\"\")","v":""},"","",{"$f":"IFERROR(IF(AND(C260=\"\",WEEKDAY(A260,2)>5),IF(D260=\"\",\"\",(IF(E260-MAX(D260,(15/24))+(E260<D260)<0,0,E260-MAX(D260,(15/24))+($E260<D260)))-(IF((E260-MAX(D260,(23/24))+(E260<D260))<0,0,(E260-MAX(D260,(23/24))+(E260<D260))))),o),\"\")","v":""},"","","","",{"$f":"IFERROR(IF(OR(AND(C260=\"\",D260<E260,OR(WEEKDAY(A260,2)=1,WEEKDAY(A260,2)>=6)),AND(C260=\"\",D260>E260,OR(WEEKDAY(A260,2)>=5)),AND(C260<>\"\",D260>E260,WEEKDAY(A260,2)>=5)),ColTime(Data!$J$6,Data!$L$6,D260,E260),\"\"),\"\")","v":""},{"$f":"IFERROR(IF(OR(AND(WEEKDAY(A260,2)>1,WEEKDAY(A260,2)<6,D260<E260,C260=\"\"),AND(C260=\"\",WEEKDAY(A260,2)=1,E260<D260),AND(C260<>\"\",D260<E260,WEEKDAY(A260,2)>1,WEEKDAY(A260,2)<4),AND(C260<>\"\",D260>E260,WEEKDAY(A260,2)=1)),ColTime(Data!$J$6,Data!$L$6,D260,E260),\"\"),\"\")","v":""},null,{"$f":"IF(F260=\"\",\"\",IF(AND(C260<>\"\",OR(D260<E260,AND(D260>E260,C566<>\"\"))),ColTime(Data!$J$6,Data!$L$6,D260,E260),\"\"))","v":""}]
["2020-09-12","Lø","",null,null,"",null,null,null,{"$f":"IF(OR(AND(C261<>\"\",D261>E261,WEEKDAY(A261,2)=5),AND(C261=\"\",WEEKDAY(A261,2)>5)),IF(D261=\"\",\"\",ColTime(Data!$J$3,Data!$L$3,D261,E261)),\"\")","v":""},"","",{"$f":"IFERROR(IF(AND(C261=\"\",WEEKDAY(A261,2)>5),IF(D261=\"\",\"\",(IF(E261-MAX(D261,(15/24))+(E261<D261)<0,0,E261-MAX(D261,(15/24))+($E261<D261)))-(IF((E261-MAX(D261,(23/24))+(E261<D261))<0,0,(E261-MAX(D261,(23/24))+(E261<D261))))),o),\"\")","v":""},"","","","",{"$f":"IFERROR(IF(OR(AND(C261=\"\",D261<E261,OR(WEEKDAY(A261,2)=1,WEEKDAY(A261,2)>=6)),AND(C261=\"\",D261>E261,OR(WEEKDAY(A261,2)>=5)),AND(C261<>\"\",D261>E261,WEEKDAY(A261,2)>=5)),ColTime(Data!$J$6,Data!$L$6,D261,E261),\"\"),\"\")","v":""},{"$f":"IFERROR(IF(OR(AND(WEEKDAY(A261,2)>1,WEEKDAY(A261,2)<6,D261<E261,C261=\"\"),AND(C261=\"\",WEEKDAY(A261,2)=1,E261<D261),AND(C261<>\"\",D261<E261,WEEKDAY(A261,2)>1,WEEKDAY(A261,2)<4),AND(C261<>\"\",D261>E261,WEEKDAY(A261,2)=1)),ColTime(Data!$J$6,Data!$L$6,D261,E261),\"\"),\"\")","v":""},null,{"$f":"IF(F261=\"\",\"\",IF(AND(C261<>\"\",OR(D261<E261,AND(D261>E261,C567<>\"\"))),ColTime(Data!$J$6,Data!$L$6,D261,E261),\"\"))","v":""}]
["2020-09-13","Sø","",null,null,"",null,null,null,{"$f":"IF(OR(AND(C262<>\"\",D262>E262,WEEKDAY(A262,2)=5),AND(C262=\"\",WEEKDAY(A262,2)>5)),IF(D262=\"\",\"\",ColTime(Data!$J$3,Data!$L$3,D262,E262)),\"\")","v":""},"","",{"$f":"IFERROR(IF(AND(C262=\"\",WEEKDAY(A262,2)>5),IF(D262=\"\",\"\",(IF(E262-MAX(D262,(15/24))+(E262<D262)<0,0,E262-MAX(D262,(15/24))+($E262<D262)))-(IF((E262-MAX(D262,(23/24))+(E262<D262))<0,0,(E262-MAX(D262,(23/24))+(E262<D262))))),o),\"\")","v":""},"","","","",{"$f":"IFERROR(IF(OR(AND(C262=\"\",D262<E262,OR(WEEKDAY(A262,2)=1,WEEKDAY(A262,2)>=6)),AND(C262=\"\",D262>E262,OR(WEEKDAY(A262,2)>=5)),AND(C262<>\"\",D262>E262,WEEKDAY(A262,2)>=5)),ColTime(Data!$J$6,Data!$L$6,D262,E262),\"\"),\"\")","v":""},{"$f":"IFERROR(IF(OR(AND(WEEKDAY(A262,2)>1,WEEKDAY(A262,2)<6,D262<E262,C262=\"\"),AND(C262=\"\",WEEKDAY(A262,2)=1,E262<D262),AND(C262<>\"\",D262<E262,WEEKDAY(A262,2)>1,WEEKDAY(A262,2)<4),AND(C262<>\"\",D262>E262,WEEKDAY(A262,2)=1)),ColTime(Data!$J$6,Data!$L$6,D262,E262),\"\"),\"\")","v":""},null,{"$f":"IF(F262=\"\",\"\",IF(AND(C262<>\"\",OR(D262<E262,AND(D262>E262,C568<>\"\"))),ColTime(Data!$J$6,Data!$L$6,D262,E262),\"\"))","v":""}]
[{"$f":"A262+1","v":"2020-09-14"},"Ma","",null,null,"",null,null,null,{"$f":"IF(OR(AND(C263<>\"\",D263>E263,WEEKDAY(A263,2)=5),AND(C263=\"\",WEEKDAY(A263,2)>5)),IF(D263=\"\",\"\",ColTime(Data!$J$3,Data!$L$3,D263,E263)),\"\")","v":""},"","",{"$f":"IFERROR(IF(AND(C263=\"\",WEEKDAY(A263,2)>5),IF(D263=\"\",\"\",(IF(E263-MAX(D263,(15/24))+(E263<D263)<0,0,E263-MAX(D263,(15/24))+($E263<D263)))-(IF((E263-MAX(D263,(23/24))+(E263<D263))<0,0,(E263-MAX(D263,(23/24))+(E263<D263))))),o),\"\")","v":""},"","","","",{"$f":"IFERROR(IF(OR(AND(C263=\"\",D263<E263,OR(WEEKDAY(A263,2)=1,WEEKDAY(A263,2)>=6)),AND(C263=\"\",D263>E263,OR(WEEKDAY(A263,2)>=5)),AND(C263<>\"\",D263>E263,WEEKDAY(A263,2)>=5)),ColTime(Data!$J$6,Data!$L$6,D263,E263),\"\"),\"\")","v":""},{"$f":"IFERROR(IF(OR(AND(WEEKDAY(A263,2)>1,WEEKDAY(A263,2)<6,D263<E263,C263=\"\"),AND(C263=\"\",WEEKDAY(A263,2)=1,E263<D263),AND(C263<>\"\",D263<E263,WEEKDAY(A263,2)>1,WEEKDAY(A263,2)<4),AND(C263<>\"\",D263>E263,WEEKDAY(A263,2)=1)),ColTime(Data!$J$6,Data!$L$6,D263,E263),\"\"),\"\")","v":""},null,{"$f":"IF(F263=\"\",\"\",IF(AND(C263<>\"\",OR(D263<E263,AND(D263>E263,C569<>\"\"))),ColTime(Data!$J$6,Data!$L$6,D263,E263),\"\"))","v":""}]
["2020-09-15","Ti","",null,null,"",null,null,null,{"$f":"IF(OR(AND(C264<>\"\",D264>E264,WEEKDAY(A264,2)=5),AND(C264=\"\",WEEKDAY(A264,2)>5)),IF(D264=\"\",\"\",ColTime(Data!$J$3,Data!$L$3,D264,E264)),\"\")","v":""},"","",{"$f":"IFERROR(IF(AND(C264=\"\",WEEKDAY(A264,2)>5),IF(D264=\"\",\"\",(IF(E264-MAX(D264,(15/24))+(E264<D264)<0,0,E264-MAX(D264,(15/24))+($E264<D264)))-(IF((E264-MAX(D264,(23/24))+(E264<D264))<0,0,(E264-MAX(D264,(23/24))+(E264<D264))))),o),\"\")","v":""},"","","",{"$f":"IF(D264=\"\",\"\",IF(C264<>\"\",IF(D264=\"\",\"\",(IF(E264-MAX(D264,(23/24))+(E264<D264)<0,0,E264-MAX(D264,(23/24))+(E264<D264)))-(IF((E264-MAX(D264,(24/24))+(E264<D264))<0,0,(E264-MAX(D264,(24/24))+(E264<D264))))),0))","v":""},{"$f":"IFERROR(IF(OR(AND(C264=\"\",D264<E264,OR(WEEKDAY(A264,2)=1,WEEKDAY(A264,2)>=6)),AND(C264=\"\",D264>E264,OR(WEEKDAY(A264,2)>=5)),AND(C264<>\"\",D264>E264,WEEKDAY(A264,2)>=5)),ColTime(Data!$J$6,Data!$L$6,D264,E264),\"\"),\"\")","v":""},{"$f":"IFERROR(IF(OR(AND(WEEKDAY(A264,2)>1,WEEKDAY(A264,2)<6,D264<E264,C264=\"\"),AND(C264=\"\",WEEKDAY(A264,2)=1,E264<D264),AND(C264<>\"\",D264<E264,WEEKDAY(A264,2)>1,WEEKDAY(A264,2)<4),AND(C264<>\"\",D264>E264,WEEKDAY(A264,2)=1)),ColTime(Data!$J$6,Data!$L$6,D264,E264),\"\"),\"\")","v":""},null,{"$f":"IF(F264=\"\",\"\",IF(AND(C264<>\"\",OR(D264<E264,AND(D264>E264,C570<>\"\"))),ColTime(Data!$J$6,Data!$L$6,D264,E264),\"\"))","v":""}]
["2020-09-16","On","",null,null,"",null,null,null,{"$f":"IF(OR(AND(C265<>\"\",D265>E265,WEEKDAY(A265,2)=5),AND(C265=\"\",WEEKDAY(A265,2)>5)),IF(D265=\"\",\"\",ColTime(Data!$J$3,Data!$L$3,D265,E265)),\"\")","v":""},"","",{"$f":"IFERROR(IF(AND(C265=\"\",WEEKDAY(A265,2)>5),IF(D265=\"\",\"\",(IF(E265-MAX(D265,(15/24))+(E265<D265)<0,0,E265-MAX(D265,(15/24))+($E265<D265)))-(IF((E265-MAX(D265,(23/24))+(E265<D265))<0,0,(E265-MAX(D265,(23/24))+(E265<D265))))),o),\"\")","v":""},"","","","",{"$f":"IFERROR(IF(OR(AND(C265=\"\",D265<E265,OR(WEEKDAY(A265,2)=1,WEEKDAY(A265,2)>=6)),AND(C265=\"\",D265>E265,OR(WEEKDAY(A265,2)>=5)),AND(C265<>\"\",D265>E265,WEEKDAY(A265,2)>=5)),ColTime(Data!$J$6,Data!$L$6,D265,E265),\"\"),\"\")","v":""},{"$f":"IFERROR(IF(OR(AND(WEEKDAY(A265,2)>1,WEEKDAY(A265,2)<6,D265<E265,C265=\"\"),AND(C265=\"\",WEEKDAY(A265,2)=1,E265<D265),AND(C265<>\"\",D265<E265,WEEKDAY(A265,2)>1,WEEKDAY(A265,2)<4),AND(C265<>\"\",D265>E265,WEEKDAY(A265,2)=1)),ColTime(Data!$J$6,Data!$L$6,D265,E265),\"\"),\"\")","v":""},null,{"$f":"IF(F265=\"\",\"\",IF(AND(C265<>\"\",OR(D265<E265,AND(D265>E265,C571<>\"\"))),ColTime(Data!$J$6,Data!$L$6,D265,E265),\"\"))","v":""}]
["2020-09-17","To","",null,null,"",null,null,null,{"$f":"IF(OR(AND(C266<>\"\",D266>E266,WEEKDAY(A266,2)=5),AND(C266=\"\",WEEKDAY(A266,2)>5)),IF(D266=\"\",\"\",ColTime(Data!$J$3,Data!$L$3,D266,E266)),\"\")","v":""},"","",{"$f":"IFERROR(IF(AND(C266=\"\",WEEKDAY(A266,2)>5),IF(D266=\"\",\"\",(IF(E266-MAX(D266,(15/24))+(E266<D266)<0,0,E266-MAX(D266,(15/24))+($E266<D266)))-(IF((E266-MAX(D266,(23/24))+(E266<D266))<0,0,(E266-MAX(D266,(23/24))+(E266<D266))))),o),\"\")","v":""},"","","","",{"$f":"IFERROR(IF(OR(AND(C266=\"\",D266<E266,OR(WEEKDAY(A266,2)=1,WEEKDAY(A266,2)>=6)),AND(C266=\"\",D266>E266,OR(WEEKDAY(A266,2)>=5)),AND(C266<>\"\",D266>E266,WEEKDAY(A266,2)>=5)),ColTime(Data!$J$6,Data!$L$6,D266,E266),\"\"),\"\")","v":""},{"$f":"IFERROR(IF(OR(AND(WEEKDAY(A266,2)>1,WEEKDAY(A266,2)<6,D266<E266,C266=\"\"),AND(C266=\"\",WEEKDAY(A266,2)=1,E266<D266),AND(C266<>\"\",D266<E266,WEEKDAY(A266,2)>1,WEEKDAY(A266,2)<4),AND(C266<>\"\",D266>E266,WEEKDAY(A266,2)=1)),ColTime(Data!$J$6,Data!$L$6,D266,E266),\"\"),\"\")","v":""},null,{"$f":"IF(F266=\"\",\"\",IF(AND(C266<>\"\",OR(D266<E266,AND(D266>E266,C572<>\"\"))),ColTime(Data!$J$6,Data!$L$6,D266,E266),\"\"))","v":""}]
["2020-09-18","Fr","",null,null,"",null,null,null,{"$f":"IF(OR(AND(C267<>\"\",D267>E267,WEEKDAY(A267,2)=5),AND(C267=\"\",WEEKDAY(A267,2)>5)),IF(D267=\"\",\"\",ColTime(Data!$J$3,Data!$L$3,D267,E267)),\"\")","v":""},"","",{"$f":"IFERROR(IF(AND(C267=\"\",WEEKDAY(A267,2)>5),IF(D267=\"\",\"\",(IF(E267-MAX(D267,(15/24))+(E267<D267)<0,0,E267-MAX(D267,(15/24))+($E267<D267)))-(IF((E267-MAX(D267,(23/24))+(E267<D267))<0,0,(E267-MAX(D267,(23/24))+(E267<D267))))),o),\"\")","v":""},"","","","",{"$f":"IFERROR(IF(OR(AND(C267=\"\",D267<E267,OR(WEEKDAY(A267,2)=1,WEEKDAY(A267,2)>=6)),AND(C267=\"\",D267>E267,OR(WEEKDAY(A267,2)>=5)),AND(C267<>\"\",D267>E267,WEEKDAY(A267,2)>=5)),ColTime(Data!$J$6,Data!$L$6,D267,E267),\"\"),\"\")","v":""},{"$f":"IFERROR(IF(OR(AND(WEEKDAY(A267,2)>1,WEEKDAY(A267,2)<6,D267<E267,C267=\"\"),AND(C267=\"\",WEEKDAY(A267,2)=1,E267<D267),AND(C267<>\"\",D267<E267,WEEKDAY(A267,2)>1,WEEKDAY(A267,2)<4),AND(C267<>\"\",D267>E267,WEEKDAY(A267,2)=1)),ColTime(Data!$J$6,Data!$L$6,D267,E267),\"\"),\"\")","v":""},null,{"$f":"IF(F267=\"\",\"\",IF(AND(C267<>\"\",OR(D267<E267,AND(D267>E267,C573<>\"\"))),ColTime(Data!$J$6,Data!$L$6,D267,E267),\"\"))","v":""}]
["2020-09-19","Lø","",null,null,"",null,null,null,{"$f":"IF(OR(AND(C268<>\"\",D268>E268,WEEKDAY(A268,2)=5),AND(C268=\"\",WEEKDAY(A268,2)>5)),IF(D268=\"\",\"\",ColTime(Data!$J$3,Data!$L$3,D268,E268)),\"\")","v":""},"","",{"$f":"IFERROR(IF(AND(C268=\"\",WEEKDAY(A268,2)>5),IF(D268=\"\",\"\",(IF(E268-MAX(D268,(15/24))+(E268<D268)<0,0,E268-MAX(D268,(15/24))+($E268<D268)))-(IF((E268-MAX(D268,(23/24))+(E268<D268))<0,0,(E268-MAX(D268,(23/24))+(E268<D268))))),o),\"\")","v":""},"","","","",{"$f":"IFERROR(IF(OR(AND(C268=\"\",D268<E268,OR(WEEKDAY(A268,2)=1,WEEKDAY(A268,2)>=6)),AND(C268=\"\",D268>E268,OR(WEEKDAY(A268,2)>=5)),AND(C268<>\"\",D268>E268,WEEKDAY(A268,2)>=5)),ColTime(Data!$J$6,Data!$L$6,D268,E268),\"\"),\"\")","v":""},{"$f":"IFERROR(IF(OR(AND(WEEKDAY(A268,2)>1,WEEKDAY(A268,2)<6,D268<E268,C268=\"\"),AND(C268=\"\",WEEKDAY(A268,2)=1,E268<D268),AND(C268<>\"\",D268<E268,WEEKDAY(A268,2)>1,WEEKDAY(A268,2)<4),AND(C268<>\"\",D268>E268,WEEKDAY(A268,2)=1)),ColTime(Data!$J$6,Data!$L$6,D268,E268),\"\"),\"\")","v":""},null,{"$f":"IF(F268=\"\",\"\",IF(AND(C268<>\"\",OR(D268<E268,AND(D268>E268,C574<>\"\"))),ColTime(Data!$J$6,Data!$L$6,D268,E268),\"\"))","v":""}]
["2020-09-20","Sø","",null,null,"",null,null,null,{"$f":"IF(OR(AND(C269<>\"\",D269>E269,WEEKDAY(A269,2)=5),AND(C269=\"\",WEEKDAY(A269,2)>5)),IF(D269=\"\",\"\",ColTime(Data!$J$3,Data!$L$3,D269,E269)),\"\")","v":""},"","",{"$f":"IFERROR(IF(AND(C269=\"\",WEEKDAY(A269,2)>5),IF(D269=\"\",\"\",(IF(E269-MAX(D269,(15/24))+(E269<D269)<0,0,E269-MAX(D269,(15/24))+($E269<D269)))-(IF((E269-MAX(D269,(23/24))+(E269<D269))<0,0,(E269-MAX(D269,(23/24))+(E269<D269))))),o),\"\")","v":""},"","","","",{"$f":"IFERROR(IF(OR(AND(C269=\"\",D269<E269,OR(WEEKDAY(A269,2)=1,WEEKDAY(A269,2)>=6)),AND(C269=\"\",D269>E269,OR(WEEKDAY(A269,2)>=5)),AND(C269<>\"\",D269>E269,WEEKDAY(A269,2)>=5)),ColTime(Data!$J$6,Data!$L$6,D269,E269),\"\"),\"\")","v":""},{"$f":"IFERROR(IF(OR(AND(WEEKDAY(A269,2)>1,WEEKDAY(A269,2)<6,D269<E269,C269=\"\"),AND(C269=\"\",WEEKDAY(A269,2)=1,E269<D269),AND(C269<>\"\",D269<E269,WEEKDAY(A269,2)>1,WEEKDAY(A269,2)<4),AND(C269<>\"\",D269>E269,WEEKDAY(A269,2)=1)),ColTime(Data!$J$6,Data!$L$6,D269,E269),\"\"),\"\")","v":""},null,{"$f":"IF(F269=\"\",\"\",IF(AND(C269<>\"\",OR(D269<E269,AND(D269>E269,C575<>\"\"))),ColTime(Data!$J$6,Data!$L$6,D269,E269),\"\"))","v":""}]
["2020-09-21","Ma","",null,null,"",null,null,null,{"$f":"IF(OR(AND(C270<>\"\",D270>E270,WEEKDAY(A270,2)=5),AND(C270=\"\",WEEKDAY(A270,2)>5)),IF(D270=\"\",\"\",ColTime(Data!$J$3,Data!$L$3,D270,E270)),\"\")","v":""},"","",{"$f":"IFERROR(IF(AND(C270=\"\",WEEKDAY(A270,2)>5),IF(D270=\"\",\"\",(IF(E270-MAX(D270,(15/24))+(E270<D270)<0,0,E270-MAX(D270,(15/24))+($E270<D270)))-(IF((E270-MAX(D270,(23/24))+(E270<D270))<0,0,(E270-MAX(D270,(23/24))+(E270<D270))))),o),\"\")","v":""},"","","","",{"$f":"IFERROR(IF(OR(AND(C270=\"\",D270<E270,OR(WEEKDAY(A270,2)=1,WEEKDAY(A270,2)>=6)),AND(C270=\"\",D270>E270,OR(WEEKDAY(A270,2)>=5)),AND(C270<>\"\",D270>E270,WEEKDAY(A270,2)>=5)),ColTime(Data!$J$6,Data!$L$6,D270,E270),\"\"),\"\")","v":""},{"$f":"IFERROR(IF(OR(AND(WEEKDAY(A270,2)>1,WEEKDAY(A270,2)<6,D270<E270,C270=\"\"),AND(C270=\"\",WEEKDAY(A270,2)=1,E270<D270),AND(C270<>\"\",D270<E270,WEEKDAY(A270,2)>1,WEEKDAY(A270,2)<4),AND(C270<>\"\",D270>E270,WEEKDAY(A270,2)=1)),ColTime(Data!$J$6,Data!$L$6,D270,E270),\"\"),\"\")","v":""},null,{"$f":"IF(F270=\"\",\"\",IF(AND(C270<>\"\",OR(D270<E270,AND(D270>E270,C576<>\"\"))),ColTime(Data!$J$6,Data!$L$6,D270,E270),\"\"))","v":""}]
["2020-09-22","Ti","",null,null,"",null,null,null,{"$f":"IF(OR(AND(C271<>\"\",D271>E271,WEEKDAY(A271,2)=5),AND(C271=\"\",WEEKDAY(A271,2)>5)),IF(D271=\"\",\"\",ColTime(Data!$J$3,Data!$L$3,D271,E271)),\"\")","v":""},"","",{"$f":"IFERROR(IF(AND(C271=\"\",WEEKDAY(A271,2)>5),IF(D271=\"\",\"\",(IF(E271-MAX(D271,(15/24))+(E271<D271)<0,0,E271-MAX(D271,(15/24))+($E271<D271)))-(IF((E271-MAX(D271,(23/24))+(E271<D271))<0,0,(E271-MAX(D271,(23/24))+(E271<D271))))),o),\"\")","v":""},"","","","",{"$f":"IFERROR(IF(OR(AND(C271=\"\",D271<E271,OR(WEEKDAY(A271,2)=1,WEEKDAY(A271,2)>=6)),AND(C271=\"\",D271>E271,OR(WEEKDAY(A271,2)>=5)),AND(C271<>\"\",D271>E271,WEEKDAY(A271,2)>=5)),ColTime(Data!$J$6,Data!$L$6,D271,E271),\"\"),\"\")","v":""},{"$f":"IFERROR(IF(OR(AND(WEEKDAY(A271,2)>1,WEEKDAY(A271,2)<6,D271<E271,C271=\"\"),AND(C271=\"\",WEEKDAY(A271,2)=1,E271<D271),AND(C271<>\"\",D271<E271,WEEKDAY(A271,2)>1,WEEKDAY(A271,2)<4),AND(C271<>\"\",D271>E271,WEEKDAY(A271,2)=1)),ColTime(Data!$J$6,Data!$L$6,D271,E271),\"\"),\"\")","v":""},null,{"$f":"IF(F271=\"\",\"\",IF(AND(C271<>\"\",OR(D271<E271,AND(D271>E271,C577<>\"\"))),ColTime(Data!$J$6,Data!$L$6,D271,E271),\"\"))","v":""}]
["2020-09-23","On","",null,null,"",null,null,null,{"$f":"IF(OR(AND(C272<>\"\",D272>E272,WEEKDAY(A272,2)=5),AND(C272=\"\",WEEKDAY(A272,2)>5)),IF(D272=\"\",\"\",ColTime(Data!$J$3,Data!$L$3,D272,E272)),\"\")","v":""},"","",{"$f":"IFERROR(IF(AND(C272=\"\",WEEKDAY(A272,2)>5),IF(D272=\"\",\"\",(IF(E272-MAX(D272,(15/24))+(E272<D272)<0,0,E272-MAX(D272,(15/24))+($E272<D272)))-(IF((E272-MAX(D272,(23/24))+(E272<D272))<0,0,(E272-MAX(D272,(23/24))+(E272<D272))))),o),\"\")","v":""},"","","","",{"$f":"IFERROR(IF(OR(AND(C272=\"\",D272<E272,OR(WEEKDAY(A272,2)=1,WEEKDAY(A272,2)>=6)),AND(C272=\"\",D272>E272,OR(WEEKDAY(A272,2)>=5)),AND(C272<>\"\",D272>E272,WEEKDAY(A272,2)>=5)),ColTime(Data!$J$6,Data!$L$6,D272,E272),\"\"),\"\")","v":""},{"$f":"IFERROR(IF(OR(AND(WEEKDAY(A272,2)>1,WEEKDAY(A272,2)<6,D272<E272,C272=\"\"),AND(C272=\"\",WEEKDAY(A272,2)=1,E272<D272),AND(C272<>\"\",D272<E272,WEEKDAY(A272,2)>1,WEEKDAY(A272,2)<4),AND(C272<>\"\",D272>E272,WEEKDAY(A272,2)=1)),ColTime(Data!$J$6,Data!$L$6,D272,E272),\"\"),\"\")","v":""},null,{"$f":"IF(F272=\"\",\"\",IF(AND(C272<>\"\",OR(D272<E272,AND(D272>E272,C578<>\"\"))),ColTime(Data!$J$6,Data!$L$6,D272,E272),\"\"))","v":""}]
["2020-09-24","To","",null,null,"",null,null,null,{"$f":"IF(OR(AND(C273<>\"\",D273>E273,WEEKDAY(A273,2)=5),AND(C273=\"\",WEEKDAY(A273,2)>5)),IF(D273=\"\",\"\",ColTime(Data!$J$3,Data!$L$3,D273,E273)),\"\")","v":""},"","",{"$f":"IFERROR(IF(AND(C273=\"\",WEEKDAY(A273,2)>5),IF(D273=\"\",\"\",(IF(E273-MAX(D273,(15/24))+(E273<D273)<0,0,E273-MAX(D273,(15/24))+($E273<D273)))-(IF((E273-MAX(D273,(23/24))+(E273<D273))<0,0,(E273-MAX(D273,(23/24))+(E273<D273))))),o),\"\")","v":""},"","","","",{"$f":"IFERROR(IF(OR(AND(C273=\"\",D273<E273,OR(WEEKDAY(A273,2)=1,WEEKDAY(A273,2)>=6)),AND(C273=\"\",D273>E273,OR(WEEKDAY(A273,2)>=5)),AND(C273<>\"\",D273>E273,WEEKDAY(A273,2)>=5)),ColTime(Data!$J$6,Data!$L$6,D273,E273),\"\"),\"\")","v":""},{"$f":"IFERROR(IF(OR(AND(WEEKDAY(A273,2)>1,WEEKDAY(A273,2)<6,D273<E273,C273=\"\"),AND(C273=\"\",WEEKDAY(A273,2)=1,E273<D273),AND(C273<>\"\",D273<E273,WEEKDAY(A273,2)>1,WEEKDAY(A273,2)<4),AND(C273<>\"\",D273>E273,WEEKDAY(A273,2)=1)),ColTime(Data!$J$6,Data!$L$6,D273,E273),\"\"),\"\")","v":""},null,{"$f":"IF(F273=\"\",\"\",IF(AND(C273<>\"\",OR(D273<E273,AND(D273>E273,C579<>\"\"))),ColTime(Data!$J$6,Data!$L$6,D273,E273),\"\"))","v":""}]
["2020-09-25",{"$f":"PROPER(TEXT(A274,\"ddd\"))","v":"Fr"},{"$f":"HelligdagsNavn(A274,0,0)","v":""},null,null,{"$f":"IF(D274=\"\",\"\",(E274-D274)+(D274>E274))","v":""},null,null,null,{"$f":"IF(OR(AND(C274<>\"\",D274>E274,WEEKDAY(A274,2)=5),AND(C274=\"\",WEEKDAY(A274,2)>5)),IF(D274=\"\",\"\",ColTime(Data!$J$3,Data!$L$3,D274,E274)),\"\")","v":""},{"$f":"IF(C274<>\"\",IF(D274=\"\",\"\",(IF(E274-MAX(D274,(7/24))+(E274<D274)<0,0,E274-MAX(D274,(7/24))+(E274<D274)))-(IF((E274-MAX(D274,(15/24))+(E274<D274))<0,0,(E274-MAX(D274,(15/24))+(E274<D274))))),\"\")","v":""},{"$f":"IFERROR(IF(AND(C274=\"\",WEEKDAY(A274,2)<6),IF(D274=\"\",\"\",(IF(E274-MAX(D274,(15/24))+(E274<D274)<0,0,E274-MAX(D274,(15/24))+(E274<D274)))-(IF((E274-MAX(D274,(23/24))+(E274<D274))<0,0,(E274-MAX(D274,(23/24))+(E274<D274))))),\"\"),\"\")","v":""},{"$f":"IFERROR(IF(AND(C274=\"\",WEEKDAY(A274,2)>5),IF(D274=\"\",\"\",(IF(E274-MAX(D274,(15/24))+(E274<D274)<0,0,E274-MAX(D274,(15/24))+($E274<D274)))-(IF((E274-MAX(D274,(23/24))+(E274<D274))<0,0,(E274-MAX(D274,(23/24))+(E274<D274))))),o),\"\")","v":""},{"$f":"IF(C274<>\"\",IF(D274=\"\",\"\",(IF(E274-MAX(D274,(15/24))+(E274<D274)<0,0,E274-MAX(D274,(15/24))+(E274<D274)))-(IF((E274-MAX(D274,(23/24))+(E274<D274))<0,0,(E274-MAX(D274,(23/24))+(E274<D274))))),\"\")","v":""},{"$f":"IF(A274=\"\",\"\",IF(AND(C274=\"\",WEEKDAY(A274,2)<5),IF(D274=\"\",\"\",(IF(E274-MAX(D274,(23/24))+(E274<D274)<0,0,E274-MAX(D274,(23/24))+(E274<D274)))-(IF((E274-MAX(D274,(24/24))+(E274<D274))<0,0,(E274-MAX(D274,(24/24))+(E274<D274))))),\"\"))","v":""},{"$f":"IFERROR(IF(AND(C274=\"\",WEEKDAY(A274,2)>4),IF(D274=\"\",\"\",(IF(E274-MAX(D274,(23/24))+(E274<D274)<0,0,E274-MAX(D274,(23/24))+(E274<D274)))-(IF((E274-MAX(D274,(24/24))+(E274<D274))<0,0,(E274-MAX(D274,(24/24))+(E274<D274))))),\"\"),\"\")","v":""},"",{"$f":"IFERROR(IF(OR(AND(C274=\"\",D274<E274,OR(WEEKDAY(A274,2)=1,WEEKDAY(A274,2)>=6)),AND(C274=\"\",D274>E274,OR(WEEKDAY(A274,2)>=5)),AND(C274<>\"\",D274>E274,WEEKDAY(A274,2)>=5)),ColTime(Data!$J$6,Data!$L$6,D274,E274),\"\"),\"\")","v":""},{"$f":"IFERROR(IF(OR(AND(WEEKDAY(A274,2)>1,WEEKDAY(A274,2)<6,D274<E274,C274=\"\"),AND(C274=\"\",WEEKDAY(A274,2)=1,E274<D274),AND(C274<>\"\",D274<E274,WEEKDAY(A274,2)>1,WEEKDAY(A274,2)<4),AND(C274<>\"\",D274>E274,WEEKDAY(A274,2)=1)),ColTime(Data!$J$6,Data!$L$6,D274,E274),\"\"),\"\")","v":""},null,{"$f":"IF(F274=\"\",\"\",IF(AND(C274<>\"\",OR(D274<E274,AND(D274>E274,C580<>\"\"))),ColTime(Data!$J$6,Data!$L$6,D274,E274),\"\"))","v":""}]
["2020-09-26","Lø","",null,null,"",null,null,null,{"$f":"IF(OR(AND(C275<>\"\",D275>E275,WEEKDAY(A275,2)=5),AND(C275=\"\",WEEKDAY(A275,2)>5)),IF(D275=\"\",\"\",ColTime(Data!$J$3,Data!$L$3,D275,E275)),\"\")","v":""},"","",{"$f":"IFERROR(IF(AND(C275=\"\",WEEKDAY(A275,2)>5),IF(D275=\"\",\"\",(IF(E275-MAX(D275,(15/24))+(E275<D275)<0,0,E275-MAX(D275,(15/24))+($E275<D275)))-(IF((E275-MAX(D275,(23/24))+(E275<D275))<0,0,(E275-MAX(D275,(23/24))+(E275<D275))))),o),\"\")","v":""},"","","","",{"$f":"IFERROR(IF(OR(AND(C275=\"\",D275<E275,OR(WEEKDAY(A275,2)=1,WEEKDAY(A275,2)>=6)),AND(C275=\"\",D275>E275,OR(WEEKDAY(A275,2)>=5)),AND(C275<>\"\",D275>E275,WEEKDAY(A275,2)>=5)),ColTime(Data!$J$6,Data!$L$6,D275,E275),\"\"),\"\")","v":""},{"$f":"IFERROR(IF(OR(AND(WEEKDAY(A275,2)>1,WEEKDAY(A275,2)<6,D275<E275,C275=\"\"),AND(C275=\"\",WEEKDAY(A275,2)=1,E275<D275),AND(C275<>\"\",D275<E275,WEEKDAY(A275,2)>1,WEEKDAY(A275,2)<4),AND(C275<>\"\",D275>E275,WEEKDAY(A275,2)=1)),ColTime(Data!$J$6,Data!$L$6,D275,E275),\"\"),\"\")","v":""},null,{"$f":"IF(F275=\"\",\"\",IF(AND(C275<>\"\",OR(D275<E275,AND(D275>E275,C581<>\"\"))),ColTime(Data!$J$6,Data!$L$6,D275,E275),\"\"))","v":""}]
["2020-09-27","Sø","",null,null,"",null,null,null,{"$f":"IF(OR(AND(C276<>\"\",D276>E276,WEEKDAY(A276,2)=5),AND(C276=\"\",WEEKDAY(A276,2)>5)),IF(D276=\"\",\"\",ColTime(Data!$J$3,Data!$L$3,D276,E276)),\"\")","v":""},"","",{"$f":"IFERROR(IF(AND(C276=\"\",WEEKDAY(A276,2)>5),IF(D276=\"\",\"\",(IF(E276-MAX(D276,(15/24))+(E276<D276)<0,0,E276-MAX(D276,(15/24))+($E276<D276)))-(IF((E276-MAX(D276,(23/24))+(E276<D276))<0,0,(E276-MAX(D276,(23/24))+(E276<D276))))),o),\"\")","v":""},"","","","",{"$f":"IFERROR(IF(OR(AND(C276=\"\",D276<E276,OR(WEEKDAY(A276,2)=1,WEEKDAY(A276,2)>=6)),AND(C276=\"\",D276>E276,OR(WEEKDAY(A276,2)>=5)),AND(C276<>\"\",D276>E276,WEEKDAY(A276,2)>=5)),ColTime(Data!$J$6,Data!$L$6,D276,E276),\"\"),\"\")","v":""},{"$f":"IFERROR(IF(OR(AND(WEEKDAY(A276,2)>1,WEEKDAY(A276,2)<6,D276<E276,C276=\"\"),AND(C276=\"\",WEEKDAY(A276,2)=1,E276<D276),AND(C276<>\"\",D276<E276,WEEKDAY(A276,2)>1,WEEKDAY(A276,2)<4),AND(C276<>\"\",D276>E276,WEEKDAY(A276,2)=1)),ColTime(Data!$J$6,Data!$L$6,D276,E276),\"\"),\"\")","v":""},null,{"$f":"IF(F276=\"\",\"\",IF(AND(C276<>\"\",OR(D276<E276,AND(D276>E276,C582<>\"\"))),ColTime(Data!$J$6,Data!$L$6,D276,E276),\"\"))","v":""}]
["2020-09-28","Ma","",null,null,"",null,null,null,{"$f":"IF(OR(AND(C277<>\"\",D277>E277,WEEKDAY(A277,2)=5),AND(C277=\"\",WEEKDAY(A277,2)>5)),IF(D277=\"\",\"\",ColTime(Data!$J$3,Data!$L$3,D277,E277)),\"\")","v":""},"","",{"$f":"IFERROR(IF(AND(C277=\"\",WEEKDAY(A277,2)>5),IF(D277=\"\",\"\",(IF(E277-MAX(D277,(15/24))+(E277<D277)<0,0,E277-MAX(D277,(15/24))+($E277<D277)))-(IF((E277-MAX(D277,(23/24))+(E277<D277))<0,0,(E277-MAX(D277,(23/24))+(E277<D277))))),o),\"\")","v":""},"","","","",{"$f":"IFERROR(IF(OR(AND(C277=\"\",D277<E277,OR(WEEKDAY(A277,2)=1,WEEKDAY(A277,2)>=6)),AND(C277=\"\",D277>E277,OR(WEEKDAY(A277,2)>=5)),AND(C277<>\"\",D277>E277,WEEKDAY(A277,2)>=5)),ColTime(Data!$J$6,Data!$L$6,D277,E277),\"\"),\"\")","v":""},{"$f":"IFERROR(IF(OR(AND(WEEKDAY(A277,2)>1,WEEKDAY(A277,2)<6,D277<E277,C277=\"\"),AND(C277=\"\",WEEKDAY(A277,2)=1,E277<D277),AND(C277<>\"\",D277<E277,WEEKDAY(A277,2)>1,WEEKDAY(A277,2)<4),AND(C277<>\"\",D277>E277,WEEKDAY(A277,2)=1)),ColTime(Data!$J$6,Data!$L$6,D277,E277),\"\"),\"\")","v":""},null,{"$f":"IF(F277=\"\",\"\",IF(AND(C277<>\"\",OR(D277<E277,AND(D277>E277,C583<>\"\"))),ColTime(Data!$J$6,Data!$L$6,D277,E277),\"\"))","v":""}]
["2020-09-29","Ti","Mikkelsdag",null,null,"",null,null,null,{"$f":"IF(OR(AND(C278<>\"\",D278>E278,WEEKDAY(A278,2)=5),AND(C278=\"\",WEEKDAY(A278,2)>5)),IF(D278=\"\",\"\",ColTime(Data!$J$3,Data!$L$3,D278,E278)),\"\")","v":""},"","",{"$f":"IFERROR(IF(AND(C278=\"\",WEEKDAY(A278,2)>5),IF(D278=\"\",\"\",(IF(E278-MAX(D278,(15/24))+(E278<D278)<0,0,E278-MAX(D278,(15/24))+($E278<D278)))-(IF((E278-MAX(D278,(23/24))+(E278<D278))<0,0,(E278-MAX(D278,(23/24))+(E278<D278))))),o),\"\")","v":""},"","","","",{"$f":"IFERROR(IF(OR(AND(C278=\"\",D278<E278,OR(WEEKDAY(A278,2)=1,WEEKDAY(A278,2)>=6)),AND(C278=\"\",D278>E278,OR(WEEKDAY(A278,2)>=5)),AND(C278<>\"\",D278>E278,WEEKDAY(A278,2)>=5)),ColTime(Data!$J$6,Data!$L$6,D278,E278),\"\"),\"\")","v":""},{"$f":"IFERROR(IF(OR(AND(WEEKDAY(A278,2)>1,WEEKDAY(A278,2)<6,D278<E278,C278=\"\"),AND(C278=\"\",WEEKDAY(A278,2)=1,E278<D278),AND(C278<>\"\",D278<E278,WEEKDAY(A278,2)>1,WEEKDAY(A278,2)<4),AND(C278<>\"\",D278>E278,WEEKDAY(A278,2)=1)),ColTime(Data!$J$6,Data!$L$6,D278,E278),\"\"),\"\")","v":""},null,{"$f":"IF(F278=\"\",\"\",IF(AND(C278<>\"\",OR(D278<E278,AND(D278>E278,C584<>\"\"))),ColTime(Data!$J$6,Data!$L$6,D278,E278),\"\"))","v":""}]
["2020-09-30","On","",null,null,"",null,null,null,{"$f":"IF(OR(AND(C279<>\"\",D279>E279,WEEKDAY(A279,2)=5),AND(C279=\"\",WEEKDAY(A279,2)>5)),IF(D279=\"\",\"\",ColTime(Data!$J$3,Data!$L$3,D279,E279)),\"\")","v":""},"","",{"$f":"IFERROR(IF(AND(C279=\"\",WEEKDAY(A279,2)>5),IF(D279=\"\",\"\",(IF(E279-MAX(D279,(15/24))+(E279<D279)<0,0,E279-MAX(D279,(15/24))+($E279<D279)))-(IF((E279-MAX(D279,(23/24))+(E279<D279))<0,0,(E279-MAX(D279,(23/24))+(E279<D279))))),o),\"\")","v":""},"","","","",{"$f":"IFERROR(IF(OR(AND(C279=\"\",D279<E279,OR(WEEKDAY(A279,2)=1,WEEKDAY(A279,2)>=6)),AND(C279=\"\",D279>E279,OR(WEEKDAY(A279,2)>=5)),AND(C279<>\"\",D279>E279,WEEKDAY(A279,2)>=5)),ColTime(Data!$J$6,Data!$L$6,D279,E279),\"\"),\"\")","v":""},{"$f":"IFERROR(IF(OR(AND(WEEKDAY(A279,2)>1,WEEKDAY(A279,2)<6,D279<E279,C279=\"\"),AND(C279=\"\",WEEKDAY(A279,2)=1,E279<D279),AND(C279<>\"\",D279<E279,WEEKDAY(A279,2)>1,WEEKDAY(A279,2)<4),AND(C279<>\"\",D279>E279,WEEKDAY(A279,2)=1)),ColTime(Data!$J$6,Data!$L$6,D279,E279),\"\"),\"\")","v":""},null,{"$f":"IF(F279=\"\",\"\",IF(AND(C279<>\"\",OR(D279<E279,AND(D279>E279,C585<>\"\"))),ColTime(Data!$J$6,Data!$L$6,D279,E279),\"\"))","v":""}]
["2020-10-01","To","",null,null,"",null,null,null,{"$f":"IF(OR(AND(C280<>\"\",D280>E280,WEEKDAY(A280,2)=5),AND(C280=\"\",WEEKDAY(A280,2)>5)),IF(D280=\"\",\"\",ColTime(Data!$J$3,Data!$L$3,D280,E280)),\"\")","v":""},"","",{"$f":"IFERROR(IF(AND(C280=\"\",WEEKDAY(A280,2)>5),IF(D280=\"\",\"\",(IF(E280-MAX(D280,(15/24))+(E280<D280)<0,0,E280-MAX(D280,(15/24))+($E280<D280)))-(IF((E280-MAX(D280,(23/24))+(E280<D280))<0,0,(E280-MAX(D280,(23/24))+(E280<D280))))),o),\"\")","v":""},"","","","",{"$f":"IFERROR(IF(OR(AND(C280=\"\",D280<E280,OR(WEEKDAY(A280,2)=1,WEEKDAY(A280,2)>=6)),AND(C280=\"\",D280>E280,OR(WEEKDAY(A280,2)>=5)),AND(C280<>\"\",D280>E280,WEEKDAY(A280,2)>=5)),ColTime(Data!$J$6,Data!$L$6,D280,E280),\"\"),\"\")","v":""},{"$f":"IFERROR(IF(OR(AND(WEEKDAY(A280,2)>1,WEEKDAY(A280,2)<6,D280<E280,C280=\"\"),AND(C280=\"\",WEEKDAY(A280,2)=1,E280<D280),AND(C280<>\"\",D280<E280,WEEKDAY(A280,2)>1,WEEKDAY(A280,2)<4),AND(C280<>\"\",D280>E280,WEEKDAY(A280,2)=1)),ColTime(Data!$J$6,Data!$L$6,D280,E280),\"\"),\"\")","v":""},null,{"$f":"IF(F280=\"\",\"\",IF(AND(C280<>\"\",OR(D280<E280,AND(D280>E280,C586<>\"\"))),ColTime(Data!$J$6,Data!$L$6,D280,E280),\"\"))","v":""}]
["2020-10-02","Fr","",null,null,"",null,null,null,{"$f":"IF(OR(AND(C281<>\"\",D281>E281,WEEKDAY(A281,2)=5),AND(C281=\"\",WEEKDAY(A281,2)>5)),IF(D281=\"\",\"\",ColTime(Data!$J$3,Data!$L$3,D281,E281)),\"\")","v":""},"","",{"$f":"IFERROR(IF(AND(C281=\"\",WEEKDAY(A281,2)>5),IF(D281=\"\",\"\",(IF(E281-MAX(D281,(15/24))+(E281<D281)<0,0,E281-MAX(D281,(15/24))+($E281<D281)))-(IF((E281-MAX(D281,(23/24))+(E281<D281))<0,0,(E281-MAX(D281,(23/24))+(E281<D281))))),o),\"\")","v":""},"","","","",{"$f":"IFERROR(IF(OR(AND(C281=\"\",D281<E281,OR(WEEKDAY(A281,2)=1,WEEKDAY(A281,2)>=6)),AND(C281=\"\",D281>E281,OR(WEEKDAY(A281,2)>=5)),AND(C281<>\"\",D281>E281,WEEKDAY(A281,2)>=5)),ColTime(Data!$J$6,Data!$L$6,D281,E281),\"\"),\"\")","v":""},{"$f":"IFERROR(IF(OR(AND(WEEKDAY(A281,2)>1,WEEKDAY(A281,2)<6,D281<E281,C281=\"\"),AND(C281=\"\",WEEKDAY(A281,2)=1,E281<D281),AND(C281<>\"\",D281<E281,WEEKDAY(A281,2)>1,WEEKDAY(A281,2)<4),AND(C281<>\"\",D281>E281,WEEKDAY(A281,2)=1)),ColTime(Data!$J$6,Data!$L$6,D281,E281),\"\"),\"\")","v":""},null,{"$f":"IF(F281=\"\",\"\",IF(AND(C281<>\"\",OR(D281<E281,AND(D281>E281,C587<>\"\"))),ColTime(Data!$J$6,Data!$L$6,D281,E281),\"\"))","v":""}]
["2020-10-03","Lø","",null,null,"",null,null,null,{"$f":"IF(OR(AND(C282<>\"\",D282>E282,WEEKDAY(A282,2)=5),AND(C282=\"\",WEEKDAY(A282,2)>5)),IF(D282=\"\",\"\",ColTime(Data!$J$3,Data!$L$3,D282,E282)),\"\")","v":""},"","",{"$f":"IFERROR(IF(AND(C282=\"\",WEEKDAY(A282,2)>5),IF(D282=\"\",\"\",(IF(E282-MAX(D282,(15/24))+(E282<D282)<0,0,E282-MAX(D282,(15/24))+($E282<D282)))-(IF((E282-MAX(D282,(23/24))+(E282<D282))<0,0,(E282-MAX(D282,(23/24))+(E282<D282))))),o),\"\")","v":""},"","","","",{"$f":"IFERROR(IF(OR(AND(C282=\"\",D282<E282,OR(WEEKDAY(A282,2)=1,WEEKDAY(A282,2)>=6)),AND(C282=\"\",D282>E282,OR(WEEKDAY(A282,2)>=5)),AND(C282<>\"\",D282>E282,WEEKDAY(A282,2)>=5)),ColTime(Data!$J$6,Data!$L$6,D282,E282),\"\"),\"\")","v":""},{"$f":"IFERROR(IF(OR(AND(WEEKDAY(A282,2)>1,WEEKDAY(A282,2)<6,D282<E282,C282=\"\"),AND(C282=\"\",WEEKDAY(A282,2)=1,E282<D282),AND(C282<>\"\",D282<E282,WEEKDAY(A282,2)>1,WEEKDAY(A282,2)<4),AND(C282<>\"\",D282>E282,WEEKDAY(A282,2)=1)),ColTime(Data!$J$6,Data!$L$6,D282,E282),\"\"),\"\")","v":""},null,{"$f":"IF(F282=\"\",\"\",IF(AND(C282<>\"\",OR(D282<E282,AND(D282>E282,C588<>\"\"))),ColTime(Data!$J$6,Data!$L$6,D282,E282),\"\"))","v":""}]
["2020-10-04","Sø","",null,null,"",null,null,null,{"$f":"IF(OR(AND(C283<>\"\",D283>E283,WEEKDAY(A283,2)=5),AND(C283=\"\",WEEKDAY(A283,2)>5)),IF(D283=\"\",\"\",ColTime(Data!$J$3,Data!$L$3,D283,E283)),\"\")","v":""},"","",{"$f":"IFERROR(IF(AND(C283=\"\",WEEKDAY(A283,2)>5),IF(D283=\"\",\"\",(IF(E283-MAX(D283,(15/24))+(E283<D283)<0,0,E283-MAX(D283,(15/24))+($E283<D283)))-(IF((E283-MAX(D283,(23/24))+(E283<D283))<0,0,(E283-MAX(D283,(23/24))+(E283<D283))))),o),\"\")","v":""},"","","","",{"$f":"IFERROR(IF(OR(AND(C283=\"\",D283<E283,OR(WEEKDAY(A283,2)=1,WEEKDAY(A283,2)>=6)),AND(C283=\"\",D283>E283,OR(WEEKDAY(A283,2)>=5)),AND(C283<>\"\",D283>E283,WEEKDAY(A283,2)>=5)),ColTime(Data!$J$6,Data!$L$6,D283,E283),\"\"),\"\")","v":""},{"$f":"IFERROR(IF(OR(AND(WEEKDAY(A283,2)>1,WEEKDAY(A283,2)<6,D283<E283,C283=\"\"),AND(C283=\"\",WEEKDAY(A283,2)=1,E283<D283),AND(C283<>\"\",D283<E283,WEEKDAY(A283,2)>1,WEEKDAY(A283,2)<4),AND(C283<>\"\",D283>E283,WEEKDAY(A283,2)=1)),ColTime(Data!$J$6,Data!$L$6,D283,E283),\"\"),\"\")","v":""},null,{"$f":"IF(F283=\"\",\"\",IF(AND(C283<>\"\",OR(D283<E283,AND(D283>E283,C589<>\"\"))),ColTime(Data!$J$6,Data!$L$6,D283,E283),\"\"))","v":""}]
["2020-10-05","Ma","",null,null,"",null,null,null,{"$f":"IF(OR(AND(C284<>\"\",D284>E284,WEEKDAY(A284,2)=5),AND(C284=\"\",WEEKDAY(A284,2)>5)),IF(D284=\"\",\"\",ColTime(Data!$J$3,Data!$L$3,D284,E284)),\"\")","v":""},"","",{"$f":"IFERROR(IF(AND(C284=\"\",WEEKDAY(A284,2)>5),IF(D284=\"\",\"\",(IF(E284-MAX(D284,(15/24))+(E284<D284)<0,0,E284-MAX(D284,(15/24))+($E284<D284)))-(IF((E284-MAX(D284,(23/24))+(E284<D284))<0,0,(E284-MAX(D284,(23/24))+(E284<D284))))),o),\"\")","v":""},"","","","",{"$f":"IFERROR(IF(OR(AND(C284=\"\",D284<E284,OR(WEEKDAY(A284,2)=1,WEEKDAY(A284,2)>=6)),AND(C284=\"\",D284>E284,OR(WEEKDAY(A284,2)>=5)),AND(C284<>\"\",D284>E284,WEEKDAY(A284,2)>=5)),ColTime(Data!$J$6,Data!$L$6,D284,E284),\"\"),\"\")","v":""},{"$f":"IFERROR(IF(OR(AND(WEEKDAY(A284,2)>1,WEEKDAY(A284,2)<6,D284<E284,C284=\"\"),AND(C284=\"\",WEEKDAY(A284,2)=1,E284<D284),AND(C284<>\"\",D284<E284,WEEKDAY(A284,2)>1,WEEKDAY(A284,2)<4),AND(C284<>\"\",D284>E284,WEEKDAY(A284,2)=1)),ColTime(Data!$J$6,Data!$L$6,D284,E284),\"\"),\"\")","v":""},null,{"$f":"IF(F284=\"\",\"\",IF(AND(C284<>\"\",OR(D284<E284,AND(D284>E284,C590<>\"\"))),ColTime(Data!$J$6,Data!$L$6,D284,E284),\"\"))","v":""}]
["2020-10-06","Ti","",null,null,"",null,null,null,{"$f":"IF(OR(AND(C285<>\"\",D285>E285,WEEKDAY(A285,2)=5),AND(C285=\"\",WEEKDAY(A285,2)>5)),IF(D285=\"\",\"\",ColTime(Data!$J$3,Data!$L$3,D285,E285)),\"\")","v":""},"","",{"$f":"IFERROR(IF(AND(C285=\"\",WEEKDAY(A285,2)>5),IF(D285=\"\",\"\",(IF(E285-MAX(D285,(15/24))+(E285<D285)<0,0,E285-MAX(D285,(15/24))+($E285<D285)))-(IF((E285-MAX(D285,(23/24))+(E285<D285))<0,0,(E285-MAX(D285,(23/24))+(E285<D285))))),o),\"\")","v":""},"","","","",{"$f":"IFERROR(IF(OR(AND(C285=\"\",D285<E285,OR(WEEKDAY(A285,2)=1,WEEKDAY(A285,2)>=6)),AND(C285=\"\",D285>E285,OR(WEEKDAY(A285,2)>=5)),AND(C285<>\"\",D285>E285,WEEKDAY(A285,2)>=5)),ColTime(Data!$J$6,Data!$L$6,D285,E285),\"\"),\"\")","v":""},{"$f":"IFERROR(IF(OR(AND(WEEKDAY(A285,2)>1,WEEKDAY(A285,2)<6,D285<E285,C285=\"\"),AND(C285=\"\",WEEKDAY(A285,2)=1,E285<D285),AND(C285<>\"\",D285<E285,WEEKDAY(A285,2)>1,WEEKDAY(A285,2)<4),AND(C285<>\"\",D285>E285,WEEKDAY(A285,2)=1)),ColTime(Data!$J$6,Data!$L$6,D285,E285),\"\"),\"\")","v":""},null,{"$f":"IF(F285=\"\",\"\",IF(AND(C285<>\"\",OR(D285<E285,AND(D285>E285,C591<>\"\"))),ColTime(Data!$J$6,Data!$L$6,D285,E285),\"\"))","v":""}]
["2020-10-07","On","",null,null,"",null,null,null,{"$f":"IF(OR(AND(C286<>\"\",D286>E286,WEEKDAY(A286,2)=5),AND(C286=\"\",WEEKDAY(A286,2)>5)),IF(D286=\"\",\"\",ColTime(Data!$J$3,Data!$L$3,D286,E286)),\"\")","v":""},"","",{"$f":"IFERROR(IF(AND(C286=\"\",WEEKDAY(A286,2)>5),IF(D286=\"\",\"\",(IF(E286-MAX(D286,(15/24))+(E286<D286)<0,0,E286-MAX(D286,(15/24))+($E286<D286)))-(IF((E286-MAX(D286,(23/24))+(E286<D286))<0,0,(E286-MAX(D286,(23/24))+(E286<D286))))),o),\"\")","v":""},"","","","",{"$f":"IFERROR(IF(OR(AND(C286=\"\",D286<E286,OR(WEEKDAY(A286,2)=1,WEEKDAY(A286,2)>=6)),AND(C286=\"\",D286>E286,OR(WEEKDAY(A286,2)>=5)),AND(C286<>\"\",D286>E286,WEEKDAY(A286,2)>=5)),ColTime(Data!$J$6,Data!$L$6,D286,E286),\"\"),\"\")","v":""},{"$f":"IFERROR(IF(OR(AND(WEEKDAY(A286,2)>1,WEEKDAY(A286,2)<6,D286<E286,C286=\"\"),AND(C286=\"\",WEEKDAY(A286,2)=1,E286<D286),AND(C286<>\"\",D286<E286,WEEKDAY(A286,2)>1,WEEKDAY(A286,2)<4),AND(C286<>\"\",D286>E286,WEEKDAY(A286,2)=1)),ColTime(Data!$J$6,Data!$L$6,D286,E286),\"\"),\"\")","v":""},null,{"$f":"IF(F286=\"\",\"\",IF(AND(C286<>\"\",OR(D286<E286,AND(D286>E286,C592<>\"\"))),ColTime(Data!$J$6,Data!$L$6,D286,E286),\"\"))","v":""}]
["2020-10-08","To","",null,null,"",null,null,null,{"$f":"IF(OR(AND(C287<>\"\",D287>E287,WEEKDAY(A287,2)=5),AND(C287=\"\",WEEKDAY(A287,2)>5)),IF(D287=\"\",\"\",ColTime(Data!$J$3,Data!$L$3,D287,E287)),\"\")","v":""},"","",{"$f":"IFERROR(IF(AND(C287=\"\",WEEKDAY(A287,2)>5),IF(D287=\"\",\"\",(IF(E287-MAX(D287,(15/24))+(E287<D287)<0,0,E287-MAX(D287,(15/24))+($E287<D287)))-(IF((E287-MAX(D287,(23/24))+(E287<D287))<0,0,(E287-MAX(D287,(23/24))+(E287<D287))))),o),\"\")","v":""},"","","","",{"$f":"IFERROR(IF(OR(AND(C287=\"\",D287<E287,OR(WEEKDAY(A287,2)=1,WEEKDAY(A287,2)>=6)),AND(C287=\"\",D287>E287,OR(WEEKDAY(A287,2)>=5)),AND(C287<>\"\",D287>E287,WEEKDAY(A287,2)>=5)),ColTime(Data!$J$6,Data!$L$6,D287,E287),\"\"),\"\")","v":""},{"$f":"IFERROR(IF(OR(AND(WEEKDAY(A287,2)>1,WEEKDAY(A287,2)<6,D287<E287,C287=\"\"),AND(C287=\"\",WEEKDAY(A287,2)=1,E287<D287),AND(C287<>\"\",D287<E287,WEEKDAY(A287,2)>1,WEEKDAY(A287,2)<4),AND(C287<>\"\",D287>E287,WEEKDAY(A287,2)=1)),ColTime(Data!$J$6,Data!$L$6,D287,E287),\"\"),\"\")","v":""},null,{"$f":"IF(F287=\"\",\"\",IF(AND(C287<>\"\",OR(D287<E287,AND(D287>E287,C593<>\"\"))),ColTime(Data!$J$6,Data!$L$6,D287,E287),\"\"))","v":""}]
["2020-10-09","Fr","",null,null,"",null,null,null,{"$f":"IF(OR(AND(C288<>\"\",D288>E288,WEEKDAY(A288,2)=5),AND(C288=\"\",WEEKDAY(A288,2)>5)),IF(D288=\"\",\"\",ColTime(Data!$J$3,Data!$L$3,D288,E288)),\"\")","v":""},"","",{"$f":"IFERROR(IF(AND(C288=\"\",WEEKDAY(A288,2)>5),IF(D288=\"\",\"\",(IF(E288-MAX(D288,(15/24))+(E288<D288)<0,0,E288-MAX(D288,(15/24))+($E288<D288)))-(IF((E288-MAX(D288,(23/24))+(E288<D288))<0,0,(E288-MAX(D288,(23/24))+(E288<D288))))),o),\"\")","v":""},"","","","",{"$f":"IFERROR(IF(OR(AND(C288=\"\",D288<E288,OR(WEEKDAY(A288,2)=1,WEEKDAY(A288,2)>=6)),AND(C288=\"\",D288>E288,OR(WEEKDAY(A288,2)>=5)),AND(C288<>\"\",D288>E288,WEEKDAY(A288,2)>=5)),ColTime(Data!$J$6,Data!$L$6,D288,E288),\"\"),\"\")","v":""},{"$f":"IFERROR(IF(OR(AND(WEEKDAY(A288,2)>1,WEEKDAY(A288,2)<6,D288<E288,C288=\"\"),AND(C288=\"\",WEEKDAY(A288,2)=1,E288<D288),AND(C288<>\"\",D288<E288,WEEKDAY(A288,2)>1,WEEKDAY(A288,2)<4),AND(C288<>\"\",D288>E288,WEEKDAY(A288,2)=1)),ColTime(Data!$J$6,Data!$L$6,D288,E288),\"\"),\"\")","v":""},null,{"$f":"IF(F288=\"\",\"\",IF(AND(C288<>\"\",OR(D288<E288,AND(D288>E288,C594<>\"\"))),ColTime(Data!$J$6,Data!$L$6,D288,E288),\"\"))","v":""}]
["2020-10-10","Lø","",null,null,"",null,null,null,{"$f":"IF(OR(AND(C289<>\"\",D289>E289,WEEKDAY(A289,2)=5),AND(C289=\"\",WEEKDAY(A289,2)>5)),IF(D289=\"\",\"\",ColTime(Data!$J$3,Data!$L$3,D289,E289)),\"\")","v":""},"","",{"$f":"IFERROR(IF(AND(C289=\"\",WEEKDAY(A289,2)>5),IF(D289=\"\",\"\",(IF(E289-MAX(D289,(15/24))+(E289<D289)<0,0,E289-MAX(D289,(15/24))+($E289<D289)))-(IF((E289-MAX(D289,(23/24))+(E289<D289))<0,0,(E289-MAX(D289,(23/24))+(E289<D289))))),o),\"\")","v":""},"","","","",{"$f":"IFERROR(IF(OR(AND(C289=\"\",D289<E289,OR(WEEKDAY(A289,2)=1,WEEKDAY(A289,2)>=6)),AND(C289=\"\",D289>E289,OR(WEEKDAY(A289,2)>=5)),AND(C289<>\"\",D289>E289,WEEKDAY(A289,2)>=5)),ColTime(Data!$J$6,Data!$L$6,D289,E289),\"\"),\"\")","v":""},{"$f":"IFERROR(IF(OR(AND(WEEKDAY(A289,2)>1,WEEKDAY(A289,2)<6,D289<E289,C289=\"\"),AND(C289=\"\",WEEKDAY(A289,2)=1,E289<D289),AND(C289<>\"\",D289<E289,WEEKDAY(A289,2)>1,WEEKDAY(A289,2)<4),AND(C289<>\"\",D289>E289,WEEKDAY(A289,2)=1)),ColTime(Data!$J$6,Data!$L$6,D289,E289),\"\"),\"\")","v":""},null,{"$f":"IF(F289=\"\",\"\",IF(AND(C289<>\"\",OR(D289<E289,AND(D289>E289,C595<>\"\"))),ColTime(Data!$J$6,Data!$L$6,D289,E289),\"\"))","v":""}]
["2020-10-11","Sø","",null,null,"",null,null,null,{"$f":"IF(OR(AND(C290<>\"\",D290>E290,WEEKDAY(A290,2)=5),AND(C290=\"\",WEEKDAY(A290,2)>5)),IF(D290=\"\",\"\",ColTime(Data!$J$3,Data!$L$3,D290,E290)),\"\")","v":""},"","",{"$f":"IFERROR(IF(AND(C290=\"\",WEEKDAY(A290,2)>5),IF(D290=\"\",\"\",(IF(E290-MAX(D290,(15/24))+(E290<D290)<0,0,E290-MAX(D290,(15/24))+($E290<D290)))-(IF((E290-MAX(D290,(23/24))+(E290<D290))<0,0,(E290-MAX(D290,(23/24))+(E290<D290))))),o),\"\")","v":""},"","","","",{"$f":"IFERROR(IF(OR(AND(C290=\"\",D290<E290,OR(WEEKDAY(A290,2)=1,WEEKDAY(A290,2)>=6)),AND(C290=\"\",D290>E290,OR(WEEKDAY(A290,2)>=5)),AND(C290<>\"\",D290>E290,WEEKDAY(A290,2)>=5)),ColTime(Data!$J$6,Data!$L$6,D290,E290),\"\"),\"\")","v":""},{"$f":"IFERROR(IF(OR(AND(WEEKDAY(A290,2)>1,WEEKDAY(A290,2)<6,D290<E290,C290=\"\"),AND(C290=\"\",WEEKDAY(A290,2)=1,E290<D290),AND(C290<>\"\",D290<E290,WEEKDAY(A290,2)>1,WEEKDAY(A290,2)<4),AND(C290<>\"\",D290>E290,WEEKDAY(A290,2)=1)),ColTime(Data!$J$6,Data!$L$6,D290,E290),\"\"),\"\")","v":""},null,{"$f":"IF(F290=\"\",\"\",IF(AND(C290<>\"\",OR(D290<E290,AND(D290>E290,C596<>\"\"))),ColTime(Data!$J$6,Data!$L$6,D290,E290),\"\"))","v":""}]
["2020-10-12","Ma","",null,null,"",null,null,null,{"$f":"IF(OR(AND(C291<>\"\",D291>E291,WEEKDAY(A291,2)=5),AND(C291=\"\",WEEKDAY(A291,2)>5)),IF(D291=\"\",\"\",ColTime(Data!$J$3,Data!$L$3,D291,E291)),\"\")","v":""},"","",{"$f":"IFERROR(IF(AND(C291=\"\",WEEKDAY(A291,2)>5),IF(D291=\"\",\"\",(IF(E291-MAX(D291,(15/24))+(E291<D291)<0,0,E291-MAX(D291,(15/24))+($E291<D291)))-(IF((E291-MAX(D291,(23/24))+(E291<D291))<0,0,(E291-MAX(D291,(23/24))+(E291<D291))))),o),\"\")","v":""},"","","","",{"$f":"IFERROR(IF(OR(AND(C291=\"\",D291<E291,OR(WEEKDAY(A291,2)=1,WEEKDAY(A291,2)>=6)),AND(C291=\"\",D291>E291,OR(WEEKDAY(A291,2)>=5)),AND(C291<>\"\",D291>E291,WEEKDAY(A291,2)>=5)),ColTime(Data!$J$6,Data!$L$6,D291,E291),\"\"),\"\")","v":""},{"$f":"IFERROR(IF(OR(AND(WEEKDAY(A291,2)>1,WEEKDAY(A291,2)<6,D291<E291,C291=\"\"),AND(C291=\"\",WEEKDAY(A291,2)=1,E291<D291),AND(C291<>\"\",D291<E291,WEEKDAY(A291,2)>1,WEEKDAY(A291,2)<4),AND(C291<>\"\",D291>E291,WEEKDAY(A291,2)=1)),ColTime(Data!$J$6,Data!$L$6,D291,E291),\"\"),\"\")","v":""},null,{"$f":"IF(F291=\"\",\"\",IF(AND(C291<>\"\",OR(D291<E291,AND(D291>E291,C597<>\"\"))),ColTime(Data!$J$6,Data!$L$6,D291,E291),\"\"))","v":""}]
["2020-10-13","Ti","",null,null,"",null,null,null,{"$f":"IF(OR(AND(C292<>\"\",D292>E292,WEEKDAY(A292,2)=5),AND(C292=\"\",WEEKDAY(A292,2)>5)),IF(D292=\"\",\"\",ColTime(Data!$J$3,Data!$L$3,D292,E292)),\"\")","v":""},"","",{"$f":"IFERROR(IF(AND(C292=\"\",WEEKDAY(A292,2)>5),IF(D292=\"\",\"\",(IF(E292-MAX(D292,(15/24))+(E292<D292)<0,0,E292-MAX(D292,(15/24))+($E292<D292)))-(IF((E292-MAX(D292,(23/24))+(E292<D292))<0,0,(E292-MAX(D292,(23/24))+(E292<D292))))),o),\"\")","v":""},"","","","",{"$f":"IFERROR(IF(OR(AND(C292=\"\",D292<E292,OR(WEEKDAY(A292,2)=1,WEEKDAY(A292,2)>=6)),AND(C292=\"\",D292>E292,OR(WEEKDAY(A292,2)>=5)),AND(C292<>\"\",D292>E292,WEEKDAY(A292,2)>=5)),ColTime(Data!$J$6,Data!$L$6,D292,E292),\"\"),\"\")","v":""},{"$f":"IFERROR(IF(OR(AND(WEEKDAY(A292,2)>1,WEEKDAY(A292,2)<6,D292<E292,C292=\"\"),AND(C292=\"\",WEEKDAY(A292,2)=1,E292<D292),AND(C292<>\"\",D292<E292,WEEKDAY(A292,2)>1,WEEKDAY(A292,2)<4),AND(C292<>\"\",D292>E292,WEEKDAY(A292,2)=1)),ColTime(Data!$J$6,Data!$L$6,D292,E292),\"\"),\"\")","v":""},null,{"$f":"IF(F292=\"\",\"\",IF(AND(C292<>\"\",OR(D292<E292,AND(D292>E292,C598<>\"\"))),ColTime(Data!$J$6,Data!$L$6,D292,E292),\"\"))","v":""}]
["2020-10-14","On","",null,null,"",null,null,null,{"$f":"IF(OR(AND(C293<>\"\",D293>E293,WEEKDAY(A293,2)=5),AND(C293=\"\",WEEKDAY(A293,2)>5)),IF(D293=\"\",\"\",ColTime(Data!$J$3,Data!$L$3,D293,E293)),\"\")","v":""},"","",{"$f":"IFERROR(IF(AND(C293=\"\",WEEKDAY(A293,2)>5),IF(D293=\"\",\"\",(IF(E293-MAX(D293,(15/24))+(E293<D293)<0,0,E293-MAX(D293,(15/24))+($E293<D293)))-(IF((E293-MAX(D293,(23/24))+(E293<D293))<0,0,(E293-MAX(D293,(23/24))+(E293<D293))))),o),\"\")","v":""},"","","","",{"$f":"IFERROR(IF(OR(AND(C293=\"\",D293<E293,OR(WEEKDAY(A293,2)=1,WEEKDAY(A293,2)>=6)),AND(C293=\"\",D293>E293,OR(WEEKDAY(A293,2)>=5)),AND(C293<>\"\",D293>E293,WEEKDAY(A293,2)>=5)),ColTime(Data!$J$6,Data!$L$6,D293,E293),\"\"),\"\")","v":""},{"$f":"IFERROR(IF(OR(AND(WEEKDAY(A293,2)>1,WEEKDAY(A293,2)<6,D293<E293,C293=\"\"),AND(C293=\"\",WEEKDAY(A293,2)=1,E293<D293),AND(C293<>\"\",D293<E293,WEEKDAY(A293,2)>1,WEEKDAY(A293,2)<4),AND(C293<>\"\",D293>E293,WEEKDAY(A293,2)=1)),ColTime(Data!$J$6,Data!$L$6,D293,E293),\"\"),\"\")","v":""},null,{"$f":"IF(F293=\"\",\"\",IF(AND(C293<>\"\",OR(D293<E293,AND(D293>E293,C599<>\"\"))),ColTime(Data!$J$6,Data!$L$6,D293,E293),\"\"))","v":""}]
["2020-10-15","To","",null,null,"",null,null,null,{"$f":"IF(OR(AND(C294<>\"\",D294>E294,WEEKDAY(A294,2)=5),AND(C294=\"\",WEEKDAY(A294,2)>5)),IF(D294=\"\",\"\",ColTime(Data!$J$3,Data!$L$3,D294,E294)),\"\")","v":""},"","",{"$f":"IFERROR(IF(AND(C294=\"\",WEEKDAY(A294,2)>5),IF(D294=\"\",\"\",(IF(E294-MAX(D294,(15/24))+(E294<D294)<0,0,E294-MAX(D294,(15/24))+($E294<D294)))-(IF((E294-MAX(D294,(23/24))+(E294<D294))<0,0,(E294-MAX(D294,(23/24))+(E294<D294))))),o),\"\")","v":""},"","","","",{"$f":"IFERROR(IF(OR(AND(C294=\"\",D294<E294,OR(WEEKDAY(A294,2)=1,WEEKDAY(A294,2)>=6)),AND(C294=\"\",D294>E294,OR(WEEKDAY(A294,2)>=5)),AND(C294<>\"\",D294>E294,WEEKDAY(A294,2)>=5)),ColTime(Data!$J$6,Data!$L$6,D294,E294),\"\"),\"\")","v":""},{"$f":"IFERROR(IF(OR(AND(WEEKDAY(A294,2)>1,WEEKDAY(A294,2)<6,D294<E294,C294=\"\"),AND(C294=\"\",WEEKDAY(A294,2)=1,E294<D294),AND(C294<>\"\",D294<E294,WEEKDAY(A294,2)>1,WEEKDAY(A294,2)<4),AND(C294<>\"\",D294>E294,WEEKDAY(A294,2)=1)),ColTime(Data!$J$6,Data!$L$6,D294,E294),\"\"),\"\")","v":""},null,{"$f":"IF(F294=\"\",\"\",IF(AND(C294<>\"\",OR(D294<E294,AND(D294>E294,C600<>\"\"))),ColTime(Data!$J$6,Data!$L$6,D294,E294),\"\"))","v":""}]
["2020-10-16","Fr","",null,null,"",null,null,null,{"$f":"IF(OR(AND(C295<>\"\",D295>E295,WEEKDAY(A295,2)=5),AND(C295=\"\",WEEKDAY(A295,2)>5)),IF(D295=\"\",\"\",ColTime(Data!$J$3,Data!$L$3,D295,E295)),\"\")","v":""},"","",{"$f":"IFERROR(IF(AND(C295=\"\",WEEKDAY(A295,2)>5),IF(D295=\"\",\"\",(IF(E295-MAX(D295,(15/24))+(E295<D295)<0,0,E295-MAX(D295,(15/24))+($E295<D295)))-(IF((E295-MAX(D295,(23/24))+(E295<D295))<0,0,(E295-MAX(D295,(23/24))+(E295<D295))))),o),\"\")","v":""},"","","","",{"$f":"IFERROR(IF(OR(AND(C295=\"\",D295<E295,OR(WEEKDAY(A295,2)=1,WEEKDAY(A295,2)>=6)),AND(C295=\"\",D295>E295,OR(WEEKDAY(A295,2)>=5)),AND(C295<>\"\",D295>E295,WEEKDAY(A295,2)>=5)),ColTime(Data!$J$6,Data!$L$6,D295,E295),\"\"),\"\")","v":""},{"$f":"IFERROR(IF(OR(AND(WEEKDAY(A295,2)>1,WEEKDAY(A295,2)<6,D295<E295,C295=\"\"),AND(C295=\"\",WEEKDAY(A295,2)=1,E295<D295),AND(C295<>\"\",D295<E295,WEEKDAY(A295,2)>1,WEEKDAY(A295,2)<4),AND(C295<>\"\",D295>E295,WEEKDAY(A295,2)=1)),ColTime(Data!$J$6,Data!$L$6,D295,E295),\"\"),\"\")","v":""},null,{"$f":"IF(F295=\"\",\"\",IF(AND(C295<>\"\",OR(D295<E295,AND(D295>E295,C601<>\"\"))),ColTime(Data!$J$6,Data!$L$6,D295,E295),\"\"))","v":""}]
["2020-10-17","Lø","",null,null,"",null,null,null,{"$f":"IF(OR(AND(C296<>\"\",D296>E296,WEEKDAY(A296,2)=5),AND(C296=\"\",WEEKDAY(A296,2)>5)),IF(D296=\"\",\"\",ColTime(Data!$J$3,Data!$L$3,D296,E296)),\"\")","v":""},"","",{"$f":"IFERROR(IF(AND(C296=\"\",WEEKDAY(A296,2)>5),IF(D296=\"\",\"\",(IF(E296-MAX(D296,(15/24))+(E296<D296)<0,0,E296-MAX(D296,(15/24))+($E296<D296)))-(IF((E296-MAX(D296,(23/24))+(E296<D296))<0,0,(E296-MAX(D296,(23/24))+(E296<D296))))),o),\"\")","v":""},"","","","",{"$f":"IFERROR(IF(OR(AND(C296=\"\",D296<E296,OR(WEEKDAY(A296,2)=1,WEEKDAY(A296,2)>=6)),AND(C296=\"\",D296>E296,OR(WEEKDAY(A296,2)>=5)),AND(C296<>\"\",D296>E296,WEEKDAY(A296,2)>=5)),ColTime(Data!$J$6,Data!$L$6,D296,E296),\"\"),\"\")","v":""},{"$f":"IFERROR(IF(OR(AND(WEEKDAY(A296,2)>1,WEEKDAY(A296,2)<6,D296<E296,C296=\"\"),AND(C296=\"\",WEEKDAY(A296,2)=1,E296<D296),AND(C296<>\"\",D296<E296,WEEKDAY(A296,2)>1,WEEKDAY(A296,2)<4),AND(C296<>\"\",D296>E296,WEEKDAY(A296,2)=1)),ColTime(Data!$J$6,Data!$L$6,D296,E296),\"\"),\"\")","v":""},null,{"$f":"IF(F296=\"\",\"\",IF(AND(C296<>\"\",OR(D296<E296,AND(D296>E296,C602<>\"\"))),ColTime(Data!$J$6,Data!$L$6,D296,E296),\"\"))","v":""}]
["2020-10-18","Sø","",null,null,"",null,null,null,{"$f":"IF(OR(AND(C297<>\"\",D297>E297,WEEKDAY(A297,2)=5),AND(C297=\"\",WEEKDAY(A297,2)>5)),IF(D297=\"\",\"\",ColTime(Data!$J$3,Data!$L$3,D297,E297)),\"\")","v":""},"","",{"$f":"IFERROR(IF(AND(C297=\"\",WEEKDAY(A297,2)>5),IF(D297=\"\",\"\",(IF(E297-MAX(D297,(15/24))+(E297<D297)<0,0,E297-MAX(D297,(15/24))+($E297<D297)))-(IF((E297-MAX(D297,(23/24))+(E297<D297))<0,0,(E297-MAX(D297,(23/24))+(E297<D297))))),o),\"\")","v":""},"","","","",{"$f":"IFERROR(IF(OR(AND(C297=\"\",D297<E297,OR(WEEKDAY(A297,2)=1,WEEKDAY(A297,2)>=6)),AND(C297=\"\",D297>E297,OR(WEEKDAY(A297,2)>=5)),AND(C297<>\"\",D297>E297,WEEKDAY(A297,2)>=5)),ColTime(Data!$J$6,Data!$L$6,D297,E297),\"\"),\"\")","v":""},{"$f":"IFERROR(IF(OR(AND(WEEKDAY(A297,2)>1,WEEKDAY(A297,2)<6,D297<E297,C297=\"\"),AND(C297=\"\",WEEKDAY(A297,2)=1,E297<D297),AND(C297<>\"\",D297<E297,WEEKDAY(A297,2)>1,WEEKDAY(A297,2)<4),AND(C297<>\"\",D297>E297,WEEKDAY(A297,2)=1)),ColTime(Data!$J$6,Data!$L$6,D297,E297),\"\"),\"\")","v":""},null,{"$f":"IF(F297=\"\",\"\",IF(AND(C297<>\"\",OR(D297<E297,AND(D297>E297,C603<>\"\"))),ColTime(Data!$J$6,Data!$L$6,D297,E297),\"\"))","v":""}]
["2020-10-19","Ma","",null,null,"",null,null,null,{"$f":"IF(OR(AND(C298<>\"\",D298>E298,WEEKDAY(A298,2)=5),AND(C298=\"\",WEEKDAY(A298,2)>5)),IF(D298=\"\",\"\",ColTime(Data!$J$3,Data!$L$3,D298,E298)),\"\")","v":""},"","",{"$f":"IFERROR(IF(AND(C298=\"\",WEEKDAY(A298,2)>5),IF(D298=\"\",\"\",(IF(E298-MAX(D298,(15/24))+(E298<D298)<0,0,E298-MAX(D298,(15/24))+($E298<D298)))-(IF((E298-MAX(D298,(23/24))+(E298<D298))<0,0,(E298-MAX(D298,(23/24))+(E298<D298))))),o),\"\")","v":""},"","","","",{"$f":"IFERROR(IF(OR(AND(C298=\"\",D298<E298,OR(WEEKDAY(A298,2)=1,WEEKDAY(A298,2)>=6)),AND(C298=\"\",D298>E298,OR(WEEKDAY(A298,2)>=5)),AND(C298<>\"\",D298>E298,WEEKDAY(A298,2)>=5)),ColTime(Data!$J$6,Data!$L$6,D298,E298),\"\"),\"\")","v":""},{"$f":"IFERROR(IF(OR(AND(WEEKDAY(A298,2)>1,WEEKDAY(A298,2)<6,D298<E298,C298=\"\"),AND(C298=\"\",WEEKDAY(A298,2)=1,E298<D298),AND(C298<>\"\",D298<E298,WEEKDAY(A298,2)>1,WEEKDAY(A298,2)<4),AND(C298<>\"\",D298>E298,WEEKDAY(A298,2)=1)),ColTime(Data!$J$6,Data!$L$6,D298,E298),\"\"),\"\")","v":""},null,{"$f":"IF(F298=\"\",\"\",IF(AND(C298<>\"\",OR(D298<E298,AND(D298>E298,C604<>\"\"))),ColTime(Data!$J$6,Data!$L$6,D298,E298),\"\"))","v":""}]
["2020-10-20","Ti","",null,null,"",null,null,null,{"$f":"IF(OR(AND(C299<>\"\",D299>E299,WEEKDAY(A299,2)=5),AND(C299=\"\",WEEKDAY(A299,2)>5)),IF(D299=\"\",\"\",ColTime(Data!$J$3,Data!$L$3,D299,E299)),\"\")","v":""},"","",{"$f":"IFERROR(IF(AND(C299=\"\",WEEKDAY(A299,2)>5),IF(D299=\"\",\"\",(IF(E299-MAX(D299,(15/24))+(E299<D299)<0,0,E299-MAX(D299,(15/24))+($E299<D299)))-(IF((E299-MAX(D299,(23/24))+(E299<D299))<0,0,(E299-MAX(D299,(23/24))+(E299<D299))))),o),\"\")","v":""},"","","","",{"$f":"IFERROR(IF(OR(AND(C299=\"\",D299<E299,OR(WEEKDAY(A299,2)=1,WEEKDAY(A299,2)>=6)),AND(C299=\"\",D299>E299,OR(WEEKDAY(A299,2)>=5)),AND(C299<>\"\",D299>E299,WEEKDAY(A299,2)>=5)),ColTime(Data!$J$6,Data!$L$6,D299,E299),\"\"),\"\")","v":""},{"$f":"IFERROR(IF(OR(AND(WEEKDAY(A299,2)>1,WEEKDAY(A299,2)<6,D299<E299,C299=\"\"),AND(C299=\"\",WEEKDAY(A299,2)=1,E299<D299),AND(C299<>\"\",D299<E299,WEEKDAY(A299,2)>1,WEEKDAY(A299,2)<4),AND(C299<>\"\",D299>E299,WEEKDAY(A299,2)=1)),ColTime(Data!$J$6,Data!$L$6,D299,E299),\"\"),\"\")","v":""},null,{"$f":"IF(F299=\"\",\"\",IF(AND(C299<>\"\",OR(D299<E299,AND(D299>E299,C605<>\"\"))),ColTime(Data!$J$6,Data!$L$6,D299,E299),\"\"))","v":""}]
["2020-10-21","On","",null,null,"",null,null,null,{"$f":"IF(OR(AND(C300<>\"\",D300>E300,WEEKDAY(A300,2)=5),AND(C300=\"\",WEEKDAY(A300,2)>5)),IF(D300=\"\",\"\",ColTime(Data!$J$3,Data!$L$3,D300,E300)),\"\")","v":""},"","",{"$f":"IFERROR(IF(AND(C300=\"\",WEEKDAY(A300,2)>5),IF(D300=\"\",\"\",(IF(E300-MAX(D300,(15/24))+(E300<D300)<0,0,E300-MAX(D300,(15/24))+($E300<D300)))-(IF((E300-MAX(D300,(23/24))+(E300<D300))<0,0,(E300-MAX(D300,(23/24))+(E300<D300))))),o),\"\")","v":""},"","","","",{"$f":"IFERROR(IF(OR(AND(C300=\"\",D300<E300,OR(WEEKDAY(A300,2)=1,WEEKDAY(A300,2)>=6)),AND(C300=\"\",D300>E300,OR(WEEKDAY(A300,2)>=5)),AND(C300<>\"\",D300>E300,WEEKDAY(A300,2)>=5)),ColTime(Data!$J$6,Data!$L$6,D300,E300),\"\"),\"\")","v":""},{"$f":"IFERROR(IF(OR(AND(WEEKDAY(A300,2)>1,WEEKDAY(A300,2)<6,D300<E300,C300=\"\"),AND(C300=\"\",WEEKDAY(A300,2)=1,E300<D300),AND(C300<>\"\",D300<E300,WEEKDAY(A300,2)>1,WEEKDAY(A300,2)<4),AND(C300<>\"\",D300>E300,WEEKDAY(A300,2)=1)),ColTime(Data!$J$6,Data!$L$6,D300,E300),\"\"),\"\")","v":""},null,{"$f":"IF(F300=\"\",\"\",IF(AND(C300<>\"\",OR(D300<E300,AND(D300>E300,C606<>\"\"))),ColTime(Data!$J$6,Data!$L$6,D300,E300),\"\"))","v":""}]
["2020-10-22","To","",null,null,"",null,null,null,{"$f":"IF(OR(AND(C301<>\"\",D301>E301,WEEKDAY(A301,2)=5),AND(C301=\"\",WEEKDAY(A301,2)>5)),IF(D301=\"\",\"\",ColTime(Data!$J$3,Data!$L$3,D301,E301)),\"\")","v":""},"","",{"$f":"IFERROR(IF(AND(C301=\"\",WEEKDAY(A301,2)>5),IF(D301=\"\",\"\",(IF(E301-MAX(D301,(15/24))+(E301<D301)<0,0,E301-MAX(D301,(15/24))+($E301<D301)))-(IF((E301-MAX(D301,(23/24))+(E301<D301))<0,0,(E301-MAX(D301,(23/24))+(E301<D301))))),o),\"\")","v":""},"","","","",{"$f":"IFERROR(IF(OR(AND(C301=\"\",D301<E301,OR(WEEKDAY(A301,2)=1,WEEKDAY(A301,2)>=6)),AND(C301=\"\",D301>E301,OR(WEEKDAY(A301,2)>=5)),AND(C301<>\"\",D301>E301,WEEKDAY(A301,2)>=5)),ColTime(Data!$J$6,Data!$L$6,D301,E301),\"\"),\"\")","v":""},{"$f":"IFERROR(IF(OR(AND(WEEKDAY(A301,2)>1,WEEKDAY(A301,2)<6,D301<E301,C301=\"\"),AND(C301=\"\",WEEKDAY(A301,2)=1,E301<D301),AND(C301<>\"\",D301<E301,WEEKDAY(A301,2)>1,WEEKDAY(A301,2)<4),AND(C301<>\"\",D301>E301,WEEKDAY(A301,2)=1)),ColTime(Data!$J$6,Data!$L$6,D301,E301),\"\"),\"\")","v":""},null,{"$f":"IF(F301=\"\",\"\",IF(AND(C301<>\"\",OR(D301<E301,AND(D301>E301,C607<>\"\"))),ColTime(Data!$J$6,Data!$L$6,D301,E301),\"\"))","v":""}]
["2020-10-23","Fr","",null,null,"",null,null,null,{"$f":"IF(OR(AND(C302<>\"\",D302>E302,WEEKDAY(A302,2)=5),AND(C302=\"\",WEEKDAY(A302,2)>5)),IF(D302=\"\",\"\",ColTime(Data!$J$3,Data!$L$3,D302,E302)),\"\")","v":""},"","",{"$f":"IFERROR(IF(AND(C302=\"\",WEEKDAY(A302,2)>5),IF(D302=\"\",\"\",(IF(E302-MAX(D302,(15/24))+(E302<D302)<0,0,E302-MAX(D302,(15/24))+($E302<D302)))-(IF((E302-MAX(D302,(23/24))+(E302<D302))<0,0,(E302-MAX(D302,(23/24))+(E302<D302))))),o),\"\")","v":""},"","","","",{"$f":"IFERROR(IF(OR(AND(C302=\"\",D302<E302,OR(WEEKDAY(A302,2)=1,WEEKDAY(A302,2)>=6)),AND(C302=\"\",D302>E302,OR(WEEKDAY(A302,2)>=5)),AND(C302<>\"\",D302>E302,WEEKDAY(A302,2)>=5)),ColTime(Data!$J$6,Data!$L$6,D302,E302),\"\"),\"\")","v":""},{"$f":"IFERROR(IF(OR(AND(WEEKDAY(A302,2)>1,WEEKDAY(A302,2)<6,D302<E302,C302=\"\"),AND(C302=\"\",WEEKDAY(A302,2)=1,E302<D302),AND(C302<>\"\",D302<E302,WEEKDAY(A302,2)>1,WEEKDAY(A302,2)<4),AND(C302<>\"\",D302>E302,WEEKDAY(A302,2)=1)),ColTime(Data!$J$6,Data!$L$6,D302,E302),\"\"),\"\")","v":""},null,{"$f":"IF(F302=\"\",\"\",IF(AND(C302<>\"\",OR(D302<E302,AND(D302>E302,C608<>\"\"))),ColTime(Data!$J$6,Data!$L$6,D302,E302),\"\"))","v":""}]
["2020-10-24","Lø","",null,null,"",null,null,null,{"$f":"IF(OR(AND(C303<>\"\",D303>E303,WEEKDAY(A303,2)=5),AND(C303=\"\",WEEKDAY(A303,2)>5)),IF(D303=\"\",\"\",ColTime(Data!$J$3,Data!$L$3,D303,E303)),\"\")","v":""},"","",{"$f":"IFERROR(IF(AND(C303=\"\",WEEKDAY(A303,2)>5),IF(D303=\"\",\"\",(IF(E303-MAX(D303,(15/24))+(E303<D303)<0,0,E303-MAX(D303,(15/24))+($E303<D303)))-(IF((E303-MAX(D303,(23/24))+(E303<D303))<0,0,(E303-MAX(D303,(23/24))+(E303<D303))))),o),\"\")","v":""},"","","","",{"$f":"IFERROR(IF(OR(AND(C303=\"\",D303<E303,OR(WEEKDAY(A303,2)=1,WEEKDAY(A303,2)>=6)),AND(C303=\"\",D303>E303,OR(WEEKDAY(A303,2)>=5)),AND(C303<>\"\",D303>E303,WEEKDAY(A303,2)>=5)),ColTime(Data!$J$6,Data!$L$6,D303,E303),\"\"),\"\")","v":""},{"$f":"IFERROR(IF(OR(AND(WEEKDAY(A303,2)>1,WEEKDAY(A303,2)<6,D303<E303,C303=\"\"),AND(C303=\"\",WEEKDAY(A303,2)=1,E303<D303),AND(C303<>\"\",D303<E303,WEEKDAY(A303,2)>1,WEEKDAY(A303,2)<4),AND(C303<>\"\",D303>E303,WEEKDAY(A303,2)=1)),ColTime(Data!$J$6,Data!$L$6,D303,E303),\"\"),\"\")","v":""},null,{"$f":"IF(F303=\"\",\"\",IF(AND(C303<>\"\",OR(D303<E303,AND(D303>E303,C609<>\"\"))),ColTime(Data!$J$6,Data!$L$6,D303,E303),\"\"))","v":""}]
["2020-10-25",{"$f":"PROPER(TEXT(A304,\"ddd\"))","v":"Sø"},{"$f":"HelligdagsNavn(A304,0,0)","v":""},null,null,{"$f":"IF(D304=\"\",\"\",(E304-D304)+(D304>E304))","v":""},null,null,null,{"$f":"IF(OR(AND(C304<>\"\",D304>E304,WEEKDAY(A304,2)=5),AND(C304=\"\",WEEKDAY(A304,2)>5)),IF(D304=\"\",\"\",ColTime(Data!$J$3,Data!$L$3,D304,E304)),\"\")","v":""},{"$f":"IF(C304<>\"\",IF(D304=\"\",\"\",(IF(E304-MAX(D304,(7/24))+(E304<D304)<0,0,E304-MAX(D304,(7/24))+(E304<D304)))-(IF((E304-MAX(D304,(15/24))+(E304<D304))<0,0,(E304-MAX(D304,(15/24))+(E304<D304))))),\"\")","v":""},{"$f":"IFERROR(IF(AND(C304=\"\",WEEKDAY(A304,2)<6),IF(D304=\"\",\"\",(IF(E304-MAX(D304,(15/24))+(E304<D304)<0,0,E304-MAX(D304,(15/24))+(E304<D304)))-(IF((E304-MAX(D304,(23/24))+(E304<D304))<0,0,(E304-MAX(D304,(23/24))+(E304<D304))))),\"\"),\"\")","v":""},{"$f":"IFERROR(IF(AND(C304=\"\",WEEKDAY(A304,2)>5),IF(D304=\"\",\"\",(IF(E304-MAX(D304,(15/24))+(E304<D304)<0,0,E304-MAX(D304,(15/24))+($E304<D304)))-(IF((E304-MAX(D304,(23/24))+(E304<D304))<0,0,(E304-MAX(D304,(23/24))+(E304<D304))))),o),\"\")","v":""},{"$f":"IF(C304<>\"\",IF(D304=\"\",\"\",(IF(E304-MAX(D304,(15/24))+(E304<D304)<0,0,E304-MAX(D304,(15/24))+(E304<D304)))-(IF((E304-MAX(D304,(23/24))+(E304<D304))<0,0,(E304-MAX(D304,(23/24))+(E304<D304))))),\"\")","v":""},{"$f":"IF(A304=\"\",\"\",IF(AND(C304=\"\",WEEKDAY(A304,2)<5),IF(D304=\"\",\"\",(IF(E304-MAX(D304,(23/24))+(E304<D304)<0,0,E304-MAX(D304,(23/24))+(E304<D304)))-(IF((E304-MAX(D304,(24/24))+(E304<D304))<0,0,(E304-MAX(D304,(24/24))+(E304<D304))))),\"\"))","v":""},{"$f":"IFERROR(IF(AND(C304=\"\",WEEKDAY(A304,2)>4),IF(D304=\"\",\"\",(IF(E304-MAX(D304,(23/24))+(E304<D304)<0,0,E304-MAX(D304,(23/24))+(E304<D304)))-(IF((E304-MAX(D304,(24/24))+(E304<D304))<0,0,(E304-MAX(D304,(24/24))+(E304<D304))))),\"\"),\"\")","v":""},"",{"$f":"IFERROR(IF(OR(AND(C304=\"\",D304<E304,OR(WEEKDAY(A304,2)=1,WEEKDAY(A304,2)>=6)),AND(C304=\"\",D304>E304,OR(WEEKDAY(A304,2)>=5)),AND(C304<>\"\",D304>E304,WEEKDAY(A304,2)>=5)),ColTime(Data!$J$6,Data!$L$6,D304,E304),\"\"),\"\")","v":""},{"$f":"IFERROR(IF(OR(AND(WEEKDAY(A304,2)>1,WEEKDAY(A304,2)<6,D304<E304,C304=\"\"),AND(C304=\"\",WEEKDAY(A304,2)=1,E304<D304),AND(C304<>\"\",D304<E304,WEEKDAY(A304,2)>1,WEEKDAY(A304,2)<4),AND(C304<>\"\",D304>E304,WEEKDAY(A304,2)=1)),ColTime(Data!$J$6,Data!$L$6,D304,E304),\"\"),\"\")","v":""},null,{"$f":"IF(F304=\"\",\"\",IF(AND(C304<>\"\",OR(D304<E304,AND(D304>E304,C610<>\"\"))),ColTime(Data!$J$6,Data!$L$6,D304,E304),\"\"))","v":""}]
["2020-10-26","Ma","",null,null,"",null,null,null,{"$f":"IF(OR(AND(C305<>\"\",D305>E305,WEEKDAY(A305,2)=5),AND(C305=\"\",WEEKDAY(A305,2)>5)),IF(D305=\"\",\"\",ColTime(Data!$J$3,Data!$L$3,D305,E305)),\"\")","v":""},"","",{"$f":"IFERROR(IF(AND(C305=\"\",WEEKDAY(A305,2)>5),IF(D305=\"\",\"\",(IF(E305-MAX(D305,(15/24))+(E305<D305)<0,0,E305-MAX(D305,(15/24))+($E305<D305)))-(IF((E305-MAX(D305,(23/24))+(E305<D305))<0,0,(E305-MAX(D305,(23/24))+(E305<D305))))),o),\"\")","v":""},"","","","",{"$f":"IFERROR(IF(OR(AND(C305=\"\",D305<E305,OR(WEEKDAY(A305,2)=1,WEEKDAY(A305,2)>=6)),AND(C305=\"\",D305>E305,OR(WEEKDAY(A305,2)>=5)),AND(C305<>\"\",D305>E305,WEEKDAY(A305,2)>=5)),ColTime(Data!$J$6,Data!$L$6,D305,E305),\"\"),\"\")","v":""},{"$f":"IFERROR(IF(OR(AND(WEEKDAY(A305,2)>1,WEEKDAY(A305,2)<6,D305<E305,C305=\"\"),AND(C305=\"\",WEEKDAY(A305,2)=1,E305<D305),AND(C305<>\"\",D305<E305,WEEKDAY(A305,2)>1,WEEKDAY(A305,2)<4),AND(C305<>\"\",D305>E305,WEEKDAY(A305,2)=1)),ColTime(Data!$J$6,Data!$L$6,D305,E305),\"\"),\"\")","v":""},null,{"$f":"IF(F305=\"\",\"\",IF(AND(C305<>\"\",OR(D305<E305,AND(D305>E305,C611<>\"\"))),ColTime(Data!$J$6,Data!$L$6,D305,E305),\"\"))","v":""}]
["2020-10-27","Ti","",null,null,"",null,null,null,{"$f":"IF(OR(AND(C306<>\"\",D306>E306,WEEKDAY(A306,2)=5),AND(C306=\"\",WEEKDAY(A306,2)>5)),IF(D306=\"\",\"\",ColTime(Data!$J$3,Data!$L$3,D306,E306)),\"\")","v":""},"","",{"$f":"IFERROR(IF(AND(C306=\"\",WEEKDAY(A306,2)>5),IF(D306=\"\",\"\",(IF(E306-MAX(D306,(15/24))+(E306<D306)<0,0,E306-MAX(D306,(15/24))+($E306<D306)))-(IF((E306-MAX(D306,(23/24))+(E306<D306))<0,0,(E306-MAX(D306,(23/24))+(E306<D306))))),o),\"\")","v":""},"","","","",{"$f":"IFERROR(IF(OR(AND(C306=\"\",D306<E306,OR(WEEKDAY(A306,2)=1,WEEKDAY(A306,2)>=6)),AND(C306=\"\",D306>E306,OR(WEEKDAY(A306,2)>=5)),AND(C306<>\"\",D306>E306,WEEKDAY(A306,2)>=5)),ColTime(Data!$J$6,Data!$L$6,D306,E306),\"\"),\"\")","v":""},{"$f":"IFERROR(IF(OR(AND(WEEKDAY(A306,2)>1,WEEKDAY(A306,2)<6,D306<E306,C306=\"\"),AND(C306=\"\",WEEKDAY(A306,2)=1,E306<D306),AND(C306<>\"\",D306<E306,WEEKDAY(A306,2)>1,WEEKDAY(A306,2)<4),AND(C306<>\"\",D306>E306,WEEKDAY(A306,2)=1)),ColTime(Data!$J$6,Data!$L$6,D306,E306),\"\"),\"\")","v":""},null,{"$f":"IF(F306=\"\",\"\",IF(AND(C306<>\"\",OR(D306<E306,AND(D306>E306,C612<>\"\"))),ColTime(Data!$J$6,Data!$L$6,D306,E306),\"\"))","v":""}]
["2020-10-28","On","",null,null,"",null,null,null,{"$f":"IF(OR(AND(C307<>\"\",D307>E307,WEEKDAY(A307,2)=5),AND(C307=\"\",WEEKDAY(A307,2)>5)),IF(D307=\"\",\"\",ColTime(Data!$J$3,Data!$L$3,D307,E307)),\"\")","v":""},"","",{"$f":"IFERROR(IF(AND(C307=\"\",WEEKDAY(A307,2)>5),IF(D307=\"\",\"\",(IF(E307-MAX(D307,(15/24))+(E307<D307)<0,0,E307-MAX(D307,(15/24))+($E307<D307)))-(IF((E307-MAX(D307,(23/24))+(E307<D307))<0,0,(E307-MAX(D307,(23/24))+(E307<D307))))),o),\"\")","v":""},"","","","",{"$f":"IFERROR(IF(OR(AND(C307=\"\",D307<E307,OR(WEEKDAY(A307,2)=1,WEEKDAY(A307,2)>=6)),AND(C307=\"\",D307>E307,OR(WEEKDAY(A307,2)>=5)),AND(C307<>\"\",D307>E307,WEEKDAY(A307,2)>=5)),ColTime(Data!$J$6,Data!$L$6,D307,E307),\"\"),\"\")","v":""},{"$f":"IFERROR(IF(OR(AND(WEEKDAY(A307,2)>1,WEEKDAY(A307,2)<6,D307<E307,C307=\"\"),AND(C307=\"\",WEEKDAY(A307,2)=1,E307<D307),AND(C307<>\"\",D307<E307,WEEKDAY(A307,2)>1,WEEKDAY(A307,2)<4),AND(C307<>\"\",D307>E307,WEEKDAY(A307,2)=1)),ColTime(Data!$J$6,Data!$L$6,D307,E307),\"\"),\"\")","v":""},null,{"$f":"IF(F307=\"\",\"\",IF(AND(C307<>\"\",OR(D307<E307,AND(D307>E307,C613<>\"\"))),ColTime(Data!$J$6,Data!$L$6,D307,E307),\"\"))","v":""}]
["2020-10-29","To","",null,null,"",null,null,null,{"$f":"IF(OR(AND(C308<>\"\",D308>E308,WEEKDAY(A308,2)=5),AND(C308=\"\",WEEKDAY(A308,2)>5)),IF(D308=\"\",\"\",ColTime(Data!$J$3,Data!$L$3,D308,E308)),\"\")","v":""},"","",{"$f":"IFERROR(IF(AND(C308=\"\",WEEKDAY(A308,2)>5),IF(D308=\"\",\"\",(IF(E308-MAX(D308,(15/24))+(E308<D308)<0,0,E308-MAX(D308,(15/24))+($E308<D308)))-(IF((E308-MAX(D308,(23/24))+(E308<D308))<0,0,(E308-MAX(D308,(23/24))+(E308<D308))))),o),\"\")","v":""},"","","","",{"$f":"IFERROR(IF(OR(AND(C308=\"\",D308<E308,OR(WEEKDAY(A308,2)=1,WEEKDAY(A308,2)>=6)),AND(C308=\"\",D308>E308,OR(WEEKDAY(A308,2)>=5)),AND(C308<>\"\",D308>E308,WEEKDAY(A308,2)>=5)),ColTime(Data!$J$6,Data!$L$6,D308,E308),\"\"),\"\")","v":""},{"$f":"IFERROR(IF(OR(AND(WEEKDAY(A308,2)>1,WEEKDAY(A308,2)<6,D308<E308,C308=\"\"),AND(C308=\"\",WEEKDAY(A308,2)=1,E308<D308),AND(C308<>\"\",D308<E308,WEEKDAY(A308,2)>1,WEEKDAY(A308,2)<4),AND(C308<>\"\",D308>E308,WEEKDAY(A308,2)=1)),ColTime(Data!$J$6,Data!$L$6,D308,E308),\"\"),\"\")","v":""},null,{"$f":"IF(F308=\"\",\"\",IF(AND(C308<>\"\",OR(D308<E308,AND(D308>E308,C614<>\"\"))),ColTime(Data!$J$6,Data!$L$6,D308,E308),\"\"))","v":""}]
["2020-10-30","Fr","",null,null,"",null,null,null,{"$f":"IF(OR(AND(C309<>\"\",D309>E309,WEEKDAY(A309,2)=5),AND(C309=\"\",WEEKDAY(A309,2)>5)),IF(D309=\"\",\"\",ColTime(Data!$J$3,Data!$L$3,D309,E309)),\"\")","v":""},"","",{"$f":"IFERROR(IF(AND(C309=\"\",WEEKDAY(A309,2)>5),IF(D309=\"\",\"\",(IF(E309-MAX(D309,(15/24))+(E309<D309)<0,0,E309-MAX(D309,(15/24))+($E309<D309)))-(IF((E309-MAX(D309,(23/24))+(E309<D309))<0,0,(E309-MAX(D309,(23/24))+(E309<D309))))),o),\"\")","v":""},"","","","",{"$f":"IFERROR(IF(OR(AND(C309=\"\",D309<E309,OR(WEEKDAY(A309,2)=1,WEEKDAY(A309,2)>=6)),AND(C309=\"\",D309>E309,OR(WEEKDAY(A309,2)>=5)),AND(C309<>\"\",D309>E309,WEEKDAY(A309,2)>=5)),ColTime(Data!$J$6,Data!$L$6,D309,E309),\"\"),\"\")","v":""},{"$f":"IFERROR(IF(OR(AND(WEEKDAY(A309,2)>1,WEEKDAY(A309,2)<6,D309<E309,C309=\"\"),AND(C309=\"\",WEEKDAY(A309,2)=1,E309<D309),AND(C309<>\"\",D309<E309,WEEKDAY(A309,2)>1,WEEKDAY(A309,2)<4),AND(C309<>\"\",D309>E309,WEEKDAY(A309,2)=1)),ColTime(Data!$J$6,Data!$L$6,D309,E309),\"\"),\"\")","v":""},null,{"$f":"IF(F309=\"\",\"\",IF(AND(C309<>\"\",OR(D309<E309,AND(D309>E309,C615<>\"\"))),ColTime(Data!$J$6,Data!$L$6,D309,E309),\"\"))","v":""}]
["2020-10-31","Lø","",null,null,"",null,null,null,{"$f":"IF(OR(AND(C310<>\"\",D310>E310,WEEKDAY(A310,2)=5),AND(C310=\"\",WEEKDAY(A310,2)>5)),IF(D310=\"\",\"\",ColTime(Data!$J$3,Data!$L$3,D310,E310)),\"\")","v":""},"","",{"$f":"IFERROR(IF(AND(C310=\"\",WEEKDAY(A310,2)>5),IF(D310=\"\",\"\",(IF(E310-MAX(D310,(15/24))+(E310<D310)<0,0,E310-MAX(D310,(15/24))+($E310<D310)))-(IF((E310-MAX(D310,(23/24))+(E310<D310))<0,0,(E310-MAX(D310,(23/24))+(E310<D310))))),o),\"\")","v":""},"","","","",{"$f":"IFERROR(IF(OR(AND(C310=\"\",D310<E310,OR(WEEKDAY(A310,2)=1,WEEKDAY(A310,2)>=6)),AND(C310=\"\",D310>E310,OR(WEEKDAY(A310,2)>=5)),AND(C310<>\"\",D310>E310,WEEKDAY(A310,2)>=5)),ColTime(Data!$J$6,Data!$L$6,D310,E310),\"\"),\"\")","v":""},{"$f":"IFERROR(IF(OR(AND(WEEKDAY(A310,2)>1,WEEKDAY(A310,2)<6,D310<E310,C310=\"\"),AND(C310=\"\",WEEKDAY(A310,2)=1,E310<D310),AND(C310<>\"\",D310<E310,WEEKDAY(A310,2)>1,WEEKDAY(A310,2)<4),AND(C310<>\"\",D310>E310,WEEKDAY(A310,2)=1)),ColTime(Data!$J$6,Data!$L$6,D310,E310),\"\"),\"\")","v":""},null,{"$f":"IF(F310=\"\",\"\",IF(AND(C310<>\"\",OR(D310<E310,AND(D310>E310,C616<>\"\"))),ColTime(Data!$J$6,Data!$L$6,D310,E310),\"\"))","v":""}]
["2020-11-01","Sø","Allehelgensdag",null,null,"",null,null,null,{"$f":"IF(OR(AND(C311<>\"\",D311>E311,WEEKDAY(A311,2)=5),AND(C311=\"\",WEEKDAY(A311,2)>5)),IF(D311=\"\",\"\",ColTime(Data!$J$3,Data!$L$3,D311,E311)),\"\")","v":""},"","",{"$f":"IFERROR(IF(AND(C311=\"\",WEEKDAY(A311,2)>5),IF(D311=\"\",\"\",(IF(E311-MAX(D311,(15/24))+(E311<D311)<0,0,E311-MAX(D311,(15/24))+($E311<D311)))-(IF((E311-MAX(D311,(23/24))+(E311<D311))<0,0,(E311-MAX(D311,(23/24))+(E311<D311))))),o),\"\")","v":""},"","","","",{"$f":"IFERROR(IF(OR(AND(C311=\"\",D311<E311,OR(WEEKDAY(A311,2)=1,WEEKDAY(A311,2)>=6)),AND(C311=\"\",D311>E311,OR(WEEKDAY(A311,2)>=5)),AND(C311<>\"\",D311>E311,WEEKDAY(A311,2)>=5)),ColTime(Data!$J$6,Data!$L$6,D311,E311),\"\"),\"\")","v":""},{"$f":"IFERROR(IF(OR(AND(WEEKDAY(A311,2)>1,WEEKDAY(A311,2)<6,D311<E311,C311=\"\"),AND(C311=\"\",WEEKDAY(A311,2)=1,E311<D311),AND(C311<>\"\",D311<E311,WEEKDAY(A311,2)>1,WEEKDAY(A311,2)<4),AND(C311<>\"\",D311>E311,WEEKDAY(A311,2)=1)),ColTime(Data!$J$6,Data!$L$6,D311,E311),\"\"),\"\")","v":""},null,{"$f":"IF(F311=\"\",\"\",IF(AND(C311<>\"\",OR(D311<E311,AND(D311>E311,C617<>\"\"))),ColTime(Data!$J$6,Data!$L$6,D311,E311),\"\"))","v":""}]
["2020-11-02","Ma","Allesjælesdag",null,null,"",null,null,null,{"$f":"IF(OR(AND(C312<>\"\",D312>E312,WEEKDAY(A312,2)=5),AND(C312=\"\",WEEKDAY(A312,2)>5)),IF(D312=\"\",\"\",ColTime(Data!$J$3,Data!$L$3,D312,E312)),\"\")","v":""},"","",{"$f":"IFERROR(IF(AND(C312=\"\",WEEKDAY(A312,2)>5),IF(D312=\"\",\"\",(IF(E312-MAX(D312,(15/24))+(E312<D312)<0,0,E312-MAX(D312,(15/24))+($E312<D312)))-(IF((E312-MAX(D312,(23/24))+(E312<D312))<0,0,(E312-MAX(D312,(23/24))+(E312<D312))))),o),\"\")","v":""},"","","","",{"$f":"IFERROR(IF(OR(AND(C312=\"\",D312<E312,OR(WEEKDAY(A312,2)=1,WEEKDAY(A312,2)>=6)),AND(C312=\"\",D312>E312,OR(WEEKDAY(A312,2)>=5)),AND(C312<>\"\",D312>E312,WEEKDAY(A312,2)>=5)),ColTime(Data!$J$6,Data!$L$6,D312,E312),\"\"),\"\")","v":""},{"$f":"IFERROR(IF(OR(AND(WEEKDAY(A312,2)>1,WEEKDAY(A312,2)<6,D312<E312,C312=\"\"),AND(C312=\"\",WEEKDAY(A312,2)=1,E312<D312),AND(C312<>\"\",D312<E312,WEEKDAY(A312,2)>1,WEEKDAY(A312,2)<4),AND(C312<>\"\",D312>E312,WEEKDAY(A312,2)=1)),ColTime(Data!$J$6,Data!$L$6,D312,E312),\"\"),\"\")","v":""},null,{"$f":"IF(F312=\"\",\"\",IF(AND(C312<>\"\",OR(D312<E312,AND(D312>E312,C618<>\"\"))),ColTime(Data!$J$6,Data!$L$6,D312,E312),\"\"))","v":""}]
["2020-11-03","Ti","",null,null,"",null,null,null,{"$f":"IF(OR(AND(C313<>\"\",D313>E313,WEEKDAY(A313,2)=5),AND(C313=\"\",WEEKDAY(A313,2)>5)),IF(D313=\"\",\"\",ColTime(Data!$J$3,Data!$L$3,D313,E313)),\"\")","v":""},"","",{"$f":"IFERROR(IF(AND(C313=\"\",WEEKDAY(A313,2)>5),IF(D313=\"\",\"\",(IF(E313-MAX(D313,(15/24))+(E313<D313)<0,0,E313-MAX(D313,(15/24))+($E313<D313)))-(IF((E313-MAX(D313,(23/24))+(E313<D313))<0,0,(E313-MAX(D313,(23/24))+(E313<D313))))),o),\"\")","v":""},"","","","",{"$f":"IFERROR(IF(OR(AND(C313=\"\",D313<E313,OR(WEEKDAY(A313,2)=1,WEEKDAY(A313,2)>=6)),AND(C313=\"\",D313>E313,OR(WEEKDAY(A313,2)>=5)),AND(C313<>\"\",D313>E313,WEEKDAY(A313,2)>=5)),ColTime(Data!$J$6,Data!$L$6,D313,E313),\"\"),\"\")","v":""},{"$f":"IFERROR(IF(OR(AND(WEEKDAY(A313,2)>1,WEEKDAY(A313,2)<6,D313<E313,C313=\"\"),AND(C313=\"\",WEEKDAY(A313,2)=1,E313<D313),AND(C313<>\"\",D313<E313,WEEKDAY(A313,2)>1,WEEKDAY(A313,2)<4),AND(C313<>\"\",D313>E313,WEEKDAY(A313,2)=1)),ColTime(Data!$J$6,Data!$L$6,D313,E313),\"\"),\"\")","v":""},null,{"$f":"IF(F313=\"\",\"\",IF(AND(C313<>\"\",OR(D313<E313,AND(D313>E313,C619<>\"\"))),ColTime(Data!$J$6,Data!$L$6,D313,E313),\"\"))","v":""}]
["2020-11-04","On","",null,null,"",null,null,null,{"$f":"IF(OR(AND(C314<>\"\",D314>E314,WEEKDAY(A314,2)=5),AND(C314=\"\",WEEKDAY(A314,2)>5)),IF(D314=\"\",\"\",ColTime(Data!$J$3,Data!$L$3,D314,E314)),\"\")","v":""},"","",{"$f":"IFERROR(IF(AND(C314=\"\",WEEKDAY(A314,2)>5),IF(D314=\"\",\"\",(IF(E314-MAX(D314,(15/24))+(E314<D314)<0,0,E314-MAX(D314,(15/24))+($E314<D314)))-(IF((E314-MAX(D314,(23/24))+(E314<D314))<0,0,(E314-MAX(D314,(23/24))+(E314<D314))))),o),\"\")","v":""},"","","","",{"$f":"IFERROR(IF(OR(AND(C314=\"\",D314<E314,OR(WEEKDAY(A314,2)=1,WEEKDAY(A314,2)>=6)),AND(C314=\"\",D314>E314,OR(WEEKDAY(A314,2)>=5)),AND(C314<>\"\",D314>E314,WEEKDAY(A314,2)>=5)),ColTime(Data!$J$6,Data!$L$6,D314,E314),\"\"),\"\")","v":""},{"$f":"IFERROR(IF(OR(AND(WEEKDAY(A314,2)>1,WEEKDAY(A314,2)<6,D314<E314,C314=\"\"),AND(C314=\"\",WEEKDAY(A314,2)=1,E314<D314),AND(C314<>\"\",D314<E314,WEEKDAY(A314,2)>1,WEEKDAY(A314,2)<4),AND(C314<>\"\",D314>E314,WEEKDAY(A314,2)=1)),ColTime(Data!$J$6,Data!$L$6,D314,E314),\"\"),\"\")","v":""},null,{"$f":"IF(F314=\"\",\"\",IF(AND(C314<>\"\",OR(D314<E314,AND(D314>E314,C620<>\"\"))),ColTime(Data!$J$6,Data!$L$6,D314,E314),\"\"))","v":""}]
["2020-11-05","To","",null,null,"",null,null,null,{"$f":"IF(OR(AND(C315<>\"\",D315>E315,WEEKDAY(A315,2)=5),AND(C315=\"\",WEEKDAY(A315,2)>5)),IF(D315=\"\",\"\",ColTime(Data!$J$3,Data!$L$3,D315,E315)),\"\")","v":""},"","",{"$f":"IFERROR(IF(AND(C315=\"\",WEEKDAY(A315,2)>5),IF(D315=\"\",\"\",(IF(E315-MAX(D315,(15/24))+(E315<D315)<0,0,E315-MAX(D315,(15/24))+($E315<D315)))-(IF((E315-MAX(D315,(23/24))+(E315<D315))<0,0,(E315-MAX(D315,(23/24))+(E315<D315))))),o),\"\")","v":""},"","","","",{"$f":"IFERROR(IF(OR(AND(C315=\"\",D315<E315,OR(WEEKDAY(A315,2)=1,WEEKDAY(A315,2)>=6)),AND(C315=\"\",D315>E315,OR(WEEKDAY(A315,2)>=5)),AND(C315<>\"\",D315>E315,WEEKDAY(A315,2)>=5)),ColTime(Data!$J$6,Data!$L$6,D315,E315),\"\"),\"\")","v":""},{"$f":"IFERROR(IF(OR(AND(WEEKDAY(A315,2)>1,WEEKDAY(A315,2)<6,D315<E315,C315=\"\"),AND(C315=\"\",WEEKDAY(A315,2)=1,E315<D315),AND(C315<>\"\",D315<E315,WEEKDAY(A315,2)>1,WEEKDAY(A315,2)<4),AND(C315<>\"\",D315>E315,WEEKDAY(A315,2)=1)),ColTime(Data!$J$6,Data!$L$6,D315,E315),\"\"),\"\")","v":""},null,{"$f":"IF(F315=\"\",\"\",IF(AND(C315<>\"\",OR(D315<E315,AND(D315>E315,C621<>\"\"))),ColTime(Data!$J$6,Data!$L$6,D315,E315),\"\"))","v":""}]
["2020-11-06","Fr","",null,null,"",null,null,null,{"$f":"IF(OR(AND(C316<>\"\",D316>E316,WEEKDAY(A316,2)=5),AND(C316=\"\",WEEKDAY(A316,2)>5)),IF(D316=\"\",\"\",ColTime(Data!$J$3,Data!$L$3,D316,E316)),\"\")","v":""},"","",{"$f":"IFERROR(IF(AND(C316=\"\",WEEKDAY(A316,2)>5),IF(D316=\"\",\"\",(IF(E316-MAX(D316,(15/24))+(E316<D316)<0,0,E316-MAX(D316,(15/24))+($E316<D316)))-(IF((E316-MAX(D316,(23/24))+(E316<D316))<0,0,(E316-MAX(D316,(23/24))+(E316<D316))))),o),\"\")","v":""},"","","","",{"$f":"IFERROR(IF(OR(AND(C316=\"\",D316<E316,OR(WEEKDAY(A316,2)=1,WEEKDAY(A316,2)>=6)),AND(C316=\"\",D316>E316,OR(WEEKDAY(A316,2)>=5)),AND(C316<>\"\",D316>E316,WEEKDAY(A316,2)>=5)),ColTime(Data!$J$6,Data!$L$6,D316,E316),\"\"),\"\")","v":""},{"$f":"IFERROR(IF(OR(AND(WEEKDAY(A316,2)>1,WEEKDAY(A316,2)<6,D316<E316,C316=\"\"),AND(C316=\"\",WEEKDAY(A316,2)=1,E316<D316),AND(C316<>\"\",D316<E316,WEEKDAY(A316,2)>1,WEEKDAY(A316,2)<4),AND(C316<>\"\",D316>E316,WEEKDAY(A316,2)=1)),ColTime(Data!$J$6,Data!$L$6,D316,E316),\"\"),\"\")","v":""},null,{"$f":"IF(F316=\"\",\"\",IF(AND(C316<>\"\",OR(D316<E316,AND(D316>E316,C622<>\"\"))),ColTime(Data!$J$6,Data!$L$6,D316,E316),\"\"))","v":""}]
["2020-11-07","Lø","",null,null,"",null,null,null,{"$f":"IF(OR(AND(C317<>\"\",D317>E317,WEEKDAY(A317,2)=5),AND(C317=\"\",WEEKDAY(A317,2)>5)),IF(D317=\"\",\"\",ColTime(Data!$J$3,Data!$L$3,D317,E317)),\"\")","v":""},"","",{"$f":"IFERROR(IF(AND(C317=\"\",WEEKDAY(A317,2)>5),IF(D317=\"\",\"\",(IF(E317-MAX(D317,(15/24))+(E317<D317)<0,0,E317-MAX(D317,(15/24))+($E317<D317)))-(IF((E317-MAX(D317,(23/24))+(E317<D317))<0,0,(E317-MAX(D317,(23/24))+(E317<D317))))),o),\"\")","v":""},"","","","",{"$f":"IFERROR(IF(OR(AND(C317=\"\",D317<E317,OR(WEEKDAY(A317,2)=1,WEEKDAY(A317,2)>=6)),AND(C317=\"\",D317>E317,OR(WEEKDAY(A317,2)>=5)),AND(C317<>\"\",D317>E317,WEEKDAY(A317,2)>=5)),ColTime(Data!$J$6,Data!$L$6,D317,E317),\"\"),\"\")","v":""},{"$f":"IFERROR(IF(OR(AND(WEEKDAY(A317,2)>1,WEEKDAY(A317,2)<6,D317<E317,C317=\"\"),AND(C317=\"\",WEEKDAY(A317,2)=1,E317<D317),AND(C317<>\"\",D317<E317,WEEKDAY(A317,2)>1,WEEKDAY(A317,2)<4),AND(C317<>\"\",D317>E317,WEEKDAY(A317,2)=1)),ColTime(Data!$J$6,Data!$L$6,D317,E317),\"\"),\"\")","v":""},null,{"$f":"IF(F317=\"\",\"\",IF(AND(C317<>\"\",OR(D317<E317,AND(D317>E317,C623<>\"\"))),ColTime(Data!$J$6,Data!$L$6,D317,E317),\"\"))","v":""}]
["2020-11-08","Sø","",null,null,"",null,null,null,{"$f":"IF(OR(AND(C318<>\"\",D318>E318,WEEKDAY(A318,2)=5),AND(C318=\"\",WEEKDAY(A318,2)>5)),IF(D318=\"\",\"\",ColTime(Data!$J$3,Data!$L$3,D318,E318)),\"\")","v":""},"","",{"$f":"IFERROR(IF(AND(C318=\"\",WEEKDAY(A318,2)>5),IF(D318=\"\",\"\",(IF(E318-MAX(D318,(15/24))+(E318<D318)<0,0,E318-MAX(D318,(15/24))+($E318<D318)))-(IF((E318-MAX(D318,(23/24))+(E318<D318))<0,0,(E318-MAX(D318,(23/24))+(E318<D318))))),o),\"\")","v":""},"","","","",{"$f":"IFERROR(IF(OR(AND(C318=\"\",D318<E318,OR(WEEKDAY(A318,2)=1,WEEKDAY(A318,2)>=6)),AND(C318=\"\",D318>E318,OR(WEEKDAY(A318,2)>=5)),AND(C318<>\"\",D318>E318,WEEKDAY(A318,2)>=5)),ColTime(Data!$J$6,Data!$L$6,D318,E318),\"\"),\"\")","v":""},{"$f":"IFERROR(IF(OR(AND(WEEKDAY(A318,2)>1,WEEKDAY(A318,2)<6,D318<E318,C318=\"\"),AND(C318=\"\",WEEKDAY(A318,2)=1,E318<D318),AND(C318<>\"\",D318<E318,WEEKDAY(A318,2)>1,WEEKDAY(A318,2)<4),AND(C318<>\"\",D318>E318,WEEKDAY(A318,2)=1)),ColTime(Data!$J$6,Data!$L$6,D318,E318),\"\"),\"\")","v":""},null,{"$f":"IF(F318=\"\",\"\",IF(AND(C318<>\"\",OR(D318<E318,AND(D318>E318,C624<>\"\"))),ColTime(Data!$J$6,Data!$L$6,D318,E318),\"\"))","v":""}]
["2020-11-09","Ma","",null,null,"",null,null,null,{"$f":"IF(OR(AND(C319<>\"\",D319>E319,WEEKDAY(A319,2)=5),AND(C319=\"\",WEEKDAY(A319,2)>5)),IF(D319=\"\",\"\",ColTime(Data!$J$3,Data!$L$3,D319,E319)),\"\")","v":""},"","",{"$f":"IFERROR(IF(AND(C319=\"\",WEEKDAY(A319,2)>5),IF(D319=\"\",\"\",(IF(E319-MAX(D319,(15/24))+(E319<D319)<0,0,E319-MAX(D319,(15/24))+($E319<D319)))-(IF((E319-MAX(D319,(23/24))+(E319<D319))<0,0,(E319-MAX(D319,(23/24))+(E319<D319))))),o),\"\")","v":""},"","","","",{"$f":"IFERROR(IF(OR(AND(C319=\"\",D319<E319,OR(WEEKDAY(A319,2)=1,WEEKDAY(A319,2)>=6)),AND(C319=\"\",D319>E319,OR(WEEKDAY(A319,2)>=5)),AND(C319<>\"\",D319>E319,WEEKDAY(A319,2)>=5)),ColTime(Data!$J$6,Data!$L$6,D319,E319),\"\"),\"\")","v":""},{"$f":"IFERROR(IF(OR(AND(WEEKDAY(A319,2)>1,WEEKDAY(A319,2)<6,D319<E319,C319=\"\"),AND(C319=\"\",WEEKDAY(A319,2)=1,E319<D319),AND(C319<>\"\",D319<E319,WEEKDAY(A319,2)>1,WEEKDAY(A319,2)<4),AND(C319<>\"\",D319>E319,WEEKDAY(A319,2)=1)),ColTime(Data!$J$6,Data!$L$6,D319,E319),\"\"),\"\")","v":""},null,{"$f":"IF(F319=\"\",\"\",IF(AND(C319<>\"\",OR(D319<E319,AND(D319>E319,C625<>\"\"))),ColTime(Data!$J$6,Data!$L$6,D319,E319),\"\"))","v":""}]
["2020-11-10","Ti","Mortensaften",null,null,"",null,null,null,{"$f":"IF(OR(AND(C320<>\"\",D320>E320,WEEKDAY(A320,2)=5),AND(C320=\"\",WEEKDAY(A320,2)>5)),IF(D320=\"\",\"\",ColTime(Data!$J$3,Data!$L$3,D320,E320)),\"\")","v":""},"","",{"$f":"IFERROR(IF(AND(C320=\"\",WEEKDAY(A320,2)>5),IF(D320=\"\",\"\",(IF(E320-MAX(D320,(15/24))+(E320<D320)<0,0,E320-MAX(D320,(15/24))+($E320<D320)))-(IF((E320-MAX(D320,(23/24))+(E320<D320))<0,0,(E320-MAX(D320,(23/24))+(E320<D320))))),o),\"\")","v":""},"","","","",{"$f":"IFERROR(IF(OR(AND(C320=\"\",D320<E320,OR(WEEKDAY(A320,2)=1,WEEKDAY(A320,2)>=6)),AND(C320=\"\",D320>E320,OR(WEEKDAY(A320,2)>=5)),AND(C320<>\"\",D320>E320,WEEKDAY(A320,2)>=5)),ColTime(Data!$J$6,Data!$L$6,D320,E320),\"\"),\"\")","v":""},{"$f":"IFERROR(IF(OR(AND(WEEKDAY(A320,2)>1,WEEKDAY(A320,2)<6,D320<E320,C320=\"\"),AND(C320=\"\",WEEKDAY(A320,2)=1,E320<D320),AND(C320<>\"\",D320<E320,WEEKDAY(A320,2)>1,WEEKDAY(A320,2)<4),AND(C320<>\"\",D320>E320,WEEKDAY(A320,2)=1)),ColTime(Data!$J$6,Data!$L$6,D320,E320),\"\"),\"\")","v":""},null,{"$f":"IF(F320=\"\",\"\",IF(AND(C320<>\"\",OR(D320<E320,AND(D320>E320,C626<>\"\"))),ColTime(Data!$J$6,Data!$L$6,D320,E320),\"\"))","v":""}]
["2020-11-11","On","Mortensdag",null,null,"",null,null,null,{"$f":"IF(OR(AND(C321<>\"\",D321>E321,WEEKDAY(A321,2)=5),AND(C321=\"\",WEEKDAY(A321,2)>5)),IF(D321=\"\",\"\",ColTime(Data!$J$3,Data!$L$3,D321,E321)),\"\")","v":""},"","",{"$f":"IFERROR(IF(AND(C321=\"\",WEEKDAY(A321,2)>5),IF(D321=\"\",\"\",(IF(E321-MAX(D321,(15/24))+(E321<D321)<0,0,E321-MAX(D321,(15/24))+($E321<D321)))-(IF((E321-MAX(D321,(23/24))+(E321<D321))<0,0,(E321-MAX(D321,(23/24))+(E321<D321))))),o),\"\")","v":""},"","","","",{"$f":"IFERROR(IF(OR(AND(C321=\"\",D321<E321,OR(WEEKDAY(A321,2)=1,WEEKDAY(A321,2)>=6)),AND(C321=\"\",D321>E321,OR(WEEKDAY(A321,2)>=5)),AND(C321<>\"\",D321>E321,WEEKDAY(A321,2)>=5)),ColTime(Data!$J$6,Data!$L$6,D321,E321),\"\"),\"\")","v":""},{"$f":"IFERROR(IF(OR(AND(WEEKDAY(A321,2)>1,WEEKDAY(A321,2)<6,D321<E321,C321=\"\"),AND(C321=\"\",WEEKDAY(A321,2)=1,E321<D321),AND(C321<>\"\",D321<E321,WEEKDAY(A321,2)>1,WEEKDAY(A321,2)<4),AND(C321<>\"\",D321>E321,WEEKDAY(A321,2)=1)),ColTime(Data!$J$6,Data!$L$6,D321,E321),\"\"),\"\")","v":""},null,{"$f":"IF(F321=\"\",\"\",IF(AND(C321<>\"\",OR(D321<E321,AND(D321>E321,C627<>\"\"))),ColTime(Data!$J$6,Data!$L$6,D321,E321),\"\"))","v":""}]
["2020-11-12","To","",null,null,"",null,null,null,{"$f":"IF(OR(AND(C322<>\"\",D322>E322,WEEKDAY(A322,2)=5),AND(C322=\"\",WEEKDAY(A322,2)>5)),IF(D322=\"\",\"\",ColTime(Data!$J$3,Data!$L$3,D322,E322)),\"\")","v":""},"","",{"$f":"IFERROR(IF(AND(C322=\"\",WEEKDAY(A322,2)>5),IF(D322=\"\",\"\",(IF(E322-MAX(D322,(15/24))+(E322<D322)<0,0,E322-MAX(D322,(15/24))+($E322<D322)))-(IF((E322-MAX(D322,(23/24))+(E322<D322))<0,0,(E322-MAX(D322,(23/24))+(E322<D322))))),o),\"\")","v":""},"","","","",{"$f":"IFERROR(IF(OR(AND(C322=\"\",D322<E322,OR(WEEKDAY(A322,2)=1,WEEKDAY(A322,2)>=6)),AND(C322=\"\",D322>E322,OR(WEEKDAY(A322,2)>=5)),AND(C322<>\"\",D322>E322,WEEKDAY(A322,2)>=5)),ColTime(Data!$J$6,Data!$L$6,D322,E322),\"\"),\"\")","v":""},{"$f":"IFERROR(IF(OR(AND(WEEKDAY(A322,2)>1,WEEKDAY(A322,2)<6,D322<E322,C322=\"\"),AND(C322=\"\",WEEKDAY(A322,2)=1,E322<D322),AND(C322<>\"\",D322<E322,WEEKDAY(A322,2)>1,WEEKDAY(A322,2)<4),AND(C322<>\"\",D322>E322,WEEKDAY(A322,2)=1)),ColTime(Data!$J$6,Data!$L$6,D322,E322),\"\"),\"\")","v":""},null,{"$f":"IF(F322=\"\",\"\",IF(AND(C322<>\"\",OR(D322<E322,AND(D322>E322,C628<>\"\"))),ColTime(Data!$J$6,Data!$L$6,D322,E322),\"\"))","v":""}]
["2020-11-13","Fr","",null,null,"",null,null,null,{"$f":"IF(OR(AND(C323<>\"\",D323>E323,WEEKDAY(A323,2)=5),AND(C323=\"\",WEEKDAY(A323,2)>5)),IF(D323=\"\",\"\",ColTime(Data!$J$3,Data!$L$3,D323,E323)),\"\")","v":""},"","",{"$f":"IFERROR(IF(AND(C323=\"\",WEEKDAY(A323,2)>5),IF(D323=\"\",\"\",(IF(E323-MAX(D323,(15/24))+(E323<D323)<0,0,E323-MAX(D323,(15/24))+($E323<D323)))-(IF((E323-MAX(D323,(23/24))+(E323<D323))<0,0,(E323-MAX(D323,(23/24))+(E323<D323))))),o),\"\")","v":""},"","","","",{"$f":"IFERROR(IF(OR(AND(C323=\"\",D323<E323,OR(WEEKDAY(A323,2)=1,WEEKDAY(A323,2)>=6)),AND(C323=\"\",D323>E323,OR(WEEKDAY(A323,2)>=5)),AND(C323<>\"\",D323>E323,WEEKDAY(A323,2)>=5)),ColTime(Data!$J$6,Data!$L$6,D323,E323),\"\"),\"\")","v":""},{"$f":"IFERROR(IF(OR(AND(WEEKDAY(A323,2)>1,WEEKDAY(A323,2)<6,D323<E323,C323=\"\"),AND(C323=\"\",WEEKDAY(A323,2)=1,E323<D323),AND(C323<>\"\",D323<E323,WEEKDAY(A323,2)>1,WEEKDAY(A323,2)<4),AND(C323<>\"\",D323>E323,WEEKDAY(A323,2)=1)),ColTime(Data!$J$6,Data!$L$6,D323,E323),\"\"),\"\")","v":""},null,{"$f":"IF(F323=\"\",\"\",IF(AND(C323<>\"\",OR(D323<E323,AND(D323>E323,C629<>\"\"))),ColTime(Data!$J$6,Data!$L$6,D323,E323),\"\"))","v":""}]
["2020-11-14","Lø","",null,null,"",null,null,null,{"$f":"IF(OR(AND(C324<>\"\",D324>E324,WEEKDAY(A324,2)=5),AND(C324=\"\",WEEKDAY(A324,2)>5)),IF(D324=\"\",\"\",ColTime(Data!$J$3,Data!$L$3,D324,E324)),\"\")","v":""},"","",{"$f":"IFERROR(IF(AND(C324=\"\",WEEKDAY(A324,2)>5),IF(D324=\"\",\"\",(IF(E324-MAX(D324,(15/24))+(E324<D324)<0,0,E324-MAX(D324,(15/24))+($E324<D324)))-(IF((E324-MAX(D324,(23/24))+(E324<D324))<0,0,(E324-MAX(D324,(23/24))+(E324<D324))))),o),\"\")","v":""},"","","","",{"$f":"IFERROR(IF(OR(AND(C324=\"\",D324<E324,OR(WEEKDAY(A324,2)=1,WEEKDAY(A324,2)>=6)),AND(C324=\"\",D324>E324,OR(WEEKDAY(A324,2)>=5)),AND(C324<>\"\",D324>E324,WEEKDAY(A324,2)>=5)),ColTime(Data!$J$6,Data!$L$6,D324,E324),\"\"),\"\")","v":""},{"$f":"IFERROR(IF(OR(AND(WEEKDAY(A324,2)>1,WEEKDAY(A324,2)<6,D324<E324,C324=\"\"),AND(C324=\"\",WEEKDAY(A324,2)=1,E324<D324),AND(C324<>\"\",D324<E324,WEEKDAY(A324,2)>1,WEEKDAY(A324,2)<4),AND(C324<>\"\",D324>E324,WEEKDAY(A324,2)=1)),ColTime(Data!$J$6,Data!$L$6,D324,E324),\"\"),\"\")","v":""},null,{"$f":"IF(F324=\"\",\"\",IF(AND(C324<>\"\",OR(D324<E324,AND(D324>E324,C630<>\"\"))),ColTime(Data!$J$6,Data!$L$6,D324,E324),\"\"))","v":""}]
["2020-11-15","Sø","",null,null,"",null,null,null,{"$f":"IF(OR(AND(C325<>\"\",D325>E325,WEEKDAY(A325,2)=5),AND(C325=\"\",WEEKDAY(A325,2)>5)),IF(D325=\"\",\"\",ColTime(Data!$J$3,Data!$L$3,D325,E325)),\"\")","v":""},"","",{"$f":"IFERROR(IF(AND(C325=\"\",WEEKDAY(A325,2)>5),IF(D325=\"\",\"\",(IF(E325-MAX(D325,(15/24))+(E325<D325)<0,0,E325-MAX(D325,(15/24))+($E325<D325)))-(IF((E325-MAX(D325,(23/24))+(E325<D325))<0,0,(E325-MAX(D325,(23/24))+(E325<D325))))),o),\"\")","v":""},"","","","",{"$f":"IFERROR(IF(OR(AND(C325=\"\",D325<E325,OR(WEEKDAY(A325,2)=1,WEEKDAY(A325,2)>=6)),AND(C325=\"\",D325>E325,OR(WEEKDAY(A325,2)>=5)),AND(C325<>\"\",D325>E325,WEEKDAY(A325,2)>=5)),ColTime(Data!$J$6,Data!$L$6,D325,E325),\"\"),\"\")","v":""},{"$f":"IFERROR(IF(OR(AND(WEEKDAY(A325,2)>1,WEEKDAY(A325,2)<6,D325<E325,C325=\"\"),AND(C325=\"\",WEEKDAY(A325,2)=1,E325<D325),AND(C325<>\"\",D325<E325,WEEKDAY(A325,2)>1,WEEKDAY(A325,2)<4),AND(C325<>\"\",D325>E325,WEEKDAY(A325,2)=1)),ColTime(Data!$J$6,Data!$L$6,D325,E325),\"\"),\"\")","v":""},null,{"$f":"IF(F325=\"\",\"\",IF(AND(C325<>\"\",OR(D325<E325,AND(D325>E325,C631<>\"\"))),ColTime(Data!$J$6,Data!$L$6,D325,E325),\"\"))","v":""}]
["2020-11-16","Ma","",null,null,"",null,null,null,{"$f":"IF(OR(AND(C326<>\"\",D326>E326,WEEKDAY(A326,2)=5),AND(C326=\"\",WEEKDAY(A326,2)>5)),IF(D326=\"\",\"\",ColTime(Data!$J$3,Data!$L$3,D326,E326)),\"\")","v":""},"","",{"$f":"IFERROR(IF(AND(C326=\"\",WEEKDAY(A326,2)>5),IF(D326=\"\",\"\",(IF(E326-MAX(D326,(15/24))+(E326<D326)<0,0,E326-MAX(D326,(15/24))+($E326<D326)))-(IF((E326-MAX(D326,(23/24))+(E326<D326))<0,0,(E326-MAX(D326,(23/24))+(E326<D326))))),o),\"\")","v":""},"","","","",{"$f":"IFERROR(IF(OR(AND(C326=\"\",D326<E326,OR(WEEKDAY(A326,2)=1,WEEKDAY(A326,2)>=6)),AND(C326=\"\",D326>E326,OR(WEEKDAY(A326,2)>=5)),AND(C326<>\"\",D326>E326,WEEKDAY(A326,2)>=5)),ColTime(Data!$J$6,Data!$L$6,D326,E326),\"\"),\"\")","v":""},{"$f":"IFERROR(IF(OR(AND(WEEKDAY(A326,2)>1,WEEKDAY(A326,2)<6,D326<E326,C326=\"\"),AND(C326=\"\",WEEKDAY(A326,2)=1,E326<D326),AND(C326<>\"\",D326<E326,WEEKDAY(A326,2)>1,WEEKDAY(A326,2)<4),AND(C326<>\"\",D326>E326,WEEKDAY(A326,2)=1)),ColTime(Data!$J$6,Data!$L$6,D326,E326),\"\"),\"\")","v":""},null,{"$f":"IF(F326=\"\",\"\",IF(AND(C326<>\"\",OR(D326<E326,AND(D326>E326,C632<>\"\"))),ColTime(Data!$J$6,Data!$L$6,D326,E326),\"\"))","v":""}]
[{"$f":"A326+1","v":"2020-11-17"},"Ti","",null,null,"",null,null,null,{"$f":"IF(OR(AND(C327<>\"\",D327>E327,WEEKDAY(A327,2)=5),AND(C327=\"\",WEEKDAY(A327,2)>5)),IF(D327=\"\",\"\",ColTime(Data!$J$3,Data!$L$3,D327,E327)),\"\")","v":""},"","",{"$f":"IFERROR(IF(AND(C327=\"\",WEEKDAY(A327,2)>5),IF(D327=\"\",\"\",(IF(E327-MAX(D327,(15/24))+(E327<D327)<0,0,E327-MAX(D327,(15/24))+($E327<D327)))-(IF((E327-MAX(D327,(23/24))+(E327<D327))<0,0,(E327-MAX(D327,(23/24))+(E327<D327))))),o),\"\")","v":""},"","","","",{"$f":"IFERROR(IF(OR(AND(C327=\"\",D327<E327,OR(WEEKDAY(A327,2)=1,WEEKDAY(A327,2)>=6)),AND(C327=\"\",D327>E327,OR(WEEKDAY(A327,2)>=5)),AND(C327<>\"\",D327>E327,WEEKDAY(A327,2)>=5)),ColTime(Data!$J$6,Data!$L$6,D327,E327),\"\"),\"\")","v":""},{"$f":"IFERROR(IF(OR(AND(WEEKDAY(A327,2)>1,WEEKDAY(A327,2)<6,D327<E327,C327=\"\"),AND(C327=\"\",WEEKDAY(A327,2)=1,E327<D327),AND(C327<>\"\",D327<E327,WEEKDAY(A327,2)>1,WEEKDAY(A327,2)<4),AND(C327<>\"\",D327>E327,WEEKDAY(A327,2)=1)),ColTime(Data!$J$6,Data!$L$6,D327,E327),\"\"),\"\")","v":""},null,{"$f":"IF(F327=\"\",\"\",IF(AND(C327<>\"\",OR(D327<E327,AND(D327>E327,C633<>\"\"))),ColTime(Data!$J$6,Data!$L$6,D327,E327),\"\"))","v":""}]
["2020-11-18","On","",null,null,"",null,null,null,{"$f":"IF(OR(AND(C328<>\"\",D328>E328,WEEKDAY(A328,2)=5),AND(C328=\"\",WEEKDAY(A328,2)>5)),IF(D328=\"\",\"\",ColTime(Data!$J$3,Data!$L$3,D328,E328)),\"\")","v":""},"","",{"$f":"IFERROR(IF(AND(C328=\"\",WEEKDAY(A328,2)>5),IF(D328=\"\",\"\",(IF(E328-MAX(D328,(15/24))+(E328<D328)<0,0,E328-MAX(D328,(15/24))+($E328<D328)))-(IF((E328-MAX(D328,(23/24))+(E328<D328))<0,0,(E328-MAX(D328,(23/24))+(E328<D328))))),o),\"\")","v":""},"","","",{"$f":"IF(D328=\"\",\"\",IF(C328<>\"\",IF(D328=\"\",\"\",(IF(E328-MAX(D328,(23/24))+(E328<D328)<0,0,E328-MAX(D328,(23/24))+(E328<D328)))-(IF((E328-MAX(D328,(24/24))+(E328<D328))<0,0,(E328-MAX(D328,(24/24))+(E328<D328))))),0))","v":""},{"$f":"IFERROR(IF(OR(AND(C328=\"\",D328<E328,OR(WEEKDAY(A328,2)=1,WEEKDAY(A328,2)>=6)),AND(C328=\"\",D328>E328,OR(WEEKDAY(A328,2)>=5)),AND(C328<>\"\",D328>E328,WEEKDAY(A328,2)>=5)),ColTime(Data!$J$6,Data!$L$6,D328,E328),\"\"),\"\")","v":""},{"$f":"IFERROR(IF(OR(AND(WEEKDAY(A328,2)>1,WEEKDAY(A328,2)<6,D328<E328,C328=\"\"),AND(C328=\"\",WEEKDAY(A328,2)=1,E328<D328),AND(C328<>\"\",D328<E328,WEEKDAY(A328,2)>1,WEEKDAY(A328,2)<4),AND(C328<>\"\",D328>E328,WEEKDAY(A328,2)=1)),ColTime(Data!$J$6,Data!$L$6,D328,E328),\"\"),\"\")","v":""},null,{"$f":"IF(F328=\"\",\"\",IF(AND(C328<>\"\",OR(D328<E328,AND(D328>E328,C634<>\"\"))),ColTime(Data!$J$6,Data!$L$6,D328,E328),\"\"))","v":""}]
["2020-11-19","To","",null,null,"",null,null,null,{"$f":"IF(OR(AND(C329<>\"\",D329>E329,WEEKDAY(A329,2)=5),AND(C329=\"\",WEEKDAY(A329,2)>5)),IF(D329=\"\",\"\",ColTime(Data!$J$3,Data!$L$3,D329,E329)),\"\")","v":""},"","",{"$f":"IFERROR(IF(AND(C329=\"\",WEEKDAY(A329,2)>5),IF(D329=\"\",\"\",(IF(E329-MAX(D329,(15/24))+(E329<D329)<0,0,E329-MAX(D329,(15/24))+($E329<D329)))-(IF((E329-MAX(D329,(23/24))+(E329<D329))<0,0,(E329-MAX(D329,(23/24))+(E329<D329))))),o),\"\")","v":""},"","","","",{"$f":"IFERROR(IF(OR(AND(C329=\"\",D329<E329,OR(WEEKDAY(A329,2)=1,WEEKDAY(A329,2)>=6)),AND(C329=\"\",D329>E329,OR(WEEKDAY(A329,2)>=5)),AND(C329<>\"\",D329>E329,WEEKDAY(A329,2)>=5)),ColTime(Data!$J$6,Data!$L$6,D329,E329),\"\"),\"\")","v":""},{"$f":"IFERROR(IF(OR(AND(WEEKDAY(A329,2)>1,WEEKDAY(A329,2)<6,D329<E329,C329=\"\"),AND(C329=\"\",WEEKDAY(A329,2)=1,E329<D329),AND(C329<>\"\",D329<E329,WEEKDAY(A329,2)>1,WEEKDAY(A329,2)<4),AND(C329<>\"\",D329>E329,WEEKDAY(A329,2)=1)),ColTime(Data!$J$6,Data!$L$6,D329,E329),\"\"),\"\")","v":""},null,{"$f":"IF(F329=\"\",\"\",IF(AND(C329<>\"\",OR(D329<E329,AND(D329>E329,C635<>\"\"))),ColTime(Data!$J$6,Data!$L$6,D329,E329),\"\"))","v":""}]
["2020-11-20","Fr","",null,null,"",null,null,null,{"$f":"IF(OR(AND(C330<>\"\",D330>E330,WEEKDAY(A330,2)=5),AND(C330=\"\",WEEKDAY(A330,2)>5)),IF(D330=\"\",\"\",ColTime(Data!$J$3,Data!$L$3,D330,E330)),\"\")","v":""},"","",{"$f":"IFERROR(IF(AND(C330=\"\",WEEKDAY(A330,2)>5),IF(D330=\"\",\"\",(IF(E330-MAX(D330,(15/24))+(E330<D330)<0,0,E330-MAX(D330,(15/24))+($E330<D330)))-(IF((E330-MAX(D330,(23/24))+(E330<D330))<0,0,(E330-MAX(D330,(23/24))+(E330<D330))))),o),\"\")","v":""},"","","","",{"$f":"IFERROR(IF(OR(AND(C330=\"\",D330<E330,OR(WEEKDAY(A330,2)=1,WEEKDAY(A330,2)>=6)),AND(C330=\"\",D330>E330,OR(WEEKDAY(A330,2)>=5)),AND(C330<>\"\",D330>E330,WEEKDAY(A330,2)>=5)),ColTime(Data!$J$6,Data!$L$6,D330,E330),\"\"),\"\")","v":""},{"$f":"IFERROR(IF(OR(AND(WEEKDAY(A330,2)>1,WEEKDAY(A330,2)<6,D330<E330,C330=\"\"),AND(C330=\"\",WEEKDAY(A330,2)=1,E330<D330),AND(C330<>\"\",D330<E330,WEEKDAY(A330,2)>1,WEEKDAY(A330,2)<4),AND(C330<>\"\",D330>E330,WEEKDAY(A330,2)=1)),ColTime(Data!$J$6,Data!$L$6,D330,E330),\"\"),\"\")","v":""},null,{"$f":"IF(F330=\"\",\"\",IF(AND(C330<>\"\",OR(D330<E330,AND(D330>E330,C636<>\"\"))),ColTime(Data!$J$6,Data!$L$6,D330,E330),\"\"))","v":""}]
["2020-11-21","Lø","",null,null,"",null,null,null,{"$f":"IF(OR(AND(C331<>\"\",D331>E331,WEEKDAY(A331,2)=5),AND(C331=\"\",WEEKDAY(A331,2)>5)),IF(D331=\"\",\"\",ColTime(Data!$J$3,Data!$L$3,D331,E331)),\"\")","v":""},"","",{"$f":"IFERROR(IF(AND(C331=\"\",WEEKDAY(A331,2)>5),IF(D331=\"\",\"\",(IF(E331-MAX(D331,(15/24))+(E331<D331)<0,0,E331-MAX(D331,(15/24))+($E331<D331)))-(IF((E331-MAX(D331,(23/24))+(E331<D331))<0,0,(E331-MAX(D331,(23/24))+(E331<D331))))),o),\"\")","v":""},"","","","",{"$f":"IFERROR(IF(OR(AND(C331=\"\",D331<E331,OR(WEEKDAY(A331,2)=1,WEEKDAY(A331,2)>=6)),AND(C331=\"\",D331>E331,OR(WEEKDAY(A331,2)>=5)),AND(C331<>\"\",D331>E331,WEEKDAY(A331,2)>=5)),ColTime(Data!$J$6,Data!$L$6,D331,E331),\"\"),\"\")","v":""},{"$f":"IFERROR(IF(OR(AND(WEEKDAY(A331,2)>1,WEEKDAY(A331,2)<6,D331<E331,C331=\"\"),AND(C331=\"\",WEEKDAY(A331,2)=1,E331<D331),AND(C331<>\"\",D331<E331,WEEKDAY(A331,2)>1,WEEKDAY(A331,2)<4),AND(C331<>\"\",D331>E331,WEEKDAY(A331,2)=1)),ColTime(Data!$J$6,Data!$L$6,D331,E331),\"\"),\"\")","v":""},null,{"$f":"IF(F331=\"\",\"\",IF(AND(C331<>\"\",OR(D331<E331,AND(D331>E331,C637<>\"\"))),ColTime(Data!$J$6,Data!$L$6,D331,E331),\"\"))","v":""}]
["2020-11-22","Sø","",null,null,"",null,null,null,{"$f":"IF(OR(AND(C332<>\"\",D332>E332,WEEKDAY(A332,2)=5),AND(C332=\"\",WEEKDAY(A332,2)>5)),IF(D332=\"\",\"\",ColTime(Data!$J$3,Data!$L$3,D332,E332)),\"\")","v":""},"","",{"$f":"IFERROR(IF(AND(C332=\"\",WEEKDAY(A332,2)>5),IF(D332=\"\",\"\",(IF(E332-MAX(D332,(15/24))+(E332<D332)<0,0,E332-MAX(D332,(15/24))+($E332<D332)))-(IF((E332-MAX(D332,(23/24))+(E332<D332))<0,0,(E332-MAX(D332,(23/24))+(E332<D332))))),o),\"\")","v":""},"","","","",{"$f":"IFERROR(IF(OR(AND(C332=\"\",D332<E332,OR(WEEKDAY(A332,2)=1,WEEKDAY(A332,2)>=6)),AND(C332=\"\",D332>E332,OR(WEEKDAY(A332,2)>=5)),AND(C332<>\"\",D332>E332,WEEKDAY(A332,2)>=5)),ColTime(Data!$J$6,Data!$L$6,D332,E332),\"\"),\"\")","v":""},{"$f":"IFERROR(IF(OR(AND(WEEKDAY(A332,2)>1,WEEKDAY(A332,2)<6,D332<E332,C332=\"\"),AND(C332=\"\",WEEKDAY(A332,2)=1,E332<D332),AND(C332<>\"\",D332<E332,WEEKDAY(A332,2)>1,WEEKDAY(A332,2)<4),AND(C332<>\"\",D332>E332,WEEKDAY(A332,2)=1)),ColTime(Data!$J$6,Data!$L$6,D332,E332),\"\"),\"\")","v":""},null,{"$f":"IF(F332=\"\",\"\",IF(AND(C332<>\"\",OR(D332<E332,AND(D332>E332,C638<>\"\"))),ColTime(Data!$J$6,Data!$L$6,D332,E332),\"\"))","v":""}]
["2020-11-23","Ma","",null,null,"",null,null,null,{"$f":"IF(OR(AND(C333<>\"\",D333>E333,WEEKDAY(A333,2)=5),AND(C333=\"\",WEEKDAY(A333,2)>5)),IF(D333=\"\",\"\",ColTime(Data!$J$3,Data!$L$3,D333,E333)),\"\")","v":""},"","",{"$f":"IFERROR(IF(AND(C333=\"\",WEEKDAY(A333,2)>5),IF(D333=\"\",\"\",(IF(E333-MAX(D333,(15/24))+(E333<D333)<0,0,E333-MAX(D333,(15/24))+($E333<D333)))-(IF((E333-MAX(D333,(23/24))+(E333<D333))<0,0,(E333-MAX(D333,(23/24))+(E333<D333))))),o),\"\")","v":""},"","","","",{"$f":"IFERROR(IF(OR(AND(C333=\"\",D333<E333,OR(WEEKDAY(A333,2)=1,WEEKDAY(A333,2)>=6)),AND(C333=\"\",D333>E333,OR(WEEKDAY(A333,2)>=5)),AND(C333<>\"\",D333>E333,WEEKDAY(A333,2)>=5)),ColTime(Data!$J$6,Data!$L$6,D333,E333),\"\"),\"\")","v":""},{"$f":"IFERROR(IF(OR(AND(WEEKDAY(A333,2)>1,WEEKDAY(A333,2)<6,D333<E333,C333=\"\"),AND(C333=\"\",WEEKDAY(A333,2)=1,E333<D333),AND(C333<>\"\",D333<E333,WEEKDAY(A333,2)>1,WEEKDAY(A333,2)<4),AND(C333<>\"\",D333>E333,WEEKDAY(A333,2)=1)),ColTime(Data!$J$6,Data!$L$6,D333,E333),\"\"),\"\")","v":""},null,{"$f":"IF(F333=\"\",\"\",IF(AND(C333<>\"\",OR(D333<E333,AND(D333>E333,C639<>\"\"))),ColTime(Data!$J$6,Data!$L$6,D333,E333),\"\"))","v":""}]
["2020-11-24",{"$f":"PROPER(TEXT(A334,\"ddd\"))","v":"Ti"},{"$f":"HelligdagsNavn(A334,0,0)","v":""},null,null,{"$f":"IF(D334=\"\",\"\",(E334-D334)+(D334>E334))","v":""},null,null,null,{"$f":"IF(OR(AND(C334<>\"\",D334>E334,WEEKDAY(A334,2)=5),AND(C334=\"\",WEEKDAY(A334,2)>5)),IF(D334=\"\",\"\",ColTime(Data!$J$3,Data!$L$3,D334,E334)),\"\")","v":""},{"$f":"IF(C334<>\"\",IF(D334=\"\",\"\",(IF(E334-MAX(D334,(7/24))+(E334<D334)<0,0,E334-MAX(D334,(7/24))+(E334<D334)))-(IF((E334-MAX(D334,(15/24))+(E334<D334))<0,0,(E334-MAX(D334,(15/24))+(E334<D334))))),\"\")","v":""},{"$f":"IFERROR(IF(AND(C334=\"\",WEEKDAY(A334,2)<6),IF(D334=\"\",\"\",(IF(E334-MAX(D334,(15/24))+(E334<D334)<0,0,E334-MAX(D334,(15/24))+(E334<D334)))-(IF((E334-MAX(D334,(23/24))+(E334<D334))<0,0,(E334-MAX(D334,(23/24))+(E334<D334))))),\"\"),\"\")","v":""},{"$f":"IFERROR(IF(AND(C334=\"\",WEEKDAY(A334,2)>5),IF(D334=\"\",\"\",(IF(E334-MAX(D334,(15/24))+(E334<D334)<0,0,E334-MAX(D334,(15/24))+($E334<D334)))-(IF((E334-MAX(D334,(23/24))+(E334<D334))<0,0,(E334-MAX(D334,(23/24))+(E334<D334))))),o),\"\")","v":""},{"$f":"IF(C334<>\"\",IF(D334=\"\",\"\",(IF(E334-MAX(D334,(15/24))+(E334<D334)<0,0,E334-MAX(D334,(15/24))+(E334<D334)))-(IF((E334-MAX(D334,(23/24))+(E334<D334))<0,0,(E334-MAX(D334,(23/24))+(E334<D334))))),\"\")","v":""},{"$f":"IF(A334=\"\",\"\",IF(AND(C334=\"\",WEEKDAY(A334,2)<5),IF(D334=\"\",\"\",(IF(E334-MAX(D334,(23/24))+(E334<D334)<0,0,E334-MAX(D334,(23/24))+(E334<D334)))-(IF((E334-MAX(D334,(24/24))+(E334<D334))<0,0,(E334-MAX(D334,(24/24))+(E334<D334))))),\"\"))","v":""},{"$f":"IFERROR(IF(AND(C334=\"\",WEEKDAY(A334,2)>4),IF(D334=\"\",\"\",(IF(E334-MAX(D334,(23/24))+(E334<D334)<0,0,E334-MAX(D334,(23/24))+(E334<D334)))-(IF((E334-MAX(D334,(24/24))+(E334<D334))<0,0,(E334-MAX(D334,(24/24))+(E334<D334))))),\"\"),\"\")","v":""},"",{"$f":"IFERROR(IF(OR(AND(C334=\"\",D334<E334,OR(WEEKDAY(A334,2)=1,WEEKDAY(A334,2)>=6)),AND(C334=\"\",D334>E334,OR(WEEKDAY(A334,2)>=5)),AND(C334<>\"\",D334>E334,WEEKDAY(A334,2)>=5)),ColTime(Data!$J$6,Data!$L$6,D334,E334),\"\"),\"\")","v":""},{"$f":"IFERROR(IF(OR(AND(WEEKDAY(A334,2)>1,WEEKDAY(A334,2)<6,D334<E334,C334=\"\"),AND(C334=\"\",WEEKDAY(A334,2)=1,E334<D334),AND(C334<>\"\",D334<E334,WEEKDAY(A334,2)>1,WEEKDAY(A334,2)<4),AND(C334<>\"\",D334>E334,WEEKDAY(A334,2)=1)),ColTime(Data!$J$6,Data!$L$6,D334,E334),\"\"),\"\")","v":""},null,{"$f":"IF(F334=\"\",\"\",IF(AND(C334<>\"\",OR(D334<E334,AND(D334>E334,C640<>\"\"))),ColTime(Data!$J$6,Data!$L$6,D334,E334),\"\"))","v":""}]
["2020-11-25","On","",null,null,"",null,null,null,{"$f":"IF(OR(AND(C335<>\"\",D335>E335,WEEKDAY(A335,2)=5),AND(C335=\"\",WEEKDAY(A335,2)>5)),IF(D335=\"\",\"\",ColTime(Data!$J$3,Data!$L$3,D335,E335)),\"\")","v":""},"","",{"$f":"IFERROR(IF(AND(C335=\"\",WEEKDAY(A335,2)>5),IF(D335=\"\",\"\",(IF(E335-MAX(D335,(15/24))+(E335<D335)<0,0,E335-MAX(D335,(15/24))+($E335<D335)))-(IF((E335-MAX(D335,(23/24))+(E335<D335))<0,0,(E335-MAX(D335,(23/24))+(E335<D335))))),o),\"\")","v":""},"","","","",{"$f":"IFERROR(IF(OR(AND(C335=\"\",D335<E335,OR(WEEKDAY(A335,2)=1,WEEKDAY(A335,2)>=6)),AND(C335=\"\",D335>E335,OR(WEEKDAY(A335,2)>=5)),AND(C335<>\"\",D335>E335,WEEKDAY(A335,2)>=5)),ColTime(Data!$J$6,Data!$L$6,D335,E335),\"\"),\"\")","v":""},{"$f":"IFERROR(IF(OR(AND(WEEKDAY(A335,2)>1,WEEKDAY(A335,2)<6,D335<E335,C335=\"\"),AND(C335=\"\",WEEKDAY(A335,2)=1,E335<D335),AND(C335<>\"\",D335<E335,WEEKDAY(A335,2)>1,WEEKDAY(A335,2)<4),AND(C335<>\"\",D335>E335,WEEKDAY(A335,2)=1)),ColTime(Data!$J$6,Data!$L$6,D335,E335),\"\"),\"\")","v":""},null,{"$f":"IF(F335=\"\",\"\",IF(AND(C335<>\"\",OR(D335<E335,AND(D335>E335,C641<>\"\"))),ColTime(Data!$J$6,Data!$L$6,D335,E335),\"\"))","v":""}]
["2020-11-26","To","",null,null,"",null,null,null,{"$f":"IF(OR(AND(C336<>\"\",D336>E336,WEEKDAY(A336,2)=5),AND(C336=\"\",WEEKDAY(A336,2)>5)),IF(D336=\"\",\"\",ColTime(Data!$J$3,Data!$L$3,D336,E336)),\"\")","v":""},"","",{"$f":"IFERROR(IF(AND(C336=\"\",WEEKDAY(A336,2)>5),IF(D336=\"\",\"\",(IF(E336-MAX(D336,(15/24))+(E336<D336)<0,0,E336-MAX(D336,(15/24))+($E336<D336)))-(IF((E336-MAX(D336,(23/24))+(E336<D336))<0,0,(E336-MAX(D336,(23/24))+(E336<D336))))),o),\"\")","v":""},"","","","",{"$f":"IFERROR(IF(OR(AND(C336=\"\",D336<E336,OR(WEEKDAY(A336,2)=1,WEEKDAY(A336,2)>=6)),AND(C336=\"\",D336>E336,OR(WEEKDAY(A336,2)>=5)),AND(C336<>\"\",D336>E336,WEEKDAY(A336,2)>=5)),ColTime(Data!$J$6,Data!$L$6,D336,E336),\"\"),\"\")","v":""},{"$f":"IFERROR(IF(OR(AND(WEEKDAY(A336,2)>1,WEEKDAY(A336,2)<6,D336<E336,C336=\"\"),AND(C336=\"\",WEEKDAY(A336,2)=1,E336<D336),AND(C336<>\"\",D336<E336,WEEKDAY(A336,2)>1,WEEKDAY(A336,2)<4),AND(C336<>\"\",D336>E336,WEEKDAY(A336,2)=1)),ColTime(Data!$J$6,Data!$L$6,D336,E336),\"\"),\"\")","v":""},null,{"$f":"IF(F336=\"\",\"\",IF(AND(C336<>\"\",OR(D336<E336,AND(D336>E336,C642<>\"\"))),ColTime(Data!$J$6,Data!$L$6,D336,E336),\"\"))","v":""}]
["2020-11-27","Fr","",null,null,"",null,null,null,{"$f":"IF(OR(AND(C337<>\"\",D337>E337,WEEKDAY(A337,2)=5),AND(C337=\"\",WEEKDAY(A337,2)>5)),IF(D337=\"\",\"\",ColTime(Data!$J$3,Data!$L$3,D337,E337)),\"\")","v":""},"","",{"$f":"IFERROR(IF(AND(C337=\"\",WEEKDAY(A337,2)>5),IF(D337=\"\",\"\",(IF(E337-MAX(D337,(15/24))+(E337<D337)<0,0,E337-MAX(D337,(15/24))+($E337<D337)))-(IF((E337-MAX(D337,(23/24))+(E337<D337))<0,0,(E337-MAX(D337,(23/24))+(E337<D337))))),o),\"\")","v":""},"","","","",{"$f":"IFERROR(IF(OR(AND(C337=\"\",D337<E337,OR(WEEKDAY(A337,2)=1,WEEKDAY(A337,2)>=6)),AND(C337=\"\",D337>E337,OR(WEEKDAY(A337,2)>=5)),AND(C337<>\"\",D337>E337,WEEKDAY(A337,2)>=5)),ColTime(Data!$J$6,Data!$L$6,D337,E337),\"\"),\"\")","v":""},{"$f":"IFERROR(IF(OR(AND(WEEKDAY(A337,2)>1,WEEKDAY(A337,2)<6,D337<E337,C337=\"\"),AND(C337=\"\",WEEKDAY(A337,2)=1,E337<D337),AND(C337<>\"\",D337<E337,WEEKDAY(A337,2)>1,WEEKDAY(A337,2)<4),AND(C337<>\"\",D337>E337,WEEKDAY(A337,2)=1)),ColTime(Data!$J$6,Data!$L$6,D337,E337),\"\"),\"\")","v":""},null,{"$f":"IF(F337=\"\",\"\",IF(AND(C337<>\"\",OR(D337<E337,AND(D337>E337,C643<>\"\"))),ColTime(Data!$J$6,Data!$L$6,D337,E337),\"\"))","v":""}]
["2020-11-28","Lø","",null,null,"",null,null,null,{"$f":"IF(OR(AND(C338<>\"\",D338>E338,WEEKDAY(A338,2)=5),AND(C338=\"\",WEEKDAY(A338,2)>5)),IF(D338=\"\",\"\",ColTime(Data!$J$3,Data!$L$3,D338,E338)),\"\")","v":""},"","",{"$f":"IFERROR(IF(AND(C338=\"\",WEEKDAY(A338,2)>5),IF(D338=\"\",\"\",(IF(E338-MAX(D338,(15/24))+(E338<D338)<0,0,E338-MAX(D338,(15/24))+($E338<D338)))-(IF((E338-MAX(D338,(23/24))+(E338<D338))<0,0,(E338-MAX(D338,(23/24))+(E338<D338))))),o),\"\")","v":""},"","","","",{"$f":"IFERROR(IF(OR(AND(C338=\"\",D338<E338,OR(WEEKDAY(A338,2)=1,WEEKDAY(A338,2)>=6)),AND(C338=\"\",D338>E338,OR(WEEKDAY(A338,2)>=5)),AND(C338<>\"\",D338>E338,WEEKDAY(A338,2)>=5)),ColTime(Data!$J$6,Data!$L$6,D338,E338),\"\"),\"\")","v":""},{"$f":"IFERROR(IF(OR(AND(WEEKDAY(A338,2)>1,WEEKDAY(A338,2)<6,D338<E338,C338=\"\"),AND(C338=\"\",WEEKDAY(A338,2)=1,E338<D338),AND(C338<>\"\",D338<E338,WEEKDAY(A338,2)>1,WEEKDAY(A338,2)<4),AND(C338<>\"\",D338>E338,WEEKDAY(A338,2)=1)),ColTime(Data!$J$6,Data!$L$6,D338,E338),\"\"),\"\")","v":""},null,{"$f":"IF(F338=\"\",\"\",IF(AND(C338<>\"\",OR(D338<E338,AND(D338>E338,C644<>\"\"))),ColTime(Data!$J$6,Data!$L$6,D338,E338),\"\"))","v":""}]
["2020-11-29","Sø","",null,null,"",null,null,null,{"$f":"IF(OR(AND(C339<>\"\",D339>E339,WEEKDAY(A339,2)=5),AND(C339=\"\",WEEKDAY(A339,2)>5)),IF(D339=\"\",\"\",ColTime(Data!$J$3,Data!$L$3,D339,E339)),\"\")","v":""},"","",{"$f":"IFERROR(IF(AND(C339=\"\",WEEKDAY(A339,2)>5),IF(D339=\"\",\"\",(IF(E339-MAX(D339,(15/24))+(E339<D339)<0,0,E339-MAX(D339,(15/24))+($E339<D339)))-(IF((E339-MAX(D339,(23/24))+(E339<D339))<0,0,(E339-MAX(D339,(23/24))+(E339<D339))))),o),\"\")","v":""},"","","","",{"$f":"IFERROR(IF(OR(AND(C339=\"\",D339<E339,OR(WEEKDAY(A339,2)=1,WEEKDAY(A339,2)>=6)),AND(C339=\"\",D339>E339,OR(WEEKDAY(A339,2)>=5)),AND(C339<>\"\",D339>E339,WEEKDAY(A339,2)>=5)),ColTime(Data!$J$6,Data!$L$6,D339,E339),\"\"),\"\")","v":""},{"$f":"IFERROR(IF(OR(AND(WEEKDAY(A339,2)>1,WEEKDAY(A339,2)<6,D339<E339,C339=\"\"),AND(C339=\"\",WEEKDAY(A339,2)=1,E339<D339),AND(C339<>\"\",D339<E339,WEEKDAY(A339,2)>1,WEEKDAY(A339,2)<4),AND(C339<>\"\",D339>E339,WEEKDAY(A339,2)=1)),ColTime(Data!$J$6,Data!$L$6,D339,E339),\"\"),\"\")","v":""},null,{"$f":"IF(F339=\"\",\"\",IF(AND(C339<>\"\",OR(D339<E339,AND(D339>E339,C645<>\"\"))),ColTime(Data!$J$6,Data!$L$6,D339,E339),\"\"))","v":""}]
["2020-11-30","Ma","",null,null,"",null,null,null,{"$f":"IF(OR(AND(C340<>\"\",D340>E340,WEEKDAY(A340,2)=5),AND(C340=\"\",WEEKDAY(A340,2)>5)),IF(D340=\"\",\"\",ColTime(Data!$J$3,Data!$L$3,D340,E340)),\"\")","v":""},"","",{"$f":"IFERROR(IF(AND(C340=\"\",WEEKDAY(A340,2)>5),IF(D340=\"\",\"\",(IF(E340-MAX(D340,(15/24))+(E340<D340)<0,0,E340-MAX(D340,(15/24))+($E340<D340)))-(IF((E340-MAX(D340,(23/24))+(E340<D340))<0,0,(E340-MAX(D340,(23/24))+(E340<D340))))),o),\"\")","v":""},"","","","",{"$f":"IFERROR(IF(OR(AND(C340=\"\",D340<E340,OR(WEEKDAY(A340,2)=1,WEEKDAY(A340,2)>=6)),AND(C340=\"\",D340>E340,OR(WEEKDAY(A340,2)>=5)),AND(C340<>\"\",D340>E340,WEEKDAY(A340,2)>=5)),ColTime(Data!$J$6,Data!$L$6,D340,E340),\"\"),\"\")","v":""},{"$f":"IFERROR(IF(OR(AND(WEEKDAY(A340,2)>1,WEEKDAY(A340,2)<6,D340<E340,C340=\"\"),AND(C340=\"\",WEEKDAY(A340,2)=1,E340<D340),AND(C340<>\"\",D340<E340,WEEKDAY(A340,2)>1,WEEKDAY(A340,2)<4),AND(C340<>\"\",D340>E340,WEEKDAY(A340,2)=1)),ColTime(Data!$J$6,Data!$L$6,D340,E340),\"\"),\"\")","v":""},null,{"$f":"IF(F340=\"\",\"\",IF(AND(C340<>\"\",OR(D340<E340,AND(D340>E340,C646<>\"\"))),ColTime(Data!$J$6,Data!$L$6,D340,E340),\"\"))","v":""}]
["2020-12-01","Ti","",null,null,"",null,null,null,{"$f":"IF(OR(AND(C341<>\"\",D341>E341,WEEKDAY(A341,2)=5),AND(C341=\"\",WEEKDAY(A341,2)>5)),IF(D341=\"\",\"\",ColTime(Data!$J$3,Data!$L$3,D341,E341)),\"\")","v":""},"","",{"$f":"IFERROR(IF(AND(C341=\"\",WEEKDAY(A341,2)>5),IF(D341=\"\",\"\",(IF(E341-MAX(D341,(15/24))+(E341<D341)<0,0,E341-MAX(D341,(15/24))+($E341<D341)))-(IF((E341-MAX(D341,(23/24))+(E341<D341))<0,0,(E341-MAX(D341,(23/24))+(E341<D341))))),o),\"\")","v":""},"","","","",{"$f":"IFERROR(IF(OR(AND(C341=\"\",D341<E341,OR(WEEKDAY(A341,2)=1,WEEKDAY(A341,2)>=6)),AND(C341=\"\",D341>E341,OR(WEEKDAY(A341,2)>=5)),AND(C341<>\"\",D341>E341,WEEKDAY(A341,2)>=5)),ColTime(Data!$J$6,Data!$L$6,D341,E341),\"\"),\"\")","v":""},{"$f":"IFERROR(IF(OR(AND(WEEKDAY(A341,2)>1,WEEKDAY(A341,2)<6,D341<E341,C341=\"\"),AND(C341=\"\",WEEKDAY(A341,2)=1,E341<D341),AND(C341<>\"\",D341<E341,WEEKDAY(A341,2)>1,WEEKDAY(A341,2)<4),AND(C341<>\"\",D341>E341,WEEKDAY(A341,2)=1)),ColTime(Data!$J$6,Data!$L$6,D341,E341),\"\"),\"\")","v":""},null,{"$f":"IF(F341=\"\",\"\",IF(AND(C341<>\"\",OR(D341<E341,AND(D341>E341,C647<>\"\"))),ColTime(Data!$J$6,Data!$L$6,D341,E341),\"\"))","v":""}]
["2020-12-02","On","",null,null,"",null,null,null,{"$f":"IF(OR(AND(C342<>\"\",D342>E342,WEEKDAY(A342,2)=5),AND(C342=\"\",WEEKDAY(A342,2)>5)),IF(D342=\"\",\"\",ColTime(Data!$J$3,Data!$L$3,D342,E342)),\"\")","v":""},"","",{"$f":"IFERROR(IF(AND(C342=\"\",WEEKDAY(A342,2)>5),IF(D342=\"\",\"\",(IF(E342-MAX(D342,(15/24))+(E342<D342)<0,0,E342-MAX(D342,(15/24))+($E342<D342)))-(IF((E342-MAX(D342,(23/24))+(E342<D342))<0,0,(E342-MAX(D342,(23/24))+(E342<D342))))),o),\"\")","v":""},"","","","",{"$f":"IFERROR(IF(OR(AND(C342=\"\",D342<E342,OR(WEEKDAY(A342,2)=1,WEEKDAY(A342,2)>=6)),AND(C342=\"\",D342>E342,OR(WEEKDAY(A342,2)>=5)),AND(C342<>\"\",D342>E342,WEEKDAY(A342,2)>=5)),ColTime(Data!$J$6,Data!$L$6,D342,E342),\"\"),\"\")","v":""},{"$f":"IFERROR(IF(OR(AND(WEEKDAY(A342,2)>1,WEEKDAY(A342,2)<6,D342<E342,C342=\"\"),AND(C342=\"\",WEEKDAY(A342,2)=1,E342<D342),AND(C342<>\"\",D342<E342,WEEKDAY(A342,2)>1,WEEKDAY(A342,2)<4),AND(C342<>\"\",D342>E342,WEEKDAY(A342,2)=1)),ColTime(Data!$J$6,Data!$L$6,D342,E342),\"\"),\"\")","v":""},null,{"$f":"IF(F342=\"\",\"\",IF(AND(C342<>\"\",OR(D342<E342,AND(D342>E342,C648<>\"\"))),ColTime(Data!$J$6,Data!$L$6,D342,E342),\"\"))","v":""}]
["2020-12-03","To","",null,null,"",null,null,null,{"$f":"IF(OR(AND(C343<>\"\",D343>E343,WEEKDAY(A343,2)=5),AND(C343=\"\",WEEKDAY(A343,2)>5)),IF(D343=\"\",\"\",ColTime(Data!$J$3,Data!$L$3,D343,E343)),\"\")","v":""},"","",{"$f":"IFERROR(IF(AND(C343=\"\",WEEKDAY(A343,2)>5),IF(D343=\"\",\"\",(IF(E343-MAX(D343,(15/24))+(E343<D343)<0,0,E343-MAX(D343,(15/24))+($E343<D343)))-(IF((E343-MAX(D343,(23/24))+(E343<D343))<0,0,(E343-MAX(D343,(23/24))+(E343<D343))))),o),\"\")","v":""},"","","","",{"$f":"IFERROR(IF(OR(AND(C343=\"\",D343<E343,OR(WEEKDAY(A343,2)=1,WEEKDAY(A343,2)>=6)),AND(C343=\"\",D343>E343,OR(WEEKDAY(A343,2)>=5)),AND(C343<>\"\",D343>E343,WEEKDAY(A343,2)>=5)),ColTime(Data!$J$6,Data!$L$6,D343,E343),\"\"),\"\")","v":""},{"$f":"IFERROR(IF(OR(AND(WEEKDAY(A343,2)>1,WEEKDAY(A343,2)<6,D343<E343,C343=\"\"),AND(C343=\"\",WEEKDAY(A343,2)=1,E343<D343),AND(C343<>\"\",D343<E343,WEEKDAY(A343,2)>1,WEEKDAY(A343,2)<4),AND(C343<>\"\",D343>E343,WEEKDAY(A343,2)=1)),ColTime(Data!$J$6,Data!$L$6,D343,E343),\"\"),\"\")","v":""},null,{"$f":"IF(F343=\"\",\"\",IF(AND(C343<>\"\",OR(D343<E343,AND(D343>E343,C649<>\"\"))),ColTime(Data!$J$6,Data!$L$6,D343,E343),\"\"))","v":""}]
["2020-12-04","Fr","",null,null,"",null,null,null,{"$f":"IF(OR(AND(C344<>\"\",D344>E344,WEEKDAY(A344,2)=5),AND(C344=\"\",WEEKDAY(A344,2)>5)),IF(D344=\"\",\"\",ColTime(Data!$J$3,Data!$L$3,D344,E344)),\"\")","v":""},"","",{"$f":"IFERROR(IF(AND(C344=\"\",WEEKDAY(A344,2)>5),IF(D344=\"\",\"\",(IF(E344-MAX(D344,(15/24))+(E344<D344)<0,0,E344-MAX(D344,(15/24))+($E344<D344)))-(IF((E344-MAX(D344,(23/24))+(E344<D344))<0,0,(E344-MAX(D344,(23/24))+(E344<D344))))),o),\"\")","v":""},"","","","",{"$f":"IFERROR(IF(OR(AND(C344=\"\",D344<E344,OR(WEEKDAY(A344,2)=1,WEEKDAY(A344,2)>=6)),AND(C344=\"\",D344>E344,OR(WEEKDAY(A344,2)>=5)),AND(C344<>\"\",D344>E344,WEEKDAY(A344,2)>=5)),ColTime(Data!$J$6,Data!$L$6,D344,E344),\"\"),\"\")","v":""},{"$f":"IFERROR(IF(OR(AND(WEEKDAY(A344,2)>1,WEEKDAY(A344,2)<6,D344<E344,C344=\"\"),AND(C344=\"\",WEEKDAY(A344,2)=1,E344<D344),AND(C344<>\"\",D344<E344,WEEKDAY(A344,2)>1,WEEKDAY(A344,2)<4),AND(C344<>\"\",D344>E344,WEEKDAY(A344,2)=1)),ColTime(Data!$J$6,Data!$L$6,D344,E344),\"\"),\"\")","v":""},null,{"$f":"IF(F344=\"\",\"\",IF(AND(C344<>\"\",OR(D344<E344,AND(D344>E344,C650<>\"\"))),ColTime(Data!$J$6,Data!$L$6,D344,E344),\"\"))","v":""}]
["2020-12-05","Lø","",null,null,"",null,null,null,{"$f":"IF(OR(AND(C345<>\"\",D345>E345,WEEKDAY(A345,2)=5),AND(C345=\"\",WEEKDAY(A345,2)>5)),IF(D345=\"\",\"\",ColTime(Data!$J$3,Data!$L$3,D345,E345)),\"\")","v":""},"","",{"$f":"IFERROR(IF(AND(C345=\"\",WEEKDAY(A345,2)>5),IF(D345=\"\",\"\",(IF(E345-MAX(D345,(15/24))+(E345<D345)<0,0,E345-MAX(D345,(15/24))+($E345<D345)))-(IF((E345-MAX(D345,(23/24))+(E345<D345))<0,0,(E345-MAX(D345,(23/24))+(E345<D345))))),o),\"\")","v":""},"","","","",{"$f":"IFERROR(IF(OR(AND(C345=\"\",D345<E345,OR(WEEKDAY(A345,2)=1,WEEKDAY(A345,2)>=6)),AND(C345=\"\",D345>E345,OR(WEEKDAY(A345,2)>=5)),AND(C345<>\"\",D345>E345,WEEKDAY(A345,2)>=5)),ColTime(Data!$J$6,Data!$L$6,D345,E345),\"\"),\"\")","v":""},{"$f":"IFERROR(IF(OR(AND(WEEKDAY(A345,2)>1,WEEKDAY(A345,2)<6,D345<E345,C345=\"\"),AND(C345=\"\",WEEKDAY(A345,2)=1,E345<D345),AND(C345<>\"\",D345<E345,WEEKDAY(A345,2)>1,WEEKDAY(A345,2)<4),AND(C345<>\"\",D345>E345,WEEKDAY(A345,2)=1)),ColTime(Data!$J$6,Data!$L$6,D345,E345),\"\"),\"\")","v":""},null,{"$f":"IF(F345=\"\",\"\",IF(AND(C345<>\"\",OR(D345<E345,AND(D345>E345,C651<>\"\"))),ColTime(Data!$J$6,Data!$L$6,D345,E345),\"\"))","v":""}]
["2020-12-06","Sø","",null,null,"",null,null,null,{"$f":"IF(OR(AND(C346<>\"\",D346>E346,WEEKDAY(A346,2)=5),AND(C346=\"\",WEEKDAY(A346,2)>5)),IF(D346=\"\",\"\",ColTime(Data!$J$3,Data!$L$3,D346,E346)),\"\")","v":""},"","",{"$f":"IFERROR(IF(AND(C346=\"\",WEEKDAY(A346,2)>5),IF(D346=\"\",\"\",(IF(E346-MAX(D346,(15/24))+(E346<D346)<0,0,E346-MAX(D346,(15/24))+($E346<D346)))-(IF((E346-MAX(D346,(23/24))+(E346<D346))<0,0,(E346-MAX(D346,(23/24))+(E346<D346))))),o),\"\")","v":""},"","","","",{"$f":"IFERROR(IF(OR(AND(C346=\"\",D346<E346,OR(WEEKDAY(A346,2)=1,WEEKDAY(A346,2)>=6)),AND(C346=\"\",D346>E346,OR(WEEKDAY(A346,2)>=5)),AND(C346<>\"\",D346>E346,WEEKDAY(A346,2)>=5)),ColTime(Data!$J$6,Data!$L$6,D346,E346),\"\"),\"\")","v":""},{"$f":"IFERROR(IF(OR(AND(WEEKDAY(A346,2)>1,WEEKDAY(A346,2)<6,D346<E346,C346=\"\"),AND(C346=\"\",WEEKDAY(A346,2)=1,E346<D346),AND(C346<>\"\",D346<E346,WEEKDAY(A346,2)>1,WEEKDAY(A346,2)<4),AND(C346<>\"\",D346>E346,WEEKDAY(A346,2)=1)),ColTime(Data!$J$6,Data!$L$6,D346,E346),\"\"),\"\")","v":""},null,{"$f":"IF(F346=\"\",\"\",IF(AND(C346<>\"\",OR(D346<E346,AND(D346>E346,C652<>\"\"))),ColTime(Data!$J$6,Data!$L$6,D346,E346),\"\"))","v":""}]
["2020-12-07","Ma","",null,null,"",null,null,null,{"$f":"IF(OR(AND(C347<>\"\",D347>E347,WEEKDAY(A347,2)=5),AND(C347=\"\",WEEKDAY(A347,2)>5)),IF(D347=\"\",\"\",ColTime(Data!$J$3,Data!$L$3,D347,E347)),\"\")","v":""},"","",{"$f":"IFERROR(IF(AND(C347=\"\",WEEKDAY(A347,2)>5),IF(D347=\"\",\"\",(IF(E347-MAX(D347,(15/24))+(E347<D347)<0,0,E347-MAX(D347,(15/24))+($E347<D347)))-(IF((E347-MAX(D347,(23/24))+(E347<D347))<0,0,(E347-MAX(D347,(23/24))+(E347<D347))))),o),\"\")","v":""},"","","","",{"$f":"IFERROR(IF(OR(AND(C347=\"\",D347<E347,OR(WEEKDAY(A347,2)=1,WEEKDAY(A347,2)>=6)),AND(C347=\"\",D347>E347,OR(WEEKDAY(A347,2)>=5)),AND(C347<>\"\",D347>E347,WEEKDAY(A347,2)>=5)),ColTime(Data!$J$6,Data!$L$6,D347,E347),\"\"),\"\")","v":""},{"$f":"IFERROR(IF(OR(AND(WEEKDAY(A347,2)>1,WEEKDAY(A347,2)<6,D347<E347,C347=\"\"),AND(C347=\"\",WEEKDAY(A347,2)=1,E347<D347),AND(C347<>\"\",D347<E347,WEEKDAY(A347,2)>1,WEEKDAY(A347,2)<4),AND(C347<>\"\",D347>E347,WEEKDAY(A347,2)=1)),ColTime(Data!$J$6,Data!$L$6,D347,E347),\"\"),\"\")","v":""},null,{"$f":"IF(F347=\"\",\"\",IF(AND(C347<>\"\",OR(D347<E347,AND(D347>E347,C653<>\"\"))),ColTime(Data!$J$6,Data!$L$6,D347,E347),\"\"))","v":""}]
["2020-12-08","Ti","",null,null,"",null,null,null,{"$f":"IF(OR(AND(C348<>\"\",D348>E348,WEEKDAY(A348,2)=5),AND(C348=\"\",WEEKDAY(A348,2)>5)),IF(D348=\"\",\"\",ColTime(Data!$J$3,Data!$L$3,D348,E348)),\"\")","v":""},"","",{"$f":"IFERROR(IF(AND(C348=\"\",WEEKDAY(A348,2)>5),IF(D348=\"\",\"\",(IF(E348-MAX(D348,(15/24))+(E348<D348)<0,0,E348-MAX(D348,(15/24))+($E348<D348)))-(IF((E348-MAX(D348,(23/24))+(E348<D348))<0,0,(E348-MAX(D348,(23/24))+(E348<D348))))),o),\"\")","v":""},"","","","",{"$f":"IFERROR(IF(OR(AND(C348=\"\",D348<E348,OR(WEEKDAY(A348,2)=1,WEEKDAY(A348,2)>=6)),AND(C348=\"\",D348>E348,OR(WEEKDAY(A348,2)>=5)),AND(C348<>\"\",D348>E348,WEEKDAY(A348,2)>=5)),ColTime(Data!$J$6,Data!$L$6,D348,E348),\"\"),\"\")","v":""},{"$f":"IFERROR(IF(OR(AND(WEEKDAY(A348,2)>1,WEEKDAY(A348,2)<6,D348<E348,C348=\"\"),AND(C348=\"\",WEEKDAY(A348,2)=1,E348<D348),AND(C348<>\"\",D348<E348,WEEKDAY(A348,2)>1,WEEKDAY(A348,2)<4),AND(C348<>\"\",D348>E348,WEEKDAY(A348,2)=1)),ColTime(Data!$J$6,Data!$L$6,D348,E348),\"\"),\"\")","v":""},null,{"$f":"IF(F348=\"\",\"\",IF(AND(C348<>\"\",OR(D348<E348,AND(D348>E348,C654<>\"\"))),ColTime(Data!$J$6,Data!$L$6,D348,E348),\"\"))","v":""}]
["2020-12-09","On","",null,null,"",null,null,null,{"$f":"IF(OR(AND(C349<>\"\",D349>E349,WEEKDAY(A349,2)=5),AND(C349=\"\",WEEKDAY(A349,2)>5)),IF(D349=\"\",\"\",ColTime(Data!$J$3,Data!$L$3,D349,E349)),\"\")","v":""},"","",{"$f":"IFERROR(IF(AND(C349=\"\",WEEKDAY(A349,2)>5),IF(D349=\"\",\"\",(IF(E349-MAX(D349,(15/24))+(E349<D349)<0,0,E349-MAX(D349,(15/24))+($E349<D349)))-(IF((E349-MAX(D349,(23/24))+(E349<D349))<0,0,(E349-MAX(D349,(23/24))+(E349<D349))))),o),\"\")","v":""},"","","","",{"$f":"IFERROR(IF(OR(AND(C349=\"\",D349<E349,OR(WEEKDAY(A349,2)=1,WEEKDAY(A349,2)>=6)),AND(C349=\"\",D349>E349,OR(WEEKDAY(A349,2)>=5)),AND(C349<>\"\",D349>E349,WEEKDAY(A349,2)>=5)),ColTime(Data!$J$6,Data!$L$6,D349,E349),\"\"),\"\")","v":""},{"$f":"IFERROR(IF(OR(AND(WEEKDAY(A349,2)>1,WEEKDAY(A349,2)<6,D349<E349,C349=\"\"),AND(C349=\"\",WEEKDAY(A349,2)=1,E349<D349),AND(C349<>\"\",D349<E349,WEEKDAY(A349,2)>1,WEEKDAY(A349,2)<4),AND(C349<>\"\",D349>E349,WEEKDAY(A349,2)=1)),ColTime(Data!$J$6,Data!$L$6,D349,E349),\"\"),\"\")","v":""},null,{"$f":"IF(F349=\"\",\"\",IF(AND(C349<>\"\",OR(D349<E349,AND(D349>E349,C655<>\"\"))),ColTime(Data!$J$6,Data!$L$6,D349,E349),\"\"))","v":""}]
["2020-12-10","To","",null,null,"",null,null,null,{"$f":"IF(OR(AND(C350<>\"\",D350>E350,WEEKDAY(A350,2)=5),AND(C350=\"\",WEEKDAY(A350,2)>5)),IF(D350=\"\",\"\",ColTime(Data!$J$3,Data!$L$3,D350,E350)),\"\")","v":""},"","",{"$f":"IFERROR(IF(AND(C350=\"\",WEEKDAY(A350,2)>5),IF(D350=\"\",\"\",(IF(E350-MAX(D350,(15/24))+(E350<D350)<0,0,E350-MAX(D350,(15/24))+($E350<D350)))-(IF((E350-MAX(D350,(23/24))+(E350<D350))<0,0,(E350-MAX(D350,(23/24))+(E350<D350))))),o),\"\")","v":""},"","","","",{"$f":"IFERROR(IF(OR(AND(C350=\"\",D350<E350,OR(WEEKDAY(A350,2)=1,WEEKDAY(A350,2)>=6)),AND(C350=\"\",D350>E350,OR(WEEKDAY(A350,2)>=5)),AND(C350<>\"\",D350>E350,WEEKDAY(A350,2)>=5)),ColTime(Data!$J$6,Data!$L$6,D350,E350),\"\"),\"\")","v":""},{"$f":"IFERROR(IF(OR(AND(WEEKDAY(A350,2)>1,WEEKDAY(A350,2)<6,D350<E350,C350=\"\"),AND(C350=\"\",WEEKDAY(A350,2)=1,E350<D350),AND(C350<>\"\",D350<E350,WEEKDAY(A350,2)>1,WEEKDAY(A350,2)<4),AND(C350<>\"\",D350>E350,WEEKDAY(A350,2)=1)),ColTime(Data!$J$6,Data!$L$6,D350,E350),\"\"),\"\")","v":""},null,{"$f":"IF(F350=\"\",\"\",IF(AND(C350<>\"\",OR(D350<E350,AND(D350>E350,C656<>\"\"))),ColTime(Data!$J$6,Data!$L$6,D350,E350),\"\"))","v":""}]
["2020-12-11","Fr","",null,null,"",null,null,null,{"$f":"IF(OR(AND(C351<>\"\",D351>E351,WEEKDAY(A351,2)=5),AND(C351=\"\",WEEKDAY(A351,2)>5)),IF(D351=\"\",\"\",ColTime(Data!$J$3,Data!$L$3,D351,E351)),\"\")","v":""},"","",{"$f":"IFERROR(IF(AND(C351=\"\",WEEKDAY(A351,2)>5),IF(D351=\"\",\"\",(IF(E351-MAX(D351,(15/24))+(E351<D351)<0,0,E351-MAX(D351,(15/24))+($E351<D351)))-(IF((E351-MAX(D351,(23/24))+(E351<D351))<0,0,(E351-MAX(D351,(23/24))+(E351<D351))))),o),\"\")","v":""},"","","","",{"$f":"IFERROR(IF(OR(AND(C351=\"\",D351<E351,OR(WEEKDAY(A351,2)=1,WEEKDAY(A351,2)>=6)),AND(C351=\"\",D351>E351,OR(WEEKDAY(A351,2)>=5)),AND(C351<>\"\",D351>E351,WEEKDAY(A351,2)>=5)),ColTime(Data!$J$6,Data!$L$6,D351,E351),\"\"),\"\")","v":""},{"$f":"IFERROR(IF(OR(AND(WEEKDAY(A351,2)>1,WEEKDAY(A351,2)<6,D351<E351,C351=\"\"),AND(C351=\"\",WEEKDAY(A351,2)=1,E351<D351),AND(C351<>\"\",D351<E351,WEEKDAY(A351,2)>1,WEEKDAY(A351,2)<4),AND(C351<>\"\",D351>E351,WEEKDAY(A351,2)=1)),ColTime(Data!$J$6,Data!$L$6,D351,E351),\"\"),\"\")","v":""},null,{"$f":"IF(F351=\"\",\"\",IF(AND(C351<>\"\",OR(D351<E351,AND(D351>E351,C657<>\"\"))),ColTime(Data!$J$6,Data!$L$6,D351,E351),\"\"))","v":""}]
["2020-12-12","Lø","",null,null,"",null,null,null,{"$f":"IF(OR(AND(C352<>\"\",D352>E352,WEEKDAY(A352,2)=5),AND(C352=\"\",WEEKDAY(A352,2)>5)),IF(D352=\"\",\"\",ColTime(Data!$J$3,Data!$L$3,D352,E352)),\"\")","v":""},"","",{"$f":"IFERROR(IF(AND(C352=\"\",WEEKDAY(A352,2)>5),IF(D352=\"\",\"\",(IF(E352-MAX(D352,(15/24))+(E352<D352)<0,0,E352-MAX(D352,(15/24))+($E352<D352)))-(IF((E352-MAX(D352,(23/24))+(E352<D352))<0,0,(E352-MAX(D352,(23/24))+(E352<D352))))),o),\"\")","v":""},"","","","",{"$f":"IFERROR(IF(OR(AND(C352=\"\",D352<E352,OR(WEEKDAY(A352,2)=1,WEEKDAY(A352,2)>=6)),AND(C352=\"\",D352>E352,OR(WEEKDAY(A352,2)>=5)),AND(C352<>\"\",D352>E352,WEEKDAY(A352,2)>=5)),ColTime(Data!$J$6,Data!$L$6,D352,E352),\"\"),\"\")","v":""},{"$f":"IFERROR(IF(OR(AND(WEEKDAY(A352,2)>1,WEEKDAY(A352,2)<6,D352<E352,C352=\"\"),AND(C352=\"\",WEEKDAY(A352,2)=1,E352<D352),AND(C352<>\"\",D352<E352,WEEKDAY(A352,2)>1,WEEKDAY(A352,2)<4),AND(C352<>\"\",D352>E352,WEEKDAY(A352,2)=1)),ColTime(Data!$J$6,Data!$L$6,D352,E352),\"\"),\"\")","v":""},null,{"$f":"IF(F352=\"\",\"\",IF(AND(C352<>\"\",OR(D352<E352,AND(D352>E352,C658<>\"\"))),ColTime(Data!$J$6,Data!$L$6,D352,E352),\"\"))","v":""}]
["2020-12-13","Sø","",null,null,"",null,null,null,{"$f":"IF(OR(AND(C353<>\"\",D353>E353,WEEKDAY(A353,2)=5),AND(C353=\"\",WEEKDAY(A353,2)>5)),IF(D353=\"\",\"\",ColTime(Data!$J$3,Data!$L$3,D353,E353)),\"\")","v":""},"","",{"$f":"IFERROR(IF(AND(C353=\"\",WEEKDAY(A353,2)>5),IF(D353=\"\",\"\",(IF(E353-MAX(D353,(15/24))+(E353<D353)<0,0,E353-MAX(D353,(15/24))+($E353<D353)))-(IF((E353-MAX(D353,(23/24))+(E353<D353))<0,0,(E353-MAX(D353,(23/24))+(E353<D353))))),o),\"\")","v":""},"","","","",{"$f":"IFERROR(IF(OR(AND(C353=\"\",D353<E353,OR(WEEKDAY(A353,2)=1,WEEKDAY(A353,2)>=6)),AND(C353=\"\",D353>E353,OR(WEEKDAY(A353,2)>=5)),AND(C353<>\"\",D353>E353,WEEKDAY(A353,2)>=5)),ColTime(Data!$J$6,Data!$L$6,D353,E353),\"\"),\"\")","v":""},{"$f":"IFERROR(IF(OR(AND(WEEKDAY(A353,2)>1,WEEKDAY(A353,2)<6,D353<E353,C353=\"\"),AND(C353=\"\",WEEKDAY(A353,2)=1,E353<D353),AND(C353<>\"\",D353<E353,WEEKDAY(A353,2)>1,WEEKDAY(A353,2)<4),AND(C353<>\"\",D353>E353,WEEKDAY(A353,2)=1)),ColTime(Data!$J$6,Data!$L$6,D353,E353),\"\"),\"\")","v":""},null,{"$f":"IF(F353=\"\",\"\",IF(AND(C353<>\"\",OR(D353<E353,AND(D353>E353,C659<>\"\"))),ColTime(Data!$J$6,Data!$L$6,D353,E353),\"\"))","v":""}]
["2020-12-14","Ma","",null,null,"",null,null,null,{"$f":"IF(OR(AND(C354<>\"\",D354>E354,WEEKDAY(A354,2)=5),AND(C354=\"\",WEEKDAY(A354,2)>5)),IF(D354=\"\",\"\",ColTime(Data!$J$3,Data!$L$3,D354,E354)),\"\")","v":""},"","",{"$f":"IFERROR(IF(AND(C354=\"\",WEEKDAY(A354,2)>5),IF(D354=\"\",\"\",(IF(E354-MAX(D354,(15/24))+(E354<D354)<0,0,E354-MAX(D354,(15/24))+($E354<D354)))-(IF((E354-MAX(D354,(23/24))+(E354<D354))<0,0,(E354-MAX(D354,(23/24))+(E354<D354))))),o),\"\")","v":""},"","","","",{"$f":"IFERROR(IF(OR(AND(C354=\"\",D354<E354,OR(WEEKDAY(A354,2)=1,WEEKDAY(A354,2)>=6)),AND(C354=\"\",D354>E354,OR(WEEKDAY(A354,2)>=5)),AND(C354<>\"\",D354>E354,WEEKDAY(A354,2)>=5)),ColTime(Data!$J$6,Data!$L$6,D354,E354),\"\"),\"\")","v":""},{"$f":"IFERROR(IF(OR(AND(WEEKDAY(A354,2)>1,WEEKDAY(A354,2)<6,D354<E354,C354=\"\"),AND(C354=\"\",WEEKDAY(A354,2)=1,E354<D354),AND(C354<>\"\",D354<E354,WEEKDAY(A354,2)>1,WEEKDAY(A354,2)<4),AND(C354<>\"\",D354>E354,WEEKDAY(A354,2)=1)),ColTime(Data!$J$6,Data!$L$6,D354,E354),\"\"),\"\")","v":""},null,{"$f":"IF(F354=\"\",\"\",IF(AND(C354<>\"\",OR(D354<E354,AND(D354>E354,C660<>\"\"))),ColTime(Data!$J$6,Data!$L$6,D354,E354),\"\"))","v":""}]
["2020-12-15","Ti","",null,null,"",null,null,null,{"$f":"IF(OR(AND(C355<>\"\",D355>E355,WEEKDAY(A355,2)=5),AND(C355=\"\",WEEKDAY(A355,2)>5)),IF(D355=\"\",\"\",ColTime(Data!$J$3,Data!$L$3,D355,E355)),\"\")","v":""},"","",{"$f":"IFERROR(IF(AND(C355=\"\",WEEKDAY(A355,2)>5),IF(D355=\"\",\"\",(IF(E355-MAX(D355,(15/24))+(E355<D355)<0,0,E355-MAX(D355,(15/24))+($E355<D355)))-(IF((E355-MAX(D355,(23/24))+(E355<D355))<0,0,(E355-MAX(D355,(23/24))+(E355<D355))))),o),\"\")","v":""},"","","","",{"$f":"IFERROR(IF(OR(AND(C355=\"\",D355<E355,OR(WEEKDAY(A355,2)=1,WEEKDAY(A355,2)>=6)),AND(C355=\"\",D355>E355,OR(WEEKDAY(A355,2)>=5)),AND(C355<>\"\",D355>E355,WEEKDAY(A355,2)>=5)),ColTime(Data!$J$6,Data!$L$6,D355,E355),\"\"),\"\")","v":""},{"$f":"IFERROR(IF(OR(AND(WEEKDAY(A355,2)>1,WEEKDAY(A355,2)<6,D355<E355,C355=\"\"),AND(C355=\"\",WEEKDAY(A355,2)=1,E355<D355),AND(C355<>\"\",D355<E355,WEEKDAY(A355,2)>1,WEEKDAY(A355,2)<4),AND(C355<>\"\",D355>E355,WEEKDAY(A355,2)=1)),ColTime(Data!$J$6,Data!$L$6,D355,E355),\"\"),\"\")","v":""},null,{"$f":"IF(F355=\"\",\"\",IF(AND(C355<>\"\",OR(D355<E355,AND(D355>E355,C661<>\"\"))),ColTime(Data!$J$6,Data!$L$6,D355,E355),\"\"))","v":""}]
["2020-12-16","On","",null,null,"",null,null,null,{"$f":"IF(OR(AND(C356<>\"\",D356>E356,WEEKDAY(A356,2)=5),AND(C356=\"\",WEEKDAY(A356,2)>5)),IF(D356=\"\",\"\",ColTime(Data!$J$3,Data!$L$3,D356,E356)),\"\")","v":""},"","",{"$f":"IFERROR(IF(AND(C356=\"\",WEEKDAY(A356,2)>5),IF(D356=\"\",\"\",(IF(E356-MAX(D356,(15/24))+(E356<D356)<0,0,E356-MAX(D356,(15/24))+($E356<D356)))-(IF((E356-MAX(D356,(23/24))+(E356<D356))<0,0,(E356-MAX(D356,(23/24))+(E356<D356))))),o),\"\")","v":""},"","","","",{"$f":"IFERROR(IF(OR(AND(C356=\"\",D356<E356,OR(WEEKDAY(A356,2)=1,WEEKDAY(A356,2)>=6)),AND(C356=\"\",D356>E356,OR(WEEKDAY(A356,2)>=5)),AND(C356<>\"\",D356>E356,WEEKDAY(A356,2)>=5)),ColTime(Data!$J$6,Data!$L$6,D356,E356),\"\"),\"\")","v":""},{"$f":"IFERROR(IF(OR(AND(WEEKDAY(A356,2)>1,WEEKDAY(A356,2)<6,D356<E356,C356=\"\"),AND(C356=\"\",WEEKDAY(A356,2)=1,E356<D356),AND(C356<>\"\",D356<E356,WEEKDAY(A356,2)>1,WEEKDAY(A356,2)<4),AND(C356<>\"\",D356>E356,WEEKDAY(A356,2)=1)),ColTime(Data!$J$6,Data!$L$6,D356,E356),\"\"),\"\")","v":""},null,{"$f":"IF(F356=\"\",\"\",IF(AND(C356<>\"\",OR(D356<E356,AND(D356>E356,C662<>\"\"))),ColTime(Data!$J$6,Data!$L$6,D356,E356),\"\"))","v":""}]
["2020-12-17","To","",null,null,"",null,null,null,{"$f":"IF(OR(AND(C357<>\"\",D357>E357,WEEKDAY(A357,2)=5),AND(C357=\"\",WEEKDAY(A357,2)>5)),IF(D357=\"\",\"\",ColTime(Data!$J$3,Data!$L$3,D357,E357)),\"\")","v":""},"","",{"$f":"IFERROR(IF(AND(C357=\"\",WEEKDAY(A357,2)>5),IF(D357=\"\",\"\",(IF(E357-MAX(D357,(15/24))+(E357<D357)<0,0,E357-MAX(D357,(15/24))+($E357<D357)))-(IF((E357-MAX(D357,(23/24))+(E357<D357))<0,0,(E357-MAX(D357,(23/24))+(E357<D357))))),o),\"\")","v":""},"","","","",{"$f":"IFERROR(IF(OR(AND(C357=\"\",D357<E357,OR(WEEKDAY(A357,2)=1,WEEKDAY(A357,2)>=6)),AND(C357=\"\",D357>E357,OR(WEEKDAY(A357,2)>=5)),AND(C357<>\"\",D357>E357,WEEKDAY(A357,2)>=5)),ColTime(Data!$J$6,Data!$L$6,D357,E357),\"\"),\"\")","v":""},{"$f":"IFERROR(IF(OR(AND(WEEKDAY(A357,2)>1,WEEKDAY(A357,2)<6,D357<E357,C357=\"\"),AND(C357=\"\",WEEKDAY(A357,2)=1,E357<D357),AND(C357<>\"\",D357<E357,WEEKDAY(A357,2)>1,WEEKDAY(A357,2)<4),AND(C357<>\"\",D357>E357,WEEKDAY(A357,2)=1)),ColTime(Data!$J$6,Data!$L$6,D357,E357),\"\"),\"\")","v":""},null,{"$f":"IF(F357=\"\",\"\",IF(AND(C357<>\"\",OR(D357<E357,AND(D357>E357,C663<>\"\"))),ColTime(Data!$J$6,Data!$L$6,D357,E357),\"\"))","v":""}]
["2020-12-18","Fr","",null,null,"",null,null,null,{"$f":"IF(OR(AND(C358<>\"\",D358>E358,WEEKDAY(A358,2)=5),AND(C358=\"\",WEEKDAY(A358,2)>5)),IF(D358=\"\",\"\",ColTime(Data!$J$3,Data!$L$3,D358,E358)),\"\")","v":""},"","",{"$f":"IFERROR(IF(AND(C358=\"\",WEEKDAY(A358,2)>5),IF(D358=\"\",\"\",(IF(E358-MAX(D358,(15/24))+(E358<D358)<0,0,E358-MAX(D358,(15/24))+($E358<D358)))-(IF((E358-MAX(D358,(23/24))+(E358<D358))<0,0,(E358-MAX(D358,(23/24))+(E358<D358))))),o),\"\")","v":""},"","","","",{"$f":"IFERROR(IF(OR(AND(C358=\"\",D358<E358,OR(WEEKDAY(A358,2)=1,WEEKDAY(A358,2)>=6)),AND(C358=\"\",D358>E358,OR(WEEKDAY(A358,2)>=5)),AND(C358<>\"\",D358>E358,WEEKDAY(A358,2)>=5)),ColTime(Data!$J$6,Data!$L$6,D358,E358),\"\"),\"\")","v":""},{"$f":"IFERROR(IF(OR(AND(WEEKDAY(A358,2)>1,WEEKDAY(A358,2)<6,D358<E358,C358=\"\"),AND(C358=\"\",WEEKDAY(A358,2)=1,E358<D358),AND(C358<>\"\",D358<E358,WEEKDAY(A358,2)>1,WEEKDAY(A358,2)<4),AND(C358<>\"\",D358>E358,WEEKDAY(A358,2)=1)),ColTime(Data!$J$6,Data!$L$6,D358,E358),\"\"),\"\")","v":""},null,{"$f":"IF(F358=\"\",\"\",IF(AND(C358<>\"\",OR(D358<E358,AND(D358>E358,C664<>\"\"))),ColTime(Data!$J$6,Data!$L$6,D358,E358),\"\"))","v":""}]
["2020-12-19","Lø","",null,null,"",null,null,null,{"$f":"IF(OR(AND(C359<>\"\",D359>E359,WEEKDAY(A359,2)=5),AND(C359=\"\",WEEKDAY(A359,2)>5)),IF(D359=\"\",\"\",ColTime(Data!$J$3,Data!$L$3,D359,E359)),\"\")","v":""},"","",{"$f":"IFERROR(IF(AND(C359=\"\",WEEKDAY(A359,2)>5),IF(D359=\"\",\"\",(IF(E359-MAX(D359,(15/24))+(E359<D359)<0,0,E359-MAX(D359,(15/24))+($E359<D359)))-(IF((E359-MAX(D359,(23/24))+(E359<D359))<0,0,(E359-MAX(D359,(23/24))+(E359<D359))))),o),\"\")","v":""},"","","","",{"$f":"IFERROR(IF(OR(AND(C359=\"\",D359<E359,OR(WEEKDAY(A359,2)=1,WEEKDAY(A359,2)>=6)),AND(C359=\"\",D359>E359,OR(WEEKDAY(A359,2)>=5)),AND(C359<>\"\",D359>E359,WEEKDAY(A359,2)>=5)),ColTime(Data!$J$6,Data!$L$6,D359,E359),\"\"),\"\")","v":""},{"$f":"IFERROR(IF(OR(AND(WEEKDAY(A359,2)>1,WEEKDAY(A359,2)<6,D359<E359,C359=\"\"),AND(C359=\"\",WEEKDAY(A359,2)=1,E359<D359),AND(C359<>\"\",D359<E359,WEEKDAY(A359,2)>1,WEEKDAY(A359,2)<4),AND(C359<>\"\",D359>E359,WEEKDAY(A359,2)=1)),ColTime(Data!$J$6,Data!$L$6,D359,E359),\"\"),\"\")","v":""},null,{"$f":"IF(F359=\"\",\"\",IF(AND(C359<>\"\",OR(D359<E359,AND(D359>E359,C665<>\"\"))),ColTime(Data!$J$6,Data!$L$6,D359,E359),\"\"))","v":""}]
["2020-12-20","Sø","",null,null,"",null,null,null,{"$f":"IF(OR(AND(C360<>\"\",D360>E360,WEEKDAY(A360,2)=5),AND(C360=\"\",WEEKDAY(A360,2)>5)),IF(D360=\"\",\"\",ColTime(Data!$J$3,Data!$L$3,D360,E360)),\"\")","v":""},"","",{"$f":"IFERROR(IF(AND(C360=\"\",WEEKDAY(A360,2)>5),IF(D360=\"\",\"\",(IF(E360-MAX(D360,(15/24))+(E360<D360)<0,0,E360-MAX(D360,(15/24))+($E360<D360)))-(IF((E360-MAX(D360,(23/24))+(E360<D360))<0,0,(E360-MAX(D360,(23/24))+(E360<D360))))),o),\"\")","v":""},"","","","",{"$f":"IFERROR(IF(OR(AND(C360=\"\",D360<E360,OR(WEEKDAY(A360,2)=1,WEEKDAY(A360,2)>=6)),AND(C360=\"\",D360>E360,OR(WEEKDAY(A360,2)>=5)),AND(C360<>\"\",D360>E360,WEEKDAY(A360,2)>=5)),ColTime(Data!$J$6,Data!$L$6,D360,E360),\"\"),\"\")","v":""},{"$f":"IFERROR(IF(OR(AND(WEEKDAY(A360,2)>1,WEEKDAY(A360,2)<6,D360<E360,C360=\"\"),AND(C360=\"\",WEEKDAY(A360,2)=1,E360<D360),AND(C360<>\"\",D360<E360,WEEKDAY(A360,2)>1,WEEKDAY(A360,2)<4),AND(C360<>\"\",D360>E360,WEEKDAY(A360,2)=1)),ColTime(Data!$J$6,Data!$L$6,D360,E360),\"\"),\"\")","v":""},null,{"$f":"IF(F360=\"\",\"\",IF(AND(C360<>\"\",OR(D360<E360,AND(D360>E360,C666<>\"\"))),ColTime(Data!$J$6,Data!$L$6,D360,E360),\"\"))","v":""}]
["2020-12-21","Ma","",null,null,"",null,null,null,{"$f":"IF(OR(AND(C361<>\"\",D361>E361,WEEKDAY(A361,2)=5),AND(C361=\"\",WEEKDAY(A361,2)>5)),IF(D361=\"\",\"\",ColTime(Data!$J$3,Data!$L$3,D361,E361)),\"\")","v":""},"","",{"$f":"IFERROR(IF(AND(C361=\"\",WEEKDAY(A361,2)>5),IF(D361=\"\",\"\",(IF(E361-MAX(D361,(15/24))+(E361<D361)<0,0,E361-MAX(D361,(15/24))+($E361<D361)))-(IF((E361-MAX(D361,(23/24))+(E361<D361))<0,0,(E361-MAX(D361,(23/24))+(E361<D361))))),o),\"\")","v":""},"","","","",{"$f":"IFERROR(IF(OR(AND(C361=\"\",D361<E361,OR(WEEKDAY(A361,2)=1,WEEKDAY(A361,2)>=6)),AND(C361=\"\",D361>E361,OR(WEEKDAY(A361,2)>=5)),AND(C361<>\"\",D361>E361,WEEKDAY(A361,2)>=5)),ColTime(Data!$J$6,Data!$L$6,D361,E361),\"\"),\"\")","v":""},{"$f":"IFERROR(IF(OR(AND(WEEKDAY(A361,2)>1,WEEKDAY(A361,2)<6,D361<E361,C361=\"\"),AND(C361=\"\",WEEKDAY(A361,2)=1,E361<D361),AND(C361<>\"\",D361<E361,WEEKDAY(A361,2)>1,WEEKDAY(A361,2)<4),AND(C361<>\"\",D361>E361,WEEKDAY(A361,2)=1)),ColTime(Data!$J$6,Data!$L$6,D361,E361),\"\"),\"\")","v":""},null,{"$f":"IF(F361=\"\",\"\",IF(AND(C361<>\"\",OR(D361<E361,AND(D361>E361,C667<>\"\"))),ColTime(Data!$J$6,Data!$L$6,D361,E361),\"\"))","v":""}]
["2020-12-22","Ti","",null,null,"",null,null,null,{"$f":"IF(OR(AND(C362<>\"\",D362>E362,WEEKDAY(A362,2)=5),AND(C362=\"\",WEEKDAY(A362,2)>5)),IF(D362=\"\",\"\",ColTime(Data!$J$3,Data!$L$3,D362,E362)),\"\")","v":""},"","",{"$f":"IFERROR(IF(AND(C362=\"\",WEEKDAY(A362,2)>5),IF(D362=\"\",\"\",(IF(E362-MAX(D362,(15/24))+(E362<D362)<0,0,E362-MAX(D362,(15/24))+($E362<D362)))-(IF((E362-MAX(D362,(23/24))+(E362<D362))<0,0,(E362-MAX(D362,(23/24))+(E362<D362))))),o),\"\")","v":""},"","","","",{"$f":"IFERROR(IF(OR(AND(C362=\"\",D362<E362,OR(WEEKDAY(A362,2)=1,WEEKDAY(A362,2)>=6)),AND(C362=\"\",D362>E362,OR(WEEKDAY(A362,2)>=5)),AND(C362<>\"\",D362>E362,WEEKDAY(A362,2)>=5)),ColTime(Data!$J$6,Data!$L$6,D362,E362),\"\"),\"\")","v":""},{"$f":"IFERROR(IF(OR(AND(WEEKDAY(A362,2)>1,WEEKDAY(A362,2)<6,D362<E362,C362=\"\"),AND(C362=\"\",WEEKDAY(A362,2)=1,E362<D362),AND(C362<>\"\",D362<E362,WEEKDAY(A362,2)>1,WEEKDAY(A362,2)<4),AND(C362<>\"\",D362>E362,WEEKDAY(A362,2)=1)),ColTime(Data!$J$6,Data!$L$6,D362,E362),\"\"),\"\")","v":""},null,{"$f":"IF(F362=\"\",\"\",IF(AND(C362<>\"\",OR(D362<E362,AND(D362>E362,C668<>\"\"))),ColTime(Data!$J$6,Data!$L$6,D362,E362),\"\"))","v":""}]
["2020-12-23","On","",null,null,"",null,null,null,{"$f":"IF(OR(AND(C363<>\"\",D363>E363,WEEKDAY(A363,2)=5),AND(C363=\"\",WEEKDAY(A363,2)>5)),IF(D363=\"\",\"\",ColTime(Data!$J$3,Data!$L$3,D363,E363)),\"\")","v":""},"","",{"$f":"IFERROR(IF(AND(C363=\"\",WEEKDAY(A363,2)>5),IF(D363=\"\",\"\",(IF(E363-MAX(D363,(15/24))+(E363<D363)<0,0,E363-MAX(D363,(15/24))+($E363<D363)))-(IF((E363-MAX(D363,(23/24))+(E363<D363))<0,0,(E363-MAX(D363,(23/24))+(E363<D363))))),o),\"\")","v":""},"","","","",{"$f":"IFERROR(IF(OR(AND(C363=\"\",D363<E363,OR(WEEKDAY(A363,2)=1,WEEKDAY(A363,2)>=6)),AND(C363=\"\",D363>E363,OR(WEEKDAY(A363,2)>=5)),AND(C363<>\"\",D363>E363,WEEKDAY(A363,2)>=5)),ColTime(Data!$J$6,Data!$L$6,D363,E363),\"\"),\"\")","v":""},{"$f":"IFERROR(IF(OR(AND(WEEKDAY(A363,2)>1,WEEKDAY(A363,2)<6,D363<E363,C363=\"\"),AND(C363=\"\",WEEKDAY(A363,2)=1,E363<D363),AND(C363<>\"\",D363<E363,WEEKDAY(A363,2)>1,WEEKDAY(A363,2)<4),AND(C363<>\"\",D363>E363,WEEKDAY(A363,2)=1)),ColTime(Data!$J$6,Data!$L$6,D363,E363),\"\"),\"\")","v":""},null,{"$f":"IF(F363=\"\",\"\",IF(AND(C363<>\"\",OR(D363<E363,AND(D363>E363,C669<>\"\"))),ColTime(Data!$J$6,Data!$L$6,D363,E363),\"\"))","v":""}]
["2020-12-24",{"$f":"PROPER(TEXT(A364,\"ddd\"))","v":"To"},{"$f":"HelligdagsNavn(A364,0,0)","v":"Julaftensdag"},null,null,{"$f":"IF(D364=\"\",\"\",(E364-D364)+(D364>E364))","v":""},null,null,null,{"$f":"IF(OR(AND(C364<>\"\",D364>E364,WEEKDAY(A364,2)=5),AND(C364=\"\",WEEKDAY(A364,2)>5)),IF(D364=\"\",\"\",ColTime(Data!$J$3,Data!$L$3,D364,E364)),\"\")","v":""},{"$f":"IF(C364<>\"\",IF(D364=\"\",\"\",(IF(E364-MAX(D364,(7/24))+(E364<D364)<0,0,E364-MAX(D364,(7/24))+(E364<D364)))-(IF((E364-MAX(D364,(15/24))+(E364<D364))<0,0,(E364-MAX(D364,(15/24))+(E364<D364))))),\"\")","v":""},{"$f":"IFERROR(IF(AND(C364=\"\",WEEKDAY(A364,2)<6),IF(D364=\"\",\"\",(IF(E364-MAX(D364,(15/24))+(E364<D364)<0,0,E364-MAX(D364,(15/24))+(E364<D364)))-(IF((E364-MAX(D364,(23/24))+(E364<D364))<0,0,(E364-MAX(D364,(23/24))+(E364<D364))))),\"\"),\"\")","v":""},{"$f":"IFERROR(IF(AND(C364=\"\",WEEKDAY(A364,2)>5),IF(D364=\"\",\"\",(IF(E364-MAX(D364,(15/24))+(E364<D364)<0,0,E364-MAX(D364,(15/24))+($E364<D364)))-(IF((E364-MAX(D364,(23/24))+(E364<D364))<0,0,(E364-MAX(D364,(23/24))+(E364<D364))))),o),\"\")","v":""},{"$f":"IF(C364<>\"\",IF(D364=\"\",\"\",(IF(E364-MAX(D364,(15/24))+(E364<D364)<0,0,E364-MAX(D364,(15/24))+(E364<D364)))-(IF((E364-MAX(D364,(23/24))+(E364<D364))<0,0,(E364-MAX(D364,(23/24))+(E364<D364))))),\"\")","v":""},{"$f":"IF(A364=\"\",\"\",IF(AND(C364=\"\",WEEKDAY(A364,2)<5),IF(D364=\"\",\"\",(IF(E364-MAX(D364,(23/24))+(E364<D364)<0,0,E364-MAX(D364,(23/24))+(E364<D364)))-(IF((E364-MAX(D364,(24/24))+(E364<D364))<0,0,(E364-MAX(D364,(24/24))+(E364<D364))))),\"\"))","v":""},{"$f":"IFERROR(IF(AND(C364=\"\",WEEKDAY(A364,2)>4),IF(D364=\"\",\"\",(IF(E364-MAX(D364,(23/24))+(E364<D364)<0,0,E364-MAX(D364,(23/24))+(E364<D364)))-(IF((E364-MAX(D364,(24/24))+(E364<D364))<0,0,(E364-MAX(D364,(24/24))+(E364<D364))))),\"\"),\"\")","v":""},"",{"$f":"IFERROR(IF(OR(AND(C364=\"\",D364<E364,OR(WEEKDAY(A364,2)=1,WEEKDAY(A364,2)>=6)),AND(C364=\"\",D364>E364,OR(WEEKDAY(A364,2)>=5)),AND(C364<>\"\",D364>E364,WEEKDAY(A364,2)>=5)),ColTime(Data!$J$6,Data!$L$6,D364,E364),\"\"),\"\")","v":""},{"$f":"IFERROR(IF(OR(AND(WEEKDAY(A364,2)>1,WEEKDAY(A364,2)<6,D364<E364,C364=\"\"),AND(C364=\"\",WEEKDAY(A364,2)=1,E364<D364),AND(C364<>\"\",D364<E364,WEEKDAY(A364,2)>1,WEEKDAY(A364,2)<4),AND(C364<>\"\",D364>E364,WEEKDAY(A364,2)=1)),ColTime(Data!$J$6,Data!$L$6,D364,E364),\"\"),\"\")","v":""},null,{"$f":"IF(F364=\"\",\"\",IF(AND(C364<>\"\",OR(D364<E364,AND(D364>E364,C670<>\"\"))),ColTime(Data!$J$6,Data!$L$6,D364,E364),\"\"))","v":""}]
["2020-12-25","Fr","1. Juledag",null,null,"",null,null,null,{"$f":"IF(OR(AND(C365<>\"\",D365>E365,WEEKDAY(A365,2)=5),AND(C365=\"\",WEEKDAY(A365,2)>5)),IF(D365=\"\",\"\",ColTime(Data!$J$3,Data!$L$3,D365,E365)),\"\")","v":""},"","",{"$f":"IFERROR(IF(AND(C365=\"\",WEEKDAY(A365,2)>5),IF(D365=\"\",\"\",(IF(E365-MAX(D365,(15/24))+(E365<D365)<0,0,E365-MAX(D365,(15/24))+($E365<D365)))-(IF((E365-MAX(D365,(23/24))+(E365<D365))<0,0,(E365-MAX(D365,(23/24))+(E365<D365))))),o),\"\")","v":""},"","","","",{"$f":"IFERROR(IF(OR(AND(C365=\"\",D365<E365,OR(WEEKDAY(A365,2)=1,WEEKDAY(A365,2)>=6)),AND(C365=\"\",D365>E365,OR(WEEKDAY(A365,2)>=5)),AND(C365<>\"\",D365>E365,WEEKDAY(A365,2)>=5)),ColTime(Data!$J$6,Data!$L$6,D365,E365),\"\"),\"\")","v":""},{"$f":"IFERROR(IF(OR(AND(WEEKDAY(A365,2)>1,WEEKDAY(A365,2)<6,D365<E365,C365=\"\"),AND(C365=\"\",WEEKDAY(A365,2)=1,E365<D365),AND(C365<>\"\",D365<E365,WEEKDAY(A365,2)>1,WEEKDAY(A365,2)<4),AND(C365<>\"\",D365>E365,WEEKDAY(A365,2)=1)),ColTime(Data!$J$6,Data!$L$6,D365,E365),\"\"),\"\")","v":""},null,{"$f":"IF(F365=\"\",\"\",IF(AND(C365<>\"\",OR(D365<E365,AND(D365>E365,C671<>\"\"))),ColTime(Data!$J$6,Data!$L$6,D365,E365),\"\"))","v":""}]
["2020-12-26","Lø","2. Juledag",null,null,"",null,null,null,{"$f":"IF(OR(AND(C366<>\"\",D366>E366,WEEKDAY(A366,2)=5),AND(C366=\"\",WEEKDAY(A366,2)>5)),IF(D366=\"\",\"\",ColTime(Data!$J$3,Data!$L$3,D366,E366)),\"\")","v":""},"","",{"$f":"IFERROR(IF(AND(C366=\"\",WEEKDAY(A366,2)>5),IF(D366=\"\",\"\",(IF(E366-MAX(D366,(15/24))+(E366<D366)<0,0,E366-MAX(D366,(15/24))+($E366<D366)))-(IF((E366-MAX(D366,(23/24))+(E366<D366))<0,0,(E366-MAX(D366,(23/24))+(E366<D366))))),o),\"\")","v":""},"","","","",{"$f":"IFERROR(IF(OR(AND(C366=\"\",D366<E366,OR(WEEKDAY(A366,2)=1,WEEKDAY(A366,2)>=6)),AND(C366=\"\",D366>E366,OR(WEEKDAY(A366,2)>=5)),AND(C366<>\"\",D366>E366,WEEKDAY(A366,2)>=5)),ColTime(Data!$J$6,Data!$L$6,D366,E366),\"\"),\"\")","v":""},{"$f":"IFERROR(IF(OR(AND(WEEKDAY(A366,2)>1,WEEKDAY(A366,2)<6,D366<E366,C366=\"\"),AND(C366=\"\",WEEKDAY(A366,2)=1,E366<D366),AND(C366<>\"\",D366<E366,WEEKDAY(A366,2)>1,WEEKDAY(A366,2)<4),AND(C366<>\"\",D366>E366,WEEKDAY(A366,2)=1)),ColTime(Data!$J$6,Data!$L$6,D366,E366),\"\"),\"\")","v":""},null,{"$f":"IF(F366=\"\",\"\",IF(AND(C366<>\"\",OR(D366<E366,AND(D366>E366,C672<>\"\"))),ColTime(Data!$J$6,Data!$L$6,D366,E366),\"\"))","v":""}]
["2020-12-27",{"$f":"PROPER(TEXT(A367,\"ddd\"))","v":"Sø"},{"$f":"HelligdagsNavn(A367,0,0)","v":"3. juledag"},null,null,{"$f":"IF(D367=\"\",\"\",(E367-D367)+(D367>E367))","v":""},null,null,null,{"$f":"IF(OR(AND(C367<>\"\",D367>E367,WEEKDAY(A367,2)=5),AND(C367=\"\",WEEKDAY(A367,2)>5)),IF(D367=\"\",\"\",ColTime(Data!$J$3,Data!$L$3,D367,E367)),\"\")","v":""},{"$f":"IF(C367<>\"\",IF(D367=\"\",\"\",(IF(E367-MAX(D367,(7/24))+(E367<D367)<0,0,E367-MAX(D367,(7/24))+(E367<D367)))-(IF((E367-MAX(D367,(15/24))+(E367<D367))<0,0,(E367-MAX(D367,(15/24))+(E367<D367))))),\"\")","v":""},{"$f":"IFERROR(IF(AND(C367=\"\",WEEKDAY(A367,2)<6),IF(D367=\"\",\"\",(IF(E367-MAX(D367,(15/24))+(E367<D367)<0,0,E367-MAX(D367,(15/24))+(E367<D367)))-(IF((E367-MAX(D367,(23/24))+(E367<D367))<0,0,(E367-MAX(D367,(23/24))+(E367<D367))))),\"\"),\"\")","v":""},{"$f":"IFERROR(IF(AND(C367=\"\",WEEKDAY(A367,2)>5),IF(D367=\"\",\"\",(IF(E367-MAX(D367,(15/24))+(E367<D367)<0,0,E367-MAX(D367,(15/24))+($E367<D367)))-(IF((E367-MAX(D367,(23/24))+(E367<D367))<0,0,(E367-MAX(D367,(23/24))+(E367<D367))))),o),\"\")","v":""},{"$f":"IF(C367<>\"\",IF(D367=\"\",\"\",(IF(E367-MAX(D367,(15/24))+(E367<D367)<0,0,E367-MAX(D367,(15/24))+(E367<D367)))-(IF((E367-MAX(D367,(23/24))+(E367<D367))<0,0,(E367-MAX(D367,(23/24))+(E367<D367))))),\"\")","v":""},{"$f":"IF(A367=\"\",\"\",IF(AND(C367=\"\",WEEKDAY(A367,2)<5),IF(D367=\"\",\"\",(IF(E367-MAX(D367,(23/24))+(E367<D367)<0,0,E367-MAX(D367,(23/24))+(E367<D367)))-(IF((E367-MAX(D367,(24/24))+(E367<D367))<0,0,(E367-MAX(D367,(24/24))+(E367<D367))))),\"\"))","v":""},{"$f":"IFERROR(IF(AND(C367=\"\",WEEKDAY(A367,2)>4),IF(D367=\"\",\"\",(IF(E367-MAX(D367,(23/24))+(E367<D367)<0,0,E367-MAX(D367,(23/24))+(E367<D367)))-(IF((E367-MAX(D367,(24/24))+(E367<D367))<0,0,(E367-MAX(D367,(24/24))+(E367<D367))))),\"\"),\"\")","v":""},"",{"$f":"IFERROR(IF(OR(AND(C367=\"\",D367<E367,OR(WEEKDAY(A367,2)=1,WEEKDAY(A367,2)>=6)),AND(C367=\"\",D367>E367,OR(WEEKDAY(A367,2)>=5)),AND(C367<>\"\",D367>E367,WEEKDAY(A367,2)>=5)),ColTime(Data!$J$6,Data!$L$6,D367,E367),\"\"),\"\")","v":""},{"$f":"IFERROR(IF(OR(AND(WEEKDAY(A367,2)>1,WEEKDAY(A367,2)<6,D367<E367,C367=\"\"),AND(C367=\"\",WEEKDAY(A367,2)=1,E367<D367),AND(C367<>\"\",D367<E367,WEEKDAY(A367,2)>1,WEEKDAY(A367,2)<4),AND(C367<>\"\",D367>E367,WEEKDAY(A367,2)=1)),ColTime(Data!$J$6,Data!$L$6,D367,E367),\"\"),\"\")","v":""},null,{"$f":"IF(F367=\"\",\"\",IF(AND(C367<>\"\",OR(D367<E367,AND(D367>E367,C673<>\"\"))),ColTime(Data!$J$6,Data!$L$6,D367,E367),\"\"))","v":""}]
["2020-12-28",{"$f":"PROPER(TEXT(A368,\"ddd\"))","v":"Ma"},{"$f":"HelligdagsNavn(A368,0,0)","v":""},null,null,{"$f":"IF(D368=\"\",\"\",(E368-D368)+(D368>E368))","v":""},null,null,null,{"$f":"IF(OR(AND(C368<>\"\",D368>E368,WEEKDAY(A368,2)=5),AND(C368=\"\",WEEKDAY(A368,2)>5)),IF(D368=\"\",\"\",ColTime(Data!$J$3,Data!$L$3,D368,E368)),\"\")","v":""},{"$f":"IF(C368<>\"\",IF(D368=\"\",\"\",(IF(E368-MAX(D368,(7/24))+(E368<D368)<0,0,E368-MAX(D368,(7/24))+(E368<D368)))-(IF((E368-MAX(D368,(15/24))+(E368<D368))<0,0,(E368-MAX(D368,(15/24))+(E368<D368))))),\"\")","v":""},{"$f":"IFERROR(IF(AND(C368=\"\",WEEKDAY(A368,2)<6),IF(D368=\"\",\"\",(IF(E368-MAX(D368,(15/24))+(E368<D368)<0,0,E368-MAX(D368,(15/24))+(E368<D368)))-(IF((E368-MAX(D368,(23/24))+(E368<D368))<0,0,(E368-MAX(D368,(23/24))+(E368<D368))))),\"\"),\"\")","v":""},{"$f":"IFERROR(IF(AND(C368=\"\",WEEKDAY(A368,2)>5),IF(D368=\"\",\"\",(IF(E368-MAX(D368,(15/24))+(E368<D368)<0,0,E368-MAX(D368,(15/24))+($E368<D368)))-(IF((E368-MAX(D368,(23/24))+(E368<D368))<0,0,(E368-MAX(D368,(23/24))+(E368<D368))))),o),\"\")","v":""},{"$f":"IF(C368<>\"\",IF(D368=\"\",\"\",(IF(E368-MAX(D368,(15/24))+(E368<D368)<0,0,E368-MAX(D368,(15/24))+(E368<D368)))-(IF((E368-MAX(D368,(23/24))+(E368<D368))<0,0,(E368-MAX(D368,(23/24))+(E368<D368))))),\"\")","v":""},{"$f":"IF(A368=\"\",\"\",IF(AND(C368=\"\",WEEKDAY(A368,2)<5),IF(D368=\"\",\"\",(IF(E368-MAX(D368,(23/24))+(E368<D368)<0,0,E368-MAX(D368,(23/24))+(E368<D368)))-(IF((E368-MAX(D368,(24/24))+(E368<D368))<0,0,(E368-MAX(D368,(24/24))+(E368<D368))))),\"\"))","v":""},{"$f":"IFERROR(IF(AND(C368=\"\",WEEKDAY(A368,2)>4),IF(D368=\"\",\"\",(IF(E368-MAX(D368,(23/24))+(E368<D368)<0,0,E368-MAX(D368,(23/24))+(E368<D368)))-(IF((E368-MAX(D368,(24/24))+(E368<D368))<0,0,(E368-MAX(D368,(24/24))+(E368<D368))))),\"\"),\"\")","v":""},"",{"$f":"IFERROR(IF(OR(AND(C368=\"\",D368<E368,OR(WEEKDAY(A368,2)=1,WEEKDAY(A368,2)>=6)),AND(C368=\"\",D368>E368,OR(WEEKDAY(A368,2)>=5)),AND(C368<>\"\",D368>E368,WEEKDAY(A368,2)>=5)),ColTime(Data!$J$6,Data!$L$6,D368,E368),\"\"),\"\")","v":""},{"$f":"IFERROR(IF(OR(AND(WEEKDAY(A368,2)>1,WEEKDAY(A368,2)<6,D368<E368,C368=\"\"),AND(C368=\"\",WEEKDAY(A368,2)=1,E368<D368),AND(C368<>\"\",D368<E368,WEEKDAY(A368,2)>1,WEEKDAY(A368,2)<4),AND(C368<>\"\",D368>E368,WEEKDAY(A368,2)=1)),ColTime(Data!$J$6,Data!$L$6,D368,E368),\"\"),\"\")","v":""},null,{"$f":"IF(F368=\"\",\"\",IF(AND(C368<>\"\",OR(D368<E368,AND(D368>E368,C674<>\"\"))),ColTime(Data!$J$6,Data!$L$6,D368,E368),\"\"))","v":""}]
["2020-12-29","Ti","",null,null,"",null,null,null,{"$f":"IF(OR(AND(C369<>\"\",D369>E369,WEEKDAY(A369,2)=5),AND(C369=\"\",WEEKDAY(A369,2)>5)),IF(D369=\"\",\"\",ColTime(Data!$J$3,Data!$L$3,D369,E369)),\"\")","v":""},"","",{"$f":"IFERROR(IF(AND(C369=\"\",WEEKDAY(A369,2)>5),IF(D369=\"\",\"\",(IF(E369-MAX(D369,(15/24))+(E369<D369)<0,0,E369-MAX(D369,(15/24))+($E369<D369)))-(IF((E369-MAX(D369,(23/24))+(E369<D369))<0,0,(E369-MAX(D369,(23/24))+(E369<D369))))),o),\"\")","v":""},"","","","",{"$f":"IFERROR(IF(OR(AND(C369=\"\",D369<E369,OR(WEEKDAY(A369,2)=1,WEEKDAY(A369,2)>=6)),AND(C369=\"\",D369>E369,OR(WEEKDAY(A369,2)>=5)),AND(C369<>\"\",D369>E369,WEEKDAY(A369,2)>=5)),ColTime(Data!$J$6,Data!$L$6,D369,E369),\"\"),\"\")","v":""},{"$f":"IFERROR(IF(OR(AND(WEEKDAY(A369,2)>1,WEEKDAY(A369,2)<6,D369<E369,C369=\"\"),AND(C369=\"\",WEEKDAY(A369,2)=1,E369<D369),AND(C369<>\"\",D369<E369,WEEKDAY(A369,2)>1,WEEKDAY(A369,2)<4),AND(C369<>\"\",D369>E369,WEEKDAY(A369,2)=1)),ColTime(Data!$J$6,Data!$L$6,D369,E369),\"\"),\"\")","v":""},null,{"$f":"IF(F369=\"\",\"\",IF(AND(C369<>\"\",OR(D369<E369,AND(D369>E369,C675<>\"\"))),ColTime(Data!$J$6,Data!$L$6,D369,E369),\"\"))","v":""}]
["2020-12-30","On","",null,null,"",null,null,null,{"$f":"IF(OR(AND(C370<>\"\",D370>E370,WEEKDAY(A370,2)=5),AND(C370=\"\",WEEKDAY(A370,2)>5)),IF(D370=\"\",\"\",ColTime(Data!$J$3,Data!$L$3,D370,E370)),\"\")","v":""},"","",{"$f":"IFERROR(IF(AND(C370=\"\",WEEKDAY(A370,2)>5),IF(D370=\"\",\"\",(IF(E370-MAX(D370,(15/24))+(E370<D370)<0,0,E370-MAX(D370,(15/24))+($E370<D370)))-(IF((E370-MAX(D370,(23/24))+(E370<D370))<0,0,(E370-MAX(D370,(23/24))+(E370<D370))))),o),\"\")","v":""},"","","","",{"$f":"IFERROR(IF(OR(AND(C370=\"\",D370<E370,OR(WEEKDAY(A370,2)=1,WEEKDAY(A370,2)>=6)),AND(C370=\"\",D370>E370,OR(WEEKDAY(A370,2)>=5)),AND(C370<>\"\",D370>E370,WEEKDAY(A370,2)>=5)),ColTime(Data!$J$6,Data!$L$6,D370,E370),\"\"),\"\")","v":""},{"$f":"IFERROR(IF(OR(AND(WEEKDAY(A370,2)>1,WEEKDAY(A370,2)<6,D370<E370,C370=\"\"),AND(C370=\"\",WEEKDAY(A370,2)=1,E370<D370),AND(C370<>\"\",D370<E370,WEEKDAY(A370,2)>1,WEEKDAY(A370,2)<4),AND(C370<>\"\",D370>E370,WEEKDAY(A370,2)=1)),ColTime(Data!$J$6,Data!$L$6,D370,E370),\"\"),\"\")","v":""},null,{"$f":"IF(F370=\"\",\"\",IF(AND(C370<>\"\",OR(D370<E370,AND(D370>E370,C676<>\"\"))),ColTime(Data!$J$6,Data!$L$6,D370,E370),\"\"))","v":""}]
["2020-12-31","To","Nytårsaftensdag",null,null,"",null,null,null,{"$f":"IF(OR(AND(C371<>\"\",D371>E371,WEEKDAY(A371,2)=5),AND(C371=\"\",WEEKDAY(A371,2)>5)),IF(D371=\"\",\"\",ColTime(Data!$J$3,Data!$L$3,D371,E371)),\"\")","v":""},"","",{"$f":"IFERROR(IF(AND(C371=\"\",WEEKDAY(A371,2)>5),IF(D371=\"\",\"\",(IF(E371-MAX(D371,(15/24))+(E371<D371)<0,0,E371-MAX(D371,(15/24))+($E371<D371)))-(IF((E371-MAX(D371,(23/24))+(E371<D371))<0,0,(E371-MAX(D371,(23/24))+(E371<D371))))),o),\"\")","v":""},"","","","",{"$f":"IFERROR(IF(OR(AND(C371=\"\",D371<E371,OR(WEEKDAY(A371,2)=1,WEEKDAY(A371,2)>=6)),AND(C371=\"\",D371>E371,OR(WEEKDAY(A371,2)>=5)),AND(C371<>\"\",D371>E371,WEEKDAY(A371,2)>=5)),ColTime(Data!$J$6,Data!$L$6,D371,E371),\"\"),\"\")","v":""},{"$f":"IFERROR(IF(OR(AND(WEEKDAY(A371,2)>1,WEEKDAY(A371,2)<6,D371<E371,C371=\"\"),AND(C371=\"\",WEEKDAY(A371,2)=1,E371<D371),AND(C371<>\"\",D371<E371,WEEKDAY(A371,2)>1,WEEKDAY(A371,2)<4),AND(C371<>\"\",D371>E371,WEEKDAY(A371,2)=1)),ColTime(Data!$J$6,Data!$L$6,D371,E371),\"\"),\"\")","v":""},null,{"$f":"IF(F371=\"\",\"\",IF(AND(C371<>\"\",OR(D371<E371,AND(D371>E371,C677<>\"\"))),ColTime(Data!$J$6,Data!$L$6,D371,E371),\"\"))","v":""}]
["Total timer",null,null,null,null,{"$f":"IF(SUM(F11:F63)<>\"0\",SUM(F6:F63),\"\")","v":4.708333333333333},null,null,null,{"$f":"IF(SUM(J6:J63)<>\"0\",SUM(J6:J63),\"\")","v":0.66666666666666596},{"$f":"IF(SUM(K6:K63)<>\"0\",SUM(K6:K63),\"\")","v":0.33333333333333331},{"$f":"IF(SUM(L6:L63)<>\"0\",SUM(L6:L63),\"\")","v":0.66666666666666674},{"$f":"IF(SUM(M6:M63)<>\"0\",SUM(M6:M63),\"\")","v":0.66666666666666674},8.333333333333337E-2,4.166666666666663E-2,0.12499999999999989,4.166666666666663E-2,0.75,{"$f":"IF(SUM(S6:S370)<>\"0\",SUM(S6:S370),\"\")","v":0},null,{"$f":"IF(SUM(U6:U63)<>\"0\",SUM(U6:U63),\"\")","v":0.16666666666666669}]
["Timer 1/100",null,null,null,null,{"$f":"IF(F372<>\"\",ROUND(F372*24,2),\"\")","v":113},null,null,null,{"$f":"IF(J372<>\"\",ROUND(J372*24,2),\"\")","v":16},{"$f":"IF(K372<>\"\",ROUND(K372*24,2),\"\")","v":8},16,16,2,1,3,1,18,{"$f":"IF(S372<>\"\",ROUND(S372*24,2),\"\")","v":0},null,{"$f":"IF(U372<>\"\",ROUND(U372*24,2),\"\")","v":4}]
["Satser",null,null,null,null,{"$f":"Data!B14","v":125},null,null,null,{"$f":"Data!B17","v":62.5},{"$f":"Data!B19","v":125},{"$f":"Data!B16","v":27.5},{"$f":"Data!B18","v":90},{"$f":"Data!B20","v":152.5},{"$f":"Data!B16","v":27.5},{"$f":"Data!B18","v":90},{"$f":"Data!B20","v":152.5},{"$f":"Data!B18","v":90},{"$f":"Data!B16","v":27.5},null,{"$f":"Data!B20","v":152.5}]
[null,null,null,null,null,{"$f":"IF(F372<>\"\",F373*F374,\"\")","v":14125},null,null,null,{"$f":"IF(J372<>\"\",J373*J374,\"\")","v":1000},{"$f":"IF(K372<>\"\",K373*K374,\"\")","v":1000},440,1440,305,27.5,270,152.5,1620,{"$f":"IF(S372<>\"\",S373*S374,\"\")","v":0},null,{"$f":"IF(U372<>\"\",U373*U374,\"\")","v":610}]
["Løn",null,null,null,null,{"$f":"SUM(F375:V375)","v":20990}]
[null,null,null,null,null,null,null,null,null,0.5,1,0.22,0.72,1.22,0.22,0.72,1.22,0.72,0.22,null,1.22]
[]
[]
[]
[]
[]
[]
[]
[]
[]
[]
[]
[]
[]
[]
[]
[]
[null,null,null,null,null,null,null,null,null,"=HVIS(D8=\"\";\"\";(HVIS(E8-MAKS(D8;(15/24))+(E8<D8)<0;0;E8-MAKS(D8;(15/24))+(E8<D8)))-(HVIS((E8-MAKS(D8;(23/24))+(E8<D8))<0;0;(E8-MAKS(D8;(23/24))+(E8<D8)))))"]

{"sheet":"Data","index":2,"n_rows":20,"n_cols":12,"rows_kept":20,"cut":false,"hidden":false,"merged":[]}
[]
[null,"Timeløn","Tillæg",null,"Start","Slut"]
["Normal løn",63.86,null,null,"06:00:00","18:00:00",null,"Dag tillæg","Fra kl.","07:00:00","Til kl.","15:00:00"]
["Hverdagstillæg",null,12.6,null,"18:00:00","06:00:00",null,"Aften tillæg","Fra kl.","15:00:00","Til kl.","23:00:00"]
["Lørdag",63.86,null,null,"00:00:00","14:59:00",null,"Nat tillæg 1","Fra kl.","23:00:00","Til kl.","00:00:00"]
["Lørdagstillæg",null,22.38,null,"15:00:00",1,null,"Nat tillæg 2","Fra kl.","00:00:00","Til kl.","07:00:00"]
["Søn- og helligdage",63.86,25.3,null,"00:00:00","23:59:00",null,"Grundlovsdag","Fra kl.","12:00:00","Til kl.","00:00:00"]
[]
[]
[]
["Pre-udfyld med dage",50,{"$f":"IF(B11=1,\"dag\",\"dage\")&\" frem\"","v":"dage frem"}]
[]
[]
["Grundløn",125]
[0,{"$f":"$B$14*A15","v":0}]
[0.22,27.5]
[0.5,62.5]
[0.72,90]
[1,125]
[1.22,152.5]

{"sheet":"Satser","index":3,"n_rows":23,"n_cols":4,"rows_kept":23,"cut":false,"hidden":false,"merged":[]}
[]
[]
["Timeløn",119.62]
["specielt tillæg",1.19]
["Chauffør tillæg",4.95]
[]
["Samlet timeløn",{"$f":"SUM(B3:B5)","v":125.76}]
[]
["overtidstillæg 50%",59.81]
["pr. time",{"$f":"B7+B9","v":185.57}]
[]
["overtidstillæg 100%",119.62]
["pr. time",{"$f":"B12+B7","v":245.38}]
[]
["Aftentillæg",18.8,null,"Arbejde mellem 18:00 og 24:00, lørdag dog fra kl 14:00"]
["Nattillæg",21.81,null,"Arbejde mellem 24:00 og 06:00"]
["Søndagstillæg",28.68]
[]
["Ledbus",3]
["Trafiftælling",5]
["Delt tjeneste",67,null,"pr. arbejdsdag"]
[]
[null,"07:24:00"]

{"sheet":"Ark3","index":4,"n_rows":0,"n_cols":0,"rows_kept":0,"cut":false,"hidden":false,"merged":[]}