{"text_format":"1","workbook":"xlsx","n_sheets":18,"sheets":["Januar","Hele året","Februar","Marts","April","Maj","Juni","Juli","August","September","Oktober","November","December","Satser","norm","T.","Ark2","Ark3"],"not_rendered":{"charts":0,"images":0,"macros":1,"external_links":1,"defined_names":13,"comments":0,"pivot_tables":0},"unopened":[],"bounds":{"document_bytes":16777216,"sheet_cells":100000,"rows_first":2000,"rows_last":500,"rows_between":2000,"halvings":0,"cell_chars":16384,"cell_head_chars":4096},"cells_cut":0,"cells_raw":0,"read":"whole","date_system":"1900"}

{"sheet":"Januar","index":0,"n_rows":45,"n_cols":35,"rows_kept":45,"cut":false,"hidden":true,"merged":[[39,0,39,2],[40,0,40,2],[41,0,41,2],[42,0,42,2],[43,0,43,5],[35,9,35,10],[35,11,35,12],[36,9,36,10],[36,11,36,12],[37,9,37,10],[37,11,37,12],[32,9,32,10],[32,11,32,12],[33,9,33,10],[33,11,33,12],[34,9,34,10],[34,11,34,12],[29,9,29,10],[29,11,29,12],[30,9,30,10],[30,11,30,12],[31,9,31,10],[31,11,31,12],[26,9,26,10],[26,11,26,12],[27,9,27,10],[27,11,27,12],[28,9,28,10],[28,11,28,12],[23,9,23,10],[23,11,23,12],[24,9,24,10],[24,11,24,12],[25,9,25,10],[25,11,25,12],[20,9,20,10],[20,11,20,12],[21,9,21,10],[21,11,21,12],[22,9,22,10],[22,11,22,12],[17,9,17,10],[17,11,17,12],[18,9,18,10],[18,11,18,12],[19,9,19,10],[19,11,19,12],[14,9,14,10],[14,11,14,12],[15,9,15,10],[15,11,15,12],[16,9,16,10],[16,11,16,12],[11,9,11,10],[11,11,11,12],[12,9,12,10],[12,11,12,12],[13,9,13,10],[13,11,13,12],[8,9,8,10],[8,11,8,12],[9,9,9,10],[9,11,9,12],[10,9,10,10],[10,11,10,12],[5,9,5,10],[5,11,5,12],[6,9,6,10],[6,11,6,12],[7,9,7,10],[7,11,7,12],[4,9,4,10],[4,11,4,12],[0,1,0,7],[0,10,0,11],[0,13,0,14],[1,1,1,2],[1,9,1,10],[1,11,1,12],[2,1,2,2],[2,9,2,10],[2,11,2,12],[3,9,3,10],[3,11,3,12]]}
["Løn",{"$f":"PROPER(TEXT(A4,\"dd mmmm åååå\")) & PROPER(TEXT(N1,\"  -  dd mmmm åååå\"))","v":"01 Januar 2019  -  31 Januar 2019"},null,null,null,null,null,null,"Uge :",{"$f":"IF(A4=\"\",\"\",TRUNC((A4-WEEKDAY(A4,2)-DATE(YEAR(A4+4-WEEKDAY(A4,2)),1,-10))/7))","v":1},"-",null,{"$f":"IF(A25=\"\",\"\",TRUNC((A25-WEEKDAY(A25,2)-DATE(YEAR(A25+4-WEEKDAY(A25,2)),1,-10))/7))","v":4},{"$f":"EOMONTH(A4,0)","v":"2019-01-31"},null,1,null,null,null,null,null,"Time beregning:",null,null,null,null,null,null,null,null,null,null,"06:00:00","18:00:00","03:00:00"]
["Lønart",null,null,null,null,null,null,null,null,null,null,null,null,null,null,null,null,null,null,null,null,"Betalt pause ved vagt over 5 timer",null,null,null,"00:25:00","minutter","00:00:00","06:00:00","17:00:00","14:00:00"]
["Dato","Dag",null,"Start","Slut","Pause","Arb. Tid","Overtid           1-3 time","Overtid            4 - time","Forskudt tid alle dage\n18-23",null,"Natarbejde 23-06",null,"Lørdag tillæg 14 - 24","Søndag tillæg 00 - 24","Optjent afspadsering","Afholdt afspadsering","Syge Timer","norm"]
[{"$f":"DATE([1]T.!$B$1,$P$1,1)","v":"2019-01-01"},{"$f":"PROPER(TEXT(A4,\"ddd\"))","v":"Ti"},{"$f":"HelligdagsNavn(A4,0,0)","v":"Nytårsdag"},"07:00:00","16:00:00","00:30:00",{"$f":"IF(D4=\"\",\"\",(E4-D4)+(D4>E4)-F4)","v":0.35416666666666663},{"$f":"IF(G4=\"\",0,IF(WEEKDAY(A4,2)=7,0,IF(G4>S4,MIN(G4-S4,$AI$1),0)))","v":"01:00:00"},{"$f":"IF(G4=\"\",\"\",IF(G4>S4+H4,G4-(S4+H4),\"\"))","v":""},{"$f":"ColTime([1]T.!$J$3,[1]T.!$L$3,D4,E4)","v":"00:00:00"},null,{"$f":"ColTime(TIME([1]T.!$J$4,0,0),TIME([1]T.!$L$4,0,0),D4,E4)","v":"00:00:00"},null,{"$f":"IF(WEEKDAY(A4,2)=6,ColTime(TIME(14,0,0),TIME(24,0,0),D4,E4),\"\")","v":""},{"$f":"IF(OR(C4<>\"\",WEEKDAY(A4,2)=7),ColTime(TIME(0,0,0),TIME(24,0,0),D4,E4),\"\")","v":"09:00:00"},{"$f":"IFERROR(H4+I4,\"\")","v":""},null,null,{"$f":"CHOOSE(WEEKDAY(A4,2),[1]norm!C$1,[1]norm!C$2,[1]norm!C$3,[1]norm!C$4,[1]norm!C$5,[1]norm!C$6,[1]norm!C$7)","v":"07:30:00"},null,null,{"$f":"IF(D4=\"\",\"\",HOUR(D4))","v":7},{"$f":"IF(D4=\"\",\"\",MINUTE(D4))","v":0},{"$f":"IF(D4=\"\",\"\",TIME(HOUR(D4),MINUTE(D4),0))","v":"07:00:00"},{"$f":"IF(E4=\"\",\"\",HOUR(E4))","v":16},{"$f":"IF(E4=\"\",\"\",MINUTE(E4))","v":0},"02:00:00","09:30:00","11:30:00",null,null,null,{"$f":"MIN(G4-S4,3)","v":4.166666666666663E-2}]
[{"$f":"A4+1","v":"2019-01-02"},{"$f":"PROPER(TEXT(A5,\"ddd\"))","v":"On"},{"$f":"HelligdagsNavn(A5,0,0)","v":""},"13:45:00","21:30:00","00:30:00",{"$f":"IF(D5=\"\",\"\",(E5-D5)+(D5>E5)-F5)","v":0.30208333333333343},{"$f":"IF(G5=\"\",0,IF(WEEKDAY(A5,2)=7,0,IF(G5>S5,MIN(G5-S5,$AI$1),0)))","v":"00:00:00"},{"$f":"IF(G5=\"\",\"\",IF(G5>S5+H5,G5-(S5+H5),\"\"))","v":""},{"$f":"ColTime([1]T.!$J$3,[1]T.!$L$3,D5,E5)","v":"03:30:00"},null,{"$f":"ColTime(TIME([1]T.!$J$4,0,0),TIME([1]T.!$L$4,0,0),D5,E5)","v":"00:00:00"},null,"","",{"$f":"IFERROR(H5+I5,\"\")","v":""},null,null,{"$f":"CHOOSE(WEEKDAY(A5,2),[1]norm!C$1,[1]norm!C$2,[1]norm!C$3,[1]norm!C$4,[1]norm!C$5,[1]norm!C$6,[1]norm!C$7)","v":"07:30:00"},null,null,13,45,"13:45:00",21,30,{"$f":"IF(E5=\"\",\"\",TIME(HOUR(E5),MINUTE(E5),0))","v":"21:30:00"},null,null,null,null,null,null,"Der taste kun i de Gule celler"]
[{"$f":"A5+1","v":"2019-01-03"},{"$f":"PROPER(TEXT(A6,\"ddd\"))","v":"To"},"","22:00:00","05:45:00","00:30:00",0.30208333333333343,"00:00:00","",{"$f":"ColTime([1]T.!$J$3,[1]T.!$L$3,D6,E6)","v":"01:00:00"},null,{"$f":"ColTime(TIME([1]T.!$J$4,0,0),TIME([1]T.!$L$4,0,0),D6,E6)","v":"06:45:00"},null,"","",{"$f":"IFERROR(H6+I6,\"\")","v":""},null,null,{"$f":"CHOOSE(WEEKDAY(A6,2),[1]norm!C$1,[1]norm!C$2,[1]norm!C$3,[1]norm!C$4,[1]norm!C$5,[1]norm!C$6,[1]norm!C$7)","v":"07:30:00"},null,null,22,0,"22:00:00",5,45,"05:45:00"]
["2019-01-04","Fr","","05:00:00","16:45:00","00:30:00",0.46874999999999994,"03:00:00","01:15:00",{"$f":"ColTime([1]T.!$J$3,[1]T.!$L$3,D7,E7)","v":"00:00:00"},null,{"$f":"ColTime(TIME([1]T.!$J$4,0,0),TIME([1]T.!$L$4,0,0),D7,E7)","v":"01:00:00"},null,"","",{"$f":"IFERROR(H7+I7,\"\")","v":"04:15:00"},null,null,{"$f":"CHOOSE(WEEKDAY(A7,2),[1]norm!C$1,[1]norm!C$2,[1]norm!C$3,[1]norm!C$4,[1]norm!C$5,[1]norm!C$6,[1]norm!C$7)","v":"07:00:00"},null,null,5,0,"05:00:00",16,45,"16:45:00"]
["2019-01-05","Lø","",null,null,null,"","00:00:00","",{"$f":"ColTime([1]T.!$J$3,[1]T.!$L$3,D8,E8)","v":"00:00:00"},null,{"$f":"ColTime(TIME([1]T.!$J$4,0,0),TIME([1]T.!$L$4,0,0),D8,E8)","v":"00:00:00"},null,"00:00:00","",{"$f":"IFERROR(H8+I8,\"\")","v":""},null,null,{"$f":"CHOOSE(WEEKDAY(A8,2),[1]norm!C$1,[1]norm!C$2,[1]norm!C$3,[1]norm!C$4,[1]norm!C$5,[1]norm!C$6,[1]norm!C$7)","v":"00:00:00"},null,null,"","","","","",""]
["2019-01-06","Sø","","06:00:00","19:00:00","00:30:00",0.52083333333333326,"00:00:00","12:30:00",{"$f":"ColTime([1]T.!$J$3,[1]T.!$L$3,D9,E9)","v":"01:00:00"},null,{"$f":"ColTime(TIME([1]T.!$J$4,0,0),TIME([1]T.!$L$4,0,0),D9,E9)","v":"00:00:00"},null,"",{"$f":"IF(OR(C9<>\"\",WEEKDAY(A9,2)=7),ColTime(TIME(0,0,0),TIME(24,0,0),D9,E9),\"\")","v":"13:00:00"},{"$f":"IFERROR(H9+I9,\"\")","v":"12:30:00"},null,null,{"$f":"CHOOSE(WEEKDAY(A9,2),[1]norm!C$1,[1]norm!C$2,[1]norm!C$3,[1]norm!C$4,[1]norm!C$5,[1]norm!C$6,[1]norm!C$7)","v":"00:00:00"},null,null,6,0,"06:00:00",19,0,"19:00:00"]
["2019-01-07","Ma","","07:00:00","19:00:00",null,0.49999999999999994,"03:00:00","01:30:00",{"$f":"ColTime([1]T.!$J$3,[1]T.!$L$3,D10,E10)","v":"01:00:00"},null,{"$f":"ColTime(TIME([1]T.!$J$4,0,0),TIME([1]T.!$L$4,0,0),D10,E10)","v":"00:00:00"},null,{"$f":"IF(WEEKDAY(A10,2)=6,ColTime(TIME(14,0,0),TIME(24,0,0),D10,E10),\"\")","v":""},{"$f":"IF(OR(C10<>\"\",WEEKDAY(A10,2)=7),ColTime(TIME(0,0,0),TIME(24,0,0),D10,E10),\"\")","v":""},"04:30:00",null,null,{"$f":"CHOOSE(WEEKDAY(A10,2),[1]norm!C$1,[1]norm!C$2,[1]norm!C$3,[1]norm!C$4,[1]norm!C$5,[1]norm!C$6,[1]norm!C$7)","v":"07:30:00"},null,null,7,0,"07:00:00",19,0,"19:00:00"]
[{"$f":"A10+1","v":"2019-01-08"},{"$f":"PROPER(TEXT(A11,\"ddd\"))","v":"Ti"},{"$f":"HelligdagsNavn(A11,0,0)","v":""},null,null,null,"","00:00:00","",{"$f":"ColTime([1]T.!$J$3,[1]T.!$L$3,D11,E11)","v":"00:00:00"},null,{"$f":"ColTime(TIME([1]T.!$J$4,0,0),TIME([1]T.!$L$4,0,0),D11,E11)","v":"00:00:00"},null,{"$f":"IF(WEEKDAY(A11,2)=6,ColTime(TIME(15,0,0),TIME(24,0,0),D11,E11),\"\")","v":""},"","",null,null,{"$f":"CHOOSE(WEEKDAY(A11,2),[1]norm!C$1,[1]norm!C$2,[1]norm!C$3,[1]norm!C$4,[1]norm!C$5,[1]norm!C$6,[1]norm!C$7)","v":"07:30:00"},null,null,"","","","","",""]
[{"$f":"A11+1","v":"2019-01-09"},{"$f":"PROPER(TEXT(A12,\"ddd\"))","v":"On"},{"$f":"HelligdagsNavn(A12,0,0)","v":""},null,null,null,"","00:00:00","",{"$f":"ColTime([1]T.!$J$3,[1]T.!$L$3,D12,E12)","v":"00:00:00"},null,{"$f":"ColTime(TIME([1]T.!$J$4,0,0),TIME([1]T.!$L$4,0,0),D12,E12)","v":"00:00:00"},null,"","","",null,null,{"$f":"CHOOSE(WEEKDAY(A12,2),[1]norm!C$1,[1]norm!C$2,[1]norm!C$3,[1]norm!C$4,[1]norm!C$5,[1]norm!C$6,[1]norm!C$7)","v":"07:30:00"},null,null,"","","","","",""]
[{"$f":"A12+1","v":"2019-01-10"},{"$f":"PROPER(TEXT(A13,\"ddd\"))","v":"To"},"",null,null,null,"","00:00:00","",{"$f":"ColTime([1]T.!$J$3,[1]T.!$L$3,D13,E13)","v":"00:00:00"},null,{"$f":"ColTime(TIME([1]T.!$J$4,0,0),TIME([1]T.!$L$4,0,0),D13,E13)","v":"00:00:00"},null,"","","",null,null,{"$f":"CHOOSE(WEEKDAY(A13,2),[1]norm!C$1,[1]norm!C$2,[1]norm!C$3,[1]norm!C$4,[1]norm!C$5,[1]norm!C$6,[1]norm!C$7)","v":"07:30:00"},null,null,"","","","","",""]
["2019-01-11","Fr","",null,null,null,"","00:00:00","",{"$f":"ColTime([1]T.!$J$3,[1]T.!$L$3,D14,E14)","v":"00:00:00"},null,{"$f":"ColTime(TIME([1]T.!$J$4,0,0),TIME([1]T.!$L$4,0,0),D14,E14)","v":"00:00:00"},null,"","","",null,null,{"$f":"CHOOSE(WEEKDAY(A14,2),[1]norm!C$1,[1]norm!C$2,[1]norm!C$3,[1]norm!C$4,[1]norm!C$5,[1]norm!C$6,[1]norm!C$7)","v":"07:00:00"},null,null,"","","","","",""]
["2019-01-12","Lø","",null,null,null,"","00:00:00","",{"$f":"ColTime([1]T.!$J$3,[1]T.!$L$3,D15,E15)","v":"00:00:00"},null,{"$f":"ColTime(TIME([1]T.!$J$4,0,0),TIME([1]T.!$L$4,0,0),D15,E15)","v":"00:00:00"},null,"00:00:00","","",null,null,{"$f":"CHOOSE(WEEKDAY(A15,2),[1]norm!C$1,[1]norm!C$2,[1]norm!C$3,[1]norm!C$4,[1]norm!C$5,[1]norm!C$6,[1]norm!C$7)","v":"00:00:00"},null,null,"","","","","",""]
["2019-01-13","Sø","",null,null,null,"","00:00:00","",{"$f":"ColTime([1]T.!$J$3,[1]T.!$L$3,D16,E16)","v":"00:00:00"},null,{"$f":"ColTime(TIME([1]T.!$J$4,0,0),TIME([1]T.!$L$4,0,0),D16,E16)","v":"00:00:00"},null,"","00:00:00","",null,null,{"$f":"CHOOSE(WEEKDAY(A16,2),[1]norm!C$1,[1]norm!C$2,[1]norm!C$3,[1]norm!C$4,[1]norm!C$5,[1]norm!C$6,[1]norm!C$7)","v":"00:00:00"},null,null,"","","","","",""]
["2019-01-14","Ma","",null,null,null,"","00:00:00","",{"$f":"ColTime([1]T.!$J$3,[1]T.!$L$3,D17,E17)","v":"00:00:00"},null,{"$f":"ColTime(TIME([1]T.!$J$4,0,0),TIME([1]T.!$L$4,0,0),D17,E17)","v":"00:00:00"},null,"","","",null,null,{"$f":"CHOOSE(WEEKDAY(A17,2),[1]norm!C$1,[1]norm!C$2,[1]norm!C$3,[1]norm!C$4,[1]norm!C$5,[1]norm!C$6,[1]norm!C$7)","v":"07:30:00"},null,null,"","","","","",""]
[{"$f":"A17+1","v":"2019-01-15"},{"$f":"PROPER(TEXT(A18,\"ddd\"))","v":"Ti"},{"$f":"HelligdagsNavn(A18,0,0)","v":""},null,null,null,"","00:00:00","",{"$f":"ColTime([1]T.!$J$3,[1]T.!$L$3,D18,E18)","v":"00:00:00"},null,{"$f":"ColTime(TIME([1]T.!$J$4,0,0),TIME([1]T.!$L$4,0,0),D18,E18)","v":"00:00:00"},null,"","","",null,null,{"$f":"CHOOSE(WEEKDAY(A18,2),[1]norm!C$1,[1]norm!C$2,[1]norm!C$3,[1]norm!C$4,[1]norm!C$5,[1]norm!C$6,[1]norm!C$7)","v":"07:30:00"},null,null,"","","","","",""]
[{"$f":"A18+1","v":"2019-01-16"},{"$f":"PROPER(TEXT(A19,\"ddd\"))","v":"On"},{"$f":"HelligdagsNavn(A19,0,0)","v":""},null,null,null,"","00:00:00","",{"$f":"ColTime([1]T.!$J$3,[1]T.!$L$3,D19,E19)","v":"00:00:00"},null,{"$f":"ColTime(TIME([1]T.!$J$4,0,0),TIME([1]T.!$L$4,0,0),D19,E19)","v":"00:00:00"},null,"","","",null,null,{"$f":"CHOOSE(WEEKDAY(A19,2),[1]norm!C$1,[1]norm!C$2,[1]norm!C$3,[1]norm!C$4,[1]norm!C$5,[1]norm!C$6,[1]norm!C$7)","v":"07:30:00"},null,null,"","","","","",""]
[{"$f":"A19+1","v":"2019-01-17"},{"$f":"PROPER(TEXT(A20,\"ddd\"))","v":"To"},"",null,null,null,"","00:00:00","",{"$f":"ColTime([1]T.!$J$3,[1]T.!$L$3,D20,E20)","v":"00:00:00"},null,{"$f":"ColTime(TIME([1]T.!$J$4,0,0),TIME([1]T.!$L$4,0,0),D20,E20)","v":"00:00:00"},null,"","","",null,null,{"$f":"CHOOSE(WEEKDAY(A20,2),[1]norm!C$1,[1]norm!C$2,[1]norm!C$3,[1]norm!C$4,[1]norm!C$5,[1]norm!C$6,[1]norm!C$7)","v":"07:30:00"},null,null,"","","","","",""]
["2019-01-18","Fr","",null,null,null,"","00:00:00","",{"$f":"ColTime([1]T.!$J$3,[1]T.!$L$3,D21,E21)","v":"00:00:00"},null,{"$f":"ColTime(TIME([1]T.!$J$4,0,0),TIME([1]T.!$L$4,0,0),D21,E21)","v":"00:00:00"},null,"","","",null,null,{"$f":"CHOOSE(WEEKDAY(A21,2),[1]norm!C$1,[1]norm!C$2,[1]norm!C$3,[1]norm!C$4,[1]norm!C$5,[1]norm!C$6,[1]norm!C$7)","v":"07:00:00"},null,null,"","","","","",""]
["2019-01-19","Lø","",null,null,null,"","00:00:00","",{"$f":"ColTime([1]T.!$J$3,[1]T.!$L$3,D22,E22)","v":"00:00:00"},null,{"$f":"ColTime(TIME([1]T.!$J$4,0,0),TIME([1]T.!$L$4,0,0),D22,E22)","v":"00:00:00"},null,"00:00:00","","",null,null,{"$f":"CHOOSE(WEEKDAY(A22,2),[1]norm!C$1,[1]norm!C$2,[1]norm!C$3,[1]norm!C$4,[1]norm!C$5,[1]norm!C$6,[1]norm!C$7)","v":"00:00:00"},null,null,"","","","","",""]
["2019-01-20","Sø","",null,null,null,"","00:00:00","",{"$f":"ColTime([1]T.!$J$3,[1]T.!$L$3,D23,E23)","v":"00:00:00"},null,{"$f":"ColTime(TIME([1]T.!$J$4,0,0),TIME([1]T.!$L$4,0,0),D23,E23)","v":"00:00:00"},null,"","00:00:00","",null,null,{"$f":"CHOOSE(WEEKDAY(A23,2),[1]norm!C$1,[1]norm!C$2,[1]norm!C$3,[1]norm!C$4,[1]norm!C$5,[1]norm!C$6,[1]norm!C$7)","v":"00:00:00"},null,null,"","","","","",""]
["2019-01-21","Ma","",null,null,null,"","00:00:00","",{"$f":"ColTime([1]T.!$J$3,[1]T.!$L$3,D24,E24)","v":"00:00:00"},null,{"$f":"ColTime(TIME([1]T.!$J$4,0,0),TIME([1]T.!$L$4,0,0),D24,E24)","v":"00:00:00"},null,"","","",null,null,{"$f":"CHOOSE(WEEKDAY(A24,2),[1]norm!C$1,[1]norm!C$2,[1]norm!C$3,[1]norm!C$4,[1]norm!C$5,[1]norm!C$6,[1]norm!C$7)","v":"07:30:00"},null,null,"","","","","",""]
[{"$f":"A24+1","v":"2019-01-22"},{"$f":"PROPER(TEXT(A25,\"ddd\"))","v":"Ti"},{"$f":"HelligdagsNavn(A25,0,0)","v":""},null,null,null,"","00:00:00","",{"$f":"ColTime([1]T.!$J$3,[1]T.!$L$3,D25,E25)","v":"00:00:00"},null,{"$f":"ColTime(TIME([1]T.!$J$4,0,0),TIME([1]T.!$L$4,0,0),D25,E25)","v":"00:00:00"},null,"","","",null,null,{"$f":"CHOOSE(WEEKDAY(A25,2),[1]norm!C$1,[1]norm!C$2,[1]norm!C$3,[1]norm!C$4,[1]norm!C$5,[1]norm!C$6,[1]norm!C$7)","v":"07:30:00"},null,null,"","","","","",""]
[{"$f":"A25+1","v":"2019-01-23"},{"$f":"PROPER(TEXT(A26,\"ddd\"))","v":"On"},{"$f":"HelligdagsNavn(A26,0,0)","v":""},null,null,null,"","00:00:00","",{"$f":"ColTime([1]T.!$J$3,[1]T.!$L$3,D26,E26)","v":"00:00:00"},null,{"$f":"ColTime(TIME([1]T.!$J$4,0,0),TIME([1]T.!$L$4,0,0),D26,E26)","v":"00:00:00"},null,"","","",null,null,{"$f":"CHOOSE(WEEKDAY(A26,2),[1]norm!C$1,[1]norm!C$2,[1]norm!C$3,[1]norm!C$4,[1]norm!C$5,[1]norm!C$6,[1]norm!C$7)","v":"07:30:00"},null,null,"","","","","",""]
[{"$f":"A26+1","v":"2019-01-24"},{"$f":"PROPER(TEXT(A27,\"ddd\"))","v":"To"},"",null,null,null,"","00:00:00","",{"$f":"ColTime([1]T.!$J$3,[1]T.!$L$3,D27,E27)","v":"00:00:00"},null,{"$f":"ColTime(TIME([1]T.!$J$4,0,0),TIME([1]T.!$L$4,0,0),D27,E27)","v":"00:00:00"},null,"","","",null,null,{"$f":"CHOOSE(WEEKDAY(A27,2),[1]norm!C$1,[1]norm!C$2,[1]norm!C$3,[1]norm!C$4,[1]norm!C$5,[1]norm!C$6,[1]norm!C$7)","v":"07:30:00"},null,null,"","","","","",""]
["2019-01-25","Fr","",null,null,null,"","00:00:00","",{"$f":"ColTime([1]T.!$J$3,[1]T.!$L$3,D28,E28)","v":"00:00:00"},null,{"$f":"ColTime(TIME([1]T.!$J$4,0,0),TIME([1]T.!$L$4,0,0),D28,E28)","v":"00:00:00"},null,"","","",null,null,{"$f":"CHOOSE(WEEKDAY(A28,2),[1]norm!C$1,[1]norm!C$2,[1]norm!C$3,[1]norm!C$4,[1]norm!C$5,[1]norm!C$6,[1]norm!C$7)","v":"07:00:00"},null,null,"","","","","",""]
["2019-01-26","Lø","",null,null,null,"","00:00:00","",{"$f":"ColTime([1]T.!$J$3,[1]T.!$L$3,D29,E29)","v":"00:00:00"},null,{"$f":"ColTime(TIME([1]T.!$J$4,0,0),TIME([1]T.!$L$4,0,0),D29,E29)","v":"00:00:00"},null,"00:00:00","","",null,null,{"$f":"CHOOSE(WEEKDAY(A29,2),[1]norm!C$1,[1]norm!C$2,[1]norm!C$3,[1]norm!C$4,[1]norm!C$5,[1]norm!C$6,[1]norm!C$7)","v":"00:00:00"}]
["2019-01-27","Sø","",null,null,null,"","00:00:00","",{"$f":"ColTime([1]T.!$J$3,[1]T.!$L$3,D30,E30)","v":"00:00:00"},null,{"$f":"ColTime(TIME([1]T.!$J$4,0,0),TIME([1]T.!$L$4,0,0),D30,E30)","v":"00:00:00"},null,"","00:00:00","",null,null,{"$f":"CHOOSE(WEEKDAY(A30,2),[1]norm!C$1,[1]norm!C$2,[1]norm!C$3,[1]norm!C$4,[1]norm!C$5,[1]norm!C$6,[1]norm!C$7)","v":"00:00:00"}]
["2019-01-28","Ma","",null,null,null,"","00:00:00","",{"$f":"ColTime([1]T.!$J$3,[1]T.!$L$3,D31,E31)","v":"00:00:00"},null,{"$f":"ColTime(TIME([1]T.!$J$4,0,0),TIME([1]T.!$L$4,0,0),D31,E31)","v":"00:00:00"},null,"","","",null,null,{"$f":"CHOOSE(WEEKDAY(A31,2),[1]norm!C$1,[1]norm!C$2,[1]norm!C$3,[1]norm!C$4,[1]norm!C$5,[1]norm!C$6,[1]norm!C$7)","v":"07:30:00"}]
[{"$f":"IFERROR(IF(MONTH(A31+1)>MONTH(A31),\"\",A31+1),\"\")","v":"2019-01-29"},"Ti",{"$f":"IF(A32=\"\",\"\",HelligdagsNavn(A32,0,0))","v":""},null,null,null,"","00:00:00","",{"$f":"ColTime([1]T.!$J$3,[1]T.!$L$3,D32,E32)","v":"00:00:00"},null,{"$f":"ColTime(TIME([1]T.!$J$4,0,0),TIME([1]T.!$L$4,0,0),D32,E32)","v":"00:00:00"},null,{"$f":"IFERROR(IF(WEEKDAY(A32,2)=6,ColTime(TIME(15,0,0),TIME(24,0,0),D32,E32),\"\"),\"\")","v":""},{"$f":"IFERROR(IF(OR(C32<>\"\",WEEKDAY(A32,2)=7),ColTime(TIME(0,0,0),TIME(24,0,0),D32,E32),\"\"),\"\")","v":""},"",null,null,{"$f":"IFERROR(CHOOSE(WEEKDAY(A32,2),[1]norm!C$1,[1]norm!C$2,[1]norm!C$3,[1]norm!C$4,[1]norm!C$5,[1]norm!C$6,[1]norm!C$7),\"\")","v":"07:30:00"}]
[{"$f":"IFERROR(IF(MONTH(A32+1)>MONTH(A32),\"\",A32+1),\"\")","v":"2019-01-30"},"On","",null,null,null,"","00:00:00","",{"$f":"ColTime([1]T.!$J$3,[1]T.!$L$3,D33,E33)","v":"00:00:00"},null,{"$f":"ColTime(TIME([1]T.!$J$4,0,0),TIME([1]T.!$L$4,0,0),D33,E33)","v":"00:00:00"},null,{"$f":"IFERROR(IF(WEEKDAY(A33,2)=6,ColTime(TIME(15,0,0),TIME(24,0,0),D33,E33),\"\"),\"\")","v":""},{"$f":"IFERROR(IF(OR(C33<>\"\",WEEKDAY(A33,2)=7),ColTime(TIME(0,0,0),TIME(24,0,0),D33,E33),\"\"),\"\")","v":""},"",null,null,{"$f":"IFERROR(CHOOSE(WEEKDAY(A33,2),[1]norm!C$1,[1]norm!C$2,[1]norm!C$3,[1]norm!C$4,[1]norm!C$5,[1]norm!C$6,[1]norm!C$7),\"\")","v":"07:30:00"}]
[{"$f":"IFERROR(IF(MONTH(A33+1)>MONTH(A33),\"\",A33+1),\"\")","v":"2019-01-31"},{"$f":"IFERROR(PROPER(TEXT(A34,\"ddd\")),\"\")","v":"To"},{"$f":"IF(A34=\"\",\"\",HelligdagsNavn(A34,0,0))","v":""},null,null,null,"","00:00:00","",{"$f":"ColTime([1]T.!$J$3,[1]T.!$L$3,D34,E34)","v":"00:00:00"},null,{"$f":"ColTime(TIME([1]T.!$J$4,0,0),TIME([1]T.!$L$4,0,0),D34,E34)","v":"00:00:00"},null,"","","",null,null,{"$f":"IFERROR(CHOOSE(WEEKDAY(A34,2),[1]norm!C$1,[1]norm!C$2,[1]norm!C$3,[1]norm!C$4,[1]norm!C$5,[1]norm!C$6,[1]norm!C$7),\"\")","v":"07:30:00"},null,null,{"$f":"IF(D34=\"\",\"\",HOUR(D34))","v":""},{"$f":"IF(D34=\"\",\"\",MINUTE(D34))","v":""},{"$f":"IF(D34=\"\",\"\",TIME(HOUR(D34),MINUTE(D34),0))","v":""},{"$f":"IF(E34=\"\",\"\",HOUR(E34))","v":""},{"$f":"IF(E34=\"\",\"\",MINUTE(E34))","v":""},{"$f":"IF(E34=\"\",\"\",TIME(HOUR(E34),MINUTE(E34),0))","v":""}]
["Total timer",null,null,null,null,null,{"$f":"IF(SUM(G9:G34)<>\"0\",SUM(G4:G34),\"\")","v":2.4479166666666665},{"$f":"IF(SUM(H4:H34)<>\"0\",SUM(H4:H34),\"\")","v":0.29166666666666663},{"$f":"IF(SUM(I4:I34)<>\"0\",SUM(I4:I34),\"\")","v":0.63541666666666652},{"$f":"IF(SUM(J4:J34)<>\"0\",SUM(J4:J34),\"\")","v":0.27083333333333337},null,{"$f":"SUM(L4:M34)","v":"07:45:00"},null,{"$f":"IF(SUM(N4:N34)<>\"0\",SUM(N4:N34),\"\")","v":0},{"$f":"IF(SUM(O4:O34)<>\"0\",SUM(O4:O34),\"\")","v":"22:00:00"},{"$f":"SUM(P4:P34)","v":0.88541666666666652},{"$f":"SUM(Q4:Q34)","v":0}]
["Timer 1/100",null,null,null,null,null,{"$f":"IF(G35<>\"\",ROUND(G35*24,2),\"\")","v":58.75},{"$f":"IF(H35<>\"\",ROUND(H35*24,2),\"\")","v":7},15.25,{"$f":"IF(J35<>\"\",ROUND(J35*24,2),\"\")","v":6.5},null,{"$f":"IF(L35<>\"\",ROUND(L35*24,2),\"\")","v":7.75},null,{"$f":"IF(N35<>\"\",ROUND(N35*24,2),\"\")","v":0},22,21.25,0]
["Satser",null,null,null,null,null,{"$f":"[1]Satser!B7","v":107.35},{"$f":"[1]Satser!B9","v":36.35},{"$f":"[1]Satser!B12","v":58.1},{"$f":"[1]Satser!B17","v":25.6},null,{"$f":"[1]Satser!B18","v":34.200000000000003},null,{"$f":"[1]Satser!B19","v":45.1},{"$f":"[1]Satser!B20","v":50.6}]
[null,null,null,null,null,null,{"$f":"IF(G35<>\"\",G36*G37,\"\")","v":6306.8125},{"$f":"IF(H35<>\"\",H36*H37,\"\")","v":254.45000000000002},886.02499999999998,{"$f":"IF(J35<>\"\",J36*J37,\"\")","v":166.4},null,{"$f":"IF(L35<>\"\",L36*L36,\"\")","v":60.0625},null,{"$f":"IF(N35<>\"\",N36*N37,\"\")","v":0},1113.2]
[]
["Lønart"]
[3025,null,null,null,null,null,{"$f":"G35","v":2.4479166666666665}]
[3425,null,null,null,null,null,{"$f":"H35","v":0.29166666666666663}]
[3428,null,null,null,null,null,{"$f":"I35","v":0.63541666666666652}]
["Timer",null,null,null,null,null,{"$f":"SUM(G41:G43)","v":3.3749999999999996},{"$f":"IF(G44<>\"\",ROUND(G44*24,2),\"\")","v":81}]
[null,null,null,null,null,null,null,{"$f":"G37*H44","v":8695.35}]

{"sheet":"Hele året","index":1,"n_rows":380,"n_cols":35,"rows_kept":380,"cut":false,"hidden":false,"merged":[[0,1,0,7],[0,10,0,11],[1,1,1,2],[1,9,1,10],[1,11,1,12],[2,1,2,2],[2,9,2,10],[2,11,2,12],[6,9,6,10],[6,11,6,12],[7,9,7,10],[7,11,7,12],[8,9,8,10],[8,11,8,12],[3,9,3,10],[3,11,3,12],[4,9,4,10],[4,11,4,12],[5,9,5,10],[5,11,5,12],[12,9,12,10],[12,11,12,12],[13,9,13,10],[13,11,13,12],[14,9,14,10],[14,11,14,12],[9,9,9,10],[9,11,9,12],[10,9,10,10],[10,11,10,12],[11,9,11,10],[11,11,11,12],[18,9,18,10],[18,11,18,12],[19,9,19,10],[19,11,19,12],[20,9,20,10],[20,11,20,12],[15,9,15,10],[15,11,15,12],[16,9,16,10],[16,11,16,12],[17,9,17,10],[17,11,17,12],[24,9,24,10],[24,11,24,12],[25,9,25,10],[25,11,25,12],[26,9,26,10],[26,11,26,12],[21,9,21,10],[21,11,21,12],[22,9,22,10],[22,11,22,12],[23,9,23,10],[23,11,23,12],[30,9,30,10],[30,11,30,12],[31,9,31,10],[31,11,31,12],[32,9,32,10],[32,11,32,12],[27,9,27,10],[27,11,27,12],[28,9,28,10],[28,11,28,12],[29,9,29,10],[29,11,29,12],[378,0,378,5],[0,13,0,14],[34,9,34,10],[34,11,34,12],[35,9,35,10],[35,11,35,12],[36,9,36,10],[36,11,36,12],[37,9,37,10],[37,11,37,12],[372,9,372,10],[372,11,372,12],[374,0,374,2],[375,0,375,2],[376,0,376,2],[377,0,377,2],[369,9,369,10],[369,11,369,12],[370,9,370,10],[370,11,370,12],[371,9,371,10],[371,11,371,12],[33,9,33,10],[33,11,33,12],[41,9,41,10],[41,11,41,12],[42,9,42,10],[42,11,42,12],[43,9,43,10],[43,11,43,12],[38,9,38,10],[38,11,38,12],[39,9,39,10],[39,11,39,12],[40,9,40,10],[40,11,40,12],[47,9,47,10],[47,11,47,12],[48,9,48,10],[48,11,48,12],[49,9,49,10],[49,11,49,12],[44,9,44,10],[44,11,44,12],[45,9,45,10],[45,11,45,12],[46,9,46,10],[46,11,46,12],[53,9,53,10],[53,11,53,12],[54,9,54,10],[54,11,54,12],[55,9,55,10],[55,11,55,12],[50,9,50,10],[50,11,50,12],[51,9,51,10],[51,11,51,12],[52,9,52,10],[52,11,52,12],[59,9,59,10],[59,11,59,12],[60,9,60,10],[60,11,60,12],[61,9,61,10],[61,11,61,12],[56,9,56,10],[56,11,56,12],[57,9,57,10],[57,11,57,12],[58,9,58,10],[58,11,58,12],[65,9,65,10],[65,11,65,12],[66,9,66,10],[66,11,66,12],[67,9,67,10],[67,11,67,12],[62,9,62,10],[62,11,62,12],[63,9,63,10],[63,11,63,12],[64,9,64,10],[64,11,64,12],[71,9,71,10],[71,11,71,12],[72,9,72,10],[72,11,72,12],[73,9,73,10],[73,11,73,12],[68,9,68,10],[68,11,68,12],[69,9,69,10],[69,11,69,12],[70,9,70,10],[70,11,70,12],[77,9,77,10],[77,11,77,12],[78,9,78,10],[78,11,78,12],[79,9,79,10],[79,11,79,12],[74,9,74,10],[74,11,74,12],[75,9,75,10],[75,11,75,12],[76,9,76,10],[76,11,76,12],[83,9,83,10],[83,11,83,12],[84,9,84,10],[84,11,84,12],[85,9,85,10],[85,11,85,12],[80,9,80,10],[80,11,80,12],[81,9,81,10],[81,11,81,12],[82,9,82,10],[82,11,82,12],[89,9,89,10],[89,11,89,12],[90,9,90,10],[90,11,90,12],[91,9,91,10],[91,11,91,12],[86,9,86,10],[86,11,86,12],[87,9,87,10],[87,11,87,12],[88,9,88,10],[88,11,88,12],[95,9,95,10],[95,11,95,12],[96,9,96,10],[96,11,96,12],[97,9,97,10],[97,11,97,12],[92,9,92,10],[92,11,92,12],[93,9,93,10],[93,11,93,12],[94,9,94,10],[94,11,94,12],[101,9,101,10],[101,11,101,12],[102,9,102,10],[102,11,102,12],[103,9,103,10],[103,11,103,12],[98,9,98,10],[98,11,98,12],[99,9,99,10],[99,11,99,12],[100,9,100,10],[100,11,100,12],[107,9,107,10],[107,11,107,12],[108,9,108,10],[108,11,108,12],[109,9,109,10],[109,11,109,12],[104,9,104,10],[104,11,104,12],[105,9,105,10],[105,11,105,12],[106,9,106,10],[106,11,106,12],[113,9,113,10],[113,11,113,12],[114,9,114,10],[114,11,114,12],[115,9,115,10],[115,11,115,12],[110,9,110,10],[110,11,110,12],[111,9,111,10],[111,11,111,12],[112,9,112,10],[112,11,112,12],[119,9,119,10],[119,11,119,12],[120,9,120,10],[120,11,120,12],[121,9,121,10],[121,11,121,12],[116,9,116,10],[116,11,116,12],[117,9,117,10],[117,11,117,12],[118,9,118,10],[118,11,118,12],[125,9,125,10],[125,11,125,12],[126,9,126,10],[126,11,126,12],[127,9,127,10],[127,11,127,12],[122,9,122,10],[122,11,122,12],[123,9,123,10],[123,11,123,12],[124,9,124,10],[124,11,124,12],[131,9,131,10],[131,11,131,12],[132,9,132,10],[132,11,132,12],[133,9,133,10],[133,11,133,12],[128,9,128,10],[128,11,128,12],[129,9,129,10],[129,11,129,12],[130,9,130,10],[130,11,130,12],[137,9,137,10],[137,11,137,12],[138,9,138,10],[138,11,138,12],[139,9,139,10],[139,11,139,12],[134,9,134,10],[134,11,134,12],[135,9,135,10],[135,11,135,12],[136,9,136,10],[136,11,136,12],[143,9,143,10],[143,11,143,12],[144,9,144,10],[144,11,144,12],[145,9,145,10],[145,11,145,12],[140,9,140,10],[140,11,140,12],[141,9,141,10],[141,11,141,12],[142,9,142,10],[142,11,142,12],[149,9,149,10],[149,11,149,12],[150,9,150,10],[150,11,150,12],[151,9,151,10],[151,11,151,12],[146,9,146,10],[146,11,146,12],[147,9,147,10],[147,11,147,12],[148,9,148,10],[148,11,148,12],[155,9,155,10],[155,11,155,12],[156,9,156,10],[156,11,156,12],[157,9,157,10],[157,11,157,12],[152,9,152,10],[152,11,152,12],[153,9,153,10],[153,11,153,12],[154,9,154,10],[154,11,154,12],[161,9,161,10],[161,11,161,12],[162,9,162,10],[162,11,162,12],[163,9,163,10],[163,11,163,12],[158,9,158,10],[158,11,158,12],[159,9,159,10],[159,11,159,12],[160,9,160,10],[160,11,160,12],[167,9,167,10],[167,11,167,12],[168,9,168,10],[168,11,168,12],[169,9,169,10],[169,11,169,12],[164,9,164,10],[164,11,164,12],[165,9,165,10],[165,11,165,12],[166,9,166,10],[166,11,166,12],[173,9,173,10],[173,11,173,12],[174,9,174,10],[174,11,174,12],[175,9,175,10],[175,11,175,12],[170,9,170,10],[170,11,170,12],[171,9,171,10],[171,11,171,12],[172,9,172,10],[172,11,172,12],[179,9,179,10],[179,11,179,12],[180,9,180,10],[180,11,180,12],[181,9,181,10],[181,11,181,12],[176,9,176,10],[176,11,176,12],[177,9,177,10],[177,11,177,12],[178,9,178,10],[178,11,178,12],[185,9,185,10],[185,11,185,12],[186,9,186,10],[186,11,186,12],[187,9,187,10],[187,11,187,12],[182,9,182,10],[182,11,182,12],[183,9,183,10],[183,11,183,12],[184,9,184,10],[184,11,184,12],[191,9,191,10],[191,11,191,12],[192,9,192,10],[192,11,192,12],[193,9,193,10],[193,11,193,12],[188,9,188,10],[188,11,188,12],[189,9,189,10],[189,11,189,12],[190,9,190,10],[190,11,190,12],[197,9,197,10],[197,11,197,12],[198,9,198,10],[198,11,198,12],[199,9,199,10],[199,11,199,12],[194,9,194,10],[194,11,194,12],[195,9,195,10],[195,11,195,12],[196,9,196,10],[196,11,196,12],[203,9,203,10],[203,11,203,12],[204,9,204,10],[204,11,204,12],[205,9,205,10],[205,11,205,12],[200,9,200,10],[200,11,200,12],[201,9,201,10],[201,11,201,12],[202,9,202,10],[202,11,202,12],[209,9,209,10],[209,11,209,12],[210,9,210,10],[210,11,210,12],[211,9,211,10],[211,11,211,12],[206,9,206,10],[206,11,206,12],[207,9,207,10],[207,11,207,12],[208,9,208,10],[208,11,208,12],[215,9,215,10],[215,11,215,12],[216,9,216,10],[216,11,216,12],[217,9,217,10],[217,11,217,12],[212,9,212,10],[212,11,212,12],[213,9,213,10],[213,11,213,12],[214,9,214,10],[214,11,214,12],[221,9,221,10],[221,11,221,12],[222,9,222,10],[222,11,222,12],[223,9,223,10],[223,11,223,12],[218,9,218,10],[218,11,218,12],[219,9,219,10],[219,11,219,12],[220,9,220,10],[220,11,220,12],[227,9,227,10],[227,11,227,12],[228,9,228,10],[228,11,228,12],[229,9,229,10],[229,11,229,12],[224,9,224,10],[224,11,224,12],[225,9,225,10],[225,11,225,12],[226,9,226,10],[226,11,226,12],[233,9,233,10],[233,11,233,12],[234,9,234,10],[234,11,234,12],[235,9,235,10],[235,11,235,12],[230,9,230,10],[230,11,230,12],[231,9,231,10],[231,11,231,12],[232,9,232,10],[232,11,232,12],[239,9,239,10],[239,11,239,12],[240,9,240,10],[240,11,240,12],[241,9,241,10],[241,11,241,12],[236,9,236,10],[236,11,236,12],[237,9,237,10],[237,11,237,12],[238,9,238,10],[238,11,238,12],[245,9,245,10],[245,11,245,12],[246,9,246,10],[246,11,246,12],[247,9,247,10],[247,11,247,12],[242,9,242,10],[242,11,242,12],[243,9,243,10],[243,11,243,12],[244,9,244,10],[244,11,244,12],[251,9,251,10],[251,11,251,12],[252,9,252,10],[252,11,252,12],[253,9,253,10],[253,11,253,12],[248,9,248,10],[248,11,248,12],[249,9,249,10],[249,11,249,12],[250,9,250,10],[250,11,250,12],[257,9,257,10],[257,11,257,12],[258,9,258,10],[258,11,258,12],[259,9,259,10],[259,11,259,12],[254,9,254,10],[254,11,254,12],[255,9,255,10],[255,11,255,12],[256,9,256,10],[256,11,256,12],[263,9,263,10],[263,11,263,12],[264,9,264,10],[264,11,264,12],[265,9,265,10],[265,11,265,12],[260,9,260,10],[260,11,260,12],[261,9,261,10],[261,11,261,12],[262,9,262,10],[262,11,262,12],[269,9,269,10],[269,11,269,12],[270,9,270,10],[270,11,270,12],[271,9,271,10],[271,11,271,12],[266,9,266,10],[266,11,266,12],[267,9,267,10],[267,11,267,12],[268,9,268,10],[268,11,268,12],[275,9,275,10],[275,11,275,12],[276,9,276,10],[276,11,276,12],[277,9,277,10],[277,11,277,12],[272,9,272,10],[272,11,272,12],[273,9,273,10],[273,11,273,12],[274,9,274,10],[274,11,274,12],[281,9,281,10],[281,11,281,12],[282,9,282,10],[282,11,282,12],[283,9,283,10],[283,11,283,12],[278,9,278,10],[278,11,278,12],[279,9,279,10],[279,11,279,12],[280,9,280,10],[280,11,280,12],[287,9,287,10],[287,11,287,12],[288,9,288,10],[288,11,288,12],[289,9,289,10],[289,11,289,12],[284,9,284,10],[284,11,284,12],[285,9,285,10],[285,11,285,12],[286,9,286,10],[286,11,286,12],[293,9,293,10],[293,11,293,12],[294,9,294,10],[294,11,294,12],[295,9,295,10],[295,11,295,12],[290,9,290,10],[290,11,290,12],[291,9,291,10],[291,11,291,12],[292,9,292,10],[292,11,292,12],[299,9,299,10],[299,11,299,12],[300,9,300,10],[300,11,300,12],[301,9,301,10],[301,11,301,12],[296,9,296,10],[296,11,296,12],[297,9,297,10],[297,11,297,12],[298,9,298,10],[298,11,298,12],[305,9,305,10],[305,11,305,12],[306,9,306,10],[306,11,306,12],[307,9,307,10],[307,11,307,12],[302,9,302,10],[302,11,302,12],[303,9,303,10],[303,11,303,12],[304,9,304,10],[304,11,304,12],[311,9,311,10],[311,11,311,12],[312,9,312,10],[312,11,312,12],[313,9,313,10],[313,11,313,12],[308,9,308,10],[308,11,308,12],[309,9,309,10],[309,11,309,12],[310,9,310,10],[310,11,310,12],[317,9,317,10],[317,11,317,12],[318,9,318,10],[318,11,318,12],[319,9,319,10],[319,11,319,12],[314,9,314,10],[314,11,314,12],[315,9,315,10],[315,11,315,12],[316,9,316,10],[316,11,316,12],[323,9,323,10],[323,11,323,12],[324,9,324,10],[324,11,324,12],[325,9,325,10],[325,11,325,12],[320,9,320,10],[320,11,320,12],[321,9,321,10],[321,11,321,12],[322,9,322,10],[322,11,322,12],[329,9,329,10],[329,11,329,12],[330,9,330,10],[330,11,330,12],[331,9,331,10],[331,11,331,12],[326,9,326,10],[326,11,326,12],[327,9,327,10],[327,11,327,12],[328,9,328,10],[328,11,328,12],[335,9,335,10],[335,11,335,12],[336,9,336,10],[336,11,336,12],[337,9,337,10],[337,11,337,12],[332,9,332,10],[332,11,332,12],[333,9,333,10],[333,11,333,12],[334,9,334,10],[334,11,334,12],[341,9,341,10],[341,11,341,12],[342,9,342,10],[342,11,342,12],[343,9,343,10],[343,11,343,12],[338,9,338,10],[338,11,338,12],[339,9,339,10],[339,11,339,12],[340,9,340,10],[340,11,340,12],[347,9,347,10],[347,11,347,12],[348,9,348,10],[348,11,348,12],[349,9,349,10],[349,11,349,12],[344,9,344,10],[344,11,344,12],[345,9,345,10],[345,11,345,12],[346,9,346,10],[346,11,346,12],[353,9,353,10],[353,11,353,12],[354,9,354,10],[354,11,354,12],[355,9,355,10],[355,11,355,12],[350,9,350,10],[350,11,350,12],[351,9,351,10],[351,11,351,12],[352,9,352,10],[352,11,352,12],[359,9,359,10],[359,11,359,12],[360,9,360,10],[360,11,360,12],[361,9,361,10],[361,11,361,12],[356,9,356,10],[356,11,356,12],[357,9,357,10],[357,11,357,12],[358,9,358,10],[358,11,358,12],[368,9,368,10],[368,11,368,12],[365,9,365,10],[365,11,365,12],[366,9,366,10],[366,11,366,12],[367,9,367,10],[367,11,367,12],[362,9,362,10],[362,11,362,12],[363,9,363,10],[363,11,363,12],[364,9,364,10],[364,11,364,12]]}
["Løn",{"$f":"PROPER(TEXT(A4,\"dd mmmm åååå\")) & PROPER(TEXT(N1,\"  -  dd mmmm åååå\"))","v":"01 Januar 2019  -  31 December 2019"},null,null,null,null,null,null,"Uge :",{"$f":"IF(A4=\"\",\"\",TRUNC((A4-WEEKDAY(A4,2)-DATE(YEAR(A4+4-WEEKDAY(A4,2)),1,-10))/7))","v":1},"-",null,{"$f":"IF(A25=\"\",\"\",TRUNC((A25-WEEKDAY(A25,2)-DATE(YEAR(A25+4-WEEKDAY(A25,2)),1,-10))/7))","v":4},{"$f":"EOMONTH(A364,0)","v":"2019-12-31"},null,1,null,null,null,null,null,"Time beregning:",null,null,null,null,null,null,null,null,null,null,"06:00:00","18:00:00","03:00:00"]
["Lønart",null,null,null,null,null,null,null,null,null,null,null,null,null,null,null,null,null,null,null,null,"Betalt pause ved vagt over 5 timer",null,null,null,"00:25:00","minutter","00:00:00","06:00:00","17:00:00","14:00:00"]
["Dato","Dag",null,"Start","Slut","Pause","Arb. Tid","Overtid           1-3 time","Overtid            4 - time","Forskudt tid alle dage\n18-23",null,"Natarbejde 23-06",null,"Lørdag tillæg 14 - 24","Søndag tillæg 00 - 24","Optjent afspadsering","Afholdt afspadsering","Syge Timer","norm"]
[{"$f":"DATE(T.!$B$1,$P$1,1)","v":"2019-01-01"},{"$f":"PROPER(TEXT(A4,\"ddd\"))","v":"Ti"},{"$f":"HelligdagsNavn(A4,0,0)","v":"Nytårsdag"},null,null,null,{"$f":"IF(D4=\"\",\"\",(E4-D4)+(D4>E4)-F4)","v":""},{"$f":"IF(G4=\"\",0,IF(WEEKDAY(A4,2)=7,0,IF(G4>S4,MIN(G4-S4,$AI$1),0)))","v":"00:00:00"},{"$f":"IF(G4=\"\",\"\",IF(G4>S4+H4,G4-(S4+H4),\"\"))","v":""},{"$f":"ColTime(T.!$J$3,T.!$L$3,D4,E4)","v":"00:00:00"},null,{"$f":"ColTime(TIME(T.!$J$4,0,0),TIME(T.!$L$4,0,0),D4,E4)","v":"00:00:00"},null,{"$f":"IF(WEEKDAY(A4,2)=6,ColTime(TIME(14,0,0),TIME(24,0,0),D4,E4),\"\")","v":""},{"$f":"IF(OR(C4<>\"\",WEEKDAY(A4,2)=7),ColTime(TIME(0,0,0),TIME(24,0,0),D4,E4),\"\")","v":"00:00:00"},{"$f":"IFERROR(H4+I4,\"\")","v":""},null,null,{"$f":"CHOOSE(WEEKDAY(A4,2),norm!C$1,norm!C$2,norm!C$3,norm!C$4,norm!C$5,norm!C$6,norm!C$7)","v":"09:00:00"},null,null,{"$f":"IF(D4=\"\",\"\",HOUR(D4))","v":""},{"$f":"IF(D4=\"\",\"\",MINUTE(D4))","v":""},{"$f":"IF(D4=\"\",\"\",TIME(HOUR(D4),MINUTE(D4),0))","v":""},{"$f":"IF(E4=\"\",\"\",HOUR(E4))","v":""},{"$f":"IF(E4=\"\",\"\",MINUTE(E4))","v":""},"02:00:00","09:30:00","11:30:00",null,null,null,{"$f":"MIN(G4-S4,3)","v":{"$error":"#VALUE!"}}]
[{"$f":"A4+1","v":"2019-01-02"},{"$f":"PROPER(TEXT(A5,\"ddd\"))","v":"On"},{"$f":"HelligdagsNavn(A5,0,0)","v":""},null,null,null,{"$f":"IF(D5=\"\",\"\",(E5-D5)+(D5>E5)-F5)","v":""},{"$f":"IF(G5=\"\",0,IF(WEEKDAY(A5,2)=7,0,IF(G5>S5,MIN(G5-S5,$AI$1),0)))","v":"00:00:00"},{"$f":"IF(G5=\"\",\"\",IF(G5>S5+H5,G5-(S5+H5),\"\"))","v":""},{"$f":"ColTime(T.!$J$3,T.!$L$3,D5,E5)","v":"00:00:00"},null,{"$f":"ColTime(TIME(T.!$J$4,0,0),TIME(T.!$L$4,0,0),D5,E5)","v":"00:00:00"},null,"","",{"$f":"IFERROR(H5+I5,\"\")","v":""},null,null,{"$f":"CHOOSE(WEEKDAY(A5,2),norm!C$1,norm!C$2,norm!C$3,norm!C$4,norm!C$5,norm!C$6,norm!C$7)","v":"09:00:00"},null,null,"","","","","",{"$f":"IF(E5=\"\",\"\",TIME(HOUR(E5),MINUTE(E5),0))","v":""},null,null,null,null,null,null,"Der taste kun i de Gule celler"]
[{"$f":"A5+1","v":"2019-01-03"},{"$f":"PROPER(TEXT(A6,\"ddd\"))","v":"To"},"",null,null,null,"","00:00:00","",{"$f":"ColTime(T.!$J$3,T.!$L$3,D6,E6)","v":"00:00:00"},null,{"$f":"ColTime(TIME(T.!$J$4,0,0),TIME(T.!$L$4,0,0),D6,E6)","v":"00:00:00"},null,"","",{"$f":"IFERROR(H6+I6,\"\")","v":""},null,null,{"$f":"CHOOSE(WEEKDAY(A6,2),norm!C$1,norm!C$2,norm!C$3,norm!C$4,norm!C$5,norm!C$6,norm!C$7)","v":"09:00:00"},null,null,"","","","","",""]
["2019-01-04","Fr","",null,null,null,"","00:00:00","",{"$f":"ColTime(T.!$J$3,T.!$L$3,D7,E7)","v":"00:00:00"},null,{"$f":"ColTime(TIME(T.!$J$4,0,0),TIME(T.!$L$4,0,0),D7,E7)","v":"00:00:00"},null,"","",{"$f":"IFERROR(H7+I7,\"\")","v":""},null,null,{"$f":"CHOOSE(WEEKDAY(A7,2),norm!C$1,norm!C$2,norm!C$3,norm!C$4,norm!C$5,norm!C$6,norm!C$7)","v":"09:00:00"},null,null,"","","","","",""]
["2019-01-05","Lø","",null,null,null,"","00:00:00","",{"$f":"ColTime(T.!$J$3,T.!$L$3,D8,E8)","v":"00:00:00"},null,{"$f":"ColTime(TIME(T.!$J$4,0,0),TIME(T.!$L$4,0,0),D8,E8)","v":"00:00:00"},null,"00:00:00","",{"$f":"IFERROR(H8+I8,\"\")","v":""},null,null,{"$f":"CHOOSE(WEEKDAY(A8,2),norm!C$1,norm!C$2,norm!C$3,norm!C$4,norm!C$5,norm!C$6,norm!C$7)","v":"09:00:00"},null,null,"","","","","",""]
["2019-01-06","Sø","",null,null,null,"","00:00:00","",{"$f":"ColTime(T.!$J$3,T.!$L$3,D9,E9)","v":"00:00:00"},null,{"$f":"ColTime(TIME(T.!$J$4,0,0),TIME(T.!$L$4,0,0),D9,E9)","v":"00:00:00"},null,"",{"$f":"IF(OR(C9<>\"\",WEEKDAY(A9,2)=7),ColTime(TIME(0,0,0),TIME(24,0,0),D9,E9),\"\")","v":"00:00:00"},{"$f":"IFERROR(H9+I9,\"\")","v":""},null,null,{"$f":"CHOOSE(WEEKDAY(A9,2),norm!C$1,norm!C$2,norm!C$3,norm!C$4,norm!C$5,norm!C$6,norm!C$7)","v":"09:00:00"},null,null,"","","","","",""]
["2019-01-07","Ma","","22:00:00","07:00:00",null,{"$f":"IF(D10=\"\",\"\",(E10-D10)+(D10>E10)-F10)","v":0.375},"00:00:00","",{"$f":"ColTime(T.!$J$3,T.!$L$3,D10,E10)","v":"01:00:00"},null,{"$f":"ColTime(TIME(T.!$J$4,0,0),TIME(T.!$L$4,0,0),D10,E10)","v":"07:00:00"},null,{"$f":"IF(WEEKDAY(A10,2)=6,ColTime(TIME(14,0,0),TIME(24,0,0),D10,E10),\"\")","v":""},"","",null,null,{"$f":"CHOOSE(WEEKDAY(A10,2),norm!C$1,norm!C$2,norm!C$3,norm!C$4,norm!C$5,norm!C$6,norm!C$7)","v":"09:00:00"},null,null,{"$f":"IF(D10=\"\",\"\",HOUR(D10))","v":22},{"$f":"IF(D10=\"\",\"\",MINUTE(D10))","v":0},{"$f":"IF(D10=\"\",\"\",TIME(HOUR(D10),MINUTE(D10),0))","v":"22:00:00"},{"$f":"IF(E10=\"\",\"\",HOUR(E10))","v":7},{"$f":"IF(E10=\"\",\"\",MINUTE(E10))","v":0},{"$f":"IF(E10=\"\",\"\",TIME(HOUR(E10),MINUTE(E10),0))","v":"07:00:00"}]
[{"$f":"A10+1","v":"2019-01-08"},{"$f":"PROPER(TEXT(A11,\"ddd\"))","v":"Ti"},{"$f":"HelligdagsNavn(A11,0,0)","v":""},"22:00:00","07:00:00",null,0.375,"00:00:00","",{"$f":"ColTime(T.!$J$3,T.!$L$3,D11,E11)","v":"01:00:00"},null,{"$f":"ColTime(TIME(T.!$J$4,0,0),TIME(T.!$L$4,0,0),D11,E11)","v":"07:00:00"},null,{"$f":"IF(WEEKDAY(A11,2)=6,ColTime(TIME(15,0,0),TIME(24,0,0),D11,E11),\"\")","v":""},"","",null,null,{"$f":"CHOOSE(WEEKDAY(A11,2),norm!C$1,norm!C$2,norm!C$3,norm!C$4,norm!C$5,norm!C$6,norm!C$7)","v":"09:00:00"},null,null,22,0,"22:00:00",7,0,"07:00:00"]
[{"$f":"A11+1","v":"2019-01-09"},{"$f":"PROPER(TEXT(A12,\"ddd\"))","v":"On"},{"$f":"HelligdagsNavn(A12,0,0)","v":""},"22:00:00","07:00:00",null,0.375,"00:00:00","",{"$f":"ColTime(T.!$J$3,T.!$L$3,D12,E12)","v":"01:00:00"},null,{"$f":"ColTime(TIME(T.!$J$4,0,0),TIME(T.!$L$4,0,0),D12,E12)","v":"07:00:00"},null,"","","",null,null,{"$f":"CHOOSE(WEEKDAY(A12,2),norm!C$1,norm!C$2,norm!C$3,norm!C$4,norm!C$5,norm!C$6,norm!C$7)","v":"09:00:00"},null,null,22,0,"22:00:00",7,0,"07:00:00"]
[{"$f":"A12+1","v":"2019-01-10"},{"$f":"PROPER(TEXT(A13,\"ddd\"))","v":"To"},"","22:00:00","07:00:00",null,0.375,"00:00:00","",{"$f":"ColTime(T.!$J$3,T.!$L$3,D13,E13)","v":"01:00:00"},null,{"$f":"ColTime(TIME(T.!$J$4,0,0),TIME(T.!$L$4,0,0),D13,E13)","v":"07:00:00"},null,"","","",null,null,{"$f":"CHOOSE(WEEKDAY(A13,2),norm!C$1,norm!C$2,norm!C$3,norm!C$4,norm!C$5,norm!C$6,norm!C$7)","v":"09:00:00"},null,null,22,0,"22:00:00",7,0,"07:00:00"]
["2019-01-11","Fr","","22:00:00","07:00:00",null,0.375,"00:00:00","",{"$f":"ColTime(T.!$J$3,T.!$L$3,D14,E14)","v":"01:00:00"},null,{"$f":"ColTime(TIME(T.!$J$4,0,0),TIME(T.!$L$4,0,0),D14,E14)","v":"07:00:00"},null,"","","",null,null,{"$f":"CHOOSE(WEEKDAY(A14,2),norm!C$1,norm!C$2,norm!C$3,norm!C$4,norm!C$5,norm!C$6,norm!C$7)","v":"09:00:00"},null,null,22,0,"22:00:00",7,0,"07:00:00"]
["2019-01-12","Lø","","22:00:00","07:00:00",null,0.375,"00:00:00","",{"$f":"ColTime(T.!$J$3,T.!$L$3,D15,E15)","v":"01:00:00"},null,{"$f":"ColTime(TIME(T.!$J$4,0,0),TIME(T.!$L$4,0,0),D15,E15)","v":"07:00:00"},null,"02:00:00","","",null,null,{"$f":"CHOOSE(WEEKDAY(A15,2),norm!C$1,norm!C$2,norm!C$3,norm!C$4,norm!C$5,norm!C$6,norm!C$7)","v":"09:00:00"},null,null,22,0,"22:00:00",7,0,"07:00:00"]
["2019-01-13","Sø","","22:00:00","07:00:00",null,0.375,"00:00:00","",{"$f":"ColTime(T.!$J$3,T.!$L$3,D16,E16)","v":"01:00:00"},null,{"$f":"ColTime(TIME(T.!$J$4,0,0),TIME(T.!$L$4,0,0),D16,E16)","v":"07:00:00"},null,"","09:00:00","",null,null,{"$f":"CHOOSE(WEEKDAY(A16,2),norm!C$1,norm!C$2,norm!C$3,norm!C$4,norm!C$5,norm!C$6,norm!C$7)","v":"09:00:00"},null,null,22,0,"22:00:00",7,0,"07:00:00"]
["2019-01-14","Ma","",null,null,null,"",{"$f":"IF(G17=\"\",0,IF(WEEKDAY(A17,2)=7,0,IF(G17>S17,MIN(G17-S17,$AI$1),0)))","v":"00:00:00"},"",{"$f":"ColTime(T.!$J$3,T.!$L$3,D17,E17)","v":"00:00:00"},null,{"$f":"ColTime(TIME(T.!$J$4,0,0),TIME(T.!$L$4,0,0),D17,E17)","v":"00:00:00"},null,{"$f":"IF(WEEKDAY(A17,2)=6,ColTime(TIME(15,0,0),TIME(24,0,0),D17,E17),\"\")","v":""},{"$f":"IF(OR(C17<>\"\",WEEKDAY(A17,2)=7),ColTime(TIME(0,0,0),TIME(24,0,0),D17,E17),\"\")","v":""},"",null,null,{"$f":"CHOOSE(WEEKDAY(A17,2),norm!C$1,norm!C$2,norm!C$3,norm!C$4,norm!C$5,norm!C$6,norm!C$7)","v":"09:00:00"},null,null,"","","","","",""]
[{"$f":"A17+1","v":"2019-01-15"},{"$f":"PROPER(TEXT(A18,\"ddd\"))","v":"Ti"},{"$f":"HelligdagsNavn(A18,0,0)","v":""},null,null,null,"","00:00:00","",{"$f":"ColTime(T.!$J$3,T.!$L$3,D18,E18)","v":"00:00:00"},null,{"$f":"ColTime(TIME(T.!$J$4,0,0),TIME(T.!$L$4,0,0),D18,E18)","v":"00:00:00"},null,"","","",null,null,{"$f":"CHOOSE(WEEKDAY(A18,2),norm!C$1,norm!C$2,norm!C$3,norm!C$4,norm!C$5,norm!C$6,norm!C$7)","v":"09:00:00"},null,null,"","","","","",""]
[{"$f":"A18+1","v":"2019-01-16"},{"$f":"PROPER(TEXT(A19,\"ddd\"))","v":"On"},{"$f":"HelligdagsNavn(A19,0,0)","v":""},null,null,null,"","00:00:00","",{"$f":"ColTime(T.!$J$3,T.!$L$3,D19,E19)","v":"00:00:00"},null,{"$f":"ColTime(TIME(T.!$J$4,0,0),TIME(T.!$L$4,0,0),D19,E19)","v":"00:00:00"},null,"","","",null,null,{"$f":"CHOOSE(WEEKDAY(A19,2),norm!C$1,norm!C$2,norm!C$3,norm!C$4,norm!C$5,norm!C$6,norm!C$7)","v":"09:00:00"},null,null,"","","","","",""]
[{"$f":"A19+1","v":"2019-01-17"},{"$f":"PROPER(TEXT(A20,\"ddd\"))","v":"To"},"",null,null,null,"","00:00:00","",{"$f":"ColTime(T.!$J$3,T.!$L$3,D20,E20)","v":"00:00:00"},null,{"$f":"ColTime(TIME(T.!$J$4,0,0),TIME(T.!$L$4,0,0),D20,E20)","v":"00:00:00"},null,"","","",null,null,{"$f":"CHOOSE(WEEKDAY(A20,2),norm!C$1,norm!C$2,norm!C$3,norm!C$4,norm!C$5,norm!C$6,norm!C$7)","v":"09:00:00"},null,null,"","","","","",""]
["2019-01-18","Fr","",null,null,null,"","00:00:00","",{"$f":"ColTime(T.!$J$3,T.!$L$3,D21,E21)","v":"00:00:00"},null,{"$f":"ColTime(TIME(T.!$J$4,0,0),TIME(T.!$L$4,0,0),D21,E21)","v":"00:00:00"},null,"","","",null,null,{"$f":"CHOOSE(WEEKDAY(A21,2),norm!C$1,norm!C$2,norm!C$3,norm!C$4,norm!C$5,norm!C$6,norm!C$7)","v":"09:00:00"},null,null,"","","","","",""]
["2019-01-19","Lø","",null,null,null,"","00:00:00","",{"$f":"ColTime(T.!$J$3,T.!$L$3,D22,E22)","v":"00:00:00"},null,{"$f":"ColTime(TIME(T.!$J$4,0,0),TIME(T.!$L$4,0,0),D22,E22)","v":"00:00:00"},null,"00:00:00","","",null,null,{"$f":"CHOOSE(WEEKDAY(A22,2),norm!C$1,norm!C$2,norm!C$3,norm!C$4,norm!C$5,norm!C$6,norm!C$7)","v":"09:00:00"},null,null,"","","","","",""]
["2019-01-20","Sø","",null,null,null,"","00:00:00","",{"$f":"ColTime(T.!$J$3,T.!$L$3,D23,E23)","v":"00:00:00"},null,{"$f":"ColTime(TIME(T.!$J$4,0,0),TIME(T.!$L$4,0,0),D23,E23)","v":"00:00:00"},null,"","00:00:00","",null,null,{"$f":"CHOOSE(WEEKDAY(A23,2),norm!C$1,norm!C$2,norm!C$3,norm!C$4,norm!C$5,norm!C$6,norm!C$7)","v":"09:00:00"},null,null,"","","","","",""]
["2019-01-21","Ma","",null,null,null,"","00:00:00","",{"$f":"ColTime(T.!$J$3,T.!$L$3,D24,E24)","v":"00:00:00"},null,{"$f":"ColTime(TIME(T.!$J$4,0,0),TIME(T.!$L$4,0,0),D24,E24)","v":"00:00:00"},null,"","","",null,null,{"$f":"CHOOSE(WEEKDAY(A24,2),norm!C$1,norm!C$2,norm!C$3,norm!C$4,norm!C$5,norm!C$6,norm!C$7)","v":"09:00:00"},null,null,"","","","","",""]
[{"$f":"A24+1","v":"2019-01-22"},{"$f":"PROPER(TEXT(A25,\"ddd\"))","v":"Ti"},{"$f":"HelligdagsNavn(A25,0,0)","v":""},null,null,null,"","00:00:00","",{"$f":"ColTime(T.!$J$3,T.!$L$3,D25,E25)","v":"00:00:00"},null,{"$f":"ColTime(TIME(T.!$J$4,0,0),TIME(T.!$L$4,0,0),D25,E25)","v":"00:00:00"},null,"","","",null,null,{"$f":"CHOOSE(WEEKDAY(A25,2),norm!C$1,norm!C$2,norm!C$3,norm!C$4,norm!C$5,norm!C$6,norm!C$7)","v":"09:00:00"},null,null,"","","","","",""]
[{"$f":"A25+1","v":"2019-01-23"},{"$f":"PROPER(TEXT(A26,\"ddd\"))","v":"On"},{"$f":"HelligdagsNavn(A26,0,0)","v":""},null,null,null,"","00:00:00","",{"$f":"ColTime(T.!$J$3,T.!$L$3,D26,E26)","v":"00:00:00"},null,{"$f":"ColTime(TIME(T.!$J$4,0,0),TIME(T.!$L$4,0,0),D26,E26)","v":"00:00:00"},null,"","","",null,null,{"$f":"CHOOSE(WEEKDAY(A26,2),norm!C$1,norm!C$2,norm!C$3,norm!C$4,norm!C$5,norm!C$6,norm!C$7)","v":"09:00:00"},null,null,"","","","","",""]
[{"$f":"A26+1","v":"2019-01-24"},{"$f":"PROPER(TEXT(A27,\"ddd\"))","v":"To"},"",null,null,null,"","00:00:00","",{"$f":"ColTime(T.!$J$3,T.!$L$3,D27,E27)","v":"00:00:00"},null,{"$f":"ColTime(TIME(T.!$J$4,0,0),TIME(T.!$L$4,0,0),D27,E27)","v":"00:00:00"},null,"","","",null,null,{"$f":"CHOOSE(WEEKDAY(A27,2),norm!C$1,norm!C$2,norm!C$3,norm!C$4,norm!C$5,norm!C$6,norm!C$7)","v":"09:00:00"},null,null,"","","","","",""]
["2019-01-25","Fr","",null,null,null,"","00:00:00","",{"$f":"ColTime(T.!$J$3,T.!$L$3,D28,E28)","v":"00:00:00"},null,{"$f":"ColTime(TIME(T.!$J$4,0,0),TIME(T.!$L$4,0,0),D28,E28)","v":"00:00:00"},null,"","","",null,null,{"$f":"CHOOSE(WEEKDAY(A28,2),norm!C$1,norm!C$2,norm!C$3,norm!C$4,norm!C$5,norm!C$6,norm!C$7)","v":"09:00:00"},null,null,"","","","","",""]
["2019-01-26","Lø","",null,null,null,"","00:00:00","",{"$f":"ColTime(T.!$J$3,T.!$L$3,D29,E29)","v":"00:00:00"},null,{"$f":"ColTime(TIME(T.!$J$4,0,0),TIME(T.!$L$4,0,0),D29,E29)","v":"00:00:00"},null,"00:00:00","","",null,null,{"$f":"CHOOSE(WEEKDAY(A29,2),norm!C$1,norm!C$2,norm!C$3,norm!C$4,norm!C$5,norm!C$6,norm!C$7)","v":"09:00:00"}]
["2019-01-27","Sø","",null,null,null,"","00:00:00","",{"$f":"ColTime(T.!$J$3,T.!$L$3,D30,E30)","v":"00:00:00"},null,{"$f":"ColTime(TIME(T.!$J$4,0,0),TIME(T.!$L$4,0,0),D30,E30)","v":"00:00:00"},null,"","00:00:00","",null,null,{"$f":"CHOOSE(WEEKDAY(A30,2),norm!C$1,norm!C$2,norm!C$3,norm!C$4,norm!C$5,norm!C$6,norm!C$7)","v":"09:00:00"}]
["2019-01-28","Ma","",null,null,null,"","00:00:00","",{"$f":"ColTime(T.!$J$3,T.!$L$3,D31,E31)","v":"00:00:00"},null,{"$f":"ColTime(TIME(T.!$J$4,0,0),TIME(T.!$L$4,0,0),D31,E31)","v":"00:00:00"},null,"","","",null,null,{"$f":"CHOOSE(WEEKDAY(A31,2),norm!C$1,norm!C$2,norm!C$3,norm!C$4,norm!C$5,norm!C$6,norm!C$7)","v":"09:00:00"}]
["2019-01-29","Ti",{"$f":"IF(A32=\"\",\"\",HelligdagsNavn(A32,0,0))","v":""},null,null,null,"","00:00:00","",{"$f":"ColTime(T.!$J$3,T.!$L$3,D32,E32)","v":"00:00:00"},null,{"$f":"ColTime(TIME(T.!$J$4,0,0),TIME(T.!$L$4,0,0),D32,E32)","v":"00:00:00"},null,{"$f":"IFERROR(IF(WEEKDAY(A32,2)=6,ColTime(TIME(15,0,0),TIME(24,0,0),D32,E32),\"\"),\"\")","v":""},{"$f":"IFERROR(IF(OR(C32<>\"\",WEEKDAY(A32,2)=7),ColTime(TIME(0,0,0),TIME(24,0,0),D32,E32),\"\"),\"\")","v":""},"",null,null,{"$f":"IFERROR(CHOOSE(WEEKDAY(A32,2),norm!C$1,norm!C$2,norm!C$3,norm!C$4,norm!C$5,norm!C$6,norm!C$7),\"\")","v":"09:00:00"}]
["2019-01-30","On","",null,null,null,"","00:00:00","",{"$f":"ColTime(T.!$J$3,T.!$L$3,D33,E33)","v":"00:00:00"},null,{"$f":"ColTime(TIME(T.!$J$4,0,0),TIME(T.!$L$4,0,0),D33,E33)","v":"00:00:00"},null,{"$f":"IFERROR(IF(WEEKDAY(A33,2)=6,ColTime(TIME(15,0,0),TIME(24,0,0),D33,E33),\"\"),\"\")","v":""},{"$f":"IFERROR(IF(OR(C33<>\"\",WEEKDAY(A33,2)=7),ColTime(TIME(0,0,0),TIME(24,0,0),D33,E33),\"\"),\"\")","v":""},"",null,null,{"$f":"IFERROR(CHOOSE(WEEKDAY(A33,2),norm!C$1,norm!C$2,norm!C$3,norm!C$4,norm!C$5,norm!C$6,norm!C$7),\"\")","v":"09:00:00"}]
["2019-01-31",{"$f":"IFERROR(PROPER(TEXT(A34,\"ddd\")),\"\")","v":"To"},{"$f":"IF(A34=\"\",\"\",HelligdagsNavn(A34,0,0))","v":""},null,null,null,"","00:00:00","",{"$f":"ColTime(T.!$J$3,T.!$L$3,D34,E34)","v":"00:00:00"},null,{"$f":"ColTime(TIME(T.!$J$4,0,0),TIME(T.!$L$4,0,0),D34,E34)","v":"00:00:00"},null,"","","",null,null,{"$f":"IFERROR(CHOOSE(WEEKDAY(A34,2),norm!C$1,norm!C$2,norm!C$3,norm!C$4,norm!C$5,norm!C$6,norm!C$7),\"\")","v":"09:00:00"},null,null,{"$f":"IF(D34=\"\",\"\",HOUR(D34))","v":""},{"$f":"IF(D34=\"\",\"\",MINUTE(D34))","v":""},{"$f":"IF(D34=\"\",\"\",TIME(HOUR(D34),MINUTE(D34),0))","v":""},{"$f":"IF(E34=\"\",\"\",HOUR(E34))","v":""},{"$f":"IF(E34=\"\",\"\",MINUTE(E34))","v":""},{"$f":"IF(E34=\"\",\"\",TIME(HOUR(E34),MINUTE(E34),0))","v":""}]
["2019-02-01",{"$f":"IFERROR(PROPER(TEXT(A35,\"ddd\")),\"\")","v":"Fr"},{"$f":"IF(A35=\"\",\"\",HelligdagsNavn(A35,0,0))","v":""},null,null,null,{"$f":"IF(D35=\"\",\"\",(E35-D35)+(D35>E35)-F35)","v":""},{"$f":"IF(G35=\"\",0,IF(WEEKDAY(A35,2)=7,0,IF(G35>S35,MIN(G35-S35,$AI$1),0)))","v":"00:00:00"},{"$f":"IF(G35=\"\",\"\",IF(G35>S35+H35,G35-(S35+H35),\"\"))","v":""},{"$f":"ColTime(T.!$J$3,T.!$L$3,D35,E35)","v":"00:00:00"},null,{"$f":"ColTime(TIME(T.!$J$4,0,0),TIME(T.!$L$4,0,0),D35,E35)","v":"00:00:00"},null,{"$f":"IFERROR(IF(WEEKDAY(A35,2)=6,ColTime(TIME(15,0,0),TIME(24,0,0),D35,E35),\"\"),\"\")","v":""},{"$f":"IFERROR(IF(OR(C35<>\"\",WEEKDAY(A35,2)=7),ColTime(TIME(0,0,0),TIME(24,0,0),D35,E35),\"\"),\"\")","v":""},{"$f":"IFERROR(H35+I35,\"\")","v":""},null,null,{"$f":"IFERROR(CHOOSE(WEEKDAY(A35,2),norm!C$1,norm!C$2,norm!C$3,norm!C$4,norm!C$5,norm!C$6,norm!C$7),\"\")","v":"09:00:00"}]
["2019-02-02","Lø","",null,null,null,"","00:00:00","",{"$f":"ColTime(T.!$J$3,T.!$L$3,D36,E36)","v":"00:00:00"},null,{"$f":"ColTime(TIME(T.!$J$4,0,0),TIME(T.!$L$4,0,0),D36,E36)","v":"00:00:00"},null,"00:00:00","","",null,null,{"$f":"IFERROR(CHOOSE(WEEKDAY(A36,2),norm!C$1,norm!C$2,norm!C$3,norm!C$4,norm!C$5,norm!C$6,norm!C$7),\"\")","v":"09:00:00"}]
["2019-02-03","Sø","",null,null,null,"","00:00:00","",{"$f":"ColTime(T.!$J$3,T.!$L$3,D37,E37)","v":"00:00:00"},null,{"$f":"ColTime(TIME(T.!$J$4,0,0),TIME(T.!$L$4,0,0),D37,E37)","v":"00:00:00"},null,"","00:00:00","",null,null,{"$f":"IFERROR(CHOOSE(WEEKDAY(A37,2),norm!C$1,norm!C$2,norm!C$3,norm!C$4,norm!C$5,norm!C$6,norm!C$7),\"\")","v":"09:00:00"}]
["2019-02-04","Ma","",null,null,null,"","00:00:00","",{"$f":"ColTime(T.!$J$3,T.!$L$3,D38,E38)","v":"00:00:00"},null,{"$f":"ColTime(TIME(T.!$J$4,0,0),TIME(T.!$L$4,0,0),D38,E38)","v":"00:00:00"},null,"","","",null,null,{"$f":"IFERROR(CHOOSE(WEEKDAY(A38,2),norm!C$1,norm!C$2,norm!C$3,norm!C$4,norm!C$5,norm!C$6,norm!C$7),\"\")","v":"09:00:00"}]
["2019-02-05","Ti","",null,null,null,"","00:00:00","",{"$f":"ColTime(T.!$J$3,T.!$L$3,D39,E39)","v":"00:00:00"},null,{"$f":"ColTime(TIME(T.!$J$4,0,0),TIME(T.!$L$4,0,0),D39,E39)","v":"00:00:00"},null,"","","",null,null,{"$f":"IFERROR(CHOOSE(WEEKDAY(A39,2),norm!C$1,norm!C$2,norm!C$3,norm!C$4,norm!C$5,norm!C$6,norm!C$7),\"\")","v":"09:00:00"}]
["2019-02-06","On","",null,null,null,"","00:00:00","",{"$f":"ColTime(T.!$J$3,T.!$L$3,D40,E40)","v":"00:00:00"},null,{"$f":"ColTime(TIME(T.!$J$4,0,0),TIME(T.!$L$4,0,0),D40,E40)","v":"00:00:00"},null,"","","",null,null,{"$f":"IFERROR(CHOOSE(WEEKDAY(A40,2),norm!C$1,norm!C$2,norm!C$3,norm!C$4,norm!C$5,norm!C$6,norm!C$7),\"\")","v":"09:00:00"}]
["2019-02-07","To","",null,null,null,"","00:00:00","",{"$f":"ColTime(T.!$J$3,T.!$L$3,D41,E41)","v":"00:00:00"},null,{"$f":"ColTime(TIME(T.!$J$4,0,0),TIME(T.!$L$4,0,0),D41,E41)","v":"00:00:00"},null,"","","",null,null,{"$f":"IFERROR(CHOOSE(WEEKDAY(A41,2),norm!C$1,norm!C$2,norm!C$3,norm!C$4,norm!C$5,norm!C$6,norm!C$7),\"\")","v":"09:00:00"}]
["2019-02-08","Fr","",null,null,null,"","00:00:00","",{"$f":"ColTime(T.!$J$3,T.!$L$3,D42,E42)","v":"00:00:00"},null,{"$f":"ColTime(TIME(T.!$J$4,0,0),TIME(T.!$L$4,0,0),D42,E42)","v":"00:00:00"},null,"","","",null,null,{"$f":"IFERROR(CHOOSE(WEEKDAY(A42,2),norm!C$1,norm!C$2,norm!C$3,norm!C$4,norm!C$5,norm!C$6,norm!C$7),\"\")","v":"09:00:00"}]
["2019-02-09","Lø","",null,null,null,"","00:00:00","",{"$f":"ColTime(T.!$J$3,T.!$L$3,D43,E43)","v":"00:00:00"},null,{"$f":"ColTime(TIME(T.!$J$4,0,0),TIME(T.!$L$4,0,0),D43,E43)","v":"00:00:00"},null,"00:00:00","","",null,null,{"$f":"IFERROR(CHOOSE(WEEKDAY(A43,2),norm!C$1,norm!C$2,norm!C$3,norm!C$4,norm!C$5,norm!C$6,norm!C$7),\"\")","v":"09:00:00"}]
["2019-02-10","Sø","",null,null,null,"","00:00:00","",{"$f":"ColTime(T.!$J$3,T.!$L$3,D44,E44)","v":"00:00:00"},null,{"$f":"ColTime(TIME(T.!$J$4,0,0),TIME(T.!$L$4,0,0),D44,E44)","v":"00:00:00"},null,"","00:00:00","",null,null,{"$f":"IFERROR(CHOOSE(WEEKDAY(A44,2),norm!C$1,norm!C$2,norm!C$3,norm!C$4,norm!C$5,norm!C$6,norm!C$7),\"\")","v":"09:00:00"}]
["2019-02-11","Ma",{"$f":"IF(A45=\"\",\"\",HelligdagsNavn(A45,0,0))","v":""},null,null,null,{"$f":"IF(D45=\"\",\"\",(E45-D45)+(D45>E45)-F45)","v":""},{"$f":"IF(G45=\"\",0,IF(WEEKDAY(A45,2)=7,0,IF(G45>S45,MIN(G45-S45,$AI$1),0)))","v":"00:00:00"},{"$f":"IF(G45=\"\",\"\",IF(G45>S45+H45,G45-(S45+H45),\"\"))","v":""},{"$f":"ColTime(T.!$J$3,T.!$L$3,D45,E45)","v":"00:00:00"},null,{"$f":"ColTime(TIME(T.!$J$4,0,0),TIME(T.!$L$4,0,0),D45,E45)","v":"00:00:00"},null,{"$f":"IFERROR(IF(WEEKDAY(A45,2)=6,ColTime(TIME(15,0,0),TIME(24,0,0),D45,E45),\"\"),\"\")","v":""},{"$f":"IFERROR(IF(OR(C45<>\"\",WEEKDAY(A45,2)=7),ColTime(TIME(0,0,0),TIME(24,0,0),D45,E45),\"\"),\"\")","v":""},{"$f":"IFERROR(H45+I45,\"\")","v":""},null,null,{"$f":"IFERROR(CHOOSE(WEEKDAY(A45,2),norm!C$1,norm!C$2,norm!C$3,norm!C$4,norm!C$5,norm!C$6,norm!C$7),\"\")","v":"09:00:00"}]
["2019-02-12","Ti","",null,null,null,"","00:00:00","",{"$f":"ColTime(T.!$J$3,T.!$L$3,D46,E46)","v":"00:00:00"},null,{"$f":"ColTime(TIME(T.!$J$4,0,0),TIME(T.!$L$4,0,0),D46,E46)","v":"00:00:00"},null,"","","",null,null,{"$f":"IFERROR(CHOOSE(WEEKDAY(A46,2),norm!C$1,norm!C$2,norm!C$3,norm!C$4,norm!C$5,norm!C$6,norm!C$7),\"\")","v":"09:00:00"}]
["2019-02-13","On","",null,null,null,"","00:00:00","",{"$f":"ColTime(T.!$J$3,T.!$L$3,D47,E47)","v":"00:00:00"},null,{"$f":"ColTime(TIME(T.!$J$4,0,0),TIME(T.!$L$4,0,0),D47,E47)","v":"00:00:00"},null,"","","",null,null,{"$f":"IFERROR(CHOOSE(WEEKDAY(A47,2),norm!C$1,norm!C$2,norm!C$3,norm!C$4,norm!C$5,norm!C$6,norm!C$7),\"\")","v":"09:00:00"}]
["2019-02-14","To","",null,null,null,"","00:00:00","",{"$f":"ColTime(T.!$J$3,T.!$L$3,D48,E48)","v":"00:00:00"},null,{"$f":"ColTime(TIME(T.!$J$4,0,0),TIME(T.!$L$4,0,0),D48,E48)","v":"00:00:00"},null,"","","",null,null,{"$f":"IFERROR(CHOOSE(WEEKDAY(A48,2),norm!C$1,norm!C$2,norm!C$3,norm!C$4,norm!C$5,norm!C$6,norm!C$7),\"\")","v":"09:00:00"}]
["2019-02-15","Fr","",null,null,null,"","00:00:00","",{"$f":"ColTime(T.!$J$3,T.!$L$3,D49,E49)","v":"00:00:00"},null,{"$f":"ColTime(TIME(T.!$J$4,0,0),TIME(T.!$L$4,0,0),D49,E49)","v":"00:00:00"},null,"","","",null,null,{"$f":"IFERROR(CHOOSE(WEEKDAY(A49,2),norm!C$1,norm!C$2,norm!C$3,norm!C$4,norm!C$5,norm!C$6,norm!C$7),\"\")","v":"09:00:00"}]
["2019-02-16","Lø","",null,null,null,"","00:00:00","",{"$f":"ColTime(T.!$J$3,T.!$L$3,D50,E50)","v":"00:00:00"},null,{"$f":"ColTime(TIME(T.!$J$4,0,0),TIME(T.!$L$4,0,0),D50,E50)","v":"00:00:00"},null,"00:00:00","","",null,null,{"$f":"IFERROR(CHOOSE(WEEKDAY(A50,2),norm!C$1,norm!C$2,norm!C$3,norm!C$4,norm!C$5,norm!C$6,norm!C$7),\"\")","v":"09:00:00"}]
["2019-02-17","Sø","",null,null,null,"","00:00:00","",{"$f":"ColTime(T.!$J$3,T.!$L$3,D51,E51)","v":"00:00:00"},null,{"$f":"ColTime(TIME(T.!$J$4,0,0),TIME(T.!$L$4,0,0),D51,E51)","v":"00:00:00"},null,"","00:00:00","",null,null,{"$f":"IFERROR(CHOOSE(WEEKDAY(A51,2),norm!C$1,norm!C$2,norm!C$3,norm!C$4,norm!C$5,norm!C$6,norm!C$7),\"\")","v":"09:00:00"}]
["2019-02-18","Ma","",null,null,null,"","00:00:00","",{"$f":"ColTime(T.!$J$3,T.!$L$3,D52,E52)","v":"00:00:00"},null,{"$f":"ColTime(TIME(T.!$J$4,0,0),TIME(T.!$L$4,0,0),D52,E52)","v":"00:00:00"},null,"","","",null,null,{"$f":"IFERROR(CHOOSE(WEEKDAY(A52,2),norm!C$1,norm!C$2,norm!C$3,norm!C$4,norm!C$5,norm!C$6,norm!C$7),\"\")","v":"09:00:00"}]
["2019-02-19","Ti","",null,null,null,"","00:00:00","",{"$f":"ColTime(T.!$J$3,T.!$L$3,D53,E53)","v":"00:00:00"},null,{"$f":"ColTime(TIME(T.!$J$4,0,0),TIME(T.!$L$4,0,0),D53,E53)","v":"00:00:00"},null,"","","",null,null,{"$f":"IFERROR(CHOOSE(WEEKDAY(A53,2),norm!C$1,norm!C$2,norm!C$3,norm!C$4,norm!C$5,norm!C$6,norm!C$7),\"\")","v":"09:00:00"}]
["2019-02-20","On","",null,null,null,"","00:00:00","",{"$f":"ColTime(T.!$J$3,T.!$L$3,D54,E54)","v":"00:00:00"},null,{"$f":"ColTime(TIME(T.!$J$4,0,0),TIME(T.!$L$4,0,0),D54,E54)","v":"00:00:00"},null,"","","",null,null,{"$f":"IFERROR(CHOOSE(WEEKDAY(A54,2),norm!C$1,norm!C$2,norm!C$3,norm!C$4,norm!C$5,norm!C$6,norm!C$7),\"\")","v":"09:00:00"}]
["2019-02-21","To","",null,null,null,"","00:00:00","",{"$f":"ColTime(T.!$J$3,T.!$L$3,D55,E55)","v":"00:00:00"},null,{"$f":"ColTime(TIME(T.!$J$4,0,0),TIME(T.!$L$4,0,0),D55,E55)","v":"00:00:00"},null,"","","",null,null,{"$f":"IFERROR(CHOOSE(WEEKDAY(A55,2),norm!C$1,norm!C$2,norm!C$3,norm!C$4,norm!C$5,norm!C$6,norm!C$7),\"\")","v":"09:00:00"}]
["2019-02-22","Fr","",null,null,null,"","00:00:00","",{"$f":"ColTime(T.!$J$3,T.!$L$3,D56,E56)","v":"00:00:00"},null,{"$f":"ColTime(TIME(T.!$J$4,0,0),TIME(T.!$L$4,0,0),D56,E56)","v":"00:00:00"},null,"","","",null,null,{"$f":"IFERROR(CHOOSE(WEEKDAY(A56,2),norm!C$1,norm!C$2,norm!C$3,norm!C$4,norm!C$5,norm!C$6,norm!C$7),\"\")","v":"09:00:00"}]
["2019-02-23","Lø","",null,null,null,"","00:00:00","",{"$f":"ColTime(T.!$J$3,T.!$L$3,D57,E57)","v":"00:00:00"},null,{"$f":"ColTime(TIME(T.!$J$4,0,0),TIME(T.!$L$4,0,0),D57,E57)","v":"00:00:00"},null,"00:00:00","","",null,null,{"$f":"IFERROR(CHOOSE(WEEKDAY(A57,2),norm!C$1,norm!C$2,norm!C$3,norm!C$4,norm!C$5,norm!C$6,norm!C$7),\"\")","v":"09:00:00"}]
["2019-02-24","Sø","",null,null,null,"","00:00:00","",{"$f":"ColTime(T.!$J$3,T.!$L$3,D58,E58)","v":"00:00:00"},null,{"$f":"ColTime(TIME(T.!$J$4,0,0),TIME(T.!$L$4,0,0),D58,E58)","v":"00:00:00"},null,"","00:00:00","",null,null,{"$f":"IFERROR(CHOOSE(WEEKDAY(A58,2),norm!C$1,norm!C$2,norm!C$3,norm!C$4,norm!C$5,norm!C$6,norm!C$7),\"\")","v":"09:00:00"}]
["2019-02-25","Ma","",null,null,null,"","00:00:00","",{"$f":"ColTime(T.!$J$3,T.!$L$3,D59,E59)","v":"00:00:00"},null,{"$f":"ColTime(TIME(T.!$J$4,0,0),TIME(T.!$L$4,0,0),D59,E59)","v":"00:00:00"},null,"","","",null,null,{"$f":"IFERROR(CHOOSE(WEEKDAY(A59,2),norm!C$1,norm!C$2,norm!C$3,norm!C$4,norm!C$5,norm!C$6,norm!C$7),\"\")","v":"09:00:00"}]
["2019-02-26","Ti","",null,null,null,"","00:00:00","",{"$f":"ColTime(T.!$J$3,T.!$L$3,D60,E60)","v":"00:00:00"},null,{"$f":"ColTime(TIME(T.!$J$4,0,0),TIME(T.!$L$4,0,0),D60,E60)","v":"00:00:00"},null,"","","",null,null,{"$f":"IFERROR(CHOOSE(WEEKDAY(A60,2),norm!C$1,norm!C$2,norm!C$3,norm!C$4,norm!C$5,norm!C$6,norm!C$7),\"\")","v":"09:00:00"}]
["2019-02-27","On","",null,null,null,"","00:00:00","",{"$f":"ColTime(T.!$J$3,T.!$L$3,D61,E61)","v":"00:00:00"},null,{"$f":"ColTime(TIME(T.!$J$4,0,0),TIME(T.!$L$4,0,0),D61,E61)","v":"00:00:00"},null,"","","",null,null,{"$f":"IFERROR(CHOOSE(WEEKDAY(A61,2),norm!C$1,norm!C$2,norm!C$3,norm!C$4,norm!C$5,norm!C$6,norm!C$7),\"\")","v":"09:00:00"}]
["2019-02-28","To","",null,null,null,"","00:00:00","",{"$f":"ColTime(T.!$J$3,T.!$L$3,D62,E62)","v":"00:00:00"},null,{"$f":"ColTime(TIME(T.!$J$4,0,0),TIME(T.!$L$4,0,0),D62,E62)","v":"00:00:00"},null,"","","",null,null,{"$f":"IFERROR(CHOOSE(WEEKDAY(A62,2),norm!C$1,norm!C$2,norm!C$3,norm!C$4,norm!C$5,norm!C$6,norm!C$7),\"\")","v":"09:00:00"}]
["2019-03-01","Fr","",null,null,null,"","00:00:00","",{"$f":"ColTime(T.!$J$3,T.!$L$3,D63,E63)","v":"00:00:00"},null,{"$f":"ColTime(TIME(T.!$J$4,0,0),TIME(T.!$L$4,0,0),D63,E63)","v":"00:00:00"},null,"","","",null,null,{"$f":"IFERROR(CHOOSE(WEEKDAY(A63,2),norm!C$1,norm!C$2,norm!C$3,norm!C$4,norm!C$5,norm!C$6,norm!C$7),\"\")","v":"09:00:00"}]
["2019-03-02","Lø","",null,null,null,"","00:00:00","",{"$f":"ColTime(T.!$J$3,T.!$L$3,D64,E64)","v":"00:00:00"},null,{"$f":"ColTime(TIME(T.!$J$4,0,0),TIME(T.!$L$4,0,0),D64,E64)","v":"00:00:00"},null,"00:00:00","","",null,null,{"$f":"IFERROR(CHOOSE(WEEKDAY(A64,2),norm!C$1,norm!C$2,norm!C$3,norm!C$4,norm!C$5,norm!C$6,norm!C$7),\"\")","v":"09:00:00"}]
["2019-03-03","Sø","",null,null,null,"","00:00:00","",{"$f":"ColTime(T.!$J$3,T.!$L$3,D65,E65)","v":"00:00:00"},null,{"$f":"ColTime(TIME(T.!$J$4,0,0),TIME(T.!$L$4,0,0),D65,E65)","v":"00:00:00"},null,"","00:00:00","",null,null,{"$f":"IFERROR(CHOOSE(WEEKDAY(A65,2),norm!C$1,norm!C$2,norm!C$3,norm!C$4,norm!C$5,norm!C$6,norm!C$7),\"\")","v":"09:00:00"}]
["2019-03-04","Ma","",null,null,null,"","00:00:00","",{"$f":"ColTime(T.!$J$3,T.!$L$3,D66,E66)","v":"00:00:00"},null,{"$f":"ColTime(TIME(T.!$J$4,0,0),TIME(T.!$L$4,0,0),D66,E66)","v":"00:00:00"},null,"","","",null,null,{"$f":"IFERROR(CHOOSE(WEEKDAY(A66,2),norm!C$1,norm!C$2,norm!C$3,norm!C$4,norm!C$5,norm!C$6,norm!C$7),\"\")","v":"09:00:00"}]
["2019-03-05","Ti","",null,null,null,"","00:00:00","",{"$f":"ColTime(T.!$J$3,T.!$L$3,D67,E67)","v":"00:00:00"},null,{"$f":"ColTime(TIME(T.!$J$4,0,0),TIME(T.!$L$4,0,0),D67,E67)","v":"00:00:00"},null,"","","",null,null,{"$f":"IFERROR(CHOOSE(WEEKDAY(A67,2),norm!C$1,norm!C$2,norm!C$3,norm!C$4,norm!C$5,norm!C$6,norm!C$7),\"\")","v":"09:00:00"}]
["2019-03-06","On","",null,null,null,"","00:00:00","",{"$f":"ColTime(T.!$J$3,T.!$L$3,D68,E68)","v":"00:00:00"},null,{"$f":"ColTime(TIME(T.!$J$4,0,0),TIME(T.!$L$4,0,0),D68,E68)","v":"00:00:00"},null,"","","",null,null,{"$f":"IFERROR(CHOOSE(WEEKDAY(A68,2),norm!C$1,norm!C$2,norm!C$3,norm!C$4,norm!C$5,norm!C$6,norm!C$7),\"\")","v":"09:00:00"}]
["2019-03-07","To","",null,null,null,"","00:00:00","",{"$f":"ColTime(T.!$J$3,T.!$L$3,D69,E69)","v":"00:00:00"},null,{"$f":"ColTime(TIME(T.!$J$4,0,0),TIME(T.!$L$4,0,0),D69,E69)","v":"00:00:00"},null,"","","",null,null,{"$f":"IFERROR(CHOOSE(WEEKDAY(A69,2),norm!C$1,norm!C$2,norm!C$3,norm!C$4,norm!C$5,norm!C$6,norm!C$7),\"\")","v":"09:00:00"}]
["2019-03-08","Fr","",null,null,null,"","00:00:00","",{"$f":"ColTime(T.!$J$3,T.!$L$3,D70,E70)","v":"00:00:00"},null,{"$f":"ColTime(TIME(T.!$J$4,0,0),TIME(T.!$L$4,0,0),D70,E70)","v":"00:00:00"},null,"","","",null,null,{"$f":"IFERROR(CHOOSE(WEEKDAY(A70,2),norm!C$1,norm!C$2,norm!C$3,norm!C$4,norm!C$5,norm!C$6,norm!C$7),\"\")","v":"09:00:00"}]
["2019-03-09","Lø","",null,null,null,"","00:00:00","",{"$f":"ColTime(T.!$J$3,T.!$L$3,D71,E71)","v":"00:00:00"},null,{"$f":"ColTime(TIME(T.!$J$4,0,0),TIME(T.!$L$4,0,0),D71,E71)","v":"00:00:00"},null,"00:00:00","","",null,null,{"$f":"IFERROR(CHOOSE(WEEKDAY(A71,2),norm!C$1,norm!C$2,norm!C$3,norm!C$4,norm!C$5,norm!C$6,norm!C$7),\"\")","v":"09:00:00"}]
["2019-03-10","Sø","",null,null,null,"","00:00:00","",{"$f":"ColTime(T.!$J$3,T.!$L$3,D72,E72)","v":"00:00:00"},null,{"$f":"ColTime(TIME(T.!$J$4,0,0),TIME(T.!$L$4,0,0),D72,E72)","v":"00:00:00"},null,"","00:00:00","",null,null,{"$f":"IFERROR(CHOOSE(WEEKDAY(A72,2),norm!C$1,norm!C$2,norm!C$3,norm!C$4,norm!C$5,norm!C$6,norm!C$7),\"\")","v":"09:00:00"}]
["2019-03-11","Ma","",null,null,null,"","00:00:00","",{"$f":"ColTime(T.!$J$3,T.!$L$3,D73,E73)","v":"00:00:00"},null,{"$f":"ColTime(TIME(T.!$J$4,0,0),TIME(T.!$L$4,0,0),D73,E73)","v":"00:00:00"},null,"","","",null,null,{"$f":"IFERROR(CHOOSE(WEEKDAY(A73,2),norm!C$1,norm!C$2,norm!C$3,norm!C$4,norm!C$5,norm!C$6,norm!C$7),\"\")","v":"09:00:00"}]
["2019-03-12","Ti","",null,null,null,"","00:00:00","",{"$f":"ColTime(T.!$J$3,T.!$L$3,D74,E74)","v":"00:00:00"},null,{"$f":"ColTime(TIME(T.!$J$4,0,0),TIME(T.!$L$4,0,0),D74,E74)","v":"00:00:00"},null,"","","",null,null,{"$f":"IFERROR(CHOOSE(WEEKDAY(A74,2),norm!C$1,norm!C$2,norm!C$3,norm!C$4,norm!C$5,norm!C$6,norm!C$7),\"\")","v":"09:00:00"}]
["2019-03-13","On","",null,null,null,"","00:00:00","",{"$f":"ColTime(T.!$J$3,T.!$L$3,D75,E75)","v":"00:00:00"},null,{"$f":"ColTime(TIME(T.!$J$4,0,0),TIME(T.!$L$4,0,0),D75,E75)","v":"00:00:00"},null,"","","",null,null,{"$f":"IFERROR(CHOOSE(WEEKDAY(A75,2),norm!C$1,norm!C$2,norm!C$3,norm!C$4,norm!C$5,norm!C$6,norm!C$7),\"\")","v":"09:00:00"}]
["2019-03-14","To","",null,null,null,"","00:00:00","",{"$f":"ColTime(T.!$J$3,T.!$L$3,D76,E76)","v":"00:00:00"},null,{"$f":"ColTime(TIME(T.!$J$4,0,0),TIME(T.!$L$4,0,0),D76,E76)","v":"00:00:00"},null,"","","",null,null,{"$f":"IFERROR(CHOOSE(WEEKDAY(A76,2),norm!C$1,norm!C$2,norm!C$3,norm!C$4,norm!C$5,norm!C$6,norm!C$7),\"\")","v":"09:00:00"}]
["2019-03-15","Fr","",null,null,null,"","00:00:00","",{"$f":"ColTime(T.!$J$3,T.!$L$3,D77,E77)","v":"00:00:00"},null,{"$f":"ColTime(TIME(T.!$J$4,0,0),TIME(T.!$L$4,0,0),D77,E77)","v":"00:00:00"},null,"","","",null,null,{"$f":"IFERROR(CHOOSE(WEEKDAY(A77,2),norm!C$1,norm!C$2,norm!C$3,norm!C$4,norm!C$5,norm!C$6,norm!C$7),\"\")","v":"09:00:00"}]
["2019-03-16","Lø","",null,null,null,"","00:00:00","",{"$f":"ColTime(T.!$J$3,T.!$L$3,D78,E78)","v":"00:00:00"},null,{"$f":"ColTime(TIME(T.!$J$4,0,0),TIME(T.!$L$4,0,0),D78,E78)","v":"00:00:00"},null,"00:00:00","","",null,null,{"$f":"IFERROR(CHOOSE(WEEKDAY(A78,2),norm!C$1,norm!C$2,norm!C$3,norm!C$4,norm!C$5,norm!C$6,norm!C$7),\"\")","v":"09:00:00"}]
["2019-03-17","Sø","",null,null,null,"","00:00:00","",{"$f":"ColTime(T.!$J$3,T.!$L$3,D79,E79)","v":"00:00:00"},null,{"$f":"ColTime(TIME(T.!$J$4,0,0),TIME(T.!$L$4,0,0),D79,E79)","v":"00:00:00"},null,"","00:00:00","",null,null,{"$f":"IFERROR(CHOOSE(WEEKDAY(A79,2),norm!C$1,norm!C$2,norm!C$3,norm!C$4,norm!C$5,norm!C$6,norm!C$7),\"\")","v":"09:00:00"}]
["2019-03-18","Ma","",null,null,null,"","00:00:00","",{"$f":"ColTime(T.!$J$3,T.!$L$3,D80,E80)","v":"00:00:00"},null,{"$f":"ColTime(TIME(T.!$J$4,0,0),TIME(T.!$L$4,0,0),D80,E80)","v":"00:00:00"},null,"","","",null,null,{"$f":"IFERROR(CHOOSE(WEEKDAY(A80,2),norm!C$1,norm!C$2,norm!C$3,norm!C$4,norm!C$5,norm!C$6,norm!C$7),\"\")","v":"09:00:00"}]
["2019-03-19","Ti","",null,null,null,"","00:00:00","",{"$f":"ColTime(T.!$J$3,T.!$L$3,D81,E81)","v":"00:00:00"},null,{"$f":"ColTime(TIME(T.!$J$4,0,0),TIME(T.!$L$4,0,0),D81,E81)","v":"00:00:00"},null,"","","",null,null,{"$f":"IFERROR(CHOOSE(WEEKDAY(A81,2),norm!C$1,norm!C$2,norm!C$3,norm!C$4,norm!C$5,norm!C$6,norm!C$7),\"\")","v":"09:00:00"}]
["2019-03-20","On","",null,null,null,"","00:00:00","",{"$f":"ColTime(T.!$J$3,T.!$L$3,D82,E82)","v":"00:00:00"},null,{"$f":"ColTime(TIME(T.!$J$4,0,0),TIME(T.!$L$4,0,0),D82,E82)","v":"00:00:00"},null,"","","",null,null,{"$f":"IFERROR(CHOOSE(WEEKDAY(A82,2),norm!C$1,norm!C$2,norm!C$3,norm!C$4,norm!C$5,norm!C$6,norm!C$7),\"\")","v":"09:00:00"}]
["2019-03-21","To","",null,null,null,"","00:00:00","",{"$f":"ColTime(T.!$J$3,T.!$L$3,D83,E83)","v":"00:00:00"},null,{"$f":"ColTime(TIME(T.!$J$4,0,0),TIME(T.!$L$4,0,0),D83,E83)","v":"00:00:00"},null,"","","",null,null,{"$f":"IFERROR(CHOOSE(WEEKDAY(A83,2),norm!C$1,norm!C$2,norm!C$3,norm!C$4,norm!C$5,norm!C$6,norm!C$7),\"\")","v":"09:00:00"}]
["2019-03-22","Fr","",null,null,null,"","00:00:00","",{"$f":"ColTime(T.!$J$3,T.!$L$3,D84,E84)","v":"00:00:00"},null,{"$f":"ColTime(TIME(T.!$J$4,0,0),TIME(T.!$L$4,0,0),D84,E84)","v":"00:00:00"},null,"","","",null,null,{"$f":"IFERROR(CHOOSE(WEEKDAY(A84,2),norm!C$1,norm!C$2,norm!C$3,norm!C$4,norm!C$5,norm!C$6,norm!C$7),\"\")","v":"09:00:00"}]
["2019-03-23","Lø","",null,null,null,"","00:00:00","",{"$f":"ColTime(T.!$J$3,T.!$L$3,D85,E85)","v":"00:00:00"},null,{"$f":"ColTime(TIME(T.!$J$4,0,0),TIME(T.!$L$4,0,0),D85,E85)","v":"00:00:00"},null,"00:00:00","","",null,null,{"$f":"IFERROR(CHOOSE(WEEKDAY(A85,2),norm!C$1,norm!C$2,norm!C$3,norm!C$4,norm!C$5,norm!C$6,norm!C$7),\"\")","v":"09:00:00"}]
["2019-03-24","Sø","",null,null,null,"","00:00:00","",{"$f":"ColTime(T.!$J$3,T.!$L$3,D86,E86)","v":"00:00:00"},null,{"$f":"ColTime(TIME(T.!$J$4,0,0),TIME(T.!$L$4,0,0),D86,E86)","v":"00:00:00"},null,"","00:00:00","",null,null,{"$f":"IFERROR(CHOOSE(WEEKDAY(A86,2),norm!C$1,norm!C$2,norm!C$3,norm!C$4,norm!C$5,norm!C$6,norm!C$7),\"\")","v":"09:00:00"}]
["2019-03-25","Ma","",null,null,null,"","00:00:00","",{"$f":"ColTime(T.!$J$3,T.!$L$3,D87,E87)","v":"00:00:00"},null,{"$f":"ColTime(TIME(T.!$J$4,0,0),TIME(T.!$L$4,0,0),D87,E87)","v":"00:00:00"},null,"","","",null,null,{"$f":"IFERROR(CHOOSE(WEEKDAY(A87,2),norm!C$1,norm!C$2,norm!C$3,norm!C$4,norm!C$5,norm!C$6,norm!C$7),\"\")","v":"09:00:00"}]
["2019-03-26","Ti","",null,null,null,"","00:00:00","",{"$f":"ColTime(T.!$J$3,T.!$L$3,D88,E88)","v":"00:00:00"},null,{"$f":"ColTime(TIME(T.!$J$4,0,0),TIME(T.!$L$4,0,0),D88,E88)","v":"00:00:00"},null,"","","",null,null,{"$f":"IFERROR(CHOOSE(WEEKDAY(A88,2),norm!C$1,norm!C$2,norm!C$3,norm!C$4,norm!C$5,norm!C$6,norm!C$7),\"\")","v":"09:00:00"}]
["2019-03-27","On","",null,null,null,"","00:00:00","",{"$f":"ColTime(T.!$J$3,T.!$L$3,D89,E89)","v":"00:00:00"},null,{"$f":"ColTime(TIME(T.!$J$4,0,0),TIME(T.!$L$4,0,0),D89,E89)","v":"00:00:00"},null,"","","",null,null,{"$f":"IFERROR(CHOOSE(WEEKDAY(A89,2),norm!C$1,norm!C$2,norm!C$3,norm!C$4,norm!C$5,norm!C$6,norm!C$7),\"\")","v":"09:00:00"}]
["2019-03-28","To","",null,null,null,"","00:00:00","",{"$f":"ColTime(T.!$J$3,T.!$L$3,D90,E90)","v":"00:00:00"},null,{"$f":"ColTime(TIME(T.!$J$4,0,0),TIME(T.!$L$4,0,0),D90,E90)","v":"00:00:00"},null,"","","",null,null,{"$f":"IFERROR(CHOOSE(WEEKDAY(A90,2),norm!C$1,norm!C$2,norm!C$3,norm!C$4,norm!C$5,norm!C$6,norm!C$7),\"\")","v":"09:00:00"}]
[{"$f":"A90+1","v":"2019-03-29"},"Fr","",null,null,null,"","00:00:00","",{"$f":"ColTime(T.!$J$3,T.!$L$3,D91,E91)","v":"00:00:00"},null,{"$f":"ColTime(TIME(T.!$J$4,0,0),TIME(T.!$L$4,0,0),D91,E91)","v":"00:00:00"},null,"","","",null,null,{"$f":"IFERROR(CHOOSE(WEEKDAY(A91,2),norm!C$1,norm!C$2,norm!C$3,norm!C$4,norm!C$5,norm!C$6,norm!C$7),\"\")","v":"09:00:00"}]
["2019-03-30","Lø","",null,null,null,"","00:00:00","",{"$f":"ColTime(T.!$J$3,T.!$L$3,D92,E92)","v":"00:00:00"},null,{"$f":"ColTime(TIME(T.!$J$4,0,0),TIME(T.!$L$4,0,0),D92,E92)","v":"00:00:00"},null,"00:00:00","","",null,null,{"$f":"IFERROR(CHOOSE(WEEKDAY(A92,2),norm!C$1,norm!C$2,norm!C$3,norm!C$4,norm!C$5,norm!C$6,norm!C$7),\"\")","v":"09:00:00"}]
["2019-03-31","Sø","",null,null,null,"","00:00:00","",{"$f":"ColTime(T.!$J$3,T.!$L$3,D93,E93)","v":"00:00:00"},null,{"$f":"ColTime(TIME(T.!$J$4,0,0),TIME(T.!$L$4,0,0),D93,E93)","v":"00:00:00"},null,"","00:00:00","",null,null,{"$f":"IFERROR(CHOOSE(WEEKDAY(A93,2),norm!C$1,norm!C$2,norm!C$3,norm!C$4,norm!C$5,norm!C$6,norm!C$7),\"\")","v":"09:00:00"}]
["2019-04-01","Ma","",null,null,null,"","00:00:00","",{"$f":"ColTime(T.!$J$3,T.!$L$3,D94,E94)","v":"00:00:00"},null,{"$f":"ColTime(TIME(T.!$J$4,0,0),TIME(T.!$L$4,0,0),D94,E94)","v":"00:00:00"},null,"","","",null,null,{"$f":"IFERROR(CHOOSE(WEEKDAY(A94,2),norm!C$1,norm!C$2,norm!C$3,norm!C$4,norm!C$5,norm!C$6,norm!C$7),\"\")","v":"09:00:00"}]
["2019-04-02","Ti","",null,null,null,"","00:00:00","",{"$f":"ColTime(T.!$J$3,T.!$L$3,D95,E95)","v":"00:00:00"},null,{"$f":"ColTime(TIME(T.!$J$4,0,0),TIME(T.!$L$4,0,0),D95,E95)","v":"00:00:00"},null,"","","",null,null,{"$f":"IFERROR(CHOOSE(WEEKDAY(A95,2),norm!C$1,norm!C$2,norm!C$3,norm!C$4,norm!C$5,norm!C$6,norm!C$7),\"\")","v":"09:00:00"}]
["2019-04-03","On","",null,null,null,"","00:00:00","",{"$f":"ColTime(T.!$J$3,T.!$L$3,D96,E96)","v":"00:00:00"},null,{"$f":"ColTime(TIME(T.!$J$4,0,0),TIME(T.!$L$4,0,0),D96,E96)","v":"00:00:00"},null,"","","",null,null,{"$f":"IFERROR(CHOOSE(WEEKDAY(A96,2),norm!C$1,norm!C$2,norm!C$3,norm!C$4,norm!C$5,norm!C$6,norm!C$7),\"\")","v":"09:00:00"}]
["2019-04-04","To","",null,null,null,"","00:00:00","",{"$f":"ColTime(T.!$J$3,T.!$L$3,D97,E97)","v":"00:00:00"},null,{"$f":"ColTime(TIME(T.!$J$4,0,0),TIME(T.!$L$4,0,0),D97,E97)","v":"00:00:00"},null,"","","",null,null,{"$f":"IFERROR(CHOOSE(WEEKDAY(A97,2),norm!C$1,norm!C$2,norm!C$3,norm!C$4,norm!C$5,norm!C$6,norm!C$7),\"\")","v":"09:00:00"}]
["2019-04-05","Fr","",null,null,null,"","00:00:00","",{"$f":"ColTime(T.!$J$3,T.!$L$3,D98,E98)","v":"00:00:00"},null,{"$f":"ColTime(TIME(T.!$J$4,0,0),TIME(T.!$L$4,0,0),D98,E98)","v":"00:00:00"},null,"","","",null,null,{"$f":"IFERROR(CHOOSE(WEEKDAY(A98,2),norm!C$1,norm!C$2,norm!C$3,norm!C$4,norm!C$5,norm!C$6,norm!C$7),\"\")","v":"09:00:00"}]
["2019-04-06",{"$f":"IFERROR(PROPER(TEXT(A99,\"ddd\")),\"\")","v":"Lø"},"",null,null,null,"","00:00:00","",{"$f":"ColTime(T.!$J$3,T.!$L$3,D99,E99)","v":"00:00:00"},null,{"$f":"ColTime(TIME(T.!$J$4,0,0),TIME(T.!$L$4,0,0),D99,E99)","v":"00:00:00"},null,"00:00:00","","",null,null,{"$f":"IFERROR(CHOOSE(WEEKDAY(A99,2),norm!C$1,norm!C$2,norm!C$3,norm!C$4,norm!C$5,norm!C$6,norm!C$7),\"\")","v":"09:00:00"}]
["2019-04-07","Sø","",null,null,null,"","00:00:00","",{"$f":"ColTime(T.!$J$3,T.!$L$3,D100,E100)","v":"00:00:00"},null,{"$f":"ColTime(TIME(T.!$J$4,0,0),TIME(T.!$L$4,0,0),D100,E100)","v":"00:00:00"},null,"","00:00:00","",null,null,{"$f":"IFERROR(CHOOSE(WEEKDAY(A100,2),norm!C$1,norm!C$2,norm!C$3,norm!C$4,norm!C$5,norm!C$6,norm!C$7),\"\")","v":"09:00:00"}]
["2019-04-08","Ma","",null,null,null,"","00:00:00","",{"$f":"ColTime(T.!$J$3,T.!$L$3,D101,E101)","v":"00:00:00"},null,{"$f":"ColTime(TIME(T.!$J$4,0,0),TIME(T.!$L$4,0,0),D101,E101)","v":"00:00:00"},null,"","","",null,null,{"$f":"IFERROR(CHOOSE(WEEKDAY(A101,2),norm!C$1,norm!C$2,norm!C$3,norm!C$4,norm!C$5,norm!C$6,norm!C$7),\"\")","v":"09:00:00"}]
["2019-04-09","Ti","",null,null,null,"","00:00:00","",{"$f":"ColTime(T.!$J$3,T.!$L$3,D102,E102)","v":"00:00:00"},null,{"$f":"ColTime(TIME(T.!$J$4,0,0),TIME(T.!$L$4,0,0),D102,E102)","v":"00:00:00"},null,"","","",null,null,{"$f":"IFERROR(CHOOSE(WEEKDAY(A102,2),norm!C$1,norm!C$2,norm!C$3,norm!C$4,norm!C$5,norm!C$6,norm!C$7),\"\")","v":"09:00:00"}]
["2019-04-10","On","",null,null,null,"","00:00:00","",{"$f":"ColTime(T.!$J$3,T.!$L$3,D103,E103)","v":"00:00:00"},null,{"$f":"ColTime(TIME(T.!$J$4,0,0),TIME(T.!$L$4,0,0),D103,E103)","v":"00:00:00"},null,"","","",null,null,{"$f":"IFERROR(CHOOSE(WEEKDAY(A103,2),norm!C$1,norm!C$2,norm!C$3,norm!C$4,norm!C$5,norm!C$6,norm!C$7),\"\")","v":"09:00:00"}]
["2019-04-11","To","",null,null,null,"","00:00:00","",{"$f":"ColTime(T.!$J$3,T.!$L$3,D104,E104)","v":"00:00:00"},null,{"$f":"ColTime(TIME(T.!$J$4,0,0),TIME(T.!$L$4,0,0),D104,E104)","v":"00:00:00"},null,"","","",null,null,{"$f":"IFERROR(CHOOSE(WEEKDAY(A104,2),norm!C$1,norm!C$2,norm!C$3,norm!C$4,norm!C$5,norm!C$6,norm!C$7),\"\")","v":"09:00:00"}]
["2019-04-12","Fr","",null,null,null,"","00:00:00","",{"$f":"ColTime(T.!$J$3,T.!$L$3,D105,E105)","v":"00:00:00"},null,{"$f":"ColTime(TIME(T.!$J$4,0,0),TIME(T.!$L$4,0,0),D105,E105)","v":"00:00:00"},null,"","","",null,null,{"$f":"IFERROR(CHOOSE(WEEKDAY(A105,2),norm!C$1,norm!C$2,norm!C$3,norm!C$4,norm!C$5,norm!C$6,norm!C$7),\"\")","v":"09:00:00"}]
["2019-04-13","Lø","",null,null,null,"","00:00:00","",{"$f":"ColTime(T.!$J$3,T.!$L$3,D106,E106)","v":"00:00:00"},null,{"$f":"ColTime(TIME(T.!$J$4,0,0),TIME(T.!$L$4,0,0),D106,E106)","v":"00:00:00"},null,"00:00:00","","",null,null,{"$f":"IFERROR(CHOOSE(WEEKDAY(A106,2),norm!C$1,norm!C$2,norm!C$3,norm!C$4,norm!C$5,norm!C$6,norm!C$7),\"\")","v":"09:00:00"}]
["2019-04-14","Sø","",null,null,null,"","00:00:00","",{"$f":"ColTime(T.!$J$3,T.!$L$3,D107,E107)","v":"00:00:00"},null,{"$f":"ColTime(TIME(T.!$J$4,0,0),TIME(T.!$L$4,0,0),D107,E107)","v":"00:00:00"},null,"","00:00:00","",null,null,{"$f":"IFERROR(CHOOSE(WEEKDAY(A107,2),norm!C$1,norm!C$2,norm!C$3,norm!C$4,norm!C$5,norm!C$6,norm!C$7),\"\")","v":"09:00:00"}]
["2019-04-15","Ma","",null,null,null,"","00:00:00","",{"$f":"ColTime(T.!$J$3,T.!$L$3,D108,E108)","v":"00:00:00"},null,{"$f":"ColTime(TIME(T.!$J$4,0,0),TIME(T.!$L$4,0,0),D108,E108)","v":"00:00:00"},null,"","","",null,null,{"$f":"IFERROR(CHOOSE(WEEKDAY(A108,2),norm!C$1,norm!C$2,norm!C$3,norm!C$4,norm!C$5,norm!C$6,norm!C$7),\"\")","v":"09:00:00"}]
["2019-04-16","Ti",{"$f":"IF(A109=\"\",\"\",HelligdagsNavn(A109,0,0))","v":""},null,null,null,{"$f":"IF(D109=\"\",\"\",(E109-D109)+(D109>E109)-F109)","v":""},{"$f":"IF(G109=\"\",0,IF(WEEKDAY(A109,2)=7,0,IF(G109>S109,MIN(G109-S109,$AI$1),0)))","v":"00:00:00"},{"$f":"IF(G109=\"\",\"\",IF(G109>S109+H109,G109-(S109+H109),\"\"))","v":""},{"$f":"ColTime(T.!$J$3,T.!$L$3,D109,E109)","v":"00:00:00"},null,{"$f":"ColTime(TIME(T.!$J$4,0,0),TIME(T.!$L$4,0,0),D109,E109)","v":"00:00:00"},null,{"$f":"IFERROR(IF(WEEKDAY(A109,2)=6,ColTime(TIME(15,0,0),TIME(24,0,0),D109,E109),\"\"),\"\")","v":""},{"$f":"IFERROR(IF(OR(C109<>\"\",WEEKDAY(A109,2)=7),ColTime(TIME(0,0,0),TIME(24,0,0),D109,E109),\"\"),\"\")","v":""},{"$f":"IFERROR(H109+I109,\"\")","v":""},null,null,{"$f":"IFERROR(CHOOSE(WEEKDAY(A109,2),norm!C$1,norm!C$2,norm!C$3,norm!C$4,norm!C$5,norm!C$6,norm!C$7),\"\")","v":"09:00:00"}]
["2019-04-17","On","",null,null,null,"","00:00:00","",{"$f":"ColTime(T.!$J$3,T.!$L$3,D110,E110)","v":"00:00:00"},null,{"$f":"ColTime(TIME(T.!$J$4,0,0),TIME(T.!$L$4,0,0),D110,E110)","v":"00:00:00"},null,"","","",null,null,{"$f":"IFERROR(CHOOSE(WEEKDAY(A110,2),norm!C$1,norm!C$2,norm!C$3,norm!C$4,norm!C$5,norm!C$6,norm!C$7),\"\")","v":"09:00:00"}]
["2019-04-18","To","Skærtorsdag",null,null,null,"","00:00:00","",{"$f":"ColTime(T.!$J$3,T.!$L$3,D111,E111)","v":"00:00:00"},null,{"$f":"ColTime(TIME(T.!$J$4,0,0),TIME(T.!$L$4,0,0),D111,E111)","v":"00:00:00"},null,"","00:00:00","",null,null,{"$f":"IFERROR(CHOOSE(WEEKDAY(A111,2),norm!C$1,norm!C$2,norm!C$3,norm!C$4,norm!C$5,norm!C$6,norm!C$7),\"\")","v":"09:00:00"}]
["2019-04-19","Fr","Langfredag",null,null,null,"","00:00:00","",{"$f":"ColTime(T.!$J$3,T.!$L$3,D112,E112)","v":"00:00:00"},null,{"$f":"ColTime(TIME(T.!$J$4,0,0),TIME(T.!$L$4,0,0),D112,E112)","v":"00:00:00"},null,"","00:00:00","",null,null,{"$f":"IFERROR(CHOOSE(WEEKDAY(A112,2),norm!C$1,norm!C$2,norm!C$3,norm!C$4,norm!C$5,norm!C$6,norm!C$7),\"\")","v":"09:00:00"}]
["2019-04-20","Lø","",null,null,null,"","00:00:00","",{"$f":"ColTime(T.!$J$3,T.!$L$3,D113,E113)","v":"00:00:00"},null,{"$f":"ColTime(TIME(T.!$J$4,0,0),TIME(T.!$L$4,0,0),D113,E113)","v":"00:00:00"},null,"00:00:00","","",null,null,{"$f":"IFERROR(CHOOSE(WEEKDAY(A113,2),norm!C$1,norm!C$2,norm!C$3,norm!C$4,norm!C$5,norm!C$6,norm!C$7),\"\")","v":"09:00:00"}]
["2019-04-21","Sø","Påskedag",null,null,null,"","00:00:00","",{"$f":"ColTime(T.!$J$3,T.!$L$3,D114,E114)","v":"00:00:00"},null,{"$f":"ColTime(TIME(T.!$J$4,0,0),TIME(T.!$L$4,0,0),D114,E114)","v":"00:00:00"},null,"","00:00:00","",null,null,{"$f":"IFERROR(CHOOSE(WEEKDAY(A114,2),norm!C$1,norm!C$2,norm!C$3,norm!C$4,norm!C$5,norm!C$6,norm!C$7),\"\")","v":"09:00:00"}]
["2019-04-22","Ma","2. Påskedag",null,null,null,"","00:00:00","",{"$f":"ColTime(T.!$J$3,T.!$L$3,D115,E115)","v":"00:00:00"},null,{"$f":"ColTime(TIME(T.!$J$4,0,0),TIME(T.!$L$4,0,0),D115,E115)","v":"00:00:00"},null,"","00:00:00","",null,null,{"$f":"IFERROR(CHOOSE(WEEKDAY(A115,2),norm!C$1,norm!C$2,norm!C$3,norm!C$4,norm!C$5,norm!C$6,norm!C$7),\"\")","v":"09:00:00"}]
["2019-04-23","Ti","",null,null,null,"","00:00:00","",{"$f":"ColTime(T.!$J$3,T.!$L$3,D116,E116)","v":"00:00:00"},null,{"$f":"ColTime(TIME(T.!$J$4,0,0),TIME(T.!$L$4,0,0),D116,E116)","v":"00:00:00"},null,"","","",null,null,{"$f":"IFERROR(CHOOSE(WEEKDAY(A116,2),norm!C$1,norm!C$2,norm!C$3,norm!C$4,norm!C$5,norm!C$6,norm!C$7),\"\")","v":"09:00:00"}]
["2019-04-24","On","",null,null,null,"","00:00:00","",{"$f":"ColTime(T.!$J$3,T.!$L$3,D117,E117)","v":"00:00:00"},null,{"$f":"ColTime(TIME(T.!$J$4,0,0),TIME(T.!$L$4,0,0),D117,E117)","v":"00:00:00"},null,"","","",null,null,{"$f":"IFERROR(CHOOSE(WEEKDAY(A117,2),norm!C$1,norm!C$2,norm!C$3,norm!C$4,norm!C$5,norm!C$6,norm!C$7),\"\")","v":"09:00:00"}]
["2019-04-25","To","",null,null,null,"","00:00:00","",{"$f":"ColTime(T.!$J$3,T.!$L$3,D118,E118)","v":"00:00:00"},null,{"$f":"ColTime(TIME(T.!$J$4,0,0),TIME(T.!$L$4,0,0),D118,E118)","v":"00:00:00"},null,"","","",null,null,{"$f":"IFERROR(CHOOSE(WEEKDAY(A118,2),norm!C$1,norm!C$2,norm!C$3,norm!C$4,norm!C$5,norm!C$6,norm!C$7),\"\")","v":"09:00:00"}]
["2019-04-26","Fr","",null,null,null,"","00:00:00","",{"$f":"ColTime(T.!$J$3,T.!$L$3,D119,E119)","v":"00:00:00"},null,{"$f":"ColTime(TIME(T.!$J$4,0,0),TIME(T.!$L$4,0,0),D119,E119)","v":"00:00:00"},null,"","","",null,null,{"$f":"IFERROR(CHOOSE(WEEKDAY(A119,2),norm!C$1,norm!C$2,norm!C$3,norm!C$4,norm!C$5,norm!C$6,norm!C$7),\"\")","v":"09:00:00"}]
["2019-04-27","Lø","",null,null,null,"","00:00:00","",{"$f":"ColTime(T.!$J$3,T.!$L$3,D120,E120)","v":"00:00:00"},null,{"$f":"ColTime(TIME(T.!$J$4,0,0),TIME(T.!$L$4,0,0),D120,E120)","v":"00:00:00"},null,"00:00:00","","",null,null,{"$f":"IFERROR(CHOOSE(WEEKDAY(A120,2),norm!C$1,norm!C$2,norm!C$3,norm!C$4,norm!C$5,norm!C$6,norm!C$7),\"\")","v":"09:00:00"}]
["2019-04-28","Sø","",null,null,null,"","00:00:00","",{"$f":"ColTime(T.!$J$3,T.!$L$3,D121,E121)","v":"00:00:00"},null,{"$f":"ColTime(TIME(T.!$J$4,0,0),TIME(T.!$L$4,0,0),D121,E121)","v":"00:00:00"},null,"","00:00:00","",null,null,{"$f":"IFERROR(CHOOSE(WEEKDAY(A121,2),norm!C$1,norm!C$2,norm!C$3,norm!C$4,norm!C$5,norm!C$6,norm!C$7),\"\")","v":"09:00:00"}]
["2019-04-29","Ma","",null,null,null,"","00:00:00","",{"$f":"ColTime(T.!$J$3,T.!$L$3,D122,E122)","v":"00:00:00"},null,{"$f":"ColTime(TIME(T.!$J$4,0,0),TIME(T.!$L$4,0,0),D122,E122)","v":"00:00:00"},null,"","","",null,null,{"$f":"IFERROR(CHOOSE(WEEKDAY(A122,2),norm!C$1,norm!C$2,norm!C$3,norm!C$4,norm!C$5,norm!C$6,norm!C$7),\"\")","v":"09:00:00"}]
["2019-04-30","Ti","",null,null,null,"","00:00:00","",{"$f":"ColTime(T.!$J$3,T.!$L$3,D123,E123)","v":"00:00:00"},null,{"$f":"ColTime(TIME(T.!$J$4,0,0),TIME(T.!$L$4,0,0),D123,E123)","v":"00:00:00"},null,"","","",null,null,{"$f":"IFERROR(CHOOSE(WEEKDAY(A123,2),norm!C$1,norm!C$2,norm!C$3,norm!C$4,norm!C$5,norm!C$6,norm!C$7),\"\")","v":"09:00:00"}]
["2019-05-01","On","",null,null,null,"","00:00:00","",{"$f":"ColTime(T.!$J$3,T.!$L$3,D124,E124)","v":"00:00:00"},null,{"$f":"ColTime(TIME(T.!$J$4,0,0),TIME(T.!$L$4,0,0),D124,E124)","v":"00:00:00"},null,"","","",null,null,{"$f":"IFERROR(CHOOSE(WEEKDAY(A124,2),norm!C$1,norm!C$2,norm!C$3,norm!C$4,norm!C$5,norm!C$6,norm!C$7),\"\")","v":"09:00:00"}]
["2019-05-02","To","",null,null,null,"","00:00:00","",{"$f":"ColTime(T.!$J$3,T.!$L$3,D125,E125)","v":"00:00:00"},null,{"$f":"ColTime(TIME(T.!$J$4,0,0),TIME(T.!$L$4,0,0),D125,E125)","v":"00:00:00"},null,"","","",null,null,{"$f":"IFERROR(CHOOSE(WEEKDAY(A125,2),norm!C$1,norm!C$2,norm!C$3,norm!C$4,norm!C$5,norm!C$6,norm!C$7),\"\")","v":"09:00:00"}]
["2019-05-03","Fr","",null,null,null,"","00:00:00","",{"$f":"ColTime(T.!$J$3,T.!$L$3,D126,E126)","v":"00:00:00"},null,{"$f":"ColTime(TIME(T.!$J$4,0,0),TIME(T.!$L$4,0,0),D126,E126)","v":"00:00:00"},null,"","","",null,null,{"$f":"IFERROR(CHOOSE(WEEKDAY(A126,2),norm!C$1,norm!C$2,norm!C$3,norm!C$4,norm!C$5,norm!C$6,norm!C$7),\"\")","v":"09:00:00"}]
["2019-05-04","Lø","",null,null,null,"","00:00:00","",{"$f":"ColTime(T.!$J$3,T.!$L$3,D127,E127)","v":"00:00:00"},null,{"$f":"ColTime(TIME(T.!$J$4,0,0),TIME(T.!$L$4,0,0),D127,E127)","v":"00:00:00"},null,"00:00:00","","",null,null,{"$f":"IFERROR(CHOOSE(WEEKDAY(A127,2),norm!C$1,norm!C$2,norm!C$3,norm!C$4,norm!C$5,norm!C$6,norm!C$7),\"\")","v":"09:00:00"}]
["2019-05-05","Sø","",null,null,null,"","00:00:00","",{"$f":"ColTime(T.!$J$3,T.!$L$3,D128,E128)","v":"00:00:00"},null,{"$f":"ColTime(TIME(T.!$J$4,0,0),TIME(T.!$L$4,0,0),D128,E128)","v":"00:00:00"},null,"","00:00:00","",null,null,{"$f":"IFERROR(CHOOSE(WEEKDAY(A128,2),norm!C$1,norm!C$2,norm!C$3,norm!C$4,norm!C$5,norm!C$6,norm!C$7),\"\")","v":"09:00:00"}]
["2019-05-06","Ma","",null,null,null,"","00:00:00","",{"$f":"ColTime(T.!$J$3,T.!$L$3,D129,E129)","v":"00:00:00"},null,{"$f":"ColTime(TIME(T.!$J$4,0,0),TIME(T.!$L$4,0,0),D129,E129)","v":"00:00:00"},null,"","","",null,null,{"$f":"IFERROR(CHOOSE(WEEKDAY(A129,2),norm!C$1,norm!C$2,norm!C$3,norm!C$4,norm!C$5,norm!C$6,norm!C$7),\"\")","v":"09:00:00"}]
["2019-05-07","Ti","",null,null,null,"","00:00:00","",{"$f":"ColTime(T.!$J$3,T.!$L$3,D130,E130)","v":"00:00:00"},null,{"$f":"ColTime(TIME(T.!$J$4,0,0),TIME(T.!$L$4,0,0),D130,E130)","v":"00:00:00"},null,"","","",null,null,{"$f":"IFERROR(CHOOSE(WEEKDAY(A130,2),norm!C$1,norm!C$2,norm!C$3,norm!C$4,norm!C$5,norm!C$6,norm!C$7),\"\")","v":"09:00:00"}]
["2019-05-08","On","",null,null,null,"","00:00:00","",{"$f":"ColTime(T.!$J$3,T.!$L$3,D131,E131)","v":"00:00:00"},null,{"$f":"ColTime(TIME(T.!$J$4,0,0),TIME(T.!$L$4,0,0),D131,E131)","v":"00:00:00"},null,"","","",null,null,{"$f":"IFERROR(CHOOSE(WEEKDAY(A131,2),norm!C$1,norm!C$2,norm!C$3,norm!C$4,norm!C$5,norm!C$6,norm!C$7),\"\")","v":"09:00:00"}]
["2019-05-09","To","",null,null,null,"","00:00:00","",{"$f":"ColTime(T.!$J$3,T.!$L$3,D132,E132)","v":"00:00:00"},null,{"$f":"ColTime(TIME(T.!$J$4,0,0),TIME(T.!$L$4,0,0),D132,E132)","v":"00:00:00"},null,"","","",null,null,{"$f":"IFERROR(CHOOSE(WEEKDAY(A132,2),norm!C$1,norm!C$2,norm!C$3,norm!C$4,norm!C$5,norm!C$6,norm!C$7),\"\")","v":"09:00:00"}]
["2019-05-10","Fr","",null,null,null,"","00:00:00","",{"$f":"ColTime(T.!$J$3,T.!$L$3,D133,E133)","v":"00:00:00"},null,{"$f":"ColTime(TIME(T.!$J$4,0,0),TIME(T.!$L$4,0,0),D133,E133)","v":"00:00:00"},null,"","","",null,null,{"$f":"IFERROR(CHOOSE(WEEKDAY(A133,2),norm!C$1,norm!C$2,norm!C$3,norm!C$4,norm!C$5,norm!C$6,norm!C$7),\"\")","v":"09:00:00"}]
["2019-05-11","Lø","",null,null,null,"","00:00:00","",{"$f":"ColTime(T.!$J$3,T.!$L$3,D134,E134)","v":"00:00:00"},null,{"$f":"ColTime(TIME(T.!$J$4,0,0),TIME(T.!$L$4,0,0),D134,E134)","v":"00:00:00"},null,"00:00:00","","",null,null,{"$f":"IFERROR(CHOOSE(WEEKDAY(A134,2),norm!C$1,norm!C$2,norm!C$3,norm!C$4,norm!C$5,norm!C$6,norm!C$7),\"\")","v":"09:00:00"}]
["2019-05-12","Sø","",null,null,null,"","00:00:00","",{"$f":"ColTime(T.!$J$3,T.!$L$3,D135,E135)","v":"00:00:00"},null,{"$f":"ColTime(TIME(T.!$J$4,0,0),TIME(T.!$L$4,0,0),D135,E135)","v":"00:00:00"},null,"","00:00:00","",null,null,{"$f":"IFERROR(CHOOSE(WEEKDAY(A135,2),norm!C$1,norm!C$2,norm!C$3,norm!C$4,norm!C$5,norm!C$6,norm!C$7),\"\")","v":"09:00:00"}]
["2019-05-13","Ma","",null,null,null,"","00:00:00","",{"$f":"ColTime(T.!$J$3,T.!$L$3,D136,E136)","v":"00:00:00"},null,{"$f":"ColTime(TIME(T.!$J$4,0,0),TIME(T.!$L$4,0,0),D136,E136)","v":"00:00:00"},null,"","","",null,null,{"$f":"IFERROR(CHOOSE(WEEKDAY(A136,2),norm!C$1,norm!C$2,norm!C$3,norm!C$4,norm!C$5,norm!C$6,norm!C$7),\"\")","v":"09:00:00"}]
["2019-05-14","Ti","",null,null,null,"","00:00:00","",{"$f":"ColTime(T.!$J$3,T.!$L$3,D137,E137)","v":"00:00:00"},null,{"$f":"ColTime(TIME(T.!$J$4,0,0),TIME(T.!$L$4,0,0),D137,E137)","v":"00:00:00"},null,"","","",null,null,{"$f":"IFERROR(CHOOSE(WEEKDAY(A137,2),norm!C$1,norm!C$2,norm!C$3,norm!C$4,norm!C$5,norm!C$6,norm!C$7),\"\")","v":"09:00:00"}]
["2019-05-15","On","",null,null,null,"","00:00:00","",{"$f":"ColTime(T.!$J$3,T.!$L$3,D138,E138)","v":"00:00:00"},null,{"$f":"ColTime(TIME(T.!$J$4,0,0),TIME(T.!$L$4,0,0),D138,E138)","v":"00:00:00"},null,"","","",null,null,{"$f":"IFERROR(CHOOSE(WEEKDAY(A138,2),norm!C$1,norm!C$2,norm!C$3,norm!C$4,norm!C$5,norm!C$6,norm!C$7),\"\")","v":"09:00:00"}]
["2019-05-16","To","",null,null,null,"","00:00:00","",{"$f":"ColTime(T.!$J$3,T.!$L$3,D139,E139)","v":"00:00:00"},null,{"$f":"ColTime(TIME(T.!$J$4,0,0),TIME(T.!$L$4,0,0),D139,E139)","v":"00:00:00"},null,"","","",null,null,{"$f":"IFERROR(CHOOSE(WEEKDAY(A139,2),norm!C$1,norm!C$2,norm!C$3,norm!C$4,norm!C$5,norm!C$6,norm!C$7),\"\")","v":"09:00:00"}]
["2019-05-17","Fr","Store Bededag",null,null,null,"","00:00:00","",{"$f":"ColTime(T.!$J$3,T.!$L$3,D140,E140)","v":"00:00:00"},null,{"$f":"ColTime(TIME(T.!$J$4,0,0),TIME(T.!$L$4,0,0),D140,E140)","v":"00:00:00"},null,"","00:00:00","",null,null,{"$f":"IFERROR(CHOOSE(WEEKDAY(A140,2),norm!C$1,norm!C$2,norm!C$3,norm!C$4,norm!C$5,norm!C$6,norm!C$7),\"\")","v":"09:00:00"}]
["2019-05-18","Lø","",null,null,null,"","00:00:00","",{"$f":"ColTime(T.!$J$3,T.!$L$3,D141,E141)","v":"00:00:00"},null,{"$f":"ColTime(TIME(T.!$J$4,0,0),TIME(T.!$L$4,0,0),D141,E141)","v":"00:00:00"},null,"00:00:00","","",null,null,{"$f":"IFERROR(CHOOSE(WEEKDAY(A141,2),norm!C$1,norm!C$2,norm!C$3,norm!C$4,norm!C$5,norm!C$6,norm!C$7),\"\")","v":"09:00:00"}]
["2019-05-19","Sø","",null,null,null,"","00:00:00","",{"$f":"ColTime(T.!$J$3,T.!$L$3,D142,E142)","v":"00:00:00"},null,{"$f":"ColTime(TIME(T.!$J$4,0,0),TIME(T.!$L$4,0,0),D142,E142)","v":"00:00:00"},null,"","00:00:00","",null,null,{"$f":"IFERROR(CHOOSE(WEEKDAY(A142,2),norm!C$1,norm!C$2,norm!C$3,norm!C$4,norm!C$5,norm!C$6,norm!C$7),\"\")","v":"09:00:00"}]
["2019-05-20","Ma","",null,null,null,"","00:00:00","",{"$f":"ColTime(T.!$J$3,T.!$L$3,D143,E143)","v":"00:00:00"},null,{"$f":"ColTime(TIME(T.!$J$4,0,0),TIME(T.!$L$4,0,0),D143,E143)","v":"00:00:00"},null,"","","",null,null,{"$f":"IFERROR(CHOOSE(WEEKDAY(A143,2),norm!C$1,norm!C$2,norm!C$3,norm!C$4,norm!C$5,norm!C$6,norm!C$7),\"\")","v":"09:00:00"}]
["2019-05-21","Ti","",null,null,null,"","00:00:00","",{"$f":"ColTime(T.!$J$3,T.!$L$3,D144,E144)","v":"00:00:00"},null,{"$f":"ColTime(TIME(T.!$J$4,0,0),TIME(T.!$L$4,0,0),D144,E144)","v":"00:00:00"},null,"","","",null,null,{"$f":"IFERROR(CHOOSE(WEEKDAY(A144,2),norm!C$1,norm!C$2,norm!C$3,norm!C$4,norm!C$5,norm!C$6,norm!C$7),\"\")","v":"09:00:00"}]
["2019-05-22","On",{"$f":"IF(A145=\"\",\"\",HelligdagsNavn(A145,0,0))","v":""},null,null,null,{"$f":"IF(D145=\"\",\"\",(E145-D145)+(D145>E145)-F145)","v":""},{"$f":"IF(G145=\"\",0,IF(WEEKDAY(A145,2)=7,0,IF(G145>S145,MIN(G145-S145,$AI$1),0)))","v":"00:00:00"},{"$f":"IF(G145=\"\",\"\",IF(G145>S145+H145,G145-(S145+H145),\"\"))","v":""},{"$f":"ColTime(T.!$J$3,T.!$L$3,D145,E145)","v":"00:00:00"},null,{"$f":"ColTime(TIME(T.!$J$4,0,0),TIME(T.!$L$4,0,0),D145,E145)","v":"00:00:00"},null,{"$f":"IFERROR(IF(WEEKDAY(A145,2)=6,ColTime(TIME(15,0,0),TIME(24,0,0),D145,E145),\"\"),\"\")","v":""},{"$f":"IFERROR(IF(OR(C145<>\"\",WEEKDAY(A145,2)=7),ColTime(TIME(0,0,0),TIME(24,0,0),D145,E145),\"\"),\"\")","v":""},{"$f":"IFERROR(H145+I145,\"\")","v":""},null,null,{"$f":"IFERROR(CHOOSE(WEEKDAY(A145,2),norm!C$1,norm!C$2,norm!C$3,norm!C$4,norm!C$5,norm!C$6,norm!C$7),\"\")","v":"09:00:00"}]
["2019-05-23","To","",null,null,null,"","00:00:00","",{"$f":"ColTime(T.!$J$3,T.!$L$3,D146,E146)","v":"00:00:00"},null,{"$f":"ColTime(TIME(T.!$J$4,0,0),TIME(T.!$L$4,0,0),D146,E146)","v":"00:00:00"},null,"","","",null,null,{"$f":"IFERROR(CHOOSE(WEEKDAY(A146,2),norm!C$1,norm!C$2,norm!C$3,norm!C$4,norm!C$5,norm!C$6,norm!C$7),\"\")","v":"09:00:00"}]
["2019-05-24","Fr","",null,null,null,"","00:00:00","",{"$f":"ColTime(T.!$J$3,T.!$L$3,D147,E147)","v":"00:00:00"},null,{"$f":"ColTime(TIME(T.!$J$4,0,0),TIME(T.!$L$4,0,0),D147,E147)","v":"00:00:00"},null,"","","",null,null,{"$f":"IFERROR(CHOOSE(WEEKDAY(A147,2),norm!C$1,norm!C$2,norm!C$3,norm!C$4,norm!C$5,norm!C$6,norm!C$7),\"\")","v":"09:00:00"}]
["2019-05-25","Lø","",null,null,null,"","00:00:00","",{"$f":"ColTime(T.!$J$3,T.!$L$3,D148,E148)","v":"00:00:00"},null,{"$f":"ColTime(TIME(T.!$J$4,0,0),TIME(T.!$L$4,0,0),D148,E148)","v":"00:00:00"},null,"00:00:00","","",null,null,{"$f":"IFERROR(CHOOSE(WEEKDAY(A148,2),norm!C$1,norm!C$2,norm!C$3,norm!C$4,norm!C$5,norm!C$6,norm!C$7),\"\")","v":"09:00:00"}]
["2019-05-26","Sø","",null,null,null,"","00:00:00","",{"$f":"ColTime(T.!$J$3,T.!$L$3,D149,E149)","v":"00:00:00"},null,{"$f":"ColTime(TIME(T.!$J$4,0,0),TIME(T.!$L$4,0,0),D149,E149)","v":"00:00:00"},null,"","00:00:00","",null,null,{"$f":"IFERROR(CHOOSE(WEEKDAY(A149,2),norm!C$1,norm!C$2,norm!C$3,norm!C$4,norm!C$5,norm!C$6,norm!C$7),\"\")","v":"09:00:00"}]
["2019-05-27","Ma","",null,null,null,"","00:00:00","",{"$f":"ColTime(T.!$J$3,T.!$L$3,D150,E150)","v":"00:00:00"},null,{"$f":"ColTime(TIME(T.!$J$4,0,0),TIME(T.!$L$4,0,0),D150,E150)","v":"00:00:00"},null,"","","",null,null,{"$f":"IFERROR(CHOOSE(WEEKDAY(A150,2),norm!C$1,norm!C$2,norm!C$3,norm!C$4,norm!C$5,norm!C$6,norm!C$7),\"\")","v":"09:00:00"}]
["2019-05-28","Ti","",null,null,null,"","00:00:00","",{"$f":"ColTime(T.!$J$3,T.!$L$3,D151,E151)","v":"00:00:00"},null,{"$f":"ColTime(TIME(T.!$J$4,0,0),TIME(T.!$L$4,0,0),D151,E151)","v":"00:00:00"},null,"","","",null,null,{"$f":"IFERROR(CHOOSE(WEEKDAY(A151,2),norm!C$1,norm!C$2,norm!C$3,norm!C$4,norm!C$5,norm!C$6,norm!C$7),\"\")","v":"09:00:00"}]
["2019-05-29","On","",null,null,null,"","00:00:00","",{"$f":"ColTime(T.!$J$3,T.!$L$3,D152,E152)","v":"00:00:00"},null,{"$f":"ColTime(TIME(T.!$J$4,0,0),TIME(T.!$L$4,0,0),D152,E152)","v":"00:00:00"},null,"","","",null,null,{"$f":"IFERROR(CHOOSE(WEEKDAY(A152,2),norm!C$1,norm!C$2,norm!C$3,norm!C$4,norm!C$5,norm!C$6,norm!C$7),\"\")","v":"09:00:00"}]
["2019-05-30","To","Kristi Himmelfartsdag",null,null,null,"","00:00:00","",{"$f":"ColTime(T.!$J$3,T.!$L$3,D153,E153)","v":"00:00:00"},null,{"$f":"ColTime(TIME(T.!$J$4,0,0),TIME(T.!$L$4,0,0),D153,E153)","v":"00:00:00"},null,"","00:00:00","",null,null,{"$f":"IFERROR(CHOOSE(WEEKDAY(A153,2),norm!C$1,norm!C$2,norm!C$3,norm!C$4,norm!C$5,norm!C$6,norm!C$7),\"\")","v":"09:00:00"}]
["2019-05-31","Fr","",null,null,null,"","00:00:00","",{"$f":"ColTime(T.!$J$3,T.!$L$3,D154,E154)","v":"00:00:00"},null,{"$f":"ColTime(TIME(T.!$J$4,0,0),TIME(T.!$L$4,0,0),D154,E154)","v":"00:00:00"},null,"","","",null,null,{"$f":"IFERROR(CHOOSE(WEEKDAY(A154,2),norm!C$1,norm!C$2,norm!C$3,norm!C$4,norm!C$5,norm!C$6,norm!C$7),\"\")","v":"09:00:00"}]
[{"$f":"A154+1","v":"2019-06-01"},"Lø","",null,null,null,"","00:00:00","",{"$f":"ColTime(T.!$J$3,T.!$L$3,D155,E155)","v":"00:00:00"},null,{"$f":"ColTime(TIME(T.!$J$4,0,0),TIME(T.!$L$4,0,0),D155,E155)","v":"00:00:00"},null,"00:00:00","","",null,null,{"$f":"IFERROR(CHOOSE(WEEKDAY(A155,2),norm!C$1,norm!C$2,norm!C$3,norm!C$4,norm!C$5,norm!C$6,norm!C$7),\"\")","v":"09:00:00"}]
["2019-06-02","Sø","",null,null,null,"","00:00:00","",{"$f":"ColTime(T.!$J$3,T.!$L$3,D156,E156)","v":"00:00:00"},null,{"$f":"ColTime(TIME(T.!$J$4,0,0),TIME(T.!$L$4,0,0),D156,E156)","v":"00:00:00"},null,"","00:00:00","",null,null,{"$f":"IFERROR(CHOOSE(WEEKDAY(A156,2),norm!C$1,norm!C$2,norm!C$3,norm!C$4,norm!C$5,norm!C$6,norm!C$7),\"\")","v":"09:00:00"}]
["2019-06-03","Ma","",null,null,null,"","00:00:00","",{"$f":"ColTime(T.!$J$3,T.!$L$3,D157,E157)","v":"00:00:00"},null,{"$f":"ColTime(TIME(T.!$J$4,0,0),TIME(T.!$L$4,0,0),D157,E157)","v":"00:00:00"},null,"","","",null,null,{"$f":"IFERROR(CHOOSE(WEEKDAY(A157,2),norm!C$1,norm!C$2,norm!C$3,norm!C$4,norm!C$5,norm!C$6,norm!C$7),\"\")","v":"09:00:00"}]
["2019-06-04","Ti","",null,null,null,"","00:00:00","",{"$f":"ColTime(T.!$J$3,T.!$L$3,D158,E158)","v":"00:00:00"},null,{"$f":"ColTime(TIME(T.!$J$4,0,0),TIME(T.!$L$4,0,0),D158,E158)","v":"00:00:00"},null,"","","",null,null,{"$f":"IFERROR(CHOOSE(WEEKDAY(A158,2),norm!C$1,norm!C$2,norm!C$3,norm!C$4,norm!C$5,norm!C$6,norm!C$7),\"\")","v":"09:00:00"}]
["2019-06-05","On","Grundlovsdag",null,null,null,"","00:00:00","",{"$f":"ColTime(T.!$J$3,T.!$L$3,D159,E159)","v":"00:00:00"},null,{"$f":"ColTime(TIME(T.!$J$4,0,0),TIME(T.!$L$4,0,0),D159,E159)","v":"00:00:00"},null,"","00:00:00","",null,null,{"$f":"IFERROR(CHOOSE(WEEKDAY(A159,2),norm!C$1,norm!C$2,norm!C$3,norm!C$4,norm!C$5,norm!C$6,norm!C$7),\"\")","v":"09:00:00"}]
["2019-06-06","To","",null,null,null,"","00:00:00","",{"$f":"ColTime(T.!$J$3,T.!$L$3,D160,E160)","v":"00:00:00"},null,{"$f":"ColTime(TIME(T.!$J$4,0,0),TIME(T.!$L$4,0,0),D160,E160)","v":"00:00:00"},null,"","","",null,null,{"$f":"IFERROR(CHOOSE(WEEKDAY(A160,2),norm!C$1,norm!C$2,norm!C$3,norm!C$4,norm!C$5,norm!C$6,norm!C$7),\"\")","v":"09:00:00"}]
["2019-06-07","Fr","",null,null,null,"","00:00:00","",{"$f":"ColTime(T.!$J$3,T.!$L$3,D161,E161)","v":"00:00:00"},null,{"$f":"ColTime(TIME(T.!$J$4,0,0),TIME(T.!$L$4,0,0),D161,E161)","v":"00:00:00"},null,"","","",null,null,{"$f":"IFERROR(CHOOSE(WEEKDAY(A161,2),norm!C$1,norm!C$2,norm!C$3,norm!C$4,norm!C$5,norm!C$6,norm!C$7),\"\")","v":"09:00:00"}]
["2019-06-08","Lø","",null,null,null,"","00:00:00","",{"$f":"ColTime(T.!$J$3,T.!$L$3,D162,E162)","v":"00:00:00"},null,{"$f":"ColTime(TIME(T.!$J$4,0,0),TIME(T.!$L$4,0,0),D162,E162)","v":"00:00:00"},null,"00:00:00","","",null,null,{"$f":"IFERROR(CHOOSE(WEEKDAY(A162,2),norm!C$1,norm!C$2,norm!C$3,norm!C$4,norm!C$5,norm!C$6,norm!C$7),\"\")","v":"09:00:00"}]
["2019-06-09",{"$f":"IFERROR(PROPER(TEXT(A163,\"ddd\")),\"\")","v":"Sø"},"Pinsedag",null,null,null,"","00:00:00","",{"$f":"ColTime(T.!$J$3,T.!$L$3,D163,E163)","v":"00:00:00"},null,{"$f":"ColTime(TIME(T.!$J$4,0,0),TIME(T.!$L$4,0,0),D163,E163)","v":"00:00:00"},null,"","00:00:00","",null,null,{"$f":"IFERROR(CHOOSE(WEEKDAY(A163,2),norm!C$1,norm!C$2,norm!C$3,norm!C$4,norm!C$5,norm!C$6,norm!C$7),\"\")","v":"09:00:00"}]
["2019-06-10","Ma","2. Pinsedag",null,null,null,"","00:00:00","",{"$f":"ColTime(T.!$J$3,T.!$L$3,D164,E164)","v":"00:00:00"},null,{"$f":"ColTime(TIME(T.!$J$4,0,0),TIME(T.!$L$4,0,0),D164,E164)","v":"00:00:00"},null,"","00:00:00","",null,null,{"$f":"IFERROR(CHOOSE(WEEKDAY(A164,2),norm!C$1,norm!C$2,norm!C$3,norm!C$4,norm!C$5,norm!C$6,norm!C$7),\"\")","v":"09:00:00"}]
["2019-06-11","Ti","",null,null,null,"","00:00:00","",{"$f":"ColTime(T.!$J$3,T.!$L$3,D165,E165)","v":"00:00:00"},null,{"$f":"ColTime(TIME(T.!$J$4,0,0),TIME(T.!$L$4,0,0),D165,E165)","v":"00:00:00"},null,"","","",null,null,{"$f":"IFERROR(CHOOSE(WEEKDAY(A165,2),norm!C$1,norm!C$2,norm!C$3,norm!C$4,norm!C$5,norm!C$6,norm!C$7),\"\")","v":"09:00:00"}]
["2019-06-12","On","",null,null,null,"","00:00:00","",{"$f":"ColTime(T.!$J$3,T.!$L$3,D166,E166)","v":"00:00:00"},null,{"$f":"ColTime(TIME(T.!$J$4,0,0),TIME(T.!$L$4,0,0),D166,E166)","v":"00:00:00"},null,"","","",null,null,{"$f":"IFERROR(CHOOSE(WEEKDAY(A166,2),norm!C$1,norm!C$2,norm!C$3,norm!C$4,norm!C$5,norm!C$6,norm!C$7),\"\")","v":"09:00:00"}]
["2019-06-13","To","",null,null,null,"","00:00:00","",{"$f":"ColTime(T.!$J$3,T.!$L$3,D167,E167)","v":"00:00:00"},null,{"$f":"ColTime(TIME(T.!$J$4,0,0),TIME(T.!$L$4,0,0),D167,E167)","v":"00:00:00"},null,"","","",null,null,{"$f":"IFERROR(CHOOSE(WEEKDAY(A167,2),norm!C$1,norm!C$2,norm!C$3,norm!C$4,norm!C$5,norm!C$6,norm!C$7),\"\")","v":"09:00:00"}]
["2019-06-14","Fr","",null,null,null,"","00:00:00","",{"$f":"ColTime(T.!$J$3,T.!$L$3,D168,E168)","v":"00:00:00"},null,{"$f":"ColTime(TIME(T.!$J$4,0,0),TIME(T.!$L$4,0,0),D168,E168)","v":"00:00:00"},null,"","","",null,null,{"$f":"IFERROR(CHOOSE(WEEKDAY(A168,2),norm!C$1,norm!C$2,norm!C$3,norm!C$4,norm!C$5,norm!C$6,norm!C$7),\"\")","v":"09:00:00"}]
["2019-06-15","Lø","",null,null,null,"","00:00:00","",{"$f":"ColTime(T.!$J$3,T.!$L$3,D169,E169)","v":"00:00:00"},null,{"$f":"ColTime(TIME(T.!$J$4,0,0),TIME(T.!$L$4,0,0),D169,E169)","v":"00:00:00"},null,"00:00:00","","",null,null,{"$f":"IFERROR(CHOOSE(WEEKDAY(A169,2),norm!C$1,norm!C$2,norm!C$3,norm!C$4,norm!C$5,norm!C$6,norm!C$7),\"\")","v":"09:00:00"}]
["2019-06-16","Sø","",null,null,null,"","00:00:00","",{"$f":"ColTime(T.!$J$3,T.!$L$3,D170,E170)","v":"00:00:00"},null,{"$f":"ColTime(TIME(T.!$J$4,0,0),TIME(T.!$L$4,0,0),D170,E170)","v":"00:00:00"},null,"","00:00:00","",null,null,{"$f":"IFERROR(CHOOSE(WEEKDAY(A170,2),norm!C$1,norm!C$2,norm!C$3,norm!C$4,norm!C$5,norm!C$6,norm!C$7),\"\")","v":"09:00:00"}]
["2019-06-17","Ma","",null,null,null,"","00:00:00","",{"$f":"ColTime(T.!$J$3,T.!$L$3,D171,E171)","v":"00:00:00"},null,{"$f":"ColTime(TIME(T.!$J$4,0,0),TIME(T.!$L$4,0,0),D171,E171)","v":"00:00:00"},null,"","","",null,null,{"$f":"IFERROR(CHOOSE(WEEKDAY(A171,2),norm!C$1,norm!C$2,norm!C$3,norm!C$4,norm!C$5,norm!C$6,norm!C$7),\"\")","v":"09:00:00"}]
["2019-06-18","Ti","",null,null,null,"","00:00:00","",{"$f":"ColTime(T.!$J$3,T.!$L$3,D172,E172)","v":"00:00:00"},null,{"$f":"ColTime(TIME(T.!$J$4,0,0),TIME(T.!$L$4,0,0),D172,E172)","v":"00:00:00"},null,"","","",null,null,{"$f":"IFERROR(CHOOSE(WEEKDAY(A172,2),norm!C$1,norm!C$2,norm!C$3,norm!C$4,norm!C$5,norm!C$6,norm!C$7),\"\")","v":"09:00:00"}]
["2019-06-19","On","",null,null,null,"","00:00:00","",{"$f":"ColTime(T.!$J$3,T.!$L$3,D173,E173)","v":"00:00:00"},null,{"$f":"ColTime(TIME(T.!$J$4,0,0),TIME(T.!$L$4,0,0),D173,E173)","v":"00:00:00"},null,"","","",null,null,{"$f":"IFERROR(CHOOSE(WEEKDAY(A173,2),norm!C$1,norm!C$2,norm!C$3,norm!C$4,norm!C$5,norm!C$6,norm!C$7),\"\")","v":"09:00:00"}]
["2019-06-20","To","",null,null,null,"","00:00:00","",{"$f":"ColTime(T.!$J$3,T.!$L$3,D174,E174)","v":"00:00:00"},null,{"$f":"ColTime(TIME(T.!$J$4,0,0),TIME(T.!$L$4,0,0),D174,E174)","v":"00:00:00"},null,"","","",null,null,{"$f":"IFERROR(CHOOSE(WEEKDAY(A174,2),norm!C$1,norm!C$2,norm!C$3,norm!C$4,norm!C$5,norm!C$6,norm!C$7),\"\")","v":"09:00:00"}]
["2019-06-21","Fr","",null,null,null,"","00:00:00","",{"$f":"ColTime(T.!$J$3,T.!$L$3,D175,E175)","v":"00:00:00"},null,{"$f":"ColTime(TIME(T.!$J$4,0,0),TIME(T.!$L$4,0,0),D175,E175)","v":"00:00:00"},null,"","","",null,null,{"$f":"IFERROR(CHOOSE(WEEKDAY(A175,2),norm!C$1,norm!C$2,norm!C$3,norm!C$4,norm!C$5,norm!C$6,norm!C$7),\"\")","v":"09:00:00"}]
["2019-06-22","Lø","",null,null,null,"","00:00:00","",{"$f":"ColTime(T.!$J$3,T.!$L$3,D176,E176)","v":"00:00:00"},null,{"$f":"ColTime(TIME(T.!$J$4,0,0),TIME(T.!$L$4,0,0),D176,E176)","v":"00:00:00"},null,"00:00:00","","",null,null,{"$f":"IFERROR(CHOOSE(WEEKDAY(A176,2),norm!C$1,norm!C$2,norm!C$3,norm!C$4,norm!C$5,norm!C$6,norm!C$7),\"\")","v":"09:00:00"}]
["2019-06-23","Sø","",null,null,null,"","00:00:00","",{"$f":"ColTime(T.!$J$3,T.!$L$3,D177,E177)","v":"00:00:00"},null,{"$f":"ColTime(TIME(T.!$J$4,0,0),TIME(T.!$L$4,0,0),D177,E177)","v":"00:00:00"},null,"","00:00:00","",null,null,{"$f":"IFERROR(CHOOSE(WEEKDAY(A177,2),norm!C$1,norm!C$2,norm!C$3,norm!C$4,norm!C$5,norm!C$6,norm!C$7),\"\")","v":"09:00:00"}]
["2019-06-24","Ma","",null,null,null,"","00:00:00","",{"$f":"ColTime(T.!$J$3,T.!$L$3,D178,E178)","v":"00:00:00"},null,{"$f":"ColTime(TIME(T.!$J$4,0,0),TIME(T.!$L$4,0,0),D178,E178)","v":"00:00:00"},null,"","","",null,null,{"$f":"IFERROR(CHOOSE(WEEKDAY(A178,2),norm!C$1,norm!C$2,norm!C$3,norm!C$4,norm!C$5,norm!C$6,norm!C$7),\"\")","v":"09:00:00"}]
["2019-06-25","Ti","",null,null,null,"","00:00:00","",{"$f":"ColTime(T.!$J$3,T.!$L$3,D179,E179)","v":"00:00:00"},null,{"$f":"ColTime(TIME(T.!$J$4,0,0),TIME(T.!$L$4,0,0),D179,E179)","v":"00:00:00"},null,"","","",null,null,{"$f":"IFERROR(CHOOSE(WEEKDAY(A179,2),norm!C$1,norm!C$2,norm!C$3,norm!C$4,norm!C$5,norm!C$6,norm!C$7),\"\")","v":"09:00:00"}]
["2019-06-26","On","",null,null,null,"","00:00:00","",{"$f":"ColTime(T.!$J$3,T.!$L$3,D180,E180)","v":"00:00:00"},null,{"$f":"ColTime(TIME(T.!$J$4,0,0),TIME(T.!$L$4,0,0),D180,E180)","v":"00:00:00"},null,"","","",null,null,{"$f":"IFERROR(CHOOSE(WEEKDAY(A180,2),norm!C$1,norm!C$2,norm!C$3,norm!C$4,norm!C$5,norm!C$6,norm!C$7),\"\")","v":"09:00:00"}]
["2019-06-27","To","",null,null,null,"","00:00:00","",{"$f":"ColTime(T.!$J$3,T.!$L$3,D181,E181)","v":"00:00:00"},null,{"$f":"ColTime(TIME(T.!$J$4,0,0),TIME(T.!$L$4,0,0),D181,E181)","v":"00:00:00"},null,"","","",null,null,{"$f":"IFERROR(CHOOSE(WEEKDAY(A181,2),norm!C$1,norm!C$2,norm!C$3,norm!C$4,norm!C$5,norm!C$6,norm!C$7),\"\")","v":"09:00:00"}]
["2019-06-28","Fr","",null,null,null,"","00:00:00","",{"$f":"ColTime(T.!$J$3,T.!$L$3,D182,E182)","v":"00:00:00"},null,{"$f":"ColTime(TIME(T.!$J$4,0,0),TIME(T.!$L$4,0,0),D182,E182)","v":"00:00:00"},null,"","","",null,null,{"$f":"IFERROR(CHOOSE(WEEKDAY(A182,2),norm!C$1,norm!C$2,norm!C$3,norm!C$4,norm!C$5,norm!C$6,norm!C$7),\"\")","v":"09:00:00"}]
["2019-06-29","Lø","",null,null,null,"","00:00:00","",{"$f":"ColTime(T.!$J$3,T.!$L$3,D183,E183)","v":"00:00:00"},null,{"$f":"ColTime(TIME(T.!$J$4,0,0),TIME(T.!$L$4,0,0),D183,E183)","v":"00:00:00"},null,"00:00:00","","",null,null,{"$f":"IFERROR(CHOOSE(WEEKDAY(A183,2),norm!C$1,norm!C$2,norm!C$3,norm!C$4,norm!C$5,norm!C$6,norm!C$7),\"\")","v":"09:00:00"}]
["2019-06-30","Sø","",null,null,null,"","00:00:00","",{"$f":"ColTime(T.!$J$3,T.!$L$3,D184,E184)","v":"00:00:00"},null,{"$f":"ColTime(TIME(T.!$J$4,0,0),TIME(T.!$L$4,0,0),D184,E184)","v":"00:00:00"},null,"","00:00:00","",null,null,{"$f":"IFERROR(CHOOSE(WEEKDAY(A184,2),norm!C$1,norm!C$2,norm!C$3,norm!C$4,norm!C$5,norm!C$6,norm!C$7),\"\")","v":"09:00:00"}]
["2019-07-01","Ma","",null,null,null,"","00:00:00","",{"$f":"ColTime(T.!$J$3,T.!$L$3,D185,E185)","v":"00:00:00"},null,{"$f":"ColTime(TIME(T.!$J$4,0,0),TIME(T.!$L$4,0,0),D185,E185)","v":"00:00:00"},null,"","","",null,null,{"$f":"IFERROR(CHOOSE(WEEKDAY(A185,2),norm!C$1,norm!C$2,norm!C$3,norm!C$4,norm!C$5,norm!C$6,norm!C$7),\"\")","v":"09:00:00"}]
["2019-07-02","Ti","",null,null,null,"","00:00:00","",{"$f":"ColTime(T.!$J$3,T.!$L$3,D186,E186)","v":"00:00:00"},null,{"$f":"ColTime(TIME(T.!$J$4,0,0),TIME(T.!$L$4,0,0),D186,E186)","v":"00:00:00"},null,"","","",null,null,{"$f":"IFERROR(CHOOSE(WEEKDAY(A186,2),norm!C$1,norm!C$2,norm!C$3,norm!C$4,norm!C$5,norm!C$6,norm!C$7),\"\")","v":"09:00:00"}]
["2019-07-03","On","",null,null,null,"","00:00:00","",{"$f":"ColTime(T.!$J$3,T.!$L$3,D187,E187)","v":"00:00:00"},null,{"$f":"ColTime(TIME(T.!$J$4,0,0),TIME(T.!$L$4,0,0),D187,E187)","v":"00:00:00"},null,"","","",null,null,{"$f":"IFERROR(CHOOSE(WEEKDAY(A187,2),norm!C$1,norm!C$2,norm!C$3,norm!C$4,norm!C$5,norm!C$6,norm!C$7),\"\")","v":"09:00:00"}]
["2019-07-04","To","",null,null,null,"","00:00:00","",{"$f":"ColTime(T.!$J$3,T.!$L$3,D188,E188)","v":"00:00:00"},null,{"$f":"ColTime(TIME(T.!$J$4,0,0),TIME(T.!$L$4,0,0),D188,E188)","v":"00:00:00"},null,"","","",null,null,{"$f":"IFERROR(CHOOSE(WEEKDAY(A188,2),norm!C$1,norm!C$2,norm!C$3,norm!C$4,norm!C$5,norm!C$6,norm!C$7),\"\")","v":"09:00:00"}]
["2019-07-05","Fr","",null,null,null,"","00:00:00","",{"$f":"ColTime(T.!$J$3,T.!$L$3,D189,E189)","v":"00:00:00"},null,{"$f":"ColTime(TIME(T.!$J$4,0,0),TIME(T.!$L$4,0,0),D189,E189)","v":"00:00:00"},null,"","","",null,null,{"$f":"IFERROR(CHOOSE(WEEKDAY(A189,2),norm!C$1,norm!C$2,norm!C$3,norm!C$4,norm!C$5,norm!C$6,norm!C$7),\"\")","v":"09:00:00"}]
["2019-07-06","Lø","",null,null,null,"","00:00:00","",{"$f":"ColTime(T.!$J$3,T.!$L$3,D190,E190)","v":"00:00:00"},null,{"$f":"ColTime(TIME(T.!$J$4,0,0),TIME(T.!$L$4,0,0),D190,E190)","v":"00:00:00"},null,"00:00:00","","",null,null,{"$f":"IFERROR(CHOOSE(WEEKDAY(A190,2),norm!C$1,norm!C$2,norm!C$3,norm!C$4,norm!C$5,norm!C$6,norm!C$7),\"\")","v":"09:00:00"}]
["2019-07-07","Sø","",null,null,null,"","00:00:00","",{"$f":"ColTime(T.!$J$3,T.!$L$3,D191,E191)","v":"00:00:00"},null,{"$f":"ColTime(TIME(T.!$J$4,0,0),TIME(T.!$L$4,0,0),D191,E191)","v":"00:00:00"},null,"","00:00:00","",null,null,{"$f":"IFERROR(CHOOSE(WEEKDAY(A191,2),norm!C$1,norm!C$2,norm!C$3,norm!C$4,norm!C$5,norm!C$6,norm!C$7),\"\")","v":"09:00:00"}]
["2019-07-08","Ma","",null,null,null,"","00:00:00","",{"$f":"ColTime(T.!$J$3,T.!$L$3,D192,E192)","v":"00:00:00"},null,{"$f":"ColTime(TIME(T.!$J$4,0,0),TIME(T.!$L$4,0,0),D192,E192)","v":"00:00:00"},null,"","","",null,null,{"$f":"IFERROR(CHOOSE(WEEKDAY(A192,2),norm!C$1,norm!C$2,norm!C$3,norm!C$4,norm!C$5,norm!C$6,norm!C$7),\"\")","v":"09:00:00"}]
["2019-07-09","Ti","",null,null,null,"","00:00:00","",{"$f":"ColTime(T.!$J$3,T.!$L$3,D193,E193)","v":"00:00:00"},null,{"$f":"ColTime(TIME(T.!$J$4,0,0),TIME(T.!$L$4,0,0),D193,E193)","v":"00:00:00"},null,"","","",null,null,{"$f":"IFERROR(CHOOSE(WEEKDAY(A193,2),norm!C$1,norm!C$2,norm!C$3,norm!C$4,norm!C$5,norm!C$6,norm!C$7),\"\")","v":"09:00:00"}]
["2019-07-10","On","",null,null,null,"","00:00:00","",{"$f":"ColTime(T.!$J$3,T.!$L$3,D194,E194)","v":"00:00:00"},null,{"$f":"ColTime(TIME(T.!$J$4,0,0),TIME(T.!$L$4,0,0),D194,E194)","v":"00:00:00"},null,"","","",null,null,{"$f":"IFERROR(CHOOSE(WEEKDAY(A194,2),norm!C$1,norm!C$2,norm!C$3,norm!C$4,norm!C$5,norm!C$6,norm!C$7),\"\")","v":"09:00:00"}]
["2019-07-11","To","",null,null,null,"","00:00:00","",{"$f":"ColTime(T.!$J$3,T.!$L$3,D195,E195)","v":"00:00:00"},null,{"$f":"ColTime(TIME(T.!$J$4,0,0),TIME(T.!$L$4,0,0),D195,E195)","v":"00:00:00"},null,"","","",null,null,{"$f":"IFERROR(CHOOSE(WEEKDAY(A195,2),norm!C$1,norm!C$2,norm!C$3,norm!C$4,norm!C$5,norm!C$6,norm!C$7),\"\")","v":"09:00:00"}]
["2019-07-12","Fr","",null,null,null,"","00:00:00","",{"$f":"ColTime(T.!$J$3,T.!$L$3,D196,E196)","v":"00:00:00"},null,{"$f":"ColTime(TIME(T.!$J$4,0,0),TIME(T.!$L$4,0,0),D196,E196)","v":"00:00:00"},null,"","","",null,null,{"$f":"IFERROR(CHOOSE(WEEKDAY(A196,2),norm!C$1,norm!C$2,norm!C$3,norm!C$4,norm!C$5,norm!C$6,norm!C$7),\"\")","v":"09:00:00"}]
["2019-07-13","Lø","",null,null,null,"","00:00:00","",{"$f":"ColTime(T.!$J$3,T.!$L$3,D197,E197)","v":"00:00:00"},null,{"$f":"ColTime(TIME(T.!$J$4,0,0),TIME(T.!$L$4,0,0),D197,E197)","v":"00:00:00"},null,"00:00:00","","",null,null,{"$f":"IFERROR(CHOOSE(WEEKDAY(A197,2),norm!C$1,norm!C$2,norm!C$3,norm!C$4,norm!C$5,norm!C$6,norm!C$7),\"\")","v":"09:00:00"}]
["2019-07-14","Sø","",null,null,null,"","00:00:00","",{"$f":"ColTime(T.!$J$3,T.!$L$3,D198,E198)","v":"00:00:00"},null,{"$f":"ColTime(TIME(T.!$J$4,0,0),TIME(T.!$L$4,0,0),D198,E198)","v":"00:00:00"},null,"","00:00:00","",null,null,{"$f":"IFERROR(CHOOSE(WEEKDAY(A198,2),norm!C$1,norm!C$2,norm!C$3,norm!C$4,norm!C$5,norm!C$6,norm!C$7),\"\")","v":"09:00:00"}]
["2019-07-15","Ma","",null,null,null,"","00:00:00","",{"$f":"ColTime(T.!$J$3,T.!$L$3,D199,E199)","v":"00:00:00"},null,{"$f":"ColTime(TIME(T.!$J$4,0,0),TIME(T.!$L$4,0,0),D199,E199)","v":"00:00:00"},null,"","","",null,null,{"$f":"IFERROR(CHOOSE(WEEKDAY(A199,2),norm!C$1,norm!C$2,norm!C$3,norm!C$4,norm!C$5,norm!C$6,norm!C$7),\"\")","v":"09:00:00"}]
["2019-07-16","Ti","",null,null,null,"","00:00:00","",{"$f":"ColTime(T.!$J$3,T.!$L$3,D200,E200)","v":"00:00:00"},null,{"$f":"ColTime(TIME(T.!$J$4,0,0),TIME(T.!$L$4,0,0),D200,E200)","v":"00:00:00"},null,"","","",null,null,{"$f":"IFERROR(CHOOSE(WEEKDAY(A200,2),norm!C$1,norm!C$2,norm!C$3,norm!C$4,norm!C$5,norm!C$6,norm!C$7),\"\")","v":"09:00:00"}]
["2019-07-17","On","",null,null,null,"","00:00:00","",{"$f":"ColTime(T.!$J$3,T.!$L$3,D201,E201)","v":"00:00:00"},null,{"$f":"ColTime(TIME(T.!$J$4,0,0),TIME(T.!$L$4,0,0),D201,E201)","v":"00:00:00"},null,"","","",null,null,{"$f":"IFERROR(CHOOSE(WEEKDAY(A201,2),norm!C$1,norm!C$2,norm!C$3,norm!C$4,norm!C$5,norm!C$6,norm!C$7),\"\")","v":"09:00:00"}]
["2019-07-18","To","",null,null,null,"","00:00:00","",{"$f":"ColTime(T.!$J$3,T.!$L$3,D202,E202)","v":"00:00:00"},null,{"$f":"ColTime(TIME(T.!$J$4,0,0),TIME(T.!$L$4,0,0),D202,E202)","v":"00:00:00"},null,"","","",null,null,{"$f":"IFERROR(CHOOSE(WEEKDAY(A202,2),norm!C$1,norm!C$2,norm!C$3,norm!C$4,norm!C$5,norm!C$6,norm!C$7),\"\")","v":"09:00:00"}]
["2019-07-19","Fr","",null,null,null,"","00:00:00","",{"$f":"ColTime(T.!$J$3,T.!$L$3,D203,E203)","v":"00:00:00"},null,{"$f":"ColTime(TIME(T.!$J$4,0,0),TIME(T.!$L$4,0,0),D203,E203)","v":"00:00:00"},null,"","","",null,null,{"$f":"IFERROR(CHOOSE(WEEKDAY(A203,2),norm!C$1,norm!C$2,norm!C$3,norm!C$4,norm!C$5,norm!C$6,norm!C$7),\"\")","v":"09:00:00"}]
["2019-07-20","Lø","",null,null,null,"","00:00:00","",{"$f":"ColTime(T.!$J$3,T.!$L$3,D204,E204)","v":"00:00:00"},null,{"$f":"ColTime(TIME(T.!$J$4,0,0),TIME(T.!$L$4,0,0),D204,E204)","v":"00:00:00"},null,"00:00:00","","",null,null,{"$f":"IFERROR(CHOOSE(WEEKDAY(A204,2),norm!C$1,norm!C$2,norm!C$3,norm!C$4,norm!C$5,norm!C$6,norm!C$7),\"\")","v":"09:00:00"}]
["2019-07-21","Sø","",null,null,null,"","00:00:00","",{"$f":"ColTime(T.!$J$3,T.!$L$3,D205,E205)","v":"00:00:00"},null,{"$f":"ColTime(TIME(T.!$J$4,0,0),TIME(T.!$L$4,0,0),D205,E205)","v":"00:00:00"},null,"","00:00:00","",null,null,{"$f":"IFERROR(CHOOSE(WEEKDAY(A205,2),norm!C$1,norm!C$2,norm!C$3,norm!C$4,norm!C$5,norm!C$6,norm!C$7),\"\")","v":"09:00:00"}]
["2019-07-22","Ma","",null,null,null,"","00:00:00","",{"$f":"ColTime(T.!$J$3,T.!$L$3,D206,E206)","v":"00:00:00"},null,{"$f":"ColTime(TIME(T.!$J$4,0,0),TIME(T.!$L$4,0,0),D206,E206)","v":"00:00:00"},null,"","","",null,null,{"$f":"IFERROR(CHOOSE(WEEKDAY(A206,2),norm!C$1,norm!C$2,norm!C$3,norm!C$4,norm!C$5,norm!C$6,norm!C$7),\"\")","v":"09:00:00"}]
["2019-07-23","Ti","",null,null,null,"","00:00:00","",{"$f":"ColTime(T.!$J$3,T.!$L$3,D207,E207)","v":"00:00:00"},null,{"$f":"ColTime(TIME(T.!$J$4,0,0),TIME(T.!$L$4,0,0),D207,E207)","v":"00:00:00"},null,"","","",null,null,{"$f":"IFERROR(CHOOSE(WEEKDAY(A207,2),norm!C$1,norm!C$2,norm!C$3,norm!C$4,norm!C$5,norm!C$6,norm!C$7),\"\")","v":"09:00:00"}]
["2019-07-24","On","",null,null,null,"","00:00:00","",{"$f":"ColTime(T.!$J$3,T.!$L$3,D208,E208)","v":"00:00:00"},null,{"$f":"ColTime(TIME(T.!$J$4,0,0),TIME(T.!$L$4,0,0),D208,E208)","v":"00:00:00"},null,"","","",null,null,{"$f":"IFERROR(CHOOSE(WEEKDAY(A208,2),norm!C$1,norm!C$2,norm!C$3,norm!C$4,norm!C$5,norm!C$6,norm!C$7),\"\")","v":"09:00:00"}]
["2019-07-25","To",{"$f":"IF(A209=\"\",\"\",HelligdagsNavn(A209,0,0))","v":""},null,null,null,{"$f":"IF(D209=\"\",\"\",(E209-D209)+(D209>E209)-F209)","v":""},{"$f":"IF(G209=\"\",0,IF(WEEKDAY(A209,2)=7,0,IF(G209>S209,MIN(G209-S209,$AI$1),0)))","v":"00:00:00"},{"$f":"IF(G209=\"\",\"\",IF(G209>S209+H209,G209-(S209+H209),\"\"))","v":""},{"$f":"ColTime(T.!$J$3,T.!$L$3,D209,E209)","v":"00:00:00"},null,{"$f":"ColTime(TIME(T.!$J$4,0,0),TIME(T.!$L$4,0,0),D209,E209)","v":"00:00:00"},null,{"$f":"IFERROR(IF(WEEKDAY(A209,2)=6,ColTime(TIME(15,0,0),TIME(24,0,0),D209,E209),\"\"),\"\")","v":""},{"$f":"IFERROR(IF(OR(C209<>\"\",WEEKDAY(A209,2)=7),ColTime(TIME(0,0,0),TIME(24,0,0),D209,E209),\"\"),\"\")","v":""},{"$f":"IFERROR(H209+I209,\"\")","v":""},null,null,{"$f":"IFERROR(CHOOSE(WEEKDAY(A209,2),norm!C$1,norm!C$2,norm!C$3,norm!C$4,norm!C$5,norm!C$6,norm!C$7),\"\")","v":"09:00:00"}]
["2019-07-26","Fr","",null,null,null,"","00:00:00","",{"$f":"ColTime(T.!$J$3,T.!$L$3,D210,E210)","v":"00:00:00"},null,{"$f":"ColTime(TIME(T.!$J$4,0,0),TIME(T.!$L$4,0,0),D210,E210)","v":"00:00:00"},null,"","","",null,null,{"$f":"IFERROR(CHOOSE(WEEKDAY(A210,2),norm!C$1,norm!C$2,norm!C$3,norm!C$4,norm!C$5,norm!C$6,norm!C$7),\"\")","v":"09:00:00"}]
["2019-07-27","Lø","",null,null,null,"","00:00:00","",{"$f":"ColTime(T.!$J$3,T.!$L$3,D211,E211)","v":"00:00:00"},null,{"$f":"ColTime(TIME(T.!$J$4,0,0),TIME(T.!$L$4,0,0),D211,E211)","v":"00:00:00"},null,"00:00:00","","",null,null,{"$f":"IFERROR(CHOOSE(WEEKDAY(A211,2),norm!C$1,norm!C$2,norm!C$3,norm!C$4,norm!C$5,norm!C$6,norm!C$7),\"\")","v":"09:00:00"}]
["2019-07-28","Sø","",null,null,null,"","00:00:00","",{"$f":"ColTime(T.!$J$3,T.!$L$3,D212,E212)","v":"00:00:00"},null,{"$f":"ColTime(TIME(T.!$J$4,0,0),TIME(T.!$L$4,0,0),D212,E212)","v":"00:00:00"},null,"","00:00:00","",null,null,{"$f":"IFERROR(CHOOSE(WEEKDAY(A212,2),norm!C$1,norm!C$2,norm!C$3,norm!C$4,norm!C$5,norm!C$6,norm!C$7),\"\")","v":"09:00:00"}]
["2019-07-29","Ma","",null,null,null,"","00:00:00","",{"$f":"ColTime(T.!$J$3,T.!$L$3,D213,E213)","v":"00:00:00"},null,{"$f":"ColTime(TIME(T.!$J$4,0,0),TIME(T.!$L$4,0,0),D213,E213)","v":"00:00:00"},null,"","","",null,null,{"$f":"IFERROR(CHOOSE(WEEKDAY(A213,2),norm!C$1,norm!C$2,norm!C$3,norm!C$4,norm!C$5,norm!C$6,norm!C$7),\"\")","v":"09:00:00"}]
["2019-07-30","Ti","",null,null,null,"","00:00:00","",{"$f":"ColTime(T.!$J$3,T.!$L$3,D214,E214)","v":"00:00:00"},null,{"$f":"ColTime(TIME(T.!$J$4,0,0),TIME(T.!$L$4,0,0),D214,E214)","v":"00:00:00"},null,"","","",null,null,{"$f":"IFERROR(CHOOSE(WEEKDAY(A214,2),norm!C$1,norm!C$2,norm!C$3,norm!C$4,norm!C$5,norm!C$6,norm!C$7),\"\")","v":"09:00:00"}]
["2019-07-31","On","",null,null,null,"","00:00:00","",{"$f":"ColTime(T.!$J$3,T.!$L$3,D215,E215)","v":"00:00:00"},null,{"$f":"ColTime(TIME(T.!$J$4,0,0),TIME(T.!$L$4,0,0),D215,E215)","v":"00:00:00"},null,"","","",null,null,{"$f":"IFERROR(CHOOSE(WEEKDAY(A215,2),norm!C$1,norm!C$2,norm!C$3,norm!C$4,norm!C$5,norm!C$6,norm!C$7),\"\")","v":"09:00:00"}]
["2019-08-01","To","",null,null,null,"","00:00:00","",{"$f":"ColTime(T.!$J$3,T.!$L$3,D216,E216)","v":"00:00:00"},null,{"$f":"ColTime(TIME(T.!$J$4,0,0),TIME(T.!$L$4,0,0),D216,E216)","v":"00:00:00"},null,"","","",null,null,{"$f":"IFERROR(CHOOSE(WEEKDAY(A216,2),norm!C$1,norm!C$2,norm!C$3,norm!C$4,norm!C$5,norm!C$6,norm!C$7),\"\")","v":"09:00:00"}]
["2019-08-02","Fr","",null,null,null,"","00:00:00","",{"$f":"ColTime(T.!$J$3,T.!$L$3,D217,E217)","v":"00:00:00"},null,{"$f":"ColTime(TIME(T.!$J$4,0,0),TIME(T.!$L$4,0,0),D217,E217)","v":"00:00:00"},null,"","","",null,null,{"$f":"IFERROR(CHOOSE(WEEKDAY(A217,2),norm!C$1,norm!C$2,norm!C$3,norm!C$4,norm!C$5,norm!C$6,norm!C$7),\"\")","v":"09:00:00"}]
["2019-08-03","Lø","",null,null,null,"","00:00:00","",{"$f":"ColTime(T.!$J$3,T.!$L$3,D218,E218)","v":"00:00:00"},null,{"$f":"ColTime(TIME(T.!$J$4,0,0),TIME(T.!$L$4,0,0),D218,E218)","v":"00:00:00"},null,"00:00:00","","",null,null,{"$f":"IFERROR(CHOOSE(WEEKDAY(A218,2),norm!C$1,norm!C$2,norm!C$3,norm!C$4,norm!C$5,norm!C$6,norm!C$7),\"\")","v":"09:00:00"}]
[{"$f":"A218+1","v":"2019-08-04"},"Sø","",null,null,null,"","00:00:00","",{"$f":"ColTime(T.!$J$3,T.!$L$3,D219,E219)","v":"00:00:00"},null,{"$f":"ColTime(TIME(T.!$J$4,0,0),TIME(T.!$L$4,0,0),D219,E219)","v":"00:00:00"},null,"","00:00:00","",null,null,{"$f":"IFERROR(CHOOSE(WEEKDAY(A219,2),norm!C$1,norm!C$2,norm!C$3,norm!C$4,norm!C$5,norm!C$6,norm!C$7),\"\")","v":"09:00:00"}]
["2019-08-05","Ma","",null,null,null,"","00:00:00","",{"$f":"ColTime(T.!$J$3,T.!$L$3,D220,E220)","v":"00:00:00"},null,{"$f":"ColTime(TIME(T.!$J$4,0,0),TIME(T.!$L$4,0,0),D220,E220)","v":"00:00:00"},null,"","","",null,null,{"$f":"IFERROR(CHOOSE(WEEKDAY(A220,2),norm!C$1,norm!C$2,norm!C$3,norm!C$4,norm!C$5,norm!C$6,norm!C$7),\"\")","v":"09:00:00"}]
["2019-08-06","Ti","",null,null,null,"","00:00:00","",{"$f":"ColTime(T.!$J$3,T.!$L$3,D221,E221)","v":"00:00:00"},null,{"$f":"ColTime(TIME(T.!$J$4,0,0),TIME(T.!$L$4,0,0),D221,E221)","v":"00:00:00"},null,"","","",null,null,{"$f":"IFERROR(CHOOSE(WEEKDAY(A221,2),norm!C$1,norm!C$2,norm!C$3,norm!C$4,norm!C$5,norm!C$6,norm!C$7),\"\")","v":"09:00:00"}]
["2019-08-07","On","",null,null,null,"","00:00:00","",{"$f":"ColTime(T.!$J$3,T.!$L$3,D222,E222)","v":"00:00:00"},null,{"$f":"ColTime(TIME(T.!$J$4,0,0),TIME(T.!$L$4,0,0),D222,E222)","v":"00:00:00"},null,"","","",null,null,{"$f":"IFERROR(CHOOSE(WEEKDAY(A222,2),norm!C$1,norm!C$2,norm!C$3,norm!C$4,norm!C$5,norm!C$6,norm!C$7),\"\")","v":"09:00:00"}]
["2019-08-08","To","",null,null,null,"","00:00:00","",{"$f":"ColTime(T.!$J$3,T.!$L$3,D223,E223)","v":"00:00:00"},null,{"$f":"ColTime(TIME(T.!$J$4,0,0),TIME(T.!$L$4,0,0),D223,E223)","v":"00:00:00"},null,"","","",null,null,{"$f":"IFERROR(CHOOSE(WEEKDAY(A223,2),norm!C$1,norm!C$2,norm!C$3,norm!C$4,norm!C$5,norm!C$6,norm!C$7),\"\")","v":"09:00:00"}]
["2019-08-09","Fr","",null,null,null,"","00:00:00","",{"$f":"ColTime(T.!$J$3,T.!$L$3,D224,E224)","v":"00:00:00"},null,{"$f":"ColTime(TIME(T.!$J$4,0,0),TIME(T.!$L$4,0,0),D224,E224)","v":"00:00:00"},null,"","","",null,null,{"$f":"IFERROR(CHOOSE(WEEKDAY(A224,2),norm!C$1,norm!C$2,norm!C$3,norm!C$4,norm!C$5,norm!C$6,norm!C$7),\"\")","v":"09:00:00"}]
["2019-08-10","Lø","",null,null,null,"","00:00:00","",{"$f":"ColTime(T.!$J$3,T.!$L$3,D225,E225)","v":"00:00:00"},null,{"$f":"ColTime(TIME(T.!$J$4,0,0),TIME(T.!$L$4,0,0),D225,E225)","v":"00:00:00"},null,"00:00:00","","",null,null,{"$f":"IFERROR(CHOOSE(WEEKDAY(A225,2),norm!C$1,norm!C$2,norm!C$3,norm!C$4,norm!C$5,norm!C$6,norm!C$7),\"\")","v":"09:00:00"}]
["2019-08-11","Sø","",null,null,null,"","00:00:00","",{"$f":"ColTime(T.!$J$3,T.!$L$3,D226,E226)","v":"00:00:00"},null,{"$f":"ColTime(TIME(T.!$J$4,0,0),TIME(T.!$L$4,0,0),D226,E226)","v":"00:00:00"},null,"","00:00:00","",null,null,{"$f":"IFERROR(CHOOSE(WEEKDAY(A226,2),norm!C$1,norm!C$2,norm!C$3,norm!C$4,norm!C$5,norm!C$6,norm!C$7),\"\")","v":"09:00:00"}]
["2019-08-12",{"$f":"IFERROR(PROPER(TEXT(A227,\"ddd\")),\"\")","v":"Ma"},"",null,null,null,"","00:00:00","",{"$f":"ColTime(T.!$J$3,T.!$L$3,D227,E227)","v":"00:00:00"},null,{"$f":"ColTime(TIME(T.!$J$4,0,0),TIME(T.!$L$4,0,0),D227,E227)","v":"00:00:00"},null,"","","",null,null,{"$f":"IFERROR(CHOOSE(WEEKDAY(A227,2),norm!C$1,norm!C$2,norm!C$3,norm!C$4,norm!C$5,norm!C$6,norm!C$7),\"\")","v":"09:00:00"}]
["2019-08-13","Ti","",null,null,null,"","00:00:00","",{"$f":"ColTime(T.!$J$3,T.!$L$3,D228,E228)","v":"00:00:00"},null,{"$f":"ColTime(TIME(T.!$J$4,0,0),TIME(T.!$L$4,0,0),D228,E228)","v":"00:00:00"},null,"","","",null,null,{"$f":"IFERROR(CHOOSE(WEEKDAY(A228,2),norm!C$1,norm!C$2,norm!C$3,norm!C$4,norm!C$5,norm!C$6,norm!C$7),\"\")","v":"09:00:00"}]
["2019-08-14","On","",null,null,null,"","00:00:00","",{"$f":"ColTime(T.!$J$3,T.!$L$3,D229,E229)","v":"00:00:00"},null,{"$f":"ColTime(TIME(T.!$J$4,0,0),TIME(T.!$L$4,0,0),D229,E229)","v":"00:00:00"},null,"","","",null,null,{"$f":"IFERROR(CHOOSE(WEEKDAY(A229,2),norm!C$1,norm!C$2,norm!C$3,norm!C$4,norm!C$5,norm!C$6,norm!C$7),\"\")","v":"09:00:00"}]
["2019-08-15","To","",null,null,null,"","00:00:00","",{"$f":"ColTime(T.!$J$3,T.!$L$3,D230,E230)","v":"00:00:00"},null,{"$f":"ColTime(TIME(T.!$J$4,0,0),TIME(T.!$L$4,0,0),D230,E230)","v":"00:00:00"},null,"","","",null,null,{"$f":"IFERROR(CHOOSE(WEEKDAY(A230,2),norm!C$1,norm!C$2,norm!C$3,norm!C$4,norm!C$5,norm!C$6,norm!C$7),\"\")","v":"09:00:00"}]
["2019-08-16","Fr","",null,null,null,"","00:00:00","",{"$f":"ColTime(T.!$J$3,T.!$L$3,D231,E231)","v":"00:00:00"},null,{"$f":"ColTime(TIME(T.!$J$4,0,0),TIME(T.!$L$4,0,0),D231,E231)","v":"00:00:00"},null,"","","",null,null,{"$f":"IFERROR(CHOOSE(WEEKDAY(A231,2),norm!C$1,norm!C$2,norm!C$3,norm!C$4,norm!C$5,norm!C$6,norm!C$7),\"\")","v":"09:00:00"}]
["2019-08-17","Lø","",null,null,null,"","00:00:00","",{"$f":"ColTime(T.!$J$3,T.!$L$3,D232,E232)","v":"00:00:00"},null,{"$f":"ColTime(TIME(T.!$J$4,0,0),TIME(T.!$L$4,0,0),D232,E232)","v":"00:00:00"},null,"00:00:00","","",null,null,{"$f":"IFERROR(CHOOSE(WEEKDAY(A232,2),norm!C$1,norm!C$2,norm!C$3,norm!C$4,norm!C$5,norm!C$6,norm!C$7),\"\")","v":"09:00:00"}]
["2019-08-18","Sø","",null,null,null,"","00:00:00","",{"$f":"ColTime(T.!$J$3,T.!$L$3,D233,E233)","v":"00:00:00"},null,{"$f":"ColTime(TIME(T.!$J$4,0,0),TIME(T.!$L$4,0,0),D233,E233)","v":"00:00:00"},null,"","00:00:00","",null,null,{"$f":"IFERROR(CHOOSE(WEEKDAY(A233,2),norm!C$1,norm!C$2,norm!C$3,norm!C$4,norm!C$5,norm!C$6,norm!C$7),\"\")","v":"09:00:00"}]
["2019-08-19","Ma","",null,null,null,"","00:00:00","",{"$f":"ColTime(T.!$J$3,T.!$L$3,D234,E234)","v":"00:00:00"},null,{"$f":"ColTime(TIME(T.!$J$4,0,0),TIME(T.!$L$4,0,0),D234,E234)","v":"00:00:00"},null,"","","",null,null,{"$f":"IFERROR(CHOOSE(WEEKDAY(A234,2),norm!C$1,norm!C$2,norm!C$3,norm!C$4,norm!C$5,norm!C$6,norm!C$7),\"\")","v":"09:00:00"}]
["2019-08-20","Ti","",null,null,null,"","00:00:00","",{"$f":"ColTime(T.!$J$3,T.!$L$3,D235,E235)","v":"00:00:00"},null,{"$f":"ColTime(TIME(T.!$J$4,0,0),TIME(T.!$L$4,0,0),D235,E235)","v":"00:00:00"},null,"","","",null,null,{"$f":"IFERROR(CHOOSE(WEEKDAY(A235,2),norm!C$1,norm!C$2,norm!C$3,norm!C$4,norm!C$5,norm!C$6,norm!C$7),\"\")","v":"09:00:00"}]
["2019-08-21","On","",null,null,null,"","00:00:00","",{"$f":"ColTime(T.!$J$3,T.!$L$3,D236,E236)","v":"00:00:00"},null,{"$f":"ColTime(TIME(T.!$J$4,0,0),TIME(T.!$L$4,0,0),D236,E236)","v":"00:00:00"},null,"","","",null,null,{"$f":"IFERROR(CHOOSE(WEEKDAY(A236,2),norm!C$1,norm!C$2,norm!C$3,norm!C$4,norm!C$5,norm!C$6,norm!C$7),\"\")","v":"09:00:00"}]
["2019-08-22","To","",null,null,null,"","00:00:00","",{"$f":"ColTime(T.!$J$3,T.!$L$3,D237,E237)","v":"00:00:00"},null,{"$f":"ColTime(TIME(T.!$J$4,0,0),TIME(T.!$L$4,0,0),D237,E237)","v":"00:00:00"},null,"","","",null,null,{"$f":"IFERROR(CHOOSE(WEEKDAY(A237,2),norm!C$1,norm!C$2,norm!C$3,norm!C$4,norm!C$5,norm!C$6,norm!C$7),\"\")","v":"09:00:00"}]
["2019-08-23","Fr","",null,null,null,"","00:00:00","",{"$f":"ColTime(T.!$J$3,T.!$L$3,D238,E238)","v":"00:00:00"},null,{"$f":"ColTime(TIME(T.!$J$4,0,0),TIME(T.!$L$4,0,0),D238,E238)","v":"00:00:00"},null,"","","",null,null,{"$f":"IFERROR(CHOOSE(WEEKDAY(A238,2),norm!C$1,norm!C$2,norm!C$3,norm!C$4,norm!C$5,norm!C$6,norm!C$7),\"\")","v":"09:00:00"}]
["2019-08-24","Lø","",null,null,null,"","00:00:00","",{"$f":"ColTime(T.!$J$3,T.!$L$3,D239,E239)","v":"00:00:00"},null,{"$f":"ColTime(TIME(T.!$J$4,0,0),TIME(T.!$L$4,0,0),D239,E239)","v":"00:00:00"},null,"00:00:00","","",null,null,{"$f":"IFERROR(CHOOSE(WEEKDAY(A239,2),norm!C$1,norm!C$2,norm!C$3,norm!C$4,norm!C$5,norm!C$6,norm!C$7),\"\")","v":"09:00:00"}]
["2019-08-25","Sø","",null,null,null,"","00:00:00","",{"$f":"ColTime(T.!$J$3,T.!$L$3,D240,E240)","v":"00:00:00"},null,{"$f":"ColTime(TIME(T.!$J$4,0,0),TIME(T.!$L$4,0,0),D240,E240)","v":"00:00:00"},null,"","00:00:00","",null,null,{"$f":"IFERROR(CHOOSE(WEEKDAY(A240,2),norm!C$1,norm!C$2,norm!C$3,norm!C$4,norm!C$5,norm!C$6,norm!C$7),\"\")","v":"09:00:00"}]
["2019-08-26","Ma","",null,null,null,"","00:00:00","",{"$f":"ColTime(T.!$J$3,T.!$L$3,D241,E241)","v":"00:00:00"},null,{"$f":"ColTime(TIME(T.!$J$4,0,0),TIME(T.!$L$4,0,0),D241,E241)","v":"00:00:00"},null,"","","",null,null,{"$f":"IFERROR(CHOOSE(WEEKDAY(A241,2),norm!C$1,norm!C$2,norm!C$3,norm!C$4,norm!C$5,norm!C$6,norm!C$7),\"\")","v":"09:00:00"}]
["2019-08-27","Ti","",null,null,null,"","00:00:00","",{"$f":"ColTime(T.!$J$3,T.!$L$3,D242,E242)","v":"00:00:00"},null,{"$f":"ColTime(TIME(T.!$J$4,0,0),TIME(T.!$L$4,0,0),D242,E242)","v":"00:00:00"},null,"","","",null,null,{"$f":"IFERROR(CHOOSE(WEEKDAY(A242,2),norm!C$1,norm!C$2,norm!C$3,norm!C$4,norm!C$5,norm!C$6,norm!C$7),\"\")","v":"09:00:00"}]
["2019-08-28","On","",null,null,null,"","00:00:00","",{"$f":"ColTime(T.!$J$3,T.!$L$3,D243,E243)","v":"00:00:00"},null,{"$f":"ColTime(TIME(T.!$J$4,0,0),TIME(T.!$L$4,0,0),D243,E243)","v":"00:00:00"},null,"","","",null,null,{"$f":"IFERROR(CHOOSE(WEEKDAY(A243,2),norm!C$1,norm!C$2,norm!C$3,norm!C$4,norm!C$5,norm!C$6,norm!C$7),\"\")","v":"09:00:00"}]
["2019-08-29","To","",null,null,null,"","00:00:00","",{"$f":"ColTime(T.!$J$3,T.!$L$3,D244,E244)","v":"00:00:00"},null,{"$f":"ColTime(TIME(T.!$J$4,0,0),TIME(T.!$L$4,0,0),D244,E244)","v":"00:00:00"},null,"","","",null,null,{"$f":"IFERROR(CHOOSE(WEEKDAY(A244,2),norm!C$1,norm!C$2,norm!C$3,norm!C$4,norm!C$5,norm!C$6,norm!C$7),\"\")","v":"09:00:00"}]
["2019-08-30","Fr",{"$f":"IF(A245=\"\",\"\",HelligdagsNavn(A245,0,0))","v":""},null,null,null,{"$f":"IF(D245=\"\",\"\",(E245-D245)+(D245>E245)-F245)","v":""},{"$f":"IF(G245=\"\",0,IF(WEEKDAY(A245,2)=7,0,IF(G245>S245,MIN(G245-S245,$AI$1),0)))","v":"00:00:00"},{"$f":"IF(G245=\"\",\"\",IF(G245>S245+H245,G245-(S245+H245),\"\"))","v":""},{"$f":"ColTime(T.!$J$3,T.!$L$3,D245,E245)","v":"00:00:00"},null,{"$f":"ColTime(TIME(T.!$J$4,0,0),TIME(T.!$L$4,0,0),D245,E245)","v":"00:00:00"},null,{"$f":"IFERROR(IF(WEEKDAY(A245,2)=6,ColTime(TIME(15,0,0),TIME(24,0,0),D245,E245),\"\"),\"\")","v":""},{"$f":"IFERROR(IF(OR(C245<>\"\",WEEKDAY(A245,2)=7),ColTime(TIME(0,0,0),TIME(24,0,0),D245,E245),\"\"),\"\")","v":""},{"$f":"IFERROR(H245+I245,\"\")","v":""},null,null,{"$f":"IFERROR(CHOOSE(WEEKDAY(A245,2),norm!C$1,norm!C$2,norm!C$3,norm!C$4,norm!C$5,norm!C$6,norm!C$7),\"\")","v":"09:00:00"}]
["2019-08-31","Lø","",null,null,null,"","00:00:00","",{"$f":"ColTime(T.!$J$3,T.!$L$3,D246,E246)","v":"00:00:00"},null,{"$f":"ColTime(TIME(T.!$J$4,0,0),TIME(T.!$L$4,0,0),D246,E246)","v":"00:00:00"},null,"00:00:00","","",null,null,{"$f":"IFERROR(CHOOSE(WEEKDAY(A246,2),norm!C$1,norm!C$2,norm!C$3,norm!C$4,norm!C$5,norm!C$6,norm!C$7),\"\")","v":"09:00:00"}]
["2019-09-01","Sø","",null,null,null,"","00:00:00","",{"$f":"ColTime(T.!$J$3,T.!$L$3,D247,E247)","v":"00:00:00"},null,{"$f":"ColTime(TIME(T.!$J$4,0,0),TIME(T.!$L$4,0,0),D247,E247)","v":"00:00:00"},null,"","00:00:00","",null,null,{"$f":"IFERROR(CHOOSE(WEEKDAY(A247,2),norm!C$1,norm!C$2,norm!C$3,norm!C$4,norm!C$5,norm!C$6,norm!C$7),\"\")","v":"09:00:00"}]
["2019-09-02","Ma","",null,null,null,"","00:00:00","",{"$f":"ColTime(T.!$J$3,T.!$L$3,D248,E248)","v":"00:00:00"},null,{"$f":"ColTime(TIME(T.!$J$4,0,0),TIME(T.!$L$4,0,0),D248,E248)","v":"00:00:00"},null,"","","",null,null,{"$f":"IFERROR(CHOOSE(WEEKDAY(A248,2),norm!C$1,norm!C$2,norm!C$3,norm!C$4,norm!C$5,norm!C$6,norm!C$7),\"\")","v":"09:00:00"}]
["2019-09-03","Ti","",null,null,null,"","00:00:00","",{"$f":"ColTime(T.!$J$3,T.!$L$3,D249,E249)","v":"00:00:00"},null,{"$f":"ColTime(TIME(T.!$J$4,0,0),TIME(T.!$L$4,0,0),D249,E249)","v":"00:00:00"},null,"","","",null,null,{"$f":"IFERROR(CHOOSE(WEEKDAY(A249,2),norm!C$1,norm!C$2,norm!C$3,norm!C$4,norm!C$5,norm!C$6,norm!C$7),\"\")","v":"09:00:00"}]
["2019-09-04","On","",null,null,null,"","00:00:00","",{"$f":"ColTime(T.!$J$3,T.!$L$3,D250,E250)","v":"00:00:00"},null,{"$f":"ColTime(TIME(T.!$J$4,0,0),TIME(T.!$L$4,0,0),D250,E250)","v":"00:00:00"},null,"","","",null,null,{"$f":"IFERROR(CHOOSE(WEEKDAY(A250,2),norm!C$1,norm!C$2,norm!C$3,norm!C$4,norm!C$5,norm!C$6,norm!C$7),\"\")","v":"09:00:00"}]
["2019-09-05","To","",null,null,null,"","00:00:00","",{"$f":"ColTime(T.!$J$3,T.!$L$3,D251,E251)","v":"00:00:00"},null,{"$f":"ColTime(TIME(T.!$J$4,0,0),TIME(T.!$L$4,0,0),D251,E251)","v":"00:00:00"},null,"","","",null,null,{"$f":"IFERROR(CHOOSE(WEEKDAY(A251,2),norm!C$1,norm!C$2,norm!C$3,norm!C$4,norm!C$5,norm!C$6,norm!C$7),\"\")","v":"09:00:00"}]
["2019-09-06","Fr","",null,null,null,"","00:00:00","",{"$f":"ColTime(T.!$J$3,T.!$L$3,D252,E252)","v":"00:00:00"},null,{"$f":"ColTime(TIME(T.!$J$4,0,0),TIME(T.!$L$4,0,0),D252,E252)","v":"00:00:00"},null,"","","",null,null,{"$f":"IFERROR(CHOOSE(WEEKDAY(A252,2),norm!C$1,norm!C$2,norm!C$3,norm!C$4,norm!C$5,norm!C$6,norm!C$7),\"\")","v":"09:00:00"}]
["2019-09-07","Lø","",null,null,null,"","00:00:00","",{"$f":"ColTime(T.!$J$3,T.!$L$3,D253,E253)","v":"00:00:00"},null,{"$f":"ColTime(TIME(T.!$J$4,0,0),TIME(T.!$L$4,0,0),D253,E253)","v":"00:00:00"},null,"00:00:00","","",null,null,{"$f":"IFERROR(CHOOSE(WEEKDAY(A253,2),norm!C$1,norm!C$2,norm!C$3,norm!C$4,norm!C$5,norm!C$6,norm!C$7),\"\")","v":"09:00:00"}]
["2019-09-08","Sø","",null,null,null,"","00:00:00","",{"$f":"ColTime(T.!$J$3,T.!$L$3,D254,E254)","v":"00:00:00"},null,{"$f":"ColTime(TIME(T.!$J$4,0,0),TIME(T.!$L$4,0,0),D254,E254)","v":"00:00:00"},null,"","00:00:00","",null,null,{"$f":"IFERROR(CHOOSE(WEEKDAY(A254,2),norm!C$1,norm!C$2,norm!C$3,norm!C$4,norm!C$5,norm!C$6,norm!C$7),\"\")","v":"09:00:00"}]
["2019-09-09","Ma","",null,null,null,"","00:00:00","",{"$f":"ColTime(T.!$J$3,T.!$L$3,D255,E255)","v":"00:00:00"},null,{"$f":"ColTime(TIME(T.!$J$4,0,0),TIME(T.!$L$4,0,0),D255,E255)","v":"00:00:00"},null,"","","",null,null,{"$f":"IFERROR(CHOOSE(WEEKDAY(A255,2),norm!C$1,norm!C$2,norm!C$3,norm!C$4,norm!C$5,norm!C$6,norm!C$7),\"\")","v":"09:00:00"}]
["2019-09-10","Ti","",null,null,null,"","00:00:00","",{"$f":"ColTime(T.!$J$3,T.!$L$3,D256,E256)","v":"00:00:00"},null,{"$f":"ColTime(TIME(T.!$J$4,0,0),TIME(T.!$L$4,0,0),D256,E256)","v":"00:00:00"},null,"","","",null,null,{"$f":"IFERROR(CHOOSE(WEEKDAY(A256,2),norm!C$1,norm!C$2,norm!C$3,norm!C$4,norm!C$5,norm!C$6,norm!C$7),\"\")","v":"09:00:00"}]
["2019-09-11","On","",null,null,null,"","00:00:00","",{"$f":"ColTime(T.!$J$3,T.!$L$3,D257,E257)","v":"00:00:00"},null,{"$f":"ColTime(TIME(T.!$J$4,0,0),TIME(T.!$L$4,0,0),D257,E257)","v":"00:00:00"},null,"","","",null,null,{"$f":"IFERROR(CHOOSE(WEEKDAY(A257,2),norm!C$1,norm!C$2,norm!C$3,norm!C$4,norm!C$5,norm!C$6,norm!C$7),\"\")","v":"09:00:00"}]
["2019-09-12","To","",null,null,null,"","00:00:00","",{"$f":"ColTime(T.!$J$3,T.!$L$3,D258,E258)","v":"00:00:00"},null,{"$f":"ColTime(TIME(T.!$J$4,0,0),TIME(T.!$L$4,0,0),D258,E258)","v":"00:00:00"},null,"","","",null,null,{"$f":"IFERROR(CHOOSE(WEEKDAY(A258,2),norm!C$1,norm!C$2,norm!C$3,norm!C$4,norm!C$5,norm!C$6,norm!C$7),\"\")","v":"09:00:00"}]
["2019-09-13","Fr","",null,null,null,"","00:00:00","",{"$f":"ColTime(T.!$J$3,T.!$L$3,D259,E259)","v":"00:00:00"},null,{"$f":"ColTime(TIME(T.!$J$4,0,0),TIME(T.!$L$4,0,0),D259,E259)","v":"00:00:00"},null,"","","",null,null,{"$f":"IFERROR(CHOOSE(WEEKDAY(A259,2),norm!C$1,norm!C$2,norm!C$3,norm!C$4,norm!C$5,norm!C$6,norm!C$7),\"\")","v":"09:00:00"}]
["2019-09-14","Lø","",null,null,null,"","00:00:00","",{"$f":"ColTime(T.!$J$3,T.!$L$3,D260,E260)","v":"00:00:00"},null,{"$f":"ColTime(TIME(T.!$J$4,0,0),TIME(T.!$L$4,0,0),D260,E260)","v":"00:00:00"},null,"00:00:00","","",null,null,{"$f":"IFERROR(CHOOSE(WEEKDAY(A260,2),norm!C$1,norm!C$2,norm!C$3,norm!C$4,norm!C$5,norm!C$6,norm!C$7),\"\")","v":"09:00:00"}]
["2019-09-15","Sø","",null,null,null,"","00:00:00","",{"$f":"ColTime(T.!$J$3,T.!$L$3,D261,E261)","v":"00:00:00"},null,{"$f":"ColTime(TIME(T.!$J$4,0,0),TIME(T.!$L$4,0,0),D261,E261)","v":"00:00:00"},null,"","00:00:00","",null,null,{"$f":"IFERROR(CHOOSE(WEEKDAY(A261,2),norm!C$1,norm!C$2,norm!C$3,norm!C$4,norm!C$5,norm!C$6,norm!C$7),\"\")","v":"09:00:00"}]
["2019-09-16","Ma","",null,null,null,"","00:00:00","",{"$f":"ColTime(T.!$J$3,T.!$L$3,D262,E262)","v":"00:00:00"},null,{"$f":"ColTime(TIME(T.!$J$4,0,0),TIME(T.!$L$4,0,0),D262,E262)","v":"00:00:00"},null,"","","",null,null,{"$f":"IFERROR(CHOOSE(WEEKDAY(A262,2),norm!C$1,norm!C$2,norm!C$3,norm!C$4,norm!C$5,norm!C$6,norm!C$7),\"\")","v":"09:00:00"}]
["2019-09-17","Ti","",null,null,null,"","00:00:00","",{"$f":"ColTime(T.!$J$3,T.!$L$3,D263,E263)","v":"00:00:00"},null,{"$f":"ColTime(TIME(T.!$J$4,0,0),TIME(T.!$L$4,0,0),D263,E263)","v":"00:00:00"},null,"","","",null,null,{"$f":"IFERROR(CHOOSE(WEEKDAY(A263,2),norm!C$1,norm!C$2,norm!C$3,norm!C$4,norm!C$5,norm!C$6,norm!C$7),\"\")","v":"09:00:00"}]
["2019-09-18","On","",null,null,null,"","00:00:00","",{"$f":"ColTime(T.!$J$3,T.!$L$3,D264,E264)","v":"00:00:00"},null,{"$f":"ColTime(TIME(T.!$J$4,0,0),TIME(T.!$L$4,0,0),D264,E264)","v":"00:00:00"},null,"","","",null,null,{"$f":"IFERROR(CHOOSE(WEEKDAY(A264,2),norm!C$1,norm!C$2,norm!C$3,norm!C$4,norm!C$5,norm!C$6,norm!C$7),\"\")","v":"09:00:00"}]
["2019-09-19","To","",null,null,null,"","00:00:00","",{"$f":"ColTime(T.!$J$3,T.!$L$3,D265,E265)","v":"00:00:00"},null,{"$f":"ColTime(TIME(T.!$J$4,0,0),TIME(T.!$L$4,0,0),D265,E265)","v":"00:00:00"},null,"","","",null,null,{"$f":"IFERROR(CHOOSE(WEEKDAY(A265,2),norm!C$1,norm!C$2,norm!C$3,norm!C$4,norm!C$5,norm!C$6,norm!C$7),\"\")","v":"09:00:00"}]
["2019-09-20","Fr","",null,null,null,"","00:00:00","",{"$f":"ColTime(T.!$J$3,T.!$L$3,D266,E266)","v":"00:00:00"},null,{"$f":"ColTime(TIME(T.!$J$4,0,0),TIME(T.!$L$4,0,0),D266,E266)","v":"00:00:00"},null,"","","",null,null,{"$f":"IFERROR(CHOOSE(WEEKDAY(A266,2),norm!C$1,norm!C$2,norm!C$3,norm!C$4,norm!C$5,norm!C$6,norm!C$7),\"\")","v":"09:00:00"}]
["2019-09-21","Lø","",null,null,null,"","00:00:00","",{"$f":"ColTime(T.!$J$3,T.!$L$3,D267,E267)","v":"00:00:00"},null,{"$f":"ColTime(TIME(T.!$J$4,0,0),TIME(T.!$L$4,0,0),D267,E267)","v":"00:00:00"},null,"00:00:00","","",null,null,{"$f":"IFERROR(CHOOSE(WEEKDAY(A267,2),norm!C$1,norm!C$2,norm!C$3,norm!C$4,norm!C$5,norm!C$6,norm!C$7),\"\")","v":"09:00:00"}]
["2019-09-22","Sø","",null,null,null,"","00:00:00","",{"$f":"ColTime(T.!$J$3,T.!$L$3,D268,E268)","v":"00:00:00"},null,{"$f":"ColTime(TIME(T.!$J$4,0,0),TIME(T.!$L$4,0,0),D268,E268)","v":"00:00:00"},null,"","00:00:00","",null,null,{"$f":"IFERROR(CHOOSE(WEEKDAY(A268,2),norm!C$1,norm!C$2,norm!C$3,norm!C$4,norm!C$5,norm!C$6,norm!C$7),\"\")","v":"09:00:00"}]
["2019-09-23","Ma","",null,null,null,"","00:00:00","",{"$f":"ColTime(T.!$J$3,T.!$L$3,D269,E269)","v":"00:00:00"},null,{"$f":"ColTime(TIME(T.!$J$4,0,0),TIME(T.!$L$4,0,0),D269,E269)","v":"00:00:00"},null,"","","",null,null,{"$f":"IFERROR(CHOOSE(WEEKDAY(A269,2),norm!C$1,norm!C$2,norm!C$3,norm!C$4,norm!C$5,norm!C$6,norm!C$7),\"\")","v":"09:00:00"}]
["2019-09-24","Ti","",null,null,null,"","00:00:00","",{"$f":"ColTime(T.!$J$3,T.!$L$3,D270,E270)","v":"00:00:00"},null,{"$f":"ColTime(TIME(T.!$J$4,0,0),TIME(T.!$L$4,0,0),D270,E270)","v":"00:00:00"},null,"","","",null,null,{"$f":"IFERROR(CHOOSE(WEEKDAY(A270,2),norm!C$1,norm!C$2,norm!C$3,norm!C$4,norm!C$5,norm!C$6,norm!C$7),\"\")","v":"09:00:00"}]
["2019-09-25","On","",null,null,null,"","00:00:00","",{"$f":"ColTime(T.!$J$3,T.!$L$3,D271,E271)","v":"00:00:00"},null,{"$f":"ColTime(TIME(T.!$J$4,0,0),TIME(T.!$L$4,0,0),D271,E271)","v":"00:00:00"},null,"","","",null,null,{"$f":"IFERROR(CHOOSE(WEEKDAY(A271,2),norm!C$1,norm!C$2,norm!C$3,norm!C$4,norm!C$5,norm!C$6,norm!C$7),\"\")","v":"09:00:00"}]
["2019-09-26","To","",null,null,null,"","00:00:00","",{"$f":"ColTime(T.!$J$3,T.!$L$3,D272,E272)","v":"00:00:00"},null,{"$f":"ColTime(TIME(T.!$J$4,0,0),TIME(T.!$L$4,0,0),D272,E272)","v":"00:00:00"},null,"","","",null,null,{"$f":"IFERROR(CHOOSE(WEEKDAY(A272,2),norm!C$1,norm!C$2,norm!C$3,norm!C$4,norm!C$5,norm!C$6,norm!C$7),\"\")","v":"09:00:00"}]
["2019-09-27","Fr","",null,null,null,"","00:00:00","",{"$f":"ColTime(T.!$J$3,T.!$L$3,D273,E273)","v":"00:00:00"},null,{"$f":"ColTime(TIME(T.!$J$4,0,0),TIME(T.!$L$4,0,0),D273,E273)","v":"00:00:00"},null,"","","",null,null,{"$f":"IFERROR(CHOOSE(WEEKDAY(A273,2),norm!C$1,norm!C$2,norm!C$3,norm!C$4,norm!C$5,norm!C$6,norm!C$7),\"\")","v":"09:00:00"}]
["2019-09-28","Lø","",null,null,null,"","00:00:00","",{"$f":"ColTime(T.!$J$3,T.!$L$3,D274,E274)","v":"00:00:00"},null,{"$f":"ColTime(TIME(T.!$J$4,0,0),TIME(T.!$L$4,0,0),D274,E274)","v":"00:00:00"},null,"00:00:00","","",null,null,{"$f":"IFERROR(CHOOSE(WEEKDAY(A274,2),norm!C$1,norm!C$2,norm!C$3,norm!C$4,norm!C$5,norm!C$6,norm!C$7),\"\")","v":"09:00:00"}]
["2019-09-29","Sø","",null,null,null,"","00:00:00","",{"$f":"ColTime(T.!$J$3,T.!$L$3,D275,E275)","v":"00:00:00"},null,{"$f":"ColTime(TIME(T.!$J$4,0,0),TIME(T.!$L$4,0,0),D275,E275)","v":"00:00:00"},null,"","00:00:00","",null,null,{"$f":"IFERROR(CHOOSE(WEEKDAY(A275,2),norm!C$1,norm!C$2,norm!C$3,norm!C$4,norm!C$5,norm!C$6,norm!C$7),\"\")","v":"09:00:00"}]
["2019-09-30","Ma","",null,null,null,"","00:00:00","",{"$f":"ColTime(T.!$J$3,T.!$L$3,D276,E276)","v":"00:00:00"},null,{"$f":"ColTime(TIME(T.!$J$4,0,0),TIME(T.!$L$4,0,0),D276,E276)","v":"00:00:00"},null,"","","",null,null,{"$f":"IFERROR(CHOOSE(WEEKDAY(A276,2),norm!C$1,norm!C$2,norm!C$3,norm!C$4,norm!C$5,norm!C$6,norm!C$7),\"\")","v":"09:00:00"}]
["2019-10-01","Ti","",null,null,null,"","00:00:00","",{"$f":"ColTime(T.!$J$3,T.!$L$3,D277,E277)","v":"00:00:00"},null,{"$f":"ColTime(TIME(T.!$J$4,0,0),TIME(T.!$L$4,0,0),D277,E277)","v":"00:00:00"},null,"","","",null,null,{"$f":"IFERROR(CHOOSE(WEEKDAY(A277,2),norm!C$1,norm!C$2,norm!C$3,norm!C$4,norm!C$5,norm!C$6,norm!C$7),\"\")","v":"09:00:00"}]
["2019-10-02","On","",null,null,null,"","00:00:00","",{"$f":"ColTime(T.!$J$3,T.!$L$3,D278,E278)","v":"00:00:00"},null,{"$f":"ColTime(TIME(T.!$J$4,0,0),TIME(T.!$L$4,0,0),D278,E278)","v":"00:00:00"},null,"","","",null,null,{"$f":"IFERROR(CHOOSE(WEEKDAY(A278,2),norm!C$1,norm!C$2,norm!C$3,norm!C$4,norm!C$5,norm!C$6,norm!C$7),\"\")","v":"09:00:00"}]
["2019-10-03","To","",null,null,null,"","00:00:00","",{"$f":"ColTime(T.!$J$3,T.!$L$3,D279,E279)","v":"00:00:00"},null,{"$f":"ColTime(TIME(T.!$J$4,0,0),TIME(T.!$L$4,0,0),D279,E279)","v":"00:00:00"},null,"","","",null,null,{"$f":"IFERROR(CHOOSE(WEEKDAY(A279,2),norm!C$1,norm!C$2,norm!C$3,norm!C$4,norm!C$5,norm!C$6,norm!C$7),\"\")","v":"09:00:00"}]
["2019-10-04","Fr","",null,null,null,"","00:00:00","",{"$f":"ColTime(T.!$J$3,T.!$L$3,D280,E280)","v":"00:00:00"},null,{"$f":"ColTime(TIME(T.!$J$4,0,0),TIME(T.!$L$4,0,0),D280,E280)","v":"00:00:00"},null,"","","",null,null,{"$f":"IFERROR(CHOOSE(WEEKDAY(A280,2),norm!C$1,norm!C$2,norm!C$3,norm!C$4,norm!C$5,norm!C$6,norm!C$7),\"\")","v":"09:00:00"}]
["2019-10-05","Lø","",null,null,null,"","00:00:00","",{"$f":"ColTime(T.!$J$3,T.!$L$3,D281,E281)","v":"00:00:00"},null,{"$f":"ColTime(TIME(T.!$J$4,0,0),TIME(T.!$L$4,0,0),D281,E281)","v":"00:00:00"},null,"00:00:00","","",null,null,{"$f":"IFERROR(CHOOSE(WEEKDAY(A281,2),norm!C$1,norm!C$2,norm!C$3,norm!C$4,norm!C$5,norm!C$6,norm!C$7),\"\")","v":"09:00:00"}]
["2019-10-06","Sø","",null,null,null,"","00:00:00","",{"$f":"ColTime(T.!$J$3,T.!$L$3,D282,E282)","v":"00:00:00"},null,{"$f":"ColTime(TIME(T.!$J$4,0,0),TIME(T.!$L$4,0,0),D282,E282)","v":"00:00:00"},null,"","00:00:00","",null,null,{"$f":"IFERROR(CHOOSE(WEEKDAY(A282,2),norm!C$1,norm!C$2,norm!C$3,norm!C$4,norm!C$5,norm!C$6,norm!C$7),\"\")","v":"09:00:00"}]
[{"$f":"A282+1","v":"2019-10-07"},"Ma","",null,null,null,"","00:00:00","",{"$f":"ColTime(T.!$J$3,T.!$L$3,D283,E283)","v":"00:00:00"},null,{"$f":"ColTime(TIME(T.!$J$4,0,0),TIME(T.!$L$4,0,0),D283,E283)","v":"00:00:00"},null,"","","",null,null,{"$f":"IFERROR(CHOOSE(WEEKDAY(A283,2),norm!C$1,norm!C$2,norm!C$3,norm!C$4,norm!C$5,norm!C$6,norm!C$7),\"\")","v":"09:00:00"}]
["2019-10-08","Ti","",null,null,null,"","00:00:00","",{"$f":"ColTime(T.!$J$3,T.!$L$3,D284,E284)","v":"00:00:00"},null,{"$f":"ColTime(TIME(T.!$J$4,0,0),TIME(T.!$L$4,0,0),D284,E284)","v":"00:00:00"},null,"","","",null,null,{"$f":"IFERROR(CHOOSE(WEEKDAY(A284,2),norm!C$1,norm!C$2,norm!C$3,norm!C$4,norm!C$5,norm!C$6,norm!C$7),\"\")","v":"09:00:00"}]
["2019-10-09","On","",null,null,null,"","00:00:00","",{"$f":"ColTime(T.!$J$3,T.!$L$3,D285,E285)","v":"00:00:00"},null,{"$f":"ColTime(TIME(T.!$J$4,0,0),TIME(T.!$L$4,0,0),D285,E285)","v":"00:00:00"},null,"","","",null,null,{"$f":"IFERROR(CHOOSE(WEEKDAY(A285,2),norm!C$1,norm!C$2,norm!C$3,norm!C$4,norm!C$5,norm!C$6,norm!C$7),\"\")","v":"09:00:00"}]
["2019-10-10","To","",null,null,null,"","00:00:00","",{"$f":"ColTime(T.!$J$3,T.!$L$3,D286,E286)","v":"00:00:00"},null,{"$f":"ColTime(TIME(T.!$J$4,0,0),TIME(T.!$L$4,0,0),D286,E286)","v":"00:00:00"},null,"","","",null,null,{"$f":"IFERROR(CHOOSE(WEEKDAY(A286,2),norm!C$1,norm!C$2,norm!C$3,norm!C$4,norm!C$5,norm!C$6,norm!C$7),\"\")","v":"09:00:00"}]
["2019-10-11","Fr","",null,null,null,"","00:00:00","",{"$f":"ColTime(T.!$J$3,T.!$L$3,D287,E287)","v":"00:00:00"},null,{"$f":"ColTime(TIME(T.!$J$4,0,0),TIME(T.!$L$4,0,0),D287,E287)","v":"00:00:00"},null,"","","",null,null,{"$f":"IFERROR(CHOOSE(WEEKDAY(A287,2),norm!C$1,norm!C$2,norm!C$3,norm!C$4,norm!C$5,norm!C$6,norm!C$7),\"\")","v":"09:00:00"}]
["2019-10-12","Lø","",null,null,null,"","00:00:00","",{"$f":"ColTime(T.!$J$3,T.!$L$3,D288,E288)","v":"00:00:00"},null,{"$f":"ColTime(TIME(T.!$J$4,0,0),TIME(T.!$L$4,0,0),D288,E288)","v":"00:00:00"},null,"00:00:00","","",null,null,{"$f":"IFERROR(CHOOSE(WEEKDAY(A288,2),norm!C$1,norm!C$2,norm!C$3,norm!C$4,norm!C$5,norm!C$6,norm!C$7),\"\")","v":"09:00:00"}]
["2019-10-13","Sø","",null,null,null,"","00:00:00","",{"$f":"ColTime(T.!$J$3,T.!$L$3,D289,E289)","v":"00:00:00"},null,{"$f":"ColTime(TIME(T.!$J$4,0,0),TIME(T.!$L$4,0,0),D289,E289)","v":"00:00:00"},null,"","00:00:00","",null,null,{"$f":"IFERROR(CHOOSE(WEEKDAY(A289,2),norm!C$1,norm!C$2,norm!C$3,norm!C$4,norm!C$5,norm!C$6,norm!C$7),\"\")","v":"09:00:00"}]
["2019-10-14","Ma","",null,null,null,"","00:00:00","",{"$f":"ColTime(T.!$J$3,T.!$L$3,D290,E290)","v":"00:00:00"},null,{"$f":"ColTime(TIME(T.!$J$4,0,0),TIME(T.!$L$4,0,0),D290,E290)","v":"00:00:00"},null,"","","",null,null,{"$f":"IFERROR(CHOOSE(WEEKDAY(A290,2),norm!C$1,norm!C$2,norm!C$3,norm!C$4,norm!C$5,norm!C$6,norm!C$7),\"\")","v":"09:00:00"}]
["2019-10-15",{"$f":"IFERROR(PROPER(TEXT(A291,\"ddd\")),\"\")","v":"Ti"},"",null,null,null,"","00:00:00","",{"$f":"ColTime(T.!$J$3,T.!$L$3,D291,E291)","v":"00:00:00"},null,{"$f":"ColTime(TIME(T.!$J$4,0,0),TIME(T.!$L$4,0,0),D291,E291)","v":"00:00:00"},null,"","","",null,null,{"$f":"IFERROR(CHOOSE(WEEKDAY(A291,2),norm!C$1,norm!C$2,norm!C$3,norm!C$4,norm!C$5,norm!C$6,norm!C$7),\"\")","v":"09:00:00"}]
["2019-10-16","On","",null,null,null,"","00:00:00","",{"$f":"ColTime(T.!$J$3,T.!$L$3,D292,E292)","v":"00:00:00"},null,{"$f":"ColTime(TIME(T.!$J$4,0,0),TIME(T.!$L$4,0,0),D292,E292)","v":"00:00:00"},null,"","","",null,null,{"$f":"IFERROR(CHOOSE(WEEKDAY(A292,2),norm!C$1,norm!C$2,norm!C$3,norm!C$4,norm!C$5,norm!C$6,norm!C$7),\"\")","v":"09:00:00"}]
["2019-10-17","To","",null,null,null,"","00:00:00","",{"$f":"ColTime(T.!$J$3,T.!$L$3,D293,E293)","v":"00:00:00"},null,{"$f":"ColTime(TIME(T.!$J$4,0,0),TIME(T.!$L$4,0,0),D293,E293)","v":"00:00:00"},null,"","","",null,null,{"$f":"IFERROR(CHOOSE(WEEKDAY(A293,2),norm!C$1,norm!C$2,norm!C$3,norm!C$4,norm!C$5,norm!C$6,norm!C$7),\"\")","v":"09:00:00"}]
["2019-10-18","Fr","",null,null,null,"","00:00:00","",{"$f":"ColTime(T.!$J$3,T.!$L$3,D294,E294)","v":"00:00:00"},null,{"$f":"ColTime(TIME(T.!$J$4,0,0),TIME(T.!$L$4,0,0),D294,E294)","v":"00:00:00"},null,"","","",null,null,{"$f":"IFERROR(CHOOSE(WEEKDAY(A294,2),norm!C$1,norm!C$2,norm!C$3,norm!C$4,norm!C$5,norm!C$6,norm!C$7),\"\")","v":"09:00:00"}]
["2019-10-19","Lø","",null,null,null,"","00:00:00","",{"$f":"ColTime(T.!$J$3,T.!$L$3,D295,E295)","v":"00:00:00"},null,{"$f":"ColTime(TIME(T.!$J$4,0,0),TIME(T.!$L$4,0,0),D295,E295)","v":"00:00:00"},null,"00:00:00","","",null,null,{"$f":"IFERROR(CHOOSE(WEEKDAY(A295,2),norm!C$1,norm!C$2,norm!C$3,norm!C$4,norm!C$5,norm!C$6,norm!C$7),\"\")","v":"09:00:00"}]
["2019-10-20","Sø","",null,null,null,"","00:00:00","",{"$f":"ColTime(T.!$J$3,T.!$L$3,D296,E296)","v":"00:00:00"},null,{"$f":"ColTime(TIME(T.!$J$4,0,0),TIME(T.!$L$4,0,0),D296,E296)","v":"00:00:00"},null,"","00:00:00","",null,null,{"$f":"IFERROR(CHOOSE(WEEKDAY(A296,2),norm!C$1,norm!C$2,norm!C$3,norm!C$4,norm!C$5,norm!C$6,norm!C$7),\"\")","v":"09:00:00"}]
["2019-10-21","Ma","",null,null,null,"","00:00:00","",{"$f":"ColTime(T.!$J$3,T.!$L$3,D297,E297)","v":"00:00:00"},null,{"$f":"ColTime(TIME(T.!$J$4,0,0),TIME(T.!$L$4,0,0),D297,E297)","v":"00:00:00"},null,"","","",null,null,{"$f":"IFERROR(CHOOSE(WEEKDAY(A297,2),norm!C$1,norm!C$2,norm!C$3,norm!C$4,norm!C$5,norm!C$6,norm!C$7),\"\")","v":"09:00:00"}]
["2019-10-22","Ti","",null,null,null,"","00:00:00","",{"$f":"ColTime(T.!$J$3,T.!$L$3,D298,E298)","v":"00:00:00"},null,{"$f":"ColTime(TIME(T.!$J$4,0,0),TIME(T.!$L$4,0,0),D298,E298)","v":"00:00:00"},null,"","","",null,null,{"$f":"IFERROR(CHOOSE(WEEKDAY(A298,2),norm!C$1,norm!C$2,norm!C$3,norm!C$4,norm!C$5,norm!C$6,norm!C$7),\"\")","v":"09:00:00"}]
["2019-10-23","On","",null,null,null,"","00:00:00","",{"$f":"ColTime(T.!$J$3,T.!$L$3,D299,E299)","v":"00:00:00"},null,{"$f":"ColTime(TIME(T.!$J$4,0,0),TIME(T.!$L$4,0,0),D299,E299)","v":"00:00:00"},null,"","","",null,null,{"$f":"IFERROR(CHOOSE(WEEKDAY(A299,2),norm!C$1,norm!C$2,norm!C$3,norm!C$4,norm!C$5,norm!C$6,norm!C$7),\"\")","v":"09:00:00"}]
["2019-10-24","To","",null,null,null,"","00:00:00","",{"$f":"ColTime(T.!$J$3,T.!$L$3,D300,E300)","v":"00:00:00"},null,{"$f":"ColTime(TIME(T.!$J$4,0,0),TIME(T.!$L$4,0,0),D300,E300)","v":"00:00:00"},null,"","","",null,null,{"$f":"IFERROR(CHOOSE(WEEKDAY(A300,2),norm!C$1,norm!C$2,norm!C$3,norm!C$4,norm!C$5,norm!C$6,norm!C$7),\"\")","v":"09:00:00"}]
["2019-10-25","Fr","",null,null,null,"","00:00:00","",{"$f":"ColTime(T.!$J$3,T.!$L$3,D301,E301)","v":"00:00:00"},null,{"$f":"ColTime(TIME(T.!$J$4,0,0),TIME(T.!$L$4,0,0),D301,E301)","v":"00:00:00"},null,"","","",null,null,{"$f":"IFERROR(CHOOSE(WEEKDAY(A301,2),norm!C$1,norm!C$2,norm!C$3,norm!C$4,norm!C$5,norm!C$6,norm!C$7),\"\")","v":"09:00:00"}]
["2019-10-26","Lø","",null,null,null,"","00:00:00","",{"$f":"ColTime(T.!$J$3,T.!$L$3,D302,E302)","v":"00:00:00"},null,{"$f":"ColTime(TIME(T.!$J$4,0,0),TIME(T.!$L$4,0,0),D302,E302)","v":"00:00:00"},null,"00:00:00","","",null,null,{"$f":"IFERROR(CHOOSE(WEEKDAY(A302,2),norm!C$1,norm!C$2,norm!C$3,norm!C$4,norm!C$5,norm!C$6,norm!C$7),\"\")","v":"09:00:00"}]
["2019-10-27","Sø","",null,null,null,"","00:00:00","",{"$f":"ColTime(T.!$J$3,T.!$L$3,D303,E303)","v":"00:00:00"},null,{"$f":"ColTime(TIME(T.!$J$4,0,0),TIME(T.!$L$4,0,0),D303,E303)","v":"00:00:00"},null,"","00:00:00","",null,null,{"$f":"IFERROR(CHOOSE(WEEKDAY(A303,2),norm!C$1,norm!C$2,norm!C$3,norm!C$4,norm!C$5,norm!C$6,norm!C$7),\"\")","v":"09:00:00"}]
["2019-10-28","Ma","",null,null,null,"","00:00:00","",{"$f":"ColTime(T.!$J$3,T.!$L$3,D304,E304)","v":"00:00:00"},null,{"$f":"ColTime(TIME(T.!$J$4,0,0),TIME(T.!$L$4,0,0),D304,E304)","v":"00:00:00"},null,"","","",null,null,{"$f":"IFERROR(CHOOSE(WEEKDAY(A304,2),norm!C$1,norm!C$2,norm!C$3,norm!C$4,norm!C$5,norm!C$6,norm!C$7),\"\")","v":"09:00:00"}]
["2019-10-29","Ti","",null,null,null,"","00:00:00","",{"$f":"ColTime(T.!$J$3,T.!$L$3,D305,E305)","v":"00:00:00"},null,{"$f":"ColTime(TIME(T.!$J$4,0,0),TIME(T.!$L$4,0,0),D305,E305)","v":"00:00:00"},null,"","","",null,null,{"$f":"IFERROR(CHOOSE(WEEKDAY(A305,2),norm!C$1,norm!C$2,norm!C$3,norm!C$4,norm!C$5,norm!C$6,norm!C$7),\"\")","v":"09:00:00"}]
["2019-10-30","On","",null,null,null,"","00:00:00","",{"$f":"ColTime(T.!$J$3,T.!$L$3,D306,E306)","v":"00:00:00"},null,{"$f":"ColTime(TIME(T.!$J$4,0,0),TIME(T.!$L$4,0,0),D306,E306)","v":"00:00:00"},null,"","","",null,null,{"$f":"IFERROR(CHOOSE(WEEKDAY(A306,2),norm!C$1,norm!C$2,norm!C$3,norm!C$4,norm!C$5,norm!C$6,norm!C$7),\"\")","v":"09:00:00"}]
["2019-10-31","To","",null,null,null,"","00:00:00","",{"$f":"ColTime(T.!$J$3,T.!$L$3,D307,E307)","v":"00:00:00"},null,{"$f":"ColTime(TIME(T.!$J$4,0,0),TIME(T.!$L$4,0,0),D307,E307)","v":"00:00:00"},null,"","","",null,null,{"$f":"IFERROR(CHOOSE(WEEKDAY(A307,2),norm!C$1,norm!C$2,norm!C$3,norm!C$4,norm!C$5,norm!C$6,norm!C$7),\"\")","v":"09:00:00"}]
["2019-11-01","Fr","",null,null,null,"","00:00:00","",{"$f":"ColTime(T.!$J$3,T.!$L$3,D308,E308)","v":"00:00:00"},null,{"$f":"ColTime(TIME(T.!$J$4,0,0),TIME(T.!$L$4,0,0),D308,E308)","v":"00:00:00"},null,"","","",null,null,{"$f":"IFERROR(CHOOSE(WEEKDAY(A308,2),norm!C$1,norm!C$2,norm!C$3,norm!C$4,norm!C$5,norm!C$6,norm!C$7),\"\")","v":"09:00:00"}]
["2019-11-02","Lø",{"$f":"IF(A309=\"\",\"\",HelligdagsNavn(A309,0,0))","v":""},null,null,null,{"$f":"IF(D309=\"\",\"\",(E309-D309)+(D309>E309)-F309)","v":""},{"$f":"IF(G309=\"\",0,IF(WEEKDAY(A309,2)=7,0,IF(G309>S309,MIN(G309-S309,$AI$1),0)))","v":"00:00:00"},{"$f":"IF(G309=\"\",\"\",IF(G309>S309+H309,G309-(S309+H309),\"\"))","v":""},{"$f":"ColTime(T.!$J$3,T.!$L$3,D309,E309)","v":"00:00:00"},null,{"$f":"ColTime(TIME(T.!$J$4,0,0),TIME(T.!$L$4,0,0),D309,E309)","v":"00:00:00"},null,{"$f":"IFERROR(IF(WEEKDAY(A309,2)=6,ColTime(TIME(15,0,0),TIME(24,0,0),D309,E309),\"\"),\"\")","v":"00:00:00"},{"$f":"IFERROR(IF(OR(C309<>\"\",WEEKDAY(A309,2)=7),ColTime(TIME(0,0,0),TIME(24,0,0),D309,E309),\"\"),\"\")","v":""},{"$f":"IFERROR(H309+I309,\"\")","v":""},null,null,{"$f":"IFERROR(CHOOSE(WEEKDAY(A309,2),norm!C$1,norm!C$2,norm!C$3,norm!C$4,norm!C$5,norm!C$6,norm!C$7),\"\")","v":"09:00:00"}]
["2019-11-03","Sø","",null,null,null,"","00:00:00","",{"$f":"ColTime(T.!$J$3,T.!$L$3,D310,E310)","v":"00:00:00"},null,{"$f":"ColTime(TIME(T.!$J$4,0,0),TIME(T.!$L$4,0,0),D310,E310)","v":"00:00:00"},null,"","00:00:00","",null,null,{"$f":"IFERROR(CHOOSE(WEEKDAY(A310,2),norm!C$1,norm!C$2,norm!C$3,norm!C$4,norm!C$5,norm!C$6,norm!C$7),\"\")","v":"09:00:00"}]
["2019-11-04","Ma","",null,null,null,"","00:00:00","",{"$f":"ColTime(T.!$J$3,T.!$L$3,D311,E311)","v":"00:00:00"},null,{"$f":"ColTime(TIME(T.!$J$4,0,0),TIME(T.!$L$4,0,0),D311,E311)","v":"00:00:00"},null,"","","",null,null,{"$f":"IFERROR(CHOOSE(WEEKDAY(A311,2),norm!C$1,norm!C$2,norm!C$3,norm!C$4,norm!C$5,norm!C$6,norm!C$7),\"\")","v":"09:00:00"}]
["2019-11-05","Ti","",null,null,null,"","00:00:00","",{"$f":"ColTime(T.!$J$3,T.!$L$3,D312,E312)","v":"00:00:00"},null,{"$f":"ColTime(TIME(T.!$J$4,0,0),TIME(T.!$L$4,0,0),D312,E312)","v":"00:00:00"},null,"","","",null,null,{"$f":"IFERROR(CHOOSE(WEEKDAY(A312,2),norm!C$1,norm!C$2,norm!C$3,norm!C$4,norm!C$5,norm!C$6,norm!C$7),\"\")","v":"09:00:00"}]
["2019-11-06","On","",null,null,null,"","00:00:00","",{"$f":"ColTime(T.!$J$3,T.!$L$3,D313,E313)","v":"00:00:00"},null,{"$f":"ColTime(TIME(T.!$J$4,0,0),TIME(T.!$L$4,0,0),D313,E313)","v":"00:00:00"},null,"","","",null,null,{"$f":"IFERROR(CHOOSE(WEEKDAY(A313,2),norm!C$1,norm!C$2,norm!C$3,norm!C$4,norm!C$5,norm!C$6,norm!C$7),\"\")","v":"09:00:00"}]
["2019-11-07","To","",null,null,null,"","00:00:00","",{"$f":"ColTime(T.!$J$3,T.!$L$3,D314,E314)","v":"00:00:00"},null,{"$f":"ColTime(TIME(T.!$J$4,0,0),TIME(T.!$L$4,0,0),D314,E314)","v":"00:00:00"},null,"","","",null,null,{"$f":"IFERROR(CHOOSE(WEEKDAY(A314,2),norm!C$1,norm!C$2,norm!C$3,norm!C$4,norm!C$5,norm!C$6,norm!C$7),\"\")","v":"09:00:00"}]
["2019-11-08","Fr","",null,null,null,"","00:00:00","",{"$f":"ColTime(T.!$J$3,T.!$L$3,D315,E315)","v":"00:00:00"},null,{"$f":"ColTime(TIME(T.!$J$4,0,0),TIME(T.!$L$4,0,0),D315,E315)","v":"00:00:00"},null,"","","",null,null,{"$f":"IFERROR(CHOOSE(WEEKDAY(A315,2),norm!C$1,norm!C$2,norm!C$3,norm!C$4,norm!C$5,norm!C$6,norm!C$7),\"\")","v":"09:00:00"}]
["2019-11-09","Lø","",null,null,null,"","00:00:00","",{"$f":"ColTime(T.!$J$3,T.!$L$3,D316,E316)","v":"00:00:00"},null,{"$f":"ColTime(TIME(T.!$J$4,0,0),TIME(T.!$L$4,0,0),D316,E316)","v":"00:00:00"},null,"00:00:00","","",null,null,{"$f":"IFERROR(CHOOSE(WEEKDAY(A316,2),norm!C$1,norm!C$2,norm!C$3,norm!C$4,norm!C$5,norm!C$6,norm!C$7),\"\")","v":"09:00:00"}]
["2019-11-10","Sø","",null,null,null,"","00:00:00","",{"$f":"ColTime(T.!$J$3,T.!$L$3,D317,E317)","v":"00:00:00"},null,{"$f":"ColTime(TIME(T.!$J$4,0,0),TIME(T.!$L$4,0,0),D317,E317)","v":"00:00:00"},null,"","00:00:00","",null,null,{"$f":"IFERROR(CHOOSE(WEEKDAY(A317,2),norm!C$1,norm!C$2,norm!C$3,norm!C$4,norm!C$5,norm!C$6,norm!C$7),\"\")","v":"09:00:00"}]
["2019-11-11","Ma","",null,null,null,"","00:00:00","",{"$f":"ColTime(T.!$J$3,T.!$L$3,D318,E318)","v":"00:00:00"},null,{"$f":"ColTime(TIME(T.!$J$4,0,0),TIME(T.!$L$4,0,0),D318,E318)","v":"00:00:00"},null,"","","",null,null,{"$f":"IFERROR(CHOOSE(WEEKDAY(A318,2),norm!C$1,norm!C$2,norm!C$3,norm!C$4,norm!C$5,norm!C$6,norm!C$7),\"\")","v":"09:00:00"}]
["2019-11-12","Ti","",null,null,null,"","00:00:00","",{"$f":"ColTime(T.!$J$3,T.!$L$3,D319,E319)","v":"00:00:00"},null,{"$f":"ColTime(TIME(T.!$J$4,0,0),TIME(T.!$L$4,0,0),D319,E319)","v":"00:00:00"},null,"","","",null,null,{"$f":"IFERROR(CHOOSE(WEEKDAY(A319,2),norm!C$1,norm!C$2,norm!C$3,norm!C$4,norm!C$5,norm!C$6,norm!C$7),\"\")","v":"09:00:00"}]
["2019-11-13","On","",null,null,null,"","00:00:00","",{"$f":"ColTime(T.!$J$3,T.!$L$3,D320,E320)","v":"00:00:00"},null,{"$f":"ColTime(TIME(T.!$J$4,0,0),TIME(T.!$L$4,0,0),D320,E320)","v":"00:00:00"},null,"","","",null,null,{"$f":"IFERROR(CHOOSE(WEEKDAY(A320,2),norm!C$1,norm!C$2,norm!C$3,norm!C$4,norm!C$5,norm!C$6,norm!C$7),\"\")","v":"09:00:00"}]
["2019-11-14","To","",null,null,null,"","00:00:00","",{"$f":"ColTime(T.!$J$3,T.!$L$3,D321,E321)","v":"00:00:00"},null,{"$f":"ColTime(TIME(T.!$J$4,0,0),TIME(T.!$L$4,0,0),D321,E321)","v":"00:00:00"},null,"","","",null,null,{"$f":"IFERROR(CHOOSE(WEEKDAY(A321,2),norm!C$1,norm!C$2,norm!C$3,norm!C$4,norm!C$5,norm!C$6,norm!C$7),\"\")","v":"09:00:00"}]
["2019-11-15","Fr","",null,null,null,"","00:00:00","",{"$f":"ColTime(T.!$J$3,T.!$L$3,D322,E322)","v":"00:00:00"},null,{"$f":"ColTime(TIME(T.!$J$4,0,0),TIME(T.!$L$4,0,0),D322,E322)","v":"00:00:00"},null,"","","",null,null,{"$f":"IFERROR(CHOOSE(WEEKDAY(A322,2),norm!C$1,norm!C$2,norm!C$3,norm!C$4,norm!C$5,norm!C$6,norm!C$7),\"\")","v":"09:00:00"}]
["2019-11-16","Lø","",null,null,null,"","00:00:00","",{"$f":"ColTime(T.!$J$3,T.!$L$3,D323,E323)","v":"00:00:00"},null,{"$f":"ColTime(TIME(T.!$J$4,0,0),TIME(T.!$L$4,0,0),D323,E323)","v":"00:00:00"},null,"00:00:00","","",null,null,{"$f":"IFERROR(CHOOSE(WEEKDAY(A323,2),norm!C$1,norm!C$2,norm!C$3,norm!C$4,norm!C$5,norm!C$6,norm!C$7),\"\")","v":"09:00:00"}]
["2019-11-17","Sø","",null,null,null,"","00:00:00","",{"$f":"ColTime(T.!$J$3,T.!$L$3,D324,E324)","v":"00:00:00"},null,{"$f":"ColTime(TIME(T.!$J$4,0,0),TIME(T.!$L$4,0,0),D324,E324)","v":"00:00:00"},null,"","00:00:00","",null,null,{"$f":"IFERROR(CHOOSE(WEEKDAY(A324,2),norm!C$1,norm!C$2,norm!C$3,norm!C$4,norm!C$5,norm!C$6,norm!C$7),\"\")","v":"09:00:00"}]
["2019-11-18","Ma","",null,null,null,{"$f":"IF(D325=\"\",\"\",(E325-D325)+(D325>E325)-F325)","v":""},"00:00:00","",{"$f":"ColTime(T.!$J$3,T.!$L$3,D325,E325)","v":"00:00:00"},null,{"$f":"ColTime(TIME(T.!$J$4,0,0),TIME(T.!$L$4,0,0),D325,E325)","v":"00:00:00"},null,{"$f":"IFERROR(IF(WEEKDAY(A325,2)=6,ColTime(TIME(15,0,0),TIME(24,0,0),D325,E325),\"\"),\"\")","v":""},{"$f":"IFERROR(IF(OR(C325<>\"\",WEEKDAY(A325,2)=7),ColTime(TIME(0,0,0),TIME(24,0,0),D325,E325),\"\"),\"\")","v":""},"",null,null,{"$f":"IFERROR(CHOOSE(WEEKDAY(A325,2),norm!C$1,norm!C$2,norm!C$3,norm!C$4,norm!C$5,norm!C$6,norm!C$7),\"\")","v":"09:00:00"}]
["2019-11-19","Ti","",null,null,null,"","00:00:00","",{"$f":"ColTime(T.!$J$3,T.!$L$3,D326,E326)","v":"00:00:00"},null,{"$f":"ColTime(TIME(T.!$J$4,0,0),TIME(T.!$L$4,0,0),D326,E326)","v":"00:00:00"},null,"","","",null,null,{"$f":"IFERROR(CHOOSE(WEEKDAY(A326,2),norm!C$1,norm!C$2,norm!C$3,norm!C$4,norm!C$5,norm!C$6,norm!C$7),\"\")","v":"09:00:00"}]
["2019-11-20","On","",null,null,null,"","00:00:00","",{"$f":"ColTime(T.!$J$3,T.!$L$3,D327,E327)","v":"00:00:00"},null,{"$f":"ColTime(TIME(T.!$J$4,0,0),TIME(T.!$L$4,0,0),D327,E327)","v":"00:00:00"},null,"","","",null,null,{"$f":"IFERROR(CHOOSE(WEEKDAY(A327,2),norm!C$1,norm!C$2,norm!C$3,norm!C$4,norm!C$5,norm!C$6,norm!C$7),\"\")","v":"09:00:00"}]
["2019-11-21","To","",null,null,null,"","00:00:00","",{"$f":"ColTime(T.!$J$3,T.!$L$3,D328,E328)","v":"00:00:00"},null,{"$f":"ColTime(TIME(T.!$J$4,0,0),TIME(T.!$L$4,0,0),D328,E328)","v":"00:00:00"},null,"","","",null,null,{"$f":"IFERROR(CHOOSE(WEEKDAY(A328,2),norm!C$1,norm!C$2,norm!C$3,norm!C$4,norm!C$5,norm!C$6,norm!C$7),\"\")","v":"09:00:00"}]
["2019-11-22","Fr","",null,null,null,"","00:00:00","",{"$f":"ColTime(T.!$J$3,T.!$L$3,D329,E329)","v":"00:00:00"},null,{"$f":"ColTime(TIME(T.!$J$4,0,0),TIME(T.!$L$4,0,0),D329,E329)","v":"00:00:00"},null,"","","",null,null,{"$f":"IFERROR(CHOOSE(WEEKDAY(A329,2),norm!C$1,norm!C$2,norm!C$3,norm!C$4,norm!C$5,norm!C$6,norm!C$7),\"\")","v":"09:00:00"}]
["2019-11-23","Lø","",null,null,null,"","00:00:00","",{"$f":"ColTime(T.!$J$3,T.!$L$3,D330,E330)","v":"00:00:00"},null,{"$f":"ColTime(TIME(T.!$J$4,0,0),TIME(T.!$L$4,0,0),D330,E330)","v":"00:00:00"},null,"00:00:00","","",null,null,{"$f":"IFERROR(CHOOSE(WEEKDAY(A330,2),norm!C$1,norm!C$2,norm!C$3,norm!C$4,norm!C$5,norm!C$6,norm!C$7),\"\")","v":"09:00:00"}]
["2019-11-24","Sø","",null,null,null,"","00:00:00","",{"$f":"ColTime(T.!$J$3,T.!$L$3,D331,E331)","v":"00:00:00"},null,{"$f":"ColTime(TIME(T.!$J$4,0,0),TIME(T.!$L$4,0,0),D331,E331)","v":"00:00:00"},null,"","00:00:00","",null,null,{"$f":"IFERROR(CHOOSE(WEEKDAY(A331,2),norm!C$1,norm!C$2,norm!C$3,norm!C$4,norm!C$5,norm!C$6,norm!C$7),\"\")","v":"09:00:00"}]
["2019-11-25","Ma","",null,null,null,"","00:00:00","",{"$f":"ColTime(T.!$J$3,T.!$L$3,D332,E332)","v":"00:00:00"},null,{"$f":"ColTime(TIME(T.!$J$4,0,0),TIME(T.!$L$4,0,0),D332,E332)","v":"00:00:00"},null,"","","",null,null,{"$f":"IFERROR(CHOOSE(WEEKDAY(A332,2),norm!C$1,norm!C$2,norm!C$3,norm!C$4,norm!C$5,norm!C$6,norm!C$7),\"\")","v":"09:00:00"}]
["2019-11-26","Ti","",null,null,null,"","00:00:00","",{"$f":"ColTime(T.!$J$3,T.!$L$3,D333,E333)","v":"00:00:00"},null,{"$f":"ColTime(TIME(T.!$J$4,0,0),TIME(T.!$L$4,0,0),D333,E333)","v":"00:00:00"},null,"","","",null,null,{"$f":"IFERROR(CHOOSE(WEEKDAY(A333,2),norm!C$1,norm!C$2,norm!C$3,norm!C$4,norm!C$5,norm!C$6,norm!C$7),\"\")","v":"09:00:00"}]
["2019-11-27","On","",null,null,null,"","00:00:00","",{"$f":"ColTime(T.!$J$3,T.!$L$3,D334,E334)","v":"00:00:00"},null,{"$f":"ColTime(TIME(T.!$J$4,0,0),TIME(T.!$L$4,0,0),D334,E334)","v":"00:00:00"},null,"","","",null,null,{"$f":"IFERROR(CHOOSE(WEEKDAY(A334,2),norm!C$1,norm!C$2,norm!C$3,norm!C$4,norm!C$5,norm!C$6,norm!C$7),\"\")","v":"09:00:00"}]
["2019-11-28","To","",null,null,null,"","00:00:00","",{"$f":"ColTime(T.!$J$3,T.!$L$3,D335,E335)","v":"00:00:00"},null,{"$f":"ColTime(TIME(T.!$J$4,0,0),TIME(T.!$L$4,0,0),D335,E335)","v":"00:00:00"},null,"","","",null,null,{"$f":"IFERROR(CHOOSE(WEEKDAY(A335,2),norm!C$1,norm!C$2,norm!C$3,norm!C$4,norm!C$5,norm!C$6,norm!C$7),\"\")","v":"09:00:00"}]
["2019-11-29","Fr","",null,null,null,"","00:00:00","",{"$f":"ColTime(T.!$J$3,T.!$L$3,D336,E336)","v":"00:00:00"},null,{"$f":"ColTime(TIME(T.!$J$4,0,0),TIME(T.!$L$4,0,0),D336,E336)","v":"00:00:00"},null,"","","",null,null,{"$f":"IFERROR(CHOOSE(WEEKDAY(A336,2),norm!C$1,norm!C$2,norm!C$3,norm!C$4,norm!C$5,norm!C$6,norm!C$7),\"\")","v":"09:00:00"}]
["2019-11-30","Lø","",null,null,null,"","00:00:00","",{"$f":"ColTime(T.!$J$3,T.!$L$3,D337,E337)","v":"00:00:00"},null,{"$f":"ColTime(TIME(T.!$J$4,0,0),TIME(T.!$L$4,0,0),D337,E337)","v":"00:00:00"},null,"00:00:00","","",null,null,{"$f":"IFERROR(CHOOSE(WEEKDAY(A337,2),norm!C$1,norm!C$2,norm!C$3,norm!C$4,norm!C$5,norm!C$6,norm!C$7),\"\")","v":"09:00:00"}]
["2019-12-01","Sø","",null,null,null,"","00:00:00","",{"$f":"ColTime(T.!$J$3,T.!$L$3,D338,E338)","v":"00:00:00"},null,{"$f":"ColTime(TIME(T.!$J$4,0,0),TIME(T.!$L$4,0,0),D338,E338)","v":"00:00:00"},null,"","00:00:00","",null,null,{"$f":"IFERROR(CHOOSE(WEEKDAY(A338,2),norm!C$1,norm!C$2,norm!C$3,norm!C$4,norm!C$5,norm!C$6,norm!C$7),\"\")","v":"09:00:00"}]
["2019-12-02","Ma","",null,null,null,"","00:00:00","",{"$f":"ColTime(T.!$J$3,T.!$L$3,D339,E339)","v":"00:00:00"},null,{"$f":"ColTime(TIME(T.!$J$4,0,0),TIME(T.!$L$4,0,0),D339,E339)","v":"00:00:00"},null,"","","",null,null,{"$f":"IFERROR(CHOOSE(WEEKDAY(A339,2),norm!C$1,norm!C$2,norm!C$3,norm!C$4,norm!C$5,norm!C$6,norm!C$7),\"\")","v":"09:00:00"}]
["2019-12-03","Ti","",null,null,null,"","00:00:00","",{"$f":"ColTime(T.!$J$3,T.!$L$3,D340,E340)","v":"00:00:00"},null,{"$f":"ColTime(TIME(T.!$J$4,0,0),TIME(T.!$L$4,0,0),D340,E340)","v":"00:00:00"},null,"","","",null,null,{"$f":"IFERROR(CHOOSE(WEEKDAY(A340,2),norm!C$1,norm!C$2,norm!C$3,norm!C$4,norm!C$5,norm!C$6,norm!C$7),\"\")","v":"09:00:00"}]
["2019-12-04","On","",null,null,null,"","00:00:00","",{"$f":"ColTime(T.!$J$3,T.!$L$3,D341,E341)","v":"00:00:00"},null,{"$f":"ColTime(TIME(T.!$J$4,0,0),TIME(T.!$L$4,0,0),D341,E341)","v":"00:00:00"},null,"","","",null,null,{"$f":"IFERROR(CHOOSE(WEEKDAY(A341,2),norm!C$1,norm!C$2,norm!C$3,norm!C$4,norm!C$5,norm!C$6,norm!C$7),\"\")","v":"09:00:00"}]
["2019-12-05","To","",null,null,null,"","00:00:00","",{"$f":"ColTime(T.!$J$3,T.!$L$3,D342,E342)","v":"00:00:00"},null,{"$f":"ColTime(TIME(T.!$J$4,0,0),TIME(T.!$L$4,0,0),D342,E342)","v":"00:00:00"},null,"","","",null,null,{"$f":"IFERROR(CHOOSE(WEEKDAY(A342,2),norm!C$1,norm!C$2,norm!C$3,norm!C$4,norm!C$5,norm!C$6,norm!C$7),\"\")","v":"09:00:00"}]
["2019-12-06","Fr","",null,null,null,"","00:00:00","",{"$f":"ColTime(T.!$J$3,T.!$L$3,D343,E343)","v":"00:00:00"},null,{"$f":"ColTime(TIME(T.!$J$4,0,0),TIME(T.!$L$4,0,0),D343,E343)","v":"00:00:00"},null,"","","",null,null,{"$f":"IFERROR(CHOOSE(WEEKDAY(A343,2),norm!C$1,norm!C$2,norm!C$3,norm!C$4,norm!C$5,norm!C$6,norm!C$7),\"\")","v":"09:00:00"}]
["2019-12-07","Lø","",null,null,null,"","00:00:00","",{"$f":"ColTime(T.!$J$3,T.!$L$3,D344,E344)","v":"00:00:00"},null,{"$f":"ColTime(TIME(T.!$J$4,0,0),TIME(T.!$L$4,0,0),D344,E344)","v":"00:00:00"},null,"00:00:00","","",null,null,{"$f":"IFERROR(CHOOSE(WEEKDAY(A344,2),norm!C$1,norm!C$2,norm!C$3,norm!C$4,norm!C$5,norm!C$6,norm!C$7),\"\")","v":"09:00:00"}]
["2019-12-08","Sø","",null,null,null,"","00:00:00","",{"$f":"ColTime(T.!$J$3,T.!$L$3,D345,E345)","v":"00:00:00"},null,{"$f":"ColTime(TIME(T.!$J$4,0,0),TIME(T.!$L$4,0,0),D345,E345)","v":"00:00:00"},null,"","00:00:00","",null,null,{"$f":"IFERROR(CHOOSE(WEEKDAY(A345,2),norm!C$1,norm!C$2,norm!C$3,norm!C$4,norm!C$5,norm!C$6,norm!C$7),\"\")","v":"09:00:00"}]
["2019-12-09","Ma","",null,null,null,"","00:00:00","",{"$f":"ColTime(T.!$J$3,T.!$L$3,D346,E346)","v":"00:00:00"},null,{"$f":"ColTime(TIME(T.!$J$4,0,0),TIME(T.!$L$4,0,0),D346,E346)","v":"00:00:00"},null,"","","",null,null,{"$f":"IFERROR(CHOOSE(WEEKDAY(A346,2),norm!C$1,norm!C$2,norm!C$3,norm!C$4,norm!C$5,norm!C$6,norm!C$7),\"\")","v":"09:00:00"}]
[{"$f":"A346+1","v":"2019-12-10"},"Ti","",null,null,null,"","00:00:00","",{"$f":"ColTime(T.!$J$3,T.!$L$3,D347,E347)","v":"00:00:00"},null,{"$f":"ColTime(TIME(T.!$J$4,0,0),TIME(T.!$L$4,0,0),D347,E347)","v":"00:00:00"},null,"","","",null,null,{"$f":"IFERROR(CHOOSE(WEEKDAY(A347,2),norm!C$1,norm!C$2,norm!C$3,norm!C$4,norm!C$5,norm!C$6,norm!C$7),\"\")","v":"09:00:00"}]
["2019-12-11","On","",null,null,null,"","00:00:00","",{"$f":"ColTime(T.!$J$3,T.!$L$3,D348,E348)","v":"00:00:00"},null,{"$f":"ColTime(TIME(T.!$J$4,0,0),TIME(T.!$L$4,0,0),D348,E348)","v":"00:00:00"},null,"","","",null,null,{"$f":"IFERROR(CHOOSE(WEEKDAY(A348,2),norm!C$1,norm!C$2,norm!C$3,norm!C$4,norm!C$5,norm!C$6,norm!C$7),\"\")","v":"09:00:00"}]
["2019-12-12","To","",null,null,null,"","00:00:00","",{"$f":"ColTime(T.!$J$3,T.!$L$3,D349,E349)","v":"00:00:00"},null,{"$f":"ColTime(TIME(T.!$J$4,0,0),TIME(T.!$L$4,0,0),D349,E349)","v":"00:00:00"},null,"","","",null,null,{"$f":"IFERROR(CHOOSE(WEEKDAY(A349,2),norm!C$1,norm!C$2,norm!C$3,norm!C$4,norm!C$5,norm!C$6,norm!C$7),\"\")","v":"09:00:00"}]
["2019-12-13","Fr","",null,null,null,"","00:00:00","",{"$f":"ColTime(T.!$J$3,T.!$L$3,D350,E350)","v":"00:00:00"},null,{"$f":"ColTime(TIME(T.!$J$4,0,0),TIME(T.!$L$4,0,0),D350,E350)","v":"00:00:00"},null,"","","",null,null,{"$f":"IFERROR(CHOOSE(WEEKDAY(A350,2),norm!C$1,norm!C$2,norm!C$3,norm!C$4,norm!C$5,norm!C$6,norm!C$7),\"\")","v":"09:00:00"}]
["2019-12-14","Lø","",null,null,null,"","00:00:00","",{"$f":"ColTime(T.!$J$3,T.!$L$3,D351,E351)","v":"00:00:00"},null,{"$f":"ColTime(TIME(T.!$J$4,0,0),TIME(T.!$L$4,0,0),D351,E351)","v":"00:00:00"},null,"00:00:00","","",null,null,{"$f":"IFERROR(CHOOSE(WEEKDAY(A351,2),norm!C$1,norm!C$2,norm!C$3,norm!C$4,norm!C$5,norm!C$6,norm!C$7),\"\")","v":"09:00:00"}]
["2019-12-15","Sø","",null,null,null,"","00:00:00","",{"$f":"ColTime(T.!$J$3,T.!$L$3,D352,E352)","v":"00:00:00"},null,{"$f":"ColTime(TIME(T.!$J$4,0,0),TIME(T.!$L$4,0,0),D352,E352)","v":"00:00:00"},null,"","00:00:00","",null,null,{"$f":"IFERROR(CHOOSE(WEEKDAY(A352,2),norm!C$1,norm!C$2,norm!C$3,norm!C$4,norm!C$5,norm!C$6,norm!C$7),\"\")","v":"09:00:00"}]
["2019-12-16","Ma","",null,null,null,"","00:00:00","",{"$f":"ColTime(T.!$J$3,T.!$L$3,D353,E353)","v":"00:00:00"},null,{"$f":"ColTime(TIME(T.!$J$4,0,0),TIME(T.!$L$4,0,0),D353,E353)","v":"00:00:00"},null,"","","",null,null,{"$f":"IFERROR(CHOOSE(WEEKDAY(A353,2),norm!C$1,norm!C$2,norm!C$3,norm!C$4,norm!C$5,norm!C$6,norm!C$7),\"\")","v":"09:00:00"}]
["2019-12-17","Ti","",null,null,null,"","00:00:00","",{"$f":"ColTime(T.!$J$3,T.!$L$3,D354,E354)","v":"00:00:00"},null,{"$f":"ColTime(TIME(T.!$J$4,0,0),TIME(T.!$L$4,0,0),D354,E354)","v":"00:00:00"},null,"","","",null,null,{"$f":"IFERROR(CHOOSE(WEEKDAY(A354,2),norm!C$1,norm!C$2,norm!C$3,norm!C$4,norm!C$5,norm!C$6,norm!C$7),\"\")","v":"09:00:00"}]
["2019-12-18",{"$f":"IFERROR(PROPER(TEXT(A355,\"ddd\")),\"\")","v":"On"},"",null,null,null,"","00:00:00","",{"$f":"ColTime(T.!$J$3,T.!$L$3,D355,E355)","v":"00:00:00"},null,{"$f":"ColTime(TIME(T.!$J$4,0,0),TIME(T.!$L$4,0,0),D355,E355)","v":"00:00:00"},null,"","","",null,null,{"$f":"IFERROR(CHOOSE(WEEKDAY(A355,2),norm!C$1,norm!C$2,norm!C$3,norm!C$4,norm!C$5,norm!C$6,norm!C$7),\"\")","v":"09:00:00"}]
["2019-12-19","To","",null,null,null,"","00:00:00","",{"$f":"ColTime(T.!$J$3,T.!$L$3,D356,E356)","v":"00:00:00"},null,{"$f":"ColTime(TIME(T.!$J$4,0,0),TIME(T.!$L$4,0,0),D356,E356)","v":"00:00:00"},null,"","","",null,null,{"$f":"IFERROR(CHOOSE(WEEKDAY(A356,2),norm!C$1,norm!C$2,norm!C$3,norm!C$4,norm!C$5,norm!C$6,norm!C$7),\"\")","v":"09:00:00"}]
["2019-12-20","Fr","",null,null,null,"","00:00:00","",{"$f":"ColTime(T.!$J$3,T.!$L$3,D357,E357)","v":"00:00:00"},null,{"$f":"ColTime(TIME(T.!$J$4,0,0),TIME(T.!$L$4,0,0),D357,E357)","v":"00:00:00"},null,"","","",null,null,{"$f":"IFERROR(CHOOSE(WEEKDAY(A357,2),norm!C$1,norm!C$2,norm!C$3,norm!C$4,norm!C$5,norm!C$6,norm!C$7),\"\")","v":"09:00:00"}]
["2019-12-21","Lø","",null,null,null,"","00:00:00","",{"$f":"ColTime(T.!$J$3,T.!$L$3,D358,E358)","v":"00:00:00"},null,{"$f":"ColTime(TIME(T.!$J$4,0,0),TIME(T.!$L$4,0,0),D358,E358)","v":"00:00:00"},null,"00:00:00","","",null,null,{"$f":"IFERROR(CHOOSE(WEEKDAY(A358,2),norm!C$1,norm!C$2,norm!C$3,norm!C$4,norm!C$5,norm!C$6,norm!C$7),\"\")","v":"09:00:00"}]
["2019-12-22","Sø","",null,null,null,"","00:00:00","",{"$f":"ColTime(T.!$J$3,T.!$L$3,D359,E359)","v":"00:00:00"},null,{"$f":"ColTime(TIME(T.!$J$4,0,0),TIME(T.!$L$4,0,0),D359,E359)","v":"00:00:00"},null,"","00:00:00","",null,null,{"$f":"IFERROR(CHOOSE(WEEKDAY(A359,2),norm!C$1,norm!C$2,norm!C$3,norm!C$4,norm!C$5,norm!C$6,norm!C$7),\"\")","v":"09:00:00"}]
["2019-12-23","Ma","",null,null,null,{"$f":"IF(D360=\"\",\"\",(E360-D360)+(D360>E360)-F360)","v":""},"00:00:00","",{"$f":"ColTime(T.!$J$3,T.!$L$3,D360,E360)","v":"00:00:00"},null,{"$f":"ColTime(TIME(T.!$J$4,0,0),TIME(T.!$L$4,0,0),D360,E360)","v":"00:00:00"},null,{"$f":"IFERROR(IF(WEEKDAY(A360,2)=6,ColTime(TIME(15,0,0),TIME(24,0,0),D360,E360),\"\"),\"\")","v":""},{"$f":"IFERROR(IF(OR(C360<>\"\",WEEKDAY(A360,2)=7),ColTime(TIME(0,0,0),TIME(24,0,0),D360,E360),\"\"),\"\")","v":""},"",null,null,{"$f":"IFERROR(CHOOSE(WEEKDAY(A360,2),norm!C$1,norm!C$2,norm!C$3,norm!C$4,norm!C$5,norm!C$6,norm!C$7),\"\")","v":"09:00:00"}]
["2019-12-24","Ti","Julaftensdag",null,null,null,"","00:00:00","",{"$f":"ColTime(T.!$J$3,T.!$L$3,D361,E361)","v":"00:00:00"},null,{"$f":"ColTime(TIME(T.!$J$4,0,0),TIME(T.!$L$4,0,0),D361,E361)","v":"00:00:00"},null,"","00:00:00","",null,null,{"$f":"IFERROR(CHOOSE(WEEKDAY(A361,2),norm!C$1,norm!C$2,norm!C$3,norm!C$4,norm!C$5,norm!C$6,norm!C$7),\"\")","v":"09:00:00"}]
["2019-12-25","On","1. Juledag",null,null,null,"","00:00:00","",{"$f":"ColTime(T.!$J$3,T.!$L$3,D362,E362)","v":"00:00:00"},null,{"$f":"ColTime(TIME(T.!$J$4,0,0),TIME(T.!$L$4,0,0),D362,E362)","v":"00:00:00"},null,"","00:00:00","",null,null,{"$f":"IFERROR(CHOOSE(WEEKDAY(A362,2),norm!C$1,norm!C$2,norm!C$3,norm!C$4,norm!C$5,norm!C$6,norm!C$7),\"\")","v":"09:00:00"}]
["2019-12-26","To","2. Juledag",null,null,null,"","00:00:00","",{"$f":"ColTime(T.!$J$3,T.!$L$3,D363,E363)","v":"00:00:00"},null,{"$f":"ColTime(TIME(T.!$J$4,0,0),TIME(T.!$L$4,0,0),D363,E363)","v":"00:00:00"},null,"","00:00:00","",null,null,{"$f":"IFERROR(CHOOSE(WEEKDAY(A363,2),norm!C$1,norm!C$2,norm!C$3,norm!C$4,norm!C$5,norm!C$6,norm!C$7),\"\")","v":"09:00:00"}]
["2019-12-27","Fr","",null,null,null,"","00:00:00","",{"$f":"ColTime(T.!$J$3,T.!$L$3,D364,E364)","v":"00:00:00"},null,{"$f":"ColTime(TIME(T.!$J$4,0,0),TIME(T.!$L$4,0,0),D364,E364)","v":"00:00:00"},null,"","","",null,null,{"$f":"IFERROR(CHOOSE(WEEKDAY(A364,2),norm!C$1,norm!C$2,norm!C$3,norm!C$4,norm!C$5,norm!C$6,norm!C$7),\"\")","v":"09:00:00"}]
["2019-12-28","Lø","",null,null,null,"","00:00:00","",{"$f":"ColTime(T.!$J$3,T.!$L$3,D365,E365)","v":"00:00:00"},null,{"$f":"ColTime(TIME(T.!$J$4,0,0),TIME(T.!$L$4,0,0),D365,E365)","v":"00:00:00"},null,"00:00:00","","",null,null,{"$f":"IFERROR(CHOOSE(WEEKDAY(A365,2),norm!C$1,norm!C$2,norm!C$3,norm!C$4,norm!C$5,norm!C$6,norm!C$7),\"\")","v":"09:00:00"}]
["2019-12-29","Sø","",null,null,null,"","00:00:00","",{"$f":"ColTime(T.!$J$3,T.!$L$3,D366,E366)","v":"00:00:00"},null,{"$f":"ColTime(TIME(T.!$J$4,0,0),TIME(T.!$L$4,0,0),D366,E366)","v":"00:00:00"},null,"","00:00:00","",null,null,{"$f":"IFERROR(CHOOSE(WEEKDAY(A366,2),norm!C$1,norm!C$2,norm!C$3,norm!C$4,norm!C$5,norm!C$6,norm!C$7),\"\")","v":"09:00:00"}]
["2019-12-30","Ma","",null,null,null,"","00:00:00","",{"$f":"ColTime(T.!$J$3,T.!$L$3,D367,E367)","v":"00:00:00"},null,{"$f":"ColTime(TIME(T.!$J$4,0,0),TIME(T.!$L$4,0,0),D367,E367)","v":"00:00:00"},null,"","","",null,null,{"$f":"IFERROR(CHOOSE(WEEKDAY(A367,2),norm!C$1,norm!C$2,norm!C$3,norm!C$4,norm!C$5,norm!C$6,norm!C$7),\"\")","v":"09:00:00"}]
["2019-12-31","Ti","Nytårsaftensdag",null,null,null,"","00:00:00","",{"$f":"ColTime(T.!$J$3,T.!$L$3,D368,E368)","v":"00:00:00"},null,{"$f":"ColTime(TIME(T.!$J$4,0,0),TIME(T.!$L$4,0,0),D368,E368)","v":"00:00:00"},null,"","00:00:00","",null,null,{"$f":"IFERROR(CHOOSE(WEEKDAY(A368,2),norm!C$1,norm!C$2,norm!C$3,norm!C$4,norm!C$5,norm!C$6,norm!C$7),\"\")","v":"09:00:00"}]
[{"$f":"IF(MONTH(A368+1)<MONTH(A368),\"\",A368+1)","v":""},"","",null,null,null,"","00:00:00","",{"$f":"ColTime(T.!$J$3,T.!$L$3,D369,E369)","v":"00:00:00"},null,{"$f":"ColTime(TIME(T.!$J$4,0,0),TIME(T.!$L$4,0,0),D369,E369)","v":"00:00:00"},null,"","","",null,null,{"$f":"IFERROR(CHOOSE(WEEKDAY(A369,2),norm!C$1,norm!C$2,norm!C$3,norm!C$4,norm!C$5,norm!C$6,norm!C$7),\"\")","v":""}]
["Total timer",null,null,null,null,null,{"$f":"IF(SUM(G9:G369)<>\"0\",SUM(G4:G369),\"\")","v":2.625},{"$f":"IF(SUM(H9:H369)<>\"0\",SUM(H4:H369),\"\")","v":0},0,0.29166666666666718,null,2.0416666666666661,null,{"$f":"IF(SUM(N9:N369)<>\"0\",SUM(N4:N369),\"\")","v":8.333333333333337E-2},{"$f":"IF(SUM(O9:O369)<>\"0\",SUM(O4:O369),\"\")","v":0.37500000000000006},{"$f":"SUM(P4:P34)","v":0},{"$f":"SUM(Q4:Q34)","v":0}]
["Timer 1/100",null,null,null,null,null,{"$f":"IF(G370<>\"\",ROUND(G370*24,2),\"\")","v":63},{"$f":"IF(H370<>\"\",ROUND(H370*24,2),\"\")","v":0},0,{"$f":"IF(J370<>\"\",ROUND(J370*24,2),\"\")","v":7},null,{"$f":"IF(L370<>\"\",ROUND(L370*24,2),\"\")","v":49},null,{"$f":"IF(N370<>\"\",ROUND(N370*24,2),\"\")","v":2},9,0,0]
["Satser",null,null,null,null,null,{"$f":"Satser!B7","v":107.35},{"$f":"Satser!B9","v":36.35},{"$f":"Satser!B12","v":58.1},{"$f":"Satser!B17","v":25.6},null,{"$f":"Satser!B18","v":34.200000000000003},null,{"$f":"Satser!B19","v":45.1},{"$f":"Satser!B20","v":50.6}]
[null,null,null,null,null,null,{"$f":"IF(G370<>\"\",G371*G372,\"\")","v":6763.0499999999993},{"$f":"IF(H370<>\"\",H371*H372,\"\")","v":0},0,{"$f":"IF(J370<>\"\",J371*J372,\"\")","v":179.20000000000002},null,{"$f":"IF(L370<>\"\",L371*L371,\"\")","v":2401},null,{"$f":"IF(N370<>\"\",N371*N372,\"\")","v":90.2},455.40000000000003]
[]
["Lønart"]
[3025,null,null,null,null,null,{"$f":"G370","v":2.625}]
[3425,null,null,null,null,null,{"$f":"H370","v":0}]
[3428,null,null,null,null,null,{"$f":"I370","v":0}]
["Timer",null,null,null,null,null,{"$f":"SUM(G376:G378)","v":2.625},{"$f":"IF(G379<>\"\",ROUND(G379*24,2),\"\")","v":63}]
[null,null,null,null,null,null,null,{"$f":"G372*H379","v":6763.0499999999993}]

{"sheet":"Februar","index":2,"n_rows":45,"n_cols":35,"rows_kept":45,"cut":false,"hidden":true,"merged":[[2,1,2,2],[2,9,2,10],[2,11,2,12],[0,1,0,7],[0,10,0,11],[1,1,1,2],[1,9,1,10],[1,11,1,12],[3,9,3,10],[3,11,3,12],[4,9,4,10],[4,11,4,12],[5,9,5,10],[5,11,5,12],[6,9,6,10],[6,11,6,12],[7,9,7,10],[7,11,7,12],[8,9,8,10],[8,11,8,12],[9,9,9,10],[9,11,9,12],[10,9,10,10],[10,11,10,12],[11,9,11,10],[11,11,11,12],[12,9,12,10],[12,11,12,12],[13,9,13,10],[13,11,13,12],[14,9,14,10],[14,11,14,12],[15,9,15,10],[15,11,15,12],[16,9,16,10],[16,11,16,12],[17,9,17,10],[17,11,17,12],[18,9,18,10],[18,11,18,12],[19,9,19,10],[19,11,19,12],[20,9,20,10],[20,11,20,12],[21,9,21,10],[21,11,21,12],[22,9,22,10],[22,11,22,12],[23,9,23,10],[23,11,23,12],[24,9,24,10],[24,11,24,12],[25,9,25,10],[25,11,25,12],[26,9,26,10],[26,11,26,12],[27,9,27,10],[27,11,27,12],[28,9,28,10],[28,11,28,12],[29,9,29,10],[29,11,29,12],[30,9,30,10],[30,11,30,12],[31,9,31,10],[31,11,31,12],[32,9,32,10],[32,11,32,12],[43,0,43,5],[0,13,0,14],[37,9,37,10],[37,11,37,12],[39,0,39,2],[40,0,40,2],[41,0,41,2],[42,0,42,2],[34,9,34,10],[34,11,34,12],[35,9,35,10],[35,11,35,12],[36,9,36,10],[36,11,36,12],[33,9,33,10],[33,11,33,12]]}
["Løn",{"$f":"PROPER(TEXT(A4,\"dd mmmm åååå\")) & PROPER(TEXT(N1,\"  -  dd mmmm åååå\"))","v":"01 Februar 2019  -  28 Februar 2019"},null,null,null,null,null,null,"Uge :",{"$f":"IF(A4=\"\",\"\",TRUNC((A4-WEEKDAY(A4,2)-DATE(YEAR(A4+4-WEEKDAY(A4,2)),1,-10))/7))","v":5},"-",null,{"$f":"IF(A25=\"\",\"\",TRUNC((A25-WEEKDAY(A25,2)-DATE(YEAR(A25+4-WEEKDAY(A25,2)),1,-10))/7))","v":8},{"$f":"EOMONTH(A4,0)","v":"2019-02-28"},null,2,null,null,null,null,null,"Time beregning:",null,null,null,null,null,null,null,null,null,null,"06:00:00","18:00:00","03:00:00"]
["Lønart",null,null,null,null,null,null,null,null,null,null,null,null,null,null,null,null,null,null,null,null,"Betalt pause ved vagt over 5 timer",null,null,null,"00:25:00","minutter","00:00:00","06:00:00","17:00:00","14:00:00"]
["Dato","Dag",null,"Start","Slut","Pause","Arb. Tid","Overtid           1-3 time","Overtid            4 - time","Forskudt tid alle dage\n18-23",null,"Natarbejde 23-06",null,"Lørdag tillæg 14 - 24","Søndag tillæg 00 - 24","Optjent afspadsering","Afholdt afspadsering","Syge Timer","norm"]
[{"$f":"DATE(T.!$B$1,$P$1,1)","v":"2019-02-01"},{"$f":"PROPER(TEXT(A4,\"ddd\"))","v":"Fr"},{"$f":"HelligdagsNavn(A4,0,0)","v":""},"07:00:00","16:00:00","00:30:00",{"$f":"IF(D4=\"\",\"\",(E4-D4)+(D4>E4)-F4)","v":0.35416666666666663},{"$f":"IF(G4=\"\",0,IF(WEEKDAY(A4,2)=7,0,IF(G4>S4,MIN(G4-S4,$AI$1),0)))","v":"00:00:00"},{"$f":"IF(G4=\"\",\"\",IF(G4>S4+H4,G4-(S4+H4),\"\"))","v":""},{"$f":"ColTime(T.!$J$3,T.!$L$3,D4,E4)","v":"00:00:00"},null,{"$f":"ColTime(TIME(T.!$J$4,0,0),TIME(T.!$L$4,0,0),D4,E4)","v":"00:00:00"},null,{"$f":"IF(WEEKDAY(A4,2)=6,ColTime(TIME(14,0,0),TIME(24,0,0),D4,E4),\"\")","v":""},{"$f":"IF(OR(C4<>\"\",WEEKDAY(A4,2)=7),ColTime(TIME(0,0,0),TIME(24,0,0),D4,E4),\"\")","v":""},{"$f":"IFERROR(H4+I4,\"\")","v":""},null,null,{"$f":"CHOOSE(WEEKDAY(A4,2),norm!C$1,norm!C$2,norm!C$3,norm!C$4,norm!C$5,norm!C$6,norm!C$7)","v":"09:00:00"},null,null,{"$f":"IF(D4=\"\",\"\",HOUR(D4))","v":7},{"$f":"IF(D4=\"\",\"\",MINUTE(D4))","v":0},{"$f":"IF(D4=\"\",\"\",TIME(HOUR(D4),MINUTE(D4),0))","v":"07:00:00"},{"$f":"IF(E4=\"\",\"\",HOUR(E4))","v":16},{"$f":"IF(E4=\"\",\"\",MINUTE(E4))","v":0},"02:00:00","09:30:00","11:30:00",null,null,null,{"$f":"MIN(G4-S4,3)","v":-2.083333333333337E-2}]
[{"$f":"A4+1","v":"2019-02-02"},{"$f":"PROPER(TEXT(A5,\"ddd\"))","v":"Lø"},{"$f":"HelligdagsNavn(A5,0,0)","v":""},"13:45:00","21:30:00","00:30:00",{"$f":"IF(D5=\"\",\"\",(E5-D5)+(D5>E5)-F5)","v":0.30208333333333343},{"$f":"IF(G5=\"\",0,IF(WEEKDAY(A5,2)=7,0,IF(G5>S5,MIN(G5-S5,$AI$1),0)))","v":"00:00:00"},{"$f":"IF(G5=\"\",\"\",IF(G5>S5+H5,G5-(S5+H5),\"\"))","v":""},{"$f":"ColTime(T.!$J$3,T.!$L$3,D5,E5)","v":"03:30:00"},null,{"$f":"ColTime(TIME(T.!$J$4,0,0),TIME(T.!$L$4,0,0),D5,E5)","v":"00:00:00"},null,"07:30:00","",{"$f":"IFERROR(H5+I5,\"\")","v":""},null,null,{"$f":"CHOOSE(WEEKDAY(A5,2),norm!C$1,norm!C$2,norm!C$3,norm!C$4,norm!C$5,norm!C$6,norm!C$7)","v":"09:00:00"},null,null,13,45,"13:45:00",21,30,{"$f":"IF(E5=\"\",\"\",TIME(HOUR(E5),MINUTE(E5),0))","v":"21:30:00"},null,null,null,null,null,null,"Der taste kun i de Gule celler"]
[{"$f":"A5+1","v":"2019-02-03"},{"$f":"PROPER(TEXT(A6,\"ddd\"))","v":"Sø"},"","22:00:00","05:45:00","00:30:00",0.30208333333333343,"00:00:00","",{"$f":"ColTime(T.!$J$3,T.!$L$3,D6,E6)","v":"01:00:00"},null,{"$f":"ColTime(TIME(T.!$J$4,0,0),TIME(T.!$L$4,0,0),D6,E6)","v":"06:45:00"},null,"","07:45:00",{"$f":"IFERROR(H6+I6,\"\")","v":""},null,null,{"$f":"CHOOSE(WEEKDAY(A6,2),norm!C$1,norm!C$2,norm!C$3,norm!C$4,norm!C$5,norm!C$6,norm!C$7)","v":"09:00:00"},null,null,22,0,"22:00:00",5,45,"05:45:00"]
["2019-02-04","Ma","","05:00:00","16:45:00","00:30:00",0.46874999999999994,"02:15:00","",{"$f":"ColTime(T.!$J$3,T.!$L$3,D7,E7)","v":"00:00:00"},null,{"$f":"ColTime(TIME(T.!$J$4,0,0),TIME(T.!$L$4,0,0),D7,E7)","v":"01:00:00"},null,"","",{"$f":"IFERROR(H7+I7,\"\")","v":""},null,null,{"$f":"CHOOSE(WEEKDAY(A7,2),norm!C$1,norm!C$2,norm!C$3,norm!C$4,norm!C$5,norm!C$6,norm!C$7)","v":"09:00:00"},null,null,5,0,"05:00:00",16,45,"16:45:00"]
["2019-02-05","Ti","",null,null,null,"","00:00:00","",{"$f":"ColTime(T.!$J$3,T.!$L$3,D8,E8)","v":"00:00:00"},null,{"$f":"ColTime(TIME(T.!$J$4,0,0),TIME(T.!$L$4,0,0),D8,E8)","v":"00:00:00"},null,"","",{"$f":"IFERROR(H8+I8,\"\")","v":""},null,null,{"$f":"CHOOSE(WEEKDAY(A8,2),norm!C$1,norm!C$2,norm!C$3,norm!C$4,norm!C$5,norm!C$6,norm!C$7)","v":"09:00:00"},null,null,"","","","","",""]
["2019-02-06","On","","06:00:00","19:00:00","00:30:00",0.52083333333333326,"03:00:00","00:30:00",{"$f":"ColTime(T.!$J$3,T.!$L$3,D9,E9)","v":"01:00:00"},null,{"$f":"ColTime(TIME(T.!$J$4,0,0),TIME(T.!$L$4,0,0),D9,E9)","v":"00:00:00"},null,"",{"$f":"IF(OR(C9<>\"\",WEEKDAY(A9,2)=7),ColTime(TIME(0,0,0),TIME(24,0,0),D9,E9),\"\")","v":""},{"$f":"IFERROR(H9+I9,\"\")","v":"03:30:00"},null,null,{"$f":"CHOOSE(WEEKDAY(A9,2),norm!C$1,norm!C$2,norm!C$3,norm!C$4,norm!C$5,norm!C$6,norm!C$7)","v":"09:00:00"},null,null,6,0,"06:00:00",19,0,"19:00:00"]
["2019-02-07","To","","07:00:00","19:00:00",null,0.49999999999999994,"03:00:00","",{"$f":"ColTime(T.!$J$3,T.!$L$3,D10,E10)","v":"01:00:00"},null,{"$f":"ColTime(TIME(T.!$J$4,0,0),TIME(T.!$L$4,0,0),D10,E10)","v":"00:00:00"},null,{"$f":"IF(WEEKDAY(A10,2)=6,ColTime(TIME(14,0,0),TIME(24,0,0),D10,E10),\"\")","v":""},{"$f":"IF(OR(C10<>\"\",WEEKDAY(A10,2)=7),ColTime(TIME(0,0,0),TIME(24,0,0),D10,E10),\"\")","v":""},"",null,null,{"$f":"CHOOSE(WEEKDAY(A10,2),norm!C$1,norm!C$2,norm!C$3,norm!C$4,norm!C$5,norm!C$6,norm!C$7)","v":"09:00:00"},null,null,7,0,"07:00:00",19,0,"19:00:00"]
[{"$f":"A10+1","v":"2019-02-08"},{"$f":"PROPER(TEXT(A11,\"ddd\"))","v":"Fr"},{"$f":"HelligdagsNavn(A11,0,0)","v":""},null,null,null,"","00:00:00","",{"$f":"ColTime(T.!$J$3,T.!$L$3,D11,E11)","v":"00:00:00"},null,{"$f":"ColTime(TIME(T.!$J$4,0,0),TIME(T.!$L$4,0,0),D11,E11)","v":"00:00:00"},null,{"$f":"IF(WEEKDAY(A11,2)=6,ColTime(TIME(15,0,0),TIME(24,0,0),D11,E11),\"\")","v":""},"","",null,null,{"$f":"CHOOSE(WEEKDAY(A11,2),norm!C$1,norm!C$2,norm!C$3,norm!C$4,norm!C$5,norm!C$6,norm!C$7)","v":"09:00:00"},null,null,"","","","","",""]
[{"$f":"A11+1","v":"2019-02-09"},{"$f":"PROPER(TEXT(A12,\"ddd\"))","v":"Lø"},{"$f":"HelligdagsNavn(A12,0,0)","v":""},null,null,null,"","00:00:00","",{"$f":"ColTime(T.!$J$3,T.!$L$3,D12,E12)","v":"00:00:00"},null,{"$f":"ColTime(TIME(T.!$J$4,0,0),TIME(T.!$L$4,0,0),D12,E12)","v":"00:00:00"},null,"00:00:00","","",null,null,{"$f":"CHOOSE(WEEKDAY(A12,2),norm!C$1,norm!C$2,norm!C$3,norm!C$4,norm!C$5,norm!C$6,norm!C$7)","v":"09:00:00"},null,null,"","","","","",""]
[{"$f":"A12+1","v":"2019-02-10"},{"$f":"PROPER(TEXT(A13,\"ddd\"))","v":"Sø"},"",null,null,null,"","00:00:00","",{"$f":"ColTime(T.!$J$3,T.!$L$3,D13,E13)","v":"00:00:00"},null,{"$f":"ColTime(TIME(T.!$J$4,0,0),TIME(T.!$L$4,0,0),D13,E13)","v":"00:00:00"},null,"","00:00:00","",null,null,{"$f":"CHOOSE(WEEKDAY(A13,2),norm!C$1,norm!C$2,norm!C$3,norm!C$4,norm!C$5,norm!C$6,norm!C$7)","v":"09:00:00"},null,null,"","","","","",""]
["2019-02-11","Ma","",null,null,null,"","00:00:00","",{"$f":"ColTime(T.!$J$3,T.!$L$3,D14,E14)","v":"00:00:00"},null,{"$f":"ColTime(TIME(T.!$J$4,0,0),TIME(T.!$L$4,0,0),D14,E14)","v":"00:00:00"},null,"","","",null,null,{"$f":"CHOOSE(WEEKDAY(A14,2),norm!C$1,norm!C$2,norm!C$3,norm!C$4,norm!C$5,norm!C$6,norm!C$7)","v":"09:00:00"},null,null,"","","","","",""]
["2019-02-12","Ti","",null,null,null,"","00:00:00","",{"$f":"ColTime(T.!$J$3,T.!$L$3,D15,E15)","v":"00:00:00"},null,{"$f":"ColTime(TIME(T.!$J$4,0,0),TIME(T.!$L$4,0,0),D15,E15)","v":"00:00:00"},null,"","","",null,null,{"$f":"CHOOSE(WEEKDAY(A15,2),norm!C$1,norm!C$2,norm!C$3,norm!C$4,norm!C$5,norm!C$6,norm!C$7)","v":"09:00:00"},null,null,"","","",null,"",""]
["2019-02-13","On","",null,null,null,"","00:00:00","",{"$f":"ColTime(T.!$J$3,T.!$L$3,D16,E16)","v":"00:00:00"},null,{"$f":"ColTime(TIME(T.!$J$4,0,0),TIME(T.!$L$4,0,0),D16,E16)","v":"00:00:00"},null,"","","",null,null,{"$f":"CHOOSE(WEEKDAY(A16,2),norm!C$1,norm!C$2,norm!C$3,norm!C$4,norm!C$5,norm!C$6,norm!C$7)","v":"09:00:00"},null,null,"","","","","",""]
["2019-02-14","To","",null,null,null,"","00:00:00","",{"$f":"ColTime(T.!$J$3,T.!$L$3,D17,E17)","v":"00:00:00"},null,{"$f":"ColTime(TIME(T.!$J$4,0,0),TIME(T.!$L$4,0,0),D17,E17)","v":"00:00:00"},null,"","","",null,null,{"$f":"CHOOSE(WEEKDAY(A17,2),norm!C$1,norm!C$2,norm!C$3,norm!C$4,norm!C$5,norm!C$6,norm!C$7)","v":"09:00:00"},null,null,"","","","","",""]
[{"$f":"A17+1","v":"2019-02-15"},{"$f":"PROPER(TEXT(A18,\"ddd\"))","v":"Fr"},{"$f":"HelligdagsNavn(A18,0,0)","v":""},null,null,null,"","00:00:00","",{"$f":"ColTime(T.!$J$3,T.!$L$3,D18,E18)","v":"00:00:00"},null,{"$f":"ColTime(TIME(T.!$J$4,0,0),TIME(T.!$L$4,0,0),D18,E18)","v":"00:00:00"},null,"","","",null,null,{"$f":"CHOOSE(WEEKDAY(A18,2),norm!C$1,norm!C$2,norm!C$3,norm!C$4,norm!C$5,norm!C$6,norm!C$7)","v":"09:00:00"},null,null,"","","","","",""]
[{"$f":"A18+1","v":"2019-02-16"},{"$f":"PROPER(TEXT(A19,\"ddd\"))","v":"Lø"},{"$f":"HelligdagsNavn(A19,0,0)","v":""},null,null,null,"","00:00:00","",{"$f":"ColTime(T.!$J$3,T.!$L$3,D19,E19)","v":"00:00:00"},null,{"$f":"ColTime(TIME(T.!$J$4,0,0),TIME(T.!$L$4,0,0),D19,E19)","v":"00:00:00"},null,"00:00:00","","",null,null,{"$f":"CHOOSE(WEEKDAY(A19,2),norm!C$1,norm!C$2,norm!C$3,norm!C$4,norm!C$5,norm!C$6,norm!C$7)","v":"09:00:00"},null,null,"","","","","",""]
[{"$f":"A19+1","v":"2019-02-17"},{"$f":"PROPER(TEXT(A20,\"ddd\"))","v":"Sø"},"",null,null,null,"","00:00:00","",{"$f":"ColTime(T.!$J$3,T.!$L$3,D20,E20)","v":"00:00:00"},null,{"$f":"ColTime(TIME(T.!$J$4,0,0),TIME(T.!$L$4,0,0),D20,E20)","v":"00:00:00"},null,"","00:00:00","",null,null,{"$f":"CHOOSE(WEEKDAY(A20,2),norm!C$1,norm!C$2,norm!C$3,norm!C$4,norm!C$5,norm!C$6,norm!C$7)","v":"09:00:00"},null,null,"","","","","",""]
["2019-02-18","Ma","",null,null,null,"","00:00:00","",{"$f":"ColTime(T.!$J$3,T.!$L$3,D21,E21)","v":"00:00:00"},null,{"$f":"ColTime(TIME(T.!$J$4,0,0),TIME(T.!$L$4,0,0),D21,E21)","v":"00:00:00"},null,"","","",null,null,{"$f":"CHOOSE(WEEKDAY(A21,2),norm!C$1,norm!C$2,norm!C$3,norm!C$4,norm!C$5,norm!C$6,norm!C$7)","v":"09:00:00"},null,null,"","","","","",""]
["2019-02-19","Ti","",null,null,null,"","00:00:00","",{"$f":"ColTime(T.!$J$3,T.!$L$3,D22,E22)","v":"00:00:00"},null,{"$f":"ColTime(TIME(T.!$J$4,0,0),TIME(T.!$L$4,0,0),D22,E22)","v":"00:00:00"},null,"","","",null,null,{"$f":"CHOOSE(WEEKDAY(A22,2),norm!C$1,norm!C$2,norm!C$3,norm!C$4,norm!C$5,norm!C$6,norm!C$7)","v":"09:00:00"},null,null,"","","","","",""]
["2019-02-20","On","",null,null,null,"","00:00:00","",{"$f":"ColTime(T.!$J$3,T.!$L$3,D23,E23)","v":"00:00:00"},null,{"$f":"ColTime(TIME(T.!$J$4,0,0),TIME(T.!$L$4,0,0),D23,E23)","v":"00:00:00"},null,"","","",null,null,{"$f":"CHOOSE(WEEKDAY(A23,2),norm!C$1,norm!C$2,norm!C$3,norm!C$4,norm!C$5,norm!C$6,norm!C$7)","v":"09:00:00"},null,null,"","","","","",""]
["2019-02-21","To","",null,null,null,"","00:00:00","",{"$f":"ColTime(T.!$J$3,T.!$L$3,D24,E24)","v":"00:00:00"},null,{"$f":"ColTime(TIME(T.!$J$4,0,0),TIME(T.!$L$4,0,0),D24,E24)","v":"00:00:00"},null,"","","",null,null,{"$f":"CHOOSE(WEEKDAY(A24,2),norm!C$1,norm!C$2,norm!C$3,norm!C$4,norm!C$5,norm!C$6,norm!C$7)","v":"09:00:00"},null,null,"","","","","",""]
[{"$f":"A24+1","v":"2019-02-22"},{"$f":"PROPER(TEXT(A25,\"ddd\"))","v":"Fr"},{"$f":"HelligdagsNavn(A25,0,0)","v":""},null,null,null,"","00:00:00","",{"$f":"ColTime(T.!$J$3,T.!$L$3,D25,E25)","v":"00:00:00"},null,{"$f":"ColTime(TIME(T.!$J$4,0,0),TIME(T.!$L$4,0,0),D25,E25)","v":"00:00:00"},null,"","","",null,null,{"$f":"CHOOSE(WEEKDAY(A25,2),norm!C$1,norm!C$2,norm!C$3,norm!C$4,norm!C$5,norm!C$6,norm!C$7)","v":"09:00:00"},null,null,"","","","","",""]
[{"$f":"A25+1","v":"2019-02-23"},{"$f":"PROPER(TEXT(A26,\"ddd\"))","v":"Lø"},{"$f":"HelligdagsNavn(A26,0,0)","v":""},null,null,null,"","00:00:00","",{"$f":"ColTime(T.!$J$3,T.!$L$3,D26,E26)","v":"00:00:00"},null,{"$f":"ColTime(TIME(T.!$J$4,0,0),TIME(T.!$L$4,0,0),D26,E26)","v":"00:00:00"},null,"00:00:00","","",null,null,{"$f":"CHOOSE(WEEKDAY(A26,2),norm!C$1,norm!C$2,norm!C$3,norm!C$4,norm!C$5,norm!C$6,norm!C$7)","v":"09:00:00"},null,null,"","","","","",""]
[{"$f":"A26+1","v":"2019-02-24"},{"$f":"PROPER(TEXT(A27,\"ddd\"))","v":"Sø"},"",null,null,null,"","00:00:00","",{"$f":"ColTime(T.!$J$3,T.!$L$3,D27,E27)","v":"00:00:00"},null,{"$f":"ColTime(TIME(T.!$J$4,0,0),TIME(T.!$L$4,0,0),D27,E27)","v":"00:00:00"},null,"","00:00:00","",null,null,{"$f":"CHOOSE(WEEKDAY(A27,2),norm!C$1,norm!C$2,norm!C$3,norm!C$4,norm!C$5,norm!C$6,norm!C$7)","v":"09:00:00"},null,null,"","","","","",""]
["2019-02-25","Ma","",null,null,null,"","00:00:00","",{"$f":"ColTime(T.!$J$3,T.!$L$3,D28,E28)","v":"00:00:00"},null,{"$f":"ColTime(TIME(T.!$J$4,0,0),TIME(T.!$L$4,0,0),D28,E28)","v":"00:00:00"},null,"","","",null,null,{"$f":"CHOOSE(WEEKDAY(A28,2),norm!C$1,norm!C$2,norm!C$3,norm!C$4,norm!C$5,norm!C$6,norm!C$7)","v":"09:00:00"},null,null,"","","","","",""]
["2019-02-26","Ti","",null,null,null,"","00:00:00","",{"$f":"ColTime(T.!$J$3,T.!$L$3,D29,E29)","v":"00:00:00"},null,{"$f":"ColTime(TIME(T.!$J$4,0,0),TIME(T.!$L$4,0,0),D29,E29)","v":"00:00:00"},null,"","","",null,null,{"$f":"CHOOSE(WEEKDAY(A29,2),norm!C$1,norm!C$2,norm!C$3,norm!C$4,norm!C$5,norm!C$6,norm!C$7)","v":"09:00:00"}]
["2019-02-27","On","",null,null,null,"","00:00:00","",{"$f":"ColTime(T.!$J$3,T.!$L$3,D30,E30)","v":"00:00:00"},null,{"$f":"ColTime(TIME(T.!$J$4,0,0),TIME(T.!$L$4,0,0),D30,E30)","v":"00:00:00"},null,"","","",null,null,{"$f":"CHOOSE(WEEKDAY(A30,2),norm!C$1,norm!C$2,norm!C$3,norm!C$4,norm!C$5,norm!C$6,norm!C$7)","v":"09:00:00"}]
["2019-02-28","To","",null,null,null,"","00:00:00","",{"$f":"ColTime(T.!$J$3,T.!$L$3,D31,E31)","v":"00:00:00"},null,{"$f":"ColTime(TIME(T.!$J$4,0,0),TIME(T.!$L$4,0,0),D31,E31)","v":"00:00:00"},null,"","","",null,null,{"$f":"CHOOSE(WEEKDAY(A31,2),norm!C$1,norm!C$2,norm!C$3,norm!C$4,norm!C$5,norm!C$6,norm!C$7)","v":"09:00:00"}]
[{"$f":"IF(MONTH(A31+1)>MONTH(A31),\"\",A31+1)","v":""},"",{"$f":"IF(A32=\"\",\"\",HelligdagsNavn(A32,0,0))","v":""},null,null,null,"","00:00:00","",{"$f":"ColTime(T.!$J$3,T.!$L$3,D32,E32)","v":"00:00:00"},null,{"$f":"ColTime(TIME(T.!$J$4,0,0),TIME(T.!$L$4,0,0),D32,E32)","v":"00:00:00"},null,{"$f":"IFERROR(IF(WEEKDAY(A32,2)=6,ColTime(TIME(15,0,0),TIME(24,0,0),D32,E32),\"\"),\"\")","v":""},{"$f":"IFERROR(IF(OR(C32<>\"\",WEEKDAY(A32,2)=7),ColTime(TIME(0,0,0),TIME(24,0,0),D32,E32),\"\"),\"\")","v":""},"",null,null,{"$f":"IFERROR(CHOOSE(WEEKDAY(A32,2),norm!C$1,norm!C$2,norm!C$3,norm!C$4,norm!C$5,norm!C$6,norm!C$7),\"\")","v":""}]
[{"$f":"IFERROR(IF(MONTH(A32+1)>MONTH(A32),\"\",A32+1),\"\")","v":""},"","",null,null,null,"","00:00:00","",{"$f":"ColTime(T.!$J$3,T.!$L$3,D33,E33)","v":"00:00:00"},null,{"$f":"ColTime(TIME(T.!$J$4,0,0),TIME(T.!$L$4,0,0),D33,E33)","v":"00:00:00"},null,{"$f":"IFERROR(IF(WEEKDAY(A33,2)=6,ColTime(TIME(15,0,0),TIME(24,0,0),D33,E33),\"\"),\"\")","v":""},{"$f":"IFERROR(IF(OR(C33<>\"\",WEEKDAY(A33,2)=7),ColTime(TIME(0,0,0),TIME(24,0,0),D33,E33),\"\"),\"\")","v":""},"",null,null,{"$f":"IFERROR(CHOOSE(WEEKDAY(A33,2),norm!C$1,norm!C$2,norm!C$3,norm!C$4,norm!C$5,norm!C$6,norm!C$7),\"\")","v":""}]
[{"$f":"IFERROR(IF(MONTH(A33+1)>MONTH(A33),\"\",A33+1),\"\")","v":""},{"$f":"IFERROR(PROPER(TEXT(A34,\"ddd\")),\"\")","v":""},{"$f":"IF(A34=\"\",\"\",HelligdagsNavn(A34,0,0))","v":""},null,null,null,"","00:00:00","",{"$f":"ColTime(T.!$J$3,T.!$L$3,D34,E34)","v":"00:00:00"},null,{"$f":"ColTime(TIME(T.!$J$4,0,0),TIME(T.!$L$4,0,0),D34,E34)","v":"00:00:00"},null,{"$f":"IFERROR(IF(WEEKDAY(A34,2)=6,ColTime(TIME(15,0,0),TIME(24,0,0),D34,E34),\"\"),\"\")","v":""},"","",null,null,{"$f":"IFERROR(CHOOSE(WEEKDAY(A34,2),norm!C$1,norm!C$2,norm!C$3,norm!C$4,norm!C$5,norm!C$6,norm!C$7),\"\")","v":""},null,null,{"$f":"IF(D34=\"\",\"\",HOUR(D34))","v":""},{"$f":"IF(D34=\"\",\"\",MINUTE(D34))","v":""},{"$f":"IF(D34=\"\",\"\",TIME(HOUR(D34),MINUTE(D34),0))","v":""},{"$f":"IF(E34=\"\",\"\",HOUR(E34))","v":""},{"$f":"IF(E34=\"\",\"\",MINUTE(E34))","v":""},{"$f":"IF(E34=\"\",\"\",TIME(HOUR(E34),MINUTE(E34),0))","v":""}]
["Total timer",null,null,null,null,null,{"$f":"IF(SUM(G9:G34)<>\"0\",SUM(G4:G34),\"\")","v":2.4479166666666665},{"$f":"IF(SUM(H4:H34)<>\"0\",SUM(H4:H34),\"\")","v":0.34374999999999989},{"$f":"IF(SUM(I4:I34)<>\"0\",SUM(I4:I34),\"\")","v":2.0833333333333259E-2},{"$f":"IF(SUM(J4:J34)<>\"0\",SUM(J4:J34),\"\")","v":0.27083333333333337},null,{"$f":"SUM(L4:M34)","v":"07:45:00"},null,{"$f":"IF(SUM(N4:N34)<>\"0\",SUM(N4:N34),\"\")","v":0.3125},{"$f":"IF(SUM(O4:O34)<>\"0\",SUM(O4:O34),\"\")","v":"07:45:00"},{"$f":"SUM(P4:P34)","v":0.14583333333333326},{"$f":"SUM(Q4:Q34)","v":0}]
["Timer 1/100",null,null,null,null,null,{"$f":"IF(G35<>\"\",ROUND(G35*24,2),\"\")","v":58.75},{"$f":"IF(H35<>\"\",ROUND(H35*24,2),\"\")","v":8.25},0.5,{"$f":"IF(J35<>\"\",ROUND(J35*24,2),\"\")","v":6.5},null,{"$f":"IF(L35<>\"\",ROUND(L35*24,2),\"\")","v":7.75},null,{"$f":"IF(N35<>\"\",ROUND(N35*24,2),\"\")","v":7.5},7.75,3.5,0]
["Satser",null,null,null,null,null,{"$f":"Satser!B7","v":107.35},{"$f":"Satser!B9","v":36.35},{"$f":"Satser!B12","v":58.1},{"$f":"Satser!B17","v":25.6},null,{"$f":"Satser!B18","v":34.200000000000003},null,{"$f":"Satser!B19","v":45.1},{"$f":"Satser!B20","v":50.6}]
[null,null,null,null,null,null,{"$f":"IF(G35<>\"\",G36*G37,\"\")","v":6306.8125},{"$f":"IF(H35<>\"\",H36*H37,\"\")","v":299.88749999999999},29.05,{"$f":"IF(J35<>\"\",J36*J37,\"\")","v":166.4},null,{"$f":"IF(L35<>\"\",L36*L36,\"\")","v":60.0625},null,{"$f":"IF(N35<>\"\",N36*N37,\"\")","v":338.25},392.15000000000003]
[]
["Lønart"]
[3025,null,null,null,null,null,{"$f":"G35","v":2.4479166666666665}]
[3425,null,null,null,null,null,{"$f":"H35","v":0.34374999999999989}]
[3428,null,null,null,null,null,{"$f":"I35","v":2.0833333333333259E-2}]
["Timer",null,null,null,null,null,{"$f":"SUM(G41:G43)","v":2.8125},{"$f":"IF(G44<>\"\",ROUND(G44*24,2),\"\")","v":67.5}]
[null,null,null,null,null,null,null,{"$f":"G37*H44","v":7246.125}]

{"sheet":"Marts","index":3,"n_rows":45,"n_cols":35,"rows_kept":45,"cut":false,"hidden":true,"merged":[[4,9,4,10],[4,11,4,12],[0,1,0,7],[0,10,0,11],[0,13,0,14],[1,1,1,2],[1,9,1,10],[1,11,1,12],[2,1,2,2],[2,9,2,10],[2,11,2,12],[3,9,3,10],[3,11,3,12],[5,9,5,10],[5,11,5,12],[6,9,6,10],[6,11,6,12],[7,9,7,10],[7,11,7,12],[8,9,8,10],[8,11,8,12],[9,9,9,10],[9,11,9,12],[10,9,10,10],[10,11,10,12],[11,9,11,10],[11,11,11,12],[12,9,12,10],[12,11,12,12],[13,9,13,10],[13,11,13,12],[14,9,14,10],[14,11,14,12],[15,9,15,10],[15,11,15,12],[16,9,16,10],[16,11,16,12],[17,9,17,10],[17,11,17,12],[18,9,18,10],[18,11,18,12],[19,9,19,10],[19,11,19,12],[20,9,20,10],[20,11,20,12],[21,9,21,10],[21,11,21,12],[22,9,22,10],[22,11,22,12],[23,9,23,10],[23,11,23,12],[24,9,24,10],[24,11,24,12],[25,9,25,10],[25,11,25,12],[26,9,26,10],[26,11,26,12],[27,9,27,10],[27,11,27,12],[28,9,28,10],[28,11,28,12],[29,9,29,10],[29,11,29,12],[30,9,30,10],[30,11,30,12],[31,9,31,10],[31,11,31,12],[32,9,32,10],[32,11,32,12],[33,9,33,10],[33,11,33,12],[34,9,34,10],[34,11,34,12],[35,9,35,10],[35,11,35,12],[36,9,36,10],[36,11,36,12],[37,9,37,10],[37,11,37,12],[39,0,39,2],[40,0,40,2],[41,0,41,2],[42,0,42,2],[43,0,43,5]]}
["Løn",{"$f":"PROPER(TEXT(A4,\"dd mmmm åååå\")) & PROPER(TEXT(N1,\"  -  dd mmmm åååå\"))","v":"01 Marts 2019  -  31 Marts 2019"},null,null,null,null,null,null,"Uge :",{"$f":"IF(A4=\"\",\"\",TRUNC((A4-WEEKDAY(A4,2)-DATE(YEAR(A4+4-WEEKDAY(A4,2)),1,-10))/7))","v":9},"-",null,{"$f":"IF(A25=\"\",\"\",TRUNC((A25-WEEKDAY(A25,2)-DATE(YEAR(A25+4-WEEKDAY(A25,2)),1,-10))/7))","v":12},{"$f":"EOMONTH(A4,0)","v":"2019-03-31"},null,3,null,null,null,null,null,"Time beregning:",null,null,null,null,null,null,null,null,null,null,"06:00:00","18:00:00","03:00:00"]
["Lønart",null,null,null,null,null,null,null,null,null,null,null,null,null,null,null,null,null,null,null,null,"Betalt pause ved vagt over 5 timer",null,null,null,"00:25:00","minutter","00:00:00","06:00:00","17:00:00","14:00:00"]
["Dato","Dag",null,"Start","Slut","Pause","Arb. Tid","Overtid           1-3 time","Overtid            4 - time","Forskudt tid alle dage\n18-23",null,"Natarbejde 23-06",null,"Lørdag tillæg 14 - 24","Søndag tillæg 00 - 24","Optjent afspadsering","Afholdt afspadsering","Syge Timer","norm"]
[{"$f":"DATE(T.!$B$1,$P$1,1)","v":"2019-03-01"},{"$f":"PROPER(TEXT(A4,\"ddd\"))","v":"Fr"},{"$f":"HelligdagsNavn(A4,0,0)","v":""},"07:00:00","16:00:00","00:30:00",{"$f":"IF(D4=\"\",\"\",(E4-D4)+(D4>E4)-F4)","v":0.35416666666666663},{"$f":"IF(G4=\"\",0,IF(WEEKDAY(A4,2)=7,0,IF(G4>S4,MIN(G4-S4,$AI$1),0)))","v":"00:00:00"},{"$f":"IF(G4=\"\",\"\",IF(G4>S4+H4,G4-(S4+H4),\"\"))","v":""},{"$f":"ColTime(T.!$J$3,T.!$L$3,D4,E4)","v":"00:00:00"},null,{"$f":"ColTime(TIME(T.!$J$4,0,0),TIME(T.!$L$4,0,0),D4,E4)","v":"00:00:00"},null,{"$f":"IF(WEEKDAY(A4,2)=6,ColTime(TIME(14,0,0),TIME(24,0,0),D4,E4),\"\")","v":""},{"$f":"IF(OR(C4<>\"\",WEEKDAY(A4,2)=7),ColTime(TIME(0,0,0),TIME(24,0,0),D4,E4),\"\")","v":""},{"$f":"IFERROR(H4+I4,\"\")","v":""},null,null,{"$f":"CHOOSE(WEEKDAY(A4,2),norm!C$1,norm!C$2,norm!C$3,norm!C$4,norm!C$5,norm!C$6,norm!C$7)","v":"09:00:00"},null,null,{"$f":"IF(D4=\"\",\"\",HOUR(D4))","v":7},{"$f":"IF(D4=\"\",\"\",MINUTE(D4))","v":0},{"$f":"IF(D4=\"\",\"\",TIME(HOUR(D4),MINUTE(D4),0))","v":"07:00:00"},{"$f":"IF(E4=\"\",\"\",HOUR(E4))","v":16},{"$f":"IF(E4=\"\",\"\",MINUTE(E4))","v":0},"02:00:00","09:30:00","11:30:00",null,null,null,{"$f":"MIN(G4-S4,3)","v":-2.083333333333337E-2}]
[{"$f":"A4+1","v":"2019-03-02"},{"$f":"PROPER(TEXT(A5,\"ddd\"))","v":"Lø"},{"$f":"HelligdagsNavn(A5,0,0)","v":""},"13:45:00","21:30:00","00:30:00",{"$f":"IF(D5=\"\",\"\",(E5-D5)+(D5>E5)-F5)","v":0.30208333333333343},{"$f":"IF(G5=\"\",0,IF(WEEKDAY(A5,2)=7,0,IF(G5>S5,MIN(G5-S5,$AI$1),0)))","v":"00:00:00"},{"$f":"IF(G5=\"\",\"\",IF(G5>S5+H5,G5-(S5+H5),\"\"))","v":""},{"$f":"ColTime(T.!$J$3,T.!$L$3,D5,E5)","v":"03:30:00"},null,{"$f":"ColTime(TIME(T.!$J$4,0,0),TIME(T.!$L$4,0,0),D5,E5)","v":"00:00:00"},null,"07:30:00","",{"$f":"IFERROR(H5+I5,\"\")","v":""},null,null,{"$f":"CHOOSE(WEEKDAY(A5,2),norm!C$1,norm!C$2,norm!C$3,norm!C$4,norm!C$5,norm!C$6,norm!C$7)","v":"09:00:00"},null,null,13,45,"13:45:00",21,30,{"$f":"IF(E5=\"\",\"\",TIME(HOUR(E5),MINUTE(E5),0))","v":"21:30:00"},null,null,null,null,null,null,"Der taste kun i de Gule celler"]
[{"$f":"A5+1","v":"2019-03-03"},{"$f":"PROPER(TEXT(A6,\"ddd\"))","v":"Sø"},"","22:00:00","05:45:00","00:30:00",0.30208333333333343,"00:00:00","",{"$f":"ColTime(T.!$J$3,T.!$L$3,D6,E6)","v":"01:00:00"},null,{"$f":"ColTime(TIME(T.!$J$4,0,0),TIME(T.!$L$4,0,0),D6,E6)","v":"06:45:00"},null,"","07:45:00",{"$f":"IFERROR(H6+I6,\"\")","v":""},null,null,{"$f":"CHOOSE(WEEKDAY(A6,2),norm!C$1,norm!C$2,norm!C$3,norm!C$4,norm!C$5,norm!C$6,norm!C$7)","v":"09:00:00"},null,null,22,0,"22:00:00",5,45,"05:45:00"]
["2019-03-04","Ma","","05:00:00","16:45:00","00:30:00",0.46874999999999994,"02:15:00","",{"$f":"ColTime(T.!$J$3,T.!$L$3,D7,E7)","v":"00:00:00"},null,{"$f":"ColTime(TIME(T.!$J$4,0,0),TIME(T.!$L$4,0,0),D7,E7)","v":"01:00:00"},null,"","",{"$f":"IFERROR(H7+I7,\"\")","v":""},null,null,{"$f":"CHOOSE(WEEKDAY(A7,2),norm!C$1,norm!C$2,norm!C$3,norm!C$4,norm!C$5,norm!C$6,norm!C$7)","v":"09:00:00"},null,null,5,0,"05:00:00",16,45,"16:45:00"]
["2019-03-05","Ti","",null,null,null,"","00:00:00","",{"$f":"ColTime(T.!$J$3,T.!$L$3,D8,E8)","v":"00:00:00"},null,{"$f":"ColTime(TIME(T.!$J$4,0,0),TIME(T.!$L$4,0,0),D8,E8)","v":"00:00:00"},null,"","",{"$f":"IFERROR(H8+I8,\"\")","v":""},null,null,{"$f":"CHOOSE(WEEKDAY(A8,2),norm!C$1,norm!C$2,norm!C$3,norm!C$4,norm!C$5,norm!C$6,norm!C$7)","v":"09:00:00"},null,null,"","","","","",""]
["2019-03-06","On","","06:00:00","19:00:00","00:30:00",0.52083333333333326,"03:00:00","00:30:00",{"$f":"ColTime(T.!$J$3,T.!$L$3,D9,E9)","v":"01:00:00"},null,{"$f":"ColTime(TIME(T.!$J$4,0,0),TIME(T.!$L$4,0,0),D9,E9)","v":"00:00:00"},null,"",{"$f":"IF(OR(C9<>\"\",WEEKDAY(A9,2)=7),ColTime(TIME(0,0,0),TIME(24,0,0),D9,E9),\"\")","v":""},{"$f":"IFERROR(H9+I9,\"\")","v":"03:30:00"},null,null,{"$f":"CHOOSE(WEEKDAY(A9,2),norm!C$1,norm!C$2,norm!C$3,norm!C$4,norm!C$5,norm!C$6,norm!C$7)","v":"09:00:00"},null,null,6,0,"06:00:00",19,0,"19:00:00"]
["2019-03-07","To","","07:00:00","19:00:00",null,0.49999999999999994,"03:00:00","",{"$f":"ColTime(T.!$J$3,T.!$L$3,D10,E10)","v":"01:00:00"},null,{"$f":"ColTime(TIME(T.!$J$4,0,0),TIME(T.!$L$4,0,0),D10,E10)","v":"00:00:00"},null,{"$f":"IF(WEEKDAY(A10,2)=6,ColTime(TIME(14,0,0),TIME(24,0,0),D10,E10),\"\")","v":""},{"$f":"IF(OR(C10<>\"\",WEEKDAY(A10,2)=7),ColTime(TIME(0,0,0),TIME(24,0,0),D10,E10),\"\")","v":""},"",null,null,{"$f":"CHOOSE(WEEKDAY(A10,2),norm!C$1,norm!C$2,norm!C$3,norm!C$4,norm!C$5,norm!C$6,norm!C$7)","v":"09:00:00"},null,null,7,0,"07:00:00",19,0,"19:00:00"]
[{"$f":"A10+1","v":"2019-03-08"},{"$f":"PROPER(TEXT(A11,\"ddd\"))","v":"Fr"},{"$f":"HelligdagsNavn(A11,0,0)","v":""},null,null,null,"","00:00:00","",{"$f":"ColTime(T.!$J$3,T.!$L$3,D11,E11)","v":"00:00:00"},null,{"$f":"ColTime(TIME(T.!$J$4,0,0),TIME(T.!$L$4,0,0),D11,E11)","v":"00:00:00"},null,{"$f":"IF(WEEKDAY(A11,2)=6,ColTime(TIME(15,0,0),TIME(24,0,0),D11,E11),\"\")","v":""},"","",null,null,{"$f":"CHOOSE(WEEKDAY(A11,2),norm!C$1,norm!C$2,norm!C$3,norm!C$4,norm!C$5,norm!C$6,norm!C$7)","v":"09:00:00"},null,null,"","","","","",""]
[{"$f":"A11+1","v":"2019-03-09"},{"$f":"PROPER(TEXT(A12,\"ddd\"))","v":"Lø"},{"$f":"HelligdagsNavn(A12,0,0)","v":""},null,null,null,"","00:00:00","",{"$f":"ColTime(T.!$J$3,T.!$L$3,D12,E12)","v":"00:00:00"},null,{"$f":"ColTime(TIME(T.!$J$4,0,0),TIME(T.!$L$4,0,0),D12,E12)","v":"00:00:00"},null,"00:00:00","","",null,null,{"$f":"CHOOSE(WEEKDAY(A12,2),norm!C$1,norm!C$2,norm!C$3,norm!C$4,norm!C$5,norm!C$6,norm!C$7)","v":"09:00:00"},null,null,"","","","","",""]
[{"$f":"A12+1","v":"2019-03-10"},{"$f":"PROPER(TEXT(A13,\"ddd\"))","v":"Sø"},"",null,null,null,"","00:00:00","",{"$f":"ColTime(T.!$J$3,T.!$L$3,D13,E13)","v":"00:00:00"},null,{"$f":"ColTime(TIME(T.!$J$4,0,0),TIME(T.!$L$4,0,0),D13,E13)","v":"00:00:00"},null,"","00:00:00","",null,null,{"$f":"CHOOSE(WEEKDAY(A13,2),norm!C$1,norm!C$2,norm!C$3,norm!C$4,norm!C$5,norm!C$6,norm!C$7)","v":"09:00:00"},null,null,"","","","","",""]
["2019-03-11","Ma","",null,null,null,"","00:00:00","",{"$f":"ColTime(T.!$J$3,T.!$L$3,D14,E14)","v":"00:00:00"},null,{"$f":"ColTime(TIME(T.!$J$4,0,0),TIME(T.!$L$4,0,0),D14,E14)","v":"00:00:00"},null,"","","",null,null,{"$f":"CHOOSE(WEEKDAY(A14,2),norm!C$1,norm!C$2,norm!C$3,norm!C$4,norm!C$5,norm!C$6,norm!C$7)","v":"09:00:00"},null,null,"","","","","",""]
["2019-03-12","Ti","",null,null,null,"","00:00:00","",{"$f":"ColTime(T.!$J$3,T.!$L$3,D15,E15)","v":"00:00:00"},null,{"$f":"ColTime(TIME(T.!$J$4,0,0),TIME(T.!$L$4,0,0),D15,E15)","v":"00:00:00"},null,"","","",null,null,{"$f":"CHOOSE(WEEKDAY(A15,2),norm!C$1,norm!C$2,norm!C$3,norm!C$4,norm!C$5,norm!C$6,norm!C$7)","v":"09:00:00"},null,null,"","","",null,"",""]
["2019-03-13","On","",null,null,null,"","00:00:00","",{"$f":"ColTime(T.!$J$3,T.!$L$3,D16,E16)","v":"00:00:00"},null,{"$f":"ColTime(TIME(T.!$J$4,0,0),TIME(T.!$L$4,0,0),D16,E16)","v":"00:00:00"},null,"","","",null,null,{"$f":"CHOOSE(WEEKDAY(A16,2),norm!C$1,norm!C$2,norm!C$3,norm!C$4,norm!C$5,norm!C$6,norm!C$7)","v":"09:00:00"},null,null,"","","","","",""]
["2019-03-14","To","",null,null,null,"","00:00:00","",{"$f":"ColTime(T.!$J$3,T.!$L$3,D17,E17)","v":"00:00:00"},null,{"$f":"ColTime(TIME(T.!$J$4,0,0),TIME(T.!$L$4,0,0),D17,E17)","v":"00:00:00"},null,"","","",null,null,{"$f":"CHOOSE(WEEKDAY(A17,2),norm!C$1,norm!C$2,norm!C$3,norm!C$4,norm!C$5,norm!C$6,norm!C$7)","v":"09:00:00"},null,null,"","","","","",""]
[{"$f":"A17+1","v":"2019-03-15"},{"$f":"PROPER(TEXT(A18,\"ddd\"))","v":"Fr"},{"$f":"HelligdagsNavn(A18,0,0)","v":""},null,null,null,"","00:00:00","",{"$f":"ColTime(T.!$J$3,T.!$L$3,D18,E18)","v":"00:00:00"},null,{"$f":"ColTime(TIME(T.!$J$4,0,0),TIME(T.!$L$4,0,0),D18,E18)","v":"00:00:00"},null,"","","",null,null,{"$f":"CHOOSE(WEEKDAY(A18,2),norm!C$1,norm!C$2,norm!C$3,norm!C$4,norm!C$5,norm!C$6,norm!C$7)","v":"09:00:00"},null,null,"","","","","",""]
[{"$f":"A18+1","v":"2019-03-16"},{"$f":"PROPER(TEXT(A19,\"ddd\"))","v":"Lø"},{"$f":"HelligdagsNavn(A19,0,0)","v":""},null,null,null,"","00:00:00","",{"$f":"ColTime(T.!$J$3,T.!$L$3,D19,E19)","v":"00:00:00"},null,{"$f":"ColTime(TIME(T.!$J$4,0,0),TIME(T.!$L$4,0,0),D19,E19)","v":"00:00:00"},null,"00:00:00","","",null,null,{"$f":"CHOOSE(WEEKDAY(A19,2),norm!C$1,norm!C$2,norm!C$3,norm!C$4,norm!C$5,norm!C$6,norm!C$7)","v":"09:00:00"},null,null,"","","","","",""]
[{"$f":"A19+1","v":"2019-03-17"},{"$f":"PROPER(TEXT(A20,\"ddd\"))","v":"Sø"},"",null,null,null,"","00:00:00","",{"$f":"ColTime(T.!$J$3,T.!$L$3,D20,E20)","v":"00:00:00"},null,{"$f":"ColTime(TIME(T.!$J$4,0,0),TIME(T.!$L$4,0,0),D20,E20)","v":"00:00:00"},null,"","00:00:00","",null,null,{"$f":"CHOOSE(WEEKDAY(A20,2),norm!C$1,norm!C$2,norm!C$3,norm!C$4,norm!C$5,norm!C$6,norm!C$7)","v":"09:00:00"},null,null,"","","","","",""]
["2019-03-18","Ma","",null,null,null,"","00:00:00","",{"$f":"ColTime(T.!$J$3,T.!$L$3,D21,E21)","v":"00:00:00"},null,{"$f":"ColTime(TIME(T.!$J$4,0,0),TIME(T.!$L$4,0,0),D21,E21)","v":"00:00:00"},null,"","","",null,null,{"$f":"CHOOSE(WEEKDAY(A21,2),norm!C$1,norm!C$2,norm!C$3,norm!C$4,norm!C$5,norm!C$6,norm!C$7)","v":"09:00:00"},null,null,"","","","","",""]
["2019-03-19","Ti","",null,null,null,"","00:00:00","",{"$f":"ColTime(T.!$J$3,T.!$L$3,D22,E22)","v":"00:00:00"},null,{"$f":"ColTime(TIME(T.!$J$4,0,0),TIME(T.!$L$4,0,0),D22,E22)","v":"00:00:00"},null,"","","",null,null,{"$f":"CHOOSE(WEEKDAY(A22,2),norm!C$1,norm!C$2,norm!C$3,norm!C$4,norm!C$5,norm!C$6,norm!C$7)","v":"09:00:00"},null,null,"","","","","",""]
["2019-03-20","On","",null,null,null,"","00:00:00","",{"$f":"ColTime(T.!$J$3,T.!$L$3,D23,E23)","v":"00:00:00"},null,{"$f":"ColTime(TIME(T.!$J$4,0,0),TIME(T.!$L$4,0,0),D23,E23)","v":"00:00:00"},null,"","","",null,null,{"$f":"CHOOSE(WEEKDAY(A23,2),norm!C$1,norm!C$2,norm!C$3,norm!C$4,norm!C$5,norm!C$6,norm!C$7)","v":"09:00:00"},null,null,"","","","","",""]
["2019-03-21","To","",null,null,null,"","00:00:00","",{"$f":"ColTime(T.!$J$3,T.!$L$3,D24,E24)","v":"00:00:00"},null,{"$f":"ColTime(TIME(T.!$J$4,0,0),TIME(T.!$L$4,0,0),D24,E24)","v":"00:00:00"},null,"","","",null,null,{"$f":"CHOOSE(WEEKDAY(A24,2),norm!C$1,norm!C$2,norm!C$3,norm!C$4,norm!C$5,norm!C$6,norm!C$7)","v":"09:00:00"},null,null,"","","","","",""]
[{"$f":"A24+1","v":"2019-03-22"},{"$f":"PROPER(TEXT(A25,\"ddd\"))","v":"Fr"},{"$f":"HelligdagsNavn(A25,0,0)","v":""},null,null,null,"","00:00:00","",{"$f":"ColTime(T.!$J$3,T.!$L$3,D25,E25)","v":"00:00:00"},null,{"$f":"ColTime(TIME(T.!$J$4,0,0),TIME(T.!$L$4,0,0),D25,E25)","v":"00:00:00"},null,"","","",null,null,{"$f":"CHOOSE(WEEKDAY(A25,2),norm!C$1,norm!C$2,norm!C$3,norm!C$4,norm!C$5,norm!C$6,norm!C$7)","v":"09:00:00"},null,null,"","","","","",""]
[{"$f":"A25+1","v":"2019-03-23"},{"$f":"PROPER(TEXT(A26,\"ddd\"))","v":"Lø"},{"$f":"HelligdagsNavn(A26,0,0)","v":""},null,null,null,"","00:00:00","",{"$f":"ColTime(T.!$J$3,T.!$L$3,D26,E26)","v":"00:00:00"},null,{"$f":"ColTime(TIME(T.!$J$4,0,0),TIME(T.!$L$4,0,0),D26,E26)","v":"00:00:00"},null,"00:00:00","","",null,null,{"$f":"CHOOSE(WEEKDAY(A26,2),norm!C$1,norm!C$2,norm!C$3,norm!C$4,norm!C$5,norm!C$6,norm!C$7)","v":"09:00:00"},null,null,"","","","","",""]
[{"$f":"A26+1","v":"2019-03-24"},{"$f":"PROPER(TEXT(A27,\"ddd\"))","v":"Sø"},"",null,null,null,"","00:00:00","",{"$f":"ColTime(T.!$J$3,T.!$L$3,D27,E27)","v":"00:00:00"},null,{"$f":"ColTime(TIME(T.!$J$4,0,0),TIME(T.!$L$4,0,0),D27,E27)","v":"00:00:00"},null,"","00:00:00","",null,null,{"$f":"CHOOSE(WEEKDAY(A27,2),norm!C$1,norm!C$2,norm!C$3,norm!C$4,norm!C$5,norm!C$6,norm!C$7)","v":"09:00:00"},null,null,"","","","","",""]
["2019-03-25","Ma","",null,null,null,"","00:00:00","",{"$f":"ColTime(T.!$J$3,T.!$L$3,D28,E28)","v":"00:00:00"},null,{"$f":"ColTime(TIME(T.!$J$4,0,0),TIME(T.!$L$4,0,0),D28,E28)","v":"00:00:00"},null,"","","",null,null,{"$f":"CHOOSE(WEEKDAY(A28,2),norm!C$1,norm!C$2,norm!C$3,norm!C$4,norm!C$5,norm!C$6,norm!C$7)","v":"09:00:00"},null,null,"","","","","",""]
["2019-03-26","Ti","",null,null,null,"","00:00:00","",{"$f":"ColTime(T.!$J$3,T.!$L$3,D29,E29)","v":"00:00:00"},null,{"$f":"ColTime(TIME(T.!$J$4,0,0),TIME(T.!$L$4,0,0),D29,E29)","v":"00:00:00"},null,"","","",null,null,{"$f":"CHOOSE(WEEKDAY(A29,2),norm!C$1,norm!C$2,norm!C$3,norm!C$4,norm!C$5,norm!C$6,norm!C$7)","v":"09:00:00"}]
["2019-03-27","On","",null,null,null,"","00:00:00","",{"$f":"ColTime(T.!$J$3,T.!$L$3,D30,E30)","v":"00:00:00"},null,{"$f":"ColTime(TIME(T.!$J$4,0,0),TIME(T.!$L$4,0,0),D30,E30)","v":"00:00:00"},null,"","","",null,null,{"$f":"CHOOSE(WEEKDAY(A30,2),norm!C$1,norm!C$2,norm!C$3,norm!C$4,norm!C$5,norm!C$6,norm!C$7)","v":"09:00:00"}]
["2019-03-28","To","",null,null,null,"","00:00:00","",{"$f":"ColTime(T.!$J$3,T.!$L$3,D31,E31)","v":"00:00:00"},null,{"$f":"ColTime(TIME(T.!$J$4,0,0),TIME(T.!$L$4,0,0),D31,E31)","v":"00:00:00"},null,"","","",null,null,{"$f":"CHOOSE(WEEKDAY(A31,2),norm!C$1,norm!C$2,norm!C$3,norm!C$4,norm!C$5,norm!C$6,norm!C$7)","v":"09:00:00"}]
[{"$f":"IF(MONTH(A31+1)>MONTH(A31),\"\",A31+1)","v":"2019-03-29"},"Fr",{"$f":"IF(A32=\"\",\"\",HelligdagsNavn(A32,0,0))","v":""},null,null,null,"","00:00:00","",{"$f":"ColTime(T.!$J$3,T.!$L$3,D32,E32)","v":"00:00:00"},null,{"$f":"ColTime(TIME(T.!$J$4,0,0),TIME(T.!$L$4,0,0),D32,E32)","v":"00:00:00"},null,{"$f":"IFERROR(IF(WEEKDAY(A32,2)=6,ColTime(TIME(15,0,0),TIME(24,0,0),D32,E32),\"\"),\"\")","v":""},{"$f":"IFERROR(IF(OR(C32<>\"\",WEEKDAY(A32,2)=7),ColTime(TIME(0,0,0),TIME(24,0,0),D32,E32),\"\"),\"\")","v":""},"",null,null,{"$f":"IFERROR(CHOOSE(WEEKDAY(A32,2),norm!C$1,norm!C$2,norm!C$3,norm!C$4,norm!C$5,norm!C$6,norm!C$7),\"\")","v":"09:00:00"}]
[{"$f":"IFERROR(IF(MONTH(A32+1)>MONTH(A32),\"\",A32+1),\"\")","v":"2019-03-30"},"Lø","",null,null,null,"","00:00:00","",{"$f":"ColTime(T.!$J$3,T.!$L$3,D33,E33)","v":"00:00:00"},null,{"$f":"ColTime(TIME(T.!$J$4,0,0),TIME(T.!$L$4,0,0),D33,E33)","v":"00:00:00"},null,{"$f":"IFERROR(IF(WEEKDAY(A33,2)=6,ColTime(TIME(15,0,0),TIME(24,0,0),D33,E33),\"\"),\"\")","v":"00:00:00"},{"$f":"IFERROR(IF(OR(C33<>\"\",WEEKDAY(A33,2)=7),ColTime(TIME(0,0,0),TIME(24,0,0),D33,E33),\"\"),\"\")","v":""},"",null,null,{"$f":"IFERROR(CHOOSE(WEEKDAY(A33,2),norm!C$1,norm!C$2,norm!C$3,norm!C$4,norm!C$5,norm!C$6,norm!C$7),\"\")","v":"09:00:00"}]
[{"$f":"IFERROR(IF(MONTH(A33+1)>MONTH(A33),\"\",A33+1),\"\")","v":"2019-03-31"},{"$f":"IFERROR(PROPER(TEXT(A34,\"ddd\")),\"\")","v":"Sø"},{"$f":"IF(A34=\"\",\"\",HelligdagsNavn(A34,0,0))","v":""},null,null,null,"","00:00:00","",{"$f":"ColTime(T.!$J$3,T.!$L$3,D34,E34)","v":"00:00:00"},null,{"$f":"ColTime(TIME(T.!$J$4,0,0),TIME(T.!$L$4,0,0),D34,E34)","v":"00:00:00"},null,{"$f":"IFERROR(IF(WEEKDAY(A34,2)=6,ColTime(TIME(15,0,0),TIME(24,0,0),D34,E34),\"\"),\"\")","v":""},"00:00:00","",null,null,{"$f":"IFERROR(CHOOSE(WEEKDAY(A34,2),norm!C$1,norm!C$2,norm!C$3,norm!C$4,norm!C$5,norm!C$6,norm!C$7),\"\")","v":"09:00:00"},null,null,{"$f":"IF(D34=\"\",\"\",HOUR(D34))","v":""},{"$f":"IF(D34=\"\",\"\",MINUTE(D34))","v":""},{"$f":"IF(D34=\"\",\"\",TIME(HOUR(D34),MINUTE(D34),0))","v":""},{"$f":"IF(E34=\"\",\"\",HOUR(E34))","v":""},{"$f":"IF(E34=\"\",\"\",MINUTE(E34))","v":""},{"$f":"IF(E34=\"\",\"\",TIME(HOUR(E34),MINUTE(E34),0))","v":""}]
["Total timer",null,null,null,null,null,{"$f":"IF(SUM(G9:G34)<>\"0\",SUM(G4:G34),\"\")","v":2.4479166666666665},{"$f":"IF(SUM(H4:H34)<>\"0\",SUM(H4:H34),\"\")","v":0.34374999999999989},{"$f":"IF(SUM(I4:I34)<>\"0\",SUM(I4:I34),\"\")","v":2.0833333333333259E-2},{"$f":"IF(SUM(J4:J34)<>\"0\",SUM(J4:J34),\"\")","v":0.27083333333333337},null,{"$f":"SUM(L4:M34)","v":"07:45:00"},null,{"$f":"IF(SUM(N4:N34)<>\"0\",SUM(N4:N34),\"\")","v":0.3125},{"$f":"IF(SUM(O4:O34)<>\"0\",SUM(O4:O34),\"\")","v":"07:45:00"},{"$f":"SUM(P4:P34)","v":0.14583333333333326},{"$f":"SUM(Q4:Q34)","v":0}]
["Timer 1/100",null,null,null,null,null,{"$f":"IF(G35<>\"\",ROUND(G35*24,2),\"\")","v":58.75},{"$f":"IF(H35<>\"\",ROUND(H35*24,2),\"\")","v":8.25},0.5,{"$f":"IF(J35<>\"\",ROUND(J35*24,2),\"\")","v":6.5},null,{"$f":"IF(L35<>\"\",ROUND(L35*24,2),\"\")","v":7.75},null,{"$f":"IF(N35<>\"\",ROUND(N35*24,2),\"\")","v":7.5},7.75,3.5,0]
["Satser",null,null,null,null,null,{"$f":"Satser!B7","v":107.35},{"$f":"Satser!B9","v":36.35},{"$f":"Satser!B12","v":58.1},{"$f":"Satser!B17","v":25.6},null,{"$f":"Satser!B18","v":34.200000000000003},null,{"$f":"Satser!B19","v":45.1},{"$f":"Satser!B20","v":50.6}]
[null,null,null,null,null,null,{"$f":"IF(G35<>\"\",G36*G37,\"\")","v":6306.8125},{"$f":"IF(H35<>\"\",H36*H37,\"\")","v":299.88749999999999},29.05,{"$f":"IF(J35<>\"\",J36*J37,\"\")","v":166.4},null,{"$f":"IF(L35<>\"\",L36*L36,\"\")","v":60.0625},null,{"$f":"IF(N35<>\"\",N36*N37,\"\")","v":338.25},392.15000000000003]
[]
["Lønart"]
[3025,null,null,null,null,null,{"$f":"G35","v":2.4479166666666665}]
[3425,null,null,null,null,null,{"$f":"H35","v":0.34374999999999989}]
[3428,null,null,null,null,null,{"$f":"I35","v":2.0833333333333259E-2}]
["Timer",null,null,null,null,null,{"$f":"SUM(G41:G43)","v":2.8125},{"$f":"IF(G44<>\"\",ROUND(G44*24,2),\"\")","v":67.5}]
[null,null,null,null,null,null,null,{"$f":"G37*H44","v":7246.125}]

{"sheet":"April","index":4,"n_rows":45,"n_cols":35,"rows_kept":45,"cut":false,"hidden":true,"merged":[[4,9,4,10],[4,11,4,12],[0,1,0,7],[0,10,0,11],[0,13,0,14],[1,1,1,2],[1,9,1,10],[1,11,1,12],[2,1,2,2],[2,9,2,10],[2,11,2,12],[3,9,3,10],[3,11,3,12],[5,9,5,10],[5,11,5,12],[6,9,6,10],[6,11,6,12],[7,9,7,10],[7,11,7,12],[8,9,8,10],[8,11,8,12],[9,9,9,10],[9,11,9,12],[10,9,10,10],[10,11,10,12],[11,9,11,10],[11,11,11,12],[12,9,12,10],[12,11,12,12],[13,9,13,10],[13,11,13,12],[14,9,14,10],[14,11,14,12],[15,9,15,10],[15,11,15,12],[16,9,16,10],[16,11,16,12],[17,9,17,10],[17,11,17,12],[18,9,18,10],[18,11,18,12],[19,9,19,10],[19,11,19,12],[20,9,20,10],[20,11,20,12],[21,9,21,10],[21,11,21,12],[22,9,22,10],[22,11,22,12],[23,9,23,10],[23,11,23,12],[24,9,24,10],[24,11,24,12],[25,9,25,10],[25,11,25,12],[26,9,26,10],[26,11,26,12],[27,9,27,10],[27,11,27,12],[28,9,28,10],[28,11,28,12],[29,9,29,10],[29,11,29,12],[30,9,30,10],[30,11,30,12],[31,9,31,10],[31,11,31,12],[32,9,32,10],[32,11,32,12],[33,9,33,10],[33,11,33,12],[34,9,34,10],[34,11,34,12],[35,9,35,10],[35,11,35,12],[36,9,36,10],[36,11,36,12],[37,9,37,10],[37,11,37,12],[39,0,39,2],[40,0,40,2],[41,0,41,2],[42,0,42,2],[43,0,43,5]]}
["Løn",{"$f":"PROPER(TEXT(A4,\"dd mmmm åååå\")) & PROPER(TEXT(N1,\"  -  dd mmmm åååå\"))","v":"01 April 2019  -  30 April 2019"},null,null,null,null,null,null,"Uge :",{"$f":"IF(A4=\"\",\"\",TRUNC((A4-WEEKDAY(A4,2)-DATE(YEAR(A4+4-WEEKDAY(A4,2)),1,-10))/7))","v":14},"-",null,{"$f":"IF(A25=\"\",\"\",TRUNC((A25-WEEKDAY(A25,2)-DATE(YEAR(A25+4-WEEKDAY(A25,2)),1,-10))/7))","v":17},{"$f":"EOMONTH(A4,0)","v":"2019-04-30"},null,4,null,null,null,null,null,"Time beregning:",null,null,null,null,null,null,null,null,null,null,"06:00:00","18:00:00","03:00:00"]
["Lønart",null,null,null,null,null,null,null,null,null,null,null,null,null,null,null,null,null,null,null,null,"Betalt pause ved vagt over 5 timer",null,null,null,"00:25:00","minutter","00:00:00","06:00:00","17:00:00","14:00:00"]
["Dato","Dag",null,"Start","Slut","Pause","Arb. Tid","Overtid           1-3 time","Overtid            4 - time","Forskudt tid alle dage\n18-23",null,"Natarbejde 23-06",null,"Lørdag tillæg 14 - 24","Søndag tillæg 00 - 24","Optjent afspadsering","Afholdt afspadsering","Syge Timer","norm"]
[{"$f":"DATE(T.!$B$1,$P$1,1)","v":"2019-04-01"},{"$f":"PROPER(TEXT(A4,\"ddd\"))","v":"Ma"},{"$f":"HelligdagsNavn(A4,0,0)","v":""},"07:00:00","16:00:00","00:30:00",{"$f":"IF(D4=\"\",\"\",(E4-D4)+(D4>E4)-F4)","v":0.35416666666666663},{"$f":"IF(G4=\"\",0,IF(WEEKDAY(A4,2)=7,0,IF(G4>S4,MIN(G4-S4,$AI$1),0)))","v":"00:00:00"},{"$f":"IF(G4=\"\",\"\",IF(G4>S4+H4,G4-(S4+H4),\"\"))","v":""},{"$f":"ColTime(T.!$J$3,T.!$L$3,D4,E4)","v":"00:00:00"},null,{"$f":"ColTime(TIME(T.!$J$4,0,0),TIME(T.!$L$4,0,0),D4,E4)","v":"00:00:00"},null,{"$f":"IF(WEEKDAY(A4,2)=6,ColTime(TIME(14,0,0),TIME(24,0,0),D4,E4),\"\")","v":""},{"$f":"IF(OR(C4<>\"\",WEEKDAY(A4,2)=7),ColTime(TIME(0,0,0),TIME(24,0,0),D4,E4),\"\")","v":""},{"$f":"IFERROR(H4+I4,\"\")","v":""},null,null,{"$f":"CHOOSE(WEEKDAY(A4,2),norm!C$1,norm!C$2,norm!C$3,norm!C$4,norm!C$5,norm!C$6,norm!C$7)","v":"09:00:00"},null,null,{"$f":"IF(D4=\"\",\"\",HOUR(D4))","v":7},{"$f":"IF(D4=\"\",\"\",MINUTE(D4))","v":0},{"$f":"IF(D4=\"\",\"\",TIME(HOUR(D4),MINUTE(D4),0))","v":"07:00:00"},{"$f":"IF(E4=\"\",\"\",HOUR(E4))","v":16},{"$f":"IF(E4=\"\",\"\",MINUTE(E4))","v":0},"02:00:00","09:30:00","11:30:00",null,null,null,{"$f":"MIN(G4-S4,3)","v":-2.083333333333337E-2}]
[{"$f":"A4+1","v":"2019-04-02"},{"$f":"PROPER(TEXT(A5,\"ddd\"))","v":"Ti"},{"$f":"HelligdagsNavn(A5,0,0)","v":""},"13:45:00","21:30:00","00:30:00",{"$f":"IF(D5=\"\",\"\",(E5-D5)+(D5>E5)-F5)","v":0.30208333333333343},{"$f":"IF(G5=\"\",0,IF(WEEKDAY(A5,2)=7,0,IF(G5>S5,MIN(G5-S5,$AI$1),0)))","v":"00:00:00"},{"$f":"IF(G5=\"\",\"\",IF(G5>S5+H5,G5-(S5+H5),\"\"))","v":""},{"$f":"ColTime(T.!$J$3,T.!$L$3,D5,E5)","v":"03:30:00"},null,{"$f":"ColTime(TIME(T.!$J$4,0,0),TIME(T.!$L$4,0,0),D5,E5)","v":"00:00:00"},null,"","",{"$f":"IFERROR(H5+I5,\"\")","v":""},null,null,{"$f":"CHOOSE(WEEKDAY(A5,2),norm!C$1,norm!C$2,norm!C$3,norm!C$4,norm!C$5,norm!C$6,norm!C$7)","v":"09:00:00"},null,null,13,45,"13:45:00",21,30,{"$f":"IF(E5=\"\",\"\",TIME(HOUR(E5),MINUTE(E5),0))","v":"21:30:00"},null,null,null,null,null,null,"Der taste kun i de Gule celler"]
[{"$f":"A5+1","v":"2019-04-03"},{"$f":"PROPER(TEXT(A6,\"ddd\"))","v":"On"},"","22:00:00","05:45:00","00:30:00",0.30208333333333343,"00:00:00","",{"$f":"ColTime(T.!$J$3,T.!$L$3,D6,E6)","v":"01:00:00"},null,{"$f":"ColTime(TIME(T.!$J$4,0,0),TIME(T.!$L$4,0,0),D6,E6)","v":"06:45:00"},null,"","",{"$f":"IFERROR(H6+I6,\"\")","v":""},null,null,{"$f":"CHOOSE(WEEKDAY(A6,2),norm!C$1,norm!C$2,norm!C$3,norm!C$4,norm!C$5,norm!C$6,norm!C$7)","v":"09:00:00"},null,null,22,0,"22:00:00",5,45,"05:45:00"]
["2019-04-04","To","","05:00:00","16:45:00","00:30:00",0.46874999999999994,"02:15:00","",{"$f":"ColTime(T.!$J$3,T.!$L$3,D7,E7)","v":"00:00:00"},null,{"$f":"ColTime(TIME(T.!$J$4,0,0),TIME(T.!$L$4,0,0),D7,E7)","v":"01:00:00"},null,"","",{"$f":"IFERROR(H7+I7,\"\")","v":""},null,null,{"$f":"CHOOSE(WEEKDAY(A7,2),norm!C$1,norm!C$2,norm!C$3,norm!C$4,norm!C$5,norm!C$6,norm!C$7)","v":"09:00:00"},null,null,5,0,"05:00:00",16,45,"16:45:00"]
["2019-04-05","Fr","",null,null,null,"","00:00:00","",{"$f":"ColTime(T.!$J$3,T.!$L$3,D8,E8)","v":"00:00:00"},null,{"$f":"ColTime(TIME(T.!$J$4,0,0),TIME(T.!$L$4,0,0),D8,E8)","v":"00:00:00"},null,"","",{"$f":"IFERROR(H8+I8,\"\")","v":""},null,null,{"$f":"CHOOSE(WEEKDAY(A8,2),norm!C$1,norm!C$2,norm!C$3,norm!C$4,norm!C$5,norm!C$6,norm!C$7)","v":"09:00:00"},null,null,"","","","","",""]
["2019-04-06","Lø","","06:00:00","19:00:00","00:30:00",0.52083333333333326,"03:00:00","00:30:00",{"$f":"ColTime(T.!$J$3,T.!$L$3,D9,E9)","v":"01:00:00"},null,{"$f":"ColTime(TIME(T.!$J$4,0,0),TIME(T.!$L$4,0,0),D9,E9)","v":"00:00:00"},null,"05:00:00",{"$f":"IF(OR(C9<>\"\",WEEKDAY(A9,2)=7),ColTime(TIME(0,0,0),TIME(24,0,0),D9,E9),\"\")","v":""},{"$f":"IFERROR(H9+I9,\"\")","v":"03:30:00"},null,null,{"$f":"CHOOSE(WEEKDAY(A9,2),norm!C$1,norm!C$2,norm!C$3,norm!C$4,norm!C$5,norm!C$6,norm!C$7)","v":"09:00:00"},null,null,6,0,"06:00:00",19,0,"19:00:00"]
["2019-04-07","Sø","","07:00:00","19:00:00",null,0.49999999999999994,"00:00:00","03:00:00",{"$f":"ColTime(T.!$J$3,T.!$L$3,D10,E10)","v":"01:00:00"},null,{"$f":"ColTime(TIME(T.!$J$4,0,0),TIME(T.!$L$4,0,0),D10,E10)","v":"00:00:00"},null,{"$f":"IF(WEEKDAY(A10,2)=6,ColTime(TIME(14,0,0),TIME(24,0,0),D10,E10),\"\")","v":""},{"$f":"IF(OR(C10<>\"\",WEEKDAY(A10,2)=7),ColTime(TIME(0,0,0),TIME(24,0,0),D10,E10),\"\")","v":"12:00:00"},"03:00:00",null,null,{"$f":"CHOOSE(WEEKDAY(A10,2),norm!C$1,norm!C$2,norm!C$3,norm!C$4,norm!C$5,norm!C$6,norm!C$7)","v":"09:00:00"},null,null,7,0,"07:00:00",19,0,"19:00:00"]
[{"$f":"A10+1","v":"2019-04-08"},{"$f":"PROPER(TEXT(A11,\"ddd\"))","v":"Ma"},{"$f":"HelligdagsNavn(A11,0,0)","v":""},null,null,null,"","00:00:00","",{"$f":"ColTime(T.!$J$3,T.!$L$3,D11,E11)","v":"00:00:00"},null,{"$f":"ColTime(TIME(T.!$J$4,0,0),TIME(T.!$L$4,0,0),D11,E11)","v":"00:00:00"},null,{"$f":"IF(WEEKDAY(A11,2)=6,ColTime(TIME(15,0,0),TIME(24,0,0),D11,E11),\"\")","v":""},"","",null,null,{"$f":"CHOOSE(WEEKDAY(A11,2),norm!C$1,norm!C$2,norm!C$3,norm!C$4,norm!C$5,norm!C$6,norm!C$7)","v":"09:00:00"},null,null,"","","","","",""]
[{"$f":"A11+1","v":"2019-04-09"},{"$f":"PROPER(TEXT(A12,\"ddd\"))","v":"Ti"},{"$f":"HelligdagsNavn(A12,0,0)","v":""},null,null,null,"","00:00:00","",{"$f":"ColTime(T.!$J$3,T.!$L$3,D12,E12)","v":"00:00:00"},null,{"$f":"ColTime(TIME(T.!$J$4,0,0),TIME(T.!$L$4,0,0),D12,E12)","v":"00:00:00"},null,"","","",null,null,{"$f":"CHOOSE(WEEKDAY(A12,2),norm!C$1,norm!C$2,norm!C$3,norm!C$4,norm!C$5,norm!C$6,norm!C$7)","v":"09:00:00"},null,null,"","","","","",""]
[{"$f":"A12+1","v":"2019-04-10"},{"$f":"PROPER(TEXT(A13,\"ddd\"))","v":"On"},"",null,null,null,"","00:00:00","",{"$f":"ColTime(T.!$J$3,T.!$L$3,D13,E13)","v":"00:00:00"},null,{"$f":"ColTime(TIME(T.!$J$4,0,0),TIME(T.!$L$4,0,0),D13,E13)","v":"00:00:00"},null,"","","",null,null,{"$f":"CHOOSE(WEEKDAY(A13,2),norm!C$1,norm!C$2,norm!C$3,norm!C$4,norm!C$5,norm!C$6,norm!C$7)","v":"09:00:00"},null,null,"","","","","",""]
["2019-04-11","To","",null,null,null,"","00:00:00","",{"$f":"ColTime(T.!$J$3,T.!$L$3,D14,E14)","v":"00:00:00"},null,{"$f":"ColTime(TIME(T.!$J$4,0,0),TIME(T.!$L$4,0,0),D14,E14)","v":"00:00:00"},null,"","","",null,null,{"$f":"CHOOSE(WEEKDAY(A14,2),norm!C$1,norm!C$2,norm!C$3,norm!C$4,norm!C$5,norm!C$6,norm!C$7)","v":"09:00:00"},null,null,"","","","","",""]
["2019-04-12","Fr","",null,null,null,"","00:00:00","",{"$f":"ColTime(T.!$J$3,T.!$L$3,D15,E15)","v":"00:00:00"},null,{"$f":"ColTime(TIME(T.!$J$4,0,0),TIME(T.!$L$4,0,0),D15,E15)","v":"00:00:00"},null,"","","",null,null,{"$f":"CHOOSE(WEEKDAY(A15,2),norm!C$1,norm!C$2,norm!C$3,norm!C$4,norm!C$5,norm!C$6,norm!C$7)","v":"09:00:00"},null,null,"","","",null,"",""]
["2019-04-13","Lø","",null,null,null,"","00:00:00","",{"$f":"ColTime(T.!$J$3,T.!$L$3,D16,E16)","v":"00:00:00"},null,{"$f":"ColTime(TIME(T.!$J$4,0,0),TIME(T.!$L$4,0,0),D16,E16)","v":"00:00:00"},null,"00:00:00","","",null,null,{"$f":"CHOOSE(WEEKDAY(A16,2),norm!C$1,norm!C$2,norm!C$3,norm!C$4,norm!C$5,norm!C$6,norm!C$7)","v":"09:00:00"},null,null,"","","","","",""]
["2019-04-14","Sø","",null,null,null,"","00:00:00","",{"$f":"ColTime(T.!$J$3,T.!$L$3,D17,E17)","v":"00:00:00"},null,{"$f":"ColTime(TIME(T.!$J$4,0,0),TIME(T.!$L$4,0,0),D17,E17)","v":"00:00:00"},null,"","00:00:00","",null,null,{"$f":"CHOOSE(WEEKDAY(A17,2),norm!C$1,norm!C$2,norm!C$3,norm!C$4,norm!C$5,norm!C$6,norm!C$7)","v":"09:00:00"},null,null,"","","","","",""]
[{"$f":"A17+1","v":"2019-04-15"},{"$f":"PROPER(TEXT(A18,\"ddd\"))","v":"Ma"},{"$f":"HelligdagsNavn(A18,0,0)","v":""},null,null,null,"","00:00:00","",{"$f":"ColTime(T.!$J$3,T.!$L$3,D18,E18)","v":"00:00:00"},null,{"$f":"ColTime(TIME(T.!$J$4,0,0),TIME(T.!$L$4,0,0),D18,E18)","v":"00:00:00"},null,"","","",null,null,{"$f":"CHOOSE(WEEKDAY(A18,2),norm!C$1,norm!C$2,norm!C$3,norm!C$4,norm!C$5,norm!C$6,norm!C$7)","v":"09:00:00"},null,null,"","","","","",""]
[{"$f":"A18+1","v":"2019-04-16"},{"$f":"PROPER(TEXT(A19,\"ddd\"))","v":"Ti"},{"$f":"HelligdagsNavn(A19,0,0)","v":""},null,null,null,"","00:00:00","",{"$f":"ColTime(T.!$J$3,T.!$L$3,D19,E19)","v":"00:00:00"},null,{"$f":"ColTime(TIME(T.!$J$4,0,0),TIME(T.!$L$4,0,0),D19,E19)","v":"00:00:00"},null,"","","",null,null,{"$f":"CHOOSE(WEEKDAY(A19,2),norm!C$1,norm!C$2,norm!C$3,norm!C$4,norm!C$5,norm!C$6,norm!C$7)","v":"09:00:00"},null,null,"","","","","",""]
[{"$f":"A19+1","v":"2019-04-17"},{"$f":"PROPER(TEXT(A20,\"ddd\"))","v":"On"},"",null,null,null,"","00:00:00","",{"$f":"ColTime(T.!$J$3,T.!$L$3,D20,E20)","v":"00:00:00"},null,{"$f":"ColTime(TIME(T.!$J$4,0,0),TIME(T.!$L$4,0,0),D20,E20)","v":"00:00:00"},null,"","","",null,null,{"$f":"CHOOSE(WEEKDAY(A20,2),norm!C$1,norm!C$2,norm!C$3,norm!C$4,norm!C$5,norm!C$6,norm!C$7)","v":"09:00:00"},null,null,"","","","","",""]
["2019-04-18","To","Skærtorsdag",null,null,null,"","00:00:00","",{"$f":"ColTime(T.!$J$3,T.!$L$3,D21,E21)","v":"00:00:00"},null,{"$f":"ColTime(TIME(T.!$J$4,0,0),TIME(T.!$L$4,0,0),D21,E21)","v":"00:00:00"},null,"","00:00:00","",null,null,{"$f":"CHOOSE(WEEKDAY(A21,2),norm!C$1,norm!C$2,norm!C$3,norm!C$4,norm!C$5,norm!C$6,norm!C$7)","v":"09:00:00"},null,null,"","","","","",""]
["2019-04-19","Fr","Langfredag",null,null,null,"","00:00:00","",{"$f":"ColTime(T.!$J$3,T.!$L$3,D22,E22)","v":"00:00:00"},null,{"$f":"ColTime(TIME(T.!$J$4,0,0),TIME(T.!$L$4,0,0),D22,E22)","v":"00:00:00"},null,"","00:00:00","",null,null,{"$f":"CHOOSE(WEEKDAY(A22,2),norm!C$1,norm!C$2,norm!C$3,norm!C$4,norm!C$5,norm!C$6,norm!C$7)","v":"09:00:00"},null,null,"","","","","",""]
["2019-04-20","Lø","",null,null,null,"","00:00:00","",{"$f":"ColTime(T.!$J$3,T.!$L$3,D23,E23)","v":"00:00:00"},null,{"$f":"ColTime(TIME(T.!$J$4,0,0),TIME(T.!$L$4,0,0),D23,E23)","v":"00:00:00"},null,"00:00:00","","",null,null,{"$f":"CHOOSE(WEEKDAY(A23,2),norm!C$1,norm!C$2,norm!C$3,norm!C$4,norm!C$5,norm!C$6,norm!C$7)","v":"09:00:00"},null,null,"","","","","",""]
["2019-04-21","Sø","Påskedag",null,null,null,"","00:00:00","",{"$f":"ColTime(T.!$J$3,T.!$L$3,D24,E24)","v":"00:00:00"},null,{"$f":"ColTime(TIME(T.!$J$4,0,0),TIME(T.!$L$4,0,0),D24,E24)","v":"00:00:00"},null,"","00:00:00","",null,null,{"$f":"CHOOSE(WEEKDAY(A24,2),norm!C$1,norm!C$2,norm!C$3,norm!C$4,norm!C$5,norm!C$6,norm!C$7)","v":"09:00:00"},null,null,"","","","","",""]
[{"$f":"A24+1","v":"2019-04-22"},{"$f":"PROPER(TEXT(A25,\"ddd\"))","v":"Ma"},{"$f":"HelligdagsNavn(A25,0,0)","v":"2. Påskedag"},null,null,null,"","00:00:00","",{"$f":"ColTime(T.!$J$3,T.!$L$3,D25,E25)","v":"00:00:00"},null,{"$f":"ColTime(TIME(T.!$J$4,0,0),TIME(T.!$L$4,0,0),D25,E25)","v":"00:00:00"},null,"","00:00:00","",null,null,{"$f":"CHOOSE(WEEKDAY(A25,2),norm!C$1,norm!C$2,norm!C$3,norm!C$4,norm!C$5,norm!C$6,norm!C$7)","v":"09:00:00"},null,null,"","","","","",""]
[{"$f":"A25+1","v":"2019-04-23"},{"$f":"PROPER(TEXT(A26,\"ddd\"))","v":"Ti"},{"$f":"HelligdagsNavn(A26,0,0)","v":""},null,null,null,"","00:00:00","",{"$f":"ColTime(T.!$J$3,T.!$L$3,D26,E26)","v":"00:00:00"},null,{"$f":"ColTime(TIME(T.!$J$4,0,0),TIME(T.!$L$4,0,0),D26,E26)","v":"00:00:00"},null,"","","",null,null,{"$f":"CHOOSE(WEEKDAY(A26,2),norm!C$1,norm!C$2,norm!C$3,norm!C$4,norm!C$5,norm!C$6,norm!C$7)","v":"09:00:00"},null,null,"","","","","",""]
[{"$f":"A26+1","v":"2019-04-24"},{"$f":"PROPER(TEXT(A27,\"ddd\"))","v":"On"},"",null,null,null,"","00:00:00","",{"$f":"ColTime(T.!$J$3,T.!$L$3,D27,E27)","v":"00:00:00"},null,{"$f":"ColTime(TIME(T.!$J$4,0,0),TIME(T.!$L$4,0,0),D27,E27)","v":"00:00:00"},null,"","","",null,null,{"$f":"CHOOSE(WEEKDAY(A27,2),norm!C$1,norm!C$2,norm!C$3,norm!C$4,norm!C$5,norm!C$6,norm!C$7)","v":"09:00:00"},null,null,"","","","","",""]
["2019-04-25","To","",null,null,null,"","00:00:00","",{"$f":"ColTime(T.!$J$3,T.!$L$3,D28,E28)","v":"00:00:00"},null,{"$f":"ColTime(TIME(T.!$J$4,0,0),TIME(T.!$L$4,0,0),D28,E28)","v":"00:00:00"},null,"","","",null,null,{"$f":"CHOOSE(WEEKDAY(A28,2),norm!C$1,norm!C$2,norm!C$3,norm!C$4,norm!C$5,norm!C$6,norm!C$7)","v":"09:00:00"},null,null,"","","","","",""]
["2019-04-26","Fr","",null,null,null,"","00:00:00","",{"$f":"ColTime(T.!$J$3,T.!$L$3,D29,E29)","v":"00:00:00"},null,{"$f":"ColTime(TIME(T.!$J$4,0,0),TIME(T.!$L$4,0,0),D29,E29)","v":"00:00:00"},null,"","","",null,null,{"$f":"CHOOSE(WEEKDAY(A29,2),norm!C$1,norm!C$2,norm!C$3,norm!C$4,norm!C$5,norm!C$6,norm!C$7)","v":"09:00:00"}]
["2019-04-27","Lø","",null,null,null,"","00:00:00","",{"$f":"ColTime(T.!$J$3,T.!$L$3,D30,E30)","v":"00:00:00"},null,{"$f":"ColTime(TIME(T.!$J$4,0,0),TIME(T.!$L$4,0,0),D30,E30)","v":"00:00:00"},null,"00:00:00","","",null,null,{"$f":"CHOOSE(WEEKDAY(A30,2),norm!C$1,norm!C$2,norm!C$3,norm!C$4,norm!C$5,norm!C$6,norm!C$7)","v":"09:00:00"}]
["2019-04-28","Sø","",null,null,null,"","00:00:00","",{"$f":"ColTime(T.!$J$3,T.!$L$3,D31,E31)","v":"00:00:00"},null,{"$f":"ColTime(TIME(T.!$J$4,0,0),TIME(T.!$L$4,0,0),D31,E31)","v":"00:00:00"},null,"","00:00:00","",null,null,{"$f":"CHOOSE(WEEKDAY(A31,2),norm!C$1,norm!C$2,norm!C$3,norm!C$4,norm!C$5,norm!C$6,norm!C$7)","v":"09:00:00"}]
[{"$f":"IF(MONTH(A31+1)>MONTH(A31),\"\",A31+1)","v":"2019-04-29"},"Ma",{"$f":"IF(A32=\"\",\"\",HelligdagsNavn(A32,0,0))","v":""},null,null,null,"","00:00:00","",{"$f":"ColTime(T.!$J$3,T.!$L$3,D32,E32)","v":"00:00:00"},null,{"$f":"ColTime(TIME(T.!$J$4,0,0),TIME(T.!$L$4,0,0),D32,E32)","v":"00:00:00"},null,{"$f":"IFERROR(IF(WEEKDAY(A32,2)=6,ColTime(TIME(15,0,0),TIME(24,0,0),D32,E32),\"\"),\"\")","v":""},{"$f":"IFERROR(IF(OR(C32<>\"\",WEEKDAY(A32,2)=7),ColTime(TIME(0,0,0),TIME(24,0,0),D32,E32),\"\"),\"\")","v":""},"",null,null,{"$f":"IFERROR(CHOOSE(WEEKDAY(A32,2),norm!C$1,norm!C$2,norm!C$3,norm!C$4,norm!C$5,norm!C$6,norm!C$7),\"\")","v":"09:00:00"}]
[{"$f":"IFERROR(IF(MONTH(A32+1)>MONTH(A32),\"\",A32+1),\"\")","v":"2019-04-30"},"Ti","",null,null,null,"","00:00:00","",{"$f":"ColTime(T.!$J$3,T.!$L$3,D33,E33)","v":"00:00:00"},null,{"$f":"ColTime(TIME(T.!$J$4,0,0),TIME(T.!$L$4,0,0),D33,E33)","v":"00:00:00"},null,{"$f":"IFERROR(IF(WEEKDAY(A33,2)=6,ColTime(TIME(15,0,0),TIME(24,0,0),D33,E33),\"\"),\"\")","v":""},{"$f":"IFERROR(IF(OR(C33<>\"\",WEEKDAY(A33,2)=7),ColTime(TIME(0,0,0),TIME(24,0,0),D33,E33),\"\"),\"\")","v":""},"",null,null,{"$f":"IFERROR(CHOOSE(WEEKDAY(A33,2),norm!C$1,norm!C$2,norm!C$3,norm!C$4,norm!C$5,norm!C$6,norm!C$7),\"\")","v":"09:00:00"}]
[{"$f":"IFERROR(IF(MONTH(A33+1)>MONTH(A33),\"\",A33+1),\"\")","v":""},{"$f":"IFERROR(PROPER(TEXT(A34,\"ddd\")),\"\")","v":""},{"$f":"IF(A34=\"\",\"\",HelligdagsNavn(A34,0,0))","v":""},null,null,null,"","00:00:00","",{"$f":"ColTime(T.!$J$3,T.!$L$3,D34,E34)","v":"00:00:00"},null,{"$f":"ColTime(TIME(T.!$J$4,0,0),TIME(T.!$L$4,0,0),D34,E34)","v":"00:00:00"},null,{"$f":"IFERROR(IF(WEEKDAY(A34,2)=6,ColTime(TIME(15,0,0),TIME(24,0,0),D34,E34),\"\"),\"\")","v":""},"","",null,null,{"$f":"IFERROR(CHOOSE(WEEKDAY(A34,2),norm!C$1,norm!C$2,norm!C$3,norm!C$4,norm!C$5,norm!C$6,norm!C$7),\"\")","v":""},null,null,{"$f":"IF(D34=\"\",\"\",HOUR(D34))","v":""},{"$f":"IF(D34=\"\",\"\",MINUTE(D34))","v":""},{"$f":"IF(D34=\"\",\"\",TIME(HOUR(D34),MINUTE(D34),0))","v":""},{"$f":"IF(E34=\"\",\"\",HOUR(E34))","v":""},{"$f":"IF(E34=\"\",\"\",MINUTE(E34))","v":""},{"$f":"IF(E34=\"\",\"\",TIME(HOUR(E34),MINUTE(E34),0))","v":""}]
["Total timer",null,null,null,null,null,{"$f":"IF(SUM(G9:G34)<>\"0\",SUM(G4:G34),\"\")","v":2.4479166666666665},{"$f":"IF(SUM(H4:H34)<>\"0\",SUM(H4:H34),\"\")","v":0.21874999999999994},{"$f":"IF(SUM(I4:I34)<>\"0\",SUM(I4:I34),\"\")","v":0.1458333333333332},{"$f":"IF(SUM(J4:J34)<>\"0\",SUM(J4:J34),\"\")","v":0.27083333333333337},null,{"$f":"SUM(L4:M34)","v":"07:45:00"},null,{"$f":"IF(SUM(N4:N34)<>\"0\",SUM(N4:N34),\"\")","v":0.20833333333333326},{"$f":"IF(SUM(O4:O34)<>\"0\",SUM(O4:O34),\"\")","v":"12:00:00"},{"$f":"SUM(P4:P34)","v":0.2708333333333332},{"$f":"SUM(Q4:Q34)","v":0}]
["Timer 1/100",null,null,null,null,null,{"$f":"IF(G35<>\"\",ROUND(G35*24,2),\"\")","v":58.75},{"$f":"IF(H35<>\"\",ROUND(H35*24,2),\"\")","v":5.25},3.5,{"$f":"IF(J35<>\"\",ROUND(J35*24,2),\"\")","v":6.5},null,{"$f":"IF(L35<>\"\",ROUND(L35*24,2),\"\")","v":7.75},null,{"$f":"IF(N35<>\"\",ROUND(N35*24,2),\"\")","v":5},12,6.5,0]
["Satser",null,null,null,null,null,{"$f":"Satser!B7","v":107.35},{"$f":"Satser!B9","v":36.35},{"$f":"Satser!B12","v":58.1},{"$f":"Satser!B17","v":25.6},null,{"$f":"Satser!B18","v":34.200000000000003},null,{"$f":"Satser!B19","v":45.1},{"$f":"Satser!B20","v":50.6}]
[null,null,null,null,null,null,{"$f":"IF(G35<>\"\",G36*G37,\"\")","v":6306.8125},{"$f":"IF(H35<>\"\",H36*H37,\"\")","v":190.83750000000001},203.35,{"$f":"IF(J35<>\"\",J36*J37,\"\")","v":166.4},null,{"$f":"IF(L35<>\"\",L36*L36,\"\")","v":60.0625},null,{"$f":"IF(N35<>\"\",N36*N37,\"\")","v":225.5},607.20000000000005]
[]
["Lønart"]
[3025,null,null,null,null,null,{"$f":"G35","v":2.4479166666666665}]
[3425,null,null,null,null,null,{"$f":"H35","v":0.21874999999999994}]
[3428,null,null,null,null,null,{"$f":"I35","v":0.1458333333333332}]
["Timer",null,null,null,null,null,{"$f":"SUM(G41:G43)","v":2.8124999999999996},{"$f":"IF(G44<>\"\",ROUND(G44*24,2),\"\")","v":67.5}]
[null,null,null,null,null,null,null,{"$f":"G37*H44","v":7246.125}]

{"sheet":"Maj","index":5,"n_rows":45,"n_cols":35,"rows_kept":45,"cut":false,"hidden":true,"merged":[[4,9,4,10],[4,11,4,12],[0,1,0,7],[0,10,0,11],[0,13,0,14],[1,1,1,2],[1,9,1,10],[1,11,1,12],[2,1,2,2],[2,9,2,10],[2,11,2,12],[3,9,3,10],[3,11,3,12],[5,9,5,10],[5,11,5,12],[6,9,6,10],[6,11,6,12],[7,9,7,10],[7,11,7,12],[8,9,8,10],[8,11,8,12],[9,9,9,10],[9,11,9,12],[10,9,10,10],[10,11,10,12],[11,9,11,10],[11,11,11,12],[12,9,12,10],[12,11,12,12],[13,9,13,10],[13,11,13,12],[14,9,14,10],[14,11,14,12],[15,9,15,10],[15,11,15,12],[16,9,16,10],[16,11,16,12],[17,9,17,10],[17,11,17,12],[18,9,18,10],[18,11,18,12],[19,9,19,10],[19,11,19,12],[20,9,20,10],[20,11,20,12],[21,9,21,10],[21,11,21,12],[22,9,22,10],[22,11,22,12],[23,9,23,10],[23,11,23,12],[24,9,24,10],[24,11,24,12],[25,9,25,10],[25,11,25,12],[26,9,26,10],[26,11,26,12],[27,9,27,10],[27,11,27,12],[28,9,28,10],[28,11,28,12],[29,9,29,10],[29,11,29,12],[30,9,30,10],[30,11,30,12],[31,9,31,10],[31,11,31,12],[32,9,32,10],[32,11,32,12],[33,9,33,10],[33,11,33,12],[34,9,34,10],[34,11,34,12],[35,9,35,10],[35,11,35,12],[36,9,36,10],[36,11,36,12],[37,9,37,10],[37,11,37,12],[39,0,39,2],[40,0,40,2],[41,0,41,2],[42,0,42,2],[43,0,43,5]]}
["Løn",{"$f":"PROPER(TEXT(A4,\"dd mmmm åååå\")) & PROPER(TEXT(N1,\"  -  dd mmmm åååå\"))","v":"01 Maj 2019  -  31 Maj 2019"},null,null,null,null,null,null,"Uge :",{"$f":"IF(A4=\"\",\"\",TRUNC((A4-WEEKDAY(A4,2)-DATE(YEAR(A4+4-WEEKDAY(A4,2)),1,-10))/7))","v":18},"-",null,{"$f":"IF(A25=\"\",\"\",TRUNC((A25-WEEKDAY(A25,2)-DATE(YEAR(A25+4-WEEKDAY(A25,2)),1,-10))/7))","v":21},{"$f":"EOMONTH(A4,0)","v":"2019-05-31"},null,5,null,null,null,null,null,"Time beregning:",null,null,null,null,null,null,null,null,null,null,"06:00:00","18:00:00","03:00:00"]
["Lønart",null,null,null,null,null,null,null,null,null,null,null,null,null,null,null,null,null,null,null,null,"Betalt pause ved vagt over 5 timer",null,null,null,"00:25:00","minutter","00:00:00","06:00:00","17:00:00","14:00:00"]
["Dato","Dag",null,"Start","Slut","Pause","Arb. Tid","Overtid           1-3 time","Overtid            4 - time","Forskudt tid alle dage\n18-23",null,"Natarbejde 23-06",null,"Lørdag tillæg 14 - 24","Søndag tillæg 00 - 24","Optjent afspadsering","Afholdt afspadsering","Syge Timer","norm"]
[{"$f":"DATE(T.!$B$1,$P$1,1)","v":"2019-05-01"},{"$f":"PROPER(TEXT(A4,\"ddd\"))","v":"On"},{"$f":"HelligdagsNavn(A4,0,0)","v":""},"07:00:00","16:00:00","00:30:00",{"$f":"IF(D4=\"\",\"\",(E4-D4)+(D4>E4)-F4)","v":0.35416666666666663},{"$f":"IF(G4=\"\",0,IF(WEEKDAY(A4,2)=7,0,IF(G4>S4,MIN(G4-S4,$AI$1),0)))","v":"00:00:00"},{"$f":"IF(G4=\"\",\"\",IF(G4>S4+H4,G4-(S4+H4),\"\"))","v":""},{"$f":"ColTime(T.!$J$3,T.!$L$3,D4,E4)","v":"00:00:00"},null,{"$f":"ColTime(TIME(T.!$J$4,0,0),TIME(T.!$L$4,0,0),D4,E4)","v":"00:00:00"},null,{"$f":"IF(WEEKDAY(A4,2)=6,ColTime(TIME(14,0,0),TIME(24,0,0),D4,E4),\"\")","v":""},{"$f":"IF(OR(C4<>\"\",WEEKDAY(A4,2)=7),ColTime(TIME(0,0,0),TIME(24,0,0),D4,E4),\"\")","v":""},{"$f":"IFERROR(H4+I4,\"\")","v":""},null,null,{"$f":"CHOOSE(WEEKDAY(A4,2),norm!C$1,norm!C$2,norm!C$3,norm!C$4,norm!C$5,norm!C$6,norm!C$7)","v":"09:00:00"},null,null,{"$f":"IF(D4=\"\",\"\",HOUR(D4))","v":7},{"$f":"IF(D4=\"\",\"\",MINUTE(D4))","v":0},{"$f":"IF(D4=\"\",\"\",TIME(HOUR(D4),MINUTE(D4),0))","v":"07:00:00"},{"$f":"IF(E4=\"\",\"\",HOUR(E4))","v":16},{"$f":"IF(E4=\"\",\"\",MINUTE(E4))","v":0},"02:00:00","09:30:00","11:30:00",null,null,null,{"$f":"MIN(G4-S4,3)","v":-2.083333333333337E-2}]
[{"$f":"A4+1","v":"2019-05-02"},{"$f":"PROPER(TEXT(A5,\"ddd\"))","v":"To"},{"$f":"HelligdagsNavn(A5,0,0)","v":""},"13:45:00","21:30:00","00:30:00",{"$f":"IF(D5=\"\",\"\",(E5-D5)+(D5>E5)-F5)","v":0.30208333333333343},{"$f":"IF(G5=\"\",0,IF(WEEKDAY(A5,2)=7,0,IF(G5>S5,MIN(G5-S5,$AI$1),0)))","v":"00:00:00"},{"$f":"IF(G5=\"\",\"\",IF(G5>S5+H5,G5-(S5+H5),\"\"))","v":""},{"$f":"ColTime(T.!$J$3,T.!$L$3,D5,E5)","v":"03:30:00"},null,{"$f":"ColTime(TIME(T.!$J$4,0,0),TIME(T.!$L$4,0,0),D5,E5)","v":"00:00:00"},null,"","",{"$f":"IFERROR(H5+I5,\"\")","v":""},null,null,{"$f":"CHOOSE(WEEKDAY(A5,2),norm!C$1,norm!C$2,norm!C$3,norm!C$4,norm!C$5,norm!C$6,norm!C$7)","v":"09:00:00"},null,null,13,45,"13:45:00",21,30,{"$f":"IF(E5=\"\",\"\",TIME(HOUR(E5),MINUTE(E5),0))","v":"21:30:00"},null,null,null,null,null,null,"Der taste kun i de Gule celler"]
[{"$f":"A5+1","v":"2019-05-03"},{"$f":"PROPER(TEXT(A6,\"ddd\"))","v":"Fr"},"","22:00:00","05:45:00","00:30:00",0.30208333333333343,"00:00:00","",{"$f":"ColTime(T.!$J$3,T.!$L$3,D6,E6)","v":"01:00:00"},null,{"$f":"ColTime(TIME(T.!$J$4,0,0),TIME(T.!$L$4,0,0),D6,E6)","v":"06:45:00"},null,"","",{"$f":"IFERROR(H6+I6,\"\")","v":""},null,null,{"$f":"CHOOSE(WEEKDAY(A6,2),norm!C$1,norm!C$2,norm!C$3,norm!C$4,norm!C$5,norm!C$6,norm!C$7)","v":"09:00:00"},null,null,22,0,"22:00:00",5,45,"05:45:00"]
["2019-05-04","Lø","","05:00:00","16:45:00","00:30:00",0.46874999999999994,"02:15:00","",{"$f":"ColTime(T.!$J$3,T.!$L$3,D7,E7)","v":"00:00:00"},null,{"$f":"ColTime(TIME(T.!$J$4,0,0),TIME(T.!$L$4,0,0),D7,E7)","v":"01:00:00"},null,"02:45:00","",{"$f":"IFERROR(H7+I7,\"\")","v":""},null,null,{"$f":"CHOOSE(WEEKDAY(A7,2),norm!C$1,norm!C$2,norm!C$3,norm!C$4,norm!C$5,norm!C$6,norm!C$7)","v":"09:00:00"},null,null,5,0,"05:00:00",16,45,"16:45:00"]
["2019-05-05","Sø","",null,null,null,"","00:00:00","",{"$f":"ColTime(T.!$J$3,T.!$L$3,D8,E8)","v":"00:00:00"},null,{"$f":"ColTime(TIME(T.!$J$4,0,0),TIME(T.!$L$4,0,0),D8,E8)","v":"00:00:00"},null,"","00:00:00",{"$f":"IFERROR(H8+I8,\"\")","v":""},null,null,{"$f":"CHOOSE(WEEKDAY(A8,2),norm!C$1,norm!C$2,norm!C$3,norm!C$4,norm!C$5,norm!C$6,norm!C$7)","v":"09:00:00"},null,null,"","","","","",""]
["2019-05-06","Ma","","06:00:00","19:00:00","00:30:00",0.52083333333333326,"03:00:00","00:30:00",{"$f":"ColTime(T.!$J$3,T.!$L$3,D9,E9)","v":"01:00:00"},null,{"$f":"ColTime(TIME(T.!$J$4,0,0),TIME(T.!$L$4,0,0),D9,E9)","v":"00:00:00"},null,"",{"$f":"IF(OR(C9<>\"\",WEEKDAY(A9,2)=7),ColTime(TIME(0,0,0),TIME(24,0,0),D9,E9),\"\")","v":""},{"$f":"IFERROR(H9+I9,\"\")","v":"03:30:00"},null,null,{"$f":"CHOOSE(WEEKDAY(A9,2),norm!C$1,norm!C$2,norm!C$3,norm!C$4,norm!C$5,norm!C$6,norm!C$7)","v":"09:00:00"},null,null,6,0,"06:00:00",19,0,"19:00:00"]
["2019-05-07","Ti","","07:00:00","19:00:00",null,0.49999999999999994,"03:00:00","",{"$f":"ColTime(T.!$J$3,T.!$L$3,D10,E10)","v":"01:00:00"},null,{"$f":"ColTime(TIME(T.!$J$4,0,0),TIME(T.!$L$4,0,0),D10,E10)","v":"00:00:00"},null,{"$f":"IF(WEEKDAY(A10,2)=6,ColTime(TIME(14,0,0),TIME(24,0,0),D10,E10),\"\")","v":""},{"$f":"IF(OR(C10<>\"\",WEEKDAY(A10,2)=7),ColTime(TIME(0,0,0),TIME(24,0,0),D10,E10),\"\")","v":""},"",null,null,{"$f":"CHOOSE(WEEKDAY(A10,2),norm!C$1,norm!C$2,norm!C$3,norm!C$4,norm!C$5,norm!C$6,norm!C$7)","v":"09:00:00"},null,null,7,0,"07:00:00",19,0,"19:00:00"]
[{"$f":"A10+1","v":"2019-05-08"},{"$f":"PROPER(TEXT(A11,\"ddd\"))","v":"On"},{"$f":"HelligdagsNavn(A11,0,0)","v":""},null,null,null,"","00:00:00","",{"$f":"ColTime(T.!$J$3,T.!$L$3,D11,E11)","v":"00:00:00"},null,{"$f":"ColTime(TIME(T.!$J$4,0,0),TIME(T.!$L$4,0,0),D11,E11)","v":"00:00:00"},null,{"$f":"IF(WEEKDAY(A11,2)=6,ColTime(TIME(15,0,0),TIME(24,0,0),D11,E11),\"\")","v":""},"","",null,null,{"$f":"CHOOSE(WEEKDAY(A11,2),norm!C$1,norm!C$2,norm!C$3,norm!C$4,norm!C$5,norm!C$6,norm!C$7)","v":"09:00:00"},null,null,"","","","","",""]
[{"$f":"A11+1","v":"2019-05-09"},{"$f":"PROPER(TEXT(A12,\"ddd\"))","v":"To"},{"$f":"HelligdagsNavn(A12,0,0)","v":""},null,null,null,"","00:00:00","",{"$f":"ColTime(T.!$J$3,T.!$L$3,D12,E12)","v":"00:00:00"},null,{"$f":"ColTime(TIME(T.!$J$4,0,0),TIME(T.!$L$4,0,0),D12,E12)","v":"00:00:00"},null,"","","",null,null,{"$f":"CHOOSE(WEEKDAY(A12,2),norm!C$1,norm!C$2,norm!C$3,norm!C$4,norm!C$5,norm!C$6,norm!C$7)","v":"09:00:00"},null,null,"","","","","",""]
[{"$f":"A12+1","v":"2019-05-10"},{"$f":"PROPER(TEXT(A13,\"ddd\"))","v":"Fr"},"",null,null,null,"","00:00:00","",{"$f":"ColTime(T.!$J$3,T.!$L$3,D13,E13)","v":"00:00:00"},null,{"$f":"ColTime(TIME(T.!$J$4,0,0),TIME(T.!$L$4,0,0),D13,E13)","v":"00:00:00"},null,"","","",null,null,{"$f":"CHOOSE(WEEKDAY(A13,2),norm!C$1,norm!C$2,norm!C$3,norm!C$4,norm!C$5,norm!C$6,norm!C$7)","v":"09:00:00"},null,null,"","","","","",""]
["2019-05-11","Lø","",null,null,null,"","00:00:00","",{"$f":"ColTime(T.!$J$3,T.!$L$3,D14,E14)","v":"00:00:00"},null,{"$f":"ColTime(TIME(T.!$J$4,0,0),TIME(T.!$L$4,0,0),D14,E14)","v":"00:00:00"},null,"00:00:00","","",null,null,{"$f":"CHOOSE(WEEKDAY(A14,2),norm!C$1,norm!C$2,norm!C$3,norm!C$4,norm!C$5,norm!C$6,norm!C$7)","v":"09:00:00"},null,null,"","","","","",""]
["2019-05-12","Sø","",null,null,null,"","00:00:00","",{"$f":"ColTime(T.!$J$3,T.!$L$3,D15,E15)","v":"00:00:00"},null,{"$f":"ColTime(TIME(T.!$J$4,0,0),TIME(T.!$L$4,0,0),D15,E15)","v":"00:00:00"},null,"","00:00:00","",null,null,{"$f":"CHOOSE(WEEKDAY(A15,2),norm!C$1,norm!C$2,norm!C$3,norm!C$4,norm!C$5,norm!C$6,norm!C$7)","v":"09:00:00"},null,null,"","","",null,"",""]
["2019-05-13","Ma","",null,null,null,"","00:00:00","",{"$f":"ColTime(T.!$J$3,T.!$L$3,D16,E16)","v":"00:00:00"},null,{"$f":"ColTime(TIME(T.!$J$4,0,0),TIME(T.!$L$4,0,0),D16,E16)","v":"00:00:00"},null,"","","",null,null,{"$f":"CHOOSE(WEEKDAY(A16,2),norm!C$1,norm!C$2,norm!C$3,norm!C$4,norm!C$5,norm!C$6,norm!C$7)","v":"09:00:00"},null,null,"","","","","",""]
["2019-05-14","Ti","",null,null,null,"","00:00:00","",{"$f":"ColTime(T.!$J$3,T.!$L$3,D17,E17)","v":"00:00:00"},null,{"$f":"ColTime(TIME(T.!$J$4,0,0),TIME(T.!$L$4,0,0),D17,E17)","v":"00:00:00"},null,"","","",null,null,{"$f":"CHOOSE(WEEKDAY(A17,2),norm!C$1,norm!C$2,norm!C$3,norm!C$4,norm!C$5,norm!C$6,norm!C$7)","v":"09:00:00"},null,null,"","","","","",""]
[{"$f":"A17+1","v":"2019-05-15"},{"$f":"PROPER(TEXT(A18,\"ddd\"))","v":"On"},{"$f":"HelligdagsNavn(A18,0,0)","v":""},null,null,null,"","00:00:00","",{"$f":"ColTime(T.!$J$3,T.!$L$3,D18,E18)","v":"00:00:00"},null,{"$f":"ColTime(TIME(T.!$J$4,0,0),TIME(T.!$L$4,0,0),D18,E18)","v":"00:00:00"},null,"","","",null,null,{"$f":"CHOOSE(WEEKDAY(A18,2),norm!C$1,norm!C$2,norm!C$3,norm!C$4,norm!C$5,norm!C$6,norm!C$7)","v":"09:00:00"},null,null,"","","","","",""]
[{"$f":"A18+1","v":"2019-05-16"},{"$f":"PROPER(TEXT(A19,\"ddd\"))","v":"To"},{"$f":"HelligdagsNavn(A19,0,0)","v":""},null,null,null,"","00:00:00","",{"$f":"ColTime(T.!$J$3,T.!$L$3,D19,E19)","v":"00:00:00"},null,{"$f":"ColTime(TIME(T.!$J$4,0,0),TIME(T.!$L$4,0,0),D19,E19)","v":"00:00:00"},null,"","","",null,null,{"$f":"CHOOSE(WEEKDAY(A19,2),norm!C$1,norm!C$2,norm!C$3,norm!C$4,norm!C$5,norm!C$6,norm!C$7)","v":"09:00:00"},null,null,"","","","","",""]
[{"$f":"A19+1","v":"2019-05-17"},{"$f":"PROPER(TEXT(A20,\"ddd\"))","v":"Fr"},"Store Bededag",null,null,null,"","00:00:00","",{"$f":"ColTime(T.!$J$3,T.!$L$3,D20,E20)","v":"00:00:00"},null,{"$f":"ColTime(TIME(T.!$J$4,0,0),TIME(T.!$L$4,0,0),D20,E20)","v":"00:00:00"},null,"","00:00:00","",null,null,{"$f":"CHOOSE(WEEKDAY(A20,2),norm!C$1,norm!C$2,norm!C$3,norm!C$4,norm!C$5,norm!C$6,norm!C$7)","v":"09:00:00"},null,null,"","","","","",""]
["2019-05-18","Lø","",null,null,null,"","00:00:00","",{"$f":"ColTime(T.!$J$3,T.!$L$3,D21,E21)","v":"00:00:00"},null,{"$f":"ColTime(TIME(T.!$J$4,0,0),TIME(T.!$L$4,0,0),D21,E21)","v":"00:00:00"},null,"00:00:00","","",null,null,{"$f":"CHOOSE(WEEKDAY(A21,2),norm!C$1,norm!C$2,norm!C$3,norm!C$4,norm!C$5,norm!C$6,norm!C$7)","v":"09:00:00"},null,null,"","","","","",""]
["2019-05-19","Sø","",null,null,null,"","00:00:00","",{"$f":"ColTime(T.!$J$3,T.!$L$3,D22,E22)","v":"00:00:00"},null,{"$f":"ColTime(TIME(T.!$J$4,0,0),TIME(T.!$L$4,0,0),D22,E22)","v":"00:00:00"},null,"","00:00:00","",null,null,{"$f":"CHOOSE(WEEKDAY(A22,2),norm!C$1,norm!C$2,norm!C$3,norm!C$4,norm!C$5,norm!C$6,norm!C$7)","v":"09:00:00"},null,null,"","","","","",""]
["2019-05-20","Ma","",null,null,null,"","00:00:00","",{"$f":"ColTime(T.!$J$3,T.!$L$3,D23,E23)","v":"00:00:00"},null,{"$f":"ColTime(TIME(T.!$J$4,0,0),TIME(T.!$L$4,0,0),D23,E23)","v":"00:00:00"},null,"","","",null,null,{"$f":"CHOOSE(WEEKDAY(A23,2),norm!C$1,norm!C$2,norm!C$3,norm!C$4,norm!C$5,norm!C$6,norm!C$7)","v":"09:00:00"},null,null,"","","","","",""]
["2019-05-21","Ti","",null,null,null,"","00:00:00","",{"$f":"ColTime(T.!$J$3,T.!$L$3,D24,E24)","v":"00:00:00"},null,{"$f":"ColTime(TIME(T.!$J$4,0,0),TIME(T.!$L$4,0,0),D24,E24)","v":"00:00:00"},null,"","","",null,null,{"$f":"CHOOSE(WEEKDAY(A24,2),norm!C$1,norm!C$2,norm!C$3,norm!C$4,norm!C$5,norm!C$6,norm!C$7)","v":"09:00:00"},null,null,"","","","","",""]
[{"$f":"A24+1","v":"2019-05-22"},{"$f":"PROPER(TEXT(A25,\"ddd\"))","v":"On"},{"$f":"HelligdagsNavn(A25,0,0)","v":""},null,null,null,"","00:00:00","",{"$f":"ColTime(T.!$J$3,T.!$L$3,D25,E25)","v":"00:00:00"},null,{"$f":"ColTime(TIME(T.!$J$4,0,0),TIME(T.!$L$4,0,0),D25,E25)","v":"00:00:00"},null,"","","",null,null,{"$f":"CHOOSE(WEEKDAY(A25,2),norm!C$1,norm!C$2,norm!C$3,norm!C$4,norm!C$5,norm!C$6,norm!C$7)","v":"09:00:00"},null,null,"","","","","",""]
[{"$f":"A25+1","v":"2019-05-23"},{"$f":"PROPER(TEXT(A26,\"ddd\"))","v":"To"},{"$f":"HelligdagsNavn(A26,0,0)","v":""},null,null,null,"","00:00:00","",{"$f":"ColTime(T.!$J$3,T.!$L$3,D26,E26)","v":"00:00:00"},null,{"$f":"ColTime(TIME(T.!$J$4,0,0),TIME(T.!$L$4,0,0),D26,E26)","v":"00:00:00"},null,"","","",null,null,{"$f":"CHOOSE(WEEKDAY(A26,2),norm!C$1,norm!C$2,norm!C$3,norm!C$4,norm!C$5,norm!C$6,norm!C$7)","v":"09:00:00"},null,null,"","","","","",""]
[{"$f":"A26+1","v":"2019-05-24"},{"$f":"PROPER(TEXT(A27,\"ddd\"))","v":"Fr"},"",null,null,null,"","00:00:00","",{"$f":"ColTime(T.!$J$3,T.!$L$3,D27,E27)","v":"00:00:00"},null,{"$f":"ColTime(TIME(T.!$J$4,0,0),TIME(T.!$L$4,0,0),D27,E27)","v":"00:00:00"},null,"","","",null,null,{"$f":"CHOOSE(WEEKDAY(A27,2),norm!C$1,norm!C$2,norm!C$3,norm!C$4,norm!C$5,norm!C$6,norm!C$7)","v":"09:00:00"},null,null,"","","","","",""]
["2019-05-25","Lø","",null,null,null,"","00:00:00","",{"$f":"ColTime(T.!$J$3,T.!$L$3,D28,E28)","v":"00:00:00"},null,{"$f":"ColTime(TIME(T.!$J$4,0,0),TIME(T.!$L$4,0,0),D28,E28)","v":"00:00:00"},null,"00:00:00","","",null,null,{"$f":"CHOOSE(WEEKDAY(A28,2),norm!C$1,norm!C$2,norm!C$3,norm!C$4,norm!C$5,norm!C$6,norm!C$7)","v":"09:00:00"},null,null,"","","","","",""]
["2019-05-26","Sø","",null,null,null,"","00:00:00","",{"$f":"ColTime(T.!$J$3,T.!$L$3,D29,E29)","v":"00:00:00"},null,{"$f":"ColTime(TIME(T.!$J$4,0,0),TIME(T.!$L$4,0,0),D29,E29)","v":"00:00:00"},null,"","00:00:00","",null,null,{"$f":"CHOOSE(WEEKDAY(A29,2),norm!C$1,norm!C$2,norm!C$3,norm!C$4,norm!C$5,norm!C$6,norm!C$7)","v":"09:00:00"}]
["2019-05-27","Ma","",null,null,null,"","00:00:00","",{"$f":"ColTime(T.!$J$3,T.!$L$3,D30,E30)","v":"00:00:00"},null,{"$f":"ColTime(TIME(T.!$J$4,0,0),TIME(T.!$L$4,0,0),D30,E30)","v":"00:00:00"},null,"","","",null,null,{"$f":"CHOOSE(WEEKDAY(A30,2),norm!C$1,norm!C$2,norm!C$3,norm!C$4,norm!C$5,norm!C$6,norm!C$7)","v":"09:00:00"}]
["2019-05-28","Ti","",null,null,null,"","00:00:00","",{"$f":"ColTime(T.!$J$3,T.!$L$3,D31,E31)","v":"00:00:00"},null,{"$f":"ColTime(TIME(T.!$J$4,0,0),TIME(T.!$L$4,0,0),D31,E31)","v":"00:00:00"},null,"","","",null,null,{"$f":"CHOOSE(WEEKDAY(A31,2),norm!C$1,norm!C$2,norm!C$3,norm!C$4,norm!C$5,norm!C$6,norm!C$7)","v":"09:00:00"}]
[{"$f":"IF(MONTH(A31+1)>MONTH(A31),\"\",A31+1)","v":"2019-05-29"},"On",{"$f":"IF(A32=\"\",\"\",HelligdagsNavn(A32,0,0))","v":""},null,null,null,"","00:00:00","",{"$f":"ColTime(T.!$J$3,T.!$L$3,D32,E32)","v":"00:00:00"},null,{"$f":"ColTime(TIME(T.!$J$4,0,0),TIME(T.!$L$4,0,0),D32,E32)","v":"00:00:00"},null,{"$f":"IFERROR(IF(WEEKDAY(A32,2)=6,ColTime(TIME(15,0,0),TIME(24,0,0),D32,E32),\"\"),\"\")","v":""},{"$f":"IFERROR(IF(OR(C32<>\"\",WEEKDAY(A32,2)=7),ColTime(TIME(0,0,0),TIME(24,0,0),D32,E32),\"\"),\"\")","v":""},"",null,null,{"$f":"IFERROR(CHOOSE(WEEKDAY(A32,2),norm!C$1,norm!C$2,norm!C$3,norm!C$4,norm!C$5,norm!C$6,norm!C$7),\"\")","v":"09:00:00"}]
[{"$f":"IFERROR(IF(MONTH(A32+1)>MONTH(A32),\"\",A32+1),\"\")","v":"2019-05-30"},"To","Kristi Himmelfartsdag",null,null,null,"","00:00:00","",{"$f":"ColTime(T.!$J$3,T.!$L$3,D33,E33)","v":"00:00:00"},null,{"$f":"ColTime(TIME(T.!$J$4,0,0),TIME(T.!$L$4,0,0),D33,E33)","v":"00:00:00"},null,{"$f":"IFERROR(IF(WEEKDAY(A33,2)=6,ColTime(TIME(15,0,0),TIME(24,0,0),D33,E33),\"\"),\"\")","v":""},{"$f":"IFERROR(IF(OR(C33<>\"\",WEEKDAY(A33,2)=7),ColTime(TIME(0,0,0),TIME(24,0,0),D33,E33),\"\"),\"\")","v":"00:00:00"},"",null,null,{"$f":"IFERROR(CHOOSE(WEEKDAY(A33,2),norm!C$1,norm!C$2,norm!C$3,norm!C$4,norm!C$5,norm!C$6,norm!C$7),\"\")","v":"09:00:00"}]
[{"$f":"IFERROR(IF(MONTH(A33+1)>MONTH(A33),\"\",A33+1),\"\")","v":"2019-05-31"},{"$f":"IFERROR(PROPER(TEXT(A34,\"ddd\")),\"\")","v":"Fr"},{"$f":"IF(A34=\"\",\"\",HelligdagsNavn(A34,0,0))","v":""},null,null,null,"","00:00:00","",{"$f":"ColTime(T.!$J$3,T.!$L$3,D34,E34)","v":"00:00:00"},null,{"$f":"ColTime(TIME(T.!$J$4,0,0),TIME(T.!$L$4,0,0),D34,E34)","v":"00:00:00"},null,{"$f":"IFERROR(IF(WEEKDAY(A34,2)=6,ColTime(TIME(15,0,0),TIME(24,0,0),D34,E34),\"\"),\"\")","v":""},"","",null,null,{"$f":"IFERROR(CHOOSE(WEEKDAY(A34,2),norm!C$1,norm!C$2,norm!C$3,norm!C$4,norm!C$5,norm!C$6,norm!C$7),\"\")","v":"09:00:00"},null,null,{"$f":"IF(D34=\"\",\"\",HOUR(D34))","v":""},{"$f":"IF(D34=\"\",\"\",MINUTE(D34))","v":""},{"$f":"IF(D34=\"\",\"\",TIME(HOUR(D34),MINUTE(D34),0))","v":""},{"$f":"IF(E34=\"\",\"\",HOUR(E34))","v":""},{"$f":"IF(E34=\"\",\"\",MINUTE(E34))","v":""},{"$f":"IF(E34=\"\",\"\",TIME(HOUR(E34),MINUTE(E34),0))","v":""}]
["Total timer",null,null,null,null,null,{"$f":"IF(SUM(G9:G34)<>\"0\",SUM(G4:G34),\"\")","v":2.4479166666666665},{"$f":"IF(SUM(H4:H34)<>\"0\",SUM(H4:H34),\"\")","v":0.34374999999999989},{"$f":"IF(SUM(I4:I34)<>\"0\",SUM(I4:I34),\"\")","v":2.0833333333333259E-2},{"$f":"IF(SUM(J4:J34)<>\"0\",SUM(J4:J34),\"\")","v":0.27083333333333337},null,{"$f":"SUM(L4:M34)","v":"07:45:00"},null,{"$f":"IF(SUM(N4:N34)<>\"0\",SUM(N4:N34),\"\")","v":0.11458333333333326},{"$f":"IF(SUM(O4:O34)<>\"0\",SUM(O4:O34),\"\")","v":"00:00:00"},{"$f":"SUM(P4:P34)","v":0.14583333333333326},{"$f":"SUM(Q4:Q34)","v":0}]
["Timer 1/100",null,null,null,null,null,{"$f":"IF(G35<>\"\",ROUND(G35*24,2),\"\")","v":58.75},{"$f":"IF(H35<>\"\",ROUND(H35*24,2),\"\")","v":8.25},0.5,{"$f":"IF(J35<>\"\",ROUND(J35*24,2),\"\")","v":6.5},null,{"$f":"IF(L35<>\"\",ROUND(L35*24,2),\"\")","v":7.75},null,{"$f":"IF(N35<>\"\",ROUND(N35*24,2),\"\")","v":2.75},0,3.5,0]
["Satser",null,null,null,null,null,{"$f":"Satser!B7","v":107.35},{"$f":"Satser!B9","v":36.35},{"$f":"Satser!B12","v":58.1},{"$f":"Satser!B17","v":25.6},null,{"$f":"Satser!B18","v":34.200000000000003},null,{"$f":"Satser!B19","v":45.1},{"$f":"Satser!B20","v":50.6}]
[null,null,null,null,null,null,{"$f":"IF(G35<>\"\",G36*G37,\"\")","v":6306.8125},{"$f":"IF(H35<>\"\",H36*H37,\"\")","v":299.88749999999999},29.05,{"$f":"IF(J35<>\"\",J36*J37,\"\")","v":166.4},null,{"$f":"IF(L35<>\"\",L36*L36,\"\")","v":60.0625},null,{"$f":"IF(N35<>\"\",N36*N37,\"\")","v":124.02500000000001},0]
[]
["Lønart"]
[3025,null,null,null,null,null,{"$f":"G35","v":2.4479166666666665}]
[3425,null,null,null,null,null,{"$f":"H35","v":0.34374999999999989}]
[3428,null,null,null,null,null,{"$f":"I35","v":2.0833333333333259E-2}]
["Timer",null,null,null,null,null,{"$f":"SUM(G41:G43)","v":2.8125},{"$f":"IF(G44<>\"\",ROUND(G44*24,2),\"\")","v":67.5}]
[null,null,null,null,null,null,null,{"$f":"G37*H44","v":7246.125}]

{"sheet":"Juni","index":6,"n_rows":45,"n_cols":35,"rows_kept":45,"cut":false,"hidden":true,"merged":[[4,9,4,10],[4,11,4,12],[0,1,0,7],[0,10,0,11],[0,13,0,14],[1,1,1,2],[1,9,1,10],[1,11,1,12],[2,1,2,2],[2,9,2,10],[2,11,2,12],[3,9,3,10],[3,11,3,12],[5,9,5,10],[5,11,5,12],[6,9,6,10],[6,11,6,12],[7,9,7,10],[7,11,7,12],[8,9,8,10],[8,11,8,12],[9,9,9,10],[9,11,9,12],[10,9,10,10],[10,11,10,12],[11,9,11,10],[11,11,11,12],[12,9,12,10],[12,11,12,12],[13,9,13,10],[13,11,13,12],[14,9,14,10],[14,11,14,12],[15,9,15,10],[15,11,15,12],[16,9,16,10],[16,11,16,12],[17,9,17,10],[17,11,17,12],[18,9,18,10],[18,11,18,12],[19,9,19,10],[19,11,19,12],[20,9,20,10],[20,11,20,12],[21,9,21,10],[21,11,21,12],[22,9,22,10],[22,11,22,12],[23,9,23,10],[23,11,23,12],[24,9,24,10],[24,11,24,12],[25,9,25,10],[25,11,25,12],[26,9,26,10],[26,11,26,12],[27,9,27,10],[27,11,27,12],[28,9,28,10],[28,11,28,12],[29,9,29,10],[29,11,29,12],[30,9,30,10],[30,11,30,12],[31,9,31,10],[31,11,31,12],[32,9,32,10],[32,11,32,12],[33,9,33,10],[33,11,33,12],[34,9,34,10],[34,11,34,12],[35,9,35,10],[35,11,35,12],[36,9,36,10],[36,11,36,12],[37,9,37,10],[37,11,37,12],[39,0,39,2],[40,0,40,2],[41,0,41,2],[42,0,42,2],[43,0,43,5]]}
["Løn",{"$f":"PROPER(TEXT(A4,\"dd mmmm åååå\")) & PROPER(TEXT(N1,\"  -  dd mmmm åååå\"))","v":"01 Juni 2019  -  30 Juni 2019"},null,null,null,null,null,null,"Uge :",{"$f":"IF(A4=\"\",\"\",TRUNC((A4-WEEKDAY(A4,2)-DATE(YEAR(A4+4-WEEKDAY(A4,2)),1,-10))/7))","v":22},"-",null,{"$f":"IF(A25=\"\",\"\",TRUNC((A25-WEEKDAY(A25,2)-DATE(YEAR(A25+4-WEEKDAY(A25,2)),1,-10))/7))","v":25},{"$f":"EOMONTH(A4,0)","v":"2019-06-30"},null,6,null,null,null,null,null,"Time beregning:",null,null,null,null,null,null,null,null,null,null,"06:00:00","18:00:00","03:00:00"]
["Lønart",null,null,null,null,null,null,null,null,null,null,null,null,null,null,null,null,null,null,null,null,"Betalt pause ved vagt over 5 timer",null,null,null,"00:25:00","minutter","00:00:00","06:00:00","17:00:00","14:00:00"]
["Dato","Dag",null,"Start","Slut","Pause","Arb. Tid","Overtid           1-3 time","Overtid            4 - time","Forskudt tid alle dage\n18-23",null,"Natarbejde 23-06",null,"Lørdag tillæg 14 - 24","Søndag tillæg 00 - 24","Optjent afspadsering","Afholdt afspadsering","Syge Timer","norm"]
[{"$f":"DATE(T.!$B$1,$P$1,1)","v":"2019-06-01"},{"$f":"PROPER(TEXT(A4,\"ddd\"))","v":"Lø"},{"$f":"HelligdagsNavn(A4,0,0)","v":""},"07:00:00","16:00:00","00:30:00",{"$f":"IF(D4=\"\",\"\",(E4-D4)+(D4>E4)-F4)","v":0.35416666666666663},{"$f":"IF(G4=\"\",0,IF(WEEKDAY(A4,2)=7,0,IF(G4>S4,MIN(G4-S4,$AI$1),0)))","v":"00:00:00"},{"$f":"IF(G4=\"\",\"\",IF(G4>S4+H4,G4-(S4+H4),\"\"))","v":""},{"$f":"ColTime(T.!$J$3,T.!$L$3,D4,E4)","v":"00:00:00"},null,{"$f":"ColTime(TIME(T.!$J$4,0,0),TIME(T.!$L$4,0,0),D4,E4)","v":"00:00:00"},null,{"$f":"IF(WEEKDAY(A4,2)=6,ColTime(TIME(14,0,0),TIME(24,0,0),D4,E4),\"\")","v":"02:00:00"},{"$f":"IF(OR(C4<>\"\",WEEKDAY(A4,2)=7),ColTime(TIME(0,0,0),TIME(24,0,0),D4,E4),\"\")","v":""},{"$f":"IFERROR(H4+I4,\"\")","v":""},null,null,{"$f":"CHOOSE(WEEKDAY(A4,2),norm!C$1,norm!C$2,norm!C$3,norm!C$4,norm!C$5,norm!C$6,norm!C$7)","v":"09:00:00"},null,null,{"$f":"IF(D4=\"\",\"\",HOUR(D4))","v":7},{"$f":"IF(D4=\"\",\"\",MINUTE(D4))","v":0},{"$f":"IF(D4=\"\",\"\",TIME(HOUR(D4),MINUTE(D4),0))","v":"07:00:00"},{"$f":"IF(E4=\"\",\"\",HOUR(E4))","v":16},{"$f":"IF(E4=\"\",\"\",MINUTE(E4))","v":0},"02:00:00","09:30:00","11:30:00",null,null,null,{"$f":"MIN(G4-S4,3)","v":-2.083333333333337E-2}]
[{"$f":"A4+1","v":"2019-06-02"},{"$f":"PROPER(TEXT(A5,\"ddd\"))","v":"Sø"},{"$f":"HelligdagsNavn(A5,0,0)","v":""},"13:45:00","21:30:00","00:30:00",{"$f":"IF(D5=\"\",\"\",(E5-D5)+(D5>E5)-F5)","v":0.30208333333333343},{"$f":"IF(G5=\"\",0,IF(WEEKDAY(A5,2)=7,0,IF(G5>S5,MIN(G5-S5,$AI$1),0)))","v":"00:00:00"},{"$f":"IF(G5=\"\",\"\",IF(G5>S5+H5,G5-(S5+H5),\"\"))","v":""},{"$f":"ColTime(T.!$J$3,T.!$L$3,D5,E5)","v":"03:30:00"},null,{"$f":"ColTime(TIME(T.!$J$4,0,0),TIME(T.!$L$4,0,0),D5,E5)","v":"00:00:00"},null,"","07:45:00",{"$f":"IFERROR(H5+I5,\"\")","v":""},null,null,{"$f":"CHOOSE(WEEKDAY(A5,2),norm!C$1,norm!C$2,norm!C$3,norm!C$4,norm!C$5,norm!C$6,norm!C$7)","v":"09:00:00"},null,null,13,45,"13:45:00",21,30,{"$f":"IF(E5=\"\",\"\",TIME(HOUR(E5),MINUTE(E5),0))","v":"21:30:00"},null,null,null,null,null,null,"Der taste kun i de Gule celler"]
[{"$f":"A5+1","v":"2019-06-03"},{"$f":"PROPER(TEXT(A6,\"ddd\"))","v":"Ma"},"","22:00:00","05:45:00","00:30:00",0.30208333333333343,"00:00:00","",{"$f":"ColTime(T.!$J$3,T.!$L$3,D6,E6)","v":"01:00:00"},null,{"$f":"ColTime(TIME(T.!$J$4,0,0),TIME(T.!$L$4,0,0),D6,E6)","v":"06:45:00"},null,"","",{"$f":"IFERROR(H6+I6,\"\")","v":""},null,null,{"$f":"CHOOSE(WEEKDAY(A6,2),norm!C$1,norm!C$2,norm!C$3,norm!C$4,norm!C$5,norm!C$6,norm!C$7)","v":"09:00:00"},null,null,22,0,"22:00:00",5,45,"05:45:00"]
["2019-06-04","Ti","","05:00:00","16:45:00","00:30:00",0.46874999999999994,"02:15:00","",{"$f":"ColTime(T.!$J$3,T.!$L$3,D7,E7)","v":"00:00:00"},null,{"$f":"ColTime(TIME(T.!$J$4,0,0),TIME(T.!$L$4,0,0),D7,E7)","v":"01:00:00"},null,"","",{"$f":"IFERROR(H7+I7,\"\")","v":""},null,null,{"$f":"CHOOSE(WEEKDAY(A7,2),norm!C$1,norm!C$2,norm!C$3,norm!C$4,norm!C$5,norm!C$6,norm!C$7)","v":"09:00:00"},null,null,5,0,"05:00:00",16,45,"16:45:00"]
["2019-06-05","On","Grundlovsdag",null,null,null,"","00:00:00","",{"$f":"ColTime(T.!$J$3,T.!$L$3,D8,E8)","v":"00:00:00"},null,{"$f":"ColTime(TIME(T.!$J$4,0,0),TIME(T.!$L$4,0,0),D8,E8)","v":"00:00:00"},null,"","00:00:00",{"$f":"IFERROR(H8+I8,\"\")","v":""},null,null,{"$f":"CHOOSE(WEEKDAY(A8,2),norm!C$1,norm!C$2,norm!C$3,norm!C$4,norm!C$5,norm!C$6,norm!C$7)","v":"09:00:00"},null,null,"","","","","",""]
["2019-06-06","To","","06:00:00","19:00:00","00:30:00",0.52083333333333326,"03:00:00","00:30:00",{"$f":"ColTime(T.!$J$3,T.!$L$3,D9,E9)","v":"01:00:00"},null,{"$f":"ColTime(TIME(T.!$J$4,0,0),TIME(T.!$L$4,0,0),D9,E9)","v":"00:00:00"},null,"",{"$f":"IF(OR(C9<>\"\",WEEKDAY(A9,2)=7),ColTime(TIME(0,0,0),TIME(24,0,0),D9,E9),\"\")","v":""},{"$f":"IFERROR(H9+I9,\"\")","v":"03:30:00"},null,null,{"$f":"CHOOSE(WEEKDAY(A9,2),norm!C$1,norm!C$2,norm!C$3,norm!C$4,norm!C$5,norm!C$6,norm!C$7)","v":"09:00:00"},null,null,6,0,"06:00:00",19,0,"19:00:00"]
["2019-06-07","Fr","","07:00:00","19:00:00",null,0.49999999999999994,"03:00:00","",{"$f":"ColTime(T.!$J$3,T.!$L$3,D10,E10)","v":"01:00:00"},null,{"$f":"ColTime(TIME(T.!$J$4,0,0),TIME(T.!$L$4,0,0),D10,E10)","v":"00:00:00"},null,{"$f":"IF(WEEKDAY(A10,2)=6,ColTime(TIME(14,0,0),TIME(24,0,0),D10,E10),\"\")","v":""},{"$f":"IF(OR(C10<>\"\",WEEKDAY(A10,2)=7),ColTime(TIME(0,0,0),TIME(24,0,0),D10,E10),\"\")","v":""},"",null,null,{"$f":"CHOOSE(WEEKDAY(A10,2),norm!C$1,norm!C$2,norm!C$3,norm!C$4,norm!C$5,norm!C$6,norm!C$7)","v":"09:00:00"},null,null,7,0,"07:00:00",19,0,"19:00:00"]
[{"$f":"A10+1","v":"2019-06-08"},{"$f":"PROPER(TEXT(A11,\"ddd\"))","v":"Lø"},{"$f":"HelligdagsNavn(A11,0,0)","v":""},null,null,null,"","00:00:00","",{"$f":"ColTime(T.!$J$3,T.!$L$3,D11,E11)","v":"00:00:00"},null,{"$f":"ColTime(TIME(T.!$J$4,0,0),TIME(T.!$L$4,0,0),D11,E11)","v":"00:00:00"},null,{"$f":"IF(WEEKDAY(A11,2)=6,ColTime(TIME(15,0,0),TIME(24,0,0),D11,E11),\"\")","v":"00:00:00"},"","",null,null,{"$f":"CHOOSE(WEEKDAY(A11,2),norm!C$1,norm!C$2,norm!C$3,norm!C$4,norm!C$5,norm!C$6,norm!C$7)","v":"09:00:00"},null,null,"","","","","",""]
[{"$f":"A11+1","v":"2019-06-09"},{"$f":"PROPER(TEXT(A12,\"ddd\"))","v":"Sø"},{"$f":"HelligdagsNavn(A12,0,0)","v":"Pinsedag"},null,null,null,"","00:00:00","",{"$f":"ColTime(T.!$J$3,T.!$L$3,D12,E12)","v":"00:00:00"},null,{"$f":"ColTime(TIME(T.!$J$4,0,0),TIME(T.!$L$4,0,0),D12,E12)","v":"00:00:00"},null,"","00:00:00","",null,null,{"$f":"CHOOSE(WEEKDAY(A12,2),norm!C$1,norm!C$2,norm!C$3,norm!C$4,norm!C$5,norm!C$6,norm!C$7)","v":"09:00:00"},null,null,"","","","","",""]
[{"$f":"A12+1","v":"2019-06-10"},{"$f":"PROPER(TEXT(A13,\"ddd\"))","v":"Ma"},"2. Pinsedag",null,null,null,"","00:00:00","",{"$f":"ColTime(T.!$J$3,T.!$L$3,D13,E13)","v":"00:00:00"},null,{"$f":"ColTime(TIME(T.!$J$4,0,0),TIME(T.!$L$4,0,0),D13,E13)","v":"00:00:00"},null,"","00:00:00","",null,null,{"$f":"CHOOSE(WEEKDAY(A13,2),norm!C$1,norm!C$2,norm!C$3,norm!C$4,norm!C$5,norm!C$6,norm!C$7)","v":"09:00:00"},null,null,"","","","","",""]
["2019-06-11","Ti","",null,null,null,"","00:00:00","",{"$f":"ColTime(T.!$J$3,T.!$L$3,D14,E14)","v":"00:00:00"},null,{"$f":"ColTime(TIME(T.!$J$4,0,0),TIME(T.!$L$4,0,0),D14,E14)","v":"00:00:00"},null,"","","",null,null,{"$f":"CHOOSE(WEEKDAY(A14,2),norm!C$1,norm!C$2,norm!C$3,norm!C$4,norm!C$5,norm!C$6,norm!C$7)","v":"09:00:00"},null,null,"","","","","",""]
["2019-06-12","On","",null,null,null,"","00:00:00","",{"$f":"ColTime(T.!$J$3,T.!$L$3,D15,E15)","v":"00:00:00"},null,{"$f":"ColTime(TIME(T.!$J$4,0,0),TIME(T.!$L$4,0,0),D15,E15)","v":"00:00:00"},null,"","","",null,null,{"$f":"CHOOSE(WEEKDAY(A15,2),norm!C$1,norm!C$2,norm!C$3,norm!C$4,norm!C$5,norm!C$6,norm!C$7)","v":"09:00:00"},null,null,"","","",null,"",""]
["2019-06-13","To","",null,null,null,"","00:00:00","",{"$f":"ColTime(T.!$J$3,T.!$L$3,D16,E16)","v":"00:00:00"},null,{"$f":"ColTime(TIME(T.!$J$4,0,0),TIME(T.!$L$4,0,0),D16,E16)","v":"00:00:00"},null,"","","",null,null,{"$f":"CHOOSE(WEEKDAY(A16,2),norm!C$1,norm!C$2,norm!C$3,norm!C$4,norm!C$5,norm!C$6,norm!C$7)","v":"09:00:00"},null,null,"","","","","",""]
["2019-06-14","Fr","",null,null,null,"","00:00:00","",{"$f":"ColTime(T.!$J$3,T.!$L$3,D17,E17)","v":"00:00:00"},null,{"$f":"ColTime(TIME(T.!$J$4,0,0),TIME(T.!$L$4,0,0),D17,E17)","v":"00:00:00"},null,"","","",null,null,{"$f":"CHOOSE(WEEKDAY(A17,2),norm!C$1,norm!C$2,norm!C$3,norm!C$4,norm!C$5,norm!C$6,norm!C$7)","v":"09:00:00"},null,null,"","","","","",""]
[{"$f":"A17+1","v":"2019-06-15"},{"$f":"PROPER(TEXT(A18,\"ddd\"))","v":"Lø"},{"$f":"HelligdagsNavn(A18,0,0)","v":""},null,null,null,"","00:00:00","",{"$f":"ColTime(T.!$J$3,T.!$L$3,D18,E18)","v":"00:00:00"},null,{"$f":"ColTime(TIME(T.!$J$4,0,0),TIME(T.!$L$4,0,0),D18,E18)","v":"00:00:00"},null,"00:00:00","","",null,null,{"$f":"CHOOSE(WEEKDAY(A18,2),norm!C$1,norm!C$2,norm!C$3,norm!C$4,norm!C$5,norm!C$6,norm!C$7)","v":"09:00:00"},null,null,"","","","","",""]
[{"$f":"A18+1","v":"2019-06-16"},{"$f":"PROPER(TEXT(A19,\"ddd\"))","v":"Sø"},{"$f":"HelligdagsNavn(A19,0,0)","v":""},null,null,null,"","00:00:00","",{"$f":"ColTime(T.!$J$3,T.!$L$3,D19,E19)","v":"00:00:00"},null,{"$f":"ColTime(TIME(T.!$J$4,0,0),TIME(T.!$L$4,0,0),D19,E19)","v":"00:00:00"},null,"","00:00:00","",null,null,{"$f":"CHOOSE(WEEKDAY(A19,2),norm!C$1,norm!C$2,norm!C$3,norm!C$4,norm!C$5,norm!C$6,norm!C$7)","v":"09:00:00"},null,null,"","","","","",""]
[{"$f":"A19+1","v":"2019-06-17"},{"$f":"PROPER(TEXT(A20,\"ddd\"))","v":"Ma"},"",null,null,null,"","00:00:00","",{"$f":"ColTime(T.!$J$3,T.!$L$3,D20,E20)","v":"00:00:00"},null,{"$f":"ColTime(TIME(T.!$J$4,0,0),TIME(T.!$L$4,0,0),D20,E20)","v":"00:00:00"},null,"","","",null,null,{"$f":"CHOOSE(WEEKDAY(A20,2),norm!C$1,norm!C$2,norm!C$3,norm!C$4,norm!C$5,norm!C$6,norm!C$7)","v":"09:00:00"},null,null,"","","","","",""]
["2019-06-18","Ti","",null,null,null,"","00:00:00","",{"$f":"ColTime(T.!$J$3,T.!$L$3,D21,E21)","v":"00:00:00"},null,{"$f":"ColTime(TIME(T.!$J$4,0,0),TIME(T.!$L$4,0,0),D21,E21)","v":"00:00:00"},null,"","","",null,null,{"$f":"CHOOSE(WEEKDAY(A21,2),norm!C$1,norm!C$2,norm!C$3,norm!C$4,norm!C$5,norm!C$6,norm!C$7)","v":"09:00:00"},null,null,"","","","","",""]
["2019-06-19","On","",null,null,null,"","00:00:00","",{"$f":"ColTime(T.!$J$3,T.!$L$3,D22,E22)","v":"00:00:00"},null,{"$f":"ColTime(TIME(T.!$J$4,0,0),TIME(T.!$L$4,0,0),D22,E22)","v":"00:00:00"},null,"","","",null,null,{"$f":"CHOOSE(WEEKDAY(A22,2),norm!C$1,norm!C$2,norm!C$3,norm!C$4,norm!C$5,norm!C$6,norm!C$7)","v":"09:00:00"},null,null,"","","","","",""]
["2019-06-20","To","",null,null,null,"","00:00:00","",{"$f":"ColTime(T.!$J$3,T.!$L$3,D23,E23)","v":"00:00:00"},null,{"$f":"ColTime(TIME(T.!$J$4,0,0),TIME(T.!$L$4,0,0),D23,E23)","v":"00:00:00"},null,"","","",null,null,{"$f":"CHOOSE(WEEKDAY(A23,2),norm!C$1,norm!C$2,norm!C$3,norm!C$4,norm!C$5,norm!C$6,norm!C$7)","v":"09:00:00"},null,null,"","","","","",""]
["2019-06-21","Fr","",null,null,null,"","00:00:00","",{"$f":"ColTime(T.!$J$3,T.!$L$3,D24,E24)","v":"00:00:00"},null,{"$f":"ColTime(TIME(T.!$J$4,0,0),TIME(T.!$L$4,0,0),D24,E24)","v":"00:00:00"},null,"","","",null,null,{"$f":"CHOOSE(WEEKDAY(A24,2),norm!C$1,norm!C$2,norm!C$3,norm!C$4,norm!C$5,norm!C$6,norm!C$7)","v":"09:00:00"},null,null,"","","","","",""]
[{"$f":"A24+1","v":"2019-06-22"},{"$f":"PROPER(TEXT(A25,\"ddd\"))","v":"Lø"},{"$f":"HelligdagsNavn(A25,0,0)","v":""},null,null,null,"","00:00:00","",{"$f":"ColTime(T.!$J$3,T.!$L$3,D25,E25)","v":"00:00:00"},null,{"$f":"ColTime(TIME(T.!$J$4,0,0),TIME(T.!$L$4,0,0),D25,E25)","v":"00:00:00"},null,"00:00:00","","",null,null,{"$f":"CHOOSE(WEEKDAY(A25,2),norm!C$1,norm!C$2,norm!C$3,norm!C$4,norm!C$5,norm!C$6,norm!C$7)","v":"09:00:00"},null,null,"","","","","",""]
[{"$f":"A25+1","v":"2019-06-23"},{"$f":"PROPER(TEXT(A26,\"ddd\"))","v":"Sø"},{"$f":"HelligdagsNavn(A26,0,0)","v":""},null,null,null,"","00:00:00","",{"$f":"ColTime(T.!$J$3,T.!$L$3,D26,E26)","v":"00:00:00"},null,{"$f":"ColTime(TIME(T.!$J$4,0,0),TIME(T.!$L$4,0,0),D26,E26)","v":"00:00:00"},null,"","00:00:00","",null,null,{"$f":"CHOOSE(WEEKDAY(A26,2),norm!C$1,norm!C$2,norm!C$3,norm!C$4,norm!C$5,norm!C$6,norm!C$7)","v":"09:00:00"},null,null,"","","","","",""]
[{"$f":"A26+1","v":"2019-06-24"},{"$f":"PROPER(TEXT(A27,\"ddd\"))","v":"Ma"},"",null,null,null,"","00:00:00","",{"$f":"ColTime(T.!$J$3,T.!$L$3,D27,E27)","v":"00:00:00"},null,{"$f":"ColTime(TIME(T.!$J$4,0,0),TIME(T.!$L$4,0,0),D27,E27)","v":"00:00:00"},null,"","","",null,null,{"$f":"CHOOSE(WEEKDAY(A27,2),norm!C$1,norm!C$2,norm!C$3,norm!C$4,norm!C$5,norm!C$6,norm!C$7)","v":"09:00:00"},null,null,"","","","","",""]
["2019-06-25","Ti","",null,null,null,"","00:00:00","",{"$f":"ColTime(T.!$J$3,T.!$L$3,D28,E28)","v":"00:00:00"},null,{"$f":"ColTime(TIME(T.!$J$4,0,0),TIME(T.!$L$4,0,0),D28,E28)","v":"00:00:00"},null,"","","",null,null,{"$f":"CHOOSE(WEEKDAY(A28,2),norm!C$1,norm!C$2,norm!C$3,norm!C$4,norm!C$5,norm!C$6,norm!C$7)","v":"09:00:00"},null,null,"","","","","",""]
["2019-06-26","On","",null,null,null,"","00:00:00","",{"$f":"ColTime(T.!$J$3,T.!$L$3,D29,E29)","v":"00:00:00"},null,{"$f":"ColTime(TIME(T.!$J$4,0,0),TIME(T.!$L$4,0,0),D29,E29)","v":"00:00:00"},null,"","","",null,null,{"$f":"CHOOSE(WEEKDAY(A29,2),norm!C$1,norm!C$2,norm!C$3,norm!C$4,norm!C$5,norm!C$6,norm!C$7)","v":"09:00:00"}]
["2019-06-27","To","",null,null,null,"","00:00:00","",{"$f":"ColTime(T.!$J$3,T.!$L$3,D30,E30)","v":"00:00:00"},null,{"$f":"ColTime(TIME(T.!$J$4,0,0),TIME(T.!$L$4,0,0),D30,E30)","v":"00:00:00"},null,"","","",null,null,{"$f":"CHOOSE(WEEKDAY(A30,2),norm!C$1,norm!C$2,norm!C$3,norm!C$4,norm!C$5,norm!C$6,norm!C$7)","v":"09:00:00"}]
["2019-06-28","Fr","",null,null,null,"","00:00:00","",{"$f":"ColTime(T.!$J$3,T.!$L$3,D31,E31)","v":"00:00:00"},null,{"$f":"ColTime(TIME(T.!$J$4,0,0),TIME(T.!$L$4,0,0),D31,E31)","v":"00:00:00"},null,"","","",null,null,{"$f":"CHOOSE(WEEKDAY(A31,2),norm!C$1,norm!C$2,norm!C$3,norm!C$4,norm!C$5,norm!C$6,norm!C$7)","v":"09:00:00"}]
[{"$f":"IF(MONTH(A31+1)>MONTH(A31),\"\",A31+1)","v":"2019-06-29"},"Lø",{"$f":"IF(A32=\"\",\"\",HelligdagsNavn(A32,0,0))","v":""},null,null,null,"","00:00:00","",{"$f":"ColTime(T.!$J$3,T.!$L$3,D32,E32)","v":"00:00:00"},null,{"$f":"ColTime(TIME(T.!$J$4,0,0),TIME(T.!$L$4,0,0),D32,E32)","v":"00:00:00"},null,{"$f":"IFERROR(IF(WEEKDAY(A32,2)=6,ColTime(TIME(15,0,0),TIME(24,0,0),D32,E32),\"\"),\"\")","v":"00:00:00"},{"$f":"IFERROR(IF(OR(C32<>\"\",WEEKDAY(A32,2)=7),ColTime(TIME(0,0,0),TIME(24,0,0),D32,E32),\"\"),\"\")","v":""},"",null,null,{"$f":"IFERROR(CHOOSE(WEEKDAY(A32,2),norm!C$1,norm!C$2,norm!C$3,norm!C$4,norm!C$5,norm!C$6,norm!C$7),\"\")","v":"09:00:00"}]
[{"$f":"IFERROR(IF(MONTH(A32+1)>MONTH(A32),\"\",A32+1),\"\")","v":"2019-06-30"},"Sø","",null,null,null,"","00:00:00","",{"$f":"ColTime(T.!$J$3,T.!$L$3,D33,E33)","v":"00:00:00"},null,{"$f":"ColTime(TIME(T.!$J$4,0,0),TIME(T.!$L$4,0,0),D33,E33)","v":"00:00:00"},null,{"$f":"IFERROR(IF(WEEKDAY(A33,2)=6,ColTime(TIME(15,0,0),TIME(24,0,0),D33,E33),\"\"),\"\")","v":""},{"$f":"IFERROR(IF(OR(C33<>\"\",WEEKDAY(A33,2)=7),ColTime(TIME(0,0,0),TIME(24,0,0),D33,E33),\"\"),\"\")","v":"00:00:00"},"",null,null,{"$f":"IFERROR(CHOOSE(WEEKDAY(A33,2),norm!C$1,norm!C$2,norm!C$3,norm!C$4,norm!C$5,norm!C$6,norm!C$7),\"\")","v":"09:00:00"}]
[{"$f":"IFERROR(IF(MONTH(A33+1)>MONTH(A33),\"\",A33+1),\"\")","v":""},{"$f":"IFERROR(PROPER(TEXT(A34,\"ddd\")),\"\")","v":""},{"$f":"IF(A34=\"\",\"\",HelligdagsNavn(A34,0,0))","v":""},null,null,null,"","00:00:00","",{"$f":"ColTime(T.!$J$3,T.!$L$3,D34,E34)","v":"00:00:00"},null,{"$f":"ColTime(TIME(T.!$J$4,0,0),TIME(T.!$L$4,0,0),D34,E34)","v":"00:00:00"},null,{"$f":"IFERROR(IF(WEEKDAY(A34,2)=6,ColTime(TIME(15,0,0),TIME(24,0,0),D34,E34),\"\"),\"\")","v":""},"","",null,null,{"$f":"IFERROR(CHOOSE(WEEKDAY(A34,2),norm!C$1,norm!C$2,norm!C$3,norm!C$4,norm!C$5,norm!C$6,norm!C$7),\"\")","v":""},null,null,{"$f":"IF(D34=\"\",\"\",HOUR(D34))","v":""},{"$f":"IF(D34=\"\",\"\",MINUTE(D34))","v":""},{"$f":"IF(D34=\"\",\"\",TIME(HOUR(D34),MINUTE(D34),0))","v":""},{"$f":"IF(E34=\"\",\"\",HOUR(E34))","v":""},{"$f":"IF(E34=\"\",\"\",MINUTE(E34))","v":""},{"$f":"IF(E34=\"\",\"\",TIME(HOUR(E34),MINUTE(E34),0))","v":""}]
["Total timer",null,null,null,null,null,{"$f":"IF(SUM(G9:G34)<>\"0\",SUM(G4:G34),\"\")","v":2.4479166666666665},{"$f":"IF(SUM(H4:H34)<>\"0\",SUM(H4:H34),\"\")","v":0.34374999999999989},{"$f":"IF(SUM(I4:I34)<>\"0\",SUM(I4:I34),\"\")","v":2.0833333333333259E-2},{"$f":"IF(SUM(J4:J34)<>\"0\",SUM(J4:J34),\"\")","v":0.27083333333333337},null,{"$f":"SUM(L4:M34)","v":"07:45:00"},null,{"$f":"IF(SUM(N4:N34)<>\"0\",SUM(N4:N34),\"\")","v":8.3333333333333259E-2},{"$f":"IF(SUM(O4:O34)<>\"0\",SUM(O4:O34),\"\")","v":"07:45:00"},{"$f":"SUM(P4:P34)","v":0.14583333333333326},{"$f":"SUM(Q4:Q34)","v":0}]
["Timer 1/100",null,null,null,null,null,{"$f":"IF(G35<>\"\",ROUND(G35*24,2),\"\")","v":58.75},{"$f":"IF(H35<>\"\",ROUND(H35*24,2),\"\")","v":8.25},0.5,{"$f":"IF(J35<>\"\",ROUND(J35*24,2),\"\")","v":6.5},null,{"$f":"IF(L35<>\"\",ROUND(L35*24,2),\"\")","v":7.75},null,{"$f":"IF(N35<>\"\",ROUND(N35*24,2),\"\")","v":2},7.75,3.5,0]
["Satser",null,null,null,null,null,{"$f":"Satser!B7","v":107.35},{"$f":"Satser!B9","v":36.35},{"$f":"Satser!B12","v":58.1},{"$f":"Satser!B17","v":25.6},null,{"$f":"Satser!B18","v":34.200000000000003},null,{"$f":"Satser!B19","v":45.1},{"$f":"Satser!B20","v":50.6}]
[null,null,null,null,null,null,{"$f":"IF(G35<>\"\",G36*G37,\"\")","v":6306.8125},{"$f":"IF(H35<>\"\",H36*H37,\"\")","v":299.88749999999999},29.05,{"$f":"IF(J35<>\"\",J36*J37,\"\")","v":166.4},null,{"$f":"IF(L35<>\"\",L36*L36,\"\")","v":60.0625},null,{"$f":"IF(N35<>\"\",N36*N37,\"\")","v":90.2},392.15000000000003]
[]
["Lønart"]
[3025,null,null,null,null,null,{"$f":"G35","v":2.4479166666666665}]
[3425,null,null,null,null,null,{"$f":"H35","v":0.34374999999999989}]
[3428,null,null,null,null,null,{"$f":"I35","v":2.0833333333333259E-2}]
["Timer",null,null,null,null,null,{"$f":"SUM(G41:G43)","v":2.8125},{"$f":"IF(G44<>\"\",ROUND(G44*24,2),\"\")","v":67.5}]
[null,null,null,null,null,null,null,{"$f":"G37*H44","v":7246.125}]

{"sheet":"Juli","index":7,"n_rows":45,"n_cols":35,"rows_kept":45,"cut":false,"hidden":true,"merged":[[4,9,4,10],[4,11,4,12],[0,1,0,7],[0,10,0,11],[0,13,0,14],[1,1,1,2],[1,9,1,10],[1,11,1,12],[2,1,2,2],[2,9,2,10],[2,11,2,12],[3,9,3,10],[3,11,3,12],[5,9,5,10],[5,11,5,12],[6,9,6,10],[6,11,6,12],[7,9,7,10],[7,11,7,12],[8,9,8,10],[8,11,8,12],[9,9,9,10],[9,11,9,12],[10,9,10,10],[10,11,10,12],[11,9,11,10],[11,11,11,12],[12,9,12,10],[12,11,12,12],[13,9,13,10],[13,11,13,12],[14,9,14,10],[14,11,14,12],[15,9,15,10],[15,11,15,12],[16,9,16,10],[16,11,16,12],[17,9,17,10],[17,11,17,12],[18,9,18,10],[18,11,18,12],[19,9,19,10],[19,11,19,12],[20,9,20,10],[20,11,20,12],[21,9,21,10],[21,11,21,12],[22,9,22,10],[22,11,22,12],[23,9,23,10],[23,11,23,12],[24,9,24,10],[24,11,24,12],[25,9,25,10],[25,11,25,12],[26,9,26,10],[26,11,26,12],[27,9,27,10],[27,11,27,12],[28,9,28,10],[28,11,28,12],[29,9,29,10],[29,11,29,12],[30,9,30,10],[30,11,30,12],[31,9,31,10],[31,11,31,12],[32,9,32,10],[32,11,32,12],[33,9,33,10],[33,11,33,12],[34,9,34,10],[34,11,34,12],[35,9,35,10],[35,11,35,12],[36,9,36,10],[36,11,36,12],[37,9,37,10],[37,11,37,12],[39,0,39,2],[40,0,40,2],[41,0,41,2],[42,0,42,2],[43,0,43,5]]}
["Løn",{"$f":"PROPER(TEXT(A4,\"dd mmmm åååå\")) & PROPER(TEXT(N1,\"  -  dd mmmm åååå\"))","v":"01 Juli 2019  -  31 Juli 2019"},null,null,null,null,null,null,"Uge :",{"$f":"IF(A4=\"\",\"\",TRUNC((A4-WEEKDAY(A4,2)-DATE(YEAR(A4+4-WEEKDAY(A4,2)),1,-10))/7))","v":27},"-",null,{"$f":"IF(A25=\"\",\"\",TRUNC((A25-WEEKDAY(A25,2)-DATE(YEAR(A25+4-WEEKDAY(A25,2)),1,-10))/7))","v":30},{"$f":"EOMONTH(A4,0)","v":"2019-07-31"},null,7,null,null,null,null,null,"Time beregning:",null,null,null,null,null,null,null,null,null,null,"06:00:00","18:00:00","03:00:00"]
["Lønart",null,null,null,null,null,null,null,null,null,null,null,null,null,null,null,null,null,null,null,null,"Betalt pause ved vagt over 5 timer",null,null,null,"00:25:00","minutter","00:00:00","06:00:00","17:00:00","14:00:00"]
["Dato","Dag",null,"Start","Slut","Pause","Arb. Tid","Overtid           1-3 time","Overtid            4 - time","Forskudt tid alle dage\n18-23",null,"Natarbejde 23-06",null,"Lørdag tillæg 14 - 24","Søndag tillæg 00 - 24","Optjent afspadsering","Afholdt afspadsering","Syge Timer","norm"]
[{"$f":"DATE(T.!$B$1,$P$1,1)","v":"2019-07-01"},{"$f":"PROPER(TEXT(A4,\"ddd\"))","v":"Ma"},{"$f":"HelligdagsNavn(A4,0,0)","v":""},"07:00:00","16:00:00","00:30:00",{"$f":"IF(D4=\"\",\"\",(E4-D4)+(D4>E4)-F4)","v":0.35416666666666663},{"$f":"IF(G4=\"\",0,IF(WEEKDAY(A4,2)=7,0,IF(G4>S4,MIN(G4-S4,$AI$1),0)))","v":"00:00:00"},{"$f":"IF(G4=\"\",\"\",IF(G4>S4+H4,G4-(S4+H4),\"\"))","v":""},{"$f":"ColTime(T.!$J$3,T.!$L$3,D4,E4)","v":"00:00:00"},null,{"$f":"ColTime(TIME(T.!$J$4,0,0),TIME(T.!$L$4,0,0),D4,E4)","v":"00:00:00"},null,{"$f":"IF(WEEKDAY(A4,2)=6,ColTime(TIME(14,0,0),TIME(24,0,0),D4,E4),\"\")","v":""},{"$f":"IF(OR(C4<>\"\",WEEKDAY(A4,2)=7),ColTime(TIME(0,0,0),TIME(24,0,0),D4,E4),\"\")","v":""},{"$f":"IFERROR(H4+I4,\"\")","v":""},null,null,{"$f":"CHOOSE(WEEKDAY(A4,2),norm!C$1,norm!C$2,norm!C$3,norm!C$4,norm!C$5,norm!C$6,norm!C$7)","v":"09:00:00"},null,null,{"$f":"IF(D4=\"\",\"\",HOUR(D4))","v":7},{"$f":"IF(D4=\"\",\"\",MINUTE(D4))","v":0},{"$f":"IF(D4=\"\",\"\",TIME(HOUR(D4),MINUTE(D4),0))","v":"07:00:00"},{"$f":"IF(E4=\"\",\"\",HOUR(E4))","v":16},{"$f":"IF(E4=\"\",\"\",MINUTE(E4))","v":0},"02:00:00","09:30:00","11:30:00",null,null,null,{"$f":"MIN(G4-S4,3)","v":-2.083333333333337E-2}]
[{"$f":"A4+1","v":"2019-07-02"},{"$f":"PROPER(TEXT(A5,\"ddd\"))","v":"Ti"},{"$f":"HelligdagsNavn(A5,0,0)","v":""},"13:45:00","21:30:00","00:30:00",{"$f":"IF(D5=\"\",\"\",(E5-D5)+(D5>E5)-F5)","v":0.30208333333333343},{"$f":"IF(G5=\"\",0,IF(WEEKDAY(A5,2)=7,0,IF(G5>S5,MIN(G5-S5,$AI$1),0)))","v":"00:00:00"},{"$f":"IF(G5=\"\",\"\",IF(G5>S5+H5,G5-(S5+H5),\"\"))","v":""},{"$f":"ColTime(T.!$J$3,T.!$L$3,D5,E5)","v":"03:30:00"},null,{"$f":"ColTime(TIME(T.!$J$4,0,0),TIME(T.!$L$4,0,0),D5,E5)","v":"00:00:00"},null,"","",{"$f":"IFERROR(H5+I5,\"\")","v":""},null,null,{"$f":"CHOOSE(WEEKDAY(A5,2),norm!C$1,norm!C$2,norm!C$3,norm!C$4,norm!C$5,norm!C$6,norm!C$7)","v":"09:00:00"},null,null,13,45,"13:45:00",21,30,{"$f":"IF(E5=\"\",\"\",TIME(HOUR(E5),MINUTE(E5),0))","v":"21:30:00"},null,null,null,null,null,null,"Der taste kun i de Gule celler"]
[{"$f":"A5+1","v":"2019-07-03"},{"$f":"PROPER(TEXT(A6,\"ddd\"))","v":"On"},"","22:00:00","05:45:00","00:30:00",0.30208333333333343,"00:00:00","",{"$f":"ColTime(T.!$J$3,T.!$L$3,D6,E6)","v":"01:00:00"},null,{"$f":"ColTime(TIME(T.!$J$4,0,0),TIME(T.!$L$4,0,0),D6,E6)","v":"06:45:00"},null,"","",{"$f":"IFERROR(H6+I6,\"\")","v":""},null,null,{"$f":"CHOOSE(WEEKDAY(A6,2),norm!C$1,norm!C$2,norm!C$3,norm!C$4,norm!C$5,norm!C$6,norm!C$7)","v":"09:00:00"},null,null,22,0,"22:00:00",5,45,"05:45:00"]
["2019-07-04","To","","05:00:00","16:45:00","00:30:00",0.46874999999999994,"02:15:00","",{"$f":"ColTime(T.!$J$3,T.!$L$3,D7,E7)","v":"00:00:00"},null,{"$f":"ColTime(TIME(T.!$J$4,0,0),TIME(T.!$L$4,0,0),D7,E7)","v":"01:00:00"},null,"","",{"$f":"IFERROR(H7+I7,\"\")","v":""},null,null,{"$f":"CHOOSE(WEEKDAY(A7,2),norm!C$1,norm!C$2,norm!C$3,norm!C$4,norm!C$5,norm!C$6,norm!C$7)","v":"09:00:00"},null,null,5,0,"05:00:00",16,45,"16:45:00"]
["2019-07-05","Fr","",null,null,null,"","00:00:00","",{"$f":"ColTime(T.!$J$3,T.!$L$3,D8,E8)","v":"00:00:00"},null,{"$f":"ColTime(TIME(T.!$J$4,0,0),TIME(T.!$L$4,0,0),D8,E8)","v":"00:00:00"},null,"","",{"$f":"IFERROR(H8+I8,\"\")","v":""},null,null,{"$f":"CHOOSE(WEEKDAY(A8,2),norm!C$1,norm!C$2,norm!C$3,norm!C$4,norm!C$5,norm!C$6,norm!C$7)","v":"09:00:00"},null,null,"","","","","",""]
["2019-07-06","Lø","","06:00:00","19:00:00","00:30:00",0.52083333333333326,"03:00:00","00:30:00",{"$f":"ColTime(T.!$J$3,T.!$L$3,D9,E9)","v":"01:00:00"},null,{"$f":"ColTime(TIME(T.!$J$4,0,0),TIME(T.!$L$4,0,0),D9,E9)","v":"00:00:00"},null,"05:00:00",{"$f":"IF(OR(C9<>\"\",WEEKDAY(A9,2)=7),ColTime(TIME(0,0,0),TIME(24,0,0),D9,E9),\"\")","v":""},{"$f":"IFERROR(H9+I9,\"\")","v":"03:30:00"},null,null,{"$f":"CHOOSE(WEEKDAY(A9,2),norm!C$1,norm!C$2,norm!C$3,norm!C$4,norm!C$5,norm!C$6,norm!C$7)","v":"09:00:00"},null,null,6,0,"06:00:00",19,0,"19:00:00"]
["2019-07-07","Sø","","07:00:00","19:00:00",null,0.49999999999999994,"00:00:00","03:00:00",{"$f":"ColTime(T.!$J$3,T.!$L$3,D10,E10)","v":"01:00:00"},null,{"$f":"ColTime(TIME(T.!$J$4,0,0),TIME(T.!$L$4,0,0),D10,E10)","v":"00:00:00"},null,{"$f":"IF(WEEKDAY(A10,2)=6,ColTime(TIME(14,0,0),TIME(24,0,0),D10,E10),\"\")","v":""},{"$f":"IF(OR(C10<>\"\",WEEKDAY(A10,2)=7),ColTime(TIME(0,0,0),TIME(24,0,0),D10,E10),\"\")","v":"12:00:00"},"03:00:00",null,null,{"$f":"CHOOSE(WEEKDAY(A10,2),norm!C$1,norm!C$2,norm!C$3,norm!C$4,norm!C$5,norm!C$6,norm!C$7)","v":"09:00:00"},null,null,7,0,"07:00:00",19,0,"19:00:00"]
[{"$f":"A10+1","v":"2019-07-08"},{"$f":"PROPER(TEXT(A11,\"ddd\"))","v":"Ma"},{"$f":"HelligdagsNavn(A11,0,0)","v":""},null,null,null,"","00:00:00","",{"$f":"ColTime(T.!$J$3,T.!$L$3,D11,E11)","v":"00:00:00"},null,{"$f":"ColTime(TIME(T.!$J$4,0,0),TIME(T.!$L$4,0,0),D11,E11)","v":"00:00:00"},null,{"$f":"IF(WEEKDAY(A11,2)=6,ColTime(TIME(15,0,0),TIME(24,0,0),D11,E11),\"\")","v":""},"","",null,null,{"$f":"CHOOSE(WEEKDAY(A11,2),norm!C$1,norm!C$2,norm!C$3,norm!C$4,norm!C$5,norm!C$6,norm!C$7)","v":"09:00:00"},null,null,"","","","","",""]
[{"$f":"A11+1","v":"2019-07-09"},{"$f":"PROPER(TEXT(A12,\"ddd\"))","v":"Ti"},{"$f":"HelligdagsNavn(A12,0,0)","v":""},null,null,null,"","00:00:00","",{"$f":"ColTime(T.!$J$3,T.!$L$3,D12,E12)","v":"00:00:00"},null,{"$f":"ColTime(TIME(T.!$J$4,0,0),TIME(T.!$L$4,0,0),D12,E12)","v":"00:00:00"},null,"","","",null,null,{"$f":"CHOOSE(WEEKDAY(A12,2),norm!C$1,norm!C$2,norm!C$3,norm!C$4,norm!C$5,norm!C$6,norm!C$7)","v":"09:00:00"},null,null,"","","","","",""]
[{"$f":"A12+1","v":"2019-07-10"},{"$f":"PROPER(TEXT(A13,\"ddd\"))","v":"On"},"",null,null,null,"","00:00:00","",{"$f":"ColTime(T.!$J$3,T.!$L$3,D13,E13)","v":"00:00:00"},null,{"$f":"ColTime(TIME(T.!$J$4,0,0),TIME(T.!$L$4,0,0),D13,E13)","v":"00:00:00"},null,"","","",null,null,{"$f":"CHOOSE(WEEKDAY(A13,2),norm!C$1,norm!C$2,norm!C$3,norm!C$4,norm!C$5,norm!C$6,norm!C$7)","v":"09:00:00"},null,null,"","","","","",""]
["2019-07-11","To","",null,null,null,"","00:00:00","",{"$f":"ColTime(T.!$J$3,T.!$L$3,D14,E14)","v":"00:00:00"},null,{"$f":"ColTime(TIME(T.!$J$4,0,0),TIME(T.!$L$4,0,0),D14,E14)","v":"00:00:00"},null,"","","",null,null,{"$f":"CHOOSE(WEEKDAY(A14,2),norm!C$1,norm!C$2,norm!C$3,norm!C$4,norm!C$5,norm!C$6,norm!C$7)","v":"09:00:00"},null,null,"","","","","",""]
["2019-07-12","Fr","",null,null,null,"","00:00:00","",{"$f":"ColTime(T.!$J$3,T.!$L$3,D15,E15)","v":"00:00:00"},null,{"$f":"ColTime(TIME(T.!$J$4,0,0),TIME(T.!$L$4,0,0),D15,E15)","v":"00:00:00"},null,"","","",null,null,{"$f":"CHOOSE(WEEKDAY(A15,2),norm!C$1,norm!C$2,norm!C$3,norm!C$4,norm!C$5,norm!C$6,norm!C$7)","v":"09:00:00"},null,null,"","","",null,"",""]
["2019-07-13","Lø","",null,null,null,"","00:00:00","",{"$f":"ColTime(T.!$J$3,T.!$L$3,D16,E16)","v":"00:00:00"},null,{"$f":"ColTime(TIME(T.!$J$4,0,0),TIME(T.!$L$4,0,0),D16,E16)","v":"00:00:00"},null,"00:00:00","","",null,null,{"$f":"CHOOSE(WEEKDAY(A16,2),norm!C$1,norm!C$2,norm!C$3,norm!C$4,norm!C$5,norm!C$6,norm!C$7)","v":"09:00:00"},null,null,"","","","","",""]
["2019-07-14","Sø","",null,null,null,"","00:00:00","",{"$f":"ColTime(T.!$J$3,T.!$L$3,D17,E17)","v":"00:00:00"},null,{"$f":"ColTime(TIME(T.!$J$4,0,0),TIME(T.!$L$4,0,0),D17,E17)","v":"00:00:00"},null,"","00:00:00","",null,null,{"$f":"CHOOSE(WEEKDAY(A17,2),norm!C$1,norm!C$2,norm!C$3,norm!C$4,norm!C$5,norm!C$6,norm!C$7)","v":"09:00:00"},null,null,"","","","","",""]
[{"$f":"A17+1","v":"2019-07-15"},{"$f":"PROPER(TEXT(A18,\"ddd\"))","v":"Ma"},{"$f":"HelligdagsNavn(A18,0,0)","v":""},null,null,null,"","00:00:00","",{"$f":"ColTime(T.!$J$3,T.!$L$3,D18,E18)","v":"00:00:00"},null,{"$f":"ColTime(TIME(T.!$J$4,0,0),TIME(T.!$L$4,0,0),D18,E18)","v":"00:00:00"},null,"","","",null,null,{"$f":"CHOOSE(WEEKDAY(A18,2),norm!C$1,norm!C$2,norm!C$3,norm!C$4,norm!C$5,norm!C$6,norm!C$7)","v":"09:00:00"},null,null,"","","","","",""]
[{"$f":"A18+1","v":"2019-07-16"},{"$f":"PROPER(TEXT(A19,\"ddd\"))","v":"Ti"},{"$f":"HelligdagsNavn(A19,0,0)","v":""},null,null,null,"","00:00:00","",{"$f":"ColTime(T.!$J$3,T.!$L$3,D19,E19)","v":"00:00:00"},null,{"$f":"ColTime(TIME(T.!$J$4,0,0),TIME(T.!$L$4,0,0),D19,E19)","v":"00:00:00"},null,"","","",null,null,{"$f":"CHOOSE(WEEKDAY(A19,2),norm!C$1,norm!C$2,norm!C$3,norm!C$4,norm!C$5,norm!C$6,norm!C$7)","v":"09:00:00"},null,null,"","","","","",""]
[{"$f":"A19+1","v":"2019-07-17"},{"$f":"PROPER(TEXT(A20,\"ddd\"))","v":"On"},"",null,null,null,"","00:00:00","",{"$f":"ColTime(T.!$J$3,T.!$L$3,D20,E20)","v":"00:00:00"},null,{"$f":"ColTime(TIME(T.!$J$4,0,0),TIME(T.!$L$4,0,0),D20,E20)","v":"00:00:00"},null,"","","",null,null,{"$f":"CHOOSE(WEEKDAY(A20,2),norm!C$1,norm!C$2,norm!C$3,norm!C$4,norm!C$5,norm!C$6,norm!C$7)","v":"09:00:00"},null,null,"","","","","",""]
["2019-07-18","To","",null,null,null,"","00:00:00","",{"$f":"ColTime(T.!$J$3,T.!$L$3,D21,E21)","v":"00:00:00"},null,{"$f":"ColTime(TIME(T.!$J$4,0,0),TIME(T.!$L$4,0,0),D21,E21)","v":"00:00:00"},null,"","","",null,null,{"$f":"CHOOSE(WEEKDAY(A21,2),norm!C$1,norm!C$2,norm!C$3,norm!C$4,norm!C$5,norm!C$6,norm!C$7)","v":"09:00:00"},null,null,"","","","","",""]
["2019-07-19","Fr","",null,null,null,"","00:00:00","",{"$f":"ColTime(T.!$J$3,T.!$L$3,D22,E22)","v":"00:00:00"},null,{"$f":"ColTime(TIME(T.!$J$4,0,0),TIME(T.!$L$4,0,0),D22,E22)","v":"00:00:00"},null,"","","",null,null,{"$f":"CHOOSE(WEEKDAY(A22,2),norm!C$1,norm!C$2,norm!C$3,norm!C$4,norm!C$5,norm!C$6,norm!C$7)","v":"09:00:00"},null,null,"","","","","",""]
["2019-07-20","Lø","",null,null,null,"","00:00:00","",{"$f":"ColTime(T.!$J$3,T.!$L$3,D23,E23)","v":"00:00:00"},null,{"$f":"ColTime(TIME(T.!$J$4,0,0),TIME(T.!$L$4,0,0),D23,E23)","v":"00:00:00"},null,"00:00:00","","",null,null,{"$f":"CHOOSE(WEEKDAY(A23,2),norm!C$1,norm!C$2,norm!C$3,norm!C$4,norm!C$5,norm!C$6,norm!C$7)","v":"09:00:00"},null,null,"","","","","",""]
["2019-07-21","Sø","",null,null,null,"","00:00:00","",{"$f":"ColTime(T.!$J$3,T.!$L$3,D24,E24)","v":"00:00:00"},null,{"$f":"ColTime(TIME(T.!$J$4,0,0),TIME(T.!$L$4,0,0),D24,E24)","v":"00:00:00"},null,"","00:00:00","",null,null,{"$f":"CHOOSE(WEEKDAY(A24,2),norm!C$1,norm!C$2,norm!C$3,norm!C$4,norm!C$5,norm!C$6,norm!C$7)","v":"09:00:00"},null,null,"","","","","",""]
[{"$f":"A24+1","v":"2019-07-22"},{"$f":"PROPER(TEXT(A25,\"ddd\"))","v":"Ma"},{"$f":"HelligdagsNavn(A25,0,0)","v":""},null,null,null,"","00:00:00","",{"$f":"ColTime(T.!$J$3,T.!$L$3,D25,E25)","v":"00:00:00"},null,{"$f":"ColTime(TIME(T.!$J$4,0,0),TIME(T.!$L$4,0,0),D25,E25)","v":"00:00:00"},null,"","","",null,null,{"$f":"CHOOSE(WEEKDAY(A25,2),norm!C$1,norm!C$2,norm!C$3,norm!C$4,norm!C$5,norm!C$6,norm!C$7)","v":"09:00:00"},null,null,"","","","","",""]
[{"$f":"A25+1","v":"2019-07-23"},{"$f":"PROPER(TEXT(A26,\"ddd\"))","v":"Ti"},{"$f":"HelligdagsNavn(A26,0,0)","v":""},null,null,null,"","00:00:00","",{"$f":"ColTime(T.!$J$3,T.!$L$3,D26,E26)","v":"00:00:00"},null,{"$f":"ColTime(TIME(T.!$J$4,0,0),TIME(T.!$L$4,0,0),D26,E26)","v":"00:00:00"},null,"","","",null,null,{"$f":"CHOOSE(WEEKDAY(A26,2),norm!C$1,norm!C$2,norm!C$3,norm!C$4,norm!C$5,norm!C$6,norm!C$7)","v":"09:00:00"},null,null,"","","","","",""]
[{"$f":"A26+1","v":"2019-07-24"},{"$f":"PROPER(TEXT(A27,\"ddd\"))","v":"On"},"",null,null,null,"","00:00:00","",{"$f":"ColTime(T.!$J$3,T.!$L$3,D27,E27)","v":"00:00:00"},null,{"$f":"ColTime(TIME(T.!$J$4,0,0),TIME(T.!$L$4,0,0),D27,E27)","v":"00:00:00"},null,"","","",null,null,{"$f":"CHOOSE(WEEKDAY(A27,2),norm!C$1,norm!C$2,norm!C$3,norm!C$4,norm!C$5,norm!C$6,norm!C$7)","v":"09:00:00"},null,null,"","","","","",""]
["2019-07-25","To","",null,null,null,"","00:00:00","",{"$f":"ColTime(T.!$J$3,T.!$L$3,D28,E28)","v":"00:00:00"},null,{"$f":"ColTime(TIME(T.!$J$4,0,0),TIME(T.!$L$4,0,0),D28,E28)","v":"00:00:00"},null,"","","",null,null,{"$f":"CHOOSE(WEEKDAY(A28,2),norm!C$1,norm!C$2,norm!C$3,norm!C$4,norm!C$5,norm!C$6,norm!C$7)","v":"09:00:00"},null,null,"","","","","",""]
["2019-07-26","Fr","",null,null,null,"","00:00:00","",{"$f":"ColTime(T.!$J$3,T.!$L$3,D29,E29)","v":"00:00:00"},null,{"$f":"ColTime(TIME(T.!$J$4,0,0),TIME(T.!$L$4,0,0),D29,E29)","v":"00:00:00"},null,"","","",null,null,{"$f":"CHOOSE(WEEKDAY(A29,2),norm!C$1,norm!C$2,norm!C$3,norm!C$4,norm!C$5,norm!C$6,norm!C$7)","v":"09:00:00"}]
["2019-07-27","Lø","",null,null,null,"","00:00:00","",{"$f":"ColTime(T.!$J$3,T.!$L$3,D30,E30)","v":"00:00:00"},null,{"$f":"ColTime(TIME(T.!$J$4,0,0),TIME(T.!$L$4,0,0),D30,E30)","v":"00:00:00"},null,"00:00:00","","",null,null,{"$f":"CHOOSE(WEEKDAY(A30,2),norm!C$1,norm!C$2,norm!C$3,norm!C$4,norm!C$5,norm!C$6,norm!C$7)","v":"09:00:00"}]
["2019-07-28","Sø","",null,null,null,"","00:00:00","",{"$f":"ColTime(T.!$J$3,T.!$L$3,D31,E31)","v":"00:00:00"},null,{"$f":"ColTime(TIME(T.!$J$4,0,0),TIME(T.!$L$4,0,0),D31,E31)","v":"00:00:00"},null,"","00:00:00","",null,null,{"$f":"CHOOSE(WEEKDAY(A31,2),norm!C$1,norm!C$2,norm!C$3,norm!C$4,norm!C$5,norm!C$6,norm!C$7)","v":"09:00:00"}]
[{"$f":"IF(MONTH(A31+1)>MONTH(A31),\"\",A31+1)","v":"2019-07-29"},"Ma",{"$f":"IF(A32=\"\",\"\",HelligdagsNavn(A32,0,0))","v":""},null,null,null,"","00:00:00","",{"$f":"ColTime(T.!$J$3,T.!$L$3,D32,E32)","v":"00:00:00"},null,{"$f":"ColTime(TIME(T.!$J$4,0,0),TIME(T.!$L$4,0,0),D32,E32)","v":"00:00:00"},null,{"$f":"IFERROR(IF(WEEKDAY(A32,2)=6,ColTime(TIME(15,0,0),TIME(24,0,0),D32,E32),\"\"),\"\")","v":""},{"$f":"IFERROR(IF(OR(C32<>\"\",WEEKDAY(A32,2)=7),ColTime(TIME(0,0,0),TIME(24,0,0),D32,E32),\"\"),\"\")","v":""},"",null,null,{"$f":"IFERROR(CHOOSE(WEEKDAY(A32,2),norm!C$1,norm!C$2,norm!C$3,norm!C$4,norm!C$5,norm!C$6,norm!C$7),\"\")","v":"09:00:00"}]
[{"$f":"IFERROR(IF(MONTH(A32+1)>MONTH(A32),\"\",A32+1),\"\")","v":"2019-07-30"},"Ti","",null,null,null,"","00:00:00","",{"$f":"ColTime(T.!$J$3,T.!$L$3,D33,E33)","v":"00:00:00"},null,{"$f":"ColTime(TIME(T.!$J$4,0,0),TIME(T.!$L$4,0,0),D33,E33)","v":"00:00:00"},null,{"$f":"IFERROR(IF(WEEKDAY(A33,2)=6,ColTime(TIME(15,0,0),TIME(24,0,0),D33,E33),\"\"),\"\")","v":""},{"$f":"IFERROR(IF(OR(C33<>\"\",WEEKDAY(A33,2)=7),ColTime(TIME(0,0,0),TIME(24,0,0),D33,E33),\"\"),\"\")","v":""},"",null,null,{"$f":"IFERROR(CHOOSE(WEEKDAY(A33,2),norm!C$1,norm!C$2,norm!C$3,norm!C$4,norm!C$5,norm!C$6,norm!C$7),\"\")","v":"09:00:00"}]
[{"$f":"IFERROR(IF(MONTH(A33+1)>MONTH(A33),\"\",A33+1),\"\")","v":"2019-07-31"},{"$f":"IFERROR(PROPER(TEXT(A34,\"ddd\")),\"\")","v":"On"},{"$f":"IF(A34=\"\",\"\",HelligdagsNavn(A34,0,0))","v":""},null,null,null,"","00:00:00","",{"$f":"ColTime(T.!$J$3,T.!$L$3,D34,E34)","v":"00:00:00"},null,{"$f":"ColTime(TIME(T.!$J$4,0,0),TIME(T.!$L$4,0,0),D34,E34)","v":"00:00:00"},null,{"$f":"IFERROR(IF(WEEKDAY(A34,2)=6,ColTime(TIME(15,0,0),TIME(24,0,0),D34,E34),\"\"),\"\")","v":""},"","",null,null,{"$f":"IFERROR(CHOOSE(WEEKDAY(A34,2),norm!C$1,norm!C$2,norm!C$3,norm!C$4,norm!C$5,norm!C$6,norm!C$7),\"\")","v":"09:00:00"},null,null,{"$f":"IF(D34=\"\",\"\",HOUR(D34))","v":""},{"$f":"IF(D34=\"\",\"\",MINUTE(D34))","v":""},{"$f":"IF(D34=\"\",\"\",TIME(HOUR(D34),MINUTE(D34),0))","v":""},{"$f":"IF(E34=\"\",\"\",HOUR(E34))","v":""},{"$f":"IF(E34=\"\",\"\",MINUTE(E34))","v":""},{"$f":"IF(E34=\"\",\"\",TIME(HOUR(E34),MINUTE(E34),0))","v":""}]
["Total timer",null,null,null,null,null,{"$f":"IF(SUM(G9:G34)<>\"0\",SUM(G4:G34),\"\")","v":2.4479166666666665},{"$f":"IF(SUM(H4:H34)<>\"0\",SUM(H4:H34),\"\")","v":0.21874999999999994},{"$f":"IF(SUM(I4:I34)<>\"0\",SUM(I4:I34),\"\")","v":0.1458333333333332},{"$f":"IF(SUM(J4:J34)<>\"0\",SUM(J4:J34),\"\")","v":0.27083333333333337},null,{"$f":"SUM(L4:M34)","v":"07:45:00"},null,{"$f":"IF(SUM(N4:N34)<>\"0\",SUM(N4:N34),\"\")","v":0.20833333333333326},{"$f":"IF(SUM(O4:O34)<>\"0\",SUM(O4:O34),\"\")","v":"12:00:00"},{"$f":"SUM(P4:P34)","v":0.2708333333333332},{"$f":"SUM(Q4:Q34)","v":0}]
["Timer 1/100",null,null,null,null,null,{"$f":"IF(G35<>\"\",ROUND(G35*24,2),\"\")","v":58.75},{"$f":"IF(H35<>\"\",ROUND(H35*24,2),\"\")","v":5.25},3.5,{"$f":"IF(J35<>\"\",ROUND(J35*24,2),\"\")","v":6.5},null,{"$f":"IF(L35<>\"\",ROUND(L35*24,2),\"\")","v":7.75},null,{"$f":"IF(N35<>\"\",ROUND(N35*24,2),\"\")","v":5},12,6.5,0]
["Satser",null,null,null,null,null,{"$f":"Satser!B7","v":107.35},{"$f":"Satser!B9","v":36.35},{"$f":"Satser!B12","v":58.1},{"$f":"Satser!B17","v":25.6},null,{"$f":"Satser!B18","v":34.200000000000003},null,{"$f":"Satser!B19","v":45.1},{"$f":"Satser!B20","v":50.6}]
[null,null,null,null,null,null,{"$f":"IF(G35<>\"\",G36*G37,\"\")","v":6306.8125},{"$f":"IF(H35<>\"\",H36*H37,\"\")","v":190.83750000000001},203.35,{"$f":"IF(J35<>\"\",J36*J37,\"\")","v":166.4},null,{"$f":"IF(L35<>\"\",L36*L36,\"\")","v":60.0625},null,{"$f":"IF(N35<>\"\",N36*N37,\"\")","v":225.5},607.20000000000005]
[]
["Lønart"]
[3025,null,null,null,null,null,{"$f":"G35","v":2.4479166666666665}]
[3425,null,null,null,null,null,{"$f":"H35","v":0.21874999999999994}]
[3428,null,null,null,null,null,{"$f":"I35","v":0.1458333333333332}]
["Timer",null,null,null,null,null,{"$f":"SUM(G41:G43)","v":2.8124999999999996},{"$f":"IF(G44<>\"\",ROUND(G44*24,2),\"\")","v":67.5}]
[null,null,null,null,null,null,null,{"$f":"G37*H44","v":7246.125}]

{"sheet":"August","index":8,"n_rows":45,"n_cols":35,"rows_kept":45,"cut":false,"hidden":true,"merged":[[4,9,4,10],[4,11,4,12],[0,1,0,7],[0,10,0,11],[0,13,0,14],[1,1,1,2],[1,9,1,10],[1,11,1,12],[2,1,2,2],[2,9,2,10],[2,11,2,12],[3,9,3,10],[3,11,3,12],[5,9,5,10],[5,11,5,12],[6,9,6,10],[6,11,6,12],[7,9,7,10],[7,11,7,12],[8,9,8,10],[8,11,8,12],[9,9,9,10],[9,11,9,12],[10,9,10,10],[10,11,10,12],[11,9,11,10],[11,11,11,12],[12,9,12,10],[12,11,12,12],[13,9,13,10],[13,11,13,12],[14,9,14,10],[14,11,14,12],[15,9,15,10],[15,11,15,12],[16,9,16,10],[16,11,16,12],[17,9,17,10],[17,11,17,12],[18,9,18,10],[18,11,18,12],[19,9,19,10],[19,11,19,12],[20,9,20,10],[20,11,20,12],[21,9,21,10],[21,11,21,12],[22,9,22,10],[22,11,22,12],[23,9,23,10],[23,11,23,12],[24,9,24,10],[24,11,24,12],[25,9,25,10],[25,11,25,12],[26,9,26,10],[26,11,26,12],[27,9,27,10],[27,11,27,12],[28,9,28,10],[28,11,28,12],[29,9,29,10],[29,11,29,12],[30,9,30,10],[30,11,30,12],[31,9,31,10],[31,11,31,12],[32,9,32,10],[32,11,32,12],[33,9,33,10],[33,11,33,12],[34,9,34,10],[34,11,34,12],[35,9,35,10],[35,11,35,12],[36,9,36,10],[36,11,36,12],[37,9,37,10],[37,11,37,12],[39,0,39,2],[40,0,40,2],[41,0,41,2],[42,0,42,2],[43,0,43,5]]}
["Løn",{"$f":"PROPER(TEXT(A4,\"dd mmmm åååå\")) & PROPER(TEXT(N1,\"  -  dd mmmm åååå\"))","v":"01 August 2019  -  31 August 2019"},null,null,null,null,null,null,"Uge :",{"$f":"IF(A4=\"\",\"\",TRUNC((A4-WEEKDAY(A4,2)-DATE(YEAR(A4+4-WEEKDAY(A4,2)),1,-10))/7))","v":31},"-",null,{"$f":"IF(A25=\"\",\"\",TRUNC((A25-WEEKDAY(A25,2)-DATE(YEAR(A25+4-WEEKDAY(A25,2)),1,-10))/7))","v":34},{"$f":"EOMONTH(A4,0)","v":"2019-08-31"},null,8,null,null,null,null,null,"Time beregning:",null,null,null,null,null,null,null,null,null,null,"06:00:00","18:00:00","03:00:00"]
["Lønart",null,null,null,null,null,null,null,null,null,null,null,null,null,null,null,null,null,null,null,null,"Betalt pause ved vagt over 5 timer",null,null,null,"00:25:00","minutter","00:00:00","06:00:00","17:00:00","14:00:00"]
["Dato","Dag",null,"Start","Slut","Pause","Arb. Tid","Overtid           1-3 time","Overtid            4 - time","Forskudt tid alle dage\n18-23",null,"Natarbejde 23-06",null,"Lørdag tillæg 14 - 24","Søndag tillæg 00 - 24","Optjent afspadsering","Afholdt afspadsering","Syge Timer","norm"]
[{"$f":"DATE(T.!$B$1,$P$1,1)","v":"2019-08-01"},{"$f":"PROPER(TEXT(A4,\"ddd\"))","v":"To"},{"$f":"HelligdagsNavn(A4,0,0)","v":""},"07:00:00","16:00:00","00:30:00",{"$f":"IF(D4=\"\",\"\",(E4-D4)+(D4>E4)-F4)","v":0.35416666666666663},{"$f":"IF(G4=\"\",0,IF(WEEKDAY(A4,2)=7,0,IF(G4>S4,MIN(G4-S4,$AI$1),0)))","v":"00:00:00"},{"$f":"IF(G4=\"\",\"\",IF(G4>S4+H4,G4-(S4+H4),\"\"))","v":""},{"$f":"ColTime(T.!$J$3,T.!$L$3,D4,E4)","v":"00:00:00"},null,{"$f":"ColTime(TIME(T.!$J$4,0,0),TIME(T.!$L$4,0,0),D4,E4)","v":"00:00:00"},null,{"$f":"IF(WEEKDAY(A4,2)=6,ColTime(TIME(14,0,0),TIME(24,0,0),D4,E4),\"\")","v":""},{"$f":"IF(OR(C4<>\"\",WEEKDAY(A4,2)=7),ColTime(TIME(0,0,0),TIME(24,0,0),D4,E4),\"\")","v":""},{"$f":"IFERROR(H4+I4,\"\")","v":""},null,null,{"$f":"CHOOSE(WEEKDAY(A4,2),norm!C$1,norm!C$2,norm!C$3,norm!C$4,norm!C$5,norm!C$6,norm!C$7)","v":"09:00:00"},null,null,{"$f":"IF(D4=\"\",\"\",HOUR(D4))","v":7},{"$f":"IF(D4=\"\",\"\",MINUTE(D4))","v":0},{"$f":"IF(D4=\"\",\"\",TIME(HOUR(D4),MINUTE(D4),0))","v":"07:00:00"},{"$f":"IF(E4=\"\",\"\",HOUR(E4))","v":16},{"$f":"IF(E4=\"\",\"\",MINUTE(E4))","v":0},"02:00:00","09:30:00","11:30:00",null,null,null,{"$f":"MIN(G4-S4,3)","v":-2.083333333333337E-2}]
[{"$f":"A4+1","v":"2019-08-02"},{"$f":"PROPER(TEXT(A5,\"ddd\"))","v":"Fr"},{"$f":"HelligdagsNavn(A5,0,0)","v":""},"13:45:00","21:30:00","00:30:00",{"$f":"IF(D5=\"\",\"\",(E5-D5)+(D5>E5)-F5)","v":0.30208333333333343},{"$f":"IF(G5=\"\",0,IF(WEEKDAY(A5,2)=7,0,IF(G5>S5,MIN(G5-S5,$AI$1),0)))","v":"00:00:00"},{"$f":"IF(G5=\"\",\"\",IF(G5>S5+H5,G5-(S5+H5),\"\"))","v":""},{"$f":"ColTime(T.!$J$3,T.!$L$3,D5,E5)","v":"03:30:00"},null,{"$f":"ColTime(TIME(T.!$J$4,0,0),TIME(T.!$L$4,0,0),D5,E5)","v":"00:00:00"},null,"","",{"$f":"IFERROR(H5+I5,\"\")","v":""},null,null,{"$f":"CHOOSE(WEEKDAY(A5,2),norm!C$1,norm!C$2,norm!C$3,norm!C$4,norm!C$5,norm!C$6,norm!C$7)","v":"09:00:00"},null,null,13,45,"13:45:00",21,30,{"$f":"IF(E5=\"\",\"\",TIME(HOUR(E5),MINUTE(E5),0))","v":"21:30:00"},null,null,null,null,null,null,"Der taste kun i de Gule celler"]
[{"$f":"A5+1","v":"2019-08-03"},{"$f":"PROPER(TEXT(A6,\"ddd\"))","v":"Lø"},"","22:00:00","05:45:00","00:30:00",0.30208333333333343,"00:00:00","",{"$f":"ColTime(T.!$J$3,T.!$L$3,D6,E6)","v":"01:00:00"},null,{"$f":"ColTime(TIME(T.!$J$4,0,0),TIME(T.!$L$4,0,0),D6,E6)","v":"06:45:00"},null,"02:00:00","",{"$f":"IFERROR(H6+I6,\"\")","v":""},null,null,{"$f":"CHOOSE(WEEKDAY(A6,2),norm!C$1,norm!C$2,norm!C$3,norm!C$4,norm!C$5,norm!C$6,norm!C$7)","v":"09:00:00"},null,null,22,0,"22:00:00",5,45,"05:45:00"]
["2019-08-04","Sø","","05:00:00","16:45:00","00:30:00",0.46874999999999994,"00:00:00","02:15:00",{"$f":"ColTime(T.!$J$3,T.!$L$3,D7,E7)","v":"00:00:00"},null,{"$f":"ColTime(TIME(T.!$J$4,0,0),TIME(T.!$L$4,0,0),D7,E7)","v":"01:00:00"},null,"","11:45:00",{"$f":"IFERROR(H7+I7,\"\")","v":"02:15:00"},null,null,{"$f":"CHOOSE(WEEKDAY(A7,2),norm!C$1,norm!C$2,norm!C$3,norm!C$4,norm!C$5,norm!C$6,norm!C$7)","v":"09:00:00"},null,null,5,0,"05:00:00",16,45,"16:45:00"]
["2019-08-05","Ma","",null,null,null,"","00:00:00","",{"$f":"ColTime(T.!$J$3,T.!$L$3,D8,E8)","v":"00:00:00"},null,{"$f":"ColTime(TIME(T.!$J$4,0,0),TIME(T.!$L$4,0,0),D8,E8)","v":"00:00:00"},null,"","",{"$f":"IFERROR(H8+I8,\"\")","v":""},null,null,{"$f":"CHOOSE(WEEKDAY(A8,2),norm!C$1,norm!C$2,norm!C$3,norm!C$4,norm!C$5,norm!C$6,norm!C$7)","v":"09:00:00"},null,null,"","","","","",""]
["2019-08-06","Ti","","06:00:00","19:00:00","00:30:00",0.52083333333333326,"03:00:00","00:30:00",{"$f":"ColTime(T.!$J$3,T.!$L$3,D9,E9)","v":"01:00:00"},null,{"$f":"ColTime(TIME(T.!$J$4,0,0),TIME(T.!$L$4,0,0),D9,E9)","v":"00:00:00"},null,"",{"$f":"IF(OR(C9<>\"\",WEEKDAY(A9,2)=7),ColTime(TIME(0,0,0),TIME(24,0,0),D9,E9),\"\")","v":""},{"$f":"IFERROR(H9+I9,\"\")","v":"03:30:00"},null,null,{"$f":"CHOOSE(WEEKDAY(A9,2),norm!C$1,norm!C$2,norm!C$3,norm!C$4,norm!C$5,norm!C$6,norm!C$7)","v":"09:00:00"},null,null,6,0,"06:00:00",19,0,"19:00:00"]
["2019-08-07","On","","07:00:00","19:00:00",null,0.49999999999999994,"03:00:00","",{"$f":"ColTime(T.!$J$3,T.!$L$3,D10,E10)","v":"01:00:00"},null,{"$f":"ColTime(TIME(T.!$J$4,0,0),TIME(T.!$L$4,0,0),D10,E10)","v":"00:00:00"},null,{"$f":"IF(WEEKDAY(A10,2)=6,ColTime(TIME(14,0,0),TIME(24,0,0),D10,E10),\"\")","v":""},{"$f":"IF(OR(C10<>\"\",WEEKDAY(A10,2)=7),ColTime(TIME(0,0,0),TIME(24,0,0),D10,E10),\"\")","v":""},"",null,null,{"$f":"CHOOSE(WEEKDAY(A10,2),norm!C$1,norm!C$2,norm!C$3,norm!C$4,norm!C$5,norm!C$6,norm!C$7)","v":"09:00:00"},null,null,7,0,"07:00:00",19,0,"19:00:00"]
[{"$f":"A10+1","v":"2019-08-08"},{"$f":"PROPER(TEXT(A11,\"ddd\"))","v":"To"},{"$f":"HelligdagsNavn(A11,0,0)","v":""},null,null,null,"","00:00:00","",{"$f":"ColTime(T.!$J$3,T.!$L$3,D11,E11)","v":"00:00:00"},null,{"$f":"ColTime(TIME(T.!$J$4,0,0),TIME(T.!$L$4,0,0),D11,E11)","v":"00:00:00"},null,{"$f":"IF(WEEKDAY(A11,2)=6,ColTime(TIME(15,0,0),TIME(24,0,0),D11,E11),\"\")","v":""},"","",null,null,{"$f":"CHOOSE(WEEKDAY(A11,2),norm!C$1,norm!C$2,norm!C$3,norm!C$4,norm!C$5,norm!C$6,norm!C$7)","v":"09:00:00"},null,null,"","","","","",""]
[{"$f":"A11+1","v":"2019-08-09"},{"$f":"PROPER(TEXT(A12,\"ddd\"))","v":"Fr"},{"$f":"HelligdagsNavn(A12,0,0)","v":""},null,null,null,"","00:00:00","",{"$f":"ColTime(T.!$J$3,T.!$L$3,D12,E12)","v":"00:00:00"},null,{"$f":"ColTime(TIME(T.!$J$4,0,0),TIME(T.!$L$4,0,0),D12,E12)","v":"00:00:00"},null,"","","",null,null,{"$f":"CHOOSE(WEEKDAY(A12,2),norm!C$1,norm!C$2,norm!C$3,norm!C$4,norm!C$5,norm!C$6,norm!C$7)","v":"09:00:00"},null,null,"","","","","",""]
[{"$f":"A12+1","v":"2019-08-10"},{"$f":"PROPER(TEXT(A13,\"ddd\"))","v":"Lø"},"",null,null,null,"","00:00:00","",{"$f":"ColTime(T.!$J$3,T.!$L$3,D13,E13)","v":"00:00:00"},null,{"$f":"ColTime(TIME(T.!$J$4,0,0),TIME(T.!$L$4,0,0),D13,E13)","v":"00:00:00"},null,"00:00:00","","",null,null,{"$f":"CHOOSE(WEEKDAY(A13,2),norm!C$1,norm!C$2,norm!C$3,norm!C$4,norm!C$5,norm!C$6,norm!C$7)","v":"09:00:00"},null,null,"","","","","",""]
["2019-08-11","Sø","",null,null,null,"","00:00:00","",{"$f":"ColTime(T.!$J$3,T.!$L$3,D14,E14)","v":"00:00:00"},null,{"$f":"ColTime(TIME(T.!$J$4,0,0),TIME(T.!$L$4,0,0),D14,E14)","v":"00:00:00"},null,"","00:00:00","",null,null,{"$f":"CHOOSE(WEEKDAY(A14,2),norm!C$1,norm!C$2,norm!C$3,norm!C$4,norm!C$5,norm!C$6,norm!C$7)","v":"09:00:00"},null,null,"","","","","",""]
["2019-08-12","Ma","",null,null,null,"","00:00:00","",{"$f":"ColTime(T.!$J$3,T.!$L$3,D15,E15)","v":"00:00:00"},null,{"$f":"ColTime(TIME(T.!$J$4,0,0),TIME(T.!$L$4,0,0),D15,E15)","v":"00:00:00"},null,"","","",null,null,{"$f":"CHOOSE(WEEKDAY(A15,2),norm!C$1,norm!C$2,norm!C$3,norm!C$4,norm!C$5,norm!C$6,norm!C$7)","v":"09:00:00"},null,null,"","","",null,"",""]
["2019-08-13","Ti","",null,null,null,"","00:00:00","",{"$f":"ColTime(T.!$J$3,T.!$L$3,D16,E16)","v":"00:00:00"},null,{"$f":"ColTime(TIME(T.!$J$4,0,0),TIME(T.!$L$4,0,0),D16,E16)","v":"00:00:00"},null,"","","",null,null,{"$f":"CHOOSE(WEEKDAY(A16,2),norm!C$1,norm!C$2,norm!C$3,norm!C$4,norm!C$5,norm!C$6,norm!C$7)","v":"09:00:00"},null,null,"","","","","",""]
["2019-08-14","On","",null,null,null,"","00:00:00","",{"$f":"ColTime(T.!$J$3,T.!$L$3,D17,E17)","v":"00:00:00"},null,{"$f":"ColTime(TIME(T.!$J$4,0,0),TIME(T.!$L$4,0,0),D17,E17)","v":"00:00:00"},null,"","","",null,null,{"$f":"CHOOSE(WEEKDAY(A17,2),norm!C$1,norm!C$2,norm!C$3,norm!C$4,norm!C$5,norm!C$6,norm!C$7)","v":"09:00:00"},null,null,"","","","","",""]
[{"$f":"A17+1","v":"2019-08-15"},{"$f":"PROPER(TEXT(A18,\"ddd\"))","v":"To"},{"$f":"HelligdagsNavn(A18,0,0)","v":""},null,null,null,"","00:00:00","",{"$f":"ColTime(T.!$J$3,T.!$L$3,D18,E18)","v":"00:00:00"},null,{"$f":"ColTime(TIME(T.!$J$4,0,0),TIME(T.!$L$4,0,0),D18,E18)","v":"00:00:00"},null,"","","",null,null,{"$f":"CHOOSE(WEEKDAY(A18,2),norm!C$1,norm!C$2,norm!C$3,norm!C$4,norm!C$5,norm!C$6,norm!C$7)","v":"09:00:00"},null,null,"","","","","",""]
[{"$f":"A18+1","v":"2019-08-16"},{"$f":"PROPER(TEXT(A19,\"ddd\"))","v":"Fr"},{"$f":"HelligdagsNavn(A19,0,0)","v":""},null,null,null,"","00:00:00","",{"$f":"ColTime(T.!$J$3,T.!$L$3,D19,E19)","v":"00:00:00"},null,{"$f":"ColTime(TIME(T.!$J$4,0,0),TIME(T.!$L$4,0,0),D19,E19)","v":"00:00:00"},null,"","","",null,null,{"$f":"CHOOSE(WEEKDAY(A19,2),norm!C$1,norm!C$2,norm!C$3,norm!C$4,norm!C$5,norm!C$6,norm!C$7)","v":"09:00:00"},null,null,"","","","","",""]
[{"$f":"A19+1","v":"2019-08-17"},{"$f":"PROPER(TEXT(A20,\"ddd\"))","v":"Lø"},"",null,null,null,"","00:00:00","",{"$f":"ColTime(T.!$J$3,T.!$L$3,D20,E20)","v":"00:00:00"},null,{"$f":"ColTime(TIME(T.!$J$4,0,0),TIME(T.!$L$4,0,0),D20,E20)","v":"00:00:00"},null,"00:00:00","","",null,null,{"$f":"CHOOSE(WEEKDAY(A20,2),norm!C$1,norm!C$2,norm!C$3,norm!C$4,norm!C$5,norm!C$6,norm!C$7)","v":"09:00:00"},null,null,"","","","","",""]
["2019-08-18","Sø","",null,null,null,"","00:00:00","",{"$f":"ColTime(T.!$J$3,T.!$L$3,D21,E21)","v":"00:00:00"},null,{"$f":"ColTime(TIME(T.!$J$4,0,0),TIME(T.!$L$4,0,0),D21,E21)","v":"00:00:00"},null,"","00:00:00","",null,null,{"$f":"CHOOSE(WEEKDAY(A21,2),norm!C$1,norm!C$2,norm!C$3,norm!C$4,norm!C$5,norm!C$6,norm!C$7)","v":"09:00:00"},null,null,"","","","","",""]
["2019-08-19","Ma","",null,null,null,"","00:00:00","",{"$f":"ColTime(T.!$J$3,T.!$L$3,D22,E22)","v":"00:00:00"},null,{"$f":"ColTime(TIME(T.!$J$4,0,0),TIME(T.!$L$4,0,0),D22,E22)","v":"00:00:00"},null,"","","",null,null,{"$f":"CHOOSE(WEEKDAY(A22,2),norm!C$1,norm!C$2,norm!C$3,norm!C$4,norm!C$5,norm!C$6,norm!C$7)","v":"09:00:00"},null,null,"","","","","",""]
["2019-08-20","Ti","",null,null,null,"","00:00:00","",{"$f":"ColTime(T.!$J$3,T.!$L$3,D23,E23)","v":"00:00:00"},null,{"$f":"ColTime(TIME(T.!$J$4,0,0),TIME(T.!$L$4,0,0),D23,E23)","v":"00:00:00"},null,"","","",null,null,{"$f":"CHOOSE(WEEKDAY(A23,2),norm!C$1,norm!C$2,norm!C$3,norm!C$4,norm!C$5,norm!C$6,norm!C$7)","v":"09:00:00"},null,null,"","","","","",""]
["2019-08-21","On","",null,null,null,"","00:00:00","",{"$f":"ColTime(T.!$J$3,T.!$L$3,D24,E24)","v":"00:00:00"},null,{"$f":"ColTime(TIME(T.!$J$4,0,0),TIME(T.!$L$4,0,0),D24,E24)","v":"00:00:00"},null,"","","",null,null,{"$f":"CHOOSE(WEEKDAY(A24,2),norm!C$1,norm!C$2,norm!C$3,norm!C$4,norm!C$5,norm!C$6,norm!C$7)","v":"09:00:00"},null,null,"","","","","",""]
[{"$f":"A24+1","v":"2019-08-22"},{"$f":"PROPER(TEXT(A25,\"ddd\"))","v":"To"},{"$f":"HelligdagsNavn(A25,0,0)","v":""},null,null,null,"","00:00:00","",{"$f":"ColTime(T.!$J$3,T.!$L$3,D25,E25)","v":"00:00:00"},null,{"$f":"ColTime(TIME(T.!$J$4,0,0),TIME(T.!$L$4,0,0),D25,E25)","v":"00:00:00"},null,"","","",null,null,{"$f":"CHOOSE(WEEKDAY(A25,2),norm!C$1,norm!C$2,norm!C$3,norm!C$4,norm!C$5,norm!C$6,norm!C$7)","v":"09:00:00"},null,null,"","","","","",""]
[{"$f":"A25+1","v":"2019-08-23"},{"$f":"PROPER(TEXT(A26,\"ddd\"))","v":"Fr"},{"$f":"HelligdagsNavn(A26,0,0)","v":""},null,null,null,"","00:00:00","",{"$f":"ColTime(T.!$J$3,T.!$L$3,D26,E26)","v":"00:00:00"},null,{"$f":"ColTime(TIME(T.!$J$4,0,0),TIME(T.!$L$4,0,0),D26,E26)","v":"00:00:00"},null,"","","",null,null,{"$f":"CHOOSE(WEEKDAY(A26,2),norm!C$1,norm!C$2,norm!C$3,norm!C$4,norm!C$5,norm!C$6,norm!C$7)","v":"09:00:00"},null,null,"","","","","",""]
[{"$f":"A26+1","v":"2019-08-24"},{"$f":"PROPER(TEXT(A27,\"ddd\"))","v":"Lø"},"",null,null,null,"","00:00:00","",{"$f":"ColTime(T.!$J$3,T.!$L$3,D27,E27)","v":"00:00:00"},null,{"$f":"ColTime(TIME(T.!$J$4,0,0),TIME(T.!$L$4,0,0),D27,E27)","v":"00:00:00"},null,"00:00:00","","",null,null,{"$f":"CHOOSE(WEEKDAY(A27,2),norm!C$1,norm!C$2,norm!C$3,norm!C$4,norm!C$5,norm!C$6,norm!C$7)","v":"09:00:00"},null,null,"","","","","",""]
["2019-08-25","Sø","",null,null,null,"","00:00:00","",{"$f":"ColTime(T.!$J$3,T.!$L$3,D28,E28)","v":"00:00:00"},null,{"$f":"ColTime(TIME(T.!$J$4,0,0),TIME(T.!$L$4,0,0),D28,E28)","v":"00:00:00"},null,"","00:00:00","",null,null,{"$f":"CHOOSE(WEEKDAY(A28,2),norm!C$1,norm!C$2,norm!C$3,norm!C$4,norm!C$5,norm!C$6,norm!C$7)","v":"09:00:00"},null,null,"","","","","",""]
["2019-08-26","Ma","",null,null,null,"","00:00:00","",{"$f":"ColTime(T.!$J$3,T.!$L$3,D29,E29)","v":"00:00:00"},null,{"$f":"ColTime(TIME(T.!$J$4,0,0),TIME(T.!$L$4,0,0),D29,E29)","v":"00:00:00"},null,"","","",null,null,{"$f":"CHOOSE(WEEKDAY(A29,2),norm!C$1,norm!C$2,norm!C$3,norm!C$4,norm!C$5,norm!C$6,norm!C$7)","v":"09:00:00"}]
["2019-08-27","Ti","",null,null,null,"","00:00:00","",{"$f":"ColTime(T.!$J$3,T.!$L$3,D30,E30)","v":"00:00:00"},null,{"$f":"ColTime(TIME(T.!$J$4,0,0),TIME(T.!$L$4,0,0),D30,E30)","v":"00:00:00"},null,"","","",null,null,{"$f":"CHOOSE(WEEKDAY(A30,2),norm!C$1,norm!C$2,norm!C$3,norm!C$4,norm!C$5,norm!C$6,norm!C$7)","v":"09:00:00"}]
["2019-08-28","On","",null,null,null,"","00:00:00","",{"$f":"ColTime(T.!$J$3,T.!$L$3,D31,E31)","v":"00:00:00"},null,{"$f":"ColTime(TIME(T.!$J$4,0,0),TIME(T.!$L$4,0,0),D31,E31)","v":"00:00:00"},null,"","","",null,null,{"$f":"CHOOSE(WEEKDAY(A31,2),norm!C$1,norm!C$2,norm!C$3,norm!C$4,norm!C$5,norm!C$6,norm!C$7)","v":"09:00:00"}]
[{"$f":"IF(MONTH(A31+1)>MONTH(A31),\"\",A31+1)","v":"2019-08-29"},"To",{"$f":"IF(A32=\"\",\"\",HelligdagsNavn(A32,0,0))","v":""},null,null,null,"","00:00:00","",{"$f":"ColTime(T.!$J$3,T.!$L$3,D32,E32)","v":"00:00:00"},null,{"$f":"ColTime(TIME(T.!$J$4,0,0),TIME(T.!$L$4,0,0),D32,E32)","v":"00:00:00"},null,{"$f":"IFERROR(IF(WEEKDAY(A32,2)=6,ColTime(TIME(15,0,0),TIME(24,0,0),D32,E32),\"\"),\"\")","v":""},{"$f":"IFERROR(IF(OR(C32<>\"\",WEEKDAY(A32,2)=7),ColTime(TIME(0,0,0),TIME(24,0,0),D32,E32),\"\"),\"\")","v":""},"",null,null,{"$f":"IFERROR(CHOOSE(WEEKDAY(A32,2),norm!C$1,norm!C$2,norm!C$3,norm!C$4,norm!C$5,norm!C$6,norm!C$7),\"\")","v":"09:00:00"}]
[{"$f":"IFERROR(IF(MONTH(A32+1)>MONTH(A32),\"\",A32+1),\"\")","v":"2019-08-30"},"Fr","",null,null,null,"","00:00:00","",{"$f":"ColTime(T.!$J$3,T.!$L$3,D33,E33)","v":"00:00:00"},null,{"$f":"ColTime(TIME(T.!$J$4,0,0),TIME(T.!$L$4,0,0),D33,E33)","v":"00:00:00"},null,{"$f":"IFERROR(IF(WEEKDAY(A33,2)=6,ColTime(TIME(15,0,0),TIME(24,0,0),D33,E33),\"\"),\"\")","v":""},{"$f":"IFERROR(IF(OR(C33<>\"\",WEEKDAY(A33,2)=7),ColTime(TIME(0,0,0),TIME(24,0,0),D33,E33),\"\"),\"\")","v":""},"",null,null,{"$f":"IFERROR(CHOOSE(WEEKDAY(A33,2),norm!C$1,norm!C$2,norm!C$3,norm!C$4,norm!C$5,norm!C$6,norm!C$7),\"\")","v":"09:00:00"}]
[{"$f":"IFERROR(IF(MONTH(A33+1)>MONTH(A33),\"\",A33+1),\"\")","v":"2019-08-31"},{"$f":"IFERROR(PROPER(TEXT(A34,\"ddd\")),\"\")","v":"Lø"},{"$f":"IF(A34=\"\",\"\",HelligdagsNavn(A34,0,0))","v":""},null,null,null,"","00:00:00","",{"$f":"ColTime(T.!$J$3,T.!$L$3,D34,E34)","v":"00:00:00"},null,{"$f":"ColTime(TIME(T.!$J$4,0,0),TIME(T.!$L$4,0,0),D34,E34)","v":"00:00:00"},null,{"$f":"IFERROR(IF(WEEKDAY(A34,2)=6,ColTime(TIME(15,0,0),TIME(24,0,0),D34,E34),\"\"),\"\")","v":"00:00:00"},"","",null,null,{"$f":"IFERROR(CHOOSE(WEEKDAY(A34,2),norm!C$1,norm!C$2,norm!C$3,norm!C$4,norm!C$5,norm!C$6,norm!C$7),\"\")","v":"09:00:00"},null,null,{"$f":"IF(D34=\"\",\"\",HOUR(D34))","v":""},{"$f":"IF(D34=\"\",\"\",MINUTE(D34))","v":""},{"$f":"IF(D34=\"\",\"\",TIME(HOUR(D34),MINUTE(D34),0))","v":""},{"$f":"IF(E34=\"\",\"\",HOUR(E34))","v":""},{"$f":"IF(E34=\"\",\"\",MINUTE(E34))","v":""},{"$f":"IF(E34=\"\",\"\",TIME(HOUR(E34),MINUTE(E34),0))","v":""}]
["Total timer",null,null,null,null,null,{"$f":"IF(SUM(G9:G34)<>\"0\",SUM(G4:G34),\"\")","v":2.4479166666666665},{"$f":"IF(SUM(H4:H34)<>\"0\",SUM(H4:H34),\"\")","v":0.24999999999999994},{"$f":"IF(SUM(I4:I34)<>\"0\",SUM(I4:I34),\"\")","v":0.1145833333333332},{"$f":"IF(SUM(J4:J34)<>\"0\",SUM(J4:J34),\"\")","v":0.27083333333333337},null,{"$f":"SUM(L4:M34)","v":"07:45:00"},null,{"$f":"IF(SUM(N4:N34)<>\"0\",SUM(N4:N34),\"\")","v":8.333333333333337E-2},{"$f":"IF(SUM(O4:O34)<>\"0\",SUM(O4:O34),\"\")","v":"11:45:00"},{"$f":"SUM(P4:P34)","v":0.2395833333333332},{"$f":"SUM(Q4:Q34)","v":0}]
["Timer 1/100",null,null,null,null,null,{"$f":"IF(G35<>\"\",ROUND(G35*24,2),\"\")","v":58.75},{"$f":"IF(H35<>\"\",ROUND(H35*24,2),\"\")","v":6},2.75,{"$f":"IF(J35<>\"\",ROUND(J35*24,2),\"\")","v":6.5},null,{"$f":"IF(L35<>\"\",ROUND(L35*24,2),\"\")","v":7.75},null,{"$f":"IF(N35<>\"\",ROUND(N35*24,2),\"\")","v":2},11.75,5.75,0]
["Satser",null,null,null,null,null,{"$f":"Satser!B7","v":107.35},{"$f":"Satser!B9","v":36.35},{"$f":"Satser!B12","v":58.1},{"$f":"Satser!B17","v":25.6},null,{"$f":"Satser!B18","v":34.200000000000003},null,{"$f":"Satser!B19","v":45.1},{"$f":"Satser!B20","v":50.6}]
[null,null,null,null,null,null,{"$f":"IF(G35<>\"\",G36*G37,\"\")","v":6306.8125},{"$f":"IF(H35<>\"\",H36*H37,\"\")","v":218.10000000000002},159.77500000000001,{"$f":"IF(J35<>\"\",J36*J37,\"\")","v":166.4},null,{"$f":"IF(L35<>\"\",L36*L36,\"\")","v":60.0625},null,{"$f":"IF(N35<>\"\",N36*N37,\"\")","v":90.2},594.55000000000007]
[]
["Lønart"]
[3025,null,null,null,null,null,{"$f":"G35","v":2.4479166666666665}]
[3425,null,null,null,null,null,{"$f":"H35","v":0.24999999999999994}]
[3428,null,null,null,null,null,{"$f":"I35","v":0.1145833333333332}]
["Timer",null,null,null,null,null,{"$f":"SUM(G41:G43)","v":2.8124999999999996},{"$f":"IF(G44<>\"\",ROUND(G44*24,2),\"\")","v":67.5}]
[null,null,null,null,null,null,null,{"$f":"G37*H44","v":7246.125}]

{"sheet":"September","index":9,"n_rows":45,"n_cols":35,"rows_kept":45,"cut":false,"hidden":true,"merged":[[4,9,4,10],[4,11,4,12],[0,1,0,7],[0,10,0,11],[0,13,0,14],[1,1,1,2],[1,9,1,10],[1,11,1,12],[2,1,2,2],[2,9,2,10],[2,11,2,12],[3,9,3,10],[3,11,3,12],[5,9,5,10],[5,11,5,12],[6,9,6,10],[6,11,6,12],[7,9,7,10],[7,11,7,12],[8,9,8,10],[8,11,8,12],[9,9,9,10],[9,11,9,12],[10,9,10,10],[10,11,10,12],[11,9,11,10],[11,11,11,12],[12,9,12,10],[12,11,12,12],[13,9,13,10],[13,11,13,12],[14,9,14,10],[14,11,14,12],[15,9,15,10],[15,11,15,12],[16,9,16,10],[16,11,16,12],[17,9,17,10],[17,11,17,12],[18,9,18,10],[18,11,18,12],[19,9,19,10],[19,11,19,12],[20,9,20,10],[20,11,20,12],[21,9,21,10],[21,11,21,12],[22,9,22,10],[22,11,22,12],[23,9,23,10],[23,11,23,12],[24,9,24,10],[24,11,24,12],[25,9,25,10],[25,11,25,12],[26,9,26,10],[26,11,26,12],[27,9,27,10],[27,11,27,12],[28,9,28,10],[28,11,28,12],[29,9,29,10],[29,11,29,12],[30,9,30,10],[30,11,30,12],[31,9,31,10],[31,11,31,12],[32,9,32,10],[32,11,32,12],[33,9,33,10],[33,11,33,12],[34,9,34,10],[34,11,34,12],[35,9,35,10],[35,11,35,12],[36,9,36,10],[36,11,36,12],[37,9,37,10],[37,11,37,12],[39,0,39,2],[40,0,40,2],[41,0,41,2],[42,0,42,2],[43,0,43,5]]}
["Løn","2019-01-01",null,null,null,null,null,null,"Uge :",{"$f":"IF(A4=\"\",\"\",TRUNC((A4-WEEKDAY(A4,2)-DATE(YEAR(A4+4-WEEKDAY(A4,2)),1,-10))/7))","v":35},"-",null,{"$f":"IF(A25=\"\",\"\",TRUNC((A25-WEEKDAY(A25,2)-DATE(YEAR(A25+4-WEEKDAY(A25,2)),1,-10))/7))","v":38},{"$f":"EOMONTH(A4,0)","v":"2019-09-30"},null,9,null,null,null,null,null,"Time beregning:",null,null,null,null,null,null,null,null,null,null,"06:00:00","18:00:00","03:00:00"]
["Lønart",null,null,null,null,null,null,null,null,null,null,null,null,null,null,null,null,null,null,null,null,"Betalt pause ved vagt over 5 timer",null,null,null,"00:25:00","minutter","00:00:00","06:00:00","17:00:00","14:00:00"]
["Dato","Dag",null,"Start","Slut","Pause","Arb. Tid","Overtid           1-3 time","Overtid            4 - time","Forskudt tid alle dage\n18-23",null,"Natarbejde 23-06",null,"Lørdag tillæg 14 - 24","Søndag tillæg 00 - 24","Optjent afspadsering","Afholdt afspadsering","Syge Timer","norm"]
[{"$f":"DATE(T.!$B$1,$P$1,1)","v":"2019-09-01"},{"$f":"PROPER(TEXT(A4,\"ddd\"))","v":"Sø"},{"$f":"HelligdagsNavn(A4,0,0)","v":""},"07:00:00","16:00:00","00:30:00",{"$f":"IF(D4=\"\",\"\",(E4-D4)+(D4>E4)-F4)","v":0.35416666666666663},{"$f":"IF(G4=\"\",0,IF(WEEKDAY(A4,2)=7,0,IF(G4>S4,MIN(G4-S4,$AI$1),0)))","v":"00:00:00"},{"$f":"IF(G4=\"\",\"\",IF(G4>S4+H4,G4-(S4+H4),\"\"))","v":""},{"$f":"ColTime(T.!$J$3,T.!$L$3,D4,E4)","v":"00:00:00"},null,{"$f":"ColTime(TIME(T.!$J$4,0,0),TIME(T.!$L$4,0,0),D4,E4)","v":"00:00:00"},null,{"$f":"IF(WEEKDAY(A4,2)=6,ColTime(TIME(14,0,0),TIME(24,0,0),D4,E4),\"\")","v":""},{"$f":"IF(OR(C4<>\"\",WEEKDAY(A4,2)=7),ColTime(TIME(0,0,0),TIME(24,0,0),D4,E4),\"\")","v":"09:00:00"},{"$f":"IFERROR(H4+I4,\"\")","v":""},null,null,{"$f":"CHOOSE(WEEKDAY(A4,2),norm!C$1,norm!C$2,norm!C$3,norm!C$4,norm!C$5,norm!C$6,norm!C$7)","v":"09:00:00"},null,null,{"$f":"IF(D4=\"\",\"\",HOUR(D4))","v":7},{"$f":"IF(D4=\"\",\"\",MINUTE(D4))","v":0},{"$f":"IF(D4=\"\",\"\",TIME(HOUR(D4),MINUTE(D4),0))","v":"07:00:00"},{"$f":"IF(E4=\"\",\"\",HOUR(E4))","v":16},{"$f":"IF(E4=\"\",\"\",MINUTE(E4))","v":0},"02:00:00","09:30:00","11:30:00",null,null,null,{"$f":"MIN(G4-S4,3)","v":-2.083333333333337E-2}]
[{"$f":"A4+1","v":"2019-09-02"},{"$f":"PROPER(TEXT(A5,\"ddd\"))","v":"Ma"},{"$f":"HelligdagsNavn(A5,0,0)","v":""},"13:45:00","21:30:00","00:30:00",{"$f":"IF(D5=\"\",\"\",(E5-D5)+(D5>E5)-F5)","v":0.30208333333333343},{"$f":"IF(G5=\"\",0,IF(WEEKDAY(A5,2)=7,0,IF(G5>S5,MIN(G5-S5,$AI$1),0)))","v":"00:00:00"},{"$f":"IF(G5=\"\",\"\",IF(G5>S5+H5,G5-(S5+H5),\"\"))","v":""},{"$f":"ColTime(T.!$J$3,T.!$L$3,D5,E5)","v":"03:30:00"},null,{"$f":"ColTime(TIME(T.!$J$4,0,0),TIME(T.!$L$4,0,0),D5,E5)","v":"00:00:00"},null,"","",{"$f":"IFERROR(H5+I5,\"\")","v":""},null,null,{"$f":"CHOOSE(WEEKDAY(A5,2),norm!C$1,norm!C$2,norm!C$3,norm!C$4,norm!C$5,norm!C$6,norm!C$7)","v":"09:00:00"},null,null,13,45,"13:45:00",21,30,{"$f":"IF(E5=\"\",\"\",TIME(HOUR(E5),MINUTE(E5),0))","v":"21:30:00"},null,null,null,null,null,null,"Der taste kun i de Gule celler"]
[{"$f":"A5+1","v":"2019-09-03"},{"$f":"PROPER(TEXT(A6,\"ddd\"))","v":"Ti"},"","22:00:00","05:45:00","00:30:00",0.30208333333333343,"00:00:00","",{"$f":"ColTime(T.!$J$3,T.!$L$3,D6,E6)","v":"01:00:00"},null,{"$f":"ColTime(TIME(T.!$J$4,0,0),TIME(T.!$L$4,0,0),D6,E6)","v":"06:45:00"},null,"","",{"$f":"IFERROR(H6+I6,\"\")","v":""},null,null,{"$f":"CHOOSE(WEEKDAY(A6,2),norm!C$1,norm!C$2,norm!C$3,norm!C$4,norm!C$5,norm!C$6,norm!C$7)","v":"09:00:00"},null,null,22,0,"22:00:00",5,45,"05:45:00"]
["2019-09-04","On","","05:00:00","16:45:00","00:30:00",0.46874999999999994,"02:15:00","",{"$f":"ColTime(T.!$J$3,T.!$L$3,D7,E7)","v":"00:00:00"},null,{"$f":"ColTime(TIME(T.!$J$4,0,0),TIME(T.!$L$4,0,0),D7,E7)","v":"01:00:00"},null,"","",{"$f":"IFERROR(H7+I7,\"\")","v":""},null,null,{"$f":"CHOOSE(WEEKDAY(A7,2),norm!C$1,norm!C$2,norm!C$3,norm!C$4,norm!C$5,norm!C$6,norm!C$7)","v":"09:00:00"},null,null,5,0,"05:00:00",16,45,"16:45:00"]
["2019-09-05","To","",null,null,null,"","00:00:00","",{"$f":"ColTime(T.!$J$3,T.!$L$3,D8,E8)","v":"00:00:00"},null,{"$f":"ColTime(TIME(T.!$J$4,0,0),TIME(T.!$L$4,0,0),D8,E8)","v":"00:00:00"},null,"","",{"$f":"IFERROR(H8+I8,\"\")","v":""},null,null,{"$f":"CHOOSE(WEEKDAY(A8,2),norm!C$1,norm!C$2,norm!C$3,norm!C$4,norm!C$5,norm!C$6,norm!C$7)","v":"09:00:00"},null,null,"","","","","",""]
["2019-09-06","Fr","","06:00:00","19:00:00","00:30:00",0.52083333333333326,"03:00:00","00:30:00",{"$f":"ColTime(T.!$J$3,T.!$L$3,D9,E9)","v":"01:00:00"},null,{"$f":"ColTime(TIME(T.!$J$4,0,0),TIME(T.!$L$4,0,0),D9,E9)","v":"00:00:00"},null,"",{"$f":"IF(OR(C9<>\"\",WEEKDAY(A9,2)=7),ColTime(TIME(0,0,0),TIME(24,0,0),D9,E9),\"\")","v":""},{"$f":"IFERROR(H9+I9,\"\")","v":"03:30:00"},null,null,{"$f":"CHOOSE(WEEKDAY(A9,2),norm!C$1,norm!C$2,norm!C$3,norm!C$4,norm!C$5,norm!C$6,norm!C$7)","v":"09:00:00"},null,null,6,0,"06:00:00",19,0,"19:00:00"]
["2019-09-07","Lø","","07:00:00","19:00:00",null,0.49999999999999994,"03:00:00","",{"$f":"ColTime(T.!$J$3,T.!$L$3,D10,E10)","v":"01:00:00"},null,{"$f":"ColTime(TIME(T.!$J$4,0,0),TIME(T.!$L$4,0,0),D10,E10)","v":"00:00:00"},null,{"$f":"IF(WEEKDAY(A10,2)=6,ColTime(TIME(14,0,0),TIME(24,0,0),D10,E10),\"\")","v":"05:00:00"},{"$f":"IF(OR(C10<>\"\",WEEKDAY(A10,2)=7),ColTime(TIME(0,0,0),TIME(24,0,0),D10,E10),\"\")","v":""},"",null,null,{"$f":"CHOOSE(WEEKDAY(A10,2),norm!C$1,norm!C$2,norm!C$3,norm!C$4,norm!C$5,norm!C$6,norm!C$7)","v":"09:00:00"},null,null,7,0,"07:00:00",19,0,"19:00:00"]
[{"$f":"A10+1","v":"2019-09-08"},{"$f":"PROPER(TEXT(A11,\"ddd\"))","v":"Sø"},{"$f":"HelligdagsNavn(A11,0,0)","v":""},null,null,null,"","00:00:00","",{"$f":"ColTime(T.!$J$3,T.!$L$3,D11,E11)","v":"00:00:00"},null,{"$f":"ColTime(TIME(T.!$J$4,0,0),TIME(T.!$L$4,0,0),D11,E11)","v":"00:00:00"},null,{"$f":"IF(WEEKDAY(A11,2)=6,ColTime(TIME(15,0,0),TIME(24,0,0),D11,E11),\"\")","v":""},"00:00:00","",null,null,{"$f":"CHOOSE(WEEKDAY(A11,2),norm!C$1,norm!C$2,norm!C$3,norm!C$4,norm!C$5,norm!C$6,norm!C$7)","v":"09:00:00"},null,null,"","","","","",""]
[{"$f":"A11+1","v":"2019-09-09"},{"$f":"PROPER(TEXT(A12,\"ddd\"))","v":"Ma"},{"$f":"HelligdagsNavn(A12,0,0)","v":""},null,null,null,"","00:00:00","",{"$f":"ColTime(T.!$J$3,T.!$L$3,D12,E12)","v":"00:00:00"},null,{"$f":"ColTime(TIME(T.!$J$4,0,0),TIME(T.!$L$4,0,0),D12,E12)","v":"00:00:00"},null,"","","",null,null,{"$f":"CHOOSE(WEEKDAY(A12,2),norm!C$1,norm!C$2,norm!C$3,norm!C$4,norm!C$5,norm!C$6,norm!C$7)","v":"09:00:00"},null,null,"","","","","",""]
[{"$f":"A12+1","v":"2019-09-10"},{"$f":"PROPER(TEXT(A13,\"ddd\"))","v":"Ti"},"",null,null,null,"","00:00:00","",{"$f":"ColTime(T.!$J$3,T.!$L$3,D13,E13)","v":"00:00:00"},null,{"$f":"ColTime(TIME(T.!$J$4,0,0),TIME(T.!$L$4,0,0),D13,E13)","v":"00:00:00"},null,"","","",null,null,{"$f":"CHOOSE(WEEKDAY(A13,2),norm!C$1,norm!C$2,norm!C$3,norm!C$4,norm!C$5,norm!C$6,norm!C$7)","v":"09:00:00"},null,null,"","","","","",""]
["2019-09-11","On","",null,null,null,"","00:00:00","",{"$f":"ColTime(T.!$J$3,T.!$L$3,D14,E14)","v":"00:00:00"},null,{"$f":"ColTime(TIME(T.!$J$4,0,0),TIME(T.!$L$4,0,0),D14,E14)","v":"00:00:00"},null,"","","",null,null,{"$f":"CHOOSE(WEEKDAY(A14,2),norm!C$1,norm!C$2,norm!C$3,norm!C$4,norm!C$5,norm!C$6,norm!C$7)","v":"09:00:00"},null,null,"","","","","",""]
["2019-09-12","To","",null,null,null,"","00:00:00","",{"$f":"ColTime(T.!$J$3,T.!$L$3,D15,E15)","v":"00:00:00"},null,{"$f":"ColTime(TIME(T.!$J$4,0,0),TIME(T.!$L$4,0,0),D15,E15)","v":"00:00:00"},null,"","","",null,null,{"$f":"CHOOSE(WEEKDAY(A15,2),norm!C$1,norm!C$2,norm!C$3,norm!C$4,norm!C$5,norm!C$6,norm!C$7)","v":"09:00:00"},null,null,"","","",null,"",""]
["2019-09-13","Fr","",null,null,null,"","00:00:00","",{"$f":"ColTime(T.!$J$3,T.!$L$3,D16,E16)","v":"00:00:00"},null,{"$f":"ColTime(TIME(T.!$J$4,0,0),TIME(T.!$L$4,0,0),D16,E16)","v":"00:00:00"},null,"","","",null,null,{"$f":"CHOOSE(WEEKDAY(A16,2),norm!C$1,norm!C$2,norm!C$3,norm!C$4,norm!C$5,norm!C$6,norm!C$7)","v":"09:00:00"},null,null,"","","","","",""]
["2019-09-14","Lø","",null,null,null,"","00:00:00","",{"$f":"ColTime(T.!$J$3,T.!$L$3,D17,E17)","v":"00:00:00"},null,{"$f":"ColTime(TIME(T.!$J$4,0,0),TIME(T.!$L$4,0,0),D17,E17)","v":"00:00:00"},null,"00:00:00","","",null,null,{"$f":"CHOOSE(WEEKDAY(A17,2),norm!C$1,norm!C$2,norm!C$3,norm!C$4,norm!C$5,norm!C$6,norm!C$7)","v":"09:00:00"},null,null,"","","","","",""]
[{"$f":"A17+1","v":"2019-09-15"},{"$f":"PROPER(TEXT(A18,\"ddd\"))","v":"Sø"},{"$f":"HelligdagsNavn(A18,0,0)","v":""},null,null,null,"","00:00:00","",{"$f":"ColTime(T.!$J$3,T.!$L$3,D18,E18)","v":"00:00:00"},null,{"$f":"ColTime(TIME(T.!$J$4,0,0),TIME(T.!$L$4,0,0),D18,E18)","v":"00:00:00"},null,"","00:00:00","",null,null,{"$f":"CHOOSE(WEEKDAY(A18,2),norm!C$1,norm!C$2,norm!C$3,norm!C$4,norm!C$5,norm!C$6,norm!C$7)","v":"09:00:00"},null,null,"","","","","",""]
[{"$f":"A18+1","v":"2019-09-16"},{"$f":"PROPER(TEXT(A19,\"ddd\"))","v":"Ma"},{"$f":"HelligdagsNavn(A19,0,0)","v":""},null,null,null,"","00:00:00","",{"$f":"ColTime(T.!$J$3,T.!$L$3,D19,E19)","v":"00:00:00"},null,{"$f":"ColTime(TIME(T.!$J$4,0,0),TIME(T.!$L$4,0,0),D19,E19)","v":"00:00:00"},null,"","","",null,null,{"$f":"CHOOSE(WEEKDAY(A19,2),norm!C$1,norm!C$2,norm!C$3,norm!C$4,norm!C$5,norm!C$6,norm!C$7)","v":"09:00:00"},null,null,"","","","","",""]
[{"$f":"A19+1","v":"2019-09-17"},{"$f":"PROPER(TEXT(A20,\"ddd\"))","v":"Ti"},"",null,null,null,"","00:00:00","",{"$f":"ColTime(T.!$J$3,T.!$L$3,D20,E20)","v":"00:00:00"},null,{"$f":"ColTime(TIME(T.!$J$4,0,0),TIME(T.!$L$4,0,0),D20,E20)","v":"00:00:00"},null,"","","",null,null,{"$f":"CHOOSE(WEEKDAY(A20,2),norm!C$1,norm!C$2,norm!C$3,norm!C$4,norm!C$5,norm!C$6,norm!C$7)","v":"09:00:00"},null,null,"","","","","",""]
["2019-09-18","On","",null,null,null,"","00:00:00","",{"$f":"ColTime(T.!$J$3,T.!$L$3,D21,E21)","v":"00:00:00"},null,{"$f":"ColTime(TIME(T.!$J$4,0,0),TIME(T.!$L$4,0,0),D21,E21)","v":"00:00:00"},null,"","","",null,null,{"$f":"CHOOSE(WEEKDAY(A21,2),norm!C$1,norm!C$2,norm!C$3,norm!C$4,norm!C$5,norm!C$6,norm!C$7)","v":"09:00:00"},null,null,"","","","","",""]
["2019-09-19","To","",null,null,null,"","00:00:00","",{"$f":"ColTime(T.!$J$3,T.!$L$3,D22,E22)","v":"00:00:00"},null,{"$f":"ColTime(TIME(T.!$J$4,0,0),TIME(T.!$L$4,0,0),D22,E22)","v":"00:00:00"},null,"","","",null,null,{"$f":"CHOOSE(WEEKDAY(A22,2),norm!C$1,norm!C$2,norm!C$3,norm!C$4,norm!C$5,norm!C$6,norm!C$7)","v":"09:00:00"},null,null,"","","","","",""]
["2019-09-20","Fr","",null,null,null,"","00:00:00","",{"$f":"ColTime(T.!$J$3,T.!$L$3,D23,E23)","v":"00:00:00"},null,{"$f":"ColTime(TIME(T.!$J$4,0,0),TIME(T.!$L$4,0,0),D23,E23)","v":"00:00:00"},null,"","","",null,null,{"$f":"CHOOSE(WEEKDAY(A23,2),norm!C$1,norm!C$2,norm!C$3,norm!C$4,norm!C$5,norm!C$6,norm!C$7)","v":"09:00:00"},null,null,"","","","","",""]
["2019-09-21","Lø","",null,null,null,"","00:00:00","",{"$f":"ColTime(T.!$J$3,T.!$L$3,D24,E24)","v":"00:00:00"},null,{"$f":"ColTime(TIME(T.!$J$4,0,0),TIME(T.!$L$4,0,0),D24,E24)","v":"00:00:00"},null,"00:00:00","","",null,null,{"$f":"CHOOSE(WEEKDAY(A24,2),norm!C$1,norm!C$2,norm!C$3,norm!C$4,norm!C$5,norm!C$6,norm!C$7)","v":"09:00:00"},null,null,"","","","","",""]
[{"$f":"A24+1","v":"2019-09-22"},{"$f":"PROPER(TEXT(A25,\"ddd\"))","v":"Sø"},{"$f":"HelligdagsNavn(A25,0,0)","v":""},null,null,null,"","00:00:00","",{"$f":"ColTime(T.!$J$3,T.!$L$3,D25,E25)","v":"00:00:00"},null,{"$f":"ColTime(TIME(T.!$J$4,0,0),TIME(T.!$L$4,0,0),D25,E25)","v":"00:00:00"},null,"","00:00:00","",null,null,{"$f":"CHOOSE(WEEKDAY(A25,2),norm!C$1,norm!C$2,norm!C$3,norm!C$4,norm!C$5,norm!C$6,norm!C$7)","v":"09:00:00"},null,null,"","","","","",""]
[{"$f":"A25+1","v":"2019-09-23"},{"$f":"PROPER(TEXT(A26,\"ddd\"))","v":"Ma"},{"$f":"HelligdagsNavn(A26,0,0)","v":""},null,null,null,"","00:00:00","",{"$f":"ColTime(T.!$J$3,T.!$L$3,D26,E26)","v":"00:00:00"},null,{"$f":"ColTime(TIME(T.!$J$4,0,0),TIME(T.!$L$4,0,0),D26,E26)","v":"00:00:00"},null,"","","",null,null,{"$f":"CHOOSE(WEEKDAY(A26,2),norm!C$1,norm!C$2,norm!C$3,norm!C$4,norm!C$5,norm!C$6,norm!C$7)","v":"09:00:00"},null,null,"","","","","",""]
[{"$f":"A26+1","v":"2019-09-24"},{"$f":"PROPER(TEXT(A27,\"ddd\"))","v":"Ti"},"",null,null,null,"","00:00:00","",{"$f":"ColTime(T.!$J$3,T.!$L$3,D27,E27)","v":"00:00:00"},null,{"$f":"ColTime(TIME(T.!$J$4,0,0),TIME(T.!$L$4,0,0),D27,E27)","v":"00:00:00"},null,"","","",null,null,{"$f":"CHOOSE(WEEKDAY(A27,2),norm!C$1,norm!C$2,norm!C$3,norm!C$4,norm!C$5,norm!C$6,norm!C$7)","v":"09:00:00"},null,null,"","","","","",""]
["2019-09-25","On","",null,null,null,"","00:00:00","",{"$f":"ColTime(T.!$J$3,T.!$L$3,D28,E28)","v":"00:00:00"},null,{"$f":"ColTime(TIME(T.!$J$4,0,0),TIME(T.!$L$4,0,0),D28,E28)","v":"00:00:00"},null,"","","",null,null,{"$f":"CHOOSE(WEEKDAY(A28,2),norm!C$1,norm!C$2,norm!C$3,norm!C$4,norm!C$5,norm!C$6,norm!C$7)","v":"09:00:00"},null,null,"","","","","",""]
["2019-09-26","To","",null,null,null,"","00:00:00","",{"$f":"ColTime(T.!$J$3,T.!$L$3,D29,E29)","v":"00:00:00"},null,{"$f":"ColTime(TIME(T.!$J$4,0,0),TIME(T.!$L$4,0,0),D29,E29)","v":"00:00:00"},null,"","","",null,null,{"$f":"CHOOSE(WEEKDAY(A29,2),norm!C$1,norm!C$2,norm!C$3,norm!C$4,norm!C$5,norm!C$6,norm!C$7)","v":"09:00:00"}]
["2019-09-27","Fr","",null,null,null,"","00:00:00","",{"$f":"ColTime(T.!$J$3,T.!$L$3,D30,E30)","v":"00:00:00"},null,{"$f":"ColTime(TIME(T.!$J$4,0,0),TIME(T.!$L$4,0,0),D30,E30)","v":"00:00:00"},null,"","","",null,null,{"$f":"CHOOSE(WEEKDAY(A30,2),norm!C$1,norm!C$2,norm!C$3,norm!C$4,norm!C$5,norm!C$6,norm!C$7)","v":"09:00:00"}]
["2019-09-28","Lø","",null,null,null,"","00:00:00","",{"$f":"ColTime(T.!$J$3,T.!$L$3,D31,E31)","v":"00:00:00"},null,{"$f":"ColTime(TIME(T.!$J$4,0,0),TIME(T.!$L$4,0,0),D31,E31)","v":"00:00:00"},null,"00:00:00","","",null,null,{"$f":"CHOOSE(WEEKDAY(A31,2),norm!C$1,norm!C$2,norm!C$3,norm!C$4,norm!C$5,norm!C$6,norm!C$7)","v":"09:00:00"}]
[{"$f":"IF(MONTH(A31+1)>MONTH(A31),\"\",A31+1)","v":"2019-09-29"},"Sø",{"$f":"IF(A32=\"\",\"\",HelligdagsNavn(A32,0,0))","v":""},null,null,null,"","00:00:00","",{"$f":"ColTime(T.!$J$3,T.!$L$3,D32,E32)","v":"00:00:00"},null,{"$f":"ColTime(TIME(T.!$J$4,0,0),TIME(T.!$L$4,0,0),D32,E32)","v":"00:00:00"},null,{"$f":"IFERROR(IF(WEEKDAY(A32,2)=6,ColTime(TIME(15,0,0),TIME(24,0,0),D32,E32),\"\"),\"\")","v":""},{"$f":"IFERROR(IF(OR(C32<>\"\",WEEKDAY(A32,2)=7),ColTime(TIME(0,0,0),TIME(24,0,0),D32,E32),\"\"),\"\")","v":"00:00:00"},"",null,null,{"$f":"IFERROR(CHOOSE(WEEKDAY(A32,2),norm!C$1,norm!C$2,norm!C$3,norm!C$4,norm!C$5,norm!C$6,norm!C$7),\"\")","v":"09:00:00"}]
[{"$f":"IFERROR(IF(MONTH(A32+1)>MONTH(A32),\"\",A32+1),\"\")","v":"2019-09-30"},"Ma","",null,null,null,"","00:00:00","",{"$f":"ColTime(T.!$J$3,T.!$L$3,D33,E33)","v":"00:00:00"},null,{"$f":"ColTime(TIME(T.!$J$4,0,0),TIME(T.!$L$4,0,0),D33,E33)","v":"00:00:00"},null,{"$f":"IFERROR(IF(WEEKDAY(A33,2)=6,ColTime(TIME(15,0,0),TIME(24,0,0),D33,E33),\"\"),\"\")","v":""},{"$f":"IFERROR(IF(OR(C33<>\"\",WEEKDAY(A33,2)=7),ColTime(TIME(0,0,0),TIME(24,0,0),D33,E33),\"\"),\"\")","v":""},"",null,null,{"$f":"IFERROR(CHOOSE(WEEKDAY(A33,2),norm!C$1,norm!C$2,norm!C$3,norm!C$4,norm!C$5,norm!C$6,norm!C$7),\"\")","v":"09:00:00"}]
[{"$f":"IFERROR(IF(MONTH(A33+1)>MONTH(A33),\"\",A33+1),\"\")","v":""},{"$f":"IFERROR(PROPER(TEXT(A34,\"ddd\")),\"\")","v":""},{"$f":"IF(A34=\"\",\"\",HelligdagsNavn(A34,0,0))","v":""},null,null,null,"","00:00:00","",{"$f":"ColTime(T.!$J$3,T.!$L$3,D34,E34)","v":"00:00:00"},null,{"$f":"ColTime(TIME(T.!$J$4,0,0),TIME(T.!$L$4,0,0),D34,E34)","v":"00:00:00"},null,{"$f":"IFERROR(IF(WEEKDAY(A34,2)=6,ColTime(TIME(15,0,0),TIME(24,0,0),D34,E34),\"\"),\"\")","v":""},"","",null,null,{"$f":"IFERROR(CHOOSE(WEEKDAY(A34,2),norm!C$1,norm!C$2,norm!C$3,norm!C$4,norm!C$5,norm!C$6,norm!C$7),\"\")","v":""},null,null,{"$f":"IF(D34=\"\",\"\",HOUR(D34))","v":""},{"$f":"IF(D34=\"\",\"\",MINUTE(D34))","v":""},{"$f":"IF(D34=\"\",\"\",TIME(HOUR(D34),MINUTE(D34),0))","v":""},{"$f":"IF(E34=\"\",\"\",HOUR(E34))","v":""},{"$f":"IF(E34=\"\",\"\",MINUTE(E34))","v":""},{"$f":"IF(E34=\"\",\"\",TIME(HOUR(E34),MINUTE(E34),0))","v":""}]
["Total timer",null,null,null,null,null,{"$f":"IF(SUM(G9:G34)<>\"0\",SUM(G4:G34),\"\")","v":2.4479166666666665},{"$f":"IF(SUM(H4:H34)<>\"0\",SUM(H4:H34),\"\")","v":0.34374999999999989},{"$f":"IF(SUM(I4:I34)<>\"0\",SUM(I4:I34),\"\")","v":2.0833333333333259E-2},{"$f":"IF(SUM(J4:J34)<>\"0\",SUM(J4:J34),\"\")","v":0.27083333333333337},null,{"$f":"SUM(L4:M34)","v":"07:45:00"},null,{"$f":"IF(SUM(N4:N34)<>\"0\",SUM(N4:N34),\"\")","v":0.20833333333333326},{"$f":"IF(SUM(O4:O34)<>\"0\",SUM(O4:O34),\"\")","v":"09:00:00"},{"$f":"SUM(P4:P34)","v":0.14583333333333326},{"$f":"SUM(Q4:Q34)","v":0}]
["Timer 1/100",null,null,null,null,null,{"$f":"IF(G35<>\"\",ROUND(G35*24,2),\"\")","v":58.75},{"$f":"IF(H35<>\"\",ROUND(H35*24,2),\"\")","v":8.25},0.5,{"$f":"IF(J35<>\"\",ROUND(J35*24,2),\"\")","v":6.5},null,{"$f":"IF(L35<>\"\",ROUND(L35*24,2),\"\")","v":7.75},null,{"$f":"IF(N35<>\"\",ROUND(N35*24,2),\"\")","v":5},9,3.5,0]
["Satser",null,null,null,null,null,{"$f":"Satser!B7","v":107.35},{"$f":"Satser!B9","v":36.35},{"$f":"Satser!B12","v":58.1},{"$f":"Satser!B17","v":25.6},null,{"$f":"Satser!B18","v":34.200000000000003},null,{"$f":"Satser!B19","v":45.1},{"$f":"Satser!B20","v":50.6}]
[null,null,null,null,null,null,{"$f":"IF(G35<>\"\",G36*G37,\"\")","v":6306.8125},{"$f":"IF(H35<>\"\",H36*H37,\"\")","v":299.88749999999999},29.05,{"$f":"IF(J35<>\"\",J36*J37,\"\")","v":166.4},null,{"$f":"IF(L35<>\"\",L36*L36,\"\")","v":60.0625},null,{"$f":"IF(N35<>\"\",N36*N37,\"\")","v":225.5},455.40000000000003]
[]
["Lønart"]
[3025,null,null,null,null,null,{"$f":"G35","v":2.4479166666666665}]
[3425,null,null,null,null,null,{"$f":"H35","v":0.34374999999999989}]
[3428,null,null,null,null,null,{"$f":"I35","v":2.0833333333333259E-2}]
["Timer",null,null,null,null,null,{"$f":"SUM(G41:G43)","v":2.8125},{"$f":"IF(G44<>\"\",ROUND(G44*24,2),\"\")","v":67.5}]
[null,null,null,null,null,null,null,{"$f":"G37*H44","v":7246.125}]

{"sheet":"Oktober","index":10,"n_rows":45,"n_cols":35,"rows_kept":45,"cut":false,"hidden":true,"merged":[[4,9,4,10],[4,11,4,12],[0,1,0,7],[0,10,0,11],[0,13,0,14],[1,1,1,2],[1,9,1,10],[1,11,1,12],[2,1,2,2],[2,9,2,10],[2,11,2,12],[3,9,3,10],[3,11,3,12],[5,9,5,10],[5,11,5,12],[6,9,6,10],[6,11,6,12],[7,9,7,10],[7,11,7,12],[8,9,8,10],[8,11,8,12],[9,9,9,10],[9,11,9,12],[10,9,10,10],[10,11,10,12],[11,9,11,10],[11,11,11,12],[12,9,12,10],[12,11,12,12],[13,9,13,10],[13,11,13,12],[14,9,14,10],[14,11,14,12],[15,9,15,10],[15,11,15,12],[16,9,16,10],[16,11,16,12],[17,9,17,10],[17,11,17,12],[18,9,18,10],[18,11,18,12],[19,9,19,10],[19,11,19,12],[20,9,20,10],[20,11,20,12],[21,9,21,10],[21,11,21,12],[22,9,22,10],[22,11,22,12],[23,9,23,10],[23,11,23,12],[24,9,24,10],[24,11,24,12],[25,9,25,10],[25,11,25,12],[26,9,26,10],[26,11,26,12],[27,9,27,10],[27,11,27,12],[28,9,28,10],[28,11,28,12],[29,9,29,10],[29,11,29,12],[30,9,30,10],[30,11,30,12],[31,9,31,10],[31,11,31,12],[32,9,32,10],[32,11,32,12],[33,9,33,10],[33,11,33,12],[34,9,34,10],[34,11,34,12],[35,9,35,10],[35,11,35,12],[36,9,36,10],[36,11,36,12],[37,9,37,10],[37,11,37,12],[39,0,39,2],[40,0,40,2],[41,0,41,2],[42,0,42,2],[43,0,43,5]]}
["Løn","2019-01-01",null,null,null,null,null,null,"Uge :",{"$f":"IF(A4=\"\",\"\",TRUNC((A4-WEEKDAY(A4,2)-DATE(YEAR(A4+4-WEEKDAY(A4,2)),1,-10))/7))","v":35},"-",null,{"$f":"IF(A25=\"\",\"\",TRUNC((A25-WEEKDAY(A25,2)-DATE(YEAR(A25+4-WEEKDAY(A25,2)),1,-10))/7))","v":38},{"$f":"EOMONTH(A4,0)","v":"2019-09-30"},null,9,null,null,null,null,null,"Time beregning:",null,null,null,null,null,null,null,null,null,null,"06:00:00","18:00:00","03:00:00"]
["Lønart",null,null,null,null,null,null,null,null,null,null,null,null,null,null,null,null,null,null,null,null,"Betalt pause ved vagt over 5 timer",null,null,null,"00:25:00","minutter","00:00:00","06:00:00","17:00:00","14:00:00"]
["Dato","Dag",null,"Start","Slut","Pause","Arb. Tid","Overtid           1-3 time","Overtid            4 - time","Forskudt tid alle dage\n18-23",null,"Natarbejde 23-06",null,"Lørdag tillæg 14 - 24","Søndag tillæg 00 - 24","Optjent afspadsering","Afholdt afspadsering","Syge Timer","norm"]
[{"$f":"DATE(T.!$B$1,$P$1,1)","v":"2019-09-01"},{"$f":"PROPER(TEXT(A4,\"ddd\"))","v":"Sø"},{"$f":"HelligdagsNavn(A4,0,0)","v":""},"07:00:00","16:00:00","00:30:00",{"$f":"IF(D4=\"\",\"\",(E4-D4)+(D4>E4)-F4)","v":0.35416666666666663},{"$f":"IF(G4=\"\",0,IF(WEEKDAY(A4,2)=7,0,IF(G4>S4,MIN(G4-S4,$AI$1),0)))","v":"00:00:00"},{"$f":"IF(G4=\"\",\"\",IF(G4>S4+H4,G4-(S4+H4),\"\"))","v":""},{"$f":"ColTime(T.!$J$3,T.!$L$3,D4,E4)","v":"00:00:00"},null,{"$f":"ColTime(TIME(T.!$J$4,0,0),TIME(T.!$L$4,0,0),D4,E4)","v":"00:00:00"},null,{"$f":"IF(WEEKDAY(A4,2)=6,ColTime(TIME(14,0,0),TIME(24,0,0),D4,E4),\"\")","v":""},{"$f":"IF(OR(C4<>\"\",WEEKDAY(A4,2)=7),ColTime(TIME(0,0,0),TIME(24,0,0),D4,E4),\"\")","v":"09:00:00"},{"$f":"IFERROR(H4+I4,\"\")","v":""},null,null,{"$f":"CHOOSE(WEEKDAY(A4,2),norm!C$1,norm!C$2,norm!C$3,norm!C$4,norm!C$5,norm!C$6,norm!C$7)","v":"09:00:00"},null,null,{"$f":"IF(D4=\"\",\"\",HOUR(D4))","v":7},{"$f":"IF(D4=\"\",\"\",MINUTE(D4))","v":0},{"$f":"IF(D4=\"\",\"\",TIME(HOUR(D4),MINUTE(D4),0))","v":"07:00:00"},{"$f":"IF(E4=\"\",\"\",HOUR(E4))","v":16},{"$f":"IF(E4=\"\",\"\",MINUTE(E4))","v":0},"02:00:00","09:30:00","11:30:00",null,null,null,{"$f":"MIN(G4-S4,3)","v":-2.083333333333337E-2}]
[{"$f":"A4+1","v":"2019-09-02"},{"$f":"PROPER(TEXT(A5,\"ddd\"))","v":"Ma"},{"$f":"HelligdagsNavn(A5,0,0)","v":""},"13:45:00","21:30:00","00:30:00",{"$f":"IF(D5=\"\",\"\",(E5-D5)+(D5>E5)-F5)","v":0.30208333333333343},{"$f":"IF(G5=\"\",0,IF(WEEKDAY(A5,2)=7,0,IF(G5>S5,MIN(G5-S5,$AI$1),0)))","v":"00:00:00"},{"$f":"IF(G5=\"\",\"\",IF(G5>S5+H5,G5-(S5+H5),\"\"))","v":""},{"$f":"ColTime(T.!$J$3,T.!$L$3,D5,E5)","v":"03:30:00"},null,{"$f":"ColTime(TIME(T.!$J$4,0,0),TIME(T.!$L$4,0,0),D5,E5)","v":"00:00:00"},null,"","",{"$f":"IFERROR(H5+I5,\"\")","v":""},null,null,{"$f":"CHOOSE(WEEKDAY(A5,2),norm!C$1,norm!C$2,norm!C$3,norm!C$4,norm!C$5,norm!C$6,norm!C$7)","v":"09:00:00"},null,null,13,45,"13:45:00",21,30,{"$f":"IF(E5=\"\",\"\",TIME(HOUR(E5),MINUTE(E5),0))","v":"21:30:00"},null,null,null,null,null,null,"Der taste kun i de Gule celler"]
[{"$f":"A5+1","v":"2019-09-03"},{"$f":"PROPER(TEXT(A6,\"ddd\"))","v":"Ti"},"","22:00:00","05:45:00","00:30:00",0.30208333333333343,"00:00:00","",{"$f":"ColTime(T.!$J$3,T.!$L$3,D6,E6)","v":"01:00:00"},null,{"$f":"ColTime(TIME(T.!$J$4,0,0),TIME(T.!$L$4,0,0),D6,E6)","v":"06:45:00"},null,"","",{"$f":"IFERROR(H6+I6,\"\")","v":""},null,null,{"$f":"CHOOSE(WEEKDAY(A6,2),norm!C$1,norm!C$2,norm!C$3,norm!C$4,norm!C$5,norm!C$6,norm!C$7)","v":"09:00:00"},null,null,22,0,"22:00:00",5,45,"05:45:00"]
["2019-09-04","On","","05:00:00","16:45:00","00:30:00",0.46874999999999994,"02:15:00","",{"$f":"ColTime(T.!$J$3,T.!$L$3,D7,E7)","v":"00:00:00"},null,{"$f":"ColTime(TIME(T.!$J$4,0,0),TIME(T.!$L$4,0,0),D7,E7)","v":"01:00:00"},null,"","",{"$f":"IFERROR(H7+I7,\"\")","v":""},null,null,{"$f":"CHOOSE(WEEKDAY(A7,2),norm!C$1,norm!C$2,norm!C$3,norm!C$4,norm!C$5,norm!C$6,norm!C$7)","v":"09:00:00"},null,null,5,0,"05:00:00",16,45,"16:45:00"]
["2019-09-05","To","",null,null,null,"","00:00:00","",{"$f":"ColTime(T.!$J$3,T.!$L$3,D8,E8)","v":"00:00:00"},null,{"$f":"ColTime(TIME(T.!$J$4,0,0),TIME(T.!$L$4,0,0),D8,E8)","v":"00:00:00"},null,"","",{"$f":"IFERROR(H8+I8,\"\")","v":""},null,null,{"$f":"CHOOSE(WEEKDAY(A8,2),norm!C$1,norm!C$2,norm!C$3,norm!C$4,norm!C$5,norm!C$6,norm!C$7)","v":"09:00:00"},null,null,"","","","","",""]
["2019-09-06","Fr","","06:00:00","19:00:00","00:30:00",0.52083333333333326,"03:00:00","00:30:00",{"$f":"ColTime(T.!$J$3,T.!$L$3,D9,E9)","v":"01:00:00"},null,{"$f":"ColTime(TIME(T.!$J$4,0,0),TIME(T.!$L$4,0,0),D9,E9)","v":"00:00:00"},null,"",{"$f":"IF(OR(C9<>\"\",WEEKDAY(A9,2)=7),ColTime(TIME(0,0,0),TIME(24,0,0),D9,E9),\"\")","v":""},{"$f":"IFERROR(H9+I9,\"\")","v":"03:30:00"},null,null,{"$f":"CHOOSE(WEEKDAY(A9,2),norm!C$1,norm!C$2,norm!C$3,norm!C$4,norm!C$5,norm!C$6,norm!C$7)","v":"09:00:00"},null,null,6,0,"06:00:00",19,0,"19:00:00"]
["2019-09-07","Lø","","07:00:00","19:00:00",null,0.49999999999999994,"03:00:00","",{"$f":"ColTime(T.!$J$3,T.!$L$3,D10,E10)","v":"01:00:00"},null,{"$f":"ColTime(TIME(T.!$J$4,0,0),TIME(T.!$L$4,0,0),D10,E10)","v":"00:00:00"},null,{"$f":"IF(WEEKDAY(A10,2)=6,ColTime(TIME(14,0,0),TIME(24,0,0),D10,E10),\"\")","v":"05:00:00"},{"$f":"IF(OR(C10<>\"\",WEEKDAY(A10,2)=7),ColTime(TIME(0,0,0),TIME(24,0,0),D10,E10),\"\")","v":""},"",null,null,{"$f":"CHOOSE(WEEKDAY(A10,2),norm!C$1,norm!C$2,norm!C$3,norm!C$4,norm!C$5,norm!C$6,norm!C$7)","v":"09:00:00"},null,null,7,0,"07:00:00",19,0,"19:00:00"]
[{"$f":"A10+1","v":"2019-09-08"},{"$f":"PROPER(TEXT(A11,\"ddd\"))","v":"Sø"},{"$f":"HelligdagsNavn(A11,0,0)","v":""},null,null,null,"","00:00:00","",{"$f":"ColTime(T.!$J$3,T.!$L$3,D11,E11)","v":"00:00:00"},null,{"$f":"ColTime(TIME(T.!$J$4,0,0),TIME(T.!$L$4,0,0),D11,E11)","v":"00:00:00"},null,{"$f":"IF(WEEKDAY(A11,2)=6,ColTime(TIME(15,0,0),TIME(24,0,0),D11,E11),\"\")","v":""},"00:00:00","",null,null,{"$f":"CHOOSE(WEEKDAY(A11,2),norm!C$1,norm!C$2,norm!C$3,norm!C$4,norm!C$5,norm!C$6,norm!C$7)","v":"09:00:00"},null,null,"","","","","",""]
[{"$f":"A11+1","v":"2019-09-09"},{"$f":"PROPER(TEXT(A12,\"ddd\"))","v":"Ma"},{"$f":"HelligdagsNavn(A12,0,0)","v":""},null,null,null,"","00:00:00","",{"$f":"ColTime(T.!$J$3,T.!$L$3,D12,E12)","v":"00:00:00"},null,{"$f":"ColTime(TIME(T.!$J$4,0,0),TIME(T.!$L$4,0,0),D12,E12)","v":"00:00:00"},null,"","","",null,null,{"$f":"CHOOSE(WEEKDAY(A12,2),norm!C$1,norm!C$2,norm!C$3,norm!C$4,norm!C$5,norm!C$6,norm!C$7)","v":"09:00:00"},null,null,"","","","","",""]
[{"$f":"A12+1","v":"2019-09-10"},{"$f":"PROPER(TEXT(A13,\"ddd\"))","v":"Ti"},"",null,null,null,"","00:00:00","",{"$f":"ColTime(T.!$J$3,T.!$L$3,D13,E13)","v":"00:00:00"},null,{"$f":"ColTime(TIME(T.!$J$4,0,0),TIME(T.!$L$4,0,0),D13,E13)","v":"00:00:00"},null,"","","",null,null,{"$f":"CHOOSE(WEEKDAY(A13,2),norm!C$1,norm!C$2,norm!C$3,norm!C$4,norm!C$5,norm!C$6,norm!C$7)","v":"09:00:00"},null,null,"","","","","",""]
["2019-09-11","On","",null,null,null,"","00:00:00","",{"$f":"ColTime(T.!$J$3,T.!$L$3,D14,E14)","v":"00:00:00"},null,{"$f":"ColTime(TIME(T.!$J$4,0,0),TIME(T.!$L$4,0,0),D14,E14)","v":"00:00:00"},null,"","","",null,null,{"$f":"CHOOSE(WEEKDAY(A14,2),norm!C$1,norm!C$2,norm!C$3,norm!C$4,norm!C$5,norm!C$6,norm!C$7)","v":"09:00:00"},null,null,"","","","","",""]
["2019-09-12","To","",null,null,null,"","00:00:00","",{"$f":"ColTime(T.!$J$3,T.!$L$3,D15,E15)","v":"00:00:00"},null,{"$f":"ColTime(TIME(T.!$J$4,0,0),TIME(T.!$L$4,0,0),D15,E15)","v":"00:00:00"},null,"","","",null,null,{"$f":"CHOOSE(WEEKDAY(A15,2),norm!C$1,norm!C$2,norm!C$3,norm!C$4,norm!C$5,norm!C$6,norm!C$7)","v":"09:00:00"},null,null,"","","",null,"",""]
["2019-09-13","Fr","",null,null,null,"","00:00:00","",{"$f":"ColTime(T.!$J$3,T.!$L$3,D16,E16)","v":"00:00:00"},null,{"$f":"ColTime(TIME(T.!$J$4,0,0),TIME(T.!$L$4,0,0),D16,E16)","v":"00:00:00"},null,"","","",null,null,{"$f":"CHOOSE(WEEKDAY(A16,2),norm!C$1,norm!C$2,norm!C$3,norm!C$4,norm!C$5,norm!C$6,norm!C$7)","v":"09:00:00"},null,null,"","","","","",""]
["2019-09-14","Lø","",null,null,null,"","00:00:00","",{"$f":"ColTime(T.!$J$3,T.!$L$3,D17,E17)","v":"00:00:00"},null,{"$f":"ColTime(TIME(T.!$J$4,0,0),TIME(T.!$L$4,0,0),D17,E17)","v":"00:00:00"},null,"00:00:00","","",null,null,{"$f":"CHOOSE(WEEKDAY(A17,2),norm!C$1,norm!C$2,norm!C$3,norm!C$4,norm!C$5,norm!C$6,norm!C$7)","v":"09:00:00"},null,null,"","","","","",""]
[{"$f":"A17+1","v":"2019-09-15"},{"$f":"PROPER(TEXT(A18,\"ddd\"))","v":"Sø"},{"$f":"HelligdagsNavn(A18,0,0)","v":""},null,null,null,"","00:00:00","",{"$f":"ColTime(T.!$J$3,T.!$L$3,D18,E18)","v":"00:00:00"},null,{"$f":"ColTime(TIME(T.!$J$4,0,0),TIME(T.!$L$4,0,0),D18,E18)","v":"00:00:00"},null,"","00:00:00","",null,null,{"$f":"CHOOSE(WEEKDAY(A18,2),norm!C$1,norm!C$2,norm!C$3,norm!C$4,norm!C$5,norm!C$6,norm!C$7)","v":"09:00:00"},null,null,"","","","","",""]
[{"$f":"A18+1","v":"2019-09-16"},{"$f":"PROPER(TEXT(A19,\"ddd\"))","v":"Ma"},{"$f":"HelligdagsNavn(A19,0,0)","v":""},null,null,null,"","00:00:00","",{"$f":"ColTime(T.!$J$3,T.!$L$3,D19,E19)","v":"00:00:00"},null,{"$f":"ColTime(TIME(T.!$J$4,0,0),TIME(T.!$L$4,0,0),D19,E19)","v":"00:00:00"},null,"","","",null,null,{"$f":"CHOOSE(WEEKDAY(A19,2),norm!C$1,norm!C$2,norm!C$3,norm!C$4,norm!C$5,norm!C$6,norm!C$7)","v":"09:00:00"},null,null,"","","","","",""]
[{"$f":"A19+1","v":"2019-09-17"},{"$f":"PROPER(TEXT(A20,\"ddd\"))","v":"Ti"},"",null,null,null,"","00:00:00","",{"$f":"ColTime(T.!$J$3,T.!$L$3,D20,E20)","v":"00:00:00"},null,{"$f":"ColTime(TIME(T.!$J$4,0,0),TIME(T.!$L$4,0,0),D20,E20)","v":"00:00:00"},null,"","","",null,null,{"$f":"CHOOSE(WEEKDAY(A20,2),norm!C$1,norm!C$2,norm!C$3,norm!C$4,norm!C$5,norm!C$6,norm!C$7)","v":"09:00:00"},null,null,"","","","","",""]
["2019-09-18","On","",null,null,null,"","00:00:00","",{"$f":"ColTime(T.!$J$3,T.!$L$3,D21,E21)","v":"00:00:00"},null,{"$f":"ColTime(TIME(T.!$J$4,0,0),TIME(T.!$L$4,0,0),D21,E21)","v":"00:00:00"},null,"","","",null,null,{"$f":"CHOOSE(WEEKDAY(A21,2),norm!C$1,norm!C$2,norm!C$3,norm!C$4,norm!C$5,norm!C$6,norm!C$7)","v":"09:00:00"},null,null,"","","","","",""]
["2019-09-19","To","",null,null,null,"","00:00:00","",{"$f":"ColTime(T.!$J$3,T.!$L$3,D22,E22)","v":"00:00:00"},null,{"$f":"ColTime(TIME(T.!$J$4,0,0),TIME(T.!$L$4,0,0),D22,E22)","v":"00:00:00"},null,"","","",null,null,{"$f":"CHOOSE(WEEKDAY(A22,2),norm!C$1,norm!C$2,norm!C$3,norm!C$4,norm!C$5,norm!C$6,norm!C$7)","v":"09:00:00"},null,null,"","","","","",""]
["2019-09-20","Fr","",null,null,null,"","00:00:00","",{"$f":"ColTime(T.!$J$3,T.!$L$3,D23,E23)","v":"00:00:00"},null,{"$f":"ColTime(TIME(T.!$J$4,0,0),TIME(T.!$L$4,0,0),D23,E23)","v":"00:00:00"},null,"","","",null,null,{"$f":"CHOOSE(WEEKDAY(A23,2),norm!C$1,norm!C$2,norm!C$3,norm!C$4,norm!C$5,norm!C$6,norm!C$7)","v":"09:00:00"},null,null,"","","","","",""]
["2019-09-21","Lø","",null,null,null,"","00:00:00","",{"$f":"ColTime(T.!$J$3,T.!$L$3,D24,E24)","v":"00:00:00"},null,{"$f":"ColTime(TIME(T.!$J$4,0,0),TIME(T.!$L$4,0,0),D24,E24)","v":"00:00:00"},null,"00:00:00","","",null,null,{"$f":"CHOOSE(WEEKDAY(A24,2),norm!C$1,norm!C$2,norm!C$3,norm!C$4,norm!C$5,norm!C$6,norm!C$7)","v":"09:00:00"},null,null,"","","","","",""]
[{"$f":"A24+1","v":"2019-09-22"},{"$f":"PROPER(TEXT(A25,\"ddd\"))","v":"Sø"},{"$f":"HelligdagsNavn(A25,0,0)","v":""},null,null,null,"","00:00:00","",{"$f":"ColTime(T.!$J$3,T.!$L$3,D25,E25)","v":"00:00:00"},null,{"$f":"ColTime(TIME(T.!$J$4,0,0),TIME(T.!$L$4,0,0),D25,E25)","v":"00:00:00"},null,"","00:00:00","",null,null,{"$f":"CHOOSE(WEEKDAY(A25,2),norm!C$1,norm!C$2,norm!C$3,norm!C$4,norm!C$5,norm!C$6,norm!C$7)","v":"09:00:00"},null,null,"","","","","",""]
[{"$f":"A25+1","v":"2019-09-23"},{"$f":"PROPER(TEXT(A26,\"ddd\"))","v":"Ma"},{"$f":"HelligdagsNavn(A26,0,0)","v":""},null,null,null,"","00:00:00","",{"$f":"ColTime(T.!$J$3,T.!$L$3,D26,E26)","v":"00:00:00"},null,{"$f":"ColTime(TIME(T.!$J$4,0,0),TIME(T.!$L$4,0,0),D26,E26)","v":"00:00:00"},null,"","","",null,null,{"$f":"CHOOSE(WEEKDAY(A26,2),norm!C$1,norm!C$2,norm!C$3,norm!C$4,norm!C$5,norm!C$6,norm!C$7)","v":"09:00:00"},null,null,"","","","","",""]
[{"$f":"A26+1","v":"2019-09-24"},{"$f":"PROPER(TEXT(A27,\"ddd\"))","v":"Ti"},"",null,null,null,"","00:00:00","",{"$f":"ColTime(T.!$J$3,T.!$L$3,D27,E27)","v":"00:00:00"},null,{"$f":"ColTime(TIME(T.!$J$4,0,0),TIME(T.!$L$4,0,0),D27,E27)","v":"00:00:00"},null,"","","",null,null,{"$f":"CHOOSE(WEEKDAY(A27,2),norm!C$1,norm!C$2,norm!C$3,norm!C$4,norm!C$5,norm!C$6,norm!C$7)","v":"09:00:00"},null,null,"","","","","",""]
["2019-09-25","On","",null,null,null,"","00:00:00","",{"$f":"ColTime(T.!$J$3,T.!$L$3,D28,E28)","v":"00:00:00"},null,{"$f":"ColTime(TIME(T.!$J$4,0,0),TIME(T.!$L$4,0,0),D28,E28)","v":"00:00:00"},null,"","","",null,null,{"$f":"CHOOSE(WEEKDAY(A28,2),norm!C$1,norm!C$2,norm!C$3,norm!C$4,norm!C$5,norm!C$6,norm!C$7)","v":"09:00:00"},null,null,"","","","","",""]
["2019-09-26","To","",null,null,null,"","00:00:00","",{"$f":"ColTime(T.!$J$3,T.!$L$3,D29,E29)","v":"00:00:00"},null,{"$f":"ColTime(TIME(T.!$J$4,0,0),TIME(T.!$L$4,0,0),D29,E29)","v":"00:00:00"},null,"","","",null,null,{"$f":"CHOOSE(WEEKDAY(A29,2),norm!C$1,norm!C$2,norm!C$3,norm!C$4,norm!C$5,norm!C$6,norm!C$7)","v":"09:00:00"}]
["2019-09-27","Fr","",null,null,null,"","00:00:00","",{"$f":"ColTime(T.!$J$3,T.!$L$3,D30,E30)","v":"00:00:00"},null,{"$f":"ColTime(TIME(T.!$J$4,0,0),TIME(T.!$L$4,0,0),D30,E30)","v":"00:00:00"},null,"","","",null,null,{"$f":"CHOOSE(WEEKDAY(A30,2),norm!C$1,norm!C$2,norm!C$3,norm!C$4,norm!C$5,norm!C$6,norm!C$7)","v":"09:00:00"}]
["2019-09-28","Lø","",null,null,null,"","00:00:00","",{"$f":"ColTime(T.!$J$3,T.!$L$3,D31,E31)","v":"00:00:00"},null,{"$f":"ColTime(TIME(T.!$J$4,0,0),TIME(T.!$L$4,0,0),D31,E31)","v":"00:00:00"},null,"00:00:00","","",null,null,{"$f":"CHOOSE(WEEKDAY(A31,2),norm!C$1,norm!C$2,norm!C$3,norm!C$4,norm!C$5,norm!C$6,norm!C$7)","v":"09:00:00"}]
[{"$f":"IF(MONTH(A31+1)>MONTH(A31),\"\",A31+1)","v":"2019-09-29"},"Sø",{"$f":"IF(A32=\"\",\"\",HelligdagsNavn(A32,0,0))","v":""},null,null,null,"","00:00:00","",{"$f":"ColTime(T.!$J$3,T.!$L$3,D32,E32)","v":"00:00:00"},null,{"$f":"ColTime(TIME(T.!$J$4,0,0),TIME(T.!$L$4,0,0),D32,E32)","v":"00:00:00"},null,{"$f":"IFERROR(IF(WEEKDAY(A32,2)=6,ColTime(TIME(15,0,0),TIME(24,0,0),D32,E32),\"\"),\"\")","v":""},{"$f":"IFERROR(IF(OR(C32<>\"\",WEEKDAY(A32,2)=7),ColTime(TIME(0,0,0),TIME(24,0,0),D32,E32),\"\"),\"\")","v":"00:00:00"},"",null,null,{"$f":"IFERROR(CHOOSE(WEEKDAY(A32,2),norm!C$1,norm!C$2,norm!C$3,norm!C$4,norm!C$5,norm!C$6,norm!C$7),\"\")","v":"09:00:00"}]
[{"$f":"IFERROR(IF(MONTH(A32+1)>MONTH(A32),\"\",A32+1),\"\")","v":"2019-09-30"},"Ma","",null,null,null,"","00:00:00","",{"$f":"ColTime(T.!$J$3,T.!$L$3,D33,E33)","v":"00:00:00"},null,{"$f":"ColTime(TIME(T.!$J$4,0,0),TIME(T.!$L$4,0,0),D33,E33)","v":"00:00:00"},null,{"$f":"IFERROR(IF(WEEKDAY(A33,2)=6,ColTime(TIME(15,0,0),TIME(24,0,0),D33,E33),\"\"),\"\")","v":""},{"$f":"IFERROR(IF(OR(C33<>\"\",WEEKDAY(A33,2)=7),ColTime(TIME(0,0,0),TIME(24,0,0),D33,E33),\"\"),\"\")","v":""},"",null,null,{"$f":"IFERROR(CHOOSE(WEEKDAY(A33,2),norm!C$1,norm!C$2,norm!C$3,norm!C$4,norm!C$5,norm!C$6,norm!C$7),\"\")","v":"09:00:00"}]
[{"$f":"IFERROR(IF(MONTH(A33+1)>MONTH(A33),\"\",A33+1),\"\")","v":""},{"$f":"IFERROR(PROPER(TEXT(A34,\"ddd\")),\"\")","v":""},{"$f":"IF(A34=\"\",\"\",HelligdagsNavn(A34,0,0))","v":""},null,null,null,"","00:00:00","",{"$f":"ColTime(T.!$J$3,T.!$L$3,D34,E34)","v":"00:00:00"},null,{"$f":"ColTime(TIME(T.!$J$4,0,0),TIME(T.!$L$4,0,0),D34,E34)","v":"00:00:00"},null,{"$f":"IFERROR(IF(WEEKDAY(A34,2)=6,ColTime(TIME(15,0,0),TIME(24,0,0),D34,E34),\"\"),\"\")","v":""},"","",null,null,{"$f":"IFERROR(CHOOSE(WEEKDAY(A34,2),norm!C$1,norm!C$2,norm!C$3,norm!C$4,norm!C$5,norm!C$6,norm!C$7),\"\")","v":""},null,null,{"$f":"IF(D34=\"\",\"\",HOUR(D34))","v":""},{"$f":"IF(D34=\"\",\"\",MINUTE(D34))","v":""},{"$f":"IF(D34=\"\",\"\",TIME(HOUR(D34),MINUTE(D34),0))","v":""},{"$f":"IF(E34=\"\",\"\",HOUR(E34))","v":""},{"$f":"IF(E34=\"\",\"\",MINUTE(E34))","v":""},{"$f":"IF(E34=\"\",\"\",TIME(HOUR(E34),MINUTE(E34),0))","v":""}]
["Total timer",null,null,null,null,null,{"$f":"IF(SUM(G9:G34)<>\"0\",SUM(G4:G34),\"\")","v":2.4479166666666665},{"$f":"IF(SUM(H4:H34)<>\"0\",SUM(H4:H34),\"\")","v":0.34374999999999989},{"$f":"IF(SUM(I4:I34)<>\"0\",SUM(I4:I34),\"\")","v":2.0833333333333259E-2},{"$f":"IF(SUM(J4:J34)<>\"0\",SUM(J4:J34),\"\")","v":0.27083333333333337},null,{"$f":"SUM(L4:M34)","v":"07:45:00"},null,{"$f":"IF(SUM(N4:N34)<>\"0\",SUM(N4:N34),\"\")","v":0.20833333333333326},{"$f":"IF(SUM(O4:O34)<>\"0\",SUM(O4:O34),\"\")","v":"09:00:00"},{"$f":"SUM(P4:P34)","v":0.14583333333333326},{"$f":"SUM(Q4:Q34)","v":0}]
["Timer 1/100",null,null,null,null,null,{"$f":"IF(G35<>\"\",ROUND(G35*24,2),\"\")","v":58.75},{"$f":"IF(H35<>\"\",ROUND(H35*24,2),\"\")","v":8.25},0.5,{"$f":"IF(J35<>\"\",ROUND(J35*24,2),\"\")","v":6.5},null,{"$f":"IF(L35<>\"\",ROUND(L35*24,2),\"\")","v":7.75},null,{"$f":"IF(N35<>\"\",ROUND(N35*24,2),\"\")","v":5},9,3.5,0]
["Satser",null,null,null,null,null,{"$f":"Satser!B7","v":107.35},{"$f":"Satser!B9","v":36.35},{"$f":"Satser!B12","v":58.1},{"$f":"Satser!B17","v":25.6},null,{"$f":"Satser!B18","v":34.200000000000003},null,{"$f":"Satser!B19","v":45.1},{"$f":"Satser!B20","v":50.6}]
[null,null,null,null,null,null,{"$f":"IF(G35<>\"\",G36*G37,\"\")","v":6306.8125},{"$f":"IF(H35<>\"\",H36*H37,\"\")","v":299.88749999999999},29.05,{"$f":"IF(J35<>\"\",J36*J37,\"\")","v":166.4},null,{"$f":"IF(L35<>\"\",L36*L36,\"\")","v":60.0625},null,{"$f":"IF(N35<>\"\",N36*N37,\"\")","v":225.5},455.40000000000003]
[]
["Lønart"]
[3025,null,null,null,null,null,{"$f":"G35","v":2.4479166666666665}]
[3425,null,null,null,null,null,{"$f":"H35","v":0.34374999999999989}]
[3428,null,null,null,null,null,{"$f":"I35","v":2.0833333333333259E-2}]
["Timer",null,null,null,null,null,{"$f":"SUM(G41:G43)","v":2.8125},{"$f":"IF(G44<>\"\",ROUND(G44*24,2),\"\")","v":67.5}]
[null,null,null,null,null,null,null,{"$f":"G37*H44","v":7246.125}]

{"sheet":"November","index":11,"n_rows":45,"n_cols":35,"rows_kept":45,"cut":false,"hidden":true,"merged":[[4,9,4,10],[4,11,4,12],[0,1,0,7],[0,10,0,11],[0,13,0,14],[1,1,1,2],[1,9,1,10],[1,11,1,12],[2,1,2,2],[2,9,2,10],[2,11,2,12],[3,9,3,10],[3,11,3,12],[5,9,5,10],[5,11,5,12],[6,9,6,10],[6,11,6,12],[7,9,7,10],[7,11,7,12],[8,9,8,10],[8,11,8,12],[9,9,9,10],[9,11,9,12],[10,9,10,10],[10,11,10,12],[11,9,11,10],[11,11,11,12],[12,9,12,10],[12,11,12,12],[13,9,13,10],[13,11,13,12],[14,9,14,10],[14,11,14,12],[15,9,15,10],[15,11,15,12],[16,9,16,10],[16,11,16,12],[17,9,17,10],[17,11,17,12],[18,9,18,10],[18,11,18,12],[19,9,19,10],[19,11,19,12],[20,9,20,10],[20,11,20,12],[21,9,21,10],[21,11,21,12],[22,9,22,10],[22,11,22,12],[23,9,23,10],[23,11,23,12],[24,9,24,10],[24,11,24,12],[25,9,25,10],[25,11,25,12],[26,9,26,10],[26,11,26,12],[27,9,27,10],[27,11,27,12],[28,9,28,10],[28,11,28,12],[29,9,29,10],[29,11,29,12],[30,9,30,10],[30,11,30,12],[31,9,31,10],[31,11,31,12],[32,9,32,10],[32,11,32,12],[33,9,33,10],[33,11,33,12],[34,9,34,10],[34,11,34,12],[35,9,35,10],[35,11,35,12],[36,9,36,10],[36,11,36,12],[37,9,37,10],[37,11,37,12],[39,0,39,2],[40,0,40,2],[41,0,41,2],[42,0,42,2],[43,0,43,5]]}
["Løn","2019-01-01",null,null,null,null,null,null,"Uge :",{"$f":"IF(A4=\"\",\"\",TRUNC((A4-WEEKDAY(A4,2)-DATE(YEAR(A4+4-WEEKDAY(A4,2)),1,-10))/7))","v":35},"-",null,{"$f":"IF(A25=\"\",\"\",TRUNC((A25-WEEKDAY(A25,2)-DATE(YEAR(A25+4-WEEKDAY(A25,2)),1,-10))/7))","v":38},{"$f":"EOMONTH(A4,0)","v":"2019-09-30"},null,9,null,null,null,null,null,"Time beregning:",null,null,null,null,null,null,null,null,null,null,"06:00:00","18:00:00","03:00:00"]
["Lønart",null,null,null,null,null,null,null,null,null,null,null,null,null,null,null,null,null,null,null,null,"Betalt pause ved vagt over 5 timer",null,null,null,"00:25:00","minutter","00:00:00","06:00:00","17:00:00","14:00:00"]
["Dato","Dag",null,"Start","Slut","Pause","Arb. Tid","Overtid           1-3 time","Overtid            4 - time","Forskudt tid alle dage\n18-23",null,"Natarbejde 23-06",null,"Lørdag tillæg 14 - 24","Søndag tillæg 00 - 24","Optjent afspadsering","Afholdt afspadsering","Syge Timer","norm"]
[{"$f":"DATE(T.!$B$1,$P$1,1)","v":"2019-09-01"},{"$f":"PROPER(TEXT(A4,\"ddd\"))","v":"Sø"},{"$f":"HelligdagsNavn(A4,0,0)","v":""},"07:00:00","16:00:00","00:30:00",{"$f":"IF(D4=\"\",\"\",(E4-D4)+(D4>E4)-F4)","v":0.35416666666666663},{"$f":"IF(G4=\"\",0,IF(WEEKDAY(A4,2)=7,0,IF(G4>S4,MIN(G4-S4,$AI$1),0)))","v":"00:00:00"},{"$f":"IF(G4=\"\",\"\",IF(G4>S4+H4,G4-(S4+H4),\"\"))","v":""},{"$f":"ColTime(T.!$J$3,T.!$L$3,D4,E4)","v":"00:00:00"},null,{"$f":"ColTime(TIME(T.!$J$4,0,0),TIME(T.!$L$4,0,0),D4,E4)","v":"00:00:00"},null,{"$f":"IF(WEEKDAY(A4,2)=6,ColTime(TIME(14,0,0),TIME(24,0,0),D4,E4),\"\")","v":""},{"$f":"IF(OR(C4<>\"\",WEEKDAY(A4,2)=7),ColTime(TIME(0,0,0),TIME(24,0,0),D4,E4),\"\")","v":"09:00:00"},{"$f":"IFERROR(H4+I4,\"\")","v":""},null,null,{"$f":"CHOOSE(WEEKDAY(A4,2),norm!C$1,norm!C$2,norm!C$3,norm!C$4,norm!C$5,norm!C$6,norm!C$7)","v":"09:00:00"},null,null,{"$f":"IF(D4=\"\",\"\",HOUR(D4))","v":7},{"$f":"IF(D4=\"\",\"\",MINUTE(D4))","v":0},{"$f":"IF(D4=\"\",\"\",TIME(HOUR(D4),MINUTE(D4),0))","v":"07:00:00"},{"$f":"IF(E4=\"\",\"\",HOUR(E4))","v":16},{"$f":"IF(E4=\"\",\"\",MINUTE(E4))","v":0},"02:00:00","09:30:00","11:30:00",null,null,null,{"$f":"MIN(G4-S4,3)","v":-2.083333333333337E-2}]
[{"$f":"A4+1","v":"2019-09-02"},{"$f":"PROPER(TEXT(A5,\"ddd\"))","v":"Ma"},{"$f":"HelligdagsNavn(A5,0,0)","v":""},"13:45:00","21:30:00","00:30:00",{"$f":"IF(D5=\"\",\"\",(E5-D5)+(D5>E5)-F5)","v":0.30208333333333343},{"$f":"IF(G5=\"\",0,IF(WEEKDAY(A5,2)=7,0,IF(G5>S5,MIN(G5-S5,$AI$1),0)))","v":"00:00:00"},{"$f":"IF(G5=\"\",\"\",IF(G5>S5+H5,G5-(S5+H5),\"\"))","v":""},{"$f":"ColTime(T.!$J$3,T.!$L$3,D5,E5)","v":"03:30:00"},null,{"$f":"ColTime(TIME(T.!$J$4,0,0),TIME(T.!$L$4,0,0),D5,E5)","v":"00:00:00"},null,"","",{"$f":"IFERROR(H5+I5,\"\")","v":""},null,null,{"$f":"CHOOSE(WEEKDAY(A5,2),norm!C$1,norm!C$2,norm!C$3,norm!C$4,norm!C$5,norm!C$6,norm!C$7)","v":"09:00:00"},null,null,13,45,"13:45:00",21,30,{"$f":"IF(E5=\"\",\"\",TIME(HOUR(E5),MINUTE(E5),0))","v":"21:30:00"},null,null,null,null,null,null,"Der taste kun i de Gule celler"]
[{"$f":"A5+1","v":"2019-09-03"},{"$f":"PROPER(TEXT(A6,\"ddd\"))","v":"Ti"},"","22:00:00","05:45:00","00:30:00",0.30208333333333343,"00:00:00","",{"$f":"ColTime(T.!$J$3,T.!$L$3,D6,E6)","v":"01:00:00"},null,{"$f":"ColTime(TIME(T.!$J$4,0,0),TIME(T.!$L$4,0,0),D6,E6)","v":"06:45:00"},null,"","",{"$f":"IFERROR(H6+I6,\"\")","v":""},null,null,{"$f":"CHOOSE(WEEKDAY(A6,2),norm!C$1,norm!C$2,norm!C$3,norm!C$4,norm!C$5,norm!C$6,norm!C$7)","v":"09:00:00"},null,null,22,0,"22:00:00",5,45,"05:45:00"]
["2019-09-04","On","","05:00:00","16:45:00","00:30:00",0.46874999999999994,"02:15:00","",{"$f":"ColTime(T.!$J$3,T.!$L$3,D7,E7)","v":"00:00:00"},null,{"$f":"ColTime(TIME(T.!$J$4,0,0),TIME(T.!$L$4,0,0),D7,E7)","v":"01:00:00"},null,"","",{"$f":"IFERROR(H7+I7,\"\")","v":""},null,null,{"$f":"CHOOSE(WEEKDAY(A7,2),norm!C$1,norm!C$2,norm!C$3,norm!C$4,norm!C$5,norm!C$6,norm!C$7)","v":"09:00:00"},null,null,5,0,"05:00:00",16,45,"16:45:00"]
["2019-09-05","To","",null,null,null,"","00:00:00","",{"$f":"ColTime(T.!$J$3,T.!$L$3,D8,E8)","v":"00:00:00"},null,{"$f":"ColTime(TIME(T.!$J$4,0,0),TIME(T.!$L$4,0,0),D8,E8)","v":"00:00:00"},null,"","",{"$f":"IFERROR(H8+I8,\"\")","v":""},null,null,{"$f":"CHOOSE(WEEKDAY(A8,2),norm!C$1,norm!C$2,norm!C$3,norm!C$4,norm!C$5,norm!C$6,norm!C$7)","v":"09:00:00"},null,null,"","","","","",""]
["2019-09-06","Fr","","06:00:00","19:00:00","00:30:00",0.52083333333333326,"03:00:00","00:30:00",{"$f":"ColTime(T.!$J$3,T.!$L$3,D9,E9)","v":"01:00:00"},null,{"$f":"ColTime(TIME(T.!$J$4,0,0),TIME(T.!$L$4,0,0),D9,E9)","v":"00:00:00"},null,"",{"$f":"IF(OR(C9<>\"\",WEEKDAY(A9,2)=7),ColTime(TIME(0,0,0),TIME(24,0,0),D9,E9),\"\")","v":""},{"$f":"IFERROR(H9+I9,\"\")","v":"03:30:00"},null,null,{"$f":"CHOOSE(WEEKDAY(A9,2),norm!C$1,norm!C$2,norm!C$3,norm!C$4,norm!C$5,norm!C$6,norm!C$7)","v":"09:00:00"},null,null,6,0,"06:00:00",19,0,"19:00:00"]
["2019-09-07","Lø","","07:00:00","19:00:00",null,0.49999999999999994,"03:00:00","",{"$f":"ColTime(T.!$J$3,T.!$L$3,D10,E10)","v":"01:00:00"},null,{"$f":"ColTime(TIME(T.!$J$4,0,0),TIME(T.!$L$4,0,0),D10,E10)","v":"00:00:00"},null,{"$f":"IF(WEEKDAY(A10,2)=6,ColTime(TIME(14,0,0),TIME(24,0,0),D10,E10),\"\")","v":"05:00:00"},{"$f":"IF(OR(C10<>\"\",WEEKDAY(A10,2)=7),ColTime(TIME(0,0,0),TIME(24,0,0),D10,E10),\"\")","v":""},"",null,null,{"$f":"CHOOSE(WEEKDAY(A10,2),norm!C$1,norm!C$2,norm!C$3,norm!C$4,norm!C$5,norm!C$6,norm!C$7)","v":"09:00:00"},null,null,7,0,"07:00:00",19,0,"19:00:00"]
[{"$f":"A10+1","v":"2019-09-08"},{"$f":"PROPER(TEXT(A11,\"ddd\"))","v":"Sø"},{"$f":"HelligdagsNavn(A11,0,0)","v":""},null,null,null,"","00:00:00","",{"$f":"ColTime(T.!$J$3,T.!$L$3,D11,E11)","v":"00:00:00"},null,{"$f":"ColTime(TIME(T.!$J$4,0,0),TIME(T.!$L$4,0,0),D11,E11)","v":"00:00:00"},null,{"$f":"IF(WEEKDAY(A11,2)=6,ColTime(TIME(15,0,0),TIME(24,0,0),D11,E11),\"\")","v":""},"00:00:00","",null,null,{"$f":"CHOOSE(WEEKDAY(A11,2),norm!C$1,norm!C$2,norm!C$3,norm!C$4,norm!C$5,norm!C$6,norm!C$7)","v":"09:00:00"},null,null,"","","","","",""]
[{"$f":"A11+1","v":"2019-09-09"},{"$f":"PROPER(TEXT(A12,\"ddd\"))","v":"Ma"},{"$f":"HelligdagsNavn(A12,0,0)","v":""},null,null,null,"","00:00:00","",{"$f":"ColTime(T.!$J$3,T.!$L$3,D12,E12)","v":"00:00:00"},null,{"$f":"ColTime(TIME(T.!$J$4,0,0),TIME(T.!$L$4,0,0),D12,E12)","v":"00:00:00"},null,"","","",null,null,{"$f":"CHOOSE(WEEKDAY(A12,2),norm!C$1,norm!C$2,norm!C$3,norm!C$4,norm!C$5,norm!C$6,norm!C$7)","v":"09:00:00"},null,null,"","","","","",""]
[{"$f":"A12+1","v":"2019-09-10"},{"$f":"PROPER(TEXT(A13,\"ddd\"))","v":"Ti"},"",null,null,null,"","00:00:00","",{"$f":"ColTime(T.!$J$3,T.!$L$3,D13,E13)","v":"00:00:00"},null,{"$f":"ColTime(TIME(T.!$J$4,0,0),TIME(T.!$L$4,0,0),D13,E13)","v":"00:00:00"},null,"","","",null,null,{"$f":"CHOOSE(WEEKDAY(A13,2),norm!C$1,norm!C$2,norm!C$3,norm!C$4,norm!C$5,norm!C$6,norm!C$7)","v":"09:00:00"},null,null,"","","","","",""]
["2019-09-11","On","",null,null,null,"","00:00:00","",{"$f":"ColTime(T.!$J$3,T.!$L$3,D14,E14)","v":"00:00:00"},null,{"$f":"ColTime(TIME(T.!$J$4,0,0),TIME(T.!$L$4,0,0),D14,E14)","v":"00:00:00"},null,"","","",null,null,{"$f":"CHOOSE(WEEKDAY(A14,2),norm!C$1,norm!C$2,norm!C$3,norm!C$4,norm!C$5,norm!C$6,norm!C$7)","v":"09:00:00"},null,null,"","","","","",""]
["2019-09-12","To","",null,null,null,"","00:00:00","",{"$f":"ColTime(T.!$J$3,T.!$L$3,D15,E15)","v":"00:00:00"},null,{"$f":"ColTime(TIME(T.!$J$4,0,0),TIME(T.!$L$4,0,0),D15,E15)","v":"00:00:00"},null,"","","",null,null,{"$f":"CHOOSE(WEEKDAY(A15,2),norm!C$1,norm!C$2,norm!C$3,norm!C$4,norm!C$5,norm!C$6,norm!C$7)","v":"09:00:00"},null,null,"","","",null,"",""]
["2019-09-13","Fr","",null,null,null,"","00:00:00","",{"$f":"ColTime(T.!$J$3,T.!$L$3,D16,E16)","v":"00:00:00"},null,{"$f":"ColTime(TIME(T.!$J$4,0,0),TIME(T.!$L$4,0,0),D16,E16)","v":"00:00:00"},null,"","","",null,null,{"$f":"CHOOSE(WEEKDAY(A16,2),norm!C$1,norm!C$2,norm!C$3,norm!C$4,norm!C$5,norm!C$6,norm!C$7)","v":"09:00:00"},null,null,"","","","","",""]
["2019-09-14","Lø","",null,null,null,"","00:00:00","",{"$f":"ColTime(T.!$J$3,T.!$L$3,D17,E17)","v":"00:00:00"},null,{"$f":"ColTime(TIME(T.!$J$4,0,0),TIME(T.!$L$4,0,0),D17,E17)","v":"00:00:00"},null,"00:00:00","","",null,null,{"$f":"CHOOSE(WEEKDAY(A17,2),norm!C$1,norm!C$2,norm!C$3,norm!C$4,norm!C$5,norm!C$6,norm!C$7)","v":"09:00:00"},null,null,"","","","","",""]
[{"$f":"A17+1","v":"2019-09-15"},{"$f":"PROPER(TEXT(A18,\"ddd\"))","v":"Sø"},{"$f":"HelligdagsNavn(A18,0,0)","v":""},null,null,null,"","00:00:00","",{"$f":"ColTime(T.!$J$3,T.!$L$3,D18,E18)","v":"00:00:00"},null,{"$f":"ColTime(TIME(T.!$J$4,0,0),TIME(T.!$L$4,0,0),D18,E18)","v":"00:00:00"},null,"","00:00:00","",null,null,{"$f":"CHOOSE(WEEKDAY(A18,2),norm!C$1,norm!C$2,norm!C$3,norm!C$4,norm!C$5,norm!C$6,norm!C$7)","v":"09:00:00"},null,null,"","","","","",""]
[{"$f":"A18+1","v":"2019-09-16"},{"$f":"PROPER(TEXT(A19,\"ddd\"))","v":"Ma"},{"$f":"HelligdagsNavn(A19,0,0)","v":""},null,null,null,"","00:00:00","",{"$f":"ColTime(T.!$J$3,T.!$L$3,D19,E19)","v":"00:00:00"},null,{"$f":"ColTime(TIME(T.!$J$4,0,0),TIME(T.!$L$4,0,0),D19,E19)","v":"00:00:00"},null,"","","",null,null,{"$f":"CHOOSE(WEEKDAY(A19,2),norm!C$1,norm!C$2,norm!C$3,norm!C$4,norm!C$5,norm!C$6,norm!C$7)","v":"09:00:00"},null,null,"","","","","",""]
[{"$f":"A19+1","v":"2019-09-17"},{"$f":"PROPER(TEXT(A20,\"ddd\"))","v":"Ti"},"",null,null,null,"","00:00:00","",{"$f":"ColTime(T.!$J$3,T.!$L$3,D20,E20)","v":"00:00:00"},null,{"$f":"ColTime(TIME(T.!$J$4,0,0),TIME(T.!$L$4,0,0),D20,E20)","v":"00:00:00"},null,"","","",null,null,{"$f":"CHOOSE(WEEKDAY(A20,2),norm!C$1,norm!C$2,norm!C$3,norm!C$4,norm!C$5,norm!C$6,norm!C$7)","v":"09:00:00"},null,null,"","","","","",""]
["2019-09-18","On","",null,null,null,"","00:00:00","",{"$f":"ColTime(T.!$J$3,T.!$L$3,D21,E21)","v":"00:00:00"},null,{"$f":"ColTime(TIME(T.!$J$4,0,0),TIME(T.!$L$4,0,0),D21,E21)","v":"00:00:00"},null,"","","",null,null,{"$f":"CHOOSE(WEEKDAY(A21,2),norm!C$1,norm!C$2,norm!C$3,norm!C$4,norm!C$5,norm!C$6,norm!C$7)","v":"09:00:00"},null,null,"","","","","",""]
["2019-09-19","To","",null,null,null,"","00:00:00","",{"$f":"ColTime(T.!$J$3,T.!$L$3,D22,E22)","v":"00:00:00"},null,{"$f":"ColTime(TIME(T.!$J$4,0,0),TIME(T.!$L$4,0,0),D22,E22)","v":"00:00:00"},null,"","","",null,null,{"$f":"CHOOSE(WEEKDAY(A22,2),norm!C$1,norm!C$2,norm!C$3,norm!C$4,norm!C$5,norm!C$6,norm!C$7)","v":"09:00:00"},null,null,"","","","","",""]
["2019-09-20","Fr","",null,null,null,"","00:00:00","",{"$f":"ColTime(T.!$J$3,T.!$L$3,D23,E23)","v":"00:00:00"},null,{"$f":"ColTime(TIME(T.!$J$4,0,0),TIME(T.!$L$4,0,0),D23,E23)","v":"00:00:00"},null,"","","",null,null,{"$f":"CHOOSE(WEEKDAY(A23,2),norm!C$1,norm!C$2,norm!C$3,norm!C$4,norm!C$5,norm!C$6,norm!C$7)","v":"09:00:00"},null,null,"","","","","",""]
["2019-09-21","Lø","",null,null,null,"","00:00:00","",{"$f":"ColTime(T.!$J$3,T.!$L$3,D24,E24)","v":"00:00:00"},null,{"$f":"ColTime(TIME(T.!$J$4,0,0),TIME(T.!$L$4,0,0),D24,E24)","v":"00:00:00"},null,"00:00:00","","",null,null,{"$f":"CHOOSE(WEEKDAY(A24,2),norm!C$1,norm!C$2,norm!C$3,norm!C$4,norm!C$5,norm!C$6,norm!C$7)","v":"09:00:00"},null,null,"","","","","",""]
[{"$f":"A24+1","v":"2019-09-22"},{"$f":"PROPER(TEXT(A25,\"ddd\"))","v":"Sø"},{"$f":"HelligdagsNavn(A25,0,0)","v":""},null,null,null,"","00:00:00","",{"$f":"ColTime(T.!$J$3,T.!$L$3,D25,E25)","v":"00:00:00"},null,{"$f":"ColTime(TIME(T.!$J$4,0,0),TIME(T.!$L$4,0,0),D25,E25)","v":"00:00:00"},null,"","00:00:00","",null,null,{"$f":"CHOOSE(WEEKDAY(A25,2),norm!C$1,norm!C$2,norm!C$3,norm!C$4,norm!C$5,norm!C$6,norm!C$7)","v":"09:00:00"},null,null,"","","","","",""]
[{"$f":"A25+1","v":"2019-09-23"},{"$f":"PROPER(TEXT(A26,\"ddd\"))","v":"Ma"},{"$f":"HelligdagsNavn(A26,0,0)","v":""},null,null,null,"","00:00:00","",{"$f":"ColTime(T.!$J$3,T.!$L$3,D26,E26)","v":"00:00:00"},null,{"$f":"ColTime(TIME(T.!$J$4,0,0),TIME(T.!$L$4,0,0),D26,E26)","v":"00:00:00"},null,"","","",null,null,{"$f":"CHOOSE(WEEKDAY(A26,2),norm!C$1,norm!C$2,norm!C$3,norm!C$4,norm!C$5,norm!C$6,norm!C$7)","v":"09:00:00"},null,null,"","","","","",""]
[{"$f":"A26+1","v":"2019-09-24"},{"$f":"PROPER(TEXT(A27,\"ddd\"))","v":"Ti"},"",null,null,null,"","00:00:00","",{"$f":"ColTime(T.!$J$3,T.!$L$3,D27,E27)","v":"00:00:00"},null,{"$f":"ColTime(TIME(T.!$J$4,0,0),TIME(T.!$L$4,0,0),D27,E27)","v":"00:00:00"},null,"","","",null,null,{"$f":"CHOOSE(WEEKDAY(A27,2),norm!C$1,norm!C$2,norm!C$3,norm!C$4,norm!C$5,norm!C$6,norm!C$7)","v":"09:00:00"},null,null,"","","","","",""]
["2019-09-25","On","",null,null,null,"","00:00:00","",{"$f":"ColTime(T.!$J$3,T.!$L$3,D28,E28)","v":"00:00:00"},null,{"$f":"ColTime(TIME(T.!$J$4,0,0),TIME(T.!$L$4,0,0),D28,E28)","v":"00:00:00"},null,"","","",null,null,{"$f":"CHOOSE(WEEKDAY(A28,2),norm!C$1,norm!C$2,norm!C$3,norm!C$4,norm!C$5,norm!C$6,norm!C$7)","v":"09:00:00"},null,null,"","","","","",""]
["2019-09-26","To","",null,null,null,"","00:00:00","",{"$f":"ColTime(T.!$J$3,T.!$L$3,D29,E29)","v":"00:00:00"},null,{"$f":"ColTime(TIME(T.!$J$4,0,0),TIME(T.!$L$4,0,0),D29,E29)","v":"00:00:00"},null,"","","",null,null,{"$f":"CHOOSE(WEEKDAY(A29,2),norm!C$1,norm!C$2,norm!C$3,norm!C$4,norm!C$5,norm!C$6,norm!C$7)","v":"09:00:00"}]
["2019-09-27","Fr","",null,null,null,"","00:00:00","",{"$f":"ColTime(T.!$J$3,T.!$L$3,D30,E30)","v":"00:00:00"},null,{"$f":"ColTime(TIME(T.!$J$4,0,0),TIME(T.!$L$4,0,0),D30,E30)","v":"00:00:00"},null,"","","",null,null,{"$f":"CHOOSE(WEEKDAY(A30,2),norm!C$1,norm!C$2,norm!C$3,norm!C$4,norm!C$5,norm!C$6,norm!C$7)","v":"09:00:00"}]
["2019-09-28","Lø","",null,null,null,"","00:00:00","",{"$f":"ColTime(T.!$J$3,T.!$L$3,D31,E31)","v":"00:00:00"},null,{"$f":"ColTime(TIME(T.!$J$4,0,0),TIME(T.!$L$4,0,0),D31,E31)","v":"00:00:00"},null,"00:00:00","","",null,null,{"$f":"CHOOSE(WEEKDAY(A31,2),norm!C$1,norm!C$2,norm!C$3,norm!C$4,norm!C$5,norm!C$6,norm!C$7)","v":"09:00:00"}]
[{"$f":"IF(MONTH(A31+1)>MONTH(A31),\"\",A31+1)","v":"2019-09-29"},"Sø",{"$f":"IF(A32=\"\",\"\",HelligdagsNavn(A32,0,0))","v":""},null,null,null,"","00:00:00","",{"$f":"ColTime(T.!$J$3,T.!$L$3,D32,E32)","v":"00:00:00"},null,{"$f":"ColTime(TIME(T.!$J$4,0,0),TIME(T.!$L$4,0,0),D32,E32)","v":"00:00:00"},null,{"$f":"IFERROR(IF(WEEKDAY(A32,2)=6,ColTime(TIME(15,0,0),TIME(24,0,0),D32,E32),\"\"),\"\")","v":""},{"$f":"IFERROR(IF(OR(C32<>\"\",WEEKDAY(A32,2)=7),ColTime(TIME(0,0,0),TIME(24,0,0),D32,E32),\"\"),\"\")","v":"00:00:00"},"",null,null,{"$f":"IFERROR(CHOOSE(WEEKDAY(A32,2),norm!C$1,norm!C$2,norm!C$3,norm!C$4,norm!C$5,norm!C$6,norm!C$7),\"\")","v":"09:00:00"}]
[{"$f":"IFERROR(IF(MONTH(A32+1)>MONTH(A32),\"\",A32+1),\"\")","v":"2019-09-30"},"Ma","",null,null,null,"","00:00:00","",{"$f":"ColTime(T.!$J$3,T.!$L$3,D33,E33)","v":"00:00:00"},null,{"$f":"ColTime(TIME(T.!$J$4,0,0),TIME(T.!$L$4,0,0),D33,E33)","v":"00:00:00"},null,{"$f":"IFERROR(IF(WEEKDAY(A33,2)=6,ColTime(TIME(15,0,0),TIME(24,0,0),D33,E33),\"\"),\"\")","v":""},{"$f":"IFERROR(IF(OR(C33<>\"\",WEEKDAY(A33,2)=7),ColTime(TIME(0,0,0),TIME(24,0,0),D33,E33),\"\"),\"\")","v":""},"",null,null,{"$f":"IFERROR(CHOOSE(WEEKDAY(A33,2),norm!C$1,norm!C$2,norm!C$3,norm!C$4,norm!C$5,norm!C$6,norm!C$7),\"\")","v":"09:00:00"}]
[{"$f":"IFERROR(IF(MONTH(A33+1)>MONTH(A33),\"\",A33+1),\"\")","v":""},{"$f":"IFERROR(PROPER(TEXT(A34,\"ddd\")),\"\")","v":""},{"$f":"IF(A34=\"\",\"\",HelligdagsNavn(A34,0,0))","v":""},null,null,null,"","00:00:00","",{"$f":"ColTime(T.!$J$3,T.!$L$3,D34,E34)","v":"00:00:00"},null,{"$f":"ColTime(TIME(T.!$J$4,0,0),TIME(T.!$L$4,0,0),D34,E34)","v":"00:00:00"},null,{"$f":"IFERROR(IF(WEEKDAY(A34,2)=6,ColTime(TIME(15,0,0),TIME(24,0,0),D34,E34),\"\"),\"\")","v":""},"","",null,null,{"$f":"IFERROR(CHOOSE(WEEKDAY(A34,2),norm!C$1,norm!C$2,norm!C$3,norm!C$4,norm!C$5,norm!C$6,norm!C$7),\"\")","v":""},null,null,{"$f":"IF(D34=\"\",\"\",HOUR(D34))","v":""},{"$f":"IF(D34=\"\",\"\",MINUTE(D34))","v":""},{"$f":"IF(D34=\"\",\"\",TIME(HOUR(D34),MINUTE(D34),0))","v":""},{"$f":"IF(E34=\"\",\"\",HOUR(E34))","v":""},{"$f":"IF(E34=\"\",\"\",MINUTE(E34))","v":""},{"$f":"IF(E34=\"\",\"\",TIME(HOUR(E34),MINUTE(E34),0))","v":""}]
["Total timer",null,null,null,null,null,{"$f":"IF(SUM(G9:G34)<>\"0\",SUM(G4:G34),\"\")","v":2.4479166666666665},{"$f":"IF(SUM(H4:H34)<>\"0\",SUM(H4:H34),\"\")","v":0.34374999999999989},{"$f":"IF(SUM(I4:I34)<>\"0\",SUM(I4:I34),\"\")","v":2.0833333333333259E-2},{"$f":"IF(SUM(J4:J34)<>\"0\",SUM(J4:J34),\"\")","v":0.27083333333333337},null,{"$f":"SUM(L4:M34)","v":"07:45:00"},null,{"$f":"IF(SUM(N4:N34)<>\"0\",SUM(N4:N34),\"\")","v":0.20833333333333326},{"$f":"IF(SUM(O4:O34)<>\"0\",SUM(O4:O34),\"\")","v":"09:00:00"},{"$f":"SUM(P4:P34)","v":0.14583333333333326},{"$f":"SUM(Q4:Q34)","v":0}]
["Timer 1/100",null,null,null,null,null,{"$f":"IF(G35<>\"\",ROUND(G35*24,2),\"\")","v":58.75},{"$f":"IF(H35<>\"\",ROUND(H35*24,2),\"\")","v":8.25},0.5,{"$f":"IF(J35<>\"\",ROUND(J35*24,2),\"\")","v":6.5},null,{"$f":"IF(L35<>\"\",ROUND(L35*24,2),\"\")","v":7.75},null,{"$f":"IF(N35<>\"\",ROUND(N35*24,2),\"\")","v":5},9,3.5,0]
["Satser",null,null,null,null,null,{"$f":"Satser!B7","v":107.35},{"$f":"Satser!B9","v":36.35},{"$f":"Satser!B12","v":58.1},{"$f":"Satser!B17","v":25.6},null,{"$f":"Satser!B18","v":34.200000000000003},null,{"$f":"Satser!B19","v":45.1},{"$f":"Satser!B20","v":50.6}]
[null,null,null,null,null,null,{"$f":"IF(G35<>\"\",G36*G37,\"\")","v":6306.8125},{"$f":"IF(H35<>\"\",H36*H37,\"\")","v":299.88749999999999},29.05,{"$f":"IF(J35<>\"\",J36*J37,\"\")","v":166.4},null,{"$f":"IF(L35<>\"\",L36*L36,\"\")","v":60.0625},null,{"$f":"IF(N35<>\"\",N36*N37,\"\")","v":225.5},455.40000000000003]
[]
["Lønart"]
[3025,null,null,null,null,null,{"$f":"G35","v":2.4479166666666665}]
[3425,null,null,null,null,null,{"$f":"H35","v":0.34374999999999989}]
[3428,null,null,null,null,null,{"$f":"I35","v":2.0833333333333259E-2}]
["Timer",null,null,null,null,null,{"$f":"SUM(G41:G43)","v":2.8125},{"$f":"IF(G44<>\"\",ROUND(G44*24,2),\"\")","v":67.5}]
[null,null,null,null,null,null,null,{"$f":"G37*H44","v":7246.125}]

{"sheet":"December","index":12,"n_rows":45,"n_cols":35,"rows_kept":45,"cut":false,"hidden":true,"merged":[[4,9,4,10],[4,11,4,12],[0,1,0,7],[0,10,0,11],[0,13,0,14],[1,1,1,2],[1,9,1,10],[1,11,1,12],[2,1,2,2],[2,9,2,10],[2,11,2,12],[3,9,3,10],[3,11,3,12],[5,9,5,10],[5,11,5,12],[6,9,6,10],[6,11,6,12],[7,9,7,10],[7,11,7,12],[8,9,8,10],[8,11,8,12],[9,9,9,10],[9,11,9,12],[10,9,10,10],[10,11,10,12],[11,9,11,10],[11,11,11,12],[12,9,12,10],[12,11,12,12],[13,9,13,10],[13,11,13,12],[14,9,14,10],[14,11,14,12],[15,9,15,10],[15,11,15,12],[16,9,16,10],[16,11,16,12],[17,9,17,10],[17,11,17,12],[18,9,18,10],[18,11,18,12],[19,9,19,10],[19,11,19,12],[20,9,20,10],[20,11,20,12],[21,9,21,10],[21,11,21,12],[22,9,22,10],[22,11,22,12],[23,9,23,10],[23,11,23,12],[24,9,24,10],[24,11,24,12],[25,9,25,10],[25,11,25,12],[26,9,26,10],[26,11,26,12],[27,9,27,10],[27,11,27,12],[28,9,28,10],[28,11,28,12],[29,9,29,10],[29,11,29,12],[30,9,30,10],[30,11,30,12],[31,9,31,10],[31,11,31,12],[32,9,32,10],[32,11,32,12],[33,9,33,10],[33,11,33,12],[34,9,34,10],[34,11,34,12],[35,9,35,10],[35,11,35,12],[36,9,36,10],[36,11,36,12],[37,9,37,10],[37,11,37,12],[39,0,39,2],[40,0,40,2],[41,0,41,2],[42,0,42,2],[43,0,43,5]]}
["Løn","2019-01-01",null,null,null,null,null,null,"Uge :",{"$f":"IF(A4=\"\",\"\",TRUNC((A4-WEEKDAY(A4,2)-DATE(YEAR(A4+4-WEEKDAY(A4,2)),1,-10))/7))","v":35},"-",null,{"$f":"IF(A25=\"\",\"\",TRUNC((A25-WEEKDAY(A25,2)-DATE(YEAR(A25+4-WEEKDAY(A25,2)),1,-10))/7))","v":38},{"$f":"EOMONTH(A4,0)","v":"2019-09-30"},null,9,null,null,null,null,null,"Time beregning:",null,null,null,null,null,null,null,null,null,null,"06:00:00","18:00:00","03:00:00"]
["Lønart",null,null,null,null,null,null,null,null,null,null,null,null,null,null,null,null,null,null,null,null,"Betalt pause ved vagt over 5 timer",null,null,null,"00:25:00","minutter","00:00:00","06:00:00","17:00:00","14:00:00"]
["Dato","Dag",null,"Start","Slut","Pause","Arb. Tid","Overtid           1-3 time","Overtid            4 - time","Forskudt tid alle dage\n18-23",null,"Natarbejde 23-06",null,"Lørdag tillæg 14 - 24","Søndag tillæg 00 - 24","Optjent afspadsering","Afholdt afspadsering","Syge Timer","norm"]
[{"$f":"DATE(T.!$B$1,$P$1,1)","v":"2019-09-01"},{"$f":"PROPER(TEXT(A4,\"ddd\"))","v":"Sø"},{"$f":"HelligdagsNavn(A4,0,0)","v":""},"07:00:00","16:00:00","00:30:00",{"$f":"IF(D4=\"\",\"\",(E4-D4)+(D4>E4)-F4)","v":0.35416666666666663},{"$f":"IF(G4=\"\",0,IF(WEEKDAY(A4,2)=7,0,IF(G4>S4,MIN(G4-S4,$AI$1),0)))","v":"00:00:00"},{"$f":"IF(G4=\"\",\"\",IF(G4>S4+H4,G4-(S4+H4),\"\"))","v":""},{"$f":"ColTime(T.!$J$3,T.!$L$3,D4,E4)","v":"00:00:00"},null,{"$f":"ColTime(TIME(T.!$J$4,0,0),TIME(T.!$L$4,0,0),D4,E4)","v":"00:00:00"},null,{"$f":"IF(WEEKDAY(A4,2)=6,ColTime(TIME(14,0,0),TIME(24,0,0),D4,E4),\"\")","v":""},{"$f":"IF(OR(C4<>\"\",WEEKDAY(A4,2)=7),ColTime(TIME(0,0,0),TIME(24,0,0),D4,E4),\"\")","v":"09:00:00"},{"$f":"IFERROR(H4+I4,\"\")","v":""},null,null,{"$f":"CHOOSE(WEEKDAY(A4,2),norm!C$1,norm!C$2,norm!C$3,norm!C$4,norm!C$5,norm!C$6,norm!C$7)","v":"09:00:00"},null,null,{"$f":"IF(D4=\"\",\"\",HOUR(D4))","v":7},{"$f":"IF(D4=\"\",\"\",MINUTE(D4))","v":0},{"$f":"IF(D4=\"\",\"\",TIME(HOUR(D4),MINUTE(D4),0))","v":"07:00:00"},{"$f":"IF(E4=\"\",\"\",HOUR(E4))","v":16},{"$f":"IF(E4=\"\",\"\",MINUTE(E4))","v":0},"02:00:00","09:30:00","11:30:00",null,null,null,{"$f":"MIN(G4-S4,3)","v":-2.083333333333337E-2}]
[{"$f":"A4+1","v":"2019-09-02"},{"$f":"PROPER(TEXT(A5,\"ddd\"))","v":"Ma"},{"$f":"HelligdagsNavn(A5,0,0)","v":""},"13:45:00","21:30:00","00:30:00",{"$f":"IF(D5=\"\",\"\",(E5-D5)+(D5>E5)-F5)","v":0.30208333333333343},{"$f":"IF(G5=\"\",0,IF(WEEKDAY(A5,2)=7,0,IF(G5>S5,MIN(G5-S5,$AI$1),0)))","v":"00:00:00"},{"$f":"IF(G5=\"\",\"\",IF(G5>S5+H5,G5-(S5+H5),\"\"))","v":""},{"$f":"ColTime(T.!$J$3,T.!$L$3,D5,E5)","v":"03:30:00"},null,{"$f":"ColTime(TIME(T.!$J$4,0,0),TIME(T.!$L$4,0,0),D5,E5)","v":"00:00:00"},null,"","",{"$f":"IFERROR(H5+I5,\"\")","v":""},null,null,{"$f":"CHOOSE(WEEKDAY(A5,2),norm!C$1,norm!C$2,norm!C$3,norm!C$4,norm!C$5,norm!C$6,norm!C$7)","v":"09:00:00"},null,null,13,45,"13:45:00",21,30,{"$f":"IF(E5=\"\",\"\",TIME(HOUR(E5),MINUTE(E5),0))","v":"21:30:00"},null,null,null,null,null,null,"Der taste kun i de Gule celler"]
[{"$f":"A5+1","v":"2019-09-03"},{"$f":"PROPER(TEXT(A6,\"ddd\"))","v":"Ti"},"","22:00:00","05:45:00","00:30:00",0.30208333333333343,"00:00:00","",{"$f":"ColTime(T.!$J$3,T.!$L$3,D6,E6)","v":"01:00:00"},null,{"$f":"ColTime(TIME(T.!$J$4,0,0),TIME(T.!$L$4,0,0),D6,E6)","v":"06:45:00"},null,"","",{"$f":"IFERROR(H6+I6,\"\")","v":""},null,null,{"$f":"CHOOSE(WEEKDAY(A6,2),norm!C$1,norm!C$2,norm!C$3,norm!C$4,norm!C$5,norm!C$6,norm!C$7)","v":"09:00:00"},null,null,22,0,"22:00:00",5,45,"05:45:00"]
["2019-09-04","On","","05:00:00","16:45:00","00:30:00",0.46874999999999994,"02:15:00","",{"$f":"ColTime(T.!$J$3,T.!$L$3,D7,E7)","v":"00:00:00"},null,{"$f":"ColTime(TIME(T.!$J$4,0,0),TIME(T.!$L$4,0,0),D7,E7)","v":"01:00:00"},null,"","",{"$f":"IFERROR(H7+I7,\"\")","v":""},null,null,{"$f":"CHOOSE(WEEKDAY(A7,2),norm!C$1,norm!C$2,norm!C$3,norm!C$4,norm!C$5,norm!C$6,norm!C$7)","v":"09:00:00"},null,null,5,0,"05:00:00",16,45,"16:45:00"]
["2019-09-05","To","",null,null,null,"","00:00:00","",{"$f":"ColTime(T.!$J$3,T.!$L$3,D8,E8)","v":"00:00:00"},null,{"$f":"ColTime(TIME(T.!$J$4,0,0),TIME(T.!$L$4,0,0),D8,E8)","v":"00:00:00"},null,"","",{"$f":"IFERROR(H8+I8,\"\")","v":""},null,null,{"$f":"CHOOSE(WEEKDAY(A8,2),norm!C$1,norm!C$2,norm!C$3,norm!C$4,norm!C$5,norm!C$6,norm!C$7)","v":"09:00:00"},null,null,"","","","","",""]
["2019-09-06","Fr","","06:00:00","19:00:00","00:30:00",0.52083333333333326,"03:00:00","00:30:00",{"$f":"ColTime(T.!$J$3,T.!$L$3,D9,E9)","v":"01:00:00"},null,{"$f":"ColTime(TIME(T.!$J$4,0,0),TIME(T.!$L$4,0,0),D9,E9)","v":"00:00:00"},null,"",{"$f":"IF(OR(C9<>\"\",WEEKDAY(A9,2)=7),ColTime(TIME(0,0,0),TIME(24,0,0),D9,E9),\"\")","v":""},{"$f":"IFERROR(H9+I9,\"\")","v":"03:30:00"},null,null,{"$f":"CHOOSE(WEEKDAY(A9,2),norm!C$1,norm!C$2,norm!C$3,norm!C$4,norm!C$5,norm!C$6,norm!C$7)","v":"09:00:00"},null,null,6,0,"06:00:00",19,0,"19:00:00"]
["2019-09-07","Lø","","07:00:00","19:00:00",null,0.49999999999999994,"03:00:00","",{"$f":"ColTime(T.!$J$3,T.!$L$3,D10,E10)","v":"01:00:00"},null,{"$f":"ColTime(TIME(T.!$J$4,0,0),TIME(T.!$L$4,0,0),D10,E10)","v":"00:00:00"},null,{"$f":"IF(WEEKDAY(A10,2)=6,ColTime(TIME(14,0,0),TIME(24,0,0),D10,E10),\"\")","v":"05:00:00"},{"$f":"IF(OR(C10<>\"\",WEEKDAY(A10,2)=7),ColTime(TIME(0,0,0),TIME(24,0,0),D10,E10),\"\")","v":""},"",null,null,{"$f":"CHOOSE(WEEKDAY(A10,2),norm!C$1,norm!C$2,norm!C$3,norm!C$4,norm!C$5,norm!C$6,norm!C$7)","v":"09:00:00"},null,null,7,0,"07:00:00",19,0,"19:00:00"]
[{"$f":"A10+1","v":"2019-09-08"},{"$f":"PROPER(TEXT(A11,\"ddd\"))","v":"Sø"},{"$f":"HelligdagsNavn(A11,0,0)","v":""},null,null,null,"","00:00:00","",{"$f":"ColTime(T.!$J$3,T.!$L$3,D11,E11)","v":"00:00:00"},null,{"$f":"ColTime(TIME(T.!$J$4,0,0),TIME(T.!$L$4,0,0),D11,E11)","v":"00:00:00"},null,{"$f":"IF(WEEKDAY(A11,2)=6,ColTime(TIME(15,0,0),TIME(24,0,0),D11,E11),\"\")","v":""},"00:00:00","",null,null,{"$f":"CHOOSE(WEEKDAY(A11,2),norm!C$1,norm!C$2,norm!C$3,norm!C$4,norm!C$5,norm!C$6,norm!C$7)","v":"09:00:00"},null,null,"","","","","",""]
[{"$f":"A11+1","v":"2019-09-09"},{"$f":"PROPER(TEXT(A12,\"ddd\"))","v":"Ma"},{"$f":"HelligdagsNavn(A12,0,0)","v":""},null,null,null,"","00:00:00","",{"$f":"ColTime(T.!$J$3,T.!$L$3,D12,E12)","v":"00:00:00"},null,{"$f":"ColTime(TIME(T.!$J$4,0,0),TIME(T.!$L$4,0,0),D12,E12)","v":"00:00:00"},null,"","","",null,null,{"$f":"CHOOSE(WEEKDAY(A12,2),norm!C$1,norm!C$2,norm!C$3,norm!C$4,norm!C$5,norm!C$6,norm!C$7)","v":"09:00:00"},null,null,"","","","","",""]
[{"$f":"A12+1","v":"2019-09-10"},{"$f":"PROPER(TEXT(A13,\"ddd\"))","v":"Ti"},"",null,null,null,"","00:00:00","",{"$f":"ColTime(T.!$J$3,T.!$L$3,D13,E13)","v":"00:00:00"},null,{"$f":"ColTime(TIME(T.!$J$4,0,0),TIME(T.!$L$4,0,0),D13,E13)","v":"00:00:00"},null,"","","",null,null,{"$f":"CHOOSE(WEEKDAY(A13,2),norm!C$1,norm!C$2,norm!C$3,norm!C$4,norm!C$5,norm!C$6,norm!C$7)","v":"09:00:00"},null,null,"","","","","",""]
["2019-09-11","On","",null,null,null,"","00:00:00","",{"$f":"ColTime(T.!$J$3,T.!$L$3,D14,E14)","v":"00:00:00"},null,{"$f":"ColTime(TIME(T.!$J$4,0,0),TIME(T.!$L$4,0,0),D14,E14)","v":"00:00:00"},null,"","","",null,null,{"$f":"CHOOSE(WEEKDAY(A14,2),norm!C$1,norm!C$2,norm!C$3,norm!C$4,norm!C$5,norm!C$6,norm!C$7)","v":"09:00:00"},null,null,"","","","","",""]
["2019-09-12","To","",null,null,null,"","00:00:00","",{"$f":"ColTime(T.!$J$3,T.!$L$3,D15,E15)","v":"00:00:00"},null,{"$f":"ColTime(TIME(T.!$J$4,0,0),TIME(T.!$L$4,0,0),D15,E15)","v":"00:00:00"},null,"","","",null,null,{"$f":"CHOOSE(WEEKDAY(A15,2),norm!C$1,norm!C$2,norm!C$3,norm!C$4,norm!C$5,norm!C$6,norm!C$7)","v":"09:00:00"},null,null,"","","",null,"",""]
["2019-09-13","Fr","",null,null,null,"","00:00:00","",{"$f":"ColTime(T.!$J$3,T.!$L$3,D16,E16)","v":"00:00:00"},null,{"$f":"ColTime(TIME(T.!$J$4,0,0),TIME(T.!$L$4,0,0),D16,E16)","v":"00:00:00"},null,"","","",null,null,{"$f":"CHOOSE(WEEKDAY(A16,2),norm!C$1,norm!C$2,norm!C$3,norm!C$4,norm!C$5,norm!C$6,norm!C$7)","v":"09:00:00"},null,null,"","","","","",""]
["2019-09-14","Lø","",null,null,null,"","00:00:00","",{"$f":"ColTime(T.!$J$3,T.!$L$3,D17,E17)","v":"00:00:00"},null,{"$f":"ColTime(TIME(T.!$J$4,0,0),TIME(T.!$L$4,0,0),D17,E17)","v":"00:00:00"},null,"00:00:00","","",null,null,{"$f":"CHOOSE(WEEKDAY(A17,2),norm!C$1,norm!C$2,norm!C$3,norm!C$4,norm!C$5,norm!C$6,norm!C$7)","v":"09:00:00"},null,null,"","","","","",""]
[{"$f":"A17+1","v":"2019-09-15"},{"$f":"PROPER(TEXT(A18,\"ddd\"))","v":"Sø"},{"$f":"HelligdagsNavn(A18,0,0)","v":""},null,null,null,"","00:00:00","",{"$f":"ColTime(T.!$J$3,T.!$L$3,D18,E18)","v":"00:00:00"},null,{"$f":"ColTime(TIME(T.!$J$4,0,0),TIME(T.!$L$4,0,0),D18,E18)","v":"00:00:00"},null,"","00:00:00","",null,null,{"$f":"CHOOSE(WEEKDAY(A18,2),norm!C$1,norm!C$2,norm!C$3,norm!C$4,norm!C$5,norm!C$6,norm!C$7)","v":"09:00:00"},null,null,"","","","","",""]
[{"$f":"A18+1","v":"2019-09-16"},{"$f":"PROPER(TEXT(A19,\"ddd\"))","v":"Ma"},{"$f":"HelligdagsNavn(A19,0,0)","v":""},null,null,null,"","00:00:00","",{"$f":"ColTime(T.!$J$3,T.!$L$3,D19,E19)","v":"00:00:00"},null,{"$f":"ColTime(TIME(T.!$J$4,0,0),TIME(T.!$L$4,0,0),D19,E19)","v":"00:00:00"},null,"","","",null,null,{"$f":"CHOOSE(WEEKDAY(A19,2),norm!C$1,norm!C$2,norm!C$3,norm!C$4,norm!C$5,norm!C$6,norm!C$7)","v":"09:00:00"},null,null,"","","","","",""]
[{"$f":"A19+1","v":"2019-09-17"},{"$f":"PROPER(TEXT(A20,\"ddd\"))","v":"Ti"},"",null,null,null,"","00:00:00","",{"$f":"ColTime(T.!$J$3,T.!$L$3,D20,E20)","v":"00:00:00"},null,{"$f":"ColTime(TIME(T.!$J$4,0,0),TIME(T.!$L$4,0,0),D20,E20)","v":"00:00:00"},null,"","","",null,null,{"$f":"CHOOSE(WEEKDAY(A20,2),norm!C$1,norm!C$2,norm!C$3,norm!C$4,norm!C$5,norm!C$6,norm!C$7)","v":"09:00:00"},null,null,"","","","","",""]
["2019-09-18","On","",null,null,null,"","00:00:00","",{"$f":"ColTime(T.!$J$3,T.!$L$3,D21,E21)","v":"00:00:00"},null,{"$f":"ColTime(TIME(T.!$J$4,0,0),TIME(T.!$L$4,0,0),D21,E21)","v":"00:00:00"},null,"","","",null,null,{"$f":"CHOOSE(WEEKDAY(A21,2),norm!C$1,norm!C$2,norm!C$3,norm!C$4,norm!C$5,norm!C$6,norm!C$7)","v":"09:00:00"},null,null,"","","","","",""]
["2019-09-19","To","",null,null,null,"","00:00:00","",{"$f":"ColTime(T.!$J$3,T.!$L$3,D22,E22)","v":"00:00:00"},null,{"$f":"ColTime(TIME(T.!$J$4,0,0),TIME(T.!$L$4,0,0),D22,E22)","v":"00:00:00"},null,"","","",null,null,{"$f":"CHOOSE(WEEKDAY(A22,2),norm!C$1,norm!C$2,norm!C$3,norm!C$4,norm!C$5,norm!C$6,norm!C$7)","v":"09:00:00"},null,null,"","","","","",""]
["2019-09-20","Fr","",null,null,null,"","00:00:00","",{"$f":"ColTime(T.!$J$3,T.!$L$3,D23,E23)","v":"00:00:00"},null,{"$f":"ColTime(TIME(T.!$J$4,0,0),TIME(T.!$L$4,0,0),D23,E23)","v":"00:00:00"},null,"","","",null,null,{"$f":"CHOOSE(WEEKDAY(A23,2),norm!C$1,norm!C$2,norm!C$3,norm!C$4,norm!C$5,norm!C$6,norm!C$7)","v":"09:00:00"},null,null,"","","","","",""]
["2019-09-21","Lø","",null,null,null,"","00:00:00","",{"$f":"ColTime(T.!$J$3,T.!$L$3,D24,E24)","v":"00:00:00"},null,{"$f":"ColTime(TIME(T.!$J$4,0,0),TIME(T.!$L$4,0,0),D24,E24)","v":"00:00:00"},null,"00:00:00","","",null,null,{"$f":"CHOOSE(WEEKDAY(A24,2),norm!C$1,norm!C$2,norm!C$3,norm!C$4,norm!C$5,norm!C$6,norm!C$7)","v":"09:00:00"},null,null,"","","","","",""]
[{"$f":"A24+1","v":"2019-09-22"},{"$f":"PROPER(TEXT(A25,\"ddd\"))","v":"Sø"},{"$f":"HelligdagsNavn(A25,0,0)","v":""},null,null,null,"","00:00:00","",{"$f":"ColTime(T.!$J$3,T.!$L$3,D25,E25)","v":"00:00:00"},null,{"$f":"ColTime(TIME(T.!$J$4,0,0),TIME(T.!$L$4,0,0),D25,E25)","v":"00:00:00"},null,"","00:00:00","",null,null,{"$f":"CHOOSE(WEEKDAY(A25,2),norm!C$1,norm!C$2,norm!C$3,norm!C$4,norm!C$5,norm!C$6,norm!C$7)","v":"09:00:00"},null,null,"","","","","",""]
[{"$f":"A25+1","v":"2019-09-23"},{"$f":"PROPER(TEXT(A26,\"ddd\"))","v":"Ma"},{"$f":"HelligdagsNavn(A26,0,0)","v":""},null,null,null,"","00:00:00","",{"$f":"ColTime(T.!$J$3,T.!$L$3,D26,E26)","v":"00:00:00"},null,{"$f":"ColTime(TIME(T.!$J$4,0,0),TIME(T.!$L$4,0,0),D26,E26)","v":"00:00:00"},null,"","","",null,null,{"$f":"CHOOSE(WEEKDAY(A26,2),norm!C$1,norm!C$2,norm!C$3,norm!C$4,norm!C$5,norm!C$6,norm!C$7)","v":"09:00:00"},null,null,"","","","","",""]
[{"$f":"A26+1","v":"2019-09-24"},{"$f":"PROPER(TEXT(A27,\"ddd\"))","v":"Ti"},"",null,null,null,"","00:00:00","",{"$f":"ColTime(T.!$J$3,T.!$L$3,D27,E27)","v":"00:00:00"},null,{"$f":"ColTime(TIME(T.!$J$4,0,0),TIME(T.!$L$4,0,0),D27,E27)","v":"00:00:00"},null,"","","",null,null,{"$f":"CHOOSE(WEEKDAY(A27,2),norm!C$1,norm!C$2,norm!C$3,norm!C$4,norm!C$5,norm!C$6,norm!C$7)","v":"09:00:00"},null,null,"","","","","",""]
["2019-09-25","On","",null,null,null,"","00:00:00","",{"$f":"ColTime(T.!$J$3,T.!$L$3,D28,E28)","v":"00:00:00"},null,{"$f":"ColTime(TIME(T.!$J$4,0,0),TIME(T.!$L$4,0,0),D28,E28)","v":"00:00:00"},null,"","","",null,null,{"$f":"CHOOSE(WEEKDAY(A28,2),norm!C$1,norm!C$2,norm!C$3,norm!C$4,norm!C$5,norm!C$6,norm!C$7)","v":"09:00:00"},null,null,"","","","","",""]
["2019-09-26","To","",null,null,null,"","00:00:00","",{"$f":"ColTime(T.!$J$3,T.!$L$3,D29,E29)","v":"00:00:00"},null,{"$f":"ColTime(TIME(T.!$J$4,0,0),TIME(T.!$L$4,0,0),D29,E29)","v":"00:00:00"},null,"","","",null,null,{"$f":"CHOOSE(WEEKDAY(A29,2),norm!C$1,norm!C$2,norm!C$3,norm!C$4,norm!C$5,norm!C$6,norm!C$7)","v":"09:00:00"}]
["2019-09-27","Fr","",null,null,null,"","00:00:00","",{"$f":"ColTime(T.!$J$3,T.!$L$3,D30,E30)","v":"00:00:00"},null,{"$f":"ColTime(TIME(T.!$J$4,0,0),TIME(T.!$L$4,0,0),D30,E30)","v":"00:00:00"},null,"","","",null,null,{"$f":"CHOOSE(WEEKDAY(A30,2),norm!C$1,norm!C$2,norm!C$3,norm!C$4,norm!C$5,norm!C$6,norm!C$7)","v":"09:00:00"}]
["2019-09-28","Lø","",null,null,null,"","00:00:00","",{"$f":"ColTime(T.!$J$3,T.!$L$3,D31,E31)","v":"00:00:00"},null,{"$f":"ColTime(TIME(T.!$J$4,0,0),TIME(T.!$L$4,0,0),D31,E31)","v":"00:00:00"},null,"00:00:00","","",null,null,{"$f":"CHOOSE(WEEKDAY(A31,2),norm!C$1,norm!C$2,norm!C$3,norm!C$4,norm!C$5,norm!C$6,norm!C$7)","v":"09:00:00"}]
[{"$f":"IF(MONTH(A31+1)>MONTH(A31),\"\",A31+1)","v":"2019-09-29"},"Sø",{"$f":"IF(A32=\"\",\"\",HelligdagsNavn(A32,0,0))","v":""},null,null,null,"","00:00:00","",{"$f":"ColTime(T.!$J$3,T.!$L$3,D32,E32)","v":"00:00:00"},null,{"$f":"ColTime(TIME(T.!$J$4,0,0),TIME(T.!$L$4,0,0),D32,E32)","v":"00:00:00"},null,{"$f":"IFERROR(IF(WEEKDAY(A32,2)=6,ColTime(TIME(15,0,0),TIME(24,0,0),D32,E32),\"\"),\"\")","v":""},{"$f":"IFERROR(IF(OR(C32<>\"\",WEEKDAY(A32,2)=7),ColTime(TIME(0,0,0),TIME(24,0,0),D32,E32),\"\"),\"\")","v":"00:00:00"},"",null,null,{"$f":"IFERROR(CHOOSE(WEEKDAY(A32,2),norm!C$1,norm!C$2,norm!C$3,norm!C$4,norm!C$5,norm!C$6,norm!C$7),\"\")","v":"09:00:00"}]
[{"$f":"IFERROR(IF(MONTH(A32+1)>MONTH(A32),\"\",A32+1),\"\")","v":"2019-09-30"},"Ma","",null,null,null,"","00:00:00","",{"$f":"ColTime(T.!$J$3,T.!$L$3,D33,E33)","v":"00:00:00"},null,{"$f":"ColTime(TIME(T.!$J$4,0,0),TIME(T.!$L$4,0,0),D33,E33)","v":"00:00:00"},null,{"$f":"IFERROR(IF(WEEKDAY(A33,2)=6,ColTime(TIME(15,0,0),TIME(24,0,0),D33,E33),\"\"),\"\")","v":""},{"$f":"IFERROR(IF(OR(C33<>\"\",WEEKDAY(A33,2)=7),ColTime(TIME(0,0,0),TIME(24,0,0),D33,E33),\"\"),\"\")","v":""},"",null,null,{"$f":"IFERROR(CHOOSE(WEEKDAY(A33,2),norm!C$1,norm!C$2,norm!C$3,norm!C$4,norm!C$5,norm!C$6,norm!C$7),\"\")","v":"09:00:00"}]
[{"$f":"IFERROR(IF(MONTH(A33+1)>MONTH(A33),\"\",A33+1),\"\")","v":""},{"$f":"IFERROR(PROPER(TEXT(A34,\"ddd\")),\"\")","v":""},{"$f":"IF(A34=\"\",\"\",HelligdagsNavn(A34,0,0))","v":""},null,null,null,"","00:00:00","",{"$f":"ColTime(T.!$J$3,T.!$L$3,D34,E34)","v":"00:00:00"},null,{"$f":"ColTime(TIME(T.!$J$4,0,0),TIME(T.!$L$4,0,0),D34,E34)","v":"00:00:00"},null,{"$f":"IFERROR(IF(WEEKDAY(A34,2)=6,ColTime(TIME(15,0,0),TIME(24,0,0),D34,E34),\"\"),\"\")","v":""},"","",null,null,{"$f":"IFERROR(CHOOSE(WEEKDAY(A34,2),norm!C$1,norm!C$2,norm!C$3,norm!C$4,norm!C$5,norm!C$6,norm!C$7),\"\")","v":""},null,null,{"$f":"IF(D34=\"\",\"\",HOUR(D34))","v":""},{"$f":"IF(D34=\"\",\"\",MINUTE(D34))","v":""},{"$f":"IF(D34=\"\",\"\",TIME(HOUR(D34),MINUTE(D34),0))","v":""},{"$f":"IF(E34=\"\",\"\",HOUR(E34))","v":""},{"$f":"IF(E34=\"\",\"\",MINUTE(E34))","v":""},{"$f":"IF(E34=\"\",\"\",TIME(HOUR(E34),MINUTE(E34),0))","v":""}]
["Total timer",null,null,null,null,null,{"$f":"IF(SUM(G9:G34)<>\"0\",SUM(G4:G34),\"\")","v":2.4479166666666665},{"$f":"IF(SUM(H4:H34)<>\"0\",SUM(H4:H34),\"\")","v":0.34374999999999989},{"$f":"IF(SUM(I4:I34)<>\"0\",SUM(I4:I34),\"\")","v":2.0833333333333259E-2},{"$f":"IF(SUM(J4:J34)<>\"0\",SUM(J4:J34),\"\")","v":0.27083333333333337},null,{"$f":"SUM(L4:M34)","v":"07:45:00"},null,{"$f":"IF(SUM(N4:N34)<>\"0\",SUM(N4:N34),\"\")","v":0.20833333333333326},{"$f":"IF(SUM(O4:O34)<>\"0\",SUM(O4:O34),\"\")","v":"09:00:00"},{"$f":"SUM(P4:P34)","v":0.14583333333333326},{"$f":"SUM(Q4:Q34)","v":0}]
["Timer 1/100",null,null,null,null,null,{"$f":"IF(G35<>\"\",ROUND(G35*24,2),\"\")","v":58.75},{"$f":"IF(H35<>\"\",ROUND(H35*24,2),\"\")","v":8.25},0.5,{"$f":"IF(J35<>\"\",ROUND(J35*24,2),\"\")","v":6.5},null,{"$f":"IF(L35<>\"\",ROUND(L35*24,2),\"\")","v":7.75},null,{"$f":"IF(N35<>\"\",ROUND(N35*24,2),\"\")","v":5},9,3.5,0]
["Satser",null,null,null,null,null,{"$f":"Satser!B7","v":107.35},{"$f":"Satser!B9","v":36.35},{"$f":"Satser!B12","v":58.1},{"$f":"Satser!B17","v":25.6},null,{"$f":"Satser!B18","v":34.200000000000003},null,{"$f":"Satser!B19","v":45.1},{"$f":"Satser!B20","v":50.6}]
[null,null,null,null,null,null,{"$f":"IF(G35<>\"\",G36*G37,\"\")","v":6306.8125},{"$f":"IF(H35<>\"\",H36*H37,\"\")","v":299.88749999999999},29.05,{"$f":"IF(J35<>\"\",J36*J37,\"\")","v":166.4},null,{"$f":"IF(L35<>\"\",L36*L36,\"\")","v":60.0625},null,{"$f":"IF(N35<>\"\",N36*N37,\"\")","v":225.5},455.40000000000003]
[]
["Lønart"]
[3025,null,null,null,null,null,{"$f":"G35","v":2.4479166666666665}]
[3425,null,null,null,null,null,{"$f":"H35","v":0.34374999999999989}]
[3428,null,null,null,null,null,{"$f":"I35","v":2.0833333333333259E-2}]
["Timer",null,null,null,null,null,{"$f":"SUM(G41:G43)","v":2.8125},{"$f":"IF(G44<>\"\",ROUND(G44*24,2),\"\")","v":67.5}]
[null,null,null,null,null,null,null,{"$f":"G37*H44","v":7246.125}]

{"sheet":"Satser","index":13,"n_rows":26,"n_cols":6,"rows_kept":26,"cut":false,"hidden":false,"merged":[]}
[]
[]
["Timeløn",114.42]
["specielt tillæg"]
["Chauffør tillæg"]
[]
["Samlet timeløn",107.35,null,108.7]
[]
["overtidstillæg 50%",36.35,null,36.5]
["pr. time",{"$f":"B7+B9","v":143.69999999999999}]
[]
["overtidstillæg 100%",58.1,null,58.9]
["pr. time",{"$f":"B12+B7","v":165.45}]
[]
[null,108.65,null,110.15]
[]
["Aftentillæg",25.6,null,null,null,"Arbejde mellem 18:00 og 23:00"]
["Nattillæg",34.200000000000003,null,null,null,"Arbejde mellem 23:00 og 06:00"]
["Lørdags tillæg",45.1,null,null,null,"Lørdag mellem 15:00 og 24:00"]
["Søndags tillæg",50.6,null,null,null,"Søndagstillæg"]
[]
[]
[]
[]
[]
[null,"07:24:00"]

{"sheet":"norm","index":14,"n_rows":7,"n_cols":5,"rows_kept":7,"cut":false,"hidden":false,"merged":[]}
["mandag",9,"09:00:00",null,"03:00:00"]
["tirsdag",9,"09:00:00",null,"10:30:00"]
["onsdag",9,"09:00:00"]
["torsdag",9,"09:00:00"]
["fredag",9,"09:00:00"]
["lørdag",9,"09:00:00"]
["søndag",9,"09:00:00"]

{"sheet":"T.","index":15,"n_rows":7,"n_cols":12,"rows_kept":7,"cut":false,"hidden":false,"merged":[]}
["Årstal: ",2019]
[null,"Timeløn",null,null,"Start","Slut"]
["Normal løn",114.42,null,null,"06:00:00","18:00:00",null,"Aften tillæg","Fra kl.","18:00:00","Til kl.","23:00:00"]
["Aftentillæg",25.6,null,null,"18:00:00","23:00:00",null,"Nat tillæg","Fra kl.",23,"Til kl.",6]
["Nattillæg",34.200000000000003,null,null,"23:00:00","06:00:00",null,"Lørdags tillæg","Fra kl.",14,"Til kl.",24]
["Lørdagstillæg",45.1,null,null,"14:00:00",1,null,"Søn og helligdags tillæg","Fra kl.",0,"Til kl.",24]
["Søn- og helligdage",50.6,null,null,"00:00:00","23:59:00"]

{"sheet":"Ark2","index":16,"n_rows":0,"n_cols":0,"rows_kept":0,"cut":false,"hidden":false,"merged":[]}

{"sheet":"Ark3","index":17,"n_rows":0,"n_cols":0,"rows_kept":0,"cut":false,"hidden":false,"merged":[]}