{"text_format":"1","workbook":"xlsx","n_sheets":23,"sheets":["Hele året","Hele året (2)","Januar","Januar (2)","Januar (3)","Januar (4)","Januar (5)","Januar (6)","Marts","April","Maj","Juni","Juli","August","September","Oktober","November","December","Satser","norm","T.","Ark2","Ark3"],"not_rendered":{"charts":0,"images":0,"macros":1,"external_links":0,"defined_names":18,"comments":0,"pivot_tables":0},"unopened":[],"bounds":{"document_bytes":16777216,"sheet_cells":100000,"rows_first":2000,"rows_last":500,"rows_between":2000,"halvings":0,"cell_chars":16384,"cell_head_chars":4096},"cells_cut":0,"cells_raw":0,"read":"whole","date_system":"1900"}

{"sheet":"Hele året","index":0,"n_rows":380,"n_cols":35,"rows_kept":380,"cut":false,"hidden":false,"merged":[[368,9,368,10],[368,11,368,12],[365,9,365,10],[365,11,365,12],[366,9,366,10],[366,11,366,12],[367,9,367,10],[367,11,367,12],[362,9,362,10],[362,11,362,12],[363,9,363,10],[363,11,363,12],[364,9,364,10],[364,11,364,12],[359,9,359,10],[359,11,359,12],[360,9,360,10],[360,11,360,12],[361,9,361,10],[361,11,361,12],[356,9,356,10],[356,11,356,12],[357,9,357,10],[357,11,357,12],[358,9,358,10],[358,11,358,12],[353,9,353,10],[353,11,353,12],[354,9,354,10],[354,11,354,12],[355,9,355,10],[355,11,355,12],[350,9,350,10],[350,11,350,12],[351,9,351,10],[351,11,351,12],[352,9,352,10],[352,11,352,12],[347,9,347,10],[347,11,347,12],[348,9,348,10],[348,11,348,12],[349,9,349,10],[349,11,349,12],[344,9,344,10],[344,11,344,12],[345,9,345,10],[345,11,345,12],[346,9,346,10],[346,11,346,12],[341,9,341,10],[341,11,341,12],[342,9,342,10],[342,11,342,12],[343,9,343,10],[343,11,343,12],[338,9,338,10],[338,11,338,12],[339,9,339,10],[339,11,339,12],[340,9,340,10],[340,11,340,12],[335,9,335,10],[335,11,335,12],[336,9,336,10],[336,11,336,12],[337,9,337,10],[337,11,337,12],[332,9,332,10],[332,11,332,12],[333,9,333,10],[333,11,333,12],[334,9,334,10],[334,11,334,12],[329,9,329,10],[329,11,329,12],[330,9,330,10],[330,11,330,12],[331,9,331,10],[331,11,331,12],[326,9,326,10],[326,11,326,12],[327,9,327,10],[327,11,327,12],[328,9,328,10],[328,11,328,12],[323,9,323,10],[323,11,323,12],[324,9,324,10],[324,11,324,12],[325,9,325,10],[325,11,325,12],[320,9,320,10],[320,11,320,12],[321,9,321,10],[321,11,321,12],[322,9,322,10],[322,11,322,12],[317,9,317,10],[317,11,317,12],[318,9,318,10],[318,11,318,12],[319,9,319,10],[319,11,319,12],[314,9,314,10],[314,11,314,12],[315,9,315,10],[315,11,315,12],[316,9,316,10],[316,11,316,12],[311,9,311,10],[311,11,311,12],[312,9,312,10],[312,11,312,12],[313,9,313,10],[313,11,313,12],[308,9,308,10],[308,11,308,12],[309,9,309,10],[309,11,309,12],[310,9,310,10],[310,11,310,12],[305,9,305,10],[305,11,305,12],[306,9,306,10],[306,11,306,12],[307,9,307,10],[307,11,307,12],[302,9,302,10],[302,11,302,12],[303,9,303,10],[303,11,303,12],[304,9,304,10],[304,11,304,12],[299,9,299,10],[299,11,299,12],[300,9,300,10],[300,11,300,12],[301,9,301,10],[301,11,301,12],[296,9,296,10],[296,11,296,12],[297,9,297,10],[297,11,297,12],[298,9,298,10],[298,11,298,12],[293,9,293,10],[293,11,293,12],[294,9,294,10],[294,11,294,12],[295,9,295,10],[295,11,295,12],[290,9,290,10],[290,11,290,12],[291,9,291,10],[291,11,291,12],[292,9,292,10],[292,11,292,12],[287,9,287,10],[287,11,287,12],[288,9,288,10],[288,11,288,12],[289,9,289,10],[289,11,289,12],[284,9,284,10],[284,11,284,12],[285,9,285,10],[285,11,285,12],[286,9,286,10],[286,11,286,12],[281,9,281,10],[281,11,281,12],[282,9,282,10],[282,11,282,12],[283,9,283,10],[283,11,283,12],[278,9,278,10],[278,11,278,12],[279,9,279,10],[279,11,279,12],[280,9,280,10],[280,11,280,12],[275,9,275,10],[275,11,275,12],[276,9,276,10],[276,11,276,12],[277,9,277,10],[277,11,277,12],[272,9,272,10],[272,11,272,12],[273,9,273,10],[273,11,273,12],[274,9,274,10],[274,11,274,12],[269,9,269,10],[269,11,269,12],[270,9,270,10],[270,11,270,12],[271,9,271,10],[271,11,271,12],[266,9,266,10],[266,11,266,12],[267,9,267,10],[267,11,267,12],[268,9,268,10],[268,11,268,12],[263,9,263,10],[263,11,263,12],[264,9,264,10],[264,11,264,12],[265,9,265,10],[265,11,265,12],[260,9,260,10],[260,11,260,12],[261,9,261,10],[261,11,261,12],[262,9,262,10],[262,11,262,12],[257,9,257,10],[257,11,257,12],[258,9,258,10],[258,11,258,12],[259,9,259,10],[259,11,259,12],[254,9,254,10],[254,11,254,12],[255,9,255,10],[255,11,255,12],[256,9,256,10],[256,11,256,12],[251,9,251,10],[251,11,251,12],[252,9,252,10],[252,11,252,12],[253,9,253,10],[253,11,253,12],[248,9,248,10],[248,11,248,12],[249,9,249,10],[249,11,249,12],[250,9,250,10],[250,11,250,12],[245,9,245,10],[245,11,245,12],[246,9,246,10],[246,11,246,12],[247,9,247,10],[247,11,247,12],[242,9,242,10],[242,11,242,12],[243,9,243,10],[243,11,243,12],[244,9,244,10],[244,11,244,12],[239,9,239,10],[239,11,239,12],[240,9,240,10],[240,11,240,12],[241,9,241,10],[241,11,241,12],[236,9,236,10],[236,11,236,12],[237,9,237,10],[237,11,237,12],[238,9,238,10],[238,11,238,12],[233,9,233,10],[233,11,233,12],[234,9,234,10],[234,11,234,12],[235,9,235,10],[235,11,235,12],[230,9,230,10],[230,11,230,12],[231,9,231,10],[231,11,231,12],[232,9,232,10],[232,11,232,12],[227,9,227,10],[227,11,227,12],[228,9,228,10],[228,11,228,12],[229,9,229,10],[229,11,229,12],[224,9,224,10],[224,11,224,12],[225,9,225,10],[225,11,225,12],[226,9,226,10],[226,11,226,12],[221,9,221,10],[221,11,221,12],[222,9,222,10],[222,11,222,12],[223,9,223,10],[223,11,223,12],[218,9,218,10],[218,11,218,12],[219,9,219,10],[219,11,219,12],[220,9,220,10],[220,11,220,12],[215,9,215,10],[215,11,215,12],[216,9,216,10],[216,11,216,12],[217,9,217,10],[217,11,217,12],[212,9,212,10],[212,11,212,12],[213,9,213,10],[213,11,213,12],[214,9,214,10],[214,11,214,12],[209,9,209,10],[209,11,209,12],[210,9,210,10],[210,11,210,12],[211,9,211,10],[211,11,211,12],[206,9,206,10],[206,11,206,12],[207,9,207,10],[207,11,207,12],[208,9,208,10],[208,11,208,12],[203,9,203,10],[203,11,203,12],[204,9,204,10],[204,11,204,12],[205,9,205,10],[205,11,205,12],[200,9,200,10],[200,11,200,12],[201,9,201,10],[201,11,201,12],[202,9,202,10],[202,11,202,12],[197,9,197,10],[197,11,197,12],[198,9,198,10],[198,11,198,12],[199,9,199,10],[199,11,199,12],[194,9,194,10],[194,11,194,12],[195,9,195,10],[195,11,195,12],[196,9,196,10],[196,11,196,12],[191,9,191,10],[191,11,191,12],[192,9,192,10],[192,11,192,12],[193,9,193,10],[193,11,193,12],[188,9,188,10],[188,11,188,12],[189,9,189,10],[189,11,189,12],[190,9,190,10],[190,11,190,12],[185,9,185,10],[185,11,185,12],[186,9,186,10],[186,11,186,12],[187,9,187,10],[187,11,187,12],[182,9,182,10],[182,11,182,12],[183,9,183,10],[183,11,183,12],[184,9,184,10],[184,11,184,12],[179,9,179,10],[179,11,179,12],[180,9,180,10],[180,11,180,12],[181,9,181,10],[181,11,181,12],[176,9,176,10],[176,11,176,12],[177,9,177,10],[177,11,177,12],[178,9,178,10],[178,11,178,12],[173,9,173,10],[173,11,173,12],[174,9,174,10],[174,11,174,12],[175,9,175,10],[175,11,175,12],[170,9,170,10],[170,11,170,12],[171,9,171,10],[171,11,171,12],[172,9,172,10],[172,11,172,12],[167,9,167,10],[167,11,167,12],[168,9,168,10],[168,11,168,12],[169,9,169,10],[169,11,169,12],[164,9,164,10],[164,11,164,12],[165,9,165,10],[165,11,165,12],[166,9,166,10],[166,11,166,12],[161,9,161,10],[161,11,161,12],[162,9,162,10],[162,11,162,12],[163,9,163,10],[163,11,163,12],[158,9,158,10],[158,11,158,12],[159,9,159,10],[159,11,159,12],[160,9,160,10],[160,11,160,12],[155,9,155,10],[155,11,155,12],[156,9,156,10],[156,11,156,12],[157,9,157,10],[157,11,157,12],[152,9,152,10],[152,11,152,12],[153,9,153,10],[153,11,153,12],[154,9,154,10],[154,11,154,12],[149,9,149,10],[149,11,149,12],[150,9,150,10],[150,11,150,12],[151,9,151,10],[151,11,151,12],[146,9,146,10],[146,11,146,12],[147,9,147,10],[147,11,147,12],[148,9,148,10],[148,11,148,12],[143,9,143,10],[143,11,143,12],[144,9,144,10],[144,11,144,12],[145,9,145,10],[145,11,145,12],[140,9,140,10],[140,11,140,12],[141,9,141,10],[141,11,141,12],[142,9,142,10],[142,11,142,12],[137,9,137,10],[137,11,137,12],[138,9,138,10],[138,11,138,12],[139,9,139,10],[139,11,139,12],[134,9,134,10],[134,11,134,12],[135,9,135,10],[135,11,135,12],[136,9,136,10],[136,11,136,12],[131,9,131,10],[131,11,131,12],[132,9,132,10],[132,11,132,12],[133,9,133,10],[133,11,133,12],[128,9,128,10],[128,11,128,12],[129,9,129,10],[129,11,129,12],[130,9,130,10],[130,11,130,12],[125,9,125,10],[125,11,125,12],[126,9,126,10],[126,11,126,12],[127,9,127,10],[127,11,127,12],[122,9,122,10],[122,11,122,12],[123,9,123,10],[123,11,123,12],[124,9,124,10],[124,11,124,12],[119,9,119,10],[119,11,119,12],[120,9,120,10],[120,11,120,12],[121,9,121,10],[121,11,121,12],[116,9,116,10],[116,11,116,12],[117,9,117,10],[117,11,117,12],[118,9,118,10],[118,11,118,12],[113,9,113,10],[113,11,113,12],[114,9,114,10],[114,11,114,12],[115,9,115,10],[115,11,115,12],[110,9,110,10],[110,11,110,12],[111,9,111,10],[111,11,111,12],[112,9,112,10],[112,11,112,12],[107,9,107,10],[107,11,107,12],[108,9,108,10],[108,11,108,12],[109,9,109,10],[109,11,109,12],[104,9,104,10],[104,11,104,12],[105,9,105,10],[105,11,105,12],[106,9,106,10],[106,11,106,12],[101,9,101,10],[101,11,101,12],[102,9,102,10],[102,11,102,12],[103,9,103,10],[103,11,103,12],[98,9,98,10],[98,11,98,12],[99,9,99,10],[99,11,99,12],[100,9,100,10],[100,11,100,12],[95,9,95,10],[95,11,95,12],[96,9,96,10],[96,11,96,12],[97,9,97,10],[97,11,97,12],[92,9,92,10],[92,11,92,12],[93,9,93,10],[93,11,93,12],[94,9,94,10],[94,11,94,12],[89,9,89,10],[89,11,89,12],[90,9,90,10],[90,11,90,12],[91,9,91,10],[91,11,91,12],[86,9,86,10],[86,11,86,12],[87,9,87,10],[87,11,87,12],[88,9,88,10],[88,11,88,12],[83,9,83,10],[83,11,83,12],[84,9,84,10],[84,11,84,12],[85,9,85,10],[85,11,85,12],[80,9,80,10],[80,11,80,12],[81,9,81,10],[81,11,81,12],[82,9,82,10],[82,11,82,12],[77,9,77,10],[77,11,77,12],[78,9,78,10],[78,11,78,12],[79,9,79,10],[79,11,79,12],[74,9,74,10],[74,11,74,12],[75,9,75,10],[75,11,75,12],[76,9,76,10],[76,11,76,12],[71,9,71,10],[71,11,71,12],[72,9,72,10],[72,11,72,12],[73,9,73,10],[73,11,73,12],[68,9,68,10],[68,11,68,12],[69,9,69,10],[69,11,69,12],[70,9,70,10],[70,11,70,12],[65,9,65,10],[65,11,65,12],[66,9,66,10],[66,11,66,12],[67,9,67,10],[67,11,67,12],[62,9,62,10],[62,11,62,12],[63,9,63,10],[63,11,63,12],[64,9,64,10],[64,11,64,12],[59,9,59,10],[59,11,59,12],[60,9,60,10],[60,11,60,12],[61,9,61,10],[61,11,61,12],[56,9,56,10],[56,11,56,12],[57,9,57,10],[57,11,57,12],[58,9,58,10],[58,11,58,12],[53,9,53,10],[53,11,53,12],[54,9,54,10],[54,11,54,12],[55,9,55,10],[55,11,55,12],[50,9,50,10],[50,11,50,12],[51,9,51,10],[51,11,51,12],[52,9,52,10],[52,11,52,12],[47,9,47,10],[47,11,47,12],[48,9,48,10],[48,11,48,12],[49,9,49,10],[49,11,49,12],[44,9,44,10],[44,11,44,12],[45,9,45,10],[45,11,45,12],[46,9,46,10],[46,11,46,12],[41,9,41,10],[41,11,41,12],[42,9,42,10],[42,11,42,12],[43,9,43,10],[43,11,43,12],[38,9,38,10],[38,11,38,12],[39,9,39,10],[39,11,39,12],[40,9,40,10],[40,11,40,12],[378,0,378,5],[0,13,0,14],[34,9,34,10],[34,11,34,12],[35,9,35,10],[35,11,35,12],[36,9,36,10],[36,11,36,12],[37,9,37,10],[37,11,37,12],[372,9,372,10],[372,11,372,12],[374,0,374,2],[375,0,375,2],[376,0,376,2],[377,0,377,2],[369,9,369,10],[369,11,369,12],[370,9,370,10],[370,11,370,12],[371,9,371,10],[371,11,371,12],[33,9,33,10],[33,11,33,12],[30,9,30,10],[30,11,30,12],[31,9,31,10],[31,11,31,12],[32,9,32,10],[32,11,32,12],[27,9,27,10],[27,11,27,12],[28,9,28,10],[28,11,28,12],[29,9,29,10],[29,11,29,12],[24,9,24,10],[24,11,24,12],[25,9,25,10],[25,11,25,12],[26,9,26,10],[26,11,26,12],[21,9,21,10],[21,11,21,12],[22,9,22,10],[22,11,22,12],[23,9,23,10],[23,11,23,12],[18,9,18,10],[18,11,18,12],[19,9,19,10],[19,11,19,12],[20,9,20,10],[20,11,20,12],[15,9,15,10],[15,11,15,12],[16,9,16,10],[16,11,16,12],[17,9,17,10],[17,11,17,12],[12,9,12,10],[12,11,12,12],[13,9,13,10],[13,11,13,12],[14,9,14,10],[14,11,14,12],[9,9,9,10],[9,11,9,12],[10,9,10,10],[10,11,10,12],[11,9,11,10],[11,11,11,12],[7,9,7,10],[7,11,7,12],[8,9,8,10],[8,11,8,12],[3,9,3,10],[3,11,3,12],[4,9,4,10],[4,11,4,12],[5,9,5,10],[5,11,5,12],[0,1,0,7],[0,10,0,11],[1,1,1,2],[1,9,1,10],[1,11,1,12],[2,1,2,2],[2,9,2,10],[2,11,2,12],[6,9,6,10],[6,11,6,12]]}
["Løn",{"$f":"PROPER(TEXT(A4,\"dd mmmm åååå\")) & PROPER(TEXT(N1,\"  -  dd mmmm åååå\"))","v":"01 Januar 2019  -  31 December 2019"},null,null,null,null,null,null,"Uge :",{"$f":"IF(A4=\"\",\"\",TRUNC((A4-WEEKDAY(A4,2)-DATE(YEAR(A4+4-WEEKDAY(A4,2)),1,-10))/7))","v":1},"-",null,{"$f":"IF(A25=\"\",\"\",TRUNC((A25-WEEKDAY(A25,2)-DATE(YEAR(A25+4-WEEKDAY(A25,2)),1,-10))/7))","v":4},{"$f":"EOMONTH(A364,0)","v":"2019-12-31"},null,1,null,null,null,null,null,"Time beregning:",null,null,null,null,null,null,null,null,"23:00:00",1,"06:00:00","18:00:00","03:00:00"]
["Lønart",null,null,null,null,null,null,null,null,null,null,null,null,null,null,null,null,null,null,null,null,"Betalt pause ved vagt over 5 timer",null,null,null,"00:25:00","minutter","00:00:00","06:00:00","17:00:00","14:00:00"]
["Dato","Dag",null,"Start","Slut","Pause","Arb. Tid","Overtid           1-3 time","Overtid            4 - time","Forskudt tid Man-fredag\n18-23",null,"Natarbejde 23-06",null,"Lørdag tillæg 14 - 24","Søndag tillæg 00 - 24","Optjent afspadsering","Afholdt afspadsering","Syge Timer","norm"]
[{"$f":"DATE(T.!$B$2,$P$1,1)","v":"2019-01-01"},{"$f":"PROPER(TEXT(A4,\"ddd\"))","v":"Ti"},{"$f":"HelligdagsNavn(A4,0,0)","v":"Nytårsdag"},"18:00:00","07:00:00",null,{"$f":"IF(D4=\"\",\"\",(E4-D4)+(D4>E4)-F4)","v":0.54166666666666674},{"$f":"IF(G4=\"\",0,IF(WEEKDAY(A4,2)=7,0,IF(G4>S4,MIN(G4-S4,$AI$1),0)))","v":"03:00:00"},{"$f":"IF(G4=\"\",\"\",IF(G4>S4+H4,G4-(S4+H4),\"\"))","v":"02:30:00"},{"$f":"IF(AND(C4=\"\",WEEKDAY(A4,2)<6),ColTime(T.!$J$4,T.!$L$4,D4,E4),\"\")","v":""},null,{"$f":"IFERROR(IF(AND(WEEKDAY(A4,2)<6,C5<>\"\",E4<D4,C4=\"\"),ColTime($AE$1,$AF$1,D4,E4),IF(AND(OR(WEEKDAY(A4,2)=7,C4<>\"\"),E4<D4,C5=\"\"),ColTime($AF$1,$AG$1,'Hele året'!$AF$1,E4),IF(AND(WEEKDAY(A4,2)<6,C5=\"\"),ColTime(T.!$J$5,T.!$L$5,D4,E4),\"\"))),\"\")","v":"06:00:00"},null,{"$f":"IF(WEEKDAY(A4,2)=6,ColTime(TIME(14,0,0),TIME(24,0,0),D4,E4),\"\")","v":""},{"$f":"IFERROR(IF(AND(WEEKDAY(A4,2)<6,C5<>\"\",C4=\"\"),ColTime(T.!$J$7,T.!$L$7,$AF$1,'Hele året'!E4),IF(AND(C4<>\"\",C5<>\"\"),ColTime(T.!$J$7,T.!$L$7,'Hele året'!D4,'Hele året'!E4),IF(AND(OR(WEEKDAY(A4,2)<6,WEEKDAY(A4,2)=6),C4<>\"\",E4<D4),ColTime(T.!$J$7,T.!$L$7,D4,AF1),IF(AND(WEEKDAY(A4,2)=6,E4<D4),ColTime(T.!$J$7,T.!$L$7,$AF$1,E4),IF(AND(E4<D4,OR(C4<>\"\",WEEKDAY(A4,2)=7)),ColTime(T.!J7,T.!L7,D4,$AF$1),IF(AND(E4<>\"\",OR(C4<>\"\",WEEKDAY(A4,2)=7)),ColTime(T.!$J$7,T.!$L$7,D4,E4),\"\")))))),\"\")","v":"06:00:00"},{"$f":"IFERROR(H4+I4,\"\")","v":"05:30:00"},null,null,{"$f":"CHOOSE(WEEKDAY(A4,2),norm!C$1,norm!C$2,norm!C$3,norm!C$4,norm!C$5,norm!C$6,norm!C$7)","v":"07:30:00"}]
[{"$f":"A4+1","v":"2019-01-02"},{"$f":"PROPER(TEXT(A5,\"ddd\"))","v":"On"},{"$f":"HelligdagsNavn(A5,0,0)","v":""},"18:00:00","07:00:00",null,{"$f":"IF(D5=\"\",\"\",(E5-D5)+(D5>E5)-F5)","v":0.54166666666666674},{"$f":"IF(G5=\"\",0,IF(WEEKDAY(A5,2)=7,0,IF(G5>S5,MIN(G5-S5,$AI$1),0)))","v":"03:00:00"},{"$f":"IF(G5=\"\",\"\",IF(G5>S5+H5,G5-(S5+H5),\"\"))","v":"02:30:00"},{"$f":"IF(AND(C5=\"\",WEEKDAY(A5,2)<6),ColTime(T.!$J$4,T.!$L$4,D5,E5),\"\")","v":"05:00:00"},null,{"$f":"IFERROR(IF(AND(WEEKDAY(A5,2)<6,C6<>\"\",E5<D5,C5=\"\"),ColTime($AE$1,$AF$1,D5,E5),IF(AND(OR(WEEKDAY(A5,2)=7,C5<>\"\"),E5<D5,C6=\"\"),ColTime($AF$1,$AG$1,'Hele året'!$AF$1,E5),IF(AND(WEEKDAY(A5,2)<6,C6=\"\"),ColTime(T.!$J$5,T.!$L$5,D5,E5),\"\"))),\"\")","v":"07:00:00"},null,"",{"$f":"IFERROR(IF(AND(WEEKDAY(A5,2)<6,C6<>\"\",C5=\"\"),ColTime(T.!$J$7,T.!$L$7,$AF$1,'Hele året'!E5),IF(AND(C5<>\"\",C6<>\"\"),ColTime(T.!$J$7,T.!$L$7,'Hele året'!D5,'Hele året'!E5),IF(AND(OR(WEEKDAY(A5,2)<6,WEEKDAY(A5,2)=6),C5<>\"\",E5<D5),ColTime(T.!$J$7,T.!$L$7,D5,AF2),IF(AND(WEEKDAY(A5,2)=6,E5<D5),ColTime(T.!$J$7,T.!$L$7,$AF$1,E5),IF(AND(E5<D5,OR(C5<>\"\",WEEKDAY(A5,2)=7)),ColTime(T.!J8,T.!L8,D5,$AF$1),IF(AND(E5<>\"\",OR(C5<>\"\",WEEKDAY(A5,2)=7)),ColTime(T.!$J$7,T.!$L$7,D5,E5),\"\")))))),\"\")","v":""},{"$f":"IFERROR(H5+I5,\"\")","v":"05:30:00"},null,null,{"$f":"CHOOSE(WEEKDAY(A5,2),norm!C$1,norm!C$2,norm!C$3,norm!C$4,norm!C$5,norm!C$6,norm!C$7)","v":"07:30:00"},null,null,"Der taste kun i de Gule celler"]
[{"$f":"A5+1","v":"2019-01-03"},{"$f":"PROPER(TEXT(A6,\"ddd\"))","v":"To"},"","22:00:00","07:00:00",null,0.375,"01:30:00","",{"$f":"IF(AND(C6=\"\",WEEKDAY(A6,2)<6),ColTime(T.!$J$4,T.!$L$4,D6,E6),\"\")","v":"01:00:00"},null,{"$f":"IFERROR(IF(AND(WEEKDAY(A6,2)<6,C7<>\"\",E6<D6,C6=\"\"),ColTime($AE$1,$AF$1,D6,E6),IF(AND(OR(WEEKDAY(A6,2)=7,C6<>\"\"),E6<D6,C7=\"\"),ColTime($AF$1,$AG$1,'Hele året'!$AF$1,E6),IF(AND(WEEKDAY(A6,2)<6,C7=\"\"),ColTime(T.!$J$5,T.!$L$5,D6,E6),\"\"))),\"\")","v":"07:00:00"},null,"",{"$f":"IFERROR(IF(AND(WEEKDAY(A6,2)<6,C7<>\"\",C6=\"\"),ColTime(T.!$J$7,T.!$L$7,$AF$1,'Hele året'!E6),IF(AND(C6<>\"\",C7<>\"\"),ColTime(T.!$J$7,T.!$L$7,'Hele året'!D6,'Hele året'!E6),IF(AND(OR(WEEKDAY(A6,2)<6,WEEKDAY(A6,2)=6),C6<>\"\",E6<D6),ColTime(T.!$J$7,T.!$L$7,D6,AF3),IF(AND(WEEKDAY(A6,2)=6,E6<D6),ColTime(T.!$J$7,T.!$L$7,$AF$1,E6),IF(AND(E6<D6,OR(C6<>\"\",WEEKDAY(A6,2)=7)),ColTime(T.!J9,T.!L9,D6,$AF$1),IF(AND(E6<>\"\",OR(C6<>\"\",WEEKDAY(A6,2)=7)),ColTime(T.!$J$7,T.!$L$7,D6,E6),\"\")))))),\"\")","v":""},{"$f":"IFERROR(H6+I6,\"\")","v":""},null,null,{"$f":"CHOOSE(WEEKDAY(A6,2),norm!C$1,norm!C$2,norm!C$3,norm!C$4,norm!C$5,norm!C$6,norm!C$7)","v":"07:30:00"}]
["2019-01-04","Fr","","22:00:00","07:00:00",null,0.375,"02:00:00","",{"$f":"IF(AND(C7=\"\",WEEKDAY(A7,2)<6),ColTime(T.!$J$4,T.!$L$4,D7,E7),\"\")","v":"01:00:00"},null,{"$f":"IFERROR(IF(AND(WEEKDAY(A7,2)<6,C8<>\"\",E7<D7,C7=\"\"),ColTime($AE$1,$AF$1,D7,E7),IF(AND(OR(WEEKDAY(A7,2)=7,C7<>\"\"),E7<D7,C8=\"\"),ColTime($AF$1,$AG$1,'Hele året'!$AF$1,E7),IF(AND(WEEKDAY(A7,2)<6,C8=\"\"),ColTime(T.!$J$5,T.!$L$5,D7,E7),\"\"))),\"\")","v":"07:00:00"},null,"",{"$f":"IFERROR(IF(AND(WEEKDAY(A7,2)<6,C8<>\"\",C7=\"\"),ColTime(T.!$J$7,T.!$L$7,$AF$1,'Hele året'!E7),IF(AND(C7<>\"\",C8<>\"\"),ColTime(T.!$J$7,T.!$L$7,'Hele året'!D7,'Hele året'!E7),IF(AND(OR(WEEKDAY(A7,2)<6,WEEKDAY(A7,2)=6),C7<>\"\",E7<D7),ColTime(T.!$J$7,T.!$L$7,D7,AF4),IF(AND(WEEKDAY(A7,2)=6,E7<D7),ColTime(T.!$J$7,T.!$L$7,$AF$1,E7),IF(AND(E7<D7,OR(C7<>\"\",WEEKDAY(A7,2)=7)),ColTime(T.!J10,T.!L10,D7,$AF$1),IF(AND(E7<>\"\",OR(C7<>\"\",WEEKDAY(A7,2)=7)),ColTime(T.!$J$7,T.!$L$7,D7,E7),\"\")))))),\"\")","v":""},{"$f":"IFERROR(H7+I7,\"\")","v":""},null,null,{"$f":"CHOOSE(WEEKDAY(A7,2),norm!C$1,norm!C$2,norm!C$3,norm!C$4,norm!C$5,norm!C$6,norm!C$7)","v":"07:00:00"}]
["2019-01-05","Lø","","22:00:00","07:00:00",null,0.375,"03:00:00","06:00:00",{"$f":"IF(AND(C8=\"\",WEEKDAY(A8,2)<6),ColTime(T.!$J$4,T.!$L$4,D8,E8),\"\")","v":""},null,{"$f":"IFERROR(IF(AND(WEEKDAY(A8,2)<6,C9<>\"\",E8<D8,C8=\"\"),ColTime($AE$1,$AF$1,D8,E8),IF(AND(OR(WEEKDAY(A8,2)=7,C8<>\"\"),E8<D8,C9=\"\"),ColTime($AF$1,$AG$1,'Hele året'!$AF$1,E8),IF(AND(WEEKDAY(A8,2)<6,C9=\"\"),ColTime(T.!$J$5,T.!$L$5,D8,E8),\"\"))),\"\")","v":""},null,"02:00:00",{"$f":"IFERROR(IF(AND(WEEKDAY(A8,2)<6,C9<>\"\",C8=\"\"),ColTime(T.!$J$7,T.!$L$7,$AF$1,'Hele året'!E8),IF(AND(C8<>\"\",C9<>\"\"),ColTime(T.!$J$7,T.!$L$7,'Hele året'!D8,'Hele året'!E8),IF(AND(OR(WEEKDAY(A8,2)<6,WEEKDAY(A8,2)=6),C8<>\"\",E8<D8),ColTime(T.!$J$7,T.!$L$7,D8,AF5),IF(AND(WEEKDAY(A8,2)=6,E8<D8),ColTime(T.!$J$7,T.!$L$7,$AF$1,E8),IF(AND(E8<D8,OR(C8<>\"\",WEEKDAY(A8,2)=7)),ColTime(T.!J11,T.!L11,D8,$AF$1),IF(AND(E8<>\"\",OR(C8<>\"\",WEEKDAY(A8,2)=7)),ColTime(T.!$J$7,T.!$L$7,D8,E8),\"\")))))),\"\")","v":"07:00:00"},{"$f":"IFERROR(H8+I8,\"\")","v":"09:00:00"},null,null,{"$f":"CHOOSE(WEEKDAY(A8,2),norm!C$1,norm!C$2,norm!C$3,norm!C$4,norm!C$5,norm!C$6,norm!C$7)","v":"00:00:00"}]
["2019-01-06","Sø","","22:00:00","07:00:00",null,0.375,"00:00:00","09:00:00",{"$f":"IF(AND(C9=\"\",WEEKDAY(A9,2)<6),ColTime(T.!$J$4,T.!$L$4,D9,E9),\"\")","v":""},null,{"$f":"IFERROR(IF(AND(WEEKDAY(A9,2)<6,C10<>\"\",E9<D9,C9=\"\"),ColTime($AE$1,$AF$1,D9,E9),IF(AND(OR(WEEKDAY(A9,2)=7,C9<>\"\"),E9<D9,C10=\"\"),ColTime($AF$1,$AG$1,'Hele året'!$AF$1,E9),IF(AND(WEEKDAY(A9,2)<6,C10=\"\"),ColTime(T.!$J$5,T.!$L$5,D9,E9),\"\"))),\"\")","v":"06:00:00"},null,"",{"$f":"IFERROR(IF(AND(WEEKDAY(A9,2)<6,C10<>\"\",C9=\"\"),ColTime(T.!$J$7,T.!$L$7,$AF$1,'Hele året'!E9),IF(AND(C9<>\"\",C10<>\"\"),ColTime(T.!$J$7,T.!$L$7,'Hele året'!D9,'Hele året'!E9),IF(AND(OR(WEEKDAY(A9,2)<6,WEEKDAY(A9,2)=6),C9<>\"\",E9<D9),ColTime(T.!$J$7,T.!$L$7,D9,AF6),IF(AND(WEEKDAY(A9,2)=6,E9<D9),ColTime(T.!$J$7,T.!$L$7,$AF$1,E9),IF(AND(E9<D9,OR(C9<>\"\",WEEKDAY(A9,2)=7)),ColTime(T.!J12,T.!L12,D9,$AF$1),IF(AND(E9<>\"\",OR(C9<>\"\",WEEKDAY(A9,2)=7)),ColTime(T.!$J$7,T.!$L$7,D9,E9),\"\")))))),\"\")","v":"02:00:00"},{"$f":"IFERROR(H9+I9,\"\")","v":"09:00:00"},null,null,{"$f":"CHOOSE(WEEKDAY(A9,2),norm!C$1,norm!C$2,norm!C$3,norm!C$4,norm!C$5,norm!C$6,norm!C$7)","v":"00:00:00"}]
["2019-01-07","Ma","","22:00:00","07:00:00",null,{"$f":"IF(D10=\"\",\"\",(E10-D10)+(D10>E10)-F10)","v":0.375},"01:30:00","",{"$f":"IF(AND(C10=\"\",WEEKDAY(A10,2)<6),ColTime(T.!$J$4,T.!$L$4,D10,E10),\"\")","v":"01:00:00"},null,{"$f":"IFERROR(IF(AND(WEEKDAY(A10,2)<6,C11<>\"\",E10<D10,C10=\"\"),ColTime($AE$1,$AF$1,D10,E10),IF(AND(OR(WEEKDAY(A10,2)=7,C10<>\"\"),E10<D10,C11=\"\"),ColTime($AF$1,$AG$1,'Hele året'!$AF$1,E10),IF(AND(WEEKDAY(A10,2)<6,C11=\"\"),ColTime(T.!$J$5,T.!$L$5,D10,E10),\"\"))),\"\")","v":"07:00:00"},null,{"$f":"IF(WEEKDAY(A10,2)=6,ColTime(TIME(14,0,0),TIME(24,0,0),D10,E10),\"\")","v":""},{"$f":"IFERROR(IF(AND(WEEKDAY(A10,2)<6,C11<>\"\",C10=\"\"),ColTime(T.!$J$7,T.!$L$7,$AF$1,'Hele året'!E10),IF(AND(C10<>\"\",C11<>\"\"),ColTime(T.!$J$7,T.!$L$7,'Hele året'!D10,'Hele året'!E10),IF(AND(OR(WEEKDAY(A10,2)<6,WEEKDAY(A10,2)=6),C10<>\"\",E10<D10),ColTime(T.!$J$7,T.!$L$7,D10,AF7),IF(AND(WEEKDAY(A10,2)=6,E10<D10),ColTime(T.!$J$7,T.!$L$7,$AF$1,E10),IF(AND(E10<D10,OR(C10<>\"\",WEEKDAY(A10,2)=7)),ColTime(T.!J13,T.!L13,D10,$AF$1),IF(AND(E10<>\"\",OR(C10<>\"\",WEEKDAY(A10,2)=7)),ColTime(T.!$J$7,T.!$L$7,D10,E10),\"\")))))),\"\")","v":""},"",null,null,{"$f":"CHOOSE(WEEKDAY(A10,2),norm!C$1,norm!C$2,norm!C$3,norm!C$4,norm!C$5,norm!C$6,norm!C$7)","v":"07:30:00"}]
[{"$f":"A10+1","v":"2019-01-08"},{"$f":"PROPER(TEXT(A11,\"ddd\"))","v":"Ti"},{"$f":"HelligdagsNavn(A11,0,0)","v":""},"22:00:00","07:00:00",null,0.375,"01:30:00","",{"$f":"IF(AND(C11=\"\",WEEKDAY(A11,2)<6),ColTime(T.!$J$4,T.!$L$4,D11,E11),\"\")","v":"01:00:00"},null,{"$f":"IFERROR(IF(AND(WEEKDAY(A11,2)<6,C12<>\"\",E11<D11,C11=\"\"),ColTime($AE$1,$AF$1,D11,E11),IF(AND(OR(WEEKDAY(A11,2)=7,C11<>\"\"),E11<D11,C12=\"\"),ColTime($AF$1,$AG$1,'Hele året'!$AF$1,E11),IF(AND(WEEKDAY(A11,2)<6,C12=\"\"),ColTime(T.!$J$5,T.!$L$5,D11,E11),\"\"))),\"\")","v":"07:00:00"},null,{"$f":"IF(WEEKDAY(A11,2)=6,ColTime(TIME(15,0,0),TIME(24,0,0),D11,E11),\"\")","v":""},{"$f":"IFERROR(IF(AND(WEEKDAY(A11,2)<6,C12<>\"\",C11=\"\"),ColTime(T.!$J$7,T.!$L$7,$AF$1,'Hele året'!E11),IF(AND(C11<>\"\",C12<>\"\"),ColTime(T.!$J$7,T.!$L$7,'Hele året'!D11,'Hele året'!E11),IF(AND(OR(WEEKDAY(A11,2)<6,WEEKDAY(A11,2)=6),C11<>\"\",E11<D11),ColTime(T.!$J$7,T.!$L$7,D11,AF8),IF(AND(WEEKDAY(A11,2)=6,E11<D11),ColTime(T.!$J$7,T.!$L$7,$AF$1,E11),IF(AND(E11<D11,OR(C11<>\"\",WEEKDAY(A11,2)=7)),ColTime(T.!J14,T.!L14,D11,$AF$1),IF(AND(E11<>\"\",OR(C11<>\"\",WEEKDAY(A11,2)=7)),ColTime(T.!$J$7,T.!$L$7,D11,E11),\"\")))))),\"\")","v":""},"",null,null,{"$f":"CHOOSE(WEEKDAY(A11,2),norm!C$1,norm!C$2,norm!C$3,norm!C$4,norm!C$5,norm!C$6,norm!C$7)","v":"07:30:00"}]
[{"$f":"A11+1","v":"2019-01-09"},{"$f":"PROPER(TEXT(A12,\"ddd\"))","v":"On"},{"$f":"HelligdagsNavn(A12,0,0)","v":""},"22:00:00","07:00:00",null,0.375,"01:30:00","",{"$f":"IF(AND(C12=\"\",WEEKDAY(A12,2)<6),ColTime(T.!$J$4,T.!$L$4,D12,E12),\"\")","v":"01:00:00"},null,{"$f":"IFERROR(IF(AND(WEEKDAY(A12,2)<6,C13<>\"\",E12<D12,C12=\"\"),ColTime($AE$1,$AF$1,D12,E12),IF(AND(OR(WEEKDAY(A12,2)=7,C12<>\"\"),E12<D12,C13=\"\"),ColTime($AF$1,$AG$1,'Hele året'!$AF$1,E12),IF(AND(WEEKDAY(A12,2)<6,C13=\"\"),ColTime(T.!$J$5,T.!$L$5,D12,E12),\"\"))),\"\")","v":"07:00:00"},null,"",{"$f":"IFERROR(IF(AND(WEEKDAY(A12,2)<6,C13<>\"\",C12=\"\"),ColTime(T.!$J$7,T.!$L$7,$AF$1,'Hele året'!E12),IF(AND(C12<>\"\",C13<>\"\"),ColTime(T.!$J$7,T.!$L$7,'Hele året'!D12,'Hele året'!E12),IF(AND(OR(WEEKDAY(A12,2)<6,WEEKDAY(A12,2)=6),C12<>\"\",E12<D12),ColTime(T.!$J$7,T.!$L$7,D12,AF9),IF(AND(WEEKDAY(A12,2)=6,E12<D12),ColTime(T.!$J$7,T.!$L$7,$AF$1,E12),IF(AND(E12<D12,OR(C12<>\"\",WEEKDAY(A12,2)=7)),ColTime(T.!J15,T.!L15,D12,$AF$1),IF(AND(E12<>\"\",OR(C12<>\"\",WEEKDAY(A12,2)=7)),ColTime(T.!$J$7,T.!$L$7,D12,E12),\"\")))))),\"\")","v":""},"",null,null,{"$f":"CHOOSE(WEEKDAY(A12,2),norm!C$1,norm!C$2,norm!C$3,norm!C$4,norm!C$5,norm!C$6,norm!C$7)","v":"07:30:00"}]
[{"$f":"A12+1","v":"2019-01-10"},{"$f":"PROPER(TEXT(A13,\"ddd\"))","v":"To"},"","22:00:00","07:00:00",null,0.375,"01:30:00","",{"$f":"IF(AND(C13=\"\",WEEKDAY(A13,2)<6),ColTime(T.!$J$4,T.!$L$4,D13,E13),\"\")","v":"01:00:00"},null,{"$f":"IFERROR(IF(AND(WEEKDAY(A13,2)<6,C14<>\"\",E13<D13,C13=\"\"),ColTime($AE$1,$AF$1,D13,E13),IF(AND(OR(WEEKDAY(A13,2)=7,C13<>\"\"),E13<D13,C14=\"\"),ColTime($AF$1,$AG$1,'Hele året'!$AF$1,E13),IF(AND(WEEKDAY(A13,2)<6,C14=\"\"),ColTime(T.!$J$5,T.!$L$5,D13,E13),\"\"))),\"\")","v":"07:00:00"},null,"",{"$f":"IFERROR(IF(AND(WEEKDAY(A13,2)<6,C14<>\"\",C13=\"\"),ColTime(T.!$J$7,T.!$L$7,$AF$1,'Hele året'!E13),IF(AND(C13<>\"\",C14<>\"\"),ColTime(T.!$J$7,T.!$L$7,'Hele året'!D13,'Hele året'!E13),IF(AND(OR(WEEKDAY(A13,2)<6,WEEKDAY(A13,2)=6),C13<>\"\",E13<D13),ColTime(T.!$J$7,T.!$L$7,D13,AF10),IF(AND(WEEKDAY(A13,2)=6,E13<D13),ColTime(T.!$J$7,T.!$L$7,$AF$1,E13),IF(AND(E13<D13,OR(C13<>\"\",WEEKDAY(A13,2)=7)),ColTime(T.!J16,T.!L16,D13,$AF$1),IF(AND(E13<>\"\",OR(C13<>\"\",WEEKDAY(A13,2)=7)),ColTime(T.!$J$7,T.!$L$7,D13,E13),\"\")))))),\"\")","v":""},"",null,null,{"$f":"CHOOSE(WEEKDAY(A13,2),norm!C$1,norm!C$2,norm!C$3,norm!C$4,norm!C$5,norm!C$6,norm!C$7)","v":"07:30:00"}]
["2019-01-11","Fr","","22:00:00","07:00:00",null,0.375,"02:00:00","",{"$f":"IF(AND(C14=\"\",WEEKDAY(A14,2)<6),ColTime(T.!$J$4,T.!$L$4,D14,E14),\"\")","v":"01:00:00"},null,{"$f":"IFERROR(IF(AND(WEEKDAY(A14,2)<6,C15<>\"\",E14<D14,C14=\"\"),ColTime($AE$1,$AF$1,D14,E14),IF(AND(OR(WEEKDAY(A14,2)=7,C14<>\"\"),E14<D14,C15=\"\"),ColTime($AF$1,$AG$1,'Hele året'!$AF$1,E14),IF(AND(WEEKDAY(A14,2)<6,C15=\"\"),ColTime(T.!$J$5,T.!$L$5,D14,E14),\"\"))),\"\")","v":"07:00:00"},null,"",{"$f":"IFERROR(IF(AND(WEEKDAY(A14,2)<6,C15<>\"\",C14=\"\"),ColTime(T.!$J$7,T.!$L$7,$AF$1,'Hele året'!E14),IF(AND(C14<>\"\",C15<>\"\"),ColTime(T.!$J$7,T.!$L$7,'Hele året'!D14,'Hele året'!E14),IF(AND(OR(WEEKDAY(A14,2)<6,WEEKDAY(A14,2)=6),C14<>\"\",E14<D14),ColTime(T.!$J$7,T.!$L$7,D14,AF11),IF(AND(WEEKDAY(A14,2)=6,E14<D14),ColTime(T.!$J$7,T.!$L$7,$AF$1,E14),IF(AND(E14<D14,OR(C14<>\"\",WEEKDAY(A14,2)=7)),ColTime(T.!J17,T.!L17,D14,$AF$1),IF(AND(E14<>\"\",OR(C14<>\"\",WEEKDAY(A14,2)=7)),ColTime(T.!$J$7,T.!$L$7,D14,E14),\"\")))))),\"\")","v":""},"",null,null,{"$f":"CHOOSE(WEEKDAY(A14,2),norm!C$1,norm!C$2,norm!C$3,norm!C$4,norm!C$5,norm!C$6,norm!C$7)","v":"07:00:00"}]
["2019-01-12","Lø","","22:00:00","07:00:00",null,0.375,"03:00:00","06:00:00",{"$f":"IF(AND(C15=\"\",WEEKDAY(A15,2)<6),ColTime(T.!$J$4,T.!$L$4,D15,E15),\"\")","v":""},null,{"$f":"IFERROR(IF(AND(WEEKDAY(A15,2)<6,C16<>\"\",E15<D15,C15=\"\"),ColTime($AE$1,$AF$1,D15,E15),IF(AND(OR(WEEKDAY(A15,2)=7,C15<>\"\"),E15<D15,C16=\"\"),ColTime($AF$1,$AG$1,'Hele året'!$AF$1,E15),IF(AND(WEEKDAY(A15,2)<6,C16=\"\"),ColTime(T.!$J$5,T.!$L$5,D15,E15),\"\"))),\"\")","v":""},null,"02:00:00",{"$f":"IFERROR(IF(AND(WEEKDAY(A15,2)<6,C16<>\"\",C15=\"\"),ColTime(T.!$J$7,T.!$L$7,$AF$1,'Hele året'!E15),IF(AND(C15<>\"\",C16<>\"\"),ColTime(T.!$J$7,T.!$L$7,'Hele året'!D15,'Hele året'!E15),IF(AND(OR(WEEKDAY(A15,2)<6,WEEKDAY(A15,2)=6),C15<>\"\",E15<D15),ColTime(T.!$J$7,T.!$L$7,D15,AF12),IF(AND(WEEKDAY(A15,2)=6,E15<D15),ColTime(T.!$J$7,T.!$L$7,$AF$1,E15),IF(AND(E15<D15,OR(C15<>\"\",WEEKDAY(A15,2)=7)),ColTime(T.!J18,T.!L18,D15,$AF$1),IF(AND(E15<>\"\",OR(C15<>\"\",WEEKDAY(A15,2)=7)),ColTime(T.!$J$7,T.!$L$7,D15,E15),\"\")))))),\"\")","v":"07:00:00"},"09:00:00",null,null,{"$f":"CHOOSE(WEEKDAY(A15,2),norm!C$1,norm!C$2,norm!C$3,norm!C$4,norm!C$5,norm!C$6,norm!C$7)","v":"00:00:00"}]
["2019-01-13","Sø","","19:00:00","07:00:00",null,0.5,"00:00:00","12:00:00",{"$f":"IF(AND(C16=\"\",WEEKDAY(A16,2)<6),ColTime(T.!$J$4,T.!$L$4,D16,E16),\"\")","v":""},null,{"$f":"IFERROR(IF(AND(WEEKDAY(A16,2)<6,C17<>\"\",E16<D16,C16=\"\"),ColTime($AE$1,$AF$1,D16,E16),IF(AND(OR(WEEKDAY(A16,2)=7,C16<>\"\"),E16<D16,C17=\"\"),ColTime($AF$1,$AG$1,'Hele året'!$AF$1,E16),IF(AND(WEEKDAY(A16,2)<6,C17=\"\"),ColTime(T.!$J$5,T.!$L$5,D16,E16),\"\"))),\"\")","v":"06:00:00"},null,"",{"$f":"IFERROR(IF(AND(WEEKDAY(A16,2)<6,C17<>\"\",C16=\"\"),ColTime(T.!$J$7,T.!$L$7,$AF$1,'Hele året'!E16),IF(AND(C16<>\"\",C17<>\"\"),ColTime(T.!$J$7,T.!$L$7,'Hele året'!D16,'Hele året'!E16),IF(AND(OR(WEEKDAY(A16,2)<6,WEEKDAY(A16,2)=6),C16<>\"\",E16<D16),ColTime(T.!$J$7,T.!$L$7,D16,AF13),IF(AND(WEEKDAY(A16,2)=6,E16<D16),ColTime(T.!$J$7,T.!$L$7,$AF$1,E16),IF(AND(E16<D16,OR(C16<>\"\",WEEKDAY(A16,2)=7)),ColTime(T.!J19,T.!L19,D16,$AF$1),IF(AND(E16<>\"\",OR(C16<>\"\",WEEKDAY(A16,2)=7)),ColTime(T.!$J$7,T.!$L$7,D16,E16),\"\")))))),\"\")","v":"05:00:00"},"12:00:00",null,null,{"$f":"CHOOSE(WEEKDAY(A16,2),norm!C$1,norm!C$2,norm!C$3,norm!C$4,norm!C$5,norm!C$6,norm!C$7)","v":"00:00:00"}]
["2019-01-14","Ma","",null,null,null,"",{"$f":"IF(G17=\"\",0,IF(WEEKDAY(A17,2)=7,0,IF(G17>S17,MIN(G17-S17,$AI$1),0)))","v":"00:00:00"},"",{"$f":"IF(AND(C17=\"\",WEEKDAY(A17,2)<6),ColTime(T.!$J$4,T.!$L$4,D17,E17),\"\")","v":"00:00:00"},null,{"$f":"IFERROR(IF(AND(WEEKDAY(A17,2)<6,C18<>\"\",E17<D17,C17=\"\"),ColTime($AE$1,$AF$1,D17,E17),IF(AND(OR(WEEKDAY(A17,2)=7,C17<>\"\"),E17<D17,C18=\"\"),ColTime($AF$1,$AG$1,'Hele året'!$AF$1,E17),IF(AND(WEEKDAY(A17,2)<6,C18=\"\"),ColTime(T.!$J$5,T.!$L$5,D17,E17),\"\"))),\"\")","v":"00:00:00"},null,{"$f":"IF(WEEKDAY(A17,2)=6,ColTime(TIME(15,0,0),TIME(24,0,0),D17,E17),\"\")","v":""},{"$f":"IFERROR(IF(AND(WEEKDAY(A17,2)<6,C18<>\"\",C17=\"\"),ColTime(T.!$J$7,T.!$L$7,$AF$1,'Hele året'!E17),IF(AND(C17<>\"\",C18<>\"\"),ColTime(T.!$J$7,T.!$L$7,'Hele året'!D17,'Hele året'!E17),IF(AND(OR(WEEKDAY(A17,2)<6,WEEKDAY(A17,2)=6),C17<>\"\",E17<D17),ColTime(T.!$J$7,T.!$L$7,D17,AF14),IF(AND(WEEKDAY(A17,2)=6,E17<D17),ColTime(T.!$J$7,T.!$L$7,$AF$1,E17),IF(AND(E17<D17,OR(C17<>\"\",WEEKDAY(A17,2)=7)),ColTime(T.!J20,T.!L20,D17,$AF$1),IF(AND(E17<>\"\",OR(C17<>\"\",WEEKDAY(A17,2)=7)),ColTime(T.!$J$7,T.!$L$7,D17,E17),\"\")))))),\"\")","v":""},{"$f":"IFERROR(H17+I17,\"\")","v":""},null,null,{"$f":"CHOOSE(WEEKDAY(A17,2),norm!C$1,norm!C$2,norm!C$3,norm!C$4,norm!C$5,norm!C$6,norm!C$7)","v":"07:30:00"}]
[{"$f":"A17+1","v":"2019-01-15"},{"$f":"PROPER(TEXT(A18,\"ddd\"))","v":"Ti"},{"$f":"HelligdagsNavn(A18,0,0)","v":""},"08:00:00","16:00:00",null,0.33333333333333331,"00:30:00","",{"$f":"IF(AND(C18=\"\",WEEKDAY(A18,2)<6),ColTime(T.!$J$4,T.!$L$4,D18,E18),\"\")","v":"00:00:00"},null,{"$f":"IFERROR(IF(AND(WEEKDAY(A18,2)<6,C19<>\"\",E18<D18,C18=\"\"),ColTime($AE$1,$AF$1,D18,E18),IF(AND(OR(WEEKDAY(A18,2)=7,C18<>\"\"),E18<D18,C19=\"\"),ColTime($AF$1,$AG$1,'Hele året'!$AF$1,E18),IF(AND(WEEKDAY(A18,2)<6,C19=\"\"),ColTime(T.!$J$5,T.!$L$5,D18,E18),\"\"))),\"\")","v":"00:00:00"},null,"",{"$f":"IFERROR(IF(AND(WEEKDAY(A18,2)<6,C19<>\"\",C18=\"\"),ColTime(T.!$J$7,T.!$L$7,$AF$1,'Hele året'!E18),IF(AND(C18<>\"\",C19<>\"\"),ColTime(T.!$J$7,T.!$L$7,'Hele året'!D18,'Hele året'!E18),IF(AND(OR(WEEKDAY(A18,2)<6,WEEKDAY(A18,2)=6),C18<>\"\",E18<D18),ColTime(T.!$J$7,T.!$L$7,D18,AF15),IF(AND(WEEKDAY(A18,2)=6,E18<D18),ColTime(T.!$J$7,T.!$L$7,$AF$1,E18),IF(AND(E18<D18,OR(C18<>\"\",WEEKDAY(A18,2)=7)),ColTime(T.!J21,T.!L21,D18,$AF$1),IF(AND(E18<>\"\",OR(C18<>\"\",WEEKDAY(A18,2)=7)),ColTime(T.!$J$7,T.!$L$7,D18,E18),\"\")))))),\"\")","v":""},"",null,null,{"$f":"CHOOSE(WEEKDAY(A18,2),norm!C$1,norm!C$2,norm!C$3,norm!C$4,norm!C$5,norm!C$6,norm!C$7)","v":"07:30:00"}]
[{"$f":"A18+1","v":"2019-01-16"},{"$f":"PROPER(TEXT(A19,\"ddd\"))","v":"On"},{"$f":"HelligdagsNavn(A19,0,0)","v":""},null,null,null,"","00:00:00","",{"$f":"IF(AND(C19=\"\",WEEKDAY(A19,2)<6),ColTime(T.!$J$4,T.!$L$4,D19,E19),\"\")","v":"00:00:00"},null,{"$f":"IFERROR(IF(AND(WEEKDAY(A19,2)<6,C20<>\"\",E19<D19,C19=\"\"),ColTime($AE$1,$AF$1,D19,E19),IF(AND(OR(WEEKDAY(A19,2)=7,C19<>\"\"),E19<D19,C20=\"\"),ColTime($AF$1,$AG$1,'Hele året'!$AF$1,E19),IF(AND(WEEKDAY(A19,2)<6,C20=\"\"),ColTime(T.!$J$5,T.!$L$5,D19,E19),\"\"))),\"\")","v":"00:00:00"},null,"",{"$f":"IFERROR(IF(AND(WEEKDAY(A19,2)<6,C20<>\"\",C19=\"\"),ColTime(T.!$J$7,T.!$L$7,$AF$1,'Hele året'!E19),IF(AND(C19<>\"\",C20<>\"\"),ColTime(T.!$J$7,T.!$L$7,'Hele året'!D19,'Hele året'!E19),IF(AND(OR(WEEKDAY(A19,2)<6,WEEKDAY(A19,2)=6),C19<>\"\",E19<D19),ColTime(T.!$J$7,T.!$L$7,D19,AF16),IF(AND(WEEKDAY(A19,2)=6,E19<D19),ColTime(T.!$J$7,T.!$L$7,$AF$1,E19),IF(AND(E19<D19,OR(C19<>\"\",WEEKDAY(A19,2)=7)),ColTime(T.!J22,T.!L22,D19,$AF$1),IF(AND(E19<>\"\",OR(C19<>\"\",WEEKDAY(A19,2)=7)),ColTime(T.!$J$7,T.!$L$7,D19,E19),\"\")))))),\"\")","v":""},"",null,null,{"$f":"CHOOSE(WEEKDAY(A19,2),norm!C$1,norm!C$2,norm!C$3,norm!C$4,norm!C$5,norm!C$6,norm!C$7)","v":"07:30:00"}]
[{"$f":"A19+1","v":"2019-01-17"},{"$f":"PROPER(TEXT(A20,\"ddd\"))","v":"To"},"",null,null,null,"","00:00:00","",{"$f":"IF(AND(C20=\"\",WEEKDAY(A20,2)<6),ColTime(T.!$J$4,T.!$L$4,D20,E20),\"\")","v":"00:00:00"},null,{"$f":"IFERROR(IF(AND(WEEKDAY(A20,2)<6,C21<>\"\",E20<D20,C20=\"\"),ColTime($AE$1,$AF$1,D20,E20),IF(AND(OR(WEEKDAY(A20,2)=7,C20<>\"\"),E20<D20,C21=\"\"),ColTime($AF$1,$AG$1,'Hele året'!$AF$1,E20),IF(AND(WEEKDAY(A20,2)<6,C21=\"\"),ColTime(T.!$J$5,T.!$L$5,D20,E20),\"\"))),\"\")","v":"00:00:00"},null,"",{"$f":"IFERROR(IF(AND(WEEKDAY(A20,2)<6,C21<>\"\",C20=\"\"),ColTime(T.!$J$7,T.!$L$7,$AF$1,'Hele året'!E20),IF(AND(C20<>\"\",C21<>\"\"),ColTime(T.!$J$7,T.!$L$7,'Hele året'!D20,'Hele året'!E20),IF(AND(OR(WEEKDAY(A20,2)<6,WEEKDAY(A20,2)=6),C20<>\"\",E20<D20),ColTime(T.!$J$7,T.!$L$7,D20,AF17),IF(AND(WEEKDAY(A20,2)=6,E20<D20),ColTime(T.!$J$7,T.!$L$7,$AF$1,E20),IF(AND(E20<D20,OR(C20<>\"\",WEEKDAY(A20,2)=7)),ColTime(T.!J23,T.!L23,D20,$AF$1),IF(AND(E20<>\"\",OR(C20<>\"\",WEEKDAY(A20,2)=7)),ColTime(T.!$J$7,T.!$L$7,D20,E20),\"\")))))),\"\")","v":""},"",null,null,{"$f":"CHOOSE(WEEKDAY(A20,2),norm!C$1,norm!C$2,norm!C$3,norm!C$4,norm!C$5,norm!C$6,norm!C$7)","v":"07:30:00"}]
["2019-01-18","Fr","",null,null,null,"","00:00:00","",{"$f":"IF(AND(C21=\"\",WEEKDAY(A21,2)<6),ColTime(T.!$J$4,T.!$L$4,D21,E21),\"\")","v":"00:00:00"},null,{"$f":"IFERROR(IF(AND(WEEKDAY(A21,2)<6,C22<>\"\",E21<D21,C21=\"\"),ColTime($AE$1,$AF$1,D21,E21),IF(AND(OR(WEEKDAY(A21,2)=7,C21<>\"\"),E21<D21,C22=\"\"),ColTime($AF$1,$AG$1,'Hele året'!$AF$1,E21),IF(AND(WEEKDAY(A21,2)<6,C22=\"\"),ColTime(T.!$J$5,T.!$L$5,D21,E21),\"\"))),\"\")","v":"00:00:00"},null,"",{"$f":"IFERROR(IF(AND(WEEKDAY(A21,2)<6,C22<>\"\",C21=\"\"),ColTime(T.!$J$7,T.!$L$7,$AF$1,'Hele året'!E21),IF(AND(C21<>\"\",C22<>\"\"),ColTime(T.!$J$7,T.!$L$7,'Hele året'!D21,'Hele året'!E21),IF(AND(OR(WEEKDAY(A21,2)<6,WEEKDAY(A21,2)=6),C21<>\"\",E21<D21),ColTime(T.!$J$7,T.!$L$7,D21,AF18),IF(AND(WEEKDAY(A21,2)=6,E21<D21),ColTime(T.!$J$7,T.!$L$7,$AF$1,E21),IF(AND(E21<D21,OR(C21<>\"\",WEEKDAY(A21,2)=7)),ColTime(T.!J24,T.!L24,D21,$AF$1),IF(AND(E21<>\"\",OR(C21<>\"\",WEEKDAY(A21,2)=7)),ColTime(T.!$J$7,T.!$L$7,D21,E21),\"\")))))),\"\")","v":""},"",null,null,{"$f":"CHOOSE(WEEKDAY(A21,2),norm!C$1,norm!C$2,norm!C$3,norm!C$4,norm!C$5,norm!C$6,norm!C$7)","v":"07:00:00"}]
["2019-01-19","Lø","",null,null,null,"","00:00:00","",{"$f":"IF(AND(C22=\"\",WEEKDAY(A22,2)<6),ColTime(T.!$J$4,T.!$L$4,D22,E22),\"\")","v":""},null,{"$f":"IFERROR(IF(AND(WEEKDAY(A22,2)<6,C23<>\"\",E22<D22,C22=\"\"),ColTime($AE$1,$AF$1,D22,E22),IF(AND(OR(WEEKDAY(A22,2)=7,C22<>\"\"),E22<D22,C23=\"\"),ColTime($AF$1,$AG$1,'Hele året'!$AF$1,E22),IF(AND(WEEKDAY(A22,2)<6,C23=\"\"),ColTime(T.!$J$5,T.!$L$5,D22,E22),\"\"))),\"\")","v":""},null,"00:00:00",{"$f":"IFERROR(IF(AND(WEEKDAY(A22,2)<6,C23<>\"\",C22=\"\"),ColTime(T.!$J$7,T.!$L$7,$AF$1,'Hele året'!E22),IF(AND(C22<>\"\",C23<>\"\"),ColTime(T.!$J$7,T.!$L$7,'Hele året'!D22,'Hele året'!E22),IF(AND(OR(WEEKDAY(A22,2)<6,WEEKDAY(A22,2)=6),C22<>\"\",E22<D22),ColTime(T.!$J$7,T.!$L$7,D22,AF19),IF(AND(WEEKDAY(A22,2)=6,E22<D22),ColTime(T.!$J$7,T.!$L$7,$AF$1,E22),IF(AND(E22<D22,OR(C22<>\"\",WEEKDAY(A22,2)=7)),ColTime(T.!J25,T.!L25,D22,$AF$1),IF(AND(E22<>\"\",OR(C22<>\"\",WEEKDAY(A22,2)=7)),ColTime(T.!$J$7,T.!$L$7,D22,E22),\"\")))))),\"\")","v":""},"",null,null,{"$f":"CHOOSE(WEEKDAY(A22,2),norm!C$1,norm!C$2,norm!C$3,norm!C$4,norm!C$5,norm!C$6,norm!C$7)","v":"00:00:00"}]
["2019-01-20","Sø","","16:00:00","20:00:00",null,0.16666666666666674,"00:00:00","04:00:00",{"$f":"IF(AND(C23=\"\",WEEKDAY(A23,2)<6),ColTime(T.!$J$4,T.!$L$4,D23,E23),\"\")","v":""},null,{"$f":"IFERROR(IF(AND(WEEKDAY(A23,2)<6,C24<>\"\",E23<D23,C23=\"\"),ColTime($AE$1,$AF$1,D23,E23),IF(AND(OR(WEEKDAY(A23,2)=7,C23<>\"\"),E23<D23,C24=\"\"),ColTime($AF$1,$AG$1,'Hele året'!$AF$1,E23),IF(AND(WEEKDAY(A23,2)<6,C24=\"\"),ColTime(T.!$J$5,T.!$L$5,D23,E23),\"\"))),\"\")","v":""},null,"",{"$f":"IFERROR(IF(AND(WEEKDAY(A23,2)<6,C24<>\"\",C23=\"\"),ColTime(T.!$J$7,T.!$L$7,$AF$1,'Hele året'!E23),IF(AND(C23<>\"\",C24<>\"\"),ColTime(T.!$J$7,T.!$L$7,'Hele året'!D23,'Hele året'!E23),IF(AND(OR(WEEKDAY(A23,2)<6,WEEKDAY(A23,2)=6),C23<>\"\",E23<D23),ColTime(T.!$J$7,T.!$L$7,D23,AF20),IF(AND(WEEKDAY(A23,2)=6,E23<D23),ColTime(T.!$J$7,T.!$L$7,$AF$1,E23),IF(AND(E23<D23,OR(C23<>\"\",WEEKDAY(A23,2)=7)),ColTime(T.!J26,T.!L26,D23,$AF$1),IF(AND(E23<>\"\",OR(C23<>\"\",WEEKDAY(A23,2)=7)),ColTime(T.!$J$7,T.!$L$7,D23,E23),\"\")))))),\"\")","v":"04:00:00"},"04:00:00",null,null,{"$f":"CHOOSE(WEEKDAY(A23,2),norm!C$1,norm!C$2,norm!C$3,norm!C$4,norm!C$5,norm!C$6,norm!C$7)","v":"00:00:00"}]
["2019-01-21","Ma","",null,null,null,"","00:00:00","",{"$f":"IF(AND(C24=\"\",WEEKDAY(A24,2)<6),ColTime(T.!$J$4,T.!$L$4,D24,E24),\"\")","v":"00:00:00"},null,{"$f":"IFERROR(IF(AND(WEEKDAY(A24,2)<6,C25<>\"\",E24<D24,C24=\"\"),ColTime($AE$1,$AF$1,D24,E24),IF(AND(OR(WEEKDAY(A24,2)=7,C24<>\"\"),E24<D24,C25=\"\"),ColTime($AF$1,$AG$1,'Hele året'!$AF$1,E24),IF(AND(WEEKDAY(A24,2)<6,C25=\"\"),ColTime(T.!$J$5,T.!$L$5,D24,E24),\"\"))),\"\")","v":"00:00:00"},null,"",{"$f":"IFERROR(IF(AND(WEEKDAY(A24,2)<6,C25<>\"\",C24=\"\"),ColTime(T.!$J$7,T.!$L$7,$AF$1,'Hele året'!E24),IF(AND(C24<>\"\",C25<>\"\"),ColTime(T.!$J$7,T.!$L$7,'Hele året'!D24,'Hele året'!E24),IF(AND(OR(WEEKDAY(A24,2)<6,WEEKDAY(A24,2)=6),C24<>\"\",E24<D24),ColTime(T.!$J$7,T.!$L$7,D24,AF21),IF(AND(WEEKDAY(A24,2)=6,E24<D24),ColTime(T.!$J$7,T.!$L$7,$AF$1,E24),IF(AND(E24<D24,OR(C24<>\"\",WEEKDAY(A24,2)=7)),ColTime(T.!J27,T.!L27,D24,$AF$1),IF(AND(E24<>\"\",OR(C24<>\"\",WEEKDAY(A24,2)=7)),ColTime(T.!$J$7,T.!$L$7,D24,E24),\"\")))))),\"\")","v":""},"",null,null,{"$f":"CHOOSE(WEEKDAY(A24,2),norm!C$1,norm!C$2,norm!C$3,norm!C$4,norm!C$5,norm!C$6,norm!C$7)","v":"07:30:00"},null,null,{"$f":"IF(D24=\"\",\"\",HOUR(D24))","v":""},{"$f":"IF(D24=\"\",\"\",MINUTE(D24))","v":""},{"$f":"IF(D24=\"\",\"\",TIME(HOUR(D24),MINUTE(D24),0))","v":""},{"$f":"IF(E24=\"\",\"\",HOUR(E24))","v":""},{"$f":"IF(E24=\"\",\"\",MINUTE(E24))","v":""},{"$f":"IF(E24=\"\",\"\",TIME(HOUR(E24),MINUTE(E24),0))","v":""}]
[{"$f":"A24+1","v":"2019-01-22"},{"$f":"PROPER(TEXT(A25,\"ddd\"))","v":"Ti"},{"$f":"HelligdagsNavn(A25,0,0)","v":""},null,null,null,"","00:00:00","",{"$f":"IF(AND(C25=\"\",WEEKDAY(A25,2)<6),ColTime(T.!$J$4,T.!$L$4,D25,E25),\"\")","v":"00:00:00"},null,{"$f":"IFERROR(IF(AND(WEEKDAY(A25,2)<6,C26<>\"\",E25<D25,C25=\"\"),ColTime($AE$1,$AF$1,D25,E25),IF(AND(OR(WEEKDAY(A25,2)=7,C25<>\"\"),E25<D25,C26=\"\"),ColTime($AF$1,$AG$1,'Hele året'!$AF$1,E25),IF(AND(WEEKDAY(A25,2)<6,C26=\"\"),ColTime(T.!$J$5,T.!$L$5,D25,E25),\"\"))),\"\")","v":"00:00:00"},null,"",{"$f":"IFERROR(IF(AND(WEEKDAY(A25,2)<6,C26<>\"\",C25=\"\"),ColTime(T.!$J$7,T.!$L$7,$AF$1,'Hele året'!E25),IF(AND(C25<>\"\",C26<>\"\"),ColTime(T.!$J$7,T.!$L$7,'Hele året'!D25,'Hele året'!E25),IF(AND(OR(WEEKDAY(A25,2)<6,WEEKDAY(A25,2)=6),C25<>\"\",E25<D25),ColTime(T.!$J$7,T.!$L$7,D25,AF22),IF(AND(WEEKDAY(A25,2)=6,E25<D25),ColTime(T.!$J$7,T.!$L$7,$AF$1,E25),IF(AND(E25<D25,OR(C25<>\"\",WEEKDAY(A25,2)=7)),ColTime(T.!J28,T.!L28,D25,$AF$1),IF(AND(E25<>\"\",OR(C25<>\"\",WEEKDAY(A25,2)=7)),ColTime(T.!$J$7,T.!$L$7,D25,E25),\"\")))))),\"\")","v":""},"",null,null,{"$f":"CHOOSE(WEEKDAY(A25,2),norm!C$1,norm!C$2,norm!C$3,norm!C$4,norm!C$5,norm!C$6,norm!C$7)","v":"07:30:00"},null,null,"","","","","",""]
[{"$f":"A25+1","v":"2019-01-23"},{"$f":"PROPER(TEXT(A26,\"ddd\"))","v":"On"},{"$f":"HelligdagsNavn(A26,0,0)","v":""},null,null,null,"","00:00:00","",{"$f":"IF(AND(C26=\"\",WEEKDAY(A26,2)<6),ColTime(T.!$J$4,T.!$L$4,D26,E26),\"\")","v":"00:00:00"},null,{"$f":"IFERROR(IF(AND(WEEKDAY(A26,2)<6,C27<>\"\",E26<D26,C26=\"\"),ColTime($AE$1,$AF$1,D26,E26),IF(AND(OR(WEEKDAY(A26,2)=7,C26<>\"\"),E26<D26,C27=\"\"),ColTime($AF$1,$AG$1,'Hele året'!$AF$1,E26),IF(AND(WEEKDAY(A26,2)<6,C27=\"\"),ColTime(T.!$J$5,T.!$L$5,D26,E26),\"\"))),\"\")","v":"00:00:00"},null,"",{"$f":"IFERROR(IF(AND(WEEKDAY(A26,2)<6,C27<>\"\",C26=\"\"),ColTime(T.!$J$7,T.!$L$7,$AF$1,'Hele året'!E26),IF(AND(C26<>\"\",C27<>\"\"),ColTime(T.!$J$7,T.!$L$7,'Hele året'!D26,'Hele året'!E26),IF(AND(OR(WEEKDAY(A26,2)<6,WEEKDAY(A26,2)=6),C26<>\"\",E26<D26),ColTime(T.!$J$7,T.!$L$7,D26,AF23),IF(AND(WEEKDAY(A26,2)=6,E26<D26),ColTime(T.!$J$7,T.!$L$7,$AF$1,E26),IF(AND(E26<D26,OR(C26<>\"\",WEEKDAY(A26,2)=7)),ColTime(T.!J29,T.!L29,D26,$AF$1),IF(AND(E26<>\"\",OR(C26<>\"\",WEEKDAY(A26,2)=7)),ColTime(T.!$J$7,T.!$L$7,D26,E26),\"\")))))),\"\")","v":""},"",null,null,{"$f":"CHOOSE(WEEKDAY(A26,2),norm!C$1,norm!C$2,norm!C$3,norm!C$4,norm!C$5,norm!C$6,norm!C$7)","v":"07:30:00"},null,null,"","","","","",""]
[{"$f":"A26+1","v":"2019-01-24"},{"$f":"PROPER(TEXT(A27,\"ddd\"))","v":"To"},"",null,null,null,"","00:00:00","",{"$f":"IF(AND(C27=\"\",WEEKDAY(A27,2)<6),ColTime(T.!$J$4,T.!$L$4,D27,E27),\"\")","v":"00:00:00"},null,{"$f":"IFERROR(IF(AND(WEEKDAY(A27,2)<6,C28<>\"\",E27<D27,C27=\"\"),ColTime($AE$1,$AF$1,D27,E27),IF(AND(OR(WEEKDAY(A27,2)=7,C27<>\"\"),E27<D27,C28=\"\"),ColTime($AF$1,$AG$1,'Hele året'!$AF$1,E27),IF(AND(WEEKDAY(A27,2)<6,C28=\"\"),ColTime(T.!$J$5,T.!$L$5,D27,E27),\"\"))),\"\")","v":"00:00:00"},null,"",{"$f":"IFERROR(IF(AND(WEEKDAY(A27,2)<6,C28<>\"\",C27=\"\"),ColTime(T.!$J$7,T.!$L$7,$AF$1,'Hele året'!E27),IF(AND(C27<>\"\",C28<>\"\"),ColTime(T.!$J$7,T.!$L$7,'Hele året'!D27,'Hele året'!E27),IF(AND(OR(WEEKDAY(A27,2)<6,WEEKDAY(A27,2)=6),C27<>\"\",E27<D27),ColTime(T.!$J$7,T.!$L$7,D27,AF24),IF(AND(WEEKDAY(A27,2)=6,E27<D27),ColTime(T.!$J$7,T.!$L$7,$AF$1,E27),IF(AND(E27<D27,OR(C27<>\"\",WEEKDAY(A27,2)=7)),ColTime(T.!J30,T.!L30,D27,$AF$1),IF(AND(E27<>\"\",OR(C27<>\"\",WEEKDAY(A27,2)=7)),ColTime(T.!$J$7,T.!$L$7,D27,E27),\"\")))))),\"\")","v":""},"",null,null,{"$f":"CHOOSE(WEEKDAY(A27,2),norm!C$1,norm!C$2,norm!C$3,norm!C$4,norm!C$5,norm!C$6,norm!C$7)","v":"07:30:00"},null,null,"","","","","",""]
["2019-01-25","Fr","",null,null,null,"","00:00:00","",{"$f":"IF(AND(C28=\"\",WEEKDAY(A28,2)<6),ColTime(T.!$J$4,T.!$L$4,D28,E28),\"\")","v":"00:00:00"},null,{"$f":"IFERROR(IF(AND(WEEKDAY(A28,2)<6,C29<>\"\",E28<D28,C28=\"\"),ColTime($AE$1,$AF$1,D28,E28),IF(AND(OR(WEEKDAY(A28,2)=7,C28<>\"\"),E28<D28,C29=\"\"),ColTime($AF$1,$AG$1,'Hele året'!$AF$1,E28),IF(AND(WEEKDAY(A28,2)<6,C29=\"\"),ColTime(T.!$J$5,T.!$L$5,D28,E28),\"\"))),\"\")","v":"00:00:00"},null,"",{"$f":"IFERROR(IF(AND(WEEKDAY(A28,2)<6,C29<>\"\",C28=\"\"),ColTime(T.!$J$7,T.!$L$7,$AF$1,'Hele året'!E28),IF(AND(C28<>\"\",C29<>\"\"),ColTime(T.!$J$7,T.!$L$7,'Hele året'!D28,'Hele året'!E28),IF(AND(OR(WEEKDAY(A28,2)<6,WEEKDAY(A28,2)=6),C28<>\"\",E28<D28),ColTime(T.!$J$7,T.!$L$7,D28,AF25),IF(AND(WEEKDAY(A28,2)=6,E28<D28),ColTime(T.!$J$7,T.!$L$7,$AF$1,E28),IF(AND(E28<D28,OR(C28<>\"\",WEEKDAY(A28,2)=7)),ColTime(T.!J31,T.!L31,D28,$AF$1),IF(AND(E28<>\"\",OR(C28<>\"\",WEEKDAY(A28,2)=7)),ColTime(T.!$J$7,T.!$L$7,D28,E28),\"\")))))),\"\")","v":""},"",null,null,{"$f":"CHOOSE(WEEKDAY(A28,2),norm!C$1,norm!C$2,norm!C$3,norm!C$4,norm!C$5,norm!C$6,norm!C$7)","v":"07:00:00"},null,null,"","","","","",""]
["2019-01-26","Lø","",null,null,null,"","00:00:00","",{"$f":"IF(AND(C29=\"\",WEEKDAY(A29,2)<6),ColTime(T.!$J$4,T.!$L$4,D29,E29),\"\")","v":""},null,{"$f":"IFERROR(IF(AND(WEEKDAY(A29,2)<6,C30<>\"\",E29<D29,C29=\"\"),ColTime($AE$1,$AF$1,D29,E29),IF(AND(OR(WEEKDAY(A29,2)=7,C29<>\"\"),E29<D29,C30=\"\"),ColTime($AF$1,$AG$1,'Hele året'!$AF$1,E29),IF(AND(WEEKDAY(A29,2)<6,C30=\"\"),ColTime(T.!$J$5,T.!$L$5,D29,E29),\"\"))),\"\")","v":""},null,"00:00:00",{"$f":"IFERROR(IF(AND(WEEKDAY(A29,2)<6,C30<>\"\",C29=\"\"),ColTime(T.!$J$7,T.!$L$7,$AF$1,'Hele året'!E29),IF(AND(C29<>\"\",C30<>\"\"),ColTime(T.!$J$7,T.!$L$7,'Hele året'!D29,'Hele året'!E29),IF(AND(OR(WEEKDAY(A29,2)<6,WEEKDAY(A29,2)=6),C29<>\"\",E29<D29),ColTime(T.!$J$7,T.!$L$7,D29,AF26),IF(AND(WEEKDAY(A29,2)=6,E29<D29),ColTime(T.!$J$7,T.!$L$7,$AF$1,E29),IF(AND(E29<D29,OR(C29<>\"\",WEEKDAY(A29,2)=7)),ColTime(T.!J32,T.!L32,D29,$AF$1),IF(AND(E29<>\"\",OR(C29<>\"\",WEEKDAY(A29,2)=7)),ColTime(T.!$J$7,T.!$L$7,D29,E29),\"\")))))),\"\")","v":""},"",null,null,{"$f":"CHOOSE(WEEKDAY(A29,2),norm!C$1,norm!C$2,norm!C$3,norm!C$4,norm!C$5,norm!C$6,norm!C$7)","v":"00:00:00"}]
["2019-01-27","Sø","",null,null,null,"","00:00:00","",{"$f":"IF(AND(C30=\"\",WEEKDAY(A30,2)<6),ColTime(T.!$J$4,T.!$L$4,D30,E30),\"\")","v":""},null,{"$f":"IFERROR(IF(AND(WEEKDAY(A30,2)<6,C31<>\"\",E30<D30,C30=\"\"),ColTime($AE$1,$AF$1,D30,E30),IF(AND(OR(WEEKDAY(A30,2)=7,C30<>\"\"),E30<D30,C31=\"\"),ColTime($AF$1,$AG$1,'Hele året'!$AF$1,E30),IF(AND(WEEKDAY(A30,2)<6,C31=\"\"),ColTime(T.!$J$5,T.!$L$5,D30,E30),\"\"))),\"\")","v":""},null,"",{"$f":"IFERROR(IF(AND(WEEKDAY(A30,2)<6,C31<>\"\",C30=\"\"),ColTime(T.!$J$7,T.!$L$7,$AF$1,'Hele året'!E30),IF(AND(C30<>\"\",C31<>\"\"),ColTime(T.!$J$7,T.!$L$7,'Hele året'!D30,'Hele året'!E30),IF(AND(OR(WEEKDAY(A30,2)<6,WEEKDAY(A30,2)=6),C30<>\"\",E30<D30),ColTime(T.!$J$7,T.!$L$7,D30,AF27),IF(AND(WEEKDAY(A30,2)=6,E30<D30),ColTime(T.!$J$7,T.!$L$7,$AF$1,E30),IF(AND(E30<D30,OR(C30<>\"\",WEEKDAY(A30,2)=7)),ColTime(T.!J33,T.!L33,D30,$AF$1),IF(AND(E30<>\"\",OR(C30<>\"\",WEEKDAY(A30,2)=7)),ColTime(T.!$J$7,T.!$L$7,D30,E30),\"\")))))),\"\")","v":""},"",null,null,{"$f":"CHOOSE(WEEKDAY(A30,2),norm!C$1,norm!C$2,norm!C$3,norm!C$4,norm!C$5,norm!C$6,norm!C$7)","v":"00:00:00"}]
["2019-01-28","Ma","",null,null,null,"","00:00:00","",{"$f":"IF(AND(C31=\"\",WEEKDAY(A31,2)<6),ColTime(T.!$J$4,T.!$L$4,D31,E31),\"\")","v":"00:00:00"},null,{"$f":"IFERROR(IF(AND(WEEKDAY(A31,2)<6,C32<>\"\",E31<D31,C31=\"\"),ColTime($AE$1,$AF$1,D31,E31),IF(AND(OR(WEEKDAY(A31,2)=7,C31<>\"\"),E31<D31,C32=\"\"),ColTime($AF$1,$AG$1,'Hele året'!$AF$1,E31),IF(AND(WEEKDAY(A31,2)<6,C32=\"\"),ColTime(T.!$J$5,T.!$L$5,D31,E31),\"\"))),\"\")","v":"00:00:00"},null,"",{"$f":"IFERROR(IF(AND(WEEKDAY(A31,2)<6,C32<>\"\",C31=\"\"),ColTime(T.!$J$7,T.!$L$7,$AF$1,'Hele året'!E31),IF(AND(C31<>\"\",C32<>\"\"),ColTime(T.!$J$7,T.!$L$7,'Hele året'!D31,'Hele året'!E31),IF(AND(OR(WEEKDAY(A31,2)<6,WEEKDAY(A31,2)=6),C31<>\"\",E31<D31),ColTime(T.!$J$7,T.!$L$7,D31,AF28),IF(AND(WEEKDAY(A31,2)=6,E31<D31),ColTime(T.!$J$7,T.!$L$7,$AF$1,E31),IF(AND(E31<D31,OR(C31<>\"\",WEEKDAY(A31,2)=7)),ColTime(T.!J34,T.!L34,D31,$AF$1),IF(AND(E31<>\"\",OR(C31<>\"\",WEEKDAY(A31,2)=7)),ColTime(T.!$J$7,T.!$L$7,D31,E31),\"\")))))),\"\")","v":""},"",null,null,{"$f":"CHOOSE(WEEKDAY(A31,2),norm!C$1,norm!C$2,norm!C$3,norm!C$4,norm!C$5,norm!C$6,norm!C$7)","v":"07:30:00"}]
["2019-01-29","Ti",{"$f":"IF(A32=\"\",\"\",HelligdagsNavn(A32,0,0))","v":""},null,null,null,"","00:00:00","",{"$f":"IF(AND(C32=\"\",WEEKDAY(A32,2)<6),ColTime(T.!$J$4,T.!$L$4,D32,E32),\"\")","v":"00:00:00"},null,{"$f":"IFERROR(IF(AND(WEEKDAY(A32,2)<6,C33<>\"\",E32<D32,C32=\"\"),ColTime($AE$1,$AF$1,D32,E32),IF(AND(OR(WEEKDAY(A32,2)=7,C32<>\"\"),E32<D32,C33=\"\"),ColTime($AF$1,$AG$1,'Hele året'!$AF$1,E32),IF(AND(WEEKDAY(A32,2)<6,C33=\"\"),ColTime(T.!$J$5,T.!$L$5,D32,E32),\"\"))),\"\")","v":"00:00:00"},null,"",{"$f":"IFERROR(IF(AND(WEEKDAY(A32,2)<6,C33<>\"\",C32=\"\"),ColTime(T.!$J$7,T.!$L$7,$AF$1,'Hele året'!E32),IF(AND(C32<>\"\",C33<>\"\"),ColTime(T.!$J$7,T.!$L$7,'Hele året'!D32,'Hele året'!E32),IF(AND(OR(WEEKDAY(A32,2)<6,WEEKDAY(A32,2)=6),C32<>\"\",E32<D32),ColTime(T.!$J$7,T.!$L$7,D32,AF29),IF(AND(WEEKDAY(A32,2)=6,E32<D32),ColTime(T.!$J$7,T.!$L$7,$AF$1,E32),IF(AND(E32<D32,OR(C32<>\"\",WEEKDAY(A32,2)=7)),ColTime(T.!J35,T.!L35,D32,$AF$1),IF(AND(E32<>\"\",OR(C32<>\"\",WEEKDAY(A32,2)=7)),ColTime(T.!$J$7,T.!$L$7,D32,E32),\"\")))))),\"\")","v":""},"",null,null,{"$f":"IFERROR(CHOOSE(WEEKDAY(A32,2),norm!C$1,norm!C$2,norm!C$3,norm!C$4,norm!C$5,norm!C$6,norm!C$7),\"\")","v":"07:30:00"}]
["2019-01-30","On","",null,null,null,"","00:00:00","",{"$f":"IF(AND(C33=\"\",WEEKDAY(A33,2)<6),ColTime(T.!$J$4,T.!$L$4,D33,E33),\"\")","v":"00:00:00"},null,{"$f":"IFERROR(IF(AND(WEEKDAY(A33,2)<6,C34<>\"\",E33<D33,C33=\"\"),ColTime($AE$1,$AF$1,D33,E33),IF(AND(OR(WEEKDAY(A33,2)=7,C33<>\"\"),E33<D33,C34=\"\"),ColTime($AF$1,$AG$1,'Hele året'!$AF$1,E33),IF(AND(WEEKDAY(A33,2)<6,C34=\"\"),ColTime(T.!$J$5,T.!$L$5,D33,E33),\"\"))),\"\")","v":"00:00:00"},null,"",{"$f":"IFERROR(IF(AND(WEEKDAY(A33,2)<6,C34<>\"\",C33=\"\"),ColTime(T.!$J$7,T.!$L$7,$AF$1,'Hele året'!E33),IF(AND(C33<>\"\",C34<>\"\"),ColTime(T.!$J$7,T.!$L$7,'Hele året'!D33,'Hele året'!E33),IF(AND(OR(WEEKDAY(A33,2)<6,WEEKDAY(A33,2)=6),C33<>\"\",E33<D33),ColTime(T.!$J$7,T.!$L$7,D33,AF30),IF(AND(WEEKDAY(A33,2)=6,E33<D33),ColTime(T.!$J$7,T.!$L$7,$AF$1,E33),IF(AND(E33<D33,OR(C33<>\"\",WEEKDAY(A33,2)=7)),ColTime(T.!J36,T.!L36,D33,$AF$1),IF(AND(E33<>\"\",OR(C33<>\"\",WEEKDAY(A33,2)=7)),ColTime(T.!$J$7,T.!$L$7,D33,E33),\"\")))))),\"\")","v":""},"",null,null,{"$f":"IFERROR(CHOOSE(WEEKDAY(A33,2),norm!C$1,norm!C$2,norm!C$3,norm!C$4,norm!C$5,norm!C$6,norm!C$7),\"\")","v":"07:30:00"}]
["2019-01-31",{"$f":"IFERROR(PROPER(TEXT(A34,\"ddd\")),\"\")","v":"To"},{"$f":"IF(A34=\"\",\"\",HelligdagsNavn(A34,0,0))","v":""},null,null,null,"","00:00:00","",{"$f":"IF(AND(C34=\"\",WEEKDAY(A34,2)<6),ColTime(T.!$J$4,T.!$L$4,D34,E34),\"\")","v":"00:00:00"},null,{"$f":"IFERROR(IF(AND(WEEKDAY(A34,2)<6,C35<>\"\",E34<D34,C34=\"\"),ColTime($AE$1,$AF$1,D34,E34),IF(AND(OR(WEEKDAY(A34,2)=7,C34<>\"\"),E34<D34,C35=\"\"),ColTime($AF$1,$AG$1,'Hele året'!$AF$1,E34),IF(AND(WEEKDAY(A34,2)<6,C35=\"\"),ColTime(T.!$J$5,T.!$L$5,D34,E34),\"\"))),\"\")","v":"00:00:00"},null,"",{"$f":"IFERROR(IF(AND(WEEKDAY(A34,2)<6,C35<>\"\",C34=\"\"),ColTime(T.!$J$7,T.!$L$7,$AF$1,'Hele året'!E34),IF(AND(C34<>\"\",C35<>\"\"),ColTime(T.!$J$7,T.!$L$7,'Hele året'!D34,'Hele året'!E34),IF(AND(OR(WEEKDAY(A34,2)<6,WEEKDAY(A34,2)=6),C34<>\"\",E34<D34),ColTime(T.!$J$7,T.!$L$7,D34,AF31),IF(AND(WEEKDAY(A34,2)=6,E34<D34),ColTime(T.!$J$7,T.!$L$7,$AF$1,E34),IF(AND(E34<D34,OR(C34<>\"\",WEEKDAY(A34,2)=7)),ColTime(T.!J37,T.!L37,D34,$AF$1),IF(AND(E34<>\"\",OR(C34<>\"\",WEEKDAY(A34,2)=7)),ColTime(T.!$J$7,T.!$L$7,D34,E34),\"\")))))),\"\")","v":""},"",null,null,{"$f":"IFERROR(CHOOSE(WEEKDAY(A34,2),norm!C$1,norm!C$2,norm!C$3,norm!C$4,norm!C$5,norm!C$6,norm!C$7),\"\")","v":"07:30:00"},null,null,{"$f":"IF(D34=\"\",\"\",HOUR(D34))","v":""},{"$f":"IF(D34=\"\",\"\",MINUTE(D34))","v":""},{"$f":"IF(D34=\"\",\"\",TIME(HOUR(D34),MINUTE(D34),0))","v":""},{"$f":"IF(E34=\"\",\"\",HOUR(E34))","v":""},{"$f":"IF(E34=\"\",\"\",MINUTE(E34))","v":""},{"$f":"IF(E34=\"\",\"\",TIME(HOUR(E34),MINUTE(E34),0))","v":""}]
["2019-02-01",{"$f":"IFERROR(PROPER(TEXT(A35,\"ddd\")),\"\")","v":"Fr"},{"$f":"IF(A35=\"\",\"\",HelligdagsNavn(A35,0,0))","v":""},null,null,null,{"$f":"IF(D35=\"\",\"\",(E35-D35)+(D35>E35)-F35)","v":""},{"$f":"IF(G35=\"\",0,IF(WEEKDAY(A35,2)=7,0,IF(G35>S35,MIN(G35-S35,$AI$1),0)))","v":"00:00:00"},{"$f":"IF(G35=\"\",\"\",IF(G35>S35+H35,G35-(S35+H35),\"\"))","v":""},{"$f":"IF(AND(C35=\"\",WEEKDAY(A35,2)<6),ColTime(T.!$J$4,T.!$L$4,D35,E35),\"\")","v":"00:00:00"},null,{"$f":"IFERROR(IF(AND(WEEKDAY(A35,2)<6,C36<>\"\",E35<D35,C35=\"\"),ColTime($AE$1,$AF$1,D35,E35),IF(AND(OR(WEEKDAY(A35,2)=7,C35<>\"\"),E35<D35,C36=\"\"),ColTime($AF$1,$AG$1,'Hele året'!$AF$1,E35),IF(AND(WEEKDAY(A35,2)<6,C36=\"\"),ColTime(T.!$J$5,T.!$L$5,D35,E35),\"\"))),\"\")","v":"00:00:00"},null,"",{"$f":"IFERROR(IF(AND(WEEKDAY(A35,2)<6,C36<>\"\",C35=\"\"),ColTime(T.!$J$7,T.!$L$7,$AF$1,'Hele året'!E35),IF(AND(C35<>\"\",C36<>\"\"),ColTime(T.!$J$7,T.!$L$7,'Hele året'!D35,'Hele året'!E35),IF(AND(OR(WEEKDAY(A35,2)<6,WEEKDAY(A35,2)=6),C35<>\"\",E35<D35),ColTime(T.!$J$7,T.!$L$7,D35,AF32),IF(AND(WEEKDAY(A35,2)=6,E35<D35),ColTime(T.!$J$7,T.!$L$7,$AF$1,E35),IF(AND(E35<D35,OR(C35<>\"\",WEEKDAY(A35,2)=7)),ColTime(T.!J38,T.!L38,D35,$AF$1),IF(AND(E35<>\"\",OR(C35<>\"\",WEEKDAY(A35,2)=7)),ColTime(T.!$J$7,T.!$L$7,D35,E35),\"\")))))),\"\")","v":""},"",null,null,{"$f":"IFERROR(CHOOSE(WEEKDAY(A35,2),norm!C$1,norm!C$2,norm!C$3,norm!C$4,norm!C$5,norm!C$6,norm!C$7),\"\")","v":"07:00:00"}]
["2019-02-02","Lø","",null,null,null,"","00:00:00","",{"$f":"IF(AND(C36=\"\",WEEKDAY(A36,2)<6),ColTime(T.!$J$4,T.!$L$4,D36,E36),\"\")","v":""},null,{"$f":"IFERROR(IF(AND(WEEKDAY(A36,2)<6,C37<>\"\",E36<D36,C36=\"\"),ColTime($AE$1,$AF$1,D36,E36),IF(AND(OR(WEEKDAY(A36,2)=7,C36<>\"\"),E36<D36,C37=\"\"),ColTime($AF$1,$AG$1,'Hele året'!$AF$1,E36),IF(AND(WEEKDAY(A36,2)<6,C37=\"\"),ColTime(T.!$J$5,T.!$L$5,D36,E36),\"\"))),\"\")","v":""},null,"00:00:00",{"$f":"IFERROR(IF(AND(WEEKDAY(A36,2)<6,C37<>\"\",C36=\"\"),ColTime(T.!$J$7,T.!$L$7,$AF$1,'Hele året'!E36),IF(AND(C36<>\"\",C37<>\"\"),ColTime(T.!$J$7,T.!$L$7,'Hele året'!D36,'Hele året'!E36),IF(AND(OR(WEEKDAY(A36,2)<6,WEEKDAY(A36,2)=6),C36<>\"\",E36<D36),ColTime(T.!$J$7,T.!$L$7,D36,AF33),IF(AND(WEEKDAY(A36,2)=6,E36<D36),ColTime(T.!$J$7,T.!$L$7,$AF$1,E36),IF(AND(E36<D36,OR(C36<>\"\",WEEKDAY(A36,2)=7)),ColTime(T.!J39,T.!L39,D36,$AF$1),IF(AND(E36<>\"\",OR(C36<>\"\",WEEKDAY(A36,2)=7)),ColTime(T.!$J$7,T.!$L$7,D36,E36),\"\")))))),\"\")","v":""},"",null,null,{"$f":"IFERROR(CHOOSE(WEEKDAY(A36,2),norm!C$1,norm!C$2,norm!C$3,norm!C$4,norm!C$5,norm!C$6,norm!C$7),\"\")","v":"00:00:00"}]
["2019-02-03","Sø","",null,null,null,"","00:00:00","",{"$f":"IF(AND(C37=\"\",WEEKDAY(A37,2)<6),ColTime(T.!$J$4,T.!$L$4,D37,E37),\"\")","v":""},null,{"$f":"IFERROR(IF(AND(WEEKDAY(A37,2)<6,C38<>\"\",E37<D37,C37=\"\"),ColTime($AE$1,$AF$1,D37,E37),IF(AND(OR(WEEKDAY(A37,2)=7,C37<>\"\"),E37<D37,C38=\"\"),ColTime($AF$1,$AG$1,'Hele året'!$AF$1,E37),IF(AND(WEEKDAY(A37,2)<6,C38=\"\"),ColTime(T.!$J$5,T.!$L$5,D37,E37),\"\"))),\"\")","v":""},null,"",{"$f":"IFERROR(IF(AND(WEEKDAY(A37,2)<6,C38<>\"\",C37=\"\"),ColTime(T.!$J$7,T.!$L$7,$AF$1,'Hele året'!E37),IF(AND(C37<>\"\",C38<>\"\"),ColTime(T.!$J$7,T.!$L$7,'Hele året'!D37,'Hele året'!E37),IF(AND(OR(WEEKDAY(A37,2)<6,WEEKDAY(A37,2)=6),C37<>\"\",E37<D37),ColTime(T.!$J$7,T.!$L$7,D37,AF34),IF(AND(WEEKDAY(A37,2)=6,E37<D37),ColTime(T.!$J$7,T.!$L$7,$AF$1,E37),IF(AND(E37<D37,OR(C37<>\"\",WEEKDAY(A37,2)=7)),ColTime(T.!J40,T.!L40,D37,$AF$1),IF(AND(E37<>\"\",OR(C37<>\"\",WEEKDAY(A37,2)=7)),ColTime(T.!$J$7,T.!$L$7,D37,E37),\"\")))))),\"\")","v":""},"",null,null,{"$f":"IFERROR(CHOOSE(WEEKDAY(A37,2),norm!C$1,norm!C$2,norm!C$3,norm!C$4,norm!C$5,norm!C$6,norm!C$7),\"\")","v":"00:00:00"}]
["2019-02-04","Ma","",null,null,null,"","00:00:00","",{"$f":"IF(AND(C38=\"\",WEEKDAY(A38,2)<6),ColTime(T.!$J$4,T.!$L$4,D38,E38),\"\")","v":"00:00:00"},null,{"$f":"IFERROR(IF(AND(WEEKDAY(A38,2)<6,C39<>\"\",E38<D38,C38=\"\"),ColTime($AE$1,$AF$1,D38,E38),IF(AND(OR(WEEKDAY(A38,2)=7,C38<>\"\"),E38<D38,C39=\"\"),ColTime($AF$1,$AG$1,'Hele året'!$AF$1,E38),IF(AND(WEEKDAY(A38,2)<6,C39=\"\"),ColTime(T.!$J$5,T.!$L$5,D38,E38),\"\"))),\"\")","v":"00:00:00"},null,"",{"$f":"IFERROR(IF(AND(WEEKDAY(A38,2)<6,C39<>\"\",C38=\"\"),ColTime(T.!$J$7,T.!$L$7,$AF$1,'Hele året'!E38),IF(AND(C38<>\"\",C39<>\"\"),ColTime(T.!$J$7,T.!$L$7,'Hele året'!D38,'Hele året'!E38),IF(AND(OR(WEEKDAY(A38,2)<6,WEEKDAY(A38,2)=6),C38<>\"\",E38<D38),ColTime(T.!$J$7,T.!$L$7,D38,AF35),IF(AND(WEEKDAY(A38,2)=6,E38<D38),ColTime(T.!$J$7,T.!$L$7,$AF$1,E38),IF(AND(E38<D38,OR(C38<>\"\",WEEKDAY(A38,2)=7)),ColTime(T.!J41,T.!L41,D38,$AF$1),IF(AND(E38<>\"\",OR(C38<>\"\",WEEKDAY(A38,2)=7)),ColTime(T.!$J$7,T.!$L$7,D38,E38),\"\")))))),\"\")","v":""},"",null,null,{"$f":"IFERROR(CHOOSE(WEEKDAY(A38,2),norm!C$1,norm!C$2,norm!C$3,norm!C$4,norm!C$5,norm!C$6,norm!C$7),\"\")","v":"07:30:00"}]
["2019-02-05","Ti","",null,null,null,"","00:00:00","",{"$f":"IF(AND(C39=\"\",WEEKDAY(A39,2)<6),ColTime(T.!$J$4,T.!$L$4,D39,E39),\"\")","v":"00:00:00"},null,{"$f":"IFERROR(IF(AND(WEEKDAY(A39,2)<6,C40<>\"\",E39<D39,C39=\"\"),ColTime($AE$1,$AF$1,D39,E39),IF(AND(OR(WEEKDAY(A39,2)=7,C39<>\"\"),E39<D39,C40=\"\"),ColTime($AF$1,$AG$1,'Hele året'!$AF$1,E39),IF(AND(WEEKDAY(A39,2)<6,C40=\"\"),ColTime(T.!$J$5,T.!$L$5,D39,E39),\"\"))),\"\")","v":"00:00:00"},null,"",{"$f":"IFERROR(IF(AND(WEEKDAY(A39,2)<6,C40<>\"\",C39=\"\"),ColTime(T.!$J$7,T.!$L$7,$AF$1,'Hele året'!E39),IF(AND(C39<>\"\",C40<>\"\"),ColTime(T.!$J$7,T.!$L$7,'Hele året'!D39,'Hele året'!E39),IF(AND(OR(WEEKDAY(A39,2)<6,WEEKDAY(A39,2)=6),C39<>\"\",E39<D39),ColTime(T.!$J$7,T.!$L$7,D39,AF36),IF(AND(WEEKDAY(A39,2)=6,E39<D39),ColTime(T.!$J$7,T.!$L$7,$AF$1,E39),IF(AND(E39<D39,OR(C39<>\"\",WEEKDAY(A39,2)=7)),ColTime(T.!J42,T.!L42,D39,$AF$1),IF(AND(E39<>\"\",OR(C39<>\"\",WEEKDAY(A39,2)=7)),ColTime(T.!$J$7,T.!$L$7,D39,E39),\"\")))))),\"\")","v":""},"",null,null,{"$f":"IFERROR(CHOOSE(WEEKDAY(A39,2),norm!C$1,norm!C$2,norm!C$3,norm!C$4,norm!C$5,norm!C$6,norm!C$7),\"\")","v":"07:30:00"}]
["2019-02-06","On","",null,null,null,"","00:00:00","",{"$f":"IF(AND(C40=\"\",WEEKDAY(A40,2)<6),ColTime(T.!$J$4,T.!$L$4,D40,E40),\"\")","v":"00:00:00"},null,{"$f":"IFERROR(IF(AND(WEEKDAY(A40,2)<6,C41<>\"\",E40<D40,C40=\"\"),ColTime($AE$1,$AF$1,D40,E40),IF(AND(OR(WEEKDAY(A40,2)=7,C40<>\"\"),E40<D40,C41=\"\"),ColTime($AF$1,$AG$1,'Hele året'!$AF$1,E40),IF(AND(WEEKDAY(A40,2)<6,C41=\"\"),ColTime(T.!$J$5,T.!$L$5,D40,E40),\"\"))),\"\")","v":"00:00:00"},null,"",{"$f":"IFERROR(IF(AND(WEEKDAY(A40,2)<6,C41<>\"\",C40=\"\"),ColTime(T.!$J$7,T.!$L$7,$AF$1,'Hele året'!E40),IF(AND(C40<>\"\",C41<>\"\"),ColTime(T.!$J$7,T.!$L$7,'Hele året'!D40,'Hele året'!E40),IF(AND(OR(WEEKDAY(A40,2)<6,WEEKDAY(A40,2)=6),C40<>\"\",E40<D40),ColTime(T.!$J$7,T.!$L$7,D40,AF37),IF(AND(WEEKDAY(A40,2)=6,E40<D40),ColTime(T.!$J$7,T.!$L$7,$AF$1,E40),IF(AND(E40<D40,OR(C40<>\"\",WEEKDAY(A40,2)=7)),ColTime(T.!J43,T.!L43,D40,$AF$1),IF(AND(E40<>\"\",OR(C40<>\"\",WEEKDAY(A40,2)=7)),ColTime(T.!$J$7,T.!$L$7,D40,E40),\"\")))))),\"\")","v":""},"",null,null,{"$f":"IFERROR(CHOOSE(WEEKDAY(A40,2),norm!C$1,norm!C$2,norm!C$3,norm!C$4,norm!C$5,norm!C$6,norm!C$7),\"\")","v":"07:30:00"}]
["2019-02-07","To","",null,null,null,"","00:00:00","",{"$f":"IF(AND(C41=\"\",WEEKDAY(A41,2)<6),ColTime(T.!$J$4,T.!$L$4,D41,E41),\"\")","v":"00:00:00"},null,{"$f":"IFERROR(IF(AND(WEEKDAY(A41,2)<6,C42<>\"\",E41<D41,C41=\"\"),ColTime($AE$1,$AF$1,D41,E41),IF(AND(OR(WEEKDAY(A41,2)=7,C41<>\"\"),E41<D41,C42=\"\"),ColTime($AF$1,$AG$1,'Hele året'!$AF$1,E41),IF(AND(WEEKDAY(A41,2)<6,C42=\"\"),ColTime(T.!$J$5,T.!$L$5,D41,E41),\"\"))),\"\")","v":"00:00:00"},null,"",{"$f":"IFERROR(IF(AND(WEEKDAY(A41,2)<6,C42<>\"\",C41=\"\"),ColTime(T.!$J$7,T.!$L$7,$AF$1,'Hele året'!E41),IF(AND(C41<>\"\",C42<>\"\"),ColTime(T.!$J$7,T.!$L$7,'Hele året'!D41,'Hele året'!E41),IF(AND(OR(WEEKDAY(A41,2)<6,WEEKDAY(A41,2)=6),C41<>\"\",E41<D41),ColTime(T.!$J$7,T.!$L$7,D41,AF38),IF(AND(WEEKDAY(A41,2)=6,E41<D41),ColTime(T.!$J$7,T.!$L$7,$AF$1,E41),IF(AND(E41<D41,OR(C41<>\"\",WEEKDAY(A41,2)=7)),ColTime(T.!J44,T.!L44,D41,$AF$1),IF(AND(E41<>\"\",OR(C41<>\"\",WEEKDAY(A41,2)=7)),ColTime(T.!$J$7,T.!$L$7,D41,E41),\"\")))))),\"\")","v":""},"",null,null,{"$f":"IFERROR(CHOOSE(WEEKDAY(A41,2),norm!C$1,norm!C$2,norm!C$3,norm!C$4,norm!C$5,norm!C$6,norm!C$7),\"\")","v":"07:30:00"}]
["2019-02-08","Fr","",null,null,null,"","00:00:00","",{"$f":"IF(AND(C42=\"\",WEEKDAY(A42,2)<6),ColTime(T.!$J$4,T.!$L$4,D42,E42),\"\")","v":"00:00:00"},null,{"$f":"IFERROR(IF(AND(WEEKDAY(A42,2)<6,C43<>\"\",E42<D42,C42=\"\"),ColTime($AE$1,$AF$1,D42,E42),IF(AND(OR(WEEKDAY(A42,2)=7,C42<>\"\"),E42<D42,C43=\"\"),ColTime($AF$1,$AG$1,'Hele året'!$AF$1,E42),IF(AND(WEEKDAY(A42,2)<6,C43=\"\"),ColTime(T.!$J$5,T.!$L$5,D42,E42),\"\"))),\"\")","v":"00:00:00"},null,"",{"$f":"IFERROR(IF(AND(WEEKDAY(A42,2)<6,C43<>\"\",C42=\"\"),ColTime(T.!$J$7,T.!$L$7,$AF$1,'Hele året'!E42),IF(AND(C42<>\"\",C43<>\"\"),ColTime(T.!$J$7,T.!$L$7,'Hele året'!D42,'Hele året'!E42),IF(AND(OR(WEEKDAY(A42,2)<6,WEEKDAY(A42,2)=6),C42<>\"\",E42<D42),ColTime(T.!$J$7,T.!$L$7,D42,AF39),IF(AND(WEEKDAY(A42,2)=6,E42<D42),ColTime(T.!$J$7,T.!$L$7,$AF$1,E42),IF(AND(E42<D42,OR(C42<>\"\",WEEKDAY(A42,2)=7)),ColTime(T.!J45,T.!L45,D42,$AF$1),IF(AND(E42<>\"\",OR(C42<>\"\",WEEKDAY(A42,2)=7)),ColTime(T.!$J$7,T.!$L$7,D42,E42),\"\")))))),\"\")","v":""},"",null,null,{"$f":"IFERROR(CHOOSE(WEEKDAY(A42,2),norm!C$1,norm!C$2,norm!C$3,norm!C$4,norm!C$5,norm!C$6,norm!C$7),\"\")","v":"07:00:00"}]
["2019-02-09","Lø","",null,null,null,"","00:00:00","",{"$f":"IF(AND(C43=\"\",WEEKDAY(A43,2)<6),ColTime(T.!$J$4,T.!$L$4,D43,E43),\"\")","v":""},null,{"$f":"IFERROR(IF(AND(WEEKDAY(A43,2)<6,C44<>\"\",E43<D43,C43=\"\"),ColTime($AE$1,$AF$1,D43,E43),IF(AND(OR(WEEKDAY(A43,2)=7,C43<>\"\"),E43<D43,C44=\"\"),ColTime($AF$1,$AG$1,'Hele året'!$AF$1,E43),IF(AND(WEEKDAY(A43,2)<6,C44=\"\"),ColTime(T.!$J$5,T.!$L$5,D43,E43),\"\"))),\"\")","v":""},null,"00:00:00",{"$f":"IFERROR(IF(AND(WEEKDAY(A43,2)<6,C44<>\"\",C43=\"\"),ColTime(T.!$J$7,T.!$L$7,$AF$1,'Hele året'!E43),IF(AND(C43<>\"\",C44<>\"\"),ColTime(T.!$J$7,T.!$L$7,'Hele året'!D43,'Hele året'!E43),IF(AND(OR(WEEKDAY(A43,2)<6,WEEKDAY(A43,2)=6),C43<>\"\",E43<D43),ColTime(T.!$J$7,T.!$L$7,D43,AF40),IF(AND(WEEKDAY(A43,2)=6,E43<D43),ColTime(T.!$J$7,T.!$L$7,$AF$1,E43),IF(AND(E43<D43,OR(C43<>\"\",WEEKDAY(A43,2)=7)),ColTime(T.!J46,T.!L46,D43,$AF$1),IF(AND(E43<>\"\",OR(C43<>\"\",WEEKDAY(A43,2)=7)),ColTime(T.!$J$7,T.!$L$7,D43,E43),\"\")))))),\"\")","v":""},"",null,null,{"$f":"IFERROR(CHOOSE(WEEKDAY(A43,2),norm!C$1,norm!C$2,norm!C$3,norm!C$4,norm!C$5,norm!C$6,norm!C$7),\"\")","v":"00:00:00"}]
["2019-02-10","Sø","",null,null,null,"","00:00:00","",{"$f":"IF(AND(C44=\"\",WEEKDAY(A44,2)<6),ColTime(T.!$J$4,T.!$L$4,D44,E44),\"\")","v":""},null,{"$f":"IFERROR(IF(AND(WEEKDAY(A44,2)<6,C45<>\"\",E44<D44,C44=\"\"),ColTime($AE$1,$AF$1,D44,E44),IF(AND(OR(WEEKDAY(A44,2)=7,C44<>\"\"),E44<D44,C45=\"\"),ColTime($AF$1,$AG$1,'Hele året'!$AF$1,E44),IF(AND(WEEKDAY(A44,2)<6,C45=\"\"),ColTime(T.!$J$5,T.!$L$5,D44,E44),\"\"))),\"\")","v":""},null,"",{"$f":"IFERROR(IF(AND(WEEKDAY(A44,2)<6,C45<>\"\",C44=\"\"),ColTime(T.!$J$7,T.!$L$7,$AF$1,'Hele året'!E44),IF(AND(C44<>\"\",C45<>\"\"),ColTime(T.!$J$7,T.!$L$7,'Hele året'!D44,'Hele året'!E44),IF(AND(OR(WEEKDAY(A44,2)<6,WEEKDAY(A44,2)=6),C44<>\"\",E44<D44),ColTime(T.!$J$7,T.!$L$7,D44,AF41),IF(AND(WEEKDAY(A44,2)=6,E44<D44),ColTime(T.!$J$7,T.!$L$7,$AF$1,E44),IF(AND(E44<D44,OR(C44<>\"\",WEEKDAY(A44,2)=7)),ColTime(T.!J47,T.!L47,D44,$AF$1),IF(AND(E44<>\"\",OR(C44<>\"\",WEEKDAY(A44,2)=7)),ColTime(T.!$J$7,T.!$L$7,D44,E44),\"\")))))),\"\")","v":""},"",null,null,{"$f":"IFERROR(CHOOSE(WEEKDAY(A44,2),norm!C$1,norm!C$2,norm!C$3,norm!C$4,norm!C$5,norm!C$6,norm!C$7),\"\")","v":"00:00:00"}]
["2019-02-11","Ma",{"$f":"IF(A45=\"\",\"\",HelligdagsNavn(A45,0,0))","v":""},null,null,null,{"$f":"IF(D45=\"\",\"\",(E45-D45)+(D45>E45)-F45)","v":""},{"$f":"IF(G45=\"\",0,IF(WEEKDAY(A45,2)=7,0,IF(G45>S45,MIN(G45-S45,$AI$1),0)))","v":"00:00:00"},{"$f":"IF(G45=\"\",\"\",IF(G45>S45+H45,G45-(S45+H45),\"\"))","v":""},{"$f":"IF(AND(C45=\"\",WEEKDAY(A45,2)<6),ColTime(T.!$J$4,T.!$L$4,D45,E45),\"\")","v":"00:00:00"},null,{"$f":"IFERROR(IF(AND(WEEKDAY(A45,2)<6,C46<>\"\",E45<D45,C45=\"\"),ColTime($AE$1,$AF$1,D45,E45),IF(AND(OR(WEEKDAY(A45,2)=7,C45<>\"\"),E45<D45,C46=\"\"),ColTime($AF$1,$AG$1,'Hele året'!$AF$1,E45),IF(AND(WEEKDAY(A45,2)<6,C46=\"\"),ColTime(T.!$J$5,T.!$L$5,D45,E45),\"\"))),\"\")","v":"00:00:00"},null,"",{"$f":"IFERROR(IF(AND(WEEKDAY(A45,2)<6,C46<>\"\",C45=\"\"),ColTime(T.!$J$7,T.!$L$7,$AF$1,'Hele året'!E45),IF(AND(C45<>\"\",C46<>\"\"),ColTime(T.!$J$7,T.!$L$7,'Hele året'!D45,'Hele året'!E45),IF(AND(OR(WEEKDAY(A45,2)<6,WEEKDAY(A45,2)=6),C45<>\"\",E45<D45),ColTime(T.!$J$7,T.!$L$7,D45,AF42),IF(AND(WEEKDAY(A45,2)=6,E45<D45),ColTime(T.!$J$7,T.!$L$7,$AF$1,E45),IF(AND(E45<D45,OR(C45<>\"\",WEEKDAY(A45,2)=7)),ColTime(T.!J48,T.!L48,D45,$AF$1),IF(AND(E45<>\"\",OR(C45<>\"\",WEEKDAY(A45,2)=7)),ColTime(T.!$J$7,T.!$L$7,D45,E45),\"\")))))),\"\")","v":""},"",null,null,{"$f":"IFERROR(CHOOSE(WEEKDAY(A45,2),norm!C$1,norm!C$2,norm!C$3,norm!C$4,norm!C$5,norm!C$6,norm!C$7),\"\")","v":"07:30:00"}]
["2019-02-12","Ti","",null,null,null,"","00:00:00","",{"$f":"IF(AND(C46=\"\",WEEKDAY(A46,2)<6),ColTime(T.!$J$4,T.!$L$4,D46,E46),\"\")","v":"00:00:00"},null,{"$f":"IFERROR(IF(AND(WEEKDAY(A46,2)<6,C47<>\"\",E46<D46,C46=\"\"),ColTime($AE$1,$AF$1,D46,E46),IF(AND(OR(WEEKDAY(A46,2)=7,C46<>\"\"),E46<D46,C47=\"\"),ColTime($AF$1,$AG$1,'Hele året'!$AF$1,E46),IF(AND(WEEKDAY(A46,2)<6,C47=\"\"),ColTime(T.!$J$5,T.!$L$5,D46,E46),\"\"))),\"\")","v":"00:00:00"},null,"",{"$f":"IFERROR(IF(AND(WEEKDAY(A46,2)<6,C47<>\"\",C46=\"\"),ColTime(T.!$J$7,T.!$L$7,$AF$1,'Hele året'!E46),IF(AND(C46<>\"\",C47<>\"\"),ColTime(T.!$J$7,T.!$L$7,'Hele året'!D46,'Hele året'!E46),IF(AND(OR(WEEKDAY(A46,2)<6,WEEKDAY(A46,2)=6),C46<>\"\",E46<D46),ColTime(T.!$J$7,T.!$L$7,D46,AF43),IF(AND(WEEKDAY(A46,2)=6,E46<D46),ColTime(T.!$J$7,T.!$L$7,$AF$1,E46),IF(AND(E46<D46,OR(C46<>\"\",WEEKDAY(A46,2)=7)),ColTime(T.!J49,T.!L49,D46,$AF$1),IF(AND(E46<>\"\",OR(C46<>\"\",WEEKDAY(A46,2)=7)),ColTime(T.!$J$7,T.!$L$7,D46,E46),\"\")))))),\"\")","v":""},"",null,null,{"$f":"IFERROR(CHOOSE(WEEKDAY(A46,2),norm!C$1,norm!C$2,norm!C$3,norm!C$4,norm!C$5,norm!C$6,norm!C$7),\"\")","v":"07:30:00"}]
["2019-02-13","On","",null,null,null,"","00:00:00","",{"$f":"IF(AND(C47=\"\",WEEKDAY(A47,2)<6),ColTime(T.!$J$4,T.!$L$4,D47,E47),\"\")","v":"00:00:00"},null,{"$f":"IFERROR(IF(AND(WEEKDAY(A47,2)<6,C48<>\"\",E47<D47,C47=\"\"),ColTime($AE$1,$AF$1,D47,E47),IF(AND(OR(WEEKDAY(A47,2)=7,C47<>\"\"),E47<D47,C48=\"\"),ColTime($AF$1,$AG$1,'Hele året'!$AF$1,E47),IF(AND(WEEKDAY(A47,2)<6,C48=\"\"),ColTime(T.!$J$5,T.!$L$5,D47,E47),\"\"))),\"\")","v":"00:00:00"},null,"",{"$f":"IFERROR(IF(AND(WEEKDAY(A47,2)<6,C48<>\"\",C47=\"\"),ColTime(T.!$J$7,T.!$L$7,$AF$1,'Hele året'!E47),IF(AND(C47<>\"\",C48<>\"\"),ColTime(T.!$J$7,T.!$L$7,'Hele året'!D47,'Hele året'!E47),IF(AND(OR(WEEKDAY(A47,2)<6,WEEKDAY(A47,2)=6),C47<>\"\",E47<D47),ColTime(T.!$J$7,T.!$L$7,D47,AF44),IF(AND(WEEKDAY(A47,2)=6,E47<D47),ColTime(T.!$J$7,T.!$L$7,$AF$1,E47),IF(AND(E47<D47,OR(C47<>\"\",WEEKDAY(A47,2)=7)),ColTime(T.!J50,T.!L50,D47,$AF$1),IF(AND(E47<>\"\",OR(C47<>\"\",WEEKDAY(A47,2)=7)),ColTime(T.!$J$7,T.!$L$7,D47,E47),\"\")))))),\"\")","v":""},"",null,null,{"$f":"IFERROR(CHOOSE(WEEKDAY(A47,2),norm!C$1,norm!C$2,norm!C$3,norm!C$4,norm!C$5,norm!C$6,norm!C$7),\"\")","v":"07:30:00"}]
["2019-02-14","To","",null,null,null,"","00:00:00","",{"$f":"IF(AND(C48=\"\",WEEKDAY(A48,2)<6),ColTime(T.!$J$4,T.!$L$4,D48,E48),\"\")","v":"00:00:00"},null,{"$f":"IFERROR(IF(AND(WEEKDAY(A48,2)<6,C49<>\"\",E48<D48,C48=\"\"),ColTime($AE$1,$AF$1,D48,E48),IF(AND(OR(WEEKDAY(A48,2)=7,C48<>\"\"),E48<D48,C49=\"\"),ColTime($AF$1,$AG$1,'Hele året'!$AF$1,E48),IF(AND(WEEKDAY(A48,2)<6,C49=\"\"),ColTime(T.!$J$5,T.!$L$5,D48,E48),\"\"))),\"\")","v":"00:00:00"},null,"",{"$f":"IFERROR(IF(AND(WEEKDAY(A48,2)<6,C49<>\"\",C48=\"\"),ColTime(T.!$J$7,T.!$L$7,$AF$1,'Hele året'!E48),IF(AND(C48<>\"\",C49<>\"\"),ColTime(T.!$J$7,T.!$L$7,'Hele året'!D48,'Hele året'!E48),IF(AND(OR(WEEKDAY(A48,2)<6,WEEKDAY(A48,2)=6),C48<>\"\",E48<D48),ColTime(T.!$J$7,T.!$L$7,D48,AF45),IF(AND(WEEKDAY(A48,2)=6,E48<D48),ColTime(T.!$J$7,T.!$L$7,$AF$1,E48),IF(AND(E48<D48,OR(C48<>\"\",WEEKDAY(A48,2)=7)),ColTime(T.!J51,T.!L51,D48,$AF$1),IF(AND(E48<>\"\",OR(C48<>\"\",WEEKDAY(A48,2)=7)),ColTime(T.!$J$7,T.!$L$7,D48,E48),\"\")))))),\"\")","v":""},"",null,null,{"$f":"IFERROR(CHOOSE(WEEKDAY(A48,2),norm!C$1,norm!C$2,norm!C$3,norm!C$4,norm!C$5,norm!C$6,norm!C$7),\"\")","v":"07:30:00"}]
["2019-02-15","Fr","",null,null,null,"","00:00:00","",{"$f":"IF(AND(C49=\"\",WEEKDAY(A49,2)<6),ColTime(T.!$J$4,T.!$L$4,D49,E49),\"\")","v":"00:00:00"},null,{"$f":"IFERROR(IF(AND(WEEKDAY(A49,2)<6,C50<>\"\",E49<D49,C49=\"\"),ColTime($AE$1,$AF$1,D49,E49),IF(AND(OR(WEEKDAY(A49,2)=7,C49<>\"\"),E49<D49,C50=\"\"),ColTime($AF$1,$AG$1,'Hele året'!$AF$1,E49),IF(AND(WEEKDAY(A49,2)<6,C50=\"\"),ColTime(T.!$J$5,T.!$L$5,D49,E49),\"\"))),\"\")","v":"00:00:00"},null,"",{"$f":"IFERROR(IF(AND(WEEKDAY(A49,2)<6,C50<>\"\",C49=\"\"),ColTime(T.!$J$7,T.!$L$7,$AF$1,'Hele året'!E49),IF(AND(C49<>\"\",C50<>\"\"),ColTime(T.!$J$7,T.!$L$7,'Hele året'!D49,'Hele året'!E49),IF(AND(OR(WEEKDAY(A49,2)<6,WEEKDAY(A49,2)=6),C49<>\"\",E49<D49),ColTime(T.!$J$7,T.!$L$7,D49,AF46),IF(AND(WEEKDAY(A49,2)=6,E49<D49),ColTime(T.!$J$7,T.!$L$7,$AF$1,E49),IF(AND(E49<D49,OR(C49<>\"\",WEEKDAY(A49,2)=7)),ColTime(T.!J52,T.!L52,D49,$AF$1),IF(AND(E49<>\"\",OR(C49<>\"\",WEEKDAY(A49,2)=7)),ColTime(T.!$J$7,T.!$L$7,D49,E49),\"\")))))),\"\")","v":""},"",null,null,{"$f":"IFERROR(CHOOSE(WEEKDAY(A49,2),norm!C$1,norm!C$2,norm!C$3,norm!C$4,norm!C$5,norm!C$6,norm!C$7),\"\")","v":"07:00:00"}]
["2019-02-16","Lø","",null,null,null,"","00:00:00","",{"$f":"IF(AND(C50=\"\",WEEKDAY(A50,2)<6),ColTime(T.!$J$4,T.!$L$4,D50,E50),\"\")","v":""},null,{"$f":"IFERROR(IF(AND(WEEKDAY(A50,2)<6,C51<>\"\",E50<D50,C50=\"\"),ColTime($AE$1,$AF$1,D50,E50),IF(AND(OR(WEEKDAY(A50,2)=7,C50<>\"\"),E50<D50,C51=\"\"),ColTime($AF$1,$AG$1,'Hele året'!$AF$1,E50),IF(AND(WEEKDAY(A50,2)<6,C51=\"\"),ColTime(T.!$J$5,T.!$L$5,D50,E50),\"\"))),\"\")","v":""},null,"00:00:00",{"$f":"IFERROR(IF(AND(WEEKDAY(A50,2)<6,C51<>\"\",C50=\"\"),ColTime(T.!$J$7,T.!$L$7,$AF$1,'Hele året'!E50),IF(AND(C50<>\"\",C51<>\"\"),ColTime(T.!$J$7,T.!$L$7,'Hele året'!D50,'Hele året'!E50),IF(AND(OR(WEEKDAY(A50,2)<6,WEEKDAY(A50,2)=6),C50<>\"\",E50<D50),ColTime(T.!$J$7,T.!$L$7,D50,AF47),IF(AND(WEEKDAY(A50,2)=6,E50<D50),ColTime(T.!$J$7,T.!$L$7,$AF$1,E50),IF(AND(E50<D50,OR(C50<>\"\",WEEKDAY(A50,2)=7)),ColTime(T.!J53,T.!L53,D50,$AF$1),IF(AND(E50<>\"\",OR(C50<>\"\",WEEKDAY(A50,2)=7)),ColTime(T.!$J$7,T.!$L$7,D50,E50),\"\")))))),\"\")","v":""},"",null,null,{"$f":"IFERROR(CHOOSE(WEEKDAY(A50,2),norm!C$1,norm!C$2,norm!C$3,norm!C$4,norm!C$5,norm!C$6,norm!C$7),\"\")","v":"00:00:00"}]
["2019-02-17","Sø","",null,null,null,"","00:00:00","",{"$f":"IF(AND(C51=\"\",WEEKDAY(A51,2)<6),ColTime(T.!$J$4,T.!$L$4,D51,E51),\"\")","v":""},null,{"$f":"IFERROR(IF(AND(WEEKDAY(A51,2)<6,C52<>\"\",E51<D51,C51=\"\"),ColTime($AE$1,$AF$1,D51,E51),IF(AND(OR(WEEKDAY(A51,2)=7,C51<>\"\"),E51<D51,C52=\"\"),ColTime($AF$1,$AG$1,'Hele året'!$AF$1,E51),IF(AND(WEEKDAY(A51,2)<6,C52=\"\"),ColTime(T.!$J$5,T.!$L$5,D51,E51),\"\"))),\"\")","v":""},null,"",{"$f":"IFERROR(IF(AND(WEEKDAY(A51,2)<6,C52<>\"\",C51=\"\"),ColTime(T.!$J$7,T.!$L$7,$AF$1,'Hele året'!E51),IF(AND(C51<>\"\",C52<>\"\"),ColTime(T.!$J$7,T.!$L$7,'Hele året'!D51,'Hele året'!E51),IF(AND(OR(WEEKDAY(A51,2)<6,WEEKDAY(A51,2)=6),C51<>\"\",E51<D51),ColTime(T.!$J$7,T.!$L$7,D51,AF48),IF(AND(WEEKDAY(A51,2)=6,E51<D51),ColTime(T.!$J$7,T.!$L$7,$AF$1,E51),IF(AND(E51<D51,OR(C51<>\"\",WEEKDAY(A51,2)=7)),ColTime(T.!J54,T.!L54,D51,$AF$1),IF(AND(E51<>\"\",OR(C51<>\"\",WEEKDAY(A51,2)=7)),ColTime(T.!$J$7,T.!$L$7,D51,E51),\"\")))))),\"\")","v":""},"",null,null,{"$f":"IFERROR(CHOOSE(WEEKDAY(A51,2),norm!C$1,norm!C$2,norm!C$3,norm!C$4,norm!C$5,norm!C$6,norm!C$7),\"\")","v":"00:00:00"}]
["2019-02-18","Ma","",null,null,null,"","00:00:00","",{"$f":"IF(AND(C52=\"\",WEEKDAY(A52,2)<6),ColTime(T.!$J$4,T.!$L$4,D52,E52),\"\")","v":"00:00:00"},null,{"$f":"IFERROR(IF(AND(WEEKDAY(A52,2)<6,C53<>\"\",E52<D52,C52=\"\"),ColTime($AE$1,$AF$1,D52,E52),IF(AND(OR(WEEKDAY(A52,2)=7,C52<>\"\"),E52<D52,C53=\"\"),ColTime($AF$1,$AG$1,'Hele året'!$AF$1,E52),IF(AND(WEEKDAY(A52,2)<6,C53=\"\"),ColTime(T.!$J$5,T.!$L$5,D52,E52),\"\"))),\"\")","v":"00:00:00"},null,"",{"$f":"IFERROR(IF(AND(WEEKDAY(A52,2)<6,C53<>\"\",C52=\"\"),ColTime(T.!$J$7,T.!$L$7,$AF$1,'Hele året'!E52),IF(AND(C52<>\"\",C53<>\"\"),ColTime(T.!$J$7,T.!$L$7,'Hele året'!D52,'Hele året'!E52),IF(AND(OR(WEEKDAY(A52,2)<6,WEEKDAY(A52,2)=6),C52<>\"\",E52<D52),ColTime(T.!$J$7,T.!$L$7,D52,AF49),IF(AND(WEEKDAY(A52,2)=6,E52<D52),ColTime(T.!$J$7,T.!$L$7,$AF$1,E52),IF(AND(E52<D52,OR(C52<>\"\",WEEKDAY(A52,2)=7)),ColTime(T.!J55,T.!L55,D52,$AF$1),IF(AND(E52<>\"\",OR(C52<>\"\",WEEKDAY(A52,2)=7)),ColTime(T.!$J$7,T.!$L$7,D52,E52),\"\")))))),\"\")","v":""},"",null,null,{"$f":"IFERROR(CHOOSE(WEEKDAY(A52,2),norm!C$1,norm!C$2,norm!C$3,norm!C$4,norm!C$5,norm!C$6,norm!C$7),\"\")","v":"07:30:00"}]
["2019-02-19","Ti","",null,null,null,"","00:00:00","",{"$f":"IF(AND(C53=\"\",WEEKDAY(A53,2)<6),ColTime(T.!$J$4,T.!$L$4,D53,E53),\"\")","v":"00:00:00"},null,{"$f":"IFERROR(IF(AND(WEEKDAY(A53,2)<6,C54<>\"\",E53<D53,C53=\"\"),ColTime($AE$1,$AF$1,D53,E53),IF(AND(OR(WEEKDAY(A53,2)=7,C53<>\"\"),E53<D53,C54=\"\"),ColTime($AF$1,$AG$1,'Hele året'!$AF$1,E53),IF(AND(WEEKDAY(A53,2)<6,C54=\"\"),ColTime(T.!$J$5,T.!$L$5,D53,E53),\"\"))),\"\")","v":"00:00:00"},null,"",{"$f":"IFERROR(IF(AND(WEEKDAY(A53,2)<6,C54<>\"\",C53=\"\"),ColTime(T.!$J$7,T.!$L$7,$AF$1,'Hele året'!E53),IF(AND(C53<>\"\",C54<>\"\"),ColTime(T.!$J$7,T.!$L$7,'Hele året'!D53,'Hele året'!E53),IF(AND(OR(WEEKDAY(A53,2)<6,WEEKDAY(A53,2)=6),C53<>\"\",E53<D53),ColTime(T.!$J$7,T.!$L$7,D53,AF50),IF(AND(WEEKDAY(A53,2)=6,E53<D53),ColTime(T.!$J$7,T.!$L$7,$AF$1,E53),IF(AND(E53<D53,OR(C53<>\"\",WEEKDAY(A53,2)=7)),ColTime(T.!J56,T.!L56,D53,$AF$1),IF(AND(E53<>\"\",OR(C53<>\"\",WEEKDAY(A53,2)=7)),ColTime(T.!$J$7,T.!$L$7,D53,E53),\"\")))))),\"\")","v":""},"",null,null,{"$f":"IFERROR(CHOOSE(WEEKDAY(A53,2),norm!C$1,norm!C$2,norm!C$3,norm!C$4,norm!C$5,norm!C$6,norm!C$7),\"\")","v":"07:30:00"}]
["2019-02-20","On","",null,null,null,"","00:00:00","",{"$f":"IF(AND(C54=\"\",WEEKDAY(A54,2)<6),ColTime(T.!$J$4,T.!$L$4,D54,E54),\"\")","v":"00:00:00"},null,{"$f":"IFERROR(IF(AND(WEEKDAY(A54,2)<6,C55<>\"\",E54<D54,C54=\"\"),ColTime($AE$1,$AF$1,D54,E54),IF(AND(OR(WEEKDAY(A54,2)=7,C54<>\"\"),E54<D54,C55=\"\"),ColTime($AF$1,$AG$1,'Hele året'!$AF$1,E54),IF(AND(WEEKDAY(A54,2)<6,C55=\"\"),ColTime(T.!$J$5,T.!$L$5,D54,E54),\"\"))),\"\")","v":"00:00:00"},null,"",{"$f":"IFERROR(IF(AND(WEEKDAY(A54,2)<6,C55<>\"\",C54=\"\"),ColTime(T.!$J$7,T.!$L$7,$AF$1,'Hele året'!E54),IF(AND(C54<>\"\",C55<>\"\"),ColTime(T.!$J$7,T.!$L$7,'Hele året'!D54,'Hele året'!E54),IF(AND(OR(WEEKDAY(A54,2)<6,WEEKDAY(A54,2)=6),C54<>\"\",E54<D54),ColTime(T.!$J$7,T.!$L$7,D54,AF51),IF(AND(WEEKDAY(A54,2)=6,E54<D54),ColTime(T.!$J$7,T.!$L$7,$AF$1,E54),IF(AND(E54<D54,OR(C54<>\"\",WEEKDAY(A54,2)=7)),ColTime(T.!J57,T.!L57,D54,$AF$1),IF(AND(E54<>\"\",OR(C54<>\"\",WEEKDAY(A54,2)=7)),ColTime(T.!$J$7,T.!$L$7,D54,E54),\"\")))))),\"\")","v":""},"",null,null,{"$f":"IFERROR(CHOOSE(WEEKDAY(A54,2),norm!C$1,norm!C$2,norm!C$3,norm!C$4,norm!C$5,norm!C$6,norm!C$7),\"\")","v":"07:30:00"}]
["2019-02-21","To","",null,null,null,"","00:00:00","",{"$f":"IF(AND(C55=\"\",WEEKDAY(A55,2)<6),ColTime(T.!$J$4,T.!$L$4,D55,E55),\"\")","v":"00:00:00"},null,{"$f":"IFERROR(IF(AND(WEEKDAY(A55,2)<6,C56<>\"\",E55<D55,C55=\"\"),ColTime($AE$1,$AF$1,D55,E55),IF(AND(OR(WEEKDAY(A55,2)=7,C55<>\"\"),E55<D55,C56=\"\"),ColTime($AF$1,$AG$1,'Hele året'!$AF$1,E55),IF(AND(WEEKDAY(A55,2)<6,C56=\"\"),ColTime(T.!$J$5,T.!$L$5,D55,E55),\"\"))),\"\")","v":"00:00:00"},null,"",{"$f":"IFERROR(IF(AND(WEEKDAY(A55,2)<6,C56<>\"\",C55=\"\"),ColTime(T.!$J$7,T.!$L$7,$AF$1,'Hele året'!E55),IF(AND(C55<>\"\",C56<>\"\"),ColTime(T.!$J$7,T.!$L$7,'Hele året'!D55,'Hele året'!E55),IF(AND(OR(WEEKDAY(A55,2)<6,WEEKDAY(A55,2)=6),C55<>\"\",E55<D55),ColTime(T.!$J$7,T.!$L$7,D55,AF52),IF(AND(WEEKDAY(A55,2)=6,E55<D55),ColTime(T.!$J$7,T.!$L$7,$AF$1,E55),IF(AND(E55<D55,OR(C55<>\"\",WEEKDAY(A55,2)=7)),ColTime(T.!J58,T.!L58,D55,$AF$1),IF(AND(E55<>\"\",OR(C55<>\"\",WEEKDAY(A55,2)=7)),ColTime(T.!$J$7,T.!$L$7,D55,E55),\"\")))))),\"\")","v":""},"",null,null,{"$f":"IFERROR(CHOOSE(WEEKDAY(A55,2),norm!C$1,norm!C$2,norm!C$3,norm!C$4,norm!C$5,norm!C$6,norm!C$7),\"\")","v":"07:30:00"}]
["2019-02-22","Fr","",null,null,null,"","00:00:00","",{"$f":"IF(AND(C56=\"\",WEEKDAY(A56,2)<6),ColTime(T.!$J$4,T.!$L$4,D56,E56),\"\")","v":"00:00:00"},null,{"$f":"IFERROR(IF(AND(WEEKDAY(A56,2)<6,C57<>\"\",E56<D56,C56=\"\"),ColTime($AE$1,$AF$1,D56,E56),IF(AND(OR(WEEKDAY(A56,2)=7,C56<>\"\"),E56<D56,C57=\"\"),ColTime($AF$1,$AG$1,'Hele året'!$AF$1,E56),IF(AND(WEEKDAY(A56,2)<6,C57=\"\"),ColTime(T.!$J$5,T.!$L$5,D56,E56),\"\"))),\"\")","v":"00:00:00"},null,"",{"$f":"IFERROR(IF(AND(WEEKDAY(A56,2)<6,C57<>\"\",C56=\"\"),ColTime(T.!$J$7,T.!$L$7,$AF$1,'Hele året'!E56),IF(AND(C56<>\"\",C57<>\"\"),ColTime(T.!$J$7,T.!$L$7,'Hele året'!D56,'Hele året'!E56),IF(AND(OR(WEEKDAY(A56,2)<6,WEEKDAY(A56,2)=6),C56<>\"\",E56<D56),ColTime(T.!$J$7,T.!$L$7,D56,AF53),IF(AND(WEEKDAY(A56,2)=6,E56<D56),ColTime(T.!$J$7,T.!$L$7,$AF$1,E56),IF(AND(E56<D56,OR(C56<>\"\",WEEKDAY(A56,2)=7)),ColTime(T.!J59,T.!L59,D56,$AF$1),IF(AND(E56<>\"\",OR(C56<>\"\",WEEKDAY(A56,2)=7)),ColTime(T.!$J$7,T.!$L$7,D56,E56),\"\")))))),\"\")","v":""},"",null,null,{"$f":"IFERROR(CHOOSE(WEEKDAY(A56,2),norm!C$1,norm!C$2,norm!C$3,norm!C$4,norm!C$5,norm!C$6,norm!C$7),\"\")","v":"07:00:00"}]
["2019-02-23","Lø","",null,null,null,"","00:00:00","",{"$f":"IF(AND(C57=\"\",WEEKDAY(A57,2)<6),ColTime(T.!$J$4,T.!$L$4,D57,E57),\"\")","v":""},null,{"$f":"IFERROR(IF(AND(WEEKDAY(A57,2)<6,C58<>\"\",E57<D57,C57=\"\"),ColTime($AE$1,$AF$1,D57,E57),IF(AND(OR(WEEKDAY(A57,2)=7,C57<>\"\"),E57<D57,C58=\"\"),ColTime($AF$1,$AG$1,'Hele året'!$AF$1,E57),IF(AND(WEEKDAY(A57,2)<6,C58=\"\"),ColTime(T.!$J$5,T.!$L$5,D57,E57),\"\"))),\"\")","v":""},null,"00:00:00",{"$f":"IFERROR(IF(AND(WEEKDAY(A57,2)<6,C58<>\"\",C57=\"\"),ColTime(T.!$J$7,T.!$L$7,$AF$1,'Hele året'!E57),IF(AND(C57<>\"\",C58<>\"\"),ColTime(T.!$J$7,T.!$L$7,'Hele året'!D57,'Hele året'!E57),IF(AND(OR(WEEKDAY(A57,2)<6,WEEKDAY(A57,2)=6),C57<>\"\",E57<D57),ColTime(T.!$J$7,T.!$L$7,D57,AF54),IF(AND(WEEKDAY(A57,2)=6,E57<D57),ColTime(T.!$J$7,T.!$L$7,$AF$1,E57),IF(AND(E57<D57,OR(C57<>\"\",WEEKDAY(A57,2)=7)),ColTime(T.!J60,T.!L60,D57,$AF$1),IF(AND(E57<>\"\",OR(C57<>\"\",WEEKDAY(A57,2)=7)),ColTime(T.!$J$7,T.!$L$7,D57,E57),\"\")))))),\"\")","v":""},"",null,null,{"$f":"IFERROR(CHOOSE(WEEKDAY(A57,2),norm!C$1,norm!C$2,norm!C$3,norm!C$4,norm!C$5,norm!C$6,norm!C$7),\"\")","v":"00:00:00"}]
["2019-02-24","Sø","",null,null,null,"","00:00:00","",{"$f":"IF(AND(C58=\"\",WEEKDAY(A58,2)<6),ColTime(T.!$J$4,T.!$L$4,D58,E58),\"\")","v":""},null,{"$f":"IFERROR(IF(AND(WEEKDAY(A58,2)<6,C59<>\"\",E58<D58,C58=\"\"),ColTime($AE$1,$AF$1,D58,E58),IF(AND(OR(WEEKDAY(A58,2)=7,C58<>\"\"),E58<D58,C59=\"\"),ColTime($AF$1,$AG$1,'Hele året'!$AF$1,E58),IF(AND(WEEKDAY(A58,2)<6,C59=\"\"),ColTime(T.!$J$5,T.!$L$5,D58,E58),\"\"))),\"\")","v":""},null,"",{"$f":"IFERROR(IF(AND(WEEKDAY(A58,2)<6,C59<>\"\",C58=\"\"),ColTime(T.!$J$7,T.!$L$7,$AF$1,'Hele året'!E58),IF(AND(C58<>\"\",C59<>\"\"),ColTime(T.!$J$7,T.!$L$7,'Hele året'!D58,'Hele året'!E58),IF(AND(OR(WEEKDAY(A58,2)<6,WEEKDAY(A58,2)=6),C58<>\"\",E58<D58),ColTime(T.!$J$7,T.!$L$7,D58,AF55),IF(AND(WEEKDAY(A58,2)=6,E58<D58),ColTime(T.!$J$7,T.!$L$7,$AF$1,E58),IF(AND(E58<D58,OR(C58<>\"\",WEEKDAY(A58,2)=7)),ColTime(T.!J61,T.!L61,D58,$AF$1),IF(AND(E58<>\"\",OR(C58<>\"\",WEEKDAY(A58,2)=7)),ColTime(T.!$J$7,T.!$L$7,D58,E58),\"\")))))),\"\")","v":""},"",null,null,{"$f":"IFERROR(CHOOSE(WEEKDAY(A58,2),norm!C$1,norm!C$2,norm!C$3,norm!C$4,norm!C$5,norm!C$6,norm!C$7),\"\")","v":"00:00:00"}]
["2019-02-25","Ma","",null,null,null,"","00:00:00","",{"$f":"IF(AND(C59=\"\",WEEKDAY(A59,2)<6),ColTime(T.!$J$4,T.!$L$4,D59,E59),\"\")","v":"00:00:00"},null,{"$f":"IFERROR(IF(AND(WEEKDAY(A59,2)<6,C60<>\"\",E59<D59,C59=\"\"),ColTime($AE$1,$AF$1,D59,E59),IF(AND(OR(WEEKDAY(A59,2)=7,C59<>\"\"),E59<D59,C60=\"\"),ColTime($AF$1,$AG$1,'Hele året'!$AF$1,E59),IF(AND(WEEKDAY(A59,2)<6,C60=\"\"),ColTime(T.!$J$5,T.!$L$5,D59,E59),\"\"))),\"\")","v":"00:00:00"},null,"",{"$f":"IFERROR(IF(AND(WEEKDAY(A59,2)<6,C60<>\"\",C59=\"\"),ColTime(T.!$J$7,T.!$L$7,$AF$1,'Hele året'!E59),IF(AND(C59<>\"\",C60<>\"\"),ColTime(T.!$J$7,T.!$L$7,'Hele året'!D59,'Hele året'!E59),IF(AND(OR(WEEKDAY(A59,2)<6,WEEKDAY(A59,2)=6),C59<>\"\",E59<D59),ColTime(T.!$J$7,T.!$L$7,D59,AF56),IF(AND(WEEKDAY(A59,2)=6,E59<D59),ColTime(T.!$J$7,T.!$L$7,$AF$1,E59),IF(AND(E59<D59,OR(C59<>\"\",WEEKDAY(A59,2)=7)),ColTime(T.!J62,T.!L62,D59,$AF$1),IF(AND(E59<>\"\",OR(C59<>\"\",WEEKDAY(A59,2)=7)),ColTime(T.!$J$7,T.!$L$7,D59,E59),\"\")))))),\"\")","v":""},"",null,null,{"$f":"IFERROR(CHOOSE(WEEKDAY(A59,2),norm!C$1,norm!C$2,norm!C$3,norm!C$4,norm!C$5,norm!C$6,norm!C$7),\"\")","v":"07:30:00"}]
["2019-02-26","Ti","",null,null,null,"","00:00:00","",{"$f":"IF(AND(C60=\"\",WEEKDAY(A60,2)<6),ColTime(T.!$J$4,T.!$L$4,D60,E60),\"\")","v":"00:00:00"},null,{"$f":"IFERROR(IF(AND(WEEKDAY(A60,2)<6,C61<>\"\",E60<D60,C60=\"\"),ColTime($AE$1,$AF$1,D60,E60),IF(AND(OR(WEEKDAY(A60,2)=7,C60<>\"\"),E60<D60,C61=\"\"),ColTime($AF$1,$AG$1,'Hele året'!$AF$1,E60),IF(AND(WEEKDAY(A60,2)<6,C61=\"\"),ColTime(T.!$J$5,T.!$L$5,D60,E60),\"\"))),\"\")","v":"00:00:00"},null,"",{"$f":"IFERROR(IF(AND(WEEKDAY(A60,2)<6,C61<>\"\",C60=\"\"),ColTime(T.!$J$7,T.!$L$7,$AF$1,'Hele året'!E60),IF(AND(C60<>\"\",C61<>\"\"),ColTime(T.!$J$7,T.!$L$7,'Hele året'!D60,'Hele året'!E60),IF(AND(OR(WEEKDAY(A60,2)<6,WEEKDAY(A60,2)=6),C60<>\"\",E60<D60),ColTime(T.!$J$7,T.!$L$7,D60,AF57),IF(AND(WEEKDAY(A60,2)=6,E60<D60),ColTime(T.!$J$7,T.!$L$7,$AF$1,E60),IF(AND(E60<D60,OR(C60<>\"\",WEEKDAY(A60,2)=7)),ColTime(T.!J63,T.!L63,D60,$AF$1),IF(AND(E60<>\"\",OR(C60<>\"\",WEEKDAY(A60,2)=7)),ColTime(T.!$J$7,T.!$L$7,D60,E60),\"\")))))),\"\")","v":""},"",null,null,{"$f":"IFERROR(CHOOSE(WEEKDAY(A60,2),norm!C$1,norm!C$2,norm!C$3,norm!C$4,norm!C$5,norm!C$6,norm!C$7),\"\")","v":"07:30:00"}]
["2019-02-27","On","",null,null,null,"","00:00:00","",{"$f":"IF(AND(C61=\"\",WEEKDAY(A61,2)<6),ColTime(T.!$J$4,T.!$L$4,D61,E61),\"\")","v":"00:00:00"},null,{"$f":"IFERROR(IF(AND(WEEKDAY(A61,2)<6,C62<>\"\",E61<D61,C61=\"\"),ColTime($AE$1,$AF$1,D61,E61),IF(AND(OR(WEEKDAY(A61,2)=7,C61<>\"\"),E61<D61,C62=\"\"),ColTime($AF$1,$AG$1,'Hele året'!$AF$1,E61),IF(AND(WEEKDAY(A61,2)<6,C62=\"\"),ColTime(T.!$J$5,T.!$L$5,D61,E61),\"\"))),\"\")","v":"00:00:00"},null,"",{"$f":"IFERROR(IF(AND(WEEKDAY(A61,2)<6,C62<>\"\",C61=\"\"),ColTime(T.!$J$7,T.!$L$7,$AF$1,'Hele året'!E61),IF(AND(C61<>\"\",C62<>\"\"),ColTime(T.!$J$7,T.!$L$7,'Hele året'!D61,'Hele året'!E61),IF(AND(OR(WEEKDAY(A61,2)<6,WEEKDAY(A61,2)=6),C61<>\"\",E61<D61),ColTime(T.!$J$7,T.!$L$7,D61,AF58),IF(AND(WEEKDAY(A61,2)=6,E61<D61),ColTime(T.!$J$7,T.!$L$7,$AF$1,E61),IF(AND(E61<D61,OR(C61<>\"\",WEEKDAY(A61,2)=7)),ColTime(T.!J64,T.!L64,D61,$AF$1),IF(AND(E61<>\"\",OR(C61<>\"\",WEEKDAY(A61,2)=7)),ColTime(T.!$J$7,T.!$L$7,D61,E61),\"\")))))),\"\")","v":""},"",null,null,{"$f":"IFERROR(CHOOSE(WEEKDAY(A61,2),norm!C$1,norm!C$2,norm!C$3,norm!C$4,norm!C$5,norm!C$6,norm!C$7),\"\")","v":"07:30:00"}]
["2019-02-28","To","",null,null,null,"","00:00:00","",{"$f":"IF(AND(C62=\"\",WEEKDAY(A62,2)<6),ColTime(T.!$J$4,T.!$L$4,D62,E62),\"\")","v":"00:00:00"},null,{"$f":"IFERROR(IF(AND(WEEKDAY(A62,2)<6,C63<>\"\",E62<D62,C62=\"\"),ColTime($AE$1,$AF$1,D62,E62),IF(AND(OR(WEEKDAY(A62,2)=7,C62<>\"\"),E62<D62,C63=\"\"),ColTime($AF$1,$AG$1,'Hele året'!$AF$1,E62),IF(AND(WEEKDAY(A62,2)<6,C63=\"\"),ColTime(T.!$J$5,T.!$L$5,D62,E62),\"\"))),\"\")","v":"00:00:00"},null,"",{"$f":"IFERROR(IF(AND(WEEKDAY(A62,2)<6,C63<>\"\",C62=\"\"),ColTime(T.!$J$7,T.!$L$7,$AF$1,'Hele året'!E62),IF(AND(C62<>\"\",C63<>\"\"),ColTime(T.!$J$7,T.!$L$7,'Hele året'!D62,'Hele året'!E62),IF(AND(OR(WEEKDAY(A62,2)<6,WEEKDAY(A62,2)=6),C62<>\"\",E62<D62),ColTime(T.!$J$7,T.!$L$7,D62,AF59),IF(AND(WEEKDAY(A62,2)=6,E62<D62),ColTime(T.!$J$7,T.!$L$7,$AF$1,E62),IF(AND(E62<D62,OR(C62<>\"\",WEEKDAY(A62,2)=7)),ColTime(T.!J65,T.!L65,D62,$AF$1),IF(AND(E62<>\"\",OR(C62<>\"\",WEEKDAY(A62,2)=7)),ColTime(T.!$J$7,T.!$L$7,D62,E62),\"\")))))),\"\")","v":""},"",null,null,{"$f":"IFERROR(CHOOSE(WEEKDAY(A62,2),norm!C$1,norm!C$2,norm!C$3,norm!C$4,norm!C$5,norm!C$6,norm!C$7),\"\")","v":"07:30:00"}]
["2019-03-01","Fr","",null,null,null,"","00:00:00","",{"$f":"IF(AND(C63=\"\",WEEKDAY(A63,2)<6),ColTime(T.!$J$4,T.!$L$4,D63,E63),\"\")","v":"00:00:00"},null,{"$f":"IFERROR(IF(AND(WEEKDAY(A63,2)<6,C64<>\"\",E63<D63,C63=\"\"),ColTime($AE$1,$AF$1,D63,E63),IF(AND(OR(WEEKDAY(A63,2)=7,C63<>\"\"),E63<D63,C64=\"\"),ColTime($AF$1,$AG$1,'Hele året'!$AF$1,E63),IF(AND(WEEKDAY(A63,2)<6,C64=\"\"),ColTime(T.!$J$5,T.!$L$5,D63,E63),\"\"))),\"\")","v":"00:00:00"},null,"",{"$f":"IFERROR(IF(AND(WEEKDAY(A63,2)<6,C64<>\"\",C63=\"\"),ColTime(T.!$J$7,T.!$L$7,$AF$1,'Hele året'!E63),IF(AND(C63<>\"\",C64<>\"\"),ColTime(T.!$J$7,T.!$L$7,'Hele året'!D63,'Hele året'!E63),IF(AND(OR(WEEKDAY(A63,2)<6,WEEKDAY(A63,2)=6),C63<>\"\",E63<D63),ColTime(T.!$J$7,T.!$L$7,D63,AF60),IF(AND(WEEKDAY(A63,2)=6,E63<D63),ColTime(T.!$J$7,T.!$L$7,$AF$1,E63),IF(AND(E63<D63,OR(C63<>\"\",WEEKDAY(A63,2)=7)),ColTime(T.!J66,T.!L66,D63,$AF$1),IF(AND(E63<>\"\",OR(C63<>\"\",WEEKDAY(A63,2)=7)),ColTime(T.!$J$7,T.!$L$7,D63,E63),\"\")))))),\"\")","v":""},"",null,null,{"$f":"IFERROR(CHOOSE(WEEKDAY(A63,2),norm!C$1,norm!C$2,norm!C$3,norm!C$4,norm!C$5,norm!C$6,norm!C$7),\"\")","v":"07:00:00"}]
["2019-03-02","Lø","",null,null,null,"","00:00:00","",{"$f":"IF(AND(C64=\"\",WEEKDAY(A64,2)<6),ColTime(T.!$J$4,T.!$L$4,D64,E64),\"\")","v":""},null,{"$f":"IFERROR(IF(AND(WEEKDAY(A64,2)<6,C65<>\"\",E64<D64,C64=\"\"),ColTime($AE$1,$AF$1,D64,E64),IF(AND(OR(WEEKDAY(A64,2)=7,C64<>\"\"),E64<D64,C65=\"\"),ColTime($AF$1,$AG$1,'Hele året'!$AF$1,E64),IF(AND(WEEKDAY(A64,2)<6,C65=\"\"),ColTime(T.!$J$5,T.!$L$5,D64,E64),\"\"))),\"\")","v":""},null,"00:00:00",{"$f":"IFERROR(IF(AND(WEEKDAY(A64,2)<6,C65<>\"\",C64=\"\"),ColTime(T.!$J$7,T.!$L$7,$AF$1,'Hele året'!E64),IF(AND(C64<>\"\",C65<>\"\"),ColTime(T.!$J$7,T.!$L$7,'Hele året'!D64,'Hele året'!E64),IF(AND(OR(WEEKDAY(A64,2)<6,WEEKDAY(A64,2)=6),C64<>\"\",E64<D64),ColTime(T.!$J$7,T.!$L$7,D64,AF61),IF(AND(WEEKDAY(A64,2)=6,E64<D64),ColTime(T.!$J$7,T.!$L$7,$AF$1,E64),IF(AND(E64<D64,OR(C64<>\"\",WEEKDAY(A64,2)=7)),ColTime(T.!J67,T.!L67,D64,$AF$1),IF(AND(E64<>\"\",OR(C64<>\"\",WEEKDAY(A64,2)=7)),ColTime(T.!$J$7,T.!$L$7,D64,E64),\"\")))))),\"\")","v":""},"",null,null,{"$f":"IFERROR(CHOOSE(WEEKDAY(A64,2),norm!C$1,norm!C$2,norm!C$3,norm!C$4,norm!C$5,norm!C$6,norm!C$7),\"\")","v":"00:00:00"}]
["2019-03-03","Sø","",null,null,null,"","00:00:00","",{"$f":"IF(AND(C65=\"\",WEEKDAY(A65,2)<6),ColTime(T.!$J$4,T.!$L$4,D65,E65),\"\")","v":""},null,{"$f":"IFERROR(IF(AND(WEEKDAY(A65,2)<6,C66<>\"\",E65<D65,C65=\"\"),ColTime($AE$1,$AF$1,D65,E65),IF(AND(OR(WEEKDAY(A65,2)=7,C65<>\"\"),E65<D65,C66=\"\"),ColTime($AF$1,$AG$1,'Hele året'!$AF$1,E65),IF(AND(WEEKDAY(A65,2)<6,C66=\"\"),ColTime(T.!$J$5,T.!$L$5,D65,E65),\"\"))),\"\")","v":""},null,"",{"$f":"IFERROR(IF(AND(WEEKDAY(A65,2)<6,C66<>\"\",C65=\"\"),ColTime(T.!$J$7,T.!$L$7,$AF$1,'Hele året'!E65),IF(AND(C65<>\"\",C66<>\"\"),ColTime(T.!$J$7,T.!$L$7,'Hele året'!D65,'Hele året'!E65),IF(AND(OR(WEEKDAY(A65,2)<6,WEEKDAY(A65,2)=6),C65<>\"\",E65<D65),ColTime(T.!$J$7,T.!$L$7,D65,AF62),IF(AND(WEEKDAY(A65,2)=6,E65<D65),ColTime(T.!$J$7,T.!$L$7,$AF$1,E65),IF(AND(E65<D65,OR(C65<>\"\",WEEKDAY(A65,2)=7)),ColTime(T.!J68,T.!L68,D65,$AF$1),IF(AND(E65<>\"\",OR(C65<>\"\",WEEKDAY(A65,2)=7)),ColTime(T.!$J$7,T.!$L$7,D65,E65),\"\")))))),\"\")","v":""},"",null,null,{"$f":"IFERROR(CHOOSE(WEEKDAY(A65,2),norm!C$1,norm!C$2,norm!C$3,norm!C$4,norm!C$5,norm!C$6,norm!C$7),\"\")","v":"00:00:00"}]
["2019-03-04","Ma","",null,null,null,"","00:00:00","",{"$f":"IF(AND(C66=\"\",WEEKDAY(A66,2)<6),ColTime(T.!$J$4,T.!$L$4,D66,E66),\"\")","v":"00:00:00"},null,{"$f":"IFERROR(IF(AND(WEEKDAY(A66,2)<6,C67<>\"\",E66<D66,C66=\"\"),ColTime($AE$1,$AF$1,D66,E66),IF(AND(OR(WEEKDAY(A66,2)=7,C66<>\"\"),E66<D66,C67=\"\"),ColTime($AF$1,$AG$1,'Hele året'!$AF$1,E66),IF(AND(WEEKDAY(A66,2)<6,C67=\"\"),ColTime(T.!$J$5,T.!$L$5,D66,E66),\"\"))),\"\")","v":"00:00:00"},null,"",{"$f":"IFERROR(IF(AND(WEEKDAY(A66,2)<6,C67<>\"\",C66=\"\"),ColTime(T.!$J$7,T.!$L$7,$AF$1,'Hele året'!E66),IF(AND(C66<>\"\",C67<>\"\"),ColTime(T.!$J$7,T.!$L$7,'Hele året'!D66,'Hele året'!E66),IF(AND(OR(WEEKDAY(A66,2)<6,WEEKDAY(A66,2)=6),C66<>\"\",E66<D66),ColTime(T.!$J$7,T.!$L$7,D66,AF63),IF(AND(WEEKDAY(A66,2)=6,E66<D66),ColTime(T.!$J$7,T.!$L$7,$AF$1,E66),IF(AND(E66<D66,OR(C66<>\"\",WEEKDAY(A66,2)=7)),ColTime(T.!J69,T.!L69,D66,$AF$1),IF(AND(E66<>\"\",OR(C66<>\"\",WEEKDAY(A66,2)=7)),ColTime(T.!$J$7,T.!$L$7,D66,E66),\"\")))))),\"\")","v":""},"",null,null,{"$f":"IFERROR(CHOOSE(WEEKDAY(A66,2),norm!C$1,norm!C$2,norm!C$3,norm!C$4,norm!C$5,norm!C$6,norm!C$7),\"\")","v":"07:30:00"}]
["2019-03-05","Ti","",null,null,null,"","00:00:00","",{"$f":"IF(AND(C67=\"\",WEEKDAY(A67,2)<6),ColTime(T.!$J$4,T.!$L$4,D67,E67),\"\")","v":"00:00:00"},null,{"$f":"IFERROR(IF(AND(WEEKDAY(A67,2)<6,C68<>\"\",E67<D67,C67=\"\"),ColTime($AE$1,$AF$1,D67,E67),IF(AND(OR(WEEKDAY(A67,2)=7,C67<>\"\"),E67<D67,C68=\"\"),ColTime($AF$1,$AG$1,'Hele året'!$AF$1,E67),IF(AND(WEEKDAY(A67,2)<6,C68=\"\"),ColTime(T.!$J$5,T.!$L$5,D67,E67),\"\"))),\"\")","v":"00:00:00"},null,"",{"$f":"IFERROR(IF(AND(WEEKDAY(A67,2)<6,C68<>\"\",C67=\"\"),ColTime(T.!$J$7,T.!$L$7,$AF$1,'Hele året'!E67),IF(AND(C67<>\"\",C68<>\"\"),ColTime(T.!$J$7,T.!$L$7,'Hele året'!D67,'Hele året'!E67),IF(AND(OR(WEEKDAY(A67,2)<6,WEEKDAY(A67,2)=6),C67<>\"\",E67<D67),ColTime(T.!$J$7,T.!$L$7,D67,AF64),IF(AND(WEEKDAY(A67,2)=6,E67<D67),ColTime(T.!$J$7,T.!$L$7,$AF$1,E67),IF(AND(E67<D67,OR(C67<>\"\",WEEKDAY(A67,2)=7)),ColTime(T.!J70,T.!L70,D67,$AF$1),IF(AND(E67<>\"\",OR(C67<>\"\",WEEKDAY(A67,2)=7)),ColTime(T.!$J$7,T.!$L$7,D67,E67),\"\")))))),\"\")","v":""},"",null,null,{"$f":"IFERROR(CHOOSE(WEEKDAY(A67,2),norm!C$1,norm!C$2,norm!C$3,norm!C$4,norm!C$5,norm!C$6,norm!C$7),\"\")","v":"07:30:00"}]
["2019-03-06","On","",null,null,null,"","00:00:00","",{"$f":"IF(AND(C68=\"\",WEEKDAY(A68,2)<6),ColTime(T.!$J$4,T.!$L$4,D68,E68),\"\")","v":"00:00:00"},null,{"$f":"IFERROR(IF(AND(WEEKDAY(A68,2)<6,C69<>\"\",E68<D68,C68=\"\"),ColTime($AE$1,$AF$1,D68,E68),IF(AND(OR(WEEKDAY(A68,2)=7,C68<>\"\"),E68<D68,C69=\"\"),ColTime($AF$1,$AG$1,'Hele året'!$AF$1,E68),IF(AND(WEEKDAY(A68,2)<6,C69=\"\"),ColTime(T.!$J$5,T.!$L$5,D68,E68),\"\"))),\"\")","v":"00:00:00"},null,"",{"$f":"IFERROR(IF(AND(WEEKDAY(A68,2)<6,C69<>\"\",C68=\"\"),ColTime(T.!$J$7,T.!$L$7,$AF$1,'Hele året'!E68),IF(AND(C68<>\"\",C69<>\"\"),ColTime(T.!$J$7,T.!$L$7,'Hele året'!D68,'Hele året'!E68),IF(AND(OR(WEEKDAY(A68,2)<6,WEEKDAY(A68,2)=6),C68<>\"\",E68<D68),ColTime(T.!$J$7,T.!$L$7,D68,AF65),IF(AND(WEEKDAY(A68,2)=6,E68<D68),ColTime(T.!$J$7,T.!$L$7,$AF$1,E68),IF(AND(E68<D68,OR(C68<>\"\",WEEKDAY(A68,2)=7)),ColTime(T.!J71,T.!L71,D68,$AF$1),IF(AND(E68<>\"\",OR(C68<>\"\",WEEKDAY(A68,2)=7)),ColTime(T.!$J$7,T.!$L$7,D68,E68),\"\")))))),\"\")","v":""},"",null,null,{"$f":"IFERROR(CHOOSE(WEEKDAY(A68,2),norm!C$1,norm!C$2,norm!C$3,norm!C$4,norm!C$5,norm!C$6,norm!C$7),\"\")","v":"07:30:00"}]
["2019-03-07","To","",null,null,null,"","00:00:00","",{"$f":"IF(AND(C69=\"\",WEEKDAY(A69,2)<6),ColTime(T.!$J$4,T.!$L$4,D69,E69),\"\")","v":"00:00:00"},null,{"$f":"IFERROR(IF(AND(WEEKDAY(A69,2)<6,C70<>\"\",E69<D69,C69=\"\"),ColTime($AE$1,$AF$1,D69,E69),IF(AND(OR(WEEKDAY(A69,2)=7,C69<>\"\"),E69<D69,C70=\"\"),ColTime($AF$1,$AG$1,'Hele året'!$AF$1,E69),IF(AND(WEEKDAY(A69,2)<6,C70=\"\"),ColTime(T.!$J$5,T.!$L$5,D69,E69),\"\"))),\"\")","v":"00:00:00"},null,"",{"$f":"IFERROR(IF(AND(WEEKDAY(A69,2)<6,C70<>\"\",C69=\"\"),ColTime(T.!$J$7,T.!$L$7,$AF$1,'Hele året'!E69),IF(AND(C69<>\"\",C70<>\"\"),ColTime(T.!$J$7,T.!$L$7,'Hele året'!D69,'Hele året'!E69),IF(AND(OR(WEEKDAY(A69,2)<6,WEEKDAY(A69,2)=6),C69<>\"\",E69<D69),ColTime(T.!$J$7,T.!$L$7,D69,AF66),IF(AND(WEEKDAY(A69,2)=6,E69<D69),ColTime(T.!$J$7,T.!$L$7,$AF$1,E69),IF(AND(E69<D69,OR(C69<>\"\",WEEKDAY(A69,2)=7)),ColTime(T.!J72,T.!L72,D69,$AF$1),IF(AND(E69<>\"\",OR(C69<>\"\",WEEKDAY(A69,2)=7)),ColTime(T.!$J$7,T.!$L$7,D69,E69),\"\")))))),\"\")","v":""},"",null,null,{"$f":"IFERROR(CHOOSE(WEEKDAY(A69,2),norm!C$1,norm!C$2,norm!C$3,norm!C$4,norm!C$5,norm!C$6,norm!C$7),\"\")","v":"07:30:00"}]
["2019-03-08","Fr","",null,null,null,"","00:00:00","",{"$f":"IF(AND(C70=\"\",WEEKDAY(A70,2)<6),ColTime(T.!$J$4,T.!$L$4,D70,E70),\"\")","v":"00:00:00"},null,{"$f":"IFERROR(IF(AND(WEEKDAY(A70,2)<6,C71<>\"\",E70<D70,C70=\"\"),ColTime($AE$1,$AF$1,D70,E70),IF(AND(OR(WEEKDAY(A70,2)=7,C70<>\"\"),E70<D70,C71=\"\"),ColTime($AF$1,$AG$1,'Hele året'!$AF$1,E70),IF(AND(WEEKDAY(A70,2)<6,C71=\"\"),ColTime(T.!$J$5,T.!$L$5,D70,E70),\"\"))),\"\")","v":"00:00:00"},null,"",{"$f":"IFERROR(IF(AND(WEEKDAY(A70,2)<6,C71<>\"\",C70=\"\"),ColTime(T.!$J$7,T.!$L$7,$AF$1,'Hele året'!E70),IF(AND(C70<>\"\",C71<>\"\"),ColTime(T.!$J$7,T.!$L$7,'Hele året'!D70,'Hele året'!E70),IF(AND(OR(WEEKDAY(A70,2)<6,WEEKDAY(A70,2)=6),C70<>\"\",E70<D70),ColTime(T.!$J$7,T.!$L$7,D70,AF67),IF(AND(WEEKDAY(A70,2)=6,E70<D70),ColTime(T.!$J$7,T.!$L$7,$AF$1,E70),IF(AND(E70<D70,OR(C70<>\"\",WEEKDAY(A70,2)=7)),ColTime(T.!J73,T.!L73,D70,$AF$1),IF(AND(E70<>\"\",OR(C70<>\"\",WEEKDAY(A70,2)=7)),ColTime(T.!$J$7,T.!$L$7,D70,E70),\"\")))))),\"\")","v":""},"",null,null,{"$f":"IFERROR(CHOOSE(WEEKDAY(A70,2),norm!C$1,norm!C$2,norm!C$3,norm!C$4,norm!C$5,norm!C$6,norm!C$7),\"\")","v":"07:00:00"}]
["2019-03-09","Lø","",null,null,null,"","00:00:00","",{"$f":"IF(AND(C71=\"\",WEEKDAY(A71,2)<6),ColTime(T.!$J$4,T.!$L$4,D71,E71),\"\")","v":""},null,{"$f":"IFERROR(IF(AND(WEEKDAY(A71,2)<6,C72<>\"\",E71<D71,C71=\"\"),ColTime($AE$1,$AF$1,D71,E71),IF(AND(OR(WEEKDAY(A71,2)=7,C71<>\"\"),E71<D71,C72=\"\"),ColTime($AF$1,$AG$1,'Hele året'!$AF$1,E71),IF(AND(WEEKDAY(A71,2)<6,C72=\"\"),ColTime(T.!$J$5,T.!$L$5,D71,E71),\"\"))),\"\")","v":""},null,"00:00:00",{"$f":"IFERROR(IF(AND(WEEKDAY(A71,2)<6,C72<>\"\",C71=\"\"),ColTime(T.!$J$7,T.!$L$7,$AF$1,'Hele året'!E71),IF(AND(C71<>\"\",C72<>\"\"),ColTime(T.!$J$7,T.!$L$7,'Hele året'!D71,'Hele året'!E71),IF(AND(OR(WEEKDAY(A71,2)<6,WEEKDAY(A71,2)=6),C71<>\"\",E71<D71),ColTime(T.!$J$7,T.!$L$7,D71,AF68),IF(AND(WEEKDAY(A71,2)=6,E71<D71),ColTime(T.!$J$7,T.!$L$7,$AF$1,E71),IF(AND(E71<D71,OR(C71<>\"\",WEEKDAY(A71,2)=7)),ColTime(T.!J74,T.!L74,D71,$AF$1),IF(AND(E71<>\"\",OR(C71<>\"\",WEEKDAY(A71,2)=7)),ColTime(T.!$J$7,T.!$L$7,D71,E71),\"\")))))),\"\")","v":""},"",null,null,{"$f":"IFERROR(CHOOSE(WEEKDAY(A71,2),norm!C$1,norm!C$2,norm!C$3,norm!C$4,norm!C$5,norm!C$6,norm!C$7),\"\")","v":"00:00:00"}]
["2019-03-10","Sø","",null,null,null,"","00:00:00","",{"$f":"IF(AND(C72=\"\",WEEKDAY(A72,2)<6),ColTime(T.!$J$4,T.!$L$4,D72,E72),\"\")","v":""},null,{"$f":"IFERROR(IF(AND(WEEKDAY(A72,2)<6,C73<>\"\",E72<D72,C72=\"\"),ColTime($AE$1,$AF$1,D72,E72),IF(AND(OR(WEEKDAY(A72,2)=7,C72<>\"\"),E72<D72,C73=\"\"),ColTime($AF$1,$AG$1,'Hele året'!$AF$1,E72),IF(AND(WEEKDAY(A72,2)<6,C73=\"\"),ColTime(T.!$J$5,T.!$L$5,D72,E72),\"\"))),\"\")","v":""},null,"",{"$f":"IFERROR(IF(AND(WEEKDAY(A72,2)<6,C73<>\"\",C72=\"\"),ColTime(T.!$J$7,T.!$L$7,$AF$1,'Hele året'!E72),IF(AND(C72<>\"\",C73<>\"\"),ColTime(T.!$J$7,T.!$L$7,'Hele året'!D72,'Hele året'!E72),IF(AND(OR(WEEKDAY(A72,2)<6,WEEKDAY(A72,2)=6),C72<>\"\",E72<D72),ColTime(T.!$J$7,T.!$L$7,D72,AF69),IF(AND(WEEKDAY(A72,2)=6,E72<D72),ColTime(T.!$J$7,T.!$L$7,$AF$1,E72),IF(AND(E72<D72,OR(C72<>\"\",WEEKDAY(A72,2)=7)),ColTime(T.!J75,T.!L75,D72,$AF$1),IF(AND(E72<>\"\",OR(C72<>\"\",WEEKDAY(A72,2)=7)),ColTime(T.!$J$7,T.!$L$7,D72,E72),\"\")))))),\"\")","v":""},"",null,null,{"$f":"IFERROR(CHOOSE(WEEKDAY(A72,2),norm!C$1,norm!C$2,norm!C$3,norm!C$4,norm!C$5,norm!C$6,norm!C$7),\"\")","v":"00:00:00"}]
["2019-03-11","Ma","",null,null,null,"","00:00:00","",{"$f":"IF(AND(C73=\"\",WEEKDAY(A73,2)<6),ColTime(T.!$J$4,T.!$L$4,D73,E73),\"\")","v":"00:00:00"},null,{"$f":"IFERROR(IF(AND(WEEKDAY(A73,2)<6,C74<>\"\",E73<D73,C73=\"\"),ColTime($AE$1,$AF$1,D73,E73),IF(AND(OR(WEEKDAY(A73,2)=7,C73<>\"\"),E73<D73,C74=\"\"),ColTime($AF$1,$AG$1,'Hele året'!$AF$1,E73),IF(AND(WEEKDAY(A73,2)<6,C74=\"\"),ColTime(T.!$J$5,T.!$L$5,D73,E73),\"\"))),\"\")","v":"00:00:00"},null,"",{"$f":"IFERROR(IF(AND(WEEKDAY(A73,2)<6,C74<>\"\",C73=\"\"),ColTime(T.!$J$7,T.!$L$7,$AF$1,'Hele året'!E73),IF(AND(C73<>\"\",C74<>\"\"),ColTime(T.!$J$7,T.!$L$7,'Hele året'!D73,'Hele året'!E73),IF(AND(OR(WEEKDAY(A73,2)<6,WEEKDAY(A73,2)=6),C73<>\"\",E73<D73),ColTime(T.!$J$7,T.!$L$7,D73,AF70),IF(AND(WEEKDAY(A73,2)=6,E73<D73),ColTime(T.!$J$7,T.!$L$7,$AF$1,E73),IF(AND(E73<D73,OR(C73<>\"\",WEEKDAY(A73,2)=7)),ColTime(T.!J76,T.!L76,D73,$AF$1),IF(AND(E73<>\"\",OR(C73<>\"\",WEEKDAY(A73,2)=7)),ColTime(T.!$J$7,T.!$L$7,D73,E73),\"\")))))),\"\")","v":""},"",null,null,{"$f":"IFERROR(CHOOSE(WEEKDAY(A73,2),norm!C$1,norm!C$2,norm!C$3,norm!C$4,norm!C$5,norm!C$6,norm!C$7),\"\")","v":"07:30:00"}]
["2019-03-12","Ti","",null,null,null,"","00:00:00","",{"$f":"IF(AND(C74=\"\",WEEKDAY(A74,2)<6),ColTime(T.!$J$4,T.!$L$4,D74,E74),\"\")","v":"00:00:00"},null,{"$f":"IFERROR(IF(AND(WEEKDAY(A74,2)<6,C75<>\"\",E74<D74,C74=\"\"),ColTime($AE$1,$AF$1,D74,E74),IF(AND(OR(WEEKDAY(A74,2)=7,C74<>\"\"),E74<D74,C75=\"\"),ColTime($AF$1,$AG$1,'Hele året'!$AF$1,E74),IF(AND(WEEKDAY(A74,2)<6,C75=\"\"),ColTime(T.!$J$5,T.!$L$5,D74,E74),\"\"))),\"\")","v":"00:00:00"},null,"",{"$f":"IFERROR(IF(AND(WEEKDAY(A74,2)<6,C75<>\"\",C74=\"\"),ColTime(T.!$J$7,T.!$L$7,$AF$1,'Hele året'!E74),IF(AND(C74<>\"\",C75<>\"\"),ColTime(T.!$J$7,T.!$L$7,'Hele året'!D74,'Hele året'!E74),IF(AND(OR(WEEKDAY(A74,2)<6,WEEKDAY(A74,2)=6),C74<>\"\",E74<D74),ColTime(T.!$J$7,T.!$L$7,D74,AF71),IF(AND(WEEKDAY(A74,2)=6,E74<D74),ColTime(T.!$J$7,T.!$L$7,$AF$1,E74),IF(AND(E74<D74,OR(C74<>\"\",WEEKDAY(A74,2)=7)),ColTime(T.!J77,T.!L77,D74,$AF$1),IF(AND(E74<>\"\",OR(C74<>\"\",WEEKDAY(A74,2)=7)),ColTime(T.!$J$7,T.!$L$7,D74,E74),\"\")))))),\"\")","v":""},"",null,null,{"$f":"IFERROR(CHOOSE(WEEKDAY(A74,2),norm!C$1,norm!C$2,norm!C$3,norm!C$4,norm!C$5,norm!C$6,norm!C$7),\"\")","v":"07:30:00"}]
["2019-03-13","On","",null,null,null,"","00:00:00","",{"$f":"IF(AND(C75=\"\",WEEKDAY(A75,2)<6),ColTime(T.!$J$4,T.!$L$4,D75,E75),\"\")","v":"00:00:00"},null,{"$f":"IFERROR(IF(AND(WEEKDAY(A75,2)<6,C76<>\"\",E75<D75,C75=\"\"),ColTime($AE$1,$AF$1,D75,E75),IF(AND(OR(WEEKDAY(A75,2)=7,C75<>\"\"),E75<D75,C76=\"\"),ColTime($AF$1,$AG$1,'Hele året'!$AF$1,E75),IF(AND(WEEKDAY(A75,2)<6,C76=\"\"),ColTime(T.!$J$5,T.!$L$5,D75,E75),\"\"))),\"\")","v":"00:00:00"},null,"",{"$f":"IFERROR(IF(AND(WEEKDAY(A75,2)<6,C76<>\"\",C75=\"\"),ColTime(T.!$J$7,T.!$L$7,$AF$1,'Hele året'!E75),IF(AND(C75<>\"\",C76<>\"\"),ColTime(T.!$J$7,T.!$L$7,'Hele året'!D75,'Hele året'!E75),IF(AND(OR(WEEKDAY(A75,2)<6,WEEKDAY(A75,2)=6),C75<>\"\",E75<D75),ColTime(T.!$J$7,T.!$L$7,D75,AF72),IF(AND(WEEKDAY(A75,2)=6,E75<D75),ColTime(T.!$J$7,T.!$L$7,$AF$1,E75),IF(AND(E75<D75,OR(C75<>\"\",WEEKDAY(A75,2)=7)),ColTime(T.!J78,T.!L78,D75,$AF$1),IF(AND(E75<>\"\",OR(C75<>\"\",WEEKDAY(A75,2)=7)),ColTime(T.!$J$7,T.!$L$7,D75,E75),\"\")))))),\"\")","v":""},"",null,null,{"$f":"IFERROR(CHOOSE(WEEKDAY(A75,2),norm!C$1,norm!C$2,norm!C$3,norm!C$4,norm!C$5,norm!C$6,norm!C$7),\"\")","v":"07:30:00"}]
["2019-03-14","To","",null,null,null,"","00:00:00","",{"$f":"IF(AND(C76=\"\",WEEKDAY(A76,2)<6),ColTime(T.!$J$4,T.!$L$4,D76,E76),\"\")","v":"00:00:00"},null,{"$f":"IFERROR(IF(AND(WEEKDAY(A76,2)<6,C77<>\"\",E76<D76,C76=\"\"),ColTime($AE$1,$AF$1,D76,E76),IF(AND(OR(WEEKDAY(A76,2)=7,C76<>\"\"),E76<D76,C77=\"\"),ColTime($AF$1,$AG$1,'Hele året'!$AF$1,E76),IF(AND(WEEKDAY(A76,2)<6,C77=\"\"),ColTime(T.!$J$5,T.!$L$5,D76,E76),\"\"))),\"\")","v":"00:00:00"},null,"",{"$f":"IFERROR(IF(AND(WEEKDAY(A76,2)<6,C77<>\"\",C76=\"\"),ColTime(T.!$J$7,T.!$L$7,$AF$1,'Hele året'!E76),IF(AND(C76<>\"\",C77<>\"\"),ColTime(T.!$J$7,T.!$L$7,'Hele året'!D76,'Hele året'!E76),IF(AND(OR(WEEKDAY(A76,2)<6,WEEKDAY(A76,2)=6),C76<>\"\",E76<D76),ColTime(T.!$J$7,T.!$L$7,D76,AF73),IF(AND(WEEKDAY(A76,2)=6,E76<D76),ColTime(T.!$J$7,T.!$L$7,$AF$1,E76),IF(AND(E76<D76,OR(C76<>\"\",WEEKDAY(A76,2)=7)),ColTime(T.!J79,T.!L79,D76,$AF$1),IF(AND(E76<>\"\",OR(C76<>\"\",WEEKDAY(A76,2)=7)),ColTime(T.!$J$7,T.!$L$7,D76,E76),\"\")))))),\"\")","v":""},"",null,null,{"$f":"IFERROR(CHOOSE(WEEKDAY(A76,2),norm!C$1,norm!C$2,norm!C$3,norm!C$4,norm!C$5,norm!C$6,norm!C$7),\"\")","v":"07:30:00"}]
["2019-03-15","Fr","",null,null,null,"","00:00:00","",{"$f":"IF(AND(C77=\"\",WEEKDAY(A77,2)<6),ColTime(T.!$J$4,T.!$L$4,D77,E77),\"\")","v":"00:00:00"},null,{"$f":"IFERROR(IF(AND(WEEKDAY(A77,2)<6,C78<>\"\",E77<D77,C77=\"\"),ColTime($AE$1,$AF$1,D77,E77),IF(AND(OR(WEEKDAY(A77,2)=7,C77<>\"\"),E77<D77,C78=\"\"),ColTime($AF$1,$AG$1,'Hele året'!$AF$1,E77),IF(AND(WEEKDAY(A77,2)<6,C78=\"\"),ColTime(T.!$J$5,T.!$L$5,D77,E77),\"\"))),\"\")","v":"00:00:00"},null,"",{"$f":"IFERROR(IF(AND(WEEKDAY(A77,2)<6,C78<>\"\",C77=\"\"),ColTime(T.!$J$7,T.!$L$7,$AF$1,'Hele året'!E77),IF(AND(C77<>\"\",C78<>\"\"),ColTime(T.!$J$7,T.!$L$7,'Hele året'!D77,'Hele året'!E77),IF(AND(OR(WEEKDAY(A77,2)<6,WEEKDAY(A77,2)=6),C77<>\"\",E77<D77),ColTime(T.!$J$7,T.!$L$7,D77,AF74),IF(AND(WEEKDAY(A77,2)=6,E77<D77),ColTime(T.!$J$7,T.!$L$7,$AF$1,E77),IF(AND(E77<D77,OR(C77<>\"\",WEEKDAY(A77,2)=7)),ColTime(T.!J80,T.!L80,D77,$AF$1),IF(AND(E77<>\"\",OR(C77<>\"\",WEEKDAY(A77,2)=7)),ColTime(T.!$J$7,T.!$L$7,D77,E77),\"\")))))),\"\")","v":""},"",null,null,{"$f":"IFERROR(CHOOSE(WEEKDAY(A77,2),norm!C$1,norm!C$2,norm!C$3,norm!C$4,norm!C$5,norm!C$6,norm!C$7),\"\")","v":"07:00:00"}]
["2019-03-16","Lø","",null,null,null,"","00:00:00","",{"$f":"IF(AND(C78=\"\",WEEKDAY(A78,2)<6),ColTime(T.!$J$4,T.!$L$4,D78,E78),\"\")","v":""},null,{"$f":"IFERROR(IF(AND(WEEKDAY(A78,2)<6,C79<>\"\",E78<D78,C78=\"\"),ColTime($AE$1,$AF$1,D78,E78),IF(AND(OR(WEEKDAY(A78,2)=7,C78<>\"\"),E78<D78,C79=\"\"),ColTime($AF$1,$AG$1,'Hele året'!$AF$1,E78),IF(AND(WEEKDAY(A78,2)<6,C79=\"\"),ColTime(T.!$J$5,T.!$L$5,D78,E78),\"\"))),\"\")","v":""},null,"00:00:00",{"$f":"IFERROR(IF(AND(WEEKDAY(A78,2)<6,C79<>\"\",C78=\"\"),ColTime(T.!$J$7,T.!$L$7,$AF$1,'Hele året'!E78),IF(AND(C78<>\"\",C79<>\"\"),ColTime(T.!$J$7,T.!$L$7,'Hele året'!D78,'Hele året'!E78),IF(AND(OR(WEEKDAY(A78,2)<6,WEEKDAY(A78,2)=6),C78<>\"\",E78<D78),ColTime(T.!$J$7,T.!$L$7,D78,AF75),IF(AND(WEEKDAY(A78,2)=6,E78<D78),ColTime(T.!$J$7,T.!$L$7,$AF$1,E78),IF(AND(E78<D78,OR(C78<>\"\",WEEKDAY(A78,2)=7)),ColTime(T.!J81,T.!L81,D78,$AF$1),IF(AND(E78<>\"\",OR(C78<>\"\",WEEKDAY(A78,2)=7)),ColTime(T.!$J$7,T.!$L$7,D78,E78),\"\")))))),\"\")","v":""},"",null,null,{"$f":"IFERROR(CHOOSE(WEEKDAY(A78,2),norm!C$1,norm!C$2,norm!C$3,norm!C$4,norm!C$5,norm!C$6,norm!C$7),\"\")","v":"00:00:00"}]
["2019-03-17","Sø","",null,null,null,"","00:00:00","",{"$f":"IF(AND(C79=\"\",WEEKDAY(A79,2)<6),ColTime(T.!$J$4,T.!$L$4,D79,E79),\"\")","v":""},null,{"$f":"IFERROR(IF(AND(WEEKDAY(A79,2)<6,C80<>\"\",E79<D79,C79=\"\"),ColTime($AE$1,$AF$1,D79,E79),IF(AND(OR(WEEKDAY(A79,2)=7,C79<>\"\"),E79<D79,C80=\"\"),ColTime($AF$1,$AG$1,'Hele året'!$AF$1,E79),IF(AND(WEEKDAY(A79,2)<6,C80=\"\"),ColTime(T.!$J$5,T.!$L$5,D79,E79),\"\"))),\"\")","v":""},null,"",{"$f":"IFERROR(IF(AND(WEEKDAY(A79,2)<6,C80<>\"\",C79=\"\"),ColTime(T.!$J$7,T.!$L$7,$AF$1,'Hele året'!E79),IF(AND(C79<>\"\",C80<>\"\"),ColTime(T.!$J$7,T.!$L$7,'Hele året'!D79,'Hele året'!E79),IF(AND(OR(WEEKDAY(A79,2)<6,WEEKDAY(A79,2)=6),C79<>\"\",E79<D79),ColTime(T.!$J$7,T.!$L$7,D79,AF76),IF(AND(WEEKDAY(A79,2)=6,E79<D79),ColTime(T.!$J$7,T.!$L$7,$AF$1,E79),IF(AND(E79<D79,OR(C79<>\"\",WEEKDAY(A79,2)=7)),ColTime(T.!J82,T.!L82,D79,$AF$1),IF(AND(E79<>\"\",OR(C79<>\"\",WEEKDAY(A79,2)=7)),ColTime(T.!$J$7,T.!$L$7,D79,E79),\"\")))))),\"\")","v":""},"",null,null,{"$f":"IFERROR(CHOOSE(WEEKDAY(A79,2),norm!C$1,norm!C$2,norm!C$3,norm!C$4,norm!C$5,norm!C$6,norm!C$7),\"\")","v":"00:00:00"}]
["2019-03-18","Ma","",null,null,null,"","00:00:00","",{"$f":"IF(AND(C80=\"\",WEEKDAY(A80,2)<6),ColTime(T.!$J$4,T.!$L$4,D80,E80),\"\")","v":"00:00:00"},null,{"$f":"IFERROR(IF(AND(WEEKDAY(A80,2)<6,C81<>\"\",E80<D80,C80=\"\"),ColTime($AE$1,$AF$1,D80,E80),IF(AND(OR(WEEKDAY(A80,2)=7,C80<>\"\"),E80<D80,C81=\"\"),ColTime($AF$1,$AG$1,'Hele året'!$AF$1,E80),IF(AND(WEEKDAY(A80,2)<6,C81=\"\"),ColTime(T.!$J$5,T.!$L$5,D80,E80),\"\"))),\"\")","v":"00:00:00"},null,"",{"$f":"IFERROR(IF(AND(WEEKDAY(A80,2)<6,C81<>\"\",C80=\"\"),ColTime(T.!$J$7,T.!$L$7,$AF$1,'Hele året'!E80),IF(AND(C80<>\"\",C81<>\"\"),ColTime(T.!$J$7,T.!$L$7,'Hele året'!D80,'Hele året'!E80),IF(AND(OR(WEEKDAY(A80,2)<6,WEEKDAY(A80,2)=6),C80<>\"\",E80<D80),ColTime(T.!$J$7,T.!$L$7,D80,AF77),IF(AND(WEEKDAY(A80,2)=6,E80<D80),ColTime(T.!$J$7,T.!$L$7,$AF$1,E80),IF(AND(E80<D80,OR(C80<>\"\",WEEKDAY(A80,2)=7)),ColTime(T.!J83,T.!L83,D80,$AF$1),IF(AND(E80<>\"\",OR(C80<>\"\",WEEKDAY(A80,2)=7)),ColTime(T.!$J$7,T.!$L$7,D80,E80),\"\")))))),\"\")","v":""},"",null,null,{"$f":"IFERROR(CHOOSE(WEEKDAY(A80,2),norm!C$1,norm!C$2,norm!C$3,norm!C$4,norm!C$5,norm!C$6,norm!C$7),\"\")","v":"07:30:00"}]
["2019-03-19","Ti","",null,null,null,"","00:00:00","",{"$f":"IF(AND(C81=\"\",WEEKDAY(A81,2)<6),ColTime(T.!$J$4,T.!$L$4,D81,E81),\"\")","v":"00:00:00"},null,{"$f":"IFERROR(IF(AND(WEEKDAY(A81,2)<6,C82<>\"\",E81<D81,C81=\"\"),ColTime($AE$1,$AF$1,D81,E81),IF(AND(OR(WEEKDAY(A81,2)=7,C81<>\"\"),E81<D81,C82=\"\"),ColTime($AF$1,$AG$1,'Hele året'!$AF$1,E81),IF(AND(WEEKDAY(A81,2)<6,C82=\"\"),ColTime(T.!$J$5,T.!$L$5,D81,E81),\"\"))),\"\")","v":"00:00:00"},null,{"$f":"IF(WEEKDAY(A81,2)=6,ColTime(TIME(15,0,0),TIME(24,0,0),D81,E81),\"\")","v":""},{"$f":"IFERROR(IF(AND(WEEKDAY(A81,2)<6,C82<>\"\",C81=\"\"),ColTime(T.!$J$7,T.!$L$7,$AF$1,'Hele året'!E81),IF(AND(C81<>\"\",C82<>\"\"),ColTime(T.!$J$7,T.!$L$7,'Hele året'!D81,'Hele året'!E81),IF(AND(OR(WEEKDAY(A81,2)<6,WEEKDAY(A81,2)=6),C81<>\"\",E81<D81),ColTime(T.!$J$7,T.!$L$7,D81,AF78),IF(AND(WEEKDAY(A81,2)=6,E81<D81),ColTime(T.!$J$7,T.!$L$7,$AF$1,E81),IF(AND(E81<D81,OR(C81<>\"\",WEEKDAY(A81,2)=7)),ColTime(T.!J84,T.!L84,D81,$AF$1),IF(AND(E81<>\"\",OR(C81<>\"\",WEEKDAY(A81,2)=7)),ColTime(T.!$J$7,T.!$L$7,D81,E81),\"\")))))),\"\")","v":""},{"$f":"IFERROR(H81+I81,\"\")","v":""},null,null,{"$f":"IFERROR(CHOOSE(WEEKDAY(A81,2),norm!C$1,norm!C$2,norm!C$3,norm!C$4,norm!C$5,norm!C$6,norm!C$7),\"\")","v":"07:30:00"}]
["2019-03-20","On","",null,null,null,"","00:00:00","",{"$f":"IF(AND(C82=\"\",WEEKDAY(A82,2)<6),ColTime(T.!$J$4,T.!$L$4,D82,E82),\"\")","v":"00:00:00"},null,{"$f":"IFERROR(IF(AND(WEEKDAY(A82,2)<6,C83<>\"\",E82<D82,C82=\"\"),ColTime($AE$1,$AF$1,D82,E82),IF(AND(OR(WEEKDAY(A82,2)=7,C82<>\"\"),E82<D82,C83=\"\"),ColTime($AF$1,$AG$1,'Hele året'!$AF$1,E82),IF(AND(WEEKDAY(A82,2)<6,C83=\"\"),ColTime(T.!$J$5,T.!$L$5,D82,E82),\"\"))),\"\")","v":"00:00:00"},null,"",{"$f":"IFERROR(IF(AND(WEEKDAY(A82,2)<6,C83<>\"\",C82=\"\"),ColTime(T.!$J$7,T.!$L$7,$AF$1,'Hele året'!E82),IF(AND(C82<>\"\",C83<>\"\"),ColTime(T.!$J$7,T.!$L$7,'Hele året'!D82,'Hele året'!E82),IF(AND(OR(WEEKDAY(A82,2)<6,WEEKDAY(A82,2)=6),C82<>\"\",E82<D82),ColTime(T.!$J$7,T.!$L$7,D82,AF79),IF(AND(WEEKDAY(A82,2)=6,E82<D82),ColTime(T.!$J$7,T.!$L$7,$AF$1,E82),IF(AND(E82<D82,OR(C82<>\"\",WEEKDAY(A82,2)=7)),ColTime(T.!J85,T.!L85,D82,$AF$1),IF(AND(E82<>\"\",OR(C82<>\"\",WEEKDAY(A82,2)=7)),ColTime(T.!$J$7,T.!$L$7,D82,E82),\"\")))))),\"\")","v":""},"",null,null,{"$f":"IFERROR(CHOOSE(WEEKDAY(A82,2),norm!C$1,norm!C$2,norm!C$3,norm!C$4,norm!C$5,norm!C$6,norm!C$7),\"\")","v":"07:30:00"}]
["2019-03-21","To","",null,null,null,"","00:00:00","",{"$f":"IF(AND(C83=\"\",WEEKDAY(A83,2)<6),ColTime(T.!$J$4,T.!$L$4,D83,E83),\"\")","v":"00:00:00"},null,{"$f":"IFERROR(IF(AND(WEEKDAY(A83,2)<6,C84<>\"\",E83<D83,C83=\"\"),ColTime($AE$1,$AF$1,D83,E83),IF(AND(OR(WEEKDAY(A83,2)=7,C83<>\"\"),E83<D83,C84=\"\"),ColTime($AF$1,$AG$1,'Hele året'!$AF$1,E83),IF(AND(WEEKDAY(A83,2)<6,C84=\"\"),ColTime(T.!$J$5,T.!$L$5,D83,E83),\"\"))),\"\")","v":"00:00:00"},null,"",{"$f":"IFERROR(IF(AND(WEEKDAY(A83,2)<6,C84<>\"\",C83=\"\"),ColTime(T.!$J$7,T.!$L$7,$AF$1,'Hele året'!E83),IF(AND(C83<>\"\",C84<>\"\"),ColTime(T.!$J$7,T.!$L$7,'Hele året'!D83,'Hele året'!E83),IF(AND(OR(WEEKDAY(A83,2)<6,WEEKDAY(A83,2)=6),C83<>\"\",E83<D83),ColTime(T.!$J$7,T.!$L$7,D83,AF80),IF(AND(WEEKDAY(A83,2)=6,E83<D83),ColTime(T.!$J$7,T.!$L$7,$AF$1,E83),IF(AND(E83<D83,OR(C83<>\"\",WEEKDAY(A83,2)=7)),ColTime(T.!J86,T.!L86,D83,$AF$1),IF(AND(E83<>\"\",OR(C83<>\"\",WEEKDAY(A83,2)=7)),ColTime(T.!$J$7,T.!$L$7,D83,E83),\"\")))))),\"\")","v":""},"",null,null,{"$f":"IFERROR(CHOOSE(WEEKDAY(A83,2),norm!C$1,norm!C$2,norm!C$3,norm!C$4,norm!C$5,norm!C$6,norm!C$7),\"\")","v":"07:30:00"}]
["2019-03-22","Fr","",null,null,null,"","00:00:00","",{"$f":"IF(AND(C84=\"\",WEEKDAY(A84,2)<6),ColTime(T.!$J$4,T.!$L$4,D84,E84),\"\")","v":"00:00:00"},null,{"$f":"IFERROR(IF(AND(WEEKDAY(A84,2)<6,C85<>\"\",E84<D84,C84=\"\"),ColTime($AE$1,$AF$1,D84,E84),IF(AND(OR(WEEKDAY(A84,2)=7,C84<>\"\"),E84<D84,C85=\"\"),ColTime($AF$1,$AG$1,'Hele året'!$AF$1,E84),IF(AND(WEEKDAY(A84,2)<6,C85=\"\"),ColTime(T.!$J$5,T.!$L$5,D84,E84),\"\"))),\"\")","v":"00:00:00"},null,"",{"$f":"IFERROR(IF(AND(WEEKDAY(A84,2)<6,C85<>\"\",C84=\"\"),ColTime(T.!$J$7,T.!$L$7,$AF$1,'Hele året'!E84),IF(AND(C84<>\"\",C85<>\"\"),ColTime(T.!$J$7,T.!$L$7,'Hele året'!D84,'Hele året'!E84),IF(AND(OR(WEEKDAY(A84,2)<6,WEEKDAY(A84,2)=6),C84<>\"\",E84<D84),ColTime(T.!$J$7,T.!$L$7,D84,AF81),IF(AND(WEEKDAY(A84,2)=6,E84<D84),ColTime(T.!$J$7,T.!$L$7,$AF$1,E84),IF(AND(E84<D84,OR(C84<>\"\",WEEKDAY(A84,2)=7)),ColTime(T.!J87,T.!L87,D84,$AF$1),IF(AND(E84<>\"\",OR(C84<>\"\",WEEKDAY(A84,2)=7)),ColTime(T.!$J$7,T.!$L$7,D84,E84),\"\")))))),\"\")","v":""},"",null,null,{"$f":"IFERROR(CHOOSE(WEEKDAY(A84,2),norm!C$1,norm!C$2,norm!C$3,norm!C$4,norm!C$5,norm!C$6,norm!C$7),\"\")","v":"07:00:00"}]
["2019-03-23","Lø","",null,null,null,"","00:00:00","",{"$f":"IF(AND(C85=\"\",WEEKDAY(A85,2)<6),ColTime(T.!$J$4,T.!$L$4,D85,E85),\"\")","v":""},null,{"$f":"IFERROR(IF(AND(WEEKDAY(A85,2)<6,C86<>\"\",E85<D85,C85=\"\"),ColTime($AE$1,$AF$1,D85,E85),IF(AND(OR(WEEKDAY(A85,2)=7,C85<>\"\"),E85<D85,C86=\"\"),ColTime($AF$1,$AG$1,'Hele året'!$AF$1,E85),IF(AND(WEEKDAY(A85,2)<6,C86=\"\"),ColTime(T.!$J$5,T.!$L$5,D85,E85),\"\"))),\"\")","v":""},null,"00:00:00",{"$f":"IFERROR(IF(AND(WEEKDAY(A85,2)<6,C86<>\"\",C85=\"\"),ColTime(T.!$J$7,T.!$L$7,$AF$1,'Hele året'!E85),IF(AND(C85<>\"\",C86<>\"\"),ColTime(T.!$J$7,T.!$L$7,'Hele året'!D85,'Hele året'!E85),IF(AND(OR(WEEKDAY(A85,2)<6,WEEKDAY(A85,2)=6),C85<>\"\",E85<D85),ColTime(T.!$J$7,T.!$L$7,D85,AF82),IF(AND(WEEKDAY(A85,2)=6,E85<D85),ColTime(T.!$J$7,T.!$L$7,$AF$1,E85),IF(AND(E85<D85,OR(C85<>\"\",WEEKDAY(A85,2)=7)),ColTime(T.!J88,T.!L88,D85,$AF$1),IF(AND(E85<>\"\",OR(C85<>\"\",WEEKDAY(A85,2)=7)),ColTime(T.!$J$7,T.!$L$7,D85,E85),\"\")))))),\"\")","v":""},"",null,null,{"$f":"IFERROR(CHOOSE(WEEKDAY(A85,2),norm!C$1,norm!C$2,norm!C$3,norm!C$4,norm!C$5,norm!C$6,norm!C$7),\"\")","v":"00:00:00"}]
["2019-03-24","Sø","",null,null,null,"","00:00:00","",{"$f":"IF(AND(C86=\"\",WEEKDAY(A86,2)<6),ColTime(T.!$J$4,T.!$L$4,D86,E86),\"\")","v":""},null,{"$f":"IFERROR(IF(AND(WEEKDAY(A86,2)<6,C87<>\"\",E86<D86,C86=\"\"),ColTime($AE$1,$AF$1,D86,E86),IF(AND(OR(WEEKDAY(A86,2)=7,C86<>\"\"),E86<D86,C87=\"\"),ColTime($AF$1,$AG$1,'Hele året'!$AF$1,E86),IF(AND(WEEKDAY(A86,2)<6,C87=\"\"),ColTime(T.!$J$5,T.!$L$5,D86,E86),\"\"))),\"\")","v":""},null,"",{"$f":"IFERROR(IF(AND(WEEKDAY(A86,2)<6,C87<>\"\",C86=\"\"),ColTime(T.!$J$7,T.!$L$7,$AF$1,'Hele året'!E86),IF(AND(C86<>\"\",C87<>\"\"),ColTime(T.!$J$7,T.!$L$7,'Hele året'!D86,'Hele året'!E86),IF(AND(OR(WEEKDAY(A86,2)<6,WEEKDAY(A86,2)=6),C86<>\"\",E86<D86),ColTime(T.!$J$7,T.!$L$7,D86,AF83),IF(AND(WEEKDAY(A86,2)=6,E86<D86),ColTime(T.!$J$7,T.!$L$7,$AF$1,E86),IF(AND(E86<D86,OR(C86<>\"\",WEEKDAY(A86,2)=7)),ColTime(T.!J89,T.!L89,D86,$AF$1),IF(AND(E86<>\"\",OR(C86<>\"\",WEEKDAY(A86,2)=7)),ColTime(T.!$J$7,T.!$L$7,D86,E86),\"\")))))),\"\")","v":""},"",null,null,{"$f":"IFERROR(CHOOSE(WEEKDAY(A86,2),norm!C$1,norm!C$2,norm!C$3,norm!C$4,norm!C$5,norm!C$6,norm!C$7),\"\")","v":"00:00:00"}]
["2019-03-25","Ma","",null,null,null,"","00:00:00","",{"$f":"IF(AND(C87=\"\",WEEKDAY(A87,2)<6),ColTime(T.!$J$4,T.!$L$4,D87,E87),\"\")","v":"00:00:00"},null,{"$f":"IFERROR(IF(AND(WEEKDAY(A87,2)<6,C88<>\"\",E87<D87,C87=\"\"),ColTime($AE$1,$AF$1,D87,E87),IF(AND(OR(WEEKDAY(A87,2)=7,C87<>\"\"),E87<D87,C88=\"\"),ColTime($AF$1,$AG$1,'Hele året'!$AF$1,E87),IF(AND(WEEKDAY(A87,2)<6,C88=\"\"),ColTime(T.!$J$5,T.!$L$5,D87,E87),\"\"))),\"\")","v":"00:00:00"},null,"",{"$f":"IFERROR(IF(AND(WEEKDAY(A87,2)<6,C88<>\"\",C87=\"\"),ColTime(T.!$J$7,T.!$L$7,$AF$1,'Hele året'!E87),IF(AND(C87<>\"\",C88<>\"\"),ColTime(T.!$J$7,T.!$L$7,'Hele året'!D87,'Hele året'!E87),IF(AND(OR(WEEKDAY(A87,2)<6,WEEKDAY(A87,2)=6),C87<>\"\",E87<D87),ColTime(T.!$J$7,T.!$L$7,D87,AF84),IF(AND(WEEKDAY(A87,2)=6,E87<D87),ColTime(T.!$J$7,T.!$L$7,$AF$1,E87),IF(AND(E87<D87,OR(C87<>\"\",WEEKDAY(A87,2)=7)),ColTime(T.!J90,T.!L90,D87,$AF$1),IF(AND(E87<>\"\",OR(C87<>\"\",WEEKDAY(A87,2)=7)),ColTime(T.!$J$7,T.!$L$7,D87,E87),\"\")))))),\"\")","v":""},"",null,null,{"$f":"IFERROR(CHOOSE(WEEKDAY(A87,2),norm!C$1,norm!C$2,norm!C$3,norm!C$4,norm!C$5,norm!C$6,norm!C$7),\"\")","v":"07:30:00"}]
["2019-03-26","Ti","",null,null,null,"","00:00:00","",{"$f":"IF(AND(C88=\"\",WEEKDAY(A88,2)<6),ColTime(T.!$J$4,T.!$L$4,D88,E88),\"\")","v":"00:00:00"},null,{"$f":"IFERROR(IF(AND(WEEKDAY(A88,2)<6,C89<>\"\",E88<D88,C88=\"\"),ColTime($AE$1,$AF$1,D88,E88),IF(AND(OR(WEEKDAY(A88,2)=7,C88<>\"\"),E88<D88,C89=\"\"),ColTime($AF$1,$AG$1,'Hele året'!$AF$1,E88),IF(AND(WEEKDAY(A88,2)<6,C89=\"\"),ColTime(T.!$J$5,T.!$L$5,D88,E88),\"\"))),\"\")","v":"00:00:00"},null,"",{"$f":"IFERROR(IF(AND(WEEKDAY(A88,2)<6,C89<>\"\",C88=\"\"),ColTime(T.!$J$7,T.!$L$7,$AF$1,'Hele året'!E88),IF(AND(C88<>\"\",C89<>\"\"),ColTime(T.!$J$7,T.!$L$7,'Hele året'!D88,'Hele året'!E88),IF(AND(OR(WEEKDAY(A88,2)<6,WEEKDAY(A88,2)=6),C88<>\"\",E88<D88),ColTime(T.!$J$7,T.!$L$7,D88,AF85),IF(AND(WEEKDAY(A88,2)=6,E88<D88),ColTime(T.!$J$7,T.!$L$7,$AF$1,E88),IF(AND(E88<D88,OR(C88<>\"\",WEEKDAY(A88,2)=7)),ColTime(T.!J91,T.!L91,D88,$AF$1),IF(AND(E88<>\"\",OR(C88<>\"\",WEEKDAY(A88,2)=7)),ColTime(T.!$J$7,T.!$L$7,D88,E88),\"\")))))),\"\")","v":""},"",null,null,{"$f":"IFERROR(CHOOSE(WEEKDAY(A88,2),norm!C$1,norm!C$2,norm!C$3,norm!C$4,norm!C$5,norm!C$6,norm!C$7),\"\")","v":"07:30:00"}]
["2019-03-27","On","",null,null,null,"","00:00:00","",{"$f":"IF(AND(C89=\"\",WEEKDAY(A89,2)<6),ColTime(T.!$J$4,T.!$L$4,D89,E89),\"\")","v":"00:00:00"},null,{"$f":"IFERROR(IF(AND(WEEKDAY(A89,2)<6,C90<>\"\",E89<D89,C89=\"\"),ColTime($AE$1,$AF$1,D89,E89),IF(AND(OR(WEEKDAY(A89,2)=7,C89<>\"\"),E89<D89,C90=\"\"),ColTime($AF$1,$AG$1,'Hele året'!$AF$1,E89),IF(AND(WEEKDAY(A89,2)<6,C90=\"\"),ColTime(T.!$J$5,T.!$L$5,D89,E89),\"\"))),\"\")","v":"00:00:00"},null,"",{"$f":"IFERROR(IF(AND(WEEKDAY(A89,2)<6,C90<>\"\",C89=\"\"),ColTime(T.!$J$7,T.!$L$7,$AF$1,'Hele året'!E89),IF(AND(C89<>\"\",C90<>\"\"),ColTime(T.!$J$7,T.!$L$7,'Hele året'!D89,'Hele året'!E89),IF(AND(OR(WEEKDAY(A89,2)<6,WEEKDAY(A89,2)=6),C89<>\"\",E89<D89),ColTime(T.!$J$7,T.!$L$7,D89,AF86),IF(AND(WEEKDAY(A89,2)=6,E89<D89),ColTime(T.!$J$7,T.!$L$7,$AF$1,E89),IF(AND(E89<D89,OR(C89<>\"\",WEEKDAY(A89,2)=7)),ColTime(T.!J92,T.!L92,D89,$AF$1),IF(AND(E89<>\"\",OR(C89<>\"\",WEEKDAY(A89,2)=7)),ColTime(T.!$J$7,T.!$L$7,D89,E89),\"\")))))),\"\")","v":""},"",null,null,{"$f":"IFERROR(CHOOSE(WEEKDAY(A89,2),norm!C$1,norm!C$2,norm!C$3,norm!C$4,norm!C$5,norm!C$6,norm!C$7),\"\")","v":"07:30:00"}]
["2019-03-28","To","",null,null,null,"","00:00:00","",{"$f":"IF(AND(C90=\"\",WEEKDAY(A90,2)<6),ColTime(T.!$J$4,T.!$L$4,D90,E90),\"\")","v":"00:00:00"},null,{"$f":"IFERROR(IF(AND(WEEKDAY(A90,2)<6,C91<>\"\",E90<D90,C90=\"\"),ColTime($AE$1,$AF$1,D90,E90),IF(AND(OR(WEEKDAY(A90,2)=7,C90<>\"\"),E90<D90,C91=\"\"),ColTime($AF$1,$AG$1,'Hele året'!$AF$1,E90),IF(AND(WEEKDAY(A90,2)<6,C91=\"\"),ColTime(T.!$J$5,T.!$L$5,D90,E90),\"\"))),\"\")","v":"00:00:00"},null,"",{"$f":"IFERROR(IF(AND(WEEKDAY(A90,2)<6,C91<>\"\",C90=\"\"),ColTime(T.!$J$7,T.!$L$7,$AF$1,'Hele året'!E90),IF(AND(C90<>\"\",C91<>\"\"),ColTime(T.!$J$7,T.!$L$7,'Hele året'!D90,'Hele året'!E90),IF(AND(OR(WEEKDAY(A90,2)<6,WEEKDAY(A90,2)=6),C90<>\"\",E90<D90),ColTime(T.!$J$7,T.!$L$7,D90,AF87),IF(AND(WEEKDAY(A90,2)=6,E90<D90),ColTime(T.!$J$7,T.!$L$7,$AF$1,E90),IF(AND(E90<D90,OR(C90<>\"\",WEEKDAY(A90,2)=7)),ColTime(T.!J93,T.!L93,D90,$AF$1),IF(AND(E90<>\"\",OR(C90<>\"\",WEEKDAY(A90,2)=7)),ColTime(T.!$J$7,T.!$L$7,D90,E90),\"\")))))),\"\")","v":""},"",null,null,{"$f":"IFERROR(CHOOSE(WEEKDAY(A90,2),norm!C$1,norm!C$2,norm!C$3,norm!C$4,norm!C$5,norm!C$6,norm!C$7),\"\")","v":"07:30:00"}]
[{"$f":"A90+1","v":"2019-03-29"},"Fr","",null,null,null,"","00:00:00","",{"$f":"IF(AND(C91=\"\",WEEKDAY(A91,2)<6),ColTime(T.!$J$4,T.!$L$4,D91,E91),\"\")","v":"00:00:00"},null,{"$f":"IFERROR(IF(AND(WEEKDAY(A91,2)<6,C92<>\"\",E91<D91,C91=\"\"),ColTime($AE$1,$AF$1,D91,E91),IF(AND(OR(WEEKDAY(A91,2)=7,C91<>\"\"),E91<D91,C92=\"\"),ColTime($AF$1,$AG$1,'Hele året'!$AF$1,E91),IF(AND(WEEKDAY(A91,2)<6,C92=\"\"),ColTime(T.!$J$5,T.!$L$5,D91,E91),\"\"))),\"\")","v":"00:00:00"},null,"",{"$f":"IFERROR(IF(AND(WEEKDAY(A91,2)<6,C92<>\"\",C91=\"\"),ColTime(T.!$J$7,T.!$L$7,$AF$1,'Hele året'!E91),IF(AND(C91<>\"\",C92<>\"\"),ColTime(T.!$J$7,T.!$L$7,'Hele året'!D91,'Hele året'!E91),IF(AND(OR(WEEKDAY(A91,2)<6,WEEKDAY(A91,2)=6),C91<>\"\",E91<D91),ColTime(T.!$J$7,T.!$L$7,D91,AF88),IF(AND(WEEKDAY(A91,2)=6,E91<D91),ColTime(T.!$J$7,T.!$L$7,$AF$1,E91),IF(AND(E91<D91,OR(C91<>\"\",WEEKDAY(A91,2)=7)),ColTime(T.!J94,T.!L94,D91,$AF$1),IF(AND(E91<>\"\",OR(C91<>\"\",WEEKDAY(A91,2)=7)),ColTime(T.!$J$7,T.!$L$7,D91,E91),\"\")))))),\"\")","v":""},"",null,null,{"$f":"IFERROR(CHOOSE(WEEKDAY(A91,2),norm!C$1,norm!C$2,norm!C$3,norm!C$4,norm!C$5,norm!C$6,norm!C$7),\"\")","v":"07:00:00"}]
["2019-03-30","Lø","",null,null,null,"","00:00:00","",{"$f":"IF(AND(C92=\"\",WEEKDAY(A92,2)<6),ColTime(T.!$J$4,T.!$L$4,D92,E92),\"\")","v":""},null,{"$f":"IFERROR(IF(AND(WEEKDAY(A92,2)<6,C93<>\"\",E92<D92,C92=\"\"),ColTime($AE$1,$AF$1,D92,E92),IF(AND(OR(WEEKDAY(A92,2)=7,C92<>\"\"),E92<D92,C93=\"\"),ColTime($AF$1,$AG$1,'Hele året'!$AF$1,E92),IF(AND(WEEKDAY(A92,2)<6,C93=\"\"),ColTime(T.!$J$5,T.!$L$5,D92,E92),\"\"))),\"\")","v":""},null,"00:00:00",{"$f":"IFERROR(IF(AND(WEEKDAY(A92,2)<6,C93<>\"\",C92=\"\"),ColTime(T.!$J$7,T.!$L$7,$AF$1,'Hele året'!E92),IF(AND(C92<>\"\",C93<>\"\"),ColTime(T.!$J$7,T.!$L$7,'Hele året'!D92,'Hele året'!E92),IF(AND(OR(WEEKDAY(A92,2)<6,WEEKDAY(A92,2)=6),C92<>\"\",E92<D92),ColTime(T.!$J$7,T.!$L$7,D92,AF89),IF(AND(WEEKDAY(A92,2)=6,E92<D92),ColTime(T.!$J$7,T.!$L$7,$AF$1,E92),IF(AND(E92<D92,OR(C92<>\"\",WEEKDAY(A92,2)=7)),ColTime(T.!J95,T.!L95,D92,$AF$1),IF(AND(E92<>\"\",OR(C92<>\"\",WEEKDAY(A92,2)=7)),ColTime(T.!$J$7,T.!$L$7,D92,E92),\"\")))))),\"\")","v":""},"",null,null,{"$f":"IFERROR(CHOOSE(WEEKDAY(A92,2),norm!C$1,norm!C$2,norm!C$3,norm!C$4,norm!C$5,norm!C$6,norm!C$7),\"\")","v":"00:00:00"}]
["2019-03-31","Sø","",null,null,null,"","00:00:00","",{"$f":"IF(AND(C93=\"\",WEEKDAY(A93,2)<6),ColTime(T.!$J$4,T.!$L$4,D93,E93),\"\")","v":""},null,{"$f":"IFERROR(IF(AND(WEEKDAY(A93,2)<6,C94<>\"\",E93<D93,C93=\"\"),ColTime($AE$1,$AF$1,D93,E93),IF(AND(OR(WEEKDAY(A93,2)=7,C93<>\"\"),E93<D93,C94=\"\"),ColTime($AF$1,$AG$1,'Hele året'!$AF$1,E93),IF(AND(WEEKDAY(A93,2)<6,C94=\"\"),ColTime(T.!$J$5,T.!$L$5,D93,E93),\"\"))),\"\")","v":""},null,"",{"$f":"IFERROR(IF(AND(WEEKDAY(A93,2)<6,C94<>\"\",C93=\"\"),ColTime(T.!$J$7,T.!$L$7,$AF$1,'Hele året'!E93),IF(AND(C93<>\"\",C94<>\"\"),ColTime(T.!$J$7,T.!$L$7,'Hele året'!D93,'Hele året'!E93),IF(AND(OR(WEEKDAY(A93,2)<6,WEEKDAY(A93,2)=6),C93<>\"\",E93<D93),ColTime(T.!$J$7,T.!$L$7,D93,AF90),IF(AND(WEEKDAY(A93,2)=6,E93<D93),ColTime(T.!$J$7,T.!$L$7,$AF$1,E93),IF(AND(E93<D93,OR(C93<>\"\",WEEKDAY(A93,2)=7)),ColTime(T.!J96,T.!L96,D93,$AF$1),IF(AND(E93<>\"\",OR(C93<>\"\",WEEKDAY(A93,2)=7)),ColTime(T.!$J$7,T.!$L$7,D93,E93),\"\")))))),\"\")","v":""},"",null,null,{"$f":"IFERROR(CHOOSE(WEEKDAY(A93,2),norm!C$1,norm!C$2,norm!C$3,norm!C$4,norm!C$5,norm!C$6,norm!C$7),\"\")","v":"00:00:00"}]
["2019-04-01","Ma","",null,null,null,"","00:00:00","",{"$f":"IF(AND(C94=\"\",WEEKDAY(A94,2)<6),ColTime(T.!$J$4,T.!$L$4,D94,E94),\"\")","v":"00:00:00"},null,{"$f":"IFERROR(IF(AND(WEEKDAY(A94,2)<6,C95<>\"\",E94<D94,C94=\"\"),ColTime($AE$1,$AF$1,D94,E94),IF(AND(OR(WEEKDAY(A94,2)=7,C94<>\"\"),E94<D94,C95=\"\"),ColTime($AF$1,$AG$1,'Hele året'!$AF$1,E94),IF(AND(WEEKDAY(A94,2)<6,C95=\"\"),ColTime(T.!$J$5,T.!$L$5,D94,E94),\"\"))),\"\")","v":"00:00:00"},null,"",{"$f":"IFERROR(IF(AND(WEEKDAY(A94,2)<6,C95<>\"\",C94=\"\"),ColTime(T.!$J$7,T.!$L$7,$AF$1,'Hele året'!E94),IF(AND(C94<>\"\",C95<>\"\"),ColTime(T.!$J$7,T.!$L$7,'Hele året'!D94,'Hele året'!E94),IF(AND(OR(WEEKDAY(A94,2)<6,WEEKDAY(A94,2)=6),C94<>\"\",E94<D94),ColTime(T.!$J$7,T.!$L$7,D94,AF91),IF(AND(WEEKDAY(A94,2)=6,E94<D94),ColTime(T.!$J$7,T.!$L$7,$AF$1,E94),IF(AND(E94<D94,OR(C94<>\"\",WEEKDAY(A94,2)=7)),ColTime(T.!J97,T.!L97,D94,$AF$1),IF(AND(E94<>\"\",OR(C94<>\"\",WEEKDAY(A94,2)=7)),ColTime(T.!$J$7,T.!$L$7,D94,E94),\"\")))))),\"\")","v":""},"",null,null,{"$f":"IFERROR(CHOOSE(WEEKDAY(A94,2),norm!C$1,norm!C$2,norm!C$3,norm!C$4,norm!C$5,norm!C$6,norm!C$7),\"\")","v":"07:30:00"}]
["2019-04-02","Ti","",null,null,null,"","00:00:00","",{"$f":"IF(AND(C95=\"\",WEEKDAY(A95,2)<6),ColTime(T.!$J$4,T.!$L$4,D95,E95),\"\")","v":"00:00:00"},null,{"$f":"IFERROR(IF(AND(WEEKDAY(A95,2)<6,C96<>\"\",E95<D95,C95=\"\"),ColTime($AE$1,$AF$1,D95,E95),IF(AND(OR(WEEKDAY(A95,2)=7,C95<>\"\"),E95<D95,C96=\"\"),ColTime($AF$1,$AG$1,'Hele året'!$AF$1,E95),IF(AND(WEEKDAY(A95,2)<6,C96=\"\"),ColTime(T.!$J$5,T.!$L$5,D95,E95),\"\"))),\"\")","v":"00:00:00"},null,"",{"$f":"IFERROR(IF(AND(WEEKDAY(A95,2)<6,C96<>\"\",C95=\"\"),ColTime(T.!$J$7,T.!$L$7,$AF$1,'Hele året'!E95),IF(AND(C95<>\"\",C96<>\"\"),ColTime(T.!$J$7,T.!$L$7,'Hele året'!D95,'Hele året'!E95),IF(AND(OR(WEEKDAY(A95,2)<6,WEEKDAY(A95,2)=6),C95<>\"\",E95<D95),ColTime(T.!$J$7,T.!$L$7,D95,AF92),IF(AND(WEEKDAY(A95,2)=6,E95<D95),ColTime(T.!$J$7,T.!$L$7,$AF$1,E95),IF(AND(E95<D95,OR(C95<>\"\",WEEKDAY(A95,2)=7)),ColTime(T.!J98,T.!L98,D95,$AF$1),IF(AND(E95<>\"\",OR(C95<>\"\",WEEKDAY(A95,2)=7)),ColTime(T.!$J$7,T.!$L$7,D95,E95),\"\")))))),\"\")","v":""},"",null,null,{"$f":"IFERROR(CHOOSE(WEEKDAY(A95,2),norm!C$1,norm!C$2,norm!C$3,norm!C$4,norm!C$5,norm!C$6,norm!C$7),\"\")","v":"07:30:00"}]
["2019-04-03","On","",null,null,null,"","00:00:00","",{"$f":"IF(AND(C96=\"\",WEEKDAY(A96,2)<6),ColTime(T.!$J$4,T.!$L$4,D96,E96),\"\")","v":"00:00:00"},null,{"$f":"IFERROR(IF(AND(WEEKDAY(A96,2)<6,C97<>\"\",E96<D96,C96=\"\"),ColTime($AE$1,$AF$1,D96,E96),IF(AND(OR(WEEKDAY(A96,2)=7,C96<>\"\"),E96<D96,C97=\"\"),ColTime($AF$1,$AG$1,'Hele året'!$AF$1,E96),IF(AND(WEEKDAY(A96,2)<6,C97=\"\"),ColTime(T.!$J$5,T.!$L$5,D96,E96),\"\"))),\"\")","v":"00:00:00"},null,"",{"$f":"IFERROR(IF(AND(WEEKDAY(A96,2)<6,C97<>\"\",C96=\"\"),ColTime(T.!$J$7,T.!$L$7,$AF$1,'Hele året'!E96),IF(AND(C96<>\"\",C97<>\"\"),ColTime(T.!$J$7,T.!$L$7,'Hele året'!D96,'Hele året'!E96),IF(AND(OR(WEEKDAY(A96,2)<6,WEEKDAY(A96,2)=6),C96<>\"\",E96<D96),ColTime(T.!$J$7,T.!$L$7,D96,AF93),IF(AND(WEEKDAY(A96,2)=6,E96<D96),ColTime(T.!$J$7,T.!$L$7,$AF$1,E96),IF(AND(E96<D96,OR(C96<>\"\",WEEKDAY(A96,2)=7)),ColTime(T.!J99,T.!L99,D96,$AF$1),IF(AND(E96<>\"\",OR(C96<>\"\",WEEKDAY(A96,2)=7)),ColTime(T.!$J$7,T.!$L$7,D96,E96),\"\")))))),\"\")","v":""},"",null,null,{"$f":"IFERROR(CHOOSE(WEEKDAY(A96,2),norm!C$1,norm!C$2,norm!C$3,norm!C$4,norm!C$5,norm!C$6,norm!C$7),\"\")","v":"07:30:00"}]
["2019-04-04","To","",null,null,null,"","00:00:00","",{"$f":"IF(AND(C97=\"\",WEEKDAY(A97,2)<6),ColTime(T.!$J$4,T.!$L$4,D97,E97),\"\")","v":"00:00:00"},null,{"$f":"IFERROR(IF(AND(WEEKDAY(A97,2)<6,C98<>\"\",E97<D97,C97=\"\"),ColTime($AE$1,$AF$1,D97,E97),IF(AND(OR(WEEKDAY(A97,2)=7,C97<>\"\"),E97<D97,C98=\"\"),ColTime($AF$1,$AG$1,'Hele året'!$AF$1,E97),IF(AND(WEEKDAY(A97,2)<6,C98=\"\"),ColTime(T.!$J$5,T.!$L$5,D97,E97),\"\"))),\"\")","v":"00:00:00"},null,"",{"$f":"IFERROR(IF(AND(WEEKDAY(A97,2)<6,C98<>\"\",C97=\"\"),ColTime(T.!$J$7,T.!$L$7,$AF$1,'Hele året'!E97),IF(AND(C97<>\"\",C98<>\"\"),ColTime(T.!$J$7,T.!$L$7,'Hele året'!D97,'Hele året'!E97),IF(AND(OR(WEEKDAY(A97,2)<6,WEEKDAY(A97,2)=6),C97<>\"\",E97<D97),ColTime(T.!$J$7,T.!$L$7,D97,AF94),IF(AND(WEEKDAY(A97,2)=6,E97<D97),ColTime(T.!$J$7,T.!$L$7,$AF$1,E97),IF(AND(E97<D97,OR(C97<>\"\",WEEKDAY(A97,2)=7)),ColTime(T.!J100,T.!L100,D97,$AF$1),IF(AND(E97<>\"\",OR(C97<>\"\",WEEKDAY(A97,2)=7)),ColTime(T.!$J$7,T.!$L$7,D97,E97),\"\")))))),\"\")","v":""},"",null,null,{"$f":"IFERROR(CHOOSE(WEEKDAY(A97,2),norm!C$1,norm!C$2,norm!C$3,norm!C$4,norm!C$5,norm!C$6,norm!C$7),\"\")","v":"07:30:00"}]
["2019-04-05","Fr","",null,null,null,"","00:00:00","",{"$f":"IF(AND(C98=\"\",WEEKDAY(A98,2)<6),ColTime(T.!$J$4,T.!$L$4,D98,E98),\"\")","v":"00:00:00"},null,{"$f":"IFERROR(IF(AND(WEEKDAY(A98,2)<6,C99<>\"\",E98<D98,C98=\"\"),ColTime($AE$1,$AF$1,D98,E98),IF(AND(OR(WEEKDAY(A98,2)=7,C98<>\"\"),E98<D98,C99=\"\"),ColTime($AF$1,$AG$1,'Hele året'!$AF$1,E98),IF(AND(WEEKDAY(A98,2)<6,C99=\"\"),ColTime(T.!$J$5,T.!$L$5,D98,E98),\"\"))),\"\")","v":"00:00:00"},null,"",{"$f":"IFERROR(IF(AND(WEEKDAY(A98,2)<6,C99<>\"\",C98=\"\"),ColTime(T.!$J$7,T.!$L$7,$AF$1,'Hele året'!E98),IF(AND(C98<>\"\",C99<>\"\"),ColTime(T.!$J$7,T.!$L$7,'Hele året'!D98,'Hele året'!E98),IF(AND(OR(WEEKDAY(A98,2)<6,WEEKDAY(A98,2)=6),C98<>\"\",E98<D98),ColTime(T.!$J$7,T.!$L$7,D98,AF95),IF(AND(WEEKDAY(A98,2)=6,E98<D98),ColTime(T.!$J$7,T.!$L$7,$AF$1,E98),IF(AND(E98<D98,OR(C98<>\"\",WEEKDAY(A98,2)=7)),ColTime(T.!J101,T.!L101,D98,$AF$1),IF(AND(E98<>\"\",OR(C98<>\"\",WEEKDAY(A98,2)=7)),ColTime(T.!$J$7,T.!$L$7,D98,E98),\"\")))))),\"\")","v":""},"",null,null,{"$f":"IFERROR(CHOOSE(WEEKDAY(A98,2),norm!C$1,norm!C$2,norm!C$3,norm!C$4,norm!C$5,norm!C$6,norm!C$7),\"\")","v":"07:00:00"}]
["2019-04-06",{"$f":"IFERROR(PROPER(TEXT(A99,\"ddd\")),\"\")","v":"Lø"},"",null,null,null,"","00:00:00","",{"$f":"IF(AND(C99=\"\",WEEKDAY(A99,2)<6),ColTime(T.!$J$4,T.!$L$4,D99,E99),\"\")","v":""},null,{"$f":"IFERROR(IF(AND(WEEKDAY(A99,2)<6,C100<>\"\",E99<D99,C99=\"\"),ColTime($AE$1,$AF$1,D99,E99),IF(AND(OR(WEEKDAY(A99,2)=7,C99<>\"\"),E99<D99,C100=\"\"),ColTime($AF$1,$AG$1,'Hele året'!$AF$1,E99),IF(AND(WEEKDAY(A99,2)<6,C100=\"\"),ColTime(T.!$J$5,T.!$L$5,D99,E99),\"\"))),\"\")","v":""},null,"00:00:00",{"$f":"IFERROR(IF(AND(WEEKDAY(A99,2)<6,C100<>\"\",C99=\"\"),ColTime(T.!$J$7,T.!$L$7,$AF$1,'Hele året'!E99),IF(AND(C99<>\"\",C100<>\"\"),ColTime(T.!$J$7,T.!$L$7,'Hele året'!D99,'Hele året'!E99),IF(AND(OR(WEEKDAY(A99,2)<6,WEEKDAY(A99,2)=6),C99<>\"\",E99<D99),ColTime(T.!$J$7,T.!$L$7,D99,AF96),IF(AND(WEEKDAY(A99,2)=6,E99<D99),ColTime(T.!$J$7,T.!$L$7,$AF$1,E99),IF(AND(E99<D99,OR(C99<>\"\",WEEKDAY(A99,2)=7)),ColTime(T.!J102,T.!L102,D99,$AF$1),IF(AND(E99<>\"\",OR(C99<>\"\",WEEKDAY(A99,2)=7)),ColTime(T.!$J$7,T.!$L$7,D99,E99),\"\")))))),\"\")","v":""},"",null,null,{"$f":"IFERROR(CHOOSE(WEEKDAY(A99,2),norm!C$1,norm!C$2,norm!C$3,norm!C$4,norm!C$5,norm!C$6,norm!C$7),\"\")","v":"00:00:00"}]
["2019-04-07","Sø","",null,null,null,"","00:00:00","",{"$f":"IF(AND(C100=\"\",WEEKDAY(A100,2)<6),ColTime(T.!$J$4,T.!$L$4,D100,E100),\"\")","v":""},null,{"$f":"IFERROR(IF(AND(WEEKDAY(A100,2)<6,C101<>\"\",E100<D100,C100=\"\"),ColTime($AE$1,$AF$1,D100,E100),IF(AND(OR(WEEKDAY(A100,2)=7,C100<>\"\"),E100<D100,C101=\"\"),ColTime($AF$1,$AG$1,'Hele året'!$AF$1,E100),IF(AND(WEEKDAY(A100,2)<6,C101=\"\"),ColTime(T.!$J$5,T.!$L$5,D100,E100),\"\"))),\"\")","v":""},null,"",{"$f":"IFERROR(IF(AND(WEEKDAY(A100,2)<6,C101<>\"\",C100=\"\"),ColTime(T.!$J$7,T.!$L$7,$AF$1,'Hele året'!E100),IF(AND(C100<>\"\",C101<>\"\"),ColTime(T.!$J$7,T.!$L$7,'Hele året'!D100,'Hele året'!E100),IF(AND(OR(WEEKDAY(A100,2)<6,WEEKDAY(A100,2)=6),C100<>\"\",E100<D100),ColTime(T.!$J$7,T.!$L$7,D100,AF97),IF(AND(WEEKDAY(A100,2)=6,E100<D100),ColTime(T.!$J$7,T.!$L$7,$AF$1,E100),IF(AND(E100<D100,OR(C100<>\"\",WEEKDAY(A100,2)=7)),ColTime(T.!J103,T.!L103,D100,$AF$1),IF(AND(E100<>\"\",OR(C100<>\"\",WEEKDAY(A100,2)=7)),ColTime(T.!$J$7,T.!$L$7,D100,E100),\"\")))))),\"\")","v":""},"",null,null,{"$f":"IFERROR(CHOOSE(WEEKDAY(A100,2),norm!C$1,norm!C$2,norm!C$3,norm!C$4,norm!C$5,norm!C$6,norm!C$7),\"\")","v":"00:00:00"}]
["2019-04-08","Ma","",null,null,null,"","00:00:00","",{"$f":"IF(AND(C101=\"\",WEEKDAY(A101,2)<6),ColTime(T.!$J$4,T.!$L$4,D101,E101),\"\")","v":"00:00:00"},null,{"$f":"IFERROR(IF(AND(WEEKDAY(A101,2)<6,C102<>\"\",E101<D101,C101=\"\"),ColTime($AE$1,$AF$1,D101,E101),IF(AND(OR(WEEKDAY(A101,2)=7,C101<>\"\"),E101<D101,C102=\"\"),ColTime($AF$1,$AG$1,'Hele året'!$AF$1,E101),IF(AND(WEEKDAY(A101,2)<6,C102=\"\"),ColTime(T.!$J$5,T.!$L$5,D101,E101),\"\"))),\"\")","v":"00:00:00"},null,"",{"$f":"IFERROR(IF(AND(WEEKDAY(A101,2)<6,C102<>\"\",C101=\"\"),ColTime(T.!$J$7,T.!$L$7,$AF$1,'Hele året'!E101),IF(AND(C101<>\"\",C102<>\"\"),ColTime(T.!$J$7,T.!$L$7,'Hele året'!D101,'Hele året'!E101),IF(AND(OR(WEEKDAY(A101,2)<6,WEEKDAY(A101,2)=6),C101<>\"\",E101<D101),ColTime(T.!$J$7,T.!$L$7,D101,AF98),IF(AND(WEEKDAY(A101,2)=6,E101<D101),ColTime(T.!$J$7,T.!$L$7,$AF$1,E101),IF(AND(E101<D101,OR(C101<>\"\",WEEKDAY(A101,2)=7)),ColTime(T.!J104,T.!L104,D101,$AF$1),IF(AND(E101<>\"\",OR(C101<>\"\",WEEKDAY(A101,2)=7)),ColTime(T.!$J$7,T.!$L$7,D101,E101),\"\")))))),\"\")","v":""},"",null,null,{"$f":"IFERROR(CHOOSE(WEEKDAY(A101,2),norm!C$1,norm!C$2,norm!C$3,norm!C$4,norm!C$5,norm!C$6,norm!C$7),\"\")","v":"07:30:00"}]
["2019-04-09","Ti","",null,null,null,"","00:00:00","",{"$f":"IF(AND(C102=\"\",WEEKDAY(A102,2)<6),ColTime(T.!$J$4,T.!$L$4,D102,E102),\"\")","v":"00:00:00"},null,{"$f":"IFERROR(IF(AND(WEEKDAY(A102,2)<6,C103<>\"\",E102<D102,C102=\"\"),ColTime($AE$1,$AF$1,D102,E102),IF(AND(OR(WEEKDAY(A102,2)=7,C102<>\"\"),E102<D102,C103=\"\"),ColTime($AF$1,$AG$1,'Hele året'!$AF$1,E102),IF(AND(WEEKDAY(A102,2)<6,C103=\"\"),ColTime(T.!$J$5,T.!$L$5,D102,E102),\"\"))),\"\")","v":"00:00:00"},null,"",{"$f":"IFERROR(IF(AND(WEEKDAY(A102,2)<6,C103<>\"\",C102=\"\"),ColTime(T.!$J$7,T.!$L$7,$AF$1,'Hele året'!E102),IF(AND(C102<>\"\",C103<>\"\"),ColTime(T.!$J$7,T.!$L$7,'Hele året'!D102,'Hele året'!E102),IF(AND(OR(WEEKDAY(A102,2)<6,WEEKDAY(A102,2)=6),C102<>\"\",E102<D102),ColTime(T.!$J$7,T.!$L$7,D102,AF99),IF(AND(WEEKDAY(A102,2)=6,E102<D102),ColTime(T.!$J$7,T.!$L$7,$AF$1,E102),IF(AND(E102<D102,OR(C102<>\"\",WEEKDAY(A102,2)=7)),ColTime(T.!J105,T.!L105,D102,$AF$1),IF(AND(E102<>\"\",OR(C102<>\"\",WEEKDAY(A102,2)=7)),ColTime(T.!$J$7,T.!$L$7,D102,E102),\"\")))))),\"\")","v":""},"",null,null,{"$f":"IFERROR(CHOOSE(WEEKDAY(A102,2),norm!C$1,norm!C$2,norm!C$3,norm!C$4,norm!C$5,norm!C$6,norm!C$7),\"\")","v":"07:30:00"}]
["2019-04-10","On","",null,null,null,"","00:00:00","",{"$f":"IF(AND(C103=\"\",WEEKDAY(A103,2)<6),ColTime(T.!$J$4,T.!$L$4,D103,E103),\"\")","v":"00:00:00"},null,{"$f":"IFERROR(IF(AND(WEEKDAY(A103,2)<6,C104<>\"\",E103<D103,C103=\"\"),ColTime($AE$1,$AF$1,D103,E103),IF(AND(OR(WEEKDAY(A103,2)=7,C103<>\"\"),E103<D103,C104=\"\"),ColTime($AF$1,$AG$1,'Hele året'!$AF$1,E103),IF(AND(WEEKDAY(A103,2)<6,C104=\"\"),ColTime(T.!$J$5,T.!$L$5,D103,E103),\"\"))),\"\")","v":"00:00:00"},null,"",{"$f":"IFERROR(IF(AND(WEEKDAY(A103,2)<6,C104<>\"\",C103=\"\"),ColTime(T.!$J$7,T.!$L$7,$AF$1,'Hele året'!E103),IF(AND(C103<>\"\",C104<>\"\"),ColTime(T.!$J$7,T.!$L$7,'Hele året'!D103,'Hele året'!E103),IF(AND(OR(WEEKDAY(A103,2)<6,WEEKDAY(A103,2)=6),C103<>\"\",E103<D103),ColTime(T.!$J$7,T.!$L$7,D103,AF100),IF(AND(WEEKDAY(A103,2)=6,E103<D103),ColTime(T.!$J$7,T.!$L$7,$AF$1,E103),IF(AND(E103<D103,OR(C103<>\"\",WEEKDAY(A103,2)=7)),ColTime(T.!J106,T.!L106,D103,$AF$1),IF(AND(E103<>\"\",OR(C103<>\"\",WEEKDAY(A103,2)=7)),ColTime(T.!$J$7,T.!$L$7,D103,E103),\"\")))))),\"\")","v":""},"",null,null,{"$f":"IFERROR(CHOOSE(WEEKDAY(A103,2),norm!C$1,norm!C$2,norm!C$3,norm!C$4,norm!C$5,norm!C$6,norm!C$7),\"\")","v":"07:30:00"}]
["2019-04-11","To","",null,null,null,"","00:00:00","",{"$f":"IF(AND(C104=\"\",WEEKDAY(A104,2)<6),ColTime(T.!$J$4,T.!$L$4,D104,E104),\"\")","v":"00:00:00"},null,{"$f":"IFERROR(IF(AND(WEEKDAY(A104,2)<6,C105<>\"\",E104<D104,C104=\"\"),ColTime($AE$1,$AF$1,D104,E104),IF(AND(OR(WEEKDAY(A104,2)=7,C104<>\"\"),E104<D104,C105=\"\"),ColTime($AF$1,$AG$1,'Hele året'!$AF$1,E104),IF(AND(WEEKDAY(A104,2)<6,C105=\"\"),ColTime(T.!$J$5,T.!$L$5,D104,E104),\"\"))),\"\")","v":"00:00:00"},null,"",{"$f":"IFERROR(IF(AND(WEEKDAY(A104,2)<6,C105<>\"\",C104=\"\"),ColTime(T.!$J$7,T.!$L$7,$AF$1,'Hele året'!E104),IF(AND(C104<>\"\",C105<>\"\"),ColTime(T.!$J$7,T.!$L$7,'Hele året'!D104,'Hele året'!E104),IF(AND(OR(WEEKDAY(A104,2)<6,WEEKDAY(A104,2)=6),C104<>\"\",E104<D104),ColTime(T.!$J$7,T.!$L$7,D104,AF101),IF(AND(WEEKDAY(A104,2)=6,E104<D104),ColTime(T.!$J$7,T.!$L$7,$AF$1,E104),IF(AND(E104<D104,OR(C104<>\"\",WEEKDAY(A104,2)=7)),ColTime(T.!J107,T.!L107,D104,$AF$1),IF(AND(E104<>\"\",OR(C104<>\"\",WEEKDAY(A104,2)=7)),ColTime(T.!$J$7,T.!$L$7,D104,E104),\"\")))))),\"\")","v":""},"",null,null,{"$f":"IFERROR(CHOOSE(WEEKDAY(A104,2),norm!C$1,norm!C$2,norm!C$3,norm!C$4,norm!C$5,norm!C$6,norm!C$7),\"\")","v":"07:30:00"}]
["2019-04-12","Fr","",null,null,null,"","00:00:00","",{"$f":"IF(AND(C105=\"\",WEEKDAY(A105,2)<6),ColTime(T.!$J$4,T.!$L$4,D105,E105),\"\")","v":"00:00:00"},null,{"$f":"IFERROR(IF(AND(WEEKDAY(A105,2)<6,C106<>\"\",E105<D105,C105=\"\"),ColTime($AE$1,$AF$1,D105,E105),IF(AND(OR(WEEKDAY(A105,2)=7,C105<>\"\"),E105<D105,C106=\"\"),ColTime($AF$1,$AG$1,'Hele året'!$AF$1,E105),IF(AND(WEEKDAY(A105,2)<6,C106=\"\"),ColTime(T.!$J$5,T.!$L$5,D105,E105),\"\"))),\"\")","v":"00:00:00"},null,"",{"$f":"IFERROR(IF(AND(WEEKDAY(A105,2)<6,C106<>\"\",C105=\"\"),ColTime(T.!$J$7,T.!$L$7,$AF$1,'Hele året'!E105),IF(AND(C105<>\"\",C106<>\"\"),ColTime(T.!$J$7,T.!$L$7,'Hele året'!D105,'Hele året'!E105),IF(AND(OR(WEEKDAY(A105,2)<6,WEEKDAY(A105,2)=6),C105<>\"\",E105<D105),ColTime(T.!$J$7,T.!$L$7,D105,AF102),IF(AND(WEEKDAY(A105,2)=6,E105<D105),ColTime(T.!$J$7,T.!$L$7,$AF$1,E105),IF(AND(E105<D105,OR(C105<>\"\",WEEKDAY(A105,2)=7)),ColTime(T.!J108,T.!L108,D105,$AF$1),IF(AND(E105<>\"\",OR(C105<>\"\",WEEKDAY(A105,2)=7)),ColTime(T.!$J$7,T.!$L$7,D105,E105),\"\")))))),\"\")","v":""},"",null,null,{"$f":"IFERROR(CHOOSE(WEEKDAY(A105,2),norm!C$1,norm!C$2,norm!C$3,norm!C$4,norm!C$5,norm!C$6,norm!C$7),\"\")","v":"07:00:00"}]
["2019-04-13","Lø","",null,null,null,"","00:00:00","",{"$f":"IF(AND(C106=\"\",WEEKDAY(A106,2)<6),ColTime(T.!$J$4,T.!$L$4,D106,E106),\"\")","v":""},null,{"$f":"IFERROR(IF(AND(WEEKDAY(A106,2)<6,C107<>\"\",E106<D106,C106=\"\"),ColTime($AE$1,$AF$1,D106,E106),IF(AND(OR(WEEKDAY(A106,2)=7,C106<>\"\"),E106<D106,C107=\"\"),ColTime($AF$1,$AG$1,'Hele året'!$AF$1,E106),IF(AND(WEEKDAY(A106,2)<6,C107=\"\"),ColTime(T.!$J$5,T.!$L$5,D106,E106),\"\"))),\"\")","v":""},null,"00:00:00",{"$f":"IFERROR(IF(AND(WEEKDAY(A106,2)<6,C107<>\"\",C106=\"\"),ColTime(T.!$J$7,T.!$L$7,$AF$1,'Hele året'!E106),IF(AND(C106<>\"\",C107<>\"\"),ColTime(T.!$J$7,T.!$L$7,'Hele året'!D106,'Hele året'!E106),IF(AND(OR(WEEKDAY(A106,2)<6,WEEKDAY(A106,2)=6),C106<>\"\",E106<D106),ColTime(T.!$J$7,T.!$L$7,D106,AF103),IF(AND(WEEKDAY(A106,2)=6,E106<D106),ColTime(T.!$J$7,T.!$L$7,$AF$1,E106),IF(AND(E106<D106,OR(C106<>\"\",WEEKDAY(A106,2)=7)),ColTime(T.!J109,T.!L109,D106,$AF$1),IF(AND(E106<>\"\",OR(C106<>\"\",WEEKDAY(A106,2)=7)),ColTime(T.!$J$7,T.!$L$7,D106,E106),\"\")))))),\"\")","v":""},"",null,null,{"$f":"IFERROR(CHOOSE(WEEKDAY(A106,2),norm!C$1,norm!C$2,norm!C$3,norm!C$4,norm!C$5,norm!C$6,norm!C$7),\"\")","v":"00:00:00"}]
["2019-04-14","Sø","",null,null,null,"","00:00:00","",{"$f":"IF(AND(C107=\"\",WEEKDAY(A107,2)<6),ColTime(T.!$J$4,T.!$L$4,D107,E107),\"\")","v":""},null,{"$f":"IFERROR(IF(AND(WEEKDAY(A107,2)<6,C108<>\"\",E107<D107,C107=\"\"),ColTime($AE$1,$AF$1,D107,E107),IF(AND(OR(WEEKDAY(A107,2)=7,C107<>\"\"),E107<D107,C108=\"\"),ColTime($AF$1,$AG$1,'Hele året'!$AF$1,E107),IF(AND(WEEKDAY(A107,2)<6,C108=\"\"),ColTime(T.!$J$5,T.!$L$5,D107,E107),\"\"))),\"\")","v":""},null,"",{"$f":"IFERROR(IF(AND(WEEKDAY(A107,2)<6,C108<>\"\",C107=\"\"),ColTime(T.!$J$7,T.!$L$7,$AF$1,'Hele året'!E107),IF(AND(C107<>\"\",C108<>\"\"),ColTime(T.!$J$7,T.!$L$7,'Hele året'!D107,'Hele året'!E107),IF(AND(OR(WEEKDAY(A107,2)<6,WEEKDAY(A107,2)=6),C107<>\"\",E107<D107),ColTime(T.!$J$7,T.!$L$7,D107,AF104),IF(AND(WEEKDAY(A107,2)=6,E107<D107),ColTime(T.!$J$7,T.!$L$7,$AF$1,E107),IF(AND(E107<D107,OR(C107<>\"\",WEEKDAY(A107,2)=7)),ColTime(T.!J110,T.!L110,D107,$AF$1),IF(AND(E107<>\"\",OR(C107<>\"\",WEEKDAY(A107,2)=7)),ColTime(T.!$J$7,T.!$L$7,D107,E107),\"\")))))),\"\")","v":""},"",null,null,{"$f":"IFERROR(CHOOSE(WEEKDAY(A107,2),norm!C$1,norm!C$2,norm!C$3,norm!C$4,norm!C$5,norm!C$6,norm!C$7),\"\")","v":"00:00:00"}]
["2019-04-15","Ma","",null,null,null,"","00:00:00","",{"$f":"IF(AND(C108=\"\",WEEKDAY(A108,2)<6),ColTime(T.!$J$4,T.!$L$4,D108,E108),\"\")","v":"00:00:00"},null,{"$f":"IFERROR(IF(AND(WEEKDAY(A108,2)<6,C109<>\"\",E108<D108,C108=\"\"),ColTime($AE$1,$AF$1,D108,E108),IF(AND(OR(WEEKDAY(A108,2)=7,C108<>\"\"),E108<D108,C109=\"\"),ColTime($AF$1,$AG$1,'Hele året'!$AF$1,E108),IF(AND(WEEKDAY(A108,2)<6,C109=\"\"),ColTime(T.!$J$5,T.!$L$5,D108,E108),\"\"))),\"\")","v":"00:00:00"},null,"",{"$f":"IFERROR(IF(AND(WEEKDAY(A108,2)<6,C109<>\"\",C108=\"\"),ColTime(T.!$J$7,T.!$L$7,$AF$1,'Hele året'!E108),IF(AND(C108<>\"\",C109<>\"\"),ColTime(T.!$J$7,T.!$L$7,'Hele året'!D108,'Hele året'!E108),IF(AND(OR(WEEKDAY(A108,2)<6,WEEKDAY(A108,2)=6),C108<>\"\",E108<D108),ColTime(T.!$J$7,T.!$L$7,D108,AF105),IF(AND(WEEKDAY(A108,2)=6,E108<D108),ColTime(T.!$J$7,T.!$L$7,$AF$1,E108),IF(AND(E108<D108,OR(C108<>\"\",WEEKDAY(A108,2)=7)),ColTime(T.!J111,T.!L111,D108,$AF$1),IF(AND(E108<>\"\",OR(C108<>\"\",WEEKDAY(A108,2)=7)),ColTime(T.!$J$7,T.!$L$7,D108,E108),\"\")))))),\"\")","v":""},"",null,null,{"$f":"IFERROR(CHOOSE(WEEKDAY(A108,2),norm!C$1,norm!C$2,norm!C$3,norm!C$4,norm!C$5,norm!C$6,norm!C$7),\"\")","v":"07:30:00"}]
["2019-04-16","Ti",{"$f":"IF(A109=\"\",\"\",HelligdagsNavn(A109,0,0))","v":""},null,null,null,{"$f":"IF(D109=\"\",\"\",(E109-D109)+(D109>E109)-F109)","v":""},{"$f":"IF(G109=\"\",0,IF(WEEKDAY(A109,2)=7,0,IF(G109>S109,MIN(G109-S109,$AI$1),0)))","v":"00:00:00"},{"$f":"IF(G109=\"\",\"\",IF(G109>S109+H109,G109-(S109+H109),\"\"))","v":""},{"$f":"IF(AND(C109=\"\",WEEKDAY(A109,2)<6),ColTime(T.!$J$4,T.!$L$4,D109,E109),\"\")","v":"00:00:00"},null,{"$f":"IFERROR(IF(AND(WEEKDAY(A109,2)<6,C110<>\"\",E109<D109,C109=\"\"),ColTime($AE$1,$AF$1,D109,E109),IF(AND(OR(WEEKDAY(A109,2)=7,C109<>\"\"),E109<D109,C110=\"\"),ColTime($AF$1,$AG$1,'Hele året'!$AF$1,E109),IF(AND(WEEKDAY(A109,2)<6,C110=\"\"),ColTime(T.!$J$5,T.!$L$5,D109,E109),\"\"))),\"\")","v":"00:00:00"},null,"",{"$f":"IFERROR(IF(AND(WEEKDAY(A109,2)<6,C110<>\"\",C109=\"\"),ColTime(T.!$J$7,T.!$L$7,$AF$1,'Hele året'!E109),IF(AND(C109<>\"\",C110<>\"\"),ColTime(T.!$J$7,T.!$L$7,'Hele året'!D109,'Hele året'!E109),IF(AND(OR(WEEKDAY(A109,2)<6,WEEKDAY(A109,2)=6),C109<>\"\",E109<D109),ColTime(T.!$J$7,T.!$L$7,D109,AF106),IF(AND(WEEKDAY(A109,2)=6,E109<D109),ColTime(T.!$J$7,T.!$L$7,$AF$1,E109),IF(AND(E109<D109,OR(C109<>\"\",WEEKDAY(A109,2)=7)),ColTime(T.!J112,T.!L112,D109,$AF$1),IF(AND(E109<>\"\",OR(C109<>\"\",WEEKDAY(A109,2)=7)),ColTime(T.!$J$7,T.!$L$7,D109,E109),\"\")))))),\"\")","v":""},"",null,null,{"$f":"IFERROR(CHOOSE(WEEKDAY(A109,2),norm!C$1,norm!C$2,norm!C$3,norm!C$4,norm!C$5,norm!C$6,norm!C$7),\"\")","v":"07:30:00"}]
["2019-04-17","On","",null,null,null,"","00:00:00","",{"$f":"IF(AND(C110=\"\",WEEKDAY(A110,2)<6),ColTime(T.!$J$4,T.!$L$4,D110,E110),\"\")","v":"00:00:00"},null,{"$f":"IFERROR(IF(AND(WEEKDAY(A110,2)<6,C111<>\"\",E110<D110,C110=\"\"),ColTime($AE$1,$AF$1,D110,E110),IF(AND(OR(WEEKDAY(A110,2)=7,C110<>\"\"),E110<D110,C111=\"\"),ColTime($AF$1,$AG$1,'Hele året'!$AF$1,E110),IF(AND(WEEKDAY(A110,2)<6,C111=\"\"),ColTime(T.!$J$5,T.!$L$5,D110,E110),\"\"))),\"\")","v":""},null,"",{"$f":"IFERROR(IF(AND(WEEKDAY(A110,2)<6,C111<>\"\",C110=\"\"),ColTime(T.!$J$7,T.!$L$7,$AF$1,'Hele året'!E110),IF(AND(C110<>\"\",C111<>\"\"),ColTime(T.!$J$7,T.!$L$7,'Hele året'!D110,'Hele året'!E110),IF(AND(OR(WEEKDAY(A110,2)<6,WEEKDAY(A110,2)=6),C110<>\"\",E110<D110),ColTime(T.!$J$7,T.!$L$7,D110,AF107),IF(AND(WEEKDAY(A110,2)=6,E110<D110),ColTime(T.!$J$7,T.!$L$7,$AF$1,E110),IF(AND(E110<D110,OR(C110<>\"\",WEEKDAY(A110,2)=7)),ColTime(T.!J113,T.!L113,D110,$AF$1),IF(AND(E110<>\"\",OR(C110<>\"\",WEEKDAY(A110,2)=7)),ColTime(T.!$J$7,T.!$L$7,D110,E110),\"\")))))),\"\")","v":"00:00:00"},"",null,null,{"$f":"IFERROR(CHOOSE(WEEKDAY(A110,2),norm!C$1,norm!C$2,norm!C$3,norm!C$4,norm!C$5,norm!C$6,norm!C$7),\"\")","v":"07:30:00"}]
["2019-04-18","To","Skærtorsdag","22:00:00","07:00:00",null,0.375,"01:30:00","",{"$f":"IF(AND(C111=\"\",WEEKDAY(A111,2)<6),ColTime(T.!$J$4,T.!$L$4,D111,E111),\"\")","v":""},null,{"$f":"IFERROR(IF(AND(WEEKDAY(A111,2)<6,C112<>\"\",E111<D111,C111=\"\"),ColTime($AE$1,$AF$1,D111,E111),IF(AND(OR(WEEKDAY(A111,2)=7,C111<>\"\"),E111<D111,C112=\"\"),ColTime($AF$1,$AG$1,'Hele året'!$AF$1,E111),IF(AND(WEEKDAY(A111,2)<6,C112=\"\"),ColTime(T.!$J$5,T.!$L$5,D111,E111),\"\"))),\"\")","v":""},null,"",{"$f":"IFERROR(IF(AND(WEEKDAY(A111,2)<6,C112<>\"\",C111=\"\"),ColTime(T.!$J$7,T.!$L$7,$AF$1,'Hele året'!E111),IF(AND(C111<>\"\",C112<>\"\"),ColTime(T.!$J$7,T.!$L$7,'Hele året'!D111,'Hele året'!E111),IF(AND(OR(WEEKDAY(A111,2)<6,WEEKDAY(A111,2)=6),C111<>\"\",E111<D111),ColTime(T.!$J$7,T.!$L$7,D111,AF108),IF(AND(WEEKDAY(A111,2)=6,E111<D111),ColTime(T.!$J$7,T.!$L$7,$AF$1,E111),IF(AND(E111<D111,OR(C111<>\"\",WEEKDAY(A111,2)=7)),ColTime(T.!J114,T.!L114,D111,$AF$1),IF(AND(E111<>\"\",OR(C111<>\"\",WEEKDAY(A111,2)=7)),ColTime(T.!$J$7,T.!$L$7,D111,E111),\"\")))))),\"\")","v":"09:00:00"},"",null,null,{"$f":"IFERROR(CHOOSE(WEEKDAY(A111,2),norm!C$1,norm!C$2,norm!C$3,norm!C$4,norm!C$5,norm!C$6,norm!C$7),\"\")","v":"07:30:00"}]
["2019-04-19","Fr","Langfredag","22:00:00","07:00:00",null,0.375,"02:00:00","",{"$f":"IF(AND(C112=\"\",WEEKDAY(A112,2)<6),ColTime(T.!$J$4,T.!$L$4,D112,E112),\"\")","v":""},null,{"$f":"IFERROR(IF(AND(WEEKDAY(A112,2)<6,C113<>\"\",E112<D112,C112=\"\"),ColTime($AE$1,$AF$1,D112,E112),IF(AND(OR(WEEKDAY(A112,2)=7,C112<>\"\"),E112<D112,C113=\"\"),ColTime($AF$1,$AG$1,'Hele året'!$AF$1,E112),IF(AND(WEEKDAY(A112,2)<6,C113=\"\"),ColTime(T.!$J$5,T.!$L$5,D112,E112),\"\"))),\"\")","v":"06:00:00"},null,"",{"$f":"IFERROR(IF(AND(WEEKDAY(A112,2)<6,C113<>\"\",C112=\"\"),ColTime(T.!$J$7,T.!$L$7,$AF$1,'Hele året'!E112),IF(AND(C112<>\"\",C113<>\"\"),ColTime(T.!$J$7,T.!$L$7,'Hele året'!D112,'Hele året'!E112),IF(AND(OR(WEEKDAY(A112,2)<6,WEEKDAY(A112,2)=6),C112<>\"\",E112<D112),ColTime(T.!$J$7,T.!$L$7,D112,AF109),IF(AND(WEEKDAY(A112,2)=6,E112<D112),ColTime(T.!$J$7,T.!$L$7,$AF$1,E112),IF(AND(E112<D112,OR(C112<>\"\",WEEKDAY(A112,2)=7)),ColTime(T.!J115,T.!L115,D112,$AF$1),IF(AND(E112<>\"\",OR(C112<>\"\",WEEKDAY(A112,2)=7)),ColTime(T.!$J$7,T.!$L$7,D112,E112),\"\")))))),\"\")","v":"02:00:00"},"",null,null,{"$f":"IFERROR(CHOOSE(WEEKDAY(A112,2),norm!C$1,norm!C$2,norm!C$3,norm!C$4,norm!C$5,norm!C$6,norm!C$7),\"\")","v":"07:00:00"}]
["2019-04-20","Lø","",null,null,null,"","00:00:00","",{"$f":"IF(AND(C113=\"\",WEEKDAY(A113,2)<6),ColTime(T.!$J$4,T.!$L$4,D113,E113),\"\")","v":""},null,{"$f":"IFERROR(IF(AND(WEEKDAY(A113,2)<6,C114<>\"\",E113<D113,C113=\"\"),ColTime($AE$1,$AF$1,D113,E113),IF(AND(OR(WEEKDAY(A113,2)=7,C113<>\"\"),E113<D113,C114=\"\"),ColTime($AF$1,$AG$1,'Hele året'!$AF$1,E113),IF(AND(WEEKDAY(A113,2)<6,C114=\"\"),ColTime(T.!$J$5,T.!$L$5,D113,E113),\"\"))),\"\")","v":""},null,"00:00:00",{"$f":"IFERROR(IF(AND(WEEKDAY(A113,2)<6,C114<>\"\",C113=\"\"),ColTime(T.!$J$7,T.!$L$7,$AF$1,'Hele året'!E113),IF(AND(C113<>\"\",C114<>\"\"),ColTime(T.!$J$7,T.!$L$7,'Hele året'!D113,'Hele året'!E113),IF(AND(OR(WEEKDAY(A113,2)<6,WEEKDAY(A113,2)=6),C113<>\"\",E113<D113),ColTime(T.!$J$7,T.!$L$7,D113,AF110),IF(AND(WEEKDAY(A113,2)=6,E113<D113),ColTime(T.!$J$7,T.!$L$7,$AF$1,E113),IF(AND(E113<D113,OR(C113<>\"\",WEEKDAY(A113,2)=7)),ColTime(T.!J116,T.!L116,D113,$AF$1),IF(AND(E113<>\"\",OR(C113<>\"\",WEEKDAY(A113,2)=7)),ColTime(T.!$J$7,T.!$L$7,D113,E113),\"\")))))),\"\")","v":""},"",null,null,{"$f":"IFERROR(CHOOSE(WEEKDAY(A113,2),norm!C$1,norm!C$2,norm!C$3,norm!C$4,norm!C$5,norm!C$6,norm!C$7),\"\")","v":"00:00:00"}]
["2019-04-21","Sø","Påskedag","22:00:00","07:00:00",null,0.375,"00:00:00","09:00:00",{"$f":"IF(AND(C114=\"\",WEEKDAY(A114,2)<6),ColTime(T.!$J$4,T.!$L$4,D114,E114),\"\")","v":""},null,{"$f":"IFERROR(IF(AND(WEEKDAY(A114,2)<6,C115<>\"\",E114<D114,C114=\"\"),ColTime($AE$1,$AF$1,D114,E114),IF(AND(OR(WEEKDAY(A114,2)=7,C114<>\"\"),E114<D114,C115=\"\"),ColTime($AF$1,$AG$1,'Hele året'!$AF$1,E114),IF(AND(WEEKDAY(A114,2)<6,C115=\"\"),ColTime(T.!$J$5,T.!$L$5,D114,E114),\"\"))),\"\")","v":""},null,"",{"$f":"IFERROR(IF(AND(WEEKDAY(A114,2)<6,C115<>\"\",C114=\"\"),ColTime(T.!$J$7,T.!$L$7,$AF$1,'Hele året'!E114),IF(AND(C114<>\"\",C115<>\"\"),ColTime(T.!$J$7,T.!$L$7,'Hele året'!D114,'Hele året'!E114),IF(AND(OR(WEEKDAY(A114,2)<6,WEEKDAY(A114,2)=6),C114<>\"\",E114<D114),ColTime(T.!$J$7,T.!$L$7,D114,AF111),IF(AND(WEEKDAY(A114,2)=6,E114<D114),ColTime(T.!$J$7,T.!$L$7,$AF$1,E114),IF(AND(E114<D114,OR(C114<>\"\",WEEKDAY(A114,2)=7)),ColTime(T.!J117,T.!L117,D114,$AF$1),IF(AND(E114<>\"\",OR(C114<>\"\",WEEKDAY(A114,2)=7)),ColTime(T.!$J$7,T.!$L$7,D114,E114),\"\")))))),\"\")","v":"09:00:00"},"09:00:00",null,null,{"$f":"IFERROR(CHOOSE(WEEKDAY(A114,2),norm!C$1,norm!C$2,norm!C$3,norm!C$4,norm!C$5,norm!C$6,norm!C$7),\"\")","v":"00:00:00"}]
["2019-04-22","Ma","2. Påskedag","22:00:00","07:00:00",null,0.375,"01:30:00","",{"$f":"IF(AND(C115=\"\",WEEKDAY(A115,2)<6),ColTime(T.!$J$4,T.!$L$4,D115,E115),\"\")","v":""},null,{"$f":"IFERROR(IF(AND(WEEKDAY(A115,2)<6,C116<>\"\",E115<D115,C115=\"\"),ColTime($AE$1,$AF$1,D115,E115),IF(AND(OR(WEEKDAY(A115,2)=7,C115<>\"\"),E115<D115,C116=\"\"),ColTime($AF$1,$AG$1,'Hele året'!$AF$1,E115),IF(AND(WEEKDAY(A115,2)<6,C116=\"\"),ColTime(T.!$J$5,T.!$L$5,D115,E115),\"\"))),\"\")","v":"06:00:00"},null,"",{"$f":"IFERROR(IF(AND(WEEKDAY(A115,2)<6,C116<>\"\",C115=\"\"),ColTime(T.!$J$7,T.!$L$7,$AF$1,'Hele året'!E115),IF(AND(C115<>\"\",C116<>\"\"),ColTime(T.!$J$7,T.!$L$7,'Hele året'!D115,'Hele året'!E115),IF(AND(OR(WEEKDAY(A115,2)<6,WEEKDAY(A115,2)=6),C115<>\"\",E115<D115),ColTime(T.!$J$7,T.!$L$7,D115,AF112),IF(AND(WEEKDAY(A115,2)=6,E115<D115),ColTime(T.!$J$7,T.!$L$7,$AF$1,E115),IF(AND(E115<D115,OR(C115<>\"\",WEEKDAY(A115,2)=7)),ColTime(T.!J118,T.!L118,D115,$AF$1),IF(AND(E115<>\"\",OR(C115<>\"\",WEEKDAY(A115,2)=7)),ColTime(T.!$J$7,T.!$L$7,D115,E115),\"\")))))),\"\")","v":"02:00:00"},"",null,null,{"$f":"IFERROR(CHOOSE(WEEKDAY(A115,2),norm!C$1,norm!C$2,norm!C$3,norm!C$4,norm!C$5,norm!C$6,norm!C$7),\"\")","v":"07:30:00"}]
["2019-04-23","Ti","",null,null,null,{"$f":"IF(D116=\"\",\"\",(E116-D116)+(D116>E116)-F116)","v":""},{"$f":"IF(G116=\"\",0,IF(WEEKDAY(A116,2)=7,0,IF(G116>S116,MIN(G116-S116,$AI$1),0)))","v":"00:00:00"},{"$f":"IF(G116=\"\",\"\",IF(G116>S116+H116,G116-(S116+H116),\"\"))","v":""},{"$f":"IF(AND(C116=\"\",WEEKDAY(A116,2)<6),ColTime(T.!$J$4,T.!$L$4,D116,E116),\"\")","v":"00:00:00"},null,{"$f":"IFERROR(IF(AND(WEEKDAY(A116,2)<6,C117<>\"\",E116<D116,C116=\"\"),ColTime($AE$1,$AF$1,D116,E116),IF(AND(OR(WEEKDAY(A116,2)=7,C116<>\"\"),E116<D116,C117=\"\"),ColTime($AF$1,$AG$1,'Hele året'!$AF$1,E116),IF(AND(WEEKDAY(A116,2)<6,C117=\"\"),ColTime(T.!$J$5,T.!$L$5,D116,E116),\"\"))),\"\")","v":"00:00:00"},null,{"$f":"IF(WEEKDAY(A116,2)=6,ColTime(TIME(15,0,0),TIME(24,0,0),D116,E116),\"\")","v":""},{"$f":"IFERROR(IF(AND(WEEKDAY(A116,2)<6,C117<>\"\",C116=\"\"),ColTime(T.!$J$7,T.!$L$7,$AF$1,'Hele året'!E116),IF(AND(C116<>\"\",C117<>\"\"),ColTime(T.!$J$7,T.!$L$7,'Hele året'!D116,'Hele året'!E116),IF(AND(OR(WEEKDAY(A116,2)<6,WEEKDAY(A116,2)=6),C116<>\"\",E116<D116),ColTime(T.!$J$7,T.!$L$7,D116,AF113),IF(AND(WEEKDAY(A116,2)=6,E116<D116),ColTime(T.!$J$7,T.!$L$7,$AF$1,E116),IF(AND(E116<D116,OR(C116<>\"\",WEEKDAY(A116,2)=7)),ColTime(T.!J119,T.!L119,D116,$AF$1),IF(AND(E116<>\"\",OR(C116<>\"\",WEEKDAY(A116,2)=7)),ColTime(T.!$J$7,T.!$L$7,D116,E116),\"\")))))),\"\")","v":""},{"$f":"IFERROR(H116+I116,\"\")","v":""},null,null,{"$f":"IFERROR(CHOOSE(WEEKDAY(A116,2),norm!C$1,norm!C$2,norm!C$3,norm!C$4,norm!C$5,norm!C$6,norm!C$7),\"\")","v":"07:30:00"}]
["2019-04-24","On","",null,null,null,"","00:00:00","",{"$f":"IF(AND(C117=\"\",WEEKDAY(A117,2)<6),ColTime(T.!$J$4,T.!$L$4,D117,E117),\"\")","v":"00:00:00"},null,{"$f":"IFERROR(IF(AND(WEEKDAY(A117,2)<6,C118<>\"\",E117<D117,C117=\"\"),ColTime($AE$1,$AF$1,D117,E117),IF(AND(OR(WEEKDAY(A117,2)=7,C117<>\"\"),E117<D117,C118=\"\"),ColTime($AF$1,$AG$1,'Hele året'!$AF$1,E117),IF(AND(WEEKDAY(A117,2)<6,C118=\"\"),ColTime(T.!$J$5,T.!$L$5,D117,E117),\"\"))),\"\")","v":"00:00:00"},null,"",{"$f":"IFERROR(IF(AND(WEEKDAY(A117,2)<6,C118<>\"\",C117=\"\"),ColTime(T.!$J$7,T.!$L$7,$AF$1,'Hele året'!E117),IF(AND(C117<>\"\",C118<>\"\"),ColTime(T.!$J$7,T.!$L$7,'Hele året'!D117,'Hele året'!E117),IF(AND(OR(WEEKDAY(A117,2)<6,WEEKDAY(A117,2)=6),C117<>\"\",E117<D117),ColTime(T.!$J$7,T.!$L$7,D117,AF114),IF(AND(WEEKDAY(A117,2)=6,E117<D117),ColTime(T.!$J$7,T.!$L$7,$AF$1,E117),IF(AND(E117<D117,OR(C117<>\"\",WEEKDAY(A117,2)=7)),ColTime(T.!J120,T.!L120,D117,$AF$1),IF(AND(E117<>\"\",OR(C117<>\"\",WEEKDAY(A117,2)=7)),ColTime(T.!$J$7,T.!$L$7,D117,E117),\"\")))))),\"\")","v":""},"",null,null,{"$f":"IFERROR(CHOOSE(WEEKDAY(A117,2),norm!C$1,norm!C$2,norm!C$3,norm!C$4,norm!C$5,norm!C$6,norm!C$7),\"\")","v":"07:30:00"}]
["2019-04-25","To","",null,null,null,"","00:00:00","",{"$f":"IF(AND(C118=\"\",WEEKDAY(A118,2)<6),ColTime(T.!$J$4,T.!$L$4,D118,E118),\"\")","v":"00:00:00"},null,{"$f":"IFERROR(IF(AND(WEEKDAY(A118,2)<6,C119<>\"\",E118<D118,C118=\"\"),ColTime($AE$1,$AF$1,D118,E118),IF(AND(OR(WEEKDAY(A118,2)=7,C118<>\"\"),E118<D118,C119=\"\"),ColTime($AF$1,$AG$1,'Hele året'!$AF$1,E118),IF(AND(WEEKDAY(A118,2)<6,C119=\"\"),ColTime(T.!$J$5,T.!$L$5,D118,E118),\"\"))),\"\")","v":"00:00:00"},null,"",{"$f":"IFERROR(IF(AND(WEEKDAY(A118,2)<6,C119<>\"\",C118=\"\"),ColTime(T.!$J$7,T.!$L$7,$AF$1,'Hele året'!E118),IF(AND(C118<>\"\",C119<>\"\"),ColTime(T.!$J$7,T.!$L$7,'Hele året'!D118,'Hele året'!E118),IF(AND(OR(WEEKDAY(A118,2)<6,WEEKDAY(A118,2)=6),C118<>\"\",E118<D118),ColTime(T.!$J$7,T.!$L$7,D118,AF115),IF(AND(WEEKDAY(A118,2)=6,E118<D118),ColTime(T.!$J$7,T.!$L$7,$AF$1,E118),IF(AND(E118<D118,OR(C118<>\"\",WEEKDAY(A118,2)=7)),ColTime(T.!J121,T.!L121,D118,$AF$1),IF(AND(E118<>\"\",OR(C118<>\"\",WEEKDAY(A118,2)=7)),ColTime(T.!$J$7,T.!$L$7,D118,E118),\"\")))))),\"\")","v":""},"",null,null,{"$f":"IFERROR(CHOOSE(WEEKDAY(A118,2),norm!C$1,norm!C$2,norm!C$3,norm!C$4,norm!C$5,norm!C$6,norm!C$7),\"\")","v":"07:30:00"}]
["2019-04-26","Fr","",null,null,null,"","00:00:00","",{"$f":"IF(AND(C119=\"\",WEEKDAY(A119,2)<6),ColTime(T.!$J$4,T.!$L$4,D119,E119),\"\")","v":"00:00:00"},null,{"$f":"IFERROR(IF(AND(WEEKDAY(A119,2)<6,C120<>\"\",E119<D119,C119=\"\"),ColTime($AE$1,$AF$1,D119,E119),IF(AND(OR(WEEKDAY(A119,2)=7,C119<>\"\"),E119<D119,C120=\"\"),ColTime($AF$1,$AG$1,'Hele året'!$AF$1,E119),IF(AND(WEEKDAY(A119,2)<6,C120=\"\"),ColTime(T.!$J$5,T.!$L$5,D119,E119),\"\"))),\"\")","v":"00:00:00"},null,"",{"$f":"IFERROR(IF(AND(WEEKDAY(A119,2)<6,C120<>\"\",C119=\"\"),ColTime(T.!$J$7,T.!$L$7,$AF$1,'Hele året'!E119),IF(AND(C119<>\"\",C120<>\"\"),ColTime(T.!$J$7,T.!$L$7,'Hele året'!D119,'Hele året'!E119),IF(AND(OR(WEEKDAY(A119,2)<6,WEEKDAY(A119,2)=6),C119<>\"\",E119<D119),ColTime(T.!$J$7,T.!$L$7,D119,AF116),IF(AND(WEEKDAY(A119,2)=6,E119<D119),ColTime(T.!$J$7,T.!$L$7,$AF$1,E119),IF(AND(E119<D119,OR(C119<>\"\",WEEKDAY(A119,2)=7)),ColTime(T.!J122,T.!L122,D119,$AF$1),IF(AND(E119<>\"\",OR(C119<>\"\",WEEKDAY(A119,2)=7)),ColTime(T.!$J$7,T.!$L$7,D119,E119),\"\")))))),\"\")","v":""},"",null,null,{"$f":"IFERROR(CHOOSE(WEEKDAY(A119,2),norm!C$1,norm!C$2,norm!C$3,norm!C$4,norm!C$5,norm!C$6,norm!C$7),\"\")","v":"07:00:00"}]
["2019-04-27","Lø","",null,null,null,"","00:00:00","",{"$f":"IF(AND(C120=\"\",WEEKDAY(A120,2)<6),ColTime(T.!$J$4,T.!$L$4,D120,E120),\"\")","v":""},null,{"$f":"IFERROR(IF(AND(WEEKDAY(A120,2)<6,C121<>\"\",E120<D120,C120=\"\"),ColTime($AE$1,$AF$1,D120,E120),IF(AND(OR(WEEKDAY(A120,2)=7,C120<>\"\"),E120<D120,C121=\"\"),ColTime($AF$1,$AG$1,'Hele året'!$AF$1,E120),IF(AND(WEEKDAY(A120,2)<6,C121=\"\"),ColTime(T.!$J$5,T.!$L$5,D120,E120),\"\"))),\"\")","v":""},null,"00:00:00",{"$f":"IFERROR(IF(AND(WEEKDAY(A120,2)<6,C121<>\"\",C120=\"\"),ColTime(T.!$J$7,T.!$L$7,$AF$1,'Hele året'!E120),IF(AND(C120<>\"\",C121<>\"\"),ColTime(T.!$J$7,T.!$L$7,'Hele året'!D120,'Hele året'!E120),IF(AND(OR(WEEKDAY(A120,2)<6,WEEKDAY(A120,2)=6),C120<>\"\",E120<D120),ColTime(T.!$J$7,T.!$L$7,D120,AF117),IF(AND(WEEKDAY(A120,2)=6,E120<D120),ColTime(T.!$J$7,T.!$L$7,$AF$1,E120),IF(AND(E120<D120,OR(C120<>\"\",WEEKDAY(A120,2)=7)),ColTime(T.!J123,T.!L123,D120,$AF$1),IF(AND(E120<>\"\",OR(C120<>\"\",WEEKDAY(A120,2)=7)),ColTime(T.!$J$7,T.!$L$7,D120,E120),\"\")))))),\"\")","v":""},"",null,null,{"$f":"IFERROR(CHOOSE(WEEKDAY(A120,2),norm!C$1,norm!C$2,norm!C$3,norm!C$4,norm!C$5,norm!C$6,norm!C$7),\"\")","v":"00:00:00"}]
["2019-04-28","Sø","",null,null,null,"","00:00:00","",{"$f":"IF(AND(C121=\"\",WEEKDAY(A121,2)<6),ColTime(T.!$J$4,T.!$L$4,D121,E121),\"\")","v":""},null,{"$f":"IFERROR(IF(AND(WEEKDAY(A121,2)<6,C122<>\"\",E121<D121,C121=\"\"),ColTime($AE$1,$AF$1,D121,E121),IF(AND(OR(WEEKDAY(A121,2)=7,C121<>\"\"),E121<D121,C122=\"\"),ColTime($AF$1,$AG$1,'Hele året'!$AF$1,E121),IF(AND(WEEKDAY(A121,2)<6,C122=\"\"),ColTime(T.!$J$5,T.!$L$5,D121,E121),\"\"))),\"\")","v":""},null,"",{"$f":"IFERROR(IF(AND(WEEKDAY(A121,2)<6,C122<>\"\",C121=\"\"),ColTime(T.!$J$7,T.!$L$7,$AF$1,'Hele året'!E121),IF(AND(C121<>\"\",C122<>\"\"),ColTime(T.!$J$7,T.!$L$7,'Hele året'!D121,'Hele året'!E121),IF(AND(OR(WEEKDAY(A121,2)<6,WEEKDAY(A121,2)=6),C121<>\"\",E121<D121),ColTime(T.!$J$7,T.!$L$7,D121,AF118),IF(AND(WEEKDAY(A121,2)=6,E121<D121),ColTime(T.!$J$7,T.!$L$7,$AF$1,E121),IF(AND(E121<D121,OR(C121<>\"\",WEEKDAY(A121,2)=7)),ColTime(T.!J124,T.!L124,D121,$AF$1),IF(AND(E121<>\"\",OR(C121<>\"\",WEEKDAY(A121,2)=7)),ColTime(T.!$J$7,T.!$L$7,D121,E121),\"\")))))),\"\")","v":""},"",null,null,{"$f":"IFERROR(CHOOSE(WEEKDAY(A121,2),norm!C$1,norm!C$2,norm!C$3,norm!C$4,norm!C$5,norm!C$6,norm!C$7),\"\")","v":"00:00:00"}]
["2019-04-29","Ma","",null,null,null,"","00:00:00","",{"$f":"IF(AND(C122=\"\",WEEKDAY(A122,2)<6),ColTime(T.!$J$4,T.!$L$4,D122,E122),\"\")","v":"00:00:00"},null,{"$f":"IFERROR(IF(AND(WEEKDAY(A122,2)<6,C123<>\"\",E122<D122,C122=\"\"),ColTime($AE$1,$AF$1,D122,E122),IF(AND(OR(WEEKDAY(A122,2)=7,C122<>\"\"),E122<D122,C123=\"\"),ColTime($AF$1,$AG$1,'Hele året'!$AF$1,E122),IF(AND(WEEKDAY(A122,2)<6,C123=\"\"),ColTime(T.!$J$5,T.!$L$5,D122,E122),\"\"))),\"\")","v":"00:00:00"},null,"",{"$f":"IFERROR(IF(AND(WEEKDAY(A122,2)<6,C123<>\"\",C122=\"\"),ColTime(T.!$J$7,T.!$L$7,$AF$1,'Hele året'!E122),IF(AND(C122<>\"\",C123<>\"\"),ColTime(T.!$J$7,T.!$L$7,'Hele året'!D122,'Hele året'!E122),IF(AND(OR(WEEKDAY(A122,2)<6,WEEKDAY(A122,2)=6),C122<>\"\",E122<D122),ColTime(T.!$J$7,T.!$L$7,D122,AF119),IF(AND(WEEKDAY(A122,2)=6,E122<D122),ColTime(T.!$J$7,T.!$L$7,$AF$1,E122),IF(AND(E122<D122,OR(C122<>\"\",WEEKDAY(A122,2)=7)),ColTime(T.!J125,T.!L125,D122,$AF$1),IF(AND(E122<>\"\",OR(C122<>\"\",WEEKDAY(A122,2)=7)),ColTime(T.!$J$7,T.!$L$7,D122,E122),\"\")))))),\"\")","v":""},"",null,null,{"$f":"IFERROR(CHOOSE(WEEKDAY(A122,2),norm!C$1,norm!C$2,norm!C$3,norm!C$4,norm!C$5,norm!C$6,norm!C$7),\"\")","v":"07:30:00"}]
["2019-04-30","Ti","",null,null,null,"","00:00:00","",{"$f":"IF(AND(C123=\"\",WEEKDAY(A123,2)<6),ColTime(T.!$J$4,T.!$L$4,D123,E123),\"\")","v":"00:00:00"},null,{"$f":"IFERROR(IF(AND(WEEKDAY(A123,2)<6,C124<>\"\",E123<D123,C123=\"\"),ColTime($AE$1,$AF$1,D123,E123),IF(AND(OR(WEEKDAY(A123,2)=7,C123<>\"\"),E123<D123,C124=\"\"),ColTime($AF$1,$AG$1,'Hele året'!$AF$1,E123),IF(AND(WEEKDAY(A123,2)<6,C124=\"\"),ColTime(T.!$J$5,T.!$L$5,D123,E123),\"\"))),\"\")","v":"00:00:00"},null,"",{"$f":"IFERROR(IF(AND(WEEKDAY(A123,2)<6,C124<>\"\",C123=\"\"),ColTime(T.!$J$7,T.!$L$7,$AF$1,'Hele året'!E123),IF(AND(C123<>\"\",C124<>\"\"),ColTime(T.!$J$7,T.!$L$7,'Hele året'!D123,'Hele året'!E123),IF(AND(OR(WEEKDAY(A123,2)<6,WEEKDAY(A123,2)=6),C123<>\"\",E123<D123),ColTime(T.!$J$7,T.!$L$7,D123,AF120),IF(AND(WEEKDAY(A123,2)=6,E123<D123),ColTime(T.!$J$7,T.!$L$7,$AF$1,E123),IF(AND(E123<D123,OR(C123<>\"\",WEEKDAY(A123,2)=7)),ColTime(T.!J126,T.!L126,D123,$AF$1),IF(AND(E123<>\"\",OR(C123<>\"\",WEEKDAY(A123,2)=7)),ColTime(T.!$J$7,T.!$L$7,D123,E123),\"\")))))),\"\")","v":""},"",null,null,{"$f":"IFERROR(CHOOSE(WEEKDAY(A123,2),norm!C$1,norm!C$2,norm!C$3,norm!C$4,norm!C$5,norm!C$6,norm!C$7),\"\")","v":"07:30:00"}]
["2019-05-01","On","",null,null,null,"","00:00:00","",{"$f":"IF(AND(C124=\"\",WEEKDAY(A124,2)<6),ColTime(T.!$J$4,T.!$L$4,D124,E124),\"\")","v":"00:00:00"},null,{"$f":"IFERROR(IF(AND(WEEKDAY(A124,2)<6,C125<>\"\",E124<D124,C124=\"\"),ColTime($AE$1,$AF$1,D124,E124),IF(AND(OR(WEEKDAY(A124,2)=7,C124<>\"\"),E124<D124,C125=\"\"),ColTime($AF$1,$AG$1,'Hele året'!$AF$1,E124),IF(AND(WEEKDAY(A124,2)<6,C125=\"\"),ColTime(T.!$J$5,T.!$L$5,D124,E124),\"\"))),\"\")","v":"00:00:00"},null,"",{"$f":"IFERROR(IF(AND(WEEKDAY(A124,2)<6,C125<>\"\",C124=\"\"),ColTime(T.!$J$7,T.!$L$7,$AF$1,'Hele året'!E124),IF(AND(C124<>\"\",C125<>\"\"),ColTime(T.!$J$7,T.!$L$7,'Hele året'!D124,'Hele året'!E124),IF(AND(OR(WEEKDAY(A124,2)<6,WEEKDAY(A124,2)=6),C124<>\"\",E124<D124),ColTime(T.!$J$7,T.!$L$7,D124,AF121),IF(AND(WEEKDAY(A124,2)=6,E124<D124),ColTime(T.!$J$7,T.!$L$7,$AF$1,E124),IF(AND(E124<D124,OR(C124<>\"\",WEEKDAY(A124,2)=7)),ColTime(T.!J127,T.!L127,D124,$AF$1),IF(AND(E124<>\"\",OR(C124<>\"\",WEEKDAY(A124,2)=7)),ColTime(T.!$J$7,T.!$L$7,D124,E124),\"\")))))),\"\")","v":""},"",null,null,{"$f":"IFERROR(CHOOSE(WEEKDAY(A124,2),norm!C$1,norm!C$2,norm!C$3,norm!C$4,norm!C$5,norm!C$6,norm!C$7),\"\")","v":"07:30:00"}]
["2019-05-02","To","",null,null,null,"","00:00:00","",{"$f":"IF(AND(C125=\"\",WEEKDAY(A125,2)<6),ColTime(T.!$J$4,T.!$L$4,D125,E125),\"\")","v":"00:00:00"},null,{"$f":"IFERROR(IF(AND(WEEKDAY(A125,2)<6,C126<>\"\",E125<D125,C125=\"\"),ColTime($AE$1,$AF$1,D125,E125),IF(AND(OR(WEEKDAY(A125,2)=7,C125<>\"\"),E125<D125,C126=\"\"),ColTime($AF$1,$AG$1,'Hele året'!$AF$1,E125),IF(AND(WEEKDAY(A125,2)<6,C126=\"\"),ColTime(T.!$J$5,T.!$L$5,D125,E125),\"\"))),\"\")","v":"00:00:00"},null,"",{"$f":"IFERROR(IF(AND(WEEKDAY(A125,2)<6,C126<>\"\",C125=\"\"),ColTime(T.!$J$7,T.!$L$7,$AF$1,'Hele året'!E125),IF(AND(C125<>\"\",C126<>\"\"),ColTime(T.!$J$7,T.!$L$7,'Hele året'!D125,'Hele året'!E125),IF(AND(OR(WEEKDAY(A125,2)<6,WEEKDAY(A125,2)=6),C125<>\"\",E125<D125),ColTime(T.!$J$7,T.!$L$7,D125,AF122),IF(AND(WEEKDAY(A125,2)=6,E125<D125),ColTime(T.!$J$7,T.!$L$7,$AF$1,E125),IF(AND(E125<D125,OR(C125<>\"\",WEEKDAY(A125,2)=7)),ColTime(T.!J128,T.!L128,D125,$AF$1),IF(AND(E125<>\"\",OR(C125<>\"\",WEEKDAY(A125,2)=7)),ColTime(T.!$J$7,T.!$L$7,D125,E125),\"\")))))),\"\")","v":""},"",null,null,{"$f":"IFERROR(CHOOSE(WEEKDAY(A125,2),norm!C$1,norm!C$2,norm!C$3,norm!C$4,norm!C$5,norm!C$6,norm!C$7),\"\")","v":"07:30:00"}]
["2019-05-03","Fr","",null,null,null,"","00:00:00","",{"$f":"IF(AND(C126=\"\",WEEKDAY(A126,2)<6),ColTime(T.!$J$4,T.!$L$4,D126,E126),\"\")","v":"00:00:00"},null,{"$f":"IFERROR(IF(AND(WEEKDAY(A126,2)<6,C127<>\"\",E126<D126,C126=\"\"),ColTime($AE$1,$AF$1,D126,E126),IF(AND(OR(WEEKDAY(A126,2)=7,C126<>\"\"),E126<D126,C127=\"\"),ColTime($AF$1,$AG$1,'Hele året'!$AF$1,E126),IF(AND(WEEKDAY(A126,2)<6,C127=\"\"),ColTime(T.!$J$5,T.!$L$5,D126,E126),\"\"))),\"\")","v":"00:00:00"},null,"",{"$f":"IFERROR(IF(AND(WEEKDAY(A126,2)<6,C127<>\"\",C126=\"\"),ColTime(T.!$J$7,T.!$L$7,$AF$1,'Hele året'!E126),IF(AND(C126<>\"\",C127<>\"\"),ColTime(T.!$J$7,T.!$L$7,'Hele året'!D126,'Hele året'!E126),IF(AND(OR(WEEKDAY(A126,2)<6,WEEKDAY(A126,2)=6),C126<>\"\",E126<D126),ColTime(T.!$J$7,T.!$L$7,D126,AF123),IF(AND(WEEKDAY(A126,2)=6,E126<D126),ColTime(T.!$J$7,T.!$L$7,$AF$1,E126),IF(AND(E126<D126,OR(C126<>\"\",WEEKDAY(A126,2)=7)),ColTime(T.!J129,T.!L129,D126,$AF$1),IF(AND(E126<>\"\",OR(C126<>\"\",WEEKDAY(A126,2)=7)),ColTime(T.!$J$7,T.!$L$7,D126,E126),\"\")))))),\"\")","v":""},"",null,null,{"$f":"IFERROR(CHOOSE(WEEKDAY(A126,2),norm!C$1,norm!C$2,norm!C$3,norm!C$4,norm!C$5,norm!C$6,norm!C$7),\"\")","v":"07:00:00"}]
["2019-05-04","Lø","",null,null,null,"","00:00:00","",{"$f":"IF(AND(C127=\"\",WEEKDAY(A127,2)<6),ColTime(T.!$J$4,T.!$L$4,D127,E127),\"\")","v":""},null,{"$f":"IFERROR(IF(AND(WEEKDAY(A127,2)<6,C128<>\"\",E127<D127,C127=\"\"),ColTime($AE$1,$AF$1,D127,E127),IF(AND(OR(WEEKDAY(A127,2)=7,C127<>\"\"),E127<D127,C128=\"\"),ColTime($AF$1,$AG$1,'Hele året'!$AF$1,E127),IF(AND(WEEKDAY(A127,2)<6,C128=\"\"),ColTime(T.!$J$5,T.!$L$5,D127,E127),\"\"))),\"\")","v":""},null,"00:00:00",{"$f":"IFERROR(IF(AND(WEEKDAY(A127,2)<6,C128<>\"\",C127=\"\"),ColTime(T.!$J$7,T.!$L$7,$AF$1,'Hele året'!E127),IF(AND(C127<>\"\",C128<>\"\"),ColTime(T.!$J$7,T.!$L$7,'Hele året'!D127,'Hele året'!E127),IF(AND(OR(WEEKDAY(A127,2)<6,WEEKDAY(A127,2)=6),C127<>\"\",E127<D127),ColTime(T.!$J$7,T.!$L$7,D127,AF124),IF(AND(WEEKDAY(A127,2)=6,E127<D127),ColTime(T.!$J$7,T.!$L$7,$AF$1,E127),IF(AND(E127<D127,OR(C127<>\"\",WEEKDAY(A127,2)=7)),ColTime(T.!J130,T.!L130,D127,$AF$1),IF(AND(E127<>\"\",OR(C127<>\"\",WEEKDAY(A127,2)=7)),ColTime(T.!$J$7,T.!$L$7,D127,E127),\"\")))))),\"\")","v":""},"",null,null,{"$f":"IFERROR(CHOOSE(WEEKDAY(A127,2),norm!C$1,norm!C$2,norm!C$3,norm!C$4,norm!C$5,norm!C$6,norm!C$7),\"\")","v":"00:00:00"}]
["2019-05-05","Sø","","22:00:00","07:00:00",null,0.375,"00:00:00","09:00:00",{"$f":"IF(AND(C128=\"\",WEEKDAY(A128,2)<6),ColTime(T.!$J$4,T.!$L$4,D128,E128),\"\")","v":""},null,{"$f":"IFERROR(IF(AND(WEEKDAY(A128,2)<6,C129<>\"\",E128<D128,C128=\"\"),ColTime($AE$1,$AF$1,D128,E128),IF(AND(OR(WEEKDAY(A128,2)=7,C128<>\"\"),E128<D128,C129=\"\"),ColTime($AF$1,$AG$1,'Hele året'!$AF$1,E128),IF(AND(WEEKDAY(A128,2)<6,C129=\"\"),ColTime(T.!$J$5,T.!$L$5,D128,E128),\"\"))),\"\")","v":"06:00:00"},null,"",{"$f":"IFERROR(IF(AND(WEEKDAY(A128,2)<6,C129<>\"\",C128=\"\"),ColTime(T.!$J$7,T.!$L$7,$AF$1,'Hele året'!E128),IF(AND(C128<>\"\",C129<>\"\"),ColTime(T.!$J$7,T.!$L$7,'Hele året'!D128,'Hele året'!E128),IF(AND(OR(WEEKDAY(A128,2)<6,WEEKDAY(A128,2)=6),C128<>\"\",E128<D128),ColTime(T.!$J$7,T.!$L$7,D128,AF125),IF(AND(WEEKDAY(A128,2)=6,E128<D128),ColTime(T.!$J$7,T.!$L$7,$AF$1,E128),IF(AND(E128<D128,OR(C128<>\"\",WEEKDAY(A128,2)=7)),ColTime(T.!J131,T.!L131,D128,$AF$1),IF(AND(E128<>\"\",OR(C128<>\"\",WEEKDAY(A128,2)=7)),ColTime(T.!$J$7,T.!$L$7,D128,E128),\"\")))))),\"\")","v":"02:00:00"},"09:00:00",null,null,{"$f":"IFERROR(CHOOSE(WEEKDAY(A128,2),norm!C$1,norm!C$2,norm!C$3,norm!C$4,norm!C$5,norm!C$6,norm!C$7),\"\")","v":"00:00:00"}]
["2019-05-06","Ma","",null,null,null,"","00:00:00","",{"$f":"IF(AND(C129=\"\",WEEKDAY(A129,2)<6),ColTime(T.!$J$4,T.!$L$4,D129,E129),\"\")","v":"00:00:00"},null,{"$f":"IFERROR(IF(AND(WEEKDAY(A129,2)<6,C130<>\"\",E129<D129,C129=\"\"),ColTime($AE$1,$AF$1,D129,E129),IF(AND(OR(WEEKDAY(A129,2)=7,C129<>\"\"),E129<D129,C130=\"\"),ColTime($AF$1,$AG$1,'Hele året'!$AF$1,E129),IF(AND(WEEKDAY(A129,2)<6,C130=\"\"),ColTime(T.!$J$5,T.!$L$5,D129,E129),\"\"))),\"\")","v":"00:00:00"},null,"",{"$f":"IFERROR(IF(AND(WEEKDAY(A129,2)<6,C130<>\"\",C129=\"\"),ColTime(T.!$J$7,T.!$L$7,$AF$1,'Hele året'!E129),IF(AND(C129<>\"\",C130<>\"\"),ColTime(T.!$J$7,T.!$L$7,'Hele året'!D129,'Hele året'!E129),IF(AND(OR(WEEKDAY(A129,2)<6,WEEKDAY(A129,2)=6),C129<>\"\",E129<D129),ColTime(T.!$J$7,T.!$L$7,D129,AF126),IF(AND(WEEKDAY(A129,2)=6,E129<D129),ColTime(T.!$J$7,T.!$L$7,$AF$1,E129),IF(AND(E129<D129,OR(C129<>\"\",WEEKDAY(A129,2)=7)),ColTime(T.!J132,T.!L132,D129,$AF$1),IF(AND(E129<>\"\",OR(C129<>\"\",WEEKDAY(A129,2)=7)),ColTime(T.!$J$7,T.!$L$7,D129,E129),\"\")))))),\"\")","v":""},"",null,null,{"$f":"IFERROR(CHOOSE(WEEKDAY(A129,2),norm!C$1,norm!C$2,norm!C$3,norm!C$4,norm!C$5,norm!C$6,norm!C$7),\"\")","v":"07:30:00"}]
["2019-05-07","Ti","",null,null,null,"","00:00:00","",{"$f":"IF(AND(C130=\"\",WEEKDAY(A130,2)<6),ColTime(T.!$J$4,T.!$L$4,D130,E130),\"\")","v":"00:00:00"},null,{"$f":"IFERROR(IF(AND(WEEKDAY(A130,2)<6,C131<>\"\",E130<D130,C130=\"\"),ColTime($AE$1,$AF$1,D130,E130),IF(AND(OR(WEEKDAY(A130,2)=7,C130<>\"\"),E130<D130,C131=\"\"),ColTime($AF$1,$AG$1,'Hele året'!$AF$1,E130),IF(AND(WEEKDAY(A130,2)<6,C131=\"\"),ColTime(T.!$J$5,T.!$L$5,D130,E130),\"\"))),\"\")","v":"00:00:00"},null,"",{"$f":"IFERROR(IF(AND(WEEKDAY(A130,2)<6,C131<>\"\",C130=\"\"),ColTime(T.!$J$7,T.!$L$7,$AF$1,'Hele året'!E130),IF(AND(C130<>\"\",C131<>\"\"),ColTime(T.!$J$7,T.!$L$7,'Hele året'!D130,'Hele året'!E130),IF(AND(OR(WEEKDAY(A130,2)<6,WEEKDAY(A130,2)=6),C130<>\"\",E130<D130),ColTime(T.!$J$7,T.!$L$7,D130,AF127),IF(AND(WEEKDAY(A130,2)=6,E130<D130),ColTime(T.!$J$7,T.!$L$7,$AF$1,E130),IF(AND(E130<D130,OR(C130<>\"\",WEEKDAY(A130,2)=7)),ColTime(T.!J133,T.!L133,D130,$AF$1),IF(AND(E130<>\"\",OR(C130<>\"\",WEEKDAY(A130,2)=7)),ColTime(T.!$J$7,T.!$L$7,D130,E130),\"\")))))),\"\")","v":""},"",null,null,{"$f":"IFERROR(CHOOSE(WEEKDAY(A130,2),norm!C$1,norm!C$2,norm!C$3,norm!C$4,norm!C$5,norm!C$6,norm!C$7),\"\")","v":"07:30:00"}]
["2019-05-08","On","",null,null,null,"","00:00:00","",{"$f":"IF(AND(C131=\"\",WEEKDAY(A131,2)<6),ColTime(T.!$J$4,T.!$L$4,D131,E131),\"\")","v":"00:00:00"},null,{"$f":"IFERROR(IF(AND(WEEKDAY(A131,2)<6,C132<>\"\",E131<D131,C131=\"\"),ColTime($AE$1,$AF$1,D131,E131),IF(AND(OR(WEEKDAY(A131,2)=7,C131<>\"\"),E131<D131,C132=\"\"),ColTime($AF$1,$AG$1,'Hele året'!$AF$1,E131),IF(AND(WEEKDAY(A131,2)<6,C132=\"\"),ColTime(T.!$J$5,T.!$L$5,D131,E131),\"\"))),\"\")","v":"00:00:00"},null,"",{"$f":"IFERROR(IF(AND(WEEKDAY(A131,2)<6,C132<>\"\",C131=\"\"),ColTime(T.!$J$7,T.!$L$7,$AF$1,'Hele året'!E131),IF(AND(C131<>\"\",C132<>\"\"),ColTime(T.!$J$7,T.!$L$7,'Hele året'!D131,'Hele året'!E131),IF(AND(OR(WEEKDAY(A131,2)<6,WEEKDAY(A131,2)=6),C131<>\"\",E131<D131),ColTime(T.!$J$7,T.!$L$7,D131,AF128),IF(AND(WEEKDAY(A131,2)=6,E131<D131),ColTime(T.!$J$7,T.!$L$7,$AF$1,E131),IF(AND(E131<D131,OR(C131<>\"\",WEEKDAY(A131,2)=7)),ColTime(T.!J134,T.!L134,D131,$AF$1),IF(AND(E131<>\"\",OR(C131<>\"\",WEEKDAY(A131,2)=7)),ColTime(T.!$J$7,T.!$L$7,D131,E131),\"\")))))),\"\")","v":""},"",null,null,{"$f":"IFERROR(CHOOSE(WEEKDAY(A131,2),norm!C$1,norm!C$2,norm!C$3,norm!C$4,norm!C$5,norm!C$6,norm!C$7),\"\")","v":"07:30:00"}]
["2019-05-09","To","",null,null,null,"","00:00:00","",{"$f":"IF(AND(C132=\"\",WEEKDAY(A132,2)<6),ColTime(T.!$J$4,T.!$L$4,D132,E132),\"\")","v":"00:00:00"},null,{"$f":"IFERROR(IF(AND(WEEKDAY(A132,2)<6,C133<>\"\",E132<D132,C132=\"\"),ColTime($AE$1,$AF$1,D132,E132),IF(AND(OR(WEEKDAY(A132,2)=7,C132<>\"\"),E132<D132,C133=\"\"),ColTime($AF$1,$AG$1,'Hele året'!$AF$1,E132),IF(AND(WEEKDAY(A132,2)<6,C133=\"\"),ColTime(T.!$J$5,T.!$L$5,D132,E132),\"\"))),\"\")","v":"00:00:00"},null,"",{"$f":"IFERROR(IF(AND(WEEKDAY(A132,2)<6,C133<>\"\",C132=\"\"),ColTime(T.!$J$7,T.!$L$7,$AF$1,'Hele året'!E132),IF(AND(C132<>\"\",C133<>\"\"),ColTime(T.!$J$7,T.!$L$7,'Hele året'!D132,'Hele året'!E132),IF(AND(OR(WEEKDAY(A132,2)<6,WEEKDAY(A132,2)=6),C132<>\"\",E132<D132),ColTime(T.!$J$7,T.!$L$7,D132,AF129),IF(AND(WEEKDAY(A132,2)=6,E132<D132),ColTime(T.!$J$7,T.!$L$7,$AF$1,E132),IF(AND(E132<D132,OR(C132<>\"\",WEEKDAY(A132,2)=7)),ColTime(T.!J135,T.!L135,D132,$AF$1),IF(AND(E132<>\"\",OR(C132<>\"\",WEEKDAY(A132,2)=7)),ColTime(T.!$J$7,T.!$L$7,D132,E132),\"\")))))),\"\")","v":""},"",null,null,{"$f":"IFERROR(CHOOSE(WEEKDAY(A132,2),norm!C$1,norm!C$2,norm!C$3,norm!C$4,norm!C$5,norm!C$6,norm!C$7),\"\")","v":"07:30:00"}]
["2019-05-10","Fr","",null,null,null,"","00:00:00","",{"$f":"IF(AND(C133=\"\",WEEKDAY(A133,2)<6),ColTime(T.!$J$4,T.!$L$4,D133,E133),\"\")","v":"00:00:00"},null,{"$f":"IFERROR(IF(AND(WEEKDAY(A133,2)<6,C134<>\"\",E133<D133,C133=\"\"),ColTime($AE$1,$AF$1,D133,E133),IF(AND(OR(WEEKDAY(A133,2)=7,C133<>\"\"),E133<D133,C134=\"\"),ColTime($AF$1,$AG$1,'Hele året'!$AF$1,E133),IF(AND(WEEKDAY(A133,2)<6,C134=\"\"),ColTime(T.!$J$5,T.!$L$5,D133,E133),\"\"))),\"\")","v":"00:00:00"},null,"",{"$f":"IFERROR(IF(AND(WEEKDAY(A133,2)<6,C134<>\"\",C133=\"\"),ColTime(T.!$J$7,T.!$L$7,$AF$1,'Hele året'!E133),IF(AND(C133<>\"\",C134<>\"\"),ColTime(T.!$J$7,T.!$L$7,'Hele året'!D133,'Hele året'!E133),IF(AND(OR(WEEKDAY(A133,2)<6,WEEKDAY(A133,2)=6),C133<>\"\",E133<D133),ColTime(T.!$J$7,T.!$L$7,D133,AF130),IF(AND(WEEKDAY(A133,2)=6,E133<D133),ColTime(T.!$J$7,T.!$L$7,$AF$1,E133),IF(AND(E133<D133,OR(C133<>\"\",WEEKDAY(A133,2)=7)),ColTime(T.!J136,T.!L136,D133,$AF$1),IF(AND(E133<>\"\",OR(C133<>\"\",WEEKDAY(A133,2)=7)),ColTime(T.!$J$7,T.!$L$7,D133,E133),\"\")))))),\"\")","v":""},"",null,null,{"$f":"IFERROR(CHOOSE(WEEKDAY(A133,2),norm!C$1,norm!C$2,norm!C$3,norm!C$4,norm!C$5,norm!C$6,norm!C$7),\"\")","v":"07:00:00"}]
["2019-05-11","Lø","",null,null,null,"","00:00:00","",{"$f":"IF(AND(C134=\"\",WEEKDAY(A134,2)<6),ColTime(T.!$J$4,T.!$L$4,D134,E134),\"\")","v":""},null,{"$f":"IFERROR(IF(AND(WEEKDAY(A134,2)<6,C135<>\"\",E134<D134,C134=\"\"),ColTime($AE$1,$AF$1,D134,E134),IF(AND(OR(WEEKDAY(A134,2)=7,C134<>\"\"),E134<D134,C135=\"\"),ColTime($AF$1,$AG$1,'Hele året'!$AF$1,E134),IF(AND(WEEKDAY(A134,2)<6,C135=\"\"),ColTime(T.!$J$5,T.!$L$5,D134,E134),\"\"))),\"\")","v":""},null,"00:00:00",{"$f":"IFERROR(IF(AND(WEEKDAY(A134,2)<6,C135<>\"\",C134=\"\"),ColTime(T.!$J$7,T.!$L$7,$AF$1,'Hele året'!E134),IF(AND(C134<>\"\",C135<>\"\"),ColTime(T.!$J$7,T.!$L$7,'Hele året'!D134,'Hele året'!E134),IF(AND(OR(WEEKDAY(A134,2)<6,WEEKDAY(A134,2)=6),C134<>\"\",E134<D134),ColTime(T.!$J$7,T.!$L$7,D134,AF131),IF(AND(WEEKDAY(A134,2)=6,E134<D134),ColTime(T.!$J$7,T.!$L$7,$AF$1,E134),IF(AND(E134<D134,OR(C134<>\"\",WEEKDAY(A134,2)=7)),ColTime(T.!J137,T.!L137,D134,$AF$1),IF(AND(E134<>\"\",OR(C134<>\"\",WEEKDAY(A134,2)=7)),ColTime(T.!$J$7,T.!$L$7,D134,E134),\"\")))))),\"\")","v":""},"",null,null,{"$f":"IFERROR(CHOOSE(WEEKDAY(A134,2),norm!C$1,norm!C$2,norm!C$3,norm!C$4,norm!C$5,norm!C$6,norm!C$7),\"\")","v":"00:00:00"}]
["2019-05-12","Sø","",null,null,null,"","00:00:00","",{"$f":"IF(AND(C135=\"\",WEEKDAY(A135,2)<6),ColTime(T.!$J$4,T.!$L$4,D135,E135),\"\")","v":""},null,{"$f":"IFERROR(IF(AND(WEEKDAY(A135,2)<6,C136<>\"\",E135<D135,C135=\"\"),ColTime($AE$1,$AF$1,D135,E135),IF(AND(OR(WEEKDAY(A135,2)=7,C135<>\"\"),E135<D135,C136=\"\"),ColTime($AF$1,$AG$1,'Hele året'!$AF$1,E135),IF(AND(WEEKDAY(A135,2)<6,C136=\"\"),ColTime(T.!$J$5,T.!$L$5,D135,E135),\"\"))),\"\")","v":""},null,"",{"$f":"IFERROR(IF(AND(WEEKDAY(A135,2)<6,C136<>\"\",C135=\"\"),ColTime(T.!$J$7,T.!$L$7,$AF$1,'Hele året'!E135),IF(AND(C135<>\"\",C136<>\"\"),ColTime(T.!$J$7,T.!$L$7,'Hele året'!D135,'Hele året'!E135),IF(AND(OR(WEEKDAY(A135,2)<6,WEEKDAY(A135,2)=6),C135<>\"\",E135<D135),ColTime(T.!$J$7,T.!$L$7,D135,AF132),IF(AND(WEEKDAY(A135,2)=6,E135<D135),ColTime(T.!$J$7,T.!$L$7,$AF$1,E135),IF(AND(E135<D135,OR(C135<>\"\",WEEKDAY(A135,2)=7)),ColTime(T.!J138,T.!L138,D135,$AF$1),IF(AND(E135<>\"\",OR(C135<>\"\",WEEKDAY(A135,2)=7)),ColTime(T.!$J$7,T.!$L$7,D135,E135),\"\")))))),\"\")","v":""},"",null,null,{"$f":"IFERROR(CHOOSE(WEEKDAY(A135,2),norm!C$1,norm!C$2,norm!C$3,norm!C$4,norm!C$5,norm!C$6,norm!C$7),\"\")","v":"00:00:00"}]
["2019-05-13","Ma","",null,null,null,"","00:00:00","",{"$f":"IF(AND(C136=\"\",WEEKDAY(A136,2)<6),ColTime(T.!$J$4,T.!$L$4,D136,E136),\"\")","v":"00:00:00"},null,{"$f":"IFERROR(IF(AND(WEEKDAY(A136,2)<6,C137<>\"\",E136<D136,C136=\"\"),ColTime($AE$1,$AF$1,D136,E136),IF(AND(OR(WEEKDAY(A136,2)=7,C136<>\"\"),E136<D136,C137=\"\"),ColTime($AF$1,$AG$1,'Hele året'!$AF$1,E136),IF(AND(WEEKDAY(A136,2)<6,C137=\"\"),ColTime(T.!$J$5,T.!$L$5,D136,E136),\"\"))),\"\")","v":"00:00:00"},null,"",{"$f":"IFERROR(IF(AND(WEEKDAY(A136,2)<6,C137<>\"\",C136=\"\"),ColTime(T.!$J$7,T.!$L$7,$AF$1,'Hele året'!E136),IF(AND(C136<>\"\",C137<>\"\"),ColTime(T.!$J$7,T.!$L$7,'Hele året'!D136,'Hele året'!E136),IF(AND(OR(WEEKDAY(A136,2)<6,WEEKDAY(A136,2)=6),C136<>\"\",E136<D136),ColTime(T.!$J$7,T.!$L$7,D136,AF133),IF(AND(WEEKDAY(A136,2)=6,E136<D136),ColTime(T.!$J$7,T.!$L$7,$AF$1,E136),IF(AND(E136<D136,OR(C136<>\"\",WEEKDAY(A136,2)=7)),ColTime(T.!J139,T.!L139,D136,$AF$1),IF(AND(E136<>\"\",OR(C136<>\"\",WEEKDAY(A136,2)=7)),ColTime(T.!$J$7,T.!$L$7,D136,E136),\"\")))))),\"\")","v":""},"",null,null,{"$f":"IFERROR(CHOOSE(WEEKDAY(A136,2),norm!C$1,norm!C$2,norm!C$3,norm!C$4,norm!C$5,norm!C$6,norm!C$7),\"\")","v":"07:30:00"}]
["2019-05-14","Ti","",null,null,null,"","00:00:00","",{"$f":"IF(AND(C137=\"\",WEEKDAY(A137,2)<6),ColTime(T.!$J$4,T.!$L$4,D137,E137),\"\")","v":"00:00:00"},null,{"$f":"IFERROR(IF(AND(WEEKDAY(A137,2)<6,C138<>\"\",E137<D137,C137=\"\"),ColTime($AE$1,$AF$1,D137,E137),IF(AND(OR(WEEKDAY(A137,2)=7,C137<>\"\"),E137<D137,C138=\"\"),ColTime($AF$1,$AG$1,'Hele året'!$AF$1,E137),IF(AND(WEEKDAY(A137,2)<6,C138=\"\"),ColTime(T.!$J$5,T.!$L$5,D137,E137),\"\"))),\"\")","v":"00:00:00"},null,"",{"$f":"IFERROR(IF(AND(WEEKDAY(A137,2)<6,C138<>\"\",C137=\"\"),ColTime(T.!$J$7,T.!$L$7,$AF$1,'Hele året'!E137),IF(AND(C137<>\"\",C138<>\"\"),ColTime(T.!$J$7,T.!$L$7,'Hele året'!D137,'Hele året'!E137),IF(AND(OR(WEEKDAY(A137,2)<6,WEEKDAY(A137,2)=6),C137<>\"\",E137<D137),ColTime(T.!$J$7,T.!$L$7,D137,AF134),IF(AND(WEEKDAY(A137,2)=6,E137<D137),ColTime(T.!$J$7,T.!$L$7,$AF$1,E137),IF(AND(E137<D137,OR(C137<>\"\",WEEKDAY(A137,2)=7)),ColTime(T.!J140,T.!L140,D137,$AF$1),IF(AND(E137<>\"\",OR(C137<>\"\",WEEKDAY(A137,2)=7)),ColTime(T.!$J$7,T.!$L$7,D137,E137),\"\")))))),\"\")","v":""},"",null,null,{"$f":"IFERROR(CHOOSE(WEEKDAY(A137,2),norm!C$1,norm!C$2,norm!C$3,norm!C$4,norm!C$5,norm!C$6,norm!C$7),\"\")","v":"07:30:00"}]
["2019-05-15","On","",null,null,null,"","00:00:00","",{"$f":"IF(AND(C138=\"\",WEEKDAY(A138,2)<6),ColTime(T.!$J$4,T.!$L$4,D138,E138),\"\")","v":"00:00:00"},null,{"$f":"IFERROR(IF(AND(WEEKDAY(A138,2)<6,C139<>\"\",E138<D138,C138=\"\"),ColTime($AE$1,$AF$1,D138,E138),IF(AND(OR(WEEKDAY(A138,2)=7,C138<>\"\"),E138<D138,C139=\"\"),ColTime($AF$1,$AG$1,'Hele året'!$AF$1,E138),IF(AND(WEEKDAY(A138,2)<6,C139=\"\"),ColTime(T.!$J$5,T.!$L$5,D138,E138),\"\"))),\"\")","v":"00:00:00"},null,"",{"$f":"IFERROR(IF(AND(WEEKDAY(A138,2)<6,C139<>\"\",C138=\"\"),ColTime(T.!$J$7,T.!$L$7,$AF$1,'Hele året'!E138),IF(AND(C138<>\"\",C139<>\"\"),ColTime(T.!$J$7,T.!$L$7,'Hele året'!D138,'Hele året'!E138),IF(AND(OR(WEEKDAY(A138,2)<6,WEEKDAY(A138,2)=6),C138<>\"\",E138<D138),ColTime(T.!$J$7,T.!$L$7,D138,AF135),IF(AND(WEEKDAY(A138,2)=6,E138<D138),ColTime(T.!$J$7,T.!$L$7,$AF$1,E138),IF(AND(E138<D138,OR(C138<>\"\",WEEKDAY(A138,2)=7)),ColTime(T.!J141,T.!L141,D138,$AF$1),IF(AND(E138<>\"\",OR(C138<>\"\",WEEKDAY(A138,2)=7)),ColTime(T.!$J$7,T.!$L$7,D138,E138),\"\")))))),\"\")","v":""},"",null,null,{"$f":"IFERROR(CHOOSE(WEEKDAY(A138,2),norm!C$1,norm!C$2,norm!C$3,norm!C$4,norm!C$5,norm!C$6,norm!C$7),\"\")","v":"07:30:00"}]
["2019-05-16","To","","22:00:00","07:00:00",null,0.375,"01:30:00","",{"$f":"IF(AND(C139=\"\",WEEKDAY(A139,2)<6),ColTime(T.!$J$4,T.!$L$4,D139,E139),\"\")","v":"01:00:00"},null,{"$f":"IFERROR(IF(AND(WEEKDAY(A139,2)<6,C140<>\"\",E139<D139,C139=\"\"),ColTime($AE$1,$AF$1,D139,E139),IF(AND(OR(WEEKDAY(A139,2)=7,C139<>\"\"),E139<D139,C140=\"\"),ColTime($AF$1,$AG$1,'Hele året'!$AF$1,E139),IF(AND(WEEKDAY(A139,2)<6,C140=\"\"),ColTime(T.!$J$5,T.!$L$5,D139,E139),\"\"))),\"\")","v":"01:00:00"},null,"",{"$f":"IFERROR(IF(AND(WEEKDAY(A139,2)<6,C140<>\"\",C139=\"\"),ColTime(T.!$J$7,T.!$L$7,$AF$1,'Hele året'!E139),IF(AND(C139<>\"\",C140<>\"\"),ColTime(T.!$J$7,T.!$L$7,'Hele året'!D139,'Hele året'!E139),IF(AND(OR(WEEKDAY(A139,2)<6,WEEKDAY(A139,2)=6),C139<>\"\",E139<D139),ColTime(T.!$J$7,T.!$L$7,D139,AF136),IF(AND(WEEKDAY(A139,2)=6,E139<D139),ColTime(T.!$J$7,T.!$L$7,$AF$1,E139),IF(AND(E139<D139,OR(C139<>\"\",WEEKDAY(A139,2)=7)),ColTime(T.!J142,T.!L142,D139,$AF$1),IF(AND(E139<>\"\",OR(C139<>\"\",WEEKDAY(A139,2)=7)),ColTime(T.!$J$7,T.!$L$7,D139,E139),\"\")))))),\"\")","v":"07:00:00"},"",null,null,{"$f":"IFERROR(CHOOSE(WEEKDAY(A139,2),norm!C$1,norm!C$2,norm!C$3,norm!C$4,norm!C$5,norm!C$6,norm!C$7),\"\")","v":"07:30:00"}]
["2019-05-17","Fr","Store Bededag",null,null,null,"","00:00:00","",{"$f":"IF(AND(C140=\"\",WEEKDAY(A140,2)<6),ColTime(T.!$J$4,T.!$L$4,D140,E140),\"\")","v":""},null,{"$f":"IFERROR(IF(AND(WEEKDAY(A140,2)<6,C141<>\"\",E140<D140,C140=\"\"),ColTime($AE$1,$AF$1,D140,E140),IF(AND(OR(WEEKDAY(A140,2)=7,C140<>\"\"),E140<D140,C141=\"\"),ColTime($AF$1,$AG$1,'Hele året'!$AF$1,E140),IF(AND(WEEKDAY(A140,2)<6,C141=\"\"),ColTime(T.!$J$5,T.!$L$5,D140,E140),\"\"))),\"\")","v":"00:00:00"},null,"",{"$f":"IFERROR(IF(AND(WEEKDAY(A140,2)<6,C141<>\"\",C140=\"\"),ColTime(T.!$J$7,T.!$L$7,$AF$1,'Hele året'!E140),IF(AND(C140<>\"\",C141<>\"\"),ColTime(T.!$J$7,T.!$L$7,'Hele året'!D140,'Hele året'!E140),IF(AND(OR(WEEKDAY(A140,2)<6,WEEKDAY(A140,2)=6),C140<>\"\",E140<D140),ColTime(T.!$J$7,T.!$L$7,D140,AF137),IF(AND(WEEKDAY(A140,2)=6,E140<D140),ColTime(T.!$J$7,T.!$L$7,$AF$1,E140),IF(AND(E140<D140,OR(C140<>\"\",WEEKDAY(A140,2)=7)),ColTime(T.!J143,T.!L143,D140,$AF$1),IF(AND(E140<>\"\",OR(C140<>\"\",WEEKDAY(A140,2)=7)),ColTime(T.!$J$7,T.!$L$7,D140,E140),\"\")))))),\"\")","v":""},"",null,null,{"$f":"IFERROR(CHOOSE(WEEKDAY(A140,2),norm!C$1,norm!C$2,norm!C$3,norm!C$4,norm!C$5,norm!C$6,norm!C$7),\"\")","v":"07:00:00"}]
["2019-05-18","Lø","",null,null,null,"","00:00:00","",{"$f":"IF(AND(C141=\"\",WEEKDAY(A141,2)<6),ColTime(T.!$J$4,T.!$L$4,D141,E141),\"\")","v":""},null,{"$f":"IFERROR(IF(AND(WEEKDAY(A141,2)<6,C142<>\"\",E141<D141,C141=\"\"),ColTime($AE$1,$AF$1,D141,E141),IF(AND(OR(WEEKDAY(A141,2)=7,C141<>\"\"),E141<D141,C142=\"\"),ColTime($AF$1,$AG$1,'Hele året'!$AF$1,E141),IF(AND(WEEKDAY(A141,2)<6,C142=\"\"),ColTime(T.!$J$5,T.!$L$5,D141,E141),\"\"))),\"\")","v":""},null,"00:00:00",{"$f":"IFERROR(IF(AND(WEEKDAY(A141,2)<6,C142<>\"\",C141=\"\"),ColTime(T.!$J$7,T.!$L$7,$AF$1,'Hele året'!E141),IF(AND(C141<>\"\",C142<>\"\"),ColTime(T.!$J$7,T.!$L$7,'Hele året'!D141,'Hele året'!E141),IF(AND(OR(WEEKDAY(A141,2)<6,WEEKDAY(A141,2)=6),C141<>\"\",E141<D141),ColTime(T.!$J$7,T.!$L$7,D141,AF138),IF(AND(WEEKDAY(A141,2)=6,E141<D141),ColTime(T.!$J$7,T.!$L$7,$AF$1,E141),IF(AND(E141<D141,OR(C141<>\"\",WEEKDAY(A141,2)=7)),ColTime(T.!J144,T.!L144,D141,$AF$1),IF(AND(E141<>\"\",OR(C141<>\"\",WEEKDAY(A141,2)=7)),ColTime(T.!$J$7,T.!$L$7,D141,E141),\"\")))))),\"\")","v":""},"",null,null,{"$f":"IFERROR(CHOOSE(WEEKDAY(A141,2),norm!C$1,norm!C$2,norm!C$3,norm!C$4,norm!C$5,norm!C$6,norm!C$7),\"\")","v":"00:00:00"}]
["2019-05-19","Sø","",null,null,null,"","00:00:00","",{"$f":"IF(AND(C142=\"\",WEEKDAY(A142,2)<6),ColTime(T.!$J$4,T.!$L$4,D142,E142),\"\")","v":""},null,{"$f":"IFERROR(IF(AND(WEEKDAY(A142,2)<6,C143<>\"\",E142<D142,C142=\"\"),ColTime($AE$1,$AF$1,D142,E142),IF(AND(OR(WEEKDAY(A142,2)=7,C142<>\"\"),E142<D142,C143=\"\"),ColTime($AF$1,$AG$1,'Hele året'!$AF$1,E142),IF(AND(WEEKDAY(A142,2)<6,C143=\"\"),ColTime(T.!$J$5,T.!$L$5,D142,E142),\"\"))),\"\")","v":""},null,"",{"$f":"IFERROR(IF(AND(WEEKDAY(A142,2)<6,C143<>\"\",C142=\"\"),ColTime(T.!$J$7,T.!$L$7,$AF$1,'Hele året'!E142),IF(AND(C142<>\"\",C143<>\"\"),ColTime(T.!$J$7,T.!$L$7,'Hele året'!D142,'Hele året'!E142),IF(AND(OR(WEEKDAY(A142,2)<6,WEEKDAY(A142,2)=6),C142<>\"\",E142<D142),ColTime(T.!$J$7,T.!$L$7,D142,AF139),IF(AND(WEEKDAY(A142,2)=6,E142<D142),ColTime(T.!$J$7,T.!$L$7,$AF$1,E142),IF(AND(E142<D142,OR(C142<>\"\",WEEKDAY(A142,2)=7)),ColTime(T.!J145,T.!L145,D142,$AF$1),IF(AND(E142<>\"\",OR(C142<>\"\",WEEKDAY(A142,2)=7)),ColTime(T.!$J$7,T.!$L$7,D142,E142),\"\")))))),\"\")","v":""},"",null,null,{"$f":"IFERROR(CHOOSE(WEEKDAY(A142,2),norm!C$1,norm!C$2,norm!C$3,norm!C$4,norm!C$5,norm!C$6,norm!C$7),\"\")","v":"00:00:00"}]
["2019-05-20","Ma","",null,null,null,"","00:00:00","",{"$f":"IF(AND(C143=\"\",WEEKDAY(A143,2)<6),ColTime(T.!$J$4,T.!$L$4,D143,E143),\"\")","v":"00:00:00"},null,{"$f":"IFERROR(IF(AND(WEEKDAY(A143,2)<6,C144<>\"\",E143<D143,C143=\"\"),ColTime($AE$1,$AF$1,D143,E143),IF(AND(OR(WEEKDAY(A143,2)=7,C143<>\"\"),E143<D143,C144=\"\"),ColTime($AF$1,$AG$1,'Hele året'!$AF$1,E143),IF(AND(WEEKDAY(A143,2)<6,C144=\"\"),ColTime(T.!$J$5,T.!$L$5,D143,E143),\"\"))),\"\")","v":"00:00:00"},null,"",{"$f":"IFERROR(IF(AND(WEEKDAY(A143,2)<6,C144<>\"\",C143=\"\"),ColTime(T.!$J$7,T.!$L$7,$AF$1,'Hele året'!E143),IF(AND(C143<>\"\",C144<>\"\"),ColTime(T.!$J$7,T.!$L$7,'Hele året'!D143,'Hele året'!E143),IF(AND(OR(WEEKDAY(A143,2)<6,WEEKDAY(A143,2)=6),C143<>\"\",E143<D143),ColTime(T.!$J$7,T.!$L$7,D143,AF140),IF(AND(WEEKDAY(A143,2)=6,E143<D143),ColTime(T.!$J$7,T.!$L$7,$AF$1,E143),IF(AND(E143<D143,OR(C143<>\"\",WEEKDAY(A143,2)=7)),ColTime(T.!J146,T.!L146,D143,$AF$1),IF(AND(E143<>\"\",OR(C143<>\"\",WEEKDAY(A143,2)=7)),ColTime(T.!$J$7,T.!$L$7,D143,E143),\"\")))))),\"\")","v":""},"",null,null,{"$f":"IFERROR(CHOOSE(WEEKDAY(A143,2),norm!C$1,norm!C$2,norm!C$3,norm!C$4,norm!C$5,norm!C$6,norm!C$7),\"\")","v":"07:30:00"}]
["2019-05-21","Ti","",null,null,null,"","00:00:00","",{"$f":"IF(AND(C144=\"\",WEEKDAY(A144,2)<6),ColTime(T.!$J$4,T.!$L$4,D144,E144),\"\")","v":"00:00:00"},null,{"$f":"IFERROR(IF(AND(WEEKDAY(A144,2)<6,C145<>\"\",E144<D144,C144=\"\"),ColTime($AE$1,$AF$1,D144,E144),IF(AND(OR(WEEKDAY(A144,2)=7,C144<>\"\"),E144<D144,C145=\"\"),ColTime($AF$1,$AG$1,'Hele året'!$AF$1,E144),IF(AND(WEEKDAY(A144,2)<6,C145=\"\"),ColTime(T.!$J$5,T.!$L$5,D144,E144),\"\"))),\"\")","v":"00:00:00"},null,"",{"$f":"IFERROR(IF(AND(WEEKDAY(A144,2)<6,C145<>\"\",C144=\"\"),ColTime(T.!$J$7,T.!$L$7,$AF$1,'Hele året'!E144),IF(AND(C144<>\"\",C145<>\"\"),ColTime(T.!$J$7,T.!$L$7,'Hele året'!D144,'Hele året'!E144),IF(AND(OR(WEEKDAY(A144,2)<6,WEEKDAY(A144,2)=6),C144<>\"\",E144<D144),ColTime(T.!$J$7,T.!$L$7,D144,AF141),IF(AND(WEEKDAY(A144,2)=6,E144<D144),ColTime(T.!$J$7,T.!$L$7,$AF$1,E144),IF(AND(E144<D144,OR(C144<>\"\",WEEKDAY(A144,2)=7)),ColTime(T.!J147,T.!L147,D144,$AF$1),IF(AND(E144<>\"\",OR(C144<>\"\",WEEKDAY(A144,2)=7)),ColTime(T.!$J$7,T.!$L$7,D144,E144),\"\")))))),\"\")","v":""},"",null,null,{"$f":"IFERROR(CHOOSE(WEEKDAY(A144,2),norm!C$1,norm!C$2,norm!C$3,norm!C$4,norm!C$5,norm!C$6,norm!C$7),\"\")","v":"07:30:00"}]
["2019-05-22","On",{"$f":"IF(A145=\"\",\"\",HelligdagsNavn(A145,0,0))","v":""},null,null,null,"","00:00:00","",{"$f":"IF(AND(C145=\"\",WEEKDAY(A145,2)<6),ColTime(T.!$J$4,T.!$L$4,D145,E145),\"\")","v":"00:00:00"},null,{"$f":"IFERROR(IF(AND(WEEKDAY(A145,2)<6,C146<>\"\",E145<D145,C145=\"\"),ColTime($AE$1,$AF$1,D145,E145),IF(AND(OR(WEEKDAY(A145,2)=7,C145<>\"\"),E145<D145,C146=\"\"),ColTime($AF$1,$AG$1,'Hele året'!$AF$1,E145),IF(AND(WEEKDAY(A145,2)<6,C146=\"\"),ColTime(T.!$J$5,T.!$L$5,D145,E145),\"\"))),\"\")","v":"00:00:00"},null,"",{"$f":"IFERROR(IF(AND(WEEKDAY(A145,2)<6,C146<>\"\",C145=\"\"),ColTime(T.!$J$7,T.!$L$7,$AF$1,'Hele året'!E145),IF(AND(C145<>\"\",C146<>\"\"),ColTime(T.!$J$7,T.!$L$7,'Hele året'!D145,'Hele året'!E145),IF(AND(OR(WEEKDAY(A145,2)<6,WEEKDAY(A145,2)=6),C145<>\"\",E145<D145),ColTime(T.!$J$7,T.!$L$7,D145,AF142),IF(AND(WEEKDAY(A145,2)=6,E145<D145),ColTime(T.!$J$7,T.!$L$7,$AF$1,E145),IF(AND(E145<D145,OR(C145<>\"\",WEEKDAY(A145,2)=7)),ColTime(T.!J148,T.!L148,D145,$AF$1),IF(AND(E145<>\"\",OR(C145<>\"\",WEEKDAY(A145,2)=7)),ColTime(T.!$J$7,T.!$L$7,D145,E145),\"\")))))),\"\")","v":""},"",null,null,{"$f":"IFERROR(CHOOSE(WEEKDAY(A145,2),norm!C$1,norm!C$2,norm!C$3,norm!C$4,norm!C$5,norm!C$6,norm!C$7),\"\")","v":"07:30:00"}]
["2019-05-23","To","",null,null,null,"","00:00:00","",{"$f":"IF(AND(C146=\"\",WEEKDAY(A146,2)<6),ColTime(T.!$J$4,T.!$L$4,D146,E146),\"\")","v":"00:00:00"},null,{"$f":"IFERROR(IF(AND(WEEKDAY(A146,2)<6,C147<>\"\",E146<D146,C146=\"\"),ColTime($AE$1,$AF$1,D146,E146),IF(AND(OR(WEEKDAY(A146,2)=7,C146<>\"\"),E146<D146,C147=\"\"),ColTime($AF$1,$AG$1,'Hele året'!$AF$1,E146),IF(AND(WEEKDAY(A146,2)<6,C147=\"\"),ColTime(T.!$J$5,T.!$L$5,D146,E146),\"\"))),\"\")","v":"00:00:00"},null,"",{"$f":"IFERROR(IF(AND(WEEKDAY(A146,2)<6,C147<>\"\",C146=\"\"),ColTime(T.!$J$7,T.!$L$7,$AF$1,'Hele året'!E146),IF(AND(C146<>\"\",C147<>\"\"),ColTime(T.!$J$7,T.!$L$7,'Hele året'!D146,'Hele året'!E146),IF(AND(OR(WEEKDAY(A146,2)<6,WEEKDAY(A146,2)=6),C146<>\"\",E146<D146),ColTime(T.!$J$7,T.!$L$7,D146,AF143),IF(AND(WEEKDAY(A146,2)=6,E146<D146),ColTime(T.!$J$7,T.!$L$7,$AF$1,E146),IF(AND(E146<D146,OR(C146<>\"\",WEEKDAY(A146,2)=7)),ColTime(T.!J149,T.!L149,D146,$AF$1),IF(AND(E146<>\"\",OR(C146<>\"\",WEEKDAY(A146,2)=7)),ColTime(T.!$J$7,T.!$L$7,D146,E146),\"\")))))),\"\")","v":""},"",null,null,{"$f":"IFERROR(CHOOSE(WEEKDAY(A146,2),norm!C$1,norm!C$2,norm!C$3,norm!C$4,norm!C$5,norm!C$6,norm!C$7),\"\")","v":"07:30:00"}]
["2019-05-24","Fr","",null,null,null,"","00:00:00","",{"$f":"IF(AND(C147=\"\",WEEKDAY(A147,2)<6),ColTime(T.!$J$4,T.!$L$4,D147,E147),\"\")","v":"00:00:00"},null,{"$f":"IFERROR(IF(AND(WEEKDAY(A147,2)<6,C148<>\"\",E147<D147,C147=\"\"),ColTime($AE$1,$AF$1,D147,E147),IF(AND(OR(WEEKDAY(A147,2)=7,C147<>\"\"),E147<D147,C148=\"\"),ColTime($AF$1,$AG$1,'Hele året'!$AF$1,E147),IF(AND(WEEKDAY(A147,2)<6,C148=\"\"),ColTime(T.!$J$5,T.!$L$5,D147,E147),\"\"))),\"\")","v":"00:00:00"},null,"",{"$f":"IFERROR(IF(AND(WEEKDAY(A147,2)<6,C148<>\"\",C147=\"\"),ColTime(T.!$J$7,T.!$L$7,$AF$1,'Hele året'!E147),IF(AND(C147<>\"\",C148<>\"\"),ColTime(T.!$J$7,T.!$L$7,'Hele året'!D147,'Hele året'!E147),IF(AND(OR(WEEKDAY(A147,2)<6,WEEKDAY(A147,2)=6),C147<>\"\",E147<D147),ColTime(T.!$J$7,T.!$L$7,D147,AF144),IF(AND(WEEKDAY(A147,2)=6,E147<D147),ColTime(T.!$J$7,T.!$L$7,$AF$1,E147),IF(AND(E147<D147,OR(C147<>\"\",WEEKDAY(A147,2)=7)),ColTime(T.!J150,T.!L150,D147,$AF$1),IF(AND(E147<>\"\",OR(C147<>\"\",WEEKDAY(A147,2)=7)),ColTime(T.!$J$7,T.!$L$7,D147,E147),\"\")))))),\"\")","v":""},"",null,null,{"$f":"IFERROR(CHOOSE(WEEKDAY(A147,2),norm!C$1,norm!C$2,norm!C$3,norm!C$4,norm!C$5,norm!C$6,norm!C$7),\"\")","v":"07:00:00"}]
["2019-05-25","Lø","",null,null,null,"","00:00:00","",{"$f":"IF(AND(C148=\"\",WEEKDAY(A148,2)<6),ColTime(T.!$J$4,T.!$L$4,D148,E148),\"\")","v":""},null,{"$f":"IFERROR(IF(AND(WEEKDAY(A148,2)<6,C149<>\"\",E148<D148,C148=\"\"),ColTime($AE$1,$AF$1,D148,E148),IF(AND(OR(WEEKDAY(A148,2)=7,C148<>\"\"),E148<D148,C149=\"\"),ColTime($AF$1,$AG$1,'Hele året'!$AF$1,E148),IF(AND(WEEKDAY(A148,2)<6,C149=\"\"),ColTime(T.!$J$5,T.!$L$5,D148,E148),\"\"))),\"\")","v":""},null,"00:00:00",{"$f":"IFERROR(IF(AND(WEEKDAY(A148,2)<6,C149<>\"\",C148=\"\"),ColTime(T.!$J$7,T.!$L$7,$AF$1,'Hele året'!E148),IF(AND(C148<>\"\",C149<>\"\"),ColTime(T.!$J$7,T.!$L$7,'Hele året'!D148,'Hele året'!E148),IF(AND(OR(WEEKDAY(A148,2)<6,WEEKDAY(A148,2)=6),C148<>\"\",E148<D148),ColTime(T.!$J$7,T.!$L$7,D148,AF145),IF(AND(WEEKDAY(A148,2)=6,E148<D148),ColTime(T.!$J$7,T.!$L$7,$AF$1,E148),IF(AND(E148<D148,OR(C148<>\"\",WEEKDAY(A148,2)=7)),ColTime(T.!J151,T.!L151,D148,$AF$1),IF(AND(E148<>\"\",OR(C148<>\"\",WEEKDAY(A148,2)=7)),ColTime(T.!$J$7,T.!$L$7,D148,E148),\"\")))))),\"\")","v":""},"",null,null,{"$f":"IFERROR(CHOOSE(WEEKDAY(A148,2),norm!C$1,norm!C$2,norm!C$3,norm!C$4,norm!C$5,norm!C$6,norm!C$7),\"\")","v":"00:00:00"}]
["2019-05-26","Sø","",null,null,null,"","00:00:00","",{"$f":"IF(AND(C149=\"\",WEEKDAY(A149,2)<6),ColTime(T.!$J$4,T.!$L$4,D149,E149),\"\")","v":""},null,{"$f":"IFERROR(IF(AND(WEEKDAY(A149,2)<6,C150<>\"\",E149<D149,C149=\"\"),ColTime($AE$1,$AF$1,D149,E149),IF(AND(OR(WEEKDAY(A149,2)=7,C149<>\"\"),E149<D149,C150=\"\"),ColTime($AF$1,$AG$1,'Hele året'!$AF$1,E149),IF(AND(WEEKDAY(A149,2)<6,C150=\"\"),ColTime(T.!$J$5,T.!$L$5,D149,E149),\"\"))),\"\")","v":""},null,"",{"$f":"IFERROR(IF(AND(WEEKDAY(A149,2)<6,C150<>\"\",C149=\"\"),ColTime(T.!$J$7,T.!$L$7,$AF$1,'Hele året'!E149),IF(AND(C149<>\"\",C150<>\"\"),ColTime(T.!$J$7,T.!$L$7,'Hele året'!D149,'Hele året'!E149),IF(AND(OR(WEEKDAY(A149,2)<6,WEEKDAY(A149,2)=6),C149<>\"\",E149<D149),ColTime(T.!$J$7,T.!$L$7,D149,AF146),IF(AND(WEEKDAY(A149,2)=6,E149<D149),ColTime(T.!$J$7,T.!$L$7,$AF$1,E149),IF(AND(E149<D149,OR(C149<>\"\",WEEKDAY(A149,2)=7)),ColTime(T.!J152,T.!L152,D149,$AF$1),IF(AND(E149<>\"\",OR(C149<>\"\",WEEKDAY(A149,2)=7)),ColTime(T.!$J$7,T.!$L$7,D149,E149),\"\")))))),\"\")","v":""},"",null,null,{"$f":"IFERROR(CHOOSE(WEEKDAY(A149,2),norm!C$1,norm!C$2,norm!C$3,norm!C$4,norm!C$5,norm!C$6,norm!C$7),\"\")","v":"00:00:00"}]
["2019-05-27","Ma","",null,null,null,"","00:00:00","",{"$f":"IF(AND(C150=\"\",WEEKDAY(A150,2)<6),ColTime(T.!$J$4,T.!$L$4,D150,E150),\"\")","v":"00:00:00"},null,{"$f":"IFERROR(IF(AND(WEEKDAY(A150,2)<6,C151<>\"\",E150<D150,C150=\"\"),ColTime($AE$1,$AF$1,D150,E150),IF(AND(OR(WEEKDAY(A150,2)=7,C150<>\"\"),E150<D150,C151=\"\"),ColTime($AF$1,$AG$1,'Hele året'!$AF$1,E150),IF(AND(WEEKDAY(A150,2)<6,C151=\"\"),ColTime(T.!$J$5,T.!$L$5,D150,E150),\"\"))),\"\")","v":"00:00:00"},null,"",{"$f":"IFERROR(IF(AND(WEEKDAY(A150,2)<6,C151<>\"\",C150=\"\"),ColTime(T.!$J$7,T.!$L$7,$AF$1,'Hele året'!E150),IF(AND(C150<>\"\",C151<>\"\"),ColTime(T.!$J$7,T.!$L$7,'Hele året'!D150,'Hele året'!E150),IF(AND(OR(WEEKDAY(A150,2)<6,WEEKDAY(A150,2)=6),C150<>\"\",E150<D150),ColTime(T.!$J$7,T.!$L$7,D150,AF147),IF(AND(WEEKDAY(A150,2)=6,E150<D150),ColTime(T.!$J$7,T.!$L$7,$AF$1,E150),IF(AND(E150<D150,OR(C150<>\"\",WEEKDAY(A150,2)=7)),ColTime(T.!J153,T.!L153,D150,$AF$1),IF(AND(E150<>\"\",OR(C150<>\"\",WEEKDAY(A150,2)=7)),ColTime(T.!$J$7,T.!$L$7,D150,E150),\"\")))))),\"\")","v":""},"",null,null,{"$f":"IFERROR(CHOOSE(WEEKDAY(A150,2),norm!C$1,norm!C$2,norm!C$3,norm!C$4,norm!C$5,norm!C$6,norm!C$7),\"\")","v":"07:30:00"}]
["2019-05-28","Ti","",null,null,null,"","00:00:00","",{"$f":"IF(AND(C151=\"\",WEEKDAY(A151,2)<6),ColTime(T.!$J$4,T.!$L$4,D151,E151),\"\")","v":"00:00:00"},null,{"$f":"IFERROR(IF(AND(WEEKDAY(A151,2)<6,C152<>\"\",E151<D151,C151=\"\"),ColTime($AE$1,$AF$1,D151,E151),IF(AND(OR(WEEKDAY(A151,2)=7,C151<>\"\"),E151<D151,C152=\"\"),ColTime($AF$1,$AG$1,'Hele året'!$AF$1,E151),IF(AND(WEEKDAY(A151,2)<6,C152=\"\"),ColTime(T.!$J$5,T.!$L$5,D151,E151),\"\"))),\"\")","v":"00:00:00"},null,"",{"$f":"IFERROR(IF(AND(WEEKDAY(A151,2)<6,C152<>\"\",C151=\"\"),ColTime(T.!$J$7,T.!$L$7,$AF$1,'Hele året'!E151),IF(AND(C151<>\"\",C152<>\"\"),ColTime(T.!$J$7,T.!$L$7,'Hele året'!D151,'Hele året'!E151),IF(AND(OR(WEEKDAY(A151,2)<6,WEEKDAY(A151,2)=6),C151<>\"\",E151<D151),ColTime(T.!$J$7,T.!$L$7,D151,AF148),IF(AND(WEEKDAY(A151,2)=6,E151<D151),ColTime(T.!$J$7,T.!$L$7,$AF$1,E151),IF(AND(E151<D151,OR(C151<>\"\",WEEKDAY(A151,2)=7)),ColTime(T.!J154,T.!L154,D151,$AF$1),IF(AND(E151<>\"\",OR(C151<>\"\",WEEKDAY(A151,2)=7)),ColTime(T.!$J$7,T.!$L$7,D151,E151),\"\")))))),\"\")","v":""},"",null,null,{"$f":"IFERROR(CHOOSE(WEEKDAY(A151,2),norm!C$1,norm!C$2,norm!C$3,norm!C$4,norm!C$5,norm!C$6,norm!C$7),\"\")","v":"07:30:00"}]
["2019-05-29","On","","21:00:00","07:00:00",null,0.41666666666666674,"02:30:00","",{"$f":"IF(AND(C152=\"\",WEEKDAY(A152,2)<6),ColTime(T.!$J$4,T.!$L$4,D152,E152),\"\")","v":"02:00:00"},null,{"$f":"IFERROR(IF(AND(WEEKDAY(A152,2)<6,C153<>\"\",E152<D152,C152=\"\"),ColTime($AE$1,$AF$1,D152,E152),IF(AND(OR(WEEKDAY(A152,2)=7,C152<>\"\"),E152<D152,C153=\"\"),ColTime($AF$1,$AG$1,'Hele året'!$AF$1,E152),IF(AND(WEEKDAY(A152,2)<6,C153=\"\"),ColTime(T.!$J$5,T.!$L$5,D152,E152),\"\"))),\"\")","v":"01:00:00"},null,"",{"$f":"IFERROR(IF(AND(WEEKDAY(A152,2)<6,C153<>\"\",C152=\"\"),ColTime(T.!$J$7,T.!$L$7,$AF$1,'Hele året'!E152),IF(AND(C152<>\"\",C153<>\"\"),ColTime(T.!$J$7,T.!$L$7,'Hele året'!D152,'Hele året'!E152),IF(AND(OR(WEEKDAY(A152,2)<6,WEEKDAY(A152,2)=6),C152<>\"\",E152<D152),ColTime(T.!$J$7,T.!$L$7,D152,AF149),IF(AND(WEEKDAY(A152,2)=6,E152<D152),ColTime(T.!$J$7,T.!$L$7,$AF$1,E152),IF(AND(E152<D152,OR(C152<>\"\",WEEKDAY(A152,2)=7)),ColTime(T.!J155,T.!L155,D152,$AF$1),IF(AND(E152<>\"\",OR(C152<>\"\",WEEKDAY(A152,2)=7)),ColTime(T.!$J$7,T.!$L$7,D152,E152),\"\")))))),\"\")","v":"07:00:00"},"",null,null,{"$f":"IFERROR(CHOOSE(WEEKDAY(A152,2),norm!C$1,norm!C$2,norm!C$3,norm!C$4,norm!C$5,norm!C$6,norm!C$7),\"\")","v":"07:30:00"}]
["2019-05-30","To","Kristi Himmelfartsdag","21:00:00","07:00:00",null,0.41666666666666674,"02:30:00","",{"$f":"IF(AND(C153=\"\",WEEKDAY(A153,2)<6),ColTime(T.!$J$4,T.!$L$4,D153,E153),\"\")","v":""},null,{"$f":"IFERROR(IF(AND(WEEKDAY(A153,2)<6,C154<>\"\",E153<D153,C153=\"\"),ColTime($AE$1,$AF$1,D153,E153),IF(AND(OR(WEEKDAY(A153,2)=7,C153<>\"\"),E153<D153,C154=\"\"),ColTime($AF$1,$AG$1,'Hele året'!$AF$1,E153),IF(AND(WEEKDAY(A153,2)<6,C154=\"\"),ColTime(T.!$J$5,T.!$L$5,D153,E153),\"\"))),\"\")","v":"06:00:00"},null,"",{"$f":"IFERROR(IF(AND(WEEKDAY(A153,2)<6,C154<>\"\",C153=\"\"),ColTime(T.!$J$7,T.!$L$7,$AF$1,'Hele året'!E153),IF(AND(C153<>\"\",C154<>\"\"),ColTime(T.!$J$7,T.!$L$7,'Hele året'!D153,'Hele året'!E153),IF(AND(OR(WEEKDAY(A153,2)<6,WEEKDAY(A153,2)=6),C153<>\"\",E153<D153),ColTime(T.!$J$7,T.!$L$7,D153,AF150),IF(AND(WEEKDAY(A153,2)=6,E153<D153),ColTime(T.!$J$7,T.!$L$7,$AF$1,E153),IF(AND(E153<D153,OR(C153<>\"\",WEEKDAY(A153,2)=7)),ColTime(T.!J156,T.!L156,D153,$AF$1),IF(AND(E153<>\"\",OR(C153<>\"\",WEEKDAY(A153,2)=7)),ColTime(T.!$J$7,T.!$L$7,D153,E153),\"\")))))),\"\")","v":"03:00:00"},"",null,null,{"$f":"IFERROR(CHOOSE(WEEKDAY(A153,2),norm!C$1,norm!C$2,norm!C$3,norm!C$4,norm!C$5,norm!C$6,norm!C$7),\"\")","v":"07:30:00"}]
["2019-05-31","Fr","",null,null,null,"","00:00:00","",{"$f":"IF(AND(C154=\"\",WEEKDAY(A154,2)<6),ColTime(T.!$J$4,T.!$L$4,D154,E154),\"\")","v":"00:00:00"},null,{"$f":"IFERROR(IF(AND(WEEKDAY(A154,2)<6,C155<>\"\",E154<D154,C154=\"\"),ColTime($AE$1,$AF$1,D154,E154),IF(AND(OR(WEEKDAY(A154,2)=7,C154<>\"\"),E154<D154,C155=\"\"),ColTime($AF$1,$AG$1,'Hele året'!$AF$1,E154),IF(AND(WEEKDAY(A154,2)<6,C155=\"\"),ColTime(T.!$J$5,T.!$L$5,D154,E154),\"\"))),\"\")","v":"00:00:00"},null,"",{"$f":"IFERROR(IF(AND(WEEKDAY(A154,2)<6,C155<>\"\",C154=\"\"),ColTime(T.!$J$7,T.!$L$7,$AF$1,'Hele året'!E154),IF(AND(C154<>\"\",C155<>\"\"),ColTime(T.!$J$7,T.!$L$7,'Hele året'!D154,'Hele året'!E154),IF(AND(OR(WEEKDAY(A154,2)<6,WEEKDAY(A154,2)=6),C154<>\"\",E154<D154),ColTime(T.!$J$7,T.!$L$7,D154,AF151),IF(AND(WEEKDAY(A154,2)=6,E154<D154),ColTime(T.!$J$7,T.!$L$7,$AF$1,E154),IF(AND(E154<D154,OR(C154<>\"\",WEEKDAY(A154,2)=7)),ColTime(T.!J157,T.!L157,D154,$AF$1),IF(AND(E154<>\"\",OR(C154<>\"\",WEEKDAY(A154,2)=7)),ColTime(T.!$J$7,T.!$L$7,D154,E154),\"\")))))),\"\")","v":""},"",null,null,{"$f":"IFERROR(CHOOSE(WEEKDAY(A154,2),norm!C$1,norm!C$2,norm!C$3,norm!C$4,norm!C$5,norm!C$6,norm!C$7),\"\")","v":"07:00:00"}]
[{"$f":"A154+1","v":"2019-06-01"},"Lø","",null,null,null,"","00:00:00","",{"$f":"IF(AND(C155=\"\",WEEKDAY(A155,2)<6),ColTime(T.!$J$4,T.!$L$4,D155,E155),\"\")","v":""},null,{"$f":"IFERROR(IF(AND(WEEKDAY(A155,2)<6,C156<>\"\",E155<D155,C155=\"\"),ColTime($AE$1,$AF$1,D155,E155),IF(AND(OR(WEEKDAY(A155,2)=7,C155<>\"\"),E155<D155,C156=\"\"),ColTime($AF$1,$AG$1,'Hele året'!$AF$1,E155),IF(AND(WEEKDAY(A155,2)<6,C156=\"\"),ColTime(T.!$J$5,T.!$L$5,D155,E155),\"\"))),\"\")","v":""},null,"00:00:00",{"$f":"IFERROR(IF(AND(WEEKDAY(A155,2)<6,C156<>\"\",C155=\"\"),ColTime(T.!$J$7,T.!$L$7,$AF$1,'Hele året'!E155),IF(AND(C155<>\"\",C156<>\"\"),ColTime(T.!$J$7,T.!$L$7,'Hele året'!D155,'Hele året'!E155),IF(AND(OR(WEEKDAY(A155,2)<6,WEEKDAY(A155,2)=6),C155<>\"\",E155<D155),ColTime(T.!$J$7,T.!$L$7,D155,AF152),IF(AND(WEEKDAY(A155,2)=6,E155<D155),ColTime(T.!$J$7,T.!$L$7,$AF$1,E155),IF(AND(E155<D155,OR(C155<>\"\",WEEKDAY(A155,2)=7)),ColTime(T.!J158,T.!L158,D155,$AF$1),IF(AND(E155<>\"\",OR(C155<>\"\",WEEKDAY(A155,2)=7)),ColTime(T.!$J$7,T.!$L$7,D155,E155),\"\")))))),\"\")","v":""},"",null,null,{"$f":"IFERROR(CHOOSE(WEEKDAY(A155,2),norm!C$1,norm!C$2,norm!C$3,norm!C$4,norm!C$5,norm!C$6,norm!C$7),\"\")","v":"00:00:00"}]
["2019-06-02","Sø","",null,null,null,"","00:00:00","",{"$f":"IF(AND(C156=\"\",WEEKDAY(A156,2)<6),ColTime(T.!$J$4,T.!$L$4,D156,E156),\"\")","v":""},null,{"$f":"IFERROR(IF(AND(WEEKDAY(A156,2)<6,C157<>\"\",E156<D156,C156=\"\"),ColTime($AE$1,$AF$1,D156,E156),IF(AND(OR(WEEKDAY(A156,2)=7,C156<>\"\"),E156<D156,C157=\"\"),ColTime($AF$1,$AG$1,'Hele året'!$AF$1,E156),IF(AND(WEEKDAY(A156,2)<6,C157=\"\"),ColTime(T.!$J$5,T.!$L$5,D156,E156),\"\"))),\"\")","v":""},null,"",{"$f":"IFERROR(IF(AND(WEEKDAY(A156,2)<6,C157<>\"\",C156=\"\"),ColTime(T.!$J$7,T.!$L$7,$AF$1,'Hele året'!E156),IF(AND(C156<>\"\",C157<>\"\"),ColTime(T.!$J$7,T.!$L$7,'Hele året'!D156,'Hele året'!E156),IF(AND(OR(WEEKDAY(A156,2)<6,WEEKDAY(A156,2)=6),C156<>\"\",E156<D156),ColTime(T.!$J$7,T.!$L$7,D156,AF153),IF(AND(WEEKDAY(A156,2)=6,E156<D156),ColTime(T.!$J$7,T.!$L$7,$AF$1,E156),IF(AND(E156<D156,OR(C156<>\"\",WEEKDAY(A156,2)=7)),ColTime(T.!J159,T.!L159,D156,$AF$1),IF(AND(E156<>\"\",OR(C156<>\"\",WEEKDAY(A156,2)=7)),ColTime(T.!$J$7,T.!$L$7,D156,E156),\"\")))))),\"\")","v":""},"",null,null,{"$f":"IFERROR(CHOOSE(WEEKDAY(A156,2),norm!C$1,norm!C$2,norm!C$3,norm!C$4,norm!C$5,norm!C$6,norm!C$7),\"\")","v":"00:00:00"}]
["2019-06-03","Ma","",null,null,null,"","00:00:00","",{"$f":"IF(AND(C157=\"\",WEEKDAY(A157,2)<6),ColTime(T.!$J$4,T.!$L$4,D157,E157),\"\")","v":"00:00:00"},null,{"$f":"IFERROR(IF(AND(WEEKDAY(A157,2)<6,C158<>\"\",E157<D157,C157=\"\"),ColTime($AE$1,$AF$1,D157,E157),IF(AND(OR(WEEKDAY(A157,2)=7,C157<>\"\"),E157<D157,C158=\"\"),ColTime($AF$1,$AG$1,'Hele året'!$AF$1,E157),IF(AND(WEEKDAY(A157,2)<6,C158=\"\"),ColTime(T.!$J$5,T.!$L$5,D157,E157),\"\"))),\"\")","v":"00:00:00"},null,"",{"$f":"IFERROR(IF(AND(WEEKDAY(A157,2)<6,C158<>\"\",C157=\"\"),ColTime(T.!$J$7,T.!$L$7,$AF$1,'Hele året'!E157),IF(AND(C157<>\"\",C158<>\"\"),ColTime(T.!$J$7,T.!$L$7,'Hele året'!D157,'Hele året'!E157),IF(AND(OR(WEEKDAY(A157,2)<6,WEEKDAY(A157,2)=6),C157<>\"\",E157<D157),ColTime(T.!$J$7,T.!$L$7,D157,AF154),IF(AND(WEEKDAY(A157,2)=6,E157<D157),ColTime(T.!$J$7,T.!$L$7,$AF$1,E157),IF(AND(E157<D157,OR(C157<>\"\",WEEKDAY(A157,2)=7)),ColTime(T.!J160,T.!L160,D157,$AF$1),IF(AND(E157<>\"\",OR(C157<>\"\",WEEKDAY(A157,2)=7)),ColTime(T.!$J$7,T.!$L$7,D157,E157),\"\")))))),\"\")","v":""},"",null,null,{"$f":"IFERROR(CHOOSE(WEEKDAY(A157,2),norm!C$1,norm!C$2,norm!C$3,norm!C$4,norm!C$5,norm!C$6,norm!C$7),\"\")","v":"07:30:00"}]
["2019-06-04","Ti","",null,null,null,"","00:00:00","",{"$f":"IF(AND(C158=\"\",WEEKDAY(A158,2)<6),ColTime(T.!$J$4,T.!$L$4,D158,E158),\"\")","v":"00:00:00"},null,{"$f":"IFERROR(IF(AND(WEEKDAY(A158,2)<6,C159<>\"\",E158<D158,C158=\"\"),ColTime($AE$1,$AF$1,D158,E158),IF(AND(OR(WEEKDAY(A158,2)=7,C158<>\"\"),E158<D158,C159=\"\"),ColTime($AF$1,$AG$1,'Hele året'!$AF$1,E158),IF(AND(WEEKDAY(A158,2)<6,C159=\"\"),ColTime(T.!$J$5,T.!$L$5,D158,E158),\"\"))),\"\")","v":""},null,"",{"$f":"IFERROR(IF(AND(WEEKDAY(A158,2)<6,C159<>\"\",C158=\"\"),ColTime(T.!$J$7,T.!$L$7,$AF$1,'Hele året'!E158),IF(AND(C158<>\"\",C159<>\"\"),ColTime(T.!$J$7,T.!$L$7,'Hele året'!D158,'Hele året'!E158),IF(AND(OR(WEEKDAY(A158,2)<6,WEEKDAY(A158,2)=6),C158<>\"\",E158<D158),ColTime(T.!$J$7,T.!$L$7,D158,AF155),IF(AND(WEEKDAY(A158,2)=6,E158<D158),ColTime(T.!$J$7,T.!$L$7,$AF$1,E158),IF(AND(E158<D158,OR(C158<>\"\",WEEKDAY(A158,2)=7)),ColTime(T.!J161,T.!L161,D158,$AF$1),IF(AND(E158<>\"\",OR(C158<>\"\",WEEKDAY(A158,2)=7)),ColTime(T.!$J$7,T.!$L$7,D158,E158),\"\")))))),\"\")","v":"00:00:00"},"",null,null,{"$f":"IFERROR(CHOOSE(WEEKDAY(A158,2),norm!C$1,norm!C$2,norm!C$3,norm!C$4,norm!C$5,norm!C$6,norm!C$7),\"\")","v":"07:30:00"}]
["2019-06-05","On","Grundlovsdag",null,null,null,"","00:00:00","",{"$f":"IF(AND(C159=\"\",WEEKDAY(A159,2)<6),ColTime(T.!$J$4,T.!$L$4,D159,E159),\"\")","v":""},null,{"$f":"IFERROR(IF(AND(WEEKDAY(A159,2)<6,C160<>\"\",E159<D159,C159=\"\"),ColTime($AE$1,$AF$1,D159,E159),IF(AND(OR(WEEKDAY(A159,2)=7,C159<>\"\"),E159<D159,C160=\"\"),ColTime($AF$1,$AG$1,'Hele året'!$AF$1,E159),IF(AND(WEEKDAY(A159,2)<6,C160=\"\"),ColTime(T.!$J$5,T.!$L$5,D159,E159),\"\"))),\"\")","v":"00:00:00"},null,"",{"$f":"IFERROR(IF(AND(WEEKDAY(A159,2)<6,C160<>\"\",C159=\"\"),ColTime(T.!$J$7,T.!$L$7,$AF$1,'Hele året'!E159),IF(AND(C159<>\"\",C160<>\"\"),ColTime(T.!$J$7,T.!$L$7,'Hele året'!D159,'Hele året'!E159),IF(AND(OR(WEEKDAY(A159,2)<6,WEEKDAY(A159,2)=6),C159<>\"\",E159<D159),ColTime(T.!$J$7,T.!$L$7,D159,AF156),IF(AND(WEEKDAY(A159,2)=6,E159<D159),ColTime(T.!$J$7,T.!$L$7,$AF$1,E159),IF(AND(E159<D159,OR(C159<>\"\",WEEKDAY(A159,2)=7)),ColTime(T.!J162,T.!L162,D159,$AF$1),IF(AND(E159<>\"\",OR(C159<>\"\",WEEKDAY(A159,2)=7)),ColTime(T.!$J$7,T.!$L$7,D159,E159),\"\")))))),\"\")","v":""},"",null,null,{"$f":"IFERROR(CHOOSE(WEEKDAY(A159,2),norm!C$1,norm!C$2,norm!C$3,norm!C$4,norm!C$5,norm!C$6,norm!C$7),\"\")","v":"07:30:00"}]
["2019-06-06","To","",null,null,null,"","00:00:00","",{"$f":"IF(AND(C160=\"\",WEEKDAY(A160,2)<6),ColTime(T.!$J$4,T.!$L$4,D160,E160),\"\")","v":"00:00:00"},null,{"$f":"IFERROR(IF(AND(WEEKDAY(A160,2)<6,C161<>\"\",E160<D160,C160=\"\"),ColTime($AE$1,$AF$1,D160,E160),IF(AND(OR(WEEKDAY(A160,2)=7,C160<>\"\"),E160<D160,C161=\"\"),ColTime($AF$1,$AG$1,'Hele året'!$AF$1,E160),IF(AND(WEEKDAY(A160,2)<6,C161=\"\"),ColTime(T.!$J$5,T.!$L$5,D160,E160),\"\"))),\"\")","v":"00:00:00"},null,"",{"$f":"IFERROR(IF(AND(WEEKDAY(A160,2)<6,C161<>\"\",C160=\"\"),ColTime(T.!$J$7,T.!$L$7,$AF$1,'Hele året'!E160),IF(AND(C160<>\"\",C161<>\"\"),ColTime(T.!$J$7,T.!$L$7,'Hele året'!D160,'Hele året'!E160),IF(AND(OR(WEEKDAY(A160,2)<6,WEEKDAY(A160,2)=6),C160<>\"\",E160<D160),ColTime(T.!$J$7,T.!$L$7,D160,AF157),IF(AND(WEEKDAY(A160,2)=6,E160<D160),ColTime(T.!$J$7,T.!$L$7,$AF$1,E160),IF(AND(E160<D160,OR(C160<>\"\",WEEKDAY(A160,2)=7)),ColTime(T.!J163,T.!L163,D160,$AF$1),IF(AND(E160<>\"\",OR(C160<>\"\",WEEKDAY(A160,2)=7)),ColTime(T.!$J$7,T.!$L$7,D160,E160),\"\")))))),\"\")","v":""},"",null,null,{"$f":"IFERROR(CHOOSE(WEEKDAY(A160,2),norm!C$1,norm!C$2,norm!C$3,norm!C$4,norm!C$5,norm!C$6,norm!C$7),\"\")","v":"07:30:00"}]
["2019-06-07","Fr","",null,null,null,"","00:00:00","",{"$f":"IF(AND(C161=\"\",WEEKDAY(A161,2)<6),ColTime(T.!$J$4,T.!$L$4,D161,E161),\"\")","v":"00:00:00"},null,{"$f":"IFERROR(IF(AND(WEEKDAY(A161,2)<6,C162<>\"\",E161<D161,C161=\"\"),ColTime($AE$1,$AF$1,D161,E161),IF(AND(OR(WEEKDAY(A161,2)=7,C161<>\"\"),E161<D161,C162=\"\"),ColTime($AF$1,$AG$1,'Hele året'!$AF$1,E161),IF(AND(WEEKDAY(A161,2)<6,C162=\"\"),ColTime(T.!$J$5,T.!$L$5,D161,E161),\"\"))),\"\")","v":"00:00:00"},null,"",{"$f":"IFERROR(IF(AND(WEEKDAY(A161,2)<6,C162<>\"\",C161=\"\"),ColTime(T.!$J$7,T.!$L$7,$AF$1,'Hele året'!E161),IF(AND(C161<>\"\",C162<>\"\"),ColTime(T.!$J$7,T.!$L$7,'Hele året'!D161,'Hele året'!E161),IF(AND(OR(WEEKDAY(A161,2)<6,WEEKDAY(A161,2)=6),C161<>\"\",E161<D161),ColTime(T.!$J$7,T.!$L$7,D161,AF158),IF(AND(WEEKDAY(A161,2)=6,E161<D161),ColTime(T.!$J$7,T.!$L$7,$AF$1,E161),IF(AND(E161<D161,OR(C161<>\"\",WEEKDAY(A161,2)=7)),ColTime(T.!J164,T.!L164,D161,$AF$1),IF(AND(E161<>\"\",OR(C161<>\"\",WEEKDAY(A161,2)=7)),ColTime(T.!$J$7,T.!$L$7,D161,E161),\"\")))))),\"\")","v":""},"",null,null,{"$f":"IFERROR(CHOOSE(WEEKDAY(A161,2),norm!C$1,norm!C$2,norm!C$3,norm!C$4,norm!C$5,norm!C$6,norm!C$7),\"\")","v":"07:00:00"}]
["2019-06-08","Lø","",null,null,null,"","00:00:00","",{"$f":"IF(AND(C162=\"\",WEEKDAY(A162,2)<6),ColTime(T.!$J$4,T.!$L$4,D162,E162),\"\")","v":""},null,{"$f":"IFERROR(IF(AND(WEEKDAY(A162,2)<6,C163<>\"\",E162<D162,C162=\"\"),ColTime($AE$1,$AF$1,D162,E162),IF(AND(OR(WEEKDAY(A162,2)=7,C162<>\"\"),E162<D162,C163=\"\"),ColTime($AF$1,$AG$1,'Hele året'!$AF$1,E162),IF(AND(WEEKDAY(A162,2)<6,C163=\"\"),ColTime(T.!$J$5,T.!$L$5,D162,E162),\"\"))),\"\")","v":""},null,"00:00:00",{"$f":"IFERROR(IF(AND(WEEKDAY(A162,2)<6,C163<>\"\",C162=\"\"),ColTime(T.!$J$7,T.!$L$7,$AF$1,'Hele året'!E162),IF(AND(C162<>\"\",C163<>\"\"),ColTime(T.!$J$7,T.!$L$7,'Hele året'!D162,'Hele året'!E162),IF(AND(OR(WEEKDAY(A162,2)<6,WEEKDAY(A162,2)=6),C162<>\"\",E162<D162),ColTime(T.!$J$7,T.!$L$7,D162,AF159),IF(AND(WEEKDAY(A162,2)=6,E162<D162),ColTime(T.!$J$7,T.!$L$7,$AF$1,E162),IF(AND(E162<D162,OR(C162<>\"\",WEEKDAY(A162,2)=7)),ColTime(T.!J165,T.!L165,D162,$AF$1),IF(AND(E162<>\"\",OR(C162<>\"\",WEEKDAY(A162,2)=7)),ColTime(T.!$J$7,T.!$L$7,D162,E162),\"\")))))),\"\")","v":""},"",null,null,{"$f":"IFERROR(CHOOSE(WEEKDAY(A162,2),norm!C$1,norm!C$2,norm!C$3,norm!C$4,norm!C$5,norm!C$6,norm!C$7),\"\")","v":"00:00:00"}]
["2019-06-09",{"$f":"IFERROR(PROPER(TEXT(A163,\"ddd\")),\"\")","v":"Sø"},"Pinsedag",null,null,null,"","00:00:00","",{"$f":"IF(AND(C163=\"\",WEEKDAY(A163,2)<6),ColTime(T.!$J$4,T.!$L$4,D163,E163),\"\")","v":""},null,{"$f":"IFERROR(IF(AND(WEEKDAY(A163,2)<6,C164<>\"\",E163<D163,C163=\"\"),ColTime($AE$1,$AF$1,D163,E163),IF(AND(OR(WEEKDAY(A163,2)=7,C163<>\"\"),E163<D163,C164=\"\"),ColTime($AF$1,$AG$1,'Hele året'!$AF$1,E163),IF(AND(WEEKDAY(A163,2)<6,C164=\"\"),ColTime(T.!$J$5,T.!$L$5,D163,E163),\"\"))),\"\")","v":""},null,"",{"$f":"IFERROR(IF(AND(WEEKDAY(A163,2)<6,C164<>\"\",C163=\"\"),ColTime(T.!$J$7,T.!$L$7,$AF$1,'Hele året'!E163),IF(AND(C163<>\"\",C164<>\"\"),ColTime(T.!$J$7,T.!$L$7,'Hele året'!D163,'Hele året'!E163),IF(AND(OR(WEEKDAY(A163,2)<6,WEEKDAY(A163,2)=6),C163<>\"\",E163<D163),ColTime(T.!$J$7,T.!$L$7,D163,AF160),IF(AND(WEEKDAY(A163,2)=6,E163<D163),ColTime(T.!$J$7,T.!$L$7,$AF$1,E163),IF(AND(E163<D163,OR(C163<>\"\",WEEKDAY(A163,2)=7)),ColTime(T.!J166,T.!L166,D163,$AF$1),IF(AND(E163<>\"\",OR(C163<>\"\",WEEKDAY(A163,2)=7)),ColTime(T.!$J$7,T.!$L$7,D163,E163),\"\")))))),\"\")","v":"00:00:00"},"",null,null,{"$f":"IFERROR(CHOOSE(WEEKDAY(A163,2),norm!C$1,norm!C$2,norm!C$3,norm!C$4,norm!C$5,norm!C$6,norm!C$7),\"\")","v":"00:00:00"}]
["2019-06-10","Ma","2. Pinsedag",null,null,null,"","00:00:00","",{"$f":"IF(AND(C164=\"\",WEEKDAY(A164,2)<6),ColTime(T.!$J$4,T.!$L$4,D164,E164),\"\")","v":""},null,{"$f":"IFERROR(IF(AND(WEEKDAY(A164,2)<6,C165<>\"\",E164<D164,C164=\"\"),ColTime($AE$1,$AF$1,D164,E164),IF(AND(OR(WEEKDAY(A164,2)=7,C164<>\"\"),E164<D164,C165=\"\"),ColTime($AF$1,$AG$1,'Hele året'!$AF$1,E164),IF(AND(WEEKDAY(A164,2)<6,C165=\"\"),ColTime(T.!$J$5,T.!$L$5,D164,E164),\"\"))),\"\")","v":"00:00:00"},null,"",{"$f":"IFERROR(IF(AND(WEEKDAY(A164,2)<6,C165<>\"\",C164=\"\"),ColTime(T.!$J$7,T.!$L$7,$AF$1,'Hele året'!E164),IF(AND(C164<>\"\",C165<>\"\"),ColTime(T.!$J$7,T.!$L$7,'Hele året'!D164,'Hele året'!E164),IF(AND(OR(WEEKDAY(A164,2)<6,WEEKDAY(A164,2)=6),C164<>\"\",E164<D164),ColTime(T.!$J$7,T.!$L$7,D164,AF161),IF(AND(WEEKDAY(A164,2)=6,E164<D164),ColTime(T.!$J$7,T.!$L$7,$AF$1,E164),IF(AND(E164<D164,OR(C164<>\"\",WEEKDAY(A164,2)=7)),ColTime(T.!J167,T.!L167,D164,$AF$1),IF(AND(E164<>\"\",OR(C164<>\"\",WEEKDAY(A164,2)=7)),ColTime(T.!$J$7,T.!$L$7,D164,E164),\"\")))))),\"\")","v":""},"",null,null,{"$f":"IFERROR(CHOOSE(WEEKDAY(A164,2),norm!C$1,norm!C$2,norm!C$3,norm!C$4,norm!C$5,norm!C$6,norm!C$7),\"\")","v":"07:30:00"}]
["2019-06-11","Ti","",null,null,null,"","00:00:00","",{"$f":"IF(AND(C165=\"\",WEEKDAY(A165,2)<6),ColTime(T.!$J$4,T.!$L$4,D165,E165),\"\")","v":"00:00:00"},null,{"$f":"IFERROR(IF(AND(WEEKDAY(A165,2)<6,C166<>\"\",E165<D165,C165=\"\"),ColTime($AE$1,$AF$1,D165,E165),IF(AND(OR(WEEKDAY(A165,2)=7,C165<>\"\"),E165<D165,C166=\"\"),ColTime($AF$1,$AG$1,'Hele året'!$AF$1,E165),IF(AND(WEEKDAY(A165,2)<6,C166=\"\"),ColTime(T.!$J$5,T.!$L$5,D165,E165),\"\"))),\"\")","v":"00:00:00"},null,"",{"$f":"IFERROR(IF(AND(WEEKDAY(A165,2)<6,C166<>\"\",C165=\"\"),ColTime(T.!$J$7,T.!$L$7,$AF$1,'Hele året'!E165),IF(AND(C165<>\"\",C166<>\"\"),ColTime(T.!$J$7,T.!$L$7,'Hele året'!D165,'Hele året'!E165),IF(AND(OR(WEEKDAY(A165,2)<6,WEEKDAY(A165,2)=6),C165<>\"\",E165<D165),ColTime(T.!$J$7,T.!$L$7,D165,AF162),IF(AND(WEEKDAY(A165,2)=6,E165<D165),ColTime(T.!$J$7,T.!$L$7,$AF$1,E165),IF(AND(E165<D165,OR(C165<>\"\",WEEKDAY(A165,2)=7)),ColTime(T.!J168,T.!L168,D165,$AF$1),IF(AND(E165<>\"\",OR(C165<>\"\",WEEKDAY(A165,2)=7)),ColTime(T.!$J$7,T.!$L$7,D165,E165),\"\")))))),\"\")","v":""},"",null,null,{"$f":"IFERROR(CHOOSE(WEEKDAY(A165,2),norm!C$1,norm!C$2,norm!C$3,norm!C$4,norm!C$5,norm!C$6,norm!C$7),\"\")","v":"07:30:00"}]
["2019-06-12","On","",null,null,null,"","00:00:00","",{"$f":"IF(AND(C166=\"\",WEEKDAY(A166,2)<6),ColTime(T.!$J$4,T.!$L$4,D166,E166),\"\")","v":"00:00:00"},null,{"$f":"IFERROR(IF(AND(WEEKDAY(A166,2)<6,C167<>\"\",E166<D166,C166=\"\"),ColTime($AE$1,$AF$1,D166,E166),IF(AND(OR(WEEKDAY(A166,2)=7,C166<>\"\"),E166<D166,C167=\"\"),ColTime($AF$1,$AG$1,'Hele året'!$AF$1,E166),IF(AND(WEEKDAY(A166,2)<6,C167=\"\"),ColTime(T.!$J$5,T.!$L$5,D166,E166),\"\"))),\"\")","v":"00:00:00"},null,"",{"$f":"IFERROR(IF(AND(WEEKDAY(A166,2)<6,C167<>\"\",C166=\"\"),ColTime(T.!$J$7,T.!$L$7,$AF$1,'Hele året'!E166),IF(AND(C166<>\"\",C167<>\"\"),ColTime(T.!$J$7,T.!$L$7,'Hele året'!D166,'Hele året'!E166),IF(AND(OR(WEEKDAY(A166,2)<6,WEEKDAY(A166,2)=6),C166<>\"\",E166<D166),ColTime(T.!$J$7,T.!$L$7,D166,AF163),IF(AND(WEEKDAY(A166,2)=6,E166<D166),ColTime(T.!$J$7,T.!$L$7,$AF$1,E166),IF(AND(E166<D166,OR(C166<>\"\",WEEKDAY(A166,2)=7)),ColTime(T.!J169,T.!L169,D166,$AF$1),IF(AND(E166<>\"\",OR(C166<>\"\",WEEKDAY(A166,2)=7)),ColTime(T.!$J$7,T.!$L$7,D166,E166),\"\")))))),\"\")","v":""},"",null,null,{"$f":"IFERROR(CHOOSE(WEEKDAY(A166,2),norm!C$1,norm!C$2,norm!C$3,norm!C$4,norm!C$5,norm!C$6,norm!C$7),\"\")","v":"07:30:00"}]
["2019-06-13","To","",null,null,null,"","00:00:00","",{"$f":"IF(AND(C167=\"\",WEEKDAY(A167,2)<6),ColTime(T.!$J$4,T.!$L$4,D167,E167),\"\")","v":"00:00:00"},null,{"$f":"IFERROR(IF(AND(WEEKDAY(A167,2)<6,C168<>\"\",E167<D167,C167=\"\"),ColTime($AE$1,$AF$1,D167,E167),IF(AND(OR(WEEKDAY(A167,2)=7,C167<>\"\"),E167<D167,C168=\"\"),ColTime($AF$1,$AG$1,'Hele året'!$AF$1,E167),IF(AND(WEEKDAY(A167,2)<6,C168=\"\"),ColTime(T.!$J$5,T.!$L$5,D167,E167),\"\"))),\"\")","v":"00:00:00"},null,"",{"$f":"IFERROR(IF(AND(WEEKDAY(A167,2)<6,C168<>\"\",C167=\"\"),ColTime(T.!$J$7,T.!$L$7,$AF$1,'Hele året'!E167),IF(AND(C167<>\"\",C168<>\"\"),ColTime(T.!$J$7,T.!$L$7,'Hele året'!D167,'Hele året'!E167),IF(AND(OR(WEEKDAY(A167,2)<6,WEEKDAY(A167,2)=6),C167<>\"\",E167<D167),ColTime(T.!$J$7,T.!$L$7,D167,AF164),IF(AND(WEEKDAY(A167,2)=6,E167<D167),ColTime(T.!$J$7,T.!$L$7,$AF$1,E167),IF(AND(E167<D167,OR(C167<>\"\",WEEKDAY(A167,2)=7)),ColTime(T.!J170,T.!L170,D167,$AF$1),IF(AND(E167<>\"\",OR(C167<>\"\",WEEKDAY(A167,2)=7)),ColTime(T.!$J$7,T.!$L$7,D167,E167),\"\")))))),\"\")","v":""},"",null,null,{"$f":"IFERROR(CHOOSE(WEEKDAY(A167,2),norm!C$1,norm!C$2,norm!C$3,norm!C$4,norm!C$5,norm!C$6,norm!C$7),\"\")","v":"07:30:00"}]
["2019-06-14","Fr","",null,null,null,"","00:00:00","",{"$f":"IF(AND(C168=\"\",WEEKDAY(A168,2)<6),ColTime(T.!$J$4,T.!$L$4,D168,E168),\"\")","v":"00:00:00"},null,{"$f":"IFERROR(IF(AND(WEEKDAY(A168,2)<6,C169<>\"\",E168<D168,C168=\"\"),ColTime($AE$1,$AF$1,D168,E168),IF(AND(OR(WEEKDAY(A168,2)=7,C168<>\"\"),E168<D168,C169=\"\"),ColTime($AF$1,$AG$1,'Hele året'!$AF$1,E168),IF(AND(WEEKDAY(A168,2)<6,C169=\"\"),ColTime(T.!$J$5,T.!$L$5,D168,E168),\"\"))),\"\")","v":"00:00:00"},null,"",{"$f":"IFERROR(IF(AND(WEEKDAY(A168,2)<6,C169<>\"\",C168=\"\"),ColTime(T.!$J$7,T.!$L$7,$AF$1,'Hele året'!E168),IF(AND(C168<>\"\",C169<>\"\"),ColTime(T.!$J$7,T.!$L$7,'Hele året'!D168,'Hele året'!E168),IF(AND(OR(WEEKDAY(A168,2)<6,WEEKDAY(A168,2)=6),C168<>\"\",E168<D168),ColTime(T.!$J$7,T.!$L$7,D168,AF165),IF(AND(WEEKDAY(A168,2)=6,E168<D168),ColTime(T.!$J$7,T.!$L$7,$AF$1,E168),IF(AND(E168<D168,OR(C168<>\"\",WEEKDAY(A168,2)=7)),ColTime(T.!J171,T.!L171,D168,$AF$1),IF(AND(E168<>\"\",OR(C168<>\"\",WEEKDAY(A168,2)=7)),ColTime(T.!$J$7,T.!$L$7,D168,E168),\"\")))))),\"\")","v":""},"",null,null,{"$f":"IFERROR(CHOOSE(WEEKDAY(A168,2),norm!C$1,norm!C$2,norm!C$3,norm!C$4,norm!C$5,norm!C$6,norm!C$7),\"\")","v":"07:00:00"}]
["2019-06-15","Lø","",null,null,null,"","00:00:00","",{"$f":"IF(AND(C169=\"\",WEEKDAY(A169,2)<6),ColTime(T.!$J$4,T.!$L$4,D169,E169),\"\")","v":""},null,{"$f":"IFERROR(IF(AND(WEEKDAY(A169,2)<6,C170<>\"\",E169<D169,C169=\"\"),ColTime($AE$1,$AF$1,D169,E169),IF(AND(OR(WEEKDAY(A169,2)=7,C169<>\"\"),E169<D169,C170=\"\"),ColTime($AF$1,$AG$1,'Hele året'!$AF$1,E169),IF(AND(WEEKDAY(A169,2)<6,C170=\"\"),ColTime(T.!$J$5,T.!$L$5,D169,E169),\"\"))),\"\")","v":""},null,"00:00:00",{"$f":"IFERROR(IF(AND(WEEKDAY(A169,2)<6,C170<>\"\",C169=\"\"),ColTime(T.!$J$7,T.!$L$7,$AF$1,'Hele året'!E169),IF(AND(C169<>\"\",C170<>\"\"),ColTime(T.!$J$7,T.!$L$7,'Hele året'!D169,'Hele året'!E169),IF(AND(OR(WEEKDAY(A169,2)<6,WEEKDAY(A169,2)=6),C169<>\"\",E169<D169),ColTime(T.!$J$7,T.!$L$7,D169,AF166),IF(AND(WEEKDAY(A169,2)=6,E169<D169),ColTime(T.!$J$7,T.!$L$7,$AF$1,E169),IF(AND(E169<D169,OR(C169<>\"\",WEEKDAY(A169,2)=7)),ColTime(T.!J172,T.!L172,D169,$AF$1),IF(AND(E169<>\"\",OR(C169<>\"\",WEEKDAY(A169,2)=7)),ColTime(T.!$J$7,T.!$L$7,D169,E169),\"\")))))),\"\")","v":""},"",null,null,{"$f":"IFERROR(CHOOSE(WEEKDAY(A169,2),norm!C$1,norm!C$2,norm!C$3,norm!C$4,norm!C$5,norm!C$6,norm!C$7),\"\")","v":"00:00:00"}]
["2019-06-16","Sø","",null,null,null,"","00:00:00","",{"$f":"IF(AND(C170=\"\",WEEKDAY(A170,2)<6),ColTime(T.!$J$4,T.!$L$4,D170,E170),\"\")","v":""},null,{"$f":"IFERROR(IF(AND(WEEKDAY(A170,2)<6,C171<>\"\",E170<D170,C170=\"\"),ColTime($AE$1,$AF$1,D170,E170),IF(AND(OR(WEEKDAY(A170,2)=7,C170<>\"\"),E170<D170,C171=\"\"),ColTime($AF$1,$AG$1,'Hele året'!$AF$1,E170),IF(AND(WEEKDAY(A170,2)<6,C171=\"\"),ColTime(T.!$J$5,T.!$L$5,D170,E170),\"\"))),\"\")","v":""},null,"",{"$f":"IFERROR(IF(AND(WEEKDAY(A170,2)<6,C171<>\"\",C170=\"\"),ColTime(T.!$J$7,T.!$L$7,$AF$1,'Hele året'!E170),IF(AND(C170<>\"\",C171<>\"\"),ColTime(T.!$J$7,T.!$L$7,'Hele året'!D170,'Hele året'!E170),IF(AND(OR(WEEKDAY(A170,2)<6,WEEKDAY(A170,2)=6),C170<>\"\",E170<D170),ColTime(T.!$J$7,T.!$L$7,D170,AF167),IF(AND(WEEKDAY(A170,2)=6,E170<D170),ColTime(T.!$J$7,T.!$L$7,$AF$1,E170),IF(AND(E170<D170,OR(C170<>\"\",WEEKDAY(A170,2)=7)),ColTime(T.!J173,T.!L173,D170,$AF$1),IF(AND(E170<>\"\",OR(C170<>\"\",WEEKDAY(A170,2)=7)),ColTime(T.!$J$7,T.!$L$7,D170,E170),\"\")))))),\"\")","v":""},"",null,null,{"$f":"IFERROR(CHOOSE(WEEKDAY(A170,2),norm!C$1,norm!C$2,norm!C$3,norm!C$4,norm!C$5,norm!C$6,norm!C$7),\"\")","v":"00:00:00"}]
["2019-06-17","Ma","",null,null,null,"","00:00:00","",{"$f":"IF(AND(C171=\"\",WEEKDAY(A171,2)<6),ColTime(T.!$J$4,T.!$L$4,D171,E171),\"\")","v":"00:00:00"},null,{"$f":"IFERROR(IF(AND(WEEKDAY(A171,2)<6,C172<>\"\",E171<D171,C171=\"\"),ColTime($AE$1,$AF$1,D171,E171),IF(AND(OR(WEEKDAY(A171,2)=7,C171<>\"\"),E171<D171,C172=\"\"),ColTime($AF$1,$AG$1,'Hele året'!$AF$1,E171),IF(AND(WEEKDAY(A171,2)<6,C172=\"\"),ColTime(T.!$J$5,T.!$L$5,D171,E171),\"\"))),\"\")","v":"00:00:00"},null,"",{"$f":"IFERROR(IF(AND(WEEKDAY(A171,2)<6,C172<>\"\",C171=\"\"),ColTime(T.!$J$7,T.!$L$7,$AF$1,'Hele året'!E171),IF(AND(C171<>\"\",C172<>\"\"),ColTime(T.!$J$7,T.!$L$7,'Hele året'!D171,'Hele året'!E171),IF(AND(OR(WEEKDAY(A171,2)<6,WEEKDAY(A171,2)=6),C171<>\"\",E171<D171),ColTime(T.!$J$7,T.!$L$7,D171,AF168),IF(AND(WEEKDAY(A171,2)=6,E171<D171),ColTime(T.!$J$7,T.!$L$7,$AF$1,E171),IF(AND(E171<D171,OR(C171<>\"\",WEEKDAY(A171,2)=7)),ColTime(T.!J174,T.!L174,D171,$AF$1),IF(AND(E171<>\"\",OR(C171<>\"\",WEEKDAY(A171,2)=7)),ColTime(T.!$J$7,T.!$L$7,D171,E171),\"\")))))),\"\")","v":""},"",null,null,{"$f":"IFERROR(CHOOSE(WEEKDAY(A171,2),norm!C$1,norm!C$2,norm!C$3,norm!C$4,norm!C$5,norm!C$6,norm!C$7),\"\")","v":"07:30:00"}]
["2019-06-18","Ti","",null,null,null,"","00:00:00","",{"$f":"IF(AND(C172=\"\",WEEKDAY(A172,2)<6),ColTime(T.!$J$4,T.!$L$4,D172,E172),\"\")","v":"00:00:00"},null,{"$f":"IFERROR(IF(AND(WEEKDAY(A172,2)<6,C173<>\"\",E172<D172,C172=\"\"),ColTime($AE$1,$AF$1,D172,E172),IF(AND(OR(WEEKDAY(A172,2)=7,C172<>\"\"),E172<D172,C173=\"\"),ColTime($AF$1,$AG$1,'Hele året'!$AF$1,E172),IF(AND(WEEKDAY(A172,2)<6,C173=\"\"),ColTime(T.!$J$5,T.!$L$5,D172,E172),\"\"))),\"\")","v":"00:00:00"},null,"",{"$f":"IFERROR(IF(AND(WEEKDAY(A172,2)<6,C173<>\"\",C172=\"\"),ColTime(T.!$J$7,T.!$L$7,$AF$1,'Hele året'!E172),IF(AND(C172<>\"\",C173<>\"\"),ColTime(T.!$J$7,T.!$L$7,'Hele året'!D172,'Hele året'!E172),IF(AND(OR(WEEKDAY(A172,2)<6,WEEKDAY(A172,2)=6),C172<>\"\",E172<D172),ColTime(T.!$J$7,T.!$L$7,D172,AF169),IF(AND(WEEKDAY(A172,2)=6,E172<D172),ColTime(T.!$J$7,T.!$L$7,$AF$1,E172),IF(AND(E172<D172,OR(C172<>\"\",WEEKDAY(A172,2)=7)),ColTime(T.!J175,T.!L175,D172,$AF$1),IF(AND(E172<>\"\",OR(C172<>\"\",WEEKDAY(A172,2)=7)),ColTime(T.!$J$7,T.!$L$7,D172,E172),\"\")))))),\"\")","v":""},"",null,null,{"$f":"IFERROR(CHOOSE(WEEKDAY(A172,2),norm!C$1,norm!C$2,norm!C$3,norm!C$4,norm!C$5,norm!C$6,norm!C$7),\"\")","v":"07:30:00"}]
["2019-06-19","On","",null,null,null,"","00:00:00","",{"$f":"IF(AND(C173=\"\",WEEKDAY(A173,2)<6),ColTime(T.!$J$4,T.!$L$4,D173,E173),\"\")","v":"00:00:00"},null,{"$f":"IFERROR(IF(AND(WEEKDAY(A173,2)<6,C174<>\"\",E173<D173,C173=\"\"),ColTime($AE$1,$AF$1,D173,E173),IF(AND(OR(WEEKDAY(A173,2)=7,C173<>\"\"),E173<D173,C174=\"\"),ColTime($AF$1,$AG$1,'Hele året'!$AF$1,E173),IF(AND(WEEKDAY(A173,2)<6,C174=\"\"),ColTime(T.!$J$5,T.!$L$5,D173,E173),\"\"))),\"\")","v":"00:00:00"},null,"",{"$f":"IFERROR(IF(AND(WEEKDAY(A173,2)<6,C174<>\"\",C173=\"\"),ColTime(T.!$J$7,T.!$L$7,$AF$1,'Hele året'!E173),IF(AND(C173<>\"\",C174<>\"\"),ColTime(T.!$J$7,T.!$L$7,'Hele året'!D173,'Hele året'!E173),IF(AND(OR(WEEKDAY(A173,2)<6,WEEKDAY(A173,2)=6),C173<>\"\",E173<D173),ColTime(T.!$J$7,T.!$L$7,D173,AF170),IF(AND(WEEKDAY(A173,2)=6,E173<D173),ColTime(T.!$J$7,T.!$L$7,$AF$1,E173),IF(AND(E173<D173,OR(C173<>\"\",WEEKDAY(A173,2)=7)),ColTime(T.!J176,T.!L176,D173,$AF$1),IF(AND(E173<>\"\",OR(C173<>\"\",WEEKDAY(A173,2)=7)),ColTime(T.!$J$7,T.!$L$7,D173,E173),\"\")))))),\"\")","v":""},"",null,null,{"$f":"IFERROR(CHOOSE(WEEKDAY(A173,2),norm!C$1,norm!C$2,norm!C$3,norm!C$4,norm!C$5,norm!C$6,norm!C$7),\"\")","v":"07:30:00"}]
["2019-06-20","To","",null,null,null,"","00:00:00","",{"$f":"IF(AND(C174=\"\",WEEKDAY(A174,2)<6),ColTime(T.!$J$4,T.!$L$4,D174,E174),\"\")","v":"00:00:00"},null,{"$f":"IFERROR(IF(AND(WEEKDAY(A174,2)<6,C175<>\"\",E174<D174,C174=\"\"),ColTime($AE$1,$AF$1,D174,E174),IF(AND(OR(WEEKDAY(A174,2)=7,C174<>\"\"),E174<D174,C175=\"\"),ColTime($AF$1,$AG$1,'Hele året'!$AF$1,E174),IF(AND(WEEKDAY(A174,2)<6,C175=\"\"),ColTime(T.!$J$5,T.!$L$5,D174,E174),\"\"))),\"\")","v":"00:00:00"},null,"",{"$f":"IFERROR(IF(AND(WEEKDAY(A174,2)<6,C175<>\"\",C174=\"\"),ColTime(T.!$J$7,T.!$L$7,$AF$1,'Hele året'!E174),IF(AND(C174<>\"\",C175<>\"\"),ColTime(T.!$J$7,T.!$L$7,'Hele året'!D174,'Hele året'!E174),IF(AND(OR(WEEKDAY(A174,2)<6,WEEKDAY(A174,2)=6),C174<>\"\",E174<D174),ColTime(T.!$J$7,T.!$L$7,D174,AF171),IF(AND(WEEKDAY(A174,2)=6,E174<D174),ColTime(T.!$J$7,T.!$L$7,$AF$1,E174),IF(AND(E174<D174,OR(C174<>\"\",WEEKDAY(A174,2)=7)),ColTime(T.!J177,T.!L177,D174,$AF$1),IF(AND(E174<>\"\",OR(C174<>\"\",WEEKDAY(A174,2)=7)),ColTime(T.!$J$7,T.!$L$7,D174,E174),\"\")))))),\"\")","v":""},"",null,null,{"$f":"IFERROR(CHOOSE(WEEKDAY(A174,2),norm!C$1,norm!C$2,norm!C$3,norm!C$4,norm!C$5,norm!C$6,norm!C$7),\"\")","v":"07:30:00"}]
["2019-06-21","Fr","",null,null,null,"","00:00:00","",{"$f":"IF(AND(C175=\"\",WEEKDAY(A175,2)<6),ColTime(T.!$J$4,T.!$L$4,D175,E175),\"\")","v":"00:00:00"},null,{"$f":"IFERROR(IF(AND(WEEKDAY(A175,2)<6,C176<>\"\",E175<D175,C175=\"\"),ColTime($AE$1,$AF$1,D175,E175),IF(AND(OR(WEEKDAY(A175,2)=7,C175<>\"\"),E175<D175,C176=\"\"),ColTime($AF$1,$AG$1,'Hele året'!$AF$1,E175),IF(AND(WEEKDAY(A175,2)<6,C176=\"\"),ColTime(T.!$J$5,T.!$L$5,D175,E175),\"\"))),\"\")","v":"00:00:00"},null,"",{"$f":"IFERROR(IF(AND(WEEKDAY(A175,2)<6,C176<>\"\",C175=\"\"),ColTime(T.!$J$7,T.!$L$7,$AF$1,'Hele året'!E175),IF(AND(C175<>\"\",C176<>\"\"),ColTime(T.!$J$7,T.!$L$7,'Hele året'!D175,'Hele året'!E175),IF(AND(OR(WEEKDAY(A175,2)<6,WEEKDAY(A175,2)=6),C175<>\"\",E175<D175),ColTime(T.!$J$7,T.!$L$7,D175,AF172),IF(AND(WEEKDAY(A175,2)=6,E175<D175),ColTime(T.!$J$7,T.!$L$7,$AF$1,E175),IF(AND(E175<D175,OR(C175<>\"\",WEEKDAY(A175,2)=7)),ColTime(T.!J178,T.!L178,D175,$AF$1),IF(AND(E175<>\"\",OR(C175<>\"\",WEEKDAY(A175,2)=7)),ColTime(T.!$J$7,T.!$L$7,D175,E175),\"\")))))),\"\")","v":""},"",null,null,{"$f":"IFERROR(CHOOSE(WEEKDAY(A175,2),norm!C$1,norm!C$2,norm!C$3,norm!C$4,norm!C$5,norm!C$6,norm!C$7),\"\")","v":"07:00:00"}]
["2019-06-22","Lø","",null,null,null,"","00:00:00","",{"$f":"IF(AND(C176=\"\",WEEKDAY(A176,2)<6),ColTime(T.!$J$4,T.!$L$4,D176,E176),\"\")","v":""},null,{"$f":"IFERROR(IF(AND(WEEKDAY(A176,2)<6,C177<>\"\",E176<D176,C176=\"\"),ColTime($AE$1,$AF$1,D176,E176),IF(AND(OR(WEEKDAY(A176,2)=7,C176<>\"\"),E176<D176,C177=\"\"),ColTime($AF$1,$AG$1,'Hele året'!$AF$1,E176),IF(AND(WEEKDAY(A176,2)<6,C177=\"\"),ColTime(T.!$J$5,T.!$L$5,D176,E176),\"\"))),\"\")","v":""},null,"00:00:00",{"$f":"IFERROR(IF(AND(WEEKDAY(A176,2)<6,C177<>\"\",C176=\"\"),ColTime(T.!$J$7,T.!$L$7,$AF$1,'Hele året'!E176),IF(AND(C176<>\"\",C177<>\"\"),ColTime(T.!$J$7,T.!$L$7,'Hele året'!D176,'Hele året'!E176),IF(AND(OR(WEEKDAY(A176,2)<6,WEEKDAY(A176,2)=6),C176<>\"\",E176<D176),ColTime(T.!$J$7,T.!$L$7,D176,AF173),IF(AND(WEEKDAY(A176,2)=6,E176<D176),ColTime(T.!$J$7,T.!$L$7,$AF$1,E176),IF(AND(E176<D176,OR(C176<>\"\",WEEKDAY(A176,2)=7)),ColTime(T.!J179,T.!L179,D176,$AF$1),IF(AND(E176<>\"\",OR(C176<>\"\",WEEKDAY(A176,2)=7)),ColTime(T.!$J$7,T.!$L$7,D176,E176),\"\")))))),\"\")","v":""},"",null,null,{"$f":"IFERROR(CHOOSE(WEEKDAY(A176,2),norm!C$1,norm!C$2,norm!C$3,norm!C$4,norm!C$5,norm!C$6,norm!C$7),\"\")","v":"00:00:00"}]
["2019-06-23","Sø","",null,null,null,"","00:00:00","",{"$f":"IF(AND(C177=\"\",WEEKDAY(A177,2)<6),ColTime(T.!$J$4,T.!$L$4,D177,E177),\"\")","v":""},null,{"$f":"IFERROR(IF(AND(WEEKDAY(A177,2)<6,C178<>\"\",E177<D177,C177=\"\"),ColTime($AE$1,$AF$1,D177,E177),IF(AND(OR(WEEKDAY(A177,2)=7,C177<>\"\"),E177<D177,C178=\"\"),ColTime($AF$1,$AG$1,'Hele året'!$AF$1,E177),IF(AND(WEEKDAY(A177,2)<6,C178=\"\"),ColTime(T.!$J$5,T.!$L$5,D177,E177),\"\"))),\"\")","v":""},null,"",{"$f":"IFERROR(IF(AND(WEEKDAY(A177,2)<6,C178<>\"\",C177=\"\"),ColTime(T.!$J$7,T.!$L$7,$AF$1,'Hele året'!E177),IF(AND(C177<>\"\",C178<>\"\"),ColTime(T.!$J$7,T.!$L$7,'Hele året'!D177,'Hele året'!E177),IF(AND(OR(WEEKDAY(A177,2)<6,WEEKDAY(A177,2)=6),C177<>\"\",E177<D177),ColTime(T.!$J$7,T.!$L$7,D177,AF174),IF(AND(WEEKDAY(A177,2)=6,E177<D177),ColTime(T.!$J$7,T.!$L$7,$AF$1,E177),IF(AND(E177<D177,OR(C177<>\"\",WEEKDAY(A177,2)=7)),ColTime(T.!J180,T.!L180,D177,$AF$1),IF(AND(E177<>\"\",OR(C177<>\"\",WEEKDAY(A177,2)=7)),ColTime(T.!$J$7,T.!$L$7,D177,E177),\"\")))))),\"\")","v":""},"",null,null,{"$f":"IFERROR(CHOOSE(WEEKDAY(A177,2),norm!C$1,norm!C$2,norm!C$3,norm!C$4,norm!C$5,norm!C$6,norm!C$7),\"\")","v":"00:00:00"}]
["2019-06-24","Ma","",null,null,null,"","00:00:00","",{"$f":"IF(AND(C178=\"\",WEEKDAY(A178,2)<6),ColTime(T.!$J$4,T.!$L$4,D178,E178),\"\")","v":"00:00:00"},null,{"$f":"IFERROR(IF(AND(WEEKDAY(A178,2)<6,C179<>\"\",E178<D178,C178=\"\"),ColTime($AE$1,$AF$1,D178,E178),IF(AND(OR(WEEKDAY(A178,2)=7,C178<>\"\"),E178<D178,C179=\"\"),ColTime($AF$1,$AG$1,'Hele året'!$AF$1,E178),IF(AND(WEEKDAY(A178,2)<6,C179=\"\"),ColTime(T.!$J$5,T.!$L$5,D178,E178),\"\"))),\"\")","v":"00:00:00"},null,"",{"$f":"IFERROR(IF(AND(WEEKDAY(A178,2)<6,C179<>\"\",C178=\"\"),ColTime(T.!$J$7,T.!$L$7,$AF$1,'Hele året'!E178),IF(AND(C178<>\"\",C179<>\"\"),ColTime(T.!$J$7,T.!$L$7,'Hele året'!D178,'Hele året'!E178),IF(AND(OR(WEEKDAY(A178,2)<6,WEEKDAY(A178,2)=6),C178<>\"\",E178<D178),ColTime(T.!$J$7,T.!$L$7,D178,AF175),IF(AND(WEEKDAY(A178,2)=6,E178<D178),ColTime(T.!$J$7,T.!$L$7,$AF$1,E178),IF(AND(E178<D178,OR(C178<>\"\",WEEKDAY(A178,2)=7)),ColTime(T.!J181,T.!L181,D178,$AF$1),IF(AND(E178<>\"\",OR(C178<>\"\",WEEKDAY(A178,2)=7)),ColTime(T.!$J$7,T.!$L$7,D178,E178),\"\")))))),\"\")","v":""},"",null,null,{"$f":"IFERROR(CHOOSE(WEEKDAY(A178,2),norm!C$1,norm!C$2,norm!C$3,norm!C$4,norm!C$5,norm!C$6,norm!C$7),\"\")","v":"07:30:00"}]
["2019-06-25","Ti","",null,null,null,"","00:00:00","",{"$f":"IF(AND(C179=\"\",WEEKDAY(A179,2)<6),ColTime(T.!$J$4,T.!$L$4,D179,E179),\"\")","v":"00:00:00"},null,{"$f":"IFERROR(IF(AND(WEEKDAY(A179,2)<6,C180<>\"\",E179<D179,C179=\"\"),ColTime($AE$1,$AF$1,D179,E179),IF(AND(OR(WEEKDAY(A179,2)=7,C179<>\"\"),E179<D179,C180=\"\"),ColTime($AF$1,$AG$1,'Hele året'!$AF$1,E179),IF(AND(WEEKDAY(A179,2)<6,C180=\"\"),ColTime(T.!$J$5,T.!$L$5,D179,E179),\"\"))),\"\")","v":"00:00:00"},null,"",{"$f":"IFERROR(IF(AND(WEEKDAY(A179,2)<6,C180<>\"\",C179=\"\"),ColTime(T.!$J$7,T.!$L$7,$AF$1,'Hele året'!E179),IF(AND(C179<>\"\",C180<>\"\"),ColTime(T.!$J$7,T.!$L$7,'Hele året'!D179,'Hele året'!E179),IF(AND(OR(WEEKDAY(A179,2)<6,WEEKDAY(A179,2)=6),C179<>\"\",E179<D179),ColTime(T.!$J$7,T.!$L$7,D179,AF176),IF(AND(WEEKDAY(A179,2)=6,E179<D179),ColTime(T.!$J$7,T.!$L$7,$AF$1,E179),IF(AND(E179<D179,OR(C179<>\"\",WEEKDAY(A179,2)=7)),ColTime(T.!J182,T.!L182,D179,$AF$1),IF(AND(E179<>\"\",OR(C179<>\"\",WEEKDAY(A179,2)=7)),ColTime(T.!$J$7,T.!$L$7,D179,E179),\"\")))))),\"\")","v":""},"",null,null,{"$f":"IFERROR(CHOOSE(WEEKDAY(A179,2),norm!C$1,norm!C$2,norm!C$3,norm!C$4,norm!C$5,norm!C$6,norm!C$7),\"\")","v":"07:30:00"}]
["2019-06-26","On","",null,null,null,{"$f":"IF(D180=\"\",\"\",(E180-D180)+(D180>E180)-F180)","v":""},{"$f":"IF(G180=\"\",0,IF(WEEKDAY(A180,2)=7,0,IF(G180>S180,MIN(G180-S180,$AI$1),0)))","v":"00:00:00"},{"$f":"IF(G180=\"\",\"\",IF(G180>S180+H180,G180-(S180+H180),\"\"))","v":""},{"$f":"IF(AND(C180=\"\",WEEKDAY(A180,2)<6),ColTime(T.!$J$4,T.!$L$4,D180,E180),\"\")","v":"00:00:00"},null,{"$f":"IFERROR(IF(AND(WEEKDAY(A180,2)<6,C181<>\"\",E180<D180,C180=\"\"),ColTime($AE$1,$AF$1,D180,E180),IF(AND(OR(WEEKDAY(A180,2)=7,C180<>\"\"),E180<D180,C181=\"\"),ColTime($AF$1,$AG$1,'Hele året'!$AF$1,E180),IF(AND(WEEKDAY(A180,2)<6,C181=\"\"),ColTime(T.!$J$5,T.!$L$5,D180,E180),\"\"))),\"\")","v":"00:00:00"},null,{"$f":"IF(WEEKDAY(A180,2)=6,ColTime(TIME(15,0,0),TIME(24,0,0),D180,E180),\"\")","v":""},{"$f":"IFERROR(IF(AND(WEEKDAY(A180,2)<6,C181<>\"\",C180=\"\"),ColTime(T.!$J$7,T.!$L$7,$AF$1,'Hele året'!E180),IF(AND(C180<>\"\",C181<>\"\"),ColTime(T.!$J$7,T.!$L$7,'Hele året'!D180,'Hele året'!E180),IF(AND(OR(WEEKDAY(A180,2)<6,WEEKDAY(A180,2)=6),C180<>\"\",E180<D180),ColTime(T.!$J$7,T.!$L$7,D180,AF177),IF(AND(WEEKDAY(A180,2)=6,E180<D180),ColTime(T.!$J$7,T.!$L$7,$AF$1,E180),IF(AND(E180<D180,OR(C180<>\"\",WEEKDAY(A180,2)=7)),ColTime(T.!J183,T.!L183,D180,$AF$1),IF(AND(E180<>\"\",OR(C180<>\"\",WEEKDAY(A180,2)=7)),ColTime(T.!$J$7,T.!$L$7,D180,E180),\"\")))))),\"\")","v":""},{"$f":"IFERROR(H180+I180,\"\")","v":""},null,null,{"$f":"IFERROR(CHOOSE(WEEKDAY(A180,2),norm!C$1,norm!C$2,norm!C$3,norm!C$4,norm!C$5,norm!C$6,norm!C$7),\"\")","v":"07:30:00"}]
["2019-06-27","To","",null,null,null,"","00:00:00","",{"$f":"IF(AND(C181=\"\",WEEKDAY(A181,2)<6),ColTime(T.!$J$4,T.!$L$4,D181,E181),\"\")","v":"00:00:00"},null,{"$f":"IFERROR(IF(AND(WEEKDAY(A181,2)<6,C182<>\"\",E181<D181,C181=\"\"),ColTime($AE$1,$AF$1,D181,E181),IF(AND(OR(WEEKDAY(A181,2)=7,C181<>\"\"),E181<D181,C182=\"\"),ColTime($AF$1,$AG$1,'Hele året'!$AF$1,E181),IF(AND(WEEKDAY(A181,2)<6,C182=\"\"),ColTime(T.!$J$5,T.!$L$5,D181,E181),\"\"))),\"\")","v":"00:00:00"},null,"",{"$f":"IFERROR(IF(AND(WEEKDAY(A181,2)<6,C182<>\"\",C181=\"\"),ColTime(T.!$J$7,T.!$L$7,$AF$1,'Hele året'!E181),IF(AND(C181<>\"\",C182<>\"\"),ColTime(T.!$J$7,T.!$L$7,'Hele året'!D181,'Hele året'!E181),IF(AND(OR(WEEKDAY(A181,2)<6,WEEKDAY(A181,2)=6),C181<>\"\",E181<D181),ColTime(T.!$J$7,T.!$L$7,D181,AF178),IF(AND(WEEKDAY(A181,2)=6,E181<D181),ColTime(T.!$J$7,T.!$L$7,$AF$1,E181),IF(AND(E181<D181,OR(C181<>\"\",WEEKDAY(A181,2)=7)),ColTime(T.!J184,T.!L184,D181,$AF$1),IF(AND(E181<>\"\",OR(C181<>\"\",WEEKDAY(A181,2)=7)),ColTime(T.!$J$7,T.!$L$7,D181,E181),\"\")))))),\"\")","v":""},"",null,null,{"$f":"IFERROR(CHOOSE(WEEKDAY(A181,2),norm!C$1,norm!C$2,norm!C$3,norm!C$4,norm!C$5,norm!C$6,norm!C$7),\"\")","v":"07:30:00"}]
["2019-06-28","Fr","",null,null,null,"","00:00:00","",{"$f":"IF(AND(C182=\"\",WEEKDAY(A182,2)<6),ColTime(T.!$J$4,T.!$L$4,D182,E182),\"\")","v":"00:00:00"},null,{"$f":"IFERROR(IF(AND(WEEKDAY(A182,2)<6,C183<>\"\",E182<D182,C182=\"\"),ColTime($AE$1,$AF$1,D182,E182),IF(AND(OR(WEEKDAY(A182,2)=7,C182<>\"\"),E182<D182,C183=\"\"),ColTime($AF$1,$AG$1,'Hele året'!$AF$1,E182),IF(AND(WEEKDAY(A182,2)<6,C183=\"\"),ColTime(T.!$J$5,T.!$L$5,D182,E182),\"\"))),\"\")","v":"00:00:00"},null,"",{"$f":"IFERROR(IF(AND(WEEKDAY(A182,2)<6,C183<>\"\",C182=\"\"),ColTime(T.!$J$7,T.!$L$7,$AF$1,'Hele året'!E182),IF(AND(C182<>\"\",C183<>\"\"),ColTime(T.!$J$7,T.!$L$7,'Hele året'!D182,'Hele året'!E182),IF(AND(OR(WEEKDAY(A182,2)<6,WEEKDAY(A182,2)=6),C182<>\"\",E182<D182),ColTime(T.!$J$7,T.!$L$7,D182,AF179),IF(AND(WEEKDAY(A182,2)=6,E182<D182),ColTime(T.!$J$7,T.!$L$7,$AF$1,E182),IF(AND(E182<D182,OR(C182<>\"\",WEEKDAY(A182,2)=7)),ColTime(T.!J185,T.!L185,D182,$AF$1),IF(AND(E182<>\"\",OR(C182<>\"\",WEEKDAY(A182,2)=7)),ColTime(T.!$J$7,T.!$L$7,D182,E182),\"\")))))),\"\")","v":""},"",null,null,{"$f":"IFERROR(CHOOSE(WEEKDAY(A182,2),norm!C$1,norm!C$2,norm!C$3,norm!C$4,norm!C$5,norm!C$6,norm!C$7),\"\")","v":"07:00:00"}]
["2019-06-29","Lø","",null,null,null,"","00:00:00","",{"$f":"IF(AND(C183=\"\",WEEKDAY(A183,2)<6),ColTime(T.!$J$4,T.!$L$4,D183,E183),\"\")","v":""},null,{"$f":"IFERROR(IF(AND(WEEKDAY(A183,2)<6,C184<>\"\",E183<D183,C183=\"\"),ColTime($AE$1,$AF$1,D183,E183),IF(AND(OR(WEEKDAY(A183,2)=7,C183<>\"\"),E183<D183,C184=\"\"),ColTime($AF$1,$AG$1,'Hele året'!$AF$1,E183),IF(AND(WEEKDAY(A183,2)<6,C184=\"\"),ColTime(T.!$J$5,T.!$L$5,D183,E183),\"\"))),\"\")","v":""},null,"00:00:00",{"$f":"IFERROR(IF(AND(WEEKDAY(A183,2)<6,C184<>\"\",C183=\"\"),ColTime(T.!$J$7,T.!$L$7,$AF$1,'Hele året'!E183),IF(AND(C183<>\"\",C184<>\"\"),ColTime(T.!$J$7,T.!$L$7,'Hele året'!D183,'Hele året'!E183),IF(AND(OR(WEEKDAY(A183,2)<6,WEEKDAY(A183,2)=6),C183<>\"\",E183<D183),ColTime(T.!$J$7,T.!$L$7,D183,AF180),IF(AND(WEEKDAY(A183,2)=6,E183<D183),ColTime(T.!$J$7,T.!$L$7,$AF$1,E183),IF(AND(E183<D183,OR(C183<>\"\",WEEKDAY(A183,2)=7)),ColTime(T.!J186,T.!L186,D183,$AF$1),IF(AND(E183<>\"\",OR(C183<>\"\",WEEKDAY(A183,2)=7)),ColTime(T.!$J$7,T.!$L$7,D183,E183),\"\")))))),\"\")","v":""},"",null,null,{"$f":"IFERROR(CHOOSE(WEEKDAY(A183,2),norm!C$1,norm!C$2,norm!C$3,norm!C$4,norm!C$5,norm!C$6,norm!C$7),\"\")","v":"00:00:00"}]
["2019-06-30","Sø","",null,null,null,"","00:00:00","",{"$f":"IF(AND(C184=\"\",WEEKDAY(A184,2)<6),ColTime(T.!$J$4,T.!$L$4,D184,E184),\"\")","v":""},null,{"$f":"IFERROR(IF(AND(WEEKDAY(A184,2)<6,C185<>\"\",E184<D184,C184=\"\"),ColTime($AE$1,$AF$1,D184,E184),IF(AND(OR(WEEKDAY(A184,2)=7,C184<>\"\"),E184<D184,C185=\"\"),ColTime($AF$1,$AG$1,'Hele året'!$AF$1,E184),IF(AND(WEEKDAY(A184,2)<6,C185=\"\"),ColTime(T.!$J$5,T.!$L$5,D184,E184),\"\"))),\"\")","v":""},null,"",{"$f":"IFERROR(IF(AND(WEEKDAY(A184,2)<6,C185<>\"\",C184=\"\"),ColTime(T.!$J$7,T.!$L$7,$AF$1,'Hele året'!E184),IF(AND(C184<>\"\",C185<>\"\"),ColTime(T.!$J$7,T.!$L$7,'Hele året'!D184,'Hele året'!E184),IF(AND(OR(WEEKDAY(A184,2)<6,WEEKDAY(A184,2)=6),C184<>\"\",E184<D184),ColTime(T.!$J$7,T.!$L$7,D184,AF181),IF(AND(WEEKDAY(A184,2)=6,E184<D184),ColTime(T.!$J$7,T.!$L$7,$AF$1,E184),IF(AND(E184<D184,OR(C184<>\"\",WEEKDAY(A184,2)=7)),ColTime(T.!J187,T.!L187,D184,$AF$1),IF(AND(E184<>\"\",OR(C184<>\"\",WEEKDAY(A184,2)=7)),ColTime(T.!$J$7,T.!$L$7,D184,E184),\"\")))))),\"\")","v":""},"",null,null,{"$f":"IFERROR(CHOOSE(WEEKDAY(A184,2),norm!C$1,norm!C$2,norm!C$3,norm!C$4,norm!C$5,norm!C$6,norm!C$7),\"\")","v":"00:00:00"}]
["2019-07-01","Ma","",null,null,null,"","00:00:00","",{"$f":"IF(AND(C185=\"\",WEEKDAY(A185,2)<6),ColTime(T.!$J$4,T.!$L$4,D185,E185),\"\")","v":"00:00:00"},null,{"$f":"IFERROR(IF(AND(WEEKDAY(A185,2)<6,C186<>\"\",E185<D185,C185=\"\"),ColTime($AE$1,$AF$1,D185,E185),IF(AND(OR(WEEKDAY(A185,2)=7,C185<>\"\"),E185<D185,C186=\"\"),ColTime($AF$1,$AG$1,'Hele året'!$AF$1,E185),IF(AND(WEEKDAY(A185,2)<6,C186=\"\"),ColTime(T.!$J$5,T.!$L$5,D185,E185),\"\"))),\"\")","v":"00:00:00"},null,"",{"$f":"IFERROR(IF(AND(WEEKDAY(A185,2)<6,C186<>\"\",C185=\"\"),ColTime(T.!$J$7,T.!$L$7,$AF$1,'Hele året'!E185),IF(AND(C185<>\"\",C186<>\"\"),ColTime(T.!$J$7,T.!$L$7,'Hele året'!D185,'Hele året'!E185),IF(AND(OR(WEEKDAY(A185,2)<6,WEEKDAY(A185,2)=6),C185<>\"\",E185<D185),ColTime(T.!$J$7,T.!$L$7,D185,AF182),IF(AND(WEEKDAY(A185,2)=6,E185<D185),ColTime(T.!$J$7,T.!$L$7,$AF$1,E185),IF(AND(E185<D185,OR(C185<>\"\",WEEKDAY(A185,2)=7)),ColTime(T.!J188,T.!L188,D185,$AF$1),IF(AND(E185<>\"\",OR(C185<>\"\",WEEKDAY(A185,2)=7)),ColTime(T.!$J$7,T.!$L$7,D185,E185),\"\")))))),\"\")","v":""},"",null,null,{"$f":"IFERROR(CHOOSE(WEEKDAY(A185,2),norm!C$1,norm!C$2,norm!C$3,norm!C$4,norm!C$5,norm!C$6,norm!C$7),\"\")","v":"07:30:00"}]
["2019-07-02","Ti","",null,null,null,"","00:00:00","",{"$f":"IF(AND(C186=\"\",WEEKDAY(A186,2)<6),ColTime(T.!$J$4,T.!$L$4,D186,E186),\"\")","v":"00:00:00"},null,{"$f":"IFERROR(IF(AND(WEEKDAY(A186,2)<6,C187<>\"\",E186<D186,C186=\"\"),ColTime($AE$1,$AF$1,D186,E186),IF(AND(OR(WEEKDAY(A186,2)=7,C186<>\"\"),E186<D186,C187=\"\"),ColTime($AF$1,$AG$1,'Hele året'!$AF$1,E186),IF(AND(WEEKDAY(A186,2)<6,C187=\"\"),ColTime(T.!$J$5,T.!$L$5,D186,E186),\"\"))),\"\")","v":"00:00:00"},null,"",{"$f":"IFERROR(IF(AND(WEEKDAY(A186,2)<6,C187<>\"\",C186=\"\"),ColTime(T.!$J$7,T.!$L$7,$AF$1,'Hele året'!E186),IF(AND(C186<>\"\",C187<>\"\"),ColTime(T.!$J$7,T.!$L$7,'Hele året'!D186,'Hele året'!E186),IF(AND(OR(WEEKDAY(A186,2)<6,WEEKDAY(A186,2)=6),C186<>\"\",E186<D186),ColTime(T.!$J$7,T.!$L$7,D186,AF183),IF(AND(WEEKDAY(A186,2)=6,E186<D186),ColTime(T.!$J$7,T.!$L$7,$AF$1,E186),IF(AND(E186<D186,OR(C186<>\"\",WEEKDAY(A186,2)=7)),ColTime(T.!J189,T.!L189,D186,$AF$1),IF(AND(E186<>\"\",OR(C186<>\"\",WEEKDAY(A186,2)=7)),ColTime(T.!$J$7,T.!$L$7,D186,E186),\"\")))))),\"\")","v":""},"",null,null,{"$f":"IFERROR(CHOOSE(WEEKDAY(A186,2),norm!C$1,norm!C$2,norm!C$3,norm!C$4,norm!C$5,norm!C$6,norm!C$7),\"\")","v":"07:30:00"}]
["2019-07-03","On","",null,null,null,"","00:00:00","",{"$f":"IF(AND(C187=\"\",WEEKDAY(A187,2)<6),ColTime(T.!$J$4,T.!$L$4,D187,E187),\"\")","v":"00:00:00"},null,{"$f":"IFERROR(IF(AND(WEEKDAY(A187,2)<6,C188<>\"\",E187<D187,C187=\"\"),ColTime($AE$1,$AF$1,D187,E187),IF(AND(OR(WEEKDAY(A187,2)=7,C187<>\"\"),E187<D187,C188=\"\"),ColTime($AF$1,$AG$1,'Hele året'!$AF$1,E187),IF(AND(WEEKDAY(A187,2)<6,C188=\"\"),ColTime(T.!$J$5,T.!$L$5,D187,E187),\"\"))),\"\")","v":"00:00:00"},null,"",{"$f":"IFERROR(IF(AND(WEEKDAY(A187,2)<6,C188<>\"\",C187=\"\"),ColTime(T.!$J$7,T.!$L$7,$AF$1,'Hele året'!E187),IF(AND(C187<>\"\",C188<>\"\"),ColTime(T.!$J$7,T.!$L$7,'Hele året'!D187,'Hele året'!E187),IF(AND(OR(WEEKDAY(A187,2)<6,WEEKDAY(A187,2)=6),C187<>\"\",E187<D187),ColTime(T.!$J$7,T.!$L$7,D187,AF184),IF(AND(WEEKDAY(A187,2)=6,E187<D187),ColTime(T.!$J$7,T.!$L$7,$AF$1,E187),IF(AND(E187<D187,OR(C187<>\"\",WEEKDAY(A187,2)=7)),ColTime(T.!J190,T.!L190,D187,$AF$1),IF(AND(E187<>\"\",OR(C187<>\"\",WEEKDAY(A187,2)=7)),ColTime(T.!$J$7,T.!$L$7,D187,E187),\"\")))))),\"\")","v":""},"",null,null,{"$f":"IFERROR(CHOOSE(WEEKDAY(A187,2),norm!C$1,norm!C$2,norm!C$3,norm!C$4,norm!C$5,norm!C$6,norm!C$7),\"\")","v":"07:30:00"}]
["2019-07-04","To","",null,null,null,"","00:00:00","",{"$f":"IF(AND(C188=\"\",WEEKDAY(A188,2)<6),ColTime(T.!$J$4,T.!$L$4,D188,E188),\"\")","v":"00:00:00"},null,{"$f":"IFERROR(IF(AND(WEEKDAY(A188,2)<6,C189<>\"\",E188<D188,C188=\"\"),ColTime($AE$1,$AF$1,D188,E188),IF(AND(OR(WEEKDAY(A188,2)=7,C188<>\"\"),E188<D188,C189=\"\"),ColTime($AF$1,$AG$1,'Hele året'!$AF$1,E188),IF(AND(WEEKDAY(A188,2)<6,C189=\"\"),ColTime(T.!$J$5,T.!$L$5,D188,E188),\"\"))),\"\")","v":"00:00:00"},null,"",{"$f":"IFERROR(IF(AND(WEEKDAY(A188,2)<6,C189<>\"\",C188=\"\"),ColTime(T.!$J$7,T.!$L$7,$AF$1,'Hele året'!E188),IF(AND(C188<>\"\",C189<>\"\"),ColTime(T.!$J$7,T.!$L$7,'Hele året'!D188,'Hele året'!E188),IF(AND(OR(WEEKDAY(A188,2)<6,WEEKDAY(A188,2)=6),C188<>\"\",E188<D188),ColTime(T.!$J$7,T.!$L$7,D188,AF185),IF(AND(WEEKDAY(A188,2)=6,E188<D188),ColTime(T.!$J$7,T.!$L$7,$AF$1,E188),IF(AND(E188<D188,OR(C188<>\"\",WEEKDAY(A188,2)=7)),ColTime(T.!J191,T.!L191,D188,$AF$1),IF(AND(E188<>\"\",OR(C188<>\"\",WEEKDAY(A188,2)=7)),ColTime(T.!$J$7,T.!$L$7,D188,E188),\"\")))))),\"\")","v":""},"",null,null,{"$f":"IFERROR(CHOOSE(WEEKDAY(A188,2),norm!C$1,norm!C$2,norm!C$3,norm!C$4,norm!C$5,norm!C$6,norm!C$7),\"\")","v":"07:30:00"}]
["2019-07-05","Fr","",null,null,null,"","00:00:00","",{"$f":"IF(AND(C189=\"\",WEEKDAY(A189,2)<6),ColTime(T.!$J$4,T.!$L$4,D189,E189),\"\")","v":"00:00:00"},null,{"$f":"IFERROR(IF(AND(WEEKDAY(A189,2)<6,C190<>\"\",E189<D189,C189=\"\"),ColTime($AE$1,$AF$1,D189,E189),IF(AND(OR(WEEKDAY(A189,2)=7,C189<>\"\"),E189<D189,C190=\"\"),ColTime($AF$1,$AG$1,'Hele året'!$AF$1,E189),IF(AND(WEEKDAY(A189,2)<6,C190=\"\"),ColTime(T.!$J$5,T.!$L$5,D189,E189),\"\"))),\"\")","v":"00:00:00"},null,"",{"$f":"IFERROR(IF(AND(WEEKDAY(A189,2)<6,C190<>\"\",C189=\"\"),ColTime(T.!$J$7,T.!$L$7,$AF$1,'Hele året'!E189),IF(AND(C189<>\"\",C190<>\"\"),ColTime(T.!$J$7,T.!$L$7,'Hele året'!D189,'Hele året'!E189),IF(AND(OR(WEEKDAY(A189,2)<6,WEEKDAY(A189,2)=6),C189<>\"\",E189<D189),ColTime(T.!$J$7,T.!$L$7,D189,AF186),IF(AND(WEEKDAY(A189,2)=6,E189<D189),ColTime(T.!$J$7,T.!$L$7,$AF$1,E189),IF(AND(E189<D189,OR(C189<>\"\",WEEKDAY(A189,2)=7)),ColTime(T.!J192,T.!L192,D189,$AF$1),IF(AND(E189<>\"\",OR(C189<>\"\",WEEKDAY(A189,2)=7)),ColTime(T.!$J$7,T.!$L$7,D189,E189),\"\")))))),\"\")","v":""},"",null,null,{"$f":"IFERROR(CHOOSE(WEEKDAY(A189,2),norm!C$1,norm!C$2,norm!C$3,norm!C$4,norm!C$5,norm!C$6,norm!C$7),\"\")","v":"07:00:00"}]
["2019-07-06","Lø","",null,null,null,"","00:00:00","",{"$f":"IF(AND(C190=\"\",WEEKDAY(A190,2)<6),ColTime(T.!$J$4,T.!$L$4,D190,E190),\"\")","v":""},null,{"$f":"IFERROR(IF(AND(WEEKDAY(A190,2)<6,C191<>\"\",E190<D190,C190=\"\"),ColTime($AE$1,$AF$1,D190,E190),IF(AND(OR(WEEKDAY(A190,2)=7,C190<>\"\"),E190<D190,C191=\"\"),ColTime($AF$1,$AG$1,'Hele året'!$AF$1,E190),IF(AND(WEEKDAY(A190,2)<6,C191=\"\"),ColTime(T.!$J$5,T.!$L$5,D190,E190),\"\"))),\"\")","v":""},null,"00:00:00",{"$f":"IFERROR(IF(AND(WEEKDAY(A190,2)<6,C191<>\"\",C190=\"\"),ColTime(T.!$J$7,T.!$L$7,$AF$1,'Hele året'!E190),IF(AND(C190<>\"\",C191<>\"\"),ColTime(T.!$J$7,T.!$L$7,'Hele året'!D190,'Hele året'!E190),IF(AND(OR(WEEKDAY(A190,2)<6,WEEKDAY(A190,2)=6),C190<>\"\",E190<D190),ColTime(T.!$J$7,T.!$L$7,D190,AF187),IF(AND(WEEKDAY(A190,2)=6,E190<D190),ColTime(T.!$J$7,T.!$L$7,$AF$1,E190),IF(AND(E190<D190,OR(C190<>\"\",WEEKDAY(A190,2)=7)),ColTime(T.!J193,T.!L193,D190,$AF$1),IF(AND(E190<>\"\",OR(C190<>\"\",WEEKDAY(A190,2)=7)),ColTime(T.!$J$7,T.!$L$7,D190,E190),\"\")))))),\"\")","v":""},"",null,null,{"$f":"IFERROR(CHOOSE(WEEKDAY(A190,2),norm!C$1,norm!C$2,norm!C$3,norm!C$4,norm!C$5,norm!C$6,norm!C$7),\"\")","v":"00:00:00"}]
["2019-07-07","Sø","",null,null,null,"","00:00:00","",{"$f":"IF(AND(C191=\"\",WEEKDAY(A191,2)<6),ColTime(T.!$J$4,T.!$L$4,D191,E191),\"\")","v":""},null,{"$f":"IFERROR(IF(AND(WEEKDAY(A191,2)<6,C192<>\"\",E191<D191,C191=\"\"),ColTime($AE$1,$AF$1,D191,E191),IF(AND(OR(WEEKDAY(A191,2)=7,C191<>\"\"),E191<D191,C192=\"\"),ColTime($AF$1,$AG$1,'Hele året'!$AF$1,E191),IF(AND(WEEKDAY(A191,2)<6,C192=\"\"),ColTime(T.!$J$5,T.!$L$5,D191,E191),\"\"))),\"\")","v":""},null,"",{"$f":"IFERROR(IF(AND(WEEKDAY(A191,2)<6,C192<>\"\",C191=\"\"),ColTime(T.!$J$7,T.!$L$7,$AF$1,'Hele året'!E191),IF(AND(C191<>\"\",C192<>\"\"),ColTime(T.!$J$7,T.!$L$7,'Hele året'!D191,'Hele året'!E191),IF(AND(OR(WEEKDAY(A191,2)<6,WEEKDAY(A191,2)=6),C191<>\"\",E191<D191),ColTime(T.!$J$7,T.!$L$7,D191,AF188),IF(AND(WEEKDAY(A191,2)=6,E191<D191),ColTime(T.!$J$7,T.!$L$7,$AF$1,E191),IF(AND(E191<D191,OR(C191<>\"\",WEEKDAY(A191,2)=7)),ColTime(T.!J194,T.!L194,D191,$AF$1),IF(AND(E191<>\"\",OR(C191<>\"\",WEEKDAY(A191,2)=7)),ColTime(T.!$J$7,T.!$L$7,D191,E191),\"\")))))),\"\")","v":""},"",null,null,{"$f":"IFERROR(CHOOSE(WEEKDAY(A191,2),norm!C$1,norm!C$2,norm!C$3,norm!C$4,norm!C$5,norm!C$6,norm!C$7),\"\")","v":"00:00:00"}]
["2019-07-08","Ma","",null,null,null,"","00:00:00","",{"$f":"IF(AND(C192=\"\",WEEKDAY(A192,2)<6),ColTime(T.!$J$4,T.!$L$4,D192,E192),\"\")","v":"00:00:00"},null,{"$f":"IFERROR(IF(AND(WEEKDAY(A192,2)<6,C193<>\"\",E192<D192,C192=\"\"),ColTime($AE$1,$AF$1,D192,E192),IF(AND(OR(WEEKDAY(A192,2)=7,C192<>\"\"),E192<D192,C193=\"\"),ColTime($AF$1,$AG$1,'Hele året'!$AF$1,E192),IF(AND(WEEKDAY(A192,2)<6,C193=\"\"),ColTime(T.!$J$5,T.!$L$5,D192,E192),\"\"))),\"\")","v":"00:00:00"},null,"",{"$f":"IFERROR(IF(AND(WEEKDAY(A192,2)<6,C193<>\"\",C192=\"\"),ColTime(T.!$J$7,T.!$L$7,$AF$1,'Hele året'!E192),IF(AND(C192<>\"\",C193<>\"\"),ColTime(T.!$J$7,T.!$L$7,'Hele året'!D192,'Hele året'!E192),IF(AND(OR(WEEKDAY(A192,2)<6,WEEKDAY(A192,2)=6),C192<>\"\",E192<D192),ColTime(T.!$J$7,T.!$L$7,D192,AF189),IF(AND(WEEKDAY(A192,2)=6,E192<D192),ColTime(T.!$J$7,T.!$L$7,$AF$1,E192),IF(AND(E192<D192,OR(C192<>\"\",WEEKDAY(A192,2)=7)),ColTime(T.!J195,T.!L195,D192,$AF$1),IF(AND(E192<>\"\",OR(C192<>\"\",WEEKDAY(A192,2)=7)),ColTime(T.!$J$7,T.!$L$7,D192,E192),\"\")))))),\"\")","v":""},"",null,null,{"$f":"IFERROR(CHOOSE(WEEKDAY(A192,2),norm!C$1,norm!C$2,norm!C$3,norm!C$4,norm!C$5,norm!C$6,norm!C$7),\"\")","v":"07:30:00"}]
["2019-07-09","Ti","",null,null,null,"","00:00:00","",{"$f":"IF(AND(C193=\"\",WEEKDAY(A193,2)<6),ColTime(T.!$J$4,T.!$L$4,D193,E193),\"\")","v":"00:00:00"},null,{"$f":"IFERROR(IF(AND(WEEKDAY(A193,2)<6,C194<>\"\",E193<D193,C193=\"\"),ColTime($AE$1,$AF$1,D193,E193),IF(AND(OR(WEEKDAY(A193,2)=7,C193<>\"\"),E193<D193,C194=\"\"),ColTime($AF$1,$AG$1,'Hele året'!$AF$1,E193),IF(AND(WEEKDAY(A193,2)<6,C194=\"\"),ColTime(T.!$J$5,T.!$L$5,D193,E193),\"\"))),\"\")","v":"00:00:00"},null,"",{"$f":"IFERROR(IF(AND(WEEKDAY(A193,2)<6,C194<>\"\",C193=\"\"),ColTime(T.!$J$7,T.!$L$7,$AF$1,'Hele året'!E193),IF(AND(C193<>\"\",C194<>\"\"),ColTime(T.!$J$7,T.!$L$7,'Hele året'!D193,'Hele året'!E193),IF(AND(OR(WEEKDAY(A193,2)<6,WEEKDAY(A193,2)=6),C193<>\"\",E193<D193),ColTime(T.!$J$7,T.!$L$7,D193,AF190),IF(AND(WEEKDAY(A193,2)=6,E193<D193),ColTime(T.!$J$7,T.!$L$7,$AF$1,E193),IF(AND(E193<D193,OR(C193<>\"\",WEEKDAY(A193,2)=7)),ColTime(T.!J196,T.!L196,D193,$AF$1),IF(AND(E193<>\"\",OR(C193<>\"\",WEEKDAY(A193,2)=7)),ColTime(T.!$J$7,T.!$L$7,D193,E193),\"\")))))),\"\")","v":""},"",null,null,{"$f":"IFERROR(CHOOSE(WEEKDAY(A193,2),norm!C$1,norm!C$2,norm!C$3,norm!C$4,norm!C$5,norm!C$6,norm!C$7),\"\")","v":"07:30:00"}]
["2019-07-10","On","",null,null,null,"","00:00:00","",{"$f":"IF(AND(C194=\"\",WEEKDAY(A194,2)<6),ColTime(T.!$J$4,T.!$L$4,D194,E194),\"\")","v":"00:00:00"},null,{"$f":"IFERROR(IF(AND(WEEKDAY(A194,2)<6,C195<>\"\",E194<D194,C194=\"\"),ColTime($AE$1,$AF$1,D194,E194),IF(AND(OR(WEEKDAY(A194,2)=7,C194<>\"\"),E194<D194,C195=\"\"),ColTime($AF$1,$AG$1,'Hele året'!$AF$1,E194),IF(AND(WEEKDAY(A194,2)<6,C195=\"\"),ColTime(T.!$J$5,T.!$L$5,D194,E194),\"\"))),\"\")","v":"00:00:00"},null,"",{"$f":"IFERROR(IF(AND(WEEKDAY(A194,2)<6,C195<>\"\",C194=\"\"),ColTime(T.!$J$7,T.!$L$7,$AF$1,'Hele året'!E194),IF(AND(C194<>\"\",C195<>\"\"),ColTime(T.!$J$7,T.!$L$7,'Hele året'!D194,'Hele året'!E194),IF(AND(OR(WEEKDAY(A194,2)<6,WEEKDAY(A194,2)=6),C194<>\"\",E194<D194),ColTime(T.!$J$7,T.!$L$7,D194,AF191),IF(AND(WEEKDAY(A194,2)=6,E194<D194),ColTime(T.!$J$7,T.!$L$7,$AF$1,E194),IF(AND(E194<D194,OR(C194<>\"\",WEEKDAY(A194,2)=7)),ColTime(T.!J197,T.!L197,D194,$AF$1),IF(AND(E194<>\"\",OR(C194<>\"\",WEEKDAY(A194,2)=7)),ColTime(T.!$J$7,T.!$L$7,D194,E194),\"\")))))),\"\")","v":""},"",null,null,{"$f":"IFERROR(CHOOSE(WEEKDAY(A194,2),norm!C$1,norm!C$2,norm!C$3,norm!C$4,norm!C$5,norm!C$6,norm!C$7),\"\")","v":"07:30:00"}]
["2019-07-11","To","",null,null,null,"","00:00:00","",{"$f":"IF(AND(C195=\"\",WEEKDAY(A195,2)<6),ColTime(T.!$J$4,T.!$L$4,D195,E195),\"\")","v":"00:00:00"},null,{"$f":"IFERROR(IF(AND(WEEKDAY(A195,2)<6,C196<>\"\",E195<D195,C195=\"\"),ColTime($AE$1,$AF$1,D195,E195),IF(AND(OR(WEEKDAY(A195,2)=7,C195<>\"\"),E195<D195,C196=\"\"),ColTime($AF$1,$AG$1,'Hele året'!$AF$1,E195),IF(AND(WEEKDAY(A195,2)<6,C196=\"\"),ColTime(T.!$J$5,T.!$L$5,D195,E195),\"\"))),\"\")","v":"00:00:00"},null,"",{"$f":"IFERROR(IF(AND(WEEKDAY(A195,2)<6,C196<>\"\",C195=\"\"),ColTime(T.!$J$7,T.!$L$7,$AF$1,'Hele året'!E195),IF(AND(C195<>\"\",C196<>\"\"),ColTime(T.!$J$7,T.!$L$7,'Hele året'!D195,'Hele året'!E195),IF(AND(OR(WEEKDAY(A195,2)<6,WEEKDAY(A195,2)=6),C195<>\"\",E195<D195),ColTime(T.!$J$7,T.!$L$7,D195,AF192),IF(AND(WEEKDAY(A195,2)=6,E195<D195),ColTime(T.!$J$7,T.!$L$7,$AF$1,E195),IF(AND(E195<D195,OR(C195<>\"\",WEEKDAY(A195,2)=7)),ColTime(T.!J198,T.!L198,D195,$AF$1),IF(AND(E195<>\"\",OR(C195<>\"\",WEEKDAY(A195,2)=7)),ColTime(T.!$J$7,T.!$L$7,D195,E195),\"\")))))),\"\")","v":""},"",null,null,{"$f":"IFERROR(CHOOSE(WEEKDAY(A195,2),norm!C$1,norm!C$2,norm!C$3,norm!C$4,norm!C$5,norm!C$6,norm!C$7),\"\")","v":"07:30:00"}]
["2019-07-12","Fr","",null,null,null,"","00:00:00","",{"$f":"IF(AND(C196=\"\",WEEKDAY(A196,2)<6),ColTime(T.!$J$4,T.!$L$4,D196,E196),\"\")","v":"00:00:00"},null,{"$f":"IFERROR(IF(AND(WEEKDAY(A196,2)<6,C197<>\"\",E196<D196,C196=\"\"),ColTime($AE$1,$AF$1,D196,E196),IF(AND(OR(WEEKDAY(A196,2)=7,C196<>\"\"),E196<D196,C197=\"\"),ColTime($AF$1,$AG$1,'Hele året'!$AF$1,E196),IF(AND(WEEKDAY(A196,2)<6,C197=\"\"),ColTime(T.!$J$5,T.!$L$5,D196,E196),\"\"))),\"\")","v":"00:00:00"},null,"",{"$f":"IFERROR(IF(AND(WEEKDAY(A196,2)<6,C197<>\"\",C196=\"\"),ColTime(T.!$J$7,T.!$L$7,$AF$1,'Hele året'!E196),IF(AND(C196<>\"\",C197<>\"\"),ColTime(T.!$J$7,T.!$L$7,'Hele året'!D196,'Hele året'!E196),IF(AND(OR(WEEKDAY(A196,2)<6,WEEKDAY(A196,2)=6),C196<>\"\",E196<D196),ColTime(T.!$J$7,T.!$L$7,D196,AF193),IF(AND(WEEKDAY(A196,2)=6,E196<D196),ColTime(T.!$J$7,T.!$L$7,$AF$1,E196),IF(AND(E196<D196,OR(C196<>\"\",WEEKDAY(A196,2)=7)),ColTime(T.!J199,T.!L199,D196,$AF$1),IF(AND(E196<>\"\",OR(C196<>\"\",WEEKDAY(A196,2)=7)),ColTime(T.!$J$7,T.!$L$7,D196,E196),\"\")))))),\"\")","v":""},"",null,null,{"$f":"IFERROR(CHOOSE(WEEKDAY(A196,2),norm!C$1,norm!C$2,norm!C$3,norm!C$4,norm!C$5,norm!C$6,norm!C$7),\"\")","v":"07:00:00"}]
["2019-07-13","Lø","",null,null,null,"","00:00:00","",{"$f":"IF(AND(C197=\"\",WEEKDAY(A197,2)<6),ColTime(T.!$J$4,T.!$L$4,D197,E197),\"\")","v":""},null,{"$f":"IFERROR(IF(AND(WEEKDAY(A197,2)<6,C198<>\"\",E197<D197,C197=\"\"),ColTime($AE$1,$AF$1,D197,E197),IF(AND(OR(WEEKDAY(A197,2)=7,C197<>\"\"),E197<D197,C198=\"\"),ColTime($AF$1,$AG$1,'Hele året'!$AF$1,E197),IF(AND(WEEKDAY(A197,2)<6,C198=\"\"),ColTime(T.!$J$5,T.!$L$5,D197,E197),\"\"))),\"\")","v":""},null,"00:00:00",{"$f":"IFERROR(IF(AND(WEEKDAY(A197,2)<6,C198<>\"\",C197=\"\"),ColTime(T.!$J$7,T.!$L$7,$AF$1,'Hele året'!E197),IF(AND(C197<>\"\",C198<>\"\"),ColTime(T.!$J$7,T.!$L$7,'Hele året'!D197,'Hele året'!E197),IF(AND(OR(WEEKDAY(A197,2)<6,WEEKDAY(A197,2)=6),C197<>\"\",E197<D197),ColTime(T.!$J$7,T.!$L$7,D197,AF194),IF(AND(WEEKDAY(A197,2)=6,E197<D197),ColTime(T.!$J$7,T.!$L$7,$AF$1,E197),IF(AND(E197<D197,OR(C197<>\"\",WEEKDAY(A197,2)=7)),ColTime(T.!J200,T.!L200,D197,$AF$1),IF(AND(E197<>\"\",OR(C197<>\"\",WEEKDAY(A197,2)=7)),ColTime(T.!$J$7,T.!$L$7,D197,E197),\"\")))))),\"\")","v":""},"",null,null,{"$f":"IFERROR(CHOOSE(WEEKDAY(A197,2),norm!C$1,norm!C$2,norm!C$3,norm!C$4,norm!C$5,norm!C$6,norm!C$7),\"\")","v":"00:00:00"}]
["2019-07-14","Sø","",null,null,null,"","00:00:00","",{"$f":"IF(AND(C198=\"\",WEEKDAY(A198,2)<6),ColTime(T.!$J$4,T.!$L$4,D198,E198),\"\")","v":""},null,{"$f":"IFERROR(IF(AND(WEEKDAY(A198,2)<6,C199<>\"\",E198<D198,C198=\"\"),ColTime($AE$1,$AF$1,D198,E198),IF(AND(OR(WEEKDAY(A198,2)=7,C198<>\"\"),E198<D198,C199=\"\"),ColTime($AF$1,$AG$1,'Hele året'!$AF$1,E198),IF(AND(WEEKDAY(A198,2)<6,C199=\"\"),ColTime(T.!$J$5,T.!$L$5,D198,E198),\"\"))),\"\")","v":""},null,"",{"$f":"IFERROR(IF(AND(WEEKDAY(A198,2)<6,C199<>\"\",C198=\"\"),ColTime(T.!$J$7,T.!$L$7,$AF$1,'Hele året'!E198),IF(AND(C198<>\"\",C199<>\"\"),ColTime(T.!$J$7,T.!$L$7,'Hele året'!D198,'Hele året'!E198),IF(AND(OR(WEEKDAY(A198,2)<6,WEEKDAY(A198,2)=6),C198<>\"\",E198<D198),ColTime(T.!$J$7,T.!$L$7,D198,AF195),IF(AND(WEEKDAY(A198,2)=6,E198<D198),ColTime(T.!$J$7,T.!$L$7,$AF$1,E198),IF(AND(E198<D198,OR(C198<>\"\",WEEKDAY(A198,2)=7)),ColTime(T.!J201,T.!L201,D198,$AF$1),IF(AND(E198<>\"\",OR(C198<>\"\",WEEKDAY(A198,2)=7)),ColTime(T.!$J$7,T.!$L$7,D198,E198),\"\")))))),\"\")","v":""},"",null,null,{"$f":"IFERROR(CHOOSE(WEEKDAY(A198,2),norm!C$1,norm!C$2,norm!C$3,norm!C$4,norm!C$5,norm!C$6,norm!C$7),\"\")","v":"00:00:00"}]
["2019-07-15","Ma","",null,null,null,"","00:00:00","",{"$f":"IF(AND(C199=\"\",WEEKDAY(A199,2)<6),ColTime(T.!$J$4,T.!$L$4,D199,E199),\"\")","v":"00:00:00"},null,{"$f":"IFERROR(IF(AND(WEEKDAY(A199,2)<6,C200<>\"\",E199<D199,C199=\"\"),ColTime($AE$1,$AF$1,D199,E199),IF(AND(OR(WEEKDAY(A199,2)=7,C199<>\"\"),E199<D199,C200=\"\"),ColTime($AF$1,$AG$1,'Hele året'!$AF$1,E199),IF(AND(WEEKDAY(A199,2)<6,C200=\"\"),ColTime(T.!$J$5,T.!$L$5,D199,E199),\"\"))),\"\")","v":"00:00:00"},null,"",{"$f":"IFERROR(IF(AND(WEEKDAY(A199,2)<6,C200<>\"\",C199=\"\"),ColTime(T.!$J$7,T.!$L$7,$AF$1,'Hele året'!E199),IF(AND(C199<>\"\",C200<>\"\"),ColTime(T.!$J$7,T.!$L$7,'Hele året'!D199,'Hele året'!E199),IF(AND(OR(WEEKDAY(A199,2)<6,WEEKDAY(A199,2)=6),C199<>\"\",E199<D199),ColTime(T.!$J$7,T.!$L$7,D199,AF196),IF(AND(WEEKDAY(A199,2)=6,E199<D199),ColTime(T.!$J$7,T.!$L$7,$AF$1,E199),IF(AND(E199<D199,OR(C199<>\"\",WEEKDAY(A199,2)=7)),ColTime(T.!J202,T.!L202,D199,$AF$1),IF(AND(E199<>\"\",OR(C199<>\"\",WEEKDAY(A199,2)=7)),ColTime(T.!$J$7,T.!$L$7,D199,E199),\"\")))))),\"\")","v":""},"",null,null,{"$f":"IFERROR(CHOOSE(WEEKDAY(A199,2),norm!C$1,norm!C$2,norm!C$3,norm!C$4,norm!C$5,norm!C$6,norm!C$7),\"\")","v":"07:30:00"}]
["2019-07-16","Ti","",null,null,null,"","00:00:00","",{"$f":"IF(AND(C200=\"\",WEEKDAY(A200,2)<6),ColTime(T.!$J$4,T.!$L$4,D200,E200),\"\")","v":"00:00:00"},null,{"$f":"IFERROR(IF(AND(WEEKDAY(A200,2)<6,C201<>\"\",E200<D200,C200=\"\"),ColTime($AE$1,$AF$1,D200,E200),IF(AND(OR(WEEKDAY(A200,2)=7,C200<>\"\"),E200<D200,C201=\"\"),ColTime($AF$1,$AG$1,'Hele året'!$AF$1,E200),IF(AND(WEEKDAY(A200,2)<6,C201=\"\"),ColTime(T.!$J$5,T.!$L$5,D200,E200),\"\"))),\"\")","v":"00:00:00"},null,"",{"$f":"IFERROR(IF(AND(WEEKDAY(A200,2)<6,C201<>\"\",C200=\"\"),ColTime(T.!$J$7,T.!$L$7,$AF$1,'Hele året'!E200),IF(AND(C200<>\"\",C201<>\"\"),ColTime(T.!$J$7,T.!$L$7,'Hele året'!D200,'Hele året'!E200),IF(AND(OR(WEEKDAY(A200,2)<6,WEEKDAY(A200,2)=6),C200<>\"\",E200<D200),ColTime(T.!$J$7,T.!$L$7,D200,AF197),IF(AND(WEEKDAY(A200,2)=6,E200<D200),ColTime(T.!$J$7,T.!$L$7,$AF$1,E200),IF(AND(E200<D200,OR(C200<>\"\",WEEKDAY(A200,2)=7)),ColTime(T.!J203,T.!L203,D200,$AF$1),IF(AND(E200<>\"\",OR(C200<>\"\",WEEKDAY(A200,2)=7)),ColTime(T.!$J$7,T.!$L$7,D200,E200),\"\")))))),\"\")","v":""},"",null,null,{"$f":"IFERROR(CHOOSE(WEEKDAY(A200,2),norm!C$1,norm!C$2,norm!C$3,norm!C$4,norm!C$5,norm!C$6,norm!C$7),\"\")","v":"07:30:00"}]
["2019-07-17","On","",null,null,null,"","00:00:00","",{"$f":"IF(AND(C201=\"\",WEEKDAY(A201,2)<6),ColTime(T.!$J$4,T.!$L$4,D201,E201),\"\")","v":"00:00:00"},null,{"$f":"IFERROR(IF(AND(WEEKDAY(A201,2)<6,C202<>\"\",E201<D201,C201=\"\"),ColTime($AE$1,$AF$1,D201,E201),IF(AND(OR(WEEKDAY(A201,2)=7,C201<>\"\"),E201<D201,C202=\"\"),ColTime($AF$1,$AG$1,'Hele året'!$AF$1,E201),IF(AND(WEEKDAY(A201,2)<6,C202=\"\"),ColTime(T.!$J$5,T.!$L$5,D201,E201),\"\"))),\"\")","v":"00:00:00"},null,"",{"$f":"IFERROR(IF(AND(WEEKDAY(A201,2)<6,C202<>\"\",C201=\"\"),ColTime(T.!$J$7,T.!$L$7,$AF$1,'Hele året'!E201),IF(AND(C201<>\"\",C202<>\"\"),ColTime(T.!$J$7,T.!$L$7,'Hele året'!D201,'Hele året'!E201),IF(AND(OR(WEEKDAY(A201,2)<6,WEEKDAY(A201,2)=6),C201<>\"\",E201<D201),ColTime(T.!$J$7,T.!$L$7,D201,AF198),IF(AND(WEEKDAY(A201,2)=6,E201<D201),ColTime(T.!$J$7,T.!$L$7,$AF$1,E201),IF(AND(E201<D201,OR(C201<>\"\",WEEKDAY(A201,2)=7)),ColTime(T.!J204,T.!L204,D201,$AF$1),IF(AND(E201<>\"\",OR(C201<>\"\",WEEKDAY(A201,2)=7)),ColTime(T.!$J$7,T.!$L$7,D201,E201),\"\")))))),\"\")","v":""},"",null,null,{"$f":"IFERROR(CHOOSE(WEEKDAY(A201,2),norm!C$1,norm!C$2,norm!C$3,norm!C$4,norm!C$5,norm!C$6,norm!C$7),\"\")","v":"07:30:00"}]
["2019-07-18","To","",null,null,null,"","00:00:00","",{"$f":"IF(AND(C202=\"\",WEEKDAY(A202,2)<6),ColTime(T.!$J$4,T.!$L$4,D202,E202),\"\")","v":"00:00:00"},null,{"$f":"IFERROR(IF(AND(WEEKDAY(A202,2)<6,C203<>\"\",E202<D202,C202=\"\"),ColTime($AE$1,$AF$1,D202,E202),IF(AND(OR(WEEKDAY(A202,2)=7,C202<>\"\"),E202<D202,C203=\"\"),ColTime($AF$1,$AG$1,'Hele året'!$AF$1,E202),IF(AND(WEEKDAY(A202,2)<6,C203=\"\"),ColTime(T.!$J$5,T.!$L$5,D202,E202),\"\"))),\"\")","v":"00:00:00"},null,"",{"$f":"IFERROR(IF(AND(WEEKDAY(A202,2)<6,C203<>\"\",C202=\"\"),ColTime(T.!$J$7,T.!$L$7,$AF$1,'Hele året'!E202),IF(AND(C202<>\"\",C203<>\"\"),ColTime(T.!$J$7,T.!$L$7,'Hele året'!D202,'Hele året'!E202),IF(AND(OR(WEEKDAY(A202,2)<6,WEEKDAY(A202,2)=6),C202<>\"\",E202<D202),ColTime(T.!$J$7,T.!$L$7,D202,AF199),IF(AND(WEEKDAY(A202,2)=6,E202<D202),ColTime(T.!$J$7,T.!$L$7,$AF$1,E202),IF(AND(E202<D202,OR(C202<>\"\",WEEKDAY(A202,2)=7)),ColTime(T.!J205,T.!L205,D202,$AF$1),IF(AND(E202<>\"\",OR(C202<>\"\",WEEKDAY(A202,2)=7)),ColTime(T.!$J$7,T.!$L$7,D202,E202),\"\")))))),\"\")","v":""},"",null,null,{"$f":"IFERROR(CHOOSE(WEEKDAY(A202,2),norm!C$1,norm!C$2,norm!C$3,norm!C$4,norm!C$5,norm!C$6,norm!C$7),\"\")","v":"07:30:00"}]
["2019-07-19","Fr","",null,null,null,"","00:00:00","",{"$f":"IF(AND(C203=\"\",WEEKDAY(A203,2)<6),ColTime(T.!$J$4,T.!$L$4,D203,E203),\"\")","v":"00:00:00"},null,{"$f":"IFERROR(IF(AND(WEEKDAY(A203,2)<6,C204<>\"\",E203<D203,C203=\"\"),ColTime($AE$1,$AF$1,D203,E203),IF(AND(OR(WEEKDAY(A203,2)=7,C203<>\"\"),E203<D203,C204=\"\"),ColTime($AF$1,$AG$1,'Hele året'!$AF$1,E203),IF(AND(WEEKDAY(A203,2)<6,C204=\"\"),ColTime(T.!$J$5,T.!$L$5,D203,E203),\"\"))),\"\")","v":"00:00:00"},null,"",{"$f":"IFERROR(IF(AND(WEEKDAY(A203,2)<6,C204<>\"\",C203=\"\"),ColTime(T.!$J$7,T.!$L$7,$AF$1,'Hele året'!E203),IF(AND(C203<>\"\",C204<>\"\"),ColTime(T.!$J$7,T.!$L$7,'Hele året'!D203,'Hele året'!E203),IF(AND(OR(WEEKDAY(A203,2)<6,WEEKDAY(A203,2)=6),C203<>\"\",E203<D203),ColTime(T.!$J$7,T.!$L$7,D203,AF200),IF(AND(WEEKDAY(A203,2)=6,E203<D203),ColTime(T.!$J$7,T.!$L$7,$AF$1,E203),IF(AND(E203<D203,OR(C203<>\"\",WEEKDAY(A203,2)=7)),ColTime(T.!J206,T.!L206,D203,$AF$1),IF(AND(E203<>\"\",OR(C203<>\"\",WEEKDAY(A203,2)=7)),ColTime(T.!$J$7,T.!$L$7,D203,E203),\"\")))))),\"\")","v":""},"",null,null,{"$f":"IFERROR(CHOOSE(WEEKDAY(A203,2),norm!C$1,norm!C$2,norm!C$3,norm!C$4,norm!C$5,norm!C$6,norm!C$7),\"\")","v":"07:00:00"}]
["2019-07-20","Lø","",null,null,null,"","00:00:00","",{"$f":"IF(AND(C204=\"\",WEEKDAY(A204,2)<6),ColTime(T.!$J$4,T.!$L$4,D204,E204),\"\")","v":""},null,{"$f":"IFERROR(IF(AND(WEEKDAY(A204,2)<6,C205<>\"\",E204<D204,C204=\"\"),ColTime($AE$1,$AF$1,D204,E204),IF(AND(OR(WEEKDAY(A204,2)=7,C204<>\"\"),E204<D204,C205=\"\"),ColTime($AF$1,$AG$1,'Hele året'!$AF$1,E204),IF(AND(WEEKDAY(A204,2)<6,C205=\"\"),ColTime(T.!$J$5,T.!$L$5,D204,E204),\"\"))),\"\")","v":""},null,"00:00:00",{"$f":"IFERROR(IF(AND(WEEKDAY(A204,2)<6,C205<>\"\",C204=\"\"),ColTime(T.!$J$7,T.!$L$7,$AF$1,'Hele året'!E204),IF(AND(C204<>\"\",C205<>\"\"),ColTime(T.!$J$7,T.!$L$7,'Hele året'!D204,'Hele året'!E204),IF(AND(OR(WEEKDAY(A204,2)<6,WEEKDAY(A204,2)=6),C204<>\"\",E204<D204),ColTime(T.!$J$7,T.!$L$7,D204,AF201),IF(AND(WEEKDAY(A204,2)=6,E204<D204),ColTime(T.!$J$7,T.!$L$7,$AF$1,E204),IF(AND(E204<D204,OR(C204<>\"\",WEEKDAY(A204,2)=7)),ColTime(T.!J207,T.!L207,D204,$AF$1),IF(AND(E204<>\"\",OR(C204<>\"\",WEEKDAY(A204,2)=7)),ColTime(T.!$J$7,T.!$L$7,D204,E204),\"\")))))),\"\")","v":""},"",null,null,{"$f":"IFERROR(CHOOSE(WEEKDAY(A204,2),norm!C$1,norm!C$2,norm!C$3,norm!C$4,norm!C$5,norm!C$6,norm!C$7),\"\")","v":"00:00:00"}]
["2019-07-21","Sø","",null,null,null,"","00:00:00","",{"$f":"IF(AND(C205=\"\",WEEKDAY(A205,2)<6),ColTime(T.!$J$4,T.!$L$4,D205,E205),\"\")","v":""},null,{"$f":"IFERROR(IF(AND(WEEKDAY(A205,2)<6,C206<>\"\",E205<D205,C205=\"\"),ColTime($AE$1,$AF$1,D205,E205),IF(AND(OR(WEEKDAY(A205,2)=7,C205<>\"\"),E205<D205,C206=\"\"),ColTime($AF$1,$AG$1,'Hele året'!$AF$1,E205),IF(AND(WEEKDAY(A205,2)<6,C206=\"\"),ColTime(T.!$J$5,T.!$L$5,D205,E205),\"\"))),\"\")","v":""},null,"",{"$f":"IFERROR(IF(AND(WEEKDAY(A205,2)<6,C206<>\"\",C205=\"\"),ColTime(T.!$J$7,T.!$L$7,$AF$1,'Hele året'!E205),IF(AND(C205<>\"\",C206<>\"\"),ColTime(T.!$J$7,T.!$L$7,'Hele året'!D205,'Hele året'!E205),IF(AND(OR(WEEKDAY(A205,2)<6,WEEKDAY(A205,2)=6),C205<>\"\",E205<D205),ColTime(T.!$J$7,T.!$L$7,D205,AF202),IF(AND(WEEKDAY(A205,2)=6,E205<D205),ColTime(T.!$J$7,T.!$L$7,$AF$1,E205),IF(AND(E205<D205,OR(C205<>\"\",WEEKDAY(A205,2)=7)),ColTime(T.!J208,T.!L208,D205,$AF$1),IF(AND(E205<>\"\",OR(C205<>\"\",WEEKDAY(A205,2)=7)),ColTime(T.!$J$7,T.!$L$7,D205,E205),\"\")))))),\"\")","v":""},"",null,null,{"$f":"IFERROR(CHOOSE(WEEKDAY(A205,2),norm!C$1,norm!C$2,norm!C$3,norm!C$4,norm!C$5,norm!C$6,norm!C$7),\"\")","v":"00:00:00"}]
["2019-07-22","Ma","",null,null,null,"","00:00:00","",{"$f":"IF(AND(C206=\"\",WEEKDAY(A206,2)<6),ColTime(T.!$J$4,T.!$L$4,D206,E206),\"\")","v":"00:00:00"},null,{"$f":"IFERROR(IF(AND(WEEKDAY(A206,2)<6,C207<>\"\",E206<D206,C206=\"\"),ColTime($AE$1,$AF$1,D206,E206),IF(AND(OR(WEEKDAY(A206,2)=7,C206<>\"\"),E206<D206,C207=\"\"),ColTime($AF$1,$AG$1,'Hele året'!$AF$1,E206),IF(AND(WEEKDAY(A206,2)<6,C207=\"\"),ColTime(T.!$J$5,T.!$L$5,D206,E206),\"\"))),\"\")","v":"00:00:00"},null,"",{"$f":"IFERROR(IF(AND(WEEKDAY(A206,2)<6,C207<>\"\",C206=\"\"),ColTime(T.!$J$7,T.!$L$7,$AF$1,'Hele året'!E206),IF(AND(C206<>\"\",C207<>\"\"),ColTime(T.!$J$7,T.!$L$7,'Hele året'!D206,'Hele året'!E206),IF(AND(OR(WEEKDAY(A206,2)<6,WEEKDAY(A206,2)=6),C206<>\"\",E206<D206),ColTime(T.!$J$7,T.!$L$7,D206,AF203),IF(AND(WEEKDAY(A206,2)=6,E206<D206),ColTime(T.!$J$7,T.!$L$7,$AF$1,E206),IF(AND(E206<D206,OR(C206<>\"\",WEEKDAY(A206,2)=7)),ColTime(T.!J209,T.!L209,D206,$AF$1),IF(AND(E206<>\"\",OR(C206<>\"\",WEEKDAY(A206,2)=7)),ColTime(T.!$J$7,T.!$L$7,D206,E206),\"\")))))),\"\")","v":""},"",null,null,{"$f":"IFERROR(CHOOSE(WEEKDAY(A206,2),norm!C$1,norm!C$2,norm!C$3,norm!C$4,norm!C$5,norm!C$6,norm!C$7),\"\")","v":"07:30:00"}]
["2019-07-23","Ti","",null,null,null,"","00:00:00","",{"$f":"IF(AND(C207=\"\",WEEKDAY(A207,2)<6),ColTime(T.!$J$4,T.!$L$4,D207,E207),\"\")","v":"00:00:00"},null,{"$f":"IFERROR(IF(AND(WEEKDAY(A207,2)<6,C208<>\"\",E207<D207,C207=\"\"),ColTime($AE$1,$AF$1,D207,E207),IF(AND(OR(WEEKDAY(A207,2)=7,C207<>\"\"),E207<D207,C208=\"\"),ColTime($AF$1,$AG$1,'Hele året'!$AF$1,E207),IF(AND(WEEKDAY(A207,2)<6,C208=\"\"),ColTime(T.!$J$5,T.!$L$5,D207,E207),\"\"))),\"\")","v":"00:00:00"},null,"",{"$f":"IFERROR(IF(AND(WEEKDAY(A207,2)<6,C208<>\"\",C207=\"\"),ColTime(T.!$J$7,T.!$L$7,$AF$1,'Hele året'!E207),IF(AND(C207<>\"\",C208<>\"\"),ColTime(T.!$J$7,T.!$L$7,'Hele året'!D207,'Hele året'!E207),IF(AND(OR(WEEKDAY(A207,2)<6,WEEKDAY(A207,2)=6),C207<>\"\",E207<D207),ColTime(T.!$J$7,T.!$L$7,D207,AF204),IF(AND(WEEKDAY(A207,2)=6,E207<D207),ColTime(T.!$J$7,T.!$L$7,$AF$1,E207),IF(AND(E207<D207,OR(C207<>\"\",WEEKDAY(A207,2)=7)),ColTime(T.!J210,T.!L210,D207,$AF$1),IF(AND(E207<>\"\",OR(C207<>\"\",WEEKDAY(A207,2)=7)),ColTime(T.!$J$7,T.!$L$7,D207,E207),\"\")))))),\"\")","v":""},"",null,null,{"$f":"IFERROR(CHOOSE(WEEKDAY(A207,2),norm!C$1,norm!C$2,norm!C$3,norm!C$4,norm!C$5,norm!C$6,norm!C$7),\"\")","v":"07:30:00"}]
["2019-07-24","On","",null,null,null,"","00:00:00","",{"$f":"IF(AND(C208=\"\",WEEKDAY(A208,2)<6),ColTime(T.!$J$4,T.!$L$4,D208,E208),\"\")","v":"00:00:00"},null,{"$f":"IFERROR(IF(AND(WEEKDAY(A208,2)<6,C209<>\"\",E208<D208,C208=\"\"),ColTime($AE$1,$AF$1,D208,E208),IF(AND(OR(WEEKDAY(A208,2)=7,C208<>\"\"),E208<D208,C209=\"\"),ColTime($AF$1,$AG$1,'Hele året'!$AF$1,E208),IF(AND(WEEKDAY(A208,2)<6,C209=\"\"),ColTime(T.!$J$5,T.!$L$5,D208,E208),\"\"))),\"\")","v":"00:00:00"},null,"",{"$f":"IFERROR(IF(AND(WEEKDAY(A208,2)<6,C209<>\"\",C208=\"\"),ColTime(T.!$J$7,T.!$L$7,$AF$1,'Hele året'!E208),IF(AND(C208<>\"\",C209<>\"\"),ColTime(T.!$J$7,T.!$L$7,'Hele året'!D208,'Hele året'!E208),IF(AND(OR(WEEKDAY(A208,2)<6,WEEKDAY(A208,2)=6),C208<>\"\",E208<D208),ColTime(T.!$J$7,T.!$L$7,D208,AF205),IF(AND(WEEKDAY(A208,2)=6,E208<D208),ColTime(T.!$J$7,T.!$L$7,$AF$1,E208),IF(AND(E208<D208,OR(C208<>\"\",WEEKDAY(A208,2)=7)),ColTime(T.!J211,T.!L211,D208,$AF$1),IF(AND(E208<>\"\",OR(C208<>\"\",WEEKDAY(A208,2)=7)),ColTime(T.!$J$7,T.!$L$7,D208,E208),\"\")))))),\"\")","v":""},"",null,null,{"$f":"IFERROR(CHOOSE(WEEKDAY(A208,2),norm!C$1,norm!C$2,norm!C$3,norm!C$4,norm!C$5,norm!C$6,norm!C$7),\"\")","v":"07:30:00"}]
["2019-07-25","To",{"$f":"IF(A209=\"\",\"\",HelligdagsNavn(A209,0,0))","v":""},null,null,null,"","00:00:00","",{"$f":"IF(AND(C209=\"\",WEEKDAY(A209,2)<6),ColTime(T.!$J$4,T.!$L$4,D209,E209),\"\")","v":"00:00:00"},null,{"$f":"IFERROR(IF(AND(WEEKDAY(A209,2)<6,C210<>\"\",E209<D209,C209=\"\"),ColTime($AE$1,$AF$1,D209,E209),IF(AND(OR(WEEKDAY(A209,2)=7,C209<>\"\"),E209<D209,C210=\"\"),ColTime($AF$1,$AG$1,'Hele året'!$AF$1,E209),IF(AND(WEEKDAY(A209,2)<6,C210=\"\"),ColTime(T.!$J$5,T.!$L$5,D209,E209),\"\"))),\"\")","v":"00:00:00"},null,"",{"$f":"IFERROR(IF(AND(WEEKDAY(A209,2)<6,C210<>\"\",C209=\"\"),ColTime(T.!$J$7,T.!$L$7,$AF$1,'Hele året'!E209),IF(AND(C209<>\"\",C210<>\"\"),ColTime(T.!$J$7,T.!$L$7,'Hele året'!D209,'Hele året'!E209),IF(AND(OR(WEEKDAY(A209,2)<6,WEEKDAY(A209,2)=6),C209<>\"\",E209<D209),ColTime(T.!$J$7,T.!$L$7,D209,AF206),IF(AND(WEEKDAY(A209,2)=6,E209<D209),ColTime(T.!$J$7,T.!$L$7,$AF$1,E209),IF(AND(E209<D209,OR(C209<>\"\",WEEKDAY(A209,2)=7)),ColTime(T.!J212,T.!L212,D209,$AF$1),IF(AND(E209<>\"\",OR(C209<>\"\",WEEKDAY(A209,2)=7)),ColTime(T.!$J$7,T.!$L$7,D209,E209),\"\")))))),\"\")","v":""},"",null,null,{"$f":"IFERROR(CHOOSE(WEEKDAY(A209,2),norm!C$1,norm!C$2,norm!C$3,norm!C$4,norm!C$5,norm!C$6,norm!C$7),\"\")","v":"07:30:00"}]
["2019-07-26","Fr","",null,null,null,"","00:00:00","",{"$f":"IF(AND(C210=\"\",WEEKDAY(A210,2)<6),ColTime(T.!$J$4,T.!$L$4,D210,E210),\"\")","v":"00:00:00"},null,{"$f":"IFERROR(IF(AND(WEEKDAY(A210,2)<6,C211<>\"\",E210<D210,C210=\"\"),ColTime($AE$1,$AF$1,D210,E210),IF(AND(OR(WEEKDAY(A210,2)=7,C210<>\"\"),E210<D210,C211=\"\"),ColTime($AF$1,$AG$1,'Hele året'!$AF$1,E210),IF(AND(WEEKDAY(A210,2)<6,C211=\"\"),ColTime(T.!$J$5,T.!$L$5,D210,E210),\"\"))),\"\")","v":"00:00:00"},null,"",{"$f":"IFERROR(IF(AND(WEEKDAY(A210,2)<6,C211<>\"\",C210=\"\"),ColTime(T.!$J$7,T.!$L$7,$AF$1,'Hele året'!E210),IF(AND(C210<>\"\",C211<>\"\"),ColTime(T.!$J$7,T.!$L$7,'Hele året'!D210,'Hele året'!E210),IF(AND(OR(WEEKDAY(A210,2)<6,WEEKDAY(A210,2)=6),C210<>\"\",E210<D210),ColTime(T.!$J$7,T.!$L$7,D210,AF207),IF(AND(WEEKDAY(A210,2)=6,E210<D210),ColTime(T.!$J$7,T.!$L$7,$AF$1,E210),IF(AND(E210<D210,OR(C210<>\"\",WEEKDAY(A210,2)=7)),ColTime(T.!J213,T.!L213,D210,$AF$1),IF(AND(E210<>\"\",OR(C210<>\"\",WEEKDAY(A210,2)=7)),ColTime(T.!$J$7,T.!$L$7,D210,E210),\"\")))))),\"\")","v":""},"",null,null,{"$f":"IFERROR(CHOOSE(WEEKDAY(A210,2),norm!C$1,norm!C$2,norm!C$3,norm!C$4,norm!C$5,norm!C$6,norm!C$7),\"\")","v":"07:00:00"}]
["2019-07-27","Lø","",null,null,null,"","00:00:00","",{"$f":"IF(AND(C211=\"\",WEEKDAY(A211,2)<6),ColTime(T.!$J$4,T.!$L$4,D211,E211),\"\")","v":""},null,{"$f":"IFERROR(IF(AND(WEEKDAY(A211,2)<6,C212<>\"\",E211<D211,C211=\"\"),ColTime($AE$1,$AF$1,D211,E211),IF(AND(OR(WEEKDAY(A211,2)=7,C211<>\"\"),E211<D211,C212=\"\"),ColTime($AF$1,$AG$1,'Hele året'!$AF$1,E211),IF(AND(WEEKDAY(A211,2)<6,C212=\"\"),ColTime(T.!$J$5,T.!$L$5,D211,E211),\"\"))),\"\")","v":""},null,"00:00:00",{"$f":"IFERROR(IF(AND(WEEKDAY(A211,2)<6,C212<>\"\",C211=\"\"),ColTime(T.!$J$7,T.!$L$7,$AF$1,'Hele året'!E211),IF(AND(C211<>\"\",C212<>\"\"),ColTime(T.!$J$7,T.!$L$7,'Hele året'!D211,'Hele året'!E211),IF(AND(OR(WEEKDAY(A211,2)<6,WEEKDAY(A211,2)=6),C211<>\"\",E211<D211),ColTime(T.!$J$7,T.!$L$7,D211,AF208),IF(AND(WEEKDAY(A211,2)=6,E211<D211),ColTime(T.!$J$7,T.!$L$7,$AF$1,E211),IF(AND(E211<D211,OR(C211<>\"\",WEEKDAY(A211,2)=7)),ColTime(T.!J214,T.!L214,D211,$AF$1),IF(AND(E211<>\"\",OR(C211<>\"\",WEEKDAY(A211,2)=7)),ColTime(T.!$J$7,T.!$L$7,D211,E211),\"\")))))),\"\")","v":""},"",null,null,{"$f":"IFERROR(CHOOSE(WEEKDAY(A211,2),norm!C$1,norm!C$2,norm!C$3,norm!C$4,norm!C$5,norm!C$6,norm!C$7),\"\")","v":"00:00:00"}]
["2019-07-28","Sø","",null,null,null,"","00:00:00","",{"$f":"IF(AND(C212=\"\",WEEKDAY(A212,2)<6),ColTime(T.!$J$4,T.!$L$4,D212,E212),\"\")","v":""},null,{"$f":"IFERROR(IF(AND(WEEKDAY(A212,2)<6,C213<>\"\",E212<D212,C212=\"\"),ColTime($AE$1,$AF$1,D212,E212),IF(AND(OR(WEEKDAY(A212,2)=7,C212<>\"\"),E212<D212,C213=\"\"),ColTime($AF$1,$AG$1,'Hele året'!$AF$1,E212),IF(AND(WEEKDAY(A212,2)<6,C213=\"\"),ColTime(T.!$J$5,T.!$L$5,D212,E212),\"\"))),\"\")","v":""},null,"",{"$f":"IFERROR(IF(AND(WEEKDAY(A212,2)<6,C213<>\"\",C212=\"\"),ColTime(T.!$J$7,T.!$L$7,$AF$1,'Hele året'!E212),IF(AND(C212<>\"\",C213<>\"\"),ColTime(T.!$J$7,T.!$L$7,'Hele året'!D212,'Hele året'!E212),IF(AND(OR(WEEKDAY(A212,2)<6,WEEKDAY(A212,2)=6),C212<>\"\",E212<D212),ColTime(T.!$J$7,T.!$L$7,D212,AF209),IF(AND(WEEKDAY(A212,2)=6,E212<D212),ColTime(T.!$J$7,T.!$L$7,$AF$1,E212),IF(AND(E212<D212,OR(C212<>\"\",WEEKDAY(A212,2)=7)),ColTime(T.!J215,T.!L215,D212,$AF$1),IF(AND(E212<>\"\",OR(C212<>\"\",WEEKDAY(A212,2)=7)),ColTime(T.!$J$7,T.!$L$7,D212,E212),\"\")))))),\"\")","v":""},"",null,null,{"$f":"IFERROR(CHOOSE(WEEKDAY(A212,2),norm!C$1,norm!C$2,norm!C$3,norm!C$4,norm!C$5,norm!C$6,norm!C$7),\"\")","v":"00:00:00"}]
["2019-07-29","Ma","",null,null,null,"","00:00:00","",{"$f":"IF(AND(C213=\"\",WEEKDAY(A213,2)<6),ColTime(T.!$J$4,T.!$L$4,D213,E213),\"\")","v":"00:00:00"},null,{"$f":"IFERROR(IF(AND(WEEKDAY(A213,2)<6,C214<>\"\",E213<D213,C213=\"\"),ColTime($AE$1,$AF$1,D213,E213),IF(AND(OR(WEEKDAY(A213,2)=7,C213<>\"\"),E213<D213,C214=\"\"),ColTime($AF$1,$AG$1,'Hele året'!$AF$1,E213),IF(AND(WEEKDAY(A213,2)<6,C214=\"\"),ColTime(T.!$J$5,T.!$L$5,D213,E213),\"\"))),\"\")","v":"00:00:00"},null,"",{"$f":"IFERROR(IF(AND(WEEKDAY(A213,2)<6,C214<>\"\",C213=\"\"),ColTime(T.!$J$7,T.!$L$7,$AF$1,'Hele året'!E213),IF(AND(C213<>\"\",C214<>\"\"),ColTime(T.!$J$7,T.!$L$7,'Hele året'!D213,'Hele året'!E213),IF(AND(OR(WEEKDAY(A213,2)<6,WEEKDAY(A213,2)=6),C213<>\"\",E213<D213),ColTime(T.!$J$7,T.!$L$7,D213,AF210),IF(AND(WEEKDAY(A213,2)=6,E213<D213),ColTime(T.!$J$7,T.!$L$7,$AF$1,E213),IF(AND(E213<D213,OR(C213<>\"\",WEEKDAY(A213,2)=7)),ColTime(T.!J216,T.!L216,D213,$AF$1),IF(AND(E213<>\"\",OR(C213<>\"\",WEEKDAY(A213,2)=7)),ColTime(T.!$J$7,T.!$L$7,D213,E213),\"\")))))),\"\")","v":""},"",null,null,{"$f":"IFERROR(CHOOSE(WEEKDAY(A213,2),norm!C$1,norm!C$2,norm!C$3,norm!C$4,norm!C$5,norm!C$6,norm!C$7),\"\")","v":"07:30:00"}]
["2019-07-30","Ti","",null,null,null,"","00:00:00","",{"$f":"IF(AND(C214=\"\",WEEKDAY(A214,2)<6),ColTime(T.!$J$4,T.!$L$4,D214,E214),\"\")","v":"00:00:00"},null,{"$f":"IFERROR(IF(AND(WEEKDAY(A214,2)<6,C215<>\"\",E214<D214,C214=\"\"),ColTime($AE$1,$AF$1,D214,E214),IF(AND(OR(WEEKDAY(A214,2)=7,C214<>\"\"),E214<D214,C215=\"\"),ColTime($AF$1,$AG$1,'Hele året'!$AF$1,E214),IF(AND(WEEKDAY(A214,2)<6,C215=\"\"),ColTime(T.!$J$5,T.!$L$5,D214,E214),\"\"))),\"\")","v":"00:00:00"},null,"",{"$f":"IFERROR(IF(AND(WEEKDAY(A214,2)<6,C215<>\"\",C214=\"\"),ColTime(T.!$J$7,T.!$L$7,$AF$1,'Hele året'!E214),IF(AND(C214<>\"\",C215<>\"\"),ColTime(T.!$J$7,T.!$L$7,'Hele året'!D214,'Hele året'!E214),IF(AND(OR(WEEKDAY(A214,2)<6,WEEKDAY(A214,2)=6),C214<>\"\",E214<D214),ColTime(T.!$J$7,T.!$L$7,D214,AF211),IF(AND(WEEKDAY(A214,2)=6,E214<D214),ColTime(T.!$J$7,T.!$L$7,$AF$1,E214),IF(AND(E214<D214,OR(C214<>\"\",WEEKDAY(A214,2)=7)),ColTime(T.!J217,T.!L217,D214,$AF$1),IF(AND(E214<>\"\",OR(C214<>\"\",WEEKDAY(A214,2)=7)),ColTime(T.!$J$7,T.!$L$7,D214,E214),\"\")))))),\"\")","v":""},"",null,null,{"$f":"IFERROR(CHOOSE(WEEKDAY(A214,2),norm!C$1,norm!C$2,norm!C$3,norm!C$4,norm!C$5,norm!C$6,norm!C$7),\"\")","v":"07:30:00"}]
["2019-07-31","On","",null,null,null,"","00:00:00","",{"$f":"IF(AND(C215=\"\",WEEKDAY(A215,2)<6),ColTime(T.!$J$4,T.!$L$4,D215,E215),\"\")","v":"00:00:00"},null,{"$f":"IFERROR(IF(AND(WEEKDAY(A215,2)<6,C216<>\"\",E215<D215,C215=\"\"),ColTime($AE$1,$AF$1,D215,E215),IF(AND(OR(WEEKDAY(A215,2)=7,C215<>\"\"),E215<D215,C216=\"\"),ColTime($AF$1,$AG$1,'Hele året'!$AF$1,E215),IF(AND(WEEKDAY(A215,2)<6,C216=\"\"),ColTime(T.!$J$5,T.!$L$5,D215,E215),\"\"))),\"\")","v":"00:00:00"},null,"",{"$f":"IFERROR(IF(AND(WEEKDAY(A215,2)<6,C216<>\"\",C215=\"\"),ColTime(T.!$J$7,T.!$L$7,$AF$1,'Hele året'!E215),IF(AND(C215<>\"\",C216<>\"\"),ColTime(T.!$J$7,T.!$L$7,'Hele året'!D215,'Hele året'!E215),IF(AND(OR(WEEKDAY(A215,2)<6,WEEKDAY(A215,2)=6),C215<>\"\",E215<D215),ColTime(T.!$J$7,T.!$L$7,D215,AF212),IF(AND(WEEKDAY(A215,2)=6,E215<D215),ColTime(T.!$J$7,T.!$L$7,$AF$1,E215),IF(AND(E215<D215,OR(C215<>\"\",WEEKDAY(A215,2)=7)),ColTime(T.!J218,T.!L218,D215,$AF$1),IF(AND(E215<>\"\",OR(C215<>\"\",WEEKDAY(A215,2)=7)),ColTime(T.!$J$7,T.!$L$7,D215,E215),\"\")))))),\"\")","v":""},"",null,null,{"$f":"IFERROR(CHOOSE(WEEKDAY(A215,2),norm!C$1,norm!C$2,norm!C$3,norm!C$4,norm!C$5,norm!C$6,norm!C$7),\"\")","v":"07:30:00"}]
["2019-08-01","To","",null,null,null,"","00:00:00","",{"$f":"IF(AND(C216=\"\",WEEKDAY(A216,2)<6),ColTime(T.!$J$4,T.!$L$4,D216,E216),\"\")","v":"00:00:00"},null,{"$f":"IFERROR(IF(AND(WEEKDAY(A216,2)<6,C217<>\"\",E216<D216,C216=\"\"),ColTime($AE$1,$AF$1,D216,E216),IF(AND(OR(WEEKDAY(A216,2)=7,C216<>\"\"),E216<D216,C217=\"\"),ColTime($AF$1,$AG$1,'Hele året'!$AF$1,E216),IF(AND(WEEKDAY(A216,2)<6,C217=\"\"),ColTime(T.!$J$5,T.!$L$5,D216,E216),\"\"))),\"\")","v":"00:00:00"},null,"",{"$f":"IFERROR(IF(AND(WEEKDAY(A216,2)<6,C217<>\"\",C216=\"\"),ColTime(T.!$J$7,T.!$L$7,$AF$1,'Hele året'!E216),IF(AND(C216<>\"\",C217<>\"\"),ColTime(T.!$J$7,T.!$L$7,'Hele året'!D216,'Hele året'!E216),IF(AND(OR(WEEKDAY(A216,2)<6,WEEKDAY(A216,2)=6),C216<>\"\",E216<D216),ColTime(T.!$J$7,T.!$L$7,D216,AF213),IF(AND(WEEKDAY(A216,2)=6,E216<D216),ColTime(T.!$J$7,T.!$L$7,$AF$1,E216),IF(AND(E216<D216,OR(C216<>\"\",WEEKDAY(A216,2)=7)),ColTime(T.!J219,T.!L219,D216,$AF$1),IF(AND(E216<>\"\",OR(C216<>\"\",WEEKDAY(A216,2)=7)),ColTime(T.!$J$7,T.!$L$7,D216,E216),\"\")))))),\"\")","v":""},"",null,null,{"$f":"IFERROR(CHOOSE(WEEKDAY(A216,2),norm!C$1,norm!C$2,norm!C$3,norm!C$4,norm!C$5,norm!C$6,norm!C$7),\"\")","v":"07:30:00"}]
["2019-08-02","Fr","",null,null,null,"","00:00:00","",{"$f":"IF(AND(C217=\"\",WEEKDAY(A217,2)<6),ColTime(T.!$J$4,T.!$L$4,D217,E217),\"\")","v":"00:00:00"},null,{"$f":"IFERROR(IF(AND(WEEKDAY(A217,2)<6,C218<>\"\",E217<D217,C217=\"\"),ColTime($AE$1,$AF$1,D217,E217),IF(AND(OR(WEEKDAY(A217,2)=7,C217<>\"\"),E217<D217,C218=\"\"),ColTime($AF$1,$AG$1,'Hele året'!$AF$1,E217),IF(AND(WEEKDAY(A217,2)<6,C218=\"\"),ColTime(T.!$J$5,T.!$L$5,D217,E217),\"\"))),\"\")","v":"00:00:00"},null,"",{"$f":"IFERROR(IF(AND(WEEKDAY(A217,2)<6,C218<>\"\",C217=\"\"),ColTime(T.!$J$7,T.!$L$7,$AF$1,'Hele året'!E217),IF(AND(C217<>\"\",C218<>\"\"),ColTime(T.!$J$7,T.!$L$7,'Hele året'!D217,'Hele året'!E217),IF(AND(OR(WEEKDAY(A217,2)<6,WEEKDAY(A217,2)=6),C217<>\"\",E217<D217),ColTime(T.!$J$7,T.!$L$7,D217,AF214),IF(AND(WEEKDAY(A217,2)=6,E217<D217),ColTime(T.!$J$7,T.!$L$7,$AF$1,E217),IF(AND(E217<D217,OR(C217<>\"\",WEEKDAY(A217,2)=7)),ColTime(T.!J220,T.!L220,D217,$AF$1),IF(AND(E217<>\"\",OR(C217<>\"\",WEEKDAY(A217,2)=7)),ColTime(T.!$J$7,T.!$L$7,D217,E217),\"\")))))),\"\")","v":""},"",null,null,{"$f":"IFERROR(CHOOSE(WEEKDAY(A217,2),norm!C$1,norm!C$2,norm!C$3,norm!C$4,norm!C$5,norm!C$6,norm!C$7),\"\")","v":"07:00:00"}]
["2019-08-03","Lø","",null,null,null,"","00:00:00","",{"$f":"IF(AND(C218=\"\",WEEKDAY(A218,2)<6),ColTime(T.!$J$4,T.!$L$4,D218,E218),\"\")","v":""},null,{"$f":"IFERROR(IF(AND(WEEKDAY(A218,2)<6,C219<>\"\",E218<D218,C218=\"\"),ColTime($AE$1,$AF$1,D218,E218),IF(AND(OR(WEEKDAY(A218,2)=7,C218<>\"\"),E218<D218,C219=\"\"),ColTime($AF$1,$AG$1,'Hele året'!$AF$1,E218),IF(AND(WEEKDAY(A218,2)<6,C219=\"\"),ColTime(T.!$J$5,T.!$L$5,D218,E218),\"\"))),\"\")","v":""},null,"00:00:00",{"$f":"IFERROR(IF(AND(WEEKDAY(A218,2)<6,C219<>\"\",C218=\"\"),ColTime(T.!$J$7,T.!$L$7,$AF$1,'Hele året'!E218),IF(AND(C218<>\"\",C219<>\"\"),ColTime(T.!$J$7,T.!$L$7,'Hele året'!D218,'Hele året'!E218),IF(AND(OR(WEEKDAY(A218,2)<6,WEEKDAY(A218,2)=6),C218<>\"\",E218<D218),ColTime(T.!$J$7,T.!$L$7,D218,AF215),IF(AND(WEEKDAY(A218,2)=6,E218<D218),ColTime(T.!$J$7,T.!$L$7,$AF$1,E218),IF(AND(E218<D218,OR(C218<>\"\",WEEKDAY(A218,2)=7)),ColTime(T.!J221,T.!L221,D218,$AF$1),IF(AND(E218<>\"\",OR(C218<>\"\",WEEKDAY(A218,2)=7)),ColTime(T.!$J$7,T.!$L$7,D218,E218),\"\")))))),\"\")","v":""},"",null,null,{"$f":"IFERROR(CHOOSE(WEEKDAY(A218,2),norm!C$1,norm!C$2,norm!C$3,norm!C$4,norm!C$5,norm!C$6,norm!C$7),\"\")","v":"00:00:00"}]
[{"$f":"A218+1","v":"2019-08-04"},"Sø","",null,null,null,"","00:00:00","",{"$f":"IF(AND(C219=\"\",WEEKDAY(A219,2)<6),ColTime(T.!$J$4,T.!$L$4,D219,E219),\"\")","v":""},null,{"$f":"IFERROR(IF(AND(WEEKDAY(A219,2)<6,C220<>\"\",E219<D219,C219=\"\"),ColTime($AE$1,$AF$1,D219,E219),IF(AND(OR(WEEKDAY(A219,2)=7,C219<>\"\"),E219<D219,C220=\"\"),ColTime($AF$1,$AG$1,'Hele året'!$AF$1,E219),IF(AND(WEEKDAY(A219,2)<6,C220=\"\"),ColTime(T.!$J$5,T.!$L$5,D219,E219),\"\"))),\"\")","v":""},null,"",{"$f":"IFERROR(IF(AND(WEEKDAY(A219,2)<6,C220<>\"\",C219=\"\"),ColTime(T.!$J$7,T.!$L$7,$AF$1,'Hele året'!E219),IF(AND(C219<>\"\",C220<>\"\"),ColTime(T.!$J$7,T.!$L$7,'Hele året'!D219,'Hele året'!E219),IF(AND(OR(WEEKDAY(A219,2)<6,WEEKDAY(A219,2)=6),C219<>\"\",E219<D219),ColTime(T.!$J$7,T.!$L$7,D219,AF216),IF(AND(WEEKDAY(A219,2)=6,E219<D219),ColTime(T.!$J$7,T.!$L$7,$AF$1,E219),IF(AND(E219<D219,OR(C219<>\"\",WEEKDAY(A219,2)=7)),ColTime(T.!J222,T.!L222,D219,$AF$1),IF(AND(E219<>\"\",OR(C219<>\"\",WEEKDAY(A219,2)=7)),ColTime(T.!$J$7,T.!$L$7,D219,E219),\"\")))))),\"\")","v":""},"",null,null,{"$f":"IFERROR(CHOOSE(WEEKDAY(A219,2),norm!C$1,norm!C$2,norm!C$3,norm!C$4,norm!C$5,norm!C$6,norm!C$7),\"\")","v":"00:00:00"}]
["2019-08-05","Ma","",null,null,null,"","00:00:00","",{"$f":"IF(AND(C220=\"\",WEEKDAY(A220,2)<6),ColTime(T.!$J$4,T.!$L$4,D220,E220),\"\")","v":"00:00:00"},null,{"$f":"IFERROR(IF(AND(WEEKDAY(A220,2)<6,C221<>\"\",E220<D220,C220=\"\"),ColTime($AE$1,$AF$1,D220,E220),IF(AND(OR(WEEKDAY(A220,2)=7,C220<>\"\"),E220<D220,C221=\"\"),ColTime($AF$1,$AG$1,'Hele året'!$AF$1,E220),IF(AND(WEEKDAY(A220,2)<6,C221=\"\"),ColTime(T.!$J$5,T.!$L$5,D220,E220),\"\"))),\"\")","v":"00:00:00"},null,"",{"$f":"IFERROR(IF(AND(WEEKDAY(A220,2)<6,C221<>\"\",C220=\"\"),ColTime(T.!$J$7,T.!$L$7,$AF$1,'Hele året'!E220),IF(AND(C220<>\"\",C221<>\"\"),ColTime(T.!$J$7,T.!$L$7,'Hele året'!D220,'Hele året'!E220),IF(AND(OR(WEEKDAY(A220,2)<6,WEEKDAY(A220,2)=6),C220<>\"\",E220<D220),ColTime(T.!$J$7,T.!$L$7,D220,AF217),IF(AND(WEEKDAY(A220,2)=6,E220<D220),ColTime(T.!$J$7,T.!$L$7,$AF$1,E220),IF(AND(E220<D220,OR(C220<>\"\",WEEKDAY(A220,2)=7)),ColTime(T.!J223,T.!L223,D220,$AF$1),IF(AND(E220<>\"\",OR(C220<>\"\",WEEKDAY(A220,2)=7)),ColTime(T.!$J$7,T.!$L$7,D220,E220),\"\")))))),\"\")","v":""},"",null,null,{"$f":"IFERROR(CHOOSE(WEEKDAY(A220,2),norm!C$1,norm!C$2,norm!C$3,norm!C$4,norm!C$5,norm!C$6,norm!C$7),\"\")","v":"07:30:00"}]
["2019-08-06","Ti","",null,null,null,"","00:00:00","",{"$f":"IF(AND(C221=\"\",WEEKDAY(A221,2)<6),ColTime(T.!$J$4,T.!$L$4,D221,E221),\"\")","v":"00:00:00"},null,{"$f":"IFERROR(IF(AND(WEEKDAY(A221,2)<6,C222<>\"\",E221<D221,C221=\"\"),ColTime($AE$1,$AF$1,D221,E221),IF(AND(OR(WEEKDAY(A221,2)=7,C221<>\"\"),E221<D221,C222=\"\"),ColTime($AF$1,$AG$1,'Hele året'!$AF$1,E221),IF(AND(WEEKDAY(A221,2)<6,C222=\"\"),ColTime(T.!$J$5,T.!$L$5,D221,E221),\"\"))),\"\")","v":"00:00:00"},null,"",{"$f":"IFERROR(IF(AND(WEEKDAY(A221,2)<6,C222<>\"\",C221=\"\"),ColTime(T.!$J$7,T.!$L$7,$AF$1,'Hele året'!E221),IF(AND(C221<>\"\",C222<>\"\"),ColTime(T.!$J$7,T.!$L$7,'Hele året'!D221,'Hele året'!E221),IF(AND(OR(WEEKDAY(A221,2)<6,WEEKDAY(A221,2)=6),C221<>\"\",E221<D221),ColTime(T.!$J$7,T.!$L$7,D221,AF218),IF(AND(WEEKDAY(A221,2)=6,E221<D221),ColTime(T.!$J$7,T.!$L$7,$AF$1,E221),IF(AND(E221<D221,OR(C221<>\"\",WEEKDAY(A221,2)=7)),ColTime(T.!J224,T.!L224,D221,$AF$1),IF(AND(E221<>\"\",OR(C221<>\"\",WEEKDAY(A221,2)=7)),ColTime(T.!$J$7,T.!$L$7,D221,E221),\"\")))))),\"\")","v":""},"",null,null,{"$f":"IFERROR(CHOOSE(WEEKDAY(A221,2),norm!C$1,norm!C$2,norm!C$3,norm!C$4,norm!C$5,norm!C$6,norm!C$7),\"\")","v":"07:30:00"}]
["2019-08-07","On","",null,null,null,"","00:00:00","",{"$f":"IF(AND(C222=\"\",WEEKDAY(A222,2)<6),ColTime(T.!$J$4,T.!$L$4,D222,E222),\"\")","v":"00:00:00"},null,{"$f":"IFERROR(IF(AND(WEEKDAY(A222,2)<6,C223<>\"\",E222<D222,C222=\"\"),ColTime($AE$1,$AF$1,D222,E222),IF(AND(OR(WEEKDAY(A222,2)=7,C222<>\"\"),E222<D222,C223=\"\"),ColTime($AF$1,$AG$1,'Hele året'!$AF$1,E222),IF(AND(WEEKDAY(A222,2)<6,C223=\"\"),ColTime(T.!$J$5,T.!$L$5,D222,E222),\"\"))),\"\")","v":"00:00:00"},null,"",{"$f":"IFERROR(IF(AND(WEEKDAY(A222,2)<6,C223<>\"\",C222=\"\"),ColTime(T.!$J$7,T.!$L$7,$AF$1,'Hele året'!E222),IF(AND(C222<>\"\",C223<>\"\"),ColTime(T.!$J$7,T.!$L$7,'Hele året'!D222,'Hele året'!E222),IF(AND(OR(WEEKDAY(A222,2)<6,WEEKDAY(A222,2)=6),C222<>\"\",E222<D222),ColTime(T.!$J$7,T.!$L$7,D222,AF219),IF(AND(WEEKDAY(A222,2)=6,E222<D222),ColTime(T.!$J$7,T.!$L$7,$AF$1,E222),IF(AND(E222<D222,OR(C222<>\"\",WEEKDAY(A222,2)=7)),ColTime(T.!J225,T.!L225,D222,$AF$1),IF(AND(E222<>\"\",OR(C222<>\"\",WEEKDAY(A222,2)=7)),ColTime(T.!$J$7,T.!$L$7,D222,E222),\"\")))))),\"\")","v":""},"",null,null,{"$f":"IFERROR(CHOOSE(WEEKDAY(A222,2),norm!C$1,norm!C$2,norm!C$3,norm!C$4,norm!C$5,norm!C$6,norm!C$7),\"\")","v":"07:30:00"}]
["2019-08-08","To","",null,null,null,"","00:00:00","",{"$f":"IF(AND(C223=\"\",WEEKDAY(A223,2)<6),ColTime(T.!$J$4,T.!$L$4,D223,E223),\"\")","v":"00:00:00"},null,{"$f":"IFERROR(IF(AND(WEEKDAY(A223,2)<6,C224<>\"\",E223<D223,C223=\"\"),ColTime($AE$1,$AF$1,D223,E223),IF(AND(OR(WEEKDAY(A223,2)=7,C223<>\"\"),E223<D223,C224=\"\"),ColTime($AF$1,$AG$1,'Hele året'!$AF$1,E223),IF(AND(WEEKDAY(A223,2)<6,C224=\"\"),ColTime(T.!$J$5,T.!$L$5,D223,E223),\"\"))),\"\")","v":"00:00:00"},null,"",{"$f":"IFERROR(IF(AND(WEEKDAY(A223,2)<6,C224<>\"\",C223=\"\"),ColTime(T.!$J$7,T.!$L$7,$AF$1,'Hele året'!E223),IF(AND(C223<>\"\",C224<>\"\"),ColTime(T.!$J$7,T.!$L$7,'Hele året'!D223,'Hele året'!E223),IF(AND(OR(WEEKDAY(A223,2)<6,WEEKDAY(A223,2)=6),C223<>\"\",E223<D223),ColTime(T.!$J$7,T.!$L$7,D223,AF220),IF(AND(WEEKDAY(A223,2)=6,E223<D223),ColTime(T.!$J$7,T.!$L$7,$AF$1,E223),IF(AND(E223<D223,OR(C223<>\"\",WEEKDAY(A223,2)=7)),ColTime(T.!J226,T.!L226,D223,$AF$1),IF(AND(E223<>\"\",OR(C223<>\"\",WEEKDAY(A223,2)=7)),ColTime(T.!$J$7,T.!$L$7,D223,E223),\"\")))))),\"\")","v":""},"",null,null,{"$f":"IFERROR(CHOOSE(WEEKDAY(A223,2),norm!C$1,norm!C$2,norm!C$3,norm!C$4,norm!C$5,norm!C$6,norm!C$7),\"\")","v":"07:30:00"}]
["2019-08-09","Fr","",null,null,null,"","00:00:00","",{"$f":"IF(AND(C224=\"\",WEEKDAY(A224,2)<6),ColTime(T.!$J$4,T.!$L$4,D224,E224),\"\")","v":"00:00:00"},null,{"$f":"IFERROR(IF(AND(WEEKDAY(A224,2)<6,C225<>\"\",E224<D224,C224=\"\"),ColTime($AE$1,$AF$1,D224,E224),IF(AND(OR(WEEKDAY(A224,2)=7,C224<>\"\"),E224<D224,C225=\"\"),ColTime($AF$1,$AG$1,'Hele året'!$AF$1,E224),IF(AND(WEEKDAY(A224,2)<6,C225=\"\"),ColTime(T.!$J$5,T.!$L$5,D224,E224),\"\"))),\"\")","v":"00:00:00"},null,"",{"$f":"IFERROR(IF(AND(WEEKDAY(A224,2)<6,C225<>\"\",C224=\"\"),ColTime(T.!$J$7,T.!$L$7,$AF$1,'Hele året'!E224),IF(AND(C224<>\"\",C225<>\"\"),ColTime(T.!$J$7,T.!$L$7,'Hele året'!D224,'Hele året'!E224),IF(AND(OR(WEEKDAY(A224,2)<6,WEEKDAY(A224,2)=6),C224<>\"\",E224<D224),ColTime(T.!$J$7,T.!$L$7,D224,AF221),IF(AND(WEEKDAY(A224,2)=6,E224<D224),ColTime(T.!$J$7,T.!$L$7,$AF$1,E224),IF(AND(E224<D224,OR(C224<>\"\",WEEKDAY(A224,2)=7)),ColTime(T.!J227,T.!L227,D224,$AF$1),IF(AND(E224<>\"\",OR(C224<>\"\",WEEKDAY(A224,2)=7)),ColTime(T.!$J$7,T.!$L$7,D224,E224),\"\")))))),\"\")","v":""},"",null,null,{"$f":"IFERROR(CHOOSE(WEEKDAY(A224,2),norm!C$1,norm!C$2,norm!C$3,norm!C$4,norm!C$5,norm!C$6,norm!C$7),\"\")","v":"07:00:00"}]
["2019-08-10","Lø","",null,null,null,"","00:00:00","",{"$f":"IF(AND(C225=\"\",WEEKDAY(A225,2)<6),ColTime(T.!$J$4,T.!$L$4,D225,E225),\"\")","v":""},null,{"$f":"IFERROR(IF(AND(WEEKDAY(A225,2)<6,C226<>\"\",E225<D225,C225=\"\"),ColTime($AE$1,$AF$1,D225,E225),IF(AND(OR(WEEKDAY(A225,2)=7,C225<>\"\"),E225<D225,C226=\"\"),ColTime($AF$1,$AG$1,'Hele året'!$AF$1,E225),IF(AND(WEEKDAY(A225,2)<6,C226=\"\"),ColTime(T.!$J$5,T.!$L$5,D225,E225),\"\"))),\"\")","v":""},null,"00:00:00",{"$f":"IFERROR(IF(AND(WEEKDAY(A225,2)<6,C226<>\"\",C225=\"\"),ColTime(T.!$J$7,T.!$L$7,$AF$1,'Hele året'!E225),IF(AND(C225<>\"\",C226<>\"\"),ColTime(T.!$J$7,T.!$L$7,'Hele året'!D225,'Hele året'!E225),IF(AND(OR(WEEKDAY(A225,2)<6,WEEKDAY(A225,2)=6),C225<>\"\",E225<D225),ColTime(T.!$J$7,T.!$L$7,D225,AF222),IF(AND(WEEKDAY(A225,2)=6,E225<D225),ColTime(T.!$J$7,T.!$L$7,$AF$1,E225),IF(AND(E225<D225,OR(C225<>\"\",WEEKDAY(A225,2)=7)),ColTime(T.!J228,T.!L228,D225,$AF$1),IF(AND(E225<>\"\",OR(C225<>\"\",WEEKDAY(A225,2)=7)),ColTime(T.!$J$7,T.!$L$7,D225,E225),\"\")))))),\"\")","v":""},"",null,null,{"$f":"IFERROR(CHOOSE(WEEKDAY(A225,2),norm!C$1,norm!C$2,norm!C$3,norm!C$4,norm!C$5,norm!C$6,norm!C$7),\"\")","v":"00:00:00"}]
["2019-08-11","Sø","",null,null,null,"","00:00:00","",{"$f":"IF(AND(C226=\"\",WEEKDAY(A226,2)<6),ColTime(T.!$J$4,T.!$L$4,D226,E226),\"\")","v":""},null,{"$f":"IFERROR(IF(AND(WEEKDAY(A226,2)<6,C227<>\"\",E226<D226,C226=\"\"),ColTime($AE$1,$AF$1,D226,E226),IF(AND(OR(WEEKDAY(A226,2)=7,C226<>\"\"),E226<D226,C227=\"\"),ColTime($AF$1,$AG$1,'Hele året'!$AF$1,E226),IF(AND(WEEKDAY(A226,2)<6,C227=\"\"),ColTime(T.!$J$5,T.!$L$5,D226,E226),\"\"))),\"\")","v":""},null,"",{"$f":"IFERROR(IF(AND(WEEKDAY(A226,2)<6,C227<>\"\",C226=\"\"),ColTime(T.!$J$7,T.!$L$7,$AF$1,'Hele året'!E226),IF(AND(C226<>\"\",C227<>\"\"),ColTime(T.!$J$7,T.!$L$7,'Hele året'!D226,'Hele året'!E226),IF(AND(OR(WEEKDAY(A226,2)<6,WEEKDAY(A226,2)=6),C226<>\"\",E226<D226),ColTime(T.!$J$7,T.!$L$7,D226,AF223),IF(AND(WEEKDAY(A226,2)=6,E226<D226),ColTime(T.!$J$7,T.!$L$7,$AF$1,E226),IF(AND(E226<D226,OR(C226<>\"\",WEEKDAY(A226,2)=7)),ColTime(T.!J229,T.!L229,D226,$AF$1),IF(AND(E226<>\"\",OR(C226<>\"\",WEEKDAY(A226,2)=7)),ColTime(T.!$J$7,T.!$L$7,D226,E226),\"\")))))),\"\")","v":""},"",null,null,{"$f":"IFERROR(CHOOSE(WEEKDAY(A226,2),norm!C$1,norm!C$2,norm!C$3,norm!C$4,norm!C$5,norm!C$6,norm!C$7),\"\")","v":"00:00:00"}]
["2019-08-12",{"$f":"IFERROR(PROPER(TEXT(A227,\"ddd\")),\"\")","v":"Ma"},"",null,null,null,"","00:00:00","",{"$f":"IF(AND(C227=\"\",WEEKDAY(A227,2)<6),ColTime(T.!$J$4,T.!$L$4,D227,E227),\"\")","v":"00:00:00"},null,{"$f":"IFERROR(IF(AND(WEEKDAY(A227,2)<6,C228<>\"\",E227<D227,C227=\"\"),ColTime($AE$1,$AF$1,D227,E227),IF(AND(OR(WEEKDAY(A227,2)=7,C227<>\"\"),E227<D227,C228=\"\"),ColTime($AF$1,$AG$1,'Hele året'!$AF$1,E227),IF(AND(WEEKDAY(A227,2)<6,C228=\"\"),ColTime(T.!$J$5,T.!$L$5,D227,E227),\"\"))),\"\")","v":"00:00:00"},null,"",{"$f":"IFERROR(IF(AND(WEEKDAY(A227,2)<6,C228<>\"\",C227=\"\"),ColTime(T.!$J$7,T.!$L$7,$AF$1,'Hele året'!E227),IF(AND(C227<>\"\",C228<>\"\"),ColTime(T.!$J$7,T.!$L$7,'Hele året'!D227,'Hele året'!E227),IF(AND(OR(WEEKDAY(A227,2)<6,WEEKDAY(A227,2)=6),C227<>\"\",E227<D227),ColTime(T.!$J$7,T.!$L$7,D227,AF224),IF(AND(WEEKDAY(A227,2)=6,E227<D227),ColTime(T.!$J$7,T.!$L$7,$AF$1,E227),IF(AND(E227<D227,OR(C227<>\"\",WEEKDAY(A227,2)=7)),ColTime(T.!J230,T.!L230,D227,$AF$1),IF(AND(E227<>\"\",OR(C227<>\"\",WEEKDAY(A227,2)=7)),ColTime(T.!$J$7,T.!$L$7,D227,E227),\"\")))))),\"\")","v":""},"",null,null,{"$f":"IFERROR(CHOOSE(WEEKDAY(A227,2),norm!C$1,norm!C$2,norm!C$3,norm!C$4,norm!C$5,norm!C$6,norm!C$7),\"\")","v":"07:30:00"}]
["2019-08-13","Ti","",null,null,null,"","00:00:00","",{"$f":"IF(AND(C228=\"\",WEEKDAY(A228,2)<6),ColTime(T.!$J$4,T.!$L$4,D228,E228),\"\")","v":"00:00:00"},null,{"$f":"IFERROR(IF(AND(WEEKDAY(A228,2)<6,C229<>\"\",E228<D228,C228=\"\"),ColTime($AE$1,$AF$1,D228,E228),IF(AND(OR(WEEKDAY(A228,2)=7,C228<>\"\"),E228<D228,C229=\"\"),ColTime($AF$1,$AG$1,'Hele året'!$AF$1,E228),IF(AND(WEEKDAY(A228,2)<6,C229=\"\"),ColTime(T.!$J$5,T.!$L$5,D228,E228),\"\"))),\"\")","v":"00:00:00"},null,"",{"$f":"IFERROR(IF(AND(WEEKDAY(A228,2)<6,C229<>\"\",C228=\"\"),ColTime(T.!$J$7,T.!$L$7,$AF$1,'Hele året'!E228),IF(AND(C228<>\"\",C229<>\"\"),ColTime(T.!$J$7,T.!$L$7,'Hele året'!D228,'Hele året'!E228),IF(AND(OR(WEEKDAY(A228,2)<6,WEEKDAY(A228,2)=6),C228<>\"\",E228<D228),ColTime(T.!$J$7,T.!$L$7,D228,AF225),IF(AND(WEEKDAY(A228,2)=6,E228<D228),ColTime(T.!$J$7,T.!$L$7,$AF$1,E228),IF(AND(E228<D228,OR(C228<>\"\",WEEKDAY(A228,2)=7)),ColTime(T.!J231,T.!L231,D228,$AF$1),IF(AND(E228<>\"\",OR(C228<>\"\",WEEKDAY(A228,2)=7)),ColTime(T.!$J$7,T.!$L$7,D228,E228),\"\")))))),\"\")","v":""},"",null,null,{"$f":"IFERROR(CHOOSE(WEEKDAY(A228,2),norm!C$1,norm!C$2,norm!C$3,norm!C$4,norm!C$5,norm!C$6,norm!C$7),\"\")","v":"07:30:00"}]
["2019-08-14","On","",null,null,null,"","00:00:00","",{"$f":"IF(AND(C229=\"\",WEEKDAY(A229,2)<6),ColTime(T.!$J$4,T.!$L$4,D229,E229),\"\")","v":"00:00:00"},null,{"$f":"IFERROR(IF(AND(WEEKDAY(A229,2)<6,C230<>\"\",E229<D229,C229=\"\"),ColTime($AE$1,$AF$1,D229,E229),IF(AND(OR(WEEKDAY(A229,2)=7,C229<>\"\"),E229<D229,C230=\"\"),ColTime($AF$1,$AG$1,'Hele året'!$AF$1,E229),IF(AND(WEEKDAY(A229,2)<6,C230=\"\"),ColTime(T.!$J$5,T.!$L$5,D229,E229),\"\"))),\"\")","v":"00:00:00"},null,"",{"$f":"IFERROR(IF(AND(WEEKDAY(A229,2)<6,C230<>\"\",C229=\"\"),ColTime(T.!$J$7,T.!$L$7,$AF$1,'Hele året'!E229),IF(AND(C229<>\"\",C230<>\"\"),ColTime(T.!$J$7,T.!$L$7,'Hele året'!D229,'Hele året'!E229),IF(AND(OR(WEEKDAY(A229,2)<6,WEEKDAY(A229,2)=6),C229<>\"\",E229<D229),ColTime(T.!$J$7,T.!$L$7,D229,AF226),IF(AND(WEEKDAY(A229,2)=6,E229<D229),ColTime(T.!$J$7,T.!$L$7,$AF$1,E229),IF(AND(E229<D229,OR(C229<>\"\",WEEKDAY(A229,2)=7)),ColTime(T.!J232,T.!L232,D229,$AF$1),IF(AND(E229<>\"\",OR(C229<>\"\",WEEKDAY(A229,2)=7)),ColTime(T.!$J$7,T.!$L$7,D229,E229),\"\")))))),\"\")","v":""},"",null,null,{"$f":"IFERROR(CHOOSE(WEEKDAY(A229,2),norm!C$1,norm!C$2,norm!C$3,norm!C$4,norm!C$5,norm!C$6,norm!C$7),\"\")","v":"07:30:00"}]
["2019-08-15","To","",null,null,null,"","00:00:00","",{"$f":"IF(AND(C230=\"\",WEEKDAY(A230,2)<6),ColTime(T.!$J$4,T.!$L$4,D230,E230),\"\")","v":"00:00:00"},null,{"$f":"IFERROR(IF(AND(WEEKDAY(A230,2)<6,C231<>\"\",E230<D230,C230=\"\"),ColTime($AE$1,$AF$1,D230,E230),IF(AND(OR(WEEKDAY(A230,2)=7,C230<>\"\"),E230<D230,C231=\"\"),ColTime($AF$1,$AG$1,'Hele året'!$AF$1,E230),IF(AND(WEEKDAY(A230,2)<6,C231=\"\"),ColTime(T.!$J$5,T.!$L$5,D230,E230),\"\"))),\"\")","v":"00:00:00"},null,"",{"$f":"IFERROR(IF(AND(WEEKDAY(A230,2)<6,C231<>\"\",C230=\"\"),ColTime(T.!$J$7,T.!$L$7,$AF$1,'Hele året'!E230),IF(AND(C230<>\"\",C231<>\"\"),ColTime(T.!$J$7,T.!$L$7,'Hele året'!D230,'Hele året'!E230),IF(AND(OR(WEEKDAY(A230,2)<6,WEEKDAY(A230,2)=6),C230<>\"\",E230<D230),ColTime(T.!$J$7,T.!$L$7,D230,AF227),IF(AND(WEEKDAY(A230,2)=6,E230<D230),ColTime(T.!$J$7,T.!$L$7,$AF$1,E230),IF(AND(E230<D230,OR(C230<>\"\",WEEKDAY(A230,2)=7)),ColTime(T.!J233,T.!L233,D230,$AF$1),IF(AND(E230<>\"\",OR(C230<>\"\",WEEKDAY(A230,2)=7)),ColTime(T.!$J$7,T.!$L$7,D230,E230),\"\")))))),\"\")","v":""},"",null,null,{"$f":"IFERROR(CHOOSE(WEEKDAY(A230,2),norm!C$1,norm!C$2,norm!C$3,norm!C$4,norm!C$5,norm!C$6,norm!C$7),\"\")","v":"07:30:00"}]
["2019-08-16","Fr","",null,null,null,"","00:00:00","",{"$f":"IF(AND(C231=\"\",WEEKDAY(A231,2)<6),ColTime(T.!$J$4,T.!$L$4,D231,E231),\"\")","v":"00:00:00"},null,{"$f":"IFERROR(IF(AND(WEEKDAY(A231,2)<6,C232<>\"\",E231<D231,C231=\"\"),ColTime($AE$1,$AF$1,D231,E231),IF(AND(OR(WEEKDAY(A231,2)=7,C231<>\"\"),E231<D231,C232=\"\"),ColTime($AF$1,$AG$1,'Hele året'!$AF$1,E231),IF(AND(WEEKDAY(A231,2)<6,C232=\"\"),ColTime(T.!$J$5,T.!$L$5,D231,E231),\"\"))),\"\")","v":"00:00:00"},null,"",{"$f":"IFERROR(IF(AND(WEEKDAY(A231,2)<6,C232<>\"\",C231=\"\"),ColTime(T.!$J$7,T.!$L$7,$AF$1,'Hele året'!E231),IF(AND(C231<>\"\",C232<>\"\"),ColTime(T.!$J$7,T.!$L$7,'Hele året'!D231,'Hele året'!E231),IF(AND(OR(WEEKDAY(A231,2)<6,WEEKDAY(A231,2)=6),C231<>\"\",E231<D231),ColTime(T.!$J$7,T.!$L$7,D231,AF228),IF(AND(WEEKDAY(A231,2)=6,E231<D231),ColTime(T.!$J$7,T.!$L$7,$AF$1,E231),IF(AND(E231<D231,OR(C231<>\"\",WEEKDAY(A231,2)=7)),ColTime(T.!J234,T.!L234,D231,$AF$1),IF(AND(E231<>\"\",OR(C231<>\"\",WEEKDAY(A231,2)=7)),ColTime(T.!$J$7,T.!$L$7,D231,E231),\"\")))))),\"\")","v":""},"",null,null,{"$f":"IFERROR(CHOOSE(WEEKDAY(A231,2),norm!C$1,norm!C$2,norm!C$3,norm!C$4,norm!C$5,norm!C$6,norm!C$7),\"\")","v":"07:00:00"}]
["2019-08-17","Lø","",null,null,null,"","00:00:00","",{"$f":"IF(AND(C232=\"\",WEEKDAY(A232,2)<6),ColTime(T.!$J$4,T.!$L$4,D232,E232),\"\")","v":""},null,{"$f":"IFERROR(IF(AND(WEEKDAY(A232,2)<6,C233<>\"\",E232<D232,C232=\"\"),ColTime($AE$1,$AF$1,D232,E232),IF(AND(OR(WEEKDAY(A232,2)=7,C232<>\"\"),E232<D232,C233=\"\"),ColTime($AF$1,$AG$1,'Hele året'!$AF$1,E232),IF(AND(WEEKDAY(A232,2)<6,C233=\"\"),ColTime(T.!$J$5,T.!$L$5,D232,E232),\"\"))),\"\")","v":""},null,"00:00:00",{"$f":"IFERROR(IF(AND(WEEKDAY(A232,2)<6,C233<>\"\",C232=\"\"),ColTime(T.!$J$7,T.!$L$7,$AF$1,'Hele året'!E232),IF(AND(C232<>\"\",C233<>\"\"),ColTime(T.!$J$7,T.!$L$7,'Hele året'!D232,'Hele året'!E232),IF(AND(OR(WEEKDAY(A232,2)<6,WEEKDAY(A232,2)=6),C232<>\"\",E232<D232),ColTime(T.!$J$7,T.!$L$7,D232,AF229),IF(AND(WEEKDAY(A232,2)=6,E232<D232),ColTime(T.!$J$7,T.!$L$7,$AF$1,E232),IF(AND(E232<D232,OR(C232<>\"\",WEEKDAY(A232,2)=7)),ColTime(T.!J235,T.!L235,D232,$AF$1),IF(AND(E232<>\"\",OR(C232<>\"\",WEEKDAY(A232,2)=7)),ColTime(T.!$J$7,T.!$L$7,D232,E232),\"\")))))),\"\")","v":""},"",null,null,{"$f":"IFERROR(CHOOSE(WEEKDAY(A232,2),norm!C$1,norm!C$2,norm!C$3,norm!C$4,norm!C$5,norm!C$6,norm!C$7),\"\")","v":"00:00:00"}]
["2019-08-18","Sø","",null,null,null,"","00:00:00","",{"$f":"IF(AND(C233=\"\",WEEKDAY(A233,2)<6),ColTime(T.!$J$4,T.!$L$4,D233,E233),\"\")","v":""},null,{"$f":"IFERROR(IF(AND(WEEKDAY(A233,2)<6,C234<>\"\",E233<D233,C233=\"\"),ColTime($AE$1,$AF$1,D233,E233),IF(AND(OR(WEEKDAY(A233,2)=7,C233<>\"\"),E233<D233,C234=\"\"),ColTime($AF$1,$AG$1,'Hele året'!$AF$1,E233),IF(AND(WEEKDAY(A233,2)<6,C234=\"\"),ColTime(T.!$J$5,T.!$L$5,D233,E233),\"\"))),\"\")","v":""},null,"",{"$f":"IFERROR(IF(AND(WEEKDAY(A233,2)<6,C234<>\"\",C233=\"\"),ColTime(T.!$J$7,T.!$L$7,$AF$1,'Hele året'!E233),IF(AND(C233<>\"\",C234<>\"\"),ColTime(T.!$J$7,T.!$L$7,'Hele året'!D233,'Hele året'!E233),IF(AND(OR(WEEKDAY(A233,2)<6,WEEKDAY(A233,2)=6),C233<>\"\",E233<D233),ColTime(T.!$J$7,T.!$L$7,D233,AF230),IF(AND(WEEKDAY(A233,2)=6,E233<D233),ColTime(T.!$J$7,T.!$L$7,$AF$1,E233),IF(AND(E233<D233,OR(C233<>\"\",WEEKDAY(A233,2)=7)),ColTime(T.!J236,T.!L236,D233,$AF$1),IF(AND(E233<>\"\",OR(C233<>\"\",WEEKDAY(A233,2)=7)),ColTime(T.!$J$7,T.!$L$7,D233,E233),\"\")))))),\"\")","v":""},"",null,null,{"$f":"IFERROR(CHOOSE(WEEKDAY(A233,2),norm!C$1,norm!C$2,norm!C$3,norm!C$4,norm!C$5,norm!C$6,norm!C$7),\"\")","v":"00:00:00"}]
["2019-08-19","Ma","",null,null,null,"","00:00:00","",{"$f":"IF(AND(C234=\"\",WEEKDAY(A234,2)<6),ColTime(T.!$J$4,T.!$L$4,D234,E234),\"\")","v":"00:00:00"},null,{"$f":"IFERROR(IF(AND(WEEKDAY(A234,2)<6,C235<>\"\",E234<D234,C234=\"\"),ColTime($AE$1,$AF$1,D234,E234),IF(AND(OR(WEEKDAY(A234,2)=7,C234<>\"\"),E234<D234,C235=\"\"),ColTime($AF$1,$AG$1,'Hele året'!$AF$1,E234),IF(AND(WEEKDAY(A234,2)<6,C235=\"\"),ColTime(T.!$J$5,T.!$L$5,D234,E234),\"\"))),\"\")","v":"00:00:00"},null,"",{"$f":"IFERROR(IF(AND(WEEKDAY(A234,2)<6,C235<>\"\",C234=\"\"),ColTime(T.!$J$7,T.!$L$7,$AF$1,'Hele året'!E234),IF(AND(C234<>\"\",C235<>\"\"),ColTime(T.!$J$7,T.!$L$7,'Hele året'!D234,'Hele året'!E234),IF(AND(OR(WEEKDAY(A234,2)<6,WEEKDAY(A234,2)=6),C234<>\"\",E234<D234),ColTime(T.!$J$7,T.!$L$7,D234,AF231),IF(AND(WEEKDAY(A234,2)=6,E234<D234),ColTime(T.!$J$7,T.!$L$7,$AF$1,E234),IF(AND(E234<D234,OR(C234<>\"\",WEEKDAY(A234,2)=7)),ColTime(T.!J237,T.!L237,D234,$AF$1),IF(AND(E234<>\"\",OR(C234<>\"\",WEEKDAY(A234,2)=7)),ColTime(T.!$J$7,T.!$L$7,D234,E234),\"\")))))),\"\")","v":""},"",null,null,{"$f":"IFERROR(CHOOSE(WEEKDAY(A234,2),norm!C$1,norm!C$2,norm!C$3,norm!C$4,norm!C$5,norm!C$6,norm!C$7),\"\")","v":"07:30:00"}]
["2019-08-20","Ti","",null,null,null,"","00:00:00","",{"$f":"IF(AND(C235=\"\",WEEKDAY(A235,2)<6),ColTime(T.!$J$4,T.!$L$4,D235,E235),\"\")","v":"00:00:00"},null,{"$f":"IFERROR(IF(AND(WEEKDAY(A235,2)<6,C236<>\"\",E235<D235,C235=\"\"),ColTime($AE$1,$AF$1,D235,E235),IF(AND(OR(WEEKDAY(A235,2)=7,C235<>\"\"),E235<D235,C236=\"\"),ColTime($AF$1,$AG$1,'Hele året'!$AF$1,E235),IF(AND(WEEKDAY(A235,2)<6,C236=\"\"),ColTime(T.!$J$5,T.!$L$5,D235,E235),\"\"))),\"\")","v":"00:00:00"},null,"",{"$f":"IFERROR(IF(AND(WEEKDAY(A235,2)<6,C236<>\"\",C235=\"\"),ColTime(T.!$J$7,T.!$L$7,$AF$1,'Hele året'!E235),IF(AND(C235<>\"\",C236<>\"\"),ColTime(T.!$J$7,T.!$L$7,'Hele året'!D235,'Hele året'!E235),IF(AND(OR(WEEKDAY(A235,2)<6,WEEKDAY(A235,2)=6),C235<>\"\",E235<D235),ColTime(T.!$J$7,T.!$L$7,D235,AF232),IF(AND(WEEKDAY(A235,2)=6,E235<D235),ColTime(T.!$J$7,T.!$L$7,$AF$1,E235),IF(AND(E235<D235,OR(C235<>\"\",WEEKDAY(A235,2)=7)),ColTime(T.!J238,T.!L238,D235,$AF$1),IF(AND(E235<>\"\",OR(C235<>\"\",WEEKDAY(A235,2)=7)),ColTime(T.!$J$7,T.!$L$7,D235,E235),\"\")))))),\"\")","v":""},"",null,null,{"$f":"IFERROR(CHOOSE(WEEKDAY(A235,2),norm!C$1,norm!C$2,norm!C$3,norm!C$4,norm!C$5,norm!C$6,norm!C$7),\"\")","v":"07:30:00"}]
["2019-08-21","On","",null,null,null,"","00:00:00","",{"$f":"IF(AND(C236=\"\",WEEKDAY(A236,2)<6),ColTime(T.!$J$4,T.!$L$4,D236,E236),\"\")","v":"00:00:00"},null,{"$f":"IFERROR(IF(AND(WEEKDAY(A236,2)<6,C237<>\"\",E236<D236,C236=\"\"),ColTime($AE$1,$AF$1,D236,E236),IF(AND(OR(WEEKDAY(A236,2)=7,C236<>\"\"),E236<D236,C237=\"\"),ColTime($AF$1,$AG$1,'Hele året'!$AF$1,E236),IF(AND(WEEKDAY(A236,2)<6,C237=\"\"),ColTime(T.!$J$5,T.!$L$5,D236,E236),\"\"))),\"\")","v":"00:00:00"},null,"",{"$f":"IFERROR(IF(AND(WEEKDAY(A236,2)<6,C237<>\"\",C236=\"\"),ColTime(T.!$J$7,T.!$L$7,$AF$1,'Hele året'!E236),IF(AND(C236<>\"\",C237<>\"\"),ColTime(T.!$J$7,T.!$L$7,'Hele året'!D236,'Hele året'!E236),IF(AND(OR(WEEKDAY(A236,2)<6,WEEKDAY(A236,2)=6),C236<>\"\",E236<D236),ColTime(T.!$J$7,T.!$L$7,D236,AF233),IF(AND(WEEKDAY(A236,2)=6,E236<D236),ColTime(T.!$J$7,T.!$L$7,$AF$1,E236),IF(AND(E236<D236,OR(C236<>\"\",WEEKDAY(A236,2)=7)),ColTime(T.!J239,T.!L239,D236,$AF$1),IF(AND(E236<>\"\",OR(C236<>\"\",WEEKDAY(A236,2)=7)),ColTime(T.!$J$7,T.!$L$7,D236,E236),\"\")))))),\"\")","v":""},"",null,null,{"$f":"IFERROR(CHOOSE(WEEKDAY(A236,2),norm!C$1,norm!C$2,norm!C$3,norm!C$4,norm!C$5,norm!C$6,norm!C$7),\"\")","v":"07:30:00"}]
["2019-08-22","To","",null,null,null,"","00:00:00","",{"$f":"IF(AND(C237=\"\",WEEKDAY(A237,2)<6),ColTime(T.!$J$4,T.!$L$4,D237,E237),\"\")","v":"00:00:00"},null,{"$f":"IFERROR(IF(AND(WEEKDAY(A237,2)<6,C238<>\"\",E237<D237,C237=\"\"),ColTime($AE$1,$AF$1,D237,E237),IF(AND(OR(WEEKDAY(A237,2)=7,C237<>\"\"),E237<D237,C238=\"\"),ColTime($AF$1,$AG$1,'Hele året'!$AF$1,E237),IF(AND(WEEKDAY(A237,2)<6,C238=\"\"),ColTime(T.!$J$5,T.!$L$5,D237,E237),\"\"))),\"\")","v":"00:00:00"},null,"",{"$f":"IFERROR(IF(AND(WEEKDAY(A237,2)<6,C238<>\"\",C237=\"\"),ColTime(T.!$J$7,T.!$L$7,$AF$1,'Hele året'!E237),IF(AND(C237<>\"\",C238<>\"\"),ColTime(T.!$J$7,T.!$L$7,'Hele året'!D237,'Hele året'!E237),IF(AND(OR(WEEKDAY(A237,2)<6,WEEKDAY(A237,2)=6),C237<>\"\",E237<D237),ColTime(T.!$J$7,T.!$L$7,D237,AF234),IF(AND(WEEKDAY(A237,2)=6,E237<D237),ColTime(T.!$J$7,T.!$L$7,$AF$1,E237),IF(AND(E237<D237,OR(C237<>\"\",WEEKDAY(A237,2)=7)),ColTime(T.!J240,T.!L240,D237,$AF$1),IF(AND(E237<>\"\",OR(C237<>\"\",WEEKDAY(A237,2)=7)),ColTime(T.!$J$7,T.!$L$7,D237,E237),\"\")))))),\"\")","v":""},"",null,null,{"$f":"IFERROR(CHOOSE(WEEKDAY(A237,2),norm!C$1,norm!C$2,norm!C$3,norm!C$4,norm!C$5,norm!C$6,norm!C$7),\"\")","v":"07:30:00"}]
["2019-08-23","Fr","",null,null,null,"","00:00:00","",{"$f":"IF(AND(C238=\"\",WEEKDAY(A238,2)<6),ColTime(T.!$J$4,T.!$L$4,D238,E238),\"\")","v":"00:00:00"},null,{"$f":"IFERROR(IF(AND(WEEKDAY(A238,2)<6,C239<>\"\",E238<D238,C238=\"\"),ColTime($AE$1,$AF$1,D238,E238),IF(AND(OR(WEEKDAY(A238,2)=7,C238<>\"\"),E238<D238,C239=\"\"),ColTime($AF$1,$AG$1,'Hele året'!$AF$1,E238),IF(AND(WEEKDAY(A238,2)<6,C239=\"\"),ColTime(T.!$J$5,T.!$L$5,D238,E238),\"\"))),\"\")","v":"00:00:00"},null,"",{"$f":"IFERROR(IF(AND(WEEKDAY(A238,2)<6,C239<>\"\",C238=\"\"),ColTime(T.!$J$7,T.!$L$7,$AF$1,'Hele året'!E238),IF(AND(C238<>\"\",C239<>\"\"),ColTime(T.!$J$7,T.!$L$7,'Hele året'!D238,'Hele året'!E238),IF(AND(OR(WEEKDAY(A238,2)<6,WEEKDAY(A238,2)=6),C238<>\"\",E238<D238),ColTime(T.!$J$7,T.!$L$7,D238,AF235),IF(AND(WEEKDAY(A238,2)=6,E238<D238),ColTime(T.!$J$7,T.!$L$7,$AF$1,E238),IF(AND(E238<D238,OR(C238<>\"\",WEEKDAY(A238,2)=7)),ColTime(T.!J241,T.!L241,D238,$AF$1),IF(AND(E238<>\"\",OR(C238<>\"\",WEEKDAY(A238,2)=7)),ColTime(T.!$J$7,T.!$L$7,D238,E238),\"\")))))),\"\")","v":""},"",null,null,{"$f":"IFERROR(CHOOSE(WEEKDAY(A238,2),norm!C$1,norm!C$2,norm!C$3,norm!C$4,norm!C$5,norm!C$6,norm!C$7),\"\")","v":"07:00:00"}]
["2019-08-24","Lø","",null,null,null,"","00:00:00","",{"$f":"IF(AND(C239=\"\",WEEKDAY(A239,2)<6),ColTime(T.!$J$4,T.!$L$4,D239,E239),\"\")","v":""},null,{"$f":"IFERROR(IF(AND(WEEKDAY(A239,2)<6,C240<>\"\",E239<D239,C239=\"\"),ColTime($AE$1,$AF$1,D239,E239),IF(AND(OR(WEEKDAY(A239,2)=7,C239<>\"\"),E239<D239,C240=\"\"),ColTime($AF$1,$AG$1,'Hele året'!$AF$1,E239),IF(AND(WEEKDAY(A239,2)<6,C240=\"\"),ColTime(T.!$J$5,T.!$L$5,D239,E239),\"\"))),\"\")","v":""},null,"00:00:00",{"$f":"IFERROR(IF(AND(WEEKDAY(A239,2)<6,C240<>\"\",C239=\"\"),ColTime(T.!$J$7,T.!$L$7,$AF$1,'Hele året'!E239),IF(AND(C239<>\"\",C240<>\"\"),ColTime(T.!$J$7,T.!$L$7,'Hele året'!D239,'Hele året'!E239),IF(AND(OR(WEEKDAY(A239,2)<6,WEEKDAY(A239,2)=6),C239<>\"\",E239<D239),ColTime(T.!$J$7,T.!$L$7,D239,AF236),IF(AND(WEEKDAY(A239,2)=6,E239<D239),ColTime(T.!$J$7,T.!$L$7,$AF$1,E239),IF(AND(E239<D239,OR(C239<>\"\",WEEKDAY(A239,2)=7)),ColTime(T.!J242,T.!L242,D239,$AF$1),IF(AND(E239<>\"\",OR(C239<>\"\",WEEKDAY(A239,2)=7)),ColTime(T.!$J$7,T.!$L$7,D239,E239),\"\")))))),\"\")","v":""},"",null,null,{"$f":"IFERROR(CHOOSE(WEEKDAY(A239,2),norm!C$1,norm!C$2,norm!C$3,norm!C$4,norm!C$5,norm!C$6,norm!C$7),\"\")","v":"00:00:00"}]
["2019-08-25","Sø","",null,null,null,"","00:00:00","",{"$f":"IF(AND(C240=\"\",WEEKDAY(A240,2)<6),ColTime(T.!$J$4,T.!$L$4,D240,E240),\"\")","v":""},null,{"$f":"IFERROR(IF(AND(WEEKDAY(A240,2)<6,C241<>\"\",E240<D240,C240=\"\"),ColTime($AE$1,$AF$1,D240,E240),IF(AND(OR(WEEKDAY(A240,2)=7,C240<>\"\"),E240<D240,C241=\"\"),ColTime($AF$1,$AG$1,'Hele året'!$AF$1,E240),IF(AND(WEEKDAY(A240,2)<6,C241=\"\"),ColTime(T.!$J$5,T.!$L$5,D240,E240),\"\"))),\"\")","v":""},null,"",{"$f":"IFERROR(IF(AND(WEEKDAY(A240,2)<6,C241<>\"\",C240=\"\"),ColTime(T.!$J$7,T.!$L$7,$AF$1,'Hele året'!E240),IF(AND(C240<>\"\",C241<>\"\"),ColTime(T.!$J$7,T.!$L$7,'Hele året'!D240,'Hele året'!E240),IF(AND(OR(WEEKDAY(A240,2)<6,WEEKDAY(A240,2)=6),C240<>\"\",E240<D240),ColTime(T.!$J$7,T.!$L$7,D240,AF237),IF(AND(WEEKDAY(A240,2)=6,E240<D240),ColTime(T.!$J$7,T.!$L$7,$AF$1,E240),IF(AND(E240<D240,OR(C240<>\"\",WEEKDAY(A240,2)=7)),ColTime(T.!J243,T.!L243,D240,$AF$1),IF(AND(E240<>\"\",OR(C240<>\"\",WEEKDAY(A240,2)=7)),ColTime(T.!$J$7,T.!$L$7,D240,E240),\"\")))))),\"\")","v":""},"",null,null,{"$f":"IFERROR(CHOOSE(WEEKDAY(A240,2),norm!C$1,norm!C$2,norm!C$3,norm!C$4,norm!C$5,norm!C$6,norm!C$7),\"\")","v":"00:00:00"}]
["2019-08-26","Ma","",null,null,null,"","00:00:00","",{"$f":"IF(AND(C241=\"\",WEEKDAY(A241,2)<6),ColTime(T.!$J$4,T.!$L$4,D241,E241),\"\")","v":"00:00:00"},null,{"$f":"IFERROR(IF(AND(WEEKDAY(A241,2)<6,C242<>\"\",E241<D241,C241=\"\"),ColTime($AE$1,$AF$1,D241,E241),IF(AND(OR(WEEKDAY(A241,2)=7,C241<>\"\"),E241<D241,C242=\"\"),ColTime($AF$1,$AG$1,'Hele året'!$AF$1,E241),IF(AND(WEEKDAY(A241,2)<6,C242=\"\"),ColTime(T.!$J$5,T.!$L$5,D241,E241),\"\"))),\"\")","v":"00:00:00"},null,"",{"$f":"IFERROR(IF(AND(WEEKDAY(A241,2)<6,C242<>\"\",C241=\"\"),ColTime(T.!$J$7,T.!$L$7,$AF$1,'Hele året'!E241),IF(AND(C241<>\"\",C242<>\"\"),ColTime(T.!$J$7,T.!$L$7,'Hele året'!D241,'Hele året'!E241),IF(AND(OR(WEEKDAY(A241,2)<6,WEEKDAY(A241,2)=6),C241<>\"\",E241<D241),ColTime(T.!$J$7,T.!$L$7,D241,AF238),IF(AND(WEEKDAY(A241,2)=6,E241<D241),ColTime(T.!$J$7,T.!$L$7,$AF$1,E241),IF(AND(E241<D241,OR(C241<>\"\",WEEKDAY(A241,2)=7)),ColTime(T.!J244,T.!L244,D241,$AF$1),IF(AND(E241<>\"\",OR(C241<>\"\",WEEKDAY(A241,2)=7)),ColTime(T.!$J$7,T.!$L$7,D241,E241),\"\")))))),\"\")","v":""},"",null,null,{"$f":"IFERROR(CHOOSE(WEEKDAY(A241,2),norm!C$1,norm!C$2,norm!C$3,norm!C$4,norm!C$5,norm!C$6,norm!C$7),\"\")","v":"07:30:00"}]
["2019-08-27","Ti","",null,null,null,"","00:00:00","",{"$f":"IF(AND(C242=\"\",WEEKDAY(A242,2)<6),ColTime(T.!$J$4,T.!$L$4,D242,E242),\"\")","v":"00:00:00"},null,{"$f":"IFERROR(IF(AND(WEEKDAY(A242,2)<6,C243<>\"\",E242<D242,C242=\"\"),ColTime($AE$1,$AF$1,D242,E242),IF(AND(OR(WEEKDAY(A242,2)=7,C242<>\"\"),E242<D242,C243=\"\"),ColTime($AF$1,$AG$1,'Hele året'!$AF$1,E242),IF(AND(WEEKDAY(A242,2)<6,C243=\"\"),ColTime(T.!$J$5,T.!$L$5,D242,E242),\"\"))),\"\")","v":"00:00:00"},null,"",{"$f":"IFERROR(IF(AND(WEEKDAY(A242,2)<6,C243<>\"\",C242=\"\"),ColTime(T.!$J$7,T.!$L$7,$AF$1,'Hele året'!E242),IF(AND(C242<>\"\",C243<>\"\"),ColTime(T.!$J$7,T.!$L$7,'Hele året'!D242,'Hele året'!E242),IF(AND(OR(WEEKDAY(A242,2)<6,WEEKDAY(A242,2)=6),C242<>\"\",E242<D242),ColTime(T.!$J$7,T.!$L$7,D242,AF239),IF(AND(WEEKDAY(A242,2)=6,E242<D242),ColTime(T.!$J$7,T.!$L$7,$AF$1,E242),IF(AND(E242<D242,OR(C242<>\"\",WEEKDAY(A242,2)=7)),ColTime(T.!J245,T.!L245,D242,$AF$1),IF(AND(E242<>\"\",OR(C242<>\"\",WEEKDAY(A242,2)=7)),ColTime(T.!$J$7,T.!$L$7,D242,E242),\"\")))))),\"\")","v":""},"",null,null,{"$f":"IFERROR(CHOOSE(WEEKDAY(A242,2),norm!C$1,norm!C$2,norm!C$3,norm!C$4,norm!C$5,norm!C$6,norm!C$7),\"\")","v":"07:30:00"}]
["2019-08-28","On","",null,null,null,"","00:00:00","",{"$f":"IF(AND(C243=\"\",WEEKDAY(A243,2)<6),ColTime(T.!$J$4,T.!$L$4,D243,E243),\"\")","v":"00:00:00"},null,{"$f":"IFERROR(IF(AND(WEEKDAY(A243,2)<6,C244<>\"\",E243<D243,C243=\"\"),ColTime($AE$1,$AF$1,D243,E243),IF(AND(OR(WEEKDAY(A243,2)=7,C243<>\"\"),E243<D243,C244=\"\"),ColTime($AF$1,$AG$1,'Hele året'!$AF$1,E243),IF(AND(WEEKDAY(A243,2)<6,C244=\"\"),ColTime(T.!$J$5,T.!$L$5,D243,E243),\"\"))),\"\")","v":"00:00:00"},null,"",{"$f":"IFERROR(IF(AND(WEEKDAY(A243,2)<6,C244<>\"\",C243=\"\"),ColTime(T.!$J$7,T.!$L$7,$AF$1,'Hele året'!E243),IF(AND(C243<>\"\",C244<>\"\"),ColTime(T.!$J$7,T.!$L$7,'Hele året'!D243,'Hele året'!E243),IF(AND(OR(WEEKDAY(A243,2)<6,WEEKDAY(A243,2)=6),C243<>\"\",E243<D243),ColTime(T.!$J$7,T.!$L$7,D243,AF240),IF(AND(WEEKDAY(A243,2)=6,E243<D243),ColTime(T.!$J$7,T.!$L$7,$AF$1,E243),IF(AND(E243<D243,OR(C243<>\"\",WEEKDAY(A243,2)=7)),ColTime(T.!J246,T.!L246,D243,$AF$1),IF(AND(E243<>\"\",OR(C243<>\"\",WEEKDAY(A243,2)=7)),ColTime(T.!$J$7,T.!$L$7,D243,E243),\"\")))))),\"\")","v":""},"",null,null,{"$f":"IFERROR(CHOOSE(WEEKDAY(A243,2),norm!C$1,norm!C$2,norm!C$3,norm!C$4,norm!C$5,norm!C$6,norm!C$7),\"\")","v":"07:30:00"}]
["2019-08-29","To","",null,null,null,{"$f":"IF(D244=\"\",\"\",(E244-D244)+(D244>E244)-F244)","v":""},{"$f":"IF(G244=\"\",0,IF(WEEKDAY(A244,2)=7,0,IF(G244>S244,MIN(G244-S244,$AI$1),0)))","v":"00:00:00"},{"$f":"IF(G244=\"\",\"\",IF(G244>S244+H244,G244-(S244+H244),\"\"))","v":""},{"$f":"IF(AND(C244=\"\",WEEKDAY(A244,2)<6),ColTime(T.!$J$4,T.!$L$4,D244,E244),\"\")","v":"00:00:00"},null,{"$f":"IFERROR(IF(AND(WEEKDAY(A244,2)<6,C245<>\"\",E244<D244,C244=\"\"),ColTime($AE$1,$AF$1,D244,E244),IF(AND(OR(WEEKDAY(A244,2)=7,C244<>\"\"),E244<D244,C245=\"\"),ColTime($AF$1,$AG$1,'Hele året'!$AF$1,E244),IF(AND(WEEKDAY(A244,2)<6,C245=\"\"),ColTime(T.!$J$5,T.!$L$5,D244,E244),\"\"))),\"\")","v":"00:00:00"},null,{"$f":"IF(WEEKDAY(A244,2)=6,ColTime(TIME(15,0,0),TIME(24,0,0),D244,E244),\"\")","v":""},{"$f":"IFERROR(IF(AND(WEEKDAY(A244,2)<6,C245<>\"\",C244=\"\"),ColTime(T.!$J$7,T.!$L$7,$AF$1,'Hele året'!E244),IF(AND(C244<>\"\",C245<>\"\"),ColTime(T.!$J$7,T.!$L$7,'Hele året'!D244,'Hele året'!E244),IF(AND(OR(WEEKDAY(A244,2)<6,WEEKDAY(A244,2)=6),C244<>\"\",E244<D244),ColTime(T.!$J$7,T.!$L$7,D244,AF241),IF(AND(WEEKDAY(A244,2)=6,E244<D244),ColTime(T.!$J$7,T.!$L$7,$AF$1,E244),IF(AND(E244<D244,OR(C244<>\"\",WEEKDAY(A244,2)=7)),ColTime(T.!J247,T.!L247,D244,$AF$1),IF(AND(E244<>\"\",OR(C244<>\"\",WEEKDAY(A244,2)=7)),ColTime(T.!$J$7,T.!$L$7,D244,E244),\"\")))))),\"\")","v":""},{"$f":"IFERROR(H244+I244,\"\")","v":""},null,null,{"$f":"IFERROR(CHOOSE(WEEKDAY(A244,2),norm!C$1,norm!C$2,norm!C$3,norm!C$4,norm!C$5,norm!C$6,norm!C$7),\"\")","v":"07:30:00"}]
["2019-08-30","Fr",{"$f":"IF(A245=\"\",\"\",HelligdagsNavn(A245,0,0))","v":""},null,null,null,"","00:00:00","",{"$f":"IF(AND(C245=\"\",WEEKDAY(A245,2)<6),ColTime(T.!$J$4,T.!$L$4,D245,E245),\"\")","v":"00:00:00"},null,{"$f":"IFERROR(IF(AND(WEEKDAY(A245,2)<6,C246<>\"\",E245<D245,C245=\"\"),ColTime($AE$1,$AF$1,D245,E245),IF(AND(OR(WEEKDAY(A245,2)=7,C245<>\"\"),E245<D245,C246=\"\"),ColTime($AF$1,$AG$1,'Hele året'!$AF$1,E245),IF(AND(WEEKDAY(A245,2)<6,C246=\"\"),ColTime(T.!$J$5,T.!$L$5,D245,E245),\"\"))),\"\")","v":"00:00:00"},null,"",{"$f":"IFERROR(IF(AND(WEEKDAY(A245,2)<6,C246<>\"\",C245=\"\"),ColTime(T.!$J$7,T.!$L$7,$AF$1,'Hele året'!E245),IF(AND(C245<>\"\",C246<>\"\"),ColTime(T.!$J$7,T.!$L$7,'Hele året'!D245,'Hele året'!E245),IF(AND(OR(WEEKDAY(A245,2)<6,WEEKDAY(A245,2)=6),C245<>\"\",E245<D245),ColTime(T.!$J$7,T.!$L$7,D245,AF242),IF(AND(WEEKDAY(A245,2)=6,E245<D245),ColTime(T.!$J$7,T.!$L$7,$AF$1,E245),IF(AND(E245<D245,OR(C245<>\"\",WEEKDAY(A245,2)=7)),ColTime(T.!J248,T.!L248,D245,$AF$1),IF(AND(E245<>\"\",OR(C245<>\"\",WEEKDAY(A245,2)=7)),ColTime(T.!$J$7,T.!$L$7,D245,E245),\"\")))))),\"\")","v":""},"",null,null,{"$f":"IFERROR(CHOOSE(WEEKDAY(A245,2),norm!C$1,norm!C$2,norm!C$3,norm!C$4,norm!C$5,norm!C$6,norm!C$7),\"\")","v":"07:00:00"}]
["2019-08-31","Lø","",null,null,null,"","00:00:00","",{"$f":"IF(AND(C246=\"\",WEEKDAY(A246,2)<6),ColTime(T.!$J$4,T.!$L$4,D246,E246),\"\")","v":""},null,{"$f":"IFERROR(IF(AND(WEEKDAY(A246,2)<6,C247<>\"\",E246<D246,C246=\"\"),ColTime($AE$1,$AF$1,D246,E246),IF(AND(OR(WEEKDAY(A246,2)=7,C246<>\"\"),E246<D246,C247=\"\"),ColTime($AF$1,$AG$1,'Hele året'!$AF$1,E246),IF(AND(WEEKDAY(A246,2)<6,C247=\"\"),ColTime(T.!$J$5,T.!$L$5,D246,E246),\"\"))),\"\")","v":""},null,"00:00:00",{"$f":"IFERROR(IF(AND(WEEKDAY(A246,2)<6,C247<>\"\",C246=\"\"),ColTime(T.!$J$7,T.!$L$7,$AF$1,'Hele året'!E246),IF(AND(C246<>\"\",C247<>\"\"),ColTime(T.!$J$7,T.!$L$7,'Hele året'!D246,'Hele året'!E246),IF(AND(OR(WEEKDAY(A246,2)<6,WEEKDAY(A246,2)=6),C246<>\"\",E246<D246),ColTime(T.!$J$7,T.!$L$7,D246,AF243),IF(AND(WEEKDAY(A246,2)=6,E246<D246),ColTime(T.!$J$7,T.!$L$7,$AF$1,E246),IF(AND(E246<D246,OR(C246<>\"\",WEEKDAY(A246,2)=7)),ColTime(T.!J249,T.!L249,D246,$AF$1),IF(AND(E246<>\"\",OR(C246<>\"\",WEEKDAY(A246,2)=7)),ColTime(T.!$J$7,T.!$L$7,D246,E246),\"\")))))),\"\")","v":""},"",null,null,{"$f":"IFERROR(CHOOSE(WEEKDAY(A246,2),norm!C$1,norm!C$2,norm!C$3,norm!C$4,norm!C$5,norm!C$6,norm!C$7),\"\")","v":"00:00:00"}]
["2019-09-01","Sø","",null,null,null,"","00:00:00","",{"$f":"IF(AND(C247=\"\",WEEKDAY(A247,2)<6),ColTime(T.!$J$4,T.!$L$4,D247,E247),\"\")","v":""},null,{"$f":"IFERROR(IF(AND(WEEKDAY(A247,2)<6,C248<>\"\",E247<D247,C247=\"\"),ColTime($AE$1,$AF$1,D247,E247),IF(AND(OR(WEEKDAY(A247,2)=7,C247<>\"\"),E247<D247,C248=\"\"),ColTime($AF$1,$AG$1,'Hele året'!$AF$1,E247),IF(AND(WEEKDAY(A247,2)<6,C248=\"\"),ColTime(T.!$J$5,T.!$L$5,D247,E247),\"\"))),\"\")","v":""},null,"",{"$f":"IFERROR(IF(AND(WEEKDAY(A247,2)<6,C248<>\"\",C247=\"\"),ColTime(T.!$J$7,T.!$L$7,$AF$1,'Hele året'!E247),IF(AND(C247<>\"\",C248<>\"\"),ColTime(T.!$J$7,T.!$L$7,'Hele året'!D247,'Hele året'!E247),IF(AND(OR(WEEKDAY(A247,2)<6,WEEKDAY(A247,2)=6),C247<>\"\",E247<D247),ColTime(T.!$J$7,T.!$L$7,D247,AF244),IF(AND(WEEKDAY(A247,2)=6,E247<D247),ColTime(T.!$J$7,T.!$L$7,$AF$1,E247),IF(AND(E247<D247,OR(C247<>\"\",WEEKDAY(A247,2)=7)),ColTime(T.!J250,T.!L250,D247,$AF$1),IF(AND(E247<>\"\",OR(C247<>\"\",WEEKDAY(A247,2)=7)),ColTime(T.!$J$7,T.!$L$7,D247,E247),\"\")))))),\"\")","v":""},"",null,null,{"$f":"IFERROR(CHOOSE(WEEKDAY(A247,2),norm!C$1,norm!C$2,norm!C$3,norm!C$4,norm!C$5,norm!C$6,norm!C$7),\"\")","v":"00:00:00"}]
["2019-09-02","Ma","",null,null,null,"","00:00:00","",{"$f":"IF(AND(C248=\"\",WEEKDAY(A248,2)<6),ColTime(T.!$J$4,T.!$L$4,D248,E248),\"\")","v":"00:00:00"},null,{"$f":"IFERROR(IF(AND(WEEKDAY(A248,2)<6,C249<>\"\",E248<D248,C248=\"\"),ColTime($AE$1,$AF$1,D248,E248),IF(AND(OR(WEEKDAY(A248,2)=7,C248<>\"\"),E248<D248,C249=\"\"),ColTime($AF$1,$AG$1,'Hele året'!$AF$1,E248),IF(AND(WEEKDAY(A248,2)<6,C249=\"\"),ColTime(T.!$J$5,T.!$L$5,D248,E248),\"\"))),\"\")","v":"00:00:00"},null,"",{"$f":"IFERROR(IF(AND(WEEKDAY(A248,2)<6,C249<>\"\",C248=\"\"),ColTime(T.!$J$7,T.!$L$7,$AF$1,'Hele året'!E248),IF(AND(C248<>\"\",C249<>\"\"),ColTime(T.!$J$7,T.!$L$7,'Hele året'!D248,'Hele året'!E248),IF(AND(OR(WEEKDAY(A248,2)<6,WEEKDAY(A248,2)=6),C248<>\"\",E248<D248),ColTime(T.!$J$7,T.!$L$7,D248,AF245),IF(AND(WEEKDAY(A248,2)=6,E248<D248),ColTime(T.!$J$7,T.!$L$7,$AF$1,E248),IF(AND(E248<D248,OR(C248<>\"\",WEEKDAY(A248,2)=7)),ColTime(T.!J251,T.!L251,D248,$AF$1),IF(AND(E248<>\"\",OR(C248<>\"\",WEEKDAY(A248,2)=7)),ColTime(T.!$J$7,T.!$L$7,D248,E248),\"\")))))),\"\")","v":""},"",null,null,{"$f":"IFERROR(CHOOSE(WEEKDAY(A248,2),norm!C$1,norm!C$2,norm!C$3,norm!C$4,norm!C$5,norm!C$6,norm!C$7),\"\")","v":"07:30:00"}]
["2019-09-03","Ti","",null,null,null,"","00:00:00","",{"$f":"IF(AND(C249=\"\",WEEKDAY(A249,2)<6),ColTime(T.!$J$4,T.!$L$4,D249,E249),\"\")","v":"00:00:00"},null,{"$f":"IFERROR(IF(AND(WEEKDAY(A249,2)<6,C250<>\"\",E249<D249,C249=\"\"),ColTime($AE$1,$AF$1,D249,E249),IF(AND(OR(WEEKDAY(A249,2)=7,C249<>\"\"),E249<D249,C250=\"\"),ColTime($AF$1,$AG$1,'Hele året'!$AF$1,E249),IF(AND(WEEKDAY(A249,2)<6,C250=\"\"),ColTime(T.!$J$5,T.!$L$5,D249,E249),\"\"))),\"\")","v":"00:00:00"},null,"",{"$f":"IFERROR(IF(AND(WEEKDAY(A249,2)<6,C250<>\"\",C249=\"\"),ColTime(T.!$J$7,T.!$L$7,$AF$1,'Hele året'!E249),IF(AND(C249<>\"\",C250<>\"\"),ColTime(T.!$J$7,T.!$L$7,'Hele året'!D249,'Hele året'!E249),IF(AND(OR(WEEKDAY(A249,2)<6,WEEKDAY(A249,2)=6),C249<>\"\",E249<D249),ColTime(T.!$J$7,T.!$L$7,D249,AF246),IF(AND(WEEKDAY(A249,2)=6,E249<D249),ColTime(T.!$J$7,T.!$L$7,$AF$1,E249),IF(AND(E249<D249,OR(C249<>\"\",WEEKDAY(A249,2)=7)),ColTime(T.!J252,T.!L252,D249,$AF$1),IF(AND(E249<>\"\",OR(C249<>\"\",WEEKDAY(A249,2)=7)),ColTime(T.!$J$7,T.!$L$7,D249,E249),\"\")))))),\"\")","v":""},"",null,null,{"$f":"IFERROR(CHOOSE(WEEKDAY(A249,2),norm!C$1,norm!C$2,norm!C$3,norm!C$4,norm!C$5,norm!C$6,norm!C$7),\"\")","v":"07:30:00"}]
["2019-09-04","On","",null,null,null,"","00:00:00","",{"$f":"IF(AND(C250=\"\",WEEKDAY(A250,2)<6),ColTime(T.!$J$4,T.!$L$4,D250,E250),\"\")","v":"00:00:00"},null,{"$f":"IFERROR(IF(AND(WEEKDAY(A250,2)<6,C251<>\"\",E250<D250,C250=\"\"),ColTime($AE$1,$AF$1,D250,E250),IF(AND(OR(WEEKDAY(A250,2)=7,C250<>\"\"),E250<D250,C251=\"\"),ColTime($AF$1,$AG$1,'Hele året'!$AF$1,E250),IF(AND(WEEKDAY(A250,2)<6,C251=\"\"),ColTime(T.!$J$5,T.!$L$5,D250,E250),\"\"))),\"\")","v":"00:00:00"},null,"",{"$f":"IFERROR(IF(AND(WEEKDAY(A250,2)<6,C251<>\"\",C250=\"\"),ColTime(T.!$J$7,T.!$L$7,$AF$1,'Hele året'!E250),IF(AND(C250<>\"\",C251<>\"\"),ColTime(T.!$J$7,T.!$L$7,'Hele året'!D250,'Hele året'!E250),IF(AND(OR(WEEKDAY(A250,2)<6,WEEKDAY(A250,2)=6),C250<>\"\",E250<D250),ColTime(T.!$J$7,T.!$L$7,D250,AF247),IF(AND(WEEKDAY(A250,2)=6,E250<D250),ColTime(T.!$J$7,T.!$L$7,$AF$1,E250),IF(AND(E250<D250,OR(C250<>\"\",WEEKDAY(A250,2)=7)),ColTime(T.!J253,T.!L253,D250,$AF$1),IF(AND(E250<>\"\",OR(C250<>\"\",WEEKDAY(A250,2)=7)),ColTime(T.!$J$7,T.!$L$7,D250,E250),\"\")))))),\"\")","v":""},"",null,null,{"$f":"IFERROR(CHOOSE(WEEKDAY(A250,2),norm!C$1,norm!C$2,norm!C$3,norm!C$4,norm!C$5,norm!C$6,norm!C$7),\"\")","v":"07:30:00"}]
["2019-09-05","To","",null,null,null,"","00:00:00","",{"$f":"IF(AND(C251=\"\",WEEKDAY(A251,2)<6),ColTime(T.!$J$4,T.!$L$4,D251,E251),\"\")","v":"00:00:00"},null,{"$f":"IFERROR(IF(AND(WEEKDAY(A251,2)<6,C252<>\"\",E251<D251,C251=\"\"),ColTime($AE$1,$AF$1,D251,E251),IF(AND(OR(WEEKDAY(A251,2)=7,C251<>\"\"),E251<D251,C252=\"\"),ColTime($AF$1,$AG$1,'Hele året'!$AF$1,E251),IF(AND(WEEKDAY(A251,2)<6,C252=\"\"),ColTime(T.!$J$5,T.!$L$5,D251,E251),\"\"))),\"\")","v":"00:00:00"},null,"",{"$f":"IFERROR(IF(AND(WEEKDAY(A251,2)<6,C252<>\"\",C251=\"\"),ColTime(T.!$J$7,T.!$L$7,$AF$1,'Hele året'!E251),IF(AND(C251<>\"\",C252<>\"\"),ColTime(T.!$J$7,T.!$L$7,'Hele året'!D251,'Hele året'!E251),IF(AND(OR(WEEKDAY(A251,2)<6,WEEKDAY(A251,2)=6),C251<>\"\",E251<D251),ColTime(T.!$J$7,T.!$L$7,D251,AF248),IF(AND(WEEKDAY(A251,2)=6,E251<D251),ColTime(T.!$J$7,T.!$L$7,$AF$1,E251),IF(AND(E251<D251,OR(C251<>\"\",WEEKDAY(A251,2)=7)),ColTime(T.!J254,T.!L254,D251,$AF$1),IF(AND(E251<>\"\",OR(C251<>\"\",WEEKDAY(A251,2)=7)),ColTime(T.!$J$7,T.!$L$7,D251,E251),\"\")))))),\"\")","v":""},"",null,null,{"$f":"IFERROR(CHOOSE(WEEKDAY(A251,2),norm!C$1,norm!C$2,norm!C$3,norm!C$4,norm!C$5,norm!C$6,norm!C$7),\"\")","v":"07:30:00"}]
["2019-09-06","Fr","",null,null,null,"","00:00:00","",{"$f":"IF(AND(C252=\"\",WEEKDAY(A252,2)<6),ColTime(T.!$J$4,T.!$L$4,D252,E252),\"\")","v":"00:00:00"},null,{"$f":"IFERROR(IF(AND(WEEKDAY(A252,2)<6,C253<>\"\",E252<D252,C252=\"\"),ColTime($AE$1,$AF$1,D252,E252),IF(AND(OR(WEEKDAY(A252,2)=7,C252<>\"\"),E252<D252,C253=\"\"),ColTime($AF$1,$AG$1,'Hele året'!$AF$1,E252),IF(AND(WEEKDAY(A252,2)<6,C253=\"\"),ColTime(T.!$J$5,T.!$L$5,D252,E252),\"\"))),\"\")","v":"00:00:00"},null,"",{"$f":"IFERROR(IF(AND(WEEKDAY(A252,2)<6,C253<>\"\",C252=\"\"),ColTime(T.!$J$7,T.!$L$7,$AF$1,'Hele året'!E252),IF(AND(C252<>\"\",C253<>\"\"),ColTime(T.!$J$7,T.!$L$7,'Hele året'!D252,'Hele året'!E252),IF(AND(OR(WEEKDAY(A252,2)<6,WEEKDAY(A252,2)=6),C252<>\"\",E252<D252),ColTime(T.!$J$7,T.!$L$7,D252,AF249),IF(AND(WEEKDAY(A252,2)=6,E252<D252),ColTime(T.!$J$7,T.!$L$7,$AF$1,E252),IF(AND(E252<D252,OR(C252<>\"\",WEEKDAY(A252,2)=7)),ColTime(T.!J255,T.!L255,D252,$AF$1),IF(AND(E252<>\"\",OR(C252<>\"\",WEEKDAY(A252,2)=7)),ColTime(T.!$J$7,T.!$L$7,D252,E252),\"\")))))),\"\")","v":""},"",null,null,{"$f":"IFERROR(CHOOSE(WEEKDAY(A252,2),norm!C$1,norm!C$2,norm!C$3,norm!C$4,norm!C$5,norm!C$6,norm!C$7),\"\")","v":"07:00:00"}]
["2019-09-07","Lø","",null,null,null,"","00:00:00","",{"$f":"IF(AND(C253=\"\",WEEKDAY(A253,2)<6),ColTime(T.!$J$4,T.!$L$4,D253,E253),\"\")","v":""},null,{"$f":"IFERROR(IF(AND(WEEKDAY(A253,2)<6,C254<>\"\",E253<D253,C253=\"\"),ColTime($AE$1,$AF$1,D253,E253),IF(AND(OR(WEEKDAY(A253,2)=7,C253<>\"\"),E253<D253,C254=\"\"),ColTime($AF$1,$AG$1,'Hele året'!$AF$1,E253),IF(AND(WEEKDAY(A253,2)<6,C254=\"\"),ColTime(T.!$J$5,T.!$L$5,D253,E253),\"\"))),\"\")","v":""},null,"00:00:00",{"$f":"IFERROR(IF(AND(WEEKDAY(A253,2)<6,C254<>\"\",C253=\"\"),ColTime(T.!$J$7,T.!$L$7,$AF$1,'Hele året'!E253),IF(AND(C253<>\"\",C254<>\"\"),ColTime(T.!$J$7,T.!$L$7,'Hele året'!D253,'Hele året'!E253),IF(AND(OR(WEEKDAY(A253,2)<6,WEEKDAY(A253,2)=6),C253<>\"\",E253<D253),ColTime(T.!$J$7,T.!$L$7,D253,AF250),IF(AND(WEEKDAY(A253,2)=6,E253<D253),ColTime(T.!$J$7,T.!$L$7,$AF$1,E253),IF(AND(E253<D253,OR(C253<>\"\",WEEKDAY(A253,2)=7)),ColTime(T.!J256,T.!L256,D253,$AF$1),IF(AND(E253<>\"\",OR(C253<>\"\",WEEKDAY(A253,2)=7)),ColTime(T.!$J$7,T.!$L$7,D253,E253),\"\")))))),\"\")","v":""},"",null,null,{"$f":"IFERROR(CHOOSE(WEEKDAY(A253,2),norm!C$1,norm!C$2,norm!C$3,norm!C$4,norm!C$5,norm!C$6,norm!C$7),\"\")","v":"00:00:00"}]
["2019-09-08","Sø","",null,null,null,"","00:00:00","",{"$f":"IF(AND(C254=\"\",WEEKDAY(A254,2)<6),ColTime(T.!$J$4,T.!$L$4,D254,E254),\"\")","v":""},null,{"$f":"IFERROR(IF(AND(WEEKDAY(A254,2)<6,C255<>\"\",E254<D254,C254=\"\"),ColTime($AE$1,$AF$1,D254,E254),IF(AND(OR(WEEKDAY(A254,2)=7,C254<>\"\"),E254<D254,C255=\"\"),ColTime($AF$1,$AG$1,'Hele året'!$AF$1,E254),IF(AND(WEEKDAY(A254,2)<6,C255=\"\"),ColTime(T.!$J$5,T.!$L$5,D254,E254),\"\"))),\"\")","v":""},null,"",{"$f":"IFERROR(IF(AND(WEEKDAY(A254,2)<6,C255<>\"\",C254=\"\"),ColTime(T.!$J$7,T.!$L$7,$AF$1,'Hele året'!E254),IF(AND(C254<>\"\",C255<>\"\"),ColTime(T.!$J$7,T.!$L$7,'Hele året'!D254,'Hele året'!E254),IF(AND(OR(WEEKDAY(A254,2)<6,WEEKDAY(A254,2)=6),C254<>\"\",E254<D254),ColTime(T.!$J$7,T.!$L$7,D254,AF251),IF(AND(WEEKDAY(A254,2)=6,E254<D254),ColTime(T.!$J$7,T.!$L$7,$AF$1,E254),IF(AND(E254<D254,OR(C254<>\"\",WEEKDAY(A254,2)=7)),ColTime(T.!J257,T.!L257,D254,$AF$1),IF(AND(E254<>\"\",OR(C254<>\"\",WEEKDAY(A254,2)=7)),ColTime(T.!$J$7,T.!$L$7,D254,E254),\"\")))))),\"\")","v":""},"",null,null,{"$f":"IFERROR(CHOOSE(WEEKDAY(A254,2),norm!C$1,norm!C$2,norm!C$3,norm!C$4,norm!C$5,norm!C$6,norm!C$7),\"\")","v":"00:00:00"}]
["2019-09-09","Ma","",null,null,null,"","00:00:00","",{"$f":"IF(AND(C255=\"\",WEEKDAY(A255,2)<6),ColTime(T.!$J$4,T.!$L$4,D255,E255),\"\")","v":"00:00:00"},null,{"$f":"IFERROR(IF(AND(WEEKDAY(A255,2)<6,C256<>\"\",E255<D255,C255=\"\"),ColTime($AE$1,$AF$1,D255,E255),IF(AND(OR(WEEKDAY(A255,2)=7,C255<>\"\"),E255<D255,C256=\"\"),ColTime($AF$1,$AG$1,'Hele året'!$AF$1,E255),IF(AND(WEEKDAY(A255,2)<6,C256=\"\"),ColTime(T.!$J$5,T.!$L$5,D255,E255),\"\"))),\"\")","v":"00:00:00"},null,"",{"$f":"IFERROR(IF(AND(WEEKDAY(A255,2)<6,C256<>\"\",C255=\"\"),ColTime(T.!$J$7,T.!$L$7,$AF$1,'Hele året'!E255),IF(AND(C255<>\"\",C256<>\"\"),ColTime(T.!$J$7,T.!$L$7,'Hele året'!D255,'Hele året'!E255),IF(AND(OR(WEEKDAY(A255,2)<6,WEEKDAY(A255,2)=6),C255<>\"\",E255<D255),ColTime(T.!$J$7,T.!$L$7,D255,AF252),IF(AND(WEEKDAY(A255,2)=6,E255<D255),ColTime(T.!$J$7,T.!$L$7,$AF$1,E255),IF(AND(E255<D255,OR(C255<>\"\",WEEKDAY(A255,2)=7)),ColTime(T.!J258,T.!L258,D255,$AF$1),IF(AND(E255<>\"\",OR(C255<>\"\",WEEKDAY(A255,2)=7)),ColTime(T.!$J$7,T.!$L$7,D255,E255),\"\")))))),\"\")","v":""},"",null,null,{"$f":"IFERROR(CHOOSE(WEEKDAY(A255,2),norm!C$1,norm!C$2,norm!C$3,norm!C$4,norm!C$5,norm!C$6,norm!C$7),\"\")","v":"07:30:00"}]
["2019-09-10","Ti","",null,null,null,"","00:00:00","",{"$f":"IF(AND(C256=\"\",WEEKDAY(A256,2)<6),ColTime(T.!$J$4,T.!$L$4,D256,E256),\"\")","v":"00:00:00"},null,{"$f":"IFERROR(IF(AND(WEEKDAY(A256,2)<6,C257<>\"\",E256<D256,C256=\"\"),ColTime($AE$1,$AF$1,D256,E256),IF(AND(OR(WEEKDAY(A256,2)=7,C256<>\"\"),E256<D256,C257=\"\"),ColTime($AF$1,$AG$1,'Hele året'!$AF$1,E256),IF(AND(WEEKDAY(A256,2)<6,C257=\"\"),ColTime(T.!$J$5,T.!$L$5,D256,E256),\"\"))),\"\")","v":"00:00:00"},null,"",{"$f":"IFERROR(IF(AND(WEEKDAY(A256,2)<6,C257<>\"\",C256=\"\"),ColTime(T.!$J$7,T.!$L$7,$AF$1,'Hele året'!E256),IF(AND(C256<>\"\",C257<>\"\"),ColTime(T.!$J$7,T.!$L$7,'Hele året'!D256,'Hele året'!E256),IF(AND(OR(WEEKDAY(A256,2)<6,WEEKDAY(A256,2)=6),C256<>\"\",E256<D256),ColTime(T.!$J$7,T.!$L$7,D256,AF253),IF(AND(WEEKDAY(A256,2)=6,E256<D256),ColTime(T.!$J$7,T.!$L$7,$AF$1,E256),IF(AND(E256<D256,OR(C256<>\"\",WEEKDAY(A256,2)=7)),ColTime(T.!J259,T.!L259,D256,$AF$1),IF(AND(E256<>\"\",OR(C256<>\"\",WEEKDAY(A256,2)=7)),ColTime(T.!$J$7,T.!$L$7,D256,E256),\"\")))))),\"\")","v":""},"",null,null,{"$f":"IFERROR(CHOOSE(WEEKDAY(A256,2),norm!C$1,norm!C$2,norm!C$3,norm!C$4,norm!C$5,norm!C$6,norm!C$7),\"\")","v":"07:30:00"}]
["2019-09-11","On","",null,null,null,"","00:00:00","",{"$f":"IF(AND(C257=\"\",WEEKDAY(A257,2)<6),ColTime(T.!$J$4,T.!$L$4,D257,E257),\"\")","v":"00:00:00"},null,{"$f":"IFERROR(IF(AND(WEEKDAY(A257,2)<6,C258<>\"\",E257<D257,C257=\"\"),ColTime($AE$1,$AF$1,D257,E257),IF(AND(OR(WEEKDAY(A257,2)=7,C257<>\"\"),E257<D257,C258=\"\"),ColTime($AF$1,$AG$1,'Hele året'!$AF$1,E257),IF(AND(WEEKDAY(A257,2)<6,C258=\"\"),ColTime(T.!$J$5,T.!$L$5,D257,E257),\"\"))),\"\")","v":"00:00:00"},null,"",{"$f":"IFERROR(IF(AND(WEEKDAY(A257,2)<6,C258<>\"\",C257=\"\"),ColTime(T.!$J$7,T.!$L$7,$AF$1,'Hele året'!E257),IF(AND(C257<>\"\",C258<>\"\"),ColTime(T.!$J$7,T.!$L$7,'Hele året'!D257,'Hele året'!E257),IF(AND(OR(WEEKDAY(A257,2)<6,WEEKDAY(A257,2)=6),C257<>\"\",E257<D257),ColTime(T.!$J$7,T.!$L$7,D257,AF254),IF(AND(WEEKDAY(A257,2)=6,E257<D257),ColTime(T.!$J$7,T.!$L$7,$AF$1,E257),IF(AND(E257<D257,OR(C257<>\"\",WEEKDAY(A257,2)=7)),ColTime(T.!J260,T.!L260,D257,$AF$1),IF(AND(E257<>\"\",OR(C257<>\"\",WEEKDAY(A257,2)=7)),ColTime(T.!$J$7,T.!$L$7,D257,E257),\"\")))))),\"\")","v":""},"",null,null,{"$f":"IFERROR(CHOOSE(WEEKDAY(A257,2),norm!C$1,norm!C$2,norm!C$3,norm!C$4,norm!C$5,norm!C$6,norm!C$7),\"\")","v":"07:30:00"}]
["2019-09-12","To","",null,null,null,"","00:00:00","",{"$f":"IF(AND(C258=\"\",WEEKDAY(A258,2)<6),ColTime(T.!$J$4,T.!$L$4,D258,E258),\"\")","v":"00:00:00"},null,{"$f":"IFERROR(IF(AND(WEEKDAY(A258,2)<6,C259<>\"\",E258<D258,C258=\"\"),ColTime($AE$1,$AF$1,D258,E258),IF(AND(OR(WEEKDAY(A258,2)=7,C258<>\"\"),E258<D258,C259=\"\"),ColTime($AF$1,$AG$1,'Hele året'!$AF$1,E258),IF(AND(WEEKDAY(A258,2)<6,C259=\"\"),ColTime(T.!$J$5,T.!$L$5,D258,E258),\"\"))),\"\")","v":"00:00:00"},null,"",{"$f":"IFERROR(IF(AND(WEEKDAY(A258,2)<6,C259<>\"\",C258=\"\"),ColTime(T.!$J$7,T.!$L$7,$AF$1,'Hele året'!E258),IF(AND(C258<>\"\",C259<>\"\"),ColTime(T.!$J$7,T.!$L$7,'Hele året'!D258,'Hele året'!E258),IF(AND(OR(WEEKDAY(A258,2)<6,WEEKDAY(A258,2)=6),C258<>\"\",E258<D258),ColTime(T.!$J$7,T.!$L$7,D258,AF255),IF(AND(WEEKDAY(A258,2)=6,E258<D258),ColTime(T.!$J$7,T.!$L$7,$AF$1,E258),IF(AND(E258<D258,OR(C258<>\"\",WEEKDAY(A258,2)=7)),ColTime(T.!J261,T.!L261,D258,$AF$1),IF(AND(E258<>\"\",OR(C258<>\"\",WEEKDAY(A258,2)=7)),ColTime(T.!$J$7,T.!$L$7,D258,E258),\"\")))))),\"\")","v":""},"",null,null,{"$f":"IFERROR(CHOOSE(WEEKDAY(A258,2),norm!C$1,norm!C$2,norm!C$3,norm!C$4,norm!C$5,norm!C$6,norm!C$7),\"\")","v":"07:30:00"}]
["2019-09-13","Fr","",null,null,null,"","00:00:00","",{"$f":"IF(AND(C259=\"\",WEEKDAY(A259,2)<6),ColTime(T.!$J$4,T.!$L$4,D259,E259),\"\")","v":"00:00:00"},null,{"$f":"IFERROR(IF(AND(WEEKDAY(A259,2)<6,C260<>\"\",E259<D259,C259=\"\"),ColTime($AE$1,$AF$1,D259,E259),IF(AND(OR(WEEKDAY(A259,2)=7,C259<>\"\"),E259<D259,C260=\"\"),ColTime($AF$1,$AG$1,'Hele året'!$AF$1,E259),IF(AND(WEEKDAY(A259,2)<6,C260=\"\"),ColTime(T.!$J$5,T.!$L$5,D259,E259),\"\"))),\"\")","v":"00:00:00"},null,"",{"$f":"IFERROR(IF(AND(WEEKDAY(A259,2)<6,C260<>\"\",C259=\"\"),ColTime(T.!$J$7,T.!$L$7,$AF$1,'Hele året'!E259),IF(AND(C259<>\"\",C260<>\"\"),ColTime(T.!$J$7,T.!$L$7,'Hele året'!D259,'Hele året'!E259),IF(AND(OR(WEEKDAY(A259,2)<6,WEEKDAY(A259,2)=6),C259<>\"\",E259<D259),ColTime(T.!$J$7,T.!$L$7,D259,AF256),IF(AND(WEEKDAY(A259,2)=6,E259<D259),ColTime(T.!$J$7,T.!$L$7,$AF$1,E259),IF(AND(E259<D259,OR(C259<>\"\",WEEKDAY(A259,2)=7)),ColTime(T.!J262,T.!L262,D259,$AF$1),IF(AND(E259<>\"\",OR(C259<>\"\",WEEKDAY(A259,2)=7)),ColTime(T.!$J$7,T.!$L$7,D259,E259),\"\")))))),\"\")","v":""},"",null,null,{"$f":"IFERROR(CHOOSE(WEEKDAY(A259,2),norm!C$1,norm!C$2,norm!C$3,norm!C$4,norm!C$5,norm!C$6,norm!C$7),\"\")","v":"07:00:00"}]
["2019-09-14","Lø","",null,null,null,"","00:00:00","",{"$f":"IF(AND(C260=\"\",WEEKDAY(A260,2)<6),ColTime(T.!$J$4,T.!$L$4,D260,E260),\"\")","v":""},null,{"$f":"IFERROR(IF(AND(WEEKDAY(A260,2)<6,C261<>\"\",E260<D260,C260=\"\"),ColTime($AE$1,$AF$1,D260,E260),IF(AND(OR(WEEKDAY(A260,2)=7,C260<>\"\"),E260<D260,C261=\"\"),ColTime($AF$1,$AG$1,'Hele året'!$AF$1,E260),IF(AND(WEEKDAY(A260,2)<6,C261=\"\"),ColTime(T.!$J$5,T.!$L$5,D260,E260),\"\"))),\"\")","v":""},null,"00:00:00",{"$f":"IFERROR(IF(AND(WEEKDAY(A260,2)<6,C261<>\"\",C260=\"\"),ColTime(T.!$J$7,T.!$L$7,$AF$1,'Hele året'!E260),IF(AND(C260<>\"\",C261<>\"\"),ColTime(T.!$J$7,T.!$L$7,'Hele året'!D260,'Hele året'!E260),IF(AND(OR(WEEKDAY(A260,2)<6,WEEKDAY(A260,2)=6),C260<>\"\",E260<D260),ColTime(T.!$J$7,T.!$L$7,D260,AF257),IF(AND(WEEKDAY(A260,2)=6,E260<D260),ColTime(T.!$J$7,T.!$L$7,$AF$1,E260),IF(AND(E260<D260,OR(C260<>\"\",WEEKDAY(A260,2)=7)),ColTime(T.!J263,T.!L263,D260,$AF$1),IF(AND(E260<>\"\",OR(C260<>\"\",WEEKDAY(A260,2)=7)),ColTime(T.!$J$7,T.!$L$7,D260,E260),\"\")))))),\"\")","v":""},"",null,null,{"$f":"IFERROR(CHOOSE(WEEKDAY(A260,2),norm!C$1,norm!C$2,norm!C$3,norm!C$4,norm!C$5,norm!C$6,norm!C$7),\"\")","v":"00:00:00"}]
["2019-09-15","Sø","","16:00:00","20:00:00",null,0.16666666666666674,"00:00:00","04:00:00",{"$f":"IF(AND(C261=\"\",WEEKDAY(A261,2)<6),ColTime(T.!$J$4,T.!$L$4,D261,E261),\"\")","v":""},null,{"$f":"IFERROR(IF(AND(WEEKDAY(A261,2)<6,C262<>\"\",E261<D261,C261=\"\"),ColTime($AE$1,$AF$1,D261,E261),IF(AND(OR(WEEKDAY(A261,2)=7,C261<>\"\"),E261<D261,C262=\"\"),ColTime($AF$1,$AG$1,'Hele året'!$AF$1,E261),IF(AND(WEEKDAY(A261,2)<6,C262=\"\"),ColTime(T.!$J$5,T.!$L$5,D261,E261),\"\"))),\"\")","v":""},null,"",{"$f":"IFERROR(IF(AND(WEEKDAY(A261,2)<6,C262<>\"\",C261=\"\"),ColTime(T.!$J$7,T.!$L$7,$AF$1,'Hele året'!E261),IF(AND(C261<>\"\",C262<>\"\"),ColTime(T.!$J$7,T.!$L$7,'Hele året'!D261,'Hele året'!E261),IF(AND(OR(WEEKDAY(A261,2)<6,WEEKDAY(A261,2)=6),C261<>\"\",E261<D261),ColTime(T.!$J$7,T.!$L$7,D261,AF258),IF(AND(WEEKDAY(A261,2)=6,E261<D261),ColTime(T.!$J$7,T.!$L$7,$AF$1,E261),IF(AND(E261<D261,OR(C261<>\"\",WEEKDAY(A261,2)=7)),ColTime(T.!J264,T.!L264,D261,$AF$1),IF(AND(E261<>\"\",OR(C261<>\"\",WEEKDAY(A261,2)=7)),ColTime(T.!$J$7,T.!$L$7,D261,E261),\"\")))))),\"\")","v":"04:00:00"},"04:00:00",null,null,{"$f":"IFERROR(CHOOSE(WEEKDAY(A261,2),norm!C$1,norm!C$2,norm!C$3,norm!C$4,norm!C$5,norm!C$6,norm!C$7),\"\")","v":"00:00:00"}]
["2019-09-16","Ma","",null,null,null,"","00:00:00","",{"$f":"IF(AND(C262=\"\",WEEKDAY(A262,2)<6),ColTime(T.!$J$4,T.!$L$4,D262,E262),\"\")","v":"00:00:00"},null,{"$f":"IFERROR(IF(AND(WEEKDAY(A262,2)<6,C263<>\"\",E262<D262,C262=\"\"),ColTime($AE$1,$AF$1,D262,E262),IF(AND(OR(WEEKDAY(A262,2)=7,C262<>\"\"),E262<D262,C263=\"\"),ColTime($AF$1,$AG$1,'Hele året'!$AF$1,E262),IF(AND(WEEKDAY(A262,2)<6,C263=\"\"),ColTime(T.!$J$5,T.!$L$5,D262,E262),\"\"))),\"\")","v":"00:00:00"},null,"",{"$f":"IFERROR(IF(AND(WEEKDAY(A262,2)<6,C263<>\"\",C262=\"\"),ColTime(T.!$J$7,T.!$L$7,$AF$1,'Hele året'!E262),IF(AND(C262<>\"\",C263<>\"\"),ColTime(T.!$J$7,T.!$L$7,'Hele året'!D262,'Hele året'!E262),IF(AND(OR(WEEKDAY(A262,2)<6,WEEKDAY(A262,2)=6),C262<>\"\",E262<D262),ColTime(T.!$J$7,T.!$L$7,D262,AF259),IF(AND(WEEKDAY(A262,2)=6,E262<D262),ColTime(T.!$J$7,T.!$L$7,$AF$1,E262),IF(AND(E262<D262,OR(C262<>\"\",WEEKDAY(A262,2)=7)),ColTime(T.!J265,T.!L265,D262,$AF$1),IF(AND(E262<>\"\",OR(C262<>\"\",WEEKDAY(A262,2)=7)),ColTime(T.!$J$7,T.!$L$7,D262,E262),\"\")))))),\"\")","v":""},"",null,null,{"$f":"IFERROR(CHOOSE(WEEKDAY(A262,2),norm!C$1,norm!C$2,norm!C$3,norm!C$4,norm!C$5,norm!C$6,norm!C$7),\"\")","v":"07:30:00"}]
["2019-09-17","Ti","",null,null,null,"","00:00:00","",{"$f":"IF(AND(C263=\"\",WEEKDAY(A263,2)<6),ColTime(T.!$J$4,T.!$L$4,D263,E263),\"\")","v":"00:00:00"},null,{"$f":"IFERROR(IF(AND(WEEKDAY(A263,2)<6,C264<>\"\",E263<D263,C263=\"\"),ColTime($AE$1,$AF$1,D263,E263),IF(AND(OR(WEEKDAY(A263,2)=7,C263<>\"\"),E263<D263,C264=\"\"),ColTime($AF$1,$AG$1,'Hele året'!$AF$1,E263),IF(AND(WEEKDAY(A263,2)<6,C264=\"\"),ColTime(T.!$J$5,T.!$L$5,D263,E263),\"\"))),\"\")","v":"00:00:00"},null,"",{"$f":"IFERROR(IF(AND(WEEKDAY(A263,2)<6,C264<>\"\",C263=\"\"),ColTime(T.!$J$7,T.!$L$7,$AF$1,'Hele året'!E263),IF(AND(C263<>\"\",C264<>\"\"),ColTime(T.!$J$7,T.!$L$7,'Hele året'!D263,'Hele året'!E263),IF(AND(OR(WEEKDAY(A263,2)<6,WEEKDAY(A263,2)=6),C263<>\"\",E263<D263),ColTime(T.!$J$7,T.!$L$7,D263,AF260),IF(AND(WEEKDAY(A263,2)=6,E263<D263),ColTime(T.!$J$7,T.!$L$7,$AF$1,E263),IF(AND(E263<D263,OR(C263<>\"\",WEEKDAY(A263,2)=7)),ColTime(T.!J266,T.!L266,D263,$AF$1),IF(AND(E263<>\"\",OR(C263<>\"\",WEEKDAY(A263,2)=7)),ColTime(T.!$J$7,T.!$L$7,D263,E263),\"\")))))),\"\")","v":""},"",null,null,{"$f":"IFERROR(CHOOSE(WEEKDAY(A263,2),norm!C$1,norm!C$2,norm!C$3,norm!C$4,norm!C$5,norm!C$6,norm!C$7),\"\")","v":"07:30:00"}]
["2019-09-18","On","",null,null,null,"","00:00:00","",{"$f":"IF(AND(C264=\"\",WEEKDAY(A264,2)<6),ColTime(T.!$J$4,T.!$L$4,D264,E264),\"\")","v":"00:00:00"},null,{"$f":"IFERROR(IF(AND(WEEKDAY(A264,2)<6,C265<>\"\",E264<D264,C264=\"\"),ColTime($AE$1,$AF$1,D264,E264),IF(AND(OR(WEEKDAY(A264,2)=7,C264<>\"\"),E264<D264,C265=\"\"),ColTime($AF$1,$AG$1,'Hele året'!$AF$1,E264),IF(AND(WEEKDAY(A264,2)<6,C265=\"\"),ColTime(T.!$J$5,T.!$L$5,D264,E264),\"\"))),\"\")","v":"00:00:00"},null,"",{"$f":"IFERROR(IF(AND(WEEKDAY(A264,2)<6,C265<>\"\",C264=\"\"),ColTime(T.!$J$7,T.!$L$7,$AF$1,'Hele året'!E264),IF(AND(C264<>\"\",C265<>\"\"),ColTime(T.!$J$7,T.!$L$7,'Hele året'!D264,'Hele året'!E264),IF(AND(OR(WEEKDAY(A264,2)<6,WEEKDAY(A264,2)=6),C264<>\"\",E264<D264),ColTime(T.!$J$7,T.!$L$7,D264,AF261),IF(AND(WEEKDAY(A264,2)=6,E264<D264),ColTime(T.!$J$7,T.!$L$7,$AF$1,E264),IF(AND(E264<D264,OR(C264<>\"\",WEEKDAY(A264,2)=7)),ColTime(T.!J267,T.!L267,D264,$AF$1),IF(AND(E264<>\"\",OR(C264<>\"\",WEEKDAY(A264,2)=7)),ColTime(T.!$J$7,T.!$L$7,D264,E264),\"\")))))),\"\")","v":""},"",null,null,{"$f":"IFERROR(CHOOSE(WEEKDAY(A264,2),norm!C$1,norm!C$2,norm!C$3,norm!C$4,norm!C$5,norm!C$6,norm!C$7),\"\")","v":"07:30:00"}]
["2019-09-19","To","",null,null,null,"","00:00:00","",{"$f":"IF(AND(C265=\"\",WEEKDAY(A265,2)<6),ColTime(T.!$J$4,T.!$L$4,D265,E265),\"\")","v":"00:00:00"},null,{"$f":"IFERROR(IF(AND(WEEKDAY(A265,2)<6,C266<>\"\",E265<D265,C265=\"\"),ColTime($AE$1,$AF$1,D265,E265),IF(AND(OR(WEEKDAY(A265,2)=7,C265<>\"\"),E265<D265,C266=\"\"),ColTime($AF$1,$AG$1,'Hele året'!$AF$1,E265),IF(AND(WEEKDAY(A265,2)<6,C266=\"\"),ColTime(T.!$J$5,T.!$L$5,D265,E265),\"\"))),\"\")","v":"00:00:00"},null,"",{"$f":"IFERROR(IF(AND(WEEKDAY(A265,2)<6,C266<>\"\",C265=\"\"),ColTime(T.!$J$7,T.!$L$7,$AF$1,'Hele året'!E265),IF(AND(C265<>\"\",C266<>\"\"),ColTime(T.!$J$7,T.!$L$7,'Hele året'!D265,'Hele året'!E265),IF(AND(OR(WEEKDAY(A265,2)<6,WEEKDAY(A265,2)=6),C265<>\"\",E265<D265),ColTime(T.!$J$7,T.!$L$7,D265,AF262),IF(AND(WEEKDAY(A265,2)=6,E265<D265),ColTime(T.!$J$7,T.!$L$7,$AF$1,E265),IF(AND(E265<D265,OR(C265<>\"\",WEEKDAY(A265,2)=7)),ColTime(T.!J268,T.!L268,D265,$AF$1),IF(AND(E265<>\"\",OR(C265<>\"\",WEEKDAY(A265,2)=7)),ColTime(T.!$J$7,T.!$L$7,D265,E265),\"\")))))),\"\")","v":""},"",null,null,{"$f":"IFERROR(CHOOSE(WEEKDAY(A265,2),norm!C$1,norm!C$2,norm!C$3,norm!C$4,norm!C$5,norm!C$6,norm!C$7),\"\")","v":"07:30:00"}]
["2019-09-20","Fr","",null,null,null,"","00:00:00","",{"$f":"IF(AND(C266=\"\",WEEKDAY(A266,2)<6),ColTime(T.!$J$4,T.!$L$4,D266,E266),\"\")","v":"00:00:00"},null,{"$f":"IFERROR(IF(AND(WEEKDAY(A266,2)<6,C267<>\"\",E266<D266,C266=\"\"),ColTime($AE$1,$AF$1,D266,E266),IF(AND(OR(WEEKDAY(A266,2)=7,C266<>\"\"),E266<D266,C267=\"\"),ColTime($AF$1,$AG$1,'Hele året'!$AF$1,E266),IF(AND(WEEKDAY(A266,2)<6,C267=\"\"),ColTime(T.!$J$5,T.!$L$5,D266,E266),\"\"))),\"\")","v":"00:00:00"},null,"",{"$f":"IFERROR(IF(AND(WEEKDAY(A266,2)<6,C267<>\"\",C266=\"\"),ColTime(T.!$J$7,T.!$L$7,$AF$1,'Hele året'!E266),IF(AND(C266<>\"\",C267<>\"\"),ColTime(T.!$J$7,T.!$L$7,'Hele året'!D266,'Hele året'!E266),IF(AND(OR(WEEKDAY(A266,2)<6,WEEKDAY(A266,2)=6),C266<>\"\",E266<D266),ColTime(T.!$J$7,T.!$L$7,D266,AF263),IF(AND(WEEKDAY(A266,2)=6,E266<D266),ColTime(T.!$J$7,T.!$L$7,$AF$1,E266),IF(AND(E266<D266,OR(C266<>\"\",WEEKDAY(A266,2)=7)),ColTime(T.!J269,T.!L269,D266,$AF$1),IF(AND(E266<>\"\",OR(C266<>\"\",WEEKDAY(A266,2)=7)),ColTime(T.!$J$7,T.!$L$7,D266,E266),\"\")))))),\"\")","v":""},"",null,null,{"$f":"IFERROR(CHOOSE(WEEKDAY(A266,2),norm!C$1,norm!C$2,norm!C$3,norm!C$4,norm!C$5,norm!C$6,norm!C$7),\"\")","v":"07:00:00"}]
["2019-09-21","Lø","",null,null,null,"","00:00:00","",{"$f":"IF(AND(C267=\"\",WEEKDAY(A267,2)<6),ColTime(T.!$J$4,T.!$L$4,D267,E267),\"\")","v":""},null,{"$f":"IFERROR(IF(AND(WEEKDAY(A267,2)<6,C268<>\"\",E267<D267,C267=\"\"),ColTime($AE$1,$AF$1,D267,E267),IF(AND(OR(WEEKDAY(A267,2)=7,C267<>\"\"),E267<D267,C268=\"\"),ColTime($AF$1,$AG$1,'Hele året'!$AF$1,E267),IF(AND(WEEKDAY(A267,2)<6,C268=\"\"),ColTime(T.!$J$5,T.!$L$5,D267,E267),\"\"))),\"\")","v":""},null,"00:00:00",{"$f":"IFERROR(IF(AND(WEEKDAY(A267,2)<6,C268<>\"\",C267=\"\"),ColTime(T.!$J$7,T.!$L$7,$AF$1,'Hele året'!E267),IF(AND(C267<>\"\",C268<>\"\"),ColTime(T.!$J$7,T.!$L$7,'Hele året'!D267,'Hele året'!E267),IF(AND(OR(WEEKDAY(A267,2)<6,WEEKDAY(A267,2)=6),C267<>\"\",E267<D267),ColTime(T.!$J$7,T.!$L$7,D267,AF264),IF(AND(WEEKDAY(A267,2)=6,E267<D267),ColTime(T.!$J$7,T.!$L$7,$AF$1,E267),IF(AND(E267<D267,OR(C267<>\"\",WEEKDAY(A267,2)=7)),ColTime(T.!J270,T.!L270,D267,$AF$1),IF(AND(E267<>\"\",OR(C267<>\"\",WEEKDAY(A267,2)=7)),ColTime(T.!$J$7,T.!$L$7,D267,E267),\"\")))))),\"\")","v":""},"",null,null,{"$f":"IFERROR(CHOOSE(WEEKDAY(A267,2),norm!C$1,norm!C$2,norm!C$3,norm!C$4,norm!C$5,norm!C$6,norm!C$7),\"\")","v":"00:00:00"}]
["2019-09-22","Sø","",null,null,null,"","00:00:00","",{"$f":"IF(AND(C268=\"\",WEEKDAY(A268,2)<6),ColTime(T.!$J$4,T.!$L$4,D268,E268),\"\")","v":""},null,{"$f":"IFERROR(IF(AND(WEEKDAY(A268,2)<6,C269<>\"\",E268<D268,C268=\"\"),ColTime($AE$1,$AF$1,D268,E268),IF(AND(OR(WEEKDAY(A268,2)=7,C268<>\"\"),E268<D268,C269=\"\"),ColTime($AF$1,$AG$1,'Hele året'!$AF$1,E268),IF(AND(WEEKDAY(A268,2)<6,C269=\"\"),ColTime(T.!$J$5,T.!$L$5,D268,E268),\"\"))),\"\")","v":""},null,"",{"$f":"IFERROR(IF(AND(WEEKDAY(A268,2)<6,C269<>\"\",C268=\"\"),ColTime(T.!$J$7,T.!$L$7,$AF$1,'Hele året'!E268),IF(AND(C268<>\"\",C269<>\"\"),ColTime(T.!$J$7,T.!$L$7,'Hele året'!D268,'Hele året'!E268),IF(AND(OR(WEEKDAY(A268,2)<6,WEEKDAY(A268,2)=6),C268<>\"\",E268<D268),ColTime(T.!$J$7,T.!$L$7,D268,AF265),IF(AND(WEEKDAY(A268,2)=6,E268<D268),ColTime(T.!$J$7,T.!$L$7,$AF$1,E268),IF(AND(E268<D268,OR(C268<>\"\",WEEKDAY(A268,2)=7)),ColTime(T.!J271,T.!L271,D268,$AF$1),IF(AND(E268<>\"\",OR(C268<>\"\",WEEKDAY(A268,2)=7)),ColTime(T.!$J$7,T.!$L$7,D268,E268),\"\")))))),\"\")","v":""},"",null,null,{"$f":"IFERROR(CHOOSE(WEEKDAY(A268,2),norm!C$1,norm!C$2,norm!C$3,norm!C$4,norm!C$5,norm!C$6,norm!C$7),\"\")","v":"00:00:00"}]
["2019-09-23","Ma","",null,null,null,"","00:00:00","",{"$f":"IF(AND(C269=\"\",WEEKDAY(A269,2)<6),ColTime(T.!$J$4,T.!$L$4,D269,E269),\"\")","v":"00:00:00"},null,{"$f":"IFERROR(IF(AND(WEEKDAY(A269,2)<6,C270<>\"\",E269<D269,C269=\"\"),ColTime($AE$1,$AF$1,D269,E269),IF(AND(OR(WEEKDAY(A269,2)=7,C269<>\"\"),E269<D269,C270=\"\"),ColTime($AF$1,$AG$1,'Hele året'!$AF$1,E269),IF(AND(WEEKDAY(A269,2)<6,C270=\"\"),ColTime(T.!$J$5,T.!$L$5,D269,E269),\"\"))),\"\")","v":"00:00:00"},null,"",{"$f":"IFERROR(IF(AND(WEEKDAY(A269,2)<6,C270<>\"\",C269=\"\"),ColTime(T.!$J$7,T.!$L$7,$AF$1,'Hele året'!E269),IF(AND(C269<>\"\",C270<>\"\"),ColTime(T.!$J$7,T.!$L$7,'Hele året'!D269,'Hele året'!E269),IF(AND(OR(WEEKDAY(A269,2)<6,WEEKDAY(A269,2)=6),C269<>\"\",E269<D269),ColTime(T.!$J$7,T.!$L$7,D269,AF266),IF(AND(WEEKDAY(A269,2)=6,E269<D269),ColTime(T.!$J$7,T.!$L$7,$AF$1,E269),IF(AND(E269<D269,OR(C269<>\"\",WEEKDAY(A269,2)=7)),ColTime(T.!J272,T.!L272,D269,$AF$1),IF(AND(E269<>\"\",OR(C269<>\"\",WEEKDAY(A269,2)=7)),ColTime(T.!$J$7,T.!$L$7,D269,E269),\"\")))))),\"\")","v":""},"",null,null,{"$f":"IFERROR(CHOOSE(WEEKDAY(A269,2),norm!C$1,norm!C$2,norm!C$3,norm!C$4,norm!C$5,norm!C$6,norm!C$7),\"\")","v":"07:30:00"}]
["2019-09-24","Ti","",null,null,null,"","00:00:00","",{"$f":"IF(AND(C270=\"\",WEEKDAY(A270,2)<6),ColTime(T.!$J$4,T.!$L$4,D270,E270),\"\")","v":"00:00:00"},null,{"$f":"IFERROR(IF(AND(WEEKDAY(A270,2)<6,C271<>\"\",E270<D270,C270=\"\"),ColTime($AE$1,$AF$1,D270,E270),IF(AND(OR(WEEKDAY(A270,2)=7,C270<>\"\"),E270<D270,C271=\"\"),ColTime($AF$1,$AG$1,'Hele året'!$AF$1,E270),IF(AND(WEEKDAY(A270,2)<6,C271=\"\"),ColTime(T.!$J$5,T.!$L$5,D270,E270),\"\"))),\"\")","v":"00:00:00"},null,"",{"$f":"IFERROR(IF(AND(WEEKDAY(A270,2)<6,C271<>\"\",C270=\"\"),ColTime(T.!$J$7,T.!$L$7,$AF$1,'Hele året'!E270),IF(AND(C270<>\"\",C271<>\"\"),ColTime(T.!$J$7,T.!$L$7,'Hele året'!D270,'Hele året'!E270),IF(AND(OR(WEEKDAY(A270,2)<6,WEEKDAY(A270,2)=6),C270<>\"\",E270<D270),ColTime(T.!$J$7,T.!$L$7,D270,AF267),IF(AND(WEEKDAY(A270,2)=6,E270<D270),ColTime(T.!$J$7,T.!$L$7,$AF$1,E270),IF(AND(E270<D270,OR(C270<>\"\",WEEKDAY(A270,2)=7)),ColTime(T.!J273,T.!L273,D270,$AF$1),IF(AND(E270<>\"\",OR(C270<>\"\",WEEKDAY(A270,2)=7)),ColTime(T.!$J$7,T.!$L$7,D270,E270),\"\")))))),\"\")","v":""},"",null,null,{"$f":"IFERROR(CHOOSE(WEEKDAY(A270,2),norm!C$1,norm!C$2,norm!C$3,norm!C$4,norm!C$5,norm!C$6,norm!C$7),\"\")","v":"07:30:00"}]
["2019-09-25","On","",null,null,null,"","00:00:00","",{"$f":"IF(AND(C271=\"\",WEEKDAY(A271,2)<6),ColTime(T.!$J$4,T.!$L$4,D271,E271),\"\")","v":"00:00:00"},null,{"$f":"IFERROR(IF(AND(WEEKDAY(A271,2)<6,C272<>\"\",E271<D271,C271=\"\"),ColTime($AE$1,$AF$1,D271,E271),IF(AND(OR(WEEKDAY(A271,2)=7,C271<>\"\"),E271<D271,C272=\"\"),ColTime($AF$1,$AG$1,'Hele året'!$AF$1,E271),IF(AND(WEEKDAY(A271,2)<6,C272=\"\"),ColTime(T.!$J$5,T.!$L$5,D271,E271),\"\"))),\"\")","v":"00:00:00"},null,"",{"$f":"IFERROR(IF(AND(WEEKDAY(A271,2)<6,C272<>\"\",C271=\"\"),ColTime(T.!$J$7,T.!$L$7,$AF$1,'Hele året'!E271),IF(AND(C271<>\"\",C272<>\"\"),ColTime(T.!$J$7,T.!$L$7,'Hele året'!D271,'Hele året'!E271),IF(AND(OR(WEEKDAY(A271,2)<6,WEEKDAY(A271,2)=6),C271<>\"\",E271<D271),ColTime(T.!$J$7,T.!$L$7,D271,AF268),IF(AND(WEEKDAY(A271,2)=6,E271<D271),ColTime(T.!$J$7,T.!$L$7,$AF$1,E271),IF(AND(E271<D271,OR(C271<>\"\",WEEKDAY(A271,2)=7)),ColTime(T.!J274,T.!L274,D271,$AF$1),IF(AND(E271<>\"\",OR(C271<>\"\",WEEKDAY(A271,2)=7)),ColTime(T.!$J$7,T.!$L$7,D271,E271),\"\")))))),\"\")","v":""},"",null,null,{"$f":"IFERROR(CHOOSE(WEEKDAY(A271,2),norm!C$1,norm!C$2,norm!C$3,norm!C$4,norm!C$5,norm!C$6,norm!C$7),\"\")","v":"07:30:00"}]
["2019-09-26","To","",null,null,null,"","00:00:00","",{"$f":"IF(AND(C272=\"\",WEEKDAY(A272,2)<6),ColTime(T.!$J$4,T.!$L$4,D272,E272),\"\")","v":"00:00:00"},null,{"$f":"IFERROR(IF(AND(WEEKDAY(A272,2)<6,C273<>\"\",E272<D272,C272=\"\"),ColTime($AE$1,$AF$1,D272,E272),IF(AND(OR(WEEKDAY(A272,2)=7,C272<>\"\"),E272<D272,C273=\"\"),ColTime($AF$1,$AG$1,'Hele året'!$AF$1,E272),IF(AND(WEEKDAY(A272,2)<6,C273=\"\"),ColTime(T.!$J$5,T.!$L$5,D272,E272),\"\"))),\"\")","v":"00:00:00"},null,"",{"$f":"IFERROR(IF(AND(WEEKDAY(A272,2)<6,C273<>\"\",C272=\"\"),ColTime(T.!$J$7,T.!$L$7,$AF$1,'Hele året'!E272),IF(AND(C272<>\"\",C273<>\"\"),ColTime(T.!$J$7,T.!$L$7,'Hele året'!D272,'Hele året'!E272),IF(AND(OR(WEEKDAY(A272,2)<6,WEEKDAY(A272,2)=6),C272<>\"\",E272<D272),ColTime(T.!$J$7,T.!$L$7,D272,AF269),IF(AND(WEEKDAY(A272,2)=6,E272<D272),ColTime(T.!$J$7,T.!$L$7,$AF$1,E272),IF(AND(E272<D272,OR(C272<>\"\",WEEKDAY(A272,2)=7)),ColTime(T.!J275,T.!L275,D272,$AF$1),IF(AND(E272<>\"\",OR(C272<>\"\",WEEKDAY(A272,2)=7)),ColTime(T.!$J$7,T.!$L$7,D272,E272),\"\")))))),\"\")","v":""},"",null,null,{"$f":"IFERROR(CHOOSE(WEEKDAY(A272,2),norm!C$1,norm!C$2,norm!C$3,norm!C$4,norm!C$5,norm!C$6,norm!C$7),\"\")","v":"07:30:00"}]
["2019-09-27","Fr","",null,null,null,"","00:00:00","",{"$f":"IF(AND(C273=\"\",WEEKDAY(A273,2)<6),ColTime(T.!$J$4,T.!$L$4,D273,E273),\"\")","v":"00:00:00"},null,{"$f":"IFERROR(IF(AND(WEEKDAY(A273,2)<6,C274<>\"\",E273<D273,C273=\"\"),ColTime($AE$1,$AF$1,D273,E273),IF(AND(OR(WEEKDAY(A273,2)=7,C273<>\"\"),E273<D273,C274=\"\"),ColTime($AF$1,$AG$1,'Hele året'!$AF$1,E273),IF(AND(WEEKDAY(A273,2)<6,C274=\"\"),ColTime(T.!$J$5,T.!$L$5,D273,E273),\"\"))),\"\")","v":"00:00:00"},null,"",{"$f":"IFERROR(IF(AND(WEEKDAY(A273,2)<6,C274<>\"\",C273=\"\"),ColTime(T.!$J$7,T.!$L$7,$AF$1,'Hele året'!E273),IF(AND(C273<>\"\",C274<>\"\"),ColTime(T.!$J$7,T.!$L$7,'Hele året'!D273,'Hele året'!E273),IF(AND(OR(WEEKDAY(A273,2)<6,WEEKDAY(A273,2)=6),C273<>\"\",E273<D273),ColTime(T.!$J$7,T.!$L$7,D273,AF270),IF(AND(WEEKDAY(A273,2)=6,E273<D273),ColTime(T.!$J$7,T.!$L$7,$AF$1,E273),IF(AND(E273<D273,OR(C273<>\"\",WEEKDAY(A273,2)=7)),ColTime(T.!J276,T.!L276,D273,$AF$1),IF(AND(E273<>\"\",OR(C273<>\"\",WEEKDAY(A273,2)=7)),ColTime(T.!$J$7,T.!$L$7,D273,E273),\"\")))))),\"\")","v":""},"",null,null,{"$f":"IFERROR(CHOOSE(WEEKDAY(A273,2),norm!C$1,norm!C$2,norm!C$3,norm!C$4,norm!C$5,norm!C$6,norm!C$7),\"\")","v":"07:00:00"}]
["2019-09-28","Lø","",null,null,null,"","00:00:00","",{"$f":"IF(AND(C274=\"\",WEEKDAY(A274,2)<6),ColTime(T.!$J$4,T.!$L$4,D274,E274),\"\")","v":""},null,{"$f":"IFERROR(IF(AND(WEEKDAY(A274,2)<6,C275<>\"\",E274<D274,C274=\"\"),ColTime($AE$1,$AF$1,D274,E274),IF(AND(OR(WEEKDAY(A274,2)=7,C274<>\"\"),E274<D274,C275=\"\"),ColTime($AF$1,$AG$1,'Hele året'!$AF$1,E274),IF(AND(WEEKDAY(A274,2)<6,C275=\"\"),ColTime(T.!$J$5,T.!$L$5,D274,E274),\"\"))),\"\")","v":""},null,"00:00:00",{"$f":"IFERROR(IF(AND(WEEKDAY(A274,2)<6,C275<>\"\",C274=\"\"),ColTime(T.!$J$7,T.!$L$7,$AF$1,'Hele året'!E274),IF(AND(C274<>\"\",C275<>\"\"),ColTime(T.!$J$7,T.!$L$7,'Hele året'!D274,'Hele året'!E274),IF(AND(OR(WEEKDAY(A274,2)<6,WEEKDAY(A274,2)=6),C274<>\"\",E274<D274),ColTime(T.!$J$7,T.!$L$7,D274,AF271),IF(AND(WEEKDAY(A274,2)=6,E274<D274),ColTime(T.!$J$7,T.!$L$7,$AF$1,E274),IF(AND(E274<D274,OR(C274<>\"\",WEEKDAY(A274,2)=7)),ColTime(T.!J277,T.!L277,D274,$AF$1),IF(AND(E274<>\"\",OR(C274<>\"\",WEEKDAY(A274,2)=7)),ColTime(T.!$J$7,T.!$L$7,D274,E274),\"\")))))),\"\")","v":""},"",null,null,{"$f":"IFERROR(CHOOSE(WEEKDAY(A274,2),norm!C$1,norm!C$2,norm!C$3,norm!C$4,norm!C$5,norm!C$6,norm!C$7),\"\")","v":"00:00:00"}]
["2019-09-29","Sø","",null,null,null,"","00:00:00","",{"$f":"IF(AND(C275=\"\",WEEKDAY(A275,2)<6),ColTime(T.!$J$4,T.!$L$4,D275,E275),\"\")","v":""},null,{"$f":"IFERROR(IF(AND(WEEKDAY(A275,2)<6,C276<>\"\",E275<D275,C275=\"\"),ColTime($AE$1,$AF$1,D275,E275),IF(AND(OR(WEEKDAY(A275,2)=7,C275<>\"\"),E275<D275,C276=\"\"),ColTime($AF$1,$AG$1,'Hele året'!$AF$1,E275),IF(AND(WEEKDAY(A275,2)<6,C276=\"\"),ColTime(T.!$J$5,T.!$L$5,D275,E275),\"\"))),\"\")","v":""},null,"",{"$f":"IFERROR(IF(AND(WEEKDAY(A275,2)<6,C276<>\"\",C275=\"\"),ColTime(T.!$J$7,T.!$L$7,$AF$1,'Hele året'!E275),IF(AND(C275<>\"\",C276<>\"\"),ColTime(T.!$J$7,T.!$L$7,'Hele året'!D275,'Hele året'!E275),IF(AND(OR(WEEKDAY(A275,2)<6,WEEKDAY(A275,2)=6),C275<>\"\",E275<D275),ColTime(T.!$J$7,T.!$L$7,D275,AF272),IF(AND(WEEKDAY(A275,2)=6,E275<D275),ColTime(T.!$J$7,T.!$L$7,$AF$1,E275),IF(AND(E275<D275,OR(C275<>\"\",WEEKDAY(A275,2)=7)),ColTime(T.!J278,T.!L278,D275,$AF$1),IF(AND(E275<>\"\",OR(C275<>\"\",WEEKDAY(A275,2)=7)),ColTime(T.!$J$7,T.!$L$7,D275,E275),\"\")))))),\"\")","v":""},"",null,null,{"$f":"IFERROR(CHOOSE(WEEKDAY(A275,2),norm!C$1,norm!C$2,norm!C$3,norm!C$4,norm!C$5,norm!C$6,norm!C$7),\"\")","v":"00:00:00"}]
["2019-09-30","Ma","",null,null,null,"","00:00:00","",{"$f":"IF(AND(C276=\"\",WEEKDAY(A276,2)<6),ColTime(T.!$J$4,T.!$L$4,D276,E276),\"\")","v":"00:00:00"},null,{"$f":"IFERROR(IF(AND(WEEKDAY(A276,2)<6,C277<>\"\",E276<D276,C276=\"\"),ColTime($AE$1,$AF$1,D276,E276),IF(AND(OR(WEEKDAY(A276,2)=7,C276<>\"\"),E276<D276,C277=\"\"),ColTime($AF$1,$AG$1,'Hele året'!$AF$1,E276),IF(AND(WEEKDAY(A276,2)<6,C277=\"\"),ColTime(T.!$J$5,T.!$L$5,D276,E276),\"\"))),\"\")","v":"00:00:00"},null,"",{"$f":"IFERROR(IF(AND(WEEKDAY(A276,2)<6,C277<>\"\",C276=\"\"),ColTime(T.!$J$7,T.!$L$7,$AF$1,'Hele året'!E276),IF(AND(C276<>\"\",C277<>\"\"),ColTime(T.!$J$7,T.!$L$7,'Hele året'!D276,'Hele året'!E276),IF(AND(OR(WEEKDAY(A276,2)<6,WEEKDAY(A276,2)=6),C276<>\"\",E276<D276),ColTime(T.!$J$7,T.!$L$7,D276,AF273),IF(AND(WEEKDAY(A276,2)=6,E276<D276),ColTime(T.!$J$7,T.!$L$7,$AF$1,E276),IF(AND(E276<D276,OR(C276<>\"\",WEEKDAY(A276,2)=7)),ColTime(T.!J279,T.!L279,D276,$AF$1),IF(AND(E276<>\"\",OR(C276<>\"\",WEEKDAY(A276,2)=7)),ColTime(T.!$J$7,T.!$L$7,D276,E276),\"\")))))),\"\")","v":""},"",null,null,{"$f":"IFERROR(CHOOSE(WEEKDAY(A276,2),norm!C$1,norm!C$2,norm!C$3,norm!C$4,norm!C$5,norm!C$6,norm!C$7),\"\")","v":"07:30:00"}]
["2019-10-01","Ti","",null,null,null,"","00:00:00","",{"$f":"IF(AND(C277=\"\",WEEKDAY(A277,2)<6),ColTime(T.!$J$4,T.!$L$4,D277,E277),\"\")","v":"00:00:00"},null,{"$f":"IFERROR(IF(AND(WEEKDAY(A277,2)<6,C278<>\"\",E277<D277,C277=\"\"),ColTime($AE$1,$AF$1,D277,E277),IF(AND(OR(WEEKDAY(A277,2)=7,C277<>\"\"),E277<D277,C278=\"\"),ColTime($AF$1,$AG$1,'Hele året'!$AF$1,E277),IF(AND(WEEKDAY(A277,2)<6,C278=\"\"),ColTime(T.!$J$5,T.!$L$5,D277,E277),\"\"))),\"\")","v":"00:00:00"},null,"",{"$f":"IFERROR(IF(AND(WEEKDAY(A277,2)<6,C278<>\"\",C277=\"\"),ColTime(T.!$J$7,T.!$L$7,$AF$1,'Hele året'!E277),IF(AND(C277<>\"\",C278<>\"\"),ColTime(T.!$J$7,T.!$L$7,'Hele året'!D277,'Hele året'!E277),IF(AND(OR(WEEKDAY(A277,2)<6,WEEKDAY(A277,2)=6),C277<>\"\",E277<D277),ColTime(T.!$J$7,T.!$L$7,D277,AF274),IF(AND(WEEKDAY(A277,2)=6,E277<D277),ColTime(T.!$J$7,T.!$L$7,$AF$1,E277),IF(AND(E277<D277,OR(C277<>\"\",WEEKDAY(A277,2)=7)),ColTime(T.!J280,T.!L280,D277,$AF$1),IF(AND(E277<>\"\",OR(C277<>\"\",WEEKDAY(A277,2)=7)),ColTime(T.!$J$7,T.!$L$7,D277,E277),\"\")))))),\"\")","v":""},"",null,null,{"$f":"IFERROR(CHOOSE(WEEKDAY(A277,2),norm!C$1,norm!C$2,norm!C$3,norm!C$4,norm!C$5,norm!C$6,norm!C$7),\"\")","v":"07:30:00"}]
["2019-10-02","On","",null,null,null,"","00:00:00","",{"$f":"IF(AND(C278=\"\",WEEKDAY(A278,2)<6),ColTime(T.!$J$4,T.!$L$4,D278,E278),\"\")","v":"00:00:00"},null,{"$f":"IFERROR(IF(AND(WEEKDAY(A278,2)<6,C279<>\"\",E278<D278,C278=\"\"),ColTime($AE$1,$AF$1,D278,E278),IF(AND(OR(WEEKDAY(A278,2)=7,C278<>\"\"),E278<D278,C279=\"\"),ColTime($AF$1,$AG$1,'Hele året'!$AF$1,E278),IF(AND(WEEKDAY(A278,2)<6,C279=\"\"),ColTime(T.!$J$5,T.!$L$5,D278,E278),\"\"))),\"\")","v":"00:00:00"},null,"",{"$f":"IFERROR(IF(AND(WEEKDAY(A278,2)<6,C279<>\"\",C278=\"\"),ColTime(T.!$J$7,T.!$L$7,$AF$1,'Hele året'!E278),IF(AND(C278<>\"\",C279<>\"\"),ColTime(T.!$J$7,T.!$L$7,'Hele året'!D278,'Hele året'!E278),IF(AND(OR(WEEKDAY(A278,2)<6,WEEKDAY(A278,2)=6),C278<>\"\",E278<D278),ColTime(T.!$J$7,T.!$L$7,D278,AF275),IF(AND(WEEKDAY(A278,2)=6,E278<D278),ColTime(T.!$J$7,T.!$L$7,$AF$1,E278),IF(AND(E278<D278,OR(C278<>\"\",WEEKDAY(A278,2)=7)),ColTime(T.!J281,T.!L281,D278,$AF$1),IF(AND(E278<>\"\",OR(C278<>\"\",WEEKDAY(A278,2)=7)),ColTime(T.!$J$7,T.!$L$7,D278,E278),\"\")))))),\"\")","v":""},"",null,null,{"$f":"IFERROR(CHOOSE(WEEKDAY(A278,2),norm!C$1,norm!C$2,norm!C$3,norm!C$4,norm!C$5,norm!C$6,norm!C$7),\"\")","v":"07:30:00"}]
["2019-10-03","To","",null,null,null,"","00:00:00","",{"$f":"IF(AND(C279=\"\",WEEKDAY(A279,2)<6),ColTime(T.!$J$4,T.!$L$4,D279,E279),\"\")","v":"00:00:00"},null,{"$f":"IFERROR(IF(AND(WEEKDAY(A279,2)<6,C280<>\"\",E279<D279,C279=\"\"),ColTime($AE$1,$AF$1,D279,E279),IF(AND(OR(WEEKDAY(A279,2)=7,C279<>\"\"),E279<D279,C280=\"\"),ColTime($AF$1,$AG$1,'Hele året'!$AF$1,E279),IF(AND(WEEKDAY(A279,2)<6,C280=\"\"),ColTime(T.!$J$5,T.!$L$5,D279,E279),\"\"))),\"\")","v":"00:00:00"},null,"",{"$f":"IFERROR(IF(AND(WEEKDAY(A279,2)<6,C280<>\"\",C279=\"\"),ColTime(T.!$J$7,T.!$L$7,$AF$1,'Hele året'!E279),IF(AND(C279<>\"\",C280<>\"\"),ColTime(T.!$J$7,T.!$L$7,'Hele året'!D279,'Hele året'!E279),IF(AND(OR(WEEKDAY(A279,2)<6,WEEKDAY(A279,2)=6),C279<>\"\",E279<D279),ColTime(T.!$J$7,T.!$L$7,D279,AF276),IF(AND(WEEKDAY(A279,2)=6,E279<D279),ColTime(T.!$J$7,T.!$L$7,$AF$1,E279),IF(AND(E279<D279,OR(C279<>\"\",WEEKDAY(A279,2)=7)),ColTime(T.!J282,T.!L282,D279,$AF$1),IF(AND(E279<>\"\",OR(C279<>\"\",WEEKDAY(A279,2)=7)),ColTime(T.!$J$7,T.!$L$7,D279,E279),\"\")))))),\"\")","v":""},"",null,null,{"$f":"IFERROR(CHOOSE(WEEKDAY(A279,2),norm!C$1,norm!C$2,norm!C$3,norm!C$4,norm!C$5,norm!C$6,norm!C$7),\"\")","v":"07:30:00"}]
["2019-10-04","Fr","",null,null,null,"","00:00:00","",{"$f":"IF(AND(C280=\"\",WEEKDAY(A280,2)<6),ColTime(T.!$J$4,T.!$L$4,D280,E280),\"\")","v":"00:00:00"},null,{"$f":"IFERROR(IF(AND(WEEKDAY(A280,2)<6,C281<>\"\",E280<D280,C280=\"\"),ColTime($AE$1,$AF$1,D280,E280),IF(AND(OR(WEEKDAY(A280,2)=7,C280<>\"\"),E280<D280,C281=\"\"),ColTime($AF$1,$AG$1,'Hele året'!$AF$1,E280),IF(AND(WEEKDAY(A280,2)<6,C281=\"\"),ColTime(T.!$J$5,T.!$L$5,D280,E280),\"\"))),\"\")","v":"00:00:00"},null,"",{"$f":"IFERROR(IF(AND(WEEKDAY(A280,2)<6,C281<>\"\",C280=\"\"),ColTime(T.!$J$7,T.!$L$7,$AF$1,'Hele året'!E280),IF(AND(C280<>\"\",C281<>\"\"),ColTime(T.!$J$7,T.!$L$7,'Hele året'!D280,'Hele året'!E280),IF(AND(OR(WEEKDAY(A280,2)<6,WEEKDAY(A280,2)=6),C280<>\"\",E280<D280),ColTime(T.!$J$7,T.!$L$7,D280,AF277),IF(AND(WEEKDAY(A280,2)=6,E280<D280),ColTime(T.!$J$7,T.!$L$7,$AF$1,E280),IF(AND(E280<D280,OR(C280<>\"\",WEEKDAY(A280,2)=7)),ColTime(T.!J283,T.!L283,D280,$AF$1),IF(AND(E280<>\"\",OR(C280<>\"\",WEEKDAY(A280,2)=7)),ColTime(T.!$J$7,T.!$L$7,D280,E280),\"\")))))),\"\")","v":""},"",null,null,{"$f":"IFERROR(CHOOSE(WEEKDAY(A280,2),norm!C$1,norm!C$2,norm!C$3,norm!C$4,norm!C$5,norm!C$6,norm!C$7),\"\")","v":"07:00:00"}]
["2019-10-05","Lø","",null,null,null,"","00:00:00","",{"$f":"IF(AND(C281=\"\",WEEKDAY(A281,2)<6),ColTime(T.!$J$4,T.!$L$4,D281,E281),\"\")","v":""},null,{"$f":"IFERROR(IF(AND(WEEKDAY(A281,2)<6,C282<>\"\",E281<D281,C281=\"\"),ColTime($AE$1,$AF$1,D281,E281),IF(AND(OR(WEEKDAY(A281,2)=7,C281<>\"\"),E281<D281,C282=\"\"),ColTime($AF$1,$AG$1,'Hele året'!$AF$1,E281),IF(AND(WEEKDAY(A281,2)<6,C282=\"\"),ColTime(T.!$J$5,T.!$L$5,D281,E281),\"\"))),\"\")","v":""},null,"00:00:00",{"$f":"IFERROR(IF(AND(WEEKDAY(A281,2)<6,C282<>\"\",C281=\"\"),ColTime(T.!$J$7,T.!$L$7,$AF$1,'Hele året'!E281),IF(AND(C281<>\"\",C282<>\"\"),ColTime(T.!$J$7,T.!$L$7,'Hele året'!D281,'Hele året'!E281),IF(AND(OR(WEEKDAY(A281,2)<6,WEEKDAY(A281,2)=6),C281<>\"\",E281<D281),ColTime(T.!$J$7,T.!$L$7,D281,AF278),IF(AND(WEEKDAY(A281,2)=6,E281<D281),ColTime(T.!$J$7,T.!$L$7,$AF$1,E281),IF(AND(E281<D281,OR(C281<>\"\",WEEKDAY(A281,2)=7)),ColTime(T.!J284,T.!L284,D281,$AF$1),IF(AND(E281<>\"\",OR(C281<>\"\",WEEKDAY(A281,2)=7)),ColTime(T.!$J$7,T.!$L$7,D281,E281),\"\")))))),\"\")","v":""},"",null,null,{"$f":"IFERROR(CHOOSE(WEEKDAY(A281,2),norm!C$1,norm!C$2,norm!C$3,norm!C$4,norm!C$5,norm!C$6,norm!C$7),\"\")","v":"00:00:00"}]
["2019-10-06","Sø","",null,null,null,"","00:00:00","",{"$f":"IF(AND(C282=\"\",WEEKDAY(A282,2)<6),ColTime(T.!$J$4,T.!$L$4,D282,E282),\"\")","v":""},null,{"$f":"IFERROR(IF(AND(WEEKDAY(A282,2)<6,C283<>\"\",E282<D282,C282=\"\"),ColTime($AE$1,$AF$1,D282,E282),IF(AND(OR(WEEKDAY(A282,2)=7,C282<>\"\"),E282<D282,C283=\"\"),ColTime($AF$1,$AG$1,'Hele året'!$AF$1,E282),IF(AND(WEEKDAY(A282,2)<6,C283=\"\"),ColTime(T.!$J$5,T.!$L$5,D282,E282),\"\"))),\"\")","v":""},null,"",{"$f":"IFERROR(IF(AND(WEEKDAY(A282,2)<6,C283<>\"\",C282=\"\"),ColTime(T.!$J$7,T.!$L$7,$AF$1,'Hele året'!E282),IF(AND(C282<>\"\",C283<>\"\"),ColTime(T.!$J$7,T.!$L$7,'Hele året'!D282,'Hele året'!E282),IF(AND(OR(WEEKDAY(A282,2)<6,WEEKDAY(A282,2)=6),C282<>\"\",E282<D282),ColTime(T.!$J$7,T.!$L$7,D282,AF279),IF(AND(WEEKDAY(A282,2)=6,E282<D282),ColTime(T.!$J$7,T.!$L$7,$AF$1,E282),IF(AND(E282<D282,OR(C282<>\"\",WEEKDAY(A282,2)=7)),ColTime(T.!J285,T.!L285,D282,$AF$1),IF(AND(E282<>\"\",OR(C282<>\"\",WEEKDAY(A282,2)=7)),ColTime(T.!$J$7,T.!$L$7,D282,E282),\"\")))))),\"\")","v":""},"",null,null,{"$f":"IFERROR(CHOOSE(WEEKDAY(A282,2),norm!C$1,norm!C$2,norm!C$3,norm!C$4,norm!C$5,norm!C$6,norm!C$7),\"\")","v":"00:00:00"}]
[{"$f":"A282+1","v":"2019-10-07"},"Ma","",null,null,null,"","00:00:00","",{"$f":"IF(AND(C283=\"\",WEEKDAY(A283,2)<6),ColTime(T.!$J$4,T.!$L$4,D283,E283),\"\")","v":"00:00:00"},null,{"$f":"IFERROR(IF(AND(WEEKDAY(A283,2)<6,C284<>\"\",E283<D283,C283=\"\"),ColTime($AE$1,$AF$1,D283,E283),IF(AND(OR(WEEKDAY(A283,2)=7,C283<>\"\"),E283<D283,C284=\"\"),ColTime($AF$1,$AG$1,'Hele året'!$AF$1,E283),IF(AND(WEEKDAY(A283,2)<6,C284=\"\"),ColTime(T.!$J$5,T.!$L$5,D283,E283),\"\"))),\"\")","v":"00:00:00"},null,"",{"$f":"IFERROR(IF(AND(WEEKDAY(A283,2)<6,C284<>\"\",C283=\"\"),ColTime(T.!$J$7,T.!$L$7,$AF$1,'Hele året'!E283),IF(AND(C283<>\"\",C284<>\"\"),ColTime(T.!$J$7,T.!$L$7,'Hele året'!D283,'Hele året'!E283),IF(AND(OR(WEEKDAY(A283,2)<6,WEEKDAY(A283,2)=6),C283<>\"\",E283<D283),ColTime(T.!$J$7,T.!$L$7,D283,AF280),IF(AND(WEEKDAY(A283,2)=6,E283<D283),ColTime(T.!$J$7,T.!$L$7,$AF$1,E283),IF(AND(E283<D283,OR(C283<>\"\",WEEKDAY(A283,2)=7)),ColTime(T.!J286,T.!L286,D283,$AF$1),IF(AND(E283<>\"\",OR(C283<>\"\",WEEKDAY(A283,2)=7)),ColTime(T.!$J$7,T.!$L$7,D283,E283),\"\")))))),\"\")","v":""},"",null,null,{"$f":"IFERROR(CHOOSE(WEEKDAY(A283,2),norm!C$1,norm!C$2,norm!C$3,norm!C$4,norm!C$5,norm!C$6,norm!C$7),\"\")","v":"07:30:00"}]
["2019-10-08","Ti","",null,null,null,"","00:00:00","",{"$f":"IF(AND(C284=\"\",WEEKDAY(A284,2)<6),ColTime(T.!$J$4,T.!$L$4,D284,E284),\"\")","v":"00:00:00"},null,{"$f":"IFERROR(IF(AND(WEEKDAY(A284,2)<6,C285<>\"\",E284<D284,C284=\"\"),ColTime($AE$1,$AF$1,D284,E284),IF(AND(OR(WEEKDAY(A284,2)=7,C284<>\"\"),E284<D284,C285=\"\"),ColTime($AF$1,$AG$1,'Hele året'!$AF$1,E284),IF(AND(WEEKDAY(A284,2)<6,C285=\"\"),ColTime(T.!$J$5,T.!$L$5,D284,E284),\"\"))),\"\")","v":"00:00:00"},null,"",{"$f":"IFERROR(IF(AND(WEEKDAY(A284,2)<6,C285<>\"\",C284=\"\"),ColTime(T.!$J$7,T.!$L$7,$AF$1,'Hele året'!E284),IF(AND(C284<>\"\",C285<>\"\"),ColTime(T.!$J$7,T.!$L$7,'Hele året'!D284,'Hele året'!E284),IF(AND(OR(WEEKDAY(A284,2)<6,WEEKDAY(A284,2)=6),C284<>\"\",E284<D284),ColTime(T.!$J$7,T.!$L$7,D284,AF281),IF(AND(WEEKDAY(A284,2)=6,E284<D284),ColTime(T.!$J$7,T.!$L$7,$AF$1,E284),IF(AND(E284<D284,OR(C284<>\"\",WEEKDAY(A284,2)=7)),ColTime(T.!J287,T.!L287,D284,$AF$1),IF(AND(E284<>\"\",OR(C284<>\"\",WEEKDAY(A284,2)=7)),ColTime(T.!$J$7,T.!$L$7,D284,E284),\"\")))))),\"\")","v":""},"",null,null,{"$f":"IFERROR(CHOOSE(WEEKDAY(A284,2),norm!C$1,norm!C$2,norm!C$3,norm!C$4,norm!C$5,norm!C$6,norm!C$7),\"\")","v":"07:30:00"}]
["2019-10-09","On","",null,null,null,"","00:00:00","",{"$f":"IF(AND(C285=\"\",WEEKDAY(A285,2)<6),ColTime(T.!$J$4,T.!$L$4,D285,E285),\"\")","v":"00:00:00"},null,{"$f":"IFERROR(IF(AND(WEEKDAY(A285,2)<6,C286<>\"\",E285<D285,C285=\"\"),ColTime($AE$1,$AF$1,D285,E285),IF(AND(OR(WEEKDAY(A285,2)=7,C285<>\"\"),E285<D285,C286=\"\"),ColTime($AF$1,$AG$1,'Hele året'!$AF$1,E285),IF(AND(WEEKDAY(A285,2)<6,C286=\"\"),ColTime(T.!$J$5,T.!$L$5,D285,E285),\"\"))),\"\")","v":"00:00:00"},null,"",{"$f":"IFERROR(IF(AND(WEEKDAY(A285,2)<6,C286<>\"\",C285=\"\"),ColTime(T.!$J$7,T.!$L$7,$AF$1,'Hele året'!E285),IF(AND(C285<>\"\",C286<>\"\"),ColTime(T.!$J$7,T.!$L$7,'Hele året'!D285,'Hele året'!E285),IF(AND(OR(WEEKDAY(A285,2)<6,WEEKDAY(A285,2)=6),C285<>\"\",E285<D285),ColTime(T.!$J$7,T.!$L$7,D285,AF282),IF(AND(WEEKDAY(A285,2)=6,E285<D285),ColTime(T.!$J$7,T.!$L$7,$AF$1,E285),IF(AND(E285<D285,OR(C285<>\"\",WEEKDAY(A285,2)=7)),ColTime(T.!J288,T.!L288,D285,$AF$1),IF(AND(E285<>\"\",OR(C285<>\"\",WEEKDAY(A285,2)=7)),ColTime(T.!$J$7,T.!$L$7,D285,E285),\"\")))))),\"\")","v":""},"",null,null,{"$f":"IFERROR(CHOOSE(WEEKDAY(A285,2),norm!C$1,norm!C$2,norm!C$3,norm!C$4,norm!C$5,norm!C$6,norm!C$7),\"\")","v":"07:30:00"}]
["2019-10-10","To","",null,null,null,"","00:00:00","",{"$f":"IF(AND(C286=\"\",WEEKDAY(A286,2)<6),ColTime(T.!$J$4,T.!$L$4,D286,E286),\"\")","v":"00:00:00"},null,{"$f":"IFERROR(IF(AND(WEEKDAY(A286,2)<6,C287<>\"\",E286<D286,C286=\"\"),ColTime($AE$1,$AF$1,D286,E286),IF(AND(OR(WEEKDAY(A286,2)=7,C286<>\"\"),E286<D286,C287=\"\"),ColTime($AF$1,$AG$1,'Hele året'!$AF$1,E286),IF(AND(WEEKDAY(A286,2)<6,C287=\"\"),ColTime(T.!$J$5,T.!$L$5,D286,E286),\"\"))),\"\")","v":"00:00:00"},null,"",{"$f":"IFERROR(IF(AND(WEEKDAY(A286,2)<6,C287<>\"\",C286=\"\"),ColTime(T.!$J$7,T.!$L$7,$AF$1,'Hele året'!E286),IF(AND(C286<>\"\",C287<>\"\"),ColTime(T.!$J$7,T.!$L$7,'Hele året'!D286,'Hele året'!E286),IF(AND(OR(WEEKDAY(A286,2)<6,WEEKDAY(A286,2)=6),C286<>\"\",E286<D286),ColTime(T.!$J$7,T.!$L$7,D286,AF283),IF(AND(WEEKDAY(A286,2)=6,E286<D286),ColTime(T.!$J$7,T.!$L$7,$AF$1,E286),IF(AND(E286<D286,OR(C286<>\"\",WEEKDAY(A286,2)=7)),ColTime(T.!J289,T.!L289,D286,$AF$1),IF(AND(E286<>\"\",OR(C286<>\"\",WEEKDAY(A286,2)=7)),ColTime(T.!$J$7,T.!$L$7,D286,E286),\"\")))))),\"\")","v":""},"",null,null,{"$f":"IFERROR(CHOOSE(WEEKDAY(A286,2),norm!C$1,norm!C$2,norm!C$3,norm!C$4,norm!C$5,norm!C$6,norm!C$7),\"\")","v":"07:30:00"}]
["2019-10-11","Fr","",null,null,null,"","00:00:00","",{"$f":"IF(AND(C287=\"\",WEEKDAY(A287,2)<6),ColTime(T.!$J$4,T.!$L$4,D287,E287),\"\")","v":"00:00:00"},null,{"$f":"IFERROR(IF(AND(WEEKDAY(A287,2)<6,C288<>\"\",E287<D287,C287=\"\"),ColTime($AE$1,$AF$1,D287,E287),IF(AND(OR(WEEKDAY(A287,2)=7,C287<>\"\"),E287<D287,C288=\"\"),ColTime($AF$1,$AG$1,'Hele året'!$AF$1,E287),IF(AND(WEEKDAY(A287,2)<6,C288=\"\"),ColTime(T.!$J$5,T.!$L$5,D287,E287),\"\"))),\"\")","v":"00:00:00"},null,"",{"$f":"IFERROR(IF(AND(WEEKDAY(A287,2)<6,C288<>\"\",C287=\"\"),ColTime(T.!$J$7,T.!$L$7,$AF$1,'Hele året'!E287),IF(AND(C287<>\"\",C288<>\"\"),ColTime(T.!$J$7,T.!$L$7,'Hele året'!D287,'Hele året'!E287),IF(AND(OR(WEEKDAY(A287,2)<6,WEEKDAY(A287,2)=6),C287<>\"\",E287<D287),ColTime(T.!$J$7,T.!$L$7,D287,AF284),IF(AND(WEEKDAY(A287,2)=6,E287<D287),ColTime(T.!$J$7,T.!$L$7,$AF$1,E287),IF(AND(E287<D287,OR(C287<>\"\",WEEKDAY(A287,2)=7)),ColTime(T.!J290,T.!L290,D287,$AF$1),IF(AND(E287<>\"\",OR(C287<>\"\",WEEKDAY(A287,2)=7)),ColTime(T.!$J$7,T.!$L$7,D287,E287),\"\")))))),\"\")","v":""},"",null,null,{"$f":"IFERROR(CHOOSE(WEEKDAY(A287,2),norm!C$1,norm!C$2,norm!C$3,norm!C$4,norm!C$5,norm!C$6,norm!C$7),\"\")","v":"07:00:00"}]
["2019-10-12","Lø","",null,null,null,"","00:00:00","",{"$f":"IF(AND(C288=\"\",WEEKDAY(A288,2)<6),ColTime(T.!$J$4,T.!$L$4,D288,E288),\"\")","v":""},null,{"$f":"IFERROR(IF(AND(WEEKDAY(A288,2)<6,C289<>\"\",E288<D288,C288=\"\"),ColTime($AE$1,$AF$1,D288,E288),IF(AND(OR(WEEKDAY(A288,2)=7,C288<>\"\"),E288<D288,C289=\"\"),ColTime($AF$1,$AG$1,'Hele året'!$AF$1,E288),IF(AND(WEEKDAY(A288,2)<6,C289=\"\"),ColTime(T.!$J$5,T.!$L$5,D288,E288),\"\"))),\"\")","v":""},null,"00:00:00",{"$f":"IFERROR(IF(AND(WEEKDAY(A288,2)<6,C289<>\"\",C288=\"\"),ColTime(T.!$J$7,T.!$L$7,$AF$1,'Hele året'!E288),IF(AND(C288<>\"\",C289<>\"\"),ColTime(T.!$J$7,T.!$L$7,'Hele året'!D288,'Hele året'!E288),IF(AND(OR(WEEKDAY(A288,2)<6,WEEKDAY(A288,2)=6),C288<>\"\",E288<D288),ColTime(T.!$J$7,T.!$L$7,D288,AF285),IF(AND(WEEKDAY(A288,2)=6,E288<D288),ColTime(T.!$J$7,T.!$L$7,$AF$1,E288),IF(AND(E288<D288,OR(C288<>\"\",WEEKDAY(A288,2)=7)),ColTime(T.!J291,T.!L291,D288,$AF$1),IF(AND(E288<>\"\",OR(C288<>\"\",WEEKDAY(A288,2)=7)),ColTime(T.!$J$7,T.!$L$7,D288,E288),\"\")))))),\"\")","v":""},"",null,null,{"$f":"IFERROR(CHOOSE(WEEKDAY(A288,2),norm!C$1,norm!C$2,norm!C$3,norm!C$4,norm!C$5,norm!C$6,norm!C$7),\"\")","v":"00:00:00"}]
["2019-10-13","Sø","",null,null,null,"","00:00:00","",{"$f":"IF(AND(C289=\"\",WEEKDAY(A289,2)<6),ColTime(T.!$J$4,T.!$L$4,D289,E289),\"\")","v":""},null,{"$f":"IFERROR(IF(AND(WEEKDAY(A289,2)<6,C290<>\"\",E289<D289,C289=\"\"),ColTime($AE$1,$AF$1,D289,E289),IF(AND(OR(WEEKDAY(A289,2)=7,C289<>\"\"),E289<D289,C290=\"\"),ColTime($AF$1,$AG$1,'Hele året'!$AF$1,E289),IF(AND(WEEKDAY(A289,2)<6,C290=\"\"),ColTime(T.!$J$5,T.!$L$5,D289,E289),\"\"))),\"\")","v":""},null,"",{"$f":"IFERROR(IF(AND(WEEKDAY(A289,2)<6,C290<>\"\",C289=\"\"),ColTime(T.!$J$7,T.!$L$7,$AF$1,'Hele året'!E289),IF(AND(C289<>\"\",C290<>\"\"),ColTime(T.!$J$7,T.!$L$7,'Hele året'!D289,'Hele året'!E289),IF(AND(OR(WEEKDAY(A289,2)<6,WEEKDAY(A289,2)=6),C289<>\"\",E289<D289),ColTime(T.!$J$7,T.!$L$7,D289,AF286),IF(AND(WEEKDAY(A289,2)=6,E289<D289),ColTime(T.!$J$7,T.!$L$7,$AF$1,E289),IF(AND(E289<D289,OR(C289<>\"\",WEEKDAY(A289,2)=7)),ColTime(T.!J292,T.!L292,D289,$AF$1),IF(AND(E289<>\"\",OR(C289<>\"\",WEEKDAY(A289,2)=7)),ColTime(T.!$J$7,T.!$L$7,D289,E289),\"\")))))),\"\")","v":""},"",null,null,{"$f":"IFERROR(CHOOSE(WEEKDAY(A289,2),norm!C$1,norm!C$2,norm!C$3,norm!C$4,norm!C$5,norm!C$6,norm!C$7),\"\")","v":"00:00:00"}]
["2019-10-14","Ma","",null,null,null,"","00:00:00","",{"$f":"IF(AND(C290=\"\",WEEKDAY(A290,2)<6),ColTime(T.!$J$4,T.!$L$4,D290,E290),\"\")","v":"00:00:00"},null,{"$f":"IFERROR(IF(AND(WEEKDAY(A290,2)<6,C291<>\"\",E290<D290,C290=\"\"),ColTime($AE$1,$AF$1,D290,E290),IF(AND(OR(WEEKDAY(A290,2)=7,C290<>\"\"),E290<D290,C291=\"\"),ColTime($AF$1,$AG$1,'Hele året'!$AF$1,E290),IF(AND(WEEKDAY(A290,2)<6,C291=\"\"),ColTime(T.!$J$5,T.!$L$5,D290,E290),\"\"))),\"\")","v":"00:00:00"},null,"",{"$f":"IFERROR(IF(AND(WEEKDAY(A290,2)<6,C291<>\"\",C290=\"\"),ColTime(T.!$J$7,T.!$L$7,$AF$1,'Hele året'!E290),IF(AND(C290<>\"\",C291<>\"\"),ColTime(T.!$J$7,T.!$L$7,'Hele året'!D290,'Hele året'!E290),IF(AND(OR(WEEKDAY(A290,2)<6,WEEKDAY(A290,2)=6),C290<>\"\",E290<D290),ColTime(T.!$J$7,T.!$L$7,D290,AF287),IF(AND(WEEKDAY(A290,2)=6,E290<D290),ColTime(T.!$J$7,T.!$L$7,$AF$1,E290),IF(AND(E290<D290,OR(C290<>\"\",WEEKDAY(A290,2)=7)),ColTime(T.!J293,T.!L293,D290,$AF$1),IF(AND(E290<>\"\",OR(C290<>\"\",WEEKDAY(A290,2)=7)),ColTime(T.!$J$7,T.!$L$7,D290,E290),\"\")))))),\"\")","v":""},"",null,null,{"$f":"IFERROR(CHOOSE(WEEKDAY(A290,2),norm!C$1,norm!C$2,norm!C$3,norm!C$4,norm!C$5,norm!C$6,norm!C$7),\"\")","v":"07:30:00"}]
["2019-10-15",{"$f":"IFERROR(PROPER(TEXT(A291,\"ddd\")),\"\")","v":"Ti"},"",null,null,null,"","00:00:00","",{"$f":"IF(AND(C291=\"\",WEEKDAY(A291,2)<6),ColTime(T.!$J$4,T.!$L$4,D291,E291),\"\")","v":"00:00:00"},null,{"$f":"IFERROR(IF(AND(WEEKDAY(A291,2)<6,C292<>\"\",E291<D291,C291=\"\"),ColTime($AE$1,$AF$1,D291,E291),IF(AND(OR(WEEKDAY(A291,2)=7,C291<>\"\"),E291<D291,C292=\"\"),ColTime($AF$1,$AG$1,'Hele året'!$AF$1,E291),IF(AND(WEEKDAY(A291,2)<6,C292=\"\"),ColTime(T.!$J$5,T.!$L$5,D291,E291),\"\"))),\"\")","v":"00:00:00"},null,"",{"$f":"IFERROR(IF(AND(WEEKDAY(A291,2)<6,C292<>\"\",C291=\"\"),ColTime(T.!$J$7,T.!$L$7,$AF$1,'Hele året'!E291),IF(AND(C291<>\"\",C292<>\"\"),ColTime(T.!$J$7,T.!$L$7,'Hele året'!D291,'Hele året'!E291),IF(AND(OR(WEEKDAY(A291,2)<6,WEEKDAY(A291,2)=6),C291<>\"\",E291<D291),ColTime(T.!$J$7,T.!$L$7,D291,AF288),IF(AND(WEEKDAY(A291,2)=6,E291<D291),ColTime(T.!$J$7,T.!$L$7,$AF$1,E291),IF(AND(E291<D291,OR(C291<>\"\",WEEKDAY(A291,2)=7)),ColTime(T.!J294,T.!L294,D291,$AF$1),IF(AND(E291<>\"\",OR(C291<>\"\",WEEKDAY(A291,2)=7)),ColTime(T.!$J$7,T.!$L$7,D291,E291),\"\")))))),\"\")","v":""},"",null,null,{"$f":"IFERROR(CHOOSE(WEEKDAY(A291,2),norm!C$1,norm!C$2,norm!C$3,norm!C$4,norm!C$5,norm!C$6,norm!C$7),\"\")","v":"07:30:00"}]
["2019-10-16","On","",null,null,null,"","00:00:00","",{"$f":"IF(AND(C292=\"\",WEEKDAY(A292,2)<6),ColTime(T.!$J$4,T.!$L$4,D292,E292),\"\")","v":"00:00:00"},null,{"$f":"IFERROR(IF(AND(WEEKDAY(A292,2)<6,C293<>\"\",E292<D292,C292=\"\"),ColTime($AE$1,$AF$1,D292,E292),IF(AND(OR(WEEKDAY(A292,2)=7,C292<>\"\"),E292<D292,C293=\"\"),ColTime($AF$1,$AG$1,'Hele året'!$AF$1,E292),IF(AND(WEEKDAY(A292,2)<6,C293=\"\"),ColTime(T.!$J$5,T.!$L$5,D292,E292),\"\"))),\"\")","v":"00:00:00"},null,"",{"$f":"IFERROR(IF(AND(WEEKDAY(A292,2)<6,C293<>\"\",C292=\"\"),ColTime(T.!$J$7,T.!$L$7,$AF$1,'Hele året'!E292),IF(AND(C292<>\"\",C293<>\"\"),ColTime(T.!$J$7,T.!$L$7,'Hele året'!D292,'Hele året'!E292),IF(AND(OR(WEEKDAY(A292,2)<6,WEEKDAY(A292,2)=6),C292<>\"\",E292<D292),ColTime(T.!$J$7,T.!$L$7,D292,AF289),IF(AND(WEEKDAY(A292,2)=6,E292<D292),ColTime(T.!$J$7,T.!$L$7,$AF$1,E292),IF(AND(E292<D292,OR(C292<>\"\",WEEKDAY(A292,2)=7)),ColTime(T.!J295,T.!L295,D292,$AF$1),IF(AND(E292<>\"\",OR(C292<>\"\",WEEKDAY(A292,2)=7)),ColTime(T.!$J$7,T.!$L$7,D292,E292),\"\")))))),\"\")","v":""},"",null,null,{"$f":"IFERROR(CHOOSE(WEEKDAY(A292,2),norm!C$1,norm!C$2,norm!C$3,norm!C$4,norm!C$5,norm!C$6,norm!C$7),\"\")","v":"07:30:00"}]
["2019-10-17","To","",null,null,null,"","00:00:00","",{"$f":"IF(AND(C293=\"\",WEEKDAY(A293,2)<6),ColTime(T.!$J$4,T.!$L$4,D293,E293),\"\")","v":"00:00:00"},null,{"$f":"IFERROR(IF(AND(WEEKDAY(A293,2)<6,C294<>\"\",E293<D293,C293=\"\"),ColTime($AE$1,$AF$1,D293,E293),IF(AND(OR(WEEKDAY(A293,2)=7,C293<>\"\"),E293<D293,C294=\"\"),ColTime($AF$1,$AG$1,'Hele året'!$AF$1,E293),IF(AND(WEEKDAY(A293,2)<6,C294=\"\"),ColTime(T.!$J$5,T.!$L$5,D293,E293),\"\"))),\"\")","v":"00:00:00"},null,"",{"$f":"IFERROR(IF(AND(WEEKDAY(A293,2)<6,C294<>\"\",C293=\"\"),ColTime(T.!$J$7,T.!$L$7,$AF$1,'Hele året'!E293),IF(AND(C293<>\"\",C294<>\"\"),ColTime(T.!$J$7,T.!$L$7,'Hele året'!D293,'Hele året'!E293),IF(AND(OR(WEEKDAY(A293,2)<6,WEEKDAY(A293,2)=6),C293<>\"\",E293<D293),ColTime(T.!$J$7,T.!$L$7,D293,AF290),IF(AND(WEEKDAY(A293,2)=6,E293<D293),ColTime(T.!$J$7,T.!$L$7,$AF$1,E293),IF(AND(E293<D293,OR(C293<>\"\",WEEKDAY(A293,2)=7)),ColTime(T.!J296,T.!L296,D293,$AF$1),IF(AND(E293<>\"\",OR(C293<>\"\",WEEKDAY(A293,2)=7)),ColTime(T.!$J$7,T.!$L$7,D293,E293),\"\")))))),\"\")","v":""},"",null,null,{"$f":"IFERROR(CHOOSE(WEEKDAY(A293,2),norm!C$1,norm!C$2,norm!C$3,norm!C$4,norm!C$5,norm!C$6,norm!C$7),\"\")","v":"07:30:00"}]
["2019-10-18","Fr","",null,null,null,"","00:00:00","",{"$f":"IF(AND(C294=\"\",WEEKDAY(A294,2)<6),ColTime(T.!$J$4,T.!$L$4,D294,E294),\"\")","v":"00:00:00"},null,{"$f":"IFERROR(IF(AND(WEEKDAY(A294,2)<6,C295<>\"\",E294<D294,C294=\"\"),ColTime($AE$1,$AF$1,D294,E294),IF(AND(OR(WEEKDAY(A294,2)=7,C294<>\"\"),E294<D294,C295=\"\"),ColTime($AF$1,$AG$1,'Hele året'!$AF$1,E294),IF(AND(WEEKDAY(A294,2)<6,C295=\"\"),ColTime(T.!$J$5,T.!$L$5,D294,E294),\"\"))),\"\")","v":"00:00:00"},null,"",{"$f":"IFERROR(IF(AND(WEEKDAY(A294,2)<6,C295<>\"\",C294=\"\"),ColTime(T.!$J$7,T.!$L$7,$AF$1,'Hele året'!E294),IF(AND(C294<>\"\",C295<>\"\"),ColTime(T.!$J$7,T.!$L$7,'Hele året'!D294,'Hele året'!E294),IF(AND(OR(WEEKDAY(A294,2)<6,WEEKDAY(A294,2)=6),C294<>\"\",E294<D294),ColTime(T.!$J$7,T.!$L$7,D294,AF291),IF(AND(WEEKDAY(A294,2)=6,E294<D294),ColTime(T.!$J$7,T.!$L$7,$AF$1,E294),IF(AND(E294<D294,OR(C294<>\"\",WEEKDAY(A294,2)=7)),ColTime(T.!J297,T.!L297,D294,$AF$1),IF(AND(E294<>\"\",OR(C294<>\"\",WEEKDAY(A294,2)=7)),ColTime(T.!$J$7,T.!$L$7,D294,E294),\"\")))))),\"\")","v":""},"",null,null,{"$f":"IFERROR(CHOOSE(WEEKDAY(A294,2),norm!C$1,norm!C$2,norm!C$3,norm!C$4,norm!C$5,norm!C$6,norm!C$7),\"\")","v":"07:00:00"}]
["2019-10-19","Lø","",null,null,null,"","00:00:00","",{"$f":"IF(AND(C295=\"\",WEEKDAY(A295,2)<6),ColTime(T.!$J$4,T.!$L$4,D295,E295),\"\")","v":""},null,{"$f":"IFERROR(IF(AND(WEEKDAY(A295,2)<6,C296<>\"\",E295<D295,C295=\"\"),ColTime($AE$1,$AF$1,D295,E295),IF(AND(OR(WEEKDAY(A295,2)=7,C295<>\"\"),E295<D295,C296=\"\"),ColTime($AF$1,$AG$1,'Hele året'!$AF$1,E295),IF(AND(WEEKDAY(A295,2)<6,C296=\"\"),ColTime(T.!$J$5,T.!$L$5,D295,E295),\"\"))),\"\")","v":""},null,"00:00:00",{"$f":"IFERROR(IF(AND(WEEKDAY(A295,2)<6,C296<>\"\",C295=\"\"),ColTime(T.!$J$7,T.!$L$7,$AF$1,'Hele året'!E295),IF(AND(C295<>\"\",C296<>\"\"),ColTime(T.!$J$7,T.!$L$7,'Hele året'!D295,'Hele året'!E295),IF(AND(OR(WEEKDAY(A295,2)<6,WEEKDAY(A295,2)=6),C295<>\"\",E295<D295),ColTime(T.!$J$7,T.!$L$7,D295,AF292),IF(AND(WEEKDAY(A295,2)=6,E295<D295),ColTime(T.!$J$7,T.!$L$7,$AF$1,E295),IF(AND(E295<D295,OR(C295<>\"\",WEEKDAY(A295,2)=7)),ColTime(T.!J298,T.!L298,D295,$AF$1),IF(AND(E295<>\"\",OR(C295<>\"\",WEEKDAY(A295,2)=7)),ColTime(T.!$J$7,T.!$L$7,D295,E295),\"\")))))),\"\")","v":""},"",null,null,{"$f":"IFERROR(CHOOSE(WEEKDAY(A295,2),norm!C$1,norm!C$2,norm!C$3,norm!C$4,norm!C$5,norm!C$6,norm!C$7),\"\")","v":"00:00:00"}]
["2019-10-20","Sø","",null,null,null,"","00:00:00","",{"$f":"IF(AND(C296=\"\",WEEKDAY(A296,2)<6),ColTime(T.!$J$4,T.!$L$4,D296,E296),\"\")","v":""},null,{"$f":"IFERROR(IF(AND(WEEKDAY(A296,2)<6,C297<>\"\",E296<D296,C296=\"\"),ColTime($AE$1,$AF$1,D296,E296),IF(AND(OR(WEEKDAY(A296,2)=7,C296<>\"\"),E296<D296,C297=\"\"),ColTime($AF$1,$AG$1,'Hele året'!$AF$1,E296),IF(AND(WEEKDAY(A296,2)<6,C297=\"\"),ColTime(T.!$J$5,T.!$L$5,D296,E296),\"\"))),\"\")","v":""},null,"",{"$f":"IFERROR(IF(AND(WEEKDAY(A296,2)<6,C297<>\"\",C296=\"\"),ColTime(T.!$J$7,T.!$L$7,$AF$1,'Hele året'!E296),IF(AND(C296<>\"\",C297<>\"\"),ColTime(T.!$J$7,T.!$L$7,'Hele året'!D296,'Hele året'!E296),IF(AND(OR(WEEKDAY(A296,2)<6,WEEKDAY(A296,2)=6),C296<>\"\",E296<D296),ColTime(T.!$J$7,T.!$L$7,D296,AF293),IF(AND(WEEKDAY(A296,2)=6,E296<D296),ColTime(T.!$J$7,T.!$L$7,$AF$1,E296),IF(AND(E296<D296,OR(C296<>\"\",WEEKDAY(A296,2)=7)),ColTime(T.!J299,T.!L299,D296,$AF$1),IF(AND(E296<>\"\",OR(C296<>\"\",WEEKDAY(A296,2)=7)),ColTime(T.!$J$7,T.!$L$7,D296,E296),\"\")))))),\"\")","v":""},"",null,null,{"$f":"IFERROR(CHOOSE(WEEKDAY(A296,2),norm!C$1,norm!C$2,norm!C$3,norm!C$4,norm!C$5,norm!C$6,norm!C$7),\"\")","v":"00:00:00"}]
["2019-10-21","Ma","",null,null,null,"","00:00:00","",{"$f":"IF(AND(C297=\"\",WEEKDAY(A297,2)<6),ColTime(T.!$J$4,T.!$L$4,D297,E297),\"\")","v":"00:00:00"},null,{"$f":"IFERROR(IF(AND(WEEKDAY(A297,2)<6,C298<>\"\",E297<D297,C297=\"\"),ColTime($AE$1,$AF$1,D297,E297),IF(AND(OR(WEEKDAY(A297,2)=7,C297<>\"\"),E297<D297,C298=\"\"),ColTime($AF$1,$AG$1,'Hele året'!$AF$1,E297),IF(AND(WEEKDAY(A297,2)<6,C298=\"\"),ColTime(T.!$J$5,T.!$L$5,D297,E297),\"\"))),\"\")","v":"00:00:00"},null,"",{"$f":"IFERROR(IF(AND(WEEKDAY(A297,2)<6,C298<>\"\",C297=\"\"),ColTime(T.!$J$7,T.!$L$7,$AF$1,'Hele året'!E297),IF(AND(C297<>\"\",C298<>\"\"),ColTime(T.!$J$7,T.!$L$7,'Hele året'!D297,'Hele året'!E297),IF(AND(OR(WEEKDAY(A297,2)<6,WEEKDAY(A297,2)=6),C297<>\"\",E297<D297),ColTime(T.!$J$7,T.!$L$7,D297,AF294),IF(AND(WEEKDAY(A297,2)=6,E297<D297),ColTime(T.!$J$7,T.!$L$7,$AF$1,E297),IF(AND(E297<D297,OR(C297<>\"\",WEEKDAY(A297,2)=7)),ColTime(T.!J300,T.!L300,D297,$AF$1),IF(AND(E297<>\"\",OR(C297<>\"\",WEEKDAY(A297,2)=7)),ColTime(T.!$J$7,T.!$L$7,D297,E297),\"\")))))),\"\")","v":""},"",null,null,{"$f":"IFERROR(CHOOSE(WEEKDAY(A297,2),norm!C$1,norm!C$2,norm!C$3,norm!C$4,norm!C$5,norm!C$6,norm!C$7),\"\")","v":"07:30:00"}]
["2019-10-22","Ti","",null,null,null,"","00:00:00","",{"$f":"IF(AND(C298=\"\",WEEKDAY(A298,2)<6),ColTime(T.!$J$4,T.!$L$4,D298,E298),\"\")","v":"00:00:00"},null,{"$f":"IFERROR(IF(AND(WEEKDAY(A298,2)<6,C299<>\"\",E298<D298,C298=\"\"),ColTime($AE$1,$AF$1,D298,E298),IF(AND(OR(WEEKDAY(A298,2)=7,C298<>\"\"),E298<D298,C299=\"\"),ColTime($AF$1,$AG$1,'Hele året'!$AF$1,E298),IF(AND(WEEKDAY(A298,2)<6,C299=\"\"),ColTime(T.!$J$5,T.!$L$5,D298,E298),\"\"))),\"\")","v":"00:00:00"},null,"",{"$f":"IFERROR(IF(AND(WEEKDAY(A298,2)<6,C299<>\"\",C298=\"\"),ColTime(T.!$J$7,T.!$L$7,$AF$1,'Hele året'!E298),IF(AND(C298<>\"\",C299<>\"\"),ColTime(T.!$J$7,T.!$L$7,'Hele året'!D298,'Hele året'!E298),IF(AND(OR(WEEKDAY(A298,2)<6,WEEKDAY(A298,2)=6),C298<>\"\",E298<D298),ColTime(T.!$J$7,T.!$L$7,D298,AF295),IF(AND(WEEKDAY(A298,2)=6,E298<D298),ColTime(T.!$J$7,T.!$L$7,$AF$1,E298),IF(AND(E298<D298,OR(C298<>\"\",WEEKDAY(A298,2)=7)),ColTime(T.!J301,T.!L301,D298,$AF$1),IF(AND(E298<>\"\",OR(C298<>\"\",WEEKDAY(A298,2)=7)),ColTime(T.!$J$7,T.!$L$7,D298,E298),\"\")))))),\"\")","v":""},"",null,null,{"$f":"IFERROR(CHOOSE(WEEKDAY(A298,2),norm!C$1,norm!C$2,norm!C$3,norm!C$4,norm!C$5,norm!C$6,norm!C$7),\"\")","v":"07:30:00"}]
["2019-10-23","On","",null,null,null,"","00:00:00","",{"$f":"IF(AND(C299=\"\",WEEKDAY(A299,2)<6),ColTime(T.!$J$4,T.!$L$4,D299,E299),\"\")","v":"00:00:00"},null,{"$f":"IFERROR(IF(AND(WEEKDAY(A299,2)<6,C300<>\"\",E299<D299,C299=\"\"),ColTime($AE$1,$AF$1,D299,E299),IF(AND(OR(WEEKDAY(A299,2)=7,C299<>\"\"),E299<D299,C300=\"\"),ColTime($AF$1,$AG$1,'Hele året'!$AF$1,E299),IF(AND(WEEKDAY(A299,2)<6,C300=\"\"),ColTime(T.!$J$5,T.!$L$5,D299,E299),\"\"))),\"\")","v":"00:00:00"},null,"",{"$f":"IFERROR(IF(AND(WEEKDAY(A299,2)<6,C300<>\"\",C299=\"\"),ColTime(T.!$J$7,T.!$L$7,$AF$1,'Hele året'!E299),IF(AND(C299<>\"\",C300<>\"\"),ColTime(T.!$J$7,T.!$L$7,'Hele året'!D299,'Hele året'!E299),IF(AND(OR(WEEKDAY(A299,2)<6,WEEKDAY(A299,2)=6),C299<>\"\",E299<D299),ColTime(T.!$J$7,T.!$L$7,D299,AF296),IF(AND(WEEKDAY(A299,2)=6,E299<D299),ColTime(T.!$J$7,T.!$L$7,$AF$1,E299),IF(AND(E299<D299,OR(C299<>\"\",WEEKDAY(A299,2)=7)),ColTime(T.!J302,T.!L302,D299,$AF$1),IF(AND(E299<>\"\",OR(C299<>\"\",WEEKDAY(A299,2)=7)),ColTime(T.!$J$7,T.!$L$7,D299,E299),\"\")))))),\"\")","v":""},"",null,null,{"$f":"IFERROR(CHOOSE(WEEKDAY(A299,2),norm!C$1,norm!C$2,norm!C$3,norm!C$4,norm!C$5,norm!C$6,norm!C$7),\"\")","v":"07:30:00"}]
["2019-10-24","To","",null,null,null,"","00:00:00","",{"$f":"IF(AND(C300=\"\",WEEKDAY(A300,2)<6),ColTime(T.!$J$4,T.!$L$4,D300,E300),\"\")","v":"00:00:00"},null,{"$f":"IFERROR(IF(AND(WEEKDAY(A300,2)<6,C301<>\"\",E300<D300,C300=\"\"),ColTime($AE$1,$AF$1,D300,E300),IF(AND(OR(WEEKDAY(A300,2)=7,C300<>\"\"),E300<D300,C301=\"\"),ColTime($AF$1,$AG$1,'Hele året'!$AF$1,E300),IF(AND(WEEKDAY(A300,2)<6,C301=\"\"),ColTime(T.!$J$5,T.!$L$5,D300,E300),\"\"))),\"\")","v":"00:00:00"},null,"",{"$f":"IFERROR(IF(AND(WEEKDAY(A300,2)<6,C301<>\"\",C300=\"\"),ColTime(T.!$J$7,T.!$L$7,$AF$1,'Hele året'!E300),IF(AND(C300<>\"\",C301<>\"\"),ColTime(T.!$J$7,T.!$L$7,'Hele året'!D300,'Hele året'!E300),IF(AND(OR(WEEKDAY(A300,2)<6,WEEKDAY(A300,2)=6),C300<>\"\",E300<D300),ColTime(T.!$J$7,T.!$L$7,D300,AF297),IF(AND(WEEKDAY(A300,2)=6,E300<D300),ColTime(T.!$J$7,T.!$L$7,$AF$1,E300),IF(AND(E300<D300,OR(C300<>\"\",WEEKDAY(A300,2)=7)),ColTime(T.!J303,T.!L303,D300,$AF$1),IF(AND(E300<>\"\",OR(C300<>\"\",WEEKDAY(A300,2)=7)),ColTime(T.!$J$7,T.!$L$7,D300,E300),\"\")))))),\"\")","v":""},"",null,null,{"$f":"IFERROR(CHOOSE(WEEKDAY(A300,2),norm!C$1,norm!C$2,norm!C$3,norm!C$4,norm!C$5,norm!C$6,norm!C$7),\"\")","v":"07:30:00"}]
["2019-10-25","Fr","",null,null,null,"","00:00:00","",{"$f":"IF(AND(C301=\"\",WEEKDAY(A301,2)<6),ColTime(T.!$J$4,T.!$L$4,D301,E301),\"\")","v":"00:00:00"},null,{"$f":"IFERROR(IF(AND(WEEKDAY(A301,2)<6,C302<>\"\",E301<D301,C301=\"\"),ColTime($AE$1,$AF$1,D301,E301),IF(AND(OR(WEEKDAY(A301,2)=7,C301<>\"\"),E301<D301,C302=\"\"),ColTime($AF$1,$AG$1,'Hele året'!$AF$1,E301),IF(AND(WEEKDAY(A301,2)<6,C302=\"\"),ColTime(T.!$J$5,T.!$L$5,D301,E301),\"\"))),\"\")","v":"00:00:00"},null,"",{"$f":"IFERROR(IF(AND(WEEKDAY(A301,2)<6,C302<>\"\",C301=\"\"),ColTime(T.!$J$7,T.!$L$7,$AF$1,'Hele året'!E301),IF(AND(C301<>\"\",C302<>\"\"),ColTime(T.!$J$7,T.!$L$7,'Hele året'!D301,'Hele året'!E301),IF(AND(OR(WEEKDAY(A301,2)<6,WEEKDAY(A301,2)=6),C301<>\"\",E301<D301),ColTime(T.!$J$7,T.!$L$7,D301,AF298),IF(AND(WEEKDAY(A301,2)=6,E301<D301),ColTime(T.!$J$7,T.!$L$7,$AF$1,E301),IF(AND(E301<D301,OR(C301<>\"\",WEEKDAY(A301,2)=7)),ColTime(T.!J304,T.!L304,D301,$AF$1),IF(AND(E301<>\"\",OR(C301<>\"\",WEEKDAY(A301,2)=7)),ColTime(T.!$J$7,T.!$L$7,D301,E301),\"\")))))),\"\")","v":""},"",null,null,{"$f":"IFERROR(CHOOSE(WEEKDAY(A301,2),norm!C$1,norm!C$2,norm!C$3,norm!C$4,norm!C$5,norm!C$6,norm!C$7),\"\")","v":"07:00:00"}]
["2019-10-26","Lø","",null,null,null,"","00:00:00","",{"$f":"IF(AND(C302=\"\",WEEKDAY(A302,2)<6),ColTime(T.!$J$4,T.!$L$4,D302,E302),\"\")","v":""},null,{"$f":"IFERROR(IF(AND(WEEKDAY(A302,2)<6,C303<>\"\",E302<D302,C302=\"\"),ColTime($AE$1,$AF$1,D302,E302),IF(AND(OR(WEEKDAY(A302,2)=7,C302<>\"\"),E302<D302,C303=\"\"),ColTime($AF$1,$AG$1,'Hele året'!$AF$1,E302),IF(AND(WEEKDAY(A302,2)<6,C303=\"\"),ColTime(T.!$J$5,T.!$L$5,D302,E302),\"\"))),\"\")","v":""},null,"00:00:00",{"$f":"IFERROR(IF(AND(WEEKDAY(A302,2)<6,C303<>\"\",C302=\"\"),ColTime(T.!$J$7,T.!$L$7,$AF$1,'Hele året'!E302),IF(AND(C302<>\"\",C303<>\"\"),ColTime(T.!$J$7,T.!$L$7,'Hele året'!D302,'Hele året'!E302),IF(AND(OR(WEEKDAY(A302,2)<6,WEEKDAY(A302,2)=6),C302<>\"\",E302<D302),ColTime(T.!$J$7,T.!$L$7,D302,AF299),IF(AND(WEEKDAY(A302,2)=6,E302<D302),ColTime(T.!$J$7,T.!$L$7,$AF$1,E302),IF(AND(E302<D302,OR(C302<>\"\",WEEKDAY(A302,2)=7)),ColTime(T.!J305,T.!L305,D302,$AF$1),IF(AND(E302<>\"\",OR(C302<>\"\",WEEKDAY(A302,2)=7)),ColTime(T.!$J$7,T.!$L$7,D302,E302),\"\")))))),\"\")","v":""},"",null,null,{"$f":"IFERROR(CHOOSE(WEEKDAY(A302,2),norm!C$1,norm!C$2,norm!C$3,norm!C$4,norm!C$5,norm!C$6,norm!C$7),\"\")","v":"00:00:00"}]
["2019-10-27","Sø","",null,null,null,"","00:00:00","",{"$f":"IF(AND(C303=\"\",WEEKDAY(A303,2)<6),ColTime(T.!$J$4,T.!$L$4,D303,E303),\"\")","v":""},null,{"$f":"IFERROR(IF(AND(WEEKDAY(A303,2)<6,C304<>\"\",E303<D303,C303=\"\"),ColTime($AE$1,$AF$1,D303,E303),IF(AND(OR(WEEKDAY(A303,2)=7,C303<>\"\"),E303<D303,C304=\"\"),ColTime($AF$1,$AG$1,'Hele året'!$AF$1,E303),IF(AND(WEEKDAY(A303,2)<6,C304=\"\"),ColTime(T.!$J$5,T.!$L$5,D303,E303),\"\"))),\"\")","v":""},null,"",{"$f":"IFERROR(IF(AND(WEEKDAY(A303,2)<6,C304<>\"\",C303=\"\"),ColTime(T.!$J$7,T.!$L$7,$AF$1,'Hele året'!E303),IF(AND(C303<>\"\",C304<>\"\"),ColTime(T.!$J$7,T.!$L$7,'Hele året'!D303,'Hele året'!E303),IF(AND(OR(WEEKDAY(A303,2)<6,WEEKDAY(A303,2)=6),C303<>\"\",E303<D303),ColTime(T.!$J$7,T.!$L$7,D303,AF300),IF(AND(WEEKDAY(A303,2)=6,E303<D303),ColTime(T.!$J$7,T.!$L$7,$AF$1,E303),IF(AND(E303<D303,OR(C303<>\"\",WEEKDAY(A303,2)=7)),ColTime(T.!J306,T.!L306,D303,$AF$1),IF(AND(E303<>\"\",OR(C303<>\"\",WEEKDAY(A303,2)=7)),ColTime(T.!$J$7,T.!$L$7,D303,E303),\"\")))))),\"\")","v":""},"",null,null,{"$f":"IFERROR(CHOOSE(WEEKDAY(A303,2),norm!C$1,norm!C$2,norm!C$3,norm!C$4,norm!C$5,norm!C$6,norm!C$7),\"\")","v":"00:00:00"}]
["2019-10-28","Ma","",null,null,null,"","00:00:00","",{"$f":"IF(AND(C304=\"\",WEEKDAY(A304,2)<6),ColTime(T.!$J$4,T.!$L$4,D304,E304),\"\")","v":"00:00:00"},null,{"$f":"IFERROR(IF(AND(WEEKDAY(A304,2)<6,C305<>\"\",E304<D304,C304=\"\"),ColTime($AE$1,$AF$1,D304,E304),IF(AND(OR(WEEKDAY(A304,2)=7,C304<>\"\"),E304<D304,C305=\"\"),ColTime($AF$1,$AG$1,'Hele året'!$AF$1,E304),IF(AND(WEEKDAY(A304,2)<6,C305=\"\"),ColTime(T.!$J$5,T.!$L$5,D304,E304),\"\"))),\"\")","v":"00:00:00"},null,"",{"$f":"IFERROR(IF(AND(WEEKDAY(A304,2)<6,C305<>\"\",C304=\"\"),ColTime(T.!$J$7,T.!$L$7,$AF$1,'Hele året'!E304),IF(AND(C304<>\"\",C305<>\"\"),ColTime(T.!$J$7,T.!$L$7,'Hele året'!D304,'Hele året'!E304),IF(AND(OR(WEEKDAY(A304,2)<6,WEEKDAY(A304,2)=6),C304<>\"\",E304<D304),ColTime(T.!$J$7,T.!$L$7,D304,AF301),IF(AND(WEEKDAY(A304,2)=6,E304<D304),ColTime(T.!$J$7,T.!$L$7,$AF$1,E304),IF(AND(E304<D304,OR(C304<>\"\",WEEKDAY(A304,2)=7)),ColTime(T.!J307,T.!L307,D304,$AF$1),IF(AND(E304<>\"\",OR(C304<>\"\",WEEKDAY(A304,2)=7)),ColTime(T.!$J$7,T.!$L$7,D304,E304),\"\")))))),\"\")","v":""},"",null,null,{"$f":"IFERROR(CHOOSE(WEEKDAY(A304,2),norm!C$1,norm!C$2,norm!C$3,norm!C$4,norm!C$5,norm!C$6,norm!C$7),\"\")","v":"07:30:00"}]
["2019-10-29","Ti","",null,null,null,"","00:00:00","",{"$f":"IF(AND(C305=\"\",WEEKDAY(A305,2)<6),ColTime(T.!$J$4,T.!$L$4,D305,E305),\"\")","v":"00:00:00"},null,{"$f":"IFERROR(IF(AND(WEEKDAY(A305,2)<6,C306<>\"\",E305<D305,C305=\"\"),ColTime($AE$1,$AF$1,D305,E305),IF(AND(OR(WEEKDAY(A305,2)=7,C305<>\"\"),E305<D305,C306=\"\"),ColTime($AF$1,$AG$1,'Hele året'!$AF$1,E305),IF(AND(WEEKDAY(A305,2)<6,C306=\"\"),ColTime(T.!$J$5,T.!$L$5,D305,E305),\"\"))),\"\")","v":"00:00:00"},null,"",{"$f":"IFERROR(IF(AND(WEEKDAY(A305,2)<6,C306<>\"\",C305=\"\"),ColTime(T.!$J$7,T.!$L$7,$AF$1,'Hele året'!E305),IF(AND(C305<>\"\",C306<>\"\"),ColTime(T.!$J$7,T.!$L$7,'Hele året'!D305,'Hele året'!E305),IF(AND(OR(WEEKDAY(A305,2)<6,WEEKDAY(A305,2)=6),C305<>\"\",E305<D305),ColTime(T.!$J$7,T.!$L$7,D305,AF302),IF(AND(WEEKDAY(A305,2)=6,E305<D305),ColTime(T.!$J$7,T.!$L$7,$AF$1,E305),IF(AND(E305<D305,OR(C305<>\"\",WEEKDAY(A305,2)=7)),ColTime(T.!J308,T.!L308,D305,$AF$1),IF(AND(E305<>\"\",OR(C305<>\"\",WEEKDAY(A305,2)=7)),ColTime(T.!$J$7,T.!$L$7,D305,E305),\"\")))))),\"\")","v":""},"",null,null,{"$f":"IFERROR(CHOOSE(WEEKDAY(A305,2),norm!C$1,norm!C$2,norm!C$3,norm!C$4,norm!C$5,norm!C$6,norm!C$7),\"\")","v":"07:30:00"}]
["2019-10-30","On","",null,null,null,"","00:00:00","",{"$f":"IF(AND(C306=\"\",WEEKDAY(A306,2)<6),ColTime(T.!$J$4,T.!$L$4,D306,E306),\"\")","v":"00:00:00"},null,{"$f":"IFERROR(IF(AND(WEEKDAY(A306,2)<6,C307<>\"\",E306<D306,C306=\"\"),ColTime($AE$1,$AF$1,D306,E306),IF(AND(OR(WEEKDAY(A306,2)=7,C306<>\"\"),E306<D306,C307=\"\"),ColTime($AF$1,$AG$1,'Hele året'!$AF$1,E306),IF(AND(WEEKDAY(A306,2)<6,C307=\"\"),ColTime(T.!$J$5,T.!$L$5,D306,E306),\"\"))),\"\")","v":"00:00:00"},null,"",{"$f":"IFERROR(IF(AND(WEEKDAY(A306,2)<6,C307<>\"\",C306=\"\"),ColTime(T.!$J$7,T.!$L$7,$AF$1,'Hele året'!E306),IF(AND(C306<>\"\",C307<>\"\"),ColTime(T.!$J$7,T.!$L$7,'Hele året'!D306,'Hele året'!E306),IF(AND(OR(WEEKDAY(A306,2)<6,WEEKDAY(A306,2)=6),C306<>\"\",E306<D306),ColTime(T.!$J$7,T.!$L$7,D306,AF303),IF(AND(WEEKDAY(A306,2)=6,E306<D306),ColTime(T.!$J$7,T.!$L$7,$AF$1,E306),IF(AND(E306<D306,OR(C306<>\"\",WEEKDAY(A306,2)=7)),ColTime(T.!J309,T.!L309,D306,$AF$1),IF(AND(E306<>\"\",OR(C306<>\"\",WEEKDAY(A306,2)=7)),ColTime(T.!$J$7,T.!$L$7,D306,E306),\"\")))))),\"\")","v":""},"",null,null,{"$f":"IFERROR(CHOOSE(WEEKDAY(A306,2),norm!C$1,norm!C$2,norm!C$3,norm!C$4,norm!C$5,norm!C$6,norm!C$7),\"\")","v":"07:30:00"}]
["2019-10-31","To","",null,null,null,"","00:00:00","",{"$f":"IF(AND(C307=\"\",WEEKDAY(A307,2)<6),ColTime(T.!$J$4,T.!$L$4,D307,E307),\"\")","v":"00:00:00"},null,{"$f":"IFERROR(IF(AND(WEEKDAY(A307,2)<6,C308<>\"\",E307<D307,C307=\"\"),ColTime($AE$1,$AF$1,D307,E307),IF(AND(OR(WEEKDAY(A307,2)=7,C307<>\"\"),E307<D307,C308=\"\"),ColTime($AF$1,$AG$1,'Hele året'!$AF$1,E307),IF(AND(WEEKDAY(A307,2)<6,C308=\"\"),ColTime(T.!$J$5,T.!$L$5,D307,E307),\"\"))),\"\")","v":"00:00:00"},null,"",{"$f":"IFERROR(IF(AND(WEEKDAY(A307,2)<6,C308<>\"\",C307=\"\"),ColTime(T.!$J$7,T.!$L$7,$AF$1,'Hele året'!E307),IF(AND(C307<>\"\",C308<>\"\"),ColTime(T.!$J$7,T.!$L$7,'Hele året'!D307,'Hele året'!E307),IF(AND(OR(WEEKDAY(A307,2)<6,WEEKDAY(A307,2)=6),C307<>\"\",E307<D307),ColTime(T.!$J$7,T.!$L$7,D307,AF304),IF(AND(WEEKDAY(A307,2)=6,E307<D307),ColTime(T.!$J$7,T.!$L$7,$AF$1,E307),IF(AND(E307<D307,OR(C307<>\"\",WEEKDAY(A307,2)=7)),ColTime(T.!J310,T.!L310,D307,$AF$1),IF(AND(E307<>\"\",OR(C307<>\"\",WEEKDAY(A307,2)=7)),ColTime(T.!$J$7,T.!$L$7,D307,E307),\"\")))))),\"\")","v":""},"",null,null,{"$f":"IFERROR(CHOOSE(WEEKDAY(A307,2),norm!C$1,norm!C$2,norm!C$3,norm!C$4,norm!C$5,norm!C$6,norm!C$7),\"\")","v":"07:30:00"}]
["2019-11-01","Fr","",null,null,null,{"$f":"IF(D308=\"\",\"\",(E308-D308)+(D308>E308)-F308)","v":""},{"$f":"IF(G308=\"\",0,IF(WEEKDAY(A308,2)=7,0,IF(G308>S308,MIN(G308-S308,$AI$1),0)))","v":"00:00:00"},{"$f":"IF(G308=\"\",\"\",IF(G308>S308+H308,G308-(S308+H308),\"\"))","v":""},{"$f":"IF(AND(C308=\"\",WEEKDAY(A308,2)<6),ColTime(T.!$J$4,T.!$L$4,D308,E308),\"\")","v":"00:00:00"},null,{"$f":"IFERROR(IF(AND(WEEKDAY(A308,2)<6,C309<>\"\",E308<D308,C308=\"\"),ColTime($AE$1,$AF$1,D308,E308),IF(AND(OR(WEEKDAY(A308,2)=7,C308<>\"\"),E308<D308,C309=\"\"),ColTime($AF$1,$AG$1,'Hele året'!$AF$1,E308),IF(AND(WEEKDAY(A308,2)<6,C309=\"\"),ColTime(T.!$J$5,T.!$L$5,D308,E308),\"\"))),\"\")","v":"00:00:00"},null,{"$f":"IF(WEEKDAY(A308,2)=6,ColTime(TIME(15,0,0),TIME(24,0,0),D308,E308),\"\")","v":""},{"$f":"IFERROR(IF(AND(WEEKDAY(A308,2)<6,C309<>\"\",C308=\"\"),ColTime(T.!$J$7,T.!$L$7,$AF$1,'Hele året'!E308),IF(AND(C308<>\"\",C309<>\"\"),ColTime(T.!$J$7,T.!$L$7,'Hele året'!D308,'Hele året'!E308),IF(AND(OR(WEEKDAY(A308,2)<6,WEEKDAY(A308,2)=6),C308<>\"\",E308<D308),ColTime(T.!$J$7,T.!$L$7,D308,AF305),IF(AND(WEEKDAY(A308,2)=6,E308<D308),ColTime(T.!$J$7,T.!$L$7,$AF$1,E308),IF(AND(E308<D308,OR(C308<>\"\",WEEKDAY(A308,2)=7)),ColTime(T.!J311,T.!L311,D308,$AF$1),IF(AND(E308<>\"\",OR(C308<>\"\",WEEKDAY(A308,2)=7)),ColTime(T.!$J$7,T.!$L$7,D308,E308),\"\")))))),\"\")","v":""},{"$f":"IFERROR(H308+I308,\"\")","v":""},null,null,{"$f":"IFERROR(CHOOSE(WEEKDAY(A308,2),norm!C$1,norm!C$2,norm!C$3,norm!C$4,norm!C$5,norm!C$6,norm!C$7),\"\")","v":"07:00:00"}]
["2019-11-02","Lø",{"$f":"IF(A309=\"\",\"\",HelligdagsNavn(A309,0,0))","v":""},null,null,null,"","00:00:00","",{"$f":"IF(AND(C309=\"\",WEEKDAY(A309,2)<6),ColTime(T.!$J$4,T.!$L$4,D309,E309),\"\")","v":""},null,{"$f":"IFERROR(IF(AND(WEEKDAY(A309,2)<6,C310<>\"\",E309<D309,C309=\"\"),ColTime($AE$1,$AF$1,D309,E309),IF(AND(OR(WEEKDAY(A309,2)=7,C309<>\"\"),E309<D309,C310=\"\"),ColTime($AF$1,$AG$1,'Hele året'!$AF$1,E309),IF(AND(WEEKDAY(A309,2)<6,C310=\"\"),ColTime(T.!$J$5,T.!$L$5,D309,E309),\"\"))),\"\")","v":""},null,"00:00:00",{"$f":"IFERROR(IF(AND(WEEKDAY(A309,2)<6,C310<>\"\",C309=\"\"),ColTime(T.!$J$7,T.!$L$7,$AF$1,'Hele året'!E309),IF(AND(C309<>\"\",C310<>\"\"),ColTime(T.!$J$7,T.!$L$7,'Hele året'!D309,'Hele året'!E309),IF(AND(OR(WEEKDAY(A309,2)<6,WEEKDAY(A309,2)=6),C309<>\"\",E309<D309),ColTime(T.!$J$7,T.!$L$7,D309,AF306),IF(AND(WEEKDAY(A309,2)=6,E309<D309),ColTime(T.!$J$7,T.!$L$7,$AF$1,E309),IF(AND(E309<D309,OR(C309<>\"\",WEEKDAY(A309,2)=7)),ColTime(T.!J312,T.!L312,D309,$AF$1),IF(AND(E309<>\"\",OR(C309<>\"\",WEEKDAY(A309,2)=7)),ColTime(T.!$J$7,T.!$L$7,D309,E309),\"\")))))),\"\")","v":""},"",null,null,{"$f":"IFERROR(CHOOSE(WEEKDAY(A309,2),norm!C$1,norm!C$2,norm!C$3,norm!C$4,norm!C$5,norm!C$6,norm!C$7),\"\")","v":"00:00:00"}]
["2019-11-03","Sø","",null,null,null,"","00:00:00","",{"$f":"IF(AND(C310=\"\",WEEKDAY(A310,2)<6),ColTime(T.!$J$4,T.!$L$4,D310,E310),\"\")","v":""},null,{"$f":"IFERROR(IF(AND(WEEKDAY(A310,2)<6,C311<>\"\",E310<D310,C310=\"\"),ColTime($AE$1,$AF$1,D310,E310),IF(AND(OR(WEEKDAY(A310,2)=7,C310<>\"\"),E310<D310,C311=\"\"),ColTime($AF$1,$AG$1,'Hele året'!$AF$1,E310),IF(AND(WEEKDAY(A310,2)<6,C311=\"\"),ColTime(T.!$J$5,T.!$L$5,D310,E310),\"\"))),\"\")","v":""},null,"",{"$f":"IFERROR(IF(AND(WEEKDAY(A310,2)<6,C311<>\"\",C310=\"\"),ColTime(T.!$J$7,T.!$L$7,$AF$1,'Hele året'!E310),IF(AND(C310<>\"\",C311<>\"\"),ColTime(T.!$J$7,T.!$L$7,'Hele året'!D310,'Hele året'!E310),IF(AND(OR(WEEKDAY(A310,2)<6,WEEKDAY(A310,2)=6),C310<>\"\",E310<D310),ColTime(T.!$J$7,T.!$L$7,D310,AF307),IF(AND(WEEKDAY(A310,2)=6,E310<D310),ColTime(T.!$J$7,T.!$L$7,$AF$1,E310),IF(AND(E310<D310,OR(C310<>\"\",WEEKDAY(A310,2)=7)),ColTime(T.!J313,T.!L313,D310,$AF$1),IF(AND(E310<>\"\",OR(C310<>\"\",WEEKDAY(A310,2)=7)),ColTime(T.!$J$7,T.!$L$7,D310,E310),\"\")))))),\"\")","v":""},"",null,null,{"$f":"IFERROR(CHOOSE(WEEKDAY(A310,2),norm!C$1,norm!C$2,norm!C$3,norm!C$4,norm!C$5,norm!C$6,norm!C$7),\"\")","v":"00:00:00"}]
["2019-11-04","Ma","",null,null,null,"","00:00:00","",{"$f":"IF(AND(C311=\"\",WEEKDAY(A311,2)<6),ColTime(T.!$J$4,T.!$L$4,D311,E311),\"\")","v":"00:00:00"},null,{"$f":"IFERROR(IF(AND(WEEKDAY(A311,2)<6,C312<>\"\",E311<D311,C311=\"\"),ColTime($AE$1,$AF$1,D311,E311),IF(AND(OR(WEEKDAY(A311,2)=7,C311<>\"\"),E311<D311,C312=\"\"),ColTime($AF$1,$AG$1,'Hele året'!$AF$1,E311),IF(AND(WEEKDAY(A311,2)<6,C312=\"\"),ColTime(T.!$J$5,T.!$L$5,D311,E311),\"\"))),\"\")","v":"00:00:00"},null,"",{"$f":"IFERROR(IF(AND(WEEKDAY(A311,2)<6,C312<>\"\",C311=\"\"),ColTime(T.!$J$7,T.!$L$7,$AF$1,'Hele året'!E311),IF(AND(C311<>\"\",C312<>\"\"),ColTime(T.!$J$7,T.!$L$7,'Hele året'!D311,'Hele året'!E311),IF(AND(OR(WEEKDAY(A311,2)<6,WEEKDAY(A311,2)=6),C311<>\"\",E311<D311),ColTime(T.!$J$7,T.!$L$7,D311,AF308),IF(AND(WEEKDAY(A311,2)=6,E311<D311),ColTime(T.!$J$7,T.!$L$7,$AF$1,E311),IF(AND(E311<D311,OR(C311<>\"\",WEEKDAY(A311,2)=7)),ColTime(T.!J314,T.!L314,D311,$AF$1),IF(AND(E311<>\"\",OR(C311<>\"\",WEEKDAY(A311,2)=7)),ColTime(T.!$J$7,T.!$L$7,D311,E311),\"\")))))),\"\")","v":""},"",null,null,{"$f":"IFERROR(CHOOSE(WEEKDAY(A311,2),norm!C$1,norm!C$2,norm!C$3,norm!C$4,norm!C$5,norm!C$6,norm!C$7),\"\")","v":"07:30:00"}]
["2019-11-05","Ti","",null,null,null,"","00:00:00","",{"$f":"IF(AND(C312=\"\",WEEKDAY(A312,2)<6),ColTime(T.!$J$4,T.!$L$4,D312,E312),\"\")","v":"00:00:00"},null,{"$f":"IFERROR(IF(AND(WEEKDAY(A312,2)<6,C313<>\"\",E312<D312,C312=\"\"),ColTime($AE$1,$AF$1,D312,E312),IF(AND(OR(WEEKDAY(A312,2)=7,C312<>\"\"),E312<D312,C313=\"\"),ColTime($AF$1,$AG$1,'Hele året'!$AF$1,E312),IF(AND(WEEKDAY(A312,2)<6,C313=\"\"),ColTime(T.!$J$5,T.!$L$5,D312,E312),\"\"))),\"\")","v":"00:00:00"},null,"",{"$f":"IFERROR(IF(AND(WEEKDAY(A312,2)<6,C313<>\"\",C312=\"\"),ColTime(T.!$J$7,T.!$L$7,$AF$1,'Hele året'!E312),IF(AND(C312<>\"\",C313<>\"\"),ColTime(T.!$J$7,T.!$L$7,'Hele året'!D312,'Hele året'!E312),IF(AND(OR(WEEKDAY(A312,2)<6,WEEKDAY(A312,2)=6),C312<>\"\",E312<D312),ColTime(T.!$J$7,T.!$L$7,D312,AF309),IF(AND(WEEKDAY(A312,2)=6,E312<D312),ColTime(T.!$J$7,T.!$L$7,$AF$1,E312),IF(AND(E312<D312,OR(C312<>\"\",WEEKDAY(A312,2)=7)),ColTime(T.!J315,T.!L315,D312,$AF$1),IF(AND(E312<>\"\",OR(C312<>\"\",WEEKDAY(A312,2)=7)),ColTime(T.!$J$7,T.!$L$7,D312,E312),\"\")))))),\"\")","v":""},"",null,null,{"$f":"IFERROR(CHOOSE(WEEKDAY(A312,2),norm!C$1,norm!C$2,norm!C$3,norm!C$4,norm!C$5,norm!C$6,norm!C$7),\"\")","v":"07:30:00"}]
["2019-11-06","On","",null,null,null,"","00:00:00","",{"$f":"IF(AND(C313=\"\",WEEKDAY(A313,2)<6),ColTime(T.!$J$4,T.!$L$4,D313,E313),\"\")","v":"00:00:00"},null,{"$f":"IFERROR(IF(AND(WEEKDAY(A313,2)<6,C314<>\"\",E313<D313,C313=\"\"),ColTime($AE$1,$AF$1,D313,E313),IF(AND(OR(WEEKDAY(A313,2)=7,C313<>\"\"),E313<D313,C314=\"\"),ColTime($AF$1,$AG$1,'Hele året'!$AF$1,E313),IF(AND(WEEKDAY(A313,2)<6,C314=\"\"),ColTime(T.!$J$5,T.!$L$5,D313,E313),\"\"))),\"\")","v":"00:00:00"},null,"",{"$f":"IFERROR(IF(AND(WEEKDAY(A313,2)<6,C314<>\"\",C313=\"\"),ColTime(T.!$J$7,T.!$L$7,$AF$1,'Hele året'!E313),IF(AND(C313<>\"\",C314<>\"\"),ColTime(T.!$J$7,T.!$L$7,'Hele året'!D313,'Hele året'!E313),IF(AND(OR(WEEKDAY(A313,2)<6,WEEKDAY(A313,2)=6),C313<>\"\",E313<D313),ColTime(T.!$J$7,T.!$L$7,D313,AF310),IF(AND(WEEKDAY(A313,2)=6,E313<D313),ColTime(T.!$J$7,T.!$L$7,$AF$1,E313),IF(AND(E313<D313,OR(C313<>\"\",WEEKDAY(A313,2)=7)),ColTime(T.!J316,T.!L316,D313,$AF$1),IF(AND(E313<>\"\",OR(C313<>\"\",WEEKDAY(A313,2)=7)),ColTime(T.!$J$7,T.!$L$7,D313,E313),\"\")))))),\"\")","v":""},"",null,null,{"$f":"IFERROR(CHOOSE(WEEKDAY(A313,2),norm!C$1,norm!C$2,norm!C$3,norm!C$4,norm!C$5,norm!C$6,norm!C$7),\"\")","v":"07:30:00"}]
["2019-11-07","To","",null,null,null,"","00:00:00","",{"$f":"IF(AND(C314=\"\",WEEKDAY(A314,2)<6),ColTime(T.!$J$4,T.!$L$4,D314,E314),\"\")","v":"00:00:00"},null,{"$f":"IFERROR(IF(AND(WEEKDAY(A314,2)<6,C315<>\"\",E314<D314,C314=\"\"),ColTime($AE$1,$AF$1,D314,E314),IF(AND(OR(WEEKDAY(A314,2)=7,C314<>\"\"),E314<D314,C315=\"\"),ColTime($AF$1,$AG$1,'Hele året'!$AF$1,E314),IF(AND(WEEKDAY(A314,2)<6,C315=\"\"),ColTime(T.!$J$5,T.!$L$5,D314,E314),\"\"))),\"\")","v":"00:00:00"},null,"",{"$f":"IFERROR(IF(AND(WEEKDAY(A314,2)<6,C315<>\"\",C314=\"\"),ColTime(T.!$J$7,T.!$L$7,$AF$1,'Hele året'!E314),IF(AND(C314<>\"\",C315<>\"\"),ColTime(T.!$J$7,T.!$L$7,'Hele året'!D314,'Hele året'!E314),IF(AND(OR(WEEKDAY(A314,2)<6,WEEKDAY(A314,2)=6),C314<>\"\",E314<D314),ColTime(T.!$J$7,T.!$L$7,D314,AF311),IF(AND(WEEKDAY(A314,2)=6,E314<D314),ColTime(T.!$J$7,T.!$L$7,$AF$1,E314),IF(AND(E314<D314,OR(C314<>\"\",WEEKDAY(A314,2)=7)),ColTime(T.!J317,T.!L317,D314,$AF$1),IF(AND(E314<>\"\",OR(C314<>\"\",WEEKDAY(A314,2)=7)),ColTime(T.!$J$7,T.!$L$7,D314,E314),\"\")))))),\"\")","v":""},"",null,null,{"$f":"IFERROR(CHOOSE(WEEKDAY(A314,2),norm!C$1,norm!C$2,norm!C$3,norm!C$4,norm!C$5,norm!C$6,norm!C$7),\"\")","v":"07:30:00"}]
["2019-11-08","Fr","",null,null,null,"","00:00:00","",{"$f":"IF(AND(C315=\"\",WEEKDAY(A315,2)<6),ColTime(T.!$J$4,T.!$L$4,D315,E315),\"\")","v":"00:00:00"},null,{"$f":"IFERROR(IF(AND(WEEKDAY(A315,2)<6,C316<>\"\",E315<D315,C315=\"\"),ColTime($AE$1,$AF$1,D315,E315),IF(AND(OR(WEEKDAY(A315,2)=7,C315<>\"\"),E315<D315,C316=\"\"),ColTime($AF$1,$AG$1,'Hele året'!$AF$1,E315),IF(AND(WEEKDAY(A315,2)<6,C316=\"\"),ColTime(T.!$J$5,T.!$L$5,D315,E315),\"\"))),\"\")","v":"00:00:00"},null,"",{"$f":"IFERROR(IF(AND(WEEKDAY(A315,2)<6,C316<>\"\",C315=\"\"),ColTime(T.!$J$7,T.!$L$7,$AF$1,'Hele året'!E315),IF(AND(C315<>\"\",C316<>\"\"),ColTime(T.!$J$7,T.!$L$7,'Hele året'!D315,'Hele året'!E315),IF(AND(OR(WEEKDAY(A315,2)<6,WEEKDAY(A315,2)=6),C315<>\"\",E315<D315),ColTime(T.!$J$7,T.!$L$7,D315,AF312),IF(AND(WEEKDAY(A315,2)=6,E315<D315),ColTime(T.!$J$7,T.!$L$7,$AF$1,E315),IF(AND(E315<D315,OR(C315<>\"\",WEEKDAY(A315,2)=7)),ColTime(T.!J318,T.!L318,D315,$AF$1),IF(AND(E315<>\"\",OR(C315<>\"\",WEEKDAY(A315,2)=7)),ColTime(T.!$J$7,T.!$L$7,D315,E315),\"\")))))),\"\")","v":""},"",null,null,{"$f":"IFERROR(CHOOSE(WEEKDAY(A315,2),norm!C$1,norm!C$2,norm!C$3,norm!C$4,norm!C$5,norm!C$6,norm!C$7),\"\")","v":"07:00:00"}]
["2019-11-09","Lø","",null,null,null,"","00:00:00","",{"$f":"IF(AND(C316=\"\",WEEKDAY(A316,2)<6),ColTime(T.!$J$4,T.!$L$4,D316,E316),\"\")","v":""},null,{"$f":"IFERROR(IF(AND(WEEKDAY(A316,2)<6,C317<>\"\",E316<D316,C316=\"\"),ColTime($AE$1,$AF$1,D316,E316),IF(AND(OR(WEEKDAY(A316,2)=7,C316<>\"\"),E316<D316,C317=\"\"),ColTime($AF$1,$AG$1,'Hele året'!$AF$1,E316),IF(AND(WEEKDAY(A316,2)<6,C317=\"\"),ColTime(T.!$J$5,T.!$L$5,D316,E316),\"\"))),\"\")","v":""},null,"00:00:00",{"$f":"IFERROR(IF(AND(WEEKDAY(A316,2)<6,C317<>\"\",C316=\"\"),ColTime(T.!$J$7,T.!$L$7,$AF$1,'Hele året'!E316),IF(AND(C316<>\"\",C317<>\"\"),ColTime(T.!$J$7,T.!$L$7,'Hele året'!D316,'Hele året'!E316),IF(AND(OR(WEEKDAY(A316,2)<6,WEEKDAY(A316,2)=6),C316<>\"\",E316<D316),ColTime(T.!$J$7,T.!$L$7,D316,AF313),IF(AND(WEEKDAY(A316,2)=6,E316<D316),ColTime(T.!$J$7,T.!$L$7,$AF$1,E316),IF(AND(E316<D316,OR(C316<>\"\",WEEKDAY(A316,2)=7)),ColTime(T.!J319,T.!L319,D316,$AF$1),IF(AND(E316<>\"\",OR(C316<>\"\",WEEKDAY(A316,2)=7)),ColTime(T.!$J$7,T.!$L$7,D316,E316),\"\")))))),\"\")","v":""},"",null,null,{"$f":"IFERROR(CHOOSE(WEEKDAY(A316,2),norm!C$1,norm!C$2,norm!C$3,norm!C$4,norm!C$5,norm!C$6,norm!C$7),\"\")","v":"00:00:00"}]
["2019-11-10","Sø","",null,null,null,"","00:00:00","",{"$f":"IF(AND(C317=\"\",WEEKDAY(A317,2)<6),ColTime(T.!$J$4,T.!$L$4,D317,E317),\"\")","v":""},null,{"$f":"IFERROR(IF(AND(WEEKDAY(A317,2)<6,C318<>\"\",E317<D317,C317=\"\"),ColTime($AE$1,$AF$1,D317,E317),IF(AND(OR(WEEKDAY(A317,2)=7,C317<>\"\"),E317<D317,C318=\"\"),ColTime($AF$1,$AG$1,'Hele året'!$AF$1,E317),IF(AND(WEEKDAY(A317,2)<6,C318=\"\"),ColTime(T.!$J$5,T.!$L$5,D317,E317),\"\"))),\"\")","v":""},null,"",{"$f":"IFERROR(IF(AND(WEEKDAY(A317,2)<6,C318<>\"\",C317=\"\"),ColTime(T.!$J$7,T.!$L$7,$AF$1,'Hele året'!E317),IF(AND(C317<>\"\",C318<>\"\"),ColTime(T.!$J$7,T.!$L$7,'Hele året'!D317,'Hele året'!E317),IF(AND(OR(WEEKDAY(A317,2)<6,WEEKDAY(A317,2)=6),C317<>\"\",E317<D317),ColTime(T.!$J$7,T.!$L$7,D317,AF314),IF(AND(WEEKDAY(A317,2)=6,E317<D317),ColTime(T.!$J$7,T.!$L$7,$AF$1,E317),IF(AND(E317<D317,OR(C317<>\"\",WEEKDAY(A317,2)=7)),ColTime(T.!J320,T.!L320,D317,$AF$1),IF(AND(E317<>\"\",OR(C317<>\"\",WEEKDAY(A317,2)=7)),ColTime(T.!$J$7,T.!$L$7,D317,E317),\"\")))))),\"\")","v":""},"",null,null,{"$f":"IFERROR(CHOOSE(WEEKDAY(A317,2),norm!C$1,norm!C$2,norm!C$3,norm!C$4,norm!C$5,norm!C$6,norm!C$7),\"\")","v":"00:00:00"}]
["2019-11-11","Ma","",null,null,null,"","00:00:00","",{"$f":"IF(AND(C318=\"\",WEEKDAY(A318,2)<6),ColTime(T.!$J$4,T.!$L$4,D318,E318),\"\")","v":"00:00:00"},null,{"$f":"IFERROR(IF(AND(WEEKDAY(A318,2)<6,C319<>\"\",E318<D318,C318=\"\"),ColTime($AE$1,$AF$1,D318,E318),IF(AND(OR(WEEKDAY(A318,2)=7,C318<>\"\"),E318<D318,C319=\"\"),ColTime($AF$1,$AG$1,'Hele året'!$AF$1,E318),IF(AND(WEEKDAY(A318,2)<6,C319=\"\"),ColTime(T.!$J$5,T.!$L$5,D318,E318),\"\"))),\"\")","v":"00:00:00"},null,"",{"$f":"IFERROR(IF(AND(WEEKDAY(A318,2)<6,C319<>\"\",C318=\"\"),ColTime(T.!$J$7,T.!$L$7,$AF$1,'Hele året'!E318),IF(AND(C318<>\"\",C319<>\"\"),ColTime(T.!$J$7,T.!$L$7,'Hele året'!D318,'Hele året'!E318),IF(AND(OR(WEEKDAY(A318,2)<6,WEEKDAY(A318,2)=6),C318<>\"\",E318<D318),ColTime(T.!$J$7,T.!$L$7,D318,AF315),IF(AND(WEEKDAY(A318,2)=6,E318<D318),ColTime(T.!$J$7,T.!$L$7,$AF$1,E318),IF(AND(E318<D318,OR(C318<>\"\",WEEKDAY(A318,2)=7)),ColTime(T.!J321,T.!L321,D318,$AF$1),IF(AND(E318<>\"\",OR(C318<>\"\",WEEKDAY(A318,2)=7)),ColTime(T.!$J$7,T.!$L$7,D318,E318),\"\")))))),\"\")","v":""},"",null,null,{"$f":"IFERROR(CHOOSE(WEEKDAY(A318,2),norm!C$1,norm!C$2,norm!C$3,norm!C$4,norm!C$5,norm!C$6,norm!C$7),\"\")","v":"07:30:00"}]
["2019-11-12","Ti","",null,null,null,"","00:00:00","",{"$f":"IF(AND(C319=\"\",WEEKDAY(A319,2)<6),ColTime(T.!$J$4,T.!$L$4,D319,E319),\"\")","v":"00:00:00"},null,{"$f":"IFERROR(IF(AND(WEEKDAY(A319,2)<6,C320<>\"\",E319<D319,C319=\"\"),ColTime($AE$1,$AF$1,D319,E319),IF(AND(OR(WEEKDAY(A319,2)=7,C319<>\"\"),E319<D319,C320=\"\"),ColTime($AF$1,$AG$1,'Hele året'!$AF$1,E319),IF(AND(WEEKDAY(A319,2)<6,C320=\"\"),ColTime(T.!$J$5,T.!$L$5,D319,E319),\"\"))),\"\")","v":"00:00:00"},null,"",{"$f":"IFERROR(IF(AND(WEEKDAY(A319,2)<6,C320<>\"\",C319=\"\"),ColTime(T.!$J$7,T.!$L$7,$AF$1,'Hele året'!E319),IF(AND(C319<>\"\",C320<>\"\"),ColTime(T.!$J$7,T.!$L$7,'Hele året'!D319,'Hele året'!E319),IF(AND(OR(WEEKDAY(A319,2)<6,WEEKDAY(A319,2)=6),C319<>\"\",E319<D319),ColTime(T.!$J$7,T.!$L$7,D319,AF316),IF(AND(WEEKDAY(A319,2)=6,E319<D319),ColTime(T.!$J$7,T.!$L$7,$AF$1,E319),IF(AND(E319<D319,OR(C319<>\"\",WEEKDAY(A319,2)=7)),ColTime(T.!J322,T.!L322,D319,$AF$1),IF(AND(E319<>\"\",OR(C319<>\"\",WEEKDAY(A319,2)=7)),ColTime(T.!$J$7,T.!$L$7,D319,E319),\"\")))))),\"\")","v":""},"",null,null,{"$f":"IFERROR(CHOOSE(WEEKDAY(A319,2),norm!C$1,norm!C$2,norm!C$3,norm!C$4,norm!C$5,norm!C$6,norm!C$7),\"\")","v":"07:30:00"}]
["2019-11-13","On","",null,null,null,"","00:00:00","",{"$f":"IF(AND(C320=\"\",WEEKDAY(A320,2)<6),ColTime(T.!$J$4,T.!$L$4,D320,E320),\"\")","v":"00:00:00"},null,{"$f":"IFERROR(IF(AND(WEEKDAY(A320,2)<6,C321<>\"\",E320<D320,C320=\"\"),ColTime($AE$1,$AF$1,D320,E320),IF(AND(OR(WEEKDAY(A320,2)=7,C320<>\"\"),E320<D320,C321=\"\"),ColTime($AF$1,$AG$1,'Hele året'!$AF$1,E320),IF(AND(WEEKDAY(A320,2)<6,C321=\"\"),ColTime(T.!$J$5,T.!$L$5,D320,E320),\"\"))),\"\")","v":"00:00:00"},null,"",{"$f":"IFERROR(IF(AND(WEEKDAY(A320,2)<6,C321<>\"\",C320=\"\"),ColTime(T.!$J$7,T.!$L$7,$AF$1,'Hele året'!E320),IF(AND(C320<>\"\",C321<>\"\"),ColTime(T.!$J$7,T.!$L$7,'Hele året'!D320,'Hele året'!E320),IF(AND(OR(WEEKDAY(A320,2)<6,WEEKDAY(A320,2)=6),C320<>\"\",E320<D320),ColTime(T.!$J$7,T.!$L$7,D320,AF317),IF(AND(WEEKDAY(A320,2)=6,E320<D320),ColTime(T.!$J$7,T.!$L$7,$AF$1,E320),IF(AND(E320<D320,OR(C320<>\"\",WEEKDAY(A320,2)=7)),ColTime(T.!J323,T.!L323,D320,$AF$1),IF(AND(E320<>\"\",OR(C320<>\"\",WEEKDAY(A320,2)=7)),ColTime(T.!$J$7,T.!$L$7,D320,E320),\"\")))))),\"\")","v":""},"",null,null,{"$f":"IFERROR(CHOOSE(WEEKDAY(A320,2),norm!C$1,norm!C$2,norm!C$3,norm!C$4,norm!C$5,norm!C$6,norm!C$7),\"\")","v":"07:30:00"}]
["2019-11-14","To","",null,null,null,"","00:00:00","",{"$f":"IF(AND(C321=\"\",WEEKDAY(A321,2)<6),ColTime(T.!$J$4,T.!$L$4,D321,E321),\"\")","v":"00:00:00"},null,{"$f":"IFERROR(IF(AND(WEEKDAY(A321,2)<6,C322<>\"\",E321<D321,C321=\"\"),ColTime($AE$1,$AF$1,D321,E321),IF(AND(OR(WEEKDAY(A321,2)=7,C321<>\"\"),E321<D321,C322=\"\"),ColTime($AF$1,$AG$1,'Hele året'!$AF$1,E321),IF(AND(WEEKDAY(A321,2)<6,C322=\"\"),ColTime(T.!$J$5,T.!$L$5,D321,E321),\"\"))),\"\")","v":"00:00:00"},null,"",{"$f":"IFERROR(IF(AND(WEEKDAY(A321,2)<6,C322<>\"\",C321=\"\"),ColTime(T.!$J$7,T.!$L$7,$AF$1,'Hele året'!E321),IF(AND(C321<>\"\",C322<>\"\"),ColTime(T.!$J$7,T.!$L$7,'Hele året'!D321,'Hele året'!E321),IF(AND(OR(WEEKDAY(A321,2)<6,WEEKDAY(A321,2)=6),C321<>\"\",E321<D321),ColTime(T.!$J$7,T.!$L$7,D321,AF318),IF(AND(WEEKDAY(A321,2)=6,E321<D321),ColTime(T.!$J$7,T.!$L$7,$AF$1,E321),IF(AND(E321<D321,OR(C321<>\"\",WEEKDAY(A321,2)=7)),ColTime(T.!J324,T.!L324,D321,$AF$1),IF(AND(E321<>\"\",OR(C321<>\"\",WEEKDAY(A321,2)=7)),ColTime(T.!$J$7,T.!$L$7,D321,E321),\"\")))))),\"\")","v":""},"",null,null,{"$f":"IFERROR(CHOOSE(WEEKDAY(A321,2),norm!C$1,norm!C$2,norm!C$3,norm!C$4,norm!C$5,norm!C$6,norm!C$7),\"\")","v":"07:30:00"}]
["2019-11-15","Fr","",null,null,null,"","00:00:00","",{"$f":"IF(AND(C322=\"\",WEEKDAY(A322,2)<6),ColTime(T.!$J$4,T.!$L$4,D322,E322),\"\")","v":"00:00:00"},null,{"$f":"IFERROR(IF(AND(WEEKDAY(A322,2)<6,C323<>\"\",E322<D322,C322=\"\"),ColTime($AE$1,$AF$1,D322,E322),IF(AND(OR(WEEKDAY(A322,2)=7,C322<>\"\"),E322<D322,C323=\"\"),ColTime($AF$1,$AG$1,'Hele året'!$AF$1,E322),IF(AND(WEEKDAY(A322,2)<6,C323=\"\"),ColTime(T.!$J$5,T.!$L$5,D322,E322),\"\"))),\"\")","v":"00:00:00"},null,"",{"$f":"IFERROR(IF(AND(WEEKDAY(A322,2)<6,C323<>\"\",C322=\"\"),ColTime(T.!$J$7,T.!$L$7,$AF$1,'Hele året'!E322),IF(AND(C322<>\"\",C323<>\"\"),ColTime(T.!$J$7,T.!$L$7,'Hele året'!D322,'Hele året'!E322),IF(AND(OR(WEEKDAY(A322,2)<6,WEEKDAY(A322,2)=6),C322<>\"\",E322<D322),ColTime(T.!$J$7,T.!$L$7,D322,AF319),IF(AND(WEEKDAY(A322,2)=6,E322<D322),ColTime(T.!$J$7,T.!$L$7,$AF$1,E322),IF(AND(E322<D322,OR(C322<>\"\",WEEKDAY(A322,2)=7)),ColTime(T.!J325,T.!L325,D322,$AF$1),IF(AND(E322<>\"\",OR(C322<>\"\",WEEKDAY(A322,2)=7)),ColTime(T.!$J$7,T.!$L$7,D322,E322),\"\")))))),\"\")","v":""},"",null,null,{"$f":"IFERROR(CHOOSE(WEEKDAY(A322,2),norm!C$1,norm!C$2,norm!C$3,norm!C$4,norm!C$5,norm!C$6,norm!C$7),\"\")","v":"07:00:00"}]
["2019-11-16","Lø","",null,null,null,"","00:00:00","",{"$f":"IF(AND(C323=\"\",WEEKDAY(A323,2)<6),ColTime(T.!$J$4,T.!$L$4,D323,E323),\"\")","v":""},null,{"$f":"IFERROR(IF(AND(WEEKDAY(A323,2)<6,C324<>\"\",E323<D323,C323=\"\"),ColTime($AE$1,$AF$1,D323,E323),IF(AND(OR(WEEKDAY(A323,2)=7,C323<>\"\"),E323<D323,C324=\"\"),ColTime($AF$1,$AG$1,'Hele året'!$AF$1,E323),IF(AND(WEEKDAY(A323,2)<6,C324=\"\"),ColTime(T.!$J$5,T.!$L$5,D323,E323),\"\"))),\"\")","v":""},null,"00:00:00",{"$f":"IFERROR(IF(AND(WEEKDAY(A323,2)<6,C324<>\"\",C323=\"\"),ColTime(T.!$J$7,T.!$L$7,$AF$1,'Hele året'!E323),IF(AND(C323<>\"\",C324<>\"\"),ColTime(T.!$J$7,T.!$L$7,'Hele året'!D323,'Hele året'!E323),IF(AND(OR(WEEKDAY(A323,2)<6,WEEKDAY(A323,2)=6),C323<>\"\",E323<D323),ColTime(T.!$J$7,T.!$L$7,D323,AF320),IF(AND(WEEKDAY(A323,2)=6,E323<D323),ColTime(T.!$J$7,T.!$L$7,$AF$1,E323),IF(AND(E323<D323,OR(C323<>\"\",WEEKDAY(A323,2)=7)),ColTime(T.!J326,T.!L326,D323,$AF$1),IF(AND(E323<>\"\",OR(C323<>\"\",WEEKDAY(A323,2)=7)),ColTime(T.!$J$7,T.!$L$7,D323,E323),\"\")))))),\"\")","v":""},"",null,null,{"$f":"IFERROR(CHOOSE(WEEKDAY(A323,2),norm!C$1,norm!C$2,norm!C$3,norm!C$4,norm!C$5,norm!C$6,norm!C$7),\"\")","v":"00:00:00"}]
["2019-11-17","Sø","",null,null,null,"","00:00:00","",{"$f":"IF(AND(C324=\"\",WEEKDAY(A324,2)<6),ColTime(T.!$J$4,T.!$L$4,D324,E324),\"\")","v":""},null,{"$f":"IFERROR(IF(AND(WEEKDAY(A324,2)<6,C325<>\"\",E324<D324,C324=\"\"),ColTime($AE$1,$AF$1,D324,E324),IF(AND(OR(WEEKDAY(A324,2)=7,C324<>\"\"),E324<D324,C325=\"\"),ColTime($AF$1,$AG$1,'Hele året'!$AF$1,E324),IF(AND(WEEKDAY(A324,2)<6,C325=\"\"),ColTime(T.!$J$5,T.!$L$5,D324,E324),\"\"))),\"\")","v":""},null,"",{"$f":"IFERROR(IF(AND(WEEKDAY(A324,2)<6,C325<>\"\",C324=\"\"),ColTime(T.!$J$7,T.!$L$7,$AF$1,'Hele året'!E324),IF(AND(C324<>\"\",C325<>\"\"),ColTime(T.!$J$7,T.!$L$7,'Hele året'!D324,'Hele året'!E324),IF(AND(OR(WEEKDAY(A324,2)<6,WEEKDAY(A324,2)=6),C324<>\"\",E324<D324),ColTime(T.!$J$7,T.!$L$7,D324,AF321),IF(AND(WEEKDAY(A324,2)=6,E324<D324),ColTime(T.!$J$7,T.!$L$7,$AF$1,E324),IF(AND(E324<D324,OR(C324<>\"\",WEEKDAY(A324,2)=7)),ColTime(T.!J327,T.!L327,D324,$AF$1),IF(AND(E324<>\"\",OR(C324<>\"\",WEEKDAY(A324,2)=7)),ColTime(T.!$J$7,T.!$L$7,D324,E324),\"\")))))),\"\")","v":""},"",null,null,{"$f":"IFERROR(CHOOSE(WEEKDAY(A324,2),norm!C$1,norm!C$2,norm!C$3,norm!C$4,norm!C$5,norm!C$6,norm!C$7),\"\")","v":"00:00:00"}]
["2019-11-18","Ma","",null,null,null,"","00:00:00","",{"$f":"IF(AND(C325=\"\",WEEKDAY(A325,2)<6),ColTime(T.!$J$4,T.!$L$4,D325,E325),\"\")","v":"00:00:00"},null,{"$f":"IFERROR(IF(AND(WEEKDAY(A325,2)<6,C326<>\"\",E325<D325,C325=\"\"),ColTime($AE$1,$AF$1,D325,E325),IF(AND(OR(WEEKDAY(A325,2)=7,C325<>\"\"),E325<D325,C326=\"\"),ColTime($AF$1,$AG$1,'Hele året'!$AF$1,E325),IF(AND(WEEKDAY(A325,2)<6,C326=\"\"),ColTime(T.!$J$5,T.!$L$5,D325,E325),\"\"))),\"\")","v":"00:00:00"},null,"",{"$f":"IFERROR(IF(AND(WEEKDAY(A325,2)<6,C326<>\"\",C325=\"\"),ColTime(T.!$J$7,T.!$L$7,$AF$1,'Hele året'!E325),IF(AND(C325<>\"\",C326<>\"\"),ColTime(T.!$J$7,T.!$L$7,'Hele året'!D325,'Hele året'!E325),IF(AND(OR(WEEKDAY(A325,2)<6,WEEKDAY(A325,2)=6),C325<>\"\",E325<D325),ColTime(T.!$J$7,T.!$L$7,D325,AF322),IF(AND(WEEKDAY(A325,2)=6,E325<D325),ColTime(T.!$J$7,T.!$L$7,$AF$1,E325),IF(AND(E325<D325,OR(C325<>\"\",WEEKDAY(A325,2)=7)),ColTime(T.!J328,T.!L328,D325,$AF$1),IF(AND(E325<>\"\",OR(C325<>\"\",WEEKDAY(A325,2)=7)),ColTime(T.!$J$7,T.!$L$7,D325,E325),\"\")))))),\"\")","v":""},"",null,null,{"$f":"IFERROR(CHOOSE(WEEKDAY(A325,2),norm!C$1,norm!C$2,norm!C$3,norm!C$4,norm!C$5,norm!C$6,norm!C$7),\"\")","v":"07:30:00"}]
["2019-11-19","Ti","",null,null,null,"","00:00:00","",{"$f":"IF(AND(C326=\"\",WEEKDAY(A326,2)<6),ColTime(T.!$J$4,T.!$L$4,D326,E326),\"\")","v":"00:00:00"},null,{"$f":"IFERROR(IF(AND(WEEKDAY(A326,2)<6,C327<>\"\",E326<D326,C326=\"\"),ColTime($AE$1,$AF$1,D326,E326),IF(AND(OR(WEEKDAY(A326,2)=7,C326<>\"\"),E326<D326,C327=\"\"),ColTime($AF$1,$AG$1,'Hele året'!$AF$1,E326),IF(AND(WEEKDAY(A326,2)<6,C327=\"\"),ColTime(T.!$J$5,T.!$L$5,D326,E326),\"\"))),\"\")","v":"00:00:00"},null,"",{"$f":"IFERROR(IF(AND(WEEKDAY(A326,2)<6,C327<>\"\",C326=\"\"),ColTime(T.!$J$7,T.!$L$7,$AF$1,'Hele året'!E326),IF(AND(C326<>\"\",C327<>\"\"),ColTime(T.!$J$7,T.!$L$7,'Hele året'!D326,'Hele året'!E326),IF(AND(OR(WEEKDAY(A326,2)<6,WEEKDAY(A326,2)=6),C326<>\"\",E326<D326),ColTime(T.!$J$7,T.!$L$7,D326,AF323),IF(AND(WEEKDAY(A326,2)=6,E326<D326),ColTime(T.!$J$7,T.!$L$7,$AF$1,E326),IF(AND(E326<D326,OR(C326<>\"\",WEEKDAY(A326,2)=7)),ColTime(T.!J329,T.!L329,D326,$AF$1),IF(AND(E326<>\"\",OR(C326<>\"\",WEEKDAY(A326,2)=7)),ColTime(T.!$J$7,T.!$L$7,D326,E326),\"\")))))),\"\")","v":""},"",null,null,{"$f":"IFERROR(CHOOSE(WEEKDAY(A326,2),norm!C$1,norm!C$2,norm!C$3,norm!C$4,norm!C$5,norm!C$6,norm!C$7),\"\")","v":"07:30:00"}]
["2019-11-20","On","",null,null,null,"","00:00:00","",{"$f":"IF(AND(C327=\"\",WEEKDAY(A327,2)<6),ColTime(T.!$J$4,T.!$L$4,D327,E327),\"\")","v":"00:00:00"},null,{"$f":"IFERROR(IF(AND(WEEKDAY(A327,2)<6,C328<>\"\",E327<D327,C327=\"\"),ColTime($AE$1,$AF$1,D327,E327),IF(AND(OR(WEEKDAY(A327,2)=7,C327<>\"\"),E327<D327,C328=\"\"),ColTime($AF$1,$AG$1,'Hele året'!$AF$1,E327),IF(AND(WEEKDAY(A327,2)<6,C328=\"\"),ColTime(T.!$J$5,T.!$L$5,D327,E327),\"\"))),\"\")","v":"00:00:00"},null,"",{"$f":"IFERROR(IF(AND(WEEKDAY(A327,2)<6,C328<>\"\",C327=\"\"),ColTime(T.!$J$7,T.!$L$7,$AF$1,'Hele året'!E327),IF(AND(C327<>\"\",C328<>\"\"),ColTime(T.!$J$7,T.!$L$7,'Hele året'!D327,'Hele året'!E327),IF(AND(OR(WEEKDAY(A327,2)<6,WEEKDAY(A327,2)=6),C327<>\"\",E327<D327),ColTime(T.!$J$7,T.!$L$7,D327,AF324),IF(AND(WEEKDAY(A327,2)=6,E327<D327),ColTime(T.!$J$7,T.!$L$7,$AF$1,E327),IF(AND(E327<D327,OR(C327<>\"\",WEEKDAY(A327,2)=7)),ColTime(T.!J330,T.!L330,D327,$AF$1),IF(AND(E327<>\"\",OR(C327<>\"\",WEEKDAY(A327,2)=7)),ColTime(T.!$J$7,T.!$L$7,D327,E327),\"\")))))),\"\")","v":""},"",null,null,{"$f":"IFERROR(CHOOSE(WEEKDAY(A327,2),norm!C$1,norm!C$2,norm!C$3,norm!C$4,norm!C$5,norm!C$6,norm!C$7),\"\")","v":"07:30:00"}]
["2019-11-21","To","",null,null,null,"","00:00:00","",{"$f":"IF(AND(C328=\"\",WEEKDAY(A328,2)<6),ColTime(T.!$J$4,T.!$L$4,D328,E328),\"\")","v":"00:00:00"},null,{"$f":"IFERROR(IF(AND(WEEKDAY(A328,2)<6,C329<>\"\",E328<D328,C328=\"\"),ColTime($AE$1,$AF$1,D328,E328),IF(AND(OR(WEEKDAY(A328,2)=7,C328<>\"\"),E328<D328,C329=\"\"),ColTime($AF$1,$AG$1,'Hele året'!$AF$1,E328),IF(AND(WEEKDAY(A328,2)<6,C329=\"\"),ColTime(T.!$J$5,T.!$L$5,D328,E328),\"\"))),\"\")","v":"00:00:00"},null,"",{"$f":"IFERROR(IF(AND(WEEKDAY(A328,2)<6,C329<>\"\",C328=\"\"),ColTime(T.!$J$7,T.!$L$7,$AF$1,'Hele året'!E328),IF(AND(C328<>\"\",C329<>\"\"),ColTime(T.!$J$7,T.!$L$7,'Hele året'!D328,'Hele året'!E328),IF(AND(OR(WEEKDAY(A328,2)<6,WEEKDAY(A328,2)=6),C328<>\"\",E328<D328),ColTime(T.!$J$7,T.!$L$7,D328,AF325),IF(AND(WEEKDAY(A328,2)=6,E328<D328),ColTime(T.!$J$7,T.!$L$7,$AF$1,E328),IF(AND(E328<D328,OR(C328<>\"\",WEEKDAY(A328,2)=7)),ColTime(T.!J331,T.!L331,D328,$AF$1),IF(AND(E328<>\"\",OR(C328<>\"\",WEEKDAY(A328,2)=7)),ColTime(T.!$J$7,T.!$L$7,D328,E328),\"\")))))),\"\")","v":""},"",null,null,{"$f":"IFERROR(CHOOSE(WEEKDAY(A328,2),norm!C$1,norm!C$2,norm!C$3,norm!C$4,norm!C$5,norm!C$6,norm!C$7),\"\")","v":"07:30:00"}]
["2019-11-22","Fr","",null,null,null,"","00:00:00","",{"$f":"IF(AND(C329=\"\",WEEKDAY(A329,2)<6),ColTime(T.!$J$4,T.!$L$4,D329,E329),\"\")","v":"00:00:00"},null,{"$f":"IFERROR(IF(AND(WEEKDAY(A329,2)<6,C330<>\"\",E329<D329,C329=\"\"),ColTime($AE$1,$AF$1,D329,E329),IF(AND(OR(WEEKDAY(A329,2)=7,C329<>\"\"),E329<D329,C330=\"\"),ColTime($AF$1,$AG$1,'Hele året'!$AF$1,E329),IF(AND(WEEKDAY(A329,2)<6,C330=\"\"),ColTime(T.!$J$5,T.!$L$5,D329,E329),\"\"))),\"\")","v":"00:00:00"},null,"",{"$f":"IFERROR(IF(AND(WEEKDAY(A329,2)<6,C330<>\"\",C329=\"\"),ColTime(T.!$J$7,T.!$L$7,$AF$1,'Hele året'!E329),IF(AND(C329<>\"\",C330<>\"\"),ColTime(T.!$J$7,T.!$L$7,'Hele året'!D329,'Hele året'!E329),IF(AND(OR(WEEKDAY(A329,2)<6,WEEKDAY(A329,2)=6),C329<>\"\",E329<D329),ColTime(T.!$J$7,T.!$L$7,D329,AF326),IF(AND(WEEKDAY(A329,2)=6,E329<D329),ColTime(T.!$J$7,T.!$L$7,$AF$1,E329),IF(AND(E329<D329,OR(C329<>\"\",WEEKDAY(A329,2)=7)),ColTime(T.!J332,T.!L332,D329,$AF$1),IF(AND(E329<>\"\",OR(C329<>\"\",WEEKDAY(A329,2)=7)),ColTime(T.!$J$7,T.!$L$7,D329,E329),\"\")))))),\"\")","v":""},"",null,null,{"$f":"IFERROR(CHOOSE(WEEKDAY(A329,2),norm!C$1,norm!C$2,norm!C$3,norm!C$4,norm!C$5,norm!C$6,norm!C$7),\"\")","v":"07:00:00"}]
["2019-11-23","Lø","",null,null,null,"","00:00:00","",{"$f":"IF(AND(C330=\"\",WEEKDAY(A330,2)<6),ColTime(T.!$J$4,T.!$L$4,D330,E330),\"\")","v":""},null,{"$f":"IFERROR(IF(AND(WEEKDAY(A330,2)<6,C331<>\"\",E330<D330,C330=\"\"),ColTime($AE$1,$AF$1,D330,E330),IF(AND(OR(WEEKDAY(A330,2)=7,C330<>\"\"),E330<D330,C331=\"\"),ColTime($AF$1,$AG$1,'Hele året'!$AF$1,E330),IF(AND(WEEKDAY(A330,2)<6,C331=\"\"),ColTime(T.!$J$5,T.!$L$5,D330,E330),\"\"))),\"\")","v":""},null,"00:00:00",{"$f":"IFERROR(IF(AND(WEEKDAY(A330,2)<6,C331<>\"\",C330=\"\"),ColTime(T.!$J$7,T.!$L$7,$AF$1,'Hele året'!E330),IF(AND(C330<>\"\",C331<>\"\"),ColTime(T.!$J$7,T.!$L$7,'Hele året'!D330,'Hele året'!E330),IF(AND(OR(WEEKDAY(A330,2)<6,WEEKDAY(A330,2)=6),C330<>\"\",E330<D330),ColTime(T.!$J$7,T.!$L$7,D330,AF327),IF(AND(WEEKDAY(A330,2)=6,E330<D330),ColTime(T.!$J$7,T.!$L$7,$AF$1,E330),IF(AND(E330<D330,OR(C330<>\"\",WEEKDAY(A330,2)=7)),ColTime(T.!J333,T.!L333,D330,$AF$1),IF(AND(E330<>\"\",OR(C330<>\"\",WEEKDAY(A330,2)=7)),ColTime(T.!$J$7,T.!$L$7,D330,E330),\"\")))))),\"\")","v":""},"",null,null,{"$f":"IFERROR(CHOOSE(WEEKDAY(A330,2),norm!C$1,norm!C$2,norm!C$3,norm!C$4,norm!C$5,norm!C$6,norm!C$7),\"\")","v":"00:00:00"}]
["2019-11-24","Sø","",null,null,null,"","00:00:00","",{"$f":"IF(AND(C331=\"\",WEEKDAY(A331,2)<6),ColTime(T.!$J$4,T.!$L$4,D331,E331),\"\")","v":""},null,{"$f":"IFERROR(IF(AND(WEEKDAY(A331,2)<6,C332<>\"\",E331<D331,C331=\"\"),ColTime($AE$1,$AF$1,D331,E331),IF(AND(OR(WEEKDAY(A331,2)=7,C331<>\"\"),E331<D331,C332=\"\"),ColTime($AF$1,$AG$1,'Hele året'!$AF$1,E331),IF(AND(WEEKDAY(A331,2)<6,C332=\"\"),ColTime(T.!$J$5,T.!$L$5,D331,E331),\"\"))),\"\")","v":""},null,"",{"$f":"IFERROR(IF(AND(WEEKDAY(A331,2)<6,C332<>\"\",C331=\"\"),ColTime(T.!$J$7,T.!$L$7,$AF$1,'Hele året'!E331),IF(AND(C331<>\"\",C332<>\"\"),ColTime(T.!$J$7,T.!$L$7,'Hele året'!D331,'Hele året'!E331),IF(AND(OR(WEEKDAY(A331,2)<6,WEEKDAY(A331,2)=6),C331<>\"\",E331<D331),ColTime(T.!$J$7,T.!$L$7,D331,AF328),IF(AND(WEEKDAY(A331,2)=6,E331<D331),ColTime(T.!$J$7,T.!$L$7,$AF$1,E331),IF(AND(E331<D331,OR(C331<>\"\",WEEKDAY(A331,2)=7)),ColTime(T.!J334,T.!L334,D331,$AF$1),IF(AND(E331<>\"\",OR(C331<>\"\",WEEKDAY(A331,2)=7)),ColTime(T.!$J$7,T.!$L$7,D331,E331),\"\")))))),\"\")","v":""},"",null,null,{"$f":"IFERROR(CHOOSE(WEEKDAY(A331,2),norm!C$1,norm!C$2,norm!C$3,norm!C$4,norm!C$5,norm!C$6,norm!C$7),\"\")","v":"00:00:00"}]
["2019-11-25","Ma","",null,null,null,"","00:00:00","",{"$f":"IF(AND(C332=\"\",WEEKDAY(A332,2)<6),ColTime(T.!$J$4,T.!$L$4,D332,E332),\"\")","v":"00:00:00"},null,{"$f":"IFERROR(IF(AND(WEEKDAY(A332,2)<6,C333<>\"\",E332<D332,C332=\"\"),ColTime($AE$1,$AF$1,D332,E332),IF(AND(OR(WEEKDAY(A332,2)=7,C332<>\"\"),E332<D332,C333=\"\"),ColTime($AF$1,$AG$1,'Hele året'!$AF$1,E332),IF(AND(WEEKDAY(A332,2)<6,C333=\"\"),ColTime(T.!$J$5,T.!$L$5,D332,E332),\"\"))),\"\")","v":"00:00:00"},null,"",{"$f":"IFERROR(IF(AND(WEEKDAY(A332,2)<6,C333<>\"\",C332=\"\"),ColTime(T.!$J$7,T.!$L$7,$AF$1,'Hele året'!E332),IF(AND(C332<>\"\",C333<>\"\"),ColTime(T.!$J$7,T.!$L$7,'Hele året'!D332,'Hele året'!E332),IF(AND(OR(WEEKDAY(A332,2)<6,WEEKDAY(A332,2)=6),C332<>\"\",E332<D332),ColTime(T.!$J$7,T.!$L$7,D332,AF329),IF(AND(WEEKDAY(A332,2)=6,E332<D332),ColTime(T.!$J$7,T.!$L$7,$AF$1,E332),IF(AND(E332<D332,OR(C332<>\"\",WEEKDAY(A332,2)=7)),ColTime(T.!J335,T.!L335,D332,$AF$1),IF(AND(E332<>\"\",OR(C332<>\"\",WEEKDAY(A332,2)=7)),ColTime(T.!$J$7,T.!$L$7,D332,E332),\"\")))))),\"\")","v":""},"",null,null,{"$f":"IFERROR(CHOOSE(WEEKDAY(A332,2),norm!C$1,norm!C$2,norm!C$3,norm!C$4,norm!C$5,norm!C$6,norm!C$7),\"\")","v":"07:30:00"}]
["2019-11-26","Ti","",null,null,null,"","00:00:00","",{"$f":"IF(AND(C333=\"\",WEEKDAY(A333,2)<6),ColTime(T.!$J$4,T.!$L$4,D333,E333),\"\")","v":"00:00:00"},null,{"$f":"IFERROR(IF(AND(WEEKDAY(A333,2)<6,C334<>\"\",E333<D333,C333=\"\"),ColTime($AE$1,$AF$1,D333,E333),IF(AND(OR(WEEKDAY(A333,2)=7,C333<>\"\"),E333<D333,C334=\"\"),ColTime($AF$1,$AG$1,'Hele året'!$AF$1,E333),IF(AND(WEEKDAY(A333,2)<6,C334=\"\"),ColTime(T.!$J$5,T.!$L$5,D333,E333),\"\"))),\"\")","v":"00:00:00"},null,"",{"$f":"IFERROR(IF(AND(WEEKDAY(A333,2)<6,C334<>\"\",C333=\"\"),ColTime(T.!$J$7,T.!$L$7,$AF$1,'Hele året'!E333),IF(AND(C333<>\"\",C334<>\"\"),ColTime(T.!$J$7,T.!$L$7,'Hele året'!D333,'Hele året'!E333),IF(AND(OR(WEEKDAY(A333,2)<6,WEEKDAY(A333,2)=6),C333<>\"\",E333<D333),ColTime(T.!$J$7,T.!$L$7,D333,AF330),IF(AND(WEEKDAY(A333,2)=6,E333<D333),ColTime(T.!$J$7,T.!$L$7,$AF$1,E333),IF(AND(E333<D333,OR(C333<>\"\",WEEKDAY(A333,2)=7)),ColTime(T.!J336,T.!L336,D333,$AF$1),IF(AND(E333<>\"\",OR(C333<>\"\",WEEKDAY(A333,2)=7)),ColTime(T.!$J$7,T.!$L$7,D333,E333),\"\")))))),\"\")","v":""},"",null,null,{"$f":"IFERROR(CHOOSE(WEEKDAY(A333,2),norm!C$1,norm!C$2,norm!C$3,norm!C$4,norm!C$5,norm!C$6,norm!C$7),\"\")","v":"07:30:00"}]
["2019-11-27","On","",null,null,null,"","00:00:00","",{"$f":"IF(AND(C334=\"\",WEEKDAY(A334,2)<6),ColTime(T.!$J$4,T.!$L$4,D334,E334),\"\")","v":"00:00:00"},null,{"$f":"IFERROR(IF(AND(WEEKDAY(A334,2)<6,C335<>\"\",E334<D334,C334=\"\"),ColTime($AE$1,$AF$1,D334,E334),IF(AND(OR(WEEKDAY(A334,2)=7,C334<>\"\"),E334<D334,C335=\"\"),ColTime($AF$1,$AG$1,'Hele året'!$AF$1,E334),IF(AND(WEEKDAY(A334,2)<6,C335=\"\"),ColTime(T.!$J$5,T.!$L$5,D334,E334),\"\"))),\"\")","v":"00:00:00"},null,"",{"$f":"IFERROR(IF(AND(WEEKDAY(A334,2)<6,C335<>\"\",C334=\"\"),ColTime(T.!$J$7,T.!$L$7,$AF$1,'Hele året'!E334),IF(AND(C334<>\"\",C335<>\"\"),ColTime(T.!$J$7,T.!$L$7,'Hele året'!D334,'Hele året'!E334),IF(AND(OR(WEEKDAY(A334,2)<6,WEEKDAY(A334,2)=6),C334<>\"\",E334<D334),ColTime(T.!$J$7,T.!$L$7,D334,AF331),IF(AND(WEEKDAY(A334,2)=6,E334<D334),ColTime(T.!$J$7,T.!$L$7,$AF$1,E334),IF(AND(E334<D334,OR(C334<>\"\",WEEKDAY(A334,2)=7)),ColTime(T.!J337,T.!L337,D334,$AF$1),IF(AND(E334<>\"\",OR(C334<>\"\",WEEKDAY(A334,2)=7)),ColTime(T.!$J$7,T.!$L$7,D334,E334),\"\")))))),\"\")","v":""},"",null,null,{"$f":"IFERROR(CHOOSE(WEEKDAY(A334,2),norm!C$1,norm!C$2,norm!C$3,norm!C$4,norm!C$5,norm!C$6,norm!C$7),\"\")","v":"07:30:00"}]
["2019-11-28","To","",null,null,null,"","00:00:00","",{"$f":"IF(AND(C335=\"\",WEEKDAY(A335,2)<6),ColTime(T.!$J$4,T.!$L$4,D335,E335),\"\")","v":"00:00:00"},null,{"$f":"IFERROR(IF(AND(WEEKDAY(A335,2)<6,C336<>\"\",E335<D335,C335=\"\"),ColTime($AE$1,$AF$1,D335,E335),IF(AND(OR(WEEKDAY(A335,2)=7,C335<>\"\"),E335<D335,C336=\"\"),ColTime($AF$1,$AG$1,'Hele året'!$AF$1,E335),IF(AND(WEEKDAY(A335,2)<6,C336=\"\"),ColTime(T.!$J$5,T.!$L$5,D335,E335),\"\"))),\"\")","v":"00:00:00"},null,"",{"$f":"IFERROR(IF(AND(WEEKDAY(A335,2)<6,C336<>\"\",C335=\"\"),ColTime(T.!$J$7,T.!$L$7,$AF$1,'Hele året'!E335),IF(AND(C335<>\"\",C336<>\"\"),ColTime(T.!$J$7,T.!$L$7,'Hele året'!D335,'Hele året'!E335),IF(AND(OR(WEEKDAY(A335,2)<6,WEEKDAY(A335,2)=6),C335<>\"\",E335<D335),ColTime(T.!$J$7,T.!$L$7,D335,AF332),IF(AND(WEEKDAY(A335,2)=6,E335<D335),ColTime(T.!$J$7,T.!$L$7,$AF$1,E335),IF(AND(E335<D335,OR(C335<>\"\",WEEKDAY(A335,2)=7)),ColTime(T.!J338,T.!L338,D335,$AF$1),IF(AND(E335<>\"\",OR(C335<>\"\",WEEKDAY(A335,2)=7)),ColTime(T.!$J$7,T.!$L$7,D335,E335),\"\")))))),\"\")","v":""},"",null,null,{"$f":"IFERROR(CHOOSE(WEEKDAY(A335,2),norm!C$1,norm!C$2,norm!C$3,norm!C$4,norm!C$5,norm!C$6,norm!C$7),\"\")","v":"07:30:00"}]
["2019-11-29","Fr","",null,null,null,"","00:00:00","",{"$f":"IF(AND(C336=\"\",WEEKDAY(A336,2)<6),ColTime(T.!$J$4,T.!$L$4,D336,E336),\"\")","v":"00:00:00"},null,{"$f":"IFERROR(IF(AND(WEEKDAY(A336,2)<6,C337<>\"\",E336<D336,C336=\"\"),ColTime($AE$1,$AF$1,D336,E336),IF(AND(OR(WEEKDAY(A336,2)=7,C336<>\"\"),E336<D336,C337=\"\"),ColTime($AF$1,$AG$1,'Hele året'!$AF$1,E336),IF(AND(WEEKDAY(A336,2)<6,C337=\"\"),ColTime(T.!$J$5,T.!$L$5,D336,E336),\"\"))),\"\")","v":"00:00:00"},null,"",{"$f":"IFERROR(IF(AND(WEEKDAY(A336,2)<6,C337<>\"\",C336=\"\"),ColTime(T.!$J$7,T.!$L$7,$AF$1,'Hele året'!E336),IF(AND(C336<>\"\",C337<>\"\"),ColTime(T.!$J$7,T.!$L$7,'Hele året'!D336,'Hele året'!E336),IF(AND(OR(WEEKDAY(A336,2)<6,WEEKDAY(A336,2)=6),C336<>\"\",E336<D336),ColTime(T.!$J$7,T.!$L$7,D336,AF333),IF(AND(WEEKDAY(A336,2)=6,E336<D336),ColTime(T.!$J$7,T.!$L$7,$AF$1,E336),IF(AND(E336<D336,OR(C336<>\"\",WEEKDAY(A336,2)=7)),ColTime(T.!J339,T.!L339,D336,$AF$1),IF(AND(E336<>\"\",OR(C336<>\"\",WEEKDAY(A336,2)=7)),ColTime(T.!$J$7,T.!$L$7,D336,E336),\"\")))))),\"\")","v":""},"",null,null,{"$f":"IFERROR(CHOOSE(WEEKDAY(A336,2),norm!C$1,norm!C$2,norm!C$3,norm!C$4,norm!C$5,norm!C$6,norm!C$7),\"\")","v":"07:00:00"}]
["2019-11-30","Lø","",null,null,null,"","00:00:00","",{"$f":"IF(AND(C337=\"\",WEEKDAY(A337,2)<6),ColTime(T.!$J$4,T.!$L$4,D337,E337),\"\")","v":""},null,{"$f":"IFERROR(IF(AND(WEEKDAY(A337,2)<6,C338<>\"\",E337<D337,C337=\"\"),ColTime($AE$1,$AF$1,D337,E337),IF(AND(OR(WEEKDAY(A337,2)=7,C337<>\"\"),E337<D337,C338=\"\"),ColTime($AF$1,$AG$1,'Hele året'!$AF$1,E337),IF(AND(WEEKDAY(A337,2)<6,C338=\"\"),ColTime(T.!$J$5,T.!$L$5,D337,E337),\"\"))),\"\")","v":""},null,"00:00:00",{"$f":"IFERROR(IF(AND(WEEKDAY(A337,2)<6,C338<>\"\",C337=\"\"),ColTime(T.!$J$7,T.!$L$7,$AF$1,'Hele året'!E337),IF(AND(C337<>\"\",C338<>\"\"),ColTime(T.!$J$7,T.!$L$7,'Hele året'!D337,'Hele året'!E337),IF(AND(OR(WEEKDAY(A337,2)<6,WEEKDAY(A337,2)=6),C337<>\"\",E337<D337),ColTime(T.!$J$7,T.!$L$7,D337,AF334),IF(AND(WEEKDAY(A337,2)=6,E337<D337),ColTime(T.!$J$7,T.!$L$7,$AF$1,E337),IF(AND(E337<D337,OR(C337<>\"\",WEEKDAY(A337,2)=7)),ColTime(T.!J340,T.!L340,D337,$AF$1),IF(AND(E337<>\"\",OR(C337<>\"\",WEEKDAY(A337,2)=7)),ColTime(T.!$J$7,T.!$L$7,D337,E337),\"\")))))),\"\")","v":""},"",null,null,{"$f":"IFERROR(CHOOSE(WEEKDAY(A337,2),norm!C$1,norm!C$2,norm!C$3,norm!C$4,norm!C$5,norm!C$6,norm!C$7),\"\")","v":"00:00:00"}]
["2019-12-01","Sø","",null,null,null,"","00:00:00","",{"$f":"IF(AND(C338=\"\",WEEKDAY(A338,2)<6),ColTime(T.!$J$4,T.!$L$4,D338,E338),\"\")","v":""},null,{"$f":"IFERROR(IF(AND(WEEKDAY(A338,2)<6,C339<>\"\",E338<D338,C338=\"\"),ColTime($AE$1,$AF$1,D338,E338),IF(AND(OR(WEEKDAY(A338,2)=7,C338<>\"\"),E338<D338,C339=\"\"),ColTime($AF$1,$AG$1,'Hele året'!$AF$1,E338),IF(AND(WEEKDAY(A338,2)<6,C339=\"\"),ColTime(T.!$J$5,T.!$L$5,D338,E338),\"\"))),\"\")","v":""},null,"",{"$f":"IFERROR(IF(AND(WEEKDAY(A338,2)<6,C339<>\"\",C338=\"\"),ColTime(T.!$J$7,T.!$L$7,$AF$1,'Hele året'!E338),IF(AND(C338<>\"\",C339<>\"\"),ColTime(T.!$J$7,T.!$L$7,'Hele året'!D338,'Hele året'!E338),IF(AND(OR(WEEKDAY(A338,2)<6,WEEKDAY(A338,2)=6),C338<>\"\",E338<D338),ColTime(T.!$J$7,T.!$L$7,D338,AF335),IF(AND(WEEKDAY(A338,2)=6,E338<D338),ColTime(T.!$J$7,T.!$L$7,$AF$1,E338),IF(AND(E338<D338,OR(C338<>\"\",WEEKDAY(A338,2)=7)),ColTime(T.!J341,T.!L341,D338,$AF$1),IF(AND(E338<>\"\",OR(C338<>\"\",WEEKDAY(A338,2)=7)),ColTime(T.!$J$7,T.!$L$7,D338,E338),\"\")))))),\"\")","v":""},"",null,null,{"$f":"IFERROR(CHOOSE(WEEKDAY(A338,2),norm!C$1,norm!C$2,norm!C$3,norm!C$4,norm!C$5,norm!C$6,norm!C$7),\"\")","v":"00:00:00"}]
["2019-12-02","Ma","",null,null,null,"","00:00:00","",{"$f":"IF(AND(C339=\"\",WEEKDAY(A339,2)<6),ColTime(T.!$J$4,T.!$L$4,D339,E339),\"\")","v":"00:00:00"},null,{"$f":"IFERROR(IF(AND(WEEKDAY(A339,2)<6,C340<>\"\",E339<D339,C339=\"\"),ColTime($AE$1,$AF$1,D339,E339),IF(AND(OR(WEEKDAY(A339,2)=7,C339<>\"\"),E339<D339,C340=\"\"),ColTime($AF$1,$AG$1,'Hele året'!$AF$1,E339),IF(AND(WEEKDAY(A339,2)<6,C340=\"\"),ColTime(T.!$J$5,T.!$L$5,D339,E339),\"\"))),\"\")","v":"00:00:00"},null,"",{"$f":"IFERROR(IF(AND(WEEKDAY(A339,2)<6,C340<>\"\",C339=\"\"),ColTime(T.!$J$7,T.!$L$7,$AF$1,'Hele året'!E339),IF(AND(C339<>\"\",C340<>\"\"),ColTime(T.!$J$7,T.!$L$7,'Hele året'!D339,'Hele året'!E339),IF(AND(OR(WEEKDAY(A339,2)<6,WEEKDAY(A339,2)=6),C339<>\"\",E339<D339),ColTime(T.!$J$7,T.!$L$7,D339,AF336),IF(AND(WEEKDAY(A339,2)=6,E339<D339),ColTime(T.!$J$7,T.!$L$7,$AF$1,E339),IF(AND(E339<D339,OR(C339<>\"\",WEEKDAY(A339,2)=7)),ColTime(T.!J342,T.!L342,D339,$AF$1),IF(AND(E339<>\"\",OR(C339<>\"\",WEEKDAY(A339,2)=7)),ColTime(T.!$J$7,T.!$L$7,D339,E339),\"\")))))),\"\")","v":""},"",null,null,{"$f":"IFERROR(CHOOSE(WEEKDAY(A339,2),norm!C$1,norm!C$2,norm!C$3,norm!C$4,norm!C$5,norm!C$6,norm!C$7),\"\")","v":"07:30:00"}]
["2019-12-03","Ti","",null,null,null,"","00:00:00","",{"$f":"IF(AND(C340=\"\",WEEKDAY(A340,2)<6),ColTime(T.!$J$4,T.!$L$4,D340,E340),\"\")","v":"00:00:00"},null,{"$f":"IFERROR(IF(AND(WEEKDAY(A340,2)<6,C341<>\"\",E340<D340,C340=\"\"),ColTime($AE$1,$AF$1,D340,E340),IF(AND(OR(WEEKDAY(A340,2)=7,C340<>\"\"),E340<D340,C341=\"\"),ColTime($AF$1,$AG$1,'Hele året'!$AF$1,E340),IF(AND(WEEKDAY(A340,2)<6,C341=\"\"),ColTime(T.!$J$5,T.!$L$5,D340,E340),\"\"))),\"\")","v":"00:00:00"},null,"",{"$f":"IFERROR(IF(AND(WEEKDAY(A340,2)<6,C341<>\"\",C340=\"\"),ColTime(T.!$J$7,T.!$L$7,$AF$1,'Hele året'!E340),IF(AND(C340<>\"\",C341<>\"\"),ColTime(T.!$J$7,T.!$L$7,'Hele året'!D340,'Hele året'!E340),IF(AND(OR(WEEKDAY(A340,2)<6,WEEKDAY(A340,2)=6),C340<>\"\",E340<D340),ColTime(T.!$J$7,T.!$L$7,D340,AF337),IF(AND(WEEKDAY(A340,2)=6,E340<D340),ColTime(T.!$J$7,T.!$L$7,$AF$1,E340),IF(AND(E340<D340,OR(C340<>\"\",WEEKDAY(A340,2)=7)),ColTime(T.!J343,T.!L343,D340,$AF$1),IF(AND(E340<>\"\",OR(C340<>\"\",WEEKDAY(A340,2)=7)),ColTime(T.!$J$7,T.!$L$7,D340,E340),\"\")))))),\"\")","v":""},"",null,null,{"$f":"IFERROR(CHOOSE(WEEKDAY(A340,2),norm!C$1,norm!C$2,norm!C$3,norm!C$4,norm!C$5,norm!C$6,norm!C$7),\"\")","v":"07:30:00"}]
["2019-12-04","On","",null,null,null,"","00:00:00","",{"$f":"IF(AND(C341=\"\",WEEKDAY(A341,2)<6),ColTime(T.!$J$4,T.!$L$4,D341,E341),\"\")","v":"00:00:00"},null,{"$f":"IFERROR(IF(AND(WEEKDAY(A341,2)<6,C342<>\"\",E341<D341,C341=\"\"),ColTime($AE$1,$AF$1,D341,E341),IF(AND(OR(WEEKDAY(A341,2)=7,C341<>\"\"),E341<D341,C342=\"\"),ColTime($AF$1,$AG$1,'Hele året'!$AF$1,E341),IF(AND(WEEKDAY(A341,2)<6,C342=\"\"),ColTime(T.!$J$5,T.!$L$5,D341,E341),\"\"))),\"\")","v":"00:00:00"},null,"",{"$f":"IFERROR(IF(AND(WEEKDAY(A341,2)<6,C342<>\"\",C341=\"\"),ColTime(T.!$J$7,T.!$L$7,$AF$1,'Hele året'!E341),IF(AND(C341<>\"\",C342<>\"\"),ColTime(T.!$J$7,T.!$L$7,'Hele året'!D341,'Hele året'!E341),IF(AND(OR(WEEKDAY(A341,2)<6,WEEKDAY(A341,2)=6),C341<>\"\",E341<D341),ColTime(T.!$J$7,T.!$L$7,D341,AF338),IF(AND(WEEKDAY(A341,2)=6,E341<D341),ColTime(T.!$J$7,T.!$L$7,$AF$1,E341),IF(AND(E341<D341,OR(C341<>\"\",WEEKDAY(A341,2)=7)),ColTime(T.!J344,T.!L344,D341,$AF$1),IF(AND(E341<>\"\",OR(C341<>\"\",WEEKDAY(A341,2)=7)),ColTime(T.!$J$7,T.!$L$7,D341,E341),\"\")))))),\"\")","v":""},"",null,null,{"$f":"IFERROR(CHOOSE(WEEKDAY(A341,2),norm!C$1,norm!C$2,norm!C$3,norm!C$4,norm!C$5,norm!C$6,norm!C$7),\"\")","v":"07:30:00"}]
["2019-12-05","To","",null,null,null,"","00:00:00","",{"$f":"IF(AND(C342=\"\",WEEKDAY(A342,2)<6),ColTime(T.!$J$4,T.!$L$4,D342,E342),\"\")","v":"00:00:00"},null,{"$f":"IFERROR(IF(AND(WEEKDAY(A342,2)<6,C343<>\"\",E342<D342,C342=\"\"),ColTime($AE$1,$AF$1,D342,E342),IF(AND(OR(WEEKDAY(A342,2)=7,C342<>\"\"),E342<D342,C343=\"\"),ColTime($AF$1,$AG$1,'Hele året'!$AF$1,E342),IF(AND(WEEKDAY(A342,2)<6,C343=\"\"),ColTime(T.!$J$5,T.!$L$5,D342,E342),\"\"))),\"\")","v":"00:00:00"},null,"",{"$f":"IFERROR(IF(AND(WEEKDAY(A342,2)<6,C343<>\"\",C342=\"\"),ColTime(T.!$J$7,T.!$L$7,$AF$1,'Hele året'!E342),IF(AND(C342<>\"\",C343<>\"\"),ColTime(T.!$J$7,T.!$L$7,'Hele året'!D342,'Hele året'!E342),IF(AND(OR(WEEKDAY(A342,2)<6,WEEKDAY(A342,2)=6),C342<>\"\",E342<D342),ColTime(T.!$J$7,T.!$L$7,D342,AF339),IF(AND(WEEKDAY(A342,2)=6,E342<D342),ColTime(T.!$J$7,T.!$L$7,$AF$1,E342),IF(AND(E342<D342,OR(C342<>\"\",WEEKDAY(A342,2)=7)),ColTime(T.!J345,T.!L345,D342,$AF$1),IF(AND(E342<>\"\",OR(C342<>\"\",WEEKDAY(A342,2)=7)),ColTime(T.!$J$7,T.!$L$7,D342,E342),\"\")))))),\"\")","v":""},"",null,null,{"$f":"IFERROR(CHOOSE(WEEKDAY(A342,2),norm!C$1,norm!C$2,norm!C$3,norm!C$4,norm!C$5,norm!C$6,norm!C$7),\"\")","v":"07:30:00"}]
["2019-12-06","Fr","",null,null,null,"","00:00:00","",{"$f":"IF(AND(C343=\"\",WEEKDAY(A343,2)<6),ColTime(T.!$J$4,T.!$L$4,D343,E343),\"\")","v":"00:00:00"},null,{"$f":"IFERROR(IF(AND(WEEKDAY(A343,2)<6,C344<>\"\",E343<D343,C343=\"\"),ColTime($AE$1,$AF$1,D343,E343),IF(AND(OR(WEEKDAY(A343,2)=7,C343<>\"\"),E343<D343,C344=\"\"),ColTime($AF$1,$AG$1,'Hele året'!$AF$1,E343),IF(AND(WEEKDAY(A343,2)<6,C344=\"\"),ColTime(T.!$J$5,T.!$L$5,D343,E343),\"\"))),\"\")","v":"00:00:00"},null,"",{"$f":"IFERROR(IF(AND(WEEKDAY(A343,2)<6,C344<>\"\",C343=\"\"),ColTime(T.!$J$7,T.!$L$7,$AF$1,'Hele året'!E343),IF(AND(C343<>\"\",C344<>\"\"),ColTime(T.!$J$7,T.!$L$7,'Hele året'!D343,'Hele året'!E343),IF(AND(OR(WEEKDAY(A343,2)<6,WEEKDAY(A343,2)=6),C343<>\"\",E343<D343),ColTime(T.!$J$7,T.!$L$7,D343,AF340),IF(AND(WEEKDAY(A343,2)=6,E343<D343),ColTime(T.!$J$7,T.!$L$7,$AF$1,E343),IF(AND(E343<D343,OR(C343<>\"\",WEEKDAY(A343,2)=7)),ColTime(T.!J346,T.!L346,D343,$AF$1),IF(AND(E343<>\"\",OR(C343<>\"\",WEEKDAY(A343,2)=7)),ColTime(T.!$J$7,T.!$L$7,D343,E343),\"\")))))),\"\")","v":""},"",null,null,{"$f":"IFERROR(CHOOSE(WEEKDAY(A343,2),norm!C$1,norm!C$2,norm!C$3,norm!C$4,norm!C$5,norm!C$6,norm!C$7),\"\")","v":"07:00:00"}]
["2019-12-07","Lø","",null,null,null,"","00:00:00","",{"$f":"IF(AND(C344=\"\",WEEKDAY(A344,2)<6),ColTime(T.!$J$4,T.!$L$4,D344,E344),\"\")","v":""},null,{"$f":"IFERROR(IF(AND(WEEKDAY(A344,2)<6,C345<>\"\",E344<D344,C344=\"\"),ColTime($AE$1,$AF$1,D344,E344),IF(AND(OR(WEEKDAY(A344,2)=7,C344<>\"\"),E344<D344,C345=\"\"),ColTime($AF$1,$AG$1,'Hele året'!$AF$1,E344),IF(AND(WEEKDAY(A344,2)<6,C345=\"\"),ColTime(T.!$J$5,T.!$L$5,D344,E344),\"\"))),\"\")","v":""},null,"00:00:00",{"$f":"IFERROR(IF(AND(WEEKDAY(A344,2)<6,C345<>\"\",C344=\"\"),ColTime(T.!$J$7,T.!$L$7,$AF$1,'Hele året'!E344),IF(AND(C344<>\"\",C345<>\"\"),ColTime(T.!$J$7,T.!$L$7,'Hele året'!D344,'Hele året'!E344),IF(AND(OR(WEEKDAY(A344,2)<6,WEEKDAY(A344,2)=6),C344<>\"\",E344<D344),ColTime(T.!$J$7,T.!$L$7,D344,AF341),IF(AND(WEEKDAY(A344,2)=6,E344<D344),ColTime(T.!$J$7,T.!$L$7,$AF$1,E344),IF(AND(E344<D344,OR(C344<>\"\",WEEKDAY(A344,2)=7)),ColTime(T.!J347,T.!L347,D344,$AF$1),IF(AND(E344<>\"\",OR(C344<>\"\",WEEKDAY(A344,2)=7)),ColTime(T.!$J$7,T.!$L$7,D344,E344),\"\")))))),\"\")","v":""},"",null,null,{"$f":"IFERROR(CHOOSE(WEEKDAY(A344,2),norm!C$1,norm!C$2,norm!C$3,norm!C$4,norm!C$5,norm!C$6,norm!C$7),\"\")","v":"00:00:00"}]
["2019-12-08","Sø","",null,null,null,"","00:00:00","",{"$f":"IF(AND(C345=\"\",WEEKDAY(A345,2)<6),ColTime(T.!$J$4,T.!$L$4,D345,E345),\"\")","v":""},null,{"$f":"IFERROR(IF(AND(WEEKDAY(A345,2)<6,C346<>\"\",E345<D345,C345=\"\"),ColTime($AE$1,$AF$1,D345,E345),IF(AND(OR(WEEKDAY(A345,2)=7,C345<>\"\"),E345<D345,C346=\"\"),ColTime($AF$1,$AG$1,'Hele året'!$AF$1,E345),IF(AND(WEEKDAY(A345,2)<6,C346=\"\"),ColTime(T.!$J$5,T.!$L$5,D345,E345),\"\"))),\"\")","v":""},null,"",{"$f":"IFERROR(IF(AND(WEEKDAY(A345,2)<6,C346<>\"\",C345=\"\"),ColTime(T.!$J$7,T.!$L$7,$AF$1,'Hele året'!E345),IF(AND(C345<>\"\",C346<>\"\"),ColTime(T.!$J$7,T.!$L$7,'Hele året'!D345,'Hele året'!E345),IF(AND(OR(WEEKDAY(A345,2)<6,WEEKDAY(A345,2)=6),C345<>\"\",E345<D345),ColTime(T.!$J$7,T.!$L$7,D345,AF342),IF(AND(WEEKDAY(A345,2)=6,E345<D345),ColTime(T.!$J$7,T.!$L$7,$AF$1,E345),IF(AND(E345<D345,OR(C345<>\"\",WEEKDAY(A345,2)=7)),ColTime(T.!J348,T.!L348,D345,$AF$1),IF(AND(E345<>\"\",OR(C345<>\"\",WEEKDAY(A345,2)=7)),ColTime(T.!$J$7,T.!$L$7,D345,E345),\"\")))))),\"\")","v":""},"",null,null,{"$f":"IFERROR(CHOOSE(WEEKDAY(A345,2),norm!C$1,norm!C$2,norm!C$3,norm!C$4,norm!C$5,norm!C$6,norm!C$7),\"\")","v":"00:00:00"}]
["2019-12-09","Ma","",null,null,null,"","00:00:00","",{"$f":"IF(AND(C346=\"\",WEEKDAY(A346,2)<6),ColTime(T.!$J$4,T.!$L$4,D346,E346),\"\")","v":"00:00:00"},null,{"$f":"IFERROR(IF(AND(WEEKDAY(A346,2)<6,C347<>\"\",E346<D346,C346=\"\"),ColTime($AE$1,$AF$1,D346,E346),IF(AND(OR(WEEKDAY(A346,2)=7,C346<>\"\"),E346<D346,C347=\"\"),ColTime($AF$1,$AG$1,'Hele året'!$AF$1,E346),IF(AND(WEEKDAY(A346,2)<6,C347=\"\"),ColTime(T.!$J$5,T.!$L$5,D346,E346),\"\"))),\"\")","v":"00:00:00"},null,"",{"$f":"IFERROR(IF(AND(WEEKDAY(A346,2)<6,C347<>\"\",C346=\"\"),ColTime(T.!$J$7,T.!$L$7,$AF$1,'Hele året'!E346),IF(AND(C346<>\"\",C347<>\"\"),ColTime(T.!$J$7,T.!$L$7,'Hele året'!D346,'Hele året'!E346),IF(AND(OR(WEEKDAY(A346,2)<6,WEEKDAY(A346,2)=6),C346<>\"\",E346<D346),ColTime(T.!$J$7,T.!$L$7,D346,AF343),IF(AND(WEEKDAY(A346,2)=6,E346<D346),ColTime(T.!$J$7,T.!$L$7,$AF$1,E346),IF(AND(E346<D346,OR(C346<>\"\",WEEKDAY(A346,2)=7)),ColTime(T.!J349,T.!L349,D346,$AF$1),IF(AND(E346<>\"\",OR(C346<>\"\",WEEKDAY(A346,2)=7)),ColTime(T.!$J$7,T.!$L$7,D346,E346),\"\")))))),\"\")","v":""},"",null,null,{"$f":"IFERROR(CHOOSE(WEEKDAY(A346,2),norm!C$1,norm!C$2,norm!C$3,norm!C$4,norm!C$5,norm!C$6,norm!C$7),\"\")","v":"07:30:00"}]
[{"$f":"A346+1","v":"2019-12-10"},"Ti","",null,null,null,"","00:00:00","",{"$f":"IF(AND(C347=\"\",WEEKDAY(A347,2)<6),ColTime(T.!$J$4,T.!$L$4,D347,E347),\"\")","v":"00:00:00"},null,{"$f":"IFERROR(IF(AND(WEEKDAY(A347,2)<6,C348<>\"\",E347<D347,C347=\"\"),ColTime($AE$1,$AF$1,D347,E347),IF(AND(OR(WEEKDAY(A347,2)=7,C347<>\"\"),E347<D347,C348=\"\"),ColTime($AF$1,$AG$1,'Hele året'!$AF$1,E347),IF(AND(WEEKDAY(A347,2)<6,C348=\"\"),ColTime(T.!$J$5,T.!$L$5,D347,E347),\"\"))),\"\")","v":"00:00:00"},null,"",{"$f":"IFERROR(IF(AND(WEEKDAY(A347,2)<6,C348<>\"\",C347=\"\"),ColTime(T.!$J$7,T.!$L$7,$AF$1,'Hele året'!E347),IF(AND(C347<>\"\",C348<>\"\"),ColTime(T.!$J$7,T.!$L$7,'Hele året'!D347,'Hele året'!E347),IF(AND(OR(WEEKDAY(A347,2)<6,WEEKDAY(A347,2)=6),C347<>\"\",E347<D347),ColTime(T.!$J$7,T.!$L$7,D347,AF344),IF(AND(WEEKDAY(A347,2)=6,E347<D347),ColTime(T.!$J$7,T.!$L$7,$AF$1,E347),IF(AND(E347<D347,OR(C347<>\"\",WEEKDAY(A347,2)=7)),ColTime(T.!J350,T.!L350,D347,$AF$1),IF(AND(E347<>\"\",OR(C347<>\"\",WEEKDAY(A347,2)=7)),ColTime(T.!$J$7,T.!$L$7,D347,E347),\"\")))))),\"\")","v":""},"",null,null,{"$f":"IFERROR(CHOOSE(WEEKDAY(A347,2),norm!C$1,norm!C$2,norm!C$3,norm!C$4,norm!C$5,norm!C$6,norm!C$7),\"\")","v":"07:30:00"}]
["2019-12-11","On","",null,null,null,"","00:00:00","",{"$f":"IF(AND(C348=\"\",WEEKDAY(A348,2)<6),ColTime(T.!$J$4,T.!$L$4,D348,E348),\"\")","v":"00:00:00"},null,{"$f":"IFERROR(IF(AND(WEEKDAY(A348,2)<6,C349<>\"\",E348<D348,C348=\"\"),ColTime($AE$1,$AF$1,D348,E348),IF(AND(OR(WEEKDAY(A348,2)=7,C348<>\"\"),E348<D348,C349=\"\"),ColTime($AF$1,$AG$1,'Hele året'!$AF$1,E348),IF(AND(WEEKDAY(A348,2)<6,C349=\"\"),ColTime(T.!$J$5,T.!$L$5,D348,E348),\"\"))),\"\")","v":"00:00:00"},null,"",{"$f":"IFERROR(IF(AND(WEEKDAY(A348,2)<6,C349<>\"\",C348=\"\"),ColTime(T.!$J$7,T.!$L$7,$AF$1,'Hele året'!E348),IF(AND(C348<>\"\",C349<>\"\"),ColTime(T.!$J$7,T.!$L$7,'Hele året'!D348,'Hele året'!E348),IF(AND(OR(WEEKDAY(A348,2)<6,WEEKDAY(A348,2)=6),C348<>\"\",E348<D348),ColTime(T.!$J$7,T.!$L$7,D348,AF345),IF(AND(WEEKDAY(A348,2)=6,E348<D348),ColTime(T.!$J$7,T.!$L$7,$AF$1,E348),IF(AND(E348<D348,OR(C348<>\"\",WEEKDAY(A348,2)=7)),ColTime(T.!J351,T.!L351,D348,$AF$1),IF(AND(E348<>\"\",OR(C348<>\"\",WEEKDAY(A348,2)=7)),ColTime(T.!$J$7,T.!$L$7,D348,E348),\"\")))))),\"\")","v":""},"",null,null,{"$f":"IFERROR(CHOOSE(WEEKDAY(A348,2),norm!C$1,norm!C$2,norm!C$3,norm!C$4,norm!C$5,norm!C$6,norm!C$7),\"\")","v":"07:30:00"}]
["2019-12-12","To","",null,null,null,"","00:00:00","",{"$f":"IF(AND(C349=\"\",WEEKDAY(A349,2)<6),ColTime(T.!$J$4,T.!$L$4,D349,E349),\"\")","v":"00:00:00"},null,{"$f":"IFERROR(IF(AND(WEEKDAY(A349,2)<6,C350<>\"\",E349<D349,C349=\"\"),ColTime($AE$1,$AF$1,D349,E349),IF(AND(OR(WEEKDAY(A349,2)=7,C349<>\"\"),E349<D349,C350=\"\"),ColTime($AF$1,$AG$1,'Hele året'!$AF$1,E349),IF(AND(WEEKDAY(A349,2)<6,C350=\"\"),ColTime(T.!$J$5,T.!$L$5,D349,E349),\"\"))),\"\")","v":"00:00:00"},null,"",{"$f":"IFERROR(IF(AND(WEEKDAY(A349,2)<6,C350<>\"\",C349=\"\"),ColTime(T.!$J$7,T.!$L$7,$AF$1,'Hele året'!E349),IF(AND(C349<>\"\",C350<>\"\"),ColTime(T.!$J$7,T.!$L$7,'Hele året'!D349,'Hele året'!E349),IF(AND(OR(WEEKDAY(A349,2)<6,WEEKDAY(A349,2)=6),C349<>\"\",E349<D349),ColTime(T.!$J$7,T.!$L$7,D349,AF346),IF(AND(WEEKDAY(A349,2)=6,E349<D349),ColTime(T.!$J$7,T.!$L$7,$AF$1,E349),IF(AND(E349<D349,OR(C349<>\"\",WEEKDAY(A349,2)=7)),ColTime(T.!J352,T.!L352,D349,$AF$1),IF(AND(E349<>\"\",OR(C349<>\"\",WEEKDAY(A349,2)=7)),ColTime(T.!$J$7,T.!$L$7,D349,E349),\"\")))))),\"\")","v":""},"",null,null,{"$f":"IFERROR(CHOOSE(WEEKDAY(A349,2),norm!C$1,norm!C$2,norm!C$3,norm!C$4,norm!C$5,norm!C$6,norm!C$7),\"\")","v":"07:30:00"}]
["2019-12-13","Fr","",null,null,null,"","00:00:00","",{"$f":"IF(AND(C350=\"\",WEEKDAY(A350,2)<6),ColTime(T.!$J$4,T.!$L$4,D350,E350),\"\")","v":"00:00:00"},null,{"$f":"IFERROR(IF(AND(WEEKDAY(A350,2)<6,C351<>\"\",E350<D350,C350=\"\"),ColTime($AE$1,$AF$1,D350,E350),IF(AND(OR(WEEKDAY(A350,2)=7,C350<>\"\"),E350<D350,C351=\"\"),ColTime($AF$1,$AG$1,'Hele året'!$AF$1,E350),IF(AND(WEEKDAY(A350,2)<6,C351=\"\"),ColTime(T.!$J$5,T.!$L$5,D350,E350),\"\"))),\"\")","v":"00:00:00"},null,"",{"$f":"IFERROR(IF(AND(WEEKDAY(A350,2)<6,C351<>\"\",C350=\"\"),ColTime(T.!$J$7,T.!$L$7,$AF$1,'Hele året'!E350),IF(AND(C350<>\"\",C351<>\"\"),ColTime(T.!$J$7,T.!$L$7,'Hele året'!D350,'Hele året'!E350),IF(AND(OR(WEEKDAY(A350,2)<6,WEEKDAY(A350,2)=6),C350<>\"\",E350<D350),ColTime(T.!$J$7,T.!$L$7,D350,AF347),IF(AND(WEEKDAY(A350,2)=6,E350<D350),ColTime(T.!$J$7,T.!$L$7,$AF$1,E350),IF(AND(E350<D350,OR(C350<>\"\",WEEKDAY(A350,2)=7)),ColTime(T.!J353,T.!L353,D350,$AF$1),IF(AND(E350<>\"\",OR(C350<>\"\",WEEKDAY(A350,2)=7)),ColTime(T.!$J$7,T.!$L$7,D350,E350),\"\")))))),\"\")","v":""},"",null,null,{"$f":"IFERROR(CHOOSE(WEEKDAY(A350,2),norm!C$1,norm!C$2,norm!C$3,norm!C$4,norm!C$5,norm!C$6,norm!C$7),\"\")","v":"07:00:00"}]
["2019-12-14","Lø","",null,null,null,"","00:00:00","",{"$f":"IF(AND(C351=\"\",WEEKDAY(A351,2)<6),ColTime(T.!$J$4,T.!$L$4,D351,E351),\"\")","v":""},null,{"$f":"IFERROR(IF(AND(WEEKDAY(A351,2)<6,C352<>\"\",E351<D351,C351=\"\"),ColTime($AE$1,$AF$1,D351,E351),IF(AND(OR(WEEKDAY(A351,2)=7,C351<>\"\"),E351<D351,C352=\"\"),ColTime($AF$1,$AG$1,'Hele året'!$AF$1,E351),IF(AND(WEEKDAY(A351,2)<6,C352=\"\"),ColTime(T.!$J$5,T.!$L$5,D351,E351),\"\"))),\"\")","v":""},null,"00:00:00",{"$f":"IFERROR(IF(AND(WEEKDAY(A351,2)<6,C352<>\"\",C351=\"\"),ColTime(T.!$J$7,T.!$L$7,$AF$1,'Hele året'!E351),IF(AND(C351<>\"\",C352<>\"\"),ColTime(T.!$J$7,T.!$L$7,'Hele året'!D351,'Hele året'!E351),IF(AND(OR(WEEKDAY(A351,2)<6,WEEKDAY(A351,2)=6),C351<>\"\",E351<D351),ColTime(T.!$J$7,T.!$L$7,D351,AF348),IF(AND(WEEKDAY(A351,2)=6,E351<D351),ColTime(T.!$J$7,T.!$L$7,$AF$1,E351),IF(AND(E351<D351,OR(C351<>\"\",WEEKDAY(A351,2)=7)),ColTime(T.!J354,T.!L354,D351,$AF$1),IF(AND(E351<>\"\",OR(C351<>\"\",WEEKDAY(A351,2)=7)),ColTime(T.!$J$7,T.!$L$7,D351,E351),\"\")))))),\"\")","v":""},"",null,null,{"$f":"IFERROR(CHOOSE(WEEKDAY(A351,2),norm!C$1,norm!C$2,norm!C$3,norm!C$4,norm!C$5,norm!C$6,norm!C$7),\"\")","v":"00:00:00"}]
["2019-12-15","Sø","",null,null,null,"","00:00:00","",{"$f":"IF(AND(C352=\"\",WEEKDAY(A352,2)<6),ColTime(T.!$J$4,T.!$L$4,D352,E352),\"\")","v":""},null,{"$f":"IFERROR(IF(AND(WEEKDAY(A352,2)<6,C353<>\"\",E352<D352,C352=\"\"),ColTime($AE$1,$AF$1,D352,E352),IF(AND(OR(WEEKDAY(A352,2)=7,C352<>\"\"),E352<D352,C353=\"\"),ColTime($AF$1,$AG$1,'Hele året'!$AF$1,E352),IF(AND(WEEKDAY(A352,2)<6,C353=\"\"),ColTime(T.!$J$5,T.!$L$5,D352,E352),\"\"))),\"\")","v":""},null,"",{"$f":"IFERROR(IF(AND(WEEKDAY(A352,2)<6,C353<>\"\",C352=\"\"),ColTime(T.!$J$7,T.!$L$7,$AF$1,'Hele året'!E352),IF(AND(C352<>\"\",C353<>\"\"),ColTime(T.!$J$7,T.!$L$7,'Hele året'!D352,'Hele året'!E352),IF(AND(OR(WEEKDAY(A352,2)<6,WEEKDAY(A352,2)=6),C352<>\"\",E352<D352),ColTime(T.!$J$7,T.!$L$7,D352,AF349),IF(AND(WEEKDAY(A352,2)=6,E352<D352),ColTime(T.!$J$7,T.!$L$7,$AF$1,E352),IF(AND(E352<D352,OR(C352<>\"\",WEEKDAY(A352,2)=7)),ColTime(T.!J355,T.!L355,D352,$AF$1),IF(AND(E352<>\"\",OR(C352<>\"\",WEEKDAY(A352,2)=7)),ColTime(T.!$J$7,T.!$L$7,D352,E352),\"\")))))),\"\")","v":""},"",null,null,{"$f":"IFERROR(CHOOSE(WEEKDAY(A352,2),norm!C$1,norm!C$2,norm!C$3,norm!C$4,norm!C$5,norm!C$6,norm!C$7),\"\")","v":"00:00:00"}]
["2019-12-16","Ma","",null,null,null,"","00:00:00","",{"$f":"IF(AND(C353=\"\",WEEKDAY(A353,2)<6),ColTime(T.!$J$4,T.!$L$4,D353,E353),\"\")","v":"00:00:00"},null,{"$f":"IFERROR(IF(AND(WEEKDAY(A353,2)<6,C354<>\"\",E353<D353,C353=\"\"),ColTime($AE$1,$AF$1,D353,E353),IF(AND(OR(WEEKDAY(A353,2)=7,C353<>\"\"),E353<D353,C354=\"\"),ColTime($AF$1,$AG$1,'Hele året'!$AF$1,E353),IF(AND(WEEKDAY(A353,2)<6,C354=\"\"),ColTime(T.!$J$5,T.!$L$5,D353,E353),\"\"))),\"\")","v":"00:00:00"},null,"",{"$f":"IFERROR(IF(AND(WEEKDAY(A353,2)<6,C354<>\"\",C353=\"\"),ColTime(T.!$J$7,T.!$L$7,$AF$1,'Hele året'!E353),IF(AND(C353<>\"\",C354<>\"\"),ColTime(T.!$J$7,T.!$L$7,'Hele året'!D353,'Hele året'!E353),IF(AND(OR(WEEKDAY(A353,2)<6,WEEKDAY(A353,2)=6),C353<>\"\",E353<D353),ColTime(T.!$J$7,T.!$L$7,D353,AF350),IF(AND(WEEKDAY(A353,2)=6,E353<D353),ColTime(T.!$J$7,T.!$L$7,$AF$1,E353),IF(AND(E353<D353,OR(C353<>\"\",WEEKDAY(A353,2)=7)),ColTime(T.!J356,T.!L356,D353,$AF$1),IF(AND(E353<>\"\",OR(C353<>\"\",WEEKDAY(A353,2)=7)),ColTime(T.!$J$7,T.!$L$7,D353,E353),\"\")))))),\"\")","v":""},"",null,null,{"$f":"IFERROR(CHOOSE(WEEKDAY(A353,2),norm!C$1,norm!C$2,norm!C$3,norm!C$4,norm!C$5,norm!C$6,norm!C$7),\"\")","v":"07:30:00"}]
["2019-12-17","Ti","",null,null,null,"","00:00:00","",{"$f":"IF(AND(C354=\"\",WEEKDAY(A354,2)<6),ColTime(T.!$J$4,T.!$L$4,D354,E354),\"\")","v":"00:00:00"},null,{"$f":"IFERROR(IF(AND(WEEKDAY(A354,2)<6,C355<>\"\",E354<D354,C354=\"\"),ColTime($AE$1,$AF$1,D354,E354),IF(AND(OR(WEEKDAY(A354,2)=7,C354<>\"\"),E354<D354,C355=\"\"),ColTime($AF$1,$AG$1,'Hele året'!$AF$1,E354),IF(AND(WEEKDAY(A354,2)<6,C355=\"\"),ColTime(T.!$J$5,T.!$L$5,D354,E354),\"\"))),\"\")","v":"00:00:00"},null,"",{"$f":"IFERROR(IF(AND(WEEKDAY(A354,2)<6,C355<>\"\",C354=\"\"),ColTime(T.!$J$7,T.!$L$7,$AF$1,'Hele året'!E354),IF(AND(C354<>\"\",C355<>\"\"),ColTime(T.!$J$7,T.!$L$7,'Hele året'!D354,'Hele året'!E354),IF(AND(OR(WEEKDAY(A354,2)<6,WEEKDAY(A354,2)=6),C354<>\"\",E354<D354),ColTime(T.!$J$7,T.!$L$7,D354,AF351),IF(AND(WEEKDAY(A354,2)=6,E354<D354),ColTime(T.!$J$7,T.!$L$7,$AF$1,E354),IF(AND(E354<D354,OR(C354<>\"\",WEEKDAY(A354,2)=7)),ColTime(T.!J357,T.!L357,D354,$AF$1),IF(AND(E354<>\"\",OR(C354<>\"\",WEEKDAY(A354,2)=7)),ColTime(T.!$J$7,T.!$L$7,D354,E354),\"\")))))),\"\")","v":""},"",null,null,{"$f":"IFERROR(CHOOSE(WEEKDAY(A354,2),norm!C$1,norm!C$2,norm!C$3,norm!C$4,norm!C$5,norm!C$6,norm!C$7),\"\")","v":"07:30:00"}]
["2019-12-18",{"$f":"IFERROR(PROPER(TEXT(A355,\"ddd\")),\"\")","v":"On"},"",null,null,null,"","00:00:00","",{"$f":"IF(AND(C355=\"\",WEEKDAY(A355,2)<6),ColTime(T.!$J$4,T.!$L$4,D355,E355),\"\")","v":"00:00:00"},null,{"$f":"IFERROR(IF(AND(WEEKDAY(A355,2)<6,C356<>\"\",E355<D355,C355=\"\"),ColTime($AE$1,$AF$1,D355,E355),IF(AND(OR(WEEKDAY(A355,2)=7,C355<>\"\"),E355<D355,C356=\"\"),ColTime($AF$1,$AG$1,'Hele året'!$AF$1,E355),IF(AND(WEEKDAY(A355,2)<6,C356=\"\"),ColTime(T.!$J$5,T.!$L$5,D355,E355),\"\"))),\"\")","v":"00:00:00"},null,"",{"$f":"IFERROR(IF(AND(WEEKDAY(A355,2)<6,C356<>\"\",C355=\"\"),ColTime(T.!$J$7,T.!$L$7,$AF$1,'Hele året'!E355),IF(AND(C355<>\"\",C356<>\"\"),ColTime(T.!$J$7,T.!$L$7,'Hele året'!D355,'Hele året'!E355),IF(AND(OR(WEEKDAY(A355,2)<6,WEEKDAY(A355,2)=6),C355<>\"\",E355<D355),ColTime(T.!$J$7,T.!$L$7,D355,AF352),IF(AND(WEEKDAY(A355,2)=6,E355<D355),ColTime(T.!$J$7,T.!$L$7,$AF$1,E355),IF(AND(E355<D355,OR(C355<>\"\",WEEKDAY(A355,2)=7)),ColTime(T.!J358,T.!L358,D355,$AF$1),IF(AND(E355<>\"\",OR(C355<>\"\",WEEKDAY(A355,2)=7)),ColTime(T.!$J$7,T.!$L$7,D355,E355),\"\")))))),\"\")","v":""},"",null,null,{"$f":"IFERROR(CHOOSE(WEEKDAY(A355,2),norm!C$1,norm!C$2,norm!C$3,norm!C$4,norm!C$5,norm!C$6,norm!C$7),\"\")","v":"07:30:00"}]
["2019-12-19","To","",null,null,null,"","00:00:00","",{"$f":"IF(AND(C356=\"\",WEEKDAY(A356,2)<6),ColTime(T.!$J$4,T.!$L$4,D356,E356),\"\")","v":"00:00:00"},null,{"$f":"IFERROR(IF(AND(WEEKDAY(A356,2)<6,C357<>\"\",E356<D356,C356=\"\"),ColTime($AE$1,$AF$1,D356,E356),IF(AND(OR(WEEKDAY(A356,2)=7,C356<>\"\"),E356<D356,C357=\"\"),ColTime($AF$1,$AG$1,'Hele året'!$AF$1,E356),IF(AND(WEEKDAY(A356,2)<6,C357=\"\"),ColTime(T.!$J$5,T.!$L$5,D356,E356),\"\"))),\"\")","v":"00:00:00"},null,"",{"$f":"IFERROR(IF(AND(WEEKDAY(A356,2)<6,C357<>\"\",C356=\"\"),ColTime(T.!$J$7,T.!$L$7,$AF$1,'Hele året'!E356),IF(AND(C356<>\"\",C357<>\"\"),ColTime(T.!$J$7,T.!$L$7,'Hele året'!D356,'Hele året'!E356),IF(AND(OR(WEEKDAY(A356,2)<6,WEEKDAY(A356,2)=6),C356<>\"\",E356<D356),ColTime(T.!$J$7,T.!$L$7,D356,AF353),IF(AND(WEEKDAY(A356,2)=6,E356<D356),ColTime(T.!$J$7,T.!$L$7,$AF$1,E356),IF(AND(E356<D356,OR(C356<>\"\",WEEKDAY(A356,2)=7)),ColTime(T.!J359,T.!L359,D356,$AF$1),IF(AND(E356<>\"\",OR(C356<>\"\",WEEKDAY(A356,2)=7)),ColTime(T.!$J$7,T.!$L$7,D356,E356),\"\")))))),\"\")","v":""},"",null,null,{"$f":"IFERROR(CHOOSE(WEEKDAY(A356,2),norm!C$1,norm!C$2,norm!C$3,norm!C$4,norm!C$5,norm!C$6,norm!C$7),\"\")","v":"07:30:00"}]
["2019-12-20","Fr","",null,null,null,"","00:00:00","",{"$f":"IF(AND(C357=\"\",WEEKDAY(A357,2)<6),ColTime(T.!$J$4,T.!$L$4,D357,E357),\"\")","v":"00:00:00"},null,{"$f":"IFERROR(IF(AND(WEEKDAY(A357,2)<6,C358<>\"\",E357<D357,C357=\"\"),ColTime($AE$1,$AF$1,D357,E357),IF(AND(OR(WEEKDAY(A357,2)=7,C357<>\"\"),E357<D357,C358=\"\"),ColTime($AF$1,$AG$1,'Hele året'!$AF$1,E357),IF(AND(WEEKDAY(A357,2)<6,C358=\"\"),ColTime(T.!$J$5,T.!$L$5,D357,E357),\"\"))),\"\")","v":"00:00:00"},null,"",{"$f":"IFERROR(IF(AND(WEEKDAY(A357,2)<6,C358<>\"\",C357=\"\"),ColTime(T.!$J$7,T.!$L$7,$AF$1,'Hele året'!E357),IF(AND(C357<>\"\",C358<>\"\"),ColTime(T.!$J$7,T.!$L$7,'Hele året'!D357,'Hele året'!E357),IF(AND(OR(WEEKDAY(A357,2)<6,WEEKDAY(A357,2)=6),C357<>\"\",E357<D357),ColTime(T.!$J$7,T.!$L$7,D357,AF354),IF(AND(WEEKDAY(A357,2)=6,E357<D357),ColTime(T.!$J$7,T.!$L$7,$AF$1,E357),IF(AND(E357<D357,OR(C357<>\"\",WEEKDAY(A357,2)=7)),ColTime(T.!J360,T.!L360,D357,$AF$1),IF(AND(E357<>\"\",OR(C357<>\"\",WEEKDAY(A357,2)=7)),ColTime(T.!$J$7,T.!$L$7,D357,E357),\"\")))))),\"\")","v":""},"",null,null,{"$f":"IFERROR(CHOOSE(WEEKDAY(A357,2),norm!C$1,norm!C$2,norm!C$3,norm!C$4,norm!C$5,norm!C$6,norm!C$7),\"\")","v":"07:00:00"}]
["2019-12-21","Lø","",null,null,null,"","00:00:00","",{"$f":"IF(AND(C358=\"\",WEEKDAY(A358,2)<6),ColTime(T.!$J$4,T.!$L$4,D358,E358),\"\")","v":""},null,{"$f":"IFERROR(IF(AND(WEEKDAY(A358,2)<6,C359<>\"\",E358<D358,C358=\"\"),ColTime($AE$1,$AF$1,D358,E358),IF(AND(OR(WEEKDAY(A358,2)=7,C358<>\"\"),E358<D358,C359=\"\"),ColTime($AF$1,$AG$1,'Hele året'!$AF$1,E358),IF(AND(WEEKDAY(A358,2)<6,C359=\"\"),ColTime(T.!$J$5,T.!$L$5,D358,E358),\"\"))),\"\")","v":""},null,"00:00:00",{"$f":"IFERROR(IF(AND(WEEKDAY(A358,2)<6,C359<>\"\",C358=\"\"),ColTime(T.!$J$7,T.!$L$7,$AF$1,'Hele året'!E358),IF(AND(C358<>\"\",C359<>\"\"),ColTime(T.!$J$7,T.!$L$7,'Hele året'!D358,'Hele året'!E358),IF(AND(OR(WEEKDAY(A358,2)<6,WEEKDAY(A358,2)=6),C358<>\"\",E358<D358),ColTime(T.!$J$7,T.!$L$7,D358,AF355),IF(AND(WEEKDAY(A358,2)=6,E358<D358),ColTime(T.!$J$7,T.!$L$7,$AF$1,E358),IF(AND(E358<D358,OR(C358<>\"\",WEEKDAY(A358,2)=7)),ColTime(T.!J361,T.!L361,D358,$AF$1),IF(AND(E358<>\"\",OR(C358<>\"\",WEEKDAY(A358,2)=7)),ColTime(T.!$J$7,T.!$L$7,D358,E358),\"\")))))),\"\")","v":""},"",null,null,{"$f":"IFERROR(CHOOSE(WEEKDAY(A358,2),norm!C$1,norm!C$2,norm!C$3,norm!C$4,norm!C$5,norm!C$6,norm!C$7),\"\")","v":"00:00:00"}]
["2019-12-22","Sø","",null,null,null,"","00:00:00","",{"$f":"IF(AND(C359=\"\",WEEKDAY(A359,2)<6),ColTime(T.!$J$4,T.!$L$4,D359,E359),\"\")","v":""},null,{"$f":"IFERROR(IF(AND(WEEKDAY(A359,2)<6,C360<>\"\",E359<D359,C359=\"\"),ColTime($AE$1,$AF$1,D359,E359),IF(AND(OR(WEEKDAY(A359,2)=7,C359<>\"\"),E359<D359,C360=\"\"),ColTime($AF$1,$AG$1,'Hele året'!$AF$1,E359),IF(AND(WEEKDAY(A359,2)<6,C360=\"\"),ColTime(T.!$J$5,T.!$L$5,D359,E359),\"\"))),\"\")","v":""},null,"",{"$f":"IFERROR(IF(AND(WEEKDAY(A359,2)<6,C360<>\"\",C359=\"\"),ColTime(T.!$J$7,T.!$L$7,$AF$1,'Hele året'!E359),IF(AND(C359<>\"\",C360<>\"\"),ColTime(T.!$J$7,T.!$L$7,'Hele året'!D359,'Hele året'!E359),IF(AND(OR(WEEKDAY(A359,2)<6,WEEKDAY(A359,2)=6),C359<>\"\",E359<D359),ColTime(T.!$J$7,T.!$L$7,D359,AF356),IF(AND(WEEKDAY(A359,2)=6,E359<D359),ColTime(T.!$J$7,T.!$L$7,$AF$1,E359),IF(AND(E359<D359,OR(C359<>\"\",WEEKDAY(A359,2)=7)),ColTime(T.!J362,T.!L362,D359,$AF$1),IF(AND(E359<>\"\",OR(C359<>\"\",WEEKDAY(A359,2)=7)),ColTime(T.!$J$7,T.!$L$7,D359,E359),\"\")))))),\"\")","v":""},"",null,null,{"$f":"IFERROR(CHOOSE(WEEKDAY(A359,2),norm!C$1,norm!C$2,norm!C$3,norm!C$4,norm!C$5,norm!C$6,norm!C$7),\"\")","v":"00:00:00"}]
["2019-12-23","Ma","","22:00:00","07:00:00",null,0.375,"01:30:00","",{"$f":"IF(AND(C360=\"\",WEEKDAY(A360,2)<6),ColTime(T.!$J$4,T.!$L$4,D360,E360),\"\")","v":"01:00:00"},null,{"$f":"IFERROR(IF(AND(WEEKDAY(A360,2)<6,C361<>\"\",E360<D360,C360=\"\"),ColTime($AE$1,$AF$1,D360,E360),IF(AND(OR(WEEKDAY(A360,2)=7,C360<>\"\"),E360<D360,C361=\"\"),ColTime($AF$1,$AG$1,'Hele året'!$AF$1,E360),IF(AND(WEEKDAY(A360,2)<6,C361=\"\"),ColTime(T.!$J$5,T.!$L$5,D360,E360),\"\"))),\"\")","v":"01:00:00"},null,"",{"$f":"IFERROR(IF(AND(WEEKDAY(A360,2)<6,C361<>\"\",C360=\"\"),ColTime(T.!$J$7,T.!$L$7,$AF$1,'Hele året'!E360),IF(AND(C360<>\"\",C361<>\"\"),ColTime(T.!$J$7,T.!$L$7,'Hele året'!D360,'Hele året'!E360),IF(AND(OR(WEEKDAY(A360,2)<6,WEEKDAY(A360,2)=6),C360<>\"\",E360<D360),ColTime(T.!$J$7,T.!$L$7,D360,AF357),IF(AND(WEEKDAY(A360,2)=6,E360<D360),ColTime(T.!$J$7,T.!$L$7,$AF$1,E360),IF(AND(E360<D360,OR(C360<>\"\",WEEKDAY(A360,2)=7)),ColTime(T.!J363,T.!L363,D360,$AF$1),IF(AND(E360<>\"\",OR(C360<>\"\",WEEKDAY(A360,2)=7)),ColTime(T.!$J$7,T.!$L$7,D360,E360),\"\")))))),\"\")","v":"07:00:00"},"",null,null,{"$f":"IFERROR(CHOOSE(WEEKDAY(A360,2),norm!C$1,norm!C$2,norm!C$3,norm!C$4,norm!C$5,norm!C$6,norm!C$7),\"\")","v":"07:30:00"}]
["2019-12-24","Ti","Julaftensdag","22:00:00","07:00:00",null,0.375,"01:30:00","",{"$f":"IF(AND(C361=\"\",WEEKDAY(A361,2)<6),ColTime(T.!$J$4,T.!$L$4,D361,E361),\"\")","v":""},null,{"$f":"IFERROR(IF(AND(WEEKDAY(A361,2)<6,C362<>\"\",E361<D361,C361=\"\"),ColTime($AE$1,$AF$1,D361,E361),IF(AND(OR(WEEKDAY(A361,2)=7,C361<>\"\"),E361<D361,C362=\"\"),ColTime($AF$1,$AG$1,'Hele året'!$AF$1,E361),IF(AND(WEEKDAY(A361,2)<6,C362=\"\"),ColTime(T.!$J$5,T.!$L$5,D361,E361),\"\"))),\"\")","v":""},null,"",{"$f":"IFERROR(IF(AND(WEEKDAY(A361,2)<6,C362<>\"\",C361=\"\"),ColTime(T.!$J$7,T.!$L$7,$AF$1,'Hele året'!E361),IF(AND(C361<>\"\",C362<>\"\"),ColTime(T.!$J$7,T.!$L$7,'Hele året'!D361,'Hele året'!E361),IF(AND(OR(WEEKDAY(A361,2)<6,WEEKDAY(A361,2)=6),C361<>\"\",E361<D361),ColTime(T.!$J$7,T.!$L$7,D361,AF358),IF(AND(WEEKDAY(A361,2)=6,E361<D361),ColTime(T.!$J$7,T.!$L$7,$AF$1,E361),IF(AND(E361<D361,OR(C361<>\"\",WEEKDAY(A361,2)=7)),ColTime(T.!J364,T.!L364,D361,$AF$1),IF(AND(E361<>\"\",OR(C361<>\"\",WEEKDAY(A361,2)=7)),ColTime(T.!$J$7,T.!$L$7,D361,E361),\"\")))))),\"\")","v":"09:00:00"},"",null,null,{"$f":"IFERROR(CHOOSE(WEEKDAY(A361,2),norm!C$1,norm!C$2,norm!C$3,norm!C$4,norm!C$5,norm!C$6,norm!C$7),\"\")","v":"07:30:00"}]
["2019-12-25","On","1. Juledag","22:00:00","07:00:00",null,0.375,"01:30:00","",{"$f":"IF(AND(C362=\"\",WEEKDAY(A362,2)<6),ColTime(T.!$J$4,T.!$L$4,D362,E362),\"\")","v":""},null,{"$f":"IFERROR(IF(AND(WEEKDAY(A362,2)<6,C363<>\"\",E362<D362,C362=\"\"),ColTime($AE$1,$AF$1,D362,E362),IF(AND(OR(WEEKDAY(A362,2)=7,C362<>\"\"),E362<D362,C363=\"\"),ColTime($AF$1,$AG$1,'Hele året'!$AF$1,E362),IF(AND(WEEKDAY(A362,2)<6,C363=\"\"),ColTime(T.!$J$5,T.!$L$5,D362,E362),\"\"))),\"\")","v":""},null,"",{"$f":"IFERROR(IF(AND(WEEKDAY(A362,2)<6,C363<>\"\",C362=\"\"),ColTime(T.!$J$7,T.!$L$7,$AF$1,'Hele året'!E362),IF(AND(C362<>\"\",C363<>\"\"),ColTime(T.!$J$7,T.!$L$7,'Hele året'!D362,'Hele året'!E362),IF(AND(OR(WEEKDAY(A362,2)<6,WEEKDAY(A362,2)=6),C362<>\"\",E362<D362),ColTime(T.!$J$7,T.!$L$7,D362,AF359),IF(AND(WEEKDAY(A362,2)=6,E362<D362),ColTime(T.!$J$7,T.!$L$7,$AF$1,E362),IF(AND(E362<D362,OR(C362<>\"\",WEEKDAY(A362,2)=7)),ColTime(T.!J365,T.!L365,D362,$AF$1),IF(AND(E362<>\"\",OR(C362<>\"\",WEEKDAY(A362,2)=7)),ColTime(T.!$J$7,T.!$L$7,D362,E362),\"\")))))),\"\")","v":"09:00:00"},"",null,null,{"$f":"IFERROR(CHOOSE(WEEKDAY(A362,2),norm!C$1,norm!C$2,norm!C$3,norm!C$4,norm!C$5,norm!C$6,norm!C$7),\"\")","v":"07:30:00"}]
["2019-12-26","To","2. Juledag","22:00:00","07:00:00",null,0.375,"01:30:00","",{"$f":"IF(AND(C363=\"\",WEEKDAY(A363,2)<6),ColTime(T.!$J$4,T.!$L$4,D363,E363),\"\")","v":""},null,{"$f":"IFERROR(IF(AND(WEEKDAY(A363,2)<6,C364<>\"\",E363<D363,C363=\"\"),ColTime($AE$1,$AF$1,D363,E363),IF(AND(OR(WEEKDAY(A363,2)=7,C363<>\"\"),E363<D363,C364=\"\"),ColTime($AF$1,$AG$1,'Hele året'!$AF$1,E363),IF(AND(WEEKDAY(A363,2)<6,C364=\"\"),ColTime(T.!$J$5,T.!$L$5,D363,E363),\"\"))),\"\")","v":"06:00:00"},null,"",{"$f":"IFERROR(IF(AND(WEEKDAY(A363,2)<6,C364<>\"\",C363=\"\"),ColTime(T.!$J$7,T.!$L$7,$AF$1,'Hele året'!E363),IF(AND(C363<>\"\",C364<>\"\"),ColTime(T.!$J$7,T.!$L$7,'Hele året'!D363,'Hele året'!E363),IF(AND(OR(WEEKDAY(A363,2)<6,WEEKDAY(A363,2)=6),C363<>\"\",E363<D363),ColTime(T.!$J$7,T.!$L$7,D363,AF360),IF(AND(WEEKDAY(A363,2)=6,E363<D363),ColTime(T.!$J$7,T.!$L$7,$AF$1,E363),IF(AND(E363<D363,OR(C363<>\"\",WEEKDAY(A363,2)=7)),ColTime(T.!J366,T.!L366,D363,$AF$1),IF(AND(E363<>\"\",OR(C363<>\"\",WEEKDAY(A363,2)=7)),ColTime(T.!$J$7,T.!$L$7,D363,E363),\"\")))))),\"\")","v":"02:00:00"},"",null,null,{"$f":"IFERROR(CHOOSE(WEEKDAY(A363,2),norm!C$1,norm!C$2,norm!C$3,norm!C$4,norm!C$5,norm!C$6,norm!C$7),\"\")","v":"07:30:00"}]
["2019-12-27","Fr","",null,null,null,"","00:00:00","",{"$f":"IF(AND(C364=\"\",WEEKDAY(A364,2)<6),ColTime(T.!$J$4,T.!$L$4,D364,E364),\"\")","v":"00:00:00"},null,{"$f":"IFERROR(IF(AND(WEEKDAY(A364,2)<6,C365<>\"\",E364<D364,C364=\"\"),ColTime($AE$1,$AF$1,D364,E364),IF(AND(OR(WEEKDAY(A364,2)=7,C364<>\"\"),E364<D364,C365=\"\"),ColTime($AF$1,$AG$1,'Hele året'!$AF$1,E364),IF(AND(WEEKDAY(A364,2)<6,C365=\"\"),ColTime(T.!$J$5,T.!$L$5,D364,E364),\"\"))),\"\")","v":"00:00:00"},null,"",{"$f":"IFERROR(IF(AND(WEEKDAY(A364,2)<6,C365<>\"\",C364=\"\"),ColTime(T.!$J$7,T.!$L$7,$AF$1,'Hele året'!E364),IF(AND(C364<>\"\",C365<>\"\"),ColTime(T.!$J$7,T.!$L$7,'Hele året'!D364,'Hele året'!E364),IF(AND(OR(WEEKDAY(A364,2)<6,WEEKDAY(A364,2)=6),C364<>\"\",E364<D364),ColTime(T.!$J$7,T.!$L$7,D364,AF361),IF(AND(WEEKDAY(A364,2)=6,E364<D364),ColTime(T.!$J$7,T.!$L$7,$AF$1,E364),IF(AND(E364<D364,OR(C364<>\"\",WEEKDAY(A364,2)=7)),ColTime(T.!J367,T.!L367,D364,$AF$1),IF(AND(E364<>\"\",OR(C364<>\"\",WEEKDAY(A364,2)=7)),ColTime(T.!$J$7,T.!$L$7,D364,E364),\"\")))))),\"\")","v":""},"",null,null,{"$f":"IFERROR(CHOOSE(WEEKDAY(A364,2),norm!C$1,norm!C$2,norm!C$3,norm!C$4,norm!C$5,norm!C$6,norm!C$7),\"\")","v":"07:00:00"}]
["2019-12-28","Lø","",null,null,null,"","00:00:00","",{"$f":"IF(AND(C365=\"\",WEEKDAY(A365,2)<6),ColTime(T.!$J$4,T.!$L$4,D365,E365),\"\")","v":""},null,{"$f":"IFERROR(IF(AND(WEEKDAY(A365,2)<6,C366<>\"\",E365<D365,C365=\"\"),ColTime($AE$1,$AF$1,D365,E365),IF(AND(OR(WEEKDAY(A365,2)=7,C365<>\"\"),E365<D365,C366=\"\"),ColTime($AF$1,$AG$1,'Hele året'!$AF$1,E365),IF(AND(WEEKDAY(A365,2)<6,C366=\"\"),ColTime(T.!$J$5,T.!$L$5,D365,E365),\"\"))),\"\")","v":""},null,"00:00:00",{"$f":"IFERROR(IF(AND(WEEKDAY(A365,2)<6,C366<>\"\",C365=\"\"),ColTime(T.!$J$7,T.!$L$7,$AF$1,'Hele året'!E365),IF(AND(C365<>\"\",C366<>\"\"),ColTime(T.!$J$7,T.!$L$7,'Hele året'!D365,'Hele året'!E365),IF(AND(OR(WEEKDAY(A365,2)<6,WEEKDAY(A365,2)=6),C365<>\"\",E365<D365),ColTime(T.!$J$7,T.!$L$7,D365,AF362),IF(AND(WEEKDAY(A365,2)=6,E365<D365),ColTime(T.!$J$7,T.!$L$7,$AF$1,E365),IF(AND(E365<D365,OR(C365<>\"\",WEEKDAY(A365,2)=7)),ColTime(T.!J368,T.!L368,D365,$AF$1),IF(AND(E365<>\"\",OR(C365<>\"\",WEEKDAY(A365,2)=7)),ColTime(T.!$J$7,T.!$L$7,D365,E365),\"\")))))),\"\")","v":""},"",null,null,{"$f":"IFERROR(CHOOSE(WEEKDAY(A365,2),norm!C$1,norm!C$2,norm!C$3,norm!C$4,norm!C$5,norm!C$6,norm!C$7),\"\")","v":"00:00:00"}]
["2019-12-29","Sø","",null,null,null,"","00:00:00","",{"$f":"IF(AND(C366=\"\",WEEKDAY(A366,2)<6),ColTime(T.!$J$4,T.!$L$4,D366,E366),\"\")","v":""},null,{"$f":"IFERROR(IF(AND(WEEKDAY(A366,2)<6,C367<>\"\",E366<D366,C366=\"\"),ColTime($AE$1,$AF$1,D366,E366),IF(AND(OR(WEEKDAY(A366,2)=7,C366<>\"\"),E366<D366,C367=\"\"),ColTime($AF$1,$AG$1,'Hele året'!$AF$1,E366),IF(AND(WEEKDAY(A366,2)<6,C367=\"\"),ColTime(T.!$J$5,T.!$L$5,D366,E366),\"\"))),\"\")","v":""},null,"",{"$f":"IFERROR(IF(AND(WEEKDAY(A366,2)<6,C367<>\"\",C366=\"\"),ColTime(T.!$J$7,T.!$L$7,$AF$1,'Hele året'!E366),IF(AND(C366<>\"\",C367<>\"\"),ColTime(T.!$J$7,T.!$L$7,'Hele året'!D366,'Hele året'!E366),IF(AND(OR(WEEKDAY(A366,2)<6,WEEKDAY(A366,2)=6),C366<>\"\",E366<D366),ColTime(T.!$J$7,T.!$L$7,D366,AF363),IF(AND(WEEKDAY(A366,2)=6,E366<D366),ColTime(T.!$J$7,T.!$L$7,$AF$1,E366),IF(AND(E366<D366,OR(C366<>\"\",WEEKDAY(A366,2)=7)),ColTime(T.!J369,T.!L369,D366,$AF$1),IF(AND(E366<>\"\",OR(C366<>\"\",WEEKDAY(A366,2)=7)),ColTime(T.!$J$7,T.!$L$7,D366,E366),\"\")))))),\"\")","v":""},"",null,null,{"$f":"IFERROR(CHOOSE(WEEKDAY(A366,2),norm!C$1,norm!C$2,norm!C$3,norm!C$4,norm!C$5,norm!C$6,norm!C$7),\"\")","v":"00:00:00"}]
["2019-12-30","Ma","",null,null,null,"","00:00:00","",{"$f":"IF(AND(C367=\"\",WEEKDAY(A367,2)<6),ColTime(T.!$J$4,T.!$L$4,D367,E367),\"\")","v":"00:00:00"},null,{"$f":"IFERROR(IF(AND(WEEKDAY(A367,2)<6,C368<>\"\",E367<D367,C367=\"\"),ColTime($AE$1,$AF$1,D367,E367),IF(AND(OR(WEEKDAY(A367,2)=7,C367<>\"\"),E367<D367,C368=\"\"),ColTime($AF$1,$AG$1,'Hele året'!$AF$1,E367),IF(AND(WEEKDAY(A367,2)<6,C368=\"\"),ColTime(T.!$J$5,T.!$L$5,D367,E367),\"\"))),\"\")","v":"00:00:00"},null,"",{"$f":"IFERROR(IF(AND(WEEKDAY(A367,2)<6,C368<>\"\",C367=\"\"),ColTime(T.!$J$7,T.!$L$7,$AF$1,'Hele året'!E367),IF(AND(C367<>\"\",C368<>\"\"),ColTime(T.!$J$7,T.!$L$7,'Hele året'!D367,'Hele året'!E367),IF(AND(OR(WEEKDAY(A367,2)<6,WEEKDAY(A367,2)=6),C367<>\"\",E367<D367),ColTime(T.!$J$7,T.!$L$7,D367,AF364),IF(AND(WEEKDAY(A367,2)=6,E367<D367),ColTime(T.!$J$7,T.!$L$7,$AF$1,E367),IF(AND(E367<D367,OR(C367<>\"\",WEEKDAY(A367,2)=7)),ColTime(T.!J370,T.!L370,D367,$AF$1),IF(AND(E367<>\"\",OR(C367<>\"\",WEEKDAY(A367,2)=7)),ColTime(T.!$J$7,T.!$L$7,D367,E367),\"\")))))),\"\")","v":""},"",null,null,{"$f":"IFERROR(CHOOSE(WEEKDAY(A367,2),norm!C$1,norm!C$2,norm!C$3,norm!C$4,norm!C$5,norm!C$6,norm!C$7),\"\")","v":"07:30:00"}]
["2019-12-31","Ti","",null,null,null,"","00:00:00","",{"$f":"IF(AND(C368=\"\",WEEKDAY(A368,2)<6),ColTime(T.!$J$4,T.!$L$4,D368,E368),\"\")","v":"00:00:00"},null,{"$f":"IFERROR(IF(AND(WEEKDAY(A368,2)<6,C369<>\"\",E368<D368,C368=\"\"),ColTime($AE$1,$AF$1,D368,E368),IF(AND(OR(WEEKDAY(A368,2)=7,C368<>\"\"),E368<D368,C369=\"\"),ColTime($AF$1,$AG$1,'Hele året'!$AF$1,E368),IF(AND(WEEKDAY(A368,2)<6,C369=\"\"),ColTime(T.!$J$5,T.!$L$5,D368,E368),\"\"))),\"\")","v":"00:00:00"},null,"",{"$f":"IFERROR(IF(AND(WEEKDAY(A368,2)<6,C369<>\"\",C368=\"\"),ColTime(T.!$J$7,T.!$L$7,$AF$1,'Hele året'!E368),IF(AND(C368<>\"\",C369<>\"\"),ColTime(T.!$J$7,T.!$L$7,'Hele året'!D368,'Hele året'!E368),IF(AND(OR(WEEKDAY(A368,2)<6,WEEKDAY(A368,2)=6),C368<>\"\",E368<D368),ColTime(T.!$J$7,T.!$L$7,D368,AF365),IF(AND(WEEKDAY(A368,2)=6,E368<D368),ColTime(T.!$J$7,T.!$L$7,$AF$1,E368),IF(AND(E368<D368,OR(C368<>\"\",WEEKDAY(A368,2)=7)),ColTime(T.!J371,T.!L371,D368,$AF$1),IF(AND(E368<>\"\",OR(C368<>\"\",WEEKDAY(A368,2)=7)),ColTime(T.!$J$7,T.!$L$7,D368,E368),\"\")))))),\"\")","v":""},"",null,null,{"$f":"IFERROR(CHOOSE(WEEKDAY(A368,2),norm!C$1,norm!C$2,norm!C$3,norm!C$4,norm!C$5,norm!C$6,norm!C$7),\"\")","v":"07:30:00"}]
[{"$f":"IF(MONTH(A368+1)<MONTH(A368),\"\",A368+1)","v":""},"","",null,null,null,"","00:00:00","",{"$f":"IFERROR(IF(AND(C369=\"\",WEEKDAY(A369,2)<6),ColTime(T.!$J$4,T.!$L$4,D369,E369),\"\"),\"\")","v":""},null,{"$f":"IFERROR(IF(AND(WEEKDAY(A369,2)<6,C370<>\"\",E369<D369,C369=\"\"),ColTime($AE$1,$AF$1,D369,E369),IF(AND(OR(WEEKDAY(A369,2)=7,C369<>\"\"),E369<D369,C370=\"\"),ColTime($AF$1,$AG$1,'Hele året'!$AF$1,E369),IF(AND(WEEKDAY(A369,2)<6,C370=\"\"),ColTime(T.!$J$5,T.!$L$5,D369,E369),\"\"))),\"\")","v":""},null,{"$f":"IFERROR(IF(WEEKDAY(A369,2)=6,ColTime(TIME(15,0,0),TIME(24,0,0),D369,E369),\"\"),\"\")","v":""},{"$f":"IFERROR(IF(AND(WEEKDAY(A369,2)<6,C370<>\"\",C369=\"\"),ColTime(T.!$J$7,T.!$L$7,$AF$1,'Hele året'!E369),IF(AND(C369<>\"\",C370<>\"\"),ColTime(T.!$J$7,T.!$L$7,'Hele året'!D369,'Hele året'!E369),IF(AND(OR(WEEKDAY(A369,2)<6,WEEKDAY(A369,2)=6),C369<>\"\",E369<D369),ColTime(T.!$J$7,T.!$L$7,D369,AF366),IF(AND(WEEKDAY(A369,2)=6,E369<D369),ColTime(T.!$J$7,T.!$L$7,$AF$1,E369),IF(AND(E369<D369,OR(C369<>\"\",WEEKDAY(A369,2)=7)),ColTime(T.!J372,T.!L372,D369,$AF$1),IF(AND(E369<>\"\",OR(C369<>\"\",WEEKDAY(A369,2)=7)),ColTime(T.!$J$7,T.!$L$7,D369,E369),\"\")))))),\"\")","v":""},"",null,null,{"$f":"IFERROR(CHOOSE(WEEKDAY(A369,2),norm!C$1,norm!C$2,norm!C$3,norm!C$4,norm!C$5,norm!C$6,norm!C$7),\"\")","v":""}]
["Total timer",null,null,null,null,null,{"$f":"IF(SUM(G9:G369)<>\"0\",SUM(G4:G369),\"\")","v":10.583333333333332},{"$f":"IF(SUM(H9:H369)<>\"0\",SUM(H4:H369),\"\")","v":1.7291666666666665},2.666666666666667,0.66666666666666741,null,4.458333333333333,null,{"$f":"IF(SUM(N9:N369)<>\"0\",SUM(N4:N369),\"\")","v":0.16666666666666674},{"$f":"IF(SUM(O9:O369)<>\"0\",SUM(O4:O369),\"\")","v":4.291666666666667},{"$f":"SUM(P4:P34)","v":2.25},{"$f":"SUM(Q4:Q34)","v":0}]
["Timer 1/100",null,null,null,null,null,{"$f":"IF(G370<>\"\",ROUND(G370*24,2),\"\")","v":254},{"$f":"IF(H370<>\"\",ROUND(H370*24,2),\"\")","v":41.5},64,{"$f":"IF(J370<>\"\",ROUND(J370*24,2),\"\")","v":16},null,{"$f":"IF(L370<>\"\",ROUND(L370*24,2),\"\")","v":107},null,{"$f":"IF(N370<>\"\",ROUND(N370*24,2),\"\")","v":4},103,54,0]
["Satser",null,null,null,null,null,{"$f":"Satser!B7","v":107.35},{"$f":"Satser!B9","v":36.35},{"$f":"Satser!B12","v":58.1},{"$f":"Satser!B17","v":13.91},null,{"$f":"Satser!B18","v":23.19},null,{"$f":"Satser!B19","v":24.89},{"$f":"Satser!B20","v":27.63}]
[null,null,null,null,null,null,{"$f":"IF(G370<>\"\",G371*G372,\"\")","v":27266.899999999998},{"$f":"IF(H370<>\"\",H371*H372,\"\")","v":1508.5250000000001},3718.4,{"$f":"IF(J370<>\"\",J371*J372,\"\")","v":222.56},null,{"$f":"IF(L370<>\"\",L371*L371,\"\")","v":11449},null,{"$f":"IF(N370<>\"\",N371*N372,\"\")","v":99.56},2845.89]
[]
["Lønart"]
[3025,null,null,null,null,null,{"$f":"G370","v":10.583333333333332}]
[3425,null,null,null,null,null,{"$f":"H370","v":1.7291666666666665}]
[3428,null,null,null,null,null,{"$f":"I370","v":2.666666666666667}]
["Timer",null,null,null,null,null,{"$f":"SUM(G376:G378)","v":14.979166666666664},{"$f":"IF(G379<>\"\",ROUND(G379*24,2),\"\")","v":359.5}]
[null,null,null,null,null,null,null,{"$f":"G372*H379","v":38592.324999999997}]

{"sheet":"Hele året (2)","index":1,"n_rows":380,"n_cols":35,"rows_kept":380,"cut":false,"hidden":true,"merged":[[376,0,376,2],[377,0,377,2],[378,0,378,5],[371,9,371,10],[371,11,371,12],[372,9,372,10],[372,11,372,12],[374,0,374,2],[375,0,375,2],[368,9,368,10],[368,11,368,12],[369,9,369,10],[369,11,369,12],[370,9,370,10],[370,11,370,12],[365,9,365,10],[365,11,365,12],[366,9,366,10],[366,11,366,12],[367,9,367,10],[367,11,367,12],[362,9,362,10],[362,11,362,12],[363,9,363,10],[363,11,363,12],[364,9,364,10],[364,11,364,12],[359,9,359,10],[359,11,359,12],[360,9,360,10],[360,11,360,12],[361,9,361,10],[361,11,361,12],[356,9,356,10],[356,11,356,12],[357,9,357,10],[357,11,357,12],[358,9,358,10],[358,11,358,12],[353,9,353,10],[353,11,353,12],[354,9,354,10],[354,11,354,12],[355,9,355,10],[355,11,355,12],[350,9,350,10],[350,11,350,12],[351,9,351,10],[351,11,351,12],[352,9,352,10],[352,11,352,12],[347,9,347,10],[347,11,347,12],[348,9,348,10],[348,11,348,12],[349,9,349,10],[349,11,349,12],[344,9,344,10],[344,11,344,12],[345,9,345,10],[345,11,345,12],[346,9,346,10],[346,11,346,12],[341,9,341,10],[341,11,341,12],[342,9,342,10],[342,11,342,12],[343,9,343,10],[343,11,343,12],[338,9,338,10],[338,11,338,12],[339,9,339,10],[339,11,339,12],[340,9,340,10],[340,11,340,12],[335,9,335,10],[335,11,335,12],[336,9,336,10],[336,11,336,12],[337,9,337,10],[337,11,337,12],[332,9,332,10],[332,11,332,12],[333,9,333,10],[333,11,333,12],[334,9,334,10],[334,11,334,12],[329,9,329,10],[329,11,329,12],[330,9,330,10],[330,11,330,12],[331,9,331,10],[331,11,331,12],[326,9,326,10],[326,11,326,12],[327,9,327,10],[327,11,327,12],[328,9,328,10],[328,11,328,12],[323,9,323,10],[323,11,323,12],[324,9,324,10],[324,11,324,12],[325,9,325,10],[325,11,325,12],[320,9,320,10],[320,11,320,12],[321,9,321,10],[321,11,321,12],[322,9,322,10],[322,11,322,12],[317,9,317,10],[317,11,317,12],[318,9,318,10],[318,11,318,12],[319,9,319,10],[319,11,319,12],[314,9,314,10],[314,11,314,12],[315,9,315,10],[315,11,315,12],[316,9,316,10],[316,11,316,12],[311,9,311,10],[311,11,311,12],[312,9,312,10],[312,11,312,12],[313,9,313,10],[313,11,313,12],[308,9,308,10],[308,11,308,12],[309,9,309,10],[309,11,309,12],[310,9,310,10],[310,11,310,12],[305,9,305,10],[305,11,305,12],[306,9,306,10],[306,11,306,12],[307,9,307,10],[307,11,307,12],[302,9,302,10],[302,11,302,12],[303,9,303,10],[303,11,303,12],[304,9,304,10],[304,11,304,12],[299,9,299,10],[299,11,299,12],[300,9,300,10],[300,11,300,12],[301,9,301,10],[301,11,301,12],[296,9,296,10],[296,11,296,12],[297,9,297,10],[297,11,297,12],[298,9,298,10],[298,11,298,12],[293,9,293,10],[293,11,293,12],[294,9,294,10],[294,11,294,12],[295,9,295,10],[295,11,295,12],[290,9,290,10],[290,11,290,12],[291,9,291,10],[291,11,291,12],[292,9,292,10],[292,11,292,12],[287,9,287,10],[287,11,287,12],[288,9,288,10],[288,11,288,12],[289,9,289,10],[289,11,289,12],[284,9,284,10],[284,11,284,12],[285,9,285,10],[285,11,285,12],[286,9,286,10],[286,11,286,12],[281,9,281,10],[281,11,281,12],[282,9,282,10],[282,11,282,12],[283,9,283,10],[283,11,283,12],[278,9,278,10],[278,11,278,12],[279,9,279,10],[279,11,279,12],[280,9,280,10],[280,11,280,12],[275,9,275,10],[275,11,275,12],[276,9,276,10],[276,11,276,12],[277,9,277,10],[277,11,277,12],[272,9,272,10],[272,11,272,12],[273,9,273,10],[273,11,273,12],[274,9,274,10],[274,11,274,12],[269,9,269,10],[269,11,269,12],[270,9,270,10],[270,11,270,12],[271,9,271,10],[271,11,271,12],[266,9,266,10],[266,11,266,12],[267,9,267,10],[267,11,267,12],[268,9,268,10],[268,11,268,12],[263,9,263,10],[263,11,263,12],[264,9,264,10],[264,11,264,12],[265,9,265,10],[265,11,265,12],[260,9,260,10],[260,11,260,12],[261,9,261,10],[261,11,261,12],[262,9,262,10],[262,11,262,12],[257,9,257,10],[257,11,257,12],[258,9,258,10],[258,11,258,12],[259,9,259,10],[259,11,259,12],[254,9,254,10],[254,11,254,12],[255,9,255,10],[255,11,255,12],[256,9,256,10],[256,11,256,12],[251,9,251,10],[251,11,251,12],[252,9,252,10],[252,11,252,12],[253,9,253,10],[253,11,253,12],[248,9,248,10],[248,11,248,12],[249,9,249,10],[249,11,249,12],[250,9,250,10],[250,11,250,12],[245,9,245,10],[245,11,245,12],[246,9,246,10],[246,11,246,12],[247,9,247,10],[247,11,247,12],[242,9,242,10],[242,11,242,12],[243,9,243,10],[243,11,243,12],[244,9,244,10],[244,11,244,12],[239,9,239,10],[239,11,239,12],[240,9,240,10],[240,11,240,12],[241,9,241,10],[241,11,241,12],[236,9,236,10],[236,11,236,12],[237,9,237,10],[237,11,237,12],[238,9,238,10],[238,11,238,12],[233,9,233,10],[233,11,233,12],[234,9,234,10],[234,11,234,12],[235,9,235,10],[235,11,235,12],[230,9,230,10],[230,11,230,12],[231,9,231,10],[231,11,231,12],[232,9,232,10],[232,11,232,12],[227,9,227,10],[227,11,227,12],[228,9,228,10],[228,11,228,12],[229,9,229,10],[229,11,229,12],[224,9,224,10],[224,11,224,12],[225,9,225,10],[225,11,225,12],[226,9,226,10],[226,11,226,12],[221,9,221,10],[221,11,221,12],[222,9,222,10],[222,11,222,12],[223,9,223,10],[223,11,223,12],[218,9,218,10],[218,11,218,12],[219,9,219,10],[219,11,219,12],[220,9,220,10],[220,11,220,12],[215,9,215,10],[215,11,215,12],[216,9,216,10],[216,11,216,12],[217,9,217,10],[217,11,217,12],[212,9,212,10],[212,11,212,12],[213,9,213,10],[213,11,213,12],[214,9,214,10],[214,11,214,12],[209,9,209,10],[209,11,209,12],[210,9,210,10],[210,11,210,12],[211,9,211,10],[211,11,211,12],[206,9,206,10],[206,11,206,12],[207,9,207,10],[207,11,207,12],[208,9,208,10],[208,11,208,12],[203,9,203,10],[203,11,203,12],[204,9,204,10],[204,11,204,12],[205,9,205,10],[205,11,205,12],[200,9,200,10],[200,11,200,12],[201,9,201,10],[201,11,201,12],[202,9,202,10],[202,11,202,12],[197,9,197,10],[197,11,197,12],[198,9,198,10],[198,11,198,12],[199,9,199,10],[199,11,199,12],[194,9,194,10],[194,11,194,12],[195,9,195,10],[195,11,195,12],[196,9,196,10],[196,11,196,12],[191,9,191,10],[191,11,191,12],[192,9,192,10],[192,11,192,12],[193,9,193,10],[193,11,193,12],[188,9,188,10],[188,11,188,12],[189,9,189,10],[189,11,189,12],[190,9,190,10],[190,11,190,12],[185,9,185,10],[185,11,185,12],[186,9,186,10],[186,11,186,12],[187,9,187,10],[187,11,187,12],[182,9,182,10],[182,11,182,12],[183,9,183,10],[183,11,183,12],[184,9,184,10],[184,11,184,12],[179,9,179,10],[179,11,179,12],[180,9,180,10],[180,11,180,12],[181,9,181,10],[181,11,181,12],[176,9,176,10],[176,11,176,12],[177,9,177,10],[177,11,177,12],[178,9,178,10],[178,11,178,12],[173,9,173,10],[173,11,173,12],[174,9,174,10],[174,11,174,12],[175,9,175,10],[175,11,175,12],[170,9,170,10],[170,11,170,12],[171,9,171,10],[171,11,171,12],[172,9,172,10],[172,11,172,12],[167,9,167,10],[167,11,167,12],[168,9,168,10],[168,11,168,12],[169,9,169,10],[169,11,169,12],[164,9,164,10],[164,11,164,12],[165,9,165,10],[165,11,165,12],[166,9,166,10],[166,11,166,12],[161,9,161,10],[161,11,161,12],[162,9,162,10],[162,11,162,12],[163,9,163,10],[163,11,163,12],[158,9,158,10],[158,11,158,12],[159,9,159,10],[159,11,159,12],[160,9,160,10],[160,11,160,12],[155,9,155,10],[155,11,155,12],[156,9,156,10],[156,11,156,12],[157,9,157,10],[157,11,157,12],[152,9,152,10],[152,11,152,12],[153,9,153,10],[153,11,153,12],[154,9,154,10],[154,11,154,12],[149,9,149,10],[149,11,149,12],[150,9,150,10],[150,11,150,12],[151,9,151,10],[151,11,151,12],[146,9,146,10],[146,11,146,12],[147,9,147,10],[147,11,147,12],[148,9,148,10],[148,11,148,12],[143,9,143,10],[143,11,143,12],[144,9,144,10],[144,11,144,12],[145,9,145,10],[145,11,145,12],[140,9,140,10],[140,11,140,12],[141,9,141,10],[141,11,141,12],[142,9,142,10],[142,11,142,12],[137,9,137,10],[137,11,137,12],[138,9,138,10],[138,11,138,12],[139,9,139,10],[139,11,139,12],[134,9,134,10],[134,11,134,12],[135,9,135,10],[135,11,135,12],[136,9,136,10],[136,11,136,12],[131,9,131,10],[131,11,131,12],[132,9,132,10],[132,11,132,12],[133,9,133,10],[133,11,133,12],[128,9,128,10],[128,11,128,12],[129,9,129,10],[129,11,129,12],[130,9,130,10],[130,11,130,12],[125,9,125,10],[125,11,125,12],[126,9,126,10],[126,11,126,12],[127,9,127,10],[127,11,127,12],[122,9,122,10],[122,11,122,12],[123,9,123,10],[123,11,123,12],[124,9,124,10],[124,11,124,12],[119,9,119,10],[119,11,119,12],[120,9,120,10],[120,11,120,12],[121,9,121,10],[121,11,121,12],[116,9,116,10],[116,11,116,12],[117,9,117,10],[117,11,117,12],[118,9,118,10],[118,11,118,12],[113,9,113,10],[113,11,113,12],[114,9,114,10],[114,11,114,12],[115,9,115,10],[115,11,115,12],[110,9,110,10],[110,11,110,12],[111,9,111,10],[111,11,111,12],[112,9,112,10],[112,11,112,12],[107,9,107,10],[107,11,107,12],[108,9,108,10],[108,11,108,12],[109,9,109,10],[109,11,109,12],[104,9,104,10],[104,11,104,12],[105,9,105,10],[105,11,105,12],[106,9,106,10],[106,11,106,12],[101,9,101,10],[101,11,101,12],[102,9,102,10],[102,11,102,12],[103,9,103,10],[103,11,103,12],[98,9,98,10],[98,11,98,12],[99,9,99,10],[99,11,99,12],[100,9,100,10],[100,11,100,12],[95,9,95,10],[95,11,95,12],[96,9,96,10],[96,11,96,12],[97,9,97,10],[97,11,97,12],[92,9,92,10],[92,11,92,12],[93,9,93,10],[93,11,93,12],[94,9,94,10],[94,11,94,12],[89,9,89,10],[89,11,89,12],[90,9,90,10],[90,11,90,12],[91,9,91,10],[91,11,91,12],[86,9,86,10],[86,11,86,12],[87,9,87,10],[87,11,87,12],[88,9,88,10],[88,11,88,12],[83,9,83,10],[83,11,83,12],[84,9,84,10],[84,11,84,12],[85,9,85,10],[85,11,85,12],[80,9,80,10],[80,11,80,12],[81,9,81,10],[81,11,81,12],[82,9,82,10],[82,11,82,12],[77,9,77,10],[77,11,77,12],[78,9,78,10],[78,11,78,12],[79,9,79,10],[79,11,79,12],[74,9,74,10],[74,11,74,12],[75,9,75,10],[75,11,75,12],[76,9,76,10],[76,11,76,12],[71,9,71,10],[71,11,71,12],[72,9,72,10],[72,11,72,12],[73,9,73,10],[73,11,73,12],[68,9,68,10],[68,11,68,12],[69,9,69,10],[69,11,69,12],[70,9,70,10],[70,11,70,12],[65,9,65,10],[65,11,65,12],[66,9,66,10],[66,11,66,12],[67,9,67,10],[67,11,67,12],[62,9,62,10],[62,11,62,12],[63,9,63,10],[63,11,63,12],[64,9,64,10],[64,11,64,12],[59,9,59,10],[59,11,59,12],[60,9,60,10],[60,11,60,12],[61,9,61,10],[61,11,61,12],[56,9,56,10],[56,11,56,12],[57,9,57,10],[57,11,57,12],[58,9,58,10],[58,11,58,12],[53,9,53,10],[53,11,53,12],[54,9,54,10],[54,11,54,12],[55,9,55,10],[55,11,55,12],[50,9,50,10],[50,11,50,12],[51,9,51,10],[51,11,51,12],[52,9,52,10],[52,11,52,12],[47,9,47,10],[47,11,47,12],[48,9,48,10],[48,11,48,12],[49,9,49,10],[49,11,49,12],[44,9,44,10],[44,11,44,12],[45,9,45,10],[45,11,45,12],[46,9,46,10],[46,11,46,12],[41,9,41,10],[41,11,41,12],[42,9,42,10],[42,11,42,12],[43,9,43,10],[43,11,43,12],[38,9,38,10],[38,11,38,12],[39,9,39,10],[39,11,39,12],[40,9,40,10],[40,11,40,12],[35,9,35,10],[35,11,35,12],[36,9,36,10],[36,11,36,12],[37,9,37,10],[37,11,37,12],[32,9,32,10],[32,11,32,12],[33,9,33,10],[33,11,33,12],[34,9,34,10],[34,11,34,12],[29,9,29,10],[29,11,29,12],[30,9,30,10],[30,11,30,12],[31,9,31,10],[31,11,31,12],[26,9,26,10],[26,11,26,12],[27,9,27,10],[27,11,27,12],[28,9,28,10],[28,11,28,12],[23,9,23,10],[23,11,23,12],[24,9,24,10],[24,11,24,12],[25,9,25,10],[25,11,25,12],[20,9,20,10],[20,11,20,12],[21,9,21,10],[21,11,21,12],[22,9,22,10],[22,11,22,12],[17,9,17,10],[17,11,17,12],[18,9,18,10],[18,11,18,12],[19,9,19,10],[19,11,19,12],[14,9,14,10],[14,11,14,12],[15,9,15,10],[15,11,15,12],[16,9,16,10],[16,11,16,12],[11,9,11,10],[11,11,11,12],[12,9,12,10],[12,11,12,12],[13,9,13,10],[13,11,13,12],[4,9,4,10],[4,11,4,12],[0,1,0,7],[0,10,0,11],[8,9,8,10],[8,11,8,12],[9,9,9,10],[9,11,9,12],[10,9,10,10],[10,11,10,12],[5,9,5,10],[5,11,5,12],[6,9,6,10],[6,11,6,12],[7,9,7,10],[7,11,7,12],[0,13,0,14],[1,1,1,2],[1,9,1,10],[1,11,1,12],[2,1,2,2],[2,9,2,10],[2,11,2,12],[3,9,3,10],[3,11,3,12]]}
["Løn",{"$f":"PROPER(TEXT(A4,\"dd mmmm åååå\")) & PROPER(TEXT(N1,\"  -  dd mmmm åååå\"))","v":"01 Januar 2019  -  31 December 2019"},null,null,null,null,null,null,"Uge :",{"$f":"IF(A4=\"\",\"\",TRUNC((A4-WEEKDAY(A4,2)-DATE(YEAR(A4+4-WEEKDAY(A4,2)),1,-10))/7))","v":1},"-",null,{"$f":"IF(A25=\"\",\"\",TRUNC((A25-WEEKDAY(A25,2)-DATE(YEAR(A25+4-WEEKDAY(A25,2)),1,-10))/7))","v":4},{"$f":"EOMONTH(A364,0)","v":"2019-12-31"},null,1,null,null,null,null,null,"Time beregning:",null,null,null,null,null,null,null,null,null,1,"06:00:00","18:00:00","03:00:00"]
["Lønart",null,null,null,null,null,null,null,null,null,null,null,null,null,null,null,null,null,null,null,null,"Betalt pause ved vagt over 5 timer",null,null,null,"00:25:00","minutter","00:00:00","06:00:00","17:00:00","14:00:00"]
["Dato","Dag",null,"Start","Slut","Pause","Arb. Tid","Overtid           1-3 time","Overtid            4 - time","Forskudt tid Man-fredag\n18-23",null,"Natarbejde 23-06",null,"Lørdag tillæg 14 - 24","Søndag tillæg 00 - 24","Optjent afspadsering","Afholdt afspadsering","Syge Timer","norm"]
[{"$f":"DATE(T.!$B$2,$P$1,1)","v":"2019-01-01"},{"$f":"PROPER(TEXT(A4,\"ddd\"))","v":"Ti"},{"$f":"HelligdagsNavn(A4,0,0)","v":"Nytårsdag"},"18:00:00","07:00:00",null,{"$f":"IF(D4=\"\",\"\",(E4-D4)+(D4>E4)-F4)","v":0.54166666666666674},{"$f":"IF(G4=\"\",0,IF(WEEKDAY(A4,2)=7,0,IF(G4>S4,MIN(G4-S4,$AI$1),0)))","v":"03:00:00"},{"$f":"IF(G4=\"\",\"\",IF(G4>S4+H4,G4-(S4+H4),\"\"))","v":"02:30:00"},{"$f":"IF(AND(C4=\"\",WEEKDAY(A4,2)<6),ColTime(T.!$J$4,T.!$L$4,D4,E4),\"\")","v":""},null,{"$f":"IF(AND(OR(WEEKDAY(A4,2)=7,C4<>\"\"),E4<D4),ColTime($AF$1,$AG$1,'Hele året (2)'!$AF$1,E4),IF(WEEKDAY(A4,2)<6,ColTime(T.!$J$5,T.!$L$5,D4,E4),\"\"))","v":"06:00:00"},null,{"$f":"IF(WEEKDAY(A4,2)=6,ColTime(TIME(14,0,0),TIME(24,0,0),D4,E4),\"\")","v":""},{"$f":"IFERROR(IF(AND(WEEKDAY(A4,2)<6,C5<>\"\",C4=\"\"),ColTime(T.!$J$7,T.!$L$7,$AF$1,'Hele året (2)'!E4),IF(AND(C4<>\"\",C5<>\"\"),ColTime(T.!$J$7,T.!$L$7,'Hele året (2)'!D4,'Hele året (2)'!E4),IF(AND(OR(WEEKDAY(A4,2)<6,WEEKDAY(A4,2)=6),C4<>\"\",E4<D4),ColTime(T.!$J$7,T.!$L$7,D4,AF1),IF(AND(WEEKDAY(A4,2)=6,E4<D4),ColTime(T.!$J$7,T.!$L$7,$AF$1,E4),IF(AND(E4<D4,OR(C4<>\"\",WEEKDAY(A4,2)=7)),ColTime(T.!J7,T.!L7,D4,$AF$1),IF(AND(E4<>\"\",OR(C4<>\"\",WEEKDAY(A4,2)=7)),ColTime(T.!$J$7,T.!$L$7,D4,E4),\"\")))))),\"\")","v":"06:00:00"},{"$f":"IFERROR(H4+I4,\"\")","v":"05:30:00"},null,null,{"$f":"CHOOSE(WEEKDAY(A4,2),norm!C$1,norm!C$2,norm!C$3,norm!C$4,norm!C$5,norm!C$6,norm!C$7)","v":"07:30:00"},null,null,{"$f":"IF(D4=\"\",\"\",HOUR(D4))","v":18},{"$f":"IF(D4=\"\",\"\",MINUTE(D4))","v":0},{"$f":"IF(D4=\"\",\"\",TIME(HOUR(D4),MINUTE(D4),0))","v":"18:00:00"},{"$f":"IF(E4=\"\",\"\",HOUR(E4))","v":7},{"$f":"IF(E4=\"\",\"\",MINUTE(E4))","v":0},"02:00:00","09:30:00","11:30:00",null,null,null,{"$f":"IFERROR(MIN(G4-S4,3),22)","v":0.22916666666666674}]
[{"$f":"A4+1","v":"2019-01-02"},{"$f":"PROPER(TEXT(A5,\"ddd\"))","v":"On"},{"$f":"HelligdagsNavn(A5,0,0)","v":""},"18:00:00","07:00:00",null,{"$f":"IF(D5=\"\",\"\",(E5-D5)+(D5>E5)-F5)","v":0.54166666666666674},{"$f":"IF(G5=\"\",0,IF(WEEKDAY(A5,2)=7,0,IF(G5>S5,MIN(G5-S5,$AI$1),0)))","v":"03:00:00"},{"$f":"IF(G5=\"\",\"\",IF(G5>S5+H5,G5-(S5+H5),\"\"))","v":"02:30:00"},{"$f":"IF(AND(C5=\"\",WEEKDAY(A5,2)<6),ColTime(T.!$J$4,T.!$L$4,D5,E5),\"\")","v":"05:00:00"},null,{"$f":"IF(AND(OR(WEEKDAY(A5,2)=7,C5<>\"\"),E5<D5),ColTime($AF$1,$AG$1,'Hele året (2)'!$AF$1,E5),IF(WEEKDAY(A5,2)<6,ColTime(T.!$J$5,T.!$L$5,D5,E5),\"\"))","v":"07:00:00"},null,"",{"$f":"IFERROR(IF(AND(WEEKDAY(A5,2)<6,C6<>\"\",C5=\"\"),ColTime(T.!$J$7,T.!$L$7,$AF$1,'Hele året (2)'!E5),IF(AND(C5<>\"\",C6<>\"\"),ColTime(T.!$J$7,T.!$L$7,'Hele året (2)'!D5,'Hele året (2)'!E5),IF(AND(OR(WEEKDAY(A5,2)<6,WEEKDAY(A5,2)=6),C5<>\"\",E5<D5),ColTime(T.!$J$7,T.!$L$7,D5,AF2),IF(AND(WEEKDAY(A5,2)=6,E5<D5),ColTime(T.!$J$7,T.!$L$7,$AF$1,E5),IF(AND(E5<D5,OR(C5<>\"\",WEEKDAY(A5,2)=7)),ColTime(T.!J8,T.!L8,D5,$AF$1),IF(AND(E5<>\"\",OR(C5<>\"\",WEEKDAY(A5,2)=7)),ColTime(T.!$J$7,T.!$L$7,D5,E5),\"\")))))),\"\")","v":""},{"$f":"IFERROR(H5+I5,\"\")","v":"05:30:00"},null,null,{"$f":"CHOOSE(WEEKDAY(A5,2),norm!C$1,norm!C$2,norm!C$3,norm!C$4,norm!C$5,norm!C$6,norm!C$7)","v":"07:30:00"},null,null,18,0,"18:00:00",7,0,{"$f":"IF(E5=\"\",\"\",TIME(HOUR(E5),MINUTE(E5),0))","v":"07:00:00"},null,null,null,null,null,null,"Der taste kun i de Gule celler"]
[{"$f":"A5+1","v":"2019-01-03"},{"$f":"PROPER(TEXT(A6,\"ddd\"))","v":"To"},"","22:00:00","07:00:00",null,0.375,"01:30:00","",{"$f":"IF(AND(C6=\"\",WEEKDAY(A6,2)<6),ColTime(T.!$J$4,T.!$L$4,D6,E6),\"\")","v":"01:00:00"},null,{"$f":"IF(AND(OR(WEEKDAY(A6,2)=7,C6<>\"\"),E6<D6),ColTime($AF$1,$AG$1,'Hele året (2)'!$AF$1,E6),IF(WEEKDAY(A6,2)<6,ColTime(T.!$J$5,T.!$L$5,D6,E6),\"\"))","v":"07:00:00"},null,"",{"$f":"IFERROR(IF(AND(WEEKDAY(A6,2)<6,C7<>\"\",C6=\"\"),ColTime(T.!$J$7,T.!$L$7,$AF$1,'Hele året (2)'!E6),IF(AND(C6<>\"\",C7<>\"\"),ColTime(T.!$J$7,T.!$L$7,'Hele året (2)'!D6,'Hele året (2)'!E6),IF(AND(OR(WEEKDAY(A6,2)<6,WEEKDAY(A6,2)=6),C6<>\"\",E6<D6),ColTime(T.!$J$7,T.!$L$7,D6,AF3),IF(AND(WEEKDAY(A6,2)=6,E6<D6),ColTime(T.!$J$7,T.!$L$7,$AF$1,E6),IF(AND(E6<D6,OR(C6<>\"\",WEEKDAY(A6,2)=7)),ColTime(T.!J9,T.!L9,D6,$AF$1),IF(AND(E6<>\"\",OR(C6<>\"\",WEEKDAY(A6,2)=7)),ColTime(T.!$J$7,T.!$L$7,D6,E6),\"\")))))),\"\")","v":""},{"$f":"IFERROR(H6+I6,\"\")","v":""},null,null,{"$f":"CHOOSE(WEEKDAY(A6,2),norm!C$1,norm!C$2,norm!C$3,norm!C$4,norm!C$5,norm!C$6,norm!C$7)","v":"07:30:00"},null,null,22,0,"22:00:00",7,0,"07:00:00"]
["2019-01-04","Fr","","22:00:00","07:00:00",null,0.375,"02:00:00","",{"$f":"IF(AND(C7=\"\",WEEKDAY(A7,2)<6),ColTime(T.!$J$4,T.!$L$4,D7,E7),\"\")","v":"01:00:00"},null,{"$f":"IF(AND(OR(WEEKDAY(A7,2)=7,C7<>\"\"),E7<D7),ColTime($AF$1,$AG$1,'Hele året (2)'!$AF$1,E7),IF(WEEKDAY(A7,2)<6,ColTime(T.!$J$5,T.!$L$5,D7,E7),\"\"))","v":"07:00:00"},null,"",{"$f":"IFERROR(IF(AND(WEEKDAY(A7,2)<6,C8<>\"\",C7=\"\"),ColTime(T.!$J$7,T.!$L$7,$AF$1,'Hele året (2)'!E7),IF(AND(C7<>\"\",C8<>\"\"),ColTime(T.!$J$7,T.!$L$7,'Hele året (2)'!D7,'Hele året (2)'!E7),IF(AND(OR(WEEKDAY(A7,2)<6,WEEKDAY(A7,2)=6),C7<>\"\",E7<D7),ColTime(T.!$J$7,T.!$L$7,D7,AF4),IF(AND(WEEKDAY(A7,2)=6,E7<D7),ColTime(T.!$J$7,T.!$L$7,$AF$1,E7),IF(AND(E7<D7,OR(C7<>\"\",WEEKDAY(A7,2)=7)),ColTime(T.!J10,T.!L10,D7,$AF$1),IF(AND(E7<>\"\",OR(C7<>\"\",WEEKDAY(A7,2)=7)),ColTime(T.!$J$7,T.!$L$7,D7,E7),\"\")))))),\"\")","v":""},{"$f":"IFERROR(H7+I7,\"\")","v":""},null,null,{"$f":"CHOOSE(WEEKDAY(A7,2),norm!C$1,norm!C$2,norm!C$3,norm!C$4,norm!C$5,norm!C$6,norm!C$7)","v":"07:00:00"},null,null,22,0,"22:00:00",7,0,"07:00:00"]
["2019-01-05","Lø","","22:00:00","07:00:00",null,0.375,"03:00:00","06:00:00",{"$f":"IF(AND(C8=\"\",WEEKDAY(A8,2)<6),ColTime(T.!$J$4,T.!$L$4,D8,E8),\"\")","v":""},null,{"$f":"IF(AND(OR(WEEKDAY(A8,2)=7,C8<>\"\"),E8<D8),ColTime($AF$1,$AG$1,'Hele året (2)'!$AF$1,E8),IF(WEEKDAY(A8,2)<6,ColTime(T.!$J$5,T.!$L$5,D8,E8),\"\"))","v":""},null,"02:00:00",{"$f":"IFERROR(IF(AND(WEEKDAY(A8,2)<6,C9<>\"\",C8=\"\"),ColTime(T.!$J$7,T.!$L$7,$AF$1,'Hele året (2)'!E8),IF(AND(C8<>\"\",C9<>\"\"),ColTime(T.!$J$7,T.!$L$7,'Hele året (2)'!D8,'Hele året (2)'!E8),IF(AND(OR(WEEKDAY(A8,2)<6,WEEKDAY(A8,2)=6),C8<>\"\",E8<D8),ColTime(T.!$J$7,T.!$L$7,D8,AF5),IF(AND(WEEKDAY(A8,2)=6,E8<D8),ColTime(T.!$J$7,T.!$L$7,$AF$1,E8),IF(AND(E8<D8,OR(C8<>\"\",WEEKDAY(A8,2)=7)),ColTime(T.!J11,T.!L11,D8,$AF$1),IF(AND(E8<>\"\",OR(C8<>\"\",WEEKDAY(A8,2)=7)),ColTime(T.!$J$7,T.!$L$7,D8,E8),\"\")))))),\"\")","v":"07:00:00"},{"$f":"IFERROR(H8+I8,\"\")","v":"09:00:00"},null,null,{"$f":"CHOOSE(WEEKDAY(A8,2),norm!C$1,norm!C$2,norm!C$3,norm!C$4,norm!C$5,norm!C$6,norm!C$7)","v":"00:00:00"},null,null,22,0,"22:00:00",7,0,"07:00:00"]
["2019-01-06","Sø","","22:00:00","07:00:00",null,0.375,"00:00:00","09:00:00",{"$f":"IF(AND(C9=\"\",WEEKDAY(A9,2)<6),ColTime(T.!$J$4,T.!$L$4,D9,E9),\"\")","v":""},null,{"$f":"IF(AND(OR(WEEKDAY(A9,2)=7,C9<>\"\"),E9<D9),ColTime($AF$1,$AG$1,'Hele året (2)'!$AF$1,E9),IF(WEEKDAY(A9,2)<6,ColTime(T.!$J$5,T.!$L$5,D9,E9),\"\"))","v":"06:00:00"},null,"",{"$f":"IFERROR(IF(AND(WEEKDAY(A9,2)<6,C10<>\"\",C9=\"\"),ColTime(T.!$J$7,T.!$L$7,$AF$1,'Hele året (2)'!E9),IF(AND(C9<>\"\",C10<>\"\"),ColTime(T.!$J$7,T.!$L$7,'Hele året (2)'!D9,'Hele året (2)'!E9),IF(AND(OR(WEEKDAY(A9,2)<6,WEEKDAY(A9,2)=6),C9<>\"\",E9<D9),ColTime(T.!$J$7,T.!$L$7,D9,AF6),IF(AND(WEEKDAY(A9,2)=6,E9<D9),ColTime(T.!$J$7,T.!$L$7,$AF$1,E9),IF(AND(E9<D9,OR(C9<>\"\",WEEKDAY(A9,2)=7)),ColTime(T.!J12,T.!L12,D9,$AF$1),IF(AND(E9<>\"\",OR(C9<>\"\",WEEKDAY(A9,2)=7)),ColTime(T.!$J$7,T.!$L$7,D9,E9),\"\")))))),\"\")","v":"02:00:00"},{"$f":"IFERROR(H9+I9,\"\")","v":"09:00:00"},null,null,{"$f":"CHOOSE(WEEKDAY(A9,2),norm!C$1,norm!C$2,norm!C$3,norm!C$4,norm!C$5,norm!C$6,norm!C$7)","v":"00:00:00"},null,null,22,0,"22:00:00",7,0,"07:00:00"]
["2019-01-07","Ma","","22:00:00","07:00:00",null,0.375,"01:30:00","",{"$f":"IF(AND(C10=\"\",WEEKDAY(A10,2)<6),ColTime(T.!$J$4,T.!$L$4,D10,E10),\"\")","v":"01:00:00"},null,{"$f":"IF(AND(OR(WEEKDAY(A10,2)=7,C10<>\"\"),E10<D10),ColTime($AF$1,$AG$1,'Hele året (2)'!$AF$1,E10),IF(WEEKDAY(A10,2)<6,ColTime(T.!$J$5,T.!$L$5,D10,E10),\"\"))","v":"07:00:00"},null,{"$f":"IF(WEEKDAY(A10,2)=6,ColTime(TIME(14,0,0),TIME(24,0,0),D10,E10),\"\")","v":""},{"$f":"IFERROR(IF(AND(WEEKDAY(A10,2)<6,C11<>\"\",C10=\"\"),ColTime(T.!$J$7,T.!$L$7,$AF$1,'Hele året (2)'!E10),IF(AND(C10<>\"\",C11<>\"\"),ColTime(T.!$J$7,T.!$L$7,'Hele året (2)'!D10,'Hele året (2)'!E10),IF(AND(OR(WEEKDAY(A10,2)<6,WEEKDAY(A10,2)=6),C10<>\"\",E10<D10),ColTime(T.!$J$7,T.!$L$7,D10,AF7),IF(AND(WEEKDAY(A10,2)=6,E10<D10),ColTime(T.!$J$7,T.!$L$7,$AF$1,E10),IF(AND(E10<D10,OR(C10<>\"\",WEEKDAY(A10,2)=7)),ColTime(T.!J13,T.!L13,D10,$AF$1),IF(AND(E10<>\"\",OR(C10<>\"\",WEEKDAY(A10,2)=7)),ColTime(T.!$J$7,T.!$L$7,D10,E10),\"\")))))),\"\")","v":""},"",null,null,{"$f":"CHOOSE(WEEKDAY(A10,2),norm!C$1,norm!C$2,norm!C$3,norm!C$4,norm!C$5,norm!C$6,norm!C$7)","v":"07:30:00"},null,null,22,0,"22:00:00",7,0,"07:00:00"]
[{"$f":"A10+1","v":"2019-01-08"},{"$f":"PROPER(TEXT(A11,\"ddd\"))","v":"Ti"},{"$f":"HelligdagsNavn(A11,0,0)","v":""},"22:00:00","07:00:00",null,0.375,"01:30:00","",{"$f":"IF(AND(C11=\"\",WEEKDAY(A11,2)<6),ColTime(T.!$J$4,T.!$L$4,D11,E11),\"\")","v":"01:00:00"},null,{"$f":"IF(AND(OR(WEEKDAY(A11,2)=7,C11<>\"\"),E11<D11),ColTime($AF$1,$AG$1,'Hele året (2)'!$AF$1,E11),IF(WEEKDAY(A11,2)<6,ColTime(T.!$J$5,T.!$L$5,D11,E11),\"\"))","v":"07:00:00"},null,{"$f":"IF(WEEKDAY(A11,2)=6,ColTime(TIME(15,0,0),TIME(24,0,0),D11,E11),\"\")","v":""},{"$f":"IFERROR(IF(AND(WEEKDAY(A11,2)<6,C12<>\"\",C11=\"\"),ColTime(T.!$J$7,T.!$L$7,$AF$1,'Hele året (2)'!E11),IF(AND(C11<>\"\",C12<>\"\"),ColTime(T.!$J$7,T.!$L$7,'Hele året (2)'!D11,'Hele året (2)'!E11),IF(AND(OR(WEEKDAY(A11,2)<6,WEEKDAY(A11,2)=6),C11<>\"\",E11<D11),ColTime(T.!$J$7,T.!$L$7,D11,AF8),IF(AND(WEEKDAY(A11,2)=6,E11<D11),ColTime(T.!$J$7,T.!$L$7,$AF$1,E11),IF(AND(E11<D11,OR(C11<>\"\",WEEKDAY(A11,2)=7)),ColTime(T.!J14,T.!L14,D11,$AF$1),IF(AND(E11<>\"\",OR(C11<>\"\",WEEKDAY(A11,2)=7)),ColTime(T.!$J$7,T.!$L$7,D11,E11),\"\")))))),\"\")","v":""},"",null,null,{"$f":"CHOOSE(WEEKDAY(A11,2),norm!C$1,norm!C$2,norm!C$3,norm!C$4,norm!C$5,norm!C$6,norm!C$7)","v":"07:30:00"},null,null,22,0,"22:00:00",7,0,"07:00:00"]
[{"$f":"A11+1","v":"2019-01-09"},{"$f":"PROPER(TEXT(A12,\"ddd\"))","v":"On"},{"$f":"HelligdagsNavn(A12,0,0)","v":""},"22:00:00","07:00:00",null,0.375,"01:30:00","",{"$f":"IF(AND(C12=\"\",WEEKDAY(A12,2)<6),ColTime(T.!$J$4,T.!$L$4,D12,E12),\"\")","v":"01:00:00"},null,{"$f":"IF(AND(OR(WEEKDAY(A12,2)=7,C12<>\"\"),E12<D12),ColTime($AF$1,$AG$1,'Hele året (2)'!$AF$1,E12),IF(WEEKDAY(A12,2)<6,ColTime(T.!$J$5,T.!$L$5,D12,E12),\"\"))","v":"07:00:00"},null,"",{"$f":"IFERROR(IF(AND(WEEKDAY(A12,2)<6,C13<>\"\",C12=\"\"),ColTime(T.!$J$7,T.!$L$7,$AF$1,'Hele året (2)'!E12),IF(AND(C12<>\"\",C13<>\"\"),ColTime(T.!$J$7,T.!$L$7,'Hele året (2)'!D12,'Hele året (2)'!E12),IF(AND(OR(WEEKDAY(A12,2)<6,WEEKDAY(A12,2)=6),C12<>\"\",E12<D12),ColTime(T.!$J$7,T.!$L$7,D12,AF9),IF(AND(WEEKDAY(A12,2)=6,E12<D12),ColTime(T.!$J$7,T.!$L$7,$AF$1,E12),IF(AND(E12<D12,OR(C12<>\"\",WEEKDAY(A12,2)=7)),ColTime(T.!J15,T.!L15,D12,$AF$1),IF(AND(E12<>\"\",OR(C12<>\"\",WEEKDAY(A12,2)=7)),ColTime(T.!$J$7,T.!$L$7,D12,E12),\"\")))))),\"\")","v":""},"",null,null,{"$f":"CHOOSE(WEEKDAY(A12,2),norm!C$1,norm!C$2,norm!C$3,norm!C$4,norm!C$5,norm!C$6,norm!C$7)","v":"07:30:00"},null,null,22,0,"22:00:00",7,0,"07:00:00"]
[{"$f":"A12+1","v":"2019-01-10"},{"$f":"PROPER(TEXT(A13,\"ddd\"))","v":"To"},"","22:00:00","07:00:00",null,0.375,"01:30:00","",{"$f":"IF(AND(C13=\"\",WEEKDAY(A13,2)<6),ColTime(T.!$J$4,T.!$L$4,D13,E13),\"\")","v":"01:00:00"},null,{"$f":"IF(AND(OR(WEEKDAY(A13,2)=7,C13<>\"\"),E13<D13),ColTime($AF$1,$AG$1,'Hele året (2)'!$AF$1,E13),IF(WEEKDAY(A13,2)<6,ColTime(T.!$J$5,T.!$L$5,D13,E13),\"\"))","v":"07:00:00"},null,"",{"$f":"IFERROR(IF(AND(WEEKDAY(A13,2)<6,C14<>\"\",C13=\"\"),ColTime(T.!$J$7,T.!$L$7,$AF$1,'Hele året (2)'!E13),IF(AND(C13<>\"\",C14<>\"\"),ColTime(T.!$J$7,T.!$L$7,'Hele året (2)'!D13,'Hele året (2)'!E13),IF(AND(OR(WEEKDAY(A13,2)<6,WEEKDAY(A13,2)=6),C13<>\"\",E13<D13),ColTime(T.!$J$7,T.!$L$7,D13,AF10),IF(AND(WEEKDAY(A13,2)=6,E13<D13),ColTime(T.!$J$7,T.!$L$7,$AF$1,E13),IF(AND(E13<D13,OR(C13<>\"\",WEEKDAY(A13,2)=7)),ColTime(T.!J16,T.!L16,D13,$AF$1),IF(AND(E13<>\"\",OR(C13<>\"\",WEEKDAY(A13,2)=7)),ColTime(T.!$J$7,T.!$L$7,D13,E13),\"\")))))),\"\")","v":""},"",null,null,{"$f":"CHOOSE(WEEKDAY(A13,2),norm!C$1,norm!C$2,norm!C$3,norm!C$4,norm!C$5,norm!C$6,norm!C$7)","v":"07:30:00"},null,null,22,0,"22:00:00",7,0,"07:00:00"]
["2019-01-11","Fr","","22:00:00","07:00:00",null,0.375,"02:00:00","",{"$f":"IF(AND(C14=\"\",WEEKDAY(A14,2)<6),ColTime(T.!$J$4,T.!$L$4,D14,E14),\"\")","v":"01:00:00"},null,{"$f":"IF(AND(OR(WEEKDAY(A14,2)=7,C14<>\"\"),E14<D14),ColTime($AF$1,$AG$1,'Hele året (2)'!$AF$1,E14),IF(WEEKDAY(A14,2)<6,ColTime(T.!$J$5,T.!$L$5,D14,E14),\"\"))","v":"07:00:00"},null,"",{"$f":"IFERROR(IF(AND(WEEKDAY(A14,2)<6,C15<>\"\",C14=\"\"),ColTime(T.!$J$7,T.!$L$7,$AF$1,'Hele året (2)'!E14),IF(AND(C14<>\"\",C15<>\"\"),ColTime(T.!$J$7,T.!$L$7,'Hele året (2)'!D14,'Hele året (2)'!E14),IF(AND(OR(WEEKDAY(A14,2)<6,WEEKDAY(A14,2)=6),C14<>\"\",E14<D14),ColTime(T.!$J$7,T.!$L$7,D14,AF11),IF(AND(WEEKDAY(A14,2)=6,E14<D14),ColTime(T.!$J$7,T.!$L$7,$AF$1,E14),IF(AND(E14<D14,OR(C14<>\"\",WEEKDAY(A14,2)=7)),ColTime(T.!J17,T.!L17,D14,$AF$1),IF(AND(E14<>\"\",OR(C14<>\"\",WEEKDAY(A14,2)=7)),ColTime(T.!$J$7,T.!$L$7,D14,E14),\"\")))))),\"\")","v":""},"",null,null,{"$f":"CHOOSE(WEEKDAY(A14,2),norm!C$1,norm!C$2,norm!C$3,norm!C$4,norm!C$5,norm!C$6,norm!C$7)","v":"07:00:00"},null,null,22,0,"22:00:00",7,0,"07:00:00"]
["2019-01-12","Lø","","22:00:00","07:00:00",null,0.375,"03:00:00","06:00:00",{"$f":"IF(AND(C15=\"\",WEEKDAY(A15,2)<6),ColTime(T.!$J$4,T.!$L$4,D15,E15),\"\")","v":""},null,{"$f":"IF(AND(OR(WEEKDAY(A15,2)=7,C15<>\"\"),E15<D15),ColTime($AF$1,$AG$1,'Hele året (2)'!$AF$1,E15),IF(WEEKDAY(A15,2)<6,ColTime(T.!$J$5,T.!$L$5,D15,E15),\"\"))","v":""},null,"02:00:00",{"$f":"IFERROR(IF(AND(WEEKDAY(A15,2)<6,C16<>\"\",C15=\"\"),ColTime(T.!$J$7,T.!$L$7,$AF$1,'Hele året (2)'!E15),IF(AND(C15<>\"\",C16<>\"\"),ColTime(T.!$J$7,T.!$L$7,'Hele året (2)'!D15,'Hele året (2)'!E15),IF(AND(OR(WEEKDAY(A15,2)<6,WEEKDAY(A15,2)=6),C15<>\"\",E15<D15),ColTime(T.!$J$7,T.!$L$7,D15,AF12),IF(AND(WEEKDAY(A15,2)=6,E15<D15),ColTime(T.!$J$7,T.!$L$7,$AF$1,E15),IF(AND(E15<D15,OR(C15<>\"\",WEEKDAY(A15,2)=7)),ColTime(T.!J18,T.!L18,D15,$AF$1),IF(AND(E15<>\"\",OR(C15<>\"\",WEEKDAY(A15,2)=7)),ColTime(T.!$J$7,T.!$L$7,D15,E15),\"\")))))),\"\")","v":"07:00:00"},"09:00:00",null,null,{"$f":"CHOOSE(WEEKDAY(A15,2),norm!C$1,norm!C$2,norm!C$3,norm!C$4,norm!C$5,norm!C$6,norm!C$7)","v":"00:00:00"},null,null,22,0,"22:00:00",7,0,"07:00:00"]
["2019-01-13","Sø","","19:00:00","07:00:00",null,0.5,"00:00:00","12:00:00",{"$f":"IF(AND(C16=\"\",WEEKDAY(A16,2)<6),ColTime(T.!$J$4,T.!$L$4,D16,E16),\"\")","v":""},null,{"$f":"IF(AND(OR(WEEKDAY(A16,2)=7,C16<>\"\"),E16<D16),ColTime($AF$1,$AG$1,'Hele året (2)'!$AF$1,E16),IF(WEEKDAY(A16,2)<6,ColTime(T.!$J$5,T.!$L$5,D16,E16),\"\"))","v":"06:00:00"},null,"",{"$f":"IFERROR(IF(AND(WEEKDAY(A16,2)<6,C17<>\"\",C16=\"\"),ColTime(T.!$J$7,T.!$L$7,$AF$1,'Hele året (2)'!E16),IF(AND(C16<>\"\",C17<>\"\"),ColTime(T.!$J$7,T.!$L$7,'Hele året (2)'!D16,'Hele året (2)'!E16),IF(AND(OR(WEEKDAY(A16,2)<6,WEEKDAY(A16,2)=6),C16<>\"\",E16<D16),ColTime(T.!$J$7,T.!$L$7,D16,AF13),IF(AND(WEEKDAY(A16,2)=6,E16<D16),ColTime(T.!$J$7,T.!$L$7,$AF$1,E16),IF(AND(E16<D16,OR(C16<>\"\",WEEKDAY(A16,2)=7)),ColTime(T.!J19,T.!L19,D16,$AF$1),IF(AND(E16<>\"\",OR(C16<>\"\",WEEKDAY(A16,2)=7)),ColTime(T.!$J$7,T.!$L$7,D16,E16),\"\")))))),\"\")","v":"05:00:00"},"12:00:00",null,null,{"$f":"CHOOSE(WEEKDAY(A16,2),norm!C$1,norm!C$2,norm!C$3,norm!C$4,norm!C$5,norm!C$6,norm!C$7)","v":"00:00:00"},null,null,19,0,"19:00:00",7,0,"07:00:00"]
["2019-01-14","Ma","",null,null,null,"",{"$f":"IF(G17=\"\",0,IF(WEEKDAY(A17,2)=7,0,IF(G17>S17,MIN(G17-S17,$AI$1),0)))","v":"00:00:00"},"",{"$f":"IF(AND(C17=\"\",WEEKDAY(A17,2)<6),ColTime(T.!$J$4,T.!$L$4,D17,E17),\"\")","v":"00:00:00"},null,{"$f":"IF(AND(OR(WEEKDAY(A17,2)=7,C17<>\"\"),E17<D17),ColTime($AF$1,$AG$1,'Hele året (2)'!$AF$1,E17),IF(WEEKDAY(A17,2)<6,ColTime(T.!$J$5,T.!$L$5,D17,E17),\"\"))","v":"00:00:00"},null,"",{"$f":"IFERROR(IF(AND(WEEKDAY(A17,2)<6,C18<>\"\",C17=\"\"),ColTime(T.!$J$7,T.!$L$7,$AF$1,'Hele året (2)'!E17),IF(AND(C17<>\"\",C18<>\"\"),ColTime(T.!$J$7,T.!$L$7,'Hele året (2)'!D17,'Hele året (2)'!E17),IF(AND(OR(WEEKDAY(A17,2)<6,WEEKDAY(A17,2)=6),C17<>\"\",E17<D17),ColTime(T.!$J$7,T.!$L$7,D17,AF14),IF(AND(WEEKDAY(A17,2)=6,E17<D17),ColTime(T.!$J$7,T.!$L$7,$AF$1,E17),IF(AND(E17<D17,OR(C17<>\"\",WEEKDAY(A17,2)=7)),ColTime(T.!J20,T.!L20,D17,$AF$1),IF(AND(E17<>\"\",OR(C17<>\"\",WEEKDAY(A17,2)=7)),ColTime(T.!$J$7,T.!$L$7,D17,E17),\"\")))))),\"\")","v":""},"",null,null,{"$f":"CHOOSE(WEEKDAY(A17,2),norm!C$1,norm!C$2,norm!C$3,norm!C$4,norm!C$5,norm!C$6,norm!C$7)","v":"07:30:00"},null,null,"","","","","",""]
[{"$f":"A17+1","v":"2019-01-15"},{"$f":"PROPER(TEXT(A18,\"ddd\"))","v":"Ti"},{"$f":"HelligdagsNavn(A18,0,0)","v":""},"08:00:00","16:00:00",null,0.33333333333333331,"00:30:00","",{"$f":"IF(AND(C18=\"\",WEEKDAY(A18,2)<6),ColTime(T.!$J$4,T.!$L$4,D18,E18),\"\")","v":"00:00:00"},null,{"$f":"IF(AND(OR(WEEKDAY(A18,2)=7,C18<>\"\"),E18<D18),ColTime($AF$1,$AG$1,'Hele året (2)'!$AF$1,E18),IF(WEEKDAY(A18,2)<6,ColTime(T.!$J$5,T.!$L$5,D18,E18),\"\"))","v":"00:00:00"},null,"",{"$f":"IFERROR(IF(AND(WEEKDAY(A18,2)<6,C19<>\"\",C18=\"\"),ColTime(T.!$J$7,T.!$L$7,$AF$1,'Hele året (2)'!E18),IF(AND(C18<>\"\",C19<>\"\"),ColTime(T.!$J$7,T.!$L$7,'Hele året (2)'!D18,'Hele året (2)'!E18),IF(AND(OR(WEEKDAY(A18,2)<6,WEEKDAY(A18,2)=6),C18<>\"\",E18<D18),ColTime(T.!$J$7,T.!$L$7,D18,AF15),IF(AND(WEEKDAY(A18,2)=6,E18<D18),ColTime(T.!$J$7,T.!$L$7,$AF$1,E18),IF(AND(E18<D18,OR(C18<>\"\",WEEKDAY(A18,2)=7)),ColTime(T.!J21,T.!L21,D18,$AF$1),IF(AND(E18<>\"\",OR(C18<>\"\",WEEKDAY(A18,2)=7)),ColTime(T.!$J$7,T.!$L$7,D18,E18),\"\")))))),\"\")","v":""},"",null,null,{"$f":"CHOOSE(WEEKDAY(A18,2),norm!C$1,norm!C$2,norm!C$3,norm!C$4,norm!C$5,norm!C$6,norm!C$7)","v":"07:30:00"},null,null,8,0,"08:00:00",16,0,"16:00:00"]
[{"$f":"A18+1","v":"2019-01-16"},{"$f":"PROPER(TEXT(A19,\"ddd\"))","v":"On"},{"$f":"HelligdagsNavn(A19,0,0)","v":""},null,null,null,"","00:00:00","",{"$f":"IF(AND(C19=\"\",WEEKDAY(A19,2)<6),ColTime(T.!$J$4,T.!$L$4,D19,E19),\"\")","v":"00:00:00"},null,{"$f":"IF(AND(OR(WEEKDAY(A19,2)=7,C19<>\"\"),E19<D19),ColTime($AF$1,$AG$1,'Hele året (2)'!$AF$1,E19),IF(WEEKDAY(A19,2)<6,ColTime(T.!$J$5,T.!$L$5,D19,E19),\"\"))","v":"00:00:00"},null,"",{"$f":"IFERROR(IF(AND(WEEKDAY(A19,2)<6,C20<>\"\",C19=\"\"),ColTime(T.!$J$7,T.!$L$7,$AF$1,'Hele året (2)'!E19),IF(AND(C19<>\"\",C20<>\"\"),ColTime(T.!$J$7,T.!$L$7,'Hele året (2)'!D19,'Hele året (2)'!E19),IF(AND(OR(WEEKDAY(A19,2)<6,WEEKDAY(A19,2)=6),C19<>\"\",E19<D19),ColTime(T.!$J$7,T.!$L$7,D19,AF16),IF(AND(WEEKDAY(A19,2)=6,E19<D19),ColTime(T.!$J$7,T.!$L$7,$AF$1,E19),IF(AND(E19<D19,OR(C19<>\"\",WEEKDAY(A19,2)=7)),ColTime(T.!J22,T.!L22,D19,$AF$1),IF(AND(E19<>\"\",OR(C19<>\"\",WEEKDAY(A19,2)=7)),ColTime(T.!$J$7,T.!$L$7,D19,E19),\"\")))))),\"\")","v":""},"",null,null,{"$f":"CHOOSE(WEEKDAY(A19,2),norm!C$1,norm!C$2,norm!C$3,norm!C$4,norm!C$5,norm!C$6,norm!C$7)","v":"07:30:00"},null,null,"","","","","",""]
[{"$f":"A19+1","v":"2019-01-17"},{"$f":"PROPER(TEXT(A20,\"ddd\"))","v":"To"},"",null,null,null,"","00:00:00","",{"$f":"IF(AND(C20=\"\",WEEKDAY(A20,2)<6),ColTime(T.!$J$4,T.!$L$4,D20,E20),\"\")","v":"00:00:00"},null,{"$f":"IF(AND(OR(WEEKDAY(A20,2)=7,C20<>\"\"),E20<D20),ColTime($AF$1,$AG$1,'Hele året (2)'!$AF$1,E20),IF(WEEKDAY(A20,2)<6,ColTime(T.!$J$5,T.!$L$5,D20,E20),\"\"))","v":"00:00:00"},null,"",{"$f":"IFERROR(IF(AND(WEEKDAY(A20,2)<6,C21<>\"\",C20=\"\"),ColTime(T.!$J$7,T.!$L$7,$AF$1,'Hele året (2)'!E20),IF(AND(C20<>\"\",C21<>\"\"),ColTime(T.!$J$7,T.!$L$7,'Hele året (2)'!D20,'Hele året (2)'!E20),IF(AND(OR(WEEKDAY(A20,2)<6,WEEKDAY(A20,2)=6),C20<>\"\",E20<D20),ColTime(T.!$J$7,T.!$L$7,D20,AF17),IF(AND(WEEKDAY(A20,2)=6,E20<D20),ColTime(T.!$J$7,T.!$L$7,$AF$1,E20),IF(AND(E20<D20,OR(C20<>\"\",WEEKDAY(A20,2)=7)),ColTime(T.!J23,T.!L23,D20,$AF$1),IF(AND(E20<>\"\",OR(C20<>\"\",WEEKDAY(A20,2)=7)),ColTime(T.!$J$7,T.!$L$7,D20,E20),\"\")))))),\"\")","v":""},"",null,null,{"$f":"CHOOSE(WEEKDAY(A20,2),norm!C$1,norm!C$2,norm!C$3,norm!C$4,norm!C$5,norm!C$6,norm!C$7)","v":"07:30:00"},null,null,"","","","","",""]
["2019-01-18","Fr","",null,null,null,"","00:00:00","",{"$f":"IF(AND(C21=\"\",WEEKDAY(A21,2)<6),ColTime(T.!$J$4,T.!$L$4,D21,E21),\"\")","v":"00:00:00"},null,{"$f":"IF(AND(OR(WEEKDAY(A21,2)=7,C21<>\"\"),E21<D21),ColTime($AF$1,$AG$1,'Hele året (2)'!$AF$1,E21),IF(WEEKDAY(A21,2)<6,ColTime(T.!$J$5,T.!$L$5,D21,E21),\"\"))","v":"00:00:00"},null,"",{"$f":"IFERROR(IF(AND(WEEKDAY(A21,2)<6,C22<>\"\",C21=\"\"),ColTime(T.!$J$7,T.!$L$7,$AF$1,'Hele året (2)'!E21),IF(AND(C21<>\"\",C22<>\"\"),ColTime(T.!$J$7,T.!$L$7,'Hele året (2)'!D21,'Hele året (2)'!E21),IF(AND(OR(WEEKDAY(A21,2)<6,WEEKDAY(A21,2)=6),C21<>\"\",E21<D21),ColTime(T.!$J$7,T.!$L$7,D21,AF18),IF(AND(WEEKDAY(A21,2)=6,E21<D21),ColTime(T.!$J$7,T.!$L$7,$AF$1,E21),IF(AND(E21<D21,OR(C21<>\"\",WEEKDAY(A21,2)=7)),ColTime(T.!J24,T.!L24,D21,$AF$1),IF(AND(E21<>\"\",OR(C21<>\"\",WEEKDAY(A21,2)=7)),ColTime(T.!$J$7,T.!$L$7,D21,E21),\"\")))))),\"\")","v":""},"",null,null,{"$f":"CHOOSE(WEEKDAY(A21,2),norm!C$1,norm!C$2,norm!C$3,norm!C$4,norm!C$5,norm!C$6,norm!C$7)","v":"07:00:00"},null,null,"","","","","",""]
["2019-01-19","Lø","",null,null,null,"","00:00:00","",{"$f":"IF(AND(C22=\"\",WEEKDAY(A22,2)<6),ColTime(T.!$J$4,T.!$L$4,D22,E22),\"\")","v":""},null,{"$f":"IF(AND(OR(WEEKDAY(A22,2)=7,C22<>\"\"),E22<D22),ColTime($AF$1,$AG$1,'Hele året (2)'!$AF$1,E22),IF(WEEKDAY(A22,2)<6,ColTime(T.!$J$5,T.!$L$5,D22,E22),\"\"))","v":""},null,"00:00:00",{"$f":"IFERROR(IF(AND(WEEKDAY(A22,2)<6,C23<>\"\",C22=\"\"),ColTime(T.!$J$7,T.!$L$7,$AF$1,'Hele året (2)'!E22),IF(AND(C22<>\"\",C23<>\"\"),ColTime(T.!$J$7,T.!$L$7,'Hele året (2)'!D22,'Hele året (2)'!E22),IF(AND(OR(WEEKDAY(A22,2)<6,WEEKDAY(A22,2)=6),C22<>\"\",E22<D22),ColTime(T.!$J$7,T.!$L$7,D22,AF19),IF(AND(WEEKDAY(A22,2)=6,E22<D22),ColTime(T.!$J$7,T.!$L$7,$AF$1,E22),IF(AND(E22<D22,OR(C22<>\"\",WEEKDAY(A22,2)=7)),ColTime(T.!J25,T.!L25,D22,$AF$1),IF(AND(E22<>\"\",OR(C22<>\"\",WEEKDAY(A22,2)=7)),ColTime(T.!$J$7,T.!$L$7,D22,E22),\"\")))))),\"\")","v":""},"",null,null,{"$f":"CHOOSE(WEEKDAY(A22,2),norm!C$1,norm!C$2,norm!C$3,norm!C$4,norm!C$5,norm!C$6,norm!C$7)","v":"00:00:00"},null,null,"","","","","",""]
["2019-01-20","Sø","","16:00:00","20:00:00",null,0.16666666666666674,"00:00:00","04:00:00",{"$f":"IF(AND(C23=\"\",WEEKDAY(A23,2)<6),ColTime(T.!$J$4,T.!$L$4,D23,E23),\"\")","v":""},null,{"$f":"IF(AND(OR(WEEKDAY(A23,2)=7,C23<>\"\"),E23<D23),ColTime($AF$1,$AG$1,'Hele året (2)'!$AF$1,E23),IF(WEEKDAY(A23,2)<6,ColTime(T.!$J$5,T.!$L$5,D23,E23),\"\"))","v":""},null,"",{"$f":"IFERROR(IF(AND(WEEKDAY(A23,2)<6,C24<>\"\",C23=\"\"),ColTime(T.!$J$7,T.!$L$7,$AF$1,'Hele året (2)'!E23),IF(AND(C23<>\"\",C24<>\"\"),ColTime(T.!$J$7,T.!$L$7,'Hele året (2)'!D23,'Hele året (2)'!E23),IF(AND(OR(WEEKDAY(A23,2)<6,WEEKDAY(A23,2)=6),C23<>\"\",E23<D23),ColTime(T.!$J$7,T.!$L$7,D23,AF20),IF(AND(WEEKDAY(A23,2)=6,E23<D23),ColTime(T.!$J$7,T.!$L$7,$AF$1,E23),IF(AND(E23<D23,OR(C23<>\"\",WEEKDAY(A23,2)=7)),ColTime(T.!J26,T.!L26,D23,$AF$1),IF(AND(E23<>\"\",OR(C23<>\"\",WEEKDAY(A23,2)=7)),ColTime(T.!$J$7,T.!$L$7,D23,E23),\"\")))))),\"\")","v":"04:00:00"},"04:00:00",null,null,{"$f":"CHOOSE(WEEKDAY(A23,2),norm!C$1,norm!C$2,norm!C$3,norm!C$4,norm!C$5,norm!C$6,norm!C$7)","v":"00:00:00"},null,null,16,0,"16:00:00",20,0,"20:00:00"]
["2019-01-21","Ma","",null,null,null,"","00:00:00","",{"$f":"IF(AND(C24=\"\",WEEKDAY(A24,2)<6),ColTime(T.!$J$4,T.!$L$4,D24,E24),\"\")","v":"00:00:00"},null,{"$f":"IF(AND(OR(WEEKDAY(A24,2)=7,C24<>\"\"),E24<D24),ColTime($AF$1,$AG$1,'Hele året (2)'!$AF$1,E24),IF(WEEKDAY(A24,2)<6,ColTime(T.!$J$5,T.!$L$5,D24,E24),\"\"))","v":"00:00:00"},null,"",{"$f":"IFERROR(IF(AND(WEEKDAY(A24,2)<6,C25<>\"\",C24=\"\"),ColTime(T.!$J$7,T.!$L$7,$AF$1,'Hele året (2)'!E24),IF(AND(C24<>\"\",C25<>\"\"),ColTime(T.!$J$7,T.!$L$7,'Hele året (2)'!D24,'Hele året (2)'!E24),IF(AND(OR(WEEKDAY(A24,2)<6,WEEKDAY(A24,2)=6),C24<>\"\",E24<D24),ColTime(T.!$J$7,T.!$L$7,D24,AF21),IF(AND(WEEKDAY(A24,2)=6,E24<D24),ColTime(T.!$J$7,T.!$L$7,$AF$1,E24),IF(AND(E24<D24,OR(C24<>\"\",WEEKDAY(A24,2)=7)),ColTime(T.!J27,T.!L27,D24,$AF$1),IF(AND(E24<>\"\",OR(C24<>\"\",WEEKDAY(A24,2)=7)),ColTime(T.!$J$7,T.!$L$7,D24,E24),\"\")))))),\"\")","v":""},"",null,null,{"$f":"CHOOSE(WEEKDAY(A24,2),norm!C$1,norm!C$2,norm!C$3,norm!C$4,norm!C$5,norm!C$6,norm!C$7)","v":"07:30:00"},null,null,"","","","","",""]
[{"$f":"A24+1","v":"2019-01-22"},{"$f":"PROPER(TEXT(A25,\"ddd\"))","v":"Ti"},{"$f":"HelligdagsNavn(A25,0,0)","v":""},null,null,null,"","00:00:00","",{"$f":"IF(AND(C25=\"\",WEEKDAY(A25,2)<6),ColTime(T.!$J$4,T.!$L$4,D25,E25),\"\")","v":"00:00:00"},null,{"$f":"IF(AND(OR(WEEKDAY(A25,2)=7,C25<>\"\"),E25<D25),ColTime($AF$1,$AG$1,'Hele året (2)'!$AF$1,E25),IF(WEEKDAY(A25,2)<6,ColTime(T.!$J$5,T.!$L$5,D25,E25),\"\"))","v":"00:00:00"},null,"",{"$f":"IFERROR(IF(AND(WEEKDAY(A25,2)<6,C26<>\"\",C25=\"\"),ColTime(T.!$J$7,T.!$L$7,$AF$1,'Hele året (2)'!E25),IF(AND(C25<>\"\",C26<>\"\"),ColTime(T.!$J$7,T.!$L$7,'Hele året (2)'!D25,'Hele året (2)'!E25),IF(AND(OR(WEEKDAY(A25,2)<6,WEEKDAY(A25,2)=6),C25<>\"\",E25<D25),ColTime(T.!$J$7,T.!$L$7,D25,AF22),IF(AND(WEEKDAY(A25,2)=6,E25<D25),ColTime(T.!$J$7,T.!$L$7,$AF$1,E25),IF(AND(E25<D25,OR(C25<>\"\",WEEKDAY(A25,2)=7)),ColTime(T.!J28,T.!L28,D25,$AF$1),IF(AND(E25<>\"\",OR(C25<>\"\",WEEKDAY(A25,2)=7)),ColTime(T.!$J$7,T.!$L$7,D25,E25),\"\")))))),\"\")","v":""},"",null,null,{"$f":"CHOOSE(WEEKDAY(A25,2),norm!C$1,norm!C$2,norm!C$3,norm!C$4,norm!C$5,norm!C$6,norm!C$7)","v":"07:30:00"},null,null,"","","","","",""]
[{"$f":"A25+1","v":"2019-01-23"},{"$f":"PROPER(TEXT(A26,\"ddd\"))","v":"On"},{"$f":"HelligdagsNavn(A26,0,0)","v":""},null,null,null,"","00:00:00","",{"$f":"IF(AND(C26=\"\",WEEKDAY(A26,2)<6),ColTime(T.!$J$4,T.!$L$4,D26,E26),\"\")","v":"00:00:00"},null,{"$f":"IF(AND(OR(WEEKDAY(A26,2)=7,C26<>\"\"),E26<D26),ColTime($AF$1,$AG$1,'Hele året (2)'!$AF$1,E26),IF(WEEKDAY(A26,2)<6,ColTime(T.!$J$5,T.!$L$5,D26,E26),\"\"))","v":"00:00:00"},null,"",{"$f":"IFERROR(IF(AND(WEEKDAY(A26,2)<6,C27<>\"\",C26=\"\"),ColTime(T.!$J$7,T.!$L$7,$AF$1,'Hele året (2)'!E26),IF(AND(C26<>\"\",C27<>\"\"),ColTime(T.!$J$7,T.!$L$7,'Hele året (2)'!D26,'Hele året (2)'!E26),IF(AND(OR(WEEKDAY(A26,2)<6,WEEKDAY(A26,2)=6),C26<>\"\",E26<D26),ColTime(T.!$J$7,T.!$L$7,D26,AF23),IF(AND(WEEKDAY(A26,2)=6,E26<D26),ColTime(T.!$J$7,T.!$L$7,$AF$1,E26),IF(AND(E26<D26,OR(C26<>\"\",WEEKDAY(A26,2)=7)),ColTime(T.!J29,T.!L29,D26,$AF$1),IF(AND(E26<>\"\",OR(C26<>\"\",WEEKDAY(A26,2)=7)),ColTime(T.!$J$7,T.!$L$7,D26,E26),\"\")))))),\"\")","v":""},"",null,null,{"$f":"CHOOSE(WEEKDAY(A26,2),norm!C$1,norm!C$2,norm!C$3,norm!C$4,norm!C$5,norm!C$6,norm!C$7)","v":"07:30:00"},null,null,"","","","","",""]
[{"$f":"A26+1","v":"2019-01-24"},{"$f":"PROPER(TEXT(A27,\"ddd\"))","v":"To"},"",null,null,null,"","00:00:00","",{"$f":"IF(AND(C27=\"\",WEEKDAY(A27,2)<6),ColTime(T.!$J$4,T.!$L$4,D27,E27),\"\")","v":"00:00:00"},null,{"$f":"IF(AND(OR(WEEKDAY(A27,2)=7,C27<>\"\"),E27<D27),ColTime($AF$1,$AG$1,'Hele året (2)'!$AF$1,E27),IF(WEEKDAY(A27,2)<6,ColTime(T.!$J$5,T.!$L$5,D27,E27),\"\"))","v":"00:00:00"},null,"",{"$f":"IFERROR(IF(AND(WEEKDAY(A27,2)<6,C28<>\"\",C27=\"\"),ColTime(T.!$J$7,T.!$L$7,$AF$1,'Hele året (2)'!E27),IF(AND(C27<>\"\",C28<>\"\"),ColTime(T.!$J$7,T.!$L$7,'Hele året (2)'!D27,'Hele året (2)'!E27),IF(AND(OR(WEEKDAY(A27,2)<6,WEEKDAY(A27,2)=6),C27<>\"\",E27<D27),ColTime(T.!$J$7,T.!$L$7,D27,AF24),IF(AND(WEEKDAY(A27,2)=6,E27<D27),ColTime(T.!$J$7,T.!$L$7,$AF$1,E27),IF(AND(E27<D27,OR(C27<>\"\",WEEKDAY(A27,2)=7)),ColTime(T.!J30,T.!L30,D27,$AF$1),IF(AND(E27<>\"\",OR(C27<>\"\",WEEKDAY(A27,2)=7)),ColTime(T.!$J$7,T.!$L$7,D27,E27),\"\")))))),\"\")","v":""},"",null,null,{"$f":"CHOOSE(WEEKDAY(A27,2),norm!C$1,norm!C$2,norm!C$3,norm!C$4,norm!C$5,norm!C$6,norm!C$7)","v":"07:30:00"},null,null,"","","","","",""]
["2019-01-25","Fr","",null,null,null,"","00:00:00","",{"$f":"IF(AND(C28=\"\",WEEKDAY(A28,2)<6),ColTime(T.!$J$4,T.!$L$4,D28,E28),\"\")","v":"00:00:00"},null,{"$f":"IF(AND(OR(WEEKDAY(A28,2)=7,C28<>\"\"),E28<D28),ColTime($AF$1,$AG$1,'Hele året (2)'!$AF$1,E28),IF(WEEKDAY(A28,2)<6,ColTime(T.!$J$5,T.!$L$5,D28,E28),\"\"))","v":"00:00:00"},null,"",{"$f":"IFERROR(IF(AND(WEEKDAY(A28,2)<6,C29<>\"\",C28=\"\"),ColTime(T.!$J$7,T.!$L$7,$AF$1,'Hele året (2)'!E28),IF(AND(C28<>\"\",C29<>\"\"),ColTime(T.!$J$7,T.!$L$7,'Hele året (2)'!D28,'Hele året (2)'!E28),IF(AND(OR(WEEKDAY(A28,2)<6,WEEKDAY(A28,2)=6),C28<>\"\",E28<D28),ColTime(T.!$J$7,T.!$L$7,D28,AF25),IF(AND(WEEKDAY(A28,2)=6,E28<D28),ColTime(T.!$J$7,T.!$L$7,$AF$1,E28),IF(AND(E28<D28,OR(C28<>\"\",WEEKDAY(A28,2)=7)),ColTime(T.!J31,T.!L31,D28,$AF$1),IF(AND(E28<>\"\",OR(C28<>\"\",WEEKDAY(A28,2)=7)),ColTime(T.!$J$7,T.!$L$7,D28,E28),\"\")))))),\"\")","v":""},"",null,null,{"$f":"CHOOSE(WEEKDAY(A28,2),norm!C$1,norm!C$2,norm!C$3,norm!C$4,norm!C$5,norm!C$6,norm!C$7)","v":"07:00:00"},null,null,"","","","","",""]
["2019-01-26","Lø","",null,null,null,"","00:00:00","",{"$f":"IF(AND(C29=\"\",WEEKDAY(A29,2)<6),ColTime(T.!$J$4,T.!$L$4,D29,E29),\"\")","v":""},null,{"$f":"IF(AND(OR(WEEKDAY(A29,2)=7,C29<>\"\"),E29<D29),ColTime($AF$1,$AG$1,'Hele året (2)'!$AF$1,E29),IF(WEEKDAY(A29,2)<6,ColTime(T.!$J$5,T.!$L$5,D29,E29),\"\"))","v":""},null,"00:00:00",{"$f":"IFERROR(IF(AND(WEEKDAY(A29,2)<6,C30<>\"\",C29=\"\"),ColTime(T.!$J$7,T.!$L$7,$AF$1,'Hele året (2)'!E29),IF(AND(C29<>\"\",C30<>\"\"),ColTime(T.!$J$7,T.!$L$7,'Hele året (2)'!D29,'Hele året (2)'!E29),IF(AND(OR(WEEKDAY(A29,2)<6,WEEKDAY(A29,2)=6),C29<>\"\",E29<D29),ColTime(T.!$J$7,T.!$L$7,D29,AF26),IF(AND(WEEKDAY(A29,2)=6,E29<D29),ColTime(T.!$J$7,T.!$L$7,$AF$1,E29),IF(AND(E29<D29,OR(C29<>\"\",WEEKDAY(A29,2)=7)),ColTime(T.!J32,T.!L32,D29,$AF$1),IF(AND(E29<>\"\",OR(C29<>\"\",WEEKDAY(A29,2)=7)),ColTime(T.!$J$7,T.!$L$7,D29,E29),\"\")))))),\"\")","v":""},"",null,null,{"$f":"CHOOSE(WEEKDAY(A29,2),norm!C$1,norm!C$2,norm!C$3,norm!C$4,norm!C$5,norm!C$6,norm!C$7)","v":"00:00:00"}]
["2019-01-27","Sø","",null,null,null,"","00:00:00","",{"$f":"IF(AND(C30=\"\",WEEKDAY(A30,2)<6),ColTime(T.!$J$4,T.!$L$4,D30,E30),\"\")","v":""},null,{"$f":"IF(AND(OR(WEEKDAY(A30,2)=7,C30<>\"\"),E30<D30),ColTime($AF$1,$AG$1,'Hele året (2)'!$AF$1,E30),IF(WEEKDAY(A30,2)<6,ColTime(T.!$J$5,T.!$L$5,D30,E30),\"\"))","v":""},null,"",{"$f":"IFERROR(IF(AND(WEEKDAY(A30,2)<6,C31<>\"\",C30=\"\"),ColTime(T.!$J$7,T.!$L$7,$AF$1,'Hele året (2)'!E30),IF(AND(C30<>\"\",C31<>\"\"),ColTime(T.!$J$7,T.!$L$7,'Hele året (2)'!D30,'Hele året (2)'!E30),IF(AND(OR(WEEKDAY(A30,2)<6,WEEKDAY(A30,2)=6),C30<>\"\",E30<D30),ColTime(T.!$J$7,T.!$L$7,D30,AF27),IF(AND(WEEKDAY(A30,2)=6,E30<D30),ColTime(T.!$J$7,T.!$L$7,$AF$1,E30),IF(AND(E30<D30,OR(C30<>\"\",WEEKDAY(A30,2)=7)),ColTime(T.!J33,T.!L33,D30,$AF$1),IF(AND(E30<>\"\",OR(C30<>\"\",WEEKDAY(A30,2)=7)),ColTime(T.!$J$7,T.!$L$7,D30,E30),\"\")))))),\"\")","v":""},"",null,null,{"$f":"CHOOSE(WEEKDAY(A30,2),norm!C$1,norm!C$2,norm!C$3,norm!C$4,norm!C$5,norm!C$6,norm!C$7)","v":"00:00:00"}]
["2019-01-28","Ma","",null,null,null,"","00:00:00","",{"$f":"IF(AND(C31=\"\",WEEKDAY(A31,2)<6),ColTime(T.!$J$4,T.!$L$4,D31,E31),\"\")","v":"00:00:00"},null,{"$f":"IF(AND(OR(WEEKDAY(A31,2)=7,C31<>\"\"),E31<D31),ColTime($AF$1,$AG$1,'Hele året (2)'!$AF$1,E31),IF(WEEKDAY(A31,2)<6,ColTime(T.!$J$5,T.!$L$5,D31,E31),\"\"))","v":"00:00:00"},null,"",{"$f":"IFERROR(IF(AND(WEEKDAY(A31,2)<6,C32<>\"\",C31=\"\"),ColTime(T.!$J$7,T.!$L$7,$AF$1,'Hele året (2)'!E31),IF(AND(C31<>\"\",C32<>\"\"),ColTime(T.!$J$7,T.!$L$7,'Hele året (2)'!D31,'Hele året (2)'!E31),IF(AND(OR(WEEKDAY(A31,2)<6,WEEKDAY(A31,2)=6),C31<>\"\",E31<D31),ColTime(T.!$J$7,T.!$L$7,D31,AF28),IF(AND(WEEKDAY(A31,2)=6,E31<D31),ColTime(T.!$J$7,T.!$L$7,$AF$1,E31),IF(AND(E31<D31,OR(C31<>\"\",WEEKDAY(A31,2)=7)),ColTime(T.!J34,T.!L34,D31,$AF$1),IF(AND(E31<>\"\",OR(C31<>\"\",WEEKDAY(A31,2)=7)),ColTime(T.!$J$7,T.!$L$7,D31,E31),\"\")))))),\"\")","v":""},"",null,null,{"$f":"CHOOSE(WEEKDAY(A31,2),norm!C$1,norm!C$2,norm!C$3,norm!C$4,norm!C$5,norm!C$6,norm!C$7)","v":"07:30:00"}]
["2019-01-29","Ti",{"$f":"IF(A32=\"\",\"\",HelligdagsNavn(A32,0,0))","v":""},null,null,null,"","00:00:00","",{"$f":"IF(AND(C32=\"\",WEEKDAY(A32,2)<6),ColTime(T.!$J$4,T.!$L$4,D32,E32),\"\")","v":"00:00:00"},null,{"$f":"IF(AND(OR(WEEKDAY(A32,2)=7,C32<>\"\"),E32<D32),ColTime($AF$1,$AG$1,'Hele året (2)'!$AF$1,E32),IF(WEEKDAY(A32,2)<6,ColTime(T.!$J$5,T.!$L$5,D32,E32),\"\"))","v":"00:00:00"},null,"",{"$f":"IFERROR(IF(AND(WEEKDAY(A32,2)<6,C33<>\"\",C32=\"\"),ColTime(T.!$J$7,T.!$L$7,$AF$1,'Hele året (2)'!E32),IF(AND(C32<>\"\",C33<>\"\"),ColTime(T.!$J$7,T.!$L$7,'Hele året (2)'!D32,'Hele året (2)'!E32),IF(AND(OR(WEEKDAY(A32,2)<6,WEEKDAY(A32,2)=6),C32<>\"\",E32<D32),ColTime(T.!$J$7,T.!$L$7,D32,AF29),IF(AND(WEEKDAY(A32,2)=6,E32<D32),ColTime(T.!$J$7,T.!$L$7,$AF$1,E32),IF(AND(E32<D32,OR(C32<>\"\",WEEKDAY(A32,2)=7)),ColTime(T.!J35,T.!L35,D32,$AF$1),IF(AND(E32<>\"\",OR(C32<>\"\",WEEKDAY(A32,2)=7)),ColTime(T.!$J$7,T.!$L$7,D32,E32),\"\")))))),\"\")","v":""},"",null,null,{"$f":"IFERROR(CHOOSE(WEEKDAY(A32,2),norm!C$1,norm!C$2,norm!C$3,norm!C$4,norm!C$5,norm!C$6,norm!C$7),\"\")","v":"07:30:00"}]
["2019-01-30","On","",null,null,null,"","00:00:00","",{"$f":"IF(AND(C33=\"\",WEEKDAY(A33,2)<6),ColTime(T.!$J$4,T.!$L$4,D33,E33),\"\")","v":"00:00:00"},null,{"$f":"IF(AND(OR(WEEKDAY(A33,2)=7,C33<>\"\"),E33<D33),ColTime($AF$1,$AG$1,'Hele året (2)'!$AF$1,E33),IF(WEEKDAY(A33,2)<6,ColTime(T.!$J$5,T.!$L$5,D33,E33),\"\"))","v":"00:00:00"},null,"",{"$f":"IFERROR(IF(AND(WEEKDAY(A33,2)<6,C34<>\"\",C33=\"\"),ColTime(T.!$J$7,T.!$L$7,$AF$1,'Hele året (2)'!E33),IF(AND(C33<>\"\",C34<>\"\"),ColTime(T.!$J$7,T.!$L$7,'Hele året (2)'!D33,'Hele året (2)'!E33),IF(AND(OR(WEEKDAY(A33,2)<6,WEEKDAY(A33,2)=6),C33<>\"\",E33<D33),ColTime(T.!$J$7,T.!$L$7,D33,AF30),IF(AND(WEEKDAY(A33,2)=6,E33<D33),ColTime(T.!$J$7,T.!$L$7,$AF$1,E33),IF(AND(E33<D33,OR(C33<>\"\",WEEKDAY(A33,2)=7)),ColTime(T.!J36,T.!L36,D33,$AF$1),IF(AND(E33<>\"\",OR(C33<>\"\",WEEKDAY(A33,2)=7)),ColTime(T.!$J$7,T.!$L$7,D33,E33),\"\")))))),\"\")","v":""},"",null,null,{"$f":"IFERROR(CHOOSE(WEEKDAY(A33,2),norm!C$1,norm!C$2,norm!C$3,norm!C$4,norm!C$5,norm!C$6,norm!C$7),\"\")","v":"07:30:00"}]
["2019-01-31",{"$f":"IFERROR(PROPER(TEXT(A34,\"ddd\")),\"\")","v":"To"},{"$f":"IF(A34=\"\",\"\",HelligdagsNavn(A34,0,0))","v":""},null,null,null,"","00:00:00","",{"$f":"IF(AND(C34=\"\",WEEKDAY(A34,2)<6),ColTime(T.!$J$4,T.!$L$4,D34,E34),\"\")","v":"00:00:00"},null,{"$f":"IF(AND(OR(WEEKDAY(A34,2)=7,C34<>\"\"),E34<D34),ColTime($AF$1,$AG$1,'Hele året (2)'!$AF$1,E34),IF(WEEKDAY(A34,2)<6,ColTime(T.!$J$5,T.!$L$5,D34,E34),\"\"))","v":"00:00:00"},null,"",{"$f":"IFERROR(IF(AND(WEEKDAY(A34,2)<6,C35<>\"\",C34=\"\"),ColTime(T.!$J$7,T.!$L$7,$AF$1,'Hele året (2)'!E34),IF(AND(C34<>\"\",C35<>\"\"),ColTime(T.!$J$7,T.!$L$7,'Hele året (2)'!D34,'Hele året (2)'!E34),IF(AND(OR(WEEKDAY(A34,2)<6,WEEKDAY(A34,2)=6),C34<>\"\",E34<D34),ColTime(T.!$J$7,T.!$L$7,D34,AF31),IF(AND(WEEKDAY(A34,2)=6,E34<D34),ColTime(T.!$J$7,T.!$L$7,$AF$1,E34),IF(AND(E34<D34,OR(C34<>\"\",WEEKDAY(A34,2)=7)),ColTime(T.!J37,T.!L37,D34,$AF$1),IF(AND(E34<>\"\",OR(C34<>\"\",WEEKDAY(A34,2)=7)),ColTime(T.!$J$7,T.!$L$7,D34,E34),\"\")))))),\"\")","v":""},"",null,null,{"$f":"IFERROR(CHOOSE(WEEKDAY(A34,2),norm!C$1,norm!C$2,norm!C$3,norm!C$4,norm!C$5,norm!C$6,norm!C$7),\"\")","v":"07:30:00"},null,null,{"$f":"IF(D34=\"\",\"\",HOUR(D34))","v":""},{"$f":"IF(D34=\"\",\"\",MINUTE(D34))","v":""},{"$f":"IF(D34=\"\",\"\",TIME(HOUR(D34),MINUTE(D34),0))","v":""},{"$f":"IF(E34=\"\",\"\",HOUR(E34))","v":""},{"$f":"IF(E34=\"\",\"\",MINUTE(E34))","v":""},{"$f":"IF(E34=\"\",\"\",TIME(HOUR(E34),MINUTE(E34),0))","v":""}]
["2019-02-01",{"$f":"IFERROR(PROPER(TEXT(A35,\"ddd\")),\"\")","v":"Fr"},{"$f":"IF(A35=\"\",\"\",HelligdagsNavn(A35,0,0))","v":""},null,null,null,"","00:00:00","",{"$f":"IF(AND(C35=\"\",WEEKDAY(A35,2)<6),ColTime(T.!$J$4,T.!$L$4,D35,E35),\"\")","v":"00:00:00"},null,{"$f":"IF(AND(OR(WEEKDAY(A35,2)=7,C35<>\"\"),E35<D35),ColTime($AF$1,$AG$1,'Hele året (2)'!$AF$1,E35),IF(WEEKDAY(A35,2)<6,ColTime(T.!$J$5,T.!$L$5,D35,E35),\"\"))","v":"00:00:00"},null,"",{"$f":"IFERROR(IF(AND(WEEKDAY(A35,2)<6,C36<>\"\",C35=\"\"),ColTime(T.!$J$7,T.!$L$7,$AF$1,'Hele året (2)'!E35),IF(AND(C35<>\"\",C36<>\"\"),ColTime(T.!$J$7,T.!$L$7,'Hele året (2)'!D35,'Hele året (2)'!E35),IF(AND(OR(WEEKDAY(A35,2)<6,WEEKDAY(A35,2)=6),C35<>\"\",E35<D35),ColTime(T.!$J$7,T.!$L$7,D35,AF32),IF(AND(WEEKDAY(A35,2)=6,E35<D35),ColTime(T.!$J$7,T.!$L$7,$AF$1,E35),IF(AND(E35<D35,OR(C35<>\"\",WEEKDAY(A35,2)=7)),ColTime(T.!J38,T.!L38,D35,$AF$1),IF(AND(E35<>\"\",OR(C35<>\"\",WEEKDAY(A35,2)=7)),ColTime(T.!$J$7,T.!$L$7,D35,E35),\"\")))))),\"\")","v":""},"",null,null,{"$f":"IFERROR(CHOOSE(WEEKDAY(A35,2),norm!C$1,norm!C$2,norm!C$3,norm!C$4,norm!C$5,norm!C$6,norm!C$7),\"\")","v":"07:00:00"}]
["2019-02-02","Lø","",null,null,null,"","00:00:00","",{"$f":"IF(AND(C36=\"\",WEEKDAY(A36,2)<6),ColTime(T.!$J$4,T.!$L$4,D36,E36),\"\")","v":""},null,{"$f":"IF(AND(OR(WEEKDAY(A36,2)=7,C36<>\"\"),E36<D36),ColTime($AF$1,$AG$1,'Hele året (2)'!$AF$1,E36),IF(WEEKDAY(A36,2)<6,ColTime(T.!$J$5,T.!$L$5,D36,E36),\"\"))","v":""},null,"00:00:00",{"$f":"IFERROR(IF(AND(WEEKDAY(A36,2)<6,C37<>\"\",C36=\"\"),ColTime(T.!$J$7,T.!$L$7,$AF$1,'Hele året (2)'!E36),IF(AND(C36<>\"\",C37<>\"\"),ColTime(T.!$J$7,T.!$L$7,'Hele året (2)'!D36,'Hele året (2)'!E36),IF(AND(OR(WEEKDAY(A36,2)<6,WEEKDAY(A36,2)=6),C36<>\"\",E36<D36),ColTime(T.!$J$7,T.!$L$7,D36,AF33),IF(AND(WEEKDAY(A36,2)=6,E36<D36),ColTime(T.!$J$7,T.!$L$7,$AF$1,E36),IF(AND(E36<D36,OR(C36<>\"\",WEEKDAY(A36,2)=7)),ColTime(T.!J39,T.!L39,D36,$AF$1),IF(AND(E36<>\"\",OR(C36<>\"\",WEEKDAY(A36,2)=7)),ColTime(T.!$J$7,T.!$L$7,D36,E36),\"\")))))),\"\")","v":""},"",null,null,{"$f":"IFERROR(CHOOSE(WEEKDAY(A36,2),norm!C$1,norm!C$2,norm!C$3,norm!C$4,norm!C$5,norm!C$6,norm!C$7),\"\")","v":"00:00:00"}]
["2019-02-03","Sø","",null,null,null,"","00:00:00","",{"$f":"IF(AND(C37=\"\",WEEKDAY(A37,2)<6),ColTime(T.!$J$4,T.!$L$4,D37,E37),\"\")","v":""},null,{"$f":"IF(AND(OR(WEEKDAY(A37,2)=7,C37<>\"\"),E37<D37),ColTime($AF$1,$AG$1,'Hele året (2)'!$AF$1,E37),IF(WEEKDAY(A37,2)<6,ColTime(T.!$J$5,T.!$L$5,D37,E37),\"\"))","v":""},null,"",{"$f":"IFERROR(IF(AND(WEEKDAY(A37,2)<6,C38<>\"\",C37=\"\"),ColTime(T.!$J$7,T.!$L$7,$AF$1,'Hele året (2)'!E37),IF(AND(C37<>\"\",C38<>\"\"),ColTime(T.!$J$7,T.!$L$7,'Hele året (2)'!D37,'Hele året (2)'!E37),IF(AND(OR(WEEKDAY(A37,2)<6,WEEKDAY(A37,2)=6),C37<>\"\",E37<D37),ColTime(T.!$J$7,T.!$L$7,D37,AF34),IF(AND(WEEKDAY(A37,2)=6,E37<D37),ColTime(T.!$J$7,T.!$L$7,$AF$1,E37),IF(AND(E37<D37,OR(C37<>\"\",WEEKDAY(A37,2)=7)),ColTime(T.!J40,T.!L40,D37,$AF$1),IF(AND(E37<>\"\",OR(C37<>\"\",WEEKDAY(A37,2)=7)),ColTime(T.!$J$7,T.!$L$7,D37,E37),\"\")))))),\"\")","v":""},"",null,null,{"$f":"IFERROR(CHOOSE(WEEKDAY(A37,2),norm!C$1,norm!C$2,norm!C$3,norm!C$4,norm!C$5,norm!C$6,norm!C$7),\"\")","v":"00:00:00"}]
["2019-02-04","Ma","",null,null,null,"","00:00:00","",{"$f":"IF(AND(C38=\"\",WEEKDAY(A38,2)<6),ColTime(T.!$J$4,T.!$L$4,D38,E38),\"\")","v":"00:00:00"},null,{"$f":"IF(AND(OR(WEEKDAY(A38,2)=7,C38<>\"\"),E38<D38),ColTime($AF$1,$AG$1,'Hele året (2)'!$AF$1,E38),IF(WEEKDAY(A38,2)<6,ColTime(T.!$J$5,T.!$L$5,D38,E38),\"\"))","v":"00:00:00"},null,"",{"$f":"IFERROR(IF(AND(WEEKDAY(A38,2)<6,C39<>\"\",C38=\"\"),ColTime(T.!$J$7,T.!$L$7,$AF$1,'Hele året (2)'!E38),IF(AND(C38<>\"\",C39<>\"\"),ColTime(T.!$J$7,T.!$L$7,'Hele året (2)'!D38,'Hele året (2)'!E38),IF(AND(OR(WEEKDAY(A38,2)<6,WEEKDAY(A38,2)=6),C38<>\"\",E38<D38),ColTime(T.!$J$7,T.!$L$7,D38,AF35),IF(AND(WEEKDAY(A38,2)=6,E38<D38),ColTime(T.!$J$7,T.!$L$7,$AF$1,E38),IF(AND(E38<D38,OR(C38<>\"\",WEEKDAY(A38,2)=7)),ColTime(T.!J41,T.!L41,D38,$AF$1),IF(AND(E38<>\"\",OR(C38<>\"\",WEEKDAY(A38,2)=7)),ColTime(T.!$J$7,T.!$L$7,D38,E38),\"\")))))),\"\")","v":""},"",null,null,{"$f":"IFERROR(CHOOSE(WEEKDAY(A38,2),norm!C$1,norm!C$2,norm!C$3,norm!C$4,norm!C$5,norm!C$6,norm!C$7),\"\")","v":"07:30:00"}]
["2019-02-05","Ti","",null,null,null,"","00:00:00","",{"$f":"IF(AND(C39=\"\",WEEKDAY(A39,2)<6),ColTime(T.!$J$4,T.!$L$4,D39,E39),\"\")","v":"00:00:00"},null,{"$f":"IF(AND(OR(WEEKDAY(A39,2)=7,C39<>\"\"),E39<D39),ColTime($AF$1,$AG$1,'Hele året (2)'!$AF$1,E39),IF(WEEKDAY(A39,2)<6,ColTime(T.!$J$5,T.!$L$5,D39,E39),\"\"))","v":"00:00:00"},null,"",{"$f":"IFERROR(IF(AND(WEEKDAY(A39,2)<6,C40<>\"\",C39=\"\"),ColTime(T.!$J$7,T.!$L$7,$AF$1,'Hele året (2)'!E39),IF(AND(C39<>\"\",C40<>\"\"),ColTime(T.!$J$7,T.!$L$7,'Hele året (2)'!D39,'Hele året (2)'!E39),IF(AND(OR(WEEKDAY(A39,2)<6,WEEKDAY(A39,2)=6),C39<>\"\",E39<D39),ColTime(T.!$J$7,T.!$L$7,D39,AF36),IF(AND(WEEKDAY(A39,2)=6,E39<D39),ColTime(T.!$J$7,T.!$L$7,$AF$1,E39),IF(AND(E39<D39,OR(C39<>\"\",WEEKDAY(A39,2)=7)),ColTime(T.!J42,T.!L42,D39,$AF$1),IF(AND(E39<>\"\",OR(C39<>\"\",WEEKDAY(A39,2)=7)),ColTime(T.!$J$7,T.!$L$7,D39,E39),\"\")))))),\"\")","v":""},"",null,null,{"$f":"IFERROR(CHOOSE(WEEKDAY(A39,2),norm!C$1,norm!C$2,norm!C$3,norm!C$4,norm!C$5,norm!C$6,norm!C$7),\"\")","v":"07:30:00"}]
["2019-02-06","On","",null,null,null,"","00:00:00","",{"$f":"IF(AND(C40=\"\",WEEKDAY(A40,2)<6),ColTime(T.!$J$4,T.!$L$4,D40,E40),\"\")","v":"00:00:00"},null,{"$f":"IF(AND(OR(WEEKDAY(A40,2)=7,C40<>\"\"),E40<D40),ColTime($AF$1,$AG$1,'Hele året (2)'!$AF$1,E40),IF(WEEKDAY(A40,2)<6,ColTime(T.!$J$5,T.!$L$5,D40,E40),\"\"))","v":"00:00:00"},null,"",{"$f":"IFERROR(IF(AND(WEEKDAY(A40,2)<6,C41<>\"\",C40=\"\"),ColTime(T.!$J$7,T.!$L$7,$AF$1,'Hele året (2)'!E40),IF(AND(C40<>\"\",C41<>\"\"),ColTime(T.!$J$7,T.!$L$7,'Hele året (2)'!D40,'Hele året (2)'!E40),IF(AND(OR(WEEKDAY(A40,2)<6,WEEKDAY(A40,2)=6),C40<>\"\",E40<D40),ColTime(T.!$J$7,T.!$L$7,D40,AF37),IF(AND(WEEKDAY(A40,2)=6,E40<D40),ColTime(T.!$J$7,T.!$L$7,$AF$1,E40),IF(AND(E40<D40,OR(C40<>\"\",WEEKDAY(A40,2)=7)),ColTime(T.!J43,T.!L43,D40,$AF$1),IF(AND(E40<>\"\",OR(C40<>\"\",WEEKDAY(A40,2)=7)),ColTime(T.!$J$7,T.!$L$7,D40,E40),\"\")))))),\"\")","v":""},"",null,null,{"$f":"IFERROR(CHOOSE(WEEKDAY(A40,2),norm!C$1,norm!C$2,norm!C$3,norm!C$4,norm!C$5,norm!C$6,norm!C$7),\"\")","v":"07:30:00"}]
["2019-02-07","To","",null,null,null,"","00:00:00","",{"$f":"IF(AND(C41=\"\",WEEKDAY(A41,2)<6),ColTime(T.!$J$4,T.!$L$4,D41,E41),\"\")","v":"00:00:00"},null,{"$f":"IF(AND(OR(WEEKDAY(A41,2)=7,C41<>\"\"),E41<D41),ColTime($AF$1,$AG$1,'Hele året (2)'!$AF$1,E41),IF(WEEKDAY(A41,2)<6,ColTime(T.!$J$5,T.!$L$5,D41,E41),\"\"))","v":"00:00:00"},null,"",{"$f":"IFERROR(IF(AND(WEEKDAY(A41,2)<6,C42<>\"\",C41=\"\"),ColTime(T.!$J$7,T.!$L$7,$AF$1,'Hele året (2)'!E41),IF(AND(C41<>\"\",C42<>\"\"),ColTime(T.!$J$7,T.!$L$7,'Hele året (2)'!D41,'Hele året (2)'!E41),IF(AND(OR(WEEKDAY(A41,2)<6,WEEKDAY(A41,2)=6),C41<>\"\",E41<D41),ColTime(T.!$J$7,T.!$L$7,D41,AF38),IF(AND(WEEKDAY(A41,2)=6,E41<D41),ColTime(T.!$J$7,T.!$L$7,$AF$1,E41),IF(AND(E41<D41,OR(C41<>\"\",WEEKDAY(A41,2)=7)),ColTime(T.!J44,T.!L44,D41,$AF$1),IF(AND(E41<>\"\",OR(C41<>\"\",WEEKDAY(A41,2)=7)),ColTime(T.!$J$7,T.!$L$7,D41,E41),\"\")))))),\"\")","v":""},"",null,null,{"$f":"IFERROR(CHOOSE(WEEKDAY(A41,2),norm!C$1,norm!C$2,norm!C$3,norm!C$4,norm!C$5,norm!C$6,norm!C$7),\"\")","v":"07:30:00"}]
["2019-02-08","Fr","",null,null,null,"","00:00:00","",{"$f":"IF(AND(C42=\"\",WEEKDAY(A42,2)<6),ColTime(T.!$J$4,T.!$L$4,D42,E42),\"\")","v":"00:00:00"},null,{"$f":"IF(AND(OR(WEEKDAY(A42,2)=7,C42<>\"\"),E42<D42),ColTime($AF$1,$AG$1,'Hele året (2)'!$AF$1,E42),IF(WEEKDAY(A42,2)<6,ColTime(T.!$J$5,T.!$L$5,D42,E42),\"\"))","v":"00:00:00"},null,"",{"$f":"IFERROR(IF(AND(WEEKDAY(A42,2)<6,C43<>\"\",C42=\"\"),ColTime(T.!$J$7,T.!$L$7,$AF$1,'Hele året (2)'!E42),IF(AND(C42<>\"\",C43<>\"\"),ColTime(T.!$J$7,T.!$L$7,'Hele året (2)'!D42,'Hele året (2)'!E42),IF(AND(OR(WEEKDAY(A42,2)<6,WEEKDAY(A42,2)=6),C42<>\"\",E42<D42),ColTime(T.!$J$7,T.!$L$7,D42,AF39),IF(AND(WEEKDAY(A42,2)=6,E42<D42),ColTime(T.!$J$7,T.!$L$7,$AF$1,E42),IF(AND(E42<D42,OR(C42<>\"\",WEEKDAY(A42,2)=7)),ColTime(T.!J45,T.!L45,D42,$AF$1),IF(AND(E42<>\"\",OR(C42<>\"\",WEEKDAY(A42,2)=7)),ColTime(T.!$J$7,T.!$L$7,D42,E42),\"\")))))),\"\")","v":""},"",null,null,{"$f":"IFERROR(CHOOSE(WEEKDAY(A42,2),norm!C$1,norm!C$2,norm!C$3,norm!C$4,norm!C$5,norm!C$6,norm!C$7),\"\")","v":"07:00:00"}]
["2019-02-09","Lø","",null,null,null,"","00:00:00","",{"$f":"IF(AND(C43=\"\",WEEKDAY(A43,2)<6),ColTime(T.!$J$4,T.!$L$4,D43,E43),\"\")","v":""},null,{"$f":"IF(AND(OR(WEEKDAY(A43,2)=7,C43<>\"\"),E43<D43),ColTime($AF$1,$AG$1,'Hele året (2)'!$AF$1,E43),IF(WEEKDAY(A43,2)<6,ColTime(T.!$J$5,T.!$L$5,D43,E43),\"\"))","v":""},null,"00:00:00",{"$f":"IFERROR(IF(AND(WEEKDAY(A43,2)<6,C44<>\"\",C43=\"\"),ColTime(T.!$J$7,T.!$L$7,$AF$1,'Hele året (2)'!E43),IF(AND(C43<>\"\",C44<>\"\"),ColTime(T.!$J$7,T.!$L$7,'Hele året (2)'!D43,'Hele året (2)'!E43),IF(AND(OR(WEEKDAY(A43,2)<6,WEEKDAY(A43,2)=6),C43<>\"\",E43<D43),ColTime(T.!$J$7,T.!$L$7,D43,AF40),IF(AND(WEEKDAY(A43,2)=6,E43<D43),ColTime(T.!$J$7,T.!$L$7,$AF$1,E43),IF(AND(E43<D43,OR(C43<>\"\",WEEKDAY(A43,2)=7)),ColTime(T.!J46,T.!L46,D43,$AF$1),IF(AND(E43<>\"\",OR(C43<>\"\",WEEKDAY(A43,2)=7)),ColTime(T.!$J$7,T.!$L$7,D43,E43),\"\")))))),\"\")","v":""},"",null,null,{"$f":"IFERROR(CHOOSE(WEEKDAY(A43,2),norm!C$1,norm!C$2,norm!C$3,norm!C$4,norm!C$5,norm!C$6,norm!C$7),\"\")","v":"00:00:00"}]
["2019-02-10","Sø","",null,null,null,"","00:00:00","",{"$f":"IF(AND(C44=\"\",WEEKDAY(A44,2)<6),ColTime(T.!$J$4,T.!$L$4,D44,E44),\"\")","v":""},null,{"$f":"IF(AND(OR(WEEKDAY(A44,2)=7,C44<>\"\"),E44<D44),ColTime($AF$1,$AG$1,'Hele året (2)'!$AF$1,E44),IF(WEEKDAY(A44,2)<6,ColTime(T.!$J$5,T.!$L$5,D44,E44),\"\"))","v":""},null,"",{"$f":"IFERROR(IF(AND(WEEKDAY(A44,2)<6,C45<>\"\",C44=\"\"),ColTime(T.!$J$7,T.!$L$7,$AF$1,'Hele året (2)'!E44),IF(AND(C44<>\"\",C45<>\"\"),ColTime(T.!$J$7,T.!$L$7,'Hele året (2)'!D44,'Hele året (2)'!E44),IF(AND(OR(WEEKDAY(A44,2)<6,WEEKDAY(A44,2)=6),C44<>\"\",E44<D44),ColTime(T.!$J$7,T.!$L$7,D44,AF41),IF(AND(WEEKDAY(A44,2)=6,E44<D44),ColTime(T.!$J$7,T.!$L$7,$AF$1,E44),IF(AND(E44<D44,OR(C44<>\"\",WEEKDAY(A44,2)=7)),ColTime(T.!J47,T.!L47,D44,$AF$1),IF(AND(E44<>\"\",OR(C44<>\"\",WEEKDAY(A44,2)=7)),ColTime(T.!$J$7,T.!$L$7,D44,E44),\"\")))))),\"\")","v":""},"",null,null,{"$f":"IFERROR(CHOOSE(WEEKDAY(A44,2),norm!C$1,norm!C$2,norm!C$3,norm!C$4,norm!C$5,norm!C$6,norm!C$7),\"\")","v":"00:00:00"}]
["2019-02-11","Ma","",null,null,null,"","00:00:00","",{"$f":"IF(AND(C45=\"\",WEEKDAY(A45,2)<6),ColTime(T.!$J$4,T.!$L$4,D45,E45),\"\")","v":"00:00:00"},null,{"$f":"IF(AND(OR(WEEKDAY(A45,2)=7,C45<>\"\"),E45<D45),ColTime($AF$1,$AG$1,'Hele året (2)'!$AF$1,E45),IF(WEEKDAY(A45,2)<6,ColTime(T.!$J$5,T.!$L$5,D45,E45),\"\"))","v":"00:00:00"},null,"",{"$f":"IFERROR(IF(AND(WEEKDAY(A45,2)<6,C46<>\"\",C45=\"\"),ColTime(T.!$J$7,T.!$L$7,$AF$1,'Hele året (2)'!E45),IF(AND(C45<>\"\",C46<>\"\"),ColTime(T.!$J$7,T.!$L$7,'Hele året (2)'!D45,'Hele året (2)'!E45),IF(AND(OR(WEEKDAY(A45,2)<6,WEEKDAY(A45,2)=6),C45<>\"\",E45<D45),ColTime(T.!$J$7,T.!$L$7,D45,AF42),IF(AND(WEEKDAY(A45,2)=6,E45<D45),ColTime(T.!$J$7,T.!$L$7,$AF$1,E45),IF(AND(E45<D45,OR(C45<>\"\",WEEKDAY(A45,2)=7)),ColTime(T.!J48,T.!L48,D45,$AF$1),IF(AND(E45<>\"\",OR(C45<>\"\",WEEKDAY(A45,2)=7)),ColTime(T.!$J$7,T.!$L$7,D45,E45),\"\")))))),\"\")","v":""},"",null,null,{"$f":"IFERROR(CHOOSE(WEEKDAY(A45,2),norm!C$1,norm!C$2,norm!C$3,norm!C$4,norm!C$5,norm!C$6,norm!C$7),\"\")","v":"07:30:00"}]
["2019-02-12","Ti","",null,null,null,"","00:00:00","",{"$f":"IF(AND(C46=\"\",WEEKDAY(A46,2)<6),ColTime(T.!$J$4,T.!$L$4,D46,E46),\"\")","v":"00:00:00"},null,{"$f":"IF(AND(OR(WEEKDAY(A46,2)=7,C46<>\"\"),E46<D46),ColTime($AF$1,$AG$1,'Hele året (2)'!$AF$1,E46),IF(WEEKDAY(A46,2)<6,ColTime(T.!$J$5,T.!$L$5,D46,E46),\"\"))","v":"00:00:00"},null,"",{"$f":"IFERROR(IF(AND(WEEKDAY(A46,2)<6,C47<>\"\",C46=\"\"),ColTime(T.!$J$7,T.!$L$7,$AF$1,'Hele året (2)'!E46),IF(AND(C46<>\"\",C47<>\"\"),ColTime(T.!$J$7,T.!$L$7,'Hele året (2)'!D46,'Hele året (2)'!E46),IF(AND(OR(WEEKDAY(A46,2)<6,WEEKDAY(A46,2)=6),C46<>\"\",E46<D46),ColTime(T.!$J$7,T.!$L$7,D46,AF43),IF(AND(WEEKDAY(A46,2)=6,E46<D46),ColTime(T.!$J$7,T.!$L$7,$AF$1,E46),IF(AND(E46<D46,OR(C46<>\"\",WEEKDAY(A46,2)=7)),ColTime(T.!J49,T.!L49,D46,$AF$1),IF(AND(E46<>\"\",OR(C46<>\"\",WEEKDAY(A46,2)=7)),ColTime(T.!$J$7,T.!$L$7,D46,E46),\"\")))))),\"\")","v":""},"",null,null,{"$f":"IFERROR(CHOOSE(WEEKDAY(A46,2),norm!C$1,norm!C$2,norm!C$3,norm!C$4,norm!C$5,norm!C$6,norm!C$7),\"\")","v":"07:30:00"}]
["2019-02-13","On","",null,null,null,"","00:00:00","",{"$f":"IF(AND(C47=\"\",WEEKDAY(A47,2)<6),ColTime(T.!$J$4,T.!$L$4,D47,E47),\"\")","v":"00:00:00"},null,{"$f":"IF(AND(OR(WEEKDAY(A47,2)=7,C47<>\"\"),E47<D47),ColTime($AF$1,$AG$1,'Hele året (2)'!$AF$1,E47),IF(WEEKDAY(A47,2)<6,ColTime(T.!$J$5,T.!$L$5,D47,E47),\"\"))","v":"00:00:00"},null,"",{"$f":"IFERROR(IF(AND(WEEKDAY(A47,2)<6,C48<>\"\",C47=\"\"),ColTime(T.!$J$7,T.!$L$7,$AF$1,'Hele året (2)'!E47),IF(AND(C47<>\"\",C48<>\"\"),ColTime(T.!$J$7,T.!$L$7,'Hele året (2)'!D47,'Hele året (2)'!E47),IF(AND(OR(WEEKDAY(A47,2)<6,WEEKDAY(A47,2)=6),C47<>\"\",E47<D47),ColTime(T.!$J$7,T.!$L$7,D47,AF44),IF(AND(WEEKDAY(A47,2)=6,E47<D47),ColTime(T.!$J$7,T.!$L$7,$AF$1,E47),IF(AND(E47<D47,OR(C47<>\"\",WEEKDAY(A47,2)=7)),ColTime(T.!J50,T.!L50,D47,$AF$1),IF(AND(E47<>\"\",OR(C47<>\"\",WEEKDAY(A47,2)=7)),ColTime(T.!$J$7,T.!$L$7,D47,E47),\"\")))))),\"\")","v":""},"",null,null,{"$f":"IFERROR(CHOOSE(WEEKDAY(A47,2),norm!C$1,norm!C$2,norm!C$3,norm!C$4,norm!C$5,norm!C$6,norm!C$7),\"\")","v":"07:30:00"}]
["2019-02-14","To","",null,null,null,"","00:00:00","",{"$f":"IF(AND(C48=\"\",WEEKDAY(A48,2)<6),ColTime(T.!$J$4,T.!$L$4,D48,E48),\"\")","v":"00:00:00"},null,{"$f":"IF(AND(OR(WEEKDAY(A48,2)=7,C48<>\"\"),E48<D48),ColTime($AF$1,$AG$1,'Hele året (2)'!$AF$1,E48),IF(WEEKDAY(A48,2)<6,ColTime(T.!$J$5,T.!$L$5,D48,E48),\"\"))","v":"00:00:00"},null,"",{"$f":"IFERROR(IF(AND(WEEKDAY(A48,2)<6,C49<>\"\",C48=\"\"),ColTime(T.!$J$7,T.!$L$7,$AF$1,'Hele året (2)'!E48),IF(AND(C48<>\"\",C49<>\"\"),ColTime(T.!$J$7,T.!$L$7,'Hele året (2)'!D48,'Hele året (2)'!E48),IF(AND(OR(WEEKDAY(A48,2)<6,WEEKDAY(A48,2)=6),C48<>\"\",E48<D48),ColTime(T.!$J$7,T.!$L$7,D48,AF45),IF(AND(WEEKDAY(A48,2)=6,E48<D48),ColTime(T.!$J$7,T.!$L$7,$AF$1,E48),IF(AND(E48<D48,OR(C48<>\"\",WEEKDAY(A48,2)=7)),ColTime(T.!J51,T.!L51,D48,$AF$1),IF(AND(E48<>\"\",OR(C48<>\"\",WEEKDAY(A48,2)=7)),ColTime(T.!$J$7,T.!$L$7,D48,E48),\"\")))))),\"\")","v":""},"",null,null,{"$f":"IFERROR(CHOOSE(WEEKDAY(A48,2),norm!C$1,norm!C$2,norm!C$3,norm!C$4,norm!C$5,norm!C$6,norm!C$7),\"\")","v":"07:30:00"}]
["2019-02-15","Fr","",null,null,null,"","00:00:00","",{"$f":"IF(AND(C49=\"\",WEEKDAY(A49,2)<6),ColTime(T.!$J$4,T.!$L$4,D49,E49),\"\")","v":"00:00:00"},null,{"$f":"IF(AND(OR(WEEKDAY(A49,2)=7,C49<>\"\"),E49<D49),ColTime($AF$1,$AG$1,'Hele året (2)'!$AF$1,E49),IF(WEEKDAY(A49,2)<6,ColTime(T.!$J$5,T.!$L$5,D49,E49),\"\"))","v":"00:00:00"},null,"",{"$f":"IFERROR(IF(AND(WEEKDAY(A49,2)<6,C50<>\"\",C49=\"\"),ColTime(T.!$J$7,T.!$L$7,$AF$1,'Hele året (2)'!E49),IF(AND(C49<>\"\",C50<>\"\"),ColTime(T.!$J$7,T.!$L$7,'Hele året (2)'!D49,'Hele året (2)'!E49),IF(AND(OR(WEEKDAY(A49,2)<6,WEEKDAY(A49,2)=6),C49<>\"\",E49<D49),ColTime(T.!$J$7,T.!$L$7,D49,AF46),IF(AND(WEEKDAY(A49,2)=6,E49<D49),ColTime(T.!$J$7,T.!$L$7,$AF$1,E49),IF(AND(E49<D49,OR(C49<>\"\",WEEKDAY(A49,2)=7)),ColTime(T.!J52,T.!L52,D49,$AF$1),IF(AND(E49<>\"\",OR(C49<>\"\",WEEKDAY(A49,2)=7)),ColTime(T.!$J$7,T.!$L$7,D49,E49),\"\")))))),\"\")","v":""},"",null,null,{"$f":"IFERROR(CHOOSE(WEEKDAY(A49,2),norm!C$1,norm!C$2,norm!C$3,norm!C$4,norm!C$5,norm!C$6,norm!C$7),\"\")","v":"07:00:00"}]
["2019-02-16","Lø","",null,null,null,"","00:00:00","",{"$f":"IF(AND(C50=\"\",WEEKDAY(A50,2)<6),ColTime(T.!$J$4,T.!$L$4,D50,E50),\"\")","v":""},null,{"$f":"IF(AND(OR(WEEKDAY(A50,2)=7,C50<>\"\"),E50<D50),ColTime($AF$1,$AG$1,'Hele året (2)'!$AF$1,E50),IF(WEEKDAY(A50,2)<6,ColTime(T.!$J$5,T.!$L$5,D50,E50),\"\"))","v":""},null,"00:00:00",{"$f":"IFERROR(IF(AND(WEEKDAY(A50,2)<6,C51<>\"\",C50=\"\"),ColTime(T.!$J$7,T.!$L$7,$AF$1,'Hele året (2)'!E50),IF(AND(C50<>\"\",C51<>\"\"),ColTime(T.!$J$7,T.!$L$7,'Hele året (2)'!D50,'Hele året (2)'!E50),IF(AND(OR(WEEKDAY(A50,2)<6,WEEKDAY(A50,2)=6),C50<>\"\",E50<D50),ColTime(T.!$J$7,T.!$L$7,D50,AF47),IF(AND(WEEKDAY(A50,2)=6,E50<D50),ColTime(T.!$J$7,T.!$L$7,$AF$1,E50),IF(AND(E50<D50,OR(C50<>\"\",WEEKDAY(A50,2)=7)),ColTime(T.!J53,T.!L53,D50,$AF$1),IF(AND(E50<>\"\",OR(C50<>\"\",WEEKDAY(A50,2)=7)),ColTime(T.!$J$7,T.!$L$7,D50,E50),\"\")))))),\"\")","v":""},"",null,null,{"$f":"IFERROR(CHOOSE(WEEKDAY(A50,2),norm!C$1,norm!C$2,norm!C$3,norm!C$4,norm!C$5,norm!C$6,norm!C$7),\"\")","v":"00:00:00"}]
["2019-02-17","Sø","",null,null,null,"","00:00:00","",{"$f":"IF(AND(C51=\"\",WEEKDAY(A51,2)<6),ColTime(T.!$J$4,T.!$L$4,D51,E51),\"\")","v":""},null,{"$f":"IF(AND(OR(WEEKDAY(A51,2)=7,C51<>\"\"),E51<D51),ColTime($AF$1,$AG$1,'Hele året (2)'!$AF$1,E51),IF(WEEKDAY(A51,2)<6,ColTime(T.!$J$5,T.!$L$5,D51,E51),\"\"))","v":""},null,"",{"$f":"IFERROR(IF(AND(WEEKDAY(A51,2)<6,C52<>\"\",C51=\"\"),ColTime(T.!$J$7,T.!$L$7,$AF$1,'Hele året (2)'!E51),IF(AND(C51<>\"\",C52<>\"\"),ColTime(T.!$J$7,T.!$L$7,'Hele året (2)'!D51,'Hele året (2)'!E51),IF(AND(OR(WEEKDAY(A51,2)<6,WEEKDAY(A51,2)=6),C51<>\"\",E51<D51),ColTime(T.!$J$7,T.!$L$7,D51,AF48),IF(AND(WEEKDAY(A51,2)=6,E51<D51),ColTime(T.!$J$7,T.!$L$7,$AF$1,E51),IF(AND(E51<D51,OR(C51<>\"\",WEEKDAY(A51,2)=7)),ColTime(T.!J54,T.!L54,D51,$AF$1),IF(AND(E51<>\"\",OR(C51<>\"\",WEEKDAY(A51,2)=7)),ColTime(T.!$J$7,T.!$L$7,D51,E51),\"\")))))),\"\")","v":""},"",null,null,{"$f":"IFERROR(CHOOSE(WEEKDAY(A51,2),norm!C$1,norm!C$2,norm!C$3,norm!C$4,norm!C$5,norm!C$6,norm!C$7),\"\")","v":"00:00:00"}]
["2019-02-18","Ma","",null,null,null,"","00:00:00","",{"$f":"IF(AND(C52=\"\",WEEKDAY(A52,2)<6),ColTime(T.!$J$4,T.!$L$4,D52,E52),\"\")","v":"00:00:00"},null,{"$f":"IF(AND(OR(WEEKDAY(A52,2)=7,C52<>\"\"),E52<D52),ColTime($AF$1,$AG$1,'Hele året (2)'!$AF$1,E52),IF(WEEKDAY(A52,2)<6,ColTime(T.!$J$5,T.!$L$5,D52,E52),\"\"))","v":"00:00:00"},null,"",{"$f":"IFERROR(IF(AND(WEEKDAY(A52,2)<6,C53<>\"\",C52=\"\"),ColTime(T.!$J$7,T.!$L$7,$AF$1,'Hele året (2)'!E52),IF(AND(C52<>\"\",C53<>\"\"),ColTime(T.!$J$7,T.!$L$7,'Hele året (2)'!D52,'Hele året (2)'!E52),IF(AND(OR(WEEKDAY(A52,2)<6,WEEKDAY(A52,2)=6),C52<>\"\",E52<D52),ColTime(T.!$J$7,T.!$L$7,D52,AF49),IF(AND(WEEKDAY(A52,2)=6,E52<D52),ColTime(T.!$J$7,T.!$L$7,$AF$1,E52),IF(AND(E52<D52,OR(C52<>\"\",WEEKDAY(A52,2)=7)),ColTime(T.!J55,T.!L55,D52,$AF$1),IF(AND(E52<>\"\",OR(C52<>\"\",WEEKDAY(A52,2)=7)),ColTime(T.!$J$7,T.!$L$7,D52,E52),\"\")))))),\"\")","v":""},"",null,null,{"$f":"IFERROR(CHOOSE(WEEKDAY(A52,2),norm!C$1,norm!C$2,norm!C$3,norm!C$4,norm!C$5,norm!C$6,norm!C$7),\"\")","v":"07:30:00"}]
["2019-02-19","Ti","",null,null,null,"","00:00:00","",{"$f":"IF(AND(C53=\"\",WEEKDAY(A53,2)<6),ColTime(T.!$J$4,T.!$L$4,D53,E53),\"\")","v":"00:00:00"},null,{"$f":"IF(AND(OR(WEEKDAY(A53,2)=7,C53<>\"\"),E53<D53),ColTime($AF$1,$AG$1,'Hele året (2)'!$AF$1,E53),IF(WEEKDAY(A53,2)<6,ColTime(T.!$J$5,T.!$L$5,D53,E53),\"\"))","v":"00:00:00"},null,"",{"$f":"IFERROR(IF(AND(WEEKDAY(A53,2)<6,C54<>\"\",C53=\"\"),ColTime(T.!$J$7,T.!$L$7,$AF$1,'Hele året (2)'!E53),IF(AND(C53<>\"\",C54<>\"\"),ColTime(T.!$J$7,T.!$L$7,'Hele året (2)'!D53,'Hele året (2)'!E53),IF(AND(OR(WEEKDAY(A53,2)<6,WEEKDAY(A53,2)=6),C53<>\"\",E53<D53),ColTime(T.!$J$7,T.!$L$7,D53,AF50),IF(AND(WEEKDAY(A53,2)=6,E53<D53),ColTime(T.!$J$7,T.!$L$7,$AF$1,E53),IF(AND(E53<D53,OR(C53<>\"\",WEEKDAY(A53,2)=7)),ColTime(T.!J56,T.!L56,D53,$AF$1),IF(AND(E53<>\"\",OR(C53<>\"\",WEEKDAY(A53,2)=7)),ColTime(T.!$J$7,T.!$L$7,D53,E53),\"\")))))),\"\")","v":""},"",null,null,{"$f":"IFERROR(CHOOSE(WEEKDAY(A53,2),norm!C$1,norm!C$2,norm!C$3,norm!C$4,norm!C$5,norm!C$6,norm!C$7),\"\")","v":"07:30:00"}]
["2019-02-20","On","",null,null,null,"","00:00:00","",{"$f":"IF(AND(C54=\"\",WEEKDAY(A54,2)<6),ColTime(T.!$J$4,T.!$L$4,D54,E54),\"\")","v":"00:00:00"},null,{"$f":"IF(AND(OR(WEEKDAY(A54,2)=7,C54<>\"\"),E54<D54),ColTime($AF$1,$AG$1,'Hele året (2)'!$AF$1,E54),IF(WEEKDAY(A54,2)<6,ColTime(T.!$J$5,T.!$L$5,D54,E54),\"\"))","v":"00:00:00"},null,"",{"$f":"IFERROR(IF(AND(WEEKDAY(A54,2)<6,C55<>\"\",C54=\"\"),ColTime(T.!$J$7,T.!$L$7,$AF$1,'Hele året (2)'!E54),IF(AND(C54<>\"\",C55<>\"\"),ColTime(T.!$J$7,T.!$L$7,'Hele året (2)'!D54,'Hele året (2)'!E54),IF(AND(OR(WEEKDAY(A54,2)<6,WEEKDAY(A54,2)=6),C54<>\"\",E54<D54),ColTime(T.!$J$7,T.!$L$7,D54,AF51),IF(AND(WEEKDAY(A54,2)=6,E54<D54),ColTime(T.!$J$7,T.!$L$7,$AF$1,E54),IF(AND(E54<D54,OR(C54<>\"\",WEEKDAY(A54,2)=7)),ColTime(T.!J57,T.!L57,D54,$AF$1),IF(AND(E54<>\"\",OR(C54<>\"\",WEEKDAY(A54,2)=7)),ColTime(T.!$J$7,T.!$L$7,D54,E54),\"\")))))),\"\")","v":""},"",null,null,{"$f":"IFERROR(CHOOSE(WEEKDAY(A54,2),norm!C$1,norm!C$2,norm!C$3,norm!C$4,norm!C$5,norm!C$6,norm!C$7),\"\")","v":"07:30:00"}]
["2019-02-21","To","",null,null,null,"","00:00:00","",{"$f":"IF(AND(C55=\"\",WEEKDAY(A55,2)<6),ColTime(T.!$J$4,T.!$L$4,D55,E55),\"\")","v":"00:00:00"},null,{"$f":"IF(AND(OR(WEEKDAY(A55,2)=7,C55<>\"\"),E55<D55),ColTime($AF$1,$AG$1,'Hele året (2)'!$AF$1,E55),IF(WEEKDAY(A55,2)<6,ColTime(T.!$J$5,T.!$L$5,D55,E55),\"\"))","v":"00:00:00"},null,"",{"$f":"IFERROR(IF(AND(WEEKDAY(A55,2)<6,C56<>\"\",C55=\"\"),ColTime(T.!$J$7,T.!$L$7,$AF$1,'Hele året (2)'!E55),IF(AND(C55<>\"\",C56<>\"\"),ColTime(T.!$J$7,T.!$L$7,'Hele året (2)'!D55,'Hele året (2)'!E55),IF(AND(OR(WEEKDAY(A55,2)<6,WEEKDAY(A55,2)=6),C55<>\"\",E55<D55),ColTime(T.!$J$7,T.!$L$7,D55,AF52),IF(AND(WEEKDAY(A55,2)=6,E55<D55),ColTime(T.!$J$7,T.!$L$7,$AF$1,E55),IF(AND(E55<D55,OR(C55<>\"\",WEEKDAY(A55,2)=7)),ColTime(T.!J58,T.!L58,D55,$AF$1),IF(AND(E55<>\"\",OR(C55<>\"\",WEEKDAY(A55,2)=7)),ColTime(T.!$J$7,T.!$L$7,D55,E55),\"\")))))),\"\")","v":""},"",null,null,{"$f":"IFERROR(CHOOSE(WEEKDAY(A55,2),norm!C$1,norm!C$2,norm!C$3,norm!C$4,norm!C$5,norm!C$6,norm!C$7),\"\")","v":"07:30:00"}]
["2019-02-22","Fr","",null,null,null,"","00:00:00","",{"$f":"IF(AND(C56=\"\",WEEKDAY(A56,2)<6),ColTime(T.!$J$4,T.!$L$4,D56,E56),\"\")","v":"00:00:00"},null,{"$f":"IF(AND(OR(WEEKDAY(A56,2)=7,C56<>\"\"),E56<D56),ColTime($AF$1,$AG$1,'Hele året (2)'!$AF$1,E56),IF(WEEKDAY(A56,2)<6,ColTime(T.!$J$5,T.!$L$5,D56,E56),\"\"))","v":"00:00:00"},null,"",{"$f":"IFERROR(IF(AND(WEEKDAY(A56,2)<6,C57<>\"\",C56=\"\"),ColTime(T.!$J$7,T.!$L$7,$AF$1,'Hele året (2)'!E56),IF(AND(C56<>\"\",C57<>\"\"),ColTime(T.!$J$7,T.!$L$7,'Hele året (2)'!D56,'Hele året (2)'!E56),IF(AND(OR(WEEKDAY(A56,2)<6,WEEKDAY(A56,2)=6),C56<>\"\",E56<D56),ColTime(T.!$J$7,T.!$L$7,D56,AF53),IF(AND(WEEKDAY(A56,2)=6,E56<D56),ColTime(T.!$J$7,T.!$L$7,$AF$1,E56),IF(AND(E56<D56,OR(C56<>\"\",WEEKDAY(A56,2)=7)),ColTime(T.!J59,T.!L59,D56,$AF$1),IF(AND(E56<>\"\",OR(C56<>\"\",WEEKDAY(A56,2)=7)),ColTime(T.!$J$7,T.!$L$7,D56,E56),\"\")))))),\"\")","v":""},"",null,null,{"$f":"IFERROR(CHOOSE(WEEKDAY(A56,2),norm!C$1,norm!C$2,norm!C$3,norm!C$4,norm!C$5,norm!C$6,norm!C$7),\"\")","v":"07:00:00"}]
["2019-02-23","Lø","",null,null,null,"","00:00:00","",{"$f":"IF(AND(C57=\"\",WEEKDAY(A57,2)<6),ColTime(T.!$J$4,T.!$L$4,D57,E57),\"\")","v":""},null,{"$f":"IF(AND(OR(WEEKDAY(A57,2)=7,C57<>\"\"),E57<D57),ColTime($AF$1,$AG$1,'Hele året (2)'!$AF$1,E57),IF(WEEKDAY(A57,2)<6,ColTime(T.!$J$5,T.!$L$5,D57,E57),\"\"))","v":""},null,"00:00:00",{"$f":"IFERROR(IF(AND(WEEKDAY(A57,2)<6,C58<>\"\",C57=\"\"),ColTime(T.!$J$7,T.!$L$7,$AF$1,'Hele året (2)'!E57),IF(AND(C57<>\"\",C58<>\"\"),ColTime(T.!$J$7,T.!$L$7,'Hele året (2)'!D57,'Hele året (2)'!E57),IF(AND(OR(WEEKDAY(A57,2)<6,WEEKDAY(A57,2)=6),C57<>\"\",E57<D57),ColTime(T.!$J$7,T.!$L$7,D57,AF54),IF(AND(WEEKDAY(A57,2)=6,E57<D57),ColTime(T.!$J$7,T.!$L$7,$AF$1,E57),IF(AND(E57<D57,OR(C57<>\"\",WEEKDAY(A57,2)=7)),ColTime(T.!J60,T.!L60,D57,$AF$1),IF(AND(E57<>\"\",OR(C57<>\"\",WEEKDAY(A57,2)=7)),ColTime(T.!$J$7,T.!$L$7,D57,E57),\"\")))))),\"\")","v":""},"",null,null,{"$f":"IFERROR(CHOOSE(WEEKDAY(A57,2),norm!C$1,norm!C$2,norm!C$3,norm!C$4,norm!C$5,norm!C$6,norm!C$7),\"\")","v":"00:00:00"}]
["2019-02-24","Sø","",null,null,null,"","00:00:00","",{"$f":"IF(AND(C58=\"\",WEEKDAY(A58,2)<6),ColTime(T.!$J$4,T.!$L$4,D58,E58),\"\")","v":""},null,{"$f":"IF(AND(OR(WEEKDAY(A58,2)=7,C58<>\"\"),E58<D58),ColTime($AF$1,$AG$1,'Hele året (2)'!$AF$1,E58),IF(WEEKDAY(A58,2)<6,ColTime(T.!$J$5,T.!$L$5,D58,E58),\"\"))","v":""},null,"",{"$f":"IFERROR(IF(AND(WEEKDAY(A58,2)<6,C59<>\"\",C58=\"\"),ColTime(T.!$J$7,T.!$L$7,$AF$1,'Hele året (2)'!E58),IF(AND(C58<>\"\",C59<>\"\"),ColTime(T.!$J$7,T.!$L$7,'Hele året (2)'!D58,'Hele året (2)'!E58),IF(AND(OR(WEEKDAY(A58,2)<6,WEEKDAY(A58,2)=6),C58<>\"\",E58<D58),ColTime(T.!$J$7,T.!$L$7,D58,AF55),IF(AND(WEEKDAY(A58,2)=6,E58<D58),ColTime(T.!$J$7,T.!$L$7,$AF$1,E58),IF(AND(E58<D58,OR(C58<>\"\",WEEKDAY(A58,2)=7)),ColTime(T.!J61,T.!L61,D58,$AF$1),IF(AND(E58<>\"\",OR(C58<>\"\",WEEKDAY(A58,2)=7)),ColTime(T.!$J$7,T.!$L$7,D58,E58),\"\")))))),\"\")","v":""},"",null,null,{"$f":"IFERROR(CHOOSE(WEEKDAY(A58,2),norm!C$1,norm!C$2,norm!C$3,norm!C$4,norm!C$5,norm!C$6,norm!C$7),\"\")","v":"00:00:00"}]
["2019-02-25","Ma","",null,null,null,"","00:00:00","",{"$f":"IF(AND(C59=\"\",WEEKDAY(A59,2)<6),ColTime(T.!$J$4,T.!$L$4,D59,E59),\"\")","v":"00:00:00"},null,{"$f":"IF(AND(OR(WEEKDAY(A59,2)=7,C59<>\"\"),E59<D59),ColTime($AF$1,$AG$1,'Hele året (2)'!$AF$1,E59),IF(WEEKDAY(A59,2)<6,ColTime(T.!$J$5,T.!$L$5,D59,E59),\"\"))","v":"00:00:00"},null,"",{"$f":"IFERROR(IF(AND(WEEKDAY(A59,2)<6,C60<>\"\",C59=\"\"),ColTime(T.!$J$7,T.!$L$7,$AF$1,'Hele året (2)'!E59),IF(AND(C59<>\"\",C60<>\"\"),ColTime(T.!$J$7,T.!$L$7,'Hele året (2)'!D59,'Hele året (2)'!E59),IF(AND(OR(WEEKDAY(A59,2)<6,WEEKDAY(A59,2)=6),C59<>\"\",E59<D59),ColTime(T.!$J$7,T.!$L$7,D59,AF56),IF(AND(WEEKDAY(A59,2)=6,E59<D59),ColTime(T.!$J$7,T.!$L$7,$AF$1,E59),IF(AND(E59<D59,OR(C59<>\"\",WEEKDAY(A59,2)=7)),ColTime(T.!J62,T.!L62,D59,$AF$1),IF(AND(E59<>\"\",OR(C59<>\"\",WEEKDAY(A59,2)=7)),ColTime(T.!$J$7,T.!$L$7,D59,E59),\"\")))))),\"\")","v":""},"",null,null,{"$f":"IFERROR(CHOOSE(WEEKDAY(A59,2),norm!C$1,norm!C$2,norm!C$3,norm!C$4,norm!C$5,norm!C$6,norm!C$7),\"\")","v":"07:30:00"}]
["2019-02-26","Ti","",null,null,null,"","00:00:00","",{"$f":"IF(AND(C60=\"\",WEEKDAY(A60,2)<6),ColTime(T.!$J$4,T.!$L$4,D60,E60),\"\")","v":"00:00:00"},null,{"$f":"IF(AND(OR(WEEKDAY(A60,2)=7,C60<>\"\"),E60<D60),ColTime($AF$1,$AG$1,'Hele året (2)'!$AF$1,E60),IF(WEEKDAY(A60,2)<6,ColTime(T.!$J$5,T.!$L$5,D60,E60),\"\"))","v":"00:00:00"},null,"",{"$f":"IFERROR(IF(AND(WEEKDAY(A60,2)<6,C61<>\"\",C60=\"\"),ColTime(T.!$J$7,T.!$L$7,$AF$1,'Hele året (2)'!E60),IF(AND(C60<>\"\",C61<>\"\"),ColTime(T.!$J$7,T.!$L$7,'Hele året (2)'!D60,'Hele året (2)'!E60),IF(AND(OR(WEEKDAY(A60,2)<6,WEEKDAY(A60,2)=6),C60<>\"\",E60<D60),ColTime(T.!$J$7,T.!$L$7,D60,AF57),IF(AND(WEEKDAY(A60,2)=6,E60<D60),ColTime(T.!$J$7,T.!$L$7,$AF$1,E60),IF(AND(E60<D60,OR(C60<>\"\",WEEKDAY(A60,2)=7)),ColTime(T.!J63,T.!L63,D60,$AF$1),IF(AND(E60<>\"\",OR(C60<>\"\",WEEKDAY(A60,2)=7)),ColTime(T.!$J$7,T.!$L$7,D60,E60),\"\")))))),\"\")","v":""},"",null,null,{"$f":"IFERROR(CHOOSE(WEEKDAY(A60,2),norm!C$1,norm!C$2,norm!C$3,norm!C$4,norm!C$5,norm!C$6,norm!C$7),\"\")","v":"07:30:00"}]
["2019-02-27","On","",null,null,null,"","00:00:00","",{"$f":"IF(AND(C61=\"\",WEEKDAY(A61,2)<6),ColTime(T.!$J$4,T.!$L$4,D61,E61),\"\")","v":"00:00:00"},null,{"$f":"IF(AND(OR(WEEKDAY(A61,2)=7,C61<>\"\"),E61<D61),ColTime($AF$1,$AG$1,'Hele året (2)'!$AF$1,E61),IF(WEEKDAY(A61,2)<6,ColTime(T.!$J$5,T.!$L$5,D61,E61),\"\"))","v":"00:00:00"},null,"",{"$f":"IFERROR(IF(AND(WEEKDAY(A61,2)<6,C62<>\"\",C61=\"\"),ColTime(T.!$J$7,T.!$L$7,$AF$1,'Hele året (2)'!E61),IF(AND(C61<>\"\",C62<>\"\"),ColTime(T.!$J$7,T.!$L$7,'Hele året (2)'!D61,'Hele året (2)'!E61),IF(AND(OR(WEEKDAY(A61,2)<6,WEEKDAY(A61,2)=6),C61<>\"\",E61<D61),ColTime(T.!$J$7,T.!$L$7,D61,AF58),IF(AND(WEEKDAY(A61,2)=6,E61<D61),ColTime(T.!$J$7,T.!$L$7,$AF$1,E61),IF(AND(E61<D61,OR(C61<>\"\",WEEKDAY(A61,2)=7)),ColTime(T.!J64,T.!L64,D61,$AF$1),IF(AND(E61<>\"\",OR(C61<>\"\",WEEKDAY(A61,2)=7)),ColTime(T.!$J$7,T.!$L$7,D61,E61),\"\")))))),\"\")","v":""},"",null,null,{"$f":"IFERROR(CHOOSE(WEEKDAY(A61,2),norm!C$1,norm!C$2,norm!C$3,norm!C$4,norm!C$5,norm!C$6,norm!C$7),\"\")","v":"07:30:00"}]
["2019-02-28","To","",null,null,null,"","00:00:00","",{"$f":"IF(AND(C62=\"\",WEEKDAY(A62,2)<6),ColTime(T.!$J$4,T.!$L$4,D62,E62),\"\")","v":"00:00:00"},null,{"$f":"IF(AND(OR(WEEKDAY(A62,2)=7,C62<>\"\"),E62<D62),ColTime($AF$1,$AG$1,'Hele året (2)'!$AF$1,E62),IF(WEEKDAY(A62,2)<6,ColTime(T.!$J$5,T.!$L$5,D62,E62),\"\"))","v":"00:00:00"},null,"",{"$f":"IFERROR(IF(AND(WEEKDAY(A62,2)<6,C63<>\"\",C62=\"\"),ColTime(T.!$J$7,T.!$L$7,$AF$1,'Hele året (2)'!E62),IF(AND(C62<>\"\",C63<>\"\"),ColTime(T.!$J$7,T.!$L$7,'Hele året (2)'!D62,'Hele året (2)'!E62),IF(AND(OR(WEEKDAY(A62,2)<6,WEEKDAY(A62,2)=6),C62<>\"\",E62<D62),ColTime(T.!$J$7,T.!$L$7,D62,AF59),IF(AND(WEEKDAY(A62,2)=6,E62<D62),ColTime(T.!$J$7,T.!$L$7,$AF$1,E62),IF(AND(E62<D62,OR(C62<>\"\",WEEKDAY(A62,2)=7)),ColTime(T.!J65,T.!L65,D62,$AF$1),IF(AND(E62<>\"\",OR(C62<>\"\",WEEKDAY(A62,2)=7)),ColTime(T.!$J$7,T.!$L$7,D62,E62),\"\")))))),\"\")","v":""},"",null,null,{"$f":"IFERROR(CHOOSE(WEEKDAY(A62,2),norm!C$1,norm!C$2,norm!C$3,norm!C$4,norm!C$5,norm!C$6,norm!C$7),\"\")","v":"07:30:00"}]
["2019-03-01","Fr","",null,null,null,"","00:00:00","",{"$f":"IF(AND(C63=\"\",WEEKDAY(A63,2)<6),ColTime(T.!$J$4,T.!$L$4,D63,E63),\"\")","v":"00:00:00"},null,{"$f":"IF(AND(OR(WEEKDAY(A63,2)=7,C63<>\"\"),E63<D63),ColTime($AF$1,$AG$1,'Hele året (2)'!$AF$1,E63),IF(WEEKDAY(A63,2)<6,ColTime(T.!$J$5,T.!$L$5,D63,E63),\"\"))","v":"00:00:00"},null,"",{"$f":"IFERROR(IF(AND(WEEKDAY(A63,2)<6,C64<>\"\",C63=\"\"),ColTime(T.!$J$7,T.!$L$7,$AF$1,'Hele året (2)'!E63),IF(AND(C63<>\"\",C64<>\"\"),ColTime(T.!$J$7,T.!$L$7,'Hele året (2)'!D63,'Hele året (2)'!E63),IF(AND(OR(WEEKDAY(A63,2)<6,WEEKDAY(A63,2)=6),C63<>\"\",E63<D63),ColTime(T.!$J$7,T.!$L$7,D63,AF60),IF(AND(WEEKDAY(A63,2)=6,E63<D63),ColTime(T.!$J$7,T.!$L$7,$AF$1,E63),IF(AND(E63<D63,OR(C63<>\"\",WEEKDAY(A63,2)=7)),ColTime(T.!J66,T.!L66,D63,$AF$1),IF(AND(E63<>\"\",OR(C63<>\"\",WEEKDAY(A63,2)=7)),ColTime(T.!$J$7,T.!$L$7,D63,E63),\"\")))))),\"\")","v":""},"",null,null,{"$f":"IFERROR(CHOOSE(WEEKDAY(A63,2),norm!C$1,norm!C$2,norm!C$3,norm!C$4,norm!C$5,norm!C$6,norm!C$7),\"\")","v":"07:00:00"}]
["2019-03-02","Lø","",null,null,null,"","00:00:00","",{"$f":"IF(AND(C64=\"\",WEEKDAY(A64,2)<6),ColTime(T.!$J$4,T.!$L$4,D64,E64),\"\")","v":""},null,{"$f":"IF(AND(OR(WEEKDAY(A64,2)=7,C64<>\"\"),E64<D64),ColTime($AF$1,$AG$1,'Hele året (2)'!$AF$1,E64),IF(WEEKDAY(A64,2)<6,ColTime(T.!$J$5,T.!$L$5,D64,E64),\"\"))","v":""},null,"00:00:00",{"$f":"IFERROR(IF(AND(WEEKDAY(A64,2)<6,C65<>\"\",C64=\"\"),ColTime(T.!$J$7,T.!$L$7,$AF$1,'Hele året (2)'!E64),IF(AND(C64<>\"\",C65<>\"\"),ColTime(T.!$J$7,T.!$L$7,'Hele året (2)'!D64,'Hele året (2)'!E64),IF(AND(OR(WEEKDAY(A64,2)<6,WEEKDAY(A64,2)=6),C64<>\"\",E64<D64),ColTime(T.!$J$7,T.!$L$7,D64,AF61),IF(AND(WEEKDAY(A64,2)=6,E64<D64),ColTime(T.!$J$7,T.!$L$7,$AF$1,E64),IF(AND(E64<D64,OR(C64<>\"\",WEEKDAY(A64,2)=7)),ColTime(T.!J67,T.!L67,D64,$AF$1),IF(AND(E64<>\"\",OR(C64<>\"\",WEEKDAY(A64,2)=7)),ColTime(T.!$J$7,T.!$L$7,D64,E64),\"\")))))),\"\")","v":""},"",null,null,{"$f":"IFERROR(CHOOSE(WEEKDAY(A64,2),norm!C$1,norm!C$2,norm!C$3,norm!C$4,norm!C$5,norm!C$6,norm!C$7),\"\")","v":"00:00:00"}]
["2019-03-03","Sø","",null,null,null,"","00:00:00","",{"$f":"IF(AND(C65=\"\",WEEKDAY(A65,2)<6),ColTime(T.!$J$4,T.!$L$4,D65,E65),\"\")","v":""},null,{"$f":"IF(AND(OR(WEEKDAY(A65,2)=7,C65<>\"\"),E65<D65),ColTime($AF$1,$AG$1,'Hele året (2)'!$AF$1,E65),IF(WEEKDAY(A65,2)<6,ColTime(T.!$J$5,T.!$L$5,D65,E65),\"\"))","v":""},null,"",{"$f":"IFERROR(IF(AND(WEEKDAY(A65,2)<6,C66<>\"\",C65=\"\"),ColTime(T.!$J$7,T.!$L$7,$AF$1,'Hele året (2)'!E65),IF(AND(C65<>\"\",C66<>\"\"),ColTime(T.!$J$7,T.!$L$7,'Hele året (2)'!D65,'Hele året (2)'!E65),IF(AND(OR(WEEKDAY(A65,2)<6,WEEKDAY(A65,2)=6),C65<>\"\",E65<D65),ColTime(T.!$J$7,T.!$L$7,D65,AF62),IF(AND(WEEKDAY(A65,2)=6,E65<D65),ColTime(T.!$J$7,T.!$L$7,$AF$1,E65),IF(AND(E65<D65,OR(C65<>\"\",WEEKDAY(A65,2)=7)),ColTime(T.!J68,T.!L68,D65,$AF$1),IF(AND(E65<>\"\",OR(C65<>\"\",WEEKDAY(A65,2)=7)),ColTime(T.!$J$7,T.!$L$7,D65,E65),\"\")))))),\"\")","v":""},"",null,null,{"$f":"IFERROR(CHOOSE(WEEKDAY(A65,2),norm!C$1,norm!C$2,norm!C$3,norm!C$4,norm!C$5,norm!C$6,norm!C$7),\"\")","v":"00:00:00"}]
["2019-03-04","Ma","",null,null,null,"","00:00:00","",{"$f":"IF(AND(C66=\"\",WEEKDAY(A66,2)<6),ColTime(T.!$J$4,T.!$L$4,D66,E66),\"\")","v":"00:00:00"},null,{"$f":"IF(AND(OR(WEEKDAY(A66,2)=7,C66<>\"\"),E66<D66),ColTime($AF$1,$AG$1,'Hele året (2)'!$AF$1,E66),IF(WEEKDAY(A66,2)<6,ColTime(T.!$J$5,T.!$L$5,D66,E66),\"\"))","v":"00:00:00"},null,"",{"$f":"IFERROR(IF(AND(WEEKDAY(A66,2)<6,C67<>\"\",C66=\"\"),ColTime(T.!$J$7,T.!$L$7,$AF$1,'Hele året (2)'!E66),IF(AND(C66<>\"\",C67<>\"\"),ColTime(T.!$J$7,T.!$L$7,'Hele året (2)'!D66,'Hele året (2)'!E66),IF(AND(OR(WEEKDAY(A66,2)<6,WEEKDAY(A66,2)=6),C66<>\"\",E66<D66),ColTime(T.!$J$7,T.!$L$7,D66,AF63),IF(AND(WEEKDAY(A66,2)=6,E66<D66),ColTime(T.!$J$7,T.!$L$7,$AF$1,E66),IF(AND(E66<D66,OR(C66<>\"\",WEEKDAY(A66,2)=7)),ColTime(T.!J69,T.!L69,D66,$AF$1),IF(AND(E66<>\"\",OR(C66<>\"\",WEEKDAY(A66,2)=7)),ColTime(T.!$J$7,T.!$L$7,D66,E66),\"\")))))),\"\")","v":""},"",null,null,{"$f":"IFERROR(CHOOSE(WEEKDAY(A66,2),norm!C$1,norm!C$2,norm!C$3,norm!C$4,norm!C$5,norm!C$6,norm!C$7),\"\")","v":"07:30:00"}]
["2019-03-05","Ti","",null,null,null,"","00:00:00","",{"$f":"IF(AND(C67=\"\",WEEKDAY(A67,2)<6),ColTime(T.!$J$4,T.!$L$4,D67,E67),\"\")","v":"00:00:00"},null,{"$f":"IF(AND(OR(WEEKDAY(A67,2)=7,C67<>\"\"),E67<D67),ColTime($AF$1,$AG$1,'Hele året (2)'!$AF$1,E67),IF(WEEKDAY(A67,2)<6,ColTime(T.!$J$5,T.!$L$5,D67,E67),\"\"))","v":"00:00:00"},null,"",{"$f":"IFERROR(IF(AND(WEEKDAY(A67,2)<6,C68<>\"\",C67=\"\"),ColTime(T.!$J$7,T.!$L$7,$AF$1,'Hele året (2)'!E67),IF(AND(C67<>\"\",C68<>\"\"),ColTime(T.!$J$7,T.!$L$7,'Hele året (2)'!D67,'Hele året (2)'!E67),IF(AND(OR(WEEKDAY(A67,2)<6,WEEKDAY(A67,2)=6),C67<>\"\",E67<D67),ColTime(T.!$J$7,T.!$L$7,D67,AF64),IF(AND(WEEKDAY(A67,2)=6,E67<D67),ColTime(T.!$J$7,T.!$L$7,$AF$1,E67),IF(AND(E67<D67,OR(C67<>\"\",WEEKDAY(A67,2)=7)),ColTime(T.!J70,T.!L70,D67,$AF$1),IF(AND(E67<>\"\",OR(C67<>\"\",WEEKDAY(A67,2)=7)),ColTime(T.!$J$7,T.!$L$7,D67,E67),\"\")))))),\"\")","v":""},"",null,null,{"$f":"IFERROR(CHOOSE(WEEKDAY(A67,2),norm!C$1,norm!C$2,norm!C$3,norm!C$4,norm!C$5,norm!C$6,norm!C$7),\"\")","v":"07:30:00"}]
["2019-03-06","On","",null,null,null,"","00:00:00","",{"$f":"IF(AND(C68=\"\",WEEKDAY(A68,2)<6),ColTime(T.!$J$4,T.!$L$4,D68,E68),\"\")","v":"00:00:00"},null,{"$f":"IF(AND(OR(WEEKDAY(A68,2)=7,C68<>\"\"),E68<D68),ColTime($AF$1,$AG$1,'Hele året (2)'!$AF$1,E68),IF(WEEKDAY(A68,2)<6,ColTime(T.!$J$5,T.!$L$5,D68,E68),\"\"))","v":"00:00:00"},null,"",{"$f":"IFERROR(IF(AND(WEEKDAY(A68,2)<6,C69<>\"\",C68=\"\"),ColTime(T.!$J$7,T.!$L$7,$AF$1,'Hele året (2)'!E68),IF(AND(C68<>\"\",C69<>\"\"),ColTime(T.!$J$7,T.!$L$7,'Hele året (2)'!D68,'Hele året (2)'!E68),IF(AND(OR(WEEKDAY(A68,2)<6,WEEKDAY(A68,2)=6),C68<>\"\",E68<D68),ColTime(T.!$J$7,T.!$L$7,D68,AF65),IF(AND(WEEKDAY(A68,2)=6,E68<D68),ColTime(T.!$J$7,T.!$L$7,$AF$1,E68),IF(AND(E68<D68,OR(C68<>\"\",WEEKDAY(A68,2)=7)),ColTime(T.!J71,T.!L71,D68,$AF$1),IF(AND(E68<>\"\",OR(C68<>\"\",WEEKDAY(A68,2)=7)),ColTime(T.!$J$7,T.!$L$7,D68,E68),\"\")))))),\"\")","v":""},"",null,null,{"$f":"IFERROR(CHOOSE(WEEKDAY(A68,2),norm!C$1,norm!C$2,norm!C$3,norm!C$4,norm!C$5,norm!C$6,norm!C$7),\"\")","v":"07:30:00"}]
["2019-03-07","To","",null,null,null,{"$f":"IF(D69=\"\",\"\",(E69-D69)+(D69>E69)-F69)","v":""},{"$f":"IF(G69=\"\",0,IF(WEEKDAY(A69,2)=7,0,IF(G69>S69,MIN(G69-S69,$AI$1),0)))","v":"00:00:00"},{"$f":"IF(G69=\"\",\"\",IF(G69>S69+H69,G69-(S69+H69),\"\"))","v":""},{"$f":"IF(AND(C69=\"\",WEEKDAY(A69,2)<6),ColTime(T.!$J$4,T.!$L$4,D69,E69),\"\")","v":"00:00:00"},null,{"$f":"IF(AND(OR(WEEKDAY(A69,2)=7,C69<>\"\"),E69<D69),ColTime($AF$1,$AG$1,'Hele året (2)'!$AF$1,E69),IF(WEEKDAY(A69,2)<6,ColTime(T.!$J$5,T.!$L$5,D69,E69),\"\"))","v":"00:00:00"},null,"",{"$f":"IFERROR(IF(AND(WEEKDAY(A69,2)<6,C70<>\"\",C69=\"\"),ColTime(T.!$J$7,T.!$L$7,$AF$1,'Hele året (2)'!E69),IF(AND(C69<>\"\",C70<>\"\"),ColTime(T.!$J$7,T.!$L$7,'Hele året (2)'!D69,'Hele året (2)'!E69),IF(AND(OR(WEEKDAY(A69,2)<6,WEEKDAY(A69,2)=6),C69<>\"\",E69<D69),ColTime(T.!$J$7,T.!$L$7,D69,AF66),IF(AND(WEEKDAY(A69,2)=6,E69<D69),ColTime(T.!$J$7,T.!$L$7,$AF$1,E69),IF(AND(E69<D69,OR(C69<>\"\",WEEKDAY(A69,2)=7)),ColTime(T.!J72,T.!L72,D69,$AF$1),IF(AND(E69<>\"\",OR(C69<>\"\",WEEKDAY(A69,2)=7)),ColTime(T.!$J$7,T.!$L$7,D69,E69),\"\")))))),\"\")","v":""},"",null,null,{"$f":"IFERROR(CHOOSE(WEEKDAY(A69,2),norm!C$1,norm!C$2,norm!C$3,norm!C$4,norm!C$5,norm!C$6,norm!C$7),\"\")","v":"07:30:00"}]
["2019-03-08","Fr","",null,null,null,"","00:00:00","",{"$f":"IF(AND(C70=\"\",WEEKDAY(A70,2)<6),ColTime(T.!$J$4,T.!$L$4,D70,E70),\"\")","v":"00:00:00"},null,{"$f":"IF(AND(OR(WEEKDAY(A70,2)=7,C70<>\"\"),E70<D70),ColTime($AF$1,$AG$1,'Hele året (2)'!$AF$1,E70),IF(WEEKDAY(A70,2)<6,ColTime(T.!$J$5,T.!$L$5,D70,E70),\"\"))","v":"00:00:00"},null,"",{"$f":"IFERROR(IF(AND(WEEKDAY(A70,2)<6,C71<>\"\",C70=\"\"),ColTime(T.!$J$7,T.!$L$7,$AF$1,'Hele året (2)'!E70),IF(AND(C70<>\"\",C71<>\"\"),ColTime(T.!$J$7,T.!$L$7,'Hele året (2)'!D70,'Hele året (2)'!E70),IF(AND(OR(WEEKDAY(A70,2)<6,WEEKDAY(A70,2)=6),C70<>\"\",E70<D70),ColTime(T.!$J$7,T.!$L$7,D70,AF67),IF(AND(WEEKDAY(A70,2)=6,E70<D70),ColTime(T.!$J$7,T.!$L$7,$AF$1,E70),IF(AND(E70<D70,OR(C70<>\"\",WEEKDAY(A70,2)=7)),ColTime(T.!J73,T.!L73,D70,$AF$1),IF(AND(E70<>\"\",OR(C70<>\"\",WEEKDAY(A70,2)=7)),ColTime(T.!$J$7,T.!$L$7,D70,E70),\"\")))))),\"\")","v":""},"",null,null,{"$f":"IFERROR(CHOOSE(WEEKDAY(A70,2),norm!C$1,norm!C$2,norm!C$3,norm!C$4,norm!C$5,norm!C$6,norm!C$7),\"\")","v":"07:00:00"}]
["2019-03-09","Lø","",null,null,null,"","00:00:00","",{"$f":"IF(AND(C71=\"\",WEEKDAY(A71,2)<6),ColTime(T.!$J$4,T.!$L$4,D71,E71),\"\")","v":""},null,{"$f":"IF(AND(OR(WEEKDAY(A71,2)=7,C71<>\"\"),E71<D71),ColTime($AF$1,$AG$1,'Hele året (2)'!$AF$1,E71),IF(WEEKDAY(A71,2)<6,ColTime(T.!$J$5,T.!$L$5,D71,E71),\"\"))","v":""},null,"00:00:00",{"$f":"IFERROR(IF(AND(WEEKDAY(A71,2)<6,C72<>\"\",C71=\"\"),ColTime(T.!$J$7,T.!$L$7,$AF$1,'Hele året (2)'!E71),IF(AND(C71<>\"\",C72<>\"\"),ColTime(T.!$J$7,T.!$L$7,'Hele året (2)'!D71,'Hele året (2)'!E71),IF(AND(OR(WEEKDAY(A71,2)<6,WEEKDAY(A71,2)=6),C71<>\"\",E71<D71),ColTime(T.!$J$7,T.!$L$7,D71,AF68),IF(AND(WEEKDAY(A71,2)=6,E71<D71),ColTime(T.!$J$7,T.!$L$7,$AF$1,E71),IF(AND(E71<D71,OR(C71<>\"\",WEEKDAY(A71,2)=7)),ColTime(T.!J74,T.!L74,D71,$AF$1),IF(AND(E71<>\"\",OR(C71<>\"\",WEEKDAY(A71,2)=7)),ColTime(T.!$J$7,T.!$L$7,D71,E71),\"\")))))),\"\")","v":""},"",null,null,{"$f":"IFERROR(CHOOSE(WEEKDAY(A71,2),norm!C$1,norm!C$2,norm!C$3,norm!C$4,norm!C$5,norm!C$6,norm!C$7),\"\")","v":"00:00:00"}]
["2019-03-10","Sø","",null,null,null,"","00:00:00","",{"$f":"IF(AND(C72=\"\",WEEKDAY(A72,2)<6),ColTime(T.!$J$4,T.!$L$4,D72,E72),\"\")","v":""},null,{"$f":"IF(AND(OR(WEEKDAY(A72,2)=7,C72<>\"\"),E72<D72),ColTime($AF$1,$AG$1,'Hele året (2)'!$AF$1,E72),IF(WEEKDAY(A72,2)<6,ColTime(T.!$J$5,T.!$L$5,D72,E72),\"\"))","v":""},null,"",{"$f":"IFERROR(IF(AND(WEEKDAY(A72,2)<6,C73<>\"\",C72=\"\"),ColTime(T.!$J$7,T.!$L$7,$AF$1,'Hele året (2)'!E72),IF(AND(C72<>\"\",C73<>\"\"),ColTime(T.!$J$7,T.!$L$7,'Hele året (2)'!D72,'Hele året (2)'!E72),IF(AND(OR(WEEKDAY(A72,2)<6,WEEKDAY(A72,2)=6),C72<>\"\",E72<D72),ColTime(T.!$J$7,T.!$L$7,D72,AF69),IF(AND(WEEKDAY(A72,2)=6,E72<D72),ColTime(T.!$J$7,T.!$L$7,$AF$1,E72),IF(AND(E72<D72,OR(C72<>\"\",WEEKDAY(A72,2)=7)),ColTime(T.!J75,T.!L75,D72,$AF$1),IF(AND(E72<>\"\",OR(C72<>\"\",WEEKDAY(A72,2)=7)),ColTime(T.!$J$7,T.!$L$7,D72,E72),\"\")))))),\"\")","v":""},"",null,null,{"$f":"IFERROR(CHOOSE(WEEKDAY(A72,2),norm!C$1,norm!C$2,norm!C$3,norm!C$4,norm!C$5,norm!C$6,norm!C$7),\"\")","v":"00:00:00"}]
["2019-03-11","Ma","",null,null,null,"","00:00:00","",{"$f":"IF(AND(C73=\"\",WEEKDAY(A73,2)<6),ColTime(T.!$J$4,T.!$L$4,D73,E73),\"\")","v":"00:00:00"},null,{"$f":"IF(AND(OR(WEEKDAY(A73,2)=7,C73<>\"\"),E73<D73),ColTime($AF$1,$AG$1,'Hele året (2)'!$AF$1,E73),IF(WEEKDAY(A73,2)<6,ColTime(T.!$J$5,T.!$L$5,D73,E73),\"\"))","v":"00:00:00"},null,"",{"$f":"IFERROR(IF(AND(WEEKDAY(A73,2)<6,C74<>\"\",C73=\"\"),ColTime(T.!$J$7,T.!$L$7,$AF$1,'Hele året (2)'!E73),IF(AND(C73<>\"\",C74<>\"\"),ColTime(T.!$J$7,T.!$L$7,'Hele året (2)'!D73,'Hele året (2)'!E73),IF(AND(OR(WEEKDAY(A73,2)<6,WEEKDAY(A73,2)=6),C73<>\"\",E73<D73),ColTime(T.!$J$7,T.!$L$7,D73,AF70),IF(AND(WEEKDAY(A73,2)=6,E73<D73),ColTime(T.!$J$7,T.!$L$7,$AF$1,E73),IF(AND(E73<D73,OR(C73<>\"\",WEEKDAY(A73,2)=7)),ColTime(T.!J76,T.!L76,D73,$AF$1),IF(AND(E73<>\"\",OR(C73<>\"\",WEEKDAY(A73,2)=7)),ColTime(T.!$J$7,T.!$L$7,D73,E73),\"\")))))),\"\")","v":""},{"$f":"IFERROR(H73+I73,\"\")","v":""},null,null,{"$f":"IFERROR(CHOOSE(WEEKDAY(A73,2),norm!C$1,norm!C$2,norm!C$3,norm!C$4,norm!C$5,norm!C$6,norm!C$7),\"\")","v":"07:30:00"}]
["2019-03-12","Ti","",null,null,null,"","00:00:00","",{"$f":"IF(AND(C74=\"\",WEEKDAY(A74,2)<6),ColTime(T.!$J$4,T.!$L$4,D74,E74),\"\")","v":"00:00:00"},null,{"$f":"IF(AND(OR(WEEKDAY(A74,2)=7,C74<>\"\"),E74<D74),ColTime($AF$1,$AG$1,'Hele året (2)'!$AF$1,E74),IF(WEEKDAY(A74,2)<6,ColTime(T.!$J$5,T.!$L$5,D74,E74),\"\"))","v":"00:00:00"},null,"",{"$f":"IFERROR(IF(AND(WEEKDAY(A74,2)<6,C75<>\"\",C74=\"\"),ColTime(T.!$J$7,T.!$L$7,$AF$1,'Hele året (2)'!E74),IF(AND(C74<>\"\",C75<>\"\"),ColTime(T.!$J$7,T.!$L$7,'Hele året (2)'!D74,'Hele året (2)'!E74),IF(AND(OR(WEEKDAY(A74,2)<6,WEEKDAY(A74,2)=6),C74<>\"\",E74<D74),ColTime(T.!$J$7,T.!$L$7,D74,AF71),IF(AND(WEEKDAY(A74,2)=6,E74<D74),ColTime(T.!$J$7,T.!$L$7,$AF$1,E74),IF(AND(E74<D74,OR(C74<>\"\",WEEKDAY(A74,2)=7)),ColTime(T.!J77,T.!L77,D74,$AF$1),IF(AND(E74<>\"\",OR(C74<>\"\",WEEKDAY(A74,2)=7)),ColTime(T.!$J$7,T.!$L$7,D74,E74),\"\")))))),\"\")","v":""},"",null,null,{"$f":"IFERROR(CHOOSE(WEEKDAY(A74,2),norm!C$1,norm!C$2,norm!C$3,norm!C$4,norm!C$5,norm!C$6,norm!C$7),\"\")","v":"07:30:00"}]
["2019-03-13","On","",null,null,null,"","00:00:00","",{"$f":"IF(AND(C75=\"\",WEEKDAY(A75,2)<6),ColTime(T.!$J$4,T.!$L$4,D75,E75),\"\")","v":"00:00:00"},null,{"$f":"IF(AND(OR(WEEKDAY(A75,2)=7,C75<>\"\"),E75<D75),ColTime($AF$1,$AG$1,'Hele året (2)'!$AF$1,E75),IF(WEEKDAY(A75,2)<6,ColTime(T.!$J$5,T.!$L$5,D75,E75),\"\"))","v":"00:00:00"},null,{"$f":"IF(WEEKDAY(A75,2)=6,ColTime(TIME(15,0,0),TIME(24,0,0),D75,E75),\"\")","v":""},{"$f":"IFERROR(IF(AND(WEEKDAY(A75,2)<6,C76<>\"\",C75=\"\"),ColTime(T.!$J$7,T.!$L$7,$AF$1,'Hele året (2)'!E75),IF(AND(C75<>\"\",C76<>\"\"),ColTime(T.!$J$7,T.!$L$7,'Hele året (2)'!D75,'Hele året (2)'!E75),IF(AND(OR(WEEKDAY(A75,2)<6,WEEKDAY(A75,2)=6),C75<>\"\",E75<D75),ColTime(T.!$J$7,T.!$L$7,D75,AF72),IF(AND(WEEKDAY(A75,2)=6,E75<D75),ColTime(T.!$J$7,T.!$L$7,$AF$1,E75),IF(AND(E75<D75,OR(C75<>\"\",WEEKDAY(A75,2)=7)),ColTime(T.!J78,T.!L78,D75,$AF$1),IF(AND(E75<>\"\",OR(C75<>\"\",WEEKDAY(A75,2)=7)),ColTime(T.!$J$7,T.!$L$7,D75,E75),\"\")))))),\"\")","v":""},"",null,null,{"$f":"IFERROR(CHOOSE(WEEKDAY(A75,2),norm!C$1,norm!C$2,norm!C$3,norm!C$4,norm!C$5,norm!C$6,norm!C$7),\"\")","v":"07:30:00"}]
["2019-03-14","To","",null,null,null,"","00:00:00","",{"$f":"IF(AND(C76=\"\",WEEKDAY(A76,2)<6),ColTime(T.!$J$4,T.!$L$4,D76,E76),\"\")","v":"00:00:00"},null,{"$f":"IF(AND(OR(WEEKDAY(A76,2)=7,C76<>\"\"),E76<D76),ColTime($AF$1,$AG$1,'Hele året (2)'!$AF$1,E76),IF(WEEKDAY(A76,2)<6,ColTime(T.!$J$5,T.!$L$5,D76,E76),\"\"))","v":"00:00:00"},null,"",{"$f":"IFERROR(IF(AND(WEEKDAY(A76,2)<6,C77<>\"\",C76=\"\"),ColTime(T.!$J$7,T.!$L$7,$AF$1,'Hele året (2)'!E76),IF(AND(C76<>\"\",C77<>\"\"),ColTime(T.!$J$7,T.!$L$7,'Hele året (2)'!D76,'Hele året (2)'!E76),IF(AND(OR(WEEKDAY(A76,2)<6,WEEKDAY(A76,2)=6),C76<>\"\",E76<D76),ColTime(T.!$J$7,T.!$L$7,D76,AF73),IF(AND(WEEKDAY(A76,2)=6,E76<D76),ColTime(T.!$J$7,T.!$L$7,$AF$1,E76),IF(AND(E76<D76,OR(C76<>\"\",WEEKDAY(A76,2)=7)),ColTime(T.!J79,T.!L79,D76,$AF$1),IF(AND(E76<>\"\",OR(C76<>\"\",WEEKDAY(A76,2)=7)),ColTime(T.!$J$7,T.!$L$7,D76,E76),\"\")))))),\"\")","v":""},"",null,null,{"$f":"IFERROR(CHOOSE(WEEKDAY(A76,2),norm!C$1,norm!C$2,norm!C$3,norm!C$4,norm!C$5,norm!C$6,norm!C$7),\"\")","v":"07:30:00"}]
["2019-03-15","Fr","",null,null,null,"","00:00:00","",{"$f":"IF(AND(C77=\"\",WEEKDAY(A77,2)<6),ColTime(T.!$J$4,T.!$L$4,D77,E77),\"\")","v":"00:00:00"},null,{"$f":"IF(AND(OR(WEEKDAY(A77,2)=7,C77<>\"\"),E77<D77),ColTime($AF$1,$AG$1,'Hele året (2)'!$AF$1,E77),IF(WEEKDAY(A77,2)<6,ColTime(T.!$J$5,T.!$L$5,D77,E77),\"\"))","v":"00:00:00"},null,"",{"$f":"IFERROR(IF(AND(WEEKDAY(A77,2)<6,C78<>\"\",C77=\"\"),ColTime(T.!$J$7,T.!$L$7,$AF$1,'Hele året (2)'!E77),IF(AND(C77<>\"\",C78<>\"\"),ColTime(T.!$J$7,T.!$L$7,'Hele året (2)'!D77,'Hele året (2)'!E77),IF(AND(OR(WEEKDAY(A77,2)<6,WEEKDAY(A77,2)=6),C77<>\"\",E77<D77),ColTime(T.!$J$7,T.!$L$7,D77,AF74),IF(AND(WEEKDAY(A77,2)=6,E77<D77),ColTime(T.!$J$7,T.!$L$7,$AF$1,E77),IF(AND(E77<D77,OR(C77<>\"\",WEEKDAY(A77,2)=7)),ColTime(T.!J80,T.!L80,D77,$AF$1),IF(AND(E77<>\"\",OR(C77<>\"\",WEEKDAY(A77,2)=7)),ColTime(T.!$J$7,T.!$L$7,D77,E77),\"\")))))),\"\")","v":""},"",null,null,{"$f":"IFERROR(CHOOSE(WEEKDAY(A77,2),norm!C$1,norm!C$2,norm!C$3,norm!C$4,norm!C$5,norm!C$6,norm!C$7),\"\")","v":"07:00:00"}]
["2019-03-16","Lø","",null,null,null,"","00:00:00","",{"$f":"IF(AND(C78=\"\",WEEKDAY(A78,2)<6),ColTime(T.!$J$4,T.!$L$4,D78,E78),\"\")","v":""},null,{"$f":"IF(AND(OR(WEEKDAY(A78,2)=7,C78<>\"\"),E78<D78),ColTime($AF$1,$AG$1,'Hele året (2)'!$AF$1,E78),IF(WEEKDAY(A78,2)<6,ColTime(T.!$J$5,T.!$L$5,D78,E78),\"\"))","v":""},null,"00:00:00",{"$f":"IFERROR(IF(AND(WEEKDAY(A78,2)<6,C79<>\"\",C78=\"\"),ColTime(T.!$J$7,T.!$L$7,$AF$1,'Hele året (2)'!E78),IF(AND(C78<>\"\",C79<>\"\"),ColTime(T.!$J$7,T.!$L$7,'Hele året (2)'!D78,'Hele året (2)'!E78),IF(AND(OR(WEEKDAY(A78,2)<6,WEEKDAY(A78,2)=6),C78<>\"\",E78<D78),ColTime(T.!$J$7,T.!$L$7,D78,AF75),IF(AND(WEEKDAY(A78,2)=6,E78<D78),ColTime(T.!$J$7,T.!$L$7,$AF$1,E78),IF(AND(E78<D78,OR(C78<>\"\",WEEKDAY(A78,2)=7)),ColTime(T.!J81,T.!L81,D78,$AF$1),IF(AND(E78<>\"\",OR(C78<>\"\",WEEKDAY(A78,2)=7)),ColTime(T.!$J$7,T.!$L$7,D78,E78),\"\")))))),\"\")","v":""},"",null,null,{"$f":"IFERROR(CHOOSE(WEEKDAY(A78,2),norm!C$1,norm!C$2,norm!C$3,norm!C$4,norm!C$5,norm!C$6,norm!C$7),\"\")","v":"00:00:00"}]
["2019-03-17","Sø","",null,null,null,"","00:00:00","",{"$f":"IF(AND(C79=\"\",WEEKDAY(A79,2)<6),ColTime(T.!$J$4,T.!$L$4,D79,E79),\"\")","v":""},null,{"$f":"IF(AND(OR(WEEKDAY(A79,2)=7,C79<>\"\"),E79<D79),ColTime($AF$1,$AG$1,'Hele året (2)'!$AF$1,E79),IF(WEEKDAY(A79,2)<6,ColTime(T.!$J$5,T.!$L$5,D79,E79),\"\"))","v":""},null,"",{"$f":"IFERROR(IF(AND(WEEKDAY(A79,2)<6,C80<>\"\",C79=\"\"),ColTime(T.!$J$7,T.!$L$7,$AF$1,'Hele året (2)'!E79),IF(AND(C79<>\"\",C80<>\"\"),ColTime(T.!$J$7,T.!$L$7,'Hele året (2)'!D79,'Hele året (2)'!E79),IF(AND(OR(WEEKDAY(A79,2)<6,WEEKDAY(A79,2)=6),C79<>\"\",E79<D79),ColTime(T.!$J$7,T.!$L$7,D79,AF76),IF(AND(WEEKDAY(A79,2)=6,E79<D79),ColTime(T.!$J$7,T.!$L$7,$AF$1,E79),IF(AND(E79<D79,OR(C79<>\"\",WEEKDAY(A79,2)=7)),ColTime(T.!J82,T.!L82,D79,$AF$1),IF(AND(E79<>\"\",OR(C79<>\"\",WEEKDAY(A79,2)=7)),ColTime(T.!$J$7,T.!$L$7,D79,E79),\"\")))))),\"\")","v":""},"",null,null,{"$f":"IFERROR(CHOOSE(WEEKDAY(A79,2),norm!C$1,norm!C$2,norm!C$3,norm!C$4,norm!C$5,norm!C$6,norm!C$7),\"\")","v":"00:00:00"}]
["2019-03-18","Ma","",null,null,null,"","00:00:00","",{"$f":"IF(AND(C80=\"\",WEEKDAY(A80,2)<6),ColTime(T.!$J$4,T.!$L$4,D80,E80),\"\")","v":"00:00:00"},null,{"$f":"IF(AND(OR(WEEKDAY(A80,2)=7,C80<>\"\"),E80<D80),ColTime($AF$1,$AG$1,'Hele året (2)'!$AF$1,E80),IF(WEEKDAY(A80,2)<6,ColTime(T.!$J$5,T.!$L$5,D80,E80),\"\"))","v":"00:00:00"},null,"",{"$f":"IFERROR(IF(AND(WEEKDAY(A80,2)<6,C81<>\"\",C80=\"\"),ColTime(T.!$J$7,T.!$L$7,$AF$1,'Hele året (2)'!E80),IF(AND(C80<>\"\",C81<>\"\"),ColTime(T.!$J$7,T.!$L$7,'Hele året (2)'!D80,'Hele året (2)'!E80),IF(AND(OR(WEEKDAY(A80,2)<6,WEEKDAY(A80,2)=6),C80<>\"\",E80<D80),ColTime(T.!$J$7,T.!$L$7,D80,AF77),IF(AND(WEEKDAY(A80,2)=6,E80<D80),ColTime(T.!$J$7,T.!$L$7,$AF$1,E80),IF(AND(E80<D80,OR(C80<>\"\",WEEKDAY(A80,2)=7)),ColTime(T.!J83,T.!L83,D80,$AF$1),IF(AND(E80<>\"\",OR(C80<>\"\",WEEKDAY(A80,2)=7)),ColTime(T.!$J$7,T.!$L$7,D80,E80),\"\")))))),\"\")","v":""},"",null,null,{"$f":"IFERROR(CHOOSE(WEEKDAY(A80,2),norm!C$1,norm!C$2,norm!C$3,norm!C$4,norm!C$5,norm!C$6,norm!C$7),\"\")","v":"07:30:00"}]
["2019-03-19","Ti","",null,null,null,"","00:00:00","",{"$f":"IF(AND(C81=\"\",WEEKDAY(A81,2)<6),ColTime(T.!$J$4,T.!$L$4,D81,E81),\"\")","v":"00:00:00"},null,{"$f":"IF(AND(OR(WEEKDAY(A81,2)=7,C81<>\"\"),E81<D81),ColTime($AF$1,$AG$1,'Hele året (2)'!$AF$1,E81),IF(WEEKDAY(A81,2)<6,ColTime(T.!$J$5,T.!$L$5,D81,E81),\"\"))","v":"00:00:00"},null,"",{"$f":"IFERROR(IF(AND(WEEKDAY(A81,2)<6,C82<>\"\",C81=\"\"),ColTime(T.!$J$7,T.!$L$7,$AF$1,'Hele året (2)'!E81),IF(AND(C81<>\"\",C82<>\"\"),ColTime(T.!$J$7,T.!$L$7,'Hele året (2)'!D81,'Hele året (2)'!E81),IF(AND(OR(WEEKDAY(A81,2)<6,WEEKDAY(A81,2)=6),C81<>\"\",E81<D81),ColTime(T.!$J$7,T.!$L$7,D81,AF78),IF(AND(WEEKDAY(A81,2)=6,E81<D81),ColTime(T.!$J$7,T.!$L$7,$AF$1,E81),IF(AND(E81<D81,OR(C81<>\"\",WEEKDAY(A81,2)=7)),ColTime(T.!J84,T.!L84,D81,$AF$1),IF(AND(E81<>\"\",OR(C81<>\"\",WEEKDAY(A81,2)=7)),ColTime(T.!$J$7,T.!$L$7,D81,E81),\"\")))))),\"\")","v":""},"",null,null,{"$f":"IFERROR(CHOOSE(WEEKDAY(A81,2),norm!C$1,norm!C$2,norm!C$3,norm!C$4,norm!C$5,norm!C$6,norm!C$7),\"\")","v":"07:30:00"}]
["2019-03-20","On","",null,null,null,"","00:00:00","",{"$f":"IF(AND(C82=\"\",WEEKDAY(A82,2)<6),ColTime(T.!$J$4,T.!$L$4,D82,E82),\"\")","v":"00:00:00"},null,{"$f":"IF(AND(OR(WEEKDAY(A82,2)=7,C82<>\"\"),E82<D82),ColTime($AF$1,$AG$1,'Hele året (2)'!$AF$1,E82),IF(WEEKDAY(A82,2)<6,ColTime(T.!$J$5,T.!$L$5,D82,E82),\"\"))","v":"00:00:00"},null,"",{"$f":"IFERROR(IF(AND(WEEKDAY(A82,2)<6,C83<>\"\",C82=\"\"),ColTime(T.!$J$7,T.!$L$7,$AF$1,'Hele året (2)'!E82),IF(AND(C82<>\"\",C83<>\"\"),ColTime(T.!$J$7,T.!$L$7,'Hele året (2)'!D82,'Hele året (2)'!E82),IF(AND(OR(WEEKDAY(A82,2)<6,WEEKDAY(A82,2)=6),C82<>\"\",E82<D82),ColTime(T.!$J$7,T.!$L$7,D82,AF79),IF(AND(WEEKDAY(A82,2)=6,E82<D82),ColTime(T.!$J$7,T.!$L$7,$AF$1,E82),IF(AND(E82<D82,OR(C82<>\"\",WEEKDAY(A82,2)=7)),ColTime(T.!J85,T.!L85,D82,$AF$1),IF(AND(E82<>\"\",OR(C82<>\"\",WEEKDAY(A82,2)=7)),ColTime(T.!$J$7,T.!$L$7,D82,E82),\"\")))))),\"\")","v":""},"",null,null,{"$f":"IFERROR(CHOOSE(WEEKDAY(A82,2),norm!C$1,norm!C$2,norm!C$3,norm!C$4,norm!C$5,norm!C$6,norm!C$7),\"\")","v":"07:30:00"}]
["2019-03-21","To","",null,null,null,"","00:00:00","",{"$f":"IF(AND(C83=\"\",WEEKDAY(A83,2)<6),ColTime(T.!$J$4,T.!$L$4,D83,E83),\"\")","v":"00:00:00"},null,{"$f":"IF(AND(OR(WEEKDAY(A83,2)=7,C83<>\"\"),E83<D83),ColTime($AF$1,$AG$1,'Hele året (2)'!$AF$1,E83),IF(WEEKDAY(A83,2)<6,ColTime(T.!$J$5,T.!$L$5,D83,E83),\"\"))","v":"00:00:00"},null,"",{"$f":"IFERROR(IF(AND(WEEKDAY(A83,2)<6,C84<>\"\",C83=\"\"),ColTime(T.!$J$7,T.!$L$7,$AF$1,'Hele året (2)'!E83),IF(AND(C83<>\"\",C84<>\"\"),ColTime(T.!$J$7,T.!$L$7,'Hele året (2)'!D83,'Hele året (2)'!E83),IF(AND(OR(WEEKDAY(A83,2)<6,WEEKDAY(A83,2)=6),C83<>\"\",E83<D83),ColTime(T.!$J$7,T.!$L$7,D83,AF80),IF(AND(WEEKDAY(A83,2)=6,E83<D83),ColTime(T.!$J$7,T.!$L$7,$AF$1,E83),IF(AND(E83<D83,OR(C83<>\"\",WEEKDAY(A83,2)=7)),ColTime(T.!J86,T.!L86,D83,$AF$1),IF(AND(E83<>\"\",OR(C83<>\"\",WEEKDAY(A83,2)=7)),ColTime(T.!$J$7,T.!$L$7,D83,E83),\"\")))))),\"\")","v":""},"",null,null,{"$f":"IFERROR(CHOOSE(WEEKDAY(A83,2),norm!C$1,norm!C$2,norm!C$3,norm!C$4,norm!C$5,norm!C$6,norm!C$7),\"\")","v":"07:30:00"}]
["2019-03-22","Fr","",null,null,null,"","00:00:00","",{"$f":"IF(AND(C84=\"\",WEEKDAY(A84,2)<6),ColTime(T.!$J$4,T.!$L$4,D84,E84),\"\")","v":"00:00:00"},null,{"$f":"IF(AND(OR(WEEKDAY(A84,2)=7,C84<>\"\"),E84<D84),ColTime($AF$1,$AG$1,'Hele året (2)'!$AF$1,E84),IF(WEEKDAY(A84,2)<6,ColTime(T.!$J$5,T.!$L$5,D84,E84),\"\"))","v":"00:00:00"},null,"",{"$f":"IFERROR(IF(AND(WEEKDAY(A84,2)<6,C85<>\"\",C84=\"\"),ColTime(T.!$J$7,T.!$L$7,$AF$1,'Hele året (2)'!E84),IF(AND(C84<>\"\",C85<>\"\"),ColTime(T.!$J$7,T.!$L$7,'Hele året (2)'!D84,'Hele året (2)'!E84),IF(AND(OR(WEEKDAY(A84,2)<6,WEEKDAY(A84,2)=6),C84<>\"\",E84<D84),ColTime(T.!$J$7,T.!$L$7,D84,AF81),IF(AND(WEEKDAY(A84,2)=6,E84<D84),ColTime(T.!$J$7,T.!$L$7,$AF$1,E84),IF(AND(E84<D84,OR(C84<>\"\",WEEKDAY(A84,2)=7)),ColTime(T.!J87,T.!L87,D84,$AF$1),IF(AND(E84<>\"\",OR(C84<>\"\",WEEKDAY(A84,2)=7)),ColTime(T.!$J$7,T.!$L$7,D84,E84),\"\")))))),\"\")","v":""},"",null,null,{"$f":"IFERROR(CHOOSE(WEEKDAY(A84,2),norm!C$1,norm!C$2,norm!C$3,norm!C$4,norm!C$5,norm!C$6,norm!C$7),\"\")","v":"07:00:00"}]
["2019-03-23","Lø","",null,null,null,"","00:00:00","",{"$f":"IF(AND(C85=\"\",WEEKDAY(A85,2)<6),ColTime(T.!$J$4,T.!$L$4,D85,E85),\"\")","v":""},null,{"$f":"IF(AND(OR(WEEKDAY(A85,2)=7,C85<>\"\"),E85<D85),ColTime($AF$1,$AG$1,'Hele året (2)'!$AF$1,E85),IF(WEEKDAY(A85,2)<6,ColTime(T.!$J$5,T.!$L$5,D85,E85),\"\"))","v":""},null,"00:00:00",{"$f":"IFERROR(IF(AND(WEEKDAY(A85,2)<6,C86<>\"\",C85=\"\"),ColTime(T.!$J$7,T.!$L$7,$AF$1,'Hele året (2)'!E85),IF(AND(C85<>\"\",C86<>\"\"),ColTime(T.!$J$7,T.!$L$7,'Hele året (2)'!D85,'Hele året (2)'!E85),IF(AND(OR(WEEKDAY(A85,2)<6,WEEKDAY(A85,2)=6),C85<>\"\",E85<D85),ColTime(T.!$J$7,T.!$L$7,D85,AF82),IF(AND(WEEKDAY(A85,2)=6,E85<D85),ColTime(T.!$J$7,T.!$L$7,$AF$1,E85),IF(AND(E85<D85,OR(C85<>\"\",WEEKDAY(A85,2)=7)),ColTime(T.!J88,T.!L88,D85,$AF$1),IF(AND(E85<>\"\",OR(C85<>\"\",WEEKDAY(A85,2)=7)),ColTime(T.!$J$7,T.!$L$7,D85,E85),\"\")))))),\"\")","v":""},"",null,null,{"$f":"IFERROR(CHOOSE(WEEKDAY(A85,2),norm!C$1,norm!C$2,norm!C$3,norm!C$4,norm!C$5,norm!C$6,norm!C$7),\"\")","v":"00:00:00"}]
["2019-03-24","Sø","",null,null,null,"","00:00:00","",{"$f":"IF(AND(C86=\"\",WEEKDAY(A86,2)<6),ColTime(T.!$J$4,T.!$L$4,D86,E86),\"\")","v":""},null,{"$f":"IF(AND(OR(WEEKDAY(A86,2)=7,C86<>\"\"),E86<D86),ColTime($AF$1,$AG$1,'Hele året (2)'!$AF$1,E86),IF(WEEKDAY(A86,2)<6,ColTime(T.!$J$5,T.!$L$5,D86,E86),\"\"))","v":""},null,"",{"$f":"IFERROR(IF(AND(WEEKDAY(A86,2)<6,C87<>\"\",C86=\"\"),ColTime(T.!$J$7,T.!$L$7,$AF$1,'Hele året (2)'!E86),IF(AND(C86<>\"\",C87<>\"\"),ColTime(T.!$J$7,T.!$L$7,'Hele året (2)'!D86,'Hele året (2)'!E86),IF(AND(OR(WEEKDAY(A86,2)<6,WEEKDAY(A86,2)=6),C86<>\"\",E86<D86),ColTime(T.!$J$7,T.!$L$7,D86,AF83),IF(AND(WEEKDAY(A86,2)=6,E86<D86),ColTime(T.!$J$7,T.!$L$7,$AF$1,E86),IF(AND(E86<D86,OR(C86<>\"\",WEEKDAY(A86,2)=7)),ColTime(T.!J89,T.!L89,D86,$AF$1),IF(AND(E86<>\"\",OR(C86<>\"\",WEEKDAY(A86,2)=7)),ColTime(T.!$J$7,T.!$L$7,D86,E86),\"\")))))),\"\")","v":""},"",null,null,{"$f":"IFERROR(CHOOSE(WEEKDAY(A86,2),norm!C$1,norm!C$2,norm!C$3,norm!C$4,norm!C$5,norm!C$6,norm!C$7),\"\")","v":"00:00:00"}]
["2019-03-25","Ma","",null,null,null,"","00:00:00","",{"$f":"IF(AND(C87=\"\",WEEKDAY(A87,2)<6),ColTime(T.!$J$4,T.!$L$4,D87,E87),\"\")","v":"00:00:00"},null,{"$f":"IF(AND(OR(WEEKDAY(A87,2)=7,C87<>\"\"),E87<D87),ColTime($AF$1,$AG$1,'Hele året (2)'!$AF$1,E87),IF(WEEKDAY(A87,2)<6,ColTime(T.!$J$5,T.!$L$5,D87,E87),\"\"))","v":"00:00:00"},null,"",{"$f":"IFERROR(IF(AND(WEEKDAY(A87,2)<6,C88<>\"\",C87=\"\"),ColTime(T.!$J$7,T.!$L$7,$AF$1,'Hele året (2)'!E87),IF(AND(C87<>\"\",C88<>\"\"),ColTime(T.!$J$7,T.!$L$7,'Hele året (2)'!D87,'Hele året (2)'!E87),IF(AND(OR(WEEKDAY(A87,2)<6,WEEKDAY(A87,2)=6),C87<>\"\",E87<D87),ColTime(T.!$J$7,T.!$L$7,D87,AF84),IF(AND(WEEKDAY(A87,2)=6,E87<D87),ColTime(T.!$J$7,T.!$L$7,$AF$1,E87),IF(AND(E87<D87,OR(C87<>\"\",WEEKDAY(A87,2)=7)),ColTime(T.!J90,T.!L90,D87,$AF$1),IF(AND(E87<>\"\",OR(C87<>\"\",WEEKDAY(A87,2)=7)),ColTime(T.!$J$7,T.!$L$7,D87,E87),\"\")))))),\"\")","v":""},"",null,null,{"$f":"IFERROR(CHOOSE(WEEKDAY(A87,2),norm!C$1,norm!C$2,norm!C$3,norm!C$4,norm!C$5,norm!C$6,norm!C$7),\"\")","v":"07:30:00"}]
["2019-03-26","Ti","",null,null,null,"","00:00:00","",{"$f":"IF(AND(C88=\"\",WEEKDAY(A88,2)<6),ColTime(T.!$J$4,T.!$L$4,D88,E88),\"\")","v":"00:00:00"},null,{"$f":"IF(AND(OR(WEEKDAY(A88,2)=7,C88<>\"\"),E88<D88),ColTime($AF$1,$AG$1,'Hele året (2)'!$AF$1,E88),IF(WEEKDAY(A88,2)<6,ColTime(T.!$J$5,T.!$L$5,D88,E88),\"\"))","v":"00:00:00"},null,"",{"$f":"IFERROR(IF(AND(WEEKDAY(A88,2)<6,C89<>\"\",C88=\"\"),ColTime(T.!$J$7,T.!$L$7,$AF$1,'Hele året (2)'!E88),IF(AND(C88<>\"\",C89<>\"\"),ColTime(T.!$J$7,T.!$L$7,'Hele året (2)'!D88,'Hele året (2)'!E88),IF(AND(OR(WEEKDAY(A88,2)<6,WEEKDAY(A88,2)=6),C88<>\"\",E88<D88),ColTime(T.!$J$7,T.!$L$7,D88,AF85),IF(AND(WEEKDAY(A88,2)=6,E88<D88),ColTime(T.!$J$7,T.!$L$7,$AF$1,E88),IF(AND(E88<D88,OR(C88<>\"\",WEEKDAY(A88,2)=7)),ColTime(T.!J91,T.!L91,D88,$AF$1),IF(AND(E88<>\"\",OR(C88<>\"\",WEEKDAY(A88,2)=7)),ColTime(T.!$J$7,T.!$L$7,D88,E88),\"\")))))),\"\")","v":""},"",null,null,{"$f":"IFERROR(CHOOSE(WEEKDAY(A88,2),norm!C$1,norm!C$2,norm!C$3,norm!C$4,norm!C$5,norm!C$6,norm!C$7),\"\")","v":"07:30:00"}]
["2019-03-27","On","",null,null,null,"","00:00:00","",{"$f":"IF(AND(C89=\"\",WEEKDAY(A89,2)<6),ColTime(T.!$J$4,T.!$L$4,D89,E89),\"\")","v":"00:00:00"},null,{"$f":"IF(AND(OR(WEEKDAY(A89,2)=7,C89<>\"\"),E89<D89),ColTime($AF$1,$AG$1,'Hele året (2)'!$AF$1,E89),IF(WEEKDAY(A89,2)<6,ColTime(T.!$J$5,T.!$L$5,D89,E89),\"\"))","v":"00:00:00"},null,"",{"$f":"IFERROR(IF(AND(WEEKDAY(A89,2)<6,C90<>\"\",C89=\"\"),ColTime(T.!$J$7,T.!$L$7,$AF$1,'Hele året (2)'!E89),IF(AND(C89<>\"\",C90<>\"\"),ColTime(T.!$J$7,T.!$L$7,'Hele året (2)'!D89,'Hele året (2)'!E89),IF(AND(OR(WEEKDAY(A89,2)<6,WEEKDAY(A89,2)=6),C89<>\"\",E89<D89),ColTime(T.!$J$7,T.!$L$7,D89,AF86),IF(AND(WEEKDAY(A89,2)=6,E89<D89),ColTime(T.!$J$7,T.!$L$7,$AF$1,E89),IF(AND(E89<D89,OR(C89<>\"\",WEEKDAY(A89,2)=7)),ColTime(T.!J92,T.!L92,D89,$AF$1),IF(AND(E89<>\"\",OR(C89<>\"\",WEEKDAY(A89,2)=7)),ColTime(T.!$J$7,T.!$L$7,D89,E89),\"\")))))),\"\")","v":""},"",null,null,{"$f":"IFERROR(CHOOSE(WEEKDAY(A89,2),norm!C$1,norm!C$2,norm!C$3,norm!C$4,norm!C$5,norm!C$6,norm!C$7),\"\")","v":"07:30:00"}]
["2019-03-28","To","",null,null,null,"","00:00:00","",{"$f":"IF(AND(C90=\"\",WEEKDAY(A90,2)<6),ColTime(T.!$J$4,T.!$L$4,D90,E90),\"\")","v":"00:00:00"},null,{"$f":"IF(AND(OR(WEEKDAY(A90,2)=7,C90<>\"\"),E90<D90),ColTime($AF$1,$AG$1,'Hele året (2)'!$AF$1,E90),IF(WEEKDAY(A90,2)<6,ColTime(T.!$J$5,T.!$L$5,D90,E90),\"\"))","v":"00:00:00"},null,"",{"$f":"IFERROR(IF(AND(WEEKDAY(A90,2)<6,C91<>\"\",C90=\"\"),ColTime(T.!$J$7,T.!$L$7,$AF$1,'Hele året (2)'!E90),IF(AND(C90<>\"\",C91<>\"\"),ColTime(T.!$J$7,T.!$L$7,'Hele året (2)'!D90,'Hele året (2)'!E90),IF(AND(OR(WEEKDAY(A90,2)<6,WEEKDAY(A90,2)=6),C90<>\"\",E90<D90),ColTime(T.!$J$7,T.!$L$7,D90,AF87),IF(AND(WEEKDAY(A90,2)=6,E90<D90),ColTime(T.!$J$7,T.!$L$7,$AF$1,E90),IF(AND(E90<D90,OR(C90<>\"\",WEEKDAY(A90,2)=7)),ColTime(T.!J93,T.!L93,D90,$AF$1),IF(AND(E90<>\"\",OR(C90<>\"\",WEEKDAY(A90,2)=7)),ColTime(T.!$J$7,T.!$L$7,D90,E90),\"\")))))),\"\")","v":""},"",null,null,{"$f":"IFERROR(CHOOSE(WEEKDAY(A90,2),norm!C$1,norm!C$2,norm!C$3,norm!C$4,norm!C$5,norm!C$6,norm!C$7),\"\")","v":"07:30:00"}]
[{"$f":"A90+1","v":"2019-03-29"},"Fr","",null,null,null,"","00:00:00","",{"$f":"IF(AND(C91=\"\",WEEKDAY(A91,2)<6),ColTime(T.!$J$4,T.!$L$4,D91,E91),\"\")","v":"00:00:00"},null,{"$f":"IF(AND(OR(WEEKDAY(A91,2)=7,C91<>\"\"),E91<D91),ColTime($AF$1,$AG$1,'Hele året (2)'!$AF$1,E91),IF(WEEKDAY(A91,2)<6,ColTime(T.!$J$5,T.!$L$5,D91,E91),\"\"))","v":"00:00:00"},null,"",{"$f":"IFERROR(IF(AND(WEEKDAY(A91,2)<6,C92<>\"\",C91=\"\"),ColTime(T.!$J$7,T.!$L$7,$AF$1,'Hele året (2)'!E91),IF(AND(C91<>\"\",C92<>\"\"),ColTime(T.!$J$7,T.!$L$7,'Hele året (2)'!D91,'Hele året (2)'!E91),IF(AND(OR(WEEKDAY(A91,2)<6,WEEKDAY(A91,2)=6),C91<>\"\",E91<D91),ColTime(T.!$J$7,T.!$L$7,D91,AF88),IF(AND(WEEKDAY(A91,2)=6,E91<D91),ColTime(T.!$J$7,T.!$L$7,$AF$1,E91),IF(AND(E91<D91,OR(C91<>\"\",WEEKDAY(A91,2)=7)),ColTime(T.!J94,T.!L94,D91,$AF$1),IF(AND(E91<>\"\",OR(C91<>\"\",WEEKDAY(A91,2)=7)),ColTime(T.!$J$7,T.!$L$7,D91,E91),\"\")))))),\"\")","v":""},"",null,null,{"$f":"IFERROR(CHOOSE(WEEKDAY(A91,2),norm!C$1,norm!C$2,norm!C$3,norm!C$4,norm!C$5,norm!C$6,norm!C$7),\"\")","v":"07:00:00"}]
["2019-03-30","Lø","",null,null,null,"","00:00:00","",{"$f":"IF(AND(C92=\"\",WEEKDAY(A92,2)<6),ColTime(T.!$J$4,T.!$L$4,D92,E92),\"\")","v":""},null,{"$f":"IF(AND(OR(WEEKDAY(A92,2)=7,C92<>\"\"),E92<D92),ColTime($AF$1,$AG$1,'Hele året (2)'!$AF$1,E92),IF(WEEKDAY(A92,2)<6,ColTime(T.!$J$5,T.!$L$5,D92,E92),\"\"))","v":""},null,"00:00:00",{"$f":"IFERROR(IF(AND(WEEKDAY(A92,2)<6,C93<>\"\",C92=\"\"),ColTime(T.!$J$7,T.!$L$7,$AF$1,'Hele året (2)'!E92),IF(AND(C92<>\"\",C93<>\"\"),ColTime(T.!$J$7,T.!$L$7,'Hele året (2)'!D92,'Hele året (2)'!E92),IF(AND(OR(WEEKDAY(A92,2)<6,WEEKDAY(A92,2)=6),C92<>\"\",E92<D92),ColTime(T.!$J$7,T.!$L$7,D92,AF89),IF(AND(WEEKDAY(A92,2)=6,E92<D92),ColTime(T.!$J$7,T.!$L$7,$AF$1,E92),IF(AND(E92<D92,OR(C92<>\"\",WEEKDAY(A92,2)=7)),ColTime(T.!J95,T.!L95,D92,$AF$1),IF(AND(E92<>\"\",OR(C92<>\"\",WEEKDAY(A92,2)=7)),ColTime(T.!$J$7,T.!$L$7,D92,E92),\"\")))))),\"\")","v":""},"",null,null,{"$f":"IFERROR(CHOOSE(WEEKDAY(A92,2),norm!C$1,norm!C$2,norm!C$3,norm!C$4,norm!C$5,norm!C$6,norm!C$7),\"\")","v":"00:00:00"}]
["2019-03-31","Sø","",null,null,null,"","00:00:00","",{"$f":"IF(AND(C93=\"\",WEEKDAY(A93,2)<6),ColTime(T.!$J$4,T.!$L$4,D93,E93),\"\")","v":""},null,{"$f":"IF(AND(OR(WEEKDAY(A93,2)=7,C93<>\"\"),E93<D93),ColTime($AF$1,$AG$1,'Hele året (2)'!$AF$1,E93),IF(WEEKDAY(A93,2)<6,ColTime(T.!$J$5,T.!$L$5,D93,E93),\"\"))","v":""},null,"",{"$f":"IFERROR(IF(AND(WEEKDAY(A93,2)<6,C94<>\"\",C93=\"\"),ColTime(T.!$J$7,T.!$L$7,$AF$1,'Hele året (2)'!E93),IF(AND(C93<>\"\",C94<>\"\"),ColTime(T.!$J$7,T.!$L$7,'Hele året (2)'!D93,'Hele året (2)'!E93),IF(AND(OR(WEEKDAY(A93,2)<6,WEEKDAY(A93,2)=6),C93<>\"\",E93<D93),ColTime(T.!$J$7,T.!$L$7,D93,AF90),IF(AND(WEEKDAY(A93,2)=6,E93<D93),ColTime(T.!$J$7,T.!$L$7,$AF$1,E93),IF(AND(E93<D93,OR(C93<>\"\",WEEKDAY(A93,2)=7)),ColTime(T.!J96,T.!L96,D93,$AF$1),IF(AND(E93<>\"\",OR(C93<>\"\",WEEKDAY(A93,2)=7)),ColTime(T.!$J$7,T.!$L$7,D93,E93),\"\")))))),\"\")","v":""},"",null,null,{"$f":"IFERROR(CHOOSE(WEEKDAY(A93,2),norm!C$1,norm!C$2,norm!C$3,norm!C$4,norm!C$5,norm!C$6,norm!C$7),\"\")","v":"00:00:00"}]
["2019-04-01","Ma","",null,null,null,"","00:00:00","",{"$f":"IF(AND(C94=\"\",WEEKDAY(A94,2)<6),ColTime(T.!$J$4,T.!$L$4,D94,E94),\"\")","v":"00:00:00"},null,{"$f":"IF(AND(OR(WEEKDAY(A94,2)=7,C94<>\"\"),E94<D94),ColTime($AF$1,$AG$1,'Hele året (2)'!$AF$1,E94),IF(WEEKDAY(A94,2)<6,ColTime(T.!$J$5,T.!$L$5,D94,E94),\"\"))","v":"00:00:00"},null,"",{"$f":"IFERROR(IF(AND(WEEKDAY(A94,2)<6,C95<>\"\",C94=\"\"),ColTime(T.!$J$7,T.!$L$7,$AF$1,'Hele året (2)'!E94),IF(AND(C94<>\"\",C95<>\"\"),ColTime(T.!$J$7,T.!$L$7,'Hele året (2)'!D94,'Hele året (2)'!E94),IF(AND(OR(WEEKDAY(A94,2)<6,WEEKDAY(A94,2)=6),C94<>\"\",E94<D94),ColTime(T.!$J$7,T.!$L$7,D94,AF91),IF(AND(WEEKDAY(A94,2)=6,E94<D94),ColTime(T.!$J$7,T.!$L$7,$AF$1,E94),IF(AND(E94<D94,OR(C94<>\"\",WEEKDAY(A94,2)=7)),ColTime(T.!J97,T.!L97,D94,$AF$1),IF(AND(E94<>\"\",OR(C94<>\"\",WEEKDAY(A94,2)=7)),ColTime(T.!$J$7,T.!$L$7,D94,E94),\"\")))))),\"\")","v":""},"",null,null,{"$f":"IFERROR(CHOOSE(WEEKDAY(A94,2),norm!C$1,norm!C$2,norm!C$3,norm!C$4,norm!C$5,norm!C$6,norm!C$7),\"\")","v":"07:30:00"}]
["2019-04-02","Ti","",null,null,null,"","00:00:00","",{"$f":"IF(AND(C95=\"\",WEEKDAY(A95,2)<6),ColTime(T.!$J$4,T.!$L$4,D95,E95),\"\")","v":"00:00:00"},null,{"$f":"IF(AND(OR(WEEKDAY(A95,2)=7,C95<>\"\"),E95<D95),ColTime($AF$1,$AG$1,'Hele året (2)'!$AF$1,E95),IF(WEEKDAY(A95,2)<6,ColTime(T.!$J$5,T.!$L$5,D95,E95),\"\"))","v":"00:00:00"},null,"",{"$f":"IFERROR(IF(AND(WEEKDAY(A95,2)<6,C96<>\"\",C95=\"\"),ColTime(T.!$J$7,T.!$L$7,$AF$1,'Hele året (2)'!E95),IF(AND(C95<>\"\",C96<>\"\"),ColTime(T.!$J$7,T.!$L$7,'Hele året (2)'!D95,'Hele året (2)'!E95),IF(AND(OR(WEEKDAY(A95,2)<6,WEEKDAY(A95,2)=6),C95<>\"\",E95<D95),ColTime(T.!$J$7,T.!$L$7,D95,AF92),IF(AND(WEEKDAY(A95,2)=6,E95<D95),ColTime(T.!$J$7,T.!$L$7,$AF$1,E95),IF(AND(E95<D95,OR(C95<>\"\",WEEKDAY(A95,2)=7)),ColTime(T.!J98,T.!L98,D95,$AF$1),IF(AND(E95<>\"\",OR(C95<>\"\",WEEKDAY(A95,2)=7)),ColTime(T.!$J$7,T.!$L$7,D95,E95),\"\")))))),\"\")","v":""},"",null,null,{"$f":"IFERROR(CHOOSE(WEEKDAY(A95,2),norm!C$1,norm!C$2,norm!C$3,norm!C$4,norm!C$5,norm!C$6,norm!C$7),\"\")","v":"07:30:00"}]
["2019-04-03","On","",null,null,null,"","00:00:00","",{"$f":"IF(AND(C96=\"\",WEEKDAY(A96,2)<6),ColTime(T.!$J$4,T.!$L$4,D96,E96),\"\")","v":"00:00:00"},null,{"$f":"IF(AND(OR(WEEKDAY(A96,2)=7,C96<>\"\"),E96<D96),ColTime($AF$1,$AG$1,'Hele året (2)'!$AF$1,E96),IF(WEEKDAY(A96,2)<6,ColTime(T.!$J$5,T.!$L$5,D96,E96),\"\"))","v":"00:00:00"},null,"",{"$f":"IFERROR(IF(AND(WEEKDAY(A96,2)<6,C97<>\"\",C96=\"\"),ColTime(T.!$J$7,T.!$L$7,$AF$1,'Hele året (2)'!E96),IF(AND(C96<>\"\",C97<>\"\"),ColTime(T.!$J$7,T.!$L$7,'Hele året (2)'!D96,'Hele året (2)'!E96),IF(AND(OR(WEEKDAY(A96,2)<6,WEEKDAY(A96,2)=6),C96<>\"\",E96<D96),ColTime(T.!$J$7,T.!$L$7,D96,AF93),IF(AND(WEEKDAY(A96,2)=6,E96<D96),ColTime(T.!$J$7,T.!$L$7,$AF$1,E96),IF(AND(E96<D96,OR(C96<>\"\",WEEKDAY(A96,2)=7)),ColTime(T.!J99,T.!L99,D96,$AF$1),IF(AND(E96<>\"\",OR(C96<>\"\",WEEKDAY(A96,2)=7)),ColTime(T.!$J$7,T.!$L$7,D96,E96),\"\")))))),\"\")","v":""},"",null,null,{"$f":"IFERROR(CHOOSE(WEEKDAY(A96,2),norm!C$1,norm!C$2,norm!C$3,norm!C$4,norm!C$5,norm!C$6,norm!C$7),\"\")","v":"07:30:00"}]
["2019-04-04","To","",null,null,null,"","00:00:00","",{"$f":"IF(AND(C97=\"\",WEEKDAY(A97,2)<6),ColTime(T.!$J$4,T.!$L$4,D97,E97),\"\")","v":"00:00:00"},null,{"$f":"IF(AND(OR(WEEKDAY(A97,2)=7,C97<>\"\"),E97<D97),ColTime($AF$1,$AG$1,'Hele året (2)'!$AF$1,E97),IF(WEEKDAY(A97,2)<6,ColTime(T.!$J$5,T.!$L$5,D97,E97),\"\"))","v":"00:00:00"},null,"",{"$f":"IFERROR(IF(AND(WEEKDAY(A97,2)<6,C98<>\"\",C97=\"\"),ColTime(T.!$J$7,T.!$L$7,$AF$1,'Hele året (2)'!E97),IF(AND(C97<>\"\",C98<>\"\"),ColTime(T.!$J$7,T.!$L$7,'Hele året (2)'!D97,'Hele året (2)'!E97),IF(AND(OR(WEEKDAY(A97,2)<6,WEEKDAY(A97,2)=6),C97<>\"\",E97<D97),ColTime(T.!$J$7,T.!$L$7,D97,AF94),IF(AND(WEEKDAY(A97,2)=6,E97<D97),ColTime(T.!$J$7,T.!$L$7,$AF$1,E97),IF(AND(E97<D97,OR(C97<>\"\",WEEKDAY(A97,2)=7)),ColTime(T.!J100,T.!L100,D97,$AF$1),IF(AND(E97<>\"\",OR(C97<>\"\",WEEKDAY(A97,2)=7)),ColTime(T.!$J$7,T.!$L$7,D97,E97),\"\")))))),\"\")","v":""},"",null,null,{"$f":"IFERROR(CHOOSE(WEEKDAY(A97,2),norm!C$1,norm!C$2,norm!C$3,norm!C$4,norm!C$5,norm!C$6,norm!C$7),\"\")","v":"07:30:00"}]
["2019-04-05","Fr","",null,null,null,"","00:00:00","",{"$f":"IF(AND(C98=\"\",WEEKDAY(A98,2)<6),ColTime(T.!$J$4,T.!$L$4,D98,E98),\"\")","v":"00:00:00"},null,{"$f":"IF(AND(OR(WEEKDAY(A98,2)=7,C98<>\"\"),E98<D98),ColTime($AF$1,$AG$1,'Hele året (2)'!$AF$1,E98),IF(WEEKDAY(A98,2)<6,ColTime(T.!$J$5,T.!$L$5,D98,E98),\"\"))","v":"00:00:00"},null,"",{"$f":"IFERROR(IF(AND(WEEKDAY(A98,2)<6,C99<>\"\",C98=\"\"),ColTime(T.!$J$7,T.!$L$7,$AF$1,'Hele året (2)'!E98),IF(AND(C98<>\"\",C99<>\"\"),ColTime(T.!$J$7,T.!$L$7,'Hele året (2)'!D98,'Hele året (2)'!E98),IF(AND(OR(WEEKDAY(A98,2)<6,WEEKDAY(A98,2)=6),C98<>\"\",E98<D98),ColTime(T.!$J$7,T.!$L$7,D98,AF95),IF(AND(WEEKDAY(A98,2)=6,E98<D98),ColTime(T.!$J$7,T.!$L$7,$AF$1,E98),IF(AND(E98<D98,OR(C98<>\"\",WEEKDAY(A98,2)=7)),ColTime(T.!J101,T.!L101,D98,$AF$1),IF(AND(E98<>\"\",OR(C98<>\"\",WEEKDAY(A98,2)=7)),ColTime(T.!$J$7,T.!$L$7,D98,E98),\"\")))))),\"\")","v":""},"",null,null,{"$f":"IFERROR(CHOOSE(WEEKDAY(A98,2),norm!C$1,norm!C$2,norm!C$3,norm!C$4,norm!C$5,norm!C$6,norm!C$7),\"\")","v":"07:00:00"}]
["2019-04-06",{"$f":"IFERROR(PROPER(TEXT(A99,\"ddd\")),\"\")","v":"Lø"},{"$f":"IF(A99=\"\",\"\",HelligdagsNavn(A99,0,0))","v":""},null,null,null,"","00:00:00","",{"$f":"IF(AND(C99=\"\",WEEKDAY(A99,2)<6),ColTime(T.!$J$4,T.!$L$4,D99,E99),\"\")","v":""},null,{"$f":"IF(AND(OR(WEEKDAY(A99,2)=7,C99<>\"\"),E99<D99),ColTime($AF$1,$AG$1,'Hele året (2)'!$AF$1,E99),IF(WEEKDAY(A99,2)<6,ColTime(T.!$J$5,T.!$L$5,D99,E99),\"\"))","v":""},null,"00:00:00",{"$f":"IFERROR(IF(AND(WEEKDAY(A99,2)<6,C100<>\"\",C99=\"\"),ColTime(T.!$J$7,T.!$L$7,$AF$1,'Hele året (2)'!E99),IF(AND(C99<>\"\",C100<>\"\"),ColTime(T.!$J$7,T.!$L$7,'Hele året (2)'!D99,'Hele året (2)'!E99),IF(AND(OR(WEEKDAY(A99,2)<6,WEEKDAY(A99,2)=6),C99<>\"\",E99<D99),ColTime(T.!$J$7,T.!$L$7,D99,AF96),IF(AND(WEEKDAY(A99,2)=6,E99<D99),ColTime(T.!$J$7,T.!$L$7,$AF$1,E99),IF(AND(E99<D99,OR(C99<>\"\",WEEKDAY(A99,2)=7)),ColTime(T.!J102,T.!L102,D99,$AF$1),IF(AND(E99<>\"\",OR(C99<>\"\",WEEKDAY(A99,2)=7)),ColTime(T.!$J$7,T.!$L$7,D99,E99),\"\")))))),\"\")","v":""},"",null,null,{"$f":"IFERROR(CHOOSE(WEEKDAY(A99,2),norm!C$1,norm!C$2,norm!C$3,norm!C$4,norm!C$5,norm!C$6,norm!C$7),\"\")","v":"00:00:00"}]
["2019-04-07","Sø","",null,null,null,"","00:00:00","",{"$f":"IF(AND(C100=\"\",WEEKDAY(A100,2)<6),ColTime(T.!$J$4,T.!$L$4,D100,E100),\"\")","v":""},null,{"$f":"IF(AND(OR(WEEKDAY(A100,2)=7,C100<>\"\"),E100<D100),ColTime($AF$1,$AG$1,'Hele året (2)'!$AF$1,E100),IF(WEEKDAY(A100,2)<6,ColTime(T.!$J$5,T.!$L$5,D100,E100),\"\"))","v":""},null,"",{"$f":"IFERROR(IF(AND(WEEKDAY(A100,2)<6,C101<>\"\",C100=\"\"),ColTime(T.!$J$7,T.!$L$7,$AF$1,'Hele året (2)'!E100),IF(AND(C100<>\"\",C101<>\"\"),ColTime(T.!$J$7,T.!$L$7,'Hele året (2)'!D100,'Hele året (2)'!E100),IF(AND(OR(WEEKDAY(A100,2)<6,WEEKDAY(A100,2)=6),C100<>\"\",E100<D100),ColTime(T.!$J$7,T.!$L$7,D100,AF97),IF(AND(WEEKDAY(A100,2)=6,E100<D100),ColTime(T.!$J$7,T.!$L$7,$AF$1,E100),IF(AND(E100<D100,OR(C100<>\"\",WEEKDAY(A100,2)=7)),ColTime(T.!J103,T.!L103,D100,$AF$1),IF(AND(E100<>\"\",OR(C100<>\"\",WEEKDAY(A100,2)=7)),ColTime(T.!$J$7,T.!$L$7,D100,E100),\"\")))))),\"\")","v":""},"",null,null,{"$f":"IFERROR(CHOOSE(WEEKDAY(A100,2),norm!C$1,norm!C$2,norm!C$3,norm!C$4,norm!C$5,norm!C$6,norm!C$7),\"\")","v":"00:00:00"}]
["2019-04-08","Ma","",null,null,null,"","00:00:00","",{"$f":"IF(AND(C101=\"\",WEEKDAY(A101,2)<6),ColTime(T.!$J$4,T.!$L$4,D101,E101),\"\")","v":"00:00:00"},null,{"$f":"IF(AND(OR(WEEKDAY(A101,2)=7,C101<>\"\"),E101<D101),ColTime($AF$1,$AG$1,'Hele året (2)'!$AF$1,E101),IF(WEEKDAY(A101,2)<6,ColTime(T.!$J$5,T.!$L$5,D101,E101),\"\"))","v":"00:00:00"},null,"",{"$f":"IFERROR(IF(AND(WEEKDAY(A101,2)<6,C102<>\"\",C101=\"\"),ColTime(T.!$J$7,T.!$L$7,$AF$1,'Hele året (2)'!E101),IF(AND(C101<>\"\",C102<>\"\"),ColTime(T.!$J$7,T.!$L$7,'Hele året (2)'!D101,'Hele året (2)'!E101),IF(AND(OR(WEEKDAY(A101,2)<6,WEEKDAY(A101,2)=6),C101<>\"\",E101<D101),ColTime(T.!$J$7,T.!$L$7,D101,AF98),IF(AND(WEEKDAY(A101,2)=6,E101<D101),ColTime(T.!$J$7,T.!$L$7,$AF$1,E101),IF(AND(E101<D101,OR(C101<>\"\",WEEKDAY(A101,2)=7)),ColTime(T.!J104,T.!L104,D101,$AF$1),IF(AND(E101<>\"\",OR(C101<>\"\",WEEKDAY(A101,2)=7)),ColTime(T.!$J$7,T.!$L$7,D101,E101),\"\")))))),\"\")","v":""},"",null,null,{"$f":"IFERROR(CHOOSE(WEEKDAY(A101,2),norm!C$1,norm!C$2,norm!C$3,norm!C$4,norm!C$5,norm!C$6,norm!C$7),\"\")","v":"07:30:00"}]
["2019-04-09","Ti","",null,null,null,"","00:00:00","",{"$f":"IF(AND(C102=\"\",WEEKDAY(A102,2)<6),ColTime(T.!$J$4,T.!$L$4,D102,E102),\"\")","v":"00:00:00"},null,{"$f":"IF(AND(OR(WEEKDAY(A102,2)=7,C102<>\"\"),E102<D102),ColTime($AF$1,$AG$1,'Hele året (2)'!$AF$1,E102),IF(WEEKDAY(A102,2)<6,ColTime(T.!$J$5,T.!$L$5,D102,E102),\"\"))","v":"00:00:00"},null,"",{"$f":"IFERROR(IF(AND(WEEKDAY(A102,2)<6,C103<>\"\",C102=\"\"),ColTime(T.!$J$7,T.!$L$7,$AF$1,'Hele året (2)'!E102),IF(AND(C102<>\"\",C103<>\"\"),ColTime(T.!$J$7,T.!$L$7,'Hele året (2)'!D102,'Hele året (2)'!E102),IF(AND(OR(WEEKDAY(A102,2)<6,WEEKDAY(A102,2)=6),C102<>\"\",E102<D102),ColTime(T.!$J$7,T.!$L$7,D102,AF99),IF(AND(WEEKDAY(A102,2)=6,E102<D102),ColTime(T.!$J$7,T.!$L$7,$AF$1,E102),IF(AND(E102<D102,OR(C102<>\"\",WEEKDAY(A102,2)=7)),ColTime(T.!J105,T.!L105,D102,$AF$1),IF(AND(E102<>\"\",OR(C102<>\"\",WEEKDAY(A102,2)=7)),ColTime(T.!$J$7,T.!$L$7,D102,E102),\"\")))))),\"\")","v":""},"",null,null,{"$f":"IFERROR(CHOOSE(WEEKDAY(A102,2),norm!C$1,norm!C$2,norm!C$3,norm!C$4,norm!C$5,norm!C$6,norm!C$7),\"\")","v":"07:30:00"}]
["2019-04-10","On","",null,null,null,"","00:00:00","",{"$f":"IF(AND(C103=\"\",WEEKDAY(A103,2)<6),ColTime(T.!$J$4,T.!$L$4,D103,E103),\"\")","v":"00:00:00"},null,{"$f":"IF(AND(OR(WEEKDAY(A103,2)=7,C103<>\"\"),E103<D103),ColTime($AF$1,$AG$1,'Hele året (2)'!$AF$1,E103),IF(WEEKDAY(A103,2)<6,ColTime(T.!$J$5,T.!$L$5,D103,E103),\"\"))","v":"00:00:00"},null,"",{"$f":"IFERROR(IF(AND(WEEKDAY(A103,2)<6,C104<>\"\",C103=\"\"),ColTime(T.!$J$7,T.!$L$7,$AF$1,'Hele året (2)'!E103),IF(AND(C103<>\"\",C104<>\"\"),ColTime(T.!$J$7,T.!$L$7,'Hele året (2)'!D103,'Hele året (2)'!E103),IF(AND(OR(WEEKDAY(A103,2)<6,WEEKDAY(A103,2)=6),C103<>\"\",E103<D103),ColTime(T.!$J$7,T.!$L$7,D103,AF100),IF(AND(WEEKDAY(A103,2)=6,E103<D103),ColTime(T.!$J$7,T.!$L$7,$AF$1,E103),IF(AND(E103<D103,OR(C103<>\"\",WEEKDAY(A103,2)=7)),ColTime(T.!J106,T.!L106,D103,$AF$1),IF(AND(E103<>\"\",OR(C103<>\"\",WEEKDAY(A103,2)=7)),ColTime(T.!$J$7,T.!$L$7,D103,E103),\"\")))))),\"\")","v":""},"",null,null,{"$f":"IFERROR(CHOOSE(WEEKDAY(A103,2),norm!C$1,norm!C$2,norm!C$3,norm!C$4,norm!C$5,norm!C$6,norm!C$7),\"\")","v":"07:30:00"}]
["2019-04-11","To","",null,null,null,"","00:00:00","",{"$f":"IF(AND(C104=\"\",WEEKDAY(A104,2)<6),ColTime(T.!$J$4,T.!$L$4,D104,E104),\"\")","v":"00:00:00"},null,{"$f":"IF(AND(OR(WEEKDAY(A104,2)=7,C104<>\"\"),E104<D104),ColTime($AF$1,$AG$1,'Hele året (2)'!$AF$1,E104),IF(WEEKDAY(A104,2)<6,ColTime(T.!$J$5,T.!$L$5,D104,E104),\"\"))","v":"00:00:00"},null,"",{"$f":"IFERROR(IF(AND(WEEKDAY(A104,2)<6,C105<>\"\",C104=\"\"),ColTime(T.!$J$7,T.!$L$7,$AF$1,'Hele året (2)'!E104),IF(AND(C104<>\"\",C105<>\"\"),ColTime(T.!$J$7,T.!$L$7,'Hele året (2)'!D104,'Hele året (2)'!E104),IF(AND(OR(WEEKDAY(A104,2)<6,WEEKDAY(A104,2)=6),C104<>\"\",E104<D104),ColTime(T.!$J$7,T.!$L$7,D104,AF101),IF(AND(WEEKDAY(A104,2)=6,E104<D104),ColTime(T.!$J$7,T.!$L$7,$AF$1,E104),IF(AND(E104<D104,OR(C104<>\"\",WEEKDAY(A104,2)=7)),ColTime(T.!J107,T.!L107,D104,$AF$1),IF(AND(E104<>\"\",OR(C104<>\"\",WEEKDAY(A104,2)=7)),ColTime(T.!$J$7,T.!$L$7,D104,E104),\"\")))))),\"\")","v":""},"",null,null,{"$f":"IFERROR(CHOOSE(WEEKDAY(A104,2),norm!C$1,norm!C$2,norm!C$3,norm!C$4,norm!C$5,norm!C$6,norm!C$7),\"\")","v":"07:30:00"}]
["2019-04-12","Fr","",null,null,null,"","00:00:00","",{"$f":"IF(AND(C105=\"\",WEEKDAY(A105,2)<6),ColTime(T.!$J$4,T.!$L$4,D105,E105),\"\")","v":"00:00:00"},null,{"$f":"IF(AND(OR(WEEKDAY(A105,2)=7,C105<>\"\"),E105<D105),ColTime($AF$1,$AG$1,'Hele året (2)'!$AF$1,E105),IF(WEEKDAY(A105,2)<6,ColTime(T.!$J$5,T.!$L$5,D105,E105),\"\"))","v":"00:00:00"},null,"",{"$f":"IFERROR(IF(AND(WEEKDAY(A105,2)<6,C106<>\"\",C105=\"\"),ColTime(T.!$J$7,T.!$L$7,$AF$1,'Hele året (2)'!E105),IF(AND(C105<>\"\",C106<>\"\"),ColTime(T.!$J$7,T.!$L$7,'Hele året (2)'!D105,'Hele året (2)'!E105),IF(AND(OR(WEEKDAY(A105,2)<6,WEEKDAY(A105,2)=6),C105<>\"\",E105<D105),ColTime(T.!$J$7,T.!$L$7,D105,AF102),IF(AND(WEEKDAY(A105,2)=6,E105<D105),ColTime(T.!$J$7,T.!$L$7,$AF$1,E105),IF(AND(E105<D105,OR(C105<>\"\",WEEKDAY(A105,2)=7)),ColTime(T.!J108,T.!L108,D105,$AF$1),IF(AND(E105<>\"\",OR(C105<>\"\",WEEKDAY(A105,2)=7)),ColTime(T.!$J$7,T.!$L$7,D105,E105),\"\")))))),\"\")","v":""},"",null,null,{"$f":"IFERROR(CHOOSE(WEEKDAY(A105,2),norm!C$1,norm!C$2,norm!C$3,norm!C$4,norm!C$5,norm!C$6,norm!C$7),\"\")","v":"07:00:00"}]
["2019-04-13","Lø","",null,null,null,"","00:00:00","",{"$f":"IF(AND(C106=\"\",WEEKDAY(A106,2)<6),ColTime(T.!$J$4,T.!$L$4,D106,E106),\"\")","v":""},null,{"$f":"IF(AND(OR(WEEKDAY(A106,2)=7,C106<>\"\"),E106<D106),ColTime($AF$1,$AG$1,'Hele året (2)'!$AF$1,E106),IF(WEEKDAY(A106,2)<6,ColTime(T.!$J$5,T.!$L$5,D106,E106),\"\"))","v":""},null,"00:00:00",{"$f":"IFERROR(IF(AND(WEEKDAY(A106,2)<6,C107<>\"\",C106=\"\"),ColTime(T.!$J$7,T.!$L$7,$AF$1,'Hele året (2)'!E106),IF(AND(C106<>\"\",C107<>\"\"),ColTime(T.!$J$7,T.!$L$7,'Hele året (2)'!D106,'Hele året (2)'!E106),IF(AND(OR(WEEKDAY(A106,2)<6,WEEKDAY(A106,2)=6),C106<>\"\",E106<D106),ColTime(T.!$J$7,T.!$L$7,D106,AF103),IF(AND(WEEKDAY(A106,2)=6,E106<D106),ColTime(T.!$J$7,T.!$L$7,$AF$1,E106),IF(AND(E106<D106,OR(C106<>\"\",WEEKDAY(A106,2)=7)),ColTime(T.!J109,T.!L109,D106,$AF$1),IF(AND(E106<>\"\",OR(C106<>\"\",WEEKDAY(A106,2)=7)),ColTime(T.!$J$7,T.!$L$7,D106,E106),\"\")))))),\"\")","v":""},"",null,null,{"$f":"IFERROR(CHOOSE(WEEKDAY(A106,2),norm!C$1,norm!C$2,norm!C$3,norm!C$4,norm!C$5,norm!C$6,norm!C$7),\"\")","v":"00:00:00"}]
["2019-04-14","Sø","",null,null,null,"","00:00:00","",{"$f":"IF(AND(C107=\"\",WEEKDAY(A107,2)<6),ColTime(T.!$J$4,T.!$L$4,D107,E107),\"\")","v":""},null,{"$f":"IF(AND(OR(WEEKDAY(A107,2)=7,C107<>\"\"),E107<D107),ColTime($AF$1,$AG$1,'Hele året (2)'!$AF$1,E107),IF(WEEKDAY(A107,2)<6,ColTime(T.!$J$5,T.!$L$5,D107,E107),\"\"))","v":""},null,"",{"$f":"IFERROR(IF(AND(WEEKDAY(A107,2)<6,C108<>\"\",C107=\"\"),ColTime(T.!$J$7,T.!$L$7,$AF$1,'Hele året (2)'!E107),IF(AND(C107<>\"\",C108<>\"\"),ColTime(T.!$J$7,T.!$L$7,'Hele året (2)'!D107,'Hele året (2)'!E107),IF(AND(OR(WEEKDAY(A107,2)<6,WEEKDAY(A107,2)=6),C107<>\"\",E107<D107),ColTime(T.!$J$7,T.!$L$7,D107,AF104),IF(AND(WEEKDAY(A107,2)=6,E107<D107),ColTime(T.!$J$7,T.!$L$7,$AF$1,E107),IF(AND(E107<D107,OR(C107<>\"\",WEEKDAY(A107,2)=7)),ColTime(T.!J110,T.!L110,D107,$AF$1),IF(AND(E107<>\"\",OR(C107<>\"\",WEEKDAY(A107,2)=7)),ColTime(T.!$J$7,T.!$L$7,D107,E107),\"\")))))),\"\")","v":""},"",null,null,{"$f":"IFERROR(CHOOSE(WEEKDAY(A107,2),norm!C$1,norm!C$2,norm!C$3,norm!C$4,norm!C$5,norm!C$6,norm!C$7),\"\")","v":"00:00:00"}]
["2019-04-15","Ma","",null,null,null,"","00:00:00","",{"$f":"IF(AND(C108=\"\",WEEKDAY(A108,2)<6),ColTime(T.!$J$4,T.!$L$4,D108,E108),\"\")","v":"00:00:00"},null,{"$f":"IF(AND(OR(WEEKDAY(A108,2)=7,C108<>\"\"),E108<D108),ColTime($AF$1,$AG$1,'Hele året (2)'!$AF$1,E108),IF(WEEKDAY(A108,2)<6,ColTime(T.!$J$5,T.!$L$5,D108,E108),\"\"))","v":"00:00:00"},null,"",{"$f":"IFERROR(IF(AND(WEEKDAY(A108,2)<6,C109<>\"\",C108=\"\"),ColTime(T.!$J$7,T.!$L$7,$AF$1,'Hele året (2)'!E108),IF(AND(C108<>\"\",C109<>\"\"),ColTime(T.!$J$7,T.!$L$7,'Hele året (2)'!D108,'Hele året (2)'!E108),IF(AND(OR(WEEKDAY(A108,2)<6,WEEKDAY(A108,2)=6),C108<>\"\",E108<D108),ColTime(T.!$J$7,T.!$L$7,D108,AF105),IF(AND(WEEKDAY(A108,2)=6,E108<D108),ColTime(T.!$J$7,T.!$L$7,$AF$1,E108),IF(AND(E108<D108,OR(C108<>\"\",WEEKDAY(A108,2)=7)),ColTime(T.!J111,T.!L111,D108,$AF$1),IF(AND(E108<>\"\",OR(C108<>\"\",WEEKDAY(A108,2)=7)),ColTime(T.!$J$7,T.!$L$7,D108,E108),\"\")))))),\"\")","v":""},"",null,null,{"$f":"IFERROR(CHOOSE(WEEKDAY(A108,2),norm!C$1,norm!C$2,norm!C$3,norm!C$4,norm!C$5,norm!C$6,norm!C$7),\"\")","v":"07:30:00"}]
["2019-04-16","Ti","",null,null,null,"","00:00:00","",{"$f":"IF(AND(C109=\"\",WEEKDAY(A109,2)<6),ColTime(T.!$J$4,T.!$L$4,D109,E109),\"\")","v":"00:00:00"},null,{"$f":"IF(AND(OR(WEEKDAY(A109,2)=7,C109<>\"\"),E109<D109),ColTime($AF$1,$AG$1,'Hele året (2)'!$AF$1,E109),IF(WEEKDAY(A109,2)<6,ColTime(T.!$J$5,T.!$L$5,D109,E109),\"\"))","v":"00:00:00"},null,"",{"$f":"IFERROR(IF(AND(WEEKDAY(A109,2)<6,C110<>\"\",C109=\"\"),ColTime(T.!$J$7,T.!$L$7,$AF$1,'Hele året (2)'!E109),IF(AND(C109<>\"\",C110<>\"\"),ColTime(T.!$J$7,T.!$L$7,'Hele året (2)'!D109,'Hele året (2)'!E109),IF(AND(OR(WEEKDAY(A109,2)<6,WEEKDAY(A109,2)=6),C109<>\"\",E109<D109),ColTime(T.!$J$7,T.!$L$7,D109,AF106),IF(AND(WEEKDAY(A109,2)=6,E109<D109),ColTime(T.!$J$7,T.!$L$7,$AF$1,E109),IF(AND(E109<D109,OR(C109<>\"\",WEEKDAY(A109,2)=7)),ColTime(T.!J112,T.!L112,D109,$AF$1),IF(AND(E109<>\"\",OR(C109<>\"\",WEEKDAY(A109,2)=7)),ColTime(T.!$J$7,T.!$L$7,D109,E109),\"\")))))),\"\")","v":""},"",null,null,{"$f":"IFERROR(CHOOSE(WEEKDAY(A109,2),norm!C$1,norm!C$2,norm!C$3,norm!C$4,norm!C$5,norm!C$6,norm!C$7),\"\")","v":"07:30:00"}]
["2019-04-17","On","",null,null,null,"","00:00:00","",{"$f":"IF(AND(C110=\"\",WEEKDAY(A110,2)<6),ColTime(T.!$J$4,T.!$L$4,D110,E110),\"\")","v":"00:00:00"},null,{"$f":"IF(AND(OR(WEEKDAY(A110,2)=7,C110<>\"\"),E110<D110),ColTime($AF$1,$AG$1,'Hele året (2)'!$AF$1,E110),IF(WEEKDAY(A110,2)<6,ColTime(T.!$J$5,T.!$L$5,D110,E110),\"\"))","v":"00:00:00"},null,"",{"$f":"IFERROR(IF(AND(WEEKDAY(A110,2)<6,C111<>\"\",C110=\"\"),ColTime(T.!$J$7,T.!$L$7,$AF$1,'Hele året (2)'!E110),IF(AND(C110<>\"\",C111<>\"\"),ColTime(T.!$J$7,T.!$L$7,'Hele året (2)'!D110,'Hele året (2)'!E110),IF(AND(OR(WEEKDAY(A110,2)<6,WEEKDAY(A110,2)=6),C110<>\"\",E110<D110),ColTime(T.!$J$7,T.!$L$7,D110,AF107),IF(AND(WEEKDAY(A110,2)=6,E110<D110),ColTime(T.!$J$7,T.!$L$7,$AF$1,E110),IF(AND(E110<D110,OR(C110<>\"\",WEEKDAY(A110,2)=7)),ColTime(T.!J113,T.!L113,D110,$AF$1),IF(AND(E110<>\"\",OR(C110<>\"\",WEEKDAY(A110,2)=7)),ColTime(T.!$J$7,T.!$L$7,D110,E110),\"\")))))),\"\")","v":"00:00:00"},"",null,null,{"$f":"IFERROR(CHOOSE(WEEKDAY(A110,2),norm!C$1,norm!C$2,norm!C$3,norm!C$4,norm!C$5,norm!C$6,norm!C$7),\"\")","v":"07:30:00"}]
["2019-04-18","To","Skærtorsdag","22:00:00","07:00:00",null,0.375,"01:30:00","",{"$f":"IF(AND(C111=\"\",WEEKDAY(A111,2)<6),ColTime(T.!$J$4,T.!$L$4,D111,E111),\"\")","v":""},null,{"$f":"IF(AND(OR(WEEKDAY(A111,2)=7,C111<>\"\"),E111<D111,C112=\"\"),ColTime($AF$1,$AG$1,'Hele året (2)'!$AF$1,E111),IF(AND(WEEKDAY(A111,2)<6,C112=\"\"),ColTime(T.!$J$5,T.!$L$5,D111,E111),\"\"))","v":""},null,"",{"$f":"IFERROR(IF(AND(WEEKDAY(A111,2)<6,C112<>\"\",C111=\"\"),ColTime(T.!$J$7,T.!$L$7,$AF$1,'Hele året (2)'!E111),IF(AND(C111<>\"\",C112<>\"\"),ColTime(T.!$J$7,T.!$L$7,'Hele året (2)'!D111,'Hele året (2)'!E111),IF(AND(OR(WEEKDAY(A111,2)<6,WEEKDAY(A111,2)=6),C111<>\"\",E111<D111),ColTime(T.!$J$7,T.!$L$7,D111,AF108),IF(AND(WEEKDAY(A111,2)=6,E111<D111),ColTime(T.!$J$7,T.!$L$7,$AF$1,E111),IF(AND(E111<D111,OR(C111<>\"\",WEEKDAY(A111,2)=7)),ColTime(T.!J114,T.!L114,D111,$AF$1),IF(AND(E111<>\"\",OR(C111<>\"\",WEEKDAY(A111,2)=7)),ColTime(T.!$J$7,T.!$L$7,D111,E111),\"\")))))),\"\")","v":"09:00:00"},"",null,null,{"$f":"IFERROR(CHOOSE(WEEKDAY(A111,2),norm!C$1,norm!C$2,norm!C$3,norm!C$4,norm!C$5,norm!C$6,norm!C$7),\"\")","v":"07:30:00"}]
["2019-04-19","Fr","Langfredag","22:00:00","07:00:00",null,0.375,"02:00:00","",{"$f":"IF(AND(C112=\"\",WEEKDAY(A112,2)<6),ColTime(T.!$J$4,T.!$L$4,D112,E112),\"\")","v":""},null,{"$f":"IF(AND(OR(WEEKDAY(A112,2)=7,C112<>\"\"),E112<D112,C113=\"\"),ColTime($AF$1,$AG$1,'Hele året (2)'!$AF$1,E112),IF(AND(WEEKDAY(A112,2)<6,C113=\"\"),ColTime(T.!$J$5,T.!$L$5,D112,E112),\"\"))","v":"06:00:00"},null,"",{"$f":"IFERROR(IF(AND(WEEKDAY(A112,2)<6,C113<>\"\",C112=\"\"),ColTime(T.!$J$7,T.!$L$7,$AF$1,'Hele året (2)'!E112),IF(AND(C112<>\"\",C113<>\"\"),ColTime(T.!$J$7,T.!$L$7,'Hele året (2)'!D112,'Hele året (2)'!E112),IF(AND(OR(WEEKDAY(A112,2)<6,WEEKDAY(A112,2)=6),C112<>\"\",E112<D112),ColTime(T.!$J$7,T.!$L$7,D112,AF109),IF(AND(WEEKDAY(A112,2)=6,E112<D112),ColTime(T.!$J$7,T.!$L$7,$AF$1,E112),IF(AND(E112<D112,OR(C112<>\"\",WEEKDAY(A112,2)=7)),ColTime(T.!J115,T.!L115,D112,$AF$1),IF(AND(E112<>\"\",OR(C112<>\"\",WEEKDAY(A112,2)=7)),ColTime(T.!$J$7,T.!$L$7,D112,E112),\"\")))))),\"\")","v":"02:00:00"},"",null,null,{"$f":"IFERROR(CHOOSE(WEEKDAY(A112,2),norm!C$1,norm!C$2,norm!C$3,norm!C$4,norm!C$5,norm!C$6,norm!C$7),\"\")","v":"07:00:00"}]
["2019-04-20","Lø","",null,null,null,"","00:00:00","",{"$f":"IF(AND(C113=\"\",WEEKDAY(A113,2)<6),ColTime(T.!$J$4,T.!$L$4,D113,E113),\"\")","v":""},null,{"$f":"IF(AND(OR(WEEKDAY(A113,2)=7,C113<>\"\"),E113<D113,C114=\"\"),ColTime($AF$1,$AG$1,'Hele året (2)'!$AF$1,E113),IF(AND(WEEKDAY(A113,2)<6,C114=\"\"),ColTime(T.!$J$5,T.!$L$5,D113,E113),\"\"))","v":""},null,"00:00:00",{"$f":"IFERROR(IF(AND(WEEKDAY(A113,2)<6,C114<>\"\",C113=\"\"),ColTime(T.!$J$7,T.!$L$7,$AF$1,'Hele året (2)'!E113),IF(AND(C113<>\"\",C114<>\"\"),ColTime(T.!$J$7,T.!$L$7,'Hele året (2)'!D113,'Hele året (2)'!E113),IF(AND(OR(WEEKDAY(A113,2)<6,WEEKDAY(A113,2)=6),C113<>\"\",E113<D113),ColTime(T.!$J$7,T.!$L$7,D113,AF110),IF(AND(WEEKDAY(A113,2)=6,E113<D113),ColTime(T.!$J$7,T.!$L$7,$AF$1,E113),IF(AND(E113<D113,OR(C113<>\"\",WEEKDAY(A113,2)=7)),ColTime(T.!J116,T.!L116,D113,$AF$1),IF(AND(E113<>\"\",OR(C113<>\"\",WEEKDAY(A113,2)=7)),ColTime(T.!$J$7,T.!$L$7,D113,E113),\"\")))))),\"\")","v":""},"",null,null,{"$f":"IFERROR(CHOOSE(WEEKDAY(A113,2),norm!C$1,norm!C$2,norm!C$3,norm!C$4,norm!C$5,norm!C$6,norm!C$7),\"\")","v":"00:00:00"}]
["2019-04-21","Sø","Påskedag","22:00:00","07:00:00",null,0.375,"00:00:00","09:00:00",{"$f":"IF(AND(C114=\"\",WEEKDAY(A114,2)<6),ColTime(T.!$J$4,T.!$L$4,D114,E114),\"\")","v":""},null,{"$f":"IF(AND(OR(WEEKDAY(A114,2)=7,C114<>\"\"),E114<D114,C115=\"\"),ColTime($AF$1,$AG$1,'Hele året (2)'!$AF$1,E114),IF(AND(WEEKDAY(A114,2)<6,C115=\"\"),ColTime(T.!$J$5,T.!$L$5,D114,E114),\"\"))","v":""},null,"",{"$f":"IFERROR(IF(AND(WEEKDAY(A114,2)<6,C115<>\"\",C114=\"\"),ColTime(T.!$J$7,T.!$L$7,$AF$1,'Hele året (2)'!E114),IF(AND(C114<>\"\",C115<>\"\"),ColTime(T.!$J$7,T.!$L$7,'Hele året (2)'!D114,'Hele året (2)'!E114),IF(AND(OR(WEEKDAY(A114,2)<6,WEEKDAY(A114,2)=6),C114<>\"\",E114<D114),ColTime(T.!$J$7,T.!$L$7,D114,AF111),IF(AND(WEEKDAY(A114,2)=6,E114<D114),ColTime(T.!$J$7,T.!$L$7,$AF$1,E114),IF(AND(E114<D114,OR(C114<>\"\",WEEKDAY(A114,2)=7)),ColTime(T.!J117,T.!L117,D114,$AF$1),IF(AND(E114<>\"\",OR(C114<>\"\",WEEKDAY(A114,2)=7)),ColTime(T.!$J$7,T.!$L$7,D114,E114),\"\")))))),\"\")","v":"09:00:00"},"09:00:00",null,null,{"$f":"IFERROR(CHOOSE(WEEKDAY(A114,2),norm!C$1,norm!C$2,norm!C$3,norm!C$4,norm!C$5,norm!C$6,norm!C$7),\"\")","v":"00:00:00"}]
["2019-04-22","Ma","2. Påskedag","22:00:00","07:00:00",null,0.375,"01:30:00","",{"$f":"IF(AND(C115=\"\",WEEKDAY(A115,2)<6),ColTime(T.!$J$4,T.!$L$4,D115,E115),\"\")","v":""},null,{"$f":"IF(AND(OR(WEEKDAY(A115,2)=7,C115<>\"\"),E115<D115,C116=\"\"),ColTime($AF$1,$AG$1,'Hele året (2)'!$AF$1,E115),IF(AND(WEEKDAY(A115,2)<6,C116=\"\"),ColTime(T.!$J$5,T.!$L$5,D115,E115),\"\"))","v":"06:00:00"},null,"",{"$f":"IFERROR(IF(AND(WEEKDAY(A115,2)<6,C116<>\"\",C115=\"\"),ColTime(T.!$J$7,T.!$L$7,$AF$1,'Hele året (2)'!E115),IF(AND(C115<>\"\",C116<>\"\"),ColTime(T.!$J$7,T.!$L$7,'Hele året (2)'!D115,'Hele året (2)'!E115),IF(AND(OR(WEEKDAY(A115,2)<6,WEEKDAY(A115,2)=6),C115<>\"\",E115<D115),ColTime(T.!$J$7,T.!$L$7,D115,AF112),IF(AND(WEEKDAY(A115,2)=6,E115<D115),ColTime(T.!$J$7,T.!$L$7,$AF$1,E115),IF(AND(E115<D115,OR(C115<>\"\",WEEKDAY(A115,2)=7)),ColTime(T.!J118,T.!L118,D115,$AF$1),IF(AND(E115<>\"\",OR(C115<>\"\",WEEKDAY(A115,2)=7)),ColTime(T.!$J$7,T.!$L$7,D115,E115),\"\")))))),\"\")","v":"02:00:00"},"",null,null,{"$f":"IFERROR(CHOOSE(WEEKDAY(A115,2),norm!C$1,norm!C$2,norm!C$3,norm!C$4,norm!C$5,norm!C$6,norm!C$7),\"\")","v":"07:30:00"}]
["2019-04-23","Ti","",null,null,null,"","00:00:00","",{"$f":"IF(AND(C116=\"\",WEEKDAY(A116,2)<6),ColTime(T.!$J$4,T.!$L$4,D116,E116),\"\")","v":"00:00:00"},null,{"$f":"IF(AND(OR(WEEKDAY(A116,2)=7,C116<>\"\"),E116<D116,C117=\"\"),ColTime($AF$1,$AG$1,'Hele året (2)'!$AF$1,E116),IF(AND(WEEKDAY(A116,2)<6,C117=\"\"),ColTime(T.!$J$5,T.!$L$5,D116,E116),\"\"))","v":"00:00:00"},null,"",{"$f":"IFERROR(IF(AND(WEEKDAY(A116,2)<6,C117<>\"\",C116=\"\"),ColTime(T.!$J$7,T.!$L$7,$AF$1,'Hele året (2)'!E116),IF(AND(C116<>\"\",C117<>\"\"),ColTime(T.!$J$7,T.!$L$7,'Hele året (2)'!D116,'Hele året (2)'!E116),IF(AND(OR(WEEKDAY(A116,2)<6,WEEKDAY(A116,2)=6),C116<>\"\",E116<D116),ColTime(T.!$J$7,T.!$L$7,D116,AF113),IF(AND(WEEKDAY(A116,2)=6,E116<D116),ColTime(T.!$J$7,T.!$L$7,$AF$1,E116),IF(AND(E116<D116,OR(C116<>\"\",WEEKDAY(A116,2)=7)),ColTime(T.!J119,T.!L119,D116,$AF$1),IF(AND(E116<>\"\",OR(C116<>\"\",WEEKDAY(A116,2)=7)),ColTime(T.!$J$7,T.!$L$7,D116,E116),\"\")))))),\"\")","v":""},"",null,null,{"$f":"IFERROR(CHOOSE(WEEKDAY(A116,2),norm!C$1,norm!C$2,norm!C$3,norm!C$4,norm!C$5,norm!C$6,norm!C$7),\"\")","v":"07:30:00"}]
["2019-04-24","On","",null,null,null,"","00:00:00","",{"$f":"IF(AND(C117=\"\",WEEKDAY(A117,2)<6),ColTime(T.!$J$4,T.!$L$4,D117,E117),\"\")","v":"00:00:00"},null,{"$f":"IF(AND(OR(WEEKDAY(A117,2)=7,C117<>\"\"),E117<D117,C118=\"\"),ColTime($AF$1,$AG$1,'Hele året (2)'!$AF$1,E117),IF(AND(WEEKDAY(A117,2)<6,C118=\"\"),ColTime(T.!$J$5,T.!$L$5,D117,E117),\"\"))","v":"00:00:00"},null,"",{"$f":"IFERROR(IF(AND(WEEKDAY(A117,2)<6,C118<>\"\",C117=\"\"),ColTime(T.!$J$7,T.!$L$7,$AF$1,'Hele året (2)'!E117),IF(AND(C117<>\"\",C118<>\"\"),ColTime(T.!$J$7,T.!$L$7,'Hele året (2)'!D117,'Hele året (2)'!E117),IF(AND(OR(WEEKDAY(A117,2)<6,WEEKDAY(A117,2)=6),C117<>\"\",E117<D117),ColTime(T.!$J$7,T.!$L$7,D117,AF114),IF(AND(WEEKDAY(A117,2)=6,E117<D117),ColTime(T.!$J$7,T.!$L$7,$AF$1,E117),IF(AND(E117<D117,OR(C117<>\"\",WEEKDAY(A117,2)=7)),ColTime(T.!J120,T.!L120,D117,$AF$1),IF(AND(E117<>\"\",OR(C117<>\"\",WEEKDAY(A117,2)=7)),ColTime(T.!$J$7,T.!$L$7,D117,E117),\"\")))))),\"\")","v":""},"",null,null,{"$f":"IFERROR(CHOOSE(WEEKDAY(A117,2),norm!C$1,norm!C$2,norm!C$3,norm!C$4,norm!C$5,norm!C$6,norm!C$7),\"\")","v":"07:30:00"}]
["2019-04-25","To","",null,null,null,"","00:00:00","",{"$f":"IF(AND(C118=\"\",WEEKDAY(A118,2)<6),ColTime(T.!$J$4,T.!$L$4,D118,E118),\"\")","v":"00:00:00"},null,{"$f":"IF(AND(OR(WEEKDAY(A118,2)=7,C118<>\"\"),E118<D118,C119=\"\"),ColTime($AF$1,$AG$1,'Hele året (2)'!$AF$1,E118),IF(AND(WEEKDAY(A118,2)<6,C119=\"\"),ColTime(T.!$J$5,T.!$L$5,D118,E118),\"\"))","v":"00:00:00"},null,"",{"$f":"IFERROR(IF(AND(WEEKDAY(A118,2)<6,C119<>\"\",C118=\"\"),ColTime(T.!$J$7,T.!$L$7,$AF$1,'Hele året (2)'!E118),IF(AND(C118<>\"\",C119<>\"\"),ColTime(T.!$J$7,T.!$L$7,'Hele året (2)'!D118,'Hele året (2)'!E118),IF(AND(OR(WEEKDAY(A118,2)<6,WEEKDAY(A118,2)=6),C118<>\"\",E118<D118),ColTime(T.!$J$7,T.!$L$7,D118,AF115),IF(AND(WEEKDAY(A118,2)=6,E118<D118),ColTime(T.!$J$7,T.!$L$7,$AF$1,E118),IF(AND(E118<D118,OR(C118<>\"\",WEEKDAY(A118,2)=7)),ColTime(T.!J121,T.!L121,D118,$AF$1),IF(AND(E118<>\"\",OR(C118<>\"\",WEEKDAY(A118,2)=7)),ColTime(T.!$J$7,T.!$L$7,D118,E118),\"\")))))),\"\")","v":""},"",null,null,{"$f":"IFERROR(CHOOSE(WEEKDAY(A118,2),norm!C$1,norm!C$2,norm!C$3,norm!C$4,norm!C$5,norm!C$6,norm!C$7),\"\")","v":"07:30:00"}]
["2019-04-26","Fr","",null,null,null,"","00:00:00","",{"$f":"IF(AND(C119=\"\",WEEKDAY(A119,2)<6),ColTime(T.!$J$4,T.!$L$4,D119,E119),\"\")","v":"00:00:00"},null,{"$f":"IF(AND(OR(WEEKDAY(A119,2)=7,C119<>\"\"),E119<D119,C120=\"\"),ColTime($AF$1,$AG$1,'Hele året (2)'!$AF$1,E119),IF(AND(WEEKDAY(A119,2)<6,C120=\"\"),ColTime(T.!$J$5,T.!$L$5,D119,E119),\"\"))","v":"00:00:00"},null,"",{"$f":"IFERROR(IF(AND(WEEKDAY(A119,2)<6,C120<>\"\",C119=\"\"),ColTime(T.!$J$7,T.!$L$7,$AF$1,'Hele året (2)'!E119),IF(AND(C119<>\"\",C120<>\"\"),ColTime(T.!$J$7,T.!$L$7,'Hele året (2)'!D119,'Hele året (2)'!E119),IF(AND(OR(WEEKDAY(A119,2)<6,WEEKDAY(A119,2)=6),C119<>\"\",E119<D119),ColTime(T.!$J$7,T.!$L$7,D119,AF116),IF(AND(WEEKDAY(A119,2)=6,E119<D119),ColTime(T.!$J$7,T.!$L$7,$AF$1,E119),IF(AND(E119<D119,OR(C119<>\"\",WEEKDAY(A119,2)=7)),ColTime(T.!J122,T.!L122,D119,$AF$1),IF(AND(E119<>\"\",OR(C119<>\"\",WEEKDAY(A119,2)=7)),ColTime(T.!$J$7,T.!$L$7,D119,E119),\"\")))))),\"\")","v":""},"",null,null,{"$f":"IFERROR(CHOOSE(WEEKDAY(A119,2),norm!C$1,norm!C$2,norm!C$3,norm!C$4,norm!C$5,norm!C$6,norm!C$7),\"\")","v":"07:00:00"}]
["2019-04-27","Lø","",null,null,null,"","00:00:00","",{"$f":"IF(AND(C120=\"\",WEEKDAY(A120,2)<6),ColTime(T.!$J$4,T.!$L$4,D120,E120),\"\")","v":""},null,{"$f":"IF(AND(OR(WEEKDAY(A120,2)=7,C120<>\"\"),E120<D120,C121=\"\"),ColTime($AF$1,$AG$1,'Hele året (2)'!$AF$1,E120),IF(AND(WEEKDAY(A120,2)<6,C121=\"\"),ColTime(T.!$J$5,T.!$L$5,D120,E120),\"\"))","v":""},null,"00:00:00",{"$f":"IFERROR(IF(AND(WEEKDAY(A120,2)<6,C121<>\"\",C120=\"\"),ColTime(T.!$J$7,T.!$L$7,$AF$1,'Hele året (2)'!E120),IF(AND(C120<>\"\",C121<>\"\"),ColTime(T.!$J$7,T.!$L$7,'Hele året (2)'!D120,'Hele året (2)'!E120),IF(AND(OR(WEEKDAY(A120,2)<6,WEEKDAY(A120,2)=6),C120<>\"\",E120<D120),ColTime(T.!$J$7,T.!$L$7,D120,AF117),IF(AND(WEEKDAY(A120,2)=6,E120<D120),ColTime(T.!$J$7,T.!$L$7,$AF$1,E120),IF(AND(E120<D120,OR(C120<>\"\",WEEKDAY(A120,2)=7)),ColTime(T.!J123,T.!L123,D120,$AF$1),IF(AND(E120<>\"\",OR(C120<>\"\",WEEKDAY(A120,2)=7)),ColTime(T.!$J$7,T.!$L$7,D120,E120),\"\")))))),\"\")","v":""},"",null,null,{"$f":"IFERROR(CHOOSE(WEEKDAY(A120,2),norm!C$1,norm!C$2,norm!C$3,norm!C$4,norm!C$5,norm!C$6,norm!C$7),\"\")","v":"00:00:00"}]
["2019-04-28","Sø","",null,null,null,"","00:00:00","",{"$f":"IF(AND(C121=\"\",WEEKDAY(A121,2)<6),ColTime(T.!$J$4,T.!$L$4,D121,E121),\"\")","v":""},null,{"$f":"IF(AND(OR(WEEKDAY(A121,2)=7,C121<>\"\"),E121<D121,C122=\"\"),ColTime($AF$1,$AG$1,'Hele året (2)'!$AF$1,E121),IF(AND(WEEKDAY(A121,2)<6,C122=\"\"),ColTime(T.!$J$5,T.!$L$5,D121,E121),\"\"))","v":""},null,"",{"$f":"IFERROR(IF(AND(WEEKDAY(A121,2)<6,C122<>\"\",C121=\"\"),ColTime(T.!$J$7,T.!$L$7,$AF$1,'Hele året (2)'!E121),IF(AND(C121<>\"\",C122<>\"\"),ColTime(T.!$J$7,T.!$L$7,'Hele året (2)'!D121,'Hele året (2)'!E121),IF(AND(OR(WEEKDAY(A121,2)<6,WEEKDAY(A121,2)=6),C121<>\"\",E121<D121),ColTime(T.!$J$7,T.!$L$7,D121,AF118),IF(AND(WEEKDAY(A121,2)=6,E121<D121),ColTime(T.!$J$7,T.!$L$7,$AF$1,E121),IF(AND(E121<D121,OR(C121<>\"\",WEEKDAY(A121,2)=7)),ColTime(T.!J124,T.!L124,D121,$AF$1),IF(AND(E121<>\"\",OR(C121<>\"\",WEEKDAY(A121,2)=7)),ColTime(T.!$J$7,T.!$L$7,D121,E121),\"\")))))),\"\")","v":""},"",null,null,{"$f":"IFERROR(CHOOSE(WEEKDAY(A121,2),norm!C$1,norm!C$2,norm!C$3,norm!C$4,norm!C$5,norm!C$6,norm!C$7),\"\")","v":"00:00:00"}]
["2019-04-29","Ma","",null,null,null,"","00:00:00","",{"$f":"IF(AND(C122=\"\",WEEKDAY(A122,2)<6),ColTime(T.!$J$4,T.!$L$4,D122,E122),\"\")","v":"00:00:00"},null,{"$f":"IF(AND(OR(WEEKDAY(A122,2)=7,C122<>\"\"),E122<D122,C123=\"\"),ColTime($AF$1,$AG$1,'Hele året (2)'!$AF$1,E122),IF(AND(WEEKDAY(A122,2)<6,C123=\"\"),ColTime(T.!$J$5,T.!$L$5,D122,E122),\"\"))","v":"00:00:00"},null,"",{"$f":"IFERROR(IF(AND(WEEKDAY(A122,2)<6,C123<>\"\",C122=\"\"),ColTime(T.!$J$7,T.!$L$7,$AF$1,'Hele året (2)'!E122),IF(AND(C122<>\"\",C123<>\"\"),ColTime(T.!$J$7,T.!$L$7,'Hele året (2)'!D122,'Hele året (2)'!E122),IF(AND(OR(WEEKDAY(A122,2)<6,WEEKDAY(A122,2)=6),C122<>\"\",E122<D122),ColTime(T.!$J$7,T.!$L$7,D122,AF119),IF(AND(WEEKDAY(A122,2)=6,E122<D122),ColTime(T.!$J$7,T.!$L$7,$AF$1,E122),IF(AND(E122<D122,OR(C122<>\"\",WEEKDAY(A122,2)=7)),ColTime(T.!J125,T.!L125,D122,$AF$1),IF(AND(E122<>\"\",OR(C122<>\"\",WEEKDAY(A122,2)=7)),ColTime(T.!$J$7,T.!$L$7,D122,E122),\"\")))))),\"\")","v":""},"",null,null,{"$f":"IFERROR(CHOOSE(WEEKDAY(A122,2),norm!C$1,norm!C$2,norm!C$3,norm!C$4,norm!C$5,norm!C$6,norm!C$7),\"\")","v":"07:30:00"}]
["2019-04-30","Ti","",null,null,null,"","00:00:00","",{"$f":"IF(AND(C123=\"\",WEEKDAY(A123,2)<6),ColTime(T.!$J$4,T.!$L$4,D123,E123),\"\")","v":"00:00:00"},null,{"$f":"IF(AND(OR(WEEKDAY(A123,2)=7,C123<>\"\"),E123<D123,C124=\"\"),ColTime($AF$1,$AG$1,'Hele året (2)'!$AF$1,E123),IF(AND(WEEKDAY(A123,2)<6,C124=\"\"),ColTime(T.!$J$5,T.!$L$5,D123,E123),\"\"))","v":"00:00:00"},null,"",{"$f":"IFERROR(IF(AND(WEEKDAY(A123,2)<6,C124<>\"\",C123=\"\"),ColTime(T.!$J$7,T.!$L$7,$AF$1,'Hele året (2)'!E123),IF(AND(C123<>\"\",C124<>\"\"),ColTime(T.!$J$7,T.!$L$7,'Hele året (2)'!D123,'Hele året (2)'!E123),IF(AND(OR(WEEKDAY(A123,2)<6,WEEKDAY(A123,2)=6),C123<>\"\",E123<D123),ColTime(T.!$J$7,T.!$L$7,D123,AF120),IF(AND(WEEKDAY(A123,2)=6,E123<D123),ColTime(T.!$J$7,T.!$L$7,$AF$1,E123),IF(AND(E123<D123,OR(C123<>\"\",WEEKDAY(A123,2)=7)),ColTime(T.!J126,T.!L126,D123,$AF$1),IF(AND(E123<>\"\",OR(C123<>\"\",WEEKDAY(A123,2)=7)),ColTime(T.!$J$7,T.!$L$7,D123,E123),\"\")))))),\"\")","v":""},"",null,null,{"$f":"IFERROR(CHOOSE(WEEKDAY(A123,2),norm!C$1,norm!C$2,norm!C$3,norm!C$4,norm!C$5,norm!C$6,norm!C$7),\"\")","v":"07:30:00"}]
["2019-05-01","On","",null,null,null,"","00:00:00","",{"$f":"IF(AND(C124=\"\",WEEKDAY(A124,2)<6),ColTime(T.!$J$4,T.!$L$4,D124,E124),\"\")","v":"00:00:00"},null,{"$f":"IF(AND(OR(WEEKDAY(A124,2)=7,C124<>\"\"),E124<D124,C125=\"\"),ColTime($AF$1,$AG$1,'Hele året (2)'!$AF$1,E124),IF(AND(WEEKDAY(A124,2)<6,C125=\"\"),ColTime(T.!$J$5,T.!$L$5,D124,E124),\"\"))","v":"00:00:00"},null,"",{"$f":"IFERROR(IF(AND(WEEKDAY(A124,2)<6,C125<>\"\",C124=\"\"),ColTime(T.!$J$7,T.!$L$7,$AF$1,'Hele året (2)'!E124),IF(AND(C124<>\"\",C125<>\"\"),ColTime(T.!$J$7,T.!$L$7,'Hele året (2)'!D124,'Hele året (2)'!E124),IF(AND(OR(WEEKDAY(A124,2)<6,WEEKDAY(A124,2)=6),C124<>\"\",E124<D124),ColTime(T.!$J$7,T.!$L$7,D124,AF121),IF(AND(WEEKDAY(A124,2)=6,E124<D124),ColTime(T.!$J$7,T.!$L$7,$AF$1,E124),IF(AND(E124<D124,OR(C124<>\"\",WEEKDAY(A124,2)=7)),ColTime(T.!J127,T.!L127,D124,$AF$1),IF(AND(E124<>\"\",OR(C124<>\"\",WEEKDAY(A124,2)=7)),ColTime(T.!$J$7,T.!$L$7,D124,E124),\"\")))))),\"\")","v":""},"",null,null,{"$f":"IFERROR(CHOOSE(WEEKDAY(A124,2),norm!C$1,norm!C$2,norm!C$3,norm!C$4,norm!C$5,norm!C$6,norm!C$7),\"\")","v":"07:30:00"}]
["2019-05-02","To","",null,null,null,"","00:00:00","",{"$f":"IF(AND(C125=\"\",WEEKDAY(A125,2)<6),ColTime(T.!$J$4,T.!$L$4,D125,E125),\"\")","v":"00:00:00"},null,{"$f":"IF(AND(OR(WEEKDAY(A125,2)=7,C125<>\"\"),E125<D125,C126=\"\"),ColTime($AF$1,$AG$1,'Hele året (2)'!$AF$1,E125),IF(AND(WEEKDAY(A125,2)<6,C126=\"\"),ColTime(T.!$J$5,T.!$L$5,D125,E125),\"\"))","v":"00:00:00"},null,"",{"$f":"IFERROR(IF(AND(WEEKDAY(A125,2)<6,C126<>\"\",C125=\"\"),ColTime(T.!$J$7,T.!$L$7,$AF$1,'Hele året (2)'!E125),IF(AND(C125<>\"\",C126<>\"\"),ColTime(T.!$J$7,T.!$L$7,'Hele året (2)'!D125,'Hele året (2)'!E125),IF(AND(OR(WEEKDAY(A125,2)<6,WEEKDAY(A125,2)=6),C125<>\"\",E125<D125),ColTime(T.!$J$7,T.!$L$7,D125,AF122),IF(AND(WEEKDAY(A125,2)=6,E125<D125),ColTime(T.!$J$7,T.!$L$7,$AF$1,E125),IF(AND(E125<D125,OR(C125<>\"\",WEEKDAY(A125,2)=7)),ColTime(T.!J128,T.!L128,D125,$AF$1),IF(AND(E125<>\"\",OR(C125<>\"\",WEEKDAY(A125,2)=7)),ColTime(T.!$J$7,T.!$L$7,D125,E125),\"\")))))),\"\")","v":""},"",null,null,{"$f":"IFERROR(CHOOSE(WEEKDAY(A125,2),norm!C$1,norm!C$2,norm!C$3,norm!C$4,norm!C$5,norm!C$6,norm!C$7),\"\")","v":"07:30:00"}]
["2019-05-03","Fr","",null,null,null,"","00:00:00","",{"$f":"IF(AND(C126=\"\",WEEKDAY(A126,2)<6),ColTime(T.!$J$4,T.!$L$4,D126,E126),\"\")","v":"00:00:00"},null,{"$f":"IF(AND(OR(WEEKDAY(A126,2)=7,C126<>\"\"),E126<D126,C127=\"\"),ColTime($AF$1,$AG$1,'Hele året (2)'!$AF$1,E126),IF(AND(WEEKDAY(A126,2)<6,C127=\"\"),ColTime(T.!$J$5,T.!$L$5,D126,E126),\"\"))","v":"00:00:00"},null,"",{"$f":"IFERROR(IF(AND(WEEKDAY(A126,2)<6,C127<>\"\",C126=\"\"),ColTime(T.!$J$7,T.!$L$7,$AF$1,'Hele året (2)'!E126),IF(AND(C126<>\"\",C127<>\"\"),ColTime(T.!$J$7,T.!$L$7,'Hele året (2)'!D126,'Hele året (2)'!E126),IF(AND(OR(WEEKDAY(A126,2)<6,WEEKDAY(A126,2)=6),C126<>\"\",E126<D126),ColTime(T.!$J$7,T.!$L$7,D126,AF123),IF(AND(WEEKDAY(A126,2)=6,E126<D126),ColTime(T.!$J$7,T.!$L$7,$AF$1,E126),IF(AND(E126<D126,OR(C126<>\"\",WEEKDAY(A126,2)=7)),ColTime(T.!J129,T.!L129,D126,$AF$1),IF(AND(E126<>\"\",OR(C126<>\"\",WEEKDAY(A126,2)=7)),ColTime(T.!$J$7,T.!$L$7,D126,E126),\"\")))))),\"\")","v":""},"",null,null,{"$f":"IFERROR(CHOOSE(WEEKDAY(A126,2),norm!C$1,norm!C$2,norm!C$3,norm!C$4,norm!C$5,norm!C$6,norm!C$7),\"\")","v":"07:00:00"}]
["2019-05-04","Lø","",null,null,null,"","00:00:00","",{"$f":"IF(AND(C127=\"\",WEEKDAY(A127,2)<6),ColTime(T.!$J$4,T.!$L$4,D127,E127),\"\")","v":""},null,{"$f":"IF(AND(OR(WEEKDAY(A127,2)=7,C127<>\"\"),E127<D127,C128=\"\"),ColTime($AF$1,$AG$1,'Hele året (2)'!$AF$1,E127),IF(AND(WEEKDAY(A127,2)<6,C128=\"\"),ColTime(T.!$J$5,T.!$L$5,D127,E127),\"\"))","v":""},null,"00:00:00",{"$f":"IFERROR(IF(AND(WEEKDAY(A127,2)<6,C128<>\"\",C127=\"\"),ColTime(T.!$J$7,T.!$L$7,$AF$1,'Hele året (2)'!E127),IF(AND(C127<>\"\",C128<>\"\"),ColTime(T.!$J$7,T.!$L$7,'Hele året (2)'!D127,'Hele året (2)'!E127),IF(AND(OR(WEEKDAY(A127,2)<6,WEEKDAY(A127,2)=6),C127<>\"\",E127<D127),ColTime(T.!$J$7,T.!$L$7,D127,AF124),IF(AND(WEEKDAY(A127,2)=6,E127<D127),ColTime(T.!$J$7,T.!$L$7,$AF$1,E127),IF(AND(E127<D127,OR(C127<>\"\",WEEKDAY(A127,2)=7)),ColTime(T.!J130,T.!L130,D127,$AF$1),IF(AND(E127<>\"\",OR(C127<>\"\",WEEKDAY(A127,2)=7)),ColTime(T.!$J$7,T.!$L$7,D127,E127),\"\")))))),\"\")","v":""},"",null,null,{"$f":"IFERROR(CHOOSE(WEEKDAY(A127,2),norm!C$1,norm!C$2,norm!C$3,norm!C$4,norm!C$5,norm!C$6,norm!C$7),\"\")","v":"00:00:00"}]
["2019-05-05","Sø","","22:00:00","07:00:00",null,0.375,"00:00:00","09:00:00",{"$f":"IF(AND(C128=\"\",WEEKDAY(A128,2)<6),ColTime(T.!$J$4,T.!$L$4,D128,E128),\"\")","v":""},null,{"$f":"IF(AND(OR(WEEKDAY(A128,2)=7,C128<>\"\"),E128<D128,C129=\"\"),ColTime($AF$1,$AG$1,'Hele året (2)'!$AF$1,E128),IF(AND(WEEKDAY(A128,2)<6,C129=\"\"),ColTime(T.!$J$5,T.!$L$5,D128,E128),\"\"))","v":"06:00:00"},null,"",{"$f":"IFERROR(IF(AND(WEEKDAY(A128,2)<6,C129<>\"\",C128=\"\"),ColTime(T.!$J$7,T.!$L$7,$AF$1,'Hele året (2)'!E128),IF(AND(C128<>\"\",C129<>\"\"),ColTime(T.!$J$7,T.!$L$7,'Hele året (2)'!D128,'Hele året (2)'!E128),IF(AND(OR(WEEKDAY(A128,2)<6,WEEKDAY(A128,2)=6),C128<>\"\",E128<D128),ColTime(T.!$J$7,T.!$L$7,D128,AF125),IF(AND(WEEKDAY(A128,2)=6,E128<D128),ColTime(T.!$J$7,T.!$L$7,$AF$1,E128),IF(AND(E128<D128,OR(C128<>\"\",WEEKDAY(A128,2)=7)),ColTime(T.!J131,T.!L131,D128,$AF$1),IF(AND(E128<>\"\",OR(C128<>\"\",WEEKDAY(A128,2)=7)),ColTime(T.!$J$7,T.!$L$7,D128,E128),\"\")))))),\"\")","v":"02:00:00"},"09:00:00",null,null,{"$f":"IFERROR(CHOOSE(WEEKDAY(A128,2),norm!C$1,norm!C$2,norm!C$3,norm!C$4,norm!C$5,norm!C$6,norm!C$7),\"\")","v":"00:00:00"}]
["2019-05-06","Ma","",null,null,null,"","00:00:00","",{"$f":"IF(AND(C129=\"\",WEEKDAY(A129,2)<6),ColTime(T.!$J$4,T.!$L$4,D129,E129),\"\")","v":"00:00:00"},null,{"$f":"IF(AND(OR(WEEKDAY(A129,2)=7,C129<>\"\"),E129<D129,C130=\"\"),ColTime($AF$1,$AG$1,'Hele året (2)'!$AF$1,E129),IF(AND(WEEKDAY(A129,2)<6,C130=\"\"),ColTime(T.!$J$5,T.!$L$5,D129,E129),\"\"))","v":"00:00:00"},null,"",{"$f":"IFERROR(IF(AND(WEEKDAY(A129,2)<6,C130<>\"\",C129=\"\"),ColTime(T.!$J$7,T.!$L$7,$AF$1,'Hele året (2)'!E129),IF(AND(C129<>\"\",C130<>\"\"),ColTime(T.!$J$7,T.!$L$7,'Hele året (2)'!D129,'Hele året (2)'!E129),IF(AND(OR(WEEKDAY(A129,2)<6,WEEKDAY(A129,2)=6),C129<>\"\",E129<D129),ColTime(T.!$J$7,T.!$L$7,D129,AF126),IF(AND(WEEKDAY(A129,2)=6,E129<D129),ColTime(T.!$J$7,T.!$L$7,$AF$1,E129),IF(AND(E129<D129,OR(C129<>\"\",WEEKDAY(A129,2)=7)),ColTime(T.!J132,T.!L132,D129,$AF$1),IF(AND(E129<>\"\",OR(C129<>\"\",WEEKDAY(A129,2)=7)),ColTime(T.!$J$7,T.!$L$7,D129,E129),\"\")))))),\"\")","v":""},"",null,null,{"$f":"IFERROR(CHOOSE(WEEKDAY(A129,2),norm!C$1,norm!C$2,norm!C$3,norm!C$4,norm!C$5,norm!C$6,norm!C$7),\"\")","v":"07:30:00"}]
["2019-05-07","Ti","",null,null,null,"","00:00:00","",{"$f":"IF(AND(C130=\"\",WEEKDAY(A130,2)<6),ColTime(T.!$J$4,T.!$L$4,D130,E130),\"\")","v":"00:00:00"},null,{"$f":"IF(AND(OR(WEEKDAY(A130,2)=7,C130<>\"\"),E130<D130,C131=\"\"),ColTime($AF$1,$AG$1,'Hele året (2)'!$AF$1,E130),IF(AND(WEEKDAY(A130,2)<6,C131=\"\"),ColTime(T.!$J$5,T.!$L$5,D130,E130),\"\"))","v":"00:00:00"},null,"",{"$f":"IFERROR(IF(AND(WEEKDAY(A130,2)<6,C131<>\"\",C130=\"\"),ColTime(T.!$J$7,T.!$L$7,$AF$1,'Hele året (2)'!E130),IF(AND(C130<>\"\",C131<>\"\"),ColTime(T.!$J$7,T.!$L$7,'Hele året (2)'!D130,'Hele året (2)'!E130),IF(AND(OR(WEEKDAY(A130,2)<6,WEEKDAY(A130,2)=6),C130<>\"\",E130<D130),ColTime(T.!$J$7,T.!$L$7,D130,AF127),IF(AND(WEEKDAY(A130,2)=6,E130<D130),ColTime(T.!$J$7,T.!$L$7,$AF$1,E130),IF(AND(E130<D130,OR(C130<>\"\",WEEKDAY(A130,2)=7)),ColTime(T.!J133,T.!L133,D130,$AF$1),IF(AND(E130<>\"\",OR(C130<>\"\",WEEKDAY(A130,2)=7)),ColTime(T.!$J$7,T.!$L$7,D130,E130),\"\")))))),\"\")","v":""},"",null,null,{"$f":"IFERROR(CHOOSE(WEEKDAY(A130,2),norm!C$1,norm!C$2,norm!C$3,norm!C$4,norm!C$5,norm!C$6,norm!C$7),\"\")","v":"07:30:00"}]
["2019-05-08","On","",null,null,null,"","00:00:00","",{"$f":"IF(AND(C131=\"\",WEEKDAY(A131,2)<6),ColTime(T.!$J$4,T.!$L$4,D131,E131),\"\")","v":"00:00:00"},null,{"$f":"IF(AND(OR(WEEKDAY(A131,2)=7,C131<>\"\"),E131<D131,C132=\"\"),ColTime($AF$1,$AG$1,'Hele året (2)'!$AF$1,E131),IF(AND(WEEKDAY(A131,2)<6,C132=\"\"),ColTime(T.!$J$5,T.!$L$5,D131,E131),\"\"))","v":"00:00:00"},null,"",{"$f":"IFERROR(IF(AND(WEEKDAY(A131,2)<6,C132<>\"\",C131=\"\"),ColTime(T.!$J$7,T.!$L$7,$AF$1,'Hele året (2)'!E131),IF(AND(C131<>\"\",C132<>\"\"),ColTime(T.!$J$7,T.!$L$7,'Hele året (2)'!D131,'Hele året (2)'!E131),IF(AND(OR(WEEKDAY(A131,2)<6,WEEKDAY(A131,2)=6),C131<>\"\",E131<D131),ColTime(T.!$J$7,T.!$L$7,D131,AF128),IF(AND(WEEKDAY(A131,2)=6,E131<D131),ColTime(T.!$J$7,T.!$L$7,$AF$1,E131),IF(AND(E131<D131,OR(C131<>\"\",WEEKDAY(A131,2)=7)),ColTime(T.!J134,T.!L134,D131,$AF$1),IF(AND(E131<>\"\",OR(C131<>\"\",WEEKDAY(A131,2)=7)),ColTime(T.!$J$7,T.!$L$7,D131,E131),\"\")))))),\"\")","v":""},"",null,null,{"$f":"IFERROR(CHOOSE(WEEKDAY(A131,2),norm!C$1,norm!C$2,norm!C$3,norm!C$4,norm!C$5,norm!C$6,norm!C$7),\"\")","v":"07:30:00"}]
["2019-05-09","To","",null,null,null,"","00:00:00","",{"$f":"IF(AND(C132=\"\",WEEKDAY(A132,2)<6),ColTime(T.!$J$4,T.!$L$4,D132,E132),\"\")","v":"00:00:00"},null,{"$f":"IF(AND(OR(WEEKDAY(A132,2)=7,C132<>\"\"),E132<D132,C133=\"\"),ColTime($AF$1,$AG$1,'Hele året (2)'!$AF$1,E132),IF(AND(WEEKDAY(A132,2)<6,C133=\"\"),ColTime(T.!$J$5,T.!$L$5,D132,E132),\"\"))","v":"00:00:00"},null,"",{"$f":"IFERROR(IF(AND(WEEKDAY(A132,2)<6,C133<>\"\",C132=\"\"),ColTime(T.!$J$7,T.!$L$7,$AF$1,'Hele året (2)'!E132),IF(AND(C132<>\"\",C133<>\"\"),ColTime(T.!$J$7,T.!$L$7,'Hele året (2)'!D132,'Hele året (2)'!E132),IF(AND(OR(WEEKDAY(A132,2)<6,WEEKDAY(A132,2)=6),C132<>\"\",E132<D132),ColTime(T.!$J$7,T.!$L$7,D132,AF129),IF(AND(WEEKDAY(A132,2)=6,E132<D132),ColTime(T.!$J$7,T.!$L$7,$AF$1,E132),IF(AND(E132<D132,OR(C132<>\"\",WEEKDAY(A132,2)=7)),ColTime(T.!J135,T.!L135,D132,$AF$1),IF(AND(E132<>\"\",OR(C132<>\"\",WEEKDAY(A132,2)=7)),ColTime(T.!$J$7,T.!$L$7,D132,E132),\"\")))))),\"\")","v":""},"",null,null,{"$f":"IFERROR(CHOOSE(WEEKDAY(A132,2),norm!C$1,norm!C$2,norm!C$3,norm!C$4,norm!C$5,norm!C$6,norm!C$7),\"\")","v":"07:30:00"}]
["2019-05-10","Fr","",null,null,null,{"$f":"IF(D133=\"\",\"\",(E133-D133)+(D133>E133)-F133)","v":""},{"$f":"IF(G133=\"\",0,IF(WEEKDAY(A133,2)=7,0,IF(G133>S133,MIN(G133-S133,$AI$1),0)))","v":"00:00:00"},{"$f":"IF(G133=\"\",\"\",IF(G133>S133+H133,G133-(S133+H133),\"\"))","v":""},{"$f":"IF(AND(C133=\"\",WEEKDAY(A133,2)<6),ColTime(T.!$J$4,T.!$L$4,D133,E133),\"\")","v":"00:00:00"},null,{"$f":"IF(AND(OR(WEEKDAY(A133,2)=7,C133<>\"\"),E133<D133,C134=\"\"),ColTime($AF$1,$AG$1,'Hele året (2)'!$AF$1,E133),IF(AND(WEEKDAY(A133,2)<6,C134=\"\"),ColTime(T.!$J$5,T.!$L$5,D133,E133),\"\"))","v":"00:00:00"},null,"",{"$f":"IFERROR(IF(AND(WEEKDAY(A133,2)<6,C134<>\"\",C133=\"\"),ColTime(T.!$J$7,T.!$L$7,$AF$1,'Hele året (2)'!E133),IF(AND(C133<>\"\",C134<>\"\"),ColTime(T.!$J$7,T.!$L$7,'Hele året (2)'!D133,'Hele året (2)'!E133),IF(AND(OR(WEEKDAY(A133,2)<6,WEEKDAY(A133,2)=6),C133<>\"\",E133<D133),ColTime(T.!$J$7,T.!$L$7,D133,AF130),IF(AND(WEEKDAY(A133,2)=6,E133<D133),ColTime(T.!$J$7,T.!$L$7,$AF$1,E133),IF(AND(E133<D133,OR(C133<>\"\",WEEKDAY(A133,2)=7)),ColTime(T.!J136,T.!L136,D133,$AF$1),IF(AND(E133<>\"\",OR(C133<>\"\",WEEKDAY(A133,2)=7)),ColTime(T.!$J$7,T.!$L$7,D133,E133),\"\")))))),\"\")","v":""},"",null,null,{"$f":"IFERROR(CHOOSE(WEEKDAY(A133,2),norm!C$1,norm!C$2,norm!C$3,norm!C$4,norm!C$5,norm!C$6,norm!C$7),\"\")","v":"07:00:00"}]
["2019-05-11","Lø","",null,null,null,"","00:00:00","",{"$f":"IF(AND(C134=\"\",WEEKDAY(A134,2)<6),ColTime(T.!$J$4,T.!$L$4,D134,E134),\"\")","v":""},null,{"$f":"IF(AND(OR(WEEKDAY(A134,2)=7,C134<>\"\"),E134<D134,C135=\"\"),ColTime($AF$1,$AG$1,'Hele året (2)'!$AF$1,E134),IF(AND(WEEKDAY(A134,2)<6,C135=\"\"),ColTime(T.!$J$5,T.!$L$5,D134,E134),\"\"))","v":""},null,"00:00:00",{"$f":"IFERROR(IF(AND(WEEKDAY(A134,2)<6,C135<>\"\",C134=\"\"),ColTime(T.!$J$7,T.!$L$7,$AF$1,'Hele året (2)'!E134),IF(AND(C134<>\"\",C135<>\"\"),ColTime(T.!$J$7,T.!$L$7,'Hele året (2)'!D134,'Hele året (2)'!E134),IF(AND(OR(WEEKDAY(A134,2)<6,WEEKDAY(A134,2)=6),C134<>\"\",E134<D134),ColTime(T.!$J$7,T.!$L$7,D134,AF131),IF(AND(WEEKDAY(A134,2)=6,E134<D134),ColTime(T.!$J$7,T.!$L$7,$AF$1,E134),IF(AND(E134<D134,OR(C134<>\"\",WEEKDAY(A134,2)=7)),ColTime(T.!J137,T.!L137,D134,$AF$1),IF(AND(E134<>\"\",OR(C134<>\"\",WEEKDAY(A134,2)=7)),ColTime(T.!$J$7,T.!$L$7,D134,E134),\"\")))))),\"\")","v":""},"",null,null,{"$f":"IFERROR(CHOOSE(WEEKDAY(A134,2),norm!C$1,norm!C$2,norm!C$3,norm!C$4,norm!C$5,norm!C$6,norm!C$7),\"\")","v":"00:00:00"}]
["2019-05-12","Sø","",null,null,null,"","00:00:00","",{"$f":"IF(AND(C135=\"\",WEEKDAY(A135,2)<6),ColTime(T.!$J$4,T.!$L$4,D135,E135),\"\")","v":""},null,{"$f":"IF(AND(OR(WEEKDAY(A135,2)=7,C135<>\"\"),E135<D135,C136=\"\"),ColTime($AF$1,$AG$1,'Hele året (2)'!$AF$1,E135),IF(AND(WEEKDAY(A135,2)<6,C136=\"\"),ColTime(T.!$J$5,T.!$L$5,D135,E135),\"\"))","v":""},null,"",{"$f":"IFERROR(IF(AND(WEEKDAY(A135,2)<6,C136<>\"\",C135=\"\"),ColTime(T.!$J$7,T.!$L$7,$AF$1,'Hele året (2)'!E135),IF(AND(C135<>\"\",C136<>\"\"),ColTime(T.!$J$7,T.!$L$7,'Hele året (2)'!D135,'Hele året (2)'!E135),IF(AND(OR(WEEKDAY(A135,2)<6,WEEKDAY(A135,2)=6),C135<>\"\",E135<D135),ColTime(T.!$J$7,T.!$L$7,D135,AF132),IF(AND(WEEKDAY(A135,2)=6,E135<D135),ColTime(T.!$J$7,T.!$L$7,$AF$1,E135),IF(AND(E135<D135,OR(C135<>\"\",WEEKDAY(A135,2)=7)),ColTime(T.!J138,T.!L138,D135,$AF$1),IF(AND(E135<>\"\",OR(C135<>\"\",WEEKDAY(A135,2)=7)),ColTime(T.!$J$7,T.!$L$7,D135,E135),\"\")))))),\"\")","v":""},"",null,null,{"$f":"IFERROR(CHOOSE(WEEKDAY(A135,2),norm!C$1,norm!C$2,norm!C$3,norm!C$4,norm!C$5,norm!C$6,norm!C$7),\"\")","v":"00:00:00"}]
["2019-05-13","Ma","",null,null,null,"","00:00:00","",{"$f":"IF(AND(C136=\"\",WEEKDAY(A136,2)<6),ColTime(T.!$J$4,T.!$L$4,D136,E136),\"\")","v":"00:00:00"},null,{"$f":"IF(AND(OR(WEEKDAY(A136,2)=7,C136<>\"\"),E136<D136,C137=\"\"),ColTime($AF$1,$AG$1,'Hele året (2)'!$AF$1,E136),IF(AND(WEEKDAY(A136,2)<6,C137=\"\"),ColTime(T.!$J$5,T.!$L$5,D136,E136),\"\"))","v":"00:00:00"},null,"",{"$f":"IFERROR(IF(AND(WEEKDAY(A136,2)<6,C137<>\"\",C136=\"\"),ColTime(T.!$J$7,T.!$L$7,$AF$1,'Hele året (2)'!E136),IF(AND(C136<>\"\",C137<>\"\"),ColTime(T.!$J$7,T.!$L$7,'Hele året (2)'!D136,'Hele året (2)'!E136),IF(AND(OR(WEEKDAY(A136,2)<6,WEEKDAY(A136,2)=6),C136<>\"\",E136<D136),ColTime(T.!$J$7,T.!$L$7,D136,AF133),IF(AND(WEEKDAY(A136,2)=6,E136<D136),ColTime(T.!$J$7,T.!$L$7,$AF$1,E136),IF(AND(E136<D136,OR(C136<>\"\",WEEKDAY(A136,2)=7)),ColTime(T.!J139,T.!L139,D136,$AF$1),IF(AND(E136<>\"\",OR(C136<>\"\",WEEKDAY(A136,2)=7)),ColTime(T.!$J$7,T.!$L$7,D136,E136),\"\")))))),\"\")","v":""},"",null,null,{"$f":"IFERROR(CHOOSE(WEEKDAY(A136,2),norm!C$1,norm!C$2,norm!C$3,norm!C$4,norm!C$5,norm!C$6,norm!C$7),\"\")","v":"07:30:00"}]
["2019-05-14","Ti","",null,null,null,"","00:00:00","",{"$f":"IF(AND(C137=\"\",WEEKDAY(A137,2)<6),ColTime(T.!$J$4,T.!$L$4,D137,E137),\"\")","v":"00:00:00"},null,{"$f":"IF(AND(OR(WEEKDAY(A137,2)=7,C137<>\"\"),E137<D137,C138=\"\"),ColTime($AF$1,$AG$1,'Hele året (2)'!$AF$1,E137),IF(AND(WEEKDAY(A137,2)<6,C138=\"\"),ColTime(T.!$J$5,T.!$L$5,D137,E137),\"\"))","v":"00:00:00"},null,"",{"$f":"IFERROR(IF(AND(WEEKDAY(A137,2)<6,C138<>\"\",C137=\"\"),ColTime(T.!$J$7,T.!$L$7,$AF$1,'Hele året (2)'!E137),IF(AND(C137<>\"\",C138<>\"\"),ColTime(T.!$J$7,T.!$L$7,'Hele året (2)'!D137,'Hele året (2)'!E137),IF(AND(OR(WEEKDAY(A137,2)<6,WEEKDAY(A137,2)=6),C137<>\"\",E137<D137),ColTime(T.!$J$7,T.!$L$7,D137,AF134),IF(AND(WEEKDAY(A137,2)=6,E137<D137),ColTime(T.!$J$7,T.!$L$7,$AF$1,E137),IF(AND(E137<D137,OR(C137<>\"\",WEEKDAY(A137,2)=7)),ColTime(T.!J140,T.!L140,D137,$AF$1),IF(AND(E137<>\"\",OR(C137<>\"\",WEEKDAY(A137,2)=7)),ColTime(T.!$J$7,T.!$L$7,D137,E137),\"\")))))),\"\")","v":""},{"$f":"IFERROR(H137+I137,\"\")","v":""},null,null,{"$f":"IFERROR(CHOOSE(WEEKDAY(A137,2),norm!C$1,norm!C$2,norm!C$3,norm!C$4,norm!C$5,norm!C$6,norm!C$7),\"\")","v":"07:30:00"}]
["2019-05-15","On","",null,null,null,"","00:00:00","",{"$f":"IF(AND(C138=\"\",WEEKDAY(A138,2)<6),ColTime(T.!$J$4,T.!$L$4,D138,E138),\"\")","v":"00:00:00"},null,{"$f":"IF(AND(OR(WEEKDAY(A138,2)=7,C138<>\"\"),E138<D138,C139=\"\"),ColTime($AF$1,$AG$1,'Hele året (2)'!$AF$1,E138),IF(AND(WEEKDAY(A138,2)<6,C139=\"\"),ColTime(T.!$J$5,T.!$L$5,D138,E138),\"\"))","v":"00:00:00"},null,"",{"$f":"IFERROR(IF(AND(WEEKDAY(A138,2)<6,C139<>\"\",C138=\"\"),ColTime(T.!$J$7,T.!$L$7,$AF$1,'Hele året (2)'!E138),IF(AND(C138<>\"\",C139<>\"\"),ColTime(T.!$J$7,T.!$L$7,'Hele året (2)'!D138,'Hele året (2)'!E138),IF(AND(OR(WEEKDAY(A138,2)<6,WEEKDAY(A138,2)=6),C138<>\"\",E138<D138),ColTime(T.!$J$7,T.!$L$7,D138,AF135),IF(AND(WEEKDAY(A138,2)=6,E138<D138),ColTime(T.!$J$7,T.!$L$7,$AF$1,E138),IF(AND(E138<D138,OR(C138<>\"\",WEEKDAY(A138,2)=7)),ColTime(T.!J141,T.!L141,D138,$AF$1),IF(AND(E138<>\"\",OR(C138<>\"\",WEEKDAY(A138,2)=7)),ColTime(T.!$J$7,T.!$L$7,D138,E138),\"\")))))),\"\")","v":""},"",null,null,{"$f":"IFERROR(CHOOSE(WEEKDAY(A138,2),norm!C$1,norm!C$2,norm!C$3,norm!C$4,norm!C$5,norm!C$6,norm!C$7),\"\")","v":"07:30:00"}]
["2019-05-16","To","","22:00:00","07:00:00",null,0.375,"01:30:00","",{"$f":"IF(AND(C139=\"\",WEEKDAY(A139,2)<6),ColTime(T.!$J$4,T.!$L$4,D139,E139),\"\")","v":"01:00:00"},null,{"$f":"IF(AND(OR(WEEKDAY(A139,2)=7,C139<>\"\"),E139<D139,C140=\"\"),ColTime($AF$1,$AG$1,'Hele året (2)'!$AF$1,E139),IF(AND(WEEKDAY(A139,2)<6,C140=\"\"),ColTime(T.!$J$5,T.!$L$5,D139,E139),\"\"))","v":""},null,{"$f":"IF(WEEKDAY(A139,2)=6,ColTime(TIME(15,0,0),TIME(24,0,0),D139,E139),\"\")","v":""},{"$f":"IFERROR(IF(AND(WEEKDAY(A139,2)<6,C140<>\"\",C139=\"\"),ColTime(T.!$J$7,T.!$L$7,$AF$1,'Hele året (2)'!E139),IF(AND(C139<>\"\",C140<>\"\"),ColTime(T.!$J$7,T.!$L$7,'Hele året (2)'!D139,'Hele året (2)'!E139),IF(AND(OR(WEEKDAY(A139,2)<6,WEEKDAY(A139,2)=6),C139<>\"\",E139<D139),ColTime(T.!$J$7,T.!$L$7,D139,AF136),IF(AND(WEEKDAY(A139,2)=6,E139<D139),ColTime(T.!$J$7,T.!$L$7,$AF$1,E139),IF(AND(E139<D139,OR(C139<>\"\",WEEKDAY(A139,2)=7)),ColTime(T.!J142,T.!L142,D139,$AF$1),IF(AND(E139<>\"\",OR(C139<>\"\",WEEKDAY(A139,2)=7)),ColTime(T.!$J$7,T.!$L$7,D139,E139),\"\")))))),\"\")","v":"07:00:00"},"",null,null,{"$f":"IFERROR(CHOOSE(WEEKDAY(A139,2),norm!C$1,norm!C$2,norm!C$3,norm!C$4,norm!C$5,norm!C$6,norm!C$7),\"\")","v":"07:30:00"}]
["2019-05-17","Fr","Store Bededag",null,null,null,"","00:00:00","",{"$f":"IF(AND(C140=\"\",WEEKDAY(A140,2)<6),ColTime(T.!$J$4,T.!$L$4,D140,E140),\"\")","v":""},null,{"$f":"IF(AND(OR(WEEKDAY(A140,2)=7,C140<>\"\"),E140<D140,C141=\"\"),ColTime($AF$1,$AG$1,'Hele året (2)'!$AF$1,E140),IF(AND(WEEKDAY(A140,2)<6,C141=\"\"),ColTime(T.!$J$5,T.!$L$5,D140,E140),\"\"))","v":"00:00:00"},null,"",{"$f":"IFERROR(IF(AND(WEEKDAY(A140,2)<6,C141<>\"\",C140=\"\"),ColTime(T.!$J$7,T.!$L$7,$AF$1,'Hele året (2)'!E140),IF(AND(C140<>\"\",C141<>\"\"),ColTime(T.!$J$7,T.!$L$7,'Hele året (2)'!D140,'Hele året (2)'!E140),IF(AND(OR(WEEKDAY(A140,2)<6,WEEKDAY(A140,2)=6),C140<>\"\",E140<D140),ColTime(T.!$J$7,T.!$L$7,D140,AF137),IF(AND(WEEKDAY(A140,2)=6,E140<D140),ColTime(T.!$J$7,T.!$L$7,$AF$1,E140),IF(AND(E140<D140,OR(C140<>\"\",WEEKDAY(A140,2)=7)),ColTime(T.!J143,T.!L143,D140,$AF$1),IF(AND(E140<>\"\",OR(C140<>\"\",WEEKDAY(A140,2)=7)),ColTime(T.!$J$7,T.!$L$7,D140,E140),\"\")))))),\"\")","v":""},"",null,null,{"$f":"IFERROR(CHOOSE(WEEKDAY(A140,2),norm!C$1,norm!C$2,norm!C$3,norm!C$4,norm!C$5,norm!C$6,norm!C$7),\"\")","v":"07:00:00"}]
["2019-05-18","Lø","",null,null,null,"","00:00:00","",{"$f":"IF(AND(C141=\"\",WEEKDAY(A141,2)<6),ColTime(T.!$J$4,T.!$L$4,D141,E141),\"\")","v":""},null,{"$f":"IF(AND(OR(WEEKDAY(A141,2)=7,C141<>\"\"),E141<D141,C142=\"\"),ColTime($AF$1,$AG$1,'Hele året (2)'!$AF$1,E141),IF(AND(WEEKDAY(A141,2)<6,C142=\"\"),ColTime(T.!$J$5,T.!$L$5,D141,E141),\"\"))","v":""},null,"00:00:00",{"$f":"IFERROR(IF(AND(WEEKDAY(A141,2)<6,C142<>\"\",C141=\"\"),ColTime(T.!$J$7,T.!$L$7,$AF$1,'Hele året (2)'!E141),IF(AND(C141<>\"\",C142<>\"\"),ColTime(T.!$J$7,T.!$L$7,'Hele året (2)'!D141,'Hele året (2)'!E141),IF(AND(OR(WEEKDAY(A141,2)<6,WEEKDAY(A141,2)=6),C141<>\"\",E141<D141),ColTime(T.!$J$7,T.!$L$7,D141,AF138),IF(AND(WEEKDAY(A141,2)=6,E141<D141),ColTime(T.!$J$7,T.!$L$7,$AF$1,E141),IF(AND(E141<D141,OR(C141<>\"\",WEEKDAY(A141,2)=7)),ColTime(T.!J144,T.!L144,D141,$AF$1),IF(AND(E141<>\"\",OR(C141<>\"\",WEEKDAY(A141,2)=7)),ColTime(T.!$J$7,T.!$L$7,D141,E141),\"\")))))),\"\")","v":""},"",null,null,{"$f":"IFERROR(CHOOSE(WEEKDAY(A141,2),norm!C$1,norm!C$2,norm!C$3,norm!C$4,norm!C$5,norm!C$6,norm!C$7),\"\")","v":"00:00:00"}]
["2019-05-19","Sø","",null,null,null,"","00:00:00","",{"$f":"IF(AND(C142=\"\",WEEKDAY(A142,2)<6),ColTime(T.!$J$4,T.!$L$4,D142,E142),\"\")","v":""},null,{"$f":"IF(AND(OR(WEEKDAY(A142,2)=7,C142<>\"\"),E142<D142,C143=\"\"),ColTime($AF$1,$AG$1,'Hele året (2)'!$AF$1,E142),IF(AND(WEEKDAY(A142,2)<6,C143=\"\"),ColTime(T.!$J$5,T.!$L$5,D142,E142),\"\"))","v":""},null,"",{"$f":"IFERROR(IF(AND(WEEKDAY(A142,2)<6,C143<>\"\",C142=\"\"),ColTime(T.!$J$7,T.!$L$7,$AF$1,'Hele året (2)'!E142),IF(AND(C142<>\"\",C143<>\"\"),ColTime(T.!$J$7,T.!$L$7,'Hele året (2)'!D142,'Hele året (2)'!E142),IF(AND(OR(WEEKDAY(A142,2)<6,WEEKDAY(A142,2)=6),C142<>\"\",E142<D142),ColTime(T.!$J$7,T.!$L$7,D142,AF139),IF(AND(WEEKDAY(A142,2)=6,E142<D142),ColTime(T.!$J$7,T.!$L$7,$AF$1,E142),IF(AND(E142<D142,OR(C142<>\"\",WEEKDAY(A142,2)=7)),ColTime(T.!J145,T.!L145,D142,$AF$1),IF(AND(E142<>\"\",OR(C142<>\"\",WEEKDAY(A142,2)=7)),ColTime(T.!$J$7,T.!$L$7,D142,E142),\"\")))))),\"\")","v":""},"",null,null,{"$f":"IFERROR(CHOOSE(WEEKDAY(A142,2),norm!C$1,norm!C$2,norm!C$3,norm!C$4,norm!C$5,norm!C$6,norm!C$7),\"\")","v":"00:00:00"}]
["2019-05-20","Ma","",null,null,null,"","00:00:00","",{"$f":"IF(AND(C143=\"\",WEEKDAY(A143,2)<6),ColTime(T.!$J$4,T.!$L$4,D143,E143),\"\")","v":"00:00:00"},null,{"$f":"IF(AND(OR(WEEKDAY(A143,2)=7,C143<>\"\"),E143<D143,C144=\"\"),ColTime($AF$1,$AG$1,'Hele året (2)'!$AF$1,E143),IF(AND(WEEKDAY(A143,2)<6,C144=\"\"),ColTime(T.!$J$5,T.!$L$5,D143,E143),\"\"))","v":"00:00:00"},null,"",{"$f":"IFERROR(IF(AND(WEEKDAY(A143,2)<6,C144<>\"\",C143=\"\"),ColTime(T.!$J$7,T.!$L$7,$AF$1,'Hele året (2)'!E143),IF(AND(C143<>\"\",C144<>\"\"),ColTime(T.!$J$7,T.!$L$7,'Hele året (2)'!D143,'Hele året (2)'!E143),IF(AND(OR(WEEKDAY(A143,2)<6,WEEKDAY(A143,2)=6),C143<>\"\",E143<D143),ColTime(T.!$J$7,T.!$L$7,D143,AF140),IF(AND(WEEKDAY(A143,2)=6,E143<D143),ColTime(T.!$J$7,T.!$L$7,$AF$1,E143),IF(AND(E143<D143,OR(C143<>\"\",WEEKDAY(A143,2)=7)),ColTime(T.!J146,T.!L146,D143,$AF$1),IF(AND(E143<>\"\",OR(C143<>\"\",WEEKDAY(A143,2)=7)),ColTime(T.!$J$7,T.!$L$7,D143,E143),\"\")))))),\"\")","v":""},"",null,null,{"$f":"IFERROR(CHOOSE(WEEKDAY(A143,2),norm!C$1,norm!C$2,norm!C$3,norm!C$4,norm!C$5,norm!C$6,norm!C$7),\"\")","v":"07:30:00"}]
["2019-05-21","Ti","",null,null,null,"","00:00:00","",{"$f":"IF(AND(C144=\"\",WEEKDAY(A144,2)<6),ColTime(T.!$J$4,T.!$L$4,D144,E144),\"\")","v":"00:00:00"},null,{"$f":"IF(AND(OR(WEEKDAY(A144,2)=7,C144<>\"\"),E144<D144,C145=\"\"),ColTime($AF$1,$AG$1,'Hele året (2)'!$AF$1,E144),IF(AND(WEEKDAY(A144,2)<6,C145=\"\"),ColTime(T.!$J$5,T.!$L$5,D144,E144),\"\"))","v":"00:00:00"},null,"",{"$f":"IFERROR(IF(AND(WEEKDAY(A144,2)<6,C145<>\"\",C144=\"\"),ColTime(T.!$J$7,T.!$L$7,$AF$1,'Hele året (2)'!E144),IF(AND(C144<>\"\",C145<>\"\"),ColTime(T.!$J$7,T.!$L$7,'Hele året (2)'!D144,'Hele året (2)'!E144),IF(AND(OR(WEEKDAY(A144,2)<6,WEEKDAY(A144,2)=6),C144<>\"\",E144<D144),ColTime(T.!$J$7,T.!$L$7,D144,AF141),IF(AND(WEEKDAY(A144,2)=6,E144<D144),ColTime(T.!$J$7,T.!$L$7,$AF$1,E144),IF(AND(E144<D144,OR(C144<>\"\",WEEKDAY(A144,2)=7)),ColTime(T.!J147,T.!L147,D144,$AF$1),IF(AND(E144<>\"\",OR(C144<>\"\",WEEKDAY(A144,2)=7)),ColTime(T.!$J$7,T.!$L$7,D144,E144),\"\")))))),\"\")","v":""},"",null,null,{"$f":"IFERROR(CHOOSE(WEEKDAY(A144,2),norm!C$1,norm!C$2,norm!C$3,norm!C$4,norm!C$5,norm!C$6,norm!C$7),\"\")","v":"07:30:00"}]
["2019-05-22","On","",null,null,null,"","00:00:00","",{"$f":"IF(AND(C145=\"\",WEEKDAY(A145,2)<6),ColTime(T.!$J$4,T.!$L$4,D145,E145),\"\")","v":"00:00:00"},null,{"$f":"IF(AND(OR(WEEKDAY(A145,2)=7,C145<>\"\"),E145<D145,C146=\"\"),ColTime($AF$1,$AG$1,'Hele året (2)'!$AF$1,E145),IF(AND(WEEKDAY(A145,2)<6,C146=\"\"),ColTime(T.!$J$5,T.!$L$5,D145,E145),\"\"))","v":"00:00:00"},null,"",{"$f":"IFERROR(IF(AND(WEEKDAY(A145,2)<6,C146<>\"\",C145=\"\"),ColTime(T.!$J$7,T.!$L$7,$AF$1,'Hele året (2)'!E145),IF(AND(C145<>\"\",C146<>\"\"),ColTime(T.!$J$7,T.!$L$7,'Hele året (2)'!D145,'Hele året (2)'!E145),IF(AND(OR(WEEKDAY(A145,2)<6,WEEKDAY(A145,2)=6),C145<>\"\",E145<D145),ColTime(T.!$J$7,T.!$L$7,D145,AF142),IF(AND(WEEKDAY(A145,2)=6,E145<D145),ColTime(T.!$J$7,T.!$L$7,$AF$1,E145),IF(AND(E145<D145,OR(C145<>\"\",WEEKDAY(A145,2)=7)),ColTime(T.!J148,T.!L148,D145,$AF$1),IF(AND(E145<>\"\",OR(C145<>\"\",WEEKDAY(A145,2)=7)),ColTime(T.!$J$7,T.!$L$7,D145,E145),\"\")))))),\"\")","v":""},"",null,null,{"$f":"IFERROR(CHOOSE(WEEKDAY(A145,2),norm!C$1,norm!C$2,norm!C$3,norm!C$4,norm!C$5,norm!C$6,norm!C$7),\"\")","v":"07:30:00"}]
["2019-05-23","To","",null,null,null,"","00:00:00","",{"$f":"IF(AND(C146=\"\",WEEKDAY(A146,2)<6),ColTime(T.!$J$4,T.!$L$4,D146,E146),\"\")","v":"00:00:00"},null,{"$f":"IF(AND(OR(WEEKDAY(A146,2)=7,C146<>\"\"),E146<D146,C147=\"\"),ColTime($AF$1,$AG$1,'Hele året (2)'!$AF$1,E146),IF(AND(WEEKDAY(A146,2)<6,C147=\"\"),ColTime(T.!$J$5,T.!$L$5,D146,E146),\"\"))","v":"00:00:00"},null,"",{"$f":"IFERROR(IF(AND(WEEKDAY(A146,2)<6,C147<>\"\",C146=\"\"),ColTime(T.!$J$7,T.!$L$7,$AF$1,'Hele året (2)'!E146),IF(AND(C146<>\"\",C147<>\"\"),ColTime(T.!$J$7,T.!$L$7,'Hele året (2)'!D146,'Hele året (2)'!E146),IF(AND(OR(WEEKDAY(A146,2)<6,WEEKDAY(A146,2)=6),C146<>\"\",E146<D146),ColTime(T.!$J$7,T.!$L$7,D146,AF143),IF(AND(WEEKDAY(A146,2)=6,E146<D146),ColTime(T.!$J$7,T.!$L$7,$AF$1,E146),IF(AND(E146<D146,OR(C146<>\"\",WEEKDAY(A146,2)=7)),ColTime(T.!J149,T.!L149,D146,$AF$1),IF(AND(E146<>\"\",OR(C146<>\"\",WEEKDAY(A146,2)=7)),ColTime(T.!$J$7,T.!$L$7,D146,E146),\"\")))))),\"\")","v":""},"",null,null,{"$f":"IFERROR(CHOOSE(WEEKDAY(A146,2),norm!C$1,norm!C$2,norm!C$3,norm!C$4,norm!C$5,norm!C$6,norm!C$7),\"\")","v":"07:30:00"}]
["2019-05-24","Fr","",null,null,null,"","00:00:00","",{"$f":"IF(AND(C147=\"\",WEEKDAY(A147,2)<6),ColTime(T.!$J$4,T.!$L$4,D147,E147),\"\")","v":"00:00:00"},null,{"$f":"IF(AND(OR(WEEKDAY(A147,2)=7,C147<>\"\"),E147<D147,C148=\"\"),ColTime($AF$1,$AG$1,'Hele året (2)'!$AF$1,E147),IF(AND(WEEKDAY(A147,2)<6,C148=\"\"),ColTime(T.!$J$5,T.!$L$5,D147,E147),\"\"))","v":"00:00:00"},null,"",{"$f":"IFERROR(IF(AND(WEEKDAY(A147,2)<6,C148<>\"\",C147=\"\"),ColTime(T.!$J$7,T.!$L$7,$AF$1,'Hele året (2)'!E147),IF(AND(C147<>\"\",C148<>\"\"),ColTime(T.!$J$7,T.!$L$7,'Hele året (2)'!D147,'Hele året (2)'!E147),IF(AND(OR(WEEKDAY(A147,2)<6,WEEKDAY(A147,2)=6),C147<>\"\",E147<D147),ColTime(T.!$J$7,T.!$L$7,D147,AF144),IF(AND(WEEKDAY(A147,2)=6,E147<D147),ColTime(T.!$J$7,T.!$L$7,$AF$1,E147),IF(AND(E147<D147,OR(C147<>\"\",WEEKDAY(A147,2)=7)),ColTime(T.!J150,T.!L150,D147,$AF$1),IF(AND(E147<>\"\",OR(C147<>\"\",WEEKDAY(A147,2)=7)),ColTime(T.!$J$7,T.!$L$7,D147,E147),\"\")))))),\"\")","v":""},"",null,null,{"$f":"IFERROR(CHOOSE(WEEKDAY(A147,2),norm!C$1,norm!C$2,norm!C$3,norm!C$4,norm!C$5,norm!C$6,norm!C$7),\"\")","v":"07:00:00"}]
["2019-05-25","Lø","",null,null,null,"","00:00:00","",{"$f":"IF(AND(C148=\"\",WEEKDAY(A148,2)<6),ColTime(T.!$J$4,T.!$L$4,D148,E148),\"\")","v":""},null,{"$f":"IF(AND(OR(WEEKDAY(A148,2)=7,C148<>\"\"),E148<D148,C149=\"\"),ColTime($AF$1,$AG$1,'Hele året (2)'!$AF$1,E148),IF(AND(WEEKDAY(A148,2)<6,C149=\"\"),ColTime(T.!$J$5,T.!$L$5,D148,E148),\"\"))","v":""},null,"00:00:00",{"$f":"IFERROR(IF(AND(WEEKDAY(A148,2)<6,C149<>\"\",C148=\"\"),ColTime(T.!$J$7,T.!$L$7,$AF$1,'Hele året (2)'!E148),IF(AND(C148<>\"\",C149<>\"\"),ColTime(T.!$J$7,T.!$L$7,'Hele året (2)'!D148,'Hele året (2)'!E148),IF(AND(OR(WEEKDAY(A148,2)<6,WEEKDAY(A148,2)=6),C148<>\"\",E148<D148),ColTime(T.!$J$7,T.!$L$7,D148,AF145),IF(AND(WEEKDAY(A148,2)=6,E148<D148),ColTime(T.!$J$7,T.!$L$7,$AF$1,E148),IF(AND(E148<D148,OR(C148<>\"\",WEEKDAY(A148,2)=7)),ColTime(T.!J151,T.!L151,D148,$AF$1),IF(AND(E148<>\"\",OR(C148<>\"\",WEEKDAY(A148,2)=7)),ColTime(T.!$J$7,T.!$L$7,D148,E148),\"\")))))),\"\")","v":""},"",null,null,{"$f":"IFERROR(CHOOSE(WEEKDAY(A148,2),norm!C$1,norm!C$2,norm!C$3,norm!C$4,norm!C$5,norm!C$6,norm!C$7),\"\")","v":"00:00:00"}]
["2019-05-26","Sø","",null,null,null,"","00:00:00","",{"$f":"IF(AND(C149=\"\",WEEKDAY(A149,2)<6),ColTime(T.!$J$4,T.!$L$4,D149,E149),\"\")","v":""},null,{"$f":"IF(AND(OR(WEEKDAY(A149,2)=7,C149<>\"\"),E149<D149,C150=\"\"),ColTime($AF$1,$AG$1,'Hele året (2)'!$AF$1,E149),IF(AND(WEEKDAY(A149,2)<6,C150=\"\"),ColTime(T.!$J$5,T.!$L$5,D149,E149),\"\"))","v":""},null,"",{"$f":"IFERROR(IF(AND(WEEKDAY(A149,2)<6,C150<>\"\",C149=\"\"),ColTime(T.!$J$7,T.!$L$7,$AF$1,'Hele året (2)'!E149),IF(AND(C149<>\"\",C150<>\"\"),ColTime(T.!$J$7,T.!$L$7,'Hele året (2)'!D149,'Hele året (2)'!E149),IF(AND(OR(WEEKDAY(A149,2)<6,WEEKDAY(A149,2)=6),C149<>\"\",E149<D149),ColTime(T.!$J$7,T.!$L$7,D149,AF146),IF(AND(WEEKDAY(A149,2)=6,E149<D149),ColTime(T.!$J$7,T.!$L$7,$AF$1,E149),IF(AND(E149<D149,OR(C149<>\"\",WEEKDAY(A149,2)=7)),ColTime(T.!J152,T.!L152,D149,$AF$1),IF(AND(E149<>\"\",OR(C149<>\"\",WEEKDAY(A149,2)=7)),ColTime(T.!$J$7,T.!$L$7,D149,E149),\"\")))))),\"\")","v":""},"",null,null,{"$f":"IFERROR(CHOOSE(WEEKDAY(A149,2),norm!C$1,norm!C$2,norm!C$3,norm!C$4,norm!C$5,norm!C$6,norm!C$7),\"\")","v":"00:00:00"}]
["2019-05-27","Ma","",null,null,null,"","00:00:00","",{"$f":"IF(AND(C150=\"\",WEEKDAY(A150,2)<6),ColTime(T.!$J$4,T.!$L$4,D150,E150),\"\")","v":"00:00:00"},null,{"$f":"IF(AND(OR(WEEKDAY(A150,2)=7,C150<>\"\"),E150<D150,C151=\"\"),ColTime($AF$1,$AG$1,'Hele året (2)'!$AF$1,E150),IF(AND(WEEKDAY(A150,2)<6,C151=\"\"),ColTime(T.!$J$5,T.!$L$5,D150,E150),\"\"))","v":"00:00:00"},null,"",{"$f":"IFERROR(IF(AND(WEEKDAY(A150,2)<6,C151<>\"\",C150=\"\"),ColTime(T.!$J$7,T.!$L$7,$AF$1,'Hele året (2)'!E150),IF(AND(C150<>\"\",C151<>\"\"),ColTime(T.!$J$7,T.!$L$7,'Hele året (2)'!D150,'Hele året (2)'!E150),IF(AND(OR(WEEKDAY(A150,2)<6,WEEKDAY(A150,2)=6),C150<>\"\",E150<D150),ColTime(T.!$J$7,T.!$L$7,D150,AF147),IF(AND(WEEKDAY(A150,2)=6,E150<D150),ColTime(T.!$J$7,T.!$L$7,$AF$1,E150),IF(AND(E150<D150,OR(C150<>\"\",WEEKDAY(A150,2)=7)),ColTime(T.!J153,T.!L153,D150,$AF$1),IF(AND(E150<>\"\",OR(C150<>\"\",WEEKDAY(A150,2)=7)),ColTime(T.!$J$7,T.!$L$7,D150,E150),\"\")))))),\"\")","v":""},"",null,null,{"$f":"IFERROR(CHOOSE(WEEKDAY(A150,2),norm!C$1,norm!C$2,norm!C$3,norm!C$4,norm!C$5,norm!C$6,norm!C$7),\"\")","v":"07:30:00"}]
["2019-05-28","Ti","",null,null,null,"","00:00:00","",{"$f":"IF(AND(C151=\"\",WEEKDAY(A151,2)<6),ColTime(T.!$J$4,T.!$L$4,D151,E151),\"\")","v":"00:00:00"},null,{"$f":"IF(AND(OR(WEEKDAY(A151,2)=7,C151<>\"\"),E151<D151,C152=\"\"),ColTime($AF$1,$AG$1,'Hele året (2)'!$AF$1,E151),IF(AND(WEEKDAY(A151,2)<6,C152=\"\"),ColTime(T.!$J$5,T.!$L$5,D151,E151),\"\"))","v":"00:00:00"},null,"",{"$f":"IFERROR(IF(AND(WEEKDAY(A151,2)<6,C152<>\"\",C151=\"\"),ColTime(T.!$J$7,T.!$L$7,$AF$1,'Hele året (2)'!E151),IF(AND(C151<>\"\",C152<>\"\"),ColTime(T.!$J$7,T.!$L$7,'Hele året (2)'!D151,'Hele året (2)'!E151),IF(AND(OR(WEEKDAY(A151,2)<6,WEEKDAY(A151,2)=6),C151<>\"\",E151<D151),ColTime(T.!$J$7,T.!$L$7,D151,AF148),IF(AND(WEEKDAY(A151,2)=6,E151<D151),ColTime(T.!$J$7,T.!$L$7,$AF$1,E151),IF(AND(E151<D151,OR(C151<>\"\",WEEKDAY(A151,2)=7)),ColTime(T.!J154,T.!L154,D151,$AF$1),IF(AND(E151<>\"\",OR(C151<>\"\",WEEKDAY(A151,2)=7)),ColTime(T.!$J$7,T.!$L$7,D151,E151),\"\")))))),\"\")","v":""},"",null,null,{"$f":"IFERROR(CHOOSE(WEEKDAY(A151,2),norm!C$1,norm!C$2,norm!C$3,norm!C$4,norm!C$5,norm!C$6,norm!C$7),\"\")","v":"07:30:00"}]
["2019-05-29","On","","21:00:00","07:00:00",null,0.41666666666666674,"02:30:00","",{"$f":"IF(AND(C152=\"\",WEEKDAY(A152,2)<6),ColTime(T.!$J$4,T.!$L$4,D152,E152),\"\")","v":"02:00:00"},null,{"$f":"IF(AND(OR(WEEKDAY(A152,2)=7,C152<>\"\"),E152<D152,C153=\"\"),ColTime($AF$1,$AG$1,'Hele året (2)'!$AF$1,E152),IF(AND(WEEKDAY(A152,2)<6,C153=\"\"),ColTime(T.!$J$5,T.!$L$5,D152,E152),\"\"))","v":""},null,"",{"$f":"IFERROR(IF(AND(WEEKDAY(A152,2)<6,C153<>\"\",C152=\"\"),ColTime(T.!$J$7,T.!$L$7,$AF$1,'Hele året (2)'!E152),IF(AND(C152<>\"\",C153<>\"\"),ColTime(T.!$J$7,T.!$L$7,'Hele året (2)'!D152,'Hele året (2)'!E152),IF(AND(OR(WEEKDAY(A152,2)<6,WEEKDAY(A152,2)=6),C152<>\"\",E152<D152),ColTime(T.!$J$7,T.!$L$7,D152,AF149),IF(AND(WEEKDAY(A152,2)=6,E152<D152),ColTime(T.!$J$7,T.!$L$7,$AF$1,E152),IF(AND(E152<D152,OR(C152<>\"\",WEEKDAY(A152,2)=7)),ColTime(T.!J155,T.!L155,D152,$AF$1),IF(AND(E152<>\"\",OR(C152<>\"\",WEEKDAY(A152,2)=7)),ColTime(T.!$J$7,T.!$L$7,D152,E152),\"\")))))),\"\")","v":"07:00:00"},"",null,null,{"$f":"IFERROR(CHOOSE(WEEKDAY(A152,2),norm!C$1,norm!C$2,norm!C$3,norm!C$4,norm!C$5,norm!C$6,norm!C$7),\"\")","v":"07:30:00"}]
["2019-05-30","To","Kristi Himmelfartsdag","21:00:00","07:00:00",null,0.41666666666666674,"02:30:00","",{"$f":"IF(AND(C153=\"\",WEEKDAY(A153,2)<6),ColTime(T.!$J$4,T.!$L$4,D153,E153),\"\")","v":""},null,{"$f":"IF(AND(OR(WEEKDAY(A153,2)=7,C153<>\"\"),E153<D153,C154=\"\"),ColTime($AF$1,$AG$1,'Hele året (2)'!$AF$1,E153),IF(AND(WEEKDAY(A153,2)<6,C154=\"\"),ColTime(T.!$J$5,T.!$L$5,D153,E153),\"\"))","v":"06:00:00"},null,"",{"$f":"IFERROR(IF(AND(WEEKDAY(A153,2)<6,C154<>\"\",C153=\"\"),ColTime(T.!$J$7,T.!$L$7,$AF$1,'Hele året (2)'!E153),IF(AND(C153<>\"\",C154<>\"\"),ColTime(T.!$J$7,T.!$L$7,'Hele året (2)'!D153,'Hele året (2)'!E153),IF(AND(OR(WEEKDAY(A153,2)<6,WEEKDAY(A153,2)=6),C153<>\"\",E153<D153),ColTime(T.!$J$7,T.!$L$7,D153,AF150),IF(AND(WEEKDAY(A153,2)=6,E153<D153),ColTime(T.!$J$7,T.!$L$7,$AF$1,E153),IF(AND(E153<D153,OR(C153<>\"\",WEEKDAY(A153,2)=7)),ColTime(T.!J156,T.!L156,D153,$AF$1),IF(AND(E153<>\"\",OR(C153<>\"\",WEEKDAY(A153,2)=7)),ColTime(T.!$J$7,T.!$L$7,D153,E153),\"\")))))),\"\")","v":"03:00:00"},"",null,null,{"$f":"IFERROR(CHOOSE(WEEKDAY(A153,2),norm!C$1,norm!C$2,norm!C$3,norm!C$4,norm!C$5,norm!C$6,norm!C$7),\"\")","v":"07:30:00"}]
["2019-05-31","Fr","",null,null,null,"","00:00:00","",{"$f":"IF(AND(C154=\"\",WEEKDAY(A154,2)<6),ColTime(T.!$J$4,T.!$L$4,D154,E154),\"\")","v":"00:00:00"},null,{"$f":"IF(AND(OR(WEEKDAY(A154,2)=7,C154<>\"\"),E154<D154,C155=\"\"),ColTime($AF$1,$AG$1,'Hele året (2)'!$AF$1,E154),IF(AND(WEEKDAY(A154,2)<6,C155=\"\"),ColTime(T.!$J$5,T.!$L$5,D154,E154),\"\"))","v":"00:00:00"},null,"",{"$f":"IFERROR(IF(AND(WEEKDAY(A154,2)<6,C155<>\"\",C154=\"\"),ColTime(T.!$J$7,T.!$L$7,$AF$1,'Hele året (2)'!E154),IF(AND(C154<>\"\",C155<>\"\"),ColTime(T.!$J$7,T.!$L$7,'Hele året (2)'!D154,'Hele året (2)'!E154),IF(AND(OR(WEEKDAY(A154,2)<6,WEEKDAY(A154,2)=6),C154<>\"\",E154<D154),ColTime(T.!$J$7,T.!$L$7,D154,AF151),IF(AND(WEEKDAY(A154,2)=6,E154<D154),ColTime(T.!$J$7,T.!$L$7,$AF$1,E154),IF(AND(E154<D154,OR(C154<>\"\",WEEKDAY(A154,2)=7)),ColTime(T.!J157,T.!L157,D154,$AF$1),IF(AND(E154<>\"\",OR(C154<>\"\",WEEKDAY(A154,2)=7)),ColTime(T.!$J$7,T.!$L$7,D154,E154),\"\")))))),\"\")","v":""},"",null,null,{"$f":"IFERROR(CHOOSE(WEEKDAY(A154,2),norm!C$1,norm!C$2,norm!C$3,norm!C$4,norm!C$5,norm!C$6,norm!C$7),\"\")","v":"07:00:00"}]
[{"$f":"A154+1","v":"2019-06-01"},"Lø","",null,null,null,"","00:00:00","",{"$f":"IF(AND(C155=\"\",WEEKDAY(A155,2)<6),ColTime(T.!$J$4,T.!$L$4,D155,E155),\"\")","v":""},null,{"$f":"IF(AND(OR(WEEKDAY(A155,2)=7,C155<>\"\"),E155<D155,C156=\"\"),ColTime($AF$1,$AG$1,'Hele året (2)'!$AF$1,E155),IF(AND(WEEKDAY(A155,2)<6,C156=\"\"),ColTime(T.!$J$5,T.!$L$5,D155,E155),\"\"))","v":""},null,"00:00:00",{"$f":"IFERROR(IF(AND(WEEKDAY(A155,2)<6,C156<>\"\",C155=\"\"),ColTime(T.!$J$7,T.!$L$7,$AF$1,'Hele året (2)'!E155),IF(AND(C155<>\"\",C156<>\"\"),ColTime(T.!$J$7,T.!$L$7,'Hele året (2)'!D155,'Hele året (2)'!E155),IF(AND(OR(WEEKDAY(A155,2)<6,WEEKDAY(A155,2)=6),C155<>\"\",E155<D155),ColTime(T.!$J$7,T.!$L$7,D155,AF152),IF(AND(WEEKDAY(A155,2)=6,E155<D155),ColTime(T.!$J$7,T.!$L$7,$AF$1,E155),IF(AND(E155<D155,OR(C155<>\"\",WEEKDAY(A155,2)=7)),ColTime(T.!J158,T.!L158,D155,$AF$1),IF(AND(E155<>\"\",OR(C155<>\"\",WEEKDAY(A155,2)=7)),ColTime(T.!$J$7,T.!$L$7,D155,E155),\"\")))))),\"\")","v":""},"",null,null,{"$f":"IFERROR(CHOOSE(WEEKDAY(A155,2),norm!C$1,norm!C$2,norm!C$3,norm!C$4,norm!C$5,norm!C$6,norm!C$7),\"\")","v":"00:00:00"}]
["2019-06-02","Sø","",null,null,null,"","00:00:00","",{"$f":"IF(AND(C156=\"\",WEEKDAY(A156,2)<6),ColTime(T.!$J$4,T.!$L$4,D156,E156),\"\")","v":""},null,{"$f":"IF(AND(OR(WEEKDAY(A156,2)=7,C156<>\"\"),E156<D156,C157=\"\"),ColTime($AF$1,$AG$1,'Hele året (2)'!$AF$1,E156),IF(AND(WEEKDAY(A156,2)<6,C157=\"\"),ColTime(T.!$J$5,T.!$L$5,D156,E156),\"\"))","v":""},null,"",{"$f":"IFERROR(IF(AND(WEEKDAY(A156,2)<6,C157<>\"\",C156=\"\"),ColTime(T.!$J$7,T.!$L$7,$AF$1,'Hele året (2)'!E156),IF(AND(C156<>\"\",C157<>\"\"),ColTime(T.!$J$7,T.!$L$7,'Hele året (2)'!D156,'Hele året (2)'!E156),IF(AND(OR(WEEKDAY(A156,2)<6,WEEKDAY(A156,2)=6),C156<>\"\",E156<D156),ColTime(T.!$J$7,T.!$L$7,D156,AF153),IF(AND(WEEKDAY(A156,2)=6,E156<D156),ColTime(T.!$J$7,T.!$L$7,$AF$1,E156),IF(AND(E156<D156,OR(C156<>\"\",WEEKDAY(A156,2)=7)),ColTime(T.!J159,T.!L159,D156,$AF$1),IF(AND(E156<>\"\",OR(C156<>\"\",WEEKDAY(A156,2)=7)),ColTime(T.!$J$7,T.!$L$7,D156,E156),\"\")))))),\"\")","v":""},"",null,null,{"$f":"IFERROR(CHOOSE(WEEKDAY(A156,2),norm!C$1,norm!C$2,norm!C$3,norm!C$4,norm!C$5,norm!C$6,norm!C$7),\"\")","v":"00:00:00"}]
["2019-06-03","Ma","",null,null,null,"","00:00:00","",{"$f":"IF(AND(C157=\"\",WEEKDAY(A157,2)<6),ColTime(T.!$J$4,T.!$L$4,D157,E157),\"\")","v":"00:00:00"},null,{"$f":"IF(AND(OR(WEEKDAY(A157,2)=7,C157<>\"\"),E157<D157,C158=\"\"),ColTime($AF$1,$AG$1,'Hele året (2)'!$AF$1,E157),IF(AND(WEEKDAY(A157,2)<6,C158=\"\"),ColTime(T.!$J$5,T.!$L$5,D157,E157),\"\"))","v":"00:00:00"},null,"",{"$f":"IFERROR(IF(AND(WEEKDAY(A157,2)<6,C158<>\"\",C157=\"\"),ColTime(T.!$J$7,T.!$L$7,$AF$1,'Hele året (2)'!E157),IF(AND(C157<>\"\",C158<>\"\"),ColTime(T.!$J$7,T.!$L$7,'Hele året (2)'!D157,'Hele året (2)'!E157),IF(AND(OR(WEEKDAY(A157,2)<6,WEEKDAY(A157,2)=6),C157<>\"\",E157<D157),ColTime(T.!$J$7,T.!$L$7,D157,AF154),IF(AND(WEEKDAY(A157,2)=6,E157<D157),ColTime(T.!$J$7,T.!$L$7,$AF$1,E157),IF(AND(E157<D157,OR(C157<>\"\",WEEKDAY(A157,2)=7)),ColTime(T.!J160,T.!L160,D157,$AF$1),IF(AND(E157<>\"\",OR(C157<>\"\",WEEKDAY(A157,2)=7)),ColTime(T.!$J$7,T.!$L$7,D157,E157),\"\")))))),\"\")","v":""},"",null,null,{"$f":"IFERROR(CHOOSE(WEEKDAY(A157,2),norm!C$1,norm!C$2,norm!C$3,norm!C$4,norm!C$5,norm!C$6,norm!C$7),\"\")","v":"07:30:00"}]
["2019-06-04","Ti","",null,null,null,"","00:00:00","",{"$f":"IF(AND(C158=\"\",WEEKDAY(A158,2)<6),ColTime(T.!$J$4,T.!$L$4,D158,E158),\"\")","v":"00:00:00"},null,{"$f":"IF(AND(OR(WEEKDAY(A158,2)=7,C158<>\"\"),E158<D158,C159=\"\"),ColTime($AF$1,$AG$1,'Hele året (2)'!$AF$1,E158),IF(AND(WEEKDAY(A158,2)<6,C159=\"\"),ColTime(T.!$J$5,T.!$L$5,D158,E158),\"\"))","v":""},null,"",{"$f":"IFERROR(IF(AND(WEEKDAY(A158,2)<6,C159<>\"\",C158=\"\"),ColTime(T.!$J$7,T.!$L$7,$AF$1,'Hele året (2)'!E158),IF(AND(C158<>\"\",C159<>\"\"),ColTime(T.!$J$7,T.!$L$7,'Hele året (2)'!D158,'Hele året (2)'!E158),IF(AND(OR(WEEKDAY(A158,2)<6,WEEKDAY(A158,2)=6),C158<>\"\",E158<D158),ColTime(T.!$J$7,T.!$L$7,D158,AF155),IF(AND(WEEKDAY(A158,2)=6,E158<D158),ColTime(T.!$J$7,T.!$L$7,$AF$1,E158),IF(AND(E158<D158,OR(C158<>\"\",WEEKDAY(A158,2)=7)),ColTime(T.!J161,T.!L161,D158,$AF$1),IF(AND(E158<>\"\",OR(C158<>\"\",WEEKDAY(A158,2)=7)),ColTime(T.!$J$7,T.!$L$7,D158,E158),\"\")))))),\"\")","v":"00:00:00"},"",null,null,{"$f":"IFERROR(CHOOSE(WEEKDAY(A158,2),norm!C$1,norm!C$2,norm!C$3,norm!C$4,norm!C$5,norm!C$6,norm!C$7),\"\")","v":"07:30:00"}]
["2019-06-05","On","Grundlovsdag",null,null,null,"","00:00:00","",{"$f":"IF(AND(C159=\"\",WEEKDAY(A159,2)<6),ColTime(T.!$J$4,T.!$L$4,D159,E159),\"\")","v":""},null,{"$f":"IF(AND(OR(WEEKDAY(A159,2)=7,C159<>\"\"),E159<D159,C160=\"\"),ColTime($AF$1,$AG$1,'Hele året (2)'!$AF$1,E159),IF(AND(WEEKDAY(A159,2)<6,C160=\"\"),ColTime(T.!$J$5,T.!$L$5,D159,E159),\"\"))","v":"00:00:00"},null,"",{"$f":"IFERROR(IF(AND(WEEKDAY(A159,2)<6,C160<>\"\",C159=\"\"),ColTime(T.!$J$7,T.!$L$7,$AF$1,'Hele året (2)'!E159),IF(AND(C159<>\"\",C160<>\"\"),ColTime(T.!$J$7,T.!$L$7,'Hele året (2)'!D159,'Hele året (2)'!E159),IF(AND(OR(WEEKDAY(A159,2)<6,WEEKDAY(A159,2)=6),C159<>\"\",E159<D159),ColTime(T.!$J$7,T.!$L$7,D159,AF156),IF(AND(WEEKDAY(A159,2)=6,E159<D159),ColTime(T.!$J$7,T.!$L$7,$AF$1,E159),IF(AND(E159<D159,OR(C159<>\"\",WEEKDAY(A159,2)=7)),ColTime(T.!J162,T.!L162,D159,$AF$1),IF(AND(E159<>\"\",OR(C159<>\"\",WEEKDAY(A159,2)=7)),ColTime(T.!$J$7,T.!$L$7,D159,E159),\"\")))))),\"\")","v":""},"",null,null,{"$f":"IFERROR(CHOOSE(WEEKDAY(A159,2),norm!C$1,norm!C$2,norm!C$3,norm!C$4,norm!C$5,norm!C$6,norm!C$7),\"\")","v":"07:30:00"}]
["2019-06-06","To","",null,null,null,"","00:00:00","",{"$f":"IF(AND(C160=\"\",WEEKDAY(A160,2)<6),ColTime(T.!$J$4,T.!$L$4,D160,E160),\"\")","v":"00:00:00"},null,{"$f":"IF(AND(OR(WEEKDAY(A160,2)=7,C160<>\"\"),E160<D160,C161=\"\"),ColTime($AF$1,$AG$1,'Hele året (2)'!$AF$1,E160),IF(AND(WEEKDAY(A160,2)<6,C161=\"\"),ColTime(T.!$J$5,T.!$L$5,D160,E160),\"\"))","v":"00:00:00"},null,"",{"$f":"IFERROR(IF(AND(WEEKDAY(A160,2)<6,C161<>\"\",C160=\"\"),ColTime(T.!$J$7,T.!$L$7,$AF$1,'Hele året (2)'!E160),IF(AND(C160<>\"\",C161<>\"\"),ColTime(T.!$J$7,T.!$L$7,'Hele året (2)'!D160,'Hele året (2)'!E160),IF(AND(OR(WEEKDAY(A160,2)<6,WEEKDAY(A160,2)=6),C160<>\"\",E160<D160),ColTime(T.!$J$7,T.!$L$7,D160,AF157),IF(AND(WEEKDAY(A160,2)=6,E160<D160),ColTime(T.!$J$7,T.!$L$7,$AF$1,E160),IF(AND(E160<D160,OR(C160<>\"\",WEEKDAY(A160,2)=7)),ColTime(T.!J163,T.!L163,D160,$AF$1),IF(AND(E160<>\"\",OR(C160<>\"\",WEEKDAY(A160,2)=7)),ColTime(T.!$J$7,T.!$L$7,D160,E160),\"\")))))),\"\")","v":""},"",null,null,{"$f":"IFERROR(CHOOSE(WEEKDAY(A160,2),norm!C$1,norm!C$2,norm!C$3,norm!C$4,norm!C$5,norm!C$6,norm!C$7),\"\")","v":"07:30:00"}]
["2019-06-07","Fr","",null,null,null,"","00:00:00","",{"$f":"IF(AND(C161=\"\",WEEKDAY(A161,2)<6),ColTime(T.!$J$4,T.!$L$4,D161,E161),\"\")","v":"00:00:00"},null,{"$f":"IF(AND(OR(WEEKDAY(A161,2)=7,C161<>\"\"),E161<D161,C162=\"\"),ColTime($AF$1,$AG$1,'Hele året (2)'!$AF$1,E161),IF(AND(WEEKDAY(A161,2)<6,C162=\"\"),ColTime(T.!$J$5,T.!$L$5,D161,E161),\"\"))","v":"00:00:00"},null,"",{"$f":"IFERROR(IF(AND(WEEKDAY(A161,2)<6,C162<>\"\",C161=\"\"),ColTime(T.!$J$7,T.!$L$7,$AF$1,'Hele året (2)'!E161),IF(AND(C161<>\"\",C162<>\"\"),ColTime(T.!$J$7,T.!$L$7,'Hele året (2)'!D161,'Hele året (2)'!E161),IF(AND(OR(WEEKDAY(A161,2)<6,WEEKDAY(A161,2)=6),C161<>\"\",E161<D161),ColTime(T.!$J$7,T.!$L$7,D161,AF158),IF(AND(WEEKDAY(A161,2)=6,E161<D161),ColTime(T.!$J$7,T.!$L$7,$AF$1,E161),IF(AND(E161<D161,OR(C161<>\"\",WEEKDAY(A161,2)=7)),ColTime(T.!J164,T.!L164,D161,$AF$1),IF(AND(E161<>\"\",OR(C161<>\"\",WEEKDAY(A161,2)=7)),ColTime(T.!$J$7,T.!$L$7,D161,E161),\"\")))))),\"\")","v":""},"",null,null,{"$f":"IFERROR(CHOOSE(WEEKDAY(A161,2),norm!C$1,norm!C$2,norm!C$3,norm!C$4,norm!C$5,norm!C$6,norm!C$7),\"\")","v":"07:00:00"}]
["2019-06-08","Lø","",null,null,null,"","00:00:00","",{"$f":"IF(AND(C162=\"\",WEEKDAY(A162,2)<6),ColTime(T.!$J$4,T.!$L$4,D162,E162),\"\")","v":""},null,{"$f":"IF(AND(OR(WEEKDAY(A162,2)=7,C162<>\"\"),E162<D162,C163=\"\"),ColTime($AF$1,$AG$1,'Hele året (2)'!$AF$1,E162),IF(AND(WEEKDAY(A162,2)<6,C163=\"\"),ColTime(T.!$J$5,T.!$L$5,D162,E162),\"\"))","v":""},null,"00:00:00",{"$f":"IFERROR(IF(AND(WEEKDAY(A162,2)<6,C163<>\"\",C162=\"\"),ColTime(T.!$J$7,T.!$L$7,$AF$1,'Hele året (2)'!E162),IF(AND(C162<>\"\",C163<>\"\"),ColTime(T.!$J$7,T.!$L$7,'Hele året (2)'!D162,'Hele året (2)'!E162),IF(AND(OR(WEEKDAY(A162,2)<6,WEEKDAY(A162,2)=6),C162<>\"\",E162<D162),ColTime(T.!$J$7,T.!$L$7,D162,AF159),IF(AND(WEEKDAY(A162,2)=6,E162<D162),ColTime(T.!$J$7,T.!$L$7,$AF$1,E162),IF(AND(E162<D162,OR(C162<>\"\",WEEKDAY(A162,2)=7)),ColTime(T.!J165,T.!L165,D162,$AF$1),IF(AND(E162<>\"\",OR(C162<>\"\",WEEKDAY(A162,2)=7)),ColTime(T.!$J$7,T.!$L$7,D162,E162),\"\")))))),\"\")","v":""},"",null,null,{"$f":"IFERROR(CHOOSE(WEEKDAY(A162,2),norm!C$1,norm!C$2,norm!C$3,norm!C$4,norm!C$5,norm!C$6,norm!C$7),\"\")","v":"00:00:00"}]
["2019-06-09",{"$f":"IFERROR(PROPER(TEXT(A163,\"ddd\")),\"\")","v":"Sø"},{"$f":"IF(A163=\"\",\"\",HelligdagsNavn(A163,0,0))","v":"Pinsedag"},null,null,null,"","00:00:00","",{"$f":"IF(AND(C163=\"\",WEEKDAY(A163,2)<6),ColTime(T.!$J$4,T.!$L$4,D163,E163),\"\")","v":""},null,{"$f":"IF(AND(OR(WEEKDAY(A163,2)=7,C163<>\"\"),E163<D163,C164=\"\"),ColTime($AF$1,$AG$1,'Hele året (2)'!$AF$1,E163),IF(AND(WEEKDAY(A163,2)<6,C164=\"\"),ColTime(T.!$J$5,T.!$L$5,D163,E163),\"\"))","v":""},null,"",{"$f":"IFERROR(IF(AND(WEEKDAY(A163,2)<6,C164<>\"\",C163=\"\"),ColTime(T.!$J$7,T.!$L$7,$AF$1,'Hele året (2)'!E163),IF(AND(C163<>\"\",C164<>\"\"),ColTime(T.!$J$7,T.!$L$7,'Hele året (2)'!D163,'Hele året (2)'!E163),IF(AND(OR(WEEKDAY(A163,2)<6,WEEKDAY(A163,2)=6),C163<>\"\",E163<D163),ColTime(T.!$J$7,T.!$L$7,D163,AF160),IF(AND(WEEKDAY(A163,2)=6,E163<D163),ColTime(T.!$J$7,T.!$L$7,$AF$1,E163),IF(AND(E163<D163,OR(C163<>\"\",WEEKDAY(A163,2)=7)),ColTime(T.!J166,T.!L166,D163,$AF$1),IF(AND(E163<>\"\",OR(C163<>\"\",WEEKDAY(A163,2)=7)),ColTime(T.!$J$7,T.!$L$7,D163,E163),\"\")))))),\"\")","v":"00:00:00"},"",null,null,{"$f":"IFERROR(CHOOSE(WEEKDAY(A163,2),norm!C$1,norm!C$2,norm!C$3,norm!C$4,norm!C$5,norm!C$6,norm!C$7),\"\")","v":"00:00:00"}]
["2019-06-10","Ma","2. Pinsedag",null,null,null,"","00:00:00","",{"$f":"IF(AND(C164=\"\",WEEKDAY(A164,2)<6),ColTime(T.!$J$4,T.!$L$4,D164,E164),\"\")","v":""},null,{"$f":"IF(AND(OR(WEEKDAY(A164,2)=7,C164<>\"\"),E164<D164,C165=\"\"),ColTime($AF$1,$AG$1,'Hele året (2)'!$AF$1,E164),IF(AND(WEEKDAY(A164,2)<6,C165=\"\"),ColTime(T.!$J$5,T.!$L$5,D164,E164),\"\"))","v":"00:00:00"},null,"",{"$f":"IFERROR(IF(AND(WEEKDAY(A164,2)<6,C165<>\"\",C164=\"\"),ColTime(T.!$J$7,T.!$L$7,$AF$1,'Hele året (2)'!E164),IF(AND(C164<>\"\",C165<>\"\"),ColTime(T.!$J$7,T.!$L$7,'Hele året (2)'!D164,'Hele året (2)'!E164),IF(AND(OR(WEEKDAY(A164,2)<6,WEEKDAY(A164,2)=6),C164<>\"\",E164<D164),ColTime(T.!$J$7,T.!$L$7,D164,AF161),IF(AND(WEEKDAY(A164,2)=6,E164<D164),ColTime(T.!$J$7,T.!$L$7,$AF$1,E164),IF(AND(E164<D164,OR(C164<>\"\",WEEKDAY(A164,2)=7)),ColTime(T.!J167,T.!L167,D164,$AF$1),IF(AND(E164<>\"\",OR(C164<>\"\",WEEKDAY(A164,2)=7)),ColTime(T.!$J$7,T.!$L$7,D164,E164),\"\")))))),\"\")","v":""},"",null,null,{"$f":"IFERROR(CHOOSE(WEEKDAY(A164,2),norm!C$1,norm!C$2,norm!C$3,norm!C$4,norm!C$5,norm!C$6,norm!C$7),\"\")","v":"07:30:00"}]
["2019-06-11","Ti","",null,null,null,"","00:00:00","",{"$f":"IF(AND(C165=\"\",WEEKDAY(A165,2)<6),ColTime(T.!$J$4,T.!$L$4,D165,E165),\"\")","v":"00:00:00"},null,{"$f":"IF(AND(OR(WEEKDAY(A165,2)=7,C165<>\"\"),E165<D165,C166=\"\"),ColTime($AF$1,$AG$1,'Hele året (2)'!$AF$1,E165),IF(AND(WEEKDAY(A165,2)<6,C166=\"\"),ColTime(T.!$J$5,T.!$L$5,D165,E165),\"\"))","v":"00:00:00"},null,"",{"$f":"IFERROR(IF(AND(WEEKDAY(A165,2)<6,C166<>\"\",C165=\"\"),ColTime(T.!$J$7,T.!$L$7,$AF$1,'Hele året (2)'!E165),IF(AND(C165<>\"\",C166<>\"\"),ColTime(T.!$J$7,T.!$L$7,'Hele året (2)'!D165,'Hele året (2)'!E165),IF(AND(OR(WEEKDAY(A165,2)<6,WEEKDAY(A165,2)=6),C165<>\"\",E165<D165),ColTime(T.!$J$7,T.!$L$7,D165,AF162),IF(AND(WEEKDAY(A165,2)=6,E165<D165),ColTime(T.!$J$7,T.!$L$7,$AF$1,E165),IF(AND(E165<D165,OR(C165<>\"\",WEEKDAY(A165,2)=7)),ColTime(T.!J168,T.!L168,D165,$AF$1),IF(AND(E165<>\"\",OR(C165<>\"\",WEEKDAY(A165,2)=7)),ColTime(T.!$J$7,T.!$L$7,D165,E165),\"\")))))),\"\")","v":""},"",null,null,{"$f":"IFERROR(CHOOSE(WEEKDAY(A165,2),norm!C$1,norm!C$2,norm!C$3,norm!C$4,norm!C$5,norm!C$6,norm!C$7),\"\")","v":"07:30:00"}]
["2019-06-12","On","",null,null,null,"","00:00:00","",{"$f":"IF(AND(C166=\"\",WEEKDAY(A166,2)<6),ColTime(T.!$J$4,T.!$L$4,D166,E166),\"\")","v":"00:00:00"},null,{"$f":"IF(AND(OR(WEEKDAY(A166,2)=7,C166<>\"\"),E166<D166,C167=\"\"),ColTime($AF$1,$AG$1,'Hele året (2)'!$AF$1,E166),IF(AND(WEEKDAY(A166,2)<6,C167=\"\"),ColTime(T.!$J$5,T.!$L$5,D166,E166),\"\"))","v":"00:00:00"},null,"",{"$f":"IFERROR(IF(AND(WEEKDAY(A166,2)<6,C167<>\"\",C166=\"\"),ColTime(T.!$J$7,T.!$L$7,$AF$1,'Hele året (2)'!E166),IF(AND(C166<>\"\",C167<>\"\"),ColTime(T.!$J$7,T.!$L$7,'Hele året (2)'!D166,'Hele året (2)'!E166),IF(AND(OR(WEEKDAY(A166,2)<6,WEEKDAY(A166,2)=6),C166<>\"\",E166<D166),ColTime(T.!$J$7,T.!$L$7,D166,AF163),IF(AND(WEEKDAY(A166,2)=6,E166<D166),ColTime(T.!$J$7,T.!$L$7,$AF$1,E166),IF(AND(E166<D166,OR(C166<>\"\",WEEKDAY(A166,2)=7)),ColTime(T.!J169,T.!L169,D166,$AF$1),IF(AND(E166<>\"\",OR(C166<>\"\",WEEKDAY(A166,2)=7)),ColTime(T.!$J$7,T.!$L$7,D166,E166),\"\")))))),\"\")","v":""},"",null,null,{"$f":"IFERROR(CHOOSE(WEEKDAY(A166,2),norm!C$1,norm!C$2,norm!C$3,norm!C$4,norm!C$5,norm!C$6,norm!C$7),\"\")","v":"07:30:00"}]
["2019-06-13","To","",null,null,null,"","00:00:00","",{"$f":"IF(AND(C167=\"\",WEEKDAY(A167,2)<6),ColTime(T.!$J$4,T.!$L$4,D167,E167),\"\")","v":"00:00:00"},null,{"$f":"IF(AND(OR(WEEKDAY(A167,2)=7,C167<>\"\"),E167<D167,C168=\"\"),ColTime($AF$1,$AG$1,'Hele året (2)'!$AF$1,E167),IF(AND(WEEKDAY(A167,2)<6,C168=\"\"),ColTime(T.!$J$5,T.!$L$5,D167,E167),\"\"))","v":"00:00:00"},null,"",{"$f":"IFERROR(IF(AND(WEEKDAY(A167,2)<6,C168<>\"\",C167=\"\"),ColTime(T.!$J$7,T.!$L$7,$AF$1,'Hele året (2)'!E167),IF(AND(C167<>\"\",C168<>\"\"),ColTime(T.!$J$7,T.!$L$7,'Hele året (2)'!D167,'Hele året (2)'!E167),IF(AND(OR(WEEKDAY(A167,2)<6,WEEKDAY(A167,2)=6),C167<>\"\",E167<D167),ColTime(T.!$J$7,T.!$L$7,D167,AF164),IF(AND(WEEKDAY(A167,2)=6,E167<D167),ColTime(T.!$J$7,T.!$L$7,$AF$1,E167),IF(AND(E167<D167,OR(C167<>\"\",WEEKDAY(A167,2)=7)),ColTime(T.!J170,T.!L170,D167,$AF$1),IF(AND(E167<>\"\",OR(C167<>\"\",WEEKDAY(A167,2)=7)),ColTime(T.!$J$7,T.!$L$7,D167,E167),\"\")))))),\"\")","v":""},"",null,null,{"$f":"IFERROR(CHOOSE(WEEKDAY(A167,2),norm!C$1,norm!C$2,norm!C$3,norm!C$4,norm!C$5,norm!C$6,norm!C$7),\"\")","v":"07:30:00"}]
["2019-06-14","Fr","",null,null,null,"","00:00:00","",{"$f":"IF(AND(C168=\"\",WEEKDAY(A168,2)<6),ColTime(T.!$J$4,T.!$L$4,D168,E168),\"\")","v":"00:00:00"},null,{"$f":"IF(AND(OR(WEEKDAY(A168,2)=7,C168<>\"\"),E168<D168,C169=\"\"),ColTime($AF$1,$AG$1,'Hele året (2)'!$AF$1,E168),IF(AND(WEEKDAY(A168,2)<6,C169=\"\"),ColTime(T.!$J$5,T.!$L$5,D168,E168),\"\"))","v":"00:00:00"},null,"",{"$f":"IFERROR(IF(AND(WEEKDAY(A168,2)<6,C169<>\"\",C168=\"\"),ColTime(T.!$J$7,T.!$L$7,$AF$1,'Hele året (2)'!E168),IF(AND(C168<>\"\",C169<>\"\"),ColTime(T.!$J$7,T.!$L$7,'Hele året (2)'!D168,'Hele året (2)'!E168),IF(AND(OR(WEEKDAY(A168,2)<6,WEEKDAY(A168,2)=6),C168<>\"\",E168<D168),ColTime(T.!$J$7,T.!$L$7,D168,AF165),IF(AND(WEEKDAY(A168,2)=6,E168<D168),ColTime(T.!$J$7,T.!$L$7,$AF$1,E168),IF(AND(E168<D168,OR(C168<>\"\",WEEKDAY(A168,2)=7)),ColTime(T.!J171,T.!L171,D168,$AF$1),IF(AND(E168<>\"\",OR(C168<>\"\",WEEKDAY(A168,2)=7)),ColTime(T.!$J$7,T.!$L$7,D168,E168),\"\")))))),\"\")","v":""},"",null,null,{"$f":"IFERROR(CHOOSE(WEEKDAY(A168,2),norm!C$1,norm!C$2,norm!C$3,norm!C$4,norm!C$5,norm!C$6,norm!C$7),\"\")","v":"07:00:00"}]
["2019-06-15","Lø","",null,null,null,"","00:00:00","",{"$f":"IF(AND(C169=\"\",WEEKDAY(A169,2)<6),ColTime(T.!$J$4,T.!$L$4,D169,E169),\"\")","v":""},null,{"$f":"IF(AND(OR(WEEKDAY(A169,2)=7,C169<>\"\"),E169<D169,C170=\"\"),ColTime($AF$1,$AG$1,'Hele året (2)'!$AF$1,E169),IF(AND(WEEKDAY(A169,2)<6,C170=\"\"),ColTime(T.!$J$5,T.!$L$5,D169,E169),\"\"))","v":""},null,"00:00:00",{"$f":"IFERROR(IF(AND(WEEKDAY(A169,2)<6,C170<>\"\",C169=\"\"),ColTime(T.!$J$7,T.!$L$7,$AF$1,'Hele året (2)'!E169),IF(AND(C169<>\"\",C170<>\"\"),ColTime(T.!$J$7,T.!$L$7,'Hele året (2)'!D169,'Hele året (2)'!E169),IF(AND(OR(WEEKDAY(A169,2)<6,WEEKDAY(A169,2)=6),C169<>\"\",E169<D169),ColTime(T.!$J$7,T.!$L$7,D169,AF166),IF(AND(WEEKDAY(A169,2)=6,E169<D169),ColTime(T.!$J$7,T.!$L$7,$AF$1,E169),IF(AND(E169<D169,OR(C169<>\"\",WEEKDAY(A169,2)=7)),ColTime(T.!J172,T.!L172,D169,$AF$1),IF(AND(E169<>\"\",OR(C169<>\"\",WEEKDAY(A169,2)=7)),ColTime(T.!$J$7,T.!$L$7,D169,E169),\"\")))))),\"\")","v":""},"",null,null,{"$f":"IFERROR(CHOOSE(WEEKDAY(A169,2),norm!C$1,norm!C$2,norm!C$3,norm!C$4,norm!C$5,norm!C$6,norm!C$7),\"\")","v":"00:00:00"}]
["2019-06-16","Sø","",null,null,null,"","00:00:00","",{"$f":"IF(AND(C170=\"\",WEEKDAY(A170,2)<6),ColTime(T.!$J$4,T.!$L$4,D170,E170),\"\")","v":""},null,{"$f":"IF(AND(OR(WEEKDAY(A170,2)=7,C170<>\"\"),E170<D170,C171=\"\"),ColTime($AF$1,$AG$1,'Hele året (2)'!$AF$1,E170),IF(AND(WEEKDAY(A170,2)<6,C171=\"\"),ColTime(T.!$J$5,T.!$L$5,D170,E170),\"\"))","v":""},null,"",{"$f":"IFERROR(IF(AND(WEEKDAY(A170,2)<6,C171<>\"\",C170=\"\"),ColTime(T.!$J$7,T.!$L$7,$AF$1,'Hele året (2)'!E170),IF(AND(C170<>\"\",C171<>\"\"),ColTime(T.!$J$7,T.!$L$7,'Hele året (2)'!D170,'Hele året (2)'!E170),IF(AND(OR(WEEKDAY(A170,2)<6,WEEKDAY(A170,2)=6),C170<>\"\",E170<D170),ColTime(T.!$J$7,T.!$L$7,D170,AF167),IF(AND(WEEKDAY(A170,2)=6,E170<D170),ColTime(T.!$J$7,T.!$L$7,$AF$1,E170),IF(AND(E170<D170,OR(C170<>\"\",WEEKDAY(A170,2)=7)),ColTime(T.!J173,T.!L173,D170,$AF$1),IF(AND(E170<>\"\",OR(C170<>\"\",WEEKDAY(A170,2)=7)),ColTime(T.!$J$7,T.!$L$7,D170,E170),\"\")))))),\"\")","v":""},"",null,null,{"$f":"IFERROR(CHOOSE(WEEKDAY(A170,2),norm!C$1,norm!C$2,norm!C$3,norm!C$4,norm!C$5,norm!C$6,norm!C$7),\"\")","v":"00:00:00"}]
["2019-06-17","Ma","",null,null,null,"","00:00:00","",{"$f":"IF(AND(C171=\"\",WEEKDAY(A171,2)<6),ColTime(T.!$J$4,T.!$L$4,D171,E171),\"\")","v":"00:00:00"},null,{"$f":"IF(AND(OR(WEEKDAY(A171,2)=7,C171<>\"\"),E171<D171,C172=\"\"),ColTime($AF$1,$AG$1,'Hele året (2)'!$AF$1,E171),IF(AND(WEEKDAY(A171,2)<6,C172=\"\"),ColTime(T.!$J$5,T.!$L$5,D171,E171),\"\"))","v":"00:00:00"},null,"",{"$f":"IFERROR(IF(AND(WEEKDAY(A171,2)<6,C172<>\"\",C171=\"\"),ColTime(T.!$J$7,T.!$L$7,$AF$1,'Hele året (2)'!E171),IF(AND(C171<>\"\",C172<>\"\"),ColTime(T.!$J$7,T.!$L$7,'Hele året (2)'!D171,'Hele året (2)'!E171),IF(AND(OR(WEEKDAY(A171,2)<6,WEEKDAY(A171,2)=6),C171<>\"\",E171<D171),ColTime(T.!$J$7,T.!$L$7,D171,AF168),IF(AND(WEEKDAY(A171,2)=6,E171<D171),ColTime(T.!$J$7,T.!$L$7,$AF$1,E171),IF(AND(E171<D171,OR(C171<>\"\",WEEKDAY(A171,2)=7)),ColTime(T.!J174,T.!L174,D171,$AF$1),IF(AND(E171<>\"\",OR(C171<>\"\",WEEKDAY(A171,2)=7)),ColTime(T.!$J$7,T.!$L$7,D171,E171),\"\")))))),\"\")","v":""},"",null,null,{"$f":"IFERROR(CHOOSE(WEEKDAY(A171,2),norm!C$1,norm!C$2,norm!C$3,norm!C$4,norm!C$5,norm!C$6,norm!C$7),\"\")","v":"07:30:00"}]
["2019-06-18","Ti","",null,null,null,"","00:00:00","",{"$f":"IF(AND(C172=\"\",WEEKDAY(A172,2)<6),ColTime(T.!$J$4,T.!$L$4,D172,E172),\"\")","v":"00:00:00"},null,{"$f":"IF(AND(OR(WEEKDAY(A172,2)=7,C172<>\"\"),E172<D172,C173=\"\"),ColTime($AF$1,$AG$1,'Hele året (2)'!$AF$1,E172),IF(AND(WEEKDAY(A172,2)<6,C173=\"\"),ColTime(T.!$J$5,T.!$L$5,D172,E172),\"\"))","v":"00:00:00"},null,"",{"$f":"IFERROR(IF(AND(WEEKDAY(A172,2)<6,C173<>\"\",C172=\"\"),ColTime(T.!$J$7,T.!$L$7,$AF$1,'Hele året (2)'!E172),IF(AND(C172<>\"\",C173<>\"\"),ColTime(T.!$J$7,T.!$L$7,'Hele året (2)'!D172,'Hele året (2)'!E172),IF(AND(OR(WEEKDAY(A172,2)<6,WEEKDAY(A172,2)=6),C172<>\"\",E172<D172),ColTime(T.!$J$7,T.!$L$7,D172,AF169),IF(AND(WEEKDAY(A172,2)=6,E172<D172),ColTime(T.!$J$7,T.!$L$7,$AF$1,E172),IF(AND(E172<D172,OR(C172<>\"\",WEEKDAY(A172,2)=7)),ColTime(T.!J175,T.!L175,D172,$AF$1),IF(AND(E172<>\"\",OR(C172<>\"\",WEEKDAY(A172,2)=7)),ColTime(T.!$J$7,T.!$L$7,D172,E172),\"\")))))),\"\")","v":""},"",null,null,{"$f":"IFERROR(CHOOSE(WEEKDAY(A172,2),norm!C$1,norm!C$2,norm!C$3,norm!C$4,norm!C$5,norm!C$6,norm!C$7),\"\")","v":"07:30:00"}]
["2019-06-19","On","",null,null,null,"","00:00:00","",{"$f":"IF(AND(C173=\"\",WEEKDAY(A173,2)<6),ColTime(T.!$J$4,T.!$L$4,D173,E173),\"\")","v":"00:00:00"},null,{"$f":"IF(AND(OR(WEEKDAY(A173,2)=7,C173<>\"\"),E173<D173,C174=\"\"),ColTime($AF$1,$AG$1,'Hele året (2)'!$AF$1,E173),IF(AND(WEEKDAY(A173,2)<6,C174=\"\"),ColTime(T.!$J$5,T.!$L$5,D173,E173),\"\"))","v":"00:00:00"},null,"",{"$f":"IFERROR(IF(AND(WEEKDAY(A173,2)<6,C174<>\"\",C173=\"\"),ColTime(T.!$J$7,T.!$L$7,$AF$1,'Hele året (2)'!E173),IF(AND(C173<>\"\",C174<>\"\"),ColTime(T.!$J$7,T.!$L$7,'Hele året (2)'!D173,'Hele året (2)'!E173),IF(AND(OR(WEEKDAY(A173,2)<6,WEEKDAY(A173,2)=6),C173<>\"\",E173<D173),ColTime(T.!$J$7,T.!$L$7,D173,AF170),IF(AND(WEEKDAY(A173,2)=6,E173<D173),ColTime(T.!$J$7,T.!$L$7,$AF$1,E173),IF(AND(E173<D173,OR(C173<>\"\",WEEKDAY(A173,2)=7)),ColTime(T.!J176,T.!L176,D173,$AF$1),IF(AND(E173<>\"\",OR(C173<>\"\",WEEKDAY(A173,2)=7)),ColTime(T.!$J$7,T.!$L$7,D173,E173),\"\")))))),\"\")","v":""},"",null,null,{"$f":"IFERROR(CHOOSE(WEEKDAY(A173,2),norm!C$1,norm!C$2,norm!C$3,norm!C$4,norm!C$5,norm!C$6,norm!C$7),\"\")","v":"07:30:00"}]
["2019-06-20","To","",null,null,null,"","00:00:00","",{"$f":"IF(AND(C174=\"\",WEEKDAY(A174,2)<6),ColTime(T.!$J$4,T.!$L$4,D174,E174),\"\")","v":"00:00:00"},null,{"$f":"IF(AND(OR(WEEKDAY(A174,2)=7,C174<>\"\"),E174<D174,C175=\"\"),ColTime($AF$1,$AG$1,'Hele året (2)'!$AF$1,E174),IF(AND(WEEKDAY(A174,2)<6,C175=\"\"),ColTime(T.!$J$5,T.!$L$5,D174,E174),\"\"))","v":"00:00:00"},null,"",{"$f":"IFERROR(IF(AND(WEEKDAY(A174,2)<6,C175<>\"\",C174=\"\"),ColTime(T.!$J$7,T.!$L$7,$AF$1,'Hele året (2)'!E174),IF(AND(C174<>\"\",C175<>\"\"),ColTime(T.!$J$7,T.!$L$7,'Hele året (2)'!D174,'Hele året (2)'!E174),IF(AND(OR(WEEKDAY(A174,2)<6,WEEKDAY(A174,2)=6),C174<>\"\",E174<D174),ColTime(T.!$J$7,T.!$L$7,D174,AF171),IF(AND(WEEKDAY(A174,2)=6,E174<D174),ColTime(T.!$J$7,T.!$L$7,$AF$1,E174),IF(AND(E174<D174,OR(C174<>\"\",WEEKDAY(A174,2)=7)),ColTime(T.!J177,T.!L177,D174,$AF$1),IF(AND(E174<>\"\",OR(C174<>\"\",WEEKDAY(A174,2)=7)),ColTime(T.!$J$7,T.!$L$7,D174,E174),\"\")))))),\"\")","v":""},"",null,null,{"$f":"IFERROR(CHOOSE(WEEKDAY(A174,2),norm!C$1,norm!C$2,norm!C$3,norm!C$4,norm!C$5,norm!C$6,norm!C$7),\"\")","v":"07:30:00"}]
["2019-06-21","Fr","",null,null,null,"","00:00:00","",{"$f":"IF(AND(C175=\"\",WEEKDAY(A175,2)<6),ColTime(T.!$J$4,T.!$L$4,D175,E175),\"\")","v":"00:00:00"},null,{"$f":"IF(AND(OR(WEEKDAY(A175,2)=7,C175<>\"\"),E175<D175,C176=\"\"),ColTime($AF$1,$AG$1,'Hele året (2)'!$AF$1,E175),IF(AND(WEEKDAY(A175,2)<6,C176=\"\"),ColTime(T.!$J$5,T.!$L$5,D175,E175),\"\"))","v":"00:00:00"},null,"",{"$f":"IFERROR(IF(AND(WEEKDAY(A175,2)<6,C176<>\"\",C175=\"\"),ColTime(T.!$J$7,T.!$L$7,$AF$1,'Hele året (2)'!E175),IF(AND(C175<>\"\",C176<>\"\"),ColTime(T.!$J$7,T.!$L$7,'Hele året (2)'!D175,'Hele året (2)'!E175),IF(AND(OR(WEEKDAY(A175,2)<6,WEEKDAY(A175,2)=6),C175<>\"\",E175<D175),ColTime(T.!$J$7,T.!$L$7,D175,AF172),IF(AND(WEEKDAY(A175,2)=6,E175<D175),ColTime(T.!$J$7,T.!$L$7,$AF$1,E175),IF(AND(E175<D175,OR(C175<>\"\",WEEKDAY(A175,2)=7)),ColTime(T.!J178,T.!L178,D175,$AF$1),IF(AND(E175<>\"\",OR(C175<>\"\",WEEKDAY(A175,2)=7)),ColTime(T.!$J$7,T.!$L$7,D175,E175),\"\")))))),\"\")","v":""},"",null,null,{"$f":"IFERROR(CHOOSE(WEEKDAY(A175,2),norm!C$1,norm!C$2,norm!C$3,norm!C$4,norm!C$5,norm!C$6,norm!C$7),\"\")","v":"07:00:00"}]
["2019-06-22","Lø","",null,null,null,"","00:00:00","",{"$f":"IF(AND(C176=\"\",WEEKDAY(A176,2)<6),ColTime(T.!$J$4,T.!$L$4,D176,E176),\"\")","v":""},null,{"$f":"IF(AND(OR(WEEKDAY(A176,2)=7,C176<>\"\"),E176<D176,C177=\"\"),ColTime($AF$1,$AG$1,'Hele året (2)'!$AF$1,E176),IF(AND(WEEKDAY(A176,2)<6,C177=\"\"),ColTime(T.!$J$5,T.!$L$5,D176,E176),\"\"))","v":""},null,"00:00:00",{"$f":"IFERROR(IF(AND(WEEKDAY(A176,2)<6,C177<>\"\",C176=\"\"),ColTime(T.!$J$7,T.!$L$7,$AF$1,'Hele året (2)'!E176),IF(AND(C176<>\"\",C177<>\"\"),ColTime(T.!$J$7,T.!$L$7,'Hele året (2)'!D176,'Hele året (2)'!E176),IF(AND(OR(WEEKDAY(A176,2)<6,WEEKDAY(A176,2)=6),C176<>\"\",E176<D176),ColTime(T.!$J$7,T.!$L$7,D176,AF173),IF(AND(WEEKDAY(A176,2)=6,E176<D176),ColTime(T.!$J$7,T.!$L$7,$AF$1,E176),IF(AND(E176<D176,OR(C176<>\"\",WEEKDAY(A176,2)=7)),ColTime(T.!J179,T.!L179,D176,$AF$1),IF(AND(E176<>\"\",OR(C176<>\"\",WEEKDAY(A176,2)=7)),ColTime(T.!$J$7,T.!$L$7,D176,E176),\"\")))))),\"\")","v":""},"",null,null,{"$f":"IFERROR(CHOOSE(WEEKDAY(A176,2),norm!C$1,norm!C$2,norm!C$3,norm!C$4,norm!C$5,norm!C$6,norm!C$7),\"\")","v":"00:00:00"}]
["2019-06-23","Sø","",null,null,null,"","00:00:00","",{"$f":"IF(AND(C177=\"\",WEEKDAY(A177,2)<6),ColTime(T.!$J$4,T.!$L$4,D177,E177),\"\")","v":""},null,{"$f":"IF(AND(OR(WEEKDAY(A177,2)=7,C177<>\"\"),E177<D177,C178=\"\"),ColTime($AF$1,$AG$1,'Hele året (2)'!$AF$1,E177),IF(AND(WEEKDAY(A177,2)<6,C178=\"\"),ColTime(T.!$J$5,T.!$L$5,D177,E177),\"\"))","v":""},null,"",{"$f":"IFERROR(IF(AND(WEEKDAY(A177,2)<6,C178<>\"\",C177=\"\"),ColTime(T.!$J$7,T.!$L$7,$AF$1,'Hele året (2)'!E177),IF(AND(C177<>\"\",C178<>\"\"),ColTime(T.!$J$7,T.!$L$7,'Hele året (2)'!D177,'Hele året (2)'!E177),IF(AND(OR(WEEKDAY(A177,2)<6,WEEKDAY(A177,2)=6),C177<>\"\",E177<D177),ColTime(T.!$J$7,T.!$L$7,D177,AF174),IF(AND(WEEKDAY(A177,2)=6,E177<D177),ColTime(T.!$J$7,T.!$L$7,$AF$1,E177),IF(AND(E177<D177,OR(C177<>\"\",WEEKDAY(A177,2)=7)),ColTime(T.!J180,T.!L180,D177,$AF$1),IF(AND(E177<>\"\",OR(C177<>\"\",WEEKDAY(A177,2)=7)),ColTime(T.!$J$7,T.!$L$7,D177,E177),\"\")))))),\"\")","v":""},"",null,null,{"$f":"IFERROR(CHOOSE(WEEKDAY(A177,2),norm!C$1,norm!C$2,norm!C$3,norm!C$4,norm!C$5,norm!C$6,norm!C$7),\"\")","v":"00:00:00"}]
["2019-06-24","Ma","",null,null,null,"","00:00:00","",{"$f":"IF(AND(C178=\"\",WEEKDAY(A178,2)<6),ColTime(T.!$J$4,T.!$L$4,D178,E178),\"\")","v":"00:00:00"},null,{"$f":"IF(AND(OR(WEEKDAY(A178,2)=7,C178<>\"\"),E178<D178,C179=\"\"),ColTime($AF$1,$AG$1,'Hele året (2)'!$AF$1,E178),IF(AND(WEEKDAY(A178,2)<6,C179=\"\"),ColTime(T.!$J$5,T.!$L$5,D178,E178),\"\"))","v":"00:00:00"},null,"",{"$f":"IFERROR(IF(AND(WEEKDAY(A178,2)<6,C179<>\"\",C178=\"\"),ColTime(T.!$J$7,T.!$L$7,$AF$1,'Hele året (2)'!E178),IF(AND(C178<>\"\",C179<>\"\"),ColTime(T.!$J$7,T.!$L$7,'Hele året (2)'!D178,'Hele året (2)'!E178),IF(AND(OR(WEEKDAY(A178,2)<6,WEEKDAY(A178,2)=6),C178<>\"\",E178<D178),ColTime(T.!$J$7,T.!$L$7,D178,AF175),IF(AND(WEEKDAY(A178,2)=6,E178<D178),ColTime(T.!$J$7,T.!$L$7,$AF$1,E178),IF(AND(E178<D178,OR(C178<>\"\",WEEKDAY(A178,2)=7)),ColTime(T.!J181,T.!L181,D178,$AF$1),IF(AND(E178<>\"\",OR(C178<>\"\",WEEKDAY(A178,2)=7)),ColTime(T.!$J$7,T.!$L$7,D178,E178),\"\")))))),\"\")","v":""},"",null,null,{"$f":"IFERROR(CHOOSE(WEEKDAY(A178,2),norm!C$1,norm!C$2,norm!C$3,norm!C$4,norm!C$5,norm!C$6,norm!C$7),\"\")","v":"07:30:00"}]
["2019-06-25","Ti","",null,null,null,"","00:00:00","",{"$f":"IF(AND(C179=\"\",WEEKDAY(A179,2)<6),ColTime(T.!$J$4,T.!$L$4,D179,E179),\"\")","v":"00:00:00"},null,{"$f":"IF(AND(OR(WEEKDAY(A179,2)=7,C179<>\"\"),E179<D179,C180=\"\"),ColTime($AF$1,$AG$1,'Hele året (2)'!$AF$1,E179),IF(AND(WEEKDAY(A179,2)<6,C180=\"\"),ColTime(T.!$J$5,T.!$L$5,D179,E179),\"\"))","v":"00:00:00"},null,"",{"$f":"IFERROR(IF(AND(WEEKDAY(A179,2)<6,C180<>\"\",C179=\"\"),ColTime(T.!$J$7,T.!$L$7,$AF$1,'Hele året (2)'!E179),IF(AND(C179<>\"\",C180<>\"\"),ColTime(T.!$J$7,T.!$L$7,'Hele året (2)'!D179,'Hele året (2)'!E179),IF(AND(OR(WEEKDAY(A179,2)<6,WEEKDAY(A179,2)=6),C179<>\"\",E179<D179),ColTime(T.!$J$7,T.!$L$7,D179,AF176),IF(AND(WEEKDAY(A179,2)=6,E179<D179),ColTime(T.!$J$7,T.!$L$7,$AF$1,E179),IF(AND(E179<D179,OR(C179<>\"\",WEEKDAY(A179,2)=7)),ColTime(T.!J182,T.!L182,D179,$AF$1),IF(AND(E179<>\"\",OR(C179<>\"\",WEEKDAY(A179,2)=7)),ColTime(T.!$J$7,T.!$L$7,D179,E179),\"\")))))),\"\")","v":""},"",null,null,{"$f":"IFERROR(CHOOSE(WEEKDAY(A179,2),norm!C$1,norm!C$2,norm!C$3,norm!C$4,norm!C$5,norm!C$6,norm!C$7),\"\")","v":"07:30:00"}]
["2019-06-26","On","",null,null,null,"","00:00:00","",{"$f":"IF(AND(C180=\"\",WEEKDAY(A180,2)<6),ColTime(T.!$J$4,T.!$L$4,D180,E180),\"\")","v":"00:00:00"},null,{"$f":"IF(AND(OR(WEEKDAY(A180,2)=7,C180<>\"\"),E180<D180,C181=\"\"),ColTime($AF$1,$AG$1,'Hele året (2)'!$AF$1,E180),IF(AND(WEEKDAY(A180,2)<6,C181=\"\"),ColTime(T.!$J$5,T.!$L$5,D180,E180),\"\"))","v":"00:00:00"},null,"",{"$f":"IFERROR(IF(AND(WEEKDAY(A180,2)<6,C181<>\"\",C180=\"\"),ColTime(T.!$J$7,T.!$L$7,$AF$1,'Hele året (2)'!E180),IF(AND(C180<>\"\",C181<>\"\"),ColTime(T.!$J$7,T.!$L$7,'Hele året (2)'!D180,'Hele året (2)'!E180),IF(AND(OR(WEEKDAY(A180,2)<6,WEEKDAY(A180,2)=6),C180<>\"\",E180<D180),ColTime(T.!$J$7,T.!$L$7,D180,AF177),IF(AND(WEEKDAY(A180,2)=6,E180<D180),ColTime(T.!$J$7,T.!$L$7,$AF$1,E180),IF(AND(E180<D180,OR(C180<>\"\",WEEKDAY(A180,2)=7)),ColTime(T.!J183,T.!L183,D180,$AF$1),IF(AND(E180<>\"\",OR(C180<>\"\",WEEKDAY(A180,2)=7)),ColTime(T.!$J$7,T.!$L$7,D180,E180),\"\")))))),\"\")","v":""},"",null,null,{"$f":"IFERROR(CHOOSE(WEEKDAY(A180,2),norm!C$1,norm!C$2,norm!C$3,norm!C$4,norm!C$5,norm!C$6,norm!C$7),\"\")","v":"07:30:00"}]
["2019-06-27","To","",null,null,null,"","00:00:00","",{"$f":"IF(AND(C181=\"\",WEEKDAY(A181,2)<6),ColTime(T.!$J$4,T.!$L$4,D181,E181),\"\")","v":"00:00:00"},null,{"$f":"IF(AND(OR(WEEKDAY(A181,2)=7,C181<>\"\"),E181<D181,C182=\"\"),ColTime($AF$1,$AG$1,'Hele året (2)'!$AF$1,E181),IF(AND(WEEKDAY(A181,2)<6,C182=\"\"),ColTime(T.!$J$5,T.!$L$5,D181,E181),\"\"))","v":"00:00:00"},null,"",{"$f":"IFERROR(IF(AND(WEEKDAY(A181,2)<6,C182<>\"\",C181=\"\"),ColTime(T.!$J$7,T.!$L$7,$AF$1,'Hele året (2)'!E181),IF(AND(C181<>\"\",C182<>\"\"),ColTime(T.!$J$7,T.!$L$7,'Hele året (2)'!D181,'Hele året (2)'!E181),IF(AND(OR(WEEKDAY(A181,2)<6,WEEKDAY(A181,2)=6),C181<>\"\",E181<D181),ColTime(T.!$J$7,T.!$L$7,D181,AF178),IF(AND(WEEKDAY(A181,2)=6,E181<D181),ColTime(T.!$J$7,T.!$L$7,$AF$1,E181),IF(AND(E181<D181,OR(C181<>\"\",WEEKDAY(A181,2)=7)),ColTime(T.!J184,T.!L184,D181,$AF$1),IF(AND(E181<>\"\",OR(C181<>\"\",WEEKDAY(A181,2)=7)),ColTime(T.!$J$7,T.!$L$7,D181,E181),\"\")))))),\"\")","v":""},"",null,null,{"$f":"IFERROR(CHOOSE(WEEKDAY(A181,2),norm!C$1,norm!C$2,norm!C$3,norm!C$4,norm!C$5,norm!C$6,norm!C$7),\"\")","v":"07:30:00"}]
["2019-06-28","Fr","",null,null,null,"","00:00:00","",{"$f":"IF(AND(C182=\"\",WEEKDAY(A182,2)<6),ColTime(T.!$J$4,T.!$L$4,D182,E182),\"\")","v":"00:00:00"},null,{"$f":"IF(AND(OR(WEEKDAY(A182,2)=7,C182<>\"\"),E182<D182,C183=\"\"),ColTime($AF$1,$AG$1,'Hele året (2)'!$AF$1,E182),IF(AND(WEEKDAY(A182,2)<6,C183=\"\"),ColTime(T.!$J$5,T.!$L$5,D182,E182),\"\"))","v":"00:00:00"},null,"",{"$f":"IFERROR(IF(AND(WEEKDAY(A182,2)<6,C183<>\"\",C182=\"\"),ColTime(T.!$J$7,T.!$L$7,$AF$1,'Hele året (2)'!E182),IF(AND(C182<>\"\",C183<>\"\"),ColTime(T.!$J$7,T.!$L$7,'Hele året (2)'!D182,'Hele året (2)'!E182),IF(AND(OR(WEEKDAY(A182,2)<6,WEEKDAY(A182,2)=6),C182<>\"\",E182<D182),ColTime(T.!$J$7,T.!$L$7,D182,AF179),IF(AND(WEEKDAY(A182,2)=6,E182<D182),ColTime(T.!$J$7,T.!$L$7,$AF$1,E182),IF(AND(E182<D182,OR(C182<>\"\",WEEKDAY(A182,2)=7)),ColTime(T.!J185,T.!L185,D182,$AF$1),IF(AND(E182<>\"\",OR(C182<>\"\",WEEKDAY(A182,2)=7)),ColTime(T.!$J$7,T.!$L$7,D182,E182),\"\")))))),\"\")","v":""},"",null,null,{"$f":"IFERROR(CHOOSE(WEEKDAY(A182,2),norm!C$1,norm!C$2,norm!C$3,norm!C$4,norm!C$5,norm!C$6,norm!C$7),\"\")","v":"07:00:00"}]
["2019-06-29","Lø","",null,null,null,"","00:00:00","",{"$f":"IF(AND(C183=\"\",WEEKDAY(A183,2)<6),ColTime(T.!$J$4,T.!$L$4,D183,E183),\"\")","v":""},null,{"$f":"IF(AND(OR(WEEKDAY(A183,2)=7,C183<>\"\"),E183<D183,C184=\"\"),ColTime($AF$1,$AG$1,'Hele året (2)'!$AF$1,E183),IF(AND(WEEKDAY(A183,2)<6,C184=\"\"),ColTime(T.!$J$5,T.!$L$5,D183,E183),\"\"))","v":""},null,"00:00:00",{"$f":"IFERROR(IF(AND(WEEKDAY(A183,2)<6,C184<>\"\",C183=\"\"),ColTime(T.!$J$7,T.!$L$7,$AF$1,'Hele året (2)'!E183),IF(AND(C183<>\"\",C184<>\"\"),ColTime(T.!$J$7,T.!$L$7,'Hele året (2)'!D183,'Hele året (2)'!E183),IF(AND(OR(WEEKDAY(A183,2)<6,WEEKDAY(A183,2)=6),C183<>\"\",E183<D183),ColTime(T.!$J$7,T.!$L$7,D183,AF180),IF(AND(WEEKDAY(A183,2)=6,E183<D183),ColTime(T.!$J$7,T.!$L$7,$AF$1,E183),IF(AND(E183<D183,OR(C183<>\"\",WEEKDAY(A183,2)=7)),ColTime(T.!J186,T.!L186,D183,$AF$1),IF(AND(E183<>\"\",OR(C183<>\"\",WEEKDAY(A183,2)=7)),ColTime(T.!$J$7,T.!$L$7,D183,E183),\"\")))))),\"\")","v":""},"",null,null,{"$f":"IFERROR(CHOOSE(WEEKDAY(A183,2),norm!C$1,norm!C$2,norm!C$3,norm!C$4,norm!C$5,norm!C$6,norm!C$7),\"\")","v":"00:00:00"}]
["2019-06-30","Sø","",null,null,null,"","00:00:00","",{"$f":"IF(AND(C184=\"\",WEEKDAY(A184,2)<6),ColTime(T.!$J$4,T.!$L$4,D184,E184),\"\")","v":""},null,{"$f":"IF(AND(OR(WEEKDAY(A184,2)=7,C184<>\"\"),E184<D184,C185=\"\"),ColTime($AF$1,$AG$1,'Hele året (2)'!$AF$1,E184),IF(AND(WEEKDAY(A184,2)<6,C185=\"\"),ColTime(T.!$J$5,T.!$L$5,D184,E184),\"\"))","v":""},null,"",{"$f":"IFERROR(IF(AND(WEEKDAY(A184,2)<6,C185<>\"\",C184=\"\"),ColTime(T.!$J$7,T.!$L$7,$AF$1,'Hele året (2)'!E184),IF(AND(C184<>\"\",C185<>\"\"),ColTime(T.!$J$7,T.!$L$7,'Hele året (2)'!D184,'Hele året (2)'!E184),IF(AND(OR(WEEKDAY(A184,2)<6,WEEKDAY(A184,2)=6),C184<>\"\",E184<D184),ColTime(T.!$J$7,T.!$L$7,D184,AF181),IF(AND(WEEKDAY(A184,2)=6,E184<D184),ColTime(T.!$J$7,T.!$L$7,$AF$1,E184),IF(AND(E184<D184,OR(C184<>\"\",WEEKDAY(A184,2)=7)),ColTime(T.!J187,T.!L187,D184,$AF$1),IF(AND(E184<>\"\",OR(C184<>\"\",WEEKDAY(A184,2)=7)),ColTime(T.!$J$7,T.!$L$7,D184,E184),\"\")))))),\"\")","v":""},"",null,null,{"$f":"IFERROR(CHOOSE(WEEKDAY(A184,2),norm!C$1,norm!C$2,norm!C$3,norm!C$4,norm!C$5,norm!C$6,norm!C$7),\"\")","v":"00:00:00"}]
["2019-07-01","Ma","",null,null,null,"","00:00:00","",{"$f":"IF(AND(C185=\"\",WEEKDAY(A185,2)<6),ColTime(T.!$J$4,T.!$L$4,D185,E185),\"\")","v":"00:00:00"},null,{"$f":"IF(AND(OR(WEEKDAY(A185,2)=7,C185<>\"\"),E185<D185,C186=\"\"),ColTime($AF$1,$AG$1,'Hele året (2)'!$AF$1,E185),IF(AND(WEEKDAY(A185,2)<6,C186=\"\"),ColTime(T.!$J$5,T.!$L$5,D185,E185),\"\"))","v":"00:00:00"},null,"",{"$f":"IFERROR(IF(AND(WEEKDAY(A185,2)<6,C186<>\"\",C185=\"\"),ColTime(T.!$J$7,T.!$L$7,$AF$1,'Hele året (2)'!E185),IF(AND(C185<>\"\",C186<>\"\"),ColTime(T.!$J$7,T.!$L$7,'Hele året (2)'!D185,'Hele året (2)'!E185),IF(AND(OR(WEEKDAY(A185,2)<6,WEEKDAY(A185,2)=6),C185<>\"\",E185<D185),ColTime(T.!$J$7,T.!$L$7,D185,AF182),IF(AND(WEEKDAY(A185,2)=6,E185<D185),ColTime(T.!$J$7,T.!$L$7,$AF$1,E185),IF(AND(E185<D185,OR(C185<>\"\",WEEKDAY(A185,2)=7)),ColTime(T.!J188,T.!L188,D185,$AF$1),IF(AND(E185<>\"\",OR(C185<>\"\",WEEKDAY(A185,2)=7)),ColTime(T.!$J$7,T.!$L$7,D185,E185),\"\")))))),\"\")","v":""},"",null,null,{"$f":"IFERROR(CHOOSE(WEEKDAY(A185,2),norm!C$1,norm!C$2,norm!C$3,norm!C$4,norm!C$5,norm!C$6,norm!C$7),\"\")","v":"07:30:00"}]
["2019-07-02","Ti","",null,null,null,"","00:00:00","",{"$f":"IF(AND(C186=\"\",WEEKDAY(A186,2)<6),ColTime(T.!$J$4,T.!$L$4,D186,E186),\"\")","v":"00:00:00"},null,{"$f":"IF(AND(OR(WEEKDAY(A186,2)=7,C186<>\"\"),E186<D186,C187=\"\"),ColTime($AF$1,$AG$1,'Hele året (2)'!$AF$1,E186),IF(AND(WEEKDAY(A186,2)<6,C187=\"\"),ColTime(T.!$J$5,T.!$L$5,D186,E186),\"\"))","v":"00:00:00"},null,"",{"$f":"IFERROR(IF(AND(WEEKDAY(A186,2)<6,C187<>\"\",C186=\"\"),ColTime(T.!$J$7,T.!$L$7,$AF$1,'Hele året (2)'!E186),IF(AND(C186<>\"\",C187<>\"\"),ColTime(T.!$J$7,T.!$L$7,'Hele året (2)'!D186,'Hele året (2)'!E186),IF(AND(OR(WEEKDAY(A186,2)<6,WEEKDAY(A186,2)=6),C186<>\"\",E186<D186),ColTime(T.!$J$7,T.!$L$7,D186,AF183),IF(AND(WEEKDAY(A186,2)=6,E186<D186),ColTime(T.!$J$7,T.!$L$7,$AF$1,E186),IF(AND(E186<D186,OR(C186<>\"\",WEEKDAY(A186,2)=7)),ColTime(T.!J189,T.!L189,D186,$AF$1),IF(AND(E186<>\"\",OR(C186<>\"\",WEEKDAY(A186,2)=7)),ColTime(T.!$J$7,T.!$L$7,D186,E186),\"\")))))),\"\")","v":""},"",null,null,{"$f":"IFERROR(CHOOSE(WEEKDAY(A186,2),norm!C$1,norm!C$2,norm!C$3,norm!C$4,norm!C$5,norm!C$6,norm!C$7),\"\")","v":"07:30:00"}]
["2019-07-03","On","",null,null,null,"","00:00:00","",{"$f":"IF(AND(C187=\"\",WEEKDAY(A187,2)<6),ColTime(T.!$J$4,T.!$L$4,D187,E187),\"\")","v":"00:00:00"},null,{"$f":"IF(AND(OR(WEEKDAY(A187,2)=7,C187<>\"\"),E187<D187,C188=\"\"),ColTime($AF$1,$AG$1,'Hele året (2)'!$AF$1,E187),IF(AND(WEEKDAY(A187,2)<6,C188=\"\"),ColTime(T.!$J$5,T.!$L$5,D187,E187),\"\"))","v":"00:00:00"},null,"",{"$f":"IFERROR(IF(AND(WEEKDAY(A187,2)<6,C188<>\"\",C187=\"\"),ColTime(T.!$J$7,T.!$L$7,$AF$1,'Hele året (2)'!E187),IF(AND(C187<>\"\",C188<>\"\"),ColTime(T.!$J$7,T.!$L$7,'Hele året (2)'!D187,'Hele året (2)'!E187),IF(AND(OR(WEEKDAY(A187,2)<6,WEEKDAY(A187,2)=6),C187<>\"\",E187<D187),ColTime(T.!$J$7,T.!$L$7,D187,AF184),IF(AND(WEEKDAY(A187,2)=6,E187<D187),ColTime(T.!$J$7,T.!$L$7,$AF$1,E187),IF(AND(E187<D187,OR(C187<>\"\",WEEKDAY(A187,2)=7)),ColTime(T.!J190,T.!L190,D187,$AF$1),IF(AND(E187<>\"\",OR(C187<>\"\",WEEKDAY(A187,2)=7)),ColTime(T.!$J$7,T.!$L$7,D187,E187),\"\")))))),\"\")","v":""},"",null,null,{"$f":"IFERROR(CHOOSE(WEEKDAY(A187,2),norm!C$1,norm!C$2,norm!C$3,norm!C$4,norm!C$5,norm!C$6,norm!C$7),\"\")","v":"07:30:00"}]
["2019-07-04","To","",null,null,null,"","00:00:00","",{"$f":"IF(AND(C188=\"\",WEEKDAY(A188,2)<6),ColTime(T.!$J$4,T.!$L$4,D188,E188),\"\")","v":"00:00:00"},null,{"$f":"IF(AND(OR(WEEKDAY(A188,2)=7,C188<>\"\"),E188<D188,C189=\"\"),ColTime($AF$1,$AG$1,'Hele året (2)'!$AF$1,E188),IF(AND(WEEKDAY(A188,2)<6,C189=\"\"),ColTime(T.!$J$5,T.!$L$5,D188,E188),\"\"))","v":"00:00:00"},null,"",{"$f":"IFERROR(IF(AND(WEEKDAY(A188,2)<6,C189<>\"\",C188=\"\"),ColTime(T.!$J$7,T.!$L$7,$AF$1,'Hele året (2)'!E188),IF(AND(C188<>\"\",C189<>\"\"),ColTime(T.!$J$7,T.!$L$7,'Hele året (2)'!D188,'Hele året (2)'!E188),IF(AND(OR(WEEKDAY(A188,2)<6,WEEKDAY(A188,2)=6),C188<>\"\",E188<D188),ColTime(T.!$J$7,T.!$L$7,D188,AF185),IF(AND(WEEKDAY(A188,2)=6,E188<D188),ColTime(T.!$J$7,T.!$L$7,$AF$1,E188),IF(AND(E188<D188,OR(C188<>\"\",WEEKDAY(A188,2)=7)),ColTime(T.!J191,T.!L191,D188,$AF$1),IF(AND(E188<>\"\",OR(C188<>\"\",WEEKDAY(A188,2)=7)),ColTime(T.!$J$7,T.!$L$7,D188,E188),\"\")))))),\"\")","v":""},"",null,null,{"$f":"IFERROR(CHOOSE(WEEKDAY(A188,2),norm!C$1,norm!C$2,norm!C$3,norm!C$4,norm!C$5,norm!C$6,norm!C$7),\"\")","v":"07:30:00"}]
["2019-07-05","Fr","",null,null,null,"","00:00:00","",{"$f":"IF(AND(C189=\"\",WEEKDAY(A189,2)<6),ColTime(T.!$J$4,T.!$L$4,D189,E189),\"\")","v":"00:00:00"},null,{"$f":"IF(AND(OR(WEEKDAY(A189,2)=7,C189<>\"\"),E189<D189,C190=\"\"),ColTime($AF$1,$AG$1,'Hele året (2)'!$AF$1,E189),IF(AND(WEEKDAY(A189,2)<6,C190=\"\"),ColTime(T.!$J$5,T.!$L$5,D189,E189),\"\"))","v":"00:00:00"},null,"",{"$f":"IFERROR(IF(AND(WEEKDAY(A189,2)<6,C190<>\"\",C189=\"\"),ColTime(T.!$J$7,T.!$L$7,$AF$1,'Hele året (2)'!E189),IF(AND(C189<>\"\",C190<>\"\"),ColTime(T.!$J$7,T.!$L$7,'Hele året (2)'!D189,'Hele året (2)'!E189),IF(AND(OR(WEEKDAY(A189,2)<6,WEEKDAY(A189,2)=6),C189<>\"\",E189<D189),ColTime(T.!$J$7,T.!$L$7,D189,AF186),IF(AND(WEEKDAY(A189,2)=6,E189<D189),ColTime(T.!$J$7,T.!$L$7,$AF$1,E189),IF(AND(E189<D189,OR(C189<>\"\",WEEKDAY(A189,2)=7)),ColTime(T.!J192,T.!L192,D189,$AF$1),IF(AND(E189<>\"\",OR(C189<>\"\",WEEKDAY(A189,2)=7)),ColTime(T.!$J$7,T.!$L$7,D189,E189),\"\")))))),\"\")","v":""},"",null,null,{"$f":"IFERROR(CHOOSE(WEEKDAY(A189,2),norm!C$1,norm!C$2,norm!C$3,norm!C$4,norm!C$5,norm!C$6,norm!C$7),\"\")","v":"07:00:00"}]
["2019-07-06","Lø","",null,null,null,"","00:00:00","",{"$f":"IF(AND(C190=\"\",WEEKDAY(A190,2)<6),ColTime(T.!$J$4,T.!$L$4,D190,E190),\"\")","v":""},null,{"$f":"IF(AND(OR(WEEKDAY(A190,2)=7,C190<>\"\"),E190<D190,C191=\"\"),ColTime($AF$1,$AG$1,'Hele året (2)'!$AF$1,E190),IF(AND(WEEKDAY(A190,2)<6,C191=\"\"),ColTime(T.!$J$5,T.!$L$5,D190,E190),\"\"))","v":""},null,"00:00:00",{"$f":"IFERROR(IF(AND(WEEKDAY(A190,2)<6,C191<>\"\",C190=\"\"),ColTime(T.!$J$7,T.!$L$7,$AF$1,'Hele året (2)'!E190),IF(AND(C190<>\"\",C191<>\"\"),ColTime(T.!$J$7,T.!$L$7,'Hele året (2)'!D190,'Hele året (2)'!E190),IF(AND(OR(WEEKDAY(A190,2)<6,WEEKDAY(A190,2)=6),C190<>\"\",E190<D190),ColTime(T.!$J$7,T.!$L$7,D190,AF187),IF(AND(WEEKDAY(A190,2)=6,E190<D190),ColTime(T.!$J$7,T.!$L$7,$AF$1,E190),IF(AND(E190<D190,OR(C190<>\"\",WEEKDAY(A190,2)=7)),ColTime(T.!J193,T.!L193,D190,$AF$1),IF(AND(E190<>\"\",OR(C190<>\"\",WEEKDAY(A190,2)=7)),ColTime(T.!$J$7,T.!$L$7,D190,E190),\"\")))))),\"\")","v":""},"",null,null,{"$f":"IFERROR(CHOOSE(WEEKDAY(A190,2),norm!C$1,norm!C$2,norm!C$3,norm!C$4,norm!C$5,norm!C$6,norm!C$7),\"\")","v":"00:00:00"}]
["2019-07-07","Sø","",null,null,null,"","00:00:00","",{"$f":"IF(AND(C191=\"\",WEEKDAY(A191,2)<6),ColTime(T.!$J$4,T.!$L$4,D191,E191),\"\")","v":""},null,{"$f":"IF(AND(OR(WEEKDAY(A191,2)=7,C191<>\"\"),E191<D191,C192=\"\"),ColTime($AF$1,$AG$1,'Hele året (2)'!$AF$1,E191),IF(AND(WEEKDAY(A191,2)<6,C192=\"\"),ColTime(T.!$J$5,T.!$L$5,D191,E191),\"\"))","v":""},null,"",{"$f":"IFERROR(IF(AND(WEEKDAY(A191,2)<6,C192<>\"\",C191=\"\"),ColTime(T.!$J$7,T.!$L$7,$AF$1,'Hele året (2)'!E191),IF(AND(C191<>\"\",C192<>\"\"),ColTime(T.!$J$7,T.!$L$7,'Hele året (2)'!D191,'Hele året (2)'!E191),IF(AND(OR(WEEKDAY(A191,2)<6,WEEKDAY(A191,2)=6),C191<>\"\",E191<D191),ColTime(T.!$J$7,T.!$L$7,D191,AF188),IF(AND(WEEKDAY(A191,2)=6,E191<D191),ColTime(T.!$J$7,T.!$L$7,$AF$1,E191),IF(AND(E191<D191,OR(C191<>\"\",WEEKDAY(A191,2)=7)),ColTime(T.!J194,T.!L194,D191,$AF$1),IF(AND(E191<>\"\",OR(C191<>\"\",WEEKDAY(A191,2)=7)),ColTime(T.!$J$7,T.!$L$7,D191,E191),\"\")))))),\"\")","v":""},"",null,null,{"$f":"IFERROR(CHOOSE(WEEKDAY(A191,2),norm!C$1,norm!C$2,norm!C$3,norm!C$4,norm!C$5,norm!C$6,norm!C$7),\"\")","v":"00:00:00"}]
["2019-07-08","Ma","",null,null,null,"","00:00:00","",{"$f":"IF(AND(C192=\"\",WEEKDAY(A192,2)<6),ColTime(T.!$J$4,T.!$L$4,D192,E192),\"\")","v":"00:00:00"},null,{"$f":"IF(AND(OR(WEEKDAY(A192,2)=7,C192<>\"\"),E192<D192,C193=\"\"),ColTime($AF$1,$AG$1,'Hele året (2)'!$AF$1,E192),IF(AND(WEEKDAY(A192,2)<6,C193=\"\"),ColTime(T.!$J$5,T.!$L$5,D192,E192),\"\"))","v":"00:00:00"},null,"",{"$f":"IFERROR(IF(AND(WEEKDAY(A192,2)<6,C193<>\"\",C192=\"\"),ColTime(T.!$J$7,T.!$L$7,$AF$1,'Hele året (2)'!E192),IF(AND(C192<>\"\",C193<>\"\"),ColTime(T.!$J$7,T.!$L$7,'Hele året (2)'!D192,'Hele året (2)'!E192),IF(AND(OR(WEEKDAY(A192,2)<6,WEEKDAY(A192,2)=6),C192<>\"\",E192<D192),ColTime(T.!$J$7,T.!$L$7,D192,AF189),IF(AND(WEEKDAY(A192,2)=6,E192<D192),ColTime(T.!$J$7,T.!$L$7,$AF$1,E192),IF(AND(E192<D192,OR(C192<>\"\",WEEKDAY(A192,2)=7)),ColTime(T.!J195,T.!L195,D192,$AF$1),IF(AND(E192<>\"\",OR(C192<>\"\",WEEKDAY(A192,2)=7)),ColTime(T.!$J$7,T.!$L$7,D192,E192),\"\")))))),\"\")","v":""},"",null,null,{"$f":"IFERROR(CHOOSE(WEEKDAY(A192,2),norm!C$1,norm!C$2,norm!C$3,norm!C$4,norm!C$5,norm!C$6,norm!C$7),\"\")","v":"07:30:00"}]
["2019-07-09","Ti","",null,null,null,"","00:00:00","",{"$f":"IF(AND(C193=\"\",WEEKDAY(A193,2)<6),ColTime(T.!$J$4,T.!$L$4,D193,E193),\"\")","v":"00:00:00"},null,{"$f":"IF(AND(OR(WEEKDAY(A193,2)=7,C193<>\"\"),E193<D193,C194=\"\"),ColTime($AF$1,$AG$1,'Hele året (2)'!$AF$1,E193),IF(AND(WEEKDAY(A193,2)<6,C194=\"\"),ColTime(T.!$J$5,T.!$L$5,D193,E193),\"\"))","v":"00:00:00"},null,"",{"$f":"IFERROR(IF(AND(WEEKDAY(A193,2)<6,C194<>\"\",C193=\"\"),ColTime(T.!$J$7,T.!$L$7,$AF$1,'Hele året (2)'!E193),IF(AND(C193<>\"\",C194<>\"\"),ColTime(T.!$J$7,T.!$L$7,'Hele året (2)'!D193,'Hele året (2)'!E193),IF(AND(OR(WEEKDAY(A193,2)<6,WEEKDAY(A193,2)=6),C193<>\"\",E193<D193),ColTime(T.!$J$7,T.!$L$7,D193,AF190),IF(AND(WEEKDAY(A193,2)=6,E193<D193),ColTime(T.!$J$7,T.!$L$7,$AF$1,E193),IF(AND(E193<D193,OR(C193<>\"\",WEEKDAY(A193,2)=7)),ColTime(T.!J196,T.!L196,D193,$AF$1),IF(AND(E193<>\"\",OR(C193<>\"\",WEEKDAY(A193,2)=7)),ColTime(T.!$J$7,T.!$L$7,D193,E193),\"\")))))),\"\")","v":""},"",null,null,{"$f":"IFERROR(CHOOSE(WEEKDAY(A193,2),norm!C$1,norm!C$2,norm!C$3,norm!C$4,norm!C$5,norm!C$6,norm!C$7),\"\")","v":"07:30:00"}]
["2019-07-10","On","",null,null,null,"","00:00:00","",{"$f":"IF(AND(C194=\"\",WEEKDAY(A194,2)<6),ColTime(T.!$J$4,T.!$L$4,D194,E194),\"\")","v":"00:00:00"},null,{"$f":"IF(AND(OR(WEEKDAY(A194,2)=7,C194<>\"\"),E194<D194,C195=\"\"),ColTime($AF$1,$AG$1,'Hele året (2)'!$AF$1,E194),IF(AND(WEEKDAY(A194,2)<6,C195=\"\"),ColTime(T.!$J$5,T.!$L$5,D194,E194),\"\"))","v":"00:00:00"},null,"",{"$f":"IFERROR(IF(AND(WEEKDAY(A194,2)<6,C195<>\"\",C194=\"\"),ColTime(T.!$J$7,T.!$L$7,$AF$1,'Hele året (2)'!E194),IF(AND(C194<>\"\",C195<>\"\"),ColTime(T.!$J$7,T.!$L$7,'Hele året (2)'!D194,'Hele året (2)'!E194),IF(AND(OR(WEEKDAY(A194,2)<6,WEEKDAY(A194,2)=6),C194<>\"\",E194<D194),ColTime(T.!$J$7,T.!$L$7,D194,AF191),IF(AND(WEEKDAY(A194,2)=6,E194<D194),ColTime(T.!$J$7,T.!$L$7,$AF$1,E194),IF(AND(E194<D194,OR(C194<>\"\",WEEKDAY(A194,2)=7)),ColTime(T.!J197,T.!L197,D194,$AF$1),IF(AND(E194<>\"\",OR(C194<>\"\",WEEKDAY(A194,2)=7)),ColTime(T.!$J$7,T.!$L$7,D194,E194),\"\")))))),\"\")","v":""},"",null,null,{"$f":"IFERROR(CHOOSE(WEEKDAY(A194,2),norm!C$1,norm!C$2,norm!C$3,norm!C$4,norm!C$5,norm!C$6,norm!C$7),\"\")","v":"07:30:00"}]
["2019-07-11","To","",null,null,null,"","00:00:00","",{"$f":"IF(AND(C195=\"\",WEEKDAY(A195,2)<6),ColTime(T.!$J$4,T.!$L$4,D195,E195),\"\")","v":"00:00:00"},null,{"$f":"IF(AND(OR(WEEKDAY(A195,2)=7,C195<>\"\"),E195<D195,C196=\"\"),ColTime($AF$1,$AG$1,'Hele året (2)'!$AF$1,E195),IF(AND(WEEKDAY(A195,2)<6,C196=\"\"),ColTime(T.!$J$5,T.!$L$5,D195,E195),\"\"))","v":"00:00:00"},null,"",{"$f":"IFERROR(IF(AND(WEEKDAY(A195,2)<6,C196<>\"\",C195=\"\"),ColTime(T.!$J$7,T.!$L$7,$AF$1,'Hele året (2)'!E195),IF(AND(C195<>\"\",C196<>\"\"),ColTime(T.!$J$7,T.!$L$7,'Hele året (2)'!D195,'Hele året (2)'!E195),IF(AND(OR(WEEKDAY(A195,2)<6,WEEKDAY(A195,2)=6),C195<>\"\",E195<D195),ColTime(T.!$J$7,T.!$L$7,D195,AF192),IF(AND(WEEKDAY(A195,2)=6,E195<D195),ColTime(T.!$J$7,T.!$L$7,$AF$1,E195),IF(AND(E195<D195,OR(C195<>\"\",WEEKDAY(A195,2)=7)),ColTime(T.!J198,T.!L198,D195,$AF$1),IF(AND(E195<>\"\",OR(C195<>\"\",WEEKDAY(A195,2)=7)),ColTime(T.!$J$7,T.!$L$7,D195,E195),\"\")))))),\"\")","v":""},"",null,null,{"$f":"IFERROR(CHOOSE(WEEKDAY(A195,2),norm!C$1,norm!C$2,norm!C$3,norm!C$4,norm!C$5,norm!C$6,norm!C$7),\"\")","v":"07:30:00"}]
["2019-07-12","Fr","",null,null,null,"","00:00:00","",{"$f":"IF(AND(C196=\"\",WEEKDAY(A196,2)<6),ColTime(T.!$J$4,T.!$L$4,D196,E196),\"\")","v":"00:00:00"},null,{"$f":"IF(AND(OR(WEEKDAY(A196,2)=7,C196<>\"\"),E196<D196,C197=\"\"),ColTime($AF$1,$AG$1,'Hele året (2)'!$AF$1,E196),IF(AND(WEEKDAY(A196,2)<6,C197=\"\"),ColTime(T.!$J$5,T.!$L$5,D196,E196),\"\"))","v":"00:00:00"},null,"",{"$f":"IFERROR(IF(AND(WEEKDAY(A196,2)<6,C197<>\"\",C196=\"\"),ColTime(T.!$J$7,T.!$L$7,$AF$1,'Hele året (2)'!E196),IF(AND(C196<>\"\",C197<>\"\"),ColTime(T.!$J$7,T.!$L$7,'Hele året (2)'!D196,'Hele året (2)'!E196),IF(AND(OR(WEEKDAY(A196,2)<6,WEEKDAY(A196,2)=6),C196<>\"\",E196<D196),ColTime(T.!$J$7,T.!$L$7,D196,AF193),IF(AND(WEEKDAY(A196,2)=6,E196<D196),ColTime(T.!$J$7,T.!$L$7,$AF$1,E196),IF(AND(E196<D196,OR(C196<>\"\",WEEKDAY(A196,2)=7)),ColTime(T.!J199,T.!L199,D196,$AF$1),IF(AND(E196<>\"\",OR(C196<>\"\",WEEKDAY(A196,2)=7)),ColTime(T.!$J$7,T.!$L$7,D196,E196),\"\")))))),\"\")","v":""},"",null,null,{"$f":"IFERROR(CHOOSE(WEEKDAY(A196,2),norm!C$1,norm!C$2,norm!C$3,norm!C$4,norm!C$5,norm!C$6,norm!C$7),\"\")","v":"07:00:00"}]
["2019-07-13","Lø","",null,null,null,{"$f":"IF(D197=\"\",\"\",(E197-D197)+(D197>E197)-F197)","v":""},{"$f":"IF(G197=\"\",0,IF(WEEKDAY(A197,2)=7,0,IF(G197>S197,MIN(G197-S197,$AI$1),0)))","v":"00:00:00"},{"$f":"IF(G197=\"\",\"\",IF(G197>S197+H197,G197-(S197+H197),\"\"))","v":""},{"$f":"IF(AND(C197=\"\",WEEKDAY(A197,2)<6),ColTime(T.!$J$4,T.!$L$4,D197,E197),\"\")","v":""},null,{"$f":"IF(AND(OR(WEEKDAY(A197,2)=7,C197<>\"\"),E197<D197,C198=\"\"),ColTime($AF$1,$AG$1,'Hele året (2)'!$AF$1,E197),IF(AND(WEEKDAY(A197,2)<6,C198=\"\"),ColTime(T.!$J$5,T.!$L$5,D197,E197),\"\"))","v":""},null,"00:00:00",{"$f":"IFERROR(IF(AND(WEEKDAY(A197,2)<6,C198<>\"\",C197=\"\"),ColTime(T.!$J$7,T.!$L$7,$AF$1,'Hele året (2)'!E197),IF(AND(C197<>\"\",C198<>\"\"),ColTime(T.!$J$7,T.!$L$7,'Hele året (2)'!D197,'Hele året (2)'!E197),IF(AND(OR(WEEKDAY(A197,2)<6,WEEKDAY(A197,2)=6),C197<>\"\",E197<D197),ColTime(T.!$J$7,T.!$L$7,D197,AF194),IF(AND(WEEKDAY(A197,2)=6,E197<D197),ColTime(T.!$J$7,T.!$L$7,$AF$1,E197),IF(AND(E197<D197,OR(C197<>\"\",WEEKDAY(A197,2)=7)),ColTime(T.!J200,T.!L200,D197,$AF$1),IF(AND(E197<>\"\",OR(C197<>\"\",WEEKDAY(A197,2)=7)),ColTime(T.!$J$7,T.!$L$7,D197,E197),\"\")))))),\"\")","v":""},"",null,null,{"$f":"IFERROR(CHOOSE(WEEKDAY(A197,2),norm!C$1,norm!C$2,norm!C$3,norm!C$4,norm!C$5,norm!C$6,norm!C$7),\"\")","v":"00:00:00"}]
["2019-07-14","Sø","",null,null,null,"","00:00:00","",{"$f":"IF(AND(C198=\"\",WEEKDAY(A198,2)<6),ColTime(T.!$J$4,T.!$L$4,D198,E198),\"\")","v":""},null,{"$f":"IF(AND(OR(WEEKDAY(A198,2)=7,C198<>\"\"),E198<D198,C199=\"\"),ColTime($AF$1,$AG$1,'Hele året (2)'!$AF$1,E198),IF(AND(WEEKDAY(A198,2)<6,C199=\"\"),ColTime(T.!$J$5,T.!$L$5,D198,E198),\"\"))","v":""},null,"",{"$f":"IFERROR(IF(AND(WEEKDAY(A198,2)<6,C199<>\"\",C198=\"\"),ColTime(T.!$J$7,T.!$L$7,$AF$1,'Hele året (2)'!E198),IF(AND(C198<>\"\",C199<>\"\"),ColTime(T.!$J$7,T.!$L$7,'Hele året (2)'!D198,'Hele året (2)'!E198),IF(AND(OR(WEEKDAY(A198,2)<6,WEEKDAY(A198,2)=6),C198<>\"\",E198<D198),ColTime(T.!$J$7,T.!$L$7,D198,AF195),IF(AND(WEEKDAY(A198,2)=6,E198<D198),ColTime(T.!$J$7,T.!$L$7,$AF$1,E198),IF(AND(E198<D198,OR(C198<>\"\",WEEKDAY(A198,2)=7)),ColTime(T.!J201,T.!L201,D198,$AF$1),IF(AND(E198<>\"\",OR(C198<>\"\",WEEKDAY(A198,2)=7)),ColTime(T.!$J$7,T.!$L$7,D198,E198),\"\")))))),\"\")","v":""},"",null,null,{"$f":"IFERROR(CHOOSE(WEEKDAY(A198,2),norm!C$1,norm!C$2,norm!C$3,norm!C$4,norm!C$5,norm!C$6,norm!C$7),\"\")","v":"00:00:00"}]
["2019-07-15","Ma","",null,null,null,"","00:00:00","",{"$f":"IF(AND(C199=\"\",WEEKDAY(A199,2)<6),ColTime(T.!$J$4,T.!$L$4,D199,E199),\"\")","v":"00:00:00"},null,{"$f":"IF(AND(OR(WEEKDAY(A199,2)=7,C199<>\"\"),E199<D199,C200=\"\"),ColTime($AF$1,$AG$1,'Hele året (2)'!$AF$1,E199),IF(AND(WEEKDAY(A199,2)<6,C200=\"\"),ColTime(T.!$J$5,T.!$L$5,D199,E199),\"\"))","v":"00:00:00"},null,"",{"$f":"IFERROR(IF(AND(WEEKDAY(A199,2)<6,C200<>\"\",C199=\"\"),ColTime(T.!$J$7,T.!$L$7,$AF$1,'Hele året (2)'!E199),IF(AND(C199<>\"\",C200<>\"\"),ColTime(T.!$J$7,T.!$L$7,'Hele året (2)'!D199,'Hele året (2)'!E199),IF(AND(OR(WEEKDAY(A199,2)<6,WEEKDAY(A199,2)=6),C199<>\"\",E199<D199),ColTime(T.!$J$7,T.!$L$7,D199,AF196),IF(AND(WEEKDAY(A199,2)=6,E199<D199),ColTime(T.!$J$7,T.!$L$7,$AF$1,E199),IF(AND(E199<D199,OR(C199<>\"\",WEEKDAY(A199,2)=7)),ColTime(T.!J202,T.!L202,D199,$AF$1),IF(AND(E199<>\"\",OR(C199<>\"\",WEEKDAY(A199,2)=7)),ColTime(T.!$J$7,T.!$L$7,D199,E199),\"\")))))),\"\")","v":""},"",null,null,{"$f":"IFERROR(CHOOSE(WEEKDAY(A199,2),norm!C$1,norm!C$2,norm!C$3,norm!C$4,norm!C$5,norm!C$6,norm!C$7),\"\")","v":"07:30:00"}]
["2019-07-16","Ti","",null,null,null,"","00:00:00","",{"$f":"IF(AND(C200=\"\",WEEKDAY(A200,2)<6),ColTime(T.!$J$4,T.!$L$4,D200,E200),\"\")","v":"00:00:00"},null,{"$f":"IF(AND(OR(WEEKDAY(A200,2)=7,C200<>\"\"),E200<D200,C201=\"\"),ColTime($AF$1,$AG$1,'Hele året (2)'!$AF$1,E200),IF(AND(WEEKDAY(A200,2)<6,C201=\"\"),ColTime(T.!$J$5,T.!$L$5,D200,E200),\"\"))","v":"00:00:00"},null,"",{"$f":"IFERROR(IF(AND(WEEKDAY(A200,2)<6,C201<>\"\",C200=\"\"),ColTime(T.!$J$7,T.!$L$7,$AF$1,'Hele året (2)'!E200),IF(AND(C200<>\"\",C201<>\"\"),ColTime(T.!$J$7,T.!$L$7,'Hele året (2)'!D200,'Hele året (2)'!E200),IF(AND(OR(WEEKDAY(A200,2)<6,WEEKDAY(A200,2)=6),C200<>\"\",E200<D200),ColTime(T.!$J$7,T.!$L$7,D200,AF197),IF(AND(WEEKDAY(A200,2)=6,E200<D200),ColTime(T.!$J$7,T.!$L$7,$AF$1,E200),IF(AND(E200<D200,OR(C200<>\"\",WEEKDAY(A200,2)=7)),ColTime(T.!J203,T.!L203,D200,$AF$1),IF(AND(E200<>\"\",OR(C200<>\"\",WEEKDAY(A200,2)=7)),ColTime(T.!$J$7,T.!$L$7,D200,E200),\"\")))))),\"\")","v":""},"",null,null,{"$f":"IFERROR(CHOOSE(WEEKDAY(A200,2),norm!C$1,norm!C$2,norm!C$3,norm!C$4,norm!C$5,norm!C$6,norm!C$7),\"\")","v":"07:30:00"}]
["2019-07-17","On","",null,null,null,"","00:00:00","",{"$f":"IF(AND(C201=\"\",WEEKDAY(A201,2)<6),ColTime(T.!$J$4,T.!$L$4,D201,E201),\"\")","v":"00:00:00"},null,{"$f":"IF(AND(OR(WEEKDAY(A201,2)=7,C201<>\"\"),E201<D201,C202=\"\"),ColTime($AF$1,$AG$1,'Hele året (2)'!$AF$1,E201),IF(AND(WEEKDAY(A201,2)<6,C202=\"\"),ColTime(T.!$J$5,T.!$L$5,D201,E201),\"\"))","v":"00:00:00"},null,"",{"$f":"IFERROR(IF(AND(WEEKDAY(A201,2)<6,C202<>\"\",C201=\"\"),ColTime(T.!$J$7,T.!$L$7,$AF$1,'Hele året (2)'!E201),IF(AND(C201<>\"\",C202<>\"\"),ColTime(T.!$J$7,T.!$L$7,'Hele året (2)'!D201,'Hele året (2)'!E201),IF(AND(OR(WEEKDAY(A201,2)<6,WEEKDAY(A201,2)=6),C201<>\"\",E201<D201),ColTime(T.!$J$7,T.!$L$7,D201,AF198),IF(AND(WEEKDAY(A201,2)=6,E201<D201),ColTime(T.!$J$7,T.!$L$7,$AF$1,E201),IF(AND(E201<D201,OR(C201<>\"\",WEEKDAY(A201,2)=7)),ColTime(T.!J204,T.!L204,D201,$AF$1),IF(AND(E201<>\"\",OR(C201<>\"\",WEEKDAY(A201,2)=7)),ColTime(T.!$J$7,T.!$L$7,D201,E201),\"\")))))),\"\")","v":""},{"$f":"IFERROR(H201+I201,\"\")","v":""},null,null,{"$f":"IFERROR(CHOOSE(WEEKDAY(A201,2),norm!C$1,norm!C$2,norm!C$3,norm!C$4,norm!C$5,norm!C$6,norm!C$7),\"\")","v":"07:30:00"}]
["2019-07-18","To","",null,null,null,"","00:00:00","",{"$f":"IF(AND(C202=\"\",WEEKDAY(A202,2)<6),ColTime(T.!$J$4,T.!$L$4,D202,E202),\"\")","v":"00:00:00"},null,{"$f":"IF(AND(OR(WEEKDAY(A202,2)=7,C202<>\"\"),E202<D202,C203=\"\"),ColTime($AF$1,$AG$1,'Hele året (2)'!$AF$1,E202),IF(AND(WEEKDAY(A202,2)<6,C203=\"\"),ColTime(T.!$J$5,T.!$L$5,D202,E202),\"\"))","v":"00:00:00"},null,"",{"$f":"IFERROR(IF(AND(WEEKDAY(A202,2)<6,C203<>\"\",C202=\"\"),ColTime(T.!$J$7,T.!$L$7,$AF$1,'Hele året (2)'!E202),IF(AND(C202<>\"\",C203<>\"\"),ColTime(T.!$J$7,T.!$L$7,'Hele året (2)'!D202,'Hele året (2)'!E202),IF(AND(OR(WEEKDAY(A202,2)<6,WEEKDAY(A202,2)=6),C202<>\"\",E202<D202),ColTime(T.!$J$7,T.!$L$7,D202,AF199),IF(AND(WEEKDAY(A202,2)=6,E202<D202),ColTime(T.!$J$7,T.!$L$7,$AF$1,E202),IF(AND(E202<D202,OR(C202<>\"\",WEEKDAY(A202,2)=7)),ColTime(T.!J205,T.!L205,D202,$AF$1),IF(AND(E202<>\"\",OR(C202<>\"\",WEEKDAY(A202,2)=7)),ColTime(T.!$J$7,T.!$L$7,D202,E202),\"\")))))),\"\")","v":""},"",null,null,{"$f":"IFERROR(CHOOSE(WEEKDAY(A202,2),norm!C$1,norm!C$2,norm!C$3,norm!C$4,norm!C$5,norm!C$6,norm!C$7),\"\")","v":"07:30:00"}]
["2019-07-19","Fr","",null,null,null,"","00:00:00","",{"$f":"IF(AND(C203=\"\",WEEKDAY(A203,2)<6),ColTime(T.!$J$4,T.!$L$4,D203,E203),\"\")","v":"00:00:00"},null,{"$f":"IF(AND(OR(WEEKDAY(A203,2)=7,C203<>\"\"),E203<D203,C204=\"\"),ColTime($AF$1,$AG$1,'Hele året (2)'!$AF$1,E203),IF(AND(WEEKDAY(A203,2)<6,C204=\"\"),ColTime(T.!$J$5,T.!$L$5,D203,E203),\"\"))","v":"00:00:00"},null,{"$f":"IF(WEEKDAY(A203,2)=6,ColTime(TIME(15,0,0),TIME(24,0,0),D203,E203),\"\")","v":""},{"$f":"IFERROR(IF(AND(WEEKDAY(A203,2)<6,C204<>\"\",C203=\"\"),ColTime(T.!$J$7,T.!$L$7,$AF$1,'Hele året (2)'!E203),IF(AND(C203<>\"\",C204<>\"\"),ColTime(T.!$J$7,T.!$L$7,'Hele året (2)'!D203,'Hele året (2)'!E203),IF(AND(OR(WEEKDAY(A203,2)<6,WEEKDAY(A203,2)=6),C203<>\"\",E203<D203),ColTime(T.!$J$7,T.!$L$7,D203,AF200),IF(AND(WEEKDAY(A203,2)=6,E203<D203),ColTime(T.!$J$7,T.!$L$7,$AF$1,E203),IF(AND(E203<D203,OR(C203<>\"\",WEEKDAY(A203,2)=7)),ColTime(T.!J206,T.!L206,D203,$AF$1),IF(AND(E203<>\"\",OR(C203<>\"\",WEEKDAY(A203,2)=7)),ColTime(T.!$J$7,T.!$L$7,D203,E203),\"\")))))),\"\")","v":""},"",null,null,{"$f":"IFERROR(CHOOSE(WEEKDAY(A203,2),norm!C$1,norm!C$2,norm!C$3,norm!C$4,norm!C$5,norm!C$6,norm!C$7),\"\")","v":"07:00:00"}]
["2019-07-20","Lø","",null,null,null,"","00:00:00","",{"$f":"IF(AND(C204=\"\",WEEKDAY(A204,2)<6),ColTime(T.!$J$4,T.!$L$4,D204,E204),\"\")","v":""},null,{"$f":"IF(AND(OR(WEEKDAY(A204,2)=7,C204<>\"\"),E204<D204,C205=\"\"),ColTime($AF$1,$AG$1,'Hele året (2)'!$AF$1,E204),IF(AND(WEEKDAY(A204,2)<6,C205=\"\"),ColTime(T.!$J$5,T.!$L$5,D204,E204),\"\"))","v":""},null,"00:00:00",{"$f":"IFERROR(IF(AND(WEEKDAY(A204,2)<6,C205<>\"\",C204=\"\"),ColTime(T.!$J$7,T.!$L$7,$AF$1,'Hele året (2)'!E204),IF(AND(C204<>\"\",C205<>\"\"),ColTime(T.!$J$7,T.!$L$7,'Hele året (2)'!D204,'Hele året (2)'!E204),IF(AND(OR(WEEKDAY(A204,2)<6,WEEKDAY(A204,2)=6),C204<>\"\",E204<D204),ColTime(T.!$J$7,T.!$L$7,D204,AF201),IF(AND(WEEKDAY(A204,2)=6,E204<D204),ColTime(T.!$J$7,T.!$L$7,$AF$1,E204),IF(AND(E204<D204,OR(C204<>\"\",WEEKDAY(A204,2)=7)),ColTime(T.!J207,T.!L207,D204,$AF$1),IF(AND(E204<>\"\",OR(C204<>\"\",WEEKDAY(A204,2)=7)),ColTime(T.!$J$7,T.!$L$7,D204,E204),\"\")))))),\"\")","v":""},"",null,null,{"$f":"IFERROR(CHOOSE(WEEKDAY(A204,2),norm!C$1,norm!C$2,norm!C$3,norm!C$4,norm!C$5,norm!C$6,norm!C$7),\"\")","v":"00:00:00"}]
["2019-07-21","Sø","",null,null,null,"","00:00:00","",{"$f":"IF(AND(C205=\"\",WEEKDAY(A205,2)<6),ColTime(T.!$J$4,T.!$L$4,D205,E205),\"\")","v":""},null,{"$f":"IF(AND(OR(WEEKDAY(A205,2)=7,C205<>\"\"),E205<D205,C206=\"\"),ColTime($AF$1,$AG$1,'Hele året (2)'!$AF$1,E205),IF(AND(WEEKDAY(A205,2)<6,C206=\"\"),ColTime(T.!$J$5,T.!$L$5,D205,E205),\"\"))","v":""},null,"",{"$f":"IFERROR(IF(AND(WEEKDAY(A205,2)<6,C206<>\"\",C205=\"\"),ColTime(T.!$J$7,T.!$L$7,$AF$1,'Hele året (2)'!E205),IF(AND(C205<>\"\",C206<>\"\"),ColTime(T.!$J$7,T.!$L$7,'Hele året (2)'!D205,'Hele året (2)'!E205),IF(AND(OR(WEEKDAY(A205,2)<6,WEEKDAY(A205,2)=6),C205<>\"\",E205<D205),ColTime(T.!$J$7,T.!$L$7,D205,AF202),IF(AND(WEEKDAY(A205,2)=6,E205<D205),ColTime(T.!$J$7,T.!$L$7,$AF$1,E205),IF(AND(E205<D205,OR(C205<>\"\",WEEKDAY(A205,2)=7)),ColTime(T.!J208,T.!L208,D205,$AF$1),IF(AND(E205<>\"\",OR(C205<>\"\",WEEKDAY(A205,2)=7)),ColTime(T.!$J$7,T.!$L$7,D205,E205),\"\")))))),\"\")","v":""},"",null,null,{"$f":"IFERROR(CHOOSE(WEEKDAY(A205,2),norm!C$1,norm!C$2,norm!C$3,norm!C$4,norm!C$5,norm!C$6,norm!C$7),\"\")","v":"00:00:00"}]
["2019-07-22","Ma","",null,null,null,"","00:00:00","",{"$f":"IF(AND(C206=\"\",WEEKDAY(A206,2)<6),ColTime(T.!$J$4,T.!$L$4,D206,E206),\"\")","v":"00:00:00"},null,{"$f":"IF(AND(OR(WEEKDAY(A206,2)=7,C206<>\"\"),E206<D206,C207=\"\"),ColTime($AF$1,$AG$1,'Hele året (2)'!$AF$1,E206),IF(AND(WEEKDAY(A206,2)<6,C207=\"\"),ColTime(T.!$J$5,T.!$L$5,D206,E206),\"\"))","v":"00:00:00"},null,"",{"$f":"IFERROR(IF(AND(WEEKDAY(A206,2)<6,C207<>\"\",C206=\"\"),ColTime(T.!$J$7,T.!$L$7,$AF$1,'Hele året (2)'!E206),IF(AND(C206<>\"\",C207<>\"\"),ColTime(T.!$J$7,T.!$L$7,'Hele året (2)'!D206,'Hele året (2)'!E206),IF(AND(OR(WEEKDAY(A206,2)<6,WEEKDAY(A206,2)=6),C206<>\"\",E206<D206),ColTime(T.!$J$7,T.!$L$7,D206,AF203),IF(AND(WEEKDAY(A206,2)=6,E206<D206),ColTime(T.!$J$7,T.!$L$7,$AF$1,E206),IF(AND(E206<D206,OR(C206<>\"\",WEEKDAY(A206,2)=7)),ColTime(T.!J209,T.!L209,D206,$AF$1),IF(AND(E206<>\"\",OR(C206<>\"\",WEEKDAY(A206,2)=7)),ColTime(T.!$J$7,T.!$L$7,D206,E206),\"\")))))),\"\")","v":""},"",null,null,{"$f":"IFERROR(CHOOSE(WEEKDAY(A206,2),norm!C$1,norm!C$2,norm!C$3,norm!C$4,norm!C$5,norm!C$6,norm!C$7),\"\")","v":"07:30:00"}]
["2019-07-23","Ti","",null,null,null,"","00:00:00","",{"$f":"IF(AND(C207=\"\",WEEKDAY(A207,2)<6),ColTime(T.!$J$4,T.!$L$4,D207,E207),\"\")","v":"00:00:00"},null,{"$f":"IF(AND(OR(WEEKDAY(A207,2)=7,C207<>\"\"),E207<D207,C208=\"\"),ColTime($AF$1,$AG$1,'Hele året (2)'!$AF$1,E207),IF(AND(WEEKDAY(A207,2)<6,C208=\"\"),ColTime(T.!$J$5,T.!$L$5,D207,E207),\"\"))","v":"00:00:00"},null,"",{"$f":"IFERROR(IF(AND(WEEKDAY(A207,2)<6,C208<>\"\",C207=\"\"),ColTime(T.!$J$7,T.!$L$7,$AF$1,'Hele året (2)'!E207),IF(AND(C207<>\"\",C208<>\"\"),ColTime(T.!$J$7,T.!$L$7,'Hele året (2)'!D207,'Hele året (2)'!E207),IF(AND(OR(WEEKDAY(A207,2)<6,WEEKDAY(A207,2)=6),C207<>\"\",E207<D207),ColTime(T.!$J$7,T.!$L$7,D207,AF204),IF(AND(WEEKDAY(A207,2)=6,E207<D207),ColTime(T.!$J$7,T.!$L$7,$AF$1,E207),IF(AND(E207<D207,OR(C207<>\"\",WEEKDAY(A207,2)=7)),ColTime(T.!J210,T.!L210,D207,$AF$1),IF(AND(E207<>\"\",OR(C207<>\"\",WEEKDAY(A207,2)=7)),ColTime(T.!$J$7,T.!$L$7,D207,E207),\"\")))))),\"\")","v":""},"",null,null,{"$f":"IFERROR(CHOOSE(WEEKDAY(A207,2),norm!C$1,norm!C$2,norm!C$3,norm!C$4,norm!C$5,norm!C$6,norm!C$7),\"\")","v":"07:30:00"}]
["2019-07-24","On","",null,null,null,"","00:00:00","",{"$f":"IF(AND(C208=\"\",WEEKDAY(A208,2)<6),ColTime(T.!$J$4,T.!$L$4,D208,E208),\"\")","v":"00:00:00"},null,{"$f":"IF(AND(OR(WEEKDAY(A208,2)=7,C208<>\"\"),E208<D208,C209=\"\"),ColTime($AF$1,$AG$1,'Hele året (2)'!$AF$1,E208),IF(AND(WEEKDAY(A208,2)<6,C209=\"\"),ColTime(T.!$J$5,T.!$L$5,D208,E208),\"\"))","v":"00:00:00"},null,"",{"$f":"IFERROR(IF(AND(WEEKDAY(A208,2)<6,C209<>\"\",C208=\"\"),ColTime(T.!$J$7,T.!$L$7,$AF$1,'Hele året (2)'!E208),IF(AND(C208<>\"\",C209<>\"\"),ColTime(T.!$J$7,T.!$L$7,'Hele året (2)'!D208,'Hele året (2)'!E208),IF(AND(OR(WEEKDAY(A208,2)<6,WEEKDAY(A208,2)=6),C208<>\"\",E208<D208),ColTime(T.!$J$7,T.!$L$7,D208,AF205),IF(AND(WEEKDAY(A208,2)=6,E208<D208),ColTime(T.!$J$7,T.!$L$7,$AF$1,E208),IF(AND(E208<D208,OR(C208<>\"\",WEEKDAY(A208,2)=7)),ColTime(T.!J211,T.!L211,D208,$AF$1),IF(AND(E208<>\"\",OR(C208<>\"\",WEEKDAY(A208,2)=7)),ColTime(T.!$J$7,T.!$L$7,D208,E208),\"\")))))),\"\")","v":""},"",null,null,{"$f":"IFERROR(CHOOSE(WEEKDAY(A208,2),norm!C$1,norm!C$2,norm!C$3,norm!C$4,norm!C$5,norm!C$6,norm!C$7),\"\")","v":"07:30:00"}]
["2019-07-25","To","",null,null,null,"","00:00:00","",{"$f":"IF(AND(C209=\"\",WEEKDAY(A209,2)<6),ColTime(T.!$J$4,T.!$L$4,D209,E209),\"\")","v":"00:00:00"},null,{"$f":"IF(AND(OR(WEEKDAY(A209,2)=7,C209<>\"\"),E209<D209,C210=\"\"),ColTime($AF$1,$AG$1,'Hele året (2)'!$AF$1,E209),IF(AND(WEEKDAY(A209,2)<6,C210=\"\"),ColTime(T.!$J$5,T.!$L$5,D209,E209),\"\"))","v":"00:00:00"},null,"",{"$f":"IFERROR(IF(AND(WEEKDAY(A209,2)<6,C210<>\"\",C209=\"\"),ColTime(T.!$J$7,T.!$L$7,$AF$1,'Hele året (2)'!E209),IF(AND(C209<>\"\",C210<>\"\"),ColTime(T.!$J$7,T.!$L$7,'Hele året (2)'!D209,'Hele året (2)'!E209),IF(AND(OR(WEEKDAY(A209,2)<6,WEEKDAY(A209,2)=6),C209<>\"\",E209<D209),ColTime(T.!$J$7,T.!$L$7,D209,AF206),IF(AND(WEEKDAY(A209,2)=6,E209<D209),ColTime(T.!$J$7,T.!$L$7,$AF$1,E209),IF(AND(E209<D209,OR(C209<>\"\",WEEKDAY(A209,2)=7)),ColTime(T.!J212,T.!L212,D209,$AF$1),IF(AND(E209<>\"\",OR(C209<>\"\",WEEKDAY(A209,2)=7)),ColTime(T.!$J$7,T.!$L$7,D209,E209),\"\")))))),\"\")","v":""},"",null,null,{"$f":"IFERROR(CHOOSE(WEEKDAY(A209,2),norm!C$1,norm!C$2,norm!C$3,norm!C$4,norm!C$5,norm!C$6,norm!C$7),\"\")","v":"07:30:00"}]
["2019-07-26","Fr","",null,null,null,"","00:00:00","",{"$f":"IF(AND(C210=\"\",WEEKDAY(A210,2)<6),ColTime(T.!$J$4,T.!$L$4,D210,E210),\"\")","v":"00:00:00"},null,{"$f":"IF(AND(OR(WEEKDAY(A210,2)=7,C210<>\"\"),E210<D210,C211=\"\"),ColTime($AF$1,$AG$1,'Hele året (2)'!$AF$1,E210),IF(AND(WEEKDAY(A210,2)<6,C211=\"\"),ColTime(T.!$J$5,T.!$L$5,D210,E210),\"\"))","v":"00:00:00"},null,"",{"$f":"IFERROR(IF(AND(WEEKDAY(A210,2)<6,C211<>\"\",C210=\"\"),ColTime(T.!$J$7,T.!$L$7,$AF$1,'Hele året (2)'!E210),IF(AND(C210<>\"\",C211<>\"\"),ColTime(T.!$J$7,T.!$L$7,'Hele året (2)'!D210,'Hele året (2)'!E210),IF(AND(OR(WEEKDAY(A210,2)<6,WEEKDAY(A210,2)=6),C210<>\"\",E210<D210),ColTime(T.!$J$7,T.!$L$7,D210,AF207),IF(AND(WEEKDAY(A210,2)=6,E210<D210),ColTime(T.!$J$7,T.!$L$7,$AF$1,E210),IF(AND(E210<D210,OR(C210<>\"\",WEEKDAY(A210,2)=7)),ColTime(T.!J213,T.!L213,D210,$AF$1),IF(AND(E210<>\"\",OR(C210<>\"\",WEEKDAY(A210,2)=7)),ColTime(T.!$J$7,T.!$L$7,D210,E210),\"\")))))),\"\")","v":""},"",null,null,{"$f":"IFERROR(CHOOSE(WEEKDAY(A210,2),norm!C$1,norm!C$2,norm!C$3,norm!C$4,norm!C$5,norm!C$6,norm!C$7),\"\")","v":"07:00:00"}]
["2019-07-27","Lø","",null,null,null,"","00:00:00","",{"$f":"IF(AND(C211=\"\",WEEKDAY(A211,2)<6),ColTime(T.!$J$4,T.!$L$4,D211,E211),\"\")","v":""},null,{"$f":"IF(AND(OR(WEEKDAY(A211,2)=7,C211<>\"\"),E211<D211,C212=\"\"),ColTime($AF$1,$AG$1,'Hele året (2)'!$AF$1,E211),IF(AND(WEEKDAY(A211,2)<6,C212=\"\"),ColTime(T.!$J$5,T.!$L$5,D211,E211),\"\"))","v":""},null,"00:00:00",{"$f":"IFERROR(IF(AND(WEEKDAY(A211,2)<6,C212<>\"\",C211=\"\"),ColTime(T.!$J$7,T.!$L$7,$AF$1,'Hele året (2)'!E211),IF(AND(C211<>\"\",C212<>\"\"),ColTime(T.!$J$7,T.!$L$7,'Hele året (2)'!D211,'Hele året (2)'!E211),IF(AND(OR(WEEKDAY(A211,2)<6,WEEKDAY(A211,2)=6),C211<>\"\",E211<D211),ColTime(T.!$J$7,T.!$L$7,D211,AF208),IF(AND(WEEKDAY(A211,2)=6,E211<D211),ColTime(T.!$J$7,T.!$L$7,$AF$1,E211),IF(AND(E211<D211,OR(C211<>\"\",WEEKDAY(A211,2)=7)),ColTime(T.!J214,T.!L214,D211,$AF$1),IF(AND(E211<>\"\",OR(C211<>\"\",WEEKDAY(A211,2)=7)),ColTime(T.!$J$7,T.!$L$7,D211,E211),\"\")))))),\"\")","v":""},"",null,null,{"$f":"IFERROR(CHOOSE(WEEKDAY(A211,2),norm!C$1,norm!C$2,norm!C$3,norm!C$4,norm!C$5,norm!C$6,norm!C$7),\"\")","v":"00:00:00"}]
["2019-07-28","Sø","",null,null,null,"","00:00:00","",{"$f":"IF(AND(C212=\"\",WEEKDAY(A212,2)<6),ColTime(T.!$J$4,T.!$L$4,D212,E212),\"\")","v":""},null,{"$f":"IF(AND(OR(WEEKDAY(A212,2)=7,C212<>\"\"),E212<D212,C213=\"\"),ColTime($AF$1,$AG$1,'Hele året (2)'!$AF$1,E212),IF(AND(WEEKDAY(A212,2)<6,C213=\"\"),ColTime(T.!$J$5,T.!$L$5,D212,E212),\"\"))","v":""},null,"",{"$f":"IFERROR(IF(AND(WEEKDAY(A212,2)<6,C213<>\"\",C212=\"\"),ColTime(T.!$J$7,T.!$L$7,$AF$1,'Hele året (2)'!E212),IF(AND(C212<>\"\",C213<>\"\"),ColTime(T.!$J$7,T.!$L$7,'Hele året (2)'!D212,'Hele året (2)'!E212),IF(AND(OR(WEEKDAY(A212,2)<6,WEEKDAY(A212,2)=6),C212<>\"\",E212<D212),ColTime(T.!$J$7,T.!$L$7,D212,AF209),IF(AND(WEEKDAY(A212,2)=6,E212<D212),ColTime(T.!$J$7,T.!$L$7,$AF$1,E212),IF(AND(E212<D212,OR(C212<>\"\",WEEKDAY(A212,2)=7)),ColTime(T.!J215,T.!L215,D212,$AF$1),IF(AND(E212<>\"\",OR(C212<>\"\",WEEKDAY(A212,2)=7)),ColTime(T.!$J$7,T.!$L$7,D212,E212),\"\")))))),\"\")","v":""},"",null,null,{"$f":"IFERROR(CHOOSE(WEEKDAY(A212,2),norm!C$1,norm!C$2,norm!C$3,norm!C$4,norm!C$5,norm!C$6,norm!C$7),\"\")","v":"00:00:00"}]
["2019-07-29","Ma","",null,null,null,"","00:00:00","",{"$f":"IF(AND(C213=\"\",WEEKDAY(A213,2)<6),ColTime(T.!$J$4,T.!$L$4,D213,E213),\"\")","v":"00:00:00"},null,{"$f":"IF(AND(OR(WEEKDAY(A213,2)=7,C213<>\"\"),E213<D213,C214=\"\"),ColTime($AF$1,$AG$1,'Hele året (2)'!$AF$1,E213),IF(AND(WEEKDAY(A213,2)<6,C214=\"\"),ColTime(T.!$J$5,T.!$L$5,D213,E213),\"\"))","v":"00:00:00"},null,"",{"$f":"IFERROR(IF(AND(WEEKDAY(A213,2)<6,C214<>\"\",C213=\"\"),ColTime(T.!$J$7,T.!$L$7,$AF$1,'Hele året (2)'!E213),IF(AND(C213<>\"\",C214<>\"\"),ColTime(T.!$J$7,T.!$L$7,'Hele året (2)'!D213,'Hele året (2)'!E213),IF(AND(OR(WEEKDAY(A213,2)<6,WEEKDAY(A213,2)=6),C213<>\"\",E213<D213),ColTime(T.!$J$7,T.!$L$7,D213,AF210),IF(AND(WEEKDAY(A213,2)=6,E213<D213),ColTime(T.!$J$7,T.!$L$7,$AF$1,E213),IF(AND(E213<D213,OR(C213<>\"\",WEEKDAY(A213,2)=7)),ColTime(T.!J216,T.!L216,D213,$AF$1),IF(AND(E213<>\"\",OR(C213<>\"\",WEEKDAY(A213,2)=7)),ColTime(T.!$J$7,T.!$L$7,D213,E213),\"\")))))),\"\")","v":""},"",null,null,{"$f":"IFERROR(CHOOSE(WEEKDAY(A213,2),norm!C$1,norm!C$2,norm!C$3,norm!C$4,norm!C$5,norm!C$6,norm!C$7),\"\")","v":"07:30:00"}]
["2019-07-30","Ti","",null,null,null,"","00:00:00","",{"$f":"IF(AND(C214=\"\",WEEKDAY(A214,2)<6),ColTime(T.!$J$4,T.!$L$4,D214,E214),\"\")","v":"00:00:00"},null,{"$f":"IF(AND(OR(WEEKDAY(A214,2)=7,C214<>\"\"),E214<D214,C215=\"\"),ColTime($AF$1,$AG$1,'Hele året (2)'!$AF$1,E214),IF(AND(WEEKDAY(A214,2)<6,C215=\"\"),ColTime(T.!$J$5,T.!$L$5,D214,E214),\"\"))","v":"00:00:00"},null,"",{"$f":"IFERROR(IF(AND(WEEKDAY(A214,2)<6,C215<>\"\",C214=\"\"),ColTime(T.!$J$7,T.!$L$7,$AF$1,'Hele året (2)'!E214),IF(AND(C214<>\"\",C215<>\"\"),ColTime(T.!$J$7,T.!$L$7,'Hele året (2)'!D214,'Hele året (2)'!E214),IF(AND(OR(WEEKDAY(A214,2)<6,WEEKDAY(A214,2)=6),C214<>\"\",E214<D214),ColTime(T.!$J$7,T.!$L$7,D214,AF211),IF(AND(WEEKDAY(A214,2)=6,E214<D214),ColTime(T.!$J$7,T.!$L$7,$AF$1,E214),IF(AND(E214<D214,OR(C214<>\"\",WEEKDAY(A214,2)=7)),ColTime(T.!J217,T.!L217,D214,$AF$1),IF(AND(E214<>\"\",OR(C214<>\"\",WEEKDAY(A214,2)=7)),ColTime(T.!$J$7,T.!$L$7,D214,E214),\"\")))))),\"\")","v":""},"",null,null,{"$f":"IFERROR(CHOOSE(WEEKDAY(A214,2),norm!C$1,norm!C$2,norm!C$3,norm!C$4,norm!C$5,norm!C$6,norm!C$7),\"\")","v":"07:30:00"}]
["2019-07-31","On","",null,null,null,"","00:00:00","",{"$f":"IF(AND(C215=\"\",WEEKDAY(A215,2)<6),ColTime(T.!$J$4,T.!$L$4,D215,E215),\"\")","v":"00:00:00"},null,{"$f":"IF(AND(OR(WEEKDAY(A215,2)=7,C215<>\"\"),E215<D215,C216=\"\"),ColTime($AF$1,$AG$1,'Hele året (2)'!$AF$1,E215),IF(AND(WEEKDAY(A215,2)<6,C216=\"\"),ColTime(T.!$J$5,T.!$L$5,D215,E215),\"\"))","v":"00:00:00"},null,"",{"$f":"IFERROR(IF(AND(WEEKDAY(A215,2)<6,C216<>\"\",C215=\"\"),ColTime(T.!$J$7,T.!$L$7,$AF$1,'Hele året (2)'!E215),IF(AND(C215<>\"\",C216<>\"\"),ColTime(T.!$J$7,T.!$L$7,'Hele året (2)'!D215,'Hele året (2)'!E215),IF(AND(OR(WEEKDAY(A215,2)<6,WEEKDAY(A215,2)=6),C215<>\"\",E215<D215),ColTime(T.!$J$7,T.!$L$7,D215,AF212),IF(AND(WEEKDAY(A215,2)=6,E215<D215),ColTime(T.!$J$7,T.!$L$7,$AF$1,E215),IF(AND(E215<D215,OR(C215<>\"\",WEEKDAY(A215,2)=7)),ColTime(T.!J218,T.!L218,D215,$AF$1),IF(AND(E215<>\"\",OR(C215<>\"\",WEEKDAY(A215,2)=7)),ColTime(T.!$J$7,T.!$L$7,D215,E215),\"\")))))),\"\")","v":""},"",null,null,{"$f":"IFERROR(CHOOSE(WEEKDAY(A215,2),norm!C$1,norm!C$2,norm!C$3,norm!C$4,norm!C$5,norm!C$6,norm!C$7),\"\")","v":"07:30:00"}]
["2019-08-01","To","",null,null,null,"","00:00:00","",{"$f":"IF(AND(C216=\"\",WEEKDAY(A216,2)<6),ColTime(T.!$J$4,T.!$L$4,D216,E216),\"\")","v":"00:00:00"},null,{"$f":"IF(AND(OR(WEEKDAY(A216,2)=7,C216<>\"\"),E216<D216,C217=\"\"),ColTime($AF$1,$AG$1,'Hele året (2)'!$AF$1,E216),IF(AND(WEEKDAY(A216,2)<6,C217=\"\"),ColTime(T.!$J$5,T.!$L$5,D216,E216),\"\"))","v":"00:00:00"},null,"",{"$f":"IFERROR(IF(AND(WEEKDAY(A216,2)<6,C217<>\"\",C216=\"\"),ColTime(T.!$J$7,T.!$L$7,$AF$1,'Hele året (2)'!E216),IF(AND(C216<>\"\",C217<>\"\"),ColTime(T.!$J$7,T.!$L$7,'Hele året (2)'!D216,'Hele året (2)'!E216),IF(AND(OR(WEEKDAY(A216,2)<6,WEEKDAY(A216,2)=6),C216<>\"\",E216<D216),ColTime(T.!$J$7,T.!$L$7,D216,AF213),IF(AND(WEEKDAY(A216,2)=6,E216<D216),ColTime(T.!$J$7,T.!$L$7,$AF$1,E216),IF(AND(E216<D216,OR(C216<>\"\",WEEKDAY(A216,2)=7)),ColTime(T.!J219,T.!L219,D216,$AF$1),IF(AND(E216<>\"\",OR(C216<>\"\",WEEKDAY(A216,2)=7)),ColTime(T.!$J$7,T.!$L$7,D216,E216),\"\")))))),\"\")","v":""},"",null,null,{"$f":"IFERROR(CHOOSE(WEEKDAY(A216,2),norm!C$1,norm!C$2,norm!C$3,norm!C$4,norm!C$5,norm!C$6,norm!C$7),\"\")","v":"07:30:00"}]
["2019-08-02","Fr","",null,null,null,"","00:00:00","",{"$f":"IF(AND(C217=\"\",WEEKDAY(A217,2)<6),ColTime(T.!$J$4,T.!$L$4,D217,E217),\"\")","v":"00:00:00"},null,{"$f":"IF(AND(OR(WEEKDAY(A217,2)=7,C217<>\"\"),E217<D217,C218=\"\"),ColTime($AF$1,$AG$1,'Hele året (2)'!$AF$1,E217),IF(AND(WEEKDAY(A217,2)<6,C218=\"\"),ColTime(T.!$J$5,T.!$L$5,D217,E217),\"\"))","v":"00:00:00"},null,"",{"$f":"IFERROR(IF(AND(WEEKDAY(A217,2)<6,C218<>\"\",C217=\"\"),ColTime(T.!$J$7,T.!$L$7,$AF$1,'Hele året (2)'!E217),IF(AND(C217<>\"\",C218<>\"\"),ColTime(T.!$J$7,T.!$L$7,'Hele året (2)'!D217,'Hele året (2)'!E217),IF(AND(OR(WEEKDAY(A217,2)<6,WEEKDAY(A217,2)=6),C217<>\"\",E217<D217),ColTime(T.!$J$7,T.!$L$7,D217,AF214),IF(AND(WEEKDAY(A217,2)=6,E217<D217),ColTime(T.!$J$7,T.!$L$7,$AF$1,E217),IF(AND(E217<D217,OR(C217<>\"\",WEEKDAY(A217,2)=7)),ColTime(T.!J220,T.!L220,D217,$AF$1),IF(AND(E217<>\"\",OR(C217<>\"\",WEEKDAY(A217,2)=7)),ColTime(T.!$J$7,T.!$L$7,D217,E217),\"\")))))),\"\")","v":""},"",null,null,{"$f":"IFERROR(CHOOSE(WEEKDAY(A217,2),norm!C$1,norm!C$2,norm!C$3,norm!C$4,norm!C$5,norm!C$6,norm!C$7),\"\")","v":"07:00:00"}]
["2019-08-03","Lø","",null,null,null,"","00:00:00","",{"$f":"IF(AND(C218=\"\",WEEKDAY(A218,2)<6),ColTime(T.!$J$4,T.!$L$4,D218,E218),\"\")","v":""},null,{"$f":"IF(AND(OR(WEEKDAY(A218,2)=7,C218<>\"\"),E218<D218,C219=\"\"),ColTime($AF$1,$AG$1,'Hele året (2)'!$AF$1,E218),IF(AND(WEEKDAY(A218,2)<6,C219=\"\"),ColTime(T.!$J$5,T.!$L$5,D218,E218),\"\"))","v":""},null,"00:00:00",{"$f":"IFERROR(IF(AND(WEEKDAY(A218,2)<6,C219<>\"\",C218=\"\"),ColTime(T.!$J$7,T.!$L$7,$AF$1,'Hele året (2)'!E218),IF(AND(C218<>\"\",C219<>\"\"),ColTime(T.!$J$7,T.!$L$7,'Hele året (2)'!D218,'Hele året (2)'!E218),IF(AND(OR(WEEKDAY(A218,2)<6,WEEKDAY(A218,2)=6),C218<>\"\",E218<D218),ColTime(T.!$J$7,T.!$L$7,D218,AF215),IF(AND(WEEKDAY(A218,2)=6,E218<D218),ColTime(T.!$J$7,T.!$L$7,$AF$1,E218),IF(AND(E218<D218,OR(C218<>\"\",WEEKDAY(A218,2)=7)),ColTime(T.!J221,T.!L221,D218,$AF$1),IF(AND(E218<>\"\",OR(C218<>\"\",WEEKDAY(A218,2)=7)),ColTime(T.!$J$7,T.!$L$7,D218,E218),\"\")))))),\"\")","v":""},"",null,null,{"$f":"IFERROR(CHOOSE(WEEKDAY(A218,2),norm!C$1,norm!C$2,norm!C$3,norm!C$4,norm!C$5,norm!C$6,norm!C$7),\"\")","v":"00:00:00"}]
[{"$f":"A218+1","v":"2019-08-04"},"Sø","",null,null,null,"","00:00:00","",{"$f":"IF(AND(C219=\"\",WEEKDAY(A219,2)<6),ColTime(T.!$J$4,T.!$L$4,D219,E219),\"\")","v":""},null,{"$f":"IF(AND(OR(WEEKDAY(A219,2)=7,C219<>\"\"),E219<D219,C220=\"\"),ColTime($AF$1,$AG$1,'Hele året (2)'!$AF$1,E219),IF(AND(WEEKDAY(A219,2)<6,C220=\"\"),ColTime(T.!$J$5,T.!$L$5,D219,E219),\"\"))","v":""},null,"",{"$f":"IFERROR(IF(AND(WEEKDAY(A219,2)<6,C220<>\"\",C219=\"\"),ColTime(T.!$J$7,T.!$L$7,$AF$1,'Hele året (2)'!E219),IF(AND(C219<>\"\",C220<>\"\"),ColTime(T.!$J$7,T.!$L$7,'Hele året (2)'!D219,'Hele året (2)'!E219),IF(AND(OR(WEEKDAY(A219,2)<6,WEEKDAY(A219,2)=6),C219<>\"\",E219<D219),ColTime(T.!$J$7,T.!$L$7,D219,AF216),IF(AND(WEEKDAY(A219,2)=6,E219<D219),ColTime(T.!$J$7,T.!$L$7,$AF$1,E219),IF(AND(E219<D219,OR(C219<>\"\",WEEKDAY(A219,2)=7)),ColTime(T.!J222,T.!L222,D219,$AF$1),IF(AND(E219<>\"\",OR(C219<>\"\",WEEKDAY(A219,2)=7)),ColTime(T.!$J$7,T.!$L$7,D219,E219),\"\")))))),\"\")","v":""},"",null,null,{"$f":"IFERROR(CHOOSE(WEEKDAY(A219,2),norm!C$1,norm!C$2,norm!C$3,norm!C$4,norm!C$5,norm!C$6,norm!C$7),\"\")","v":"00:00:00"}]
["2019-08-05","Ma","",null,null,null,"","00:00:00","",{"$f":"IF(AND(C220=\"\",WEEKDAY(A220,2)<6),ColTime(T.!$J$4,T.!$L$4,D220,E220),\"\")","v":"00:00:00"},null,{"$f":"IF(AND(OR(WEEKDAY(A220,2)=7,C220<>\"\"),E220<D220,C221=\"\"),ColTime($AF$1,$AG$1,'Hele året (2)'!$AF$1,E220),IF(AND(WEEKDAY(A220,2)<6,C221=\"\"),ColTime(T.!$J$5,T.!$L$5,D220,E220),\"\"))","v":"00:00:00"},null,"",{"$f":"IFERROR(IF(AND(WEEKDAY(A220,2)<6,C221<>\"\",C220=\"\"),ColTime(T.!$J$7,T.!$L$7,$AF$1,'Hele året (2)'!E220),IF(AND(C220<>\"\",C221<>\"\"),ColTime(T.!$J$7,T.!$L$7,'Hele året (2)'!D220,'Hele året (2)'!E220),IF(AND(OR(WEEKDAY(A220,2)<6,WEEKDAY(A220,2)=6),C220<>\"\",E220<D220),ColTime(T.!$J$7,T.!$L$7,D220,AF217),IF(AND(WEEKDAY(A220,2)=6,E220<D220),ColTime(T.!$J$7,T.!$L$7,$AF$1,E220),IF(AND(E220<D220,OR(C220<>\"\",WEEKDAY(A220,2)=7)),ColTime(T.!J223,T.!L223,D220,$AF$1),IF(AND(E220<>\"\",OR(C220<>\"\",WEEKDAY(A220,2)=7)),ColTime(T.!$J$7,T.!$L$7,D220,E220),\"\")))))),\"\")","v":""},"",null,null,{"$f":"IFERROR(CHOOSE(WEEKDAY(A220,2),norm!C$1,norm!C$2,norm!C$3,norm!C$4,norm!C$5,norm!C$6,norm!C$7),\"\")","v":"07:30:00"}]
["2019-08-06","Ti","",null,null,null,"","00:00:00","",{"$f":"IF(AND(C221=\"\",WEEKDAY(A221,2)<6),ColTime(T.!$J$4,T.!$L$4,D221,E221),\"\")","v":"00:00:00"},null,{"$f":"IF(AND(OR(WEEKDAY(A221,2)=7,C221<>\"\"),E221<D221,C222=\"\"),ColTime($AF$1,$AG$1,'Hele året (2)'!$AF$1,E221),IF(AND(WEEKDAY(A221,2)<6,C222=\"\"),ColTime(T.!$J$5,T.!$L$5,D221,E221),\"\"))","v":"00:00:00"},null,"",{"$f":"IFERROR(IF(AND(WEEKDAY(A221,2)<6,C222<>\"\",C221=\"\"),ColTime(T.!$J$7,T.!$L$7,$AF$1,'Hele året (2)'!E221),IF(AND(C221<>\"\",C222<>\"\"),ColTime(T.!$J$7,T.!$L$7,'Hele året (2)'!D221,'Hele året (2)'!E221),IF(AND(OR(WEEKDAY(A221,2)<6,WEEKDAY(A221,2)=6),C221<>\"\",E221<D221),ColTime(T.!$J$7,T.!$L$7,D221,AF218),IF(AND(WEEKDAY(A221,2)=6,E221<D221),ColTime(T.!$J$7,T.!$L$7,$AF$1,E221),IF(AND(E221<D221,OR(C221<>\"\",WEEKDAY(A221,2)=7)),ColTime(T.!J224,T.!L224,D221,$AF$1),IF(AND(E221<>\"\",OR(C221<>\"\",WEEKDAY(A221,2)=7)),ColTime(T.!$J$7,T.!$L$7,D221,E221),\"\")))))),\"\")","v":""},"",null,null,{"$f":"IFERROR(CHOOSE(WEEKDAY(A221,2),norm!C$1,norm!C$2,norm!C$3,norm!C$4,norm!C$5,norm!C$6,norm!C$7),\"\")","v":"07:30:00"}]
["2019-08-07","On","",null,null,null,"","00:00:00","",{"$f":"IF(AND(C222=\"\",WEEKDAY(A222,2)<6),ColTime(T.!$J$4,T.!$L$4,D222,E222),\"\")","v":"00:00:00"},null,{"$f":"IF(AND(OR(WEEKDAY(A222,2)=7,C222<>\"\"),E222<D222,C223=\"\"),ColTime($AF$1,$AG$1,'Hele året (2)'!$AF$1,E222),IF(AND(WEEKDAY(A222,2)<6,C223=\"\"),ColTime(T.!$J$5,T.!$L$5,D222,E222),\"\"))","v":"00:00:00"},null,"",{"$f":"IFERROR(IF(AND(WEEKDAY(A222,2)<6,C223<>\"\",C222=\"\"),ColTime(T.!$J$7,T.!$L$7,$AF$1,'Hele året (2)'!E222),IF(AND(C222<>\"\",C223<>\"\"),ColTime(T.!$J$7,T.!$L$7,'Hele året (2)'!D222,'Hele året (2)'!E222),IF(AND(OR(WEEKDAY(A222,2)<6,WEEKDAY(A222,2)=6),C222<>\"\",E222<D222),ColTime(T.!$J$7,T.!$L$7,D222,AF219),IF(AND(WEEKDAY(A222,2)=6,E222<D222),ColTime(T.!$J$7,T.!$L$7,$AF$1,E222),IF(AND(E222<D222,OR(C222<>\"\",WEEKDAY(A222,2)=7)),ColTime(T.!J225,T.!L225,D222,$AF$1),IF(AND(E222<>\"\",OR(C222<>\"\",WEEKDAY(A222,2)=7)),ColTime(T.!$J$7,T.!$L$7,D222,E222),\"\")))))),\"\")","v":""},"",null,null,{"$f":"IFERROR(CHOOSE(WEEKDAY(A222,2),norm!C$1,norm!C$2,norm!C$3,norm!C$4,norm!C$5,norm!C$6,norm!C$7),\"\")","v":"07:30:00"}]
["2019-08-08","To","",null,null,null,"","00:00:00","",{"$f":"IF(AND(C223=\"\",WEEKDAY(A223,2)<6),ColTime(T.!$J$4,T.!$L$4,D223,E223),\"\")","v":"00:00:00"},null,{"$f":"IF(AND(OR(WEEKDAY(A223,2)=7,C223<>\"\"),E223<D223,C224=\"\"),ColTime($AF$1,$AG$1,'Hele året (2)'!$AF$1,E223),IF(AND(WEEKDAY(A223,2)<6,C224=\"\"),ColTime(T.!$J$5,T.!$L$5,D223,E223),\"\"))","v":"00:00:00"},null,"",{"$f":"IFERROR(IF(AND(WEEKDAY(A223,2)<6,C224<>\"\",C223=\"\"),ColTime(T.!$J$7,T.!$L$7,$AF$1,'Hele året (2)'!E223),IF(AND(C223<>\"\",C224<>\"\"),ColTime(T.!$J$7,T.!$L$7,'Hele året (2)'!D223,'Hele året (2)'!E223),IF(AND(OR(WEEKDAY(A223,2)<6,WEEKDAY(A223,2)=6),C223<>\"\",E223<D223),ColTime(T.!$J$7,T.!$L$7,D223,AF220),IF(AND(WEEKDAY(A223,2)=6,E223<D223),ColTime(T.!$J$7,T.!$L$7,$AF$1,E223),IF(AND(E223<D223,OR(C223<>\"\",WEEKDAY(A223,2)=7)),ColTime(T.!J226,T.!L226,D223,$AF$1),IF(AND(E223<>\"\",OR(C223<>\"\",WEEKDAY(A223,2)=7)),ColTime(T.!$J$7,T.!$L$7,D223,E223),\"\")))))),\"\")","v":""},"",null,null,{"$f":"IFERROR(CHOOSE(WEEKDAY(A223,2),norm!C$1,norm!C$2,norm!C$3,norm!C$4,norm!C$5,norm!C$6,norm!C$7),\"\")","v":"07:30:00"}]
["2019-08-09","Fr","",null,null,null,"","00:00:00","",{"$f":"IF(AND(C224=\"\",WEEKDAY(A224,2)<6),ColTime(T.!$J$4,T.!$L$4,D224,E224),\"\")","v":"00:00:00"},null,{"$f":"IF(AND(OR(WEEKDAY(A224,2)=7,C224<>\"\"),E224<D224,C225=\"\"),ColTime($AF$1,$AG$1,'Hele året (2)'!$AF$1,E224),IF(AND(WEEKDAY(A224,2)<6,C225=\"\"),ColTime(T.!$J$5,T.!$L$5,D224,E224),\"\"))","v":"00:00:00"},null,"",{"$f":"IFERROR(IF(AND(WEEKDAY(A224,2)<6,C225<>\"\",C224=\"\"),ColTime(T.!$J$7,T.!$L$7,$AF$1,'Hele året (2)'!E224),IF(AND(C224<>\"\",C225<>\"\"),ColTime(T.!$J$7,T.!$L$7,'Hele året (2)'!D224,'Hele året (2)'!E224),IF(AND(OR(WEEKDAY(A224,2)<6,WEEKDAY(A224,2)=6),C224<>\"\",E224<D224),ColTime(T.!$J$7,T.!$L$7,D224,AF221),IF(AND(WEEKDAY(A224,2)=6,E224<D224),ColTime(T.!$J$7,T.!$L$7,$AF$1,E224),IF(AND(E224<D224,OR(C224<>\"\",WEEKDAY(A224,2)=7)),ColTime(T.!J227,T.!L227,D224,$AF$1),IF(AND(E224<>\"\",OR(C224<>\"\",WEEKDAY(A224,2)=7)),ColTime(T.!$J$7,T.!$L$7,D224,E224),\"\")))))),\"\")","v":""},"",null,null,{"$f":"IFERROR(CHOOSE(WEEKDAY(A224,2),norm!C$1,norm!C$2,norm!C$3,norm!C$4,norm!C$5,norm!C$6,norm!C$7),\"\")","v":"07:00:00"}]
["2019-08-10","Lø","",null,null,null,"","00:00:00","",{"$f":"IF(AND(C225=\"\",WEEKDAY(A225,2)<6),ColTime(T.!$J$4,T.!$L$4,D225,E225),\"\")","v":""},null,{"$f":"IF(AND(OR(WEEKDAY(A225,2)=7,C225<>\"\"),E225<D225,C226=\"\"),ColTime($AF$1,$AG$1,'Hele året (2)'!$AF$1,E225),IF(AND(WEEKDAY(A225,2)<6,C226=\"\"),ColTime(T.!$J$5,T.!$L$5,D225,E225),\"\"))","v":""},null,"00:00:00",{"$f":"IFERROR(IF(AND(WEEKDAY(A225,2)<6,C226<>\"\",C225=\"\"),ColTime(T.!$J$7,T.!$L$7,$AF$1,'Hele året (2)'!E225),IF(AND(C225<>\"\",C226<>\"\"),ColTime(T.!$J$7,T.!$L$7,'Hele året (2)'!D225,'Hele året (2)'!E225),IF(AND(OR(WEEKDAY(A225,2)<6,WEEKDAY(A225,2)=6),C225<>\"\",E225<D225),ColTime(T.!$J$7,T.!$L$7,D225,AF222),IF(AND(WEEKDAY(A225,2)=6,E225<D225),ColTime(T.!$J$7,T.!$L$7,$AF$1,E225),IF(AND(E225<D225,OR(C225<>\"\",WEEKDAY(A225,2)=7)),ColTime(T.!J228,T.!L228,D225,$AF$1),IF(AND(E225<>\"\",OR(C225<>\"\",WEEKDAY(A225,2)=7)),ColTime(T.!$J$7,T.!$L$7,D225,E225),\"\")))))),\"\")","v":""},"",null,null,{"$f":"IFERROR(CHOOSE(WEEKDAY(A225,2),norm!C$1,norm!C$2,norm!C$3,norm!C$4,norm!C$5,norm!C$6,norm!C$7),\"\")","v":"00:00:00"}]
["2019-08-11","Sø","",null,null,null,"","00:00:00","",{"$f":"IF(AND(C226=\"\",WEEKDAY(A226,2)<6),ColTime(T.!$J$4,T.!$L$4,D226,E226),\"\")","v":""},null,{"$f":"IF(AND(OR(WEEKDAY(A226,2)=7,C226<>\"\"),E226<D226,C227=\"\"),ColTime($AF$1,$AG$1,'Hele året (2)'!$AF$1,E226),IF(AND(WEEKDAY(A226,2)<6,C227=\"\"),ColTime(T.!$J$5,T.!$L$5,D226,E226),\"\"))","v":""},null,"",{"$f":"IFERROR(IF(AND(WEEKDAY(A226,2)<6,C227<>\"\",C226=\"\"),ColTime(T.!$J$7,T.!$L$7,$AF$1,'Hele året (2)'!E226),IF(AND(C226<>\"\",C227<>\"\"),ColTime(T.!$J$7,T.!$L$7,'Hele året (2)'!D226,'Hele året (2)'!E226),IF(AND(OR(WEEKDAY(A226,2)<6,WEEKDAY(A226,2)=6),C226<>\"\",E226<D226),ColTime(T.!$J$7,T.!$L$7,D226,AF223),IF(AND(WEEKDAY(A226,2)=6,E226<D226),ColTime(T.!$J$7,T.!$L$7,$AF$1,E226),IF(AND(E226<D226,OR(C226<>\"\",WEEKDAY(A226,2)=7)),ColTime(T.!J229,T.!L229,D226,$AF$1),IF(AND(E226<>\"\",OR(C226<>\"\",WEEKDAY(A226,2)=7)),ColTime(T.!$J$7,T.!$L$7,D226,E226),\"\")))))),\"\")","v":""},"",null,null,{"$f":"IFERROR(CHOOSE(WEEKDAY(A226,2),norm!C$1,norm!C$2,norm!C$3,norm!C$4,norm!C$5,norm!C$6,norm!C$7),\"\")","v":"00:00:00"}]
["2019-08-12",{"$f":"IFERROR(PROPER(TEXT(A227,\"ddd\")),\"\")","v":"Ma"},{"$f":"IF(A227=\"\",\"\",HelligdagsNavn(A227,0,0))","v":""},null,null,null,"","00:00:00","",{"$f":"IF(AND(C227=\"\",WEEKDAY(A227,2)<6),ColTime(T.!$J$4,T.!$L$4,D227,E227),\"\")","v":"00:00:00"},null,{"$f":"IF(AND(OR(WEEKDAY(A227,2)=7,C227<>\"\"),E227<D227,C228=\"\"),ColTime($AF$1,$AG$1,'Hele året (2)'!$AF$1,E227),IF(AND(WEEKDAY(A227,2)<6,C228=\"\"),ColTime(T.!$J$5,T.!$L$5,D227,E227),\"\"))","v":"00:00:00"},null,"",{"$f":"IFERROR(IF(AND(WEEKDAY(A227,2)<6,C228<>\"\",C227=\"\"),ColTime(T.!$J$7,T.!$L$7,$AF$1,'Hele året (2)'!E227),IF(AND(C227<>\"\",C228<>\"\"),ColTime(T.!$J$7,T.!$L$7,'Hele året (2)'!D227,'Hele året (2)'!E227),IF(AND(OR(WEEKDAY(A227,2)<6,WEEKDAY(A227,2)=6),C227<>\"\",E227<D227),ColTime(T.!$J$7,T.!$L$7,D227,AF224),IF(AND(WEEKDAY(A227,2)=6,E227<D227),ColTime(T.!$J$7,T.!$L$7,$AF$1,E227),IF(AND(E227<D227,OR(C227<>\"\",WEEKDAY(A227,2)=7)),ColTime(T.!J230,T.!L230,D227,$AF$1),IF(AND(E227<>\"\",OR(C227<>\"\",WEEKDAY(A227,2)=7)),ColTime(T.!$J$7,T.!$L$7,D227,E227),\"\")))))),\"\")","v":""},"",null,null,{"$f":"IFERROR(CHOOSE(WEEKDAY(A227,2),norm!C$1,norm!C$2,norm!C$3,norm!C$4,norm!C$5,norm!C$6,norm!C$7),\"\")","v":"07:30:00"}]
["2019-08-13","Ti","",null,null,null,"","00:00:00","",{"$f":"IF(AND(C228=\"\",WEEKDAY(A228,2)<6),ColTime(T.!$J$4,T.!$L$4,D228,E228),\"\")","v":"00:00:00"},null,{"$f":"IF(AND(OR(WEEKDAY(A228,2)=7,C228<>\"\"),E228<D228,C229=\"\"),ColTime($AF$1,$AG$1,'Hele året (2)'!$AF$1,E228),IF(AND(WEEKDAY(A228,2)<6,C229=\"\"),ColTime(T.!$J$5,T.!$L$5,D228,E228),\"\"))","v":"00:00:00"},null,"",{"$f":"IFERROR(IF(AND(WEEKDAY(A228,2)<6,C229<>\"\",C228=\"\"),ColTime(T.!$J$7,T.!$L$7,$AF$1,'Hele året (2)'!E228),IF(AND(C228<>\"\",C229<>\"\"),ColTime(T.!$J$7,T.!$L$7,'Hele året (2)'!D228,'Hele året (2)'!E228),IF(AND(OR(WEEKDAY(A228,2)<6,WEEKDAY(A228,2)=6),C228<>\"\",E228<D228),ColTime(T.!$J$7,T.!$L$7,D228,AF225),IF(AND(WEEKDAY(A228,2)=6,E228<D228),ColTime(T.!$J$7,T.!$L$7,$AF$1,E228),IF(AND(E228<D228,OR(C228<>\"\",WEEKDAY(A228,2)=7)),ColTime(T.!J231,T.!L231,D228,$AF$1),IF(AND(E228<>\"\",OR(C228<>\"\",WEEKDAY(A228,2)=7)),ColTime(T.!$J$7,T.!$L$7,D228,E228),\"\")))))),\"\")","v":""},"",null,null,{"$f":"IFERROR(CHOOSE(WEEKDAY(A228,2),norm!C$1,norm!C$2,norm!C$3,norm!C$4,norm!C$5,norm!C$6,norm!C$7),\"\")","v":"07:30:00"}]
["2019-08-14","On","",null,null,null,"","00:00:00","",{"$f":"IF(AND(C229=\"\",WEEKDAY(A229,2)<6),ColTime(T.!$J$4,T.!$L$4,D229,E229),\"\")","v":"00:00:00"},null,{"$f":"IF(AND(OR(WEEKDAY(A229,2)=7,C229<>\"\"),E229<D229,C230=\"\"),ColTime($AF$1,$AG$1,'Hele året (2)'!$AF$1,E229),IF(AND(WEEKDAY(A229,2)<6,C230=\"\"),ColTime(T.!$J$5,T.!$L$5,D229,E229),\"\"))","v":"00:00:00"},null,"",{"$f":"IFERROR(IF(AND(WEEKDAY(A229,2)<6,C230<>\"\",C229=\"\"),ColTime(T.!$J$7,T.!$L$7,$AF$1,'Hele året (2)'!E229),IF(AND(C229<>\"\",C230<>\"\"),ColTime(T.!$J$7,T.!$L$7,'Hele året (2)'!D229,'Hele året (2)'!E229),IF(AND(OR(WEEKDAY(A229,2)<6,WEEKDAY(A229,2)=6),C229<>\"\",E229<D229),ColTime(T.!$J$7,T.!$L$7,D229,AF226),IF(AND(WEEKDAY(A229,2)=6,E229<D229),ColTime(T.!$J$7,T.!$L$7,$AF$1,E229),IF(AND(E229<D229,OR(C229<>\"\",WEEKDAY(A229,2)=7)),ColTime(T.!J232,T.!L232,D229,$AF$1),IF(AND(E229<>\"\",OR(C229<>\"\",WEEKDAY(A229,2)=7)),ColTime(T.!$J$7,T.!$L$7,D229,E229),\"\")))))),\"\")","v":""},"",null,null,{"$f":"IFERROR(CHOOSE(WEEKDAY(A229,2),norm!C$1,norm!C$2,norm!C$3,norm!C$4,norm!C$5,norm!C$6,norm!C$7),\"\")","v":"07:30:00"}]
["2019-08-15","To","",null,null,null,"","00:00:00","",{"$f":"IF(AND(C230=\"\",WEEKDAY(A230,2)<6),ColTime(T.!$J$4,T.!$L$4,D230,E230),\"\")","v":"00:00:00"},null,{"$f":"IF(AND(OR(WEEKDAY(A230,2)=7,C230<>\"\"),E230<D230,C231=\"\"),ColTime($AF$1,$AG$1,'Hele året (2)'!$AF$1,E230),IF(AND(WEEKDAY(A230,2)<6,C231=\"\"),ColTime(T.!$J$5,T.!$L$5,D230,E230),\"\"))","v":"00:00:00"},null,"",{"$f":"IFERROR(IF(AND(WEEKDAY(A230,2)<6,C231<>\"\",C230=\"\"),ColTime(T.!$J$7,T.!$L$7,$AF$1,'Hele året (2)'!E230),IF(AND(C230<>\"\",C231<>\"\"),ColTime(T.!$J$7,T.!$L$7,'Hele året (2)'!D230,'Hele året (2)'!E230),IF(AND(OR(WEEKDAY(A230,2)<6,WEEKDAY(A230,2)=6),C230<>\"\",E230<D230),ColTime(T.!$J$7,T.!$L$7,D230,AF227),IF(AND(WEEKDAY(A230,2)=6,E230<D230),ColTime(T.!$J$7,T.!$L$7,$AF$1,E230),IF(AND(E230<D230,OR(C230<>\"\",WEEKDAY(A230,2)=7)),ColTime(T.!J233,T.!L233,D230,$AF$1),IF(AND(E230<>\"\",OR(C230<>\"\",WEEKDAY(A230,2)=7)),ColTime(T.!$J$7,T.!$L$7,D230,E230),\"\")))))),\"\")","v":""},"",null,null,{"$f":"IFERROR(CHOOSE(WEEKDAY(A230,2),norm!C$1,norm!C$2,norm!C$3,norm!C$4,norm!C$5,norm!C$6,norm!C$7),\"\")","v":"07:30:00"}]
["2019-08-16","Fr","",null,null,null,"","00:00:00","",{"$f":"IF(AND(C231=\"\",WEEKDAY(A231,2)<6),ColTime(T.!$J$4,T.!$L$4,D231,E231),\"\")","v":"00:00:00"},null,{"$f":"IF(AND(OR(WEEKDAY(A231,2)=7,C231<>\"\"),E231<D231,C232=\"\"),ColTime($AF$1,$AG$1,'Hele året (2)'!$AF$1,E231),IF(AND(WEEKDAY(A231,2)<6,C232=\"\"),ColTime(T.!$J$5,T.!$L$5,D231,E231),\"\"))","v":"00:00:00"},null,"",{"$f":"IFERROR(IF(AND(WEEKDAY(A231,2)<6,C232<>\"\",C231=\"\"),ColTime(T.!$J$7,T.!$L$7,$AF$1,'Hele året (2)'!E231),IF(AND(C231<>\"\",C232<>\"\"),ColTime(T.!$J$7,T.!$L$7,'Hele året (2)'!D231,'Hele året (2)'!E231),IF(AND(OR(WEEKDAY(A231,2)<6,WEEKDAY(A231,2)=6),C231<>\"\",E231<D231),ColTime(T.!$J$7,T.!$L$7,D231,AF228),IF(AND(WEEKDAY(A231,2)=6,E231<D231),ColTime(T.!$J$7,T.!$L$7,$AF$1,E231),IF(AND(E231<D231,OR(C231<>\"\",WEEKDAY(A231,2)=7)),ColTime(T.!J234,T.!L234,D231,$AF$1),IF(AND(E231<>\"\",OR(C231<>\"\",WEEKDAY(A231,2)=7)),ColTime(T.!$J$7,T.!$L$7,D231,E231),\"\")))))),\"\")","v":""},"",null,null,{"$f":"IFERROR(CHOOSE(WEEKDAY(A231,2),norm!C$1,norm!C$2,norm!C$3,norm!C$4,norm!C$5,norm!C$6,norm!C$7),\"\")","v":"07:00:00"}]
["2019-08-17","Lø","",null,null,null,"","00:00:00","",{"$f":"IF(AND(C232=\"\",WEEKDAY(A232,2)<6),ColTime(T.!$J$4,T.!$L$4,D232,E232),\"\")","v":""},null,{"$f":"IF(AND(OR(WEEKDAY(A232,2)=7,C232<>\"\"),E232<D232,C233=\"\"),ColTime($AF$1,$AG$1,'Hele året (2)'!$AF$1,E232),IF(AND(WEEKDAY(A232,2)<6,C233=\"\"),ColTime(T.!$J$5,T.!$L$5,D232,E232),\"\"))","v":""},null,"00:00:00",{"$f":"IFERROR(IF(AND(WEEKDAY(A232,2)<6,C233<>\"\",C232=\"\"),ColTime(T.!$J$7,T.!$L$7,$AF$1,'Hele året (2)'!E232),IF(AND(C232<>\"\",C233<>\"\"),ColTime(T.!$J$7,T.!$L$7,'Hele året (2)'!D232,'Hele året (2)'!E232),IF(AND(OR(WEEKDAY(A232,2)<6,WEEKDAY(A232,2)=6),C232<>\"\",E232<D232),ColTime(T.!$J$7,T.!$L$7,D232,AF229),IF(AND(WEEKDAY(A232,2)=6,E232<D232),ColTime(T.!$J$7,T.!$L$7,$AF$1,E232),IF(AND(E232<D232,OR(C232<>\"\",WEEKDAY(A232,2)=7)),ColTime(T.!J235,T.!L235,D232,$AF$1),IF(AND(E232<>\"\",OR(C232<>\"\",WEEKDAY(A232,2)=7)),ColTime(T.!$J$7,T.!$L$7,D232,E232),\"\")))))),\"\")","v":""},"",null,null,{"$f":"IFERROR(CHOOSE(WEEKDAY(A232,2),norm!C$1,norm!C$2,norm!C$3,norm!C$4,norm!C$5,norm!C$6,norm!C$7),\"\")","v":"00:00:00"}]
["2019-08-18","Sø","",null,null,null,"","00:00:00","",{"$f":"IF(AND(C233=\"\",WEEKDAY(A233,2)<6),ColTime(T.!$J$4,T.!$L$4,D233,E233),\"\")","v":""},null,{"$f":"IF(AND(OR(WEEKDAY(A233,2)=7,C233<>\"\"),E233<D233,C234=\"\"),ColTime($AF$1,$AG$1,'Hele året (2)'!$AF$1,E233),IF(AND(WEEKDAY(A233,2)<6,C234=\"\"),ColTime(T.!$J$5,T.!$L$5,D233,E233),\"\"))","v":""},null,"",{"$f":"IFERROR(IF(AND(WEEKDAY(A233,2)<6,C234<>\"\",C233=\"\"),ColTime(T.!$J$7,T.!$L$7,$AF$1,'Hele året (2)'!E233),IF(AND(C233<>\"\",C234<>\"\"),ColTime(T.!$J$7,T.!$L$7,'Hele året (2)'!D233,'Hele året (2)'!E233),IF(AND(OR(WEEKDAY(A233,2)<6,WEEKDAY(A233,2)=6),C233<>\"\",E233<D233),ColTime(T.!$J$7,T.!$L$7,D233,AF230),IF(AND(WEEKDAY(A233,2)=6,E233<D233),ColTime(T.!$J$7,T.!$L$7,$AF$1,E233),IF(AND(E233<D233,OR(C233<>\"\",WEEKDAY(A233,2)=7)),ColTime(T.!J236,T.!L236,D233,$AF$1),IF(AND(E233<>\"\",OR(C233<>\"\",WEEKDAY(A233,2)=7)),ColTime(T.!$J$7,T.!$L$7,D233,E233),\"\")))))),\"\")","v":""},"",null,null,{"$f":"IFERROR(CHOOSE(WEEKDAY(A233,2),norm!C$1,norm!C$2,norm!C$3,norm!C$4,norm!C$5,norm!C$6,norm!C$7),\"\")","v":"00:00:00"}]
["2019-08-19","Ma","",null,null,null,"","00:00:00","",{"$f":"IF(AND(C234=\"\",WEEKDAY(A234,2)<6),ColTime(T.!$J$4,T.!$L$4,D234,E234),\"\")","v":"00:00:00"},null,{"$f":"IF(AND(OR(WEEKDAY(A234,2)=7,C234<>\"\"),E234<D234,C235=\"\"),ColTime($AF$1,$AG$1,'Hele året (2)'!$AF$1,E234),IF(AND(WEEKDAY(A234,2)<6,C235=\"\"),ColTime(T.!$J$5,T.!$L$5,D234,E234),\"\"))","v":"00:00:00"},null,"",{"$f":"IFERROR(IF(AND(WEEKDAY(A234,2)<6,C235<>\"\",C234=\"\"),ColTime(T.!$J$7,T.!$L$7,$AF$1,'Hele året (2)'!E234),IF(AND(C234<>\"\",C235<>\"\"),ColTime(T.!$J$7,T.!$L$7,'Hele året (2)'!D234,'Hele året (2)'!E234),IF(AND(OR(WEEKDAY(A234,2)<6,WEEKDAY(A234,2)=6),C234<>\"\",E234<D234),ColTime(T.!$J$7,T.!$L$7,D234,AF231),IF(AND(WEEKDAY(A234,2)=6,E234<D234),ColTime(T.!$J$7,T.!$L$7,$AF$1,E234),IF(AND(E234<D234,OR(C234<>\"\",WEEKDAY(A234,2)=7)),ColTime(T.!J237,T.!L237,D234,$AF$1),IF(AND(E234<>\"\",OR(C234<>\"\",WEEKDAY(A234,2)=7)),ColTime(T.!$J$7,T.!$L$7,D234,E234),\"\")))))),\"\")","v":""},"",null,null,{"$f":"IFERROR(CHOOSE(WEEKDAY(A234,2),norm!C$1,norm!C$2,norm!C$3,norm!C$4,norm!C$5,norm!C$6,norm!C$7),\"\")","v":"07:30:00"}]
["2019-08-20","Ti","",null,null,null,"","00:00:00","",{"$f":"IF(AND(C235=\"\",WEEKDAY(A235,2)<6),ColTime(T.!$J$4,T.!$L$4,D235,E235),\"\")","v":"00:00:00"},null,{"$f":"IF(AND(OR(WEEKDAY(A235,2)=7,C235<>\"\"),E235<D235,C236=\"\"),ColTime($AF$1,$AG$1,'Hele året (2)'!$AF$1,E235),IF(AND(WEEKDAY(A235,2)<6,C236=\"\"),ColTime(T.!$J$5,T.!$L$5,D235,E235),\"\"))","v":"00:00:00"},null,"",{"$f":"IFERROR(IF(AND(WEEKDAY(A235,2)<6,C236<>\"\",C235=\"\"),ColTime(T.!$J$7,T.!$L$7,$AF$1,'Hele året (2)'!E235),IF(AND(C235<>\"\",C236<>\"\"),ColTime(T.!$J$7,T.!$L$7,'Hele året (2)'!D235,'Hele året (2)'!E235),IF(AND(OR(WEEKDAY(A235,2)<6,WEEKDAY(A235,2)=6),C235<>\"\",E235<D235),ColTime(T.!$J$7,T.!$L$7,D235,AF232),IF(AND(WEEKDAY(A235,2)=6,E235<D235),ColTime(T.!$J$7,T.!$L$7,$AF$1,E235),IF(AND(E235<D235,OR(C235<>\"\",WEEKDAY(A235,2)=7)),ColTime(T.!J238,T.!L238,D235,$AF$1),IF(AND(E235<>\"\",OR(C235<>\"\",WEEKDAY(A235,2)=7)),ColTime(T.!$J$7,T.!$L$7,D235,E235),\"\")))))),\"\")","v":""},"",null,null,{"$f":"IFERROR(CHOOSE(WEEKDAY(A235,2),norm!C$1,norm!C$2,norm!C$3,norm!C$4,norm!C$5,norm!C$6,norm!C$7),\"\")","v":"07:30:00"}]
["2019-08-21","On","",null,null,null,"","00:00:00","",{"$f":"IF(AND(C236=\"\",WEEKDAY(A236,2)<6),ColTime(T.!$J$4,T.!$L$4,D236,E236),\"\")","v":"00:00:00"},null,{"$f":"IF(AND(OR(WEEKDAY(A236,2)=7,C236<>\"\"),E236<D236,C237=\"\"),ColTime($AF$1,$AG$1,'Hele året (2)'!$AF$1,E236),IF(AND(WEEKDAY(A236,2)<6,C237=\"\"),ColTime(T.!$J$5,T.!$L$5,D236,E236),\"\"))","v":"00:00:00"},null,"",{"$f":"IFERROR(IF(AND(WEEKDAY(A236,2)<6,C237<>\"\",C236=\"\"),ColTime(T.!$J$7,T.!$L$7,$AF$1,'Hele året (2)'!E236),IF(AND(C236<>\"\",C237<>\"\"),ColTime(T.!$J$7,T.!$L$7,'Hele året (2)'!D236,'Hele året (2)'!E236),IF(AND(OR(WEEKDAY(A236,2)<6,WEEKDAY(A236,2)=6),C236<>\"\",E236<D236),ColTime(T.!$J$7,T.!$L$7,D236,AF233),IF(AND(WEEKDAY(A236,2)=6,E236<D236),ColTime(T.!$J$7,T.!$L$7,$AF$1,E236),IF(AND(E236<D236,OR(C236<>\"\",WEEKDAY(A236,2)=7)),ColTime(T.!J239,T.!L239,D236,$AF$1),IF(AND(E236<>\"\",OR(C236<>\"\",WEEKDAY(A236,2)=7)),ColTime(T.!$J$7,T.!$L$7,D236,E236),\"\")))))),\"\")","v":""},"",null,null,{"$f":"IFERROR(CHOOSE(WEEKDAY(A236,2),norm!C$1,norm!C$2,norm!C$3,norm!C$4,norm!C$5,norm!C$6,norm!C$7),\"\")","v":"07:30:00"}]
["2019-08-22","To","",null,null,null,"","00:00:00","",{"$f":"IF(AND(C237=\"\",WEEKDAY(A237,2)<6),ColTime(T.!$J$4,T.!$L$4,D237,E237),\"\")","v":"00:00:00"},null,{"$f":"IF(AND(OR(WEEKDAY(A237,2)=7,C237<>\"\"),E237<D237,C238=\"\"),ColTime($AF$1,$AG$1,'Hele året (2)'!$AF$1,E237),IF(AND(WEEKDAY(A237,2)<6,C238=\"\"),ColTime(T.!$J$5,T.!$L$5,D237,E237),\"\"))","v":"00:00:00"},null,"",{"$f":"IFERROR(IF(AND(WEEKDAY(A237,2)<6,C238<>\"\",C237=\"\"),ColTime(T.!$J$7,T.!$L$7,$AF$1,'Hele året (2)'!E237),IF(AND(C237<>\"\",C238<>\"\"),ColTime(T.!$J$7,T.!$L$7,'Hele året (2)'!D237,'Hele året (2)'!E237),IF(AND(OR(WEEKDAY(A237,2)<6,WEEKDAY(A237,2)=6),C237<>\"\",E237<D237),ColTime(T.!$J$7,T.!$L$7,D237,AF234),IF(AND(WEEKDAY(A237,2)=6,E237<D237),ColTime(T.!$J$7,T.!$L$7,$AF$1,E237),IF(AND(E237<D237,OR(C237<>\"\",WEEKDAY(A237,2)=7)),ColTime(T.!J240,T.!L240,D237,$AF$1),IF(AND(E237<>\"\",OR(C237<>\"\",WEEKDAY(A237,2)=7)),ColTime(T.!$J$7,T.!$L$7,D237,E237),\"\")))))),\"\")","v":""},"",null,null,{"$f":"IFERROR(CHOOSE(WEEKDAY(A237,2),norm!C$1,norm!C$2,norm!C$3,norm!C$4,norm!C$5,norm!C$6,norm!C$7),\"\")","v":"07:30:00"}]
["2019-08-23","Fr","",null,null,null,"","00:00:00","",{"$f":"IF(AND(C238=\"\",WEEKDAY(A238,2)<6),ColTime(T.!$J$4,T.!$L$4,D238,E238),\"\")","v":"00:00:00"},null,{"$f":"IF(AND(OR(WEEKDAY(A238,2)=7,C238<>\"\"),E238<D238,C239=\"\"),ColTime($AF$1,$AG$1,'Hele året (2)'!$AF$1,E238),IF(AND(WEEKDAY(A238,2)<6,C239=\"\"),ColTime(T.!$J$5,T.!$L$5,D238,E238),\"\"))","v":"00:00:00"},null,"",{"$f":"IFERROR(IF(AND(WEEKDAY(A238,2)<6,C239<>\"\",C238=\"\"),ColTime(T.!$J$7,T.!$L$7,$AF$1,'Hele året (2)'!E238),IF(AND(C238<>\"\",C239<>\"\"),ColTime(T.!$J$7,T.!$L$7,'Hele året (2)'!D238,'Hele året (2)'!E238),IF(AND(OR(WEEKDAY(A238,2)<6,WEEKDAY(A238,2)=6),C238<>\"\",E238<D238),ColTime(T.!$J$7,T.!$L$7,D238,AF235),IF(AND(WEEKDAY(A238,2)=6,E238<D238),ColTime(T.!$J$7,T.!$L$7,$AF$1,E238),IF(AND(E238<D238,OR(C238<>\"\",WEEKDAY(A238,2)=7)),ColTime(T.!J241,T.!L241,D238,$AF$1),IF(AND(E238<>\"\",OR(C238<>\"\",WEEKDAY(A238,2)=7)),ColTime(T.!$J$7,T.!$L$7,D238,E238),\"\")))))),\"\")","v":""},"",null,null,{"$f":"IFERROR(CHOOSE(WEEKDAY(A238,2),norm!C$1,norm!C$2,norm!C$3,norm!C$4,norm!C$5,norm!C$6,norm!C$7),\"\")","v":"07:00:00"}]
["2019-08-24","Lø","",null,null,null,"","00:00:00","",{"$f":"IF(AND(C239=\"\",WEEKDAY(A239,2)<6),ColTime(T.!$J$4,T.!$L$4,D239,E239),\"\")","v":""},null,{"$f":"IF(AND(OR(WEEKDAY(A239,2)=7,C239<>\"\"),E239<D239,C240=\"\"),ColTime($AF$1,$AG$1,'Hele året (2)'!$AF$1,E239),IF(AND(WEEKDAY(A239,2)<6,C240=\"\"),ColTime(T.!$J$5,T.!$L$5,D239,E239),\"\"))","v":""},null,"00:00:00",{"$f":"IFERROR(IF(AND(WEEKDAY(A239,2)<6,C240<>\"\",C239=\"\"),ColTime(T.!$J$7,T.!$L$7,$AF$1,'Hele året (2)'!E239),IF(AND(C239<>\"\",C240<>\"\"),ColTime(T.!$J$7,T.!$L$7,'Hele året (2)'!D239,'Hele året (2)'!E239),IF(AND(OR(WEEKDAY(A239,2)<6,WEEKDAY(A239,2)=6),C239<>\"\",E239<D239),ColTime(T.!$J$7,T.!$L$7,D239,AF236),IF(AND(WEEKDAY(A239,2)=6,E239<D239),ColTime(T.!$J$7,T.!$L$7,$AF$1,E239),IF(AND(E239<D239,OR(C239<>\"\",WEEKDAY(A239,2)=7)),ColTime(T.!J242,T.!L242,D239,$AF$1),IF(AND(E239<>\"\",OR(C239<>\"\",WEEKDAY(A239,2)=7)),ColTime(T.!$J$7,T.!$L$7,D239,E239),\"\")))))),\"\")","v":""},"",null,null,{"$f":"IFERROR(CHOOSE(WEEKDAY(A239,2),norm!C$1,norm!C$2,norm!C$3,norm!C$4,norm!C$5,norm!C$6,norm!C$7),\"\")","v":"00:00:00"}]
["2019-08-25","Sø","",null,null,null,"","00:00:00","",{"$f":"IF(AND(C240=\"\",WEEKDAY(A240,2)<6),ColTime(T.!$J$4,T.!$L$4,D240,E240),\"\")","v":""},null,{"$f":"IF(AND(OR(WEEKDAY(A240,2)=7,C240<>\"\"),E240<D240,C241=\"\"),ColTime($AF$1,$AG$1,'Hele året (2)'!$AF$1,E240),IF(AND(WEEKDAY(A240,2)<6,C241=\"\"),ColTime(T.!$J$5,T.!$L$5,D240,E240),\"\"))","v":""},null,"",{"$f":"IFERROR(IF(AND(WEEKDAY(A240,2)<6,C241<>\"\",C240=\"\"),ColTime(T.!$J$7,T.!$L$7,$AF$1,'Hele året (2)'!E240),IF(AND(C240<>\"\",C241<>\"\"),ColTime(T.!$J$7,T.!$L$7,'Hele året (2)'!D240,'Hele året (2)'!E240),IF(AND(OR(WEEKDAY(A240,2)<6,WEEKDAY(A240,2)=6),C240<>\"\",E240<D240),ColTime(T.!$J$7,T.!$L$7,D240,AF237),IF(AND(WEEKDAY(A240,2)=6,E240<D240),ColTime(T.!$J$7,T.!$L$7,$AF$1,E240),IF(AND(E240<D240,OR(C240<>\"\",WEEKDAY(A240,2)=7)),ColTime(T.!J243,T.!L243,D240,$AF$1),IF(AND(E240<>\"\",OR(C240<>\"\",WEEKDAY(A240,2)=7)),ColTime(T.!$J$7,T.!$L$7,D240,E240),\"\")))))),\"\")","v":""},"",null,null,{"$f":"IFERROR(CHOOSE(WEEKDAY(A240,2),norm!C$1,norm!C$2,norm!C$3,norm!C$4,norm!C$5,norm!C$6,norm!C$7),\"\")","v":"00:00:00"}]
["2019-08-26","Ma","",null,null,null,"","00:00:00","",{"$f":"IF(AND(C241=\"\",WEEKDAY(A241,2)<6),ColTime(T.!$J$4,T.!$L$4,D241,E241),\"\")","v":"00:00:00"},null,{"$f":"IF(AND(OR(WEEKDAY(A241,2)=7,C241<>\"\"),E241<D241,C242=\"\"),ColTime($AF$1,$AG$1,'Hele året (2)'!$AF$1,E241),IF(AND(WEEKDAY(A241,2)<6,C242=\"\"),ColTime(T.!$J$5,T.!$L$5,D241,E241),\"\"))","v":"00:00:00"},null,"",{"$f":"IFERROR(IF(AND(WEEKDAY(A241,2)<6,C242<>\"\",C241=\"\"),ColTime(T.!$J$7,T.!$L$7,$AF$1,'Hele året (2)'!E241),IF(AND(C241<>\"\",C242<>\"\"),ColTime(T.!$J$7,T.!$L$7,'Hele året (2)'!D241,'Hele året (2)'!E241),IF(AND(OR(WEEKDAY(A241,2)<6,WEEKDAY(A241,2)=6),C241<>\"\",E241<D241),ColTime(T.!$J$7,T.!$L$7,D241,AF238),IF(AND(WEEKDAY(A241,2)=6,E241<D241),ColTime(T.!$J$7,T.!$L$7,$AF$1,E241),IF(AND(E241<D241,OR(C241<>\"\",WEEKDAY(A241,2)=7)),ColTime(T.!J244,T.!L244,D241,$AF$1),IF(AND(E241<>\"\",OR(C241<>\"\",WEEKDAY(A241,2)=7)),ColTime(T.!$J$7,T.!$L$7,D241,E241),\"\")))))),\"\")","v":""},"",null,null,{"$f":"IFERROR(CHOOSE(WEEKDAY(A241,2),norm!C$1,norm!C$2,norm!C$3,norm!C$4,norm!C$5,norm!C$6,norm!C$7),\"\")","v":"07:30:00"}]
["2019-08-27","Ti","",null,null,null,"","00:00:00","",{"$f":"IF(AND(C242=\"\",WEEKDAY(A242,2)<6),ColTime(T.!$J$4,T.!$L$4,D242,E242),\"\")","v":"00:00:00"},null,{"$f":"IF(AND(OR(WEEKDAY(A242,2)=7,C242<>\"\"),E242<D242,C243=\"\"),ColTime($AF$1,$AG$1,'Hele året (2)'!$AF$1,E242),IF(AND(WEEKDAY(A242,2)<6,C243=\"\"),ColTime(T.!$J$5,T.!$L$5,D242,E242),\"\"))","v":"00:00:00"},null,"",{"$f":"IFERROR(IF(AND(WEEKDAY(A242,2)<6,C243<>\"\",C242=\"\"),ColTime(T.!$J$7,T.!$L$7,$AF$1,'Hele året (2)'!E242),IF(AND(C242<>\"\",C243<>\"\"),ColTime(T.!$J$7,T.!$L$7,'Hele året (2)'!D242,'Hele året (2)'!E242),IF(AND(OR(WEEKDAY(A242,2)<6,WEEKDAY(A242,2)=6),C242<>\"\",E242<D242),ColTime(T.!$J$7,T.!$L$7,D242,AF239),IF(AND(WEEKDAY(A242,2)=6,E242<D242),ColTime(T.!$J$7,T.!$L$7,$AF$1,E242),IF(AND(E242<D242,OR(C242<>\"\",WEEKDAY(A242,2)=7)),ColTime(T.!J245,T.!L245,D242,$AF$1),IF(AND(E242<>\"\",OR(C242<>\"\",WEEKDAY(A242,2)=7)),ColTime(T.!$J$7,T.!$L$7,D242,E242),\"\")))))),\"\")","v":""},"",null,null,{"$f":"IFERROR(CHOOSE(WEEKDAY(A242,2),norm!C$1,norm!C$2,norm!C$3,norm!C$4,norm!C$5,norm!C$6,norm!C$7),\"\")","v":"07:30:00"}]
["2019-08-28","On","",null,null,null,"","00:00:00","",{"$f":"IF(AND(C243=\"\",WEEKDAY(A243,2)<6),ColTime(T.!$J$4,T.!$L$4,D243,E243),\"\")","v":"00:00:00"},null,{"$f":"IF(AND(OR(WEEKDAY(A243,2)=7,C243<>\"\"),E243<D243,C244=\"\"),ColTime($AF$1,$AG$1,'Hele året (2)'!$AF$1,E243),IF(AND(WEEKDAY(A243,2)<6,C244=\"\"),ColTime(T.!$J$5,T.!$L$5,D243,E243),\"\"))","v":"00:00:00"},null,"",{"$f":"IFERROR(IF(AND(WEEKDAY(A243,2)<6,C244<>\"\",C243=\"\"),ColTime(T.!$J$7,T.!$L$7,$AF$1,'Hele året (2)'!E243),IF(AND(C243<>\"\",C244<>\"\"),ColTime(T.!$J$7,T.!$L$7,'Hele året (2)'!D243,'Hele året (2)'!E243),IF(AND(OR(WEEKDAY(A243,2)<6,WEEKDAY(A243,2)=6),C243<>\"\",E243<D243),ColTime(T.!$J$7,T.!$L$7,D243,AF240),IF(AND(WEEKDAY(A243,2)=6,E243<D243),ColTime(T.!$J$7,T.!$L$7,$AF$1,E243),IF(AND(E243<D243,OR(C243<>\"\",WEEKDAY(A243,2)=7)),ColTime(T.!J246,T.!L246,D243,$AF$1),IF(AND(E243<>\"\",OR(C243<>\"\",WEEKDAY(A243,2)=7)),ColTime(T.!$J$7,T.!$L$7,D243,E243),\"\")))))),\"\")","v":""},"",null,null,{"$f":"IFERROR(CHOOSE(WEEKDAY(A243,2),norm!C$1,norm!C$2,norm!C$3,norm!C$4,norm!C$5,norm!C$6,norm!C$7),\"\")","v":"07:30:00"}]
["2019-08-29","To","",null,null,null,"","00:00:00","",{"$f":"IF(AND(C244=\"\",WEEKDAY(A244,2)<6),ColTime(T.!$J$4,T.!$L$4,D244,E244),\"\")","v":"00:00:00"},null,{"$f":"IF(AND(OR(WEEKDAY(A244,2)=7,C244<>\"\"),E244<D244,C245=\"\"),ColTime($AF$1,$AG$1,'Hele året (2)'!$AF$1,E244),IF(AND(WEEKDAY(A244,2)<6,C245=\"\"),ColTime(T.!$J$5,T.!$L$5,D244,E244),\"\"))","v":"00:00:00"},null,"",{"$f":"IFERROR(IF(AND(WEEKDAY(A244,2)<6,C245<>\"\",C244=\"\"),ColTime(T.!$J$7,T.!$L$7,$AF$1,'Hele året (2)'!E244),IF(AND(C244<>\"\",C245<>\"\"),ColTime(T.!$J$7,T.!$L$7,'Hele året (2)'!D244,'Hele året (2)'!E244),IF(AND(OR(WEEKDAY(A244,2)<6,WEEKDAY(A244,2)=6),C244<>\"\",E244<D244),ColTime(T.!$J$7,T.!$L$7,D244,AF241),IF(AND(WEEKDAY(A244,2)=6,E244<D244),ColTime(T.!$J$7,T.!$L$7,$AF$1,E244),IF(AND(E244<D244,OR(C244<>\"\",WEEKDAY(A244,2)=7)),ColTime(T.!J247,T.!L247,D244,$AF$1),IF(AND(E244<>\"\",OR(C244<>\"\",WEEKDAY(A244,2)=7)),ColTime(T.!$J$7,T.!$L$7,D244,E244),\"\")))))),\"\")","v":""},"",null,null,{"$f":"IFERROR(CHOOSE(WEEKDAY(A244,2),norm!C$1,norm!C$2,norm!C$3,norm!C$4,norm!C$5,norm!C$6,norm!C$7),\"\")","v":"07:30:00"}]
["2019-08-30","Fr","",null,null,null,"","00:00:00","",{"$f":"IF(AND(C245=\"\",WEEKDAY(A245,2)<6),ColTime(T.!$J$4,T.!$L$4,D245,E245),\"\")","v":"00:00:00"},null,{"$f":"IF(AND(OR(WEEKDAY(A245,2)=7,C245<>\"\"),E245<D245,C246=\"\"),ColTime($AF$1,$AG$1,'Hele året (2)'!$AF$1,E245),IF(AND(WEEKDAY(A245,2)<6,C246=\"\"),ColTime(T.!$J$5,T.!$L$5,D245,E245),\"\"))","v":"00:00:00"},null,"",{"$f":"IFERROR(IF(AND(WEEKDAY(A245,2)<6,C246<>\"\",C245=\"\"),ColTime(T.!$J$7,T.!$L$7,$AF$1,'Hele året (2)'!E245),IF(AND(C245<>\"\",C246<>\"\"),ColTime(T.!$J$7,T.!$L$7,'Hele året (2)'!D245,'Hele året (2)'!E245),IF(AND(OR(WEEKDAY(A245,2)<6,WEEKDAY(A245,2)=6),C245<>\"\",E245<D245),ColTime(T.!$J$7,T.!$L$7,D245,AF242),IF(AND(WEEKDAY(A245,2)=6,E245<D245),ColTime(T.!$J$7,T.!$L$7,$AF$1,E245),IF(AND(E245<D245,OR(C245<>\"\",WEEKDAY(A245,2)=7)),ColTime(T.!J248,T.!L248,D245,$AF$1),IF(AND(E245<>\"\",OR(C245<>\"\",WEEKDAY(A245,2)=7)),ColTime(T.!$J$7,T.!$L$7,D245,E245),\"\")))))),\"\")","v":""},"",null,null,{"$f":"IFERROR(CHOOSE(WEEKDAY(A245,2),norm!C$1,norm!C$2,norm!C$3,norm!C$4,norm!C$5,norm!C$6,norm!C$7),\"\")","v":"07:00:00"}]
["2019-08-31","Lø","",null,null,null,"","00:00:00","",{"$f":"IF(AND(C246=\"\",WEEKDAY(A246,2)<6),ColTime(T.!$J$4,T.!$L$4,D246,E246),\"\")","v":""},null,{"$f":"IF(AND(OR(WEEKDAY(A246,2)=7,C246<>\"\"),E246<D246,C247=\"\"),ColTime($AF$1,$AG$1,'Hele året (2)'!$AF$1,E246),IF(AND(WEEKDAY(A246,2)<6,C247=\"\"),ColTime(T.!$J$5,T.!$L$5,D246,E246),\"\"))","v":""},null,"00:00:00",{"$f":"IFERROR(IF(AND(WEEKDAY(A246,2)<6,C247<>\"\",C246=\"\"),ColTime(T.!$J$7,T.!$L$7,$AF$1,'Hele året (2)'!E246),IF(AND(C246<>\"\",C247<>\"\"),ColTime(T.!$J$7,T.!$L$7,'Hele året (2)'!D246,'Hele året (2)'!E246),IF(AND(OR(WEEKDAY(A246,2)<6,WEEKDAY(A246,2)=6),C246<>\"\",E246<D246),ColTime(T.!$J$7,T.!$L$7,D246,AF243),IF(AND(WEEKDAY(A246,2)=6,E246<D246),ColTime(T.!$J$7,T.!$L$7,$AF$1,E246),IF(AND(E246<D246,OR(C246<>\"\",WEEKDAY(A246,2)=7)),ColTime(T.!J249,T.!L249,D246,$AF$1),IF(AND(E246<>\"\",OR(C246<>\"\",WEEKDAY(A246,2)=7)),ColTime(T.!$J$7,T.!$L$7,D246,E246),\"\")))))),\"\")","v":""},"",null,null,{"$f":"IFERROR(CHOOSE(WEEKDAY(A246,2),norm!C$1,norm!C$2,norm!C$3,norm!C$4,norm!C$5,norm!C$6,norm!C$7),\"\")","v":"00:00:00"}]
["2019-09-01","Sø","",null,null,null,"","00:00:00","",{"$f":"IF(AND(C247=\"\",WEEKDAY(A247,2)<6),ColTime(T.!$J$4,T.!$L$4,D247,E247),\"\")","v":""},null,{"$f":"IF(AND(OR(WEEKDAY(A247,2)=7,C247<>\"\"),E247<D247,C248=\"\"),ColTime($AF$1,$AG$1,'Hele året (2)'!$AF$1,E247),IF(AND(WEEKDAY(A247,2)<6,C248=\"\"),ColTime(T.!$J$5,T.!$L$5,D247,E247),\"\"))","v":""},null,"",{"$f":"IFERROR(IF(AND(WEEKDAY(A247,2)<6,C248<>\"\",C247=\"\"),ColTime(T.!$J$7,T.!$L$7,$AF$1,'Hele året (2)'!E247),IF(AND(C247<>\"\",C248<>\"\"),ColTime(T.!$J$7,T.!$L$7,'Hele året (2)'!D247,'Hele året (2)'!E247),IF(AND(OR(WEEKDAY(A247,2)<6,WEEKDAY(A247,2)=6),C247<>\"\",E247<D247),ColTime(T.!$J$7,T.!$L$7,D247,AF244),IF(AND(WEEKDAY(A247,2)=6,E247<D247),ColTime(T.!$J$7,T.!$L$7,$AF$1,E247),IF(AND(E247<D247,OR(C247<>\"\",WEEKDAY(A247,2)=7)),ColTime(T.!J250,T.!L250,D247,$AF$1),IF(AND(E247<>\"\",OR(C247<>\"\",WEEKDAY(A247,2)=7)),ColTime(T.!$J$7,T.!$L$7,D247,E247),\"\")))))),\"\")","v":""},"",null,null,{"$f":"IFERROR(CHOOSE(WEEKDAY(A247,2),norm!C$1,norm!C$2,norm!C$3,norm!C$4,norm!C$5,norm!C$6,norm!C$7),\"\")","v":"00:00:00"}]
["2019-09-02","Ma","",null,null,null,"","00:00:00","",{"$f":"IF(AND(C248=\"\",WEEKDAY(A248,2)<6),ColTime(T.!$J$4,T.!$L$4,D248,E248),\"\")","v":"00:00:00"},null,{"$f":"IF(AND(OR(WEEKDAY(A248,2)=7,C248<>\"\"),E248<D248,C249=\"\"),ColTime($AF$1,$AG$1,'Hele året (2)'!$AF$1,E248),IF(AND(WEEKDAY(A248,2)<6,C249=\"\"),ColTime(T.!$J$5,T.!$L$5,D248,E248),\"\"))","v":"00:00:00"},null,"",{"$f":"IFERROR(IF(AND(WEEKDAY(A248,2)<6,C249<>\"\",C248=\"\"),ColTime(T.!$J$7,T.!$L$7,$AF$1,'Hele året (2)'!E248),IF(AND(C248<>\"\",C249<>\"\"),ColTime(T.!$J$7,T.!$L$7,'Hele året (2)'!D248,'Hele året (2)'!E248),IF(AND(OR(WEEKDAY(A248,2)<6,WEEKDAY(A248,2)=6),C248<>\"\",E248<D248),ColTime(T.!$J$7,T.!$L$7,D248,AF245),IF(AND(WEEKDAY(A248,2)=6,E248<D248),ColTime(T.!$J$7,T.!$L$7,$AF$1,E248),IF(AND(E248<D248,OR(C248<>\"\",WEEKDAY(A248,2)=7)),ColTime(T.!J251,T.!L251,D248,$AF$1),IF(AND(E248<>\"\",OR(C248<>\"\",WEEKDAY(A248,2)=7)),ColTime(T.!$J$7,T.!$L$7,D248,E248),\"\")))))),\"\")","v":""},"",null,null,{"$f":"IFERROR(CHOOSE(WEEKDAY(A248,2),norm!C$1,norm!C$2,norm!C$3,norm!C$4,norm!C$5,norm!C$6,norm!C$7),\"\")","v":"07:30:00"}]
["2019-09-03","Ti","",null,null,null,"","00:00:00","",{"$f":"IF(AND(C249=\"\",WEEKDAY(A249,2)<6),ColTime(T.!$J$4,T.!$L$4,D249,E249),\"\")","v":"00:00:00"},null,{"$f":"IF(AND(OR(WEEKDAY(A249,2)=7,C249<>\"\"),E249<D249,C250=\"\"),ColTime($AF$1,$AG$1,'Hele året (2)'!$AF$1,E249),IF(AND(WEEKDAY(A249,2)<6,C250=\"\"),ColTime(T.!$J$5,T.!$L$5,D249,E249),\"\"))","v":"00:00:00"},null,"",{"$f":"IFERROR(IF(AND(WEEKDAY(A249,2)<6,C250<>\"\",C249=\"\"),ColTime(T.!$J$7,T.!$L$7,$AF$1,'Hele året (2)'!E249),IF(AND(C249<>\"\",C250<>\"\"),ColTime(T.!$J$7,T.!$L$7,'Hele året (2)'!D249,'Hele året (2)'!E249),IF(AND(OR(WEEKDAY(A249,2)<6,WEEKDAY(A249,2)=6),C249<>\"\",E249<D249),ColTime(T.!$J$7,T.!$L$7,D249,AF246),IF(AND(WEEKDAY(A249,2)=6,E249<D249),ColTime(T.!$J$7,T.!$L$7,$AF$1,E249),IF(AND(E249<D249,OR(C249<>\"\",WEEKDAY(A249,2)=7)),ColTime(T.!J252,T.!L252,D249,$AF$1),IF(AND(E249<>\"\",OR(C249<>\"\",WEEKDAY(A249,2)=7)),ColTime(T.!$J$7,T.!$L$7,D249,E249),\"\")))))),\"\")","v":""},"",null,null,{"$f":"IFERROR(CHOOSE(WEEKDAY(A249,2),norm!C$1,norm!C$2,norm!C$3,norm!C$4,norm!C$5,norm!C$6,norm!C$7),\"\")","v":"07:30:00"}]
["2019-09-04","On","",null,null,null,"","00:00:00","",{"$f":"IF(AND(C250=\"\",WEEKDAY(A250,2)<6),ColTime(T.!$J$4,T.!$L$4,D250,E250),\"\")","v":"00:00:00"},null,{"$f":"IF(AND(OR(WEEKDAY(A250,2)=7,C250<>\"\"),E250<D250,C251=\"\"),ColTime($AF$1,$AG$1,'Hele året (2)'!$AF$1,E250),IF(AND(WEEKDAY(A250,2)<6,C251=\"\"),ColTime(T.!$J$5,T.!$L$5,D250,E250),\"\"))","v":"00:00:00"},null,"",{"$f":"IFERROR(IF(AND(WEEKDAY(A250,2)<6,C251<>\"\",C250=\"\"),ColTime(T.!$J$7,T.!$L$7,$AF$1,'Hele året (2)'!E250),IF(AND(C250<>\"\",C251<>\"\"),ColTime(T.!$J$7,T.!$L$7,'Hele året (2)'!D250,'Hele året (2)'!E250),IF(AND(OR(WEEKDAY(A250,2)<6,WEEKDAY(A250,2)=6),C250<>\"\",E250<D250),ColTime(T.!$J$7,T.!$L$7,D250,AF247),IF(AND(WEEKDAY(A250,2)=6,E250<D250),ColTime(T.!$J$7,T.!$L$7,$AF$1,E250),IF(AND(E250<D250,OR(C250<>\"\",WEEKDAY(A250,2)=7)),ColTime(T.!J253,T.!L253,D250,$AF$1),IF(AND(E250<>\"\",OR(C250<>\"\",WEEKDAY(A250,2)=7)),ColTime(T.!$J$7,T.!$L$7,D250,E250),\"\")))))),\"\")","v":""},"",null,null,{"$f":"IFERROR(CHOOSE(WEEKDAY(A250,2),norm!C$1,norm!C$2,norm!C$3,norm!C$4,norm!C$5,norm!C$6,norm!C$7),\"\")","v":"07:30:00"}]
["2019-09-05","To","",null,null,null,"","00:00:00","",{"$f":"IF(AND(C251=\"\",WEEKDAY(A251,2)<6),ColTime(T.!$J$4,T.!$L$4,D251,E251),\"\")","v":"00:00:00"},null,{"$f":"IF(AND(OR(WEEKDAY(A251,2)=7,C251<>\"\"),E251<D251,C252=\"\"),ColTime($AF$1,$AG$1,'Hele året (2)'!$AF$1,E251),IF(AND(WEEKDAY(A251,2)<6,C252=\"\"),ColTime(T.!$J$5,T.!$L$5,D251,E251),\"\"))","v":"00:00:00"},null,"",{"$f":"IFERROR(IF(AND(WEEKDAY(A251,2)<6,C252<>\"\",C251=\"\"),ColTime(T.!$J$7,T.!$L$7,$AF$1,'Hele året (2)'!E251),IF(AND(C251<>\"\",C252<>\"\"),ColTime(T.!$J$7,T.!$L$7,'Hele året (2)'!D251,'Hele året (2)'!E251),IF(AND(OR(WEEKDAY(A251,2)<6,WEEKDAY(A251,2)=6),C251<>\"\",E251<D251),ColTime(T.!$J$7,T.!$L$7,D251,AF248),IF(AND(WEEKDAY(A251,2)=6,E251<D251),ColTime(T.!$J$7,T.!$L$7,$AF$1,E251),IF(AND(E251<D251,OR(C251<>\"\",WEEKDAY(A251,2)=7)),ColTime(T.!J254,T.!L254,D251,$AF$1),IF(AND(E251<>\"\",OR(C251<>\"\",WEEKDAY(A251,2)=7)),ColTime(T.!$J$7,T.!$L$7,D251,E251),\"\")))))),\"\")","v":""},"",null,null,{"$f":"IFERROR(CHOOSE(WEEKDAY(A251,2),norm!C$1,norm!C$2,norm!C$3,norm!C$4,norm!C$5,norm!C$6,norm!C$7),\"\")","v":"07:30:00"}]
["2019-09-06","Fr","",null,null,null,"","00:00:00","",{"$f":"IF(AND(C252=\"\",WEEKDAY(A252,2)<6),ColTime(T.!$J$4,T.!$L$4,D252,E252),\"\")","v":"00:00:00"},null,{"$f":"IF(AND(OR(WEEKDAY(A252,2)=7,C252<>\"\"),E252<D252,C253=\"\"),ColTime($AF$1,$AG$1,'Hele året (2)'!$AF$1,E252),IF(AND(WEEKDAY(A252,2)<6,C253=\"\"),ColTime(T.!$J$5,T.!$L$5,D252,E252),\"\"))","v":"00:00:00"},null,"",{"$f":"IFERROR(IF(AND(WEEKDAY(A252,2)<6,C253<>\"\",C252=\"\"),ColTime(T.!$J$7,T.!$L$7,$AF$1,'Hele året (2)'!E252),IF(AND(C252<>\"\",C253<>\"\"),ColTime(T.!$J$7,T.!$L$7,'Hele året (2)'!D252,'Hele året (2)'!E252),IF(AND(OR(WEEKDAY(A252,2)<6,WEEKDAY(A252,2)=6),C252<>\"\",E252<D252),ColTime(T.!$J$7,T.!$L$7,D252,AF249),IF(AND(WEEKDAY(A252,2)=6,E252<D252),ColTime(T.!$J$7,T.!$L$7,$AF$1,E252),IF(AND(E252<D252,OR(C252<>\"\",WEEKDAY(A252,2)=7)),ColTime(T.!J255,T.!L255,D252,$AF$1),IF(AND(E252<>\"\",OR(C252<>\"\",WEEKDAY(A252,2)=7)),ColTime(T.!$J$7,T.!$L$7,D252,E252),\"\")))))),\"\")","v":""},"",null,null,{"$f":"IFERROR(CHOOSE(WEEKDAY(A252,2),norm!C$1,norm!C$2,norm!C$3,norm!C$4,norm!C$5,norm!C$6,norm!C$7),\"\")","v":"07:00:00"}]
["2019-09-07","Lø","",null,null,null,"","00:00:00","",{"$f":"IF(AND(C253=\"\",WEEKDAY(A253,2)<6),ColTime(T.!$J$4,T.!$L$4,D253,E253),\"\")","v":""},null,{"$f":"IF(AND(OR(WEEKDAY(A253,2)=7,C253<>\"\"),E253<D253,C254=\"\"),ColTime($AF$1,$AG$1,'Hele året (2)'!$AF$1,E253),IF(AND(WEEKDAY(A253,2)<6,C254=\"\"),ColTime(T.!$J$5,T.!$L$5,D253,E253),\"\"))","v":""},null,"00:00:00",{"$f":"IFERROR(IF(AND(WEEKDAY(A253,2)<6,C254<>\"\",C253=\"\"),ColTime(T.!$J$7,T.!$L$7,$AF$1,'Hele året (2)'!E253),IF(AND(C253<>\"\",C254<>\"\"),ColTime(T.!$J$7,T.!$L$7,'Hele året (2)'!D253,'Hele året (2)'!E253),IF(AND(OR(WEEKDAY(A253,2)<6,WEEKDAY(A253,2)=6),C253<>\"\",E253<D253),ColTime(T.!$J$7,T.!$L$7,D253,AF250),IF(AND(WEEKDAY(A253,2)=6,E253<D253),ColTime(T.!$J$7,T.!$L$7,$AF$1,E253),IF(AND(E253<D253,OR(C253<>\"\",WEEKDAY(A253,2)=7)),ColTime(T.!J256,T.!L256,D253,$AF$1),IF(AND(E253<>\"\",OR(C253<>\"\",WEEKDAY(A253,2)=7)),ColTime(T.!$J$7,T.!$L$7,D253,E253),\"\")))))),\"\")","v":""},"",null,null,{"$f":"IFERROR(CHOOSE(WEEKDAY(A253,2),norm!C$1,norm!C$2,norm!C$3,norm!C$4,norm!C$5,norm!C$6,norm!C$7),\"\")","v":"00:00:00"}]
["2019-09-08","Sø","",null,null,null,"","00:00:00","",{"$f":"IF(AND(C254=\"\",WEEKDAY(A254,2)<6),ColTime(T.!$J$4,T.!$L$4,D254,E254),\"\")","v":""},null,{"$f":"IF(AND(OR(WEEKDAY(A254,2)=7,C254<>\"\"),E254<D254,C255=\"\"),ColTime($AF$1,$AG$1,'Hele året (2)'!$AF$1,E254),IF(AND(WEEKDAY(A254,2)<6,C255=\"\"),ColTime(T.!$J$5,T.!$L$5,D254,E254),\"\"))","v":""},null,"",{"$f":"IFERROR(IF(AND(WEEKDAY(A254,2)<6,C255<>\"\",C254=\"\"),ColTime(T.!$J$7,T.!$L$7,$AF$1,'Hele året (2)'!E254),IF(AND(C254<>\"\",C255<>\"\"),ColTime(T.!$J$7,T.!$L$7,'Hele året (2)'!D254,'Hele året (2)'!E254),IF(AND(OR(WEEKDAY(A254,2)<6,WEEKDAY(A254,2)=6),C254<>\"\",E254<D254),ColTime(T.!$J$7,T.!$L$7,D254,AF251),IF(AND(WEEKDAY(A254,2)=6,E254<D254),ColTime(T.!$J$7,T.!$L$7,$AF$1,E254),IF(AND(E254<D254,OR(C254<>\"\",WEEKDAY(A254,2)=7)),ColTime(T.!J257,T.!L257,D254,$AF$1),IF(AND(E254<>\"\",OR(C254<>\"\",WEEKDAY(A254,2)=7)),ColTime(T.!$J$7,T.!$L$7,D254,E254),\"\")))))),\"\")","v":""},"",null,null,{"$f":"IFERROR(CHOOSE(WEEKDAY(A254,2),norm!C$1,norm!C$2,norm!C$3,norm!C$4,norm!C$5,norm!C$6,norm!C$7),\"\")","v":"00:00:00"}]
["2019-09-09","Ma","",null,null,null,"","00:00:00","",{"$f":"IF(AND(C255=\"\",WEEKDAY(A255,2)<6),ColTime(T.!$J$4,T.!$L$4,D255,E255),\"\")","v":"00:00:00"},null,{"$f":"IF(AND(OR(WEEKDAY(A255,2)=7,C255<>\"\"),E255<D255,C256=\"\"),ColTime($AF$1,$AG$1,'Hele året (2)'!$AF$1,E255),IF(AND(WEEKDAY(A255,2)<6,C256=\"\"),ColTime(T.!$J$5,T.!$L$5,D255,E255),\"\"))","v":"00:00:00"},null,"",{"$f":"IFERROR(IF(AND(WEEKDAY(A255,2)<6,C256<>\"\",C255=\"\"),ColTime(T.!$J$7,T.!$L$7,$AF$1,'Hele året (2)'!E255),IF(AND(C255<>\"\",C256<>\"\"),ColTime(T.!$J$7,T.!$L$7,'Hele året (2)'!D255,'Hele året (2)'!E255),IF(AND(OR(WEEKDAY(A255,2)<6,WEEKDAY(A255,2)=6),C255<>\"\",E255<D255),ColTime(T.!$J$7,T.!$L$7,D255,AF252),IF(AND(WEEKDAY(A255,2)=6,E255<D255),ColTime(T.!$J$7,T.!$L$7,$AF$1,E255),IF(AND(E255<D255,OR(C255<>\"\",WEEKDAY(A255,2)=7)),ColTime(T.!J258,T.!L258,D255,$AF$1),IF(AND(E255<>\"\",OR(C255<>\"\",WEEKDAY(A255,2)=7)),ColTime(T.!$J$7,T.!$L$7,D255,E255),\"\")))))),\"\")","v":""},"",null,null,{"$f":"IFERROR(CHOOSE(WEEKDAY(A255,2),norm!C$1,norm!C$2,norm!C$3,norm!C$4,norm!C$5,norm!C$6,norm!C$7),\"\")","v":"07:30:00"}]
["2019-09-10","Ti","",null,null,null,"","00:00:00","",{"$f":"IF(AND(C256=\"\",WEEKDAY(A256,2)<6),ColTime(T.!$J$4,T.!$L$4,D256,E256),\"\")","v":"00:00:00"},null,{"$f":"IF(AND(OR(WEEKDAY(A256,2)=7,C256<>\"\"),E256<D256,C257=\"\"),ColTime($AF$1,$AG$1,'Hele året (2)'!$AF$1,E256),IF(AND(WEEKDAY(A256,2)<6,C257=\"\"),ColTime(T.!$J$5,T.!$L$5,D256,E256),\"\"))","v":"00:00:00"},null,"",{"$f":"IFERROR(IF(AND(WEEKDAY(A256,2)<6,C257<>\"\",C256=\"\"),ColTime(T.!$J$7,T.!$L$7,$AF$1,'Hele året (2)'!E256),IF(AND(C256<>\"\",C257<>\"\"),ColTime(T.!$J$7,T.!$L$7,'Hele året (2)'!D256,'Hele året (2)'!E256),IF(AND(OR(WEEKDAY(A256,2)<6,WEEKDAY(A256,2)=6),C256<>\"\",E256<D256),ColTime(T.!$J$7,T.!$L$7,D256,AF253),IF(AND(WEEKDAY(A256,2)=6,E256<D256),ColTime(T.!$J$7,T.!$L$7,$AF$1,E256),IF(AND(E256<D256,OR(C256<>\"\",WEEKDAY(A256,2)=7)),ColTime(T.!J259,T.!L259,D256,$AF$1),IF(AND(E256<>\"\",OR(C256<>\"\",WEEKDAY(A256,2)=7)),ColTime(T.!$J$7,T.!$L$7,D256,E256),\"\")))))),\"\")","v":""},"",null,null,{"$f":"IFERROR(CHOOSE(WEEKDAY(A256,2),norm!C$1,norm!C$2,norm!C$3,norm!C$4,norm!C$5,norm!C$6,norm!C$7),\"\")","v":"07:30:00"}]
["2019-09-11","On","",null,null,null,"","00:00:00","",{"$f":"IF(AND(C257=\"\",WEEKDAY(A257,2)<6),ColTime(T.!$J$4,T.!$L$4,D257,E257),\"\")","v":"00:00:00"},null,{"$f":"IF(AND(OR(WEEKDAY(A257,2)=7,C257<>\"\"),E257<D257,C258=\"\"),ColTime($AF$1,$AG$1,'Hele året (2)'!$AF$1,E257),IF(AND(WEEKDAY(A257,2)<6,C258=\"\"),ColTime(T.!$J$5,T.!$L$5,D257,E257),\"\"))","v":"00:00:00"},null,"",{"$f":"IFERROR(IF(AND(WEEKDAY(A257,2)<6,C258<>\"\",C257=\"\"),ColTime(T.!$J$7,T.!$L$7,$AF$1,'Hele året (2)'!E257),IF(AND(C257<>\"\",C258<>\"\"),ColTime(T.!$J$7,T.!$L$7,'Hele året (2)'!D257,'Hele året (2)'!E257),IF(AND(OR(WEEKDAY(A257,2)<6,WEEKDAY(A257,2)=6),C257<>\"\",E257<D257),ColTime(T.!$J$7,T.!$L$7,D257,AF254),IF(AND(WEEKDAY(A257,2)=6,E257<D257),ColTime(T.!$J$7,T.!$L$7,$AF$1,E257),IF(AND(E257<D257,OR(C257<>\"\",WEEKDAY(A257,2)=7)),ColTime(T.!J260,T.!L260,D257,$AF$1),IF(AND(E257<>\"\",OR(C257<>\"\",WEEKDAY(A257,2)=7)),ColTime(T.!$J$7,T.!$L$7,D257,E257),\"\")))))),\"\")","v":""},"",null,null,{"$f":"IFERROR(CHOOSE(WEEKDAY(A257,2),norm!C$1,norm!C$2,norm!C$3,norm!C$4,norm!C$5,norm!C$6,norm!C$7),\"\")","v":"07:30:00"}]
["2019-09-12","To","",null,null,null,"","00:00:00","",{"$f":"IF(AND(C258=\"\",WEEKDAY(A258,2)<6),ColTime(T.!$J$4,T.!$L$4,D258,E258),\"\")","v":"00:00:00"},null,{"$f":"IF(AND(OR(WEEKDAY(A258,2)=7,C258<>\"\"),E258<D258,C259=\"\"),ColTime($AF$1,$AG$1,'Hele året (2)'!$AF$1,E258),IF(AND(WEEKDAY(A258,2)<6,C259=\"\"),ColTime(T.!$J$5,T.!$L$5,D258,E258),\"\"))","v":"00:00:00"},null,"",{"$f":"IFERROR(IF(AND(WEEKDAY(A258,2)<6,C259<>\"\",C258=\"\"),ColTime(T.!$J$7,T.!$L$7,$AF$1,'Hele året (2)'!E258),IF(AND(C258<>\"\",C259<>\"\"),ColTime(T.!$J$7,T.!$L$7,'Hele året (2)'!D258,'Hele året (2)'!E258),IF(AND(OR(WEEKDAY(A258,2)<6,WEEKDAY(A258,2)=6),C258<>\"\",E258<D258),ColTime(T.!$J$7,T.!$L$7,D258,AF255),IF(AND(WEEKDAY(A258,2)=6,E258<D258),ColTime(T.!$J$7,T.!$L$7,$AF$1,E258),IF(AND(E258<D258,OR(C258<>\"\",WEEKDAY(A258,2)=7)),ColTime(T.!J261,T.!L261,D258,$AF$1),IF(AND(E258<>\"\",OR(C258<>\"\",WEEKDAY(A258,2)=7)),ColTime(T.!$J$7,T.!$L$7,D258,E258),\"\")))))),\"\")","v":""},"",null,null,{"$f":"IFERROR(CHOOSE(WEEKDAY(A258,2),norm!C$1,norm!C$2,norm!C$3,norm!C$4,norm!C$5,norm!C$6,norm!C$7),\"\")","v":"07:30:00"}]
["2019-09-13","Fr","",null,null,null,"","00:00:00","",{"$f":"IF(AND(C259=\"\",WEEKDAY(A259,2)<6),ColTime(T.!$J$4,T.!$L$4,D259,E259),\"\")","v":"00:00:00"},null,{"$f":"IF(AND(OR(WEEKDAY(A259,2)=7,C259<>\"\"),E259<D259,C260=\"\"),ColTime($AF$1,$AG$1,'Hele året (2)'!$AF$1,E259),IF(AND(WEEKDAY(A259,2)<6,C260=\"\"),ColTime(T.!$J$5,T.!$L$5,D259,E259),\"\"))","v":"00:00:00"},null,"",{"$f":"IFERROR(IF(AND(WEEKDAY(A259,2)<6,C260<>\"\",C259=\"\"),ColTime(T.!$J$7,T.!$L$7,$AF$1,'Hele året (2)'!E259),IF(AND(C259<>\"\",C260<>\"\"),ColTime(T.!$J$7,T.!$L$7,'Hele året (2)'!D259,'Hele året (2)'!E259),IF(AND(OR(WEEKDAY(A259,2)<6,WEEKDAY(A259,2)=6),C259<>\"\",E259<D259),ColTime(T.!$J$7,T.!$L$7,D259,AF256),IF(AND(WEEKDAY(A259,2)=6,E259<D259),ColTime(T.!$J$7,T.!$L$7,$AF$1,E259),IF(AND(E259<D259,OR(C259<>\"\",WEEKDAY(A259,2)=7)),ColTime(T.!J262,T.!L262,D259,$AF$1),IF(AND(E259<>\"\",OR(C259<>\"\",WEEKDAY(A259,2)=7)),ColTime(T.!$J$7,T.!$L$7,D259,E259),\"\")))))),\"\")","v":""},"",null,null,{"$f":"IFERROR(CHOOSE(WEEKDAY(A259,2),norm!C$1,norm!C$2,norm!C$3,norm!C$4,norm!C$5,norm!C$6,norm!C$7),\"\")","v":"07:00:00"}]
["2019-09-14","Lø","",null,null,null,"","00:00:00","",{"$f":"IF(AND(C260=\"\",WEEKDAY(A260,2)<6),ColTime(T.!$J$4,T.!$L$4,D260,E260),\"\")","v":""},null,{"$f":"IF(AND(OR(WEEKDAY(A260,2)=7,C260<>\"\"),E260<D260,C261=\"\"),ColTime($AF$1,$AG$1,'Hele året (2)'!$AF$1,E260),IF(AND(WEEKDAY(A260,2)<6,C261=\"\"),ColTime(T.!$J$5,T.!$L$5,D260,E260),\"\"))","v":""},null,"00:00:00",{"$f":"IFERROR(IF(AND(WEEKDAY(A260,2)<6,C261<>\"\",C260=\"\"),ColTime(T.!$J$7,T.!$L$7,$AF$1,'Hele året (2)'!E260),IF(AND(C260<>\"\",C261<>\"\"),ColTime(T.!$J$7,T.!$L$7,'Hele året (2)'!D260,'Hele året (2)'!E260),IF(AND(OR(WEEKDAY(A260,2)<6,WEEKDAY(A260,2)=6),C260<>\"\",E260<D260),ColTime(T.!$J$7,T.!$L$7,D260,AF257),IF(AND(WEEKDAY(A260,2)=6,E260<D260),ColTime(T.!$J$7,T.!$L$7,$AF$1,E260),IF(AND(E260<D260,OR(C260<>\"\",WEEKDAY(A260,2)=7)),ColTime(T.!J263,T.!L263,D260,$AF$1),IF(AND(E260<>\"\",OR(C260<>\"\",WEEKDAY(A260,2)=7)),ColTime(T.!$J$7,T.!$L$7,D260,E260),\"\")))))),\"\")","v":""},"",null,null,{"$f":"IFERROR(CHOOSE(WEEKDAY(A260,2),norm!C$1,norm!C$2,norm!C$3,norm!C$4,norm!C$5,norm!C$6,norm!C$7),\"\")","v":"00:00:00"}]
["2019-09-15","Sø","","16:00:00","20:00:00",null,{"$f":"IF(D261=\"\",\"\",(E261-D261)+(D261>E261)-F261)","v":0.16666666666666674},{"$f":"IF(G261=\"\",0,IF(WEEKDAY(A261,2)=7,0,IF(G261>S261,MIN(G261-S261,$AI$1),0)))","v":"00:00:00"},{"$f":"IF(G261=\"\",\"\",IF(G261>S261+H261,G261-(S261+H261),\"\"))","v":"04:00:00"},{"$f":"IF(AND(C261=\"\",WEEKDAY(A261,2)<6),ColTime(T.!$J$4,T.!$L$4,D261,E261),\"\")","v":""},null,{"$f":"IF(AND(OR(WEEKDAY(A261,2)=7,C261<>\"\"),E261<D261,C262=\"\"),ColTime($AF$1,$AG$1,'Hele året (2)'!$AF$1,E261),IF(AND(WEEKDAY(A261,2)<6,C262=\"\"),ColTime(T.!$J$5,T.!$L$5,D261,E261),\"\"))","v":""},null,"",{"$f":"IFERROR(IF(AND(WEEKDAY(A261,2)<6,C262<>\"\",C261=\"\"),ColTime(T.!$J$7,T.!$L$7,$AF$1,'Hele året (2)'!E261),IF(AND(C261<>\"\",C262<>\"\"),ColTime(T.!$J$7,T.!$L$7,'Hele året (2)'!D261,'Hele året (2)'!E261),IF(AND(OR(WEEKDAY(A261,2)<6,WEEKDAY(A261,2)=6),C261<>\"\",E261<D261),ColTime(T.!$J$7,T.!$L$7,D261,AF258),IF(AND(WEEKDAY(A261,2)=6,E261<D261),ColTime(T.!$J$7,T.!$L$7,$AF$1,E261),IF(AND(E261<D261,OR(C261<>\"\",WEEKDAY(A261,2)=7)),ColTime(T.!J264,T.!L264,D261,$AF$1),IF(AND(E261<>\"\",OR(C261<>\"\",WEEKDAY(A261,2)=7)),ColTime(T.!$J$7,T.!$L$7,D261,E261),\"\")))))),\"\")","v":"04:00:00"},"04:00:00",null,null,{"$f":"IFERROR(CHOOSE(WEEKDAY(A261,2),norm!C$1,norm!C$2,norm!C$3,norm!C$4,norm!C$5,norm!C$6,norm!C$7),\"\")","v":"00:00:00"}]
["2019-09-16","Ma","",null,null,null,"","00:00:00","",{"$f":"IF(AND(C262=\"\",WEEKDAY(A262,2)<6),ColTime(T.!$J$4,T.!$L$4,D262,E262),\"\")","v":"00:00:00"},null,{"$f":"IF(AND(OR(WEEKDAY(A262,2)=7,C262<>\"\"),E262<D262,C263=\"\"),ColTime($AF$1,$AG$1,'Hele året (2)'!$AF$1,E262),IF(AND(WEEKDAY(A262,2)<6,C263=\"\"),ColTime(T.!$J$5,T.!$L$5,D262,E262),\"\"))","v":"00:00:00"},null,"",{"$f":"IFERROR(IF(AND(WEEKDAY(A262,2)<6,C263<>\"\",C262=\"\"),ColTime(T.!$J$7,T.!$L$7,$AF$1,'Hele året (2)'!E262),IF(AND(C262<>\"\",C263<>\"\"),ColTime(T.!$J$7,T.!$L$7,'Hele året (2)'!D262,'Hele året (2)'!E262),IF(AND(OR(WEEKDAY(A262,2)<6,WEEKDAY(A262,2)=6),C262<>\"\",E262<D262),ColTime(T.!$J$7,T.!$L$7,D262,AF259),IF(AND(WEEKDAY(A262,2)=6,E262<D262),ColTime(T.!$J$7,T.!$L$7,$AF$1,E262),IF(AND(E262<D262,OR(C262<>\"\",WEEKDAY(A262,2)=7)),ColTime(T.!J265,T.!L265,D262,$AF$1),IF(AND(E262<>\"\",OR(C262<>\"\",WEEKDAY(A262,2)=7)),ColTime(T.!$J$7,T.!$L$7,D262,E262),\"\")))))),\"\")","v":""},"",null,null,{"$f":"IFERROR(CHOOSE(WEEKDAY(A262,2),norm!C$1,norm!C$2,norm!C$3,norm!C$4,norm!C$5,norm!C$6,norm!C$7),\"\")","v":"07:30:00"}]
["2019-09-17","Ti","",null,null,null,"","00:00:00","",{"$f":"IF(AND(C263=\"\",WEEKDAY(A263,2)<6),ColTime(T.!$J$4,T.!$L$4,D263,E263),\"\")","v":"00:00:00"},null,{"$f":"IF(AND(OR(WEEKDAY(A263,2)=7,C263<>\"\"),E263<D263,C264=\"\"),ColTime($AF$1,$AG$1,'Hele året (2)'!$AF$1,E263),IF(AND(WEEKDAY(A263,2)<6,C264=\"\"),ColTime(T.!$J$5,T.!$L$5,D263,E263),\"\"))","v":"00:00:00"},null,"",{"$f":"IFERROR(IF(AND(WEEKDAY(A263,2)<6,C264<>\"\",C263=\"\"),ColTime(T.!$J$7,T.!$L$7,$AF$1,'Hele året (2)'!E263),IF(AND(C263<>\"\",C264<>\"\"),ColTime(T.!$J$7,T.!$L$7,'Hele året (2)'!D263,'Hele året (2)'!E263),IF(AND(OR(WEEKDAY(A263,2)<6,WEEKDAY(A263,2)=6),C263<>\"\",E263<D263),ColTime(T.!$J$7,T.!$L$7,D263,AF260),IF(AND(WEEKDAY(A263,2)=6,E263<D263),ColTime(T.!$J$7,T.!$L$7,$AF$1,E263),IF(AND(E263<D263,OR(C263<>\"\",WEEKDAY(A263,2)=7)),ColTime(T.!J266,T.!L266,D263,$AF$1),IF(AND(E263<>\"\",OR(C263<>\"\",WEEKDAY(A263,2)=7)),ColTime(T.!$J$7,T.!$L$7,D263,E263),\"\")))))),\"\")","v":""},"",null,null,{"$f":"IFERROR(CHOOSE(WEEKDAY(A263,2),norm!C$1,norm!C$2,norm!C$3,norm!C$4,norm!C$5,norm!C$6,norm!C$7),\"\")","v":"07:30:00"}]
["2019-09-18","On","",null,null,null,"","00:00:00","",{"$f":"IF(AND(C264=\"\",WEEKDAY(A264,2)<6),ColTime(T.!$J$4,T.!$L$4,D264,E264),\"\")","v":"00:00:00"},null,{"$f":"IF(AND(OR(WEEKDAY(A264,2)=7,C264<>\"\"),E264<D264,C265=\"\"),ColTime($AF$1,$AG$1,'Hele året (2)'!$AF$1,E264),IF(AND(WEEKDAY(A264,2)<6,C265=\"\"),ColTime(T.!$J$5,T.!$L$5,D264,E264),\"\"))","v":"00:00:00"},null,"",{"$f":"IFERROR(IF(AND(WEEKDAY(A264,2)<6,C265<>\"\",C264=\"\"),ColTime(T.!$J$7,T.!$L$7,$AF$1,'Hele året (2)'!E264),IF(AND(C264<>\"\",C265<>\"\"),ColTime(T.!$J$7,T.!$L$7,'Hele året (2)'!D264,'Hele året (2)'!E264),IF(AND(OR(WEEKDAY(A264,2)<6,WEEKDAY(A264,2)=6),C264<>\"\",E264<D264),ColTime(T.!$J$7,T.!$L$7,D264,AF261),IF(AND(WEEKDAY(A264,2)=6,E264<D264),ColTime(T.!$J$7,T.!$L$7,$AF$1,E264),IF(AND(E264<D264,OR(C264<>\"\",WEEKDAY(A264,2)=7)),ColTime(T.!J267,T.!L267,D264,$AF$1),IF(AND(E264<>\"\",OR(C264<>\"\",WEEKDAY(A264,2)=7)),ColTime(T.!$J$7,T.!$L$7,D264,E264),\"\")))))),\"\")","v":""},"",null,null,{"$f":"IFERROR(CHOOSE(WEEKDAY(A264,2),norm!C$1,norm!C$2,norm!C$3,norm!C$4,norm!C$5,norm!C$6,norm!C$7),\"\")","v":"07:30:00"}]
["2019-09-19","To","",null,null,null,"","00:00:00","",{"$f":"IF(AND(C265=\"\",WEEKDAY(A265,2)<6),ColTime(T.!$J$4,T.!$L$4,D265,E265),\"\")","v":"00:00:00"},null,{"$f":"IF(AND(OR(WEEKDAY(A265,2)=7,C265<>\"\"),E265<D265,C266=\"\"),ColTime($AF$1,$AG$1,'Hele året (2)'!$AF$1,E265),IF(AND(WEEKDAY(A265,2)<6,C266=\"\"),ColTime(T.!$J$5,T.!$L$5,D265,E265),\"\"))","v":"00:00:00"},null,"",{"$f":"IFERROR(IF(AND(WEEKDAY(A265,2)<6,C266<>\"\",C265=\"\"),ColTime(T.!$J$7,T.!$L$7,$AF$1,'Hele året (2)'!E265),IF(AND(C265<>\"\",C266<>\"\"),ColTime(T.!$J$7,T.!$L$7,'Hele året (2)'!D265,'Hele året (2)'!E265),IF(AND(OR(WEEKDAY(A265,2)<6,WEEKDAY(A265,2)=6),C265<>\"\",E265<D265),ColTime(T.!$J$7,T.!$L$7,D265,AF262),IF(AND(WEEKDAY(A265,2)=6,E265<D265),ColTime(T.!$J$7,T.!$L$7,$AF$1,E265),IF(AND(E265<D265,OR(C265<>\"\",WEEKDAY(A265,2)=7)),ColTime(T.!J268,T.!L268,D265,$AF$1),IF(AND(E265<>\"\",OR(C265<>\"\",WEEKDAY(A265,2)=7)),ColTime(T.!$J$7,T.!$L$7,D265,E265),\"\")))))),\"\")","v":""},{"$f":"IFERROR(H265+I265,\"\")","v":""},null,null,{"$f":"IFERROR(CHOOSE(WEEKDAY(A265,2),norm!C$1,norm!C$2,norm!C$3,norm!C$4,norm!C$5,norm!C$6,norm!C$7),\"\")","v":"07:30:00"}]
["2019-09-20","Fr","",null,null,null,"","00:00:00","",{"$f":"IF(AND(C266=\"\",WEEKDAY(A266,2)<6),ColTime(T.!$J$4,T.!$L$4,D266,E266),\"\")","v":"00:00:00"},null,{"$f":"IF(AND(OR(WEEKDAY(A266,2)=7,C266<>\"\"),E266<D266,C267=\"\"),ColTime($AF$1,$AG$1,'Hele året (2)'!$AF$1,E266),IF(AND(WEEKDAY(A266,2)<6,C267=\"\"),ColTime(T.!$J$5,T.!$L$5,D266,E266),\"\"))","v":"00:00:00"},null,"",{"$f":"IFERROR(IF(AND(WEEKDAY(A266,2)<6,C267<>\"\",C266=\"\"),ColTime(T.!$J$7,T.!$L$7,$AF$1,'Hele året (2)'!E266),IF(AND(C266<>\"\",C267<>\"\"),ColTime(T.!$J$7,T.!$L$7,'Hele året (2)'!D266,'Hele året (2)'!E266),IF(AND(OR(WEEKDAY(A266,2)<6,WEEKDAY(A266,2)=6),C266<>\"\",E266<D266),ColTime(T.!$J$7,T.!$L$7,D266,AF263),IF(AND(WEEKDAY(A266,2)=6,E266<D266),ColTime(T.!$J$7,T.!$L$7,$AF$1,E266),IF(AND(E266<D266,OR(C266<>\"\",WEEKDAY(A266,2)=7)),ColTime(T.!J269,T.!L269,D266,$AF$1),IF(AND(E266<>\"\",OR(C266<>\"\",WEEKDAY(A266,2)=7)),ColTime(T.!$J$7,T.!$L$7,D266,E266),\"\")))))),\"\")","v":""},"",null,null,{"$f":"IFERROR(CHOOSE(WEEKDAY(A266,2),norm!C$1,norm!C$2,norm!C$3,norm!C$4,norm!C$5,norm!C$6,norm!C$7),\"\")","v":"07:00:00"}]
["2019-09-21","Lø","",null,null,null,"","00:00:00","",{"$f":"IF(AND(C267=\"\",WEEKDAY(A267,2)<6),ColTime(T.!$J$4,T.!$L$4,D267,E267),\"\")","v":""},null,{"$f":"IF(AND(OR(WEEKDAY(A267,2)=7,C267<>\"\"),E267<D267,C268=\"\"),ColTime($AF$1,$AG$1,'Hele året (2)'!$AF$1,E267),IF(AND(WEEKDAY(A267,2)<6,C268=\"\"),ColTime(T.!$J$5,T.!$L$5,D267,E267),\"\"))","v":""},null,{"$f":"IF(WEEKDAY(A267,2)=6,ColTime(TIME(15,0,0),TIME(24,0,0),D267,E267),\"\")","v":"00:00:00"},{"$f":"IFERROR(IF(AND(WEEKDAY(A267,2)<6,C268<>\"\",C267=\"\"),ColTime(T.!$J$7,T.!$L$7,$AF$1,'Hele året (2)'!E267),IF(AND(C267<>\"\",C268<>\"\"),ColTime(T.!$J$7,T.!$L$7,'Hele året (2)'!D267,'Hele året (2)'!E267),IF(AND(OR(WEEKDAY(A267,2)<6,WEEKDAY(A267,2)=6),C267<>\"\",E267<D267),ColTime(T.!$J$7,T.!$L$7,D267,AF264),IF(AND(WEEKDAY(A267,2)=6,E267<D267),ColTime(T.!$J$7,T.!$L$7,$AF$1,E267),IF(AND(E267<D267,OR(C267<>\"\",WEEKDAY(A267,2)=7)),ColTime(T.!J270,T.!L270,D267,$AF$1),IF(AND(E267<>\"\",OR(C267<>\"\",WEEKDAY(A267,2)=7)),ColTime(T.!$J$7,T.!$L$7,D267,E267),\"\")))))),\"\")","v":""},"",null,null,{"$f":"IFERROR(CHOOSE(WEEKDAY(A267,2),norm!C$1,norm!C$2,norm!C$3,norm!C$4,norm!C$5,norm!C$6,norm!C$7),\"\")","v":"00:00:00"}]
["2019-09-22","Sø","",null,null,null,"","00:00:00","",{"$f":"IF(AND(C268=\"\",WEEKDAY(A268,2)<6),ColTime(T.!$J$4,T.!$L$4,D268,E268),\"\")","v":""},null,{"$f":"IF(AND(OR(WEEKDAY(A268,2)=7,C268<>\"\"),E268<D268,C269=\"\"),ColTime($AF$1,$AG$1,'Hele året (2)'!$AF$1,E268),IF(AND(WEEKDAY(A268,2)<6,C269=\"\"),ColTime(T.!$J$5,T.!$L$5,D268,E268),\"\"))","v":""},null,"",{"$f":"IFERROR(IF(AND(WEEKDAY(A268,2)<6,C269<>\"\",C268=\"\"),ColTime(T.!$J$7,T.!$L$7,$AF$1,'Hele året (2)'!E268),IF(AND(C268<>\"\",C269<>\"\"),ColTime(T.!$J$7,T.!$L$7,'Hele året (2)'!D268,'Hele året (2)'!E268),IF(AND(OR(WEEKDAY(A268,2)<6,WEEKDAY(A268,2)=6),C268<>\"\",E268<D268),ColTime(T.!$J$7,T.!$L$7,D268,AF265),IF(AND(WEEKDAY(A268,2)=6,E268<D268),ColTime(T.!$J$7,T.!$L$7,$AF$1,E268),IF(AND(E268<D268,OR(C268<>\"\",WEEKDAY(A268,2)=7)),ColTime(T.!J271,T.!L271,D268,$AF$1),IF(AND(E268<>\"\",OR(C268<>\"\",WEEKDAY(A268,2)=7)),ColTime(T.!$J$7,T.!$L$7,D268,E268),\"\")))))),\"\")","v":""},"",null,null,{"$f":"IFERROR(CHOOSE(WEEKDAY(A268,2),norm!C$1,norm!C$2,norm!C$3,norm!C$4,norm!C$5,norm!C$6,norm!C$7),\"\")","v":"00:00:00"}]
["2019-09-23","Ma","",null,null,null,"","00:00:00","",{"$f":"IF(AND(C269=\"\",WEEKDAY(A269,2)<6),ColTime(T.!$J$4,T.!$L$4,D269,E269),\"\")","v":"00:00:00"},null,{"$f":"IF(AND(OR(WEEKDAY(A269,2)=7,C269<>\"\"),E269<D269,C270=\"\"),ColTime($AF$1,$AG$1,'Hele året (2)'!$AF$1,E269),IF(AND(WEEKDAY(A269,2)<6,C270=\"\"),ColTime(T.!$J$5,T.!$L$5,D269,E269),\"\"))","v":"00:00:00"},null,"",{"$f":"IFERROR(IF(AND(WEEKDAY(A269,2)<6,C270<>\"\",C269=\"\"),ColTime(T.!$J$7,T.!$L$7,$AF$1,'Hele året (2)'!E269),IF(AND(C269<>\"\",C270<>\"\"),ColTime(T.!$J$7,T.!$L$7,'Hele året (2)'!D269,'Hele året (2)'!E269),IF(AND(OR(WEEKDAY(A269,2)<6,WEEKDAY(A269,2)=6),C269<>\"\",E269<D269),ColTime(T.!$J$7,T.!$L$7,D269,AF266),IF(AND(WEEKDAY(A269,2)=6,E269<D269),ColTime(T.!$J$7,T.!$L$7,$AF$1,E269),IF(AND(E269<D269,OR(C269<>\"\",WEEKDAY(A269,2)=7)),ColTime(T.!J272,T.!L272,D269,$AF$1),IF(AND(E269<>\"\",OR(C269<>\"\",WEEKDAY(A269,2)=7)),ColTime(T.!$J$7,T.!$L$7,D269,E269),\"\")))))),\"\")","v":""},"",null,null,{"$f":"IFERROR(CHOOSE(WEEKDAY(A269,2),norm!C$1,norm!C$2,norm!C$3,norm!C$4,norm!C$5,norm!C$6,norm!C$7),\"\")","v":"07:30:00"}]
["2019-09-24","Ti","",null,null,null,"","00:00:00","",{"$f":"IF(AND(C270=\"\",WEEKDAY(A270,2)<6),ColTime(T.!$J$4,T.!$L$4,D270,E270),\"\")","v":"00:00:00"},null,{"$f":"IF(AND(OR(WEEKDAY(A270,2)=7,C270<>\"\"),E270<D270,C271=\"\"),ColTime($AF$1,$AG$1,'Hele året (2)'!$AF$1,E270),IF(AND(WEEKDAY(A270,2)<6,C271=\"\"),ColTime(T.!$J$5,T.!$L$5,D270,E270),\"\"))","v":"00:00:00"},null,"",{"$f":"IFERROR(IF(AND(WEEKDAY(A270,2)<6,C271<>\"\",C270=\"\"),ColTime(T.!$J$7,T.!$L$7,$AF$1,'Hele året (2)'!E270),IF(AND(C270<>\"\",C271<>\"\"),ColTime(T.!$J$7,T.!$L$7,'Hele året (2)'!D270,'Hele året (2)'!E270),IF(AND(OR(WEEKDAY(A270,2)<6,WEEKDAY(A270,2)=6),C270<>\"\",E270<D270),ColTime(T.!$J$7,T.!$L$7,D270,AF267),IF(AND(WEEKDAY(A270,2)=6,E270<D270),ColTime(T.!$J$7,T.!$L$7,$AF$1,E270),IF(AND(E270<D270,OR(C270<>\"\",WEEKDAY(A270,2)=7)),ColTime(T.!J273,T.!L273,D270,$AF$1),IF(AND(E270<>\"\",OR(C270<>\"\",WEEKDAY(A270,2)=7)),ColTime(T.!$J$7,T.!$L$7,D270,E270),\"\")))))),\"\")","v":""},"",null,null,{"$f":"IFERROR(CHOOSE(WEEKDAY(A270,2),norm!C$1,norm!C$2,norm!C$3,norm!C$4,norm!C$5,norm!C$6,norm!C$7),\"\")","v":"07:30:00"}]
["2019-09-25","On","",null,null,null,"","00:00:00","",{"$f":"IF(AND(C271=\"\",WEEKDAY(A271,2)<6),ColTime(T.!$J$4,T.!$L$4,D271,E271),\"\")","v":"00:00:00"},null,{"$f":"IF(AND(OR(WEEKDAY(A271,2)=7,C271<>\"\"),E271<D271,C272=\"\"),ColTime($AF$1,$AG$1,'Hele året (2)'!$AF$1,E271),IF(AND(WEEKDAY(A271,2)<6,C272=\"\"),ColTime(T.!$J$5,T.!$L$5,D271,E271),\"\"))","v":"00:00:00"},null,"",{"$f":"IFERROR(IF(AND(WEEKDAY(A271,2)<6,C272<>\"\",C271=\"\"),ColTime(T.!$J$7,T.!$L$7,$AF$1,'Hele året (2)'!E271),IF(AND(C271<>\"\",C272<>\"\"),ColTime(T.!$J$7,T.!$L$7,'Hele året (2)'!D271,'Hele året (2)'!E271),IF(AND(OR(WEEKDAY(A271,2)<6,WEEKDAY(A271,2)=6),C271<>\"\",E271<D271),ColTime(T.!$J$7,T.!$L$7,D271,AF268),IF(AND(WEEKDAY(A271,2)=6,E271<D271),ColTime(T.!$J$7,T.!$L$7,$AF$1,E271),IF(AND(E271<D271,OR(C271<>\"\",WEEKDAY(A271,2)=7)),ColTime(T.!J274,T.!L274,D271,$AF$1),IF(AND(E271<>\"\",OR(C271<>\"\",WEEKDAY(A271,2)=7)),ColTime(T.!$J$7,T.!$L$7,D271,E271),\"\")))))),\"\")","v":""},"",null,null,{"$f":"IFERROR(CHOOSE(WEEKDAY(A271,2),norm!C$1,norm!C$2,norm!C$3,norm!C$4,norm!C$5,norm!C$6,norm!C$7),\"\")","v":"07:30:00"}]
["2019-09-26","To","",null,null,null,"","00:00:00","",{"$f":"IF(AND(C272=\"\",WEEKDAY(A272,2)<6),ColTime(T.!$J$4,T.!$L$4,D272,E272),\"\")","v":"00:00:00"},null,{"$f":"IF(AND(OR(WEEKDAY(A272,2)=7,C272<>\"\"),E272<D272,C273=\"\"),ColTime($AF$1,$AG$1,'Hele året (2)'!$AF$1,E272),IF(AND(WEEKDAY(A272,2)<6,C273=\"\"),ColTime(T.!$J$5,T.!$L$5,D272,E272),\"\"))","v":"00:00:00"},null,"",{"$f":"IFERROR(IF(AND(WEEKDAY(A272,2)<6,C273<>\"\",C272=\"\"),ColTime(T.!$J$7,T.!$L$7,$AF$1,'Hele året (2)'!E272),IF(AND(C272<>\"\",C273<>\"\"),ColTime(T.!$J$7,T.!$L$7,'Hele året (2)'!D272,'Hele året (2)'!E272),IF(AND(OR(WEEKDAY(A272,2)<6,WEEKDAY(A272,2)=6),C272<>\"\",E272<D272),ColTime(T.!$J$7,T.!$L$7,D272,AF269),IF(AND(WEEKDAY(A272,2)=6,E272<D272),ColTime(T.!$J$7,T.!$L$7,$AF$1,E272),IF(AND(E272<D272,OR(C272<>\"\",WEEKDAY(A272,2)=7)),ColTime(T.!J275,T.!L275,D272,$AF$1),IF(AND(E272<>\"\",OR(C272<>\"\",WEEKDAY(A272,2)=7)),ColTime(T.!$J$7,T.!$L$7,D272,E272),\"\")))))),\"\")","v":""},"",null,null,{"$f":"IFERROR(CHOOSE(WEEKDAY(A272,2),norm!C$1,norm!C$2,norm!C$3,norm!C$4,norm!C$5,norm!C$6,norm!C$7),\"\")","v":"07:30:00"}]
["2019-09-27","Fr","",null,null,null,"","00:00:00","",{"$f":"IF(AND(C273=\"\",WEEKDAY(A273,2)<6),ColTime(T.!$J$4,T.!$L$4,D273,E273),\"\")","v":"00:00:00"},null,{"$f":"IF(AND(OR(WEEKDAY(A273,2)=7,C273<>\"\"),E273<D273,C274=\"\"),ColTime($AF$1,$AG$1,'Hele året (2)'!$AF$1,E273),IF(AND(WEEKDAY(A273,2)<6,C274=\"\"),ColTime(T.!$J$5,T.!$L$5,D273,E273),\"\"))","v":"00:00:00"},null,"",{"$f":"IFERROR(IF(AND(WEEKDAY(A273,2)<6,C274<>\"\",C273=\"\"),ColTime(T.!$J$7,T.!$L$7,$AF$1,'Hele året (2)'!E273),IF(AND(C273<>\"\",C274<>\"\"),ColTime(T.!$J$7,T.!$L$7,'Hele året (2)'!D273,'Hele året (2)'!E273),IF(AND(OR(WEEKDAY(A273,2)<6,WEEKDAY(A273,2)=6),C273<>\"\",E273<D273),ColTime(T.!$J$7,T.!$L$7,D273,AF270),IF(AND(WEEKDAY(A273,2)=6,E273<D273),ColTime(T.!$J$7,T.!$L$7,$AF$1,E273),IF(AND(E273<D273,OR(C273<>\"\",WEEKDAY(A273,2)=7)),ColTime(T.!J276,T.!L276,D273,$AF$1),IF(AND(E273<>\"\",OR(C273<>\"\",WEEKDAY(A273,2)=7)),ColTime(T.!$J$7,T.!$L$7,D273,E273),\"\")))))),\"\")","v":""},"",null,null,{"$f":"IFERROR(CHOOSE(WEEKDAY(A273,2),norm!C$1,norm!C$2,norm!C$3,norm!C$4,norm!C$5,norm!C$6,norm!C$7),\"\")","v":"07:00:00"}]
["2019-09-28","Lø","",null,null,null,"","00:00:00","",{"$f":"IF(AND(C274=\"\",WEEKDAY(A274,2)<6),ColTime(T.!$J$4,T.!$L$4,D274,E274),\"\")","v":""},null,{"$f":"IF(AND(OR(WEEKDAY(A274,2)=7,C274<>\"\"),E274<D274,C275=\"\"),ColTime($AF$1,$AG$1,'Hele året (2)'!$AF$1,E274),IF(AND(WEEKDAY(A274,2)<6,C275=\"\"),ColTime(T.!$J$5,T.!$L$5,D274,E274),\"\"))","v":""},null,"00:00:00",{"$f":"IFERROR(IF(AND(WEEKDAY(A274,2)<6,C275<>\"\",C274=\"\"),ColTime(T.!$J$7,T.!$L$7,$AF$1,'Hele året (2)'!E274),IF(AND(C274<>\"\",C275<>\"\"),ColTime(T.!$J$7,T.!$L$7,'Hele året (2)'!D274,'Hele året (2)'!E274),IF(AND(OR(WEEKDAY(A274,2)<6,WEEKDAY(A274,2)=6),C274<>\"\",E274<D274),ColTime(T.!$J$7,T.!$L$7,D274,AF271),IF(AND(WEEKDAY(A274,2)=6,E274<D274),ColTime(T.!$J$7,T.!$L$7,$AF$1,E274),IF(AND(E274<D274,OR(C274<>\"\",WEEKDAY(A274,2)=7)),ColTime(T.!J277,T.!L277,D274,$AF$1),IF(AND(E274<>\"\",OR(C274<>\"\",WEEKDAY(A274,2)=7)),ColTime(T.!$J$7,T.!$L$7,D274,E274),\"\")))))),\"\")","v":""},"",null,null,{"$f":"IFERROR(CHOOSE(WEEKDAY(A274,2),norm!C$1,norm!C$2,norm!C$3,norm!C$4,norm!C$5,norm!C$6,norm!C$7),\"\")","v":"00:00:00"}]
["2019-09-29","Sø","",null,null,null,"","00:00:00","",{"$f":"IF(AND(C275=\"\",WEEKDAY(A275,2)<6),ColTime(T.!$J$4,T.!$L$4,D275,E275),\"\")","v":""},null,{"$f":"IF(AND(OR(WEEKDAY(A275,2)=7,C275<>\"\"),E275<D275,C276=\"\"),ColTime($AF$1,$AG$1,'Hele året (2)'!$AF$1,E275),IF(AND(WEEKDAY(A275,2)<6,C276=\"\"),ColTime(T.!$J$5,T.!$L$5,D275,E275),\"\"))","v":""},null,"",{"$f":"IFERROR(IF(AND(WEEKDAY(A275,2)<6,C276<>\"\",C275=\"\"),ColTime(T.!$J$7,T.!$L$7,$AF$1,'Hele året (2)'!E275),IF(AND(C275<>\"\",C276<>\"\"),ColTime(T.!$J$7,T.!$L$7,'Hele året (2)'!D275,'Hele året (2)'!E275),IF(AND(OR(WEEKDAY(A275,2)<6,WEEKDAY(A275,2)=6),C275<>\"\",E275<D275),ColTime(T.!$J$7,T.!$L$7,D275,AF272),IF(AND(WEEKDAY(A275,2)=6,E275<D275),ColTime(T.!$J$7,T.!$L$7,$AF$1,E275),IF(AND(E275<D275,OR(C275<>\"\",WEEKDAY(A275,2)=7)),ColTime(T.!J278,T.!L278,D275,$AF$1),IF(AND(E275<>\"\",OR(C275<>\"\",WEEKDAY(A275,2)=7)),ColTime(T.!$J$7,T.!$L$7,D275,E275),\"\")))))),\"\")","v":""},"",null,null,{"$f":"IFERROR(CHOOSE(WEEKDAY(A275,2),norm!C$1,norm!C$2,norm!C$3,norm!C$4,norm!C$5,norm!C$6,norm!C$7),\"\")","v":"00:00:00"}]
["2019-09-30","Ma","",null,null,null,"","00:00:00","",{"$f":"IF(AND(C276=\"\",WEEKDAY(A276,2)<6),ColTime(T.!$J$4,T.!$L$4,D276,E276),\"\")","v":"00:00:00"},null,{"$f":"IF(AND(OR(WEEKDAY(A276,2)=7,C276<>\"\"),E276<D276,C277=\"\"),ColTime($AF$1,$AG$1,'Hele året (2)'!$AF$1,E276),IF(AND(WEEKDAY(A276,2)<6,C277=\"\"),ColTime(T.!$J$5,T.!$L$5,D276,E276),\"\"))","v":"00:00:00"},null,"",{"$f":"IFERROR(IF(AND(WEEKDAY(A276,2)<6,C277<>\"\",C276=\"\"),ColTime(T.!$J$7,T.!$L$7,$AF$1,'Hele året (2)'!E276),IF(AND(C276<>\"\",C277<>\"\"),ColTime(T.!$J$7,T.!$L$7,'Hele året (2)'!D276,'Hele året (2)'!E276),IF(AND(OR(WEEKDAY(A276,2)<6,WEEKDAY(A276,2)=6),C276<>\"\",E276<D276),ColTime(T.!$J$7,T.!$L$7,D276,AF273),IF(AND(WEEKDAY(A276,2)=6,E276<D276),ColTime(T.!$J$7,T.!$L$7,$AF$1,E276),IF(AND(E276<D276,OR(C276<>\"\",WEEKDAY(A276,2)=7)),ColTime(T.!J279,T.!L279,D276,$AF$1),IF(AND(E276<>\"\",OR(C276<>\"\",WEEKDAY(A276,2)=7)),ColTime(T.!$J$7,T.!$L$7,D276,E276),\"\")))))),\"\")","v":""},"",null,null,{"$f":"IFERROR(CHOOSE(WEEKDAY(A276,2),norm!C$1,norm!C$2,norm!C$3,norm!C$4,norm!C$5,norm!C$6,norm!C$7),\"\")","v":"07:30:00"}]
["2019-10-01","Ti","",null,null,null,"","00:00:00","",{"$f":"IF(AND(C277=\"\",WEEKDAY(A277,2)<6),ColTime(T.!$J$4,T.!$L$4,D277,E277),\"\")","v":"00:00:00"},null,{"$f":"IF(AND(OR(WEEKDAY(A277,2)=7,C277<>\"\"),E277<D277,C278=\"\"),ColTime($AF$1,$AG$1,'Hele året (2)'!$AF$1,E277),IF(AND(WEEKDAY(A277,2)<6,C278=\"\"),ColTime(T.!$J$5,T.!$L$5,D277,E277),\"\"))","v":"00:00:00"},null,"",{"$f":"IFERROR(IF(AND(WEEKDAY(A277,2)<6,C278<>\"\",C277=\"\"),ColTime(T.!$J$7,T.!$L$7,$AF$1,'Hele året (2)'!E277),IF(AND(C277<>\"\",C278<>\"\"),ColTime(T.!$J$7,T.!$L$7,'Hele året (2)'!D277,'Hele året (2)'!E277),IF(AND(OR(WEEKDAY(A277,2)<6,WEEKDAY(A277,2)=6),C277<>\"\",E277<D277),ColTime(T.!$J$7,T.!$L$7,D277,AF274),IF(AND(WEEKDAY(A277,2)=6,E277<D277),ColTime(T.!$J$7,T.!$L$7,$AF$1,E277),IF(AND(E277<D277,OR(C277<>\"\",WEEKDAY(A277,2)=7)),ColTime(T.!J280,T.!L280,D277,$AF$1),IF(AND(E277<>\"\",OR(C277<>\"\",WEEKDAY(A277,2)=7)),ColTime(T.!$J$7,T.!$L$7,D277,E277),\"\")))))),\"\")","v":""},"",null,null,{"$f":"IFERROR(CHOOSE(WEEKDAY(A277,2),norm!C$1,norm!C$2,norm!C$3,norm!C$4,norm!C$5,norm!C$6,norm!C$7),\"\")","v":"07:30:00"}]
["2019-10-02","On","",null,null,null,"","00:00:00","",{"$f":"IF(AND(C278=\"\",WEEKDAY(A278,2)<6),ColTime(T.!$J$4,T.!$L$4,D278,E278),\"\")","v":"00:00:00"},null,{"$f":"IF(AND(OR(WEEKDAY(A278,2)=7,C278<>\"\"),E278<D278,C279=\"\"),ColTime($AF$1,$AG$1,'Hele året (2)'!$AF$1,E278),IF(AND(WEEKDAY(A278,2)<6,C279=\"\"),ColTime(T.!$J$5,T.!$L$5,D278,E278),\"\"))","v":"00:00:00"},null,"",{"$f":"IFERROR(IF(AND(WEEKDAY(A278,2)<6,C279<>\"\",C278=\"\"),ColTime(T.!$J$7,T.!$L$7,$AF$1,'Hele året (2)'!E278),IF(AND(C278<>\"\",C279<>\"\"),ColTime(T.!$J$7,T.!$L$7,'Hele året (2)'!D278,'Hele året (2)'!E278),IF(AND(OR(WEEKDAY(A278,2)<6,WEEKDAY(A278,2)=6),C278<>\"\",E278<D278),ColTime(T.!$J$7,T.!$L$7,D278,AF275),IF(AND(WEEKDAY(A278,2)=6,E278<D278),ColTime(T.!$J$7,T.!$L$7,$AF$1,E278),IF(AND(E278<D278,OR(C278<>\"\",WEEKDAY(A278,2)=7)),ColTime(T.!J281,T.!L281,D278,$AF$1),IF(AND(E278<>\"\",OR(C278<>\"\",WEEKDAY(A278,2)=7)),ColTime(T.!$J$7,T.!$L$7,D278,E278),\"\")))))),\"\")","v":""},"",null,null,{"$f":"IFERROR(CHOOSE(WEEKDAY(A278,2),norm!C$1,norm!C$2,norm!C$3,norm!C$4,norm!C$5,norm!C$6,norm!C$7),\"\")","v":"07:30:00"}]
["2019-10-03","To","",null,null,null,"","00:00:00","",{"$f":"IF(AND(C279=\"\",WEEKDAY(A279,2)<6),ColTime(T.!$J$4,T.!$L$4,D279,E279),\"\")","v":"00:00:00"},null,{"$f":"IF(AND(OR(WEEKDAY(A279,2)=7,C279<>\"\"),E279<D279,C280=\"\"),ColTime($AF$1,$AG$1,'Hele året (2)'!$AF$1,E279),IF(AND(WEEKDAY(A279,2)<6,C280=\"\"),ColTime(T.!$J$5,T.!$L$5,D279,E279),\"\"))","v":"00:00:00"},null,"",{"$f":"IFERROR(IF(AND(WEEKDAY(A279,2)<6,C280<>\"\",C279=\"\"),ColTime(T.!$J$7,T.!$L$7,$AF$1,'Hele året (2)'!E279),IF(AND(C279<>\"\",C280<>\"\"),ColTime(T.!$J$7,T.!$L$7,'Hele året (2)'!D279,'Hele året (2)'!E279),IF(AND(OR(WEEKDAY(A279,2)<6,WEEKDAY(A279,2)=6),C279<>\"\",E279<D279),ColTime(T.!$J$7,T.!$L$7,D279,AF276),IF(AND(WEEKDAY(A279,2)=6,E279<D279),ColTime(T.!$J$7,T.!$L$7,$AF$1,E279),IF(AND(E279<D279,OR(C279<>\"\",WEEKDAY(A279,2)=7)),ColTime(T.!J282,T.!L282,D279,$AF$1),IF(AND(E279<>\"\",OR(C279<>\"\",WEEKDAY(A279,2)=7)),ColTime(T.!$J$7,T.!$L$7,D279,E279),\"\")))))),\"\")","v":""},"",null,null,{"$f":"IFERROR(CHOOSE(WEEKDAY(A279,2),norm!C$1,norm!C$2,norm!C$3,norm!C$4,norm!C$5,norm!C$6,norm!C$7),\"\")","v":"07:30:00"}]
["2019-10-04","Fr","",null,null,null,"","00:00:00","",{"$f":"IF(AND(C280=\"\",WEEKDAY(A280,2)<6),ColTime(T.!$J$4,T.!$L$4,D280,E280),\"\")","v":"00:00:00"},null,{"$f":"IF(AND(OR(WEEKDAY(A280,2)=7,C280<>\"\"),E280<D280,C281=\"\"),ColTime($AF$1,$AG$1,'Hele året (2)'!$AF$1,E280),IF(AND(WEEKDAY(A280,2)<6,C281=\"\"),ColTime(T.!$J$5,T.!$L$5,D280,E280),\"\"))","v":"00:00:00"},null,"",{"$f":"IFERROR(IF(AND(WEEKDAY(A280,2)<6,C281<>\"\",C280=\"\"),ColTime(T.!$J$7,T.!$L$7,$AF$1,'Hele året (2)'!E280),IF(AND(C280<>\"\",C281<>\"\"),ColTime(T.!$J$7,T.!$L$7,'Hele året (2)'!D280,'Hele året (2)'!E280),IF(AND(OR(WEEKDAY(A280,2)<6,WEEKDAY(A280,2)=6),C280<>\"\",E280<D280),ColTime(T.!$J$7,T.!$L$7,D280,AF277),IF(AND(WEEKDAY(A280,2)=6,E280<D280),ColTime(T.!$J$7,T.!$L$7,$AF$1,E280),IF(AND(E280<D280,OR(C280<>\"\",WEEKDAY(A280,2)=7)),ColTime(T.!J283,T.!L283,D280,$AF$1),IF(AND(E280<>\"\",OR(C280<>\"\",WEEKDAY(A280,2)=7)),ColTime(T.!$J$7,T.!$L$7,D280,E280),\"\")))))),\"\")","v":""},"",null,null,{"$f":"IFERROR(CHOOSE(WEEKDAY(A280,2),norm!C$1,norm!C$2,norm!C$3,norm!C$4,norm!C$5,norm!C$6,norm!C$7),\"\")","v":"07:00:00"}]
["2019-10-05","Lø","",null,null,null,"","00:00:00","",{"$f":"IF(AND(C281=\"\",WEEKDAY(A281,2)<6),ColTime(T.!$J$4,T.!$L$4,D281,E281),\"\")","v":""},null,{"$f":"IF(AND(OR(WEEKDAY(A281,2)=7,C281<>\"\"),E281<D281,C282=\"\"),ColTime($AF$1,$AG$1,'Hele året (2)'!$AF$1,E281),IF(AND(WEEKDAY(A281,2)<6,C282=\"\"),ColTime(T.!$J$5,T.!$L$5,D281,E281),\"\"))","v":""},null,"00:00:00",{"$f":"IFERROR(IF(AND(WEEKDAY(A281,2)<6,C282<>\"\",C281=\"\"),ColTime(T.!$J$7,T.!$L$7,$AF$1,'Hele året (2)'!E281),IF(AND(C281<>\"\",C282<>\"\"),ColTime(T.!$J$7,T.!$L$7,'Hele året (2)'!D281,'Hele året (2)'!E281),IF(AND(OR(WEEKDAY(A281,2)<6,WEEKDAY(A281,2)=6),C281<>\"\",E281<D281),ColTime(T.!$J$7,T.!$L$7,D281,AF278),IF(AND(WEEKDAY(A281,2)=6,E281<D281),ColTime(T.!$J$7,T.!$L$7,$AF$1,E281),IF(AND(E281<D281,OR(C281<>\"\",WEEKDAY(A281,2)=7)),ColTime(T.!J284,T.!L284,D281,$AF$1),IF(AND(E281<>\"\",OR(C281<>\"\",WEEKDAY(A281,2)=7)),ColTime(T.!$J$7,T.!$L$7,D281,E281),\"\")))))),\"\")","v":""},"",null,null,{"$f":"IFERROR(CHOOSE(WEEKDAY(A281,2),norm!C$1,norm!C$2,norm!C$3,norm!C$4,norm!C$5,norm!C$6,norm!C$7),\"\")","v":"00:00:00"}]
["2019-10-06","Sø","",null,null,null,"","00:00:00","",{"$f":"IF(AND(C282=\"\",WEEKDAY(A282,2)<6),ColTime(T.!$J$4,T.!$L$4,D282,E282),\"\")","v":""},null,{"$f":"IF(AND(OR(WEEKDAY(A282,2)=7,C282<>\"\"),E282<D282,C283=\"\"),ColTime($AF$1,$AG$1,'Hele året (2)'!$AF$1,E282),IF(AND(WEEKDAY(A282,2)<6,C283=\"\"),ColTime(T.!$J$5,T.!$L$5,D282,E282),\"\"))","v":""},null,"",{"$f":"IFERROR(IF(AND(WEEKDAY(A282,2)<6,C283<>\"\",C282=\"\"),ColTime(T.!$J$7,T.!$L$7,$AF$1,'Hele året (2)'!E282),IF(AND(C282<>\"\",C283<>\"\"),ColTime(T.!$J$7,T.!$L$7,'Hele året (2)'!D282,'Hele året (2)'!E282),IF(AND(OR(WEEKDAY(A282,2)<6,WEEKDAY(A282,2)=6),C282<>\"\",E282<D282),ColTime(T.!$J$7,T.!$L$7,D282,AF279),IF(AND(WEEKDAY(A282,2)=6,E282<D282),ColTime(T.!$J$7,T.!$L$7,$AF$1,E282),IF(AND(E282<D282,OR(C282<>\"\",WEEKDAY(A282,2)=7)),ColTime(T.!J285,T.!L285,D282,$AF$1),IF(AND(E282<>\"\",OR(C282<>\"\",WEEKDAY(A282,2)=7)),ColTime(T.!$J$7,T.!$L$7,D282,E282),\"\")))))),\"\")","v":""},"",null,null,{"$f":"IFERROR(CHOOSE(WEEKDAY(A282,2),norm!C$1,norm!C$2,norm!C$3,norm!C$4,norm!C$5,norm!C$6,norm!C$7),\"\")","v":"00:00:00"}]
[{"$f":"A282+1","v":"2019-10-07"},"Ma","",null,null,null,"","00:00:00","",{"$f":"IF(AND(C283=\"\",WEEKDAY(A283,2)<6),ColTime(T.!$J$4,T.!$L$4,D283,E283),\"\")","v":"00:00:00"},null,{"$f":"IF(AND(OR(WEEKDAY(A283,2)=7,C283<>\"\"),E283<D283,C284=\"\"),ColTime($AF$1,$AG$1,'Hele året (2)'!$AF$1,E283),IF(AND(WEEKDAY(A283,2)<6,C284=\"\"),ColTime(T.!$J$5,T.!$L$5,D283,E283),\"\"))","v":"00:00:00"},null,"",{"$f":"IFERROR(IF(AND(WEEKDAY(A283,2)<6,C284<>\"\",C283=\"\"),ColTime(T.!$J$7,T.!$L$7,$AF$1,'Hele året (2)'!E283),IF(AND(C283<>\"\",C284<>\"\"),ColTime(T.!$J$7,T.!$L$7,'Hele året (2)'!D283,'Hele året (2)'!E283),IF(AND(OR(WEEKDAY(A283,2)<6,WEEKDAY(A283,2)=6),C283<>\"\",E283<D283),ColTime(T.!$J$7,T.!$L$7,D283,AF280),IF(AND(WEEKDAY(A283,2)=6,E283<D283),ColTime(T.!$J$7,T.!$L$7,$AF$1,E283),IF(AND(E283<D283,OR(C283<>\"\",WEEKDAY(A283,2)=7)),ColTime(T.!J286,T.!L286,D283,$AF$1),IF(AND(E283<>\"\",OR(C283<>\"\",WEEKDAY(A283,2)=7)),ColTime(T.!$J$7,T.!$L$7,D283,E283),\"\")))))),\"\")","v":""},"",null,null,{"$f":"IFERROR(CHOOSE(WEEKDAY(A283,2),norm!C$1,norm!C$2,norm!C$3,norm!C$4,norm!C$5,norm!C$6,norm!C$7),\"\")","v":"07:30:00"}]
["2019-10-08","Ti","",null,null,null,"","00:00:00","",{"$f":"IF(AND(C284=\"\",WEEKDAY(A284,2)<6),ColTime(T.!$J$4,T.!$L$4,D284,E284),\"\")","v":"00:00:00"},null,{"$f":"IF(AND(OR(WEEKDAY(A284,2)=7,C284<>\"\"),E284<D284,C285=\"\"),ColTime($AF$1,$AG$1,'Hele året (2)'!$AF$1,E284),IF(AND(WEEKDAY(A284,2)<6,C285=\"\"),ColTime(T.!$J$5,T.!$L$5,D284,E284),\"\"))","v":"00:00:00"},null,"",{"$f":"IFERROR(IF(AND(WEEKDAY(A284,2)<6,C285<>\"\",C284=\"\"),ColTime(T.!$J$7,T.!$L$7,$AF$1,'Hele året (2)'!E284),IF(AND(C284<>\"\",C285<>\"\"),ColTime(T.!$J$7,T.!$L$7,'Hele året (2)'!D284,'Hele året (2)'!E284),IF(AND(OR(WEEKDAY(A284,2)<6,WEEKDAY(A284,2)=6),C284<>\"\",E284<D284),ColTime(T.!$J$7,T.!$L$7,D284,AF281),IF(AND(WEEKDAY(A284,2)=6,E284<D284),ColTime(T.!$J$7,T.!$L$7,$AF$1,E284),IF(AND(E284<D284,OR(C284<>\"\",WEEKDAY(A284,2)=7)),ColTime(T.!J287,T.!L287,D284,$AF$1),IF(AND(E284<>\"\",OR(C284<>\"\",WEEKDAY(A284,2)=7)),ColTime(T.!$J$7,T.!$L$7,D284,E284),\"\")))))),\"\")","v":""},"",null,null,{"$f":"IFERROR(CHOOSE(WEEKDAY(A284,2),norm!C$1,norm!C$2,norm!C$3,norm!C$4,norm!C$5,norm!C$6,norm!C$7),\"\")","v":"07:30:00"}]
["2019-10-09","On","",null,null,null,"","00:00:00","",{"$f":"IF(AND(C285=\"\",WEEKDAY(A285,2)<6),ColTime(T.!$J$4,T.!$L$4,D285,E285),\"\")","v":"00:00:00"},null,{"$f":"IF(AND(OR(WEEKDAY(A285,2)=7,C285<>\"\"),E285<D285,C286=\"\"),ColTime($AF$1,$AG$1,'Hele året (2)'!$AF$1,E285),IF(AND(WEEKDAY(A285,2)<6,C286=\"\"),ColTime(T.!$J$5,T.!$L$5,D285,E285),\"\"))","v":"00:00:00"},null,"",{"$f":"IFERROR(IF(AND(WEEKDAY(A285,2)<6,C286<>\"\",C285=\"\"),ColTime(T.!$J$7,T.!$L$7,$AF$1,'Hele året (2)'!E285),IF(AND(C285<>\"\",C286<>\"\"),ColTime(T.!$J$7,T.!$L$7,'Hele året (2)'!D285,'Hele året (2)'!E285),IF(AND(OR(WEEKDAY(A285,2)<6,WEEKDAY(A285,2)=6),C285<>\"\",E285<D285),ColTime(T.!$J$7,T.!$L$7,D285,AF282),IF(AND(WEEKDAY(A285,2)=6,E285<D285),ColTime(T.!$J$7,T.!$L$7,$AF$1,E285),IF(AND(E285<D285,OR(C285<>\"\",WEEKDAY(A285,2)=7)),ColTime(T.!J288,T.!L288,D285,$AF$1),IF(AND(E285<>\"\",OR(C285<>\"\",WEEKDAY(A285,2)=7)),ColTime(T.!$J$7,T.!$L$7,D285,E285),\"\")))))),\"\")","v":""},"",null,null,{"$f":"IFERROR(CHOOSE(WEEKDAY(A285,2),norm!C$1,norm!C$2,norm!C$3,norm!C$4,norm!C$5,norm!C$6,norm!C$7),\"\")","v":"07:30:00"}]
["2019-10-10","To","",null,null,null,"","00:00:00","",{"$f":"IF(AND(C286=\"\",WEEKDAY(A286,2)<6),ColTime(T.!$J$4,T.!$L$4,D286,E286),\"\")","v":"00:00:00"},null,{"$f":"IF(AND(OR(WEEKDAY(A286,2)=7,C286<>\"\"),E286<D286,C287=\"\"),ColTime($AF$1,$AG$1,'Hele året (2)'!$AF$1,E286),IF(AND(WEEKDAY(A286,2)<6,C287=\"\"),ColTime(T.!$J$5,T.!$L$5,D286,E286),\"\"))","v":"00:00:00"},null,"",{"$f":"IFERROR(IF(AND(WEEKDAY(A286,2)<6,C287<>\"\",C286=\"\"),ColTime(T.!$J$7,T.!$L$7,$AF$1,'Hele året (2)'!E286),IF(AND(C286<>\"\",C287<>\"\"),ColTime(T.!$J$7,T.!$L$7,'Hele året (2)'!D286,'Hele året (2)'!E286),IF(AND(OR(WEEKDAY(A286,2)<6,WEEKDAY(A286,2)=6),C286<>\"\",E286<D286),ColTime(T.!$J$7,T.!$L$7,D286,AF283),IF(AND(WEEKDAY(A286,2)=6,E286<D286),ColTime(T.!$J$7,T.!$L$7,$AF$1,E286),IF(AND(E286<D286,OR(C286<>\"\",WEEKDAY(A286,2)=7)),ColTime(T.!J289,T.!L289,D286,$AF$1),IF(AND(E286<>\"\",OR(C286<>\"\",WEEKDAY(A286,2)=7)),ColTime(T.!$J$7,T.!$L$7,D286,E286),\"\")))))),\"\")","v":""},"",null,null,{"$f":"IFERROR(CHOOSE(WEEKDAY(A286,2),norm!C$1,norm!C$2,norm!C$3,norm!C$4,norm!C$5,norm!C$6,norm!C$7),\"\")","v":"07:30:00"}]
["2019-10-11","Fr","",null,null,null,"","00:00:00","",{"$f":"IF(AND(C287=\"\",WEEKDAY(A287,2)<6),ColTime(T.!$J$4,T.!$L$4,D287,E287),\"\")","v":"00:00:00"},null,{"$f":"IF(AND(OR(WEEKDAY(A287,2)=7,C287<>\"\"),E287<D287,C288=\"\"),ColTime($AF$1,$AG$1,'Hele året (2)'!$AF$1,E287),IF(AND(WEEKDAY(A287,2)<6,C288=\"\"),ColTime(T.!$J$5,T.!$L$5,D287,E287),\"\"))","v":"00:00:00"},null,"",{"$f":"IFERROR(IF(AND(WEEKDAY(A287,2)<6,C288<>\"\",C287=\"\"),ColTime(T.!$J$7,T.!$L$7,$AF$1,'Hele året (2)'!E287),IF(AND(C287<>\"\",C288<>\"\"),ColTime(T.!$J$7,T.!$L$7,'Hele året (2)'!D287,'Hele året (2)'!E287),IF(AND(OR(WEEKDAY(A287,2)<6,WEEKDAY(A287,2)=6),C287<>\"\",E287<D287),ColTime(T.!$J$7,T.!$L$7,D287,AF284),IF(AND(WEEKDAY(A287,2)=6,E287<D287),ColTime(T.!$J$7,T.!$L$7,$AF$1,E287),IF(AND(E287<D287,OR(C287<>\"\",WEEKDAY(A287,2)=7)),ColTime(T.!J290,T.!L290,D287,$AF$1),IF(AND(E287<>\"\",OR(C287<>\"\",WEEKDAY(A287,2)=7)),ColTime(T.!$J$7,T.!$L$7,D287,E287),\"\")))))),\"\")","v":""},"",null,null,{"$f":"IFERROR(CHOOSE(WEEKDAY(A287,2),norm!C$1,norm!C$2,norm!C$3,norm!C$4,norm!C$5,norm!C$6,norm!C$7),\"\")","v":"07:00:00"}]
["2019-10-12","Lø","",null,null,null,"","00:00:00","",{"$f":"IF(AND(C288=\"\",WEEKDAY(A288,2)<6),ColTime(T.!$J$4,T.!$L$4,D288,E288),\"\")","v":""},null,{"$f":"IF(AND(OR(WEEKDAY(A288,2)=7,C288<>\"\"),E288<D288,C289=\"\"),ColTime($AF$1,$AG$1,'Hele året (2)'!$AF$1,E288),IF(AND(WEEKDAY(A288,2)<6,C289=\"\"),ColTime(T.!$J$5,T.!$L$5,D288,E288),\"\"))","v":""},null,"00:00:00",{"$f":"IFERROR(IF(AND(WEEKDAY(A288,2)<6,C289<>\"\",C288=\"\"),ColTime(T.!$J$7,T.!$L$7,$AF$1,'Hele året (2)'!E288),IF(AND(C288<>\"\",C289<>\"\"),ColTime(T.!$J$7,T.!$L$7,'Hele året (2)'!D288,'Hele året (2)'!E288),IF(AND(OR(WEEKDAY(A288,2)<6,WEEKDAY(A288,2)=6),C288<>\"\",E288<D288),ColTime(T.!$J$7,T.!$L$7,D288,AF285),IF(AND(WEEKDAY(A288,2)=6,E288<D288),ColTime(T.!$J$7,T.!$L$7,$AF$1,E288),IF(AND(E288<D288,OR(C288<>\"\",WEEKDAY(A288,2)=7)),ColTime(T.!J291,T.!L291,D288,$AF$1),IF(AND(E288<>\"\",OR(C288<>\"\",WEEKDAY(A288,2)=7)),ColTime(T.!$J$7,T.!$L$7,D288,E288),\"\")))))),\"\")","v":""},"",null,null,{"$f":"IFERROR(CHOOSE(WEEKDAY(A288,2),norm!C$1,norm!C$2,norm!C$3,norm!C$4,norm!C$5,norm!C$6,norm!C$7),\"\")","v":"00:00:00"}]
["2019-10-13","Sø","",null,null,null,"","00:00:00","",{"$f":"IF(AND(C289=\"\",WEEKDAY(A289,2)<6),ColTime(T.!$J$4,T.!$L$4,D289,E289),\"\")","v":""},null,{"$f":"IF(AND(OR(WEEKDAY(A289,2)=7,C289<>\"\"),E289<D289,C290=\"\"),ColTime($AF$1,$AG$1,'Hele året (2)'!$AF$1,E289),IF(AND(WEEKDAY(A289,2)<6,C290=\"\"),ColTime(T.!$J$5,T.!$L$5,D289,E289),\"\"))","v":""},null,"",{"$f":"IFERROR(IF(AND(WEEKDAY(A289,2)<6,C290<>\"\",C289=\"\"),ColTime(T.!$J$7,T.!$L$7,$AF$1,'Hele året (2)'!E289),IF(AND(C289<>\"\",C290<>\"\"),ColTime(T.!$J$7,T.!$L$7,'Hele året (2)'!D289,'Hele året (2)'!E289),IF(AND(OR(WEEKDAY(A289,2)<6,WEEKDAY(A289,2)=6),C289<>\"\",E289<D289),ColTime(T.!$J$7,T.!$L$7,D289,AF286),IF(AND(WEEKDAY(A289,2)=6,E289<D289),ColTime(T.!$J$7,T.!$L$7,$AF$1,E289),IF(AND(E289<D289,OR(C289<>\"\",WEEKDAY(A289,2)=7)),ColTime(T.!J292,T.!L292,D289,$AF$1),IF(AND(E289<>\"\",OR(C289<>\"\",WEEKDAY(A289,2)=7)),ColTime(T.!$J$7,T.!$L$7,D289,E289),\"\")))))),\"\")","v":""},"",null,null,{"$f":"IFERROR(CHOOSE(WEEKDAY(A289,2),norm!C$1,norm!C$2,norm!C$3,norm!C$4,norm!C$5,norm!C$6,norm!C$7),\"\")","v":"00:00:00"}]
["2019-10-14","Ma","",null,null,null,"","00:00:00","",{"$f":"IF(AND(C290=\"\",WEEKDAY(A290,2)<6),ColTime(T.!$J$4,T.!$L$4,D290,E290),\"\")","v":"00:00:00"},null,{"$f":"IF(AND(OR(WEEKDAY(A290,2)=7,C290<>\"\"),E290<D290,C291=\"\"),ColTime($AF$1,$AG$1,'Hele året (2)'!$AF$1,E290),IF(AND(WEEKDAY(A290,2)<6,C291=\"\"),ColTime(T.!$J$5,T.!$L$5,D290,E290),\"\"))","v":"00:00:00"},null,"",{"$f":"IFERROR(IF(AND(WEEKDAY(A290,2)<6,C291<>\"\",C290=\"\"),ColTime(T.!$J$7,T.!$L$7,$AF$1,'Hele året (2)'!E290),IF(AND(C290<>\"\",C291<>\"\"),ColTime(T.!$J$7,T.!$L$7,'Hele året (2)'!D290,'Hele året (2)'!E290),IF(AND(OR(WEEKDAY(A290,2)<6,WEEKDAY(A290,2)=6),C290<>\"\",E290<D290),ColTime(T.!$J$7,T.!$L$7,D290,AF287),IF(AND(WEEKDAY(A290,2)=6,E290<D290),ColTime(T.!$J$7,T.!$L$7,$AF$1,E290),IF(AND(E290<D290,OR(C290<>\"\",WEEKDAY(A290,2)=7)),ColTime(T.!J293,T.!L293,D290,$AF$1),IF(AND(E290<>\"\",OR(C290<>\"\",WEEKDAY(A290,2)=7)),ColTime(T.!$J$7,T.!$L$7,D290,E290),\"\")))))),\"\")","v":""},"",null,null,{"$f":"IFERROR(CHOOSE(WEEKDAY(A290,2),norm!C$1,norm!C$2,norm!C$3,norm!C$4,norm!C$5,norm!C$6,norm!C$7),\"\")","v":"07:30:00"}]
["2019-10-15",{"$f":"IFERROR(PROPER(TEXT(A291,\"ddd\")),\"\")","v":"Ti"},{"$f":"IF(A291=\"\",\"\",HelligdagsNavn(A291,0,0))","v":""},null,null,null,"","00:00:00","",{"$f":"IF(AND(C291=\"\",WEEKDAY(A291,2)<6),ColTime(T.!$J$4,T.!$L$4,D291,E291),\"\")","v":"00:00:00"},null,{"$f":"IF(AND(OR(WEEKDAY(A291,2)=7,C291<>\"\"),E291<D291,C292=\"\"),ColTime($AF$1,$AG$1,'Hele året (2)'!$AF$1,E291),IF(AND(WEEKDAY(A291,2)<6,C292=\"\"),ColTime(T.!$J$5,T.!$L$5,D291,E291),\"\"))","v":"00:00:00"},null,"",{"$f":"IFERROR(IF(AND(WEEKDAY(A291,2)<6,C292<>\"\",C291=\"\"),ColTime(T.!$J$7,T.!$L$7,$AF$1,'Hele året (2)'!E291),IF(AND(C291<>\"\",C292<>\"\"),ColTime(T.!$J$7,T.!$L$7,'Hele året (2)'!D291,'Hele året (2)'!E291),IF(AND(OR(WEEKDAY(A291,2)<6,WEEKDAY(A291,2)=6),C291<>\"\",E291<D291),ColTime(T.!$J$7,T.!$L$7,D291,AF288),IF(AND(WEEKDAY(A291,2)=6,E291<D291),ColTime(T.!$J$7,T.!$L$7,$AF$1,E291),IF(AND(E291<D291,OR(C291<>\"\",WEEKDAY(A291,2)=7)),ColTime(T.!J294,T.!L294,D291,$AF$1),IF(AND(E291<>\"\",OR(C291<>\"\",WEEKDAY(A291,2)=7)),ColTime(T.!$J$7,T.!$L$7,D291,E291),\"\")))))),\"\")","v":""},"",null,null,{"$f":"IFERROR(CHOOSE(WEEKDAY(A291,2),norm!C$1,norm!C$2,norm!C$3,norm!C$4,norm!C$5,norm!C$6,norm!C$7),\"\")","v":"07:30:00"}]
["2019-10-16","On","",null,null,null,"","00:00:00","",{"$f":"IF(AND(C292=\"\",WEEKDAY(A292,2)<6),ColTime(T.!$J$4,T.!$L$4,D292,E292),\"\")","v":"00:00:00"},null,{"$f":"IF(AND(OR(WEEKDAY(A292,2)=7,C292<>\"\"),E292<D292,C293=\"\"),ColTime($AF$1,$AG$1,'Hele året (2)'!$AF$1,E292),IF(AND(WEEKDAY(A292,2)<6,C293=\"\"),ColTime(T.!$J$5,T.!$L$5,D292,E292),\"\"))","v":"00:00:00"},null,"",{"$f":"IFERROR(IF(AND(WEEKDAY(A292,2)<6,C293<>\"\",C292=\"\"),ColTime(T.!$J$7,T.!$L$7,$AF$1,'Hele året (2)'!E292),IF(AND(C292<>\"\",C293<>\"\"),ColTime(T.!$J$7,T.!$L$7,'Hele året (2)'!D292,'Hele året (2)'!E292),IF(AND(OR(WEEKDAY(A292,2)<6,WEEKDAY(A292,2)=6),C292<>\"\",E292<D292),ColTime(T.!$J$7,T.!$L$7,D292,AF289),IF(AND(WEEKDAY(A292,2)=6,E292<D292),ColTime(T.!$J$7,T.!$L$7,$AF$1,E292),IF(AND(E292<D292,OR(C292<>\"\",WEEKDAY(A292,2)=7)),ColTime(T.!J295,T.!L295,D292,$AF$1),IF(AND(E292<>\"\",OR(C292<>\"\",WEEKDAY(A292,2)=7)),ColTime(T.!$J$7,T.!$L$7,D292,E292),\"\")))))),\"\")","v":""},"",null,null,{"$f":"IFERROR(CHOOSE(WEEKDAY(A292,2),norm!C$1,norm!C$2,norm!C$3,norm!C$4,norm!C$5,norm!C$6,norm!C$7),\"\")","v":"07:30:00"}]
["2019-10-17","To","",null,null,null,"","00:00:00","",{"$f":"IF(AND(C293=\"\",WEEKDAY(A293,2)<6),ColTime(T.!$J$4,T.!$L$4,D293,E293),\"\")","v":"00:00:00"},null,{"$f":"IF(AND(OR(WEEKDAY(A293,2)=7,C293<>\"\"),E293<D293,C294=\"\"),ColTime($AF$1,$AG$1,'Hele året (2)'!$AF$1,E293),IF(AND(WEEKDAY(A293,2)<6,C294=\"\"),ColTime(T.!$J$5,T.!$L$5,D293,E293),\"\"))","v":"00:00:00"},null,"",{"$f":"IFERROR(IF(AND(WEEKDAY(A293,2)<6,C294<>\"\",C293=\"\"),ColTime(T.!$J$7,T.!$L$7,$AF$1,'Hele året (2)'!E293),IF(AND(C293<>\"\",C294<>\"\"),ColTime(T.!$J$7,T.!$L$7,'Hele året (2)'!D293,'Hele året (2)'!E293),IF(AND(OR(WEEKDAY(A293,2)<6,WEEKDAY(A293,2)=6),C293<>\"\",E293<D293),ColTime(T.!$J$7,T.!$L$7,D293,AF290),IF(AND(WEEKDAY(A293,2)=6,E293<D293),ColTime(T.!$J$7,T.!$L$7,$AF$1,E293),IF(AND(E293<D293,OR(C293<>\"\",WEEKDAY(A293,2)=7)),ColTime(T.!J296,T.!L296,D293,$AF$1),IF(AND(E293<>\"\",OR(C293<>\"\",WEEKDAY(A293,2)=7)),ColTime(T.!$J$7,T.!$L$7,D293,E293),\"\")))))),\"\")","v":""},"",null,null,{"$f":"IFERROR(CHOOSE(WEEKDAY(A293,2),norm!C$1,norm!C$2,norm!C$3,norm!C$4,norm!C$5,norm!C$6,norm!C$7),\"\")","v":"07:30:00"}]
["2019-10-18","Fr","",null,null,null,"","00:00:00","",{"$f":"IF(AND(C294=\"\",WEEKDAY(A294,2)<6),ColTime(T.!$J$4,T.!$L$4,D294,E294),\"\")","v":"00:00:00"},null,{"$f":"IF(AND(OR(WEEKDAY(A294,2)=7,C294<>\"\"),E294<D294,C295=\"\"),ColTime($AF$1,$AG$1,'Hele året (2)'!$AF$1,E294),IF(AND(WEEKDAY(A294,2)<6,C295=\"\"),ColTime(T.!$J$5,T.!$L$5,D294,E294),\"\"))","v":"00:00:00"},null,"",{"$f":"IFERROR(IF(AND(WEEKDAY(A294,2)<6,C295<>\"\",C294=\"\"),ColTime(T.!$J$7,T.!$L$7,$AF$1,'Hele året (2)'!E294),IF(AND(C294<>\"\",C295<>\"\"),ColTime(T.!$J$7,T.!$L$7,'Hele året (2)'!D294,'Hele året (2)'!E294),IF(AND(OR(WEEKDAY(A294,2)<6,WEEKDAY(A294,2)=6),C294<>\"\",E294<D294),ColTime(T.!$J$7,T.!$L$7,D294,AF291),IF(AND(WEEKDAY(A294,2)=6,E294<D294),ColTime(T.!$J$7,T.!$L$7,$AF$1,E294),IF(AND(E294<D294,OR(C294<>\"\",WEEKDAY(A294,2)=7)),ColTime(T.!J297,T.!L297,D294,$AF$1),IF(AND(E294<>\"\",OR(C294<>\"\",WEEKDAY(A294,2)=7)),ColTime(T.!$J$7,T.!$L$7,D294,E294),\"\")))))),\"\")","v":""},"",null,null,{"$f":"IFERROR(CHOOSE(WEEKDAY(A294,2),norm!C$1,norm!C$2,norm!C$3,norm!C$4,norm!C$5,norm!C$6,norm!C$7),\"\")","v":"07:00:00"}]
["2019-10-19","Lø","",null,null,null,"","00:00:00","",{"$f":"IF(AND(C295=\"\",WEEKDAY(A295,2)<6),ColTime(T.!$J$4,T.!$L$4,D295,E295),\"\")","v":""},null,{"$f":"IF(AND(OR(WEEKDAY(A295,2)=7,C295<>\"\"),E295<D295,C296=\"\"),ColTime($AF$1,$AG$1,'Hele året (2)'!$AF$1,E295),IF(AND(WEEKDAY(A295,2)<6,C296=\"\"),ColTime(T.!$J$5,T.!$L$5,D295,E295),\"\"))","v":""},null,"00:00:00",{"$f":"IFERROR(IF(AND(WEEKDAY(A295,2)<6,C296<>\"\",C295=\"\"),ColTime(T.!$J$7,T.!$L$7,$AF$1,'Hele året (2)'!E295),IF(AND(C295<>\"\",C296<>\"\"),ColTime(T.!$J$7,T.!$L$7,'Hele året (2)'!D295,'Hele året (2)'!E295),IF(AND(OR(WEEKDAY(A295,2)<6,WEEKDAY(A295,2)=6),C295<>\"\",E295<D295),ColTime(T.!$J$7,T.!$L$7,D295,AF292),IF(AND(WEEKDAY(A295,2)=6,E295<D295),ColTime(T.!$J$7,T.!$L$7,$AF$1,E295),IF(AND(E295<D295,OR(C295<>\"\",WEEKDAY(A295,2)=7)),ColTime(T.!J298,T.!L298,D295,$AF$1),IF(AND(E295<>\"\",OR(C295<>\"\",WEEKDAY(A295,2)=7)),ColTime(T.!$J$7,T.!$L$7,D295,E295),\"\")))))),\"\")","v":""},"",null,null,{"$f":"IFERROR(CHOOSE(WEEKDAY(A295,2),norm!C$1,norm!C$2,norm!C$3,norm!C$4,norm!C$5,norm!C$6,norm!C$7),\"\")","v":"00:00:00"}]
["2019-10-20","Sø","",null,null,null,"","00:00:00","",{"$f":"IF(AND(C296=\"\",WEEKDAY(A296,2)<6),ColTime(T.!$J$4,T.!$L$4,D296,E296),\"\")","v":""},null,{"$f":"IF(AND(OR(WEEKDAY(A296,2)=7,C296<>\"\"),E296<D296,C297=\"\"),ColTime($AF$1,$AG$1,'Hele året (2)'!$AF$1,E296),IF(AND(WEEKDAY(A296,2)<6,C297=\"\"),ColTime(T.!$J$5,T.!$L$5,D296,E296),\"\"))","v":""},null,"",{"$f":"IFERROR(IF(AND(WEEKDAY(A296,2)<6,C297<>\"\",C296=\"\"),ColTime(T.!$J$7,T.!$L$7,$AF$1,'Hele året (2)'!E296),IF(AND(C296<>\"\",C297<>\"\"),ColTime(T.!$J$7,T.!$L$7,'Hele året (2)'!D296,'Hele året (2)'!E296),IF(AND(OR(WEEKDAY(A296,2)<6,WEEKDAY(A296,2)=6),C296<>\"\",E296<D296),ColTime(T.!$J$7,T.!$L$7,D296,AF293),IF(AND(WEEKDAY(A296,2)=6,E296<D296),ColTime(T.!$J$7,T.!$L$7,$AF$1,E296),IF(AND(E296<D296,OR(C296<>\"\",WEEKDAY(A296,2)=7)),ColTime(T.!J299,T.!L299,D296,$AF$1),IF(AND(E296<>\"\",OR(C296<>\"\",WEEKDAY(A296,2)=7)),ColTime(T.!$J$7,T.!$L$7,D296,E296),\"\")))))),\"\")","v":""},"",null,null,{"$f":"IFERROR(CHOOSE(WEEKDAY(A296,2),norm!C$1,norm!C$2,norm!C$3,norm!C$4,norm!C$5,norm!C$6,norm!C$7),\"\")","v":"00:00:00"}]
["2019-10-21","Ma","",null,null,null,"","00:00:00","",{"$f":"IF(AND(C297=\"\",WEEKDAY(A297,2)<6),ColTime(T.!$J$4,T.!$L$4,D297,E297),\"\")","v":"00:00:00"},null,{"$f":"IF(AND(OR(WEEKDAY(A297,2)=7,C297<>\"\"),E297<D297,C298=\"\"),ColTime($AF$1,$AG$1,'Hele året (2)'!$AF$1,E297),IF(AND(WEEKDAY(A297,2)<6,C298=\"\"),ColTime(T.!$J$5,T.!$L$5,D297,E297),\"\"))","v":"00:00:00"},null,"",{"$f":"IFERROR(IF(AND(WEEKDAY(A297,2)<6,C298<>\"\",C297=\"\"),ColTime(T.!$J$7,T.!$L$7,$AF$1,'Hele året (2)'!E297),IF(AND(C297<>\"\",C298<>\"\"),ColTime(T.!$J$7,T.!$L$7,'Hele året (2)'!D297,'Hele året (2)'!E297),IF(AND(OR(WEEKDAY(A297,2)<6,WEEKDAY(A297,2)=6),C297<>\"\",E297<D297),ColTime(T.!$J$7,T.!$L$7,D297,AF294),IF(AND(WEEKDAY(A297,2)=6,E297<D297),ColTime(T.!$J$7,T.!$L$7,$AF$1,E297),IF(AND(E297<D297,OR(C297<>\"\",WEEKDAY(A297,2)=7)),ColTime(T.!J300,T.!L300,D297,$AF$1),IF(AND(E297<>\"\",OR(C297<>\"\",WEEKDAY(A297,2)=7)),ColTime(T.!$J$7,T.!$L$7,D297,E297),\"\")))))),\"\")","v":""},"",null,null,{"$f":"IFERROR(CHOOSE(WEEKDAY(A297,2),norm!C$1,norm!C$2,norm!C$3,norm!C$4,norm!C$5,norm!C$6,norm!C$7),\"\")","v":"07:30:00"}]
["2019-10-22","Ti","",null,null,null,"","00:00:00","",{"$f":"IF(AND(C298=\"\",WEEKDAY(A298,2)<6),ColTime(T.!$J$4,T.!$L$4,D298,E298),\"\")","v":"00:00:00"},null,{"$f":"IF(AND(OR(WEEKDAY(A298,2)=7,C298<>\"\"),E298<D298,C299=\"\"),ColTime($AF$1,$AG$1,'Hele året (2)'!$AF$1,E298),IF(AND(WEEKDAY(A298,2)<6,C299=\"\"),ColTime(T.!$J$5,T.!$L$5,D298,E298),\"\"))","v":"00:00:00"},null,"",{"$f":"IFERROR(IF(AND(WEEKDAY(A298,2)<6,C299<>\"\",C298=\"\"),ColTime(T.!$J$7,T.!$L$7,$AF$1,'Hele året (2)'!E298),IF(AND(C298<>\"\",C299<>\"\"),ColTime(T.!$J$7,T.!$L$7,'Hele året (2)'!D298,'Hele året (2)'!E298),IF(AND(OR(WEEKDAY(A298,2)<6,WEEKDAY(A298,2)=6),C298<>\"\",E298<D298),ColTime(T.!$J$7,T.!$L$7,D298,AF295),IF(AND(WEEKDAY(A298,2)=6,E298<D298),ColTime(T.!$J$7,T.!$L$7,$AF$1,E298),IF(AND(E298<D298,OR(C298<>\"\",WEEKDAY(A298,2)=7)),ColTime(T.!J301,T.!L301,D298,$AF$1),IF(AND(E298<>\"\",OR(C298<>\"\",WEEKDAY(A298,2)=7)),ColTime(T.!$J$7,T.!$L$7,D298,E298),\"\")))))),\"\")","v":""},"",null,null,{"$f":"IFERROR(CHOOSE(WEEKDAY(A298,2),norm!C$1,norm!C$2,norm!C$3,norm!C$4,norm!C$5,norm!C$6,norm!C$7),\"\")","v":"07:30:00"}]
["2019-10-23","On","",null,null,null,"","00:00:00","",{"$f":"IF(AND(C299=\"\",WEEKDAY(A299,2)<6),ColTime(T.!$J$4,T.!$L$4,D299,E299),\"\")","v":"00:00:00"},null,{"$f":"IF(AND(OR(WEEKDAY(A299,2)=7,C299<>\"\"),E299<D299,C300=\"\"),ColTime($AF$1,$AG$1,'Hele året (2)'!$AF$1,E299),IF(AND(WEEKDAY(A299,2)<6,C300=\"\"),ColTime(T.!$J$5,T.!$L$5,D299,E299),\"\"))","v":"00:00:00"},null,"",{"$f":"IFERROR(IF(AND(WEEKDAY(A299,2)<6,C300<>\"\",C299=\"\"),ColTime(T.!$J$7,T.!$L$7,$AF$1,'Hele året (2)'!E299),IF(AND(C299<>\"\",C300<>\"\"),ColTime(T.!$J$7,T.!$L$7,'Hele året (2)'!D299,'Hele året (2)'!E299),IF(AND(OR(WEEKDAY(A299,2)<6,WEEKDAY(A299,2)=6),C299<>\"\",E299<D299),ColTime(T.!$J$7,T.!$L$7,D299,AF296),IF(AND(WEEKDAY(A299,2)=6,E299<D299),ColTime(T.!$J$7,T.!$L$7,$AF$1,E299),IF(AND(E299<D299,OR(C299<>\"\",WEEKDAY(A299,2)=7)),ColTime(T.!J302,T.!L302,D299,$AF$1),IF(AND(E299<>\"\",OR(C299<>\"\",WEEKDAY(A299,2)=7)),ColTime(T.!$J$7,T.!$L$7,D299,E299),\"\")))))),\"\")","v":""},"",null,null,{"$f":"IFERROR(CHOOSE(WEEKDAY(A299,2),norm!C$1,norm!C$2,norm!C$3,norm!C$4,norm!C$5,norm!C$6,norm!C$7),\"\")","v":"07:30:00"}]
["2019-10-24","To","",null,null,null,"","00:00:00","",{"$f":"IF(AND(C300=\"\",WEEKDAY(A300,2)<6),ColTime(T.!$J$4,T.!$L$4,D300,E300),\"\")","v":"00:00:00"},null,{"$f":"IF(AND(OR(WEEKDAY(A300,2)=7,C300<>\"\"),E300<D300,C301=\"\"),ColTime($AF$1,$AG$1,'Hele året (2)'!$AF$1,E300),IF(AND(WEEKDAY(A300,2)<6,C301=\"\"),ColTime(T.!$J$5,T.!$L$5,D300,E300),\"\"))","v":"00:00:00"},null,"",{"$f":"IFERROR(IF(AND(WEEKDAY(A300,2)<6,C301<>\"\",C300=\"\"),ColTime(T.!$J$7,T.!$L$7,$AF$1,'Hele året (2)'!E300),IF(AND(C300<>\"\",C301<>\"\"),ColTime(T.!$J$7,T.!$L$7,'Hele året (2)'!D300,'Hele året (2)'!E300),IF(AND(OR(WEEKDAY(A300,2)<6,WEEKDAY(A300,2)=6),C300<>\"\",E300<D300),ColTime(T.!$J$7,T.!$L$7,D300,AF297),IF(AND(WEEKDAY(A300,2)=6,E300<D300),ColTime(T.!$J$7,T.!$L$7,$AF$1,E300),IF(AND(E300<D300,OR(C300<>\"\",WEEKDAY(A300,2)=7)),ColTime(T.!J303,T.!L303,D300,$AF$1),IF(AND(E300<>\"\",OR(C300<>\"\",WEEKDAY(A300,2)=7)),ColTime(T.!$J$7,T.!$L$7,D300,E300),\"\")))))),\"\")","v":""},"",null,null,{"$f":"IFERROR(CHOOSE(WEEKDAY(A300,2),norm!C$1,norm!C$2,norm!C$3,norm!C$4,norm!C$5,norm!C$6,norm!C$7),\"\")","v":"07:30:00"}]
["2019-10-25","Fr","",null,null,null,"","00:00:00","",{"$f":"IF(AND(C301=\"\",WEEKDAY(A301,2)<6),ColTime(T.!$J$4,T.!$L$4,D301,E301),\"\")","v":"00:00:00"},null,{"$f":"IF(AND(OR(WEEKDAY(A301,2)=7,C301<>\"\"),E301<D301,C302=\"\"),ColTime($AF$1,$AG$1,'Hele året (2)'!$AF$1,E301),IF(AND(WEEKDAY(A301,2)<6,C302=\"\"),ColTime(T.!$J$5,T.!$L$5,D301,E301),\"\"))","v":"00:00:00"},null,"",{"$f":"IFERROR(IF(AND(WEEKDAY(A301,2)<6,C302<>\"\",C301=\"\"),ColTime(T.!$J$7,T.!$L$7,$AF$1,'Hele året (2)'!E301),IF(AND(C301<>\"\",C302<>\"\"),ColTime(T.!$J$7,T.!$L$7,'Hele året (2)'!D301,'Hele året (2)'!E301),IF(AND(OR(WEEKDAY(A301,2)<6,WEEKDAY(A301,2)=6),C301<>\"\",E301<D301),ColTime(T.!$J$7,T.!$L$7,D301,AF298),IF(AND(WEEKDAY(A301,2)=6,E301<D301),ColTime(T.!$J$7,T.!$L$7,$AF$1,E301),IF(AND(E301<D301,OR(C301<>\"\",WEEKDAY(A301,2)=7)),ColTime(T.!J304,T.!L304,D301,$AF$1),IF(AND(E301<>\"\",OR(C301<>\"\",WEEKDAY(A301,2)=7)),ColTime(T.!$J$7,T.!$L$7,D301,E301),\"\")))))),\"\")","v":""},"",null,null,{"$f":"IFERROR(CHOOSE(WEEKDAY(A301,2),norm!C$1,norm!C$2,norm!C$3,norm!C$4,norm!C$5,norm!C$6,norm!C$7),\"\")","v":"07:00:00"}]
["2019-10-26","Lø","",null,null,null,"","00:00:00","",{"$f":"IF(AND(C302=\"\",WEEKDAY(A302,2)<6),ColTime(T.!$J$4,T.!$L$4,D302,E302),\"\")","v":""},null,{"$f":"IF(AND(OR(WEEKDAY(A302,2)=7,C302<>\"\"),E302<D302,C303=\"\"),ColTime($AF$1,$AG$1,'Hele året (2)'!$AF$1,E302),IF(AND(WEEKDAY(A302,2)<6,C303=\"\"),ColTime(T.!$J$5,T.!$L$5,D302,E302),\"\"))","v":""},null,"00:00:00",{"$f":"IFERROR(IF(AND(WEEKDAY(A302,2)<6,C303<>\"\",C302=\"\"),ColTime(T.!$J$7,T.!$L$7,$AF$1,'Hele året (2)'!E302),IF(AND(C302<>\"\",C303<>\"\"),ColTime(T.!$J$7,T.!$L$7,'Hele året (2)'!D302,'Hele året (2)'!E302),IF(AND(OR(WEEKDAY(A302,2)<6,WEEKDAY(A302,2)=6),C302<>\"\",E302<D302),ColTime(T.!$J$7,T.!$L$7,D302,AF299),IF(AND(WEEKDAY(A302,2)=6,E302<D302),ColTime(T.!$J$7,T.!$L$7,$AF$1,E302),IF(AND(E302<D302,OR(C302<>\"\",WEEKDAY(A302,2)=7)),ColTime(T.!J305,T.!L305,D302,$AF$1),IF(AND(E302<>\"\",OR(C302<>\"\",WEEKDAY(A302,2)=7)),ColTime(T.!$J$7,T.!$L$7,D302,E302),\"\")))))),\"\")","v":""},"",null,null,{"$f":"IFERROR(CHOOSE(WEEKDAY(A302,2),norm!C$1,norm!C$2,norm!C$3,norm!C$4,norm!C$5,norm!C$6,norm!C$7),\"\")","v":"00:00:00"}]
["2019-10-27","Sø","",null,null,null,"","00:00:00","",{"$f":"IF(AND(C303=\"\",WEEKDAY(A303,2)<6),ColTime(T.!$J$4,T.!$L$4,D303,E303),\"\")","v":""},null,{"$f":"IF(AND(OR(WEEKDAY(A303,2)=7,C303<>\"\"),E303<D303,C304=\"\"),ColTime($AF$1,$AG$1,'Hele året (2)'!$AF$1,E303),IF(AND(WEEKDAY(A303,2)<6,C304=\"\"),ColTime(T.!$J$5,T.!$L$5,D303,E303),\"\"))","v":""},null,"",{"$f":"IFERROR(IF(AND(WEEKDAY(A303,2)<6,C304<>\"\",C303=\"\"),ColTime(T.!$J$7,T.!$L$7,$AF$1,'Hele året (2)'!E303),IF(AND(C303<>\"\",C304<>\"\"),ColTime(T.!$J$7,T.!$L$7,'Hele året (2)'!D303,'Hele året (2)'!E303),IF(AND(OR(WEEKDAY(A303,2)<6,WEEKDAY(A303,2)=6),C303<>\"\",E303<D303),ColTime(T.!$J$7,T.!$L$7,D303,AF300),IF(AND(WEEKDAY(A303,2)=6,E303<D303),ColTime(T.!$J$7,T.!$L$7,$AF$1,E303),IF(AND(E303<D303,OR(C303<>\"\",WEEKDAY(A303,2)=7)),ColTime(T.!J306,T.!L306,D303,$AF$1),IF(AND(E303<>\"\",OR(C303<>\"\",WEEKDAY(A303,2)=7)),ColTime(T.!$J$7,T.!$L$7,D303,E303),\"\")))))),\"\")","v":""},"",null,null,{"$f":"IFERROR(CHOOSE(WEEKDAY(A303,2),norm!C$1,norm!C$2,norm!C$3,norm!C$4,norm!C$5,norm!C$6,norm!C$7),\"\")","v":"00:00:00"}]
["2019-10-28","Ma","",null,null,null,"","00:00:00","",{"$f":"IF(AND(C304=\"\",WEEKDAY(A304,2)<6),ColTime(T.!$J$4,T.!$L$4,D304,E304),\"\")","v":"00:00:00"},null,{"$f":"IF(AND(OR(WEEKDAY(A304,2)=7,C304<>\"\"),E304<D304,C305=\"\"),ColTime($AF$1,$AG$1,'Hele året (2)'!$AF$1,E304),IF(AND(WEEKDAY(A304,2)<6,C305=\"\"),ColTime(T.!$J$5,T.!$L$5,D304,E304),\"\"))","v":"00:00:00"},null,"",{"$f":"IFERROR(IF(AND(WEEKDAY(A304,2)<6,C305<>\"\",C304=\"\"),ColTime(T.!$J$7,T.!$L$7,$AF$1,'Hele året (2)'!E304),IF(AND(C304<>\"\",C305<>\"\"),ColTime(T.!$J$7,T.!$L$7,'Hele året (2)'!D304,'Hele året (2)'!E304),IF(AND(OR(WEEKDAY(A304,2)<6,WEEKDAY(A304,2)=6),C304<>\"\",E304<D304),ColTime(T.!$J$7,T.!$L$7,D304,AF301),IF(AND(WEEKDAY(A304,2)=6,E304<D304),ColTime(T.!$J$7,T.!$L$7,$AF$1,E304),IF(AND(E304<D304,OR(C304<>\"\",WEEKDAY(A304,2)=7)),ColTime(T.!J307,T.!L307,D304,$AF$1),IF(AND(E304<>\"\",OR(C304<>\"\",WEEKDAY(A304,2)=7)),ColTime(T.!$J$7,T.!$L$7,D304,E304),\"\")))))),\"\")","v":""},"",null,null,{"$f":"IFERROR(CHOOSE(WEEKDAY(A304,2),norm!C$1,norm!C$2,norm!C$3,norm!C$4,norm!C$5,norm!C$6,norm!C$7),\"\")","v":"07:30:00"}]
["2019-10-29","Ti","",null,null,null,"","00:00:00","",{"$f":"IF(AND(C305=\"\",WEEKDAY(A305,2)<6),ColTime(T.!$J$4,T.!$L$4,D305,E305),\"\")","v":"00:00:00"},null,{"$f":"IF(AND(OR(WEEKDAY(A305,2)=7,C305<>\"\"),E305<D305,C306=\"\"),ColTime($AF$1,$AG$1,'Hele året (2)'!$AF$1,E305),IF(AND(WEEKDAY(A305,2)<6,C306=\"\"),ColTime(T.!$J$5,T.!$L$5,D305,E305),\"\"))","v":"00:00:00"},null,"",{"$f":"IFERROR(IF(AND(WEEKDAY(A305,2)<6,C306<>\"\",C305=\"\"),ColTime(T.!$J$7,T.!$L$7,$AF$1,'Hele året (2)'!E305),IF(AND(C305<>\"\",C306<>\"\"),ColTime(T.!$J$7,T.!$L$7,'Hele året (2)'!D305,'Hele året (2)'!E305),IF(AND(OR(WEEKDAY(A305,2)<6,WEEKDAY(A305,2)=6),C305<>\"\",E305<D305),ColTime(T.!$J$7,T.!$L$7,D305,AF302),IF(AND(WEEKDAY(A305,2)=6,E305<D305),ColTime(T.!$J$7,T.!$L$7,$AF$1,E305),IF(AND(E305<D305,OR(C305<>\"\",WEEKDAY(A305,2)=7)),ColTime(T.!J308,T.!L308,D305,$AF$1),IF(AND(E305<>\"\",OR(C305<>\"\",WEEKDAY(A305,2)=7)),ColTime(T.!$J$7,T.!$L$7,D305,E305),\"\")))))),\"\")","v":""},"",null,null,{"$f":"IFERROR(CHOOSE(WEEKDAY(A305,2),norm!C$1,norm!C$2,norm!C$3,norm!C$4,norm!C$5,norm!C$6,norm!C$7),\"\")","v":"07:30:00"}]
["2019-10-30","On","",null,null,null,"","00:00:00","",{"$f":"IF(AND(C306=\"\",WEEKDAY(A306,2)<6),ColTime(T.!$J$4,T.!$L$4,D306,E306),\"\")","v":"00:00:00"},null,{"$f":"IF(AND(OR(WEEKDAY(A306,2)=7,C306<>\"\"),E306<D306,C307=\"\"),ColTime($AF$1,$AG$1,'Hele året (2)'!$AF$1,E306),IF(AND(WEEKDAY(A306,2)<6,C307=\"\"),ColTime(T.!$J$5,T.!$L$5,D306,E306),\"\"))","v":"00:00:00"},null,"",{"$f":"IFERROR(IF(AND(WEEKDAY(A306,2)<6,C307<>\"\",C306=\"\"),ColTime(T.!$J$7,T.!$L$7,$AF$1,'Hele året (2)'!E306),IF(AND(C306<>\"\",C307<>\"\"),ColTime(T.!$J$7,T.!$L$7,'Hele året (2)'!D306,'Hele året (2)'!E306),IF(AND(OR(WEEKDAY(A306,2)<6,WEEKDAY(A306,2)=6),C306<>\"\",E306<D306),ColTime(T.!$J$7,T.!$L$7,D306,AF303),IF(AND(WEEKDAY(A306,2)=6,E306<D306),ColTime(T.!$J$7,T.!$L$7,$AF$1,E306),IF(AND(E306<D306,OR(C306<>\"\",WEEKDAY(A306,2)=7)),ColTime(T.!J309,T.!L309,D306,$AF$1),IF(AND(E306<>\"\",OR(C306<>\"\",WEEKDAY(A306,2)=7)),ColTime(T.!$J$7,T.!$L$7,D306,E306),\"\")))))),\"\")","v":""},"",null,null,{"$f":"IFERROR(CHOOSE(WEEKDAY(A306,2),norm!C$1,norm!C$2,norm!C$3,norm!C$4,norm!C$5,norm!C$6,norm!C$7),\"\")","v":"07:30:00"}]
["2019-10-31","To","",null,null,null,"","00:00:00","",{"$f":"IF(AND(C307=\"\",WEEKDAY(A307,2)<6),ColTime(T.!$J$4,T.!$L$4,D307,E307),\"\")","v":"00:00:00"},null,{"$f":"IF(AND(OR(WEEKDAY(A307,2)=7,C307<>\"\"),E307<D307,C308=\"\"),ColTime($AF$1,$AG$1,'Hele året (2)'!$AF$1,E307),IF(AND(WEEKDAY(A307,2)<6,C308=\"\"),ColTime(T.!$J$5,T.!$L$5,D307,E307),\"\"))","v":"00:00:00"},null,"",{"$f":"IFERROR(IF(AND(WEEKDAY(A307,2)<6,C308<>\"\",C307=\"\"),ColTime(T.!$J$7,T.!$L$7,$AF$1,'Hele året (2)'!E307),IF(AND(C307<>\"\",C308<>\"\"),ColTime(T.!$J$7,T.!$L$7,'Hele året (2)'!D307,'Hele året (2)'!E307),IF(AND(OR(WEEKDAY(A307,2)<6,WEEKDAY(A307,2)=6),C307<>\"\",E307<D307),ColTime(T.!$J$7,T.!$L$7,D307,AF304),IF(AND(WEEKDAY(A307,2)=6,E307<D307),ColTime(T.!$J$7,T.!$L$7,$AF$1,E307),IF(AND(E307<D307,OR(C307<>\"\",WEEKDAY(A307,2)=7)),ColTime(T.!J310,T.!L310,D307,$AF$1),IF(AND(E307<>\"\",OR(C307<>\"\",WEEKDAY(A307,2)=7)),ColTime(T.!$J$7,T.!$L$7,D307,E307),\"\")))))),\"\")","v":""},"",null,null,{"$f":"IFERROR(CHOOSE(WEEKDAY(A307,2),norm!C$1,norm!C$2,norm!C$3,norm!C$4,norm!C$5,norm!C$6,norm!C$7),\"\")","v":"07:30:00"}]
["2019-11-01","Fr","",null,null,null,"","00:00:00","",{"$f":"IF(AND(C308=\"\",WEEKDAY(A308,2)<6),ColTime(T.!$J$4,T.!$L$4,D308,E308),\"\")","v":"00:00:00"},null,{"$f":"IF(AND(OR(WEEKDAY(A308,2)=7,C308<>\"\"),E308<D308,C309=\"\"),ColTime($AF$1,$AG$1,'Hele året (2)'!$AF$1,E308),IF(AND(WEEKDAY(A308,2)<6,C309=\"\"),ColTime(T.!$J$5,T.!$L$5,D308,E308),\"\"))","v":"00:00:00"},null,"",{"$f":"IFERROR(IF(AND(WEEKDAY(A308,2)<6,C309<>\"\",C308=\"\"),ColTime(T.!$J$7,T.!$L$7,$AF$1,'Hele året (2)'!E308),IF(AND(C308<>\"\",C309<>\"\"),ColTime(T.!$J$7,T.!$L$7,'Hele året (2)'!D308,'Hele året (2)'!E308),IF(AND(OR(WEEKDAY(A308,2)<6,WEEKDAY(A308,2)=6),C308<>\"\",E308<D308),ColTime(T.!$J$7,T.!$L$7,D308,AF305),IF(AND(WEEKDAY(A308,2)=6,E308<D308),ColTime(T.!$J$7,T.!$L$7,$AF$1,E308),IF(AND(E308<D308,OR(C308<>\"\",WEEKDAY(A308,2)=7)),ColTime(T.!J311,T.!L311,D308,$AF$1),IF(AND(E308<>\"\",OR(C308<>\"\",WEEKDAY(A308,2)=7)),ColTime(T.!$J$7,T.!$L$7,D308,E308),\"\")))))),\"\")","v":""},"",null,null,{"$f":"IFERROR(CHOOSE(WEEKDAY(A308,2),norm!C$1,norm!C$2,norm!C$3,norm!C$4,norm!C$5,norm!C$6,norm!C$7),\"\")","v":"07:00:00"}]
["2019-11-02","Lø","",null,null,null,"","00:00:00","",{"$f":"IF(AND(C309=\"\",WEEKDAY(A309,2)<6),ColTime(T.!$J$4,T.!$L$4,D309,E309),\"\")","v":""},null,{"$f":"IF(AND(OR(WEEKDAY(A309,2)=7,C309<>\"\"),E309<D309,C310=\"\"),ColTime($AF$1,$AG$1,'Hele året (2)'!$AF$1,E309),IF(AND(WEEKDAY(A309,2)<6,C310=\"\"),ColTime(T.!$J$5,T.!$L$5,D309,E309),\"\"))","v":""},null,"00:00:00",{"$f":"IFERROR(IF(AND(WEEKDAY(A309,2)<6,C310<>\"\",C309=\"\"),ColTime(T.!$J$7,T.!$L$7,$AF$1,'Hele året (2)'!E309),IF(AND(C309<>\"\",C310<>\"\"),ColTime(T.!$J$7,T.!$L$7,'Hele året (2)'!D309,'Hele året (2)'!E309),IF(AND(OR(WEEKDAY(A309,2)<6,WEEKDAY(A309,2)=6),C309<>\"\",E309<D309),ColTime(T.!$J$7,T.!$L$7,D309,AF306),IF(AND(WEEKDAY(A309,2)=6,E309<D309),ColTime(T.!$J$7,T.!$L$7,$AF$1,E309),IF(AND(E309<D309,OR(C309<>\"\",WEEKDAY(A309,2)=7)),ColTime(T.!J312,T.!L312,D309,$AF$1),IF(AND(E309<>\"\",OR(C309<>\"\",WEEKDAY(A309,2)=7)),ColTime(T.!$J$7,T.!$L$7,D309,E309),\"\")))))),\"\")","v":""},"",null,null,{"$f":"IFERROR(CHOOSE(WEEKDAY(A309,2),norm!C$1,norm!C$2,norm!C$3,norm!C$4,norm!C$5,norm!C$6,norm!C$7),\"\")","v":"00:00:00"}]
["2019-11-03","Sø","",null,null,null,"","00:00:00","",{"$f":"IF(AND(C310=\"\",WEEKDAY(A310,2)<6),ColTime(T.!$J$4,T.!$L$4,D310,E310),\"\")","v":""},null,{"$f":"IF(AND(OR(WEEKDAY(A310,2)=7,C310<>\"\"),E310<D310,C311=\"\"),ColTime($AF$1,$AG$1,'Hele året (2)'!$AF$1,E310),IF(AND(WEEKDAY(A310,2)<6,C311=\"\"),ColTime(T.!$J$5,T.!$L$5,D310,E310),\"\"))","v":""},null,"",{"$f":"IFERROR(IF(AND(WEEKDAY(A310,2)<6,C311<>\"\",C310=\"\"),ColTime(T.!$J$7,T.!$L$7,$AF$1,'Hele året (2)'!E310),IF(AND(C310<>\"\",C311<>\"\"),ColTime(T.!$J$7,T.!$L$7,'Hele året (2)'!D310,'Hele året (2)'!E310),IF(AND(OR(WEEKDAY(A310,2)<6,WEEKDAY(A310,2)=6),C310<>\"\",E310<D310),ColTime(T.!$J$7,T.!$L$7,D310,AF307),IF(AND(WEEKDAY(A310,2)=6,E310<D310),ColTime(T.!$J$7,T.!$L$7,$AF$1,E310),IF(AND(E310<D310,OR(C310<>\"\",WEEKDAY(A310,2)=7)),ColTime(T.!J313,T.!L313,D310,$AF$1),IF(AND(E310<>\"\",OR(C310<>\"\",WEEKDAY(A310,2)=7)),ColTime(T.!$J$7,T.!$L$7,D310,E310),\"\")))))),\"\")","v":""},"",null,null,{"$f":"IFERROR(CHOOSE(WEEKDAY(A310,2),norm!C$1,norm!C$2,norm!C$3,norm!C$4,norm!C$5,norm!C$6,norm!C$7),\"\")","v":"00:00:00"}]
["2019-11-04","Ma","",null,null,null,"","00:00:00","",{"$f":"IF(AND(C311=\"\",WEEKDAY(A311,2)<6),ColTime(T.!$J$4,T.!$L$4,D311,E311),\"\")","v":"00:00:00"},null,{"$f":"IF(AND(OR(WEEKDAY(A311,2)=7,C311<>\"\"),E311<D311,C312=\"\"),ColTime($AF$1,$AG$1,'Hele året (2)'!$AF$1,E311),IF(AND(WEEKDAY(A311,2)<6,C312=\"\"),ColTime(T.!$J$5,T.!$L$5,D311,E311),\"\"))","v":"00:00:00"},null,"",{"$f":"IFERROR(IF(AND(WEEKDAY(A311,2)<6,C312<>\"\",C311=\"\"),ColTime(T.!$J$7,T.!$L$7,$AF$1,'Hele året (2)'!E311),IF(AND(C311<>\"\",C312<>\"\"),ColTime(T.!$J$7,T.!$L$7,'Hele året (2)'!D311,'Hele året (2)'!E311),IF(AND(OR(WEEKDAY(A311,2)<6,WEEKDAY(A311,2)=6),C311<>\"\",E311<D311),ColTime(T.!$J$7,T.!$L$7,D311,AF308),IF(AND(WEEKDAY(A311,2)=6,E311<D311),ColTime(T.!$J$7,T.!$L$7,$AF$1,E311),IF(AND(E311<D311,OR(C311<>\"\",WEEKDAY(A311,2)=7)),ColTime(T.!J314,T.!L314,D311,$AF$1),IF(AND(E311<>\"\",OR(C311<>\"\",WEEKDAY(A311,2)=7)),ColTime(T.!$J$7,T.!$L$7,D311,E311),\"\")))))),\"\")","v":""},"",null,null,{"$f":"IFERROR(CHOOSE(WEEKDAY(A311,2),norm!C$1,norm!C$2,norm!C$3,norm!C$4,norm!C$5,norm!C$6,norm!C$7),\"\")","v":"07:30:00"}]
["2019-11-05","Ti","",null,null,null,"","00:00:00","",{"$f":"IF(AND(C312=\"\",WEEKDAY(A312,2)<6),ColTime(T.!$J$4,T.!$L$4,D312,E312),\"\")","v":"00:00:00"},null,{"$f":"IF(AND(OR(WEEKDAY(A312,2)=7,C312<>\"\"),E312<D312,C313=\"\"),ColTime($AF$1,$AG$1,'Hele året (2)'!$AF$1,E312),IF(AND(WEEKDAY(A312,2)<6,C313=\"\"),ColTime(T.!$J$5,T.!$L$5,D312,E312),\"\"))","v":"00:00:00"},null,"",{"$f":"IFERROR(IF(AND(WEEKDAY(A312,2)<6,C313<>\"\",C312=\"\"),ColTime(T.!$J$7,T.!$L$7,$AF$1,'Hele året (2)'!E312),IF(AND(C312<>\"\",C313<>\"\"),ColTime(T.!$J$7,T.!$L$7,'Hele året (2)'!D312,'Hele året (2)'!E312),IF(AND(OR(WEEKDAY(A312,2)<6,WEEKDAY(A312,2)=6),C312<>\"\",E312<D312),ColTime(T.!$J$7,T.!$L$7,D312,AF309),IF(AND(WEEKDAY(A312,2)=6,E312<D312),ColTime(T.!$J$7,T.!$L$7,$AF$1,E312),IF(AND(E312<D312,OR(C312<>\"\",WEEKDAY(A312,2)=7)),ColTime(T.!J315,T.!L315,D312,$AF$1),IF(AND(E312<>\"\",OR(C312<>\"\",WEEKDAY(A312,2)=7)),ColTime(T.!$J$7,T.!$L$7,D312,E312),\"\")))))),\"\")","v":""},"",null,null,{"$f":"IFERROR(CHOOSE(WEEKDAY(A312,2),norm!C$1,norm!C$2,norm!C$3,norm!C$4,norm!C$5,norm!C$6,norm!C$7),\"\")","v":"07:30:00"}]
["2019-11-06","On","",null,null,null,"","00:00:00","",{"$f":"IF(AND(C313=\"\",WEEKDAY(A313,2)<6),ColTime(T.!$J$4,T.!$L$4,D313,E313),\"\")","v":"00:00:00"},null,{"$f":"IF(AND(OR(WEEKDAY(A313,2)=7,C313<>\"\"),E313<D313,C314=\"\"),ColTime($AF$1,$AG$1,'Hele året (2)'!$AF$1,E313),IF(AND(WEEKDAY(A313,2)<6,C314=\"\"),ColTime(T.!$J$5,T.!$L$5,D313,E313),\"\"))","v":"00:00:00"},null,"",{"$f":"IFERROR(IF(AND(WEEKDAY(A313,2)<6,C314<>\"\",C313=\"\"),ColTime(T.!$J$7,T.!$L$7,$AF$1,'Hele året (2)'!E313),IF(AND(C313<>\"\",C314<>\"\"),ColTime(T.!$J$7,T.!$L$7,'Hele året (2)'!D313,'Hele året (2)'!E313),IF(AND(OR(WEEKDAY(A313,2)<6,WEEKDAY(A313,2)=6),C313<>\"\",E313<D313),ColTime(T.!$J$7,T.!$L$7,D313,AF310),IF(AND(WEEKDAY(A313,2)=6,E313<D313),ColTime(T.!$J$7,T.!$L$7,$AF$1,E313),IF(AND(E313<D313,OR(C313<>\"\",WEEKDAY(A313,2)=7)),ColTime(T.!J316,T.!L316,D313,$AF$1),IF(AND(E313<>\"\",OR(C313<>\"\",WEEKDAY(A313,2)=7)),ColTime(T.!$J$7,T.!$L$7,D313,E313),\"\")))))),\"\")","v":""},"",null,null,{"$f":"IFERROR(CHOOSE(WEEKDAY(A313,2),norm!C$1,norm!C$2,norm!C$3,norm!C$4,norm!C$5,norm!C$6,norm!C$7),\"\")","v":"07:30:00"}]
["2019-11-07","To","",null,null,null,"","00:00:00","",{"$f":"IF(AND(C314=\"\",WEEKDAY(A314,2)<6),ColTime(T.!$J$4,T.!$L$4,D314,E314),\"\")","v":"00:00:00"},null,{"$f":"IF(AND(OR(WEEKDAY(A314,2)=7,C314<>\"\"),E314<D314,C315=\"\"),ColTime($AF$1,$AG$1,'Hele året (2)'!$AF$1,E314),IF(AND(WEEKDAY(A314,2)<6,C315=\"\"),ColTime(T.!$J$5,T.!$L$5,D314,E314),\"\"))","v":"00:00:00"},null,"",{"$f":"IFERROR(IF(AND(WEEKDAY(A314,2)<6,C315<>\"\",C314=\"\"),ColTime(T.!$J$7,T.!$L$7,$AF$1,'Hele året (2)'!E314),IF(AND(C314<>\"\",C315<>\"\"),ColTime(T.!$J$7,T.!$L$7,'Hele året (2)'!D314,'Hele året (2)'!E314),IF(AND(OR(WEEKDAY(A314,2)<6,WEEKDAY(A314,2)=6),C314<>\"\",E314<D314),ColTime(T.!$J$7,T.!$L$7,D314,AF311),IF(AND(WEEKDAY(A314,2)=6,E314<D314),ColTime(T.!$J$7,T.!$L$7,$AF$1,E314),IF(AND(E314<D314,OR(C314<>\"\",WEEKDAY(A314,2)=7)),ColTime(T.!J317,T.!L317,D314,$AF$1),IF(AND(E314<>\"\",OR(C314<>\"\",WEEKDAY(A314,2)=7)),ColTime(T.!$J$7,T.!$L$7,D314,E314),\"\")))))),\"\")","v":""},"",null,null,{"$f":"IFERROR(CHOOSE(WEEKDAY(A314,2),norm!C$1,norm!C$2,norm!C$3,norm!C$4,norm!C$5,norm!C$6,norm!C$7),\"\")","v":"07:30:00"}]
["2019-11-08","Fr","",null,null,null,"","00:00:00","",{"$f":"IF(AND(C315=\"\",WEEKDAY(A315,2)<6),ColTime(T.!$J$4,T.!$L$4,D315,E315),\"\")","v":"00:00:00"},null,{"$f":"IF(AND(OR(WEEKDAY(A315,2)=7,C315<>\"\"),E315<D315,C316=\"\"),ColTime($AF$1,$AG$1,'Hele året (2)'!$AF$1,E315),IF(AND(WEEKDAY(A315,2)<6,C316=\"\"),ColTime(T.!$J$5,T.!$L$5,D315,E315),\"\"))","v":"00:00:00"},null,"",{"$f":"IFERROR(IF(AND(WEEKDAY(A315,2)<6,C316<>\"\",C315=\"\"),ColTime(T.!$J$7,T.!$L$7,$AF$1,'Hele året (2)'!E315),IF(AND(C315<>\"\",C316<>\"\"),ColTime(T.!$J$7,T.!$L$7,'Hele året (2)'!D315,'Hele året (2)'!E315),IF(AND(OR(WEEKDAY(A315,2)<6,WEEKDAY(A315,2)=6),C315<>\"\",E315<D315),ColTime(T.!$J$7,T.!$L$7,D315,AF312),IF(AND(WEEKDAY(A315,2)=6,E315<D315),ColTime(T.!$J$7,T.!$L$7,$AF$1,E315),IF(AND(E315<D315,OR(C315<>\"\",WEEKDAY(A315,2)=7)),ColTime(T.!J318,T.!L318,D315,$AF$1),IF(AND(E315<>\"\",OR(C315<>\"\",WEEKDAY(A315,2)=7)),ColTime(T.!$J$7,T.!$L$7,D315,E315),\"\")))))),\"\")","v":""},"",null,null,{"$f":"IFERROR(CHOOSE(WEEKDAY(A315,2),norm!C$1,norm!C$2,norm!C$3,norm!C$4,norm!C$5,norm!C$6,norm!C$7),\"\")","v":"07:00:00"}]
["2019-11-09","Lø","",null,null,null,"","00:00:00","",{"$f":"IF(AND(C316=\"\",WEEKDAY(A316,2)<6),ColTime(T.!$J$4,T.!$L$4,D316,E316),\"\")","v":""},null,{"$f":"IF(AND(OR(WEEKDAY(A316,2)=7,C316<>\"\"),E316<D316,C317=\"\"),ColTime($AF$1,$AG$1,'Hele året (2)'!$AF$1,E316),IF(AND(WEEKDAY(A316,2)<6,C317=\"\"),ColTime(T.!$J$5,T.!$L$5,D316,E316),\"\"))","v":""},null,"00:00:00",{"$f":"IFERROR(IF(AND(WEEKDAY(A316,2)<6,C317<>\"\",C316=\"\"),ColTime(T.!$J$7,T.!$L$7,$AF$1,'Hele året (2)'!E316),IF(AND(C316<>\"\",C317<>\"\"),ColTime(T.!$J$7,T.!$L$7,'Hele året (2)'!D316,'Hele året (2)'!E316),IF(AND(OR(WEEKDAY(A316,2)<6,WEEKDAY(A316,2)=6),C316<>\"\",E316<D316),ColTime(T.!$J$7,T.!$L$7,D316,AF313),IF(AND(WEEKDAY(A316,2)=6,E316<D316),ColTime(T.!$J$7,T.!$L$7,$AF$1,E316),IF(AND(E316<D316,OR(C316<>\"\",WEEKDAY(A316,2)=7)),ColTime(T.!J319,T.!L319,D316,$AF$1),IF(AND(E316<>\"\",OR(C316<>\"\",WEEKDAY(A316,2)=7)),ColTime(T.!$J$7,T.!$L$7,D316,E316),\"\")))))),\"\")","v":""},"",null,null,{"$f":"IFERROR(CHOOSE(WEEKDAY(A316,2),norm!C$1,norm!C$2,norm!C$3,norm!C$4,norm!C$5,norm!C$6,norm!C$7),\"\")","v":"00:00:00"}]
["2019-11-10","Sø","",null,null,null,"","00:00:00","",{"$f":"IF(AND(C317=\"\",WEEKDAY(A317,2)<6),ColTime(T.!$J$4,T.!$L$4,D317,E317),\"\")","v":""},null,{"$f":"IF(AND(OR(WEEKDAY(A317,2)=7,C317<>\"\"),E317<D317,C318=\"\"),ColTime($AF$1,$AG$1,'Hele året (2)'!$AF$1,E317),IF(AND(WEEKDAY(A317,2)<6,C318=\"\"),ColTime(T.!$J$5,T.!$L$5,D317,E317),\"\"))","v":""},null,"",{"$f":"IFERROR(IF(AND(WEEKDAY(A317,2)<6,C318<>\"\",C317=\"\"),ColTime(T.!$J$7,T.!$L$7,$AF$1,'Hele året (2)'!E317),IF(AND(C317<>\"\",C318<>\"\"),ColTime(T.!$J$7,T.!$L$7,'Hele året (2)'!D317,'Hele året (2)'!E317),IF(AND(OR(WEEKDAY(A317,2)<6,WEEKDAY(A317,2)=6),C317<>\"\",E317<D317),ColTime(T.!$J$7,T.!$L$7,D317,AF314),IF(AND(WEEKDAY(A317,2)=6,E317<D317),ColTime(T.!$J$7,T.!$L$7,$AF$1,E317),IF(AND(E317<D317,OR(C317<>\"\",WEEKDAY(A317,2)=7)),ColTime(T.!J320,T.!L320,D317,$AF$1),IF(AND(E317<>\"\",OR(C317<>\"\",WEEKDAY(A317,2)=7)),ColTime(T.!$J$7,T.!$L$7,D317,E317),\"\")))))),\"\")","v":""},"",null,null,{"$f":"IFERROR(CHOOSE(WEEKDAY(A317,2),norm!C$1,norm!C$2,norm!C$3,norm!C$4,norm!C$5,norm!C$6,norm!C$7),\"\")","v":"00:00:00"}]
["2019-11-11","Ma","",null,null,null,"","00:00:00","",{"$f":"IF(AND(C318=\"\",WEEKDAY(A318,2)<6),ColTime(T.!$J$4,T.!$L$4,D318,E318),\"\")","v":"00:00:00"},null,{"$f":"IF(AND(OR(WEEKDAY(A318,2)=7,C318<>\"\"),E318<D318,C319=\"\"),ColTime($AF$1,$AG$1,'Hele året (2)'!$AF$1,E318),IF(AND(WEEKDAY(A318,2)<6,C319=\"\"),ColTime(T.!$J$5,T.!$L$5,D318,E318),\"\"))","v":"00:00:00"},null,"",{"$f":"IFERROR(IF(AND(WEEKDAY(A318,2)<6,C319<>\"\",C318=\"\"),ColTime(T.!$J$7,T.!$L$7,$AF$1,'Hele året (2)'!E318),IF(AND(C318<>\"\",C319<>\"\"),ColTime(T.!$J$7,T.!$L$7,'Hele året (2)'!D318,'Hele året (2)'!E318),IF(AND(OR(WEEKDAY(A318,2)<6,WEEKDAY(A318,2)=6),C318<>\"\",E318<D318),ColTime(T.!$J$7,T.!$L$7,D318,AF315),IF(AND(WEEKDAY(A318,2)=6,E318<D318),ColTime(T.!$J$7,T.!$L$7,$AF$1,E318),IF(AND(E318<D318,OR(C318<>\"\",WEEKDAY(A318,2)=7)),ColTime(T.!J321,T.!L321,D318,$AF$1),IF(AND(E318<>\"\",OR(C318<>\"\",WEEKDAY(A318,2)=7)),ColTime(T.!$J$7,T.!$L$7,D318,E318),\"\")))))),\"\")","v":""},"",null,null,{"$f":"IFERROR(CHOOSE(WEEKDAY(A318,2),norm!C$1,norm!C$2,norm!C$3,norm!C$4,norm!C$5,norm!C$6,norm!C$7),\"\")","v":"07:30:00"}]
["2019-11-12","Ti","",null,null,null,"","00:00:00","",{"$f":"IF(AND(C319=\"\",WEEKDAY(A319,2)<6),ColTime(T.!$J$4,T.!$L$4,D319,E319),\"\")","v":"00:00:00"},null,{"$f":"IF(AND(OR(WEEKDAY(A319,2)=7,C319<>\"\"),E319<D319,C320=\"\"),ColTime($AF$1,$AG$1,'Hele året (2)'!$AF$1,E319),IF(AND(WEEKDAY(A319,2)<6,C320=\"\"),ColTime(T.!$J$5,T.!$L$5,D319,E319),\"\"))","v":"00:00:00"},null,"",{"$f":"IFERROR(IF(AND(WEEKDAY(A319,2)<6,C320<>\"\",C319=\"\"),ColTime(T.!$J$7,T.!$L$7,$AF$1,'Hele året (2)'!E319),IF(AND(C319<>\"\",C320<>\"\"),ColTime(T.!$J$7,T.!$L$7,'Hele året (2)'!D319,'Hele året (2)'!E319),IF(AND(OR(WEEKDAY(A319,2)<6,WEEKDAY(A319,2)=6),C319<>\"\",E319<D319),ColTime(T.!$J$7,T.!$L$7,D319,AF316),IF(AND(WEEKDAY(A319,2)=6,E319<D319),ColTime(T.!$J$7,T.!$L$7,$AF$1,E319),IF(AND(E319<D319,OR(C319<>\"\",WEEKDAY(A319,2)=7)),ColTime(T.!J322,T.!L322,D319,$AF$1),IF(AND(E319<>\"\",OR(C319<>\"\",WEEKDAY(A319,2)=7)),ColTime(T.!$J$7,T.!$L$7,D319,E319),\"\")))))),\"\")","v":""},"",null,null,{"$f":"IFERROR(CHOOSE(WEEKDAY(A319,2),norm!C$1,norm!C$2,norm!C$3,norm!C$4,norm!C$5,norm!C$6,norm!C$7),\"\")","v":"07:30:00"}]
["2019-11-13","On","",null,null,null,"","00:00:00","",{"$f":"IF(AND(C320=\"\",WEEKDAY(A320,2)<6),ColTime(T.!$J$4,T.!$L$4,D320,E320),\"\")","v":"00:00:00"},null,{"$f":"IF(AND(OR(WEEKDAY(A320,2)=7,C320<>\"\"),E320<D320,C321=\"\"),ColTime($AF$1,$AG$1,'Hele året (2)'!$AF$1,E320),IF(AND(WEEKDAY(A320,2)<6,C321=\"\"),ColTime(T.!$J$5,T.!$L$5,D320,E320),\"\"))","v":"00:00:00"},null,"",{"$f":"IFERROR(IF(AND(WEEKDAY(A320,2)<6,C321<>\"\",C320=\"\"),ColTime(T.!$J$7,T.!$L$7,$AF$1,'Hele året (2)'!E320),IF(AND(C320<>\"\",C321<>\"\"),ColTime(T.!$J$7,T.!$L$7,'Hele året (2)'!D320,'Hele året (2)'!E320),IF(AND(OR(WEEKDAY(A320,2)<6,WEEKDAY(A320,2)=6),C320<>\"\",E320<D320),ColTime(T.!$J$7,T.!$L$7,D320,AF317),IF(AND(WEEKDAY(A320,2)=6,E320<D320),ColTime(T.!$J$7,T.!$L$7,$AF$1,E320),IF(AND(E320<D320,OR(C320<>\"\",WEEKDAY(A320,2)=7)),ColTime(T.!J323,T.!L323,D320,$AF$1),IF(AND(E320<>\"\",OR(C320<>\"\",WEEKDAY(A320,2)=7)),ColTime(T.!$J$7,T.!$L$7,D320,E320),\"\")))))),\"\")","v":""},"",null,null,{"$f":"IFERROR(CHOOSE(WEEKDAY(A320,2),norm!C$1,norm!C$2,norm!C$3,norm!C$4,norm!C$5,norm!C$6,norm!C$7),\"\")","v":"07:30:00"}]
["2019-11-14","To","",null,null,null,"","00:00:00","",{"$f":"IF(AND(C321=\"\",WEEKDAY(A321,2)<6),ColTime(T.!$J$4,T.!$L$4,D321,E321),\"\")","v":"00:00:00"},null,{"$f":"IF(AND(OR(WEEKDAY(A321,2)=7,C321<>\"\"),E321<D321,C322=\"\"),ColTime($AF$1,$AG$1,'Hele året (2)'!$AF$1,E321),IF(AND(WEEKDAY(A321,2)<6,C322=\"\"),ColTime(T.!$J$5,T.!$L$5,D321,E321),\"\"))","v":"00:00:00"},null,"",{"$f":"IFERROR(IF(AND(WEEKDAY(A321,2)<6,C322<>\"\",C321=\"\"),ColTime(T.!$J$7,T.!$L$7,$AF$1,'Hele året (2)'!E321),IF(AND(C321<>\"\",C322<>\"\"),ColTime(T.!$J$7,T.!$L$7,'Hele året (2)'!D321,'Hele året (2)'!E321),IF(AND(OR(WEEKDAY(A321,2)<6,WEEKDAY(A321,2)=6),C321<>\"\",E321<D321),ColTime(T.!$J$7,T.!$L$7,D321,AF318),IF(AND(WEEKDAY(A321,2)=6,E321<D321),ColTime(T.!$J$7,T.!$L$7,$AF$1,E321),IF(AND(E321<D321,OR(C321<>\"\",WEEKDAY(A321,2)=7)),ColTime(T.!J324,T.!L324,D321,$AF$1),IF(AND(E321<>\"\",OR(C321<>\"\",WEEKDAY(A321,2)=7)),ColTime(T.!$J$7,T.!$L$7,D321,E321),\"\")))))),\"\")","v":""},"",null,null,{"$f":"IFERROR(CHOOSE(WEEKDAY(A321,2),norm!C$1,norm!C$2,norm!C$3,norm!C$4,norm!C$5,norm!C$6,norm!C$7),\"\")","v":"07:30:00"}]
["2019-11-15","Fr","",null,null,null,"","00:00:00","",{"$f":"IF(AND(C322=\"\",WEEKDAY(A322,2)<6),ColTime(T.!$J$4,T.!$L$4,D322,E322),\"\")","v":"00:00:00"},null,{"$f":"IF(AND(OR(WEEKDAY(A322,2)=7,C322<>\"\"),E322<D322,C323=\"\"),ColTime($AF$1,$AG$1,'Hele året (2)'!$AF$1,E322),IF(AND(WEEKDAY(A322,2)<6,C323=\"\"),ColTime(T.!$J$5,T.!$L$5,D322,E322),\"\"))","v":"00:00:00"},null,"",{"$f":"IFERROR(IF(AND(WEEKDAY(A322,2)<6,C323<>\"\",C322=\"\"),ColTime(T.!$J$7,T.!$L$7,$AF$1,'Hele året (2)'!E322),IF(AND(C322<>\"\",C323<>\"\"),ColTime(T.!$J$7,T.!$L$7,'Hele året (2)'!D322,'Hele året (2)'!E322),IF(AND(OR(WEEKDAY(A322,2)<6,WEEKDAY(A322,2)=6),C322<>\"\",E322<D322),ColTime(T.!$J$7,T.!$L$7,D322,AF319),IF(AND(WEEKDAY(A322,2)=6,E322<D322),ColTime(T.!$J$7,T.!$L$7,$AF$1,E322),IF(AND(E322<D322,OR(C322<>\"\",WEEKDAY(A322,2)=7)),ColTime(T.!J325,T.!L325,D322,$AF$1),IF(AND(E322<>\"\",OR(C322<>\"\",WEEKDAY(A322,2)=7)),ColTime(T.!$J$7,T.!$L$7,D322,E322),\"\")))))),\"\")","v":""},"",null,null,{"$f":"IFERROR(CHOOSE(WEEKDAY(A322,2),norm!C$1,norm!C$2,norm!C$3,norm!C$4,norm!C$5,norm!C$6,norm!C$7),\"\")","v":"07:00:00"}]
["2019-11-16","Lø","",null,null,null,"","00:00:00","",{"$f":"IF(AND(C323=\"\",WEEKDAY(A323,2)<6),ColTime(T.!$J$4,T.!$L$4,D323,E323),\"\")","v":""},null,{"$f":"IF(AND(OR(WEEKDAY(A323,2)=7,C323<>\"\"),E323<D323,C324=\"\"),ColTime($AF$1,$AG$1,'Hele året (2)'!$AF$1,E323),IF(AND(WEEKDAY(A323,2)<6,C324=\"\"),ColTime(T.!$J$5,T.!$L$5,D323,E323),\"\"))","v":""},null,"00:00:00",{"$f":"IFERROR(IF(AND(WEEKDAY(A323,2)<6,C324<>\"\",C323=\"\"),ColTime(T.!$J$7,T.!$L$7,$AF$1,'Hele året (2)'!E323),IF(AND(C323<>\"\",C324<>\"\"),ColTime(T.!$J$7,T.!$L$7,'Hele året (2)'!D323,'Hele året (2)'!E323),IF(AND(OR(WEEKDAY(A323,2)<6,WEEKDAY(A323,2)=6),C323<>\"\",E323<D323),ColTime(T.!$J$7,T.!$L$7,D323,AF320),IF(AND(WEEKDAY(A323,2)=6,E323<D323),ColTime(T.!$J$7,T.!$L$7,$AF$1,E323),IF(AND(E323<D323,OR(C323<>\"\",WEEKDAY(A323,2)=7)),ColTime(T.!J326,T.!L326,D323,$AF$1),IF(AND(E323<>\"\",OR(C323<>\"\",WEEKDAY(A323,2)=7)),ColTime(T.!$J$7,T.!$L$7,D323,E323),\"\")))))),\"\")","v":""},"",null,null,{"$f":"IFERROR(CHOOSE(WEEKDAY(A323,2),norm!C$1,norm!C$2,norm!C$3,norm!C$4,norm!C$5,norm!C$6,norm!C$7),\"\")","v":"00:00:00"}]
["2019-11-17","Sø","",null,null,null,"","00:00:00","",{"$f":"IF(AND(C324=\"\",WEEKDAY(A324,2)<6),ColTime(T.!$J$4,T.!$L$4,D324,E324),\"\")","v":""},null,{"$f":"IF(AND(OR(WEEKDAY(A324,2)=7,C324<>\"\"),E324<D324,C325=\"\"),ColTime($AF$1,$AG$1,'Hele året (2)'!$AF$1,E324),IF(AND(WEEKDAY(A324,2)<6,C325=\"\"),ColTime(T.!$J$5,T.!$L$5,D324,E324),\"\"))","v":""},null,"",{"$f":"IFERROR(IF(AND(WEEKDAY(A324,2)<6,C325<>\"\",C324=\"\"),ColTime(T.!$J$7,T.!$L$7,$AF$1,'Hele året (2)'!E324),IF(AND(C324<>\"\",C325<>\"\"),ColTime(T.!$J$7,T.!$L$7,'Hele året (2)'!D324,'Hele året (2)'!E324),IF(AND(OR(WEEKDAY(A324,2)<6,WEEKDAY(A324,2)=6),C324<>\"\",E324<D324),ColTime(T.!$J$7,T.!$L$7,D324,AF321),IF(AND(WEEKDAY(A324,2)=6,E324<D324),ColTime(T.!$J$7,T.!$L$7,$AF$1,E324),IF(AND(E324<D324,OR(C324<>\"\",WEEKDAY(A324,2)=7)),ColTime(T.!J327,T.!L327,D324,$AF$1),IF(AND(E324<>\"\",OR(C324<>\"\",WEEKDAY(A324,2)=7)),ColTime(T.!$J$7,T.!$L$7,D324,E324),\"\")))))),\"\")","v":""},"",null,null,{"$f":"IFERROR(CHOOSE(WEEKDAY(A324,2),norm!C$1,norm!C$2,norm!C$3,norm!C$4,norm!C$5,norm!C$6,norm!C$7),\"\")","v":"00:00:00"}]
["2019-11-18","Ma","",null,null,null,{"$f":"IF(D325=\"\",\"\",(E325-D325)+(D325>E325)-F325)","v":""},{"$f":"IF(G325=\"\",0,IF(WEEKDAY(A325,2)=7,0,IF(G325>S325,MIN(G325-S325,$AI$1),0)))","v":"00:00:00"},{"$f":"IF(G325=\"\",\"\",IF(G325>S325+H325,G325-(S325+H325),\"\"))","v":""},{"$f":"IF(AND(C325=\"\",WEEKDAY(A325,2)<6),ColTime(T.!$J$4,T.!$L$4,D325,E325),\"\")","v":"00:00:00"},null,{"$f":"IF(AND(OR(WEEKDAY(A325,2)=7,C325<>\"\"),E325<D325,C326=\"\"),ColTime($AF$1,$AG$1,'Hele året (2)'!$AF$1,E325),IF(AND(WEEKDAY(A325,2)<6,C326=\"\"),ColTime(T.!$J$5,T.!$L$5,D325,E325),\"\"))","v":"00:00:00"},null,"",{"$f":"IFERROR(IF(AND(WEEKDAY(A325,2)<6,C326<>\"\",C325=\"\"),ColTime(T.!$J$7,T.!$L$7,$AF$1,'Hele året (2)'!E325),IF(AND(C325<>\"\",C326<>\"\"),ColTime(T.!$J$7,T.!$L$7,'Hele året (2)'!D325,'Hele året (2)'!E325),IF(AND(OR(WEEKDAY(A325,2)<6,WEEKDAY(A325,2)=6),C325<>\"\",E325<D325),ColTime(T.!$J$7,T.!$L$7,D325,AF322),IF(AND(WEEKDAY(A325,2)=6,E325<D325),ColTime(T.!$J$7,T.!$L$7,$AF$1,E325),IF(AND(E325<D325,OR(C325<>\"\",WEEKDAY(A325,2)=7)),ColTime(T.!J328,T.!L328,D325,$AF$1),IF(AND(E325<>\"\",OR(C325<>\"\",WEEKDAY(A325,2)=7)),ColTime(T.!$J$7,T.!$L$7,D325,E325),\"\")))))),\"\")","v":""},"",null,null,{"$f":"IFERROR(CHOOSE(WEEKDAY(A325,2),norm!C$1,norm!C$2,norm!C$3,norm!C$4,norm!C$5,norm!C$6,norm!C$7),\"\")","v":"07:30:00"}]
["2019-11-19","Ti","",null,null,null,"","00:00:00","",{"$f":"IF(AND(C326=\"\",WEEKDAY(A326,2)<6),ColTime(T.!$J$4,T.!$L$4,D326,E326),\"\")","v":"00:00:00"},null,{"$f":"IF(AND(OR(WEEKDAY(A326,2)=7,C326<>\"\"),E326<D326,C327=\"\"),ColTime($AF$1,$AG$1,'Hele året (2)'!$AF$1,E326),IF(AND(WEEKDAY(A326,2)<6,C327=\"\"),ColTime(T.!$J$5,T.!$L$5,D326,E326),\"\"))","v":"00:00:00"},null,"",{"$f":"IFERROR(IF(AND(WEEKDAY(A326,2)<6,C327<>\"\",C326=\"\"),ColTime(T.!$J$7,T.!$L$7,$AF$1,'Hele året (2)'!E326),IF(AND(C326<>\"\",C327<>\"\"),ColTime(T.!$J$7,T.!$L$7,'Hele året (2)'!D326,'Hele året (2)'!E326),IF(AND(OR(WEEKDAY(A326,2)<6,WEEKDAY(A326,2)=6),C326<>\"\",E326<D326),ColTime(T.!$J$7,T.!$L$7,D326,AF323),IF(AND(WEEKDAY(A326,2)=6,E326<D326),ColTime(T.!$J$7,T.!$L$7,$AF$1,E326),IF(AND(E326<D326,OR(C326<>\"\",WEEKDAY(A326,2)=7)),ColTime(T.!J329,T.!L329,D326,$AF$1),IF(AND(E326<>\"\",OR(C326<>\"\",WEEKDAY(A326,2)=7)),ColTime(T.!$J$7,T.!$L$7,D326,E326),\"\")))))),\"\")","v":""},"",null,null,{"$f":"IFERROR(CHOOSE(WEEKDAY(A326,2),norm!C$1,norm!C$2,norm!C$3,norm!C$4,norm!C$5,norm!C$6,norm!C$7),\"\")","v":"07:30:00"}]
["2019-11-20","On","",null,null,null,"","00:00:00","",{"$f":"IF(AND(C327=\"\",WEEKDAY(A327,2)<6),ColTime(T.!$J$4,T.!$L$4,D327,E327),\"\")","v":"00:00:00"},null,{"$f":"IF(AND(OR(WEEKDAY(A327,2)=7,C327<>\"\"),E327<D327,C328=\"\"),ColTime($AF$1,$AG$1,'Hele året (2)'!$AF$1,E327),IF(AND(WEEKDAY(A327,2)<6,C328=\"\"),ColTime(T.!$J$5,T.!$L$5,D327,E327),\"\"))","v":"00:00:00"},null,"",{"$f":"IFERROR(IF(AND(WEEKDAY(A327,2)<6,C328<>\"\",C327=\"\"),ColTime(T.!$J$7,T.!$L$7,$AF$1,'Hele året (2)'!E327),IF(AND(C327<>\"\",C328<>\"\"),ColTime(T.!$J$7,T.!$L$7,'Hele året (2)'!D327,'Hele året (2)'!E327),IF(AND(OR(WEEKDAY(A327,2)<6,WEEKDAY(A327,2)=6),C327<>\"\",E327<D327),ColTime(T.!$J$7,T.!$L$7,D327,AF324),IF(AND(WEEKDAY(A327,2)=6,E327<D327),ColTime(T.!$J$7,T.!$L$7,$AF$1,E327),IF(AND(E327<D327,OR(C327<>\"\",WEEKDAY(A327,2)=7)),ColTime(T.!J330,T.!L330,D327,$AF$1),IF(AND(E327<>\"\",OR(C327<>\"\",WEEKDAY(A327,2)=7)),ColTime(T.!$J$7,T.!$L$7,D327,E327),\"\")))))),\"\")","v":""},"",null,null,{"$f":"IFERROR(CHOOSE(WEEKDAY(A327,2),norm!C$1,norm!C$2,norm!C$3,norm!C$4,norm!C$5,norm!C$6,norm!C$7),\"\")","v":"07:30:00"}]
["2019-11-21","To","",null,null,null,"","00:00:00","",{"$f":"IF(AND(C328=\"\",WEEKDAY(A328,2)<6),ColTime(T.!$J$4,T.!$L$4,D328,E328),\"\")","v":"00:00:00"},null,{"$f":"IF(AND(OR(WEEKDAY(A328,2)=7,C328<>\"\"),E328<D328,C329=\"\"),ColTime($AF$1,$AG$1,'Hele året (2)'!$AF$1,E328),IF(AND(WEEKDAY(A328,2)<6,C329=\"\"),ColTime(T.!$J$5,T.!$L$5,D328,E328),\"\"))","v":"00:00:00"},null,"",{"$f":"IFERROR(IF(AND(WEEKDAY(A328,2)<6,C329<>\"\",C328=\"\"),ColTime(T.!$J$7,T.!$L$7,$AF$1,'Hele året (2)'!E328),IF(AND(C328<>\"\",C329<>\"\"),ColTime(T.!$J$7,T.!$L$7,'Hele året (2)'!D328,'Hele året (2)'!E328),IF(AND(OR(WEEKDAY(A328,2)<6,WEEKDAY(A328,2)=6),C328<>\"\",E328<D328),ColTime(T.!$J$7,T.!$L$7,D328,AF325),IF(AND(WEEKDAY(A328,2)=6,E328<D328),ColTime(T.!$J$7,T.!$L$7,$AF$1,E328),IF(AND(E328<D328,OR(C328<>\"\",WEEKDAY(A328,2)=7)),ColTime(T.!J331,T.!L331,D328,$AF$1),IF(AND(E328<>\"\",OR(C328<>\"\",WEEKDAY(A328,2)=7)),ColTime(T.!$J$7,T.!$L$7,D328,E328),\"\")))))),\"\")","v":""},"",null,null,{"$f":"IFERROR(CHOOSE(WEEKDAY(A328,2),norm!C$1,norm!C$2,norm!C$3,norm!C$4,norm!C$5,norm!C$6,norm!C$7),\"\")","v":"07:30:00"}]
["2019-11-22","Fr","",null,null,null,"","00:00:00","",{"$f":"IF(AND(C329=\"\",WEEKDAY(A329,2)<6),ColTime(T.!$J$4,T.!$L$4,D329,E329),\"\")","v":"00:00:00"},null,{"$f":"IF(AND(OR(WEEKDAY(A329,2)=7,C329<>\"\"),E329<D329,C330=\"\"),ColTime($AF$1,$AG$1,'Hele året (2)'!$AF$1,E329),IF(AND(WEEKDAY(A329,2)<6,C330=\"\"),ColTime(T.!$J$5,T.!$L$5,D329,E329),\"\"))","v":"00:00:00"},null,"",{"$f":"IFERROR(IF(AND(WEEKDAY(A329,2)<6,C330<>\"\",C329=\"\"),ColTime(T.!$J$7,T.!$L$7,$AF$1,'Hele året (2)'!E329),IF(AND(C329<>\"\",C330<>\"\"),ColTime(T.!$J$7,T.!$L$7,'Hele året (2)'!D329,'Hele året (2)'!E329),IF(AND(OR(WEEKDAY(A329,2)<6,WEEKDAY(A329,2)=6),C329<>\"\",E329<D329),ColTime(T.!$J$7,T.!$L$7,D329,AF326),IF(AND(WEEKDAY(A329,2)=6,E329<D329),ColTime(T.!$J$7,T.!$L$7,$AF$1,E329),IF(AND(E329<D329,OR(C329<>\"\",WEEKDAY(A329,2)=7)),ColTime(T.!J332,T.!L332,D329,$AF$1),IF(AND(E329<>\"\",OR(C329<>\"\",WEEKDAY(A329,2)=7)),ColTime(T.!$J$7,T.!$L$7,D329,E329),\"\")))))),\"\")","v":""},{"$f":"IFERROR(H329+I329,\"\")","v":""},null,null,{"$f":"IFERROR(CHOOSE(WEEKDAY(A329,2),norm!C$1,norm!C$2,norm!C$3,norm!C$4,norm!C$5,norm!C$6,norm!C$7),\"\")","v":"07:00:00"}]
["2019-11-23","Lø","",null,null,null,"","00:00:00","",{"$f":"IF(AND(C330=\"\",WEEKDAY(A330,2)<6),ColTime(T.!$J$4,T.!$L$4,D330,E330),\"\")","v":""},null,{"$f":"IF(AND(OR(WEEKDAY(A330,2)=7,C330<>\"\"),E330<D330,C331=\"\"),ColTime($AF$1,$AG$1,'Hele året (2)'!$AF$1,E330),IF(AND(WEEKDAY(A330,2)<6,C331=\"\"),ColTime(T.!$J$5,T.!$L$5,D330,E330),\"\"))","v":""},null,"00:00:00",{"$f":"IFERROR(IF(AND(WEEKDAY(A330,2)<6,C331<>\"\",C330=\"\"),ColTime(T.!$J$7,T.!$L$7,$AF$1,'Hele året (2)'!E330),IF(AND(C330<>\"\",C331<>\"\"),ColTime(T.!$J$7,T.!$L$7,'Hele året (2)'!D330,'Hele året (2)'!E330),IF(AND(OR(WEEKDAY(A330,2)<6,WEEKDAY(A330,2)=6),C330<>\"\",E330<D330),ColTime(T.!$J$7,T.!$L$7,D330,AF327),IF(AND(WEEKDAY(A330,2)=6,E330<D330),ColTime(T.!$J$7,T.!$L$7,$AF$1,E330),IF(AND(E330<D330,OR(C330<>\"\",WEEKDAY(A330,2)=7)),ColTime(T.!J333,T.!L333,D330,$AF$1),IF(AND(E330<>\"\",OR(C330<>\"\",WEEKDAY(A330,2)=7)),ColTime(T.!$J$7,T.!$L$7,D330,E330),\"\")))))),\"\")","v":""},"",null,null,{"$f":"IFERROR(CHOOSE(WEEKDAY(A330,2),norm!C$1,norm!C$2,norm!C$3,norm!C$4,norm!C$5,norm!C$6,norm!C$7),\"\")","v":"00:00:00"}]
["2019-11-24","Sø","",null,null,null,"","00:00:00","",{"$f":"IF(AND(C331=\"\",WEEKDAY(A331,2)<6),ColTime(T.!$J$4,T.!$L$4,D331,E331),\"\")","v":""},null,{"$f":"IF(AND(OR(WEEKDAY(A331,2)=7,C331<>\"\"),E331<D331,C332=\"\"),ColTime($AF$1,$AG$1,'Hele året (2)'!$AF$1,E331),IF(AND(WEEKDAY(A331,2)<6,C332=\"\"),ColTime(T.!$J$5,T.!$L$5,D331,E331),\"\"))","v":""},null,{"$f":"IF(WEEKDAY(A331,2)=6,ColTime(TIME(15,0,0),TIME(24,0,0),D331,E331),\"\")","v":""},{"$f":"IFERROR(IF(AND(WEEKDAY(A331,2)<6,C332<>\"\",C331=\"\"),ColTime(T.!$J$7,T.!$L$7,$AF$1,'Hele året (2)'!E331),IF(AND(C331<>\"\",C332<>\"\"),ColTime(T.!$J$7,T.!$L$7,'Hele året (2)'!D331,'Hele året (2)'!E331),IF(AND(OR(WEEKDAY(A331,2)<6,WEEKDAY(A331,2)=6),C331<>\"\",E331<D331),ColTime(T.!$J$7,T.!$L$7,D331,AF328),IF(AND(WEEKDAY(A331,2)=6,E331<D331),ColTime(T.!$J$7,T.!$L$7,$AF$1,E331),IF(AND(E331<D331,OR(C331<>\"\",WEEKDAY(A331,2)=7)),ColTime(T.!J334,T.!L334,D331,$AF$1),IF(AND(E331<>\"\",OR(C331<>\"\",WEEKDAY(A331,2)=7)),ColTime(T.!$J$7,T.!$L$7,D331,E331),\"\")))))),\"\")","v":""},"",null,null,{"$f":"IFERROR(CHOOSE(WEEKDAY(A331,2),norm!C$1,norm!C$2,norm!C$3,norm!C$4,norm!C$5,norm!C$6,norm!C$7),\"\")","v":"00:00:00"}]
["2019-11-25","Ma","",null,null,null,"","00:00:00","",{"$f":"IF(AND(C332=\"\",WEEKDAY(A332,2)<6),ColTime(T.!$J$4,T.!$L$4,D332,E332),\"\")","v":"00:00:00"},null,{"$f":"IF(AND(OR(WEEKDAY(A332,2)=7,C332<>\"\"),E332<D332,C333=\"\"),ColTime($AF$1,$AG$1,'Hele året (2)'!$AF$1,E332),IF(AND(WEEKDAY(A332,2)<6,C333=\"\"),ColTime(T.!$J$5,T.!$L$5,D332,E332),\"\"))","v":"00:00:00"},null,"",{"$f":"IFERROR(IF(AND(WEEKDAY(A332,2)<6,C333<>\"\",C332=\"\"),ColTime(T.!$J$7,T.!$L$7,$AF$1,'Hele året (2)'!E332),IF(AND(C332<>\"\",C333<>\"\"),ColTime(T.!$J$7,T.!$L$7,'Hele året (2)'!D332,'Hele året (2)'!E332),IF(AND(OR(WEEKDAY(A332,2)<6,WEEKDAY(A332,2)=6),C332<>\"\",E332<D332),ColTime(T.!$J$7,T.!$L$7,D332,AF329),IF(AND(WEEKDAY(A332,2)=6,E332<D332),ColTime(T.!$J$7,T.!$L$7,$AF$1,E332),IF(AND(E332<D332,OR(C332<>\"\",WEEKDAY(A332,2)=7)),ColTime(T.!J335,T.!L335,D332,$AF$1),IF(AND(E332<>\"\",OR(C332<>\"\",WEEKDAY(A332,2)=7)),ColTime(T.!$J$7,T.!$L$7,D332,E332),\"\")))))),\"\")","v":""},"",null,null,{"$f":"IFERROR(CHOOSE(WEEKDAY(A332,2),norm!C$1,norm!C$2,norm!C$3,norm!C$4,norm!C$5,norm!C$6,norm!C$7),\"\")","v":"07:30:00"}]
["2019-11-26","Ti","",null,null,null,"","00:00:00","",{"$f":"IF(AND(C333=\"\",WEEKDAY(A333,2)<6),ColTime(T.!$J$4,T.!$L$4,D333,E333),\"\")","v":"00:00:00"},null,{"$f":"IF(AND(OR(WEEKDAY(A333,2)=7,C333<>\"\"),E333<D333,C334=\"\"),ColTime($AF$1,$AG$1,'Hele året (2)'!$AF$1,E333),IF(AND(WEEKDAY(A333,2)<6,C334=\"\"),ColTime(T.!$J$5,T.!$L$5,D333,E333),\"\"))","v":"00:00:00"},null,"",{"$f":"IFERROR(IF(AND(WEEKDAY(A333,2)<6,C334<>\"\",C333=\"\"),ColTime(T.!$J$7,T.!$L$7,$AF$1,'Hele året (2)'!E333),IF(AND(C333<>\"\",C334<>\"\"),ColTime(T.!$J$7,T.!$L$7,'Hele året (2)'!D333,'Hele året (2)'!E333),IF(AND(OR(WEEKDAY(A333,2)<6,WEEKDAY(A333,2)=6),C333<>\"\",E333<D333),ColTime(T.!$J$7,T.!$L$7,D333,AF330),IF(AND(WEEKDAY(A333,2)=6,E333<D333),ColTime(T.!$J$7,T.!$L$7,$AF$1,E333),IF(AND(E333<D333,OR(C333<>\"\",WEEKDAY(A333,2)=7)),ColTime(T.!J336,T.!L336,D333,$AF$1),IF(AND(E333<>\"\",OR(C333<>\"\",WEEKDAY(A333,2)=7)),ColTime(T.!$J$7,T.!$L$7,D333,E333),\"\")))))),\"\")","v":""},"",null,null,{"$f":"IFERROR(CHOOSE(WEEKDAY(A333,2),norm!C$1,norm!C$2,norm!C$3,norm!C$4,norm!C$5,norm!C$6,norm!C$7),\"\")","v":"07:30:00"}]
["2019-11-27","On","",null,null,null,"","00:00:00","",{"$f":"IF(AND(C334=\"\",WEEKDAY(A334,2)<6),ColTime(T.!$J$4,T.!$L$4,D334,E334),\"\")","v":"00:00:00"},null,{"$f":"IF(AND(OR(WEEKDAY(A334,2)=7,C334<>\"\"),E334<D334,C335=\"\"),ColTime($AF$1,$AG$1,'Hele året (2)'!$AF$1,E334),IF(AND(WEEKDAY(A334,2)<6,C335=\"\"),ColTime(T.!$J$5,T.!$L$5,D334,E334),\"\"))","v":"00:00:00"},null,"",{"$f":"IFERROR(IF(AND(WEEKDAY(A334,2)<6,C335<>\"\",C334=\"\"),ColTime(T.!$J$7,T.!$L$7,$AF$1,'Hele året (2)'!E334),IF(AND(C334<>\"\",C335<>\"\"),ColTime(T.!$J$7,T.!$L$7,'Hele året (2)'!D334,'Hele året (2)'!E334),IF(AND(OR(WEEKDAY(A334,2)<6,WEEKDAY(A334,2)=6),C334<>\"\",E334<D334),ColTime(T.!$J$7,T.!$L$7,D334,AF331),IF(AND(WEEKDAY(A334,2)=6,E334<D334),ColTime(T.!$J$7,T.!$L$7,$AF$1,E334),IF(AND(E334<D334,OR(C334<>\"\",WEEKDAY(A334,2)=7)),ColTime(T.!J337,T.!L337,D334,$AF$1),IF(AND(E334<>\"\",OR(C334<>\"\",WEEKDAY(A334,2)=7)),ColTime(T.!$J$7,T.!$L$7,D334,E334),\"\")))))),\"\")","v":""},"",null,null,{"$f":"IFERROR(CHOOSE(WEEKDAY(A334,2),norm!C$1,norm!C$2,norm!C$3,norm!C$4,norm!C$5,norm!C$6,norm!C$7),\"\")","v":"07:30:00"}]
["2019-11-28","To","",null,null,null,"","00:00:00","",{"$f":"IF(AND(C335=\"\",WEEKDAY(A335,2)<6),ColTime(T.!$J$4,T.!$L$4,D335,E335),\"\")","v":"00:00:00"},null,{"$f":"IF(AND(OR(WEEKDAY(A335,2)=7,C335<>\"\"),E335<D335,C336=\"\"),ColTime($AF$1,$AG$1,'Hele året (2)'!$AF$1,E335),IF(AND(WEEKDAY(A335,2)<6,C336=\"\"),ColTime(T.!$J$5,T.!$L$5,D335,E335),\"\"))","v":"00:00:00"},null,"",{"$f":"IFERROR(IF(AND(WEEKDAY(A335,2)<6,C336<>\"\",C335=\"\"),ColTime(T.!$J$7,T.!$L$7,$AF$1,'Hele året (2)'!E335),IF(AND(C335<>\"\",C336<>\"\"),ColTime(T.!$J$7,T.!$L$7,'Hele året (2)'!D335,'Hele året (2)'!E335),IF(AND(OR(WEEKDAY(A335,2)<6,WEEKDAY(A335,2)=6),C335<>\"\",E335<D335),ColTime(T.!$J$7,T.!$L$7,D335,AF332),IF(AND(WEEKDAY(A335,2)=6,E335<D335),ColTime(T.!$J$7,T.!$L$7,$AF$1,E335),IF(AND(E335<D335,OR(C335<>\"\",WEEKDAY(A335,2)=7)),ColTime(T.!J338,T.!L338,D335,$AF$1),IF(AND(E335<>\"\",OR(C335<>\"\",WEEKDAY(A335,2)=7)),ColTime(T.!$J$7,T.!$L$7,D335,E335),\"\")))))),\"\")","v":""},"",null,null,{"$f":"IFERROR(CHOOSE(WEEKDAY(A335,2),norm!C$1,norm!C$2,norm!C$3,norm!C$4,norm!C$5,norm!C$6,norm!C$7),\"\")","v":"07:30:00"}]
["2019-11-29","Fr","",null,null,null,"","00:00:00","",{"$f":"IF(AND(C336=\"\",WEEKDAY(A336,2)<6),ColTime(T.!$J$4,T.!$L$4,D336,E336),\"\")","v":"00:00:00"},null,{"$f":"IF(AND(OR(WEEKDAY(A336,2)=7,C336<>\"\"),E336<D336,C337=\"\"),ColTime($AF$1,$AG$1,'Hele året (2)'!$AF$1,E336),IF(AND(WEEKDAY(A336,2)<6,C337=\"\"),ColTime(T.!$J$5,T.!$L$5,D336,E336),\"\"))","v":"00:00:00"},null,"",{"$f":"IFERROR(IF(AND(WEEKDAY(A336,2)<6,C337<>\"\",C336=\"\"),ColTime(T.!$J$7,T.!$L$7,$AF$1,'Hele året (2)'!E336),IF(AND(C336<>\"\",C337<>\"\"),ColTime(T.!$J$7,T.!$L$7,'Hele året (2)'!D336,'Hele året (2)'!E336),IF(AND(OR(WEEKDAY(A336,2)<6,WEEKDAY(A336,2)=6),C336<>\"\",E336<D336),ColTime(T.!$J$7,T.!$L$7,D336,AF333),IF(AND(WEEKDAY(A336,2)=6,E336<D336),ColTime(T.!$J$7,T.!$L$7,$AF$1,E336),IF(AND(E336<D336,OR(C336<>\"\",WEEKDAY(A336,2)=7)),ColTime(T.!J339,T.!L339,D336,$AF$1),IF(AND(E336<>\"\",OR(C336<>\"\",WEEKDAY(A336,2)=7)),ColTime(T.!$J$7,T.!$L$7,D336,E336),\"\")))))),\"\")","v":""},"",null,null,{"$f":"IFERROR(CHOOSE(WEEKDAY(A336,2),norm!C$1,norm!C$2,norm!C$3,norm!C$4,norm!C$5,norm!C$6,norm!C$7),\"\")","v":"07:00:00"}]
["2019-11-30","Lø","",null,null,null,"","00:00:00","",{"$f":"IF(AND(C337=\"\",WEEKDAY(A337,2)<6),ColTime(T.!$J$4,T.!$L$4,D337,E337),\"\")","v":""},null,{"$f":"IF(AND(OR(WEEKDAY(A337,2)=7,C337<>\"\"),E337<D337,C338=\"\"),ColTime($AF$1,$AG$1,'Hele året (2)'!$AF$1,E337),IF(AND(WEEKDAY(A337,2)<6,C338=\"\"),ColTime(T.!$J$5,T.!$L$5,D337,E337),\"\"))","v":""},null,"00:00:00",{"$f":"IFERROR(IF(AND(WEEKDAY(A337,2)<6,C338<>\"\",C337=\"\"),ColTime(T.!$J$7,T.!$L$7,$AF$1,'Hele året (2)'!E337),IF(AND(C337<>\"\",C338<>\"\"),ColTime(T.!$J$7,T.!$L$7,'Hele året (2)'!D337,'Hele året (2)'!E337),IF(AND(OR(WEEKDAY(A337,2)<6,WEEKDAY(A337,2)=6),C337<>\"\",E337<D337),ColTime(T.!$J$7,T.!$L$7,D337,AF334),IF(AND(WEEKDAY(A337,2)=6,E337<D337),ColTime(T.!$J$7,T.!$L$7,$AF$1,E337),IF(AND(E337<D337,OR(C337<>\"\",WEEKDAY(A337,2)=7)),ColTime(T.!J340,T.!L340,D337,$AF$1),IF(AND(E337<>\"\",OR(C337<>\"\",WEEKDAY(A337,2)=7)),ColTime(T.!$J$7,T.!$L$7,D337,E337),\"\")))))),\"\")","v":""},"",null,null,{"$f":"IFERROR(CHOOSE(WEEKDAY(A337,2),norm!C$1,norm!C$2,norm!C$3,norm!C$4,norm!C$5,norm!C$6,norm!C$7),\"\")","v":"00:00:00"}]
["2019-12-01","Sø","",null,null,null,"","00:00:00","",{"$f":"IF(AND(C338=\"\",WEEKDAY(A338,2)<6),ColTime(T.!$J$4,T.!$L$4,D338,E338),\"\")","v":""},null,{"$f":"IF(AND(OR(WEEKDAY(A338,2)=7,C338<>\"\"),E338<D338,C339=\"\"),ColTime($AF$1,$AG$1,'Hele året (2)'!$AF$1,E338),IF(AND(WEEKDAY(A338,2)<6,C339=\"\"),ColTime(T.!$J$5,T.!$L$5,D338,E338),\"\"))","v":""},null,"",{"$f":"IFERROR(IF(AND(WEEKDAY(A338,2)<6,C339<>\"\",C338=\"\"),ColTime(T.!$J$7,T.!$L$7,$AF$1,'Hele året (2)'!E338),IF(AND(C338<>\"\",C339<>\"\"),ColTime(T.!$J$7,T.!$L$7,'Hele året (2)'!D338,'Hele året (2)'!E338),IF(AND(OR(WEEKDAY(A338,2)<6,WEEKDAY(A338,2)=6),C338<>\"\",E338<D338),ColTime(T.!$J$7,T.!$L$7,D338,AF335),IF(AND(WEEKDAY(A338,2)=6,E338<D338),ColTime(T.!$J$7,T.!$L$7,$AF$1,E338),IF(AND(E338<D338,OR(C338<>\"\",WEEKDAY(A338,2)=7)),ColTime(T.!J341,T.!L341,D338,$AF$1),IF(AND(E338<>\"\",OR(C338<>\"\",WEEKDAY(A338,2)=7)),ColTime(T.!$J$7,T.!$L$7,D338,E338),\"\")))))),\"\")","v":""},"",null,null,{"$f":"IFERROR(CHOOSE(WEEKDAY(A338,2),norm!C$1,norm!C$2,norm!C$3,norm!C$4,norm!C$5,norm!C$6,norm!C$7),\"\")","v":"00:00:00"}]
["2019-12-02","Ma","",null,null,null,"","00:00:00","",{"$f":"IF(AND(C339=\"\",WEEKDAY(A339,2)<6),ColTime(T.!$J$4,T.!$L$4,D339,E339),\"\")","v":"00:00:00"},null,{"$f":"IF(AND(OR(WEEKDAY(A339,2)=7,C339<>\"\"),E339<D339,C340=\"\"),ColTime($AF$1,$AG$1,'Hele året (2)'!$AF$1,E339),IF(AND(WEEKDAY(A339,2)<6,C340=\"\"),ColTime(T.!$J$5,T.!$L$5,D339,E339),\"\"))","v":"00:00:00"},null,"",{"$f":"IFERROR(IF(AND(WEEKDAY(A339,2)<6,C340<>\"\",C339=\"\"),ColTime(T.!$J$7,T.!$L$7,$AF$1,'Hele året (2)'!E339),IF(AND(C339<>\"\",C340<>\"\"),ColTime(T.!$J$7,T.!$L$7,'Hele året (2)'!D339,'Hele året (2)'!E339),IF(AND(OR(WEEKDAY(A339,2)<6,WEEKDAY(A339,2)=6),C339<>\"\",E339<D339),ColTime(T.!$J$7,T.!$L$7,D339,AF336),IF(AND(WEEKDAY(A339,2)=6,E339<D339),ColTime(T.!$J$7,T.!$L$7,$AF$1,E339),IF(AND(E339<D339,OR(C339<>\"\",WEEKDAY(A339,2)=7)),ColTime(T.!J342,T.!L342,D339,$AF$1),IF(AND(E339<>\"\",OR(C339<>\"\",WEEKDAY(A339,2)=7)),ColTime(T.!$J$7,T.!$L$7,D339,E339),\"\")))))),\"\")","v":""},"",null,null,{"$f":"IFERROR(CHOOSE(WEEKDAY(A339,2),norm!C$1,norm!C$2,norm!C$3,norm!C$4,norm!C$5,norm!C$6,norm!C$7),\"\")","v":"07:30:00"}]
["2019-12-03","Ti","",null,null,null,"","00:00:00","",{"$f":"IF(AND(C340=\"\",WEEKDAY(A340,2)<6),ColTime(T.!$J$4,T.!$L$4,D340,E340),\"\")","v":"00:00:00"},null,{"$f":"IF(AND(OR(WEEKDAY(A340,2)=7,C340<>\"\"),E340<D340,C341=\"\"),ColTime($AF$1,$AG$1,'Hele året (2)'!$AF$1,E340),IF(AND(WEEKDAY(A340,2)<6,C341=\"\"),ColTime(T.!$J$5,T.!$L$5,D340,E340),\"\"))","v":"00:00:00"},null,"",{"$f":"IFERROR(IF(AND(WEEKDAY(A340,2)<6,C341<>\"\",C340=\"\"),ColTime(T.!$J$7,T.!$L$7,$AF$1,'Hele året (2)'!E340),IF(AND(C340<>\"\",C341<>\"\"),ColTime(T.!$J$7,T.!$L$7,'Hele året (2)'!D340,'Hele året (2)'!E340),IF(AND(OR(WEEKDAY(A340,2)<6,WEEKDAY(A340,2)=6),C340<>\"\",E340<D340),ColTime(T.!$J$7,T.!$L$7,D340,AF337),IF(AND(WEEKDAY(A340,2)=6,E340<D340),ColTime(T.!$J$7,T.!$L$7,$AF$1,E340),IF(AND(E340<D340,OR(C340<>\"\",WEEKDAY(A340,2)=7)),ColTime(T.!J343,T.!L343,D340,$AF$1),IF(AND(E340<>\"\",OR(C340<>\"\",WEEKDAY(A340,2)=7)),ColTime(T.!$J$7,T.!$L$7,D340,E340),\"\")))))),\"\")","v":""},"",null,null,{"$f":"IFERROR(CHOOSE(WEEKDAY(A340,2),norm!C$1,norm!C$2,norm!C$3,norm!C$4,norm!C$5,norm!C$6,norm!C$7),\"\")","v":"07:30:00"}]
["2019-12-04","On","",null,null,null,"","00:00:00","",{"$f":"IF(AND(C341=\"\",WEEKDAY(A341,2)<6),ColTime(T.!$J$4,T.!$L$4,D341,E341),\"\")","v":"00:00:00"},null,{"$f":"IF(AND(OR(WEEKDAY(A341,2)=7,C341<>\"\"),E341<D341,C342=\"\"),ColTime($AF$1,$AG$1,'Hele året (2)'!$AF$1,E341),IF(AND(WEEKDAY(A341,2)<6,C342=\"\"),ColTime(T.!$J$5,T.!$L$5,D341,E341),\"\"))","v":"00:00:00"},null,"",{"$f":"IFERROR(IF(AND(WEEKDAY(A341,2)<6,C342<>\"\",C341=\"\"),ColTime(T.!$J$7,T.!$L$7,$AF$1,'Hele året (2)'!E341),IF(AND(C341<>\"\",C342<>\"\"),ColTime(T.!$J$7,T.!$L$7,'Hele året (2)'!D341,'Hele året (2)'!E341),IF(AND(OR(WEEKDAY(A341,2)<6,WEEKDAY(A341,2)=6),C341<>\"\",E341<D341),ColTime(T.!$J$7,T.!$L$7,D341,AF338),IF(AND(WEEKDAY(A341,2)=6,E341<D341),ColTime(T.!$J$7,T.!$L$7,$AF$1,E341),IF(AND(E341<D341,OR(C341<>\"\",WEEKDAY(A341,2)=7)),ColTime(T.!J344,T.!L344,D341,$AF$1),IF(AND(E341<>\"\",OR(C341<>\"\",WEEKDAY(A341,2)=7)),ColTime(T.!$J$7,T.!$L$7,D341,E341),\"\")))))),\"\")","v":""},"",null,null,{"$f":"IFERROR(CHOOSE(WEEKDAY(A341,2),norm!C$1,norm!C$2,norm!C$3,norm!C$4,norm!C$5,norm!C$6,norm!C$7),\"\")","v":"07:30:00"}]
["2019-12-05","To","",null,null,null,"","00:00:00","",{"$f":"IF(AND(C342=\"\",WEEKDAY(A342,2)<6),ColTime(T.!$J$4,T.!$L$4,D342,E342),\"\")","v":"00:00:00"},null,{"$f":"IF(AND(OR(WEEKDAY(A342,2)=7,C342<>\"\"),E342<D342,C343=\"\"),ColTime($AF$1,$AG$1,'Hele året (2)'!$AF$1,E342),IF(AND(WEEKDAY(A342,2)<6,C343=\"\"),ColTime(T.!$J$5,T.!$L$5,D342,E342),\"\"))","v":"00:00:00"},null,"",{"$f":"IFERROR(IF(AND(WEEKDAY(A342,2)<6,C343<>\"\",C342=\"\"),ColTime(T.!$J$7,T.!$L$7,$AF$1,'Hele året (2)'!E342),IF(AND(C342<>\"\",C343<>\"\"),ColTime(T.!$J$7,T.!$L$7,'Hele året (2)'!D342,'Hele året (2)'!E342),IF(AND(OR(WEEKDAY(A342,2)<6,WEEKDAY(A342,2)=6),C342<>\"\",E342<D342),ColTime(T.!$J$7,T.!$L$7,D342,AF339),IF(AND(WEEKDAY(A342,2)=6,E342<D342),ColTime(T.!$J$7,T.!$L$7,$AF$1,E342),IF(AND(E342<D342,OR(C342<>\"\",WEEKDAY(A342,2)=7)),ColTime(T.!J345,T.!L345,D342,$AF$1),IF(AND(E342<>\"\",OR(C342<>\"\",WEEKDAY(A342,2)=7)),ColTime(T.!$J$7,T.!$L$7,D342,E342),\"\")))))),\"\")","v":""},"",null,null,{"$f":"IFERROR(CHOOSE(WEEKDAY(A342,2),norm!C$1,norm!C$2,norm!C$3,norm!C$4,norm!C$5,norm!C$6,norm!C$7),\"\")","v":"07:30:00"}]
["2019-12-06","Fr","",null,null,null,"","00:00:00","",{"$f":"IF(AND(C343=\"\",WEEKDAY(A343,2)<6),ColTime(T.!$J$4,T.!$L$4,D343,E343),\"\")","v":"00:00:00"},null,{"$f":"IF(AND(OR(WEEKDAY(A343,2)=7,C343<>\"\"),E343<D343,C344=\"\"),ColTime($AF$1,$AG$1,'Hele året (2)'!$AF$1,E343),IF(AND(WEEKDAY(A343,2)<6,C344=\"\"),ColTime(T.!$J$5,T.!$L$5,D343,E343),\"\"))","v":"00:00:00"},null,"",{"$f":"IFERROR(IF(AND(WEEKDAY(A343,2)<6,C344<>\"\",C343=\"\"),ColTime(T.!$J$7,T.!$L$7,$AF$1,'Hele året (2)'!E343),IF(AND(C343<>\"\",C344<>\"\"),ColTime(T.!$J$7,T.!$L$7,'Hele året (2)'!D343,'Hele året (2)'!E343),IF(AND(OR(WEEKDAY(A343,2)<6,WEEKDAY(A343,2)=6),C343<>\"\",E343<D343),ColTime(T.!$J$7,T.!$L$7,D343,AF340),IF(AND(WEEKDAY(A343,2)=6,E343<D343),ColTime(T.!$J$7,T.!$L$7,$AF$1,E343),IF(AND(E343<D343,OR(C343<>\"\",WEEKDAY(A343,2)=7)),ColTime(T.!J346,T.!L346,D343,$AF$1),IF(AND(E343<>\"\",OR(C343<>\"\",WEEKDAY(A343,2)=7)),ColTime(T.!$J$7,T.!$L$7,D343,E343),\"\")))))),\"\")","v":""},"",null,null,{"$f":"IFERROR(CHOOSE(WEEKDAY(A343,2),norm!C$1,norm!C$2,norm!C$3,norm!C$4,norm!C$5,norm!C$6,norm!C$7),\"\")","v":"07:00:00"}]
["2019-12-07","Lø","",null,null,null,"","00:00:00","",{"$f":"IF(AND(C344=\"\",WEEKDAY(A344,2)<6),ColTime(T.!$J$4,T.!$L$4,D344,E344),\"\")","v":""},null,{"$f":"IF(AND(OR(WEEKDAY(A344,2)=7,C344<>\"\"),E344<D344,C345=\"\"),ColTime($AF$1,$AG$1,'Hele året (2)'!$AF$1,E344),IF(AND(WEEKDAY(A344,2)<6,C345=\"\"),ColTime(T.!$J$5,T.!$L$5,D344,E344),\"\"))","v":""},null,"00:00:00",{"$f":"IFERROR(IF(AND(WEEKDAY(A344,2)<6,C345<>\"\",C344=\"\"),ColTime(T.!$J$7,T.!$L$7,$AF$1,'Hele året (2)'!E344),IF(AND(C344<>\"\",C345<>\"\"),ColTime(T.!$J$7,T.!$L$7,'Hele året (2)'!D344,'Hele året (2)'!E344),IF(AND(OR(WEEKDAY(A344,2)<6,WEEKDAY(A344,2)=6),C344<>\"\",E344<D344),ColTime(T.!$J$7,T.!$L$7,D344,AF341),IF(AND(WEEKDAY(A344,2)=6,E344<D344),ColTime(T.!$J$7,T.!$L$7,$AF$1,E344),IF(AND(E344<D344,OR(C344<>\"\",WEEKDAY(A344,2)=7)),ColTime(T.!J347,T.!L347,D344,$AF$1),IF(AND(E344<>\"\",OR(C344<>\"\",WEEKDAY(A344,2)=7)),ColTime(T.!$J$7,T.!$L$7,D344,E344),\"\")))))),\"\")","v":""},"",null,null,{"$f":"IFERROR(CHOOSE(WEEKDAY(A344,2),norm!C$1,norm!C$2,norm!C$3,norm!C$4,norm!C$5,norm!C$6,norm!C$7),\"\")","v":"00:00:00"}]
["2019-12-08","Sø","",null,null,null,"","00:00:00","",{"$f":"IF(AND(C345=\"\",WEEKDAY(A345,2)<6),ColTime(T.!$J$4,T.!$L$4,D345,E345),\"\")","v":""},null,{"$f":"IF(AND(OR(WEEKDAY(A345,2)=7,C345<>\"\"),E345<D345,C346=\"\"),ColTime($AF$1,$AG$1,'Hele året (2)'!$AF$1,E345),IF(AND(WEEKDAY(A345,2)<6,C346=\"\"),ColTime(T.!$J$5,T.!$L$5,D345,E345),\"\"))","v":""},null,"",{"$f":"IFERROR(IF(AND(WEEKDAY(A345,2)<6,C346<>\"\",C345=\"\"),ColTime(T.!$J$7,T.!$L$7,$AF$1,'Hele året (2)'!E345),IF(AND(C345<>\"\",C346<>\"\"),ColTime(T.!$J$7,T.!$L$7,'Hele året (2)'!D345,'Hele året (2)'!E345),IF(AND(OR(WEEKDAY(A345,2)<6,WEEKDAY(A345,2)=6),C345<>\"\",E345<D345),ColTime(T.!$J$7,T.!$L$7,D345,AF342),IF(AND(WEEKDAY(A345,2)=6,E345<D345),ColTime(T.!$J$7,T.!$L$7,$AF$1,E345),IF(AND(E345<D345,OR(C345<>\"\",WEEKDAY(A345,2)=7)),ColTime(T.!J348,T.!L348,D345,$AF$1),IF(AND(E345<>\"\",OR(C345<>\"\",WEEKDAY(A345,2)=7)),ColTime(T.!$J$7,T.!$L$7,D345,E345),\"\")))))),\"\")","v":""},"",null,null,{"$f":"IFERROR(CHOOSE(WEEKDAY(A345,2),norm!C$1,norm!C$2,norm!C$3,norm!C$4,norm!C$5,norm!C$6,norm!C$7),\"\")","v":"00:00:00"}]
["2019-12-09","Ma","",null,null,null,"","00:00:00","",{"$f":"IF(AND(C346=\"\",WEEKDAY(A346,2)<6),ColTime(T.!$J$4,T.!$L$4,D346,E346),\"\")","v":"00:00:00"},null,{"$f":"IF(AND(OR(WEEKDAY(A346,2)=7,C346<>\"\"),E346<D346,C347=\"\"),ColTime($AF$1,$AG$1,'Hele året (2)'!$AF$1,E346),IF(AND(WEEKDAY(A346,2)<6,C347=\"\"),ColTime(T.!$J$5,T.!$L$5,D346,E346),\"\"))","v":"00:00:00"},null,"",{"$f":"IFERROR(IF(AND(WEEKDAY(A346,2)<6,C347<>\"\",C346=\"\"),ColTime(T.!$J$7,T.!$L$7,$AF$1,'Hele året (2)'!E346),IF(AND(C346<>\"\",C347<>\"\"),ColTime(T.!$J$7,T.!$L$7,'Hele året (2)'!D346,'Hele året (2)'!E346),IF(AND(OR(WEEKDAY(A346,2)<6,WEEKDAY(A346,2)=6),C346<>\"\",E346<D346),ColTime(T.!$J$7,T.!$L$7,D346,AF343),IF(AND(WEEKDAY(A346,2)=6,E346<D346),ColTime(T.!$J$7,T.!$L$7,$AF$1,E346),IF(AND(E346<D346,OR(C346<>\"\",WEEKDAY(A346,2)=7)),ColTime(T.!J349,T.!L349,D346,$AF$1),IF(AND(E346<>\"\",OR(C346<>\"\",WEEKDAY(A346,2)=7)),ColTime(T.!$J$7,T.!$L$7,D346,E346),\"\")))))),\"\")","v":""},"",null,null,{"$f":"IFERROR(CHOOSE(WEEKDAY(A346,2),norm!C$1,norm!C$2,norm!C$3,norm!C$4,norm!C$5,norm!C$6,norm!C$7),\"\")","v":"07:30:00"}]
[{"$f":"A346+1","v":"2019-12-10"},"Ti","",null,null,null,"","00:00:00","",{"$f":"IF(AND(C347=\"\",WEEKDAY(A347,2)<6),ColTime(T.!$J$4,T.!$L$4,D347,E347),\"\")","v":"00:00:00"},null,{"$f":"IF(AND(OR(WEEKDAY(A347,2)=7,C347<>\"\"),E347<D347,C348=\"\"),ColTime($AF$1,$AG$1,'Hele året (2)'!$AF$1,E347),IF(AND(WEEKDAY(A347,2)<6,C348=\"\"),ColTime(T.!$J$5,T.!$L$5,D347,E347),\"\"))","v":"00:00:00"},null,"",{"$f":"IFERROR(IF(AND(WEEKDAY(A347,2)<6,C348<>\"\",C347=\"\"),ColTime(T.!$J$7,T.!$L$7,$AF$1,'Hele året (2)'!E347),IF(AND(C347<>\"\",C348<>\"\"),ColTime(T.!$J$7,T.!$L$7,'Hele året (2)'!D347,'Hele året (2)'!E347),IF(AND(OR(WEEKDAY(A347,2)<6,WEEKDAY(A347,2)=6),C347<>\"\",E347<D347),ColTime(T.!$J$7,T.!$L$7,D347,AF344),IF(AND(WEEKDAY(A347,2)=6,E347<D347),ColTime(T.!$J$7,T.!$L$7,$AF$1,E347),IF(AND(E347<D347,OR(C347<>\"\",WEEKDAY(A347,2)=7)),ColTime(T.!J350,T.!L350,D347,$AF$1),IF(AND(E347<>\"\",OR(C347<>\"\",WEEKDAY(A347,2)=7)),ColTime(T.!$J$7,T.!$L$7,D347,E347),\"\")))))),\"\")","v":""},"",null,null,{"$f":"IFERROR(CHOOSE(WEEKDAY(A347,2),norm!C$1,norm!C$2,norm!C$3,norm!C$4,norm!C$5,norm!C$6,norm!C$7),\"\")","v":"07:30:00"}]
["2019-12-11","On","",null,null,null,"","00:00:00","",{"$f":"IF(AND(C348=\"\",WEEKDAY(A348,2)<6),ColTime(T.!$J$4,T.!$L$4,D348,E348),\"\")","v":"00:00:00"},null,{"$f":"IF(AND(OR(WEEKDAY(A348,2)=7,C348<>\"\"),E348<D348,C349=\"\"),ColTime($AF$1,$AG$1,'Hele året (2)'!$AF$1,E348),IF(AND(WEEKDAY(A348,2)<6,C349=\"\"),ColTime(T.!$J$5,T.!$L$5,D348,E348),\"\"))","v":"00:00:00"},null,"",{"$f":"IFERROR(IF(AND(WEEKDAY(A348,2)<6,C349<>\"\",C348=\"\"),ColTime(T.!$J$7,T.!$L$7,$AF$1,'Hele året (2)'!E348),IF(AND(C348<>\"\",C349<>\"\"),ColTime(T.!$J$7,T.!$L$7,'Hele året (2)'!D348,'Hele året (2)'!E348),IF(AND(OR(WEEKDAY(A348,2)<6,WEEKDAY(A348,2)=6),C348<>\"\",E348<D348),ColTime(T.!$J$7,T.!$L$7,D348,AF345),IF(AND(WEEKDAY(A348,2)=6,E348<D348),ColTime(T.!$J$7,T.!$L$7,$AF$1,E348),IF(AND(E348<D348,OR(C348<>\"\",WEEKDAY(A348,2)=7)),ColTime(T.!J351,T.!L351,D348,$AF$1),IF(AND(E348<>\"\",OR(C348<>\"\",WEEKDAY(A348,2)=7)),ColTime(T.!$J$7,T.!$L$7,D348,E348),\"\")))))),\"\")","v":""},"",null,null,{"$f":"IFERROR(CHOOSE(WEEKDAY(A348,2),norm!C$1,norm!C$2,norm!C$3,norm!C$4,norm!C$5,norm!C$6,norm!C$7),\"\")","v":"07:30:00"}]
["2019-12-12","To","",null,null,null,"","00:00:00","",{"$f":"IF(AND(C349=\"\",WEEKDAY(A349,2)<6),ColTime(T.!$J$4,T.!$L$4,D349,E349),\"\")","v":"00:00:00"},null,{"$f":"IF(AND(OR(WEEKDAY(A349,2)=7,C349<>\"\"),E349<D349,C350=\"\"),ColTime($AF$1,$AG$1,'Hele året (2)'!$AF$1,E349),IF(AND(WEEKDAY(A349,2)<6,C350=\"\"),ColTime(T.!$J$5,T.!$L$5,D349,E349),\"\"))","v":"00:00:00"},null,"",{"$f":"IFERROR(IF(AND(WEEKDAY(A349,2)<6,C350<>\"\",C349=\"\"),ColTime(T.!$J$7,T.!$L$7,$AF$1,'Hele året (2)'!E349),IF(AND(C349<>\"\",C350<>\"\"),ColTime(T.!$J$7,T.!$L$7,'Hele året (2)'!D349,'Hele året (2)'!E349),IF(AND(OR(WEEKDAY(A349,2)<6,WEEKDAY(A349,2)=6),C349<>\"\",E349<D349),ColTime(T.!$J$7,T.!$L$7,D349,AF346),IF(AND(WEEKDAY(A349,2)=6,E349<D349),ColTime(T.!$J$7,T.!$L$7,$AF$1,E349),IF(AND(E349<D349,OR(C349<>\"\",WEEKDAY(A349,2)=7)),ColTime(T.!J352,T.!L352,D349,$AF$1),IF(AND(E349<>\"\",OR(C349<>\"\",WEEKDAY(A349,2)=7)),ColTime(T.!$J$7,T.!$L$7,D349,E349),\"\")))))),\"\")","v":""},"",null,null,{"$f":"IFERROR(CHOOSE(WEEKDAY(A349,2),norm!C$1,norm!C$2,norm!C$3,norm!C$4,norm!C$5,norm!C$6,norm!C$7),\"\")","v":"07:30:00"}]
["2019-12-13","Fr","",null,null,null,"","00:00:00","",{"$f":"IF(AND(C350=\"\",WEEKDAY(A350,2)<6),ColTime(T.!$J$4,T.!$L$4,D350,E350),\"\")","v":"00:00:00"},null,{"$f":"IF(AND(OR(WEEKDAY(A350,2)=7,C350<>\"\"),E350<D350,C351=\"\"),ColTime($AF$1,$AG$1,'Hele året (2)'!$AF$1,E350),IF(AND(WEEKDAY(A350,2)<6,C351=\"\"),ColTime(T.!$J$5,T.!$L$5,D350,E350),\"\"))","v":"00:00:00"},null,"",{"$f":"IFERROR(IF(AND(WEEKDAY(A350,2)<6,C351<>\"\",C350=\"\"),ColTime(T.!$J$7,T.!$L$7,$AF$1,'Hele året (2)'!E350),IF(AND(C350<>\"\",C351<>\"\"),ColTime(T.!$J$7,T.!$L$7,'Hele året (2)'!D350,'Hele året (2)'!E350),IF(AND(OR(WEEKDAY(A350,2)<6,WEEKDAY(A350,2)=6),C350<>\"\",E350<D350),ColTime(T.!$J$7,T.!$L$7,D350,AF347),IF(AND(WEEKDAY(A350,2)=6,E350<D350),ColTime(T.!$J$7,T.!$L$7,$AF$1,E350),IF(AND(E350<D350,OR(C350<>\"\",WEEKDAY(A350,2)=7)),ColTime(T.!J353,T.!L353,D350,$AF$1),IF(AND(E350<>\"\",OR(C350<>\"\",WEEKDAY(A350,2)=7)),ColTime(T.!$J$7,T.!$L$7,D350,E350),\"\")))))),\"\")","v":""},"",null,null,{"$f":"IFERROR(CHOOSE(WEEKDAY(A350,2),norm!C$1,norm!C$2,norm!C$3,norm!C$4,norm!C$5,norm!C$6,norm!C$7),\"\")","v":"07:00:00"}]
["2019-12-14","Lø","",null,null,null,"","00:00:00","",{"$f":"IF(AND(C351=\"\",WEEKDAY(A351,2)<6),ColTime(T.!$J$4,T.!$L$4,D351,E351),\"\")","v":""},null,{"$f":"IF(AND(OR(WEEKDAY(A351,2)=7,C351<>\"\"),E351<D351,C352=\"\"),ColTime($AF$1,$AG$1,'Hele året (2)'!$AF$1,E351),IF(AND(WEEKDAY(A351,2)<6,C352=\"\"),ColTime(T.!$J$5,T.!$L$5,D351,E351),\"\"))","v":""},null,"00:00:00",{"$f":"IFERROR(IF(AND(WEEKDAY(A351,2)<6,C352<>\"\",C351=\"\"),ColTime(T.!$J$7,T.!$L$7,$AF$1,'Hele året (2)'!E351),IF(AND(C351<>\"\",C352<>\"\"),ColTime(T.!$J$7,T.!$L$7,'Hele året (2)'!D351,'Hele året (2)'!E351),IF(AND(OR(WEEKDAY(A351,2)<6,WEEKDAY(A351,2)=6),C351<>\"\",E351<D351),ColTime(T.!$J$7,T.!$L$7,D351,AF348),IF(AND(WEEKDAY(A351,2)=6,E351<D351),ColTime(T.!$J$7,T.!$L$7,$AF$1,E351),IF(AND(E351<D351,OR(C351<>\"\",WEEKDAY(A351,2)=7)),ColTime(T.!J354,T.!L354,D351,$AF$1),IF(AND(E351<>\"\",OR(C351<>\"\",WEEKDAY(A351,2)=7)),ColTime(T.!$J$7,T.!$L$7,D351,E351),\"\")))))),\"\")","v":""},"",null,null,{"$f":"IFERROR(CHOOSE(WEEKDAY(A351,2),norm!C$1,norm!C$2,norm!C$3,norm!C$4,norm!C$5,norm!C$6,norm!C$7),\"\")","v":"00:00:00"}]
["2019-12-15","Sø","",null,null,null,"","00:00:00","",{"$f":"IF(AND(C352=\"\",WEEKDAY(A352,2)<6),ColTime(T.!$J$4,T.!$L$4,D352,E352),\"\")","v":""},null,{"$f":"IF(AND(OR(WEEKDAY(A352,2)=7,C352<>\"\"),E352<D352,C353=\"\"),ColTime($AF$1,$AG$1,'Hele året (2)'!$AF$1,E352),IF(AND(WEEKDAY(A352,2)<6,C353=\"\"),ColTime(T.!$J$5,T.!$L$5,D352,E352),\"\"))","v":""},null,"",{"$f":"IFERROR(IF(AND(WEEKDAY(A352,2)<6,C353<>\"\",C352=\"\"),ColTime(T.!$J$7,T.!$L$7,$AF$1,'Hele året (2)'!E352),IF(AND(C352<>\"\",C353<>\"\"),ColTime(T.!$J$7,T.!$L$7,'Hele året (2)'!D352,'Hele året (2)'!E352),IF(AND(OR(WEEKDAY(A352,2)<6,WEEKDAY(A352,2)=6),C352<>\"\",E352<D352),ColTime(T.!$J$7,T.!$L$7,D352,AF349),IF(AND(WEEKDAY(A352,2)=6,E352<D352),ColTime(T.!$J$7,T.!$L$7,$AF$1,E352),IF(AND(E352<D352,OR(C352<>\"\",WEEKDAY(A352,2)=7)),ColTime(T.!J355,T.!L355,D352,$AF$1),IF(AND(E352<>\"\",OR(C352<>\"\",WEEKDAY(A352,2)=7)),ColTime(T.!$J$7,T.!$L$7,D352,E352),\"\")))))),\"\")","v":""},"",null,null,{"$f":"IFERROR(CHOOSE(WEEKDAY(A352,2),norm!C$1,norm!C$2,norm!C$3,norm!C$4,norm!C$5,norm!C$6,norm!C$7),\"\")","v":"00:00:00"}]
["2019-12-16","Ma","",null,null,null,"","00:00:00","",{"$f":"IF(AND(C353=\"\",WEEKDAY(A353,2)<6),ColTime(T.!$J$4,T.!$L$4,D353,E353),\"\")","v":"00:00:00"},null,{"$f":"IF(AND(OR(WEEKDAY(A353,2)=7,C353<>\"\"),E353<D353,C354=\"\"),ColTime($AF$1,$AG$1,'Hele året (2)'!$AF$1,E353),IF(AND(WEEKDAY(A353,2)<6,C354=\"\"),ColTime(T.!$J$5,T.!$L$5,D353,E353),\"\"))","v":"00:00:00"},null,"",{"$f":"IFERROR(IF(AND(WEEKDAY(A353,2)<6,C354<>\"\",C353=\"\"),ColTime(T.!$J$7,T.!$L$7,$AF$1,'Hele året (2)'!E353),IF(AND(C353<>\"\",C354<>\"\"),ColTime(T.!$J$7,T.!$L$7,'Hele året (2)'!D353,'Hele året (2)'!E353),IF(AND(OR(WEEKDAY(A353,2)<6,WEEKDAY(A353,2)=6),C353<>\"\",E353<D353),ColTime(T.!$J$7,T.!$L$7,D353,AF350),IF(AND(WEEKDAY(A353,2)=6,E353<D353),ColTime(T.!$J$7,T.!$L$7,$AF$1,E353),IF(AND(E353<D353,OR(C353<>\"\",WEEKDAY(A353,2)=7)),ColTime(T.!J356,T.!L356,D353,$AF$1),IF(AND(E353<>\"\",OR(C353<>\"\",WEEKDAY(A353,2)=7)),ColTime(T.!$J$7,T.!$L$7,D353,E353),\"\")))))),\"\")","v":""},"",null,null,{"$f":"IFERROR(CHOOSE(WEEKDAY(A353,2),norm!C$1,norm!C$2,norm!C$3,norm!C$4,norm!C$5,norm!C$6,norm!C$7),\"\")","v":"07:30:00"}]
["2019-12-17","Ti","",null,null,null,"","00:00:00","",{"$f":"IF(AND(C354=\"\",WEEKDAY(A354,2)<6),ColTime(T.!$J$4,T.!$L$4,D354,E354),\"\")","v":"00:00:00"},null,{"$f":"IF(AND(OR(WEEKDAY(A354,2)=7,C354<>\"\"),E354<D354,C355=\"\"),ColTime($AF$1,$AG$1,'Hele året (2)'!$AF$1,E354),IF(AND(WEEKDAY(A354,2)<6,C355=\"\"),ColTime(T.!$J$5,T.!$L$5,D354,E354),\"\"))","v":"00:00:00"},null,"",{"$f":"IFERROR(IF(AND(WEEKDAY(A354,2)<6,C355<>\"\",C354=\"\"),ColTime(T.!$J$7,T.!$L$7,$AF$1,'Hele året (2)'!E354),IF(AND(C354<>\"\",C355<>\"\"),ColTime(T.!$J$7,T.!$L$7,'Hele året (2)'!D354,'Hele året (2)'!E354),IF(AND(OR(WEEKDAY(A354,2)<6,WEEKDAY(A354,2)=6),C354<>\"\",E354<D354),ColTime(T.!$J$7,T.!$L$7,D354,AF351),IF(AND(WEEKDAY(A354,2)=6,E354<D354),ColTime(T.!$J$7,T.!$L$7,$AF$1,E354),IF(AND(E354<D354,OR(C354<>\"\",WEEKDAY(A354,2)=7)),ColTime(T.!J357,T.!L357,D354,$AF$1),IF(AND(E354<>\"\",OR(C354<>\"\",WEEKDAY(A354,2)=7)),ColTime(T.!$J$7,T.!$L$7,D354,E354),\"\")))))),\"\")","v":""},"",null,null,{"$f":"IFERROR(CHOOSE(WEEKDAY(A354,2),norm!C$1,norm!C$2,norm!C$3,norm!C$4,norm!C$5,norm!C$6,norm!C$7),\"\")","v":"07:30:00"}]
["2019-12-18",{"$f":"IFERROR(PROPER(TEXT(A355,\"ddd\")),\"\")","v":"On"},{"$f":"IF(A355=\"\",\"\",HelligdagsNavn(A355,0,0))","v":""},null,null,null,"","00:00:00","",{"$f":"IF(AND(C355=\"\",WEEKDAY(A355,2)<6),ColTime(T.!$J$4,T.!$L$4,D355,E355),\"\")","v":"00:00:00"},null,{"$f":"IF(AND(OR(WEEKDAY(A355,2)=7,C355<>\"\"),E355<D355,C356=\"\"),ColTime($AF$1,$AG$1,'Hele året (2)'!$AF$1,E355),IF(AND(WEEKDAY(A355,2)<6,C356=\"\"),ColTime(T.!$J$5,T.!$L$5,D355,E355),\"\"))","v":"00:00:00"},null,"",{"$f":"IFERROR(IF(AND(WEEKDAY(A355,2)<6,C356<>\"\",C355=\"\"),ColTime(T.!$J$7,T.!$L$7,$AF$1,'Hele året (2)'!E355),IF(AND(C355<>\"\",C356<>\"\"),ColTime(T.!$J$7,T.!$L$7,'Hele året (2)'!D355,'Hele året (2)'!E355),IF(AND(OR(WEEKDAY(A355,2)<6,WEEKDAY(A355,2)=6),C355<>\"\",E355<D355),ColTime(T.!$J$7,T.!$L$7,D355,AF352),IF(AND(WEEKDAY(A355,2)=6,E355<D355),ColTime(T.!$J$7,T.!$L$7,$AF$1,E355),IF(AND(E355<D355,OR(C355<>\"\",WEEKDAY(A355,2)=7)),ColTime(T.!J358,T.!L358,D355,$AF$1),IF(AND(E355<>\"\",OR(C355<>\"\",WEEKDAY(A355,2)=7)),ColTime(T.!$J$7,T.!$L$7,D355,E355),\"\")))))),\"\")","v":""},"",null,null,{"$f":"IFERROR(CHOOSE(WEEKDAY(A355,2),norm!C$1,norm!C$2,norm!C$3,norm!C$4,norm!C$5,norm!C$6,norm!C$7),\"\")","v":"07:30:00"}]
["2019-12-19","To","",null,null,null,"","00:00:00","",{"$f":"IF(AND(C356=\"\",WEEKDAY(A356,2)<6),ColTime(T.!$J$4,T.!$L$4,D356,E356),\"\")","v":"00:00:00"},null,{"$f":"IF(AND(OR(WEEKDAY(A356,2)=7,C356<>\"\"),E356<D356,C357=\"\"),ColTime($AF$1,$AG$1,'Hele året (2)'!$AF$1,E356),IF(AND(WEEKDAY(A356,2)<6,C357=\"\"),ColTime(T.!$J$5,T.!$L$5,D356,E356),\"\"))","v":"00:00:00"},null,"",{"$f":"IFERROR(IF(AND(WEEKDAY(A356,2)<6,C357<>\"\",C356=\"\"),ColTime(T.!$J$7,T.!$L$7,$AF$1,'Hele året (2)'!E356),IF(AND(C356<>\"\",C357<>\"\"),ColTime(T.!$J$7,T.!$L$7,'Hele året (2)'!D356,'Hele året (2)'!E356),IF(AND(OR(WEEKDAY(A356,2)<6,WEEKDAY(A356,2)=6),C356<>\"\",E356<D356),ColTime(T.!$J$7,T.!$L$7,D356,AF353),IF(AND(WEEKDAY(A356,2)=6,E356<D356),ColTime(T.!$J$7,T.!$L$7,$AF$1,E356),IF(AND(E356<D356,OR(C356<>\"\",WEEKDAY(A356,2)=7)),ColTime(T.!J359,T.!L359,D356,$AF$1),IF(AND(E356<>\"\",OR(C356<>\"\",WEEKDAY(A356,2)=7)),ColTime(T.!$J$7,T.!$L$7,D356,E356),\"\")))))),\"\")","v":""},"",null,null,{"$f":"IFERROR(CHOOSE(WEEKDAY(A356,2),norm!C$1,norm!C$2,norm!C$3,norm!C$4,norm!C$5,norm!C$6,norm!C$7),\"\")","v":"07:30:00"}]
["2019-12-20","Fr","",null,null,null,"","00:00:00","",{"$f":"IF(AND(C357=\"\",WEEKDAY(A357,2)<6),ColTime(T.!$J$4,T.!$L$4,D357,E357),\"\")","v":"00:00:00"},null,{"$f":"IF(AND(OR(WEEKDAY(A357,2)=7,C357<>\"\"),E357<D357,C358=\"\"),ColTime($AF$1,$AG$1,'Hele året (2)'!$AF$1,E357),IF(AND(WEEKDAY(A357,2)<6,C358=\"\"),ColTime(T.!$J$5,T.!$L$5,D357,E357),\"\"))","v":"00:00:00"},null,"",{"$f":"IFERROR(IF(AND(WEEKDAY(A357,2)<6,C358<>\"\",C357=\"\"),ColTime(T.!$J$7,T.!$L$7,$AF$1,'Hele året (2)'!E357),IF(AND(C357<>\"\",C358<>\"\"),ColTime(T.!$J$7,T.!$L$7,'Hele året (2)'!D357,'Hele året (2)'!E357),IF(AND(OR(WEEKDAY(A357,2)<6,WEEKDAY(A357,2)=6),C357<>\"\",E357<D357),ColTime(T.!$J$7,T.!$L$7,D357,AF354),IF(AND(WEEKDAY(A357,2)=6,E357<D357),ColTime(T.!$J$7,T.!$L$7,$AF$1,E357),IF(AND(E357<D357,OR(C357<>\"\",WEEKDAY(A357,2)=7)),ColTime(T.!J360,T.!L360,D357,$AF$1),IF(AND(E357<>\"\",OR(C357<>\"\",WEEKDAY(A357,2)=7)),ColTime(T.!$J$7,T.!$L$7,D357,E357),\"\")))))),\"\")","v":""},"",null,null,{"$f":"IFERROR(CHOOSE(WEEKDAY(A357,2),norm!C$1,norm!C$2,norm!C$3,norm!C$4,norm!C$5,norm!C$6,norm!C$7),\"\")","v":"07:00:00"}]
["2019-12-21","Lø","",null,null,null,"","00:00:00","",{"$f":"IF(AND(C358=\"\",WEEKDAY(A358,2)<6),ColTime(T.!$J$4,T.!$L$4,D358,E358),\"\")","v":""},null,{"$f":"IF(AND(OR(WEEKDAY(A358,2)=7,C358<>\"\"),E358<D358,C359=\"\"),ColTime($AF$1,$AG$1,'Hele året (2)'!$AF$1,E358),IF(AND(WEEKDAY(A358,2)<6,C359=\"\"),ColTime(T.!$J$5,T.!$L$5,D358,E358),\"\"))","v":""},null,"00:00:00",{"$f":"IFERROR(IF(AND(WEEKDAY(A358,2)<6,C359<>\"\",C358=\"\"),ColTime(T.!$J$7,T.!$L$7,$AF$1,'Hele året (2)'!E358),IF(AND(C358<>\"\",C359<>\"\"),ColTime(T.!$J$7,T.!$L$7,'Hele året (2)'!D358,'Hele året (2)'!E358),IF(AND(OR(WEEKDAY(A358,2)<6,WEEKDAY(A358,2)=6),C358<>\"\",E358<D358),ColTime(T.!$J$7,T.!$L$7,D358,AF355),IF(AND(WEEKDAY(A358,2)=6,E358<D358),ColTime(T.!$J$7,T.!$L$7,$AF$1,E358),IF(AND(E358<D358,OR(C358<>\"\",WEEKDAY(A358,2)=7)),ColTime(T.!J361,T.!L361,D358,$AF$1),IF(AND(E358<>\"\",OR(C358<>\"\",WEEKDAY(A358,2)=7)),ColTime(T.!$J$7,T.!$L$7,D358,E358),\"\")))))),\"\")","v":""},"",null,null,{"$f":"IFERROR(CHOOSE(WEEKDAY(A358,2),norm!C$1,norm!C$2,norm!C$3,norm!C$4,norm!C$5,norm!C$6,norm!C$7),\"\")","v":"00:00:00"}]
["2019-12-22","Sø","",null,null,null,"","00:00:00","",{"$f":"IF(AND(C359=\"\",WEEKDAY(A359,2)<6),ColTime(T.!$J$4,T.!$L$4,D359,E359),\"\")","v":""},null,{"$f":"IF(AND(OR(WEEKDAY(A359,2)=7,C359<>\"\"),E359<D359,C360=\"\"),ColTime($AF$1,$AG$1,'Hele året (2)'!$AF$1,E359),IF(AND(WEEKDAY(A359,2)<6,C360=\"\"),ColTime(T.!$J$5,T.!$L$5,D359,E359),\"\"))","v":""},null,"",{"$f":"IFERROR(IF(AND(WEEKDAY(A359,2)<6,C360<>\"\",C359=\"\"),ColTime(T.!$J$7,T.!$L$7,$AF$1,'Hele året (2)'!E359),IF(AND(C359<>\"\",C360<>\"\"),ColTime(T.!$J$7,T.!$L$7,'Hele året (2)'!D359,'Hele året (2)'!E359),IF(AND(OR(WEEKDAY(A359,2)<6,WEEKDAY(A359,2)=6),C359<>\"\",E359<D359),ColTime(T.!$J$7,T.!$L$7,D359,AF356),IF(AND(WEEKDAY(A359,2)=6,E359<D359),ColTime(T.!$J$7,T.!$L$7,$AF$1,E359),IF(AND(E359<D359,OR(C359<>\"\",WEEKDAY(A359,2)=7)),ColTime(T.!J362,T.!L362,D359,$AF$1),IF(AND(E359<>\"\",OR(C359<>\"\",WEEKDAY(A359,2)=7)),ColTime(T.!$J$7,T.!$L$7,D359,E359),\"\")))))),\"\")","v":""},"",null,null,{"$f":"IFERROR(CHOOSE(WEEKDAY(A359,2),norm!C$1,norm!C$2,norm!C$3,norm!C$4,norm!C$5,norm!C$6,norm!C$7),\"\")","v":"00:00:00"}]
["2019-12-23","Ma","","22:00:00","07:00:00",null,0.375,"01:30:00","",{"$f":"IF(AND(C360=\"\",WEEKDAY(A360,2)<6),ColTime(T.!$J$4,T.!$L$4,D360,E360),\"\")","v":"01:00:00"},null,{"$f":"IF(AND(OR(WEEKDAY(A360,2)=7,C360<>\"\"),E360<D360,C361=\"\"),ColTime($AF$1,$AG$1,'Hele året (2)'!$AF$1,E360),IF(AND(WEEKDAY(A360,2)<6,C361=\"\"),ColTime(T.!$J$5,T.!$L$5,D360,E360),\"\"))","v":""},null,"",{"$f":"IFERROR(IF(AND(WEEKDAY(A360,2)<6,C361<>\"\",C360=\"\"),ColTime(T.!$J$7,T.!$L$7,$AF$1,'Hele året (2)'!E360),IF(AND(C360<>\"\",C361<>\"\"),ColTime(T.!$J$7,T.!$L$7,'Hele året (2)'!D360,'Hele året (2)'!E360),IF(AND(OR(WEEKDAY(A360,2)<6,WEEKDAY(A360,2)=6),C360<>\"\",E360<D360),ColTime(T.!$J$7,T.!$L$7,D360,AF357),IF(AND(WEEKDAY(A360,2)=6,E360<D360),ColTime(T.!$J$7,T.!$L$7,$AF$1,E360),IF(AND(E360<D360,OR(C360<>\"\",WEEKDAY(A360,2)=7)),ColTime(T.!J363,T.!L363,D360,$AF$1),IF(AND(E360<>\"\",OR(C360<>\"\",WEEKDAY(A360,2)=7)),ColTime(T.!$J$7,T.!$L$7,D360,E360),\"\")))))),\"\")","v":"07:00:00"},"",null,null,{"$f":"IFERROR(CHOOSE(WEEKDAY(A360,2),norm!C$1,norm!C$2,norm!C$3,norm!C$4,norm!C$5,norm!C$6,norm!C$7),\"\")","v":"07:30:00"}]
["2019-12-24","Ti","Julaftensdag","22:00:00","07:00:00",null,0.375,"01:30:00","",{"$f":"IF(AND(C361=\"\",WEEKDAY(A361,2)<6),ColTime(T.!$J$4,T.!$L$4,D361,E361),\"\")","v":""},null,{"$f":"IF(AND(OR(WEEKDAY(A361,2)=7,C361<>\"\"),E361<D361,C362=\"\"),ColTime($AF$1,$AG$1,'Hele året (2)'!$AF$1,E361),IF(AND(WEEKDAY(A361,2)<6,C362=\"\"),ColTime(T.!$J$5,T.!$L$5,D361,E361),\"\"))","v":""},null,"",{"$f":"IFERROR(IF(AND(WEEKDAY(A361,2)<6,C362<>\"\",C361=\"\"),ColTime(T.!$J$7,T.!$L$7,$AF$1,'Hele året (2)'!E361),IF(AND(C361<>\"\",C362<>\"\"),ColTime(T.!$J$7,T.!$L$7,'Hele året (2)'!D361,'Hele året (2)'!E361),IF(AND(OR(WEEKDAY(A361,2)<6,WEEKDAY(A361,2)=6),C361<>\"\",E361<D361),ColTime(T.!$J$7,T.!$L$7,D361,AF358),IF(AND(WEEKDAY(A361,2)=6,E361<D361),ColTime(T.!$J$7,T.!$L$7,$AF$1,E361),IF(AND(E361<D361,OR(C361<>\"\",WEEKDAY(A361,2)=7)),ColTime(T.!J364,T.!L364,D361,$AF$1),IF(AND(E361<>\"\",OR(C361<>\"\",WEEKDAY(A361,2)=7)),ColTime(T.!$J$7,T.!$L$7,D361,E361),\"\")))))),\"\")","v":"09:00:00"},"",null,null,{"$f":"IFERROR(CHOOSE(WEEKDAY(A361,2),norm!C$1,norm!C$2,norm!C$3,norm!C$4,norm!C$5,norm!C$6,norm!C$7),\"\")","v":"07:30:00"}]
["2019-12-25","On","1. Juledag","22:00:00","07:00:00",null,0.375,"01:30:00","",{"$f":"IF(AND(C362=\"\",WEEKDAY(A362,2)<6),ColTime(T.!$J$4,T.!$L$4,D362,E362),\"\")","v":""},null,{"$f":"IF(AND(OR(WEEKDAY(A362,2)=7,C362<>\"\"),E362<D362,C363=\"\"),ColTime($AF$1,$AG$1,'Hele året (2)'!$AF$1,E362),IF(AND(WEEKDAY(A362,2)<6,C363=\"\"),ColTime(T.!$J$5,T.!$L$5,D362,E362),\"\"))","v":""},null,"",{"$f":"IFERROR(IF(AND(WEEKDAY(A362,2)<6,C363<>\"\",C362=\"\"),ColTime(T.!$J$7,T.!$L$7,$AF$1,'Hele året (2)'!E362),IF(AND(C362<>\"\",C363<>\"\"),ColTime(T.!$J$7,T.!$L$7,'Hele året (2)'!D362,'Hele året (2)'!E362),IF(AND(OR(WEEKDAY(A362,2)<6,WEEKDAY(A362,2)=6),C362<>\"\",E362<D362),ColTime(T.!$J$7,T.!$L$7,D362,AF359),IF(AND(WEEKDAY(A362,2)=6,E362<D362),ColTime(T.!$J$7,T.!$L$7,$AF$1,E362),IF(AND(E362<D362,OR(C362<>\"\",WEEKDAY(A362,2)=7)),ColTime(T.!J365,T.!L365,D362,$AF$1),IF(AND(E362<>\"\",OR(C362<>\"\",WEEKDAY(A362,2)=7)),ColTime(T.!$J$7,T.!$L$7,D362,E362),\"\")))))),\"\")","v":"09:00:00"},"",null,null,{"$f":"IFERROR(CHOOSE(WEEKDAY(A362,2),norm!C$1,norm!C$2,norm!C$3,norm!C$4,norm!C$5,norm!C$6,norm!C$7),\"\")","v":"07:30:00"}]
["2019-12-26","To","2. Juledag","22:00:00","07:00:00",null,0.375,"01:30:00","",{"$f":"IF(AND(C363=\"\",WEEKDAY(A363,2)<6),ColTime(T.!$J$4,T.!$L$4,D363,E363),\"\")","v":""},null,{"$f":"IF(AND(OR(WEEKDAY(A363,2)=7,C363<>\"\"),E363<D363,C364=\"\"),ColTime($AF$1,$AG$1,'Hele året (2)'!$AF$1,E363),IF(AND(WEEKDAY(A363,2)<6,C364=\"\"),ColTime(T.!$J$5,T.!$L$5,D363,E363),\"\"))","v":"06:00:00"},null,"",{"$f":"IFERROR(IF(AND(WEEKDAY(A363,2)<6,C364<>\"\",C363=\"\"),ColTime(T.!$J$7,T.!$L$7,$AF$1,'Hele året (2)'!E363),IF(AND(C363<>\"\",C364<>\"\"),ColTime(T.!$J$7,T.!$L$7,'Hele året (2)'!D363,'Hele året (2)'!E363),IF(AND(OR(WEEKDAY(A363,2)<6,WEEKDAY(A363,2)=6),C363<>\"\",E363<D363),ColTime(T.!$J$7,T.!$L$7,D363,AF360),IF(AND(WEEKDAY(A363,2)=6,E363<D363),ColTime(T.!$J$7,T.!$L$7,$AF$1,E363),IF(AND(E363<D363,OR(C363<>\"\",WEEKDAY(A363,2)=7)),ColTime(T.!J366,T.!L366,D363,$AF$1),IF(AND(E363<>\"\",OR(C363<>\"\",WEEKDAY(A363,2)=7)),ColTime(T.!$J$7,T.!$L$7,D363,E363),\"\")))))),\"\")","v":"02:00:00"},"",null,null,{"$f":"IFERROR(CHOOSE(WEEKDAY(A363,2),norm!C$1,norm!C$2,norm!C$3,norm!C$4,norm!C$5,norm!C$6,norm!C$7),\"\")","v":"07:30:00"}]
["2019-12-27","Fr","",null,null,null,"","00:00:00","",{"$f":"IF(AND(C364=\"\",WEEKDAY(A364,2)<6),ColTime(T.!$J$4,T.!$L$4,D364,E364),\"\")","v":"00:00:00"},null,{"$f":"IF(AND(OR(WEEKDAY(A364,2)=7,C364<>\"\"),E364<D364,C365=\"\"),ColTime($AF$1,$AG$1,'Hele året (2)'!$AF$1,E364),IF(AND(WEEKDAY(A364,2)<6,C365=\"\"),ColTime(T.!$J$5,T.!$L$5,D364,E364),\"\"))","v":"00:00:00"},null,"",{"$f":"IFERROR(IF(AND(WEEKDAY(A364,2)<6,C365<>\"\",C364=\"\"),ColTime(T.!$J$7,T.!$L$7,$AF$1,'Hele året (2)'!E364),IF(AND(C364<>\"\",C365<>\"\"),ColTime(T.!$J$7,T.!$L$7,'Hele året (2)'!D364,'Hele året (2)'!E364),IF(AND(OR(WEEKDAY(A364,2)<6,WEEKDAY(A364,2)=6),C364<>\"\",E364<D364),ColTime(T.!$J$7,T.!$L$7,D364,AF361),IF(AND(WEEKDAY(A364,2)=6,E364<D364),ColTime(T.!$J$7,T.!$L$7,$AF$1,E364),IF(AND(E364<D364,OR(C364<>\"\",WEEKDAY(A364,2)=7)),ColTime(T.!J367,T.!L367,D364,$AF$1),IF(AND(E364<>\"\",OR(C364<>\"\",WEEKDAY(A364,2)=7)),ColTime(T.!$J$7,T.!$L$7,D364,E364),\"\")))))),\"\")","v":""},"",null,null,{"$f":"IFERROR(CHOOSE(WEEKDAY(A364,2),norm!C$1,norm!C$2,norm!C$3,norm!C$4,norm!C$5,norm!C$6,norm!C$7),\"\")","v":"07:00:00"}]
["2019-12-28","Lø","",null,null,null,"","00:00:00","",{"$f":"IF(AND(C365=\"\",WEEKDAY(A365,2)<6),ColTime(T.!$J$4,T.!$L$4,D365,E365),\"\")","v":""},null,{"$f":"IF(AND(OR(WEEKDAY(A365,2)=7,C365<>\"\"),E365<D365,C366=\"\"),ColTime($AF$1,$AG$1,'Hele året (2)'!$AF$1,E365),IF(AND(WEEKDAY(A365,2)<6,C366=\"\"),ColTime(T.!$J$5,T.!$L$5,D365,E365),\"\"))","v":""},null,"00:00:00",{"$f":"IFERROR(IF(AND(WEEKDAY(A365,2)<6,C366<>\"\",C365=\"\"),ColTime(T.!$J$7,T.!$L$7,$AF$1,'Hele året (2)'!E365),IF(AND(C365<>\"\",C366<>\"\"),ColTime(T.!$J$7,T.!$L$7,'Hele året (2)'!D365,'Hele året (2)'!E365),IF(AND(OR(WEEKDAY(A365,2)<6,WEEKDAY(A365,2)=6),C365<>\"\",E365<D365),ColTime(T.!$J$7,T.!$L$7,D365,AF362),IF(AND(WEEKDAY(A365,2)=6,E365<D365),ColTime(T.!$J$7,T.!$L$7,$AF$1,E365),IF(AND(E365<D365,OR(C365<>\"\",WEEKDAY(A365,2)=7)),ColTime(T.!J368,T.!L368,D365,$AF$1),IF(AND(E365<>\"\",OR(C365<>\"\",WEEKDAY(A365,2)=7)),ColTime(T.!$J$7,T.!$L$7,D365,E365),\"\")))))),\"\")","v":""},"",null,null,{"$f":"IFERROR(CHOOSE(WEEKDAY(A365,2),norm!C$1,norm!C$2,norm!C$3,norm!C$4,norm!C$5,norm!C$6,norm!C$7),\"\")","v":"00:00:00"}]
["2019-12-29","Sø","",null,null,null,"","00:00:00","",{"$f":"IF(AND(C366=\"\",WEEKDAY(A366,2)<6),ColTime(T.!$J$4,T.!$L$4,D366,E366),\"\")","v":""},null,{"$f":"IF(AND(OR(WEEKDAY(A366,2)=7,C366<>\"\"),E366<D366,C367=\"\"),ColTime($AF$1,$AG$1,'Hele året (2)'!$AF$1,E366),IF(AND(WEEKDAY(A366,2)<6,C367=\"\"),ColTime(T.!$J$5,T.!$L$5,D366,E366),\"\"))","v":""},null,"",{"$f":"IFERROR(IF(AND(WEEKDAY(A366,2)<6,C367<>\"\",C366=\"\"),ColTime(T.!$J$7,T.!$L$7,$AF$1,'Hele året (2)'!E366),IF(AND(C366<>\"\",C367<>\"\"),ColTime(T.!$J$7,T.!$L$7,'Hele året (2)'!D366,'Hele året (2)'!E366),IF(AND(OR(WEEKDAY(A366,2)<6,WEEKDAY(A366,2)=6),C366<>\"\",E366<D366),ColTime(T.!$J$7,T.!$L$7,D366,AF363),IF(AND(WEEKDAY(A366,2)=6,E366<D366),ColTime(T.!$J$7,T.!$L$7,$AF$1,E366),IF(AND(E366<D366,OR(C366<>\"\",WEEKDAY(A366,2)=7)),ColTime(T.!J369,T.!L369,D366,$AF$1),IF(AND(E366<>\"\",OR(C366<>\"\",WEEKDAY(A366,2)=7)),ColTime(T.!$J$7,T.!$L$7,D366,E366),\"\")))))),\"\")","v":""},"",null,null,{"$f":"IFERROR(CHOOSE(WEEKDAY(A366,2),norm!C$1,norm!C$2,norm!C$3,norm!C$4,norm!C$5,norm!C$6,norm!C$7),\"\")","v":"00:00:00"}]
["2019-12-30","Ma","",null,null,null,"","00:00:00","",{"$f":"IF(AND(C367=\"\",WEEKDAY(A367,2)<6),ColTime(T.!$J$4,T.!$L$4,D367,E367),\"\")","v":"00:00:00"},null,{"$f":"IF(AND(OR(WEEKDAY(A367,2)=7,C367<>\"\"),E367<D367,C368=\"\"),ColTime($AF$1,$AG$1,'Hele året (2)'!$AF$1,E367),IF(AND(WEEKDAY(A367,2)<6,C368=\"\"),ColTime(T.!$J$5,T.!$L$5,D367,E367),\"\"))","v":"00:00:00"},null,"",{"$f":"IFERROR(IF(AND(WEEKDAY(A367,2)<6,C368<>\"\",C367=\"\"),ColTime(T.!$J$7,T.!$L$7,$AF$1,'Hele året (2)'!E367),IF(AND(C367<>\"\",C368<>\"\"),ColTime(T.!$J$7,T.!$L$7,'Hele året (2)'!D367,'Hele året (2)'!E367),IF(AND(OR(WEEKDAY(A367,2)<6,WEEKDAY(A367,2)=6),C367<>\"\",E367<D367),ColTime(T.!$J$7,T.!$L$7,D367,AF364),IF(AND(WEEKDAY(A367,2)=6,E367<D367),ColTime(T.!$J$7,T.!$L$7,$AF$1,E367),IF(AND(E367<D367,OR(C367<>\"\",WEEKDAY(A367,2)=7)),ColTime(T.!J370,T.!L370,D367,$AF$1),IF(AND(E367<>\"\",OR(C367<>\"\",WEEKDAY(A367,2)=7)),ColTime(T.!$J$7,T.!$L$7,D367,E367),\"\")))))),\"\")","v":""},"",null,null,{"$f":"IFERROR(CHOOSE(WEEKDAY(A367,2),norm!C$1,norm!C$2,norm!C$3,norm!C$4,norm!C$5,norm!C$6,norm!C$7),\"\")","v":"07:30:00"}]
["2019-12-31","Ti","",null,null,null,"","00:00:00","",{"$f":"IF(AND(C368=\"\",WEEKDAY(A368,2)<6),ColTime(T.!$J$4,T.!$L$4,D368,E368),\"\")","v":"00:00:00"},null,{"$f":"IF(AND(OR(WEEKDAY(A368,2)=7,C368<>\"\"),E368<D368,C369=\"\"),ColTime($AF$1,$AG$1,'Hele året (2)'!$AF$1,E368),IF(AND(WEEKDAY(A368,2)<6,C369=\"\"),ColTime(T.!$J$5,T.!$L$5,D368,E368),\"\"))","v":"00:00:00"},null,"",{"$f":"IFERROR(IF(AND(WEEKDAY(A368,2)<6,C369<>\"\",C368=\"\"),ColTime(T.!$J$7,T.!$L$7,$AF$1,'Hele året (2)'!E368),IF(AND(C368<>\"\",C369<>\"\"),ColTime(T.!$J$7,T.!$L$7,'Hele året (2)'!D368,'Hele året (2)'!E368),IF(AND(OR(WEEKDAY(A368,2)<6,WEEKDAY(A368,2)=6),C368<>\"\",E368<D368),ColTime(T.!$J$7,T.!$L$7,D368,AF365),IF(AND(WEEKDAY(A368,2)=6,E368<D368),ColTime(T.!$J$7,T.!$L$7,$AF$1,E368),IF(AND(E368<D368,OR(C368<>\"\",WEEKDAY(A368,2)=7)),ColTime(T.!J371,T.!L371,D368,$AF$1),IF(AND(E368<>\"\",OR(C368<>\"\",WEEKDAY(A368,2)=7)),ColTime(T.!$J$7,T.!$L$7,D368,E368),\"\")))))),\"\")","v":""},"",null,null,{"$f":"IFERROR(CHOOSE(WEEKDAY(A368,2),norm!C$1,norm!C$2,norm!C$3,norm!C$4,norm!C$5,norm!C$6,norm!C$7),\"\")","v":"07:30:00"}]
[{"$f":"IF(MONTH(A368+1)<MONTH(A368),\"\",A368+1)","v":""},"","",null,null,null,"","00:00:00","",{"$f":"IFERROR(IF(AND(C369=\"\",WEEKDAY(A369,2)<6),ColTime(T.!$J$4,T.!$L$4,D369,E369),\"\"),\"\")","v":""},null,{"$f":"IFERROR(IF(AND(OR(WEEKDAY(A369,2)=7,C369<>\"\"),E369<D369),ColTime($AF$1,$AG$1,'Hele året (2)'!$AF$1,E369),IF(WEEKDAY(A369,2)<6,ColTime(T.!$J$5,T.!$L$5,D369,E369),\"\")),\"\")","v":""},null,{"$f":"IFERROR(IF(WEEKDAY(A369,2)=6,ColTime(TIME(15,0,0),TIME(24,0,0),D369,E369),\"\"),\"\")","v":""},{"$f":"IFERROR(IF(AND(WEEKDAY(A369,2)<6,C370<>\"\",C369=\"\"),ColTime(T.!$J$7,T.!$L$7,$AF$1,'Hele året (2)'!E369),IF(AND(C369<>\"\",C370<>\"\"),ColTime(T.!$J$7,T.!$L$7,'Hele året (2)'!D369,'Hele året (2)'!E369),IF(AND(OR(WEEKDAY(A369,2)<6,WEEKDAY(A369,2)=6),C369<>\"\",E369<D369),ColTime(T.!$J$7,T.!$L$7,D369,AF366),IF(AND(WEEKDAY(A369,2)=6,E369<D369),ColTime(T.!$J$7,T.!$L$7,$AF$1,E369),IF(AND(E369<D369,OR(C369<>\"\",WEEKDAY(A369,2)=7)),ColTime(T.!J372,T.!L372,D369,$AF$1),IF(AND(E369<>\"\",OR(C369<>\"\",WEEKDAY(A369,2)=7)),ColTime(T.!$J$7,T.!$L$7,D369,E369),\"\")))))),\"\")","v":""},"",null,null,{"$f":"IFERROR(CHOOSE(WEEKDAY(A369,2),norm!C$1,norm!C$2,norm!C$3,norm!C$4,norm!C$5,norm!C$6,norm!C$7),\"\")","v":""}]
["Total timer",null,null,null,null,null,{"$f":"IF(SUM(G9:G369)<>\"0\",SUM(G4:G369),\"\")","v":10.583333333333332},{"$f":"IF(SUM(H9:H369)<>\"0\",SUM(H4:H369),\"\")","v":1.7291666666666665},2.666666666666667,0.66666666666666741,null,4.3333333333333321,null,{"$f":"IF(SUM(N9:N369)<>\"0\",SUM(N4:N369),\"\")","v":0.16666666666666674},4.291666666666667,{"$f":"SUM(P4:P34)","v":2.25},{"$f":"SUM(Q4:Q34)","v":0}]
["Timer 1/100",null,null,null,null,null,{"$f":"IF(G370<>\"\",ROUND(G370*24,2),\"\")","v":254},{"$f":"IF(H370<>\"\",ROUND(H370*24,2),\"\")","v":41.5},64,{"$f":"IF(J370<>\"\",ROUND(J370*24,2),\"\")","v":16},null,{"$f":"IF(L370<>\"\",ROUND(L370*24,2),\"\")","v":104},null,{"$f":"IF(N370<>\"\",ROUND(N370*24,2),\"\")","v":4},103,54,0]
["Satser",null,null,null,null,null,{"$f":"Satser!B7","v":107.35},{"$f":"Satser!B9","v":36.35},{"$f":"Satser!B12","v":58.1},{"$f":"Satser!B17","v":13.91},null,{"$f":"Satser!B18","v":23.19},null,{"$f":"Satser!B19","v":24.89},{"$f":"Satser!B20","v":27.63}]
[null,null,null,null,null,null,{"$f":"IF(G370<>\"\",G371*G372,\"\")","v":27266.899999999998},{"$f":"IF(H370<>\"\",H371*H372,\"\")","v":1508.5250000000001},3718.4,{"$f":"IF(J370<>\"\",J371*J372,\"\")","v":222.56},null,{"$f":"IF(L370<>\"\",L371*L371,\"\")","v":10816},null,{"$f":"IF(N370<>\"\",N371*N372,\"\")","v":99.56},2845.89]
[]
["Lønart"]
[3025,null,null,null,null,null,{"$f":"G370","v":10.583333333333332}]
[3425,null,null,null,null,null,{"$f":"H370","v":1.7291666666666665}]
[3428,null,null,null,null,null,{"$f":"I370","v":2.666666666666667}]
["Timer",null,null,null,null,null,{"$f":"SUM(G376:G378)","v":14.979166666666664},{"$f":"IF(G379<>\"\",ROUND(G379*24,2),\"\")","v":359.5}]
[null,null,null,null,null,null,null,{"$f":"G372*H379","v":38592.324999999997}]

{"sheet":"Januar","index":2,"n_rows":45,"n_cols":35,"rows_kept":45,"cut":false,"hidden":true,"merged":[[41,0,41,2],[42,0,42,2],[43,0,43,5],[36,9,36,10],[36,11,36,12],[37,9,37,10],[37,11,37,12],[39,0,39,2],[40,0,40,2],[34,9,34,10],[34,11,34,12],[35,9,35,10],[35,11,35,12],[32,9,32,10],[32,11,32,12],[33,9,33,10],[33,11,33,12],[29,9,29,10],[29,11,29,12],[30,9,30,10],[30,11,30,12],[31,9,31,10],[31,11,31,12],[26,9,26,10],[26,11,26,12],[27,9,27,10],[27,11,27,12],[28,9,28,10],[28,11,28,12],[23,9,23,10],[23,11,23,12],[24,9,24,10],[24,11,24,12],[25,9,25,10],[25,11,25,12],[20,9,20,10],[20,11,20,12],[21,9,21,10],[21,11,21,12],[22,9,22,10],[22,11,22,12],[17,9,17,10],[17,11,17,12],[18,9,18,10],[18,11,18,12],[19,9,19,10],[19,11,19,12],[14,9,14,10],[14,11,14,12],[15,9,15,10],[15,11,15,12],[16,9,16,10],[16,11,16,12],[11,9,11,10],[11,11,11,12],[12,9,12,10],[12,11,12,12],[13,9,13,10],[13,11,13,12],[8,9,8,10],[8,11,8,12],[9,9,9,10],[9,11,9,12],[10,9,10,10],[10,11,10,12],[5,9,5,10],[5,11,5,12],[6,9,6,10],[6,11,6,12],[7,9,7,10],[7,11,7,12],[4,9,4,10],[4,11,4,12],[0,1,0,7],[0,10,0,11],[0,13,0,14],[1,1,1,2],[1,9,1,10],[1,11,1,12],[2,1,2,2],[2,9,2,10],[2,11,2,12],[3,9,3,10],[3,11,3,12]]}
["Løn",{"$f":"PROPER(TEXT(A4,\"dd mmmm åååå\")) & PROPER(TEXT(N1,\"  -  dd mmmm åååå\"))","v":"01 Januar 2019  -  31 Januar 2019"},null,null,null,null,null,null,"Uge :",{"$f":"IF(A4=\"\",\"\",TRUNC((A4-WEEKDAY(A4,2)-DATE(YEAR(A4+4-WEEKDAY(A4,2)),1,-10))/7))","v":1},"-",null,{"$f":"IF(A25=\"\",\"\",TRUNC((A25-WEEKDAY(A25,2)-DATE(YEAR(A25+4-WEEKDAY(A25,2)),1,-10))/7))","v":4},{"$f":"EOMONTH(A4,0)","v":"2019-01-31"},null,1,null,null,null,null,null,"Time beregning:",null,null,null,null,null,null,null,null,null,1,"06:00:00","18:00:00","03:00:00"]
["Lønart",null,null,null,null,null,null,null,null,null,null,null,null,null,null,null,null,null,null,null,null,"Betalt pause ved vagt over 5 timer",null,null,null,"00:25:00","minutter","00:00:00","06:00:00","17:00:00","14:00:00"]
["Dato","Dag",null,"Start","Slut","Pause","Arb. Tid","Overtid           1-3 time","Overtid            4 - time","Forskudt tid Man-fredag\n18-23",null,"Natarbejde 23-06",null,"Lørdag tillæg 14 - 24","Søndag tillæg 00 - 24","Optjent afspadsering","Afholdt afspadsering","Syge Timer","norm"]
[{"$f":"DATE(T.!$B$2,$P$1,1)","v":"2019-01-01"},{"$f":"PROPER(TEXT(A4,\"ddd\"))","v":"Ti"},{"$f":"HelligdagsNavn(A4,0,0)","v":"Nytårsdag"},"22:00:00","07:00:00","00:30:00",{"$f":"IF(D4=\"\",\"\",(E4-D4)+(D4>E4)-F4)","v":0.35416666666666669},{"$f":"IF(G4=\"\",0,IF(WEEKDAY(A4,2)=7,0,IF(G4>S4,MIN(G4-S4,$AI$1),0)))","v":"01:00:00"},{"$f":"IF(G4=\"\",\"\",IF(G4>S4+H4,G4-(S4+H4),\"\"))","v":""},{"$f":"IF(AND(C4=\"\",WEEKDAY(A4,2)<6),ColTime(T.!$J$4,T.!$L$4,D4,E4),\"\")","v":""},null,{"$f":"IF(AND(OR(WEEKDAY(A4,2)=7,C4<>\"\"),E4<D4),ColTime($AF$1,$AG$1,Januar!$AF$1,E4),IF(WEEKDAY(A4,2)<6,ColTime(T.!$J$5,T.!$L$5,D4,E4),\"\"))","v":"06:00:00"},null,{"$f":"IF(WEEKDAY(A4,2)=6,ColTime(TIME(14,0,0),TIME(24,0,0),D4,E4),\"\")","v":""},{"$f":"IF(AND(OR(WEEKDAY(A4,2)<6,WEEKDAY(A4,2)=6),C4<>\"\",E4<D4),ColTime(T.!$J$7,T.!$L$7,D4,AF1),IF(AND(WEEKDAY(A4,2)=6,E4<D4),ColTime(T.!$J$7,T.!$L$7,$AF$1,E4),IF(AND(E4<D4,OR(C4<>\"\",WEEKDAY(A4,2)=7)),ColTime(T.!J7,T.!L7,Januar!D4,Januar!AF1),IF(AND(E4<>\"\",OR(C4<>\"\",WEEKDAY(A4,2)=7)),ColTime(T.!$J$7,T.!$L$7,D4,E4),\"\"))))","v":"02:00:00"},{"$f":"IFERROR(IF(AND(H4<>\"\",I4<>\"\"),(H4*1.5)+(I4*2),IF(AND(H4<>\"\",I4=\"\"),H4*1.5,IF(AND(H4=\"\",I4<>\"\"),I4*2,\"\"))),\"\")","v":6.2500000000000028E-2},null,null,{"$f":"CHOOSE(WEEKDAY(A4,2),norm!C$1,norm!C$2,norm!C$3,norm!C$4,norm!C$5,norm!C$6,norm!C$7)","v":"07:30:00"},null,null,{"$f":"IF(D4=\"\",\"\",HOUR(D4))","v":22},{"$f":"IF(D4=\"\",\"\",MINUTE(D4))","v":0},{"$f":"IF(D4=\"\",\"\",TIME(HOUR(D4),MINUTE(D4),0))","v":"22:00:00"},{"$f":"IF(E4=\"\",\"\",HOUR(E4))","v":7},{"$f":"IF(E4=\"\",\"\",MINUTE(E4))","v":0},"02:00:00","09:30:00","11:30:00",null,null,null,{"$f":"IFERROR(MIN(G4-S4,3),22)","v":4.1666666666666685E-2}]
[{"$f":"A4+1","v":"2019-01-02"},{"$f":"PROPER(TEXT(A5,\"ddd\"))","v":"On"},{"$f":"HelligdagsNavn(A5,0,0)","v":""},"22:00:00","07:00:00","00:30:00",{"$f":"IF(D5=\"\",\"\",(E5-D5)+(D5>E5)-F5)","v":0.35416666666666669},{"$f":"IF(G5=\"\",0,IF(WEEKDAY(A5,2)=7,0,IF(G5>S5,MIN(G5-S5,$AI$1),0)))","v":"01:00:00"},{"$f":"IF(G5=\"\",\"\",IF(G5>S5+H5,G5-(S5+H5),\"\"))","v":""},{"$f":"IF(AND(C5=\"\",WEEKDAY(A5,2)<6),ColTime(T.!$J$4,T.!$L$4,D5,E5),\"\")","v":"01:00:00"},null,{"$f":"IF(AND(OR(WEEKDAY(A5,2)=7,C5<>\"\"),E5<D5),ColTime($AF$1,$AG$1,Januar!$AF$1,E5),IF(WEEKDAY(A5,2)<6,ColTime(T.!$J$5,T.!$L$5,D5,E5),\"\"))","v":"07:00:00"},null,"",{"$f":"IF(AND(OR(WEEKDAY(A5,2)<6,WEEKDAY(A5,2)=6),C5<>\"\",E5<D5),ColTime(T.!$J$7,T.!$L$7,D5,AF2),IF(AND(WEEKDAY(A5,2)=6,E5<D5),ColTime(T.!$J$7,T.!$L$7,$AF$1,E5),IF(AND(E5<D5,OR(C5<>\"\",WEEKDAY(A5,2)=7)),ColTime(T.!J8,T.!L8,Januar!D5,Januar!AF2),IF(AND(E5<>\"\",OR(C5<>\"\",WEEKDAY(A5,2)=7)),ColTime(T.!$J$7,T.!$L$7,D5,E5),\"\"))))","v":""},{"$f":"IFERROR(IF(AND(H5<>\"\",I5<>\"\"),(H5*1.5)+(I5*2),IF(AND(H5<>\"\",I5=\"\"),H5*1.5,IF(AND(H5=\"\",I5<>\"\"),I5*2,\"\"))),\"\")","v":6.2500000000000028E-2},null,null,{"$f":"CHOOSE(WEEKDAY(A5,2),norm!C$1,norm!C$2,norm!C$3,norm!C$4,norm!C$5,norm!C$6,norm!C$7)","v":"07:30:00"},null,null,22,0,"22:00:00",7,0,{"$f":"IF(E5=\"\",\"\",TIME(HOUR(E5),MINUTE(E5),0))","v":"07:00:00"},null,null,null,null,null,null,"Der taste kun i de Gule celler"]
[{"$f":"A5+1","v":"2019-01-03"},{"$f":"PROPER(TEXT(A6,\"ddd\"))","v":"To"},"","22:00:00","07:00:00",null,0.375,"01:30:00","",{"$f":"IF(AND(C6=\"\",WEEKDAY(A6,2)<6),ColTime(T.!$J$4,T.!$L$4,D6,E6),\"\")","v":"01:00:00"},null,{"$f":"IF(AND(OR(WEEKDAY(A6,2)=7,C6<>\"\"),E6<D6),ColTime($AF$1,$AG$1,Januar!$AF$1,E6),IF(WEEKDAY(A6,2)<6,ColTime(T.!$J$5,T.!$L$5,D6,E6),\"\"))","v":"07:00:00"},null,"",{"$f":"IF(AND(OR(WEEKDAY(A6,2)<6,WEEKDAY(A6,2)=6),C6<>\"\",E6<D6),ColTime(T.!$J$7,T.!$L$7,D6,AF3),IF(AND(WEEKDAY(A6,2)=6,E6<D6),ColTime(T.!$J$7,T.!$L$7,$AF$1,E6),IF(AND(E6<D6,OR(C6<>\"\",WEEKDAY(A6,2)=7)),ColTime(T.!J9,T.!L9,Januar!D6,Januar!AF3),IF(AND(E6<>\"\",OR(C6<>\"\",WEEKDAY(A6,2)=7)),ColTime(T.!$J$7,T.!$L$7,D6,E6),\"\"))))","v":""},9.375E-2,null,null,{"$f":"CHOOSE(WEEKDAY(A6,2),norm!C$1,norm!C$2,norm!C$3,norm!C$4,norm!C$5,norm!C$6,norm!C$7)","v":"07:30:00"},null,null,22,0,"22:00:00",7,0,"07:00:00"]
["2019-01-04","Fr","","22:00:00","07:00:00",null,0.375,"02:00:00","",{"$f":"IF(AND(C7=\"\",WEEKDAY(A7,2)<6),ColTime(T.!$J$4,T.!$L$4,D7,E7),\"\")","v":"01:00:00"},null,{"$f":"IF(AND(OR(WEEKDAY(A7,2)=7,C7<>\"\"),E7<D7),ColTime($AF$1,$AG$1,Januar!$AF$1,E7),IF(WEEKDAY(A7,2)<6,ColTime(T.!$J$5,T.!$L$5,D7,E7),\"\"))","v":"07:00:00"},null,"",{"$f":"IF(AND(OR(WEEKDAY(A7,2)<6,WEEKDAY(A7,2)=6),C7<>\"\",E7<D7),ColTime(T.!$J$7,T.!$L$7,D7,AF4),IF(AND(WEEKDAY(A7,2)=6,E7<D7),ColTime(T.!$J$7,T.!$L$7,$AF$1,E7),IF(AND(E7<D7,OR(C7<>\"\",WEEKDAY(A7,2)=7)),ColTime(T.!J10,T.!L10,Januar!D7,Januar!AF4),IF(AND(E7<>\"\",OR(C7<>\"\",WEEKDAY(A7,2)=7)),ColTime(T.!$J$7,T.!$L$7,D7,E7),\"\"))))","v":""},0.12499999999999997,null,null,{"$f":"CHOOSE(WEEKDAY(A7,2),norm!C$1,norm!C$2,norm!C$3,norm!C$4,norm!C$5,norm!C$6,norm!C$7)","v":"07:00:00"},null,null,22,0,"22:00:00",7,0,"07:00:00"]
["2019-01-05","Lø","","22:00:00","07:00:00",null,0.375,"03:00:00","06:00:00",{"$f":"IF(AND(C8=\"\",WEEKDAY(A8,2)<6),ColTime(T.!$J$4,T.!$L$4,D8,E8),\"\")","v":""},null,{"$f":"IF(AND(OR(WEEKDAY(A8,2)=7,C8<>\"\"),E8<D8),ColTime($AF$1,$AG$1,Januar!$AF$1,E8),IF(WEEKDAY(A8,2)<6,ColTime(T.!$J$5,T.!$L$5,D8,E8),\"\"))","v":""},null,"02:00:00",{"$f":"IF(AND(OR(WEEKDAY(A8,2)<6,WEEKDAY(A8,2)=6),C8<>\"\",E8<D8),ColTime(T.!$J$7,T.!$L$7,D8,AF5),IF(AND(WEEKDAY(A8,2)=6,E8<D8),ColTime(T.!$J$7,T.!$L$7,$AF$1,E8),IF(AND(E8<D8,OR(C8<>\"\",WEEKDAY(A8,2)=7)),ColTime(T.!J11,T.!L11,Januar!D8,Januar!AF5),IF(AND(E8<>\"\",OR(C8<>\"\",WEEKDAY(A8,2)=7)),ColTime(T.!$J$7,T.!$L$7,D8,E8),\"\"))))","v":"07:00:00"},0.6875,null,null,{"$f":"CHOOSE(WEEKDAY(A8,2),norm!C$1,norm!C$2,norm!C$3,norm!C$4,norm!C$5,norm!C$6,norm!C$7)","v":"00:00:00"},null,null,22,0,"22:00:00",7,0,"07:00:00"]
["2019-01-06","Sø","","22:00:00","07:00:00",null,0.375,"00:00:00","09:00:00",{"$f":"IF(AND(C9=\"\",WEEKDAY(A9,2)<6),ColTime(T.!$J$4,T.!$L$4,D9,E9),\"\")","v":""},null,{"$f":"IF(AND(OR(WEEKDAY(A9,2)=7,C9<>\"\"),E9<D9),ColTime($AF$1,$AG$1,Januar!$AF$1,E9),IF(WEEKDAY(A9,2)<6,ColTime(T.!$J$5,T.!$L$5,D9,E9),\"\"))","v":"06:00:00"},null,"",{"$f":"IF(AND(OR(WEEKDAY(A9,2)<6,WEEKDAY(A9,2)=6),C9<>\"\",E9<D9),ColTime(T.!$J$7,T.!$L$7,D9,AF6),IF(AND(WEEKDAY(A9,2)=6,E9<D9),ColTime(T.!$J$7,T.!$L$7,$AF$1,E9),IF(AND(E9<D9,OR(C9<>\"\",WEEKDAY(A9,2)=7)),ColTime(T.!J12,T.!L12,Januar!D9,Januar!AF6),IF(AND(E9<>\"\",OR(C9<>\"\",WEEKDAY(A9,2)=7)),ColTime(T.!$J$7,T.!$L$7,D9,E9),\"\"))))","v":"02:00:00"},0.75,null,null,{"$f":"CHOOSE(WEEKDAY(A9,2),norm!C$1,norm!C$2,norm!C$3,norm!C$4,norm!C$5,norm!C$6,norm!C$7)","v":"00:00:00"},null,null,22,0,"22:00:00",7,0,"07:00:00"]
["2019-01-07","Ma","","22:00:00","07:00:00",null,0.375,"01:30:00","",{"$f":"IF(AND(C10=\"\",WEEKDAY(A10,2)<6),ColTime(T.!$J$4,T.!$L$4,D10,E10),\"\")","v":"01:00:00"},null,{"$f":"IF(AND(OR(WEEKDAY(A10,2)=7,C10<>\"\"),E10<D10),ColTime($AF$1,$AG$1,Januar!$AF$1,E10),IF(WEEKDAY(A10,2)<6,ColTime(T.!$J$5,T.!$L$5,D10,E10),\"\"))","v":"07:00:00"},null,{"$f":"IF(WEEKDAY(A10,2)=6,ColTime(TIME(14,0,0),TIME(24,0,0),D10,E10),\"\")","v":""},{"$f":"IF(AND(OR(WEEKDAY(A10,2)<6,WEEKDAY(A10,2)=6),C10<>\"\",E10<D10),ColTime(T.!$J$7,T.!$L$7,D10,AF7),IF(AND(WEEKDAY(A10,2)=6,E10<D10),ColTime(T.!$J$7,T.!$L$7,$AF$1,E10),IF(AND(E10<D10,OR(C10<>\"\",WEEKDAY(A10,2)=7)),ColTime(T.!J13,T.!L13,Januar!D10,Januar!AF7),IF(AND(E10<>\"\",OR(C10<>\"\",WEEKDAY(A10,2)=7)),ColTime(T.!$J$7,T.!$L$7,D10,E10),\"\"))))","v":""},9.375E-2,null,null,{"$f":"CHOOSE(WEEKDAY(A10,2),norm!C$1,norm!C$2,norm!C$3,norm!C$4,norm!C$5,norm!C$6,norm!C$7)","v":"07:30:00"},null,null,22,0,"22:00:00",7,0,"07:00:00"]
[{"$f":"A10+1","v":"2019-01-08"},{"$f":"PROPER(TEXT(A11,\"ddd\"))","v":"Ti"},{"$f":"HelligdagsNavn(A11,0,0)","v":""},"22:00:00","07:00:00",null,0.375,"01:30:00","",{"$f":"IF(AND(C11=\"\",WEEKDAY(A11,2)<6),ColTime(T.!$J$4,T.!$L$4,D11,E11),\"\")","v":"01:00:00"},null,{"$f":"IF(AND(OR(WEEKDAY(A11,2)=7,C11<>\"\"),E11<D11),ColTime($AF$1,$AG$1,Januar!$AF$1,E11),IF(WEEKDAY(A11,2)<6,ColTime(T.!$J$5,T.!$L$5,D11,E11),\"\"))","v":"07:00:00"},null,{"$f":"IF(WEEKDAY(A11,2)=6,ColTime(TIME(15,0,0),TIME(24,0,0),D11,E11),\"\")","v":""},{"$f":"IF(AND(OR(WEEKDAY(A11,2)<6,WEEKDAY(A11,2)=6),C11<>\"\",E11<D11),ColTime(T.!$J$7,T.!$L$7,D11,AF8),IF(AND(WEEKDAY(A11,2)=6,E11<D11),ColTime(T.!$J$7,T.!$L$7,$AF$1,E11),IF(AND(E11<D11,OR(C11<>\"\",WEEKDAY(A11,2)=7)),ColTime(T.!J14,T.!L14,Januar!D11,Januar!AF8),IF(AND(E11<>\"\",OR(C11<>\"\",WEEKDAY(A11,2)=7)),ColTime(T.!$J$7,T.!$L$7,D11,E11),\"\"))))","v":""},9.375E-2,null,null,{"$f":"CHOOSE(WEEKDAY(A11,2),norm!C$1,norm!C$2,norm!C$3,norm!C$4,norm!C$5,norm!C$6,norm!C$7)","v":"07:30:00"},null,null,22,0,"22:00:00",7,0,"07:00:00"]
[{"$f":"A11+1","v":"2019-01-09"},{"$f":"PROPER(TEXT(A12,\"ddd\"))","v":"On"},{"$f":"HelligdagsNavn(A12,0,0)","v":""},"22:00:00","07:00:00",null,0.375,"01:30:00","",{"$f":"IF(AND(C12=\"\",WEEKDAY(A12,2)<6),ColTime(T.!$J$4,T.!$L$4,D12,E12),\"\")","v":"01:00:00"},null,{"$f":"IF(AND(OR(WEEKDAY(A12,2)=7,C12<>\"\"),E12<D12),ColTime($AF$1,$AG$1,Januar!$AF$1,E12),IF(WEEKDAY(A12,2)<6,ColTime(T.!$J$5,T.!$L$5,D12,E12),\"\"))","v":"07:00:00"},null,"",{"$f":"IF(AND(OR(WEEKDAY(A12,2)<6,WEEKDAY(A12,2)=6),C12<>\"\",E12<D12),ColTime(T.!$J$7,T.!$L$7,D12,AF9),IF(AND(WEEKDAY(A12,2)=6,E12<D12),ColTime(T.!$J$7,T.!$L$7,$AF$1,E12),IF(AND(E12<D12,OR(C12<>\"\",WEEKDAY(A12,2)=7)),ColTime(T.!J15,T.!L15,Januar!D12,Januar!AF9),IF(AND(E12<>\"\",OR(C12<>\"\",WEEKDAY(A12,2)=7)),ColTime(T.!$J$7,T.!$L$7,D12,E12),\"\"))))","v":""},9.375E-2,null,null,{"$f":"CHOOSE(WEEKDAY(A12,2),norm!C$1,norm!C$2,norm!C$3,norm!C$4,norm!C$5,norm!C$6,norm!C$7)","v":"07:30:00"},null,null,22,0,"22:00:00",7,0,"07:00:00"]
[{"$f":"A12+1","v":"2019-01-10"},{"$f":"PROPER(TEXT(A13,\"ddd\"))","v":"To"},"","22:00:00","07:00:00",null,0.375,"01:30:00","",{"$f":"IF(AND(C13=\"\",WEEKDAY(A13,2)<6),ColTime(T.!$J$4,T.!$L$4,D13,E13),\"\")","v":"01:00:00"},null,{"$f":"IF(AND(OR(WEEKDAY(A13,2)=7,C13<>\"\"),E13<D13),ColTime($AF$1,$AG$1,Januar!$AF$1,E13),IF(WEEKDAY(A13,2)<6,ColTime(T.!$J$5,T.!$L$5,D13,E13),\"\"))","v":"07:00:00"},null,"",{"$f":"IF(AND(OR(WEEKDAY(A13,2)<6,WEEKDAY(A13,2)=6),C13<>\"\",E13<D13),ColTime(T.!$J$7,T.!$L$7,D13,AF10),IF(AND(WEEKDAY(A13,2)=6,E13<D13),ColTime(T.!$J$7,T.!$L$7,$AF$1,E13),IF(AND(E13<D13,OR(C13<>\"\",WEEKDAY(A13,2)=7)),ColTime(T.!J16,T.!L16,Januar!D13,Januar!AF10),IF(AND(E13<>\"\",OR(C13<>\"\",WEEKDAY(A13,2)=7)),ColTime(T.!$J$7,T.!$L$7,D13,E13),\"\"))))","v":""},9.375E-2,null,null,{"$f":"CHOOSE(WEEKDAY(A13,2),norm!C$1,norm!C$2,norm!C$3,norm!C$4,norm!C$5,norm!C$6,norm!C$7)","v":"07:30:00"},null,null,22,0,"22:00:00",7,0,"07:00:00"]
["2019-01-11","Fr","","22:00:00","07:00:00",null,0.375,"02:00:00","",{"$f":"IF(AND(C14=\"\",WEEKDAY(A14,2)<6),ColTime(T.!$J$4,T.!$L$4,D14,E14),\"\")","v":"01:00:00"},null,{"$f":"IF(AND(OR(WEEKDAY(A14,2)=7,C14<>\"\"),E14<D14),ColTime($AF$1,$AG$1,Januar!$AF$1,E14),IF(WEEKDAY(A14,2)<6,ColTime(T.!$J$5,T.!$L$5,D14,E14),\"\"))","v":"07:00:00"},null,"",{"$f":"IF(AND(OR(WEEKDAY(A14,2)<6,WEEKDAY(A14,2)=6),C14<>\"\",E14<D14),ColTime(T.!$J$7,T.!$L$7,D14,AF11),IF(AND(WEEKDAY(A14,2)=6,E14<D14),ColTime(T.!$J$7,T.!$L$7,$AF$1,E14),IF(AND(E14<D14,OR(C14<>\"\",WEEKDAY(A14,2)=7)),ColTime(T.!J17,T.!L17,Januar!D14,Januar!AF11),IF(AND(E14<>\"\",OR(C14<>\"\",WEEKDAY(A14,2)=7)),ColTime(T.!$J$7,T.!$L$7,D14,E14),\"\"))))","v":""},0.12499999999999997,null,null,{"$f":"CHOOSE(WEEKDAY(A14,2),norm!C$1,norm!C$2,norm!C$3,norm!C$4,norm!C$5,norm!C$6,norm!C$7)","v":"07:00:00"},null,null,22,0,"22:00:00",7,0,"07:00:00"]
["2019-01-12","Lø","","22:00:00","07:00:00",null,0.375,"03:00:00","06:00:00",{"$f":"IF(AND(C15=\"\",WEEKDAY(A15,2)<6),ColTime(T.!$J$4,T.!$L$4,D15,E15),\"\")","v":""},null,{"$f":"IF(AND(OR(WEEKDAY(A15,2)=7,C15<>\"\"),E15<D15),ColTime($AF$1,$AG$1,Januar!$AF$1,E15),IF(WEEKDAY(A15,2)<6,ColTime(T.!$J$5,T.!$L$5,D15,E15),\"\"))","v":""},null,"02:00:00",{"$f":"IF(AND(OR(WEEKDAY(A15,2)<6,WEEKDAY(A15,2)=6),C15<>\"\",E15<D15),ColTime(T.!$J$7,T.!$L$7,D15,AF12),IF(AND(WEEKDAY(A15,2)=6,E15<D15),ColTime(T.!$J$7,T.!$L$7,$AF$1,E15),IF(AND(E15<D15,OR(C15<>\"\",WEEKDAY(A15,2)=7)),ColTime(T.!J18,T.!L18,Januar!D15,Januar!AF12),IF(AND(E15<>\"\",OR(C15<>\"\",WEEKDAY(A15,2)=7)),ColTime(T.!$J$7,T.!$L$7,D15,E15),\"\"))))","v":"07:00:00"},0.6875,null,null,{"$f":"CHOOSE(WEEKDAY(A15,2),norm!C$1,norm!C$2,norm!C$3,norm!C$4,norm!C$5,norm!C$6,norm!C$7)","v":"00:00:00"},null,null,22,0,"22:00:00",7,0,"07:00:00"]
["2019-01-13","Sø","","18:00:00","07:00:00",null,0.54166666666666674,"00:00:00","13:00:00",{"$f":"IF(AND(C16=\"\",WEEKDAY(A16,2)<6),ColTime(T.!$J$4,T.!$L$4,D16,E16),\"\")","v":""},null,{"$f":"IF(AND(OR(WEEKDAY(A16,2)=7,C16<>\"\"),E16<D16),ColTime($AF$1,$AG$1,Januar!$AF$1,E16),IF(WEEKDAY(A16,2)<6,ColTime(T.!$J$5,T.!$L$5,D16,E16),\"\"))","v":"06:00:00"},null,"",{"$f":"IF(AND(OR(WEEKDAY(A16,2)<6,WEEKDAY(A16,2)=6),C16<>\"\",E16<D16),ColTime(T.!$J$7,T.!$L$7,D16,AF13),IF(AND(WEEKDAY(A16,2)=6,E16<D16),ColTime(T.!$J$7,T.!$L$7,$AF$1,E16),IF(AND(E16<D16,OR(C16<>\"\",WEEKDAY(A16,2)=7)),ColTime(T.!J19,T.!L19,Januar!D16,Januar!AF13),IF(AND(E16<>\"\",OR(C16<>\"\",WEEKDAY(A16,2)=7)),ColTime(T.!$J$7,T.!$L$7,D16,E16),\"\"))))","v":"06:00:00"},1.0833333333333335,null,null,{"$f":"CHOOSE(WEEKDAY(A16,2),norm!C$1,norm!C$2,norm!C$3,norm!C$4,norm!C$5,norm!C$6,norm!C$7)","v":"00:00:00"},null,null,18,0,"18:00:00",7,0,"07:00:00"]
["2019-01-14","Ma","",null,null,null,"",{"$f":"IF(G17=\"\",0,IF(WEEKDAY(A17,2)=7,0,IF(G17>S17,MIN(G17-S17,$AI$1),0)))","v":"00:00:00"},"",{"$f":"IF(AND(C17=\"\",WEEKDAY(A17,2)<6),ColTime(T.!$J$4,T.!$L$4,D17,E17),\"\")","v":"00:00:00"},null,{"$f":"IF(AND(OR(WEEKDAY(A17,2)=7,C17<>\"\"),E17<D17),ColTime($AF$1,$AG$1,Januar!$AF$1,E17),IF(WEEKDAY(A17,2)<6,ColTime(T.!$J$5,T.!$L$5,D17,E17),\"\"))","v":"00:00:00"},null,"",{"$f":"IF(AND(OR(WEEKDAY(A17,2)<6,WEEKDAY(A17,2)=6),C17<>\"\",E17<D17),ColTime(T.!$J$7,T.!$L$7,D17,AF14),IF(AND(WEEKDAY(A17,2)=6,E17<D17),ColTime(T.!$J$7,T.!$L$7,$AF$1,E17),IF(AND(E17<D17,OR(C17<>\"\",WEEKDAY(A17,2)=7)),ColTime(T.!J20,T.!L20,Januar!D17,Januar!AF14),IF(AND(E17<>\"\",OR(C17<>\"\",WEEKDAY(A17,2)=7)),ColTime(T.!$J$7,T.!$L$7,D17,E17),\"\"))))","v":""},0,null,null,{"$f":"CHOOSE(WEEKDAY(A17,2),norm!C$1,norm!C$2,norm!C$3,norm!C$4,norm!C$5,norm!C$6,norm!C$7)","v":"07:30:00"},null,null,"","","","","",""]
[{"$f":"A17+1","v":"2019-01-15"},{"$f":"PROPER(TEXT(A18,\"ddd\"))","v":"Ti"},{"$f":"HelligdagsNavn(A18,0,0)","v":""},"08:00:00","16:00:00",null,0.33333333333333331,"00:30:00","",{"$f":"IF(AND(C18=\"\",WEEKDAY(A18,2)<6),ColTime(T.!$J$4,T.!$L$4,D18,E18),\"\")","v":"00:00:00"},null,{"$f":"IF(AND(OR(WEEKDAY(A18,2)=7,C18<>\"\"),E18<D18),ColTime($AF$1,$AG$1,Januar!$AF$1,E18),IF(WEEKDAY(A18,2)<6,ColTime(T.!$J$5,T.!$L$5,D18,E18),\"\"))","v":"00:00:00"},null,"",{"$f":"IF(AND(OR(WEEKDAY(A18,2)<6,WEEKDAY(A18,2)=6),C18<>\"\",E18<D18),ColTime(T.!$J$7,T.!$L$7,D18,AF15),IF(AND(WEEKDAY(A18,2)=6,E18<D18),ColTime(T.!$J$7,T.!$L$7,$AF$1,E18),IF(AND(E18<D18,OR(C18<>\"\",WEEKDAY(A18,2)=7)),ColTime(T.!J21,T.!L21,Januar!D18,Januar!AF15),IF(AND(E18<>\"\",OR(C18<>\"\",WEEKDAY(A18,2)=7)),ColTime(T.!$J$7,T.!$L$7,D18,E18),\"\"))))","v":""},3.1249999999999972E-2,null,null,{"$f":"CHOOSE(WEEKDAY(A18,2),norm!C$1,norm!C$2,norm!C$3,norm!C$4,norm!C$5,norm!C$6,norm!C$7)","v":"07:30:00"},null,null,8,0,"08:00:00",16,0,"16:00:00"]
[{"$f":"A18+1","v":"2019-01-16"},{"$f":"PROPER(TEXT(A19,\"ddd\"))","v":"On"},{"$f":"HelligdagsNavn(A19,0,0)","v":""},null,null,null,"","00:00:00",{"$f":"IF(G19=\"\",\"\",IF(G19>S19+H19,G19-(S19+H19),\"\"))","v":""},{"$f":"IF(AND(C19=\"\",WEEKDAY(A19,2)<6),ColTime(T.!$J$4,T.!$L$4,D19,E19),\"\")","v":"00:00:00"},null,{"$f":"IF(AND(OR(WEEKDAY(A19,2)=7,C19<>\"\"),E19<D19),ColTime($AF$1,$AG$1,Januar!$AF$1,E19),IF(WEEKDAY(A19,2)<6,ColTime(T.!$J$5,T.!$L$5,D19,E19),\"\"))","v":"00:00:00"},null,"",{"$f":"IF(AND(OR(WEEKDAY(A19,2)<6,WEEKDAY(A19,2)=6),C19<>\"\",E19<D19),ColTime(T.!$J$7,T.!$L$7,D19,AF16),IF(AND(WEEKDAY(A19,2)=6,E19<D19),ColTime(T.!$J$7,T.!$L$7,$AF$1,E19),IF(AND(E19<D19,OR(C19<>\"\",WEEKDAY(A19,2)=7)),ColTime(T.!J22,T.!L22,Januar!D19,Januar!AF16),IF(AND(E19<>\"\",OR(C19<>\"\",WEEKDAY(A19,2)=7)),ColTime(T.!$J$7,T.!$L$7,D19,E19),\"\"))))","v":""},0,null,null,{"$f":"CHOOSE(WEEKDAY(A19,2),norm!C$1,norm!C$2,norm!C$3,norm!C$4,norm!C$5,norm!C$6,norm!C$7)","v":"07:30:00"},null,null,"","","","","",""]
[{"$f":"A19+1","v":"2019-01-17"},{"$f":"PROPER(TEXT(A20,\"ddd\"))","v":"To"},"",null,null,null,"","00:00:00","",{"$f":"IF(AND(C20=\"\",WEEKDAY(A20,2)<6),ColTime(T.!$J$4,T.!$L$4,D20,E20),\"\")","v":"00:00:00"},null,{"$f":"IF(AND(OR(WEEKDAY(A20,2)=7,C20<>\"\"),E20<D20),ColTime($AF$1,$AG$1,Januar!$AF$1,E20),IF(WEEKDAY(A20,2)<6,ColTime(T.!$J$5,T.!$L$5,D20,E20),\"\"))","v":"00:00:00"},null,"",{"$f":"IF(AND(OR(WEEKDAY(A20,2)<6,WEEKDAY(A20,2)=6),C20<>\"\",E20<D20),ColTime(T.!$J$7,T.!$L$7,D20,AF17),IF(AND(WEEKDAY(A20,2)=6,E20<D20),ColTime(T.!$J$7,T.!$L$7,$AF$1,E20),IF(AND(E20<D20,OR(C20<>\"\",WEEKDAY(A20,2)=7)),ColTime(T.!J23,T.!L23,Januar!D20,Januar!AF17),IF(AND(E20<>\"\",OR(C20<>\"\",WEEKDAY(A20,2)=7)),ColTime(T.!$J$7,T.!$L$7,D20,E20),\"\"))))","v":""},0,null,null,{"$f":"CHOOSE(WEEKDAY(A20,2),norm!C$1,norm!C$2,norm!C$3,norm!C$4,norm!C$5,norm!C$6,norm!C$7)","v":"07:30:00"},null,null,"","","","","",""]
["2019-01-18","Fr","",null,null,null,"","00:00:00","",{"$f":"IF(AND(C21=\"\",WEEKDAY(A21,2)<6),ColTime(T.!$J$4,T.!$L$4,D21,E21),\"\")","v":"00:00:00"},null,{"$f":"IF(AND(OR(WEEKDAY(A21,2)=7,C21<>\"\"),E21<D21),ColTime($AF$1,$AG$1,Januar!$AF$1,E21),IF(WEEKDAY(A21,2)<6,ColTime(T.!$J$5,T.!$L$5,D21,E21),\"\"))","v":"00:00:00"},null,"",{"$f":"IF(AND(OR(WEEKDAY(A21,2)<6,WEEKDAY(A21,2)=6),C21<>\"\",E21<D21),ColTime(T.!$J$7,T.!$L$7,D21,AF18),IF(AND(WEEKDAY(A21,2)=6,E21<D21),ColTime(T.!$J$7,T.!$L$7,$AF$1,E21),IF(AND(E21<D21,OR(C21<>\"\",WEEKDAY(A21,2)=7)),ColTime(T.!J24,T.!L24,Januar!D21,Januar!AF18),IF(AND(E21<>\"\",OR(C21<>\"\",WEEKDAY(A21,2)=7)),ColTime(T.!$J$7,T.!$L$7,D21,E21),\"\"))))","v":""},0,null,null,{"$f":"CHOOSE(WEEKDAY(A21,2),norm!C$1,norm!C$2,norm!C$3,norm!C$4,norm!C$5,norm!C$6,norm!C$7)","v":"07:00:00"},null,null,"","","","","",""]
["2019-01-19","Lø","",null,null,null,"","00:00:00","",{"$f":"IF(AND(C22=\"\",WEEKDAY(A22,2)<6),ColTime(T.!$J$4,T.!$L$4,D22,E22),\"\")","v":""},null,{"$f":"IF(AND(OR(WEEKDAY(A22,2)=7,C22<>\"\"),E22<D22),ColTime($AF$1,$AG$1,Januar!$AF$1,E22),IF(WEEKDAY(A22,2)<6,ColTime(T.!$J$5,T.!$L$5,D22,E22),\"\"))","v":""},null,"00:00:00",{"$f":"IF(AND(OR(WEEKDAY(A22,2)<6,WEEKDAY(A22,2)=6),C22<>\"\",E22<D22),ColTime(T.!$J$7,T.!$L$7,D22,AF19),IF(AND(WEEKDAY(A22,2)=6,E22<D22),ColTime(T.!$J$7,T.!$L$7,$AF$1,E22),IF(AND(E22<D22,OR(C22<>\"\",WEEKDAY(A22,2)=7)),ColTime(T.!J25,T.!L25,Januar!D22,Januar!AF19),IF(AND(E22<>\"\",OR(C22<>\"\",WEEKDAY(A22,2)=7)),ColTime(T.!$J$7,T.!$L$7,D22,E22),\"\"))))","v":""},0,null,null,{"$f":"CHOOSE(WEEKDAY(A22,2),norm!C$1,norm!C$2,norm!C$3,norm!C$4,norm!C$5,norm!C$6,norm!C$7)","v":"00:00:00"},null,null,"","","","","",""]
["2019-01-20","Sø","","16:00:00","20:00:00",null,0.16666666666666674,"00:00:00","04:00:00",{"$f":"IF(AND(C23=\"\",WEEKDAY(A23,2)<6),ColTime(T.!$J$4,T.!$L$4,D23,E23),\"\")","v":""},null,{"$f":"IF(AND(OR(WEEKDAY(A23,2)=7,C23<>\"\"),E23<D23),ColTime($AF$1,$AG$1,Januar!$AF$1,E23),IF(WEEKDAY(A23,2)<6,ColTime(T.!$J$5,T.!$L$5,D23,E23),\"\"))","v":""},null,"",{"$f":"IF(AND(OR(WEEKDAY(A23,2)<6,WEEKDAY(A23,2)=6),C23<>\"\",E23<D23),ColTime(T.!$J$7,T.!$L$7,D23,AF20),IF(AND(WEEKDAY(A23,2)=6,E23<D23),ColTime(T.!$J$7,T.!$L$7,$AF$1,E23),IF(AND(E23<D23,OR(C23<>\"\",WEEKDAY(A23,2)=7)),ColTime(T.!J26,T.!L26,Januar!D23,Januar!AF20),IF(AND(E23<>\"\",OR(C23<>\"\",WEEKDAY(A23,2)=7)),ColTime(T.!$J$7,T.!$L$7,D23,E23),\"\"))))","v":"04:00:00"},0.33333333333333348,null,null,{"$f":"CHOOSE(WEEKDAY(A23,2),norm!C$1,norm!C$2,norm!C$3,norm!C$4,norm!C$5,norm!C$6,norm!C$7)","v":"00:00:00"},null,null,16,0,"16:00:00",20,0,"20:00:00"]
["2019-01-21","Ma","",null,null,null,"","00:00:00","",{"$f":"IF(AND(C24=\"\",WEEKDAY(A24,2)<6),ColTime(T.!$J$4,T.!$L$4,D24,E24),\"\")","v":"00:00:00"},null,{"$f":"IF(AND(OR(WEEKDAY(A24,2)=7,C24<>\"\"),E24<D24),ColTime($AF$1,$AG$1,Januar!$AF$1,E24),IF(WEEKDAY(A24,2)<6,ColTime(T.!$J$5,T.!$L$5,D24,E24),\"\"))","v":"00:00:00"},null,"",{"$f":"IF(AND(OR(WEEKDAY(A24,2)<6,WEEKDAY(A24,2)=6),C24<>\"\",E24<D24),ColTime(T.!$J$7,T.!$L$7,D24,AF21),IF(AND(WEEKDAY(A24,2)=6,E24<D24),ColTime(T.!$J$7,T.!$L$7,$AF$1,E24),IF(AND(E24<D24,OR(C24<>\"\",WEEKDAY(A24,2)=7)),ColTime(T.!J27,T.!L27,Januar!D24,Januar!AF21),IF(AND(E24<>\"\",OR(C24<>\"\",WEEKDAY(A24,2)=7)),ColTime(T.!$J$7,T.!$L$7,D24,E24),\"\"))))","v":""},0,null,null,{"$f":"CHOOSE(WEEKDAY(A24,2),norm!C$1,norm!C$2,norm!C$3,norm!C$4,norm!C$5,norm!C$6,norm!C$7)","v":"07:30:00"},null,null,"","","","","",""]
[{"$f":"A24+1","v":"2019-01-22"},{"$f":"PROPER(TEXT(A25,\"ddd\"))","v":"Ti"},{"$f":"HelligdagsNavn(A25,0,0)","v":""},null,null,null,"","00:00:00","",{"$f":"IF(AND(C25=\"\",WEEKDAY(A25,2)<6),ColTime(T.!$J$4,T.!$L$4,D25,E25),\"\")","v":"00:00:00"},null,{"$f":"IF(AND(OR(WEEKDAY(A25,2)=7,C25<>\"\"),E25<D25),ColTime($AF$1,$AG$1,Januar!$AF$1,E25),IF(WEEKDAY(A25,2)<6,ColTime(T.!$J$5,T.!$L$5,D25,E25),\"\"))","v":"00:00:00"},null,"",{"$f":"IF(AND(OR(WEEKDAY(A25,2)<6,WEEKDAY(A25,2)=6),C25<>\"\",E25<D25),ColTime(T.!$J$7,T.!$L$7,D25,AF22),IF(AND(WEEKDAY(A25,2)=6,E25<D25),ColTime(T.!$J$7,T.!$L$7,$AF$1,E25),IF(AND(E25<D25,OR(C25<>\"\",WEEKDAY(A25,2)=7)),ColTime(T.!J28,T.!L28,Januar!D25,Januar!AF22),IF(AND(E25<>\"\",OR(C25<>\"\",WEEKDAY(A25,2)=7)),ColTime(T.!$J$7,T.!$L$7,D25,E25),\"\"))))","v":""},0,null,null,{"$f":"CHOOSE(WEEKDAY(A25,2),norm!C$1,norm!C$2,norm!C$3,norm!C$4,norm!C$5,norm!C$6,norm!C$7)","v":"07:30:00"},null,null,"","","","","",""]
[{"$f":"A25+1","v":"2019-01-23"},{"$f":"PROPER(TEXT(A26,\"ddd\"))","v":"On"},{"$f":"HelligdagsNavn(A26,0,0)","v":""},null,null,null,"","00:00:00","",{"$f":"IF(AND(C26=\"\",WEEKDAY(A26,2)<6),ColTime(T.!$J$4,T.!$L$4,D26,E26),\"\")","v":"00:00:00"},null,{"$f":"IF(AND(OR(WEEKDAY(A26,2)=7,C26<>\"\"),E26<D26),ColTime($AF$1,$AG$1,Januar!$AF$1,E26),IF(WEEKDAY(A26,2)<6,ColTime(T.!$J$5,T.!$L$5,D26,E26),\"\"))","v":"00:00:00"},null,"",{"$f":"IF(AND(OR(WEEKDAY(A26,2)<6,WEEKDAY(A26,2)=6),C26<>\"\",E26<D26),ColTime(T.!$J$7,T.!$L$7,D26,AF23),IF(AND(WEEKDAY(A26,2)=6,E26<D26),ColTime(T.!$J$7,T.!$L$7,$AF$1,E26),IF(AND(E26<D26,OR(C26<>\"\",WEEKDAY(A26,2)=7)),ColTime(T.!J29,T.!L29,Januar!D26,Januar!AF23),IF(AND(E26<>\"\",OR(C26<>\"\",WEEKDAY(A26,2)=7)),ColTime(T.!$J$7,T.!$L$7,D26,E26),\"\"))))","v":""},0,null,null,{"$f":"CHOOSE(WEEKDAY(A26,2),norm!C$1,norm!C$2,norm!C$3,norm!C$4,norm!C$5,norm!C$6,norm!C$7)","v":"07:30:00"},null,null,"","","","","",""]
[{"$f":"A26+1","v":"2019-01-24"},{"$f":"PROPER(TEXT(A27,\"ddd\"))","v":"To"},"",null,null,null,"","00:00:00","",{"$f":"IF(AND(C27=\"\",WEEKDAY(A27,2)<6),ColTime(T.!$J$4,T.!$L$4,D27,E27),\"\")","v":"00:00:00"},null,{"$f":"IF(AND(OR(WEEKDAY(A27,2)=7,C27<>\"\"),E27<D27),ColTime($AF$1,$AG$1,Januar!$AF$1,E27),IF(WEEKDAY(A27,2)<6,ColTime(T.!$J$5,T.!$L$5,D27,E27),\"\"))","v":"00:00:00"},null,"",{"$f":"IF(AND(OR(WEEKDAY(A27,2)<6,WEEKDAY(A27,2)=6),C27<>\"\",E27<D27),ColTime(T.!$J$7,T.!$L$7,D27,AF24),IF(AND(WEEKDAY(A27,2)=6,E27<D27),ColTime(T.!$J$7,T.!$L$7,$AF$1,E27),IF(AND(E27<D27,OR(C27<>\"\",WEEKDAY(A27,2)=7)),ColTime(T.!J30,T.!L30,Januar!D27,Januar!AF24),IF(AND(E27<>\"\",OR(C27<>\"\",WEEKDAY(A27,2)=7)),ColTime(T.!$J$7,T.!$L$7,D27,E27),\"\"))))","v":""},0,null,null,{"$f":"CHOOSE(WEEKDAY(A27,2),norm!C$1,norm!C$2,norm!C$3,norm!C$4,norm!C$5,norm!C$6,norm!C$7)","v":"07:30:00"},null,null,"","","","","",""]
["2019-01-25","Fr","",null,null,null,"","00:00:00","",{"$f":"IF(AND(C28=\"\",WEEKDAY(A28,2)<6),ColTime(T.!$J$4,T.!$L$4,D28,E28),\"\")","v":"00:00:00"},null,{"$f":"IF(AND(OR(WEEKDAY(A28,2)=7,C28<>\"\"),E28<D28),ColTime($AF$1,$AG$1,Januar!$AF$1,E28),IF(WEEKDAY(A28,2)<6,ColTime(T.!$J$5,T.!$L$5,D28,E28),\"\"))","v":"00:00:00"},null,"",{"$f":"IF(AND(OR(WEEKDAY(A28,2)<6,WEEKDAY(A28,2)=6),C28<>\"\",E28<D28),ColTime(T.!$J$7,T.!$L$7,D28,AF25),IF(AND(WEEKDAY(A28,2)=6,E28<D28),ColTime(T.!$J$7,T.!$L$7,$AF$1,E28),IF(AND(E28<D28,OR(C28<>\"\",WEEKDAY(A28,2)=7)),ColTime(T.!J31,T.!L31,Januar!D28,Januar!AF25),IF(AND(E28<>\"\",OR(C28<>\"\",WEEKDAY(A28,2)=7)),ColTime(T.!$J$7,T.!$L$7,D28,E28),\"\"))))","v":""},0,null,null,{"$f":"CHOOSE(WEEKDAY(A28,2),norm!C$1,norm!C$2,norm!C$3,norm!C$4,norm!C$5,norm!C$6,norm!C$7)","v":"07:00:00"},null,null,"","","","","",""]
["2019-01-26","Lø","",null,null,null,"","00:00:00","",{"$f":"IF(AND(C29=\"\",WEEKDAY(A29,2)<6),ColTime(T.!$J$4,T.!$L$4,D29,E29),\"\")","v":""},null,{"$f":"IF(AND(OR(WEEKDAY(A29,2)=7,C29<>\"\"),E29<D29),ColTime($AF$1,$AG$1,Januar!$AF$1,E29),IF(WEEKDAY(A29,2)<6,ColTime(T.!$J$5,T.!$L$5,D29,E29),\"\"))","v":""},null,"00:00:00",{"$f":"IF(AND(OR(WEEKDAY(A29,2)<6,WEEKDAY(A29,2)=6),C29<>\"\",E29<D29),ColTime(T.!$J$7,T.!$L$7,D29,AF26),IF(AND(WEEKDAY(A29,2)=6,E29<D29),ColTime(T.!$J$7,T.!$L$7,$AF$1,E29),IF(AND(E29<D29,OR(C29<>\"\",WEEKDAY(A29,2)=7)),ColTime(T.!J32,T.!L32,Januar!D29,Januar!AF26),IF(AND(E29<>\"\",OR(C29<>\"\",WEEKDAY(A29,2)=7)),ColTime(T.!$J$7,T.!$L$7,D29,E29),\"\"))))","v":""},0,null,null,{"$f":"CHOOSE(WEEKDAY(A29,2),norm!C$1,norm!C$2,norm!C$3,norm!C$4,norm!C$5,norm!C$6,norm!C$7)","v":"00:00:00"}]
["2019-01-27","Sø","",null,null,null,"","00:00:00","",{"$f":"IF(AND(C30=\"\",WEEKDAY(A30,2)<6),ColTime(T.!$J$4,T.!$L$4,D30,E30),\"\")","v":""},null,{"$f":"IF(AND(OR(WEEKDAY(A30,2)=7,C30<>\"\"),E30<D30),ColTime($AF$1,$AG$1,Januar!$AF$1,E30),IF(WEEKDAY(A30,2)<6,ColTime(T.!$J$5,T.!$L$5,D30,E30),\"\"))","v":""},null,"",{"$f":"IF(AND(OR(WEEKDAY(A30,2)<6,WEEKDAY(A30,2)=6),C30<>\"\",E30<D30),ColTime(T.!$J$7,T.!$L$7,D30,AF27),IF(AND(WEEKDAY(A30,2)=6,E30<D30),ColTime(T.!$J$7,T.!$L$7,$AF$1,E30),IF(AND(E30<D30,OR(C30<>\"\",WEEKDAY(A30,2)=7)),ColTime(T.!J33,T.!L33,Januar!D30,Januar!AF27),IF(AND(E30<>\"\",OR(C30<>\"\",WEEKDAY(A30,2)=7)),ColTime(T.!$J$7,T.!$L$7,D30,E30),\"\"))))","v":""},0,null,null,{"$f":"CHOOSE(WEEKDAY(A30,2),norm!C$1,norm!C$2,norm!C$3,norm!C$4,norm!C$5,norm!C$6,norm!C$7)","v":"00:00:00"}]
["2019-01-28","Ma","",null,null,null,"","00:00:00","",{"$f":"IF(AND(C31=\"\",WEEKDAY(A31,2)<6),ColTime(T.!$J$4,T.!$L$4,D31,E31),\"\")","v":"00:00:00"},null,{"$f":"IF(AND(OR(WEEKDAY(A31,2)=7,C31<>\"\"),E31<D31),ColTime($AF$1,$AG$1,Januar!$AF$1,E31),IF(WEEKDAY(A31,2)<6,ColTime(T.!$J$5,T.!$L$5,D31,E31),\"\"))","v":"00:00:00"},null,"",{"$f":"IF(AND(OR(WEEKDAY(A31,2)<6,WEEKDAY(A31,2)=6),C31<>\"\",E31<D31),ColTime(T.!$J$7,T.!$L$7,D31,AF28),IF(AND(WEEKDAY(A31,2)=6,E31<D31),ColTime(T.!$J$7,T.!$L$7,$AF$1,E31),IF(AND(E31<D31,OR(C31<>\"\",WEEKDAY(A31,2)=7)),ColTime(T.!J34,T.!L34,Januar!D31,Januar!AF28),IF(AND(E31<>\"\",OR(C31<>\"\",WEEKDAY(A31,2)=7)),ColTime(T.!$J$7,T.!$L$7,D31,E31),\"\"))))","v":""},0,null,null,{"$f":"CHOOSE(WEEKDAY(A31,2),norm!C$1,norm!C$2,norm!C$3,norm!C$4,norm!C$5,norm!C$6,norm!C$7)","v":"07:30:00"}]
["2019-01-29","Ti",{"$f":"IF(A32=\"\",\"\",HelligdagsNavn(A32,0,0))","v":""},null,null,null,"","00:00:00","",{"$f":"IF(AND(C32=\"\",WEEKDAY(A32,2)<6),ColTime(T.!$J$4,T.!$L$4,D32,E32),\"\")","v":"00:00:00"},null,{"$f":"IF(AND(OR(WEEKDAY(A32,2)=7,C32<>\"\"),E32<D32),ColTime($AF$1,$AG$1,Januar!$AF$1,E32),IF(WEEKDAY(A32,2)<6,ColTime(T.!$J$5,T.!$L$5,D32,E32),\"\"))","v":"00:00:00"},null,"",{"$f":"IF(AND(OR(WEEKDAY(A32,2)<6,WEEKDAY(A32,2)=6),C32<>\"\",E32<D32),ColTime(T.!$J$7,T.!$L$7,D32,AF29),IF(AND(WEEKDAY(A32,2)=6,E32<D32),ColTime(T.!$J$7,T.!$L$7,$AF$1,E32),IF(AND(E32<D32,OR(C32<>\"\",WEEKDAY(A32,2)=7)),ColTime(T.!J35,T.!L35,Januar!D32,Januar!AF29),IF(AND(E32<>\"\",OR(C32<>\"\",WEEKDAY(A32,2)=7)),ColTime(T.!$J$7,T.!$L$7,D32,E32),\"\"))))","v":""},0,null,null,{"$f":"IFERROR(CHOOSE(WEEKDAY(A32,2),norm!C$1,norm!C$2,norm!C$3,norm!C$4,norm!C$5,norm!C$6,norm!C$7),\"\")","v":"07:30:00"}]
["2019-01-30","On","",null,null,null,"","00:00:00","",{"$f":"IF(AND(C33=\"\",WEEKDAY(A33,2)<6),ColTime(T.!$J$4,T.!$L$4,D33,E33),\"\")","v":"00:00:00"},null,{"$f":"IF(AND(OR(WEEKDAY(A33,2)=7,C33<>\"\"),E33<D33),ColTime($AF$1,$AG$1,Januar!$AF$1,E33),IF(WEEKDAY(A33,2)<6,ColTime(T.!$J$5,T.!$L$5,D33,E33),\"\"))","v":"00:00:00"},null,"",{"$f":"IF(AND(OR(WEEKDAY(A33,2)<6,WEEKDAY(A33,2)=6),C33<>\"\",E33<D33),ColTime(T.!$J$7,T.!$L$7,D33,AF30),IF(AND(WEEKDAY(A33,2)=6,E33<D33),ColTime(T.!$J$7,T.!$L$7,$AF$1,E33),IF(AND(E33<D33,OR(C33<>\"\",WEEKDAY(A33,2)=7)),ColTime(T.!J36,T.!L36,Januar!D33,Januar!AF30),IF(AND(E33<>\"\",OR(C33<>\"\",WEEKDAY(A33,2)=7)),ColTime(T.!$J$7,T.!$L$7,D33,E33),\"\"))))","v":""},0,null,null,{"$f":"IFERROR(CHOOSE(WEEKDAY(A33,2),norm!C$1,norm!C$2,norm!C$3,norm!C$4,norm!C$5,norm!C$6,norm!C$7),\"\")","v":"07:30:00"}]
["2019-01-31",{"$f":"IFERROR(PROPER(TEXT(A34,\"ddd\")),\"\")","v":"To"},{"$f":"IF(A34=\"\",\"\",HelligdagsNavn(A34,0,0))","v":""},null,null,null,"","00:00:00","",{"$f":"IF(AND(C34=\"\",WEEKDAY(A34,2)<6),ColTime(T.!$J$4,T.!$L$4,D34,E34),\"\")","v":"00:00:00"},null,{"$f":"IF(AND(OR(WEEKDAY(A34,2)=7,C34<>\"\"),E34<D34),ColTime($AF$1,$AG$1,Januar!$AF$1,E34),IF(WEEKDAY(A34,2)<6,ColTime(T.!$J$5,T.!$L$5,D34,E34),\"\"))","v":"00:00:00"},null,"",{"$f":"IF(AND(OR(WEEKDAY(A34,2)<6,WEEKDAY(A34,2)=6),C34<>\"\",E34<D34),ColTime(T.!$J$7,T.!$L$7,D34,AF31),IF(AND(WEEKDAY(A34,2)=6,E34<D34),ColTime(T.!$J$7,T.!$L$7,$AF$1,E34),IF(AND(E34<D34,OR(C34<>\"\",WEEKDAY(A34,2)=7)),ColTime(T.!J37,T.!L37,Januar!D34,Januar!AF31),IF(AND(E34<>\"\",OR(C34<>\"\",WEEKDAY(A34,2)=7)),ColTime(T.!$J$7,T.!$L$7,D34,E34),\"\"))))","v":""},0,null,null,{"$f":"IFERROR(CHOOSE(WEEKDAY(A34,2),norm!C$1,norm!C$2,norm!C$3,norm!C$4,norm!C$5,norm!C$6,norm!C$7),\"\")","v":"07:30:00"},null,null,{"$f":"IF(D34=\"\",\"\",HOUR(D34))","v":""},{"$f":"IF(D34=\"\",\"\",MINUTE(D34))","v":""},{"$f":"IF(D34=\"\",\"\",TIME(HOUR(D34),MINUTE(D34),0))","v":""},{"$f":"IF(E34=\"\",\"\",HOUR(E34))","v":""},{"$f":"IF(E34=\"\",\"\",MINUTE(E34))","v":""},{"$f":"IF(E34=\"\",\"\",TIME(HOUR(E34),MINUTE(E34),0))","v":""}]
["Total timer",null,null,null,null,null,{"$f":"IF(SUM(G9:G34)<>\"0\",SUM(G4:G34),\"\")","v":5.5000000000000009},{"$f":"IF(SUM(H9:H34)<>\"0\",SUM(H4:H34),\"\")","v":0.83333333333333326},{"$f":"IF(SUM(I9:I34)<>\"0\",SUM(I4:I34),\"\")","v":1.5833333333333335},{"$f":"IF(SUM(J9:J34)<>\"0\",SUM(J4:J34),\"\")","v":0.33333333333333393},null,{"$f":"IF(SUM(L9:L34)<>\"0\",SUM(L4:L34),\"\")","v":3.0833333333333326},null,{"$f":"IF(SUM(N9:N34)<>\"0\",SUM(N4:N34),\"\")","v":0.16666666666666674},{"$f":"IF(SUM(O9:O34)<>\"0\",SUM(O4:O34),\"\")","v":1.1666666666666667},{"$f":"SUM(P4:P34)","v":4.4166666666666679},{"$f":"SUM(Q4:Q34)","v":0}]
["Timer 1/100",null,null,null,null,null,{"$f":"IF(G35<>\"\",ROUND(G35*24,2),\"\")","v":132},{"$f":"IF(H35<>\"\",ROUND(H35*24,2),\"\")","v":20},38,{"$f":"IF(J35<>\"\",ROUND(J35*24,2),\"\")","v":8},null,{"$f":"IF(L35<>\"\",ROUND(L35*24,2),\"\")","v":74},null,{"$f":"IF(N35<>\"\",ROUND(N35*24,2),\"\")","v":4},28,106,0]
["Satser",null,null,null,null,null,{"$f":"Satser!B7","v":107.35},{"$f":"Satser!B9","v":36.35},{"$f":"Satser!B12","v":58.1},{"$f":"Satser!B17","v":13.91},null,{"$f":"Satser!B18","v":23.19},null,{"$f":"Satser!B19","v":24.89},{"$f":"Satser!B20","v":27.63}]
[null,null,null,null,null,null,{"$f":"IF(G35<>\"\",G36*G37,\"\")","v":14170.199999999999},{"$f":"IF(H35<>\"\",H36*H37,\"\")","v":727},2207.8000000000002,{"$f":"IF(J35<>\"\",J36*J37,\"\")","v":111.28},null,{"$f":"IF(L35<>\"\",L36*L36,\"\")","v":5476},null,{"$f":"IF(N35<>\"\",N36*N37,\"\")","v":99.56},773.64]
[]
["Lønart"]
[3025,null,null,null,null,null,{"$f":"G35","v":5.5000000000000009}]
[3425,null,null,null,null,null,{"$f":"H35","v":0.83333333333333326}]
[3428,null,null,null,null,null,{"$f":"I35","v":1.5833333333333335}]
["Timer",null,null,null,null,null,{"$f":"SUM(G41:G43)","v":7.9166666666666679},{"$f":"IF(G44<>\"\",ROUND(G44*24,2),\"\")","v":190}]
[null,null,null,null,null,null,null,{"$f":"G37*H44","v":20396.5}]

{"sheet":"Januar (2)","index":3,"n_rows":45,"n_cols":35,"rows_kept":45,"cut":false,"hidden":true,"merged":[[39,0,39,2],[40,0,40,2],[41,0,41,2],[42,0,42,2],[43,0,43,5],[35,9,35,10],[35,11,35,12],[36,9,36,10],[36,11,36,12],[37,9,37,10],[37,11,37,12],[32,9,32,10],[32,11,32,12],[33,9,33,10],[33,11,33,12],[34,9,34,10],[34,11,34,12],[29,9,29,10],[29,11,29,12],[30,9,30,10],[30,11,30,12],[31,9,31,10],[31,11,31,12],[26,9,26,10],[26,11,26,12],[27,9,27,10],[27,11,27,12],[28,9,28,10],[28,11,28,12],[23,9,23,10],[23,11,23,12],[24,9,24,10],[24,11,24,12],[25,9,25,10],[25,11,25,12],[20,9,20,10],[20,11,20,12],[21,9,21,10],[21,11,21,12],[22,9,22,10],[22,11,22,12],[17,9,17,10],[17,11,17,12],[18,9,18,10],[18,11,18,12],[19,9,19,10],[19,11,19,12],[14,9,14,10],[14,11,14,12],[15,9,15,10],[15,11,15,12],[16,9,16,10],[16,11,16,12],[11,9,11,10],[11,11,11,12],[12,9,12,10],[12,11,12,12],[13,9,13,10],[13,11,13,12],[8,9,8,10],[8,11,8,12],[9,9,9,10],[9,11,9,12],[10,9,10,10],[10,11,10,12],[5,9,5,10],[5,11,5,12],[6,9,6,10],[6,11,6,12],[7,9,7,10],[7,11,7,12],[4,9,4,10],[4,11,4,12],[0,1,0,7],[0,10,0,11],[0,13,0,14],[1,1,1,2],[1,9,1,10],[1,11,1,12],[2,1,2,2],[2,9,2,10],[2,11,2,12],[3,9,3,10],[3,11,3,12]]}
["Løn",{"$f":"PROPER(TEXT(A4,\"dd mmmm åååå\")) & PROPER(TEXT(N1,\"  -  dd mmmm åååå\"))","v":"01 Februar 2019  -  28 Februar 2019"},null,null,null,null,null,null,"Uge :",{"$f":"IF(A4=\"\",\"\",TRUNC((A4-WEEKDAY(A4,2)-DATE(YEAR(A4+4-WEEKDAY(A4,2)),1,-10))/7))","v":5},"-",null,{"$f":"IF(A25=\"\",\"\",TRUNC((A25-WEEKDAY(A25,2)-DATE(YEAR(A25+4-WEEKDAY(A25,2)),1,-10))/7))","v":8},{"$f":"EOMONTH(A4,0)","v":"2019-02-28"},null,2,null,null,null,null,null,"Time beregning:",null,null,null,null,null,null,null,null,null,1,"06:00:00","18:00:00","03:00:00"]
["Lønart",null,null,null,null,null,null,null,null,null,null,null,null,null,null,null,null,null,null,null,null,"Betalt pause ved vagt over 5 timer",null,null,null,"00:25:00","minutter","00:00:00","06:00:00","17:00:00","14:00:00"]
["Dato","Dag",null,"Start","Slut","Pause","Arb. Tid","Overtid           1-3 time","Overtid            4 - time","Forskudt tid Man-fredag\n18-23",null,"Natarbejde 23-06",null,"Lørdag tillæg 14 - 24","Søndag tillæg 00 - 24","Optjent afspadsering","Afholdt afspadsering","Syge Timer","norm"]
[{"$f":"DATE(T.!$B$2,$P$1,1)","v":"2019-02-01"},{"$f":"PROPER(TEXT(A4,\"ddd\"))","v":"Fr"},{"$f":"HelligdagsNavn(A4,0,0)","v":""},"18:00:00","07:00:00",null,{"$f":"IF(D4=\"\",\"\",(E4-D4)+(D4>E4)-F4)","v":0.54166666666666674},{"$f":"IF(G4=\"\",0,IF(WEEKDAY(A4,2)=7,0,IF(G4>S4,MIN(G4-S4,$AI$1),0)))","v":"03:00:00"},{"$f":"IF(G4=\"\",\"\",IF(G4>S4+H4,G4-(S4+H4),\"\"))","v":"03:00:00"},{"$f":"IF(AND(C4=\"\",WEEKDAY(A4,2)<6),ColTime(T.!$J$4,T.!$L$4,D4,E4),\"\")","v":"05:00:00"},null,{"$f":"IF(AND(OR(WEEKDAY(A4,2)=7,C4<>\"\"),E4<D4),ColTime($AF$1,$AG$1,'Januar (2)'!$AF$1,E4),IF(WEEKDAY(A4,2)<6,ColTime(T.!$J$5,T.!$L$5,D4,E4),\"\"))","v":"07:00:00"},null,{"$f":"IF(WEEKDAY(A4,2)=6,ColTime(TIME(14,0,0),TIME(24,0,0),D4,E4),\"\")","v":""},{"$f":"IF(AND(OR(WEEKDAY(A4,2)<6,WEEKDAY(A4,2)=6),C4<>\"\",E4<D4),ColTime(T.!$J$7,T.!$L$7,D4,AF1),IF(AND(WEEKDAY(A4,2)=6,E4<D4),ColTime(T.!$J$7,T.!$L$7,$AF$1,E4),IF(AND(E4<D4,OR(C4<>\"\",WEEKDAY(A4,2)=7)),ColTime(T.!J7,T.!L7,'Januar (2)'!D4,'Januar (2)'!AF1),IF(AND(E4<>\"\",OR(C4<>\"\",WEEKDAY(A4,2)=7)),ColTime(T.!$J$7,T.!$L$7,D4,E4),\"\"))))","v":""},{"$f":"IFERROR(H4+I4,\"\")","v":"06:00:00"},null,null,{"$f":"CHOOSE(WEEKDAY(A4,2),norm!C$1,norm!C$2,norm!C$3,norm!C$4,norm!C$5,norm!C$6,norm!C$7)","v":"07:00:00"},null,null,{"$f":"IF(D4=\"\",\"\",HOUR(D4))","v":18},{"$f":"IF(D4=\"\",\"\",MINUTE(D4))","v":0},{"$f":"IF(D4=\"\",\"\",TIME(HOUR(D4),MINUTE(D4),0))","v":"18:00:00"},{"$f":"IF(E4=\"\",\"\",HOUR(E4))","v":7},{"$f":"IF(E4=\"\",\"\",MINUTE(E4))","v":0},"02:00:00","09:30:00","11:30:00",null,null,null,{"$f":"IFERROR(MIN(G4-S4,3),22)","v":0.25000000000000006}]
[{"$f":"A4+1","v":"2019-02-02"},{"$f":"PROPER(TEXT(A5,\"ddd\"))","v":"Lø"},{"$f":"HelligdagsNavn(A5,0,0)","v":""},"18:00:00","07:00:00",null,{"$f":"IF(D5=\"\",\"\",(E5-D5)+(D5>E5)-F5)","v":0.54166666666666674},{"$f":"IF(G5=\"\",0,IF(WEEKDAY(A5,2)=7,0,IF(G5>S5,MIN(G5-S5,$AI$1),0)))","v":"03:00:00"},{"$f":"IF(G5=\"\",\"\",IF(G5>S5+H5,G5-(S5+H5),\"\"))","v":"10:00:00"},{"$f":"IF(AND(C5=\"\",WEEKDAY(A5,2)<6),ColTime(T.!$J$4,T.!$L$4,D5,E5),\"\")","v":""},null,{"$f":"IF(AND(OR(WEEKDAY(A5,2)=7,C5<>\"\"),E5<D5),ColTime($AF$1,$AG$1,'Januar (2)'!$AF$1,E5),IF(WEEKDAY(A5,2)<6,ColTime(T.!$J$5,T.!$L$5,D5,E5),\"\"))","v":""},null,"06:00:00",{"$f":"IF(AND(OR(WEEKDAY(A5,2)<6,WEEKDAY(A5,2)=6),C5<>\"\",E5<D5),ColTime(T.!$J$7,T.!$L$7,D5,AF2),IF(AND(WEEKDAY(A5,2)=6,E5<D5),ColTime(T.!$J$7,T.!$L$7,$AF$1,E5),IF(AND(E5<D5,OR(C5<>\"\",WEEKDAY(A5,2)=7)),ColTime(T.!J8,T.!L8,'Januar (2)'!D5,'Januar (2)'!AF2),IF(AND(E5<>\"\",OR(C5<>\"\",WEEKDAY(A5,2)=7)),ColTime(T.!$J$7,T.!$L$7,D5,E5),\"\"))))","v":"07:00:00"},{"$f":"IFERROR(H5+I5,\"\")","v":"13:00:00"},null,null,{"$f":"CHOOSE(WEEKDAY(A5,2),norm!C$1,norm!C$2,norm!C$3,norm!C$4,norm!C$5,norm!C$6,norm!C$7)","v":"00:00:00"},null,null,18,0,"18:00:00",7,0,{"$f":"IF(E5=\"\",\"\",TIME(HOUR(E5),MINUTE(E5),0))","v":"07:00:00"},null,null,null,null,null,null,"Der taste kun i de Gule celler"]
[{"$f":"A5+1","v":"2019-02-03"},{"$f":"PROPER(TEXT(A6,\"ddd\"))","v":"Sø"},"","22:00:00","07:00:00",null,0.375,"00:00:00","09:00:00",{"$f":"IF(AND(C6=\"\",WEEKDAY(A6,2)<6),ColTime(T.!$J$4,T.!$L$4,D6,E6),\"\")","v":""},null,{"$f":"IF(AND(OR(WEEKDAY(A6,2)=7,C6<>\"\"),E6<D6),ColTime($AF$1,$AG$1,'Januar (2)'!$AF$1,E6),IF(WEEKDAY(A6,2)<6,ColTime(T.!$J$5,T.!$L$5,D6,E6),\"\"))","v":"06:00:00"},null,"",{"$f":"IF(AND(OR(WEEKDAY(A6,2)<6,WEEKDAY(A6,2)=6),C6<>\"\",E6<D6),ColTime(T.!$J$7,T.!$L$7,D6,AF3),IF(AND(WEEKDAY(A6,2)=6,E6<D6),ColTime(T.!$J$7,T.!$L$7,$AF$1,E6),IF(AND(E6<D6,OR(C6<>\"\",WEEKDAY(A6,2)=7)),ColTime(T.!J9,T.!L9,'Januar (2)'!D6,'Januar (2)'!AF3),IF(AND(E6<>\"\",OR(C6<>\"\",WEEKDAY(A6,2)=7)),ColTime(T.!$J$7,T.!$L$7,D6,E6),\"\"))))","v":"02:00:00"},{"$f":"IFERROR(H6+I6,\"\")","v":"09:00:00"},null,null,{"$f":"CHOOSE(WEEKDAY(A6,2),norm!C$1,norm!C$2,norm!C$3,norm!C$4,norm!C$5,norm!C$6,norm!C$7)","v":"00:00:00"},null,null,22,0,"22:00:00",7,0,"07:00:00"]
["2019-02-04","Ma","","22:00:00","07:00:00",null,0.375,"01:30:00","",{"$f":"IF(AND(C7=\"\",WEEKDAY(A7,2)<6),ColTime(T.!$J$4,T.!$L$4,D7,E7),\"\")","v":"01:00:00"},null,{"$f":"IF(AND(OR(WEEKDAY(A7,2)=7,C7<>\"\"),E7<D7),ColTime($AF$1,$AG$1,'Januar (2)'!$AF$1,E7),IF(WEEKDAY(A7,2)<6,ColTime(T.!$J$5,T.!$L$5,D7,E7),\"\"))","v":"07:00:00"},null,"",{"$f":"IF(AND(OR(WEEKDAY(A7,2)<6,WEEKDAY(A7,2)=6),C7<>\"\",E7<D7),ColTime(T.!$J$7,T.!$L$7,D7,AF4),IF(AND(WEEKDAY(A7,2)=6,E7<D7),ColTime(T.!$J$7,T.!$L$7,$AF$1,E7),IF(AND(E7<D7,OR(C7<>\"\",WEEKDAY(A7,2)=7)),ColTime(T.!J10,T.!L10,'Januar (2)'!D7,'Januar (2)'!AF4),IF(AND(E7<>\"\",OR(C7<>\"\",WEEKDAY(A7,2)=7)),ColTime(T.!$J$7,T.!$L$7,D7,E7),\"\"))))","v":""},{"$f":"IFERROR(H7+I7,\"\")","v":""},null,null,{"$f":"CHOOSE(WEEKDAY(A7,2),norm!C$1,norm!C$2,norm!C$3,norm!C$4,norm!C$5,norm!C$6,norm!C$7)","v":"07:30:00"},null,null,22,0,"22:00:00",7,0,"07:00:00"]
["2019-02-05","Ti","","22:00:00","07:00:00",null,0.375,"01:30:00","",{"$f":"IF(AND(C8=\"\",WEEKDAY(A8,2)<6),ColTime(T.!$J$4,T.!$L$4,D8,E8),\"\")","v":"01:00:00"},null,{"$f":"IF(AND(OR(WEEKDAY(A8,2)=7,C8<>\"\"),E8<D8),ColTime($AF$1,$AG$1,'Januar (2)'!$AF$1,E8),IF(WEEKDAY(A8,2)<6,ColTime(T.!$J$5,T.!$L$5,D8,E8),\"\"))","v":"07:00:00"},null,"",{"$f":"IF(AND(OR(WEEKDAY(A8,2)<6,WEEKDAY(A8,2)=6),C8<>\"\",E8<D8),ColTime(T.!$J$7,T.!$L$7,D8,AF5),IF(AND(WEEKDAY(A8,2)=6,E8<D8),ColTime(T.!$J$7,T.!$L$7,$AF$1,E8),IF(AND(E8<D8,OR(C8<>\"\",WEEKDAY(A8,2)=7)),ColTime(T.!J11,T.!L11,'Januar (2)'!D8,'Januar (2)'!AF5),IF(AND(E8<>\"\",OR(C8<>\"\",WEEKDAY(A8,2)=7)),ColTime(T.!$J$7,T.!$L$7,D8,E8),\"\"))))","v":""},{"$f":"IFERROR(H8+I8,\"\")","v":""},null,null,{"$f":"CHOOSE(WEEKDAY(A8,2),norm!C$1,norm!C$2,norm!C$3,norm!C$4,norm!C$5,norm!C$6,norm!C$7)","v":"07:30:00"},null,null,22,0,"22:00:00",7,0,"07:00:00"]
["2019-02-06","On","","22:00:00","07:00:00",null,0.375,"01:30:00","",{"$f":"IF(AND(C9=\"\",WEEKDAY(A9,2)<6),ColTime(T.!$J$4,T.!$L$4,D9,E9),\"\")","v":"01:00:00"},null,{"$f":"IF(AND(OR(WEEKDAY(A9,2)=7,C9<>\"\"),E9<D9),ColTime($AF$1,$AG$1,'Januar (2)'!$AF$1,E9),IF(WEEKDAY(A9,2)<6,ColTime(T.!$J$5,T.!$L$5,D9,E9),\"\"))","v":"07:00:00"},null,"",{"$f":"IF(AND(OR(WEEKDAY(A9,2)<6,WEEKDAY(A9,2)=6),C9<>\"\",E9<D9),ColTime(T.!$J$7,T.!$L$7,D9,AF6),IF(AND(WEEKDAY(A9,2)=6,E9<D9),ColTime(T.!$J$7,T.!$L$7,$AF$1,E9),IF(AND(E9<D9,OR(C9<>\"\",WEEKDAY(A9,2)=7)),ColTime(T.!J12,T.!L12,'Januar (2)'!D9,'Januar (2)'!AF6),IF(AND(E9<>\"\",OR(C9<>\"\",WEEKDAY(A9,2)=7)),ColTime(T.!$J$7,T.!$L$7,D9,E9),\"\"))))","v":""},{"$f":"IFERROR(H9+I9,\"\")","v":""},null,null,{"$f":"CHOOSE(WEEKDAY(A9,2),norm!C$1,norm!C$2,norm!C$3,norm!C$4,norm!C$5,norm!C$6,norm!C$7)","v":"07:30:00"},null,null,22,0,"22:00:00",7,0,"07:00:00"]
["2019-02-07","To","","22:00:00","07:00:00",null,0.375,"01:30:00","",{"$f":"IF(AND(C10=\"\",WEEKDAY(A10,2)<6),ColTime(T.!$J$4,T.!$L$4,D10,E10),\"\")","v":"01:00:00"},null,{"$f":"IF(AND(OR(WEEKDAY(A10,2)=7,C10<>\"\"),E10<D10),ColTime($AF$1,$AG$1,'Januar (2)'!$AF$1,E10),IF(WEEKDAY(A10,2)<6,ColTime(T.!$J$5,T.!$L$5,D10,E10),\"\"))","v":"07:00:00"},null,{"$f":"IF(WEEKDAY(A10,2)=6,ColTime(TIME(14,0,0),TIME(24,0,0),D10,E10),\"\")","v":""},{"$f":"IF(AND(OR(WEEKDAY(A10,2)<6,WEEKDAY(A10,2)=6),C10<>\"\",E10<D10),ColTime(T.!$J$7,T.!$L$7,D10,AF7),IF(AND(WEEKDAY(A10,2)=6,E10<D10),ColTime(T.!$J$7,T.!$L$7,$AF$1,E10),IF(AND(E10<D10,OR(C10<>\"\",WEEKDAY(A10,2)=7)),ColTime(T.!J13,T.!L13,'Januar (2)'!D10,'Januar (2)'!AF7),IF(AND(E10<>\"\",OR(C10<>\"\",WEEKDAY(A10,2)=7)),ColTime(T.!$J$7,T.!$L$7,D10,E10),\"\"))))","v":""},"",null,null,{"$f":"CHOOSE(WEEKDAY(A10,2),norm!C$1,norm!C$2,norm!C$3,norm!C$4,norm!C$5,norm!C$6,norm!C$7)","v":"07:30:00"},null,null,22,0,"22:00:00",7,0,"07:00:00"]
[{"$f":"A10+1","v":"2019-02-08"},{"$f":"PROPER(TEXT(A11,\"ddd\"))","v":"Fr"},{"$f":"HelligdagsNavn(A11,0,0)","v":""},"22:00:00","07:00:00",null,0.375,"02:00:00","",{"$f":"IF(AND(C11=\"\",WEEKDAY(A11,2)<6),ColTime(T.!$J$4,T.!$L$4,D11,E11),\"\")","v":"01:00:00"},null,{"$f":"IF(AND(OR(WEEKDAY(A11,2)=7,C11<>\"\"),E11<D11),ColTime($AF$1,$AG$1,'Januar (2)'!$AF$1,E11),IF(WEEKDAY(A11,2)<6,ColTime(T.!$J$5,T.!$L$5,D11,E11),\"\"))","v":"07:00:00"},null,{"$f":"IF(WEEKDAY(A11,2)=6,ColTime(TIME(15,0,0),TIME(24,0,0),D11,E11),\"\")","v":""},{"$f":"IF(AND(OR(WEEKDAY(A11,2)<6,WEEKDAY(A11,2)=6),C11<>\"\",E11<D11),ColTime(T.!$J$7,T.!$L$7,D11,AF8),IF(AND(WEEKDAY(A11,2)=6,E11<D11),ColTime(T.!$J$7,T.!$L$7,$AF$1,E11),IF(AND(E11<D11,OR(C11<>\"\",WEEKDAY(A11,2)=7)),ColTime(T.!J14,T.!L14,'Januar (2)'!D11,'Januar (2)'!AF8),IF(AND(E11<>\"\",OR(C11<>\"\",WEEKDAY(A11,2)=7)),ColTime(T.!$J$7,T.!$L$7,D11,E11),\"\"))))","v":""},"",null,null,{"$f":"CHOOSE(WEEKDAY(A11,2),norm!C$1,norm!C$2,norm!C$3,norm!C$4,norm!C$5,norm!C$6,norm!C$7)","v":"07:00:00"},null,null,22,0,"22:00:00",7,0,"07:00:00"]
[{"$f":"A11+1","v":"2019-02-09"},{"$f":"PROPER(TEXT(A12,\"ddd\"))","v":"Lø"},{"$f":"HelligdagsNavn(A12,0,0)","v":""},"22:00:00","07:00:00",null,0.375,"03:00:00","06:00:00",{"$f":"IF(AND(C12=\"\",WEEKDAY(A12,2)<6),ColTime(T.!$J$4,T.!$L$4,D12,E12),\"\")","v":""},null,{"$f":"IF(AND(OR(WEEKDAY(A12,2)=7,C12<>\"\"),E12<D12),ColTime($AF$1,$AG$1,'Januar (2)'!$AF$1,E12),IF(WEEKDAY(A12,2)<6,ColTime(T.!$J$5,T.!$L$5,D12,E12),\"\"))","v":""},null,"02:00:00",{"$f":"IF(AND(OR(WEEKDAY(A12,2)<6,WEEKDAY(A12,2)=6),C12<>\"\",E12<D12),ColTime(T.!$J$7,T.!$L$7,D12,AF9),IF(AND(WEEKDAY(A12,2)=6,E12<D12),ColTime(T.!$J$7,T.!$L$7,$AF$1,E12),IF(AND(E12<D12,OR(C12<>\"\",WEEKDAY(A12,2)=7)),ColTime(T.!J15,T.!L15,'Januar (2)'!D12,'Januar (2)'!AF9),IF(AND(E12<>\"\",OR(C12<>\"\",WEEKDAY(A12,2)=7)),ColTime(T.!$J$7,T.!$L$7,D12,E12),\"\"))))","v":"07:00:00"},"09:00:00",null,null,{"$f":"CHOOSE(WEEKDAY(A12,2),norm!C$1,norm!C$2,norm!C$3,norm!C$4,norm!C$5,norm!C$6,norm!C$7)","v":"00:00:00"},null,null,22,0,"22:00:00",7,0,"07:00:00"]
[{"$f":"A12+1","v":"2019-02-10"},{"$f":"PROPER(TEXT(A13,\"ddd\"))","v":"Sø"},"","22:00:00","07:00:00",null,0.375,"00:00:00","09:00:00",{"$f":"IF(AND(C13=\"\",WEEKDAY(A13,2)<6),ColTime(T.!$J$4,T.!$L$4,D13,E13),\"\")","v":""},null,{"$f":"IF(AND(OR(WEEKDAY(A13,2)=7,C13<>\"\"),E13<D13),ColTime($AF$1,$AG$1,'Januar (2)'!$AF$1,E13),IF(WEEKDAY(A13,2)<6,ColTime(T.!$J$5,T.!$L$5,D13,E13),\"\"))","v":"06:00:00"},null,"",{"$f":"IF(AND(OR(WEEKDAY(A13,2)<6,WEEKDAY(A13,2)=6),C13<>\"\",E13<D13),ColTime(T.!$J$7,T.!$L$7,D13,AF10),IF(AND(WEEKDAY(A13,2)=6,E13<D13),ColTime(T.!$J$7,T.!$L$7,$AF$1,E13),IF(AND(E13<D13,OR(C13<>\"\",WEEKDAY(A13,2)=7)),ColTime(T.!J16,T.!L16,'Januar (2)'!D13,'Januar (2)'!AF10),IF(AND(E13<>\"\",OR(C13<>\"\",WEEKDAY(A13,2)=7)),ColTime(T.!$J$7,T.!$L$7,D13,E13),\"\"))))","v":"02:00:00"},"09:00:00",null,null,{"$f":"CHOOSE(WEEKDAY(A13,2),norm!C$1,norm!C$2,norm!C$3,norm!C$4,norm!C$5,norm!C$6,norm!C$7)","v":"00:00:00"},null,null,22,0,"22:00:00",7,0,"07:00:00"]
["2019-02-11","Ma","","22:00:00","07:00:00",null,0.375,"01:30:00","",{"$f":"IF(AND(C14=\"\",WEEKDAY(A14,2)<6),ColTime(T.!$J$4,T.!$L$4,D14,E14),\"\")","v":"01:00:00"},null,{"$f":"IF(AND(OR(WEEKDAY(A14,2)=7,C14<>\"\"),E14<D14),ColTime($AF$1,$AG$1,'Januar (2)'!$AF$1,E14),IF(WEEKDAY(A14,2)<6,ColTime(T.!$J$5,T.!$L$5,D14,E14),\"\"))","v":"07:00:00"},null,"",{"$f":"IF(AND(OR(WEEKDAY(A14,2)<6,WEEKDAY(A14,2)=6),C14<>\"\",E14<D14),ColTime(T.!$J$7,T.!$L$7,D14,AF11),IF(AND(WEEKDAY(A14,2)=6,E14<D14),ColTime(T.!$J$7,T.!$L$7,$AF$1,E14),IF(AND(E14<D14,OR(C14<>\"\",WEEKDAY(A14,2)=7)),ColTime(T.!J17,T.!L17,'Januar (2)'!D14,'Januar (2)'!AF11),IF(AND(E14<>\"\",OR(C14<>\"\",WEEKDAY(A14,2)=7)),ColTime(T.!$J$7,T.!$L$7,D14,E14),\"\"))))","v":""},"",null,null,{"$f":"CHOOSE(WEEKDAY(A14,2),norm!C$1,norm!C$2,norm!C$3,norm!C$4,norm!C$5,norm!C$6,norm!C$7)","v":"07:30:00"},null,null,22,0,"22:00:00",7,0,"07:00:00"]
["2019-02-12","Ti","","22:00:00","07:00:00",null,0.375,"01:30:00","",{"$f":"IF(AND(C15=\"\",WEEKDAY(A15,2)<6),ColTime(T.!$J$4,T.!$L$4,D15,E15),\"\")","v":"01:00:00"},null,{"$f":"IF(AND(OR(WEEKDAY(A15,2)=7,C15<>\"\"),E15<D15),ColTime($AF$1,$AG$1,'Januar (2)'!$AF$1,E15),IF(WEEKDAY(A15,2)<6,ColTime(T.!$J$5,T.!$L$5,D15,E15),\"\"))","v":"07:00:00"},null,"",{"$f":"IF(AND(OR(WEEKDAY(A15,2)<6,WEEKDAY(A15,2)=6),C15<>\"\",E15<D15),ColTime(T.!$J$7,T.!$L$7,D15,AF12),IF(AND(WEEKDAY(A15,2)=6,E15<D15),ColTime(T.!$J$7,T.!$L$7,$AF$1,E15),IF(AND(E15<D15,OR(C15<>\"\",WEEKDAY(A15,2)=7)),ColTime(T.!J18,T.!L18,'Januar (2)'!D15,'Januar (2)'!AF12),IF(AND(E15<>\"\",OR(C15<>\"\",WEEKDAY(A15,2)=7)),ColTime(T.!$J$7,T.!$L$7,D15,E15),\"\"))))","v":""},"",null,null,{"$f":"CHOOSE(WEEKDAY(A15,2),norm!C$1,norm!C$2,norm!C$3,norm!C$4,norm!C$5,norm!C$6,norm!C$7)","v":"07:30:00"},null,null,22,0,"22:00:00",7,0,"07:00:00"]
["2019-02-13","On","","19:00:00","07:00:00",null,0.5,"03:00:00","01:30:00",{"$f":"IF(AND(C16=\"\",WEEKDAY(A16,2)<6),ColTime(T.!$J$4,T.!$L$4,D16,E16),\"\")","v":"04:00:00"},null,{"$f":"IF(AND(OR(WEEKDAY(A16,2)=7,C16<>\"\"),E16<D16),ColTime($AF$1,$AG$1,'Januar (2)'!$AF$1,E16),IF(WEEKDAY(A16,2)<6,ColTime(T.!$J$5,T.!$L$5,D16,E16),\"\"))","v":"07:00:00"},null,"",{"$f":"IF(AND(OR(WEEKDAY(A16,2)<6,WEEKDAY(A16,2)=6),C16<>\"\",E16<D16),ColTime(T.!$J$7,T.!$L$7,D16,AF13),IF(AND(WEEKDAY(A16,2)=6,E16<D16),ColTime(T.!$J$7,T.!$L$7,$AF$1,E16),IF(AND(E16<D16,OR(C16<>\"\",WEEKDAY(A16,2)=7)),ColTime(T.!J19,T.!L19,'Januar (2)'!D16,'Januar (2)'!AF13),IF(AND(E16<>\"\",OR(C16<>\"\",WEEKDAY(A16,2)=7)),ColTime(T.!$J$7,T.!$L$7,D16,E16),\"\"))))","v":""},"04:30:00",null,null,{"$f":"CHOOSE(WEEKDAY(A16,2),norm!C$1,norm!C$2,norm!C$3,norm!C$4,norm!C$5,norm!C$6,norm!C$7)","v":"07:30:00"},null,null,19,0,"19:00:00",7,0,"07:00:00"]
["2019-02-14","To","",null,null,null,"",{"$f":"IF(G17=\"\",0,IF(WEEKDAY(A17,2)=7,0,IF(G17>S17,MIN(G17-S17,$AI$1),0)))","v":"00:00:00"},"",{"$f":"IF(AND(C17=\"\",WEEKDAY(A17,2)<6),ColTime(T.!$J$4,T.!$L$4,D17,E17),\"\")","v":"00:00:00"},null,{"$f":"IF(AND(OR(WEEKDAY(A17,2)=7,C17<>\"\"),E17<D17),ColTime($AF$1,$AG$1,'Januar (2)'!$AF$1,E17),IF(WEEKDAY(A17,2)<6,ColTime(T.!$J$5,T.!$L$5,D17,E17),\"\"))","v":"00:00:00"},null,"",{"$f":"IF(AND(OR(WEEKDAY(A17,2)<6,WEEKDAY(A17,2)=6),C17<>\"\",E17<D17),ColTime(T.!$J$7,T.!$L$7,D17,AF14),IF(AND(WEEKDAY(A17,2)=6,E17<D17),ColTime(T.!$J$7,T.!$L$7,$AF$1,E17),IF(AND(E17<D17,OR(C17<>\"\",WEEKDAY(A17,2)=7)),ColTime(T.!J20,T.!L20,'Januar (2)'!D17,'Januar (2)'!AF14),IF(AND(E17<>\"\",OR(C17<>\"\",WEEKDAY(A17,2)=7)),ColTime(T.!$J$7,T.!$L$7,D17,E17),\"\"))))","v":""},"",null,null,{"$f":"CHOOSE(WEEKDAY(A17,2),norm!C$1,norm!C$2,norm!C$3,norm!C$4,norm!C$5,norm!C$6,norm!C$7)","v":"07:30:00"},null,null,"","","","","",""]
[{"$f":"A17+1","v":"2019-02-15"},{"$f":"PROPER(TEXT(A18,\"ddd\"))","v":"Fr"},{"$f":"HelligdagsNavn(A18,0,0)","v":""},"08:00:00","16:00:00",null,0.33333333333333331,"01:00:00","",{"$f":"IF(AND(C18=\"\",WEEKDAY(A18,2)<6),ColTime(T.!$J$4,T.!$L$4,D18,E18),\"\")","v":"00:00:00"},null,{"$f":"IF(AND(OR(WEEKDAY(A18,2)=7,C18<>\"\"),E18<D18),ColTime($AF$1,$AG$1,'Januar (2)'!$AF$1,E18),IF(WEEKDAY(A18,2)<6,ColTime(T.!$J$5,T.!$L$5,D18,E18),\"\"))","v":"00:00:00"},null,"",{"$f":"IF(AND(OR(WEEKDAY(A18,2)<6,WEEKDAY(A18,2)=6),C18<>\"\",E18<D18),ColTime(T.!$J$7,T.!$L$7,D18,AF15),IF(AND(WEEKDAY(A18,2)=6,E18<D18),ColTime(T.!$J$7,T.!$L$7,$AF$1,E18),IF(AND(E18<D18,OR(C18<>\"\",WEEKDAY(A18,2)=7)),ColTime(T.!J21,T.!L21,'Januar (2)'!D18,'Januar (2)'!AF15),IF(AND(E18<>\"\",OR(C18<>\"\",WEEKDAY(A18,2)=7)),ColTime(T.!$J$7,T.!$L$7,D18,E18),\"\"))))","v":""},"",null,null,{"$f":"CHOOSE(WEEKDAY(A18,2),norm!C$1,norm!C$2,norm!C$3,norm!C$4,norm!C$5,norm!C$6,norm!C$7)","v":"07:00:00"},null,null,8,0,"08:00:00",16,0,"16:00:00"]
[{"$f":"A18+1","v":"2019-02-16"},{"$f":"PROPER(TEXT(A19,\"ddd\"))","v":"Lø"},{"$f":"HelligdagsNavn(A19,0,0)","v":""},null,null,null,"","00:00:00","",{"$f":"IF(AND(C19=\"\",WEEKDAY(A19,2)<6),ColTime(T.!$J$4,T.!$L$4,D19,E19),\"\")","v":""},null,{"$f":"IF(AND(OR(WEEKDAY(A19,2)=7,C19<>\"\"),E19<D19),ColTime($AF$1,$AG$1,'Januar (2)'!$AF$1,E19),IF(WEEKDAY(A19,2)<6,ColTime(T.!$J$5,T.!$L$5,D19,E19),\"\"))","v":""},null,"00:00:00",{"$f":"IF(AND(OR(WEEKDAY(A19,2)<6,WEEKDAY(A19,2)=6),C19<>\"\",E19<D19),ColTime(T.!$J$7,T.!$L$7,D19,AF16),IF(AND(WEEKDAY(A19,2)=6,E19<D19),ColTime(T.!$J$7,T.!$L$7,$AF$1,E19),IF(AND(E19<D19,OR(C19<>\"\",WEEKDAY(A19,2)=7)),ColTime(T.!J22,T.!L22,'Januar (2)'!D19,'Januar (2)'!AF16),IF(AND(E19<>\"\",OR(C19<>\"\",WEEKDAY(A19,2)=7)),ColTime(T.!$J$7,T.!$L$7,D19,E19),\"\"))))","v":""},"",null,null,{"$f":"CHOOSE(WEEKDAY(A19,2),norm!C$1,norm!C$2,norm!C$3,norm!C$4,norm!C$5,norm!C$6,norm!C$7)","v":"00:00:00"},null,null,"","","","","",""]
[{"$f":"A19+1","v":"2019-02-17"},{"$f":"PROPER(TEXT(A20,\"ddd\"))","v":"Sø"},"",null,null,null,"","00:00:00","",{"$f":"IF(AND(C20=\"\",WEEKDAY(A20,2)<6),ColTime(T.!$J$4,T.!$L$4,D20,E20),\"\")","v":""},null,{"$f":"IF(AND(OR(WEEKDAY(A20,2)=7,C20<>\"\"),E20<D20),ColTime($AF$1,$AG$1,'Januar (2)'!$AF$1,E20),IF(WEEKDAY(A20,2)<6,ColTime(T.!$J$5,T.!$L$5,D20,E20),\"\"))","v":""},null,"",{"$f":"IF(AND(OR(WEEKDAY(A20,2)<6,WEEKDAY(A20,2)=6),C20<>\"\",E20<D20),ColTime(T.!$J$7,T.!$L$7,D20,AF17),IF(AND(WEEKDAY(A20,2)=6,E20<D20),ColTime(T.!$J$7,T.!$L$7,$AF$1,E20),IF(AND(E20<D20,OR(C20<>\"\",WEEKDAY(A20,2)=7)),ColTime(T.!J23,T.!L23,'Januar (2)'!D20,'Januar (2)'!AF17),IF(AND(E20<>\"\",OR(C20<>\"\",WEEKDAY(A20,2)=7)),ColTime(T.!$J$7,T.!$L$7,D20,E20),\"\"))))","v":""},"",null,null,{"$f":"CHOOSE(WEEKDAY(A20,2),norm!C$1,norm!C$2,norm!C$3,norm!C$4,norm!C$5,norm!C$6,norm!C$7)","v":"00:00:00"},null,null,"","","","","",""]
["2019-02-18","Ma","",null,null,null,"","00:00:00","",{"$f":"IF(AND(C21=\"\",WEEKDAY(A21,2)<6),ColTime(T.!$J$4,T.!$L$4,D21,E21),\"\")","v":"00:00:00"},null,{"$f":"IF(AND(OR(WEEKDAY(A21,2)=7,C21<>\"\"),E21<D21),ColTime($AF$1,$AG$1,'Januar (2)'!$AF$1,E21),IF(WEEKDAY(A21,2)<6,ColTime(T.!$J$5,T.!$L$5,D21,E21),\"\"))","v":"00:00:00"},null,"",{"$f":"IF(AND(OR(WEEKDAY(A21,2)<6,WEEKDAY(A21,2)=6),C21<>\"\",E21<D21),ColTime(T.!$J$7,T.!$L$7,D21,AF18),IF(AND(WEEKDAY(A21,2)=6,E21<D21),ColTime(T.!$J$7,T.!$L$7,$AF$1,E21),IF(AND(E21<D21,OR(C21<>\"\",WEEKDAY(A21,2)=7)),ColTime(T.!J24,T.!L24,'Januar (2)'!D21,'Januar (2)'!AF18),IF(AND(E21<>\"\",OR(C21<>\"\",WEEKDAY(A21,2)=7)),ColTime(T.!$J$7,T.!$L$7,D21,E21),\"\"))))","v":""},"",null,null,{"$f":"CHOOSE(WEEKDAY(A21,2),norm!C$1,norm!C$2,norm!C$3,norm!C$4,norm!C$5,norm!C$6,norm!C$7)","v":"07:30:00"},null,null,"","","","","",""]
["2019-02-19","Ti","",null,null,null,"","00:00:00","",{"$f":"IF(AND(C22=\"\",WEEKDAY(A22,2)<6),ColTime(T.!$J$4,T.!$L$4,D22,E22),\"\")","v":"00:00:00"},null,{"$f":"IF(AND(OR(WEEKDAY(A22,2)=7,C22<>\"\"),E22<D22),ColTime($AF$1,$AG$1,'Januar (2)'!$AF$1,E22),IF(WEEKDAY(A22,2)<6,ColTime(T.!$J$5,T.!$L$5,D22,E22),\"\"))","v":"00:00:00"},null,"",{"$f":"IF(AND(OR(WEEKDAY(A22,2)<6,WEEKDAY(A22,2)=6),C22<>\"\",E22<D22),ColTime(T.!$J$7,T.!$L$7,D22,AF19),IF(AND(WEEKDAY(A22,2)=6,E22<D22),ColTime(T.!$J$7,T.!$L$7,$AF$1,E22),IF(AND(E22<D22,OR(C22<>\"\",WEEKDAY(A22,2)=7)),ColTime(T.!J25,T.!L25,'Januar (2)'!D22,'Januar (2)'!AF19),IF(AND(E22<>\"\",OR(C22<>\"\",WEEKDAY(A22,2)=7)),ColTime(T.!$J$7,T.!$L$7,D22,E22),\"\"))))","v":""},"",null,null,{"$f":"CHOOSE(WEEKDAY(A22,2),norm!C$1,norm!C$2,norm!C$3,norm!C$4,norm!C$5,norm!C$6,norm!C$7)","v":"07:30:00"},null,null,"","","","","",""]
["2019-02-20","On","","16:00:00","20:00:00",null,0.16666666666666674,"00:00:00","",{"$f":"IF(AND(C23=\"\",WEEKDAY(A23,2)<6),ColTime(T.!$J$4,T.!$L$4,D23,E23),\"\")","v":"02:00:00"},null,{"$f":"IF(AND(OR(WEEKDAY(A23,2)=7,C23<>\"\"),E23<D23),ColTime($AF$1,$AG$1,'Januar (2)'!$AF$1,E23),IF(WEEKDAY(A23,2)<6,ColTime(T.!$J$5,T.!$L$5,D23,E23),\"\"))","v":"00:00:00"},null,"",{"$f":"IF(AND(OR(WEEKDAY(A23,2)<6,WEEKDAY(A23,2)=6),C23<>\"\",E23<D23),ColTime(T.!$J$7,T.!$L$7,D23,AF20),IF(AND(WEEKDAY(A23,2)=6,E23<D23),ColTime(T.!$J$7,T.!$L$7,$AF$1,E23),IF(AND(E23<D23,OR(C23<>\"\",WEEKDAY(A23,2)=7)),ColTime(T.!J26,T.!L26,'Januar (2)'!D23,'Januar (2)'!AF20),IF(AND(E23<>\"\",OR(C23<>\"\",WEEKDAY(A23,2)=7)),ColTime(T.!$J$7,T.!$L$7,D23,E23),\"\"))))","v":""},"",null,null,{"$f":"CHOOSE(WEEKDAY(A23,2),norm!C$1,norm!C$2,norm!C$3,norm!C$4,norm!C$5,norm!C$6,norm!C$7)","v":"07:30:00"},null,null,16,0,"16:00:00",20,0,"20:00:00"]
["2019-02-21","To","",null,null,null,"","00:00:00","",{"$f":"IF(AND(C24=\"\",WEEKDAY(A24,2)<6),ColTime(T.!$J$4,T.!$L$4,D24,E24),\"\")","v":"00:00:00"},null,{"$f":"IF(AND(OR(WEEKDAY(A24,2)=7,C24<>\"\"),E24<D24),ColTime($AF$1,$AG$1,'Januar (2)'!$AF$1,E24),IF(WEEKDAY(A24,2)<6,ColTime(T.!$J$5,T.!$L$5,D24,E24),\"\"))","v":"00:00:00"},null,"",{"$f":"IF(AND(OR(WEEKDAY(A24,2)<6,WEEKDAY(A24,2)=6),C24<>\"\",E24<D24),ColTime(T.!$J$7,T.!$L$7,D24,AF21),IF(AND(WEEKDAY(A24,2)=6,E24<D24),ColTime(T.!$J$7,T.!$L$7,$AF$1,E24),IF(AND(E24<D24,OR(C24<>\"\",WEEKDAY(A24,2)=7)),ColTime(T.!J27,T.!L27,'Januar (2)'!D24,'Januar (2)'!AF21),IF(AND(E24<>\"\",OR(C24<>\"\",WEEKDAY(A24,2)=7)),ColTime(T.!$J$7,T.!$L$7,D24,E24),\"\"))))","v":""},"",null,null,{"$f":"CHOOSE(WEEKDAY(A24,2),norm!C$1,norm!C$2,norm!C$3,norm!C$4,norm!C$5,norm!C$6,norm!C$7)","v":"07:30:00"},null,null,"","","","","",""]
[{"$f":"A24+1","v":"2019-02-22"},{"$f":"PROPER(TEXT(A25,\"ddd\"))","v":"Fr"},{"$f":"HelligdagsNavn(A25,0,0)","v":""},null,null,null,"","00:00:00","",{"$f":"IF(AND(C25=\"\",WEEKDAY(A25,2)<6),ColTime(T.!$J$4,T.!$L$4,D25,E25),\"\")","v":"00:00:00"},null,{"$f":"IF(AND(OR(WEEKDAY(A25,2)=7,C25<>\"\"),E25<D25),ColTime($AF$1,$AG$1,'Januar (2)'!$AF$1,E25),IF(WEEKDAY(A25,2)<6,ColTime(T.!$J$5,T.!$L$5,D25,E25),\"\"))","v":"00:00:00"},null,"",{"$f":"IF(AND(OR(WEEKDAY(A25,2)<6,WEEKDAY(A25,2)=6),C25<>\"\",E25<D25),ColTime(T.!$J$7,T.!$L$7,D25,AF22),IF(AND(WEEKDAY(A25,2)=6,E25<D25),ColTime(T.!$J$7,T.!$L$7,$AF$1,E25),IF(AND(E25<D25,OR(C25<>\"\",WEEKDAY(A25,2)=7)),ColTime(T.!J28,T.!L28,'Januar (2)'!D25,'Januar (2)'!AF22),IF(AND(E25<>\"\",OR(C25<>\"\",WEEKDAY(A25,2)=7)),ColTime(T.!$J$7,T.!$L$7,D25,E25),\"\"))))","v":""},"",null,null,{"$f":"CHOOSE(WEEKDAY(A25,2),norm!C$1,norm!C$2,norm!C$3,norm!C$4,norm!C$5,norm!C$6,norm!C$7)","v":"07:00:00"},null,null,"","","","","",""]
[{"$f":"A25+1","v":"2019-02-23"},{"$f":"PROPER(TEXT(A26,\"ddd\"))","v":"Lø"},{"$f":"HelligdagsNavn(A26,0,0)","v":""},null,null,null,"","00:00:00","",{"$f":"IF(AND(C26=\"\",WEEKDAY(A26,2)<6),ColTime(T.!$J$4,T.!$L$4,D26,E26),\"\")","v":""},null,{"$f":"IF(AND(OR(WEEKDAY(A26,2)=7,C26<>\"\"),E26<D26),ColTime($AF$1,$AG$1,'Januar (2)'!$AF$1,E26),IF(WEEKDAY(A26,2)<6,ColTime(T.!$J$5,T.!$L$5,D26,E26),\"\"))","v":""},null,"00:00:00",{"$f":"IF(AND(OR(WEEKDAY(A26,2)<6,WEEKDAY(A26,2)=6),C26<>\"\",E26<D26),ColTime(T.!$J$7,T.!$L$7,D26,AF23),IF(AND(WEEKDAY(A26,2)=6,E26<D26),ColTime(T.!$J$7,T.!$L$7,$AF$1,E26),IF(AND(E26<D26,OR(C26<>\"\",WEEKDAY(A26,2)=7)),ColTime(T.!J29,T.!L29,'Januar (2)'!D26,'Januar (2)'!AF23),IF(AND(E26<>\"\",OR(C26<>\"\",WEEKDAY(A26,2)=7)),ColTime(T.!$J$7,T.!$L$7,D26,E26),\"\"))))","v":""},"",null,null,{"$f":"CHOOSE(WEEKDAY(A26,2),norm!C$1,norm!C$2,norm!C$3,norm!C$4,norm!C$5,norm!C$6,norm!C$7)","v":"00:00:00"},null,null,"","","","","",""]
[{"$f":"A26+1","v":"2019-02-24"},{"$f":"PROPER(TEXT(A27,\"ddd\"))","v":"Sø"},"",null,null,null,"","00:00:00","",{"$f":"IF(AND(C27=\"\",WEEKDAY(A27,2)<6),ColTime(T.!$J$4,T.!$L$4,D27,E27),\"\")","v":""},null,{"$f":"IF(AND(OR(WEEKDAY(A27,2)=7,C27<>\"\"),E27<D27),ColTime($AF$1,$AG$1,'Januar (2)'!$AF$1,E27),IF(WEEKDAY(A27,2)<6,ColTime(T.!$J$5,T.!$L$5,D27,E27),\"\"))","v":""},null,"",{"$f":"IF(AND(OR(WEEKDAY(A27,2)<6,WEEKDAY(A27,2)=6),C27<>\"\",E27<D27),ColTime(T.!$J$7,T.!$L$7,D27,AF24),IF(AND(WEEKDAY(A27,2)=6,E27<D27),ColTime(T.!$J$7,T.!$L$7,$AF$1,E27),IF(AND(E27<D27,OR(C27<>\"\",WEEKDAY(A27,2)=7)),ColTime(T.!J30,T.!L30,'Januar (2)'!D27,'Januar (2)'!AF24),IF(AND(E27<>\"\",OR(C27<>\"\",WEEKDAY(A27,2)=7)),ColTime(T.!$J$7,T.!$L$7,D27,E27),\"\"))))","v":""},"",null,null,{"$f":"CHOOSE(WEEKDAY(A27,2),norm!C$1,norm!C$2,norm!C$3,norm!C$4,norm!C$5,norm!C$6,norm!C$7)","v":"00:00:00"},null,null,"","","","","",""]
["2019-02-25","Ma","",null,null,null,"","00:00:00","",{"$f":"IF(AND(C28=\"\",WEEKDAY(A28,2)<6),ColTime(T.!$J$4,T.!$L$4,D28,E28),\"\")","v":"00:00:00"},null,{"$f":"IF(AND(OR(WEEKDAY(A28,2)=7,C28<>\"\"),E28<D28),ColTime($AF$1,$AG$1,'Januar (2)'!$AF$1,E28),IF(WEEKDAY(A28,2)<6,ColTime(T.!$J$5,T.!$L$5,D28,E28),\"\"))","v":"00:00:00"},null,"",{"$f":"IF(AND(OR(WEEKDAY(A28,2)<6,WEEKDAY(A28,2)=6),C28<>\"\",E28<D28),ColTime(T.!$J$7,T.!$L$7,D28,AF25),IF(AND(WEEKDAY(A28,2)=6,E28<D28),ColTime(T.!$J$7,T.!$L$7,$AF$1,E28),IF(AND(E28<D28,OR(C28<>\"\",WEEKDAY(A28,2)=7)),ColTime(T.!J31,T.!L31,'Januar (2)'!D28,'Januar (2)'!AF25),IF(AND(E28<>\"\",OR(C28<>\"\",WEEKDAY(A28,2)=7)),ColTime(T.!$J$7,T.!$L$7,D28,E28),\"\"))))","v":""},"",null,null,{"$f":"CHOOSE(WEEKDAY(A28,2),norm!C$1,norm!C$2,norm!C$3,norm!C$4,norm!C$5,norm!C$6,norm!C$7)","v":"07:30:00"},null,null,"","","","","",""]
["2019-02-26","Ti","",null,null,null,"","00:00:00","",{"$f":"IF(AND(C29=\"\",WEEKDAY(A29,2)<6),ColTime(T.!$J$4,T.!$L$4,D29,E29),\"\")","v":"00:00:00"},null,{"$f":"IF(AND(OR(WEEKDAY(A29,2)=7,C29<>\"\"),E29<D29),ColTime($AF$1,$AG$1,'Januar (2)'!$AF$1,E29),IF(WEEKDAY(A29,2)<6,ColTime(T.!$J$5,T.!$L$5,D29,E29),\"\"))","v":"00:00:00"},null,"",{"$f":"IF(AND(OR(WEEKDAY(A29,2)<6,WEEKDAY(A29,2)=6),C29<>\"\",E29<D29),ColTime(T.!$J$7,T.!$L$7,D29,AF26),IF(AND(WEEKDAY(A29,2)=6,E29<D29),ColTime(T.!$J$7,T.!$L$7,$AF$1,E29),IF(AND(E29<D29,OR(C29<>\"\",WEEKDAY(A29,2)=7)),ColTime(T.!J32,T.!L32,'Januar (2)'!D29,'Januar (2)'!AF26),IF(AND(E29<>\"\",OR(C29<>\"\",WEEKDAY(A29,2)=7)),ColTime(T.!$J$7,T.!$L$7,D29,E29),\"\"))))","v":""},"",null,null,{"$f":"CHOOSE(WEEKDAY(A29,2),norm!C$1,norm!C$2,norm!C$3,norm!C$4,norm!C$5,norm!C$6,norm!C$7)","v":"07:30:00"}]
["2019-02-27","On","",null,null,null,"","00:00:00","",{"$f":"IF(AND(C30=\"\",WEEKDAY(A30,2)<6),ColTime(T.!$J$4,T.!$L$4,D30,E30),\"\")","v":"00:00:00"},null,{"$f":"IF(AND(OR(WEEKDAY(A30,2)=7,C30<>\"\"),E30<D30),ColTime($AF$1,$AG$1,'Januar (2)'!$AF$1,E30),IF(WEEKDAY(A30,2)<6,ColTime(T.!$J$5,T.!$L$5,D30,E30),\"\"))","v":"00:00:00"},null,"",{"$f":"IF(AND(OR(WEEKDAY(A30,2)<6,WEEKDAY(A30,2)=6),C30<>\"\",E30<D30),ColTime(T.!$J$7,T.!$L$7,D30,AF27),IF(AND(WEEKDAY(A30,2)=6,E30<D30),ColTime(T.!$J$7,T.!$L$7,$AF$1,E30),IF(AND(E30<D30,OR(C30<>\"\",WEEKDAY(A30,2)=7)),ColTime(T.!J33,T.!L33,'Januar (2)'!D30,'Januar (2)'!AF27),IF(AND(E30<>\"\",OR(C30<>\"\",WEEKDAY(A30,2)=7)),ColTime(T.!$J$7,T.!$L$7,D30,E30),\"\"))))","v":""},"",null,null,{"$f":"CHOOSE(WEEKDAY(A30,2),norm!C$1,norm!C$2,norm!C$3,norm!C$4,norm!C$5,norm!C$6,norm!C$7)","v":"07:30:00"}]
["2019-02-28","To","",null,null,null,"","00:00:00","",{"$f":"IF(AND(C31=\"\",WEEKDAY(A31,2)<6),ColTime(T.!$J$4,T.!$L$4,D31,E31),\"\")","v":"00:00:00"},null,{"$f":"IF(AND(OR(WEEKDAY(A31,2)=7,C31<>\"\"),E31<D31),ColTime($AF$1,$AG$1,'Januar (2)'!$AF$1,E31),IF(WEEKDAY(A31,2)<6,ColTime(T.!$J$5,T.!$L$5,D31,E31),\"\"))","v":"00:00:00"},null,"",{"$f":"IF(AND(OR(WEEKDAY(A31,2)<6,WEEKDAY(A31,2)=6),C31<>\"\",E31<D31),ColTime(T.!$J$7,T.!$L$7,D31,AF28),IF(AND(WEEKDAY(A31,2)=6,E31<D31),ColTime(T.!$J$7,T.!$L$7,$AF$1,E31),IF(AND(E31<D31,OR(C31<>\"\",WEEKDAY(A31,2)=7)),ColTime(T.!J34,T.!L34,'Januar (2)'!D31,'Januar (2)'!AF28),IF(AND(E31<>\"\",OR(C31<>\"\",WEEKDAY(A31,2)=7)),ColTime(T.!$J$7,T.!$L$7,D31,E31),\"\"))))","v":""},"",null,null,{"$f":"CHOOSE(WEEKDAY(A31,2),norm!C$1,norm!C$2,norm!C$3,norm!C$4,norm!C$5,norm!C$6,norm!C$7)","v":"07:30:00"}]
[{"$f":"IFERROR(IF(MONTH(A31+1)>MONTH(A31),\"\",A31+1),\"\")","v":""},"",{"$f":"IF(A32=\"\",\"\",HelligdagsNavn(A32,0,0))","v":""},null,null,null,"","00:00:00","",{"$f":"IFERROR(IF(AND(C32=\"\",WEEKDAY(A32,2)<6),ColTime(T.!$J$4,T.!$L$4,D32,E32),\"\"),\"\")","v":""},null,{"$f":"IFERROR(IF(AND(OR(WEEKDAY(A32,2)=7,C32<>\"\"),E32<D32),ColTime($AF$1,$AG$1,'Januar (2)'!$AF$1,E32),IF(WEEKDAY(A32,2)<6,ColTime(T.!$J$5,T.!$L$5,D32,E32),\"\")),\"\")","v":""},null,{"$f":"IFERROR(IF(WEEKDAY(A32,2)=6,ColTime(TIME(15,0,0),TIME(24,0,0),D32,E32),\"\"),\"\")","v":""},{"$f":"IFERROR(IF(AND(OR(WEEKDAY(A32,2)<6,WEEKDAY(A32,2)=6),C32<>\"\",E32<D32),ColTime(T.!$J$7,T.!$L$7,D32,AF29),IF(AND(WEEKDAY(A32,2)=6,E32<D32),ColTime(T.!$J$7,T.!$L$7,$AF$1,E32),IF(AND(E32<D32,OR(C32<>\"\",WEEKDAY(A32,2)=7)),ColTime(T.!J35,T.!L35,'Januar (2)'!D32,'Januar (2)'!AF29),IF(AND(E32<>\"\",OR(C32<>\"\",WEEKDAY(A32,2)=7)),ColTime(T.!$J$7,T.!$L$7,D32,E32),\"\")))),\"\")","v":""},"",null,null,{"$f":"IFERROR(CHOOSE(WEEKDAY(A32,2),norm!C$1,norm!C$2,norm!C$3,norm!C$4,norm!C$5,norm!C$6,norm!C$7),\"\")","v":""}]
[{"$f":"IFERROR(IF(MONTH(A32+1)>MONTH(A32),\"\",A32+1),\"\")","v":""},"","",null,null,null,"","00:00:00","",{"$f":"IFERROR(IF(AND(C33=\"\",WEEKDAY(A33,2)<6),ColTime(T.!$J$4,T.!$L$4,D33,E33),\"\"),\"\")","v":""},null,{"$f":"IFERROR(IF(AND(OR(WEEKDAY(A33,2)=7,C33<>\"\"),E33<D33),ColTime($AF$1,$AG$1,'Januar (2)'!$AF$1,E33),IF(WEEKDAY(A33,2)<6,ColTime(T.!$J$5,T.!$L$5,D33,E33),\"\")),\"\")","v":""},null,{"$f":"IFERROR(IF(WEEKDAY(A33,2)=6,ColTime(TIME(15,0,0),TIME(24,0,0),D33,E33),\"\"),\"\")","v":""},{"$f":"IFERROR(IF(AND(OR(WEEKDAY(A33,2)<6,WEEKDAY(A33,2)=6),C33<>\"\",E33<D33),ColTime(T.!$J$7,T.!$L$7,D33,AF30),IF(AND(WEEKDAY(A33,2)=6,E33<D33),ColTime(T.!$J$7,T.!$L$7,$AF$1,E33),IF(AND(E33<D33,OR(C33<>\"\",WEEKDAY(A33,2)=7)),ColTime(T.!J36,T.!L36,'Januar (2)'!D33,'Januar (2)'!AF30),IF(AND(E33<>\"\",OR(C33<>\"\",WEEKDAY(A33,2)=7)),ColTime(T.!$J$7,T.!$L$7,D33,E33),\"\")))),\"\")","v":""},"",null,null,{"$f":"IFERROR(CHOOSE(WEEKDAY(A33,2),norm!C$1,norm!C$2,norm!C$3,norm!C$4,norm!C$5,norm!C$6,norm!C$7),\"\")","v":""}]
["",{"$f":"IFERROR(PROPER(TEXT(A34,\"ddd\")),\"\")","v":""},{"$f":"IF(A34=\"\",\"\",HelligdagsNavn(A34,0,0))","v":""},null,null,null,"","00:00:00","",{"$f":"IFERROR(IF(AND(C34=\"\",WEEKDAY(A34,2)<6),ColTime(T.!$J$4,T.!$L$4,D34,E34),\"\"),\"\")","v":""},null,{"$f":"IFERROR(IF(AND(OR(WEEKDAY(A34,2)=7,C34<>\"\"),E34<D34),ColTime($AF$1,$AG$1,'Januar (2)'!$AF$1,E34),IF(WEEKDAY(A34,2)<6,ColTime(T.!$J$5,T.!$L$5,D34,E34),\"\")),\"\")","v":""},null,{"$f":"IFERROR(IF(WEEKDAY(A34,2)=6,ColTime(TIME(15,0,0),TIME(24,0,0),D34,E34),\"\"),\"\")","v":""},{"$f":"IFERROR(IF(AND(OR(WEEKDAY(A34,2)<6,WEEKDAY(A34,2)=6),C34<>\"\",E34<D34),ColTime(T.!$J$7,T.!$L$7,D34,AF31),IF(AND(WEEKDAY(A34,2)=6,E34<D34),ColTime(T.!$J$7,T.!$L$7,$AF$1,E34),IF(AND(E34<D34,OR(C34<>\"\",WEEKDAY(A34,2)=7)),ColTime(T.!J37,T.!L37,'Januar (2)'!D34,'Januar (2)'!AF31),IF(AND(E34<>\"\",OR(C34<>\"\",WEEKDAY(A34,2)=7)),ColTime(T.!$J$7,T.!$L$7,D34,E34),\"\")))),\"\")","v":""},"",null,null,{"$f":"IFERROR(CHOOSE(WEEKDAY(A34,2),norm!C$1,norm!C$2,norm!C$3,norm!C$4,norm!C$5,norm!C$6,norm!C$7),\"\")","v":""},null,null,{"$f":"IF(D34=\"\",\"\",HOUR(D34))","v":""},{"$f":"IF(D34=\"\",\"\",MINUTE(D34))","v":""},{"$f":"IF(D34=\"\",\"\",TIME(HOUR(D34),MINUTE(D34),0))","v":""},{"$f":"IF(E34=\"\",\"\",HOUR(E34))","v":""},{"$f":"IF(E34=\"\",\"\",MINUTE(E34))","v":""},{"$f":"IF(E34=\"\",\"\",TIME(HOUR(E34),MINUTE(E34),0))","v":""}]
["Total timer",null,null,null,null,null,{"$f":"IF(SUM(G9:G34)<>\"0\",SUM(G4:G34),\"\")","v":5.8333333333333339},{"$f":"IF(SUM(H9:H34)<>\"0\",SUM(H4:H34),\"\")","v":0.99999999999999989},{"$f":"IF(SUM(I9:I34)<>\"0\",SUM(I4:I34),\"\")","v":1.6041666666666667},{"$f":"IF(SUM(J9:J34)<>\"0\",SUM(J4:J34),\"\")","v":0.75000000000000067},null,{"$f":"IF(SUM(L9:L34)<>\"0\",SUM(L4:L34),\"\")","v":3.1249999999999991},null,{"$f":"IF(SUM(N9:N34)<>\"0\",SUM(N4:N34),\"\")","v":0.33333333333333337},{"$f":"IF(SUM(O9:O34)<>\"0\",SUM(O4:O34),\"\")","v":0.75000000000000011},{"$f":"SUM(P4:P34)","v":2.104166666666667},{"$f":"SUM(Q4:Q34)","v":0}]
["Timer 1/100",null,null,null,null,null,{"$f":"IF(G35<>\"\",ROUND(G35*24,2),\"\")","v":140},{"$f":"IF(H35<>\"\",ROUND(H35*24,2),\"\")","v":24},38.5,{"$f":"IF(J35<>\"\",ROUND(J35*24,2),\"\")","v":18},null,{"$f":"IF(L35<>\"\",ROUND(L35*24,2),\"\")","v":75},null,{"$f":"IF(N35<>\"\",ROUND(N35*24,2),\"\")","v":8},18,50.5,0]
["Satser",null,null,null,null,null,{"$f":"Satser!B7","v":107.35},{"$f":"Satser!B9","v":36.35},{"$f":"Satser!B12","v":58.1},{"$f":"Satser!B17","v":13.91},null,{"$f":"Satser!B18","v":23.19},null,{"$f":"Satser!B19","v":24.89},{"$f":"Satser!B20","v":27.63}]
[null,null,null,null,null,null,{"$f":"IF(G35<>\"\",G36*G37,\"\")","v":15029},{"$f":"IF(H35<>\"\",H36*H37,\"\")","v":872.40000000000009},2236.85,{"$f":"IF(J35<>\"\",J36*J37,\"\")","v":250.38},null,{"$f":"IF(L35<>\"\",L36*L36,\"\")","v":5625},null,{"$f":"IF(N35<>\"\",N36*N37,\"\")","v":199.12},497.34]
[]
["Lønart"]
[3025,null,null,null,null,null,{"$f":"G35","v":5.8333333333333339}]
[3425,null,null,null,null,null,{"$f":"H35","v":0.99999999999999989}]
[3428,null,null,null,null,null,{"$f":"I35","v":1.6041666666666667}]
["Timer",null,null,null,null,null,{"$f":"SUM(G41:G43)","v":8.4375},{"$f":"IF(G44<>\"\",ROUND(G44*24,2),\"\")","v":202.5}]
[null,null,null,null,null,null,null,{"$f":"G37*H44","v":21738.375}]

{"sheet":"Januar (3)","index":4,"n_rows":45,"n_cols":35,"rows_kept":45,"cut":false,"hidden":true,"merged":[[39,0,39,2],[40,0,40,2],[41,0,41,2],[42,0,42,2],[43,0,43,5],[35,9,35,10],[35,11,35,12],[36,9,36,10],[36,11,36,12],[37,9,37,10],[37,11,37,12],[32,9,32,10],[32,11,32,12],[33,9,33,10],[33,11,33,12],[34,9,34,10],[34,11,34,12],[29,9,29,10],[29,11,29,12],[30,9,30,10],[30,11,30,12],[31,9,31,10],[31,11,31,12],[26,9,26,10],[26,11,26,12],[27,9,27,10],[27,11,27,12],[28,9,28,10],[28,11,28,12],[23,9,23,10],[23,11,23,12],[24,9,24,10],[24,11,24,12],[25,9,25,10],[25,11,25,12],[20,9,20,10],[20,11,20,12],[21,9,21,10],[21,11,21,12],[22,9,22,10],[22,11,22,12],[17,9,17,10],[17,11,17,12],[18,9,18,10],[18,11,18,12],[19,9,19,10],[19,11,19,12],[14,9,14,10],[14,11,14,12],[15,9,15,10],[15,11,15,12],[16,9,16,10],[16,11,16,12],[11,9,11,10],[11,11,11,12],[12,9,12,10],[12,11,12,12],[13,9,13,10],[13,11,13,12],[8,9,8,10],[8,11,8,12],[9,9,9,10],[9,11,9,12],[10,9,10,10],[10,11,10,12],[5,9,5,10],[5,11,5,12],[6,9,6,10],[6,11,6,12],[7,9,7,10],[7,11,7,12],[4,9,4,10],[4,11,4,12],[0,1,0,7],[0,10,0,11],[0,13,0,14],[1,1,1,2],[1,9,1,10],[1,11,1,12],[2,1,2,2],[2,9,2,10],[2,11,2,12],[3,9,3,10],[3,11,3,12]]}
["Løn",{"$f":"PROPER(TEXT(A4,\"dd mmmm åååå\")) & PROPER(TEXT(N1,\"  -  dd mmmm åååå\"))","v":"01 Marts 2019  -  31 Marts 2019"},null,null,null,null,null,null,"Uge :",{"$f":"IF(A4=\"\",\"\",TRUNC((A4-WEEKDAY(A4,2)-DATE(YEAR(A4+4-WEEKDAY(A4,2)),1,-10))/7))","v":9},"-",null,{"$f":"IF(A25=\"\",\"\",TRUNC((A25-WEEKDAY(A25,2)-DATE(YEAR(A25+4-WEEKDAY(A25,2)),1,-10))/7))","v":12},{"$f":"EOMONTH(A4,0)","v":"2019-03-31"},null,3,null,null,null,null,null,"Time beregning:",null,null,null,null,null,null,null,null,null,1,"06:00:00","18:00:00","03:00:00"]
["Lønart",null,null,null,null,null,null,null,null,null,null,null,null,null,null,null,null,null,null,null,null,"Betalt pause ved vagt over 5 timer",null,null,null,"00:25:00","minutter","00:00:00","06:00:00","17:00:00","14:00:00"]
["Dato","Dag",null,"Start","Slut","Pause","Arb. Tid","Overtid           1-3 time","Overtid            4 - time","Forskudt tid Man-fredag\n18-23",null,"Natarbejde 23-06",null,"Lørdag tillæg 14 - 24","Søndag tillæg 00 - 24","Optjent afspadsering","Afholdt afspadsering","Syge Timer","norm"]
[{"$f":"DATE(T.!$B$2,$P$1,1)","v":"2019-03-01"},{"$f":"PROPER(TEXT(A4,\"ddd\"))","v":"Fr"},{"$f":"HelligdagsNavn(A4,0,0)","v":""},"18:00:00","07:00:00",null,{"$f":"IF(D4=\"\",\"\",(E4-D4)+(D4>E4)-F4)","v":0.54166666666666674},{"$f":"IF(G4=\"\",0,IF(WEEKDAY(A4,2)=7,0,IF(G4>S4,MIN(G4-S4,$AI$1),0)))","v":"03:00:00"},{"$f":"IF(G4=\"\",\"\",IF(G4>S4+H4,G4-(S4+H4),\"\"))","v":"03:00:00"},{"$f":"IF(AND(C4=\"\",WEEKDAY(A4,2)<6),ColTime(T.!$J$4,T.!$L$4,D4,E4),\"\")","v":"05:00:00"},null,{"$f":"IF(AND(OR(WEEKDAY(A4,2)=7,C4<>\"\"),E4<D4),ColTime($AF$1,$AG$1,'Januar (3)'!$AF$1,E4),IF(WEEKDAY(A4,2)<6,ColTime(T.!$J$5,T.!$L$5,D4,E4),\"\"))","v":"07:00:00"},null,{"$f":"IF(WEEKDAY(A4,2)=6,ColTime(TIME(14,0,0),TIME(24,0,0),D4,E4),\"\")","v":""},{"$f":"IF(AND(OR(WEEKDAY(A4,2)<6,WEEKDAY(A4,2)=6),C4<>\"\",E4<D4),ColTime(T.!$J$7,T.!$L$7,D4,AF1),IF(AND(WEEKDAY(A4,2)=6,E4<D4),ColTime(T.!$J$7,T.!$L$7,$AF$1,E4),IF(AND(E4<D4,OR(C4<>\"\",WEEKDAY(A4,2)=7)),ColTime(T.!J7,T.!L7,'Januar (3)'!D4,'Januar (3)'!AF1),IF(AND(E4<>\"\",OR(C4<>\"\",WEEKDAY(A4,2)=7)),ColTime(T.!$J$7,T.!$L$7,D4,E4),\"\"))))","v":""},{"$f":"IFERROR(H4+I4,\"\")","v":"06:00:00"},null,null,{"$f":"CHOOSE(WEEKDAY(A4,2),norm!C$1,norm!C$2,norm!C$3,norm!C$4,norm!C$5,norm!C$6,norm!C$7)","v":"07:00:00"},null,null,{"$f":"IF(D4=\"\",\"\",HOUR(D4))","v":18},{"$f":"IF(D4=\"\",\"\",MINUTE(D4))","v":0},{"$f":"IF(D4=\"\",\"\",TIME(HOUR(D4),MINUTE(D4),0))","v":"18:00:00"},{"$f":"IF(E4=\"\",\"\",HOUR(E4))","v":7},{"$f":"IF(E4=\"\",\"\",MINUTE(E4))","v":0},"02:00:00","09:30:00","11:30:00",null,null,null,{"$f":"IFERROR(MIN(G4-S4,3),22)","v":0.25000000000000006}]
[{"$f":"A4+1","v":"2019-03-02"},{"$f":"PROPER(TEXT(A5,\"ddd\"))","v":"Lø"},{"$f":"HelligdagsNavn(A5,0,0)","v":""},"18:00:00","07:00:00",null,{"$f":"IF(D5=\"\",\"\",(E5-D5)+(D5>E5)-F5)","v":0.54166666666666674},{"$f":"IF(G5=\"\",0,IF(WEEKDAY(A5,2)=7,0,IF(G5>S5,MIN(G5-S5,$AI$1),0)))","v":"03:00:00"},{"$f":"IF(G5=\"\",\"\",IF(G5>S5+H5,G5-(S5+H5),\"\"))","v":"10:00:00"},{"$f":"IF(AND(C5=\"\",WEEKDAY(A5,2)<6),ColTime(T.!$J$4,T.!$L$4,D5,E5),\"\")","v":""},null,{"$f":"IF(AND(OR(WEEKDAY(A5,2)=7,C5<>\"\"),E5<D5),ColTime($AF$1,$AG$1,'Januar (3)'!$AF$1,E5),IF(WEEKDAY(A5,2)<6,ColTime(T.!$J$5,T.!$L$5,D5,E5),\"\"))","v":""},null,"06:00:00",{"$f":"IF(AND(OR(WEEKDAY(A5,2)<6,WEEKDAY(A5,2)=6),C5<>\"\",E5<D5),ColTime(T.!$J$7,T.!$L$7,D5,AF2),IF(AND(WEEKDAY(A5,2)=6,E5<D5),ColTime(T.!$J$7,T.!$L$7,$AF$1,E5),IF(AND(E5<D5,OR(C5<>\"\",WEEKDAY(A5,2)=7)),ColTime(T.!J8,T.!L8,'Januar (3)'!D5,'Januar (3)'!AF2),IF(AND(E5<>\"\",OR(C5<>\"\",WEEKDAY(A5,2)=7)),ColTime(T.!$J$7,T.!$L$7,D5,E5),\"\"))))","v":"07:00:00"},{"$f":"IFERROR(H5+I5,\"\")","v":"13:00:00"},null,null,{"$f":"CHOOSE(WEEKDAY(A5,2),norm!C$1,norm!C$2,norm!C$3,norm!C$4,norm!C$5,norm!C$6,norm!C$7)","v":"00:00:00"},null,null,18,0,"18:00:00",7,0,{"$f":"IF(E5=\"\",\"\",TIME(HOUR(E5),MINUTE(E5),0))","v":"07:00:00"},null,null,null,null,null,null,"Der taste kun i de Gule celler"]
[{"$f":"A5+1","v":"2019-03-03"},{"$f":"PROPER(TEXT(A6,\"ddd\"))","v":"Sø"},"","22:00:00","07:00:00",null,0.375,"00:00:00","09:00:00",{"$f":"IF(AND(C6=\"\",WEEKDAY(A6,2)<6),ColTime(T.!$J$4,T.!$L$4,D6,E6),\"\")","v":""},null,{"$f":"IF(AND(OR(WEEKDAY(A6,2)=7,C6<>\"\"),E6<D6),ColTime($AF$1,$AG$1,'Januar (3)'!$AF$1,E6),IF(WEEKDAY(A6,2)<6,ColTime(T.!$J$5,T.!$L$5,D6,E6),\"\"))","v":"06:00:00"},null,"",{"$f":"IF(AND(OR(WEEKDAY(A6,2)<6,WEEKDAY(A6,2)=6),C6<>\"\",E6<D6),ColTime(T.!$J$7,T.!$L$7,D6,AF3),IF(AND(WEEKDAY(A6,2)=6,E6<D6),ColTime(T.!$J$7,T.!$L$7,$AF$1,E6),IF(AND(E6<D6,OR(C6<>\"\",WEEKDAY(A6,2)=7)),ColTime(T.!J9,T.!L9,'Januar (3)'!D6,'Januar (3)'!AF3),IF(AND(E6<>\"\",OR(C6<>\"\",WEEKDAY(A6,2)=7)),ColTime(T.!$J$7,T.!$L$7,D6,E6),\"\"))))","v":"02:00:00"},{"$f":"IFERROR(H6+I6,\"\")","v":"09:00:00"},null,null,{"$f":"CHOOSE(WEEKDAY(A6,2),norm!C$1,norm!C$2,norm!C$3,norm!C$4,norm!C$5,norm!C$6,norm!C$7)","v":"00:00:00"},null,null,22,0,"22:00:00",7,0,"07:00:00"]
["2019-03-04","Ma","","22:00:00","07:00:00",null,0.375,"01:30:00","",{"$f":"IF(AND(C7=\"\",WEEKDAY(A7,2)<6),ColTime(T.!$J$4,T.!$L$4,D7,E7),\"\")","v":"01:00:00"},null,{"$f":"IF(AND(OR(WEEKDAY(A7,2)=7,C7<>\"\"),E7<D7),ColTime($AF$1,$AG$1,'Januar (3)'!$AF$1,E7),IF(WEEKDAY(A7,2)<6,ColTime(T.!$J$5,T.!$L$5,D7,E7),\"\"))","v":"07:00:00"},null,"",{"$f":"IF(AND(OR(WEEKDAY(A7,2)<6,WEEKDAY(A7,2)=6),C7<>\"\",E7<D7),ColTime(T.!$J$7,T.!$L$7,D7,AF4),IF(AND(WEEKDAY(A7,2)=6,E7<D7),ColTime(T.!$J$7,T.!$L$7,$AF$1,E7),IF(AND(E7<D7,OR(C7<>\"\",WEEKDAY(A7,2)=7)),ColTime(T.!J10,T.!L10,'Januar (3)'!D7,'Januar (3)'!AF4),IF(AND(E7<>\"\",OR(C7<>\"\",WEEKDAY(A7,2)=7)),ColTime(T.!$J$7,T.!$L$7,D7,E7),\"\"))))","v":""},{"$f":"IFERROR(H7+I7,\"\")","v":""},null,null,{"$f":"CHOOSE(WEEKDAY(A7,2),norm!C$1,norm!C$2,norm!C$3,norm!C$4,norm!C$5,norm!C$6,norm!C$7)","v":"07:30:00"},null,null,22,0,"22:00:00",7,0,"07:00:00"]
["2019-03-05","Ti","","22:00:00","07:00:00",null,0.375,"01:30:00","",{"$f":"IF(AND(C8=\"\",WEEKDAY(A8,2)<6),ColTime(T.!$J$4,T.!$L$4,D8,E8),\"\")","v":"01:00:00"},null,{"$f":"IF(AND(OR(WEEKDAY(A8,2)=7,C8<>\"\"),E8<D8),ColTime($AF$1,$AG$1,'Januar (3)'!$AF$1,E8),IF(WEEKDAY(A8,2)<6,ColTime(T.!$J$5,T.!$L$5,D8,E8),\"\"))","v":"07:00:00"},null,"",{"$f":"IF(AND(OR(WEEKDAY(A8,2)<6,WEEKDAY(A8,2)=6),C8<>\"\",E8<D8),ColTime(T.!$J$7,T.!$L$7,D8,AF5),IF(AND(WEEKDAY(A8,2)=6,E8<D8),ColTime(T.!$J$7,T.!$L$7,$AF$1,E8),IF(AND(E8<D8,OR(C8<>\"\",WEEKDAY(A8,2)=7)),ColTime(T.!J11,T.!L11,'Januar (3)'!D8,'Januar (3)'!AF5),IF(AND(E8<>\"\",OR(C8<>\"\",WEEKDAY(A8,2)=7)),ColTime(T.!$J$7,T.!$L$7,D8,E8),\"\"))))","v":""},{"$f":"IFERROR(H8+I8,\"\")","v":""},null,null,{"$f":"CHOOSE(WEEKDAY(A8,2),norm!C$1,norm!C$2,norm!C$3,norm!C$4,norm!C$5,norm!C$6,norm!C$7)","v":"07:30:00"},null,null,22,0,"22:00:00",7,0,"07:00:00"]
["2019-03-06","On","","22:00:00","07:00:00",null,0.375,"01:30:00","",{"$f":"IF(AND(C9=\"\",WEEKDAY(A9,2)<6),ColTime(T.!$J$4,T.!$L$4,D9,E9),\"\")","v":"01:00:00"},null,{"$f":"IF(AND(OR(WEEKDAY(A9,2)=7,C9<>\"\"),E9<D9),ColTime($AF$1,$AG$1,'Januar (3)'!$AF$1,E9),IF(WEEKDAY(A9,2)<6,ColTime(T.!$J$5,T.!$L$5,D9,E9),\"\"))","v":"07:00:00"},null,"",{"$f":"IF(AND(OR(WEEKDAY(A9,2)<6,WEEKDAY(A9,2)=6),C9<>\"\",E9<D9),ColTime(T.!$J$7,T.!$L$7,D9,AF6),IF(AND(WEEKDAY(A9,2)=6,E9<D9),ColTime(T.!$J$7,T.!$L$7,$AF$1,E9),IF(AND(E9<D9,OR(C9<>\"\",WEEKDAY(A9,2)=7)),ColTime(T.!J12,T.!L12,'Januar (3)'!D9,'Januar (3)'!AF6),IF(AND(E9<>\"\",OR(C9<>\"\",WEEKDAY(A9,2)=7)),ColTime(T.!$J$7,T.!$L$7,D9,E9),\"\"))))","v":""},{"$f":"IFERROR(H9+I9,\"\")","v":""},null,null,{"$f":"CHOOSE(WEEKDAY(A9,2),norm!C$1,norm!C$2,norm!C$3,norm!C$4,norm!C$5,norm!C$6,norm!C$7)","v":"07:30:00"},null,null,22,0,"22:00:00",7,0,"07:00:00"]
["2019-03-07","To","","22:00:00","07:00:00",null,0.375,"01:30:00","",{"$f":"IF(AND(C10=\"\",WEEKDAY(A10,2)<6),ColTime(T.!$J$4,T.!$L$4,D10,E10),\"\")","v":"01:00:00"},null,{"$f":"IF(AND(OR(WEEKDAY(A10,2)=7,C10<>\"\"),E10<D10),ColTime($AF$1,$AG$1,'Januar (3)'!$AF$1,E10),IF(WEEKDAY(A10,2)<6,ColTime(T.!$J$5,T.!$L$5,D10,E10),\"\"))","v":"07:00:00"},null,{"$f":"IF(WEEKDAY(A10,2)=6,ColTime(TIME(14,0,0),TIME(24,0,0),D10,E10),\"\")","v":""},{"$f":"IF(AND(OR(WEEKDAY(A10,2)<6,WEEKDAY(A10,2)=6),C10<>\"\",E10<D10),ColTime(T.!$J$7,T.!$L$7,D10,AF7),IF(AND(WEEKDAY(A10,2)=6,E10<D10),ColTime(T.!$J$7,T.!$L$7,$AF$1,E10),IF(AND(E10<D10,OR(C10<>\"\",WEEKDAY(A10,2)=7)),ColTime(T.!J13,T.!L13,'Januar (3)'!D10,'Januar (3)'!AF7),IF(AND(E10<>\"\",OR(C10<>\"\",WEEKDAY(A10,2)=7)),ColTime(T.!$J$7,T.!$L$7,D10,E10),\"\"))))","v":""},"",null,null,{"$f":"CHOOSE(WEEKDAY(A10,2),norm!C$1,norm!C$2,norm!C$3,norm!C$4,norm!C$5,norm!C$6,norm!C$7)","v":"07:30:00"},null,null,22,0,"22:00:00",7,0,"07:00:00"]
[{"$f":"A10+1","v":"2019-03-08"},{"$f":"PROPER(TEXT(A11,\"ddd\"))","v":"Fr"},{"$f":"HelligdagsNavn(A11,0,0)","v":""},"22:00:00","07:00:00",null,0.375,"02:00:00","",{"$f":"IF(AND(C11=\"\",WEEKDAY(A11,2)<6),ColTime(T.!$J$4,T.!$L$4,D11,E11),\"\")","v":"01:00:00"},null,{"$f":"IF(AND(OR(WEEKDAY(A11,2)=7,C11<>\"\"),E11<D11),ColTime($AF$1,$AG$1,'Januar (3)'!$AF$1,E11),IF(WEEKDAY(A11,2)<6,ColTime(T.!$J$5,T.!$L$5,D11,E11),\"\"))","v":"07:00:00"},null,{"$f":"IF(WEEKDAY(A11,2)=6,ColTime(TIME(15,0,0),TIME(24,0,0),D11,E11),\"\")","v":""},{"$f":"IF(AND(OR(WEEKDAY(A11,2)<6,WEEKDAY(A11,2)=6),C11<>\"\",E11<D11),ColTime(T.!$J$7,T.!$L$7,D11,AF8),IF(AND(WEEKDAY(A11,2)=6,E11<D11),ColTime(T.!$J$7,T.!$L$7,$AF$1,E11),IF(AND(E11<D11,OR(C11<>\"\",WEEKDAY(A11,2)=7)),ColTime(T.!J14,T.!L14,'Januar (3)'!D11,'Januar (3)'!AF8),IF(AND(E11<>\"\",OR(C11<>\"\",WEEKDAY(A11,2)=7)),ColTime(T.!$J$7,T.!$L$7,D11,E11),\"\"))))","v":""},"",null,null,{"$f":"CHOOSE(WEEKDAY(A11,2),norm!C$1,norm!C$2,norm!C$3,norm!C$4,norm!C$5,norm!C$6,norm!C$7)","v":"07:00:00"},null,null,22,0,"22:00:00",7,0,"07:00:00"]
[{"$f":"A11+1","v":"2019-03-09"},{"$f":"PROPER(TEXT(A12,\"ddd\"))","v":"Lø"},{"$f":"HelligdagsNavn(A12,0,0)","v":""},"22:00:00","07:00:00",null,0.375,"03:00:00","06:00:00",{"$f":"IF(AND(C12=\"\",WEEKDAY(A12,2)<6),ColTime(T.!$J$4,T.!$L$4,D12,E12),\"\")","v":""},null,{"$f":"IF(AND(OR(WEEKDAY(A12,2)=7,C12<>\"\"),E12<D12),ColTime($AF$1,$AG$1,'Januar (3)'!$AF$1,E12),IF(WEEKDAY(A12,2)<6,ColTime(T.!$J$5,T.!$L$5,D12,E12),\"\"))","v":""},null,"02:00:00",{"$f":"IF(AND(OR(WEEKDAY(A12,2)<6,WEEKDAY(A12,2)=6),C12<>\"\",E12<D12),ColTime(T.!$J$7,T.!$L$7,D12,AF9),IF(AND(WEEKDAY(A12,2)=6,E12<D12),ColTime(T.!$J$7,T.!$L$7,$AF$1,E12),IF(AND(E12<D12,OR(C12<>\"\",WEEKDAY(A12,2)=7)),ColTime(T.!J15,T.!L15,'Januar (3)'!D12,'Januar (3)'!AF9),IF(AND(E12<>\"\",OR(C12<>\"\",WEEKDAY(A12,2)=7)),ColTime(T.!$J$7,T.!$L$7,D12,E12),\"\"))))","v":"07:00:00"},"09:00:00",null,null,{"$f":"CHOOSE(WEEKDAY(A12,2),norm!C$1,norm!C$2,norm!C$3,norm!C$4,norm!C$5,norm!C$6,norm!C$7)","v":"00:00:00"},null,null,22,0,"22:00:00",7,0,"07:00:00"]
[{"$f":"A12+1","v":"2019-03-10"},{"$f":"PROPER(TEXT(A13,\"ddd\"))","v":"Sø"},"","22:00:00","07:00:00",null,0.375,"00:00:00","09:00:00",{"$f":"IF(AND(C13=\"\",WEEKDAY(A13,2)<6),ColTime(T.!$J$4,T.!$L$4,D13,E13),\"\")","v":""},null,{"$f":"IF(AND(OR(WEEKDAY(A13,2)=7,C13<>\"\"),E13<D13),ColTime($AF$1,$AG$1,'Januar (3)'!$AF$1,E13),IF(WEEKDAY(A13,2)<6,ColTime(T.!$J$5,T.!$L$5,D13,E13),\"\"))","v":"06:00:00"},null,"",{"$f":"IF(AND(OR(WEEKDAY(A13,2)<6,WEEKDAY(A13,2)=6),C13<>\"\",E13<D13),ColTime(T.!$J$7,T.!$L$7,D13,AF10),IF(AND(WEEKDAY(A13,2)=6,E13<D13),ColTime(T.!$J$7,T.!$L$7,$AF$1,E13),IF(AND(E13<D13,OR(C13<>\"\",WEEKDAY(A13,2)=7)),ColTime(T.!J16,T.!L16,'Januar (3)'!D13,'Januar (3)'!AF10),IF(AND(E13<>\"\",OR(C13<>\"\",WEEKDAY(A13,2)=7)),ColTime(T.!$J$7,T.!$L$7,D13,E13),\"\"))))","v":"02:00:00"},"09:00:00",null,null,{"$f":"CHOOSE(WEEKDAY(A13,2),norm!C$1,norm!C$2,norm!C$3,norm!C$4,norm!C$5,norm!C$6,norm!C$7)","v":"00:00:00"},null,null,22,0,"22:00:00",7,0,"07:00:00"]
["2019-03-11","Ma","","22:00:00","07:00:00",null,0.375,"01:30:00","",{"$f":"IF(AND(C14=\"\",WEEKDAY(A14,2)<6),ColTime(T.!$J$4,T.!$L$4,D14,E14),\"\")","v":"01:00:00"},null,{"$f":"IF(AND(OR(WEEKDAY(A14,2)=7,C14<>\"\"),E14<D14),ColTime($AF$1,$AG$1,'Januar (3)'!$AF$1,E14),IF(WEEKDAY(A14,2)<6,ColTime(T.!$J$5,T.!$L$5,D14,E14),\"\"))","v":"07:00:00"},null,"",{"$f":"IF(AND(OR(WEEKDAY(A14,2)<6,WEEKDAY(A14,2)=6),C14<>\"\",E14<D14),ColTime(T.!$J$7,T.!$L$7,D14,AF11),IF(AND(WEEKDAY(A14,2)=6,E14<D14),ColTime(T.!$J$7,T.!$L$7,$AF$1,E14),IF(AND(E14<D14,OR(C14<>\"\",WEEKDAY(A14,2)=7)),ColTime(T.!J17,T.!L17,'Januar (3)'!D14,'Januar (3)'!AF11),IF(AND(E14<>\"\",OR(C14<>\"\",WEEKDAY(A14,2)=7)),ColTime(T.!$J$7,T.!$L$7,D14,E14),\"\"))))","v":""},"",null,null,{"$f":"CHOOSE(WEEKDAY(A14,2),norm!C$1,norm!C$2,norm!C$3,norm!C$4,norm!C$5,norm!C$6,norm!C$7)","v":"07:30:00"},null,null,22,0,"22:00:00",7,0,"07:00:00"]
["2019-03-12","Ti","","22:00:00","07:00:00",null,0.375,"01:30:00","",{"$f":"IF(AND(C15=\"\",WEEKDAY(A15,2)<6),ColTime(T.!$J$4,T.!$L$4,D15,E15),\"\")","v":"01:00:00"},null,{"$f":"IF(AND(OR(WEEKDAY(A15,2)=7,C15<>\"\"),E15<D15),ColTime($AF$1,$AG$1,'Januar (3)'!$AF$1,E15),IF(WEEKDAY(A15,2)<6,ColTime(T.!$J$5,T.!$L$5,D15,E15),\"\"))","v":"07:00:00"},null,"",{"$f":"IF(AND(OR(WEEKDAY(A15,2)<6,WEEKDAY(A15,2)=6),C15<>\"\",E15<D15),ColTime(T.!$J$7,T.!$L$7,D15,AF12),IF(AND(WEEKDAY(A15,2)=6,E15<D15),ColTime(T.!$J$7,T.!$L$7,$AF$1,E15),IF(AND(E15<D15,OR(C15<>\"\",WEEKDAY(A15,2)=7)),ColTime(T.!J18,T.!L18,'Januar (3)'!D15,'Januar (3)'!AF12),IF(AND(E15<>\"\",OR(C15<>\"\",WEEKDAY(A15,2)=7)),ColTime(T.!$J$7,T.!$L$7,D15,E15),\"\"))))","v":""},"",null,null,{"$f":"CHOOSE(WEEKDAY(A15,2),norm!C$1,norm!C$2,norm!C$3,norm!C$4,norm!C$5,norm!C$6,norm!C$7)","v":"07:30:00"},null,null,22,0,"22:00:00",7,0,"07:00:00"]
["2019-03-13","On","","19:00:00","07:00:00",null,0.5,"03:00:00","01:30:00",{"$f":"IF(AND(C16=\"\",WEEKDAY(A16,2)<6),ColTime(T.!$J$4,T.!$L$4,D16,E16),\"\")","v":"04:00:00"},null,{"$f":"IF(AND(OR(WEEKDAY(A16,2)=7,C16<>\"\"),E16<D16),ColTime($AF$1,$AG$1,'Januar (3)'!$AF$1,E16),IF(WEEKDAY(A16,2)<6,ColTime(T.!$J$5,T.!$L$5,D16,E16),\"\"))","v":"07:00:00"},null,"",{"$f":"IF(AND(OR(WEEKDAY(A16,2)<6,WEEKDAY(A16,2)=6),C16<>\"\",E16<D16),ColTime(T.!$J$7,T.!$L$7,D16,AF13),IF(AND(WEEKDAY(A16,2)=6,E16<D16),ColTime(T.!$J$7,T.!$L$7,$AF$1,E16),IF(AND(E16<D16,OR(C16<>\"\",WEEKDAY(A16,2)=7)),ColTime(T.!J19,T.!L19,'Januar (3)'!D16,'Januar (3)'!AF13),IF(AND(E16<>\"\",OR(C16<>\"\",WEEKDAY(A16,2)=7)),ColTime(T.!$J$7,T.!$L$7,D16,E16),\"\"))))","v":""},"04:30:00",null,null,{"$f":"CHOOSE(WEEKDAY(A16,2),norm!C$1,norm!C$2,norm!C$3,norm!C$4,norm!C$5,norm!C$6,norm!C$7)","v":"07:30:00"},null,null,19,0,"19:00:00",7,0,"07:00:00"]
["2019-03-14","To","",null,null,null,"",{"$f":"IF(G17=\"\",0,IF(WEEKDAY(A17,2)=7,0,IF(G17>S17,MIN(G17-S17,$AI$1),0)))","v":"00:00:00"},"",{"$f":"IF(AND(C17=\"\",WEEKDAY(A17,2)<6),ColTime(T.!$J$4,T.!$L$4,D17,E17),\"\")","v":"00:00:00"},null,{"$f":"IF(AND(OR(WEEKDAY(A17,2)=7,C17<>\"\"),E17<D17),ColTime($AF$1,$AG$1,'Januar (3)'!$AF$1,E17),IF(WEEKDAY(A17,2)<6,ColTime(T.!$J$5,T.!$L$5,D17,E17),\"\"))","v":"00:00:00"},null,"",{"$f":"IF(AND(OR(WEEKDAY(A17,2)<6,WEEKDAY(A17,2)=6),C17<>\"\",E17<D17),ColTime(T.!$J$7,T.!$L$7,D17,AF14),IF(AND(WEEKDAY(A17,2)=6,E17<D17),ColTime(T.!$J$7,T.!$L$7,$AF$1,E17),IF(AND(E17<D17,OR(C17<>\"\",WEEKDAY(A17,2)=7)),ColTime(T.!J20,T.!L20,'Januar (3)'!D17,'Januar (3)'!AF14),IF(AND(E17<>\"\",OR(C17<>\"\",WEEKDAY(A17,2)=7)),ColTime(T.!$J$7,T.!$L$7,D17,E17),\"\"))))","v":""},"",null,null,{"$f":"CHOOSE(WEEKDAY(A17,2),norm!C$1,norm!C$2,norm!C$3,norm!C$4,norm!C$5,norm!C$6,norm!C$7)","v":"07:30:00"},null,null,"","","","","",""]
[{"$f":"A17+1","v":"2019-03-15"},{"$f":"PROPER(TEXT(A18,\"ddd\"))","v":"Fr"},{"$f":"HelligdagsNavn(A18,0,0)","v":""},"08:00:00","16:00:00",null,0.33333333333333331,"01:00:00","",{"$f":"IF(AND(C18=\"\",WEEKDAY(A18,2)<6),ColTime(T.!$J$4,T.!$L$4,D18,E18),\"\")","v":"00:00:00"},null,{"$f":"IF(AND(OR(WEEKDAY(A18,2)=7,C18<>\"\"),E18<D18),ColTime($AF$1,$AG$1,'Januar (3)'!$AF$1,E18),IF(WEEKDAY(A18,2)<6,ColTime(T.!$J$5,T.!$L$5,D18,E18),\"\"))","v":"00:00:00"},null,"",{"$f":"IF(AND(OR(WEEKDAY(A18,2)<6,WEEKDAY(A18,2)=6),C18<>\"\",E18<D18),ColTime(T.!$J$7,T.!$L$7,D18,AF15),IF(AND(WEEKDAY(A18,2)=6,E18<D18),ColTime(T.!$J$7,T.!$L$7,$AF$1,E18),IF(AND(E18<D18,OR(C18<>\"\",WEEKDAY(A18,2)=7)),ColTime(T.!J21,T.!L21,'Januar (3)'!D18,'Januar (3)'!AF15),IF(AND(E18<>\"\",OR(C18<>\"\",WEEKDAY(A18,2)=7)),ColTime(T.!$J$7,T.!$L$7,D18,E18),\"\"))))","v":""},"",null,null,{"$f":"CHOOSE(WEEKDAY(A18,2),norm!C$1,norm!C$2,norm!C$3,norm!C$4,norm!C$5,norm!C$6,norm!C$7)","v":"07:00:00"},null,null,8,0,"08:00:00",16,0,"16:00:00"]
[{"$f":"A18+1","v":"2019-03-16"},{"$f":"PROPER(TEXT(A19,\"ddd\"))","v":"Lø"},{"$f":"HelligdagsNavn(A19,0,0)","v":""},null,null,null,"","00:00:00","",{"$f":"IF(AND(C19=\"\",WEEKDAY(A19,2)<6),ColTime(T.!$J$4,T.!$L$4,D19,E19),\"\")","v":""},null,{"$f":"IF(AND(OR(WEEKDAY(A19,2)=7,C19<>\"\"),E19<D19),ColTime($AF$1,$AG$1,'Januar (3)'!$AF$1,E19),IF(WEEKDAY(A19,2)<6,ColTime(T.!$J$5,T.!$L$5,D19,E19),\"\"))","v":""},null,"00:00:00",{"$f":"IF(AND(OR(WEEKDAY(A19,2)<6,WEEKDAY(A19,2)=6),C19<>\"\",E19<D19),ColTime(T.!$J$7,T.!$L$7,D19,AF16),IF(AND(WEEKDAY(A19,2)=6,E19<D19),ColTime(T.!$J$7,T.!$L$7,$AF$1,E19),IF(AND(E19<D19,OR(C19<>\"\",WEEKDAY(A19,2)=7)),ColTime(T.!J22,T.!L22,'Januar (3)'!D19,'Januar (3)'!AF16),IF(AND(E19<>\"\",OR(C19<>\"\",WEEKDAY(A19,2)=7)),ColTime(T.!$J$7,T.!$L$7,D19,E19),\"\"))))","v":""},"",null,null,{"$f":"CHOOSE(WEEKDAY(A19,2),norm!C$1,norm!C$2,norm!C$3,norm!C$4,norm!C$5,norm!C$6,norm!C$7)","v":"00:00:00"},null,null,"","","","","",""]
[{"$f":"A19+1","v":"2019-03-17"},{"$f":"PROPER(TEXT(A20,\"ddd\"))","v":"Sø"},"",null,null,null,"","00:00:00","",{"$f":"IF(AND(C20=\"\",WEEKDAY(A20,2)<6),ColTime(T.!$J$4,T.!$L$4,D20,E20),\"\")","v":""},null,{"$f":"IF(AND(OR(WEEKDAY(A20,2)=7,C20<>\"\"),E20<D20),ColTime($AF$1,$AG$1,'Januar (3)'!$AF$1,E20),IF(WEEKDAY(A20,2)<6,ColTime(T.!$J$5,T.!$L$5,D20,E20),\"\"))","v":""},null,"",{"$f":"IF(AND(OR(WEEKDAY(A20,2)<6,WEEKDAY(A20,2)=6),C20<>\"\",E20<D20),ColTime(T.!$J$7,T.!$L$7,D20,AF17),IF(AND(WEEKDAY(A20,2)=6,E20<D20),ColTime(T.!$J$7,T.!$L$7,$AF$1,E20),IF(AND(E20<D20,OR(C20<>\"\",WEEKDAY(A20,2)=7)),ColTime(T.!J23,T.!L23,'Januar (3)'!D20,'Januar (3)'!AF17),IF(AND(E20<>\"\",OR(C20<>\"\",WEEKDAY(A20,2)=7)),ColTime(T.!$J$7,T.!$L$7,D20,E20),\"\"))))","v":""},"",null,null,{"$f":"CHOOSE(WEEKDAY(A20,2),norm!C$1,norm!C$2,norm!C$3,norm!C$4,norm!C$5,norm!C$6,norm!C$7)","v":"00:00:00"},null,null,"","","","","",""]
["2019-03-18","Ma","",null,null,null,"","00:00:00","",{"$f":"IF(AND(C21=\"\",WEEKDAY(A21,2)<6),ColTime(T.!$J$4,T.!$L$4,D21,E21),\"\")","v":"00:00:00"},null,{"$f":"IF(AND(OR(WEEKDAY(A21,2)=7,C21<>\"\"),E21<D21),ColTime($AF$1,$AG$1,'Januar (3)'!$AF$1,E21),IF(WEEKDAY(A21,2)<6,ColTime(T.!$J$5,T.!$L$5,D21,E21),\"\"))","v":"00:00:00"},null,"",{"$f":"IF(AND(OR(WEEKDAY(A21,2)<6,WEEKDAY(A21,2)=6),C21<>\"\",E21<D21),ColTime(T.!$J$7,T.!$L$7,D21,AF18),IF(AND(WEEKDAY(A21,2)=6,E21<D21),ColTime(T.!$J$7,T.!$L$7,$AF$1,E21),IF(AND(E21<D21,OR(C21<>\"\",WEEKDAY(A21,2)=7)),ColTime(T.!J24,T.!L24,'Januar (3)'!D21,'Januar (3)'!AF18),IF(AND(E21<>\"\",OR(C21<>\"\",WEEKDAY(A21,2)=7)),ColTime(T.!$J$7,T.!$L$7,D21,E21),\"\"))))","v":""},"",null,null,{"$f":"CHOOSE(WEEKDAY(A21,2),norm!C$1,norm!C$2,norm!C$3,norm!C$4,norm!C$5,norm!C$6,norm!C$7)","v":"07:30:00"},null,null,"","","","","",""]
["2019-03-19","Ti","",null,null,null,"","00:00:00","",{"$f":"IF(AND(C22=\"\",WEEKDAY(A22,2)<6),ColTime(T.!$J$4,T.!$L$4,D22,E22),\"\")","v":"00:00:00"},null,{"$f":"IF(AND(OR(WEEKDAY(A22,2)=7,C22<>\"\"),E22<D22),ColTime($AF$1,$AG$1,'Januar (3)'!$AF$1,E22),IF(WEEKDAY(A22,2)<6,ColTime(T.!$J$5,T.!$L$5,D22,E22),\"\"))","v":"00:00:00"},null,"",{"$f":"IF(AND(OR(WEEKDAY(A22,2)<6,WEEKDAY(A22,2)=6),C22<>\"\",E22<D22),ColTime(T.!$J$7,T.!$L$7,D22,AF19),IF(AND(WEEKDAY(A22,2)=6,E22<D22),ColTime(T.!$J$7,T.!$L$7,$AF$1,E22),IF(AND(E22<D22,OR(C22<>\"\",WEEKDAY(A22,2)=7)),ColTime(T.!J25,T.!L25,'Januar (3)'!D22,'Januar (3)'!AF19),IF(AND(E22<>\"\",OR(C22<>\"\",WEEKDAY(A22,2)=7)),ColTime(T.!$J$7,T.!$L$7,D22,E22),\"\"))))","v":""},"",null,null,{"$f":"CHOOSE(WEEKDAY(A22,2),norm!C$1,norm!C$2,norm!C$3,norm!C$4,norm!C$5,norm!C$6,norm!C$7)","v":"07:30:00"},null,null,"","","","","",""]
["2019-03-20","On","","16:00:00","20:00:00",null,0.16666666666666674,"00:00:00","",{"$f":"IF(AND(C23=\"\",WEEKDAY(A23,2)<6),ColTime(T.!$J$4,T.!$L$4,D23,E23),\"\")","v":"02:00:00"},null,{"$f":"IF(AND(OR(WEEKDAY(A23,2)=7,C23<>\"\"),E23<D23),ColTime($AF$1,$AG$1,'Januar (3)'!$AF$1,E23),IF(WEEKDAY(A23,2)<6,ColTime(T.!$J$5,T.!$L$5,D23,E23),\"\"))","v":"00:00:00"},null,"",{"$f":"IF(AND(OR(WEEKDAY(A23,2)<6,WEEKDAY(A23,2)=6),C23<>\"\",E23<D23),ColTime(T.!$J$7,T.!$L$7,D23,AF20),IF(AND(WEEKDAY(A23,2)=6,E23<D23),ColTime(T.!$J$7,T.!$L$7,$AF$1,E23),IF(AND(E23<D23,OR(C23<>\"\",WEEKDAY(A23,2)=7)),ColTime(T.!J26,T.!L26,'Januar (3)'!D23,'Januar (3)'!AF20),IF(AND(E23<>\"\",OR(C23<>\"\",WEEKDAY(A23,2)=7)),ColTime(T.!$J$7,T.!$L$7,D23,E23),\"\"))))","v":""},"",null,null,{"$f":"CHOOSE(WEEKDAY(A23,2),norm!C$1,norm!C$2,norm!C$3,norm!C$4,norm!C$5,norm!C$6,norm!C$7)","v":"07:30:00"},null,null,16,0,"16:00:00",20,0,"20:00:00"]
["2019-03-21","To","",null,null,null,"","00:00:00","",{"$f":"IF(AND(C24=\"\",WEEKDAY(A24,2)<6),ColTime(T.!$J$4,T.!$L$4,D24,E24),\"\")","v":"00:00:00"},null,{"$f":"IF(AND(OR(WEEKDAY(A24,2)=7,C24<>\"\"),E24<D24),ColTime($AF$1,$AG$1,'Januar (3)'!$AF$1,E24),IF(WEEKDAY(A24,2)<6,ColTime(T.!$J$5,T.!$L$5,D24,E24),\"\"))","v":"00:00:00"},null,"",{"$f":"IF(AND(OR(WEEKDAY(A24,2)<6,WEEKDAY(A24,2)=6),C24<>\"\",E24<D24),ColTime(T.!$J$7,T.!$L$7,D24,AF21),IF(AND(WEEKDAY(A24,2)=6,E24<D24),ColTime(T.!$J$7,T.!$L$7,$AF$1,E24),IF(AND(E24<D24,OR(C24<>\"\",WEEKDAY(A24,2)=7)),ColTime(T.!J27,T.!L27,'Januar (3)'!D24,'Januar (3)'!AF21),IF(AND(E24<>\"\",OR(C24<>\"\",WEEKDAY(A24,2)=7)),ColTime(T.!$J$7,T.!$L$7,D24,E24),\"\"))))","v":""},"",null,null,{"$f":"CHOOSE(WEEKDAY(A24,2),norm!C$1,norm!C$2,norm!C$3,norm!C$4,norm!C$5,norm!C$6,norm!C$7)","v":"07:30:00"},null,null,"","","","","",""]
[{"$f":"A24+1","v":"2019-03-22"},{"$f":"PROPER(TEXT(A25,\"ddd\"))","v":"Fr"},{"$f":"HelligdagsNavn(A25,0,0)","v":""},null,null,null,"","00:00:00","",{"$f":"IF(AND(C25=\"\",WEEKDAY(A25,2)<6),ColTime(T.!$J$4,T.!$L$4,D25,E25),\"\")","v":"00:00:00"},null,{"$f":"IF(AND(OR(WEEKDAY(A25,2)=7,C25<>\"\"),E25<D25),ColTime($AF$1,$AG$1,'Januar (3)'!$AF$1,E25),IF(WEEKDAY(A25,2)<6,ColTime(T.!$J$5,T.!$L$5,D25,E25),\"\"))","v":"00:00:00"},null,"",{"$f":"IF(AND(OR(WEEKDAY(A25,2)<6,WEEKDAY(A25,2)=6),C25<>\"\",E25<D25),ColTime(T.!$J$7,T.!$L$7,D25,AF22),IF(AND(WEEKDAY(A25,2)=6,E25<D25),ColTime(T.!$J$7,T.!$L$7,$AF$1,E25),IF(AND(E25<D25,OR(C25<>\"\",WEEKDAY(A25,2)=7)),ColTime(T.!J28,T.!L28,'Januar (3)'!D25,'Januar (3)'!AF22),IF(AND(E25<>\"\",OR(C25<>\"\",WEEKDAY(A25,2)=7)),ColTime(T.!$J$7,T.!$L$7,D25,E25),\"\"))))","v":""},"",null,null,{"$f":"CHOOSE(WEEKDAY(A25,2),norm!C$1,norm!C$2,norm!C$3,norm!C$4,norm!C$5,norm!C$6,norm!C$7)","v":"07:00:00"},null,null,"","","","","",""]
[{"$f":"A25+1","v":"2019-03-23"},{"$f":"PROPER(TEXT(A26,\"ddd\"))","v":"Lø"},{"$f":"HelligdagsNavn(A26,0,0)","v":""},null,null,null,"","00:00:00","",{"$f":"IF(AND(C26=\"\",WEEKDAY(A26,2)<6),ColTime(T.!$J$4,T.!$L$4,D26,E26),\"\")","v":""},null,{"$f":"IF(AND(OR(WEEKDAY(A26,2)=7,C26<>\"\"),E26<D26),ColTime($AF$1,$AG$1,'Januar (3)'!$AF$1,E26),IF(WEEKDAY(A26,2)<6,ColTime(T.!$J$5,T.!$L$5,D26,E26),\"\"))","v":""},null,"00:00:00",{"$f":"IF(AND(OR(WEEKDAY(A26,2)<6,WEEKDAY(A26,2)=6),C26<>\"\",E26<D26),ColTime(T.!$J$7,T.!$L$7,D26,AF23),IF(AND(WEEKDAY(A26,2)=6,E26<D26),ColTime(T.!$J$7,T.!$L$7,$AF$1,E26),IF(AND(E26<D26,OR(C26<>\"\",WEEKDAY(A26,2)=7)),ColTime(T.!J29,T.!L29,'Januar (3)'!D26,'Januar (3)'!AF23),IF(AND(E26<>\"\",OR(C26<>\"\",WEEKDAY(A26,2)=7)),ColTime(T.!$J$7,T.!$L$7,D26,E26),\"\"))))","v":""},"",null,null,{"$f":"CHOOSE(WEEKDAY(A26,2),norm!C$1,norm!C$2,norm!C$3,norm!C$4,norm!C$5,norm!C$6,norm!C$7)","v":"00:00:00"},null,null,"","","","","",""]
[{"$f":"A26+1","v":"2019-03-24"},{"$f":"PROPER(TEXT(A27,\"ddd\"))","v":"Sø"},"",null,null,null,"","00:00:00","",{"$f":"IF(AND(C27=\"\",WEEKDAY(A27,2)<6),ColTime(T.!$J$4,T.!$L$4,D27,E27),\"\")","v":""},null,{"$f":"IF(AND(OR(WEEKDAY(A27,2)=7,C27<>\"\"),E27<D27),ColTime($AF$1,$AG$1,'Januar (3)'!$AF$1,E27),IF(WEEKDAY(A27,2)<6,ColTime(T.!$J$5,T.!$L$5,D27,E27),\"\"))","v":""},null,"",{"$f":"IF(AND(OR(WEEKDAY(A27,2)<6,WEEKDAY(A27,2)=6),C27<>\"\",E27<D27),ColTime(T.!$J$7,T.!$L$7,D27,AF24),IF(AND(WEEKDAY(A27,2)=6,E27<D27),ColTime(T.!$J$7,T.!$L$7,$AF$1,E27),IF(AND(E27<D27,OR(C27<>\"\",WEEKDAY(A27,2)=7)),ColTime(T.!J30,T.!L30,'Januar (3)'!D27,'Januar (3)'!AF24),IF(AND(E27<>\"\",OR(C27<>\"\",WEEKDAY(A27,2)=7)),ColTime(T.!$J$7,T.!$L$7,D27,E27),\"\"))))","v":""},"",null,null,{"$f":"CHOOSE(WEEKDAY(A27,2),norm!C$1,norm!C$2,norm!C$3,norm!C$4,norm!C$5,norm!C$6,norm!C$7)","v":"00:00:00"},null,null,"","","","","",""]
["2019-03-25","Ma","",null,null,null,"","00:00:00","",{"$f":"IF(AND(C28=\"\",WEEKDAY(A28,2)<6),ColTime(T.!$J$4,T.!$L$4,D28,E28),\"\")","v":"00:00:00"},null,{"$f":"IF(AND(OR(WEEKDAY(A28,2)=7,C28<>\"\"),E28<D28),ColTime($AF$1,$AG$1,'Januar (3)'!$AF$1,E28),IF(WEEKDAY(A28,2)<6,ColTime(T.!$J$5,T.!$L$5,D28,E28),\"\"))","v":"00:00:00"},null,"",{"$f":"IF(AND(OR(WEEKDAY(A28,2)<6,WEEKDAY(A28,2)=6),C28<>\"\",E28<D28),ColTime(T.!$J$7,T.!$L$7,D28,AF25),IF(AND(WEEKDAY(A28,2)=6,E28<D28),ColTime(T.!$J$7,T.!$L$7,$AF$1,E28),IF(AND(E28<D28,OR(C28<>\"\",WEEKDAY(A28,2)=7)),ColTime(T.!J31,T.!L31,'Januar (3)'!D28,'Januar (3)'!AF25),IF(AND(E28<>\"\",OR(C28<>\"\",WEEKDAY(A28,2)=7)),ColTime(T.!$J$7,T.!$L$7,D28,E28),\"\"))))","v":""},"",null,null,{"$f":"CHOOSE(WEEKDAY(A28,2),norm!C$1,norm!C$2,norm!C$3,norm!C$4,norm!C$5,norm!C$6,norm!C$7)","v":"07:30:00"},null,null,"","","","","",""]
["2019-03-26","Ti","",null,null,null,"","00:00:00","",{"$f":"IF(AND(C29=\"\",WEEKDAY(A29,2)<6),ColTime(T.!$J$4,T.!$L$4,D29,E29),\"\")","v":"00:00:00"},null,{"$f":"IF(AND(OR(WEEKDAY(A29,2)=7,C29<>\"\"),E29<D29),ColTime($AF$1,$AG$1,'Januar (3)'!$AF$1,E29),IF(WEEKDAY(A29,2)<6,ColTime(T.!$J$5,T.!$L$5,D29,E29),\"\"))","v":"00:00:00"},null,"",{"$f":"IF(AND(OR(WEEKDAY(A29,2)<6,WEEKDAY(A29,2)=6),C29<>\"\",E29<D29),ColTime(T.!$J$7,T.!$L$7,D29,AF26),IF(AND(WEEKDAY(A29,2)=6,E29<D29),ColTime(T.!$J$7,T.!$L$7,$AF$1,E29),IF(AND(E29<D29,OR(C29<>\"\",WEEKDAY(A29,2)=7)),ColTime(T.!J32,T.!L32,'Januar (3)'!D29,'Januar (3)'!AF26),IF(AND(E29<>\"\",OR(C29<>\"\",WEEKDAY(A29,2)=7)),ColTime(T.!$J$7,T.!$L$7,D29,E29),\"\"))))","v":""},"",null,null,{"$f":"CHOOSE(WEEKDAY(A29,2),norm!C$1,norm!C$2,norm!C$3,norm!C$4,norm!C$5,norm!C$6,norm!C$7)","v":"07:30:00"}]
["2019-03-27","On","",null,null,null,"","00:00:00","",{"$f":"IF(AND(C30=\"\",WEEKDAY(A30,2)<6),ColTime(T.!$J$4,T.!$L$4,D30,E30),\"\")","v":"00:00:00"},null,{"$f":"IF(AND(OR(WEEKDAY(A30,2)=7,C30<>\"\"),E30<D30),ColTime($AF$1,$AG$1,'Januar (3)'!$AF$1,E30),IF(WEEKDAY(A30,2)<6,ColTime(T.!$J$5,T.!$L$5,D30,E30),\"\"))","v":"00:00:00"},null,"",{"$f":"IF(AND(OR(WEEKDAY(A30,2)<6,WEEKDAY(A30,2)=6),C30<>\"\",E30<D30),ColTime(T.!$J$7,T.!$L$7,D30,AF27),IF(AND(WEEKDAY(A30,2)=6,E30<D30),ColTime(T.!$J$7,T.!$L$7,$AF$1,E30),IF(AND(E30<D30,OR(C30<>\"\",WEEKDAY(A30,2)=7)),ColTime(T.!J33,T.!L33,'Januar (3)'!D30,'Januar (3)'!AF27),IF(AND(E30<>\"\",OR(C30<>\"\",WEEKDAY(A30,2)=7)),ColTime(T.!$J$7,T.!$L$7,D30,E30),\"\"))))","v":""},"",null,null,{"$f":"CHOOSE(WEEKDAY(A30,2),norm!C$1,norm!C$2,norm!C$3,norm!C$4,norm!C$5,norm!C$6,norm!C$7)","v":"07:30:00"}]
["2019-03-28","To","",null,null,null,"","00:00:00","",{"$f":"IF(AND(C31=\"\",WEEKDAY(A31,2)<6),ColTime(T.!$J$4,T.!$L$4,D31,E31),\"\")","v":"00:00:00"},null,{"$f":"IF(AND(OR(WEEKDAY(A31,2)=7,C31<>\"\"),E31<D31),ColTime($AF$1,$AG$1,'Januar (3)'!$AF$1,E31),IF(WEEKDAY(A31,2)<6,ColTime(T.!$J$5,T.!$L$5,D31,E31),\"\"))","v":"00:00:00"},null,"",{"$f":"IF(AND(OR(WEEKDAY(A31,2)<6,WEEKDAY(A31,2)=6),C31<>\"\",E31<D31),ColTime(T.!$J$7,T.!$L$7,D31,AF28),IF(AND(WEEKDAY(A31,2)=6,E31<D31),ColTime(T.!$J$7,T.!$L$7,$AF$1,E31),IF(AND(E31<D31,OR(C31<>\"\",WEEKDAY(A31,2)=7)),ColTime(T.!J34,T.!L34,'Januar (3)'!D31,'Januar (3)'!AF28),IF(AND(E31<>\"\",OR(C31<>\"\",WEEKDAY(A31,2)=7)),ColTime(T.!$J$7,T.!$L$7,D31,E31),\"\"))))","v":""},"",null,null,{"$f":"CHOOSE(WEEKDAY(A31,2),norm!C$1,norm!C$2,norm!C$3,norm!C$4,norm!C$5,norm!C$6,norm!C$7)","v":"07:30:00"}]
[{"$f":"IFERROR(IF(MONTH(A31+1)>MONTH(A31),\"\",A31+1),\"\")","v":"2019-03-29"},"Fr",{"$f":"IF(A32=\"\",\"\",HelligdagsNavn(A32,0,0))","v":""},null,null,null,"","00:00:00","",{"$f":"IFERROR(IF(AND(C32=\"\",WEEKDAY(A32,2)<6),ColTime(T.!$J$4,T.!$L$4,D32,E32),\"\"),\"\")","v":"00:00:00"},null,{"$f":"IFERROR(IF(AND(OR(WEEKDAY(A32,2)=7,C32<>\"\"),E32<D32),ColTime($AF$1,$AG$1,'Januar (3)'!$AF$1,E32),IF(WEEKDAY(A32,2)<6,ColTime(T.!$J$5,T.!$L$5,D32,E32),\"\")),\"\")","v":"00:00:00"},null,{"$f":"IFERROR(IF(WEEKDAY(A32,2)=6,ColTime(TIME(15,0,0),TIME(24,0,0),D32,E32),\"\"),\"\")","v":""},{"$f":"IFERROR(IF(AND(OR(WEEKDAY(A32,2)<6,WEEKDAY(A32,2)=6),C32<>\"\",E32<D32),ColTime(T.!$J$7,T.!$L$7,D32,AF29),IF(AND(WEEKDAY(A32,2)=6,E32<D32),ColTime(T.!$J$7,T.!$L$7,$AF$1,E32),IF(AND(E32<D32,OR(C32<>\"\",WEEKDAY(A32,2)=7)),ColTime(T.!J35,T.!L35,'Januar (3)'!D32,'Januar (3)'!AF29),IF(AND(E32<>\"\",OR(C32<>\"\",WEEKDAY(A32,2)=7)),ColTime(T.!$J$7,T.!$L$7,D32,E32),\"\")))),\"\")","v":""},"",null,null,{"$f":"IFERROR(CHOOSE(WEEKDAY(A32,2),norm!C$1,norm!C$2,norm!C$3,norm!C$4,norm!C$5,norm!C$6,norm!C$7),\"\")","v":"07:00:00"}]
[{"$f":"IFERROR(IF(MONTH(A32+1)>MONTH(A32),\"\",A32+1),\"\")","v":"2019-03-30"},"Lø","",null,null,null,"","00:00:00","",{"$f":"IFERROR(IF(AND(C33=\"\",WEEKDAY(A33,2)<6),ColTime(T.!$J$4,T.!$L$4,D33,E33),\"\"),\"\")","v":""},null,{"$f":"IFERROR(IF(AND(OR(WEEKDAY(A33,2)=7,C33<>\"\"),E33<D33),ColTime($AF$1,$AG$1,'Januar (3)'!$AF$1,E33),IF(WEEKDAY(A33,2)<6,ColTime(T.!$J$5,T.!$L$5,D33,E33),\"\")),\"\")","v":""},null,{"$f":"IFERROR(IF(WEEKDAY(A33,2)=6,ColTime(TIME(15,0,0),TIME(24,0,0),D33,E33),\"\"),\"\")","v":"00:00:00"},{"$f":"IFERROR(IF(AND(OR(WEEKDAY(A33,2)<6,WEEKDAY(A33,2)=6),C33<>\"\",E33<D33),ColTime(T.!$J$7,T.!$L$7,D33,AF30),IF(AND(WEEKDAY(A33,2)=6,E33<D33),ColTime(T.!$J$7,T.!$L$7,$AF$1,E33),IF(AND(E33<D33,OR(C33<>\"\",WEEKDAY(A33,2)=7)),ColTime(T.!J36,T.!L36,'Januar (3)'!D33,'Januar (3)'!AF30),IF(AND(E33<>\"\",OR(C33<>\"\",WEEKDAY(A33,2)=7)),ColTime(T.!$J$7,T.!$L$7,D33,E33),\"\")))),\"\")","v":""},"",null,null,{"$f":"IFERROR(CHOOSE(WEEKDAY(A33,2),norm!C$1,norm!C$2,norm!C$3,norm!C$4,norm!C$5,norm!C$6,norm!C$7),\"\")","v":"00:00:00"}]
["2019-03-31",{"$f":"IFERROR(PROPER(TEXT(A34,\"ddd\")),\"\")","v":"Sø"},{"$f":"IF(A34=\"\",\"\",HelligdagsNavn(A34,0,0))","v":""},null,null,null,"","00:00:00","",{"$f":"IFERROR(IF(AND(C34=\"\",WEEKDAY(A34,2)<6),ColTime(T.!$J$4,T.!$L$4,D34,E34),\"\"),\"\")","v":""},null,{"$f":"IFERROR(IF(AND(OR(WEEKDAY(A34,2)=7,C34<>\"\"),E34<D34),ColTime($AF$1,$AG$1,'Januar (3)'!$AF$1,E34),IF(WEEKDAY(A34,2)<6,ColTime(T.!$J$5,T.!$L$5,D34,E34),\"\")),\"\")","v":""},null,{"$f":"IFERROR(IF(WEEKDAY(A34,2)=6,ColTime(TIME(15,0,0),TIME(24,0,0),D34,E34),\"\"),\"\")","v":""},{"$f":"IFERROR(IF(AND(OR(WEEKDAY(A34,2)<6,WEEKDAY(A34,2)=6),C34<>\"\",E34<D34),ColTime(T.!$J$7,T.!$L$7,D34,AF31),IF(AND(WEEKDAY(A34,2)=6,E34<D34),ColTime(T.!$J$7,T.!$L$7,$AF$1,E34),IF(AND(E34<D34,OR(C34<>\"\",WEEKDAY(A34,2)=7)),ColTime(T.!J37,T.!L37,'Januar (3)'!D34,'Januar (3)'!AF31),IF(AND(E34<>\"\",OR(C34<>\"\",WEEKDAY(A34,2)=7)),ColTime(T.!$J$7,T.!$L$7,D34,E34),\"\")))),\"\")","v":""},"",null,null,{"$f":"IFERROR(CHOOSE(WEEKDAY(A34,2),norm!C$1,norm!C$2,norm!C$3,norm!C$4,norm!C$5,norm!C$6,norm!C$7),\"\")","v":"00:00:00"},null,null,{"$f":"IF(D34=\"\",\"\",HOUR(D34))","v":""},{"$f":"IF(D34=\"\",\"\",MINUTE(D34))","v":""},{"$f":"IF(D34=\"\",\"\",TIME(HOUR(D34),MINUTE(D34),0))","v":""},{"$f":"IF(E34=\"\",\"\",HOUR(E34))","v":""},{"$f":"IF(E34=\"\",\"\",MINUTE(E34))","v":""},{"$f":"IF(E34=\"\",\"\",TIME(HOUR(E34),MINUTE(E34),0))","v":""}]
["Total timer",null,null,null,null,null,{"$f":"IF(SUM(G9:G34)<>\"0\",SUM(G4:G34),\"\")","v":5.8333333333333339},{"$f":"IF(SUM(H9:H34)<>\"0\",SUM(H4:H34),\"\")","v":0.99999999999999989},{"$f":"IF(SUM(I9:I34)<>\"0\",SUM(I4:I34),\"\")","v":1.6041666666666667},{"$f":"IF(SUM(J9:J34)<>\"0\",SUM(J4:J34),\"\")","v":0.75000000000000067},null,{"$f":"IF(SUM(L9:L34)<>\"0\",SUM(L4:L34),\"\")","v":3.1249999999999991},null,{"$f":"IF(SUM(N9:N34)<>\"0\",SUM(N4:N34),\"\")","v":0.33333333333333337},{"$f":"IF(SUM(O9:O34)<>\"0\",SUM(O4:O34),\"\")","v":0.75000000000000011},{"$f":"SUM(P4:P34)","v":2.104166666666667},{"$f":"SUM(Q4:Q34)","v":0}]
["Timer 1/100",null,null,null,null,null,{"$f":"IF(G35<>\"\",ROUND(G35*24,2),\"\")","v":140},{"$f":"IF(H35<>\"\",ROUND(H35*24,2),\"\")","v":24},38.5,{"$f":"IF(J35<>\"\",ROUND(J35*24,2),\"\")","v":18},null,{"$f":"IF(L35<>\"\",ROUND(L35*24,2),\"\")","v":75},null,{"$f":"IF(N35<>\"\",ROUND(N35*24,2),\"\")","v":8},18,50.5,0]
["Satser",null,null,null,null,null,{"$f":"Satser!B7","v":107.35},{"$f":"Satser!B9","v":36.35},{"$f":"Satser!B12","v":58.1},{"$f":"Satser!B17","v":13.91},null,{"$f":"Satser!B18","v":23.19},null,{"$f":"Satser!B19","v":24.89},{"$f":"Satser!B20","v":27.63}]
[null,null,null,null,null,null,{"$f":"IF(G35<>\"\",G36*G37,\"\")","v":15029},{"$f":"IF(H35<>\"\",H36*H37,\"\")","v":872.40000000000009},2236.85,{"$f":"IF(J35<>\"\",J36*J37,\"\")","v":250.38},null,{"$f":"IF(L35<>\"\",L36*L36,\"\")","v":5625},null,{"$f":"IF(N35<>\"\",N36*N37,\"\")","v":199.12},497.34]
[]
["Lønart"]
[3025,null,null,null,null,null,{"$f":"G35","v":5.8333333333333339}]
[3425,null,null,null,null,null,{"$f":"H35","v":0.99999999999999989}]
[3428,null,null,null,null,null,{"$f":"I35","v":1.6041666666666667}]
["Timer",null,null,null,null,null,{"$f":"SUM(G41:G43)","v":8.4375},{"$f":"IF(G44<>\"\",ROUND(G44*24,2),\"\")","v":202.5}]
[null,null,null,null,null,null,null,{"$f":"G37*H44","v":21738.375}]

{"sheet":"Januar (4)","index":5,"n_rows":45,"n_cols":35,"rows_kept":45,"cut":false,"hidden":true,"merged":[[39,0,39,2],[40,0,40,2],[41,0,41,2],[42,0,42,2],[43,0,43,5],[35,9,35,10],[35,11,35,12],[36,9,36,10],[36,11,36,12],[37,9,37,10],[37,11,37,12],[32,9,32,10],[32,11,32,12],[33,9,33,10],[33,11,33,12],[34,9,34,10],[34,11,34,12],[29,9,29,10],[29,11,29,12],[30,9,30,10],[30,11,30,12],[31,9,31,10],[31,11,31,12],[26,9,26,10],[26,11,26,12],[27,9,27,10],[27,11,27,12],[28,9,28,10],[28,11,28,12],[23,9,23,10],[23,11,23,12],[24,9,24,10],[24,11,24,12],[25,9,25,10],[25,11,25,12],[20,9,20,10],[20,11,20,12],[21,9,21,10],[21,11,21,12],[22,9,22,10],[22,11,22,12],[17,9,17,10],[17,11,17,12],[18,9,18,10],[18,11,18,12],[19,9,19,10],[19,11,19,12],[14,9,14,10],[14,11,14,12],[15,9,15,10],[15,11,15,12],[16,9,16,10],[16,11,16,12],[11,9,11,10],[11,11,11,12],[12,9,12,10],[12,11,12,12],[13,9,13,10],[13,11,13,12],[8,9,8,10],[8,11,8,12],[9,9,9,10],[9,11,9,12],[10,9,10,10],[10,11,10,12],[5,9,5,10],[5,11,5,12],[6,9,6,10],[6,11,6,12],[7,9,7,10],[7,11,7,12],[4,9,4,10],[4,11,4,12],[0,1,0,7],[0,10,0,11],[0,13,0,14],[1,1,1,2],[1,9,1,10],[1,11,1,12],[2,1,2,2],[2,9,2,10],[2,11,2,12],[3,9,3,10],[3,11,3,12]]}
["Løn",{"$f":"PROPER(TEXT(A4,\"dd mmmm åååå\")) & PROPER(TEXT(N1,\"  -  dd mmmm åååå\"))","v":"01 April 2019  -  30 April 2019"},null,null,null,null,null,null,"Uge :",{"$f":"IF(A4=\"\",\"\",TRUNC((A4-WEEKDAY(A4,2)-DATE(YEAR(A4+4-WEEKDAY(A4,2)),1,-10))/7))","v":14},"-",null,{"$f":"IF(A25=\"\",\"\",TRUNC((A25-WEEKDAY(A25,2)-DATE(YEAR(A25+4-WEEKDAY(A25,2)),1,-10))/7))","v":17},{"$f":"EOMONTH(A4,0)","v":"2019-04-30"},null,4,null,null,null,null,null,"Time beregning:",null,null,null,null,null,null,null,null,null,1,"06:00:00","18:00:00","03:00:00"]
["Lønart",null,null,null,null,null,null,null,null,null,null,null,null,null,null,null,null,null,null,null,null,"Betalt pause ved vagt over 5 timer",null,null,null,"00:25:00","minutter","00:00:00","06:00:00","17:00:00","14:00:00"]
["Dato","Dag",null,"Start","Slut","Pause","Arb. Tid","Overtid           1-3 time","Overtid            4 - time","Forskudt tid Man-fredag\n18-23",null,"Natarbejde 23-06",null,"Lørdag tillæg 14 - 24","Søndag tillæg 00 - 24","Optjent afspadsering","Afholdt afspadsering","Syge Timer","norm"]
[{"$f":"DATE(T.!$B$2,$P$1,1)","v":"2019-04-01"},{"$f":"PROPER(TEXT(A4,\"ddd\"))","v":"Ma"},{"$f":"HelligdagsNavn(A4,0,0)","v":""},"18:00:00","07:00:00",null,{"$f":"IF(D4=\"\",\"\",(E4-D4)+(D4>E4)-F4)","v":0.54166666666666674},{"$f":"IF(G4=\"\",0,IF(WEEKDAY(A4,2)=7,0,IF(G4>S4,MIN(G4-S4,$AI$1),0)))","v":"03:00:00"},{"$f":"IF(G4=\"\",\"\",IF(G4>S4+H4,G4-(S4+H4),\"\"))","v":"02:30:00"},{"$f":"IF(AND(C4=\"\",WEEKDAY(A4,2)<6),ColTime(T.!$J$4,T.!$L$4,D4,E4),\"\")","v":"05:00:00"},null,{"$f":"IF(AND(OR(WEEKDAY(A4,2)=7,C4<>\"\"),E4<D4),ColTime($AF$1,$AG$1,'Januar (4)'!$AF$1,E4),IF(WEEKDAY(A4,2)<6,ColTime(T.!$J$5,T.!$L$5,D4,E4),\"\"))","v":"07:00:00"},null,{"$f":"IF(WEEKDAY(A4,2)=6,ColTime(TIME(14,0,0),TIME(24,0,0),D4,E4),\"\")","v":""},{"$f":"IF(AND(OR(WEEKDAY(A4,2)<6,WEEKDAY(A4,2)=6),C4<>\"\",E4<D4),ColTime(T.!$J$7,T.!$L$7,D4,AF1),IF(AND(WEEKDAY(A4,2)=6,E4<D4),ColTime(T.!$J$7,T.!$L$7,$AF$1,E4),IF(AND(E4<D4,OR(C4<>\"\",WEEKDAY(A4,2)=7)),ColTime(T.!J7,T.!L7,'Januar (4)'!D4,'Januar (4)'!AF1),IF(AND(E4<>\"\",OR(C4<>\"\",WEEKDAY(A4,2)=7)),ColTime(T.!$J$7,T.!$L$7,D4,E4),\"\"))))","v":""},{"$f":"IFERROR(H4+I4,\"\")","v":"05:30:00"},null,null,{"$f":"CHOOSE(WEEKDAY(A4,2),norm!C$1,norm!C$2,norm!C$3,norm!C$4,norm!C$5,norm!C$6,norm!C$7)","v":"07:30:00"},null,null,{"$f":"IF(D4=\"\",\"\",HOUR(D4))","v":18},{"$f":"IF(D4=\"\",\"\",MINUTE(D4))","v":0},{"$f":"IF(D4=\"\",\"\",TIME(HOUR(D4),MINUTE(D4),0))","v":"18:00:00"},{"$f":"IF(E4=\"\",\"\",HOUR(E4))","v":7},{"$f":"IF(E4=\"\",\"\",MINUTE(E4))","v":0},"02:00:00","09:30:00","11:30:00",null,null,null,{"$f":"IFERROR(MIN(G4-S4,3),22)","v":0.22916666666666674}]
[{"$f":"A4+1","v":"2019-04-02"},{"$f":"PROPER(TEXT(A5,\"ddd\"))","v":"Ti"},{"$f":"HelligdagsNavn(A5,0,0)","v":""},"18:00:00","07:00:00",null,{"$f":"IF(D5=\"\",\"\",(E5-D5)+(D5>E5)-F5)","v":0.54166666666666674},{"$f":"IF(G5=\"\",0,IF(WEEKDAY(A5,2)=7,0,IF(G5>S5,MIN(G5-S5,$AI$1),0)))","v":"03:00:00"},{"$f":"IF(G5=\"\",\"\",IF(G5>S5+H5,G5-(S5+H5),\"\"))","v":"02:30:00"},{"$f":"IF(AND(C5=\"\",WEEKDAY(A5,2)<6),ColTime(T.!$J$4,T.!$L$4,D5,E5),\"\")","v":"05:00:00"},null,{"$f":"IF(AND(OR(WEEKDAY(A5,2)=7,C5<>\"\"),E5<D5),ColTime($AF$1,$AG$1,'Januar (4)'!$AF$1,E5),IF(WEEKDAY(A5,2)<6,ColTime(T.!$J$5,T.!$L$5,D5,E5),\"\"))","v":"07:00:00"},null,"",{"$f":"IF(AND(OR(WEEKDAY(A5,2)<6,WEEKDAY(A5,2)=6),C5<>\"\",E5<D5),ColTime(T.!$J$7,T.!$L$7,D5,AF2),IF(AND(WEEKDAY(A5,2)=6,E5<D5),ColTime(T.!$J$7,T.!$L$7,$AF$1,E5),IF(AND(E5<D5,OR(C5<>\"\",WEEKDAY(A5,2)=7)),ColTime(T.!J8,T.!L8,'Januar (4)'!D5,'Januar (4)'!AF2),IF(AND(E5<>\"\",OR(C5<>\"\",WEEKDAY(A5,2)=7)),ColTime(T.!$J$7,T.!$L$7,D5,E5),\"\"))))","v":""},{"$f":"IFERROR(H5+I5,\"\")","v":"05:30:00"},null,null,{"$f":"CHOOSE(WEEKDAY(A5,2),norm!C$1,norm!C$2,norm!C$3,norm!C$4,norm!C$5,norm!C$6,norm!C$7)","v":"07:30:00"},null,null,18,0,"18:00:00",7,0,{"$f":"IF(E5=\"\",\"\",TIME(HOUR(E5),MINUTE(E5),0))","v":"07:00:00"},null,null,null,null,null,null,"Der taste kun i de Gule celler"]
[{"$f":"A5+1","v":"2019-04-03"},{"$f":"PROPER(TEXT(A6,\"ddd\"))","v":"On"},"","22:00:00","07:00:00",null,0.375,"01:30:00","",{"$f":"IF(AND(C6=\"\",WEEKDAY(A6,2)<6),ColTime(T.!$J$4,T.!$L$4,D6,E6),\"\")","v":"01:00:00"},null,{"$f":"IF(AND(OR(WEEKDAY(A6,2)=7,C6<>\"\"),E6<D6),ColTime($AF$1,$AG$1,'Januar (4)'!$AF$1,E6),IF(WEEKDAY(A6,2)<6,ColTime(T.!$J$5,T.!$L$5,D6,E6),\"\"))","v":"07:00:00"},null,"",{"$f":"IF(AND(OR(WEEKDAY(A6,2)<6,WEEKDAY(A6,2)=6),C6<>\"\",E6<D6),ColTime(T.!$J$7,T.!$L$7,D6,AF3),IF(AND(WEEKDAY(A6,2)=6,E6<D6),ColTime(T.!$J$7,T.!$L$7,$AF$1,E6),IF(AND(E6<D6,OR(C6<>\"\",WEEKDAY(A6,2)=7)),ColTime(T.!J9,T.!L9,'Januar (4)'!D6,'Januar (4)'!AF3),IF(AND(E6<>\"\",OR(C6<>\"\",WEEKDAY(A6,2)=7)),ColTime(T.!$J$7,T.!$L$7,D6,E6),\"\"))))","v":""},{"$f":"IFERROR(H6+I6,\"\")","v":""},null,null,{"$f":"CHOOSE(WEEKDAY(A6,2),norm!C$1,norm!C$2,norm!C$3,norm!C$4,norm!C$5,norm!C$6,norm!C$7)","v":"07:30:00"},null,null,22,0,"22:00:00",7,0,"07:00:00"]
["2019-04-04","To","","22:00:00","07:00:00",null,0.375,"01:30:00","",{"$f":"IF(AND(C7=\"\",WEEKDAY(A7,2)<6),ColTime(T.!$J$4,T.!$L$4,D7,E7),\"\")","v":"01:00:00"},null,{"$f":"IF(AND(OR(WEEKDAY(A7,2)=7,C7<>\"\"),E7<D7),ColTime($AF$1,$AG$1,'Januar (4)'!$AF$1,E7),IF(WEEKDAY(A7,2)<6,ColTime(T.!$J$5,T.!$L$5,D7,E7),\"\"))","v":"07:00:00"},null,"",{"$f":"IF(AND(OR(WEEKDAY(A7,2)<6,WEEKDAY(A7,2)=6),C7<>\"\",E7<D7),ColTime(T.!$J$7,T.!$L$7,D7,AF4),IF(AND(WEEKDAY(A7,2)=6,E7<D7),ColTime(T.!$J$7,T.!$L$7,$AF$1,E7),IF(AND(E7<D7,OR(C7<>\"\",WEEKDAY(A7,2)=7)),ColTime(T.!J10,T.!L10,'Januar (4)'!D7,'Januar (4)'!AF4),IF(AND(E7<>\"\",OR(C7<>\"\",WEEKDAY(A7,2)=7)),ColTime(T.!$J$7,T.!$L$7,D7,E7),\"\"))))","v":""},{"$f":"IFERROR(H7+I7,\"\")","v":""},null,null,{"$f":"CHOOSE(WEEKDAY(A7,2),norm!C$1,norm!C$2,norm!C$3,norm!C$4,norm!C$5,norm!C$6,norm!C$7)","v":"07:30:00"},null,null,22,0,"22:00:00",7,0,"07:00:00"]
["2019-04-05","Fr","","22:00:00","07:00:00",null,0.375,"02:00:00","",{"$f":"IF(AND(C8=\"\",WEEKDAY(A8,2)<6),ColTime(T.!$J$4,T.!$L$4,D8,E8),\"\")","v":"01:00:00"},null,{"$f":"IF(AND(OR(WEEKDAY(A8,2)=7,C8<>\"\"),E8<D8),ColTime($AF$1,$AG$1,'Januar (4)'!$AF$1,E8),IF(WEEKDAY(A8,2)<6,ColTime(T.!$J$5,T.!$L$5,D8,E8),\"\"))","v":"07:00:00"},null,"",{"$f":"IF(AND(OR(WEEKDAY(A8,2)<6,WEEKDAY(A8,2)=6),C8<>\"\",E8<D8),ColTime(T.!$J$7,T.!$L$7,D8,AF5),IF(AND(WEEKDAY(A8,2)=6,E8<D8),ColTime(T.!$J$7,T.!$L$7,$AF$1,E8),IF(AND(E8<D8,OR(C8<>\"\",WEEKDAY(A8,2)=7)),ColTime(T.!J11,T.!L11,'Januar (4)'!D8,'Januar (4)'!AF5),IF(AND(E8<>\"\",OR(C8<>\"\",WEEKDAY(A8,2)=7)),ColTime(T.!$J$7,T.!$L$7,D8,E8),\"\"))))","v":""},{"$f":"IFERROR(H8+I8,\"\")","v":""},null,null,{"$f":"CHOOSE(WEEKDAY(A8,2),norm!C$1,norm!C$2,norm!C$3,norm!C$4,norm!C$5,norm!C$6,norm!C$7)","v":"07:00:00"},null,null,22,0,"22:00:00",7,0,"07:00:00"]
["2019-04-06","Lø","","22:00:00","07:00:00",null,0.375,"03:00:00","06:00:00",{"$f":"IF(AND(C9=\"\",WEEKDAY(A9,2)<6),ColTime(T.!$J$4,T.!$L$4,D9,E9),\"\")","v":""},null,{"$f":"IF(AND(OR(WEEKDAY(A9,2)=7,C9<>\"\"),E9<D9),ColTime($AF$1,$AG$1,'Januar (4)'!$AF$1,E9),IF(WEEKDAY(A9,2)<6,ColTime(T.!$J$5,T.!$L$5,D9,E9),\"\"))","v":""},null,"02:00:00",{"$f":"IF(AND(OR(WEEKDAY(A9,2)<6,WEEKDAY(A9,2)=6),C9<>\"\",E9<D9),ColTime(T.!$J$7,T.!$L$7,D9,AF6),IF(AND(WEEKDAY(A9,2)=6,E9<D9),ColTime(T.!$J$7,T.!$L$7,$AF$1,E9),IF(AND(E9<D9,OR(C9<>\"\",WEEKDAY(A9,2)=7)),ColTime(T.!J12,T.!L12,'Januar (4)'!D9,'Januar (4)'!AF6),IF(AND(E9<>\"\",OR(C9<>\"\",WEEKDAY(A9,2)=7)),ColTime(T.!$J$7,T.!$L$7,D9,E9),\"\"))))","v":"07:00:00"},{"$f":"IFERROR(H9+I9,\"\")","v":"09:00:00"},null,null,{"$f":"CHOOSE(WEEKDAY(A9,2),norm!C$1,norm!C$2,norm!C$3,norm!C$4,norm!C$5,norm!C$6,norm!C$7)","v":"00:00:00"},null,null,22,0,"22:00:00",7,0,"07:00:00"]
["2019-04-07","Sø","","22:00:00","07:00:00",null,0.375,"00:00:00","09:00:00",{"$f":"IF(AND(C10=\"\",WEEKDAY(A10,2)<6),ColTime(T.!$J$4,T.!$L$4,D10,E10),\"\")","v":""},null,{"$f":"IF(AND(OR(WEEKDAY(A10,2)=7,C10<>\"\"),E10<D10),ColTime($AF$1,$AG$1,'Januar (4)'!$AF$1,E10),IF(WEEKDAY(A10,2)<6,ColTime(T.!$J$5,T.!$L$5,D10,E10),\"\"))","v":"06:00:00"},null,{"$f":"IF(WEEKDAY(A10,2)=6,ColTime(TIME(14,0,0),TIME(24,0,0),D10,E10),\"\")","v":""},{"$f":"IF(AND(OR(WEEKDAY(A10,2)<6,WEEKDAY(A10,2)=6),C10<>\"\",E10<D10),ColTime(T.!$J$7,T.!$L$7,D10,AF7),IF(AND(WEEKDAY(A10,2)=6,E10<D10),ColTime(T.!$J$7,T.!$L$7,$AF$1,E10),IF(AND(E10<D10,OR(C10<>\"\",WEEKDAY(A10,2)=7)),ColTime(T.!J13,T.!L13,'Januar (4)'!D10,'Januar (4)'!AF7),IF(AND(E10<>\"\",OR(C10<>\"\",WEEKDAY(A10,2)=7)),ColTime(T.!$J$7,T.!$L$7,D10,E10),\"\"))))","v":"02:00:00"},"09:00:00",null,null,{"$f":"CHOOSE(WEEKDAY(A10,2),norm!C$1,norm!C$2,norm!C$3,norm!C$4,norm!C$5,norm!C$6,norm!C$7)","v":"00:00:00"},null,null,22,0,"22:00:00",7,0,"07:00:00"]
[{"$f":"A10+1","v":"2019-04-08"},{"$f":"PROPER(TEXT(A11,\"ddd\"))","v":"Ma"},{"$f":"HelligdagsNavn(A11,0,0)","v":""},"22:00:00","07:00:00",null,0.375,"01:30:00","",{"$f":"IF(AND(C11=\"\",WEEKDAY(A11,2)<6),ColTime(T.!$J$4,T.!$L$4,D11,E11),\"\")","v":"01:00:00"},null,{"$f":"IF(AND(OR(WEEKDAY(A11,2)=7,C11<>\"\"),E11<D11),ColTime($AF$1,$AG$1,'Januar (4)'!$AF$1,E11),IF(WEEKDAY(A11,2)<6,ColTime(T.!$J$5,T.!$L$5,D11,E11),\"\"))","v":"07:00:00"},null,{"$f":"IF(WEEKDAY(A11,2)=6,ColTime(TIME(15,0,0),TIME(24,0,0),D11,E11),\"\")","v":""},{"$f":"IF(AND(OR(WEEKDAY(A11,2)<6,WEEKDAY(A11,2)=6),C11<>\"\",E11<D11),ColTime(T.!$J$7,T.!$L$7,D11,AF8),IF(AND(WEEKDAY(A11,2)=6,E11<D11),ColTime(T.!$J$7,T.!$L$7,$AF$1,E11),IF(AND(E11<D11,OR(C11<>\"\",WEEKDAY(A11,2)=7)),ColTime(T.!J14,T.!L14,'Januar (4)'!D11,'Januar (4)'!AF8),IF(AND(E11<>\"\",OR(C11<>\"\",WEEKDAY(A11,2)=7)),ColTime(T.!$J$7,T.!$L$7,D11,E11),\"\"))))","v":""},"",null,null,{"$f":"CHOOSE(WEEKDAY(A11,2),norm!C$1,norm!C$2,norm!C$3,norm!C$4,norm!C$5,norm!C$6,norm!C$7)","v":"07:30:00"},null,null,22,0,"22:00:00",7,0,"07:00:00"]
[{"$f":"A11+1","v":"2019-04-09"},{"$f":"PROPER(TEXT(A12,\"ddd\"))","v":"Ti"},{"$f":"HelligdagsNavn(A12,0,0)","v":""},"22:00:00","07:00:00",null,0.375,"01:30:00","",{"$f":"IF(AND(C12=\"\",WEEKDAY(A12,2)<6),ColTime(T.!$J$4,T.!$L$4,D12,E12),\"\")","v":"01:00:00"},null,{"$f":"IF(AND(OR(WEEKDAY(A12,2)=7,C12<>\"\"),E12<D12),ColTime($AF$1,$AG$1,'Januar (4)'!$AF$1,E12),IF(WEEKDAY(A12,2)<6,ColTime(T.!$J$5,T.!$L$5,D12,E12),\"\"))","v":"07:00:00"},null,"",{"$f":"IF(AND(OR(WEEKDAY(A12,2)<6,WEEKDAY(A12,2)=6),C12<>\"\",E12<D12),ColTime(T.!$J$7,T.!$L$7,D12,AF9),IF(AND(WEEKDAY(A12,2)=6,E12<D12),ColTime(T.!$J$7,T.!$L$7,$AF$1,E12),IF(AND(E12<D12,OR(C12<>\"\",WEEKDAY(A12,2)=7)),ColTime(T.!J15,T.!L15,'Januar (4)'!D12,'Januar (4)'!AF9),IF(AND(E12<>\"\",OR(C12<>\"\",WEEKDAY(A12,2)=7)),ColTime(T.!$J$7,T.!$L$7,D12,E12),\"\"))))","v":""},"",null,null,{"$f":"CHOOSE(WEEKDAY(A12,2),norm!C$1,norm!C$2,norm!C$3,norm!C$4,norm!C$5,norm!C$6,norm!C$7)","v":"07:30:00"},null,null,22,0,"22:00:00",7,0,"07:00:00"]
[{"$f":"A12+1","v":"2019-04-10"},{"$f":"PROPER(TEXT(A13,\"ddd\"))","v":"On"},"","22:00:00","07:00:00",null,0.375,"01:30:00","",{"$f":"IF(AND(C13=\"\",WEEKDAY(A13,2)<6),ColTime(T.!$J$4,T.!$L$4,D13,E13),\"\")","v":"01:00:00"},null,{"$f":"IF(AND(OR(WEEKDAY(A13,2)=7,C13<>\"\"),E13<D13),ColTime($AF$1,$AG$1,'Januar (4)'!$AF$1,E13),IF(WEEKDAY(A13,2)<6,ColTime(T.!$J$5,T.!$L$5,D13,E13),\"\"))","v":"07:00:00"},null,"",{"$f":"IF(AND(OR(WEEKDAY(A13,2)<6,WEEKDAY(A13,2)=6),C13<>\"\",E13<D13),ColTime(T.!$J$7,T.!$L$7,D13,AF10),IF(AND(WEEKDAY(A13,2)=6,E13<D13),ColTime(T.!$J$7,T.!$L$7,$AF$1,E13),IF(AND(E13<D13,OR(C13<>\"\",WEEKDAY(A13,2)=7)),ColTime(T.!J16,T.!L16,'Januar (4)'!D13,'Januar (4)'!AF10),IF(AND(E13<>\"\",OR(C13<>\"\",WEEKDAY(A13,2)=7)),ColTime(T.!$J$7,T.!$L$7,D13,E13),\"\"))))","v":""},"",null,null,{"$f":"CHOOSE(WEEKDAY(A13,2),norm!C$1,norm!C$2,norm!C$3,norm!C$4,norm!C$5,norm!C$6,norm!C$7)","v":"07:30:00"},null,null,22,0,"22:00:00",7,0,"07:00:00"]
["2019-04-11","To","","22:00:00","07:00:00",null,0.375,"01:30:00","",{"$f":"IF(AND(C14=\"\",WEEKDAY(A14,2)<6),ColTime(T.!$J$4,T.!$L$4,D14,E14),\"\")","v":"01:00:00"},null,{"$f":"IF(AND(OR(WEEKDAY(A14,2)=7,C14<>\"\"),E14<D14),ColTime($AF$1,$AG$1,'Januar (4)'!$AF$1,E14),IF(WEEKDAY(A14,2)<6,ColTime(T.!$J$5,T.!$L$5,D14,E14),\"\"))","v":"07:00:00"},null,"",{"$f":"IF(AND(OR(WEEKDAY(A14,2)<6,WEEKDAY(A14,2)=6),C14<>\"\",E14<D14),ColTime(T.!$J$7,T.!$L$7,D14,AF11),IF(AND(WEEKDAY(A14,2)=6,E14<D14),ColTime(T.!$J$7,T.!$L$7,$AF$1,E14),IF(AND(E14<D14,OR(C14<>\"\",WEEKDAY(A14,2)=7)),ColTime(T.!J17,T.!L17,'Januar (4)'!D14,'Januar (4)'!AF11),IF(AND(E14<>\"\",OR(C14<>\"\",WEEKDAY(A14,2)=7)),ColTime(T.!$J$7,T.!$L$7,D14,E14),\"\"))))","v":""},"",null,null,{"$f":"CHOOSE(WEEKDAY(A14,2),norm!C$1,norm!C$2,norm!C$3,norm!C$4,norm!C$5,norm!C$6,norm!C$7)","v":"07:30:00"},null,null,22,0,"22:00:00",7,0,"07:00:00"]
["2019-04-12","Fr","","22:00:00","07:00:00",null,0.375,"02:00:00","",{"$f":"IF(AND(C15=\"\",WEEKDAY(A15,2)<6),ColTime(T.!$J$4,T.!$L$4,D15,E15),\"\")","v":"01:00:00"},null,{"$f":"IF(AND(OR(WEEKDAY(A15,2)=7,C15<>\"\"),E15<D15),ColTime($AF$1,$AG$1,'Januar (4)'!$AF$1,E15),IF(WEEKDAY(A15,2)<6,ColTime(T.!$J$5,T.!$L$5,D15,E15),\"\"))","v":"07:00:00"},null,"",{"$f":"IF(AND(OR(WEEKDAY(A15,2)<6,WEEKDAY(A15,2)=6),C15<>\"\",E15<D15),ColTime(T.!$J$7,T.!$L$7,D15,AF12),IF(AND(WEEKDAY(A15,2)=6,E15<D15),ColTime(T.!$J$7,T.!$L$7,$AF$1,E15),IF(AND(E15<D15,OR(C15<>\"\",WEEKDAY(A15,2)=7)),ColTime(T.!J18,T.!L18,'Januar (4)'!D15,'Januar (4)'!AF12),IF(AND(E15<>\"\",OR(C15<>\"\",WEEKDAY(A15,2)=7)),ColTime(T.!$J$7,T.!$L$7,D15,E15),\"\"))))","v":""},"",null,null,{"$f":"CHOOSE(WEEKDAY(A15,2),norm!C$1,norm!C$2,norm!C$3,norm!C$4,norm!C$5,norm!C$6,norm!C$7)","v":"07:00:00"},null,null,22,0,"22:00:00",7,0,"07:00:00"]
["2019-04-13","Lø","","19:00:00","07:00:00",null,0.5,"03:00:00","09:00:00",{"$f":"IF(AND(C16=\"\",WEEKDAY(A16,2)<6),ColTime(T.!$J$4,T.!$L$4,D16,E16),\"\")","v":""},null,{"$f":"IF(AND(OR(WEEKDAY(A16,2)=7,C16<>\"\"),E16<D16),ColTime($AF$1,$AG$1,'Januar (4)'!$AF$1,E16),IF(WEEKDAY(A16,2)<6,ColTime(T.!$J$5,T.!$L$5,D16,E16),\"\"))","v":""},null,"05:00:00",{"$f":"IF(AND(OR(WEEKDAY(A16,2)<6,WEEKDAY(A16,2)=6),C16<>\"\",E16<D16),ColTime(T.!$J$7,T.!$L$7,D16,AF13),IF(AND(WEEKDAY(A16,2)=6,E16<D16),ColTime(T.!$J$7,T.!$L$7,$AF$1,E16),IF(AND(E16<D16,OR(C16<>\"\",WEEKDAY(A16,2)=7)),ColTime(T.!J19,T.!L19,'Januar (4)'!D16,'Januar (4)'!AF13),IF(AND(E16<>\"\",OR(C16<>\"\",WEEKDAY(A16,2)=7)),ColTime(T.!$J$7,T.!$L$7,D16,E16),\"\"))))","v":"07:00:00"},"12:00:00",null,null,{"$f":"CHOOSE(WEEKDAY(A16,2),norm!C$1,norm!C$2,norm!C$3,norm!C$4,norm!C$5,norm!C$6,norm!C$7)","v":"00:00:00"},null,null,19,0,"19:00:00",7,0,"07:00:00"]
["2019-04-14","Sø","",null,null,null,"",{"$f":"IF(G17=\"\",0,IF(WEEKDAY(A17,2)=7,0,IF(G17>S17,MIN(G17-S17,$AI$1),0)))","v":"00:00:00"},"",{"$f":"IF(AND(C17=\"\",WEEKDAY(A17,2)<6),ColTime(T.!$J$4,T.!$L$4,D17,E17),\"\")","v":""},null,{"$f":"IF(AND(OR(WEEKDAY(A17,2)=7,C17<>\"\"),E17<D17),ColTime($AF$1,$AG$1,'Januar (4)'!$AF$1,E17),IF(WEEKDAY(A17,2)<6,ColTime(T.!$J$5,T.!$L$5,D17,E17),\"\"))","v":""},null,"",{"$f":"IF(AND(OR(WEEKDAY(A17,2)<6,WEEKDAY(A17,2)=6),C17<>\"\",E17<D17),ColTime(T.!$J$7,T.!$L$7,D17,AF14),IF(AND(WEEKDAY(A17,2)=6,E17<D17),ColTime(T.!$J$7,T.!$L$7,$AF$1,E17),IF(AND(E17<D17,OR(C17<>\"\",WEEKDAY(A17,2)=7)),ColTime(T.!J20,T.!L20,'Januar (4)'!D17,'Januar (4)'!AF14),IF(AND(E17<>\"\",OR(C17<>\"\",WEEKDAY(A17,2)=7)),ColTime(T.!$J$7,T.!$L$7,D17,E17),\"\"))))","v":""},"",null,null,{"$f":"CHOOSE(WEEKDAY(A17,2),norm!C$1,norm!C$2,norm!C$3,norm!C$4,norm!C$5,norm!C$6,norm!C$7)","v":"00:00:00"},null,null,"","","","","",""]
[{"$f":"A17+1","v":"2019-04-15"},{"$f":"PROPER(TEXT(A18,\"ddd\"))","v":"Ma"},{"$f":"HelligdagsNavn(A18,0,0)","v":""},"08:00:00","16:00:00",null,0.33333333333333331,"00:30:00","",{"$f":"IF(AND(C18=\"\",WEEKDAY(A18,2)<6),ColTime(T.!$J$4,T.!$L$4,D18,E18),\"\")","v":"00:00:00"},null,{"$f":"IF(AND(OR(WEEKDAY(A18,2)=7,C18<>\"\"),E18<D18),ColTime($AF$1,$AG$1,'Januar (4)'!$AF$1,E18),IF(WEEKDAY(A18,2)<6,ColTime(T.!$J$5,T.!$L$5,D18,E18),\"\"))","v":"00:00:00"},null,"",{"$f":"IF(AND(OR(WEEKDAY(A18,2)<6,WEEKDAY(A18,2)=6),C18<>\"\",E18<D18),ColTime(T.!$J$7,T.!$L$7,D18,AF15),IF(AND(WEEKDAY(A18,2)=6,E18<D18),ColTime(T.!$J$7,T.!$L$7,$AF$1,E18),IF(AND(E18<D18,OR(C18<>\"\",WEEKDAY(A18,2)=7)),ColTime(T.!J21,T.!L21,'Januar (4)'!D18,'Januar (4)'!AF15),IF(AND(E18<>\"\",OR(C18<>\"\",WEEKDAY(A18,2)=7)),ColTime(T.!$J$7,T.!$L$7,D18,E18),\"\"))))","v":""},"",null,null,{"$f":"CHOOSE(WEEKDAY(A18,2),norm!C$1,norm!C$2,norm!C$3,norm!C$4,norm!C$5,norm!C$6,norm!C$7)","v":"07:30:00"},null,null,8,0,"08:00:00",16,0,"16:00:00"]
[{"$f":"A18+1","v":"2019-04-16"},{"$f":"PROPER(TEXT(A19,\"ddd\"))","v":"Ti"},{"$f":"HelligdagsNavn(A19,0,0)","v":""},null,null,null,"","00:00:00","",{"$f":"IF(AND(C19=\"\",WEEKDAY(A19,2)<6),ColTime(T.!$J$4,T.!$L$4,D19,E19),\"\")","v":"00:00:00"},null,{"$f":"IF(AND(OR(WEEKDAY(A19,2)=7,C19<>\"\"),E19<D19),ColTime($AF$1,$AG$1,'Januar (4)'!$AF$1,E19),IF(WEEKDAY(A19,2)<6,ColTime(T.!$J$5,T.!$L$5,D19,E19),\"\"))","v":"00:00:00"},null,"",{"$f":"IF(AND(OR(WEEKDAY(A19,2)<6,WEEKDAY(A19,2)=6),C19<>\"\",E19<D19),ColTime(T.!$J$7,T.!$L$7,D19,AF16),IF(AND(WEEKDAY(A19,2)=6,E19<D19),ColTime(T.!$J$7,T.!$L$7,$AF$1,E19),IF(AND(E19<D19,OR(C19<>\"\",WEEKDAY(A19,2)=7)),ColTime(T.!J22,T.!L22,'Januar (4)'!D19,'Januar (4)'!AF16),IF(AND(E19<>\"\",OR(C19<>\"\",WEEKDAY(A19,2)=7)),ColTime(T.!$J$7,T.!$L$7,D19,E19),\"\"))))","v":""},"",null,null,{"$f":"CHOOSE(WEEKDAY(A19,2),norm!C$1,norm!C$2,norm!C$3,norm!C$4,norm!C$5,norm!C$6,norm!C$7)","v":"07:30:00"},null,null,"","","","","",""]
[{"$f":"A19+1","v":"2019-04-17"},{"$f":"PROPER(TEXT(A20,\"ddd\"))","v":"On"},"",null,null,null,"","00:00:00","",{"$f":"IF(AND(C20=\"\",WEEKDAY(A20,2)<6),ColTime(T.!$J$4,T.!$L$4,D20,E20),\"\")","v":"00:00:00"},null,{"$f":"IF(AND(OR(WEEKDAY(A20,2)=7,C20<>\"\"),E20<D20),ColTime($AF$1,$AG$1,'Januar (4)'!$AF$1,E20),IF(WEEKDAY(A20,2)<6,ColTime(T.!$J$5,T.!$L$5,D20,E20),\"\"))","v":"00:00:00"},null,"",{"$f":"IF(AND(OR(WEEKDAY(A20,2)<6,WEEKDAY(A20,2)=6),C20<>\"\",E20<D20),ColTime(T.!$J$7,T.!$L$7,D20,AF17),IF(AND(WEEKDAY(A20,2)=6,E20<D20),ColTime(T.!$J$7,T.!$L$7,$AF$1,E20),IF(AND(E20<D20,OR(C20<>\"\",WEEKDAY(A20,2)=7)),ColTime(T.!J23,T.!L23,'Januar (4)'!D20,'Januar (4)'!AF17),IF(AND(E20<>\"\",OR(C20<>\"\",WEEKDAY(A20,2)=7)),ColTime(T.!$J$7,T.!$L$7,D20,E20),\"\"))))","v":""},"",null,null,{"$f":"CHOOSE(WEEKDAY(A20,2),norm!C$1,norm!C$2,norm!C$3,norm!C$4,norm!C$5,norm!C$6,norm!C$7)","v":"07:30:00"},null,null,"","","","","",""]
["2019-04-18","To","Skærtorsdag",null,null,null,"","00:00:00","",{"$f":"IF(AND(C21=\"\",WEEKDAY(A21,2)<6),ColTime(T.!$J$4,T.!$L$4,D21,E21),\"\")","v":""},null,{"$f":"IF(AND(OR(WEEKDAY(A21,2)=7,C21<>\"\"),E21<D21),ColTime($AF$1,$AG$1,'Januar (4)'!$AF$1,E21),IF(WEEKDAY(A21,2)<6,ColTime(T.!$J$5,T.!$L$5,D21,E21),\"\"))","v":"00:00:00"},null,"",{"$f":"IF(AND(OR(WEEKDAY(A21,2)<6,WEEKDAY(A21,2)=6),C21<>\"\",E21<D21),ColTime(T.!$J$7,T.!$L$7,D21,AF18),IF(AND(WEEKDAY(A21,2)=6,E21<D21),ColTime(T.!$J$7,T.!$L$7,$AF$1,E21),IF(AND(E21<D21,OR(C21<>\"\",WEEKDAY(A21,2)=7)),ColTime(T.!J24,T.!L24,'Januar (4)'!D21,'Januar (4)'!AF18),IF(AND(E21<>\"\",OR(C21<>\"\",WEEKDAY(A21,2)=7)),ColTime(T.!$J$7,T.!$L$7,D21,E21),\"\"))))","v":""},"",null,null,{"$f":"CHOOSE(WEEKDAY(A21,2),norm!C$1,norm!C$2,norm!C$3,norm!C$4,norm!C$5,norm!C$6,norm!C$7)","v":"07:30:00"},null,null,"","","","","",""]
["2019-04-19","Fr","Langfredag",null,null,null,"","00:00:00","",{"$f":"IF(AND(C22=\"\",WEEKDAY(A22,2)<6),ColTime(T.!$J$4,T.!$L$4,D22,E22),\"\")","v":""},null,{"$f":"IF(AND(OR(WEEKDAY(A22,2)=7,C22<>\"\"),E22<D22),ColTime($AF$1,$AG$1,'Januar (4)'!$AF$1,E22),IF(WEEKDAY(A22,2)<6,ColTime(T.!$J$5,T.!$L$5,D22,E22),\"\"))","v":"00:00:00"},null,"",{"$f":"IF(AND(OR(WEEKDAY(A22,2)<6,WEEKDAY(A22,2)=6),C22<>\"\",E22<D22),ColTime(T.!$J$7,T.!$L$7,D22,AF19),IF(AND(WEEKDAY(A22,2)=6,E22<D22),ColTime(T.!$J$7,T.!$L$7,$AF$1,E22),IF(AND(E22<D22,OR(C22<>\"\",WEEKDAY(A22,2)=7)),ColTime(T.!J25,T.!L25,'Januar (4)'!D22,'Januar (4)'!AF19),IF(AND(E22<>\"\",OR(C22<>\"\",WEEKDAY(A22,2)=7)),ColTime(T.!$J$7,T.!$L$7,D22,E22),\"\"))))","v":""},"",null,null,{"$f":"CHOOSE(WEEKDAY(A22,2),norm!C$1,norm!C$2,norm!C$3,norm!C$4,norm!C$5,norm!C$6,norm!C$7)","v":"07:00:00"},null,null,"","","","","",""]
["2019-04-20","Lø","","16:00:00","20:00:00",null,0.16666666666666674,"03:00:00","01:00:00",{"$f":"IF(AND(C23=\"\",WEEKDAY(A23,2)<6),ColTime(T.!$J$4,T.!$L$4,D23,E23),\"\")","v":""},null,{"$f":"IF(AND(OR(WEEKDAY(A23,2)=7,C23<>\"\"),E23<D23),ColTime($AF$1,$AG$1,'Januar (4)'!$AF$1,E23),IF(WEEKDAY(A23,2)<6,ColTime(T.!$J$5,T.!$L$5,D23,E23),\"\"))","v":""},null,"04:00:00",{"$f":"IF(AND(OR(WEEKDAY(A23,2)<6,WEEKDAY(A23,2)=6),C23<>\"\",E23<D23),ColTime(T.!$J$7,T.!$L$7,D23,AF20),IF(AND(WEEKDAY(A23,2)=6,E23<D23),ColTime(T.!$J$7,T.!$L$7,$AF$1,E23),IF(AND(E23<D23,OR(C23<>\"\",WEEKDAY(A23,2)=7)),ColTime(T.!J26,T.!L26,'Januar (4)'!D23,'Januar (4)'!AF20),IF(AND(E23<>\"\",OR(C23<>\"\",WEEKDAY(A23,2)=7)),ColTime(T.!$J$7,T.!$L$7,D23,E23),\"\"))))","v":""},"04:00:00",null,null,{"$f":"CHOOSE(WEEKDAY(A23,2),norm!C$1,norm!C$2,norm!C$3,norm!C$4,norm!C$5,norm!C$6,norm!C$7)","v":"00:00:00"},null,null,16,0,"16:00:00",20,0,"20:00:00"]
["2019-04-21","Sø","Påskedag",null,null,null,"","00:00:00","",{"$f":"IF(AND(C24=\"\",WEEKDAY(A24,2)<6),ColTime(T.!$J$4,T.!$L$4,D24,E24),\"\")","v":""},null,{"$f":"IF(AND(OR(WEEKDAY(A24,2)=7,C24<>\"\"),E24<D24),ColTime($AF$1,$AG$1,'Januar (4)'!$AF$1,E24),IF(WEEKDAY(A24,2)<6,ColTime(T.!$J$5,T.!$L$5,D24,E24),\"\"))","v":""},null,"",{"$f":"IF(AND(OR(WEEKDAY(A24,2)<6,WEEKDAY(A24,2)=6),C24<>\"\",E24<D24),ColTime(T.!$J$7,T.!$L$7,D24,AF21),IF(AND(WEEKDAY(A24,2)=6,E24<D24),ColTime(T.!$J$7,T.!$L$7,$AF$1,E24),IF(AND(E24<D24,OR(C24<>\"\",WEEKDAY(A24,2)=7)),ColTime(T.!J27,T.!L27,'Januar (4)'!D24,'Januar (4)'!AF21),IF(AND(E24<>\"\",OR(C24<>\"\",WEEKDAY(A24,2)=7)),ColTime(T.!$J$7,T.!$L$7,D24,E24),\"\"))))","v":""},"",null,null,{"$f":"CHOOSE(WEEKDAY(A24,2),norm!C$1,norm!C$2,norm!C$3,norm!C$4,norm!C$5,norm!C$6,norm!C$7)","v":"00:00:00"},null,null,"","","","","",""]
[{"$f":"A24+1","v":"2019-04-22"},{"$f":"PROPER(TEXT(A25,\"ddd\"))","v":"Ma"},{"$f":"HelligdagsNavn(A25,0,0)","v":"2. Påskedag"},null,null,null,"","00:00:00","",{"$f":"IF(AND(C25=\"\",WEEKDAY(A25,2)<6),ColTime(T.!$J$4,T.!$L$4,D25,E25),\"\")","v":""},null,{"$f":"IF(AND(OR(WEEKDAY(A25,2)=7,C25<>\"\"),E25<D25),ColTime($AF$1,$AG$1,'Januar (4)'!$AF$1,E25),IF(WEEKDAY(A25,2)<6,ColTime(T.!$J$5,T.!$L$5,D25,E25),\"\"))","v":"00:00:00"},null,"",{"$f":"IF(AND(OR(WEEKDAY(A25,2)<6,WEEKDAY(A25,2)=6),C25<>\"\",E25<D25),ColTime(T.!$J$7,T.!$L$7,D25,AF22),IF(AND(WEEKDAY(A25,2)=6,E25<D25),ColTime(T.!$J$7,T.!$L$7,$AF$1,E25),IF(AND(E25<D25,OR(C25<>\"\",WEEKDAY(A25,2)=7)),ColTime(T.!J28,T.!L28,'Januar (4)'!D25,'Januar (4)'!AF22),IF(AND(E25<>\"\",OR(C25<>\"\",WEEKDAY(A25,2)=7)),ColTime(T.!$J$7,T.!$L$7,D25,E25),\"\"))))","v":""},"",null,null,{"$f":"CHOOSE(WEEKDAY(A25,2),norm!C$1,norm!C$2,norm!C$3,norm!C$4,norm!C$5,norm!C$6,norm!C$7)","v":"07:30:00"},null,null,"","","","","",""]
[{"$f":"A25+1","v":"2019-04-23"},{"$f":"PROPER(TEXT(A26,\"ddd\"))","v":"Ti"},{"$f":"HelligdagsNavn(A26,0,0)","v":""},null,null,null,"","00:00:00","",{"$f":"IF(AND(C26=\"\",WEEKDAY(A26,2)<6),ColTime(T.!$J$4,T.!$L$4,D26,E26),\"\")","v":"00:00:00"},null,{"$f":"IF(AND(OR(WEEKDAY(A26,2)=7,C26<>\"\"),E26<D26),ColTime($AF$1,$AG$1,'Januar (4)'!$AF$1,E26),IF(WEEKDAY(A26,2)<6,ColTime(T.!$J$5,T.!$L$5,D26,E26),\"\"))","v":"00:00:00"},null,"",{"$f":"IF(AND(OR(WEEKDAY(A26,2)<6,WEEKDAY(A26,2)=6),C26<>\"\",E26<D26),ColTime(T.!$J$7,T.!$L$7,D26,AF23),IF(AND(WEEKDAY(A26,2)=6,E26<D26),ColTime(T.!$J$7,T.!$L$7,$AF$1,E26),IF(AND(E26<D26,OR(C26<>\"\",WEEKDAY(A26,2)=7)),ColTime(T.!J29,T.!L29,'Januar (4)'!D26,'Januar (4)'!AF23),IF(AND(E26<>\"\",OR(C26<>\"\",WEEKDAY(A26,2)=7)),ColTime(T.!$J$7,T.!$L$7,D26,E26),\"\"))))","v":""},"",null,null,{"$f":"CHOOSE(WEEKDAY(A26,2),norm!C$1,norm!C$2,norm!C$3,norm!C$4,norm!C$5,norm!C$6,norm!C$7)","v":"07:30:00"},null,null,"","","","","",""]
[{"$f":"A26+1","v":"2019-04-24"},{"$f":"PROPER(TEXT(A27,\"ddd\"))","v":"On"},"",null,null,null,"","00:00:00","",{"$f":"IF(AND(C27=\"\",WEEKDAY(A27,2)<6),ColTime(T.!$J$4,T.!$L$4,D27,E27),\"\")","v":"00:00:00"},null,{"$f":"IF(AND(OR(WEEKDAY(A27,2)=7,C27<>\"\"),E27<D27),ColTime($AF$1,$AG$1,'Januar (4)'!$AF$1,E27),IF(WEEKDAY(A27,2)<6,ColTime(T.!$J$5,T.!$L$5,D27,E27),\"\"))","v":"00:00:00"},null,"",{"$f":"IF(AND(OR(WEEKDAY(A27,2)<6,WEEKDAY(A27,2)=6),C27<>\"\",E27<D27),ColTime(T.!$J$7,T.!$L$7,D27,AF24),IF(AND(WEEKDAY(A27,2)=6,E27<D27),ColTime(T.!$J$7,T.!$L$7,$AF$1,E27),IF(AND(E27<D27,OR(C27<>\"\",WEEKDAY(A27,2)=7)),ColTime(T.!J30,T.!L30,'Januar (4)'!D27,'Januar (4)'!AF24),IF(AND(E27<>\"\",OR(C27<>\"\",WEEKDAY(A27,2)=7)),ColTime(T.!$J$7,T.!$L$7,D27,E27),\"\"))))","v":""},"",null,null,{"$f":"CHOOSE(WEEKDAY(A27,2),norm!C$1,norm!C$2,norm!C$3,norm!C$4,norm!C$5,norm!C$6,norm!C$7)","v":"07:30:00"},null,null,"","","","","",""]
["2019-04-25","To","",null,null,null,"","00:00:00","",{"$f":"IF(AND(C28=\"\",WEEKDAY(A28,2)<6),ColTime(T.!$J$4,T.!$L$4,D28,E28),\"\")","v":"00:00:00"},null,{"$f":"IF(AND(OR(WEEKDAY(A28,2)=7,C28<>\"\"),E28<D28),ColTime($AF$1,$AG$1,'Januar (4)'!$AF$1,E28),IF(WEEKDAY(A28,2)<6,ColTime(T.!$J$5,T.!$L$5,D28,E28),\"\"))","v":"00:00:00"},null,"",{"$f":"IF(AND(OR(WEEKDAY(A28,2)<6,WEEKDAY(A28,2)=6),C28<>\"\",E28<D28),ColTime(T.!$J$7,T.!$L$7,D28,AF25),IF(AND(WEEKDAY(A28,2)=6,E28<D28),ColTime(T.!$J$7,T.!$L$7,$AF$1,E28),IF(AND(E28<D28,OR(C28<>\"\",WEEKDAY(A28,2)=7)),ColTime(T.!J31,T.!L31,'Januar (4)'!D28,'Januar (4)'!AF25),IF(AND(E28<>\"\",OR(C28<>\"\",WEEKDAY(A28,2)=7)),ColTime(T.!$J$7,T.!$L$7,D28,E28),\"\"))))","v":""},"",null,null,{"$f":"CHOOSE(WEEKDAY(A28,2),norm!C$1,norm!C$2,norm!C$3,norm!C$4,norm!C$5,norm!C$6,norm!C$7)","v":"07:30:00"},null,null,"","","","","",""]
["2019-04-26","Fr","",null,null,null,"","00:00:00","",{"$f":"IF(AND(C29=\"\",WEEKDAY(A29,2)<6),ColTime(T.!$J$4,T.!$L$4,D29,E29),\"\")","v":"00:00:00"},null,{"$f":"IF(AND(OR(WEEKDAY(A29,2)=7,C29<>\"\"),E29<D29),ColTime($AF$1,$AG$1,'Januar (4)'!$AF$1,E29),IF(WEEKDAY(A29,2)<6,ColTime(T.!$J$5,T.!$L$5,D29,E29),\"\"))","v":"00:00:00"},null,"",{"$f":"IF(AND(OR(WEEKDAY(A29,2)<6,WEEKDAY(A29,2)=6),C29<>\"\",E29<D29),ColTime(T.!$J$7,T.!$L$7,D29,AF26),IF(AND(WEEKDAY(A29,2)=6,E29<D29),ColTime(T.!$J$7,T.!$L$7,$AF$1,E29),IF(AND(E29<D29,OR(C29<>\"\",WEEKDAY(A29,2)=7)),ColTime(T.!J32,T.!L32,'Januar (4)'!D29,'Januar (4)'!AF26),IF(AND(E29<>\"\",OR(C29<>\"\",WEEKDAY(A29,2)=7)),ColTime(T.!$J$7,T.!$L$7,D29,E29),\"\"))))","v":""},"",null,null,{"$f":"CHOOSE(WEEKDAY(A29,2),norm!C$1,norm!C$2,norm!C$3,norm!C$4,norm!C$5,norm!C$6,norm!C$7)","v":"07:00:00"}]
["2019-04-27","Lø","",null,null,null,"","00:00:00","",{"$f":"IF(AND(C30=\"\",WEEKDAY(A30,2)<6),ColTime(T.!$J$4,T.!$L$4,D30,E30),\"\")","v":""},null,{"$f":"IF(AND(OR(WEEKDAY(A30,2)=7,C30<>\"\"),E30<D30),ColTime($AF$1,$AG$1,'Januar (4)'!$AF$1,E30),IF(WEEKDAY(A30,2)<6,ColTime(T.!$J$5,T.!$L$5,D30,E30),\"\"))","v":""},null,"00:00:00",{"$f":"IF(AND(OR(WEEKDAY(A30,2)<6,WEEKDAY(A30,2)=6),C30<>\"\",E30<D30),ColTime(T.!$J$7,T.!$L$7,D30,AF27),IF(AND(WEEKDAY(A30,2)=6,E30<D30),ColTime(T.!$J$7,T.!$L$7,$AF$1,E30),IF(AND(E30<D30,OR(C30<>\"\",WEEKDAY(A30,2)=7)),ColTime(T.!J33,T.!L33,'Januar (4)'!D30,'Januar (4)'!AF27),IF(AND(E30<>\"\",OR(C30<>\"\",WEEKDAY(A30,2)=7)),ColTime(T.!$J$7,T.!$L$7,D30,E30),\"\"))))","v":""},"",null,null,{"$f":"CHOOSE(WEEKDAY(A30,2),norm!C$1,norm!C$2,norm!C$3,norm!C$4,norm!C$5,norm!C$6,norm!C$7)","v":"00:00:00"}]
["2019-04-28","Sø","",null,null,null,"","00:00:00","",{"$f":"IF(AND(C31=\"\",WEEKDAY(A31,2)<6),ColTime(T.!$J$4,T.!$L$4,D31,E31),\"\")","v":""},null,{"$f":"IF(AND(OR(WEEKDAY(A31,2)=7,C31<>\"\"),E31<D31),ColTime($AF$1,$AG$1,'Januar (4)'!$AF$1,E31),IF(WEEKDAY(A31,2)<6,ColTime(T.!$J$5,T.!$L$5,D31,E31),\"\"))","v":""},null,"",{"$f":"IF(AND(OR(WEEKDAY(A31,2)<6,WEEKDAY(A31,2)=6),C31<>\"\",E31<D31),ColTime(T.!$J$7,T.!$L$7,D31,AF28),IF(AND(WEEKDAY(A31,2)=6,E31<D31),ColTime(T.!$J$7,T.!$L$7,$AF$1,E31),IF(AND(E31<D31,OR(C31<>\"\",WEEKDAY(A31,2)=7)),ColTime(T.!J34,T.!L34,'Januar (4)'!D31,'Januar (4)'!AF28),IF(AND(E31<>\"\",OR(C31<>\"\",WEEKDAY(A31,2)=7)),ColTime(T.!$J$7,T.!$L$7,D31,E31),\"\"))))","v":""},"",null,null,{"$f":"CHOOSE(WEEKDAY(A31,2),norm!C$1,norm!C$2,norm!C$3,norm!C$4,norm!C$5,norm!C$6,norm!C$7)","v":"00:00:00"}]
[{"$f":"IFERROR(IF(MONTH(A31+1)>MONTH(A31),\"\",A31+1),\"\")","v":"2019-04-29"},"Ma",{"$f":"IF(A32=\"\",\"\",HelligdagsNavn(A32,0,0))","v":""},null,null,null,"","00:00:00","",{"$f":"IFERROR(IF(AND(C32=\"\",WEEKDAY(A32,2)<6),ColTime(T.!$J$4,T.!$L$4,D32,E32),\"\"),\"\")","v":"00:00:00"},null,{"$f":"IFERROR(IF(AND(OR(WEEKDAY(A32,2)=7,C32<>\"\"),E32<D32),ColTime($AF$1,$AG$1,'Januar (4)'!$AF$1,E32),IF(WEEKDAY(A32,2)<6,ColTime(T.!$J$5,T.!$L$5,D32,E32),\"\")),\"\")","v":"00:00:00"},null,{"$f":"IFERROR(IF(WEEKDAY(A32,2)=6,ColTime(TIME(15,0,0),TIME(24,0,0),D32,E32),\"\"),\"\")","v":""},{"$f":"IFERROR(IF(AND(OR(WEEKDAY(A32,2)<6,WEEKDAY(A32,2)=6),C32<>\"\",E32<D32),ColTime(T.!$J$7,T.!$L$7,D32,AF29),IF(AND(WEEKDAY(A32,2)=6,E32<D32),ColTime(T.!$J$7,T.!$L$7,$AF$1,E32),IF(AND(E32<D32,OR(C32<>\"\",WEEKDAY(A32,2)=7)),ColTime(T.!J35,T.!L35,'Januar (4)'!D32,'Januar (4)'!AF29),IF(AND(E32<>\"\",OR(C32<>\"\",WEEKDAY(A32,2)=7)),ColTime(T.!$J$7,T.!$L$7,D32,E32),\"\")))),\"\")","v":""},"",null,null,{"$f":"IFERROR(CHOOSE(WEEKDAY(A32,2),norm!C$1,norm!C$2,norm!C$3,norm!C$4,norm!C$5,norm!C$6,norm!C$7),\"\")","v":"07:30:00"}]
[{"$f":"IFERROR(IF(MONTH(A32+1)>MONTH(A32),\"\",A32+1),\"\")","v":"2019-04-30"},"Ti","",null,null,null,"","00:00:00","",{"$f":"IFERROR(IF(AND(C33=\"\",WEEKDAY(A33,2)<6),ColTime(T.!$J$4,T.!$L$4,D33,E33),\"\"),\"\")","v":"00:00:00"},null,{"$f":"IFERROR(IF(AND(OR(WEEKDAY(A33,2)=7,C33<>\"\"),E33<D33),ColTime($AF$1,$AG$1,'Januar (4)'!$AF$1,E33),IF(WEEKDAY(A33,2)<6,ColTime(T.!$J$5,T.!$L$5,D33,E33),\"\")),\"\")","v":"00:00:00"},null,{"$f":"IFERROR(IF(WEEKDAY(A33,2)=6,ColTime(TIME(15,0,0),TIME(24,0,0),D33,E33),\"\"),\"\")","v":""},{"$f":"IFERROR(IF(AND(OR(WEEKDAY(A33,2)<6,WEEKDAY(A33,2)=6),C33<>\"\",E33<D33),ColTime(T.!$J$7,T.!$L$7,D33,AF30),IF(AND(WEEKDAY(A33,2)=6,E33<D33),ColTime(T.!$J$7,T.!$L$7,$AF$1,E33),IF(AND(E33<D33,OR(C33<>\"\",WEEKDAY(A33,2)=7)),ColTime(T.!J36,T.!L36,'Januar (4)'!D33,'Januar (4)'!AF30),IF(AND(E33<>\"\",OR(C33<>\"\",WEEKDAY(A33,2)=7)),ColTime(T.!$J$7,T.!$L$7,D33,E33),\"\")))),\"\")","v":""},"",null,null,{"$f":"IFERROR(CHOOSE(WEEKDAY(A33,2),norm!C$1,norm!C$2,norm!C$3,norm!C$4,norm!C$5,norm!C$6,norm!C$7),\"\")","v":"07:30:00"}]
["",{"$f":"IFERROR(PROPER(TEXT(A34,\"ddd\")),\"\")","v":""},{"$f":"IF(A34=\"\",\"\",HelligdagsNavn(A34,0,0))","v":""},null,null,null,"","00:00:00","",{"$f":"IFERROR(IF(AND(C34=\"\",WEEKDAY(A34,2)<6),ColTime(T.!$J$4,T.!$L$4,D34,E34),\"\"),\"\")","v":""},null,{"$f":"IFERROR(IF(AND(OR(WEEKDAY(A34,2)=7,C34<>\"\"),E34<D34),ColTime($AF$1,$AG$1,'Januar (4)'!$AF$1,E34),IF(WEEKDAY(A34,2)<6,ColTime(T.!$J$5,T.!$L$5,D34,E34),\"\")),\"\")","v":""},null,{"$f":"IFERROR(IF(WEEKDAY(A34,2)=6,ColTime(TIME(15,0,0),TIME(24,0,0),D34,E34),\"\"),\"\")","v":""},{"$f":"IFERROR(IF(AND(OR(WEEKDAY(A34,2)<6,WEEKDAY(A34,2)=6),C34<>\"\",E34<D34),ColTime(T.!$J$7,T.!$L$7,D34,AF31),IF(AND(WEEKDAY(A34,2)=6,E34<D34),ColTime(T.!$J$7,T.!$L$7,$AF$1,E34),IF(AND(E34<D34,OR(C34<>\"\",WEEKDAY(A34,2)=7)),ColTime(T.!J37,T.!L37,'Januar (4)'!D34,'Januar (4)'!AF31),IF(AND(E34<>\"\",OR(C34<>\"\",WEEKDAY(A34,2)=7)),ColTime(T.!$J$7,T.!$L$7,D34,E34),\"\")))),\"\")","v":""},"",null,null,{"$f":"IFERROR(CHOOSE(WEEKDAY(A34,2),norm!C$1,norm!C$2,norm!C$3,norm!C$4,norm!C$5,norm!C$6,norm!C$7),\"\")","v":""},null,null,{"$f":"IF(D34=\"\",\"\",HOUR(D34))","v":""},{"$f":"IF(D34=\"\",\"\",MINUTE(D34))","v":""},{"$f":"IF(D34=\"\",\"\",TIME(HOUR(D34),MINUTE(D34),0))","v":""},{"$f":"IF(E34=\"\",\"\",HOUR(E34))","v":""},{"$f":"IF(E34=\"\",\"\",MINUTE(E34))","v":""},{"$f":"IF(E34=\"\",\"\",TIME(HOUR(E34),MINUTE(E34),0))","v":""}]
["Total timer",null,null,null,null,null,{"$f":"IF(SUM(G9:G34)<>\"0\",SUM(G4:G34),\"\")","v":5.8333333333333339},{"$f":"IF(SUM(H9:H34)<>\"0\",SUM(H4:H34),\"\")","v":1.1874999999999998},{"$f":"IF(SUM(I9:I34)<>\"0\",SUM(I4:I34),\"\")","v":1.2500000000000002},{"$f":"IF(SUM(J9:J34)<>\"0\",SUM(J4:J34),\"\")","v":0.75000000000000067},null,{"$f":"IF(SUM(L9:L34)<>\"0\",SUM(L4:L34),\"\")","v":3.1666666666666656},null,{"$f":"IF(SUM(N9:N34)<>\"0\",SUM(N4:N34),\"\")","v":0.45833333333333348},{"$f":"IF(SUM(O9:O34)<>\"0\",SUM(O4:O34),\"\")","v":0.66666666666666674},{"$f":"SUM(P4:P34)","v":1.8750000000000002},{"$f":"SUM(Q4:Q34)","v":0}]
["Timer 1/100",null,null,null,null,null,{"$f":"IF(G35<>\"\",ROUND(G35*24,2),\"\")","v":140},{"$f":"IF(H35<>\"\",ROUND(H35*24,2),\"\")","v":28.5},30,{"$f":"IF(J35<>\"\",ROUND(J35*24,2),\"\")","v":18},null,{"$f":"IF(L35<>\"\",ROUND(L35*24,2),\"\")","v":76},null,{"$f":"IF(N35<>\"\",ROUND(N35*24,2),\"\")","v":11},16,45,0]
["Satser",null,null,null,null,null,{"$f":"Satser!B7","v":107.35},{"$f":"Satser!B9","v":36.35},{"$f":"Satser!B12","v":58.1},{"$f":"Satser!B17","v":13.91},null,{"$f":"Satser!B18","v":23.19},null,{"$f":"Satser!B19","v":24.89},{"$f":"Satser!B20","v":27.63}]
[null,null,null,null,null,null,{"$f":"IF(G35<>\"\",G36*G37,\"\")","v":15029},{"$f":"IF(H35<>\"\",H36*H37,\"\")","v":1035.9750000000001},1743,{"$f":"IF(J35<>\"\",J36*J37,\"\")","v":250.38},null,{"$f":"IF(L35<>\"\",L36*L36,\"\")","v":5776},null,{"$f":"IF(N35<>\"\",N36*N37,\"\")","v":273.79000000000002},442.08]
[]
["Lønart"]
[3025,null,null,null,null,null,{"$f":"G35","v":5.8333333333333339}]
[3425,null,null,null,null,null,{"$f":"H35","v":1.1874999999999998}]
[3428,null,null,null,null,null,{"$f":"I35","v":1.2500000000000002}]
["Timer",null,null,null,null,null,{"$f":"SUM(G41:G43)","v":8.2708333333333339},{"$f":"IF(G44<>\"\",ROUND(G44*24,2),\"\")","v":198.5}]
[null,null,null,null,null,null,null,{"$f":"G37*H44","v":21308.974999999999}]

{"sheet":"Januar (5)","index":6,"n_rows":45,"n_cols":35,"rows_kept":45,"cut":false,"hidden":true,"merged":[[39,0,39,2],[40,0,40,2],[41,0,41,2],[42,0,42,2],[43,0,43,5],[35,9,35,10],[35,11,35,12],[36,9,36,10],[36,11,36,12],[37,9,37,10],[37,11,37,12],[32,9,32,10],[32,11,32,12],[33,9,33,10],[33,11,33,12],[34,9,34,10],[34,11,34,12],[29,9,29,10],[29,11,29,12],[30,9,30,10],[30,11,30,12],[31,9,31,10],[31,11,31,12],[26,9,26,10],[26,11,26,12],[27,9,27,10],[27,11,27,12],[28,9,28,10],[28,11,28,12],[23,9,23,10],[23,11,23,12],[24,9,24,10],[24,11,24,12],[25,9,25,10],[25,11,25,12],[20,9,20,10],[20,11,20,12],[21,9,21,10],[21,11,21,12],[22,9,22,10],[22,11,22,12],[17,9,17,10],[17,11,17,12],[18,9,18,10],[18,11,18,12],[19,9,19,10],[19,11,19,12],[14,9,14,10],[14,11,14,12],[15,9,15,10],[15,11,15,12],[16,9,16,10],[16,11,16,12],[11,9,11,10],[11,11,11,12],[12,9,12,10],[12,11,12,12],[13,9,13,10],[13,11,13,12],[8,9,8,10],[8,11,8,12],[9,9,9,10],[9,11,9,12],[10,9,10,10],[10,11,10,12],[5,9,5,10],[5,11,5,12],[6,9,6,10],[6,11,6,12],[7,9,7,10],[7,11,7,12],[4,9,4,10],[4,11,4,12],[0,1,0,7],[0,10,0,11],[0,13,0,14],[1,1,1,2],[1,9,1,10],[1,11,1,12],[2,1,2,2],[2,9,2,10],[2,11,2,12],[3,9,3,10],[3,11,3,12]]}
["Løn",{"$f":"PROPER(TEXT(A4,\"dd mmmm åååå\")) & PROPER(TEXT(N1,\"  -  dd mmmm åååå\"))","v":"01 Maj 2019  -  31 Maj 2019"},null,null,null,null,null,null,"Uge :",{"$f":"IF(A4=\"\",\"\",TRUNC((A4-WEEKDAY(A4,2)-DATE(YEAR(A4+4-WEEKDAY(A4,2)),1,-10))/7))","v":18},"-",null,{"$f":"IF(A25=\"\",\"\",TRUNC((A25-WEEKDAY(A25,2)-DATE(YEAR(A25+4-WEEKDAY(A25,2)),1,-10))/7))","v":21},{"$f":"EOMONTH(A4,0)","v":"2019-05-31"},null,5,null,null,null,null,null,"Time beregning:",null,null,null,null,null,null,null,null,null,1,"06:00:00","18:00:00","03:00:00"]
["Lønart",null,null,null,null,null,null,null,null,null,null,null,null,null,null,null,null,null,null,null,null,"Betalt pause ved vagt over 5 timer",null,null,null,"00:25:00","minutter","00:00:00","06:00:00","17:00:00","14:00:00"]
["Dato","Dag",null,"Start","Slut","Pause","Arb. Tid","Overtid           1-3 time","Overtid            4 - time","Forskudt tid Man-fredag\n18-23",null,"Natarbejde 23-06",null,"Lørdag tillæg 14 - 24","Søndag tillæg 00 - 24","Optjent afspadsering","Afholdt afspadsering","Syge Timer","norm"]
[{"$f":"DATE(T.!$B$2,$P$1,1)","v":"2019-05-01"},{"$f":"PROPER(TEXT(A4,\"ddd\"))","v":"On"},{"$f":"HelligdagsNavn(A4,0,0)","v":""},"18:00:00","07:00:00",null,{"$f":"IF(D4=\"\",\"\",(E4-D4)+(D4>E4)-F4)","v":0.54166666666666674},{"$f":"IF(G4=\"\",0,IF(WEEKDAY(A4,2)=7,0,IF(G4>S4,MIN(G4-S4,$AI$1),0)))","v":"03:00:00"},{"$f":"IF(G4=\"\",\"\",IF(G4>S4+H4,G4-(S4+H4),\"\"))","v":"02:30:00"},{"$f":"IF(AND(C4=\"\",WEEKDAY(A4,2)<6),ColTime(T.!$J$4,T.!$L$4,D4,E4),\"\")","v":"05:00:00"},null,{"$f":"IF(AND(OR(WEEKDAY(A4,2)=7,C4<>\"\"),E4<D4),ColTime($AF$1,$AG$1,'Januar (5)'!$AF$1,E4),IF(WEEKDAY(A4,2)<6,ColTime(T.!$J$5,T.!$L$5,D4,E4),\"\"))","v":"07:00:00"},null,{"$f":"IF(WEEKDAY(A4,2)=6,ColTime(TIME(14,0,0),TIME(24,0,0),D4,E4),\"\")","v":""},{"$f":"IF(AND(OR(WEEKDAY(A4,2)<6,WEEKDAY(A4,2)=6),C4<>\"\",E4<D4),ColTime(T.!$J$7,T.!$L$7,D4,AF1),IF(AND(WEEKDAY(A4,2)=6,E4<D4),ColTime(T.!$J$7,T.!$L$7,$AF$1,E4),IF(AND(E4<D4,OR(C4<>\"\",WEEKDAY(A4,2)=7)),ColTime(T.!J7,T.!L7,'Januar (5)'!D4,'Januar (5)'!AF1),IF(AND(E4<>\"\",OR(C4<>\"\",WEEKDAY(A4,2)=7)),ColTime(T.!$J$7,T.!$L$7,D4,E4),\"\"))))","v":""},{"$f":"IFERROR(H4+I4,\"\")","v":"05:30:00"},null,null,{"$f":"CHOOSE(WEEKDAY(A4,2),norm!C$1,norm!C$2,norm!C$3,norm!C$4,norm!C$5,norm!C$6,norm!C$7)","v":"07:30:00"},null,null,{"$f":"IF(D4=\"\",\"\",HOUR(D4))","v":18},{"$f":"IF(D4=\"\",\"\",MINUTE(D4))","v":0},{"$f":"IF(D4=\"\",\"\",TIME(HOUR(D4),MINUTE(D4),0))","v":"18:00:00"},{"$f":"IF(E4=\"\",\"\",HOUR(E4))","v":7},{"$f":"IF(E4=\"\",\"\",MINUTE(E4))","v":0},"02:00:00","09:30:00","11:30:00",null,null,null,{"$f":"IFERROR(MIN(G4-S4,3),22)","v":0.22916666666666674}]
[{"$f":"A4+1","v":"2019-05-02"},{"$f":"PROPER(TEXT(A5,\"ddd\"))","v":"To"},{"$f":"HelligdagsNavn(A5,0,0)","v":""},"18:00:00","07:00:00",null,{"$f":"IF(D5=\"\",\"\",(E5-D5)+(D5>E5)-F5)","v":0.54166666666666674},{"$f":"IF(G5=\"\",0,IF(WEEKDAY(A5,2)=7,0,IF(G5>S5,MIN(G5-S5,$AI$1),0)))","v":"03:00:00"},{"$f":"IF(G5=\"\",\"\",IF(G5>S5+H5,G5-(S5+H5),\"\"))","v":"02:30:00"},{"$f":"IF(AND(C5=\"\",WEEKDAY(A5,2)<6),ColTime(T.!$J$4,T.!$L$4,D5,E5),\"\")","v":"05:00:00"},null,{"$f":"IF(AND(OR(WEEKDAY(A5,2)=7,C5<>\"\"),E5<D5),ColTime($AF$1,$AG$1,'Januar (5)'!$AF$1,E5),IF(WEEKDAY(A5,2)<6,ColTime(T.!$J$5,T.!$L$5,D5,E5),\"\"))","v":"07:00:00"},null,"",{"$f":"IF(AND(OR(WEEKDAY(A5,2)<6,WEEKDAY(A5,2)=6),C5<>\"\",E5<D5),ColTime(T.!$J$7,T.!$L$7,D5,AF2),IF(AND(WEEKDAY(A5,2)=6,E5<D5),ColTime(T.!$J$7,T.!$L$7,$AF$1,E5),IF(AND(E5<D5,OR(C5<>\"\",WEEKDAY(A5,2)=7)),ColTime(T.!J8,T.!L8,'Januar (5)'!D5,'Januar (5)'!AF2),IF(AND(E5<>\"\",OR(C5<>\"\",WEEKDAY(A5,2)=7)),ColTime(T.!$J$7,T.!$L$7,D5,E5),\"\"))))","v":""},{"$f":"IFERROR(H5+I5,\"\")","v":"05:30:00"},null,null,{"$f":"CHOOSE(WEEKDAY(A5,2),norm!C$1,norm!C$2,norm!C$3,norm!C$4,norm!C$5,norm!C$6,norm!C$7)","v":"07:30:00"},null,null,18,0,"18:00:00",7,0,{"$f":"IF(E5=\"\",\"\",TIME(HOUR(E5),MINUTE(E5),0))","v":"07:00:00"},null,null,null,null,null,null,"Der taste kun i de Gule celler"]
[{"$f":"A5+1","v":"2019-05-03"},{"$f":"PROPER(TEXT(A6,\"ddd\"))","v":"Fr"},"","22:00:00","07:00:00",null,0.375,"02:00:00","",{"$f":"IF(AND(C6=\"\",WEEKDAY(A6,2)<6),ColTime(T.!$J$4,T.!$L$4,D6,E6),\"\")","v":"01:00:00"},null,{"$f":"IF(AND(OR(WEEKDAY(A6,2)=7,C6<>\"\"),E6<D6),ColTime($AF$1,$AG$1,'Januar (5)'!$AF$1,E6),IF(WEEKDAY(A6,2)<6,ColTime(T.!$J$5,T.!$L$5,D6,E6),\"\"))","v":"07:00:00"},null,"",{"$f":"IF(AND(OR(WEEKDAY(A6,2)<6,WEEKDAY(A6,2)=6),C6<>\"\",E6<D6),ColTime(T.!$J$7,T.!$L$7,D6,AF3),IF(AND(WEEKDAY(A6,2)=6,E6<D6),ColTime(T.!$J$7,T.!$L$7,$AF$1,E6),IF(AND(E6<D6,OR(C6<>\"\",WEEKDAY(A6,2)=7)),ColTime(T.!J9,T.!L9,'Januar (5)'!D6,'Januar (5)'!AF3),IF(AND(E6<>\"\",OR(C6<>\"\",WEEKDAY(A6,2)=7)),ColTime(T.!$J$7,T.!$L$7,D6,E6),\"\"))))","v":""},{"$f":"IFERROR(H6+I6,\"\")","v":""},null,null,{"$f":"CHOOSE(WEEKDAY(A6,2),norm!C$1,norm!C$2,norm!C$3,norm!C$4,norm!C$5,norm!C$6,norm!C$7)","v":"07:00:00"},null,null,22,0,"22:00:00",7,0,"07:00:00"]
["2019-05-04","Lø","","22:00:00","07:00:00",null,0.375,"03:00:00","06:00:00",{"$f":"IF(AND(C7=\"\",WEEKDAY(A7,2)<6),ColTime(T.!$J$4,T.!$L$4,D7,E7),\"\")","v":""},null,{"$f":"IF(AND(OR(WEEKDAY(A7,2)=7,C7<>\"\"),E7<D7),ColTime($AF$1,$AG$1,'Januar (5)'!$AF$1,E7),IF(WEEKDAY(A7,2)<6,ColTime(T.!$J$5,T.!$L$5,D7,E7),\"\"))","v":""},null,"02:00:00",{"$f":"IF(AND(OR(WEEKDAY(A7,2)<6,WEEKDAY(A7,2)=6),C7<>\"\",E7<D7),ColTime(T.!$J$7,T.!$L$7,D7,AF4),IF(AND(WEEKDAY(A7,2)=6,E7<D7),ColTime(T.!$J$7,T.!$L$7,$AF$1,E7),IF(AND(E7<D7,OR(C7<>\"\",WEEKDAY(A7,2)=7)),ColTime(T.!J10,T.!L10,'Januar (5)'!D7,'Januar (5)'!AF4),IF(AND(E7<>\"\",OR(C7<>\"\",WEEKDAY(A7,2)=7)),ColTime(T.!$J$7,T.!$L$7,D7,E7),\"\"))))","v":"07:00:00"},{"$f":"IFERROR(H7+I7,\"\")","v":"09:00:00"},null,null,{"$f":"CHOOSE(WEEKDAY(A7,2),norm!C$1,norm!C$2,norm!C$3,norm!C$4,norm!C$5,norm!C$6,norm!C$7)","v":"00:00:00"},null,null,22,0,"22:00:00",7,0,"07:00:00"]
["2019-05-05","Sø","","22:00:00","07:00:00",null,0.375,"00:00:00","09:00:00",{"$f":"IF(AND(C8=\"\",WEEKDAY(A8,2)<6),ColTime(T.!$J$4,T.!$L$4,D8,E8),\"\")","v":""},null,{"$f":"IF(AND(OR(WEEKDAY(A8,2)=7,C8<>\"\"),E8<D8),ColTime($AF$1,$AG$1,'Januar (5)'!$AF$1,E8),IF(WEEKDAY(A8,2)<6,ColTime(T.!$J$5,T.!$L$5,D8,E8),\"\"))","v":"06:00:00"},null,"",{"$f":"IF(AND(OR(WEEKDAY(A8,2)<6,WEEKDAY(A8,2)=6),C8<>\"\",E8<D8),ColTime(T.!$J$7,T.!$L$7,D8,AF5),IF(AND(WEEKDAY(A8,2)=6,E8<D8),ColTime(T.!$J$7,T.!$L$7,$AF$1,E8),IF(AND(E8<D8,OR(C8<>\"\",WEEKDAY(A8,2)=7)),ColTime(T.!J11,T.!L11,'Januar (5)'!D8,'Januar (5)'!AF5),IF(AND(E8<>\"\",OR(C8<>\"\",WEEKDAY(A8,2)=7)),ColTime(T.!$J$7,T.!$L$7,D8,E8),\"\"))))","v":"02:00:00"},{"$f":"IFERROR(H8+I8,\"\")","v":"09:00:00"},null,null,{"$f":"CHOOSE(WEEKDAY(A8,2),norm!C$1,norm!C$2,norm!C$3,norm!C$4,norm!C$5,norm!C$6,norm!C$7)","v":"00:00:00"},null,null,22,0,"22:00:00",7,0,"07:00:00"]
["2019-05-06","Ma","","22:00:00","07:00:00",null,0.375,"01:30:00","",{"$f":"IF(AND(C9=\"\",WEEKDAY(A9,2)<6),ColTime(T.!$J$4,T.!$L$4,D9,E9),\"\")","v":"01:00:00"},null,{"$f":"IF(AND(OR(WEEKDAY(A9,2)=7,C9<>\"\"),E9<D9),ColTime($AF$1,$AG$1,'Januar (5)'!$AF$1,E9),IF(WEEKDAY(A9,2)<6,ColTime(T.!$J$5,T.!$L$5,D9,E9),\"\"))","v":"07:00:00"},null,"",{"$f":"IF(AND(OR(WEEKDAY(A9,2)<6,WEEKDAY(A9,2)=6),C9<>\"\",E9<D9),ColTime(T.!$J$7,T.!$L$7,D9,AF6),IF(AND(WEEKDAY(A9,2)=6,E9<D9),ColTime(T.!$J$7,T.!$L$7,$AF$1,E9),IF(AND(E9<D9,OR(C9<>\"\",WEEKDAY(A9,2)=7)),ColTime(T.!J12,T.!L12,'Januar (5)'!D9,'Januar (5)'!AF6),IF(AND(E9<>\"\",OR(C9<>\"\",WEEKDAY(A9,2)=7)),ColTime(T.!$J$7,T.!$L$7,D9,E9),\"\"))))","v":""},{"$f":"IFERROR(H9+I9,\"\")","v":""},null,null,{"$f":"CHOOSE(WEEKDAY(A9,2),norm!C$1,norm!C$2,norm!C$3,norm!C$4,norm!C$5,norm!C$6,norm!C$7)","v":"07:30:00"},null,null,22,0,"22:00:00",7,0,"07:00:00"]
["2019-05-07","Ti","","22:00:00","07:00:00",null,0.375,"01:30:00","",{"$f":"IF(AND(C10=\"\",WEEKDAY(A10,2)<6),ColTime(T.!$J$4,T.!$L$4,D10,E10),\"\")","v":"01:00:00"},null,{"$f":"IF(AND(OR(WEEKDAY(A10,2)=7,C10<>\"\"),E10<D10),ColTime($AF$1,$AG$1,'Januar (5)'!$AF$1,E10),IF(WEEKDAY(A10,2)<6,ColTime(T.!$J$5,T.!$L$5,D10,E10),\"\"))","v":"07:00:00"},null,{"$f":"IF(WEEKDAY(A10,2)=6,ColTime(TIME(14,0,0),TIME(24,0,0),D10,E10),\"\")","v":""},{"$f":"IF(AND(OR(WEEKDAY(A10,2)<6,WEEKDAY(A10,2)=6),C10<>\"\",E10<D10),ColTime(T.!$J$7,T.!$L$7,D10,AF7),IF(AND(WEEKDAY(A10,2)=6,E10<D10),ColTime(T.!$J$7,T.!$L$7,$AF$1,E10),IF(AND(E10<D10,OR(C10<>\"\",WEEKDAY(A10,2)=7)),ColTime(T.!J13,T.!L13,'Januar (5)'!D10,'Januar (5)'!AF7),IF(AND(E10<>\"\",OR(C10<>\"\",WEEKDAY(A10,2)=7)),ColTime(T.!$J$7,T.!$L$7,D10,E10),\"\"))))","v":""},"",null,null,{"$f":"CHOOSE(WEEKDAY(A10,2),norm!C$1,norm!C$2,norm!C$3,norm!C$4,norm!C$5,norm!C$6,norm!C$7)","v":"07:30:00"},null,null,22,0,"22:00:00",7,0,"07:00:00"]
[{"$f":"A10+1","v":"2019-05-08"},{"$f":"PROPER(TEXT(A11,\"ddd\"))","v":"On"},{"$f":"HelligdagsNavn(A11,0,0)","v":""},"22:00:00","07:00:00",null,0.375,"01:30:00","",{"$f":"IF(AND(C11=\"\",WEEKDAY(A11,2)<6),ColTime(T.!$J$4,T.!$L$4,D11,E11),\"\")","v":"01:00:00"},null,{"$f":"IF(AND(OR(WEEKDAY(A11,2)=7,C11<>\"\"),E11<D11),ColTime($AF$1,$AG$1,'Januar (5)'!$AF$1,E11),IF(WEEKDAY(A11,2)<6,ColTime(T.!$J$5,T.!$L$5,D11,E11),\"\"))","v":"07:00:00"},null,{"$f":"IF(WEEKDAY(A11,2)=6,ColTime(TIME(15,0,0),TIME(24,0,0),D11,E11),\"\")","v":""},{"$f":"IF(AND(OR(WEEKDAY(A11,2)<6,WEEKDAY(A11,2)=6),C11<>\"\",E11<D11),ColTime(T.!$J$7,T.!$L$7,D11,AF8),IF(AND(WEEKDAY(A11,2)=6,E11<D11),ColTime(T.!$J$7,T.!$L$7,$AF$1,E11),IF(AND(E11<D11,OR(C11<>\"\",WEEKDAY(A11,2)=7)),ColTime(T.!J14,T.!L14,'Januar (5)'!D11,'Januar (5)'!AF8),IF(AND(E11<>\"\",OR(C11<>\"\",WEEKDAY(A11,2)=7)),ColTime(T.!$J$7,T.!$L$7,D11,E11),\"\"))))","v":""},"",null,null,{"$f":"CHOOSE(WEEKDAY(A11,2),norm!C$1,norm!C$2,norm!C$3,norm!C$4,norm!C$5,norm!C$6,norm!C$7)","v":"07:30:00"},null,null,22,0,"22:00:00",7,0,"07:00:00"]
[{"$f":"A11+1","v":"2019-05-09"},{"$f":"PROPER(TEXT(A12,\"ddd\"))","v":"To"},{"$f":"HelligdagsNavn(A12,0,0)","v":""},"22:00:00","07:00:00",null,0.375,"01:30:00","",{"$f":"IF(AND(C12=\"\",WEEKDAY(A12,2)<6),ColTime(T.!$J$4,T.!$L$4,D12,E12),\"\")","v":"01:00:00"},null,{"$f":"IF(AND(OR(WEEKDAY(A12,2)=7,C12<>\"\"),E12<D12),ColTime($AF$1,$AG$1,'Januar (5)'!$AF$1,E12),IF(WEEKDAY(A12,2)<6,ColTime(T.!$J$5,T.!$L$5,D12,E12),\"\"))","v":"07:00:00"},null,"",{"$f":"IF(AND(OR(WEEKDAY(A12,2)<6,WEEKDAY(A12,2)=6),C12<>\"\",E12<D12),ColTime(T.!$J$7,T.!$L$7,D12,AF9),IF(AND(WEEKDAY(A12,2)=6,E12<D12),ColTime(T.!$J$7,T.!$L$7,$AF$1,E12),IF(AND(E12<D12,OR(C12<>\"\",WEEKDAY(A12,2)=7)),ColTime(T.!J15,T.!L15,'Januar (5)'!D12,'Januar (5)'!AF9),IF(AND(E12<>\"\",OR(C12<>\"\",WEEKDAY(A12,2)=7)),ColTime(T.!$J$7,T.!$L$7,D12,E12),\"\"))))","v":""},"",null,null,{"$f":"CHOOSE(WEEKDAY(A12,2),norm!C$1,norm!C$2,norm!C$3,norm!C$4,norm!C$5,norm!C$6,norm!C$7)","v":"07:30:00"},null,null,22,0,"22:00:00",7,0,"07:00:00"]
[{"$f":"A12+1","v":"2019-05-10"},{"$f":"PROPER(TEXT(A13,\"ddd\"))","v":"Fr"},"","22:00:00","07:00:00",null,0.375,"02:00:00","",{"$f":"IF(AND(C13=\"\",WEEKDAY(A13,2)<6),ColTime(T.!$J$4,T.!$L$4,D13,E13),\"\")","v":"01:00:00"},null,{"$f":"IF(AND(OR(WEEKDAY(A13,2)=7,C13<>\"\"),E13<D13),ColTime($AF$1,$AG$1,'Januar (5)'!$AF$1,E13),IF(WEEKDAY(A13,2)<6,ColTime(T.!$J$5,T.!$L$5,D13,E13),\"\"))","v":"07:00:00"},null,"",{"$f":"IF(AND(OR(WEEKDAY(A13,2)<6,WEEKDAY(A13,2)=6),C13<>\"\",E13<D13),ColTime(T.!$J$7,T.!$L$7,D13,AF10),IF(AND(WEEKDAY(A13,2)=6,E13<D13),ColTime(T.!$J$7,T.!$L$7,$AF$1,E13),IF(AND(E13<D13,OR(C13<>\"\",WEEKDAY(A13,2)=7)),ColTime(T.!J16,T.!L16,'Januar (5)'!D13,'Januar (5)'!AF10),IF(AND(E13<>\"\",OR(C13<>\"\",WEEKDAY(A13,2)=7)),ColTime(T.!$J$7,T.!$L$7,D13,E13),\"\"))))","v":""},"",null,null,{"$f":"CHOOSE(WEEKDAY(A13,2),norm!C$1,norm!C$2,norm!C$3,norm!C$4,norm!C$5,norm!C$6,norm!C$7)","v":"07:00:00"},null,null,22,0,"22:00:00",7,0,"07:00:00"]
["2019-05-11","Lø","","22:00:00","07:00:00",null,0.375,"03:00:00","06:00:00",{"$f":"IF(AND(C14=\"\",WEEKDAY(A14,2)<6),ColTime(T.!$J$4,T.!$L$4,D14,E14),\"\")","v":""},null,{"$f":"IF(AND(OR(WEEKDAY(A14,2)=7,C14<>\"\"),E14<D14),ColTime($AF$1,$AG$1,'Januar (5)'!$AF$1,E14),IF(WEEKDAY(A14,2)<6,ColTime(T.!$J$5,T.!$L$5,D14,E14),\"\"))","v":""},null,"02:00:00",{"$f":"IF(AND(OR(WEEKDAY(A14,2)<6,WEEKDAY(A14,2)=6),C14<>\"\",E14<D14),ColTime(T.!$J$7,T.!$L$7,D14,AF11),IF(AND(WEEKDAY(A14,2)=6,E14<D14),ColTime(T.!$J$7,T.!$L$7,$AF$1,E14),IF(AND(E14<D14,OR(C14<>\"\",WEEKDAY(A14,2)=7)),ColTime(T.!J17,T.!L17,'Januar (5)'!D14,'Januar (5)'!AF11),IF(AND(E14<>\"\",OR(C14<>\"\",WEEKDAY(A14,2)=7)),ColTime(T.!$J$7,T.!$L$7,D14,E14),\"\"))))","v":"07:00:00"},"09:00:00",null,null,{"$f":"CHOOSE(WEEKDAY(A14,2),norm!C$1,norm!C$2,norm!C$3,norm!C$4,norm!C$5,norm!C$6,norm!C$7)","v":"00:00:00"},null,null,22,0,"22:00:00",7,0,"07:00:00"]
["2019-05-12","Sø","","22:00:00","07:00:00",null,0.375,"00:00:00","09:00:00",{"$f":"IF(AND(C15=\"\",WEEKDAY(A15,2)<6),ColTime(T.!$J$4,T.!$L$4,D15,E15),\"\")","v":""},null,{"$f":"IF(AND(OR(WEEKDAY(A15,2)=7,C15<>\"\"),E15<D15),ColTime($AF$1,$AG$1,'Januar (5)'!$AF$1,E15),IF(WEEKDAY(A15,2)<6,ColTime(T.!$J$5,T.!$L$5,D15,E15),\"\"))","v":"06:00:00"},null,"",{"$f":"IF(AND(OR(WEEKDAY(A15,2)<6,WEEKDAY(A15,2)=6),C15<>\"\",E15<D15),ColTime(T.!$J$7,T.!$L$7,D15,AF12),IF(AND(WEEKDAY(A15,2)=6,E15<D15),ColTime(T.!$J$7,T.!$L$7,$AF$1,E15),IF(AND(E15<D15,OR(C15<>\"\",WEEKDAY(A15,2)=7)),ColTime(T.!J18,T.!L18,'Januar (5)'!D15,'Januar (5)'!AF12),IF(AND(E15<>\"\",OR(C15<>\"\",WEEKDAY(A15,2)=7)),ColTime(T.!$J$7,T.!$L$7,D15,E15),\"\"))))","v":"02:00:00"},"09:00:00",null,null,{"$f":"CHOOSE(WEEKDAY(A15,2),norm!C$1,norm!C$2,norm!C$3,norm!C$4,norm!C$5,norm!C$6,norm!C$7)","v":"00:00:00"},null,null,22,0,"22:00:00",7,0,"07:00:00"]
["2019-05-13","Ma","","19:00:00","07:00:00",null,0.5,"03:00:00","01:30:00",{"$f":"IF(AND(C16=\"\",WEEKDAY(A16,2)<6),ColTime(T.!$J$4,T.!$L$4,D16,E16),\"\")","v":"04:00:00"},null,{"$f":"IF(AND(OR(WEEKDAY(A16,2)=7,C16<>\"\"),E16<D16),ColTime($AF$1,$AG$1,'Januar (5)'!$AF$1,E16),IF(WEEKDAY(A16,2)<6,ColTime(T.!$J$5,T.!$L$5,D16,E16),\"\"))","v":"07:00:00"},null,"",{"$f":"IF(AND(OR(WEEKDAY(A16,2)<6,WEEKDAY(A16,2)=6),C16<>\"\",E16<D16),ColTime(T.!$J$7,T.!$L$7,D16,AF13),IF(AND(WEEKDAY(A16,2)=6,E16<D16),ColTime(T.!$J$7,T.!$L$7,$AF$1,E16),IF(AND(E16<D16,OR(C16<>\"\",WEEKDAY(A16,2)=7)),ColTime(T.!J19,T.!L19,'Januar (5)'!D16,'Januar (5)'!AF13),IF(AND(E16<>\"\",OR(C16<>\"\",WEEKDAY(A16,2)=7)),ColTime(T.!$J$7,T.!$L$7,D16,E16),\"\"))))","v":""},"04:30:00",null,null,{"$f":"CHOOSE(WEEKDAY(A16,2),norm!C$1,norm!C$2,norm!C$3,norm!C$4,norm!C$5,norm!C$6,norm!C$7)","v":"07:30:00"},null,null,19,0,"19:00:00",7,0,"07:00:00"]
["2019-05-14","Ti","",null,null,null,"",{"$f":"IF(G17=\"\",0,IF(WEEKDAY(A17,2)=7,0,IF(G17>S17,MIN(G17-S17,$AI$1),0)))","v":"00:00:00"},"",{"$f":"IF(AND(C17=\"\",WEEKDAY(A17,2)<6),ColTime(T.!$J$4,T.!$L$4,D17,E17),\"\")","v":"00:00:00"},null,{"$f":"IF(AND(OR(WEEKDAY(A17,2)=7,C17<>\"\"),E17<D17),ColTime($AF$1,$AG$1,'Januar (5)'!$AF$1,E17),IF(WEEKDAY(A17,2)<6,ColTime(T.!$J$5,T.!$L$5,D17,E17),\"\"))","v":"00:00:00"},null,"",{"$f":"IF(AND(OR(WEEKDAY(A17,2)<6,WEEKDAY(A17,2)=6),C17<>\"\",E17<D17),ColTime(T.!$J$7,T.!$L$7,D17,AF14),IF(AND(WEEKDAY(A17,2)=6,E17<D17),ColTime(T.!$J$7,T.!$L$7,$AF$1,E17),IF(AND(E17<D17,OR(C17<>\"\",WEEKDAY(A17,2)=7)),ColTime(T.!J20,T.!L20,'Januar (5)'!D17,'Januar (5)'!AF14),IF(AND(E17<>\"\",OR(C17<>\"\",WEEKDAY(A17,2)=7)),ColTime(T.!$J$7,T.!$L$7,D17,E17),\"\"))))","v":""},"",null,null,{"$f":"CHOOSE(WEEKDAY(A17,2),norm!C$1,norm!C$2,norm!C$3,norm!C$4,norm!C$5,norm!C$6,norm!C$7)","v":"07:30:00"},null,null,"","","","","",""]
[{"$f":"A17+1","v":"2019-05-15"},{"$f":"PROPER(TEXT(A18,\"ddd\"))","v":"On"},{"$f":"HelligdagsNavn(A18,0,0)","v":""},"08:00:00","16:00:00",null,0.33333333333333331,"00:30:00","",{"$f":"IF(AND(C18=\"\",WEEKDAY(A18,2)<6),ColTime(T.!$J$4,T.!$L$4,D18,E18),\"\")","v":"00:00:00"},null,{"$f":"IF(AND(OR(WEEKDAY(A18,2)=7,C18<>\"\"),E18<D18),ColTime($AF$1,$AG$1,'Januar (5)'!$AF$1,E18),IF(WEEKDAY(A18,2)<6,ColTime(T.!$J$5,T.!$L$5,D18,E18),\"\"))","v":"00:00:00"},null,"",{"$f":"IF(AND(OR(WEEKDAY(A18,2)<6,WEEKDAY(A18,2)=6),C18<>\"\",E18<D18),ColTime(T.!$J$7,T.!$L$7,D18,AF15),IF(AND(WEEKDAY(A18,2)=6,E18<D18),ColTime(T.!$J$7,T.!$L$7,$AF$1,E18),IF(AND(E18<D18,OR(C18<>\"\",WEEKDAY(A18,2)=7)),ColTime(T.!J21,T.!L21,'Januar (5)'!D18,'Januar (5)'!AF15),IF(AND(E18<>\"\",OR(C18<>\"\",WEEKDAY(A18,2)=7)),ColTime(T.!$J$7,T.!$L$7,D18,E18),\"\"))))","v":""},"",null,null,{"$f":"CHOOSE(WEEKDAY(A18,2),norm!C$1,norm!C$2,norm!C$3,norm!C$4,norm!C$5,norm!C$6,norm!C$7)","v":"07:30:00"},null,null,8,0,"08:00:00",16,0,"16:00:00"]
[{"$f":"A18+1","v":"2019-05-16"},{"$f":"PROPER(TEXT(A19,\"ddd\"))","v":"To"},{"$f":"HelligdagsNavn(A19,0,0)","v":""},null,null,null,"","00:00:00","",{"$f":"IF(AND(C19=\"\",WEEKDAY(A19,2)<6),ColTime(T.!$J$4,T.!$L$4,D19,E19),\"\")","v":"00:00:00"},null,{"$f":"IF(AND(OR(WEEKDAY(A19,2)=7,C19<>\"\"),E19<D19),ColTime($AF$1,$AG$1,'Januar (5)'!$AF$1,E19),IF(WEEKDAY(A19,2)<6,ColTime(T.!$J$5,T.!$L$5,D19,E19),\"\"))","v":"00:00:00"},null,"",{"$f":"IF(AND(OR(WEEKDAY(A19,2)<6,WEEKDAY(A19,2)=6),C19<>\"\",E19<D19),ColTime(T.!$J$7,T.!$L$7,D19,AF16),IF(AND(WEEKDAY(A19,2)=6,E19<D19),ColTime(T.!$J$7,T.!$L$7,$AF$1,E19),IF(AND(E19<D19,OR(C19<>\"\",WEEKDAY(A19,2)=7)),ColTime(T.!J22,T.!L22,'Januar (5)'!D19,'Januar (5)'!AF16),IF(AND(E19<>\"\",OR(C19<>\"\",WEEKDAY(A19,2)=7)),ColTime(T.!$J$7,T.!$L$7,D19,E19),\"\"))))","v":""},"",null,null,{"$f":"CHOOSE(WEEKDAY(A19,2),norm!C$1,norm!C$2,norm!C$3,norm!C$4,norm!C$5,norm!C$6,norm!C$7)","v":"07:30:00"},null,null,"","","","","",""]
[{"$f":"A19+1","v":"2019-05-17"},{"$f":"PROPER(TEXT(A20,\"ddd\"))","v":"Fr"},"Store Bededag",null,null,null,"","00:00:00","",{"$f":"IF(AND(C20=\"\",WEEKDAY(A20,2)<6),ColTime(T.!$J$4,T.!$L$4,D20,E20),\"\")","v":""},null,{"$f":"IF(AND(OR(WEEKDAY(A20,2)=7,C20<>\"\"),E20<D20),ColTime($AF$1,$AG$1,'Januar (5)'!$AF$1,E20),IF(WEEKDAY(A20,2)<6,ColTime(T.!$J$5,T.!$L$5,D20,E20),\"\"))","v":"00:00:00"},null,"",{"$f":"IF(AND(OR(WEEKDAY(A20,2)<6,WEEKDAY(A20,2)=6),C20<>\"\",E20<D20),ColTime(T.!$J$7,T.!$L$7,D20,AF17),IF(AND(WEEKDAY(A20,2)=6,E20<D20),ColTime(T.!$J$7,T.!$L$7,$AF$1,E20),IF(AND(E20<D20,OR(C20<>\"\",WEEKDAY(A20,2)=7)),ColTime(T.!J23,T.!L23,'Januar (5)'!D20,'Januar (5)'!AF17),IF(AND(E20<>\"\",OR(C20<>\"\",WEEKDAY(A20,2)=7)),ColTime(T.!$J$7,T.!$L$7,D20,E20),\"\"))))","v":""},"",null,null,{"$f":"CHOOSE(WEEKDAY(A20,2),norm!C$1,norm!C$2,norm!C$3,norm!C$4,norm!C$5,norm!C$6,norm!C$7)","v":"07:00:00"},null,null,"","","","","",""]
["2019-05-18","Lø","",null,null,null,"","00:00:00","",{"$f":"IF(AND(C21=\"\",WEEKDAY(A21,2)<6),ColTime(T.!$J$4,T.!$L$4,D21,E21),\"\")","v":""},null,{"$f":"IF(AND(OR(WEEKDAY(A21,2)=7,C21<>\"\"),E21<D21),ColTime($AF$1,$AG$1,'Januar (5)'!$AF$1,E21),IF(WEEKDAY(A21,2)<6,ColTime(T.!$J$5,T.!$L$5,D21,E21),\"\"))","v":""},null,"00:00:00",{"$f":"IF(AND(OR(WEEKDAY(A21,2)<6,WEEKDAY(A21,2)=6),C21<>\"\",E21<D21),ColTime(T.!$J$7,T.!$L$7,D21,AF18),IF(AND(WEEKDAY(A21,2)=6,E21<D21),ColTime(T.!$J$7,T.!$L$7,$AF$1,E21),IF(AND(E21<D21,OR(C21<>\"\",WEEKDAY(A21,2)=7)),ColTime(T.!J24,T.!L24,'Januar (5)'!D21,'Januar (5)'!AF18),IF(AND(E21<>\"\",OR(C21<>\"\",WEEKDAY(A21,2)=7)),ColTime(T.!$J$7,T.!$L$7,D21,E21),\"\"))))","v":""},"",null,null,{"$f":"CHOOSE(WEEKDAY(A21,2),norm!C$1,norm!C$2,norm!C$3,norm!C$4,norm!C$5,norm!C$6,norm!C$7)","v":"00:00:00"},null,null,"","","","","",""]
["2019-05-19","Sø","",null,null,null,"","00:00:00","",{"$f":"IF(AND(C22=\"\",WEEKDAY(A22,2)<6),ColTime(T.!$J$4,T.!$L$4,D22,E22),\"\")","v":""},null,{"$f":"IF(AND(OR(WEEKDAY(A22,2)=7,C22<>\"\"),E22<D22),ColTime($AF$1,$AG$1,'Januar (5)'!$AF$1,E22),IF(WEEKDAY(A22,2)<6,ColTime(T.!$J$5,T.!$L$5,D22,E22),\"\"))","v":""},null,"",{"$f":"IF(AND(OR(WEEKDAY(A22,2)<6,WEEKDAY(A22,2)=6),C22<>\"\",E22<D22),ColTime(T.!$J$7,T.!$L$7,D22,AF19),IF(AND(WEEKDAY(A22,2)=6,E22<D22),ColTime(T.!$J$7,T.!$L$7,$AF$1,E22),IF(AND(E22<D22,OR(C22<>\"\",WEEKDAY(A22,2)=7)),ColTime(T.!J25,T.!L25,'Januar (5)'!D22,'Januar (5)'!AF19),IF(AND(E22<>\"\",OR(C22<>\"\",WEEKDAY(A22,2)=7)),ColTime(T.!$J$7,T.!$L$7,D22,E22),\"\"))))","v":""},"",null,null,{"$f":"CHOOSE(WEEKDAY(A22,2),norm!C$1,norm!C$2,norm!C$3,norm!C$4,norm!C$5,norm!C$6,norm!C$7)","v":"00:00:00"},null,null,"","","","","",""]
["2019-05-20","Ma","","16:00:00","20:00:00",null,0.16666666666666674,"00:00:00","",{"$f":"IF(AND(C23=\"\",WEEKDAY(A23,2)<6),ColTime(T.!$J$4,T.!$L$4,D23,E23),\"\")","v":"02:00:00"},null,{"$f":"IF(AND(OR(WEEKDAY(A23,2)=7,C23<>\"\"),E23<D23),ColTime($AF$1,$AG$1,'Januar (5)'!$AF$1,E23),IF(WEEKDAY(A23,2)<6,ColTime(T.!$J$5,T.!$L$5,D23,E23),\"\"))","v":"00:00:00"},null,"",{"$f":"IF(AND(OR(WEEKDAY(A23,2)<6,WEEKDAY(A23,2)=6),C23<>\"\",E23<D23),ColTime(T.!$J$7,T.!$L$7,D23,AF20),IF(AND(WEEKDAY(A23,2)=6,E23<D23),ColTime(T.!$J$7,T.!$L$7,$AF$1,E23),IF(AND(E23<D23,OR(C23<>\"\",WEEKDAY(A23,2)=7)),ColTime(T.!J26,T.!L26,'Januar (5)'!D23,'Januar (5)'!AF20),IF(AND(E23<>\"\",OR(C23<>\"\",WEEKDAY(A23,2)=7)),ColTime(T.!$J$7,T.!$L$7,D23,E23),\"\"))))","v":""},"",null,null,{"$f":"CHOOSE(WEEKDAY(A23,2),norm!C$1,norm!C$2,norm!C$3,norm!C$4,norm!C$5,norm!C$6,norm!C$7)","v":"07:30:00"},null,null,16,0,"16:00:00",20,0,"20:00:00"]
["2019-05-21","Ti","",null,null,null,"","00:00:00","",{"$f":"IF(AND(C24=\"\",WEEKDAY(A24,2)<6),ColTime(T.!$J$4,T.!$L$4,D24,E24),\"\")","v":"00:00:00"},null,{"$f":"IF(AND(OR(WEEKDAY(A24,2)=7,C24<>\"\"),E24<D24),ColTime($AF$1,$AG$1,'Januar (5)'!$AF$1,E24),IF(WEEKDAY(A24,2)<6,ColTime(T.!$J$5,T.!$L$5,D24,E24),\"\"))","v":"00:00:00"},null,"",{"$f":"IF(AND(OR(WEEKDAY(A24,2)<6,WEEKDAY(A24,2)=6),C24<>\"\",E24<D24),ColTime(T.!$J$7,T.!$L$7,D24,AF21),IF(AND(WEEKDAY(A24,2)=6,E24<D24),ColTime(T.!$J$7,T.!$L$7,$AF$1,E24),IF(AND(E24<D24,OR(C24<>\"\",WEEKDAY(A24,2)=7)),ColTime(T.!J27,T.!L27,'Januar (5)'!D24,'Januar (5)'!AF21),IF(AND(E24<>\"\",OR(C24<>\"\",WEEKDAY(A24,2)=7)),ColTime(T.!$J$7,T.!$L$7,D24,E24),\"\"))))","v":""},"",null,null,{"$f":"CHOOSE(WEEKDAY(A24,2),norm!C$1,norm!C$2,norm!C$3,norm!C$4,norm!C$5,norm!C$6,norm!C$7)","v":"07:30:00"},null,null,"","","","","",""]
[{"$f":"A24+1","v":"2019-05-22"},{"$f":"PROPER(TEXT(A25,\"ddd\"))","v":"On"},{"$f":"HelligdagsNavn(A25,0,0)","v":""},null,null,null,"","00:00:00","",{"$f":"IF(AND(C25=\"\",WEEKDAY(A25,2)<6),ColTime(T.!$J$4,T.!$L$4,D25,E25),\"\")","v":"00:00:00"},null,{"$f":"IF(AND(OR(WEEKDAY(A25,2)=7,C25<>\"\"),E25<D25),ColTime($AF$1,$AG$1,'Januar (5)'!$AF$1,E25),IF(WEEKDAY(A25,2)<6,ColTime(T.!$J$5,T.!$L$5,D25,E25),\"\"))","v":"00:00:00"},null,"",{"$f":"IF(AND(OR(WEEKDAY(A25,2)<6,WEEKDAY(A25,2)=6),C25<>\"\",E25<D25),ColTime(T.!$J$7,T.!$L$7,D25,AF22),IF(AND(WEEKDAY(A25,2)=6,E25<D25),ColTime(T.!$J$7,T.!$L$7,$AF$1,E25),IF(AND(E25<D25,OR(C25<>\"\",WEEKDAY(A25,2)=7)),ColTime(T.!J28,T.!L28,'Januar (5)'!D25,'Januar (5)'!AF22),IF(AND(E25<>\"\",OR(C25<>\"\",WEEKDAY(A25,2)=7)),ColTime(T.!$J$7,T.!$L$7,D25,E25),\"\"))))","v":""},"",null,null,{"$f":"CHOOSE(WEEKDAY(A25,2),norm!C$1,norm!C$2,norm!C$3,norm!C$4,norm!C$5,norm!C$6,norm!C$7)","v":"07:30:00"},null,null,"","","","","",""]
[{"$f":"A25+1","v":"2019-05-23"},{"$f":"PROPER(TEXT(A26,\"ddd\"))","v":"To"},{"$f":"HelligdagsNavn(A26,0,0)","v":""},null,null,null,"","00:00:00","",{"$f":"IF(AND(C26=\"\",WEEKDAY(A26,2)<6),ColTime(T.!$J$4,T.!$L$4,D26,E26),\"\")","v":"00:00:00"},null,{"$f":"IF(AND(OR(WEEKDAY(A26,2)=7,C26<>\"\"),E26<D26),ColTime($AF$1,$AG$1,'Januar (5)'!$AF$1,E26),IF(WEEKDAY(A26,2)<6,ColTime(T.!$J$5,T.!$L$5,D26,E26),\"\"))","v":"00:00:00"},null,"",{"$f":"IF(AND(OR(WEEKDAY(A26,2)<6,WEEKDAY(A26,2)=6),C26<>\"\",E26<D26),ColTime(T.!$J$7,T.!$L$7,D26,AF23),IF(AND(WEEKDAY(A26,2)=6,E26<D26),ColTime(T.!$J$7,T.!$L$7,$AF$1,E26),IF(AND(E26<D26,OR(C26<>\"\",WEEKDAY(A26,2)=7)),ColTime(T.!J29,T.!L29,'Januar (5)'!D26,'Januar (5)'!AF23),IF(AND(E26<>\"\",OR(C26<>\"\",WEEKDAY(A26,2)=7)),ColTime(T.!$J$7,T.!$L$7,D26,E26),\"\"))))","v":""},"",null,null,{"$f":"CHOOSE(WEEKDAY(A26,2),norm!C$1,norm!C$2,norm!C$3,norm!C$4,norm!C$5,norm!C$6,norm!C$7)","v":"07:30:00"},null,null,"","","","","",""]
[{"$f":"A26+1","v":"2019-05-24"},{"$f":"PROPER(TEXT(A27,\"ddd\"))","v":"Fr"},"",null,null,null,"","00:00:00","",{"$f":"IF(AND(C27=\"\",WEEKDAY(A27,2)<6),ColTime(T.!$J$4,T.!$L$4,D27,E27),\"\")","v":"00:00:00"},null,{"$f":"IF(AND(OR(WEEKDAY(A27,2)=7,C27<>\"\"),E27<D27),ColTime($AF$1,$AG$1,'Januar (5)'!$AF$1,E27),IF(WEEKDAY(A27,2)<6,ColTime(T.!$J$5,T.!$L$5,D27,E27),\"\"))","v":"00:00:00"},null,"",{"$f":"IF(AND(OR(WEEKDAY(A27,2)<6,WEEKDAY(A27,2)=6),C27<>\"\",E27<D27),ColTime(T.!$J$7,T.!$L$7,D27,AF24),IF(AND(WEEKDAY(A27,2)=6,E27<D27),ColTime(T.!$J$7,T.!$L$7,$AF$1,E27),IF(AND(E27<D27,OR(C27<>\"\",WEEKDAY(A27,2)=7)),ColTime(T.!J30,T.!L30,'Januar (5)'!D27,'Januar (5)'!AF24),IF(AND(E27<>\"\",OR(C27<>\"\",WEEKDAY(A27,2)=7)),ColTime(T.!$J$7,T.!$L$7,D27,E27),\"\"))))","v":""},"",null,null,{"$f":"CHOOSE(WEEKDAY(A27,2),norm!C$1,norm!C$2,norm!C$3,norm!C$4,norm!C$5,norm!C$6,norm!C$7)","v":"07:00:00"},null,null,"","","","","",""]
["2019-05-25","Lø","",null,null,null,"","00:00:00","",{"$f":"IF(AND(C28=\"\",WEEKDAY(A28,2)<6),ColTime(T.!$J$4,T.!$L$4,D28,E28),\"\")","v":""},null,{"$f":"IF(AND(OR(WEEKDAY(A28,2)=7,C28<>\"\"),E28<D28),ColTime($AF$1,$AG$1,'Januar (5)'!$AF$1,E28),IF(WEEKDAY(A28,2)<6,ColTime(T.!$J$5,T.!$L$5,D28,E28),\"\"))","v":""},null,"00:00:00",{"$f":"IF(AND(OR(WEEKDAY(A28,2)<6,WEEKDAY(A28,2)=6),C28<>\"\",E28<D28),ColTime(T.!$J$7,T.!$L$7,D28,AF25),IF(AND(WEEKDAY(A28,2)=6,E28<D28),ColTime(T.!$J$7,T.!$L$7,$AF$1,E28),IF(AND(E28<D28,OR(C28<>\"\",WEEKDAY(A28,2)=7)),ColTime(T.!J31,T.!L31,'Januar (5)'!D28,'Januar (5)'!AF25),IF(AND(E28<>\"\",OR(C28<>\"\",WEEKDAY(A28,2)=7)),ColTime(T.!$J$7,T.!$L$7,D28,E28),\"\"))))","v":""},"",null,null,{"$f":"CHOOSE(WEEKDAY(A28,2),norm!C$1,norm!C$2,norm!C$3,norm!C$4,norm!C$5,norm!C$6,norm!C$7)","v":"00:00:00"},null,null,"","","","","",""]
["2019-05-26","Sø","",null,null,null,"","00:00:00","",{"$f":"IF(AND(C29=\"\",WEEKDAY(A29,2)<6),ColTime(T.!$J$4,T.!$L$4,D29,E29),\"\")","v":""},null,{"$f":"IF(AND(OR(WEEKDAY(A29,2)=7,C29<>\"\"),E29<D29),ColTime($AF$1,$AG$1,'Januar (5)'!$AF$1,E29),IF(WEEKDAY(A29,2)<6,ColTime(T.!$J$5,T.!$L$5,D29,E29),\"\"))","v":""},null,"",{"$f":"IF(AND(OR(WEEKDAY(A29,2)<6,WEEKDAY(A29,2)=6),C29<>\"\",E29<D29),ColTime(T.!$J$7,T.!$L$7,D29,AF26),IF(AND(WEEKDAY(A29,2)=6,E29<D29),ColTime(T.!$J$7,T.!$L$7,$AF$1,E29),IF(AND(E29<D29,OR(C29<>\"\",WEEKDAY(A29,2)=7)),ColTime(T.!J32,T.!L32,'Januar (5)'!D29,'Januar (5)'!AF26),IF(AND(E29<>\"\",OR(C29<>\"\",WEEKDAY(A29,2)=7)),ColTime(T.!$J$7,T.!$L$7,D29,E29),\"\"))))","v":""},"",null,null,{"$f":"CHOOSE(WEEKDAY(A29,2),norm!C$1,norm!C$2,norm!C$3,norm!C$4,norm!C$5,norm!C$6,norm!C$7)","v":"00:00:00"}]
["2019-05-27","Ma","",null,null,null,"","00:00:00","",{"$f":"IF(AND(C30=\"\",WEEKDAY(A30,2)<6),ColTime(T.!$J$4,T.!$L$4,D30,E30),\"\")","v":"00:00:00"},null,{"$f":"IF(AND(OR(WEEKDAY(A30,2)=7,C30<>\"\"),E30<D30),ColTime($AF$1,$AG$1,'Januar (5)'!$AF$1,E30),IF(WEEKDAY(A30,2)<6,ColTime(T.!$J$5,T.!$L$5,D30,E30),\"\"))","v":"00:00:00"},null,"",{"$f":"IF(AND(OR(WEEKDAY(A30,2)<6,WEEKDAY(A30,2)=6),C30<>\"\",E30<D30),ColTime(T.!$J$7,T.!$L$7,D30,AF27),IF(AND(WEEKDAY(A30,2)=6,E30<D30),ColTime(T.!$J$7,T.!$L$7,$AF$1,E30),IF(AND(E30<D30,OR(C30<>\"\",WEEKDAY(A30,2)=7)),ColTime(T.!J33,T.!L33,'Januar (5)'!D30,'Januar (5)'!AF27),IF(AND(E30<>\"\",OR(C30<>\"\",WEEKDAY(A30,2)=7)),ColTime(T.!$J$7,T.!$L$7,D30,E30),\"\"))))","v":""},"",null,null,{"$f":"CHOOSE(WEEKDAY(A30,2),norm!C$1,norm!C$2,norm!C$3,norm!C$4,norm!C$5,norm!C$6,norm!C$7)","v":"07:30:00"}]
["2019-05-28","Ti","",null,null,null,"","00:00:00","",{"$f":"IF(AND(C31=\"\",WEEKDAY(A31,2)<6),ColTime(T.!$J$4,T.!$L$4,D31,E31),\"\")","v":"00:00:00"},null,{"$f":"IF(AND(OR(WEEKDAY(A31,2)=7,C31<>\"\"),E31<D31),ColTime($AF$1,$AG$1,'Januar (5)'!$AF$1,E31),IF(WEEKDAY(A31,2)<6,ColTime(T.!$J$5,T.!$L$5,D31,E31),\"\"))","v":"00:00:00"},null,"",{"$f":"IF(AND(OR(WEEKDAY(A31,2)<6,WEEKDAY(A31,2)=6),C31<>\"\",E31<D31),ColTime(T.!$J$7,T.!$L$7,D31,AF28),IF(AND(WEEKDAY(A31,2)=6,E31<D31),ColTime(T.!$J$7,T.!$L$7,$AF$1,E31),IF(AND(E31<D31,OR(C31<>\"\",WEEKDAY(A31,2)=7)),ColTime(T.!J34,T.!L34,'Januar (5)'!D31,'Januar (5)'!AF28),IF(AND(E31<>\"\",OR(C31<>\"\",WEEKDAY(A31,2)=7)),ColTime(T.!$J$7,T.!$L$7,D31,E31),\"\"))))","v":""},"",null,null,{"$f":"CHOOSE(WEEKDAY(A31,2),norm!C$1,norm!C$2,norm!C$3,norm!C$4,norm!C$5,norm!C$6,norm!C$7)","v":"07:30:00"}]
[{"$f":"IFERROR(IF(MONTH(A31+1)>MONTH(A31),\"\",A31+1),\"\")","v":"2019-05-29"},"On",{"$f":"IF(A32=\"\",\"\",HelligdagsNavn(A32,0,0))","v":""},null,null,null,"","00:00:00","",{"$f":"IFERROR(IF(AND(C32=\"\",WEEKDAY(A32,2)<6),ColTime(T.!$J$4,T.!$L$4,D32,E32),\"\"),\"\")","v":"00:00:00"},null,{"$f":"IFERROR(IF(AND(OR(WEEKDAY(A32,2)=7,C32<>\"\"),E32<D32),ColTime($AF$1,$AG$1,'Januar (5)'!$AF$1,E32),IF(WEEKDAY(A32,2)<6,ColTime(T.!$J$5,T.!$L$5,D32,E32),\"\")),\"\")","v":"00:00:00"},null,{"$f":"IFERROR(IF(WEEKDAY(A32,2)=6,ColTime(TIME(15,0,0),TIME(24,0,0),D32,E32),\"\"),\"\")","v":""},{"$f":"IFERROR(IF(AND(OR(WEEKDAY(A32,2)<6,WEEKDAY(A32,2)=6),C32<>\"\",E32<D32),ColTime(T.!$J$7,T.!$L$7,D32,AF29),IF(AND(WEEKDAY(A32,2)=6,E32<D32),ColTime(T.!$J$7,T.!$L$7,$AF$1,E32),IF(AND(E32<D32,OR(C32<>\"\",WEEKDAY(A32,2)=7)),ColTime(T.!J35,T.!L35,'Januar (5)'!D32,'Januar (5)'!AF29),IF(AND(E32<>\"\",OR(C32<>\"\",WEEKDAY(A32,2)=7)),ColTime(T.!$J$7,T.!$L$7,D32,E32),\"\")))),\"\")","v":""},"",null,null,{"$f":"IFERROR(CHOOSE(WEEKDAY(A32,2),norm!C$1,norm!C$2,norm!C$3,norm!C$4,norm!C$5,norm!C$6,norm!C$7),\"\")","v":"07:30:00"}]
[{"$f":"IFERROR(IF(MONTH(A32+1)>MONTH(A32),\"\",A32+1),\"\")","v":"2019-05-30"},"To","Kristi Himmelfartsdag",null,null,null,"","00:00:00","",{"$f":"IFERROR(IF(AND(C33=\"\",WEEKDAY(A33,2)<6),ColTime(T.!$J$4,T.!$L$4,D33,E33),\"\"),\"\")","v":""},null,{"$f":"IFERROR(IF(AND(OR(WEEKDAY(A33,2)=7,C33<>\"\"),E33<D33),ColTime($AF$1,$AG$1,'Januar (5)'!$AF$1,E33),IF(WEEKDAY(A33,2)<6,ColTime(T.!$J$5,T.!$L$5,D33,E33),\"\")),\"\")","v":"00:00:00"},null,{"$f":"IFERROR(IF(WEEKDAY(A33,2)=6,ColTime(TIME(15,0,0),TIME(24,0,0),D33,E33),\"\"),\"\")","v":""},{"$f":"IFERROR(IF(AND(OR(WEEKDAY(A33,2)<6,WEEKDAY(A33,2)=6),C33<>\"\",E33<D33),ColTime(T.!$J$7,T.!$L$7,D33,AF30),IF(AND(WEEKDAY(A33,2)=6,E33<D33),ColTime(T.!$J$7,T.!$L$7,$AF$1,E33),IF(AND(E33<D33,OR(C33<>\"\",WEEKDAY(A33,2)=7)),ColTime(T.!J36,T.!L36,'Januar (5)'!D33,'Januar (5)'!AF30),IF(AND(E33<>\"\",OR(C33<>\"\",WEEKDAY(A33,2)=7)),ColTime(T.!$J$7,T.!$L$7,D33,E33),\"\")))),\"\")","v":""},"",null,null,{"$f":"IFERROR(CHOOSE(WEEKDAY(A33,2),norm!C$1,norm!C$2,norm!C$3,norm!C$4,norm!C$5,norm!C$6,norm!C$7),\"\")","v":"07:30:00"}]
["2019-05-31",{"$f":"IFERROR(PROPER(TEXT(A34,\"ddd\")),\"\")","v":"Fr"},{"$f":"IF(A34=\"\",\"\",HelligdagsNavn(A34,0,0))","v":""},null,null,null,"","00:00:00","",{"$f":"IFERROR(IF(AND(C34=\"\",WEEKDAY(A34,2)<6),ColTime(T.!$J$4,T.!$L$4,D34,E34),\"\"),\"\")","v":"00:00:00"},null,{"$f":"IFERROR(IF(AND(OR(WEEKDAY(A34,2)=7,C34<>\"\"),E34<D34),ColTime($AF$1,$AG$1,'Januar (5)'!$AF$1,E34),IF(WEEKDAY(A34,2)<6,ColTime(T.!$J$5,T.!$L$5,D34,E34),\"\")),\"\")","v":"00:00:00"},null,{"$f":"IFERROR(IF(WEEKDAY(A34,2)=6,ColTime(TIME(15,0,0),TIME(24,0,0),D34,E34),\"\"),\"\")","v":""},{"$f":"IFERROR(IF(AND(OR(WEEKDAY(A34,2)<6,WEEKDAY(A34,2)=6),C34<>\"\",E34<D34),ColTime(T.!$J$7,T.!$L$7,D34,AF31),IF(AND(WEEKDAY(A34,2)=6,E34<D34),ColTime(T.!$J$7,T.!$L$7,$AF$1,E34),IF(AND(E34<D34,OR(C34<>\"\",WEEKDAY(A34,2)=7)),ColTime(T.!J37,T.!L37,'Januar (5)'!D34,'Januar (5)'!AF31),IF(AND(E34<>\"\",OR(C34<>\"\",WEEKDAY(A34,2)=7)),ColTime(T.!$J$7,T.!$L$7,D34,E34),\"\")))),\"\")","v":""},"",null,null,{"$f":"IFERROR(CHOOSE(WEEKDAY(A34,2),norm!C$1,norm!C$2,norm!C$3,norm!C$4,norm!C$5,norm!C$6,norm!C$7),\"\")","v":"07:00:00"},null,null,{"$f":"IF(D34=\"\",\"\",HOUR(D34))","v":""},{"$f":"IF(D34=\"\",\"\",MINUTE(D34))","v":""},{"$f":"IF(D34=\"\",\"\",TIME(HOUR(D34),MINUTE(D34),0))","v":""},{"$f":"IF(E34=\"\",\"\",HOUR(E34))","v":""},{"$f":"IF(E34=\"\",\"\",MINUTE(E34))","v":""},{"$f":"IF(E34=\"\",\"\",TIME(HOUR(E34),MINUTE(E34),0))","v":""}]
["Total timer",null,null,null,null,null,{"$f":"IF(SUM(G9:G34)<>\"0\",SUM(G4:G34),\"\")","v":5.8333333333333339},{"$f":"IF(SUM(H9:H34)<>\"0\",SUM(H4:H34),\"\")","v":1.0624999999999998},{"$f":"IF(SUM(I9:I34)<>\"0\",SUM(I4:I34),\"\")","v":1.5208333333333335},{"$f":"IF(SUM(J9:J34)<>\"0\",SUM(J4:J34),\"\")","v":0.9166666666666673},null,{"$f":"IF(SUM(L9:L34)<>\"0\",SUM(L4:L34),\"\")","v":3.1249999999999991},null,{"$f":"IF(SUM(N9:N34)<>\"0\",SUM(N4:N34),\"\")","v":0.16666666666666674},{"$f":"IF(SUM(O9:O34)<>\"0\",SUM(O4:O34),\"\")","v":0.75000000000000011},{"$f":"SUM(P4:P34)","v":2.1458333333333335},{"$f":"SUM(Q4:Q34)","v":0}]
["Timer 1/100",null,null,null,null,null,{"$f":"IF(G35<>\"\",ROUND(G35*24,2),\"\")","v":140},{"$f":"IF(H35<>\"\",ROUND(H35*24,2),\"\")","v":25.5},36.5,{"$f":"IF(J35<>\"\",ROUND(J35*24,2),\"\")","v":22},null,{"$f":"IF(L35<>\"\",ROUND(L35*24,2),\"\")","v":75},null,{"$f":"IF(N35<>\"\",ROUND(N35*24,2),\"\")","v":4},18,51.5,0]
["Satser",null,null,null,null,null,{"$f":"Satser!B7","v":107.35},{"$f":"Satser!B9","v":36.35},{"$f":"Satser!B12","v":58.1},{"$f":"Satser!B17","v":13.91},null,{"$f":"Satser!B18","v":23.19},null,{"$f":"Satser!B19","v":24.89},{"$f":"Satser!B20","v":27.63}]
[null,null,null,null,null,null,{"$f":"IF(G35<>\"\",G36*G37,\"\")","v":15029},{"$f":"IF(H35<>\"\",H36*H37,\"\")","v":926.92500000000007},2120.65,{"$f":"IF(J35<>\"\",J36*J37,\"\")","v":306.02},null,{"$f":"IF(L35<>\"\",L36*L36,\"\")","v":5625},null,{"$f":"IF(N35<>\"\",N36*N37,\"\")","v":99.56},497.34]
[]
["Lønart"]
[3025,null,null,null,null,null,{"$f":"G35","v":5.8333333333333339}]
[3425,null,null,null,null,null,{"$f":"H35","v":1.0624999999999998}]
[3428,null,null,null,null,null,{"$f":"I35","v":1.5208333333333335}]
["Timer",null,null,null,null,null,{"$f":"SUM(G41:G43)","v":8.4166666666666679},{"$f":"IF(G44<>\"\",ROUND(G44*24,2),\"\")","v":202}]
[null,null,null,null,null,null,null,{"$f":"G37*H44","v":21684.699999999997}]

{"sheet":"Januar (6)","index":7,"n_rows":45,"n_cols":35,"rows_kept":45,"cut":false,"hidden":true,"merged":[[39,0,39,2],[40,0,40,2],[41,0,41,2],[42,0,42,2],[43,0,43,5],[35,9,35,10],[35,11,35,12],[36,9,36,10],[36,11,36,12],[37,9,37,10],[37,11,37,12],[32,9,32,10],[32,11,32,12],[33,9,33,10],[33,11,33,12],[34,9,34,10],[34,11,34,12],[29,9,29,10],[29,11,29,12],[30,9,30,10],[30,11,30,12],[31,9,31,10],[31,11,31,12],[26,9,26,10],[26,11,26,12],[27,9,27,10],[27,11,27,12],[28,9,28,10],[28,11,28,12],[23,9,23,10],[23,11,23,12],[24,9,24,10],[24,11,24,12],[25,9,25,10],[25,11,25,12],[20,9,20,10],[20,11,20,12],[21,9,21,10],[21,11,21,12],[22,9,22,10],[22,11,22,12],[17,9,17,10],[17,11,17,12],[18,9,18,10],[18,11,18,12],[19,9,19,10],[19,11,19,12],[14,9,14,10],[14,11,14,12],[15,9,15,10],[15,11,15,12],[16,9,16,10],[16,11,16,12],[11,9,11,10],[11,11,11,12],[12,9,12,10],[12,11,12,12],[13,9,13,10],[13,11,13,12],[8,9,8,10],[8,11,8,12],[9,9,9,10],[9,11,9,12],[10,9,10,10],[10,11,10,12],[5,9,5,10],[5,11,5,12],[6,9,6,10],[6,11,6,12],[7,9,7,10],[7,11,7,12],[4,9,4,10],[4,11,4,12],[0,1,0,7],[0,10,0,11],[0,13,0,14],[1,1,1,2],[1,9,1,10],[1,11,1,12],[2,1,2,2],[2,9,2,10],[2,11,2,12],[3,9,3,10],[3,11,3,12]]}
["Løn",{"$f":"PROPER(TEXT(A4,\"dd mmmm åååå\")) & PROPER(TEXT(N1,\"  -  dd mmmm åååå\"))","v":"01 Juni 2019  -  30 Juni 2019"},null,null,null,null,null,null,"Uge :",{"$f":"IF(A4=\"\",\"\",TRUNC((A4-WEEKDAY(A4,2)-DATE(YEAR(A4+4-WEEKDAY(A4,2)),1,-10))/7))","v":22},"-",null,{"$f":"IF(A25=\"\",\"\",TRUNC((A25-WEEKDAY(A25,2)-DATE(YEAR(A25+4-WEEKDAY(A25,2)),1,-10))/7))","v":25},{"$f":"EOMONTH(A4,0)","v":"2019-06-30"},null,6,null,null,null,null,null,"Time beregning:",null,null,null,null,null,null,null,null,null,1,"06:00:00","18:00:00","03:00:00"]
["Lønart",null,null,null,null,null,null,null,null,null,null,null,null,null,null,null,null,null,null,null,null,"Betalt pause ved vagt over 5 timer",null,null,null,"00:25:00","minutter","00:00:00","06:00:00","17:00:00","14:00:00"]
["Dato","Dag",null,"Start","Slut","Pause","Arb. Tid","Overtid           1-3 time","Overtid            4 - time","Forskudt tid Man-fredag\n18-23",null,"Natarbejde 23-06",null,"Lørdag tillæg 14 - 24","Søndag tillæg 00 - 24","Optjent afspadsering","Afholdt afspadsering","Syge Timer","norm"]
[{"$f":"DATE(T.!$B$2,$P$1,1)","v":"2019-06-01"},{"$f":"PROPER(TEXT(A4,\"ddd\"))","v":"Lø"},{"$f":"HelligdagsNavn(A4,0,0)","v":""},"18:00:00","07:00:00",null,{"$f":"IF(D4=\"\",\"\",(E4-D4)+(D4>E4)-F4)","v":0.54166666666666674},{"$f":"IF(G4=\"\",0,IF(WEEKDAY(A4,2)=7,0,IF(G4>S4,MIN(G4-S4,$AI$1),0)))","v":"03:00:00"},{"$f":"IF(G4=\"\",\"\",IF(G4>S4+H4,G4-(S4+H4),\"\"))","v":"10:00:00"},{"$f":"IF(AND(C4=\"\",WEEKDAY(A4,2)<6),ColTime(T.!$J$4,T.!$L$4,D4,E4),\"\")","v":""},null,{"$f":"IF(AND(OR(WEEKDAY(A4,2)=7,C4<>\"\"),E4<D4),ColTime($AF$1,$AG$1,'Januar (6)'!$AF$1,E4),IF(WEEKDAY(A4,2)<6,ColTime(T.!$J$5,T.!$L$5,D4,E4),\"\"))","v":""},null,{"$f":"IF(WEEKDAY(A4,2)=6,ColTime(TIME(14,0,0),TIME(24,0,0),D4,E4),\"\")","v":"06:00:00"},{"$f":"IF(AND(OR(WEEKDAY(A4,2)<6,WEEKDAY(A4,2)=6),C4<>\"\",E4<D4),ColTime(T.!$J$7,T.!$L$7,D4,AF1),IF(AND(WEEKDAY(A4,2)=6,E4<D4),ColTime(T.!$J$7,T.!$L$7,$AF$1,E4),IF(AND(E4<D4,OR(C4<>\"\",WEEKDAY(A4,2)=7)),ColTime(T.!J7,T.!L7,'Januar (6)'!D4,'Januar (6)'!AF1),IF(AND(E4<>\"\",OR(C4<>\"\",WEEKDAY(A4,2)=7)),ColTime(T.!$J$7,T.!$L$7,D4,E4),\"\"))))","v":"07:00:00"},{"$f":"IFERROR(H4+I4,\"\")","v":"13:00:00"},null,null,{"$f":"CHOOSE(WEEKDAY(A4,2),norm!C$1,norm!C$2,norm!C$3,norm!C$4,norm!C$5,norm!C$6,norm!C$7)","v":"00:00:00"},null,null,{"$f":"IF(D4=\"\",\"\",HOUR(D4))","v":18},{"$f":"IF(D4=\"\",\"\",MINUTE(D4))","v":0},{"$f":"IF(D4=\"\",\"\",TIME(HOUR(D4),MINUTE(D4),0))","v":"18:00:00"},{"$f":"IF(E4=\"\",\"\",HOUR(E4))","v":7},{"$f":"IF(E4=\"\",\"\",MINUTE(E4))","v":0},"02:00:00","09:30:00","11:30:00",null,null,null,{"$f":"IFERROR(MIN(G4-S4,3),22)","v":0.54166666666666674}]
[{"$f":"A4+1","v":"2019-06-02"},{"$f":"PROPER(TEXT(A5,\"ddd\"))","v":"Sø"},{"$f":"HelligdagsNavn(A5,0,0)","v":""},"18:00:00","07:00:00",null,{"$f":"IF(D5=\"\",\"\",(E5-D5)+(D5>E5)-F5)","v":0.54166666666666674},{"$f":"IF(G5=\"\",0,IF(WEEKDAY(A5,2)=7,0,IF(G5>S5,MIN(G5-S5,$AI$1),0)))","v":"00:00:00"},{"$f":"IF(G5=\"\",\"\",IF(G5>S5+H5,G5-(S5+H5),\"\"))","v":"13:00:00"},{"$f":"IF(AND(C5=\"\",WEEKDAY(A5,2)<6),ColTime(T.!$J$4,T.!$L$4,D5,E5),\"\")","v":""},null,{"$f":"IF(AND(OR(WEEKDAY(A5,2)=7,C5<>\"\"),E5<D5),ColTime($AF$1,$AG$1,'Januar (6)'!$AF$1,E5),IF(WEEKDAY(A5,2)<6,ColTime(T.!$J$5,T.!$L$5,D5,E5),\"\"))","v":"06:00:00"},null,"",{"$f":"IF(AND(OR(WEEKDAY(A5,2)<6,WEEKDAY(A5,2)=6),C5<>\"\",E5<D5),ColTime(T.!$J$7,T.!$L$7,D5,AF2),IF(AND(WEEKDAY(A5,2)=6,E5<D5),ColTime(T.!$J$7,T.!$L$7,$AF$1,E5),IF(AND(E5<D5,OR(C5<>\"\",WEEKDAY(A5,2)=7)),ColTime(T.!J8,T.!L8,'Januar (6)'!D5,'Januar (6)'!AF2),IF(AND(E5<>\"\",OR(C5<>\"\",WEEKDAY(A5,2)=7)),ColTime(T.!$J$7,T.!$L$7,D5,E5),\"\"))))","v":"06:00:00"},{"$f":"IFERROR(H5+I5,\"\")","v":"13:00:00"},null,null,{"$f":"CHOOSE(WEEKDAY(A5,2),norm!C$1,norm!C$2,norm!C$3,norm!C$4,norm!C$5,norm!C$6,norm!C$7)","v":"00:00:00"},null,null,18,0,"18:00:00",7,0,{"$f":"IF(E5=\"\",\"\",TIME(HOUR(E5),MINUTE(E5),0))","v":"07:00:00"},null,null,null,null,null,null,"Der taste kun i de Gule celler"]
[{"$f":"A5+1","v":"2019-06-03"},{"$f":"PROPER(TEXT(A6,\"ddd\"))","v":"Ma"},"","22:00:00","07:00:00",null,0.375,"01:30:00","",{"$f":"IF(AND(C6=\"\",WEEKDAY(A6,2)<6),ColTime(T.!$J$4,T.!$L$4,D6,E6),\"\")","v":"01:00:00"},null,{"$f":"IF(AND(OR(WEEKDAY(A6,2)=7,C6<>\"\"),E6<D6),ColTime($AF$1,$AG$1,'Januar (6)'!$AF$1,E6),IF(WEEKDAY(A6,2)<6,ColTime(T.!$J$5,T.!$L$5,D6,E6),\"\"))","v":"07:00:00"},null,"",{"$f":"IF(AND(OR(WEEKDAY(A6,2)<6,WEEKDAY(A6,2)=6),C6<>\"\",E6<D6),ColTime(T.!$J$7,T.!$L$7,D6,AF3),IF(AND(WEEKDAY(A6,2)=6,E6<D6),ColTime(T.!$J$7,T.!$L$7,$AF$1,E6),IF(AND(E6<D6,OR(C6<>\"\",WEEKDAY(A6,2)=7)),ColTime(T.!J9,T.!L9,'Januar (6)'!D6,'Januar (6)'!AF3),IF(AND(E6<>\"\",OR(C6<>\"\",WEEKDAY(A6,2)=7)),ColTime(T.!$J$7,T.!$L$7,D6,E6),\"\"))))","v":""},{"$f":"IFERROR(H6+I6,\"\")","v":""},null,null,{"$f":"CHOOSE(WEEKDAY(A6,2),norm!C$1,norm!C$2,norm!C$3,norm!C$4,norm!C$5,norm!C$6,norm!C$7)","v":"07:30:00"},null,null,22,0,"22:00:00",7,0,"07:00:00"]
["2019-06-04","Ti","","22:00:00","07:00:00",null,0.375,"01:30:00","",{"$f":"IF(AND(C7=\"\",WEEKDAY(A7,2)<6),ColTime(T.!$J$4,T.!$L$4,D7,E7),\"\")","v":"01:00:00"},null,{"$f":"IF(AND(OR(WEEKDAY(A7,2)=7,C7<>\"\"),E7<D7),ColTime($AF$1,$AG$1,'Januar (6)'!$AF$1,E7),IF(WEEKDAY(A7,2)<6,ColTime(T.!$J$5,T.!$L$5,D7,E7),\"\"))","v":"07:00:00"},null,"",{"$f":"IF(AND(OR(WEEKDAY(A7,2)<6,WEEKDAY(A7,2)=6),C7<>\"\",E7<D7),ColTime(T.!$J$7,T.!$L$7,D7,AF4),IF(AND(WEEKDAY(A7,2)=6,E7<D7),ColTime(T.!$J$7,T.!$L$7,$AF$1,E7),IF(AND(E7<D7,OR(C7<>\"\",WEEKDAY(A7,2)=7)),ColTime(T.!J10,T.!L10,'Januar (6)'!D7,'Januar (6)'!AF4),IF(AND(E7<>\"\",OR(C7<>\"\",WEEKDAY(A7,2)=7)),ColTime(T.!$J$7,T.!$L$7,D7,E7),\"\"))))","v":""},{"$f":"IFERROR(H7+I7,\"\")","v":""},null,null,{"$f":"CHOOSE(WEEKDAY(A7,2),norm!C$1,norm!C$2,norm!C$3,norm!C$4,norm!C$5,norm!C$6,norm!C$7)","v":"07:30:00"},null,null,22,0,"22:00:00",7,0,"07:00:00"]
["2019-06-05","On","Grundlovsdag","22:00:00","07:00:00",null,0.375,"01:30:00","",{"$f":"IF(AND(C8=\"\",WEEKDAY(A8,2)<6),ColTime(T.!$J$4,T.!$L$4,D8,E8),\"\")","v":""},null,{"$f":"IF(AND(OR(WEEKDAY(A8,2)=7,C8<>\"\"),E8<D8),ColTime($AF$1,$AG$1,'Januar (6)'!$AF$1,E8),IF(WEEKDAY(A8,2)<6,ColTime(T.!$J$5,T.!$L$5,D8,E8),\"\"))","v":"06:00:00"},null,"",{"$f":"IF(AND(OR(WEEKDAY(A8,2)<6,WEEKDAY(A8,2)=6),C8<>\"\",E8<D8),ColTime(T.!$J$7,T.!$L$7,D8,AF5),IF(AND(WEEKDAY(A8,2)=6,E8<D8),ColTime(T.!$J$7,T.!$L$7,$AF$1,E8),IF(AND(E8<D8,OR(C8<>\"\",WEEKDAY(A8,2)=7)),ColTime(T.!J11,T.!L11,'Januar (6)'!D8,'Januar (6)'!AF5),IF(AND(E8<>\"\",OR(C8<>\"\",WEEKDAY(A8,2)=7)),ColTime(T.!$J$7,T.!$L$7,D8,E8),\"\"))))","v":"02:00:00"},{"$f":"IFERROR(H8+I8,\"\")","v":""},null,null,{"$f":"CHOOSE(WEEKDAY(A8,2),norm!C$1,norm!C$2,norm!C$3,norm!C$4,norm!C$5,norm!C$6,norm!C$7)","v":"07:30:00"},null,null,22,0,"22:00:00",7,0,"07:00:00"]
["2019-06-06","To","","22:00:00","07:00:00",null,0.375,"01:30:00","",{"$f":"IF(AND(C9=\"\",WEEKDAY(A9,2)<6),ColTime(T.!$J$4,T.!$L$4,D9,E9),\"\")","v":"01:00:00"},null,{"$f":"IF(AND(OR(WEEKDAY(A9,2)=7,C9<>\"\"),E9<D9),ColTime($AF$1,$AG$1,'Januar (6)'!$AF$1,E9),IF(WEEKDAY(A9,2)<6,ColTime(T.!$J$5,T.!$L$5,D9,E9),\"\"))","v":"07:00:00"},null,"",{"$f":"IF(AND(OR(WEEKDAY(A9,2)<6,WEEKDAY(A9,2)=6),C9<>\"\",E9<D9),ColTime(T.!$J$7,T.!$L$7,D9,AF6),IF(AND(WEEKDAY(A9,2)=6,E9<D9),ColTime(T.!$J$7,T.!$L$7,$AF$1,E9),IF(AND(E9<D9,OR(C9<>\"\",WEEKDAY(A9,2)=7)),ColTime(T.!J12,T.!L12,'Januar (6)'!D9,'Januar (6)'!AF6),IF(AND(E9<>\"\",OR(C9<>\"\",WEEKDAY(A9,2)=7)),ColTime(T.!$J$7,T.!$L$7,D9,E9),\"\"))))","v":""},{"$f":"IFERROR(H9+I9,\"\")","v":""},null,null,{"$f":"CHOOSE(WEEKDAY(A9,2),norm!C$1,norm!C$2,norm!C$3,norm!C$4,norm!C$5,norm!C$6,norm!C$7)","v":"07:30:00"},null,null,22,0,"22:00:00",7,0,"07:00:00"]
["2019-06-07","Fr","","22:00:00","07:00:00",null,0.375,"02:00:00","",{"$f":"IF(AND(C10=\"\",WEEKDAY(A10,2)<6),ColTime(T.!$J$4,T.!$L$4,D10,E10),\"\")","v":"01:00:00"},null,{"$f":"IF(AND(OR(WEEKDAY(A10,2)=7,C10<>\"\"),E10<D10),ColTime($AF$1,$AG$1,'Januar (6)'!$AF$1,E10),IF(WEEKDAY(A10,2)<6,ColTime(T.!$J$5,T.!$L$5,D10,E10),\"\"))","v":"07:00:00"},null,{"$f":"IF(WEEKDAY(A10,2)=6,ColTime(TIME(14,0,0),TIME(24,0,0),D10,E10),\"\")","v":""},{"$f":"IF(AND(OR(WEEKDAY(A10,2)<6,WEEKDAY(A10,2)=6),C10<>\"\",E10<D10),ColTime(T.!$J$7,T.!$L$7,D10,AF7),IF(AND(WEEKDAY(A10,2)=6,E10<D10),ColTime(T.!$J$7,T.!$L$7,$AF$1,E10),IF(AND(E10<D10,OR(C10<>\"\",WEEKDAY(A10,2)=7)),ColTime(T.!J13,T.!L13,'Januar (6)'!D10,'Januar (6)'!AF7),IF(AND(E10<>\"\",OR(C10<>\"\",WEEKDAY(A10,2)=7)),ColTime(T.!$J$7,T.!$L$7,D10,E10),\"\"))))","v":""},"",null,null,{"$f":"CHOOSE(WEEKDAY(A10,2),norm!C$1,norm!C$2,norm!C$3,norm!C$4,norm!C$5,norm!C$6,norm!C$7)","v":"07:00:00"},null,null,22,0,"22:00:00",7,0,"07:00:00"]
[{"$f":"A10+1","v":"2019-06-08"},{"$f":"PROPER(TEXT(A11,\"ddd\"))","v":"Lø"},{"$f":"HelligdagsNavn(A11,0,0)","v":""},"22:00:00","07:00:00",null,0.375,"03:00:00","06:00:00",{"$f":"IF(AND(C11=\"\",WEEKDAY(A11,2)<6),ColTime(T.!$J$4,T.!$L$4,D11,E11),\"\")","v":""},null,{"$f":"IF(AND(OR(WEEKDAY(A11,2)=7,C11<>\"\"),E11<D11),ColTime($AF$1,$AG$1,'Januar (6)'!$AF$1,E11),IF(WEEKDAY(A11,2)<6,ColTime(T.!$J$5,T.!$L$5,D11,E11),\"\"))","v":""},null,{"$f":"IF(WEEKDAY(A11,2)=6,ColTime(TIME(15,0,0),TIME(24,0,0),D11,E11),\"\")","v":"02:00:00"},{"$f":"IF(AND(OR(WEEKDAY(A11,2)<6,WEEKDAY(A11,2)=6),C11<>\"\",E11<D11),ColTime(T.!$J$7,T.!$L$7,D11,AF8),IF(AND(WEEKDAY(A11,2)=6,E11<D11),ColTime(T.!$J$7,T.!$L$7,$AF$1,E11),IF(AND(E11<D11,OR(C11<>\"\",WEEKDAY(A11,2)=7)),ColTime(T.!J14,T.!L14,'Januar (6)'!D11,'Januar (6)'!AF8),IF(AND(E11<>\"\",OR(C11<>\"\",WEEKDAY(A11,2)=7)),ColTime(T.!$J$7,T.!$L$7,D11,E11),\"\"))))","v":"07:00:00"},"09:00:00",null,null,{"$f":"CHOOSE(WEEKDAY(A11,2),norm!C$1,norm!C$2,norm!C$3,norm!C$4,norm!C$5,norm!C$6,norm!C$7)","v":"00:00:00"},null,null,22,0,"22:00:00",7,0,"07:00:00"]
[{"$f":"A11+1","v":"2019-06-09"},{"$f":"PROPER(TEXT(A12,\"ddd\"))","v":"Sø"},{"$f":"HelligdagsNavn(A12,0,0)","v":"Pinsedag"},"22:00:00","07:00:00",null,0.375,"00:00:00","09:00:00",{"$f":"IF(AND(C12=\"\",WEEKDAY(A12,2)<6),ColTime(T.!$J$4,T.!$L$4,D12,E12),\"\")","v":""},null,{"$f":"IF(AND(OR(WEEKDAY(A12,2)=7,C12<>\"\"),E12<D12),ColTime($AF$1,$AG$1,'Januar (6)'!$AF$1,E12),IF(WEEKDAY(A12,2)<6,ColTime(T.!$J$5,T.!$L$5,D12,E12),\"\"))","v":"06:00:00"},null,"",{"$f":"IF(AND(OR(WEEKDAY(A12,2)<6,WEEKDAY(A12,2)=6),C12<>\"\",E12<D12),ColTime(T.!$J$7,T.!$L$7,D12,AF9),IF(AND(WEEKDAY(A12,2)=6,E12<D12),ColTime(T.!$J$7,T.!$L$7,$AF$1,E12),IF(AND(E12<D12,OR(C12<>\"\",WEEKDAY(A12,2)=7)),ColTime(T.!J15,T.!L15,'Januar (6)'!D12,'Januar (6)'!AF9),IF(AND(E12<>\"\",OR(C12<>\"\",WEEKDAY(A12,2)=7)),ColTime(T.!$J$7,T.!$L$7,D12,E12),\"\"))))","v":"02:00:00"},"09:00:00",null,null,{"$f":"CHOOSE(WEEKDAY(A12,2),norm!C$1,norm!C$2,norm!C$3,norm!C$4,norm!C$5,norm!C$6,norm!C$7)","v":"00:00:00"},null,null,22,0,"22:00:00",7,0,"07:00:00"]
[{"$f":"A12+1","v":"2019-06-10"},{"$f":"PROPER(TEXT(A13,\"ddd\"))","v":"Ma"},"2. Pinsedag","22:00:00","07:00:00",null,0.375,"01:30:00","",{"$f":"IF(AND(C13=\"\",WEEKDAY(A13,2)<6),ColTime(T.!$J$4,T.!$L$4,D13,E13),\"\")","v":""},null,{"$f":"IF(AND(OR(WEEKDAY(A13,2)=7,C13<>\"\"),E13<D13),ColTime($AF$1,$AG$1,'Januar (6)'!$AF$1,E13),IF(WEEKDAY(A13,2)<6,ColTime(T.!$J$5,T.!$L$5,D13,E13),\"\"))","v":"06:00:00"},null,"",{"$f":"IF(AND(OR(WEEKDAY(A13,2)<6,WEEKDAY(A13,2)=6),C13<>\"\",E13<D13),ColTime(T.!$J$7,T.!$L$7,D13,AF10),IF(AND(WEEKDAY(A13,2)=6,E13<D13),ColTime(T.!$J$7,T.!$L$7,$AF$1,E13),IF(AND(E13<D13,OR(C13<>\"\",WEEKDAY(A13,2)=7)),ColTime(T.!J16,T.!L16,'Januar (6)'!D13,'Januar (6)'!AF10),IF(AND(E13<>\"\",OR(C13<>\"\",WEEKDAY(A13,2)=7)),ColTime(T.!$J$7,T.!$L$7,D13,E13),\"\"))))","v":"02:00:00"},"",null,null,{"$f":"CHOOSE(WEEKDAY(A13,2),norm!C$1,norm!C$2,norm!C$3,norm!C$4,norm!C$5,norm!C$6,norm!C$7)","v":"07:30:00"},null,null,22,0,"22:00:00",7,0,"07:00:00"]
["2019-06-11","Ti","","22:00:00","07:00:00",null,0.375,"01:30:00","",{"$f":"IF(AND(C14=\"\",WEEKDAY(A14,2)<6),ColTime(T.!$J$4,T.!$L$4,D14,E14),\"\")","v":"01:00:00"},null,{"$f":"IF(AND(OR(WEEKDAY(A14,2)=7,C14<>\"\"),E14<D14),ColTime($AF$1,$AG$1,'Januar (6)'!$AF$1,E14),IF(WEEKDAY(A14,2)<6,ColTime(T.!$J$5,T.!$L$5,D14,E14),\"\"))","v":"07:00:00"},null,"",{"$f":"IF(AND(OR(WEEKDAY(A14,2)<6,WEEKDAY(A14,2)=6),C14<>\"\",E14<D14),ColTime(T.!$J$7,T.!$L$7,D14,AF11),IF(AND(WEEKDAY(A14,2)=6,E14<D14),ColTime(T.!$J$7,T.!$L$7,$AF$1,E14),IF(AND(E14<D14,OR(C14<>\"\",WEEKDAY(A14,2)=7)),ColTime(T.!J17,T.!L17,'Januar (6)'!D14,'Januar (6)'!AF11),IF(AND(E14<>\"\",OR(C14<>\"\",WEEKDAY(A14,2)=7)),ColTime(T.!$J$7,T.!$L$7,D14,E14),\"\"))))","v":""},"",null,null,{"$f":"CHOOSE(WEEKDAY(A14,2),norm!C$1,norm!C$2,norm!C$3,norm!C$4,norm!C$5,norm!C$6,norm!C$7)","v":"07:30:00"},null,null,22,0,"22:00:00",7,0,"07:00:00"]
["2019-06-12","On","","22:00:00","07:00:00",null,0.375,"01:30:00","",{"$f":"IF(AND(C15=\"\",WEEKDAY(A15,2)<6),ColTime(T.!$J$4,T.!$L$4,D15,E15),\"\")","v":"01:00:00"},null,{"$f":"IF(AND(OR(WEEKDAY(A15,2)=7,C15<>\"\"),E15<D15),ColTime($AF$1,$AG$1,'Januar (6)'!$AF$1,E15),IF(WEEKDAY(A15,2)<6,ColTime(T.!$J$5,T.!$L$5,D15,E15),\"\"))","v":"07:00:00"},null,"",{"$f":"IF(AND(OR(WEEKDAY(A15,2)<6,WEEKDAY(A15,2)=6),C15<>\"\",E15<D15),ColTime(T.!$J$7,T.!$L$7,D15,AF12),IF(AND(WEEKDAY(A15,2)=6,E15<D15),ColTime(T.!$J$7,T.!$L$7,$AF$1,E15),IF(AND(E15<D15,OR(C15<>\"\",WEEKDAY(A15,2)=7)),ColTime(T.!J18,T.!L18,'Januar (6)'!D15,'Januar (6)'!AF12),IF(AND(E15<>\"\",OR(C15<>\"\",WEEKDAY(A15,2)=7)),ColTime(T.!$J$7,T.!$L$7,D15,E15),\"\"))))","v":""},"",null,null,{"$f":"CHOOSE(WEEKDAY(A15,2),norm!C$1,norm!C$2,norm!C$3,norm!C$4,norm!C$5,norm!C$6,norm!C$7)","v":"07:30:00"},null,null,22,0,"22:00:00",7,0,"07:00:00"]
["2019-06-13","To","","19:00:00","07:00:00",null,0.5,"03:00:00","01:30:00",{"$f":"IF(AND(C16=\"\",WEEKDAY(A16,2)<6),ColTime(T.!$J$4,T.!$L$4,D16,E16),\"\")","v":"04:00:00"},null,{"$f":"IF(AND(OR(WEEKDAY(A16,2)=7,C16<>\"\"),E16<D16),ColTime($AF$1,$AG$1,'Januar (6)'!$AF$1,E16),IF(WEEKDAY(A16,2)<6,ColTime(T.!$J$5,T.!$L$5,D16,E16),\"\"))","v":"07:00:00"},null,"",{"$f":"IF(AND(OR(WEEKDAY(A16,2)<6,WEEKDAY(A16,2)=6),C16<>\"\",E16<D16),ColTime(T.!$J$7,T.!$L$7,D16,AF13),IF(AND(WEEKDAY(A16,2)=6,E16<D16),ColTime(T.!$J$7,T.!$L$7,$AF$1,E16),IF(AND(E16<D16,OR(C16<>\"\",WEEKDAY(A16,2)=7)),ColTime(T.!J19,T.!L19,'Januar (6)'!D16,'Januar (6)'!AF13),IF(AND(E16<>\"\",OR(C16<>\"\",WEEKDAY(A16,2)=7)),ColTime(T.!$J$7,T.!$L$7,D16,E16),\"\"))))","v":""},"04:30:00",null,null,{"$f":"CHOOSE(WEEKDAY(A16,2),norm!C$1,norm!C$2,norm!C$3,norm!C$4,norm!C$5,norm!C$6,norm!C$7)","v":"07:30:00"},null,null,19,0,"19:00:00",7,0,"07:00:00"]
["2019-06-14","Fr","",null,null,null,"",{"$f":"IF(G17=\"\",0,IF(WEEKDAY(A17,2)=7,0,IF(G17>S17,MIN(G17-S17,$AI$1),0)))","v":"00:00:00"},"",{"$f":"IF(AND(C17=\"\",WEEKDAY(A17,2)<6),ColTime(T.!$J$4,T.!$L$4,D17,E17),\"\")","v":"00:00:00"},null,{"$f":"IF(AND(OR(WEEKDAY(A17,2)=7,C17<>\"\"),E17<D17),ColTime($AF$1,$AG$1,'Januar (6)'!$AF$1,E17),IF(WEEKDAY(A17,2)<6,ColTime(T.!$J$5,T.!$L$5,D17,E17),\"\"))","v":"00:00:00"},null,"",{"$f":"IF(AND(OR(WEEKDAY(A17,2)<6,WEEKDAY(A17,2)=6),C17<>\"\",E17<D17),ColTime(T.!$J$7,T.!$L$7,D17,AF14),IF(AND(WEEKDAY(A17,2)=6,E17<D17),ColTime(T.!$J$7,T.!$L$7,$AF$1,E17),IF(AND(E17<D17,OR(C17<>\"\",WEEKDAY(A17,2)=7)),ColTime(T.!J20,T.!L20,'Januar (6)'!D17,'Januar (6)'!AF14),IF(AND(E17<>\"\",OR(C17<>\"\",WEEKDAY(A17,2)=7)),ColTime(T.!$J$7,T.!$L$7,D17,E17),\"\"))))","v":""},"",null,null,{"$f":"CHOOSE(WEEKDAY(A17,2),norm!C$1,norm!C$2,norm!C$3,norm!C$4,norm!C$5,norm!C$6,norm!C$7)","v":"07:00:00"},null,null,"","","","","",""]
[{"$f":"A17+1","v":"2019-06-15"},{"$f":"PROPER(TEXT(A18,\"ddd\"))","v":"Lø"},{"$f":"HelligdagsNavn(A18,0,0)","v":""},"08:00:00","16:00:00",null,0.33333333333333331,"03:00:00","05:00:00",{"$f":"IF(AND(C18=\"\",WEEKDAY(A18,2)<6),ColTime(T.!$J$4,T.!$L$4,D18,E18),\"\")","v":""},null,{"$f":"IF(AND(OR(WEEKDAY(A18,2)=7,C18<>\"\"),E18<D18),ColTime($AF$1,$AG$1,'Januar (6)'!$AF$1,E18),IF(WEEKDAY(A18,2)<6,ColTime(T.!$J$5,T.!$L$5,D18,E18),\"\"))","v":""},null,"01:00:00",{"$f":"IF(AND(OR(WEEKDAY(A18,2)<6,WEEKDAY(A18,2)=6),C18<>\"\",E18<D18),ColTime(T.!$J$7,T.!$L$7,D18,AF15),IF(AND(WEEKDAY(A18,2)=6,E18<D18),ColTime(T.!$J$7,T.!$L$7,$AF$1,E18),IF(AND(E18<D18,OR(C18<>\"\",WEEKDAY(A18,2)=7)),ColTime(T.!J21,T.!L21,'Januar (6)'!D18,'Januar (6)'!AF15),IF(AND(E18<>\"\",OR(C18<>\"\",WEEKDAY(A18,2)=7)),ColTime(T.!$J$7,T.!$L$7,D18,E18),\"\"))))","v":""},"08:00:00",null,null,{"$f":"CHOOSE(WEEKDAY(A18,2),norm!C$1,norm!C$2,norm!C$3,norm!C$4,norm!C$5,norm!C$6,norm!C$7)","v":"00:00:00"},null,null,8,0,"08:00:00",16,0,"16:00:00"]
[{"$f":"A18+1","v":"2019-06-16"},{"$f":"PROPER(TEXT(A19,\"ddd\"))","v":"Sø"},{"$f":"HelligdagsNavn(A19,0,0)","v":""},null,null,null,"","00:00:00","",{"$f":"IF(AND(C19=\"\",WEEKDAY(A19,2)<6),ColTime(T.!$J$4,T.!$L$4,D19,E19),\"\")","v":""},null,{"$f":"IF(AND(OR(WEEKDAY(A19,2)=7,C19<>\"\"),E19<D19),ColTime($AF$1,$AG$1,'Januar (6)'!$AF$1,E19),IF(WEEKDAY(A19,2)<6,ColTime(T.!$J$5,T.!$L$5,D19,E19),\"\"))","v":""},null,"",{"$f":"IF(AND(OR(WEEKDAY(A19,2)<6,WEEKDAY(A19,2)=6),C19<>\"\",E19<D19),ColTime(T.!$J$7,T.!$L$7,D19,AF16),IF(AND(WEEKDAY(A19,2)=6,E19<D19),ColTime(T.!$J$7,T.!$L$7,$AF$1,E19),IF(AND(E19<D19,OR(C19<>\"\",WEEKDAY(A19,2)=7)),ColTime(T.!J22,T.!L22,'Januar (6)'!D19,'Januar (6)'!AF16),IF(AND(E19<>\"\",OR(C19<>\"\",WEEKDAY(A19,2)=7)),ColTime(T.!$J$7,T.!$L$7,D19,E19),\"\"))))","v":""},"",null,null,{"$f":"CHOOSE(WEEKDAY(A19,2),norm!C$1,norm!C$2,norm!C$3,norm!C$4,norm!C$5,norm!C$6,norm!C$7)","v":"00:00:00"},null,null,"","","","","",""]
[{"$f":"A19+1","v":"2019-06-17"},{"$f":"PROPER(TEXT(A20,\"ddd\"))","v":"Ma"},"",null,null,null,"","00:00:00","",{"$f":"IF(AND(C20=\"\",WEEKDAY(A20,2)<6),ColTime(T.!$J$4,T.!$L$4,D20,E20),\"\")","v":"00:00:00"},null,{"$f":"IF(AND(OR(WEEKDAY(A20,2)=7,C20<>\"\"),E20<D20),ColTime($AF$1,$AG$1,'Januar (6)'!$AF$1,E20),IF(WEEKDAY(A20,2)<6,ColTime(T.!$J$5,T.!$L$5,D20,E20),\"\"))","v":"00:00:00"},null,"",{"$f":"IF(AND(OR(WEEKDAY(A20,2)<6,WEEKDAY(A20,2)=6),C20<>\"\",E20<D20),ColTime(T.!$J$7,T.!$L$7,D20,AF17),IF(AND(WEEKDAY(A20,2)=6,E20<D20),ColTime(T.!$J$7,T.!$L$7,$AF$1,E20),IF(AND(E20<D20,OR(C20<>\"\",WEEKDAY(A20,2)=7)),ColTime(T.!J23,T.!L23,'Januar (6)'!D20,'Januar (6)'!AF17),IF(AND(E20<>\"\",OR(C20<>\"\",WEEKDAY(A20,2)=7)),ColTime(T.!$J$7,T.!$L$7,D20,E20),\"\"))))","v":""},"",null,null,{"$f":"CHOOSE(WEEKDAY(A20,2),norm!C$1,norm!C$2,norm!C$3,norm!C$4,norm!C$5,norm!C$6,norm!C$7)","v":"07:30:00"},null,null,"","","","","",""]
["2019-06-18","Ti","",null,null,null,"","00:00:00","",{"$f":"IF(AND(C21=\"\",WEEKDAY(A21,2)<6),ColTime(T.!$J$4,T.!$L$4,D21,E21),\"\")","v":"00:00:00"},null,{"$f":"IF(AND(OR(WEEKDAY(A21,2)=7,C21<>\"\"),E21<D21),ColTime($AF$1,$AG$1,'Januar (6)'!$AF$1,E21),IF(WEEKDAY(A21,2)<6,ColTime(T.!$J$5,T.!$L$5,D21,E21),\"\"))","v":"00:00:00"},null,"",{"$f":"IF(AND(OR(WEEKDAY(A21,2)<6,WEEKDAY(A21,2)=6),C21<>\"\",E21<D21),ColTime(T.!$J$7,T.!$L$7,D21,AF18),IF(AND(WEEKDAY(A21,2)=6,E21<D21),ColTime(T.!$J$7,T.!$L$7,$AF$1,E21),IF(AND(E21<D21,OR(C21<>\"\",WEEKDAY(A21,2)=7)),ColTime(T.!J24,T.!L24,'Januar (6)'!D21,'Januar (6)'!AF18),IF(AND(E21<>\"\",OR(C21<>\"\",WEEKDAY(A21,2)=7)),ColTime(T.!$J$7,T.!$L$7,D21,E21),\"\"))))","v":""},"",null,null,{"$f":"CHOOSE(WEEKDAY(A21,2),norm!C$1,norm!C$2,norm!C$3,norm!C$4,norm!C$5,norm!C$6,norm!C$7)","v":"07:30:00"},null,null,"","","","","",""]
["2019-06-19","On","",null,null,null,"","00:00:00","",{"$f":"IF(AND(C22=\"\",WEEKDAY(A22,2)<6),ColTime(T.!$J$4,T.!$L$4,D22,E22),\"\")","v":"00:00:00"},null,{"$f":"IF(AND(OR(WEEKDAY(A22,2)=7,C22<>\"\"),E22<D22),ColTime($AF$1,$AG$1,'Januar (6)'!$AF$1,E22),IF(WEEKDAY(A22,2)<6,ColTime(T.!$J$5,T.!$L$5,D22,E22),\"\"))","v":"00:00:00"},null,"",{"$f":"IF(AND(OR(WEEKDAY(A22,2)<6,WEEKDAY(A22,2)=6),C22<>\"\",E22<D22),ColTime(T.!$J$7,T.!$L$7,D22,AF19),IF(AND(WEEKDAY(A22,2)=6,E22<D22),ColTime(T.!$J$7,T.!$L$7,$AF$1,E22),IF(AND(E22<D22,OR(C22<>\"\",WEEKDAY(A22,2)=7)),ColTime(T.!J25,T.!L25,'Januar (6)'!D22,'Januar (6)'!AF19),IF(AND(E22<>\"\",OR(C22<>\"\",WEEKDAY(A22,2)=7)),ColTime(T.!$J$7,T.!$L$7,D22,E22),\"\"))))","v":""},"",null,null,{"$f":"CHOOSE(WEEKDAY(A22,2),norm!C$1,norm!C$2,norm!C$3,norm!C$4,norm!C$5,norm!C$6,norm!C$7)","v":"07:30:00"},null,null,"","","","","",""]
["2019-06-20","To","","16:00:00","20:00:00",null,0.16666666666666674,"00:00:00","",{"$f":"IF(AND(C23=\"\",WEEKDAY(A23,2)<6),ColTime(T.!$J$4,T.!$L$4,D23,E23),\"\")","v":"02:00:00"},null,{"$f":"IF(AND(OR(WEEKDAY(A23,2)=7,C23<>\"\"),E23<D23),ColTime($AF$1,$AG$1,'Januar (6)'!$AF$1,E23),IF(WEEKDAY(A23,2)<6,ColTime(T.!$J$5,T.!$L$5,D23,E23),\"\"))","v":"00:00:00"},null,"",{"$f":"IF(AND(OR(WEEKDAY(A23,2)<6,WEEKDAY(A23,2)=6),C23<>\"\",E23<D23),ColTime(T.!$J$7,T.!$L$7,D23,AF20),IF(AND(WEEKDAY(A23,2)=6,E23<D23),ColTime(T.!$J$7,T.!$L$7,$AF$1,E23),IF(AND(E23<D23,OR(C23<>\"\",WEEKDAY(A23,2)=7)),ColTime(T.!J26,T.!L26,'Januar (6)'!D23,'Januar (6)'!AF20),IF(AND(E23<>\"\",OR(C23<>\"\",WEEKDAY(A23,2)=7)),ColTime(T.!$J$7,T.!$L$7,D23,E23),\"\"))))","v":""},"",null,null,{"$f":"CHOOSE(WEEKDAY(A23,2),norm!C$1,norm!C$2,norm!C$3,norm!C$4,norm!C$5,norm!C$6,norm!C$7)","v":"07:30:00"},null,null,16,0,"16:00:00",20,0,"20:00:00"]
["2019-06-21","Fr","",null,null,null,"","00:00:00","",{"$f":"IF(AND(C24=\"\",WEEKDAY(A24,2)<6),ColTime(T.!$J$4,T.!$L$4,D24,E24),\"\")","v":"00:00:00"},null,{"$f":"IF(AND(OR(WEEKDAY(A24,2)=7,C24<>\"\"),E24<D24),ColTime($AF$1,$AG$1,'Januar (6)'!$AF$1,E24),IF(WEEKDAY(A24,2)<6,ColTime(T.!$J$5,T.!$L$5,D24,E24),\"\"))","v":"00:00:00"},null,"",{"$f":"IF(AND(OR(WEEKDAY(A24,2)<6,WEEKDAY(A24,2)=6),C24<>\"\",E24<D24),ColTime(T.!$J$7,T.!$L$7,D24,AF21),IF(AND(WEEKDAY(A24,2)=6,E24<D24),ColTime(T.!$J$7,T.!$L$7,$AF$1,E24),IF(AND(E24<D24,OR(C24<>\"\",WEEKDAY(A24,2)=7)),ColTime(T.!J27,T.!L27,'Januar (6)'!D24,'Januar (6)'!AF21),IF(AND(E24<>\"\",OR(C24<>\"\",WEEKDAY(A24,2)=7)),ColTime(T.!$J$7,T.!$L$7,D24,E24),\"\"))))","v":""},"",null,null,{"$f":"CHOOSE(WEEKDAY(A24,2),norm!C$1,norm!C$2,norm!C$3,norm!C$4,norm!C$5,norm!C$6,norm!C$7)","v":"07:00:00"},null,null,"","","","","",""]
[{"$f":"A24+1","v":"2019-06-22"},{"$f":"PROPER(TEXT(A25,\"ddd\"))","v":"Lø"},{"$f":"HelligdagsNavn(A25,0,0)","v":""},null,null,null,"","00:00:00","",{"$f":"IF(AND(C25=\"\",WEEKDAY(A25,2)<6),ColTime(T.!$J$4,T.!$L$4,D25,E25),\"\")","v":""},null,{"$f":"IF(AND(OR(WEEKDAY(A25,2)=7,C25<>\"\"),E25<D25),ColTime($AF$1,$AG$1,'Januar (6)'!$AF$1,E25),IF(WEEKDAY(A25,2)<6,ColTime(T.!$J$5,T.!$L$5,D25,E25),\"\"))","v":""},null,"00:00:00",{"$f":"IF(AND(OR(WEEKDAY(A25,2)<6,WEEKDAY(A25,2)=6),C25<>\"\",E25<D25),ColTime(T.!$J$7,T.!$L$7,D25,AF22),IF(AND(WEEKDAY(A25,2)=6,E25<D25),ColTime(T.!$J$7,T.!$L$7,$AF$1,E25),IF(AND(E25<D25,OR(C25<>\"\",WEEKDAY(A25,2)=7)),ColTime(T.!J28,T.!L28,'Januar (6)'!D25,'Januar (6)'!AF22),IF(AND(E25<>\"\",OR(C25<>\"\",WEEKDAY(A25,2)=7)),ColTime(T.!$J$7,T.!$L$7,D25,E25),\"\"))))","v":""},"",null,null,{"$f":"CHOOSE(WEEKDAY(A25,2),norm!C$1,norm!C$2,norm!C$3,norm!C$4,norm!C$5,norm!C$6,norm!C$7)","v":"00:00:00"},null,null,"","","","","",""]
[{"$f":"A25+1","v":"2019-06-23"},{"$f":"PROPER(TEXT(A26,\"ddd\"))","v":"Sø"},{"$f":"HelligdagsNavn(A26,0,0)","v":""},null,null,null,"","00:00:00","",{"$f":"IF(AND(C26=\"\",WEEKDAY(A26,2)<6),ColTime(T.!$J$4,T.!$L$4,D26,E26),\"\")","v":""},null,{"$f":"IF(AND(OR(WEEKDAY(A26,2)=7,C26<>\"\"),E26<D26),ColTime($AF$1,$AG$1,'Januar (6)'!$AF$1,E26),IF(WEEKDAY(A26,2)<6,ColTime(T.!$J$5,T.!$L$5,D26,E26),\"\"))","v":""},null,"",{"$f":"IF(AND(OR(WEEKDAY(A26,2)<6,WEEKDAY(A26,2)=6),C26<>\"\",E26<D26),ColTime(T.!$J$7,T.!$L$7,D26,AF23),IF(AND(WEEKDAY(A26,2)=6,E26<D26),ColTime(T.!$J$7,T.!$L$7,$AF$1,E26),IF(AND(E26<D26,OR(C26<>\"\",WEEKDAY(A26,2)=7)),ColTime(T.!J29,T.!L29,'Januar (6)'!D26,'Januar (6)'!AF23),IF(AND(E26<>\"\",OR(C26<>\"\",WEEKDAY(A26,2)=7)),ColTime(T.!$J$7,T.!$L$7,D26,E26),\"\"))))","v":""},"",null,null,{"$f":"CHOOSE(WEEKDAY(A26,2),norm!C$1,norm!C$2,norm!C$3,norm!C$4,norm!C$5,norm!C$6,norm!C$7)","v":"00:00:00"},null,null,"","","","","",""]
[{"$f":"A26+1","v":"2019-06-24"},{"$f":"PROPER(TEXT(A27,\"ddd\"))","v":"Ma"},"",null,null,null,"","00:00:00","",{"$f":"IF(AND(C27=\"\",WEEKDAY(A27,2)<6),ColTime(T.!$J$4,T.!$L$4,D27,E27),\"\")","v":"00:00:00"},null,{"$f":"IF(AND(OR(WEEKDAY(A27,2)=7,C27<>\"\"),E27<D27),ColTime($AF$1,$AG$1,'Januar (6)'!$AF$1,E27),IF(WEEKDAY(A27,2)<6,ColTime(T.!$J$5,T.!$L$5,D27,E27),\"\"))","v":"00:00:00"},null,"",{"$f":"IF(AND(OR(WEEKDAY(A27,2)<6,WEEKDAY(A27,2)=6),C27<>\"\",E27<D27),ColTime(T.!$J$7,T.!$L$7,D27,AF24),IF(AND(WEEKDAY(A27,2)=6,E27<D27),ColTime(T.!$J$7,T.!$L$7,$AF$1,E27),IF(AND(E27<D27,OR(C27<>\"\",WEEKDAY(A27,2)=7)),ColTime(T.!J30,T.!L30,'Januar (6)'!D27,'Januar (6)'!AF24),IF(AND(E27<>\"\",OR(C27<>\"\",WEEKDAY(A27,2)=7)),ColTime(T.!$J$7,T.!$L$7,D27,E27),\"\"))))","v":""},"",null,null,{"$f":"CHOOSE(WEEKDAY(A27,2),norm!C$1,norm!C$2,norm!C$3,norm!C$4,norm!C$5,norm!C$6,norm!C$7)","v":"07:30:00"},null,null,"","","","","",""]
["2019-06-25","Ti","",null,null,null,"","00:00:00","",{"$f":"IF(AND(C28=\"\",WEEKDAY(A28,2)<6),ColTime(T.!$J$4,T.!$L$4,D28,E28),\"\")","v":"00:00:00"},null,{"$f":"IF(AND(OR(WEEKDAY(A28,2)=7,C28<>\"\"),E28<D28),ColTime($AF$1,$AG$1,'Januar (6)'!$AF$1,E28),IF(WEEKDAY(A28,2)<6,ColTime(T.!$J$5,T.!$L$5,D28,E28),\"\"))","v":"00:00:00"},null,"",{"$f":"IF(AND(OR(WEEKDAY(A28,2)<6,WEEKDAY(A28,2)=6),C28<>\"\",E28<D28),ColTime(T.!$J$7,T.!$L$7,D28,AF25),IF(AND(WEEKDAY(A28,2)=6,E28<D28),ColTime(T.!$J$7,T.!$L$7,$AF$1,E28),IF(AND(E28<D28,OR(C28<>\"\",WEEKDAY(A28,2)=7)),ColTime(T.!J31,T.!L31,'Januar (6)'!D28,'Januar (6)'!AF25),IF(AND(E28<>\"\",OR(C28<>\"\",WEEKDAY(A28,2)=7)),ColTime(T.!$J$7,T.!$L$7,D28,E28),\"\"))))","v":""},"",null,null,{"$f":"CHOOSE(WEEKDAY(A28,2),norm!C$1,norm!C$2,norm!C$3,norm!C$4,norm!C$5,norm!C$6,norm!C$7)","v":"07:30:00"},null,null,"","","","","",""]
["2019-06-26","On","",null,null,null,"","00:00:00","",{"$f":"IF(AND(C29=\"\",WEEKDAY(A29,2)<6),ColTime(T.!$J$4,T.!$L$4,D29,E29),\"\")","v":"00:00:00"},null,{"$f":"IF(AND(OR(WEEKDAY(A29,2)=7,C29<>\"\"),E29<D29),ColTime($AF$1,$AG$1,'Januar (6)'!$AF$1,E29),IF(WEEKDAY(A29,2)<6,ColTime(T.!$J$5,T.!$L$5,D29,E29),\"\"))","v":"00:00:00"},null,"",{"$f":"IF(AND(OR(WEEKDAY(A29,2)<6,WEEKDAY(A29,2)=6),C29<>\"\",E29<D29),ColTime(T.!$J$7,T.!$L$7,D29,AF26),IF(AND(WEEKDAY(A29,2)=6,E29<D29),ColTime(T.!$J$7,T.!$L$7,$AF$1,E29),IF(AND(E29<D29,OR(C29<>\"\",WEEKDAY(A29,2)=7)),ColTime(T.!J32,T.!L32,'Januar (6)'!D29,'Januar (6)'!AF26),IF(AND(E29<>\"\",OR(C29<>\"\",WEEKDAY(A29,2)=7)),ColTime(T.!$J$7,T.!$L$7,D29,E29),\"\"))))","v":""},"",null,null,{"$f":"CHOOSE(WEEKDAY(A29,2),norm!C$1,norm!C$2,norm!C$3,norm!C$4,norm!C$5,norm!C$6,norm!C$7)","v":"07:30:00"}]
["2019-06-27","To","",null,null,null,"","00:00:00","",{"$f":"IF(AND(C30=\"\",WEEKDAY(A30,2)<6),ColTime(T.!$J$4,T.!$L$4,D30,E30),\"\")","v":"00:00:00"},null,{"$f":"IF(AND(OR(WEEKDAY(A30,2)=7,C30<>\"\"),E30<D30),ColTime($AF$1,$AG$1,'Januar (6)'!$AF$1,E30),IF(WEEKDAY(A30,2)<6,ColTime(T.!$J$5,T.!$L$5,D30,E30),\"\"))","v":"00:00:00"},null,"",{"$f":"IF(AND(OR(WEEKDAY(A30,2)<6,WEEKDAY(A30,2)=6),C30<>\"\",E30<D30),ColTime(T.!$J$7,T.!$L$7,D30,AF27),IF(AND(WEEKDAY(A30,2)=6,E30<D30),ColTime(T.!$J$7,T.!$L$7,$AF$1,E30),IF(AND(E30<D30,OR(C30<>\"\",WEEKDAY(A30,2)=7)),ColTime(T.!J33,T.!L33,'Januar (6)'!D30,'Januar (6)'!AF27),IF(AND(E30<>\"\",OR(C30<>\"\",WEEKDAY(A30,2)=7)),ColTime(T.!$J$7,T.!$L$7,D30,E30),\"\"))))","v":""},"",null,null,{"$f":"CHOOSE(WEEKDAY(A30,2),norm!C$1,norm!C$2,norm!C$3,norm!C$4,norm!C$5,norm!C$6,norm!C$7)","v":"07:30:00"}]
["2019-06-28","Fr","",null,null,null,"","00:00:00","",{"$f":"IF(AND(C31=\"\",WEEKDAY(A31,2)<6),ColTime(T.!$J$4,T.!$L$4,D31,E31),\"\")","v":"00:00:00"},null,{"$f":"IF(AND(OR(WEEKDAY(A31,2)=7,C31<>\"\"),E31<D31),ColTime($AF$1,$AG$1,'Januar (6)'!$AF$1,E31),IF(WEEKDAY(A31,2)<6,ColTime(T.!$J$5,T.!$L$5,D31,E31),\"\"))","v":"00:00:00"},null,"",{"$f":"IF(AND(OR(WEEKDAY(A31,2)<6,WEEKDAY(A31,2)=6),C31<>\"\",E31<D31),ColTime(T.!$J$7,T.!$L$7,D31,AF28),IF(AND(WEEKDAY(A31,2)=6,E31<D31),ColTime(T.!$J$7,T.!$L$7,$AF$1,E31),IF(AND(E31<D31,OR(C31<>\"\",WEEKDAY(A31,2)=7)),ColTime(T.!J34,T.!L34,'Januar (6)'!D31,'Januar (6)'!AF28),IF(AND(E31<>\"\",OR(C31<>\"\",WEEKDAY(A31,2)=7)),ColTime(T.!$J$7,T.!$L$7,D31,E31),\"\"))))","v":""},"",null,null,{"$f":"CHOOSE(WEEKDAY(A31,2),norm!C$1,norm!C$2,norm!C$3,norm!C$4,norm!C$5,norm!C$6,norm!C$7)","v":"07:00:00"}]
[{"$f":"IFERROR(IF(MONTH(A31+1)>MONTH(A31),\"\",A31+1),\"\")","v":"2019-06-29"},"Lø",{"$f":"IF(A32=\"\",\"\",HelligdagsNavn(A32,0,0))","v":""},null,null,null,"","00:00:00","",{"$f":"IFERROR(IF(AND(C32=\"\",WEEKDAY(A32,2)<6),ColTime(T.!$J$4,T.!$L$4,D32,E32),\"\"),\"\")","v":""},null,{"$f":"IFERROR(IF(AND(OR(WEEKDAY(A32,2)=7,C32<>\"\"),E32<D32),ColTime($AF$1,$AG$1,'Januar (6)'!$AF$1,E32),IF(WEEKDAY(A32,2)<6,ColTime(T.!$J$5,T.!$L$5,D32,E32),\"\")),\"\")","v":""},null,{"$f":"IFERROR(IF(WEEKDAY(A32,2)=6,ColTime(TIME(15,0,0),TIME(24,0,0),D32,E32),\"\"),\"\")","v":"00:00:00"},{"$f":"IFERROR(IF(AND(OR(WEEKDAY(A32,2)<6,WEEKDAY(A32,2)=6),C32<>\"\",E32<D32),ColTime(T.!$J$7,T.!$L$7,D32,AF29),IF(AND(WEEKDAY(A32,2)=6,E32<D32),ColTime(T.!$J$7,T.!$L$7,$AF$1,E32),IF(AND(E32<D32,OR(C32<>\"\",WEEKDAY(A32,2)=7)),ColTime(T.!J35,T.!L35,'Januar (6)'!D32,'Januar (6)'!AF29),IF(AND(E32<>\"\",OR(C32<>\"\",WEEKDAY(A32,2)=7)),ColTime(T.!$J$7,T.!$L$7,D32,E32),\"\")))),\"\")","v":""},"",null,null,{"$f":"IFERROR(CHOOSE(WEEKDAY(A32,2),norm!C$1,norm!C$2,norm!C$3,norm!C$4,norm!C$5,norm!C$6,norm!C$7),\"\")","v":"00:00:00"}]
[{"$f":"IFERROR(IF(MONTH(A32+1)>MONTH(A32),\"\",A32+1),\"\")","v":"2019-06-30"},"Sø","",null,null,null,"","00:00:00","",{"$f":"IFERROR(IF(AND(C33=\"\",WEEKDAY(A33,2)<6),ColTime(T.!$J$4,T.!$L$4,D33,E33),\"\"),\"\")","v":""},null,{"$f":"IFERROR(IF(AND(OR(WEEKDAY(A33,2)=7,C33<>\"\"),E33<D33),ColTime($AF$1,$AG$1,'Januar (6)'!$AF$1,E33),IF(WEEKDAY(A33,2)<6,ColTime(T.!$J$5,T.!$L$5,D33,E33),\"\")),\"\")","v":""},null,{"$f":"IFERROR(IF(WEEKDAY(A33,2)=6,ColTime(TIME(15,0,0),TIME(24,0,0),D33,E33),\"\"),\"\")","v":""},{"$f":"IFERROR(IF(AND(OR(WEEKDAY(A33,2)<6,WEEKDAY(A33,2)=6),C33<>\"\",E33<D33),ColTime(T.!$J$7,T.!$L$7,D33,AF30),IF(AND(WEEKDAY(A33,2)=6,E33<D33),ColTime(T.!$J$7,T.!$L$7,$AF$1,E33),IF(AND(E33<D33,OR(C33<>\"\",WEEKDAY(A33,2)=7)),ColTime(T.!J36,T.!L36,'Januar (6)'!D33,'Januar (6)'!AF30),IF(AND(E33<>\"\",OR(C33<>\"\",WEEKDAY(A33,2)=7)),ColTime(T.!$J$7,T.!$L$7,D33,E33),\"\")))),\"\")","v":""},"",null,null,{"$f":"IFERROR(CHOOSE(WEEKDAY(A33,2),norm!C$1,norm!C$2,norm!C$3,norm!C$4,norm!C$5,norm!C$6,norm!C$7),\"\")","v":"00:00:00"}]
["",{"$f":"IFERROR(PROPER(TEXT(A34,\"ddd\")),\"\")","v":""},{"$f":"IF(A34=\"\",\"\",HelligdagsNavn(A34,0,0))","v":""},null,null,null,"","00:00:00","",{"$f":"IFERROR(IF(AND(C34=\"\",WEEKDAY(A34,2)<6),ColTime(T.!$J$4,T.!$L$4,D34,E34),\"\"),\"\")","v":""},null,{"$f":"IFERROR(IF(AND(OR(WEEKDAY(A34,2)=7,C34<>\"\"),E34<D34),ColTime($AF$1,$AG$1,'Januar (6)'!$AF$1,E34),IF(WEEKDAY(A34,2)<6,ColTime(T.!$J$5,T.!$L$5,D34,E34),\"\")),\"\")","v":""},null,{"$f":"IFERROR(IF(WEEKDAY(A34,2)=6,ColTime(TIME(15,0,0),TIME(24,0,0),D34,E34),\"\"),\"\")","v":""},{"$f":"IFERROR(IF(AND(OR(WEEKDAY(A34,2)<6,WEEKDAY(A34,2)=6),C34<>\"\",E34<D34),ColTime(T.!$J$7,T.!$L$7,D34,AF31),IF(AND(WEEKDAY(A34,2)=6,E34<D34),ColTime(T.!$J$7,T.!$L$7,$AF$1,E34),IF(AND(E34<D34,OR(C34<>\"\",WEEKDAY(A34,2)=7)),ColTime(T.!J37,T.!L37,'Januar (6)'!D34,'Januar (6)'!AF31),IF(AND(E34<>\"\",OR(C34<>\"\",WEEKDAY(A34,2)=7)),ColTime(T.!$J$7,T.!$L$7,D34,E34),\"\")))),\"\")","v":""},"",null,null,{"$f":"IFERROR(CHOOSE(WEEKDAY(A34,2),norm!C$1,norm!C$2,norm!C$3,norm!C$4,norm!C$5,norm!C$6,norm!C$7),\"\")","v":""},null,null,{"$f":"IF(D34=\"\",\"\",HOUR(D34))","v":""},{"$f":"IF(D34=\"\",\"\",MINUTE(D34))","v":""},{"$f":"IF(D34=\"\",\"\",TIME(HOUR(D34),MINUTE(D34),0))","v":""},{"$f":"IF(E34=\"\",\"\",HOUR(E34))","v":""},{"$f":"IF(E34=\"\",\"\",MINUTE(E34))","v":""},{"$f":"IF(E34=\"\",\"\",TIME(HOUR(E34),MINUTE(E34),0))","v":""}]
["Total timer",null,null,null,null,null,{"$f":"IF(SUM(G9:G34)<>\"0\",SUM(G4:G34),\"\")","v":5.8333333333333339},{"$f":"IF(SUM(H9:H34)<>\"0\",SUM(H4:H34),\"\")","v":1.0208333333333333},{"$f":"IF(SUM(I9:I34)<>\"0\",SUM(I4:I34),\"\")","v":1.8541666666666667},{"$f":"IF(SUM(J9:J34)<>\"0\",SUM(J4:J34),\"\")","v":0.50000000000000056},null,{"$f":"IF(SUM(L9:L34)<>\"0\",SUM(L4:L34),\"\")","v":3.0416666666666661},null,{"$f":"IF(SUM(N9:N34)<>\"0\",SUM(N4:N34),\"\")","v":0.375},{"$f":"IF(SUM(O9:O34)<>\"0\",SUM(O4:O34),\"\")","v":1.0833333333333335},{"$f":"SUM(P4:P34)","v":2.354166666666667},{"$f":"SUM(Q4:Q34)","v":0}]
["Timer 1/100",null,null,null,null,null,{"$f":"IF(G35<>\"\",ROUND(G35*24,2),\"\")","v":140},{"$f":"IF(H35<>\"\",ROUND(H35*24,2),\"\")","v":24.5},44.5,{"$f":"IF(J35<>\"\",ROUND(J35*24,2),\"\")","v":12},null,{"$f":"IF(L35<>\"\",ROUND(L35*24,2),\"\")","v":73},null,{"$f":"IF(N35<>\"\",ROUND(N35*24,2),\"\")","v":9},26,56.5,0]
["Satser",null,null,null,null,null,{"$f":"Satser!B7","v":107.35},{"$f":"Satser!B9","v":36.35},{"$f":"Satser!B12","v":58.1},{"$f":"Satser!B17","v":13.91},null,{"$f":"Satser!B18","v":23.19},null,{"$f":"Satser!B19","v":24.89},{"$f":"Satser!B20","v":27.63}]
[null,null,null,null,null,null,{"$f":"IF(G35<>\"\",G36*G37,\"\")","v":15029},{"$f":"IF(H35<>\"\",H36*H37,\"\")","v":890.57500000000005},2585.4500000000003,{"$f":"IF(J35<>\"\",J36*J37,\"\")","v":166.92000000000002},null,{"$f":"IF(L35<>\"\",L36*L36,\"\")","v":5329},null,{"$f":"IF(N35<>\"\",N36*N37,\"\")","v":224.01},718.38]
[]
["Lønart"]
[3025,null,null,null,null,null,{"$f":"G35","v":5.8333333333333339}]
[3425,null,null,null,null,null,{"$f":"H35","v":1.0208333333333333}]
[3428,null,null,null,null,null,{"$f":"I35","v":1.8541666666666667}]
["Timer",null,null,null,null,null,{"$f":"SUM(G41:G43)","v":8.7083333333333339},{"$f":"IF(G44<>\"\",ROUND(G44*24,2),\"\")","v":209}]
[null,null,null,null,null,null,null,{"$f":"G37*H44","v":22436.149999999998}]

{"sheet":"Marts","index":8,"n_rows":45,"n_cols":35,"rows_kept":45,"cut":false,"hidden":true,"merged":[[39,0,39,2],[40,0,40,2],[41,0,41,2],[42,0,42,2],[43,0,43,5],[35,9,35,10],[35,11,35,12],[36,9,36,10],[36,11,36,12],[37,9,37,10],[37,11,37,12],[32,9,32,10],[32,11,32,12],[33,9,33,10],[33,11,33,12],[34,9,34,10],[34,11,34,12],[29,9,29,10],[29,11,29,12],[30,9,30,10],[30,11,30,12],[31,9,31,10],[31,11,31,12],[26,9,26,10],[26,11,26,12],[27,9,27,10],[27,11,27,12],[28,9,28,10],[28,11,28,12],[23,9,23,10],[23,11,23,12],[24,9,24,10],[24,11,24,12],[25,9,25,10],[25,11,25,12],[20,9,20,10],[20,11,20,12],[21,9,21,10],[21,11,21,12],[22,9,22,10],[22,11,22,12],[17,9,17,10],[17,11,17,12],[18,9,18,10],[18,11,18,12],[19,9,19,10],[19,11,19,12],[14,9,14,10],[14,11,14,12],[15,9,15,10],[15,11,15,12],[16,9,16,10],[16,11,16,12],[11,9,11,10],[11,11,11,12],[12,9,12,10],[12,11,12,12],[13,9,13,10],[13,11,13,12],[8,9,8,10],[8,11,8,12],[9,9,9,10],[9,11,9,12],[10,9,10,10],[10,11,10,12],[5,9,5,10],[5,11,5,12],[6,9,6,10],[6,11,6,12],[7,9,7,10],[7,11,7,12],[4,9,4,10],[4,11,4,12],[0,1,0,7],[0,10,0,11],[0,13,0,14],[1,1,1,2],[1,9,1,10],[1,11,1,12],[2,1,2,2],[2,9,2,10],[2,11,2,12],[3,9,3,10],[3,11,3,12]]}
["Løn",{"$f":"PROPER(TEXT(A4,\"dd mmmm åååå\")) & PROPER(TEXT(N1,\"  -  dd mmmm åååå\"))","v":"01 Marts 2019  -  31 Marts 2019"},null,null,null,null,null,null,"Uge :",{"$f":"IF(A4=\"\",\"\",TRUNC((A4-WEEKDAY(A4,2)-DATE(YEAR(A4+4-WEEKDAY(A4,2)),1,-10))/7))","v":9},"-",null,{"$f":"IF(A25=\"\",\"\",TRUNC((A25-WEEKDAY(A25,2)-DATE(YEAR(A25+4-WEEKDAY(A25,2)),1,-10))/7))","v":12},{"$f":"EOMONTH(A4,0)","v":"2019-03-31"},null,3,null,null,null,null,null,"Time beregning:",null,null,null,null,null,null,null,null,null,null,"06:00:00","18:00:00","03:00:00"]
["Lønart",null,null,null,null,null,null,null,null,null,null,null,null,null,null,null,null,null,null,null,null,"Betalt pause ved vagt over 5 timer",null,null,null,"00:25:00","minutter","00:00:00","06:00:00","17:00:00","14:00:00"]
["Dato","Dag",null,"Start","Slut","Pause","Arb. Tid","Overtid           1-3 time","Overtid            4 - time","Forskudt tid alle dage\n18-23",null,"Natarbejde 23-06",null,"Lørdag tillæg 14 - 24","Søndag tillæg 00 - 24","Optjent afspadsering","Afholdt afspadsering","Syge Timer","norm"]
[{"$f":"DATE(T.!$B$2,$P$1,1)","v":"2019-03-01"},{"$f":"PROPER(TEXT(A4,\"ddd\"))","v":"Fr"},{"$f":"HelligdagsNavn(A4,0,0)","v":""},"07:00:00","16:00:00","00:30:00",{"$f":"IF(D4=\"\",\"\",(E4-D4)+(D4>E4)-F4)","v":0.35416666666666663},{"$f":"IF(G4=\"\",0,IF(WEEKDAY(A4,2)=7,0,IF(G4>S4,MIN(G4-S4,$AI$1),0)))","v":"01:30:00"},{"$f":"IF(G4=\"\",\"\",IF(G4>S4+H4,G4-(S4+H4),\"\"))","v":""},{"$f":"ColTime(T.!$J$4,T.!$L$4,D4,E4)","v":"00:00:00"},null,{"$f":"ColTime(TIME(T.!$J$5,0,0),TIME(T.!$L$5,0,0),D4,E4)","v":"09:00:00"},null,{"$f":"IF(WEEKDAY(A4,2)=6,ColTime(TIME(14,0,0),TIME(24,0,0),D4,E4),\"\")","v":""},{"$f":"IF(OR(C4<>\"\",WEEKDAY(A4,2)=7),ColTime(TIME(0,0,0),TIME(24,0,0),D4,E4),\"\")","v":""},{"$f":"IFERROR(H4+I4,\"\")","v":""},null,null,{"$f":"CHOOSE(WEEKDAY(A4,2),norm!C$1,norm!C$2,norm!C$3,norm!C$4,norm!C$5,norm!C$6,norm!C$7)","v":"07:00:00"},null,null,{"$f":"IF(D4=\"\",\"\",HOUR(D4))","v":7},{"$f":"IF(D4=\"\",\"\",MINUTE(D4))","v":0},{"$f":"IF(D4=\"\",\"\",TIME(HOUR(D4),MINUTE(D4),0))","v":"07:00:00"},{"$f":"IF(E4=\"\",\"\",HOUR(E4))","v":16},{"$f":"IF(E4=\"\",\"\",MINUTE(E4))","v":0},"02:00:00","09:30:00","11:30:00",null,null,null,{"$f":"MIN(G4-S4,3)","v":6.2499999999999944E-2}]
[{"$f":"A4+1","v":"2019-03-02"},{"$f":"PROPER(TEXT(A5,\"ddd\"))","v":"Lø"},{"$f":"HelligdagsNavn(A5,0,0)","v":""},"13:45:00","21:30:00","00:30:00",{"$f":"IF(D5=\"\",\"\",(E5-D5)+(D5>E5)-F5)","v":0.30208333333333343},{"$f":"IF(G5=\"\",0,IF(WEEKDAY(A5,2)=7,0,IF(G5>S5,MIN(G5-S5,$AI$1),0)))","v":"03:00:00"},{"$f":"IF(G5=\"\",\"\",IF(G5>S5+H5,G5-(S5+H5),\"\"))","v":"04:15:00"},{"$f":"ColTime(T.!$J$4,T.!$L$4,D5,E5)","v":"03:30:00"},null,{"$f":"ColTime(TIME(T.!$J$5,0,0),TIME(T.!$L$5,0,0),D5,E5)","v":"07:45:00"},null,"07:30:00","",{"$f":"IFERROR(H5+I5,\"\")","v":"07:15:00"},null,null,{"$f":"CHOOSE(WEEKDAY(A5,2),norm!C$1,norm!C$2,norm!C$3,norm!C$4,norm!C$5,norm!C$6,norm!C$7)","v":"00:00:00"},null,null,13,45,"13:45:00",21,30,{"$f":"IF(E5=\"\",\"\",TIME(HOUR(E5),MINUTE(E5),0))","v":"21:30:00"},null,null,null,null,null,null,"Der taste kun i de Gule celler"]
[{"$f":"A5+1","v":"2019-03-03"},{"$f":"PROPER(TEXT(A6,\"ddd\"))","v":"Sø"},"","22:00:00","05:45:00","00:30:00",0.30208333333333343,"00:00:00","07:15:00",{"$f":"ColTime(T.!$J$4,T.!$L$4,D6,E6)","v":"01:00:00"},null,{"$f":"ColTime(TIME(T.!$J$5,0,0),TIME(T.!$L$5,0,0),D6,E6)","v":"07:45:00"},null,"","07:45:00",{"$f":"IFERROR(H6+I6,\"\")","v":"07:15:00"},null,null,{"$f":"CHOOSE(WEEKDAY(A6,2),norm!C$1,norm!C$2,norm!C$3,norm!C$4,norm!C$5,norm!C$6,norm!C$7)","v":"00:00:00"},null,null,22,0,"22:00:00",5,45,"05:45:00"]
["2019-03-04","Ma","","05:00:00","16:45:00","00:30:00",0.46874999999999994,"03:00:00","00:45:00",{"$f":"ColTime(T.!$J$4,T.!$L$4,D7,E7)","v":"00:00:00"},null,{"$f":"ColTime(TIME(T.!$J$5,0,0),TIME(T.!$L$5,0,0),D7,E7)","v":"11:45:00"},null,"","",{"$f":"IFERROR(H7+I7,\"\")","v":"03:45:00"},null,null,{"$f":"CHOOSE(WEEKDAY(A7,2),norm!C$1,norm!C$2,norm!C$3,norm!C$4,norm!C$5,norm!C$6,norm!C$7)","v":"07:30:00"},null,null,5,0,"05:00:00",16,45,"16:45:00"]
["2019-03-05","Ti","",null,null,null,"","00:00:00","",{"$f":"ColTime(T.!$J$4,T.!$L$4,D8,E8)","v":"00:00:00"},null,{"$f":"ColTime(TIME(T.!$J$5,0,0),TIME(T.!$L$5,0,0),D8,E8)","v":"00:00:00"},null,"","",{"$f":"IFERROR(H8+I8,\"\")","v":""},null,null,{"$f":"CHOOSE(WEEKDAY(A8,2),norm!C$1,norm!C$2,norm!C$3,norm!C$4,norm!C$5,norm!C$6,norm!C$7)","v":"07:30:00"},null,null,"","","","","",""]
["2019-03-06","On","","06:00:00","19:00:00","00:30:00",0.52083333333333326,"03:00:00","02:00:00",{"$f":"ColTime(T.!$J$4,T.!$L$4,D9,E9)","v":"01:00:00"},null,{"$f":"ColTime(TIME(T.!$J$5,0,0),TIME(T.!$L$5,0,0),D9,E9)","v":"13:00:00"},null,"",{"$f":"IF(OR(C9<>\"\",WEEKDAY(A9,2)=7),ColTime(TIME(0,0,0),TIME(24,0,0),D9,E9),\"\")","v":""},{"$f":"IFERROR(H9+I9,\"\")","v":"05:00:00"},null,null,{"$f":"CHOOSE(WEEKDAY(A9,2),norm!C$1,norm!C$2,norm!C$3,norm!C$4,norm!C$5,norm!C$6,norm!C$7)","v":"07:30:00"},null,null,6,0,"06:00:00",19,0,"19:00:00"]
["2019-03-07","To","","07:00:00","19:00:00",null,0.49999999999999994,"03:00:00","01:30:00",{"$f":"ColTime(T.!$J$4,T.!$L$4,D10,E10)","v":"01:00:00"},null,{"$f":"ColTime(TIME(T.!$J$5,0,0),TIME(T.!$L$5,0,0),D10,E10)","v":"12:00:00"},null,{"$f":"IF(WEEKDAY(A10,2)=6,ColTime(TIME(14,0,0),TIME(24,0,0),D10,E10),\"\")","v":""},{"$f":"IF(OR(C10<>\"\",WEEKDAY(A10,2)=7),ColTime(TIME(0,0,0),TIME(24,0,0),D10,E10),\"\")","v":""},"04:30:00",null,null,{"$f":"CHOOSE(WEEKDAY(A10,2),norm!C$1,norm!C$2,norm!C$3,norm!C$4,norm!C$5,norm!C$6,norm!C$7)","v":"07:30:00"},null,null,7,0,"07:00:00",19,0,"19:00:00"]
[{"$f":"A10+1","v":"2019-03-08"},{"$f":"PROPER(TEXT(A11,\"ddd\"))","v":"Fr"},{"$f":"HelligdagsNavn(A11,0,0)","v":""},null,null,null,"","00:00:00","",{"$f":"ColTime(T.!$J$4,T.!$L$4,D11,E11)","v":"00:00:00"},null,{"$f":"ColTime(TIME(T.!$J$5,0,0),TIME(T.!$L$5,0,0),D11,E11)","v":"00:00:00"},null,{"$f":"IF(WEEKDAY(A11,2)=6,ColTime(TIME(15,0,0),TIME(24,0,0),D11,E11),\"\")","v":""},"","",null,null,{"$f":"CHOOSE(WEEKDAY(A11,2),norm!C$1,norm!C$2,norm!C$3,norm!C$4,norm!C$5,norm!C$6,norm!C$7)","v":"07:00:00"},null,null,"","","","","",""]
[{"$f":"A11+1","v":"2019-03-09"},{"$f":"PROPER(TEXT(A12,\"ddd\"))","v":"Lø"},{"$f":"HelligdagsNavn(A12,0,0)","v":""},null,null,null,"","00:00:00","",{"$f":"ColTime(T.!$J$4,T.!$L$4,D12,E12)","v":"00:00:00"},null,{"$f":"ColTime(TIME(T.!$J$5,0,0),TIME(T.!$L$5,0,0),D12,E12)","v":"00:00:00"},null,"00:00:00","","",null,null,{"$f":"CHOOSE(WEEKDAY(A12,2),norm!C$1,norm!C$2,norm!C$3,norm!C$4,norm!C$5,norm!C$6,norm!C$7)","v":"00:00:00"},null,null,"","","","","",""]
[{"$f":"A12+1","v":"2019-03-10"},{"$f":"PROPER(TEXT(A13,\"ddd\"))","v":"Sø"},"",null,null,null,"","00:00:00","",{"$f":"ColTime(T.!$J$4,T.!$L$4,D13,E13)","v":"00:00:00"},null,{"$f":"ColTime(TIME(T.!$J$5,0,0),TIME(T.!$L$5,0,0),D13,E13)","v":"00:00:00"},null,"","00:00:00","",null,null,{"$f":"CHOOSE(WEEKDAY(A13,2),norm!C$1,norm!C$2,norm!C$3,norm!C$4,norm!C$5,norm!C$6,norm!C$7)","v":"00:00:00"},null,null,"","","","","",""]
["2019-03-11","Ma","",null,null,null,"","00:00:00","",{"$f":"ColTime(T.!$J$4,T.!$L$4,D14,E14)","v":"00:00:00"},null,{"$f":"ColTime(TIME(T.!$J$5,0,0),TIME(T.!$L$5,0,0),D14,E14)","v":"00:00:00"},null,"","","",null,null,{"$f":"CHOOSE(WEEKDAY(A14,2),norm!C$1,norm!C$2,norm!C$3,norm!C$4,norm!C$5,norm!C$6,norm!C$7)","v":"07:30:00"},null,null,"","","","","",""]
["2019-03-12","Ti","",null,null,null,"","00:00:00","",{"$f":"ColTime(T.!$J$4,T.!$L$4,D15,E15)","v":"00:00:00"},null,{"$f":"ColTime(TIME(T.!$J$5,0,0),TIME(T.!$L$5,0,0),D15,E15)","v":"00:00:00"},null,"","","",null,null,{"$f":"CHOOSE(WEEKDAY(A15,2),norm!C$1,norm!C$2,norm!C$3,norm!C$4,norm!C$5,norm!C$6,norm!C$7)","v":"07:30:00"},null,null,"","","",null,"",""]
["2019-03-13","On","",null,null,null,"","00:00:00","",{"$f":"ColTime(T.!$J$4,T.!$L$4,D16,E16)","v":"00:00:00"},null,{"$f":"ColTime(TIME(T.!$J$5,0,0),TIME(T.!$L$5,0,0),D16,E16)","v":"00:00:00"},null,"","","",null,null,{"$f":"CHOOSE(WEEKDAY(A16,2),norm!C$1,norm!C$2,norm!C$3,norm!C$4,norm!C$5,norm!C$6,norm!C$7)","v":"07:30:00"},null,null,"","","","","",""]
["2019-03-14","To","",null,null,null,"","00:00:00","",{"$f":"ColTime(T.!$J$4,T.!$L$4,D17,E17)","v":"00:00:00"},null,{"$f":"ColTime(TIME(T.!$J$5,0,0),TIME(T.!$L$5,0,0),D17,E17)","v":"00:00:00"},null,"","","",null,null,{"$f":"CHOOSE(WEEKDAY(A17,2),norm!C$1,norm!C$2,norm!C$3,norm!C$4,norm!C$5,norm!C$6,norm!C$7)","v":"07:30:00"},null,null,"","","","","",""]
[{"$f":"A17+1","v":"2019-03-15"},{"$f":"PROPER(TEXT(A18,\"ddd\"))","v":"Fr"},{"$f":"HelligdagsNavn(A18,0,0)","v":""},null,null,null,"","00:00:00","",{"$f":"ColTime(T.!$J$4,T.!$L$4,D18,E18)","v":"00:00:00"},null,{"$f":"ColTime(TIME(T.!$J$5,0,0),TIME(T.!$L$5,0,0),D18,E18)","v":"00:00:00"},null,"","","",null,null,{"$f":"CHOOSE(WEEKDAY(A18,2),norm!C$1,norm!C$2,norm!C$3,norm!C$4,norm!C$5,norm!C$6,norm!C$7)","v":"07:00:00"},null,null,"","","","","",""]
[{"$f":"A18+1","v":"2019-03-16"},{"$f":"PROPER(TEXT(A19,\"ddd\"))","v":"Lø"},{"$f":"HelligdagsNavn(A19,0,0)","v":""},null,null,null,"","00:00:00","",{"$f":"ColTime(T.!$J$4,T.!$L$4,D19,E19)","v":"00:00:00"},null,{"$f":"ColTime(TIME(T.!$J$5,0,0),TIME(T.!$L$5,0,0),D19,E19)","v":"00:00:00"},null,"00:00:00","","",null,null,{"$f":"CHOOSE(WEEKDAY(A19,2),norm!C$1,norm!C$2,norm!C$3,norm!C$4,norm!C$5,norm!C$6,norm!C$7)","v":"00:00:00"},null,null,"","","","","",""]
[{"$f":"A19+1","v":"2019-03-17"},{"$f":"PROPER(TEXT(A20,\"ddd\"))","v":"Sø"},"",null,null,null,"","00:00:00","",{"$f":"ColTime(T.!$J$4,T.!$L$4,D20,E20)","v":"00:00:00"},null,{"$f":"ColTime(TIME(T.!$J$5,0,0),TIME(T.!$L$5,0,0),D20,E20)","v":"00:00:00"},null,"","00:00:00","",null,null,{"$f":"CHOOSE(WEEKDAY(A20,2),norm!C$1,norm!C$2,norm!C$3,norm!C$4,norm!C$5,norm!C$6,norm!C$7)","v":"00:00:00"},null,null,"","","","","",""]
["2019-03-18","Ma","",null,null,null,"","00:00:00","",{"$f":"ColTime(T.!$J$4,T.!$L$4,D21,E21)","v":"00:00:00"},null,{"$f":"ColTime(TIME(T.!$J$5,0,0),TIME(T.!$L$5,0,0),D21,E21)","v":"00:00:00"},null,"","","",null,null,{"$f":"CHOOSE(WEEKDAY(A21,2),norm!C$1,norm!C$2,norm!C$3,norm!C$4,norm!C$5,norm!C$6,norm!C$7)","v":"07:30:00"},null,null,"","","","","",""]
["2019-03-19","Ti","",null,null,null,"","00:00:00","",{"$f":"ColTime(T.!$J$4,T.!$L$4,D22,E22)","v":"00:00:00"},null,{"$f":"ColTime(TIME(T.!$J$5,0,0),TIME(T.!$L$5,0,0),D22,E22)","v":"00:00:00"},null,"","","",null,null,{"$f":"CHOOSE(WEEKDAY(A22,2),norm!C$1,norm!C$2,norm!C$3,norm!C$4,norm!C$5,norm!C$6,norm!C$7)","v":"07:30:00"},null,null,"","","","","",""]
["2019-03-20","On","",null,null,null,"","00:00:00","",{"$f":"ColTime(T.!$J$4,T.!$L$4,D23,E23)","v":"00:00:00"},null,{"$f":"ColTime(TIME(T.!$J$5,0,0),TIME(T.!$L$5,0,0),D23,E23)","v":"00:00:00"},null,"","","",null,null,{"$f":"CHOOSE(WEEKDAY(A23,2),norm!C$1,norm!C$2,norm!C$3,norm!C$4,norm!C$5,norm!C$6,norm!C$7)","v":"07:30:00"},null,null,"","","","","",""]
["2019-03-21","To","",null,null,null,"","00:00:00","",{"$f":"ColTime(T.!$J$4,T.!$L$4,D24,E24)","v":"00:00:00"},null,{"$f":"ColTime(TIME(T.!$J$5,0,0),TIME(T.!$L$5,0,0),D24,E24)","v":"00:00:00"},null,"","","",null,null,{"$f":"CHOOSE(WEEKDAY(A24,2),norm!C$1,norm!C$2,norm!C$3,norm!C$4,norm!C$5,norm!C$6,norm!C$7)","v":"07:30:00"},null,null,"","","","","",""]
[{"$f":"A24+1","v":"2019-03-22"},{"$f":"PROPER(TEXT(A25,\"ddd\"))","v":"Fr"},{"$f":"HelligdagsNavn(A25,0,0)","v":""},null,null,null,"","00:00:00","",{"$f":"ColTime(T.!$J$4,T.!$L$4,D25,E25)","v":"00:00:00"},null,{"$f":"ColTime(TIME(T.!$J$5,0,0),TIME(T.!$L$5,0,0),D25,E25)","v":"00:00:00"},null,"","","",null,null,{"$f":"CHOOSE(WEEKDAY(A25,2),norm!C$1,norm!C$2,norm!C$3,norm!C$4,norm!C$5,norm!C$6,norm!C$7)","v":"07:00:00"},null,null,"","","","","",""]
[{"$f":"A25+1","v":"2019-03-23"},{"$f":"PROPER(TEXT(A26,\"ddd\"))","v":"Lø"},{"$f":"HelligdagsNavn(A26,0,0)","v":""},null,null,null,"","00:00:00","",{"$f":"ColTime(T.!$J$4,T.!$L$4,D26,E26)","v":"00:00:00"},null,{"$f":"ColTime(TIME(T.!$J$5,0,0),TIME(T.!$L$5,0,0),D26,E26)","v":"00:00:00"},null,"00:00:00","","",null,null,{"$f":"CHOOSE(WEEKDAY(A26,2),norm!C$1,norm!C$2,norm!C$3,norm!C$4,norm!C$5,norm!C$6,norm!C$7)","v":"00:00:00"},null,null,"","","","","",""]
[{"$f":"A26+1","v":"2019-03-24"},{"$f":"PROPER(TEXT(A27,\"ddd\"))","v":"Sø"},"",null,null,null,"","00:00:00","",{"$f":"ColTime(T.!$J$4,T.!$L$4,D27,E27)","v":"00:00:00"},null,{"$f":"ColTime(TIME(T.!$J$5,0,0),TIME(T.!$L$5,0,0),D27,E27)","v":"00:00:00"},null,"","00:00:00","",null,null,{"$f":"CHOOSE(WEEKDAY(A27,2),norm!C$1,norm!C$2,norm!C$3,norm!C$4,norm!C$5,norm!C$6,norm!C$7)","v":"00:00:00"},null,null,"","","","","",""]
["2019-03-25","Ma","",null,null,null,"","00:00:00","",{"$f":"ColTime(T.!$J$4,T.!$L$4,D28,E28)","v":"00:00:00"},null,{"$f":"ColTime(TIME(T.!$J$5,0,0),TIME(T.!$L$5,0,0),D28,E28)","v":"00:00:00"},null,"","","",null,null,{"$f":"CHOOSE(WEEKDAY(A28,2),norm!C$1,norm!C$2,norm!C$3,norm!C$4,norm!C$5,norm!C$6,norm!C$7)","v":"07:30:00"},null,null,"","","","","",""]
["2019-03-26","Ti","",null,null,null,"","00:00:00","",{"$f":"ColTime(T.!$J$4,T.!$L$4,D29,E29)","v":"00:00:00"},null,{"$f":"ColTime(TIME(T.!$J$5,0,0),TIME(T.!$L$5,0,0),D29,E29)","v":"00:00:00"},null,"","","",null,null,{"$f":"CHOOSE(WEEKDAY(A29,2),norm!C$1,norm!C$2,norm!C$3,norm!C$4,norm!C$5,norm!C$6,norm!C$7)","v":"07:30:00"}]
["2019-03-27","On","",null,null,null,"","00:00:00","",{"$f":"ColTime(T.!$J$4,T.!$L$4,D30,E30)","v":"00:00:00"},null,{"$f":"ColTime(TIME(T.!$J$5,0,0),TIME(T.!$L$5,0,0),D30,E30)","v":"00:00:00"},null,"","","",null,null,{"$f":"CHOOSE(WEEKDAY(A30,2),norm!C$1,norm!C$2,norm!C$3,norm!C$4,norm!C$5,norm!C$6,norm!C$7)","v":"07:30:00"}]
["2019-03-28","To","",null,null,null,"","00:00:00","",{"$f":"ColTime(T.!$J$4,T.!$L$4,D31,E31)","v":"00:00:00"},null,{"$f":"ColTime(TIME(T.!$J$5,0,0),TIME(T.!$L$5,0,0),D31,E31)","v":"00:00:00"},null,"","","",null,null,{"$f":"CHOOSE(WEEKDAY(A31,2),norm!C$1,norm!C$2,norm!C$3,norm!C$4,norm!C$5,norm!C$6,norm!C$7)","v":"07:30:00"}]
[{"$f":"IF(MONTH(A31+1)>MONTH(A31),\"\",A31+1)","v":"2019-03-29"},"Fr",{"$f":"IF(A32=\"\",\"\",HelligdagsNavn(A32,0,0))","v":""},null,null,null,"","00:00:00","",{"$f":"ColTime(T.!$J$4,T.!$L$4,D32,E32)","v":"00:00:00"},null,{"$f":"ColTime(TIME(T.!$J$5,0,0),TIME(T.!$L$5,0,0),D32,E32)","v":"00:00:00"},null,{"$f":"IFERROR(IF(WEEKDAY(A32,2)=6,ColTime(TIME(15,0,0),TIME(24,0,0),D32,E32),\"\"),\"\")","v":""},{"$f":"IFERROR(IF(OR(C32<>\"\",WEEKDAY(A32,2)=7),ColTime(TIME(0,0,0),TIME(24,0,0),D32,E32),\"\"),\"\")","v":""},"",null,null,{"$f":"IFERROR(CHOOSE(WEEKDAY(A32,2),norm!C$1,norm!C$2,norm!C$3,norm!C$4,norm!C$5,norm!C$6,norm!C$7),\"\")","v":"07:00:00"}]
[{"$f":"IFERROR(IF(MONTH(A32+1)>MONTH(A32),\"\",A32+1),\"\")","v":"2019-03-30"},"Lø","",null,null,null,"","00:00:00","",{"$f":"ColTime(T.!$J$4,T.!$L$4,D33,E33)","v":"00:00:00"},null,{"$f":"ColTime(TIME(T.!$J$5,0,0),TIME(T.!$L$5,0,0),D33,E33)","v":"00:00:00"},null,{"$f":"IFERROR(IF(WEEKDAY(A33,2)=6,ColTime(TIME(15,0,0),TIME(24,0,0),D33,E33),\"\"),\"\")","v":"00:00:00"},{"$f":"IFERROR(IF(OR(C33<>\"\",WEEKDAY(A33,2)=7),ColTime(TIME(0,0,0),TIME(24,0,0),D33,E33),\"\"),\"\")","v":""},"",null,null,{"$f":"IFERROR(CHOOSE(WEEKDAY(A33,2),norm!C$1,norm!C$2,norm!C$3,norm!C$4,norm!C$5,norm!C$6,norm!C$7),\"\")","v":"00:00:00"}]
[{"$f":"IFERROR(IF(MONTH(A33+1)>MONTH(A33),\"\",A33+1),\"\")","v":"2019-03-31"},{"$f":"IFERROR(PROPER(TEXT(A34,\"ddd\")),\"\")","v":"Sø"},{"$f":"IF(A34=\"\",\"\",HelligdagsNavn(A34,0,0))","v":""},null,null,null,"","00:00:00","",{"$f":"ColTime(T.!$J$4,T.!$L$4,D34,E34)","v":"00:00:00"},null,{"$f":"ColTime(TIME(T.!$J$5,0,0),TIME(T.!$L$5,0,0),D34,E34)","v":"00:00:00"},null,{"$f":"IFERROR(IF(WEEKDAY(A34,2)=6,ColTime(TIME(15,0,0),TIME(24,0,0),D34,E34),\"\"),\"\")","v":""},"00:00:00","",null,null,{"$f":"IFERROR(CHOOSE(WEEKDAY(A34,2),norm!C$1,norm!C$2,norm!C$3,norm!C$4,norm!C$5,norm!C$6,norm!C$7),\"\")","v":"00:00:00"},null,null,{"$f":"IF(D34=\"\",\"\",HOUR(D34))","v":""},{"$f":"IF(D34=\"\",\"\",MINUTE(D34))","v":""},{"$f":"IF(D34=\"\",\"\",TIME(HOUR(D34),MINUTE(D34),0))","v":""},{"$f":"IF(E34=\"\",\"\",HOUR(E34))","v":""},{"$f":"IF(E34=\"\",\"\",MINUTE(E34))","v":""},{"$f":"IF(E34=\"\",\"\",TIME(HOUR(E34),MINUTE(E34),0))","v":""}]
["Total timer",null,null,null,null,null,{"$f":"IF(SUM(G9:G34)<>\"0\",SUM(G4:G34),\"\")","v":2.4479166666666665},{"$f":"IF(SUM(H4:H34)<>\"0\",SUM(H4:H34),\"\")","v":0.5625},{"$f":"IF(SUM(I4:I34)<>\"0\",SUM(I4:I34),\"\")","v":0.65625},{"$f":"IF(SUM(J4:J34)<>\"0\",SUM(J4:J34),\"\")","v":0.27083333333333337},null,{"$f":"SUM(L4:M34)","v":2.5520833333333335},null,{"$f":"IF(SUM(N4:N34)<>\"0\",SUM(N4:N34),\"\")","v":0.3125},{"$f":"IF(SUM(O4:O34)<>\"0\",SUM(O4:O34),\"\")","v":"07:45:00"},{"$f":"SUM(P4:P34)","v":1.15625},{"$f":"SUM(Q4:Q34)","v":0}]
["Timer 1/100",null,null,null,null,null,{"$f":"IF(G35<>\"\",ROUND(G35*24,2),\"\")","v":58.75},{"$f":"IF(H35<>\"\",ROUND(H35*24,2),\"\")","v":13.5},15.75,{"$f":"IF(J35<>\"\",ROUND(J35*24,2),\"\")","v":6.5},null,{"$f":"IF(L35<>\"\",ROUND(L35*24,2),\"\")","v":61.25},null,{"$f":"IF(N35<>\"\",ROUND(N35*24,2),\"\")","v":7.5},7.75,27.75,0]
["Satser",null,null,null,null,null,{"$f":"Satser!B7","v":107.35},{"$f":"Satser!B9","v":36.35},{"$f":"Satser!B12","v":58.1},{"$f":"Satser!B17","v":13.91},null,{"$f":"Satser!B18","v":23.19},null,{"$f":"Satser!B19","v":24.89},{"$f":"Satser!B20","v":27.63}]
[null,null,null,null,null,null,{"$f":"IF(G35<>\"\",G36*G37,\"\")","v":6306.8125},{"$f":"IF(H35<>\"\",H36*H37,\"\")","v":490.72500000000002},915.07500000000005,{"$f":"IF(J35<>\"\",J36*J37,\"\")","v":90.415000000000006},null,{"$f":"IF(L35<>\"\",L36*L36,\"\")","v":3751.5625},null,{"$f":"IF(N35<>\"\",N36*N37,\"\")","v":186.67500000000001},214.13249999999999]
[]
["Lønart"]
[3025,null,null,null,null,null,{"$f":"G35","v":2.4479166666666665}]
[3425,null,null,null,null,null,{"$f":"H35","v":0.5625}]
[3428,null,null,null,null,null,{"$f":"I35","v":0.65625}]
["Timer",null,null,null,null,null,{"$f":"SUM(G41:G43)","v":3.6666666666666665},{"$f":"IF(G44<>\"\",ROUND(G44*24,2),\"\")","v":88}]
[null,null,null,null,null,null,null,{"$f":"G37*H44","v":9446.7999999999993}]

{"sheet":"April","index":9,"n_rows":45,"n_cols":35,"rows_kept":45,"cut":false,"hidden":true,"merged":[[39,0,39,2],[40,0,40,2],[41,0,41,2],[42,0,42,2],[43,0,43,5],[35,9,35,10],[35,11,35,12],[36,9,36,10],[36,11,36,12],[37,9,37,10],[37,11,37,12],[32,9,32,10],[32,11,32,12],[33,9,33,10],[33,11,33,12],[34,9,34,10],[34,11,34,12],[29,9,29,10],[29,11,29,12],[30,9,30,10],[30,11,30,12],[31,9,31,10],[31,11,31,12],[26,9,26,10],[26,11,26,12],[27,9,27,10],[27,11,27,12],[28,9,28,10],[28,11,28,12],[23,9,23,10],[23,11,23,12],[24,9,24,10],[24,11,24,12],[25,9,25,10],[25,11,25,12],[20,9,20,10],[20,11,20,12],[21,9,21,10],[21,11,21,12],[22,9,22,10],[22,11,22,12],[17,9,17,10],[17,11,17,12],[18,9,18,10],[18,11,18,12],[19,9,19,10],[19,11,19,12],[14,9,14,10],[14,11,14,12],[15,9,15,10],[15,11,15,12],[16,9,16,10],[16,11,16,12],[11,9,11,10],[11,11,11,12],[12,9,12,10],[12,11,12,12],[13,9,13,10],[13,11,13,12],[8,9,8,10],[8,11,8,12],[9,9,9,10],[9,11,9,12],[10,9,10,10],[10,11,10,12],[5,9,5,10],[5,11,5,12],[6,9,6,10],[6,11,6,12],[7,9,7,10],[7,11,7,12],[4,9,4,10],[4,11,4,12],[0,1,0,7],[0,10,0,11],[0,13,0,14],[1,1,1,2],[1,9,1,10],[1,11,1,12],[2,1,2,2],[2,9,2,10],[2,11,2,12],[3,9,3,10],[3,11,3,12]]}
["Løn",{"$f":"PROPER(TEXT(A4,\"dd mmmm åååå\")) & PROPER(TEXT(N1,\"  -  dd mmmm åååå\"))","v":"01 April 2019  -  30 April 2019"},null,null,null,null,null,null,"Uge :",{"$f":"IF(A4=\"\",\"\",TRUNC((A4-WEEKDAY(A4,2)-DATE(YEAR(A4+4-WEEKDAY(A4,2)),1,-10))/7))","v":14},"-",null,{"$f":"IF(A25=\"\",\"\",TRUNC((A25-WEEKDAY(A25,2)-DATE(YEAR(A25+4-WEEKDAY(A25,2)),1,-10))/7))","v":17},{"$f":"EOMONTH(A4,0)","v":"2019-04-30"},null,4,null,null,null,null,null,"Time beregning:",null,null,null,null,null,null,null,null,null,null,"06:00:00","18:00:00","03:00:00"]
["Lønart",null,null,null,null,null,null,null,null,null,null,null,null,null,null,null,null,null,null,null,null,"Betalt pause ved vagt over 5 timer",null,null,null,"00:25:00","minutter","00:00:00","06:00:00","17:00:00","14:00:00"]
["Dato","Dag",null,"Start","Slut","Pause","Arb. Tid","Overtid           1-3 time","Overtid            4 - time","Forskudt tid alle dage\n18-23",null,"Natarbejde 23-06",null,"Lørdag tillæg 14 - 24","Søndag tillæg 00 - 24","Optjent afspadsering","Afholdt afspadsering","Syge Timer","norm"]
[{"$f":"DATE(T.!$B$2,$P$1,1)","v":"2019-04-01"},{"$f":"PROPER(TEXT(A4,\"ddd\"))","v":"Ma"},{"$f":"HelligdagsNavn(A4,0,0)","v":""},"07:00:00","16:00:00","00:30:00",{"$f":"IF(D4=\"\",\"\",(E4-D4)+(D4>E4)-F4)","v":0.35416666666666663},{"$f":"IF(G4=\"\",0,IF(WEEKDAY(A4,2)=7,0,IF(G4>S4,MIN(G4-S4,$AI$1),0)))","v":"01:00:00"},{"$f":"IF(G4=\"\",\"\",IF(G4>S4+H4,G4-(S4+H4),\"\"))","v":""},{"$f":"ColTime(T.!$J$4,T.!$L$4,D4,E4)","v":"00:00:00"},null,{"$f":"ColTime(TIME(T.!$J$5,0,0),TIME(T.!$L$5,0,0),D4,E4)","v":"09:00:00"},null,{"$f":"IF(WEEKDAY(A4,2)=6,ColTime(TIME(14,0,0),TIME(24,0,0),D4,E4),\"\")","v":""},{"$f":"IF(OR(C4<>\"\",WEEKDAY(A4,2)=7),ColTime(TIME(0,0,0),TIME(24,0,0),D4,E4),\"\")","v":""},{"$f":"IFERROR(H4+I4,\"\")","v":""},null,null,{"$f":"CHOOSE(WEEKDAY(A4,2),norm!C$1,norm!C$2,norm!C$3,norm!C$4,norm!C$5,norm!C$6,norm!C$7)","v":"07:30:00"},null,null,{"$f":"IF(D4=\"\",\"\",HOUR(D4))","v":7},{"$f":"IF(D4=\"\",\"\",MINUTE(D4))","v":0},{"$f":"IF(D4=\"\",\"\",TIME(HOUR(D4),MINUTE(D4),0))","v":"07:00:00"},{"$f":"IF(E4=\"\",\"\",HOUR(E4))","v":16},{"$f":"IF(E4=\"\",\"\",MINUTE(E4))","v":0},"02:00:00","09:30:00","11:30:00",null,null,null,{"$f":"MIN(G4-S4,3)","v":4.166666666666663E-2}]
[{"$f":"A4+1","v":"2019-04-02"},{"$f":"PROPER(TEXT(A5,\"ddd\"))","v":"Ti"},{"$f":"HelligdagsNavn(A5,0,0)","v":""},"13:45:00","21:30:00","00:30:00",{"$f":"IF(D5=\"\",\"\",(E5-D5)+(D5>E5)-F5)","v":0.30208333333333343},{"$f":"IF(G5=\"\",0,IF(WEEKDAY(A5,2)=7,0,IF(G5>S5,MIN(G5-S5,$AI$1),0)))","v":"00:00:00"},{"$f":"IF(G5=\"\",\"\",IF(G5>S5+H5,G5-(S5+H5),\"\"))","v":""},{"$f":"ColTime(T.!$J$4,T.!$L$4,D5,E5)","v":"03:30:00"},null,{"$f":"ColTime(TIME(T.!$J$5,0,0),TIME(T.!$L$5,0,0),D5,E5)","v":"07:45:00"},null,"","",{"$f":"IFERROR(H5+I5,\"\")","v":""},null,null,{"$f":"CHOOSE(WEEKDAY(A5,2),norm!C$1,norm!C$2,norm!C$3,norm!C$4,norm!C$5,norm!C$6,norm!C$7)","v":"07:30:00"},null,null,13,45,"13:45:00",21,30,{"$f":"IF(E5=\"\",\"\",TIME(HOUR(E5),MINUTE(E5),0))","v":"21:30:00"},null,null,null,null,null,null,"Der taste kun i de Gule celler"]
[{"$f":"A5+1","v":"2019-04-03"},{"$f":"PROPER(TEXT(A6,\"ddd\"))","v":"On"},"","22:00:00","05:45:00","00:30:00",0.30208333333333343,"00:00:00","",{"$f":"ColTime(T.!$J$4,T.!$L$4,D6,E6)","v":"01:00:00"},null,{"$f":"ColTime(TIME(T.!$J$5,0,0),TIME(T.!$L$5,0,0),D6,E6)","v":"07:45:00"},null,"","",{"$f":"IFERROR(H6+I6,\"\")","v":""},null,null,{"$f":"CHOOSE(WEEKDAY(A6,2),norm!C$1,norm!C$2,norm!C$3,norm!C$4,norm!C$5,norm!C$6,norm!C$7)","v":"07:30:00"},null,null,22,0,"22:00:00",5,45,"05:45:00"]
["2019-04-04","To","","05:00:00","16:45:00","00:30:00",0.46874999999999994,"03:00:00","00:45:00",{"$f":"ColTime(T.!$J$4,T.!$L$4,D7,E7)","v":"00:00:00"},null,{"$f":"ColTime(TIME(T.!$J$5,0,0),TIME(T.!$L$5,0,0),D7,E7)","v":"11:45:00"},null,"","",{"$f":"IFERROR(H7+I7,\"\")","v":"03:45:00"},null,null,{"$f":"CHOOSE(WEEKDAY(A7,2),norm!C$1,norm!C$2,norm!C$3,norm!C$4,norm!C$5,norm!C$6,norm!C$7)","v":"07:30:00"},null,null,5,0,"05:00:00",16,45,"16:45:00"]
["2019-04-05","Fr","",null,null,null,"","00:00:00","",{"$f":"ColTime(T.!$J$4,T.!$L$4,D8,E8)","v":"00:00:00"},null,{"$f":"ColTime(TIME(T.!$J$5,0,0),TIME(T.!$L$5,0,0),D8,E8)","v":"00:00:00"},null,"","",{"$f":"IFERROR(H8+I8,\"\")","v":""},null,null,{"$f":"CHOOSE(WEEKDAY(A8,2),norm!C$1,norm!C$2,norm!C$3,norm!C$4,norm!C$5,norm!C$6,norm!C$7)","v":"07:00:00"},null,null,"","","","","",""]
["2019-04-06","Lø","","06:00:00","19:00:00","00:30:00",0.52083333333333326,"03:00:00","09:30:00",{"$f":"ColTime(T.!$J$4,T.!$L$4,D9,E9)","v":"01:00:00"},null,{"$f":"ColTime(TIME(T.!$J$5,0,0),TIME(T.!$L$5,0,0),D9,E9)","v":"13:00:00"},null,"05:00:00",{"$f":"IF(OR(C9<>\"\",WEEKDAY(A9,2)=7),ColTime(TIME(0,0,0),TIME(24,0,0),D9,E9),\"\")","v":""},{"$f":"IFERROR(H9+I9,\"\")","v":"12:30:00"},null,null,{"$f":"CHOOSE(WEEKDAY(A9,2),norm!C$1,norm!C$2,norm!C$3,norm!C$4,norm!C$5,norm!C$6,norm!C$7)","v":"00:00:00"},null,null,6,0,"06:00:00",19,0,"19:00:00"]
["2019-04-07","Sø","","07:00:00","19:00:00",null,0.49999999999999994,"00:00:00","12:00:00",{"$f":"ColTime(T.!$J$4,T.!$L$4,D10,E10)","v":"01:00:00"},null,{"$f":"ColTime(TIME(T.!$J$5,0,0),TIME(T.!$L$5,0,0),D10,E10)","v":"12:00:00"},null,{"$f":"IF(WEEKDAY(A10,2)=6,ColTime(TIME(14,0,0),TIME(24,0,0),D10,E10),\"\")","v":""},{"$f":"IF(OR(C10<>\"\",WEEKDAY(A10,2)=7),ColTime(TIME(0,0,0),TIME(24,0,0),D10,E10),\"\")","v":"12:00:00"},"12:00:00",null,null,{"$f":"CHOOSE(WEEKDAY(A10,2),norm!C$1,norm!C$2,norm!C$3,norm!C$4,norm!C$5,norm!C$6,norm!C$7)","v":"00:00:00"},null,null,7,0,"07:00:00",19,0,"19:00:00"]
[{"$f":"A10+1","v":"2019-04-08"},{"$f":"PROPER(TEXT(A11,\"ddd\"))","v":"Ma"},{"$f":"HelligdagsNavn(A11,0,0)","v":""},null,null,null,"","00:00:00","",{"$f":"ColTime(T.!$J$4,T.!$L$4,D11,E11)","v":"00:00:00"},null,{"$f":"ColTime(TIME(T.!$J$5,0,0),TIME(T.!$L$5,0,0),D11,E11)","v":"00:00:00"},null,{"$f":"IF(WEEKDAY(A11,2)=6,ColTime(TIME(15,0,0),TIME(24,0,0),D11,E11),\"\")","v":""},"","",null,null,{"$f":"CHOOSE(WEEKDAY(A11,2),norm!C$1,norm!C$2,norm!C$3,norm!C$4,norm!C$5,norm!C$6,norm!C$7)","v":"07:30:00"},null,null,"","","","","",""]
[{"$f":"A11+1","v":"2019-04-09"},{"$f":"PROPER(TEXT(A12,\"ddd\"))","v":"Ti"},{"$f":"HelligdagsNavn(A12,0,0)","v":""},null,null,null,"","00:00:00","",{"$f":"ColTime(T.!$J$4,T.!$L$4,D12,E12)","v":"00:00:00"},null,{"$f":"ColTime(TIME(T.!$J$5,0,0),TIME(T.!$L$5,0,0),D12,E12)","v":"00:00:00"},null,"","","",null,null,{"$f":"CHOOSE(WEEKDAY(A12,2),norm!C$1,norm!C$2,norm!C$3,norm!C$4,norm!C$5,norm!C$6,norm!C$7)","v":"07:30:00"},null,null,"","","","","",""]
[{"$f":"A12+1","v":"2019-04-10"},{"$f":"PROPER(TEXT(A13,\"ddd\"))","v":"On"},"",null,null,null,"","00:00:00","",{"$f":"ColTime(T.!$J$4,T.!$L$4,D13,E13)","v":"00:00:00"},null,{"$f":"ColTime(TIME(T.!$J$5,0,0),TIME(T.!$L$5,0,0),D13,E13)","v":"00:00:00"},null,"","","",null,null,{"$f":"CHOOSE(WEEKDAY(A13,2),norm!C$1,norm!C$2,norm!C$3,norm!C$4,norm!C$5,norm!C$6,norm!C$7)","v":"07:30:00"},null,null,"","","","","",""]
["2019-04-11","To","",null,null,null,"","00:00:00","",{"$f":"ColTime(T.!$J$4,T.!$L$4,D14,E14)","v":"00:00:00"},null,{"$f":"ColTime(TIME(T.!$J$5,0,0),TIME(T.!$L$5,0,0),D14,E14)","v":"00:00:00"},null,"","","",null,null,{"$f":"CHOOSE(WEEKDAY(A14,2),norm!C$1,norm!C$2,norm!C$3,norm!C$4,norm!C$5,norm!C$6,norm!C$7)","v":"07:30:00"},null,null,"","","","","",""]
["2019-04-12","Fr","",null,null,null,"","00:00:00","",{"$f":"ColTime(T.!$J$4,T.!$L$4,D15,E15)","v":"00:00:00"},null,{"$f":"ColTime(TIME(T.!$J$5,0,0),TIME(T.!$L$5,0,0),D15,E15)","v":"00:00:00"},null,"","","",null,null,{"$f":"CHOOSE(WEEKDAY(A15,2),norm!C$1,norm!C$2,norm!C$3,norm!C$4,norm!C$5,norm!C$6,norm!C$7)","v":"07:00:00"},null,null,"","","",null,"",""]
["2019-04-13","Lø","",null,null,null,"","00:00:00","",{"$f":"ColTime(T.!$J$4,T.!$L$4,D16,E16)","v":"00:00:00"},null,{"$f":"ColTime(TIME(T.!$J$5,0,0),TIME(T.!$L$5,0,0),D16,E16)","v":"00:00:00"},null,"00:00:00","","",null,null,{"$f":"CHOOSE(WEEKDAY(A16,2),norm!C$1,norm!C$2,norm!C$3,norm!C$4,norm!C$5,norm!C$6,norm!C$7)","v":"00:00:00"},null,null,"","","","","",""]
["2019-04-14","Sø","",null,null,null,"","00:00:00","",{"$f":"ColTime(T.!$J$4,T.!$L$4,D17,E17)","v":"00:00:00"},null,{"$f":"ColTime(TIME(T.!$J$5,0,0),TIME(T.!$L$5,0,0),D17,E17)","v":"00:00:00"},null,"","00:00:00","",null,null,{"$f":"CHOOSE(WEEKDAY(A17,2),norm!C$1,norm!C$2,norm!C$3,norm!C$4,norm!C$5,norm!C$6,norm!C$7)","v":"00:00:00"},null,null,"","","","","",""]
[{"$f":"A17+1","v":"2019-04-15"},{"$f":"PROPER(TEXT(A18,\"ddd\"))","v":"Ma"},{"$f":"HelligdagsNavn(A18,0,0)","v":""},null,null,null,"","00:00:00","",{"$f":"ColTime(T.!$J$4,T.!$L$4,D18,E18)","v":"00:00:00"},null,{"$f":"ColTime(TIME(T.!$J$5,0,0),TIME(T.!$L$5,0,0),D18,E18)","v":"00:00:00"},null,"","","",null,null,{"$f":"CHOOSE(WEEKDAY(A18,2),norm!C$1,norm!C$2,norm!C$3,norm!C$4,norm!C$5,norm!C$6,norm!C$7)","v":"07:30:00"},null,null,"","","","","",""]
[{"$f":"A18+1","v":"2019-04-16"},{"$f":"PROPER(TEXT(A19,\"ddd\"))","v":"Ti"},{"$f":"HelligdagsNavn(A19,0,0)","v":""},null,null,null,"","00:00:00","",{"$f":"ColTime(T.!$J$4,T.!$L$4,D19,E19)","v":"00:00:00"},null,{"$f":"ColTime(TIME(T.!$J$5,0,0),TIME(T.!$L$5,0,0),D19,E19)","v":"00:00:00"},null,"","","",null,null,{"$f":"CHOOSE(WEEKDAY(A19,2),norm!C$1,norm!C$2,norm!C$3,norm!C$4,norm!C$5,norm!C$6,norm!C$7)","v":"07:30:00"},null,null,"","","","","",""]
[{"$f":"A19+1","v":"2019-04-17"},{"$f":"PROPER(TEXT(A20,\"ddd\"))","v":"On"},"",null,null,null,"","00:00:00","",{"$f":"ColTime(T.!$J$4,T.!$L$4,D20,E20)","v":"00:00:00"},null,{"$f":"ColTime(TIME(T.!$J$5,0,0),TIME(T.!$L$5,0,0),D20,E20)","v":"00:00:00"},null,"","","",null,null,{"$f":"CHOOSE(WEEKDAY(A20,2),norm!C$1,norm!C$2,norm!C$3,norm!C$4,norm!C$5,norm!C$6,norm!C$7)","v":"07:30:00"},null,null,"","","","","",""]
["2019-04-18","To","Skærtorsdag",null,null,null,"","00:00:00","",{"$f":"ColTime(T.!$J$4,T.!$L$4,D21,E21)","v":"00:00:00"},null,{"$f":"ColTime(TIME(T.!$J$5,0,0),TIME(T.!$L$5,0,0),D21,E21)","v":"00:00:00"},null,"","00:00:00","",null,null,{"$f":"CHOOSE(WEEKDAY(A21,2),norm!C$1,norm!C$2,norm!C$3,norm!C$4,norm!C$5,norm!C$6,norm!C$7)","v":"07:30:00"},null,null,"","","","","",""]
["2019-04-19","Fr","Langfredag",null,null,null,"","00:00:00","",{"$f":"ColTime(T.!$J$4,T.!$L$4,D22,E22)","v":"00:00:00"},null,{"$f":"ColTime(TIME(T.!$J$5,0,0),TIME(T.!$L$5,0,0),D22,E22)","v":"00:00:00"},null,"","00:00:00","",null,null,{"$f":"CHOOSE(WEEKDAY(A22,2),norm!C$1,norm!C$2,norm!C$3,norm!C$4,norm!C$5,norm!C$6,norm!C$7)","v":"07:00:00"},null,null,"","","","","",""]
["2019-04-20","Lø","",null,null,null,"","00:00:00","",{"$f":"ColTime(T.!$J$4,T.!$L$4,D23,E23)","v":"00:00:00"},null,{"$f":"ColTime(TIME(T.!$J$5,0,0),TIME(T.!$L$5,0,0),D23,E23)","v":"00:00:00"},null,"00:00:00","","",null,null,{"$f":"CHOOSE(WEEKDAY(A23,2),norm!C$1,norm!C$2,norm!C$3,norm!C$4,norm!C$5,norm!C$6,norm!C$7)","v":"00:00:00"},null,null,"","","","","",""]
["2019-04-21","Sø","Påskedag",null,null,null,"","00:00:00","",{"$f":"ColTime(T.!$J$4,T.!$L$4,D24,E24)","v":"00:00:00"},null,{"$f":"ColTime(TIME(T.!$J$5,0,0),TIME(T.!$L$5,0,0),D24,E24)","v":"00:00:00"},null,"","00:00:00","",null,null,{"$f":"CHOOSE(WEEKDAY(A24,2),norm!C$1,norm!C$2,norm!C$3,norm!C$4,norm!C$5,norm!C$6,norm!C$7)","v":"00:00:00"},null,null,"","","","","",""]
[{"$f":"A24+1","v":"2019-04-22"},{"$f":"PROPER(TEXT(A25,\"ddd\"))","v":"Ma"},{"$f":"HelligdagsNavn(A25,0,0)","v":"2. Påskedag"},null,null,null,"","00:00:00","",{"$f":"ColTime(T.!$J$4,T.!$L$4,D25,E25)","v":"00:00:00"},null,{"$f":"ColTime(TIME(T.!$J$5,0,0),TIME(T.!$L$5,0,0),D25,E25)","v":"00:00:00"},null,"","00:00:00","",null,null,{"$f":"CHOOSE(WEEKDAY(A25,2),norm!C$1,norm!C$2,norm!C$3,norm!C$4,norm!C$5,norm!C$6,norm!C$7)","v":"07:30:00"},null,null,"","","","","",""]
[{"$f":"A25+1","v":"2019-04-23"},{"$f":"PROPER(TEXT(A26,\"ddd\"))","v":"Ti"},{"$f":"HelligdagsNavn(A26,0,0)","v":""},null,null,null,"","00:00:00","",{"$f":"ColTime(T.!$J$4,T.!$L$4,D26,E26)","v":"00:00:00"},null,{"$f":"ColTime(TIME(T.!$J$5,0,0),TIME(T.!$L$5,0,0),D26,E26)","v":"00:00:00"},null,"","","",null,null,{"$f":"CHOOSE(WEEKDAY(A26,2),norm!C$1,norm!C$2,norm!C$3,norm!C$4,norm!C$5,norm!C$6,norm!C$7)","v":"07:30:00"},null,null,"","","","","",""]
[{"$f":"A26+1","v":"2019-04-24"},{"$f":"PROPER(TEXT(A27,\"ddd\"))","v":"On"},"",null,null,null,"","00:00:00","",{"$f":"ColTime(T.!$J$4,T.!$L$4,D27,E27)","v":"00:00:00"},null,{"$f":"ColTime(TIME(T.!$J$5,0,0),TIME(T.!$L$5,0,0),D27,E27)","v":"00:00:00"},null,"","","",null,null,{"$f":"CHOOSE(WEEKDAY(A27,2),norm!C$1,norm!C$2,norm!C$3,norm!C$4,norm!C$5,norm!C$6,norm!C$7)","v":"07:30:00"},null,null,"","","","","",""]
["2019-04-25","To","",null,null,null,"","00:00:00","",{"$f":"ColTime(T.!$J$4,T.!$L$4,D28,E28)","v":"00:00:00"},null,{"$f":"ColTime(TIME(T.!$J$5,0,0),TIME(T.!$L$5,0,0),D28,E28)","v":"00:00:00"},null,"","","",null,null,{"$f":"CHOOSE(WEEKDAY(A28,2),norm!C$1,norm!C$2,norm!C$3,norm!C$4,norm!C$5,norm!C$6,norm!C$7)","v":"07:30:00"},null,null,"","","","","",""]
["2019-04-26","Fr","",null,null,null,"","00:00:00","",{"$f":"ColTime(T.!$J$4,T.!$L$4,D29,E29)","v":"00:00:00"},null,{"$f":"ColTime(TIME(T.!$J$5,0,0),TIME(T.!$L$5,0,0),D29,E29)","v":"00:00:00"},null,"","","",null,null,{"$f":"CHOOSE(WEEKDAY(A29,2),norm!C$1,norm!C$2,norm!C$3,norm!C$4,norm!C$5,norm!C$6,norm!C$7)","v":"07:00:00"}]
["2019-04-27","Lø","",null,null,null,"","00:00:00","",{"$f":"ColTime(T.!$J$4,T.!$L$4,D30,E30)","v":"00:00:00"},null,{"$f":"ColTime(TIME(T.!$J$5,0,0),TIME(T.!$L$5,0,0),D30,E30)","v":"00:00:00"},null,"00:00:00","","",null,null,{"$f":"CHOOSE(WEEKDAY(A30,2),norm!C$1,norm!C$2,norm!C$3,norm!C$4,norm!C$5,norm!C$6,norm!C$7)","v":"00:00:00"}]
["2019-04-28","Sø","",null,null,null,"","00:00:00","",{"$f":"ColTime(T.!$J$4,T.!$L$4,D31,E31)","v":"00:00:00"},null,{"$f":"ColTime(TIME(T.!$J$5,0,0),TIME(T.!$L$5,0,0),D31,E31)","v":"00:00:00"},null,"","00:00:00","",null,null,{"$f":"CHOOSE(WEEKDAY(A31,2),norm!C$1,norm!C$2,norm!C$3,norm!C$4,norm!C$5,norm!C$6,norm!C$7)","v":"00:00:00"}]
[{"$f":"IF(MONTH(A31+1)>MONTH(A31),\"\",A31+1)","v":"2019-04-29"},"Ma",{"$f":"IF(A32=\"\",\"\",HelligdagsNavn(A32,0,0))","v":""},null,null,null,"","00:00:00","",{"$f":"ColTime(T.!$J$4,T.!$L$4,D32,E32)","v":"00:00:00"},null,{"$f":"ColTime(TIME(T.!$J$5,0,0),TIME(T.!$L$5,0,0),D32,E32)","v":"00:00:00"},null,{"$f":"IFERROR(IF(WEEKDAY(A32,2)=6,ColTime(TIME(15,0,0),TIME(24,0,0),D32,E32),\"\"),\"\")","v":""},{"$f":"IFERROR(IF(OR(C32<>\"\",WEEKDAY(A32,2)=7),ColTime(TIME(0,0,0),TIME(24,0,0),D32,E32),\"\"),\"\")","v":""},"",null,null,{"$f":"IFERROR(CHOOSE(WEEKDAY(A32,2),norm!C$1,norm!C$2,norm!C$3,norm!C$4,norm!C$5,norm!C$6,norm!C$7),\"\")","v":"07:30:00"}]
[{"$f":"IFERROR(IF(MONTH(A32+1)>MONTH(A32),\"\",A32+1),\"\")","v":"2019-04-30"},"Ti","",null,null,null,"","00:00:00","",{"$f":"ColTime(T.!$J$4,T.!$L$4,D33,E33)","v":"00:00:00"},null,{"$f":"ColTime(TIME(T.!$J$5,0,0),TIME(T.!$L$5,0,0),D33,E33)","v":"00:00:00"},null,{"$f":"IFERROR(IF(WEEKDAY(A33,2)=6,ColTime(TIME(15,0,0),TIME(24,0,0),D33,E33),\"\"),\"\")","v":""},{"$f":"IFERROR(IF(OR(C33<>\"\",WEEKDAY(A33,2)=7),ColTime(TIME(0,0,0),TIME(24,0,0),D33,E33),\"\"),\"\")","v":""},"",null,null,{"$f":"IFERROR(CHOOSE(WEEKDAY(A33,2),norm!C$1,norm!C$2,norm!C$3,norm!C$4,norm!C$5,norm!C$6,norm!C$7),\"\")","v":"07:30:00"}]
[{"$f":"IFERROR(IF(MONTH(A33+1)>MONTH(A33),\"\",A33+1),\"\")","v":""},{"$f":"IFERROR(PROPER(TEXT(A34,\"ddd\")),\"\")","v":""},{"$f":"IF(A34=\"\",\"\",HelligdagsNavn(A34,0,0))","v":""},null,null,null,"","00:00:00","",{"$f":"ColTime(T.!$J$4,T.!$L$4,D34,E34)","v":"00:00:00"},null,{"$f":"ColTime(TIME(T.!$J$5,0,0),TIME(T.!$L$5,0,0),D34,E34)","v":"00:00:00"},null,{"$f":"IFERROR(IF(WEEKDAY(A34,2)=6,ColTime(TIME(15,0,0),TIME(24,0,0),D34,E34),\"\"),\"\")","v":""},"","",null,null,{"$f":"IFERROR(CHOOSE(WEEKDAY(A34,2),norm!C$1,norm!C$2,norm!C$3,norm!C$4,norm!C$5,norm!C$6,norm!C$7),\"\")","v":""},null,null,{"$f":"IF(D34=\"\",\"\",HOUR(D34))","v":""},{"$f":"IF(D34=\"\",\"\",MINUTE(D34))","v":""},{"$f":"IF(D34=\"\",\"\",TIME(HOUR(D34),MINUTE(D34),0))","v":""},{"$f":"IF(E34=\"\",\"\",HOUR(E34))","v":""},{"$f":"IF(E34=\"\",\"\",MINUTE(E34))","v":""},{"$f":"IF(E34=\"\",\"\",TIME(HOUR(E34),MINUTE(E34),0))","v":""}]
["Total timer",null,null,null,null,null,{"$f":"IF(SUM(G9:G34)<>\"0\",SUM(G4:G34),\"\")","v":2.4479166666666665},{"$f":"IF(SUM(H4:H34)<>\"0\",SUM(H4:H34),\"\")","v":0.29166666666666663},{"$f":"IF(SUM(I4:I34)<>\"0\",SUM(I4:I34),\"\")","v":0.92708333333333315},{"$f":"IF(SUM(J4:J34)<>\"0\",SUM(J4:J34),\"\")","v":0.27083333333333337},null,{"$f":"SUM(L4:M34)","v":2.5520833333333335},null,{"$f":"IF(SUM(N4:N34)<>\"0\",SUM(N4:N34),\"\")","v":0.20833333333333326},{"$f":"IF(SUM(O4:O34)<>\"0\",SUM(O4:O34),\"\")","v":"12:00:00"},{"$f":"SUM(P4:P34)","v":1.1770833333333333},{"$f":"SUM(Q4:Q34)","v":0}]
["Timer 1/100",null,null,null,null,null,{"$f":"IF(G35<>\"\",ROUND(G35*24,2),\"\")","v":58.75},{"$f":"IF(H35<>\"\",ROUND(H35*24,2),\"\")","v":7},22.25,{"$f":"IF(J35<>\"\",ROUND(J35*24,2),\"\")","v":6.5},null,{"$f":"IF(L35<>\"\",ROUND(L35*24,2),\"\")","v":61.25},null,{"$f":"IF(N35<>\"\",ROUND(N35*24,2),\"\")","v":5},12,28.25,0]
["Satser",null,null,null,null,null,{"$f":"Satser!B7","v":107.35},{"$f":"Satser!B9","v":36.35},{"$f":"Satser!B12","v":58.1},{"$f":"Satser!B17","v":13.91},null,{"$f":"Satser!B18","v":23.19},null,{"$f":"Satser!B19","v":24.89},{"$f":"Satser!B20","v":27.63}]
[null,null,null,null,null,null,{"$f":"IF(G35<>\"\",G36*G37,\"\")","v":6306.8125},{"$f":"IF(H35<>\"\",H36*H37,\"\")","v":254.45000000000002},1292.7250000000001,{"$f":"IF(J35<>\"\",J36*J37,\"\")","v":90.415000000000006},null,{"$f":"IF(L35<>\"\",L36*L36,\"\")","v":3751.5625},null,{"$f":"IF(N35<>\"\",N36*N37,\"\")","v":124.45},331.56]
[]
["Lønart"]
[3025,null,null,null,null,null,{"$f":"G35","v":2.4479166666666665}]
[3425,null,null,null,null,null,{"$f":"H35","v":0.29166666666666663}]
[3428,null,null,null,null,null,{"$f":"I35","v":0.92708333333333315}]
["Timer",null,null,null,null,null,{"$f":"SUM(G41:G43)","v":3.6666666666666661},{"$f":"IF(G44<>\"\",ROUND(G44*24,2),\"\")","v":88}]
[null,null,null,null,null,null,null,{"$f":"G37*H44","v":9446.7999999999993}]

{"sheet":"Maj","index":10,"n_rows":45,"n_cols":35,"rows_kept":45,"cut":false,"hidden":true,"merged":[[39,0,39,2],[40,0,40,2],[41,0,41,2],[42,0,42,2],[43,0,43,5],[35,9,35,10],[35,11,35,12],[36,9,36,10],[36,11,36,12],[37,9,37,10],[37,11,37,12],[32,9,32,10],[32,11,32,12],[33,9,33,10],[33,11,33,12],[34,9,34,10],[34,11,34,12],[29,9,29,10],[29,11,29,12],[30,9,30,10],[30,11,30,12],[31,9,31,10],[31,11,31,12],[26,9,26,10],[26,11,26,12],[27,9,27,10],[27,11,27,12],[28,9,28,10],[28,11,28,12],[23,9,23,10],[23,11,23,12],[24,9,24,10],[24,11,24,12],[25,9,25,10],[25,11,25,12],[20,9,20,10],[20,11,20,12],[21,9,21,10],[21,11,21,12],[22,9,22,10],[22,11,22,12],[17,9,17,10],[17,11,17,12],[18,9,18,10],[18,11,18,12],[19,9,19,10],[19,11,19,12],[14,9,14,10],[14,11,14,12],[15,9,15,10],[15,11,15,12],[16,9,16,10],[16,11,16,12],[11,9,11,10],[11,11,11,12],[12,9,12,10],[12,11,12,12],[13,9,13,10],[13,11,13,12],[8,9,8,10],[8,11,8,12],[9,9,9,10],[9,11,9,12],[10,9,10,10],[10,11,10,12],[5,9,5,10],[5,11,5,12],[6,9,6,10],[6,11,6,12],[7,9,7,10],[7,11,7,12],[4,9,4,10],[4,11,4,12],[0,1,0,7],[0,10,0,11],[0,13,0,14],[1,1,1,2],[1,9,1,10],[1,11,1,12],[2,1,2,2],[2,9,2,10],[2,11,2,12],[3,9,3,10],[3,11,3,12]]}
["Løn",{"$f":"PROPER(TEXT(A4,\"dd mmmm åååå\")) & PROPER(TEXT(N1,\"  -  dd mmmm åååå\"))","v":"01 Maj 2019  -  31 Maj 2019"},null,null,null,null,null,null,"Uge :",{"$f":"IF(A4=\"\",\"\",TRUNC((A4-WEEKDAY(A4,2)-DATE(YEAR(A4+4-WEEKDAY(A4,2)),1,-10))/7))","v":18},"-",null,{"$f":"IF(A25=\"\",\"\",TRUNC((A25-WEEKDAY(A25,2)-DATE(YEAR(A25+4-WEEKDAY(A25,2)),1,-10))/7))","v":21},{"$f":"EOMONTH(A4,0)","v":"2019-05-31"},null,5,null,null,null,null,null,"Time beregning:",null,null,null,null,null,null,null,null,null,null,"06:00:00","18:00:00","03:00:00"]
["Lønart",null,null,null,null,null,null,null,null,null,null,null,null,null,null,null,null,null,null,null,null,"Betalt pause ved vagt over 5 timer",null,null,null,"00:25:00","minutter","00:00:00","06:00:00","17:00:00","14:00:00"]
["Dato","Dag",null,"Start","Slut","Pause","Arb. Tid","Overtid           1-3 time","Overtid            4 - time","Forskudt tid alle dage\n18-23",null,"Natarbejde 23-06",null,"Lørdag tillæg 14 - 24","Søndag tillæg 00 - 24","Optjent afspadsering","Afholdt afspadsering","Syge Timer","norm"]
[{"$f":"DATE(T.!$B$2,$P$1,1)","v":"2019-05-01"},{"$f":"PROPER(TEXT(A4,\"ddd\"))","v":"On"},{"$f":"HelligdagsNavn(A4,0,0)","v":""},"07:00:00","16:00:00","00:30:00",{"$f":"IF(D4=\"\",\"\",(E4-D4)+(D4>E4)-F4)","v":0.35416666666666663},{"$f":"IF(G4=\"\",0,IF(WEEKDAY(A4,2)=7,0,IF(G4>S4,MIN(G4-S4,$AI$1),0)))","v":"01:00:00"},{"$f":"IF(G4=\"\",\"\",IF(G4>S4+H4,G4-(S4+H4),\"\"))","v":""},{"$f":"ColTime(T.!$J$4,T.!$L$4,D4,E4)","v":"00:00:00"},null,{"$f":"ColTime(TIME(T.!$J$5,0,0),TIME(T.!$L$5,0,0),D4,E4)","v":"09:00:00"},null,{"$f":"IF(WEEKDAY(A4,2)=6,ColTime(TIME(14,0,0),TIME(24,0,0),D4,E4),\"\")","v":""},{"$f":"IF(OR(C4<>\"\",WEEKDAY(A4,2)=7),ColTime(TIME(0,0,0),TIME(24,0,0),D4,E4),\"\")","v":""},{"$f":"IFERROR(H4+I4,\"\")","v":""},null,null,{"$f":"CHOOSE(WEEKDAY(A4,2),norm!C$1,norm!C$2,norm!C$3,norm!C$4,norm!C$5,norm!C$6,norm!C$7)","v":"07:30:00"},null,null,{"$f":"IF(D4=\"\",\"\",HOUR(D4))","v":7},{"$f":"IF(D4=\"\",\"\",MINUTE(D4))","v":0},{"$f":"IF(D4=\"\",\"\",TIME(HOUR(D4),MINUTE(D4),0))","v":"07:00:00"},{"$f":"IF(E4=\"\",\"\",HOUR(E4))","v":16},{"$f":"IF(E4=\"\",\"\",MINUTE(E4))","v":0},"02:00:00","09:30:00","11:30:00",null,null,null,{"$f":"MIN(G4-S4,3)","v":4.166666666666663E-2}]
[{"$f":"A4+1","v":"2019-05-02"},{"$f":"PROPER(TEXT(A5,\"ddd\"))","v":"To"},{"$f":"HelligdagsNavn(A5,0,0)","v":""},"13:45:00","21:30:00","00:30:00",{"$f":"IF(D5=\"\",\"\",(E5-D5)+(D5>E5)-F5)","v":0.30208333333333343},{"$f":"IF(G5=\"\",0,IF(WEEKDAY(A5,2)=7,0,IF(G5>S5,MIN(G5-S5,$AI$1),0)))","v":"00:00:00"},{"$f":"IF(G5=\"\",\"\",IF(G5>S5+H5,G5-(S5+H5),\"\"))","v":""},{"$f":"ColTime(T.!$J$4,T.!$L$4,D5,E5)","v":"03:30:00"},null,{"$f":"ColTime(TIME(T.!$J$5,0,0),TIME(T.!$L$5,0,0),D5,E5)","v":"07:45:00"},null,"","",{"$f":"IFERROR(H5+I5,\"\")","v":""},null,null,{"$f":"CHOOSE(WEEKDAY(A5,2),norm!C$1,norm!C$2,norm!C$3,norm!C$4,norm!C$5,norm!C$6,norm!C$7)","v":"07:30:00"},null,null,13,45,"13:45:00",21,30,{"$f":"IF(E5=\"\",\"\",TIME(HOUR(E5),MINUTE(E5),0))","v":"21:30:00"},null,null,null,null,null,null,"Der taste kun i de Gule celler"]
[{"$f":"A5+1","v":"2019-05-03"},{"$f":"PROPER(TEXT(A6,\"ddd\"))","v":"Fr"},"","22:00:00","05:45:00","00:30:00",0.30208333333333343,"00:15:00","",{"$f":"ColTime(T.!$J$4,T.!$L$4,D6,E6)","v":"01:00:00"},null,{"$f":"ColTime(TIME(T.!$J$5,0,0),TIME(T.!$L$5,0,0),D6,E6)","v":"07:45:00"},null,"","",{"$f":"IFERROR(H6+I6,\"\")","v":""},null,null,{"$f":"CHOOSE(WEEKDAY(A6,2),norm!C$1,norm!C$2,norm!C$3,norm!C$4,norm!C$5,norm!C$6,norm!C$7)","v":"07:00:00"},null,null,22,0,"22:00:00",5,45,"05:45:00"]
["2019-05-04","Lø","","05:00:00","16:45:00","00:30:00",0.46874999999999994,"03:00:00","08:15:00",{"$f":"ColTime(T.!$J$4,T.!$L$4,D7,E7)","v":"00:00:00"},null,{"$f":"ColTime(TIME(T.!$J$5,0,0),TIME(T.!$L$5,0,0),D7,E7)","v":"11:45:00"},null,"02:45:00","",{"$f":"IFERROR(H7+I7,\"\")","v":"11:15:00"},null,null,{"$f":"CHOOSE(WEEKDAY(A7,2),norm!C$1,norm!C$2,norm!C$3,norm!C$4,norm!C$5,norm!C$6,norm!C$7)","v":"00:00:00"},null,null,5,0,"05:00:00",16,45,"16:45:00"]
["2019-05-05","Sø","",null,null,null,"","00:00:00","",{"$f":"ColTime(T.!$J$4,T.!$L$4,D8,E8)","v":"00:00:00"},null,{"$f":"ColTime(TIME(T.!$J$5,0,0),TIME(T.!$L$5,0,0),D8,E8)","v":"00:00:00"},null,"","00:00:00",{"$f":"IFERROR(H8+I8,\"\")","v":""},null,null,{"$f":"CHOOSE(WEEKDAY(A8,2),norm!C$1,norm!C$2,norm!C$3,norm!C$4,norm!C$5,norm!C$6,norm!C$7)","v":"00:00:00"},null,null,"","","","","",""]
["2019-05-06","Ma","","06:00:00","19:00:00","00:30:00",0.52083333333333326,"03:00:00","02:00:00",{"$f":"ColTime(T.!$J$4,T.!$L$4,D9,E9)","v":"01:00:00"},null,{"$f":"ColTime(TIME(T.!$J$5,0,0),TIME(T.!$L$5,0,0),D9,E9)","v":"13:00:00"},null,"",{"$f":"IF(OR(C9<>\"\",WEEKDAY(A9,2)=7),ColTime(TIME(0,0,0),TIME(24,0,0),D9,E9),\"\")","v":""},{"$f":"IFERROR(H9+I9,\"\")","v":"05:00:00"},null,null,{"$f":"CHOOSE(WEEKDAY(A9,2),norm!C$1,norm!C$2,norm!C$3,norm!C$4,norm!C$5,norm!C$6,norm!C$7)","v":"07:30:00"},null,null,6,0,"06:00:00",19,0,"19:00:00"]
["2019-05-07","Ti","","07:00:00","19:00:00",null,0.49999999999999994,"03:00:00","01:30:00",{"$f":"ColTime(T.!$J$4,T.!$L$4,D10,E10)","v":"01:00:00"},null,{"$f":"ColTime(TIME(T.!$J$5,0,0),TIME(T.!$L$5,0,0),D10,E10)","v":"12:00:00"},null,{"$f":"IF(WEEKDAY(A10,2)=6,ColTime(TIME(14,0,0),TIME(24,0,0),D10,E10),\"\")","v":""},{"$f":"IF(OR(C10<>\"\",WEEKDAY(A10,2)=7),ColTime(TIME(0,0,0),TIME(24,0,0),D10,E10),\"\")","v":""},"04:30:00",null,null,{"$f":"CHOOSE(WEEKDAY(A10,2),norm!C$1,norm!C$2,norm!C$3,norm!C$4,norm!C$5,norm!C$6,norm!C$7)","v":"07:30:00"},null,null,7,0,"07:00:00",19,0,"19:00:00"]
[{"$f":"A10+1","v":"2019-05-08"},{"$f":"PROPER(TEXT(A11,\"ddd\"))","v":"On"},{"$f":"HelligdagsNavn(A11,0,0)","v":""},null,null,null,"","00:00:00","",{"$f":"ColTime(T.!$J$4,T.!$L$4,D11,E11)","v":"00:00:00"},null,{"$f":"ColTime(TIME(T.!$J$5,0,0),TIME(T.!$L$5,0,0),D11,E11)","v":"00:00:00"},null,{"$f":"IF(WEEKDAY(A11,2)=6,ColTime(TIME(15,0,0),TIME(24,0,0),D11,E11),\"\")","v":""},"","",null,null,{"$f":"CHOOSE(WEEKDAY(A11,2),norm!C$1,norm!C$2,norm!C$3,norm!C$4,norm!C$5,norm!C$6,norm!C$7)","v":"07:30:00"},null,null,"","","","","",""]
[{"$f":"A11+1","v":"2019-05-09"},{"$f":"PROPER(TEXT(A12,\"ddd\"))","v":"To"},{"$f":"HelligdagsNavn(A12,0,0)","v":""},null,null,null,"","00:00:00","",{"$f":"ColTime(T.!$J$4,T.!$L$4,D12,E12)","v":"00:00:00"},null,{"$f":"ColTime(TIME(T.!$J$5,0,0),TIME(T.!$L$5,0,0),D12,E12)","v":"00:00:00"},null,"","","",null,null,{"$f":"CHOOSE(WEEKDAY(A12,2),norm!C$1,norm!C$2,norm!C$3,norm!C$4,norm!C$5,norm!C$6,norm!C$7)","v":"07:30:00"},null,null,"","","","","",""]
[{"$f":"A12+1","v":"2019-05-10"},{"$f":"PROPER(TEXT(A13,\"ddd\"))","v":"Fr"},"",null,null,null,"","00:00:00","",{"$f":"ColTime(T.!$J$4,T.!$L$4,D13,E13)","v":"00:00:00"},null,{"$f":"ColTime(TIME(T.!$J$5,0,0),TIME(T.!$L$5,0,0),D13,E13)","v":"00:00:00"},null,"","","",null,null,{"$f":"CHOOSE(WEEKDAY(A13,2),norm!C$1,norm!C$2,norm!C$3,norm!C$4,norm!C$5,norm!C$6,norm!C$7)","v":"07:00:00"},null,null,"","","","","",""]
["2019-05-11","Lø","",null,null,null,"","00:00:00","",{"$f":"ColTime(T.!$J$4,T.!$L$4,D14,E14)","v":"00:00:00"},null,{"$f":"ColTime(TIME(T.!$J$5,0,0),TIME(T.!$L$5,0,0),D14,E14)","v":"00:00:00"},null,"00:00:00","","",null,null,{"$f":"CHOOSE(WEEKDAY(A14,2),norm!C$1,norm!C$2,norm!C$3,norm!C$4,norm!C$5,norm!C$6,norm!C$7)","v":"00:00:00"},null,null,"","","","","",""]
["2019-05-12","Sø","",null,null,null,"","00:00:00","",{"$f":"ColTime(T.!$J$4,T.!$L$4,D15,E15)","v":"00:00:00"},null,{"$f":"ColTime(TIME(T.!$J$5,0,0),TIME(T.!$L$5,0,0),D15,E15)","v":"00:00:00"},null,"","00:00:00","",null,null,{"$f":"CHOOSE(WEEKDAY(A15,2),norm!C$1,norm!C$2,norm!C$3,norm!C$4,norm!C$5,norm!C$6,norm!C$7)","v":"00:00:00"},null,null,"","","",null,"",""]
["2019-05-13","Ma","",null,null,null,"","00:00:00","",{"$f":"ColTime(T.!$J$4,T.!$L$4,D16,E16)","v":"00:00:00"},null,{"$f":"ColTime(TIME(T.!$J$5,0,0),TIME(T.!$L$5,0,0),D16,E16)","v":"00:00:00"},null,"","","",null,null,{"$f":"CHOOSE(WEEKDAY(A16,2),norm!C$1,norm!C$2,norm!C$3,norm!C$4,norm!C$5,norm!C$6,norm!C$7)","v":"07:30:00"},null,null,"","","","","",""]
["2019-05-14","Ti","",null,null,null,"","00:00:00","",{"$f":"ColTime(T.!$J$4,T.!$L$4,D17,E17)","v":"00:00:00"},null,{"$f":"ColTime(TIME(T.!$J$5,0,0),TIME(T.!$L$5,0,0),D17,E17)","v":"00:00:00"},null,"","","",null,null,{"$f":"CHOOSE(WEEKDAY(A17,2),norm!C$1,norm!C$2,norm!C$3,norm!C$4,norm!C$5,norm!C$6,norm!C$7)","v":"07:30:00"},null,null,"","","","","",""]
[{"$f":"A17+1","v":"2019-05-15"},{"$f":"PROPER(TEXT(A18,\"ddd\"))","v":"On"},{"$f":"HelligdagsNavn(A18,0,0)","v":""},null,null,null,"","00:00:00","",{"$f":"ColTime(T.!$J$4,T.!$L$4,D18,E18)","v":"00:00:00"},null,{"$f":"ColTime(TIME(T.!$J$5,0,0),TIME(T.!$L$5,0,0),D18,E18)","v":"00:00:00"},null,"","","",null,null,{"$f":"CHOOSE(WEEKDAY(A18,2),norm!C$1,norm!C$2,norm!C$3,norm!C$4,norm!C$5,norm!C$6,norm!C$7)","v":"07:30:00"},null,null,"","","","","",""]
[{"$f":"A18+1","v":"2019-05-16"},{"$f":"PROPER(TEXT(A19,\"ddd\"))","v":"To"},{"$f":"HelligdagsNavn(A19,0,0)","v":""},null,null,null,"","00:00:00","",{"$f":"ColTime(T.!$J$4,T.!$L$4,D19,E19)","v":"00:00:00"},null,{"$f":"ColTime(TIME(T.!$J$5,0,0),TIME(T.!$L$5,0,0),D19,E19)","v":"00:00:00"},null,"","","",null,null,{"$f":"CHOOSE(WEEKDAY(A19,2),norm!C$1,norm!C$2,norm!C$3,norm!C$4,norm!C$5,norm!C$6,norm!C$7)","v":"07:30:00"},null,null,"","","","","",""]
[{"$f":"A19+1","v":"2019-05-17"},{"$f":"PROPER(TEXT(A20,\"ddd\"))","v":"Fr"},"Store Bededag",null,null,null,"","00:00:00","",{"$f":"ColTime(T.!$J$4,T.!$L$4,D20,E20)","v":"00:00:00"},null,{"$f":"ColTime(TIME(T.!$J$5,0,0),TIME(T.!$L$5,0,0),D20,E20)","v":"00:00:00"},null,"","00:00:00","",null,null,{"$f":"CHOOSE(WEEKDAY(A20,2),norm!C$1,norm!C$2,norm!C$3,norm!C$4,norm!C$5,norm!C$6,norm!C$7)","v":"07:00:00"},null,null,"","","","","",""]
["2019-05-18","Lø","",null,null,null,"","00:00:00","",{"$f":"ColTime(T.!$J$4,T.!$L$4,D21,E21)","v":"00:00:00"},null,{"$f":"ColTime(TIME(T.!$J$5,0,0),TIME(T.!$L$5,0,0),D21,E21)","v":"00:00:00"},null,"00:00:00","","",null,null,{"$f":"CHOOSE(WEEKDAY(A21,2),norm!C$1,norm!C$2,norm!C$3,norm!C$4,norm!C$5,norm!C$6,norm!C$7)","v":"00:00:00"},null,null,"","","","","",""]
["2019-05-19","Sø","",null,null,null,"","00:00:00","",{"$f":"ColTime(T.!$J$4,T.!$L$4,D22,E22)","v":"00:00:00"},null,{"$f":"ColTime(TIME(T.!$J$5,0,0),TIME(T.!$L$5,0,0),D22,E22)","v":"00:00:00"},null,"","00:00:00","",null,null,{"$f":"CHOOSE(WEEKDAY(A22,2),norm!C$1,norm!C$2,norm!C$3,norm!C$4,norm!C$5,norm!C$6,norm!C$7)","v":"00:00:00"},null,null,"","","","","",""]
["2019-05-20","Ma","",null,null,null,"","00:00:00","",{"$f":"ColTime(T.!$J$4,T.!$L$4,D23,E23)","v":"00:00:00"},null,{"$f":"ColTime(TIME(T.!$J$5,0,0),TIME(T.!$L$5,0,0),D23,E23)","v":"00:00:00"},null,"","","",null,null,{"$f":"CHOOSE(WEEKDAY(A23,2),norm!C$1,norm!C$2,norm!C$3,norm!C$4,norm!C$5,norm!C$6,norm!C$7)","v":"07:30:00"},null,null,"","","","","",""]
["2019-05-21","Ti","",null,null,null,"","00:00:00","",{"$f":"ColTime(T.!$J$4,T.!$L$4,D24,E24)","v":"00:00:00"},null,{"$f":"ColTime(TIME(T.!$J$5,0,0),TIME(T.!$L$5,0,0),D24,E24)","v":"00:00:00"},null,"","","",null,null,{"$f":"CHOOSE(WEEKDAY(A24,2),norm!C$1,norm!C$2,norm!C$3,norm!C$4,norm!C$5,norm!C$6,norm!C$7)","v":"07:30:00"},null,null,"","","","","",""]
[{"$f":"A24+1","v":"2019-05-22"},{"$f":"PROPER(TEXT(A25,\"ddd\"))","v":"On"},{"$f":"HelligdagsNavn(A25,0,0)","v":""},null,null,null,"","00:00:00","",{"$f":"ColTime(T.!$J$4,T.!$L$4,D25,E25)","v":"00:00:00"},null,{"$f":"ColTime(TIME(T.!$J$5,0,0),TIME(T.!$L$5,0,0),D25,E25)","v":"00:00:00"},null,"","","",null,null,{"$f":"CHOOSE(WEEKDAY(A25,2),norm!C$1,norm!C$2,norm!C$3,norm!C$4,norm!C$5,norm!C$6,norm!C$7)","v":"07:30:00"},null,null,"","","","","",""]
[{"$f":"A25+1","v":"2019-05-23"},{"$f":"PROPER(TEXT(A26,\"ddd\"))","v":"To"},{"$f":"HelligdagsNavn(A26,0,0)","v":""},null,null,null,"","00:00:00","",{"$f":"ColTime(T.!$J$4,T.!$L$4,D26,E26)","v":"00:00:00"},null,{"$f":"ColTime(TIME(T.!$J$5,0,0),TIME(T.!$L$5,0,0),D26,E26)","v":"00:00:00"},null,"","","",null,null,{"$f":"CHOOSE(WEEKDAY(A26,2),norm!C$1,norm!C$2,norm!C$3,norm!C$4,norm!C$5,norm!C$6,norm!C$7)","v":"07:30:00"},null,null,"","","","","",""]
[{"$f":"A26+1","v":"2019-05-24"},{"$f":"PROPER(TEXT(A27,\"ddd\"))","v":"Fr"},"",null,null,null,"","00:00:00","",{"$f":"ColTime(T.!$J$4,T.!$L$4,D27,E27)","v":"00:00:00"},null,{"$f":"ColTime(TIME(T.!$J$5,0,0),TIME(T.!$L$5,0,0),D27,E27)","v":"00:00:00"},null,"","","",null,null,{"$f":"CHOOSE(WEEKDAY(A27,2),norm!C$1,norm!C$2,norm!C$3,norm!C$4,norm!C$5,norm!C$6,norm!C$7)","v":"07:00:00"},null,null,"","","","","",""]
["2019-05-25","Lø","",null,null,null,"","00:00:00","",{"$f":"ColTime(T.!$J$4,T.!$L$4,D28,E28)","v":"00:00:00"},null,{"$f":"ColTime(TIME(T.!$J$5,0,0),TIME(T.!$L$5,0,0),D28,E28)","v":"00:00:00"},null,"00:00:00","","",null,null,{"$f":"CHOOSE(WEEKDAY(A28,2),norm!C$1,norm!C$2,norm!C$3,norm!C$4,norm!C$5,norm!C$6,norm!C$7)","v":"00:00:00"},null,null,"","","","","",""]
["2019-05-26","Sø","",null,null,null,"","00:00:00","",{"$f":"ColTime(T.!$J$4,T.!$L$4,D29,E29)","v":"00:00:00"},null,{"$f":"ColTime(TIME(T.!$J$5,0,0),TIME(T.!$L$5,0,0),D29,E29)","v":"00:00:00"},null,"","00:00:00","",null,null,{"$f":"CHOOSE(WEEKDAY(A29,2),norm!C$1,norm!C$2,norm!C$3,norm!C$4,norm!C$5,norm!C$6,norm!C$7)","v":"00:00:00"}]
["2019-05-27","Ma","",null,null,null,"","00:00:00","",{"$f":"ColTime(T.!$J$4,T.!$L$4,D30,E30)","v":"00:00:00"},null,{"$f":"ColTime(TIME(T.!$J$5,0,0),TIME(T.!$L$5,0,0),D30,E30)","v":"00:00:00"},null,"","","",null,null,{"$f":"CHOOSE(WEEKDAY(A30,2),norm!C$1,norm!C$2,norm!C$3,norm!C$4,norm!C$5,norm!C$6,norm!C$7)","v":"07:30:00"}]
["2019-05-28","Ti","",null,null,null,"","00:00:00","",{"$f":"ColTime(T.!$J$4,T.!$L$4,D31,E31)","v":"00:00:00"},null,{"$f":"ColTime(TIME(T.!$J$5,0,0),TIME(T.!$L$5,0,0),D31,E31)","v":"00:00:00"},null,"","","",null,null,{"$f":"CHOOSE(WEEKDAY(A31,2),norm!C$1,norm!C$2,norm!C$3,norm!C$4,norm!C$5,norm!C$6,norm!C$7)","v":"07:30:00"}]
[{"$f":"IF(MONTH(A31+1)>MONTH(A31),\"\",A31+1)","v":"2019-05-29"},"On",{"$f":"IF(A32=\"\",\"\",HelligdagsNavn(A32,0,0))","v":""},null,null,null,"","00:00:00","",{"$f":"ColTime(T.!$J$4,T.!$L$4,D32,E32)","v":"00:00:00"},null,{"$f":"ColTime(TIME(T.!$J$5,0,0),TIME(T.!$L$5,0,0),D32,E32)","v":"00:00:00"},null,{"$f":"IFERROR(IF(WEEKDAY(A32,2)=6,ColTime(TIME(15,0,0),TIME(24,0,0),D32,E32),\"\"),\"\")","v":""},{"$f":"IFERROR(IF(OR(C32<>\"\",WEEKDAY(A32,2)=7),ColTime(TIME(0,0,0),TIME(24,0,0),D32,E32),\"\"),\"\")","v":""},"",null,null,{"$f":"IFERROR(CHOOSE(WEEKDAY(A32,2),norm!C$1,norm!C$2,norm!C$3,norm!C$4,norm!C$5,norm!C$6,norm!C$7),\"\")","v":"07:30:00"}]
[{"$f":"IFERROR(IF(MONTH(A32+1)>MONTH(A32),\"\",A32+1),\"\")","v":"2019-05-30"},"To","Kristi Himmelfartsdag",null,null,null,"","00:00:00","",{"$f":"ColTime(T.!$J$4,T.!$L$4,D33,E33)","v":"00:00:00"},null,{"$f":"ColTime(TIME(T.!$J$5,0,0),TIME(T.!$L$5,0,0),D33,E33)","v":"00:00:00"},null,{"$f":"IFERROR(IF(WEEKDAY(A33,2)=6,ColTime(TIME(15,0,0),TIME(24,0,0),D33,E33),\"\"),\"\")","v":""},{"$f":"IFERROR(IF(OR(C33<>\"\",WEEKDAY(A33,2)=7),ColTime(TIME(0,0,0),TIME(24,0,0),D33,E33),\"\"),\"\")","v":"00:00:00"},"",null,null,{"$f":"IFERROR(CHOOSE(WEEKDAY(A33,2),norm!C$1,norm!C$2,norm!C$3,norm!C$4,norm!C$5,norm!C$6,norm!C$7),\"\")","v":"07:30:00"}]
[{"$f":"IFERROR(IF(MONTH(A33+1)>MONTH(A33),\"\",A33+1),\"\")","v":"2019-05-31"},{"$f":"IFERROR(PROPER(TEXT(A34,\"ddd\")),\"\")","v":"Fr"},{"$f":"IF(A34=\"\",\"\",HelligdagsNavn(A34,0,0))","v":""},null,null,null,"","00:00:00","",{"$f":"ColTime(T.!$J$4,T.!$L$4,D34,E34)","v":"00:00:00"},null,{"$f":"ColTime(TIME(T.!$J$5,0,0),TIME(T.!$L$5,0,0),D34,E34)","v":"00:00:00"},null,{"$f":"IFERROR(IF(WEEKDAY(A34,2)=6,ColTime(TIME(15,0,0),TIME(24,0,0),D34,E34),\"\"),\"\")","v":""},"","",null,null,{"$f":"IFERROR(CHOOSE(WEEKDAY(A34,2),norm!C$1,norm!C$2,norm!C$3,norm!C$4,norm!C$5,norm!C$6,norm!C$7),\"\")","v":"07:00:00"},null,null,{"$f":"IF(D34=\"\",\"\",HOUR(D34))","v":""},{"$f":"IF(D34=\"\",\"\",MINUTE(D34))","v":""},{"$f":"IF(D34=\"\",\"\",TIME(HOUR(D34),MINUTE(D34),0))","v":""},{"$f":"IF(E34=\"\",\"\",HOUR(E34))","v":""},{"$f":"IF(E34=\"\",\"\",MINUTE(E34))","v":""},{"$f":"IF(E34=\"\",\"\",TIME(HOUR(E34),MINUTE(E34),0))","v":""}]
["Total timer",null,null,null,null,null,{"$f":"IF(SUM(G9:G34)<>\"0\",SUM(G4:G34),\"\")","v":2.4479166666666665},{"$f":"IF(SUM(H4:H34)<>\"0\",SUM(H4:H34),\"\")","v":0.42708333333333337},{"$f":"IF(SUM(I4:I34)<>\"0\",SUM(I4:I34),\"\")","v":0.48958333333333315},{"$f":"IF(SUM(J4:J34)<>\"0\",SUM(J4:J34),\"\")","v":0.27083333333333337},null,{"$f":"SUM(L4:M34)","v":2.5520833333333335},null,{"$f":"IF(SUM(N4:N34)<>\"0\",SUM(N4:N34),\"\")","v":0.11458333333333326},{"$f":"IF(SUM(O4:O34)<>\"0\",SUM(O4:O34),\"\")","v":"00:00:00"},{"$f":"SUM(P4:P34)","v":0.86458333333333326},{"$f":"SUM(Q4:Q34)","v":0}]
["Timer 1/100",null,null,null,null,null,{"$f":"IF(G35<>\"\",ROUND(G35*24,2),\"\")","v":58.75},{"$f":"IF(H35<>\"\",ROUND(H35*24,2),\"\")","v":10.25},11.75,{"$f":"IF(J35<>\"\",ROUND(J35*24,2),\"\")","v":6.5},null,{"$f":"IF(L35<>\"\",ROUND(L35*24,2),\"\")","v":61.25},null,{"$f":"IF(N35<>\"\",ROUND(N35*24,2),\"\")","v":2.75},0,20.75,0]
["Satser",null,null,null,null,null,{"$f":"Satser!B7","v":107.35},{"$f":"Satser!B9","v":36.35},{"$f":"Satser!B12","v":58.1},{"$f":"Satser!B17","v":13.91},null,{"$f":"Satser!B18","v":23.19},null,{"$f":"Satser!B19","v":24.89},{"$f":"Satser!B20","v":27.63}]
[null,null,null,null,null,null,{"$f":"IF(G35<>\"\",G36*G37,\"\")","v":6306.8125},{"$f":"IF(H35<>\"\",H36*H37,\"\")","v":372.58750000000003},682.67500000000007,{"$f":"IF(J35<>\"\",J36*J37,\"\")","v":90.415000000000006},null,{"$f":"IF(L35<>\"\",L36*L36,\"\")","v":3751.5625},null,{"$f":"IF(N35<>\"\",N36*N37,\"\")","v":68.447500000000005},0]
[]
["Lønart"]
[3025,null,null,null,null,null,{"$f":"G35","v":2.4479166666666665}]
[3425,null,null,null,null,null,{"$f":"H35","v":0.42708333333333337}]
[3428,null,null,null,null,null,{"$f":"I35","v":0.48958333333333315}]
["Timer",null,null,null,null,null,{"$f":"SUM(G41:G43)","v":3.364583333333333},{"$f":"IF(G44<>\"\",ROUND(G44*24,2),\"\")","v":80.75}]
[null,null,null,null,null,null,null,{"$f":"G37*H44","v":8668.5124999999989}]

{"sheet":"Juni","index":11,"n_rows":45,"n_cols":35,"rows_kept":45,"cut":false,"hidden":true,"merged":[[39,0,39,2],[40,0,40,2],[41,0,41,2],[42,0,42,2],[43,0,43,5],[35,9,35,10],[35,11,35,12],[36,9,36,10],[36,11,36,12],[37,9,37,10],[37,11,37,12],[32,9,32,10],[32,11,32,12],[33,9,33,10],[33,11,33,12],[34,9,34,10],[34,11,34,12],[29,9,29,10],[29,11,29,12],[30,9,30,10],[30,11,30,12],[31,9,31,10],[31,11,31,12],[26,9,26,10],[26,11,26,12],[27,9,27,10],[27,11,27,12],[28,9,28,10],[28,11,28,12],[23,9,23,10],[23,11,23,12],[24,9,24,10],[24,11,24,12],[25,9,25,10],[25,11,25,12],[20,9,20,10],[20,11,20,12],[21,9,21,10],[21,11,21,12],[22,9,22,10],[22,11,22,12],[17,9,17,10],[17,11,17,12],[18,9,18,10],[18,11,18,12],[19,9,19,10],[19,11,19,12],[14,9,14,10],[14,11,14,12],[15,9,15,10],[15,11,15,12],[16,9,16,10],[16,11,16,12],[11,9,11,10],[11,11,11,12],[12,9,12,10],[12,11,12,12],[13,9,13,10],[13,11,13,12],[8,9,8,10],[8,11,8,12],[9,9,9,10],[9,11,9,12],[10,9,10,10],[10,11,10,12],[5,9,5,10],[5,11,5,12],[6,9,6,10],[6,11,6,12],[7,9,7,10],[7,11,7,12],[4,9,4,10],[4,11,4,12],[0,1,0,7],[0,10,0,11],[0,13,0,14],[1,1,1,2],[1,9,1,10],[1,11,1,12],[2,1,2,2],[2,9,2,10],[2,11,2,12],[3,9,3,10],[3,11,3,12]]}
["Løn",{"$f":"PROPER(TEXT(A4,\"dd mmmm åååå\")) & PROPER(TEXT(N1,\"  -  dd mmmm åååå\"))","v":"01 Juni 2019  -  30 Juni 2019"},null,null,null,null,null,null,"Uge :",{"$f":"IF(A4=\"\",\"\",TRUNC((A4-WEEKDAY(A4,2)-DATE(YEAR(A4+4-WEEKDAY(A4,2)),1,-10))/7))","v":22},"-",null,{"$f":"IF(A25=\"\",\"\",TRUNC((A25-WEEKDAY(A25,2)-DATE(YEAR(A25+4-WEEKDAY(A25,2)),1,-10))/7))","v":25},{"$f":"EOMONTH(A4,0)","v":"2019-06-30"},null,6,null,null,null,null,null,"Time beregning:",null,null,null,null,null,null,null,null,null,null,"06:00:00","18:00:00","03:00:00"]
["Lønart",null,null,null,null,null,null,null,null,null,null,null,null,null,null,null,null,null,null,null,null,"Betalt pause ved vagt over 5 timer",null,null,null,"00:25:00","minutter","00:00:00","06:00:00","17:00:00","14:00:00"]
["Dato","Dag",null,"Start","Slut","Pause","Arb. Tid","Overtid           1-3 time","Overtid            4 - time","Forskudt tid alle dage\n18-23",null,"Natarbejde 23-06",null,"Lørdag tillæg 14 - 24","Søndag tillæg 00 - 24","Optjent afspadsering","Afholdt afspadsering","Syge Timer","norm"]
[{"$f":"DATE(T.!$B$2,$P$1,1)","v":"2019-06-01"},{"$f":"PROPER(TEXT(A4,\"ddd\"))","v":"Lø"},{"$f":"HelligdagsNavn(A4,0,0)","v":""},"07:00:00","16:00:00","00:30:00",{"$f":"IF(D4=\"\",\"\",(E4-D4)+(D4>E4)-F4)","v":0.35416666666666663},{"$f":"IF(G4=\"\",0,IF(WEEKDAY(A4,2)=7,0,IF(G4>S4,MIN(G4-S4,$AI$1),0)))","v":"03:00:00"},{"$f":"IF(G4=\"\",\"\",IF(G4>S4+H4,G4-(S4+H4),\"\"))","v":"05:30:00"},{"$f":"ColTime(T.!$J$4,T.!$L$4,D4,E4)","v":"00:00:00"},null,{"$f":"ColTime(TIME(T.!$J$5,0,0),TIME(T.!$L$5,0,0),D4,E4)","v":"09:00:00"},null,{"$f":"IF(WEEKDAY(A4,2)=6,ColTime(TIME(14,0,0),TIME(24,0,0),D4,E4),\"\")","v":"02:00:00"},{"$f":"IF(OR(C4<>\"\",WEEKDAY(A4,2)=7),ColTime(TIME(0,0,0),TIME(24,0,0),D4,E4),\"\")","v":""},{"$f":"IFERROR(H4+I4,\"\")","v":"08:30:00"},null,null,{"$f":"CHOOSE(WEEKDAY(A4,2),norm!C$1,norm!C$2,norm!C$3,norm!C$4,norm!C$5,norm!C$6,norm!C$7)","v":"00:00:00"},null,null,{"$f":"IF(D4=\"\",\"\",HOUR(D4))","v":7},{"$f":"IF(D4=\"\",\"\",MINUTE(D4))","v":0},{"$f":"IF(D4=\"\",\"\",TIME(HOUR(D4),MINUTE(D4),0))","v":"07:00:00"},{"$f":"IF(E4=\"\",\"\",HOUR(E4))","v":16},{"$f":"IF(E4=\"\",\"\",MINUTE(E4))","v":0},"02:00:00","09:30:00","11:30:00",null,null,null,{"$f":"MIN(G4-S4,3)","v":0.35416666666666663}]
[{"$f":"A4+1","v":"2019-06-02"},{"$f":"PROPER(TEXT(A5,\"ddd\"))","v":"Sø"},{"$f":"HelligdagsNavn(A5,0,0)","v":""},"13:45:00","21:30:00","00:30:00",{"$f":"IF(D5=\"\",\"\",(E5-D5)+(D5>E5)-F5)","v":0.30208333333333343},{"$f":"IF(G5=\"\",0,IF(WEEKDAY(A5,2)=7,0,IF(G5>S5,MIN(G5-S5,$AI$1),0)))","v":"00:00:00"},{"$f":"IF(G5=\"\",\"\",IF(G5>S5+H5,G5-(S5+H5),\"\"))","v":"07:15:00"},{"$f":"ColTime(T.!$J$4,T.!$L$4,D5,E5)","v":"03:30:00"},null,{"$f":"ColTime(TIME(T.!$J$5,0,0),TIME(T.!$L$5,0,0),D5,E5)","v":"07:45:00"},null,"","07:45:00",{"$f":"IFERROR(H5+I5,\"\")","v":"07:15:00"},null,null,{"$f":"CHOOSE(WEEKDAY(A5,2),norm!C$1,norm!C$2,norm!C$3,norm!C$4,norm!C$5,norm!C$6,norm!C$7)","v":"00:00:00"},null,null,13,45,"13:45:00",21,30,{"$f":"IF(E5=\"\",\"\",TIME(HOUR(E5),MINUTE(E5),0))","v":"21:30:00"},null,null,null,null,null,null,"Der taste kun i de Gule celler"]
[{"$f":"A5+1","v":"2019-06-03"},{"$f":"PROPER(TEXT(A6,\"ddd\"))","v":"Ma"},"","22:00:00","05:45:00","00:30:00",0.30208333333333343,"00:00:00","",{"$f":"ColTime(T.!$J$4,T.!$L$4,D6,E6)","v":"01:00:00"},null,{"$f":"ColTime(TIME(T.!$J$5,0,0),TIME(T.!$L$5,0,0),D6,E6)","v":"07:45:00"},null,"","",{"$f":"IFERROR(H6+I6,\"\")","v":""},null,null,{"$f":"CHOOSE(WEEKDAY(A6,2),norm!C$1,norm!C$2,norm!C$3,norm!C$4,norm!C$5,norm!C$6,norm!C$7)","v":"07:30:00"},null,null,22,0,"22:00:00",5,45,"05:45:00"]
["2019-06-04","Ti","","05:00:00","16:45:00","00:30:00",0.46874999999999994,"03:00:00","00:45:00",{"$f":"ColTime(T.!$J$4,T.!$L$4,D7,E7)","v":"00:00:00"},null,{"$f":"ColTime(TIME(T.!$J$5,0,0),TIME(T.!$L$5,0,0),D7,E7)","v":"11:45:00"},null,"","",{"$f":"IFERROR(H7+I7,\"\")","v":"03:45:00"},null,null,{"$f":"CHOOSE(WEEKDAY(A7,2),norm!C$1,norm!C$2,norm!C$3,norm!C$4,norm!C$5,norm!C$6,norm!C$7)","v":"07:30:00"},null,null,5,0,"05:00:00",16,45,"16:45:00"]
["2019-06-05","On","Grundlovsdag",null,null,null,"","00:00:00","",{"$f":"ColTime(T.!$J$4,T.!$L$4,D8,E8)","v":"00:00:00"},null,{"$f":"ColTime(TIME(T.!$J$5,0,0),TIME(T.!$L$5,0,0),D8,E8)","v":"00:00:00"},null,"","00:00:00",{"$f":"IFERROR(H8+I8,\"\")","v":""},null,null,{"$f":"CHOOSE(WEEKDAY(A8,2),norm!C$1,norm!C$2,norm!C$3,norm!C$4,norm!C$5,norm!C$6,norm!C$7)","v":"07:30:00"},null,null,"","","","","",""]
["2019-06-06","To","","06:00:00","19:00:00","00:30:00",0.52083333333333326,"03:00:00","02:00:00",{"$f":"ColTime(T.!$J$4,T.!$L$4,D9,E9)","v":"01:00:00"},null,{"$f":"ColTime(TIME(T.!$J$5,0,0),TIME(T.!$L$5,0,0),D9,E9)","v":"13:00:00"},null,"",{"$f":"IF(OR(C9<>\"\",WEEKDAY(A9,2)=7),ColTime(TIME(0,0,0),TIME(24,0,0),D9,E9),\"\")","v":""},{"$f":"IFERROR(H9+I9,\"\")","v":"05:00:00"},null,null,{"$f":"CHOOSE(WEEKDAY(A9,2),norm!C$1,norm!C$2,norm!C$3,norm!C$4,norm!C$5,norm!C$6,norm!C$7)","v":"07:30:00"},null,null,6,0,"06:00:00",19,0,"19:00:00"]
["2019-06-07","Fr","","07:00:00","19:00:00",null,0.49999999999999994,"03:00:00","02:00:00",{"$f":"ColTime(T.!$J$4,T.!$L$4,D10,E10)","v":"01:00:00"},null,{"$f":"ColTime(TIME(T.!$J$5,0,0),TIME(T.!$L$5,0,0),D10,E10)","v":"12:00:00"},null,{"$f":"IF(WEEKDAY(A10,2)=6,ColTime(TIME(14,0,0),TIME(24,0,0),D10,E10),\"\")","v":""},{"$f":"IF(OR(C10<>\"\",WEEKDAY(A10,2)=7),ColTime(TIME(0,0,0),TIME(24,0,0),D10,E10),\"\")","v":""},"05:00:00",null,null,{"$f":"CHOOSE(WEEKDAY(A10,2),norm!C$1,norm!C$2,norm!C$3,norm!C$4,norm!C$5,norm!C$6,norm!C$7)","v":"07:00:00"},null,null,7,0,"07:00:00",19,0,"19:00:00"]
[{"$f":"A10+1","v":"2019-06-08"},{"$f":"PROPER(TEXT(A11,\"ddd\"))","v":"Lø"},{"$f":"HelligdagsNavn(A11,0,0)","v":""},null,null,null,"","00:00:00","",{"$f":"ColTime(T.!$J$4,T.!$L$4,D11,E11)","v":"00:00:00"},null,{"$f":"ColTime(TIME(T.!$J$5,0,0),TIME(T.!$L$5,0,0),D11,E11)","v":"00:00:00"},null,{"$f":"IF(WEEKDAY(A11,2)=6,ColTime(TIME(15,0,0),TIME(24,0,0),D11,E11),\"\")","v":"00:00:00"},"","",null,null,{"$f":"CHOOSE(WEEKDAY(A11,2),norm!C$1,norm!C$2,norm!C$3,norm!C$4,norm!C$5,norm!C$6,norm!C$7)","v":"00:00:00"},null,null,"","","","","",""]
[{"$f":"A11+1","v":"2019-06-09"},{"$f":"PROPER(TEXT(A12,\"ddd\"))","v":"Sø"},{"$f":"HelligdagsNavn(A12,0,0)","v":"Pinsedag"},null,null,null,"","00:00:00","",{"$f":"ColTime(T.!$J$4,T.!$L$4,D12,E12)","v":"00:00:00"},null,{"$f":"ColTime(TIME(T.!$J$5,0,0),TIME(T.!$L$5,0,0),D12,E12)","v":"00:00:00"},null,"","00:00:00","",null,null,{"$f":"CHOOSE(WEEKDAY(A12,2),norm!C$1,norm!C$2,norm!C$3,norm!C$4,norm!C$5,norm!C$6,norm!C$7)","v":"00:00:00"},null,null,"","","","","",""]
[{"$f":"A12+1","v":"2019-06-10"},{"$f":"PROPER(TEXT(A13,\"ddd\"))","v":"Ma"},"2. Pinsedag",null,null,null,"","00:00:00","",{"$f":"ColTime(T.!$J$4,T.!$L$4,D13,E13)","v":"00:00:00"},null,{"$f":"ColTime(TIME(T.!$J$5,0,0),TIME(T.!$L$5,0,0),D13,E13)","v":"00:00:00"},null,"","00:00:00","",null,null,{"$f":"CHOOSE(WEEKDAY(A13,2),norm!C$1,norm!C$2,norm!C$3,norm!C$4,norm!C$5,norm!C$6,norm!C$7)","v":"07:30:00"},null,null,"","","","","",""]
["2019-06-11","Ti","",null,null,null,"","00:00:00","",{"$f":"ColTime(T.!$J$4,T.!$L$4,D14,E14)","v":"00:00:00"},null,{"$f":"ColTime(TIME(T.!$J$5,0,0),TIME(T.!$L$5,0,0),D14,E14)","v":"00:00:00"},null,"","","",null,null,{"$f":"CHOOSE(WEEKDAY(A14,2),norm!C$1,norm!C$2,norm!C$3,norm!C$4,norm!C$5,norm!C$6,norm!C$7)","v":"07:30:00"},null,null,"","","","","",""]
["2019-06-12","On","",null,null,null,"","00:00:00","",{"$f":"ColTime(T.!$J$4,T.!$L$4,D15,E15)","v":"00:00:00"},null,{"$f":"ColTime(TIME(T.!$J$5,0,0),TIME(T.!$L$5,0,0),D15,E15)","v":"00:00:00"},null,"","","",null,null,{"$f":"CHOOSE(WEEKDAY(A15,2),norm!C$1,norm!C$2,norm!C$3,norm!C$4,norm!C$5,norm!C$6,norm!C$7)","v":"07:30:00"},null,null,"","","",null,"",""]
["2019-06-13","To","",null,null,null,"","00:00:00","",{"$f":"ColTime(T.!$J$4,T.!$L$4,D16,E16)","v":"00:00:00"},null,{"$f":"ColTime(TIME(T.!$J$5,0,0),TIME(T.!$L$5,0,0),D16,E16)","v":"00:00:00"},null,"","","",null,null,{"$f":"CHOOSE(WEEKDAY(A16,2),norm!C$1,norm!C$2,norm!C$3,norm!C$4,norm!C$5,norm!C$6,norm!C$7)","v":"07:30:00"},null,null,"","","","","",""]
["2019-06-14","Fr","",null,null,null,"","00:00:00","",{"$f":"ColTime(T.!$J$4,T.!$L$4,D17,E17)","v":"00:00:00"},null,{"$f":"ColTime(TIME(T.!$J$5,0,0),TIME(T.!$L$5,0,0),D17,E17)","v":"00:00:00"},null,"","","",null,null,{"$f":"CHOOSE(WEEKDAY(A17,2),norm!C$1,norm!C$2,norm!C$3,norm!C$4,norm!C$5,norm!C$6,norm!C$7)","v":"07:00:00"},null,null,"","","","","",""]
[{"$f":"A17+1","v":"2019-06-15"},{"$f":"PROPER(TEXT(A18,\"ddd\"))","v":"Lø"},{"$f":"HelligdagsNavn(A18,0,0)","v":""},null,null,null,"","00:00:00","",{"$f":"ColTime(T.!$J$4,T.!$L$4,D18,E18)","v":"00:00:00"},null,{"$f":"ColTime(TIME(T.!$J$5,0,0),TIME(T.!$L$5,0,0),D18,E18)","v":"00:00:00"},null,"00:00:00","","",null,null,{"$f":"CHOOSE(WEEKDAY(A18,2),norm!C$1,norm!C$2,norm!C$3,norm!C$4,norm!C$5,norm!C$6,norm!C$7)","v":"00:00:00"},null,null,"","","","","",""]
[{"$f":"A18+1","v":"2019-06-16"},{"$f":"PROPER(TEXT(A19,\"ddd\"))","v":"Sø"},{"$f":"HelligdagsNavn(A19,0,0)","v":""},null,null,null,"","00:00:00","",{"$f":"ColTime(T.!$J$4,T.!$L$4,D19,E19)","v":"00:00:00"},null,{"$f":"ColTime(TIME(T.!$J$5,0,0),TIME(T.!$L$5,0,0),D19,E19)","v":"00:00:00"},null,"","00:00:00","",null,null,{"$f":"CHOOSE(WEEKDAY(A19,2),norm!C$1,norm!C$2,norm!C$3,norm!C$4,norm!C$5,norm!C$6,norm!C$7)","v":"00:00:00"},null,null,"","","","","",""]
[{"$f":"A19+1","v":"2019-06-17"},{"$f":"PROPER(TEXT(A20,\"ddd\"))","v":"Ma"},"",null,null,null,"","00:00:00","",{"$f":"ColTime(T.!$J$4,T.!$L$4,D20,E20)","v":"00:00:00"},null,{"$f":"ColTime(TIME(T.!$J$5,0,0),TIME(T.!$L$5,0,0),D20,E20)","v":"00:00:00"},null,"","","",null,null,{"$f":"CHOOSE(WEEKDAY(A20,2),norm!C$1,norm!C$2,norm!C$3,norm!C$4,norm!C$5,norm!C$6,norm!C$7)","v":"07:30:00"},null,null,"","","","","",""]
["2019-06-18","Ti","",null,null,null,"","00:00:00","",{"$f":"ColTime(T.!$J$4,T.!$L$4,D21,E21)","v":"00:00:00"},null,{"$f":"ColTime(TIME(T.!$J$5,0,0),TIME(T.!$L$5,0,0),D21,E21)","v":"00:00:00"},null,"","","",null,null,{"$f":"CHOOSE(WEEKDAY(A21,2),norm!C$1,norm!C$2,norm!C$3,norm!C$4,norm!C$5,norm!C$6,norm!C$7)","v":"07:30:00"},null,null,"","","","","",""]
["2019-06-19","On","",null,null,null,"","00:00:00","",{"$f":"ColTime(T.!$J$4,T.!$L$4,D22,E22)","v":"00:00:00"},null,{"$f":"ColTime(TIME(T.!$J$5,0,0),TIME(T.!$L$5,0,0),D22,E22)","v":"00:00:00"},null,"","","",null,null,{"$f":"CHOOSE(WEEKDAY(A22,2),norm!C$1,norm!C$2,norm!C$3,norm!C$4,norm!C$5,norm!C$6,norm!C$7)","v":"07:30:00"},null,null,"","","","","",""]
["2019-06-20","To","",null,null,null,"","00:00:00","",{"$f":"ColTime(T.!$J$4,T.!$L$4,D23,E23)","v":"00:00:00"},null,{"$f":"ColTime(TIME(T.!$J$5,0,0),TIME(T.!$L$5,0,0),D23,E23)","v":"00:00:00"},null,"","","",null,null,{"$f":"CHOOSE(WEEKDAY(A23,2),norm!C$1,norm!C$2,norm!C$3,norm!C$4,norm!C$5,norm!C$6,norm!C$7)","v":"07:30:00"},null,null,"","","","","",""]
["2019-06-21","Fr","",null,null,null,"","00:00:00","",{"$f":"ColTime(T.!$J$4,T.!$L$4,D24,E24)","v":"00:00:00"},null,{"$f":"ColTime(TIME(T.!$J$5,0,0),TIME(T.!$L$5,0,0),D24,E24)","v":"00:00:00"},null,"","","",null,null,{"$f":"CHOOSE(WEEKDAY(A24,2),norm!C$1,norm!C$2,norm!C$3,norm!C$4,norm!C$5,norm!C$6,norm!C$7)","v":"07:00:00"},null,null,"","","","","",""]
[{"$f":"A24+1","v":"2019-06-22"},{"$f":"PROPER(TEXT(A25,\"ddd\"))","v":"Lø"},{"$f":"HelligdagsNavn(A25,0,0)","v":""},null,null,null,"","00:00:00","",{"$f":"ColTime(T.!$J$4,T.!$L$4,D25,E25)","v":"00:00:00"},null,{"$f":"ColTime(TIME(T.!$J$5,0,0),TIME(T.!$L$5,0,0),D25,E25)","v":"00:00:00"},null,"00:00:00","","",null,null,{"$f":"CHOOSE(WEEKDAY(A25,2),norm!C$1,norm!C$2,norm!C$3,norm!C$4,norm!C$5,norm!C$6,norm!C$7)","v":"00:00:00"},null,null,"","","","","",""]
[{"$f":"A25+1","v":"2019-06-23"},{"$f":"PROPER(TEXT(A26,\"ddd\"))","v":"Sø"},{"$f":"HelligdagsNavn(A26,0,0)","v":""},null,null,null,"","00:00:00","",{"$f":"ColTime(T.!$J$4,T.!$L$4,D26,E26)","v":"00:00:00"},null,{"$f":"ColTime(TIME(T.!$J$5,0,0),TIME(T.!$L$5,0,0),D26,E26)","v":"00:00:00"},null,"","00:00:00","",null,null,{"$f":"CHOOSE(WEEKDAY(A26,2),norm!C$1,norm!C$2,norm!C$3,norm!C$4,norm!C$5,norm!C$6,norm!C$7)","v":"00:00:00"},null,null,"","","","","",""]
[{"$f":"A26+1","v":"2019-06-24"},{"$f":"PROPER(TEXT(A27,\"ddd\"))","v":"Ma"},"",null,null,null,"","00:00:00","",{"$f":"ColTime(T.!$J$4,T.!$L$4,D27,E27)","v":"00:00:00"},null,{"$f":"ColTime(TIME(T.!$J$5,0,0),TIME(T.!$L$5,0,0),D27,E27)","v":"00:00:00"},null,"","","",null,null,{"$f":"CHOOSE(WEEKDAY(A27,2),norm!C$1,norm!C$2,norm!C$3,norm!C$4,norm!C$5,norm!C$6,norm!C$7)","v":"07:30:00"},null,null,"","","","","",""]
["2019-06-25","Ti","",null,null,null,"","00:00:00","",{"$f":"ColTime(T.!$J$4,T.!$L$4,D28,E28)","v":"00:00:00"},null,{"$f":"ColTime(TIME(T.!$J$5,0,0),TIME(T.!$L$5,0,0),D28,E28)","v":"00:00:00"},null,"","","",null,null,{"$f":"CHOOSE(WEEKDAY(A28,2),norm!C$1,norm!C$2,norm!C$3,norm!C$4,norm!C$5,norm!C$6,norm!C$7)","v":"07:30:00"},null,null,"","","","","",""]
["2019-06-26","On","",null,null,null,"","00:00:00","",{"$f":"ColTime(T.!$J$4,T.!$L$4,D29,E29)","v":"00:00:00"},null,{"$f":"ColTime(TIME(T.!$J$5,0,0),TIME(T.!$L$5,0,0),D29,E29)","v":"00:00:00"},null,"","","",null,null,{"$f":"CHOOSE(WEEKDAY(A29,2),norm!C$1,norm!C$2,norm!C$3,norm!C$4,norm!C$5,norm!C$6,norm!C$7)","v":"07:30:00"}]
["2019-06-27","To","",null,null,null,"","00:00:00","",{"$f":"ColTime(T.!$J$4,T.!$L$4,D30,E30)","v":"00:00:00"},null,{"$f":"ColTime(TIME(T.!$J$5,0,0),TIME(T.!$L$5,0,0),D30,E30)","v":"00:00:00"},null,"","","",null,null,{"$f":"CHOOSE(WEEKDAY(A30,2),norm!C$1,norm!C$2,norm!C$3,norm!C$4,norm!C$5,norm!C$6,norm!C$7)","v":"07:30:00"}]
["2019-06-28","Fr","",null,null,null,"","00:00:00","",{"$f":"ColTime(T.!$J$4,T.!$L$4,D31,E31)","v":"00:00:00"},null,{"$f":"ColTime(TIME(T.!$J$5,0,0),TIME(T.!$L$5,0,0),D31,E31)","v":"00:00:00"},null,"","","",null,null,{"$f":"CHOOSE(WEEKDAY(A31,2),norm!C$1,norm!C$2,norm!C$3,norm!C$4,norm!C$5,norm!C$6,norm!C$7)","v":"07:00:00"}]
[{"$f":"IF(MONTH(A31+1)>MONTH(A31),\"\",A31+1)","v":"2019-06-29"},"Lø",{"$f":"IF(A32=\"\",\"\",HelligdagsNavn(A32,0,0))","v":""},null,null,null,"","00:00:00","",{"$f":"ColTime(T.!$J$4,T.!$L$4,D32,E32)","v":"00:00:00"},null,{"$f":"ColTime(TIME(T.!$J$5,0,0),TIME(T.!$L$5,0,0),D32,E32)","v":"00:00:00"},null,{"$f":"IFERROR(IF(WEEKDAY(A32,2)=6,ColTime(TIME(15,0,0),TIME(24,0,0),D32,E32),\"\"),\"\")","v":"00:00:00"},{"$f":"IFERROR(IF(OR(C32<>\"\",WEEKDAY(A32,2)=7),ColTime(TIME(0,0,0),TIME(24,0,0),D32,E32),\"\"),\"\")","v":""},"",null,null,{"$f":"IFERROR(CHOOSE(WEEKDAY(A32,2),norm!C$1,norm!C$2,norm!C$3,norm!C$4,norm!C$5,norm!C$6,norm!C$7),\"\")","v":"00:00:00"}]
[{"$f":"IFERROR(IF(MONTH(A32+1)>MONTH(A32),\"\",A32+1),\"\")","v":"2019-06-30"},"Sø","",null,null,null,"","00:00:00","",{"$f":"ColTime(T.!$J$4,T.!$L$4,D33,E33)","v":"00:00:00"},null,{"$f":"ColTime(TIME(T.!$J$5,0,0),TIME(T.!$L$5,0,0),D33,E33)","v":"00:00:00"},null,{"$f":"IFERROR(IF(WEEKDAY(A33,2)=6,ColTime(TIME(15,0,0),TIME(24,0,0),D33,E33),\"\"),\"\")","v":""},{"$f":"IFERROR(IF(OR(C33<>\"\",WEEKDAY(A33,2)=7),ColTime(TIME(0,0,0),TIME(24,0,0),D33,E33),\"\"),\"\")","v":"00:00:00"},"",null,null,{"$f":"IFERROR(CHOOSE(WEEKDAY(A33,2),norm!C$1,norm!C$2,norm!C$3,norm!C$4,norm!C$5,norm!C$6,norm!C$7),\"\")","v":"00:00:00"}]
[{"$f":"IFERROR(IF(MONTH(A33+1)>MONTH(A33),\"\",A33+1),\"\")","v":""},{"$f":"IFERROR(PROPER(TEXT(A34,\"ddd\")),\"\")","v":""},{"$f":"IF(A34=\"\",\"\",HelligdagsNavn(A34,0,0))","v":""},null,null,null,"","00:00:00","",{"$f":"ColTime(T.!$J$4,T.!$L$4,D34,E34)","v":"00:00:00"},null,{"$f":"ColTime(TIME(T.!$J$5,0,0),TIME(T.!$L$5,0,0),D34,E34)","v":"00:00:00"},null,{"$f":"IFERROR(IF(WEEKDAY(A34,2)=6,ColTime(TIME(15,0,0),TIME(24,0,0),D34,E34),\"\"),\"\")","v":""},"","",null,null,{"$f":"IFERROR(CHOOSE(WEEKDAY(A34,2),norm!C$1,norm!C$2,norm!C$3,norm!C$4,norm!C$5,norm!C$6,norm!C$7),\"\")","v":""},null,null,{"$f":"IF(D34=\"\",\"\",HOUR(D34))","v":""},{"$f":"IF(D34=\"\",\"\",MINUTE(D34))","v":""},{"$f":"IF(D34=\"\",\"\",TIME(HOUR(D34),MINUTE(D34),0))","v":""},{"$f":"IF(E34=\"\",\"\",HOUR(E34))","v":""},{"$f":"IF(E34=\"\",\"\",MINUTE(E34))","v":""},{"$f":"IF(E34=\"\",\"\",TIME(HOUR(E34),MINUTE(E34),0))","v":""}]
["Total timer",null,null,null,null,null,{"$f":"IF(SUM(G9:G34)<>\"0\",SUM(G4:G34),\"\")","v":2.4479166666666665},{"$f":"IF(SUM(H4:H34)<>\"0\",SUM(H4:H34),\"\")","v":0.5},{"$f":"IF(SUM(I4:I34)<>\"0\",SUM(I4:I34),\"\")","v":0.72916666666666652},{"$f":"IF(SUM(J4:J34)<>\"0\",SUM(J4:J34),\"\")","v":0.27083333333333337},null,{"$f":"SUM(L4:M34)","v":2.5520833333333335},null,{"$f":"IF(SUM(N4:N34)<>\"0\",SUM(N4:N34),\"\")","v":8.3333333333333259E-2},{"$f":"IF(SUM(O4:O34)<>\"0\",SUM(O4:O34),\"\")","v":"07:45:00"},{"$f":"SUM(P4:P34)","v":1.2291666666666665},{"$f":"SUM(Q4:Q34)","v":0}]
["Timer 1/100",null,null,null,null,null,{"$f":"IF(G35<>\"\",ROUND(G35*24,2),\"\")","v":58.75},{"$f":"IF(H35<>\"\",ROUND(H35*24,2),\"\")","v":12},17.5,{"$f":"IF(J35<>\"\",ROUND(J35*24,2),\"\")","v":6.5},null,{"$f":"IF(L35<>\"\",ROUND(L35*24,2),\"\")","v":61.25},null,{"$f":"IF(N35<>\"\",ROUND(N35*24,2),\"\")","v":2},7.75,29.5,0]
["Satser",null,null,null,null,null,{"$f":"Satser!B7","v":107.35},{"$f":"Satser!B9","v":36.35},{"$f":"Satser!B12","v":58.1},{"$f":"Satser!B17","v":13.91},null,{"$f":"Satser!B18","v":23.19},null,{"$f":"Satser!B19","v":24.89},{"$f":"Satser!B20","v":27.63}]
[null,null,null,null,null,null,{"$f":"IF(G35<>\"\",G36*G37,\"\")","v":6306.8125},{"$f":"IF(H35<>\"\",H36*H37,\"\")","v":436.20000000000005},1016.75,{"$f":"IF(J35<>\"\",J36*J37,\"\")","v":90.415000000000006},null,{"$f":"IF(L35<>\"\",L36*L36,\"\")","v":3751.5625},null,{"$f":"IF(N35<>\"\",N36*N37,\"\")","v":49.78},214.13249999999999]
[]
["Lønart"]
[3025,null,null,null,null,null,{"$f":"G35","v":2.4479166666666665}]
[3425,null,null,null,null,null,{"$f":"H35","v":0.5}]
[3428,null,null,null,null,null,{"$f":"I35","v":0.72916666666666652}]
["Timer",null,null,null,null,null,{"$f":"SUM(G41:G43)","v":3.677083333333333},{"$f":"IF(G44<>\"\",ROUND(G44*24,2),\"\")","v":88.25}]
[null,null,null,null,null,null,null,{"$f":"G37*H44","v":9473.6374999999989}]

{"sheet":"Juli","index":12,"n_rows":45,"n_cols":35,"rows_kept":45,"cut":false,"hidden":true,"merged":[[39,0,39,2],[40,0,40,2],[41,0,41,2],[42,0,42,2],[43,0,43,5],[35,9,35,10],[35,11,35,12],[36,9,36,10],[36,11,36,12],[37,9,37,10],[37,11,37,12],[32,9,32,10],[32,11,32,12],[33,9,33,10],[33,11,33,12],[34,9,34,10],[34,11,34,12],[29,9,29,10],[29,11,29,12],[30,9,30,10],[30,11,30,12],[31,9,31,10],[31,11,31,12],[26,9,26,10],[26,11,26,12],[27,9,27,10],[27,11,27,12],[28,9,28,10],[28,11,28,12],[23,9,23,10],[23,11,23,12],[24,9,24,10],[24,11,24,12],[25,9,25,10],[25,11,25,12],[20,9,20,10],[20,11,20,12],[21,9,21,10],[21,11,21,12],[22,9,22,10],[22,11,22,12],[17,9,17,10],[17,11,17,12],[18,9,18,10],[18,11,18,12],[19,9,19,10],[19,11,19,12],[14,9,14,10],[14,11,14,12],[15,9,15,10],[15,11,15,12],[16,9,16,10],[16,11,16,12],[11,9,11,10],[11,11,11,12],[12,9,12,10],[12,11,12,12],[13,9,13,10],[13,11,13,12],[8,9,8,10],[8,11,8,12],[9,9,9,10],[9,11,9,12],[10,9,10,10],[10,11,10,12],[5,9,5,10],[5,11,5,12],[6,9,6,10],[6,11,6,12],[7,9,7,10],[7,11,7,12],[4,9,4,10],[4,11,4,12],[0,1,0,7],[0,10,0,11],[0,13,0,14],[1,1,1,2],[1,9,1,10],[1,11,1,12],[2,1,2,2],[2,9,2,10],[2,11,2,12],[3,9,3,10],[3,11,3,12]]}
["Løn",{"$f":"PROPER(TEXT(A4,\"dd mmmm åååå\")) & PROPER(TEXT(N1,\"  -  dd mmmm åååå\"))","v":"01 Juli 2019  -  31 Juli 2019"},null,null,null,null,null,null,"Uge :",{"$f":"IF(A4=\"\",\"\",TRUNC((A4-WEEKDAY(A4,2)-DATE(YEAR(A4+4-WEEKDAY(A4,2)),1,-10))/7))","v":27},"-",null,{"$f":"IF(A25=\"\",\"\",TRUNC((A25-WEEKDAY(A25,2)-DATE(YEAR(A25+4-WEEKDAY(A25,2)),1,-10))/7))","v":30},{"$f":"EOMONTH(A4,0)","v":"2019-07-31"},null,7,null,null,null,null,null,"Time beregning:",null,null,null,null,null,null,null,null,null,null,"06:00:00","18:00:00","03:00:00"]
["Lønart",null,null,null,null,null,null,null,null,null,null,null,null,null,null,null,null,null,null,null,null,"Betalt pause ved vagt over 5 timer",null,null,null,"00:25:00","minutter","00:00:00","06:00:00","17:00:00","14:00:00"]
["Dato","Dag",null,"Start","Slut","Pause","Arb. Tid","Overtid           1-3 time","Overtid            4 - time","Forskudt tid alle dage\n18-23",null,"Natarbejde 23-06",null,"Lørdag tillæg 14 - 24","Søndag tillæg 00 - 24","Optjent afspadsering","Afholdt afspadsering","Syge Timer","norm"]
[{"$f":"DATE(T.!$B$2,$P$1,1)","v":"2019-07-01"},{"$f":"PROPER(TEXT(A4,\"ddd\"))","v":"Ma"},{"$f":"HelligdagsNavn(A4,0,0)","v":""},"07:00:00","16:00:00","00:30:00",{"$f":"IF(D4=\"\",\"\",(E4-D4)+(D4>E4)-F4)","v":0.35416666666666663},{"$f":"IF(G4=\"\",0,IF(WEEKDAY(A4,2)=7,0,IF(G4>S4,MIN(G4-S4,$AI$1),0)))","v":"01:00:00"},{"$f":"IF(G4=\"\",\"\",IF(G4>S4+H4,G4-(S4+H4),\"\"))","v":""},{"$f":"ColTime(T.!$J$4,T.!$L$4,D4,E4)","v":"00:00:00"},null,{"$f":"ColTime(TIME(T.!$J$5,0,0),TIME(T.!$L$5,0,0),D4,E4)","v":"09:00:00"},null,{"$f":"IF(WEEKDAY(A4,2)=6,ColTime(TIME(14,0,0),TIME(24,0,0),D4,E4),\"\")","v":""},{"$f":"IF(OR(C4<>\"\",WEEKDAY(A4,2)=7),ColTime(TIME(0,0,0),TIME(24,0,0),D4,E4),\"\")","v":""},{"$f":"IFERROR(H4+I4,\"\")","v":""},null,null,{"$f":"CHOOSE(WEEKDAY(A4,2),norm!C$1,norm!C$2,norm!C$3,norm!C$4,norm!C$5,norm!C$6,norm!C$7)","v":"07:30:00"},null,null,{"$f":"IF(D4=\"\",\"\",HOUR(D4))","v":7},{"$f":"IF(D4=\"\",\"\",MINUTE(D4))","v":0},{"$f":"IF(D4=\"\",\"\",TIME(HOUR(D4),MINUTE(D4),0))","v":"07:00:00"},{"$f":"IF(E4=\"\",\"\",HOUR(E4))","v":16},{"$f":"IF(E4=\"\",\"\",MINUTE(E4))","v":0},"02:00:00","09:30:00","11:30:00",null,null,null,{"$f":"MIN(G4-S4,3)","v":4.166666666666663E-2}]
[{"$f":"A4+1","v":"2019-07-02"},{"$f":"PROPER(TEXT(A5,\"ddd\"))","v":"Ti"},{"$f":"HelligdagsNavn(A5,0,0)","v":""},"13:45:00","21:30:00","00:30:00",{"$f":"IF(D5=\"\",\"\",(E5-D5)+(D5>E5)-F5)","v":0.30208333333333343},{"$f":"IF(G5=\"\",0,IF(WEEKDAY(A5,2)=7,0,IF(G5>S5,MIN(G5-S5,$AI$1),0)))","v":"00:00:00"},{"$f":"IF(G5=\"\",\"\",IF(G5>S5+H5,G5-(S5+H5),\"\"))","v":""},{"$f":"ColTime(T.!$J$4,T.!$L$4,D5,E5)","v":"03:30:00"},null,{"$f":"ColTime(TIME(T.!$J$5,0,0),TIME(T.!$L$5,0,0),D5,E5)","v":"07:45:00"},null,"","",{"$f":"IFERROR(H5+I5,\"\")","v":""},null,null,{"$f":"CHOOSE(WEEKDAY(A5,2),norm!C$1,norm!C$2,norm!C$3,norm!C$4,norm!C$5,norm!C$6,norm!C$7)","v":"07:30:00"},null,null,13,45,"13:45:00",21,30,{"$f":"IF(E5=\"\",\"\",TIME(HOUR(E5),MINUTE(E5),0))","v":"21:30:00"},null,null,null,null,null,null,"Der taste kun i de Gule celler"]
[{"$f":"A5+1","v":"2019-07-03"},{"$f":"PROPER(TEXT(A6,\"ddd\"))","v":"On"},"","22:00:00","05:45:00","00:30:00",0.30208333333333343,"00:00:00","",{"$f":"ColTime(T.!$J$4,T.!$L$4,D6,E6)","v":"01:00:00"},null,{"$f":"ColTime(TIME(T.!$J$5,0,0),TIME(T.!$L$5,0,0),D6,E6)","v":"07:45:00"},null,"","",{"$f":"IFERROR(H6+I6,\"\")","v":""},null,null,{"$f":"CHOOSE(WEEKDAY(A6,2),norm!C$1,norm!C$2,norm!C$3,norm!C$4,norm!C$5,norm!C$6,norm!C$7)","v":"07:30:00"},null,null,22,0,"22:00:00",5,45,"05:45:00"]
["2019-07-04","To","","05:00:00","16:45:00","00:30:00",0.46874999999999994,"03:00:00","00:45:00",{"$f":"ColTime(T.!$J$4,T.!$L$4,D7,E7)","v":"00:00:00"},null,{"$f":"ColTime(TIME(T.!$J$5,0,0),TIME(T.!$L$5,0,0),D7,E7)","v":"11:45:00"},null,"","",{"$f":"IFERROR(H7+I7,\"\")","v":"03:45:00"},null,null,{"$f":"CHOOSE(WEEKDAY(A7,2),norm!C$1,norm!C$2,norm!C$3,norm!C$4,norm!C$5,norm!C$6,norm!C$7)","v":"07:30:00"},null,null,5,0,"05:00:00",16,45,"16:45:00"]
["2019-07-05","Fr","",null,null,null,"","00:00:00","",{"$f":"ColTime(T.!$J$4,T.!$L$4,D8,E8)","v":"00:00:00"},null,{"$f":"ColTime(TIME(T.!$J$5,0,0),TIME(T.!$L$5,0,0),D8,E8)","v":"00:00:00"},null,"","",{"$f":"IFERROR(H8+I8,\"\")","v":""},null,null,{"$f":"CHOOSE(WEEKDAY(A8,2),norm!C$1,norm!C$2,norm!C$3,norm!C$4,norm!C$5,norm!C$6,norm!C$7)","v":"07:00:00"},null,null,"","","","","",""]
["2019-07-06","Lø","","06:00:00","19:00:00","00:30:00",0.52083333333333326,"03:00:00","09:30:00",{"$f":"ColTime(T.!$J$4,T.!$L$4,D9,E9)","v":"01:00:00"},null,{"$f":"ColTime(TIME(T.!$J$5,0,0),TIME(T.!$L$5,0,0),D9,E9)","v":"13:00:00"},null,"05:00:00",{"$f":"IF(OR(C9<>\"\",WEEKDAY(A9,2)=7),ColTime(TIME(0,0,0),TIME(24,0,0),D9,E9),\"\")","v":""},{"$f":"IFERROR(H9+I9,\"\")","v":"12:30:00"},null,null,{"$f":"CHOOSE(WEEKDAY(A9,2),norm!C$1,norm!C$2,norm!C$3,norm!C$4,norm!C$5,norm!C$6,norm!C$7)","v":"00:00:00"},null,null,6,0,"06:00:00",19,0,"19:00:00"]
["2019-07-07","Sø","","07:00:00","19:00:00",null,0.49999999999999994,"00:00:00","12:00:00",{"$f":"ColTime(T.!$J$4,T.!$L$4,D10,E10)","v":"01:00:00"},null,{"$f":"ColTime(TIME(T.!$J$5,0,0),TIME(T.!$L$5,0,0),D10,E10)","v":"12:00:00"},null,{"$f":"IF(WEEKDAY(A10,2)=6,ColTime(TIME(14,0,0),TIME(24,0,0),D10,E10),\"\")","v":""},{"$f":"IF(OR(C10<>\"\",WEEKDAY(A10,2)=7),ColTime(TIME(0,0,0),TIME(24,0,0),D10,E10),\"\")","v":"12:00:00"},"12:00:00",null,null,{"$f":"CHOOSE(WEEKDAY(A10,2),norm!C$1,norm!C$2,norm!C$3,norm!C$4,norm!C$5,norm!C$6,norm!C$7)","v":"00:00:00"},null,null,7,0,"07:00:00",19,0,"19:00:00"]
[{"$f":"A10+1","v":"2019-07-08"},{"$f":"PROPER(TEXT(A11,\"ddd\"))","v":"Ma"},{"$f":"HelligdagsNavn(A11,0,0)","v":""},null,null,null,"","00:00:00","",{"$f":"ColTime(T.!$J$4,T.!$L$4,D11,E11)","v":"00:00:00"},null,{"$f":"ColTime(TIME(T.!$J$5,0,0),TIME(T.!$L$5,0,0),D11,E11)","v":"00:00:00"},null,{"$f":"IF(WEEKDAY(A11,2)=6,ColTime(TIME(15,0,0),TIME(24,0,0),D11,E11),\"\")","v":""},"","",null,null,{"$f":"CHOOSE(WEEKDAY(A11,2),norm!C$1,norm!C$2,norm!C$3,norm!C$4,norm!C$5,norm!C$6,norm!C$7)","v":"07:30:00"},null,null,"","","","","",""]
[{"$f":"A11+1","v":"2019-07-09"},{"$f":"PROPER(TEXT(A12,\"ddd\"))","v":"Ti"},{"$f":"HelligdagsNavn(A12,0,0)","v":""},null,null,null,"","00:00:00","",{"$f":"ColTime(T.!$J$4,T.!$L$4,D12,E12)","v":"00:00:00"},null,{"$f":"ColTime(TIME(T.!$J$5,0,0),TIME(T.!$L$5,0,0),D12,E12)","v":"00:00:00"},null,"","","",null,null,{"$f":"CHOOSE(WEEKDAY(A12,2),norm!C$1,norm!C$2,norm!C$3,norm!C$4,norm!C$5,norm!C$6,norm!C$7)","v":"07:30:00"},null,null,"","","","","",""]
[{"$f":"A12+1","v":"2019-07-10"},{"$f":"PROPER(TEXT(A13,\"ddd\"))","v":"On"},"",null,null,null,"","00:00:00","",{"$f":"ColTime(T.!$J$4,T.!$L$4,D13,E13)","v":"00:00:00"},null,{"$f":"ColTime(TIME(T.!$J$5,0,0),TIME(T.!$L$5,0,0),D13,E13)","v":"00:00:00"},null,"","","",null,null,{"$f":"CHOOSE(WEEKDAY(A13,2),norm!C$1,norm!C$2,norm!C$3,norm!C$4,norm!C$5,norm!C$6,norm!C$7)","v":"07:30:00"},null,null,"","","","","",""]
["2019-07-11","To","",null,null,null,"","00:00:00","",{"$f":"ColTime(T.!$J$4,T.!$L$4,D14,E14)","v":"00:00:00"},null,{"$f":"ColTime(TIME(T.!$J$5,0,0),TIME(T.!$L$5,0,0),D14,E14)","v":"00:00:00"},null,"","","",null,null,{"$f":"CHOOSE(WEEKDAY(A14,2),norm!C$1,norm!C$2,norm!C$3,norm!C$4,norm!C$5,norm!C$6,norm!C$7)","v":"07:30:00"},null,null,"","","","","",""]
["2019-07-12","Fr","",null,null,null,"","00:00:00","",{"$f":"ColTime(T.!$J$4,T.!$L$4,D15,E15)","v":"00:00:00"},null,{"$f":"ColTime(TIME(T.!$J$5,0,0),TIME(T.!$L$5,0,0),D15,E15)","v":"00:00:00"},null,"","","",null,null,{"$f":"CHOOSE(WEEKDAY(A15,2),norm!C$1,norm!C$2,norm!C$3,norm!C$4,norm!C$5,norm!C$6,norm!C$7)","v":"07:00:00"},null,null,"","","",null,"",""]
["2019-07-13","Lø","",null,null,null,"","00:00:00","",{"$f":"ColTime(T.!$J$4,T.!$L$4,D16,E16)","v":"00:00:00"},null,{"$f":"ColTime(TIME(T.!$J$5,0,0),TIME(T.!$L$5,0,0),D16,E16)","v":"00:00:00"},null,"00:00:00","","",null,null,{"$f":"CHOOSE(WEEKDAY(A16,2),norm!C$1,norm!C$2,norm!C$3,norm!C$4,norm!C$5,norm!C$6,norm!C$7)","v":"00:00:00"},null,null,"","","","","",""]
["2019-07-14","Sø","",null,null,null,"","00:00:00","",{"$f":"ColTime(T.!$J$4,T.!$L$4,D17,E17)","v":"00:00:00"},null,{"$f":"ColTime(TIME(T.!$J$5,0,0),TIME(T.!$L$5,0,0),D17,E17)","v":"00:00:00"},null,"","00:00:00","",null,null,{"$f":"CHOOSE(WEEKDAY(A17,2),norm!C$1,norm!C$2,norm!C$3,norm!C$4,norm!C$5,norm!C$6,norm!C$7)","v":"00:00:00"},null,null,"","","","","",""]
[{"$f":"A17+1","v":"2019-07-15"},{"$f":"PROPER(TEXT(A18,\"ddd\"))","v":"Ma"},{"$f":"HelligdagsNavn(A18,0,0)","v":""},null,null,null,"","00:00:00","",{"$f":"ColTime(T.!$J$4,T.!$L$4,D18,E18)","v":"00:00:00"},null,{"$f":"ColTime(TIME(T.!$J$5,0,0),TIME(T.!$L$5,0,0),D18,E18)","v":"00:00:00"},null,"","","",null,null,{"$f":"CHOOSE(WEEKDAY(A18,2),norm!C$1,norm!C$2,norm!C$3,norm!C$4,norm!C$5,norm!C$6,norm!C$7)","v":"07:30:00"},null,null,"","","","","",""]
[{"$f":"A18+1","v":"2019-07-16"},{"$f":"PROPER(TEXT(A19,\"ddd\"))","v":"Ti"},{"$f":"HelligdagsNavn(A19,0,0)","v":""},null,null,null,"","00:00:00","",{"$f":"ColTime(T.!$J$4,T.!$L$4,D19,E19)","v":"00:00:00"},null,{"$f":"ColTime(TIME(T.!$J$5,0,0),TIME(T.!$L$5,0,0),D19,E19)","v":"00:00:00"},null,"","","",null,null,{"$f":"CHOOSE(WEEKDAY(A19,2),norm!C$1,norm!C$2,norm!C$3,norm!C$4,norm!C$5,norm!C$6,norm!C$7)","v":"07:30:00"},null,null,"","","","","",""]
[{"$f":"A19+1","v":"2019-07-17"},{"$f":"PROPER(TEXT(A20,\"ddd\"))","v":"On"},"",null,null,null,"","00:00:00","",{"$f":"ColTime(T.!$J$4,T.!$L$4,D20,E20)","v":"00:00:00"},null,{"$f":"ColTime(TIME(T.!$J$5,0,0),TIME(T.!$L$5,0,0),D20,E20)","v":"00:00:00"},null,"","","",null,null,{"$f":"CHOOSE(WEEKDAY(A20,2),norm!C$1,norm!C$2,norm!C$3,norm!C$4,norm!C$5,norm!C$6,norm!C$7)","v":"07:30:00"},null,null,"","","","","",""]
["2019-07-18","To","",null,null,null,"","00:00:00","",{"$f":"ColTime(T.!$J$4,T.!$L$4,D21,E21)","v":"00:00:00"},null,{"$f":"ColTime(TIME(T.!$J$5,0,0),TIME(T.!$L$5,0,0),D21,E21)","v":"00:00:00"},null,"","","",null,null,{"$f":"CHOOSE(WEEKDAY(A21,2),norm!C$1,norm!C$2,norm!C$3,norm!C$4,norm!C$5,norm!C$6,norm!C$7)","v":"07:30:00"},null,null,"","","","","",""]
["2019-07-19","Fr","",null,null,null,"","00:00:00","",{"$f":"ColTime(T.!$J$4,T.!$L$4,D22,E22)","v":"00:00:00"},null,{"$f":"ColTime(TIME(T.!$J$5,0,0),TIME(T.!$L$5,0,0),D22,E22)","v":"00:00:00"},null,"","","",null,null,{"$f":"CHOOSE(WEEKDAY(A22,2),norm!C$1,norm!C$2,norm!C$3,norm!C$4,norm!C$5,norm!C$6,norm!C$7)","v":"07:00:00"},null,null,"","","","","",""]
["2019-07-20","Lø","",null,null,null,"","00:00:00","",{"$f":"ColTime(T.!$J$4,T.!$L$4,D23,E23)","v":"00:00:00"},null,{"$f":"ColTime(TIME(T.!$J$5,0,0),TIME(T.!$L$5,0,0),D23,E23)","v":"00:00:00"},null,"00:00:00","","",null,null,{"$f":"CHOOSE(WEEKDAY(A23,2),norm!C$1,norm!C$2,norm!C$3,norm!C$4,norm!C$5,norm!C$6,norm!C$7)","v":"00:00:00"},null,null,"","","","","",""]
["2019-07-21","Sø","",null,null,null,"","00:00:00","",{"$f":"ColTime(T.!$J$4,T.!$L$4,D24,E24)","v":"00:00:00"},null,{"$f":"ColTime(TIME(T.!$J$5,0,0),TIME(T.!$L$5,0,0),D24,E24)","v":"00:00:00"},null,"","00:00:00","",null,null,{"$f":"CHOOSE(WEEKDAY(A24,2),norm!C$1,norm!C$2,norm!C$3,norm!C$4,norm!C$5,norm!C$6,norm!C$7)","v":"00:00:00"},null,null,"","","","","",""]
[{"$f":"A24+1","v":"2019-07-22"},{"$f":"PROPER(TEXT(A25,\"ddd\"))","v":"Ma"},{"$f":"HelligdagsNavn(A25,0,0)","v":""},null,null,null,"","00:00:00","",{"$f":"ColTime(T.!$J$4,T.!$L$4,D25,E25)","v":"00:00:00"},null,{"$f":"ColTime(TIME(T.!$J$5,0,0),TIME(T.!$L$5,0,0),D25,E25)","v":"00:00:00"},null,"","","",null,null,{"$f":"CHOOSE(WEEKDAY(A25,2),norm!C$1,norm!C$2,norm!C$3,norm!C$4,norm!C$5,norm!C$6,norm!C$7)","v":"07:30:00"},null,null,"","","","","",""]
[{"$f":"A25+1","v":"2019-07-23"},{"$f":"PROPER(TEXT(A26,\"ddd\"))","v":"Ti"},{"$f":"HelligdagsNavn(A26,0,0)","v":""},null,null,null,"","00:00:00","",{"$f":"ColTime(T.!$J$4,T.!$L$4,D26,E26)","v":"00:00:00"},null,{"$f":"ColTime(TIME(T.!$J$5,0,0),TIME(T.!$L$5,0,0),D26,E26)","v":"00:00:00"},null,"","","",null,null,{"$f":"CHOOSE(WEEKDAY(A26,2),norm!C$1,norm!C$2,norm!C$3,norm!C$4,norm!C$5,norm!C$6,norm!C$7)","v":"07:30:00"},null,null,"","","","","",""]
[{"$f":"A26+1","v":"2019-07-24"},{"$f":"PROPER(TEXT(A27,\"ddd\"))","v":"On"},"",null,null,null,"","00:00:00","",{"$f":"ColTime(T.!$J$4,T.!$L$4,D27,E27)","v":"00:00:00"},null,{"$f":"ColTime(TIME(T.!$J$5,0,0),TIME(T.!$L$5,0,0),D27,E27)","v":"00:00:00"},null,"","","",null,null,{"$f":"CHOOSE(WEEKDAY(A27,2),norm!C$1,norm!C$2,norm!C$3,norm!C$4,norm!C$5,norm!C$6,norm!C$7)","v":"07:30:00"},null,null,"","","","","",""]
["2019-07-25","To","",null,null,null,"","00:00:00","",{"$f":"ColTime(T.!$J$4,T.!$L$4,D28,E28)","v":"00:00:00"},null,{"$f":"ColTime(TIME(T.!$J$5,0,0),TIME(T.!$L$5,0,0),D28,E28)","v":"00:00:00"},null,"","","",null,null,{"$f":"CHOOSE(WEEKDAY(A28,2),norm!C$1,norm!C$2,norm!C$3,norm!C$4,norm!C$5,norm!C$6,norm!C$7)","v":"07:30:00"},null,null,"","","","","",""]
["2019-07-26","Fr","",null,null,null,"","00:00:00","",{"$f":"ColTime(T.!$J$4,T.!$L$4,D29,E29)","v":"00:00:00"},null,{"$f":"ColTime(TIME(T.!$J$5,0,0),TIME(T.!$L$5,0,0),D29,E29)","v":"00:00:00"},null,"","","",null,null,{"$f":"CHOOSE(WEEKDAY(A29,2),norm!C$1,norm!C$2,norm!C$3,norm!C$4,norm!C$5,norm!C$6,norm!C$7)","v":"07:00:00"}]
["2019-07-27","Lø","",null,null,null,"","00:00:00","",{"$f":"ColTime(T.!$J$4,T.!$L$4,D30,E30)","v":"00:00:00"},null,{"$f":"ColTime(TIME(T.!$J$5,0,0),TIME(T.!$L$5,0,0),D30,E30)","v":"00:00:00"},null,"00:00:00","","",null,null,{"$f":"CHOOSE(WEEKDAY(A30,2),norm!C$1,norm!C$2,norm!C$3,norm!C$4,norm!C$5,norm!C$6,norm!C$7)","v":"00:00:00"}]
["2019-07-28","Sø","",null,null,null,"","00:00:00","",{"$f":"ColTime(T.!$J$4,T.!$L$4,D31,E31)","v":"00:00:00"},null,{"$f":"ColTime(TIME(T.!$J$5,0,0),TIME(T.!$L$5,0,0),D31,E31)","v":"00:00:00"},null,"","00:00:00","",null,null,{"$f":"CHOOSE(WEEKDAY(A31,2),norm!C$1,norm!C$2,norm!C$3,norm!C$4,norm!C$5,norm!C$6,norm!C$7)","v":"00:00:00"}]
[{"$f":"IF(MONTH(A31+1)>MONTH(A31),\"\",A31+1)","v":"2019-07-29"},"Ma",{"$f":"IF(A32=\"\",\"\",HelligdagsNavn(A32,0,0))","v":""},null,null,null,"","00:00:00","",{"$f":"ColTime(T.!$J$4,T.!$L$4,D32,E32)","v":"00:00:00"},null,{"$f":"ColTime(TIME(T.!$J$5,0,0),TIME(T.!$L$5,0,0),D32,E32)","v":"00:00:00"},null,{"$f":"IFERROR(IF(WEEKDAY(A32,2)=6,ColTime(TIME(15,0,0),TIME(24,0,0),D32,E32),\"\"),\"\")","v":""},{"$f":"IFERROR(IF(OR(C32<>\"\",WEEKDAY(A32,2)=7),ColTime(TIME(0,0,0),TIME(24,0,0),D32,E32),\"\"),\"\")","v":""},"",null,null,{"$f":"IFERROR(CHOOSE(WEEKDAY(A32,2),norm!C$1,norm!C$2,norm!C$3,norm!C$4,norm!C$5,norm!C$6,norm!C$7),\"\")","v":"07:30:00"}]
[{"$f":"IFERROR(IF(MONTH(A32+1)>MONTH(A32),\"\",A32+1),\"\")","v":"2019-07-30"},"Ti","",null,null,null,"","00:00:00","",{"$f":"ColTime(T.!$J$4,T.!$L$4,D33,E33)","v":"00:00:00"},null,{"$f":"ColTime(TIME(T.!$J$5,0,0),TIME(T.!$L$5,0,0),D33,E33)","v":"00:00:00"},null,{"$f":"IFERROR(IF(WEEKDAY(A33,2)=6,ColTime(TIME(15,0,0),TIME(24,0,0),D33,E33),\"\"),\"\")","v":""},{"$f":"IFERROR(IF(OR(C33<>\"\",WEEKDAY(A33,2)=7),ColTime(TIME(0,0,0),TIME(24,0,0),D33,E33),\"\"),\"\")","v":""},"",null,null,{"$f":"IFERROR(CHOOSE(WEEKDAY(A33,2),norm!C$1,norm!C$2,norm!C$3,norm!C$4,norm!C$5,norm!C$6,norm!C$7),\"\")","v":"07:30:00"}]
[{"$f":"IFERROR(IF(MONTH(A33+1)>MONTH(A33),\"\",A33+1),\"\")","v":"2019-07-31"},{"$f":"IFERROR(PROPER(TEXT(A34,\"ddd\")),\"\")","v":"On"},{"$f":"IF(A34=\"\",\"\",HelligdagsNavn(A34,0,0))","v":""},null,null,null,"","00:00:00","",{"$f":"ColTime(T.!$J$4,T.!$L$4,D34,E34)","v":"00:00:00"},null,{"$f":"ColTime(TIME(T.!$J$5,0,0),TIME(T.!$L$5,0,0),D34,E34)","v":"00:00:00"},null,{"$f":"IFERROR(IF(WEEKDAY(A34,2)=6,ColTime(TIME(15,0,0),TIME(24,0,0),D34,E34),\"\"),\"\")","v":""},"","",null,null,{"$f":"IFERROR(CHOOSE(WEEKDAY(A34,2),norm!C$1,norm!C$2,norm!C$3,norm!C$4,norm!C$5,norm!C$6,norm!C$7),\"\")","v":"07:30:00"},null,null,{"$f":"IF(D34=\"\",\"\",HOUR(D34))","v":""},{"$f":"IF(D34=\"\",\"\",MINUTE(D34))","v":""},{"$f":"IF(D34=\"\",\"\",TIME(HOUR(D34),MINUTE(D34),0))","v":""},{"$f":"IF(E34=\"\",\"\",HOUR(E34))","v":""},{"$f":"IF(E34=\"\",\"\",MINUTE(E34))","v":""},{"$f":"IF(E34=\"\",\"\",TIME(HOUR(E34),MINUTE(E34),0))","v":""}]
["Total timer",null,null,null,null,null,{"$f":"IF(SUM(G9:G34)<>\"0\",SUM(G4:G34),\"\")","v":2.4479166666666665},{"$f":"IF(SUM(H4:H34)<>\"0\",SUM(H4:H34),\"\")","v":0.29166666666666663},{"$f":"IF(SUM(I4:I34)<>\"0\",SUM(I4:I34),\"\")","v":0.92708333333333315},{"$f":"IF(SUM(J4:J34)<>\"0\",SUM(J4:J34),\"\")","v":0.27083333333333337},null,{"$f":"SUM(L4:M34)","v":2.5520833333333335},null,{"$f":"IF(SUM(N4:N34)<>\"0\",SUM(N4:N34),\"\")","v":0.20833333333333326},{"$f":"IF(SUM(O4:O34)<>\"0\",SUM(O4:O34),\"\")","v":"12:00:00"},{"$f":"SUM(P4:P34)","v":1.1770833333333333},{"$f":"SUM(Q4:Q34)","v":0}]
["Timer 1/100",null,null,null,null,null,{"$f":"IF(G35<>\"\",ROUND(G35*24,2),\"\")","v":58.75},{"$f":"IF(H35<>\"\",ROUND(H35*24,2),\"\")","v":7},22.25,{"$f":"IF(J35<>\"\",ROUND(J35*24,2),\"\")","v":6.5},null,{"$f":"IF(L35<>\"\",ROUND(L35*24,2),\"\")","v":61.25},null,{"$f":"IF(N35<>\"\",ROUND(N35*24,2),\"\")","v":5},12,28.25,0]
["Satser",null,null,null,null,null,{"$f":"Satser!B7","v":107.35},{"$f":"Satser!B9","v":36.35},{"$f":"Satser!B12","v":58.1},{"$f":"Satser!B17","v":13.91},null,{"$f":"Satser!B18","v":23.19},null,{"$f":"Satser!B19","v":24.89},{"$f":"Satser!B20","v":27.63}]
[null,null,null,null,null,null,{"$f":"IF(G35<>\"\",G36*G37,\"\")","v":6306.8125},{"$f":"IF(H35<>\"\",H36*H37,\"\")","v":254.45000000000002},1292.7250000000001,{"$f":"IF(J35<>\"\",J36*J37,\"\")","v":90.415000000000006},null,{"$f":"IF(L35<>\"\",L36*L36,\"\")","v":3751.5625},null,{"$f":"IF(N35<>\"\",N36*N37,\"\")","v":124.45},331.56]
[]
["Lønart"]
[3025,null,null,null,null,null,{"$f":"G35","v":2.4479166666666665}]
[3425,null,null,null,null,null,{"$f":"H35","v":0.29166666666666663}]
[3428,null,null,null,null,null,{"$f":"I35","v":0.92708333333333315}]
["Timer",null,null,null,null,null,{"$f":"SUM(G41:G43)","v":3.6666666666666661},{"$f":"IF(G44<>\"\",ROUND(G44*24,2),\"\")","v":88}]
[null,null,null,null,null,null,null,{"$f":"G37*H44","v":9446.7999999999993}]

{"sheet":"August","index":13,"n_rows":45,"n_cols":35,"rows_kept":45,"cut":false,"hidden":true,"merged":[[39,0,39,2],[40,0,40,2],[41,0,41,2],[42,0,42,2],[43,0,43,5],[35,9,35,10],[35,11,35,12],[36,9,36,10],[36,11,36,12],[37,9,37,10],[37,11,37,12],[32,9,32,10],[32,11,32,12],[33,9,33,10],[33,11,33,12],[34,9,34,10],[34,11,34,12],[29,9,29,10],[29,11,29,12],[30,9,30,10],[30,11,30,12],[31,9,31,10],[31,11,31,12],[26,9,26,10],[26,11,26,12],[27,9,27,10],[27,11,27,12],[28,9,28,10],[28,11,28,12],[23,9,23,10],[23,11,23,12],[24,9,24,10],[24,11,24,12],[25,9,25,10],[25,11,25,12],[20,9,20,10],[20,11,20,12],[21,9,21,10],[21,11,21,12],[22,9,22,10],[22,11,22,12],[17,9,17,10],[17,11,17,12],[18,9,18,10],[18,11,18,12],[19,9,19,10],[19,11,19,12],[14,9,14,10],[14,11,14,12],[15,9,15,10],[15,11,15,12],[16,9,16,10],[16,11,16,12],[11,9,11,10],[11,11,11,12],[12,9,12,10],[12,11,12,12],[13,9,13,10],[13,11,13,12],[8,9,8,10],[8,11,8,12],[9,9,9,10],[9,11,9,12],[10,9,10,10],[10,11,10,12],[5,9,5,10],[5,11,5,12],[6,9,6,10],[6,11,6,12],[7,9,7,10],[7,11,7,12],[4,9,4,10],[4,11,4,12],[0,1,0,7],[0,10,0,11],[0,13,0,14],[1,1,1,2],[1,9,1,10],[1,11,1,12],[2,1,2,2],[2,9,2,10],[2,11,2,12],[3,9,3,10],[3,11,3,12]]}
["Løn",{"$f":"PROPER(TEXT(A4,\"dd mmmm åååå\")) & PROPER(TEXT(N1,\"  -  dd mmmm åååå\"))","v":"01 August 2019  -  31 August 2019"},null,null,null,null,null,null,"Uge :",{"$f":"IF(A4=\"\",\"\",TRUNC((A4-WEEKDAY(A4,2)-DATE(YEAR(A4+4-WEEKDAY(A4,2)),1,-10))/7))","v":31},"-",null,{"$f":"IF(A25=\"\",\"\",TRUNC((A25-WEEKDAY(A25,2)-DATE(YEAR(A25+4-WEEKDAY(A25,2)),1,-10))/7))","v":34},{"$f":"EOMONTH(A4,0)","v":"2019-08-31"},null,8,null,null,null,null,null,"Time beregning:",null,null,null,null,null,null,null,null,null,null,"06:00:00","18:00:00","03:00:00"]
["Lønart",null,null,null,null,null,null,null,null,null,null,null,null,null,null,null,null,null,null,null,null,"Betalt pause ved vagt over 5 timer",null,null,null,"00:25:00","minutter","00:00:00","06:00:00","17:00:00","14:00:00"]
["Dato","Dag",null,"Start","Slut","Pause","Arb. Tid","Overtid           1-3 time","Overtid            4 - time","Forskudt tid alle dage\n18-23",null,"Natarbejde 23-06",null,"Lørdag tillæg 14 - 24","Søndag tillæg 00 - 24","Optjent afspadsering","Afholdt afspadsering","Syge Timer","norm"]
[{"$f":"DATE(T.!$B$2,$P$1,1)","v":"2019-08-01"},{"$f":"PROPER(TEXT(A4,\"ddd\"))","v":"To"},{"$f":"HelligdagsNavn(A4,0,0)","v":""},"07:00:00","16:00:00","00:30:00",{"$f":"IF(D4=\"\",\"\",(E4-D4)+(D4>E4)-F4)","v":0.35416666666666663},{"$f":"IF(G4=\"\",0,IF(WEEKDAY(A4,2)=7,0,IF(G4>S4,MIN(G4-S4,$AI$1),0)))","v":"01:00:00"},{"$f":"IF(G4=\"\",\"\",IF(G4>S4+H4,G4-(S4+H4),\"\"))","v":""},{"$f":"ColTime(T.!$J$4,T.!$L$4,D4,E4)","v":"00:00:00"},null,{"$f":"ColTime(TIME(T.!$J$5,0,0),TIME(T.!$L$5,0,0),D4,E4)","v":"09:00:00"},null,{"$f":"IF(WEEKDAY(A4,2)=6,ColTime(TIME(14,0,0),TIME(24,0,0),D4,E4),\"\")","v":""},{"$f":"IF(OR(C4<>\"\",WEEKDAY(A4,2)=7),ColTime(TIME(0,0,0),TIME(24,0,0),D4,E4),\"\")","v":""},{"$f":"IFERROR(H4+I4,\"\")","v":""},null,null,{"$f":"CHOOSE(WEEKDAY(A4,2),norm!C$1,norm!C$2,norm!C$3,norm!C$4,norm!C$5,norm!C$6,norm!C$7)","v":"07:30:00"},null,null,{"$f":"IF(D4=\"\",\"\",HOUR(D4))","v":7},{"$f":"IF(D4=\"\",\"\",MINUTE(D4))","v":0},{"$f":"IF(D4=\"\",\"\",TIME(HOUR(D4),MINUTE(D4),0))","v":"07:00:00"},{"$f":"IF(E4=\"\",\"\",HOUR(E4))","v":16},{"$f":"IF(E4=\"\",\"\",MINUTE(E4))","v":0},"02:00:00","09:30:00","11:30:00",null,null,null,{"$f":"MIN(G4-S4,3)","v":4.166666666666663E-2}]
[{"$f":"A4+1","v":"2019-08-02"},{"$f":"PROPER(TEXT(A5,\"ddd\"))","v":"Fr"},{"$f":"HelligdagsNavn(A5,0,0)","v":""},"13:45:00","21:30:00","00:30:00",{"$f":"IF(D5=\"\",\"\",(E5-D5)+(D5>E5)-F5)","v":0.30208333333333343},{"$f":"IF(G5=\"\",0,IF(WEEKDAY(A5,2)=7,0,IF(G5>S5,MIN(G5-S5,$AI$1),0)))","v":"00:15:00"},{"$f":"IF(G5=\"\",\"\",IF(G5>S5+H5,G5-(S5+H5),\"\"))","v":""},{"$f":"ColTime(T.!$J$4,T.!$L$4,D5,E5)","v":"03:30:00"},null,{"$f":"ColTime(TIME(T.!$J$5,0,0),TIME(T.!$L$5,0,0),D5,E5)","v":"07:45:00"},null,"","",{"$f":"IFERROR(H5+I5,\"\")","v":""},null,null,{"$f":"CHOOSE(WEEKDAY(A5,2),norm!C$1,norm!C$2,norm!C$3,norm!C$4,norm!C$5,norm!C$6,norm!C$7)","v":"07:00:00"},null,null,13,45,"13:45:00",21,30,{"$f":"IF(E5=\"\",\"\",TIME(HOUR(E5),MINUTE(E5),0))","v":"21:30:00"},null,null,null,null,null,null,"Der taste kun i de Gule celler"]
[{"$f":"A5+1","v":"2019-08-03"},{"$f":"PROPER(TEXT(A6,\"ddd\"))","v":"Lø"},"","22:00:00","05:45:00","00:30:00",0.30208333333333343,"03:00:00","04:15:00",{"$f":"ColTime(T.!$J$4,T.!$L$4,D6,E6)","v":"01:00:00"},null,{"$f":"ColTime(TIME(T.!$J$5,0,0),TIME(T.!$L$5,0,0),D6,E6)","v":"07:45:00"},null,"02:00:00","",{"$f":"IFERROR(H6+I6,\"\")","v":"07:15:00"},null,null,{"$f":"CHOOSE(WEEKDAY(A6,2),norm!C$1,norm!C$2,norm!C$3,norm!C$4,norm!C$5,norm!C$6,norm!C$7)","v":"00:00:00"},null,null,22,0,"22:00:00",5,45,"05:45:00"]
["2019-08-04","Sø","","05:00:00","16:45:00","00:30:00",0.46874999999999994,"00:00:00","11:15:00",{"$f":"ColTime(T.!$J$4,T.!$L$4,D7,E7)","v":"00:00:00"},null,{"$f":"ColTime(TIME(T.!$J$5,0,0),TIME(T.!$L$5,0,0),D7,E7)","v":"11:45:00"},null,"","11:45:00",{"$f":"IFERROR(H7+I7,\"\")","v":"11:15:00"},null,null,{"$f":"CHOOSE(WEEKDAY(A7,2),norm!C$1,norm!C$2,norm!C$3,norm!C$4,norm!C$5,norm!C$6,norm!C$7)","v":"00:00:00"},null,null,5,0,"05:00:00",16,45,"16:45:00"]
["2019-08-05","Ma","",null,null,null,"","00:00:00","",{"$f":"ColTime(T.!$J$4,T.!$L$4,D8,E8)","v":"00:00:00"},null,{"$f":"ColTime(TIME(T.!$J$5,0,0),TIME(T.!$L$5,0,0),D8,E8)","v":"00:00:00"},null,"","",{"$f":"IFERROR(H8+I8,\"\")","v":""},null,null,{"$f":"CHOOSE(WEEKDAY(A8,2),norm!C$1,norm!C$2,norm!C$3,norm!C$4,norm!C$5,norm!C$6,norm!C$7)","v":"07:30:00"},null,null,"","","","","",""]
["2019-08-06","Ti","","06:00:00","19:00:00","00:30:00",0.52083333333333326,"03:00:00","02:00:00",{"$f":"ColTime(T.!$J$4,T.!$L$4,D9,E9)","v":"01:00:00"},null,{"$f":"ColTime(TIME(T.!$J$5,0,0),TIME(T.!$L$5,0,0),D9,E9)","v":"13:00:00"},null,"",{"$f":"IF(OR(C9<>\"\",WEEKDAY(A9,2)=7),ColTime(TIME(0,0,0),TIME(24,0,0),D9,E9),\"\")","v":""},{"$f":"IFERROR(H9+I9,\"\")","v":"05:00:00"},null,null,{"$f":"CHOOSE(WEEKDAY(A9,2),norm!C$1,norm!C$2,norm!C$3,norm!C$4,norm!C$5,norm!C$6,norm!C$7)","v":"07:30:00"},null,null,6,0,"06:00:00",19,0,"19:00:00"]
["2019-08-07","On","","07:00:00","19:00:00",null,0.49999999999999994,"03:00:00","01:30:00",{"$f":"ColTime(T.!$J$4,T.!$L$4,D10,E10)","v":"01:00:00"},null,{"$f":"ColTime(TIME(T.!$J$5,0,0),TIME(T.!$L$5,0,0),D10,E10)","v":"12:00:00"},null,{"$f":"IF(WEEKDAY(A10,2)=6,ColTime(TIME(14,0,0),TIME(24,0,0),D10,E10),\"\")","v":""},{"$f":"IF(OR(C10<>\"\",WEEKDAY(A10,2)=7),ColTime(TIME(0,0,0),TIME(24,0,0),D10,E10),\"\")","v":""},"04:30:00",null,null,{"$f":"CHOOSE(WEEKDAY(A10,2),norm!C$1,norm!C$2,norm!C$3,norm!C$4,norm!C$5,norm!C$6,norm!C$7)","v":"07:30:00"},null,null,7,0,"07:00:00",19,0,"19:00:00"]
[{"$f":"A10+1","v":"2019-08-08"},{"$f":"PROPER(TEXT(A11,\"ddd\"))","v":"To"},{"$f":"HelligdagsNavn(A11,0,0)","v":""},null,null,null,"","00:00:00","",{"$f":"ColTime(T.!$J$4,T.!$L$4,D11,E11)","v":"00:00:00"},null,{"$f":"ColTime(TIME(T.!$J$5,0,0),TIME(T.!$L$5,0,0),D11,E11)","v":"00:00:00"},null,{"$f":"IF(WEEKDAY(A11,2)=6,ColTime(TIME(15,0,0),TIME(24,0,0),D11,E11),\"\")","v":""},"","",null,null,{"$f":"CHOOSE(WEEKDAY(A11,2),norm!C$1,norm!C$2,norm!C$3,norm!C$4,norm!C$5,norm!C$6,norm!C$7)","v":"07:30:00"},null,null,"","","","","",""]
[{"$f":"A11+1","v":"2019-08-09"},{"$f":"PROPER(TEXT(A12,\"ddd\"))","v":"Fr"},{"$f":"HelligdagsNavn(A12,0,0)","v":""},null,null,null,"","00:00:00","",{"$f":"ColTime(T.!$J$4,T.!$L$4,D12,E12)","v":"00:00:00"},null,{"$f":"ColTime(TIME(T.!$J$5,0,0),TIME(T.!$L$5,0,0),D12,E12)","v":"00:00:00"},null,"","","",null,null,{"$f":"CHOOSE(WEEKDAY(A12,2),norm!C$1,norm!C$2,norm!C$3,norm!C$4,norm!C$5,norm!C$6,norm!C$7)","v":"07:00:00"},null,null,"","","","","",""]
[{"$f":"A12+1","v":"2019-08-10"},{"$f":"PROPER(TEXT(A13,\"ddd\"))","v":"Lø"},"",null,null,null,"","00:00:00","",{"$f":"ColTime(T.!$J$4,T.!$L$4,D13,E13)","v":"00:00:00"},null,{"$f":"ColTime(TIME(T.!$J$5,0,0),TIME(T.!$L$5,0,0),D13,E13)","v":"00:00:00"},null,"00:00:00","","",null,null,{"$f":"CHOOSE(WEEKDAY(A13,2),norm!C$1,norm!C$2,norm!C$3,norm!C$4,norm!C$5,norm!C$6,norm!C$7)","v":"00:00:00"},null,null,"","","","","",""]
["2019-08-11","Sø","",null,null,null,"","00:00:00","",{"$f":"ColTime(T.!$J$4,T.!$L$4,D14,E14)","v":"00:00:00"},null,{"$f":"ColTime(TIME(T.!$J$5,0,0),TIME(T.!$L$5,0,0),D14,E14)","v":"00:00:00"},null,"","00:00:00","",null,null,{"$f":"CHOOSE(WEEKDAY(A14,2),norm!C$1,norm!C$2,norm!C$3,norm!C$4,norm!C$5,norm!C$6,norm!C$7)","v":"00:00:00"},null,null,"","","","","",""]
["2019-08-12","Ma","",null,null,null,"","00:00:00","",{"$f":"ColTime(T.!$J$4,T.!$L$4,D15,E15)","v":"00:00:00"},null,{"$f":"ColTime(TIME(T.!$J$5,0,0),TIME(T.!$L$5,0,0),D15,E15)","v":"00:00:00"},null,"","","",null,null,{"$f":"CHOOSE(WEEKDAY(A15,2),norm!C$1,norm!C$2,norm!C$3,norm!C$4,norm!C$5,norm!C$6,norm!C$7)","v":"07:30:00"},null,null,"","","",null,"",""]
["2019-08-13","Ti","",null,null,null,"","00:00:00","",{"$f":"ColTime(T.!$J$4,T.!$L$4,D16,E16)","v":"00:00:00"},null,{"$f":"ColTime(TIME(T.!$J$5,0,0),TIME(T.!$L$5,0,0),D16,E16)","v":"00:00:00"},null,"","","",null,null,{"$f":"CHOOSE(WEEKDAY(A16,2),norm!C$1,norm!C$2,norm!C$3,norm!C$4,norm!C$5,norm!C$6,norm!C$7)","v":"07:30:00"},null,null,"","","","","",""]
["2019-08-14","On","",null,null,null,"","00:00:00","",{"$f":"ColTime(T.!$J$4,T.!$L$4,D17,E17)","v":"00:00:00"},null,{"$f":"ColTime(TIME(T.!$J$5,0,0),TIME(T.!$L$5,0,0),D17,E17)","v":"00:00:00"},null,"","","",null,null,{"$f":"CHOOSE(WEEKDAY(A17,2),norm!C$1,norm!C$2,norm!C$3,norm!C$4,norm!C$5,norm!C$6,norm!C$7)","v":"07:30:00"},null,null,"","","","","",""]
[{"$f":"A17+1","v":"2019-08-15"},{"$f":"PROPER(TEXT(A18,\"ddd\"))","v":"To"},{"$f":"HelligdagsNavn(A18,0,0)","v":""},null,null,null,"","00:00:00","",{"$f":"ColTime(T.!$J$4,T.!$L$4,D18,E18)","v":"00:00:00"},null,{"$f":"ColTime(TIME(T.!$J$5,0,0),TIME(T.!$L$5,0,0),D18,E18)","v":"00:00:00"},null,"","","",null,null,{"$f":"CHOOSE(WEEKDAY(A18,2),norm!C$1,norm!C$2,norm!C$3,norm!C$4,norm!C$5,norm!C$6,norm!C$7)","v":"07:30:00"},null,null,"","","","","",""]
[{"$f":"A18+1","v":"2019-08-16"},{"$f":"PROPER(TEXT(A19,\"ddd\"))","v":"Fr"},{"$f":"HelligdagsNavn(A19,0,0)","v":""},null,null,null,"","00:00:00","",{"$f":"ColTime(T.!$J$4,T.!$L$4,D19,E19)","v":"00:00:00"},null,{"$f":"ColTime(TIME(T.!$J$5,0,0),TIME(T.!$L$5,0,0),D19,E19)","v":"00:00:00"},null,"","","",null,null,{"$f":"CHOOSE(WEEKDAY(A19,2),norm!C$1,norm!C$2,norm!C$3,norm!C$4,norm!C$5,norm!C$6,norm!C$7)","v":"07:00:00"},null,null,"","","","","",""]
[{"$f":"A19+1","v":"2019-08-17"},{"$f":"PROPER(TEXT(A20,\"ddd\"))","v":"Lø"},"",null,null,null,"","00:00:00","",{"$f":"ColTime(T.!$J$4,T.!$L$4,D20,E20)","v":"00:00:00"},null,{"$f":"ColTime(TIME(T.!$J$5,0,0),TIME(T.!$L$5,0,0),D20,E20)","v":"00:00:00"},null,"00:00:00","","",null,null,{"$f":"CHOOSE(WEEKDAY(A20,2),norm!C$1,norm!C$2,norm!C$3,norm!C$4,norm!C$5,norm!C$6,norm!C$7)","v":"00:00:00"},null,null,"","","","","",""]
["2019-08-18","Sø","",null,null,null,"","00:00:00","",{"$f":"ColTime(T.!$J$4,T.!$L$4,D21,E21)","v":"00:00:00"},null,{"$f":"ColTime(TIME(T.!$J$5,0,0),TIME(T.!$L$5,0,0),D21,E21)","v":"00:00:00"},null,"","00:00:00","",null,null,{"$f":"CHOOSE(WEEKDAY(A21,2),norm!C$1,norm!C$2,norm!C$3,norm!C$4,norm!C$5,norm!C$6,norm!C$7)","v":"00:00:00"},null,null,"","","","","",""]
["2019-08-19","Ma","",null,null,null,"","00:00:00","",{"$f":"ColTime(T.!$J$4,T.!$L$4,D22,E22)","v":"00:00:00"},null,{"$f":"ColTime(TIME(T.!$J$5,0,0),TIME(T.!$L$5,0,0),D22,E22)","v":"00:00:00"},null,"","","",null,null,{"$f":"CHOOSE(WEEKDAY(A22,2),norm!C$1,norm!C$2,norm!C$3,norm!C$4,norm!C$5,norm!C$6,norm!C$7)","v":"07:30:00"},null,null,"","","","","",""]
["2019-08-20","Ti","",null,null,null,"","00:00:00","",{"$f":"ColTime(T.!$J$4,T.!$L$4,D23,E23)","v":"00:00:00"},null,{"$f":"ColTime(TIME(T.!$J$5,0,0),TIME(T.!$L$5,0,0),D23,E23)","v":"00:00:00"},null,"","","",null,null,{"$f":"CHOOSE(WEEKDAY(A23,2),norm!C$1,norm!C$2,norm!C$3,norm!C$4,norm!C$5,norm!C$6,norm!C$7)","v":"07:30:00"},null,null,"","","","","",""]
["2019-08-21","On","",null,null,null,"","00:00:00","",{"$f":"ColTime(T.!$J$4,T.!$L$4,D24,E24)","v":"00:00:00"},null,{"$f":"ColTime(TIME(T.!$J$5,0,0),TIME(T.!$L$5,0,0),D24,E24)","v":"00:00:00"},null,"","","",null,null,{"$f":"CHOOSE(WEEKDAY(A24,2),norm!C$1,norm!C$2,norm!C$3,norm!C$4,norm!C$5,norm!C$6,norm!C$7)","v":"07:30:00"},null,null,"","","","","",""]
[{"$f":"A24+1","v":"2019-08-22"},{"$f":"PROPER(TEXT(A25,\"ddd\"))","v":"To"},{"$f":"HelligdagsNavn(A25,0,0)","v":""},null,null,null,"","00:00:00","",{"$f":"ColTime(T.!$J$4,T.!$L$4,D25,E25)","v":"00:00:00"},null,{"$f":"ColTime(TIME(T.!$J$5,0,0),TIME(T.!$L$5,0,0),D25,E25)","v":"00:00:00"},null,"","","",null,null,{"$f":"CHOOSE(WEEKDAY(A25,2),norm!C$1,norm!C$2,norm!C$3,norm!C$4,norm!C$5,norm!C$6,norm!C$7)","v":"07:30:00"},null,null,"","","","","",""]
[{"$f":"A25+1","v":"2019-08-23"},{"$f":"PROPER(TEXT(A26,\"ddd\"))","v":"Fr"},{"$f":"HelligdagsNavn(A26,0,0)","v":""},null,null,null,"","00:00:00","",{"$f":"ColTime(T.!$J$4,T.!$L$4,D26,E26)","v":"00:00:00"},null,{"$f":"ColTime(TIME(T.!$J$5,0,0),TIME(T.!$L$5,0,0),D26,E26)","v":"00:00:00"},null,"","","",null,null,{"$f":"CHOOSE(WEEKDAY(A26,2),norm!C$1,norm!C$2,norm!C$3,norm!C$4,norm!C$5,norm!C$6,norm!C$7)","v":"07:00:00"},null,null,"","","","","",""]
[{"$f":"A26+1","v":"2019-08-24"},{"$f":"PROPER(TEXT(A27,\"ddd\"))","v":"Lø"},"",null,null,null,"","00:00:00","",{"$f":"ColTime(T.!$J$4,T.!$L$4,D27,E27)","v":"00:00:00"},null,{"$f":"ColTime(TIME(T.!$J$5,0,0),TIME(T.!$L$5,0,0),D27,E27)","v":"00:00:00"},null,"00:00:00","","",null,null,{"$f":"CHOOSE(WEEKDAY(A27,2),norm!C$1,norm!C$2,norm!C$3,norm!C$4,norm!C$5,norm!C$6,norm!C$7)","v":"00:00:00"},null,null,"","","","","",""]
["2019-08-25","Sø","",null,null,null,"","00:00:00","",{"$f":"ColTime(T.!$J$4,T.!$L$4,D28,E28)","v":"00:00:00"},null,{"$f":"ColTime(TIME(T.!$J$5,0,0),TIME(T.!$L$5,0,0),D28,E28)","v":"00:00:00"},null,"","00:00:00","",null,null,{"$f":"CHOOSE(WEEKDAY(A28,2),norm!C$1,norm!C$2,norm!C$3,norm!C$4,norm!C$5,norm!C$6,norm!C$7)","v":"00:00:00"},null,null,"","","","","",""]
["2019-08-26","Ma","",null,null,null,"","00:00:00","",{"$f":"ColTime(T.!$J$4,T.!$L$4,D29,E29)","v":"00:00:00"},null,{"$f":"ColTime(TIME(T.!$J$5,0,0),TIME(T.!$L$5,0,0),D29,E29)","v":"00:00:00"},null,"","","",null,null,{"$f":"CHOOSE(WEEKDAY(A29,2),norm!C$1,norm!C$2,norm!C$3,norm!C$4,norm!C$5,norm!C$6,norm!C$7)","v":"07:30:00"}]
["2019-08-27","Ti","",null,null,null,"","00:00:00","",{"$f":"ColTime(T.!$J$4,T.!$L$4,D30,E30)","v":"00:00:00"},null,{"$f":"ColTime(TIME(T.!$J$5,0,0),TIME(T.!$L$5,0,0),D30,E30)","v":"00:00:00"},null,"","","",null,null,{"$f":"CHOOSE(WEEKDAY(A30,2),norm!C$1,norm!C$2,norm!C$3,norm!C$4,norm!C$5,norm!C$6,norm!C$7)","v":"07:30:00"}]
["2019-08-28","On","",null,null,null,"","00:00:00","",{"$f":"ColTime(T.!$J$4,T.!$L$4,D31,E31)","v":"00:00:00"},null,{"$f":"ColTime(TIME(T.!$J$5,0,0),TIME(T.!$L$5,0,0),D31,E31)","v":"00:00:00"},null,"","","",null,null,{"$f":"CHOOSE(WEEKDAY(A31,2),norm!C$1,norm!C$2,norm!C$3,norm!C$4,norm!C$5,norm!C$6,norm!C$7)","v":"07:30:00"}]
[{"$f":"IF(MONTH(A31+1)>MONTH(A31),\"\",A31+1)","v":"2019-08-29"},"To",{"$f":"IF(A32=\"\",\"\",HelligdagsNavn(A32,0,0))","v":""},null,null,null,"","00:00:00","",{"$f":"ColTime(T.!$J$4,T.!$L$4,D32,E32)","v":"00:00:00"},null,{"$f":"ColTime(TIME(T.!$J$5,0,0),TIME(T.!$L$5,0,0),D32,E32)","v":"00:00:00"},null,{"$f":"IFERROR(IF(WEEKDAY(A32,2)=6,ColTime(TIME(15,0,0),TIME(24,0,0),D32,E32),\"\"),\"\")","v":""},{"$f":"IFERROR(IF(OR(C32<>\"\",WEEKDAY(A32,2)=7),ColTime(TIME(0,0,0),TIME(24,0,0),D32,E32),\"\"),\"\")","v":""},"",null,null,{"$f":"IFERROR(CHOOSE(WEEKDAY(A32,2),norm!C$1,norm!C$2,norm!C$3,norm!C$4,norm!C$5,norm!C$6,norm!C$7),\"\")","v":"07:30:00"}]
[{"$f":"IFERROR(IF(MONTH(A32+1)>MONTH(A32),\"\",A32+1),\"\")","v":"2019-08-30"},"Fr","",null,null,null,"","00:00:00","",{"$f":"ColTime(T.!$J$4,T.!$L$4,D33,E33)","v":"00:00:00"},null,{"$f":"ColTime(TIME(T.!$J$5,0,0),TIME(T.!$L$5,0,0),D33,E33)","v":"00:00:00"},null,{"$f":"IFERROR(IF(WEEKDAY(A33,2)=6,ColTime(TIME(15,0,0),TIME(24,0,0),D33,E33),\"\"),\"\")","v":""},{"$f":"IFERROR(IF(OR(C33<>\"\",WEEKDAY(A33,2)=7),ColTime(TIME(0,0,0),TIME(24,0,0),D33,E33),\"\"),\"\")","v":""},"",null,null,{"$f":"IFERROR(CHOOSE(WEEKDAY(A33,2),norm!C$1,norm!C$2,norm!C$3,norm!C$4,norm!C$5,norm!C$6,norm!C$7),\"\")","v":"07:00:00"}]
[{"$f":"IFERROR(IF(MONTH(A33+1)>MONTH(A33),\"\",A33+1),\"\")","v":"2019-08-31"},{"$f":"IFERROR(PROPER(TEXT(A34,\"ddd\")),\"\")","v":"Lø"},{"$f":"IF(A34=\"\",\"\",HelligdagsNavn(A34,0,0))","v":""},null,null,null,"","00:00:00","",{"$f":"ColTime(T.!$J$4,T.!$L$4,D34,E34)","v":"00:00:00"},null,{"$f":"ColTime(TIME(T.!$J$5,0,0),TIME(T.!$L$5,0,0),D34,E34)","v":"00:00:00"},null,{"$f":"IFERROR(IF(WEEKDAY(A34,2)=6,ColTime(TIME(15,0,0),TIME(24,0,0),D34,E34),\"\"),\"\")","v":"00:00:00"},"","",null,null,{"$f":"IFERROR(CHOOSE(WEEKDAY(A34,2),norm!C$1,norm!C$2,norm!C$3,norm!C$4,norm!C$5,norm!C$6,norm!C$7),\"\")","v":"00:00:00"},null,null,{"$f":"IF(D34=\"\",\"\",HOUR(D34))","v":""},{"$f":"IF(D34=\"\",\"\",MINUTE(D34))","v":""},{"$f":"IF(D34=\"\",\"\",TIME(HOUR(D34),MINUTE(D34),0))","v":""},{"$f":"IF(E34=\"\",\"\",HOUR(E34))","v":""},{"$f":"IF(E34=\"\",\"\",MINUTE(E34))","v":""},{"$f":"IF(E34=\"\",\"\",TIME(HOUR(E34),MINUTE(E34),0))","v":""}]
["Total timer",null,null,null,null,null,{"$f":"IF(SUM(G9:G34)<>\"0\",SUM(G4:G34),\"\")","v":2.4479166666666665},{"$f":"IF(SUM(H4:H34)<>\"0\",SUM(H4:H34),\"\")","v":0.42708333333333337},{"$f":"IF(SUM(I4:I34)<>\"0\",SUM(I4:I34),\"\")","v":0.79166666666666652},{"$f":"IF(SUM(J4:J34)<>\"0\",SUM(J4:J34),\"\")","v":0.27083333333333337},null,{"$f":"SUM(L4:M34)","v":2.5520833333333335},null,{"$f":"IF(SUM(N4:N34)<>\"0\",SUM(N4:N34),\"\")","v":8.333333333333337E-2},{"$f":"IF(SUM(O4:O34)<>\"0\",SUM(O4:O34),\"\")","v":"11:45:00"},{"$f":"SUM(P4:P34)","v":1.1666666666666665},{"$f":"SUM(Q4:Q34)","v":0}]
["Timer 1/100",null,null,null,null,null,{"$f":"IF(G35<>\"\",ROUND(G35*24,2),\"\")","v":58.75},{"$f":"IF(H35<>\"\",ROUND(H35*24,2),\"\")","v":10.25},19,{"$f":"IF(J35<>\"\",ROUND(J35*24,2),\"\")","v":6.5},null,{"$f":"IF(L35<>\"\",ROUND(L35*24,2),\"\")","v":61.25},null,{"$f":"IF(N35<>\"\",ROUND(N35*24,2),\"\")","v":2},11.75,28,0]
["Satser",null,null,null,null,null,{"$f":"Satser!B7","v":107.35},{"$f":"Satser!B9","v":36.35},{"$f":"Satser!B12","v":58.1},{"$f":"Satser!B17","v":13.91},null,{"$f":"Satser!B18","v":23.19},null,{"$f":"Satser!B19","v":24.89},{"$f":"Satser!B20","v":27.63}]
[null,null,null,null,null,null,{"$f":"IF(G35<>\"\",G36*G37,\"\")","v":6306.8125},{"$f":"IF(H35<>\"\",H36*H37,\"\")","v":372.58750000000003},1103.9000000000001,{"$f":"IF(J35<>\"\",J36*J37,\"\")","v":90.415000000000006},null,{"$f":"IF(L35<>\"\",L36*L36,\"\")","v":3751.5625},null,{"$f":"IF(N35<>\"\",N36*N37,\"\")","v":49.78},324.65249999999997]
[]
["Lønart"]
[3025,null,null,null,null,null,{"$f":"G35","v":2.4479166666666665}]
[3425,null,null,null,null,null,{"$f":"H35","v":0.42708333333333337}]
[3428,null,null,null,null,null,{"$f":"I35","v":0.79166666666666652}]
["Timer",null,null,null,null,null,{"$f":"SUM(G41:G43)","v":3.6666666666666665},{"$f":"IF(G44<>\"\",ROUND(G44*24,2),\"\")","v":88}]
[null,null,null,null,null,null,null,{"$f":"G37*H44","v":9446.7999999999993}]

{"sheet":"September","index":14,"n_rows":45,"n_cols":35,"rows_kept":45,"cut":false,"hidden":true,"merged":[[39,0,39,2],[40,0,40,2],[41,0,41,2],[42,0,42,2],[43,0,43,5],[35,9,35,10],[35,11,35,12],[36,9,36,10],[36,11,36,12],[37,9,37,10],[37,11,37,12],[32,9,32,10],[32,11,32,12],[33,9,33,10],[33,11,33,12],[34,9,34,10],[34,11,34,12],[29,9,29,10],[29,11,29,12],[30,9,30,10],[30,11,30,12],[31,9,31,10],[31,11,31,12],[26,9,26,10],[26,11,26,12],[27,9,27,10],[27,11,27,12],[28,9,28,10],[28,11,28,12],[23,9,23,10],[23,11,23,12],[24,9,24,10],[24,11,24,12],[25,9,25,10],[25,11,25,12],[20,9,20,10],[20,11,20,12],[21,9,21,10],[21,11,21,12],[22,9,22,10],[22,11,22,12],[17,9,17,10],[17,11,17,12],[18,9,18,10],[18,11,18,12],[19,9,19,10],[19,11,19,12],[14,9,14,10],[14,11,14,12],[15,9,15,10],[15,11,15,12],[16,9,16,10],[16,11,16,12],[11,9,11,10],[11,11,11,12],[12,9,12,10],[12,11,12,12],[13,9,13,10],[13,11,13,12],[8,9,8,10],[8,11,8,12],[9,9,9,10],[9,11,9,12],[10,9,10,10],[10,11,10,12],[5,9,5,10],[5,11,5,12],[6,9,6,10],[6,11,6,12],[7,9,7,10],[7,11,7,12],[4,9,4,10],[4,11,4,12],[0,1,0,7],[0,10,0,11],[0,13,0,14],[1,1,1,2],[1,9,1,10],[1,11,1,12],[2,1,2,2],[2,9,2,10],[2,11,2,12],[3,9,3,10],[3,11,3,12]]}
["Løn","2019-01-01",null,null,null,null,null,null,"Uge :",{"$f":"IF(A4=\"\",\"\",TRUNC((A4-WEEKDAY(A4,2)-DATE(YEAR(A4+4-WEEKDAY(A4,2)),1,-10))/7))","v":35},"-",null,{"$f":"IF(A25=\"\",\"\",TRUNC((A25-WEEKDAY(A25,2)-DATE(YEAR(A25+4-WEEKDAY(A25,2)),1,-10))/7))","v":38},{"$f":"EOMONTH(A4,0)","v":"2019-09-30"},null,9,null,null,null,null,null,"Time beregning:",null,null,null,null,null,null,null,null,null,null,"06:00:00","18:00:00","03:00:00"]
["Lønart",null,null,null,null,null,null,null,null,null,null,null,null,null,null,null,null,null,null,null,null,"Betalt pause ved vagt over 5 timer",null,null,null,"00:25:00","minutter","00:00:00","06:00:00","17:00:00","14:00:00"]
["Dato","Dag",null,"Start","Slut","Pause","Arb. Tid","Overtid           1-3 time","Overtid            4 - time","Forskudt tid alle dage\n18-23",null,"Natarbejde 23-06",null,"Lørdag tillæg 14 - 24","Søndag tillæg 00 - 24","Optjent afspadsering","Afholdt afspadsering","Syge Timer","norm"]
[{"$f":"DATE(T.!$B$2,$P$1,1)","v":"2019-09-01"},{"$f":"PROPER(TEXT(A4,\"ddd\"))","v":"Sø"},{"$f":"HelligdagsNavn(A4,0,0)","v":""},"07:00:00","16:00:00","00:30:00",{"$f":"IF(D4=\"\",\"\",(E4-D4)+(D4>E4)-F4)","v":0.35416666666666663},{"$f":"IF(G4=\"\",0,IF(WEEKDAY(A4,2)=7,0,IF(G4>S4,MIN(G4-S4,$AI$1),0)))","v":"00:00:00"},{"$f":"IF(G4=\"\",\"\",IF(G4>S4+H4,G4-(S4+H4),\"\"))","v":"08:30:00"},{"$f":"ColTime(T.!$J$4,T.!$L$4,D4,E4)","v":"00:00:00"},null,{"$f":"ColTime(TIME(T.!$J$5,0,0),TIME(T.!$L$5,0,0),D4,E4)","v":"09:00:00"},null,{"$f":"IF(WEEKDAY(A4,2)=6,ColTime(TIME(14,0,0),TIME(24,0,0),D4,E4),\"\")","v":""},{"$f":"IF(OR(C4<>\"\",WEEKDAY(A4,2)=7),ColTime(TIME(0,0,0),TIME(24,0,0),D4,E4),\"\")","v":"09:00:00"},{"$f":"IFERROR(H4+I4,\"\")","v":"08:30:00"},null,null,{"$f":"CHOOSE(WEEKDAY(A4,2),norm!C$1,norm!C$2,norm!C$3,norm!C$4,norm!C$5,norm!C$6,norm!C$7)","v":"00:00:00"},null,null,{"$f":"IF(D4=\"\",\"\",HOUR(D4))","v":7},{"$f":"IF(D4=\"\",\"\",MINUTE(D4))","v":0},{"$f":"IF(D4=\"\",\"\",TIME(HOUR(D4),MINUTE(D4),0))","v":"07:00:00"},{"$f":"IF(E4=\"\",\"\",HOUR(E4))","v":16},{"$f":"IF(E4=\"\",\"\",MINUTE(E4))","v":0},"02:00:00","09:30:00","11:30:00",null,null,null,{"$f":"MIN(G4-S4,3)","v":0.35416666666666663}]
[{"$f":"A4+1","v":"2019-09-02"},{"$f":"PROPER(TEXT(A5,\"ddd\"))","v":"Ma"},{"$f":"HelligdagsNavn(A5,0,0)","v":""},"13:45:00","21:30:00","00:30:00",{"$f":"IF(D5=\"\",\"\",(E5-D5)+(D5>E5)-F5)","v":0.30208333333333343},{"$f":"IF(G5=\"\",0,IF(WEEKDAY(A5,2)=7,0,IF(G5>S5,MIN(G5-S5,$AI$1),0)))","v":"00:00:00"},{"$f":"IF(G5=\"\",\"\",IF(G5>S5+H5,G5-(S5+H5),\"\"))","v":""},{"$f":"ColTime(T.!$J$4,T.!$L$4,D5,E5)","v":"03:30:00"},null,{"$f":"ColTime(TIME(T.!$J$5,0,0),TIME(T.!$L$5,0,0),D5,E5)","v":"07:45:00"},null,"","",{"$f":"IFERROR(H5+I5,\"\")","v":""},null,null,{"$f":"CHOOSE(WEEKDAY(A5,2),norm!C$1,norm!C$2,norm!C$3,norm!C$4,norm!C$5,norm!C$6,norm!C$7)","v":"07:30:00"},null,null,13,45,"13:45:00",21,30,{"$f":"IF(E5=\"\",\"\",TIME(HOUR(E5),MINUTE(E5),0))","v":"21:30:00"},null,null,null,null,null,null,"Der taste kun i de Gule celler"]
[{"$f":"A5+1","v":"2019-09-03"},{"$f":"PROPER(TEXT(A6,\"ddd\"))","v":"Ti"},"","22:00:00","05:45:00","00:30:00",0.30208333333333343,"00:00:00","",{"$f":"ColTime(T.!$J$4,T.!$L$4,D6,E6)","v":"01:00:00"},null,{"$f":"ColTime(TIME(T.!$J$5,0,0),TIME(T.!$L$5,0,0),D6,E6)","v":"07:45:00"},null,"","",{"$f":"IFERROR(H6+I6,\"\")","v":""},null,null,{"$f":"CHOOSE(WEEKDAY(A6,2),norm!C$1,norm!C$2,norm!C$3,norm!C$4,norm!C$5,norm!C$6,norm!C$7)","v":"07:30:00"},null,null,22,0,"22:00:00",5,45,"05:45:00"]
["2019-09-04","On","","05:00:00","16:45:00","00:30:00",0.46874999999999994,"03:00:00","00:45:00",{"$f":"ColTime(T.!$J$4,T.!$L$4,D7,E7)","v":"00:00:00"},null,{"$f":"ColTime(TIME(T.!$J$5,0,0),TIME(T.!$L$5,0,0),D7,E7)","v":"11:45:00"},null,"","",{"$f":"IFERROR(H7+I7,\"\")","v":"03:45:00"},null,null,{"$f":"CHOOSE(WEEKDAY(A7,2),norm!C$1,norm!C$2,norm!C$3,norm!C$4,norm!C$5,norm!C$6,norm!C$7)","v":"07:30:00"},null,null,5,0,"05:00:00",16,45,"16:45:00"]
["2019-09-05","To","",null,null,null,"","00:00:00","",{"$f":"ColTime(T.!$J$4,T.!$L$4,D8,E8)","v":"00:00:00"},null,{"$f":"ColTime(TIME(T.!$J$5,0,0),TIME(T.!$L$5,0,0),D8,E8)","v":"00:00:00"},null,"","",{"$f":"IFERROR(H8+I8,\"\")","v":""},null,null,{"$f":"CHOOSE(WEEKDAY(A8,2),norm!C$1,norm!C$2,norm!C$3,norm!C$4,norm!C$5,norm!C$6,norm!C$7)","v":"07:30:00"},null,null,"","","","","",""]
["2019-09-06","Fr","","06:00:00","19:00:00","00:30:00",0.52083333333333326,"03:00:00","02:30:00",{"$f":"ColTime(T.!$J$4,T.!$L$4,D9,E9)","v":"01:00:00"},null,{"$f":"ColTime(TIME(T.!$J$5,0,0),TIME(T.!$L$5,0,0),D9,E9)","v":"13:00:00"},null,"",{"$f":"IF(OR(C9<>\"\",WEEKDAY(A9,2)=7),ColTime(TIME(0,0,0),TIME(24,0,0),D9,E9),\"\")","v":""},{"$f":"IFERROR(H9+I9,\"\")","v":"05:30:00"},null,null,{"$f":"CHOOSE(WEEKDAY(A9,2),norm!C$1,norm!C$2,norm!C$3,norm!C$4,norm!C$5,norm!C$6,norm!C$7)","v":"07:00:00"},null,null,6,0,"06:00:00",19,0,"19:00:00"]
["2019-09-07","Lø","","07:00:00","19:00:00",null,0.49999999999999994,"03:00:00","09:00:00",{"$f":"ColTime(T.!$J$4,T.!$L$4,D10,E10)","v":"01:00:00"},null,{"$f":"ColTime(TIME(T.!$J$5,0,0),TIME(T.!$L$5,0,0),D10,E10)","v":"12:00:00"},null,{"$f":"IF(WEEKDAY(A10,2)=6,ColTime(TIME(14,0,0),TIME(24,0,0),D10,E10),\"\")","v":"05:00:00"},{"$f":"IF(OR(C10<>\"\",WEEKDAY(A10,2)=7),ColTime(TIME(0,0,0),TIME(24,0,0),D10,E10),\"\")","v":""},"12:00:00",null,null,{"$f":"CHOOSE(WEEKDAY(A10,2),norm!C$1,norm!C$2,norm!C$3,norm!C$4,norm!C$5,norm!C$6,norm!C$7)","v":"00:00:00"},null,null,7,0,"07:00:00",19,0,"19:00:00"]
[{"$f":"A10+1","v":"2019-09-08"},{"$f":"PROPER(TEXT(A11,\"ddd\"))","v":"Sø"},{"$f":"HelligdagsNavn(A11,0,0)","v":""},null,null,null,"","00:00:00","",{"$f":"ColTime(T.!$J$4,T.!$L$4,D11,E11)","v":"00:00:00"},null,{"$f":"ColTime(TIME(T.!$J$5,0,0),TIME(T.!$L$5,0,0),D11,E11)","v":"00:00:00"},null,{"$f":"IF(WEEKDAY(A11,2)=6,ColTime(TIME(15,0,0),TIME(24,0,0),D11,E11),\"\")","v":""},"00:00:00","",null,null,{"$f":"CHOOSE(WEEKDAY(A11,2),norm!C$1,norm!C$2,norm!C$3,norm!C$4,norm!C$5,norm!C$6,norm!C$7)","v":"00:00:00"},null,null,"","","","","",""]
[{"$f":"A11+1","v":"2019-09-09"},{"$f":"PROPER(TEXT(A12,\"ddd\"))","v":"Ma"},{"$f":"HelligdagsNavn(A12,0,0)","v":""},null,null,null,"","00:00:00","",{"$f":"ColTime(T.!$J$4,T.!$L$4,D12,E12)","v":"00:00:00"},null,{"$f":"ColTime(TIME(T.!$J$5,0,0),TIME(T.!$L$5,0,0),D12,E12)","v":"00:00:00"},null,"","","",null,null,{"$f":"CHOOSE(WEEKDAY(A12,2),norm!C$1,norm!C$2,norm!C$3,norm!C$4,norm!C$5,norm!C$6,norm!C$7)","v":"07:30:00"},null,null,"","","","","",""]
[{"$f":"A12+1","v":"2019-09-10"},{"$f":"PROPER(TEXT(A13,\"ddd\"))","v":"Ti"},"",null,null,null,"","00:00:00","",{"$f":"ColTime(T.!$J$4,T.!$L$4,D13,E13)","v":"00:00:00"},null,{"$f":"ColTime(TIME(T.!$J$5,0,0),TIME(T.!$L$5,0,0),D13,E13)","v":"00:00:00"},null,"","","",null,null,{"$f":"CHOOSE(WEEKDAY(A13,2),norm!C$1,norm!C$2,norm!C$3,norm!C$4,norm!C$5,norm!C$6,norm!C$7)","v":"07:30:00"},null,null,"","","","","",""]
["2019-09-11","On","",null,null,null,"","00:00:00","",{"$f":"ColTime(T.!$J$4,T.!$L$4,D14,E14)","v":"00:00:00"},null,{"$f":"ColTime(TIME(T.!$J$5,0,0),TIME(T.!$L$5,0,0),D14,E14)","v":"00:00:00"},null,"","","",null,null,{"$f":"CHOOSE(WEEKDAY(A14,2),norm!C$1,norm!C$2,norm!C$3,norm!C$4,norm!C$5,norm!C$6,norm!C$7)","v":"07:30:00"},null,null,"","","","","",""]
["2019-09-12","To","",null,null,null,"","00:00:00","",{"$f":"ColTime(T.!$J$4,T.!$L$4,D15,E15)","v":"00:00:00"},null,{"$f":"ColTime(TIME(T.!$J$5,0,0),TIME(T.!$L$5,0,0),D15,E15)","v":"00:00:00"},null,"","","",null,null,{"$f":"CHOOSE(WEEKDAY(A15,2),norm!C$1,norm!C$2,norm!C$3,norm!C$4,norm!C$5,norm!C$6,norm!C$7)","v":"07:30:00"},null,null,"","","",null,"",""]
["2019-09-13","Fr","",null,null,null,"","00:00:00","",{"$f":"ColTime(T.!$J$4,T.!$L$4,D16,E16)","v":"00:00:00"},null,{"$f":"ColTime(TIME(T.!$J$5,0,0),TIME(T.!$L$5,0,0),D16,E16)","v":"00:00:00"},null,"","","",null,null,{"$f":"CHOOSE(WEEKDAY(A16,2),norm!C$1,norm!C$2,norm!C$3,norm!C$4,norm!C$5,norm!C$6,norm!C$7)","v":"07:00:00"},null,null,"","","","","",""]
["2019-09-14","Lø","",null,null,null,"","00:00:00","",{"$f":"ColTime(T.!$J$4,T.!$L$4,D17,E17)","v":"00:00:00"},null,{"$f":"ColTime(TIME(T.!$J$5,0,0),TIME(T.!$L$5,0,0),D17,E17)","v":"00:00:00"},null,"00:00:00","","",null,null,{"$f":"CHOOSE(WEEKDAY(A17,2),norm!C$1,norm!C$2,norm!C$3,norm!C$4,norm!C$5,norm!C$6,norm!C$7)","v":"00:00:00"},null,null,"","","","","",""]
[{"$f":"A17+1","v":"2019-09-15"},{"$f":"PROPER(TEXT(A18,\"ddd\"))","v":"Sø"},{"$f":"HelligdagsNavn(A18,0,0)","v":""},null,null,null,"","00:00:00","",{"$f":"ColTime(T.!$J$4,T.!$L$4,D18,E18)","v":"00:00:00"},null,{"$f":"ColTime(TIME(T.!$J$5,0,0),TIME(T.!$L$5,0,0),D18,E18)","v":"00:00:00"},null,"","00:00:00","",null,null,{"$f":"CHOOSE(WEEKDAY(A18,2),norm!C$1,norm!C$2,norm!C$3,norm!C$4,norm!C$5,norm!C$6,norm!C$7)","v":"00:00:00"},null,null,"","","","","",""]
[{"$f":"A18+1","v":"2019-09-16"},{"$f":"PROPER(TEXT(A19,\"ddd\"))","v":"Ma"},{"$f":"HelligdagsNavn(A19,0,0)","v":""},null,null,null,"","00:00:00","",{"$f":"ColTime(T.!$J$4,T.!$L$4,D19,E19)","v":"00:00:00"},null,{"$f":"ColTime(TIME(T.!$J$5,0,0),TIME(T.!$L$5,0,0),D19,E19)","v":"00:00:00"},null,"","","",null,null,{"$f":"CHOOSE(WEEKDAY(A19,2),norm!C$1,norm!C$2,norm!C$3,norm!C$4,norm!C$5,norm!C$6,norm!C$7)","v":"07:30:00"},null,null,"","","","","",""]
[{"$f":"A19+1","v":"2019-09-17"},{"$f":"PROPER(TEXT(A20,\"ddd\"))","v":"Ti"},"",null,null,null,"","00:00:00","",{"$f":"ColTime(T.!$J$4,T.!$L$4,D20,E20)","v":"00:00:00"},null,{"$f":"ColTime(TIME(T.!$J$5,0,0),TIME(T.!$L$5,0,0),D20,E20)","v":"00:00:00"},null,"","","",null,null,{"$f":"CHOOSE(WEEKDAY(A20,2),norm!C$1,norm!C$2,norm!C$3,norm!C$4,norm!C$5,norm!C$6,norm!C$7)","v":"07:30:00"},null,null,"","","","","",""]
["2019-09-18","On","",null,null,null,"","00:00:00","",{"$f":"ColTime(T.!$J$4,T.!$L$4,D21,E21)","v":"00:00:00"},null,{"$f":"ColTime(TIME(T.!$J$5,0,0),TIME(T.!$L$5,0,0),D21,E21)","v":"00:00:00"},null,"","","",null,null,{"$f":"CHOOSE(WEEKDAY(A21,2),norm!C$1,norm!C$2,norm!C$3,norm!C$4,norm!C$5,norm!C$6,norm!C$7)","v":"07:30:00"},null,null,"","","","","",""]
["2019-09-19","To","",null,null,null,"","00:00:00","",{"$f":"ColTime(T.!$J$4,T.!$L$4,D22,E22)","v":"00:00:00"},null,{"$f":"ColTime(TIME(T.!$J$5,0,0),TIME(T.!$L$5,0,0),D22,E22)","v":"00:00:00"},null,"","","",null,null,{"$f":"CHOOSE(WEEKDAY(A22,2),norm!C$1,norm!C$2,norm!C$3,norm!C$4,norm!C$5,norm!C$6,norm!C$7)","v":"07:30:00"},null,null,"","","","","",""]
["2019-09-20","Fr","",null,null,null,"","00:00:00","",{"$f":"ColTime(T.!$J$4,T.!$L$4,D23,E23)","v":"00:00:00"},null,{"$f":"ColTime(TIME(T.!$J$5,0,0),TIME(T.!$L$5,0,0),D23,E23)","v":"00:00:00"},null,"","","",null,null,{"$f":"CHOOSE(WEEKDAY(A23,2),norm!C$1,norm!C$2,norm!C$3,norm!C$4,norm!C$5,norm!C$6,norm!C$7)","v":"07:00:00"},null,null,"","","","","",""]
["2019-09-21","Lø","",null,null,null,"","00:00:00","",{"$f":"ColTime(T.!$J$4,T.!$L$4,D24,E24)","v":"00:00:00"},null,{"$f":"ColTime(TIME(T.!$J$5,0,0),TIME(T.!$L$5,0,0),D24,E24)","v":"00:00:00"},null,"00:00:00","","",null,null,{"$f":"CHOOSE(WEEKDAY(A24,2),norm!C$1,norm!C$2,norm!C$3,norm!C$4,norm!C$5,norm!C$6,norm!C$7)","v":"00:00:00"},null,null,"","","","","",""]
[{"$f":"A24+1","v":"2019-09-22"},{"$f":"PROPER(TEXT(A25,\"ddd\"))","v":"Sø"},{"$f":"HelligdagsNavn(A25,0,0)","v":""},null,null,null,"","00:00:00","",{"$f":"ColTime(T.!$J$4,T.!$L$4,D25,E25)","v":"00:00:00"},null,{"$f":"ColTime(TIME(T.!$J$5,0,0),TIME(T.!$L$5,0,0),D25,E25)","v":"00:00:00"},null,"","00:00:00","",null,null,{"$f":"CHOOSE(WEEKDAY(A25,2),norm!C$1,norm!C$2,norm!C$3,norm!C$4,norm!C$5,norm!C$6,norm!C$7)","v":"00:00:00"},null,null,"","","","","",""]
[{"$f":"A25+1","v":"2019-09-23"},{"$f":"PROPER(TEXT(A26,\"ddd\"))","v":"Ma"},{"$f":"HelligdagsNavn(A26,0,0)","v":""},null,null,null,"","00:00:00","",{"$f":"ColTime(T.!$J$4,T.!$L$4,D26,E26)","v":"00:00:00"},null,{"$f":"ColTime(TIME(T.!$J$5,0,0),TIME(T.!$L$5,0,0),D26,E26)","v":"00:00:00"},null,"","","",null,null,{"$f":"CHOOSE(WEEKDAY(A26,2),norm!C$1,norm!C$2,norm!C$3,norm!C$4,norm!C$5,norm!C$6,norm!C$7)","v":"07:30:00"},null,null,"","","","","",""]
[{"$f":"A26+1","v":"2019-09-24"},{"$f":"PROPER(TEXT(A27,\"ddd\"))","v":"Ti"},"",null,null,null,"","00:00:00","",{"$f":"ColTime(T.!$J$4,T.!$L$4,D27,E27)","v":"00:00:00"},null,{"$f":"ColTime(TIME(T.!$J$5,0,0),TIME(T.!$L$5,0,0),D27,E27)","v":"00:00:00"},null,"","","",null,null,{"$f":"CHOOSE(WEEKDAY(A27,2),norm!C$1,norm!C$2,norm!C$3,norm!C$4,norm!C$5,norm!C$6,norm!C$7)","v":"07:30:00"},null,null,"","","","","",""]
["2019-09-25","On","",null,null,null,"","00:00:00","",{"$f":"ColTime(T.!$J$4,T.!$L$4,D28,E28)","v":"00:00:00"},null,{"$f":"ColTime(TIME(T.!$J$5,0,0),TIME(T.!$L$5,0,0),D28,E28)","v":"00:00:00"},null,"","","",null,null,{"$f":"CHOOSE(WEEKDAY(A28,2),norm!C$1,norm!C$2,norm!C$3,norm!C$4,norm!C$5,norm!C$6,norm!C$7)","v":"07:30:00"},null,null,"","","","","",""]
["2019-09-26","To","",null,null,null,"","00:00:00","",{"$f":"ColTime(T.!$J$4,T.!$L$4,D29,E29)","v":"00:00:00"},null,{"$f":"ColTime(TIME(T.!$J$5,0,0),TIME(T.!$L$5,0,0),D29,E29)","v":"00:00:00"},null,"","","",null,null,{"$f":"CHOOSE(WEEKDAY(A29,2),norm!C$1,norm!C$2,norm!C$3,norm!C$4,norm!C$5,norm!C$6,norm!C$7)","v":"07:30:00"}]
["2019-09-27","Fr","",null,null,null,"","00:00:00","",{"$f":"ColTime(T.!$J$4,T.!$L$4,D30,E30)","v":"00:00:00"},null,{"$f":"ColTime(TIME(T.!$J$5,0,0),TIME(T.!$L$5,0,0),D30,E30)","v":"00:00:00"},null,"","","",null,null,{"$f":"CHOOSE(WEEKDAY(A30,2),norm!C$1,norm!C$2,norm!C$3,norm!C$4,norm!C$5,norm!C$6,norm!C$7)","v":"07:00:00"}]
["2019-09-28","Lø","",null,null,null,"","00:00:00","",{"$f":"ColTime(T.!$J$4,T.!$L$4,D31,E31)","v":"00:00:00"},null,{"$f":"ColTime(TIME(T.!$J$5,0,0),TIME(T.!$L$5,0,0),D31,E31)","v":"00:00:00"},null,"00:00:00","","",null,null,{"$f":"CHOOSE(WEEKDAY(A31,2),norm!C$1,norm!C$2,norm!C$3,norm!C$4,norm!C$5,norm!C$6,norm!C$7)","v":"00:00:00"}]
[{"$f":"IF(MONTH(A31+1)>MONTH(A31),\"\",A31+1)","v":"2019-09-29"},"Sø",{"$f":"IF(A32=\"\",\"\",HelligdagsNavn(A32,0,0))","v":""},null,null,null,"","00:00:00","",{"$f":"ColTime(T.!$J$4,T.!$L$4,D32,E32)","v":"00:00:00"},null,{"$f":"ColTime(TIME(T.!$J$5,0,0),TIME(T.!$L$5,0,0),D32,E32)","v":"00:00:00"},null,{"$f":"IFERROR(IF(WEEKDAY(A32,2)=6,ColTime(TIME(15,0,0),TIME(24,0,0),D32,E32),\"\"),\"\")","v":""},{"$f":"IFERROR(IF(OR(C32<>\"\",WEEKDAY(A32,2)=7),ColTime(TIME(0,0,0),TIME(24,0,0),D32,E32),\"\"),\"\")","v":"00:00:00"},"",null,null,{"$f":"IFERROR(CHOOSE(WEEKDAY(A32,2),norm!C$1,norm!C$2,norm!C$3,norm!C$4,norm!C$5,norm!C$6,norm!C$7),\"\")","v":"00:00:00"}]
[{"$f":"IFERROR(IF(MONTH(A32+1)>MONTH(A32),\"\",A32+1),\"\")","v":"2019-09-30"},"Ma","",null,null,null,"","00:00:00","",{"$f":"ColTime(T.!$J$4,T.!$L$4,D33,E33)","v":"00:00:00"},null,{"$f":"ColTime(TIME(T.!$J$5,0,0),TIME(T.!$L$5,0,0),D33,E33)","v":"00:00:00"},null,{"$f":"IFERROR(IF(WEEKDAY(A33,2)=6,ColTime(TIME(15,0,0),TIME(24,0,0),D33,E33),\"\"),\"\")","v":""},{"$f":"IFERROR(IF(OR(C33<>\"\",WEEKDAY(A33,2)=7),ColTime(TIME(0,0,0),TIME(24,0,0),D33,E33),\"\"),\"\")","v":""},"",null,null,{"$f":"IFERROR(CHOOSE(WEEKDAY(A33,2),norm!C$1,norm!C$2,norm!C$3,norm!C$4,norm!C$5,norm!C$6,norm!C$7),\"\")","v":"07:30:00"}]
[{"$f":"IFERROR(IF(MONTH(A33+1)>MONTH(A33),\"\",A33+1),\"\")","v":""},{"$f":"IFERROR(PROPER(TEXT(A34,\"ddd\")),\"\")","v":""},{"$f":"IF(A34=\"\",\"\",HelligdagsNavn(A34,0,0))","v":""},null,null,null,"","00:00:00","",{"$f":"ColTime(T.!$J$4,T.!$L$4,D34,E34)","v":"00:00:00"},null,{"$f":"ColTime(TIME(T.!$J$5,0,0),TIME(T.!$L$5,0,0),D34,E34)","v":"00:00:00"},null,{"$f":"IFERROR(IF(WEEKDAY(A34,2)=6,ColTime(TIME(15,0,0),TIME(24,0,0),D34,E34),\"\"),\"\")","v":""},"","",null,null,{"$f":"IFERROR(CHOOSE(WEEKDAY(A34,2),norm!C$1,norm!C$2,norm!C$3,norm!C$4,norm!C$5,norm!C$6,norm!C$7),\"\")","v":""},null,null,{"$f":"IF(D34=\"\",\"\",HOUR(D34))","v":""},{"$f":"IF(D34=\"\",\"\",MINUTE(D34))","v":""},{"$f":"IF(D34=\"\",\"\",TIME(HOUR(D34),MINUTE(D34),0))","v":""},{"$f":"IF(E34=\"\",\"\",HOUR(E34))","v":""},{"$f":"IF(E34=\"\",\"\",MINUTE(E34))","v":""},{"$f":"IF(E34=\"\",\"\",TIME(HOUR(E34),MINUTE(E34),0))","v":""}]
["Total timer",null,null,null,null,null,{"$f":"IF(SUM(G9:G34)<>\"0\",SUM(G4:G34),\"\")","v":2.4479166666666665},{"$f":"IF(SUM(H4:H34)<>\"0\",SUM(H4:H34),\"\")","v":0.375},{"$f":"IF(SUM(I4:I34)<>\"0\",SUM(I4:I34),\"\")","v":0.86458333333333304},{"$f":"IF(SUM(J4:J34)<>\"0\",SUM(J4:J34),\"\")","v":0.27083333333333337},null,{"$f":"SUM(L4:M34)","v":2.5520833333333335},null,{"$f":"IF(SUM(N4:N34)<>\"0\",SUM(N4:N34),\"\")","v":0.20833333333333326},{"$f":"IF(SUM(O4:O34)<>\"0\",SUM(O4:O34),\"\")","v":"09:00:00"},{"$f":"SUM(P4:P34)","v":1.239583333333333},{"$f":"SUM(Q4:Q34)","v":0}]
["Timer 1/100",null,null,null,null,null,{"$f":"IF(G35<>\"\",ROUND(G35*24,2),\"\")","v":58.75},{"$f":"IF(H35<>\"\",ROUND(H35*24,2),\"\")","v":9},20.75,{"$f":"IF(J35<>\"\",ROUND(J35*24,2),\"\")","v":6.5},null,{"$f":"IF(L35<>\"\",ROUND(L35*24,2),\"\")","v":61.25},null,{"$f":"IF(N35<>\"\",ROUND(N35*24,2),\"\")","v":5},9,29.75,0]
["Satser",null,null,null,null,null,{"$f":"Satser!B7","v":107.35},{"$f":"Satser!B9","v":36.35},{"$f":"Satser!B12","v":58.1},{"$f":"Satser!B17","v":13.91},null,{"$f":"Satser!B18","v":23.19},null,{"$f":"Satser!B19","v":24.89},{"$f":"Satser!B20","v":27.63}]
[null,null,null,null,null,null,{"$f":"IF(G35<>\"\",G36*G37,\"\")","v":6306.8125},{"$f":"IF(H35<>\"\",H36*H37,\"\")","v":327.15000000000003},1205.575,{"$f":"IF(J35<>\"\",J36*J37,\"\")","v":90.415000000000006},null,{"$f":"IF(L35<>\"\",L36*L36,\"\")","v":3751.5625},null,{"$f":"IF(N35<>\"\",N36*N37,\"\")","v":124.45},248.67]
[]
["Lønart"]
[3025,null,null,null,null,null,{"$f":"G35","v":2.4479166666666665}]
[3425,null,null,null,null,null,{"$f":"H35","v":0.375}]
[3428,null,null,null,null,null,{"$f":"I35","v":0.86458333333333304}]
["Timer",null,null,null,null,null,{"$f":"SUM(G41:G43)","v":3.6874999999999996},{"$f":"IF(G44<>\"\",ROUND(G44*24,2),\"\")","v":88.5}]
[null,null,null,null,null,null,null,{"$f":"G37*H44","v":9500.4750000000004}]

{"sheet":"Oktober","index":15,"n_rows":45,"n_cols":35,"rows_kept":45,"cut":false,"hidden":true,"merged":[[39,0,39,2],[40,0,40,2],[41,0,41,2],[42,0,42,2],[43,0,43,5],[35,9,35,10],[35,11,35,12],[36,9,36,10],[36,11,36,12],[37,9,37,10],[37,11,37,12],[32,9,32,10],[32,11,32,12],[33,9,33,10],[33,11,33,12],[34,9,34,10],[34,11,34,12],[29,9,29,10],[29,11,29,12],[30,9,30,10],[30,11,30,12],[31,9,31,10],[31,11,31,12],[26,9,26,10],[26,11,26,12],[27,9,27,10],[27,11,27,12],[28,9,28,10],[28,11,28,12],[23,9,23,10],[23,11,23,12],[24,9,24,10],[24,11,24,12],[25,9,25,10],[25,11,25,12],[20,9,20,10],[20,11,20,12],[21,9,21,10],[21,11,21,12],[22,9,22,10],[22,11,22,12],[17,9,17,10],[17,11,17,12],[18,9,18,10],[18,11,18,12],[19,9,19,10],[19,11,19,12],[14,9,14,10],[14,11,14,12],[15,9,15,10],[15,11,15,12],[16,9,16,10],[16,11,16,12],[11,9,11,10],[11,11,11,12],[12,9,12,10],[12,11,12,12],[13,9,13,10],[13,11,13,12],[8,9,8,10],[8,11,8,12],[9,9,9,10],[9,11,9,12],[10,9,10,10],[10,11,10,12],[5,9,5,10],[5,11,5,12],[6,9,6,10],[6,11,6,12],[7,9,7,10],[7,11,7,12],[4,9,4,10],[4,11,4,12],[0,1,0,7],[0,10,0,11],[0,13,0,14],[1,1,1,2],[1,9,1,10],[1,11,1,12],[2,1,2,2],[2,9,2,10],[2,11,2,12],[3,9,3,10],[3,11,3,12]]}
["Løn","2019-01-01",null,null,null,null,null,null,"Uge :",{"$f":"IF(A4=\"\",\"\",TRUNC((A4-WEEKDAY(A4,2)-DATE(YEAR(A4+4-WEEKDAY(A4,2)),1,-10))/7))","v":35},"-",null,{"$f":"IF(A25=\"\",\"\",TRUNC((A25-WEEKDAY(A25,2)-DATE(YEAR(A25+4-WEEKDAY(A25,2)),1,-10))/7))","v":38},{"$f":"EOMONTH(A4,0)","v":"2019-09-30"},null,9,null,null,null,null,null,"Time beregning:",null,null,null,null,null,null,null,null,null,null,"06:00:00","18:00:00","03:00:00"]
["Lønart",null,null,null,null,null,null,null,null,null,null,null,null,null,null,null,null,null,null,null,null,"Betalt pause ved vagt over 5 timer",null,null,null,"00:25:00","minutter","00:00:00","06:00:00","17:00:00","14:00:00"]
["Dato","Dag",null,"Start","Slut","Pause","Arb. Tid","Overtid           1-3 time","Overtid            4 - time","Forskudt tid alle dage\n18-23",null,"Natarbejde 23-06",null,"Lørdag tillæg 14 - 24","Søndag tillæg 00 - 24","Optjent afspadsering","Afholdt afspadsering","Syge Timer","norm"]
[{"$f":"DATE(T.!$B$2,$P$1,1)","v":"2019-09-01"},{"$f":"PROPER(TEXT(A4,\"ddd\"))","v":"Sø"},{"$f":"HelligdagsNavn(A4,0,0)","v":""},"07:00:00","16:00:00","00:30:00",{"$f":"IF(D4=\"\",\"\",(E4-D4)+(D4>E4)-F4)","v":0.35416666666666663},{"$f":"IF(G4=\"\",0,IF(WEEKDAY(A4,2)=7,0,IF(G4>S4,MIN(G4-S4,$AI$1),0)))","v":"00:00:00"},{"$f":"IF(G4=\"\",\"\",IF(G4>S4+H4,G4-(S4+H4),\"\"))","v":"08:30:00"},{"$f":"ColTime(T.!$J$4,T.!$L$4,D4,E4)","v":"00:00:00"},null,{"$f":"ColTime(TIME(T.!$J$5,0,0),TIME(T.!$L$5,0,0),D4,E4)","v":"09:00:00"},null,{"$f":"IF(WEEKDAY(A4,2)=6,ColTime(TIME(14,0,0),TIME(24,0,0),D4,E4),\"\")","v":""},{"$f":"IF(OR(C4<>\"\",WEEKDAY(A4,2)=7),ColTime(TIME(0,0,0),TIME(24,0,0),D4,E4),\"\")","v":"09:00:00"},{"$f":"IFERROR(H4+I4,\"\")","v":"08:30:00"},null,null,{"$f":"CHOOSE(WEEKDAY(A4,2),norm!C$1,norm!C$2,norm!C$3,norm!C$4,norm!C$5,norm!C$6,norm!C$7)","v":"00:00:00"},null,null,{"$f":"IF(D4=\"\",\"\",HOUR(D4))","v":7},{"$f":"IF(D4=\"\",\"\",MINUTE(D4))","v":0},{"$f":"IF(D4=\"\",\"\",TIME(HOUR(D4),MINUTE(D4),0))","v":"07:00:00"},{"$f":"IF(E4=\"\",\"\",HOUR(E4))","v":16},{"$f":"IF(E4=\"\",\"\",MINUTE(E4))","v":0},"02:00:00","09:30:00","11:30:00",null,null,null,{"$f":"MIN(G4-S4,3)","v":0.35416666666666663}]
[{"$f":"A4+1","v":"2019-09-02"},{"$f":"PROPER(TEXT(A5,\"ddd\"))","v":"Ma"},{"$f":"HelligdagsNavn(A5,0,0)","v":""},"13:45:00","21:30:00","00:30:00",{"$f":"IF(D5=\"\",\"\",(E5-D5)+(D5>E5)-F5)","v":0.30208333333333343},{"$f":"IF(G5=\"\",0,IF(WEEKDAY(A5,2)=7,0,IF(G5>S5,MIN(G5-S5,$AI$1),0)))","v":"00:00:00"},{"$f":"IF(G5=\"\",\"\",IF(G5>S5+H5,G5-(S5+H5),\"\"))","v":""},{"$f":"ColTime(T.!$J$4,T.!$L$4,D5,E5)","v":"03:30:00"},null,{"$f":"ColTime(TIME(T.!$J$5,0,0),TIME(T.!$L$5,0,0),D5,E5)","v":"07:45:00"},null,"","",{"$f":"IFERROR(H5+I5,\"\")","v":""},null,null,{"$f":"CHOOSE(WEEKDAY(A5,2),norm!C$1,norm!C$2,norm!C$3,norm!C$4,norm!C$5,norm!C$6,norm!C$7)","v":"07:30:00"},null,null,13,45,"13:45:00",21,30,{"$f":"IF(E5=\"\",\"\",TIME(HOUR(E5),MINUTE(E5),0))","v":"21:30:00"},null,null,null,null,null,null,"Der taste kun i de Gule celler"]
[{"$f":"A5+1","v":"2019-09-03"},{"$f":"PROPER(TEXT(A6,\"ddd\"))","v":"Ti"},"","22:00:00","05:45:00","00:30:00",0.30208333333333343,"00:00:00","",{"$f":"ColTime(T.!$J$4,T.!$L$4,D6,E6)","v":"01:00:00"},null,{"$f":"ColTime(TIME(T.!$J$5,0,0),TIME(T.!$L$5,0,0),D6,E6)","v":"07:45:00"},null,"","",{"$f":"IFERROR(H6+I6,\"\")","v":""},null,null,{"$f":"CHOOSE(WEEKDAY(A6,2),norm!C$1,norm!C$2,norm!C$3,norm!C$4,norm!C$5,norm!C$6,norm!C$7)","v":"07:30:00"},null,null,22,0,"22:00:00",5,45,"05:45:00"]
["2019-09-04","On","","05:00:00","16:45:00","00:30:00",0.46874999999999994,"03:00:00","00:45:00",{"$f":"ColTime(T.!$J$4,T.!$L$4,D7,E7)","v":"00:00:00"},null,{"$f":"ColTime(TIME(T.!$J$5,0,0),TIME(T.!$L$5,0,0),D7,E7)","v":"11:45:00"},null,"","",{"$f":"IFERROR(H7+I7,\"\")","v":"03:45:00"},null,null,{"$f":"CHOOSE(WEEKDAY(A7,2),norm!C$1,norm!C$2,norm!C$3,norm!C$4,norm!C$5,norm!C$6,norm!C$7)","v":"07:30:00"},null,null,5,0,"05:00:00",16,45,"16:45:00"]
["2019-09-05","To","",null,null,null,"","00:00:00","",{"$f":"ColTime(T.!$J$4,T.!$L$4,D8,E8)","v":"00:00:00"},null,{"$f":"ColTime(TIME(T.!$J$5,0,0),TIME(T.!$L$5,0,0),D8,E8)","v":"00:00:00"},null,"","",{"$f":"IFERROR(H8+I8,\"\")","v":""},null,null,{"$f":"CHOOSE(WEEKDAY(A8,2),norm!C$1,norm!C$2,norm!C$3,norm!C$4,norm!C$5,norm!C$6,norm!C$7)","v":"07:30:00"},null,null,"","","","","",""]
["2019-09-06","Fr","","06:00:00","19:00:00","00:30:00",0.52083333333333326,"03:00:00","02:30:00",{"$f":"ColTime(T.!$J$4,T.!$L$4,D9,E9)","v":"01:00:00"},null,{"$f":"ColTime(TIME(T.!$J$5,0,0),TIME(T.!$L$5,0,0),D9,E9)","v":"13:00:00"},null,"",{"$f":"IF(OR(C9<>\"\",WEEKDAY(A9,2)=7),ColTime(TIME(0,0,0),TIME(24,0,0),D9,E9),\"\")","v":""},{"$f":"IFERROR(H9+I9,\"\")","v":"05:30:00"},null,null,{"$f":"CHOOSE(WEEKDAY(A9,2),norm!C$1,norm!C$2,norm!C$3,norm!C$4,norm!C$5,norm!C$6,norm!C$7)","v":"07:00:00"},null,null,6,0,"06:00:00",19,0,"19:00:00"]
["2019-09-07","Lø","","07:00:00","19:00:00",null,0.49999999999999994,"03:00:00","09:00:00",{"$f":"ColTime(T.!$J$4,T.!$L$4,D10,E10)","v":"01:00:00"},null,{"$f":"ColTime(TIME(T.!$J$5,0,0),TIME(T.!$L$5,0,0),D10,E10)","v":"12:00:00"},null,{"$f":"IF(WEEKDAY(A10,2)=6,ColTime(TIME(14,0,0),TIME(24,0,0),D10,E10),\"\")","v":"05:00:00"},{"$f":"IF(OR(C10<>\"\",WEEKDAY(A10,2)=7),ColTime(TIME(0,0,0),TIME(24,0,0),D10,E10),\"\")","v":""},"12:00:00",null,null,{"$f":"CHOOSE(WEEKDAY(A10,2),norm!C$1,norm!C$2,norm!C$3,norm!C$4,norm!C$5,norm!C$6,norm!C$7)","v":"00:00:00"},null,null,7,0,"07:00:00",19,0,"19:00:00"]
[{"$f":"A10+1","v":"2019-09-08"},{"$f":"PROPER(TEXT(A11,\"ddd\"))","v":"Sø"},{"$f":"HelligdagsNavn(A11,0,0)","v":""},null,null,null,"","00:00:00","",{"$f":"ColTime(T.!$J$4,T.!$L$4,D11,E11)","v":"00:00:00"},null,{"$f":"ColTime(TIME(T.!$J$5,0,0),TIME(T.!$L$5,0,0),D11,E11)","v":"00:00:00"},null,{"$f":"IF(WEEKDAY(A11,2)=6,ColTime(TIME(15,0,0),TIME(24,0,0),D11,E11),\"\")","v":""},"00:00:00","",null,null,{"$f":"CHOOSE(WEEKDAY(A11,2),norm!C$1,norm!C$2,norm!C$3,norm!C$4,norm!C$5,norm!C$6,norm!C$7)","v":"00:00:00"},null,null,"","","","","",""]
[{"$f":"A11+1","v":"2019-09-09"},{"$f":"PROPER(TEXT(A12,\"ddd\"))","v":"Ma"},{"$f":"HelligdagsNavn(A12,0,0)","v":""},null,null,null,"","00:00:00","",{"$f":"ColTime(T.!$J$4,T.!$L$4,D12,E12)","v":"00:00:00"},null,{"$f":"ColTime(TIME(T.!$J$5,0,0),TIME(T.!$L$5,0,0),D12,E12)","v":"00:00:00"},null,"","","",null,null,{"$f":"CHOOSE(WEEKDAY(A12,2),norm!C$1,norm!C$2,norm!C$3,norm!C$4,norm!C$5,norm!C$6,norm!C$7)","v":"07:30:00"},null,null,"","","","","",""]
[{"$f":"A12+1","v":"2019-09-10"},{"$f":"PROPER(TEXT(A13,\"ddd\"))","v":"Ti"},"",null,null,null,"","00:00:00","",{"$f":"ColTime(T.!$J$4,T.!$L$4,D13,E13)","v":"00:00:00"},null,{"$f":"ColTime(TIME(T.!$J$5,0,0),TIME(T.!$L$5,0,0),D13,E13)","v":"00:00:00"},null,"","","",null,null,{"$f":"CHOOSE(WEEKDAY(A13,2),norm!C$1,norm!C$2,norm!C$3,norm!C$4,norm!C$5,norm!C$6,norm!C$7)","v":"07:30:00"},null,null,"","","","","",""]
["2019-09-11","On","",null,null,null,"","00:00:00","",{"$f":"ColTime(T.!$J$4,T.!$L$4,D14,E14)","v":"00:00:00"},null,{"$f":"ColTime(TIME(T.!$J$5,0,0),TIME(T.!$L$5,0,0),D14,E14)","v":"00:00:00"},null,"","","",null,null,{"$f":"CHOOSE(WEEKDAY(A14,2),norm!C$1,norm!C$2,norm!C$3,norm!C$4,norm!C$5,norm!C$6,norm!C$7)","v":"07:30:00"},null,null,"","","","","",""]
["2019-09-12","To","",null,null,null,"","00:00:00","",{"$f":"ColTime(T.!$J$4,T.!$L$4,D15,E15)","v":"00:00:00"},null,{"$f":"ColTime(TIME(T.!$J$5,0,0),TIME(T.!$L$5,0,0),D15,E15)","v":"00:00:00"},null,"","","",null,null,{"$f":"CHOOSE(WEEKDAY(A15,2),norm!C$1,norm!C$2,norm!C$3,norm!C$4,norm!C$5,norm!C$6,norm!C$7)","v":"07:30:00"},null,null,"","","",null,"",""]
["2019-09-13","Fr","",null,null,null,"","00:00:00","",{"$f":"ColTime(T.!$J$4,T.!$L$4,D16,E16)","v":"00:00:00"},null,{"$f":"ColTime(TIME(T.!$J$5,0,0),TIME(T.!$L$5,0,0),D16,E16)","v":"00:00:00"},null,"","","",null,null,{"$f":"CHOOSE(WEEKDAY(A16,2),norm!C$1,norm!C$2,norm!C$3,norm!C$4,norm!C$5,norm!C$6,norm!C$7)","v":"07:00:00"},null,null,"","","","","",""]
["2019-09-14","Lø","",null,null,null,"","00:00:00","",{"$f":"ColTime(T.!$J$4,T.!$L$4,D17,E17)","v":"00:00:00"},null,{"$f":"ColTime(TIME(T.!$J$5,0,0),TIME(T.!$L$5,0,0),D17,E17)","v":"00:00:00"},null,"00:00:00","","",null,null,{"$f":"CHOOSE(WEEKDAY(A17,2),norm!C$1,norm!C$2,norm!C$3,norm!C$4,norm!C$5,norm!C$6,norm!C$7)","v":"00:00:00"},null,null,"","","","","",""]
[{"$f":"A17+1","v":"2019-09-15"},{"$f":"PROPER(TEXT(A18,\"ddd\"))","v":"Sø"},{"$f":"HelligdagsNavn(A18,0,0)","v":""},null,null,null,"","00:00:00","",{"$f":"ColTime(T.!$J$4,T.!$L$4,D18,E18)","v":"00:00:00"},null,{"$f":"ColTime(TIME(T.!$J$5,0,0),TIME(T.!$L$5,0,0),D18,E18)","v":"00:00:00"},null,"","00:00:00","",null,null,{"$f":"CHOOSE(WEEKDAY(A18,2),norm!C$1,norm!C$2,norm!C$3,norm!C$4,norm!C$5,norm!C$6,norm!C$7)","v":"00:00:00"},null,null,"","","","","",""]
[{"$f":"A18+1","v":"2019-09-16"},{"$f":"PROPER(TEXT(A19,\"ddd\"))","v":"Ma"},{"$f":"HelligdagsNavn(A19,0,0)","v":""},null,null,null,"","00:00:00","",{"$f":"ColTime(T.!$J$4,T.!$L$4,D19,E19)","v":"00:00:00"},null,{"$f":"ColTime(TIME(T.!$J$5,0,0),TIME(T.!$L$5,0,0),D19,E19)","v":"00:00:00"},null,"","","",null,null,{"$f":"CHOOSE(WEEKDAY(A19,2),norm!C$1,norm!C$2,norm!C$3,norm!C$4,norm!C$5,norm!C$6,norm!C$7)","v":"07:30:00"},null,null,"","","","","",""]
[{"$f":"A19+1","v":"2019-09-17"},{"$f":"PROPER(TEXT(A20,\"ddd\"))","v":"Ti"},"",null,null,null,"","00:00:00","",{"$f":"ColTime(T.!$J$4,T.!$L$4,D20,E20)","v":"00:00:00"},null,{"$f":"ColTime(TIME(T.!$J$5,0,0),TIME(T.!$L$5,0,0),D20,E20)","v":"00:00:00"},null,"","","",null,null,{"$f":"CHOOSE(WEEKDAY(A20,2),norm!C$1,norm!C$2,norm!C$3,norm!C$4,norm!C$5,norm!C$6,norm!C$7)","v":"07:30:00"},null,null,"","","","","",""]
["2019-09-18","On","",null,null,null,"","00:00:00","",{"$f":"ColTime(T.!$J$4,T.!$L$4,D21,E21)","v":"00:00:00"},null,{"$f":"ColTime(TIME(T.!$J$5,0,0),TIME(T.!$L$5,0,0),D21,E21)","v":"00:00:00"},null,"","","",null,null,{"$f":"CHOOSE(WEEKDAY(A21,2),norm!C$1,norm!C$2,norm!C$3,norm!C$4,norm!C$5,norm!C$6,norm!C$7)","v":"07:30:00"},null,null,"","","","","",""]
["2019-09-19","To","",null,null,null,"","00:00:00","",{"$f":"ColTime(T.!$J$4,T.!$L$4,D22,E22)","v":"00:00:00"},null,{"$f":"ColTime(TIME(T.!$J$5,0,0),TIME(T.!$L$5,0,0),D22,E22)","v":"00:00:00"},null,"","","",null,null,{"$f":"CHOOSE(WEEKDAY(A22,2),norm!C$1,norm!C$2,norm!C$3,norm!C$4,norm!C$5,norm!C$6,norm!C$7)","v":"07:30:00"},null,null,"","","","","",""]
["2019-09-20","Fr","",null,null,null,"","00:00:00","",{"$f":"ColTime(T.!$J$4,T.!$L$4,D23,E23)","v":"00:00:00"},null,{"$f":"ColTime(TIME(T.!$J$5,0,0),TIME(T.!$L$5,0,0),D23,E23)","v":"00:00:00"},null,"","","",null,null,{"$f":"CHOOSE(WEEKDAY(A23,2),norm!C$1,norm!C$2,norm!C$3,norm!C$4,norm!C$5,norm!C$6,norm!C$7)","v":"07:00:00"},null,null,"","","","","",""]
["2019-09-21","Lø","",null,null,null,"","00:00:00","",{"$f":"ColTime(T.!$J$4,T.!$L$4,D24,E24)","v":"00:00:00"},null,{"$f":"ColTime(TIME(T.!$J$5,0,0),TIME(T.!$L$5,0,0),D24,E24)","v":"00:00:00"},null,"00:00:00","","",null,null,{"$f":"CHOOSE(WEEKDAY(A24,2),norm!C$1,norm!C$2,norm!C$3,norm!C$4,norm!C$5,norm!C$6,norm!C$7)","v":"00:00:00"},null,null,"","","","","",""]
[{"$f":"A24+1","v":"2019-09-22"},{"$f":"PROPER(TEXT(A25,\"ddd\"))","v":"Sø"},{"$f":"HelligdagsNavn(A25,0,0)","v":""},null,null,null,"","00:00:00","",{"$f":"ColTime(T.!$J$4,T.!$L$4,D25,E25)","v":"00:00:00"},null,{"$f":"ColTime(TIME(T.!$J$5,0,0),TIME(T.!$L$5,0,0),D25,E25)","v":"00:00:00"},null,"","00:00:00","",null,null,{"$f":"CHOOSE(WEEKDAY(A25,2),norm!C$1,norm!C$2,norm!C$3,norm!C$4,norm!C$5,norm!C$6,norm!C$7)","v":"00:00:00"},null,null,"","","","","",""]
[{"$f":"A25+1","v":"2019-09-23"},{"$f":"PROPER(TEXT(A26,\"ddd\"))","v":"Ma"},{"$f":"HelligdagsNavn(A26,0,0)","v":""},null,null,null,"","00:00:00","",{"$f":"ColTime(T.!$J$4,T.!$L$4,D26,E26)","v":"00:00:00"},null,{"$f":"ColTime(TIME(T.!$J$5,0,0),TIME(T.!$L$5,0,0),D26,E26)","v":"00:00:00"},null,"","","",null,null,{"$f":"CHOOSE(WEEKDAY(A26,2),norm!C$1,norm!C$2,norm!C$3,norm!C$4,norm!C$5,norm!C$6,norm!C$7)","v":"07:30:00"},null,null,"","","","","",""]
[{"$f":"A26+1","v":"2019-09-24"},{"$f":"PROPER(TEXT(A27,\"ddd\"))","v":"Ti"},"",null,null,null,"","00:00:00","",{"$f":"ColTime(T.!$J$4,T.!$L$4,D27,E27)","v":"00:00:00"},null,{"$f":"ColTime(TIME(T.!$J$5,0,0),TIME(T.!$L$5,0,0),D27,E27)","v":"00:00:00"},null,"","","",null,null,{"$f":"CHOOSE(WEEKDAY(A27,2),norm!C$1,norm!C$2,norm!C$3,norm!C$4,norm!C$5,norm!C$6,norm!C$7)","v":"07:30:00"},null,null,"","","","","",""]
["2019-09-25","On","",null,null,null,"","00:00:00","",{"$f":"ColTime(T.!$J$4,T.!$L$4,D28,E28)","v":"00:00:00"},null,{"$f":"ColTime(TIME(T.!$J$5,0,0),TIME(T.!$L$5,0,0),D28,E28)","v":"00:00:00"},null,"","","",null,null,{"$f":"CHOOSE(WEEKDAY(A28,2),norm!C$1,norm!C$2,norm!C$3,norm!C$4,norm!C$5,norm!C$6,norm!C$7)","v":"07:30:00"},null,null,"","","","","",""]
["2019-09-26","To","",null,null,null,"","00:00:00","",{"$f":"ColTime(T.!$J$4,T.!$L$4,D29,E29)","v":"00:00:00"},null,{"$f":"ColTime(TIME(T.!$J$5,0,0),TIME(T.!$L$5,0,0),D29,E29)","v":"00:00:00"},null,"","","",null,null,{"$f":"CHOOSE(WEEKDAY(A29,2),norm!C$1,norm!C$2,norm!C$3,norm!C$4,norm!C$5,norm!C$6,norm!C$7)","v":"07:30:00"}]
["2019-09-27","Fr","",null,null,null,"","00:00:00","",{"$f":"ColTime(T.!$J$4,T.!$L$4,D30,E30)","v":"00:00:00"},null,{"$f":"ColTime(TIME(T.!$J$5,0,0),TIME(T.!$L$5,0,0),D30,E30)","v":"00:00:00"},null,"","","",null,null,{"$f":"CHOOSE(WEEKDAY(A30,2),norm!C$1,norm!C$2,norm!C$3,norm!C$4,norm!C$5,norm!C$6,norm!C$7)","v":"07:00:00"}]
["2019-09-28","Lø","",null,null,null,"","00:00:00","",{"$f":"ColTime(T.!$J$4,T.!$L$4,D31,E31)","v":"00:00:00"},null,{"$f":"ColTime(TIME(T.!$J$5,0,0),TIME(T.!$L$5,0,0),D31,E31)","v":"00:00:00"},null,"00:00:00","","",null,null,{"$f":"CHOOSE(WEEKDAY(A31,2),norm!C$1,norm!C$2,norm!C$3,norm!C$4,norm!C$5,norm!C$6,norm!C$7)","v":"00:00:00"}]
[{"$f":"IF(MONTH(A31+1)>MONTH(A31),\"\",A31+1)","v":"2019-09-29"},"Sø",{"$f":"IF(A32=\"\",\"\",HelligdagsNavn(A32,0,0))","v":""},null,null,null,"","00:00:00","",{"$f":"ColTime(T.!$J$4,T.!$L$4,D32,E32)","v":"00:00:00"},null,{"$f":"ColTime(TIME(T.!$J$5,0,0),TIME(T.!$L$5,0,0),D32,E32)","v":"00:00:00"},null,{"$f":"IFERROR(IF(WEEKDAY(A32,2)=6,ColTime(TIME(15,0,0),TIME(24,0,0),D32,E32),\"\"),\"\")","v":""},{"$f":"IFERROR(IF(OR(C32<>\"\",WEEKDAY(A32,2)=7),ColTime(TIME(0,0,0),TIME(24,0,0),D32,E32),\"\"),\"\")","v":"00:00:00"},"",null,null,{"$f":"IFERROR(CHOOSE(WEEKDAY(A32,2),norm!C$1,norm!C$2,norm!C$3,norm!C$4,norm!C$5,norm!C$6,norm!C$7),\"\")","v":"00:00:00"}]
[{"$f":"IFERROR(IF(MONTH(A32+1)>MONTH(A32),\"\",A32+1),\"\")","v":"2019-09-30"},"Ma","",null,null,null,"","00:00:00","",{"$f":"ColTime(T.!$J$4,T.!$L$4,D33,E33)","v":"00:00:00"},null,{"$f":"ColTime(TIME(T.!$J$5,0,0),TIME(T.!$L$5,0,0),D33,E33)","v":"00:00:00"},null,{"$f":"IFERROR(IF(WEEKDAY(A33,2)=6,ColTime(TIME(15,0,0),TIME(24,0,0),D33,E33),\"\"),\"\")","v":""},{"$f":"IFERROR(IF(OR(C33<>\"\",WEEKDAY(A33,2)=7),ColTime(TIME(0,0,0),TIME(24,0,0),D33,E33),\"\"),\"\")","v":""},"",null,null,{"$f":"IFERROR(CHOOSE(WEEKDAY(A33,2),norm!C$1,norm!C$2,norm!C$3,norm!C$4,norm!C$5,norm!C$6,norm!C$7),\"\")","v":"07:30:00"}]
[{"$f":"IFERROR(IF(MONTH(A33+1)>MONTH(A33),\"\",A33+1),\"\")","v":""},{"$f":"IFERROR(PROPER(TEXT(A34,\"ddd\")),\"\")","v":""},{"$f":"IF(A34=\"\",\"\",HelligdagsNavn(A34,0,0))","v":""},null,null,null,"","00:00:00","",{"$f":"ColTime(T.!$J$4,T.!$L$4,D34,E34)","v":"00:00:00"},null,{"$f":"ColTime(TIME(T.!$J$5,0,0),TIME(T.!$L$5,0,0),D34,E34)","v":"00:00:00"},null,{"$f":"IFERROR(IF(WEEKDAY(A34,2)=6,ColTime(TIME(15,0,0),TIME(24,0,0),D34,E34),\"\"),\"\")","v":""},"","",null,null,{"$f":"IFERROR(CHOOSE(WEEKDAY(A34,2),norm!C$1,norm!C$2,norm!C$3,norm!C$4,norm!C$5,norm!C$6,norm!C$7),\"\")","v":""},null,null,{"$f":"IF(D34=\"\",\"\",HOUR(D34))","v":""},{"$f":"IF(D34=\"\",\"\",MINUTE(D34))","v":""},{"$f":"IF(D34=\"\",\"\",TIME(HOUR(D34),MINUTE(D34),0))","v":""},{"$f":"IF(E34=\"\",\"\",HOUR(E34))","v":""},{"$f":"IF(E34=\"\",\"\",MINUTE(E34))","v":""},{"$f":"IF(E34=\"\",\"\",TIME(HOUR(E34),MINUTE(E34),0))","v":""}]
["Total timer",null,null,null,null,null,{"$f":"IF(SUM(G9:G34)<>\"0\",SUM(G4:G34),\"\")","v":2.4479166666666665},{"$f":"IF(SUM(H4:H34)<>\"0\",SUM(H4:H34),\"\")","v":0.375},{"$f":"IF(SUM(I4:I34)<>\"0\",SUM(I4:I34),\"\")","v":0.86458333333333304},{"$f":"IF(SUM(J4:J34)<>\"0\",SUM(J4:J34),\"\")","v":0.27083333333333337},null,{"$f":"SUM(L4:M34)","v":2.5520833333333335},null,{"$f":"IF(SUM(N4:N34)<>\"0\",SUM(N4:N34),\"\")","v":0.20833333333333326},{"$f":"IF(SUM(O4:O34)<>\"0\",SUM(O4:O34),\"\")","v":"09:00:00"},{"$f":"SUM(P4:P34)","v":1.239583333333333},{"$f":"SUM(Q4:Q34)","v":0}]
["Timer 1/100",null,null,null,null,null,{"$f":"IF(G35<>\"\",ROUND(G35*24,2),\"\")","v":58.75},{"$f":"IF(H35<>\"\",ROUND(H35*24,2),\"\")","v":9},20.75,{"$f":"IF(J35<>\"\",ROUND(J35*24,2),\"\")","v":6.5},null,{"$f":"IF(L35<>\"\",ROUND(L35*24,2),\"\")","v":61.25},null,{"$f":"IF(N35<>\"\",ROUND(N35*24,2),\"\")","v":5},9,29.75,0]
["Satser",null,null,null,null,null,{"$f":"Satser!B7","v":107.35},{"$f":"Satser!B9","v":36.35},{"$f":"Satser!B12","v":58.1},{"$f":"Satser!B17","v":13.91},null,{"$f":"Satser!B18","v":23.19},null,{"$f":"Satser!B19","v":24.89},{"$f":"Satser!B20","v":27.63}]
[null,null,null,null,null,null,{"$f":"IF(G35<>\"\",G36*G37,\"\")","v":6306.8125},{"$f":"IF(H35<>\"\",H36*H37,\"\")","v":327.15000000000003},1205.575,{"$f":"IF(J35<>\"\",J36*J37,\"\")","v":90.415000000000006},null,{"$f":"IF(L35<>\"\",L36*L36,\"\")","v":3751.5625},null,{"$f":"IF(N35<>\"\",N36*N37,\"\")","v":124.45},248.67]
[]
["Lønart"]
[3025,null,null,null,null,null,{"$f":"G35","v":2.4479166666666665}]
[3425,null,null,null,null,null,{"$f":"H35","v":0.375}]
[3428,null,null,null,null,null,{"$f":"I35","v":0.86458333333333304}]
["Timer",null,null,null,null,null,{"$f":"SUM(G41:G43)","v":3.6874999999999996},{"$f":"IF(G44<>\"\",ROUND(G44*24,2),\"\")","v":88.5}]
[null,null,null,null,null,null,null,{"$f":"G37*H44","v":9500.4750000000004}]

{"sheet":"November","index":16,"n_rows":45,"n_cols":35,"rows_kept":45,"cut":false,"hidden":true,"merged":[[39,0,39,2],[40,0,40,2],[41,0,41,2],[42,0,42,2],[43,0,43,5],[35,9,35,10],[35,11,35,12],[36,9,36,10],[36,11,36,12],[37,9,37,10],[37,11,37,12],[32,9,32,10],[32,11,32,12],[33,9,33,10],[33,11,33,12],[34,9,34,10],[34,11,34,12],[29,9,29,10],[29,11,29,12],[30,9,30,10],[30,11,30,12],[31,9,31,10],[31,11,31,12],[26,9,26,10],[26,11,26,12],[27,9,27,10],[27,11,27,12],[28,9,28,10],[28,11,28,12],[23,9,23,10],[23,11,23,12],[24,9,24,10],[24,11,24,12],[25,9,25,10],[25,11,25,12],[20,9,20,10],[20,11,20,12],[21,9,21,10],[21,11,21,12],[22,9,22,10],[22,11,22,12],[17,9,17,10],[17,11,17,12],[18,9,18,10],[18,11,18,12],[19,9,19,10],[19,11,19,12],[14,9,14,10],[14,11,14,12],[15,9,15,10],[15,11,15,12],[16,9,16,10],[16,11,16,12],[11,9,11,10],[11,11,11,12],[12,9,12,10],[12,11,12,12],[13,9,13,10],[13,11,13,12],[8,9,8,10],[8,11,8,12],[9,9,9,10],[9,11,9,12],[10,9,10,10],[10,11,10,12],[5,9,5,10],[5,11,5,12],[6,9,6,10],[6,11,6,12],[7,9,7,10],[7,11,7,12],[4,9,4,10],[4,11,4,12],[0,1,0,7],[0,10,0,11],[0,13,0,14],[1,1,1,2],[1,9,1,10],[1,11,1,12],[2,1,2,2],[2,9,2,10],[2,11,2,12],[3,9,3,10],[3,11,3,12]]}
["Løn","2019-01-01",null,null,null,null,null,null,"Uge :",{"$f":"IF(A4=\"\",\"\",TRUNC((A4-WEEKDAY(A4,2)-DATE(YEAR(A4+4-WEEKDAY(A4,2)),1,-10))/7))","v":35},"-",null,{"$f":"IF(A25=\"\",\"\",TRUNC((A25-WEEKDAY(A25,2)-DATE(YEAR(A25+4-WEEKDAY(A25,2)),1,-10))/7))","v":38},{"$f":"EOMONTH(A4,0)","v":"2019-09-30"},null,9,null,null,null,null,null,"Time beregning:",null,null,null,null,null,null,null,null,null,null,"06:00:00","18:00:00","03:00:00"]
["Lønart",null,null,null,null,null,null,null,null,null,null,null,null,null,null,null,null,null,null,null,null,"Betalt pause ved vagt over 5 timer",null,null,null,"00:25:00","minutter","00:00:00","06:00:00","17:00:00","14:00:00"]
["Dato","Dag",null,"Start","Slut","Pause","Arb. Tid","Overtid           1-3 time","Overtid            4 - time","Forskudt tid alle dage\n18-23",null,"Natarbejde 23-06",null,"Lørdag tillæg 14 - 24","Søndag tillæg 00 - 24","Optjent afspadsering","Afholdt afspadsering","Syge Timer","norm"]
[{"$f":"DATE(T.!$B$2,$P$1,1)","v":"2019-09-01"},{"$f":"PROPER(TEXT(A4,\"ddd\"))","v":"Sø"},{"$f":"HelligdagsNavn(A4,0,0)","v":""},"07:00:00","16:00:00","00:30:00",{"$f":"IF(D4=\"\",\"\",(E4-D4)+(D4>E4)-F4)","v":0.35416666666666663},{"$f":"IF(G4=\"\",0,IF(WEEKDAY(A4,2)=7,0,IF(G4>S4,MIN(G4-S4,$AI$1),0)))","v":"00:00:00"},{"$f":"IF(G4=\"\",\"\",IF(G4>S4+H4,G4-(S4+H4),\"\"))","v":"08:30:00"},{"$f":"ColTime(T.!$J$4,T.!$L$4,D4,E4)","v":"00:00:00"},null,{"$f":"ColTime(TIME(T.!$J$5,0,0),TIME(T.!$L$5,0,0),D4,E4)","v":"09:00:00"},null,{"$f":"IF(WEEKDAY(A4,2)=6,ColTime(TIME(14,0,0),TIME(24,0,0),D4,E4),\"\")","v":""},{"$f":"IF(OR(C4<>\"\",WEEKDAY(A4,2)=7),ColTime(TIME(0,0,0),TIME(24,0,0),D4,E4),\"\")","v":"09:00:00"},{"$f":"IFERROR(H4+I4,\"\")","v":"08:30:00"},null,null,{"$f":"CHOOSE(WEEKDAY(A4,2),norm!C$1,norm!C$2,norm!C$3,norm!C$4,norm!C$5,norm!C$6,norm!C$7)","v":"00:00:00"},null,null,{"$f":"IF(D4=\"\",\"\",HOUR(D4))","v":7},{"$f":"IF(D4=\"\",\"\",MINUTE(D4))","v":0},{"$f":"IF(D4=\"\",\"\",TIME(HOUR(D4),MINUTE(D4),0))","v":"07:00:00"},{"$f":"IF(E4=\"\",\"\",HOUR(E4))","v":16},{"$f":"IF(E4=\"\",\"\",MINUTE(E4))","v":0},"02:00:00","09:30:00","11:30:00",null,null,null,{"$f":"MIN(G4-S4,3)","v":0.35416666666666663}]
[{"$f":"A4+1","v":"2019-09-02"},{"$f":"PROPER(TEXT(A5,\"ddd\"))","v":"Ma"},{"$f":"HelligdagsNavn(A5,0,0)","v":""},"13:45:00","21:30:00","00:30:00",{"$f":"IF(D5=\"\",\"\",(E5-D5)+(D5>E5)-F5)","v":0.30208333333333343},{"$f":"IF(G5=\"\",0,IF(WEEKDAY(A5,2)=7,0,IF(G5>S5,MIN(G5-S5,$AI$1),0)))","v":"00:00:00"},{"$f":"IF(G5=\"\",\"\",IF(G5>S5+H5,G5-(S5+H5),\"\"))","v":""},{"$f":"ColTime(T.!$J$4,T.!$L$4,D5,E5)","v":"03:30:00"},null,{"$f":"ColTime(TIME(T.!$J$5,0,0),TIME(T.!$L$5,0,0),D5,E5)","v":"07:45:00"},null,"","",{"$f":"IFERROR(H5+I5,\"\")","v":""},null,null,{"$f":"CHOOSE(WEEKDAY(A5,2),norm!C$1,norm!C$2,norm!C$3,norm!C$4,norm!C$5,norm!C$6,norm!C$7)","v":"07:30:00"},null,null,13,45,"13:45:00",21,30,{"$f":"IF(E5=\"\",\"\",TIME(HOUR(E5),MINUTE(E5),0))","v":"21:30:00"},null,null,null,null,null,null,"Der taste kun i de Gule celler"]
[{"$f":"A5+1","v":"2019-09-03"},{"$f":"PROPER(TEXT(A6,\"ddd\"))","v":"Ti"},"","22:00:00","05:45:00","00:30:00",0.30208333333333343,"00:00:00","",{"$f":"ColTime(T.!$J$4,T.!$L$4,D6,E6)","v":"01:00:00"},null,{"$f":"ColTime(TIME(T.!$J$5,0,0),TIME(T.!$L$5,0,0),D6,E6)","v":"07:45:00"},null,"","",{"$f":"IFERROR(H6+I6,\"\")","v":""},null,null,{"$f":"CHOOSE(WEEKDAY(A6,2),norm!C$1,norm!C$2,norm!C$3,norm!C$4,norm!C$5,norm!C$6,norm!C$7)","v":"07:30:00"},null,null,22,0,"22:00:00",5,45,"05:45:00"]
["2019-09-04","On","","05:00:00","16:45:00","00:30:00",0.46874999999999994,"03:00:00","00:45:00",{"$f":"ColTime(T.!$J$4,T.!$L$4,D7,E7)","v":"00:00:00"},null,{"$f":"ColTime(TIME(T.!$J$5,0,0),TIME(T.!$L$5,0,0),D7,E7)","v":"11:45:00"},null,"","",{"$f":"IFERROR(H7+I7,\"\")","v":"03:45:00"},null,null,{"$f":"CHOOSE(WEEKDAY(A7,2),norm!C$1,norm!C$2,norm!C$3,norm!C$4,norm!C$5,norm!C$6,norm!C$7)","v":"07:30:00"},null,null,5,0,"05:00:00",16,45,"16:45:00"]
["2019-09-05","To","",null,null,null,"","00:00:00","",{"$f":"ColTime(T.!$J$4,T.!$L$4,D8,E8)","v":"00:00:00"},null,{"$f":"ColTime(TIME(T.!$J$5,0,0),TIME(T.!$L$5,0,0),D8,E8)","v":"00:00:00"},null,"","",{"$f":"IFERROR(H8+I8,\"\")","v":""},null,null,{"$f":"CHOOSE(WEEKDAY(A8,2),norm!C$1,norm!C$2,norm!C$3,norm!C$4,norm!C$5,norm!C$6,norm!C$7)","v":"07:30:00"},null,null,"","","","","",""]
["2019-09-06","Fr","","06:00:00","19:00:00","00:30:00",0.52083333333333326,"03:00:00","02:30:00",{"$f":"ColTime(T.!$J$4,T.!$L$4,D9,E9)","v":"01:00:00"},null,{"$f":"ColTime(TIME(T.!$J$5,0,0),TIME(T.!$L$5,0,0),D9,E9)","v":"13:00:00"},null,"",{"$f":"IF(OR(C9<>\"\",WEEKDAY(A9,2)=7),ColTime(TIME(0,0,0),TIME(24,0,0),D9,E9),\"\")","v":""},{"$f":"IFERROR(H9+I9,\"\")","v":"05:30:00"},null,null,{"$f":"CHOOSE(WEEKDAY(A9,2),norm!C$1,norm!C$2,norm!C$3,norm!C$4,norm!C$5,norm!C$6,norm!C$7)","v":"07:00:00"},null,null,6,0,"06:00:00",19,0,"19:00:00"]
["2019-09-07","Lø","","07:00:00","19:00:00",null,0.49999999999999994,"03:00:00","09:00:00",{"$f":"ColTime(T.!$J$4,T.!$L$4,D10,E10)","v":"01:00:00"},null,{"$f":"ColTime(TIME(T.!$J$5,0,0),TIME(T.!$L$5,0,0),D10,E10)","v":"12:00:00"},null,{"$f":"IF(WEEKDAY(A10,2)=6,ColTime(TIME(14,0,0),TIME(24,0,0),D10,E10),\"\")","v":"05:00:00"},{"$f":"IF(OR(C10<>\"\",WEEKDAY(A10,2)=7),ColTime(TIME(0,0,0),TIME(24,0,0),D10,E10),\"\")","v":""},"12:00:00",null,null,{"$f":"CHOOSE(WEEKDAY(A10,2),norm!C$1,norm!C$2,norm!C$3,norm!C$4,norm!C$5,norm!C$6,norm!C$7)","v":"00:00:00"},null,null,7,0,"07:00:00",19,0,"19:00:00"]
[{"$f":"A10+1","v":"2019-09-08"},{"$f":"PROPER(TEXT(A11,\"ddd\"))","v":"Sø"},{"$f":"HelligdagsNavn(A11,0,0)","v":""},null,null,null,"","00:00:00","",{"$f":"ColTime(T.!$J$4,T.!$L$4,D11,E11)","v":"00:00:00"},null,{"$f":"ColTime(TIME(T.!$J$5,0,0),TIME(T.!$L$5,0,0),D11,E11)","v":"00:00:00"},null,{"$f":"IF(WEEKDAY(A11,2)=6,ColTime(TIME(15,0,0),TIME(24,0,0),D11,E11),\"\")","v":""},"00:00:00","",null,null,{"$f":"CHOOSE(WEEKDAY(A11,2),norm!C$1,norm!C$2,norm!C$3,norm!C$4,norm!C$5,norm!C$6,norm!C$7)","v":"00:00:00"},null,null,"","","","","",""]
[{"$f":"A11+1","v":"2019-09-09"},{"$f":"PROPER(TEXT(A12,\"ddd\"))","v":"Ma"},{"$f":"HelligdagsNavn(A12,0,0)","v":""},null,null,null,"","00:00:00","",{"$f":"ColTime(T.!$J$4,T.!$L$4,D12,E12)","v":"00:00:00"},null,{"$f":"ColTime(TIME(T.!$J$5,0,0),TIME(T.!$L$5,0,0),D12,E12)","v":"00:00:00"},null,"","","",null,null,{"$f":"CHOOSE(WEEKDAY(A12,2),norm!C$1,norm!C$2,norm!C$3,norm!C$4,norm!C$5,norm!C$6,norm!C$7)","v":"07:30:00"},null,null,"","","","","",""]
[{"$f":"A12+1","v":"2019-09-10"},{"$f":"PROPER(TEXT(A13,\"ddd\"))","v":"Ti"},"",null,null,null,"","00:00:00","",{"$f":"ColTime(T.!$J$4,T.!$L$4,D13,E13)","v":"00:00:00"},null,{"$f":"ColTime(TIME(T.!$J$5,0,0),TIME(T.!$L$5,0,0),D13,E13)","v":"00:00:00"},null,"","","",null,null,{"$f":"CHOOSE(WEEKDAY(A13,2),norm!C$1,norm!C$2,norm!C$3,norm!C$4,norm!C$5,norm!C$6,norm!C$7)","v":"07:30:00"},null,null,"","","","","",""]
["2019-09-11","On","",null,null,null,"","00:00:00","",{"$f":"ColTime(T.!$J$4,T.!$L$4,D14,E14)","v":"00:00:00"},null,{"$f":"ColTime(TIME(T.!$J$5,0,0),TIME(T.!$L$5,0,0),D14,E14)","v":"00:00:00"},null,"","","",null,null,{"$f":"CHOOSE(WEEKDAY(A14,2),norm!C$1,norm!C$2,norm!C$3,norm!C$4,norm!C$5,norm!C$6,norm!C$7)","v":"07:30:00"},null,null,"","","","","",""]
["2019-09-12","To","",null,null,null,"","00:00:00","",{"$f":"ColTime(T.!$J$4,T.!$L$4,D15,E15)","v":"00:00:00"},null,{"$f":"ColTime(TIME(T.!$J$5,0,0),TIME(T.!$L$5,0,0),D15,E15)","v":"00:00:00"},null,"","","",null,null,{"$f":"CHOOSE(WEEKDAY(A15,2),norm!C$1,norm!C$2,norm!C$3,norm!C$4,norm!C$5,norm!C$6,norm!C$7)","v":"07:30:00"},null,null,"","","",null,"",""]
["2019-09-13","Fr","",null,null,null,"","00:00:00","",{"$f":"ColTime(T.!$J$4,T.!$L$4,D16,E16)","v":"00:00:00"},null,{"$f":"ColTime(TIME(T.!$J$5,0,0),TIME(T.!$L$5,0,0),D16,E16)","v":"00:00:00"},null,"","","",null,null,{"$f":"CHOOSE(WEEKDAY(A16,2),norm!C$1,norm!C$2,norm!C$3,norm!C$4,norm!C$5,norm!C$6,norm!C$7)","v":"07:00:00"},null,null,"","","","","",""]
["2019-09-14","Lø","",null,null,null,"","00:00:00","",{"$f":"ColTime(T.!$J$4,T.!$L$4,D17,E17)","v":"00:00:00"},null,{"$f":"ColTime(TIME(T.!$J$5,0,0),TIME(T.!$L$5,0,0),D17,E17)","v":"00:00:00"},null,"00:00:00","","",null,null,{"$f":"CHOOSE(WEEKDAY(A17,2),norm!C$1,norm!C$2,norm!C$3,norm!C$4,norm!C$5,norm!C$6,norm!C$7)","v":"00:00:00"},null,null,"","","","","",""]
[{"$f":"A17+1","v":"2019-09-15"},{"$f":"PROPER(TEXT(A18,\"ddd\"))","v":"Sø"},{"$f":"HelligdagsNavn(A18,0,0)","v":""},null,null,null,"","00:00:00","",{"$f":"ColTime(T.!$J$4,T.!$L$4,D18,E18)","v":"00:00:00"},null,{"$f":"ColTime(TIME(T.!$J$5,0,0),TIME(T.!$L$5,0,0),D18,E18)","v":"00:00:00"},null,"","00:00:00","",null,null,{"$f":"CHOOSE(WEEKDAY(A18,2),norm!C$1,norm!C$2,norm!C$3,norm!C$4,norm!C$5,norm!C$6,norm!C$7)","v":"00:00:00"},null,null,"","","","","",""]
[{"$f":"A18+1","v":"2019-09-16"},{"$f":"PROPER(TEXT(A19,\"ddd\"))","v":"Ma"},{"$f":"HelligdagsNavn(A19,0,0)","v":""},null,null,null,"","00:00:00","",{"$f":"ColTime(T.!$J$4,T.!$L$4,D19,E19)","v":"00:00:00"},null,{"$f":"ColTime(TIME(T.!$J$5,0,0),TIME(T.!$L$5,0,0),D19,E19)","v":"00:00:00"},null,"","","",null,null,{"$f":"CHOOSE(WEEKDAY(A19,2),norm!C$1,norm!C$2,norm!C$3,norm!C$4,norm!C$5,norm!C$6,norm!C$7)","v":"07:30:00"},null,null,"","","","","",""]
[{"$f":"A19+1","v":"2019-09-17"},{"$f":"PROPER(TEXT(A20,\"ddd\"))","v":"Ti"},"",null,null,null,"","00:00:00","",{"$f":"ColTime(T.!$J$4,T.!$L$4,D20,E20)","v":"00:00:00"},null,{"$f":"ColTime(TIME(T.!$J$5,0,0),TIME(T.!$L$5,0,0),D20,E20)","v":"00:00:00"},null,"","","",null,null,{"$f":"CHOOSE(WEEKDAY(A20,2),norm!C$1,norm!C$2,norm!C$3,norm!C$4,norm!C$5,norm!C$6,norm!C$7)","v":"07:30:00"},null,null,"","","","","",""]
["2019-09-18","On","",null,null,null,"","00:00:00","",{"$f":"ColTime(T.!$J$4,T.!$L$4,D21,E21)","v":"00:00:00"},null,{"$f":"ColTime(TIME(T.!$J$5,0,0),TIME(T.!$L$5,0,0),D21,E21)","v":"00:00:00"},null,"","","",null,null,{"$f":"CHOOSE(WEEKDAY(A21,2),norm!C$1,norm!C$2,norm!C$3,norm!C$4,norm!C$5,norm!C$6,norm!C$7)","v":"07:30:00"},null,null,"","","","","",""]
["2019-09-19","To","",null,null,null,"","00:00:00","",{"$f":"ColTime(T.!$J$4,T.!$L$4,D22,E22)","v":"00:00:00"},null,{"$f":"ColTime(TIME(T.!$J$5,0,0),TIME(T.!$L$5,0,0),D22,E22)","v":"00:00:00"},null,"","","",null,null,{"$f":"CHOOSE(WEEKDAY(A22,2),norm!C$1,norm!C$2,norm!C$3,norm!C$4,norm!C$5,norm!C$6,norm!C$7)","v":"07:30:00"},null,null,"","","","","",""]
["2019-09-20","Fr","",null,null,null,"","00:00:00","",{"$f":"ColTime(T.!$J$4,T.!$L$4,D23,E23)","v":"00:00:00"},null,{"$f":"ColTime(TIME(T.!$J$5,0,0),TIME(T.!$L$5,0,0),D23,E23)","v":"00:00:00"},null,"","","",null,null,{"$f":"CHOOSE(WEEKDAY(A23,2),norm!C$1,norm!C$2,norm!C$3,norm!C$4,norm!C$5,norm!C$6,norm!C$7)","v":"07:00:00"},null,null,"","","","","",""]
["2019-09-21","Lø","",null,null,null,"","00:00:00","",{"$f":"ColTime(T.!$J$4,T.!$L$4,D24,E24)","v":"00:00:00"},null,{"$f":"ColTime(TIME(T.!$J$5,0,0),TIME(T.!$L$5,0,0),D24,E24)","v":"00:00:00"},null,"00:00:00","","",null,null,{"$f":"CHOOSE(WEEKDAY(A24,2),norm!C$1,norm!C$2,norm!C$3,norm!C$4,norm!C$5,norm!C$6,norm!C$7)","v":"00:00:00"},null,null,"","","","","",""]
[{"$f":"A24+1","v":"2019-09-22"},{"$f":"PROPER(TEXT(A25,\"ddd\"))","v":"Sø"},{"$f":"HelligdagsNavn(A25,0,0)","v":""},null,null,null,"","00:00:00","",{"$f":"ColTime(T.!$J$4,T.!$L$4,D25,E25)","v":"00:00:00"},null,{"$f":"ColTime(TIME(T.!$J$5,0,0),TIME(T.!$L$5,0,0),D25,E25)","v":"00:00:00"},null,"","00:00:00","",null,null,{"$f":"CHOOSE(WEEKDAY(A25,2),norm!C$1,norm!C$2,norm!C$3,norm!C$4,norm!C$5,norm!C$6,norm!C$7)","v":"00:00:00"},null,null,"","","","","",""]
[{"$f":"A25+1","v":"2019-09-23"},{"$f":"PROPER(TEXT(A26,\"ddd\"))","v":"Ma"},{"$f":"HelligdagsNavn(A26,0,0)","v":""},null,null,null,"","00:00:00","",{"$f":"ColTime(T.!$J$4,T.!$L$4,D26,E26)","v":"00:00:00"},null,{"$f":"ColTime(TIME(T.!$J$5,0,0),TIME(T.!$L$5,0,0),D26,E26)","v":"00:00:00"},null,"","","",null,null,{"$f":"CHOOSE(WEEKDAY(A26,2),norm!C$1,norm!C$2,norm!C$3,norm!C$4,norm!C$5,norm!C$6,norm!C$7)","v":"07:30:00"},null,null,"","","","","",""]
[{"$f":"A26+1","v":"2019-09-24"},{"$f":"PROPER(TEXT(A27,\"ddd\"))","v":"Ti"},"",null,null,null,"","00:00:00","",{"$f":"ColTime(T.!$J$4,T.!$L$4,D27,E27)","v":"00:00:00"},null,{"$f":"ColTime(TIME(T.!$J$5,0,0),TIME(T.!$L$5,0,0),D27,E27)","v":"00:00:00"},null,"","","",null,null,{"$f":"CHOOSE(WEEKDAY(A27,2),norm!C$1,norm!C$2,norm!C$3,norm!C$4,norm!C$5,norm!C$6,norm!C$7)","v":"07:30:00"},null,null,"","","","","",""]
["2019-09-25","On","",null,null,null,"","00:00:00","",{"$f":"ColTime(T.!$J$4,T.!$L$4,D28,E28)","v":"00:00:00"},null,{"$f":"ColTime(TIME(T.!$J$5,0,0),TIME(T.!$L$5,0,0),D28,E28)","v":"00:00:00"},null,"","","",null,null,{"$f":"CHOOSE(WEEKDAY(A28,2),norm!C$1,norm!C$2,norm!C$3,norm!C$4,norm!C$5,norm!C$6,norm!C$7)","v":"07:30:00"},null,null,"","","","","",""]
["2019-09-26","To","",null,null,null,"","00:00:00","",{"$f":"ColTime(T.!$J$4,T.!$L$4,D29,E29)","v":"00:00:00"},null,{"$f":"ColTime(TIME(T.!$J$5,0,0),TIME(T.!$L$5,0,0),D29,E29)","v":"00:00:00"},null,"","","",null,null,{"$f":"CHOOSE(WEEKDAY(A29,2),norm!C$1,norm!C$2,norm!C$3,norm!C$4,norm!C$5,norm!C$6,norm!C$7)","v":"07:30:00"}]
["2019-09-27","Fr","",null,null,null,"","00:00:00","",{"$f":"ColTime(T.!$J$4,T.!$L$4,D30,E30)","v":"00:00:00"},null,{"$f":"ColTime(TIME(T.!$J$5,0,0),TIME(T.!$L$5,0,0),D30,E30)","v":"00:00:00"},null,"","","",null,null,{"$f":"CHOOSE(WEEKDAY(A30,2),norm!C$1,norm!C$2,norm!C$3,norm!C$4,norm!C$5,norm!C$6,norm!C$7)","v":"07:00:00"}]
["2019-09-28","Lø","",null,null,null,"","00:00:00","",{"$f":"ColTime(T.!$J$4,T.!$L$4,D31,E31)","v":"00:00:00"},null,{"$f":"ColTime(TIME(T.!$J$5,0,0),TIME(T.!$L$5,0,0),D31,E31)","v":"00:00:00"},null,"00:00:00","","",null,null,{"$f":"CHOOSE(WEEKDAY(A31,2),norm!C$1,norm!C$2,norm!C$3,norm!C$4,norm!C$5,norm!C$6,norm!C$7)","v":"00:00:00"}]
[{"$f":"IF(MONTH(A31+1)>MONTH(A31),\"\",A31+1)","v":"2019-09-29"},"Sø",{"$f":"IF(A32=\"\",\"\",HelligdagsNavn(A32,0,0))","v":""},null,null,null,"","00:00:00","",{"$f":"ColTime(T.!$J$4,T.!$L$4,D32,E32)","v":"00:00:00"},null,{"$f":"ColTime(TIME(T.!$J$5,0,0),TIME(T.!$L$5,0,0),D32,E32)","v":"00:00:00"},null,{"$f":"IFERROR(IF(WEEKDAY(A32,2)=6,ColTime(TIME(15,0,0),TIME(24,0,0),D32,E32),\"\"),\"\")","v":""},{"$f":"IFERROR(IF(OR(C32<>\"\",WEEKDAY(A32,2)=7),ColTime(TIME(0,0,0),TIME(24,0,0),D32,E32),\"\"),\"\")","v":"00:00:00"},"",null,null,{"$f":"IFERROR(CHOOSE(WEEKDAY(A32,2),norm!C$1,norm!C$2,norm!C$3,norm!C$4,norm!C$5,norm!C$6,norm!C$7),\"\")","v":"00:00:00"}]
[{"$f":"IFERROR(IF(MONTH(A32+1)>MONTH(A32),\"\",A32+1),\"\")","v":"2019-09-30"},"Ma","",null,null,null,"","00:00:00","",{"$f":"ColTime(T.!$J$4,T.!$L$4,D33,E33)","v":"00:00:00"},null,{"$f":"ColTime(TIME(T.!$J$5,0,0),TIME(T.!$L$5,0,0),D33,E33)","v":"00:00:00"},null,{"$f":"IFERROR(IF(WEEKDAY(A33,2)=6,ColTime(TIME(15,0,0),TIME(24,0,0),D33,E33),\"\"),\"\")","v":""},{"$f":"IFERROR(IF(OR(C33<>\"\",WEEKDAY(A33,2)=7),ColTime(TIME(0,0,0),TIME(24,0,0),D33,E33),\"\"),\"\")","v":""},"",null,null,{"$f":"IFERROR(CHOOSE(WEEKDAY(A33,2),norm!C$1,norm!C$2,norm!C$3,norm!C$4,norm!C$5,norm!C$6,norm!C$7),\"\")","v":"07:30:00"}]
[{"$f":"IFERROR(IF(MONTH(A33+1)>MONTH(A33),\"\",A33+1),\"\")","v":""},{"$f":"IFERROR(PROPER(TEXT(A34,\"ddd\")),\"\")","v":""},{"$f":"IF(A34=\"\",\"\",HelligdagsNavn(A34,0,0))","v":""},null,null,null,"","00:00:00","",{"$f":"ColTime(T.!$J$4,T.!$L$4,D34,E34)","v":"00:00:00"},null,{"$f":"ColTime(TIME(T.!$J$5,0,0),TIME(T.!$L$5,0,0),D34,E34)","v":"00:00:00"},null,{"$f":"IFERROR(IF(WEEKDAY(A34,2)=6,ColTime(TIME(15,0,0),TIME(24,0,0),D34,E34),\"\"),\"\")","v":""},"","",null,null,{"$f":"IFERROR(CHOOSE(WEEKDAY(A34,2),norm!C$1,norm!C$2,norm!C$3,norm!C$4,norm!C$5,norm!C$6,norm!C$7),\"\")","v":""},null,null,{"$f":"IF(D34=\"\",\"\",HOUR(D34))","v":""},{"$f":"IF(D34=\"\",\"\",MINUTE(D34))","v":""},{"$f":"IF(D34=\"\",\"\",TIME(HOUR(D34),MINUTE(D34),0))","v":""},{"$f":"IF(E34=\"\",\"\",HOUR(E34))","v":""},{"$f":"IF(E34=\"\",\"\",MINUTE(E34))","v":""},{"$f":"IF(E34=\"\",\"\",TIME(HOUR(E34),MINUTE(E34),0))","v":""}]
["Total timer",null,null,null,null,null,{"$f":"IF(SUM(G9:G34)<>\"0\",SUM(G4:G34),\"\")","v":2.4479166666666665},{"$f":"IF(SUM(H4:H34)<>\"0\",SUM(H4:H34),\"\")","v":0.375},{"$f":"IF(SUM(I4:I34)<>\"0\",SUM(I4:I34),\"\")","v":0.86458333333333304},{"$f":"IF(SUM(J4:J34)<>\"0\",SUM(J4:J34),\"\")","v":0.27083333333333337},null,{"$f":"SUM(L4:M34)","v":2.5520833333333335},null,{"$f":"IF(SUM(N4:N34)<>\"0\",SUM(N4:N34),\"\")","v":0.20833333333333326},{"$f":"IF(SUM(O4:O34)<>\"0\",SUM(O4:O34),\"\")","v":"09:00:00"},{"$f":"SUM(P4:P34)","v":1.239583333333333},{"$f":"SUM(Q4:Q34)","v":0}]
["Timer 1/100",null,null,null,null,null,{"$f":"IF(G35<>\"\",ROUND(G35*24,2),\"\")","v":58.75},{"$f":"IF(H35<>\"\",ROUND(H35*24,2),\"\")","v":9},20.75,{"$f":"IF(J35<>\"\",ROUND(J35*24,2),\"\")","v":6.5},null,{"$f":"IF(L35<>\"\",ROUND(L35*24,2),\"\")","v":61.25},null,{"$f":"IF(N35<>\"\",ROUND(N35*24,2),\"\")","v":5},9,29.75,0]
["Satser",null,null,null,null,null,{"$f":"Satser!B7","v":107.35},{"$f":"Satser!B9","v":36.35},{"$f":"Satser!B12","v":58.1},{"$f":"Satser!B17","v":13.91},null,{"$f":"Satser!B18","v":23.19},null,{"$f":"Satser!B19","v":24.89},{"$f":"Satser!B20","v":27.63}]
[null,null,null,null,null,null,{"$f":"IF(G35<>\"\",G36*G37,\"\")","v":6306.8125},{"$f":"IF(H35<>\"\",H36*H37,\"\")","v":327.15000000000003},1205.575,{"$f":"IF(J35<>\"\",J36*J37,\"\")","v":90.415000000000006},null,{"$f":"IF(L35<>\"\",L36*L36,\"\")","v":3751.5625},null,{"$f":"IF(N35<>\"\",N36*N37,\"\")","v":124.45},248.67]
[]
["Lønart"]
[3025,null,null,null,null,null,{"$f":"G35","v":2.4479166666666665}]
[3425,null,null,null,null,null,{"$f":"H35","v":0.375}]
[3428,null,null,null,null,null,{"$f":"I35","v":0.86458333333333304}]
["Timer",null,null,null,null,null,{"$f":"SUM(G41:G43)","v":3.6874999999999996},{"$f":"IF(G44<>\"\",ROUND(G44*24,2),\"\")","v":88.5}]
[null,null,null,null,null,null,null,{"$f":"G37*H44","v":9500.4750000000004}]

{"sheet":"December","index":17,"n_rows":45,"n_cols":35,"rows_kept":45,"cut":false,"hidden":true,"merged":[[39,0,39,2],[40,0,40,2],[41,0,41,2],[42,0,42,2],[43,0,43,5],[35,9,35,10],[35,11,35,12],[36,9,36,10],[36,11,36,12],[37,9,37,10],[37,11,37,12],[32,9,32,10],[32,11,32,12],[33,9,33,10],[33,11,33,12],[34,9,34,10],[34,11,34,12],[29,9,29,10],[29,11,29,12],[30,9,30,10],[30,11,30,12],[31,9,31,10],[31,11,31,12],[26,9,26,10],[26,11,26,12],[27,9,27,10],[27,11,27,12],[28,9,28,10],[28,11,28,12],[23,9,23,10],[23,11,23,12],[24,9,24,10],[24,11,24,12],[25,9,25,10],[25,11,25,12],[20,9,20,10],[20,11,20,12],[21,9,21,10],[21,11,21,12],[22,9,22,10],[22,11,22,12],[17,9,17,10],[17,11,17,12],[18,9,18,10],[18,11,18,12],[19,9,19,10],[19,11,19,12],[14,9,14,10],[14,11,14,12],[15,9,15,10],[15,11,15,12],[16,9,16,10],[16,11,16,12],[11,9,11,10],[11,11,11,12],[12,9,12,10],[12,11,12,12],[13,9,13,10],[13,11,13,12],[8,9,8,10],[8,11,8,12],[9,9,9,10],[9,11,9,12],[10,9,10,10],[10,11,10,12],[5,9,5,10],[5,11,5,12],[6,9,6,10],[6,11,6,12],[7,9,7,10],[7,11,7,12],[4,9,4,10],[4,11,4,12],[0,1,0,7],[0,10,0,11],[0,13,0,14],[1,1,1,2],[1,9,1,10],[1,11,1,12],[2,1,2,2],[2,9,2,10],[2,11,2,12],[3,9,3,10],[3,11,3,12]]}
["Løn","2019-01-01",null,null,null,null,null,null,"Uge :",{"$f":"IF(A4=\"\",\"\",TRUNC((A4-WEEKDAY(A4,2)-DATE(YEAR(A4+4-WEEKDAY(A4,2)),1,-10))/7))","v":35},"-",null,{"$f":"IF(A25=\"\",\"\",TRUNC((A25-WEEKDAY(A25,2)-DATE(YEAR(A25+4-WEEKDAY(A25,2)),1,-10))/7))","v":38},{"$f":"EOMONTH(A4,0)","v":"2019-09-30"},null,9,null,null,null,null,null,"Time beregning:",null,null,null,null,null,null,null,null,null,null,"06:00:00","18:00:00","03:00:00"]
["Lønart",null,null,null,null,null,null,null,null,null,null,null,null,null,null,null,null,null,null,null,null,"Betalt pause ved vagt over 5 timer",null,null,null,"00:25:00","minutter","00:00:00","06:00:00","17:00:00","14:00:00"]
["Dato","Dag",null,"Start","Slut","Pause","Arb. Tid","Overtid           1-3 time","Overtid            4 - time","Forskudt tid alle dage\n18-23",null,"Natarbejde 23-06",null,"Lørdag tillæg 14 - 24","Søndag tillæg 00 - 24","Optjent afspadsering","Afholdt afspadsering","Syge Timer","norm"]
[{"$f":"DATE(T.!$B$2,$P$1,1)","v":"2019-09-01"},{"$f":"PROPER(TEXT(A4,\"ddd\"))","v":"Sø"},{"$f":"HelligdagsNavn(A4,0,0)","v":""},"07:00:00","16:00:00","00:30:00",{"$f":"IF(D4=\"\",\"\",(E4-D4)+(D4>E4)-F4)","v":0.35416666666666663},{"$f":"IF(G4=\"\",0,IF(WEEKDAY(A4,2)=7,0,IF(G4>S4,MIN(G4-S4,$AI$1),0)))","v":"00:00:00"},{"$f":"IF(G4=\"\",\"\",IF(G4>S4+H4,G4-(S4+H4),\"\"))","v":"08:30:00"},{"$f":"ColTime(T.!$J$4,T.!$L$4,D4,E4)","v":"00:00:00"},null,{"$f":"ColTime(TIME(T.!$J$5,0,0),TIME(T.!$L$5,0,0),D4,E4)","v":"09:00:00"},null,{"$f":"IF(WEEKDAY(A4,2)=6,ColTime(TIME(14,0,0),TIME(24,0,0),D4,E4),\"\")","v":""},{"$f":"IF(OR(C4<>\"\",WEEKDAY(A4,2)=7),ColTime(TIME(0,0,0),TIME(24,0,0),D4,E4),\"\")","v":"09:00:00"},{"$f":"IFERROR(H4+I4,\"\")","v":"08:30:00"},null,null,{"$f":"CHOOSE(WEEKDAY(A4,2),norm!C$1,norm!C$2,norm!C$3,norm!C$4,norm!C$5,norm!C$6,norm!C$7)","v":"00:00:00"},null,null,{"$f":"IF(D4=\"\",\"\",HOUR(D4))","v":7},{"$f":"IF(D4=\"\",\"\",MINUTE(D4))","v":0},{"$f":"IF(D4=\"\",\"\",TIME(HOUR(D4),MINUTE(D4),0))","v":"07:00:00"},{"$f":"IF(E4=\"\",\"\",HOUR(E4))","v":16},{"$f":"IF(E4=\"\",\"\",MINUTE(E4))","v":0},"02:00:00","09:30:00","11:30:00",null,null,null,{"$f":"MIN(G4-S4,3)","v":0.35416666666666663}]
[{"$f":"A4+1","v":"2019-09-02"},{"$f":"PROPER(TEXT(A5,\"ddd\"))","v":"Ma"},{"$f":"HelligdagsNavn(A5,0,0)","v":""},"13:45:00","21:30:00","00:30:00",{"$f":"IF(D5=\"\",\"\",(E5-D5)+(D5>E5)-F5)","v":0.30208333333333343},{"$f":"IF(G5=\"\",0,IF(WEEKDAY(A5,2)=7,0,IF(G5>S5,MIN(G5-S5,$AI$1),0)))","v":"00:00:00"},{"$f":"IF(G5=\"\",\"\",IF(G5>S5+H5,G5-(S5+H5),\"\"))","v":""},{"$f":"ColTime(T.!$J$4,T.!$L$4,D5,E5)","v":"03:30:00"},null,{"$f":"ColTime(TIME(T.!$J$5,0,0),TIME(T.!$L$5,0,0),D5,E5)","v":"07:45:00"},null,"","",{"$f":"IFERROR(H5+I5,\"\")","v":""},null,null,{"$f":"CHOOSE(WEEKDAY(A5,2),norm!C$1,norm!C$2,norm!C$3,norm!C$4,norm!C$5,norm!C$6,norm!C$7)","v":"07:30:00"},null,null,13,45,"13:45:00",21,30,{"$f":"IF(E5=\"\",\"\",TIME(HOUR(E5),MINUTE(E5),0))","v":"21:30:00"},null,null,null,null,null,null,"Der taste kun i de Gule celler"]
[{"$f":"A5+1","v":"2019-09-03"},{"$f":"PROPER(TEXT(A6,\"ddd\"))","v":"Ti"},"","22:00:00","05:45:00","00:30:00",0.30208333333333343,"00:00:00","",{"$f":"ColTime(T.!$J$4,T.!$L$4,D6,E6)","v":"01:00:00"},null,{"$f":"ColTime(TIME(T.!$J$5,0,0),TIME(T.!$L$5,0,0),D6,E6)","v":"07:45:00"},null,"","",{"$f":"IFERROR(H6+I6,\"\")","v":""},null,null,{"$f":"CHOOSE(WEEKDAY(A6,2),norm!C$1,norm!C$2,norm!C$3,norm!C$4,norm!C$5,norm!C$6,norm!C$7)","v":"07:30:00"},null,null,22,0,"22:00:00",5,45,"05:45:00"]
["2019-09-04","On","","05:00:00","16:45:00","00:30:00",0.46874999999999994,"03:00:00","00:45:00",{"$f":"ColTime(T.!$J$4,T.!$L$4,D7,E7)","v":"00:00:00"},null,{"$f":"ColTime(TIME(T.!$J$5,0,0),TIME(T.!$L$5,0,0),D7,E7)","v":"11:45:00"},null,"","",{"$f":"IFERROR(H7+I7,\"\")","v":"03:45:00"},null,null,{"$f":"CHOOSE(WEEKDAY(A7,2),norm!C$1,norm!C$2,norm!C$3,norm!C$4,norm!C$5,norm!C$6,norm!C$7)","v":"07:30:00"},null,null,5,0,"05:00:00",16,45,"16:45:00"]
["2019-09-05","To","",null,null,null,"","00:00:00","",{"$f":"ColTime(T.!$J$4,T.!$L$4,D8,E8)","v":"00:00:00"},null,{"$f":"ColTime(TIME(T.!$J$5,0,0),TIME(T.!$L$5,0,0),D8,E8)","v":"00:00:00"},null,"","",{"$f":"IFERROR(H8+I8,\"\")","v":""},null,null,{"$f":"CHOOSE(WEEKDAY(A8,2),norm!C$1,norm!C$2,norm!C$3,norm!C$4,norm!C$5,norm!C$6,norm!C$7)","v":"07:30:00"},null,null,"","","","","",""]
["2019-09-06","Fr","","06:00:00","19:00:00","00:30:00",0.52083333333333326,"03:00:00","02:30:00",{"$f":"ColTime(T.!$J$4,T.!$L$4,D9,E9)","v":"01:00:00"},null,{"$f":"ColTime(TIME(T.!$J$5,0,0),TIME(T.!$L$5,0,0),D9,E9)","v":"13:00:00"},null,"",{"$f":"IF(OR(C9<>\"\",WEEKDAY(A9,2)=7),ColTime(TIME(0,0,0),TIME(24,0,0),D9,E9),\"\")","v":""},{"$f":"IFERROR(H9+I9,\"\")","v":"05:30:00"},null,null,{"$f":"CHOOSE(WEEKDAY(A9,2),norm!C$1,norm!C$2,norm!C$3,norm!C$4,norm!C$5,norm!C$6,norm!C$7)","v":"07:00:00"},null,null,6,0,"06:00:00",19,0,"19:00:00"]
["2019-09-07","Lø","","07:00:00","19:00:00",null,0.49999999999999994,"03:00:00","09:00:00",{"$f":"ColTime(T.!$J$4,T.!$L$4,D10,E10)","v":"01:00:00"},null,{"$f":"ColTime(TIME(T.!$J$5,0,0),TIME(T.!$L$5,0,0),D10,E10)","v":"12:00:00"},null,{"$f":"IF(WEEKDAY(A10,2)=6,ColTime(TIME(14,0,0),TIME(24,0,0),D10,E10),\"\")","v":"05:00:00"},{"$f":"IF(OR(C10<>\"\",WEEKDAY(A10,2)=7),ColTime(TIME(0,0,0),TIME(24,0,0),D10,E10),\"\")","v":""},"12:00:00",null,null,{"$f":"CHOOSE(WEEKDAY(A10,2),norm!C$1,norm!C$2,norm!C$3,norm!C$4,norm!C$5,norm!C$6,norm!C$7)","v":"00:00:00"},null,null,7,0,"07:00:00",19,0,"19:00:00"]
[{"$f":"A10+1","v":"2019-09-08"},{"$f":"PROPER(TEXT(A11,\"ddd\"))","v":"Sø"},{"$f":"HelligdagsNavn(A11,0,0)","v":""},null,null,null,"","00:00:00","",{"$f":"ColTime(T.!$J$4,T.!$L$4,D11,E11)","v":"00:00:00"},null,{"$f":"ColTime(TIME(T.!$J$5,0,0),TIME(T.!$L$5,0,0),D11,E11)","v":"00:00:00"},null,{"$f":"IF(WEEKDAY(A11,2)=6,ColTime(TIME(15,0,0),TIME(24,0,0),D11,E11),\"\")","v":""},"00:00:00","",null,null,{"$f":"CHOOSE(WEEKDAY(A11,2),norm!C$1,norm!C$2,norm!C$3,norm!C$4,norm!C$5,norm!C$6,norm!C$7)","v":"00:00:00"},null,null,"","","","","",""]
[{"$f":"A11+1","v":"2019-09-09"},{"$f":"PROPER(TEXT(A12,\"ddd\"))","v":"Ma"},{"$f":"HelligdagsNavn(A12,0,0)","v":""},null,null,null,"","00:00:00","",{"$f":"ColTime(T.!$J$4,T.!$L$4,D12,E12)","v":"00:00:00"},null,{"$f":"ColTime(TIME(T.!$J$5,0,0),TIME(T.!$L$5,0,0),D12,E12)","v":"00:00:00"},null,"","","",null,null,{"$f":"CHOOSE(WEEKDAY(A12,2),norm!C$1,norm!C$2,norm!C$3,norm!C$4,norm!C$5,norm!C$6,norm!C$7)","v":"07:30:00"},null,null,"","","","","",""]
[{"$f":"A12+1","v":"2019-09-10"},{"$f":"PROPER(TEXT(A13,\"ddd\"))","v":"Ti"},"",null,null,null,"","00:00:00","",{"$f":"ColTime(T.!$J$4,T.!$L$4,D13,E13)","v":"00:00:00"},null,{"$f":"ColTime(TIME(T.!$J$5,0,0),TIME(T.!$L$5,0,0),D13,E13)","v":"00:00:00"},null,"","","",null,null,{"$f":"CHOOSE(WEEKDAY(A13,2),norm!C$1,norm!C$2,norm!C$3,norm!C$4,norm!C$5,norm!C$6,norm!C$7)","v":"07:30:00"},null,null,"","","","","",""]
["2019-09-11","On","",null,null,null,"","00:00:00","",{"$f":"ColTime(T.!$J$4,T.!$L$4,D14,E14)","v":"00:00:00"},null,{"$f":"ColTime(TIME(T.!$J$5,0,0),TIME(T.!$L$5,0,0),D14,E14)","v":"00:00:00"},null,"","","",null,null,{"$f":"CHOOSE(WEEKDAY(A14,2),norm!C$1,norm!C$2,norm!C$3,norm!C$4,norm!C$5,norm!C$6,norm!C$7)","v":"07:30:00"},null,null,"","","","","",""]
["2019-09-12","To","",null,null,null,"","00:00:00","",{"$f":"ColTime(T.!$J$4,T.!$L$4,D15,E15)","v":"00:00:00"},null,{"$f":"ColTime(TIME(T.!$J$5,0,0),TIME(T.!$L$5,0,0),D15,E15)","v":"00:00:00"},null,"","","",null,null,{"$f":"CHOOSE(WEEKDAY(A15,2),norm!C$1,norm!C$2,norm!C$3,norm!C$4,norm!C$5,norm!C$6,norm!C$7)","v":"07:30:00"},null,null,"","","",null,"",""]
["2019-09-13","Fr","",null,null,null,"","00:00:00","",{"$f":"ColTime(T.!$J$4,T.!$L$4,D16,E16)","v":"00:00:00"},null,{"$f":"ColTime(TIME(T.!$J$5,0,0),TIME(T.!$L$5,0,0),D16,E16)","v":"00:00:00"},null,"","","",null,null,{"$f":"CHOOSE(WEEKDAY(A16,2),norm!C$1,norm!C$2,norm!C$3,norm!C$4,norm!C$5,norm!C$6,norm!C$7)","v":"07:00:00"},null,null,"","","","","",""]
["2019-09-14","Lø","",null,null,null,"","00:00:00","",{"$f":"ColTime(T.!$J$4,T.!$L$4,D17,E17)","v":"00:00:00"},null,{"$f":"ColTime(TIME(T.!$J$5,0,0),TIME(T.!$L$5,0,0),D17,E17)","v":"00:00:00"},null,"00:00:00","","",null,null,{"$f":"CHOOSE(WEEKDAY(A17,2),norm!C$1,norm!C$2,norm!C$3,norm!C$4,norm!C$5,norm!C$6,norm!C$7)","v":"00:00:00"},null,null,"","","","","",""]
[{"$f":"A17+1","v":"2019-09-15"},{"$f":"PROPER(TEXT(A18,\"ddd\"))","v":"Sø"},{"$f":"HelligdagsNavn(A18,0,0)","v":""},null,null,null,"","00:00:00","",{"$f":"ColTime(T.!$J$4,T.!$L$4,D18,E18)","v":"00:00:00"},null,{"$f":"ColTime(TIME(T.!$J$5,0,0),TIME(T.!$L$5,0,0),D18,E18)","v":"00:00:00"},null,"","00:00:00","",null,null,{"$f":"CHOOSE(WEEKDAY(A18,2),norm!C$1,norm!C$2,norm!C$3,norm!C$4,norm!C$5,norm!C$6,norm!C$7)","v":"00:00:00"},null,null,"","","","","",""]
[{"$f":"A18+1","v":"2019-09-16"},{"$f":"PROPER(TEXT(A19,\"ddd\"))","v":"Ma"},{"$f":"HelligdagsNavn(A19,0,0)","v":""},null,null,null,"","00:00:00","",{"$f":"ColTime(T.!$J$4,T.!$L$4,D19,E19)","v":"00:00:00"},null,{"$f":"ColTime(TIME(T.!$J$5,0,0),TIME(T.!$L$5,0,0),D19,E19)","v":"00:00:00"},null,"","","",null,null,{"$f":"CHOOSE(WEEKDAY(A19,2),norm!C$1,norm!C$2,norm!C$3,norm!C$4,norm!C$5,norm!C$6,norm!C$7)","v":"07:30:00"},null,null,"","","","","",""]
[{"$f":"A19+1","v":"2019-09-17"},{"$f":"PROPER(TEXT(A20,\"ddd\"))","v":"Ti"},"",null,null,null,"","00:00:00","",{"$f":"ColTime(T.!$J$4,T.!$L$4,D20,E20)","v":"00:00:00"},null,{"$f":"ColTime(TIME(T.!$J$5,0,0),TIME(T.!$L$5,0,0),D20,E20)","v":"00:00:00"},null,"","","",null,null,{"$f":"CHOOSE(WEEKDAY(A20,2),norm!C$1,norm!C$2,norm!C$3,norm!C$4,norm!C$5,norm!C$6,norm!C$7)","v":"07:30:00"},null,null,"","","","","",""]
["2019-09-18","On","",null,null,null,"","00:00:00","",{"$f":"ColTime(T.!$J$4,T.!$L$4,D21,E21)","v":"00:00:00"},null,{"$f":"ColTime(TIME(T.!$J$5,0,0),TIME(T.!$L$5,0,0),D21,E21)","v":"00:00:00"},null,"","","",null,null,{"$f":"CHOOSE(WEEKDAY(A21,2),norm!C$1,norm!C$2,norm!C$3,norm!C$4,norm!C$5,norm!C$6,norm!C$7)","v":"07:30:00"},null,null,"","","","","",""]
["2019-09-19","To","",null,null,null,"","00:00:00","",{"$f":"ColTime(T.!$J$4,T.!$L$4,D22,E22)","v":"00:00:00"},null,{"$f":"ColTime(TIME(T.!$J$5,0,0),TIME(T.!$L$5,0,0),D22,E22)","v":"00:00:00"},null,"","","",null,null,{"$f":"CHOOSE(WEEKDAY(A22,2),norm!C$1,norm!C$2,norm!C$3,norm!C$4,norm!C$5,norm!C$6,norm!C$7)","v":"07:30:00"},null,null,"","","","","",""]
["2019-09-20","Fr","",null,null,null,"","00:00:00","",{"$f":"ColTime(T.!$J$4,T.!$L$4,D23,E23)","v":"00:00:00"},null,{"$f":"ColTime(TIME(T.!$J$5,0,0),TIME(T.!$L$5,0,0),D23,E23)","v":"00:00:00"},null,"","","",null,null,{"$f":"CHOOSE(WEEKDAY(A23,2),norm!C$1,norm!C$2,norm!C$3,norm!C$4,norm!C$5,norm!C$6,norm!C$7)","v":"07:00:00"},null,null,"","","","","",""]
["2019-09-21","Lø","",null,null,null,"","00:00:00","",{"$f":"ColTime(T.!$J$4,T.!$L$4,D24,E24)","v":"00:00:00"},null,{"$f":"ColTime(TIME(T.!$J$5,0,0),TIME(T.!$L$5,0,0),D24,E24)","v":"00:00:00"},null,"00:00:00","","",null,null,{"$f":"CHOOSE(WEEKDAY(A24,2),norm!C$1,norm!C$2,norm!C$3,norm!C$4,norm!C$5,norm!C$6,norm!C$7)","v":"00:00:00"},null,null,"","","","","",""]
[{"$f":"A24+1","v":"2019-09-22"},{"$f":"PROPER(TEXT(A25,\"ddd\"))","v":"Sø"},{"$f":"HelligdagsNavn(A25,0,0)","v":""},null,null,null,"","00:00:00","",{"$f":"ColTime(T.!$J$4,T.!$L$4,D25,E25)","v":"00:00:00"},null,{"$f":"ColTime(TIME(T.!$J$5,0,0),TIME(T.!$L$5,0,0),D25,E25)","v":"00:00:00"},null,"","00:00:00","",null,null,{"$f":"CHOOSE(WEEKDAY(A25,2),norm!C$1,norm!C$2,norm!C$3,norm!C$4,norm!C$5,norm!C$6,norm!C$7)","v":"00:00:00"},null,null,"","","","","",""]
[{"$f":"A25+1","v":"2019-09-23"},{"$f":"PROPER(TEXT(A26,\"ddd\"))","v":"Ma"},{"$f":"HelligdagsNavn(A26,0,0)","v":""},null,null,null,"","00:00:00","",{"$f":"ColTime(T.!$J$4,T.!$L$4,D26,E26)","v":"00:00:00"},null,{"$f":"ColTime(TIME(T.!$J$5,0,0),TIME(T.!$L$5,0,0),D26,E26)","v":"00:00:00"},null,"","","",null,null,{"$f":"CHOOSE(WEEKDAY(A26,2),norm!C$1,norm!C$2,norm!C$3,norm!C$4,norm!C$5,norm!C$6,norm!C$7)","v":"07:30:00"},null,null,"","","","","",""]
[{"$f":"A26+1","v":"2019-09-24"},{"$f":"PROPER(TEXT(A27,\"ddd\"))","v":"Ti"},"",null,null,null,"","00:00:00","",{"$f":"ColTime(T.!$J$4,T.!$L$4,D27,E27)","v":"00:00:00"},null,{"$f":"ColTime(TIME(T.!$J$5,0,0),TIME(T.!$L$5,0,0),D27,E27)","v":"00:00:00"},null,"","","",null,null,{"$f":"CHOOSE(WEEKDAY(A27,2),norm!C$1,norm!C$2,norm!C$3,norm!C$4,norm!C$5,norm!C$6,norm!C$7)","v":"07:30:00"},null,null,"","","","","",""]
["2019-09-25","On","",null,null,null,"","00:00:00","",{"$f":"ColTime(T.!$J$4,T.!$L$4,D28,E28)","v":"00:00:00"},null,{"$f":"ColTime(TIME(T.!$J$5,0,0),TIME(T.!$L$5,0,0),D28,E28)","v":"00:00:00"},null,"","","",null,null,{"$f":"CHOOSE(WEEKDAY(A28,2),norm!C$1,norm!C$2,norm!C$3,norm!C$4,norm!C$5,norm!C$6,norm!C$7)","v":"07:30:00"},null,null,"","","","","",""]
["2019-09-26","To","",null,null,null,"","00:00:00","",{"$f":"ColTime(T.!$J$4,T.!$L$4,D29,E29)","v":"00:00:00"},null,{"$f":"ColTime(TIME(T.!$J$5,0,0),TIME(T.!$L$5,0,0),D29,E29)","v":"00:00:00"},null,"","","",null,null,{"$f":"CHOOSE(WEEKDAY(A29,2),norm!C$1,norm!C$2,norm!C$3,norm!C$4,norm!C$5,norm!C$6,norm!C$7)","v":"07:30:00"}]
["2019-09-27","Fr","",null,null,null,"","00:00:00","",{"$f":"ColTime(T.!$J$4,T.!$L$4,D30,E30)","v":"00:00:00"},null,{"$f":"ColTime(TIME(T.!$J$5,0,0),TIME(T.!$L$5,0,0),D30,E30)","v":"00:00:00"},null,"","","",null,null,{"$f":"CHOOSE(WEEKDAY(A30,2),norm!C$1,norm!C$2,norm!C$3,norm!C$4,norm!C$5,norm!C$6,norm!C$7)","v":"07:00:00"}]
["2019-09-28","Lø","",null,null,null,"","00:00:00","",{"$f":"ColTime(T.!$J$4,T.!$L$4,D31,E31)","v":"00:00:00"},null,{"$f":"ColTime(TIME(T.!$J$5,0,0),TIME(T.!$L$5,0,0),D31,E31)","v":"00:00:00"},null,"00:00:00","","",null,null,{"$f":"CHOOSE(WEEKDAY(A31,2),norm!C$1,norm!C$2,norm!C$3,norm!C$4,norm!C$5,norm!C$6,norm!C$7)","v":"00:00:00"}]
[{"$f":"IF(MONTH(A31+1)>MONTH(A31),\"\",A31+1)","v":"2019-09-29"},"Sø",{"$f":"IF(A32=\"\",\"\",HelligdagsNavn(A32,0,0))","v":""},null,null,null,"","00:00:00","",{"$f":"ColTime(T.!$J$4,T.!$L$4,D32,E32)","v":"00:00:00"},null,{"$f":"ColTime(TIME(T.!$J$5,0,0),TIME(T.!$L$5,0,0),D32,E32)","v":"00:00:00"},null,{"$f":"IFERROR(IF(WEEKDAY(A32,2)=6,ColTime(TIME(15,0,0),TIME(24,0,0),D32,E32),\"\"),\"\")","v":""},{"$f":"IFERROR(IF(OR(C32<>\"\",WEEKDAY(A32,2)=7),ColTime(TIME(0,0,0),TIME(24,0,0),D32,E32),\"\"),\"\")","v":"00:00:00"},"",null,null,{"$f":"IFERROR(CHOOSE(WEEKDAY(A32,2),norm!C$1,norm!C$2,norm!C$3,norm!C$4,norm!C$5,norm!C$6,norm!C$7),\"\")","v":"00:00:00"}]
[{"$f":"IFERROR(IF(MONTH(A32+1)>MONTH(A32),\"\",A32+1),\"\")","v":"2019-09-30"},"Ma","",null,null,null,"","00:00:00","",{"$f":"ColTime(T.!$J$4,T.!$L$4,D33,E33)","v":"00:00:00"},null,{"$f":"ColTime(TIME(T.!$J$5,0,0),TIME(T.!$L$5,0,0),D33,E33)","v":"00:00:00"},null,{"$f":"IFERROR(IF(WEEKDAY(A33,2)=6,ColTime(TIME(15,0,0),TIME(24,0,0),D33,E33),\"\"),\"\")","v":""},{"$f":"IFERROR(IF(OR(C33<>\"\",WEEKDAY(A33,2)=7),ColTime(TIME(0,0,0),TIME(24,0,0),D33,E33),\"\"),\"\")","v":""},"",null,null,{"$f":"IFERROR(CHOOSE(WEEKDAY(A33,2),norm!C$1,norm!C$2,norm!C$3,norm!C$4,norm!C$5,norm!C$6,norm!C$7),\"\")","v":"07:30:00"}]
[{"$f":"IFERROR(IF(MONTH(A33+1)>MONTH(A33),\"\",A33+1),\"\")","v":""},{"$f":"IFERROR(PROPER(TEXT(A34,\"ddd\")),\"\")","v":""},{"$f":"IF(A34=\"\",\"\",HelligdagsNavn(A34,0,0))","v":""},null,null,null,"","00:00:00","",{"$f":"ColTime(T.!$J$4,T.!$L$4,D34,E34)","v":"00:00:00"},null,{"$f":"ColTime(TIME(T.!$J$5,0,0),TIME(T.!$L$5,0,0),D34,E34)","v":"00:00:00"},null,{"$f":"IFERROR(IF(WEEKDAY(A34,2)=6,ColTime(TIME(15,0,0),TIME(24,0,0),D34,E34),\"\"),\"\")","v":""},"","",null,null,{"$f":"IFERROR(CHOOSE(WEEKDAY(A34,2),norm!C$1,norm!C$2,norm!C$3,norm!C$4,norm!C$5,norm!C$6,norm!C$7),\"\")","v":""},null,null,{"$f":"IF(D34=\"\",\"\",HOUR(D34))","v":""},{"$f":"IF(D34=\"\",\"\",MINUTE(D34))","v":""},{"$f":"IF(D34=\"\",\"\",TIME(HOUR(D34),MINUTE(D34),0))","v":""},{"$f":"IF(E34=\"\",\"\",HOUR(E34))","v":""},{"$f":"IF(E34=\"\",\"\",MINUTE(E34))","v":""},{"$f":"IF(E34=\"\",\"\",TIME(HOUR(E34),MINUTE(E34),0))","v":""}]
["Total timer",null,null,null,null,null,{"$f":"IF(SUM(G9:G34)<>\"0\",SUM(G4:G34),\"\")","v":2.4479166666666665},{"$f":"IF(SUM(H4:H34)<>\"0\",SUM(H4:H34),\"\")","v":0.375},{"$f":"IF(SUM(I4:I34)<>\"0\",SUM(I4:I34),\"\")","v":0.86458333333333304},{"$f":"IF(SUM(J4:J34)<>\"0\",SUM(J4:J34),\"\")","v":0.27083333333333337},null,{"$f":"SUM(L4:M34)","v":2.5520833333333335},null,{"$f":"IF(SUM(N4:N34)<>\"0\",SUM(N4:N34),\"\")","v":0.20833333333333326},{"$f":"IF(SUM(O4:O34)<>\"0\",SUM(O4:O34),\"\")","v":"09:00:00"},{"$f":"SUM(P4:P34)","v":1.239583333333333},{"$f":"SUM(Q4:Q34)","v":0}]
["Timer 1/100",null,null,null,null,null,{"$f":"IF(G35<>\"\",ROUND(G35*24,2),\"\")","v":58.75},{"$f":"IF(H35<>\"\",ROUND(H35*24,2),\"\")","v":9},20.75,{"$f":"IF(J35<>\"\",ROUND(J35*24,2),\"\")","v":6.5},null,{"$f":"IF(L35<>\"\",ROUND(L35*24,2),\"\")","v":61.25},null,{"$f":"IF(N35<>\"\",ROUND(N35*24,2),\"\")","v":5},9,29.75,0]
["Satser",null,null,null,null,null,{"$f":"Satser!B7","v":107.35},{"$f":"Satser!B9","v":36.35},{"$f":"Satser!B12","v":58.1},{"$f":"Satser!B17","v":13.91},null,{"$f":"Satser!B18","v":23.19},null,{"$f":"Satser!B19","v":24.89},{"$f":"Satser!B20","v":27.63}]
[null,null,null,null,null,null,{"$f":"IF(G35<>\"\",G36*G37,\"\")","v":6306.8125},{"$f":"IF(H35<>\"\",H36*H37,\"\")","v":327.15000000000003},1205.575,{"$f":"IF(J35<>\"\",J36*J37,\"\")","v":90.415000000000006},null,{"$f":"IF(L35<>\"\",L36*L36,\"\")","v":3751.5625},null,{"$f":"IF(N35<>\"\",N36*N37,\"\")","v":124.45},248.67]
[]
["Lønart"]
[3025,null,null,null,null,null,{"$f":"G35","v":2.4479166666666665}]
[3425,null,null,null,null,null,{"$f":"H35","v":0.375}]
[3428,null,null,null,null,null,{"$f":"I35","v":0.86458333333333304}]
["Timer",null,null,null,null,null,{"$f":"SUM(G41:G43)","v":3.6874999999999996},{"$f":"IF(G44<>\"\",ROUND(G44*24,2),\"\")","v":88.5}]
[null,null,null,null,null,null,null,{"$f":"G37*H44","v":9500.4750000000004}]

{"sheet":"Satser","index":18,"n_rows":26,"n_cols":6,"rows_kept":26,"cut":false,"hidden":false,"merged":[]}
[]
[]
["Timeløn",114.42]
["specielt tillæg"]
["Chauffør tillæg"]
[]
["Samlet timeløn",107.35,null,108.7]
[]
["overtidstillæg 50%",36.35,null,36.5]
["pr. time",{"$f":"B7+B9","v":143.69999999999999}]
[]
["overtidstillæg 100%",58.1,null,58.9]
["pr. time",{"$f":"B12+B7","v":165.45}]
[]
[null,108.65,null,110.15]
[]
["Aftentillæg",13.91,null,null,null,"Arbejde mellem 18:00 og 23:00"]
["Nattillæg",23.19,null,null,null,"Arbejde mellem 23:00 og 06:00"]
["Lørdags tillæg",24.89,null,null,null,"Lørdag mellem 15:00 og 24:00"]
["Søndags tillæg",27.63,null,null,null,"Søndagstillæg"]
[]
[]
[]
[]
[]
[null,"07:24:00"]

{"sheet":"norm","index":19,"n_rows":7,"n_cols":5,"rows_kept":7,"cut":false,"hidden":false,"merged":[]}
["mandag",7.5,{"$f":"B1/24","v":"07:30:00"},null,"03:00:00"]
["tirsdag",7.5,{"$f":"B2/24","v":"07:30:00"},null,"10:30:00"]
["onsdag",7.5,"07:30:00"]
["torsdag",7.5,"07:30:00"]
["fredag",7,"07:00:00"]
["lørdag",0,"00:00:00"]
["søndag",0,"00:00:00"]

{"sheet":"T.","index":20,"n_rows":8,"n_cols":13,"rows_kept":8,"cut":false,"hidden":false,"merged":[]}
["A","B","C","D","E","F","G","H","I","J","K","L"]
["Årstal: ",2019,null,null,null,null,null,null,null,null,null,null,1]
[null,"Timeløn",null,null,"Start","Slut",null,null,null,null,null,null,2]
["Normal løn",114.42,null,null,"06:00:00","18:00:00",null,"Aften tillæg","Fra kl.","18:00:00","Til kl.","23:00:00",3]
["Aftentillæg",25.6,null,null,"18:00:00","23:00:00",null,"Nat tillæg","Fra kl.","23:00:00","Til kl.","06:00:00",4]
["Nattillæg",34.200000000000003,null,null,"23:00:00","06:00:00",null,"Lørdags tillæg","Fra kl.","14:00:00","Til kl.",1,5]
["Lørdagstillæg",45.1,null,null,"14:00:00",1,null,"Søn og helligdags tillæg","Fra kl.","00:00:00","Til kl.",1,6]
["Søn- og helligdage",50.6,null,null,"00:00:00","23:59:00",null,null,null,null,null,null,7]

{"sheet":"Ark2","index":21,"n_rows":0,"n_cols":0,"rows_kept":0,"cut":false,"hidden":false,"merged":[]}

{"sheet":"Ark3","index":22,"n_rows":1,"n_cols":2,"rows_kept":1,"cut":false,"hidden":false,"merged":[]}
[2.4,{"$f":"A1/24","v":9.9999999999999992E-2}]