{"text_format":"1","workbook":"xlsx","n_sheets":59,"sheets":["Ark1","nytark2","Tomt1 ark","nytark","2004","2005","2006","2007","2008","2009","2010","Beregn varme 2010","2011","2011 2","Beregn varme 2011","2017","2016","2015","2014","2013","2012","2012 a","2012 2","2012 (2)","Beregn varme 2012","Beregn varme 2013","Beregn varme 2014","Beregn varme 2015","Beregn varme 2016","Beregn varme 2017","Måler aflæsninger","Statistik","Varmekonto","Varmekonto2","Styringtabel","Pejletabel1800","Styringtabel EL","Beregning el","Opgørelse Vand 2014","aconto Vand 2014","Opgørelse Vand 2015","aconto Vand 2015","Opgørelse El 2014-2015","aconto El 2014","Opgørelse El 2015-2016","aconto El 2015","Forventet forbrug pr. uge","Pejletabel","System","T","Setup","TO DO","Master","Beregn varme","Opgørelse Vand","Aconto Vand","Opgørelse El","Aconto El","Opgørelse Varme"],"not_rendered":{"charts":2,"images":6,"macros":1,"external_links":3,"defined_names":33,"comments":0,"pivot_tables":0},"unopened":[],"bounds":{"document_bytes":16777216,"sheet_cells":100000,"rows_first":2000,"rows_last":500,"rows_between":2000,"halvings":0,"cell_chars":16384,"cell_head_chars":4096},"cells_cut":0,"cells_raw":0,"read":"whole","date_system":"1900"}

{"sheet":"Ark1","index":0,"n_rows":43,"n_cols":8,"rows_kept":43,"cut":false,"hidden":true,"merged":[[42,5,42,6],[29,5,29,6],[31,0,31,7],[17,4,17,5],[20,1,21,1],[20,4,21,4],[20,5,21,5],[0,0,3,0],[0,1,1,6],[18,1,19,7],[2,1,3,1],[2,2,3,2],[2,4,3,4],[2,6,3,6]]}
["Dato","MÅNEDLIG PEJLING AF OLIETANK"]
[]
[null,"Uge","Pejling","Fyldt på","Beholdning","Plads til","Forbrugt"]
[null,null,null,"Liter",null,"Liter"]
["2011-01-04",{"$f":"IF(A5=\"\",\"\",TRUNC((A5-WEEKDAY(A5,2)-DATE(YEAR(A5+4-WEEKDAY(A5,2)),1,-10))/7))","v":1},null,null,{"$f":"IF(C5<>\"\",SUM(C5:D5),\"\")","v":""},{"$f":"IF(E5<>\"\",1200-E5,\"\")","v":""}]
["2011-02-04",{"$f":"IF(A6=\"\",\"\",TRUNC((A6-WEEKDAY(A6,2)-DATE(YEAR(A6+4-WEEKDAY(A6,2)),1,-10))/7))","v":5},null,null,{"$f":"IF(C6<>\"\",SUM(C6:D6),\"\")","v":""},"",{"$f":"IF(C6<>\"\",E5-C6,\"\")","v":""}]
["2011-03-04",9,null,null,{"$f":"IF(C7<>\"\",SUM(C7:D7),\"\")","v":""},"",""]
["2011-04-04",14,null,null,"","",""]
["2011-05-04",18,null,null,"","",""]
["2011-06-04",22,null,null,"","",""]
["2011-07-04",27,null,null,"","",""]
["2011-08-04",31,null,null,"","",""]
["2011-09-04",35,null,null,"","",""]
["2011-10-04",40,null,null,"","",""]
["2011-11-04",44,null,null,"","",""]
["2011-12-04",48,null,null,"","",""]
["2012-01-01",52,null,null,"","",""]
[null,null,null,null,"Års forbrug",null,{"$f":"SUM(G6:G17)","v":0}]
[null,"MÅNEDLIG AFLÆSNING AF VANDMÅLER"]
[]
["Dato","Uge",null,"forbrug","Dato","Uge",null,"forbrug"]
[null,null,"m³","m³",null,null,"m³","m³"]
["2011-01-04",{"$f":"IF(A23=\"\",\"\",TRUNC((A23-WEEKDAY(A23,2)-DATE(YEAR(A23+4-WEEKDAY(A23,2)),1,-10))/7))","v":1}]
["2011-02-04",{"$f":"IF(A24=\"\",\"\",TRUNC((A24-WEEKDAY(A24,2)-DATE(YEAR(A24+4-WEEKDAY(A24,2)),1,-10))/7))","v":5},null,{"$f":"IF(C24<>\"\",C24-C23,\"\")","v":""},"2011-08-04",{"$f":"IF(E24=\"\",\"\",TRUNC((E24-WEEKDAY(E24,2)-DATE(YEAR(E24+4-WEEKDAY(E24,2)),1,-10))/7))","v":31},null,{"$f":"IF(G24<>\"\",G24-C29,\"\")","v":""}]
["2011-03-04",9,null,"","2011-09-04",35,null,{"$f":"IF(G25<>\"\",G25-G24,\"\")","v":""}]
["2011-04-04",14,null,"","2011-10-04",40,null,{"$f":"IF(G26<>\"\",G26-G25,\"\")","v":""}]
["2011-05-04",18,null,"","2011-11-04",44,null,{"$f":"IF(G27<>\"\",G27-G26,\"\")","v":""}]
["2011-06-04",22,null,"","2011-12-04",48,null,{"$f":"IF(G28<>\"\",G28-G27,\"\")","v":""}]
["2011-07-04",{"$f":"IF(A29=\"\",\"\",TRUNC((A29-WEEKDAY(A29,2)-DATE(YEAR(A29+4-WEEKDAY(A29,2)),1,-10))/7))","v":27},null,"","2012-01-04",1,null,{"$f":"IF(G29<>\"\",G29-G28,\"\")","v":""}]
[null,null,null,null,null,"Års forbrug",null,{"$f":"SUM(D24:D29,H24:H29)","v":0}]
[]
["MÅNEDLIG AFLÆSNING AF ELMÅLER"]
[]
["Dato","Uge",null,"forbrug","Dato","Uge",null,"forbrug"]
[null,null,"Kw","Kw",null,null,"Kw","Kw"]
["2011-01-04",{"$f":"IF(A36=\"\",\"\",TRUNC((A36-WEEKDAY(A36,2)-DATE(YEAR(A36+4-WEEKDAY(A36,2)),1,-10))/7))","v":1},null,null,null,null,null,{"$f":"IF(G36<>\"\",G36-C43,\"\")","v":""}]
["2011-02-04",5,null,{"$f":"IF(C37<>\"\",C37-C36,\"\")","v":""},"2011-08-04",{"$f":"IF(E37=\"\",\"\",TRUNC((E37-WEEKDAY(E37,2)-DATE(YEAR(E37+4-WEEKDAY(E37,2)),1,-10))/7))","v":31},null,{"$f":"IF(G37<>\"\",G37-G36,\"\")","v":""}]
["2011-03-04",9,null,null,"2011-09-04",35]
["2011-04-04",14,null,{"$f":"IF(C39<>\"\",C39-C37,\"\")","v":""},"2011-10-04",40,null,{"$f":"IF(G39<>\"\",G39-G37,\"\")","v":""}]
["2011-05-04",18,null,null,"2011-11-04",44]
["2011-06-04",22,null,{"$f":"IF(C41<>\"\",C41-C39,\"\")","v":""},"2011-12-04",48,null,{"$f":"IF(G41<>\"\",G41-G39,\"\")","v":""}]
["2011-07-04",27,null,{"$f":"IF(C42<>\"\",C42-C41,\"\")","v":""},"2012-01-04",1,null,{"$f":"IF(G42<>\"\",G42-G41,\"\")","v":""}]
[null,null,null,{"$f":"IF(C43<>\"\",C43-C42,\"\")","v":""},null,"Års forbrug",null,{"$f":"SUM(D37:D43,H36:H42)","v":0}]

{"sheet":"nytark2","index":1,"n_rows":50,"n_cols":23,"rows_kept":50,"cut":false,"hidden":true,"merged":[[45,1,45,2],[46,4,46,5],[39,1,39,2],[40,1,40,2],[41,1,41,2],[42,1,42,2],[43,1,43,2],[44,1,44,2],[33,1,33,2],[34,4,34,5],[34,21,34,22],[35,0,36,7],[37,0,38,0],[37,1,37,2],[37,4,38,4],[37,7,38,7],[38,1,38,2],[32,1,32,2],[17,21,17,22],[22,4,22,5],[23,0,24,7],[25,0,26,0],[25,1,25,2],[25,4,26,4],[25,7,26,7],[26,1,26,2],[27,1,27,2],[28,1,28,2],[29,1,29,2],[30,1,30,2],[31,1,31,2],[7,0,8,0],[7,4,8,4],[7,7,8,7],[0,21,0,22],[1,0,1,7],[2,0,2,7],[3,1,3,7],[5,0,6,7]]}
[null,null,null,null,null,null,null,null,null,null,null,null,null,2012,null,null,2013,null,null," +/-","%","Forventet forbrug"]
[{"$f":"System!A19","v":"Version: 2.0.2 / Bjarne Hansen"},null,null,null,null,null,null,null,null,"Olie","Dage","Liter pr dag",null,"Olie","Liter","%",null,"Liter","%","Liter",null,"%","Liter"]
["Aflæsningsskema til Olieforbrug samt EL og Vand",null,null,null,null,null,null,null,null,{"$f":"IF(A11=\"\",\"\",VLOOKUP(MONTH(A11),T!A$1:B$12,2,FALSE))","v":"Januar"},{"$f":"A11-A10","v":31},{"$f":"IF(G11<>\"\",G11/K3,\"\")","v":""},null,{"$f":"IF(A11=\"\",\"\",VLOOKUP(MONTH(A11),T!$A$1:$B$12,2,FALSE))","v":"Januar"},{"$f":"'2012'!G11","v":362},{"$f":"IF(O3=\"\",\"\",O3/(O$16/100))","v":16.225907664724339},{"$f":"IF(A11=\"\",\"\",VLOOKUP(MONTH(A11),T!$A$1:$B$12,2,FALSE))","v":"Januar"},{"$f":"G11","v":""},{"$f":"IF(R3=\"\",\"\",R3/(R$16/100))","v":""},{"$f":"IF(R3<>\"\",R3-O3,\"\")","v":""},{"$f":"IF(R3<>\"\",T3/(O3/100),\"\")","v":""},{"$f":"IF(A11=\"\",\"\",VLOOKUP(MONTH(A11),'Beregn varme 2013'!A$2:G$13,7,FALSE))","v":13.90884055219597},{"$f":"IF(R3=\"\",\"\",VLOOKUP(MONTH(A11),'Beregn varme 2011'!A$2:F$13,6,FALSE))","v":""}]
["Navn :","Bjarne Hansen, Lyrsbyvej 31",null,null,null,null,null,null,null,{"$f":"IF(A12=\"\",\"\",VLOOKUP(MONTH(A12),T!A$1:B$12,2,FALSE))","v":"Februar"},{"$f":"IF(A12=\"\",\"\",A12-A11)","v":28},"",null,{"$f":"IF(A12=\"\",\"\",VLOOKUP(MONTH(A12),T!A$1:B$12,2,FALSE))","v":"Februar"},{"$f":"'2012'!G12","v":388},17.39130434782609,{"$f":"IF(A12=\"\",\"\",VLOOKUP(MONTH(A12),T!$A$1:$B$12,2,FALSE))","v":"Februar"},"","",{"$f":"IF(R4<>\"\",R4-O4,\"\")","v":""},{"$f":"IF(R4<>\"\",T4/(O4/100),\"\")","v":""},{"$f":"IF(A12=\"\",\"\",VLOOKUP(MONTH(A12),'Beregn varme 2013'!A$2:G$13,7,FALSE))","v":12.813076127679613},{"$f":"IF(R4=\"\",\"\",VLOOKUP(MONTH(A12),'Beregn varme 2011'!A$2:F$13,6,FALSE))","v":""}]
[null,null,null,null,null,null,null,null,null,{"$f":"IF(A13=\"\",\"\",VLOOKUP(MONTH(A13),T!A$1:B$12,2,FALSE))","v":"Marts"},31,"",null,{"$f":"IF(A13=\"\",\"\",VLOOKUP(MONTH(A13),T!A$1:B$12,2,FALSE))","v":"Marts"},{"$f":"'2012'!G13","v":260},11.653966831017481,{"$f":"IF(A13=\"\",\"\",VLOOKUP(MONTH(A13),T!$A$1:$B$12,2,FALSE))","v":"Marts"},"","","","",{"$f":"IF(A13=\"\",\"\",VLOOKUP(MONTH(A13),'Beregn varme 2013'!A$2:G$13,7,FALSE))","v":12.705648242923107},{"$f":"IF(R5=\"\",\"\",VLOOKUP(MONTH(A13),'Beregn varme 2011'!A$2:F$13,6,FALSE))","v":""}]
["MÅNEDLIG PEJLING AF OLIETANK",null,null,null,null,null,null,null,null,{"$f":"IF(A14=\"\",\"\",VLOOKUP(MONTH(A14),T!A$1:B$12,2,FALSE))","v":"April"},30,"",null,{"$f":"IF(A14=\"\",\"\",VLOOKUP(MONTH(A14),T!A$1:B$12,2,FALSE))","v":"April"},{"$f":"'2012'!G14","v":201},9.009412819363515,{"$f":"IF(A14=\"\",\"\",VLOOKUP(MONTH(A14),T!$A$1:$B$12,2,FALSE))","v":"April"},"","","","",{"$f":"IF(A14=\"\",\"\",VLOOKUP(MONTH(A14),'Beregn varme 2013'!A$2:G$13,7,FALSE))","v":8.8382443916889102},{"$f":"IF(R6=\"\",\"\",VLOOKUP(MONTH(A14),'Beregn varme 2011'!A$2:F$13,6,FALSE))","v":""}]
[null,null,null,null,null,null,null,null,null,{"$f":"IF(A15=\"\",\"\",VLOOKUP(MONTH(A15),T!A$1:B$12,2,FALSE))","v":"Maj"},31,"",null,{"$f":"IF(A15=\"\",\"\",VLOOKUP(MONTH(A15),T!A$1:B$12,2,FALSE))","v":"Maj"},{"$f":"'2012'!G15","v":82},3.6754818467055133,{"$f":"IF(A15=\"\",\"\",VLOOKUP(MONTH(A15),T!$A$1:$B$12,2,FALSE))","v":"Maj"},"","","","",{"$f":"IF(A15=\"\",\"\",VLOOKUP(MONTH(A15),'Beregn varme 2013'!A$2:G$13,7,FALSE))","v":4.7344991939903993},{"$f":"IF(R7=\"\",\"\",VLOOKUP(MONTH(A15),'Beregn varme 2011'!A$2:F$13,6,FALSE))","v":""}]
["Dato","Pejling",null,"Fyldt på","Beholdning","Plads til","Forbrug","Bemærkning:",null,{"$f":"IF(A16=\"\",\"\",VLOOKUP(MONTH(A16),T!A$1:B$12,2,FALSE))","v":"Juni"},30,"",null,{"$f":"IF(A16=\"\",\"\",VLOOKUP(MONTH(A16),T!A$1:B$12,2,FALSE))","v":"Juni"},{"$f":"'2012'!G16","v":43},1.9273868220528911,{"$f":"IF(A16=\"\",\"\",VLOOKUP(MONTH(A16),T!$A$1:$B$12,2,FALSE))","v":"Juni"},"","","","",{"$f":"IF(A16=\"\",\"\",VLOOKUP(MONTH(A16),'Beregn varme 2013'!A$2:G$13,7,FALSE))","v":3.4883357308149354},{"$f":"IF(R8=\"\",\"\",VLOOKUP(MONTH(A16),'Beregn varme 2011'!A$2:F$13,6,FALSE))","v":""}]
[null,"i cm","Liter","Liter",null,"Liter","Liter",null,null,{"$f":"IF(A17=\"\",\"\",VLOOKUP(MONTH(A17),T!A$1:B$12,2,FALSE))","v":"Juli"},31,"",null,{"$f":"IF(A17=\"\",\"\",VLOOKUP(MONTH(A17),T!A$1:B$12,2,FALSE))","v":"Juli"},{"$f":"'2012'!G17","v":6},0.26893769610040341,{"$f":"IF(A17=\"\",\"\",VLOOKUP(MONTH(A17),T!$A$1:$B$12,2,FALSE))","v":"Juli"},"","","","",{"$f":"IF(A17=\"\",\"\",VLOOKUP(MONTH(A17),'Beregn varme 2013'!A$2:G$13,7,FALSE))","v":3.4883357308149354},{"$f":"IF(R9=\"\",\"\",VLOOKUP(MONTH(A17),'Beregn varme 2011'!A$2:F$13,6,FALSE))","v":""}]
["2012-12-31",{"$f":"'2012'!B22","v":58.5},{"$f":"IF(B10=\"\",\"\",VLOOKUP(B10,Pejletabel1800!A$3:B$201,2,FALSE))","v":670},null,{"$f":"IF(C10<>\"\",SUM(C10:D10),\"\")","v":670},{"$f":"IF(E10<>\"\",1800-E10,\"\")","v":1130},null,null,null,{"$f":"IF(A18=\"\",\"\",VLOOKUP(MONTH(A18),T!A$1:B$12,2,FALSE))","v":"August"},31,"",null,{"$f":"IF(A18=\"\",\"\",VLOOKUP(MONTH(A18),T!A$1:B$12,2,FALSE))","v":"August"},{"$f":"'2012'!G18","v":0},0,{"$f":"IF(A18=\"\",\"\",VLOOKUP(MONTH(A18),T!$A$1:$B$12,2,FALSE))","v":"August"},"","","","",{"$f":"IF(A18=\"\",\"\",VLOOKUP(MONTH(A18),'Beregn varme 2013'!A$2:G$13,7,FALSE))","v":3.4883357308149354},{"$f":"IF(R10=\"\",\"\",VLOOKUP(MONTH(A18),'Beregn varme 2011'!A$2:F$13,6,FALSE))","v":""}]
["2013-01-31",null,{"$f":"IF(B11=\"\",\"\",VLOOKUP(B11,Pejletabel1800!A$3:B$201,2,FALSE))","v":""},null,{"$f":"IF(C11<>\"\",C11+D11,\"\")","v":""},{"$f":"IF(E11<>\"\",1800-E11,\"\")","v":""},{"$f":"IF(C11<>\"\",E10-C11,\"\")","v":""},null,null,{"$f":"IF(A19=\"\",\"\",VLOOKUP(MONTH(A19),T!A$1:B$12,2,FALSE))","v":"September"},30,"",null,{"$f":"IF(A19=\"\",\"\",VLOOKUP(MONTH(A19),T!A$1:B$12,2,FALSE))","v":"September"},{"$f":"'2012'!G19","v":73},3.2720753025549083,{"$f":"IF(A19=\"\",\"\",VLOOKUP(MONTH(A19),T!$A$1:$B$12,2,FALSE))","v":"September"},"","","","",{"$f":"IF(A19=\"\",\"\",VLOOKUP(MONTH(A19),'Beregn varme 2013'!A$2:G$13,7,FALSE))","v":4.0469607315487641},{"$f":"IF(R11=\"\",\"\",VLOOKUP(MONTH(A19),'Beregn varme 2011'!A$2:F$13,6,FALSE))","v":""}]
["2013-02-28",null,{"$f":"IF(B12=\"\",\"\",VLOOKUP(B12,Pejletabel1800!A$3:B$201,2,FALSE))","v":""},null,{"$f":"IF(C12<>\"\",C12+D12,\"\")","v":""},{"$f":"IF(E12<>\"\",1800-E12,\"\")","v":""},{"$f":"IF(C12<>\"\",E11-C12,\"\")","v":""},null,null,{"$f":"IF(A20=\"\",\"\",VLOOKUP(MONTH(A20),T!A$1:B$12,2,FALSE))","v":"Oktober"},31,"",null,{"$f":"IF(A20=\"\",\"\",VLOOKUP(MONTH(A20),T!A$1:B$12,2,FALSE))","v":"Oktober"},{"$f":"'2012'!G20","v":188},8.4267144778126397,{"$f":"IF(A20=\"\",\"\",VLOOKUP(MONTH(A20),T!$A$1:$B$12,2,FALSE))","v":"Oktober"},"","","","",{"$f":"IF(A20=\"\",\"\",VLOOKUP(MONTH(A20),'Beregn varme 2013'!A$2:G$13,7,FALSE))","v":7.8499078519290588},{"$f":"IF(R12=\"\",\"\",VLOOKUP(MONTH(A20),'Beregn varme 2011'!A$2:F$13,6,FALSE))","v":""}]
["2013-03-31",null,{"$f":"IF(B13=\"\",\"\",VLOOKUP(B13,Pejletabel1800!A$3:B$201,2,FALSE))","v":""},null,{"$f":"IF(C13<>\"\",C13+D13,\"\")","v":""},"","",null,null,{"$f":"IF(A21=\"\",\"\",VLOOKUP(MONTH(A21),T!A$1:B$12,2,FALSE))","v":"November"},30,"",null,{"$f":"IF(A21=\"\",\"\",VLOOKUP(MONTH(A21),T!A$1:B$12,2,FALSE))","v":"November"},{"$f":"'2012'!G21","v":289},12.953832362169431,{"$f":"IF(A21=\"\",\"\",VLOOKUP(MONTH(A21),T!$A$1:$B$12,2,FALSE))","v":"November"},"","","","",{"$f":"IF(A21=\"\",\"\",VLOOKUP(MONTH(A21),'Beregn varme 2013'!A$2:G$13,7,FALSE))","v":11.072744394624223},{"$f":"IF(R13=\"\",\"\",VLOOKUP(MONTH(A21),'Beregn varme 2011'!A$2:F$13,6,FALSE))","v":""}]
["2013-04-30",null,{"$f":"IF(B14=\"\",\"\",VLOOKUP(B14,Pejletabel1800!A$3:B$201,2,FALSE))","v":""},null,"","","",null,null,{"$f":"IF(A22=\"\",\"\",VLOOKUP(MONTH(A22),T!A$1:B$12,2,FALSE))","v":"December"},31,"",null,{"$f":"IF(A22=\"\",\"\",VLOOKUP(MONTH(A22),T!A$1:B$12,2,FALSE))","v":"December"},{"$f":"'2012'!G22","v":339},15.194979829672793,{"$f":"IF(A22=\"\",\"\",VLOOKUP(MONTH(A22),T!$A$1:$B$12,2,FALSE))","v":"December"},"","","","",{"$f":"IF(A22=\"\",\"\",VLOOKUP(MONTH(A22),'Beregn varme 2013'!A$2:G$13,7,FALSE))","v":13.565071320975152},{"$f":"IF(R14=\"\",\"\",VLOOKUP(MONTH(A22),'Beregn varme 2011'!A$2:F$13,6,FALSE))","v":""}]
["2013-05-31",null,{"$f":"IF(B15=\"\",\"\",VLOOKUP(B15,Pejletabel1800!A$3:B$201,2,FALSE))","v":""},null,"","",""]
["2013-06-30",null,{"$f":"IF(B16=\"\",\"\",VLOOKUP(B16,Pejletabel1800!A$3:B$201,2,FALSE))","v":""},null,"","","",null,null,"Hele året",{"$f":"SUM(K3:K14)","v":365},{"$f":"G23/K16","v":0},null,"Års Total",{"$f":"'2012'!G23","v":2231},{"$f":"SUM(P3:P14)","v":100.00000000000001},null,{"$f":"G23","v":0},null,{"$f":"IF(R16<>0,R16-O16,\"\")","v":""},{"$f":"IF(R16<>0,T16/(R16/100),\"\")","v":""},{"$f":"SUM(V3:V14)","v":100.00000000000001},{"$f":"SUM(W3:W14)","v":0}]
["2013-07-31",null,{"$f":"IF(B17=\"\",\"\",VLOOKUP(B17,Pejletabel1800!A$3:B$201,2,FALSE))","v":""},null,"","",""]
["2013-08-31",null,{"$f":"IF(B18=\"\",\"\",VLOOKUP(B18,Pejletabel1800!A$3:B$201,2,FALSE))","v":""},null,"","","",null,null,null,null,null,null,2012,null,null,2013,null,null," +/-","%","Forventet forbrug"]
["2013-09-30",null,{"$f":"IF(B19=\"\",\"\",VLOOKUP(B19,Pejletabel1800!A$3:B$201,2,FALSE))","v":""},null,"","","",null,null,"Vand","Dage","m³ pr. dag",null,"Vand","m³",null,null,"m³",null,"m³",null,"%","m³"]
["2013-10-31",null,{"$f":"IF(B20=\"\",\"\",VLOOKUP(B20,Pejletabel1800!A$3:B$201,2,FALSE))","v":""},null,"","","",null,null,{"$f":"IF(A29=\"\",\"\",VLOOKUP(MONTH(A29),T!A$1:B$12,2,FALSE))","v":"Januar"},{"$f":"A29-A28","v":31},{"$f":"IF(D29<>\"\",D29/K20,\"\")","v":""},null,{"$f":"IF(A29=\"\",\"\",VLOOKUP(MONTH(A29),T!A$1:B$12,2,FALSE))","v":"Januar"},{"$f":"'2012'!D29","v":7},null,"Januar",{"$f":"D29","v":""},null,{"$f":"IF(R20<>\"\",R20-O20,\"\")","v":""},{"$f":"IF(T20<>\"\",T20/(O20/100),\"\")","v":""},{"$f":"IF(A29=\"\",\"\",VLOOKUP(MONTH(A29),'Beregn varme 2013'!A$2:H$13,8,FALSE))","v":8.493150684931507},{"$f":"IF(R20=\"\",\"\",O$33/100*V20)","v":""}]
["2013-11-30",null,{"$f":"IF(B21=\"\",\"\",VLOOKUP(B21,Pejletabel1800!A$3:B$201,2,FALSE))","v":""},null,"",{"$f":"IF(E21<>\"\",1800-E21,\"\")","v":""},"",null,null,{"$f":"IF(A30=\"\",\"\",VLOOKUP(MONTH(A30),T!A$1:B$12,2,FALSE))","v":"Februar"},{"$f":"IF(A30=\"\",\"\",A30-A29)","v":28},"",null,{"$f":"IF(A30=\"\",\"\",VLOOKUP(MONTH(A30),T!A$1:B$12,2,FALSE))","v":"Februar"},{"$f":"'2012'!D30","v":7},null,"Februar","",null,{"$f":"IF(R21<>\"\",R21-O21,\"\")","v":""},{"$f":"IF(T21<>\"\",T21/(O21/100),\"\")","v":""},{"$f":"IF(A30=\"\",\"\",VLOOKUP(MONTH(A30),'Beregn varme 2013'!A$2:H$13,8,FALSE))","v":7.6712328767123283},""]
["2013-12-31",null,{"$f":"IF(B22=\"\",\"\",VLOOKUP(B22,Pejletabel1800!A$3:B$201,2,FALSE))","v":""},null,"",{"$f":"IF(E22<>\"\",1800-E22,\"\")","v":""},"",null,null,{"$f":"IF(A31=\"\",\"\",VLOOKUP(MONTH(A31),T!A$1:B$12,2,FALSE))","v":"Marts"},{"$f":"IF(A31=\"\",\"\",A31-A30)","v":31},"",null,{"$f":"IF(A31=\"\",\"\",VLOOKUP(MONTH(A31),T!A$1:B$12,2,FALSE))","v":"Marts"},{"$f":"'2012'!D31","v":6},null,"Marts","",null,"","",{"$f":"IF(A31=\"\",\"\",VLOOKUP(MONTH(A31),'Beregn varme 2013'!A$2:H$13,8,FALSE))","v":8.493150684931507},""]
[null,null,null,null,"Års forbrug",null,{"$f":"SUM(G11:G22)","v":0},null,null,{"$f":"IF(A32=\"\",\"\",VLOOKUP(MONTH(A32),T!A$1:B$12,2,FALSE))","v":"April"},{"$f":"IF(A32=\"\",\"\",A32-A31)","v":30},"",null,{"$f":"IF(A32=\"\",\"\",VLOOKUP(MONTH(A32),T!A$1:B$12,2,FALSE))","v":"April"},{"$f":"'2012'!D32","v":8},null,"April","",null,"","",{"$f":"IF(A32=\"\",\"\",VLOOKUP(MONTH(A32),'Beregn varme 2013'!A$2:H$13,8,FALSE))","v":8.2191780821917799},""]
["MÅNEDLIG AFLÆSNING AF VANDMÅLER",null,null,null,null,null,null,null,null,{"$f":"IF(A33=\"\",\"\",VLOOKUP(MONTH(A33),T!A$1:B$12,2,FALSE))","v":"Maj"},{"$f":"IF(A33=\"\",\"\",A33-A32)","v":31},"",null,{"$f":"IF(A33=\"\",\"\",VLOOKUP(MONTH(A33),T!A$1:B$12,2,FALSE))","v":"Maj"},{"$f":"'2012'!D33","v":7},null,"Maj","",null,"","",{"$f":"IF(A33=\"\",\"\",VLOOKUP(MONTH(A33),'Beregn varme 2013'!A$2:H$13,8,FALSE))","v":8.493150684931507},""]
[null,null,null,null,null,null,null,null,null,{"$f":"IF(A34=\"\",\"\",VLOOKUP(MONTH(A34),T!A$1:B$12,2,FALSE))","v":"Juni"},{"$f":"IF(E29=\"\",\"\",A34-A33)","v":30},"",null,"Juni",{"$f":"'2012'!D34","v":7},null,"Juni","",null,"","",{"$f":"IF(A34=\"\",\"\",VLOOKUP(MONTH(A34),'Beregn varme 2013'!A$2:H$13,8,FALSE))","v":8.2191780821917799},""]
["Dato","Aflæst",null,"Forbrug","Dato","Aflæst","Forbrug","Bemærkning:",null,{"$f":"IF(E29=\"\",\"\",VLOOKUP(MONTH(E29),T!A$1:B$12,2,FALSE))","v":"Juli"},{"$f":"IF(E29=\"\",\"\",E29-A34)","v":31},{"$f":"IF(G29<>\"\",G29/K26,\"\")","v":""},null,"Juli",{"$f":"'2012'!G29","v":416},null,"Juli",{"$f":"G29","v":""},null,"","",{"$f":"IF(E29=\"\",\"\",VLOOKUP(MONTH(E29),'Beregn varme 2013'!A$2:H$13,8,FALSE))","v":8.493150684931507},""]
[null,"m³",null,"m³",null,"m³","m³",null,null,{"$f":"IF(E30=\"\",\"\",VLOOKUP(MONTH(E30),T!A$1:B$12,2,FALSE))","v":"August"},{"$f":"IF(E30=\"\",\"\",E30-E29)","v":31},"",null,"August",{"$f":"'2012'!G30","v":404},null,"August","",null,"","",{"$f":"IF(E30=\"\",\"\",VLOOKUP(MONTH(E30),'Beregn varme 2013'!A$2:H$13,8,FALSE))","v":8.493150684931507},""]
["2012-12-31",{"$f":"'2012'!F34","v":17567},null,null,null,null,null,null,null,{"$f":"IF(E31=\"\",\"\",VLOOKUP(MONTH(E31),T!A$1:B$12,2,FALSE))","v":"September"},{"$f":"IF(E31=\"\",\"\",E31-E30)","v":30},"",null,"September",{"$f":"'2012'!G31","v":403},null,"September","",null,"","",{"$f":"IF(E31=\"\",\"\",VLOOKUP(MONTH(E31),'Beregn varme 2013'!A$2:H$13,8,FALSE))","v":8.2191780821917799},""]
["2013-01-31",null,null,{"$f":"IF(B29<>\"\",B29-B28,\"\")","v":""},"2013-07-31",null,{"$f":"IF(F29<>\"\",F29-C34,\"\")","v":""},null,null,{"$f":"IF(E32=\"\",\"\",VLOOKUP(MONTH(E32),T!A$1:B$12,2,FALSE))","v":"Oktober"},{"$f":"IF(E32=\"\",\"\",E32-E31)","v":31},"",null,"Oktober",{"$f":"'2012'!G32","v":403},null,"Oktober","",null,"","",{"$f":"IF(E32=\"\",\"\",VLOOKUP(MONTH(E32),'Beregn varme 2013'!A$2:H$13,8,FALSE))","v":8.493150684931507},""]
["2013-02-28",null,null,{"$f":"IF(B30<>\"\",B30-B29,\"\")","v":""},"2013-08-31",null,{"$f":"IF(F30<>\"\",F30-F29,\"\")","v":""},null,null,{"$f":"IF(E33=\"\",\"\",VLOOKUP(MONTH(E33),T!A$1:B$12,2,FALSE))","v":"November"},{"$f":"IF(E33=\"\",\"\",E33-E32)","v":30},"",null,"November",{"$f":"'2012'!G33","v":375},null,"November","",null,"","",{"$f":"IF(E33=\"\",\"\",VLOOKUP(MONTH(E33),'Beregn varme 2013'!A$2:H$13,8,FALSE))","v":8.2191780821917799},""]
["2013-03-31",null,null,"","2013-09-30",null,{"$f":"IF(F31<>\"\",F31-F30,\"\")","v":""},null,null,{"$f":"IF(E34=\"\",\"\",VLOOKUP(MONTH(E34),T!A$1:B$12,2,FALSE))","v":"December"},{"$f":"IF(E34=\"\",\"\",E34-E33)","v":31},"",null,"December",{"$f":"'2012'!G34","v":369},null,"December","",null,"","",{"$f":"IF(E34=\"\",\"\",VLOOKUP(MONTH(E34),'Beregn varme 2013'!A$2:H$13,8,FALSE))","v":8.493150684931507},""]
["2013-04-30",null,null,"","2013-10-31",null,{"$f":"IF(F32<>\"\",F32-F31,\"\")","v":""}]
["2013-05-31",null,null,"","2013-11-30",null,{"$f":"IF(F33<>\"\",F33-F32,\"\")","v":""},null,null,"Hele året",{"$f":"SUM(K20:K31)","v":365},{"$f":"G35/K33","v":0},null,"Års Total",{"$f":"SUM(O20:O31)","v":2412},null,null,{"$f":"G35","v":0},null,{"$f":"IF(R33<>0,R33-O33,\"\")","v":""},{"$f":"IF(T33<>\"\",T33/(R33/100),\"\")","v":""},{"$f":"SUM(V20:V31)","v":99.999999999999986},{"$f":"SUM(W20:W31)","v":0}]
["2013-06-30",null,null,{"$f":"IF(C34<>\"\",C34-C33,\"\")","v":""},"2013-12-31",null,{"$f":"IF(F34<>\"\",F34-F33,\"\")","v":""}]
[null,null,null,null,"Års forbrug",null,{"$f":"SUM(D29:D34,G29:G34)","v":0},null,null,null,null,null,null,"2011/2012",null,null,"2012/2013",null,null," +/-","%","Forventet forbrug"]
["MÅNEDLIG AFLÆSNING AF ELMÅLER",null,null,null,null,null,null,null,null,"EL","Dage","KWh pr. dag",null,"EL","KWh",null,null,"KWh",null,"KWh",null,"%","KWh"]
[null,null,null,null,null,null,null,null,null,{"$f":"IF(A41=\"\",\"\",VLOOKUP(MONTH(A41),T!A$1:B$12,2,FALSE))","v":"August"},{"$f":"A41-A40","v":31},{"$f":"IF(D41<>\"\",D41/K37,\"\")","v":""},null,{"$f":"J37","v":"August"},{"$f":"'2012'!D63","v":335},null,{"$f":"J37","v":"August"},{"$f":"D41","v":""},null,{"$f":"IF(R37=\"\",\"\",R37-O37)","v":""},{"$f":"IF(R37<>\"\",T37/(O37/100),\"\")","v":""},{"$f":"IF(A41=\"\",\"\",VLOOKUP(MONTH(A41),'Beregn varme 2013'!A$2:I$13,9,FALSE))","v":7},{"$f":"IF(R37=\"\",\"\",O$50/100*V37)","v":""}]
["Dato","Aflæst",null,"Forbrug","Dato","Aflæst","Forbrug","Bemærkning:",null,{"$f":"IF(A42=\"\",\"\",VLOOKUP(MONTH(A42),T!A$1:B$12,2,FALSE))","v":"September"},30,"",null,{"$f":"J38","v":"September"},{"$f":"'2012'!D64","v":333},null,{"$f":"J38","v":"September"},{"$f":"IF(D42<>\"\",D42,\"\")","v":""},null,{"$f":"IF(R38<>\"\",R38-O38,\"\")","v":""},{"$f":"IF(R38<>\"\",T38/(O38/100),\"\")","v":""},{"$f":"IF(A42=\"\",\"\",VLOOKUP(MONTH(A42),'Beregn varme 2013'!A$2:I$13,9,FALSE))","v":8},""]
[null,"KWh",null,"KWh",null,"KWh","KWh",null,null,{"$f":"IF(A43=\"\",\"\",VLOOKUP(MONTH(A43),T!A$1:B$12,2,FALSE))","v":"Oktober"},{"$f":"IF(A43=\"\",\"\",A43-A42)","v":31},"",null,"Oktober",{"$f":"'2012'!D65","v":403},null,"Oktober",{"$f":"IF(D43<>\"\",D43,\"\")","v":""},null,{"$f":"IF(R39<>\"\",R39-O39,\"\")","v":""},{"$f":"IF(R39<>\"\",T39/(O39/100),\"\")","v":""},{"$f":"IF(A43=\"\",\"\",VLOOKUP(MONTH(A43),'Beregn varme 2013'!A$2:I$13,9,FALSE))","v":9},""]
["2012-07-31",{"$f":"'2012'!F66","v":17925},null,null,null,null,null,null,null,{"$f":"IF(A44=\"\",\"\",VLOOKUP(MONTH(A44),T!A$1:B$12,2,FALSE))","v":"November"},{"$f":"IF(A44=\"\",\"\",A44-A43)","v":30},"",null,"November",{"$f":"'2012'!D66+'2012 2'!D61","v":500},null,"November",{"$f":"IF(D44<>\"\",D44,\"\")","v":""},null,{"$f":"IF(R40<>\"\",R40-O40,\"\")","v":""},{"$f":"IF(R40<>\"\",T40/(O40/100),\"\")","v":""},{"$f":"IF(A44=\"\",\"\",VLOOKUP(MONTH(A44),'Beregn varme 2013'!A$2:I$13,9,FALSE))","v":9},""]
["2012-08-31",null,null,{"$f":"IF(B41<>\"\",B41-B40,\"\")","v":""},"2013-02-28",null,null,null,null,{"$f":"IF(A45=\"\",\"\",VLOOKUP(MONTH(A45),T!A$1:B$12,2,FALSE))","v":"December"},{"$f":"IF(A45=\"\",\"\",A45-A44)","v":31},"",null,"December",{"$f":"'2012 2'!D62","v":329},null,"December",{"$f":"IF(D45<>\"\",D45,\"\")","v":""},null,{"$f":"IF(R41<>\"\",R41-O41,\"\")","v":""},{"$f":"IF(R41<>\"\",T41/(O41/100),\"\")","v":""},{"$f":"IF(A45=\"\",\"\",VLOOKUP(MONTH(A45),'Beregn varme 2013'!A$2:I$13,9,FALSE))","v":10},""]
["2012-09-30",null,null,{"$f":"IF(B42<>\"\",B42-B41,\"\")","v":""},"2013-03-31",null,{"$f":"IF(F42<>\"\",F42-F41,\"\")","v":""},null,null,{"$f":"IF(A46=\"\",\"\",VLOOKUP(MONTH(A46),T!A$1:B$12,2,FALSE))","v":"Januar"},1,"",null,"Januar",{"$f":"'2012 2'!D63","v":416},null,"Januar",{"$f":"IF(D46<>\"\",D46,\"\")","v":""},null,{"$f":"IF(R42<>\"\",R42-O42,\"\")","v":""},"",{"$f":"IF(A46=\"\",\"\",VLOOKUP(MONTH(A46),'Beregn varme 2013'!A$2:I$13,9,FALSE))","v":10},""]
["2012-10-31",null,null,{"$f":"IF(B43<>\"\",B43-B42,\"\")","v":""},"2013-04-30",null,{"$f":"IF(F43<>\"\",F43-F42,\"\")","v":""},null,null,{"$f":"IF(E41=\"\",\"\",VLOOKUP(MONTH(E41),T!A$1:B$12,2,FALSE))","v":"Februar"},{"$f":"IF(E41=\"\",\"\",E41-A46)","v":58},{"$f":"IF(G41<>\"\",G41/K43,\"\")","v":""},null,"Februar",{"$f":"'2012 2'!D64","v":404},null,"Februar",{"$f":"IF(G41<>\"\",G41,\"\")","v":""},null,"","",{"$f":"IF(E41=\"\",\"\",VLOOKUP(MONTH(E41),'Beregn varme 2013'!A$2:I$13,9,FALSE))","v":9},""]
["2012-11-30",null,null,{"$f":"IF(B44<>\"\",B44-B43,\"\")","v":""},"2013-05-31",null,{"$f":"IF(F44<>\"\",F44-F43,\"\")","v":""},null,null,{"$f":"IF(E42=\"\",\"\",VLOOKUP(MONTH(E42),T!A$1:B$12,2,FALSE))","v":"Marts"},{"$f":"IF(E42=\"\",\"\",E42-E41)","v":31},"",null,"Marts",{"$f":"'2012 2'!D65","v":403},null,"Marts","",null,"","",{"$f":"IF(E42=\"\",\"\",VLOOKUP(MONTH(E42),'Beregn varme 2013'!A$2:I$13,9,FALSE))","v":9},""]
["2012-12-31",null,null,"","2013-06-30",null,{"$f":"IF(F45<>\"\",F45-F44,\"\")","v":""},null,null,{"$f":"IF(E43=\"\",\"\",VLOOKUP(MONTH(E43),T!A$1:B$12,2,FALSE))","v":"April"},{"$f":"IF(E43=\"\",\"\",E43-E42)","v":30},"",null,"April",{"$f":"'2012 2'!D66","v":403},null,"April","",null,"","",{"$f":"IF(E43=\"\",\"\",VLOOKUP(MONTH(E43),'Beregn varme 2013'!A$2:I$13,9,FALSE))","v":8},""]
["2013-01-01",null,null,"","2013-07-31",null,{"$f":"IF(F46<>\"\",F46-F45,\"\")","v":""},null,null,{"$f":"IF(E44=\"\",\"\",VLOOKUP(MONTH(E44),T!A$1:B$12,2,FALSE))","v":"Maj"},{"$f":"IF(E44=\"\",\"\",E44-E43)","v":31},"",null,"Maj",{"$f":"'2012 2'!G61","v":375},null,"Maj","",null,"","",{"$f":"IF(E44=\"\",\"\",VLOOKUP(MONTH(E44),'Beregn varme 2013'!A$2:I$13,9,FALSE))","v":7},""]
[null,null,null,null,"Års forbrug",null,{"$f":"SUM(D41:D46,G41:G46)","v":0},null,null,{"$f":"IF(E45=\"\",\"\",VLOOKUP(MONTH(E45),T!A$1:B$12,2,FALSE))","v":"Juni"},{"$f":"IF(E45=\"\",\"\",E45-E44)","v":30},"",null,"Juni",{"$f":"'2012 2'!G62","v":369},null,"Juni","",null,"","",{"$f":"IF(E45=\"\",\"\",VLOOKUP(MONTH(E45),'Beregn varme 2013'!A$2:I$13,9,FALSE))","v":7},""]
[null,null,null,null,null,null,null,null,null,{"$f":"IF(E46=\"\",\"\",VLOOKUP(MONTH(E46),T!A$1:B$12,2,FALSE))","v":"Juli"},{"$f":"IF(E46=\"\",\"\",E46-E45)","v":31},"",null,{"$f":"J48","v":"Juli"},{"$f":"'2012 2'!G63","v":358},null,{"$f":"J48","v":"Juli"},"",null,"",{"$f":"IF(R48<>\"\",T48/(R48/100),\"\")","v":""},{"$f":"IF(E46=\"\",\"\",VLOOKUP(MONTH(E46),'Beregn varme 2013'!A$2:I$13,9,FALSE))","v":7},""]
[]
[null,null,null,null,null,null,null,null,null,"Hele året",{"$f":"SUM(K37:K48)","v":365},{"$f":"G47/K50","v":0},null,"Års Total",{"$f":"SUM(O37:O48)","v":4628},null,null,{"$f":"SUM(R37:R48)","v":0},null,{"$f":"IF(R50<>0,R50-O50,\"\")","v":""},{"$f":"IF(T50<>\"\",T50/(O50/100),\"\")","v":""},{"$f":"SUM(V37:V48)","v":100},{"$f":"SUM(W37:W48)","v":0}]

{"sheet":"Tomt1 ark","index":2,"n_rows":50,"n_cols":19,"rows_kept":50,"cut":false,"hidden":true,"merged":[[41,3,41,4],[17,3,17,4],[18,1,18,5],[30,1,30,5],[29,0,29,2],[17,0,17,2],[0,11,0,12],[0,14,0,15],[17,11,17,12],[17,14,17,15],[34,11,34,12],[34,14,34,15]]}
[null,null,"MÅNEDLIG PEJLING AF OLIETANK",null,null,null,null,"Olie","Dage","Liter pr dag",null,2009,null,null,2010,null,null," +/-","%"]
[null,null,null,null,null,null,null,"Januar",{"$f":"A6-A5","v":31},{"$f":"IF(F6<>\"\",F6/I2,\"\")","v":""},null,"Olie","Liter","%",null,"Liter","%","Liter"]
["Dato",null,"Fyldt på",null,"Plads til",null,null,"Februar",28,"",null,"Januar",{"$f":"'2009'!F6","v":187},{"$f":"IF(M3=\"\",\"\",M3/(M$16/100))","v":14.081325301204821},"Januar",{"$f":"'2010'!F6","v":210},{"$f":"IF(P3=\"\",\"\",P3/(P$16/100))","v":13.962765957446809},{"$f":"P3-M3","v":23},{"$f":"IF(P3<>\"\",R3/(M3/100),\"\")","v":12.299465240641711}]
[null,"Pejling","Liter","Beholdning","Liter","Forbrugt",null,"marts",31,"",null,"Februar",{"$f":"'2009'!F7","v":179},{"$f":"IF(M4=\"\",\"\",M4/(M$16/100))","v":13.478915662650603},"Februar",{"$f":"'2010'!F7","v":172},{"$f":"IF(P4=\"\",\"\",P4/(P$16/100))","v":11.436170212765958},{"$f":"P4-M4","v":-7},{"$f":"IF(P4<>\"\",R4/(M4/100),\"\")","v":-3.9106145251396649}]
["2011-01-04",{"$f":"'2011'!B22","v":0},null,{"$f":"IF(B5<>\"\",SUM(B5:C5),\"\")","v":0},{"$f":"IF(D5<>\"\",1200-D5,\"\")","v":1200},null,null,"april",30,"",null,"Marts",{"$f":"'2009'!F8","v":175},13.177710843373495,"Marts",{"$f":"'2010'!F8","v":169},11.236702127659575,{"$f":"P5-M5","v":-6},-3.4285714285714284]
["2011-02-04",null,null,{"$f":"IF(B6<>\"\",B6+C6,\"\")","v":""},{"$f":"IF(D6<>\"\",1200-D6,\"\")","v":""},{"$f":"IF(B6<>\"\",D5-B6,\"\")","v":""},null,"maj",31,"",null,"April",{"$f":"'2009'!F9","v":72},5.4216867469879517,"April",{"$f":"'2010'!F9","v":151},10.039893617021278,{"$f":"P6-M6","v":79},109.72222222222223]
["2011-03-04",null,null,{"$f":"IF(B7<>\"\",B7+C7,\"\")","v":""},{"$f":"IF(D7<>\"\",1200-D7,\"\")","v":""},{"$f":"IF(B7<>\"\",D6-B7,\"\")","v":""},null,"juni",30,"",null,"Maj",{"$f":"'2009'!F10","v":70},5.2710843373493974,"Maj",{"$f":"'2010'!F10","v":96},6.3829787234042561,{"$f":"P7-M7","v":26},37.142857142857146]
["2011-04-04",null,null,"","","",null,"juli",31,"",null,"Juni",{"$f":"'2009'!F11","v":46},3.463855421686747,"Juni",{"$f":"'2010'!F11","v":62},4.1223404255319149,{"$f":"IF(P8<>0,P8-M8,\"\")","v":16},{"$f":"IF(P8<>0,R8/(M8/100),\"\")","v":34.782608695652172}]
["2011-05-04",null,null,"","","",null,"august",31,"",null,"Juli",{"$f":"'2009'!F12","v":49},3.6897590361445785,"Juli",{"$f":"'2010'!F12","v":40},2.6595744680851063,{"$f":"IF(P9<>\"\",P9-M9,\"\")","v":-9},{"$f":"IF(P9<>\"\",R9/(M9/100),\"\")","v":-18.367346938775512}]
["2011-06-04",null,null,"","","",null,"september",30,"",null,"August",{"$f":"'2009'!F13","v":35},2.6355421686746987,"August",{"$f":"'2010'!F13","v":42},2.792553191489362,{"$f":"IF(P10<>\"\",P10-M10,\"\")","v":7},{"$f":"IF(P10<>\"\",R10/(M10/100),\"\")","v":20}]
["2011-07-04",null,null,"","","",null,"oktober",31,"",null,"September",{"$f":"'2009'!F14","v":45},3.3885542168674698,"September",{"$f":"'2010'!F14","v":85},{"$f":"IF(P11=\"\",\"\",P11/(P$16/100))","v":5.6515957446808516},40,88.888888888888886]
["2011-08-04",null,null,"","","",null,"november",30,"",null,"Oktober",{"$f":"'2009'!F15","v":135},10.16566265060241,"Oktober",{"$f":"'2010'!F15","v":102},{"$f":"IF(P12=\"\",\"\",P12/(P$16/100))","v":6.7819148936170217},-33,-24.444444444444443]
["2011-09-04",null,null,"","","",null,"december",31,"",null,"November",{"$f":"'2009'!F16","v":138},10.391566265060241,"November",{"$f":"'2010'!F16","v":167},11.103723404255319,29,21.014492753623191]
["2011-10-04",null,null,"","","",null,null,null,null,null,"December",{"$f":"'2009'!F17","v":197},14.834337349397591,"December",{"$f":"'2010'!F17","v":208},13.829787234042554,11,5.5837563451776653]
["2011-11-04",null,null,"","","",null,"Hele året",{"$f":"A17-A5","v":365},{"$f":"F18/I15","v":0}]
["2011-12-04",null,null,"","","",null,null,null,null,null,"Års Total",{"$f":"SUM(M3:M15)","v":1328},{"$f":"SUM(N3:N14)","v":100.00000000000001},null,{"$f":"SUM(P3:P15)","v":1504},{"$f":"SUM(Q3:Q14)","v":100.00000000000001},{"$f":"P16-M16","v":176},{"$f":"R16/(M16/100)","v":13.253012048192772}]
["2012-01-04",null,null,"","","",null,"Vand","Dage","m³ pr. dag"]
[null,null,null,"Års forbrug",null,{"$f":"SUM(F6:F17)","v":0},null,"januar",{"$f":"A24-A23","v":31},{"$f":"IF(C24<>\"\",C24/I18,\"\")","v":""},null,2009,null,null,2010,null,null," +/-","%"]
[null,"MÅNEDLIG AFLÆSNING AF VANDMÅLER",null,null,null,null,null,"februar",28,"",null,"Vand","m3",null,null,"m3",null,"m3"]
[null,null,null,null,null,null,null,"marts",31,"",null,"Januar",{"$f":"'2009'!C24","v":11},null,"Januar",10,null,{"$f":"P20-M20","v":-1},{"$f":"IF(R20<>\"\",R20/(M20/100),\"\")","v":-9.0909090909090917}]
["Dato",null,"forbrug","Dato",null,"forbrug",null,"april",30,"",null,"Februar",{"$f":"'2009'!C25","v":7},null,"Februar",9,null,2,{"$f":"IF(R21<>\"\",R21/(M21/100),\"\")","v":28.571428571428569}]
[null,"m³","m³",null,"m³","m³",null,"maj",31,"",null,"Marts",{"$f":"'2009'!C26","v":8},null,"Marts",10,null,2,25]
["2011-01-04",{"$f":"'2011'!E34","v":1525},null,null,null,null,null,"juni",30,"",null,"April",{"$f":"'2009'!C27","v":8},null,"April",9,null,1,12.5]
["2011-02-04",null,{"$f":"IF(B24<>\"\",B24-B23,\"\")","v":""},"2011-08-04",null,{"$f":"IF(E24<>\"\",E24-B29,\"\")","v":""},null,"juli",{"$f":"D24-A29","v":31},{"$f":"IF(F24<>\"\",F24/I24,\"\")","v":""},null,"Maj",{"$f":"'2009'!C28","v":9},null,"Maj",8,null,-1,-11.111111111111111]
["2011-03-04",null,"","2011-09-04",null,{"$f":"IF(E25<>\"\",E25-E24,\"\")","v":""},null,"august",{"$f":"D25-D24","v":31},"",null,"Juni",{"$f":"'2009'!C29","v":9},null,"Juni",9,null,{"$f":"IF(P25<>0,P25-M25,\"\")","v":0},0]
["2011-04-04",null,"","2011-10-04",null,{"$f":"IF(E26<>\"\",E26-E25,\"\")","v":""},null,"september",{"$f":"D26-D25","v":30},"",null,"Juli",{"$f":"'2009'!F23","v":9},null,"Juli","",null,{"$f":"IF(P26<>\"\",P26-M26,\"\")","v":""},{"$f":"IF(R26<>\"\",R26/(M26/100),\"\")","v":""}]
["2011-05-04",null,"","2011-11-04",null,{"$f":"IF(E27<>\"\",E27-E26,\"\")","v":""},null,"oktober",{"$f":"D27-D26","v":31},"",null,"August",{"$f":"'2009'!F24","v":7},null,"August","",null,"",{"$f":"IF(R27<>\"\",R27/(P27/100),\"\")","v":""}]
["2011-06-04",null,"","2011-12-04",null,{"$f":"IF(E28<>\"\",E28-E27,\"\")","v":""},null,"november",{"$f":"D28-D27","v":30},"",null,"September",{"$f":"'2009'!F25","v":8},null,"September","",null,"",""]
["2011-07-04",null,{"$f":"IF(B29<>\"\",B29-B28,\"\")","v":""},"2012-01-04",null,{"$f":"IF(E29<>\"\",E29-E28,\"\")","v":""},null,"december",{"$f":"D29-D28","v":31},"",null,"Oktober",{"$f":"'2009'!F26","v":9},null,"Oktober","",null,"",""]
[null,null,null,"Års forbrug",null,{"$f":"SUM(C24:C29,F24:F29)","v":0},null,null,null,null,null,"November",{"$f":"'2009'!F27","v":8},null,"November","",null,"",""]
[null,"MÅNEDLIG AFLÆSNING AF ELMÅLER",null,null,null,null,null,"hele året",{"$f":"D29-A23","v":365},{"$f":"F30/I31","v":0},null,"December",{"$f":"'2009'!F28","v":6},null,"December","",null,"",""]
[]
["Dato",null,"forbrug","Dato",null,"forbrug",null,"EL","Dage","Kw pr. dag",null,"Års Total",{"$f":"SUM(M20:M32)","v":99},null,null,{"$f":"SUM(P20:P32)","v":55},null,-44,{"$f":"R33/(M33/100)","v":-44.444444444444443}]
[null,"Kw","Kw",null,"Kw","Kw",null,"Juni",{"$f":"A36-A35","v":30},{"$f":"IF(B36<>\"\",C36/I34,\"\")","v":""}]
["2011-06-04",{"$f":"'2011'!E46","v":60055},null,null,null,null,null,"Juli",31,"",null,"2008/2009",null,null,"2009/2010",null,null," +/-","%"]
["2011-07-04",null,{"$f":"IF(B36<>\"\",B36-B35,\"\")","v":""},"2012-01-04",null,{"$f":"IF(E36<>\"\",E36-B41,\"\")","v":""},null,"August",31,"",null,"EL","Kw",null,null,"Kw",null,"Kw"]
["2011-08-04",null,null,"2012-02-04",null,{"$f":"IF(E37<>\"\",E37-E36,\"\")","v":""},null,"September",30,"",null,"Juni",262,null,"Juni",334,null,{"$f":"P37-M37","v":72},{"$f":"R37/(M37/100)","v":27.480916030534349}]
["2011-09-04",null,{"$f":"IF(B38<>\"\",B38-B36,\"\")","v":""},"2012-03-04",null,null,null,"Oktober",31,"",null,"Juli",262,null,"Juli",291,null,29,{"$f":"R38/(M38/100)","v":11.068702290076335}]
["2011-10-04",null,{"$f":"IF(B39<>\"\",B39-B38,\"\")","v":""},"2012-04-04",null,{"$f":"IF(E39<>\"\",E39-E37,\"\")","v":""},null,"November",30,"",null,"August",278,null,"August",264,null,-14,-5.0359712230215834]
["2011-11-04",null,{"$f":"IF(B40<>\"\",B40-B39,\"\")","v":""},"2012-05-04",null,{"$f":"IF(E40<>\"\",E40-E39,\"\")","v":""},null,"December",{"$f":"D36-A41","v":31},{"$f":"IF(E36<>\"\",F36/I40,\"\")","v":""},null,"September",384,null,"September",326,null,-58,-15.104166666666668]
["2011-12-04",null,{"$f":"IF(B41<>\"\",B41-B40,\"\")","v":""},"2012-06-04",null,{"$f":"IF(E41<>\"\",E41-E40,\"\")","v":""},null,"Januar",{"$f":"D37-D36","v":31},"",null,"Oktober",438,null,"Oktober",453,null,15,3.4246575342465753]
[null,null,null,"Års forbrug",null,{"$f":"SUM(C36:C41,F36:F41)","v":0},null,"Februar",{"$f":"D38-D37","v":29},"",null,"November",507,null,"November",477,null,-30,-5.9171597633136095]
["Bemærkning:",null,null,null,null,null,null,"Marts",{"$f":"D39-D38","v":31},"",null,"December",506,null,"December",549,null,43,8.4980237154150196]
[null,null,null,null,null,null,null,"April",{"$f":"D40-D39","v":30},"",null,"Januar",671,null,"Januar",614,null,-57,-8.49478390461997]
[null,null,null,null,null,null,null,"Maj",{"$f":"D41-D40","v":31},"",null,"Februar",565,null,"Februar",596,null,31,5.4867256637168138]
[null,null,null,null,null,null,null,null,null,null,null,"Marts",568,null,"Marts",586,null,18,3.1690140845070425]
[null,null,null,null,null,null,null,"Hele året",{"$f":"D41-A35","v":366},{"$f":"F42/I47","v":0},null,"April",412,null,"April",477,null,65,15.776699029126213]
[null,null,null,null,null,null,null,null,null,null,null,"Maj",360,null,"Maj",437,null,77,21.388888888888889]
[]
[null,null,null,null,null,null,null,null,null,null,null,"Års Total",{"$f":"SUM(M37:M49)","v":5213},null,null,{"$f":"SUM(P37:P49)","v":5404},null,191,{"$f":"R50/(M50/100)","v":3.6639171302512947}]

{"sheet":"nytark","index":3,"n_rows":50,"n_cols":23,"rows_kept":50,"cut":false,"hidden":true,"merged":[[45,1,45,2],[46,4,46,5],[39,1,39,2],[40,1,40,2],[41,1,41,2],[42,1,42,2],[43,1,43,2],[44,1,44,2],[33,1,33,2],[34,4,34,5],[34,21,34,22],[35,0,36,7],[37,0,38,0],[37,1,37,2],[37,4,38,4],[37,7,38,7],[38,1,38,2],[32,1,32,2],[17,21,17,22],[22,4,22,5],[23,0,24,7],[25,0,26,0],[25,1,25,2],[25,4,26,4],[25,7,26,7],[26,1,26,2],[27,1,27,2],[28,1,28,2],[29,1,29,2],[30,1,30,2],[31,1,31,2],[7,0,8,0],[7,4,8,4],[7,7,8,7],[0,21,0,22],[1,0,1,7],[2,0,2,7],[3,1,3,7],[5,0,6,7]]}
[null,null,null,null,null,null,null,null,null,null,null,null,null,2012,null,null,2013,null,null," +/-","%","Forventet forbrug"]
[{"$f":"System!A19","v":"Version: 2.0.2 / Bjarne Hansen"},null,null,null,null,null,null,null,null,"Olie","Dage","Liter pr dag",null,"Olie","Liter","%",null,"Liter","%","Liter",null,"%","Liter"]
["Aflæsningsskema til Olieforbrug samt EL og Vand",null,null,null,null,null,null,null,null,{"$f":"IF(A11=\"\",\"\",VLOOKUP(MONTH(A11),T!A$1:B$12,2,FALSE))","v":"Januar"},{"$f":"A11-A10","v":31},{"$f":"IF(G11<>\"\",G11/K3,\"\")","v":""},null,{"$f":"IF(A11=\"\",\"\",VLOOKUP(MONTH(A11),T!$A$1:$B$12,2,FALSE))","v":"Januar"},{"$f":"'2012'!G11","v":362},{"$f":"IF(O3=\"\",\"\",O3/(O$16/100))","v":16.225907664724339},{"$f":"IF(A11=\"\",\"\",VLOOKUP(MONTH(A11),T!$A$1:$B$12,2,FALSE))","v":"Januar"},{"$f":"G11","v":""},{"$f":"IF(R3=\"\",\"\",R3/(R$16/100))","v":""},{"$f":"IF(R3<>\"\",R3-O3,\"\")","v":""},{"$f":"IF(R3<>\"\",T3/(O3/100),\"\")","v":""},{"$f":"IF(A11=\"\",\"\",VLOOKUP(MONTH(A11),'Beregn varme 2013'!A$2:G$13,7,FALSE))","v":13.90884055219597},{"$f":"IF(R3=\"\",\"\",VLOOKUP(MONTH(A11),'Beregn varme 2011'!A$2:F$13,6,FALSE))","v":""}]
["Navn :","Bjarne Hansen, Lyrsbyvej 31",null,null,null,null,null,null,null,{"$f":"IF(A12=\"\",\"\",VLOOKUP(MONTH(A12),T!A$1:B$12,2,FALSE))","v":"Februar"},{"$f":"IF(A12=\"\",\"\",A12-A11)","v":28},"",null,{"$f":"IF(A12=\"\",\"\",VLOOKUP(MONTH(A12),T!A$1:B$12,2,FALSE))","v":"Februar"},{"$f":"'2012'!G12","v":388},17.39130434782609,{"$f":"IF(A12=\"\",\"\",VLOOKUP(MONTH(A12),T!$A$1:$B$12,2,FALSE))","v":"Februar"},"","",{"$f":"IF(R4<>\"\",R4-O4,\"\")","v":""},{"$f":"IF(R4<>\"\",T4/(O4/100),\"\")","v":""},{"$f":"IF(A12=\"\",\"\",VLOOKUP(MONTH(A12),'Beregn varme 2013'!A$2:G$13,7,FALSE))","v":12.813076127679613},{"$f":"IF(R4=\"\",\"\",VLOOKUP(MONTH(A12),'Beregn varme 2011'!A$2:F$13,6,FALSE))","v":""}]
["Tankstørrelse:",null,{"$f":"System!F8","v":1800},"Liter",null,null,null,null,null,{"$f":"IF(A13=\"\",\"\",VLOOKUP(MONTH(A13),T!A$1:B$12,2,FALSE))","v":"Marts"},31,"",null,{"$f":"IF(A13=\"\",\"\",VLOOKUP(MONTH(A13),T!A$1:B$12,2,FALSE))","v":"Marts"},{"$f":"'2012'!G13","v":260},11.653966831017481,{"$f":"IF(A13=\"\",\"\",VLOOKUP(MONTH(A13),T!$A$1:$B$12,2,FALSE))","v":"Marts"},"","","","",{"$f":"IF(A13=\"\",\"\",VLOOKUP(MONTH(A13),'Beregn varme 2013'!A$2:G$13,7,FALSE))","v":12.705648242923107},{"$f":"IF(R5=\"\",\"\",VLOOKUP(MONTH(A13),'Beregn varme 2011'!A$2:F$13,6,FALSE))","v":""}]
["MÅNEDLIG PEJLING AF OLIETANK",null,null,null,null,null,null,null,null,{"$f":"IF(A14=\"\",\"\",VLOOKUP(MONTH(A14),T!A$1:B$12,2,FALSE))","v":"April"},30,"",null,{"$f":"IF(A14=\"\",\"\",VLOOKUP(MONTH(A14),T!A$1:B$12,2,FALSE))","v":"April"},{"$f":"'2012'!G14","v":201},9.009412819363515,{"$f":"IF(A14=\"\",\"\",VLOOKUP(MONTH(A14),T!$A$1:$B$12,2,FALSE))","v":"April"},"","","","",{"$f":"IF(A14=\"\",\"\",VLOOKUP(MONTH(A14),'Beregn varme 2013'!A$2:G$13,7,FALSE))","v":8.8382443916889102},{"$f":"IF(R6=\"\",\"\",VLOOKUP(MONTH(A14),'Beregn varme 2011'!A$2:F$13,6,FALSE))","v":""}]
[null,null,null,null,null,null,null,null,null,{"$f":"IF(A15=\"\",\"\",VLOOKUP(MONTH(A15),T!A$1:B$12,2,FALSE))","v":"Maj"},31,"",null,{"$f":"IF(A15=\"\",\"\",VLOOKUP(MONTH(A15),T!A$1:B$12,2,FALSE))","v":"Maj"},{"$f":"'2012'!G15","v":82},3.6754818467055133,{"$f":"IF(A15=\"\",\"\",VLOOKUP(MONTH(A15),T!$A$1:$B$12,2,FALSE))","v":"Maj"},"","","","",{"$f":"IF(A15=\"\",\"\",VLOOKUP(MONTH(A15),'Beregn varme 2013'!A$2:G$13,7,FALSE))","v":4.7344991939903993},{"$f":"IF(R7=\"\",\"\",VLOOKUP(MONTH(A15),'Beregn varme 2011'!A$2:F$13,6,FALSE))","v":""}]
["Dato","Pejling",null,"Fyldt på","Beholdning","Plads til","Forbrug","Bemærkning:",null,{"$f":"IF(A16=\"\",\"\",VLOOKUP(MONTH(A16),T!A$1:B$12,2,FALSE))","v":"Juni"},30,"",null,{"$f":"IF(A16=\"\",\"\",VLOOKUP(MONTH(A16),T!A$1:B$12,2,FALSE))","v":"Juni"},{"$f":"'2012'!G16","v":43},1.9273868220528911,{"$f":"IF(A16=\"\",\"\",VLOOKUP(MONTH(A16),T!$A$1:$B$12,2,FALSE))","v":"Juni"},"","","","",{"$f":"IF(A16=\"\",\"\",VLOOKUP(MONTH(A16),'Beregn varme 2013'!A$2:G$13,7,FALSE))","v":3.4883357308149354},{"$f":"IF(R8=\"\",\"\",VLOOKUP(MONTH(A16),'Beregn varme 2011'!A$2:F$13,6,FALSE))","v":""}]
[null,"i cm","Liter","Liter",null,"Liter","Liter",null,null,{"$f":"IF(A17=\"\",\"\",VLOOKUP(MONTH(A17),T!A$1:B$12,2,FALSE))","v":"Juli"},31,"",null,{"$f":"IF(A17=\"\",\"\",VLOOKUP(MONTH(A17),T!A$1:B$12,2,FALSE))","v":"Juli"},{"$f":"'2012'!G17","v":6},0.26893769610040341,{"$f":"IF(A17=\"\",\"\",VLOOKUP(MONTH(A17),T!$A$1:$B$12,2,FALSE))","v":"Juli"},"","","","",{"$f":"IF(A17=\"\",\"\",VLOOKUP(MONTH(A17),'Beregn varme 2013'!A$2:G$13,7,FALSE))","v":3.4883357308149354},{"$f":"IF(R9=\"\",\"\",VLOOKUP(MONTH(A17),'Beregn varme 2011'!A$2:F$13,6,FALSE))","v":""}]
["2012-12-31",{"$f":"'2012'!B22","v":58.5},{"$f":"IF(B10=\"\",\"\",IF(System!E$8=1,VLOOKUP(B10,Pejletabel!A$3:G$336,2,FALSE),IF(System!E$8=2,VLOOKUP(B10,Pejletabel!A$3:G$357,3,FALSE),IF(System!E$8=3,VLOOKUP(B10,Pejletabel!A$3:G$357,4,FALSE),IF(System!E$8=4,VLOOKUP(B10,Pejletabel!A$3:G$357,5,FALSE),IF(System!E8=5,VLOOKUP(B10,Pejletabel!A3:G358,6,FALSE),IF(System!E$8=6,VLOOKUP(B10,Pejletabel!A$3:G$357,7,FALSE))))))))","v":670},null,{"$f":"IF(C10<>\"\",SUM(C10:D10),\"\")","v":670},{"$f":"IF(E10<>\"\",System!F$8-E10,\"\")","v":1130},null,null,null,{"$f":"IF(A18=\"\",\"\",VLOOKUP(MONTH(A18),T!A$1:B$12,2,FALSE))","v":"August"},31,"",null,{"$f":"IF(A18=\"\",\"\",VLOOKUP(MONTH(A18),T!A$1:B$12,2,FALSE))","v":"August"},{"$f":"'2012'!G18","v":0},0,{"$f":"IF(A18=\"\",\"\",VLOOKUP(MONTH(A18),T!$A$1:$B$12,2,FALSE))","v":"August"},"","","","",{"$f":"IF(A18=\"\",\"\",VLOOKUP(MONTH(A18),'Beregn varme 2013'!A$2:G$13,7,FALSE))","v":3.4883357308149354},{"$f":"IF(R10=\"\",\"\",VLOOKUP(MONTH(A18),'Beregn varme 2011'!A$2:F$13,6,FALSE))","v":""}]
["2013-01-31",null,{"$f":"IF(B11=\"\",\"\",IF(System!E$8=1,VLOOKUP(B11,Pejletabel!A$3:G$336,2,FALSE),IF(System!E$8=2,VLOOKUP(B11,Pejletabel!A$3:G$357,3,FALSE),IF(System!E$8=3,VLOOKUP(B11,Pejletabel!A$3:G$357,4,FALSE),IF(System!E$8=4,VLOOKUP(B11,Pejletabel!A$3:G$357,5,FALSE),IF(System!E$8=5,VLOOKUP(B11,Pejletabel!A$3:G$357,6,FALSE),IF(System!E8=6,VLOOKUP(B11,Pejletabel!A3:G357,7,FALSE))))))))","v":""},null,{"$f":"IF(C11<>\"\",C11+D11,\"\")","v":""},{"$f":"IF(E11<>\"\",1800-E11,\"\")","v":""},{"$f":"IF(C11<>\"\",E10-C11,\"\")","v":""},null,null,{"$f":"IF(A19=\"\",\"\",VLOOKUP(MONTH(A19),T!A$1:B$12,2,FALSE))","v":"September"},30,"",null,{"$f":"IF(A19=\"\",\"\",VLOOKUP(MONTH(A19),T!A$1:B$12,2,FALSE))","v":"September"},{"$f":"'2012'!G19","v":73},3.2720753025549083,{"$f":"IF(A19=\"\",\"\",VLOOKUP(MONTH(A19),T!$A$1:$B$12,2,FALSE))","v":"September"},"","","","",{"$f":"IF(A19=\"\",\"\",VLOOKUP(MONTH(A19),'Beregn varme 2013'!A$2:G$13,7,FALSE))","v":4.0469607315487641},{"$f":"IF(R11=\"\",\"\",VLOOKUP(MONTH(A19),'Beregn varme 2011'!A$2:F$13,6,FALSE))","v":""}]
["2013-02-28",null,{"$f":"IF(B12=\"\",\"\",IF(System!E$8=1,VLOOKUP(B12,Pejletabel!A$3:G$336,2,FALSE),IF(System!E$8=2,VLOOKUP(B12,Pejletabel!A$3:G$357,3,FALSE),IF(System!E$8=3,VLOOKUP(B12,Pejletabel!A$3:G$357,4,FALSE),IF(System!E$8=4,VLOOKUP(B12,Pejletabel!A$3:G$357,5,FALSE),IF(System!E$8=5,VLOOKUP(B12,Pejletabel!A$3:G$357,6,FALSE),IF(System!E13=6,VLOOKUP(B12,Pejletabel!A4:G358,7,FALSE))))))))","v":""},null,{"$f":"IF(C12<>\"\",C12+D12,\"\")","v":""},{"$f":"IF(E12<>\"\",1800-E12,\"\")","v":""},{"$f":"IF(C12<>\"\",E11-C12,\"\")","v":""},null,null,{"$f":"IF(A20=\"\",\"\",VLOOKUP(MONTH(A20),T!A$1:B$12,2,FALSE))","v":"Oktober"},31,"",null,{"$f":"IF(A20=\"\",\"\",VLOOKUP(MONTH(A20),T!A$1:B$12,2,FALSE))","v":"Oktober"},{"$f":"'2012'!G20","v":188},8.4267144778126397,{"$f":"IF(A20=\"\",\"\",VLOOKUP(MONTH(A20),T!$A$1:$B$12,2,FALSE))","v":"Oktober"},"","","","",{"$f":"IF(A20=\"\",\"\",VLOOKUP(MONTH(A20),'Beregn varme 2013'!A$2:G$13,7,FALSE))","v":7.8499078519290588},{"$f":"IF(R12=\"\",\"\",VLOOKUP(MONTH(A20),'Beregn varme 2011'!A$2:F$13,6,FALSE))","v":""}]
["2013-03-31",null,{"$f":"IF(B13=\"\",\"\",IF(System!E$8=1,VLOOKUP(B13,Pejletabel!A$3:G$336,2,FALSE),IF(System!E$8=2,VLOOKUP(B13,Pejletabel!A$3:G$357,3,FALSE),IF(System!E$8=3,VLOOKUP(B13,Pejletabel!A$3:G$357,4,FALSE),IF(System!E$8=4,VLOOKUP(B13,Pejletabel!A$3:G$357,5,FALSE),IF(System!E$8=5,VLOOKUP(B13,Pejletabel!A$3:G$357,6,FALSE),IF(System!E19=6,VLOOKUP(B13,Pejletabel!A5:G359,7,FALSE))))))))","v":""},null,{"$f":"IF(C13<>\"\",C13+D13,\"\")","v":""},"","",null,null,{"$f":"IF(A21=\"\",\"\",VLOOKUP(MONTH(A21),T!A$1:B$12,2,FALSE))","v":"November"},30,"",null,{"$f":"IF(A21=\"\",\"\",VLOOKUP(MONTH(A21),T!A$1:B$12,2,FALSE))","v":"November"},{"$f":"'2012'!G21","v":289},12.953832362169431,{"$f":"IF(A21=\"\",\"\",VLOOKUP(MONTH(A21),T!$A$1:$B$12,2,FALSE))","v":"November"},"","","","",{"$f":"IF(A21=\"\",\"\",VLOOKUP(MONTH(A21),'Beregn varme 2013'!A$2:G$13,7,FALSE))","v":11.072744394624223},{"$f":"IF(R13=\"\",\"\",VLOOKUP(MONTH(A21),'Beregn varme 2011'!A$2:F$13,6,FALSE))","v":""}]
["2013-04-30",null,{"$f":"IF(B14=\"\",\"\",IF(System!E$8=1,VLOOKUP(B14,Pejletabel!A$3:G$336,2,FALSE),IF(System!E$8=2,VLOOKUP(B14,Pejletabel!A$3:G$357,3,FALSE),IF(System!E$8=3,VLOOKUP(B14,Pejletabel!A$3:G$357,4,FALSE),IF(System!E$8=4,VLOOKUP(B14,Pejletabel!A$3:G$357,5,FALSE),IF(System!E$8=5,VLOOKUP(B14,Pejletabel!A$3:G$357,6,FALSE),IF(System!E20=6,VLOOKUP(B14,Pejletabel!A6:G360,7,FALSE))))))))","v":""},null,"","","",null,null,{"$f":"IF(A22=\"\",\"\",VLOOKUP(MONTH(A22),T!A$1:B$12,2,FALSE))","v":"December"},31,"",null,{"$f":"IF(A22=\"\",\"\",VLOOKUP(MONTH(A22),T!A$1:B$12,2,FALSE))","v":"December"},{"$f":"'2012'!G22","v":339},15.194979829672793,{"$f":"IF(A22=\"\",\"\",VLOOKUP(MONTH(A22),T!$A$1:$B$12,2,FALSE))","v":"December"},"","","","",{"$f":"IF(A22=\"\",\"\",VLOOKUP(MONTH(A22),'Beregn varme 2013'!A$2:G$13,7,FALSE))","v":13.565071320975152},{"$f":"IF(R14=\"\",\"\",VLOOKUP(MONTH(A22),'Beregn varme 2011'!A$2:F$13,6,FALSE))","v":""}]
["2013-05-31",null,{"$f":"IF(B15=\"\",\"\",IF(System!E$8=1,VLOOKUP(B15,Pejletabel!A$3:G$336,2,FALSE),IF(System!E$8=2,VLOOKUP(B15,Pejletabel!A$3:G$357,3,FALSE),IF(System!E$8=3,VLOOKUP(B15,Pejletabel!A$3:G$357,4,FALSE),IF(System!E$8=4,VLOOKUP(B15,Pejletabel!A$3:G$357,5,FALSE),IF(System!E$8=5,VLOOKUP(B15,Pejletabel!A$3:G$357,6,FALSE),IF(System!E21=6,VLOOKUP(B15,Pejletabel!A7:G361,7,FALSE))))))))","v":""},null,"","",""]
["2013-06-30",null,{"$f":"IF(B16=\"\",\"\",IF(System!E$8=1,VLOOKUP(B16,Pejletabel!A$3:G$336,2,FALSE),IF(System!E$8=2,VLOOKUP(B16,Pejletabel!A$3:G$357,3,FALSE),IF(System!E$8=3,VLOOKUP(B16,Pejletabel!A$3:G$357,4,FALSE),IF(System!E$8=4,VLOOKUP(B16,Pejletabel!A$3:G$357,5,FALSE),IF(System!E$8=5,VLOOKUP(B16,Pejletabel!A$3:G$357,6,FALSE),IF(System!E22=6,VLOOKUP(B16,Pejletabel!A8:G362,7,FALSE))))))))","v":""},null,"","","",null,null,"Hele året",{"$f":"SUM(K3:K14)","v":365},{"$f":"G23/K16","v":0},null,"Års Total",{"$f":"'2012'!G23","v":2231},{"$f":"SUM(P3:P14)","v":100.00000000000001},null,{"$f":"G23","v":0},null,{"$f":"IF(R16<>0,R16-O16,\"\")","v":""},{"$f":"IF(R16<>0,T16/(R16/100),\"\")","v":""},{"$f":"SUM(V3:V14)","v":100.00000000000001},{"$f":"SUM(W3:W14)","v":0}]
["2013-07-31",null,{"$f":"IF(B17=\"\",\"\",IF(System!E$8=1,VLOOKUP(B17,Pejletabel!A$3:G$336,2,FALSE),IF(System!E$8=2,VLOOKUP(B17,Pejletabel!A$3:G$357,3,FALSE),IF(System!E$8=3,VLOOKUP(B17,Pejletabel!A$3:G$357,4,FALSE),IF(System!E$8=4,VLOOKUP(B17,Pejletabel!A$3:G$357,5,FALSE),IF(System!E$8=5,VLOOKUP(B17,Pejletabel!A$3:G$357,6,FALSE),IF(System!E23=6,VLOOKUP(B17,Pejletabel!A9:G363,7,FALSE))))))))","v":""},null,"","",""]
["2013-08-31",null,{"$f":"IF(B18=\"\",\"\",IF(System!E$8=1,VLOOKUP(B18,Pejletabel!A$3:G$336,2,FALSE),IF(System!E$8=2,VLOOKUP(B18,Pejletabel!A$3:G$357,3,FALSE),IF(System!E$8=3,VLOOKUP(B18,Pejletabel!A$3:G$357,4,FALSE),IF(System!E$8=4,VLOOKUP(B18,Pejletabel!A$3:G$357,5,FALSE),IF(System!E$8=5,VLOOKUP(B18,Pejletabel!A$3:G$357,6,FALSE),IF(System!E24=6,VLOOKUP(B18,Pejletabel!A10:G364,7,FALSE))))))))","v":""},null,"","","",null,null,null,null,null,null,2012,null,null,2013,null,null," +/-","%","Forventet forbrug"]
["2013-09-30",null,{"$f":"IF(B19=\"\",\"\",IF(System!E$8=1,VLOOKUP(B19,Pejletabel!A$3:G$336,2,FALSE),IF(System!E$8=2,VLOOKUP(B19,Pejletabel!A$3:G$357,3,FALSE),IF(System!E$8=3,VLOOKUP(B19,Pejletabel!A$3:G$357,4,FALSE),IF(System!E$8=4,VLOOKUP(B19,Pejletabel!A$3:G$357,5,FALSE),IF(System!E$8=5,VLOOKUP(B19,Pejletabel!A$3:G$357,6,FALSE),IF(System!E25=6,VLOOKUP(B19,Pejletabel!A11:G365,7,FALSE))))))))","v":""},null,"","","",null,null,"Vand","Dage","m³ pr. dag",null,"Vand","m³",null,null,"m³",null,"m³",null,"%","m³"]
["2013-10-31",null,{"$f":"IF(B20=\"\",\"\",IF(System!E$8=1,VLOOKUP(B20,Pejletabel!A$3:G$336,2,FALSE),IF(System!E$8=2,VLOOKUP(B20,Pejletabel!A$3:G$357,3,FALSE),IF(System!E$8=3,VLOOKUP(B20,Pejletabel!A$3:G$357,4,FALSE),IF(System!E$8=4,VLOOKUP(B20,Pejletabel!A$3:G$357,5,FALSE),IF(System!E$8=5,VLOOKUP(B20,Pejletabel!A$3:G$357,6,FALSE),IF(System!E26=6,VLOOKUP(B20,Pejletabel!A12:G366,7,FALSE))))))))","v":""},null,"","","",null,null,{"$f":"IF(A29=\"\",\"\",VLOOKUP(MONTH(A29),T!A$1:B$12,2,FALSE))","v":"Januar"},{"$f":"A29-A28","v":31},{"$f":"IF(D29<>\"\",D29/K20,\"\")","v":""},null,{"$f":"IF(A29=\"\",\"\",VLOOKUP(MONTH(A29),T!A$1:B$12,2,FALSE))","v":"Januar"},{"$f":"'2012'!D29","v":7},null,"Januar",{"$f":"D29","v":""},null,{"$f":"IF(R20<>\"\",R20-O20,\"\")","v":""},{"$f":"IF(T20<>\"\",T20/(O20/100),\"\")","v":""},{"$f":"IF(A29=\"\",\"\",VLOOKUP(MONTH(A29),'Beregn varme 2013'!A$2:H$13,8,FALSE))","v":8.493150684931507},{"$f":"IF(R20=\"\",\"\",O$33/100*V20)","v":""}]
["2013-11-30",null,{"$f":"IF(B21=\"\",\"\",IF(System!E$8=1,VLOOKUP(B21,Pejletabel!A$3:G$336,2,FALSE),IF(System!E$8=2,VLOOKUP(B21,Pejletabel!A$3:G$357,3,FALSE),IF(System!E$8=3,VLOOKUP(B21,Pejletabel!A$3:G$357,4,FALSE),IF(System!E$8=4,VLOOKUP(B21,Pejletabel!A$3:G$357,5,FALSE),IF(System!E$8=5,VLOOKUP(B21,Pejletabel!A$3:G$357,6,FALSE),IF(System!E27=6,VLOOKUP(B21,Pejletabel!A13:G367,7,FALSE))))))))","v":""},null,"",{"$f":"IF(E21<>\"\",1800-E21,\"\")","v":""},"",null,null,{"$f":"IF(A30=\"\",\"\",VLOOKUP(MONTH(A30),T!A$1:B$12,2,FALSE))","v":"Februar"},{"$f":"IF(A30=\"\",\"\",A30-A29)","v":28},"",null,{"$f":"IF(A30=\"\",\"\",VLOOKUP(MONTH(A30),T!A$1:B$12,2,FALSE))","v":"Februar"},{"$f":"'2012'!D30","v":7},null,"Februar","",null,{"$f":"IF(R21<>\"\",R21-O21,\"\")","v":""},{"$f":"IF(T21<>\"\",T21/(O21/100),\"\")","v":""},{"$f":"IF(A30=\"\",\"\",VLOOKUP(MONTH(A30),'Beregn varme 2013'!A$2:H$13,8,FALSE))","v":7.6712328767123283},""]
["2013-12-31",null,{"$f":"IF(B22=\"\",\"\",IF(System!E$8=1,VLOOKUP(B22,Pejletabel!A$3:G$336,2,FALSE),IF(System!E$8=2,VLOOKUP(B22,Pejletabel!A$3:G$357,3,FALSE),IF(System!E$8=3,VLOOKUP(B22,Pejletabel!A$3:G$357,4,FALSE),IF(System!E$8=4,VLOOKUP(B22,Pejletabel!A$3:G$357,5,FALSE),IF(System!E$8=5,VLOOKUP(B22,Pejletabel!A$3:G$357,6,FALSE),IF(System!E28=6,VLOOKUP(B22,Pejletabel!A14:G368,7,FALSE))))))))","v":""},null,"",{"$f":"IF(E22<>\"\",1800-E22,\"\")","v":""},"",null,null,{"$f":"IF(A31=\"\",\"\",VLOOKUP(MONTH(A31),T!A$1:B$12,2,FALSE))","v":"Marts"},{"$f":"IF(A31=\"\",\"\",A31-A30)","v":31},"",null,{"$f":"IF(A31=\"\",\"\",VLOOKUP(MONTH(A31),T!A$1:B$12,2,FALSE))","v":"Marts"},{"$f":"'2012'!D31","v":6},null,"Marts","",null,"","",{"$f":"IF(A31=\"\",\"\",VLOOKUP(MONTH(A31),'Beregn varme 2013'!A$2:H$13,8,FALSE))","v":8.493150684931507},""]
[null,null,null,null,"Års forbrug",null,{"$f":"SUM(G11:G22)","v":0},null,null,{"$f":"IF(A32=\"\",\"\",VLOOKUP(MONTH(A32),T!A$1:B$12,2,FALSE))","v":"April"},{"$f":"IF(A32=\"\",\"\",A32-A31)","v":30},"",null,{"$f":"IF(A32=\"\",\"\",VLOOKUP(MONTH(A32),T!A$1:B$12,2,FALSE))","v":"April"},{"$f":"'2012'!D32","v":8},null,"April","",null,"","",{"$f":"IF(A32=\"\",\"\",VLOOKUP(MONTH(A32),'Beregn varme 2013'!A$2:H$13,8,FALSE))","v":8.2191780821917799},""]
["MÅNEDLIG AFLÆSNING AF VANDMÅLER",null,null,null,null,null,null,null,null,{"$f":"IF(A33=\"\",\"\",VLOOKUP(MONTH(A33),T!A$1:B$12,2,FALSE))","v":"Maj"},{"$f":"IF(A33=\"\",\"\",A33-A32)","v":31},"",null,{"$f":"IF(A33=\"\",\"\",VLOOKUP(MONTH(A33),T!A$1:B$12,2,FALSE))","v":"Maj"},{"$f":"'2012'!D33","v":7},null,"Maj","",null,"","",{"$f":"IF(A33=\"\",\"\",VLOOKUP(MONTH(A33),'Beregn varme 2013'!A$2:H$13,8,FALSE))","v":8.493150684931507},""]
[null,null,null,null,null,null,null,null,null,{"$f":"IF(A34=\"\",\"\",VLOOKUP(MONTH(A34),T!A$1:B$12,2,FALSE))","v":"Juni"},{"$f":"IF(E29=\"\",\"\",A34-A33)","v":30},"",null,"Juni",{"$f":"'2012'!D34","v":7},null,"Juni","",null,"","",{"$f":"IF(A34=\"\",\"\",VLOOKUP(MONTH(A34),'Beregn varme 2013'!A$2:H$13,8,FALSE))","v":8.2191780821917799},""]
["Dato","Aflæst",null,"Forbrug","Dato","Aflæst","Forbrug","Bemærkning:",null,{"$f":"IF(E29=\"\",\"\",VLOOKUP(MONTH(E29),T!A$1:B$12,2,FALSE))","v":"Juli"},{"$f":"IF(E29=\"\",\"\",E29-A34)","v":31},{"$f":"IF(G29<>\"\",G29/K26,\"\")","v":""},null,"Juli",{"$f":"'2012'!G29","v":416},null,"Juli",{"$f":"G29","v":""},null,"","",{"$f":"IF(E29=\"\",\"\",VLOOKUP(MONTH(E29),'Beregn varme 2013'!A$2:H$13,8,FALSE))","v":8.493150684931507},""]
[null,"m³",null,"m³",null,"m³","m³",null,null,{"$f":"IF(E30=\"\",\"\",VLOOKUP(MONTH(E30),T!A$1:B$12,2,FALSE))","v":"August"},{"$f":"IF(E30=\"\",\"\",E30-E29)","v":31},"",null,"August",{"$f":"'2012'!G30","v":404},null,"August","",null,"","",{"$f":"IF(E30=\"\",\"\",VLOOKUP(MONTH(E30),'Beregn varme 2013'!A$2:H$13,8,FALSE))","v":8.493150684931507},""]
["2012-12-31",{"$f":"'2012'!F34","v":17567},null,null,null,null,null,null,null,{"$f":"IF(E31=\"\",\"\",VLOOKUP(MONTH(E31),T!A$1:B$12,2,FALSE))","v":"September"},{"$f":"IF(E31=\"\",\"\",E31-E30)","v":30},"",null,"September",{"$f":"'2012'!G31","v":403},null,"September","",null,"","",{"$f":"IF(E31=\"\",\"\",VLOOKUP(MONTH(E31),'Beregn varme 2013'!A$2:H$13,8,FALSE))","v":8.2191780821917799},""]
["2013-01-31",null,null,{"$f":"IF(B29<>\"\",B29-B28,\"\")","v":""},"2013-07-31",null,{"$f":"IF(F29<>\"\",F29-C34,\"\")","v":""},null,null,{"$f":"IF(E32=\"\",\"\",VLOOKUP(MONTH(E32),T!A$1:B$12,2,FALSE))","v":"Oktober"},{"$f":"IF(E32=\"\",\"\",E32-E31)","v":31},"",null,"Oktober",{"$f":"'2012'!G32","v":403},null,"Oktober","",null,"","",{"$f":"IF(E32=\"\",\"\",VLOOKUP(MONTH(E32),'Beregn varme 2013'!A$2:H$13,8,FALSE))","v":8.493150684931507},""]
["2013-02-28",null,null,{"$f":"IF(B30<>\"\",B30-B29,\"\")","v":""},"2013-08-31",null,{"$f":"IF(F30<>\"\",F30-F29,\"\")","v":""},null,null,{"$f":"IF(E33=\"\",\"\",VLOOKUP(MONTH(E33),T!A$1:B$12,2,FALSE))","v":"November"},{"$f":"IF(E33=\"\",\"\",E33-E32)","v":30},"",null,"November",{"$f":"'2012'!G33","v":375},null,"November","",null,"","",{"$f":"IF(E33=\"\",\"\",VLOOKUP(MONTH(E33),'Beregn varme 2013'!A$2:H$13,8,FALSE))","v":8.2191780821917799},""]
["2013-03-31",null,null,"","2013-09-30",null,{"$f":"IF(F31<>\"\",F31-F30,\"\")","v":""},null,null,{"$f":"IF(E34=\"\",\"\",VLOOKUP(MONTH(E34),T!A$1:B$12,2,FALSE))","v":"December"},{"$f":"IF(E34=\"\",\"\",E34-E33)","v":31},"",null,"December",{"$f":"'2012'!G34","v":369},null,"December","",null,"","",{"$f":"IF(E34=\"\",\"\",VLOOKUP(MONTH(E34),'Beregn varme 2013'!A$2:H$13,8,FALSE))","v":8.493150684931507},""]
["2013-04-30",null,null,"","2013-10-31",null,{"$f":"IF(F32<>\"\",F32-F31,\"\")","v":""}]
["2013-05-31",null,null,"","2013-11-30",null,{"$f":"IF(F33<>\"\",F33-F32,\"\")","v":""},null,null,"Hele året",{"$f":"SUM(K20:K31)","v":365},{"$f":"G35/K33","v":0},null,"Års Total",{"$f":"SUM(O20:O31)","v":2412},null,null,{"$f":"G35","v":0},null,{"$f":"IF(R33<>0,R33-O33,\"\")","v":""},{"$f":"IF(T33<>\"\",T33/(R33/100),\"\")","v":""},{"$f":"SUM(V20:V31)","v":99.999999999999986},{"$f":"SUM(W20:W31)","v":0}]
["2013-06-30",null,null,{"$f":"IF(C34<>\"\",C34-C33,\"\")","v":""},"2013-12-31",null,{"$f":"IF(F34<>\"\",F34-F33,\"\")","v":""}]
[null,null,null,null,"Års forbrug",null,{"$f":"SUM(D29:D34,G29:G34)","v":0},null,null,null,null,null,null,"2011/2012",null,null,"2012/2013",null,null," +/-","%","Forventet forbrug"]
["MÅNEDLIG AFLÆSNING AF ELMÅLER",null,null,null,null,null,null,null,null,"EL","Dage","KWh pr. dag",null,"EL","KWh",null,null,"KWh",null,"KWh",null,"%","KWh"]
[null,null,null,null,null,null,null,null,null,{"$f":"IF(A41=\"\",\"\",VLOOKUP(MONTH(A41),T!A$1:B$12,2,FALSE))","v":"August"},{"$f":"A41-A40","v":31},{"$f":"IF(D41<>\"\",D41/K37,\"\")","v":12.32258064516129},null,{"$f":"J37","v":"August"},{"$f":"'2012'!D63","v":335},null,{"$f":"J37","v":"August"},{"$f":"D41","v":382},null,{"$f":"IF(R37=\"\",\"\",R37-O37)","v":47},{"$f":"IF(R37<>\"\",T37/(O37/100),\"\")","v":14.029850746268655},{"$f":"IF(A41=\"\",\"\",VLOOKUP(MONTH(A41),'Beregn varme 2013'!A$2:I$13,9,FALSE))","v":7},{"$f":"IF(R37=\"\",\"\",O$50/100*V37)","v":323.96000000000004}]
["Dato","Aflæst",null,"Forbrug","Dato","Aflæst","Forbrug","Bemærkning:",null,{"$f":"IF(A42=\"\",\"\",VLOOKUP(MONTH(A42),T!A$1:B$12,2,FALSE))","v":"September"},30,14.1,null,{"$f":"J38","v":"September"},{"$f":"'2012'!D64","v":333},null,{"$f":"J38","v":"September"},{"$f":"IF(D42<>\"\",D42,\"\")","v":423},null,{"$f":"IF(R38<>\"\",R38-O38,\"\")","v":90},{"$f":"IF(R38<>\"\",T38/(O38/100),\"\")","v":27.027027027027028},{"$f":"IF(A42=\"\",\"\",VLOOKUP(MONTH(A42),'Beregn varme 2013'!A$2:I$13,9,FALSE))","v":8},370.24]
[null,"KWh",null,"KWh",null,"KWh","KWh",null,null,{"$f":"IF(A43=\"\",\"\",VLOOKUP(MONTH(A43),T!A$1:B$12,2,FALSE))","v":"Oktober"},{"$f":"IF(A43=\"\",\"\",A43-A42)","v":31},15.516129032258064,null,"Oktober",{"$f":"'2012'!D65","v":403},null,"Oktober",{"$f":"IF(D43<>\"\",D43,\"\")","v":481},null,{"$f":"IF(R39<>\"\",R39-O39,\"\")","v":78},{"$f":"IF(R39<>\"\",T39/(O39/100),\"\")","v":19.35483870967742},{"$f":"IF(A43=\"\",\"\",VLOOKUP(MONTH(A43),'Beregn varme 2013'!A$2:I$13,9,FALSE))","v":9},416.52]
["2012-07-31",{"$f":"'2012'!F66","v":17925},null,null,null,null,null,null,null,{"$f":"IF(A44=\"\",\"\",VLOOKUP(MONTH(A44),T!A$1:B$12,2,FALSE))","v":"November"},{"$f":"IF(A44=\"\",\"\",A44-A43)","v":30},14.4,null,"November",{"$f":"'2012'!D66+'2012 2'!D61","v":500},null,"November",{"$f":"IF(D44<>\"\",D44,\"\")","v":432},null,{"$f":"IF(R40<>\"\",R40-O40,\"\")","v":-68},{"$f":"IF(R40<>\"\",T40/(O40/100),\"\")","v":-13.6},{"$f":"IF(A44=\"\",\"\",VLOOKUP(MONTH(A44),'Beregn varme 2013'!A$2:I$13,9,FALSE))","v":9},416.52]
["2012-08-31",18307,null,{"$f":"IF(B41<>\"\",B41-B40,\"\")","v":382},"2013-02-28",null,null,null,null,{"$f":"IF(A45=\"\",\"\",VLOOKUP(MONTH(A45),T!A$1:B$12,2,FALSE))","v":"December"},{"$f":"IF(A45=\"\",\"\",A45-A44)","v":31},15.935483870967742,null,"December",{"$f":"'2012 2'!D62","v":329},null,"December",{"$f":"IF(D45<>\"\",D45,\"\")","v":494},null,{"$f":"IF(R41<>\"\",R41-O41,\"\")","v":165},{"$f":"IF(R41<>\"\",T41/(O41/100),\"\")","v":50.151975683890576},{"$f":"IF(A45=\"\",\"\",VLOOKUP(MONTH(A45),'Beregn varme 2013'!A$2:I$13,9,FALSE))","v":10},462.8]
["2012-09-30",18730,null,{"$f":"IF(B42<>\"\",B42-B41,\"\")","v":423},"2013-03-31",null,{"$f":"IF(F42<>\"\",F42-F41,\"\")","v":""},null,null,{"$f":"IF(A46=\"\",\"\",VLOOKUP(MONTH(A46),T!A$1:B$12,2,FALSE))","v":"Januar"},1,"",null,"Januar",{"$f":"'2012 2'!D63","v":416},null,"Januar",{"$f":"IF(D46<>\"\",D46,\"\")","v":""},null,{"$f":"IF(R42<>\"\",R42-O42,\"\")","v":""},"",{"$f":"IF(A46=\"\",\"\",VLOOKUP(MONTH(A46),'Beregn varme 2013'!A$2:I$13,9,FALSE))","v":10},""]
["2012-10-31",19211,null,{"$f":"IF(B43<>\"\",B43-B42,\"\")","v":481},"2013-04-30",null,{"$f":"IF(F43<>\"\",F43-F42,\"\")","v":""},null,null,{"$f":"IF(E41=\"\",\"\",VLOOKUP(MONTH(E41),T!A$1:B$12,2,FALSE))","v":"Februar"},{"$f":"IF(E41=\"\",\"\",E41-A46)","v":58},{"$f":"IF(G41<>\"\",G41/K43,\"\")","v":""},null,"Februar",{"$f":"'2012 2'!D64","v":404},null,"Februar",{"$f":"IF(G41<>\"\",G41,\"\")","v":""},null,"","",{"$f":"IF(E41=\"\",\"\",VLOOKUP(MONTH(E41),'Beregn varme 2013'!A$2:I$13,9,FALSE))","v":9},""]
["2012-11-30",19643,null,{"$f":"IF(B44<>\"\",B44-B43,\"\")","v":432},"2013-05-31",null,{"$f":"IF(F44<>\"\",F44-F43,\"\")","v":""},null,null,{"$f":"IF(E42=\"\",\"\",VLOOKUP(MONTH(E42),T!A$1:B$12,2,FALSE))","v":"Marts"},{"$f":"IF(E42=\"\",\"\",E42-E41)","v":31},"",null,"Marts",{"$f":"'2012 2'!D65","v":403},null,"Marts","",null,"","",{"$f":"IF(E42=\"\",\"\",VLOOKUP(MONTH(E42),'Beregn varme 2013'!A$2:I$13,9,FALSE))","v":9},""]
["2012-12-31",20137,null,494,"2013-06-30",null,{"$f":"IF(F45<>\"\",F45-F44,\"\")","v":""},null,null,{"$f":"IF(E43=\"\",\"\",VLOOKUP(MONTH(E43),T!A$1:B$12,2,FALSE))","v":"April"},{"$f":"IF(E43=\"\",\"\",E43-E42)","v":30},"",null,"April",{"$f":"'2012 2'!D66","v":403},null,"April","",null,"","",{"$f":"IF(E43=\"\",\"\",VLOOKUP(MONTH(E43),'Beregn varme 2013'!A$2:I$13,9,FALSE))","v":8},""]
["2013-01-01",null,null,"","2013-07-31",null,{"$f":"IF(F46<>\"\",F46-F45,\"\")","v":""},null,null,{"$f":"IF(E44=\"\",\"\",VLOOKUP(MONTH(E44),T!A$1:B$12,2,FALSE))","v":"Maj"},{"$f":"IF(E44=\"\",\"\",E44-E43)","v":31},"",null,"Maj",{"$f":"'2012 2'!G61","v":375},null,"Maj","",null,"","",{"$f":"IF(E44=\"\",\"\",VLOOKUP(MONTH(E44),'Beregn varme 2013'!A$2:I$13,9,FALSE))","v":7},""]
[null,null,null,null,"Års forbrug",null,{"$f":"SUM(D41:D46,G41:G46)","v":2212},null,null,{"$f":"IF(E45=\"\",\"\",VLOOKUP(MONTH(E45),T!A$1:B$12,2,FALSE))","v":"Juni"},{"$f":"IF(E45=\"\",\"\",E45-E44)","v":30},"",null,"Juni",{"$f":"'2012 2'!G62","v":369},null,"Juni","",null,"","",{"$f":"IF(E45=\"\",\"\",VLOOKUP(MONTH(E45),'Beregn varme 2013'!A$2:I$13,9,FALSE))","v":7},""]
[null,null,null,null,null,null,null,null,null,{"$f":"IF(E46=\"\",\"\",VLOOKUP(MONTH(E46),T!A$1:B$12,2,FALSE))","v":"Juli"},{"$f":"IF(E46=\"\",\"\",E46-E45)","v":31},"",null,{"$f":"J48","v":"Juli"},{"$f":"'2012 2'!G63","v":358},null,{"$f":"J48","v":"Juli"},"",null,"",{"$f":"IF(R48<>\"\",T48/(R48/100),\"\")","v":""},{"$f":"IF(E46=\"\",\"\",VLOOKUP(MONTH(E46),'Beregn varme 2013'!A$2:I$13,9,FALSE))","v":7},""]
[]
[null,null,null,null,null,null,null,null,null,"Hele året",{"$f":"SUM(K37:K48)","v":365},{"$f":"G47/K50","v":6.0602739726027401},null,"Års Total",{"$f":"SUM(O37:O48)","v":4628},null,null,{"$f":"SUM(R37:R48)","v":2212},null,{"$f":"IF(R50<>0,R50-O50,\"\")","v":-2416},{"$f":"IF(T50<>\"\",T50/(O50/100),\"\")","v":-52.20397579948142},{"$f":"SUM(V37:V48)","v":100},{"$f":"SUM(W37:W48)","v":1990.04}]

{"sheet":"2004","index":4,"n_rows":47,"n_cols":10,"rows_kept":47,"cut":false,"hidden":true,"merged":[[17,3,17,4],[18,1,18,5],[28,3,28,4],[29,1,29,5],[39,3,39,4]]}
[null,null,"MÅNEDLIG PEJLING AF OLIETANK",null,null,null,null,"Olie","Dage","Liter pr dag"]
[null,null,null,null,null,null,null,"Marts",{"$f":"A6-A5","v":37},{"$f":"F6/I2","v":4.2972972972972974}]
["Dato",null,"Fyldt på",null,"Plads til",null,null,"April",36,3.4722222222222223]
[null,"Pejling","Liter","Beholdning","Liter","Forbrugt",null,"Maj",31,2.903225806451613]
["2004-02-01",450,null,{"$f":"B5","v":450},{"$f":"IF(D5<>\"\",1200-D5,\"\")","v":750},null,null,"Juni",31,2.032258064516129]
["2004-03-09",291,769,{"$f":"IF(B6<>\"\",B6+C6,\"\")","v":1060},{"$f":"IF(D6<>\"\",1200-D6,\"\")","v":140},{"$f":"IF(B6<>\"\",D5-B6,\"\")","v":159},null,"Juli",32,2.25]
["2004-04-14",935,null,{"$f":"IF(B7<>\"\",B7+C7,\"\")","v":935},{"$f":"IF(D7<>\"\",1200-D7,\"\")","v":265},{"$f":"IF(B7<>\"\",D6-B7,\"\")","v":125},null,"August",28,1.0714285714285714]
["2004-05-15",845,null,845,355,90,null,"September",31,{"$f":"IF(F12<>\"\",F12/I8,\"\")","v":1.8387096774193548}]
["2004-06-15",782,null,782,418,63,null,"Oktober",31,{"$f":"IF(F13<>\"\",F13/I9,\"\")","v":2.5161290322580645}]
["2004-07-17",710,null,710,490,72,null,"November",30,3.5]
["2004-08-14",680,null,680,520,30,null,"December",30,6.333333333333333]
["2004-09-14",623,null,623,577,57,null,null,null,""]
["2004-10-15",545,null,545,655,78,null,null,null,""]
["2004-11-14",440,null,440,760,105]
["2004-12-14",250,802,1052,148,190,null,"Hele året",{"$f":"A15-A5","v":317},{"$f":"F18/I15","v":3.0567823343848581}]
[null,null,null,"","",""]
[null,null,null,"","","",null,"Vand","Dage","m³ pr. dag"]
[null,null,null,"Års forbrug",null,{"$f":"SUM(F6:F17)","v":969},null,"Hele året",{"$f":"A24-A23","v":319},{"$f":"C24/I18","v":0.2884012539184953}]
[null,"MÅNEDLIG AFLÆSNING AF VANDMÅLER"]
[]
["Dato",null,"forbrug","Dato",null,"forbrug"]
[null,"m³","m³",null,"m³","m³"]
["2004-01-25",385,null,null,null,{"$f":"IF(E23<>\"\",E23-B29,\"\")","v":""}]
["2004-12-09",477,{"$f":"IF(B24<>\"\",B24-B23,\"\")","v":92},null,null,{"$f":"IF(E24<>\"\",E24-E23,\"\")","v":""},null,null,null,{"$f":"IF(F23<>\"\",F23/I24,\"\")","v":""}]
[null,null,"",null,null,{"$f":"IF(E25<>\"\",E25-E24,\"\")","v":""},null,null,null,{"$f":"IF(F24<>\"\",F24/I25,\"\")","v":""}]
[null,null,"",null,null,{"$f":"IF(E26<>\"\",E26-E25,\"\")","v":""},null,null,null,""]
[null,null,"",null,null,{"$f":"IF(E27<>\"\",E27-E26,\"\")","v":""},null,null,null,""]
[null,null,"",null,null,{"$f":"IF(E28<>\"\",E28-E27,\"\")","v":""},null,null,null,""]
[null,null,"","Års forbrug",null,{"$f":"SUM(C24:C29,F23:F28)","v":92},null,null,null,""]
[null,"MÅNEDLIG AFLÆSNING AF ELMÅLER"]
[null,null,null,null,null,null,null,"hele året",{"$f":"A24-A23","v":319},{"$f":"F29/I31","v":0.2884012539184953}]
["Dato",null,"forbrug","Dato",null,"forbrug"]
[null,"Kw","Kw",null,"Kw","Kw",null,"EL","Dage","Kw pr. dag"]
["2004-01-31",22983,null,null,null,{"$f":"IF(E34<>\"\",E34-B40,\"\")","v":""},null,"Hele året",{"$f":"A35-A34","v":117},{"$f":"C35/I34","v":8.982905982905983}]
["2004-05-27",24034,{"$f":"IF(B35<>\"\",B35-B34,\"\")","v":1051},null,null,{"$f":"IF(E35<>\"\",E35-E34,\"\")","v":""}]
[]
[null,null,{"$f":"IF(B37<>\"\",B37-B35,\"\")","v":""},null,null,{"$f":"IF(E37<>\"\",E37-E35,\"\")","v":""}]
[null,null,{"$f":"IF(B38<>\"\",B38-B37,\"\")","v":""},null,null,{"$f":"IF(E38<>\"\",E38-E37,\"\")","v":""}]
[null,null,{"$f":"IF(B39<>\"\",B39-B38,\"\")","v":""},null,null,{"$f":"IF(E39<>\"\",E39-E38,\"\")","v":""}]
[null,null,{"$f":"IF(B40<>\"\",B40-B39,\"\")","v":""},"Års forbrug",null,{"$f":"SUM(C35:C40,F34:F39)","v":1051}]
[]
[]
[]
[]
[]
[]
[null,null,null,null,null,null,null,"Hele året",{"$f":"A35-A34","v":117},{"$f":"F40/I47","v":8.982905982905983}]

{"sheet":"2005","index":5,"n_rows":47,"n_cols":19,"rows_kept":47,"cut":false,"hidden":true,"merged":[[39,3,39,4],[0,1,0,5],[17,3,17,4],[18,1,18,5],[28,3,28,4],[29,1,29,5],[0,11,0,12],[0,14,0,15],[32,11,32,12],[32,14,32,15],[16,11,16,12],[16,14,16,15]]}
[null,"MÅNEDLIG PEJLING AF OLIETANK",null,null,null,null,null,"Olie","Dage","Liter pr dag",null,2004,null,null,2005,null,null," +/-","%"]
[null,null,null,null,null,null,null,"Januar",{"$f":"A6-A5","v":31},{"$f":"F6/I2","v":3.2903225806451615},null,"Olie","Liter",null,null,"Liter",null,"Liter"]
["Dato",null,"Fyldt på",null,"Plads til",null,null,"Februar",31,5.4838709677419351,null,"Januar",0,null,"Januar",{"$f":"'2005'!$F$6","v":102},null,{"$f":"P3-M3","v":102},{"$f":"IF(M3<>0,R3/(M3/100),\"\")","v":""}]
[null,"Pejling","Liter","Beholdning","Liter","Forbrugt",null,"marts",28,6.7857142857142856,null,"Februar",0,null,"Februar",{"$f":"'2005'!$F$7","v":170},null,{"$f":"P4-M4","v":170},{"$f":"IF(M4<>0,R4/(M4/100),\"\")","v":""}]
["2004-12-14",1052,null,{"$f":"B5","v":1052},{"$f":"IF(D5<>\"\",1200-D5,\"\")","v":148},null,null,"april",25,4.8,null,"Marts",{"$f":"'2004'!$F$6","v":159},null,"Marts",{"$f":"'2005'!$F$8","v":190},null,{"$f":"P5-M5","v":31},{"$f":"R5/(M5/100)","v":19.49685534591195}]
["2005-01-14",950,null,{"$f":"IF(B6<>\"\",B6+C6,\"\")","v":950},{"$f":"IF(D6<>\"\",1200-D6,\"\")","v":250},{"$f":"IF(B6<>\"\",D5-B6,\"\")","v":102},null,"maj",30,3.2333333333333334,null,"April",{"$f":"'2004'!$F$7","v":125},null,"April",{"$f":"'2005'!$F$9","v":120},null,{"$f":"P6-M6","v":-5},{"$f":"R6/(M6/100)","v":-4}]
["2005-02-14",780,null,{"$f":"IF(B7<>\"\",B7+C7,\"\")","v":780},{"$f":"IF(D7<>\"\",1200-D7,\"\")","v":420},{"$f":"IF(B7<>\"\",D6-B7,\"\")","v":170},null,"juni",31,3.064516129032258,null,"Maj",{"$f":"'2004'!$F$8","v":90},null,"Maj",{"$f":"'2005'!$F$10","v":97},null,{"$f":"P7-M7","v":7},{"$f":"R7/(M7/100)","v":7.7777777777777777}]
["2005-03-14",590,null,590,610,190,null,"juli",30,{"$f":"IF(F12<>\"\",F12/I8,\"\")","v":1.6666666666666667},null,"Juni",{"$f":"'2004'!$F$9","v":63},null,"Juni",{"$f":"'2005'!$F$11","v":95},null,{"$f":"P8-M8","v":32},{"$f":"R8/(M8/100)","v":50.793650793650791}]
["2005-04-08",470,647,1117,83,120,null,"august",32,{"$f":"IF(F13<>\"\",F13/I9,\"\")","v":1.5},null,"Juli",{"$f":"'2004'!$F$10","v":72},null,"Juli",{"$f":"'2005'!$F$12","v":50},null,-22,-30.555555555555557]
["2005-05-08",1020,null,1020,180,97,null,"september",31,1.4193548387096775,null,"August",{"$f":"'2004'!$F$11","v":30},null,"August",{"$f":"'2005'!$F$13","v":48},null,18,60]
["2005-06-08",925,null,925,275,95,null,"oktober",30,2.3666666666666667,null,"September",{"$f":"'2004'!$F$12","v":57},null,"September",{"$f":"'2005'!$F$14","v":44},null,-13,-22.807017543859651]
["2005-07-08",875,null,875,325,50,null,"november",31,3.2903225806451615,null,"Oktober",{"$f":"'2004'!$F$13","v":78},null,"Oktober",{"$f":"'2005'!$F$15","v":71},null,-7,-8.9743589743589745]
["2005-08-09",827,null,827,373,48,null,"december",31,4.580645161290323,null,"November",{"$f":"'2004'!$F$14","v":105},null,"November",{"$f":"'2005'!$F$16","v":102},null,-3,-2.8571428571428572]
["2005-09-09",783,null,783,417,44,null,null,null,null,null,"December",{"$f":"'2004'!$F$15","v":190},null,"December",{"$f":"'2005'!$F$17","v":142},null,-48,-25.263157894736842]
["2005-10-09",712,null,712,488,71,null,"Hele året",{"$f":"A17-A5","v":361},{"$f":"F18/I15","v":3.4099722991689752},null,"Års Total",{"$f":"'2004'!$F$18","v":969},null,"Års Total",{"$f":"'2005'!$F$18","v":1231},null,{"$f":"P15-M15","v":262},{"$f":"R15/(M15/100)","v":27.038183694530446}]
["2005-11-09",610,null,610,590,102]
["2005-12-10",468,null,468,732,142,null,"Vand","Dage","m³ pr. dag",null,2004,null,null,2005,null,null," +/-","%"]
[null,null,null,"Års forbrug",null,{"$f":"SUM(F6:F17)","v":1231},null,"April",{"$f":"A24-A23","v":150},{"$f":"C24/I18","v":0.32666666666666666},null,"Vand","m3",null,null,"m3",null,"m3"]
[null,"MÅNEDLIG AFLÆSNING AF VANDMÅLER",null,null,null,null,null,"maj",31,0.38709677419354838,null,"Hele året",{"$f":"'2004'!$C$24","v":92},null,"Hele året",{"$f":"'2005'!$F$29","v":129},null,{"$f":"P19-M19","v":37},{"$f":"R19/(P19/100)","v":28.682170542635657}]
[null,null,null,null,null,null,null,"Juni",30,0.43333333333333335,null,null,null,null,null,null,null,null,{"$f":"IF(R20<>0,R20/(P20/100),\"\")","v":""}]
["Dato",null,"forbrug","Dato",null,"forbrug",null,"Juli",32,0.28125,null,null,null,null,null,null,null,null,{"$f":"IF(R21<>0,R21/(P21/100),\"\")","v":""}]
[null,"m³","m³",null,"m³","m³",null,"August",31,0.41935483870967744,null,null,null,null,null,null,null,null,""]
["2004-12-09",477,null,"2005-11-09",596,{"$f":"IF(E23<>\"\",E23-B29,\"\")","v":10},null,"September",30,0.43333333333333335,null,null,null,null,null,null,null,null,""]
["2005-05-08",526,{"$f":"IF(B24<>\"\",B24-B23,\"\")","v":49},"2005-12-10",606,{"$f":"IF(E24<>\"\",E24-E23,\"\")","v":10},null,"Oktober",{"$f":"D23-A29","v":31},{"$f":"IF(F23<>\"\",F23/I24,\"\")","v":0.32258064516129031},null,null,null,null,null,null,null,null,""]
["2005-06-08",538,12,null,null,{"$f":"IF(E25<>\"\",E25-E24,\"\")","v":""},null,"November",{"$f":"D24-D23","v":31},{"$f":"IF(F24<>\"\",F24/I25,\"\")","v":0.32258064516129031},null,null,null,null,null,null,null,null,""]
["2005-07-08",551,13,null,null,{"$f":"IF(E26<>\"\",E26-E25,\"\")","v":""},null,null,null,"",null,null,null,null,null,null,null,null,""]
["2005-08-09",560,9,null,null,{"$f":"IF(E27<>\"\",E27-E26,\"\")","v":""},null,null,null,"",null,null,null,null,null,null,null,null,""]
["2005-09-09",573,13,null,null,{"$f":"IF(E28<>\"\",E28-E27,\"\")","v":""},null,null,null,"",null,null,null,null,null,null,null,null,""]
["2005-10-09",586,13,"Års forbrug",null,{"$f":"SUM(C24:C29,F23:F28)","v":129},null,null,null,"",null,null,null,null,null,null,null,null,""]
[null,"MÅNEDLIG AFLÆSNING AF ELMÅLER",null,null,null,null,null,null,null,null,null,null,null,null,null,null,null,null,""]
[null,null,null,null,null,null,null,"hele året",{"$f":"D24-A23","v":366},{"$f":"F29/I31","v":0.35245901639344263},null,"Års Total",{"$f":"'2004'!$F$29","v":92},null,"Års Total",{"$f":"'2005'!$F$29","v":129},null,{"$f":"P31-M31","v":37},{"$f":"R31/(M31/100)","v":40.217391304347821}]
["Dato",null,"forbrug","Dato",null,"forbrug"]
[null,"Kw","Kw",null,"Kw","Kw",null,"EL","Dage","Kw pr. dag",null,"2003/2004",null,null,"2004/2005",null,null," +/-","%"]
["2004-05-27",24034,null,null,null,{"$f":"IF(E34<>\"\",E34-B40,\"\")","v":""},null,"Hele året",{"$f":"A35-A34","v":346},{"$f":"C35/I34","v":12.841040462427745},null,"EL","Kw",null,null,"Kw",null,"Kw"]
["2005-05-08",28477,{"$f":"IF(B35<>\"\",B35-B34,\"\")","v":4443},null,null,{"$f":"IF(E35<>\"\",E35-E34,\"\")","v":""},null,null,null,null,null,"Hele året",{"$f":"'2004'!$F$40","v":1051},null,"Hele året",{"$f":"'2005'!$F$40","v":4443},null,{"$f":"P35-M35","v":3392},{"$f":"R35/(M35/100)","v":322.74024738344434}]
[null,null,""]
[null,null,"",null,null,{"$f":"IF(E37<>\"\",E37-E35,\"\")","v":""}]
[null,null,"",null,null,{"$f":"IF(E38<>\"\",E38-E37,\"\")","v":""}]
[null,null,"",null,null,{"$f":"IF(E39<>\"\",E39-E38,\"\")","v":""}]
[null,null,"","Års forbrug",null,{"$f":"SUM(C35:C40,F34:F39)","v":4443}]
["Bemærkning:"]
[]
[]
[]
[]
[]
[null,null,null,null,null,null,null,"Hele året",{"$f":"A35-A34","v":346},{"$f":"F40/I47","v":12.841040462427745},null,"Års Total",{"$f":"'2004'!$F$40","v":1051},null,"Års Total",{"$f":"F40","v":4443},null,{"$f":"P47-M47","v":3392},{"$f":"R47/(M47/100)","v":322.74024738344434}]

{"sheet":"2006","index":6,"n_rows":50,"n_cols":19,"rows_kept":50,"cut":false,"hidden":true,"merged":[[0,11,0,12],[0,14,0,15],[17,11,17,12],[17,14,17,15],[34,11,34,12],[34,14,34,15],[40,3,40,4],[0,1,0,5],[17,3,17,4],[18,1,18,5],[28,3,28,4],[29,1,29,5]]}
[null,"MÅNEDLIG PEJLING AF OLIETANK",null,null,null,null,null,"Olie","Dage","Liter pr dag",null,2005,null,null,2006,null,null," +/-","%"]
[null,null,null,null,null,null,null,"Januar",{"$f":"A6-A5","v":31},{"$f":"F6/I2","v":6.161290322580645},null,"Olie","Liter",null,null,"Liter",null,"Liter"]
["Dato",null,"Fyldt på",null,"Plads til",null,null,"Februar",32,6.125,null,"Januar",{"$f":"'2005'!$F$6","v":102},null,"Januar",{"$f":"'2006'!$F$6","v":191},null,{"$f":"P3-M3","v":89},{"$f":"R3/(M3/100)","v":87.254901960784309}]
[null,"Pejling","Liter","Beholdning","Liter","Forbrugt",null,"marts",30,6.4,null,"Februar",{"$f":"'2005'!$F$7","v":170},null,"Februar",{"$f":"'2006'!$F$7","v":196},null,{"$f":"P4-M4","v":26},{"$f":"R4/(M4/100)","v":15.294117647058824}]
["2005-12-10",468,null,{"$f":"B5","v":468},{"$f":"IF(D5<>\"\",1200-D5,\"\")","v":732},null,null,"april",31,5.258064516129032,null,"Marts",{"$f":"'2005'!$F$8","v":190},null,"Marts",{"$f":"'2006'!$F$8","v":192},null,{"$f":"P5-M5","v":2},{"$f":"R5/(M5/100)","v":1.0526315789473684}]
["2006-01-10",277,859,{"$f":"IF(B6<>\"\",B6+C6,\"\")","v":1136},{"$f":"IF(D6<>\"\",1200-D6,\"\")","v":64},{"$f":"IF(B6<>\"\",D5-B6,\"\")","v":191},null,"maj",31,3.774193548387097,null,"April",{"$f":"'2005'!$F$9","v":120},null,"April",{"$f":"'2006'!$F$9","v":163},null,{"$f":"P6-M6","v":43},{"$f":"R6/(M6/100)","v":35.833333333333336}]
["2006-02-11",940,null,{"$f":"IF(B7<>\"\",B7+C7,\"\")","v":940},{"$f":"IF(D7<>\"\",1200-D7,\"\")","v":260},{"$f":"IF(B7<>\"\",D6-B7,\"\")","v":196},null,"juni",34,2.8823529411764706,null,"Maj",{"$f":"'2005'!$F$10","v":97},null,"Maj",{"$f":"'2006'!$F$10","v":117},null,{"$f":"P7-M7","v":20},{"$f":"R7/(M7/100)","v":20.618556701030929}]
["2006-03-13",748,null,748,452,192,null,"juli",31,{"$f":"IF(F12<>\"\",F12/I8,\"\")","v":1.2258064516129032},null,"Juni",{"$f":"'2005'!$F$11","v":95},null,"Juni",{"$f":"'2006'!$F$11","v":98},null,{"$f":"P8-M8","v":3},{"$f":"R8/(M8/100)","v":3.1578947368421053}]
["2006-04-13",585,null,585,615,163,null,"august",31,{"$f":"IF(F13<>\"\",F13/I9,\"\")","v":1.4516129032258065},null,"Juli",{"$f":"'2005'!$F$12","v":50},null,"Juli",{"$f":"'2006'!$F$12","v":38},null,-12,-24]
["2006-05-14",468,null,468,732,117,null,"september",31,1.8387096774193548,null,"August",{"$f":"'2005'!$F$13","v":48},null,"August",{"$f":"'2006'!$F$13","v":45},null,-3,-6.25]
["2006-06-17",370,null,370,830,98,null,"oktober",35,1.5714285714285714,null,"September",{"$f":"'2005'!$F$14","v":44},null,"September",{"$f":"'2006'!$F$14","v":57},null,13,29.545454545454547]
["2006-07-18",332,null,332,868,38,null,"november",34,4.0294117647058822,null,"Oktober",{"$f":"'2005'!$F$15","v":71},null,"Oktober",{"$f":"'2006'!$F$15","v":55},null,-16,-22.535211267605636]
["2006-08-18",287,null,287,913,45,null,"december",34,4.0294117647058822,null,"November",{"$f":"'2005'!$F$16","v":102},null,"November",{"$f":"'2006'!$F$16","v":137},null,35,34.313725490196077]
["2006-09-18",230,875,1105,95,57,null,null,null,null,null,"December",{"$f":"'2005'!$F$17","v":142},null,"December",{"$f":"'2006'!$F$17","v":137},null,-5,-3.5211267605633805]
["2006-10-23",1050,null,1050,150,55,null,"Hele året",{"$f":"A17-A5","v":385},{"$f":"F18/I15","v":3.703896103896104}]
["2006-11-26",913,null,913,287,137,null,null,null,null,null,"Års Total",{"$f":"'2005'!$F$18","v":1231},null,"Års Total",{"$f":"'2006'!$F$18","v":1426},null,195,{"$f":"R16/(M16/100)","v":15.840779853777416}]
["2006-12-30",776,null,776,424,137,null,"Vand","Dage","m³ pr. dag"]
[null,null,null,"Års forbrug",null,{"$f":"SUM(F6:F17)","v":1426},null,"januar",{"$f":"A24-A23","v":31},{"$f":"C24/I18","v":0.35483870967741937},null,2005,null,null,2006,null,null," +/-","%"]
[null,"MÅNEDLIG AFLÆSNING AF VANDMÅLER",null,null,null,null,null,"februar",32,0.28125,null,"Vand","m3",null,null,"m3",null,"m3"]
[null,null,null,null,null,null,null,"marts",30,0.26666666666666666,null,"Januar",null,null,"Januar",{"$f":"'2006'!$C$24","v":11},null,{"$f":"P20-M20","v":11},{"$f":"IF(M20<>\"\",R20/(M20/100),\"\")","v":""}]
["Dato",null,"forbrug","Dato",null,"forbrug",null,"april",31,0.29032258064516131,null,"Februar",null,null,"Februar",{"$f":"'2006'!$C$25","v":9},null,9,{"$f":"IF(M21<>\"\",R21/(M21/100),\"\")","v":""}]
[null,"m³","m³",null,"m³","m³",null,"maj",31,0.32258064516129031,null,"Marts",null,null,"Marts",{"$f":"'2006'!$C$26","v":8},null,8,{"$f":"IF(M22<>\"\",R22/(M22/100),\"\")","v":""}]
["2005-12-10",606,null,"2006-07-18",673,{"$f":"IF(E23<>\"\",E23-B29,\"\")","v":9},null,"juni",34,0.3235294117647059,null,"April",{"$f":"'2005'!$C$24","v":49},null,"April",{"$f":"'2006'!$C$27","v":9},null,-40,{"$f":"IF(M23<>\"\",R23/(M23/100),\"\")","v":-81.632653061224488}]
["2006-01-10",617,{"$f":"IF(B24<>\"\",B24-B23,\"\")","v":11},"2006-08-18",682,{"$f":"IF(E24<>\"\",E24-E23,\"\")","v":9},null,"juli",{"$f":"D23-A29","v":31},{"$f":"IF(F23<>\"\",F23/I24,\"\")","v":0.29032258064516131},null,"Maj",{"$f":"'2005'!$C$25","v":12},null,"Maj",{"$f":"'2006'!$C$28","v":10},null,-2,-16.666666666666668]
["2006-02-11",626,9,"2006-09-18",693,{"$f":"IF(E25<>\"\",E25-E24,\"\")","v":11},null,"august",{"$f":"D24-D23","v":31},{"$f":"IF(F24<>\"\",F24/I25,\"\")","v":0.29032258064516131},null,"Juni",{"$f":"'2005'!$C$26","v":13},null,"Juni",{"$f":"'2006'!$C$29","v":11},null,-2,-15.384615384615383]
["2006-03-13",634,8,"2006-10-23",702,{"$f":"IF(E26<>\"\",E26-E25,\"\")","v":9},null,"september",{"$f":"D25-D24","v":31},0.35483870967741937,null,"Juli",{"$f":"'2005'!$C$27","v":9},null,"Juli",{"$f":"'2006'!$F$23","v":9},null,0,0]
["2006-04-13",643,9,"2006-11-26",713,{"$f":"IF(E27<>\"\",E27-E26,\"\")","v":11},null,"oktober",{"$f":"D26-D25","v":35},0.25714285714285712,null,"August",{"$f":"'2005'!$C$28","v":13},null,"August",{"$f":"'2006'!$F$24","v":9},null,-4,-30.769230769230766]
["2006-05-14",653,10,"2006-12-06",715,{"$f":"IF(E28<>\"\",E28-E27,\"\")","v":2},null,"november",{"$f":"D27-D26","v":34},0.3235294117647059,null,"September",{"$f":"'2005'!$C$29","v":13},null,"September",{"$f":"'2006'!$F$25","v":11},null,-2,-15.384615384615383]
["2006-06-17",664,11,"Års forbrug",null,{"$f":"SUM(C24:C29,F23:F28)","v":109},null,"december",{"$f":"D28-D27","v":10},0.2,null,"Oktober",{"$f":"'2005'!$F$23","v":10},null,"Oktober",{"$f":"'2006'!$F$26","v":9},null,-1,-10]
[null,"MÅNEDLIG AFLÆSNING AF ELMÅLER",null,null,null,null,null,null,null,null,null,"November",{"$f":"'2005'!$F$24","v":10},null,"November",{"$f":"'2006'!$F$27","v":11},null,1,10]
[null,null,null,null,null,null,null,"hele året",{"$f":"D28-A23","v":361},{"$f":"F29/I31","v":0.30193905817174516},null,"December",null,null,"December",{"$f":"'2006'!$F$28","v":2},null,2,""]
["Dato",null,"forbrug","Dato",null,"forbrug"]
[null,"Kw","Kw",null,"Kw","Kw",null,"EL","Dage","Kw pr. dag",null,"Års Total",{"$f":"SUM(M23:M30)","v":129},null,"Års Total",{"$f":"SUM(P20:P31)","v":109},null,-20,{"$f":"R33/(M33/100)","v":-15.503875968992247}]
["2005-05-08",28477,null,null,null,null,null,"Juni",{"$f":"A35-A34","v":31},{"$f":"C35/I34","v":9.0967741935483879}]
["2005-06-08",28759,{"$f":"IF(B35<>\"\",B35-B34,\"\")","v":282},"2005-12-10",30639,{"$f":"IF(E35<>\"\",E35-B40,\"\")","v":483},null,"Juli",30,9,null,"2004/2005",null,null,"2005/5006",null,null," +/-","%"]
["2005-07-08",29029,270,"2006-01-10",31185,{"$f":"IF(E36<>\"\",E36-E35,\"\")","v":546},null,"August",32,7.4375,null,"EL","Kw",null,null,"Kw",null,"Kw"]
["2005-08-09",29267,238,"2006-02-11",31899,{"$f":"IF(E37<>\"\",E37-E36,\"\")","v":714},null,"September",31,8.0967741935483879,null,null,null,null,"Juni",{"$f":"'2006'!$C$35","v":282},null,{"$f":"P37-M37","v":282},{"$f":"IF(M37<>\"\",R37/(M37/100),\"\")","v":""}]
["2005-09-09",29518,251,"2006-03-13",32569,{"$f":"IF(E38<>\"\",E38-E37,\"\")","v":670},null,"Oktober",30,9.0333333333333332,null,null,null,null,"Juli",{"$f":"'2006'!$C$36","v":270},null,270,{"$f":"IF(M38<>\"\",R38/(M38/100),\"\")","v":""}]
["2005-10-09",29789,271,"2006-04-13",33154,{"$f":"IF(E39<>\"\",E39-E38,\"\")","v":585},null,"November",31,11.838709677419354,null,null,null,null,"August",{"$f":"'2006'!$C$37","v":238},null,238,""]
["2005-11-09",30156,367,"2006-05-14",33594,{"$f":"IF(E40<>\"\",E40-E39,\"\")","v":440},null,"December",{"$f":"D35-A40","v":31},{"$f":"F35/I40","v":15.580645161290322},null,null,null,null,"September",{"$f":"'2006'!$C$38","v":251},null,251,""]
[null,null,null,"Års forbrug",null,{"$f":"SUM(C35:C40,F35:F40)","v":5117},null,"Januar",{"$f":"D36-D35","v":31},17.612903225806452,null,null,null,null,"Oktober",{"$f":"'2006'!$C$39","v":271},null,271,""]
[null,null,null,null,null,null,null,"Februar",{"$f":"D37-D36","v":32},22.3125,null,null,null,null,"November",{"$f":"'2006'!$C$40","v":367},null,367,""]
[null,null,null,null,null,null,null,"Marts",{"$f":"D38-D37","v":30},22.333333333333332,null,null,null,null,"December",{"$f":"'2006'!$F$35","v":483},null,483,""]
[null,null,null,null,null,null,null,"April",{"$f":"D39-D38","v":31},18.870967741935484,null,null,null,null,"Januar",{"$f":"'2006'!$F$36","v":546},null,546,""]
[null,null,null,null,null,null,null,"Maj",{"$f":"D40-D39","v":31},14.193548387096774,null,null,null,null,"Februar",{"$f":"'2006'!$F$37","v":714},null,714,""]
[null,null,null,null,null,null,null,null,null,null,null,null,null,null,"Marts",{"$f":"'2006'!$F$38","v":670},null,670,""]
[null,null,null,null,null,null,null,"Hele året",{"$f":"D40-A34","v":371},{"$f":"F41/I47","v":13.79245283018868},null,null,null,null,"April",{"$f":"'2006'!$F$39","v":585},null,585,""]
[null,null,null,null,null,null,null,null,null,null,null,null,null,null,"Maj",{"$f":"'2006'!$F$40","v":440},null,440,""]
[]
[null,null,null,null,null,null,null,null,null,null,null,"Års Total",{"$f":"'2005'!$F$40","v":4443},null,"Års Total",{"$f":"'2006'!$F$41","v":5117},null,674,{"$f":"R50/(M50/100)","v":15.16993022732388}]

{"sheet":"2007","index":7,"n_rows":50,"n_cols":19,"rows_kept":50,"cut":false,"hidden":true,"merged":[[0,11,0,12],[0,14,0,15],[17,11,17,12],[17,14,17,15],[34,11,34,12],[34,14,34,15],[39,3,39,4],[0,1,0,5],[17,3,17,4],[18,1,18,5],[28,3,28,4],[29,1,29,5]]}
[null,"MÅNEDLIG PEJLING AF OLIETANK",null,null,null,null,null,"Olie","Dage","Liter pr dag",null,2006,null,null,2007,null,null," +/-","%"]
[null,null,null,null,null,null,null,"Januar",{"$f":"A6-A5","v":35},{"$f":"F6/I2","v":3.6},null,"Olie","Liter",null,null,"Liter",null,"Liter"]
["Dato",null,"Fyldt på",null,"Plads til",null,null,"Februar",28,6.7857142857142856,null,"Januar",{"$f":"'2006'!$F$6","v":191},null,"Januar",{"$f":"'2007'!$F$6","v":126},null,{"$f":"P3-M3","v":-65},{"$f":"R3/(M3/100)","v":-34.031413612565444}]
[null,"Pejling","Liter","Beholdning","Liter","Forbrugt",null,"marts",31,4.5161290322580649,null,"Februar",{"$f":"'2006'!$F$7","v":196},null,"Februar",{"$f":"'2007'!$F$7","v":190},null,{"$f":"P4-M4","v":-6},{"$f":"R4/(M4/100)","v":-3.0612244897959182}]
["2006-12-30",776,null,{"$f":"B5","v":776},{"$f":"IF(D5<>\"\",1200-D5,\"\")","v":424},null,null,"april",29,3.7931034482758621,null,"Marts",{"$f":"'2006'!$F$8","v":192},null,"Marts",{"$f":"'2007'!$F$8","v":140},null,{"$f":"P5-M5","v":-52},{"$f":"R5/(M5/100)","v":-27.083333333333336}]
["2007-02-03",650,null,{"$f":"IF(B6<>\"\",B6+C6,\"\")","v":650},{"$f":"IF(D6<>\"\",1200-D6,\"\")","v":550},{"$f":"IF(B6<>\"\",D5-B6,\"\")","v":126},null,"maj",26,1.1923076923076923,null,"April",{"$f":"'2006'!$F$9","v":163},null,"April",{"$f":"'2007'!$F$9","v":110},null,{"$f":"P6-M6","v":-53},{"$f":"R6/(M6/100)","v":-32.515337423312886}]
["2007-03-03",460,null,{"$f":"IF(B7<>\"\",B7+C7,\"\")","v":460},{"$f":"IF(D7<>\"\",1200-D7,\"\")","v":740},{"$f":"IF(B7<>\"\",D6-B7,\"\")","v":190},null,"juni",31,1.2903225806451613,null,"Maj",{"$f":"'2006'!$F$10","v":117},null,"Maj",{"$f":"'2007'!$F$10","v":31},null,{"$f":"P7-M7","v":-86},{"$f":"R7/(M7/100)","v":-73.504273504273513}]
["2007-04-03",320,null,320,880,140,null,"juli",31,{"$f":"IF(F12<>\"\",F12/I8,\"\")","v":1.6774193548387097},null,"Juni",{"$f":"'2006'!$F$11","v":98},null,"Juni",{"$f":"'2007'!$F$11","v":40},null,{"$f":"P8-M8","v":-58},{"$f":"R8/(M8/100)","v":-59.183673469387756}]
["2007-05-02",210,871,1081,119,110,null,"august",32,{"$f":"IF(F13<>\"\",F13/I9,\"\")","v":1.1875},null,"Juli",{"$f":"'2006'!$F$12","v":38},null,"Juli",{"$f":"'2007'!$F$12","v":52},null,14,36.842105263157897]
["2007-05-28",1050,null,1050,150,31,null,"september",31,2.5161290322580645,null,"August",{"$f":"'2006'!$F$13","v":45},null,"August",{"$f":"'2007'!$F$13","v":38},null,-7,-15.555555555555555]
["2007-06-28",1010,null,1010,190,40,null,"oktober",32,3.59375,null,"September",{"$f":"'2006'!$F$14","v":57},null,"September",{"$f":"'2007'!$F$14","v":78},null,21,36.842105263157897]
["2007-07-29",958,null,958,242,52,null,"november",30,4.833333333333333,null,"Oktober",{"$f":"'2006'!$F$15","v":55},null,"Oktober",{"$f":"'2007'!$F$15","v":115},null,60,109.09090909090908]
["2007-08-30",920,null,920,280,38,null,"december",31,5.161290322580645,null,"November",{"$f":"'2006'!$F$16","v":137},null,"November",{"$f":"'2007'!$F$16","v":145},null,8,5.8394160583941606]
["2007-09-30",842,null,842,358,78,null,null,null,null,null,"December",{"$f":"'2006'!$F$17","v":137},null,"December",{"$f":"'2007'!$F$17","v":160},null,23,16.788321167883211]
["2007-11-01",727,null,727,473,115,null,"Hele året",{"$f":"A17-A5","v":367},{"$f":"F18/I15","v":3.3378746594005451}]
["2007-12-01",582,null,582,618,145,null,null,null,null,null,"Års Total",{"$f":"'2006'!$F$18","v":1426},null,"Års Total",{"$f":"'2007'!$F$18","v":1225},null,-201,{"$f":"R16/(M16/100)","v":-14.095371669004209}]
["2008-01-01",422,null,422,778,160,null,"Vand","Dage","m³ pr. dag"]
[null,null,null,"Års forbrug",null,{"$f":"SUM(F6:F17)","v":1225},null,"januar",{"$f":"A24-A23","v":59},{"$f":"C24/I18","v":0.33898305084745761},null,2006,null,null,2007,null,null," +/-","%"]
[null,"MÅNEDLIG AFLÆSNING AF VANDMÅLER",null,null,null,null,null,"februar",28,0.2857142857142857,null,"Vand","m3",null,null,"m3",null,"m3"]
[null,null,null,null,null,null,null,"marts",31,0.29032258064516131,null,"Januar",{"$f":"'2006'!$C$24","v":11},null,"Januar",{"$f":"'2007'!$C$24","v":20},null,{"$f":"P20-M20","v":9},{"$f":"R20/(M20/100)","v":81.818181818181813}]
["Dato",null,"forbrug","Dato",null,"forbrug",null,"april",29,0.37931034482758619,null,"Februar",{"$f":"'2006'!$C$25","v":9},null,"Februar",{"$f":"'2007'!$C$25","v":8},null,-1,{"$f":"R21/(M21/100)","v":-11.111111111111111}]
[null,"m³","m³",null,"m³","m³",null,"maj",26,0.34615384615384615,null,"Marts",{"$f":"'2006'!$C$26","v":8},null,"Marts",{"$f":"'2007'!$C$26","v":9},null,1,12.5]
["2006-12-06",715,null,"2007-07-29",790,{"$f":"IF(E23<>\"\",E23-B29,\"\")","v":8},null,"juni",31,0.32258064516129031,null,"April",{"$f":"'2006'!$C$27","v":9},null,"April",{"$f":"'2007'!$C$27","v":11},null,2,22.222222222222221]
["2007-02-03",735,{"$f":"IF(B24<>\"\",B24-B23,\"\")","v":20},"2007-08-30",799,{"$f":"IF(E24<>\"\",E24-E23,\"\")","v":9},null,"juli",{"$f":"D23-A29","v":31},{"$f":"IF(F23<>\"\",F23/I24,\"\")","v":0.25806451612903225},null,"Maj",{"$f":"'2006'!$C$28","v":10},null,"Maj",{"$f":"'2007'!$C$28","v":9},null,-1,-10]
["2007-03-03",743,8,"2007-09-30",809,{"$f":"IF(E25<>\"\",E25-E24,\"\")","v":10},null,"august",{"$f":"D24-D23","v":32},{"$f":"IF(F24<>\"\",F24/I25,\"\")","v":0.28125},null,"Juni",{"$f":"'2006'!$C$29","v":11},null,"Juni",{"$f":"'2007'!$C$29","v":10},null,-1,-9.0909090909090917]
["2007-04-03",752,9,"2007-11-01",818,{"$f":"IF(E26<>\"\",E26-E25,\"\")","v":9},null,"september",{"$f":"D25-D24","v":31},0.32258064516129031,null,"Juli",{"$f":"'2006'!$F$23","v":9},null,"Juli",{"$f":"'2007'!$F$23","v":8},null,-1,-11.111111111111111]
["2007-05-02",763,11,"2007-12-01",827,{"$f":"IF(E27<>\"\",E27-E26,\"\")","v":9},null,"oktober",{"$f":"D26-D25","v":32},0.28125,null,"August",{"$f":"'2006'!$F$24","v":9},null,"August",{"$f":"'2007'!$F$24","v":9},null,0,0]
["2007-05-28",772,9,"2008-01-01",837,{"$f":"IF(E28<>\"\",E28-E27,\"\")","v":10},null,"november",{"$f":"D27-D26","v":30},0.3,null,"September",{"$f":"'2006'!$F$25","v":11},null,"September",{"$f":"'2007'!$F$25","v":10},null,-1,-9.0909090909090917]
["2007-06-28",782,10,"Års forbrug",null,{"$f":"SUM(C24:C29,F23:F28)","v":122},null,"december",{"$f":"D28-D27","v":31},0.32258064516129031,null,"Oktober",{"$f":"'2006'!$F$26","v":9},null,"Oktober",{"$f":"'2007'!$F$26","v":9},null,0,0]
[null,"MÅNEDLIG AFLÆSNING AF ELMÅLER",null,null,null,null,null,null,null,null,null,"November",{"$f":"'2006'!$F$27","v":11},null,"November",{"$f":"'2007'!$F$27","v":9},null,-2,-18.181818181818183]
[null,null,null,null,null,null,null,"hele året",{"$f":"D28-A23","v":391},{"$f":"F29/I31","v":0.31202046035805625},null,"December",{"$f":"'2006'!$F$28","v":2},null,"December",{"$f":"'2007'!$F$28","v":10},null,8,400]
["Dato",null,"forbrug","Dato",null,"forbrug"]
[null,"Kw","Kw",null,"Kw","Kw",null,"EL","Dage","Kw pr. dag",null,"Års Total",{"$f":"SUM(M20:M31)","v":109},null,"Års Total",{"$f":"'2007'!$F$29","v":122},null,13,{"$f":"R33/(M33/100)","v":11.926605504587155}]
["2006-05-14",33594,null,"2006-12-30",36263,{"$f":"IF(E34<>\"\",E34-B40,\"\")","v":580},null,"Juni",{"$f":"A35-A34","v":34},{"$f":"C35/I34","v":10.852941176470589}]
["2006-06-17",33963,{"$f":"IF(B35<>\"\",B35-B34,\"\")","v":369},"2007-02-03",36898,{"$f":"IF(E35<>\"\",E35-E34,\"\")","v":635},null,"Juli",31,8.2258064516129039,null,"2005/2006",null,null,"2006/2007",null,null," +/-","%"]
["2006-07-18",34218,255,"2007-03-03",37419,{"$f":"IF(E36<>\"\",E36-E35,\"\")","v":521},null,"August",31,8.5483870967741939,null,"EL","Kw",null,null,"Kw",null,"Kw"]
["2006-08-18",34483,265,"2007-04-03",37905,{"$f":"IF(E37<>\"\",E37-E36,\"\")","v":486},null,"September",31,9.1612903225806459,null,"Juni",{"$f":"'2006'!$C$35","v":282},null,"Juni",{"$f":"'2007'!$C$35","v":369},null,{"$f":"P37-M37","v":87},{"$f":"R37/(M37/100)","v":30.851063829787236}]
["2006-09-18",34767,284,"2007-05-02",38296,{"$f":"IF(E38<>\"\",E38-E37,\"\")","v":391},null,"Oktober",35,11.114285714285714,null,"Juli",{"$f":"'2006'!$C$36","v":270},null,"Juli",{"$f":"'2007'!$C$36","v":255},null,-15,{"$f":"R38/(M38/100)","v":-5.5555555555555554}]
["2006-10-23",35156,389,"2007-05-28",38588,{"$f":"IF(E39<>\"\",E39-E38,\"\")","v":292},null,"November",34,15.5,null,"August",{"$f":"'2006'!$C$37","v":238},null,"August",{"$f":"'2007'!$C$37","v":265},null,27,11.344537815126051]
["2006-11-26",35683,527,"Års forbrug",null,{"$f":"SUM(C35:C40,F34:F39)","v":4994},null,"December",{"$f":"D34-A40","v":34},{"$f":"F34/I40","v":17.058823529411764},null,"September",{"$f":"'2006'!$C$38","v":251},null,"September",{"$f":"'2007'!$C$38","v":284},null,33,13.147410358565738]
["Bemærkning:",null,null,null,null,null,null,"Januar",{"$f":"D35-D34","v":35},18.142857142857142,null,"Oktober",{"$f":"'2006'!$C$39","v":271},null,"Oktober",{"$f":"'2007'!$C$39","v":389},null,118,43.542435424354245]
[null,null,null,null,null,null,null,"Februar",{"$f":"D36-D35","v":28},18.607142857142858,null,"November",{"$f":"'2006'!$C$40","v":367},null,"November",{"$f":"'2007'!$C$40","v":527},null,160,43.596730245231612]
[null,null,null,null,null,null,null,"Marts",{"$f":"D37-D36","v":31},15.67741935483871,null,"December",{"$f":"'2006'!$F$35","v":483},null,"December",{"$f":"'2007'!$F$34","v":580},null,97,20.082815734989648]
[null,null,null,null,null,null,null,"April",{"$f":"D38-D37","v":29},13.482758620689655,null,"Januar",{"$f":"'2006'!$F$36","v":546},null,"Januar",{"$f":"'2007'!$F$35","v":635},null,89,16.300366300366299]
[null,null,null,null,null,null,null,"Maj",{"$f":"D39-D38","v":26},11.23076923076923,null,"Februar",{"$f":"'2006'!$F$37","v":714},null,"Februar",{"$f":"'2007'!$F$36","v":521},null,-193,-27.030812324929972]
[null,null,null,null,null,null,null,null,null,null,null,"Marts",{"$f":"'2006'!$F$38","v":670},null,"Marts",{"$f":"'2007'!$F$37","v":486},null,-184,-27.462686567164177]
[null,null,null,null,null,null,null,"Hele året",{"$f":"D39-A34","v":379},{"$f":"F40/I47","v":13.176781002638522},null,"April",{"$f":"'2006'!$F$39","v":585},null,"April",{"$f":"'2007'!$F$38","v":391},null,-194,-33.162393162393165]
[null,null,null,null,null,null,null,null,null,null,null,"Maj",{"$f":"'2006'!$F$40","v":440},null,"Maj",{"$f":"'2007'!$F$39","v":292},null,-148,-33.636363636363633]
[]
[null,null,null,null,null,null,null,null,null,null,null,"Års Total",{"$f":"'2006'!$F$41","v":5117},null,"Års Total",{"$f":"'2007'!$F$40","v":4994},null,-123,{"$f":"R50/(M50/100)","v":-2.4037521985538399}]

{"sheet":"2008","index":8,"n_rows":50,"n_cols":19,"rows_kept":50,"cut":false,"hidden":true,"merged":[[0,11,0,12],[0,14,0,15],[17,11,17,12],[17,14,17,15],[34,11,34,12],[34,14,34,15],[39,3,39,4],[0,1,0,5],[17,3,17,4],[18,1,18,5],[28,3,28,4],[29,1,29,5]]}
[null,"MÅNEDLIG PEJLING AF OLIETANK",null,null,null,null,null,"Olie","Dage","Liter pr dag",null,2007,null,null,2008,null,null," +/-","%"]
[null,null,null,null,null,null,null,"Januar",{"$f":"A6-A5","v":32},{"$f":"F6/I2","v":5.9375},null,"Olie","Liter",null,null,"Liter",null,"Liter"]
["Dato",null,"Fyldt på",null,"Plads til",null,null,"Februar",30,4.166666666666667,null,"Januar",{"$f":"'2007'!$F$6","v":126},null,"Januar",{"$f":"'2008'!$F$6","v":190},null,{"$f":"P3-M3","v":64},{"$f":"R3/(M3/100)","v":50.793650793650791}]
[null,"Pejling","Liter","Beholdning","Liter","Forbrugt",null,"marts",32,5.40625,null,"Februar",{"$f":"'2007'!$F$7","v":190},null,"Februar",{"$f":"'2008'!$F$7","v":125},null,{"$f":"P4-M4","v":-65},{"$f":"R4/(M4/100)","v":-34.210526315789473}]
["2008-01-01",422,null,{"$f":"B5","v":422},{"$f":"IF(D5<>\"\",1200-D5,\"\")","v":778},null,null,"april",30,3.7666666666666666,null,"Marts",{"$f":"'2007'!$F$8","v":140},null,"Marts",{"$f":"'2008'!$F$8","v":173},null,{"$f":"P5-M5","v":33},{"$f":"R5/(M5/100)","v":23.571428571428573}]
["2008-02-02",232,853,{"$f":"IF(B6<>\"\",B6+C6,\"\")","v":1085},{"$f":"IF(D6<>\"\",1200-D6,\"\")","v":115},{"$f":"IF(B6<>\"\",D5-B6,\"\")","v":190},null,"maj",31,2.064516129032258,null,"April",{"$f":"'2007'!$F$9","v":110},null,"April",{"$f":"'2008'!$F$9","v":113},null,{"$f":"P6-M6","v":3},{"$f":"R6/(M6/100)","v":2.7272727272727271}]
["2008-03-03",960,null,{"$f":"IF(B7<>\"\",B7+C7,\"\")","v":960},{"$f":"IF(D7<>\"\",1200-D7,\"\")","v":240},{"$f":"IF(B7<>\"\",D6-B7,\"\")","v":125},null,"juni",30,1.1000000000000001,null,"Maj",{"$f":"'2007'!$F$10","v":31},null,"Maj",{"$f":"'2008'!$F$10","v":64},null,{"$f":"P7-M7","v":33},{"$f":"R7/(M7/100)","v":106.45161290322581}]
["2008-04-04",787,null,787,413,173,null,"juli",31,{"$f":"IF(F12<>\"\",F12/I8,\"\")","v":1.2903225806451613},null,"Juni",{"$f":"'2007'!$F$11","v":40},null,"Juni",{"$f":"'2008'!$F$11","v":33},null,{"$f":"P8-M8","v":-7},{"$f":"R8/(M8/100)","v":-17.5}]
["2008-05-04",674,null,674,526,113,null,"august",31,{"$f":"IF(F13<>\"\",F13/I9,\"\")","v":1.2903225806451613},null,"Juli",{"$f":"'2007'!$F$12","v":52},null,"Juli",{"$f":"'2008'!$F$12","v":40},null,-12,-23.076923076923077]
["2008-06-04",610,null,610,590,64,null,"september",30,2.3666666666666667,null,"August",{"$f":"'2007'!$F$13","v":38},null,"August",{"$f":"'2008'!$F$13","v":40},null,2,5.2631578947368425]
["2008-07-04",577,null,577,623,33,null,"oktober",29,2.7931034482758621,null,"September",{"$f":"'2007'!$F$14","v":78},null,"September",{"$f":"'2008'!$F$14","v":71},null,-7,-8.9743589743589745]
["2008-08-04",537,null,537,663,40,null,"november",32,4.71875,null,"Oktober",{"$f":"'2007'!$F$15","v":115},null,"Oktober",{"$f":"'2008'!$F$15","v":81},null,-34,-29.565217391304351]
["2008-09-04",497,null,497,703,40,null,"december",28,5.4285714285714288,null,"November",{"$f":"'2007'!$F$16","v":145},null,"November",{"$f":"'2008'!$F$16","v":151},null,6,4.1379310344827589]
["2008-10-04",426,null,426,774,71,null,null,null,null,null,"December",{"$f":"'2007'!$F$17","v":160},null,"December",{"$f":"'2008'!$F$17","v":152},null,-8,-5]
["2008-11-02",345,744,1089,111,81,null,"Hele året",{"$f":"A17-A5","v":366},{"$f":"F18/I15","v":3.3688524590163933}]
["2008-12-04",938,null,938,262,151,null,null,null,null,null,"Års Total",{"$f":"'2007'!$F$18","v":1225},null,"Års Total",{"$f":"'2008'!$F$18","v":1233},null,8,{"$f":"R16/(M16/100)","v":0.65306122448979587}]
["2009-01-01",786,null,786,414,152,null,"Vand","Dage","m³ pr. dag"]
[null,null,null,"Års forbrug",null,{"$f":"SUM(F6:F17)","v":1233},null,"januar",{"$f":"A24-A23","v":39480},{"$f":"C24/I18","v":2.5329280648429586E-4},null,2007,null,null,2008,null,null," +/-","%"]
[null,"MÅNEDLIG AFLÆSNING AF VANDMÅLER",null,null,null,null,null,"februar",30,0.3,null,"Vand","m3",null,null,"m3",null,"m3"]
[null,null,null,null,null,null,null,"marts",32,0.3125,null,"Januar",{"$f":"'2007'!$C$24","v":20},null,"Januar",{"$f":"'2008'!$C$24","v":10},null,{"$f":"P20-M20","v":-10},{"$f":"R20/(M20/100)","v":-50}]
["Dato",null,"forbrug","Dato",null,"forbrug",null,"april",30,0.3,null,"Februar",{"$f":"'2007'!$C$25","v":8},null,"Februar",{"$f":"'2008'!$C$25","v":9},null,1,{"$f":"R21/(M21/100)","v":12.5}]
[null,"m³","m³",null,"m³","m³",null,"maj",31,0.32258064516129031,null,"Marts",{"$f":"'2007'!$C$26","v":9},null,"Marts",{"$f":"'2008'!$C$26","v":10},null,1,{"$f":"R22/(M22/100)","v":11.111111111111111}]
[null,837,null,"2008-08-04",904,{"$f":"IF(E23<>\"\",E23-B29,\"\")","v":10},null,"juni",30,0.3,null,"April",{"$f":"'2007'!$C$27","v":11},null,"April",{"$f":"'2008'!$C$27","v":9},null,-2,{"$f":"R23/(M23/100)","v":-18.181818181818183}]
["2008-02-02",847,{"$f":"IF(B24<>\"\",B24-B23,\"\")","v":10},"2008-09-04",912,{"$f":"IF(E24<>\"\",E24-E23,\"\")","v":8},null,"juli",{"$f":"D23-A29","v":31},{"$f":"IF(F23<>\"\",F23/I24,\"\")","v":0.32258064516129031},null,"Maj",{"$f":"'2007'!$C$28","v":9},null,"Maj",{"$f":"'2008'!$C$28","v":10},null,1,11.111111111111111]
["2008-03-03",856,9,"2008-10-04",921,{"$f":"IF(E25<>\"\",E25-E24,\"\")","v":9},null,"august",{"$f":"D24-D23","v":31},{"$f":"IF(F24<>\"\",F24/I25,\"\")","v":0.25806451612903225},null,"Juni",{"$f":"'2007'!$C$29","v":10},null,"Juni",{"$f":"'2008'!$C$29","v":9},null,-1,-10]
["2008-04-04",866,10,"2008-11-02",931,{"$f":"IF(E26<>\"\",E26-E25,\"\")","v":10},null,"september",{"$f":"D25-D24","v":30},0.3,null,"Juli",{"$f":"'2007'!$F$23","v":8},null,"Juli",{"$f":"'2008'!$F$23","v":10},null,2,25]
["2008-05-04",875,9,"2008-12-04",936,{"$f":"IF(E27<>\"\",E27-E26,\"\")","v":5},null,"oktober",{"$f":"D26-D25","v":29},0.34482758620689657,null,"August",{"$f":"'2007'!$F$24","v":9},null,"August",{"$f":"'2008'!$F$24","v":8},null,-1,-11.111111111111111]
["2008-06-04",885,10,"2008-12-27",941,{"$f":"IF(E28<>\"\",E28-E27,\"\")","v":5},null,"november",{"$f":"D27-D26","v":32},0.15625,null,"September",{"$f":"'2007'!$F$25","v":10},null,"September",{"$f":"'2008'!$F$25","v":9},null,-1,-10]
["2008-07-04",894,9,"Års forbrug",null,{"$f":"SUM(C24:C29,F23:F28)","v":104},null,"december",{"$f":"D28-D27","v":23},0.21739130434782608,null,"Oktober",{"$f":"'2007'!$F$26","v":9},null,"Oktober",{"$f":"'2008'!$F$26","v":10},null,1,11.111111111111111]
[null,"MÅNEDLIG AFLÆSNING AF ELMÅLER",null,null,null,null,null,null,null,null,null,"November",{"$f":"'2007'!$F$27","v":9},null,"November",{"$f":"'2008'!$F$27","v":5},null,-4,-44.444444444444443]
[null,null,null,null,null,null,null,"hele året",{"$f":"D28-A23","v":39809},{"$f":"F29/I31","v":2.6124745660529025E-3},null,"December",{"$f":"'2007'!$F$28","v":10},null,"December",{"$f":"'2008'!$F$28","v":5},null,-5,-50]
["Dato",null,"forbrug","Dato",null,"forbrug"]
[null,"Kw","Kw",null,"Kw","Kw",null,"EL","Dage","Kw pr. dag",null,"Års Total",{"$f":"'2007'!$F$29","v":122},null,"Års Total",{"$f":"'2008'!$F$29","v":104},null,-18,{"$f":"R33/(M33/100)","v":-14.754098360655737}]
["2007-05-28",38588,null,"2008-01-01",41511,{"$f":"IF(E34<>\"\",E34-B40,\"\")","v":628},null,"Juni",{"$f":"A35-A34","v":31},{"$f":"C35/I34","v":10.03225806451613}]
["2007-06-28",38899,{"$f":"IF(B35<>\"\",B35-B34,\"\")","v":311},"2008-02-02",42145,{"$f":"IF(E35<>\"\",E35-E34,\"\")","v":634},null,"Juli",31,9.806451612903226,null,"2006/2007",null,null,"2007/2008",null,null," +/-","%"]
["2007-07-29",39203,304,"2008-03-03",42699,{"$f":"IF(E36<>\"\",E36-E35,\"\")","v":554},null,"August",32,9.3125,null,"EL","Kw",null,null,"Kw",null,"Kw"]
["2007-08-30",39501,298,"2008-04-04",43228,{"$f":"IF(E37<>\"\",E37-E36,\"\")","v":529},null,"September",31,12.870967741935484,null,"Juni",{"$f":"'2007'!$C$35","v":369},null,"Juni",{"$f":"'2008'!$C$35","v":311},null,{"$f":"P37-M37","v":-58},{"$f":"R37/(P37/100)","v":-18.64951768488746}]
["2007-09-30",39900,399,"2008-05-04",43645,{"$f":"IF(E38<>\"\",E38-E37,\"\")","v":417},null,"Oktober",32,14.375,null,"Juli",{"$f":"'2007'!$C$36","v":255},null,"Juli",{"$f":"'2008'!$C$36","v":304},null,49,{"$f":"R38/(P38/100)","v":16.118421052631579}]
["2007-11-01",40360,460,"2008-06-04",43960,{"$f":"IF(E39<>\"\",E39-E38,\"\")","v":315},null,"November",30,17.433333333333334,null,"August",{"$f":"'2007'!$C$37","v":265},null,"August",{"$f":"'2008'!$C$37","v":298},null,33,11.073825503355705]
["2007-12-01",40883,523,"Års forbrug",null,{"$f":"SUM(C35:C40,F34:F39)","v":5372},null,"December",{"$f":"D34-A40","v":31},{"$f":"F34/I40","v":20.258064516129032},null,"September",{"$f":"'2007'!$C$38","v":284},null,"September",{"$f":"'2008'!$C$38","v":399},null,115,28.822055137844611]
["Bemærkning:",null,null,null,null,null,null,"Januar",{"$f":"D35-D34","v":32},19.8125,null,"Oktober",{"$f":"'2007'!$C$39","v":389},null,"Oktober",{"$f":"'2008'!$C$39","v":460},null,71,15.434782608695654]
[null,null,null,null,null,null,null,"Februar",{"$f":"D36-D35","v":30},18.466666666666665,null,"November",{"$f":"'2007'!$C$40","v":527},null,"November",{"$f":"'2008'!$C$40","v":523},null,-4,-0.76481835564053535]
[null,null,null,null,null,null,null,"Marts",{"$f":"D37-D36","v":32},16.53125,null,"December",{"$f":"'2007'!$F$34","v":580},null,"December",{"$f":"'2008'!$F$34","v":628},null,48,7.6433121019108281]
[null,null,null,null,null,null,null,"April",{"$f":"D38-D37","v":30},13.9,null,"Januar",{"$f":"'2007'!$F$35","v":635},null,"Januar",{"$f":"'2008'!$F$35","v":634},null,-1,-0.15772870662460567]
[null,null,null,null,null,null,null,"Maj",{"$f":"D39-D38","v":31},10.161290322580646,null,"Februar",{"$f":"'2007'!$F$36","v":521},null,"Februar",{"$f":"'2008'!$F$36","v":554},null,33,5.9566787003610111]
[null,null,null,null,null,null,null,null,null,null,null,"Marts",{"$f":"'2007'!$F$37","v":486},null,"Marts",{"$f":"'2008'!$F$37","v":529},null,43,8.128544423440454]
[null,null,null,null,null,null,null,"Hele året",{"$f":"D39-A34","v":373},{"$f":"F40/I47","v":14.402144772117962},null,"April",{"$f":"'2007'!$F$38","v":391},null,"April",{"$f":"'2008'!$F$38","v":417},null,26,6.2350119904076742]
[null,null,null,null,null,null,null,null,null,null,null,"Maj",{"$f":"'2007'!$F$39","v":292},null,"Maj",{"$f":"'2008'!$F$39","v":315},null,23,7.3015873015873014]
[]
[null,null,null,null,null,null,null,null,null,null,null,"Års Total",{"$f":"'2007'!$F$40","v":4994},null,"Års Total",{"$f":"'2008'!$F$40","v":5372},null,378,{"$f":"R50/(M50/100)","v":7.5690828994793753}]

{"sheet":"2009","index":9,"n_rows":50,"n_cols":19,"rows_kept":50,"cut":false,"hidden":true,"merged":[[0,11,0,12],[0,14,0,15],[17,11,17,12],[17,14,17,15],[34,11,34,12],[34,14,34,15],[39,3,39,4],[0,1,0,5],[17,3,17,4],[18,1,18,5],[28,3,28,4],[29,1,29,5]]}
[null,"MÅNEDLIG PEJLING AF OLIETANK",null,null,null,null,null,"Olie","Dage","Liter pr dag",null,2008,null,null,2009,null,null," +/-","%"]
[null,null,null,null,null,null,null,"Januar",{"$f":"A6-A5","v":34},{"$f":"F6/I2","v":5.5},null,"Olie","Liter",null,null,"Liter",null,"Liter"]
["Dato",null,"Fyldt på",null,"Plads til",null,null,"Februar",28,6.3928571428571432,null,"Januar",{"$f":"'2008'!$F$6","v":190},null,"Januar",{"$f":"F6","v":187},null,{"$f":"P3-M3","v":-3},{"$f":"R3/(M3/100)","v":-1.5789473684210527}]
[null,"Pejling","Liter","Beholdning","Liter","Forbrugt",null,"marts",31,5.645161290322581,null,"Februar",{"$f":"'2008'!$F$7","v":125},null,"Februar",179,null,{"$f":"P4-M4","v":54},{"$f":"R4/(M4/100)","v":43.2}]
["2009-01-01",786,null,{"$f":"B5","v":786},{"$f":"IF(D5<>\"\",1200-D5,\"\")","v":414},null,null,"april",30,2.4,null,"Marts",{"$f":"'2008'!$F$8","v":173},null,"Marts",175,null,{"$f":"P5-M5","v":2},{"$f":"R5/(M5/100)","v":1.1560693641618498}]
["2009-02-04",599,null,{"$f":"IF(B6<>\"\",B6+C6,\"\")","v":599},{"$f":"IF(D6<>\"\",1200-D6,\"\")","v":601},{"$f":"IF(B6<>\"\",D5-B6,\"\")","v":187},null,"maj",31,2.2580645161290325,null,"April",{"$f":"'2008'!$F$9","v":113},null,"April",72,null,{"$f":"P6-M6","v":-41},{"$f":"R6/(M6/100)","v":-36.283185840707965}]
["2009-03-04",420,null,{"$f":"IF(B7<>\"\",B7+C7,\"\")","v":420},{"$f":"IF(D7<>\"\",1200-D7,\"\")","v":780},{"$f":"IF(B7<>\"\",D6-B7,\"\")","v":179},null,"juni",30,1.5333333333333334,null,"Maj",{"$f":"'2008'!$F$10","v":64},null,"Maj",70,null,{"$f":"P7-M7","v":6},{"$f":"R7/(M7/100)","v":9.375}]
["2009-04-04",245,null,245,955,175,null,"juli",31,{"$f":"IF(F12<>\"\",F12/I8,\"\")","v":1.5806451612903225},null,"Juni",{"$f":"'2008'!$F$11","v":33},null,"Juni",46,null,{"$f":"P8-M8","v":13},{"$f":"R8/(M8/100)","v":39.393939393939391}]
["2009-05-04",173,927,1100,100,72,null,"august",31,{"$f":"IF(F13<>\"\",F13/I9,\"\")","v":1.1290322580645162},null,"Juli",{"$f":"'2008'!$F$12","v":40},null,"Juli",49,null,9,22.5]
["2009-06-04",1030,null,1030,170,70,null,"september",30,1.5,null,"August",{"$f":"'2008'!$F$13","v":40},null,"August",35,null,-5,-12.5]
["2009-07-04",984,null,984,216,46,null,"oktober",31,4.354838709677419,null,"September",{"$f":"'2008'!$F$14","v":71},null,"September",45,null,-26,-36.619718309859159]
["2009-08-04",935,null,935,265,49,null,"november",30,4.5999999999999996,null,"Oktober",{"$f":"'2008'!$F$15","v":81},null,"Oktober",135,null,54,66.666666666666657]
["2009-09-04",900,null,900,300,35,null,"december",31,6.354838709677419,null,"November",{"$f":"'2008'!$F$16","v":151},null,"November",138,null,-13,-8.6092715231788084]
["2009-10-04",855,null,855,345,45,null,null,null,null,null,"December",{"$f":"'2008'!$F$17","v":152},null,"December",197,null,45,29.605263157894736]
["2009-11-04",720,null,720,480,135,null,"Hele året",{"$f":"A17-A5","v":368},{"$f":"F18/I15","v":3.6086956521739131}]
["2009-12-04",582,null,582,618,138,null,null,null,null,null,"Års Total",{"$f":"'2008'!$F$18","v":1233},null,"Års Total",{"$f":"F18","v":1328},null,95,{"$f":"R16/(M16/100)","v":7.704785077047851}]
["2010-01-04",385,null,385,815,197,null,"Vand","Dage","m³ pr. dag"]
[null,null,null,"Års forbrug",null,{"$f":"SUM(F6:F17)","v":1328},null,"januar",{"$f":"A24-A23","v":39},{"$f":"C24/I18","v":0.28205128205128205},null,2008,null,null,2009,null,null," +/-","%"]
[null,"MÅNEDLIG AFLÆSNING AF VANDMÅLER",null,null,null,null,null,"februar",28,0.25,null,"Vand","m3",null,null,"m3",null,"m3"]
[null,null,null,null,null,null,null,"marts",31,0.25806451612903225,null,"Januar",{"$f":"'2008'!$C$24","v":10},null,"Januar",11,null,{"$f":"P20-M20","v":1},{"$f":"R20/(M20/100)","v":10}]
["Dato",null,"forbrug","Dato",null,"forbrug",null,"april",30,0.26666666666666666,null,"Februar",{"$f":"'2008'!$C$25","v":9},null,"Februar",7,null,-2,{"$f":"R21/(M21/100)","v":-22.222222222222221}]
[null,"m³","m³",null,"m³","m³",null,"maj",31,0.29032258064516131,null,"Marts",{"$f":"'2008'!$C$26","v":10},null,"Marts",8,null,-2,{"$f":"R22/(M22/100)","v":-20}]
["2008-12-27",941,null,"2009-08-04",1002,{"$f":"IF(E23<>\"\",E23-B29,\"\")","v":9},null,"juni",30,0.3,null,"April",{"$f":"'2008'!$C$27","v":9},null,"April",8,null,-1,-11.111111111111111]
["2009-02-04",952,{"$f":"IF(B24<>\"\",B24-B23,\"\")","v":11},"2009-09-04",1009,{"$f":"IF(E24<>\"\",E24-E23,\"\")","v":7},null,"juli",{"$f":"D23-A29","v":31},{"$f":"IF(F23<>\"\",F23/I24,\"\")","v":0.29032258064516131},null,"Maj",{"$f":"'2008'!$C$28","v":10},null,"Maj",9,null,-1,-10]
["2009-03-04",959,7,"2009-10-04",1017,{"$f":"IF(E25<>\"\",E25-E24,\"\")","v":8},null,"august",{"$f":"D24-D23","v":31},{"$f":"IF(F24<>\"\",F24/I25,\"\")","v":0.22580645161290322},null,"Juni",{"$f":"'2008'!$C$29","v":9},null,"Juni",9,null,0,0]
["2009-04-04",967,8,"2009-11-04",1026,{"$f":"IF(E26<>\"\",E26-E25,\"\")","v":9},null,"september",{"$f":"D25-D24","v":30},0.26666666666666666,null,"Juli",{"$f":"'2008'!$F$23","v":10},null,"Juli",9,null,-1,-10]
["2009-05-04",975,8,"2009-12-04",1034,{"$f":"IF(E27<>\"\",E27-E26,\"\")","v":8},null,"oktober",{"$f":"D26-D25","v":31},0.29032258064516131,null,"August",{"$f":"'2008'!$F$24","v":8},null,"August",7,null,-1,-12.5]
["2009-06-04",984,9,"2009-12-29",1040,{"$f":"IF(E28<>\"\",E28-E27,\"\")","v":6},null,"november",{"$f":"D27-D26","v":30},0.26666666666666666,null,"September",{"$f":"'2008'!$F$25","v":9},null,"September",8,null,-1,-11.111111111111111]
["2009-07-04",993,9,"Års forbrug",null,{"$f":"SUM(C24:C29,F23:F28)","v":99},null,"december",{"$f":"D28-D27","v":25},0.24,null,"Oktober",{"$f":"'2008'!$F$26","v":10},null,"Oktober",9,null,-1,-10]
[null,"MÅNEDLIG AFLÆSNING AF ELMÅLER",null,null,null,null,null,null,null,null,null,"November",{"$f":"'2008'!$F$27","v":5},null,"November",8,null,3,60]
[null,null,null,null,null,null,null,"hele året",{"$f":"D28-A23","v":367},{"$f":"F29/I31","v":0.26975476839237056},null,"December",{"$f":"'2008'!$F$28","v":5},null,"December",6,null,1,20]
["Dato",null,"forbrug","Dato",null,"forbrug"]
[null,"Kw","Kw",null,"Kw","Kw",null,"EL","Dage","Kw pr. dag",null,"Års Total",{"$f":"'2008'!$F$29","v":104},null,"Års Total",99,null,-5,{"$f":"R33/(M33/100)","v":-4.8076923076923075}]
["2008-06-04",43960,null,"2009-01-04",46597,{"$f":"IF(E34<>\"\",E34-B40,\"\")","v":506},null,"Juni",{"$f":"A35-A34","v":30},{"$f":"C35/I34","v":8.7333333333333325}]
["2008-07-04",44222,{"$f":"IF(B35<>\"\",B35-B34,\"\")","v":262},"2009-02-04",47268,{"$f":"IF(E35<>\"\",E35-E34,\"\")","v":671},null,"Juli",31,8.4516129032258061,null,"2008/2009",null,null,"2008/2009",null,null," +/-","%"]
["2008-08-04",44484,262,"2009-03-04",47833,{"$f":"IF(E36<>\"\",E36-E35,\"\")","v":565},null,"August",31,8.9677419354838701,null,"EL","Kw",null,null,"Kw",null,"Kw"]
["2008-09-04",44762,278,"2009-04-04",48401,{"$f":"IF(E37<>\"\",E37-E36,\"\")","v":568},null,"September",30,12.8,null,"Juni",{"$f":"'2008'!$C$35","v":311},null,"Juni",262,null,{"$f":"P37-M37","v":-49},{"$f":"R37/(M37/100)","v":-15.755627009646302}]
["2008-10-04",45146,384,"2009-05-04",48813,{"$f":"IF(E38<>\"\",E38-E37,\"\")","v":412},null,"Oktober",29,15.103448275862069,null,"Juli",{"$f":"'2008'!$C$36","v":304},null,"Juli",262,null,-42,{"$f":"R38/(M38/100)","v":-13.815789473684211}]
["2008-11-02",45584,438,"2009-06-04",49173,{"$f":"IF(E39<>\"\",E39-E38,\"\")","v":360},null,"November",32,15.84375,null,"August",{"$f":"'2008'!$C$37","v":298},null,"August",278,null,-20,-6.7114093959731544]
["2008-12-04",46091,507,"Års forbrug",null,{"$f":"SUM(C35:C40,F34:F39)","v":5213},null,"December",{"$f":"D34-A40","v":31},{"$f":"F34/I40","v":16.322580645161292},null,"September",{"$f":"'2008'!$C$38","v":399},null,"September",384,null,-15,-3.7593984962406015]
["Bemærkning:",null,null,null,null,null,null,"Januar",{"$f":"D35-D34","v":31},21.64516129032258,null,"Oktober",{"$f":"'2008'!$C$39","v":460},null,"Oktober",438,null,-22,-4.7826086956521747]
[null,null,null,null,null,null,null,"Februar",{"$f":"D36-D35","v":28},20.178571428571427,null,"November",{"$f":"'2008'!$C$40","v":523},null,"November",507,null,-16,-3.0592734225621414]
[null,null,null,null,null,null,null,"Marts",{"$f":"D37-D36","v":31},18.322580645161292,null,"December",{"$f":"'2008'!$F$34","v":628},null,"December",506,null,-122,-19.426751592356688]
[null,null,null,null,null,null,null,"April",{"$f":"D38-D37","v":30},13.733333333333333,null,"Januar",{"$f":"'2008'!$F$35","v":634},null,"Januar",671,null,37,5.8359621451104102]
[null,null,null,null,null,null,null,"Maj",{"$f":"D39-D38","v":31},11.612903225806452,null,"Februar",{"$f":"'2008'!$F$36","v":554},null,"Februar",565,null,11,1.9855595667870036]
[null,null,null,null,null,null,null,null,null,null,null,"Marts",{"$f":"'2008'!$F$37","v":529},null,"Marts",568,null,39,7.3724007561436675]
[null,null,null,null,null,null,null,"Hele året",{"$f":"D39-A34","v":365},{"$f":"F40/I47","v":14.282191780821918},null,"April",{"$f":"'2008'!$F$38","v":417},null,"April",412,null,-5,-1.1990407673860912]
[null,null,null,null,null,null,null,null,null,null,null,"Maj",{"$f":"'2008'!$F$39","v":315},null,"Maj",360,null,45,14.285714285714286]
[]
[null,null,null,null,null,null,null,null,null,null,null,"Års Total",{"$f":"'2008'!$F$40","v":5372},null,"Års Total",5213,null,-159,{"$f":"R50/(M50/100)","v":-2.9597915115413254}]

{"sheet":"2010","index":10,"n_rows":50,"n_cols":21,"rows_kept":50,"cut":false,"hidden":true,"merged":[[0,19,0,20],[41,3,41,4],[29,3,29,4],[0,11,0,12],[0,14,0,15],[17,11,17,12],[17,14,17,15],[34,11,34,12],[34,14,34,15],[17,3,17,4],[18,1,18,5],[30,1,30,5],[17,19,17,20],[34,19,34,20]]}
[null,null,"MÅNEDLIG PEJLING AF OLIETANK",null,null,null,null,null,null,null,null,2009,null,null,2010,null,null," +/-","%","Forventet forbrug"]
[null,null,null,null,null,null,null,"Olie","Dage","Liter pr dag",null,"Olie","Liter","%",null,"Liter","%","Liter",null,"%","Liter"]
["Dato",null,"Fyldt på",null,"Plads til",null,null,"Januar",{"$f":"A6-A5","v":31},{"$f":"F6/I3","v":6.774193548387097},null,"Januar",187,{"$f":"IF(M3=\"\",\"\",M3/(M$16/100))","v":14.081325301204821},"Januar",210,{"$f":"IF(P3=\"\",\"\",P3/(P$16/100))","v":13.962765957446809},{"$f":"P3-M3","v":23},{"$f":"R3/(M3/100)","v":12.299465240641711},{"$f":"IF(A6=\"\",\"\",VLOOKUP(MONTH(A6),'Beregn varme 2010'!A$2:G$13,7,FALSE))","v":15.046193643754616},{"$f":"IF(P3=\"\",\"\",VLOOKUP(MONTH(A6),'Beregn varme 2010'!A$2:F$13,6,FALSE))","v":199.81345158906134}]
[null,"Pejling","Liter","Beholdning","Liter","Forbrug",null,"Februar",28,6.1428571428571432,null,"Februar",179,{"$f":"IF(M4=\"\",\"\",M4/(M$16/100))","v":13.478915662650603},"Februar",172,{"$f":"IF(P4=\"\",\"\",P4/(P$16/100))","v":11.436170212765958},{"$f":"P4-M4","v":-7},{"$f":"R4/(M4/100)","v":-3.9106145251396649},{"$f":"IF(A7=\"\",\"\",VLOOKUP(MONTH(A7),'Beregn varme 2010'!A$2:G$13,7,FALSE))","v":13.726903178122686},{"$f":"IF(P4=\"\",\"\",VLOOKUP(MONTH(A7),'Beregn varme 2010'!A$2:F$13,6,FALSE))","v":182.29327420546932}]
["2009-12-31",385,null,{"$f":"B5","v":385},{"$f":"IF(D5<>\"\",1200-D5,\"\")","v":815},null,null,"marts",31,5.4516129032258061,null,"Marts",175,13.177710843373495,"Marts",169,11.236702127659575,{"$f":"P5-M5","v":-6},{"$f":"R5/(M5/100)","v":-3.4285714285714284},{"$f":"IF(A8=\"\",\"\",VLOOKUP(MONTH(A8),'Beregn varme 2010'!A$2:G$13,7,FALSE))","v":13.597560975609753},{"$f":"IF(P5=\"\",\"\",VLOOKUP(MONTH(A8),'Beregn varme 2010'!A$2:F$13,6,FALSE))","v":180.57560975609755}]
["2010-01-31",175,895,{"$f":"IF(B6<>\"\",B6+C6,\"\")","v":1070},{"$f":"IF(D6<>\"\",1200-D6,\"\")","v":130},{"$f":"IF(B6<>\"\",D5-B6,\"\")","v":210},null,"april",30,5.0333333333333332,null,"April",72,5.4216867469879517,"April",151,10.039893617021278,{"$f":"P6-M6","v":79},{"$f":"R6/(M6/100)","v":109.72222222222223},{"$f":"IF(A9=\"\",\"\",VLOOKUP(MONTH(A9),'Beregn varme 2010'!A$2:G$13,7,FALSE))","v":8.9412416851441225},{"$f":"IF(P6=\"\",\"\",VLOOKUP(MONTH(A9),'Beregn varme 2010'!A$2:F$13,6,FALSE))","v":118.73968957871398}]
["2010-02-28",898,null,{"$f":"IF(B7<>\"\",B7+C7,\"\")","v":898},{"$f":"IF(D7<>\"\",1200-D7,\"\")","v":302},{"$f":"IF(B7<>\"\",D6-B7,\"\")","v":172},null,"maj",31,3.096774193548387,null,"Maj",70,5.2710843373493974,"Maj",96,6.3829787234042561,{"$f":"P7-M7","v":26},{"$f":"R7/(M7/100)","v":37.142857142857146},{"$f":"IF(A10=\"\",\"\",VLOOKUP(MONTH(A10),'Beregn varme 2010'!A$2:G$13,7,FALSE))","v":4.0003695491500357},{"$f":"IF(P7=\"\",\"\",VLOOKUP(MONTH(A10),'Beregn varme 2010'!A$2:F$13,6,FALSE))","v":53.124907612712491}]
["2010-03-31",729,null,729,471,169,null,"juni",30,2.0666666666666669,null,"Juni",46,3.463855421686747,"Juni",62,4.1223404255319149,{"$f":"IF(P8<>0,P8-M8,\"\")","v":16},{"$f":"IF(P8<>0,R8/(M8/100),\"\")","v":34.782608695652172},{"$f":"IF(A11=\"\",\"\",VLOOKUP(MONTH(A11),'Beregn varme 2010'!A$2:G$13,7,FALSE))","v":2.4999999999999991},{"$f":"IF(P8=\"\",\"\",VLOOKUP(MONTH(A11),'Beregn varme 2010'!A$2:F$13,6,FALSE))","v":33.199999999999996}]
["2010-04-30",578,null,578,622,151,null,"juli",31,{"$f":"IF(F12<>\"\",F12/I9,\"\")","v":1.2903225806451613},null,"Juli",49,3.6897590361445785,"Juli",{"$f":"F12","v":40},2.6595744680851063,{"$f":"IF(P9<>\"\",P9-M9,\"\")","v":-9},{"$f":"IF(P9<>\"\",R9/(M9/100),\"\")","v":-18.367346938775512},{"$f":"IF(A12=\"\",\"\",VLOOKUP(MONTH(A12),'Beregn varme 2010'!A$2:G$13,7,FALSE))","v":2.4999999999999991},{"$f":"IF(P9=\"\",\"\",VLOOKUP(MONTH(A12),'Beregn varme 2010'!A$2:F$13,6,FALSE))","v":33.199999999999996}]
["2010-05-31",482,null,482,718,96,null,"august",31,1.3548387096774193,null,"August",35,2.6355421686746987,"August",42,2.792553191489362,{"$f":"IF(P10<>\"\",P10-M10,\"\")","v":7},{"$f":"IF(P10<>\"\",R10/(M10/100),\"\")","v":20},{"$f":"IF(A13=\"\",\"\",VLOOKUP(MONTH(A13),'Beregn varme 2010'!A$2:G$13,7,FALSE))","v":2.4999999999999991},{"$f":"IF(P10=\"\",\"\",VLOOKUP(MONTH(A13),'Beregn varme 2010'!A$2:F$13,6,FALSE))","v":33.199999999999996}]
["2010-06-30",420,null,420,780,62,null,"september",30,2.8333333333333335,null,"September",45,3.3885542168674698,"September",85,5.6515957446808516,40,88.888888888888886,{"$f":"IF(A14=\"\",\"\",VLOOKUP(MONTH(A14),'Beregn varme 2010'!A$2:G$13,7,FALSE))","v":3.1725794530672569},{"$f":"IF(P11=\"\",\"\",VLOOKUP(MONTH(A14),'Beregn varme 2010'!A$2:F$13,6,FALSE))","v":42.131855136733179}]
["2010-07-31",380,null,380,820,{"$f":"IF(B12=\"\",\"\",D11-B12)","v":40},null,"oktober",31,3.2903225806451615,null,"Oktober",135,10.16566265060241,"Oktober",102,6.7819148936170217,-33,-24.444444444444443,{"$f":"IF(A15=\"\",\"\",VLOOKUP(MONTH(A15),'Beregn varme 2010'!A$2:G$13,7,FALSE))","v":7.7512934220251273},{"$f":"IF(P12=\"\",\"\",VLOOKUP(MONTH(A15),'Beregn varme 2010'!A$2:F$13,6,FALSE))","v":102.93717664449372}]
["2010-08-31",338,null,338,862,{"$f":"IF(B13=\"\",\"\",D12-B13)","v":42},null,"november",30,5.5666666666666664,null,"November",138,10.391566265060241,"November",167,11.103723404255319,29,21.014492753623191,{"$f":"IF(P13=\"\",\"\",VLOOKUP(MONTH(A16),'Beregn varme 2010'!A$2:G$13,7,FALSE))","v":11.631559497413152},{"$f":"IF(P13=\"\",\"\",VLOOKUP(MONTH(A16),'Beregn varme 2010'!A$2:F$13,6,FALSE))","v":154.46711012564668}]
["2010-09-30",253,914,1167,33,85,null,"december",31,6.709677419354839,null,"December",197,14.834337349397591,"December",208,13.829787234042554,11,5.5837563451776653,{"$f":"IF(P14=\"\",\"\",VLOOKUP(MONTH(A17),'Beregn varme 2010'!A$2:G$13,7,FALSE))","v":14.632298595713225},{"$f":"IF(P14=\"\",\"\",VLOOKUP(MONTH(A17),'Beregn varme 2010'!A$2:F$13,6,FALSE))","v":194.31692535107166}]
["2010-10-31",1065,null,1065,135,102]
["2010-11-30",898,null,898,302,167,null,"Hele året",{"$f":"A17-A5","v":365},{"$f":"F18/I16","v":4.1205479452054794},null,"Års Total",{"$f":"SUM(M3:M15)","v":1328},{"$f":"SUM(N3:N14)","v":100.00000000000001},null,{"$f":"F18","v":1504},{"$f":"SUM(Q3:Q14)","v":100.00000000000001},{"$f":"P16-M16","v":176},{"$f":"R16/(M16/100)","v":13.253012048192772},{"$f":"SUM(T3:T14)","v":99.999999999999972},{"$f":"SUM(U3:U14)","v":1328.0000000000002}]
["2010-12-31",690,null,690,510,208]
[null,null,null,"Års forbrug",null,{"$f":"SUM(F6:F17)","v":1504},null,null,null,null,null,2009,null,null,2010,null,null," +/-","%","Forventet forbrug"]
[null,"MÅNEDLIG AFLÆSNING AF VANDMÅLER",null,null,null,null,null,"Vand","Dage","m³ pr. dag",null,"Vand","m3",null,null,"m3",null,"m3",null,"%","m3"]
[null,null,null,null,null,null,null,"januar",{"$f":"A24-A23","v":37},{"$f":"C24/I20","v":0.27027027027027029},null,"Januar",11,null,"Januar",{"$f":"C24","v":10},null,{"$f":"P20-M20","v":-1},{"$f":"IF(R20<>\"\",R20/(M20/100),\"\")","v":-9.0909090909090917},{"$f":"IF(A23=\"\",\"\",VLOOKUP(MONTH(A23),'Beregn varme 2010'!A$2:H$13,8,FALSE))","v":8.493150684931507},{"$f":"M$33/100*T20","v":8.4082191780821915}]
["Dato",null,"Forbrug","Dato",null,"Forbrug",null,"februar",28,0.32142857142857145,null,"Februar",7,null,"Februar",9,null,2,{"$f":"IF(R21<>\"\",R21/(M21/100),\"\")","v":28.571428571428569},{"$f":"IF(A24=\"\",\"\",VLOOKUP(MONTH(A24),'Beregn varme 2010'!A$2:H$13,8,FALSE))","v":7.6712328767123283},{"$f":"M$33/100*T21","v":7.5945205479452049}]
[null,"m³","m³",null,"m³","m³",null,"marts",31,0.32258064516129031,null,"Marts",8,null,"Marts",10,null,2,25,{"$f":"IF(A25=\"\",\"\",VLOOKUP(MONTH(A25),'Beregn varme 2010'!A$2:H$13,8,FALSE))","v":8.493150684931507},8.4082191780821915]
["2009-12-29",1040,null,null,null,{"$f":"IF(E23<>\"\",E23-B29,\"\")","v":""},null,"april",30,0.3,null,"April",8,null,"April",9,null,1,12.5,{"$f":"IF(A26=\"\",\"\",VLOOKUP(MONTH(A26),'Beregn varme 2010'!A$2:H$13,8,FALSE))","v":8.2191780821917799},8.1369863013698627]
["2010-02-04",1050,{"$f":"IF(B24<>\"\",B24-B23,\"\")","v":10},"2010-08-04",1105,{"$f":"IF(E24<>\"\",E24-B29,\"\")","v":10},null,"maj",31,0.25806451612903225,null,"Maj",9,null,"Maj",8,null,-1,-11.111111111111111,{"$f":"IF(A27=\"\",\"\",VLOOKUP(MONTH(A27),'Beregn varme 2010'!A$2:H$13,8,FALSE))","v":8.493150684931507},8.4082191780821915]
["2010-03-04",1059,9,"2010-09-04",1112,{"$f":"IF(E25<>\"\",E25-E24,\"\")","v":7},null,"juni",30,0.3,null,"Juni",9,null,"Juni",9,null,{"$f":"IF(P25<>0,P25-M25,\"\")","v":0},0,{"$f":"IF(A28=\"\",\"\",VLOOKUP(MONTH(A28),'Beregn varme 2010'!A$2:H$13,8,FALSE))","v":8.2191780821917799},8.1369863013698627]
["2010-04-04",1069,10,"2010-10-04",1119,{"$f":"IF(E26<>\"\",E26-E25,\"\")","v":7},null,"juli",{"$f":"D24-A29","v":31},{"$f":"IF(F24<>\"\",F24/I26,\"\")","v":0.32258064516129031},null,"Juli",9,null,"Juli",{"$f":"F24","v":10},null,{"$f":"IF(P26<>\"\",P26-M26,\"\")","v":1},{"$f":"IF(R26<>\"\",R26/(M26/100),\"\")","v":11.111111111111111},{"$f":"IF(A29=\"\",\"\",VLOOKUP(MONTH(A29),'Beregn varme 2010'!A$2:H$13,8,FALSE))","v":8.493150684931507},8.4082191780821915]
["2010-05-04",1078,9,"2010-11-04",1127,{"$f":"IF(E27<>\"\",E27-E26,\"\")","v":8},null,"august",{"$f":"D25-D24","v":31},0.22580645161290322,null,"August",7,null,"August",7,null,0,{"$f":"IF(R27<>\"\",R27/(M27/100),\"\")","v":0},{"$f":"IF(D24=\"\",\"\",VLOOKUP(MONTH(D24),'Beregn varme 2010'!A$2:H$13,8,FALSE))","v":8.493150684931507},8.4082191780821915]
["2010-06-04",1086,8,"2010-12-04",1134,{"$f":"IF(E28<>\"\",E28-E27,\"\")","v":7},null,"september",{"$f":"D26-D25","v":30},0.23333333333333334,null,"September",8,null,"September",7,null,-1,{"$f":"IF(R28<>\"\",R28/(M28/100),\"\")","v":-12.5},{"$f":"IF(D25=\"\",\"\",VLOOKUP(MONTH(D25),'Beregn varme 2010'!A$2:H$13,8,FALSE))","v":8.2191780821917799},8.1369863013698627]
["2010-07-04",1095,9,"2010-12-21",1138,{"$f":"IF(E29<>\"\",E29-E28,\"\")","v":4},null,"oktober",{"$f":"D27-D26","v":31},0.25806451612903225,null,"Oktober",9,null,"Oktober",8,null,-1,-11.111111111111111,{"$f":"IF(D26=\"\",\"\",VLOOKUP(MONTH(D26),'Beregn varme 2010'!A$2:H$13,8,FALSE))","v":8.493150684931507},8.4082191780821915]
[null,null,null,"Års forbrug",null,{"$f":"SUM(C24:C29,F24:F29)","v":98},null,"november",{"$f":"D28-D27","v":30},0.23333333333333334,null,"November",8,null,"November",7,null,-1,-12.5,{"$f":"IF(D27=\"\",\"\",VLOOKUP(MONTH(D27),'Beregn varme 2010'!A$2:H$13,8,FALSE))","v":8.2191780821917799},8.1369863013698627]
[null,"MÅNEDLIG AFLÆSNING AF ELMÅLER",null,null,null,null,null,"december",{"$f":"D29-D28","v":17},0.23529411764705882,null,"December",6,null,"December",4,null,-2,-33.333333333333336,{"$f":"IF(D28=\"\",\"\",VLOOKUP(MONTH(D28),'Beregn varme 2010'!A$2:H$13,8,FALSE))","v":8.493150684931507},8.4082191780821915]
[]
["Dato",null,"Forbrug","Dato",null,"Forbrug",null,"hele året",{"$f":"D29-A23","v":357},{"$f":"F30/I33","v":0.27450980392156865},null,"Års Total",{"$f":"SUM(M20:M31)","v":99},null,null,{"$f":"SUM(P20:P31)","v":98},null,-1,{"$f":"R33/(M33/100)","v":-1.0101010101010102},{"$f":"SUM(T20:T31)","v":99.999999999999986},{"$f":"SUM(U20:U31)","v":98.999999999999986}]
[null,"Kw","Kw",null,"Kw","Kw"]
["2009-06-04",49173,null,null,null,null,null,null,null,null,null,"2008/2009",null,null,"2009/2010",null,null," +/-","%","Forventet forbrug"]
["2009-07-04",49507,{"$f":"IF(B36<>\"\",B36-B35,\"\")","v":334},"2010-01-04",51867,{"$f":"IF(E36<>\"\",E36-B41,\"\")","v":549},null,"EL","Dage","Kw pr. dag",null,"EL","Kw",null,null,"Kw",null,"Kw",null,"%","Kw"]
["2009-08-04",49798,291,"2010-02-04",52481,{"$f":"IF(E37<>\"\",E37-E36,\"\")","v":614},null,"Juni",{"$f":"A36-A35","v":30},{"$f":"C36/I37","v":11.133333333333333},null,"Juni",262,null,"Juni",334,null,{"$f":"P37-M37","v":72},{"$f":"R37/(M37/100)","v":27.480916030534349},{"$f":"IF(A36=\"\",\"\",VLOOKUP(MONTH(A36),'Beregn varme 2010'!A$2:I$13,9,FALSE))","v":7},{"$f":"M$50/100*T37","v":364.91}]
["2009-09-04",50062,264,"2010-03-04",53077,{"$f":"IF(E38<>\"\",E38-E37,\"\")","v":596},null,"Juli",31,9.387096774193548,null,"Juli",262,null,"Juli",291,null,29,{"$f":"R38/(M38/100)","v":11.068702290076335},{"$f":"IF(A37=\"\",\"\",VLOOKUP(MONTH(A37),'Beregn varme 2010'!A$2:I$13,9,FALSE))","v":7},{"$f":"M$50/100*T38","v":364.91}]
["2009-10-04",50388,326,"2010-04-04",53663,{"$f":"IF(E39<>\"\",E39-E38,\"\")","v":586},null,"August",31,8.5161290322580641,null,"August",278,null,"August",264,null,-14,-5.0359712230215834,{"$f":"IF(A38=\"\",\"\",VLOOKUP(MONTH(A38),'Beregn varme 2010'!A$2:I$13,9,FALSE))","v":8},417.04]
["2009-11-04",50841,453,"2010-05-04",54140,{"$f":"IF(E40<>\"\",E40-E39,\"\")","v":477},null,"September",30,10.866666666666667,null,"September",384,null,"September",326,null,-58,-15.104166666666668,{"$f":"IF(A39=\"\",\"\",VLOOKUP(MONTH(A39),'Beregn varme 2010'!A$2:I$13,9,FALSE))","v":9},469.17]
["2009-12-04",51318,477,"2010-06-04",54577,{"$f":"IF(E41<>\"\",E41-E40,\"\")","v":437},null,"Oktober",31,14.612903225806452,null,"Oktober",438,null,"Oktober",453,null,15,3.4246575342465753,{"$f":"IF(A40=\"\",\"\",VLOOKUP(MONTH(A40),'Beregn varme 2010'!A$2:I$13,9,FALSE))","v":9},469.17]
[null,null,null,"Års forbrug",null,{"$f":"SUM(C36:C41,F36:F41)","v":5404},null,"November",30,15.9,null,"November",507,null,"November",477,null,-30,-5.9171597633136095,{"$f":"IF(A41=\"\",\"\",VLOOKUP(MONTH(A41),'Beregn varme 2010'!A$2:I$13,9,FALSE))","v":10},521.30000000000007]
["Bemærkning:",null,null,null,null,null,null,"December",{"$f":"D36-A41","v":31},{"$f":"F36/I43","v":17.70967741935484},null,"December",506,null,"December",549,null,43,8.4980237154150196,{"$f":"IF(D36=\"\",\"\",VLOOKUP(MONTH(D36),'Beregn varme 2010'!A$2:I$13,9,FALSE))","v":10},521.30000000000007]
["Juni fik nyt Toilet",null,null,null,null,null,null,"Januar",{"$f":"D37-D36","v":31},19.806451612903224,null,"Januar",671,null,"Januar",614,null,-57,-8.49478390461997,{"$f":"IF(D37=\"\",\"\",VLOOKUP(MONTH(D37),'Beregn varme 2010'!A$2:I$13,9,FALSE))","v":9},469.17]
["4/7 - 10 skiftet til S",null,null,null,null,null,null,"Februar",{"$f":"D38-D37","v":28},21.285714285714285,null,"Februar",565,null,"Februar",596,null,31,5.4867256637168138,{"$f":"IF(D38=\"\",\"\",VLOOKUP(MONTH(D38),'Beregn varme 2010'!A$2:I$13,9,FALSE))","v":9},469.17]
["4/9 - 10 skiftet til v",null,null,null,null,null,null,"Marts",{"$f":"D39-D38","v":31},18.903225806451612,null,"Marts",568,null,"Marts",586,null,18,3.1690140845070425,{"$f":"IF(D39=\"\",\"\",VLOOKUP(MONTH(D39),'Beregn varme 2010'!A$2:I$13,9,FALSE))","v":8},417.04]
[null,null,null,null,null,null,null,"April",{"$f":"D40-D39","v":30},15.9,null,"April",412,null,"April",477,null,65,15.776699029126213,{"$f":"IF(D40=\"\",\"\",VLOOKUP(MONTH(D40),'Beregn varme 2010'!A$2:I$13,9,FALSE))","v":7},364.91]
[null,null,null,null,null,null,null,"Maj",{"$f":"D41-D40","v":31},14.096774193548388,null,"Maj",360,null,"Maj",437,null,77,21.388888888888889,{"$f":"IF(D41=\"\",\"\",VLOOKUP(MONTH(D41),'Beregn varme 2010'!A$2:I$13,9,FALSE))","v":7},364.91]
[]
[null,null,null,null,null,null,null,"Hele året",{"$f":"D41-A35","v":365},{"$f":"F42/I50","v":14.805479452054794},null,"Års Total",{"$f":"SUM(M37:M49)","v":5213},null,null,{"$f":"SUM(P37:P49)","v":5404},null,191,{"$f":"R50/(M50/100)","v":3.6639171302512947},{"$f":"SUM(T37:T48)","v":100},{"$f":"SUM(U37:U48)","v":5213.0000000000009}]

{"sheet":"Beregn varme 2010","index":11,"n_rows":14,"n_cols":18,"rows_kept":14,"cut":false,"hidden":true,"merged":[[4,13,4,14],[5,13,5,14],[6,13,6,14],[7,13,7,14]]}
["måned","Normal års graddage fra HNG","%","liter pr mdr til opvarmnig","pr md til varmt vand","liter i alt pr md","% pr md","% pr md vand","% pr md EL","Normal års graddage fra DTI","%","RVV","%"]
[1,485,{"$f":"B2/(B$14/100)","v":17.923133776792316},{"$f":"('2009'!F$18-('2009'!F$18/100*$P$6))/100*C2","v":166.61345158906136},{"$f":"P$5/100*P$6/12","v":33.199999999999996},{"$f":"SUM(D2:E2)","v":199.81345158906134},{"$f":"F2/(F$14/100)","v":15.046193643754616},{"$f":"31*R7","v":8.493150684931507},10,525,{"$f":"J2/(J$14/100)","v":18.066070199587063},519,{"$f":"L2/(L$14/100)","v":16.677377892030847}]
[2,434,{"$f":"B3/(B$14/100)","v":16.038433111603844},{"$f":"('2009'!F$18-('2009'!F$18/100*$P$6))/100*C3","v":149.09327420546933},{"$f":"P$5/100*P$6/12","v":33.199999999999996},{"$f":"SUM(D3:E3)","v":182.29327420546932},{"$f":"F3/(F$14/100)","v":13.726903178122686},{"$f":"28*R7","v":7.6712328767123283},9,480,{"$f":"J3/(J$14/100)","v":16.517549896765313},486,{"$f":"L3/(L$14/100)","v":15.616966580976863}]
[3,429,15.853658536585366,{"$f":"('2009'!F$18-('2009'!F$18/100*$P$6))/100*C4","v":147.37560975609756},33.199999999999996,180.57560975609755,13.597560975609753,{"$f":"31*R7","v":8.493150684931507},9,460,15.829318651066759,444,14.267352185089974]
[4,249,9.2017738359201786,{"$f":"('2009'!F$18-('2009'!F$18/100*$P$6))/100*C5","v":85.539689578713975},33.199999999999996,118.73968957871398,8.9412416851441225,{"$f":"30*R7","v":8.2191780821917799},8,302,10.392291810048176,311,9.9935732647814906,"forventetforbrug",null,{"$f":"'2009'!F18","v":1328},"liter"]
[5,58,2.1433850702143387,{"$f":"('2009'!F$18-('2009'!F$18/100*$P$6))/100*C6","v":19.924907612712492},33.199999999999996,53.124907612712491,4.0003695491500357,{"$f":"31*R7","v":8.493150684931507},7,79,2.7185134205092911,154,4.948586118251928,"% til varmt vand",null,30]
[6,0,0,{"$f":"('2009'!F$18-('2009'!F$18/100*$P$6))/100*C7","v":0},33.199999999999996,33.199999999999996,2.4999999999999991,{"$f":"30*R7","v":8.2191780821917799},7,1,3.4411562284927734E-2,58,1.8637532133676091,"til varmt vand",null,{"$f":"P5/100*P6/12","v":33.199999999999996},{"$f":"P7/12","v":2.7666666666666662},{"$f":"100/365","v":0.27397260273972601}]
[7,0,0,{"$f":"('2009'!F$18-('2009'!F$18/100*$P$6))/100*C8","v":0},33.199999999999996,33.199999999999996,2.4999999999999991,{"$f":"31*R7","v":8.493150684931507},7,0,0,22,0.70694087403598971,"til varme",null,{"$f":"$P$9-($P$9/100*$P$10)","v":0}]
[8,0,0,{"$f":"('2009'!F$18-('2009'!F$18/100*$P$6))/100*C9","v":0},33.199999999999996,33.199999999999996,2.4999999999999991,{"$f":"31*R7","v":8.493150684931507},7,0,0,18,0.57840616966580971]
[9,26,0.96082779009608288,{"$f":"('2009'!F$18-('2009'!F$18/100*$P$6))/100*C10","v":8.9318551367331853},33.199999999999996,42.131855136733179,3.1725794530672569,{"$f":"30*R7","v":8.2191780821917799},8,36,1.2388162422573985,91,2.9241645244215939]
[10,203,7.5018477457501849,{"$f":"('2009'!F$18-('2009'!F$18/100*$P$6))/100*C11","v":69.737176644493715},33.199999999999996,102.93717664449372,7.7512934220251273,{"$f":"31*R7","v":8.493150684931507},9,219,7.5361321403991743,207,6.6516709511568122]
[11,353,13.045084996304508,{"$f":"('2009'!F$18-('2009'!F$18/100*$P$6))/100*C12","v":121.2671101256467},33.199999999999996,154.46711012564668,11.631559497413152,{"$f":"30*R7","v":8.2191780821917799},9,349,12.009635237439781,341,10.95758354755784]
[12,469,17.331855136733186,{"$f":"('2009'!F$18-('2009'!F$18/100*$P$6))/100*C13","v":161.11692535107167},33.199999999999996,194.31692535107166,14.632298595713225,{"$f":"31*R7","v":8.493150684931507},10,455,15.65726083964212,461,14.813624678663238]
["check",{"$f":"SUM(B2:B13)","v":2706},{"$f":"SUM(C2:C13)","v":100},929.59999999999991,398.39999999999992,1328.0000000000002,99.999999999999972,{"$f":"SUM(H2:H13)","v":99.999999999999986},100,{"$f":"SUM(J2:J13)","v":2906},100,3112,100]

{"sheet":"2011","index":12,"n_rows":50,"n_cols":22,"rows_kept":50,"cut":false,"hidden":true,"merged":[[0,20,0,21],[17,20,17,21],[34,20,34,21],[37,6,38,6],[25,6,26,6],[35,0,36,6],[2,0,2,6],[3,1,3,6],[1,0,1,6],[5,0,6,6],[7,3,8,3],[7,1,8,1],[7,6,8,6],[7,0,8,0],[46,3,46,4],[22,3,22,4],[34,3,34,4],[23,0,24,6],[37,0,38,0],[37,3,38,3],[25,3,26,3],[25,0,26,0]]}
[null,null,null,null,null,null,null,null,null,null,null,null,2010,null,null,2011,null,null," +/-","%","Forventet forbrug"]
[{"$f":"System!A19","v":"Version: 2.0.2 / Bjarne Hansen"},null,null,null,null,null,null,null,"Olie","Dage","Liter pr dag",null,"Olie","Liter","%",null,"Liter","%","Liter",null,"%","Liter"]
["Aflæsningsskema til Olieforbrug samt EL og Vand",null,null,null,null,null,null,null,{"$f":"IF(A11=\"\",\"\",VLOOKUP(MONTH(A11),T!A1:B12,2,FALSE))","v":"Januar"},{"$f":"A11-A10","v":31},{"$f":"IF(F11<>\"\",F11/J3,\"\")","v":7.4838709677419351},null,{"$f":"IF(A11=\"\",\"\",VLOOKUP(MONTH(A11),T!A$1:B$12,2,FALSE))","v":"Januar"},210,{"$f":"IF(N3=\"\",\"\",N3/(N$16/100))","v":13.962765957446809},{"$f":"IF(A11=\"\",\"\",VLOOKUP(MONTH(A11),T!A$1:B$12,2,FALSE))","v":"Januar"},{"$f":"F11","v":232},{"$f":"IF(Q3=\"\",\"\",Q3/(Q$16/100))","v":14.259373079287032},{"$f":"IF(Q3<>\"\",Q3-N3,\"\")","v":22},{"$f":"IF(Q3<>\"\",S3/(N3/100),\"\")","v":10.476190476190476},{"$f":"IF(A11=\"\",\"\",VLOOKUP(MONTH(A11),'Beregn varme 2011'!A$2:G$13,7,FALSE))","v":15.04619364375462},{"$f":"IF(Q3=\"\",\"\",VLOOKUP(MONTH(A11),'Beregn varme 2011'!A$2:F$13,6,FALSE))","v":226.29475240206946}]
["Navn :","Bjarne Hansen, Pilegade 9",null,null,null,null,null,null,{"$f":"IF(A12=\"\",\"\",VLOOKUP(MONTH(A12),T!A2:B13,2,FALSE))","v":"Februar"},28,8.0357142857142865,null,{"$f":"IF(A12=\"\",\"\",VLOOKUP(MONTH(A12),T!A$1:B$12,2,FALSE))","v":"Februar"},172,11.436170212765958,{"$f":"IF(A12=\"\",\"\",VLOOKUP(MONTH(A12),T!A$1:B$12,2,FALSE))","v":"Februar"},225,13.829133374308544,{"$f":"IF(Q4<>\"\",Q4-N4,\"\")","v":53},{"$f":"IF(Q4<>\"\",S4/(N4/100),\"\")","v":30.813953488372093},{"$f":"IF(A12=\"\",\"\",VLOOKUP(MONTH(A12),'Beregn varme 2011'!A$2:G$13,7,FALSE))","v":13.72690317812269},{"$f":"IF(Q4=\"\",\"\",VLOOKUP(MONTH(A12),'Beregn varme 2011'!A$2:F$13,6,FALSE))","v":206.45262379896525}]
[null,null,null,null,null,null,null,null,{"$f":"IF(A13=\"\",\"\",VLOOKUP(MONTH(A13),T!A3:B14,2,FALSE))","v":"Marts"},31,6.096774193548387,null,{"$f":"IF(A13=\"\",\"\",VLOOKUP(MONTH(A13),T!A$1:B$12,2,FALSE))","v":"Marts"},169,11.236702127659575,{"$f":"IF(A13=\"\",\"\",VLOOKUP(MONTH(A13),T!A$1:B$12,2,FALSE))","v":"Marts"},189,11.616472034419177,20,11.834319526627219,{"$f":"IF(A13=\"\",\"\",VLOOKUP(MONTH(A13),'Beregn varme 2011'!A$2:G$13,7,FALSE))","v":13.597560975609754},{"$f":"IF(Q5=\"\",\"\",VLOOKUP(MONTH(A13),'Beregn varme 2011'!A$2:F$13,6,FALSE))","v":204.5073170731707}]
["MÅNEDLIG PEJLING AF OLIETANK",null,null,null,null,null,null,null,{"$f":"IF(A14=\"\",\"\",VLOOKUP(MONTH(A14),T!A4:B15,2,FALSE))","v":"April"},30,3.4333333333333331,null,{"$f":"IF(A14=\"\",\"\",VLOOKUP(MONTH(A14),T!A$1:B$12,2,FALSE))","v":"April"},151,10.039893617021278,{"$f":"IF(A14=\"\",\"\",VLOOKUP(MONTH(A14),T!A$1:B$12,2,FALSE))","v":"April"},103,6.3306699446834669,-48,-31.788079470198674,{"$f":"IF(A14=\"\",\"\",VLOOKUP(MONTH(A14),'Beregn varme 2011'!A$2:G$13,7,FALSE))","v":8.9412416851441243},{"$f":"IF(Q6=\"\",\"\",VLOOKUP(MONTH(A14),'Beregn varme 2011'!A$2:F$13,6,FALSE))","v":134.47627494456762}]
[null,null,null,null,null,null,null,null,{"$f":"IF(A15=\"\",\"\",VLOOKUP(MONTH(A15),T!A5:B16,2,FALSE))","v":"Maj"},31,3,null,{"$f":"IF(A15=\"\",\"\",VLOOKUP(MONTH(A15),T!A$1:B$12,2,FALSE))","v":"Maj"},96,6.3829787234042561,{"$f":"IF(A15=\"\",\"\",VLOOKUP(MONTH(A15),T!A$1:B$12,2,FALSE))","v":"Maj"},93,5.7160417947141982,-3,-3.125,{"$f":"IF(A15=\"\",\"\",VLOOKUP(MONTH(A15),'Beregn varme 2011'!A$2:G$13,7,FALSE))","v":4.0003695491500375},{"$f":"IF(Q7=\"\",\"\",VLOOKUP(MONTH(A15),'Beregn varme 2011'!A$2:F$13,6,FALSE))","v":60.165558019216554}]
["Dato","Pejling","Fyldt på","Beholdning","Plads til","Forbrug","Bemærkning.",null,{"$f":"IF(A16=\"\",\"\",VLOOKUP(MONTH(A16),T!A6:B17,2,FALSE))","v":"Juni"},30,0,null,{"$f":"IF(A16=\"\",\"\",VLOOKUP(MONTH(A16),T!A$1:B$12,2,FALSE))","v":"Juni"},62,4.1223404255319149,{"$f":"IF(A16=\"\",\"\",VLOOKUP(MONTH(A16),T!A$1:B$12,2,FALSE))","v":"Juni"},0,0,-62,-100,{"$f":"IF(A16=\"\",\"\",VLOOKUP(MONTH(A16),'Beregn varme 2011'!A$2:G$13,7,FALSE))","v":2.5000000000000004},{"$f":"IF(Q8=\"\",\"\",VLOOKUP(MONTH(A16),'Beregn varme 2011'!A$2:F$13,6,FALSE))","v":37.6}]
[null,null,"Liter",null,"Liter","Liter",null,null,{"$f":"IF(A17=\"\",\"\",VLOOKUP(MONTH(A17),T!A7:B18,2,FALSE))","v":"Juli"},31,0,null,{"$f":"IF(A17=\"\",\"\",VLOOKUP(MONTH(A17),T!A$1:B$12,2,FALSE))","v":"Juli"},{"$f":"'2010'!F12","v":40},2.6595744680851063,{"$f":"IF(A17=\"\",\"\",VLOOKUP(MONTH(A17),T!A$1:B$12,2,FALSE))","v":"Juli"},0,0,-40,-100,{"$f":"IF(A17=\"\",\"\",VLOOKUP(MONTH(A17),'Beregn varme 2011'!A$2:G$13,7,FALSE))","v":2.5000000000000004},{"$f":"IF(Q9=\"\",\"\",VLOOKUP(MONTH(A17),'Beregn varme 2011'!A$2:F$13,6,FALSE))","v":37.6}]
["2010-12-31",{"$f":"'2010'!B17","v":690},null,{"$f":"IF(B10<>\"\",SUM(B10:C10),\"\")","v":690},{"$f":"IF(D10<>\"\",1200-D10,\"\")","v":510},null,null,null,{"$f":"IF(A18=\"\",\"\",VLOOKUP(MONTH(A18),T!A8:B19,2,FALSE))","v":"August"},31,0,null,{"$f":"IF(A18=\"\",\"\",VLOOKUP(MONTH(A18),T!A$1:B$12,2,FALSE))","v":"August"},{"$f":"'2010'!F13","v":42},2.792553191489362,{"$f":"IF(A18=\"\",\"\",VLOOKUP(MONTH(A18),T!A$1:B$12,2,FALSE))","v":"August"},0,0,-42,-100,{"$f":"IF(A18=\"\",\"\",VLOOKUP(MONTH(A18),'Beregn varme 2011'!A$2:G$13,7,FALSE))","v":2.5000000000000004},{"$f":"IF(Q10=\"\",\"\",VLOOKUP(MONTH(A18),'Beregn varme 2011'!A$2:F$13,6,FALSE))","v":37.6}]
["2011-01-31",458,null,{"$f":"IF(B11<>\"\",B11+C11,\"\")","v":458},{"$f":"IF(D11<>\"\",1200-D11,\"\")","v":742},{"$f":"IF(B11<>\"\",D10-B11,\"\")","v":232},null,null,{"$f":"IF(A19=\"\",\"\",VLOOKUP(MONTH(A19),T!A9:B20,2,FALSE))","v":"September"},30,2.1333333333333333,null,{"$f":"IF(A19=\"\",\"\",VLOOKUP(MONTH(A19),T!A$1:B$12,2,FALSE))","v":"September"},{"$f":"'2010'!F14","v":85},5.6515957446808516,{"$f":"IF(A19=\"\",\"\",VLOOKUP(MONTH(A19),T!A$1:B$12,2,FALSE))","v":"September"},64,3.9336201598033189,-21,-24.705882352941178,{"$f":"IF(A19=\"\",\"\",VLOOKUP(MONTH(A19),'Beregn varme 2011'!A$2:G$13,7,FALSE))","v":3.1725794530672582},{"$f":"IF(Q11=\"\",\"\",VLOOKUP(MONTH(A19),'Beregn varme 2011'!A$2:F$13,6,FALSE))","v":47.715594974131562}]
["2011-02-28",233,864,{"$f":"IF(B12<>\"\",B12+C12,\"\")","v":1097},{"$f":"IF(D12<>\"\",1200-D12,\"\")","v":103},{"$f":"IF(B12<>\"\",D11-B12,\"\")","v":225},null,null,{"$f":"IF(A20=\"\",\"\",VLOOKUP(MONTH(A20),T!A10:B21,2,FALSE))","v":"Oktober"},31,3.2580645161290325,null,{"$f":"IF(A20=\"\",\"\",VLOOKUP(MONTH(A20),T!A$1:B$12,2,FALSE))","v":"Oktober"},{"$f":"'2010'!F15","v":102},6.7819148936170217,{"$f":"IF(A20=\"\",\"\",VLOOKUP(MONTH(A20),T!A$1:B$12,2,FALSE))","v":"Oktober"},101,6.207744314689613,-1,-0.98039215686274506,{"$f":"IF(A20=\"\",\"\",VLOOKUP(MONTH(A20),'Beregn varme 2011'!A$2:G$13,7,FALSE))","v":7.7512934220251291},{"$f":"IF(Q12=\"\",\"\",VLOOKUP(MONTH(A20),'Beregn varme 2011'!A$2:F$13,6,FALSE))","v":116.57945306725793}]
["2011-03-31",908,null,{"$f":"IF(B13<>\"\",B13+C13,\"\")","v":908},292,189,null,null,{"$f":"IF(A21=\"\",\"\",VLOOKUP(MONTH(A21),T!A11:B22,2,FALSE))","v":"November"},30,5.333333333333333,null,{"$f":"IF(A21=\"\",\"\",VLOOKUP(MONTH(A21),T!A$1:B$12,2,FALSE))","v":"November"},{"$f":"'2010'!F16","v":167},11.103723404255319,{"$f":"IF(A21=\"\",\"\",VLOOKUP(MONTH(A21),T!A$1:B$12,2,FALSE))","v":"November"},160,9.834050399508298,-7,-4.1916167664670656,{"$f":"IF(A21=\"\",\"\",VLOOKUP(MONTH(A21),'Beregn varme 2011'!A$2:G$13,7,FALSE))","v":11.631559497413155},{"$f":"IF(Q13=\"\",\"\",VLOOKUP(MONTH(A21),'Beregn varme 2011'!A$2:F$13,6,FALSE))","v":174.93865484109384}]
["2011-04-30",805,null,805,395,103,null,null,{"$f":"IF(A22=\"\",\"\",VLOOKUP(MONTH(A22),T!A12:B23,2,FALSE))","v":"December"},31,{"$f":"IF(F22<>\"\",'2011 2'!G11/J14,\"\")","v":6.354838709677419},null,{"$f":"IF(A22=\"\",\"\",VLOOKUP(MONTH(A22),T!A$1:B$12,2,FALSE))","v":"December"},{"$f":"'2010'!F17","v":208},13.829787234042554,{"$f":"IF(A22=\"\",\"\",VLOOKUP(MONTH(A22),T!A$1:B$12,2,FALSE))","v":"December"},{"$f":"F22","v":460},28.272894898586355,252,121.15384615384615,{"$f":"IF(A22=\"\",\"\",VLOOKUP(MONTH(A22),'Beregn varme 2011'!A$2:G$13,7,FALSE))","v":14.632298595713229},{"$f":"IF(Q14=\"\",\"\",VLOOKUP(MONTH(A22),'Beregn varme 2011'!A$2:F$13,6,FALSE))","v":220.06977087952694}]
["2011-05-31",712,null,712,488,93,"Slukket fyret"]
["2011-06-30",712,null,712,488,0,null,null,"Hele året",{"$f":"A22-A10","v":365},{"$f":"F23/J16","v":4.4575342465753423},null,"Års Total",{"$f":"'2010'!F18","v":1504},{"$f":"SUM(O3:O14)","v":100.00000000000001},null,{"$f":"F23","v":1627},null,{"$f":"IF(Q16<>0,Q16-N16,\"\")","v":123},{"$f":"IF(Q16<>0,S16/(Q16/100),\"\")","v":7.5599262446220035},{"$f":"SUM(U3:U14)","v":99.999999999999986},{"$f":"SUM(V3:V14)","v":1504}]
["2011-07-31",712,null,712,488,0]
["2011-08-31",712,null,712,488,0,"Tændt fyret",null,null,null,null,null,2010,null,null,2011,null,null," +/-","%","Forventet forbrug"]
["2011-09-30",648,null,648,552,64,null,null,"Vand","Dage","m³ pr. dag",null,"Vand","m3",null,null,"m3",null,"m3",null,"%","m3"]
["2011-10-31",547,null,547,653,101,null,null,{"$f":"IF(A29=\"\",\"\",VLOOKUP(MONTH(A29),T!A$1:B$12,2,FALSE))","v":"Januar"},{"$f":"A29-A28","v":41},{"$f":"IF(C29<>\"\",C29/J20,\"\")","v":0.24390243902439024},null,"Januar",10,null,"Januar",{"$f":"C29","v":10},null,{"$f":"IF(Q20<>\"\",Q20-N20,\"\")","v":0},{"$f":"IF(S20<>\"\",S20/(N20/100),\"\")","v":0},{"$f":"IF(A28=\"\",\"\",VLOOKUP(MONTH(A28),'Beregn varme 2011'!A$2:H$13,8,FALSE))","v":8.493150684931507},{"$f":"IF(Q20=\"\",\"\",N$33/100*U20)","v":8.3232876712328761}]
["2011-11-30",387,null,387,813,160,null,null,{"$f":"IF(A30=\"\",\"\",VLOOKUP(MONTH(A30),T!A$1:B$12,2,FALSE))","v":"Februar"},28,0.25,null,"Februar",9,null,"Februar",7,null,{"$f":"IF(Q21<>\"\",Q21-N21,\"\")","v":-2},{"$f":"IF(S21<>\"\",S21/(N21/100),\"\")","v":-22.222222222222221},{"$f":"IF(A29=\"\",\"\",VLOOKUP(MONTH(A29),'Beregn varme 2011'!A$2:H$13,8,FALSE))","v":8.493150684931507},8.3232876712328761]
["2011-12-31",null,null,"","",{"$f":"'2011 2'!G23","v":460},"Brugt på Lyrsbyvej 31",null,{"$f":"IF(A31=\"\",\"\",VLOOKUP(MONTH(A31),T!A$1:B$12,2,FALSE))","v":"Marts"},31,0.25806451612903225,null,"Marts",10,null,"Marts",8,null,-2,-20,{"$f":"IF(A30=\"\",\"\",VLOOKUP(MONTH(A30),'Beregn varme 2011'!A$2:H$13,8,FALSE))","v":7.6712328767123283},7.5178082191780815]
[null,null,null,"Års forbrug",null,{"$f":"SUM(F11:F22)","v":1627},null,null,{"$f":"IF(A32=\"\",\"\",VLOOKUP(MONTH(A32),T!A$1:B$12,2,FALSE))","v":"April"},30,0.2,null,"April",9,null,"April",6,null,-3,-33.333333333333336,{"$f":"IF(A31=\"\",\"\",VLOOKUP(MONTH(A31),'Beregn varme 2011'!A$2:H$13,8,FALSE))","v":8.493150684931507},8.3232876712328761]
["MÅNEDLIG AFLÆSNING AF VANDMÅLER",null,null,null,null,null,null,null,{"$f":"IF(A33=\"\",\"\",VLOOKUP(MONTH(A33),T!A$1:B$12,2,FALSE))","v":"Maj"},31,0.19354838709677419,null,"Maj",8,null,"Maj",6,null,-2,-25,{"$f":"IF(A32=\"\",\"\",VLOOKUP(MONTH(A32),'Beregn varme 2011'!A$2:H$13,8,FALSE))","v":8.2191780821917799},8.0547945205479436]
[null,null,null,null,null,null,null,null,{"$f":"IF(A34=\"\",\"\",VLOOKUP(MONTH(A34),T!A$1:B$12,2,FALSE))","v":"Juni"},30,0.26666666666666666,null,"Juni",9,null,"Juni",8,null,-1,-11.111111111111111,{"$f":"IF(A33=\"\",\"\",VLOOKUP(MONTH(A33),'Beregn varme 2011'!A$2:H$13,8,FALSE))","v":8.493150684931507},8.3232876712328761]
["Dato","Aflæst","Forbrug","Dato","Aflæst","Forbrug","Bemærkning.",null,{"$f":"IF(D29=\"\",\"\",VLOOKUP(MONTH(D29),T!A$1:B$12,2,FALSE))","v":"Juli"},{"$f":"D29-A34","v":31},{"$f":"IF(F29<>\"\",F29/J26,\"\")","v":0.22580645161290322},null,"Juli",{"$f":"'2010'!F24","v":10},null,"Juli",{"$f":"F29","v":7},null,-3,-30,{"$f":"IF(A34=\"\",\"\",VLOOKUP(MONTH(A34),'Beregn varme 2011'!A$2:H$13,8,FALSE))","v":8.2191780821917799},8.0547945205479436]
[null,"m³","m³",null,"m³","m³",null,null,{"$f":"IF(D30=\"\",\"\",VLOOKUP(MONTH(D30),T!A$1:B$12,2,FALSE))","v":"August"},{"$f":"D30-D29","v":31},0.19354838709677419,null,"August",{"$f":"'2010'!F25","v":7},null,"August",6,null,-1,-14.285714285714285,{"$f":"IF(D29=\"\",\"\",VLOOKUP(MONTH(D29),'Beregn varme 2011'!A$2:H$13,8,FALSE))","v":8.493150684931507},8.3232876712328761]
["2010-12-21",{"$f":"'2010'!E29","v":1138},null,null,null,null,null,null,{"$f":"IF(D31=\"\",\"\",VLOOKUP(MONTH(D31),T!A$1:B$12,2,FALSE))","v":"September"},{"$f":"D31-D30","v":30},0.2,null,"September",{"$f":"'2010'!P28","v":7},null,"September",6,null,-1,-14.285714285714285,{"$f":"IF(D30=\"\",\"\",VLOOKUP(MONTH(D30),'Beregn varme 2011'!A$2:H$13,8,FALSE))","v":8.493150684931507},8.3232876712328761]
["2011-01-31",1148,{"$f":"IF(B29<>\"\",B29-B28,\"\")","v":10},"2011-07-31",1190,{"$f":"IF(E29<>\"\",E29-B34,\"\")","v":7},null,null,{"$f":"IF(D32=\"\",\"\",VLOOKUP(MONTH(D32),T!A$1:B$12,2,FALSE))","v":"Oktober"},{"$f":"D32-D31","v":31},0.22580645161290322,null,"Oktober",{"$f":"'2010'!P29","v":8},null,"Oktober",7,null,-1,-12.5,{"$f":"IF(D31=\"\",\"\",VLOOKUP(MONTH(D31),'Beregn varme 2011'!A$2:H$13,8,FALSE))","v":8.2191780821917799},8.0547945205479436]
["2011-02-28",1155,7,"2011-08-31",1196,{"$f":"IF(E30<>\"\",E30-E29,\"\")","v":6},null,null,{"$f":"IF(D33=\"\",\"\",VLOOKUP(MONTH(D33),T!A$1:B$12,2,FALSE))","v":"November"},{"$f":"D33-D32","v":30},0.2,null,"November",{"$f":"'2010'!P30","v":7},null,"November",6,null,-1,-14.285714285714285,{"$f":"IF(D32=\"\",\"\",VLOOKUP(MONTH(D32),'Beregn varme 2011'!A$2:H$13,8,FALSE))","v":8.493150684931507},8.3232876712328761]
["2011-03-31",1163,8,"2011-09-30",1202,{"$f":"IF(E31<>\"\",E31-E30,\"\")","v":6},null,null,{"$f":"IF(D34=\"\",\"\",VLOOKUP(MONTH(D34),T!A$1:B$12,2,FALSE))","v":"December"},{"$f":"D34-D33","v":31},0.19354838709677419,null,"December",{"$f":"'2010'!P31","v":4},null,"December",6,null,2,50,{"$f":"IF(D33=\"\",\"\",VLOOKUP(MONTH(D33),'Beregn varme 2011'!A$2:H$13,8,FALSE))","v":8.2191780821917799},8.0547945205479436]
["2011-04-30",1169,6,"2011-10-31",1209,{"$f":"IF(E32<>\"\",E32-E31,\"\")","v":7}]
["2011-05-31",1175,6,"2011-11-30",1215,{"$f":"IF(E33<>\"\",E33-E32,\"\")","v":6},null,null,"hele året",{"$f":"D34-A28","v":375},{"$f":"F35/J33","v":0.22133333333333333},null,"Års Total",{"$f":"SUM(N20:N31)","v":98},null,null,{"$f":"F35","v":83},null,{"$f":"IF(Q33<>0,Q33-N33,\"\")","v":-15},{"$f":"IF(S33<>\"\",S33/(Q33/100),\"\")","v":-18.072289156626507},{"$f":"SUM(U20:U31)","v":99.999999999999986},{"$f":"SUM(V20:V31)","v":97.999999999999986}]
["2011-06-30",1183,8,"2011-12-31",1525,{"$f":"'2011 2'!G35","v":6},"Brugt på Lyrsbyvej 31"]
[null,null,null,"Års forbrug",null,{"$f":"SUM(C29:C34,F29:F34)","v":83},null,null,null,null,null,null,"2009/2010",null,null,"2010/2011",null,null," +/-","%","Forventet forbrug"]
["MÅNEDLIG AFLÆSNING AF ELMÅLER",null,null,null,null,null,null,null,"EL","Dage","KWh pr. dag",null,"EL","Kw",null,null,"Kw",null,"Kw",null,"%","Kw"]
[null,null,null,null,null,null,null,null,{"$f":"IF(A41=\"\",\"\",VLOOKUP(MONTH(A41),T!A$1:B$12,2,FALSE))","v":"Juni"},{"$f":"A41-A40","v":26},{"$f":"IF(C41<>\"\",C41/J37,\"\")","v":13.115384615384615},null,"Juni",334,null,"Juni",{"$f":"C41","v":341},null,{"$f":"Q37-N37","v":7},{"$f":"IF(Q37<>0,S37/(N37/100),\"\")","v":2.0958083832335328},{"$f":"IF(A41=\"\",\"\",VLOOKUP(MONTH(A41),'Beregn varme 2011'!A$2:I$13,9,FALSE))","v":7},{"$f":"IF(Q37=\"\",\"\",N$50/100*U37)","v":378.28}]
["Dato","Aflæst","Forbrug","Dato","Aflæst","Forbrug","Bemærkning.",null,{"$f":"IF(A42=\"\",\"\",VLOOKUP(MONTH(A42),T!A$1:B$12,2,FALSE))","v":"Juli"},31,8.9032258064516121,null,"Juli",291,null,"Juli",{"$f":"IF(C42<>\"\",C42,\"\")","v":276},null,{"$f":"IF(Q38<>\"\",Q38-N38,\"\")","v":-15},{"$f":"IF(Q38<>\"\",S38/(N38/100),\"\")","v":-5.1546391752577314},{"$f":"IF(A42=\"\",\"\",VLOOKUP(MONTH(A42),'Beregn varme 2011'!A$2:I$13,9,FALSE))","v":7},378.28]
[null,"KWh","KWh",null,"KWh","KWh",null,null,{"$f":"IF(A43=\"\",\"\",VLOOKUP(MONTH(A43),T!A$1:B$12,2,FALSE))","v":"August"},31,8.870967741935484,null,"August",264,null,"August",{"$f":"IF(C43<>\"\",C43,\"\")","v":275},null,{"$f":"IF(Q39<>\"\",Q39-N39,\"\")","v":11},{"$f":"IF(Q39<>\"\",S39/(N39/100),\"\")","v":4.1666666666666661},{"$f":"IF(A43=\"\",\"\",VLOOKUP(MONTH(A43),'Beregn varme 2011'!A$2:I$13,9,FALSE))","v":7},378.28]
["2010-06-04",{"$f":"'2010'!E41","v":54577},null,null,null,null,null,null,{"$f":"IF(A44=\"\",\"\",VLOOKUP(MONTH(A44),T!A$1:B$12,2,FALSE))","v":"September"},30,11.2,null,"September",326,null,"September",{"$f":"IF(C44<>\"\",C44,\"\")","v":336},null,{"$f":"IF(Q40<>\"\",Q40-N40,\"\")","v":10},{"$f":"IF(Q40<>\"\",S40/(N40/100),\"\")","v":3.0674846625766872},{"$f":"IF(A44=\"\",\"\",VLOOKUP(MONTH(A44),'Beregn varme 2011'!A$2:I$13,9,FALSE))","v":8},432.32]
["2010-06-30",54918,{"$f":"IF(B41<>\"\",B41-B40,\"\")","v":341},"2010-12-31",57388,{"$f":"IF(E41<>\"\",E41-B46,\"\")","v":618},null,null,{"$f":"IF(A45=\"\",\"\",VLOOKUP(MONTH(A45),T!A$1:B$12,2,FALSE))","v":"Oktober"},31,13.580645161290322,null,"Oktober",453,null,"Oktober",{"$f":"IF(C45<>\"\",C45,\"\")","v":421},null,{"$f":"IF(Q41<>\"\",Q41-N41,\"\")","v":-32},{"$f":"IF(Q41<>\"\",S41/(N41/100),\"\")","v":-7.0640176600441498},{"$f":"IF(A45=\"\",\"\",VLOOKUP(MONTH(A45),'Beregn varme 2011'!A$2:I$13,9,FALSE))","v":9},486.36]
["2010-07-31",55194,276,"2011-01-31",58036,{"$f":"IF(E42<>\"\",E42-E41,\"\")","v":648},null,null,{"$f":"IF(A46=\"\",\"\",VLOOKUP(MONTH(A46),T!A$1:B$12,2,FALSE))","v":"November"},30,18.133333333333333,null,"November",477,null,"November",{"$f":"IF(C46<>\"\",C46,\"\")","v":544},null,{"$f":"IF(Q42<>\"\",Q42-N42,\"\")","v":67},14.046121593291407,{"$f":"IF(A46=\"\",\"\",VLOOKUP(MONTH(A46),'Beregn varme 2011'!A$2:I$13,9,FALSE))","v":9},486.36]
["2010-08-31",55469,275,"2011-02-28",58642,{"$f":"IF(E43<>\"\",E43-E42,\"\")","v":606},null,null,{"$f":"IF(D41=\"\",\"\",VLOOKUP(MONTH(D41),T!A$1:B$12,2,FALSE))","v":"December"},{"$f":"D41-A46","v":31},{"$f":"IF(F41<>\"\",F41/J43,\"\")","v":19.93548387096774},null,"December",549,null,"December",{"$f":"IF(F41<>\"\",F41,\"\")","v":618},null,69,12.568306010928961,{"$f":"IF(D41=\"\",\"\",VLOOKUP(MONTH(D41),'Beregn varme 2011'!A$2:I$13,9,FALSE))","v":10},540.4]
["2010-09-30",55805,336,"2011-03-31",59267,{"$f":"IF(E44<>\"\",E44-E43,\"\")","v":625},null,null,{"$f":"IF(D42=\"\",\"\",VLOOKUP(MONTH(D42),T!A$1:B$12,2,FALSE))","v":"Januar"},{"$f":"D42-D41","v":31},20.903225806451612,null,"Januar",614,null,"Januar",648,null,34,5.5374592833876228,{"$f":"IF(D42=\"\",\"\",VLOOKUP(MONTH(D42),'Beregn varme 2011'!A$2:I$13,9,FALSE))","v":10},540.4]
["2010-10-31",56226,421,"2011-04-30",59675,{"$f":"IF(E45<>\"\",E45-E44,\"\")","v":408},null,null,{"$f":"IF(D43=\"\",\"\",VLOOKUP(MONTH(D43),T!A$1:B$12,2,FALSE))","v":"Februar"},{"$f":"D43-D42","v":28},21.642857142857142,null,"Februar",596,null,"Februar",606,null,10,1.6778523489932886,{"$f":"IF(D43=\"\",\"\",VLOOKUP(MONTH(D43),'Beregn varme 2011'!A$2:I$13,9,FALSE))","v":9},486.36]
["2010-11-30",56770,544,"2011-05-31",60055,{"$f":"IF(E46<>\"\",E46-E45,\"\")","v":380},null,null,{"$f":"IF(D44=\"\",\"\",VLOOKUP(MONTH(D44),T!A$1:B$12,2,FALSE))","v":"Marts"},{"$f":"D44-D43","v":31},20.161290322580644,null,"Marts",586,null,"Marts",625,null,39,6.6552901023890785,{"$f":"IF(D44=\"\",\"\",VLOOKUP(MONTH(D44),'Beregn varme 2011'!A$2:I$13,9,FALSE))","v":9},486.36]
[null,null,null,"Års forbrug",null,{"$f":"SUM(C41:C46,F41:F46)","v":5478},null,null,{"$f":"IF(D45=\"\",\"\",VLOOKUP(MONTH(D45),T!A$1:B$12,2,FALSE))","v":"April"},{"$f":"D45-D44","v":30},13.6,null,"April",477,null,"April",408,null,-69,-14.465408805031448,{"$f":"IF(D45=\"\",\"\",VLOOKUP(MONTH(D45),'Beregn varme 2011'!A$2:I$13,9,FALSE))","v":8},432.32]
[null,null,null,null,null,null,null,null,{"$f":"IF(D46=\"\",\"\",VLOOKUP(MONTH(D46),T!A$1:B$12,2,FALSE))","v":"Maj"},{"$f":"D46-D45","v":31},12.258064516129032,null,"Maj",437,null,"Maj",380,null,-57,{"$f":"IF(Q48<>\"\",S48/(Q48/100),\"\")","v":-15},{"$f":"IF(D46=\"\",\"\",VLOOKUP(MONTH(D46),'Beregn varme 2011'!A$2:I$13,9,FALSE))","v":7},378.28]
[]
[null,null,null,null,null,null,null,null,"Hele året",{"$f":"D46-A40","v":361},{"$f":"F47/J50","v":15.174515235457063},null,"Års Total",5404,null,null,{"$f":"SUM(Q37:Q48)","v":5478},null,74,{"$f":"S50/(Q50/100)","v":1.3508579773640015},{"$f":"SUM(U37:U48)","v":100},{"$f":"SUM(V37:V48)","v":5403.9999999999991}]

{"sheet":"2011 2","index":13,"n_rows":50,"n_cols":23,"rows_kept":50,"cut":false,"hidden":true,"merged":[[0,21,0,22],[17,21,17,22],[34,21,34,22],[37,0,38,0],[35,0,36,7],[37,7,38,7],[1,0,1,7],[2,0,2,7],[3,1,3,7],[5,0,6,7],[7,0,8,0],[7,7,8,7],[23,0,24,7],[25,7,26,7],[25,0,26,0],[22,4,22,5],[46,4,46,5],[34,4,34,5],[28,1,28,2],[29,1,29,2],[30,1,30,2],[31,1,31,2],[32,1,32,2],[33,1,33,2],[43,1,43,2],[44,1,44,2],[7,4,8,4],[27,1,27,2],[45,1,45,2],[25,4,26,4],[26,1,26,2],[25,1,25,2],[37,4,38,4],[38,1,38,2],[37,1,37,2],[39,1,39,2],[40,1,40,2],[41,1,41,2],[42,1,42,2]]}
[null,null,null,null,null,null,null,null,null,null,null,null,null,2010,null,null,2011,null,null," +/-","%","Forventet forbrug"]
[{"$f":"System!A19","v":"Version: 2.0.2 / Bjarne Hansen"},null,null,null,null,null,null,null,null,"Olie","Dage","Liter pr dag",null,"Olie","Liter","%",null,"Liter","%","Liter",null,"%","Liter"]
["Aflæsningsskema til Olieforbrug samt EL og Vand",null,null,null,null,null,null,null,null,{"$f":"IF(A11=\"\",\"\",VLOOKUP(MONTH(A11),T!A$1:B$12,2,FALSE))","v":"November"},{"$f":"A11-A10","v":7},{"$f":"IF(G11<>\"\",G11/K3,\"\")","v":28.142857142857142},null,{"$f":"IF(A11=\"\",\"\",VLOOKUP(MONTH(A11),T!$A$1:$B$12,2,FALSE))","v":"November"},210,{"$f":"IF(O3=\"\",\"\",O3/(O$16/100))","v":13.962765957446809},{"$f":"IF(A11=\"\",\"\",VLOOKUP(MONTH(A11),T!$A$1:$B$12,2,FALSE))","v":"November"},{"$f":"G11","v":197},{"$f":"IF(R3=\"\",\"\",R3/(R$16/100))","v":42.826086956521742},{"$f":"IF(R3<>\"\",R3-O3,\"\")","v":-13},{"$f":"IF(R3<>\"\",T3/(O3/100),\"\")","v":-6.1904761904761898},{"$f":"IF(A11=\"\",\"\",VLOOKUP(MONTH(A11),'Beregn varme 2011'!A$2:G$13,7,FALSE))","v":11.631559497413155},{"$f":"IF(R3=\"\",\"\",VLOOKUP(MONTH(A11),'Beregn varme 2011'!A$2:F$13,6,FALSE))","v":174.93865484109384}]
["Navn :","Bjarne Hansen, Lyrsbyvej 31",null,null,null,null,null,null,null,{"$f":"IF(A12=\"\",\"\",VLOOKUP(MONTH(A12),T!A$1:B$12,2,FALSE))","v":"December"},{"$f":"IF(A12=\"\",\"\",A12-A11)","v":31},8.4838709677419359,null,{"$f":"IF(A12=\"\",\"\",VLOOKUP(MONTH(A12),T!A$1:B$12,2,FALSE))","v":"December"},172,11.436170212765958,{"$f":"IF(A12=\"\",\"\",VLOOKUP(MONTH(A12),T!$A$1:$B$12,2,FALSE))","v":"December"},263,57.173913043478265,{"$f":"IF(R4<>\"\",R4-O4,\"\")","v":91},{"$f":"IF(R4<>\"\",T4/(O4/100),\"\")","v":52.906976744186046},{"$f":"IF(A12=\"\",\"\",VLOOKUP(MONTH(A12),'Beregn varme 2011'!A$2:G$13,7,FALSE))","v":14.632298595713229},{"$f":"IF(R4=\"\",\"\",VLOOKUP(MONTH(A12),'Beregn varme 2011'!A$2:F$13,6,FALSE))","v":220.06977087952694}]
[null,null,null,null,null,null,null,null,null,{"$f":"IF(A13=\"\",\"\",VLOOKUP(MONTH(A13),T!A$1:B$12,2,FALSE))","v":""},"","",null,{"$f":"IF(A13=\"\",\"\",VLOOKUP(MONTH(A13),T!A$1:B$12,2,FALSE))","v":""},169,11.236702127659575,{"$f":"IF(A13=\"\",\"\",VLOOKUP(MONTH(A13),T!$A$1:$B$12,2,FALSE))","v":""},"","","","",{"$f":"IF(A13=\"\",\"\",VLOOKUP(MONTH(A13),'Beregn varme 2011'!A$2:G$13,7,FALSE))","v":""},{"$f":"IF(R5=\"\",\"\",VLOOKUP(MONTH(A13),'Beregn varme 2011'!A$2:F$13,6,FALSE))","v":""}]
["MÅNEDLIG PEJLING AF OLIETANK",null,null,null,null,null,null,null,null,{"$f":"IF(A14=\"\",\"\",VLOOKUP(MONTH(A14),T!A$1:B$12,2,FALSE))","v":""},"","",null,{"$f":"IF(A14=\"\",\"\",VLOOKUP(MONTH(A14),T!A$1:B$12,2,FALSE))","v":""},151,10.039893617021278,{"$f":"IF(A14=\"\",\"\",VLOOKUP(MONTH(A14),T!$A$1:$B$12,2,FALSE))","v":""},"","","","",{"$f":"IF(A14=\"\",\"\",VLOOKUP(MONTH(A14),'Beregn varme 2011'!A$2:G$13,7,FALSE))","v":""},{"$f":"IF(R6=\"\",\"\",VLOOKUP(MONTH(A14),'Beregn varme 2011'!A$2:F$13,6,FALSE))","v":""}]
[null,null,null,null,null,null,null,null,null,{"$f":"IF(A15=\"\",\"\",VLOOKUP(MONTH(A15),T!A$1:B$12,2,FALSE))","v":""},"","",null,{"$f":"IF(A15=\"\",\"\",VLOOKUP(MONTH(A15),T!A$1:B$12,2,FALSE))","v":""},96,6.3829787234042561,{"$f":"IF(A15=\"\",\"\",VLOOKUP(MONTH(A15),T!$A$1:$B$12,2,FALSE))","v":""},"","","","",{"$f":"IF(A15=\"\",\"\",VLOOKUP(MONTH(A15),'Beregn varme 2011'!A$2:G$13,7,FALSE))","v":""},{"$f":"IF(R7=\"\",\"\",VLOOKUP(MONTH(A15),'Beregn varme 2011'!A$2:F$13,6,FALSE))","v":""}]
["Dato","Pejling",null,"Fyldt på","Beholdning","Plads til","Forbrug","Bemærkning:",null,{"$f":"IF(A16=\"\",\"\",VLOOKUP(MONTH(A16),T!A$1:B$12,2,FALSE))","v":""},"","",null,{"$f":"IF(A16=\"\",\"\",VLOOKUP(MONTH(A16),T!A$1:B$12,2,FALSE))","v":""},62,4.1223404255319149,{"$f":"IF(A16=\"\",\"\",VLOOKUP(MONTH(A16),T!$A$1:$B$12,2,FALSE))","v":""},"","","","",{"$f":"IF(A16=\"\",\"\",VLOOKUP(MONTH(A16),'Beregn varme 2011'!A$2:G$13,7,FALSE))","v":""},{"$f":"IF(R8=\"\",\"\",VLOOKUP(MONTH(A16),'Beregn varme 2011'!A$2:F$13,6,FALSE))","v":""}]
[null,"i cm","Liter","Liter",null,"Liter","Liter",null,null,{"$f":"IF(A17=\"\",\"\",VLOOKUP(MONTH(A17),T!A$1:B$12,2,FALSE))","v":""},"","",null,{"$f":"IF(A17=\"\",\"\",VLOOKUP(MONTH(A17),T!A$1:B$12,2,FALSE))","v":""},{"$f":"'2010'!F12","v":40},2.6595744680851063,{"$f":"IF(A17=\"\",\"\",VLOOKUP(MONTH(A17),T!$A$1:$B$12,2,FALSE))","v":""},"","","","",{"$f":"IF(A17=\"\",\"\",VLOOKUP(MONTH(A17),'Beregn varme 2011'!A$2:G$13,7,FALSE))","v":""},{"$f":"IF(R9=\"\",\"\",VLOOKUP(MONTH(A17),'Beregn varme 2011'!A$2:F$13,6,FALSE))","v":""}]
["2011-11-23",111,{"$f":"IF(B10=\"\",\"\",VLOOKUP(B10,Pejletabel1800!A$3:B$201,2,FALSE))","v":1361},null,{"$f":"IF(C10<>\"\",SUM(C10:D10),\"\")","v":1361},{"$f":"IF(E10<>\"\",1800-E10,\"\")","v":439},null,"Beholdning 30 cm ved indflytning",null,{"$f":"IF(A18=\"\",\"\",VLOOKUP(MONTH(A18),T!A$1:B$12,2,FALSE))","v":""},"","",null,{"$f":"IF(A18=\"\",\"\",VLOOKUP(MONTH(A18),T!A$1:B$12,2,FALSE))","v":""},{"$f":"'2010'!F13","v":42},2.792553191489362,{"$f":"IF(A18=\"\",\"\",VLOOKUP(MONTH(A18),T!$A$1:$B$12,2,FALSE))","v":""},"","","","",{"$f":"IF(A18=\"\",\"\",VLOOKUP(MONTH(A18),'Beregn varme 2011'!A$2:G$13,7,FALSE))","v":""},{"$f":"IF(R10=\"\",\"\",VLOOKUP(MONTH(A18),'Beregn varme 2011'!A$2:F$13,6,FALSE))","v":""}]
["2011-11-30",96,{"$f":"IF(B11=\"\",\"\",VLOOKUP(B11,Pejletabel1800!A$3:B$201,2,FALSE))","v":1164},null,{"$f":"IF(C11<>\"\",C11+D11,\"\")","v":1164},{"$f":"IF(E11<>\"\",1800-E11,\"\")","v":636},{"$f":"IF(C11<>\"\",E10-C11,\"\")","v":197},null,null,{"$f":"IF(A19=\"\",\"\",VLOOKUP(MONTH(A19),T!A$1:B$12,2,FALSE))","v":""},"","",null,{"$f":"IF(A19=\"\",\"\",VLOOKUP(MONTH(A19),T!A$1:B$12,2,FALSE))","v":""},{"$f":"'2010'!F14","v":85},5.6515957446808516,{"$f":"IF(A19=\"\",\"\",VLOOKUP(MONTH(A19),T!$A$1:$B$12,2,FALSE))","v":""},"","","","",{"$f":"IF(A19=\"\",\"\",VLOOKUP(MONTH(A19),'Beregn varme 2011'!A$2:G$13,7,FALSE))","v":""},{"$f":"IF(R11=\"\",\"\",VLOOKUP(MONTH(A19),'Beregn varme 2011'!A$2:F$13,6,FALSE))","v":""}]
["2011-12-31",76,{"$f":"IF(B12=\"\",\"\",VLOOKUP(B12,Pejletabel1800!A$3:B$201,2,FALSE))","v":901},null,{"$f":"IF(C12<>\"\",C12+D12,\"\")","v":901},{"$f":"IF(E12<>\"\",1800-E12,\"\")","v":899},{"$f":"IF(C12<>\"\",E11-C12,\"\")","v":263},null,null,{"$f":"IF(A20=\"\",\"\",VLOOKUP(MONTH(A20),T!A$1:B$12,2,FALSE))","v":""},"","",null,{"$f":"IF(A20=\"\",\"\",VLOOKUP(MONTH(A20),T!A$1:B$12,2,FALSE))","v":""},{"$f":"'2010'!F15","v":102},6.7819148936170217,{"$f":"IF(A20=\"\",\"\",VLOOKUP(MONTH(A20),T!$A$1:$B$12,2,FALSE))","v":""},"","","","",{"$f":"IF(A20=\"\",\"\",VLOOKUP(MONTH(A20),'Beregn varme 2011'!A$2:G$13,7,FALSE))","v":""},{"$f":"IF(R12=\"\",\"\",VLOOKUP(MONTH(A20),'Beregn varme 2011'!A$2:F$13,6,FALSE))","v":""}]
[null,null,{"$f":"IF(B13=\"\",\"\",VLOOKUP(B13,Pejletabel1800!A$3:B$201,2,FALSE))","v":""},null,{"$f":"IF(C13<>\"\",C13+D13,\"\")","v":""},"","",null,null,{"$f":"IF(A21=\"\",\"\",VLOOKUP(MONTH(A21),T!A$1:B$12,2,FALSE))","v":""},"","",null,{"$f":"IF(A21=\"\",\"\",VLOOKUP(MONTH(A21),T!A$1:B$12,2,FALSE))","v":""},{"$f":"'2010'!F16","v":167},11.103723404255319,{"$f":"IF(A21=\"\",\"\",VLOOKUP(MONTH(A21),T!$A$1:$B$12,2,FALSE))","v":""},"","","","",{"$f":"IF(A21=\"\",\"\",VLOOKUP(MONTH(A21),'Beregn varme 2011'!A$2:G$13,7,FALSE))","v":""},{"$f":"IF(R13=\"\",\"\",VLOOKUP(MONTH(A21),'Beregn varme 2011'!A$2:F$13,6,FALSE))","v":""}]
[null,null,{"$f":"IF(B14=\"\",\"\",VLOOKUP(B14,Pejletabel1800!A$3:B$201,2,FALSE))","v":""},null,"","","",null,null,{"$f":"IF(A22=\"\",\"\",VLOOKUP(MONTH(A22),T!A$1:B$12,2,FALSE))","v":""},"","",null,{"$f":"IF(A22=\"\",\"\",VLOOKUP(MONTH(A22),T!A$1:B$12,2,FALSE))","v":""},{"$f":"'2010'!F17","v":208},13.829787234042554,{"$f":"IF(A22=\"\",\"\",VLOOKUP(MONTH(A22),T!$A$1:$B$12,2,FALSE))","v":""},"","","","",{"$f":"IF(A22=\"\",\"\",VLOOKUP(MONTH(A22),'Beregn varme 2011'!A$2:G$13,7,FALSE))","v":""},{"$f":"IF(R14=\"\",\"\",VLOOKUP(MONTH(A22),'Beregn varme 2011'!A$2:F$13,6,FALSE))","v":""}]
[null,null,{"$f":"IF(B15=\"\",\"\",VLOOKUP(B15,Pejletabel1800!A$3:B$201,2,FALSE))","v":""},null,"","",""]
[null,null,{"$f":"IF(B16=\"\",\"\",VLOOKUP(B16,Pejletabel1800!A$3:B$201,2,FALSE))","v":""},null,"","","",null,null,"Hele året",{"$f":"A12-A10","v":38},{"$f":"G23/K16","v":12.105263157894736},null,"Års Total",{"$f":"'2010'!F18","v":1504},{"$f":"SUM(P3:P14)","v":100.00000000000001},null,{"$f":"G23","v":460},null,{"$f":"IF(R16<>0,R16-O16,\"\")","v":-1044},{"$f":"IF(R16<>0,T16/(R16/100),\"\")","v":-226.95652173913047},{"$f":"SUM(V3:V14)","v":26.263858093126384},{"$f":"SUM(W3:W14)","v":395.00842572062078}]
[null,null,{"$f":"IF(B17=\"\",\"\",VLOOKUP(B17,Pejletabel1800!A$3:B$201,2,FALSE))","v":""},null,"","",""]
[null,null,{"$f":"IF(B18=\"\",\"\",VLOOKUP(B18,Pejletabel1800!A$3:B$201,2,FALSE))","v":""},null,"","","",null,null,null,null,null,null,2010,null,null,2011,null,null," +/-","%","Forventet forbrug"]
[null,null,{"$f":"IF(B19=\"\",\"\",VLOOKUP(B19,Pejletabel1800!A$3:B$201,2,FALSE))","v":""},null,"","","",null,null,"Vand","Dage","m³ pr. dag",null,"Vand","m³",null,null,"m³",null,"m³",null,"%","m³"]
[null,null,{"$f":"IF(B20=\"\",\"\",VLOOKUP(B20,Pejletabel1800!A$3:B$201,2,FALSE))","v":""},null,"","","",null,null,{"$f":"IF(A29=\"\",\"\",VLOOKUP(MONTH(A29),T!A$1:B$12,2,FALSE))","v":"November"},{"$f":"A29-A28","v":7},{"$f":"IF(D29<>\"\",D29/K20,\"\")","v":0.14285714285714285},null,{"$f":"IF(A29=\"\",\"\",VLOOKUP(MONTH(A29),T!A$1:B$12,2,FALSE))","v":"November"},10,null,"Januar",{"$f":"D29","v":1},null,{"$f":"IF(R20<>\"\",R20-O20,\"\")","v":-9},{"$f":"IF(T20<>\"\",T20/(O20/100),\"\")","v":-90},{"$f":"IF(A28=\"\",\"\",VLOOKUP(MONTH(A28),'Beregn varme 2011'!A$2:H$13,8,FALSE))","v":8.2191780821917799},{"$f":"IF(R20=\"\",\"\",O$33/100*V20)","v":8.0547945205479436}]
[null,null,{"$f":"IF(B21=\"\",\"\",VLOOKUP(B21,Pejletabel1800!A$3:B$201,2,FALSE))","v":""},null,"",{"$f":"IF(E21<>\"\",1200-E21,\"\")","v":""},"",null,null,{"$f":"IF(A30=\"\",\"\",VLOOKUP(MONTH(A30),T!A$1:B$12,2,FALSE))","v":"December"},{"$f":"IF(A30=\"\",\"\",A30-A29)","v":31},0.16129032258064516,null,{"$f":"IF(A30=\"\",\"\",VLOOKUP(MONTH(A30),T!A$1:B$12,2,FALSE))","v":"December"},9,null,"Februar",5,null,{"$f":"IF(R21<>\"\",R21-O21,\"\")","v":-4},{"$f":"IF(T21<>\"\",T21/(O21/100),\"\")","v":-44.444444444444443},{"$f":"IF(A29=\"\",\"\",VLOOKUP(MONTH(A29),'Beregn varme 2011'!A$2:H$13,8,FALSE))","v":8.2191780821917799},8.0547945205479436]
[null,null,{"$f":"IF(B22=\"\",\"\",VLOOKUP(B22,Pejletabel1800!A$3:B$201,2,FALSE))","v":""},null,"","","",null,null,{"$f":"IF(A31=\"\",\"\",VLOOKUP(MONTH(A31),T!A$1:B$12,2,FALSE))","v":""},{"$f":"IF(A31=\"\",\"\",A31-A30)","v":""},"",null,{"$f":"IF(A31=\"\",\"\",VLOOKUP(MONTH(A31),T!A$1:B$12,2,FALSE))","v":""},10,null,"Marts","",null,"","",{"$f":"IF(A30=\"\",\"\",VLOOKUP(MONTH(A30),'Beregn varme 2011'!A$2:H$13,8,FALSE))","v":8.493150684931507},""]
[null,null,null,null,"Års forbrug",null,{"$f":"SUM(G11:G22)","v":460},null,null,{"$f":"IF(A32=\"\",\"\",VLOOKUP(MONTH(A32),T!A$1:B$12,2,FALSE))","v":""},{"$f":"IF(A32=\"\",\"\",A32-A31)","v":""},"",null,{"$f":"IF(A32=\"\",\"\",VLOOKUP(MONTH(A32),T!A$1:B$12,2,FALSE))","v":""},9,null,"April","",null,"","",{"$f":"IF(A31=\"\",\"\",VLOOKUP(MONTH(A31),'Beregn varme 2011'!A$2:H$13,8,FALSE))","v":""},""]
["MÅNEDLIG AFLÆSNING AF VANDMÅLER",null,null,null,null,null,null,null,null,{"$f":"IF(A33=\"\",\"\",VLOOKUP(MONTH(A33),T!A$1:B$12,2,FALSE))","v":""},{"$f":"IF(A33=\"\",\"\",A33-A32)","v":""},"",null,{"$f":"IF(A33=\"\",\"\",VLOOKUP(MONTH(A33),T!A$1:B$12,2,FALSE))","v":""},8,null,"Maj","",null,"","",{"$f":"IF(A32=\"\",\"\",VLOOKUP(MONTH(A32),'Beregn varme 2011'!A$2:H$13,8,FALSE))","v":""},""]
[null,null,null,null,null,null,null,null,null,{"$f":"IF(A34=\"\",\"\",VLOOKUP(MONTH(A34),T!A$1:B$12,2,FALSE))","v":""},{"$f":"IF(E29=\"\",\"\",A34-E29)","v":""},"",null,"Juni",9,null,"Juni","",null,"","",{"$f":"IF(A33=\"\",\"\",VLOOKUP(MONTH(A33),'Beregn varme 2011'!A$2:H$13,8,FALSE))","v":""},""]
["Dato","Aflæst",null,"Forbrug","Dato","Aflæst","Forbrug","Bemærkning:",null,{"$f":"IF(E29=\"\",\"\",VLOOKUP(MONTH(E29),T!A$1:B$12,2,FALSE))","v":""},{"$f":"IF(E29=\"\",\"\",E29-A34)","v":""},{"$f":"IF(G29<>\"\",G29/K26,\"\")","v":""},null,"Juli",{"$f":"'2010'!F24","v":10},null,"Juli",{"$f":"G29","v":""},null,"","",{"$f":"IF(A34=\"\",\"\",VLOOKUP(MONTH(A34),'Beregn varme 2011'!A$2:H$13,8,FALSE))","v":""},""]
[null,"m³",null,"m³",null,"m³","m³",null,null,{"$f":"IF(E30=\"\",\"\",VLOOKUP(MONTH(E30),T!A$1:B$12,2,FALSE))","v":""},{"$f":"IF(E30=\"\",\"\",E30-E29)","v":""},"",null,"August",{"$f":"'2010'!F25","v":7},null,"August","",null,"","",{"$f":"IF(E29=\"\",\"\",VLOOKUP(MONTH(E29),'Beregn varme 2011'!A$2:H$13,8,FALSE))","v":""},""]
["2011-11-23",1519,null,null,null,null,null,null,null,{"$f":"IF(E31=\"\",\"\",VLOOKUP(MONTH(E31),T!A$1:B$12,2,FALSE))","v":""},{"$f":"IF(E31=\"\",\"\",E31-E30)","v":""},"",null,"September",{"$f":"'2010'!P28","v":7},null,"September","",null,"","",{"$f":"IF(E30=\"\",\"\",VLOOKUP(MONTH(E30),'Beregn varme 2011'!A$2:H$13,8,FALSE))","v":""},""]
["2011-11-30",1520,null,{"$f":"IF(B29<>\"\",B29-B28,\"\")","v":1},null,null,{"$f":"IF(F29<>\"\",F29-C34,\"\")","v":""},null,null,{"$f":"IF(E32=\"\",\"\",VLOOKUP(MONTH(E32),T!A$1:B$12,2,FALSE))","v":""},{"$f":"IF(E32=\"\",\"\",E32-E31)","v":""},"",null,"Oktober",{"$f":"'2010'!P29","v":8},null,"Oktober","",null,"","",{"$f":"IF(E31=\"\",\"\",VLOOKUP(MONTH(E31),'Beregn varme 2011'!A$2:H$13,8,FALSE))","v":""},""]
["2011-12-31",1525,null,{"$f":"IF(B30<>\"\",B30-B29,\"\")","v":5},null,null,{"$f":"IF(F30<>\"\",F30-F29,\"\")","v":""},null,null,{"$f":"IF(E33=\"\",\"\",VLOOKUP(MONTH(E33),T!A$1:B$12,2,FALSE))","v":""},{"$f":"IF(E33=\"\",\"\",E33-E32)","v":""},"",null,"November",{"$f":"'2010'!P30","v":7},null,"November","",null,"","",{"$f":"IF(E32=\"\",\"\",VLOOKUP(MONTH(E32),'Beregn varme 2011'!A$2:H$13,8,FALSE))","v":""},""]
[null,null,null,"",null,null,{"$f":"IF(F31<>\"\",F31-F30,\"\")","v":""},null,null,{"$f":"IF(E34=\"\",\"\",VLOOKUP(MONTH(E34),T!A$1:B$12,2,FALSE))","v":""},{"$f":"IF(E34=\"\",\"\",E34-E33)","v":""},"",null,"December",{"$f":"'2010'!P31","v":4},null,"December","",null,"","",{"$f":"IF(E33=\"\",\"\",VLOOKUP(MONTH(E33),'Beregn varme 2011'!A$2:H$13,8,FALSE))","v":""},""]
[null,null,null,"",null,null,{"$f":"IF(F32<>\"\",F32-F31,\"\")","v":""}]
[null,null,null,"",null,null,{"$f":"IF(F33<>\"\",F33-F32,\"\")","v":""},null,null,"Hele året",{"$f":"A30-A28","v":38},{"$f":"G35/K33","v":0.15789473684210525},null,"Års Total",{"$f":"SUM(O20:O31)","v":98},null,null,{"$f":"G35","v":6},null,{"$f":"IF(R33<>0,R33-O33,\"\")","v":-92},{"$f":"IF(T33<>\"\",T33/(R33/100),\"\")","v":-1533.3333333333335},{"$f":"SUM(V20:V31)","v":24.931506849315067},{"$f":"SUM(W20:W31)","v":16.109589041095887}]
[null,null,null,{"$f":"IF(C34<>\"\",C34-C33,\"\")","v":""},null,null,{"$f":"IF(F34<>\"\",F34-F33,\"\")","v":""}]
[null,null,null,null,"Års forbrug",null,{"$f":"SUM(D29:D34,G29:G34)","v":6},null,null,null,null,null,null,"2009/2010",null,null,"2010/2011",null,null," +/-","%","Forventet forbrug"]
["MÅNEDLIG AFLÆSNING AF ELMÅLER",null,null,null,null,null,null,null,null,"EL","Dage","KWh pr. dag",null,"EL","KWh",null,null,"KWh",null,"KWh",null,"%","KWh"]
[null,null,null,null,null,null,null,null,null,{"$f":"IF(A41=\"\",\"\",VLOOKUP(MONTH(A41),T!A$1:B$12,2,FALSE))","v":"November"},{"$f":"A41-A40","v":7},{"$f":"IF(D41<>\"\",D41/K37,\"\")","v":9.2857142857142865},null,"Juni",334,null,"Juni",{"$f":"D41","v":65},null,{"$f":"IF(R37=\"\",\"\",R37-O37)","v":-269},{"$f":"IF(R37<>\"\",T37/(O37/100),\"\")","v":-80.538922155688624},{"$f":"IF(A41=\"\",\"\",VLOOKUP(MONTH(A41),'Beregn varme 2011'!A$2:I$13,9,FALSE))","v":9},{"$f":"IF(R37=\"\",\"\",O$50/100*V37)","v":486.36}]
["Dato","Aflæst",null,"Forbrug","Dato","Aflæst","Forbrug","Bemærkning:",null,{"$f":"IF(A42=\"\",\"\",VLOOKUP(MONTH(A42),T!A$1:B$12,2,FALSE))","v":"December"},31,10.612903225806452,null,"Juli",291,null,"Juli",{"$f":"IF(D42<>\"\",D42,\"\")","v":329},null,{"$f":"IF(R38<>\"\",R38-O38,\"\")","v":38},{"$f":"IF(R38<>\"\",T38/(O38/100),\"\")","v":13.058419243986254},{"$f":"IF(A42=\"\",\"\",VLOOKUP(MONTH(A42),'Beregn varme 2011'!A$2:I$13,9,FALSE))","v":10},540.4]
[null,"KWh",null,"KWh",null,"KWh","KWh",null,null,{"$f":"IF(A43=\"\",\"\",VLOOKUP(MONTH(A43),T!A$1:B$12,2,FALSE))","v":"Januar"},{"$f":"IF(A43=\"\",\"\",A43-A42)","v":31},13.419354838709678,null,"August",264,null,"August",{"$f":"IF(D43<>\"\",D43,\"\")","v":416},null,{"$f":"IF(R39<>\"\",R39-O39,\"\")","v":152},{"$f":"IF(R39<>\"\",T39/(O39/100),\"\")","v":57.575757575757571},{"$f":"IF(A43=\"\",\"\",VLOOKUP(MONTH(A43),'Beregn varme 2011'!A$2:I$13,9,FALSE))","v":10},540.4]
["2011-11-23",14803,null,null,null,null,null,{"$f":"IF(G40<>\"\",G40-D45,\"\")","v":""},null,{"$f":"IF(A44=\"\",\"\",VLOOKUP(MONTH(A44),T!A$1:B$12,2,FALSE))","v":"Februar"},{"$f":"IF(A44=\"\",\"\",A44-A43)","v":29},13.931034482758621,null,"September",326,null,"September",{"$f":"IF(D44<>\"\",D44,\"\")","v":404},null,{"$f":"IF(R40<>\"\",R40-O40,\"\")","v":78},{"$f":"IF(R40<>\"\",T40/(O40/100),\"\")","v":23.926380368098162},{"$f":"IF(A44=\"\",\"\",VLOOKUP(MONTH(A44),'Beregn varme 2011'!A$2:I$13,9,FALSE))","v":9},486.36]
["2011-11-30",14868,null,{"$f":"IF(B41<>\"\",B41-B40,\"\")","v":65},"2012-05-31",null,{"$f":"IF(F41<>\"\",F41-C46,\"\")","v":""},"",null,{"$f":"IF(A45=\"\",\"\",VLOOKUP(MONTH(A45),T!A$1:B$12,2,FALSE))","v":"Marts"},{"$f":"IF(A45=\"\",\"\",A45-A44)","v":31},"",null,"Oktober",453,null,"Oktober",{"$f":"IF(D45<>\"\",D45,\"\")","v":""},null,{"$f":"IF(R41<>\"\",R41-O41,\"\")","v":""},{"$f":"IF(R41<>\"\",T41/(O41/100),\"\")","v":""},{"$f":"IF(A45=\"\",\"\",VLOOKUP(MONTH(A45),'Beregn varme 2011'!A$2:I$13,9,FALSE))","v":9},""]
["2011-12-31",15197,null,{"$f":"IF(B42<>\"\",B42-B41,\"\")","v":329},"2012-06-30",null,{"$f":"IF(F42<>\"\",F42-F41,\"\")","v":""},"",null,{"$f":"IF(A46=\"\",\"\",VLOOKUP(MONTH(A46),T!A$1:B$12,2,FALSE))","v":"April"},30,"",null,"November",477,null,"November",{"$f":"IF(D46<>\"\",D46,\"\")","v":""},null,{"$f":"IF(R42<>\"\",R42-O42,\"\")","v":""},"",{"$f":"IF(A46=\"\",\"\",VLOOKUP(MONTH(A46),'Beregn varme 2011'!A$2:I$13,9,FALSE))","v":8},""]
["2012-01-31",15613,null,{"$f":"IF(B43<>\"\",B43-B42,\"\")","v":416},"2012-07-31",null,{"$f":"IF(F43<>\"\",F43-F42,\"\")","v":""},"",null,{"$f":"IF(E41=\"\",\"\",VLOOKUP(MONTH(E41),T!A$1:B$12,2,FALSE))","v":"Maj"},{"$f":"IF(E41=\"\",\"\",E41-A46)","v":31},{"$f":"IF(G41<>\"\",G41/K43,\"\")","v":""},null,"December",549,null,"December",{"$f":"IF(G41<>\"\",G41,\"\")","v":""},null,"","",{"$f":"IF(E41=\"\",\"\",VLOOKUP(MONTH(E41),'Beregn varme 2011'!A$2:I$13,9,FALSE))","v":7},""]
["2012-02-29",16017,null,{"$f":"IF(B44<>\"\",B44-B43,\"\")","v":404},null,null,{"$f":"IF(F44<>\"\",F44-F43,\"\")","v":""},"",null,{"$f":"IF(E42=\"\",\"\",VLOOKUP(MONTH(E42),T!A$1:B$12,2,FALSE))","v":"Juni"},{"$f":"IF(E42=\"\",\"\",E42-E41)","v":30},"",null,"Januar",614,null,"Januar","",null,"","",{"$f":"IF(E42=\"\",\"\",VLOOKUP(MONTH(E42),'Beregn varme 2011'!A$2:I$13,9,FALSE))","v":7},""]
["2012-03-31",null,null,{"$f":"IF(C45<>\"\",C45-C44,\"\")","v":""},null,null,{"$f":"IF(F45<>\"\",F45-F44,\"\")","v":""},"",null,{"$f":"IF(E43=\"\",\"\",VLOOKUP(MONTH(E43),T!A$1:B$12,2,FALSE))","v":"Juli"},{"$f":"IF(E43=\"\",\"\",E43-E42)","v":31},"",null,"Februar",596,null,"Februar","",null,"","",{"$f":"IF(E43=\"\",\"\",VLOOKUP(MONTH(E43),'Beregn varme 2011'!A$2:I$13,9,FALSE))","v":7},""]
["2012-04-30",null,null,"",null,null,{"$f":"IF(F46<>\"\",F46-F45,\"\")","v":""},"",null,{"$f":"IF(E44=\"\",\"\",VLOOKUP(MONTH(E44),T!A$1:B$12,2,FALSE))","v":""},{"$f":"IF(E44=\"\",\"\",E44-E43)","v":""},"",null,"Marts",586,null,"Marts","",null,"","",{"$f":"IF(E44=\"\",\"\",VLOOKUP(MONTH(E44),'Beregn varme 2011'!A$2:I$13,9,FALSE))","v":""},""]
[null,null,null,null,"Års forbrug",null,{"$f":"SUM(D41:D46,G41:G46)","v":1214},null,null,{"$f":"IF(E45=\"\",\"\",VLOOKUP(MONTH(E45),T!A$1:B$12,2,FALSE))","v":""},{"$f":"IF(E45=\"\",\"\",E45-E44)","v":""},"",null,"April",477,null,"April","",null,"","",{"$f":"IF(E45=\"\",\"\",VLOOKUP(MONTH(E45),'Beregn varme 2011'!A$2:I$13,9,FALSE))","v":""},""]
[null,null,null,null,null,null,null,null,null,{"$f":"IF(E46=\"\",\"\",VLOOKUP(MONTH(E46),T!A$1:B$12,2,FALSE))","v":""},{"$f":"IF(E46=\"\",\"\",E46-E45)","v":""},"",null,"Maj",437,null,"Maj","",null,"",{"$f":"IF(R48<>\"\",T48/(R48/100),\"\")","v":""},{"$f":"IF(E46=\"\",\"\",VLOOKUP(MONTH(E46),'Beregn varme 2011'!A$2:I$13,9,FALSE))","v":""},""]
[]
[null,null,null,null,null,null,null,null,null,"Hele året",{"$f":"SUM(K37:K48)","v":251},{"$f":"G47/K50","v":4.8366533864541834},null,"Års Total",5404,null,null,{"$f":"SUM(R37:R48)","v":1214},null,{"$f":"R50-O50","v":-4190},{"$f":"T50/(R50/100)","v":-345.14003294892916},{"$f":"SUM(V37:V48)","v":76},{"$f":"SUM(W37:W48)","v":2053.52}]

{"sheet":"Beregn varme 2011","index":14,"n_rows":14,"n_cols":18,"rows_kept":14,"cut":false,"hidden":true,"merged":[[4,13,4,14],[5,13,5,14],[6,13,6,14],[7,13,7,14]]}
["måned","Normal års graddage fra HNG","%","liter pr mdr til opvarmnig","pr md til varmt vand","liter i alt pr md","% pr md","% pr md vand","% pr md EL","Normal års graddage fra DTI","%","RVV","%"]
[1,485,{"$f":"B2/(B$14/100)","v":17.923133776792316},{"$f":"('2010'!F$18-('2010'!F$18/100*$P$6))/100*C2","v":188.69475240206947},{"$f":"P$5/100*P$6/12","v":37.6},{"$f":"SUM(D2:E2)","v":226.29475240206946},{"$f":"F2/(F$14/100)","v":15.04619364375462},{"$f":"31*R7","v":8.493150684931507},10,525,{"$f":"J2/(J$14/100)","v":18.066070199587063},519,{"$f":"L2/(L$14/100)","v":16.677377892030847}]
[2,434,{"$f":"B3/(B$14/100)","v":16.038433111603844},{"$f":"('2010'!F$18-('2010'!F$18/100*$P$6))/100*C3","v":168.85262379896525},{"$f":"P$5/100*P$6/12","v":37.6},{"$f":"SUM(D3:E3)","v":206.45262379896525},{"$f":"F3/(F$14/100)","v":13.72690317812269},{"$f":"28*R7","v":7.6712328767123283},9,480,{"$f":"J3/(J$14/100)","v":16.517549896765313},486,{"$f":"L3/(L$14/100)","v":15.616966580976863}]
[3,429,15.853658536585366,{"$f":"('2010'!F$18-('2010'!F$18/100*$P$6))/100*C4","v":166.9073170731707},37.6,204.5073170731707,13.597560975609754,{"$f":"31*R7","v":8.493150684931507},9,460,15.829318651066759,444,14.267352185089974]
[4,249,9.2017738359201786,{"$f":"('2010'!F$18-('2010'!F$18/100*$P$6))/100*C5","v":96.876274944567626},37.6,134.47627494456762,8.9412416851441243,{"$f":"30*R7","v":8.2191780821917799},8,302,10.392291810048176,311,9.9935732647814906,"forventetforbrug",null,{"$f":"'2010'!F18","v":1504},"liter"]
[5,58,2.1433850702143387,{"$f":"('2010'!F$18-('2010'!F$18/100*$P$6))/100*C6","v":22.565558019216553},37.6,60.165558019216554,4.0003695491500375,{"$f":"31*R7","v":8.493150684931507},7,79,2.7185134205092911,154,4.948586118251928,"% til varmt vand",null,30]
[6,0,0,{"$f":"('2010'!F$18-('2010'!F$18/100*$P$6))/100*C7","v":0},37.6,37.6,2.5000000000000004,{"$f":"30*R7","v":8.2191780821917799},7,1,3.4411562284927734E-2,58,1.8637532133676091,"til varmt vand",null,{"$f":"P5/100*P6/12","v":37.6},{"$f":"P7/12","v":3.1333333333333333},{"$f":"100/365","v":0.27397260273972601}]
[7,0,0,{"$f":"('2010'!F$18-('2010'!F$18/100*$P$6))/100*C8","v":0},37.6,37.6,2.5000000000000004,{"$f":"31*R7","v":8.493150684931507},7,0,0,22,0.70694087403598971,"til varme",null,{"$f":"$P$9-($P$9/100*$P$10)","v":0}]
[8,0,0,{"$f":"('2010'!F$18-('2010'!F$18/100*$P$6))/100*C9","v":0},37.6,37.6,2.5000000000000004,{"$f":"31*R7","v":8.493150684931507},7,0,0,18,0.57840616966580971]
[9,26,0.96082779009608288,{"$f":"('2010'!F$18-('2010'!F$18/100*$P$6))/100*C10","v":10.115594974131559},37.6,47.715594974131562,3.1725794530672582,{"$f":"30*R7","v":8.2191780821917799},8,36,1.2388162422573985,91,2.9241645244215939]
[10,203,7.5018477457501849,{"$f":"('2010'!F$18-('2010'!F$18/100*$P$6))/100*C11","v":78.979453067257936},37.6,116.57945306725793,7.7512934220251291,{"$f":"31*R7","v":8.493150684931507},9,219,7.5361321403991743,207,6.6516709511568122]
[11,353,13.045084996304508,{"$f":"('2010'!F$18-('2010'!F$18/100*$P$6))/100*C12","v":137.33865484109384},37.6,174.93865484109384,11.631559497413155,{"$f":"30*R7","v":8.2191780821917799},9,349,12.009635237439781,341,10.95758354755784]
[12,469,17.331855136733186,{"$f":"('2010'!F$18-('2010'!F$18/100*$P$6))/100*C13","v":182.46977087952695},37.6,220.06977087952694,14.632298595713229,{"$f":"31*R7","v":8.493150684931507},10,455,15.65726083964212,461,14.813624678663238]
["check",{"$f":"SUM(B2:B13)","v":2706},{"$f":"SUM(C2:C13)","v":100},1052.8,451.2000000000001,1504,99.999999999999986,{"$f":"SUM(H2:H13)","v":99.999999999999986},100,{"$f":"SUM(J2:J13)","v":2906},100,3112,100]

{"sheet":"2017","index":15,"n_rows":50,"n_cols":23,"rows_kept":50,"cut":false,"hidden":false,"merged":[[43,4,44,4],[33,1,33,2],[34,1,34,2],[34,9,34,11],[34,21,34,22],[35,1,35,2],[36,1,36,2],[37,1,37,2],[38,1,38,2],[39,1,39,2],[40,0,40,2],[40,4,40,5],[32,1,32,2],[22,4,22,5],[23,0,24,3],[23,4,24,6],[23,7,24,7],[25,0,26,0],[25,1,25,2],[25,4,26,4],[26,1,26,2],[27,1,27,2],[28,1,28,2],[29,1,29,2],[30,1,30,2],[31,1,31,2],[17,21,17,22],[0,0,0,2],[0,9,0,11],[0,21,0,22],[1,0,1,7],[2,0,2,7],[3,1,3,7],[5,0,6,7],[7,0,8,0],[7,4,8,4],[7,7,8,7],[17,9,17,11]]}
["Vælg årstal:",null,null,2017,null,null,null,null,null,"Olie",null,null,null,{"$f":"Q1-1","v":2016},null,null,{"$f":"D1","v":2017},null,null," +/-","%","Forventet forbrug"]
[{"$f":"System!A19","v":"Version: 2.0.2 / Bjarne Hansen"},null,null,null,null,null,null,null,null,"Måned","Dage","Liter pr dag",null,"Olie","Liter","%",null,"Liter","%","Liter",null,"%","Liter"]
["Aflæsningsskema til Olieforbrug samt EL og Vand",null,null,null,null,null,null,null,null,{"$f":"IF(A11=\"\",\"\",VLOOKUP(MONTH(A11),T!A$1:B$12,2,FALSE))","v":"Januar"},{"$f":"A11-A10","v":31},{"$f":"IF(G11<>\"\",G11/K3,\"\")","v":""},null,{"$f":"IF(A11=\"\",\"\",VLOOKUP(MONTH(A11),T!$A$1:$B$12,2,FALSE))","v":"Januar"},{"$f":"INDIRECT(\"'\"&$N$1&\"'!g11\")","v":""},{"$f":"IF(O3=\"\",\"\",O3/(O$16/100))","v":""},{"$f":"IF(A11=\"\",\"\",VLOOKUP(MONTH(A11),T!$A$1:$B$12,2,FALSE))","v":"Januar"},{"$f":"G11","v":""},{"$f":"IF(R3=\"\",\"\",R3/(R$16/100))","v":""},{"$f":"IF(R3<>\"\",R3-O3,\"\")","v":""},{"$f":"IF(AND(R3<>\"\",O3<>0),T3/(O3/100),\"  -  \")","v":"  -  "},{"$f":"IF(A11=\"\",\"\",VLOOKUP(MONTH(A11),INDIRECT(\"'Beregn varme \"&$Q$1&\"'!A2:R13\"),15,FALSE))","v":15.366360130525067},{"$f":"IF(R3=\"\",\"\",VLOOKUP(MONTH(A11),INDIRECT(\"'Beregn varme \"&Q1&\"'!A2:R13\"),16,FALSE))","v":""}]
["Navn :","Bjarne Hansen, Lyrsbyvej 31",null,null,null,null,null,null,null,{"$f":"IF(A12=\"\",\"\",VLOOKUP(MONTH(A12),T!A$1:B$12,2,FALSE))","v":"Februar"},{"$f":"IF(A12=\"\",\"\",A12-A11)","v":28},"",null,{"$f":"IF(A12=\"\",\"\",VLOOKUP(MONTH(A12),T!A$1:B$12,2,FALSE))","v":"Februar"},{"$f":"INDIRECT(\"'\"&$N$1&\"'!g12\")","v":""},"",{"$f":"IF(A12=\"\",\"\",VLOOKUP(MONTH(A12),T!$A$1:$B$12,2,FALSE))","v":"Februar"},"","",{"$f":"IF(R4<>\"\",R4-O4,\"\")","v":""},{"$f":"IF(AND(R4<>\"\",O4<>0),T4/(O4/100),\"  -  \")","v":"  -  "},{"$f":"IF(A12=\"\",\"\",VLOOKUP(MONTH(A12),INDIRECT(\"'Beregn varme \"&$Q$1&\"'!A2:R13\"),15,FALSE))","v":14.684070008899436},{"$f":"IF(R4=\"\",\"\",VLOOKUP(MONTH(A12),INDIRECT(\"'Beregn varme \"&$Q$1&\"'!A2:R13\"),16,FALSE))","v":""}]
["Tankstørrelse:",null,{"$f":"System!F8","v":1800},"Liter",null,null,null,null,null,{"$f":"IF(A13=\"\",\"\",VLOOKUP(MONTH(A13),T!A$1:B$12,2,FALSE))","v":"Marts"},31,"",null,{"$f":"IF(A13=\"\",\"\",VLOOKUP(MONTH(A13),T!A$1:B$12,2,FALSE))","v":"Marts"},{"$f":"INDIRECT(\"'\"&$N$1&\"'!g13\")","v":""},"",{"$f":"IF(A13=\"\",\"\",VLOOKUP(MONTH(A13),T!$A$1:$B$12,2,FALSE))","v":"Marts"},"","","","  -  ",14.268762978344704,{"$f":"IF(R5=\"\",\"\",VLOOKUP(MONTH(A13),INDIRECT(\"'Beregn varme \"&$Q$1&\"'!A2:R13\"),16,FALSE))","v":""}]
["MÅNEDLIG PEJLING AF OLIETANK",null,null,null,null,null,null,null,null,{"$f":"IF(A14=\"\",\"\",VLOOKUP(MONTH(A14),T!A$1:B$12,2,FALSE))","v":"April"},30,"",null,{"$f":"IF(A14=\"\",\"\",VLOOKUP(MONTH(A14),T!A$1:B$12,2,FALSE))","v":"April"},{"$f":"INDIRECT(\"'\"&$N$1&\"'!g14\")","v":""},"",{"$f":"IF(A14=\"\",\"\",VLOOKUP(MONTH(A14),T!$A$1:$B$12,2,FALSE))","v":"April"},"","","","  -  ",11.094630673390684,{"$f":"IF(R6=\"\",\"\",VLOOKUP(MONTH(A14),INDIRECT(\"'Beregn varme \"&$Q$1&\"'!A2:R13\"),16,FALSE))","v":""}]
[null,null,null,null,null,null,null,null,null,{"$f":"IF(A15=\"\",\"\",VLOOKUP(MONTH(A15),T!A$1:B$12,2,FALSE))","v":"Maj"},31,"",null,{"$f":"IF(A15=\"\",\"\",VLOOKUP(MONTH(A15),T!A$1:B$12,2,FALSE))","v":"Maj"},{"$f":"INDIRECT(\"'\"&$N$1&\"'!g15\")","v":""},"",{"$f":"IF(A15=\"\",\"\",VLOOKUP(MONTH(A15),T!$A$1:$B$12,2,FALSE))","v":"Maj"},"","","","  -  ",7.0008899436369028,{"$f":"IF(R7=\"\",\"\",VLOOKUP(MONTH(A15),INDIRECT(\"'Beregn varme \"&$Q$1&\"'!A2:R13\"),16,FALSE))","v":""}]
["Dato","Pejling",null,"Fyldt på","Beholdning","Plads til","Forbrug","Bemærkning:",null,{"$f":"IF(A16=\"\",\"\",VLOOKUP(MONTH(A16),T!A$1:B$12,2,FALSE))","v":"Juni"},30,"",null,{"$f":"IF(A16=\"\",\"\",VLOOKUP(MONTH(A16),T!A$1:B$12,2,FALSE))","v":"Juni"},{"$f":"INDIRECT(\"'\"&$N$1&\"'!g16\")","v":""},"",{"$f":"IF(A16=\"\",\"\",VLOOKUP(MONTH(A16),T!$A$1:$B$12,2,FALSE))","v":"Juni"},"","","","  -  ",2.6698309107089884,""]
[null,"i cm","Liter","Liter",null,"Liter","Liter",null,null,{"$f":"IF(A17=\"\",\"\",VLOOKUP(MONTH(A17),T!A$1:B$12,2,FALSE))","v":"Juli"},31,"",null,{"$f":"IF(A17=\"\",\"\",VLOOKUP(MONTH(A17),T!A$1:B$12,2,FALSE))","v":"Juli"},{"$f":"INDIRECT(\"'\"&$N$1&\"'!g17\")","v":""},"",{"$f":"IF(A17=\"\",\"\",VLOOKUP(MONTH(A17),T!$A$1:$B$12,2,FALSE))","v":"Juli"},"","","","  -  ",0.59329575793533074,""]
[{"$f":"DATE($D$1-1,Setup!$D$2,Setup!$C$2)","v":"2016-12-31"},{"$f":"INDIRECT(\"'\"&$N$1&\"'!b22\")","v":0},{"$f":"IF(B10=\"\",\"\",IF(System!E$8=1,VLOOKUP(B10,Pejletabel!A$3:G$336,2,FALSE),IF(System!E$8=2,VLOOKUP(B10,Pejletabel!A$3:G$357,3,FALSE),IF(System!E$8=3,VLOOKUP(B10,Pejletabel!A$3:G$357,4,FALSE),IF(System!E$8=4,VLOOKUP(B10,Pejletabel!A$3:G$357,5,FALSE),IF(System!E8=5,VLOOKUP(B10,Pejletabel!A3:G358,6,FALSE),IF(System!E$8=6,VLOOKUP(B10,Pejletabel!A$3:G$357,7,FALSE))))))))","v":0},null,{"$f":"IF(C10<>\"\",SUM(C10:D10),\"\")","v":0},{"$f":"IF(E10<>\"\",System!F$8-E10,\"\")","v":1800},null,null,null,{"$f":"IF(A18=\"\",\"\",VLOOKUP(MONTH(A18),T!A$1:B$12,2,FALSE))","v":"August"},31,"",null,{"$f":"IF(A18=\"\",\"\",VLOOKUP(MONTH(A18),T!A$1:B$12,2,FALSE))","v":"August"},{"$f":"INDIRECT(\"'\"&$N$1&\"'!g18\")","v":""},"",{"$f":"IF(A18=\"\",\"\",VLOOKUP(MONTH(A18),T!$A$1:$B$12,2,FALSE))","v":"August"},"","","","  -  ",0.68229012162563041,""]
[{"$f":"EDATE($A$10,ROWS($1:1))","v":"2017-01-31"},null,{"$f":"IF(B11=\"\",\"\",IF(System!E$8=1,VLOOKUP(B11,Pejletabel!A$3:G$336,2,FALSE),IF(System!E$8=2,VLOOKUP(B11,Pejletabel!A$3:G$357,3,FALSE),IF(System!E$8=3,VLOOKUP(B11,Pejletabel!A$3:G$357,4,FALSE),IF(System!E$8=4,VLOOKUP(B11,Pejletabel!A$3:G$357,5,FALSE),IF(System!E$8=5,VLOOKUP(B11,Pejletabel!A$3:G$357,6,FALSE),IF(System!E8=6,VLOOKUP(B11,Pejletabel!A3:G357,7,FALSE))))))))","v":""},null,{"$f":"IF(C11<>\"\",C11,\"\")","v":""},{"$f":"IF(E11<>\"\",1800-E11,\"\")","v":""},{"$f":"IF(C11<>\"\",C10-C11+D11,\"\")","v":""},null,null,{"$f":"IF(A19=\"\",\"\",VLOOKUP(MONTH(A19),T!A$1:B$12,2,FALSE))","v":"September"},30,"",null,{"$f":"IF(A19=\"\",\"\",VLOOKUP(MONTH(A19),T!A$1:B$12,2,FALSE))","v":"September"},{"$f":"INDIRECT(\"'\"&$N$1&\"'!g19\")","v":""},"",{"$f":"IF(A19=\"\",\"\",VLOOKUP(MONTH(A19),T!$A$1:$B$12,2,FALSE))","v":"September"},"","","","  -  ",3.2334618807475524,""]
[{"$f":"EDATE($A$10,ROWS($1:2))","v":"2017-02-28"},null,{"$f":"IF(B12=\"\",\"\",IF(System!E$8=1,VLOOKUP(B12,Pejletabel!A$3:G$336,2,FALSE),IF(System!E$8=2,VLOOKUP(B12,Pejletabel!A$3:G$357,3,FALSE),IF(System!E$8=3,VLOOKUP(B12,Pejletabel!A$3:G$357,4,FALSE),IF(System!E$8=4,VLOOKUP(B12,Pejletabel!A$3:G$357,5,FALSE),IF(System!E$8=5,VLOOKUP(B12,Pejletabel!A$3:G$357,6,FALSE),IF(System!E13=6,VLOOKUP(B12,Pejletabel!A4:G358,7,FALSE))))))))","v":""},null,{"$f":"IF(C12<>\"\",C12,\"\")","v":""},{"$f":"IF(E12<>\"\",1800-E12,\"\")","v":""},{"$f":"IF(C12<>\"\",C11-C12+D12,\"\")","v":""},null,null,{"$f":"IF(A20=\"\",\"\",VLOOKUP(MONTH(A20),T!A$1:B$12,2,FALSE))","v":"Oktober"},31,"",null,{"$f":"IF(A20=\"\",\"\",VLOOKUP(MONTH(A20),T!A$1:B$12,2,FALSE))","v":"Oktober"},{"$f":"INDIRECT(\"'\"&$N$1&\"'!g20\")","v":""},"",{"$f":"IF(A20=\"\",\"\",VLOOKUP(MONTH(A20),T!$A$1:$B$12,2,FALSE))","v":"Oktober"},"","","","  -  ",6.7635716404627706,""]
[{"$f":"EDATE($A$10,ROWS($1:3))","v":"2017-03-31"},null,{"$f":"IF(B13=\"\",\"\",IF(System!E$8=1,VLOOKUP(B13,Pejletabel!A$3:G$336,2,FALSE),IF(System!E$8=2,VLOOKUP(B13,Pejletabel!A$3:G$357,3,FALSE),IF(System!E$8=3,VLOOKUP(B13,Pejletabel!A$3:G$357,4,FALSE),IF(System!E$8=4,VLOOKUP(B13,Pejletabel!A$3:G$357,5,FALSE),IF(System!E$8=5,VLOOKUP(B13,Pejletabel!A$3:G$357,6,FALSE),IF(System!E19=6,VLOOKUP(B13,Pejletabel!A5:G359,7,FALSE))))))))","v":""},null,"","","",null,null,{"$f":"IF(A21=\"\",\"\",VLOOKUP(MONTH(A21),T!A$1:B$12,2,FALSE))","v":"November"},30,"",null,{"$f":"IF(A21=\"\",\"\",VLOOKUP(MONTH(A21),T!A$1:B$12,2,FALSE))","v":"November"},{"$f":"INDIRECT(\"'\"&$N$1&\"'!g21\")","v":""},"",{"$f":"IF(A21=\"\",\"\",VLOOKUP(MONTH(A21),T!$A$1:$B$12,2,FALSE))","v":"November"},"","","","  -  ",10.056363097003857,""]
[{"$f":"EDATE($A$10,ROWS($1:4))","v":"2017-04-30"},null,{"$f":"IF(B14=\"\",\"\",IF(System!E$8=1,VLOOKUP(B14,Pejletabel!A$3:G$336,2,FALSE),IF(System!E$8=2,VLOOKUP(B14,Pejletabel!A$3:G$357,3,FALSE),IF(System!E$8=3,VLOOKUP(B14,Pejletabel!A$3:G$357,4,FALSE),IF(System!E$8=4,VLOOKUP(B14,Pejletabel!A$3:G$357,5,FALSE),IF(System!E$8=5,VLOOKUP(B14,Pejletabel!A$3:G$357,6,FALSE),IF(System!E20=6,VLOOKUP(B14,Pejletabel!A6:G360,7,FALSE))))))))","v":""},null,"","","",null,null,{"$f":"IF(A22=\"\",\"\",VLOOKUP(MONTH(A22),T!A$1:B$12,2,FALSE))","v":"December"},31,"",null,{"$f":"IF(A22=\"\",\"\",VLOOKUP(MONTH(A22),T!A$1:B$12,2,FALSE))","v":"December"},{"$f":"INDIRECT(\"'\"&$N$1&\"'!g22\")","v":""},"",{"$f":"IF(A22=\"\",\"\",VLOOKUP(MONTH(A22),T!$A$1:$B$12,2,FALSE))","v":"December"},"","","","  -  ",13.586472856719075,""]
[{"$f":"EDATE($A$10,ROWS($1:5))","v":"2017-05-31"},null,{"$f":"IF(B15=\"\",\"\",IF(System!E$8=1,VLOOKUP(B15,Pejletabel!A$3:G$336,2,FALSE),IF(System!E$8=2,VLOOKUP(B15,Pejletabel!A$3:G$357,3,FALSE),IF(System!E$8=3,VLOOKUP(B15,Pejletabel!A$3:G$357,4,FALSE),IF(System!E$8=4,VLOOKUP(B15,Pejletabel!A$3:G$357,5,FALSE),IF(System!E$8=5,VLOOKUP(B15,Pejletabel!A$3:G$357,6,FALSE),IF(System!E21=6,VLOOKUP(B15,Pejletabel!A7:G361,7,FALSE))))))))","v":""},null,"","",""]
[{"$f":"EDATE($A$10,ROWS($1:6))","v":"2017-06-30"},null,{"$f":"IF(B16=\"\",\"\",IF(System!E$8=1,VLOOKUP(B16,Pejletabel!A$3:G$336,2,FALSE),IF(System!E$8=2,VLOOKUP(B16,Pejletabel!A$3:G$357,3,FALSE),IF(System!E$8=3,VLOOKUP(B16,Pejletabel!A$3:G$357,4,FALSE),IF(System!E$8=4,VLOOKUP(B16,Pejletabel!A$3:G$357,5,FALSE),IF(System!E$8=5,VLOOKUP(B16,Pejletabel!A$3:G$357,6,FALSE),IF(System!E22=6,VLOOKUP(B16,Pejletabel!A8:G362,7,FALSE))))))))","v":""},null,"","","",null,null,"Hele året",{"$f":"SUM(K3:K14)","v":365},{"$f":"G23/K16","v":0},null,"Års Total",{"$f":"SUM(O3:O14)","v":0},{"$f":"SUM(P3:P14)","v":0},null,{"$f":"G23","v":0},null,{"$f":"IF(R16<>0,R16-O16,\"\")","v":""},{"$f":"IF(R16<>0,T16/(O16/100),\"\")","v":""},{"$f":"SUM(V3:V14)","v":100},{"$f":"SUM(W3:W14)","v":0}]
[{"$f":"EDATE($A$10,ROWS($1:7))","v":"2017-07-31"},null,{"$f":"IF(B17=\"\",\"\",IF(System!E$8=1,VLOOKUP(B17,Pejletabel!A$3:G$336,2,FALSE),IF(System!E$8=2,VLOOKUP(B17,Pejletabel!A$3:G$357,3,FALSE),IF(System!E$8=3,VLOOKUP(B17,Pejletabel!A$3:G$357,4,FALSE),IF(System!E$8=4,VLOOKUP(B17,Pejletabel!A$3:G$357,5,FALSE),IF(System!E$8=5,VLOOKUP(B17,Pejletabel!A$3:G$357,6,FALSE),IF(System!E23=6,VLOOKUP(B17,Pejletabel!A9:G363,7,FALSE))))))))","v":""},null,"","",""]
[{"$f":"EDATE($A$10,ROWS($1:8))","v":"2017-08-31"},null,{"$f":"IF(B18=\"\",\"\",IF(System!E$8=1,VLOOKUP(B18,Pejletabel!A$3:G$336,2,FALSE),IF(System!E$8=2,VLOOKUP(B18,Pejletabel!A$3:G$357,3,FALSE),IF(System!E$8=3,VLOOKUP(B18,Pejletabel!A$3:G$357,4,FALSE),IF(System!E$8=4,VLOOKUP(B18,Pejletabel!A$3:G$357,5,FALSE),IF(System!E$8=5,VLOOKUP(B18,Pejletabel!A$3:G$357,6,FALSE),IF(System!E24=6,VLOOKUP(B18,Pejletabel!A10:G364,7,FALSE))))))))","v":""},null,"","","",null,null,"Vand",null,null,null,{"$f":"N1","v":2016},null,null,{"$f":"Q1","v":2017},null,null," +/-","%","Forventet forbrug"]
[{"$f":"EDATE($A$10,ROWS($1:9))","v":"2017-09-30"},null,{"$f":"IF(B19=\"\",\"\",IF(System!E$8=1,VLOOKUP(B19,Pejletabel!A$3:G$336,2,FALSE),IF(System!E$8=2,VLOOKUP(B19,Pejletabel!A$3:G$357,3,FALSE),IF(System!E$8=3,VLOOKUP(B19,Pejletabel!A$3:G$357,4,FALSE),IF(System!E$8=4,VLOOKUP(B19,Pejletabel!A$3:G$357,5,FALSE),IF(System!E$8=5,VLOOKUP(B19,Pejletabel!A$3:G$357,6,FALSE),IF(System!E25=6,VLOOKUP(B19,Pejletabel!A11:G365,7,FALSE))))))))","v":""},null,"","","",null,null,"Måned","Dage","m³ pr. dag",null,"Vand","m³",null,null,"m³",null,"m³",null,"%","m³"]
[{"$f":"EDATE($A$10,ROWS($1:10))","v":"2017-10-31"},null,{"$f":"IF(B20=\"\",\"\",IF(System!E$8=1,VLOOKUP(B20,Pejletabel!A$3:G$336,2,FALSE),IF(System!E$8=2,VLOOKUP(B20,Pejletabel!A$3:G$357,3,FALSE),IF(System!E$8=3,VLOOKUP(B20,Pejletabel!A$3:G$357,4,FALSE),IF(System!E$8=4,VLOOKUP(B20,Pejletabel!A$3:G$357,5,FALSE),IF(System!E$8=5,VLOOKUP(B20,Pejletabel!A$3:G$357,6,FALSE),IF(System!E26=6,VLOOKUP(B20,Pejletabel!A12:G366,7,FALSE))))))))","v":""},null,"","","",null,null,{"$f":"IF(A29=\"\",\"\",VLOOKUP(MONTH(A29),T!A$1:B$12,2,FALSE))","v":"Januar"},{"$f":"A29-A28","v":31},{"$f":"IF(D29<>\"\",D29/K20,\"\")","v":""},null,{"$f":"IF(A29=\"\",\"\",VLOOKUP(MONTH(A29),T!A$1:B$12,2,FALSE))","v":"Januar"},{"$f":"INDIRECT(\"'\"&$N$1&\"'!d29\")","v":""},null,"Januar",{"$f":"D29","v":""},null,{"$f":"IF(R20<>\"\",R20-O20,\"\")","v":""},{"$f":"IF(T20<>\"\",T20/(O20/100),\"\")","v":""},{"$f":"IF(A29=\"\",\"\",VLOOKUP(MONTH(A29),'Beregn varme 2015'!A$2:I$13,9,FALSE))","v":8.493150684931507},{"$f":"IF(R20=\"\",\"\",O$33*V20%)","v":""}]
[{"$f":"EDATE($A$10,ROWS($1:11))","v":"2017-11-30"},null,{"$f":"IF(B21=\"\",\"\",IF(System!E$8=1,VLOOKUP(B21,Pejletabel!A$3:G$336,2,FALSE),IF(System!E$8=2,VLOOKUP(B21,Pejletabel!A$3:G$357,3,FALSE),IF(System!E$8=3,VLOOKUP(B21,Pejletabel!A$3:G$357,4,FALSE),IF(System!E$8=4,VLOOKUP(B21,Pejletabel!A$3:G$357,5,FALSE),IF(System!E$8=5,VLOOKUP(B21,Pejletabel!A$3:G$357,6,FALSE),IF(System!E27=6,VLOOKUP(B21,Pejletabel!A13:G367,7,FALSE))))))))","v":""},null,"",{"$f":"IF(E21<>\"\",1800-E21,\"\")","v":""},"",null,null,{"$f":"IF(A30=\"\",\"\",VLOOKUP(MONTH(A30),T!A$1:B$12,2,FALSE))","v":"Februar"},{"$f":"IF(A30=\"\",\"\",A30-A29)","v":28},"",null,{"$f":"IF(A30=\"\",\"\",VLOOKUP(MONTH(A30),T!A$1:B$12,2,FALSE))","v":"Februar"},{"$f":"INDIRECT(\"'\"&$N$1&\"'!d30\")","v":""},null,"Februar","",null,{"$f":"IF(R21<>\"\",R21-O21,\"\")","v":""},{"$f":"IF(T21<>\"\",T21/(O21/100),\"\")","v":""},{"$f":"IF(A30=\"\",\"\",VLOOKUP(MONTH(A30),'Beregn varme 2015'!A$2:I$13,9,FALSE))","v":7.6712328767123283},{"$f":"IF(R21=\"\",\"\",O$33*V21%)","v":""}]
[{"$f":"EDATE($A$10,ROWS($1:12))","v":"2017-12-31"},null,{"$f":"IF(B22=\"\",\"\",IF(System!E$8=1,VLOOKUP(B22,Pejletabel!A$3:G$336,2,FALSE),IF(System!E$8=2,VLOOKUP(B22,Pejletabel!A$3:G$357,3,FALSE),IF(System!E$8=3,VLOOKUP(B22,Pejletabel!A$3:G$357,4,FALSE),IF(System!E$8=4,VLOOKUP(B22,Pejletabel!A$3:G$357,5,FALSE),IF(System!E$8=5,VLOOKUP(B22,Pejletabel!A$3:G$357,6,FALSE),IF(System!E28=6,VLOOKUP(B22,Pejletabel!A14:G368,7,FALSE))))))))","v":""},null,"",{"$f":"IF(E22<>\"\",1800-E22,\"\")","v":""},"",null,null,{"$f":"IF(A31=\"\",\"\",VLOOKUP(MONTH(A31),T!A$1:B$12,2,FALSE))","v":"Marts"},{"$f":"IF(A31=\"\",\"\",A31-A30)","v":31},"",null,{"$f":"IF(A31=\"\",\"\",VLOOKUP(MONTH(A31),T!A$1:B$12,2,FALSE))","v":"Marts"},{"$f":"INDIRECT(\"'\"&$N$1&\"'!d31\")","v":""},null,"Marts","",null,"","",{"$f":"IF(A31=\"\",\"\",VLOOKUP(MONTH(A31),'Beregn varme 2015'!A$2:I$13,9,FALSE))","v":8.493150684931507},""]
[null,null,null,null,"Års forbrug",null,{"$f":"SUM(G11:G22)","v":0},null,null,{"$f":"IF(A32=\"\",\"\",VLOOKUP(MONTH(A32),T!A$1:B$12,2,FALSE))","v":"April"},{"$f":"IF(A32=\"\",\"\",A32-A31)","v":30},"",null,{"$f":"IF(A32=\"\",\"\",VLOOKUP(MONTH(A32),T!A$1:B$12,2,FALSE))","v":"April"},{"$f":"INDIRECT(\"'\"&$N$1&\"'!d32\")","v":""},null,"April","",null,"","",{"$f":"IF(A32=\"\",\"\",VLOOKUP(MONTH(A32),'Beregn varme 2015'!A$2:I$13,9,FALSE))","v":8.2191780821917799},""]
["MÅNEDLIG AFLÆSNING AF VANDMÅLER",null,null,null,"MÅNEDLIG AFLÆSNING AF ELMÅLER",null,null,"Bemærkning:",null,{"$f":"IF(A33=\"\",\"\",VLOOKUP(MONTH(A33),T!A$1:B$12,2,FALSE))","v":"Maj"},{"$f":"IF(A33=\"\",\"\",A33-A32)","v":31},"",null,{"$f":"IF(A33=\"\",\"\",VLOOKUP(MONTH(A33),T!A$1:B$12,2,FALSE))","v":"Maj"},{"$f":"INDIRECT(\"'\"&$N$1&\"'!d33\")","v":""},null,"Maj","",null,"","",{"$f":"IF(A33=\"\",\"\",VLOOKUP(MONTH(A33),'Beregn varme 2015'!A$2:I$13,9,FALSE))","v":8.493150684931507},""]
[null,null,null,null,null,null,null,null,null,{"$f":"IF(A34=\"\",\"\",VLOOKUP(MONTH(A34),T!A$1:B$12,2,FALSE))","v":"Juni"},{"$f":"IF(A34=\"\",\"\",A34-A33)","v":30},"",null,"Juni",{"$f":"INDIRECT(\"'\"&$N$1&\"'!d34\")","v":""},null,"Juni","",null,"",{"$f":"IF(T25<>\"\",T25/(O25/100),\" - \")","v":" - "},{"$f":"IF(A34=\"\",\"\",VLOOKUP(MONTH(A34),'Beregn varme 2015'!A$2:I$13,9,FALSE))","v":8.2191780821917799},""]
["Dato","Aflæst",null,"Forbrug","Dato","Aflæst","Forbrug",null,null,{"$f":"IF(A35=\"\",\"\",VLOOKUP(MONTH(A35),T!A$1:B$12,2,FALSE))","v":"Juli"},{"$f":"IF(A35=\"\",\"\",A35-A34)","v":31},"",null,"Juli",{"$f":"INDIRECT(\"'\"&$N$1&\"'!d34\")","v":""},null,"Juli","",null,"",{"$f":"IF(T26<>\"\",T26/(O26/100),\" - \")","v":" - "},{"$f":"IF(A35=\"\",\"\",VLOOKUP(MONTH(A35),'Beregn varme 2015'!A$2:I$13,9,FALSE))","v":8.493150684931507},""]
[null,"m³",null,"m³",null,"KWh","KWh",null,null,{"$f":"IF(A36=\"\",\"\",VLOOKUP(MONTH(A36),T!A$1:B$12,2,FALSE))","v":"August"},31,"",null,"August",{"$f":"INDIRECT(\"'\"&$N$1&\"'!d34\")","v":""},null,"August","",null,"","",{"$f":"IF(A36=\"\",\"\",VLOOKUP(MONTH(A36),'Beregn varme 2015'!A$2:I$13,9,FALSE))","v":8.493150684931507},""]
[{"$f":"DATE($D$1-1,Setup!$D$3,Setup!$C$3)","v":"2016-12-31"},{"$f":"INDIRECT(\"'\"&$N$1&\"'!b40\")","v":0},null,null,{"$f":"DATE($D$1-1,Setup!$D$4,Setup!$C$4)","v":"2016-07-31"},{"$f":"INDIRECT(\"'\"&$N$1&\"'!f40\")","v":0},null,null,null,{"$f":"IF(A37=\"\",\"\",VLOOKUP(MONTH(A37),T!A$1:B$12,2,FALSE))","v":"September"},30,"",null,"September","",null,"September","",null,"","",{"$f":"IF(A37=\"\",\"\",VLOOKUP(MONTH(A37),'Beregn varme 2015'!A$2:I$13,9,FALSE))","v":8.2191780821917799},""]
[{"$f":"EDATE($A$28,ROWS($1:1))","v":"2017-01-31"},null,null,{"$f":"IF(B29<>\"\",B29-B28,\"\")","v":""},{"$f":"EDATE($E$28,ROWS($1:1))","v":"2016-08-31"},null,{"$f":"IF(F29<>\"\",F29-F28,\"\")","v":""},null,null,{"$f":"IF(A38=\"\",\"\",VLOOKUP(MONTH(A38),T!A$1:B$12,2,FALSE))","v":"Oktober"},31,"",null,"Oktober","",null,"Oktober","",null,"","",{"$f":"IF(A38=\"\",\"\",VLOOKUP(MONTH(A38),'Beregn varme 2015'!A$2:I$13,9,FALSE))","v":8.493150684931507},""]
[{"$f":"EDATE($A$28,ROWS($1:2))","v":"2017-02-28"},null,null,{"$f":"IF(B30<>\"\",B30-B29,\"\")","v":""},{"$f":"EDATE($E$28,ROWS($1:2))","v":"2016-09-30"},null,"",null,null,{"$f":"IF(A39=\"\",\"\",VLOOKUP(MONTH(A39),T!A$1:B$12,2,FALSE))","v":"November"},30,"",null,"November","",null,"November","",null,"","",{"$f":"IF(A39=\"\",\"\",VLOOKUP(MONTH(A39),'Beregn varme 2015'!A$2:I$13,9,FALSE))","v":8.2191780821917799},""]
[{"$f":"EDATE($A$28,ROWS($1:3))","v":"2017-03-31"},null,null,"",{"$f":"EDATE($E$28,ROWS($1:3))","v":"2016-10-31"},null,"",null,null,{"$f":"IF(A40=\"\",\"\",VLOOKUP(MONTH(A40),T!A$1:B$12,2,FALSE))","v":"December"},31,"",null,"December","",null,"December","",null,"","",{"$f":"IF(A40=\"\",\"\",VLOOKUP(MONTH(A40),'Beregn varme 2015'!A$2:I$13,9,FALSE))","v":8.493150684931507},""]
[{"$f":"EDATE($A$28,ROWS($1:4))","v":"2017-04-30"},null,null,"",{"$f":"EDATE($E$28,ROWS($1:4))","v":"2016-11-30"},null,""]
[{"$f":"EDATE($A$28,ROWS($1:5))","v":"2017-05-31"},null,null,"",{"$f":"EDATE($E$28,ROWS($1:5))","v":"2016-12-31"},null,"",null,null,"Hele året",{"$f":"SUM(K20:K31)","v":365},{"$f":"D41/K33","v":0},null,"Års Total",{"$f":"SUM(O20:O31)","v":0},null,null,{"$f":"D41","v":0},null,{"$f":"IF(R33<>0,R33-O33,\"\")","v":""},{"$f":"IF(T33<>\"\",T33/(O33/100),\"\")","v":""},{"$f":"SUM(V20:V31)","v":99.999999999999986},{"$f":"SUM(W20:W31)","v":0}]
[{"$f":"EDATE($A$28,ROWS($1:6))","v":"2017-06-30"},null,null,"",{"$f":"EDATE($E$28,ROWS($1:6))","v":"2017-01-31"},null,""]
[{"$f":"EDATE($A$28,ROWS($1:7))","v":"2017-07-31"},null,null,"",{"$f":"EDATE($E$28,ROWS($1:7))","v":"2017-02-28"},null,"",null,null,"EL",null,null,null,{"$f":"N1-1&\"/\"&N1","v":"2015/2016"},null,null,{"$f":"N1&\"/\"&Q1","v":"2016/2017"},null,null," +/-","%","Forventet forbrug"]
[{"$f":"EDATE($A$28,ROWS($1:8))","v":"2017-08-31"},null,null,"",{"$f":"EDATE($E$28,ROWS($1:8))","v":"2017-03-31"},null,"",null,null,"Måned","Dage","KWh pr. dag",null,"EL","KWh",null,null,"KWh",null,"KWh",null,"%","KWh"]
[{"$f":"EDATE($A$28,ROWS($1:9))","v":"2017-09-30"},null,null,"",{"$f":"EDATE($E$28,ROWS($1:9))","v":"2017-04-30"},null,"",null,null,{"$f":"IF(E29=\"\",\"\",VLOOKUP(MONTH(E29),T!A$1:B$12,2,FALSE))","v":"August"},{"$f":"E29-E28","v":31},{"$f":"IF(G29<>\"\",G29/K37,\"\")","v":""},null,{"$f":"J37","v":"August"},{"$f":"INDIRECT(\"'\"&$N$1&\"'!g29\")","v":""},null,{"$f":"J37","v":"August"},{"$f":"G29","v":""},null,{"$f":"IF(R37=\"\",\"\",R37-O37)","v":""},{"$f":"IF(R37<>\"\",T37/(O37/100),\"\")","v":""},{"$f":"IF(E29=\"\",\"\",VLOOKUP(MONTH(E29),'Beregn varme 2015'!A$2:J$13,10,FALSE))","v":7},{"$f":"IF(R37=\"\",\"\",O$50/100*V37)","v":""}]
[{"$f":"EDATE($A$28,ROWS($1:10))","v":"2017-10-31"},null,null,"",{"$f":"EDATE($E$28,ROWS($1:10))","v":"2017-05-31"},null,"",null,null,{"$f":"IF(E30=\"\",\"\",VLOOKUP(MONTH(E30),T!A$1:B$12,2,FALSE))","v":"September"},{"$f":"E30-E29","v":30},"",null,{"$f":"J38","v":"September"},{"$f":"INDIRECT(\"'\"&$N$1&\"'!g30\")","v":""},null,{"$f":"J38","v":"September"},{"$f":"IF(G30<>\"\",G30,\"\")","v":""},null,{"$f":"IF(R38<>\"\",R38-O38,\"\")","v":""},{"$f":"IF(R38<>\"\",T38/(O38/100),\"\")","v":""},{"$f":"IF(E30=\"\",\"\",VLOOKUP(MONTH(E30),'Beregn varme 2015'!A$2:J$13,10,FALSE))","v":7},""]
[{"$f":"EDATE($A$28,ROWS($1:11))","v":"2017-11-30"},null,null,"",{"$f":"EDATE($E$28,ROWS($1:11))","v":"2017-06-30"},null,"",null,null,{"$f":"IF(E31=\"\",\"\",VLOOKUP(MONTH(E31),T!A$1:B$12,2,FALSE))","v":"Oktober"},{"$f":"IF(E31=\"\",\"\",E31-E30)","v":31},"",null,"Oktober",{"$f":"INDIRECT(\"'\"&$N$1&\"'!g31\")","v":""},null,"Oktober","",null,{"$f":"IF(R39<>\"\",R39-O39,\"\")","v":""},{"$f":"IF(R39<>\"\",T39/(O39/100),\"\")","v":""},{"$f":"IF(E31=\"\",\"\",VLOOKUP(MONTH(E31),'Beregn varme 2015'!A$2:J$13,10,FALSE))","v":9},""]
[{"$f":"EDATE($A$28,ROWS($1:12))","v":"2017-12-31"},null,null,"",{"$f":"EDATE($E$28,ROWS($1:12))","v":"2017-07-31"},null,"",null,null,{"$f":"IF(E32=\"\",\"\",VLOOKUP(MONTH(E32),T!A$1:B$12,2,FALSE))","v":"November"},30,"",null,"November",{"$f":"INDIRECT(\"'\"&$N$1&\"'!g32\")","v":""},null,"November","",null,{"$f":"IF(R40<>\"\",R40-O40,\"\")","v":""},{"$f":"IF(R40<>\"\",T40/(O40/100),\"\")","v":""},{"$f":"IF(E32=\"\",\"\",VLOOKUP(MONTH(E32),'Beregn varme 2015'!A$2:J$13,10,FALSE))","v":9},""]
["Års forbrug",null,null,{"$f":"SUM(D29:D34,D35:D40)","v":0},"Års forbrug",null,{"$f":"SUM(G29:G34,G35:G40)","v":0},null,null,{"$f":"IF(E33=\"\",\"\",VLOOKUP(MONTH(E33),T!A$1:B$12,2,FALSE))","v":"December"},31,"",null,"December",{"$f":"INDIRECT(\"'\"&$N$1&\"'!g33\")","v":""},null,"December","",null,{"$f":"IF(R41<>\"\",R41-O41,\"\")","v":""},{"$f":"IF(R41<>\"\",T41/(O41/100),\"\")","v":""},{"$f":"IF(E33=\"\",\"\",VLOOKUP(MONTH(E33),'Beregn varme 2015'!A$2:J$13,10,FALSE))","v":11},""]
[null,null,null,null,null,null,null,null,null,{"$f":"IF(E34=\"\",\"\",VLOOKUP(MONTH(E34),T!A$1:B$12,2,FALSE))","v":"Januar"},31,"",null,"Januar",{"$f":"INDIRECT(\"'\"&$N$1&\"'!g34\")","v":""},null,"Januar","",null,{"$f":"IF(R42<>\"\",R42-O42,\"\")","v":""},"",{"$f":"IF(E34=\"\",\"\",VLOOKUP(MONTH(E34),'Beregn varme 2015'!A$2:J$13,10,FALSE))","v":10},""]
[null,null,null,null,null,null,null,null,null,{"$f":"IF(E35=\"\",\"\",VLOOKUP(MONTH(E35),T!A$1:B$12,2,FALSE))","v":"Februar"},28,"",null,"Februar",{"$f":"INDIRECT(\"'\"&$N$1&\"'!g35\")","v":""},null,"Februar","",null,"","",{"$f":"IF(E35=\"\",\"\",VLOOKUP(MONTH(E35),'Beregn varme 2015'!A$2:J$13,10,FALSE))","v":9},""]
[null,null,null,null,null,null,null,null,null,{"$f":"IF(E36=\"\",\"\",VLOOKUP(MONTH(E36),T!A$1:B$12,2,FALSE))","v":"Marts"},31,"",null,"Marts",{"$f":"INDIRECT(\"'\"&$N$1&\"'!g36\")","v":""},null,"Marts","",null,"","",{"$f":"IF(E36=\"\",\"\",VLOOKUP(MONTH(E36),'Beregn varme 2015'!A$2:J$13,10,FALSE))","v":9},""]
[null,null,null,null,null,null,null,null,null,{"$f":"IF(E37=\"\",\"\",VLOOKUP(MONTH(E37),T!A$1:B$12,2,FALSE))","v":"April"},30,"",null,"April",{"$f":"INDIRECT(\"'\"&$N$1&\"'!g37\")","v":""},null,"April","",null,"","",{"$f":"IF(E37=\"\",\"\",VLOOKUP(MONTH(E37),'Beregn varme 2015'!A$2:J$13,10,FALSE))","v":8},""]
[null,null,null,null,null,null,null,null,null,{"$f":"IF(E38=\"\",\"\",VLOOKUP(MONTH(E38),T!A$1:B$12,2,FALSE))","v":"Maj"},31,"",null,"Maj",{"$f":"INDIRECT(\"'\"&$N$1&\"'!g38\")","v":""},null,"Maj","",null,"","",{"$f":"IF(E38=\"\",\"\",VLOOKUP(MONTH(E38),'Beregn varme 2015'!A$2:J$13,10,FALSE))","v":8},""]
[null,null,null,null,null,null,null,null,null,{"$f":"IF(E39=\"\",\"\",VLOOKUP(MONTH(E39),T!A$1:B$12,2,FALSE))","v":"Juni"},30,"",null,"Juni",{"$f":"INDIRECT(\"'\"&$N$1&\"'!g39\")","v":""},null,"Juni","",null,"","",{"$f":"IF(E39=\"\",\"\",VLOOKUP(MONTH(E39),'Beregn varme 2015'!A$2:J$13,10,FALSE))","v":7},""]
[null,null,null,null,null,null,null,null,null,{"$f":"IF(E40=\"\",\"\",VLOOKUP(MONTH(E40),T!A$1:B$12,2,FALSE))","v":"Juli"},31,"",null,{"$f":"J48","v":"Juli"},{"$f":"INDIRECT(\"'\"&$N$1&\"'!g40\")","v":""},null,{"$f":"J48","v":"Juli"},"",null,"",{"$f":"IF(R48<>\"\",T48/(R48/100),\"\")","v":""},{"$f":"IF(E40=\"\",\"\",VLOOKUP(MONTH(E40),'Beregn varme 2015'!A$2:J$13,10,FALSE))","v":6},""]
[]
[null,null,null,null,null,null,null,null,null,"Hele året",{"$f":"SUM(K37:K48)","v":365},{"$f":"G41/K50","v":0},null,"Års Total",{"$f":"SUM(O37:O48)","v":0},null,null,{"$f":"SUM(R37:R48)","v":0},null,{"$f":"IF(R50<>0,R50-O50,\"\")","v":""},{"$f":"IF(T50<>\"\",T50/(O50/100),\"\")","v":""},{"$f":"SUM(V37:V48)","v":100},{"$f":"SUM(W37:W48)","v":0}]

{"sheet":"2016","index":16,"n_rows":50,"n_cols":25,"rows_kept":50,"cut":false,"hidden":false,"merged":[[17,21,17,22],[0,0,0,2],[0,9,0,11],[0,21,0,22],[1,0,1,7],[2,0,2,7],[3,1,3,7],[5,0,6,7],[7,0,8,0],[7,4,8,4],[7,7,8,7],[17,9,17,11],[32,1,32,2],[22,4,22,5],[23,0,24,3],[23,4,24,6],[23,7,24,7],[25,0,26,0],[25,1,25,2],[25,4,26,4],[26,1,26,2],[27,1,27,2],[28,1,28,2],[29,1,29,2],[30,1,30,2],[31,1,31,2],[43,4,44,4],[33,1,33,2],[34,1,34,2],[34,9,34,11],[34,21,34,22],[35,1,35,2],[36,1,36,2],[37,1,37,2],[38,1,38,2],[39,1,39,2],[40,0,40,2],[40,4,40,5]]}
["Vælg årstal:",null,null,2016,null,null,null,null,null,"Olie",null,null,null,{"$f":"Q1-1","v":2015},null,null,{"$f":"D1","v":2016},null,null," +/-","%","Forventet forbrug"]
[{"$f":"System!A19","v":"Version: 2.0.2 / Bjarne Hansen"},null,null,null,null,null,null,null,null,"Måned","Dage","Liter pr dag",null,"Olie","Liter","%",null,"Liter","%","Liter",null,"%","Liter"]
["Aflæsningsskema til Olieforbrug samt EL og Vand",null,null,null,null,null,null,null,null,{"$f":"IF(A11=\"\",\"\",VLOOKUP(MONTH(A11),T!A$1:B$12,2,FALSE))","v":"Januar"},{"$f":"A11-A10","v":31},{"$f":"IF(G11<>\"\",G11/K3,\"\")","v":""},null,{"$f":"IF(A11=\"\",\"\",VLOOKUP(MONTH(A11),T!$A$1:$B$12,2,FALSE))","v":"Januar"},{"$f":"INDIRECT(\"'\"&$N$1&\"'!g11\")","v":336},{"$f":"IF(O3=\"\",\"\",O3/(O$16/100))","v":23.69534555712271},{"$f":"IF(A11=\"\",\"\",VLOOKUP(MONTH(A11),T!$A$1:$B$12,2,FALSE))","v":"Januar"},{"$f":"G11","v":""},{"$f":"IF(R3=\"\",\"\",R3/(R$16/100))","v":""},{"$f":"IF(R3<>\"\",R3-O3,\"\")","v":""},{"$f":"IF(AND(R3<>\"\",O3<>0),T3/(O3/100),\"  -  \")","v":"  -  "},{"$f":"IF(A11=\"\",\"\",VLOOKUP(MONTH(A11),INDIRECT(\"'Beregn varme \"&$Q$1&\"'!A2:R13\"),15,FALSE))","v":15.366360130525067},{"$f":"IF(R3=\"\",\"\",VLOOKUP(MONTH(A11),INDIRECT(\"'Beregn varme \"&Q1&\"'!A2:R13\"),16,FALSE))","v":""}]
["Navn :","Bjarne Hansen, Lyrsbyvej 31",null,null,null,null,null,null,null,{"$f":"IF(A12=\"\",\"\",VLOOKUP(MONTH(A12),T!A$1:B$12,2,FALSE))","v":"Februar"},{"$f":"IF(A12=\"\",\"\",A12-A11)","v":29},"",null,{"$f":"IF(A12=\"\",\"\",VLOOKUP(MONTH(A12),T!A$1:B$12,2,FALSE))","v":"Februar"},{"$f":"INDIRECT(\"'\"&$N$1&\"'!g12\")","v":329},23.201692524682652,{"$f":"IF(A12=\"\",\"\",VLOOKUP(MONTH(A12),T!$A$1:$B$12,2,FALSE))","v":"Februar"},"","",{"$f":"IF(R4<>\"\",R4-O4,\"\")","v":""},{"$f":"IF(AND(R4<>\"\",O4<>0),T4/(O4/100),\"  -  \")","v":"  -  "},{"$f":"IF(A12=\"\",\"\",VLOOKUP(MONTH(A12),INDIRECT(\"'Beregn varme \"&$Q$1&\"'!A2:R13\"),15,FALSE))","v":14.684070008899436},{"$f":"IF(R4=\"\",\"\",VLOOKUP(MONTH(A12),INDIRECT(\"'Beregn varme \"&$Q$1&\"'!A2:R13\"),16,FALSE))","v":""}]
["Tankstørrelse:",null,{"$f":"System!F8","v":1800},"Liter",null,null,null,null,null,{"$f":"IF(A13=\"\",\"\",VLOOKUP(MONTH(A13),T!A$1:B$12,2,FALSE))","v":"Marts"},31,"",null,{"$f":"IF(A13=\"\",\"\",VLOOKUP(MONTH(A13),T!A$1:B$12,2,FALSE))","v":"Marts"},{"$f":"INDIRECT(\"'\"&$N$1&\"'!g13\")","v":299},21.086036671368124,{"$f":"IF(A13=\"\",\"\",VLOOKUP(MONTH(A13),T!$A$1:$B$12,2,FALSE))","v":"Marts"},"","","","  -  ",{"$f":"IF(A13=\"\",\"\",VLOOKUP(MONTH(A13),INDIRECT(\"'Beregn varme \"&$Q$1&\"'!A2:R13\"),15,FALSE))","v":14.268762978344704},{"$f":"IF(R5=\"\",\"\",VLOOKUP(MONTH(A13),INDIRECT(\"'Beregn varme \"&$Q$1&\"'!A2:R13\"),16,FALSE))","v":""}]
["MÅNEDLIG PEJLING AF OLIETANK",null,null,null,null,null,null,null,null,{"$f":"IF(A14=\"\",\"\",VLOOKUP(MONTH(A14),T!A$1:B$12,2,FALSE))","v":"April"},30,"",null,{"$f":"IF(A14=\"\",\"\",VLOOKUP(MONTH(A14),T!A$1:B$12,2,FALSE))","v":"April"},{"$f":"INDIRECT(\"'\"&$N$1&\"'!g14\")","v":218},15.3737658674189,{"$f":"IF(A14=\"\",\"\",VLOOKUP(MONTH(A14),T!$A$1:$B$12,2,FALSE))","v":"April"},"","","","  -  ",11.094630673390684,{"$f":"IF(R6=\"\",\"\",VLOOKUP(MONTH(A14),INDIRECT(\"'Beregn varme \"&$Q$1&\"'!A2:R13\"),16,FALSE))","v":""}]
[null,null,null,null,null,null,null,null,null,{"$f":"IF(A15=\"\",\"\",VLOOKUP(MONTH(A15),T!A$1:B$12,2,FALSE))","v":"Maj"},{"$f":"IF(A15=\"\",\"\",A15-A14)","v":31},"",null,{"$f":"IF(A15=\"\",\"\",VLOOKUP(MONTH(A15),T!A$1:B$12,2,FALSE))","v":"Maj"},{"$f":"INDIRECT(\"'\"&$N$1&\"'!g15\")","v":150},10.578279266572638,{"$f":"IF(A15=\"\",\"\",VLOOKUP(MONTH(A15),T!$A$1:$B$12,2,FALSE))","v":"Maj"},"","","","  -  ",7.0008899436369028,{"$f":"IF(R7=\"\",\"\",VLOOKUP(MONTH(A15),INDIRECT(\"'Beregn varme \"&$Q$1&\"'!A2:R13\"),16,FALSE))","v":""}]
["Dato","Pejling",null,"Fyldt på","Beholdning","Plads til","Forbrug","Bemærkning:",null,{"$f":"IF(A16=\"\",\"\",VLOOKUP(MONTH(A16),T!A$1:B$12,2,FALSE))","v":"Juni"},{"$f":"IF(A16=\"\",\"\",A16-A15)","v":30},"",null,{"$f":"IF(A16=\"\",\"\",VLOOKUP(MONTH(A16),T!A$1:B$12,2,FALSE))","v":"Juni"},{"$f":"INDIRECT(\"'\"&$N$1&\"'!g16\")","v":46},3.2440056417489425,{"$f":"IF(A16=\"\",\"\",VLOOKUP(MONTH(A16),T!$A$1:$B$12,2,FALSE))","v":"Juni"},"","","","  -  ",2.6698309107089884,""]
[null,"i cm","Liter","Liter",null,"Liter","Liter",null,null,{"$f":"IF(A17=\"\",\"\",VLOOKUP(MONTH(A17),T!A$1:B$12,2,FALSE))","v":"Juli"},31,"",null,{"$f":"IF(A17=\"\",\"\",VLOOKUP(MONTH(A17),T!A$1:B$12,2,FALSE))","v":"Juli"},{"$f":"INDIRECT(\"'\"&$N$1&\"'!g17\")","v":33},2.3272214386459802,{"$f":"IF(A17=\"\",\"\",VLOOKUP(MONTH(A17),T!$A$1:$B$12,2,FALSE))","v":"Juli"},"","","","  -  ",0.59329575793533074,""]
[{"$f":"DATE(D1-1,Setup!D2,Setup!C2)","v":"2015-12-31"},{"$f":"INDIRECT(\"'\"&$N$1&\"'!b22\")","v":0},{"$f":"IF(B10=\"\",\"\",IF(System!E$8=1,VLOOKUP(B10,Pejletabel!A$3:G$336,2,FALSE),IF(System!E$8=2,VLOOKUP(B10,Pejletabel!A$3:G$357,3,FALSE),IF(System!E$8=3,VLOOKUP(B10,Pejletabel!A$3:G$357,4,FALSE),IF(System!E$8=4,VLOOKUP(B10,Pejletabel!A$3:G$357,5,FALSE),IF(System!E8=5,VLOOKUP(B10,Pejletabel!A3:G358,6,FALSE),IF(System!E$8=6,VLOOKUP(B10,Pejletabel!A$3:G$357,7,FALSE))))))))","v":0},null,{"$f":"IF(C10<>\"\",SUM(C10:D10),\"\")","v":0},{"$f":"IF(E10<>\"\",System!F$8-E10,\"\")","v":1800},null,null,null,{"$f":"IF(A18=\"\",\"\",VLOOKUP(MONTH(A18),T!A$1:B$12,2,FALSE))","v":"August"},31,"",null,{"$f":"IF(A18=\"\",\"\",VLOOKUP(MONTH(A18),T!A$1:B$12,2,FALSE))","v":"August"},{"$f":"INDIRECT(\"'\"&$N$1&\"'!g18\")","v":7},0.49365303244005643,{"$f":"IF(A18=\"\",\"\",VLOOKUP(MONTH(A18),T!$A$1:$B$12,2,FALSE))","v":"August"},"","","","  -  ",0.68229012162563041,""]
[{"$f":"EDATE($A$10,ROWS($1:1))","v":"2016-01-31"},null,{"$f":"IF(B11=\"\",\"\",IF(System!E$8=1,VLOOKUP(B11,Pejletabel!A$3:G$336,2,FALSE),IF(System!E$8=2,VLOOKUP(B11,Pejletabel!A$3:G$357,3,FALSE),IF(System!E$8=3,VLOOKUP(B11,Pejletabel!A$3:G$357,4,FALSE),IF(System!E$8=4,VLOOKUP(B11,Pejletabel!A$3:G$357,5,FALSE),IF(System!E$8=5,VLOOKUP(B11,Pejletabel!A$3:G$357,6,FALSE),IF(System!E8=6,VLOOKUP(B11,Pejletabel!A3:G357,7,FALSE))))))))","v":""},null,{"$f":"IF(C11<>\"\",C11,\"\")","v":""},{"$f":"IF(E11<>\"\",1800-E11,\"\")","v":""},{"$f":"IF(C11<>\"\",C10-C11+D11,\"\")","v":""},null,null,{"$f":"IF(A19=\"\",\"\",VLOOKUP(MONTH(A19),T!A$1:B$12,2,FALSE))","v":"September"},30,"",null,{"$f":"IF(A19=\"\",\"\",VLOOKUP(MONTH(A19),T!A$1:B$12,2,FALSE))","v":"September"},{"$f":"INDIRECT(\"'\"&$N$1&\"'!g19\")","v":""},"",{"$f":"IF(A19=\"\",\"\",VLOOKUP(MONTH(A19),T!$A$1:$B$12,2,FALSE))","v":"September"},"","","","  -  ",3.2334618807475524,""]
[{"$f":"EDATE($A$10,ROWS($1:2))","v":"2016-02-29"},null,{"$f":"IF(B12=\"\",\"\",IF(System!E$8=1,VLOOKUP(B12,Pejletabel!A$3:G$336,2,FALSE),IF(System!E$8=2,VLOOKUP(B12,Pejletabel!A$3:G$357,3,FALSE),IF(System!E$8=3,VLOOKUP(B12,Pejletabel!A$3:G$357,4,FALSE),IF(System!E$8=4,VLOOKUP(B12,Pejletabel!A$3:G$357,5,FALSE),IF(System!E$8=5,VLOOKUP(B12,Pejletabel!A$3:G$357,6,FALSE),IF(System!E13=6,VLOOKUP(B12,Pejletabel!A4:G358,7,FALSE))))))))","v":""},null,{"$f":"IF(C12<>\"\",C12,\"\")","v":""},{"$f":"IF(E12<>\"\",1800-E12,\"\")","v":""},{"$f":"IF(C12<>\"\",C11-C12+D12,\"\")","v":""},null,null,{"$f":"IF(A20=\"\",\"\",VLOOKUP(MONTH(A20),T!A$1:B$12,2,FALSE))","v":"Oktober"},31,"",null,{"$f":"IF(A20=\"\",\"\",VLOOKUP(MONTH(A20),T!A$1:B$12,2,FALSE))","v":"Oktober"},{"$f":"INDIRECT(\"'\"&$N$1&\"'!g20\")","v":""},"",{"$f":"IF(A20=\"\",\"\",VLOOKUP(MONTH(A20),T!$A$1:$B$12,2,FALSE))","v":"Oktober"},"","","","  -  ",6.7635716404627706,""]
[{"$f":"EDATE($A$10,ROWS($1:3))","v":"2016-03-31"},null,{"$f":"IF(B13=\"\",\"\",IF(System!E$8=1,VLOOKUP(B13,Pejletabel!A$3:G$336,2,FALSE),IF(System!E$8=2,VLOOKUP(B13,Pejletabel!A$3:G$357,3,FALSE),IF(System!E$8=3,VLOOKUP(B13,Pejletabel!A$3:G$357,4,FALSE),IF(System!E$8=4,VLOOKUP(B13,Pejletabel!A$3:G$357,5,FALSE),IF(System!E$8=5,VLOOKUP(B13,Pejletabel!A$3:G$357,6,FALSE),IF(System!E19=6,VLOOKUP(B13,Pejletabel!A5:G359,7,FALSE))))))))","v":""},null,"","","",null,null,{"$f":"IF(A21=\"\",\"\",VLOOKUP(MONTH(A21),T!A$1:B$12,2,FALSE))","v":"November"},30,"",null,{"$f":"IF(A21=\"\",\"\",VLOOKUP(MONTH(A21),T!A$1:B$12,2,FALSE))","v":"November"},{"$f":"INDIRECT(\"'\"&$N$1&\"'!g21\")","v":""},"",{"$f":"IF(A21=\"\",\"\",VLOOKUP(MONTH(A21),T!$A$1:$B$12,2,FALSE))","v":"November"},"","","","  -  ",10.056363097003857,""]
[{"$f":"EDATE($A$10,ROWS($1:4))","v":"2016-04-30"},null,{"$f":"IF(B14=\"\",\"\",IF(System!E$8=1,VLOOKUP(B14,Pejletabel!A$3:G$336,2,FALSE),IF(System!E$8=2,VLOOKUP(B14,Pejletabel!A$3:G$357,3,FALSE),IF(System!E$8=3,VLOOKUP(B14,Pejletabel!A$3:G$357,4,FALSE),IF(System!E$8=4,VLOOKUP(B14,Pejletabel!A$3:G$357,5,FALSE),IF(System!E$8=5,VLOOKUP(B14,Pejletabel!A$3:G$357,6,FALSE),IF(System!E20=6,VLOOKUP(B14,Pejletabel!A6:G360,7,FALSE))))))))","v":""},null,"","","",null,null,{"$f":"IF(A22=\"\",\"\",VLOOKUP(MONTH(A22),T!A$1:B$12,2,FALSE))","v":"December"},31,"",null,{"$f":"IF(A22=\"\",\"\",VLOOKUP(MONTH(A22),T!A$1:B$12,2,FALSE))","v":"December"},{"$f":"INDIRECT(\"'\"&$N$1&\"'!g22\")","v":""},"",{"$f":"IF(A22=\"\",\"\",VLOOKUP(MONTH(A22),T!$A$1:$B$12,2,FALSE))","v":"December"},"","","","  -  ",13.586472856719075,""]
[{"$f":"EDATE($A$10,ROWS($1:5))","v":"2016-05-31"},null,{"$f":"IF(B15=\"\",\"\",IF(System!E$8=1,VLOOKUP(B15,Pejletabel!A$3:G$336,2,FALSE),IF(System!E$8=2,VLOOKUP(B15,Pejletabel!A$3:G$357,3,FALSE),IF(System!E$8=3,VLOOKUP(B15,Pejletabel!A$3:G$357,4,FALSE),IF(System!E$8=4,VLOOKUP(B15,Pejletabel!A$3:G$357,5,FALSE),IF(System!E$8=5,VLOOKUP(B15,Pejletabel!A$3:G$357,6,FALSE),IF(System!E21=6,VLOOKUP(B15,Pejletabel!A7:G361,7,FALSE))))))))","v":""},null,"","",""]
[{"$f":"EDATE($A$10,ROWS($1:6))","v":"2016-06-30"},null,{"$f":"IF(B16=\"\",\"\",IF(System!E$8=1,VLOOKUP(B16,Pejletabel!A$3:G$336,2,FALSE),IF(System!E$8=2,VLOOKUP(B16,Pejletabel!A$3:G$357,3,FALSE),IF(System!E$8=3,VLOOKUP(B16,Pejletabel!A$3:G$357,4,FALSE),IF(System!E$8=4,VLOOKUP(B16,Pejletabel!A$3:G$357,5,FALSE),IF(System!E$8=5,VLOOKUP(B16,Pejletabel!A$3:G$357,6,FALSE),IF(System!E22=6,VLOOKUP(B16,Pejletabel!A8:G362,7,FALSE))))))))","v":""},null,"","","",null,null,"Hele året",{"$f":"SUM(K3:K14)","v":366},{"$f":"IFERROR(G23/K16,\"\")","v":0},null,"Års Total",{"$f":"SUM(O3:O14)","v":1418},{"$f":"SUM(P3:P14)","v":99.999999999999986},null,{"$f":"G23","v":0},null,{"$f":"IF(R16<>0,R16-O16,\"\")","v":""},{"$f":"IF(R16<>0,T16/(O16/100),\"\")","v":""},{"$f":"SUM(V3:V14)","v":100},{"$f":"SUM(W3:W14)","v":0}]
[{"$f":"EDATE($A$10,ROWS($1:7))","v":"2016-07-31"},null,{"$f":"IF(B17=\"\",\"\",IF(System!E$8=1,VLOOKUP(B17,Pejletabel!A$3:G$336,2,FALSE),IF(System!E$8=2,VLOOKUP(B17,Pejletabel!A$3:G$357,3,FALSE),IF(System!E$8=3,VLOOKUP(B17,Pejletabel!A$3:G$357,4,FALSE),IF(System!E$8=4,VLOOKUP(B17,Pejletabel!A$3:G$357,5,FALSE),IF(System!E$8=5,VLOOKUP(B17,Pejletabel!A$3:G$357,6,FALSE),IF(System!E23=6,VLOOKUP(B17,Pejletabel!A9:G363,7,FALSE))))))))","v":""},null,"","",""]
[{"$f":"EDATE($A$10,ROWS($1:8))","v":"2016-08-31"},null,{"$f":"IF(B18=\"\",\"\",IF(System!E$8=1,VLOOKUP(B18,Pejletabel!A$3:G$336,2,FALSE),IF(System!E$8=2,VLOOKUP(B18,Pejletabel!A$3:G$357,3,FALSE),IF(System!E$8=3,VLOOKUP(B18,Pejletabel!A$3:G$357,4,FALSE),IF(System!E$8=4,VLOOKUP(B18,Pejletabel!A$3:G$357,5,FALSE),IF(System!E$8=5,VLOOKUP(B18,Pejletabel!A$3:G$357,6,FALSE),IF(System!E24=6,VLOOKUP(B18,Pejletabel!A10:G364,7,FALSE))))))))","v":""},null,"","","",null,null,"Vand",null,null,null,{"$f":"N1","v":2015},null,null,{"$f":"Q1","v":2016},null,null," +/-","%","Forventet forbrug"]
[{"$f":"EDATE($A$10,ROWS($1:9))","v":"2016-09-30"},null,{"$f":"IF(B19=\"\",\"\",IF(System!E$8=1,VLOOKUP(B19,Pejletabel!A$3:G$336,2,FALSE),IF(System!E$8=2,VLOOKUP(B19,Pejletabel!A$3:G$357,3,FALSE),IF(System!E$8=3,VLOOKUP(B19,Pejletabel!A$3:G$357,4,FALSE),IF(System!E$8=4,VLOOKUP(B19,Pejletabel!A$3:G$357,5,FALSE),IF(System!E$8=5,VLOOKUP(B19,Pejletabel!A$3:G$357,6,FALSE),IF(System!E25=6,VLOOKUP(B19,Pejletabel!A11:G365,7,FALSE))))))))","v":""},null,"","","",null,null,"Måned","Dage","m³ pr. dag",null,"Vand","m³",null,null,"m³",null,"m³",null,"%","m³"]
[{"$f":"EDATE($A$10,ROWS($1:10))","v":"2016-10-31"},null,{"$f":"IF(B20=\"\",\"\",IF(System!E$8=1,VLOOKUP(B20,Pejletabel!A$3:G$336,2,FALSE),IF(System!E$8=2,VLOOKUP(B20,Pejletabel!A$3:G$357,3,FALSE),IF(System!E$8=3,VLOOKUP(B20,Pejletabel!A$3:G$357,4,FALSE),IF(System!E$8=4,VLOOKUP(B20,Pejletabel!A$3:G$357,5,FALSE),IF(System!E$8=5,VLOOKUP(B20,Pejletabel!A$3:G$357,6,FALSE),IF(System!E26=6,VLOOKUP(B20,Pejletabel!A12:G366,7,FALSE))))))))","v":""},null,"","","",null,null,{"$f":"IF(A29=\"\",\"\",VLOOKUP(MONTH(A29),T!A$1:B$12,2,FALSE))","v":"Januar"},{"$f":"A29-A28","v":31},{"$f":"IF(D29<>\"\",D29/K20,\"\")","v":""},null,{"$f":"IF(A29=\"\",\"\",VLOOKUP(MONTH(A29),T!A$1:B$12,2,FALSE))","v":"Januar"},{"$f":"INDIRECT(\"'\"&$N$1&\"'!d29\")","v":7},null,"Januar",{"$f":"D29","v":""},null,{"$f":"IF(R20<>\"\",R20-O20,\"\")","v":""},{"$f":"IF(T20<>\"\",T20/(O20/100),\"\")","v":""},{"$f":"IF(A29=\"\",\"\",VLOOKUP(MONTH(A29),'Beregn varme 2015'!A$2:I$13,9,FALSE))","v":8.493150684931507},{"$f":"IF(R20=\"\",\"\",O$33*V20%)","v":""}]
[{"$f":"EDATE($A$10,ROWS($1:11))","v":"2016-11-30"},null,{"$f":"IF(B21=\"\",\"\",IF(System!E$8=1,VLOOKUP(B21,Pejletabel!A$3:G$336,2,FALSE),IF(System!E$8=2,VLOOKUP(B21,Pejletabel!A$3:G$357,3,FALSE),IF(System!E$8=3,VLOOKUP(B21,Pejletabel!A$3:G$357,4,FALSE),IF(System!E$8=4,VLOOKUP(B21,Pejletabel!A$3:G$357,5,FALSE),IF(System!E$8=5,VLOOKUP(B21,Pejletabel!A$3:G$357,6,FALSE),IF(System!E27=6,VLOOKUP(B21,Pejletabel!A13:G367,7,FALSE))))))))","v":""},null,"",{"$f":"IF(E21<>\"\",1800-E21,\"\")","v":""},"",null,null,{"$f":"IF(A30=\"\",\"\",VLOOKUP(MONTH(A30),T!A$1:B$12,2,FALSE))","v":"Februar"},{"$f":"IF(A30=\"\",\"\",A30-A29)","v":29},"",null,{"$f":"IF(A30=\"\",\"\",VLOOKUP(MONTH(A30),T!A$1:B$12,2,FALSE))","v":"Februar"},{"$f":"INDIRECT(\"'\"&$N$1&\"'!d30\")","v":7},null,"Februar","",null,{"$f":"IF(R21<>\"\",R21-O21,\"\")","v":""},{"$f":"IF(T21<>\"\",T21/(O21/100),\"\")","v":""},{"$f":"IF(A30=\"\",\"\",VLOOKUP(MONTH(A30),'Beregn varme 2015'!A$2:I$13,9,FALSE))","v":7.6712328767123283},{"$f":"IF(R21=\"\",\"\",O$33*V21%)","v":""}]
[{"$f":"EDATE($A$10,ROWS($1:12))","v":"2016-12-31"},null,{"$f":"IF(B22=\"\",\"\",IF(System!E$8=1,VLOOKUP(B22,Pejletabel!A$3:G$336,2,FALSE),IF(System!E$8=2,VLOOKUP(B22,Pejletabel!A$3:G$357,3,FALSE),IF(System!E$8=3,VLOOKUP(B22,Pejletabel!A$3:G$357,4,FALSE),IF(System!E$8=4,VLOOKUP(B22,Pejletabel!A$3:G$357,5,FALSE),IF(System!E$8=5,VLOOKUP(B22,Pejletabel!A$3:G$357,6,FALSE),IF(System!E28=6,VLOOKUP(B22,Pejletabel!A14:G368,7,FALSE))))))))","v":""},null,"",{"$f":"IF(E22<>\"\",1800-E22,\"\")","v":""},"",null,null,{"$f":"IF(A31=\"\",\"\",VLOOKUP(MONTH(A31),T!A$1:B$12,2,FALSE))","v":"Marts"},{"$f":"IF(A31=\"\",\"\",A31-A30)","v":31},"",null,{"$f":"IF(A31=\"\",\"\",VLOOKUP(MONTH(A31),T!A$1:B$12,2,FALSE))","v":"Marts"},{"$f":"INDIRECT(\"'\"&$N$1&\"'!d31\")","v":8},null,"Marts","",null,"","",{"$f":"IF(A31=\"\",\"\",VLOOKUP(MONTH(A31),'Beregn varme 2015'!A$2:I$13,9,FALSE))","v":8.493150684931507},""]
[null,null,null,null,"Års forbrug",null,{"$f":"SUM(G11:G22)","v":0},null,null,{"$f":"IF(A32=\"\",\"\",VLOOKUP(MONTH(A32),T!A$1:B$12,2,FALSE))","v":"April"},{"$f":"IF(A32=\"\",\"\",A32-A31)","v":30},"",null,{"$f":"IF(A32=\"\",\"\",VLOOKUP(MONTH(A32),T!A$1:B$12,2,FALSE))","v":"April"},{"$f":"INDIRECT(\"'\"&$N$1&\"'!d32\")","v":6},null,"April","",null,"","",{"$f":"IF(A32=\"\",\"\",VLOOKUP(MONTH(A32),'Beregn varme 2015'!A$2:I$13,9,FALSE))","v":8.2191780821917799},""]
["MÅNEDLIG AFLÆSNING AF VANDMÅLER",null,null,null,"MÅNEDLIG AFLÆSNING AF ELMÅLER",null,null,"Bemærkning:",null,{"$f":"IF(A33=\"\",\"\",VLOOKUP(MONTH(A33),T!A$1:B$12,2,FALSE))","v":"Maj"},{"$f":"IF(A33=\"\",\"\",A33-A32)","v":31},"",null,{"$f":"IF(A33=\"\",\"\",VLOOKUP(MONTH(A33),T!A$1:B$12,2,FALSE))","v":"Maj"},{"$f":"INDIRECT(\"'\"&$N$1&\"'!d33\")","v":7},null,"Maj","",null,"","",{"$f":"IF(A33=\"\",\"\",VLOOKUP(MONTH(A33),'Beregn varme 2015'!A$2:I$13,9,FALSE))","v":8.493150684931507},""]
[null,null,null,null,null,null,null,null,null,{"$f":"IF(A34=\"\",\"\",VLOOKUP(MONTH(A34),T!A$1:B$12,2,FALSE))","v":"Juni"},{"$f":"IF(A34=\"\",\"\",A34-A33)","v":30},"",null,"Juni",{"$f":"INDIRECT(\"'\"&$N$1&\"'!d34\")","v":6},null,"Juni","",null,"",{"$f":"IF(T25<>\"\",T25/(O25/100),\" - \")","v":" - "},{"$f":"IF(A34=\"\",\"\",VLOOKUP(MONTH(A34),'Beregn varme 2015'!A$2:I$13,9,FALSE))","v":8.2191780821917799},""]
["Dato","Aflæst",null,"Forbrug","Dato","Aflæst","Forbrug",null,null,{"$f":"IF(A35=\"\",\"\",VLOOKUP(MONTH(A35),T!A$1:B$12,2,FALSE))","v":"Juli"},{"$f":"IF(A35=\"\",\"\",A35-A34)","v":31},"",null,"Juli",{"$f":"INDIRECT(\"'\"&$N$1&\"'!d34\")","v":6},null,"Juli","",null,"",{"$f":"IF(T26<>\"\",T26/(O26/100),\" - \")","v":" - "},{"$f":"IF(A35=\"\",\"\",VLOOKUP(MONTH(A35),'Beregn varme 2015'!A$2:I$13,9,FALSE))","v":8.493150684931507},""]
[null,"m³",null,"m³",null,"KWh","KWh",null,null,{"$f":"IF(A36=\"\",\"\",VLOOKUP(MONTH(A36),T!A$1:B$12,2,FALSE))","v":"August"},31,"",null,"August",{"$f":"INDIRECT(\"'\"&$N$1&\"'!d34\")","v":6},null,"August","",null,"","",{"$f":"IF(A36=\"\",\"\",VLOOKUP(MONTH(A36),'Beregn varme 2015'!A$2:I$13,9,FALSE))","v":8.493150684931507},""]
[{"$f":"DATE(D1-1,Setup!D3,Setup!C3)","v":"2015-12-31"},{"$f":"INDIRECT(\"'\"&$N$1&\"'!b40\")","v":0},null,null,{"$f":"DATE(D1-1,12,31)","v":"2015-12-31"},{"$f":"INDIRECT(\"'\"&$N$1&\"'!f40\")","v":0},null,null,null,{"$f":"IF(A37=\"\",\"\",VLOOKUP(MONTH(A37),T!A$1:B$12,2,FALSE))","v":"September"},30,"",null,"September",6,null,"September","",null,"","",{"$f":"IF(A37=\"\",\"\",VLOOKUP(MONTH(A37),'Beregn varme 2015'!A$2:I$13,9,FALSE))","v":8.2191780821917799},""]
[{"$f":"EDATE($A$28,ROWS($1:1))","v":"2016-01-31"},null,null,{"$f":"IF(B29<>\"\",B29-B28,\"\")","v":""},{"$f":"EDATE($E$28,ROWS($1:1))","v":"2016-01-31"},null,{"$f":"IF(F29<>\"\",F29-F28,\"\")","v":""},null,null,{"$f":"IF(A38=\"\",\"\",VLOOKUP(MONTH(A38),T!A$1:B$12,2,FALSE))","v":"Oktober"},31,"",null,"Oktober",6,null,"Oktober","",null,"","",{"$f":"IF(A38=\"\",\"\",VLOOKUP(MONTH(A38),'Beregn varme 2015'!A$2:I$13,9,FALSE))","v":8.493150684931507},""]
[{"$f":"EDATE($A$28,ROWS($1:2))","v":"2016-02-29"},null,null,{"$f":"IF(B30<>\"\",B30-B29,\"\")","v":""},{"$f":"EDATE($E$28,ROWS($1:2))","v":"2016-02-29"},null,"",null,null,{"$f":"IF(A39=\"\",\"\",VLOOKUP(MONTH(A39),T!A$1:B$12,2,FALSE))","v":"November"},30,"",null,"November",6,null,"November","",null,"","",{"$f":"IF(A39=\"\",\"\",VLOOKUP(MONTH(A39),'Beregn varme 2015'!A$2:I$13,9,FALSE))","v":8.2191780821917799},""]
[{"$f":"EDATE($A$28,ROWS($1:3))","v":"2016-03-31"},null,null,"",{"$f":"EDATE($E$28,ROWS($1:3))","v":"2016-03-31"},null,"",null,null,{"$f":"IF(A40=\"\",\"\",VLOOKUP(MONTH(A40),T!A$1:B$12,2,FALSE))","v":"December"},31,"",null,"December",6,null,"December","",null,"","",{"$f":"IF(A40=\"\",\"\",VLOOKUP(MONTH(A40),'Beregn varme 2015'!A$2:I$13,9,FALSE))","v":8.493150684931507},""]
[{"$f":"EDATE($A$28,ROWS($1:4))","v":"2016-04-30"},null,null,"",{"$f":"EDATE($E$28,ROWS($1:4))","v":"2016-04-30"},null,""]
[{"$f":"EDATE($A$28,ROWS($1:5))","v":"2016-05-31"},null,null,"",{"$f":"EDATE($E$28,ROWS($1:5))","v":"2016-05-31"},null,"",null,null,"Hele året",{"$f":"SUM(K20:K31)","v":366},{"$f":"IFERROR(D41/K33,\"\")","v":0},null,"Års Total",{"$f":"SUM(O20:O31)","v":77},null,null,{"$f":"D41","v":0},null,{"$f":"IF(R33<>0,R33-O33,\"\")","v":""},{"$f":"IF(T33<>\"\",T33/(O33/100),\"\")","v":""},{"$f":"SUM(V20:V31)","v":99.999999999999986},{"$f":"SUM(W20:W31)","v":0}]
[{"$f":"EDATE($A$28,ROWS($1:6))","v":"2016-06-30"},null,null,"",{"$f":"EDATE($E$28,ROWS($1:6))","v":"2016-06-30"},null,""]
[{"$f":"EDATE($A$28,ROWS($1:7))","v":"2016-07-31"},null,null,"",{"$f":"EDATE($E$28,ROWS($1:7))","v":"2016-07-31"},null,"",null,null,"EL",null,null,null,{"$f":"N1-1&\"/\"&N1","v":"2014/2015"},null,null,{"$f":"N1&\"/\"&Q1","v":"2015/2016"},null,null," +/-","%","Forventet forbrug"]
[{"$f":"EDATE($A$28,ROWS($1:8))","v":"2016-08-31"},null,null,"",{"$f":"EDATE($E$28,ROWS($1:8))","v":"2016-08-31"},null,"",null,null,"Måned","Dage","KWh pr. dag",null,"EL","KWh",null,null,"KWh",null,"KWh",null,"%","KWh"]
[{"$f":"EDATE($A$28,ROWS($1:9))","v":"2016-09-30"},null,null,"",{"$f":"EDATE($E$28,ROWS($1:9))","v":"2016-09-30"},null,"",null,null,{"$f":"IF(E29=\"\",\"\",VLOOKUP(Y37,T!A$1:B$12,2,FALSE))","v":"August"},{"$f":"DAY(X37)","v":31},{"$f":"IF(R37<>\"\",R37/K37,\"\")","v":9.806451612903226},null,{"$f":"J37","v":"August"},{"$f":"INDIRECT(\"'\"&$N$1-1&\"'!g36\")","v":375},null,{"$f":"J37","v":"August"},{"$f":"INDIRECT(\"'\"&$N$1&\"'!g36\")","v":304},null,{"$f":"IF(R37=\"\",\"\",R37-O37)","v":-71},{"$f":"IF(R37<>\"\",T37/(O37/100),\"\")","v":-18.933333333333334},{"$f":"IF(E29=\"\",\"\",VLOOKUP(MONTH(E29),'Beregn varme 2015'!A$2:J$13,10,FALSE))","v":10},{"$f":"IF(R37=\"\",\"\",O$50/100*V37)","v":496},{"$f":"DATE(N1,Setup!D4+1,Setup!C4)","v":"2015-08-31"},{"$f":"MONTH(X37)","v":8}]
[{"$f":"EDATE($A$28,ROWS($1:10))","v":"2016-10-31"},null,null,"",{"$f":"EDATE($E$28,ROWS($1:10))","v":"2016-10-31"},null,"",null,null,{"$f":"IF(E30=\"\",\"\",VLOOKUP(Y38,T!A$1:B$12,2,FALSE))","v":"September"},{"$f":"DAY(X38)","v":30},{"$f":"IF(R38<>\"\",R38/K38,\"\")","v":""},null,{"$f":"J38","v":"September"},{"$f":"INDIRECT(\"'\"&$N$1-1&\"'!g37\")","v":376},null,{"$f":"J38","v":"September"},{"$f":"INDIRECT(\"'\"&$N$1&\"'!g37\")","v":""},null,{"$f":"IF(R38<>\"\",R38-O38,\"\")","v":""},{"$f":"IF(R38<>\"\",T38/(O38/100),\"\")","v":""},{"$f":"IF(E30=\"\",\"\",VLOOKUP(MONTH(E30),'Beregn varme 2015'!A$2:J$13,10,FALSE))","v":9},"",{"$f":"EDATE($X$37,ROW(1:1))","v":"2015-09-30"},{"$f":"MONTH(X38)","v":9}]
[{"$f":"EDATE($A$28,ROWS($1:11))","v":"2016-11-30"},null,null,"",{"$f":"EDATE($E$28,ROWS($1:11))","v":"2016-11-30"},null,"",null,null,{"$f":"IF(E31=\"\",\"\",VLOOKUP(Y39,T!A$1:B$12,2,FALSE))","v":"Oktober"},31,{"$f":"IF(R39<>\"\",R39/K39,\"\")","v":""},null,"Oktober",{"$f":"INDIRECT(\"'\"&$N$1-1&\"'!g38\")","v":401},null,"Oktober",{"$f":"INDIRECT(\"'\"&$N$1&\"'!g38\")","v":""},null,{"$f":"IF(R39<>\"\",R39-O39,\"\")","v":""},{"$f":"IF(R39<>\"\",T39/(O39/100),\"\")","v":""},{"$f":"IF(E31=\"\",\"\",VLOOKUP(MONTH(E31),'Beregn varme 2015'!A$2:J$13,10,FALSE))","v":9},"",{"$f":"EDATE($X$37,ROW(2:2))","v":"2015-10-31"},10]
[{"$f":"EDATE($A$28,ROWS($1:12))","v":"2016-12-31"},null,null,"",{"$f":"EDATE($E$28,ROWS($1:12))","v":"2016-12-31"},null,"",null,null,{"$f":"IF(E32=\"\",\"\",VLOOKUP(Y40,T!A$1:B$12,2,FALSE))","v":"November"},30,"",null,"November",{"$f":"INDIRECT(\"'\"&$N$1-1&\"'!g39\")","v":433},null,"November",{"$f":"INDIRECT(\"'\"&$N$1&\"'!g39\")","v":""},null,{"$f":"IF(R40<>\"\",R40-O40,\"\")","v":""},{"$f":"IF(R40<>\"\",T40/(O40/100),\"\")","v":""},{"$f":"IF(E32=\"\",\"\",VLOOKUP(MONTH(E32),'Beregn varme 2015'!A$2:J$13,10,FALSE))","v":8},"",{"$f":"EDATE($X$37,ROW(3:3))","v":"2015-11-30"},11]
["Års forbrug",null,null,{"$f":"SUM(D29:D34,D35:D40)","v":0},"Års forbrug",null,{"$f":"SUM(G29:G34,G35:G40)","v":0},null,null,{"$f":"IF(E33=\"\",\"\",VLOOKUP(Y41,T!A$1:B$12,2,FALSE))","v":"December"},31,"",null,"December",{"$f":"INDIRECT(\"'\"&$N$1-1&\"'!g40\")","v":513},null,"December",{"$f":"INDIRECT(\"'\"&$N$1&\"'!g40\")","v":""},null,{"$f":"IF(R41<>\"\",R41-O41,\"\")","v":""},{"$f":"IF(R41<>\"\",T41/(O41/100),\"\")","v":""},{"$f":"IF(E33=\"\",\"\",VLOOKUP(MONTH(E33),'Beregn varme 2015'!A$2:J$13,10,FALSE))","v":8},"","2015-12-31",12]
[null,null,null,null,null,null,null,null,null,{"$f":"IF(E34=\"\",\"\",VLOOKUP(Y42,T!A$1:B$12,2,FALSE))","v":"Januar"},31,"",null,"Januar",{"$f":"INDIRECT(\"'\"&$N$1&\"'!g29\")","v":523},null,"Januar",{"$f":"IF(G34<>\"\",G34,\"\")","v":""},null,{"$f":"IF(R42<>\"\",R42-O42,\"\")","v":""},"",{"$f":"IF(E34=\"\",\"\",VLOOKUP(MONTH(E34),'Beregn varme 2015'!A$2:J$13,10,FALSE))","v":7},"","2016-01-31",1]
[null,null,null,null,null,null,null,null,null,{"$f":"IF(E35=\"\",\"\",VLOOKUP(Y43,T!A$1:B$12,2,FALSE))","v":"Februar"},29,"",null,"Februar",{"$f":"INDIRECT(\"'\"&$N$1&\"'!g30\")","v":460},null,"Februar","",null,"","",{"$f":"IF(E35=\"\",\"\",VLOOKUP(MONTH(E35),'Beregn varme 2015'!A$2:J$13,10,FALSE))","v":6},"","2016-02-29",2]
[null,null,null,null,null,null,null,null,null,{"$f":"IF(E36=\"\",\"\",VLOOKUP(Y44,T!A$1:B$12,2,FALSE))","v":"Marts"},31,"",null,"Marts",{"$f":"INDIRECT(\"'\"&$N$1&\"'!g31\")","v":513},null,"Marts","",null,"","",{"$f":"IF(E36=\"\",\"\",VLOOKUP(MONTH(E36),'Beregn varme 2015'!A$2:J$13,10,FALSE))","v":7},"","2016-03-31",3]
[null,null,null,null,null,null,null,null,null,{"$f":"IF(E37=\"\",\"\",VLOOKUP(Y45,T!A$1:B$12,2,FALSE))","v":"April"},30,"",null,"April",{"$f":"INDIRECT(\"'\"&$N$1&\"'!g32\")","v":369},null,"April","",null,"","",{"$f":"IF(E37=\"\",\"\",VLOOKUP(MONTH(E37),'Beregn varme 2015'!A$2:J$13,10,FALSE))","v":7},"","2016-04-30",4]
[null,null,null,null,null,null,null,null,null,{"$f":"IF(E38=\"\",\"\",VLOOKUP(Y46,T!A$1:B$12,2,FALSE))","v":"Maj"},31,"",null,"Maj",{"$f":"INDIRECT(\"'\"&$N$1&\"'!g33\")","v":358},null,"Maj","",null,"","",{"$f":"IF(E38=\"\",\"\",VLOOKUP(MONTH(E38),'Beregn varme 2015'!A$2:J$13,10,FALSE))","v":9},"","2016-05-31",5]
[null,null,null,null,null,null,null,null,null,{"$f":"IF(E39=\"\",\"\",VLOOKUP(Y47,T!A$1:B$12,2,FALSE))","v":"Juni"},30,"",null,"Juni",{"$f":"INDIRECT(\"'\"&$N$1&\"'!g34\")","v":310},null,"Juni","",null,"","",{"$f":"IF(E39=\"\",\"\",VLOOKUP(MONTH(E39),'Beregn varme 2015'!A$2:J$13,10,FALSE))","v":9},"","2016-06-30",6]
[null,null,null,null,null,null,null,null,null,{"$f":"IF(E40=\"\",\"\",VLOOKUP(Y48,T!A$1:B$12,2,FALSE))","v":"Juli"},31,"",null,{"$f":"J48","v":"Juli"},{"$f":"INDIRECT(\"'\"&$N$1&\"'!g35\")","v":329},null,{"$f":"J48","v":"Juli"},"",null,"",{"$f":"IF(R48<>\"\",T48/(R48/100),\"\")","v":""},{"$f":"IF(E40=\"\",\"\",VLOOKUP(MONTH(E40),'Beregn varme 2015'!A$2:J$13,10,FALSE))","v":11},"","2016-07-31",7]
[]
[null,null,null,null,null,null,null,null,null,"Hele året",{"$f":"SUM(K37:K48)","v":366},{"$f":"IFERROR(R50/K50,\"\")","v":0.8306010928961749},null,"Års Total",{"$f":"SUM(O37:O48)","v":4960},null,null,{"$f":"SUM(R37:R48)","v":304},null,{"$f":"IF(R50<>0,R50-O50,\"\")","v":-4656},{"$f":"IF(T50<>\"\",T50/(O50/100),\"\")","v":-93.870967741935488},{"$f":"SUM(V37:V48)","v":100},{"$f":"SUM(W37:W48)","v":496}]

{"sheet":"2015","index":17,"n_rows":50,"n_cols":25,"rows_kept":50,"cut":false,"hidden":false,"merged":[[43,4,44,4],[38,1,38,2],[39,1,39,2],[40,0,40,2],[40,4,40,5],[35,1,35,2],[36,1,36,2],[37,1,37,2],[32,1,32,2],[27,1,27,2],[28,1,28,2],[30,1,30,2],[31,1,31,2],[29,1,29,2],[33,1,33,2],[0,21,0,22],[1,0,1,7],[2,0,2,7],[3,1,3,7],[5,0,6,7],[0,9,0,11],[0,0,0,1],[34,21,34,22],[7,0,8,0],[7,4,8,4],[7,7,8,7],[17,21,17,22],[22,4,22,5],[23,7,24,7],[34,1,34,2],[23,0,24,3],[23,4,24,6],[25,0,26,0],[25,1,25,2],[26,1,26,2],[25,4,26,4],[34,9,34,11],[17,9,17,11]]}
["Vælg årstal:",null,null,2015,null,null,null,null,null,"Olie",null,null,null,{"$f":"Q1-1","v":2014},null,null,{"$f":"D1","v":2015},null,null," +/-","%","Forventet forbrug"]
[{"$f":"System!A19","v":"Version: 2.0.2 / Bjarne Hansen"},null,null,null,null,null,null,null,null,"Måned","Dage","Liter pr dag",null,"Olie","Liter","%",null,"Liter","%","Liter",null,"%","Liter"]
["Aflæsningsskema til Olieforbrug samt EL og Vand",null,null,null,null,null,null,null,null,{"$f":"IF(A11=\"\",\"\",VLOOKUP(MONTH(A11),T!A$1:B$12,2,FALSE))","v":"Januar"},{"$f":"A11-A10","v":31},{"$f":"IF(G11<>\"\",G11/K3,\"\")","v":10.838709677419354},null,{"$f":"IF(A11=\"\",\"\",VLOOKUP(MONTH(A11),T!$A$1:$B$12,2,FALSE))","v":"Januar"},{"$f":"INDIRECT(\"'\"&$N$1&\"'!g11\")","v":421},{"$f":"IF(O3=\"\",\"\",O3/(O$16/100))","v":19.60875640428505},{"$f":"IF(A11=\"\",\"\",VLOOKUP(MONTH(A11),T!$A$1:$B$12,2,FALSE))","v":"Januar"},{"$f":"G11","v":336},{"$f":"IF(R3=\"\",\"\",R3/(R$16/100))","v":23.69534555712271},{"$f":"IF(R3<>\"\",R3-O3,\"\")","v":-85},{"$f":"IF(AND(R3<>\"\",O3<>0),T3/(O3/100),\"  -  \")","v":-20.190023752969122},{"$f":"IF(A11=\"\",\"\",VLOOKUP(MONTH(A11),'Beregn varme 2015'!A$2:R$13,15,FALSE))","v":15.366360130525067},{"$f":"IF(R3=\"\",\"\",VLOOKUP(MONTH(A11),INDIRECT(\"'Beregn varme \"&Q1&\"'!A2:R13\"),16,FALSE))","v":329.91575200237321}]
["Navn :","Bjarne Hansen, Lyrsbyvej 31",null,null,null,null,null,null,null,{"$f":"IF(A12=\"\",\"\",VLOOKUP(MONTH(A12),T!A$1:B$12,2,FALSE))","v":"Februar"},{"$f":"IF(A12=\"\",\"\",A12-A11)","v":28},11.75,null,{"$f":"IF(A12=\"\",\"\",VLOOKUP(MONTH(A12),T!A$1:B$12,2,FALSE))","v":"Februar"},{"$f":"INDIRECT(\"'\"&$N$1&\"'!g12\")","v":315},14.671634839310666,{"$f":"IF(A12=\"\",\"\",VLOOKUP(MONTH(A12),T!$A$1:$B$12,2,FALSE))","v":"Februar"},329,23.201692524682652,{"$f":"IF(R4<>\"\",R4-O4,\"\")","v":14},{"$f":"IF(AND(R4<>\"\",O4<>0),T4/(O4/100),\"  -  \")","v":4.4444444444444446},{"$f":"IF(A12=\"\",\"\",VLOOKUP(MONTH(A12),'Beregn varme 2015'!A$2:R$13,15,FALSE))","v":14.684070008899436},{"$f":"IF(R4=\"\",\"\",VLOOKUP(MONTH(A12),INDIRECT(\"'Beregn varme \"&$Q$1&\"'!A2:R13\"),16,FALSE))","v":315.26698309107087}]
["Tankstørrelse:",null,{"$f":"System!F8","v":1800},"Liter",null,null,null,null,null,{"$f":"IF(A13=\"\",\"\",VLOOKUP(MONTH(A13),T!A$1:B$12,2,FALSE))","v":"Marts"},31,9.6451612903225801,null,{"$f":"IF(A13=\"\",\"\",VLOOKUP(MONTH(A13),T!A$1:B$12,2,FALSE))","v":"Marts"},{"$f":"INDIRECT(\"'\"&$N$1&\"'!g13\")","v":291},13.553795994410807,{"$f":"IF(A13=\"\",\"\",VLOOKUP(MONTH(A13),T!$A$1:$B$12,2,FALSE))","v":"Marts"},299,21.086036671368124,8,2.7491408934707904,{"$f":"IF(A13=\"\",\"\",VLOOKUP(MONTH(A13),'Beregn varme 2015'!A$2:R$13,15,FALSE))","v":14.268762978344704},{"$f":"IF(R5=\"\",\"\",VLOOKUP(MONTH(A13),INDIRECT(\"'Beregn varme \"&$Q$1&\"'!A2:R13\"),16,FALSE))","v":306.35034114506078}]
["MÅNEDLIG PEJLING AF OLIETANK",null,null,null,null,null,null,null,null,{"$f":"IF(A14=\"\",\"\",VLOOKUP(MONTH(A14),T!A$1:B$12,2,FALSE))","v":"April"},30,7.2666666666666666,null,{"$f":"IF(A14=\"\",\"\",VLOOKUP(MONTH(A14),T!A$1:B$12,2,FALSE))","v":"April"},{"$f":"INDIRECT(\"'\"&$N$1&\"'!g14\")","v":191},8.8961341406613883,{"$f":"IF(A14=\"\",\"\",VLOOKUP(MONTH(A14),T!$A$1:$B$12,2,FALSE))","v":"April"},218,15.3737658674189,27,14.136125654450263,{"$f":"IF(A14=\"\",\"\",VLOOKUP(MONTH(A14),'Beregn varme 2015'!A$2:R$13,15,FALSE))","v":11.094630673390684},{"$f":"IF(R6=\"\",\"\",VLOOKUP(MONTH(A14),INDIRECT(\"'Beregn varme \"&$Q$1&\"'!A2:R13\"),16,FALSE))","v":238.201720557698}]
[null,null,null,null,null,null,null,null,null,{"$f":"IF(A15=\"\",\"\",VLOOKUP(MONTH(A15),T!A$1:B$12,2,FALSE))","v":"Maj"},31,4.838709677419355,null,{"$f":"IF(A15=\"\",\"\",VLOOKUP(MONTH(A15),T!A$1:B$12,2,FALSE))","v":"Maj"},{"$f":"INDIRECT(\"'\"&$N$1&\"'!g15\")","v":91},4.2384722869119704,{"$f":"IF(A15=\"\",\"\",VLOOKUP(MONTH(A15),T!$A$1:$B$12,2,FALSE))","v":"Maj"},150,10.578279266572638,59,64.835164835164832,{"$f":"IF(A15=\"\",\"\",VLOOKUP(MONTH(A15),'Beregn varme 2015'!A$2:R$13,15,FALSE))","v":7.0008899436369028},{"$f":"IF(R7=\"\",\"\",VLOOKUP(MONTH(A15),INDIRECT(\"'Beregn varme \"&$Q$1&\"'!A2:R13\"),16,FALSE))","v":150.30910708988429}]
["Dato","Pejling",null,"Fyldt på","Beholdning","Plads til","Forbrug","Bemærkning:",null,{"$f":"IF(A16=\"\",\"\",VLOOKUP(MONTH(A16),T!A$1:B$12,2,FALSE))","v":"Juni"},30,1.5333333333333334,null,{"$f":"IF(A16=\"\",\"\",VLOOKUP(MONTH(A16),T!A$1:B$12,2,FALSE))","v":"Juni"},{"$f":"INDIRECT(\"'\"&$N$1&\"'!g16\")","v":7},0.32603632976245928,{"$f":"IF(A16=\"\",\"\",VLOOKUP(MONTH(A16),T!$A$1:$B$12,2,FALSE))","v":"Juni"},46,3.2440056417489425,39,557.14285714285711,{"$f":"IF(A16=\"\",\"\",VLOOKUP(MONTH(A16),'Beregn varme 2015'!A$2:R$13,15,FALSE))","v":2.6698309107089884},57.321269652921977]
[null,"i cm","Liter","Liter",null,"Liter","Liter",null,null,{"$f":"IF(A17=\"\",\"\",VLOOKUP(MONTH(A17),T!A$1:B$12,2,FALSE))","v":"Juli"},31,1.064516129032258,null,{"$f":"IF(A17=\"\",\"\",VLOOKUP(MONTH(A17),T!A$1:B$12,2,FALSE))","v":"Juli"},{"$f":"INDIRECT(\"'\"&$N$1&\"'!g17\")","v":0},0,{"$f":"IF(A17=\"\",\"\",VLOOKUP(MONTH(A17),T!$A$1:$B$12,2,FALSE))","v":"Juli"},33,2.3272214386459802,33,"  -  ",{"$f":"IF(A17=\"\",\"\",VLOOKUP(MONTH(A17),'Beregn varme 2015'!A$2:R$13,15,FALSE))","v":0.59329575793533074},12.738059922871551]
[{"$f":"DATE(D1-1,12,31)","v":"2014-12-31"},{"$f":"INDIRECT(\"'\"&N1&\"'!b22\")","v":101.7},{"$f":"IF(B10=\"\",\"\",IF(System!E$8=1,VLOOKUP(B10,Pejletabel!A$3:G$336,2,FALSE),IF(System!E$8=2,VLOOKUP(B10,Pejletabel!A$3:G$357,3,FALSE),IF(System!E$8=3,VLOOKUP(B10,Pejletabel!A$3:G$357,4,FALSE),IF(System!E$8=4,VLOOKUP(B10,Pejletabel!A$3:G$357,5,FALSE),IF(System!E8=5,VLOOKUP(B10,Pejletabel!A3:G358,6,FALSE),IF(System!E$8=6,VLOOKUP(B10,Pejletabel!A$3:G$357,7,FALSE))))))))","v":1240},null,{"$f":"IF(C10<>\"\",SUM(C10:D10),\"\")","v":1240},{"$f":"IF(E10<>\"\",System!F$8-E10,\"\")","v":560},null,null,null,{"$f":"IF(A18=\"\",\"\",VLOOKUP(MONTH(A18),T!A$1:B$12,2,FALSE))","v":"August"},31,0.22580645161290322,null,{"$f":"IF(A18=\"\",\"\",VLOOKUP(MONTH(A18),T!A$1:B$12,2,FALSE))","v":"August"},{"$f":"INDIRECT(\"'\"&$N$1&\"'!g18\")","v":0},0,{"$f":"IF(A18=\"\",\"\",VLOOKUP(MONTH(A18),T!$A$1:$B$12,2,FALSE))","v":"August"},7,0.49365303244005643,7,"  -  ",{"$f":"IF(A18=\"\",\"\",VLOOKUP(MONTH(A18),'Beregn varme 2015'!A$2:R$13,15,FALSE))","v":0.68229012162563041},14.648768911302284]
[{"$f":"EDATE($A$10,ROWS($1:1))","v":"2015-01-31"},76.2,{"$f":"IF(B11=\"\",\"\",IF(System!E$8=1,VLOOKUP(B11,Pejletabel!A$3:G$336,2,FALSE),IF(System!E$8=2,VLOOKUP(B11,Pejletabel!A$3:G$357,3,FALSE),IF(System!E$8=3,VLOOKUP(B11,Pejletabel!A$3:G$357,4,FALSE),IF(System!E$8=4,VLOOKUP(B11,Pejletabel!A$3:G$357,5,FALSE),IF(System!E$8=5,VLOOKUP(B11,Pejletabel!A$3:G$357,6,FALSE),IF(System!E8=6,VLOOKUP(B11,Pejletabel!A3:G357,7,FALSE))))))))","v":904},null,{"$f":"IF(C11<>\"\",C11,\"\")","v":904},{"$f":"IF(E11<>\"\",1800-E11,\"\")","v":896},{"$f":"IF(C11<>\"\",C10-C11+D11,\"\")","v":336},"skruede fyret op til 60°",null,{"$f":"IF(A19=\"\",\"\",VLOOKUP(MONTH(A19),T!A$1:B$12,2,FALSE))","v":"September"},30,"",null,{"$f":"IF(A19=\"\",\"\",VLOOKUP(MONTH(A19),T!A$1:B$12,2,FALSE))","v":"September"},{"$f":"INDIRECT(\"'\"&$N$1&\"'!g19\")","v":43},2.0027945971122496,{"$f":"IF(A19=\"\",\"\",VLOOKUP(MONTH(A19),T!$A$1:$B$12,2,FALSE))","v":"September"},"","","","  -  ",{"$f":"IF(A19=\"\",\"\",VLOOKUP(MONTH(A19),'Beregn varme 2015'!A$2:R$13,15,FALSE))","v":3.2334618807475524},""]
[{"$f":"EDATE($A$10,ROWS($1:2))","v":"2015-02-28"},51.2,{"$f":"IF(B12=\"\",\"\",IF(System!E$8=1,VLOOKUP(B12,Pejletabel!A$3:G$336,2,FALSE),IF(System!E$8=2,VLOOKUP(B12,Pejletabel!A$3:G$357,3,FALSE),IF(System!E$8=3,VLOOKUP(B12,Pejletabel!A$3:G$357,4,FALSE),IF(System!E$8=4,VLOOKUP(B12,Pejletabel!A$3:G$357,5,FALSE),IF(System!E$8=5,VLOOKUP(B12,Pejletabel!A$3:G$357,6,FALSE),IF(System!E13=6,VLOOKUP(B12,Pejletabel!A4:G358,7,FALSE))))))))","v":575},null,{"$f":"IF(C12<>\"\",C12,\"\")","v":575},{"$f":"IF(E12<>\"\",1800-E12,\"\")","v":1225},{"$f":"IF(C12<>\"\",C11-C12+D12,\"\")","v":329},null,null,{"$f":"IF(A20=\"\",\"\",VLOOKUP(MONTH(A20),T!A$1:B$12,2,FALSE))","v":"Oktober"},31,"",null,{"$f":"IF(A20=\"\",\"\",VLOOKUP(MONTH(A20),T!A$1:B$12,2,FALSE))","v":"Oktober"},{"$f":"INDIRECT(\"'\"&$N$1&\"'!g20\")","v":161},7.4988355845365628,{"$f":"IF(A20=\"\",\"\",VLOOKUP(MONTH(A20),T!$A$1:$B$12,2,FALSE))","v":"Oktober"},"","","","  -  ",{"$f":"IF(A20=\"\",\"\",VLOOKUP(MONTH(A20),'Beregn varme 2015'!A$2:R$13,15,FALSE))","v":6.7635716404627706},""]
[{"$f":"EDATE($A$10,ROWS($1:3))","v":"2015-03-31"},28.5,{"$f":"IF(B13=\"\",\"\",IF(System!E$8=1,VLOOKUP(B13,Pejletabel!A$3:G$336,2,FALSE),IF(System!E$8=2,VLOOKUP(B13,Pejletabel!A$3:G$357,3,FALSE),IF(System!E$8=3,VLOOKUP(B13,Pejletabel!A$3:G$357,4,FALSE),IF(System!E$8=4,VLOOKUP(B13,Pejletabel!A$3:G$357,5,FALSE),IF(System!E$8=5,VLOOKUP(B13,Pejletabel!A$3:G$357,6,FALSE),IF(System!E19=6,VLOOKUP(B13,Pejletabel!A5:G359,7,FALSE))))))))","v":276},null,276,1524,299,"1/4 fyldt vand på og fået",null,{"$f":"IF(A21=\"\",\"\",VLOOKUP(MONTH(A21),T!A$1:B$12,2,FALSE))","v":"November"},30,"",null,{"$f":"IF(A21=\"\",\"\",VLOOKUP(MONTH(A21),T!A$1:B$12,2,FALSE))","v":"November"},{"$f":"INDIRECT(\"'\"&$N$1&\"'!g21\")","v":285},13.274336283185841,{"$f":"IF(A21=\"\",\"\",VLOOKUP(MONTH(A21),T!$A$1:$B$12,2,FALSE))","v":"November"},"","","","  -  ",{"$f":"IF(A21=\"\",\"\",VLOOKUP(MONTH(A21),'Beregn varme 2015'!A$2:R$13,15,FALSE))","v":10.056363097003857},""]
[{"$f":"EDATE($A$10,ROWS($1:4))","v":"2015-04-30"},125.5,{"$f":"IF(B14=\"\",\"\",IF(System!E$8=1,VLOOKUP(B14,Pejletabel!A$3:G$336,2,FALSE),IF(System!E$8=2,VLOOKUP(B14,Pejletabel!A$3:G$357,3,FALSE),IF(System!E$8=3,VLOOKUP(B14,Pejletabel!A$3:G$357,4,FALSE),IF(System!E$8=4,VLOOKUP(B14,Pejletabel!A$3:G$357,5,FALSE),IF(System!E$8=5,VLOOKUP(B14,Pejletabel!A$3:G$357,6,FALSE),IF(System!E20=6,VLOOKUP(B14,Pejletabel!A6:G360,7,FALSE))))))))","v":1551},1493,1551,249,218,"skiftet kontrolboks og ",null,{"$f":"IF(A22=\"\",\"\",VLOOKUP(MONTH(A22),T!A$1:B$12,2,FALSE))","v":"December"},31,"",null,{"$f":"IF(A22=\"\",\"\",VLOOKUP(MONTH(A22),T!A$1:B$12,2,FALSE))","v":"December"},{"$f":"INDIRECT(\"'\"&$N$1&\"'!g22\")","v":342},15.929203539823011,{"$f":"IF(A22=\"\",\"\",VLOOKUP(MONTH(A22),T!$A$1:$B$12,2,FALSE))","v":"December"},"","","","  -  ",{"$f":"IF(A22=\"\",\"\",VLOOKUP(MONTH(A22),'Beregn varme 2015'!A$2:R$13,15,FALSE))","v":13.586472856719075},""]
[{"$f":"EDATE($A$10,ROWS($1:5))","v":"2015-05-31"},114,{"$f":"IF(B15=\"\",\"\",IF(System!E$8=1,VLOOKUP(B15,Pejletabel!A$3:G$336,2,FALSE),IF(System!E$8=2,VLOOKUP(B15,Pejletabel!A$3:G$357,3,FALSE),IF(System!E$8=3,VLOOKUP(B15,Pejletabel!A$3:G$357,4,FALSE),IF(System!E$8=4,VLOOKUP(B15,Pejletabel!A$3:G$357,5,FALSE),IF(System!E$8=5,VLOOKUP(B15,Pejletabel!A$3:G$357,6,FALSE),IF(System!E21=6,VLOOKUP(B15,Pejletabel!A7:G361,7,FALSE))))))))","v":1401},null,1401,399,150,"fotocelle på brænderen"]
[{"$f":"EDATE($A$10,ROWS($1:6))","v":"2015-06-30"},110.5,{"$f":"IF(B16=\"\",\"\",IF(System!E$8=1,VLOOKUP(B16,Pejletabel!A$3:G$336,2,FALSE),IF(System!E$8=2,VLOOKUP(B16,Pejletabel!A$3:G$357,3,FALSE),IF(System!E$8=3,VLOOKUP(B16,Pejletabel!A$3:G$357,4,FALSE),IF(System!E$8=4,VLOOKUP(B16,Pejletabel!A$3:G$357,5,FALSE),IF(System!E$8=5,VLOOKUP(B16,Pejletabel!A$3:G$357,6,FALSE),IF(System!E22=6,VLOOKUP(B16,Pejletabel!A8:G362,7,FALSE))))))))","v":1355},null,1355,445,46,"7/6 slukket fyret ",null,"Hele året",{"$f":"SUM(K3:K14)","v":365},{"$f":"G23/K16","v":3.8849315068493149},null,"Års Total",{"$f":"SUM(O3:O14)","v":2147},{"$f":"SUM(P3:P14)","v":100},null,{"$f":"G23","v":1418},null,{"$f":"IF(R16<>0,R16-O16,\"\")","v":-729},{"$f":"IF(R16<>0,T16/(O16/100),\"\")","v":-33.954354913833257},{"$f":"SUM(V3:V14)","v":100},{"$f":"SUM(W3:W14)","v":1424.7520023731831}]
[{"$f":"EDATE($A$10,ROWS($1:7))","v":"2015-07-31"},108,{"$f":"IF(B17=\"\",\"\",IF(System!E$8=1,VLOOKUP(B17,Pejletabel!A$3:G$336,2,FALSE),IF(System!E$8=2,VLOOKUP(B17,Pejletabel!A$3:G$357,3,FALSE),IF(System!E$8=3,VLOOKUP(B17,Pejletabel!A$3:G$357,4,FALSE),IF(System!E$8=4,VLOOKUP(B17,Pejletabel!A$3:G$357,5,FALSE),IF(System!E$8=5,VLOOKUP(B17,Pejletabel!A$3:G$357,6,FALSE),IF(System!E23=6,VLOOKUP(B17,Pejletabel!A9:G363,7,FALSE))))))))","v":1322},null,1322,478,33,"17/6 Tændt fyret igen"]
[{"$f":"EDATE($A$10,ROWS($1:8))","v":"2015-08-31"},107.5,{"$f":"IF(B18=\"\",\"\",IF(System!E$8=1,VLOOKUP(B18,Pejletabel!A$3:G$336,2,FALSE),IF(System!E$8=2,VLOOKUP(B18,Pejletabel!A$3:G$357,3,FALSE),IF(System!E$8=3,VLOOKUP(B18,Pejletabel!A$3:G$357,4,FALSE),IF(System!E$8=4,VLOOKUP(B18,Pejletabel!A$3:G$357,5,FALSE),IF(System!E$8=5,VLOOKUP(B18,Pejletabel!A$3:G$357,6,FALSE),IF(System!E24=6,VLOOKUP(B18,Pejletabel!A10:G364,7,FALSE))))))))","v":1315},null,1315,485,7,"og fyldt vand på",null,"Vand",null,null,null,{"$f":"N1","v":2014},null,null,{"$f":"Q1","v":2015},null,null," +/-","%","Forventet forbrug"]
[{"$f":"EDATE($A$10,ROWS($1:9))","v":"2015-09-30"},{"$f":"IFERROR(VLOOKUP(A19,Tabel1[#All],4,0),\"\")","v":""},{"$f":"IF(B19=\"\",\"\",IF(System!E$8=1,VLOOKUP(B19,Pejletabel!A$3:G$336,2,FALSE),IF(System!E$8=2,VLOOKUP(B19,Pejletabel!A$3:G$357,3,FALSE),IF(System!E$8=3,VLOOKUP(B19,Pejletabel!A$3:G$357,4,FALSE),IF(System!E$8=4,VLOOKUP(B19,Pejletabel!A$3:G$357,5,FALSE),IF(System!E$8=5,VLOOKUP(B19,Pejletabel!A$3:G$357,6,FALSE),IF(System!E25=6,VLOOKUP(B19,Pejletabel!A11:G365,7,FALSE))))))))","v":""},null,"","","","29/6 slukket fyret",null,"Måned","Dage","m³ pr. dag",null,"Vand","m³",null,null,"m³",null,"m³",null,"%","m³"]
[{"$f":"EDATE($A$10,ROWS($1:10))","v":"2015-10-31"},{"$f":"IFERROR(VLOOKUP(A20,Tabel1[#All],4,0),\"\")","v":""},{"$f":"IF(B20=\"\",\"\",IF(System!E$8=1,VLOOKUP(B20,Pejletabel!A$3:G$336,2,FALSE),IF(System!E$8=2,VLOOKUP(B20,Pejletabel!A$3:G$357,3,FALSE),IF(System!E$8=3,VLOOKUP(B20,Pejletabel!A$3:G$357,4,FALSE),IF(System!E$8=4,VLOOKUP(B20,Pejletabel!A$3:G$357,5,FALSE),IF(System!E$8=5,VLOOKUP(B20,Pejletabel!A$3:G$357,6,FALSE),IF(System!E26=6,VLOOKUP(B20,Pejletabel!A12:G366,7,FALSE))))))))","v":""},null,"","","","17/7 tændt fyret",null,{"$f":"IF(A29=\"\",\"\",VLOOKUP(MONTH(A29),T!A$1:B$12,2,FALSE))","v":"Januar"},{"$f":"A29-A28","v":31},{"$f":"IF(D29<>\"\",D29/K20,\"\")","v":0.22580645161290322},null,{"$f":"IF(A29=\"\",\"\",VLOOKUP(MONTH(A29),T!A$1:B$12,2,FALSE))","v":"Januar"},{"$f":"INDIRECT(\"'\"&$N$1&\"'!d29\")","v":7},null,"Januar",{"$f":"D29","v":7},null,{"$f":"IF(R20<>\"\",R20-O20,\"\")","v":0},{"$f":"IF(T20<>\"\",T20/(O20/100),\"\")","v":0},{"$f":"IF(A29=\"\",\"\",VLOOKUP(MONTH(A29),'Beregn varme 2015'!A$2:I$13,9,FALSE))","v":8.493150684931507},{"$f":"IF(R20=\"\",\"\",O$33*V20%)","v":6.7095890410958905}]
[{"$f":"EDATE($A$10,ROWS($1:11))","v":"2015-11-30"},{"$f":"IFERROR(VLOOKUP(A21,Tabel1[#All],4,0),\"\")","v":""},{"$f":"IF(B21=\"\",\"\",IF(System!E$8=1,VLOOKUP(B21,Pejletabel!A$3:G$336,2,FALSE),IF(System!E$8=2,VLOOKUP(B21,Pejletabel!A$3:G$357,3,FALSE),IF(System!E$8=3,VLOOKUP(B21,Pejletabel!A$3:G$357,4,FALSE),IF(System!E$8=4,VLOOKUP(B21,Pejletabel!A$3:G$357,5,FALSE),IF(System!E$8=5,VLOOKUP(B21,Pejletabel!A$3:G$357,6,FALSE),IF(System!E27=6,VLOOKUP(B21,Pejletabel!A13:G367,7,FALSE))))))))","v":""},null,"",{"$f":"IF(E21<>\"\",1800-E21,\"\")","v":""},"","4/8 slukket fyret",null,{"$f":"IF(A30=\"\",\"\",VLOOKUP(MONTH(A30),T!A$1:B$12,2,FALSE))","v":"Februar"},{"$f":"IF(A30=\"\",\"\",A30-A29)","v":28},0.25,null,{"$f":"IF(A30=\"\",\"\",VLOOKUP(MONTH(A30),T!A$1:B$12,2,FALSE))","v":"Februar"},{"$f":"INDIRECT(\"'\"&$N$1&\"'!d30\")","v":6},null,"Februar",7,null,{"$f":"IF(R21<>\"\",R21-O21,\"\")","v":1},{"$f":"IF(T21<>\"\",T21/(O21/100),\"\")","v":16.666666666666668},{"$f":"IF(A30=\"\",\"\",VLOOKUP(MONTH(A30),'Beregn varme 2015'!A$2:I$13,9,FALSE))","v":7.6712328767123283},{"$f":"IF(R21=\"\",\"\",O$33*V21%)","v":6.0602739726027393}]
[{"$f":"EDATE($A$10,ROWS($1:12))","v":"2015-12-31"},null,{"$f":"IF(B22=\"\",\"\",IF(System!E$8=1,VLOOKUP(B22,Pejletabel!A$3:G$336,2,FALSE),IF(System!E$8=2,VLOOKUP(B22,Pejletabel!A$3:G$357,3,FALSE),IF(System!E$8=3,VLOOKUP(B22,Pejletabel!A$3:G$357,4,FALSE),IF(System!E$8=4,VLOOKUP(B22,Pejletabel!A$3:G$357,5,FALSE),IF(System!E$8=5,VLOOKUP(B22,Pejletabel!A$3:G$357,6,FALSE),IF(System!E28=6,VLOOKUP(B22,Pejletabel!A14:G368,7,FALSE))))))))","v":""},null,"",{"$f":"IF(E22<>\"\",1800-E22,\"\")","v":""},"","4/9 tændt fyret",null,{"$f":"IF(A31=\"\",\"\",VLOOKUP(MONTH(A31),T!A$1:B$12,2,FALSE))","v":"Marts"},{"$f":"IF(A31=\"\",\"\",A31-A30)","v":31},0.25806451612903225,null,{"$f":"IF(A31=\"\",\"\",VLOOKUP(MONTH(A31),T!A$1:B$12,2,FALSE))","v":"Marts"},{"$f":"INDIRECT(\"'\"&$N$1&\"'!d31\")","v":7},null,"Marts",8,null,1,14.285714285714285,{"$f":"IF(A31=\"\",\"\",VLOOKUP(MONTH(A31),'Beregn varme 2015'!A$2:I$13,9,FALSE))","v":8.493150684931507},6.7095890410958905]
[null,null,null,null,"Års forbrug",null,{"$f":"SUM(G11:G22)","v":1418},null,null,{"$f":"IF(A32=\"\",\"\",VLOOKUP(MONTH(A32),T!A$1:B$12,2,FALSE))","v":"April"},{"$f":"IF(A32=\"\",\"\",A32-A31)","v":30},0.2,null,{"$f":"IF(A32=\"\",\"\",VLOOKUP(MONTH(A32),T!A$1:B$12,2,FALSE))","v":"April"},{"$f":"INDIRECT(\"'\"&$N$1&\"'!d32\")","v":6},null,"April",6,null,0,0,{"$f":"IF(A32=\"\",\"\",VLOOKUP(MONTH(A32),'Beregn varme 2015'!A$2:I$13,9,FALSE))","v":8.2191780821917799},6.4931506849315062]
["MÅNEDLIG AFLÆSNING AF VANDMÅLER",null,null,null,"MÅNEDLIG AFLÆSNING AF ELMÅLER",null,null,"Bemærkning:",null,{"$f":"IF(A33=\"\",\"\",VLOOKUP(MONTH(A33),T!A$1:B$12,2,FALSE))","v":"Maj"},{"$f":"IF(A33=\"\",\"\",A33-A32)","v":31},0.22580645161290322,null,{"$f":"IF(A33=\"\",\"\",VLOOKUP(MONTH(A33),T!A$1:B$12,2,FALSE))","v":"Maj"},{"$f":"INDIRECT(\"'\"&$N$1&\"'!d33\")","v":7},null,"Maj",7,null,0,0,{"$f":"IF(A33=\"\",\"\",VLOOKUP(MONTH(A33),'Beregn varme 2015'!A$2:I$13,9,FALSE))","v":8.493150684931507},6.7095890410958905]
[null,null,null,null,null,null,null,null,null,{"$f":"IF(A34=\"\",\"\",VLOOKUP(MONTH(A34),T!A$1:B$12,2,FALSE))","v":"Juni"},{"$f":"IF(A34=\"\",\"\",A34-A33)","v":30},0.2,null,"Juni",{"$f":"INDIRECT(\"'\"&$N$1&\"'!d34\")","v":6},null,"Juni",6,null,0,{"$f":"IF(T25<>\"\",T25/(O25/100),\" - \")","v":0},{"$f":"IF(A34=\"\",\"\",VLOOKUP(MONTH(A34),'Beregn varme 2015'!A$2:I$13,9,FALSE))","v":8.2191780821917799},6.4931506849315062]
["Dato","Aflæst",null,"Forbrug","Dato","Aflæst","Forbrug",null,null,{"$f":"IF(A35=\"\",\"\",VLOOKUP(MONTH(A35),T!A$1:B$12,2,FALSE))","v":"Juli"},{"$f":"IF(A35=\"\",\"\",A35-A34)","v":31},{"$f":"IF(D35<>\"\",D35/K26,\"\")","v":0.25806451612903225},null,"Juli",{"$f":"INDIRECT(\"'\"&$N$1&\"'!d35\")","v":7},null,"Juli",{"$f":"D35","v":8},null,1,{"$f":"IF(T26<>\"\",T26/(O26/100),\" - \")","v":14.285714285714285},{"$f":"IF(A35=\"\",\"\",VLOOKUP(MONTH(A35),'Beregn varme 2015'!A$2:I$13,9,FALSE))","v":8.493150684931507},6.7095890410958905]
[null,"m³",null,"m³",null,"KWh","KWh",null,null,{"$f":"IF(A36=\"\",\"\",VLOOKUP(MONTH(A36),T!A$1:B$12,2,FALSE))","v":"August"},31,0.22580645161290322,null,"August",{"$f":"INDIRECT(\"'\"&$N$1&\"'!d36\")","v":7},null,"August",7,null,0,{"$f":"IF(T27<>\"\",T27/(O27/100),\" - \")","v":0},{"$f":"IF(A36=\"\",\"\",VLOOKUP(MONTH(A36),'Beregn varme 2015'!A$2:I$13,9,FALSE))","v":8.493150684931507},6.7095890410958905]
["2014-12-31",{"$f":"INDIRECT(\"'\"&N1&\"'!b40\")","v":1764},null,null,{"$f":"DATE($D$1-1,12,31)","v":"2014-12-31"},{"$f":"INDIRECT(\"'\"&N1&\"'!f40\")","v":30188},null,null,null,{"$f":"IF(A37=\"\",\"\",VLOOKUP(MONTH(A37),T!A$1:B$12,2,FALSE))","v":"September"},30,"",null,"September",{"$f":"INDIRECT(\"'\"&$N$1&\"'!d37\")","v":7},null,"September","",null,"",{"$f":"IF(T28<>\"\",T28/(O28/100),\" - \")","v":" - "},{"$f":"IF(A37=\"\",\"\",VLOOKUP(MONTH(A37),'Beregn varme 2015'!A$2:I$13,9,FALSE))","v":8.2191780821917799},""]
[{"$f":"EDATE($A$28,ROWS($1:1))","v":"2015-01-31"},1771,null,{"$f":"IF(B29<>\"\",B29-B28,\"\")","v":7},{"$f":"EDATE($E$28,ROWS($1:1))","v":"2015-01-31"},30711,{"$f":"IF(F29<>\"\",F29-F28,\"\")","v":523},null,null,{"$f":"IF(A38=\"\",\"\",VLOOKUP(MONTH(A38),T!A$1:B$12,2,FALSE))","v":"Oktober"},31,"",null,"Oktober",{"$f":"INDIRECT(\"'\"&$N$1&\"'!d38\")","v":6},null,"Oktober","",null,""," - ",{"$f":"IF(A38=\"\",\"\",VLOOKUP(MONTH(A38),'Beregn varme 2015'!A$2:I$13,9,FALSE))","v":8.493150684931507},""]
[{"$f":"EDATE($A$28,ROWS($1:2))","v":"2015-02-28"},1778,null,{"$f":"IF(B30<>\"\",B30-B29,\"\")","v":7},{"$f":"EDATE($E$28,ROWS($1:2))","v":"2015-02-28"},31171,460,null,null,{"$f":"IF(A39=\"\",\"\",VLOOKUP(MONTH(A39),T!A$1:B$12,2,FALSE))","v":"November"},30,"",null,"November",{"$f":"INDIRECT(\"'\"&$N$1&\"'!d39\")","v":6},null,"November","",null,""," - ",{"$f":"IF(A39=\"\",\"\",VLOOKUP(MONTH(A39),'Beregn varme 2015'!A$2:I$13,9,FALSE))","v":8.2191780821917799},""]
[{"$f":"EDATE($A$28,ROWS($1:3))","v":"2015-03-31"},1786,null,8,{"$f":"EDATE($E$28,ROWS($1:3))","v":"2015-03-31"},31684,513,null,null,{"$f":"IF(A40=\"\",\"\",VLOOKUP(MONTH(A40),T!A$1:B$12,2,FALSE))","v":"December"},31,"",null,"December",{"$f":"INDIRECT(\"'\"&$N$1&\"'!d40\")","v":7},null,"December","",null,"",{"$f":"IF(T31<>\"\",T31/(O31/100),\"-\")","v":"-"},{"$f":"IF(A40=\"\",\"\",VLOOKUP(MONTH(A40),'Beregn varme 2015'!A$2:I$13,9,FALSE))","v":8.493150684931507},""]
[{"$f":"EDATE($A$28,ROWS($1:4))","v":"2015-04-30"},1792,null,6,{"$f":"EDATE($E$28,ROWS($1:4))","v":"2015-04-30"},32053,369]
[{"$f":"EDATE($A$28,ROWS($1:5))","v":"2015-05-31"},1799,null,7,{"$f":"EDATE($E$28,ROWS($1:5))","v":"2015-05-31"},32411,358,null,null,"Hele året",{"$f":"SUM(K20:K31)","v":365},{"$f":"D41/K33","v":0.15342465753424658},null,"Års Total",{"$f":"SUM(O20:O31)","v":79},null,null,{"$f":"D41","v":56},null,{"$f":"IF(R33<>0,R33-O33,\"\")","v":-23},{"$f":"IF(T33<>\"\",T33/(O33/100),\"\")","v":-29.11392405063291},{"$f":"SUM(V20:V31)","v":99.999999999999986},{"$f":"SUM(W20:W31)","v":52.594520547945201}]
[{"$f":"EDATE($A$28,ROWS($1:6))","v":"2015-06-30"},1805,null,6,{"$f":"EDATE($E$28,ROWS($1:6))","v":"2015-06-30"},32721,310]
[{"$f":"EDATE($A$28,ROWS($1:7))","v":"2015-07-31"},1813,null,8,{"$f":"EDATE($E$28,ROWS($1:7))","v":"2015-07-31"},33050,329,null,null,"EL",null,null,null,{"$f":"N1-1&\"/\"&N1","v":"2013/2014"},null,null,{"$f":"N1&\"/\"&Q1","v":"2014/2015"},null,null," +/-","%","Forventet forbrug"]
[{"$f":"EDATE($A$28,ROWS($1:8))","v":"2015-08-31"},1820,null,7,{"$f":"EDATE($E$28,ROWS($1:8))","v":"2015-08-31"},33354,304,null,null,"Måned","Dage","KWh pr. dag",null,"EL","KWh",null,null,"KWh",null,"KWh",null,"%","KWh"]
[{"$f":"EDATE($A$28,ROWS($1:9))","v":"2015-09-30"},{"$f":"IFERROR(VLOOKUP(A37,'Måler aflæsninger'!A1:D4,3,0),\"\")","v":""},null,"",{"$f":"EDATE($E$28,ROWS($1:9))","v":"2015-09-30"},{"$f":"IFERROR(VLOOKUP(E37,Tabel1[#All],2,0),\"\")","v":""},"",null,null,{"$f":"IF(E29=\"\",\"\",VLOOKUP(Y37,T!A$1:B$12,2,FALSE))","v":"August"},{"$f":"VLOOKUP(J37,$J$3:$K$14,2,0)","v":31},{"$f":"IF(G29<>\"\",R37/K37,\"\")","v":12.096774193548388},null,{"$f":"J37","v":"August"},{"$f":"INDIRECT(\"'\"&$N$1-1&\"'!g36\")","v":362},null,{"$f":"J37","v":"August"},{"$f":"INDIRECT(\"'\"&$N$1&\"'!g36\")","v":375},null,{"$f":"IF(R37=\"\",\"\",R37-O37)","v":13},{"$f":"IF(R37<>\"\",T37/(O37/100),\"\")","v":3.5911602209944751},{"$f":"IF(E29=\"\",\"\",VLOOKUP(MONTH(E29),'Beregn varme 2015'!A$2:J$13,10,FALSE))","v":10},{"$f":"IF(R37=\"\",\"\",O$50/100*V37)","v":476.8},{"$f":"DATE(N1,Setup!D4+1,Setup!C4)","v":"2014-08-31"},{"$f":"MONTH(X37)","v":8}]
[{"$f":"EDATE($A$28,ROWS($1:10))","v":"2015-10-31"},null,null,"",{"$f":"EDATE($E$28,ROWS($1:10))","v":"2015-10-31"},null,"",null,null,{"$f":"IF(E30=\"\",\"\",VLOOKUP(Setup!$D$4+2,T!A$1:B$12,2,FALSE))","v":"September"},{"$f":"VLOOKUP(J38,$J$3:$K$14,2,0)","v":30},{"$f":"IF(G30<>\"\",R38/K38,\"\")","v":12.533333333333333},null,{"$f":"J38","v":"September"},{"$f":"INDIRECT(\"'\"&$N$1-1&\"'!g37\")","v":417},null,{"$f":"J38","v":"September"},{"$f":"INDIRECT(\"'\"&$N$1&\"'!g37\")","v":376},null,{"$f":"IF(R38<>\"\",R38-O38,\"\")","v":-41},{"$f":"IF(R38<>\"\",T38/(O38/100),\"\")","v":-9.8321342925659483},{"$f":"IF(E30=\"\",\"\",VLOOKUP(MONTH(E30),'Beregn varme 2015'!A$2:J$13,10,FALSE))","v":9},429.12,{"$f":"EDATE($X$37,ROW(1:1))","v":"2014-09-30"},{"$f":"MONTH(X38)","v":9}]
[{"$f":"EDATE($A$28,ROWS($1:11))","v":"2015-11-30"},null,null,"",{"$f":"EDATE($E$28,ROWS($1:11))","v":"2015-11-30"},null,"",null,null,{"$f":"IF(E31=\"\",\"\",VLOOKUP(Setup!$D$4+3,T!A$1:B$12,2,FALSE))","v":"Oktober"},{"$f":"VLOOKUP(J39,$J$3:$K$14,2,0)","v":31},{"$f":"IF(G31<>\"\",R39/K39,\"\")","v":12.935483870967742},null,"Oktober",{"$f":"INDIRECT(\"'\"&$N$1-1&\"'!g38\")","v":403},null,"Oktober",{"$f":"INDIRECT(\"'\"&$N$1&\"'!g38\")","v":401},null,{"$f":"IF(R39<>\"\",R39-O39,\"\")","v":-2},{"$f":"IF(R39<>\"\",T39/(O39/100),\"\")","v":-0.49627791563275431},{"$f":"IF(E31=\"\",\"\",VLOOKUP(MONTH(E31),'Beregn varme 2015'!A$2:J$13,10,FALSE))","v":9},429.12,{"$f":"EDATE($X$37,ROW(2:2))","v":"2014-10-31"},10]
[{"$f":"EDATE($A$28,ROWS($1:12))","v":"2015-12-31"},null,null,"",{"$f":"EDATE($E$28,ROWS($1:12))","v":"2015-12-31"},null,"",null,null,{"$f":"IF(E32=\"\",\"\",VLOOKUP(Setup!$D$4+4,T!A$1:B$12,2,FALSE))","v":"November"},30,14.433333333333334,null,"November",{"$f":"INDIRECT(\"'\"&$N$1-1&\"'!g39\")","v":389},null,"November",{"$f":"INDIRECT(\"'\"&$N$1&\"'!g39\")","v":433},null,{"$f":"IF(R40<>\"\",R40-O40,\"\")","v":44},{"$f":"IF(R40<>\"\",T40/(O40/100),\"\")","v":11.311053984575835},{"$f":"IF(E32=\"\",\"\",VLOOKUP(MONTH(E32),'Beregn varme 2015'!A$2:J$13,10,FALSE))","v":8},381.44,{"$f":"EDATE($X$37,ROW(3:3))","v":"2014-11-30"},11]
["Års forbrug",null,null,{"$f":"SUM(D29:D34,D35:D40)","v":56},"Års forbrug",null,{"$f":"SUM(G29:G34,G35:G40)","v":3166},null,null,{"$f":"IF(E33=\"\",\"\",VLOOKUP(Setup!$D$4+5,T!A$1:B$12,2,FALSE))","v":"December"},31,16.548387096774192,null,"December",{"$f":"INDIRECT(\"'\"&$N$1-1&\"'!g40\")","v":447},null,"December",{"$f":"INDIRECT(\"'\"&$N$1&\"'!g40\")","v":513},null,{"$f":"IF(R41<>\"\",R41-O41,\"\")","v":66},{"$f":"IF(R41<>\"\",T41/(O41/100),\"\")","v":14.76510067114094},{"$f":"IF(E33=\"\",\"\",VLOOKUP(MONTH(E33),'Beregn varme 2015'!A$2:J$13,10,FALSE))","v":8},381.44,{"$f":"EDATE($X$37,ROW(4:4))","v":"2014-12-31"},12]
[null,null,null,null,null,null,null,null,null,{"$f":"IF(E34=\"\",\"\",VLOOKUP(MONTH(E29),T!A$1:B$12,2,FALSE))","v":"Januar"},31,16.870967741935484,null,"Januar",{"$f":"INDIRECT(\"'\"&$N$1&\"'!g29\")","v":497},null,"Januar",{"$f":"INDIRECT(\"'\"&$Q$1&\"'!g29\")","v":523},null,{"$f":"IF(R42<>\"\",R42-O42,\"\")","v":26},5.2313883299798798,{"$f":"IF(E34=\"\",\"\",VLOOKUP(MONTH(E34),'Beregn varme 2015'!A$2:J$13,10,FALSE))","v":7},333.76,{"$f":"EDATE($X$37,ROW(5:5))","v":"2015-01-31"},1]
[null,null,null,null,null,null,null,null,null,{"$f":"IF(E35=\"\",\"\",VLOOKUP(MONTH(E30),T!A$1:B$12,2,FALSE))","v":"Februar"},28,16.428571428571427,null,"Februar",{"$f":"INDIRECT(\"'\"&$N$1&\"'!g30\")","v":407},null,"Februar",{"$f":"INDIRECT(\"'\"&$Q$1&\"'!g30\")","v":460},null,53,13.022113022113022,{"$f":"IF(E35=\"\",\"\",VLOOKUP(MONTH(E35),'Beregn varme 2015'!A$2:J$13,10,FALSE))","v":6},286.08,"2015-02-28",2]
[null,null,null,null,null,null,null,null,null,{"$f":"IF(E36=\"\",\"\",VLOOKUP(MONTH(E31),T!A$1:B$12,2,FALSE))","v":"Marts"},{"$f":"VLOOKUP(J44,$J$3:$K$14,2,0)","v":31},16.548387096774192,null,"Marts",{"$f":"INDIRECT(\"'\"&$N$1&\"'!g31\")","v":407},null,"Marts",{"$f":"INDIRECT(\"'\"&$Q$1&\"'!g31\")","v":513},null,106,26.044226044226043,{"$f":"IF(E36=\"\",\"\",VLOOKUP(MONTH(E36),'Beregn varme 2015'!A$2:J$13,10,FALSE))","v":7},333.76,"2015-03-31",3]
[null,null,null,null,null,null,null,null,null,{"$f":"IF(E37=\"\",\"\",VLOOKUP(MONTH(E32),T!A$1:B$12,2,FALSE))","v":"April"},{"$f":"VLOOKUP(J45,$J$3:$K$14,2,0)","v":30},{"$f":"IF(R45<>\"\",R45/K45,\"\")","v":12.3},null,"April",{"$f":"INDIRECT(\"'\"&$N$1&\"'!g32\")","v":365},null,"April",{"$f":"INDIRECT(\"'\"&$Q$1&\"'!g32\")","v":369},null,4,1.095890410958904,{"$f":"IF(E37=\"\",\"\",VLOOKUP(MONTH(E37),'Beregn varme 2015'!A$2:J$13,10,FALSE))","v":7},333.76,"2015-04-30",4]
[null,null,null,null,null,null,null,null,null,{"$f":"IF(E38=\"\",\"\",VLOOKUP(MONTH(E33),T!A$1:B$12,2,FALSE))","v":"Maj"},{"$f":"VLOOKUP(J46,$J$3:$K$14,2,0)","v":31},{"$f":"IF(R46<>\"\",R46/K46,\"\")","v":11.548387096774194},null,"Maj",{"$f":"INDIRECT(\"'\"&$N$1&\"'!g33\")","v":377},null,"Maj",{"$f":"INDIRECT(\"'\"&$Q$1&\"'!g33\")","v":358},null,-19,-5.0397877984084882,{"$f":"IF(E38=\"\",\"\",VLOOKUP(MONTH(E38),'Beregn varme 2015'!A$2:J$13,10,FALSE))","v":9},429.12,"2015-05-31",5]
[null,null,null,null,null,null,null,null,null,{"$f":"IF(E39=\"\",\"\",VLOOKUP(MONTH(E34),T!A$1:B$12,2,FALSE))","v":"Juni"},30,{"$f":"IF(R47<>\"\",R47/K47,\"\")","v":10.333333333333334},null,"Juni",{"$f":"INDIRECT(\"'\"&$N$1&\"'!g34\")","v":340},null,"Juni",{"$f":"INDIRECT(\"'\"&$Q$1&\"'!g34\")","v":310},null,-30,-8.8235294117647065,{"$f":"IF(E39=\"\",\"\",VLOOKUP(MONTH(E39),'Beregn varme 2015'!A$2:J$13,10,FALSE))","v":9},429.12,"2015-06-30",6]
[null,null,null,null,null,null,null,null,null,{"$f":"IF(E40=\"\",\"\",VLOOKUP(MONTH(E35),T!A$1:B$12,2,FALSE))","v":"Juli"},31,{"$f":"IF(R48<>\"\",R48/K48,\"\")","v":10.612903225806452},null,{"$f":"J48","v":"Juli"},{"$f":"INDIRECT(\"'\"&$N$1&\"'!g35\")","v":357},null,{"$f":"J48","v":"Juli"},{"$f":"INDIRECT(\"'\"&$Q$1&\"'!g35\")","v":329},null,-28,{"$f":"IF(R48<>\"\",T48/(R48/100),\"\")","v":-8.5106382978723403},{"$f":"IF(E40=\"\",\"\",VLOOKUP(MONTH(E40),'Beregn varme 2015'!A$2:J$13,10,FALSE))","v":11},524.48,"2015-07-31",7]
[]
[null,null,null,null,null,null,null,null,null,"Hele året",{"$f":"SUM(K37:K48)","v":365},{"$f":"R50/K50","v":13.58904109589041},null,"Års Total",{"$f":"SUM(O37:O48)","v":4768},null,null,{"$f":"SUM(R37:R48)","v":4960},null,{"$f":"IF(R50<>0,R50-O50,\"\")","v":192},{"$f":"IF(T50<>\"\",T50/(O50/100),\"\")","v":4.026845637583893},{"$f":"SUM(V37:V48)","v":100},{"$f":"SUM(W37:W48)","v":4768}]

{"sheet":"2014","index":18,"n_rows":50,"n_cols":24,"rows_kept":50,"cut":false,"hidden":false,"merged":[[17,21,17,22],[0,0,0,2],[0,9,0,11],[0,21,0,22],[1,0,1,7],[2,0,2,7],[3,1,3,7],[5,0,6,7],[7,0,8,0],[7,4,8,4],[7,7,8,7],[17,9,17,11],[32,1,32,2],[22,4,22,5],[23,0,24,3],[23,4,24,6],[23,7,24,7],[25,0,26,0],[25,1,25,2],[25,4,26,4],[26,1,26,2],[27,1,27,2],[28,1,28,2],[29,1,29,2],[30,1,30,2],[31,1,31,2],[43,4,44,4],[33,1,33,2],[34,1,34,2],[34,9,34,11],[34,21,34,22],[35,1,35,2],[36,1,36,2],[37,1,37,2],[38,1,38,2],[39,1,39,2],[40,0,40,2],[40,4,40,5]]}
["Vælg årstal:",null,null,2014,null,null,null,null,null,"Olie",null,null,null,{"$f":"Q1-1","v":2013},null,null,{"$f":"D1","v":2014},null,null," +/-","%","Forventet forbrug"]
[{"$f":"System!A19","v":"Version: 2.0.2 / Bjarne Hansen"},null,null,null,null,null,null,null,null,"Måned","Dage","Liter pr dag",null,"Olie","Liter","%",null,"Liter","%","Liter",null,"%","Liter"]
["Aflæsningsskema til Olieforbrug samt EL og Vand",null,null,null,null,null,null,null,null,{"$f":"IF(A11=\"\",\"\",VLOOKUP(MONTH(A11),T!A$1:B$12,2,FALSE))","v":"Januar"},{"$f":"A11-A10","v":31},{"$f":"IF(G11<>\"\",G11/K3,\"\")","v":13.580645161290322},null,{"$f":"IF(A11=\"\",\"\",VLOOKUP(MONTH(A11),T!$A$1:$B$12,2,FALSE))","v":"Januar"},{"$f":"INDIRECT(\"'\"&$N$1&\"'!g11\")","v":499},{"$f":"IF(O3=\"\",\"\",O3/(O$16/100))","v":21.225010633772861},{"$f":"IF(A11=\"\",\"\",VLOOKUP(MONTH(A11),T!$A$1:$B$12,2,FALSE))","v":"Januar"},{"$f":"G11","v":421},{"$f":"IF(R3=\"\",\"\",R3/(R$16/100))","v":19.60875640428505},{"$f":"IF(R3<>\"\",R3-O3,\"\")","v":-78},{"$f":"IF(AND(R3<>\"\",O3<>0),T3/(O3/100),\"  -  \")","v":-15.631262525050099},{"$f":"IF(A11=\"\",\"\",VLOOKUP(MONTH(A11),INDIRECT(\"'Beregn varme \"&$Q$1&\"'!A2:R13\"),14,FALSE))","v":15.366360130525067},{"$f":"IF(R3=\"\",\"\",VLOOKUP(MONTH(A11),INDIRECT(\"'Beregn varme \"&$Q$1&\"'!A2:R13\"),15,FALSE))","v":361.2631266686443}]
["Navn :","Bjarne Hansen, Lyrsbyvej 31",null,null,null,null,null,null,null,{"$f":"IF(A12=\"\",\"\",VLOOKUP(MONTH(A12),T!A$1:B$12,2,FALSE))","v":"Februar"},{"$f":"IF(A12=\"\",\"\",A12-A11)","v":28},11.25,null,{"$f":"IF(A12=\"\",\"\",VLOOKUP(MONTH(A12),T!A$1:B$12,2,FALSE))","v":"Februar"},{"$f":"INDIRECT(\"'\"&$N$1&\"'!g12\")","v":379},16.120799659719268,{"$f":"IF(A12=\"\",\"\",VLOOKUP(MONTH(A12),T!$A$1:$B$12,2,FALSE))","v":"Februar"},315,14.671634839310666,{"$f":"IF(R4<>\"\",R4-O4,\"\")","v":-64},{"$f":"IF(AND(R4<>\"\",O4<>0),T4/(O4/100),\"  -  \")","v":-16.886543535620053},{"$f":"IF(A12=\"\",\"\",VLOOKUP(MONTH(A12),INDIRECT(\"'Beregn varme \"&$Q$1&\"'!A2:R13\"),14,FALSE))","v":14.684070008899436},{"$f":"IF(R4=\"\",\"\",VLOOKUP(MONTH(A12),INDIRECT(\"'Beregn varme \"&$Q$1&\"'!A2:R13\"),15,FALSE))","v":345.22248590922572}]
["Tankstørrelse:",null,{"$f":"System!F8","v":1800},"Liter",null,null,null,null,null,{"$f":"IF(A13=\"\",\"\",VLOOKUP(MONTH(A13),T!A$1:B$12,2,FALSE))","v":"Marts"},31,9.387096774193548,null,{"$f":"IF(A13=\"\",\"\",VLOOKUP(MONTH(A13),T!A$1:B$12,2,FALSE))","v":"Marts"},{"$f":"INDIRECT(\"'\"&$N$1&\"'!g13\")","v":393},16.71629094002552,{"$f":"IF(A13=\"\",\"\",VLOOKUP(MONTH(A13),T!$A$1:$B$12,2,FALSE))","v":"Marts"},291,13.553795994410807,-102,-25.954198473282442,{"$f":"IF(A13=\"\",\"\",VLOOKUP(MONTH(A13),INDIRECT(\"'Beregn varme \"&$Q$1&\"'!A2:R13\"),14,FALSE))","v":14.268762978344704},335.45861762088401]
["MÅNEDLIG PEJLING AF OLIETANK",null,null,null,null,null,null,null,null,{"$f":"IF(A14=\"\",\"\",VLOOKUP(MONTH(A14),T!A$1:B$12,2,FALSE))","v":"April"},30,6.3666666666666663,null,{"$f":"IF(A14=\"\",\"\",VLOOKUP(MONTH(A14),T!A$1:B$12,2,FALSE))","v":"April"},{"$f":"INDIRECT(\"'\"&$N$1&\"'!g14\")","v":214},9.1025095703955756,{"$f":"IF(A14=\"\",\"\",VLOOKUP(MONTH(A14),T!$A$1:$B$12,2,FALSE))","v":"April"},191,8.8961341406613883,-23,-10.747663551401869,11.094630673390684,260.83476713141499]
[null,null,null,null,null,null,null,null,null,{"$f":"IF(A15=\"\",\"\",VLOOKUP(MONTH(A15),T!A$1:B$12,2,FALSE))","v":"Maj"},{"$f":"IF(A15=\"\",\"\",A15-A14)","v":31},2.935483870967742,null,{"$f":"IF(A15=\"\",\"\",VLOOKUP(MONTH(A15),T!A$1:B$12,2,FALSE))","v":"Maj"},{"$f":"INDIRECT(\"'\"&$N$1&\"'!g15\")","v":38},1.6163334751169713,{"$f":"IF(A15=\"\",\"\",VLOOKUP(MONTH(A15),T!$A$1:$B$12,2,FALSE))","v":"Maj"},91,4.2384722869119704,53,139.4736842105263,7.0008899436369028,164.59092257490357]
["Dato","Pejling",null,"Fyldt på","Beholdning","Plads til","Forbrug","Bemærkning:",null,{"$f":"IF(A16=\"\",\"\",VLOOKUP(MONTH(A16),T!A$1:B$12,2,FALSE))","v":"Juni"},{"$f":"IF(A16=\"\",\"\",A16-A15)","v":30},0.23333333333333334,null,{"$f":"IF(A16=\"\",\"\",VLOOKUP(MONTH(A16),T!A$1:B$12,2,FALSE))","v":"Juni"},{"$f":"INDIRECT(\"'\"&$N$1&\"'!g16\")","v":12},0.51042109740535935,{"$f":"IF(A16=\"\",\"\",VLOOKUP(MONTH(A16),T!$A$1:$B$12,2,FALSE))","v":"Juni"},7,0.32603632976245928,-5,-41.666666666666671,2.6698309107089884,62.767724710768313]
[null,"i cm","Liter","Liter",null,"Liter","Liter",null,null,{"$f":"IF(A17=\"\",\"\",VLOOKUP(MONTH(A17),T!A$1:B$12,2,FALSE))","v":"Juli"},31,0,null,{"$f":"IF(A17=\"\",\"\",VLOOKUP(MONTH(A17),T!A$1:B$12,2,FALSE))","v":"Juli"},{"$f":"INDIRECT(\"'\"&$N$1&\"'!g17\")","v":0},0,{"$f":"IF(A17=\"\",\"\",VLOOKUP(MONTH(A17),T!$A$1:$B$12,2,FALSE))","v":"Juli"},0,0,0,"  -  ",0.59329575793533074,13.948383269059626]
[{"$f":"DATE(D1-1,12,31)","v":"2013-12-31"},{"$f":"INDIRECT(\"'\"&$N$1&\"'!b22\")","v":74.7},{"$f":"IF(B10=\"\",\"\",IF(System!E$8=1,VLOOKUP(B10,Pejletabel!A$3:G$336,2,FALSE),IF(System!E$8=2,VLOOKUP(B10,Pejletabel!A$3:G$357,3,FALSE),IF(System!E$8=3,VLOOKUP(B10,Pejletabel!A$3:G$357,4,FALSE),IF(System!E$8=4,VLOOKUP(B10,Pejletabel!A$3:G$357,5,FALSE),IF(System!E8=5,VLOOKUP(B10,Pejletabel!A3:G358,6,FALSE),IF(System!E$8=6,VLOOKUP(B10,Pejletabel!A$3:G$357,7,FALSE))))))))","v":884},null,{"$f":"IF(C10<>\"\",SUM(C10:D10),\"\")","v":884},{"$f":"IF(E10<>\"\",System!F$8-E10,\"\")","v":916},null,null,null,{"$f":"IF(A18=\"\",\"\",VLOOKUP(MONTH(A18),T!A$1:B$12,2,FALSE))","v":"August"},31,0,null,{"$f":"IF(A18=\"\",\"\",VLOOKUP(MONTH(A18),T!A$1:B$12,2,FALSE))","v":"August"},{"$f":"INDIRECT(\"'\"&$N$1&\"'!g18\")","v":0},0,{"$f":"IF(A18=\"\",\"\",VLOOKUP(MONTH(A18),T!$A$1:$B$12,2,FALSE))","v":"August"},0,0,0,"  -  ",0.68229012162563041,16.040640759418569]
[{"$f":"EDATE($A$10,ROW(1:1))","v":"2014-01-31"},42.7,{"$f":"IF(B11=\"\",\"\",IF(System!E$8=1,VLOOKUP(B11,Pejletabel!A$3:G$336,2,FALSE),IF(System!E$8=2,VLOOKUP(B11,Pejletabel!A$3:G$357,3,FALSE),IF(System!E$8=3,VLOOKUP(B11,Pejletabel!A$3:G$357,4,FALSE),IF(System!E$8=4,VLOOKUP(B11,Pejletabel!A$3:G$357,5,FALSE),IF(System!E$8=5,VLOOKUP(B11,Pejletabel!A$3:G$357,6,FALSE),IF(System!E8=6,VLOOKUP(B11,Pejletabel!A3:G357,7,FALSE))))))))","v":463},null,{"$f":"IF(C11<>\"\",C11,\"\")","v":463},{"$f":"IF(E11<>\"\",1800-E11,\"\")","v":1337},{"$f":"IF(C11<>\"\",C10-C11+D11,\"\")","v":421},null,null,{"$f":"IF(A19=\"\",\"\",VLOOKUP(MONTH(A19),T!A$1:B$12,2,FALSE))","v":"September"},30,1.4333333333333333,null,{"$f":"IF(A19=\"\",\"\",VLOOKUP(MONTH(A19),T!A$1:B$12,2,FALSE))","v":"September"},{"$f":"INDIRECT(\"'\"&$N$1&\"'!g19\")","v":0},0,{"$f":"IF(A19=\"\",\"\",VLOOKUP(MONTH(A19),T!$A$1:$B$12,2,FALSE))","v":"September"},43,2.0027945971122496,43,"  -  ",3.2334618807475524,76.018688816374961]
[{"$f":"EDATE($A$10,ROW(2:2))","v":"2014-02-28"},18.2,{"$f":"IF(B12=\"\",\"\",IF(System!E$8=1,VLOOKUP(B12,Pejletabel!A$3:G$336,2,FALSE),IF(System!E$8=2,VLOOKUP(B12,Pejletabel!A$3:G$357,3,FALSE),IF(System!E$8=3,VLOOKUP(B12,Pejletabel!A$3:G$357,4,FALSE),IF(System!E$8=4,VLOOKUP(B12,Pejletabel!A$3:G$357,5,FALSE),IF(System!E$8=5,VLOOKUP(B12,Pejletabel!A$3:G$357,6,FALSE),IF(System!E13=6,VLOOKUP(B12,Pejletabel!A4:G358,7,FALSE))))))))","v":148},null,{"$f":"IF(C12<>\"\",C12,\"\")","v":148},{"$f":"IF(E12<>\"\",1800-E12,\"\")","v":1652},{"$f":"IF(C12<>\"\",C11-C12+D12,\"\")","v":315},"17/2 fyldt vand på fyret ",null,{"$f":"IF(A20=\"\",\"\",VLOOKUP(MONTH(A20),T!A$1:B$12,2,FALSE))","v":"Oktober"},31,5.193548387096774,null,{"$f":"IF(A20=\"\",\"\",VLOOKUP(MONTH(A20),T!A$1:B$12,2,FALSE))","v":"Oktober"},{"$f":"INDIRECT(\"'\"&$N$1&\"'!g20\")","v":181},7.6988515525308374,{"$f":"IF(A20=\"\",\"\",VLOOKUP(MONTH(A20),T!$A$1:$B$12,2,FALSE))","v":"Oktober"},161,7.4988355845365628,-20,-11.049723756906078,6.7635716404627706,159.01156926727973]
[{"$f":"EDATE($A$10,ROW(3:3))","v":"2014-03-31"},72.7,{"$f":"IF(B13=\"\",\"\",IF(System!E$8=1,VLOOKUP(B13,Pejletabel!A$3:G$336,2,FALSE),IF(System!E$8=2,VLOOKUP(B13,Pejletabel!A$3:G$357,3,FALSE),IF(System!E$8=3,VLOOKUP(B13,Pejletabel!A$3:G$357,4,FALSE),IF(System!E$8=4,VLOOKUP(B13,Pejletabel!A$3:G$357,5,FALSE),IF(System!E$8=5,VLOOKUP(B13,Pejletabel!A$3:G$357,6,FALSE),IF(System!E19=6,VLOOKUP(B13,Pejletabel!A5:G359,7,FALSE))))))))","v":857},1000,857,943,291,null,null,{"$f":"IF(A21=\"\",\"\",VLOOKUP(MONTH(A21),T!A$1:B$12,2,FALSE))","v":"November"},30,9.5,null,{"$f":"IF(A21=\"\",\"\",VLOOKUP(MONTH(A21),T!A$1:B$12,2,FALSE))","v":"November"},{"$f":"INDIRECT(\"'\"&$N$1&\"'!g21\")","v":279},11.867290514674606,{"$f":"IF(A21=\"\",\"\",VLOOKUP(MONTH(A21),T!$A$1:$B$12,2,FALSE))","v":"November"},285,13.274336283185841,6,2.150537634408602,10.056363097003857,236.42509641056066]
["2014-04-30",58.2,{"$f":"IF(B14=\"\",\"\",IF(System!E$8=1,VLOOKUP(B14,Pejletabel!A$3:G$336,2,FALSE),IF(System!E$8=2,VLOOKUP(B14,Pejletabel!A$3:G$357,3,FALSE),IF(System!E$8=3,VLOOKUP(B14,Pejletabel!A$3:G$357,4,FALSE),IF(System!E$8=4,VLOOKUP(B14,Pejletabel!A$3:G$357,5,FALSE),IF(System!E$8=5,VLOOKUP(B14,Pejletabel!A$3:G$357,6,FALSE),IF(System!E20=6,VLOOKUP(B14,Pejletabel!A6:G360,7,FALSE))))))))","v":666},null,666,1134,191,"12/4 fyldt vand på fyret ",null,{"$f":"IF(A22=\"\",\"\",VLOOKUP(MONTH(A22),T!A$1:B$12,2,FALSE))","v":"December"},31,11.03225806451613,null,{"$f":"IF(A22=\"\",\"\",VLOOKUP(MONTH(A22),T!A$1:B$12,2,FALSE))","v":"December"},{"$f":"INDIRECT(\"'\"&$N$1&\"'!g22\")","v":356},15.142492556358995,{"$f":"IF(A22=\"\",\"\",VLOOKUP(MONTH(A22),T!$A$1:$B$12,2,FALSE))","v":"December"},342,15.929203539823011,-14,-3.9325842696629212,13.586472856719075,319.41797686146549]
["2014-05-31",51.2,{"$f":"IF(B15=\"\",\"\",IF(System!E$8=1,VLOOKUP(B15,Pejletabel!A$3:G$336,2,FALSE),IF(System!E$8=2,VLOOKUP(B15,Pejletabel!A$3:G$357,3,FALSE),IF(System!E$8=3,VLOOKUP(B15,Pejletabel!A$3:G$357,4,FALSE),IF(System!E$8=4,VLOOKUP(B15,Pejletabel!A$3:G$357,5,FALSE),IF(System!E$8=5,VLOOKUP(B15,Pejletabel!A$3:G$357,6,FALSE),IF(System!E21=6,VLOOKUP(B15,Pejletabel!A7:G361,7,FALSE))))))))","v":575},null,575,1225,91,"30/4 fyldt vand på fyret "]
["2014-06-30",50.7,{"$f":"IF(B16=\"\",\"\",IF(System!E$8=1,VLOOKUP(B16,Pejletabel!A$3:G$336,2,FALSE),IF(System!E$8=2,VLOOKUP(B16,Pejletabel!A$3:G$357,3,FALSE),IF(System!E$8=3,VLOOKUP(B16,Pejletabel!A$3:G$357,4,FALSE),IF(System!E$8=4,VLOOKUP(B16,Pejletabel!A$3:G$357,5,FALSE),IF(System!E$8=5,VLOOKUP(B16,Pejletabel!A$3:G$357,6,FALSE),IF(System!E22=6,VLOOKUP(B16,Pejletabel!A8:G362,7,FALSE))))))))","v":568},null,568,1232,7,null,null,"Hele året",{"$f":"SUM(K3:K14)","v":365},{"$f":"IFERROR(G23/K16,\"\")","v":5.882191780821918},null,"Års Total",{"$f":"SUM(O3:O14)","v":2351},{"$f":"SUM(P3:P14)","v":100},null,{"$f":"G23","v":2147},null,{"$f":"IF(R16<>0,R16-O16,\"\")","v":-204},{"$f":"IF(R16<>0,T16/(O16/100),\"\")","v":-8.6771586558911089},{"$f":"SUM(V3:V14)","v":100},{"$f":"SUM(W3:W14)","v":2351}]
["2014-07-31",50.7,{"$f":"IF(B17=\"\",\"\",IF(System!E$8=1,VLOOKUP(B17,Pejletabel!A$3:G$336,2,FALSE),IF(System!E$8=2,VLOOKUP(B17,Pejletabel!A$3:G$357,3,FALSE),IF(System!E$8=3,VLOOKUP(B17,Pejletabel!A$3:G$357,4,FALSE),IF(System!E$8=4,VLOOKUP(B17,Pejletabel!A$3:G$357,5,FALSE),IF(System!E$8=5,VLOOKUP(B17,Pejletabel!A$3:G$357,6,FALSE),IF(System!E23=6,VLOOKUP(B17,Pejletabel!A9:G363,7,FALSE))))))))","v":568},null,568,1232,0]
["2014-08-31",50.7,{"$f":"IF(B18=\"\",\"\",IF(System!E$8=1,VLOOKUP(B18,Pejletabel!A$3:G$336,2,FALSE),IF(System!E$8=2,VLOOKUP(B18,Pejletabel!A$3:G$357,3,FALSE),IF(System!E$8=3,VLOOKUP(B18,Pejletabel!A$3:G$357,4,FALSE),IF(System!E$8=4,VLOOKUP(B18,Pejletabel!A$3:G$357,5,FALSE),IF(System!E$8=5,VLOOKUP(B18,Pejletabel!A$3:G$357,6,FALSE),IF(System!E24=6,VLOOKUP(B18,Pejletabel!A10:G364,7,FALSE))))))))","v":568},null,568,1232,0,"29/8 fyldt vand på fyret ",null,"Vand",null,null,null,{"$f":"N1","v":2013},null,null,{"$f":"Q1","v":2014},null,null," +/-","%","Forventet forbrug"]
["2014-09-30",47.5,{"$f":"IF(B19=\"\",\"\",IF(System!E$8=1,VLOOKUP(B19,Pejletabel!A$3:G$336,2,FALSE),IF(System!E$8=2,VLOOKUP(B19,Pejletabel!A$3:G$357,3,FALSE),IF(System!E$8=3,VLOOKUP(B19,Pejletabel!A$3:G$357,4,FALSE),IF(System!E$8=4,VLOOKUP(B19,Pejletabel!A$3:G$357,5,FALSE),IF(System!E$8=5,VLOOKUP(B19,Pejletabel!A$3:G$357,6,FALSE),IF(System!E25=6,VLOOKUP(B19,Pejletabel!A11:G365,7,FALSE))))))))","v":525},null,525,1275,43,"Tændt fyret 22/9 ",null,"Måned","Dage","m³ pr. dag",null,"Vand","m³",null,null,"m³",null,"m³",null,"%","m³"]
["2014-10-31",35.200000000000003,{"$f":"IF(B20=\"\",\"\",IF(System!E$8=1,VLOOKUP(B20,Pejletabel!A$3:G$336,2,FALSE),IF(System!E$8=2,VLOOKUP(B20,Pejletabel!A$3:G$357,3,FALSE),IF(System!E$8=3,VLOOKUP(B20,Pejletabel!A$3:G$357,4,FALSE),IF(System!E$8=4,VLOOKUP(B20,Pejletabel!A$3:G$357,5,FALSE),IF(System!E$8=5,VLOOKUP(B20,Pejletabel!A$3:G$357,6,FALSE),IF(System!E26=6,VLOOKUP(B20,Pejletabel!A12:G366,7,FALSE))))))))","v":364},null,364,1436,161,null,null,{"$f":"IF(A29=\"\",\"\",VLOOKUP(MONTH(A29),T!A$1:B$12,2,FALSE))","v":"Januar"},{"$f":"A29-A28","v":31},{"$f":"IF(D29<>\"\",D29/K20,\"\")","v":0.22580645161290322},null,{"$f":"IF(A29=\"\",\"\",VLOOKUP(MONTH(A29),T!A$1:B$12,2,FALSE))","v":"Januar"},{"$f":"INDIRECT(\"'\"&$N$1&\"'!d29\")","v":7},null,"Januar",{"$f":"D29","v":7},null,{"$f":"IF(R20<>\"\",R20-O20,\"\")","v":0},{"$f":"IF(T20<>\"\",T20/(O20/100),\"\")","v":0},{"$f":"IF(A29=\"\",\"\",VLOOKUP(MONTH(A29),'Beregn varme 2015'!A$2:I$13,9,FALSE))","v":8.493150684931507},{"$f":"IF(R20=\"\",\"\",O$33*V20%)","v":6.3698630136986303}]
["2014-11-30",128,{"$f":"IF(B21=\"\",\"\",IF(System!E$8=1,VLOOKUP(B21,Pejletabel!A$3:G$336,2,FALSE),IF(System!E$8=2,VLOOKUP(B21,Pejletabel!A$3:G$357,3,FALSE),IF(System!E$8=3,VLOOKUP(B21,Pejletabel!A$3:G$357,4,FALSE),IF(System!E$8=4,VLOOKUP(B21,Pejletabel!A$3:G$357,5,FALSE),IF(System!E$8=5,VLOOKUP(B21,Pejletabel!A$3:G$357,6,FALSE),IF(System!E27=6,VLOOKUP(B21,Pejletabel!A13:G367,7,FALSE))))))))","v":1582},1503,1582,{"$f":"IF(E21<>\"\",1800-E21,\"\")","v":218},285,null,null,{"$f":"IF(A30=\"\",\"\",VLOOKUP(MONTH(A30),T!A$1:B$12,2,FALSE))","v":"Februar"},{"$f":"IF(A30=\"\",\"\",A30-A29)","v":28},0.21428571428571427,null,{"$f":"IF(A30=\"\",\"\",VLOOKUP(MONTH(A30),T!A$1:B$12,2,FALSE))","v":"Februar"},{"$f":"INDIRECT(\"'\"&$N$1&\"'!d30\")","v":7},null,"Februar",6,null,{"$f":"IF(R21<>\"\",R21-O21,\"\")","v":-1},{"$f":"IF(T21<>\"\",T21/(O21/100),\"\")","v":-14.285714285714285},{"$f":"IF(A30=\"\",\"\",VLOOKUP(MONTH(A30),'Beregn varme 2015'!A$2:I$13,9,FALSE))","v":7.6712328767123283},{"$f":"IF(R21=\"\",\"\",O$33*V21%)","v":5.7534246575342456}]
["2014-12-31",101.7,{"$f":"IF(B22=\"\",\"\",IF(System!E$8=1,VLOOKUP(B22,Pejletabel!A$3:G$336,2,FALSE),IF(System!E$8=2,VLOOKUP(B22,Pejletabel!A$3:G$357,3,FALSE),IF(System!E$8=3,VLOOKUP(B22,Pejletabel!A$3:G$357,4,FALSE),IF(System!E$8=4,VLOOKUP(B22,Pejletabel!A$3:G$357,5,FALSE),IF(System!E$8=5,VLOOKUP(B22,Pejletabel!A$3:G$357,6,FALSE),IF(System!E28=6,VLOOKUP(B22,Pejletabel!A14:G368,7,FALSE))))))))","v":1240},null,1240,{"$f":"IF(E22<>\"\",1800-E22,\"\")","v":560},342,null,null,{"$f":"IF(A31=\"\",\"\",VLOOKUP(MONTH(A31),T!A$1:B$12,2,FALSE))","v":"Marts"},{"$f":"IF(A31=\"\",\"\",A31-A30)","v":31},0.22580645161290322,null,{"$f":"IF(A31=\"\",\"\",VLOOKUP(MONTH(A31),T!A$1:B$12,2,FALSE))","v":"Marts"},{"$f":"INDIRECT(\"'\"&$N$1&\"'!d31\")","v":8},null,"Marts",7,null,-1,-12.5,{"$f":"IF(A31=\"\",\"\",VLOOKUP(MONTH(A31),'Beregn varme 2015'!A$2:I$13,9,FALSE))","v":8.493150684931507},6.3698630136986303]
[null,null,null,null,"Års forbrug",null,{"$f":"SUM(G11:G22)","v":2147},null,null,{"$f":"IF(A32=\"\",\"\",VLOOKUP(MONTH(A32),T!A$1:B$12,2,FALSE))","v":"April"},{"$f":"IF(A32=\"\",\"\",A32-A31)","v":30},0.2,null,{"$f":"IF(A32=\"\",\"\",VLOOKUP(MONTH(A32),T!A$1:B$12,2,FALSE))","v":"April"},{"$f":"INDIRECT(\"'\"&$N$1&\"'!d32\")","v":5},null,"April",6,null,1,20,{"$f":"IF(A32=\"\",\"\",VLOOKUP(MONTH(A32),'Beregn varme 2015'!A$2:I$13,9,FALSE))","v":8.2191780821917799},6.1643835616438354]
["MÅNEDLIG AFLÆSNING AF VANDMÅLER",null,null,null,"MÅNEDLIG AFLÆSNING AF ELMÅLER",null,null,"Bemærkning:",null,{"$f":"IF(A33=\"\",\"\",VLOOKUP(MONTH(A33),T!A$1:B$12,2,FALSE))","v":"Maj"},{"$f":"IF(A33=\"\",\"\",A33-A32)","v":31},0.22580645161290322,null,{"$f":"IF(A33=\"\",\"\",VLOOKUP(MONTH(A33),T!A$1:B$12,2,FALSE))","v":"Maj"},{"$f":"INDIRECT(\"'\"&$N$1&\"'!d33\")","v":6},null,"Maj",7,null,1,16.666666666666668,{"$f":"IF(A33=\"\",\"\",VLOOKUP(MONTH(A33),'Beregn varme 2015'!A$2:I$13,9,FALSE))","v":8.493150684931507},6.3698630136986303]
[null,null,null,null,null,null,null,null,null,{"$f":"IF(A34=\"\",\"\",VLOOKUP(MONTH(A34),T!A$1:B$12,2,FALSE))","v":"Juni"},{"$f":"IF(A34=\"\",\"\",A34-A33)","v":30},0.2,null,"Juni",{"$f":"INDIRECT(\"'\"&$N$1&\"'!d34\")","v":6},null,"Juni",6,null,0,{"$f":"IF(T25<>\"\",T25/(O25/100),\" - \")","v":0},{"$f":"IF(A34=\"\",\"\",VLOOKUP(MONTH(A34),'Beregn varme 2015'!A$2:I$13,9,FALSE))","v":8.2191780821917799},6.1643835616438354]
["Dato","Aflæst",null,"Forbrug","Dato","Aflæst","Forbrug",null,null,{"$f":"IF(A35=\"\",\"\",VLOOKUP(MONTH(A35),T!A$1:B$12,2,FALSE))","v":"Juli"},{"$f":"IF(A35=\"\",\"\",A35-A34)","v":31},0.22580645161290322,null,"Juli",{"$f":"INDIRECT(\"'\"&$N$1&\"'!d34\")","v":6},null,"Juli",7,null,1,{"$f":"IF(T26<>\"\",T26/(O26/100),\" - \")","v":16.666666666666668},{"$f":"IF(A35=\"\",\"\",VLOOKUP(MONTH(A35),'Beregn varme 2015'!A$2:I$13,9,FALSE))","v":8.493150684931507},6.3698630136986303]
[null,"m³",null,"m³",null,"KWh","KWh",null,null,{"$f":"IF(A36=\"\",\"\",VLOOKUP(MONTH(A36),T!A$1:B$12,2,FALSE))","v":"August"},31,0.22580645161290322,null,"August",{"$f":"INDIRECT(\"'\"&$N$1&\"'!d34\")","v":6},null,"August",7,null,1,16.666666666666668,{"$f":"IF(A36=\"\",\"\",VLOOKUP(MONTH(A36),'Beregn varme 2015'!A$2:I$13,9,FALSE))","v":8.493150684931507},6.3698630136986303]
[{"$f":"DATE(D1-1,12,31)","v":"2013-12-31"},{"$f":"INDIRECT(\"'\"&$N$1&\"'!b40\")","v":1685},null,null,{"$f":"DATE(D1-1,12,31)","v":"2013-12-31"},{"$f":"INDIRECT(\"'\"&$N$1&\"'!f40\")","v":25340},null,null,null,{"$f":"IF(A37=\"\",\"\",VLOOKUP(MONTH(A37),T!A$1:B$12,2,FALSE))","v":"September"},30,0.23333333333333334,null,"September",6,null,"September",7,null,1,16.666666666666668,{"$f":"IF(A37=\"\",\"\",VLOOKUP(MONTH(A37),'Beregn varme 2015'!A$2:I$13,9,FALSE))","v":8.2191780821917799},6.1643835616438354]
[{"$f":"EDATE($A$28,ROW(1:1))","v":"2014-01-31"},1692,null,{"$f":"IF(B29<>\"\",B29-B28,\"\")","v":7},{"$f":"EDATE($E$28,ROW(1:1))","v":"2014-01-31"},25837,{"$f":"IF(F29<>\"\",F29-F28,\"\")","v":497},null,null,{"$f":"IF(A38=\"\",\"\",VLOOKUP(MONTH(A38),T!A$1:B$12,2,FALSE))","v":"Oktober"},31,0.19354838709677419,null,"Oktober",6,null,"Oktober",6,null,0,0,{"$f":"IF(A38=\"\",\"\",VLOOKUP(MONTH(A38),'Beregn varme 2015'!A$2:I$13,9,FALSE))","v":8.493150684931507},6.3698630136986303]
[{"$f":"EDATE($A$28,ROW(2:2))","v":"2014-02-28"},1698,null,{"$f":"IF(B30<>\"\",B30-B29,\"\")","v":6},{"$f":"EDATE($E$28,ROW(2:2))","v":"2014-02-28"},26244,407,null,null,{"$f":"IF(A39=\"\",\"\",VLOOKUP(MONTH(A39),T!A$1:B$12,2,FALSE))","v":"November"},30,0.2,null,"November",6,null,"November",6,null,0,0,{"$f":"IF(A39=\"\",\"\",VLOOKUP(MONTH(A39),'Beregn varme 2015'!A$2:I$13,9,FALSE))","v":8.2191780821917799},6.1643835616438354]
[{"$f":"EDATE($A$28,ROW(3:3))","v":"2014-03-31"},1705,null,7,"2014-03-31",26651,407,null,null,{"$f":"IF(A40=\"\",\"\",VLOOKUP(MONTH(A40),T!A$1:B$12,2,FALSE))","v":"December"},31,0.22580645161290322,null,"December",6,null,"December",7,null,1,16.666666666666668,{"$f":"IF(A40=\"\",\"\",VLOOKUP(MONTH(A40),'Beregn varme 2015'!A$2:I$13,9,FALSE))","v":8.493150684931507},6.3698630136986303]
["2014-04-30",1711,null,6,"2014-04-30",27016,365]
["2014-05-31",1718,null,7,"2014-05-31",27393,377,null,null,"Hele året",{"$f":"SUM(K20:K31)","v":365},{"$f":"IFERROR(D41/K33,\"\")","v":0.21643835616438356},null,"Års Total",{"$f":"SUM(O20:O31)","v":75},null,null,{"$f":"D41","v":79},null,{"$f":"IF(R33<>0,R33-O33,\"\")","v":4},{"$f":"IF(T33<>\"\",T33/(O33/100),\"\")","v":5.333333333333333},{"$f":"SUM(V20:V31)","v":99.999999999999986},{"$f":"SUM(W20:W31)","v":75}]
["2014-06-30",1724,null,6,"2014-06-30",27733,340]
["2014-07-31",1731,null,7,"2014-07-31",28090,357,null,null,"EL",null,null,null,{"$f":"N1-1&\"/\"&N1","v":"2012/2013"},null,null,{"$f":"N1&\"/\"&Q1","v":"2013/2014"},null,null," +/-","%","Forventet forbrug"]
["2014-08-31",1738,null,7,"2014-08-31",28465,375,null,null,"Måned","Dage","KWh pr. dag",null,"EL","KWh",null,null,"KWh",null,"KWh",null,"%","KWh"]
["2014-09-30",1745,null,7,"2014-09-30",28841,376,null,null,{"$f":"IF(E29=\"\",\"\",VLOOKUP(MONTH('2013'!E36),T!A$1:B$12,2,FALSE))","v":"August"},{"$f":"E29-E28","v":31},{"$f":"IF(G29<>\"\",G29/K37,\"\")","v":16.032258064516128},null,{"$f":"J37","v":"August"},{"$f":"INDIRECT(\"'\"&$N$1-1&\"'!g36\")","v":382},null,{"$f":"J37","v":"August"},{"$f":"INDIRECT(\"'\"&$N$1&\"'!g36\")","v":362},null,{"$f":"IF(R37=\"\",\"\",R37-O37)","v":-20},{"$f":"IF(R37<>\"\",T37/(O37/100),\"\")","v":-5.2356020942408383},{"$f":"IF(E29=\"\",\"\",VLOOKUP(MONTH(E29),'Beregn varme 2015'!A$2:J$13,10,FALSE))","v":10},{"$f":"IF(R37=\"\",\"\",O$50/100*V37)","v":539.70000000000005},{"$f":"DATE(N1,Setup!D4+1,Setup!C4)","v":"2013-08-31"}]
["2014-10-31",1751,null,6,"2014-10-31",29242,401,null,null,{"$f":"IF(E30=\"\",\"\",VLOOKUP(MONTH('2013'!E37),T!A$1:B$12,2,FALSE))","v":"September"},{"$f":"E30-E29","v":28},14.535714285714286,null,{"$f":"J38","v":"September"},{"$f":"INDIRECT(\"'\"&$N$1-1&\"'!g37\")","v":423},null,{"$f":"J38","v":"September"},{"$f":"INDIRECT(\"'\"&$N$1&\"'!g37\")","v":417},null,{"$f":"IF(R38<>\"\",R38-O38,\"\")","v":-6},{"$f":"IF(R38<>\"\",T38/(O38/100),\"\")","v":-1.4184397163120566},{"$f":"IF(E30=\"\",\"\",VLOOKUP(MONTH(E30),'Beregn varme 2015'!A$2:J$13,10,FALSE))","v":9},485.73]
["2014-11-30",1757,null,6,"2014-11-30",29675,433,null,null,{"$f":"IF(E31=\"\",\"\",VLOOKUP(MONTH('2013'!E38),T!A$1:B$12,2,FALSE))","v":"Oktober"},{"$f":"IF(E31=\"\",\"\",E31-E30)","v":31},13.129032258064516,null,"Oktober",{"$f":"INDIRECT(\"'\"&$N$1-1&\"'!g38\")","v":481},null,"Oktober",{"$f":"INDIRECT(\"'\"&$N$1&\"'!g38\")","v":403},null,{"$f":"IF(R39<>\"\",R39-O39,\"\")","v":-78},{"$f":"IF(R39<>\"\",T39/(O39/100),\"\")","v":-16.216216216216218},{"$f":"IF(E31=\"\",\"\",VLOOKUP(MONTH(E31),'Beregn varme 2015'!A$2:J$13,10,FALSE))","v":9},485.73]
["2014-12-31",1764,null,7,"2014-12-31",30188,513,null,null,{"$f":"IF(E32=\"\",\"\",VLOOKUP(MONTH('2013'!E39),T!A$1:B$12,2,FALSE))","v":"November"},30,12.166666666666666,null,"November",{"$f":"INDIRECT(\"'\"&$N$1-1&\"'!g39\")","v":432},null,"November",{"$f":"INDIRECT(\"'\"&$N$1&\"'!g39\")","v":389},null,{"$f":"IF(R40<>\"\",R40-O40,\"\")","v":-43},{"$f":"IF(R40<>\"\",T40/(O40/100),\"\")","v":-9.9537037037037024},{"$f":"IF(E32=\"\",\"\",VLOOKUP(MONTH(E32),'Beregn varme 2015'!A$2:J$13,10,FALSE))","v":8},431.76]
["Års forbrug",null,null,{"$f":"SUM(D29:D34,D35:D40)","v":79},"Års forbrug",null,{"$f":"SUM(G29:G34,G35:G40)","v":4848},null,null,{"$f":"IF(E33=\"\",\"\",VLOOKUP(MONTH('2013'!E40),T!A$1:B$12,2,FALSE))","v":"December"},31,12.161290322580646,null,"December",{"$f":"INDIRECT(\"'\"&$N$1-1&\"'!g40\")","v":494},null,"December",{"$f":"INDIRECT(\"'\"&$N$1&\"'!g40\")","v":447},null,{"$f":"IF(R41<>\"\",R41-O41,\"\")","v":-47},{"$f":"IF(R41<>\"\",T41/(O41/100),\"\")","v":-9.5141700404858298},{"$f":"IF(E33=\"\",\"\",VLOOKUP(MONTH(E33),'Beregn varme 2015'!A$2:J$13,10,FALSE))","v":8},431.76]
[null,null,null,null,null,null,null,null,null,{"$f":"IF(E34=\"\",\"\",VLOOKUP(MONTH(E29),T!A$1:B$12,2,FALSE))","v":"Januar"},30,11.333333333333334,null,"Januar",{"$f":"INDIRECT(\"'\"&$N$1&\"'!g29\")","v":505},null,"Januar",{"$f":"INDIRECT(\"'\"&$Q$1&\"'!g29\")","v":497},null,{"$f":"IF(R42<>\"\",R42-O42,\"\")","v":-8},-1.5841584158415842,{"$f":"IF(E34=\"\",\"\",VLOOKUP(MONTH(E34),'Beregn varme 2015'!A$2:J$13,10,FALSE))","v":7},377.78999999999996]
[null,null,null,null,null,null,null,null,null,{"$f":"IF(E35=\"\",\"\",VLOOKUP(MONTH(E30),T!A$1:B$12,2,FALSE))","v":"Februar"},31,11.516129032258064,null,"Februar",{"$f":"INDIRECT(\"'\"&$N$1&\"'!g30\")","v":478},null,"Februar",{"$f":"INDIRECT(\"'\"&$Q$1&\"'!g30\")","v":407},null,-71,-14.853556485355648,{"$f":"IF(E35=\"\",\"\",VLOOKUP(MONTH(E35),'Beregn varme 2015'!A$2:J$13,10,FALSE))","v":6},323.82]
[null,null,null,null,null,null,null,null,null,{"$f":"IF(E36=\"\",\"\",VLOOKUP(MONTH(E31),T!A$1:B$12,2,FALSE))","v":"Marts"},31,12.096774193548388,null,"Marts",{"$f":"INDIRECT(\"'\"&$N$1&\"'!g31\")","v":554},null,"Marts",{"$f":"INDIRECT(\"'\"&$Q$1&\"'!g31\")","v":407},null,-147,-26.534296028880867,{"$f":"IF(E36=\"\",\"\",VLOOKUP(MONTH(E36),'Beregn varme 2015'!A$2:J$13,10,FALSE))","v":7},377.78999999999996]
[null,null,null,null,null,null,null,null,null,{"$f":"IF(E37=\"\",\"\",VLOOKUP(MONTH(E32),T!A$1:B$12,2,FALSE))","v":"April"},30,12.533333333333333,null,"April",{"$f":"INDIRECT(\"'\"&$N$1&\"'!g32\")","v":450},null,"April",{"$f":"INDIRECT(\"'\"&$Q$1&\"'!g32\")","v":365},null,-85,-18.888888888888889,{"$f":"IF(E37=\"\",\"\",VLOOKUP(MONTH(E37),'Beregn varme 2015'!A$2:J$13,10,FALSE))","v":7},377.78999999999996]
[null,null,null,null,null,null,null,null,null,{"$f":"IF(E38=\"\",\"\",VLOOKUP(MONTH(E33),T!A$1:B$12,2,FALSE))","v":"Maj"},31,12.935483870967742,null,"Maj",{"$f":"INDIRECT(\"'\"&$N$1&\"'!g33\")","v":449},null,"Maj",{"$f":"INDIRECT(\"'\"&$Q$1&\"'!g33\")","v":377},null,-72,-16.035634743875278,{"$f":"IF(E38=\"\",\"\",VLOOKUP(MONTH(E38),'Beregn varme 2015'!A$2:J$13,10,FALSE))","v":9},485.73]
[null,null,null,null,null,null,null,null,null,{"$f":"IF(E39=\"\",\"\",VLOOKUP(MONTH(E34),T!A$1:B$12,2,FALSE))","v":"Juni"},30,14.433333333333334,null,"Juni",{"$f":"INDIRECT(\"'\"&$N$1&\"'!g34\")","v":376},null,"Juni",{"$f":"INDIRECT(\"'\"&$Q$1&\"'!g34\")","v":340},null,-36,-9.5744680851063837,{"$f":"IF(E39=\"\",\"\",VLOOKUP(MONTH(E39),'Beregn varme 2015'!A$2:J$13,10,FALSE))","v":9},485.73]
[null,null,null,null,null,null,null,null,null,{"$f":"IF(E40=\"\",\"\",VLOOKUP(MONTH(E35),T!A$1:B$12,2,FALSE))","v":"Juli"},31,16.548387096774192,null,{"$f":"J48","v":"Juli"},{"$f":"INDIRECT(\"'\"&$N$1&\"'!g35\")","v":373},null,{"$f":"J48","v":"Juli"},{"$f":"INDIRECT(\"'\"&$Q$1&\"'!g35\")","v":357},null,-16,{"$f":"IF(R48<>\"\",T48/(R48/100),\"\")","v":-4.4817927170868348},{"$f":"IF(E40=\"\",\"\",VLOOKUP(MONTH(E40),'Beregn varme 2015'!A$2:J$13,10,FALSE))","v":11},593.66999999999996]
[]
[null,null,null,null,null,null,null,null,null,"Hele året",{"$f":"SUM(K37:K48)","v":365},{"$f":"IFERROR(G41/K50,\"\")","v":13.282191780821918},null,"Års Total",{"$f":"SUM(O37:O48)","v":5397},null,null,{"$f":"SUM(R37:R48)","v":4768},null,{"$f":"IF(R50<>0,R50-O50,\"\")","v":-629},{"$f":"IF(T50<>\"\",T50/(O50/100),\"\")","v":-11.654622938669631},{"$f":"SUM(V37:V48)","v":100},{"$f":"SUM(W37:W48)","v":5397}]

{"sheet":"2013","index":19,"n_rows":50,"n_cols":25,"rows_kept":50,"cut":false,"hidden":false,"merged":[[51,1,51,2],[52,4,52,5],[45,1,45,2],[46,1,46,2],[47,1,47,2],[48,1,48,2],[49,1,49,2],[50,1,50,2],[43,7,44,7],[44,1,44,2],[34,1,34,2],[35,1,35,2],[36,1,36,2],[37,1,37,2],[38,1,38,2],[39,1,39,2],[40,0,40,2],[33,1,33,2],[40,4,40,5],[43,0,44,0],[43,1,43,2],[43,4,44,4],[32,1,32,2],[17,21,17,22],[22,4,22,5],[25,0,26,0],[25,1,25,2],[25,4,26,4],[25,7,26,7],[26,1,26,2],[27,1,27,2],[28,1,28,2],[29,1,29,2],[30,1,30,2],[31,1,31,2],[23,0,24,3],[23,4,24,7],[7,0,8,0],[7,4,8,4],[7,7,8,7],[0,21,0,22],[1,0,1,7],[2,0,2,7],[3,1,3,7],[5,0,6,7]]}
[null,null,null,null,null,null,null,null,null,null,null,null,null,2012,null,null,2013,null,null," +/-","%","Forventet forbrug"]
[{"$f":"System!A19","v":"Version: 2.0.2 / Bjarne Hansen"},null,null,null,null,null,null,null,null,"Olie","Dage","Liter pr dag",null,"Olie","Liter","%",null,"Liter","%","Liter",null,"%","Liter"]
["Aflæsningsskema til Olieforbrug samt EL og Vand",null,null,null,null,null,null,null,null,{"$f":"IF(A11=\"\",\"\",VLOOKUP(MONTH(A11),T!A$1:B$12,2,FALSE))","v":"Januar"},{"$f":"A11-A10","v":31},{"$f":"IF(G11<>\"\",G11/K3,\"\")","v":16.096774193548388},null,{"$f":"IF(A11=\"\",\"\",VLOOKUP(MONTH(A11),T!$A$1:$B$12,2,FALSE))","v":"Januar"},{"$f":"'2012'!G11","v":362},{"$f":"IF(O3=\"\",\"\",O3/(O$16/100))","v":16.225907664724339},{"$f":"IF(A11=\"\",\"\",VLOOKUP(MONTH(A11),T!$A$1:$B$12,2,FALSE))","v":"Januar"},{"$f":"G11","v":499},{"$f":"IF(R3=\"\",\"\",R3/(R$16/100))","v":21.225010633772861},{"$f":"IF(R3<>\"\",R3-O3,\"\")","v":137},{"$f":"IF(OR(R3=\"\",T3=0),\"\",IF(O3<>0,T3/(O3/100),\"\"))","v":37.845303867403317},{"$f":"IF(A11=\"\",\"\",VLOOKUP(MONTH(A11),'Beregn varme 2013'!A$2:G$13,7,FALSE))","v":13.90884055219597},{"$f":"IF(R3=\"\",\"\",VLOOKUP(MONTH(A11),'Beregn varme 2011'!A$2:F$13,6,FALSE))","v":226.29475240206946}]
["Navn :","Bjarne Hansen, Lyrsbyvej 31",null,null,null,null,null,null,null,{"$f":"IF(A12=\"\",\"\",VLOOKUP(MONTH(A12),T!A$1:B$12,2,FALSE))","v":"Februar"},{"$f":"IF(A12=\"\",\"\",A12-A11)","v":28},13.535714285714286,null,{"$f":"IF(A12=\"\",\"\",VLOOKUP(MONTH(A12),T!A$1:B$12,2,FALSE))","v":"Februar"},{"$f":"'2012'!G12","v":388},17.39130434782609,{"$f":"IF(A12=\"\",\"\",VLOOKUP(MONTH(A12),T!$A$1:$B$12,2,FALSE))","v":"Februar"},379,16.120799659719268,{"$f":"IF(R4<>\"\",R4-O4,\"\")","v":-9},{"$f":"IF(OR(R4=\"\",T4=0),\"\",IF(O4<>0,T4/(O4/100),\"\"))","v":-2.3195876288659796},{"$f":"IF(A12=\"\",\"\",VLOOKUP(MONTH(A12),'Beregn varme 2013'!A$2:G$13,7,FALSE))","v":12.813076127679613},{"$f":"IF(R4=\"\",\"\",VLOOKUP(MONTH(A12),'Beregn varme 2011'!A$2:F$13,6,FALSE))","v":206.45262379896525}]
["Tankstørrelse:",null,{"$f":"System!F8","v":1800},"Liter",null,null,null,null,null,{"$f":"IF(A13=\"\",\"\",VLOOKUP(MONTH(A13),T!A$1:B$12,2,FALSE))","v":"Marts"},31,12.67741935483871,null,{"$f":"IF(A13=\"\",\"\",VLOOKUP(MONTH(A13),T!A$1:B$12,2,FALSE))","v":"Marts"},{"$f":"'2012'!G13","v":260},11.653966831017481,{"$f":"IF(A13=\"\",\"\",VLOOKUP(MONTH(A13),T!$A$1:$B$12,2,FALSE))","v":"Marts"},393,16.71629094002552,133,51.153846153846153,{"$f":"IF(A13=\"\",\"\",VLOOKUP(MONTH(A13),'Beregn varme 2013'!A$2:G$13,7,FALSE))","v":12.705648242923107},{"$f":"IF(R5=\"\",\"\",VLOOKUP(MONTH(A13),'Beregn varme 2011'!A$2:F$13,6,FALSE))","v":204.5073170731707}]
["MÅNEDLIG PEJLING AF OLIETANK",null,null,null,null,null,null,null,null,{"$f":"IF(A14=\"\",\"\",VLOOKUP(MONTH(A14),T!A$1:B$12,2,FALSE))","v":"April"},30,7.1333333333333337,null,{"$f":"IF(A14=\"\",\"\",VLOOKUP(MONTH(A14),T!A$1:B$12,2,FALSE))","v":"April"},{"$f":"'2012'!G14","v":201},9.009412819363515,{"$f":"IF(A14=\"\",\"\",VLOOKUP(MONTH(A14),T!$A$1:$B$12,2,FALSE))","v":"April"},214,9.1025095703955756,13,6.4676616915422889,{"$f":"IF(A14=\"\",\"\",VLOOKUP(MONTH(A14),'Beregn varme 2013'!A$2:G$13,7,FALSE))","v":8.8382443916889102},{"$f":"IF(R6=\"\",\"\",VLOOKUP(MONTH(A14),'Beregn varme 2011'!A$2:F$13,6,FALSE))","v":134.47627494456762}]
[null,null,null,null,null,null,null,null,null,{"$f":"IF(A15=\"\",\"\",VLOOKUP(MONTH(A15),T!A$1:B$12,2,FALSE))","v":"Maj"},31,1.2258064516129032,null,{"$f":"IF(A15=\"\",\"\",VLOOKUP(MONTH(A15),T!A$1:B$12,2,FALSE))","v":"Maj"},{"$f":"'2012'!G15","v":82},3.6754818467055133,{"$f":"IF(A15=\"\",\"\",VLOOKUP(MONTH(A15),T!$A$1:$B$12,2,FALSE))","v":"Maj"},38,1.6163334751169713,-44,-53.658536585365859,{"$f":"IF(A15=\"\",\"\",VLOOKUP(MONTH(A15),'Beregn varme 2013'!A$2:G$13,7,FALSE))","v":4.7344991939903993},{"$f":"IF(R7=\"\",\"\",VLOOKUP(MONTH(A15),'Beregn varme 2011'!A$2:F$13,6,FALSE))","v":60.165558019216554}]
["Dato","Pejling",null,"Fyldt på","Beholdning","Plads til","Forbrug","Bemærkning:",null,{"$f":"IF(A16=\"\",\"\",VLOOKUP(MONTH(A16),T!A$1:B$12,2,FALSE))","v":"Juni"},30,0.4,null,{"$f":"IF(A16=\"\",\"\",VLOOKUP(MONTH(A16),T!A$1:B$12,2,FALSE))","v":"Juni"},{"$f":"'2012'!G16","v":43},1.9273868220528911,{"$f":"IF(A16=\"\",\"\",VLOOKUP(MONTH(A16),T!$A$1:$B$12,2,FALSE))","v":"Juni"},12,0.51042109740535935,-31,-72.093023255813961,{"$f":"IF(A16=\"\",\"\",VLOOKUP(MONTH(A16),'Beregn varme 2013'!A$2:G$13,7,FALSE))","v":3.4883357308149354},{"$f":"IF(R8=\"\",\"\",VLOOKUP(MONTH(A16),'Beregn varme 2011'!A$2:F$13,6,FALSE))","v":37.6}]
[null,"i cm","Liter","Liter",null,"Liter","Liter",null,null,{"$f":"IF(A17=\"\",\"\",VLOOKUP(MONTH(A17),T!A$1:B$12,2,FALSE))","v":"Juli"},31,0,null,{"$f":"IF(A17=\"\",\"\",VLOOKUP(MONTH(A17),T!A$1:B$12,2,FALSE))","v":"Juli"},{"$f":"'2012'!G17","v":6},0.26893769610040341,{"$f":"IF(A17=\"\",\"\",VLOOKUP(MONTH(A17),T!$A$1:$B$12,2,FALSE))","v":"Juli"},0,0,-6,{"$f":"IF(OR(R9=\"\",T9=0),\"\",IF(O9<>0,T9/(O9/100),\"\"))","v":-100},{"$f":"IF(A17=\"\",\"\",VLOOKUP(MONTH(A17),'Beregn varme 2013'!A$2:G$13,7,FALSE))","v":3.4883357308149354},{"$f":"IF(R9=\"\",\"\",VLOOKUP(MONTH(A17),'Beregn varme 2011'!A$2:F$13,6,FALSE))","v":37.6}]
["2012-12-31",{"$f":"'2012'!B22","v":58.5},{"$f":"IF(B10=\"\",\"\",IF(System!E$8=1,VLOOKUP(B10,Pejletabel!A$3:G$336,2,FALSE),IF(System!E$8=2,VLOOKUP(B10,Pejletabel!A$3:G$357,3,FALSE),IF(System!E$8=3,VLOOKUP(B10,Pejletabel!A$3:G$357,4,FALSE),IF(System!E$8=4,VLOOKUP(B10,Pejletabel!A$3:G$357,5,FALSE),IF(System!E8=5,VLOOKUP(B10,Pejletabel!A3:G358,6,FALSE),IF(System!E$8=6,VLOOKUP(B10,Pejletabel!A$3:G$357,7,FALSE))))))))","v":670},null,{"$f":"IF(C10<>\"\",SUM(C10:D10),\"\")","v":670},{"$f":"IF(E10<>\"\",System!F$8-E10,\"\")","v":1130},null,null,null,{"$f":"IF(A18=\"\",\"\",VLOOKUP(MONTH(A18),T!A$1:B$12,2,FALSE))","v":"August"},31,0,null,{"$f":"IF(A18=\"\",\"\",VLOOKUP(MONTH(A18),T!A$1:B$12,2,FALSE))","v":"August"},{"$f":"'2012'!G18","v":0},0,{"$f":"IF(A18=\"\",\"\",VLOOKUP(MONTH(A18),T!$A$1:$B$12,2,FALSE))","v":"August"},0,0,0,{"$f":"IF(OR(R10=\"\",T10=0),\"\",IF(O10<>0,T10/(O10/100),\"\"))","v":""},{"$f":"IF(A18=\"\",\"\",VLOOKUP(MONTH(A18),'Beregn varme 2013'!A$2:G$13,7,FALSE))","v":3.4883357308149354},{"$f":"IF(R10=\"\",\"\",VLOOKUP(MONTH(A18),'Beregn varme 2011'!A$2:F$13,6,FALSE))","v":37.6}]
["2013-01-31",20.2,{"$f":"IF(B11=\"\",\"\",IF(System!E$8=1,VLOOKUP(B11,Pejletabel!A$3:G$336,2,FALSE),IF(System!E$8=2,VLOOKUP(B11,Pejletabel!A$3:G$357,3,FALSE),IF(System!E$8=3,VLOOKUP(B11,Pejletabel!A$3:G$357,4,FALSE),IF(System!E$8=4,VLOOKUP(B11,Pejletabel!A$3:G$357,5,FALSE),IF(System!E$8=5,VLOOKUP(B11,Pejletabel!A$3:G$357,6,FALSE),IF(System!E8=6,VLOOKUP(B11,Pejletabel!A3:G357,7,FALSE))))))))","v":171},1004,{"$f":"IF(C11<>\"\",C11+D11,\"\")","v":1175},{"$f":"IF(E11<>\"\",1800-E11,\"\")","v":625},{"$f":"IF(C11<>\"\",E10-C11,\"\")","v":499},null,null,{"$f":"IF(A19=\"\",\"\",VLOOKUP(MONTH(A19),T!A$1:B$12,2,FALSE))","v":"September"},30,0,null,{"$f":"IF(A19=\"\",\"\",VLOOKUP(MONTH(A19),T!A$1:B$12,2,FALSE))","v":"September"},{"$f":"'2012'!G19","v":73},3.2720753025549083,{"$f":"IF(A19=\"\",\"\",VLOOKUP(MONTH(A19),T!$A$1:$B$12,2,FALSE))","v":"September"},0,0,-73,{"$f":"IF(OR(R11=\"\",T11=0),\"\",IF(O11<>0,T11/(O11/100),\"\"))","v":-100},{"$f":"IF(A19=\"\",\"\",VLOOKUP(MONTH(A19),'Beregn varme 2013'!A$2:G$13,7,FALSE))","v":4.0469607315487641},{"$f":"IF(R11=\"\",\"\",VLOOKUP(MONTH(A19),'Beregn varme 2011'!A$2:F$13,6,FALSE))","v":47.715594974131562}]
["2013-02-28",68,{"$f":"IF(B12=\"\",\"\",IF(System!E$8=1,VLOOKUP(B12,Pejletabel!A$3:G$336,2,FALSE),IF(System!E$8=2,VLOOKUP(B12,Pejletabel!A$3:G$357,3,FALSE),IF(System!E$8=3,VLOOKUP(B12,Pejletabel!A$3:G$357,4,FALSE),IF(System!E$8=4,VLOOKUP(B12,Pejletabel!A$3:G$357,5,FALSE),IF(System!E$8=5,VLOOKUP(B12,Pejletabel!A$3:G$357,6,FALSE),IF(System!E13=6,VLOOKUP(B12,Pejletabel!A4:G358,7,FALSE))))))))","v":796},null,{"$f":"IF(C12<>\"\",C12+D12,\"\")","v":796},{"$f":"IF(E12<>\"\",1800-E12,\"\")","v":1004},{"$f":"IF(C12<>\"\",E11-C12,\"\")","v":379},null,null,{"$f":"IF(A20=\"\",\"\",VLOOKUP(MONTH(A20),T!A$1:B$12,2,FALSE))","v":"Oktober"},31,5.838709677419355,null,{"$f":"IF(A20=\"\",\"\",VLOOKUP(MONTH(A20),T!A$1:B$12,2,FALSE))","v":"Oktober"},{"$f":"'2012'!G20","v":188},8.4267144778126397,{"$f":"IF(A20=\"\",\"\",VLOOKUP(MONTH(A20),T!$A$1:$B$12,2,FALSE))","v":"Oktober"},181,7.6988515525308374,-7,-3.7234042553191493,{"$f":"IF(A20=\"\",\"\",VLOOKUP(MONTH(A20),'Beregn varme 2013'!A$2:G$13,7,FALSE))","v":7.8499078519290588},{"$f":"IF(R12=\"\",\"\",VLOOKUP(MONTH(A20),'Beregn varme 2011'!A$2:F$13,6,FALSE))","v":116.57945306725793}]
["2013-03-31",38.200000000000003,{"$f":"IF(B13=\"\",\"\",IF(System!E$8=1,VLOOKUP(B13,Pejletabel!A$3:G$336,2,FALSE),IF(System!E$8=2,VLOOKUP(B13,Pejletabel!A$3:G$357,3,FALSE),IF(System!E$8=3,VLOOKUP(B13,Pejletabel!A$3:G$357,4,FALSE),IF(System!E$8=4,VLOOKUP(B13,Pejletabel!A$3:G$357,5,FALSE),IF(System!E$8=5,VLOOKUP(B13,Pejletabel!A$3:G$357,6,FALSE),IF(System!E19=6,VLOOKUP(B13,Pejletabel!A5:G359,7,FALSE))))))))","v":403},null,{"$f":"IF(C13<>\"\",C13+D13,\"\")","v":403},1397,393,null,null,{"$f":"IF(A21=\"\",\"\",VLOOKUP(MONTH(A21),T!A$1:B$12,2,FALSE))","v":"November"},30,9.3000000000000007,null,{"$f":"IF(A21=\"\",\"\",VLOOKUP(MONTH(A21),T!A$1:B$12,2,FALSE))","v":"November"},{"$f":"'2012'!G21","v":289},12.953832362169431,{"$f":"IF(A21=\"\",\"\",VLOOKUP(MONTH(A21),T!$A$1:$B$12,2,FALSE))","v":"November"},279,11.867290514674606,-10,-3.4602076124567471,{"$f":"IF(A21=\"\",\"\",VLOOKUP(MONTH(A21),'Beregn varme 2013'!A$2:G$13,7,FALSE))","v":11.072744394624223},{"$f":"IF(R13=\"\",\"\",VLOOKUP(MONTH(A21),'Beregn varme 2011'!A$2:F$13,6,FALSE))","v":174.93865484109384}]
["2013-04-30",21.7,{"$f":"IF(B14=\"\",\"\",IF(System!E$8=1,VLOOKUP(B14,Pejletabel!A$3:G$336,2,FALSE),IF(System!E$8=2,VLOOKUP(B14,Pejletabel!A$3:G$357,3,FALSE),IF(System!E$8=3,VLOOKUP(B14,Pejletabel!A$3:G$357,4,FALSE),IF(System!E$8=4,VLOOKUP(B14,Pejletabel!A$3:G$357,5,FALSE),IF(System!E$8=5,VLOOKUP(B14,Pejletabel!A$3:G$357,6,FALSE),IF(System!E20=6,VLOOKUP(B14,Pejletabel!A6:G360,7,FALSE))))))))","v":189},null,189,1611,214,null,null,{"$f":"IF(A22=\"\",\"\",VLOOKUP(MONTH(A22),T!A$1:B$12,2,FALSE))","v":"December"},31,11.483870967741936,null,{"$f":"IF(A22=\"\",\"\",VLOOKUP(MONTH(A22),T!A$1:B$12,2,FALSE))","v":"December"},{"$f":"'2012'!G22","v":339},15.194979829672793,{"$f":"IF(A22=\"\",\"\",VLOOKUP(MONTH(A22),T!$A$1:$B$12,2,FALSE))","v":"December"},356,15.142492556358995,17,5.0147492625368733,{"$f":"IF(A22=\"\",\"\",VLOOKUP(MONTH(A22),'Beregn varme 2013'!A$2:G$13,7,FALSE))","v":13.565071320975152},{"$f":"IF(R14=\"\",\"\",VLOOKUP(MONTH(A22),'Beregn varme 2011'!A$2:F$13,6,FALSE))","v":220.06977087952694}]
["2013-05-31",18.5,{"$f":"IF(B15=\"\",\"\",IF(System!E$8=1,VLOOKUP(B15,Pejletabel!A$3:G$336,2,FALSE),IF(System!E$8=2,VLOOKUP(B15,Pejletabel!A$3:G$357,3,FALSE),IF(System!E$8=3,VLOOKUP(B15,Pejletabel!A$3:G$357,4,FALSE),IF(System!E$8=4,VLOOKUP(B15,Pejletabel!A$3:G$357,5,FALSE),IF(System!E$8=5,VLOOKUP(B15,Pejletabel!A$3:G$357,6,FALSE),IF(System!E21=6,VLOOKUP(B15,Pejletabel!A7:G361,7,FALSE))))))))","v":151},null,151,1649,38,"fyr slukket 10/5"]
["2013-06-30",17.5,{"$f":"IF(B16=\"\",\"\",IF(System!E$8=1,VLOOKUP(B16,Pejletabel!A$3:G$336,2,FALSE),IF(System!E$8=2,VLOOKUP(B16,Pejletabel!A$3:G$357,3,FALSE),IF(System!E$8=3,VLOOKUP(B16,Pejletabel!A$3:G$357,4,FALSE),IF(System!E$8=4,VLOOKUP(B16,Pejletabel!A$3:G$357,5,FALSE),IF(System!E$8=5,VLOOKUP(B16,Pejletabel!A$3:G$357,6,FALSE),IF(System!E22=6,VLOOKUP(B16,Pejletabel!A8:G362,7,FALSE))))))))","v":139},null,139,1661,12,"fyret kørt en weekend",null,"Hele året",{"$f":"SUM(K3:K14)","v":365},{"$f":"G23/K16","v":6.441095890410959},null,"Års Total",{"$f":"'2012'!G23","v":2231},{"$f":"SUM(P3:P14)","v":100.00000000000001},null,{"$f":"G23","v":2351},null,{"$f":"IF(R16<>0,R16-O16,\"\")","v":120},{"$f":"IF(R16<>0,T16/(O16/100),\"\")","v":5.3787539220080687},{"$f":"SUM(V3:V14)","v":100.00000000000001},{"$f":"SUM(W3:W14)","v":1504}]
["2013-07-31",17.5,{"$f":"IF(B17=\"\",\"\",IF(System!E$8=1,VLOOKUP(B17,Pejletabel!A$3:G$336,2,FALSE),IF(System!E$8=2,VLOOKUP(B17,Pejletabel!A$3:G$357,3,FALSE),IF(System!E$8=3,VLOOKUP(B17,Pejletabel!A$3:G$357,4,FALSE),IF(System!E$8=4,VLOOKUP(B17,Pejletabel!A$3:G$357,5,FALSE),IF(System!E$8=5,VLOOKUP(B17,Pejletabel!A$3:G$357,6,FALSE),IF(System!E23=6,VLOOKUP(B17,Pejletabel!A9:G363,7,FALSE))))))))","v":139},null,139,1661,0]
["2013-08-31",17.5,{"$f":"IF(B18=\"\",\"\",IF(System!E$8=1,VLOOKUP(B18,Pejletabel!A$3:G$336,2,FALSE),IF(System!E$8=2,VLOOKUP(B18,Pejletabel!A$3:G$357,3,FALSE),IF(System!E$8=3,VLOOKUP(B18,Pejletabel!A$3:G$357,4,FALSE),IF(System!E$8=4,VLOOKUP(B18,Pejletabel!A$3:G$357,5,FALSE),IF(System!E$8=5,VLOOKUP(B18,Pejletabel!A$3:G$357,6,FALSE),IF(System!E24=6,VLOOKUP(B18,Pejletabel!A10:G364,7,FALSE))))))))","v":139},null,139,1661,0,null,null,null,null,null,null,2012,null,null,2013,null,null," +/-","%","Forventet forbrug"]
["2013-09-30",17.5,{"$f":"IF(B19=\"\",\"\",IF(System!E$8=1,VLOOKUP(B19,Pejletabel!A$3:G$336,2,FALSE),IF(System!E$8=2,VLOOKUP(B19,Pejletabel!A$3:G$357,3,FALSE),IF(System!E$8=3,VLOOKUP(B19,Pejletabel!A$3:G$357,4,FALSE),IF(System!E$8=4,VLOOKUP(B19,Pejletabel!A$3:G$357,5,FALSE),IF(System!E$8=5,VLOOKUP(B19,Pejletabel!A$3:G$357,6,FALSE),IF(System!E25=6,VLOOKUP(B19,Pejletabel!A11:G365,7,FALSE))))))))","v":139},1561,1700,100,0,null,null,"Vand","Dage","m³ pr. dag",null,"Vand","m³",null,null,"m³",null,"m³",null,"%","m³"]
["2013-10-31",123,{"$f":"IF(B20=\"\",\"\",IF(System!E$8=1,VLOOKUP(B20,Pejletabel!A$3:G$336,2,FALSE),IF(System!E$8=2,VLOOKUP(B20,Pejletabel!A$3:G$357,3,FALSE),IF(System!E$8=3,VLOOKUP(B20,Pejletabel!A$3:G$357,4,FALSE),IF(System!E$8=4,VLOOKUP(B20,Pejletabel!A$3:G$357,5,FALSE),IF(System!E$8=5,VLOOKUP(B20,Pejletabel!A$3:G$357,6,FALSE),IF(System!E26=6,VLOOKUP(B20,Pejletabel!A12:G366,7,FALSE))))))))","v":1519},null,1519,281,181,"tændt fyret 3/10",null,{"$f":"IF(A29=\"\",\"\",VLOOKUP(MONTH(A29),T!A$1:B$12,2,FALSE))","v":"Januar"},{"$f":"A29-A28","v":31},{"$f":"IF(D29<>\"\",D29/K20,\"\")","v":0.22580645161290322},null,{"$f":"IF(A29=\"\",\"\",VLOOKUP(MONTH(A29),T!A$1:B$12,2,FALSE))","v":"Januar"},{"$f":"'2012'!D29","v":7},null,"Januar",{"$f":"D29","v":7},null,{"$f":"IF(R20<>\"\",R20-O20,\"\")","v":0},{"$f":"IF(T20<>\"\",T20/(O20/100),\"\")","v":0},{"$f":"IF(A29=\"\",\"\",VLOOKUP(MONTH(A29),'Beregn varme 2013'!A$2:H$13,8,FALSE))","v":8.493150684931507},{"$f":"IF(R20=\"\",\"\",O$33/100*V20)","v":204.85479452054796}]
["2013-11-30",101.7,{"$f":"IF(B21=\"\",\"\",IF(System!E$8=1,VLOOKUP(B21,Pejletabel!A$3:G$336,2,FALSE),IF(System!E$8=2,VLOOKUP(B21,Pejletabel!A$3:G$357,3,FALSE),IF(System!E$8=3,VLOOKUP(B21,Pejletabel!A$3:G$357,4,FALSE),IF(System!E$8=4,VLOOKUP(B21,Pejletabel!A$3:G$357,5,FALSE),IF(System!E$8=5,VLOOKUP(B21,Pejletabel!A$3:G$357,6,FALSE),IF(System!E27=6,VLOOKUP(B21,Pejletabel!A13:G367,7,FALSE))))))))","v":1240},null,1240,{"$f":"IF(E21<>\"\",1800-E21,\"\")","v":560},279,null,null,{"$f":"IF(A30=\"\",\"\",VLOOKUP(MONTH(A30),T!A$1:B$12,2,FALSE))","v":"Februar"},{"$f":"IF(A30=\"\",\"\",A30-A29)","v":28},0.25,null,{"$f":"IF(A30=\"\",\"\",VLOOKUP(MONTH(A30),T!A$1:B$12,2,FALSE))","v":"Februar"},{"$f":"'2012'!D30","v":7},null,"Februar",7,null,{"$f":"IF(R21<>\"\",R21-O21,\"\")","v":0},{"$f":"IF(T21<>\"\",T21/(O21/100),\"\")","v":0},{"$f":"IF(A30=\"\",\"\",VLOOKUP(MONTH(A30),'Beregn varme 2013'!A$2:H$13,8,FALSE))","v":7.6712328767123283},185.03013698630136]
["2013-12-31",74.7,{"$f":"IF(B22=\"\",\"\",IF(System!E$8=1,VLOOKUP(B22,Pejletabel!A$3:G$336,2,FALSE),IF(System!E$8=2,VLOOKUP(B22,Pejletabel!A$3:G$357,3,FALSE),IF(System!E$8=3,VLOOKUP(B22,Pejletabel!A$3:G$357,4,FALSE),IF(System!E$8=4,VLOOKUP(B22,Pejletabel!A$3:G$357,5,FALSE),IF(System!E$8=5,VLOOKUP(B22,Pejletabel!A$3:G$357,6,FALSE),IF(System!E28=6,VLOOKUP(B22,Pejletabel!A14:G368,7,FALSE))))))))","v":884},null,884,{"$f":"IF(E22<>\"\",1800-E22,\"\")","v":916},356,null,null,{"$f":"IF(A31=\"\",\"\",VLOOKUP(MONTH(A31),T!A$1:B$12,2,FALSE))","v":"Marts"},{"$f":"IF(A31=\"\",\"\",A31-A30)","v":31},0.25806451612903225,null,{"$f":"IF(A31=\"\",\"\",VLOOKUP(MONTH(A31),T!A$1:B$12,2,FALSE))","v":"Marts"},{"$f":"'2012'!D31","v":6},null,"Marts",8,null,2,33.333333333333336,{"$f":"IF(A31=\"\",\"\",VLOOKUP(MONTH(A31),'Beregn varme 2013'!A$2:H$13,8,FALSE))","v":8.493150684931507},204.85479452054796]
[null,null,null,null,"Års forbrug",null,{"$f":"SUM(G11:G22)","v":2351},null,null,{"$f":"IF(A32=\"\",\"\",VLOOKUP(MONTH(A32),T!A$1:B$12,2,FALSE))","v":"April"},{"$f":"IF(A32=\"\",\"\",A32-A31)","v":30},0.16666666666666666,null,{"$f":"IF(A32=\"\",\"\",VLOOKUP(MONTH(A32),T!A$1:B$12,2,FALSE))","v":"April"},{"$f":"'2012'!D32","v":8},null,"April",5,null,-3,-37.5,{"$f":"IF(A32=\"\",\"\",VLOOKUP(MONTH(A32),'Beregn varme 2013'!A$2:H$13,8,FALSE))","v":8.2191780821917799},198.24657534246575]
["MÅNEDLIG AFLÆSNING AF VANDMÅLER",null,null,null,"MÅNEDLIG AFLÆSNING AF ELMÅLER",null,null,null,null,{"$f":"IF(A33=\"\",\"\",VLOOKUP(MONTH(A33),T!A$1:B$12,2,FALSE))","v":"Maj"},{"$f":"IF(A33=\"\",\"\",A33-A32)","v":31},0.19354838709677419,null,{"$f":"IF(A33=\"\",\"\",VLOOKUP(MONTH(A33),T!A$1:B$12,2,FALSE))","v":"Maj"},{"$f":"'2012'!D33","v":7},null,"Maj",6,null,-1,-14.285714285714285,{"$f":"IF(A33=\"\",\"\",VLOOKUP(MONTH(A33),'Beregn varme 2013'!A$2:H$13,8,FALSE))","v":8.493150684931507},204.85479452054796]
[null,null,null,null,null,null,null,null,null,{"$f":"IF(A34=\"\",\"\",VLOOKUP(MONTH(A34),T!A$1:B$12,2,FALSE))","v":"Juni"},{"$f":"IF(E29=\"\",\"\",A34-A33)","v":30},0.2,null,"Juni",{"$f":"'2012'!D34","v":7},null,"Juni",6,null,-1,-14.285714285714285,{"$f":"IF(A34=\"\",\"\",VLOOKUP(MONTH(A34),'Beregn varme 2013'!A$2:H$13,8,FALSE))","v":8.2191780821917799},198.24657534246575]
["Dato","Aflæst",null,"Forbrug","Dato","Aflæst","Forbrug","Bemærkning:",null,{"$f":"IF(E29=\"\",\"\",VLOOKUP(MONTH(E29),T!A$1:B$12,2,FALSE))","v":"Januar"},{"$f":"IF(E29=\"\",\"\",E29-A34)","v":-150},{"$f":"IF(G29<>\"\",G29/K26,\"\")","v":-3.3666666666666667},null,"Juli",{"$f":"'2012'!G29","v":416},null,"Juli",6,null,-410,-98.557692307692307,{"$f":"IF(E29=\"\",\"\",VLOOKUP(MONTH(E29),'Beregn varme 2013'!A$2:H$13,8,FALSE))","v":8.493150684931507},204.85479452054796]
[null,"m³",null,"m³",null,"KWh","KWh",null,null,{"$f":"IF(E30=\"\",\"\",VLOOKUP(MONTH(E30),T!A$1:B$12,2,FALSE))","v":"Februar"},{"$f":"IF(E30=\"\",\"\",E30-E29)","v":28},17.071428571428573,null,"August",{"$f":"'2012'!G30","v":404},null,"August",6,null,-398,-98.514851485148512,{"$f":"IF(E30=\"\",\"\",VLOOKUP(MONTH(E30),'Beregn varme 2013'!A$2:H$13,8,FALSE))","v":7.6712328767123283},185.03013698630136]
["2012-12-31",{"$f":"'2012'!B40","v":1609},null,null,"2012-12-31",20137,null,null,null,{"$f":"IF(E31=\"\",\"\",VLOOKUP(MONTH(E31),T!A$1:B$12,2,FALSE))","v":"Marts"},{"$f":"IF(E31=\"\",\"\",E31-E30)","v":31},17.870967741935484,null,"September",{"$f":"'2012'!G31","v":403},null,"September",6,null,-397,-98.511166253101734,{"$f":"IF(E31=\"\",\"\",VLOOKUP(MONTH(E31),'Beregn varme 2013'!A$2:H$13,8,FALSE))","v":8.493150684931507},204.85479452054796]
["2013-01-31",1616,null,{"$f":"IF(B29<>\"\",B29-B28,\"\")","v":7},"2013-01-31",20642,{"$f":"IF(F29<>\"\",F29-F28,\"\")","v":505},null,null,{"$f":"IF(E32=\"\",\"\",VLOOKUP(MONTH(E32),T!A$1:B$12,2,FALSE))","v":"April"},{"$f":"IF(E32=\"\",\"\",E32-E31)","v":30},15,null,"Oktober",{"$f":"'2012'!G32","v":403},null,"Oktober",6,null,-397,-98.511166253101734,{"$f":"IF(E32=\"\",\"\",VLOOKUP(MONTH(E32),'Beregn varme 2013'!A$2:H$13,8,FALSE))","v":8.2191780821917799},198.24657534246575]
["2013-02-28",1623,null,{"$f":"IF(B30<>\"\",B30-B29,\"\")","v":7},"2013-02-28",21120,478,null,null,{"$f":"IF(E33=\"\",\"\",VLOOKUP(MONTH(E33),T!A$1:B$12,2,FALSE))","v":"Maj"},{"$f":"IF(E33=\"\",\"\",E33-E32)","v":31},14.483870967741936,null,"November",{"$f":"'2012'!G33","v":375},null,"November",6,null,-369,-98.4,{"$f":"IF(E33=\"\",\"\",VLOOKUP(MONTH(E33),'Beregn varme 2013'!A$2:H$13,8,FALSE))","v":8.493150684931507},204.85479452054796]
["2013-03-31",1631,null,8,"2013-03-31",21674,554,null,null,{"$f":"IF(E34=\"\",\"\",VLOOKUP(MONTH(E34),T!A$1:B$12,2,FALSE))","v":"Juni"},{"$f":"IF(E34=\"\",\"\",E34-E33)","v":30},12.533333333333333,null,"December",{"$f":"'2012'!G34","v":369},null,"December",7,null,-362,-98.102981029810294,{"$f":"IF(E34=\"\",\"\",VLOOKUP(MONTH(E34),'Beregn varme 2013'!A$2:H$13,8,FALSE))","v":8.2191780821917799},198.24657534246575]
["2013-04-30",1636,null,5,"2013-04-30",22124,450]
["2013-05-31",1642,null,6,"2013-05-31",22573,449,null,null,"Hele året",{"$f":"SUM(K20:K31)","v":181},{"$f":"G41/K33","v":28.745856353591162},null,"Års Total",{"$f":"SUM(O20:O31)","v":2412},null,null,{"$f":"D41","v":76},null,{"$f":"IF(R33<>0,R33-O33,\"\")","v":-2336},{"$f":"IF(T33<>\"\",T33/(O33/100),\"\")","v":-96.849087893864009},{"$f":"SUM(V20:V31)","v":99.178082191780803},{"$f":"SUM(W20:W31)","v":2392.1753424657536}]
["2013-06-30",1648,null,6,"2013-06-30",22949,376]
["2013-07-31",1654,null,6,"2013-07-31",23322,373,null,null,null,null,null,null,"2011/2012",null,null,"2012/2013",null,null," +/-","%","Forventet forbrug"]
["2013-08-31",1660,null,6,"2013-08-31",23684,362,null,null,"EL","Dage","KWh pr. dag",null,"EL","KWh",null,null,"KWh",null,"KWh",null,"%","KWh"]
["2013-09-30",1666,null,6,"2013-09-30",24101,{"$f":"IF(F37<>\"\",F37-F36,\"\")","v":417},null,null,{"$f":"IF(E29=\"\",\"\",VLOOKUP(Y37,T!A$1:B$12,2,FALSE))","v":"August"},{"$f":"A47-A46","v":0},{"$f":"IF(D47<>\"\",D47/K37,\"\")","v":""},null,{"$f":"J37","v":"August"},{"$f":"'2012'!D63","v":335},null,{"$f":"J37","v":"August"},{"$f":"'2012'!G36","v":382},null,{"$f":"IF(R37=\"\",\"\",R37-O37)","v":47},{"$f":"IF(R37<>\"\",T37/(O37/100),\"\")","v":14.029850746268655},{"$f":"IF(R37=\"\",\"\",VLOOKUP(Y37,'Beregn varme 2013'!A$2:I$13,9,FALSE))","v":7},{"$f":"IF(R37=\"\",\"\",O$50/100*V37)","v":323.96000000000004},{"$f":"DATE(N1,Setup!D4+1,Setup!C4)","v":"2012-08-31"},{"$f":"MONTH(X37)","v":8}]
["2013-10-31",1672,null,6,"2013-10-31",24504,403,null,null,{"$f":"IF(E30=\"\",\"\",VLOOKUP(Y38,T!A$1:B$12,2,FALSE))","v":"September"},{"$f":"A48-A47","v":0},"",null,{"$f":"J38","v":"September"},{"$f":"'2012'!D64","v":333},null,{"$f":"J38","v":"September"},{"$f":"'2012'!G37","v":423},null,{"$f":"IF(R38<>\"\",R38-O38,\"\")","v":90},{"$f":"IF(R38<>\"\",T38/(O38/100),\"\")","v":27.027027027027028},{"$f":"IF(R38=\"\",\"\",VLOOKUP(Y38,'Beregn varme 2013'!A$2:I$13,9,FALSE))","v":8},370.24,{"$f":"EDATE($X$37,ROW(1:1))","v":"2012-09-30"},{"$f":"MONTH(X38)","v":9}]
["2013-11-30",1678,null,6,"2013-11-30",24893,389,null,null,{"$f":"IF(E31=\"\",\"\",VLOOKUP(Y39,T!A$1:B$12,2,FALSE))","v":"Oktober"},{"$f":"IF(A49=\"\",\"\",A49-A48)","v":""},"",null,"Oktober",{"$f":"'2012'!D65","v":403},null,"Oktober",{"$f":"'2012'!G38","v":481},null,{"$f":"IF(R39<>\"\",R39-O39,\"\")","v":78},{"$f":"IF(R39<>\"\",T39/(O39/100),\"\")","v":19.35483870967742},{"$f":"IF(R39=\"\",\"\",VLOOKUP(Y39,'Beregn varme 2013'!A$2:I$13,9,FALSE))","v":9},416.52,{"$f":"EDATE($X$37,ROW(2:2))","v":"2012-10-31"},10]
["2013-12-31",1685,null,7,"2013-12-31",25340,447,null,null,{"$f":"IF(E32=\"\",\"\",VLOOKUP(Y40,T!A$1:B$12,2,FALSE))","v":"November"},{"$f":"IF(A50=\"\",\"\",A50-A49)","v":""},"",null,"November",{"$f":"'2012'!D66+'2012 2'!D61","v":500},null,"November",{"$f":"'2012'!G39","v":432},null,{"$f":"IF(R40<>\"\",R40-O40,\"\")","v":-68},{"$f":"IF(R40<>\"\",T40/(O40/100),\"\")","v":-13.6},{"$f":"IF(R40=\"\",\"\",VLOOKUP(Y40,'Beregn varme 2013'!A$2:I$13,9,FALSE))","v":9},416.52,{"$f":"EDATE($X$37,ROW(3:3))","v":"2012-11-30"},11]
["Års forbrug",null,null,{"$f":"SUM(D29:D40)","v":76},"Års forbrug",null,{"$f":"SUM(G29:G40)","v":5203},null,null,{"$f":"IF(E33=\"\",\"\",VLOOKUP(Y41,T!A$1:B$12,2,FALSE))","v":"December"},{"$f":"IF(A51=\"\",\"\",A51-A50)","v":""},"",null,"December",{"$f":"'2012 2'!D62","v":329},null,"December",{"$f":"'2012'!G40","v":494},null,{"$f":"IF(R41<>\"\",R41-O41,\"\")","v":165},{"$f":"IF(R41<>\"\",T41/(O41/100),\"\")","v":50.151975683890576},{"$f":"IF(R41=\"\",\"\",VLOOKUP(Y41,'Beregn varme 2013'!A$2:I$13,9,FALSE))","v":10},462.8,"2012-12-31",12]
[null,null,null,null,null,null,null,null,null,{"$f":"IF(E34=\"\",\"\",VLOOKUP(Y42,T!A$1:B$12,2,FALSE))","v":"Januar"},{"$f":"IF(A52=\"\",\"\",A52-A51)","v":""},"",null,"Januar",{"$f":"'2012 2'!D63","v":416},null,"Januar",{"$f":"G29","v":505},null,{"$f":"IF(R42<>\"\",R42-O42,\"\")","v":89},21.39423076923077,{"$f":"IF(R42=\"\",\"\",VLOOKUP(Y42,'Beregn varme 2013'!A$2:I$13,9,FALSE))","v":10},462.8,"2013-01-31",1]
[null,null,null,null,null,null,null,null,null,{"$f":"IF(E35=\"\",\"\",VLOOKUP(Y43,T!A$1:B$12,2,FALSE))","v":"Februar"},{"$f":"IF(E47=\"\",\"\",E47-A52)","v":""},{"$f":"IF(G47<>\"\",G47/K43,\"\")","v":""},null,"Februar",{"$f":"'2012 2'!D64","v":404},null,"Februar",{"$f":"G30","v":478},null,74,18.316831683168317,{"$f":"IF(R43=\"\",\"\",VLOOKUP(Y43,'Beregn varme 2013'!A$2:I$13,9,FALSE))","v":9},416.52,"2013-02-28",2]
[null,null,null,null,null,null,null,null,null,{"$f":"IF(E36=\"\",\"\",VLOOKUP(Y44,T!A$1:B$12,2,FALSE))","v":"Marts"},{"$f":"IF(E48=\"\",\"\",E48-E47)","v":""},"",null,"Marts",{"$f":"'2012 2'!D65","v":403},null,"Marts",554,null,151,37.468982630272947,{"$f":"IF(R44=\"\",\"\",VLOOKUP(Y44,'Beregn varme 2013'!A$2:I$13,9,FALSE))","v":9},416.52,"2013-03-31",3]
[null,null,null,null,null,null,null,null,null,{"$f":"IF(E37=\"\",\"\",VLOOKUP(Y45,T!A$1:B$12,2,FALSE))","v":"April"},{"$f":"IF(E49=\"\",\"\",E49-E48)","v":""},"",null,"April",{"$f":"'2012 2'!D66","v":403},null,"April",450,null,47,11.662531017369727,{"$f":"IF(R45=\"\",\"\",VLOOKUP(Y45,'Beregn varme 2013'!A$2:I$13,9,FALSE))","v":8},370.24,"2013-04-30",4]
[null,null,null,null,null,null,null,null,null,{"$f":"IF(E38=\"\",\"\",VLOOKUP(Y46,T!A$1:B$12,2,FALSE))","v":"Maj"},{"$f":"IF(E50=\"\",\"\",E50-E49)","v":""},"",null,"Maj",{"$f":"'2012 2'!G61","v":375},null,"Maj",449,null,74,19.733333333333334,{"$f":"IF(R46=\"\",\"\",VLOOKUP(Y46,'Beregn varme 2013'!A$2:I$13,9,FALSE))","v":7},323.96000000000004,"2013-05-31",5]
[null,null,null,null,null,null,null,null,null,{"$f":"IF(E39=\"\",\"\",VLOOKUP(Y47,T!A$1:B$12,2,FALSE))","v":"Juni"},{"$f":"IF(E51=\"\",\"\",E51-E50)","v":""},"",null,"Juni",{"$f":"'2012 2'!G62","v":369},null,"Juni",376,null,7,1.897018970189702,{"$f":"IF(R47=\"\",\"\",VLOOKUP(Y47,'Beregn varme 2013'!A$2:I$13,9,FALSE))","v":7},323.96000000000004,"2013-06-30",6]
[null,null,null,null,null,null,null,null,null,{"$f":"IF(E40=\"\",\"\",VLOOKUP(Y48,T!A$1:B$12,2,FALSE))","v":"Juli"},{"$f":"IF(E52=\"\",\"\",E52-E51)","v":""},"",null,{"$f":"J48","v":"Juli"},{"$f":"'2012 2'!G63","v":358},null,{"$f":"J48","v":"Juli"},373,null,15,{"$f":"IF(R48<>\"\",T48/(O48/100),\"\")","v":4.1899441340782122},{"$f":"IF(R48=\"\",\"\",VLOOKUP(Y48,'Beregn varme 2013'!A$2:I$13,9,FALSE))","v":7},323.96000000000004,"2013-07-31",7]
[]
[null,null,null,null,null,null,null,null,null,"Hele året",{"$f":"SUM(K37:K48)","v":0},{"$f":"G53/K50","v":{"$error":"#DIV/0!"}},null,"Års Total",{"$f":"SUM(O37:O48)","v":4628},null,null,{"$f":"SUM(R37:R48)","v":5397},null,{"$f":"IF(R50<>0,R50-O50,\"\")","v":769},{"$f":"IF(T50<>\"\",T50/(O50/100),\"\")","v":16.616248919619707},{"$f":"SUM(V37:V48)","v":100},{"$f":"SUM(W37:W48)","v":4628}]

{"sheet":"2012","index":20,"n_rows":67,"n_cols":23,"rows_kept":67,"cut":false,"hidden":false,"merged":[[65,1,65,2],[66,4,66,5],[59,1,59,2],[60,1,60,2],[61,1,61,2],[62,1,62,2],[63,1,63,2],[64,1,64,2],[33,1,33,2],[34,21,34,22],[57,0,58,0],[57,1,57,2],[57,4,58,4],[57,7,58,7],[58,1,58,2],[34,1,34,2],[35,1,35,2],[36,1,36,2],[37,1,37,2],[38,1,38,2],[39,1,39,2],[40,0,40,2],[40,4,40,5],[32,1,32,2],[17,21,17,22],[22,4,22,5],[25,0,26,0],[25,1,25,2],[25,4,26,4],[25,7,26,7],[26,1,26,2],[27,1,27,2],[28,1,28,2],[29,1,29,2],[30,1,30,2],[31,1,31,2],[23,0,24,3],[23,4,24,7],[7,0,8,0],[7,4,8,4],[7,7,8,7],[0,21,0,22],[1,0,1,7],[2,0,2,7],[3,1,3,7],[5,0,6,7]]}
[null,null,null,null,null,null,null,null,null,null,null,null,null,2011,null,null,2012,null,null," +/-","%","Forventet forbrug"]
[{"$f":"System!A19","v":"Version: 2.0.2 / Bjarne Hansen"},null,null,null,null,null,null,null,null,"Olie","Dage","Liter pr dag",null,"Olie","Liter","%",null,"Liter","%","Liter",null,"%","Liter"]
["Aflæsningsskema til Olieforbrug samt EL og Vand",null,null,null,null,null,null,null,null,{"$f":"IF(A11=\"\",\"\",VLOOKUP(MONTH(A11),T!A$1:B$12,2,FALSE))","v":"Januar"},{"$f":"A11-A10","v":31},{"$f":"IF(G11<>\"\",G11/K3,\"\")","v":11.67741935483871},null,{"$f":"IF(A11=\"\",\"\",VLOOKUP(MONTH(A11),T!$A$1:$B$12,2,FALSE))","v":"Januar"},{"$f":"'2011'!F11","v":232},{"$f":"IF(O3=\"\",\"\",O3/(O$16/100))","v":14.259373079287032},{"$f":"IF(A11=\"\",\"\",VLOOKUP(MONTH(A11),T!$A$1:$B$12,2,FALSE))","v":"Januar"},{"$f":"G11","v":362},{"$f":"IF(R3=\"\",\"\",R3/(R$16/100))","v":16.225907664724339},{"$f":"IF(R3<>\"\",R3-O3,\"\")","v":130},{"$f":"IF(R3<>\"\",T3/(O3/100),\"\")","v":56.03448275862069},{"$f":"IF(A11=\"\",\"\",VLOOKUP(MONTH(A11),'Beregn varme 2011'!A$2:G$13,7,FALSE))","v":15.04619364375462},{"$f":"IF(R3=\"\",\"\",VLOOKUP(MONTH(A11),'Beregn varme 2011'!A$2:F$13,6,FALSE))","v":226.29475240206946}]
["Navn :","Bjarne Hansen, Lyrsbyvej 31",null,null,null,null,null,null,null,{"$f":"IF(A12=\"\",\"\",VLOOKUP(MONTH(A12),T!A$1:B$12,2,FALSE))","v":"Februar"},{"$f":"IF(A12=\"\",\"\",A12-A11)","v":29},13.379310344827585,null,{"$f":"IF(A12=\"\",\"\",VLOOKUP(MONTH(A12),T!A$1:B$12,2,FALSE))","v":"Februar"},{"$f":"'2011'!F12","v":225},13.829133374308544,{"$f":"IF(A12=\"\",\"\",VLOOKUP(MONTH(A12),T!$A$1:$B$12,2,FALSE))","v":"Februar"},388,17.39130434782609,{"$f":"IF(R4<>\"\",R4-O4,\"\")","v":163},{"$f":"IF(R4<>\"\",T4/(O4/100),\"\")","v":72.444444444444443},{"$f":"IF(A12=\"\",\"\",VLOOKUP(MONTH(A12),'Beregn varme 2011'!A$2:G$13,7,FALSE))","v":13.72690317812269},{"$f":"IF(R4=\"\",\"\",VLOOKUP(MONTH(A12),'Beregn varme 2011'!A$2:F$13,6,FALSE))","v":206.45262379896525}]
["Tankstørrelse:",null,{"$f":"System!F8","v":1800},"Liter",null,null,null,null,null,{"$f":"IF(A13=\"\",\"\",VLOOKUP(MONTH(A13),T!A$1:B$12,2,FALSE))","v":"Marts"},31,8.387096774193548,null,{"$f":"IF(A13=\"\",\"\",VLOOKUP(MONTH(A13),T!A$1:B$12,2,FALSE))","v":"Marts"},{"$f":"'2011'!F13","v":189},11.616472034419177,{"$f":"IF(A13=\"\",\"\",VLOOKUP(MONTH(A13),T!$A$1:$B$12,2,FALSE))","v":"Marts"},260,11.653966831017481,71,37.56613756613757,{"$f":"IF(A13=\"\",\"\",VLOOKUP(MONTH(A13),'Beregn varme 2011'!A$2:G$13,7,FALSE))","v":13.597560975609754},{"$f":"IF(R5=\"\",\"\",VLOOKUP(MONTH(A13),'Beregn varme 2011'!A$2:F$13,6,FALSE))","v":204.5073170731707}]
["MÅNEDLIG PEJLING AF OLIETANK",null,null,null,null,null,null,null,null,{"$f":"IF(A14=\"\",\"\",VLOOKUP(MONTH(A14),T!A$1:B$12,2,FALSE))","v":"April"},30,6.7,null,{"$f":"IF(A14=\"\",\"\",VLOOKUP(MONTH(A14),T!A$1:B$12,2,FALSE))","v":"April"},{"$f":"'2011'!F14","v":103},6.3306699446834669,{"$f":"IF(A14=\"\",\"\",VLOOKUP(MONTH(A14),T!$A$1:$B$12,2,FALSE))","v":"April"},201,9.009412819363515,98,95.145631067961162,{"$f":"IF(A14=\"\",\"\",VLOOKUP(MONTH(A14),'Beregn varme 2011'!A$2:G$13,7,FALSE))","v":8.9412416851441243},{"$f":"IF(R6=\"\",\"\",VLOOKUP(MONTH(A14),'Beregn varme 2011'!A$2:F$13,6,FALSE))","v":134.47627494456762}]
[null,null,null,null,null,null,null,null,null,{"$f":"IF(A15=\"\",\"\",VLOOKUP(MONTH(A15),T!A$1:B$12,2,FALSE))","v":"Maj"},31,2.6451612903225805,null,{"$f":"IF(A15=\"\",\"\",VLOOKUP(MONTH(A15),T!A$1:B$12,2,FALSE))","v":"Maj"},{"$f":"'2011'!F15","v":93},5.7160417947141982,{"$f":"IF(A15=\"\",\"\",VLOOKUP(MONTH(A15),T!$A$1:$B$12,2,FALSE))","v":"Maj"},82,3.6754818467055133,-11,-11.827956989247312,{"$f":"IF(A15=\"\",\"\",VLOOKUP(MONTH(A15),'Beregn varme 2011'!A$2:G$13,7,FALSE))","v":4.0003695491500375},{"$f":"IF(R7=\"\",\"\",VLOOKUP(MONTH(A15),'Beregn varme 2011'!A$2:F$13,6,FALSE))","v":60.165558019216554}]
["Dato","Pejling",null,"Fyldt på","Beholdning","Plads til","Forbrug","Bemærkning:",null,{"$f":"IF(A16=\"\",\"\",VLOOKUP(MONTH(A16),T!A$1:B$12,2,FALSE))","v":"Juni"},30,1.4333333333333333,null,{"$f":"IF(A16=\"\",\"\",VLOOKUP(MONTH(A16),T!A$1:B$12,2,FALSE))","v":"Juni"},{"$f":"'2011'!F16","v":0},0,{"$f":"IF(A16=\"\",\"\",VLOOKUP(MONTH(A16),T!$A$1:$B$12,2,FALSE))","v":"Juni"},43,1.9273868220528911,43,{"$f":"IF(AND(R8<>\"\",O8<>0),T8/(O8/100),\"  -  \")","v":"  -  "},{"$f":"IF(A16=\"\",\"\",VLOOKUP(MONTH(A16),'Beregn varme 2011'!A$2:G$13,7,FALSE))","v":2.5000000000000004},{"$f":"IF(R8=\"\",\"\",VLOOKUP(MONTH(A16),'Beregn varme 2011'!A$2:F$13,6,FALSE))","v":37.6}]
[null,"i cm","Liter","Liter",null,"Liter","Liter",null,null,{"$f":"IF(A17=\"\",\"\",VLOOKUP(MONTH(A17),T!A$1:B$12,2,FALSE))","v":"Juli"},31,0.19354838709677419,null,{"$f":"IF(A17=\"\",\"\",VLOOKUP(MONTH(A17),T!A$1:B$12,2,FALSE))","v":"Juli"},{"$f":"'2011'!F17","v":0},0,{"$f":"IF(A17=\"\",\"\",VLOOKUP(MONTH(A17),T!$A$1:$B$12,2,FALSE))","v":"Juli"},6,0.26893769610040341,6,{"$f":"IF(AND(R9<>\"\",O9<>0),T9/(O9/100),\"  -  \")","v":"  -  "},{"$f":"IF(A17=\"\",\"\",VLOOKUP(MONTH(A17),'Beregn varme 2011'!A$2:G$13,7,FALSE))","v":2.5000000000000004},{"$f":"IF(R9=\"\",\"\",VLOOKUP(MONTH(A17),'Beregn varme 2011'!A$2:F$13,6,FALSE))","v":37.6}]
["2011-12-31",76,{"$f":"IF(B10=\"\",\"\",VLOOKUP(B10,Pejletabel1800!A$3:B$201,2,FALSE))","v":901},null,{"$f":"IF(C10<>\"\",SUM(C10:D10),\"\")","v":901},{"$f":"IF(E10<>\"\",1800-E10,\"\")","v":899},null,null,null,{"$f":"IF(A18=\"\",\"\",VLOOKUP(MONTH(A18),T!A$1:B$12,2,FALSE))","v":"August"},31,0,null,{"$f":"IF(A18=\"\",\"\",VLOOKUP(MONTH(A18),T!A$1:B$12,2,FALSE))","v":"August"},{"$f":"'2011'!F18","v":0},0,{"$f":"IF(A18=\"\",\"\",VLOOKUP(MONTH(A18),T!$A$1:$B$12,2,FALSE))","v":"August"},0,0,0,{"$f":"IF(AND(R10<>\"\",O10<>0),T10/(O10/100),\"  -  \")","v":"  -  "},{"$f":"IF(A18=\"\",\"\",VLOOKUP(MONTH(A18),'Beregn varme 2011'!A$2:G$13,7,FALSE))","v":2.5000000000000004},{"$f":"IF(R10=\"\",\"\",VLOOKUP(MONTH(A18),'Beregn varme 2011'!A$2:F$13,6,FALSE))","v":37.6}]
["2012-01-31",48.5,{"$f":"IF(B11=\"\",\"\",VLOOKUP(B11,Pejletabel1800!A$3:B$201,2,FALSE))","v":539},null,{"$f":"IF(C11<>\"\",C11+D11,\"\")","v":539},{"$f":"IF(E11<>\"\",1800-E11,\"\")","v":1261},{"$f":"IF(C11<>\"\",E10-C11,\"\")","v":362},null,null,{"$f":"IF(A19=\"\",\"\",VLOOKUP(MONTH(A19),T!A$1:B$12,2,FALSE))","v":"September"},30,2.4333333333333331,null,{"$f":"IF(A19=\"\",\"\",VLOOKUP(MONTH(A19),T!A$1:B$12,2,FALSE))","v":"September"},{"$f":"'2011'!F19","v":64},3.9336201598033189,{"$f":"IF(A19=\"\",\"\",VLOOKUP(MONTH(A19),T!$A$1:$B$12,2,FALSE))","v":"September"},73,3.2720753025549083,9,14.0625,{"$f":"IF(A19=\"\",\"\",VLOOKUP(MONTH(A19),'Beregn varme 2011'!A$2:G$13,7,FALSE))","v":3.1725794530672582},{"$f":"IF(R11=\"\",\"\",VLOOKUP(MONTH(A19),'Beregn varme 2011'!A$2:F$13,6,FALSE))","v":47.715594974131562}]
["2012-02-29",18.5,{"$f":"IF(B12=\"\",\"\",VLOOKUP(B12,Pejletabel1800!A$3:B$201,2,FALSE))","v":151},1000,{"$f":"IF(C12<>\"\",C12+D12,\"\")","v":1151},{"$f":"IF(E12<>\"\",1800-E12,\"\")","v":649},{"$f":"IF(C12<>\"\",E11-C12,\"\")","v":388},null,null,{"$f":"IF(A20=\"\",\"\",VLOOKUP(MONTH(A20),T!A$1:B$12,2,FALSE))","v":"Oktober"},31,6.064516129032258,null,{"$f":"IF(A20=\"\",\"\",VLOOKUP(MONTH(A20),T!A$1:B$12,2,FALSE))","v":"Oktober"},{"$f":"'2011'!F20","v":101},6.207744314689613,{"$f":"IF(A20=\"\",\"\",VLOOKUP(MONTH(A20),T!$A$1:$B$12,2,FALSE))","v":"Oktober"},188,8.4267144778126397,87,86.138613861386133,{"$f":"IF(A20=\"\",\"\",VLOOKUP(MONTH(A20),'Beregn varme 2011'!A$2:G$13,7,FALSE))","v":7.7512934220251291},{"$f":"IF(R12=\"\",\"\",VLOOKUP(MONTH(A20),'Beregn varme 2011'!A$2:F$13,6,FALSE))","v":116.57945306725793}]
["2012-03-31",75.2,{"$f":"IF(B13=\"\",\"\",VLOOKUP(B13,Pejletabel1800!A$3:B$201,2,FALSE))","v":891},null,{"$f":"IF(C13<>\"\",C13+D13,\"\")","v":891},909,260,null,null,{"$f":"IF(A21=\"\",\"\",VLOOKUP(MONTH(A21),T!A$1:B$12,2,FALSE))","v":"November"},30,9.6333333333333329,null,{"$f":"IF(A21=\"\",\"\",VLOOKUP(MONTH(A21),T!A$1:B$12,2,FALSE))","v":"November"},{"$f":"'2011'!F21","v":160},9.834050399508298,{"$f":"IF(A21=\"\",\"\",VLOOKUP(MONTH(A21),T!$A$1:$B$12,2,FALSE))","v":"November"},289,12.953832362169431,129,80.625,{"$f":"IF(A21=\"\",\"\",VLOOKUP(MONTH(A21),'Beregn varme 2011'!A$2:G$13,7,FALSE))","v":11.631559497413155},{"$f":"IF(R13=\"\",\"\",VLOOKUP(MONTH(A21),'Beregn varme 2011'!A$2:F$13,6,FALSE))","v":174.93865484109384}]
["2012-04-30",60,{"$f":"IF(B14=\"\",\"\",VLOOKUP(B14,Pejletabel1800!A$3:B$201,2,FALSE))","v":690},null,690,1110,201,null,null,{"$f":"IF(A22=\"\",\"\",VLOOKUP(MONTH(A22),T!A$1:B$12,2,FALSE))","v":"December"},31,10.935483870967742,null,{"$f":"IF(A22=\"\",\"\",VLOOKUP(MONTH(A22),T!A$1:B$12,2,FALSE))","v":"December"},{"$f":"'2011'!F22","v":460},28.272894898586355,{"$f":"IF(A22=\"\",\"\",VLOOKUP(MONTH(A22),T!$A$1:$B$12,2,FALSE))","v":"December"},339,15.194979829672793,-121,-26.304347826086957,{"$f":"IF(A22=\"\",\"\",VLOOKUP(MONTH(A22),'Beregn varme 2011'!A$2:G$13,7,FALSE))","v":14.632298595713229},{"$f":"IF(R14=\"\",\"\",VLOOKUP(MONTH(A22),'Beregn varme 2011'!A$2:F$13,6,FALSE))","v":220.06977087952694}]
["2012-05-31",53.7,{"$f":"IF(B15=\"\",\"\",VLOOKUP(B15,Pejletabel1800!A$3:B$201,2,FALSE))","v":608},null,608,1192,82]
["2012-06-30",50.5,{"$f":"IF(B16=\"\",\"\",VLOOKUP(B16,Pejletabel1800!A$3:B$201,2,FALSE))","v":565},null,565,1235,43,null,null,"Hele året",{"$f":"SUM(K3:K14)","v":366},{"$f":"G23/K16","v":6.0956284153005464},null,"Års Total",{"$f":"'2011'!F23","v":1627},{"$f":"SUM(P3:P14)","v":100},null,{"$f":"G23","v":2231},null,{"$f":"IF(R16<>0,R16-O16,\"\")","v":604},{"$f":"IF(R16<>0,T16/(R16/100),\"\")","v":27.073061407440612},{"$f":"SUM(V3:V14)","v":99.999999999999986},{"$f":"SUM(W3:W14)","v":1504}]
["2012-07-31",50,{"$f":"IF(B17=\"\",\"\",VLOOKUP(B17,Pejletabel1800!A$3:B$201,2,FALSE))","v":559},null,559,1241,6,"slukket fyret"]
["2012-08-31",50,{"$f":"IF(B18=\"\",\"\",VLOOKUP(B18,Pejletabel1800!A$3:B$201,2,FALSE))","v":559},null,559,1241,0,null,null,null,null,null,null,2011,null,null,2012,null,null," +/-","%","Forventet forbrug"]
["2012-09-30",44.5,{"$f":"IF(B19=\"\",\"\",VLOOKUP(B19,Pejletabel1800!A$3:B$201,2,FALSE))","v":486},null,486,1314,73,null,null,"Vand","Dage","m³ pr. dag",null,"Vand","m³",null,null,"m³",null,"m³",null,"%","m³"]
["2012-10-31",30.2,{"$f":"IF(B20=\"\",\"\",VLOOKUP(B20,Pejletabel1800!A$3:B$201,2,FALSE))","v":298},1000,1298,502,188,null,null,{"$f":"IF(A29=\"\",\"\",VLOOKUP(MONTH(A29),T!A$1:B$12,2,FALSE))","v":"Januar"},{"$f":"A29-A28","v":31},{"$f":"IF(D29<>\"\",D29/K20,\"\")","v":0.22580645161290322},null,{"$f":"IF(A29=\"\",\"\",VLOOKUP(MONTH(A29),T!A$1:B$12,2,FALSE))","v":"Januar"},{"$f":"'2011'!C29","v":10},null,"Januar",{"$f":"D29","v":7},null,{"$f":"IF(R20<>\"\",R20-O20,\"\")","v":-3},{"$f":"IF(T20<>\"\",T20/(O20/100),\"\")","v":-30},{"$f":"IF(A28=\"\",\"\",VLOOKUP(MONTH(A28),'Beregn varme 2011'!A$2:H$13,8,FALSE))","v":8.493150684931507},{"$f":"IF(R20=\"\",\"\",O$33/100*V20)","v":7.0493150684931507}]
["2012-11-30",84.2,{"$f":"IF(B21=\"\",\"\",VLOOKUP(B21,Pejletabel1800!A$3:B$201,2,FALSE))","v":1009},null,1009,{"$f":"IF(E21<>\"\",1200-E21,\"\")","v":191},289,null,null,{"$f":"IF(A30=\"\",\"\",VLOOKUP(MONTH(A30),T!A$1:B$12,2,FALSE))","v":"Februar"},{"$f":"IF(A30=\"\",\"\",A30-A29)","v":29},0.2413793103448276,null,{"$f":"IF(A30=\"\",\"\",VLOOKUP(MONTH(A30),T!A$1:B$12,2,FALSE))","v":"Februar"},{"$f":"'2011'!C30","v":7},null,"Februar",7,null,{"$f":"IF(R21<>\"\",R21-O21,\"\")","v":0},{"$f":"IF(T21<>\"\",T21/(O21/100),\"\")","v":0},{"$f":"IF(A29=\"\",\"\",VLOOKUP(MONTH(A29),'Beregn varme 2011'!A$2:H$13,8,FALSE))","v":8.493150684931507},7.0493150684931507]
["2012-12-31",58.5,{"$f":"IF(B22=\"\",\"\",VLOOKUP(B22,Pejletabel1800!A$3:B$201,2,FALSE))","v":670},null,670,530,339,null,null,{"$f":"IF(A31=\"\",\"\",VLOOKUP(MONTH(A31),T!A$1:B$12,2,FALSE))","v":"Marts"},{"$f":"IF(A31=\"\",\"\",A31-A30)","v":31},0.19354838709677419,null,{"$f":"IF(A31=\"\",\"\",VLOOKUP(MONTH(A31),T!A$1:B$12,2,FALSE))","v":"Marts"},{"$f":"'2011'!C31","v":8},null,"Marts",6,null,-2,-25,{"$f":"IF(A30=\"\",\"\",VLOOKUP(MONTH(A30),'Beregn varme 2011'!A$2:H$13,8,FALSE))","v":7.6712328767123283},6.367123287671232]
[null,null,null,null,"Års forbrug",null,{"$f":"SUM(G11:G22)","v":2231},null,null,{"$f":"IF(A32=\"\",\"\",VLOOKUP(MONTH(A32),T!A$1:B$12,2,FALSE))","v":"April"},{"$f":"IF(A32=\"\",\"\",A32-A31)","v":30},0.26666666666666666,null,{"$f":"IF(A32=\"\",\"\",VLOOKUP(MONTH(A32),T!A$1:B$12,2,FALSE))","v":"April"},{"$f":"'2011'!C32","v":6},null,"April",8,null,2,33.333333333333336,{"$f":"IF(A31=\"\",\"\",VLOOKUP(MONTH(A31),'Beregn varme 2011'!A$2:H$13,8,FALSE))","v":8.493150684931507},7.0493150684931507]
["MÅNEDLIG AFLÆSNING AF VANDMÅLER",null,null,null,"MÅNEDLIG AFLÆSNING AF ELMÅLER",null,null,null,null,{"$f":"IF(A33=\"\",\"\",VLOOKUP(MONTH(A33),T!A$1:B$12,2,FALSE))","v":"Maj"},{"$f":"IF(A33=\"\",\"\",A33-A32)","v":31},0.22580645161290322,null,{"$f":"IF(A33=\"\",\"\",VLOOKUP(MONTH(A33),T!A$1:B$12,2,FALSE))","v":"Maj"},{"$f":"'2011'!C33","v":6},null,"Maj",7,null,1,16.666666666666668,{"$f":"IF(A32=\"\",\"\",VLOOKUP(MONTH(A32),'Beregn varme 2011'!A$2:H$13,8,FALSE))","v":8.2191780821917799},6.8219178082191769]
[null,null,null,null,null,null,null,null,null,{"$f":"IF(A34=\"\",\"\",VLOOKUP(MONTH(A34),T!A$1:B$12,2,FALSE))","v":"Juni"},{"$f":"IF(E29=\"\",\"\",A34-A33)","v":30},0.23333333333333334,null,"Juni",{"$f":"'2011'!C34","v":8},null,"Juni",7,null,-1,-12.5,{"$f":"IF(A33=\"\",\"\",VLOOKUP(MONTH(A33),'Beregn varme 2011'!A$2:H$13,8,FALSE))","v":8.493150684931507},7.0493150684931507]
["Dato","Aflæst",null,"Forbrug","Dato","Aflæst","Forbrug","Bemærkning:",null,{"$f":"IF(E29=\"\",\"\",VLOOKUP(MONTH(E29),T!A$1:B$12,2,FALSE))","v":"Januar"},{"$f":"IF(E29=\"\",\"\",E29-A34)","v":-151},-4.6357615894039736E-2,null,"Juli",{"$f":"'2011'!F29","v":7},null,"Juli",7,null,0,0,{"$f":"IF(A34=\"\",\"\",VLOOKUP(MONTH(A34),'Beregn varme 2011'!A$2:H$13,8,FALSE))","v":8.2191780821917799},6.8219178082191769]
[null,"m³",null,"m³",null,"m³","m³",null,null,{"$f":"IF(E30=\"\",\"\",VLOOKUP(MONTH(E30),T!A$1:B$12,2,FALSE))","v":"Februar"},{"$f":"IF(E30=\"\",\"\",E30-E29)","v":29},0.2413793103448276,null,"August",{"$f":"'2011'!F30","v":6},null,"August",7,null,1,16.666666666666668,{"$f":"IF(E29=\"\",\"\",VLOOKUP(MONTH(E29),'Beregn varme 2011'!A$2:H$13,8,FALSE))","v":8.493150684931507},7.0493150684931507]
["2011-12-31",1525,null,null,{"$f":"A28","v":"2011-12-31"},15197,null,null,null,{"$f":"IF(E31=\"\",\"\",VLOOKUP(MONTH(E31),T!A$1:B$12,2,FALSE))","v":"Marts"},{"$f":"IF(E31=\"\",\"\",E31-E30)","v":31},0.22580645161290322,null,"September",{"$f":"'2011'!F31","v":6},null,"September",7,null,1,16.666666666666668,{"$f":"IF(E30=\"\",\"\",VLOOKUP(MONTH(E30),'Beregn varme 2011'!A$2:H$13,8,FALSE))","v":7.6712328767123283},6.367123287671232]
[{"$f":"EDATE($A$28,ROW(1:1))","v":"2012-01-31"},1532,null,{"$f":"IF(B29<>\"\",B29-B28,\"\")","v":7},{"$f":"EDATE($E$28,ROW(1:1))","v":"2012-01-31"},15613,{"$f":"IF(F29<>\"\",F29-F28,\"\")","v":416},null,null,{"$f":"IF(E32=\"\",\"\",VLOOKUP(MONTH(E32),T!A$1:B$12,2,FALSE))","v":"April"},{"$f":"IF(E32=\"\",\"\",E32-E31)","v":30},0.23333333333333334,null,"Oktober",{"$f":"'2011'!F32","v":7},null,"Oktober",7,null,0,0,{"$f":"IF(E31=\"\",\"\",VLOOKUP(MONTH(E31),'Beregn varme 2011'!A$2:H$13,8,FALSE))","v":8.493150684931507},7.0493150684931507]
[{"$f":"EDATE($A$28,ROW(2:2))","v":"2012-02-29"},1539,null,{"$f":"IF(B30<>\"\",B30-B29,\"\")","v":7},{"$f":"EDATE($E$28,ROW(2:2))","v":"2012-02-29"},16017,{"$f":"IF(F30<>\"\",F30-F29,\"\")","v":404},null,null,{"$f":"IF(E33=\"\",\"\",VLOOKUP(MONTH(E33),T!A$1:B$12,2,FALSE))","v":"Maj"},{"$f":"IF(E33=\"\",\"\",E33-E32)","v":31},0.19354838709677419,null,"November",{"$f":"'2011'!F33","v":6},null,"November",6,null,0,0,{"$f":"IF(E32=\"\",\"\",VLOOKUP(MONTH(E32),'Beregn varme 2011'!A$2:H$13,8,FALSE))","v":8.2191780821917799},6.8219178082191769]
[{"$f":"EDATE($A$28,ROW(3:3))","v":"2012-03-31"},1545,null,6,{"$f":"EDATE($E$28,ROW(3:3))","v":"2012-03-31"},16420,{"$f":"IF(F31<>\"\",F31-F30,\"\")","v":403},null,null,{"$f":"IF(E34=\"\",\"\",VLOOKUP(MONTH(E34),T!A$1:B$12,2,FALSE))","v":"Juni"},{"$f":"IF(E34=\"\",\"\",E34-E33)","v":30},0.26666666666666666,null,"December",{"$f":"'2011'!F34","v":6},null,"December",8,null,2,33.333333333333336,{"$f":"IF(E33=\"\",\"\",VLOOKUP(MONTH(E33),'Beregn varme 2011'!A$2:H$13,8,FALSE))","v":8.493150684931507},7.0493150684931507]
["2012-04-30",1553,null,8,{"$f":"EDATE($E$28,ROW(4:4))","v":"2012-04-30"},16823,{"$f":"IF(F32<>\"\",F32-F31,\"\")","v":403}]
["2012-05-31",1560,null,7,"2012-05-31",17198,{"$f":"IF(F33<>\"\",F33-F32,\"\")","v":375},null,null,"Hele året",{"$f":"SUM(K20:K31)","v":182},{"$f":"G35/K33","v":1.9670329670329669},null,"Års Total",{"$f":"SUM(O20:O31)","v":83},null,null,{"$f":"D41","v":84},null,{"$f":"IF(R33<>0,R33-O33,\"\")","v":1},{"$f":"IF(T33<>\"\",T33/(R33/100),\"\")","v":1.1904761904761905},{"$f":"SUM(V20:V31)","v":99.452054794520535},{"$f":"SUM(W20:W31)","v":82.545205479452051}]
["2012-06-30",1567,null,7,"2012-06-30",17567,{"$f":"IF(F34<>\"\",F34-F33,\"\")","v":369}]
["2012-07-31",1574,null,7,"2012-07-31",17925,358,null,null,null,null,null,null,"2010/2011",null,null,"2011/2012",null,null," +/-","%","Forventet forbrug"]
["2012-08-31",1581,null,7,"2012-08-31",18307,382,null,null,"EL","Dage","KWh pr. dag",null,"EL","KWh",null,null,"KWh",null,"KWh",null,"%","KWh"]
["2012-09-30",1588,null,7,"2012-09-30",18730,423,null,null,{"$f":"IF(A61=\"\",\"\",VLOOKUP(MONTH(A61),T!A$1:B$12,2,FALSE))","v":"Juni"},{"$f":"A61-A60","v":30},{"$f":"IF(D61<>\"\",D61/K37,\"\")","v":11.766666666666667},null,"Juni",{"$f":"'2011'!C41","v":341},null,"Juni",{"$f":"D61","v":353},null,{"$f":"IF(R37=\"\",\"\",R37-O37)","v":12},{"$f":"IF(R37<>\"\",T37/(O37/100),\"\")","v":3.5190615835777126},{"$f":"IF(A61=\"\",\"\",VLOOKUP(MONTH(A61),'Beregn varme 2011'!A$2:I$13,9,FALSE))","v":7},{"$f":"IF(R37=\"\",\"\",O$50/100*V37)","v":383.46000000000004}]
["2012-10-31",1595,null,7,"2012-10-31",19211,481,null,null,{"$f":"IF(A62=\"\",\"\",VLOOKUP(MONTH(A62),T!A$1:B$12,2,FALSE))","v":"Juli"},{"$f":"A62-A61","v":31},12.290322580645162,null,"Juli",{"$f":"'2011'!C42","v":276},null,"Juli",{"$f":"IF(D62<>\"\",D62,\"\")","v":381},null,{"$f":"IF(R38<>\"\",R38-O38,\"\")","v":105},{"$f":"IF(R38<>\"\",T38/(O38/100),\"\")","v":38.04347826086957},{"$f":"IF(A62=\"\",\"\",VLOOKUP(MONTH(A62),'Beregn varme 2011'!A$2:I$13,9,FALSE))","v":7},383.46000000000004]
["2012-11-30",1601,null,6,"2012-11-30",19643,432,null,null,{"$f":"IF(A63=\"\",\"\",VLOOKUP(MONTH(A63),T!A$1:B$12,2,FALSE))","v":"August"},{"$f":"IF(A63=\"\",\"\",A63-A62)","v":31},10.806451612903226,null,"August",{"$f":"'2011'!C43","v":275},null,"August",{"$f":"IF(D63<>\"\",D63,\"\")","v":335},null,{"$f":"IF(R39<>\"\",R39-O39,\"\")","v":60},{"$f":"IF(R39<>\"\",T39/(O39/100),\"\")","v":21.818181818181817},{"$f":"IF(A63=\"\",\"\",VLOOKUP(MONTH(A63),'Beregn varme 2011'!A$2:I$13,9,FALSE))","v":7},383.46000000000004]
["2012-12-31",1609,null,8,"2012-12-31",20137,494,null,null,{"$f":"IF(A64=\"\",\"\",VLOOKUP(MONTH(A64),T!A$1:B$12,2,FALSE))","v":"September"},{"$f":"IF(A64=\"\",\"\",A64-A63)","v":30},11.1,null,"September",{"$f":"'2011'!C44","v":336},null,"September",{"$f":"IF(D64<>\"\",D64,\"\")","v":333},null,{"$f":"IF(R40<>\"\",R40-O40,\"\")","v":-3},{"$f":"IF(R40<>\"\",T40/(O40/100),\"\")","v":-0.8928571428571429},{"$f":"IF(A64=\"\",\"\",VLOOKUP(MONTH(A64),'Beregn varme 2011'!A$2:I$13,9,FALSE))","v":8},438.24]
["Års forbrug",null,null,{"$f":"SUM(D29:D40)","v":84},"Års forbrug",null,{"$f":"SUM(G29:G40)","v":4940},null,null,{"$f":"IF(A65=\"\",\"\",VLOOKUP(MONTH(A65),T!A$1:B$12,2,FALSE))","v":"Oktober"},{"$f":"IF(A65=\"\",\"\",A65-A64)","v":31},13,null,"Oktober",{"$f":"'2011'!C45","v":421},null,"Oktober",{"$f":"IF(D65<>\"\",D65,\"\")","v":403},null,{"$f":"IF(R41<>\"\",R41-O41,\"\")","v":-18},{"$f":"IF(R41<>\"\",T41/(O41/100),\"\")","v":-4.2755344418052257},{"$f":"IF(A65=\"\",\"\",VLOOKUP(MONTH(A65),'Beregn varme 2011'!A$2:I$13,9,FALSE))","v":9},493.02]
[null,null,null,null,null,null,null,null,null,{"$f":"IF(A66=\"\",\"\",VLOOKUP(MONTH(A66),T!A$1:B$12,2,FALSE))","v":"November"},{"$f":"IF(A66=\"\",\"\",A66-A65)","v":30},14.5,null,"November",{"$f":"'2011'!C46","v":544},null,"November",{"$f":"IF(D66<>\"\",D66,\"\")","v":435},null,{"$f":"IF(R42<>\"\",R42-O42,\"\")","v":-109},-20.036764705882351,{"$f":"IF(A66=\"\",\"\",VLOOKUP(MONTH(A66),'Beregn varme 2011'!A$2:I$13,9,FALSE))","v":9},493.02]
[null,null,null,null,null,null,null,null,null,{"$f":"IF(E61=\"\",\"\",VLOOKUP(MONTH(E61),T!A$1:B$12,2,FALSE))","v":"Februar"},{"$f":"IF(E61=\"\",\"\",E61-A66)","v":91},{"$f":"IF(G61<>\"\",G61/K43,\"\")","v":13.340659340659341},null,"December",{"$f":"'2011'!F41","v":618},null,"December",{"$f":"IF(G61<>\"\",G61,\"\")","v":1214},null,596,96.440129449838196,{"$f":"IF(E61=\"\",\"\",VLOOKUP(MONTH(E61),'Beregn varme 2011'!A$2:I$13,9,FALSE))","v":9},493.02]
[null,null,null,null,null,null,null,null,null,{"$f":"IF(E62=\"\",\"\",VLOOKUP(MONTH(E62),T!A$1:B$12,2,FALSE))","v":"Marts"},{"$f":"IF(E62=\"\",\"\",E62-E61)","v":31},13,null,"Januar",{"$f":"'2011'!F42","v":648},null,"Januar",403,null,-245,-37.808641975308639,{"$f":"IF(E62=\"\",\"\",VLOOKUP(MONTH(E62),'Beregn varme 2011'!A$2:I$13,9,FALSE))","v":9},493.02]
[null,null,null,null,null,null,null,null,null,{"$f":"IF(E63=\"\",\"\",VLOOKUP(MONTH(E63),T!A$1:B$12,2,FALSE))","v":"April"},{"$f":"IF(E63=\"\",\"\",E63-E62)","v":30},13.433333333333334,null,"Februar",{"$f":"'2011'!F43","v":606},null,"Februar",403,null,-203,-33.4983498349835,{"$f":"IF(E63=\"\",\"\",VLOOKUP(MONTH(E63),'Beregn varme 2011'!A$2:I$13,9,FALSE))","v":8},438.24]
[null,null,null,null,null,null,null,null,null,{"$f":"IF(E64=\"\",\"\",VLOOKUP(MONTH(E64),T!A$1:B$12,2,FALSE))","v":"Maj"},{"$f":"IF(E64=\"\",\"\",E64-E63)","v":31},12.096774193548388,null,"Marts",{"$f":"'2011'!F44","v":625},null,"Marts",375,null,-250,-40,{"$f":"IF(E64=\"\",\"\",VLOOKUP(MONTH(E64),'Beregn varme 2011'!A$2:I$13,9,FALSE))","v":7},383.46000000000004]
[null,null,null,null,null,null,null,null,null,{"$f":"IF(E65=\"\",\"\",VLOOKUP(MONTH(E65),T!A$1:B$12,2,FALSE))","v":"Juni"},{"$f":"IF(E65=\"\",\"\",E65-E64)","v":30},12.3,null,"April",{"$f":"'2011'!F45","v":408},null,"April",369,null,-39,-9.5588235294117645,{"$f":"IF(E65=\"\",\"\",VLOOKUP(MONTH(E65),'Beregn varme 2011'!A$2:I$13,9,FALSE))","v":7},383.46000000000004]
[null,null,null,null,null,null,null,null,null,{"$f":"IF(E66=\"\",\"\",VLOOKUP(MONTH(E66),T!A$1:B$12,2,FALSE))","v":"Juli"},{"$f":"IF(E66=\"\",\"\",E66-E65)","v":31},11.548387096774194,null,"Maj",{"$f":"'2011'!F46","v":380},null,"Maj",358,null,-22,{"$f":"IF(R48<>\"\",T48/(R48/100),\"\")","v":-6.1452513966480442},{"$f":"IF(E66=\"\",\"\",VLOOKUP(MONTH(E66),'Beregn varme 2011'!A$2:I$13,9,FALSE))","v":7},383.46000000000004]
[]
[null,null,null,null,null,null,null,null,null,"Hele året",{"$f":"SUM(K37:K48)","v":427},{"$f":"G67/K50","v":12.557377049180328},null,"Års Total",{"$f":"SUM(O37:O48)","v":5478},null,null,{"$f":"SUM(R37:R48)","v":5362},null,{"$f":"R50-O50","v":-116},{"$f":"T50/(R50/100)","v":-2.16337187616561},{"$f":"SUM(V37:V48)","v":94},{"$f":"SUM(W37:W48)","v":5149.3200000000006}]
[]
[]
[]
[]
[]
["MÅNEDLIG AFLÆSNING AF ELMÅLER"]
[]
["Dato","Aflæst",null,"Forbrug","Dato","Aflæst","Forbrug","Bemærkning:"]
[null,"KWh",null,"KWh",null,"KWh","KWh"]
["2011-05-31",60055]
["2011-06-30",60408,null,{"$f":"IF(B61<>\"\",B61-B60,\"\")","v":353},"2012-02-29",16017,{"$f":"'2011 2'!G47","v":1214},"Brugt på lyrsbyvej 31"]
["2011-07-31",60789,null,{"$f":"IF(B62<>\"\",B62-B61,\"\")","v":381},"2012-03-31",16420,{"$f":"IF(F62<>\"\",F62-F61,\"\")","v":403}]
["2011-08-31",61124,null,{"$f":"IF(B63<>\"\",B63-B62,\"\")","v":335},"2012-04-30",16823,{"$f":"IF(F63<>\"\",F63-F62,\"\")","v":403}]
["2011-09-30",61457,null,{"$f":"IF(B64<>\"\",B64-B63,\"\")","v":333},"2012-05-31",17198,{"$f":"IF(F64<>\"\",F64-F63,\"\")","v":375}]
["2011-10-31",61860,null,403,"2012-06-30",17567,{"$f":"IF(F65<>\"\",F65-F64,\"\")","v":369}]
["2011-11-30",62295,null,435,"2012-07-31",17925,{"$f":"IF(F66<>\"\",F66-F65,\"\")","v":358}]
[null,null,null,{"$f":"SUM(D61:D66)","v":2240},"Års forbrug",null,{"$f":"SUM(D61:D66,G61:G66)","v":5362},{"$f":"G67-D67","v":3122}]

{"sheet":"2012 a","index":21,"n_rows":50,"n_cols":22,"rows_kept":50,"cut":false,"hidden":true,"merged":[[46,3,46,4],[34,3,34,4],[34,20,34,21],[35,0,36,6],[37,0,38,0],[37,3,38,3],[37,6,38,6],[17,20,17,21],[22,3,22,4],[23,0,24,6],[25,0,26,0],[25,3,26,3],[25,6,26,6],[7,0,8,0],[7,1,8,1],[7,3,8,3],[7,6,8,6],[0,20,0,21],[1,0,1,6],[2,0,2,6],[3,1,3,6],[5,0,6,6]]}
[null,null,null,null,null,null,null,null,null,null,null,null,2011,null,null,2012,null,null," +/-","%","Forventet forbrug"]
[{"$f":"System!A19","v":"Version: 2.0.2 / Bjarne Hansen"},null,null,null,null,null,null,null,"Olie","Dage","Liter pr dag",null,"Olie","Liter","%",null,"Liter","%","Liter",null,"%","Liter"]
["Aflæsningsskema til Olieforbrug samt EL og Vand",null,null,null,null,null,null,null,{"$f":"IF(A11=\"\",\"\",VLOOKUP(MONTH(A11),T!A1:B12,2,FALSE))","v":"Januar"},{"$f":"A11-A10","v":31},{"$f":"IF(F11<>\"\",F11/J3,\"\")","v":""},null,{"$f":"IF(A11=\"\",\"\",VLOOKUP(MONTH(A11),T!A$1:B$12,2,FALSE))","v":"Januar"},{"$f":"'2011'!F11","v":232},{"$f":"IF(N3=\"\",\"\",N3/(N$16/100))","v":14.259373079287032},{"$f":"IF(A11=\"\",\"\",VLOOKUP(MONTH(A11),T!A$1:B$12,2,FALSE))","v":"Januar"},{"$f":"F11","v":""},{"$f":"IF(Q3=\"\",\"\",Q3/(Q$16/100))","v":""},{"$f":"IF(Q3<>\"\",Q3-N3,\"\")","v":""},{"$f":"IF(Q3<>\"\",S3/(N3/100),\"\")","v":""},{"$f":"IF(A11=\"\",\"\",VLOOKUP(MONTH(A11),'Beregn varme 2012'!A$2:G$13,7,FALSE))","v":14.521335443846327},{"$f":"IF(Q3=\"\",\"\",VLOOKUP(MONTH(A11),'Beregn varme 2012'!A$2:F$13,6,FALSE))","v":""}]
["Navn :","Bjarne Hansen, Pilegade 9/Lyrsbyvej 31",null,null,null,null,null,null,{"$f":"IF(A12=\"\",\"\",VLOOKUP(MONTH(A12),T!A2:B13,2,FALSE))","v":"Februar"},29,"",null,{"$f":"IF(A12=\"\",\"\",VLOOKUP(MONTH(A12),T!A$1:B$12,2,FALSE))","v":"Februar"},{"$f":"'2011'!F12","v":225},13.829133374308544,{"$f":"IF(A12=\"\",\"\",VLOOKUP(MONTH(A12),T!A$1:B$12,2,FALSE))","v":"Februar"},"","",{"$f":"IF(Q4<>\"\",Q4-N4,\"\")","v":""},{"$f":"IF(Q4<>\"\",S4/(N4/100),\"\")","v":""},{"$f":"IF(A12=\"\",\"\",VLOOKUP(MONTH(A12),'Beregn varme 2012'!A$2:G$13,7,FALSE))","v":13.305196300739727},{"$f":"IF(Q4=\"\",\"\",VLOOKUP(MONTH(A12),'Beregn varme 2012'!A$2:F$13,6,FALSE))","v":""}]
[null,null,null,null,null,null,null,null,{"$f":"IF(A13=\"\",\"\",VLOOKUP(MONTH(A13),T!A3:B14,2,FALSE))","v":"Marts"},31,"",null,{"$f":"IF(A13=\"\",\"\",VLOOKUP(MONTH(A13),T!A$1:B$12,2,FALSE))","v":"Marts"},{"$f":"'2011'!F13","v":189},11.616472034419177,{"$f":"IF(A13=\"\",\"\",VLOOKUP(MONTH(A13),T!A$1:B$12,2,FALSE))","v":"Marts"},"","","","",{"$f":"IF(A13=\"\",\"\",VLOOKUP(MONTH(A13),'Beregn varme 2012'!A$2:G$13,7,FALSE))","v":13.185966972984177},{"$f":"IF(Q5=\"\",\"\",VLOOKUP(MONTH(A13),'Beregn varme 2012'!A$2:F$13,6,FALSE))","v":""}]
["MÅNEDLIG PEJLING AF OLIETANK",null,null,null,null,null,null,null,{"$f":"IF(A14=\"\",\"\",VLOOKUP(MONTH(A14),T!A4:B15,2,FALSE))","v":"April"},30,"",null,{"$f":"IF(A14=\"\",\"\",VLOOKUP(MONTH(A14),T!A$1:B$12,2,FALSE))","v":"April"},{"$f":"'2011'!F14","v":103},6.3306699446834669,{"$f":"IF(A14=\"\",\"\",VLOOKUP(MONTH(A14),T!A$1:B$12,2,FALSE))","v":"April"},"","","","",{"$f":"IF(A14=\"\",\"\",VLOOKUP(MONTH(A14),'Beregn varme 2012'!A$2:G$13,7,FALSE))","v":8.8937111737844141},{"$f":"IF(Q6=\"\",\"\",VLOOKUP(MONTH(A14),'Beregn varme 2012'!A$2:F$13,6,FALSE))","v":""}]
[null,null,null,null,null,null,null,null,{"$f":"IF(A15=\"\",\"\",VLOOKUP(MONTH(A15),T!A5:B16,2,FALSE))","v":"Maj"},31,"",null,{"$f":"IF(A15=\"\",\"\",VLOOKUP(MONTH(A15),T!A$1:B$12,2,FALSE))","v":"Maj"},{"$f":"'2011'!F15","v":93},5.7160417947141982,{"$f":"IF(A15=\"\",\"\",VLOOKUP(MONTH(A15),T!A$1:B$12,2,FALSE))","v":"Maj"},"","","","",{"$f":"IF(A15=\"\",\"\",VLOOKUP(MONTH(A15),'Beregn varme 2012'!A$2:G$13,7,FALSE))","v":4.3391508535224421},{"$f":"IF(Q7=\"\",\"\",VLOOKUP(MONTH(A15),'Beregn varme 2012'!A$2:F$13,6,FALSE))","v":""}]
["Dato","Pejling","Fyldt på","Beholdning","Plads til","Forbrug","Bemærkning.",null,{"$f":"IF(A16=\"\",\"\",VLOOKUP(MONTH(A16),T!A6:B17,2,FALSE))","v":"Juni"},30,"",null,{"$f":"IF(A16=\"\",\"\",VLOOKUP(MONTH(A16),T!A$1:B$12,2,FALSE))","v":"Juni"},{"$f":"'2011'!F16","v":0},0,{"$f":"IF(A16=\"\",\"\",VLOOKUP(MONTH(A16),T!A$1:B$12,2,FALSE))","v":"Juni"},"","","","",{"$f":"IF(A16=\"\",\"\",VLOOKUP(MONTH(A16),'Beregn varme 2012'!A$2:G$13,7,FALSE))","v":2.9560906515580734},{"$f":"IF(Q8=\"\",\"\",VLOOKUP(MONTH(A16),'Beregn varme 2012'!A$2:F$13,6,FALSE))","v":""}]
[null,null,"Liter",null,"Liter","Liter",null,null,{"$f":"IF(A17=\"\",\"\",VLOOKUP(MONTH(A17),T!A7:B18,2,FALSE))","v":"Juli"},31,"",null,{"$f":"IF(A17=\"\",\"\",VLOOKUP(MONTH(A17),T!A$1:B$12,2,FALSE))","v":"Juli"},{"$f":"'2011'!F17","v":0},0,{"$f":"IF(A17=\"\",\"\",VLOOKUP(MONTH(A17),T!A$1:B$12,2,FALSE))","v":"Juli"},"","","","",{"$f":"IF(A17=\"\",\"\",VLOOKUP(MONTH(A17),'Beregn varme 2012'!A$2:G$13,7,FALSE))","v":2.9560906515580734},{"$f":"IF(Q9=\"\",\"\",VLOOKUP(MONTH(A17),'Beregn varme 2012'!A$2:F$13,6,FALSE))","v":""}]
["2011-12-31",0,null,{"$f":"IF(B10<>0,SUM(B10:C10),\"\")","v":""},{"$f":"IF(D10<>\"\",1200-D10,\"\")","v":""},null,null,null,{"$f":"IF(A18=\"\",\"\",VLOOKUP(MONTH(A18),T!A8:B19,2,FALSE))","v":"August"},31,"",null,{"$f":"IF(A18=\"\",\"\",VLOOKUP(MONTH(A18),T!A$1:B$12,2,FALSE))","v":"August"},{"$f":"'2011'!F18","v":0},0,{"$f":"IF(A18=\"\",\"\",VLOOKUP(MONTH(A18),T!A$1:B$12,2,FALSE))","v":"August"},"","","","",{"$f":"IF(A18=\"\",\"\",VLOOKUP(MONTH(A18),'Beregn varme 2012'!A$2:G$13,7,FALSE))","v":2.9560906515580734},{"$f":"IF(Q10=\"\",\"\",VLOOKUP(MONTH(A18),'Beregn varme 2012'!A$2:F$13,6,FALSE))","v":""}]
["2012-01-31",null,null,{"$f":"IF(B11<>\"\",B11+C11,\"\")","v":""},{"$f":"IF(D11<>\"\",1200-D11,\"\")","v":""},{"$f":"IF(B11<>\"\",D10-B11,\"\")","v":""},null,null,{"$f":"IF(A19=\"\",\"\",VLOOKUP(MONTH(A19),T!A9:B20,2,FALSE))","v":"September"},30,"",null,{"$f":"IF(A19=\"\",\"\",VLOOKUP(MONTH(A19),T!A$1:B$12,2,FALSE))","v":"September"},{"$f":"'2011'!F19","v":64},3.9336201598033189,{"$f":"IF(A19=\"\",\"\",VLOOKUP(MONTH(A19),T!A$1:B$12,2,FALSE))","v":"September"},"","","","",{"$f":"IF(A19=\"\",\"\",VLOOKUP(MONTH(A19),'Beregn varme 2012'!A$2:G$13,7,FALSE))","v":3.5760831558869284},{"$f":"IF(Q11=\"\",\"\",VLOOKUP(MONTH(A19),'Beregn varme 2012'!A$2:F$13,6,FALSE))","v":""}]
["2012-02-29",null,null,{"$f":"IF(B12<>\"\",B12+C12,\"\")","v":""},{"$f":"IF(D12<>\"\",1200-D12,\"\")","v":""},{"$f":"IF(B12<>\"\",D11-B12,\"\")","v":""},null,null,{"$f":"IF(A20=\"\",\"\",VLOOKUP(MONTH(A20),T!A10:B21,2,FALSE))","v":"Oktober"},31,"",null,{"$f":"IF(A20=\"\",\"\",VLOOKUP(MONTH(A20),T!A$1:B$12,2,FALSE))","v":"Oktober"},{"$f":"'2011'!F20","v":101},6.207744314689613,{"$f":"IF(A20=\"\",\"\",VLOOKUP(MONTH(A20),T!A$1:B$12,2,FALSE))","v":"Oktober"},"","","","",{"$f":"IF(A20=\"\",\"\",VLOOKUP(MONTH(A20),'Beregn varme 2012'!A$2:G$13,7,FALSE))","v":7.7968013584333624},{"$f":"IF(Q12=\"\",\"\",VLOOKUP(MONTH(A20),'Beregn varme 2012'!A$2:F$13,6,FALSE))","v":""}]
["2012-03-31",null,null,{"$f":"IF(B13<>\"\",B13+C13,\"\")","v":""},"","",null,null,{"$f":"IF(A21=\"\",\"\",VLOOKUP(MONTH(A21),T!A11:B22,2,FALSE))","v":"November"},30,"",null,{"$f":"IF(A21=\"\",\"\",VLOOKUP(MONTH(A21),T!A$1:B$12,2,FALSE))","v":"November"},{"$f":"'2011'!F21","v":160},9.834050399508298,{"$f":"IF(A21=\"\",\"\",VLOOKUP(MONTH(A21),T!A$1:B$12,2,FALSE))","v":"November"},"","","","",{"$f":"IF(A21=\"\",\"\",VLOOKUP(MONTH(A21),'Beregn varme 2012'!A$2:G$13,7,FALSE))","v":11.373681191099832},{"$f":"IF(Q13=\"\",\"\",VLOOKUP(MONTH(A21),'Beregn varme 2012'!A$2:F$13,6,FALSE))","v":""}]
["2012-04-30",null,null,"","","",null,null,{"$f":"IF(A22=\"\",\"\",VLOOKUP(MONTH(A22),T!A12:B23,2,FALSE))","v":"December"},31,{"$f":"IF(F22<>\"\",'2011 2'!G11/J14,\"\")","v":""},null,{"$f":"IF(A22=\"\",\"\",VLOOKUP(MONTH(A22),T!A$1:B$12,2,FALSE))","v":"December"},{"$f":"'2011 2'!F22","v":""},"",{"$f":"IF(A22=\"\",\"\",VLOOKUP(MONTH(A22),T!A$1:B$12,2,FALSE))","v":"December"},{"$f":"'2011 2'!G11","v":197},{"$error":"#DIV/0!"},{"$error":"#VALUE!"},{"$error":"#VALUE!"},{"$f":"IF(A22=\"\",\"\",VLOOKUP(MONTH(A22),'Beregn varme 2012'!A$2:G$13,7,FALSE))","v":14.139801595028569},{"$f":"IF(Q14=\"\",\"\",VLOOKUP(MONTH(A22),'Beregn varme 2012'!A$2:F$13,6,FALSE))","v":249.56749815225427}]
["2012-05-31",null,null,"","",""]
["2012-06-30",null,null,"","","",null,null,"Hele året",{"$f":"A22-A10","v":366},{"$f":"F23/J16","v":0},null,"Års Total",{"$f":"'2011'!F23","v":1627},{"$f":"SUM(O3:O14)","v":71.727105101413642},null,{"$f":"F23","v":0},null,{"$f":"IF(Q16<>0,Q16-N16,\"\")","v":""},{"$f":"IF(Q16<>0,S16/(Q16/100),\"\")","v":""},{"$f":"SUM(U3:U14)","v":100},{"$f":"SUM(V3:V14)","v":249.56749815225427}]
["2012-07-31",null,null,"","",""]
["2012-08-31",null,null,"","","",null,null,null,null,null,null,2011,null,null,2012,null,null," +/-","%","Forventet forbrug"]
["2012-09-30",null,null,"","","",null,null,"Vand","Dage","m³ pr. dag",null,"Vand","m3",null,null,"m3",null,"m3",null,"%","m3"]
["2012-10-31",null,null,"","","",null,null,{"$f":"IF(A29=\"\",\"\",VLOOKUP(MONTH(A29),T!A$1:B$12,2,FALSE))","v":"Januar"},{"$f":"A29-A28","v":31},{"$f":"IF(C29<>\"\",C29/J20,\"\")","v":""},null,{"$f":"IF(A29=\"\",\"\",VLOOKUP(MONTH(A29),T!A$1:B$12,2,FALSE))","v":"Januar"},{"$f":"'2011'!C29","v":10},null,{"$f":"IF(A28=\"\",\"\",VLOOKUP(MONTH(A28),T!A$1:B$12,2,FALSE))","v":"December"},{"$f":"C29","v":""},null,{"$f":"IF(Q20<>\"\",Q20-N20,\"\")","v":""},{"$f":"IF(S20<>\"\",S20/(N20/100),\"\")","v":""},{"$f":"IF(A28=\"\",\"\",VLOOKUP(MONTH(A28),'Beregn varme 2011'!A$2:H$13,8,FALSE))","v":8.493150684931507},{"$f":"IF(Q20=\"\",\"\",N$33/100*U20)","v":""}]
["2012-11-30",null,null,"","","",null,null,{"$f":"IF(A30=\"\",\"\",VLOOKUP(MONTH(A30),T!A$1:B$12,2,FALSE))","v":"Februar"},29,"",null,{"$f":"IF(A30=\"\",\"\",VLOOKUP(MONTH(A30),T!A$1:B$12,2,FALSE))","v":"Februar"},{"$f":"'2011'!C30","v":7},null,{"$f":"IF(A29=\"\",\"\",VLOOKUP(MONTH(A29),T!A$1:B$12,2,FALSE))","v":"Januar"},"",null,{"$f":"IF(Q21<>\"\",Q21-N21,\"\")","v":""},{"$f":"IF(S21<>\"\",S21/(N21/100),\"\")","v":""},{"$f":"IF(A29=\"\",\"\",VLOOKUP(MONTH(A29),'Beregn varme 2011'!A$2:H$13,8,FALSE))","v":8.493150684931507},""]
["2012-12-31",null,null,"","","",null,null,{"$f":"IF(A31=\"\",\"\",VLOOKUP(MONTH(A31),T!A$1:B$12,2,FALSE))","v":"Marts"},31,"",null,{"$f":"IF(A31=\"\",\"\",VLOOKUP(MONTH(A31),T!A$1:B$12,2,FALSE))","v":"Marts"},{"$f":"'2011'!C31","v":8},null,{"$f":"IF(A30=\"\",\"\",VLOOKUP(MONTH(A30),T!A$1:B$12,2,FALSE))","v":"Februar"},"",null,"","",{"$f":"IF(A30=\"\",\"\",VLOOKUP(MONTH(A30),'Beregn varme 2011'!A$2:H$13,8,FALSE))","v":7.6712328767123283},""]
[null,null,null,"Års forbrug",null,{"$f":"SUM(F11:F22)","v":0},null,null,{"$f":"IF(A32=\"\",\"\",VLOOKUP(MONTH(A32),T!A$1:B$12,2,FALSE))","v":"April"},30,"",null,{"$f":"IF(A32=\"\",\"\",VLOOKUP(MONTH(A32),T!A$1:B$12,2,FALSE))","v":"April"},{"$f":"'2011'!C32","v":6},null,{"$f":"IF(A31=\"\",\"\",VLOOKUP(MONTH(A31),T!A$1:B$12,2,FALSE))","v":"Marts"},"",null,"","",{"$f":"IF(A31=\"\",\"\",VLOOKUP(MONTH(A31),'Beregn varme 2011'!A$2:H$13,8,FALSE))","v":8.493150684931507},""]
["MÅNEDLIG AFLÆSNING AF VANDMÅLER",null,null,null,null,null,null,null,{"$f":"IF(A33=\"\",\"\",VLOOKUP(MONTH(A33),T!A$1:B$12,2,FALSE))","v":"Maj"},31,"",null,{"$f":"IF(A33=\"\",\"\",VLOOKUP(MONTH(A33),T!A$1:B$12,2,FALSE))","v":"Maj"},{"$f":"'2011'!C33","v":6},null,{"$f":"IF(A32=\"\",\"\",VLOOKUP(MONTH(A32),T!A$1:B$12,2,FALSE))","v":"April"},"",null,"","",{"$f":"IF(A32=\"\",\"\",VLOOKUP(MONTH(A32),'Beregn varme 2011'!A$2:H$13,8,FALSE))","v":8.2191780821917799},""]
[null,null,null,null,null,null,null,null,{"$f":"IF(A34=\"\",\"\",VLOOKUP(MONTH(A34),T!A$1:B$12,2,FALSE))","v":"Juni"},30,"",null,{"$f":"IF(A34=\"\",\"\",VLOOKUP(MONTH(A34),T!A$1:B$12,2,FALSE))","v":"Juni"},{"$f":"'2011'!C34","v":8},null,{"$f":"IF(A33=\"\",\"\",VLOOKUP(MONTH(A33),T!A$1:B$12,2,FALSE))","v":"Maj"},"",null,"","",{"$f":"IF(A33=\"\",\"\",VLOOKUP(MONTH(A33),'Beregn varme 2011'!A$2:H$13,8,FALSE))","v":8.493150684931507},""]
["Dato","Aflæst","Forbrug","Dato","Aflæst","Forbrug","Bemærkning.",null,{"$f":"IF(D29=\"\",\"\",VLOOKUP(MONTH(D29),T!A$1:B$12,2,FALSE))","v":"Juli"},{"$f":"D29-A34","v":31},{"$f":"IF(F29<>\"\",F29/J26,\"\")","v":""},null,{"$f":"IF(D29=\"\",\"\",VLOOKUP(MONTH(D29),T!A$1:B$12,2,FALSE))","v":"Juli"},{"$f":"'2011'!F29","v":7},null,{"$f":"IF(A34=\"\",\"\",VLOOKUP(MONTH(A34),T!A$1:B$12,2,FALSE))","v":"Juni"},{"$f":"F29","v":""},null,"","",{"$f":"IF(A34=\"\",\"\",VLOOKUP(MONTH(A34),'Beregn varme 2011'!A$2:H$13,8,FALSE))","v":8.2191780821917799},""]
[null,"m³","m³",null,"m³","m³",null,null,{"$f":"IF(D30=\"\",\"\",VLOOKUP(MONTH(D30),T!A$1:B$12,2,FALSE))","v":"August"},{"$f":"D30-D29","v":31},"",null,{"$f":"IF(D30=\"\",\"\",VLOOKUP(MONTH(D30),T!A$1:B$12,2,FALSE))","v":"August"},{"$f":"'2011'!F30","v":6},null,"August","",null,"","",{"$f":"IF(D29=\"\",\"\",VLOOKUP(MONTH(D29),'Beregn varme 2011'!A$2:H$13,8,FALSE))","v":8.493150684931507},""]
["2011-12-31",{"$f":"'2011'!E34","v":1525},null,null,null,null,null,null,{"$f":"IF(D31=\"\",\"\",VLOOKUP(MONTH(D31),T!A$1:B$12,2,FALSE))","v":"September"},{"$f":"D31-D30","v":30},"",null,{"$f":"IF(D31=\"\",\"\",VLOOKUP(MONTH(D31),T!A$1:B$12,2,FALSE))","v":"September"},{"$f":"'2011'!F31","v":6},null,"September","",null,"","",{"$f":"IF(D30=\"\",\"\",VLOOKUP(MONTH(D30),'Beregn varme 2011'!A$2:H$13,8,FALSE))","v":8.493150684931507},""]
["2012-01-31",null,{"$f":"IF(B29<>\"\",B29-B28,\"\")","v":""},"2012-07-31",null,{"$f":"IF(E29<>\"\",E29-B34,\"\")","v":""},null,null,{"$f":"IF(D32=\"\",\"\",VLOOKUP(MONTH(D32),T!A$1:B$12,2,FALSE))","v":"Oktober"},{"$f":"D32-D31","v":31},"",null,{"$f":"IF(D32=\"\",\"\",VLOOKUP(MONTH(D32),T!A$1:B$12,2,FALSE))","v":"Oktober"},{"$f":"'2011'!F32","v":7},null,"Oktober","",null,"","",{"$f":"IF(D31=\"\",\"\",VLOOKUP(MONTH(D31),'Beregn varme 2011'!A$2:H$13,8,FALSE))","v":8.2191780821917799},""]
["2012-02-29",null,"","2012-08-31",null,{"$f":"IF(E30<>\"\",E30-E29,\"\")","v":""},null,null,{"$f":"IF(D33=\"\",\"\",VLOOKUP(MONTH(D33),T!A$1:B$12,2,FALSE))","v":"November"},{"$f":"D33-D32","v":30},"",null,{"$f":"IF(D33=\"\",\"\",VLOOKUP(MONTH(D33),T!A$1:B$12,2,FALSE))","v":"November"},{"$f":"'2011'!F33","v":6},null,"November","",null,"","",{"$f":"IF(D32=\"\",\"\",VLOOKUP(MONTH(D32),'Beregn varme 2011'!A$2:H$13,8,FALSE))","v":8.493150684931507},""]
["2012-03-31",null,"","2012-09-30",null,{"$f":"IF(E31<>\"\",E31-E30,\"\")","v":""},null,null,{"$f":"IF(D34=\"\",\"\",VLOOKUP(MONTH(D34),T!A$1:B$12,2,FALSE))","v":"December"},{"$f":"D34-D33","v":31},"",null,{"$f":"IF(D34=\"\",\"\",VLOOKUP(MONTH(D34),T!A$1:B$12,2,FALSE))","v":"December"},{"$f":"'2011 2'!D29","v":1},null,"December","",null,"","",{"$f":"IF(D33=\"\",\"\",VLOOKUP(MONTH(D33),'Beregn varme 2011'!A$2:H$13,8,FALSE))","v":8.2191780821917799},""]
["2012-04-30",null,"","2012-10-31",null,{"$f":"IF(E32<>\"\",E32-E31,\"\")","v":""}]
["2012-05-31",null,"","2012-11-30",null,{"$f":"IF(E33<>\"\",E33-E32,\"\")","v":""},null,null,"hele året",{"$f":"D34-A28","v":366},{"$f":"F35/J33","v":0},null,"Års Total",{"$f":"SUM(N20:N31)","v":78},null,null,{"$f":"F35","v":0},null,{"$f":"IF(Q33<>0,Q33-N33,\"\")","v":""},{"$f":"IF(S33<>\"\",S33/(Q33/100),\"\")","v":""},{"$f":"SUM(U20:U31)","v":99.999999999999986},{"$f":"SUM(V20:V31)","v":0}]
["2012-06-30",null,"","2012-12-31",null,{"$f":"IF(E34<>\"\",E34-E33,\"\")","v":""}]
[null,null,null,"Års forbrug",null,{"$f":"SUM(C29:C34,F29:F34)","v":0},null,null,null,null,null,null,"2010/2011",null,null,"2011/2012",null,null," +/-","%","Forventet forbrug"]
["MÅNEDLIG AFLÆSNING AF ELMÅLER",null,null,null,null,null,null,null,"EL","Dage","KWh pr. dag",null,"EL","Kw",null,null,"Kw",null,"Kw",null,"%","Kw"]
[null,null,null,null,null,null,null,null,{"$f":"IF(A41=\"\",\"\",VLOOKUP(MONTH(A41),T!A$1:B$12,2,FALSE))","v":"Juni"},{"$f":"A41-A40","v":30},{"$f":"IF(C41<>\"\",C41/J37,\"\")","v":11.766666666666667},null,"Juni",{"$f":"'2011'!C41","v":341},null,"Juni",{"$f":"C41","v":353},null,{"$f":"Q37-N37","v":12},{"$f":"IF(Q37<>0,S37/(N37/100),\"\")","v":3.5190615835777126},{"$f":"IF(A41=\"\",\"\",VLOOKUP(MONTH(A41),'Beregn varme 2012'!A$2:I$13,9,FALSE))","v":7},{"$f":"IF(Q37=\"\",\"\",N$50/100*U37)","v":383.46000000000004}]
["Dato","Aflæst","Forbrug","Dato","Aflæst","Forbrug","Bemærkning.",null,{"$f":"IF(A42=\"\",\"\",VLOOKUP(MONTH(A42),T!A$1:B$12,2,FALSE))","v":"Juli"},31,12.290322580645162,null,"Juli",{"$f":"'2011'!C42","v":276},null,"Juli",{"$f":"IF(C42<>\"\",C42,\"\")","v":381},null,{"$f":"IF(Q38<>\"\",Q38-N38,\"\")","v":105},{"$f":"IF(Q38<>\"\",S38/(N38/100),\"\")","v":38.04347826086957},{"$f":"IF(A42=\"\",\"\",VLOOKUP(MONTH(A42),'Beregn varme 2012'!A$2:I$13,9,FALSE))","v":7},383.46000000000004]
[null,"KWh","KWh",null,"KWh","KWh",null,null,{"$f":"IF(A43=\"\",\"\",VLOOKUP(MONTH(A43),T!A$1:B$12,2,FALSE))","v":"August"},31,10.806451612903226,null,"August",{"$f":"'2011'!C43","v":275},null,"August",{"$f":"IF(C43<>\"\",C43,\"\")","v":335},null,{"$f":"IF(Q39<>\"\",Q39-N39,\"\")","v":60},{"$f":"IF(Q39<>\"\",S39/(N39/100),\"\")","v":21.818181818181817},{"$f":"IF(A43=\"\",\"\",VLOOKUP(MONTH(A43),'Beregn varme 2012'!A$2:I$13,9,FALSE))","v":7},383.46000000000004]
["2011-05-31",60055,null,null,null,null,null,null,{"$f":"IF(A44=\"\",\"\",VLOOKUP(MONTH(A44),T!A$1:B$12,2,FALSE))","v":"September"},30,11.1,null,"September",{"$f":"'2011'!C44","v":336},null,"September",{"$f":"IF(C44<>\"\",C44,\"\")","v":333},null,{"$f":"IF(Q40<>\"\",Q40-N40,\"\")","v":-3},{"$f":"IF(Q40<>\"\",S40/(N40/100),\"\")","v":-0.8928571428571429},{"$f":"IF(A44=\"\",\"\",VLOOKUP(MONTH(A44),'Beregn varme 2012'!A$2:I$13,9,FALSE))","v":8},438.24]
["2011-06-30",60408,{"$f":"IF(B41<>\"\",B41-B40,\"\")","v":353},"2011-12-31",{"$f":"IF('2011 2'!B42=\"\",\"\",'2011 2'!B42)","v":15197},{"$f":"'2011 2'!G47","v":1214},"Brugt på lyrsbyvej 31",null,{"$f":"IF(A45=\"\",\"\",VLOOKUP(MONTH(A45),T!A$1:B$12,2,FALSE))","v":"Oktober"},31,13,null,"Oktober",{"$f":"'2011'!C45","v":421},null,"Oktober",{"$f":"IF(C45<>\"\",C45,\"\")","v":403},null,{"$f":"IF(Q41<>\"\",Q41-N41,\"\")","v":-18},{"$f":"IF(Q41<>\"\",S41/(N41/100),\"\")","v":-4.2755344418052257},{"$f":"IF(A45=\"\",\"\",VLOOKUP(MONTH(A45),'Beregn varme 2012'!A$2:I$13,9,FALSE))","v":9},493.02]
["2011-07-31",60789,381,"2012-01-31",null,{"$f":"IF(E42<>\"\",E42-E41,\"\")","v":""},null,null,{"$f":"IF(A46=\"\",\"\",VLOOKUP(MONTH(A46),T!A$1:B$12,2,FALSE))","v":"November"},30,14.5,null,"November",{"$f":"'2011'!C46","v":544},null,"November",{"$f":"IF(C46<>\"\",C46,\"\")","v":435},null,{"$f":"IF(Q42<>\"\",Q42-N42,\"\")","v":-109},-20.036764705882351,{"$f":"IF(A46=\"\",\"\",VLOOKUP(MONTH(A46),'Beregn varme 2012'!A$2:I$13,9,FALSE))","v":9},493.02]
["2011-08-31",61124,335,"2012-02-29",null,{"$f":"IF(E43<>\"\",E43-E42,\"\")","v":""},null,null,{"$f":"IF(D41=\"\",\"\",VLOOKUP(MONTH(D41),T!A$1:B$12,2,FALSE))","v":"December"},{"$f":"D41-A46","v":31},{"$f":"IF(F41<>\"\",F41/J43,\"\")","v":39.161290322580648},null,"December",{"$f":"'2011'!F41","v":618},null,"December",{"$f":"IF(F41<>\"\",F41,\"\")","v":1214},null,596,96.440129449838196,{"$f":"IF(D41=\"\",\"\",VLOOKUP(MONTH(D41),'Beregn varme 2012'!A$2:I$13,9,FALSE))","v":10},547.79999999999995]
["2011-09-30",61457,333,"2012-03-31",null,{"$f":"IF(E44<>\"\",E44-E43,\"\")","v":""},null,null,{"$f":"IF(D42=\"\",\"\",VLOOKUP(MONTH(D42),T!A$1:B$12,2,FALSE))","v":"Januar"},{"$f":"D42-D41","v":31},"",null,"Januar",{"$f":"'2011'!F42","v":648},null,"Januar","",null,"","",{"$f":"IF(D42=\"\",\"\",VLOOKUP(MONTH(D42),'Beregn varme 2012'!A$2:I$13,9,FALSE))","v":10},""]
["2011-10-31",61860,403,"2012-04-30",null,{"$f":"IF(E45<>\"\",E45-E44,\"\")","v":""},null,null,{"$f":"IF(D43=\"\",\"\",VLOOKUP(MONTH(D43),T!A$1:B$12,2,FALSE))","v":"Februar"},{"$f":"D43-D42","v":29},"",null,"Februar",{"$f":"'2011'!F43","v":606},null,"Februar","",null,"","",{"$f":"IF(D43=\"\",\"\",VLOOKUP(MONTH(D43),'Beregn varme 2012'!A$2:I$13,9,FALSE))","v":9},""]
["2011-11-30",62295,435,"2012-05-31",null,{"$f":"IF(E46<>\"\",E46-E45,\"\")","v":""},null,null,{"$f":"IF(D44=\"\",\"\",VLOOKUP(MONTH(D44),T!A$1:B$12,2,FALSE))","v":"Marts"},{"$f":"D44-D43","v":31},"",null,"Marts",{"$f":"'2011'!F44","v":625},null,"Marts","",null,"","",{"$f":"IF(D44=\"\",\"\",VLOOKUP(MONTH(D44),'Beregn varme 2012'!A$2:I$13,9,FALSE))","v":9},""]
[null,null,null,"Års forbrug",null,{"$f":"SUM(C41:C46,F41:F46)","v":3454},null,null,{"$f":"IF(D45=\"\",\"\",VLOOKUP(MONTH(D45),T!A$1:B$12,2,FALSE))","v":"April"},{"$f":"D45-D44","v":30},"",null,"April",{"$f":"'2011'!F45","v":408},null,"April","",null,"","",{"$f":"IF(D45=\"\",\"\",VLOOKUP(MONTH(D45),'Beregn varme 2012'!A$2:I$13,9,FALSE))","v":8},""]
[null,null,null,null,null,null,null,null,{"$f":"IF(D46=\"\",\"\",VLOOKUP(MONTH(D46),T!A$1:B$12,2,FALSE))","v":"Maj"},{"$f":"D46-D45","v":31},"",null,"Maj",{"$f":"'2011'!F46","v":380},null,"Maj","",null,"",{"$f":"IF(Q48<>\"\",S48/(Q48/100),\"\")","v":""},{"$f":"IF(D46=\"\",\"\",VLOOKUP(MONTH(D46),'Beregn varme 2012'!A$2:I$13,9,FALSE))","v":7},""]
[]
[null,null,null,null,null,null,null,null,"Hele året",{"$f":"D46-A40","v":366},{"$f":"F47/J50","v":9.4371584699453557},null,"Års Total",{"$f":"SUM(N37:N48)","v":5478},null,null,{"$f":"SUM(Q37:Q48)","v":3454},null,-2024,{"$f":"S50/(Q50/100)","v":-58.598726114649686},{"$f":"SUM(U37:U48)","v":100},{"$f":"SUM(V37:V48)","v":3122.46}]

{"sheet":"2012 2","index":22,"n_rows":67,"n_cols":23,"rows_kept":67,"cut":false,"hidden":true,"merged":[[65,1,65,2],[66,4,66,5],[59,1,59,2],[60,1,60,2],[61,1,61,2],[62,1,62,2],[63,1,63,2],[64,1,64,2],[33,1,33,2],[34,4,34,5],[51,21,51,22],[55,0,56,7],[57,0,58,0],[57,1,57,2],[57,4,58,4],[57,7,58,7],[58,1,58,2],[32,1,32,2],[17,21,17,22],[22,4,22,5],[23,0,24,7],[25,0,26,0],[25,1,25,2],[25,4,26,4],[25,7,26,7],[26,1,26,2],[27,1,27,2],[28,1,28,2],[29,1,29,2],[30,1,30,2],[31,1,31,2],[7,0,8,0],[7,4,8,4],[7,7,8,7],[0,21,0,22],[1,0,1,7],[2,0,2,7],[3,1,3,7],[5,0,6,7]]}
[null,null,null,null,null,null,null,null,null,null,null,null,null,2010,null,null,2011,null,null," +/-","%","Forventet forbrug"]
[{"$f":"System!A19","v":"Version: 2.0.2 / Bjarne Hansen"},null,null,null,null,null,null,null,null,"Olie","Dage","Liter pr dag",null,"Olie","Liter","%",null,"Liter","%","Liter",null,"%","Liter"]
["Aflæsningsskema til Olieforbrug samt EL og Vand",null,null,null,null,null,null,null,null,"December",{"$f":"A11-A10","v":31},{"$f":"IF(G11<>\"\",G11/K3,\"\")","v":11.67741935483871},null,"Januar",210,{"$f":"IF(O3=\"\",\"\",O3/(O$16/100))","v":13.962765957446809},"Januar",{"$f":"G11","v":362},{"$f":"IF(R3=\"\",\"\",R3/(R$16/100))","v":107.73809523809524},{"$f":"IF(R3<>\"\",R3-O3,\"\")","v":152},{"$f":"IF(R3<>\"\",T3/(O3/100),\"\")","v":72.38095238095238},{"$f":"IF(A11=\"\",\"\",VLOOKUP(MONTH(A11),'Beregn varme 2011'!A$2:G$13,7,FALSE))","v":15.04619364375462},{"$f":"IF(R3=\"\",\"\",VLOOKUP(MONTH(A11),'Beregn varme 2011'!A$2:F$13,6,FALSE))","v":226.29475240206946}]
["Navn :","Bjarne Hansen, Lyrsbyvej 31",null,null,null,null,null,null,null,null,{"$f":"IF(A12=\"\",\"\",A12-A11)","v":29},-0.89655172413793105,null,"Februar",172,11.436170212765958,"Februar",-26,-7.7380952380952381,{"$f":"IF(R4<>\"\",R4-O4,\"\")","v":-198},{"$f":"IF(R4<>\"\",T4/(O4/100),\"\")","v":-115.11627906976744},{"$f":"IF(A12=\"\",\"\",VLOOKUP(MONTH(A12),'Beregn varme 2011'!A$2:G$13,7,FALSE))","v":13.72690317812269},{"$f":"IF(R4=\"\",\"\",VLOOKUP(MONTH(A12),'Beregn varme 2011'!A$2:F$13,6,FALSE))","v":206.45262379896525}]
[null,null,null,null,null,null,null,null,null,null,31,"",null,"Marts",169,11.236702127659575,"Marts","","","","",{"$f":"IF(A13=\"\",\"\",VLOOKUP(MONTH(A13),'Beregn varme 2011'!A$2:G$13,7,FALSE))","v":13.597560975609754},{"$f":"IF(R5=\"\",\"\",VLOOKUP(MONTH(A13),'Beregn varme 2011'!A$2:F$13,6,FALSE))","v":""}]
["MÅNEDLIG PEJLING AF OLIETANK",null,null,null,null,null,null,null,null,null,30,"",null,"April",151,10.039893617021278,"April","","","","",{"$f":"IF(A14=\"\",\"\",VLOOKUP(MONTH(A14),'Beregn varme 2011'!A$2:G$13,7,FALSE))","v":8.9412416851441243},{"$f":"IF(R6=\"\",\"\",VLOOKUP(MONTH(A14),'Beregn varme 2011'!A$2:F$13,6,FALSE))","v":""}]
[null,null,null,null,null,null,null,null,null,null,31,"",null,"Maj",96,6.3829787234042561,"Maj","","","","",{"$f":"IF(A15=\"\",\"\",VLOOKUP(MONTH(A15),'Beregn varme 2011'!A$2:G$13,7,FALSE))","v":4.0003695491500375},{"$f":"IF(R7=\"\",\"\",VLOOKUP(MONTH(A15),'Beregn varme 2011'!A$2:F$13,6,FALSE))","v":""}]
["Dato","Pejling",null,"Fyldt på","Beholdning","Plads til","Forbrug","Bemærkning:",null,null,30,"",null,"Juni",62,4.1223404255319149,"Juni","","","","",{"$f":"IF(A16=\"\",\"\",VLOOKUP(MONTH(A16),'Beregn varme 2011'!A$2:G$13,7,FALSE))","v":2.5000000000000004},{"$f":"IF(R8=\"\",\"\",VLOOKUP(MONTH(A16),'Beregn varme 2011'!A$2:F$13,6,FALSE))","v":""}]
[null,"i cm","Liter","Liter",null,"Liter","Liter",null,null,null,31,"",null,"Juli",{"$f":"'2010'!F12","v":40},2.6595744680851063,"Juli","","","","",{"$f":"IF(A17=\"\",\"\",VLOOKUP(MONTH(A17),'Beregn varme 2011'!A$2:G$13,7,FALSE))","v":2.5000000000000004},{"$f":"IF(R9=\"\",\"\",VLOOKUP(MONTH(A17),'Beregn varme 2011'!A$2:F$13,6,FALSE))","v":""}]
["2011-12-31",76,{"$f":"IF(B10=\"\",\"\",VLOOKUP(B10,Pejletabel1800!A$3:B$201,2,FALSE))","v":901},null,{"$f":"IF(C10<>\"\",SUM(C10:D10),\"\")","v":901},{"$f":"IF(E10<>\"\",System!C8-E10,\"\")","v":{"$error":"#VALUE!"}},null,null,null,null,31,"",null,"August",{"$f":"'2010'!F13","v":42},2.792553191489362,"August","","","","",{"$f":"IF(A18=\"\",\"\",VLOOKUP(MONTH(A18),'Beregn varme 2011'!A$2:G$13,7,FALSE))","v":2.5000000000000004},{"$f":"IF(R10=\"\",\"\",VLOOKUP(MONTH(A18),'Beregn varme 2011'!A$2:F$13,6,FALSE))","v":""}]
["2012-01-31",48.5,{"$f":"IF(B11=\"\",\"\",VLOOKUP(B11,Pejletabel1800!A$3:B$201,2,FALSE))","v":539},null,{"$f":"IF(C11<>\"\",C11+D11,\"\")","v":539},{"$f":"IF(E11<>\"\",1200-E11,\"\")","v":661},{"$f":"IF(C11<>\"\",E10-C11,\"\")","v":362},{"$f":"IF(D11<>\"\",F10-D11,\"\")","v":""},null,null,30,"",null,"September",{"$f":"'2010'!F14","v":85},5.6515957446808516,"September","","","","",{"$f":"IF(A19=\"\",\"\",VLOOKUP(MONTH(A19),'Beregn varme 2011'!A$2:G$13,7,FALSE))","v":3.1725794530672582},{"$f":"IF(R11=\"\",\"\",VLOOKUP(MONTH(A19),'Beregn varme 2011'!A$2:F$13,6,FALSE))","v":""}]
["2012-02-29",50.5,{"$f":"IF(B12=\"\",\"\",VLOOKUP(B12,Pejletabel1800!A$3:B$201,2,FALSE))","v":565},null,{"$f":"IF(C12<>\"\",C12+D12,\"\")","v":565},{"$f":"IF(E12<>\"\",1200-E12,\"\")","v":635},{"$f":"IF(C12<>\"\",E11-C12,\"\")","v":-26},"",null,null,31,"",null,"Oktober",{"$f":"'2010'!F15","v":102},6.7819148936170217,"Oktober","","","","",{"$f":"IF(A20=\"\",\"\",VLOOKUP(MONTH(A20),'Beregn varme 2011'!A$2:G$13,7,FALSE))","v":7.7512934220251291},{"$f":"IF(R12=\"\",\"\",VLOOKUP(MONTH(A20),'Beregn varme 2011'!A$2:F$13,6,FALSE))","v":""}]
["2012-03-31",null,{"$f":"IF(B13=\"\",\"\",VLOOKUP(B13,Pejletabel1800!A$3:B$201,2,FALSE))","v":""},null,{"$f":"IF(C13<>\"\",C13+D13,\"\")","v":""},"","","",null,null,30,"",null,"November",{"$f":"'2010'!F16","v":167},11.103723404255319,"November","","","","",{"$f":"IF(A21=\"\",\"\",VLOOKUP(MONTH(A21),'Beregn varme 2011'!A$2:G$13,7,FALSE))","v":11.631559497413155},{"$f":"IF(R13=\"\",\"\",VLOOKUP(MONTH(A21),'Beregn varme 2011'!A$2:F$13,6,FALSE))","v":""}]
["2012-04-30",null,{"$f":"IF(B14=\"\",\"\",VLOOKUP(B14,Pejletabel1800!A$3:B$201,2,FALSE))","v":""},null,"","","","",null,null,31,"",null,"December",{"$f":"'2010'!F17","v":208},13.829787234042554,"December","","","","",{"$f":"IF(A22=\"\",\"\",VLOOKUP(MONTH(A22),'Beregn varme 2011'!A$2:G$13,7,FALSE))","v":14.632298595713229},{"$f":"IF(R14=\"\",\"\",VLOOKUP(MONTH(A22),'Beregn varme 2011'!A$2:F$13,6,FALSE))","v":""}]
["2012-05-31",null,{"$f":"IF(B15=\"\",\"\",VLOOKUP(B15,Pejletabel1800!A$3:B$201,2,FALSE))","v":""},null,"","","",""]
["2012-06-30",null,{"$f":"IF(B16=\"\",\"\",VLOOKUP(B16,Pejletabel1800!A$3:B$201,2,FALSE))","v":""},null,"","","","",null,"Hele året",{"$f":"A11-A10","v":31},{"$f":"G23/K16","v":10.838709677419354},null,"Års Total",{"$f":"'2010'!F18","v":1504},{"$f":"SUM(P3:P14)","v":100.00000000000001},null,{"$f":"G23","v":336},null,{"$f":"IF(R16<>0,R16-O16,\"\")","v":-1168},{"$f":"IF(R16<>0,T16/(R16/100),\"\")","v":-347.61904761904765},{"$f":"SUM(V3:V14)","v":99.999999999999986},{"$f":"SUM(W3:W14)","v":432.74737620103474}]
["2012-07-31",null,{"$f":"IF(B17=\"\",\"\",VLOOKUP(B17,Pejletabel1800!A$3:B$201,2,FALSE))","v":""},null,"","","",""]
["2012-08-31",null,{"$f":"IF(B18=\"\",\"\",VLOOKUP(B18,Pejletabel1800!A$3:B$201,2,FALSE))","v":""},null,"","","","",null,null,null,null,null,2010,null,null,2011,null,null," +/-","%","Forventet forbrug"]
["2012-09-30",null,{"$f":"IF(B19=\"\",\"\",VLOOKUP(B19,Pejletabel1800!A$3:B$201,2,FALSE))","v":""},null,"","","","",null,"Vand","Dage","m³ pr. dag",null,"Vand","m³",null,null,"m³",null,"m³",null,"%","m³"]
["2012-10-31",null,{"$f":"IF(B20=\"\",\"\",VLOOKUP(B20,Pejletabel1800!A$3:B$201,2,FALSE))","v":""},null,"","","","",null,"Januar",{"$f":"A29-A28","v":31},{"$f":"IF(D29<>\"\",D29/K20,\"\")","v":0.22580645161290322},null,"Januar",10,null,"Januar",{"$f":"D29","v":7},null,{"$f":"IF(R20<>\"\",R20-O20,\"\")","v":-3},{"$f":"IF(T20<>\"\",T20/(O20/100),\"\")","v":-30},{"$f":"IF(A28=\"\",\"\",VLOOKUP(MONTH(A28),'Beregn varme 2011'!A$2:H$13,8,FALSE))","v":8.493150684931507},{"$f":"IF(R20=\"\",\"\",O$33/100*V20)","v":8.3232876712328761}]
["2012-11-30",null,{"$f":"IF(B21=\"\",\"\",VLOOKUP(B21,Pejletabel1800!A$3:B$201,2,FALSE))","v":""},null,"","","","",null,"Februar",{"$f":"IF(A30=\"\",\"\",A30-A29)","v":29},0.2413793103448276,null,"Februar",9,null,"Februar",7,null,{"$f":"IF(R21<>\"\",R21-O21,\"\")","v":-2},{"$f":"IF(T21<>\"\",T21/(O21/100),\"\")","v":-22.222222222222221},{"$f":"IF(A29=\"\",\"\",VLOOKUP(MONTH(A29),'Beregn varme 2011'!A$2:H$13,8,FALSE))","v":8.493150684931507},8.3232876712328761]
["2012-12-31",null,{"$f":"IF(B22=\"\",\"\",VLOOKUP(B22,Pejletabel1800!A$3:B$201,2,FALSE))","v":""},null,"","","","",null,"Marts",{"$f":"IF(A31=\"\",\"\",A31-A30)","v":31},0.19354838709677419,null,"Marts",10,null,"Marts",6,null,-4,-40,{"$f":"IF(A30=\"\",\"\",VLOOKUP(MONTH(A30),'Beregn varme 2011'!A$2:H$13,8,FALSE))","v":7.6712328767123283},7.5178082191780815]
[null,null,null,null,"Års forbrug",null,{"$f":"SUM(G11:G22)","v":336},"",null,"April",{"$f":"IF(A32=\"\",\"\",A32-A31)","v":30},0.26666666666666666,null,"April",9,null,"April",8,null,-1,-11.111111111111111,{"$f":"IF(A31=\"\",\"\",VLOOKUP(MONTH(A31),'Beregn varme 2011'!A$2:H$13,8,FALSE))","v":8.493150684931507},8.3232876712328761]
["MÅNEDLIG AFLÆSNING AF VANDMÅLER",null,null,null,null,null,null,null,null,"Maj",{"$f":"IF(A33=\"\",\"\",A33-A32)","v":31},0.22580645161290322,null,"Maj",8,null,"Maj",7,null,-1,-12.5,{"$f":"IF(A32=\"\",\"\",VLOOKUP(MONTH(A32),'Beregn varme 2011'!A$2:H$13,8,FALSE))","v":8.2191780821917799},8.0547945205479436]
[null,null,null,null,null,null,null,null,null,"Juni",{"$f":"IF(E29=\"\",\"\",A34-E29)","v":-31},-0.22580645161290322,null,"Juni",9,null,"Juni",7,null,-2,-22.222222222222221,{"$f":"IF(A33=\"\",\"\",VLOOKUP(MONTH(A33),'Beregn varme 2011'!A$2:H$13,8,FALSE))","v":8.493150684931507},8.3232876712328761]
["Dato","Aflæst",null,"Forbrug","Dato","Aflæst","Forbrug","Bemærkning:",null,"Juli",{"$f":"IF(A35=\"\",\"\",A35-A34)","v":31},{"$f":"IF(G29<>\"\",G29/K26,\"\")","v":""},null,"Juli",{"$f":"'2010'!F24","v":10},null,"Juli",{"$f":"G29","v":""},null,"","",{"$f":"IF(A34=\"\",\"\",VLOOKUP(MONTH(A34),'Beregn varme 2011'!A$2:H$13,8,FALSE))","v":8.2191780821917799},""]
[null,"m³",null,"m³",null,"m³","m³",null,null,"August",{"$f":"E30-E29","v":31},"",null,"August",{"$f":"'2010'!F25","v":7},null,"August","",null,"","",{"$f":"IF(E29=\"\",\"\",VLOOKUP(MONTH(E29),'Beregn varme 2011'!A$2:H$13,8,FALSE))","v":8.493150684931507},""]
["2011-12-31",1525,null,null,null,null,null,{"$f":"IF(D28<>\"\",F27-D28,\"\")","v":""},null,"September",{"$f":"E31-E30","v":30},"",null,"September",{"$f":"'2010'!P28","v":7},null,"September","",null,"","",{"$f":"IF(E30=\"\",\"\",VLOOKUP(MONTH(E30),'Beregn varme 2011'!A$2:H$13,8,FALSE))","v":8.493150684931507},""]
["2012-01-31",1532,null,{"$f":"IF(B29<>\"\",B29-B28,\"\")","v":7},"2012-07-31",null,{"$f":"IF(F29<>\"\",F29-C34,\"\")","v":""},-7,null,"Oktober",{"$f":"E32-E31","v":31},"",null,"Oktober",{"$f":"'2010'!P29","v":8},null,"Oktober","",null,"","",{"$f":"IF(E31=\"\",\"\",VLOOKUP(MONTH(E31),'Beregn varme 2011'!A$2:H$13,8,FALSE))","v":8.2191780821917799},""]
["2012-02-29",1539,null,{"$f":"IF(B30<>\"\",B30-B29,\"\")","v":7},"2012-08-31",null,{"$f":"IF(F30<>\"\",F30-F29,\"\")","v":""},{"$f":"IF(G30<>\"\",G30-D35,\"\")","v":""},null,"November",{"$f":"E33-E32","v":30},"",null,"November",{"$f":"'2010'!P30","v":7},null,"November","",null,"","",{"$f":"IF(E32=\"\",\"\",VLOOKUP(MONTH(E32),'Beregn varme 2011'!A$2:H$13,8,FALSE))","v":8.493150684931507},""]
["2012-03-31",1545,null,{"$f":"IF(B31<>\"\",B31-B30,\"\")","v":6},"2012-09-30",null,{"$f":"IF(F31<>\"\",F31-F30,\"\")","v":""},{"$f":"IF(G31<>\"\",G31-D56,\"\")","v":""},null,"December",{"$f":"E34-E33","v":31},"",null,"December",{"$f":"'2010'!P31","v":4},null,"December","",null,"","",{"$f":"IF(E33=\"\",\"\",VLOOKUP(MONTH(E33),'Beregn varme 2011'!A$2:H$13,8,FALSE))","v":8.2191780821917799},""]
["2012-04-30",1553,null,8,"2012-10-31",null,{"$f":"IF(F32<>\"\",F32-F31,\"\")","v":""},{"$f":"IF(G32<>\"\",G32-D57,\"\")","v":""}]
["2012-05-31",1560,null,7,"2012-11-30",null,{"$f":"IF(F33<>\"\",F33-F32,\"\")","v":""},{"$f":"IF(G33<>\"\",G33-D58,\"\")","v":""},null,"Hele året",{"$f":"E34-A28","v":366},{"$f":"G35/K33","v":0.11475409836065574},null,"Års Total",{"$f":"SUM(O20:O31)","v":98},null,null,{"$f":"G35","v":42},null,{"$f":"IF(R33<>0,R33-O33,\"\")","v":-56},{"$f":"IF(T33<>\"\",T33/(R33/100),\"\")","v":-133.33333333333334},{"$f":"SUM(V20:V31)","v":99.999999999999986},{"$f":"SUM(W20:W31)","v":48.865753424657527}]
["2012-06-30",1567,null,7,"2012-12-31",null,{"$f":"IF(F34<>\"\",F34-F33,\"\")","v":""},{"$f":"IF(G34<>\"\",G34-D59,\"\")","v":""}]
["2012-07-31",null,null,null,"Års forbrug",null,{"$f":"SUM(D29:D34,G29:G34)","v":42}]
["2012-08-31"]
["2012-09-30"]
["2012-10-31"]
["2012-11-30"]
["2012-12-31"]
[]
[]
[]
[]
[]
[]
[]
[]
[]
[]
[]
[null,null,null,null,null,null,null,null,null,null,null,null,null,"2009/2010",null,null,"2010/2011",null,null," +/-","%","Forventet forbrug"]
[null,null,null,null,null,null,null,null,null,"EL","Dage","KWh pr. dag",null,"EL","KWh",null,null,"KWh",null,"KWh",null,"%","KWh"]
[null,null,null,null,null,null,null,null,null,"Juni",{"$f":"A61-A60","v":7},{"$f":"IF(D61<>\"\",D61/K54,\"\")","v":9.2857142857142865},null,"Juni",334,null,"Juni",{"$f":"D61","v":65},null,{"$f":"IF(R54=\"\",\"\",R54-O54)","v":-269},{"$f":"IF(R54<>\"\",T54/(O54/100),\"\")","v":-80.538922155688624},{"$f":"IF(A61=\"\",\"\",VLOOKUP(MONTH(A61),'Beregn varme 2011'!A$2:I$13,9,FALSE))","v":9},{"$f":"IF(R54=\"\",\"\",O$67/100*V54)","v":486.36}]
[null,null,null,null,null,null,null,null,null,"Juli",31,10.612903225806452,null,"Juli",291,null,"Juli",{"$f":"IF(D62<>\"\",D62,\"\")","v":329},null,{"$f":"IF(R55<>\"\",R55-O55,\"\")","v":38},{"$f":"IF(R55<>\"\",T55/(O55/100),\"\")","v":13.058419243986254},{"$f":"IF(A62=\"\",\"\",VLOOKUP(MONTH(A62),'Beregn varme 2011'!A$2:I$13,9,FALSE))","v":10},540.4]
["MÅNEDLIG AFLÆSNING AF ELMÅLER",null,null,null,null,null,null,null,null,"August",31,13.419354838709678,null,"August",264,null,"August",{"$f":"IF(D63<>\"\",D63,\"\")","v":416},null,{"$f":"IF(R56<>\"\",R56-O56,\"\")","v":152},{"$f":"IF(R56<>\"\",T56/(O56/100),\"\")","v":57.575757575757571},{"$f":"IF(A63=\"\",\"\",VLOOKUP(MONTH(A63),'Beregn varme 2011'!A$2:I$13,9,FALSE))","v":10},540.4]
[null,null,null,null,null,null,null,null,null,"September",29,13.931034482758621,null,"September",326,null,"September",{"$f":"IF(D64<>\"\",D64,\"\")","v":404},null,{"$f":"IF(R57<>\"\",R57-O57,\"\")","v":78},{"$f":"IF(R57<>\"\",T57/(O57/100),\"\")","v":23.926380368098162},{"$f":"IF(A64=\"\",\"\",VLOOKUP(MONTH(A64),'Beregn varme 2011'!A$2:I$13,9,FALSE))","v":9},486.36]
["Dato","Aflæst",null,"Forbrug","Dato","Aflæst","Forbrug","Bemærkning:",null,"Oktober",31,13,null,"Oktober",453,null,"Oktober",{"$f":"IF(D65<>\"\",D65,\"\")","v":403},null,{"$f":"IF(R58<>\"\",R58-O58,\"\")","v":-50},{"$f":"IF(R58<>\"\",T58/(O58/100),\"\")","v":-11.037527593818984},{"$f":"IF(A65=\"\",\"\",VLOOKUP(MONTH(A65),'Beregn varme 2011'!A$2:I$13,9,FALSE))","v":9},486.36]
[null,"KWh",null,"KWh",null,"KWh","KWh",null,null,"November",30,13.433333333333334,null,"November",477,null,"November",{"$f":"IF(D66<>\"\",D66,\"\")","v":403},null,{"$f":"IF(R59<>\"\",R59-O59,\"\")","v":-74},-15.513626834381553,{"$f":"IF(A66=\"\",\"\",VLOOKUP(MONTH(A66),'Beregn varme 2011'!A$2:I$13,9,FALSE))","v":8},432.32]
["2011-11-23",14803,null,null,null,null,null,null,null,"December",{"$f":"E61-A66","v":31},{"$f":"IF(G61<>\"\",G61/K60,\"\")","v":12.096774193548388},null,"December",549,null,"December",{"$f":"IF(G61<>\"\",G61,\"\")","v":375},null,-174,-31.693989071038249,{"$f":"IF(E61=\"\",\"\",VLOOKUP(MONTH(E61),'Beregn varme 2011'!A$2:I$13,9,FALSE))","v":7},378.28]
["2011-11-30",14868,null,{"$f":"IF(B61<>\"\",B61-B60,\"\")","v":65},"2012-05-31",17198,{"$f":"IF(F61<>\"\",F61-B66,\"\")","v":375},null,null,"Januar",{"$f":"E62-E61","v":30},12.3,null,"Januar",614,null,"Januar",369,null,-245,-39.902280130293164,{"$f":"IF(E62=\"\",\"\",VLOOKUP(MONTH(E62),'Beregn varme 2011'!A$2:I$13,9,FALSE))","v":7},378.28]
["2011-12-31",15197,null,{"$f":"IF(B62<>\"\",B62-B61,\"\")","v":329},"2012-06-30",17567,{"$f":"IF(F62<>\"\",F62-F61,\"\")","v":369},null,null,"Februar",{"$f":"E63-E62","v":31},11.548387096774194,null,"Februar",596,null,"Februar",358,null,-238,-39.932885906040269,{"$f":"IF(E63=\"\",\"\",VLOOKUP(MONTH(E63),'Beregn varme 2011'!A$2:I$13,9,FALSE))","v":7},378.28]
["2012-01-31",15613,null,{"$f":"IF(B63<>\"\",B63-B62,\"\")","v":416},"2012-07-31",17925,{"$f":"IF(F63<>\"\",F63-F62,\"\")","v":358},null,null,"Marts",{"$f":"E64-E63","v":-41121},"",null,"Marts",586,null,"Marts","",null,"","",{"$f":"IF(E64=\"\",\"\",VLOOKUP(MONTH(E64),'Beregn varme 2011'!A$2:I$13,9,FALSE))","v":""},""]
["2012-02-29",16017,null,{"$f":"IF(B64<>\"\",B64-B63,\"\")","v":404},null,null,{"$f":"IF(F64<>\"\",F64-F63,\"\")","v":""},null,null,"April",{"$f":"E65-E64","v":0},"",null,"April",477,null,"April","",null,"","",{"$f":"IF(E65=\"\",\"\",VLOOKUP(MONTH(E65),'Beregn varme 2011'!A$2:I$13,9,FALSE))","v":""},""]
["2012-03-31",16420,null,403,null,null,{"$f":"IF(F65<>\"\",F65-F64,\"\")","v":""},null,null,"Maj",{"$f":"E66-E65","v":0},"",null,"Maj",437,null,"Maj","",null,"",{"$f":"IF(R65<>\"\",T65/(R65/100),\"\")","v":""},{"$f":"IF(E66=\"\",\"\",VLOOKUP(MONTH(E66),'Beregn varme 2011'!A$2:I$13,9,FALSE))","v":""},""]
["2012-04-30",16823,null,403,null,null,{"$f":"IF(F66<>\"\",F66-F65,\"\")","v":""}]
[null,null,null,null,"Års forbrug",null,{"$f":"SUM(D61:D66,G61:G66)","v":3122},null,null,"Hele året",{"$f":"E66-A60","v":-40870},{"$f":"G67/K67","v":-7.6388549057988739E-2},null,"Års Total",5404,null,null,{"$f":"SUM(R54:R65)","v":3122},null,{"$f":"R67-O67","v":-2282},{"$f":"T67/(R67/100)","v":-73.094170403587441},{"$f":"SUM(V54:V65)","v":76},{"$f":"SUM(W54:W65)","v":4107.04}]

{"sheet":"2012 (2)","index":23,"n_rows":50,"n_cols":19,"rows_kept":50,"cut":false,"hidden":true,"merged":[[41,3,41,4],[0,11,0,12],[0,14,0,15],[17,0,17,2],[17,3,17,4],[17,11,17,12],[17,14,17,15],[18,1,18,5],[29,0,29,2],[30,1,30,5],[34,11,34,12],[34,14,34,15]]}
[null,null,"MÅNEDLIG PEJLING AF OLIETANK",null,null,null,null,null,null,null,null,2011,null,null,2012,null,null," +/-","%"]
[null,null,null,null,null,null,null,"Olie","Dage","Liter pr dag",null,"Olie","Liter",null,null,"Liter",null,"Liter"]
["Dato",null,"Fyldt på",null,"Plads til",null,null,"Januar",{"$f":"A6-A5","v":31},{"$f":"IF(F6<>\"\",F6/I3,\"\")","v":""},null,"Januar",{"$f":"'2011'!F11","v":232},null,"Januar",{"$f":"F6","v":""},null,{"$f":"IF(P3=\"\",\"\",P3-M3)","v":""},{"$f":"IF(R3=\"\",\"\",R3/(M3/100))","v":""}]
[null,"Pejling","Liter","Beholdning","Liter","Forbrugt",null,"Februar",29,"",null,"Februar",{"$f":"'2011'!F12","v":225},null,"Februar",{"$f":"F7","v":""},null,{"$f":"IF(P4=\"\",\"\",P4-M4)","v":""},{"$f":"IF(R4=\"\",\"\",R4/(M4/100))","v":""}]
["2011-12-31",{"$f":"'2011'!B22","v":0},null,{"$f":"IF(B5<>\"\",SUM(B5:C5),\"\")","v":0},{"$f":"IF(D5<>\"\",1200-D5,\"\")","v":1200},null,null,"marts",31,"",null,"Marts",{"$f":"'2011'!F13","v":189},null,"Marts","",null,"",""]
["2012-01-31",null,null,{"$f":"IF(B6<>\"\",B6+C6,\"\")","v":""},{"$f":"IF(D6<>\"\",1200-D6,\"\")","v":""},{"$f":"IF(B6<>\"\",D5-B6,\"\")","v":""},null,"april",30,"",null,"April",{"$f":"'2011'!F14","v":103},null,"April","",null,"",""]
["2012-02-29",null,null,{"$f":"IF(B7<>\"\",B7+C7,\"\")","v":""},{"$f":"IF(D7<>\"\",1200-D7,\"\")","v":""},{"$f":"IF(B7<>\"\",D6-B7,\"\")","v":""},null,"maj",31,"",null,"Maj",{"$f":"'2011'!F15","v":93},null,"Maj","",null,"",""]
["2012-03-31",null,null,"","","",null,"juni",30,"",null,"Juni",{"$f":"'2011'!F16","v":0},null,"Juni","",null,"",""]
["2012-04-30",null,null,"","","",null,"juli",31,"",null,"Juli",{"$f":"'2011'!F17","v":0},null,"Juli","",null,"",""]
["2012-05-31",null,null,"","","",null,"august",31,"",null,"August",{"$f":"'2011'!F18","v":0},null,"August","",null,"",""]
["2012-06-30",null,null,"","","",null,"september",30,"",null,"September",{"$f":"'2011'!F19","v":64},null,"September","",null,"",""]
["2012-07-31",null,null,"","","",null,"oktober",31,"",null,"Oktober",{"$f":"'2011'!F20","v":101},null,"Oktober","",null,"",""]
["2012-08-31",null,null,"","","",null,"november",30,"",null,"November",{"$f":"'2011'!F21","v":160},null,"November","",null,"",""]
["2012-09-30",null,null,"","","",null,"december",31,"",null,"December",{"$f":"'2011'!F22","v":460},null,"December","",null,"",""]
["2012-10-31",null,null,"","",""]
["2012-11-30",null,null,{"$f":"IF(B16<>\"\",B16+C16,\"\")","v":""},"","",null,"Hele året",{"$f":"A17-A5","v":366},{"$f":"F18/I16","v":0},null,"Års Total",{"$f":"SUM(M3:M15)","v":1627},null,null,{"$f":"SUM(P3:P15)","v":0},null,{"$f":"P16-M16","v":-1627},{"$f":"R16/(M16/100)","v":-100}]
["2012-12-31",null,null,"","",""]
[null,null,null,"Års forbrug",null,{"$f":"SUM(F6:F17)","v":0},null,null,null,null,null,2011,null,null,2012,null,null," +/-","%"]
[null,"MÅNEDLIG AFLÆSNING AF VANDMÅLER",null,null,null,null,null,"Vand","Dage","m³ pr. dag",null,"Vand","m3",null,null,"m3",null,"m3"]
[null,null,null,null,null,null,null,"januar",{"$f":"A24-A23","v":31},{"$f":"IF(C24<>\"\",C24/I20,\"\")","v":""},null,"Januar",{"$f":"'2011'!C29","v":10},null,"Januar",{"$f":"C24","v":""},null,{"$f":"IF(P20<>\"\",P20-M20,\"\")","v":""},{"$f":"IF(R20<>\"\",R20/(P20/100),\"\")","v":""}]
["Dato",null,"forbrug","Dato",null,"forbrug",null,"februar",29,"",null,"Februar",{"$f":"'2011'!C30","v":7},null,"Februar",{"$f":"C25","v":""},null,"",{"$f":"IF(R21<>\"\",R21/(P21/100),\"\")","v":""}]
[null,"m³","m³",null,"m³","m³",null,"marts",31,"",null,"Marts",{"$f":"'2011'!C31","v":8},null,"Marts","",null,"",""]
["2011-12-31",{"$f":"'2011'!E34","v":1525},null,null,null,null,null,"april",30,"",null,"April",{"$f":"'2011'!C32","v":6},null,"April","",null,"",""]
["2012-01-31",null,{"$f":"IF(B24<>\"\",B24-B23,\"\")","v":""},"2012-07-31",null,{"$f":"IF(E24<>\"\",E24-B29,\"\")","v":""},null,"maj",31,"",null,"Maj",{"$f":"'2011'!C33","v":6},null,"Maj","",null,"",""]
["2012-02-29",null,"","2012-08-31",null,{"$f":"IF(E25<>\"\",E25-E24,\"\")","v":""},null,"juni",30,"",null,"Juni",{"$f":"'2011'!C34","v":8},null,"Juni","",null,"",""]
["2012-03-31",null,"","2012-09-30",null,{"$f":"IF(E26<>\"\",E26-E25,\"\")","v":""},null,"juli",{"$f":"D24-A29","v":31},{"$f":"IF(F24<>\"\",F24/I26,\"\")","v":""},null,"Juli",{"$f":"'2011'!F29","v":7},null,"Juli",{"$f":"F24","v":""},null,"",{"$f":"IF(R26<>\"\",R26/(P26/100),\"\")","v":""}]
["2012-04-30",null,"","2012-10-31",null,{"$f":"IF(E27<>\"\",E27-E26,\"\")","v":""},null,"august",{"$f":"D25-D24","v":31},"",null,"August",{"$f":"'2011'!F30","v":6},null,"August",{"$f":"F25","v":""},null,"",{"$f":"IF(R27<>\"\",R27/(P27/100),\"\")","v":""}]
["2012-05-31",null,"","2012-11-30",null,{"$f":"IF(E28<>\"\",E28-E27,\"\")","v":""},null,"september",{"$f":"D26-D25","v":30},"",null,"September",{"$f":"'2011'!F31","v":6},null,"September","",null,"",""]
["2012-06-30",null,{"$f":"IF(B29<>\"\",B29-B28,\"\")","v":""},"2012-12-31",null,{"$f":"IF(E29<>\"\",E29-E28,\"\")","v":""},null,"oktober",{"$f":"D27-D26","v":31},"",null,"Oktober",{"$f":"'2011'!F32","v":7},null,"Oktober","",null,"",""]
[null,null,null,"Års forbrug",null,{"$f":"SUM(C24:C29,F24:F29)","v":0},null,"november",{"$f":"D28-D27","v":30},"",null,"November",{"$f":"'2011'!F33","v":6},null,"November","",null,"",""]
[null,"MÅNEDLIG AFLÆSNING AF ELMÅLER",null,null,null,null,null,"december",{"$f":"D29-D28","v":31},"",null,"December",{"$f":"'2011'!F34","v":6},null,"December","",null,"",""]
[]
["Dato",null,"forbrug","Dato",null,"forbrug",null,"hele året",{"$f":"D29-A23","v":366},{"$f":"F30/I33","v":0},null,"Års Total",{"$f":"SUM(M20:M32)","v":83},null,null,{"$f":"SUM(P20:P32)","v":0},null,{"$f":"P33-M33","v":-83},{"$f":"R33/(M33/100)","v":-100}]
[null,"Kw","Kw",null,"Kw","Kw"]
["2011-05-31",{"$f":"'2011'!E46","v":60055},null,null,null,null,null,null,null,null,null,"2010/2011",null,null,"2011/2012",null,null," +/-","%"]
["2011-06-30",60408,{"$f":"IF(B36<>\"\",B36-B35,\"\")","v":353},"2011-12-31",null,{"$f":"IF(E36<>\"\",E36-B41,\"\")","v":""},null,"EL","Dage","Kw pr. dag",null,"EL","Kw",null,null,"Kw",null,"Kw"]
["2011-07-31",60789,381,"2012-01-31",null,{"$f":"IF(E37<>\"\",E37-E36,\"\")","v":""},null,"Juni",{"$f":"A36-A35","v":30},{"$f":"IF(B36<>\"\",C36/I37,\"\")","v":11.766666666666667},null,"Juni",{"$f":"'2011'!C41","v":341},null,"Juni",{"$f":"C36","v":353},null,{"$f":"IF(P37=\"\",\"\",P37-M37)","v":12},{"$f":"IF(R37=\"\",\"\",R37/(P37/100))","v":3.3994334277620397}]
["2011-08-31",61124,335,"2012-02-29",null,{"$f":"IF(E38<>\"\",E38-E37,\"\")","v":""},null,"Juli",31,12.290322580645162,null,"Juli",{"$f":"'2011'!C42","v":276},null,"Juli",{"$f":"C37","v":381},null,{"$f":"IF(P38=\"\",\"\",P38-M38)","v":105},{"$f":"IF(R38=\"\",\"\",R38/(P38/100))","v":27.559055118110237}]
["2011-09-30",61457,333,"2012-03-31",null,{"$f":"IF(E39<>\"\",E39-E37,\"\")","v":""},null,"August",31,10.806451612903226,null,"August",{"$f":"'2011'!C43","v":275},null,"August",335,null,60,17.910447761194028]
["2011-10-31",61860,403,"2012-04-30",null,{"$f":"IF(E40<>\"\",E40-E39,\"\")","v":""},null,"September",30,11.1,null,"September",{"$f":"'2011'!C44","v":336},null,"September",333,null,-3,-0.90090090090090091]
["2011-11-30",62295,435,"2012-05-31",null,{"$f":"IF(E41<>\"\",E41-E40,\"\")","v":""},null,"Oktober",31,13,null,"Oktober",{"$f":"'2011'!C45","v":421},null,"Oktober",403,null,-18,-4.4665012406947886]
[null,null,null,"Års forbrug",null,{"$f":"SUM(C36:C41,F36:F41)","v":2240},null,"November",30,14.5,null,"November",{"$f":"'2011'!C46","v":544},null,"November",435,null,-109,-25.05747126436782]
["Bemærkning:",null,null,null,null,null,null,"December",{"$f":"D36-A41","v":31},{"$f":"IF(E36<>\"\",F36/I43,\"\")","v":""},null,"December",{"$f":"'2011'!F41","v":618},null,"December",{"$f":"F36","v":""},null,"",""]
[null,null,null,null,null,null,null,"Januar",{"$f":"D37-D36","v":31},"",null,"Januar",{"$f":"'2011'!F42","v":648},null,"Januar",{"$f":"F37","v":""},null,"",""]
[null,null,null,null,null,null,null,"Februar",{"$f":"D38-D37","v":29},"",null,"Februar",{"$f":"'2011'!F43","v":606},null,"Februar",{"$f":"F38","v":""},null,"",""]
[null,null,null,null,null,null,null,"Marts",{"$f":"D39-D38","v":31},"",null,"Marts",{"$f":"'2011'!F44","v":625},null,"Marts","",null,"",""]
[null,null,null,null,null,null,null,"April",{"$f":"D40-D39","v":30},"",null,"April",{"$f":"'2011'!F45","v":408},null,"April","",null,"",""]
[null,null,null,null,null,null,null,"Maj",{"$f":"D41-D40","v":31},"",null,"Maj",{"$f":"'2011'!F46","v":380},null,"Maj","",null,"",""]
[]
[null,null,null,null,null,null,null,"Hele året",{"$f":"D41-A35","v":366},{"$f":"F42/I50","v":6.1202185792349724},null,"Års Total",{"$f":"SUM(M37:M49)","v":5478},null,null,{"$f":"SUM(P37:P49)","v":2240},null,{"$f":"P50-M50","v":-3238},{"$f":"R50/(M50/100)","v":-59.109163928441035}]

{"sheet":"Beregn varme 2012","index":24,"n_rows":14,"n_cols":18,"rows_kept":14,"cut":false,"hidden":true,"merged":[[4,13,4,14],[5,13,5,14],[6,13,6,14],[7,13,7,14]]}
["måned","Normal års graddage fra HNG","%","liter pr mdr til opvarmnig","pr md til varmt vand","liter i alt pr md","% pr md","% pr md vand","% pr md EL","Normal års graddage fra DTI","%","RVV","%"]
[1,485,{"$f":"B2/(B$14/100)","v":17.923133776792316},{"$f":"('2011'!F$23-('2011'!F$23/100*$P$6))/100*C2","v":204.12657058388771},{"$f":"P$5/100*P$6/12","v":52.175000000000004},{"$f":"SUM(D2:E2)","v":256.30157058388772},{"$f":"F2/(F$14/100)","v":14.521335443846327},{"$f":"31*R7","v":8.493150684931507},10,525,{"$f":"J2/(J$14/100)","v":18.066070199587063},519,{"$f":"L2/(L$14/100)","v":16.677377892030847}]
[2,434,{"$f":"B3/(B$14/100)","v":16.038433111603844},{"$f":"('2011'!F$23-('2011'!F$23/100*$P$6))/100*C3","v":182.66171470805619},{"$f":"P$5/100*P$6/12","v":52.175000000000004},{"$f":"SUM(D3:E3)","v":234.83671470805621},{"$f":"F3/(F$14/100)","v":13.305196300739727},{"$f":"28*R7","v":7.6712328767123283},9,480,{"$f":"J3/(J$14/100)","v":16.517549896765313},486,{"$f":"L3/(L$14/100)","v":15.616966580976863}]
[3,429,15.853658536585366,{"$f":"('2011'!F$23-('2011'!F$23/100*$P$6))/100*C4","v":180.55731707317074},52.175000000000004,232.73231707317075,13.185966972984177,{"$f":"31*R7","v":8.493150684931507},9,460,15.829318651066759,444,14.267352185089974]
[4,249,9.2017738359201786,{"$f":"('2011'!F$23-('2011'!F$23/100*$P$6))/100*C5","v":104.79900221729493},52.175000000000004,156.97400221729492,8.8937111737844141,{"$f":"30*R7","v":8.2191780821917799},8,302,10.392291810048176,311,9.9935732647814906,"forventetforbrug",null,{"$f":"'2011'!F23+'2011 2'!G23","v":2087},"liter"]
[5,58,2.1433850702143387,{"$f":"('2011'!F$23-('2011'!F$23/100*$P$6))/100*C6","v":24.411012564671104},52.175000000000004,76.586012564671108,4.3391508535224421,{"$f":"31*R7","v":8.493150684931507},7,79,2.7185134205092911,154,4.948586118251928,"% til varmt vand",null,30]
[6,0,0,{"$f":"('2011'!F$23-('2011'!F$23/100*$P$6))/100*C7","v":0},52.175000000000004,52.175000000000004,2.9560906515580734,{"$f":"30*R7","v":8.2191780821917799},7,1,3.4411562284927734E-2,58,1.8637532133676091,"til varmt vand",null,{"$f":"P5/100*P6/12","v":52.175000000000004},{"$f":"P7/12","v":4.3479166666666673},{"$f":"100/365","v":0.27397260273972601}]
[7,0,0,{"$f":"('2011'!F$23-('2011'!F$23/100*$P$6))/100*C8","v":0},52.175000000000004,52.175000000000004,2.9560906515580734,{"$f":"31*R7","v":8.493150684931507},7,0,0,22,0.70694087403598971,"til varme",null,{"$f":"$P$9-($P$9/100*$P$10)","v":0}]
[8,0,0,{"$f":"('2011'!F$23-('2011'!F$23/100*$P$6))/100*C9","v":0},52.175000000000004,52.175000000000004,2.9560906515580734,{"$f":"31*R7","v":8.493150684931507},7,0,0,18,0.57840616966580971]
[9,26,0.96082779009608288,{"$f":"('2011'!F$23-('2011'!F$23/100*$P$6))/100*C10","v":10.942867701404289},52.175000000000004,63.117867701404293,3.5760831558869284,{"$f":"30*R7","v":8.2191780821917799},8,36,1.2388162422573985,91,2.9241645244215939]
[10,203,7.5018477457501849,{"$f":"('2011'!F$23-('2011'!F$23/100*$P$6))/100*C11","v":85.438543976348868},52.175000000000004,137.61354397634886,7.7968013584333624,{"$f":"31*R7","v":8.493150684931507},9,219,7.5361321403991743,207,6.6516709511568122]
[11,353,13.045084996304508,{"$f":"('2011'!F$23-('2011'!F$23/100*$P$6))/100*C12","v":148.57047302291207},52.175000000000004,200.74547302291208,11.373681191099832,{"$f":"30*R7","v":8.2191780821917799},9,349,12.009635237439781,341,10.95758354755784]
[12,469,17.331855136733186,{"$f":"('2011'!F$23-('2011'!F$23/100*$P$6))/100*C13","v":197.39249815225426},52.175000000000004,249.56749815225427,14.139801595028569,{"$f":"31*R7","v":8.493150684931507},10,455,15.65726083964212,461,14.813624678663238]
["check",{"$f":"SUM(B2:B13)","v":2706},{"$f":"SUM(C2:C13)","v":100},1138.9000000000003,626.09999999999991,1765.0000000000002,100,99.999999999999986,100,{"$f":"SUM(J2:J13)","v":2906},100,3112,100]

{"sheet":"Beregn varme 2013","index":25,"n_rows":14,"n_cols":18,"rows_kept":14,"cut":false,"hidden":true,"merged":[[4,13,4,14],[5,13,5,14],[6,13,6,14],[7,13,7,14]]}
["måned","Normal års graddage fra HNG","%","liter pr mdr til opvarmnig","pr md til varmt vand","liter i alt pr md","% pr md","% pr md vand","% pr md EL","Normal års graddage fra DTI","%","RVV","%"]
[1,485,{"$f":"B2/(B$14/100)","v":17.923133776792316},{"$f":"('2009'!F$18-('2009'!F$18/100*$P$6))/100*C2","v":166.61345158906136},{"$f":"P$5/100*P$6/12","v":55.774999999999999},{"$f":"SUM(D2:E2)","v":222.38845158906136},{"$f":"F2/(F$14/100)","v":13.90884055219597},{"$f":"31*R7","v":8.493150684931507},10,525,{"$f":"J2/(J$14/100)","v":18.066070199587063},519,{"$f":"L2/(L$14/100)","v":16.677377892030847}]
[2,434,{"$f":"B3/(B$14/100)","v":16.038433111603844},{"$f":"('2009'!F$18-('2009'!F$18/100*$P$6))/100*C3","v":149.09327420546933},{"$f":"P$5/100*P$6/12","v":55.774999999999999},{"$f":"SUM(D3:E3)","v":204.86827420546933},{"$f":"F3/(F$14/100)","v":12.813076127679613},{"$f":"28*R7","v":7.6712328767123283},9,480,{"$f":"J3/(J$14/100)","v":16.517549896765313},486,{"$f":"L3/(L$14/100)","v":15.616966580976863}]
[3,429,15.853658536585366,{"$f":"('2009'!F$18-('2009'!F$18/100*$P$6))/100*C4","v":147.37560975609756},55.774999999999999,203.15060975609757,12.705648242923107,{"$f":"31*R7","v":8.493150684931507},9,460,15.829318651066759,444,14.267352185089974]
[4,249,9.2017738359201786,{"$f":"('2009'!F$18-('2009'!F$18/100*$P$6))/100*C5","v":85.539689578713975},55.774999999999999,141.31468957871397,8.8382443916889102,{"$f":"30*R7","v":8.2191780821917799},8,302,10.392291810048176,311,9.9935732647814906,"forventetforbrug",null,{"$f":"'2012'!G23","v":2231},"liter"]
[5,58,2.1433850702143387,{"$f":"('2009'!F$18-('2009'!F$18/100*$P$6))/100*C6","v":19.924907612712492},55.774999999999999,75.699907612712494,4.7344991939903993,{"$f":"31*R7","v":8.493150684931507},7,79,2.7185134205092911,154,4.948586118251928,"% til varmt vand",null,30]
[6,0,0,{"$f":"('2009'!F$18-('2009'!F$18/100*$P$6))/100*C7","v":0},55.774999999999999,55.774999999999999,3.4883357308149354,{"$f":"30*R7","v":8.2191780821917799},7,1,3.4411562284927734E-2,58,1.8637532133676091,"til varmt vand",null,{"$f":"P5/100*P6/12","v":55.774999999999999},{"$f":"P7/12","v":4.6479166666666663},{"$f":"100/365","v":0.27397260273972601}]
[7,0,0,{"$f":"('2009'!F$18-('2009'!F$18/100*$P$6))/100*C8","v":0},55.774999999999999,55.774999999999999,3.4883357308149354,{"$f":"31*R7","v":8.493150684931507},7,0,0,22,0.70694087403598971,"til varme",null,{"$f":"$P$9-($P$9/100*$P$10)","v":0}]
[8,0,0,{"$f":"('2009'!F$18-('2009'!F$18/100*$P$6))/100*C9","v":0},55.774999999999999,55.774999999999999,3.4883357308149354,{"$f":"31*R7","v":8.493150684931507},7,0,0,18,0.57840616966580971]
[9,26,0.96082779009608288,{"$f":"('2009'!F$18-('2009'!F$18/100*$P$6))/100*C10","v":8.9318551367331853},55.774999999999999,64.706855136733182,4.0469607315487641,{"$f":"30*R7","v":8.2191780821917799},8,36,1.2388162422573985,91,2.9241645244215939]
[10,203,7.5018477457501849,{"$f":"('2009'!F$18-('2009'!F$18/100*$P$6))/100*C11","v":69.737176644493715},55.774999999999999,125.51217664449371,7.8499078519290588,{"$f":"31*R7","v":8.493150684931507},9,219,7.5361321403991743,207,6.6516709511568122]
[11,353,13.045084996304508,{"$f":"('2009'!F$18-('2009'!F$18/100*$P$6))/100*C12","v":121.2671101256467},55.774999999999999,177.0421101256467,11.072744394624223,{"$f":"30*R7","v":8.2191780821917799},9,349,12.009635237439781,341,10.95758354755784]
[12,469,17.331855136733186,{"$f":"('2009'!F$18-('2009'!F$18/100*$P$6))/100*C13","v":161.11692535107167},55.774999999999999,216.89192535107168,13.565071320975152,{"$f":"31*R7","v":8.493150684931507},10,455,15.65726083964212,461,14.813624678663238]
["check",{"$f":"SUM(B2:B13)","v":2706},{"$f":"SUM(C2:C13)","v":100},929.59999999999991,669.29999999999984,1598.8999999999999,100.00000000000001,99.999999999999986,100,{"$f":"SUM(J2:J13)","v":2906},100,3112,100]

{"sheet":"Beregn varme 2014","index":26,"n_rows":14,"n_cols":22,"rows_kept":14,"cut":false,"hidden":true,"merged":[[4,17,4,18],[5,17,5,18],[6,17,6,18],[7,17,7,18],[1,19,2,19],[1,17,2,18]]}
["måned","Normal års graddage fra HNG","%","liter pr mdr til opvarmnig","pr md til varmt vand","liter i alt pr md","% pr md","% pr md vand","% pr md EL","Normal års graddage fra DTI","%",null,"DMI","%","liter i alt pr md","RVV","%"]
[1,485,{"$f":"B2/(B$14/100)","v":17.923133776792316},{"$f":"(INDIRECT(\"'\"&$T$2-1&\"'!g23\")-(INDIRECT(\"'\"&$T$2-1&\"'!g23\")/100*$T$6))/100*C2","v":294.96101256467108},{"$f":"T$5/100*T$6/12","v":58.775000000000006},{"$f":"$T$5*C2%","v":421.37287509238735},{"$f":"F2/(F$14/100)","v":17.923133776792316},{"$f":"31*V7","v":8.493150684931507},10,525,{"$f":"J2/(J$14/100)","v":18.066070199587063},{"$f":"$T$5*K2%","v":424.73331039229186},518,{"$f":"M2/(M$14/100)","v":15.366360130525067},{"$f":"$T$5*N2%","v":361.2631266686443},519,{"$f":"P2/(P$14/100)","v":16.677377892030847},"Vælg årstal:",null,2014]
[2,434,{"$f":"B3/(B$14/100)","v":16.038433111603844},{"$f":"(INDIRECT(\"'\"&$T$2-1&\"'!g23\")-(INDIRECT(\"'\"&$T$2-1&\"'!g23\")/100*$T$6))/100*C3","v":263.94449371766439},{"$f":"T$5/100*T$6/12","v":58.775000000000006},{"$f":"$T$5*C3%","v":377.06356245380641},{"$f":"F3/(F$14/100)","v":16.038433111603844},{"$f":"28*V7","v":7.6712328767123283},9,480,{"$f":"J3/(J$14/100)","v":16.517549896765313},{"$f":"$T$5*K3%","v":388.32759807295253},495,{"$f":"M3/(M$14/100)","v":14.684070008899436},{"$f":"$T$5*N3%","v":345.22248590922572},486,{"$f":"P3/(P$14/100)","v":15.616966580976863}]
[3,429,15.853658536585366,260.90365853658534,58.775000000000006,372.71951219512198,15.853658536585366,{"$f":"31*V7","v":8.493150684931507},9,460,15.829318651066759,372.14728148657952,481,14.268762978344704,335.45861762088401,444,14.267352185089974]
[4,249,9.2017738359201786,151.43359201773836,58.775000000000006,216.33370288248338,9.2017738359201768,{"$f":"30*V7","v":8.2191780821917799},8,302,10.392291810048176,244.32278045423263,374,11.094630673390684,260.83476713141499,311,9.9935732647814906,"forventetforbrug",null,{"$f":"'2013'!G23","v":2351},"liter"]
[5,58,2.1433850702143387,35.273688100517369,58.775000000000006,50.390983000739098,2.1433850702143382,{"$f":"31*V7","v":8.493150684931507},7,79,2.7185134205092911,63.912250516173437,236,7.0008899436369028,164.59092257490357,154,4.948586118251928,"% til varmt vand",null,30]
[6,0,0,0,58.775000000000006,0,0,{"$f":"30*V7","v":8.2191780821917799},7,1,3.4411562284927734E-2,0.80901582931865101,90,2.6698309107089884,62.767724710768313,58,1.8637532133676091,"til varmt vand",null,{"$f":"T5/100*T6/12","v":58.775000000000006},{"$f":"T7/12","v":4.8979166666666671},{"$f":"100/365","v":0.27397260273972601}]
[7,0,0,0,58.775000000000006,0,0,{"$f":"31*V7","v":8.493150684931507},7,0,0,0,20,0.59329575793533074,13.948383269059626,22,0.70694087403598971,"til varme",null,{"$f":"$T$9-($T$9/100*$T$10)","v":0}]
[8,0,0,0,58.775000000000006,0,0,{"$f":"31*V7","v":8.493150684931507},7,0,0,0,23,0.68229012162563041,16.040640759418569,18,0.57840616966580971]
[9,26,0.96082779009608288,15.812342941611233,58.775000000000006,22.589061345158907,0.96082779009608277,{"$f":"30*V7","v":8.2191780821917799},8,36,1.2388162422573985,29.124569855471439,109,3.2334618807475524,76.018688816374961,91,2.9241645244215939]
[10,203,7.5018477457501849,123.45790835181077,58.775000000000006,176.36844050258682,7.5018477457501831,{"$f":"31*V7","v":8.493150684931507},9,219,7.5361321403991743,177.17446662078459,228,6.7635716404627706,159.01156926727973,207,6.6516709511568122]
[11,353,13.045084996304508,214.68296378418324,58.775000000000006,306.68994826311899,13.045084996304508,{"$f":"30*V7","v":8.2191780821917799},9,349,12.009635237439781,282.34652443220926,339,10.056363097003857,236.42509641056066,341,10.95758354755784]
[12,469,17.331855136733186,285.230339985218,58.775000000000006,407.47191426459716,17.331855136733182,{"$f":"31*V7","v":8.493150684931507},10,455,15.65726083964212,368.10220233998626,458,13.586472856719075,319.41797686146549,461,14.813624678663238]
["check",{"$f":"SUM(B2:B13)","v":2706},{"$f":"SUM(C2:C13)","v":100},1645.6999999999998,705.29999999999984,2351,100,99.999999999999986,100,{"$f":"SUM(J2:J13)","v":2906},100,{"$f":"SUM(L2:L13)","v":2351},{"$f":"SUM(M2:M13)","v":3371},{"$f":"SUM(N2:N13)","v":100},{"$f":"SUM(O2:O13)","v":2351},3112,100]

{"sheet":"Beregn varme 2015","index":27,"n_rows":14,"n_cols":23,"rows_kept":14,"cut":false,"hidden":true,"merged":[[4,18,4,19],[5,18,5,19],[6,18,6,19],[7,18,7,19],[1,20,2,20],[1,18,2,19]]}
["måned","Normal års graddage fra HNG","%",null,"liter pr mdr til opvarmnig","pr md til varmt vand","liter i alt pr md","% pr md","% pr md vand","% pr md EL","Normal års graddage fra DTI","%","liter i alt pr md","DMI","%","liter i alt pr md","RVV","%"]
[1,485,{"$f":"B2/(B$14/100)","v":17.923133776792316},{"$f":"$U$5*C2%","v":384.80968218773103},{"$f":"(INDIRECT(\"'\"&$U$2-1&\"'!g23\")-(INDIRECT(\"'\"&$U$2-1&\"'!g23\")/100*$U$6))/100*C2","v":269.36677753141174},{"$f":"U$5/100*U$6/12","v":53.67499999999999},{"$f":"$U$5*C2%","v":384.80968218773103},{"$f":"G2/(G$14/100)","v":17.923133776792316},{"$f":"31*W7","v":8.493150684931507},10,525,{"$f":"K2/(K$14/100)","v":18.066070199587063},{"$f":"$U$5*L2%","v":387.87852718513426},518,{"$f":"N2/(N$14/100)","v":15.366360130525067},{"$f":"$U$5*O2%","v":329.91575200237321},519,{"$f":"Q2/(Q$14/100)","v":16.677377892030847},"Vælg årstal:",null,2015]
[2,434,{"$f":"B3/(B$14/100)","v":16.038433111603844},{"$f":"$U$5*C3%","v":344.34515890613454},{"$f":"(INDIRECT(\"'\"&$U$2-1&\"'!g23\")-(INDIRECT(\"'\"&$U$2-1&\"'!g23\")/100*$U$6))/100*C3","v":241.04161123429421},{"$f":"U$5/100*U$6/12","v":53.67499999999999},{"$f":"$U$5*C3%","v":344.34515890613454},{"$f":"G3/(G$14/100)","v":16.038433111603844},{"$f":"28*W7","v":7.6712328767123283},9,480,{"$f":"K3/(K$14/100)","v":16.517549896765313},{"$f":"$U$5*L3%","v":354.63179628355124},495,{"$f":"N3/(N$14/100)","v":14.684070008899436},{"$f":"$U$5*O3%","v":315.26698309107087},486,{"$f":"Q3/(Q$14/100)","v":15.616966580976863}]
[3,429,15.853658536585366,340.3780487804878,{"$f":"(INDIRECT(\"'\"&$U$2-1&\"'!g23\")-(INDIRECT(\"'\"&$U$2-1&\"'!g23\")/100*$U$6))/100*C4","v":238.26463414634148},53.67499999999999,340.3780487804878,15.853658536585366,{"$f":"31*W7","v":8.493150684931507},9,460,15.829318651066759,339.8554714384033,481,14.268762978344704,306.35034114506078,444,14.267352185089974]
[4,249,9.2017738359201786,197.56208425720624,138.29345898004439,53.67499999999999,197.56208425720624,9.2017738359201786,{"$f":"30*W7","v":8.2191780821917799},8,302,10.392291810048176,223.12250516173435,374,11.094630673390684,238.201720557698,311,9.9935732647814906,"forventetforbrug",null,{"$f":"'2014'!G23","v":2147},"liter"]
[5,58,2.1433850702143387,46.018477457501852,32.212934220251299,53.67499999999999,46.018477457501852,2.1433850702143387,{"$f":"31*W7","v":8.493150684931507},8,79,2.7185134205092911,58.36648313833448,236,7.0008899436369028,150.30910708988429,154,4.948586118251928,"% til varmt vand",null,30]
[6,0,0,0,0,53.67499999999999,0,0,{"$f":"30*W7","v":8.2191780821917799},7,1,3.4411562284927734E-2,0.7388162422573985,90,2.6698309107089884,57.321269652921977,58,1.8637532133676091,"til varmt vand",null,{"$f":"U5/100*U6/12","v":53.67499999999999},{"$f":"U7/12","v":4.4729166666666655},{"$f":"100/365","v":0.27397260273972601}]
[7,0,0,0,0,53.67499999999999,0,0,{"$f":"31*W7","v":8.493150684931507},6,0,0,0,20,0.59329575793533074,12.738059922871551,22,0.70694087403598971,"til varme",null,{"$f":"$U$9-($U$9/100*$U$10)","v":0}]
[8,0,0,0,0,53.67499999999999,0,0,{"$f":"31*W7","v":8.493150684931507},7,0,0,0,23,0.68229012162563041,14.648768911302284,18,0.57840616966580971]
[9,26,0.96082779009608288,20.628972653362901,14.440280857354031,53.67499999999999,20.628972653362901,0.96082779009608299,{"$f":"30*W7","v":8.2191780821917799},7,36,1.2388162422573985,26.597384721266348,109,3.2334618807475524,69.422426579649951,91,2.9241645244215939]
[10,203,7.5018477457501849,161.06467110125647,112.74526977087955,53.67499999999999,161.06467110125647,7.5018477457501849,{"$f":"31*W7","v":8.493150684931507},9,219,7.5361321403991743,161.80075705437025,228,6.7635716404627706,145.21388312073569,207,6.6516709511568122]
[11,353,13.045084996304508,280.07797487065784,196.05458240946047,53.67499999999999,280.07797487065784,13.045084996304512,{"$f":"30*W7","v":8.2191780821917799},9,349,12.009635237439781,257.84686854783212,339,10.056363097003857,215.9101156926728,341,10.95758354755784]
[12,469,17.331855136733186,372.1149297856615,260.48045084996306,53.67499999999999,372.1149297856615,17.331855136733186,{"$f":"31*W7","v":8.493150684931507},11,455,15.65726083964212,336.16139022711633,458,13.586472856719075,291.70157223375855,461,14.813624678663238]
["check",{"$f":"SUM(B2:B13)","v":2706},{"$f":"SUM(C2:C13)","v":100},{"$f":"SUM(D2:D13)","v":2147},1502.9000000000003,644.09999999999991,2147,100,99.999999999999986,100,{"$f":"SUM(K2:K13)","v":2906},100,{"$f":"SUM(M2:M13)","v":2147},{"$f":"SUM(N2:N13)","v":3371},{"$f":"SUM(O2:O13)","v":100},{"$f":"SUM(P2:P13)","v":2147.0000000000005},3112,100]

{"sheet":"Beregn varme 2016","index":28,"n_rows":14,"n_cols":23,"rows_kept":14,"cut":false,"hidden":true,"merged":[[7,18,7,19],[1,18,2,19],[1,20,2,20],[4,18,4,19],[5,18,5,19],[6,18,6,19]]}
["måned","Normal års graddage fra HNG","%",null,"liter pr mdr til opvarmnig","pr md til varmt vand","liter i alt pr md","% pr md","% pr md vand","% pr md EL","Normal års graddage fra DTI","%","liter pr mdr","DMI","%","liter i alt pr md","RVV","%"]
[1,485,{"$f":"B2/(B$14/100)","v":17.923133776792316},{"$f":"$U$5*C2%","v":254.15003695491504},{"$f":"(INDIRECT(\"'\"&$U$2-1&\"'!g23\")-(INDIRECT(\"'\"&$U$2-1&\"'!g23\")/100*$U$6))/100*C2","v":177.90502586844053},{"$f":"U$5/100*U$6/12","v":35.449999999999996},{"$f":"SUM(E2:F2)","v":213.35502586844052},{"$f":"G2/(G$14/100)","v":15.046193643754618},{"$f":"31*W7","v":8.493150684931507},10,525,{"$f":"K2/(K$14/100)","v":18.066070199587063},{"$f":"$U$5*L2%","v":256.17687543014455},518,{"$f":"N2/(N$14/100)","v":15.366360130525067},{"$f":"$U$5*O2%","v":217.89498665084545},519,{"$f":"Q2/(Q$14/100)","v":16.677377892030847},"Vælg årstal:",null,2016]
[2,434,{"$f":"B3/(B$14/100)","v":16.038433111603844},{"$f":"$U$5*C3%","v":227.42498152254251},{"$f":"(INDIRECT(\"'\"&$U$2-1&\"'!g23\")-(INDIRECT(\"'\"&$U$2-1&\"'!g23\")/100*$U$6))/100*C3","v":159.19748706577977},{"$f":"U$5/100*U$6/12","v":35.449999999999996},{"$f":"SUM(E3:F3)","v":194.64748706577976},{"$f":"G3/(G$14/100)","v":13.72690317812269},{"$f":"28*W7","v":7.6712328767123283},9,480,{"$f":"K3/(K$14/100)","v":16.517549896765313},{"$f":"$U$5*L3%","v":234.21885753613213},495,{"$f":"N3/(N$14/100)","v":14.684070008899436},{"$f":"$U$5*O3%","v":208.220112726194},486,{"$f":"Q3/(Q$14/100)","v":15.616966580976863}]
[3,429,15.853658536585366,224.80487804878049,{"$f":"(INDIRECT(\"'\"&$U$2-1&\"'!g23\")-(INDIRECT(\"'\"&$U$2-1&\"'!g23\")/100*$U$6))/100*C4","v":157.36341463414635},35.449999999999996,192.81341463414634,13.597560975609754,{"$f":"31*W7","v":8.493150684931507},9,460,15.829318651066759,224.45973847212665,481,14.268762978344704,202.3310590329279,444,14.267352185089974]
[4,249,9.2017738359201786,130.48115299334813,91.336807095343701,35.449999999999996,126.7868070953437,8.9412416851441243,{"$f":"30*W7","v":8.2191780821917799},8,302,10.392291810048176,147.36269786648313,374,11.094630673390684,157.32186294867992,311,9.9935732647814906,"forventetforbrug",null,{"$f":"INDIRECT(\"'\"&$U$2-1&\"'!g23\")","v":1418},"liter"]
[5,58,2.1433850702143387,30.393200295639321,21.275240206947526,35.449999999999996,56.725240206947518,4.0003695491500357,{"$f":"31*W7","v":8.493150684931507},7,79,2.7185134205092911,38.54852030282175,236,7.0008899436369028,99.272619400771276,154,4.948586118251928,"% til varmt vand",null,30]
[6,0,0,0,0,35.449999999999996,35.449999999999996,2.4999999999999996,{"$f":"30*W7","v":8.2191780821917799},7,1,3.4411562284927734E-2,0.48795595320027529,90,2.6698309107089884,37.858202313853454,58,1.8637532133676091,"til varmt vand",null,{"$f":"U5/100*U6/12","v":35.449999999999996},{"$f":"U7/12","v":2.9541666666666662},{"$f":"100/365","v":0.27397260273972601}]
[7,0,0,0,0,35.449999999999996,35.449999999999996,2.4999999999999996,{"$f":"31*W7","v":8.493150684931507},7,0,0,0,20,0.59329575793533074,8.4129338475229893,22,0.70694087403598971,"til varme",null,{"$f":"$U$9-($U$9/100*$U$10)","v":0}]
[8,0,0,0,0,35.449999999999996,35.449999999999996,2.4999999999999996,{"$f":"31*W7","v":8.493150684931507},7,0,0,0,23,0.68229012162563041,9.6748739246514379,18,0.57840616966580971]
[9,26,0.96082779009608288,13.624538063562454,9.5371766444937194,35.449999999999996,44.987176644493715,3.1725794530672573,{"$f":"30*W7","v":8.2191780821917799},8,36,1.2388162422573985,17.566414315209911,109,3.2334618807475524,45.850489469000294,91,2.9241645244215939]
[10,203,7.5018477457501849,106.37620103473762,74.463340724316339,35.449999999999996,109.91334072431633,7.7512934220251282,{"$f":"31*W7","v":8.493150684931507},9,219,7.5361321403991743,106.86235375086028,228,6.7635716404627706,95.907445861762085,207,6.6516709511568122]
[11,353,13.045084996304508,184.97930524759795,129.48551367331856,35.449999999999996,164.93551367331855,11.631559497413155,{"$f":"30*W7","v":8.2191780821917799},9,349,12.009635237439781,170.29662766689609,339,10.056363097003857,142.5992287155147,341,10.95758354755784]
[12,469,17.331855136733186,245.76570583887656,172.0359940872136,35.449999999999996,207.48599408721358,14.632298595713227,{"$f":"31*W7","v":8.493150684931507},10,455,15.65726083964212,222.01995870612527,458,13.586472856719075,192.6561851082765,461,14.813624678663238]
["check",{"$f":"SUM(B2:B13)","v":2706},{"$f":"SUM(C2:C13)","v":100},{"$f":"SUM(D2:D13)","v":1418.0000000000002},{"$f":"SUM(E2:E13)","v":992.6},425.39999999999992,1418.0000000000002,99.999999999999986,99.999999999999986,100,{"$f":"SUM(K2:K13)","v":2906},100,{"$f":"SUM(M2:M13)","v":1418},{"$f":"SUM(N2:N13)","v":3371},100,{"$f":"SUM(P2:P13)","v":1418.0000000000002},3112,100]

{"sheet":"Beregn varme 2017","index":29,"n_rows":14,"n_cols":23,"rows_kept":14,"cut":false,"hidden":true,"merged":[[7,18,7,19],[1,18,2,19],[1,20,2,20],[4,18,4,19],[5,18,5,19],[6,18,6,19]]}
["måned","Normal års graddage fra HNG","%",null,"liter pr mdr til opvarmnig","pr md til varmt vand","liter i alt pr md","% pr md","% pr md vand","% pr md EL","Normal års graddage fra DTI","%","liter pr mdr","DMI","%","liter i alt pr md","RVV","%"]
[1,485,{"$f":"B2/(B$14/100)","v":17.923133776792316},null,{"$f":"(INDIRECT(\"'\"&$U$2-1&\"'!g23\")-(INDIRECT(\"'\"&$U$2-1&\"'!g23\")/100*$U$6))/100*C2","v":0},{"$f":"U$5/100*U$6/12","v":0},{"$f":"SUM(E2:F2)","v":0},{"$f":"IFERROR(G2/(G$14/100),\"\")","v":""},{"$f":"31*W7","v":8.493150684931507},10,525,{"$f":"K2/(K$14/100)","v":18.066070199587063},{"$f":"$U$5*L2%","v":0},518,{"$f":"N2/(N$14/100)","v":15.366360130525067},{"$f":"$U$5*O2%","v":0},519,{"$f":"Q2/(Q$14/100)","v":16.677377892030847},"Vælg årstal:",null,2017]
[2,434,{"$f":"B3/(B$14/100)","v":16.038433111603844},null,{"$f":"(INDIRECT(\"'\"&$U$2-1&\"'!g23\")-(INDIRECT(\"'\"&$U$2-1&\"'!g23\")/100*$U$6))/100*C3","v":0},{"$f":"U$5/100*U$6/12","v":0},{"$f":"SUM(E3:F3)","v":0},{"$f":"IFERROR(G3/(G$14/100),\"\")","v":""},{"$f":"28*W7","v":7.6712328767123283},9,480,{"$f":"K3/(K$14/100)","v":16.517549896765313},{"$f":"$U$5*L3%","v":0},495,{"$f":"N3/(N$14/100)","v":14.684070008899436},{"$f":"$U$5*O3%","v":0},486,{"$f":"Q3/(Q$14/100)","v":15.616966580976863}]
[3,429,15.853658536585366,null,{"$f":"(INDIRECT(\"'\"&$U$2-1&\"'!g23\")-(INDIRECT(\"'\"&$U$2-1&\"'!g23\")/100*$U$6))/100*C4","v":0},0,0,"",{"$f":"31*W7","v":8.493150684931507},9,460,15.829318651066759,0,481,14.268762978344704,0,444,14.267352185089974]
[4,249,9.2017738359201786,null,0,0,0,"",{"$f":"30*W7","v":8.2191780821917799},8,302,10.392291810048176,0,374,11.094630673390684,0,311,9.9935732647814906,"forventetforbrug",null,{"$f":"INDIRECT(\"'\"&$U$2-1&\"'!g23\")","v":0},"liter"]
[5,58,2.1433850702143387,null,0,0,0,"",{"$f":"31*W7","v":8.493150684931507},7,79,2.7185134205092911,0,236,7.0008899436369028,0,154,4.948586118251928,"% til varmt vand",null,30]
[6,0,0,null,0,0,0,"",{"$f":"30*W7","v":8.2191780821917799},7,1,3.4411562284927734E-2,0,90,2.6698309107089884,0,58,1.8637532133676091,"til varmt vand",null,{"$f":"U5/100*U6/12","v":0},{"$f":"U7/12","v":0},{"$f":"100/365","v":0.27397260273972601}]
[7,0,0,null,0,0,0,"",{"$f":"31*W7","v":8.493150684931507},7,0,0,0,20,0.59329575793533074,0,22,0.70694087403598971,"til varme",null,{"$f":"$U$9-($U$9/100*$U$10)","v":0}]
[8,0,0,null,0,0,0,"",{"$f":"31*W7","v":8.493150684931507},7,0,0,0,23,0.68229012162563041,0,18,0.57840616966580971]
[9,26,0.96082779009608288,null,0,0,0,"",{"$f":"30*W7","v":8.2191780821917799},8,36,1.2388162422573985,0,109,3.2334618807475524,0,91,2.9241645244215939]
[10,203,7.5018477457501849,null,0,0,0,"",{"$f":"31*W7","v":8.493150684931507},9,219,7.5361321403991743,0,228,6.7635716404627706,0,207,6.6516709511568122]
[11,353,13.045084996304508,null,0,0,0,"",{"$f":"30*W7","v":8.2191780821917799},9,349,12.009635237439781,0,339,10.056363097003857,0,341,10.95758354755784]
[12,469,17.331855136733186,null,0,0,0,"",{"$f":"31*W7","v":8.493150684931507},10,455,15.65726083964212,0,458,13.586472856719075,0,461,14.813624678663238]
["check",{"$f":"SUM(B2:B13)","v":2706},{"$f":"SUM(C2:C13)","v":100},null,0,0,0,0,99.999999999999986,100,{"$f":"SUM(K2:K13)","v":2906},100,{"$f":"SUM(M2:M13)","v":0},{"$f":"SUM(N2:N13)","v":3371},100,{"$f":"SUM(P2:P13)","v":0},3112,100]

{"sheet":"Måler aflæsninger","index":30,"n_rows":4,"n_cols":4,"rows_kept":4,"cut":false,"hidden":false,"merged":[]}
["Aflæsnings\ndato","EL                KWh","Vand\nm³","Olie Pejling\ni cm"]
["2015-06-30",32721,1805,"110,5"]
["2015-07-31",33050,1813,108]
["2015-08-31",33354,1820,107.5]

{"sheet":"Statistik","index":31,"n_rows":20,"n_cols":10,"rows_kept":20,"cut":false,"hidden":false,"merged":[[1,4,1,6],[1,7,1,9],[1,1,1,3]]}
[]
[null,"Olie",null,null,"Vand",null,null,"EL"]
["År","års forbrug","+/-","%","års forbrug","+/-","%","års forbrug","+/-","%"]
[2004,{"$f":"'2004'!F18","v":969},null,null,{"$f":"'2004'!F29","v":92},null,null,{"$f":"'2004'!F40","v":1051}]
[2005,{"$f":"'2005'!F18","v":1231},{"$f":"B5-B4","v":262},{"$f":"C5/(B4/100)","v":27.038183694530446},{"$f":"'2005'!F29","v":129},{"$f":"E5-E4","v":37},{"$f":"F5/(E4/100)","v":40.217391304347821},{"$f":"'2005'!F40","v":4443},{"$f":"H5-H4","v":3392},{"$f":"I5/(H4/100)","v":322.74024738344434}]
[2006,{"$f":"'2006'!F18","v":1426},{"$f":"B6-B5","v":195},{"$f":"C6/(B5/100)","v":15.840779853777416},{"$f":"'2006'!F29","v":109},{"$f":"E6-E5","v":-20},{"$f":"F6/(E5/100)","v":-15.503875968992247},{"$f":"'2006'!F41","v":5117},{"$f":"H6-H5","v":674},{"$f":"I6/(H5/100)","v":15.16993022732388}]
[2007,{"$f":"'2007'!F18","v":1225},-201,-14.095371669004209,{"$f":"'2007'!F29","v":122},13,11.926605504587155,{"$f":"'2007'!F40","v":4994},-123,-2.4037521985538399]
[2008,{"$f":"'2008'!F18","v":1233},8,0.65306122448979587,{"$f":"'2008'!F29","v":104},-18,-14.754098360655737,{"$f":"'2008'!F40","v":5372},378,7.5690828994793753]
[2009,{"$f":"'2009'!F18","v":1328},95,7.704785077047851,{"$f":"'2009'!F29","v":99},-5,-4.8076923076923075,{"$f":"'2009'!F40","v":5213},-159,-2.9597915115413254]
[2010,{"$f":"'2010'!F18","v":1504},176,13.253012048192772,{"$f":"'2010'!F30","v":98},-1,-1.0101010101010102,{"$f":"'2010'!F42","v":5404},191,3.6639171302512947]
[2011,{"$f":"'2011'!F23","v":1627},{"$f":"IF(B11<>0,B11-B10,\"\")","v":123},{"$f":"IF(B11<>0,C11/(B10/100),\"\")","v":8.1781914893617031},{"$f":"'2011'!F35","v":83},{"$f":"IF(E11<>0,E11-E10,\"\")","v":-15},{"$f":"IF(E11<>0,F11/(E10/100),\"\")","v":-15.306122448979592},{"$f":"'2011'!F47","v":5478},{"$f":"IF(H11<>0,H11-H10,\"\")","v":74},{"$f":"IF(H11<>0,I11/(H10/100),\"\")","v":1.3693560325684677}]
[2012,{"$f":"'2012'!G23","v":2231},{"$f":"IF(B12<>0,B12-B11,\"\")","v":604},{"$f":"IF(B12<>0,C12/(B11/100),\"\")","v":37.123540258143827},{"$f":"'2012'!G35","v":358},{"$f":"IF(E12<>0,E12-E11,\"\")","v":275},{"$f":"IF(E12<>0,F12/(E11/100),\"\")","v":331.32530120481931},{"$f":"'2012'!G67","v":5362},{"$f":"IF(H12<>0,H12-H11,\"\")","v":-116},{"$f":"IF(H12<>0,I12/(H11/100),\"\")","v":-2.1175611537057319}]
[2013,{"$f":"IF('2013'!G23=0,\"\",'2013'!G23)","v":2351},{"$f":"IF(B13<>0,B13-B12,\"\")","v":120},{"$f":"IF(B13<>0,C13/(B12/100),\"\")","v":5.3787539220080687},{"$f":"'2013'!G41","v":5203},4845,1353.3519553072626,{"$f":"INDIRECT(\"'\"&A13&\"'!r50\")","v":5397},35,0.65274151436031336]
[2014,{"$f":"INDIRECT(\"'\"&A14&\"'!g23\")","v":2147},{"$f":"IF(B14<>0,B14-B13,\"\")","v":-204},{"$f":"IF(B14<>0,C14/(B13/100),\"\")","v":-8.6771586558911089},{"$f":"INDIRECT(\"'\"&A14&\"'!d41\")","v":79},-5124,-98.481645204689599,{"$f":"INDIRECT(\"'\"&A14&\"'!r50\")","v":4768},-629,-11.654622938669631]
[2015,{"$f":"INDIRECT(\"'\"&A15&\"'!g23\")","v":1418},{"$f":"IF(B15<>0,B15-B14,\"\")","v":-729},{"$f":"IF(B15<>0,C15/(B14/100),\"\")","v":-33.954354913833257},{"$f":"INDIRECT(\"'\"&A15&\"'!d41\")","v":56},-23,-29.11392405063291,{"$f":"INDIRECT(\"'\"&A15&\"'!r50\")","v":4960},192,4.026845637583893]
[2016,{"$f":"INDIRECT(\"'\"&A16&\"'!g23\")","v":0},{"$f":"IF(B16<>0,B16-B15,\"\")","v":""},{"$f":"IF(B16<>0,C16/(B15/100),\"\")","v":""},{"$f":"INDIRECT(\"'\"&A16&\"'!d41\")","v":0},{"$f":"IF(E16<>0,E16-E15,\"\")","v":""},{"$f":"IF(E16<>0,F16/(E15/100),\"\")","v":""},{"$f":"INDIRECT(\"'\"&A16&\"'!r50\")","v":304},{"$f":"IF(H16<>0,H16-H15,\"\")","v":-4656},{"$f":"IF(H16<>0,I16/(H15/100),\"\")","v":-93.870967741935488}]
[2017,null,"","",null,"","",null,"",""]
[2018,null,{"$f":"IF(B18<>0,B18-B17,\"\")","v":""},{"$f":"IF(B18<>0,C18/(B17/100),\"\")","v":""},null,{"$f":"IF(E18<>0,E18-E17,\"\")","v":""},{"$f":"IF(E18<>0,F18/(E17/100),\"\")","v":""},null,{"$f":"IF(H18<>0,H18-H17,\"\")","v":""},{"$f":"IF(H18<>0,I18/(H17/100),\"\")","v":""}]
[2019,null,"","",null,"","",null,"",""]
[2020,null,"","",null,"","",null,"",""]

{"sheet":"Varmekonto","index":32,"n_rows":41,"n_cols":13,"rows_kept":41,"cut":false,"hidden":false,"merged":[[0,0,0,7],[1,0,1,7]]}
[{"$f":"System!A19","v":"Version: 2.0.2 / Bjarne Hansen"},null,null,null,null,null,null,null,null,null,null,null,"Indbetalt"]
["Opgørelse Varmekonto",null,null,null,null,null,null,null,null,null,null,null,"Købt Olie"]
["Dato","Bilag","Tekst","Indbetaling","Kvantum","Pris","Beløb"]
["2013-09-23",null,"Saldo ved etablering",null,null,null,0]
["2013-10-01",null,"Indbetaling",5000,null,null,{"$f":"G4-D5+F5","v":-5000},{"$f":"IF(G5>0,\"Skylder\",IF(G5<0,\"Tilgode\",\"Tilgode\"))","v":"Tilgode"}]
["2013-10-04",839586,null,null,1561,17908.98,12908.98,"Skylder"]
[null,null,"Indbetalt",2500,null,null,10408.98,"Skylder"]
["2013-12-15",null,"Indbetalt",2500,null,null,7908.98,{"$f":"IF(G8>0,\"Skylder\",IF(G8<0,\"Tilgode\",\"Tilgode\"))","v":"Skylder"}]
["2014-01-03",null,"Indbetalt",5000,null,null,{"$f":"G8-D9+F9","v":2908.9799999999996},{"$f":"IF(G9>0,\"Skylder\",IF(G9<0,\"Tilgode\",\"Tilgode\"))","v":"Skylder"}]
["2014-02-03",null,"Indbetalt",3000,null,null,{"$f":"G9-D10+F10","v":-91.020000000000437},"Tilgode"]
["2014-02-28",906027,null,null,1000,11257.25,{"$f":"G10-D11+F11","v":11166.23},"Skylder"]
["2014-03-03",null,"Indbetalt",3000,null,null,{"$f":"G11-D12+F12","v":8166.23},"Skylder"]
["2014-04-02",null,"Indbetalt",2500,null,null,5666.23,"Skylder"]
["2014-05-02",null,"Indbetalt",2440,null,null,3226.2299999999996,"Skylder"]
["2014-06-03",null,"Indbetalt",2440,null,null,786.22999999999956,"Skylder"]
["2014-07-02",null,"Indbetalt",2440,null,null,-1653.7700000000004,"Tilgode"]
["2014-08-04",null,"Indbetalt",2440,null,null,-4093.7700000000004,"Tilgode"]
["2014-09-02",null,"Indbetalt",2440,null,null,-6533.77,"Tilgode"]
["2014-10-02",null,"Indbetalt",2440,null,null,-8973.77,"Tilgode"]
["2014-11-04",null,"Indbetalt",2440,null,null,-11413.77,"Tilgode"]
["2014-11-21",108117,null,null,1503,15899.11,4485.34,"Skylder"]
["2014-12-02",null,"Indbetalt",2440,null,null,2045.3400000000001,"Skylder"]
["2015-01-05",null,"Indbetalt",1480,null,null,565.34000000000015,"Skylder"]
["2015-02-03",null,"Indbetalt",1480,null,null,-914.65999999999985,"Tilgode"]
["2015-03-03",null,"Indbetalt",1480,null,null,-2394.66,"Tilgode"]
["2015-04-03",null,"Indbetalt",1480,null,null,-3874.66,"Tilgode"]
["2015-04-08",166171,null,null,1493,13768.44,{"$f":"IF(AND(D27=\"\",F27=\"\"),\"\",G26-D27+F27)","v":9893.7800000000007},{"$f":"IF(A27<>\"\",IF(G27>0,\"Skylder\",IF(G27<0,\"Tilgode\",\"Tilgode\")),\"\")","v":"Skylder"}]
["2015-05-01",null,"Indbetalt",1480,null,null,{"$f":"IF(AND(D28=\"\",F28=\"\"),\"\",G27-D28+F28)","v":8413.7800000000007},{"$f":"IF(A28<>\"\",IF(G28>0,\"Skylder\",IF(G28<0,\"Tilgode\",\"Tilgode\")),\"\")","v":"Skylder"}]
["2015-06-01",null,"Indbetalt",1480,null,null,{"$f":"IF(AND(D29=\"\",F29=\"\"),\"\",G28-D29+F29)","v":6933.7800000000007},{"$f":"IF(A29<>\"\",IF(G29>0,\"Skylder\",IF(G29<0,\"Tilgode\",\"Tilgode\")),\"\")","v":"Skylder"}]
["2015-07-01",null,"Indbetalt",2020,null,null,{"$f":"IF(AND(D30=\"\",F30=\"\"),\"\",G29-D30+F30)","v":4913.7800000000007},{"$f":"IF(G30<>\"\",IF(G30>0,\"Skylder\",IF(G30<0,\"Tilgode\",\"Tilgode\")),\"\")","v":"Skylder"}]
["2015-08-03",null,"Indbetalt",2020,null,null,2893.7800000000007,"Skylder"]
["2015-09-01",null,"Indbetalt",2020,null,null,873.78000000000065,"Skylder"]
[null,null,null,null,null,null,"",""]
[null,null,null,null,null,null,"",""]
[null,null,null,null,null,null,"",""]
[null,null,null,null,null,null,"",{"$f":"IF(G36<>\"\",IF(G36>0,\"Skylder\",IF(G36<0,\"Tilgode\",\"Tilgode\")),\"\")","v":""}]
[null,null,null,null,null,null,null,""]
[null,null,null,null,null,null,null,""]
[null,null,null,null,null,null,{"$f":"IF(AND(D39=\"\",F39=\"\"),\"\",G38-D39+F39)","v":""},{"$f":"IF(G39<>\"\",IF(G39>0,\"Skylder\",IF(G39<0,\"Tilgode\",\"Tilgode\")),\"\")","v":""}]
[null,null,null,null,null,null,null,""]
[null,null,null,null,null,null,null,""]

{"sheet":"Varmekonto2","index":33,"n_rows":32,"n_cols":8,"rows_kept":32,"cut":false,"hidden":false,"merged":[]}
["Dato","Bilag","Tekst","Indbetaling","Kvantum","Pris","Beløb","Rester/Tilgode"]
["2013-09-23",null,"Saldo ved etablering",null,null,null,0]
["2013-10-01",null,"Indbetaling",5000,null,null,{"$f":"G2-D3+F3","v":-5000},{"$f":"IF(G3>0,\"Skylder\",IF(G3<0,\"Tilgode\",\"Tilgode\"))","v":"Tilgode"}]
["2013-10-04",839586,null,null,1561,17908.98,12908.98,"Skylder"]
[null,null,"Indbetalt",2500,null,null,10408.98,"Skylder"]
["2013-12-15",null,"Indbetalt",2500,null,null,7908.98,{"$f":"IF(G6>0,\"Skylder\",IF(G6<0,\"Tilgode\",\"Tilgode\"))","v":"Skylder"}]
["2014-01-03",null,"Indbetalt",5000,null,null,{"$f":"G6-D7+F7","v":2908.9799999999996},{"$f":"IF(G7>0,\"Skylder\",IF(G7<0,\"Tilgode\",\"Tilgode\"))","v":"Skylder"}]
["2014-02-03",null,"Indbetalt",3000,null,null,{"$f":"G7-D8+F8","v":-91.020000000000437},"Tilgode"]
["2014-02-28",906027,null,null,1000,11257.25,{"$f":"G8-D9+F9","v":11166.23},"Skylder"]
["2014-03-03",null,"Indbetalt",3000,null,null,{"$f":"G9-D10+F10","v":8166.23},"Skylder"]
["2014-04-02",null,"Indbetalt",2500,null,null,5666.23,"Skylder"]
["2014-05-02",null,"Indbetalt",2440,null,null,3226.2299999999996,"Skylder"]
["2014-06-03",null,"Indbetalt",2440,null,null,786.22999999999956,"Skylder"]
["2014-07-02",null,"Indbetalt",2440,null,null,-1653.7700000000004,"Tilgode"]
["2014-08-04",null,"Indbetalt",2440,null,null,-4093.7700000000004,"Tilgode"]
["2014-09-02",null,"Indbetalt",2440,null,null,-6533.77,"Tilgode"]
["2014-10-02",null,"Indbetalt",2440,null,null,-8973.77,"Tilgode"]
["2014-11-04",null,"Indbetalt",2440,null,null,-11413.77,"Tilgode"]
["2014-11-21",108117,null,null,1503,15899.11,4485.34,"Skylder"]
["2014-12-02",null,"Indbetalt",2440,null,null,2045.3400000000001,"Skylder"]
["2015-01-05",null,"Indbetalt",1480,null,null,565.34000000000015,"Skylder"]
["2015-02-03",null,"Indbetalt",1480,null,null,-914.65999999999985,"Tilgode"]
["2015-03-03",null,"Indbetalt",1480,null,null,-2394.66,"Tilgode"]
["2015-04-03",null,"Indbetalt",1480,null,null,-3874.66,"Tilgode"]
["2015-04-08",166171,null,null,1493,13768.44,{"$f":"IF(AND(D25=\"\",F25=\"\"),\"\",G24-D25+F25)","v":9893.7800000000007},{"$f":"IF(A25<>\"\",IF(G25>0,\"Skylder\",IF(G25<0,\"Tilgode\",\"Tilgode\")),\"\")","v":"Skylder"}]
["2015-05-01",null,"Indbetalt",1480,null,null,{"$f":"IF(AND(D26=\"\",F26=\"\"),\"\",G25-D26+F26)","v":8413.7800000000007},{"$f":"IF(A26<>\"\",IF(G26>0,\"Skylder\",IF(G26<0,\"Tilgode\",\"Tilgode\")),\"\")","v":"Skylder"}]
["2015-06-01",null,"Indbetalt",1480,null,null,{"$f":"IF(AND(D27=\"\",F27=\"\"),\"\",G26-D27+F27)","v":6933.7800000000007},{"$f":"IF(A27<>\"\",IF(G27>0,\"Skylder\",IF(G27<0,\"Tilgode\",\"Tilgode\")),\"\")","v":"Skylder"}]
["2015-07-01",null,"Indbetalt",2020,null,null,{"$f":"IF(AND(D28=\"\",F28=\"\"),\"\",G27-D28+F28)","v":4913.7800000000007},{"$f":"IF(G28<>\"\",IF(G28>0,\"Skylder\",IF(G28<0,\"Tilgode\",\"Tilgode\")),\"\")","v":"Skylder"}]
["2015-08-03",null,"Indbetalt",2020,null,null,2893.7800000000007,"Skylder"]
["2015-09-01",null,"Indbetalt",2020,null,null,873.78000000000065,"Skylder"]
["25.09.2015",null,"Indbetalt",2020,null,null,{"$f":"IF(AND(D31=\"\",F31=\"\"),\"\",G30-D31+F31)","v":-1146.2199999999993},"Tilgode"]
["25.09.2015",null,"Indbetalt",1000,null,null,{"$f":"IF(AND(D32=\"\",F32=\"\"),\"\",G31-D32+F32)","v":-2146.2199999999993}]

{"sheet":"Styringtabel","index":34,"n_rows":21,"n_cols":9,"rows_kept":21,"cut":false,"hidden":false,"merged":[]}
["Styringstabel: (indtast i gule felter)"]
[]
["Slutaflæsning af måler 31/12:",null,null,null,null,2014,"Årstal"]
["Slutaflæsning af måler:",null,null,null,null,1240,"Liter"]
["Forventet forbrug i:",null,null,null,{"$f":"F3+1","v":2015},2147,{"$f":"G4","v":"Liter"}]
[]
[]
["Måned","År","%","Forventet forbrug","Deres aflæsning","Påfyldt Liter","Beholdning","Faktisk forbrug"]
["jan",{"$f":"$E$5","v":2015},18.07,{"$f":"$F$5*C9%","v":387.96289999999999},904,null,{"$f":"IF(E9=\"\",\"\",E9+F9)","v":904},{"$f":"IF(E9=0,0,INDIRECT(\"'\"&$E$5&\"'!g11\"))","v":336},{"$f":"F4-E9","v":336}]
["feb",{"$f":"$E$5","v":2015},16.52,354.68439999999998,575,null,575,{"$f":"IF(E10=0,0,INDIRECT(\"'\"&$E$5&\"'!g12\"))","v":329},{"$f":"G9-E10","v":329}]
["mar",2015,15.83,339.87009999999998,276,null,{"$f":"IF(E11=\"\",\"\",E11+F11)","v":276},{"$f":"INDIRECT(\"'\"&$E$5&\"'!g13\")","v":299},{"$f":"IF(E11=0,\"\",G10-E11)","v":299}]
["apr",2015,10.39,223.07330000000002,null,null,{"$f":"IF(E12=\"\",\"\",E12+F12)","v":""},{"$f":"INDIRECT(\"'\"&$E$5&\"'!g14\")","v":218},{"$f":"IF(E12=0,\"\",G11-E12)","v":""}]
["maj",2015,2.72,58.398400000000002,null,null,"",{"$f":"INDIRECT(\"'\"&$E$5&\"'!g15\")","v":150},""]
["jun",2015,0.03,0.64409999999999989,null,null,"",{"$f":"INDIRECT(\"'\"&$E$5&\"'!g16\")","v":46},""]
["jul",2015,0,0,null,null,"",{"$f":"INDIRECT(\"'\"&$E$5&\"'!g17\")","v":33},""]
["aug",2015,0,0,null,null,"",{"$f":"INDIRECT(\"'\"&$E$5&\"'!g18\")","v":7},""]
["sep",2015,1.24,26.622799999999998,null,null,"",{"$f":"INDIRECT(\"'\"&$E$5&\"'!g19\")","v":""},""]
["okt",2015,7.54,161.88379999999998,null,null,"",{"$f":"INDIRECT(\"'\"&$E$5&\"'!g20\")","v":""},""]
["nov",2015,12.01,257.85469999999998,null,null,"",{"$f":"INDIRECT(\"'\"&$E$5&\"'!g21\")","v":""},""]
["dec",2015,15.66,336.22019999999998,null,null,"",{"$f":"INDIRECT(\"'\"&$E$5&\"'!g22\")","v":""},""]
["I alt",null,{"$f":"SUM(C9:C20)","v":100.01},{"$f":"SUM(D9:D20)","v":2147.2147000000004},null,null,null,{"$f":"SUM(H9:H20)","v":1418}]

{"sheet":"Pejletabel1800","index":35,"n_rows":201,"n_cols":2,"rows_kept":201,"cut":false,"hidden":false,"merged":[]}
[]
["cm","liter"]
[0,0]
[0.5,1]
[1,2]
[1.2,3]
[1.5,4]
[1.7,5]
[2,6]
[2.2000000000000002,7]
[2.5,8]
[2.7,9]
[3,10]
[3.2,11]
[3.5,12]
[3.7,13]
[4,14]
[5,22]
[6,29]
[7,37]
[8,45]
[9,53]
[10,62]
[11,71]
[12,81]
[13,91]
[13.2,93.5]
[13.5,96]
[13.7,98.5]
[14,101]
[14.2,103.75]
[14.5,106.5]
[14.7,109.25]
[15,112]
[15.2,114.75]
[15.5,117.5]
[15.7,120.25]
[16,123]
[16.2,125.75]
[16.5,128.5]
[16.7,131.25]
[17,134]
[18,145]
[18.2,148]
[18.5,151]
[18.7,154]
[19,157]
[20,169]
[21,181]
[22,193]
[23,205]
[24,218]
[25,230]
[26,243]
[27,256]
[28,269]
[29,282]
[30,295]
[30.2,298]
[30.5,301]
[30.7,304]
[31,308]
[32,321]
[33,335]
[34,348]
[35,361]
[36,375]
[37,388]
[38,401]
[39,414]
[40,427]
[41,440]
[42,454]
[43,467]
[44,480]
[44.2,483]
[44.5,486]
[44.7,489]
[45,493]
[46,506]
[47,519]
[48,532]
[48.2,535]
[48.5,539]
[48.7,542]
[49,546]
[50,559]
[50.2,562]
[50.5,565]
[50.7,568]
[51,572]
[52,585]
[53,598]
[53.2,602]
[53.5,605]
[53.7,608]
[54,611]
[55,625]
[56,638]
[57,651]
[58,664]
[58.2,666]
[58.5,670]
[58.7,674]
[59,677]
[60,690]
[61,703]
[62,717]
[63,730]
[64,743]
[65,756]
[66,769]
[67,782]
[68,796]
[69,809]
[70,822]
[71,835]
[72,848]
[73,861]
[74,874]
[75,888]
[75.2,891]
[75.5,894.5]
[75.7,897.5]
[76,901]
[77,914]
[78,927]
[79,940]
[80,953]
[81,966]
[82,980]
[83,993]
[84,1006]
[84.2,1009]
[84.5,1013]
[84.7,1016]
[85,1019]
[86,1032]
[87,1045]
[88,1059]
[89,1072]
[90,1085]
[91,1098]
[92,1111]
[93,1124]
[94,1137]
[95,1151]
[96,1164]
[97,1177]
[98,1190]
[99,1203]
[100,1216]
[101,1230]
[102,1243]
[103,1256]
[104,1269]
[105,1282]
[106,1295]
[107,1308]
[108,1322]
[109,1335]
[110,1348]
[111,1361]
[112,1374]
[113,1387]
[114,1401]
[115,1414]
[116,1427]
[117,1441]
[118,1454]
[119,1467]
[120,1480]
[121,1493]
[122,1506]
[123,1519]
[124,1532]
[125,1545]
[126,1557]
[127,1570]
[128,1582]
[129,1594]
[130,1606]
[131,1618]
[132,1630]
[133,1641]
[134,1652]
[135,1663]
[136,1674]
[137,1684]
[138,1694]
[139,1704]
[140,1713]
[141,1722]
[142,1730]
[143,1738]
[144,1746]
[145,1753]
[146,1759]
[147,1765]
[148,1769]
[149,1773]

{"sheet":"Styringtabel EL","index":36,"n_rows":21,"n_cols":12,"rows_kept":21,"cut":false,"hidden":false,"merged":[[2,0,2,2]]}
["Styringstabel: (indtast i gule felter)"]
[]
["Slutaflæsning af måler:",null,null,null,null,2015,"Årstal"]
["Slutaflæsning af måler:",null,null,{"$f":"'2015'!E28","v":"2014-12-31"},null,28090,"kWh"]
["Forventet forbrug i:",null,null,null,{"$f":"F3+1","v":2016},4768,{"$f":"G4","v":"kWh"}]
[]
[]
["Måned","År","%","Forventet forbrug","Deres aflæsning",null,null,"Faktisk forbrug"]
[{"$f":"VLOOKUP(MONTH('Beregning el'!F27),'Beregning el'!B3:F14,2,0)","v":"Januar"},{"$f":"YEAR('Beregning el'!F$27)","v":2016},{"$f":"VLOOKUP(MONTH('Beregning el'!$F$27),'Beregning el'!$B$3:$F$14,5,0)","v":10},{"$f":"$F$5*C9%","v":476.8},{"$f":"INDIRECT(\"'\"&$E$5&\"'!f29\")","v":0},null,null,{"$f":"IF(E9=0,0,INDIRECT(\"'\"&$E$5&\"'!g29\"))","v":0},{"$f":"E9-F4","v":-28090},"f29",null,{"$f":"MONTH('Beregning el'!F27)","v":1}]
[{"$f":"VLOOKUP(MONTH('Beregning el'!$G$27),'Beregning el'!B3:F14,2,0)","v":"Februar"},{"$f":"YEAR('Beregning el'!G$27)","v":2016},{"$f":"VLOOKUP(MONTH('Beregning el'!$G$27),'Beregning el'!$B$3:$F$14,5,0)","v":9},429.12,{"$f":"INDIRECT(\"'\"&$E$5&\"'!f30\")","v":0},null,null,{"$f":"IF(E10=0,0,INDIRECT(\"'\"&$E$5&\"'!g30\"))","v":0},{"$f":"IF(E10=0,\"\",E10-E9)","v":""},"f30"]
[{"$f":"VLOOKUP(MONTH('Beregning el'!$H$27),'Beregning el'!B3:F14,2,0)","v":"Marts"},{"$f":"YEAR('Beregning el'!I$27)","v":2016},{"$f":"VLOOKUP(MONTH('Beregning el'!$H$27),'Beregning el'!$B$3:$F$14,5,0)","v":9},429.12,{"$f":"INDIRECT(\"'\"&$E$5&\"'!f31\")","v":0},null,null,{"$f":"INDIRECT(\"'\"&$E$5&\"'!g31\")","v":""},{"$f":"IF(E11=0,\"\",E11-E10)","v":""},"f31"]
[{"$f":"VLOOKUP(MONTH('Beregning el'!$I$27),'Beregning el'!B3:F14,2,0)","v":"April"},{"$f":"YEAR('Beregning el'!H$27)","v":2016},{"$f":"VLOOKUP(MONTH('Beregning el'!$I$27),'Beregning el'!$B$3:$F$14,5,0)","v":8},381.44,{"$f":"INDIRECT(\"'\"&$E$5&\"'!f32\")","v":0},null,null,{"$f":"INDIRECT(\"'\"&$E$5&\"'!g32\")","v":""},{"$f":"IF(E12=0,\"\",E12-E11)","v":""},"f32"]
[{"$f":"VLOOKUP(MONTH('Beregning el'!$J$27),'Beregning el'!$B$3:$F$14,2,0)","v":"Maj "},{"$f":"YEAR('Beregning el'!J$27)","v":2016},{"$f":"VLOOKUP(MONTH('Beregning el'!$J$27),'Beregning el'!$B$3:$F$14,5,0)","v":8},381.44,{"$f":"INDIRECT(\"'\"&$E$5&\"'!f33\")","v":0},null,null,{"$f":"INDIRECT(\"'\"&$E$5&\"'!g33\")","v":""},"","f33"]
[{"$f":"VLOOKUP(MONTH('Beregning el'!$K$27),'Beregning el'!$B$3:$F$14,2,0)","v":"Juni"},{"$f":"YEAR('Beregning el'!K$27)","v":2016},{"$f":"VLOOKUP(MONTH('Beregning el'!$K$27),'Beregning el'!$B$3:$F$14,5,0)","v":7},333.76000000000005,{"$f":"'2015'!F34","v":32721},null,null,{"$f":"INDIRECT(\"'\"&$E$5&\"'!g34\")","v":""},32721,"f34"]
[{"$f":"VLOOKUP(MONTH('Beregning el'!$L$27),'Beregning el'!$B$3:$F$14,2,0)","v":"Juli"},{"$f":"YEAR('Beregning el'!L$27)","v":2016},{"$f":"VLOOKUP(MONTH('Beregning el'!$L$27),'Beregning el'!$B$3:$F$14,5,0)","v":6},286.08,{"$f":"'2015'!F35","v":33050},null,null,{"$f":"INDIRECT(\"'\"&$E$5&\"'!g36\")","v":""},329,"f35"]
[{"$f":"VLOOKUP(MONTH('Beregning el'!$M$27),'Beregning el'!$B$3:$F$14,2,0)","v":"August"},{"$f":"YEAR('Beregning el'!M$27)","v":2016},{"$f":"VLOOKUP(MONTH('Beregning el'!$M$27),'Beregning el'!$B$3:$F$14,5,0)","v":7},333.76000000000005,{"$f":"'2015'!F36","v":33354},null,null,{"$f":"INDIRECT(\"'\"&$E$5&\"'!g35\")","v":""},304,"f36"]
[{"$f":"VLOOKUP(MONTH('Beregning el'!$N$27),'Beregning el'!$B$3:$F$14,2,0)","v":"September"},{"$f":"YEAR('Beregning el'!N$27)","v":2016},{"$f":"VLOOKUP(MONTH('Beregning el'!$N$27),'Beregning el'!$B$3:$F$14,5,0)","v":7},333.76000000000005,{"$f":"'2015'!F37","v":""},null,null,{"$f":"INDIRECT(\"'\"&$E$5&\"'!g37\")","v":""},{"$error":"#VALUE!"},"f37"]
[{"$f":"VLOOKUP(MONTH('Beregning el'!$O$27),'Beregning el'!$B$3:$F$14,2,0)","v":"Oktober"},{"$f":"YEAR('Beregning el'!O$27)","v":2016},{"$f":"VLOOKUP(MONTH('Beregning el'!$O$27),'Beregning el'!$B$3:$F$14,5,0)","v":9},429.12,{"$f":"'2015'!F38","v":0},null,null,{"$f":"INDIRECT(\"'\"&$E$5&\"'!g38\")","v":""},"","f38"]
[{"$f":"VLOOKUP(MONTH('Beregning el'!$P$27),'Beregning el'!$B$3:$F$14,2,0)","v":"November"},{"$f":"YEAR('Beregning el'!Q$27)","v":2016},{"$f":"VLOOKUP(MONTH('Beregning el'!$P$27),'Beregning el'!$B$3:$F$14,5,0)","v":9},429.12,{"$f":"'2015'!F39","v":0},null,null,{"$f":"INDIRECT(\"'\"&$E$5&\"'!g39\")","v":""},"","f39"]
[{"$f":"VLOOKUP(MONTH('Beregning el'!$Q$27),'Beregning el'!$B$3:$F$14,2,0)","v":"December"},{"$f":"YEAR('Beregning el'!Q$27)","v":2016},{"$f":"VLOOKUP(MONTH('Beregning el'!Q27),'Beregning el'!$B$3:$F$14,5,0)","v":11},524.48,{"$f":"'2015'!F40","v":0},null,null,{"$f":"INDIRECT(\"'\"&$E$5&\"'!g40\")","v":""},"","f40"]
["I alt",null,{"$f":"SUM(C9:C20)","v":100},{"$f":"SUM(D9:D20)","v":4768},null,null,null,{"$f":"SUM(H9:H20)","v":0}]

{"sheet":"Beregning el","index":37,"n_rows":65536,"n_cols":18,"rows_kept":65536,"cut":false,"hidden":false,"merged":[]}
[null,"Måned",null,"Dage\nnormal","Dage\nskudår","% forbrug pr. måned"]
[]
[null,5,"Maj ",31,31,8]
[null,6,"Juni",30,30,7]
[null,7,"Juli",31,31,6]
[null,8,"August",31,31,7]
[null,9,"September",30,30,7]
[null,10,"Oktober",31,31,9]
[null,11,"November",30,30,9]
[null,12,"December",31,31,11]
[null,1,"Januar",31,31,10]
[null,2,"Februar",28,29,9]
[null,3,"Marts",31,31,9]
[null,4,"April",30,30,8]
[]
[]
[]
[null,"Startdato",null,null,{"$f":"INDIRECT(\"'\"&'Styringtabel EL'!E5&\"'!e28\")","v":"2015-12-31"},null,null,null,null,null,null,null,null,null,null,null,{"$f":"IF(SUM(E30:P30)=1,E18+366,E18+365)","v":"2016-12-31"}]
[null,"Dag",null,null,{"$f":"DAY(E18)","v":31}]
[null,"Måned",null,null,{"$f":"MONTH(E18)","v":12}]
[null,"År",null,null,{"$f":"YEAR(E18)","v":2015}]
[null,"Skudår"]
[null,"Dage"]
[]
[]
[null,null,null,null,1,2,3,4,5,6,7,8,9,10,11,12,13]
[null,"Fradato",null,null,{"$f":"E18-E19+1","v":"2015-12-01"},{"$f":"E28+1","v":"2016-01-01"},{"$f":"F28+1","v":"2016-02-01"},{"$f":"G28+1","v":"2016-03-01"},"2016-04-01","2016-05-01","2016-06-01","2016-07-01","2016-08-01","2016-09-01","2016-10-01","2016-11-01","2016-12-01"]
[null,"Tildato",null,null,{"$f":"E27+VLOOKUP(MONTH(E27),$B3:$F14,3,FALSE)+E30-1","v":"2015-12-31"},"2016-01-31","2016-02-29","2016-03-31","2016-04-30","2016-05-31","2016-06-30","2016-07-31","2016-08-31","2016-09-30","2016-10-31","2016-11-30","2016-12-31"]
[null,"Antal dage",null,null,{"$f":"E28-E27+1","v":31},{"$f":"F28-F27+1","v":31},{"$f":"G28-G27+1","v":29},31,30,31,30,31,31,30,31,30,31]
[null,"Skudårsmåned",null,null,{"$f":"IF(AND(MONTH(E27)=2,OR(YEAR(E27)=2008,YEAR(E27)=2012,YEAR(E27)=2016,YEAR(E27)=2020)),1,0)","v":0},{"$f":"IF(AND(MONTH(F27)=2,OR(YEAR(F27)=2008,YEAR(F27)=2012,YEAR(F27)=2016,YEAR(F27)=2020)),1,0)","v":0},{"$f":"IF(AND(MONTH(G27)=2,OR(YEAR(G27)=2008,YEAR(G27)=2012,YEAR(G27)=2016,YEAR(G27)=2020)),1,0)","v":1},0,0,0,0,0,0,0,0,0,0]
[]
[]
[]
[null,"Månedens %-del af år",null,null,{"$f":"VLOOKUP(MONTH(E27),$B$3:$F$14,4,0)/100","v":0.31},0.31,0.28999999999999998,0.31,0.3,0.31,0.3,0.31,0.31,0.3,0.31,0.3,0.31]
[]
[null,"Dage i periode:"]
[]
["Afl",null,"Fra","Til",1,2,3,4,5,6,7,8,9,10,11,12,13,"ÅTD dage"]
[0,null,null,{"$f":"E18","v":"2015-12-31"}]
[1,null,{"$f":"D$39","v":"2015-12-31"},{"$f":"'2015'!E29","v":"2015-01-31"},{"$f":"IF($D40=\"\",\"\",IF(AND($C40<=E$28,$D40<=E$28),$D40-$C40,IF($C40<=E$28,E$28-$C40,0)))","v":-334},{"$f":"IF(D40=\"\",\"\",IF(AND($C40<=F$28,$D40<=F$28),$D40-$C40,IF($C40<=F$28,F$28-$C40,0))-SUM($E40:E40))","v":0},{"$f":"IF(D40=\"\",\"\",IF(AND($C40<=G$28,$D40<=G$28),$D40-$C40,IF($C40<=G$28,G$28-$C40,0))-SUM($E40:F40))","v":0},{"$f":"IF(D40=\"\",\"\",IF(AND($C40<=H$28,$D40<=H$28),$D40-$C40,IF($C40<=H$28,H$28-$C40,0))-SUM($E40:G40))","v":0},{"$f":"IF(D40=\"\",\"\",IF(AND($C40<=I$28,$D40<=I$28),$D40-$C40,IF($C40<=I$28,I$28-$C40,0))-SUM($E40:H40))","v":0},{"$f":"IF(D40=\"\",\"\",IF(AND($C40<=J$28,$D40<=J$28),$D40-$C40,IF($C40<=J$28,J$28-$C40,0))-SUM($E40:I40))","v":0},{"$f":"IF(D40=\"\",\"\",IF(AND($C40<=K$28,$D40<=K$28),$D40-$C40,IF($C40<=K$28,K$28-$C40,0))-SUM($E40:J40))","v":0},{"$f":"IF(D40=\"\",\"\",IF(AND($C40<=L$28,$D40<=L$28),$D40-$C40,IF($C40<=L$28,L$28-$C40,0))-SUM($E40:K40))","v":0},{"$f":"IF(D40=\"\",\"\",IF(AND($C40<=M$28,$D40<=M$28),$D40-$C40,IF($C40<=M$28,M$28-$C40,0))-SUM($E40:L40))","v":0},{"$f":"IF(D40=\"\",\"\",IF(AND($C40<=N$28,$D40<=N$28),$D40-$C40,IF($C40<=N$28,N$28-$C40,0))-SUM($E40:M40))","v":0},{"$f":"IF(D40=\"\",\"\",IF(AND($C40<=O$28,$D40<=O$28),$D40-$C40,IF($C40<=O$28,O$28-$C40,0))-SUM($E40:N40))","v":0},{"$f":"IF(D40=\"\",\"\",IF(AND($C40<=P$28,$D40<=P$28),$D40-$C40,IF($C40<=P$28,P$28-$C40,0))-SUM($E40:O40))","v":0},{"$f":"IF(D40=\"\",\"\",IF(D40<Q$27,0,IF(MONTH(D40)=MONTH(Q$27),MIN(DAY(D40),DAY(Q$18)),DAY(Q$18))))","v":0},{"$f":"SUM(E40:Q40)","v":-334}]
[2,null,"2015-12-31",{"$f":"'2015'!E30","v":"2015-02-28"},{"$f":"IF($D41=\"\",\"\",IF(AND($C41<=E$28,$D41<=E$28),$D41-$C41,IF($C41<=E$28,E$28-$C41,0)))","v":-306},{"$f":"IF(D41=\"\",\"\",IF(AND($C41<=F$28,$D41<=F$28),$D41-$C41,IF($C41<=F$28,F$28-$C41,0))-SUM($E41:E41))","v":0},{"$f":"IF(D41=\"\",\"\",IF(AND($C41<=G$28,$D41<=G$28),$D41-$C41,IF($C41<=G$28,G$28-$C41,0))-SUM($E41:F41))","v":0},{"$f":"IF(D41=\"\",\"\",IF(AND($C41<=H$28,$D41<=H$28),$D41-$C41,IF($C41<=H$28,H$28-$C41,0))-SUM($E41:G41))","v":0},{"$f":"IF(D41=\"\",\"\",IF(AND($C41<=I$28,$D41<=I$28),$D41-$C41,IF($C41<=I$28,I$28-$C41,0))-SUM($E41:H41))","v":0},{"$f":"IF(D41=\"\",\"\",IF(AND($C41<=J$28,$D41<=J$28),$D41-$C41,IF($C41<=J$28,J$28-$C41,0))-SUM($E41:I41))","v":0},{"$f":"IF(D41=\"\",\"\",IF(AND($C41<=K$28,$D41<=K$28),$D41-$C41,IF($C41<=K$28,K$28-$C41,0))-SUM($E41:J41))","v":0},{"$f":"IF(D41=\"\",\"\",IF(AND($C41<=L$28,$D41<=L$28),$D41-$C41,IF($C41<=L$28,L$28-$C41,0))-SUM($E41:K41))","v":0},{"$f":"IF(D41=\"\",\"\",IF(AND($C41<=M$28,$D41<=M$28),$D41-$C41,IF($C41<=M$28,M$28-$C41,0))-SUM($E41:L41))","v":0},{"$f":"IF(D41=\"\",\"\",IF(AND($C41<=N$28,$D41<=N$28),$D41-$C41,IF($C41<=N$28,N$28-$C41,0))-SUM($E41:M41))","v":0},{"$f":"IF(D41=\"\",\"\",IF(AND($C41<=O$28,$D41<=O$28),$D41-$C41,IF($C41<=O$28,O$28-$C41,0))-SUM($E41:N41))","v":0},{"$f":"IF(D41=\"\",\"\",IF(AND($C41<=P$28,$D41<=P$28),$D41-$C41,IF($C41<=P$28,P$28-$C41,0))-SUM($E41:O41))","v":0},0,-306]
[3,null,"2015-12-31",{"$f":"'2015'!E31","v":"2015-03-31"},-275,{"$f":"IF(D42=\"\",\"\",IF(AND($C42<=F$28,$D42<=F$28),$D42-$C42,IF($C42<=F$28,F$28-$C42,0))-SUM($E42:E42))","v":0},{"$f":"IF(D42=\"\",\"\",IF(AND($C42<=G$28,$D42<=G$28),$D42-$C42,IF($C42<=G$28,G$28-$C42,0))-SUM($E42:F42))","v":0},{"$f":"IF(D42=\"\",\"\",IF(AND($C42<=H$28,$D42<=H$28),$D42-$C42,IF($C42<=H$28,H$28-$C42,0))-SUM($E42:G42))","v":0},{"$f":"IF(D42=\"\",\"\",IF(AND($C42<=I$28,$D42<=I$28),$D42-$C42,IF($C42<=I$28,I$28-$C42,0))-SUM($E42:H42))","v":0},{"$f":"IF(D42=\"\",\"\",IF(AND($C42<=J$28,$D42<=J$28),$D42-$C42,IF($C42<=J$28,J$28-$C42,0))-SUM($E42:I42))","v":0},{"$f":"IF(D42=\"\",\"\",IF(AND($C42<=K$28,$D42<=K$28),$D42-$C42,IF($C42<=K$28,K$28-$C42,0))-SUM($E42:J42))","v":0},{"$f":"IF(D42=\"\",\"\",IF(AND($C42<=L$28,$D42<=L$28),$D42-$C42,IF($C42<=L$28,L$28-$C42,0))-SUM($E42:K42))","v":0},{"$f":"IF(D42=\"\",\"\",IF(AND($C42<=M$28,$D42<=M$28),$D42-$C42,IF($C42<=M$28,M$28-$C42,0))-SUM($E42:L42))","v":0},{"$f":"IF(D42=\"\",\"\",IF(AND($C42<=N$28,$D42<=N$28),$D42-$C42,IF($C42<=N$28,N$28-$C42,0))-SUM($E42:M42))","v":0},{"$f":"IF(D42=\"\",\"\",IF(AND($C42<=O$28,$D42<=O$28),$D42-$C42,IF($C42<=O$28,O$28-$C42,0))-SUM($E42:N42))","v":0},{"$f":"IF(D42=\"\",\"\",IF(AND($C42<=P$28,$D42<=P$28),$D42-$C42,IF($C42<=P$28,P$28-$C42,0))-SUM($E42:O42))","v":0},0,-275]
[4,null,"2015-12-31",{"$f":"'2015'!E32","v":"2015-04-30"},-245,{"$f":"IF(D43=\"\",\"\",IF(AND($C43<=F$28,$D43<=F$28),$D43-$C43,IF($C43<=F$28,F$28-$C43,0))-SUM($E43:E43))","v":0},{"$f":"IF(D43=\"\",\"\",IF(AND($C43<=G$28,$D43<=G$28),$D43-$C43,IF($C43<=G$28,G$28-$C43,0))-SUM($E43:F43))","v":0},{"$f":"IF(D43=\"\",\"\",IF(AND($C43<=H$28,$D43<=H$28),$D43-$C43,IF($C43<=H$28,H$28-$C43,0))-SUM($E43:G43))","v":0},{"$f":"IF(D43=\"\",\"\",IF(AND($C43<=I$28,$D43<=I$28),$D43-$C43,IF($C43<=I$28,I$28-$C43,0))-SUM($E43:H43))","v":0},{"$f":"IF(D43=\"\",\"\",IF(AND($C43<=J$28,$D43<=J$28),$D43-$C43,IF($C43<=J$28,J$28-$C43,0))-SUM($E43:I43))","v":0},{"$f":"IF(D43=\"\",\"\",IF(AND($C43<=K$28,$D43<=K$28),$D43-$C43,IF($C43<=K$28,K$28-$C43,0))-SUM($E43:J43))","v":0},{"$f":"IF(D43=\"\",\"\",IF(AND($C43<=L$28,$D43<=L$28),$D43-$C43,IF($C43<=L$28,L$28-$C43,0))-SUM($E43:K43))","v":0},{"$f":"IF(D43=\"\",\"\",IF(AND($C43<=M$28,$D43<=M$28),$D43-$C43,IF($C43<=M$28,M$28-$C43,0))-SUM($E43:L43))","v":0},{"$f":"IF(D43=\"\",\"\",IF(AND($C43<=N$28,$D43<=N$28),$D43-$C43,IF($C43<=N$28,N$28-$C43,0))-SUM($E43:M43))","v":0},{"$f":"IF(D43=\"\",\"\",IF(AND($C43<=O$28,$D43<=O$28),$D43-$C43,IF($C43<=O$28,O$28-$C43,0))-SUM($E43:N43))","v":0},{"$f":"IF(D43=\"\",\"\",IF(AND($C43<=P$28,$D43<=P$28),$D43-$C43,IF($C43<=P$28,P$28-$C43,0))-SUM($E43:O43))","v":0},0,-245]
[5,null,"2015-12-31",{"$f":"'2015'!E33","v":"2015-05-31"},-214,{"$f":"IF(D44=\"\",\"\",IF(AND($C44<=F$28,$D44<=F$28),$D44-$C44,IF($C44<=F$28,F$28-$C44,0))-SUM($E44:E44))","v":0},{"$f":"IF(D44=\"\",\"\",IF(AND($C44<=G$28,$D44<=G$28),$D44-$C44,IF($C44<=G$28,G$28-$C44,0))-SUM($E44:F44))","v":0},{"$f":"IF(D44=\"\",\"\",IF(AND($C44<=H$28,$D44<=H$28),$D44-$C44,IF($C44<=H$28,H$28-$C44,0))-SUM($E44:G44))","v":0},{"$f":"IF(D44=\"\",\"\",IF(AND($C44<=I$28,$D44<=I$28),$D44-$C44,IF($C44<=I$28,I$28-$C44,0))-SUM($E44:H44))","v":0},{"$f":"IF(D44=\"\",\"\",IF(AND($C44<=J$28,$D44<=J$28),$D44-$C44,IF($C44<=J$28,J$28-$C44,0))-SUM($E44:I44))","v":0},{"$f":"IF(D44=\"\",\"\",IF(AND($C44<=K$28,$D44<=K$28),$D44-$C44,IF($C44<=K$28,K$28-$C44,0))-SUM($E44:J44))","v":0},{"$f":"IF(D44=\"\",\"\",IF(AND($C44<=L$28,$D44<=L$28),$D44-$C44,IF($C44<=L$28,L$28-$C44,0))-SUM($E44:K44))","v":0},{"$f":"IF(D44=\"\",\"\",IF(AND($C44<=M$28,$D44<=M$28),$D44-$C44,IF($C44<=M$28,M$28-$C44,0))-SUM($E44:L44))","v":0},{"$f":"IF(D44=\"\",\"\",IF(AND($C44<=N$28,$D44<=N$28),$D44-$C44,IF($C44<=N$28,N$28-$C44,0))-SUM($E44:M44))","v":0},{"$f":"IF(D44=\"\",\"\",IF(AND($C44<=O$28,$D44<=O$28),$D44-$C44,IF($C44<=O$28,O$28-$C44,0))-SUM($E44:N44))","v":0},{"$f":"IF(D44=\"\",\"\",IF(AND($C44<=P$28,$D44<=P$28),$D44-$C44,IF($C44<=P$28,P$28-$C44,0))-SUM($E44:O44))","v":0},0,-214]
[6,null,"2015-12-31",{"$f":"'2015'!E34","v":"2015-06-30"},-184,{"$f":"IF(D45=\"\",\"\",IF(AND($C45<=F$28,$D45<=F$28),$D45-$C45,IF($C45<=F$28,F$28-$C45,0))-SUM($E45:E45))","v":0},{"$f":"IF(D45=\"\",\"\",IF(AND($C45<=G$28,$D45<=G$28),$D45-$C45,IF($C45<=G$28,G$28-$C45,0))-SUM($E45:F45))","v":0},{"$f":"IF(D45=\"\",\"\",IF(AND($C45<=H$28,$D45<=H$28),$D45-$C45,IF($C45<=H$28,H$28-$C45,0))-SUM($E45:G45))","v":0},{"$f":"IF(D45=\"\",\"\",IF(AND($C45<=I$28,$D45<=I$28),$D45-$C45,IF($C45<=I$28,I$28-$C45,0))-SUM($E45:H45))","v":0},{"$f":"IF(D45=\"\",\"\",IF(AND($C45<=J$28,$D45<=J$28),$D45-$C45,IF($C45<=J$28,J$28-$C45,0))-SUM($E45:I45))","v":0},{"$f":"IF(D45=\"\",\"\",IF(AND($C45<=K$28,$D45<=K$28),$D45-$C45,IF($C45<=K$28,K$28-$C45,0))-SUM($E45:J45))","v":0},{"$f":"IF(D45=\"\",\"\",IF(AND($C45<=L$28,$D45<=L$28),$D45-$C45,IF($C45<=L$28,L$28-$C45,0))-SUM($E45:K45))","v":0},{"$f":"IF(D45=\"\",\"\",IF(AND($C45<=M$28,$D45<=M$28),$D45-$C45,IF($C45<=M$28,M$28-$C45,0))-SUM($E45:L45))","v":0},{"$f":"IF(D45=\"\",\"\",IF(AND($C45<=N$28,$D45<=N$28),$D45-$C45,IF($C45<=N$28,N$28-$C45,0))-SUM($E45:M45))","v":0},{"$f":"IF(D45=\"\",\"\",IF(AND($C45<=O$28,$D45<=O$28),$D45-$C45,IF($C45<=O$28,O$28-$C45,0))-SUM($E45:N45))","v":0},{"$f":"IF(D45=\"\",\"\",IF(AND($C45<=P$28,$D45<=P$28),$D45-$C45,IF($C45<=P$28,P$28-$C45,0))-SUM($E45:O45))","v":0},0,-184]
[7,null,"2015-12-31",{"$f":"'2015'!E35","v":"2015-07-31"},-153,{"$f":"IF(D46=\"\",\"\",IF(AND($C46<=F$28,$D46<=F$28),$D46-$C46,IF($C46<=F$28,F$28-$C46,0))-SUM($E46:E46))","v":0},{"$f":"IF(D46=\"\",\"\",IF(AND($C46<=G$28,$D46<=G$28),$D46-$C46,IF($C46<=G$28,G$28-$C46,0))-SUM($E46:F46))","v":0},{"$f":"IF(D46=\"\",\"\",IF(AND($C46<=H$28,$D46<=H$28),$D46-$C46,IF($C46<=H$28,H$28-$C46,0))-SUM($E46:G46))","v":0},{"$f":"IF(D46=\"\",\"\",IF(AND($C46<=I$28,$D46<=I$28),$D46-$C46,IF($C46<=I$28,I$28-$C46,0))-SUM($E46:H46))","v":0},{"$f":"IF(D46=\"\",\"\",IF(AND($C46<=J$28,$D46<=J$28),$D46-$C46,IF($C46<=J$28,J$28-$C46,0))-SUM($E46:I46))","v":0},{"$f":"IF(D46=\"\",\"\",IF(AND($C46<=K$28,$D46<=K$28),$D46-$C46,IF($C46<=K$28,K$28-$C46,0))-SUM($E46:J46))","v":0},{"$f":"IF(D46=\"\",\"\",IF(AND($C46<=L$28,$D46<=L$28),$D46-$C46,IF($C46<=L$28,L$28-$C46,0))-SUM($E46:K46))","v":0},{"$f":"IF(D46=\"\",\"\",IF(AND($C46<=M$28,$D46<=M$28),$D46-$C46,IF($C46<=M$28,M$28-$C46,0))-SUM($E46:L46))","v":0},{"$f":"IF(D46=\"\",\"\",IF(AND($C46<=N$28,$D46<=N$28),$D46-$C46,IF($C46<=N$28,N$28-$C46,0))-SUM($E46:M46))","v":0},{"$f":"IF(D46=\"\",\"\",IF(AND($C46<=O$28,$D46<=O$28),$D46-$C46,IF($C46<=O$28,O$28-$C46,0))-SUM($E46:N46))","v":0},{"$f":"IF(D46=\"\",\"\",IF(AND($C46<=P$28,$D46<=P$28),$D46-$C46,IF($C46<=P$28,P$28-$C46,0))-SUM($E46:O46))","v":0},0,-153]
[8,null,"2015-12-31",{"$f":"'2015'!E36","v":"2015-08-31"},-122,{"$f":"IF(D47=\"\",\"\",IF(AND($C47<=F$28,$D47<=F$28),$D47-$C47,IF($C47<=F$28,F$28-$C47,0))-SUM($E47:E47))","v":0},{"$f":"IF(D47=\"\",\"\",IF(AND($C47<=G$28,$D47<=G$28),$D47-$C47,IF($C47<=G$28,G$28-$C47,0))-SUM($E47:F47))","v":0},{"$f":"IF(D47=\"\",\"\",IF(AND($C47<=H$28,$D47<=H$28),$D47-$C47,IF($C47<=H$28,H$28-$C47,0))-SUM($E47:G47))","v":0},{"$f":"IF(D47=\"\",\"\",IF(AND($C47<=I$28,$D47<=I$28),$D47-$C47,IF($C47<=I$28,I$28-$C47,0))-SUM($E47:H47))","v":0},{"$f":"IF(D47=\"\",\"\",IF(AND($C47<=J$28,$D47<=J$28),$D47-$C47,IF($C47<=J$28,J$28-$C47,0))-SUM($E47:I47))","v":0},{"$f":"IF(D47=\"\",\"\",IF(AND($C47<=K$28,$D47<=K$28),$D47-$C47,IF($C47<=K$28,K$28-$C47,0))-SUM($E47:J47))","v":0},{"$f":"IF(D47=\"\",\"\",IF(AND($C47<=L$28,$D47<=L$28),$D47-$C47,IF($C47<=L$28,L$28-$C47,0))-SUM($E47:K47))","v":0},{"$f":"IF(D47=\"\",\"\",IF(AND($C47<=M$28,$D47<=M$28),$D47-$C47,IF($C47<=M$28,M$28-$C47,0))-SUM($E47:L47))","v":0},{"$f":"IF(D47=\"\",\"\",IF(AND($C47<=N$28,$D47<=N$28),$D47-$C47,IF($C47<=N$28,N$28-$C47,0))-SUM($E47:M47))","v":0},{"$f":"IF(D47=\"\",\"\",IF(AND($C47<=O$28,$D47<=O$28),$D47-$C47,IF($C47<=O$28,O$28-$C47,0))-SUM($E47:N47))","v":0},{"$f":"IF(D47=\"\",\"\",IF(AND($C47<=P$28,$D47<=P$28),$D47-$C47,IF($C47<=P$28,P$28-$C47,0))-SUM($E47:O47))","v":0},0,-122]
[9,null,"2015-12-31",{"$f":"'2015'!E37","v":"2015-09-30"},-92,{"$f":"IF(D48=\"\",\"\",IF(AND($C48<=F$28,$D48<=F$28),$D48-$C48,IF($C48<=F$28,F$28-$C48,0))-SUM($E48:E48))","v":0},{"$f":"IF(D48=\"\",\"\",IF(AND($C48<=G$28,$D48<=G$28),$D48-$C48,IF($C48<=G$28,G$28-$C48,0))-SUM($E48:F48))","v":0},{"$f":"IF(D48=\"\",\"\",IF(AND($C48<=H$28,$D48<=H$28),$D48-$C48,IF($C48<=H$28,H$28-$C48,0))-SUM($E48:G48))","v":0},{"$f":"IF(D48=\"\",\"\",IF(AND($C48<=I$28,$D48<=I$28),$D48-$C48,IF($C48<=I$28,I$28-$C48,0))-SUM($E48:H48))","v":0},{"$f":"IF(D48=\"\",\"\",IF(AND($C48<=J$28,$D48<=J$28),$D48-$C48,IF($C48<=J$28,J$28-$C48,0))-SUM($E48:I48))","v":0},{"$f":"IF(D48=\"\",\"\",IF(AND($C48<=K$28,$D48<=K$28),$D48-$C48,IF($C48<=K$28,K$28-$C48,0))-SUM($E48:J48))","v":0},{"$f":"IF(D48=\"\",\"\",IF(AND($C48<=L$28,$D48<=L$28),$D48-$C48,IF($C48<=L$28,L$28-$C48,0))-SUM($E48:K48))","v":0},{"$f":"IF(D48=\"\",\"\",IF(AND($C48<=M$28,$D48<=M$28),$D48-$C48,IF($C48<=M$28,M$28-$C48,0))-SUM($E48:L48))","v":0},{"$f":"IF(D48=\"\",\"\",IF(AND($C48<=N$28,$D48<=N$28),$D48-$C48,IF($C48<=N$28,N$28-$C48,0))-SUM($E48:M48))","v":0},{"$f":"IF(D48=\"\",\"\",IF(AND($C48<=O$28,$D48<=O$28),$D48-$C48,IF($C48<=O$28,O$28-$C48,0))-SUM($E48:N48))","v":0},{"$f":"IF(D48=\"\",\"\",IF(AND($C48<=P$28,$D48<=P$28),$D48-$C48,IF($C48<=P$28,P$28-$C48,0))-SUM($E48:O48))","v":0},0,-92]
[10,null,"2015-12-31",{"$f":"'2015'!E38","v":"2015-10-31"},-61,{"$f":"IF(D49=\"\",\"\",IF(AND($C49<=F$28,$D49<=F$28),$D49-$C49,IF($C49<=F$28,F$28-$C49,0))-SUM($E49:E49))","v":0},{"$f":"IF(D49=\"\",\"\",IF(AND($C49<=G$28,$D49<=G$28),$D49-$C49,IF($C49<=G$28,G$28-$C49,0))-SUM($E49:F49))","v":0},{"$f":"IF(D49=\"\",\"\",IF(AND($C49<=H$28,$D49<=H$28),$D49-$C49,IF($C49<=H$28,H$28-$C49,0))-SUM($E49:G49))","v":0},{"$f":"IF(D49=\"\",\"\",IF(AND($C49<=I$28,$D49<=I$28),$D49-$C49,IF($C49<=I$28,I$28-$C49,0))-SUM($E49:H49))","v":0},{"$f":"IF(D49=\"\",\"\",IF(AND($C49<=J$28,$D49<=J$28),$D49-$C49,IF($C49<=J$28,J$28-$C49,0))-SUM($E49:I49))","v":0},{"$f":"IF(D49=\"\",\"\",IF(AND($C49<=K$28,$D49<=K$28),$D49-$C49,IF($C49<=K$28,K$28-$C49,0))-SUM($E49:J49))","v":0},{"$f":"IF(D49=\"\",\"\",IF(AND($C49<=L$28,$D49<=L$28),$D49-$C49,IF($C49<=L$28,L$28-$C49,0))-SUM($E49:K49))","v":0},{"$f":"IF(D49=\"\",\"\",IF(AND($C49<=M$28,$D49<=M$28),$D49-$C49,IF($C49<=M$28,M$28-$C49,0))-SUM($E49:L49))","v":0},{"$f":"IF(D49=\"\",\"\",IF(AND($C49<=N$28,$D49<=N$28),$D49-$C49,IF($C49<=N$28,N$28-$C49,0))-SUM($E49:M49))","v":0},{"$f":"IF(D49=\"\",\"\",IF(AND($C49<=O$28,$D49<=O$28),$D49-$C49,IF($C49<=O$28,O$28-$C49,0))-SUM($E49:N49))","v":0},{"$f":"IF(D49=\"\",\"\",IF(AND($C49<=P$28,$D49<=P$28),$D49-$C49,IF($C49<=P$28,P$28-$C49,0))-SUM($E49:O49))","v":0},0,-61]
[11,null,"2015-12-31",{"$f":"'2015'!E39","v":"2015-11-30"},-31,{"$f":"IF(D50=\"\",\"\",IF(AND($C50<=F$28,$D50<=F$28),$D50-$C50,IF($C50<=F$28,F$28-$C50,0))-SUM($E50:E50))","v":0},{"$f":"IF(D50=\"\",\"\",IF(AND($C50<=G$28,$D50<=G$28),$D50-$C50,IF($C50<=G$28,G$28-$C50,0))-SUM($E50:F50))","v":0},{"$f":"IF(D50=\"\",\"\",IF(AND($C50<=H$28,$D50<=H$28),$D50-$C50,IF($C50<=H$28,H$28-$C50,0))-SUM($E50:G50))","v":0},{"$f":"IF(D50=\"\",\"\",IF(AND($C50<=I$28,$D50<=I$28),$D50-$C50,IF($C50<=I$28,I$28-$C50,0))-SUM($E50:H50))","v":0},{"$f":"IF(D50=\"\",\"\",IF(AND($C50<=J$28,$D50<=J$28),$D50-$C50,IF($C50<=J$28,J$28-$C50,0))-SUM($E50:I50))","v":0},{"$f":"IF(D50=\"\",\"\",IF(AND($C50<=K$28,$D50<=K$28),$D50-$C50,IF($C50<=K$28,K$28-$C50,0))-SUM($E50:J50))","v":0},{"$f":"IF(D50=\"\",\"\",IF(AND($C50<=L$28,$D50<=L$28),$D50-$C50,IF($C50<=L$28,L$28-$C50,0))-SUM($E50:K50))","v":0},{"$f":"IF(D50=\"\",\"\",IF(AND($C50<=M$28,$D50<=M$28),$D50-$C50,IF($C50<=M$28,M$28-$C50,0))-SUM($E50:L50))","v":0},{"$f":"IF(D50=\"\",\"\",IF(AND($C50<=N$28,$D50<=N$28),$D50-$C50,IF($C50<=N$28,N$28-$C50,0))-SUM($E50:M50))","v":0},{"$f":"IF(D50=\"\",\"\",IF(AND($C50<=O$28,$D50<=O$28),$D50-$C50,IF($C50<=O$28,O$28-$C50,0))-SUM($E50:N50))","v":0},{"$f":"IF(D50=\"\",\"\",IF(AND($C50<=P$28,$D50<=P$28),$D50-$C50,IF($C50<=P$28,P$28-$C50,0))-SUM($E50:O50))","v":0},0,-31]
[12,null,"2015-12-31",{"$f":"'2015'!E40","v":"2015-12-31"},0,{"$f":"IF(D51=\"\",\"\",IF(AND($C51<=F$28,$D51<=F$28),$D51-$C51,IF($C51<=F$28,F$28-$C51,0))-SUM($E51:E51))","v":0},{"$f":"IF(D51=\"\",\"\",IF(AND($C51<=G$28,$D51<=G$28),$D51-$C51,IF($C51<=G$28,G$28-$C51,0))-SUM($E51:F51))","v":0},{"$f":"IF(D51=\"\",\"\",IF(AND($C51<=H$28,$D51<=H$28),$D51-$C51,IF($C51<=H$28,H$28-$C51,0))-SUM($E51:G51))","v":0},{"$f":"IF(D51=\"\",\"\",IF(AND($C51<=I$28,$D51<=I$28),$D51-$C51,IF($C51<=I$28,I$28-$C51,0))-SUM($E51:H51))","v":0},{"$f":"IF(D51=\"\",\"\",IF(AND($C51<=J$28,$D51<=J$28),$D51-$C51,IF($C51<=J$28,J$28-$C51,0))-SUM($E51:I51))","v":0},{"$f":"IF(D51=\"\",\"\",IF(AND($C51<=K$28,$D51<=K$28),$D51-$C51,IF($C51<=K$28,K$28-$C51,0))-SUM($E51:J51))","v":0},{"$f":"IF(D51=\"\",\"\",IF(AND($C51<=L$28,$D51<=L$28),$D51-$C51,IF($C51<=L$28,L$28-$C51,0))-SUM($E51:K51))","v":0},{"$f":"IF(D51=\"\",\"\",IF(AND($C51<=M$28,$D51<=M$28),$D51-$C51,IF($C51<=M$28,M$28-$C51,0))-SUM($E51:L51))","v":0},{"$f":"IF(D51=\"\",\"\",IF(AND($C51<=N$28,$D51<=N$28),$D51-$C51,IF($C51<=N$28,N$28-$C51,0))-SUM($E51:M51))","v":0},{"$f":"IF(D51=\"\",\"\",IF(AND($C51<=O$28,$D51<=O$28),$D51-$C51,IF($C51<=O$28,O$28-$C51,0))-SUM($E51:N51))","v":0},{"$f":"IF(D51=\"\",\"\",IF(AND($C51<=P$28,$D51<=P$28),$D51-$C51,IF($C51<=P$28,P$28-$C51,0))-SUM($E51:O51))","v":0},0,0]
[13,null,"2015-12-31","","",{"$f":"IF(D52=\"\",\"\",IF(AND($C52<=F$28,$D52<=F$28),$D52-$C52,IF($C52<=F$28,F$28-$C52,0))-SUM($E52:E52))","v":""},{"$f":"IF(D52=\"\",\"\",IF(AND($C52<=G$28,$D52<=G$28),$D52-$C52,IF($C52<=G$28,G$28-$C52,0))-SUM($E52:F52))","v":""},{"$f":"IF(D52=\"\",\"\",IF(AND($C52<=H$28,$D52<=H$28),$D52-$C52,IF($C52<=H$28,H$28-$C52,0))-SUM($E52:G52))","v":""},{"$f":"IF(D52=\"\",\"\",IF(AND($C52<=I$28,$D52<=I$28),$D52-$C52,IF($C52<=I$28,I$28-$C52,0))-SUM($E52:H52))","v":""},{"$f":"IF(D52=\"\",\"\",IF(AND($C52<=J$28,$D52<=J$28),$D52-$C52,IF($C52<=J$28,J$28-$C52,0))-SUM($E52:I52))","v":""},{"$f":"IF(D52=\"\",\"\",IF(AND($C52<=K$28,$D52<=K$28),$D52-$C52,IF($C52<=K$28,K$28-$C52,0))-SUM($E52:J52))","v":""},{"$f":"IF(D52=\"\",\"\",IF(AND($C52<=L$28,$D52<=L$28),$D52-$C52,IF($C52<=L$28,L$28-$C52,0))-SUM($E52:K52))","v":""},{"$f":"IF(D52=\"\",\"\",IF(AND($C52<=M$28,$D52<=M$28),$D52-$C52,IF($C52<=M$28,M$28-$C52,0))-SUM($E52:L52))","v":""},{"$f":"IF(D52=\"\",\"\",IF(AND($C52<=N$28,$D52<=N$28),$D52-$C52,IF($C52<=N$28,N$28-$C52,0))-SUM($E52:M52))","v":""},{"$f":"IF(D52=\"\",\"\",IF(AND($C52<=O$28,$D52<=O$28),$D52-$C52,IF($C52<=O$28,O$28-$C52,0))-SUM($E52:N52))","v":""},{"$f":"IF(D52=\"\",\"\",IF(AND($C52<=P$28,$D52<=P$28),$D52-$C52,IF($C52<=P$28,P$28-$C52,0))-SUM($E52:O52))","v":""},"",0]
[14,null,"2015-12-31","","",{"$f":"IF(D53=\"\",\"\",IF(AND($C53<=F$28,$D53<=F$28),$D53-$C53,IF($C53<=F$28,F$28-$C53,0))-SUM($E53:E53))","v":""},{"$f":"IF(D53=\"\",\"\",IF(AND($C53<=G$28,$D53<=G$28),$D53-$C53,IF($C53<=G$28,G$28-$C53,0))-SUM($E53:F53))","v":""},{"$f":"IF(D53=\"\",\"\",IF(AND($C53<=H$28,$D53<=H$28),$D53-$C53,IF($C53<=H$28,H$28-$C53,0))-SUM($E53:G53))","v":""},{"$f":"IF(D53=\"\",\"\",IF(AND($C53<=I$28,$D53<=I$28),$D53-$C53,IF($C53<=I$28,I$28-$C53,0))-SUM($E53:H53))","v":""},{"$f":"IF(D53=\"\",\"\",IF(AND($C53<=J$28,$D53<=J$28),$D53-$C53,IF($C53<=J$28,J$28-$C53,0))-SUM($E53:I53))","v":""},{"$f":"IF(D53=\"\",\"\",IF(AND($C53<=K$28,$D53<=K$28),$D53-$C53,IF($C53<=K$28,K$28-$C53,0))-SUM($E53:J53))","v":""},{"$f":"IF(D53=\"\",\"\",IF(AND($C53<=L$28,$D53<=L$28),$D53-$C53,IF($C53<=L$28,L$28-$C53,0))-SUM($E53:K53))","v":""},{"$f":"IF(D53=\"\",\"\",IF(AND($C53<=M$28,$D53<=M$28),$D53-$C53,IF($C53<=M$28,M$28-$C53,0))-SUM($E53:L53))","v":""},{"$f":"IF(D53=\"\",\"\",IF(AND($C53<=N$28,$D53<=N$28),$D53-$C53,IF($C53<=N$28,N$28-$C53,0))-SUM($E53:M53))","v":""},{"$f":"IF(D53=\"\",\"\",IF(AND($C53<=O$28,$D53<=O$28),$D53-$C53,IF($C53<=O$28,O$28-$C53,0))-SUM($E53:N53))","v":""},{"$f":"IF(D53=\"\",\"\",IF(AND($C53<=P$28,$D53<=P$28),$D53-$C53,IF($C53<=P$28,P$28-$C53,0))-SUM($E53:O53))","v":""},"",0]
[15,null,"2015-12-31","","",{"$f":"IF(D54=\"\",\"\",IF(AND($C54<=F$28,$D54<=F$28),$D54-$C54,IF($C54<=F$28,F$28-$C54,0))-SUM($E54:E54))","v":""},{"$f":"IF(D54=\"\",\"\",IF(AND($C54<=G$28,$D54<=G$28),$D54-$C54,IF($C54<=G$28,G$28-$C54,0))-SUM($E54:F54))","v":""},{"$f":"IF(D54=\"\",\"\",IF(AND($C54<=H$28,$D54<=H$28),$D54-$C54,IF($C54<=H$28,H$28-$C54,0))-SUM($E54:G54))","v":""},{"$f":"IF(D54=\"\",\"\",IF(AND($C54<=I$28,$D54<=I$28),$D54-$C54,IF($C54<=I$28,I$28-$C54,0))-SUM($E54:H54))","v":""},{"$f":"IF(D54=\"\",\"\",IF(AND($C54<=J$28,$D54<=J$28),$D54-$C54,IF($C54<=J$28,J$28-$C54,0))-SUM($E54:I54))","v":""},{"$f":"IF(D54=\"\",\"\",IF(AND($C54<=K$28,$D54<=K$28),$D54-$C54,IF($C54<=K$28,K$28-$C54,0))-SUM($E54:J54))","v":""},{"$f":"IF(D54=\"\",\"\",IF(AND($C54<=L$28,$D54<=L$28),$D54-$C54,IF($C54<=L$28,L$28-$C54,0))-SUM($E54:K54))","v":""},{"$f":"IF(D54=\"\",\"\",IF(AND($C54<=M$28,$D54<=M$28),$D54-$C54,IF($C54<=M$28,M$28-$C54,0))-SUM($E54:L54))","v":""},{"$f":"IF(D54=\"\",\"\",IF(AND($C54<=N$28,$D54<=N$28),$D54-$C54,IF($C54<=N$28,N$28-$C54,0))-SUM($E54:M54))","v":""},{"$f":"IF(D54=\"\",\"\",IF(AND($C54<=O$28,$D54<=O$28),$D54-$C54,IF($C54<=O$28,O$28-$C54,0))-SUM($E54:N54))","v":""},{"$f":"IF(D54=\"\",\"\",IF(AND($C54<=P$28,$D54<=P$28),$D54-$C54,IF($C54<=P$28,P$28-$C54,0))-SUM($E54:O54))","v":""},"",0]
[16,null,"2015-12-31","","",{"$f":"IF(D55=\"\",\"\",IF(AND($C55<=F$28,$D55<=F$28),$D55-$C55,IF($C55<=F$28,F$28-$C55,0))-SUM($E55:E55))","v":""},{"$f":"IF(D55=\"\",\"\",IF(AND($C55<=G$28,$D55<=G$28),$D55-$C55,IF($C55<=G$28,G$28-$C55,0))-SUM($E55:F55))","v":""},{"$f":"IF(D55=\"\",\"\",IF(AND($C55<=H$28,$D55<=H$28),$D55-$C55,IF($C55<=H$28,H$28-$C55,0))-SUM($E55:G55))","v":""},{"$f":"IF(D55=\"\",\"\",IF(AND($C55<=I$28,$D55<=I$28),$D55-$C55,IF($C55<=I$28,I$28-$C55,0))-SUM($E55:H55))","v":""},{"$f":"IF(D55=\"\",\"\",IF(AND($C55<=J$28,$D55<=J$28),$D55-$C55,IF($C55<=J$28,J$28-$C55,0))-SUM($E55:I55))","v":""},{"$f":"IF(D55=\"\",\"\",IF(AND($C55<=K$28,$D55<=K$28),$D55-$C55,IF($C55<=K$28,K$28-$C55,0))-SUM($E55:J55))","v":""},{"$f":"IF(D55=\"\",\"\",IF(AND($C55<=L$28,$D55<=L$28),$D55-$C55,IF($C55<=L$28,L$28-$C55,0))-SUM($E55:K55))","v":""},{"$f":"IF(D55=\"\",\"\",IF(AND($C55<=M$28,$D55<=M$28),$D55-$C55,IF($C55<=M$28,M$28-$C55,0))-SUM($E55:L55))","v":""},{"$f":"IF(D55=\"\",\"\",IF(AND($C55<=N$28,$D55<=N$28),$D55-$C55,IF($C55<=N$28,N$28-$C55,0))-SUM($E55:M55))","v":""},{"$f":"IF(D55=\"\",\"\",IF(AND($C55<=O$28,$D55<=O$28),$D55-$C55,IF($C55<=O$28,O$28-$C55,0))-SUM($E55:N55))","v":""},{"$f":"IF(D55=\"\",\"\",IF(AND($C55<=P$28,$D55<=P$28),$D55-$C55,IF($C55<=P$28,P$28-$C55,0))-SUM($E55:O55))","v":""},"",0]
[17,null,"2015-12-31","","",{"$f":"IF(D56=\"\",\"\",IF(AND($C56<=F$28,$D56<=F$28),$D56-$C56,IF($C56<=F$28,F$28-$C56,0))-SUM($E56:E56))","v":""},{"$f":"IF(D56=\"\",\"\",IF(AND($C56<=G$28,$D56<=G$28),$D56-$C56,IF($C56<=G$28,G$28-$C56,0))-SUM($E56:F56))","v":""},{"$f":"IF(D56=\"\",\"\",IF(AND($C56<=H$28,$D56<=H$28),$D56-$C56,IF($C56<=H$28,H$28-$C56,0))-SUM($E56:G56))","v":""},{"$f":"IF(D56=\"\",\"\",IF(AND($C56<=I$28,$D56<=I$28),$D56-$C56,IF($C56<=I$28,I$28-$C56,0))-SUM($E56:H56))","v":""},{"$f":"IF(D56=\"\",\"\",IF(AND($C56<=J$28,$D56<=J$28),$D56-$C56,IF($C56<=J$28,J$28-$C56,0))-SUM($E56:I56))","v":""},{"$f":"IF(D56=\"\",\"\",IF(AND($C56<=K$28,$D56<=K$28),$D56-$C56,IF($C56<=K$28,K$28-$C56,0))-SUM($E56:J56))","v":""},{"$f":"IF(D56=\"\",\"\",IF(AND($C56<=L$28,$D56<=L$28),$D56-$C56,IF($C56<=L$28,L$28-$C56,0))-SUM($E56:K56))","v":""},{"$f":"IF(D56=\"\",\"\",IF(AND($C56<=M$28,$D56<=M$28),$D56-$C56,IF($C56<=M$28,M$28-$C56,0))-SUM($E56:L56))","v":""},{"$f":"IF(D56=\"\",\"\",IF(AND($C56<=N$28,$D56<=N$28),$D56-$C56,IF($C56<=N$28,N$28-$C56,0))-SUM($E56:M56))","v":""},{"$f":"IF(D56=\"\",\"\",IF(AND($C56<=O$28,$D56<=O$28),$D56-$C56,IF($C56<=O$28,O$28-$C56,0))-SUM($E56:N56))","v":""},{"$f":"IF(D56=\"\",\"\",IF(AND($C56<=P$28,$D56<=P$28),$D56-$C56,IF($C56<=P$28,P$28-$C56,0))-SUM($E56:O56))","v":""},"",0]
[18,null,"2015-12-31","","",{"$f":"IF(D57=\"\",\"\",IF(AND($C57<=F$28,$D57<=F$28),$D57-$C57,IF($C57<=F$28,F$28-$C57,0))-SUM($E57:E57))","v":""},{"$f":"IF(D57=\"\",\"\",IF(AND($C57<=G$28,$D57<=G$28),$D57-$C57,IF($C57<=G$28,G$28-$C57,0))-SUM($E57:F57))","v":""},{"$f":"IF(D57=\"\",\"\",IF(AND($C57<=H$28,$D57<=H$28),$D57-$C57,IF($C57<=H$28,H$28-$C57,0))-SUM($E57:G57))","v":""},{"$f":"IF(D57=\"\",\"\",IF(AND($C57<=I$28,$D57<=I$28),$D57-$C57,IF($C57<=I$28,I$28-$C57,0))-SUM($E57:H57))","v":""},{"$f":"IF(D57=\"\",\"\",IF(AND($C57<=J$28,$D57<=J$28),$D57-$C57,IF($C57<=J$28,J$28-$C57,0))-SUM($E57:I57))","v":""},{"$f":"IF(D57=\"\",\"\",IF(AND($C57<=K$28,$D57<=K$28),$D57-$C57,IF($C57<=K$28,K$28-$C57,0))-SUM($E57:J57))","v":""},{"$f":"IF(D57=\"\",\"\",IF(AND($C57<=L$28,$D57<=L$28),$D57-$C57,IF($C57<=L$28,L$28-$C57,0))-SUM($E57:K57))","v":""},{"$f":"IF(D57=\"\",\"\",IF(AND($C57<=M$28,$D57<=M$28),$D57-$C57,IF($C57<=M$28,M$28-$C57,0))-SUM($E57:L57))","v":""},{"$f":"IF(D57=\"\",\"\",IF(AND($C57<=N$28,$D57<=N$28),$D57-$C57,IF($C57<=N$28,N$28-$C57,0))-SUM($E57:M57))","v":""},{"$f":"IF(D57=\"\",\"\",IF(AND($C57<=O$28,$D57<=O$28),$D57-$C57,IF($C57<=O$28,O$28-$C57,0))-SUM($E57:N57))","v":""},{"$f":"IF(D57=\"\",\"\",IF(AND($C57<=P$28,$D57<=P$28),$D57-$C57,IF($C57<=P$28,P$28-$C57,0))-SUM($E57:O57))","v":""},"",0]
[19,null,"2015-12-31","","",{"$f":"IF(D58=\"\",\"\",IF(AND($C58<=F$28,$D58<=F$28),$D58-$C58,IF($C58<=F$28,F$28-$C58,0))-SUM($E58:E58))","v":""},{"$f":"IF(D58=\"\",\"\",IF(AND($C58<=G$28,$D58<=G$28),$D58-$C58,IF($C58<=G$28,G$28-$C58,0))-SUM($E58:F58))","v":""},{"$f":"IF(D58=\"\",\"\",IF(AND($C58<=H$28,$D58<=H$28),$D58-$C58,IF($C58<=H$28,H$28-$C58,0))-SUM($E58:G58))","v":""},{"$f":"IF(D58=\"\",\"\",IF(AND($C58<=I$28,$D58<=I$28),$D58-$C58,IF($C58<=I$28,I$28-$C58,0))-SUM($E58:H58))","v":""},{"$f":"IF(D58=\"\",\"\",IF(AND($C58<=J$28,$D58<=J$28),$D58-$C58,IF($C58<=J$28,J$28-$C58,0))-SUM($E58:I58))","v":""},{"$f":"IF(D58=\"\",\"\",IF(AND($C58<=K$28,$D58<=K$28),$D58-$C58,IF($C58<=K$28,K$28-$C58,0))-SUM($E58:J58))","v":""},{"$f":"IF(D58=\"\",\"\",IF(AND($C58<=L$28,$D58<=L$28),$D58-$C58,IF($C58<=L$28,L$28-$C58,0))-SUM($E58:K58))","v":""},{"$f":"IF(D58=\"\",\"\",IF(AND($C58<=M$28,$D58<=M$28),$D58-$C58,IF($C58<=M$28,M$28-$C58,0))-SUM($E58:L58))","v":""},{"$f":"IF(D58=\"\",\"\",IF(AND($C58<=N$28,$D58<=N$28),$D58-$C58,IF($C58<=N$28,N$28-$C58,0))-SUM($E58:M58))","v":""},{"$f":"IF(D58=\"\",\"\",IF(AND($C58<=O$28,$D58<=O$28),$D58-$C58,IF($C58<=O$28,O$28-$C58,0))-SUM($E58:N58))","v":""},{"$f":"IF(D58=\"\",\"\",IF(AND($C58<=P$28,$D58<=P$28),$D58-$C58,IF($C58<=P$28,P$28-$C58,0))-SUM($E58:O58))","v":""},"",0]
[20,null,"2015-12-31","","",{"$f":"IF(D59=\"\",\"\",IF(AND($C59<=F$28,$D59<=F$28),$D59-$C59,IF($C59<=F$28,F$28-$C59,0))-SUM($E59:E59))","v":""},{"$f":"IF(D59=\"\",\"\",IF(AND($C59<=G$28,$D59<=G$28),$D59-$C59,IF($C59<=G$28,G$28-$C59,0))-SUM($E59:F59))","v":""},{"$f":"IF(D59=\"\",\"\",IF(AND($C59<=H$28,$D59<=H$28),$D59-$C59,IF($C59<=H$28,H$28-$C59,0))-SUM($E59:G59))","v":""},{"$f":"IF(D59=\"\",\"\",IF(AND($C59<=I$28,$D59<=I$28),$D59-$C59,IF($C59<=I$28,I$28-$C59,0))-SUM($E59:H59))","v":""},{"$f":"IF(D59=\"\",\"\",IF(AND($C59<=J$28,$D59<=J$28),$D59-$C59,IF($C59<=J$28,J$28-$C59,0))-SUM($E59:I59))","v":""},{"$f":"IF(D59=\"\",\"\",IF(AND($C59<=K$28,$D59<=K$28),$D59-$C59,IF($C59<=K$28,K$28-$C59,0))-SUM($E59:J59))","v":""},{"$f":"IF(D59=\"\",\"\",IF(AND($C59<=L$28,$D59<=L$28),$D59-$C59,IF($C59<=L$28,L$28-$C59,0))-SUM($E59:K59))","v":""},{"$f":"IF(D59=\"\",\"\",IF(AND($C59<=M$28,$D59<=M$28),$D59-$C59,IF($C59<=M$28,M$28-$C59,0))-SUM($E59:L59))","v":""},{"$f":"IF(D59=\"\",\"\",IF(AND($C59<=N$28,$D59<=N$28),$D59-$C59,IF($C59<=N$28,N$28-$C59,0))-SUM($E59:M59))","v":""},{"$f":"IF(D59=\"\",\"\",IF(AND($C59<=O$28,$D59<=O$28),$D59-$C59,IF($C59<=O$28,O$28-$C59,0))-SUM($E59:N59))","v":""},{"$f":"IF(D59=\"\",\"\",IF(AND($C59<=P$28,$D59<=P$28),$D59-$C59,IF($C59<=P$28,P$28-$C59,0))-SUM($E59:O59))","v":""},"",0]
[21,null,"2015-12-31","","",{"$f":"IF(D60=\"\",\"\",IF(AND($C60<=F$28,$D60<=F$28),$D60-$C60,IF($C60<=F$28,F$28-$C60,0))-SUM($E60:E60))","v":""},{"$f":"IF(D60=\"\",\"\",IF(AND($C60<=G$28,$D60<=G$28),$D60-$C60,IF($C60<=G$28,G$28-$C60,0))-SUM($E60:F60))","v":""},{"$f":"IF(D60=\"\",\"\",IF(AND($C60<=H$28,$D60<=H$28),$D60-$C60,IF($C60<=H$28,H$28-$C60,0))-SUM($E60:G60))","v":""},{"$f":"IF(D60=\"\",\"\",IF(AND($C60<=I$28,$D60<=I$28),$D60-$C60,IF($C60<=I$28,I$28-$C60,0))-SUM($E60:H60))","v":""},{"$f":"IF(D60=\"\",\"\",IF(AND($C60<=J$28,$D60<=J$28),$D60-$C60,IF($C60<=J$28,J$28-$C60,0))-SUM($E60:I60))","v":""},{"$f":"IF(D60=\"\",\"\",IF(AND($C60<=K$28,$D60<=K$28),$D60-$C60,IF($C60<=K$28,K$28-$C60,0))-SUM($E60:J60))","v":""},{"$f":"IF(D60=\"\",\"\",IF(AND($C60<=L$28,$D60<=L$28),$D60-$C60,IF($C60<=L$28,L$28-$C60,0))-SUM($E60:K60))","v":""},{"$f":"IF(D60=\"\",\"\",IF(AND($C60<=M$28,$D60<=M$28),$D60-$C60,IF($C60<=M$28,M$28-$C60,0))-SUM($E60:L60))","v":""},{"$f":"IF(D60=\"\",\"\",IF(AND($C60<=N$28,$D60<=N$28),$D60-$C60,IF($C60<=N$28,N$28-$C60,0))-SUM($E60:M60))","v":""},{"$f":"IF(D60=\"\",\"\",IF(AND($C60<=O$28,$D60<=O$28),$D60-$C60,IF($C60<=O$28,O$28-$C60,0))-SUM($E60:N60))","v":""},{"$f":"IF(D60=\"\",\"\",IF(AND($C60<=P$28,$D60<=P$28),$D60-$C60,IF($C60<=P$28,P$28-$C60,0))-SUM($E60:O60))","v":""},"",0]
[22,null,"2015-12-31","","",{"$f":"IF(D61=\"\",\"\",IF(AND($C61<=F$28,$D61<=F$28),$D61-$C61,IF($C61<=F$28,F$28-$C61,0))-SUM($E61:E61))","v":""},{"$f":"IF(D61=\"\",\"\",IF(AND($C61<=G$28,$D61<=G$28),$D61-$C61,IF($C61<=G$28,G$28-$C61,0))-SUM($E61:F61))","v":""},{"$f":"IF(D61=\"\",\"\",IF(AND($C61<=H$28,$D61<=H$28),$D61-$C61,IF($C61<=H$28,H$28-$C61,0))-SUM($E61:G61))","v":""},{"$f":"IF(D61=\"\",\"\",IF(AND($C61<=I$28,$D61<=I$28),$D61-$C61,IF($C61<=I$28,I$28-$C61,0))-SUM($E61:H61))","v":""},{"$f":"IF(D61=\"\",\"\",IF(AND($C61<=J$28,$D61<=J$28),$D61-$C61,IF($C61<=J$28,J$28-$C61,0))-SUM($E61:I61))","v":""},{"$f":"IF(D61=\"\",\"\",IF(AND($C61<=K$28,$D61<=K$28),$D61-$C61,IF($C61<=K$28,K$28-$C61,0))-SUM($E61:J61))","v":""},{"$f":"IF(D61=\"\",\"\",IF(AND($C61<=L$28,$D61<=L$28),$D61-$C61,IF($C61<=L$28,L$28-$C61,0))-SUM($E61:K61))","v":""},{"$f":"IF(D61=\"\",\"\",IF(AND($C61<=M$28,$D61<=M$28),$D61-$C61,IF($C61<=M$28,M$28-$C61,0))-SUM($E61:L61))","v":""},{"$f":"IF(D61=\"\",\"\",IF(AND($C61<=N$28,$D61<=N$28),$D61-$C61,IF($C61<=N$28,N$28-$C61,0))-SUM($E61:M61))","v":""},{"$f":"IF(D61=\"\",\"\",IF(AND($C61<=O$28,$D61<=O$28),$D61-$C61,IF($C61<=O$28,O$28-$C61,0))-SUM($E61:N61))","v":""},{"$f":"IF(D61=\"\",\"\",IF(AND($C61<=P$28,$D61<=P$28),$D61-$C61,IF($C61<=P$28,P$28-$C61,0))-SUM($E61:O61))","v":""},"",0]
[23,null,"2015-12-31","","",{"$f":"IF(D62=\"\",\"\",IF(AND($C62<=F$28,$D62<=F$28),$D62-$C62,IF($C62<=F$28,F$28-$C62,0))-SUM($E62:E62))","v":""},{"$f":"IF(D62=\"\",\"\",IF(AND($C62<=G$28,$D62<=G$28),$D62-$C62,IF($C62<=G$28,G$28-$C62,0))-SUM($E62:F62))","v":""},{"$f":"IF(D62=\"\",\"\",IF(AND($C62<=H$28,$D62<=H$28),$D62-$C62,IF($C62<=H$28,H$28-$C62,0))-SUM($E62:G62))","v":""},{"$f":"IF(D62=\"\",\"\",IF(AND($C62<=I$28,$D62<=I$28),$D62-$C62,IF($C62<=I$28,I$28-$C62,0))-SUM($E62:H62))","v":""},{"$f":"IF(D62=\"\",\"\",IF(AND($C62<=J$28,$D62<=J$28),$D62-$C62,IF($C62<=J$28,J$28-$C62,0))-SUM($E62:I62))","v":""},{"$f":"IF(D62=\"\",\"\",IF(AND($C62<=K$28,$D62<=K$28),$D62-$C62,IF($C62<=K$28,K$28-$C62,0))-SUM($E62:J62))","v":""},{"$f":"IF(D62=\"\",\"\",IF(AND($C62<=L$28,$D62<=L$28),$D62-$C62,IF($C62<=L$28,L$28-$C62,0))-SUM($E62:K62))","v":""},{"$f":"IF(D62=\"\",\"\",IF(AND($C62<=M$28,$D62<=M$28),$D62-$C62,IF($C62<=M$28,M$28-$C62,0))-SUM($E62:L62))","v":""},{"$f":"IF(D62=\"\",\"\",IF(AND($C62<=N$28,$D62<=N$28),$D62-$C62,IF($C62<=N$28,N$28-$C62,0))-SUM($E62:M62))","v":""},{"$f":"IF(D62=\"\",\"\",IF(AND($C62<=O$28,$D62<=O$28),$D62-$C62,IF($C62<=O$28,O$28-$C62,0))-SUM($E62:N62))","v":""},{"$f":"IF(D62=\"\",\"\",IF(AND($C62<=P$28,$D62<=P$28),$D62-$C62,IF($C62<=P$28,P$28-$C62,0))-SUM($E62:O62))","v":""},"",0]
[24,null,"2015-12-31","","",{"$f":"IF(D63=\"\",\"\",IF(AND($C63<=F$28,$D63<=F$28),$D63-$C63,IF($C63<=F$28,F$28-$C63,0))-SUM($E63:E63))","v":""},{"$f":"IF(D63=\"\",\"\",IF(AND($C63<=G$28,$D63<=G$28),$D63-$C63,IF($C63<=G$28,G$28-$C63,0))-SUM($E63:F63))","v":""},{"$f":"IF(D63=\"\",\"\",IF(AND($C63<=H$28,$D63<=H$28),$D63-$C63,IF($C63<=H$28,H$28-$C63,0))-SUM($E63:G63))","v":""},{"$f":"IF(D63=\"\",\"\",IF(AND($C63<=I$28,$D63<=I$28),$D63-$C63,IF($C63<=I$28,I$28-$C63,0))-SUM($E63:H63))","v":""},{"$f":"IF(D63=\"\",\"\",IF(AND($C63<=J$28,$D63<=J$28),$D63-$C63,IF($C63<=J$28,J$28-$C63,0))-SUM($E63:I63))","v":""},{"$f":"IF(D63=\"\",\"\",IF(AND($C63<=K$28,$D63<=K$28),$D63-$C63,IF($C63<=K$28,K$28-$C63,0))-SUM($E63:J63))","v":""},{"$f":"IF(D63=\"\",\"\",IF(AND($C63<=L$28,$D63<=L$28),$D63-$C63,IF($C63<=L$28,L$28-$C63,0))-SUM($E63:K63))","v":""},{"$f":"IF(D63=\"\",\"\",IF(AND($C63<=M$28,$D63<=M$28),$D63-$C63,IF($C63<=M$28,M$28-$C63,0))-SUM($E63:L63))","v":""},{"$f":"IF(D63=\"\",\"\",IF(AND($C63<=N$28,$D63<=N$28),$D63-$C63,IF($C63<=N$28,N$28-$C63,0))-SUM($E63:M63))","v":""},{"$f":"IF(D63=\"\",\"\",IF(AND($C63<=O$28,$D63<=O$28),$D63-$C63,IF($C63<=O$28,O$28-$C63,0))-SUM($E63:N63))","v":""},{"$f":"IF(D63=\"\",\"\",IF(AND($C63<=P$28,$D63<=P$28),$D63-$C63,IF($C63<=P$28,P$28-$C63,0))-SUM($E63:O63))","v":""},"",0]
[25,null,"2015-12-31","","",{"$f":"IF(D64=\"\",\"\",IF(AND($C64<=F$28,$D64<=F$28),$D64-$C64,IF($C64<=F$28,F$28-$C64,0))-SUM($E64:E64))","v":""},{"$f":"IF(D64=\"\",\"\",IF(AND($C64<=G$28,$D64<=G$28),$D64-$C64,IF($C64<=G$28,G$28-$C64,0))-SUM($E64:F64))","v":""},{"$f":"IF(D64=\"\",\"\",IF(AND($C64<=H$28,$D64<=H$28),$D64-$C64,IF($C64<=H$28,H$28-$C64,0))-SUM($E64:G64))","v":""},{"$f":"IF(D64=\"\",\"\",IF(AND($C64<=I$28,$D64<=I$28),$D64-$C64,IF($C64<=I$28,I$28-$C64,0))-SUM($E64:H64))","v":""},{"$f":"IF(D64=\"\",\"\",IF(AND($C64<=J$28,$D64<=J$28),$D64-$C64,IF($C64<=J$28,J$28-$C64,0))-SUM($E64:I64))","v":""},{"$f":"IF(D64=\"\",\"\",IF(AND($C64<=K$28,$D64<=K$28),$D64-$C64,IF($C64<=K$28,K$28-$C64,0))-SUM($E64:J64))","v":""},{"$f":"IF(D64=\"\",\"\",IF(AND($C64<=L$28,$D64<=L$28),$D64-$C64,IF($C64<=L$28,L$28-$C64,0))-SUM($E64:K64))","v":""},{"$f":"IF(D64=\"\",\"\",IF(AND($C64<=M$28,$D64<=M$28),$D64-$C64,IF($C64<=M$28,M$28-$C64,0))-SUM($E64:L64))","v":""},{"$f":"IF(D64=\"\",\"\",IF(AND($C64<=N$28,$D64<=N$28),$D64-$C64,IF($C64<=N$28,N$28-$C64,0))-SUM($E64:M64))","v":""},{"$f":"IF(D64=\"\",\"\",IF(AND($C64<=O$28,$D64<=O$28),$D64-$C64,IF($C64<=O$28,O$28-$C64,0))-SUM($E64:N64))","v":""},{"$f":"IF(D64=\"\",\"\",IF(AND($C64<=P$28,$D64<=P$28),$D64-$C64,IF($C64<=P$28,P$28-$C64,0))-SUM($E64:O64))","v":""},"",0]
[26,null,"2015-12-31","","",{"$f":"IF(D65=\"\",\"\",IF(AND($C65<=F$28,$D65<=F$28),$D65-$C65,IF($C65<=F$28,F$28-$C65,0))-SUM($E65:E65))","v":""},{"$f":"IF(D65=\"\",\"\",IF(AND($C65<=G$28,$D65<=G$28),$D65-$C65,IF($C65<=G$28,G$28-$C65,0))-SUM($E65:F65))","v":""},{"$f":"IF(D65=\"\",\"\",IF(AND($C65<=H$28,$D65<=H$28),$D65-$C65,IF($C65<=H$28,H$28-$C65,0))-SUM($E65:G65))","v":""},{"$f":"IF(D65=\"\",\"\",IF(AND($C65<=I$28,$D65<=I$28),$D65-$C65,IF($C65<=I$28,I$28-$C65,0))-SUM($E65:H65))","v":""},{"$f":"IF(D65=\"\",\"\",IF(AND($C65<=J$28,$D65<=J$28),$D65-$C65,IF($C65<=J$28,J$28-$C65,0))-SUM($E65:I65))","v":""},{"$f":"IF(D65=\"\",\"\",IF(AND($C65<=K$28,$D65<=K$28),$D65-$C65,IF($C65<=K$28,K$28-$C65,0))-SUM($E65:J65))","v":""},{"$f":"IF(D65=\"\",\"\",IF(AND($C65<=L$28,$D65<=L$28),$D65-$C65,IF($C65<=L$28,L$28-$C65,0))-SUM($E65:K65))","v":""},{"$f":"IF(D65=\"\",\"\",IF(AND($C65<=M$28,$D65<=M$28),$D65-$C65,IF($C65<=M$28,M$28-$C65,0))-SUM($E65:L65))","v":""},{"$f":"IF(D65=\"\",\"\",IF(AND($C65<=N$28,$D65<=N$28),$D65-$C65,IF($C65<=N$28,N$28-$C65,0))-SUM($E65:M65))","v":""},{"$f":"IF(D65=\"\",\"\",IF(AND($C65<=O$28,$D65<=O$28),$D65-$C65,IF($C65<=O$28,O$28-$C65,0))-SUM($E65:N65))","v":""},{"$f":"IF(D65=\"\",\"\",IF(AND($C65<=P$28,$D65<=P$28),$D65-$C65,IF($C65<=P$28,P$28-$C65,0))-SUM($E65:O65))","v":""},"",0]
[27,null,"2015-12-31","","",{"$f":"IF(D66=\"\",\"\",IF(AND($C66<=F$28,$D66<=F$28),$D66-$C66,IF($C66<=F$28,F$28-$C66,0))-SUM($E66:E66))","v":""},{"$f":"IF(D66=\"\",\"\",IF(AND($C66<=G$28,$D66<=G$28),$D66-$C66,IF($C66<=G$28,G$28-$C66,0))-SUM($E66:F66))","v":""},{"$f":"IF(D66=\"\",\"\",IF(AND($C66<=H$28,$D66<=H$28),$D66-$C66,IF($C66<=H$28,H$28-$C66,0))-SUM($E66:G66))","v":""},{"$f":"IF(D66=\"\",\"\",IF(AND($C66<=I$28,$D66<=I$28),$D66-$C66,IF($C66<=I$28,I$28-$C66,0))-SUM($E66:H66))","v":""},{"$f":"IF(D66=\"\",\"\",IF(AND($C66<=J$28,$D66<=J$28),$D66-$C66,IF($C66<=J$28,J$28-$C66,0))-SUM($E66:I66))","v":""},{"$f":"IF(D66=\"\",\"\",IF(AND($C66<=K$28,$D66<=K$28),$D66-$C66,IF($C66<=K$28,K$28-$C66,0))-SUM($E66:J66))","v":""},{"$f":"IF(D66=\"\",\"\",IF(AND($C66<=L$28,$D66<=L$28),$D66-$C66,IF($C66<=L$28,L$28-$C66,0))-SUM($E66:K66))","v":""},{"$f":"IF(D66=\"\",\"\",IF(AND($C66<=M$28,$D66<=M$28),$D66-$C66,IF($C66<=M$28,M$28-$C66,0))-SUM($E66:L66))","v":""},{"$f":"IF(D66=\"\",\"\",IF(AND($C66<=N$28,$D66<=N$28),$D66-$C66,IF($C66<=N$28,N$28-$C66,0))-SUM($E66:M66))","v":""},{"$f":"IF(D66=\"\",\"\",IF(AND($C66<=O$28,$D66<=O$28),$D66-$C66,IF($C66<=O$28,O$28-$C66,0))-SUM($E66:N66))","v":""},{"$f":"IF(D66=\"\",\"\",IF(AND($C66<=P$28,$D66<=P$28),$D66-$C66,IF($C66<=P$28,P$28-$C66,0))-SUM($E66:O66))","v":""},"",0]
[28,null,"2015-12-31","","",{"$f":"IF(D67=\"\",\"\",IF(AND($C67<=F$28,$D67<=F$28),$D67-$C67,IF($C67<=F$28,F$28-$C67,0))-SUM($E67:E67))","v":""},{"$f":"IF(D67=\"\",\"\",IF(AND($C67<=G$28,$D67<=G$28),$D67-$C67,IF($C67<=G$28,G$28-$C67,0))-SUM($E67:F67))","v":""},{"$f":"IF(D67=\"\",\"\",IF(AND($C67<=H$28,$D67<=H$28),$D67-$C67,IF($C67<=H$28,H$28-$C67,0))-SUM($E67:G67))","v":""},{"$f":"IF(D67=\"\",\"\",IF(AND($C67<=I$28,$D67<=I$28),$D67-$C67,IF($C67<=I$28,I$28-$C67,0))-SUM($E67:H67))","v":""},{"$f":"IF(D67=\"\",\"\",IF(AND($C67<=J$28,$D67<=J$28),$D67-$C67,IF($C67<=J$28,J$28-$C67,0))-SUM($E67:I67))","v":""},{"$f":"IF(D67=\"\",\"\",IF(AND($C67<=K$28,$D67<=K$28),$D67-$C67,IF($C67<=K$28,K$28-$C67,0))-SUM($E67:J67))","v":""},{"$f":"IF(D67=\"\",\"\",IF(AND($C67<=L$28,$D67<=L$28),$D67-$C67,IF($C67<=L$28,L$28-$C67,0))-SUM($E67:K67))","v":""},{"$f":"IF(D67=\"\",\"\",IF(AND($C67<=M$28,$D67<=M$28),$D67-$C67,IF($C67<=M$28,M$28-$C67,0))-SUM($E67:L67))","v":""},{"$f":"IF(D67=\"\",\"\",IF(AND($C67<=N$28,$D67<=N$28),$D67-$C67,IF($C67<=N$28,N$28-$C67,0))-SUM($E67:M67))","v":""},{"$f":"IF(D67=\"\",\"\",IF(AND($C67<=O$28,$D67<=O$28),$D67-$C67,IF($C67<=O$28,O$28-$C67,0))-SUM($E67:N67))","v":""},{"$f":"IF(D67=\"\",\"\",IF(AND($C67<=P$28,$D67<=P$28),$D67-$C67,IF($C67<=P$28,P$28-$C67,0))-SUM($E67:O67))","v":""},"",0]
[29,null,"2015-12-31","","",{"$f":"IF(D68=\"\",\"\",IF(AND($C68<=F$28,$D68<=F$28),$D68-$C68,IF($C68<=F$28,F$28-$C68,0))-SUM($E68:E68))","v":""},{"$f":"IF(D68=\"\",\"\",IF(AND($C68<=G$28,$D68<=G$28),$D68-$C68,IF($C68<=G$28,G$28-$C68,0))-SUM($E68:F68))","v":""},{"$f":"IF(D68=\"\",\"\",IF(AND($C68<=H$28,$D68<=H$28),$D68-$C68,IF($C68<=H$28,H$28-$C68,0))-SUM($E68:G68))","v":""},{"$f":"IF(D68=\"\",\"\",IF(AND($C68<=I$28,$D68<=I$28),$D68-$C68,IF($C68<=I$28,I$28-$C68,0))-SUM($E68:H68))","v":""},{"$f":"IF(D68=\"\",\"\",IF(AND($C68<=J$28,$D68<=J$28),$D68-$C68,IF($C68<=J$28,J$28-$C68,0))-SUM($E68:I68))","v":""},{"$f":"IF(D68=\"\",\"\",IF(AND($C68<=K$28,$D68<=K$28),$D68-$C68,IF($C68<=K$28,K$28-$C68,0))-SUM($E68:J68))","v":""},{"$f":"IF(D68=\"\",\"\",IF(AND($C68<=L$28,$D68<=L$28),$D68-$C68,IF($C68<=L$28,L$28-$C68,0))-SUM($E68:K68))","v":""},{"$f":"IF(D68=\"\",\"\",IF(AND($C68<=M$28,$D68<=M$28),$D68-$C68,IF($C68<=M$28,M$28-$C68,0))-SUM($E68:L68))","v":""},{"$f":"IF(D68=\"\",\"\",IF(AND($C68<=N$28,$D68<=N$28),$D68-$C68,IF($C68<=N$28,N$28-$C68,0))-SUM($E68:M68))","v":""},{"$f":"IF(D68=\"\",\"\",IF(AND($C68<=O$28,$D68<=O$28),$D68-$C68,IF($C68<=O$28,O$28-$C68,0))-SUM($E68:N68))","v":""},{"$f":"IF(D68=\"\",\"\",IF(AND($C68<=P$28,$D68<=P$28),$D68-$C68,IF($C68<=P$28,P$28-$C68,0))-SUM($E68:O68))","v":""},"",0]
[30,null,"2015-12-31","","",{"$f":"IF(D69=\"\",\"\",IF(AND($C69<=F$28,$D69<=F$28),$D69-$C69,IF($C69<=F$28,F$28-$C69,0))-SUM($E69:E69))","v":""},{"$f":"IF(D69=\"\",\"\",IF(AND($C69<=G$28,$D69<=G$28),$D69-$C69,IF($C69<=G$28,G$28-$C69,0))-SUM($E69:F69))","v":""},{"$f":"IF(D69=\"\",\"\",IF(AND($C69<=H$28,$D69<=H$28),$D69-$C69,IF($C69<=H$28,H$28-$C69,0))-SUM($E69:G69))","v":""},{"$f":"IF(D69=\"\",\"\",IF(AND($C69<=I$28,$D69<=I$28),$D69-$C69,IF($C69<=I$28,I$28-$C69,0))-SUM($E69:H69))","v":""},{"$f":"IF(D69=\"\",\"\",IF(AND($C69<=J$28,$D69<=J$28),$D69-$C69,IF($C69<=J$28,J$28-$C69,0))-SUM($E69:I69))","v":""},{"$f":"IF(D69=\"\",\"\",IF(AND($C69<=K$28,$D69<=K$28),$D69-$C69,IF($C69<=K$28,K$28-$C69,0))-SUM($E69:J69))","v":""},{"$f":"IF(D69=\"\",\"\",IF(AND($C69<=L$28,$D69<=L$28),$D69-$C69,IF($C69<=L$28,L$28-$C69,0))-SUM($E69:K69))","v":""},{"$f":"IF(D69=\"\",\"\",IF(AND($C69<=M$28,$D69<=M$28),$D69-$C69,IF($C69<=M$28,M$28-$C69,0))-SUM($E69:L69))","v":""},{"$f":"IF(D69=\"\",\"\",IF(AND($C69<=N$28,$D69<=N$28),$D69-$C69,IF($C69<=N$28,N$28-$C69,0))-SUM($E69:M69))","v":""},{"$f":"IF(D69=\"\",\"\",IF(AND($C69<=O$28,$D69<=O$28),$D69-$C69,IF($C69<=O$28,O$28-$C69,0))-SUM($E69:N69))","v":""},{"$f":"IF(D69=\"\",\"\",IF(AND($C69<=P$28,$D69<=P$28),$D69-$C69,IF($C69<=P$28,P$28-$C69,0))-SUM($E69:O69))","v":""},"",0]
[31,null,"2015-12-31","","",{"$f":"IF(D70=\"\",\"\",IF(AND($C70<=F$28,$D70<=F$28),$D70-$C70,IF($C70<=F$28,F$28-$C70,0))-SUM($E70:E70))","v":""},{"$f":"IF(D70=\"\",\"\",IF(AND($C70<=G$28,$D70<=G$28),$D70-$C70,IF($C70<=G$28,G$28-$C70,0))-SUM($E70:F70))","v":""},{"$f":"IF(D70=\"\",\"\",IF(AND($C70<=H$28,$D70<=H$28),$D70-$C70,IF($C70<=H$28,H$28-$C70,0))-SUM($E70:G70))","v":""},{"$f":"IF(D70=\"\",\"\",IF(AND($C70<=I$28,$D70<=I$28),$D70-$C70,IF($C70<=I$28,I$28-$C70,0))-SUM($E70:H70))","v":""},{"$f":"IF(D70=\"\",\"\",IF(AND($C70<=J$28,$D70<=J$28),$D70-$C70,IF($C70<=J$28,J$28-$C70,0))-SUM($E70:I70))","v":""},{"$f":"IF(D70=\"\",\"\",IF(AND($C70<=K$28,$D70<=K$28),$D70-$C70,IF($C70<=K$28,K$28-$C70,0))-SUM($E70:J70))","v":""},{"$f":"IF(D70=\"\",\"\",IF(AND($C70<=L$28,$D70<=L$28),$D70-$C70,IF($C70<=L$28,L$28-$C70,0))-SUM($E70:K70))","v":""},{"$f":"IF(D70=\"\",\"\",IF(AND($C70<=M$28,$D70<=M$28),$D70-$C70,IF($C70<=M$28,M$28-$C70,0))-SUM($E70:L70))","v":""},{"$f":"IF(D70=\"\",\"\",IF(AND($C70<=N$28,$D70<=N$28),$D70-$C70,IF($C70<=N$28,N$28-$C70,0))-SUM($E70:M70))","v":""},{"$f":"IF(D70=\"\",\"\",IF(AND($C70<=O$28,$D70<=O$28),$D70-$C70,IF($C70<=O$28,O$28-$C70,0))-SUM($E70:N70))","v":""},{"$f":"IF(D70=\"\",\"\",IF(AND($C70<=P$28,$D70<=P$28),$D70-$C70,IF($C70<=P$28,P$28-$C70,0))-SUM($E70:O70))","v":""},"",0]
[32,null,"2015-12-31","","",{"$f":"IF(D71=\"\",\"\",IF(AND($C71<=F$28,$D71<=F$28),$D71-$C71,IF($C71<=F$28,F$28-$C71,0))-SUM($E71:E71))","v":""},{"$f":"IF(D71=\"\",\"\",IF(AND($C71<=G$28,$D71<=G$28),$D71-$C71,IF($C71<=G$28,G$28-$C71,0))-SUM($E71:F71))","v":""},{"$f":"IF(D71=\"\",\"\",IF(AND($C71<=H$28,$D71<=H$28),$D71-$C71,IF($C71<=H$28,H$28-$C71,0))-SUM($E71:G71))","v":""},{"$f":"IF(D71=\"\",\"\",IF(AND($C71<=I$28,$D71<=I$28),$D71-$C71,IF($C71<=I$28,I$28-$C71,0))-SUM($E71:H71))","v":""},{"$f":"IF(D71=\"\",\"\",IF(AND($C71<=J$28,$D71<=J$28),$D71-$C71,IF($C71<=J$28,J$28-$C71,0))-SUM($E71:I71))","v":""},{"$f":"IF(D71=\"\",\"\",IF(AND($C71<=K$28,$D71<=K$28),$D71-$C71,IF($C71<=K$28,K$28-$C71,0))-SUM($E71:J71))","v":""},{"$f":"IF(D71=\"\",\"\",IF(AND($C71<=L$28,$D71<=L$28),$D71-$C71,IF($C71<=L$28,L$28-$C71,0))-SUM($E71:K71))","v":""},{"$f":"IF(D71=\"\",\"\",IF(AND($C71<=M$28,$D71<=M$28),$D71-$C71,IF($C71<=M$28,M$28-$C71,0))-SUM($E71:L71))","v":""},{"$f":"IF(D71=\"\",\"\",IF(AND($C71<=N$28,$D71<=N$28),$D71-$C71,IF($C71<=N$28,N$28-$C71,0))-SUM($E71:M71))","v":""},{"$f":"IF(D71=\"\",\"\",IF(AND($C71<=O$28,$D71<=O$28),$D71-$C71,IF($C71<=O$28,O$28-$C71,0))-SUM($E71:N71))","v":""},{"$f":"IF(D71=\"\",\"\",IF(AND($C71<=P$28,$D71<=P$28),$D71-$C71,IF($C71<=P$28,P$28-$C71,0))-SUM($E71:O71))","v":""},"",0]
[33,null,"2015-12-31","","",{"$f":"IF(D72=\"\",\"\",IF(AND($C72<=F$28,$D72<=F$28),$D72-$C72,IF($C72<=F$28,F$28-$C72,0))-SUM($E72:E72))","v":""},{"$f":"IF(D72=\"\",\"\",IF(AND($C72<=G$28,$D72<=G$28),$D72-$C72,IF($C72<=G$28,G$28-$C72,0))-SUM($E72:F72))","v":""},{"$f":"IF(D72=\"\",\"\",IF(AND($C72<=H$28,$D72<=H$28),$D72-$C72,IF($C72<=H$28,H$28-$C72,0))-SUM($E72:G72))","v":""},{"$f":"IF(D72=\"\",\"\",IF(AND($C72<=I$28,$D72<=I$28),$D72-$C72,IF($C72<=I$28,I$28-$C72,0))-SUM($E72:H72))","v":""},{"$f":"IF(D72=\"\",\"\",IF(AND($C72<=J$28,$D72<=J$28),$D72-$C72,IF($C72<=J$28,J$28-$C72,0))-SUM($E72:I72))","v":""},{"$f":"IF(D72=\"\",\"\",IF(AND($C72<=K$28,$D72<=K$28),$D72-$C72,IF($C72<=K$28,K$28-$C72,0))-SUM($E72:J72))","v":""},{"$f":"IF(D72=\"\",\"\",IF(AND($C72<=L$28,$D72<=L$28),$D72-$C72,IF($C72<=L$28,L$28-$C72,0))-SUM($E72:K72))","v":""},{"$f":"IF(D72=\"\",\"\",IF(AND($C72<=M$28,$D72<=M$28),$D72-$C72,IF($C72<=M$28,M$28-$C72,0))-SUM($E72:L72))","v":""},{"$f":"IF(D72=\"\",\"\",IF(AND($C72<=N$28,$D72<=N$28),$D72-$C72,IF($C72<=N$28,N$28-$C72,0))-SUM($E72:M72))","v":""},{"$f":"IF(D72=\"\",\"\",IF(AND($C72<=O$28,$D72<=O$28),$D72-$C72,IF($C72<=O$28,O$28-$C72,0))-SUM($E72:N72))","v":""},{"$f":"IF(D72=\"\",\"\",IF(AND($C72<=P$28,$D72<=P$28),$D72-$C72,IF($C72<=P$28,P$28-$C72,0))-SUM($E72:O72))","v":""},"",0]
[34,null,"2015-12-31","","",{"$f":"IF(D73=\"\",\"\",IF(AND($C73<=F$28,$D73<=F$28),$D73-$C73,IF($C73<=F$28,F$28-$C73,0))-SUM($E73:E73))","v":""},{"$f":"IF(D73=\"\",\"\",IF(AND($C73<=G$28,$D73<=G$28),$D73-$C73,IF($C73<=G$28,G$28-$C73,0))-SUM($E73:F73))","v":""},{"$f":"IF(D73=\"\",\"\",IF(AND($C73<=H$28,$D73<=H$28),$D73-$C73,IF($C73<=H$28,H$28-$C73,0))-SUM($E73:G73))","v":""},{"$f":"IF(D73=\"\",\"\",IF(AND($C73<=I$28,$D73<=I$28),$D73-$C73,IF($C73<=I$28,I$28-$C73,0))-SUM($E73:H73))","v":""},{"$f":"IF(D73=\"\",\"\",IF(AND($C73<=J$28,$D73<=J$28),$D73-$C73,IF($C73<=J$28,J$28-$C73,0))-SUM($E73:I73))","v":""},{"$f":"IF(D73=\"\",\"\",IF(AND($C73<=K$28,$D73<=K$28),$D73-$C73,IF($C73<=K$28,K$28-$C73,0))-SUM($E73:J73))","v":""},{"$f":"IF(D73=\"\",\"\",IF(AND($C73<=L$28,$D73<=L$28),$D73-$C73,IF($C73<=L$28,L$28-$C73,0))-SUM($E73:K73))","v":""},{"$f":"IF(D73=\"\",\"\",IF(AND($C73<=M$28,$D73<=M$28),$D73-$C73,IF($C73<=M$28,M$28-$C73,0))-SUM($E73:L73))","v":""},{"$f":"IF(D73=\"\",\"\",IF(AND($C73<=N$28,$D73<=N$28),$D73-$C73,IF($C73<=N$28,N$28-$C73,0))-SUM($E73:M73))","v":""},{"$f":"IF(D73=\"\",\"\",IF(AND($C73<=O$28,$D73<=O$28),$D73-$C73,IF($C73<=O$28,O$28-$C73,0))-SUM($E73:N73))","v":""},{"$f":"IF(D73=\"\",\"\",IF(AND($C73<=P$28,$D73<=P$28),$D73-$C73,IF($C73<=P$28,P$28-$C73,0))-SUM($E73:O73))","v":""},"",0]
[35,null,"2015-12-31","","",{"$f":"IF(D74=\"\",\"\",IF(AND($C74<=F$28,$D74<=F$28),$D74-$C74,IF($C74<=F$28,F$28-$C74,0))-SUM($E74:E74))","v":""},{"$f":"IF(D74=\"\",\"\",IF(AND($C74<=G$28,$D74<=G$28),$D74-$C74,IF($C74<=G$28,G$28-$C74,0))-SUM($E74:F74))","v":""},{"$f":"IF(D74=\"\",\"\",IF(AND($C74<=H$28,$D74<=H$28),$D74-$C74,IF($C74<=H$28,H$28-$C74,0))-SUM($E74:G74))","v":""},{"$f":"IF(D74=\"\",\"\",IF(AND($C74<=I$28,$D74<=I$28),$D74-$C74,IF($C74<=I$28,I$28-$C74,0))-SUM($E74:H74))","v":""},{"$f":"IF(D74=\"\",\"\",IF(AND($C74<=J$28,$D74<=J$28),$D74-$C74,IF($C74<=J$28,J$28-$C74,0))-SUM($E74:I74))","v":""},{"$f":"IF(D74=\"\",\"\",IF(AND($C74<=K$28,$D74<=K$28),$D74-$C74,IF($C74<=K$28,K$28-$C74,0))-SUM($E74:J74))","v":""},{"$f":"IF(D74=\"\",\"\",IF(AND($C74<=L$28,$D74<=L$28),$D74-$C74,IF($C74<=L$28,L$28-$C74,0))-SUM($E74:K74))","v":""},{"$f":"IF(D74=\"\",\"\",IF(AND($C74<=M$28,$D74<=M$28),$D74-$C74,IF($C74<=M$28,M$28-$C74,0))-SUM($E74:L74))","v":""},{"$f":"IF(D74=\"\",\"\",IF(AND($C74<=N$28,$D74<=N$28),$D74-$C74,IF($C74<=N$28,N$28-$C74,0))-SUM($E74:M74))","v":""},{"$f":"IF(D74=\"\",\"\",IF(AND($C74<=O$28,$D74<=O$28),$D74-$C74,IF($C74<=O$28,O$28-$C74,0))-SUM($E74:N74))","v":""},{"$f":"IF(D74=\"\",\"\",IF(AND($C74<=P$28,$D74<=P$28),$D74-$C74,IF($C74<=P$28,P$28-$C74,0))-SUM($E74:O74))","v":""},"",0]
[36,null,"2015-12-31","","",{"$f":"IF(D75=\"\",\"\",IF(AND($C75<=F$28,$D75<=F$28),$D75-$C75,IF($C75<=F$28,F$28-$C75,0))-SUM($E75:E75))","v":""},{"$f":"IF(D75=\"\",\"\",IF(AND($C75<=G$28,$D75<=G$28),$D75-$C75,IF($C75<=G$28,G$28-$C75,0))-SUM($E75:F75))","v":""},{"$f":"IF(D75=\"\",\"\",IF(AND($C75<=H$28,$D75<=H$28),$D75-$C75,IF($C75<=H$28,H$28-$C75,0))-SUM($E75:G75))","v":""},{"$f":"IF(D75=\"\",\"\",IF(AND($C75<=I$28,$D75<=I$28),$D75-$C75,IF($C75<=I$28,I$28-$C75,0))-SUM($E75:H75))","v":""},{"$f":"IF(D75=\"\",\"\",IF(AND($C75<=J$28,$D75<=J$28),$D75-$C75,IF($C75<=J$28,J$28-$C75,0))-SUM($E75:I75))","v":""},{"$f":"IF(D75=\"\",\"\",IF(AND($C75<=K$28,$D75<=K$28),$D75-$C75,IF($C75<=K$28,K$28-$C75,0))-SUM($E75:J75))","v":""},{"$f":"IF(D75=\"\",\"\",IF(AND($C75<=L$28,$D75<=L$28),$D75-$C75,IF($C75<=L$28,L$28-$C75,0))-SUM($E75:K75))","v":""},{"$f":"IF(D75=\"\",\"\",IF(AND($C75<=M$28,$D75<=M$28),$D75-$C75,IF($C75<=M$28,M$28-$C75,0))-SUM($E75:L75))","v":""},{"$f":"IF(D75=\"\",\"\",IF(AND($C75<=N$28,$D75<=N$28),$D75-$C75,IF($C75<=N$28,N$28-$C75,0))-SUM($E75:M75))","v":""},{"$f":"IF(D75=\"\",\"\",IF(AND($C75<=O$28,$D75<=O$28),$D75-$C75,IF($C75<=O$28,O$28-$C75,0))-SUM($E75:N75))","v":""},{"$f":"IF(D75=\"\",\"\",IF(AND($C75<=P$28,$D75<=P$28),$D75-$C75,IF($C75<=P$28,P$28-$C75,0))-SUM($E75:O75))","v":""},"",0]
[37,null,"2015-12-31","","",{"$f":"IF(D76=\"\",\"\",IF(AND($C76<=F$28,$D76<=F$28),$D76-$C76,IF($C76<=F$28,F$28-$C76,0))-SUM($E76:E76))","v":""},{"$f":"IF(D76=\"\",\"\",IF(AND($C76<=G$28,$D76<=G$28),$D76-$C76,IF($C76<=G$28,G$28-$C76,0))-SUM($E76:F76))","v":""},{"$f":"IF(D76=\"\",\"\",IF(AND($C76<=H$28,$D76<=H$28),$D76-$C76,IF($C76<=H$28,H$28-$C76,0))-SUM($E76:G76))","v":""},{"$f":"IF(D76=\"\",\"\",IF(AND($C76<=I$28,$D76<=I$28),$D76-$C76,IF($C76<=I$28,I$28-$C76,0))-SUM($E76:H76))","v":""},{"$f":"IF(D76=\"\",\"\",IF(AND($C76<=J$28,$D76<=J$28),$D76-$C76,IF($C76<=J$28,J$28-$C76,0))-SUM($E76:I76))","v":""},{"$f":"IF(D76=\"\",\"\",IF(AND($C76<=K$28,$D76<=K$28),$D76-$C76,IF($C76<=K$28,K$28-$C76,0))-SUM($E76:J76))","v":""},{"$f":"IF(D76=\"\",\"\",IF(AND($C76<=L$28,$D76<=L$28),$D76-$C76,IF($C76<=L$28,L$28-$C76,0))-SUM($E76:K76))","v":""},{"$f":"IF(D76=\"\",\"\",IF(AND($C76<=M$28,$D76<=M$28),$D76-$C76,IF($C76<=M$28,M$28-$C76,0))-SUM($E76:L76))","v":""},{"$f":"IF(D76=\"\",\"\",IF(AND($C76<=N$28,$D76<=N$28),$D76-$C76,IF($C76<=N$28,N$28-$C76,0))-SUM($E76:M76))","v":""},{"$f":"IF(D76=\"\",\"\",IF(AND($C76<=O$28,$D76<=O$28),$D76-$C76,IF($C76<=O$28,O$28-$C76,0))-SUM($E76:N76))","v":""},{"$f":"IF(D76=\"\",\"\",IF(AND($C76<=P$28,$D76<=P$28),$D76-$C76,IF($C76<=P$28,P$28-$C76,0))-SUM($E76:O76))","v":""},"",0]
[38,null,"2015-12-31","","",{"$f":"IF(D77=\"\",\"\",IF(AND($C77<=F$28,$D77<=F$28),$D77-$C77,IF($C77<=F$28,F$28-$C77,0))-SUM($E77:E77))","v":""},{"$f":"IF(D77=\"\",\"\",IF(AND($C77<=G$28,$D77<=G$28),$D77-$C77,IF($C77<=G$28,G$28-$C77,0))-SUM($E77:F77))","v":""},{"$f":"IF(D77=\"\",\"\",IF(AND($C77<=H$28,$D77<=H$28),$D77-$C77,IF($C77<=H$28,H$28-$C77,0))-SUM($E77:G77))","v":""},{"$f":"IF(D77=\"\",\"\",IF(AND($C77<=I$28,$D77<=I$28),$D77-$C77,IF($C77<=I$28,I$28-$C77,0))-SUM($E77:H77))","v":""},{"$f":"IF(D77=\"\",\"\",IF(AND($C77<=J$28,$D77<=J$28),$D77-$C77,IF($C77<=J$28,J$28-$C77,0))-SUM($E77:I77))","v":""},{"$f":"IF(D77=\"\",\"\",IF(AND($C77<=K$28,$D77<=K$28),$D77-$C77,IF($C77<=K$28,K$28-$C77,0))-SUM($E77:J77))","v":""},{"$f":"IF(D77=\"\",\"\",IF(AND($C77<=L$28,$D77<=L$28),$D77-$C77,IF($C77<=L$28,L$28-$C77,0))-SUM($E77:K77))","v":""},{"$f":"IF(D77=\"\",\"\",IF(AND($C77<=M$28,$D77<=M$28),$D77-$C77,IF($C77<=M$28,M$28-$C77,0))-SUM($E77:L77))","v":""},{"$f":"IF(D77=\"\",\"\",IF(AND($C77<=N$28,$D77<=N$28),$D77-$C77,IF($C77<=N$28,N$28-$C77,0))-SUM($E77:M77))","v":""},{"$f":"IF(D77=\"\",\"\",IF(AND($C77<=O$28,$D77<=O$28),$D77-$C77,IF($C77<=O$28,O$28-$C77,0))-SUM($E77:N77))","v":""},{"$f":"IF(D77=\"\",\"\",IF(AND($C77<=P$28,$D77<=P$28),$D77-$C77,IF($C77<=P$28,P$28-$C77,0))-SUM($E77:O77))","v":""},"",0]
[39,null,"2015-12-31","","",{"$f":"IF(D78=\"\",\"\",IF(AND($C78<=F$28,$D78<=F$28),$D78-$C78,IF($C78<=F$28,F$28-$C78,0))-SUM($E78:E78))","v":""},{"$f":"IF(D78=\"\",\"\",IF(AND($C78<=G$28,$D78<=G$28),$D78-$C78,IF($C78<=G$28,G$28-$C78,0))-SUM($E78:F78))","v":""},{"$f":"IF(D78=\"\",\"\",IF(AND($C78<=H$28,$D78<=H$28),$D78-$C78,IF($C78<=H$28,H$28-$C78,0))-SUM($E78:G78))","v":""},{"$f":"IF(D78=\"\",\"\",IF(AND($C78<=I$28,$D78<=I$28),$D78-$C78,IF($C78<=I$28,I$28-$C78,0))-SUM($E78:H78))","v":""},{"$f":"IF(D78=\"\",\"\",IF(AND($C78<=J$28,$D78<=J$28),$D78-$C78,IF($C78<=J$28,J$28-$C78,0))-SUM($E78:I78))","v":""},{"$f":"IF(D78=\"\",\"\",IF(AND($C78<=K$28,$D78<=K$28),$D78-$C78,IF($C78<=K$28,K$28-$C78,0))-SUM($E78:J78))","v":""},{"$f":"IF(D78=\"\",\"\",IF(AND($C78<=L$28,$D78<=L$28),$D78-$C78,IF($C78<=L$28,L$28-$C78,0))-SUM($E78:K78))","v":""},{"$f":"IF(D78=\"\",\"\",IF(AND($C78<=M$28,$D78<=M$28),$D78-$C78,IF($C78<=M$28,M$28-$C78,0))-SUM($E78:L78))","v":""},{"$f":"IF(D78=\"\",\"\",IF(AND($C78<=N$28,$D78<=N$28),$D78-$C78,IF($C78<=N$28,N$28-$C78,0))-SUM($E78:M78))","v":""},{"$f":"IF(D78=\"\",\"\",IF(AND($C78<=O$28,$D78<=O$28),$D78-$C78,IF($C78<=O$28,O$28-$C78,0))-SUM($E78:N78))","v":""},{"$f":"IF(D78=\"\",\"\",IF(AND($C78<=P$28,$D78<=P$28),$D78-$C78,IF($C78<=P$28,P$28-$C78,0))-SUM($E78:O78))","v":""},"",0]
[40,null,"2015-12-31","","",{"$f":"IF(D79=\"\",\"\",IF(AND($C79<=F$28,$D79<=F$28),$D79-$C79,IF($C79<=F$28,F$28-$C79,0))-SUM($E79:E79))","v":""},{"$f":"IF(D79=\"\",\"\",IF(AND($C79<=G$28,$D79<=G$28),$D79-$C79,IF($C79<=G$28,G$28-$C79,0))-SUM($E79:F79))","v":""},{"$f":"IF(D79=\"\",\"\",IF(AND($C79<=H$28,$D79<=H$28),$D79-$C79,IF($C79<=H$28,H$28-$C79,0))-SUM($E79:G79))","v":""},{"$f":"IF(D79=\"\",\"\",IF(AND($C79<=I$28,$D79<=I$28),$D79-$C79,IF($C79<=I$28,I$28-$C79,0))-SUM($E79:H79))","v":""},{"$f":"IF(D79=\"\",\"\",IF(AND($C79<=J$28,$D79<=J$28),$D79-$C79,IF($C79<=J$28,J$28-$C79,0))-SUM($E79:I79))","v":""},{"$f":"IF(D79=\"\",\"\",IF(AND($C79<=K$28,$D79<=K$28),$D79-$C79,IF($C79<=K$28,K$28-$C79,0))-SUM($E79:J79))","v":""},{"$f":"IF(D79=\"\",\"\",IF(AND($C79<=L$28,$D79<=L$28),$D79-$C79,IF($C79<=L$28,L$28-$C79,0))-SUM($E79:K79))","v":""},{"$f":"IF(D79=\"\",\"\",IF(AND($C79<=M$28,$D79<=M$28),$D79-$C79,IF($C79<=M$28,M$28-$C79,0))-SUM($E79:L79))","v":""},{"$f":"IF(D79=\"\",\"\",IF(AND($C79<=N$28,$D79<=N$28),$D79-$C79,IF($C79<=N$28,N$28-$C79,0))-SUM($E79:M79))","v":""},{"$f":"IF(D79=\"\",\"\",IF(AND($C79<=O$28,$D79<=O$28),$D79-$C79,IF($C79<=O$28,O$28-$C79,0))-SUM($E79:N79))","v":""},{"$f":"IF(D79=\"\",\"\",IF(AND($C79<=P$28,$D79<=P$28),$D79-$C79,IF($C79<=P$28,P$28-$C79,0))-SUM($E79:O79))","v":""},"",0]
[41,null,"2015-12-31","","",{"$f":"IF(D80=\"\",\"\",IF(AND($C80<=F$28,$D80<=F$28),$D80-$C80,IF($C80<=F$28,F$28-$C80,0))-SUM($E80:E80))","v":""},{"$f":"IF(D80=\"\",\"\",IF(AND($C80<=G$28,$D80<=G$28),$D80-$C80,IF($C80<=G$28,G$28-$C80,0))-SUM($E80:F80))","v":""},{"$f":"IF(D80=\"\",\"\",IF(AND($C80<=H$28,$D80<=H$28),$D80-$C80,IF($C80<=H$28,H$28-$C80,0))-SUM($E80:G80))","v":""},{"$f":"IF(D80=\"\",\"\",IF(AND($C80<=I$28,$D80<=I$28),$D80-$C80,IF($C80<=I$28,I$28-$C80,0))-SUM($E80:H80))","v":""},{"$f":"IF(D80=\"\",\"\",IF(AND($C80<=J$28,$D80<=J$28),$D80-$C80,IF($C80<=J$28,J$28-$C80,0))-SUM($E80:I80))","v":""},{"$f":"IF(D80=\"\",\"\",IF(AND($C80<=K$28,$D80<=K$28),$D80-$C80,IF($C80<=K$28,K$28-$C80,0))-SUM($E80:J80))","v":""},{"$f":"IF(D80=\"\",\"\",IF(AND($C80<=L$28,$D80<=L$28),$D80-$C80,IF($C80<=L$28,L$28-$C80,0))-SUM($E80:K80))","v":""},{"$f":"IF(D80=\"\",\"\",IF(AND($C80<=M$28,$D80<=M$28),$D80-$C80,IF($C80<=M$28,M$28-$C80,0))-SUM($E80:L80))","v":""},{"$f":"IF(D80=\"\",\"\",IF(AND($C80<=N$28,$D80<=N$28),$D80-$C80,IF($C80<=N$28,N$28-$C80,0))-SUM($E80:M80))","v":""},{"$f":"IF(D80=\"\",\"\",IF(AND($C80<=O$28,$D80<=O$28),$D80-$C80,IF($C80<=O$28,O$28-$C80,0))-SUM($E80:N80))","v":""},{"$f":"IF(D80=\"\",\"\",IF(AND($C80<=P$28,$D80<=P$28),$D80-$C80,IF($C80<=P$28,P$28-$C80,0))-SUM($E80:O80))","v":""},"",0]
[42,null,"2015-12-31","","",{"$f":"IF(D81=\"\",\"\",IF(AND($C81<=F$28,$D81<=F$28),$D81-$C81,IF($C81<=F$28,F$28-$C81,0))-SUM($E81:E81))","v":""},{"$f":"IF(D81=\"\",\"\",IF(AND($C81<=G$28,$D81<=G$28),$D81-$C81,IF($C81<=G$28,G$28-$C81,0))-SUM($E81:F81))","v":""},{"$f":"IF(D81=\"\",\"\",IF(AND($C81<=H$28,$D81<=H$28),$D81-$C81,IF($C81<=H$28,H$28-$C81,0))-SUM($E81:G81))","v":""},{"$f":"IF(D81=\"\",\"\",IF(AND($C81<=I$28,$D81<=I$28),$D81-$C81,IF($C81<=I$28,I$28-$C81,0))-SUM($E81:H81))","v":""},{"$f":"IF(D81=\"\",\"\",IF(AND($C81<=J$28,$D81<=J$28),$D81-$C81,IF($C81<=J$28,J$28-$C81,0))-SUM($E81:I81))","v":""},{"$f":"IF(D81=\"\",\"\",IF(AND($C81<=K$28,$D81<=K$28),$D81-$C81,IF($C81<=K$28,K$28-$C81,0))-SUM($E81:J81))","v":""},{"$f":"IF(D81=\"\",\"\",IF(AND($C81<=L$28,$D81<=L$28),$D81-$C81,IF($C81<=L$28,L$28-$C81,0))-SUM($E81:K81))","v":""},{"$f":"IF(D81=\"\",\"\",IF(AND($C81<=M$28,$D81<=M$28),$D81-$C81,IF($C81<=M$28,M$28-$C81,0))-SUM($E81:L81))","v":""},{"$f":"IF(D81=\"\",\"\",IF(AND($C81<=N$28,$D81<=N$28),$D81-$C81,IF($C81<=N$28,N$28-$C81,0))-SUM($E81:M81))","v":""},{"$f":"IF(D81=\"\",\"\",IF(AND($C81<=O$28,$D81<=O$28),$D81-$C81,IF($C81<=O$28,O$28-$C81,0))-SUM($E81:N81))","v":""},{"$f":"IF(D81=\"\",\"\",IF(AND($C81<=P$28,$D81<=P$28),$D81-$C81,IF($C81<=P$28,P$28-$C81,0))-SUM($E81:O81))","v":""},"",0]
[43,null,"2015-12-31","","",{"$f":"IF(D82=\"\",\"\",IF(AND($C82<=F$28,$D82<=F$28),$D82-$C82,IF($C82<=F$28,F$28-$C82,0))-SUM($E82:E82))","v":""},{"$f":"IF(D82=\"\",\"\",IF(AND($C82<=G$28,$D82<=G$28),$D82-$C82,IF($C82<=G$28,G$28-$C82,0))-SUM($E82:F82))","v":""},{"$f":"IF(D82=\"\",\"\",IF(AND($C82<=H$28,$D82<=H$28),$D82-$C82,IF($C82<=H$28,H$28-$C82,0))-SUM($E82:G82))","v":""},{"$f":"IF(D82=\"\",\"\",IF(AND($C82<=I$28,$D82<=I$28),$D82-$C82,IF($C82<=I$28,I$28-$C82,0))-SUM($E82:H82))","v":""},{"$f":"IF(D82=\"\",\"\",IF(AND($C82<=J$28,$D82<=J$28),$D82-$C82,IF($C82<=J$28,J$28-$C82,0))-SUM($E82:I82))","v":""},{"$f":"IF(D82=\"\",\"\",IF(AND($C82<=K$28,$D82<=K$28),$D82-$C82,IF($C82<=K$28,K$28-$C82,0))-SUM($E82:J82))","v":""},{"$f":"IF(D82=\"\",\"\",IF(AND($C82<=L$28,$D82<=L$28),$D82-$C82,IF($C82<=L$28,L$28-$C82,0))-SUM($E82:K82))","v":""},{"$f":"IF(D82=\"\",\"\",IF(AND($C82<=M$28,$D82<=M$28),$D82-$C82,IF($C82<=M$28,M$28-$C82,0))-SUM($E82:L82))","v":""},{"$f":"IF(D82=\"\",\"\",IF(AND($C82<=N$28,$D82<=N$28),$D82-$C82,IF($C82<=N$28,N$28-$C82,0))-SUM($E82:M82))","v":""},{"$f":"IF(D82=\"\",\"\",IF(AND($C82<=O$28,$D82<=O$28),$D82-$C82,IF($C82<=O$28,O$28-$C82,0))-SUM($E82:N82))","v":""},{"$f":"IF(D82=\"\",\"\",IF(AND($C82<=P$28,$D82<=P$28),$D82-$C82,IF($C82<=P$28,P$28-$C82,0))-SUM($E82:O82))","v":""},"",0]
[44,null,"2015-12-31","","",{"$f":"IF(D83=\"\",\"\",IF(AND($C83<=F$28,$D83<=F$28),$D83-$C83,IF($C83<=F$28,F$28-$C83,0))-SUM($E83:E83))","v":""},{"$f":"IF(D83=\"\",\"\",IF(AND($C83<=G$28,$D83<=G$28),$D83-$C83,IF($C83<=G$28,G$28-$C83,0))-SUM($E83:F83))","v":""},{"$f":"IF(D83=\"\",\"\",IF(AND($C83<=H$28,$D83<=H$28),$D83-$C83,IF($C83<=H$28,H$28-$C83,0))-SUM($E83:G83))","v":""},{"$f":"IF(D83=\"\",\"\",IF(AND($C83<=I$28,$D83<=I$28),$D83-$C83,IF($C83<=I$28,I$28-$C83,0))-SUM($E83:H83))","v":""},{"$f":"IF(D83=\"\",\"\",IF(AND($C83<=J$28,$D83<=J$28),$D83-$C83,IF($C83<=J$28,J$28-$C83,0))-SUM($E83:I83))","v":""},{"$f":"IF(D83=\"\",\"\",IF(AND($C83<=K$28,$D83<=K$28),$D83-$C83,IF($C83<=K$28,K$28-$C83,0))-SUM($E83:J83))","v":""},{"$f":"IF(D83=\"\",\"\",IF(AND($C83<=L$28,$D83<=L$28),$D83-$C83,IF($C83<=L$28,L$28-$C83,0))-SUM($E83:K83))","v":""},{"$f":"IF(D83=\"\",\"\",IF(AND($C83<=M$28,$D83<=M$28),$D83-$C83,IF($C83<=M$28,M$28-$C83,0))-SUM($E83:L83))","v":""},{"$f":"IF(D83=\"\",\"\",IF(AND($C83<=N$28,$D83<=N$28),$D83-$C83,IF($C83<=N$28,N$28-$C83,0))-SUM($E83:M83))","v":""},{"$f":"IF(D83=\"\",\"\",IF(AND($C83<=O$28,$D83<=O$28),$D83-$C83,IF($C83<=O$28,O$28-$C83,0))-SUM($E83:N83))","v":""},{"$f":"IF(D83=\"\",\"\",IF(AND($C83<=P$28,$D83<=P$28),$D83-$C83,IF($C83<=P$28,P$28-$C83,0))-SUM($E83:O83))","v":""},"",0]
[45,null,"2015-12-31","","",{"$f":"IF(D84=\"\",\"\",IF(AND($C84<=F$28,$D84<=F$28),$D84-$C84,IF($C84<=F$28,F$28-$C84,0))-SUM($E84:E84))","v":""},{"$f":"IF(D84=\"\",\"\",IF(AND($C84<=G$28,$D84<=G$28),$D84-$C84,IF($C84<=G$28,G$28-$C84,0))-SUM($E84:F84))","v":""},{"$f":"IF(D84=\"\",\"\",IF(AND($C84<=H$28,$D84<=H$28),$D84-$C84,IF($C84<=H$28,H$28-$C84,0))-SUM($E84:G84))","v":""},{"$f":"IF(D84=\"\",\"\",IF(AND($C84<=I$28,$D84<=I$28),$D84-$C84,IF($C84<=I$28,I$28-$C84,0))-SUM($E84:H84))","v":""},{"$f":"IF(D84=\"\",\"\",IF(AND($C84<=J$28,$D84<=J$28),$D84-$C84,IF($C84<=J$28,J$28-$C84,0))-SUM($E84:I84))","v":""},{"$f":"IF(D84=\"\",\"\",IF(AND($C84<=K$28,$D84<=K$28),$D84-$C84,IF($C84<=K$28,K$28-$C84,0))-SUM($E84:J84))","v":""},{"$f":"IF(D84=\"\",\"\",IF(AND($C84<=L$28,$D84<=L$28),$D84-$C84,IF($C84<=L$28,L$28-$C84,0))-SUM($E84:K84))","v":""},{"$f":"IF(D84=\"\",\"\",IF(AND($C84<=M$28,$D84<=M$28),$D84-$C84,IF($C84<=M$28,M$28-$C84,0))-SUM($E84:L84))","v":""},{"$f":"IF(D84=\"\",\"\",IF(AND($C84<=N$28,$D84<=N$28),$D84-$C84,IF($C84<=N$28,N$28-$C84,0))-SUM($E84:M84))","v":""},{"$f":"IF(D84=\"\",\"\",IF(AND($C84<=O$28,$D84<=O$28),$D84-$C84,IF($C84<=O$28,O$28-$C84,0))-SUM($E84:N84))","v":""},{"$f":"IF(D84=\"\",\"\",IF(AND($C84<=P$28,$D84<=P$28),$D84-$C84,IF($C84<=P$28,P$28-$C84,0))-SUM($E84:O84))","v":""},"",0]
[46,null,"2015-12-31","","",{"$f":"IF(D85=\"\",\"\",IF(AND($C85<=F$28,$D85<=F$28),$D85-$C85,IF($C85<=F$28,F$28-$C85,0))-SUM($E85:E85))","v":""},{"$f":"IF(D85=\"\",\"\",IF(AND($C85<=G$28,$D85<=G$28),$D85-$C85,IF($C85<=G$28,G$28-$C85,0))-SUM($E85:F85))","v":""},{"$f":"IF(D85=\"\",\"\",IF(AND($C85<=H$28,$D85<=H$28),$D85-$C85,IF($C85<=H$28,H$28-$C85,0))-SUM($E85:G85))","v":""},{"$f":"IF(D85=\"\",\"\",IF(AND($C85<=I$28,$D85<=I$28),$D85-$C85,IF($C85<=I$28,I$28-$C85,0))-SUM($E85:H85))","v":""},{"$f":"IF(D85=\"\",\"\",IF(AND($C85<=J$28,$D85<=J$28),$D85-$C85,IF($C85<=J$28,J$28-$C85,0))-SUM($E85:I85))","v":""},{"$f":"IF(D85=\"\",\"\",IF(AND($C85<=K$28,$D85<=K$28),$D85-$C85,IF($C85<=K$28,K$28-$C85,0))-SUM($E85:J85))","v":""},{"$f":"IF(D85=\"\",\"\",IF(AND($C85<=L$28,$D85<=L$28),$D85-$C85,IF($C85<=L$28,L$28-$C85,0))-SUM($E85:K85))","v":""},{"$f":"IF(D85=\"\",\"\",IF(AND($C85<=M$28,$D85<=M$28),$D85-$C85,IF($C85<=M$28,M$28-$C85,0))-SUM($E85:L85))","v":""},{"$f":"IF(D85=\"\",\"\",IF(AND($C85<=N$28,$D85<=N$28),$D85-$C85,IF($C85<=N$28,N$28-$C85,0))-SUM($E85:M85))","v":""},{"$f":"IF(D85=\"\",\"\",IF(AND($C85<=O$28,$D85<=O$28),$D85-$C85,IF($C85<=O$28,O$28-$C85,0))-SUM($E85:N85))","v":""},{"$f":"IF(D85=\"\",\"\",IF(AND($C85<=P$28,$D85<=P$28),$D85-$C85,IF($C85<=P$28,P$28-$C85,0))-SUM($E85:O85))","v":""},"",0]
[47,null,"2015-12-31","","",{"$f":"IF(D86=\"\",\"\",IF(AND($C86<=F$28,$D86<=F$28),$D86-$C86,IF($C86<=F$28,F$28-$C86,0))-SUM($E86:E86))","v":""},{"$f":"IF(D86=\"\",\"\",IF(AND($C86<=G$28,$D86<=G$28),$D86-$C86,IF($C86<=G$28,G$28-$C86,0))-SUM($E86:F86))","v":""},{"$f":"IF(D86=\"\",\"\",IF(AND($C86<=H$28,$D86<=H$28),$D86-$C86,IF($C86<=H$28,H$28-$C86,0))-SUM($E86:G86))","v":""},{"$f":"IF(D86=\"\",\"\",IF(AND($C86<=I$28,$D86<=I$28),$D86-$C86,IF($C86<=I$28,I$28-$C86,0))-SUM($E86:H86))","v":""},{"$f":"IF(D86=\"\",\"\",IF(AND($C86<=J$28,$D86<=J$28),$D86-$C86,IF($C86<=J$28,J$28-$C86,0))-SUM($E86:I86))","v":""},{"$f":"IF(D86=\"\",\"\",IF(AND($C86<=K$28,$D86<=K$28),$D86-$C86,IF($C86<=K$28,K$28-$C86,0))-SUM($E86:J86))","v":""},{"$f":"IF(D86=\"\",\"\",IF(AND($C86<=L$28,$D86<=L$28),$D86-$C86,IF($C86<=L$28,L$28-$C86,0))-SUM($E86:K86))","v":""},{"$f":"IF(D86=\"\",\"\",IF(AND($C86<=M$28,$D86<=M$28),$D86-$C86,IF($C86<=M$28,M$28-$C86,0))-SUM($E86:L86))","v":""},{"$f":"IF(D86=\"\",\"\",IF(AND($C86<=N$28,$D86<=N$28),$D86-$C86,IF($C86<=N$28,N$28-$C86,0))-SUM($E86:M86))","v":""},{"$f":"IF(D86=\"\",\"\",IF(AND($C86<=O$28,$D86<=O$28),$D86-$C86,IF($C86<=O$28,O$28-$C86,0))-SUM($E86:N86))","v":""},{"$f":"IF(D86=\"\",\"\",IF(AND($C86<=P$28,$D86<=P$28),$D86-$C86,IF($C86<=P$28,P$28-$C86,0))-SUM($E86:O86))","v":""},"",0]
[48,null,"2015-12-31","","",{"$f":"IF(D87=\"\",\"\",IF(AND($C87<=F$28,$D87<=F$28),$D87-$C87,IF($C87<=F$28,F$28-$C87,0))-SUM($E87:E87))","v":""},{"$f":"IF(D87=\"\",\"\",IF(AND($C87<=G$28,$D87<=G$28),$D87-$C87,IF($C87<=G$28,G$28-$C87,0))-SUM($E87:F87))","v":""},{"$f":"IF(D87=\"\",\"\",IF(AND($C87<=H$28,$D87<=H$28),$D87-$C87,IF($C87<=H$28,H$28-$C87,0))-SUM($E87:G87))","v":""},{"$f":"IF(D87=\"\",\"\",IF(AND($C87<=I$28,$D87<=I$28),$D87-$C87,IF($C87<=I$28,I$28-$C87,0))-SUM($E87:H87))","v":""},{"$f":"IF(D87=\"\",\"\",IF(AND($C87<=J$28,$D87<=J$28),$D87-$C87,IF($C87<=J$28,J$28-$C87,0))-SUM($E87:I87))","v":""},{"$f":"IF(D87=\"\",\"\",IF(AND($C87<=K$28,$D87<=K$28),$D87-$C87,IF($C87<=K$28,K$28-$C87,0))-SUM($E87:J87))","v":""},{"$f":"IF(D87=\"\",\"\",IF(AND($C87<=L$28,$D87<=L$28),$D87-$C87,IF($C87<=L$28,L$28-$C87,0))-SUM($E87:K87))","v":""},{"$f":"IF(D87=\"\",\"\",IF(AND($C87<=M$28,$D87<=M$28),$D87-$C87,IF($C87<=M$28,M$28-$C87,0))-SUM($E87:L87))","v":""},{"$f":"IF(D87=\"\",\"\",IF(AND($C87<=N$28,$D87<=N$28),$D87-$C87,IF($C87<=N$28,N$28-$C87,0))-SUM($E87:M87))","v":""},{"$f":"IF(D87=\"\",\"\",IF(AND($C87<=O$28,$D87<=O$28),$D87-$C87,IF($C87<=O$28,O$28-$C87,0))-SUM($E87:N87))","v":""},{"$f":"IF(D87=\"\",\"\",IF(AND($C87<=P$28,$D87<=P$28),$D87-$C87,IF($C87<=P$28,P$28-$C87,0))-SUM($E87:O87))","v":""},"",0]
[49,null,"2015-12-31","","",{"$f":"IF(D88=\"\",\"\",IF(AND($C88<=F$28,$D88<=F$28),$D88-$C88,IF($C88<=F$28,F$28-$C88,0))-SUM($E88:E88))","v":""},{"$f":"IF(D88=\"\",\"\",IF(AND($C88<=G$28,$D88<=G$28),$D88-$C88,IF($C88<=G$28,G$28-$C88,0))-SUM($E88:F88))","v":""},{"$f":"IF(D88=\"\",\"\",IF(AND($C88<=H$28,$D88<=H$28),$D88-$C88,IF($C88<=H$28,H$28-$C88,0))-SUM($E88:G88))","v":""},{"$f":"IF(D88=\"\",\"\",IF(AND($C88<=I$28,$D88<=I$28),$D88-$C88,IF($C88<=I$28,I$28-$C88,0))-SUM($E88:H88))","v":""},{"$f":"IF(D88=\"\",\"\",IF(AND($C88<=J$28,$D88<=J$28),$D88-$C88,IF($C88<=J$28,J$28-$C88,0))-SUM($E88:I88))","v":""},{"$f":"IF(D88=\"\",\"\",IF(AND($C88<=K$28,$D88<=K$28),$D88-$C88,IF($C88<=K$28,K$28-$C88,0))-SUM($E88:J88))","v":""},{"$f":"IF(D88=\"\",\"\",IF(AND($C88<=L$28,$D88<=L$28),$D88-$C88,IF($C88<=L$28,L$28-$C88,0))-SUM($E88:K88))","v":""},{"$f":"IF(D88=\"\",\"\",IF(AND($C88<=M$28,$D88<=M$28),$D88-$C88,IF($C88<=M$28,M$28-$C88,0))-SUM($E88:L88))","v":""},{"$f":"IF(D88=\"\",\"\",IF(AND($C88<=N$28,$D88<=N$28),$D88-$C88,IF($C88<=N$28,N$28-$C88,0))-SUM($E88:M88))","v":""},{"$f":"IF(D88=\"\",\"\",IF(AND($C88<=O$28,$D88<=O$28),$D88-$C88,IF($C88<=O$28,O$28-$C88,0))-SUM($E88:N88))","v":""},{"$f":"IF(D88=\"\",\"\",IF(AND($C88<=P$28,$D88<=P$28),$D88-$C88,IF($C88<=P$28,P$28-$C88,0))-SUM($E88:O88))","v":""},"",0]
[50,null,"2015-12-31","","",{"$f":"IF(D89=\"\",\"\",IF(AND($C89<=F$28,$D89<=F$28),$D89-$C89,IF($C89<=F$28,F$28-$C89,0))-SUM($E89:E89))","v":""},{"$f":"IF(D89=\"\",\"\",IF(AND($C89<=G$28,$D89<=G$28),$D89-$C89,IF($C89<=G$28,G$28-$C89,0))-SUM($E89:F89))","v":""},{"$f":"IF(D89=\"\",\"\",IF(AND($C89<=H$28,$D89<=H$28),$D89-$C89,IF($C89<=H$28,H$28-$C89,0))-SUM($E89:G89))","v":""},{"$f":"IF(D89=\"\",\"\",IF(AND($C89<=I$28,$D89<=I$28),$D89-$C89,IF($C89<=I$28,I$28-$C89,0))-SUM($E89:H89))","v":""},{"$f":"IF(D89=\"\",\"\",IF(AND($C89<=J$28,$D89<=J$28),$D89-$C89,IF($C89<=J$28,J$28-$C89,0))-SUM($E89:I89))","v":""},{"$f":"IF(D89=\"\",\"\",IF(AND($C89<=K$28,$D89<=K$28),$D89-$C89,IF($C89<=K$28,K$28-$C89,0))-SUM($E89:J89))","v":""},{"$f":"IF(D89=\"\",\"\",IF(AND($C89<=L$28,$D89<=L$28),$D89-$C89,IF($C89<=L$28,L$28-$C89,0))-SUM($E89:K89))","v":""},{"$f":"IF(D89=\"\",\"\",IF(AND($C89<=M$28,$D89<=M$28),$D89-$C89,IF($C89<=M$28,M$28-$C89,0))-SUM($E89:L89))","v":""},{"$f":"IF(D89=\"\",\"\",IF(AND($C89<=N$28,$D89<=N$28),$D89-$C89,IF($C89<=N$28,N$28-$C89,0))-SUM($E89:M89))","v":""},{"$f":"IF(D89=\"\",\"\",IF(AND($C89<=O$28,$D89<=O$28),$D89-$C89,IF($C89<=O$28,O$28-$C89,0))-SUM($E89:N89))","v":""},{"$f":"IF(D89=\"\",\"\",IF(AND($C89<=P$28,$D89<=P$28),$D89-$C89,IF($C89<=P$28,P$28-$C89,0))-SUM($E89:O89))","v":""},"",0]
[51,null,"2015-12-31","","",{"$f":"IF(D90=\"\",\"\",IF(AND($C90<=F$28,$D90<=F$28),$D90-$C90,IF($C90<=F$28,F$28-$C90,0))-SUM($E90:E90))","v":""},{"$f":"IF(D90=\"\",\"\",IF(AND($C90<=G$28,$D90<=G$28),$D90-$C90,IF($C90<=G$28,G$28-$C90,0))-SUM($E90:F90))","v":""},{"$f":"IF(D90=\"\",\"\",IF(AND($C90<=H$28,$D90<=H$28),$D90-$C90,IF($C90<=H$28,H$28-$C90,0))-SUM($E90:G90))","v":""},{"$f":"IF(D90=\"\",\"\",IF(AND($C90<=I$28,$D90<=I$28),$D90-$C90,IF($C90<=I$28,I$28-$C90,0))-SUM($E90:H90))","v":""},{"$f":"IF(D90=\"\",\"\",IF(AND($C90<=J$28,$D90<=J$28),$D90-$C90,IF($C90<=J$28,J$28-$C90,0))-SUM($E90:I90))","v":""},{"$f":"IF(D90=\"\",\"\",IF(AND($C90<=K$28,$D90<=K$28),$D90-$C90,IF($C90<=K$28,K$28-$C90,0))-SUM($E90:J90))","v":""},{"$f":"IF(D90=\"\",\"\",IF(AND($C90<=L$28,$D90<=L$28),$D90-$C90,IF($C90<=L$28,L$28-$C90,0))-SUM($E90:K90))","v":""},{"$f":"IF(D90=\"\",\"\",IF(AND($C90<=M$28,$D90<=M$28),$D90-$C90,IF($C90<=M$28,M$28-$C90,0))-SUM($E90:L90))","v":""},{"$f":"IF(D90=\"\",\"\",IF(AND($C90<=N$28,$D90<=N$28),$D90-$C90,IF($C90<=N$28,N$28-$C90,0))-SUM($E90:M90))","v":""},{"$f":"IF(D90=\"\",\"\",IF(AND($C90<=O$28,$D90<=O$28),$D90-$C90,IF($C90<=O$28,O$28-$C90,0))-SUM($E90:N90))","v":""},{"$f":"IF(D90=\"\",\"\",IF(AND($C90<=P$28,$D90<=P$28),$D90-$C90,IF($C90<=P$28,P$28-$C90,0))-SUM($E90:O90))","v":""},"",0]
[52,null,"2015-12-31","","",{"$f":"IF(D91=\"\",\"\",IF(AND($C91<=F$28,$D91<=F$28),$D91-$C91,IF($C91<=F$28,F$28-$C91,0))-SUM($E91:E91))","v":""},{"$f":"IF(D91=\"\",\"\",IF(AND($C91<=G$28,$D91<=G$28),$D91-$C91,IF($C91<=G$28,G$28-$C91,0))-SUM($E91:F91))","v":""},{"$f":"IF(D91=\"\",\"\",IF(AND($C91<=H$28,$D91<=H$28),$D91-$C91,IF($C91<=H$28,H$28-$C91,0))-SUM($E91:G91))","v":""},{"$f":"IF(D91=\"\",\"\",IF(AND($C91<=I$28,$D91<=I$28),$D91-$C91,IF($C91<=I$28,I$28-$C91,0))-SUM($E91:H91))","v":""},{"$f":"IF(D91=\"\",\"\",IF(AND($C91<=J$28,$D91<=J$28),$D91-$C91,IF($C91<=J$28,J$28-$C91,0))-SUM($E91:I91))","v":""},{"$f":"IF(D91=\"\",\"\",IF(AND($C91<=K$28,$D91<=K$28),$D91-$C91,IF($C91<=K$28,K$28-$C91,0))-SUM($E91:J91))","v":""},{"$f":"IF(D91=\"\",\"\",IF(AND($C91<=L$28,$D91<=L$28),$D91-$C91,IF($C91<=L$28,L$28-$C91,0))-SUM($E91:K91))","v":""},{"$f":"IF(D91=\"\",\"\",IF(AND($C91<=M$28,$D91<=M$28),$D91-$C91,IF($C91<=M$28,M$28-$C91,0))-SUM($E91:L91))","v":""},{"$f":"IF(D91=\"\",\"\",IF(AND($C91<=N$28,$D91<=N$28),$D91-$C91,IF($C91<=N$28,N$28-$C91,0))-SUM($E91:M91))","v":""},{"$f":"IF(D91=\"\",\"\",IF(AND($C91<=O$28,$D91<=O$28),$D91-$C91,IF($C91<=O$28,O$28-$C91,0))-SUM($E91:N91))","v":""},{"$f":"IF(D91=\"\",\"\",IF(AND($C91<=P$28,$D91<=P$28),$D91-$C91,IF($C91<=P$28,P$28-$C91,0))-SUM($E91:O91))","v":""},"",0]
[53,null,"2015-12-31","","",{"$f":"IF(D92=\"\",\"\",IF(AND($C92<=F$28,$D92<=F$28),$D92-$C92,IF($C92<=F$28,F$28-$C92,0))-SUM($E92:E92))","v":""},{"$f":"IF(D92=\"\",\"\",IF(AND($C92<=G$28,$D92<=G$28),$D92-$C92,IF($C92<=G$28,G$28-$C92,0))-SUM($E92:F92))","v":""},{"$f":"IF(D92=\"\",\"\",IF(AND($C92<=H$28,$D92<=H$28),$D92-$C92,IF($C92<=H$28,H$28-$C92,0))-SUM($E92:G92))","v":""},{"$f":"IF(D92=\"\",\"\",IF(AND($C92<=I$28,$D92<=I$28),$D92-$C92,IF($C92<=I$28,I$28-$C92,0))-SUM($E92:H92))","v":""},{"$f":"IF(D92=\"\",\"\",IF(AND($C92<=J$28,$D92<=J$28),$D92-$C92,IF($C92<=J$28,J$28-$C92,0))-SUM($E92:I92))","v":""},{"$f":"IF(D92=\"\",\"\",IF(AND($C92<=K$28,$D92<=K$28),$D92-$C92,IF($C92<=K$28,K$28-$C92,0))-SUM($E92:J92))","v":""},{"$f":"IF(D92=\"\",\"\",IF(AND($C92<=L$28,$D92<=L$28),$D92-$C92,IF($C92<=L$28,L$28-$C92,0))-SUM($E92:K92))","v":""},{"$f":"IF(D92=\"\",\"\",IF(AND($C92<=M$28,$D92<=M$28),$D92-$C92,IF($C92<=M$28,M$28-$C92,0))-SUM($E92:L92))","v":""},{"$f":"IF(D92=\"\",\"\",IF(AND($C92<=N$28,$D92<=N$28),$D92-$C92,IF($C92<=N$28,N$28-$C92,0))-SUM($E92:M92))","v":""},{"$f":"IF(D92=\"\",\"\",IF(AND($C92<=O$28,$D92<=O$28),$D92-$C92,IF($C92<=O$28,O$28-$C92,0))-SUM($E92:N92))","v":""},{"$f":"IF(D92=\"\",\"\",IF(AND($C92<=P$28,$D92<=P$28),$D92-$C92,IF($C92<=P$28,P$28-$C92,0))-SUM($E92:O92))","v":""},"",0]
[54,null,"2015-12-31","","",{"$f":"IF(D93=\"\",\"\",IF(AND($C93<=F$28,$D93<=F$28),$D93-$C93,IF($C93<=F$28,F$28-$C93,0))-SUM($E93:E93))","v":""},{"$f":"IF(D93=\"\",\"\",IF(AND($C93<=G$28,$D93<=G$28),$D93-$C93,IF($C93<=G$28,G$28-$C93,0))-SUM($E93:F93))","v":""},{"$f":"IF(D93=\"\",\"\",IF(AND($C93<=H$28,$D93<=H$28),$D93-$C93,IF($C93<=H$28,H$28-$C93,0))-SUM($E93:G93))","v":""},{"$f":"IF(D93=\"\",\"\",IF(AND($C93<=I$28,$D93<=I$28),$D93-$C93,IF($C93<=I$28,I$28-$C93,0))-SUM($E93:H93))","v":""},{"$f":"IF(D93=\"\",\"\",IF(AND($C93<=J$28,$D93<=J$28),$D93-$C93,IF($C93<=J$28,J$28-$C93,0))-SUM($E93:I93))","v":""},{"$f":"IF(D93=\"\",\"\",IF(AND($C93<=K$28,$D93<=K$28),$D93-$C93,IF($C93<=K$28,K$28-$C93,0))-SUM($E93:J93))","v":""},{"$f":"IF(D93=\"\",\"\",IF(AND($C93<=L$28,$D93<=L$28),$D93-$C93,IF($C93<=L$28,L$28-$C93,0))-SUM($E93:K93))","v":""},{"$f":"IF(D93=\"\",\"\",IF(AND($C93<=M$28,$D93<=M$28),$D93-$C93,IF($C93<=M$28,M$28-$C93,0))-SUM($E93:L93))","v":""},{"$f":"IF(D93=\"\",\"\",IF(AND($C93<=N$28,$D93<=N$28),$D93-$C93,IF($C93<=N$28,N$28-$C93,0))-SUM($E93:M93))","v":""},{"$f":"IF(D93=\"\",\"\",IF(AND($C93<=O$28,$D93<=O$28),$D93-$C93,IF($C93<=O$28,O$28-$C93,0))-SUM($E93:N93))","v":""},{"$f":"IF(D93=\"\",\"\",IF(AND($C93<=P$28,$D93<=P$28),$D93-$C93,IF($C93<=P$28,P$28-$C93,0))-SUM($E93:O93))","v":""},"",0]
[55,null,"2015-12-31","","",{"$f":"IF(D94=\"\",\"\",IF(AND($C94<=F$28,$D94<=F$28),$D94-$C94,IF($C94<=F$28,F$28-$C94,0))-SUM($E94:E94))","v":""},{"$f":"IF(D94=\"\",\"\",IF(AND($C94<=G$28,$D94<=G$28),$D94-$C94,IF($C94<=G$28,G$28-$C94,0))-SUM($E94:F94))","v":""},{"$f":"IF(D94=\"\",\"\",IF(AND($C94<=H$28,$D94<=H$28),$D94-$C94,IF($C94<=H$28,H$28-$C94,0))-SUM($E94:G94))","v":""},{"$f":"IF(D94=\"\",\"\",IF(AND($C94<=I$28,$D94<=I$28),$D94-$C94,IF($C94<=I$28,I$28-$C94,0))-SUM($E94:H94))","v":""},{"$f":"IF(D94=\"\",\"\",IF(AND($C94<=J$28,$D94<=J$28),$D94-$C94,IF($C94<=J$28,J$28-$C94,0))-SUM($E94:I94))","v":""},{"$f":"IF(D94=\"\",\"\",IF(AND($C94<=K$28,$D94<=K$28),$D94-$C94,IF($C94<=K$28,K$28-$C94,0))-SUM($E94:J94))","v":""},{"$f":"IF(D94=\"\",\"\",IF(AND($C94<=L$28,$D94<=L$28),$D94-$C94,IF($C94<=L$28,L$28-$C94,0))-SUM($E94:K94))","v":""},{"$f":"IF(D94=\"\",\"\",IF(AND($C94<=M$28,$D94<=M$28),$D94-$C94,IF($C94<=M$28,M$28-$C94,0))-SUM($E94:L94))","v":""},{"$f":"IF(D94=\"\",\"\",IF(AND($C94<=N$28,$D94<=N$28),$D94-$C94,IF($C94<=N$28,N$28-$C94,0))-SUM($E94:M94))","v":""},{"$f":"IF(D94=\"\",\"\",IF(AND($C94<=O$28,$D94<=O$28),$D94-$C94,IF($C94<=O$28,O$28-$C94,0))-SUM($E94:N94))","v":""},{"$f":"IF(D94=\"\",\"\",IF(AND($C94<=P$28,$D94<=P$28),$D94-$C94,IF($C94<=P$28,P$28-$C94,0))-SUM($E94:O94))","v":""},"",0]
[56,null,"2015-12-31","","",{"$f":"IF(D95=\"\",\"\",IF(AND($C95<=F$28,$D95<=F$28),$D95-$C95,IF($C95<=F$28,F$28-$C95,0))-SUM($E95:E95))","v":""},{"$f":"IF(D95=\"\",\"\",IF(AND($C95<=G$28,$D95<=G$28),$D95-$C95,IF($C95<=G$28,G$28-$C95,0))-SUM($E95:F95))","v":""},{"$f":"IF(D95=\"\",\"\",IF(AND($C95<=H$28,$D95<=H$28),$D95-$C95,IF($C95<=H$28,H$28-$C95,0))-SUM($E95:G95))","v":""},{"$f":"IF(D95=\"\",\"\",IF(AND($C95<=I$28,$D95<=I$28),$D95-$C95,IF($C95<=I$28,I$28-$C95,0))-SUM($E95:H95))","v":""},{"$f":"IF(D95=\"\",\"\",IF(AND($C95<=J$28,$D95<=J$28),$D95-$C95,IF($C95<=J$28,J$28-$C95,0))-SUM($E95:I95))","v":""},{"$f":"IF(D95=\"\",\"\",IF(AND($C95<=K$28,$D95<=K$28),$D95-$C95,IF($C95<=K$28,K$28-$C95,0))-SUM($E95:J95))","v":""},{"$f":"IF(D95=\"\",\"\",IF(AND($C95<=L$28,$D95<=L$28),$D95-$C95,IF($C95<=L$28,L$28-$C95,0))-SUM($E95:K95))","v":""},{"$f":"IF(D95=\"\",\"\",IF(AND($C95<=M$28,$D95<=M$28),$D95-$C95,IF($C95<=M$28,M$28-$C95,0))-SUM($E95:L95))","v":""},{"$f":"IF(D95=\"\",\"\",IF(AND($C95<=N$28,$D95<=N$28),$D95-$C95,IF($C95<=N$28,N$28-$C95,0))-SUM($E95:M95))","v":""},{"$f":"IF(D95=\"\",\"\",IF(AND($C95<=O$28,$D95<=O$28),$D95-$C95,IF($C95<=O$28,O$28-$C95,0))-SUM($E95:N95))","v":""},{"$f":"IF(D95=\"\",\"\",IF(AND($C95<=P$28,$D95<=P$28),$D95-$C95,IF($C95<=P$28,P$28-$C95,0))-SUM($E95:O95))","v":""},"",0]
[57,null,"2015-12-31","","",{"$f":"IF(D96=\"\",\"\",IF(AND($C96<=F$28,$D96<=F$28),$D96-$C96,IF($C96<=F$28,F$28-$C96,0))-SUM($E96:E96))","v":""},{"$f":"IF(D96=\"\",\"\",IF(AND($C96<=G$28,$D96<=G$28),$D96-$C96,IF($C96<=G$28,G$28-$C96,0))-SUM($E96:F96))","v":""},{"$f":"IF(D96=\"\",\"\",IF(AND($C96<=H$28,$D96<=H$28),$D96-$C96,IF($C96<=H$28,H$28-$C96,0))-SUM($E96:G96))","v":""},{"$f":"IF(D96=\"\",\"\",IF(AND($C96<=I$28,$D96<=I$28),$D96-$C96,IF($C96<=I$28,I$28-$C96,0))-SUM($E96:H96))","v":""},{"$f":"IF(D96=\"\",\"\",IF(AND($C96<=J$28,$D96<=J$28),$D96-$C96,IF($C96<=J$28,J$28-$C96,0))-SUM($E96:I96))","v":""},{"$f":"IF(D96=\"\",\"\",IF(AND($C96<=K$28,$D96<=K$28),$D96-$C96,IF($C96<=K$28,K$28-$C96,0))-SUM($E96:J96))","v":""},{"$f":"IF(D96=\"\",\"\",IF(AND($C96<=L$28,$D96<=L$28),$D96-$C96,IF($C96<=L$28,L$28-$C96,0))-SUM($E96:K96))","v":""},{"$f":"IF(D96=\"\",\"\",IF(AND($C96<=M$28,$D96<=M$28),$D96-$C96,IF($C96<=M$28,M$28-$C96,0))-SUM($E96:L96))","v":""},{"$f":"IF(D96=\"\",\"\",IF(AND($C96<=N$28,$D96<=N$28),$D96-$C96,IF($C96<=N$28,N$28-$C96,0))-SUM($E96:M96))","v":""},{"$f":"IF(D96=\"\",\"\",IF(AND($C96<=O$28,$D96<=O$28),$D96-$C96,IF($C96<=O$28,O$28-$C96,0))-SUM($E96:N96))","v":""},{"$f":"IF(D96=\"\",\"\",IF(AND($C96<=P$28,$D96<=P$28),$D96-$C96,IF($C96<=P$28,P$28-$C96,0))-SUM($E96:O96))","v":""},"",0]
[58,null,"2015-12-31","","",{"$f":"IF(D97=\"\",\"\",IF(AND($C97<=F$28,$D97<=F$28),$D97-$C97,IF($C97<=F$28,F$28-$C97,0))-SUM($E97:E97))","v":""},{"$f":"IF(D97=\"\",\"\",IF(AND($C97<=G$28,$D97<=G$28),$D97-$C97,IF($C97<=G$28,G$28-$C97,0))-SUM($E97:F97))","v":""},{"$f":"IF(D97=\"\",\"\",IF(AND($C97<=H$28,$D97<=H$28),$D97-$C97,IF($C97<=H$28,H$28-$C97,0))-SUM($E97:G97))","v":""},{"$f":"IF(D97=\"\",\"\",IF(AND($C97<=I$28,$D97<=I$28),$D97-$C97,IF($C97<=I$28,I$28-$C97,0))-SUM($E97:H97))","v":""},{"$f":"IF(D97=\"\",\"\",IF(AND($C97<=J$28,$D97<=J$28),$D97-$C97,IF($C97<=J$28,J$28-$C97,0))-SUM($E97:I97))","v":""},{"$f":"IF(D97=\"\",\"\",IF(AND($C97<=K$28,$D97<=K$28),$D97-$C97,IF($C97<=K$28,K$28-$C97,0))-SUM($E97:J97))","v":""},{"$f":"IF(D97=\"\",\"\",IF(AND($C97<=L$28,$D97<=L$28),$D97-$C97,IF($C97<=L$28,L$28-$C97,0))-SUM($E97:K97))","v":""},{"$f":"IF(D97=\"\",\"\",IF(AND($C97<=M$28,$D97<=M$28),$D97-$C97,IF($C97<=M$28,M$28-$C97,0))-SUM($E97:L97))","v":""},{"$f":"IF(D97=\"\",\"\",IF(AND($C97<=N$28,$D97<=N$28),$D97-$C97,IF($C97<=N$28,N$28-$C97,0))-SUM($E97:M97))","v":""},{"$f":"IF(D97=\"\",\"\",IF(AND($C97<=O$28,$D97<=O$28),$D97-$C97,IF($C97<=O$28,O$28-$C97,0))-SUM($E97:N97))","v":""},{"$f":"IF(D97=\"\",\"\",IF(AND($C97<=P$28,$D97<=P$28),$D97-$C97,IF($C97<=P$28,P$28-$C97,0))-SUM($E97:O97))","v":""},"",0]
[59,null,"2015-12-31","","",{"$f":"IF(D98=\"\",\"\",IF(AND($C98<=F$28,$D98<=F$28),$D98-$C98,IF($C98<=F$28,F$28-$C98,0))-SUM($E98:E98))","v":""},{"$f":"IF(D98=\"\",\"\",IF(AND($C98<=G$28,$D98<=G$28),$D98-$C98,IF($C98<=G$28,G$28-$C98,0))-SUM($E98:F98))","v":""},{"$f":"IF(D98=\"\",\"\",IF(AND($C98<=H$28,$D98<=H$28),$D98-$C98,IF($C98<=H$28,H$28-$C98,0))-SUM($E98:G98))","v":""},{"$f":"IF(D98=\"\",\"\",IF(AND($C98<=I$28,$D98<=I$28),$D98-$C98,IF($C98<=I$28,I$28-$C98,0))-SUM($E98:H98))","v":""},{"$f":"IF(D98=\"\",\"\",IF(AND($C98<=J$28,$D98<=J$28),$D98-$C98,IF($C98<=J$28,J$28-$C98,0))-SUM($E98:I98))","v":""},{"$f":"IF(D98=\"\",\"\",IF(AND($C98<=K$28,$D98<=K$28),$D98-$C98,IF($C98<=K$28,K$28-$C98,0))-SUM($E98:J98))","v":""},{"$f":"IF(D98=\"\",\"\",IF(AND($C98<=L$28,$D98<=L$28),$D98-$C98,IF($C98<=L$28,L$28-$C98,0))-SUM($E98:K98))","v":""},{"$f":"IF(D98=\"\",\"\",IF(AND($C98<=M$28,$D98<=M$28),$D98-$C98,IF($C98<=M$28,M$28-$C98,0))-SUM($E98:L98))","v":""},{"$f":"IF(D98=\"\",\"\",IF(AND($C98<=N$28,$D98<=N$28),$D98-$C98,IF($C98<=N$28,N$28-$C98,0))-SUM($E98:M98))","v":""},{"$f":"IF(D98=\"\",\"\",IF(AND($C98<=O$28,$D98<=O$28),$D98-$C98,IF($C98<=O$28,O$28-$C98,0))-SUM($E98:N98))","v":""},{"$f":"IF(D98=\"\",\"\",IF(AND($C98<=P$28,$D98<=P$28),$D98-$C98,IF($C98<=P$28,P$28-$C98,0))-SUM($E98:O98))","v":""},"",0]
[60,null,"2015-12-31","","",{"$f":"IF(D99=\"\",\"\",IF(AND($C99<=F$28,$D99<=F$28),$D99-$C99,IF($C99<=F$28,F$28-$C99,0))-SUM($E99:E99))","v":""},{"$f":"IF(D99=\"\",\"\",IF(AND($C99<=G$28,$D99<=G$28),$D99-$C99,IF($C99<=G$28,G$28-$C99,0))-SUM($E99:F99))","v":""},{"$f":"IF(D99=\"\",\"\",IF(AND($C99<=H$28,$D99<=H$28),$D99-$C99,IF($C99<=H$28,H$28-$C99,0))-SUM($E99:G99))","v":""},{"$f":"IF(D99=\"\",\"\",IF(AND($C99<=I$28,$D99<=I$28),$D99-$C99,IF($C99<=I$28,I$28-$C99,0))-SUM($E99:H99))","v":""},{"$f":"IF(D99=\"\",\"\",IF(AND($C99<=J$28,$D99<=J$28),$D99-$C99,IF($C99<=J$28,J$28-$C99,0))-SUM($E99:I99))","v":""},{"$f":"IF(D99=\"\",\"\",IF(AND($C99<=K$28,$D99<=K$28),$D99-$C99,IF($C99<=K$28,K$28-$C99,0))-SUM($E99:J99))","v":""},{"$f":"IF(D99=\"\",\"\",IF(AND($C99<=L$28,$D99<=L$28),$D99-$C99,IF($C99<=L$28,L$28-$C99,0))-SUM($E99:K99))","v":""},{"$f":"IF(D99=\"\",\"\",IF(AND($C99<=M$28,$D99<=M$28),$D99-$C99,IF($C99<=M$28,M$28-$C99,0))-SUM($E99:L99))","v":""},{"$f":"IF(D99=\"\",\"\",IF(AND($C99<=N$28,$D99<=N$28),$D99-$C99,IF($C99<=N$28,N$28-$C99,0))-SUM($E99:M99))","v":""},{"$f":"IF(D99=\"\",\"\",IF(AND($C99<=O$28,$D99<=O$28),$D99-$C99,IF($C99<=O$28,O$28-$C99,0))-SUM($E99:N99))","v":""},{"$f":"IF(D99=\"\",\"\",IF(AND($C99<=P$28,$D99<=P$28),$D99-$C99,IF($C99<=P$28,P$28-$C99,0))-SUM($E99:O99))","v":""},"",0]
[]
[null,"Graddage i periode:"]
[]
["Afl",null,"Fra","Til",1,2,3,4,5,6,7,8,9,10,11,12,13,"ÅTD %"]
[0,null,null,{"$f":"IF(D39=\"\",\"\",D39)","v":"2015-12-31"}]
[1,null,{"$f":"D$39","v":"2015-12-31"},{"$f":"IF(D40=\"\",\"\",D40)","v":"2015-01-31"},{"$f":"IF(E40=\"\",\"\",E40*E$34/E$29)","v":-3.3400000000000003},0,0,0,0,0,0,0,0,0,0,0,0,{"$f":"IF(D105=\"\",\"\",SUM(E105:Q105))","v":-3.3400000000000003}]
[2,null,"2015-12-31","2015-02-28",-3.06,0,0,0,0,0,0,0,0,0,0,0,0,-3.06]
[3,null,"2015-12-31","2015-03-31",-2.75,0,0,0,0,0,0,0,0,0,0,0,0,-2.75]
[4,null,"2015-12-31","2015-04-30",-2.4500000000000002,0,0,0,0,0,0,0,0,0,0,0,0,-2.4500000000000002]
[5,null,"2015-12-31","2015-05-31",-2.14,0,0,0,0,0,0,0,0,0,0,0,0,-2.14]
[6,null,"2015-12-31","2015-06-30",-1.84,0,0,0,0,0,0,0,0,0,0,0,0,-1.84]
[7,null,"2015-12-31","2015-07-31",-1.53,0,0,0,0,0,0,0,0,0,0,0,0,-1.53]
[8,null,"2015-12-31","2015-08-31",-1.22,0,0,0,0,0,0,0,0,0,0,0,0,-1.22]
[9,null,"2015-12-31","2015-09-30",-0.92,0,0,0,0,0,0,0,0,0,0,0,0,-0.92]
[10,null,"2015-12-31","2015-10-31",-0.61,0,0,0,0,0,0,0,0,0,0,0,0,-0.61]
[11,null,"2015-12-31","2015-11-30",-0.31,0,0,0,0,0,0,0,0,0,0,0,0,-0.31]
[12,null,"2015-12-31","2015-12-31",0,0,0,0,0,0,0,0,0,0,0,0,0,0]
[13,null,"2015-12-31","","","","","","","","","","","","","","",""]
[14,null,"2015-12-31","","","","","","","","","","","","","","",""]
[15,null,"2015-12-31","","","","","","","","","","","","","","",""]
[16,null,"2015-12-31","","","","","","","","","","","","","","",""]
[17,null,"2015-12-31","",{"$f":"IF(E56=\"\",\"\",E56*E$34/E$29)","v":""},"","","","","","","","","","","","",""]
[18,null,"2015-12-31","","","","","","","","","","","","","","",""]
[19,null,"2015-12-31","","","","","","","","","","","","","","",""]
[20,null,"2015-12-31","","","","","","","","","","","","","","",""]
[21,null,"2015-12-31","","","","","","","","","","","","","","",""]
[22,null,"2015-12-31","","","","","","","","","","","","","","",""]
[23,null,"2015-12-31","","","","","","","","","","","","","","",""]
[24,null,"2015-12-31","","","","","","","","","","","","","","",""]
[25,null,"2015-12-31","","","","","","","","","","","","","","",""]
[26,null,"2015-12-31","","","","","","","","","","","","","","",""]
[27,null,"2015-12-31","","","","","","","","","","","","","","",""]
[28,null,"2015-12-31","","","","","","","","","","","","","","",""]
[29,null,"2015-12-31","","","","","","","","","","","","","","",""]
[30,null,"2015-12-31","","","","","","","","","","","","","","",""]
[31,null,"2015-12-31","","","","","","","","","","","","","","",""]
[32,null,"2015-12-31","","","","","","","","","","","","","","",""]
[33,null,"2015-12-31","",{"$f":"IF(E72=\"\",\"\",E72*E$34/E$29)","v":""},"","","","","","","","","","","","",""]
[34,null,"2015-12-31","","","","","","","","","","","","","","",""]
[35,null,"2015-12-31","","","","","","","","","","","","","","",""]
[36,null,"2015-12-31","","","","","","","","","","","","","","",""]
[37,null,"2015-12-31","","","","","","","","","","","","","","",""]
[38,null,"2015-12-31","","","","","","","","","","","","","","",""]
[39,null,"2015-12-31","","","","","","","","","","","","","","",""]
[40,null,"2015-12-31","","","","","","","","","","","","","","",""]
[41,null,"2015-12-31","","","","","","","","","","","","","","",""]
[42,null,"2015-12-31","","","","","","","","","","","","","","",""]
[43,null,"2015-12-31","","","","","","","","","","","","","","",""]
[44,null,"2015-12-31","","","","","","","","","","","","","","",""]
[45,null,"2015-12-31","","","","","","","","","","","","","","",""]
[46,null,"2015-12-31","","","","","","","","","","","","","","",""]
[47,null,"2015-12-31","","","","","","","","","","","","","","",""]
[48,null,"2015-12-31","","","","","","","","","","","","","","",""]
[49,null,"2015-12-31","",{"$f":"IF(E88=\"\",\"\",E88*E$34/E$29)","v":""},"","","","","","","","","","","","",""]
[50,null,"2015-12-31","","","","","","","","","","","","","","",""]
[51,null,"2015-12-31","","","","","","","","","","","","","","",""]
[52,null,"2015-12-31","","","","","","","","","","","","","","",""]
[53,null,"2015-12-31","","","","","","","","","","","","","","",""]
[54,null,"2015-12-31","","","","","","","","","","","","","","",""]
[55,null,"2015-12-31","","","","","","","","","","","","","","",""]
[56,null,"2015-12-31","","","","","","","","","","","","","","",""]
[57,null,"2015-12-31","","","","","","","","","","","","","","",""]
[58,null,"2015-12-31","","","","","","","","","","","","","","",""]
[59,null,"2015-12-31","","","","","","","","","","","","","","",""]
[60,null,"2015-12-31","","","","","","","","","","","","","","",""]
[]
[]
[]
[]
[]
[]
[]
[]
[]
[]
[]
[]
[]
[]
[]
[]
[]
[]
[]
[]
[]
[]
[]
[]
[]
[]
[]
[]
[]
[]
[]
[]
[]
[]
[]
[]
[]
[]
[]
[]
[]
[]
[]
[]
[]
[]
[]
[]
[]
[]
[]
[]
[]
[]
[]
[]
[]
[]
[]
[]
[]
[]
[]
[]
[]
[]
[]
[]
[]
[]
[]
[]
[]
[]
[]
[]
[]
[]
[]
[]
[]
[]
[]
[]
[]
[]
[]
[]
[]
[]
[]
[]
[]
[]
[]
[]
[]
[]
[]
[]
[]
[]
[]
[]
[]
[]
[]
[]
[]
[]
[]
[]
[]
[]
[]
[]
[]
[]
[]
[]
[]
[]
[]
[]
[]
[]
[]
[]
[]
[]
[]
[]
[]
[]
[]
[]
[]
[]
[]
[]
[]
[]
[]
[]
[]
[]
[]
[]
[]
[]
[]
[]
[]
[]
[]
[]
[]
[]
[]
[]
[]
[]
[]
[]
[]
[]
[]
[]
[]
[]
[]
[]
[]
[]
[]
[]
[]
[]
[]
[]
[]
[]
[]
[]
[]
[]
[]
[]
[]
[]
[]
[]
[]
[]
[]
[]
[]
[]
[]
[]
[]
[]
[]
[]
[]
[]
[]
[]
[]
[]
[]
[]
[]
[]
[]
[]
[]
[]
[]
[]
[]
[]
[]
[]
[]
[]
[]
[]
[]
[]
[]
[]
[]
[]
[]
[]
[]
[]
[]
[]
[]
[]
[]
[]
[]
[]
[]
[]
[]
[]
[]
[]
[]
[]
[]
[]
[]
[]
[]
[]
[]
[]
[]
[]
[]
[]
[]
[]
[]
[]
[]
[]
[]
[]
[]
[]
[]
[]
[]
[]
[]
[]
[]
[]
[]
[]
[]
[]
[]
[]
[]
[]
[]
[]
[]
[]
[]
[]
[]
[]
[]
[]
[]
[]
[]
[]
[]
[]
[]
[]
[]
[]
[]
[]
[]
[]
[]
[]
[]
[]
[]
[]
[]
[]
[]
[]
[]
[]
[]
[]
[]
[]
[]
[]
[]
[]
[]
[]
[]
[]
[]
[]
[]
[]
[]
[]
[]
[]
[]
[]
[]
[]
[]
[]
[]
[]
[]
[]
[]
[]
[]
[]
[]
[]
[]
[]
[]
[]
[]
[]
[]
[]
[]
[]
[]
[]
[]
[]
[]
[]
[]
[]
[]
[]
[]
[]
[]
[]
[]
[]
[]
[]
[]
[]
[]
[]
[]
[]
[]
[]
[]
[]
[]
[]
[]
[]
[]
[]
[]
[]
[]
[]
[]
[]
[]
[]
[]
[]
[]
[]
[]
[]
[]
[]
[]
[]
[]
[]
[]
[]
[]
[]
[]
[]
[]
[]
[]
[]
[]
[]
[]
[]
[]
[]
[]
[]
[]
[]
[]
[]
[]
[]
[]
[]
[]
[]
[]
[]
[]
[]
[]
[]
[]
[]
[]
[]
[]
[]
[]
[]
[]
[]
[]
[]
[]
[]
[]
[]
[]
[]
[]
[]
[]
[]
[]
[]
[]
[]
[]
[]
[]
[]
[]
[]
[]
[]
[]
[]
[]
[]
[]
[]
[]
[]
[]
[]
[]
[]
[]
[]
[]
[]
[]
[]
[]
[]
[]
[]
[]
[]
[]
[]
[]
[]
[]
[]
[]
[]
[]
[]
[]
[]
[]
[]
[]
[]
[]
[]
[]
[]
[]
[]
[]
[]
[]
[]
[]
[]
[]
[]
[]
[]
[]
[]
[]
[]
[]
[]
[]
[]
[]
[]
[]
[]
[]
[]
[]
[]
[]
[]
[]
[]
[]
[]
[]
[]
[]
[]
[]
[]
[]
[]
[]
[]
[]
[]
[]
[]
[]
[]
[]
[]
[]
[]
[]
[]
[]
[]
[]
[]
[]
[]
[]
[]
[]
[]
[]
[]
[]
[]
[]
[]
[]
[]
[]
[]
[]
[]
[]
[]
[]
[]
[]
[]
[]
[]
[]
[]
[]
[]
[]
[]
[]
[]
[]
[]
[]
[]
[]
[]
[]
[]
[]
[]
[]
[]
[]
[]
[]
[]
[]
[]
[]
[]
[]
[]
[]
[]
[]
[]
[]
[]
[]
[]
[]
[]
[]
[]
[]
[]
[]
[]
[]
[]
[]
[]
[]
[]
[]
[]
[]
[]
[]
[]
[]
[]
[]
[]
[]
[]
[]
[]
[]
[]
[]
[]
[]
[]
[]
[]
[]
[]
[]
[]
[]
[]
[]
[]
[]
[]
[]
[]
[]
[]
[]
[]
[]
[]
[]
[]
[]
[]
[]
[]
[]
[]
[]
[]
[]
[]
[]
[]
[]
[]
[]
[]
[]
[]
[]
[]
[]
[]
[]
[]
[]
[]
[]
[]
[]
[]
[]
[]
[]
[]
[]
[]
[]
[]
[]
[]
[]
[]
[]
[]
[]
[]
[]
[]
[]
[]
[]
[]
[]
[]
[]
[]
[]
[]
[]
[]
[]
[]
[]
[]
[]
[]
[]
[]
[]
[]
[]
[]
[]
[]
[]
[]
[]
[]
[]
[]
[]
[]
[]
[]
[]
[]
[]
[]
[]
[]
[]
[]
[]
[]
[]
[]
[]
[]
[]
[]
[]
[]
[]
[]
[]
[]
[]
[]
[]
[]
[]
[]
[]
[]
[]
[]
[]
[]
[]
[]
[]
[]
[]
[]
[]
[]
[]
[]
[]
[]
[]
[]
[]
[]
[]
[]
[]
[]
[]
[]
[]
[]
[]
[]
[]
[]
[]
[]
[]
[]
[]
[]
[]
[]
[]
[]
[]
[]
[]
[]
[]
[]
[]
[]
[]
[]
[]
[]
[]
[]
[]
[]
[]
[]
[]
[]
[]
[]
[]
[]
[]
[]
[]
[]
[]
[]
[]
[]
[]
[]
[]
[]
[]
[]
[]
[]
[]
[]
[]
[]
[]
[]
[]
[]
[]
[]
[]
[]
[]
[]
[]
[]
[]
[]
[]
[]
[]
[]
[]
[]
[]
[]
[]
[]
[]
[]
[]
[]
[]
[]
[]
[]
[]
[]
[]
[]
[]
[]
[]
[]
[]
[]
[]
[]
[]
[]
[]
[]
[]
[]
[]
[]
[]
[]
[]
[]
[]
[]
[]
[]
[]
[]
[]
[]
[]
[]
[]
[]
[]
[]
[]
[]
[]
[]
[]
[]
[]
[]
[]
[]
[]
[]
[]
[]
[]
[]
[]
[]
[]
[]
[]
[]
[]
[]
[]
[]
[]
[]
[]
[]
[]
[]
[]
[]
[]
[]
[]
[]
[]
[]
[]
[]
[]
[]
[]
[]
[]
[]
[]
[]
[]
[]
[]
[]
[]
[]
[]
[]
[]
[]
[]
[]
[]
[]
[]
[]
[]
[]
[]
[]
[]
[]
[]
[]
[]
[]
[]
[]
[]
[]
[]
[]
[]
[]
[]
[]
[]
[]
[]
[]
[]
[]
[]
[]
[]
[]
[]
[]
[]
[]
[]
[]
[]
[]
[]
[]
[]
[]
[]
[]
[]
[]
[]
[]
[]
[]
[]
[]
[]
[]
[]
[]
[]
[]
[]
[]
[]
[]
[]
[]
[]
[]
[]
[]
[]
[]
[]
[]
[]
[]
[]
[]
[]
[]
[]
[]
[]
[]
[]
[]
[]
[]
[]
[]
[]
[]
[]
[]
[]
[]
[]
[]
[]
[]
[]
[]
[]
[]
[]
[]
[]
[]
[]
[]
[]
[]
[]
[]
[]
[]
[]
[]
[]
[]
[]
[]
[]
[]
[]
[]
[]
[]
[]
[]
[]
[]
[]
[]
[]
[]
[]
[]
[]
[]
[]
[]
[]
[]
[]
[]
[]
[]
[]
[]
[]
[]
[]
[]
[]
[]
[]
[]
[]
[]
[]
[]
[]
[]
[]
[]
[]
[]
[]
[]
[]
[]
[]
[]
[]
[]
[]
[]
[]
[]
[]
[]
[]
[]
[]
[]
[]
[]
[]
[]
[]
[]
[]
[]
[]
[]
[]
[]
[]
[]
[]
[]
[]
[]
[]
[]
[]
[]
[]
[]
[]
[]
[]
[]
[]
[]
[]
[]
[]
[]
[]
[]
[]
[]
[]
[]
[]
[]
[]
[]
[]
[]
[]
[]
[]
[]
[]
[]
[]
[]
[]
[]
[]
[]
[]
[]
[]
[]
[]
[]
[]
[]
[]
[]
[]
[]
[]
[]
[]
[]
[]
[]
[]
[]
[]
[]
[]
[]
[]
[]
[]
[]
[]
[]
[]
[]
[]
[]
[]
[]
[]
[]
[]
[]
[]
[]
[]
[]
[]
[]
[]
[]
[]
[]
[]
[]
[]
[]
[]
[]
[]
[]
[]
[]
[]
[]
[]
[]
[]
[]
[]
[]
[]
[]
[]
[]
[]
[]
[]
[]
[]
[]
[]
[]
[]
[]
[]
[]
[]
[]
[]
[]
[]
[]
[]
[]
[]
[]
[]
[]
[]
[]
[]
[]
[]
[]
[]
[]
[]
[]
[]
[]
[]
[]
[]
[]
[]
[]
[]
[]
[]
[]
[]
[]
[]
[]
[]
[]
[]
[]
[]
[]
[]
[]
[]
[]
[]
[]
[]
[]
[]
[]
[]
[]
[]
[]
[]
[]
[]
[]
[]
[]
[]
[]
[]
[]
[]
[]
[]
[]
[]
[]
[]
[]
[]
[]
[]
[]
[]
[]
[]
[]
[]
[]
[]
[]
[]
[]
[]
[]
[]
[]
[]
[]
[]
[]
[]
[]
[]
[]
[]
[]
[]
[]
[]
[]
[]
[]
[]
[]
[]
[]
[]
[]
[]
[]
[]
[]
[]
[]
[]
[]
[]
[]
[]
[]
[]
[]
[]
[]
[]
[]
[]
[]
[]
[]
[]
[]
[]
[]
[]
[]
[]
[]
[]
[]
[]
[]
[]
[]
[]
[]
[]
[]
[]
[]
[]
[]
[]
[]
[]
[]
[]
[]
[]
[]
[]
[]
[]
[]
[]
[]
[]
[]
[]
[]
[]
[]
[]
[]
[]
[]
[]
[]
[]
[]
[]
[]
[]
[]
[]
[]
[]
[]
[]
[]
[]
[]
[]
[]
[]
[]
[]
[]
[]
[]
[]
[]
[]
[]
[]
[]
[]
[]
[]
[]
[]
[]
[]
[]
[]
[]
[]
[]
[]
[]
[]
[]
[]
[]
[]
[]
[]
[]
[]
[]
[]
[]
[]
[]
[]
[]
[]
[]
[]
[]
[]
[]
[]
[]
[]
[]
[]
[]
[]
[]
[]
[]
[]
[]
[]
[]
[]
[]
[]
[]
[]
[]
[]
[]
[]
[]
[]
[]
[]
[]
[]
[]
[]
[]
[]
[]
[]
[]
[]
[]
[]
[]
[]
[]
[]
[]
[]
[]
[]
[]
[]
[]
[]
[]
[]
[]
[]
[]
[]
[]
[]
[]
[]
[]
[]
[]
[]
[]
[]
[]
[]
[]
[]
[]
[]
[]
[]
[]
[]
[]
[]
[]
[]
[]
[]
[]
[]
[]
[]
[]
[]
[]
[]
[]
[]
[]
[]
[]
[]
[]
[]
[]
[]
[]
[]
[]
[]
[]
[]
[]
[]
[]
[]
[]
[]
[]
[]
[]
[]
[]
[]
[]
[]
[]
[]
[]
[]
[]
[]
[]
[]
[]
[]
[]
[]
[]
[]
[]
[]
[]
[]
[]
[]
[]
[]
[]
[]
[]
[]
[]
[]
[]
[]
[]
[]
[]
[]
[]
[]
[]
[]
[]
[]
[]
[]
[]
[]
[]
[]
[]
[]
[]
[]
[]
[]
[]
[]
[]
[]
[]
[]
[]
[]
[]
[]
[]
[]
[]
[]
[]
[]
[]
[]
[]
[]
[]
[]
[]
[]
[]
[]
[]
[]
[]
[]
[]
[]
[]
[]
[]
[]
[]
[]
[]
[]
[]
[]
[]
[]
[]
[]
[]
[]
[]
[]
[]
[]
[]
[]
[]
[]
[]
[]
[]
[]
[]
[]
[]
[]
[]
[]
[]
[]
[]
[]
[]
[]
[]
[]
[]
[]
[]
[]
[]
[]
[]
[]
[]
[]
[]
[]
[]
[]
[]
[]
[]
[]
[]
[]
[]
[]
[]
[]
[]
[]
[]
[]
[]
[]
[]
[]
[]
[]
[]
[]
[]
[]
[]
[]
[]
[]
[]
[]
[]
[]
[]
[]
[]
[]
[]
[]
[]
[]
[]
[]
[]
[]
[]
[]
[]
[]
[]
[]
[]
[]
[]
[]
[]
[]
[]
[]
[]
[]
[]
[]
[]
[]
[]
[]
[]
[]
[]
[]
[]
[]
[]
[]
[]
[]
[]
[]
[]
[]
[]
[]
[]
[]
[]
[]
[]
[]
[]
[]
[]
[]
[]
[]
[]
[]
[]
[]
[]
[]
[]
[]
[]
[]
[]
[]
[]
[]
[]
[]
[]
[]
[]
[]
[]
[]
[]
[]
[]
[]
[]
[]
[]
[]
[]
[]
[]
[]
[]
[]
[]
[]
[]
[]
[]
[]
[]
[]
[]
[]
[]
[]
[]
[]
[]
[]
[]
[]
[]
[]
[]
[]
[]
[]
[]
[]
[]
[]
[]
[]
[]
[]
[]
[]
[]
[]
[]
[]
[]
[]
[]
[]
[]
[]
[]
[]
[]
[]
[]
[]
[]
[]
[]
[]
[]
[]
[]
[]
[]
[]
[]
[]
[]
[]
[]
[]
[]
[]
[]
[]
[]
[]
[]
[]
[]
[]
[]
[]
[]
[]
[]
[]
[]
[]
[]
[]
[]
[]
[]
[]
[]
[]
[]
[]
[]
[]
[]
[]
[]
[]
[]
[]
[]
[]
[]
[]
[]
[]
[]
[]
[]
[]
[]
[]
[]
[]
[]
[]
[]
[]
[]
[]
[]
[]
[]
[]
[]
[]
[]
[]
[]
[]
[]
[]
[]
[]
[]
[]
[]
[]
[]
[]
[]
[]
[]
[]
[]
[]
[]
[]
[]
[]
[]
[]
[]
[]
[]
[]
[]
[]
[]
[]
[]
[]
[]
[]
[]
[]
[]
[]
[]
[]
[]
[]
[]
[]
[]
[]
[]
[]
[]
[]
[]
[]
[]
[]
[]
[]
[]
[]
[]
[]
[]
[]
[]
[]
[]
[]
[]
[]
[]
[]
[]
[]
[]
[]
[]
[]
[]
[]
[]
[]
[]
[]
[]
[]
[]
[]
[]
[]
[]
[]
[]
[]
[]
[]
[]
[]
[]
[]
[]
[]
[]
[]
[]
[]
[]
[]
[]
[]
[]
[]
[]
[]
[]
[]
[]
[]
[]
[]
[]
[]
[]
[]
[]
[]
[]
[]
[]
[]
[]
[]
[]
[]
[]
[]
[]
[]
[]
[]
[]
[]
[]
[]
[]
[]
[]
[]
[]
[]
[]
[]
[]
[]
[]
[]
[]
[]
[]
[]
[]
[]
[]
[]
[]
[]
[]
[]
[]
[]
[]
[]
[]
[]
[]
[]
[]
[]
[]
[]
[]
[]
[]
[]
[]
[]
[]
[]
[]
[]
[]
[]
[]
[]
[]
[]
[]
[]
[]
[]
[]
[]
[]
[]
[]
[]
[]
[]
[]
[]
[]
[]
[]
[]
[]
[]
[]
[]
[]
[]
[]
[]
[]
[]
[]
[]
[]
[]
[]
[]
[]
[]
[]
[]
[]
[]
[]
[]
[]
[]
[]
[]
[]
[]
[]
[]
[]
[]
[]
[]
[]
[]
[]
[]
[]
[]
[]
[]
[]
[]
[]
[]
[]
[]
[]
[]
[]
[]
[]
[]
[]
[]
[]
[]
[]
[]
[]
[]
[]
[]
[]
[]
[]
[]
[]
[]
[]
[]
[]
[]
[]
[]
[]
[]
[]
[]
[]
[]
[]
[]
[]
[]
[]
[]
[]
[]
[]
[]
[]
[]
[]
[]
[]
[]
[]
[]
[]
[]
[]
[]
[]
[]
[]
[]
[]
[]
[]
[]
[]
[]
[]
[]
[]
[]
[]
[]
[]
[]
[]
[]
[]
[]
[]
[]
[]
[]
[]
[]
[]
[]
[]
[]
[]
[]
[]
[]
[]
[]
[]
[]
[]
[]
[]
[]
[]
[]
[]
[]
[]
[]
[]
[]
[]
[]
[]
[]
[]
[]
[]
[]
[]
[]
[]
[]
[]
[]
[]
[]
[]
[]
[]
[]
[]
[]
[]
[]
[]
[]
[]
[]
[]
[]
[]
[]
[]
[]
[]
[]
[]
[]
[]
[]
[]
[]
[]
[]
[]
[]
[]
[]
[]
[]
[]
[]
[]
[]
[]
[]
[]
[]
[]
[]
[]
[]
[]
[]
[]
[]
[]
[]
[]
[]
[]
[]
[]
[]
[]
[]
[]
[]
[]
[]
[]
[]
[]
[]
[]
[]
[]
[]
[]
[]
[]
[]
[]
[]
[]
[]
[]
[]
[]
[]
[]
[]
[]
[]
[]
[]
[]
[]
[]
[]
[]
[]
[]
[]
[]
[]
[]
[]
[]
[]
[]
[]
[]
[]
[]
[]
[]
[]
[]
[]
[]
[]
[]
[]
[]
[]
[]
[]
[]
[]
[]
[]
[]
[]
[]
[]
[]
[]
[]
[]
[]
[]
[]
[]
[]
[]
[]
[]
[]
[]
[]
[]
[]
[]
[]
[]
[]
[]
[]
[]
[]
[]
[]
[]
[]
[]
[]
[]
[]
[]
[]
[]
[]
[]
[]
[]
[]
[]
[]
[]
[]
[]
[]
[]
[]
[]
[]
[]
[]
[]
[]
[]
[]
[]
[]
[]
[]
[]
[]
[]
[]
[]
[]
[]
[]
[]
[]
[]
[]
[]
[]
[]
[]
[]
[]
[]
[]
[]
[]
[]
[]
[]
[]
[]
[]
[]
[]
[]
[]
[]
[]
[]
[]
[]
[]
[]
[]
[]
[]
[]
[]
[]
[]
[]
[]
[]
[]
[]
[]
[]
[]
[]
[]
[]
[]
[]
[]
[]
[]
[]
[]
[]
[]
[]
[]
[]
[]
[]
[]
[]
[]
[]
[]
[]
[]
[]
[]
[]
[]
[]
[]
[]
[]
[]
[]
[]
[]
[]
[]
[]
[]
[]
[]
[]
[]
[]
[]
[]
[]
[]
[]
[]
[]
[]
[]
[]
[]
[]
[]
[]
[]
[]
[]
[]
[]
[]
[]
[]
[]
[]
[]
[]
[]
[]
[]
[]
[]
[]
[]
[]
[]
[]
[]
[]
[]
[]
[]
[]
[]
[]
[]
[]
[]
[]
[]
[]
[]
[]
[]
[]
[]
[]
[]
[]
[]
[]
[]
[]
[]
[]
[]
[]
[]
[]
[]
[]
[]
[]
[]
[]
[]
[]
[]
[]
[]
[]
[]
[]
[]
[]
[]
[]
[]
[]
[]
[]
[]
[]
[]
[]
[]
[]
[]
[]
[]
[]
[]
[]
[]
[]
[]
[]
[]
[]
[]
[]
[]
[]
[]
[]
[]
[]
[]
[]
[]
[]
[]
[]
[]
[]
[]
[]
[]
[]
[]
[]
[]
[]
[]
[]
[]
[]
[]
[]
[]
[]
[]
[]
[]
[]
[]
[]
[]
[]
[]
[]
[]
[]
[]
[]
[]
[]
[]
[]
[]
[]
[]
[]
[]
[]
[]
[]
[]
[]
[]
[]
[]
[]
[]
[]
[]
[]
[]
[]
[]
[]
[]
[]
[]
[]
[]
[]
[]
[]
[]
[]
[]
[]
[]
[]
[]
[]
[]
[]
[]
[]
[]
[]
[]
[]
[]
[]
[]
[]
[]
[]
[]
[]
[]
[]
[]
[]
[]
[]
[]
[]
[]
[]
[]
[]
[]
[]
[]
[]
[]
[]
[]
[]
[]
[]
[]
[]
[]
[]
[]
[]
[]
[]
[]
[]
[]
[]
[]
[]
[]
[]
[]
[]
[]
[]
[]
[]
[]
[]
[]
[]
[]
[]
[]
[]
[]
[]
[]
[]
[]
[]
[]
[]
[]
[]
[]
[]
[]
[]
[]
[]
[]
[]
[]
[]
[]
[]
[]
[]
[]
[]
[]
[]
[]
[]
[]
[]
[]
[]
[]
[]
[]
[]
[]
[]
[]
[]
[]
[]
[]
[]
[]
[]
[]
[]
[]
[]
[]
[]
[]
[]
[]
[]
[]
[]
[]
[]
[]
[]
[]
[]
[]
[]
[]
[]
[]
[]
[]
[]
[]
[]
[]
[]
[]
[]
[]
[]
[]
[]
[]
[]
[]
[]
[]
[]
[]
[]
[]
[]
[]
[]
[]
[]
[]
[]
[]
[]
[]
[]
[]
[]
[]
[]
[]
[]
[]
[]
[]
[]
[]
[]
[]
[]
[]
[]
[]
[]
[]
[]
[]
[]
[]
[]
[]
[]
[]
[]
[]
[]
[]
[]
[]
[]
[]
[]
[]
[]
[]
[]
[]
[]
[]
[]
[]
[]
[]
[]
[]
[]
[]
[]
[]
[]
[]
[]
[]
[]
[]
[]
[]
[]
[]
[]
[]
[]
[]
[]
[]
[]
[]
[]
[]
[]
[]
[]
[]
[]
[]
[]
[]
[]
[]
[]
[]
[]
[]
[]
[]
[]
[]
[]
[]
[]
[]
[]
[]
[]
[]
[]
[]
[]
[]
[]
[]
[]
[]
[]
[]
[]
[]
[]
[]
[]
[]
[]
[]
[]
[]
[]
[]
[]
[]
[]
[]
[]
[]
[]
[]
[]
[]
[]
[]
[]
[]
[]
[]
[]
[]
[]
[]
[]
[]
[]
[]
[]
[]
[]
[]
[]
[]
[]
[]
[]
[]
[]
[]
[]
[]
[]
[]
[]
[]
[]
[]
[]
[]
[]
[]
[]
[]
[]
[]
[]
[]
[]
[]
[]
[]
[]
[]
[]
[]
[]
[]
[]
[]
[]
[]
[]
[]
[]
[]
[]
[]
[]
[]
[]
[]
[]
[]
[]
[]
[]
[]
[]
[]
[]
[]
[]
[]
[]
[]
[]
[]
[]
[]
[]
[]
[]
[]
[]
[]
[]
[]
[]
[]
[]
[]
[]
[]
[]
[]
[]
[]
[]
[]
[]
[]
[]
[]
[]
[]
[]
[]
[]
[]
[]
[]
[]
[]
[]
[]
[]
[]
[]
[]
[]
[]
[]
[]
[]
[]
[]
[]
[]
[]
[]
[]
[]
[]
[]
[]
[]
[]
[]
[]
[]
[]
[]
[]
[]
[]
[]
[]
[]
[]
[]
[]
[]
[]
[]
[]
[]
[]
[]
[]
[]
[]
[]
[]
[]
[]
[]
[]
[]
[]
[]
[]
[]
[]
[]
[]
[]
[]
[]
[]
[]
[]
[]
[]
[]
[]
[]
[]
[]
[]
[]
[]
[]
[]
[]
[]
[]
[]
[]
[]
[]
[]
[]
[]
[]
[]
[]
[]
[]
[]
[]
[]
[]
[]
[]
[]
[]
[]
[]
[]
[]
[]
[]
[]
[]
[]
[]
[]
[]
[]
[]
[]
[]
[]
[]
[]
[]
[]
[]
[]
[]
[]
[]
[]
[]
[]
[]
[]
[]
[]
[]
[]
[]
[]
[]
[]
[]
[]
[]
[]
[]
[]
[]
[]
[]
[]
[]
[]
[]
[]
[]
[]
[]
[]
[]
[]
[]
[]
[]
[]
[]
[]
[]
[]
[]
[]
[]
[]
[]
[]
[]
[]
[]
[]
[]
[]
[]
[]
[]
[]
[]
[]
[]
[]
[]
[]
[]
[]
[]
[]
[]
[]
[]
[]
[]
[]
[]
[]
[]
[]
[]
[]
[]
[]
[]
[]
[]
[]
[]
[]
[]
[]
[]
[]
[]
[]
[]
[]
[]
[]
[]
[]
[]
[]
[]
[]
[]
[]
[]
[]
[]
[]
[]
[]
[]
[]
[]
[]
[]
[]
[]
[]
[]
[]
[]
[]
[]
[]
[]
[]
[]
[]
[]
[]
[]
[]
[]
[]
[]
[]
[]
[]
[]
[]
[]
[]
[]
[]
[]
[]
[]
[]
[]
[]
[]
[]
[]
[]
[]
[]
[]
[]
[]
[]
[]
[]
[]
[]
[]
[]
[]
[]
[]
[]
[]
[]
[]
[]
[]
[]
[]
[]
[]
[]
[]
[]
[]
[]
[]
[]
[]
[]
[]
[]
[]
[]
[]
[]
[]
[]
[]
[]
[]
[]
[]
[]
[]
[]
[]
[]
[]
[]
[]
[]
[]
[]
[]
[]
[]
[]
[]
[]
[]
[]
[]
[]
[]
[]
[]
[]
[]
[]
[]
[]
[]
[]
[]
[]
[]
[]
[]
[]
[]
[]
[]
[]
[]
[]
[]
[]
[]
[]
[]
[]
[]
[]
[]
[]
[]
[]
[]
[]
[]
[]
[]
[]
[]
[]
[]
[]
[]
[]
[]
[]
[]
[]
[]
[]
[]
[]
[]
[]
[]
[]
[]
[]
[]
[]
[]
[]
[]
[]
[]
[]
[]
[]
[]
[]
[]
[]
[]
[]
[]
[]
[]
[]
[]
[]
[]
[]
[]
[]
[]
[]
[]
[]
[]
[]
[]
[]
[]
[]
[]
[]
[]
[]
[]
[]
[]
[]
[]
[]
[]
[]
[]
[]
[]
[]
[]
[]
[]
[]
[]
[]
[]
[]
[]
[]
[]
[]
[]
[]
[]
[]
[]
[]
[]
[]
[]
[]
[]
[]
[]
[]
[]
[]
[]
[]
[]
[]
[]
[]
[]
[]
[]
[]
[]
[]
[]
[]
[]
[]
[]
[]
[]
[]
[]
[]
[]
[]
[]
[]
[]
[]
[]
[]
[]
[]
[]
[]
[]
[]
[]
[]
[]
[]
[]
[]
[]
[]
[]
[]
[]
[]
[]
[]
[]
[]
[]
[]
[]
[]
[]
[]
[]
[]
[]
[]
[]
[]
[]
[]
[]
[]
[]
[]
[]
[]
[]
[]
[]
[]
[]
[]
[]
[]
[]
[]
[]
[]
[]
[]
[]
[]
[]
[]
[]
[]
[]
[]
[]
[]
[]
[]
[]
[]
[]
[]
[]
[]
[]
[]
[]
[]
[]
[]
[]
[]
[]
[]
[]
[]
[]
[]
[]
[]
[]
[]
[]
[]
[]
[]
[]
[]
[]
[]
[]
[]
[]
[]
[]
[]
[]
[]
[]
[]
[]
[]
[]
[]
[]
[]
[]
[]
[]
[]
[]
[]
[]
[]
[]
[]
[]
[]
[]
[]
[]
[]
[]
[]
[]
[]
[]
[]
[]
[]
[]
[]
[]
[]
[]
[]
[]
[]
[]
[]
[]
[]
[]
[]
[]
[]
[]
[]
[]
[]
[]
[]
[]
[]
[]
[]
[]
[]
[]
[]
[]
[]
[]
[]
[]
[]
[]
[]
[]
[]
[]
[]
[]
[]
[]
[]
[]
[]
[]
[]
[]
[]
[]
[]
[]
[]
[]
[]
[]
[]
[]
[]
[]
[]
[]
[]
[]
[]
[]
[]
[]
[]
[]
[]
[]
[]
[]
[]
[]
[]
[]
[]
[]
[]
[]
[]
[]
[]
[]
[]
[]
[]
[]
[]
[]
[]
[]
[]
[]
[]
[]
[]
[]
[]
[]
[]
[]
[]
[]
[]
[]
[]
[]
[]
[]
[]
[]
[]
[]
[]
[]
[]
[]
[]
[]
[]
[]
[]
[]
[]
[]
[]
[]
[]
[]
[]
[]
[]
[]
[]
[]
[]
[]
[]
[]
[]
[]
[]
[]
[]
[]
[]
[]
[]
[]
[]
[]
[]
[]
[]
[]
[]
[]
[]
[]
[]
[]
[]
[]
[]
[]
[]
[]
[]
[]
[]
[]
[]
[]
[]
[]
[]
[]
[]
[]
[]
[]
[]
[]
[]
[]
[]
[]
[]
[]
[]
[]
[]
[]
[]
[]
[]
[]
[]
[]
[]
[]
[]
[]
[]
[]
[]
[]
[]
[]
[]
[]
[]
[]
[]
[]
[]
[]
[]
[]
[]
[]
[]
[]
[]
[]
[]
[]
[]
[]
[]
[]
[]
[]
[]
[]
[]
[]
[]
[]
[]
[]
[]
[]
[]
[]
[]
[]
[]
[]
[]
[]
[]
[]
[]
[]
[]
[]
[]
[]
[]
[]
[]
[]
[]
[]
[]
[]
[]
[]
[]
[]
[]
[]
[]
[]
[]
[]
[]
[]
[]
[]
[]
[]
[]
[]
[]
[]
[]
[]
[]
[]
[]
[]
[]
[]
[]
[]
[]
[]
[]
[]
[]
[]
[]
[]
[]
[]
[]
[]
[]
[]
[]
[]
[]
[]
[]
[]
[]
[]
[]
[]
[]
[]
[]
[]
[]
[]
[]
[]
[]
[]
[]
[]
[]
[]
[]
[]
[]
[]
[]
[]
[]
[]
[]
[]
[]
[]
[]
[]
[]
[]
[]
[]
[]
[]
[]
[]
[]
[]
[]
[]
[]
[]
[]
[]
[]
[]
[]
[]
[]
[]
[]
[]
[]
[]
[]
[]
[]
[]
[]
[]
[]
[]
[]
[]
[]
[]
[]
[]
[]
[]
[]
[]
[]
[]
[]
[]
[]
[]
[]
[]
[]
[]
[]
[]
[]
[]
[]
[]
[]
[]
[]
[]
[]
[]
[]
[]
[]
[]
[]
[]
[]
[]
[]
[]
[]
[]
[]
[]
[]
[]
[]
[]
[]
[]
[]
[]
[]
[]
[]
[]
[]
[]
[]
[]
[]
[]
[]
[]
[]
[]
[]
[]
[]
[]
[]
[]
[]
[]
[]
[]
[]
[]
[]
[]
[]
[]
[]
[]
[]
[]
[]
[]
[]
[]
[]
[]
[]
[]
[]
[]
[]
[]
[]
[]
[]
[]
[]
[]
[]
[]
[]
[]
[]
[]
[]
[]
[]
[]
[]
[]
[]
[]
[]
[]
[]
[]
[]
[]
[]
[]
[]
[]
[]
[]
[]
[]
[]
[]
[]
[]
[]
[]
[]
[]
[]
[]
[]
[]
[]
[]
[]
[]
[]
[]
[]
[]
[]
[]
[]
[]
[]
[]
[]
[]
[]
[]
[]
[]
[]
[]
[]
[]
[]
[]
[]
[]
[]
[]
[]
[]
[]
[]
[]
[]
[]
[]
[]
[]
[]
[]
[]
[]
[]
[]
[]
[]
[]
[]
[]
[]
[]
[]
[]
[]
[]
[]
[]
[]
[]
[]
[]
[]
[]
[]
[]
[]
[]
[]
[]
[]
[]
[]
[]
[]
[]
[]
[]
[]
[]
[]
[]
[]
[]
[]
[]
[]
[]
[]
[]
[]
[]
[]
[]
[]
[]
[]
[]
[]
[]
[]
[]
[]
[]
[]
[]
[]
[]
[]
[]
[]
[]
[]
[]
[]
[]
[]
[]
[]
[]
[]
[]
[]
[]
[]
[]
[]
[]
[]
[]
[]
[]
[]
[]
[]
[]
[]
[]
[]
[]
[]
[]
[]
[]
[]
[]
[]
[]
[]
[]
[]
[]
[]
[]
[]
[]
[]
[]
[]
[]
[]
[]
[]
[]
[]
[]
[]
[]
[]
[]
[]
[]
[]
[]
[]
[]
[]
[]
[]
[]
[]
[]
[]
[]
[]
[]
[]
[]
[]
[]
[]
[]
[]
[]
[]
[]
[]
[]
[]
[]
[]
[]
[]
[]
[]
[]
[]
[]
[]
[]
[]
[]
[]
[]
[]
[]
[]
[]
[]
[]
[]
[]
[]
[]
[]
[]
[]
[]
[]
[]
[]
[]
[]
[]
[]
[]
[]
[]
[]
[]
[]
[]
[]
[]
[]
[]
[]
[]
[]
[]
[]
[]
[]
[]
[]
[]
[]
[]
[]
[]
[]
[]
[]
[]
[]
[]
[]
[]
[]
[]
[]
[]
[]
[]
[]
[]
[]
[]
[]
[]
[]
[]
[]
[]
[]
[]
[]
[]
[]
[]
[]
[]
[]
[]
[]
[]
[]
[]
[]
[]
[]
[]
[]
[]
[]
[]
[]
[]
[]
[]
[]
[]
[]
[]
[]
[]
[]
[]
[]
[]
[]
[]
[]
[]
[]
[]
[]
[]
[]
[]
[]
[]
[]
[]
[]
[]
[]
[]
[]
[]
[]
[]
[]
[]
[]
[]
[]
[]
[]
[]
[]
[]
[]
[]
[]
[]
[]
[]
[]
[]
[]
[]
[]
[]
[]
[]
[]
[]
[]
[]
[]
[]
[]
[]
[]
[]
[]
[]
[]
[]
[]
[]
[]
[]
[]
[]
[]
[]
[]
[]
[]
[]
[]
[]
[]
[]
[]
[]
[]
[]
[]
[]
[]
[]
[]
[]
[]
[]
[]
[]
[]
[]
[]
[]
[]
[]
[]
[]
[]
[]
[]
[]
[]
[]
[]
[]
[]
[]
[]
[]
[]
[]
[]
[]
[]
[]
[]
[]
[]
[]
[]
[]
[]
[]
[]
[]
[]
[]
[]
[]
[]
[]
[]
[]
[]
[]
[]
[]
[]
[]
[]
[]
[]
[]
[]
[]
[]
[]
[]
[]
[]
[]
[]
[]
[]
[]
[]
[]
[]
[]
[]
[]
[]
[]
[]
[]
[]
[]
[]
[]
[]
[]
[]
[]
[]
[]
[]
[]
[]
[]
[]
[]
[]
[]
[]
[]
[]
[]
[]
[]
[]
[]
[]
[]
[]
[]
[]
[]
[]
[]
[]
[]
[]
[]
[]
[]
[]
[]
[]
[]
[]
[]
[]
[]
[]
[]
[]
[]
[]
[]
[]
[]
[]
[]
[]
[]
[]
[]
[]
[]
[]
[]
[]
[]
[]
[]
[]
[]
[]
[]
[]
[]
[]
[]
[]
[]
[]
[]
[]
[]
[]
[]
[]
[]
[]
[]
[]
[]
[]
[]
[]
[]
[]
[]
[]
[]
[]
[]
[]
[]
[]
[]
[]
[]
[]
[]
[]
[]
[]
[]
[]
[]
[]
[]
[]
[]
[]
[]
[]
[]
[]
[]
[]
[]
[]
[]
[]
[]
[]
[]
[]
[]
[]
[]
[]
[]
[]
[]
[]
[]
[]
[]
[]
[]
[]
[]
[]
[]
[]
[]
[]
[]
[]
[]
[]
[]
[]
[]
[]
[]
[]
[]
[]
[]
[]
[]
[]
[]
[]
[]
[]
[]
[]
[]
[]
[]
[]
[]
[]
[]
[]
[]
[]
[]
[]
[]
[]
[]
[]
[]
[]
[]
[]
[]
[]
[]
[]
[]
[]
[]
[]
[]
[]
[]
[]
[]
[]
[]
[]
[]
[]
[]
[]
[]
[]
[]
[]
[]
[]
[]
[]
[]
[]
[]
[]
[]
[]
[]
[]
[]
[]
[]
[]
[]
[]
[]
[]
[]
[]
[]
[]
[]
[]
[]
[]
[]
[]
[]
[]
[]
[]
[]
[]
[]
[]
[]
[]
[]
[]
[]
[]
[]
[]
[]
[]
[]
[]
[]
[]
[]
[]
[]
[]
[]
[]
[]
[]
[]
[]
[]
[]
[]
[]
[]
[]
[]
[]
[]
[]
[]
[]
[]
[]
[]
[]
[]
[]
[]
[]
[]
[]
[]
[]
[]
[]
[]
[]
[]
[]
[]
[]
[]
[]
[]
[]
[]
[]
[]
[]
[]
[]
[]
[]
[]
[]
[]
[]
[]
[]
[]
[]
[]
[]
[]
[]
[]
[]
[]
[]
[]
[]
[]
[]
[]
[]
[]
[]
[]
[]
[]
[]
[]
[]
[]
[]
[]
[]
[]
[]
[]
[]
[]
[]
[]
[]
[]
[]
[]
[]
[]
[]
[]
[]
[]
[]
[]
[]
[]
[]
[]
[]
[]
[]
[]
[]
[]
[]
[]
[]
[]
[]
[]
[]
[]
[]
[]
[]
[]
[]
[]
[]
[]
[]
[]
[]
[]
[]
[]
[]
[]
[]
[]
[]
[]
[]
[]
[]
[]
[]
[]
[]
[]
[]
[]
[]
[]
[]
[]
[]
[]
[]
[]
[]
[]
[]
[]
[]
[]
[]
[]
[]
[]
[]
[]
[]
[]
[]
[]
[]
[]
[]
[]
[]
[]
[]
[]
[]
[]
[]
[]
[]
[]
[]
[]
[]
[]
[]
[]
[]
[]
[]
[]
[]
[]
[]
[]
[]
[]
[]
[]
[]
[]
[]
[]
[]
[]
[]
[]
[]
[]
[]
[]
[]
[]
[]
[]
[]
[]
[]
[]
[]
[]
[]
[]
[]
[]
[]
[]
[]
[]
[]
[]
[]
[]
[]
[]
[]
[]
[]
[]
[]
[]
[]
[]
[]
[]
[]
[]
[]
[]
[]
[]
[]
[]
[]
[]
[]
[]
[]
[]
[]
[]
[]
[]
[]
[]
[]
[]
[]
[]
[]
[]
[]
[]
[]
[]
[]
[]
[]
[]
[]
[]
[]
[]
[]
[]
[]
[]
[]
[]
[]
[]
[]
[]
[]
[]
[]
[]
[]
[]
[]
[]
[]
[]
[]
[]
[]
[]
[]
[]
[]
[]
[]
[]
[]
[]
[]
[]
[]
[]
[]
[]
[]
[]
[]
[]
[]
[]
[]
[]
[]
[]
[]
[]
[]
[]
[]
[]
[]
[]
[]
[]
[]
[]
[]
[]
[]
[]
[]
[]
[]
[]
[]
[]
[]
[]
[]
[]
[]
[]
[]
[]
[]
[]
[]
[]
[]
[]
[]
[]
[]
[]
[]
[]
[]
[]
[]
[]
[]
[]
[]
[]
[]
[]
[]
[]
[]
[]
[]
[]
[]
[]
[]
[]
[]
[]
[]
[]
[]
[]
[]
[]
[]
[]
[]
[]
[]
[]
[]
[]
[]
[]
[]
[]
[]
[]
[]
[]
[]
[]
[]
[]
[]
[]
[]
[]
[]
[]
[]
[]
[]
[]
[]
[]
[]
[]
[]
[]
[]
[]
[]
[]
[]
[]
[]
[]
[]
[]
[]
[]
[]
[]
[]
[]
[]
[]
[]
[]
[]
[]
[]
[]
[]
[]
[]
[]
[]
[]
[]
[]
[]
[]
[]
[]
[]
[]
[]
[]
[]
[]
[]
[]
[]
[]
[]
[]
[]
[]
[]
[]
[]
[]
[]
[]
[]
[]
[]
[]
[]
[]
[]
[]
[]
[]
[]
[]
[]
[]
[]
[]
[]
[]
[]
[]
[]
[]
[]
[]
[]
[]
[]
[]
[]
[]
[]
[]
[]
[]
[]
[]
[]
[]
[]
[]
[]
[]
[]
[]
[]
[]
[]
[]
[]
[]
[]
[]
[]
[]
[]
[]
[]
[]
[]
[]
[]
[]
[]
[]
[]
[]
[]
[]
[]
[]
[]
[]
[]
[]
[]
[]
[]
[]
[]
[]
[]
[]
[]
[]
[]
[]
[]
[]
[]
[]
[]
[]
[]
[]
[]
[]
[]
[]
[]
[]
[]
[]
[]
[]
[]
[]
[]
[]
[]
[]
[]
[]
[]
[]
[]
[]
[]
[]
[]
[]
[]
[]
[]
[]
[]
[]
[]
[]
[]
[]
[]
[]
[]
[]
[]
[]
[]
[]
[]
[]
[]
[]
[]
[]
[]
[]
[]
[]
[]
[]
[]
[]
[]
[]
[]
[]
[]
[]
[]
[]
[]
[]
[]
[]
[]
[]
[]
[]
[]
[]
[]
[]
[]
[]
[]
[]
[]
[]
[]
[]
[]
[]
[]
[]
[]
[]
[]
[]
[]
[]
[]
[]
[]
[]
[]
[]
[]
[]
[]
[]
[]
[]
[]
[]
[]
[]
[]
[]
[]
[]
[]
[]
[]
[]
[]
[]
[]
[]
[]
[]
[]
[]
[]
[]
[]
[]
[]
[]
[]
[]
[]
[]
[]
[]
[]
[]
[]
[]
[]
[]
[]
[]
[]
[]
[]
[]
[]
[]
[]
[]
[]
[]
[]
[]
[]
[]
[]
[]
[]
[]
[]
[]
[]
[]
[]
[]
[]
[]
[]
[]
[]
[]
[]
[]
[]
[]
[]
[]
[]
[]
[]
[]
[]
[]
[]
[]
[]
[]
[]
[]
[]
[]
[]
[]
[]
[]
[]
[]
[]
[]
[]
[]
[]
[]
[]
[]
[]
[]
[]
[]
[]
[]
[]
[]
[]
[]
[]
[]
[]
[]
[]
[]
[]
[]
[]
[]
[]
[]
[]
[]
[]
[]
[]
[]
[]
[]
[]
[]
[]
[]
[]
[]
[]
[]
[]
[]
[]
[]
[]
[]
[]
[]
[]
[]
[]
[]
[]
[]
[]
[]
[]
[]
[]
[]
[]
[]
[]
[]
[]
[]
[]
[]
[]
[]
[]
[]
[]
[]
[]
[]
[]
[]
[]
[]
[]
[]
[]
[]
[]
[]
[]
[]
[]
[]
[]
[]
[]
[]
[]
[]
[]
[]
[]
[]
[]
[]
[]
[]
[]
[]
[]
[]
[]
[]
[]
[]
[]
[]
[]
[]
[]
[]
[]
[]
[]
[]
[]
[]
[]
[]
[]
[]
[]
[]
[]
[]
[]
[]
[]
[]
[]
[]
[]
[]
[]
[]
[]
[]
[]
[]
[]
[]
[]
[]
[]
[]
[]
[]
[]
[]
[]
[]
[]
[]
[]
[]
[]
[]
[]
[]
[]
[]
[]
[]
[]
[]
[]
[]
[]
[]
[]
[]
[]
[]
[]
[]
[]
[]
[]
[]
[]
[]
[]
[]
[]
[]
[]
[]
[]
[]
[]
[]
[]
[]
[]
[]
[]
[]
[]
[]
[]
[]
[]
[]
[]
[]
[]
[]
[]
[]
[]
[]
[]
[]
[]
[]
[]
[]
[]
[]
[]
[]
[]
[]
[]
[]
[]
[]
[]
[]
[]
[]
[]
[]
[]
[]
[]
[]
[]
[]
[]
[]
[]
[]
[]
[]
[]
[]
[]
[]
[]
[]
[]
[]
[]
[]
[]
[]
[]
[]
[]
[]
[]
[]
[]
[]
[]
[]
[]
[]
[]
[]
[]
[]
[]
[]
[]
[]
[]
[]
[]
[]
[]
[]
[]
[]
[]
[]
[]
[]
[]
[]
[]
[]
[]
[]
[]
[]
[]
[]
[]
[]
[]
[]
[]
[]
[]
[]
[]
[]
[]
[]
[]
[]
[]
[]
[]
[]
[]
[]
[]
[]
[]
[]
[]
[]
[]
[]
[]
[]
[]
[]
[]
[]
[]
[]
[]
[]
[]
[]
[]
[]
[]
[]
[]
[]
[]
[]
[]
[]
[]
[]
[]
[]
[]
[]
[]
[]
[]
[]
[]
[]
[]
[]
[]
[]
[]
[]
[]
[]
[]
[]
[]
[]
[]
[]
[]
[]
[]
[]
[]
[]
[]
[]
[]
[]
[]
[]
[]
[]
[]
[]
[]
[]
[]
[]
[]
[]
[]
[]
[]
[]
[]
[]
[]
[]
[]
[]
[]
[]
[]
[]
[]
[]
[]
[]
[]
[]
[]
[]
[]
[]
[]
[]
[]
[]
[]
[]
[]
[]
[]
[]
[]
[]
[]
[]
[]
[]
[]
[]
[]
[]
[]
[]
[]
[]
[]
[]
[]
[]
[]
[]
[]
[]
[]
[]
[]
[]
[]
[]
[]
[]
[]
[]
[]
[]
[]
[]
[]
[]
[]
[]
[]
[]
[]
[]
[]
[]
[]
[]
[]
[]
[]
[]
[]
[]
[]
[]
[]
[]
[]
[]
[]
[]
[]
[]
[]
[]
[]
[]
[]
[]
[]
[]
[]
[]
[]
[]
[]
[]
[]
[]
[]
[]
[]
[]
[]
[]
[]
[]
[]
[]
[]
[]
[]
[]
[]
[]
[]
[]
[]
[]
[]
[]
[]
[]
[]
[]
[]
[]
[]
[]
[]
[]
[]
[]
[]
[]
[]
[]
[]
[]
[]
[]
[]
[]
[]
[]
[]
[]
[]
[]
[]
[]
[]
[]
[]
[]
[]
[]
[]
[]
[]
[]
[]
[]
[]
[]
[]
[]
[]
[]
[]
[]
[]
[]
[]
[]
[]
[]
[]
[]
[]
[]
[]
[]
[]
[]
[]
[]
[]
[]
[]
[]
[]
[]
[]
[]
[]
[]
[]
[]
[]
[]
[]
[]
[]
[]
[]
[]
[]
[]
[]
[]
[]
[]
[]
[]
[]
[]
[]
[]
[]
[]
[]
[]
[]
[]
[]
[]
[]
[]
[]
[]
[]
[]
[]
[]
[]
[]
[]
[]
[]
[]
[]
[]
[]
[]
[]
[]
[]
[]
[]
[]
[]
[]
[]
[]
[]
[]
[]
[]
[]
[]
[]
[]
[]
[]
[]
[]
[]
[]
[]
[]
[]
[]
[]
[]
[]
[]
[]
[]
[]
[]
[]
[]
[]
[]
[]
[]
[]
[]
[]
[]
[]
[]
[]
[]
[]
[]
[]
[]
[]
[]
[]
[]
[]
[]
[]
[]
[]
[]
[]
[]
[]
[]
[]
[]
[]
[]
[]
[]
[]
[]
[]
[]
[]
[]
[]
[]
[]
[]
[]
[]
[]
[]
[]
[]
[]
[]
[]
[]
[]
[]
[]
[]
[]
[]
[]
[]
[]
[]
[]
[]
[]
[]
[]
[]
[]
[]
[]
[]
[]
[]
[]
[]
[]
[]
[]
[]
[]
[]
[]
[]
[]
[]
[]
[]
[]
[]
[]
[]
[]
[]
[]
[]
[]
[]
[]
[]
[]
[]
[]
[]
[]
[]
[]
[]
[]
[]
[]
[]
[]
[]
[]
[]
[]
[]
[]
[]
[]
[]
[]
[]
[]
[]
[]
[]
[]
[]
[]
[]
[]
[]
[]
[]
[]
[]
[]
[]
[]
[]
[]
[]
[]
[]
[]
[]
[]
[]
[]
[]
[]
[]
[]
[]
[]
[]
[]
[]
[]
[]
[]
[]
[]
[]
[]
[]
[]
[]
[]
[]
[]
[]
[]
[]
[]
[]
[]
[]
[]
[]
[]
[]
[]
[]
[]
[]
[]
[]
[]
[]
[]
[]
[]
[]
[]
[]
[]
[]
[]
[]
[]
[]
[]
[]
[]
[]
[]
[]
[]
[]
[]
[]
[]
[]
[]
[]
[]
[]
[]
[]
[]
[]
[]
[]
[]
[]
[]
[]
[]
[]
[]
[]
[]
[]
[]
[]
[]
[]
[]
[]
[]
[]
[]
[]
[]
[]
[]
[]
[]
[]
[]
[]
[]
[]
[]
[]
[]
[]
[]
[]
[]
[]
[]
[]
[]
[]
[]
[]
[]
[]
[]
[]
[]
[]
[]
[]
[]
[]
[]
[]
[]
[]
[]
[]
[]
[]
[]
[]
[]
[]
[]
[]
[]
[]
[]
[]
[]
[]
[]
[]
[]
[]
[]
[]
[]
[]
[]
[]
[]
[]
[]
[]
[]
[]
[]
[]
[]
[]
[]
[]
[]
[]
[]
[]
[]
[]
[]
[]
[]
[]
[]
[]
[]
[]
[]
[]
[]
[]
[]
[]
[]
[]
[]
[]
[]
[]
[]
[]
[]
[]
[]
[]
[]
[]
[]
[]
[]
[]
[]
[]
[]
[]
[]
[]
[]
[]
[]
[]
[]
[]
[]
[]
[]
[]
[]
[]
[]
[]
[]
[]
[]
[]
[]
[]
[]
[]
[]
[]
[]
[]
[]
[]
[]
[]
[]
[]
[]
[]
[]
[]
[]
[]
[]
[]
[]
[]
[]
[]
[]
[]
[]
[]
[]
[]
[]
[]
[]
[]
[]
[]
[]
[]
[]
[]
[]
[]
[]
[]
[]
[]
[]
[]
[]
[]
[]
[]
[]
[]
[]
[]
[]
[]
[]
[]
[]
[]
[]
[]
[]
[]
[]
[]
[]
[]
[]
[]
[]
[]
[]
[]
[]
[]
[]
[]
[]
[]
[]
[]
[]
[]
[]
[]
[]
[]
[]
[]
[]
[]
[]
[]
[]
[]
[]
[]
[]
[]
[]
[]
[]
[]
[]
[]
[]
[]
[]
[]
[]
[]
[]
[]
[]
[]
[]
[]
[]
[]
[]
[]
[]
[]
[]
[]
[]
[]
[]
[]
[]
[]
[]
[]
[]
[]
[]
[]
[]
[]
[]
[]
[]
[]
[]
[]
[]
[]
[]
[]
[]
[]
[]
[]
[]
[]
[]
[]
[]
[]
[]
[]
[]
[]
[]
[]
[]
[]
[]
[]
[]
[]
[]
[]
[]
[]
[]
[]
[]
[]
[]
[]
[]
[]
[]
[]
[]
[]
[]
[]
[]
[]
[]
[]
[]
[]
[]
[]
[]
[]
[]
[]
[]
[]
[]
[]
[]
[]
[]
[]
[]
[]
[]
[]
[]
[]
[]
[]
[]
[]
[]
[]
[]
[]
[]
[]
[]
[]
[]
[]
[]
[]
[]
[]
[]
[]
[]
[]
[]
[]
[]
[]
[]
[]
[]
[]
[]
[]
[]
[]
[]
[]
[]
[]
[]
[]
[]
[]
[]
[]
[]
[]
[]
[]
[]
[]
[]
[]
[]
[]
[]
[]
[]
[]
[]
[]
[]
[]
[]
[]
[]
[]
[]
[]
[]
[]
[]
[]
[]
[]
[]
[]
[]
[]
[]
[]
[]
[]
[]
[]
[]
[]
[]
[]
[]
[]
[]
[]
[]
[]
[]
[]
[]
[]
[]
[]
[]
[]
[]
[]
[]
[]
[]
[]
[]
[]
[]
[]
[]
[]
[]
[]
[]
[]
[]
[]
[]
[]
[]
[]
[]
[]
[]
[]
[]
[]
[]
[]
[]
[]
[]
[]
[]
[]
[]
[]
[]
[]
[]
[]
[]
[]
[]
[]
[]
[]
[]
[]
[]
[]
[]
[]
[]
[]
[]
[]
[]
[]
[]
[]
[]
[]
[]
[]
[]
[]
[]
[]
[]
[]
[]
[]
[]
[]
[]
[]
[]
[]
[]
[]
[]
[]
[]
[]
[]
[]
[]
[]
[]
[]
[]
[]
[]
[]
[]
[]
[]
[]
[]
[]
[]
[]
[]
[]
[]
[]
[]
[]
[]
[]
[]
[]
[]
[]
[]
[]
[]
[]
[]
[]
[]
[]
[]
[]
[]
[]
[]
[]
[]
[]
[]
[]
[]
[]
[]
[]
[]
[]
[]
[]
[]
[]
[]
[]
[]
[]
[]
[]
[]
[]
[]
[]
[]
[]
[]
[]
[]
[]
[]
[]
[]
[]
[]
[]
[]
[]
[]
[]
[]
[]
[]
[]
[]
[]
[]
[]
[]
[]
[]
[]
[]
[]
[]
[]
[]
[]
[]
[]
[]
[]
[]
[]
[]
[]
[]
[]
[]
[]
[]
[]
[]
[]
[]
[]
[]
[]
[]
[]
[]
[]
[]
[]
[]
[]
[]
[]
[]
[]
[]
[]
[]
[]
[]
[]
[]
[]
[]
[]
[]
[]
[]
[]
[]
[]
[]
[]
[]
[]
[]
[]
[]
[]
[]
[]
[]
[]
[]
[]
[]
[]
[]
[]
[]
[]
[]
[]
[]
[]
[]
[]
[]
[]
[]
[]
[]
[]
[]
[]
[]
[]
[]
[]
[]
[]
[]
[]
[]
[]
[]
[]
[]
[]
[]
[]
[]
[]
[]
[]
[]
[]
[]
[]
[]
[]
[]
[]
[]
[]
[]
[]
[]
[]
[]
[]
[]
[]
[]
[]
[]
[]
[]
[]
[]
[]
[]
[]
[]
[]
[]
[]
[]
[]
[]
[]
[]
[]
[]
[]
[]
[]
[]
[]
[]
[]
[]
[]
[]
[]
[]
[]
[]
[]
[]
[]
[]
[]
[]
[]
[]
[]
[]
[]
[]
[]
[]
[]
[]
[]
[]
[]
[]
[]
[]
[]
[]
[]
[]
[]
[]
[]
[]
[]
[]
[]
[]
[]
[]
[]
[]
[]
[]
[]
[]
[]
[]
[]
[]
[]
[]
[]
[]
[]
[]
[]
[]
[]
[]
[]
[]
[]
[]
[]
[]
[]
[]
[]
[]
[]
[]
[]
[]
[]
[]
[]
[]
[]
[]
[]
[]
[]
[]
[]
[]
[]
[]
[]
[]
[]
[]
[]
[]
[]
[]
[]
[]
[]
[]
[]
[]
[]
[]
[]
[]
[]
[]
[]
[]
[]
[]
[]
[]
[]
[]
[]
[]
[]
[]
[]
[]
[]
[]
[]
[]
[]
[]
[]
[]
[]
[]
[]
[]
[]
[]
[]
[]
[]
[]
[]
[]
[]
[]
[]
[]
[]
[]
[]
[]
[]
[]
[]
[]
[]
[]
[]
[]
[]
[]
[]
[]
[]
[]
[]
[]
[]
[]
[]
[]
[]
[]
[]
[]
[]
[]
[]
[]
[]
[]
[]
[]
[]
[]
[]
[]
[]
[]
[]
[]
[]
[]
[]
[]
[]
[]
[]
[]
[]
[]
[]
[]
[]
[]
[]
[]
[]
[]
[]
[]
[]
[]
[]
[]
[]
[]
[]
[]
[]
[]
[]
[]
[]
[]
[]
[]
[]
[]
[]
[]
[]
[]
[]
[]
[]
[]
[]
[]
[]
[]
[]
[]
[]
[]
[]
[]
[]
[]
[]
[]
[]
[]
[]
[]
[]
[]
[]
[]
[]
[]
[]
[]
[]
[]
[]
[]
[]
[]
[]
[]
[]
[]
[]
[]
[]
[]
[]
[]
[]
[]
[]
[]
[]
[]
[]
[]
[]
[]
[]
[]
[]
[]
[]
[]
[]
[]
[]
[]
[]
[]
[]
[]
[]
[]
[]
[]
[]
[]
[]
[]
[]
[]
[]
[]
[]
[]
[]
[]
[]
[]
[]
[]
[]
[]
[]
[]
[]
[]
[]
[]
[]
[]
[]
[]
[]
[]
[]
[]
[]
[]
[]
[]
[]
[]
[]
[]
[]
[]
[]
[]
[]
[]
[]
[]
[]
[]
[]
[]
[]
[]
[]
[]
[]
[]
[]
[]
[]
[]
[]
[]
[]
[]
[]
[]
[]
[]
[]
[]
[]
[]
[]
[]
[]
[]
[]
[]
[]
[]
[]
[]
[]
[]
[]
[]
[]
[]
[]
[]
[]
[]
[]
[]
[]
[]
[]
[]
[]
[]
[]
[]
[]
[]
[]
[]
[]
[]
[]
[]
[]
[]
[]
[]
[]
[]
[]
[]
[]
[]
[]
[]
[]
[]
[]
[]
[]
[]
[]
[]
[]
[]
[]
[]
[]
[]
[]
[]
[]
[]
[]
[]
[]
[]
[]
[]
[]
[]
[]
[]
[]
[]
[]
[]
[]
[]
[]
[]
[]
[]
[]
[]
[]
[]
[]
[]
[]
[]
[]
[]
[]
[]
[]
[]
[]
[]
[]
[]
[]
[]
[]
[]
[]
[]
[]
[]
[]
[]
[]
[]
[]
[]
[]
[]
[]
[]
[]
[]
[]
[]
[]
[]
[]
[]
[]
[]
[]
[]
[]
[]
[]
[]
[]
[]
[]
[]
[]
[]
[]
[]
[]
[]
[]
[]
[]
[]
[]
[]
[]
[]
[]
[]
[]
[]
[]
[]
[]
[]
[]
[]
[]
[]
[]
[]
[]
[]
[]
[]
[]
[]
[]
[]
[]
[]
[]
[]
[]
[]
[]
[]
[]
[]
[]
[]
[]
[]
[]
[]
[]
[]
[]
[]
[]
[]
[]
[]
[]
[]
[]
[]
[]
[]
[]
[]
[]
[]
[]
[]
[]
[]
[]
[]
[]
[]
[]
[]
[]
[]
[]
[]
[]
[]
[]
[]
[]
[]
[]
[]
[]
[]
[]
[]
[]
[]
[]
[]
[]
[]
[]
[]
[]
[]
[]
[]
[]
[]
[]
[]
[]
[]
[]
[]
[]
[]
[]
[]
[]
[]
[]
[]
[]
[]
[]
[]
[]
[]
[]
[]
[]
[]
[]
[]
[]
[]
[]
[]
[]
[]
[]
[]
[]
[]
[]
[]
[]
[]
[]
[]
[]
[]
[]
[]
[]
[]
[]
[]
[]
[]
[]
[]
[]
[]
[]
[]
[]
[]
[]
[]
[]
[]
[]
[]
[]
[]
[]
[]
[]
[]
[]
[]
[]
[]
[]
[]
[]
[]
[]
[]
[]
[]
[]
[]
[]
[]
[]
[]
[]
[]
[]
[]
[]
[]
[]
[]
[]
[]
[]
[]
[]
[]
[]
[]
[]
[]
[]
[]
[]
[]
[]
[]
[]
[]
[]
[]
[]
[]
[]
[]
[]
[]
[]
[]
[]
[]
[]
[]
[]
[]
[]
[]
[]
[]
[]
[]
[]
[]
[]
[]
[]
[]
[]
[]
[]
[]
[]
[]
[]
[]
[]
[]
[]
[]
[]
[]
[]
[]
[]
[]
[]
[]
[]
[]
[]
[]
[]
[]
[]
[]
[]
[]
[]
[]
[]
[]
[]
[]
[]
[]
[]
[]
[]
[]
[]
[]
[]
[]
[]
[]
[]
[]
[]
[]
[]
[]
[]
[]
[]
[]
[]
[]
[]
[]
[]
[]
[]
[]
[]
[]
[]
[]
[]
[]
[]
[]
[]
[]
[]
[]
[]
[]
[]
[]
[]
[]
[]
[]
[]
[]
[]
[]
[]
[]
[]
[]
[]
[]
[]
[]
[]
[]
[]
[]
[]
[]
[]
[]
[]
[]
[]
[]
[]
[]
[]
[]
[]
[]
[]
[]
[]
[]
[]
[]
[]
[]
[]
[]
[]
[]
[]
[]
[]
[]
[]
[]
[]
[]
[]
[]
[]
[]
[]
[]
[]
[]
[]
[]
[]
[]
[]
[]
[]
[]
[]
[]
[]
[]
[]
[]
[]
[]
[]
[]
[]
[]
[]
[]
[]
[]
[]
[]
[]
[]
[]
[]
[]
[]
[]
[]
[]
[]
[]
[]
[]
[]
[]
[]
[]
[]
[]
[]
[]
[]
[]
[]
[]
[]
[]
[]
[]
[]
[]
[]
[]
[]
[]
[]
[]
[]
[]
[]
[]
[]
[]
[]
[]
[]
[]
[]
[]
[]
[]
[]
[]
[]
[]
[]
[]
[]
[]
[]
[]
[]
[]
[]
[]
[]
[]
[]
[]
[]
[]
[]
[]
[]
[]
[]
[]
[]
[]
[]
[]
[]
[]
[]
[]
[]
[]
[]
[]
[]
[]
[]
[]
[]
[]
[]
[]
[]
[]
[]
[]
[]
[]
[]
[]
[]
[]
[]
[]
[]
[]
[]
[]
[]
[]
[]
[]
[]
[]
[]
[]
[]
[]
[]
[]
[]
[]
[]
[]
[]
[]
[]
[]
[]
[]
[]
[]
[]
[]
[]
[]
[]
[]
[]
[]
[]
[]
[]
[]
[]
[]
[]
[]
[]
[]
[]
[]
[]
[]
[]
[]
[]
[]
[]
[]
[]
[]
[]
[]
[]
[]
[]
[]
[]
[]
[]
[]
[]
[]
[]
[]
[]
[]
[]
[]
[]
[]
[]
[]
[]
[]
[]
[]
[]
[]
[]
[]
[]
[]
[]
[]
[]
[]
[]
[]
[]
[]
[]
[]
[]
[]
[]
[]
[]
[]
[]
[]
[]
[]
[]
[]
[]
[]
[]
[]
[]
[]
[]
[]
[]
[]
[]
[]
[]
[]
[]
[]
[]
[]
[]
[]
[]
[]
[]
[]
[]
[]
[]
[]
[]
[]
[]
[]
[]
[]
[]
[]
[]
[]
[]
[]
[]
[]
[]
[]
[]
[]
[]
[]
[]
[]
[]
[]
[]
[]
[]
[]
[]
[]
[]
[]
[]
[]
[]
[]
[]
[]
[]
[]
[]
[]
[]
[]
[]
[]
[]
[]
[]
[]
[]
[]
[]
[]
[]
[]
[]
[]
[]
[]
[]
[]
[]
[]
[]
[]
[]
[]
[]
[]
[]
[]
[]
[]
[]
[]
[]
[]
[]
[]
[]
[]
[]
[]
[]
[]
[]
[]
[]
[]
[]
[]
[]
[]
[]
[]
[]
[]
[]
[]
[]
[]
[]
[]
[]
[]
[]
[]
[]
[]
[]
[]
[]
[]
[]
[]
[]
[]
[]
[]
[]
[]
[]
[]
[]
[]
[]
[]
[]
[]
[]
[]
[]
[]
[]
[]
[]
[]
[]
[]
[]
[]
[]
[]
[]
[]
[]
[]
[]
[]
[]
[]
[]
[]
[]
[]
[]
[]
[]
[]
[]
[]
[]
[]
[]
[]
[]
[]
[]
[]
[]
[]
[]
[]
[]
[]
[]
[]
[]
[]
[]
[]
[]
[]
[]
[]
[]
[]
[]
[]
[]
[]
[]
[]
[]
[]
[]
[]
[]
[]
[]
[]
[]
[]
[]
[]
[]
[]
[]
[]
[]
[]
[]
[]
[]
[]
[]
[]
[]
[]
[]
[]
[]
[]
[]
[]
[]
[]
[]
[]
[]
[]
[]
[]
[]
[]
[]
[]
[]
[]
[]
[]
[]
[]
[]
[]
[]
[]
[]
[]
[]
[]
[]
[]
[]
[]
[]
[]
[]
[]
[]
[]
[]
[]
[]
[]
[]
[]
[]
[]
[]
[]
[]
[]
[]
[]
[]
[]
[]
[]
[]
[]
[]
[]
[]
[]
[]
[]
[]
[]
[]
[]
[]
[]
[]
[]
[]
[]
[]
[]
[]
[]
[]
[]
[]
[]
[]
[]
[]
[]
[]
[]
[]
[]
[]
[]
[]
[]
[]
[]
[]
[]
[]
[]
[]
[]
[]
[]
[]
[]
[]
[]
[]
[]
[]
[]
[]
[]
[]
[]
[]
[]
[]
[]
[]
[]
[]
[]
[]
[]
[]
[]
[]
[]
[]
[]
[]
[]
[]
[]
[]
[]
[]
[]
[]
[]
[]
[]
[]
[]
[]
[]
[]
[]
[]
[]
[]
[]
[]
[]
[]
[]
[]
[]
[]
[]
[]
[]
[]
[]
[]
[]
[]
[]
[]
[]
[]
[]
[]
[]
[]
[]
[]
[]
[]
[]
[]
[]
[]
[]
[]
[]
[]
[]
[]
[]
[]
[]
[]
[]
[]
[]
[]
[]
[]
[]
[]
[]
[]
[]
[]
[]
[]
[]
[]
[]
[]
[]
[]
[]
[]
[]
[]
[]
[]
[]
[]
[]
[]
[]
[]
[]
[]
[]
[]
[]
[]
[]
[]
[]
[]
[]
[]
[]
[]
[]
[]
[]
[]
[]
[]
[]
[]
[]
[]
[]
[]
[]
[]
[]
[]
[]
[]
[]
[]
[]
[]
[]
[]
[]
[]
[]
[]
[]
[]
[]
[]
[]
[]
[]
[]
[]
[]
[]
[]
[]
[]
[]
[]
[]
[]
[]
[]
[]
[]
[]
[]
[]
[]
[]
[]
[]
[]
[]
[]
[]
[]
[]
[]
[]
[]
[]
[]
[]
[]
[]
[]
[]
[]
[]
[]
[]
[]
[]
[]
[]
[]
[]
[]
[]
[]
[]
[]
[]
[]
[]
[]
[]
[]
[]
[]
[]
[]
[]
[]
[]
[]
[]
[]
[]
[]
[]
[]
[]
[]
[]
[]
[]
[]
[]
[]
[]
[]
[]
[]
[]
[]
[]
[]
[]
[]
[]
[]
[]
[]
[]
[]
[]
[]
[]
[]
[]
[]
[]
[]
[]
[]
[]
[]
[]
[]
[]
[]
[]
[]
[]
[]
[]
[]
[]
[]
[]
[]
[]
[]
[]
[]
[]
[]
[]
[]
[]
[]
[]
[]
[]
[]
[]
[]
[]
[]
[]
[]
[]
[]
[]
[]
[]
[]
[]
[]
[]
[]
[]
[]
[]
[]
[]
[]
[]
[]
[]
[]
[]
[]
[]
[]
[]
[]
[]
[]
[]
[]
[]
[]
[]
[]
[]
[]
[]
[]
[]
[]
[]
[]
[]
[]
[]
[]
[]
[]
[]
[]
[]
[]
[]
[]
[]
[]
[]
[]
[]
[]
[]
[]
[]
[]
[]
[]
[]
[]
[]
[]
[]
[]
[]
[]
[]
[]
[]
[]
[]
[]
[]
[]
[]
[]
[]
[]
[]
[]
[]
[]
[]
[]
[]
[]
[]
[]
[]
[]
[]
[]
[]
[]
[]
[]
[]
[]
[]
[]
[]
[]
[]
[]
[]
[]
[]
[]
[]
[]
[]
[]
[]
[]
[]
[]
[]
[]
[]
[]
[]
[]
[]
[]
[]
[]
[]
[]
[]
[]
[]
[]
[]
[]
[]
[]
[]
[]
[]
[]
[]
[]
[]
[]
[]
[]
[]
[]
[]
[]
[]
[]
[]
[]
[]
[]
[]
[]
[]
[]
[]
[]
[]
[]
[]
[]
[]
[]
[]
[]
[]
[]
[]
[]
[]
[]
[]
[]
[]
[]
[]
[]
[]
[]
[]
[]
[]
[]
[]
[]
[]
[]
[]
[]
[]
[]
[]
[]
[]
[]
[]
[]
[]
[]
[]
[]
[]
[]
[]
[]
[]
[]
[]
[]
[]
[]
[]
[]
[]
[]
[]
[]
[]
[]
[]
[]
[]
[]
[]
[]
[]
[]
[]
[]
[]
[]
[]
[]
[]
[]
[]
[]
[]
[]
[]
[]
[]
[]
[]
[]
[]
[]
[]
[]
[]
[]
[]
[]
[]
[]
[]
[]
[]
[]
[]
[]
[]
[]
[]
[]
[]
[]
[]
[]
[]
[]
[]
[]
[]
[]
[]
[]
[]
[]
[]
[]
[]
[]
[]
[]
[]
[]
[]
[]
[]
[]
[]
[]
[]
[]
[]
[]
[]
[]
[]
[]
[]
[]
[]
[]
[]
[]
[]
[]
[]
[]
[]
[]
[]
[]
[]
[]
[]
[]
[]
[]
[]
[]
[]
[]
[]
[]
[]
[]
[]
[]
[]
[]
[]
[]
[]
[]
[]
[]
[]
[]
[]
[]
[]
[]
[]
[]
[]
[]
[]
[]
[]
[]
[]
[]
[]
[]
[]
[]
[]
[]
[]
[]
[]
[]
[]
[]
[]
[]
[]
[]
[]
[]
[]
[]
[]
[]
[]
[]
[]
[]
[]
[]
[]
[]
[]
[]
[]
[]
[]
[]
[]
[]
[]
[]
[]
[]
[]
[]
[]
[]
[]
[]
[]
[]
[]
[]
[]
[]
[]
[]
[]
[]
[]
[]
[]
[]
[]
[]
[]
[]
[]
[]
[]
[]
[]
[]
[]
[]
[]
[]
[]
[]
[]
[]
[]
[]
[]
[]
[]
[]
[]
[]
[]
[]
[]
[]
[]
[]
[]
[]
[]
[]
[]
[]
[]
[]
[]
[]
[]
[]
[]
[]
[]
[]
[]
[]
[]
[]
[]
[]
[]
[]
[]
[]
[]
[]
[]
[]
[]
[]
[]
[]
[]
[]
[]
[]
[]
[]
[]
[]
[]
[]
[]
[]
[]
[]
[]
[]
[]
[]
[]
[]
[]
[]
[]
[]
[]
[]
[]
[]
[]
[]
[]
[]
[]
[]
[]
[]
[]
[]
[]
[]
[]
[]
[]
[]
[]
[]
[]
[]
[]
[]
[]
[]
[]
[]
[]
[]
[]
[]
[]
[]
[]
[]
[]
[]
[]
[]
[]
[]
[]
[]
[]
[]
[]
[]
[]
[]
[]
[]
[]
[]
[]
[]
[]
[]
[]
[]
[]
[]
[]
[]
[]
[]
[]
[]
[]
[]
[]
[]
[]
[]
[]
[]
[]
[]
[]
[]
[]
[]
[]
[]
[]
[]
[]
[]
[]
[]
[]
[]
[]
[]
[]
[]
[]
[]
[]
[]
[]
[]
[]
[]
[]
[]
[]
[]
[]
[]
[]
[]
[]
[]
[]
[]
[]
[]
[]
[]
[]
[]
[]
[]
[]
[]
[]
[]
[]
[]
[]
[]
[]
[]
[]
[]
[]
[]
[]
[]
[]
[]
[]
[]
[]
[]
[]
[]
[]
[]
[]
[]
[]
[]
[]
[]
[]
[]
[]
[]
[]
[]
[]
[]
[]
[]
[]
[]
[]
[]
[]
[]
[]
[]
[]
[]
[]
[]
[]
[]
[]
[]
[]
[]
[]
[]
[]
[]
[]
[]
[]
[]
[]
[]
[]
[]
[]
[]
[]
[]
[]
[]
[]
[]
[]
[]
[]
[]
[]
[]
[]
[]
[]
[]
[]
[]
[]
[]
[]
[]
[]
[]
[]
[]
[]
[]
[]
[]
[]
[]
[]
[]
[]
[]
[]
[]
[]
[]
[]
[]
[]
[]
[]
[]
[]
[]
[]
[]
[]
[]
[]
[]
[]
[]
[]
[]
[]
[]
[]
[]
[]
[]
[]
[]
[]
[]
[]
[]
[]
[]
[]
[]
[]
[]
[]
[]
[]
[]
[]
[]
[]
[]
[]
[]
[]
[]
[]
[]
[]
[]
[]
[]
[]
[]
[]
[]
[]
[]
[]
[]
[]
[]
[]
[]
[]
[]
[]
[]
[]
[]
[]
[]
[]
[]
[]
[]
[]
[]
[]
[]
[]
[]
[]
[]
[]
[]
[]
[]
[]
[]
[]
[]
[]
[]
[]
[]
[]
[]
[]
[]
[]
[]
[]
[]
[]
[]
[]
[]
[]
[]
[]
[]
[]
[]
[]
[]
[]
[]
[]
[]
[]
[]
[]
[]
[]
[]
[]
[]
[]
[]
[]
[]
[]
[]
[]
[]
[]
[]
[]
[]
[]
[]
[]
[]
[]
[]
[]
[]
[]
[]
[]
[]
[]
[]
[]
[]
[]
[]
[]
[]
[]
[]
[]
[]
[]
[]
[]
[]
[]
[]
[]
[]
[]
[]
[]
[]
[]
[]
[]
[]
[]
[]
[]
[]
[]
[]
[]
[]
[]
[]
[]
[]
[]
[]
[]
[]
[]
[]
[]
[]
[]
[]
[]
[]
[]
[]
[]
[]
[]
[]
[]
[]
[]
[]
[]
[]
[]
[]
[]
[]
[]
[]
[]
[]
[]
[]
[]
[]
[]
[]
[]
[]
[]
[]
[]
[]
[]
[]
[]
[]
[]
[]
[]
[]
[]
[]
[]
[]
[]
[]
[]
[]
[]
[]
[]
[]
[]
[]
[]
[]
[]
[]
[]
[]
[]
[]
[]
[]
[]
[]
[]
[]
[]
[]
[]
[]
[]
[]
[]
[]
[]
[]
[]
[]
[]
[]
[]
[]
[]
[]
[]
[]
[]
[]
[]
[]
[]
[]
[]
[]
[]
[]
[]
[]
[]
[]
[]
[]
[]
[]
[]
[]
[]
[]
[]
[]
[]
[]
[]
[]
[]
[]
[]
[]
[]
[]
[]
[]
[]
[]
[]
[]
[]
[]
[]
[]
[]
[]
[]
[]
[]
[]
[]
[]
[]
[]
[]
[]
[]
[]
[]
[]
[]
[]
[]
[]
[]
[]
[]
[]
[]
[]
[]
[]
[]
[]
[]
[]
[]
[]
[]
[]
[]
[]
[]
[]
[]
[]
[]
[]
[]
[]
[]
[]
[]
[]
[]
[]
[]
[]
[]
[]
[]
[]
[]
[]
[]
[]
[]
[]
[]
[]
[]
[]
[]
[]
[]
[]
[]
[]
[]
[]
[]
[]
[]
[]
[]
[]
[]
[]
[]
[]
[]
[]
[]
[]
[]
[]
[]
[]
[]
[]
[]
[]
[]
[]
[]
[]
[]
[]
[]
[]
[]
[]
[]
[]
[]
[]
[]
[]
[]
[]
[]
[]
[]
[]
[]
[]
[]
[]
[]
[]
[]
[]
[]
[]
[]
[]
[]
[]
[]
[]
[]
[]
[]
[]
[]
[]
[]
[]
[]
[]
[]
[]
[]
[]
[]
[]
[]
[]
[]
[]
[]
[]
[]
[]
[]
[]
[]
[]
[]
[]
[]
[]
[]
[]
[]
[]
[]
[]
[]
[]
[]
[]
[]
[]
[]
[]
[]
[]
[]
[]
[]
[]
[]
[]
[]
[]
[]
[]
[]
[]
[]
[]
[]
[]
[]
[]
[]
[]
[]
[]
[]
[]
[]
[]
[]
[]
[]
[]
[]
[]
[]
[]
[]
[]
[]
[]
[]
[]
[]
[]
[]
[]
[]
[]
[]
[]
[]
[]
[]
[]
[]
[]
[]
[]
[]
[]
[]
[]
[]
[]
[]
[]
[]
[]
[]
[]
[]
[]
[]
[]
[]
[]
[]
[]
[]
[]
[]
[]
[]
[]
[]
[]
[]
[]
[]
[]
[]
[]
[]
[]
[]
[]
[]
[]
[]
[]
[]
[]
[]
[]
[]
[]
[]
[]
[]
[]
[]
[]
[]
[]
[]
[]
[]
[]
[]
[]
[]
[]
[]
[]
[]
[]
[]
[]
[]
[]
[]
[]
[]
[]
[]
[]
[]
[]
[]
[]
[]
[]
[]
[]
[]
[]
[]
[]
[]
[]
[]
[]
[]
[]
[]
[]
[]
[]
[]
[]
[]
[]
[]
[]
[]
[]
[]
[]
[]
[]
[]
[]
[]
[]
[]
[]
[]
[]
[]
[]
[]
[]
[]
[]
[]
[]
[]
[]
[]
[]
[]
[]
[]
[]
[]
[]
[]
[]
[]
[]
[]
[]
[]
[]
[]
[]
[]
[]
[]
[]
[]
[]
[]
[]
[]
[]
[]
[]
[]
[]
[]
[]
[]
[]
[]
[]
[]
[]
[]
[]
[]
[]
[]
[]
[]
[]
[]
[]
[]
[]
[]
[]
[]
[]
[]
[]
[]
[]
[]
[]
[]
[]
[]
[]
[]
[]
[]
[]
[]
[]
[]
[]
[]
[]
[]
[]
[]
[]
[]
[]
[]
[]
[]
[]
[]
[]
[]
[]
[]
[]
[]
[]
[]
[]
[]
[]
[]
[]
[]
[]
[]
[]
[]
[]
[]
[]
[]
[]
[]
[]
[]
[]
[]
[]
[]
[]
[]
[]
[]
[]
[]
[]
[]
[]
[]
[]
[]
[]
[]
[]
[]
[]
[]
[]
[]
[]
[]
[]
[]
[]
[]
[]
[]
[]
[]
[]
[]
[]
[]
[]
[]
[]
[]
[]
[]
[]
[]
[]
[]
[]
[]
[]
[]
[]
[]
[]
[]
[]
[]
[]
[]
[]
[]
[]
[]
[]
[]
[]
[]
[]
[]
[]
[]
[]
[]
[]
[]
[]
[]
[]
[]
[]
[]
[]
[]
[]
[]
[]
[]
[]
[]
[]
[]
[]
[]
[]
[]
[]
[]
[]
[]
[]
[]
[]
[]
[]
[]
[]
[]
[]
[]
[]
[]
[]
[]
[]
[]
[]
[]
[]
[]
[]
[]
[]
[]
[]
[]
[]
[]
[]
[]
[]
[]
[]
[]
[]
[]
[]
[]
[]
[]
[]
[]
[]
[]
[]
[]
[]
[]
[]
[]
[]
[]
[]
[]
[]
[]
[]
[]
[]
[]
[]
[]
[]
[]
[]
[]
[]
[]
[]
[]
[]
[]
[]
[]
[]
[]
[]
[]
[]
[]
[]
[]
[]
[]
[]
[]
[]
[]
[]
[]
[]
[]
[]
[]
[]
[]
[]
[]
[]
[]
[]
[]
[]
[]
[]
[]
[]
[]
[]
[]
[]
[]
[]
[]
[]
[]
[]
[]
[]
[]
[]
[]
[]
[]
[]
[]
[]
[]
[]
[]
[]
[]
[]
[]
[]
[]
[]
[]
[]
[]
[]
[]
[]
[]
[]
[]
[]
[]
[]
[]
[]
[]
[]
[]
[]
[]
[]
[]
[]
[]
[]
[]
[]
[]
[]
[]
[]
[]
[]
[]
[]
[]
[]
[]
[]
[]
[]
[]
[]
[]
[]
[]
[]
[]
[]
[]
[]
[]
[]
[]
[]
[]
[]
[]
[]
[]
[]
[]
[]
[]
[]
[]
[]
[]
[]
[]
[]
[]
[]
[]
[]
[]
[]
[]
[]
[]
[]
[]
[]
[]
[]
[]
[]
[]
[]
[]
[]
[]
[]
[]
[]
[]
[]
[]
[]
[]
[]
[]
[]
[]
[]
[]
[]
[]
[]
[]
[]
[]
[]
[]
[]
[]
[]
[]
[]
[]
[]
[]
[]
[]
[]
[]
[]
[]
[]
[]
[]
[]
[]
[]
[]
[]
[]
[]
[]
[]
[]
[]
[]
[]
[]
[]
[]
[]
[]
[]
[]
[]
[]
[]
[]
[]
[]
[]
[]
[]
[]
[]
[]
[]
[]
[]
[]
[]
[]
[]
[]
[]
[]
[]
[]
[]
[]
[]
[]
[]
[]
[]
[]
[]
[]
[]
[]
[]
[]
[]
[]
[]
[]
[]
[]
[]
[]
[]
[]
[]
[]
[]
[]
[]
[]
[]
[]
[]
[]
[]
[]
[]
[]
[]
[]
[]
[]
[]
[]
[]
[]
[]
[]
[]
[]
[]
[]
[]
[]
[]
[]
[]
[]
[]
[]
[]
[]
[]
[]
[]
[]
[]
[]
[]
[]
[]
[]
[]
[]
[]
[]
[]
[]
[]
[]
[]
[]
[]
[]
[]
[]
[]
[]
[]
[]
[]
[]
[]
[]
[]
[]
[]
[]
[]
[]
[]
[]
[]
[]
[]
[]
[]
[]
[]
[]
[]
[]
[]
[]
[]
[]
[]
[]
[]
[]
[]
[]
[]
[]
[]
[]
[]
[]
[]
[]
[]
[]
[]
[]
[]
[]
[]
[]
[]
[]
[]
[]
[]
[]
[]
[]
[]
[]
[]
[]
[]
[]
[]
[]
[]
[]
[]
[]
[]
[]
[]
[]
[]
[]
[]
[]
[]
[]
[]
[]
[]
[]
[]
[]
[]
[]
[]
[]
[]
[]
[]
[]
[]
[]
[]
[]
[]
[]
[]
[]
[]
[]
[]
[]
[]
[]
[]
[]
[]
[]
[]
[]
[]
[]
[]
[]
[]
[]
[]
[]
[]
[]
[]
[]
[]
[]
[]
[]
[]
[]
[]
[]
[]
[]
[]
[]
[]
[]
[]
[]
[]
[]
[]
[]
[]
[]
[]
[]
[]
[]
[]
[]
[]
[]
[]
[]
[]
[]
[]
[]
[]
[]
[]
[]
[]
[]
[]
[]
[]
[]
[]
[]
[]
[]
[]
[]
[]
[]
[]
[]
[]
[]
[]
[]
[]
[]
[]
[]
[]
[]
[]
[]
[]
[]
[]
[]
[]
[]
[]
[]
[]
[]
[]
[]
[]
[]
[]
[]
[]
[]
[]
[]
[]
[]
[]
[]
[]
[]
[]
[]
[]
[]
[]
[]
[]
[]
[]
[]
[]
[]
[]
[]
[]
[]
[]
[]
[]
[]
[]
[]
[]
[]
[]
[]
[]
[]
[]
[]
[]
[]
[]
[]
[]
[]
[]
[]
[]
[]
[]
[]
[]
[]
[]
[]
[]
[]
[]
[]
[]
[]
[]
[]
[]
[]
[]
[]
[]
[]
[]
[]
[]
[]
[]
[]
[]
[]
[]
[]
[]
[]
[]
[]
[]
[]
[]
[]
[]
[]
[]
[]
[]
[]
[]
[]
[]
[]
[]
[]
[]
[]
[]
[]
[]
[]
[]
[]
[]
[]
[]
[]
[]
[]
[]
[]
[]
[]
[]
[]
[]
[]
[]
[]
[]
[]
[]
[]
[]
[]
[]
[]
[]
[]
[]
[]
[]
[]
[]
[]
[]
[]
[]
[]
[]
[]
[]
[]
[]
[]
[]
[]
[]
[]
[]
[]
[]
[]
[]
[]
[]
[]
[]
[]
[]
[]
[]
[]
[]
[]
[]
[]
[]
[]
[]
[]
[]
[]
[]
[]
[]
[]
[]
[]
[]
[]
[]
[]
[]
[]
[]
[]
[]
[]
[]
[]
[]
[]
[]
[]
[]
[]
[]
[]
[]
[]
[]
[]
[]
[]
[]
[]
[]
[]
[]
[]
[]
[]
[]
[]
[]
[]
[]
[]
[]
[]
[]
[]
[]
[]
[]
[]
[]
[]
[]
[]
[]
[]
[]
[]
[]
[]
[]
[]
[]
[]
[]
[]
[]
[]
[]
[]
[]
[]
[]
[]
[]
[]
[]
[]
[]
[]
[]
[]
[]
[]
[]
[]
[]
[]
[]
[]
[]
[]
[]
[]
[]
[]
[]
[]
[]
[]
[]
[]
[]
[]
[]
[]
[]
[]
[]
[]
[]
[]
[]
[]
[]
[]
[]
[]
[]
[]
[]
[]
[]
[]
[]
[]
[]
[]
[]
[]
[]
[]
[]
[]
[]
[]
[]
[]
[]
[]
[]
[]
[]
[]
[]
[]
[]
[]
[]
[]
[]
[]
[]
[]
[]
[]
[]
[]
[]
[]
[]
[]
[]
[]
[]
[]
[]
[]
[]
[]
[]
[]
[]
[]
[]
[]
[]
[]
[]
[]
[]
[]
[]
[]
[]
[]
[]
[]
[]
[]
[]
[]
[]
[]
[]
[]
[]
[]
[]
[]
[]
[]
[]
[]
[]
[]
[]
[]
[]
[]
[]
[]
[]
[]
[]
[]
[]
[]
[]
[]
[]
[]
[]
[]
[]
[]
[]
[]
[]
[]
[]
[]
[]
[]
[]
[]
[]
[]
[]
[]
[]
[]
[]
[]
[]
[]
[]
[]
[]
[]
[]
[]
[]
[]
[]
[]
[]
[]
[]
[]
[]
[]
[]
[]
[]
[]
[]
[]
[]
[]
[]
[]
[]
[]
[]
[]
[]
[]
[]
[]
[]
[]
[]
[]
[]
[]
[]
[]
[]
[]
[]
[]
[]
[]
[]
[]
[]
[]
[]
[]
[]
[]
[]
[]
[]
[]
[]
[]
[]
[]
[]
[]
[]
[]
[]
[]
[]
[]
[]
[]
[]
[]
[]
[]
[]
[]
[]
[]
[]
[]
[]
[]
[]
[]
[]
[]
[]
[]
[]
[]
[]
[]
[]
[]
[]
[]
[]
[]
[]
[]
[]
[]
[]
[]
[]
[]
[]
[]
[]
[]
[]
[]
[]
[]
[]
[]
[]
[]
[]
[]
[]
[]
[]
[]
[]
[]
[]
[]
[]
[]
[]
[]
[]
[]
[]
[]
[]
[]
[]
[]
[]
[]
[]
[]
[]
[]
[]
[]
[]
[]
[]
[]
[]
[]
[]
[]
[]
[]
[]
[]
[]
[]
[]
[]
[]
[]
[]
[]
[]
[]
[]
[]
[]
[]
[]
[]
[]
[]
[]
[]
[]
[]
[]
[]
[]
[]
[]
[]
[]
[]
[]
[]
[]
[]
[]
[]
[]
[]
[]
[]
[]
[]
[]
[]
[]
[]
[]
[]
[]
[]
[]
[]
[]
[]
[]
[]
[]
[]
[]
[]
[]
[]
[]
[]
[]
[]
[]
[]
[]
[]
[]
[]
[]
[]
[]
[]
[]
[]
[]
[]
[]
[]
[]
[]
[]
[]
[]
[]
[]
[]
[]
[]
[]
[]
[]
[]
[]
[]
[]
[]
[]
[]
[]
[]
[]
[]
[]
[]
[]
[]
[]
[]
[]
[]
[]
[]
[]
[]
[]
[]
[]
[]
[]
[]
[]
[]
[]
[]
[]
[]
[]
[]
[]
[]
[]
[]
[]
[]
[]
[]
[]
[]
[]
[]
[]
[]
[]
[]
[]
[]
[]
[]
[]
[]
[]
[]
[]
[]
[]
[]
[]
[]
[]
[]
[]
[]
[]
[]
[]
[]
[]
[]
[]
[]
[]
[]
[]
[]
[]
[]
[]
[]
[]
[]
[]
[]
[]
[]
[]
[]
[]
[]
[]
[]
[]
[]
[]
[]
[]
[]
[]
[]
[]
[]
[]
[]
[]
[]
[]
[]
[]
[]
[]
[]
[]
[]
[]
[]
[]
[]
[]
[]
[]
[]
[]
[]
[]
[]
[]
[]
[]
[]
[]
[]
[]
[]
[]
[]
[]
[]
[]
[]
[]
[]
[]
[]
[]
[]
[]
[]
[]
[]
[]
[]
[]
[]
[]
[]
[]
[]
[]
[]
[]
[]
[]
[]
[]
[]
[]
[]
[]
[]
[]
[]
[]
[]
[]
[]
[]
[]
[]
[]
[]
[]
[]
[]
[]
[]
[]
[]
[]
[]
[]
[]
[]
[]
[]
[]
[]
[]
[]
[]
[]
[]
[]
[]
[]
[]
[]
[]
[]
[]
[]
[]
[]
[]
[]
[]
[]
[]
[]
[]
[]
[]
[]
[]
[]
[]
[]
[]
[]
[]
[]
[]
[]
[]
[]
[]
[]
[]
[]
[]
[]
[]
[]
[]
[]
[]
[]
[]
[]
[]
[]
[]
[]
[]
[]
[]
[]
[]
[]
[]
[]
[]
[]
[]
[]
[]
[]
[]
[]
[]
[]
[]
[]
[]
[]
[]
[]
[]
[]
[]
[]
[]
[]
[]
[]
[]
[]
[]
[]
[]
[]
[]
[]
[]
[]
[]
[]
[]
[]
[]
[]
[]
[]
[]
[]
[]
[]
[]
[]
[]
[]
[]
[]
[]
[]
[]
[]
[]
[]
[]
[]
[]
[]
[]
[]
[]
[]
[]
[]
[]
[]
[]
[]
[]
[]
[]
[]
[]
[]
[]
[]
[]
[]
[]
[]
[]
[]
[]
[]
[]
[]
[]
[]
[]
[]
[]
[]
[]
[]
[]
[]
[]
[]
[]
[]
[]
[]
[]
[]
[]
[]
[]
[]
[]
[]
[]
[]
[]
[]
[]
[]
[]
[]
[]
[]
[]
[]
[]
[]
[]
[]
[]
[]
[]
[]
[]
[]
[]
[]
[]
[]
[]
[]
[]
[]
[]
[]
[]
[]
[]
[]
[]
[]
[]
[]
[]
[]
[]
[]
[]
[]
[]
[]
[]
[]
[]
[]
[]
[]
[]
[]
[]
[]
[]
[]
[]
[]
[]
[]
[]
[]
[]
[]
[]
[]
[]
[]
[]
[]
[]
[]
[]
[]
[]
[]
[]
[]
[]
[]
[]
[]
[]
[]
[]
[]
[]
[]
[]
[]
[]
[]
[]
[]
[]
[]
[]
[]
[]
[]
[]
[]
[]
[]
[]
[]
[]
[]
[]
[]
[]
[]
[]
[]
[]
[]
[]
[]
[]
[]
[]
[]
[]
[]
[]
[]
[]
[]
[]
[]
[]
[]
[]
[]
[]
[]
[]
[]
[]
[]
[]
[]
[]
[]
[]
[]
[]
[]
[]
[]
[]
[]
[]
[]
[]
[]
[]
[]
[]
[]
[]
[]
[]
[]
[]
[]
[]
[]
[]
[]
[]
[]
[]
[]
[]
[]
[]
[]
[]
[]
[]
[]
[]
[]
[]
[]
[]
[]
[]
[]
[]
[]
[]
[]
[]
[]
[]
[]
[]
[]
[]
[]
[]
[]
[]
[]
[]
[]
[]
[]
[]
[]
[]
[]
[]
[]
[]
[]
[]
[]
[]
[]
[]
[]
[]
[]
[]
[]
[]
[]
[]
[]
[]
[]
[]
[]
[]
[]
[]
[]
[]
[]
[]
[]
[]
[]
[]
[]
[]
[]
[]
[]
[]
[]
[]
[]
[]
[]
[]
[]
[]
[]
[]
[]
[]
[]
[]
[]
[]
[]
[]
[]
[]
[]
[]
[]
[]
[]
[]
[]
[]
[]
[]
[]
[]
[]
[]
[]
[]
[]
[]
[]
[]
[]
[]
[]
[]
[]
[]
[]
[]
[]
[]
[]
[]
[]
[]
[]
[]
[]
[]
[]
[]
[]
[]
[]
[]
[]
[]
[]
[]
[]
[]
[]
[]
[]
[]
[]
[]
[]
[]
[]
[]
[]
[]
[]
[]
[]
[]
[]
[]
[]
[]
[]
[]
[]
[]
[]
[]
[]
[]
[]
[]
[]
[]
[]
[]
[]
[]
[]
[]
[]
[]
[]
[]
[]
[]
[]
[]
[]
[]
[]
[]
[]
[]
[]
[]
[]
[]
[]
[]
[]
[]
[]
[]
[]
[]
[]
[]
[]
[]
[]
[]
[]
[]
[]
[]
[]
[]
[]
[]
[]
[]
[]
[]
[]
[]
[]
[]
[]
[]
[]
[]
[]
[]
[]
[]
[]
[]
[]
[]
[]
[]
[]
[]
[]
[]
[]
[]
[]
[]
[]
[]
[]
[]
[]
[]
[]
[]
[]
[]
[]
[]
[]
[]
[]
[]
[]
[]
[]
[]
[]
[]
[]
[]
[]
[]
[]
[]
[]
[]
[]
[]
[]
[]
[]
[]
[]
[]
[]
[]
[]
[]
[]
[]
[]
[]
[]
[]
[]
[]
[]
[]
[]
[]
[]
[]
[]
[]
[]
[]
[]
[]
[]
[]
[]
[]
[]
[]
[]
[]
[]
[]
[]
[]
[]
[]
[]
[]
[]
[]
[]
[]
[]
[]
[]
[]
[]
[]
[]
[]
[]
[]
[]
[]
[]
[]
[]
[]
[]
[]
[]
[]
[]
[]
[]
[]
[]
[]
[]
[]
[]
[]
[]
[]
[]
[]
[]
[]
[]
[]
[]
[]
[]
[]
[]
[]
[]
[]
[]
[]
[]
[]
[]
[]
[]
[]
[]
[]
[]
[]
[]
[]
[]
[]
[]
[]
[]
[]
[]
[]
[]
[]
[]
[]
[]
[]
[]
[]
[]
[]
[]
[]
[]
[]
[]
[]
[]
[]
[]
[]
[]
[]
[]
[]
[]
[]
[]
[]
[]
[]
[]
[]
[]
[]
[]
[]
[]
[]
[]
[]
[]
[]
[]
[]
[]
[]
[]
[]
[]
[]
[]
[]
[]
[]
[]
[]
[]
[]
[]
[]
[]
[]
[]
[]
[]
[]
[]
[]
[]
[]
[]
[]
[]
[]
[]
[]
[]
[]
[]
[]
[]
[]
[]
[]
[]
[]
[]
[]
[]
[]
[]
[]
[]
[]
[]
[]
[]
[]
[]
[]
[]
[]
[]
[]
[]
[]
[]
[]
[]
[]
[]
[]
[]
[]
[]
[]
[]
[]
[]
[]
[]
[]
[]
[]
[]
[]
[]
[]
[]
[]
[]
[]
[]
[]
[]
[]
[]
[]
[]
[]
[]
[]
[]
[]
[]
[]
[]
[]
[]
[]
[]
[]
[]
[]
[]
[]
[]
[]
[]
[]
[]
[]
[]
[]
[]
[]
[]
[]
[]
[]
[]
[]
[]
[]
[]
[]
[]
[]
[]
[]
[]
[]
[]
[]
[]
[]
[]
[]
[]
[]
[]
[]
[]
[]
[]
[]
[]
[]
[]
[]
[]
[]
[]
[]
[]
[]
[]
[]
[]
[]
[]
[]
[]
[]
[]
[]
[]
[]
[]
[]
[]
[]
[]
[]
[]
[]
[]
[]
[]
[]
[]
[]
[]
[]
[]
[]
[]
[]
[]
[]
[]
[]
[]
[]
[]
[]
[]
[]
[]
[]
[]
[]
[]
[]
[]
[]
[]
[]
[]
[]
[]
[]
[]
[]
[]
[]
[]
[]
[]
[]
[]
[]
[]
[]
[]
[]
[]
[]
[]
[]
[]
[]
[]
[]
[]
[]
[]
[]
[]
[]
[]
[]
[]
[]
[]
[]
[]
[]
[]
[]
[]
[]
[]
[]
[]
[]
[]
[]
[]
[]
[]
[]
[]
[]
[]
[]
[]
[]
[]
[]
[]
[]
[]
[]
[]
[]
[]
[]
[]
[]
[]
[]
[]
[]
[]
[]
[]
[]
[]
[]
[]
[]
[]
[]
[]
[]
[]
[]
[]
[]
[]
[]
[]
[]
[]
[]
[]
[]
[]
[]
[]
[]
[]
[]
[]
[]
[]
[]
[]
[]
[]
[]
[]
[]
[]
[]
[]
[]
[]
[]
[]
[]
[]
[]
[]
[]
[]
[]
[]
[]
[]
[]
[]
[]
[]
[]
[]
[]
[]
[]
[]
[]
[]
[]
[]
[]
[]
[]
[]
[]
[]
[]
[]
[]
[]
[]
[]
[]
[]
[]
[]
[]
[]
[]
[]
[]
[]
[]
[]
[]
[]
[]
[]
[]
[]
[]
[]
[]
[]
[]
[]
[]
[]
[]
[]
[]
[]
[]
[]
[]
[]
[]
[]
[]
[]
[]
[]
[]
[]
[]
[]
[]
[]
[]
[]
[]
[]
[]
[]
[]
[]
[]
[]
[]
[]
[]
[]
[]
[]
[]
[]
[]
[]
[]
[]
[]
[]
[]
[]
[]
[]
[]
[]
[]
[]
[]
[]
[]
[]
[]
[]
[]
[]
[]
[]
[]
[]
[]
[]
[]
[]
[]
[]
[]
[]
[]
[]
[]
[]
[]
[]
[]
[]
[]
[]
[]
[]
[]
[]
[]
[]
[]
[]
[]
[]
[]
[]
[]
[]
[]
[]
[]
[]
[]
[]
[]
[]
[]
[]
[]
[]
[]
[]
[]
[]
[]
[]
[]
[]
[]
[]
[]
[]
[]
[]
[]
[]
[]
[]
[]
[]
[]
[]
[]
[]
[]
[]
[]
[]
[]
[]
[]
[]
[]
[]
[]
[]
[]
[]
[]
[]
[]
[]
[]
[]
[]
[]
[]
[]
[]
[]
[]
[]
[]
[]
[]
[]
[]
[]
[]
[]
[]
[]
[]
[]
[]
[]
[]
[]
[]
[]
[]
[]
[]
[]
[]
[]
[]
[]
[]
[]
[]
[]
[]
[]
[]
[]
[]
[]
[]
[]
[]
[]
[]
[]
[]
[]
[]
[]
[]
[]
[]
[]
[]
[]
[]
[]
[]
[]
[]
[]
[]
[]
[]
[]
[]
[]
[]
[]
[]
[]
[]
[]
[]
[]
[]
[]
[]
[]
[]
[]
[]
[]
[]
[]
[]
[]
[]
[]
[]
[]
[]
[]
[]
[]
[]
[]
[]
[]
[]
[]
[]
[]
[]
[]
[]
[]
[]
[]
[]
[]
[]
[]
[]
[]
[]
[]
[]
[]
[]
[]
[]
[]
[]
[]
[]
[]
[]
[]
[]
[]
[]
[]
[]
[]
[]
[]
[]
[]
[]
[]
[]
[]
[]
[]
[]
[]
[]
[]
[]
[]
[]
[]
[]
[]
[]
[]
[]
[]
[]
[]
[]
[]
[]
[]
[]
[]
[]
[]
[]
[]
[]
[]
[]
[]
[]
[]
[]
[]
[]
[]
[]
[]
[]
[]
[]
[]
[]
[]
[]
[]
[]
[]
[]
[]
[]
[]
[]
[]
[]
[]
[]
[]
[]
[]
[]
[]
[]
[]
[]
[]
[]
[]
[]
[]
[]
[]
[]
[]
[]
[]
[]
[]
[]
[]
[]
[]
[]
[]
[]
[]
[]
[]
[]
[]
[]
[]
[]
[]
[]
[]
[]
[]
[]
[]
[]
[]
[]
[]
[]
[]
[]
[]
[]
[]
[]
[]
[]
[]
[]
[]
[]
[]
[]
[]
[]
[]
[]
[]
[]
[]
[]
[]
[]
[]
[]
[]
[]
[]
[]
[]
[]
[]
[]
[]
[]
[]
[]
[]
[]
[]
[]
[]
[]
[]
[]
[]
[]
[]
[]
[]
[]
[]
[]
[]
[]
[]
[]
[]
[]
[]
[]
[]
[]
[]
[]
[]
[]
[]
[]
[]
[]
[]
[]
[]
[]
[]
[]
[]
[]
[]
[]
[]
[]
[]
[]
[]
[]
[]
[]
[]
[]
[]
[]
[]
[]
[]
[]
[]
[]
[]
[]
[]
[]
[]
[]
[]
[]
[]
[]
[]
[]
[]
[]
[]
[]
[]
[]
[]
[]
[]
[]
[]
[]
[]
[]
[]
[]
[]
[]
[]
[]
[]
[]
[]
[]
[]
[]
[]
[]
[]
[]
[]
[]
[]
[]
[]
[]
[]
[]
[]
[]
[]
[]
[]
[]
[]
[]
[]
[]
[]
[]
[]
[]
[]
[]
[]
[]
[]
[]
[]
[]
[]
[]
[]
[]
[]
[]
[]
[]
[]
[]
[]
[]
[]
[]
[]
[]
[]
[]
[]
[]
[]
[]
[]
[]
[]
[]
[]
[]
[]
[]
[]
[]
[]
[]
[]
[]
[]
[]
[]
[]
[]
[]
[]
[]
[]
[]
[]
[]
[]
[]
[]
[]
[]
[]
[]
[]
[]
[]
[]
[]
[]
[]
[]
[]
[]
[]
[]
[]
[]
[]
[]
[]
[]
[]
[]
[]
[]
[]
[]
[]
[]
[]
[]
[]
[]
[]
[]
[]
[]
[]
[]
[]
[]
[]
[]
[]
[]
[]
[]
[]
[]
[]
[]
[]
[]
[]
[]
[]
[]
[]
[]
[]
[]
[]
[]
[]
[]
[]
[]
[]
[]
[]
[]
[]
[]
[]
[]
[]
[]
[]
[]
[]
[]
[]
[]
[]
[]
[]
[]
[]
[]
[]
[]
[]
[]
[]
[]
[]
[]
[]
[]
[]
[]
[]
[]
[]
[]
[]
[]
[]
[]
[]
[]
[]
[]
[]
[]
[]
[]
[]
[]
[]
[]
[]
[]
[]
[]
[]
[]
[]
[]
[]
[]
[]
[]
[]
[]
[]
[]
[]
[]
[]
[]
[]
[]
[]
[]
[]
[]
[]
[]
[]
[]
[]
[]
[]
[]
[]
[]
[]
[]
[]
[]
[]
[]
[]
[]
[]
[]
[]
[]
[]
[]
[]
[]
[]
[]
[]
[]
[]
[]
[]
[]
[]
[]
[]
[]
[]
[]
[]
[]
[]
[]
[]
[]
[]
[]
[]
[]
[]
[]
[]
[]
[]
[]
[]
[]
[]
[]
[]
[]
[]
[]
[]
[]
[]
[]
[]
[]
[]
[]
[]
[]
[]
[]
[]
[]
[]
[]
[]
[]
[]
[]
[]
[]
[]
[]
[]
[]
[]
[]
[]
[]
[]
[]
[]
[]
[]
[]
[]
[]
[]
[]
[]
[]
[]
[]
[]
[]
[]
[]
[]
[]
[]
[]
[]
[]
[]
[]
[]
[]
[]
[]
[]
[]
[]
[]
[]
[]
[]
[]
[]
[]
[]
[]
[]
[]
[]
[]
[]
[]
[]
[]
[]
[]
[]
[]
[]
[]
[]
[]
[]
[]
[]
[]
[]
[]
[]
[]
[]
[]
[]
[]
[]
[]
[]
[]
[]
[]
[]
[]
[]
[]
[]
[]
[]
[]
[]
[]
[]
[]
[]
[]
[]
[]
[]
[]
[]
[]
[]
[]
[]
[]
[]
[]
[]
[]
[]
[]
[]
[]
[]
[]
[]
[]
[]
[]
[]
[]
[]
[]
[]
[]
[]
[]
[]
[]
[]
[]
[]
[]
[]
[]
[]
[]
[]
[]
[]
[]
[]
[]
[]
[]
[]
[]
[]
[]
[]
[]
[]
[]
[]
[]
[]
[]
[]
[]
[]
[]
[]
[]
[]
[]
[]
[]
[]
[]
[]
[]
[]
[]
[]
[]
[]
[]
[]
[]
[]
[]
[]
[]
[]
[]
[]
[]
[]
[]
[]
[]
[]
[]
[]
[]
[]
[]
[]
[]
[]
[]
[]
[]
[]
[]
[]
[]
[]
[]
[]
[]
[]
[]
[]
[]
[]
[]
[]
[]
[]
[]
[]
[]
[]
[]
[]
[]
[]
[]
[]
[]
[]
[]
[]
[]
[]
[]
[]
[]
[]
[]
[]
[]
[]
[]
[]
[]
[]
[]
[]
[]
[]
[]
[]
[]
[]
[]
[]
[]
[]
[]
[]
[]
[]
[]
[]
[]
[]
[]
[]
[]
[]
[]
[]
[]
[]
[]
[]
[]
[]
[]
[]
[]
[]
[]
[]
[]
[]
[]
[]
[]
[]
[]
[]
[]
[]
[]
[]
[]
[]
[]
[]
[]
[]
[]
[]
[]
[]
[]
[]
[]
[]
[]
[]
[]
[]
[]
[]
[]
[]
[]
[]
[]
[]
[]
[]
[]
[]
[]
[]
[]
[]
[]
[]
[]
[]
[]
[]
[]
[]
[]
[]
[]
[]
[]
[]
[]
[]
[]
[]
[]
[]
[]
[]
[]
[]
[]
[]
[]
[]
[]
[]
[]
[]
[]
[]
[]
[]
[]
[]
[]
[]
[]
[]
[]
[]
[]
[]
[]
[]
[]
[]
[]
[]
[]
[]
[]
[]
[]
[]
[]
[]
[]
[]
[]
[]
[]
[]
[]
[]
[]
[]
[]
[]
[]
[]
[]
[]
[]
[]
[]
[]
[]
[]
[]
[]
[]
[]
[]
[]
[]
[]
[]
[]
[]
[]
[]
[]
[]
[]
[]
[]
[]
[]
[]
[]
[]
[]
[]
[]
[]
[]
[]
[]
[]
[]
[]
[]
[]
[]
[]
[]
[]
[]
[]
[]
[]
[]
[]
[]
[]
[]
[]
[]
[]
[]
[]
[]
[]
[]
[]
[]
[]
[]
[]
[]
[]
[]
[]
[]
[]
[]
[]
[]
[]
[]
[]
[]
[]
[]
[]
[]
[]
[]
[]
[]
[]
[]
[]
[]
[]
[]
[]
[]
[]
[]
[]
[]
[]
[]
[]
[]
[]
[]
[]
[]
[]
[]
[]
[]
[]
[]
[]
[]
[]
[]
[]
[]
[]
[]
[]
[]
[]
[]
[]
[]
[]
[]
[]
[]
[]
[]
[]
[]
[]
[]
[]
[]
[]
[]
[]
[]
[]
[]
[]
[]
[]
[]
[]
[]
[]
[]
[]
[]
[]
[]
[]
[]
[]
[]
[]
[]
[]
[]
[]
[]
[]
[]
[]
[]
[]
[]
[]
[]
[]
[]
[]
[]
[]
[]
[]
[]
[]
[]
[]
[]
[]
[]
[]
[]
[]
[]
[]
[]
[]
[]
[]
[]
[]
[]
[]
[]
[]
[]
[]
[]
[]
[]
[]
[]
[]
[]
[]
[]
[]
[]
[]
[]
[]
[]
[]
[]
[]
[]
[]
[]
[]
[]
[]
[]
[]
[]
[]
[]
[]
[]
[]
[]
[]
[]
[]
[]
[]
[]
[]
[]
[]
[]
[]
[]
[]
[]
[]
[]
[]
[]
[]
[]
[]
[]
[]
[]
[]
[]
[]
[]
[]
[]
[]
[]
[]
[]
[]
[]
[]
[]
[]
[]
[]
[]
[]
[]
[]
[]
[]
[]
[]
[]
[]
[]
[]
[]
[]
[]
[]
[]
[]
[]
[]
[]
[]
[]
[]
[]
[]
[]
[]
[]
[]
[]
[]
[]
[]
[]
[]
[]
[]
[]
[]
[]
[]
[]
[]
[]
[]
[]
[]
[]
[]
[]
[]
[]
[]
[]
[]
[]
[]
[]
[]
[]
[]
[]
[]
[]
[]
[]
[]
[]
[]
[]
[]
[]
[]
[]
[]
[]
[]
[]
[]
[]
[]
[]
[]
[]
[]
[]
[]
[]
[]
[]
[]
[]
[]
[]
[]
[]
[]
[]
[]
[]
[]
[]
[]
[]
[]
[]
[]
[]
[]
[]
[]
[]
[]
[]
[]
[]
[]
[]
[]
[]
[]
[]
[]
[]
[]
[]
[]
[]
[]
[]
[]
[]
[]
[]
[]
[]
[]
[]
[]
[]
[]
[]
[]
[]
[]
[]
[]
[]
[]
[]
[]
[]
[]
[]
[]
[]
[]
[]
[]
[]
[]
[]
[]
[]
[]
[]
[]
[]
[]
[]
[]
[]
[]
[]
[]
[]
[]
[]
[]
[]
[]
[]
[]
[]
[]
[]
[]
[]
[]
[]
[]
[]
[]
[]
[]
[]
[]
[]
[]
[]
[]
[]
[]
[]
[]
[]
[]
[]
[]
[]
[]
[]
[]
[]
[]
[]
[]
[]
[]
[]
[]
[]
[]
[]
[]
[]
[]
[]
[]
[]
[]
[]
[]
[]
[]
[]
[]
[]
[]
[]
[]
[]
[]
[]
[]
[]
[]
[]
[]
[]
[]
[]
[]
[]
[]
[]
[]
[]
[]
[]
[]
[]
[]
[]
[]
[]
[]
[]
[]
[]
[]
[]
[]
[]
[]
[]
[]
[]
[]
[]
[]
[]
[]
[]
[]
[]
[]
[]
[]
[]
[]
[]
[]
[]
[]
[]
[]
[]
[]
[]
[]
[]
[]
[]
[]
[]
[]
[]
[]
[]
[]
[]
[]
[]
[]
[]
[]
[]
[]
[]
[]
[]
[]
[]
[]
[]
[]
[]
[]
[]
[]
[]
[]
[]
[]
[]
[]
[]
[]
[]
[]
[]
[]
[]
[]
[]
[]
[]
[]
[]
[]
[]
[]
[]
[]
[]
[]
[]
[]
[]
[]
[]
[]
[]
[]
[]
[]
[]
[]
[]
[]
[]
[]
[]
[]
[]
[]
[]
[]
[]
[]
[]
[]
[]
[]
[]
[]
[]
[]
[]
[]
[]
[]
[]
[]
[]
[]
[]
[]
[]
[]
[]
[]
[]
[]
[]
[]
[]
[]
[]
[]
[]
[]
[]
[]
[]
[]
[]
[]
[]
[]
[]
[]
[]
[]
[]
[]
[]
[]
[]
[]
[]
[]
[]
[]
[]
[]
[]
[]
[]
[]
[]
[]
[]
[]
[]
[]
[]
[]
[]
[]
[]
[]
[]
[]
[]
[]
[]
[]
[]
[]
[]
[]
[]
[]
[]
[]
[]
[]
[]
[]
[]
[]
[]
[]
[]
[]
[]
[]
[]
[]
[]
[]
[]
[]
[]
[]
[]
[]
[]
[]
[]
[]
[]
[]
[]
[]
[]
[]
[]
[]
[]
[]
[]
[]
[]
[]
[]
[]
[]
[]
[]
[]
[]
[]
[]
[]
[]
[]
[]
[]
[]
[]
[]
[]
[]
[]
[]
[]
[]
[]
[]
[]
[]
[]
[]
[]
[]
[]
[]
[]
[]
[]
[]
[]
[]
[]
[]
[]
[]
[]
[]
[]
[]
[]
[]
[]
[]
[]
[]
[]
[]
[]
[]
[]
[]
[]
[]
[]
[]
[]
[]
[]
[]
[]
[]
[]
[]
[]
[]
[]
[]
[]
[]
[]
[]
[]
[]
[]
[]
[]
[]
[]
[]
[]
[]
[]
[]
[]
[]
[]
[]
[]
[]
[]
[]
[]
[]
[]
[]
[]
[]
[]
[]
[]
[]
[]
[]
[]
[]
[]
[]
[]
[]
[]
[]
[]
[]
[]
[]
[]
[]
[]
[]
[]
[]
[]
[]
[]
[]
[]
[]
[]
[]
[]
[]
[]
[]
[]
[]
[]
[]
[]
[]
[]
[]
[]
[]
[]
[]
[]
[]
[]
[]
[]
[]
[]
[]
[]
[]
[]
[]
[]
[]
[]
[]
[]
[]
[]
[]
[]
[]
[]
[]
[]
[]
[]
[]
[]
[]
[]
[]
[]
[]
[]
[]
[]
[]
[]
[]
[]
[]
[]
[]
[]
[]
[]
[]
[]
[]
[]
[]
[]
[]
[]
[]
[]
[]
[]
[]
[]
[]
[]
[]
[]
[]
[]
[]
[]
[]
[]
[]
[]
[]
[]
[]
[]
[]
[]
[]
[]
[]
[]
[]
[]
[]
[]
[]
[]
[]
[]
[]
[]
[]
[]
[]
[]
[]
[]
[]
[]
[]
[]
[]
[]
[]
[]
[]
[]
[]
[]
[]
[]
[]
[]
[]
[]
[]
[]
[]
[]
[]
[]
[]
[]
[]
[]
[]
[]
[]
[]
[]
[]
[]
[]
[]
[]
[]
[]
[]
[]
[]
[]
[]
[]
[]
[]
[]
[]
[]
[]
[]
[]
[]
[]
[]
[]
[]
[]
[]
[]
[]
[]
[]
[]
[]
[]
[]
[]
[]
[]
[]
[]
[]
[]
[]
[]
[]
[]
[]
[]
[]
[]
[]
[]
[]
[]
[]
[]
[]
[]
[]
[]
[]
[]
[]
[]
[]
[]
[]
[]
[]
[]
[]
[]
[]
[]
[]
[]
[]
[]
[]
[]
[]
[]
[]
[]
[]
[]
[]
[]
[]
[]
[]
[]
[]
[]
[]
[]
[]
[]
[]
[]
[]
[]
[]
[]
[]
[]
[]
[]
[]
[]
[]
[]
[]
[]
[]
[]
[]
[]
[]
[]
[]
[]
[]
[]
[]
[]
[]
[]
[]
[]
[]
[]
[]
[]
[]
[]
[]
[]
[]
[]
[]
[]
[]
[]
[]
[]
[]
[]
[]
[]
[]
[]
[]
[]
[]
[]
[]
[]
[]
[]
[]
[]
[]
[]
[]
[]
[]
[]
[]
[]
[]
[]
[]
[]
[]
[]
[]
[]
[]
[]
[]
[]
[]
[]
[]
[]
[]
[]
[]
[]
[]
[]
[]
[]
[]
[]
[]
[]
[]
[]
[]
[]
[]
[]
[]
[]
[]
[]
[]
[]
[]
[]
[]
[]
[]
[]
[]
[]
[]
[]
[]
[]
[]
[]
[]
[]
[]
[]
[]
[]
[]
[]
[]
[]
[]
[]
[]
[]
[]
[]
[]
[]
[]
[]
[]
[]
[]
[]
[]
[]
[]
[]
[]
[]
[]
[]
[]
[]
[]
[]
[]
[]
[]
[]
[]
[]
[]
[]
[]
[]
[]
[]
[]
[]
[]
[]
[]
[]
[]
[]
[]
[]
[]
[]
[]
[]
[]
[]
[]
[]
[]
[]
[]
[]
[]
[]
[]
[]
[]
[]
[]
[]
[]
[]
[]
[]
[]
[]
[]
[]
[]
[]
[]
[]
[]
[]
[]
[]
[]
[]
[]
[]
[]
[]
[]
[]
[]
[]
[]
[]
[]
[]
[]
[]
[]
[]
[]
[]
[]
[]
[]
[]
[]
[]
[]
[]
[]
[]
[]
[]
[]
[]
[]
[]
[]
[]
[]
[]
[]
[]
[]
[]
[]
[]
[]
[]
[]
[]
[]
[]
[]
[]
[]
[]
[]
[]
[]
[]
[]
[]
[]
[]
[]
[]
[]
[]
[]
[]
[]
[]
[]
[]
[]
[]
[]
[]
[]
[]
[]
[]
[]
[]
[]
[]
[]
[]
[]
[]
[]
[]
[]
[]
[]
[]
[]
[]
[]
[]
[]
[]
[]
[]
[]
[]
[]
[]
[]
[]
[]
[]
[]
[]
[]
[]
[]
[]
[]
[]
[]
[]
[]
[]
[]
[]
[]
[]
[]
[]
[]
[]
[]
[]
[]
[]
[]
[]
[]
[]
[]
[]
[]
[]
[]
[]
[]
[]
[]
[]
[]
[]
[]
[]
[]
[]
[]
[]
[]
[]
[]
[]
[]
[]
[]
[]
[]
[]
[]
[]
[]
[]
[]
[]
[]
[]
[]
[]
[]
[]
[]
[]
[]
[]
[]
[]
[]
[]
[]
[]
[]
[]
[]
[]
[]
[]
[]
[]
[]
[]
[]
[]
[]
[]
[]
[]
[]
[]
[]
[]
[]
[]
[]
[]
[]
[]
[]
[]
[]
[]
[]
[]
[]
[]
[]
[]
[]
[]
[]
[]
[]
[]
[]
[]
[]
[]
[]
[]
[]
[]
[]
[]
[]
[]
[]
[]
[]
[]
[]
[]
[]
[]
[]
[]
[]
[]
[]
[]
[]
[]
[]
[]
[]
[]
[]
[]
[]
[]
[]
[]
[]
[]
[]
[]
[]
[]
[]
[]
[]
[]
[]
[]
[]
[]
[]
[]
[]
[]
[]
[]
[]
[]
[]
[]
[]
[]
[]
[]
[]
[]
[]
[]
[]
[]
[]
[]
[]
[]
[]
[]
[]
[]
[]
[]
[]
[]
[]
[]
[]
[]
[]
[]
[]
[]
[]
[]
[]
[]
[]
[]
[]
[]
[]
[]
[]
[]
[]
[]
[]
[]
[]
[]
[]
[]
[]
[]
[]
[]
[]
[]
[]
[]
[]
[]
[]
[]
[]
[]
[]
[]
[]
[]
[]
[]
[]
[]
[]
[]
[]
[]
[]
[]
[]
[]
[]
[]
[]
[]
[]
[]
[]
[]
[]
[]
[]
[]
[]
[]
[]
[]
[]
[]
[]
[]
[]
[]
[]
[]
[]
[]
[]
[]
[]
[]
[]
[]
[]
[]
[]
[]
[]
[]
[]
[]
[]
[]
[]
[]
[]
[]
[]
[]
[]
[]
[]
[]
[]
[]
[]
[]
[]
[]
[]
[]
[]
[]
[]
[]
[]
[]
[]
[]
[]
[]
[]
[]
[]
[]
[]
[]
[]
[]
[]
[]
[]
[]
[]
[]
[]
[]
[]
[]
[]
[]
[]
[]
[]
[]
[]
[]
[]
[]
[]
[]
[]
[]
[]
[]
[]
[]
[]
[]
[]
[]
[]
[]
[]
[]
[]
[]
[]
[]
[]
[]
[]
[]
[]
[]
[]
[]
[]
[]
[]
[]
[]
[]
[]
[]
[]
[]
[]
[]
[]
[]
[]
[]
[]
[]
[]
[]
[]
[]
[]
[]
[]
[]
[]
[]
[]
[]
[]
[]
[]
[]
[]
[]
[]
[]
[]
[]
[]
[]
[]
[]
[]
[]
[]
[]
[]
[]
[]
[]
[]
[]
[]
[]
[]
[]
[]
[]
[]
[]
[]
[]
[]
[]
[]
[]
[]
[]
[]
[]
[]
[]
[]
[]
[]
[]
[]
[]
[]
[]
[]
[]
[]
[]
[]
[]
[]
[]
[]
[]
[]
[]
[]
[]
[]
[]
[]
[]
[]
[]
[]
[]
[]
[]
[]
[]
[]
[]
[]
[]
[]
[]
[]
[]
[]
[]
[]
[]
[]
[]
[]
[]
[]
[]
[]
[]
[]
[]
[]
[]
[]
[]
[]
[]
[]
[]
[]
[]
[]
[]
[]
[]
[]
[]
[]
[]
[]
[]
[]
[]
[]
[]
[]
[]
[]
[]
[]
[]
[]
[]
[]
[]
[]
[]
[]
[]
[]
[]
[]
[]
[]
[]
[]
[]
[]
[]
[]
[]
[]
[]
[]
[]
[]
[]
[]
[]
[]
[]
[]
[]
[]
[]
[]
[]
[]
[]
[]
[]
[]
[]
[]
[]
[]
[]
[]
[]
[]
[]
[]
[]
[]
[]
[]
[]
[]
[]
[]
[]
[]
[]
[]
[]
[]
[]
[]
[]
[]
[]
[]
[]
[]
[]
[]
[]
[]
[]
[]
[]
[]
[]
[]
[]
[]
[]
[]
[]
[]
[]
[]
[]
[]
[]
[]
[]
[]
[]
[]
[]
[]
[]
[]
[]
[]
[]
[]
[]
[]
[]
[]
[]
[]
[]
[]
[]
[]
[]
[]
[]
[]
[]
[]
[]
[]
[]
[]
[]
[]
[]
[]
[]
[]
[]
[]
[]
[]
[]
[]
[]
[]
[]
[]
[]
[]
[]
[]
[]
[]
[]
[]
[]
[]
[]
[]
[]
[]
[]
[]
[]
[]
[]
[]
[]
[]
[]
[]
[]
[]
[]
[]
[]
[]
[]
[]
[]
[]
[]
[]
[]
[]
[]
[]
[]
[]
[]
[]
[]
[]
[]
[]
[]
[]
[]
[]
[]
[]
[]
[]
[]
[]
[]
[]
[]
[]
[]
[]
[]
[]
[]
[]
[]
[]
[]
[]
[]
[]
[]
[]
[]
[]
[]
[]
[]
[]
[]
[]
[]
[]
[]
[]
[]
[]
[]
[]
[]
[]
[]
[]
[]
[]
[]
[]
[]
[]
[]
[]
[]
[]
[]
[]
[]
[]
[]
[]
[]
[]
[]
[]
[]
[]
[]
[]
[]
[]
[]
[]
[]
[]
[]
[]
[]
[]
[]
[]
[]
[]
[]
[]
[]
[]
[]
[]
[]
[]
[]
[]
[]
[]
[]
[]
[]
[]
[]
[]
[]
[]
[]
[]
[]
[]
[]
[]
[]
[]
[]
[]
[]
[]
[]
[]
[]
[]
[]
[]
[]
[]
[]
[]
[]
[]
[]
[]
[]
[]
[]
[]
[]
[]
[]
[]
[]
[]
[]
[]
[]
[]
[]
[]
[]
[]
[]
[]
[]
[]
[]
[]
[]
[]
[]
[]
[]
[]
[]
[]
[]
[]
[]
[]
[]
[]
[]
[]
[]
[]
[]
[]
[]
[]
[]
[]
[]
[]
[]
[]
[]
[]
[]
[]
[]
[]
[]
[]
[]
[]
[]
[]
[]
[]
[]
[]
[]
[]
[]
[]
[]
[]
[]
[]
[]
[]
[]
[]
[]
[]
[]
[]
[]
[]
[]
[]
[]
[]
[]
[]
[]
[]
[]
[]
[]
[]
[]
[]
[]
[]
[]
[]
[]
[]
[]
[]
[]
[]
[]
[]
[]
[]
[]
[]
[]
[]
[]
[]
[]
[]
[]
[]
[]
[]
[]
[]
[]
[]
[]
[]
[]
[]
[]
[]
[]
[]
[]
[]
[]
[]
[]
[]
[]
[]
[]
[]
[]
[]
[]
[]
[]
[]
[]
[]
[]
[]
[]
[]
[]
[]
[]
[]
[]
[]
[]
[]
[]
[]
[]
[]
[]
[]
[]
[]
[]
[]
[]
[]
[]
[]
[]
[]
[]
[]
[]
[]
[]
[]
[]
[]
[]
[]
[]
[]
[]
[]
[]
[]
[]
[]
[]
[]
[]
[]
[]
[]
[]
[]
[]
[]
[]
[]
[]
[]
[]
[]
[]
[]
[]
[]
[]
[]
[]
[]
[]
[]
[]
[]
[]
[]
[]
[]
[]
[]
[]
[]
[]
[]
[]
[]
[]
[]
[]
[]
[]
[]
[]
[]
[]
[]
[]
[]
[]
[]
[]
[]
[]
[]
[]
[]
[]
[]
[]
[]
[]
[]
[]
[]
[]
[]
[]
[]
[]
[]
[]
[]
[]
[]
[]
[]
[]
[]
[]
[]
[]
[]
[]
[]
[]
[]
[]
[]
[]
[]
[]
[]
[]
[]
[]
[]
[]
[]
[]
[]
[]
[]
[]
[]
[]
[]
[]
[]
[]
[]
[]
[]
[]
[]
[]
[]
[]
[]
[]
[]
[]
[]
[]
[]
[]
[]
[]
[]
[]
[]
[]
[]
[]
[]
[]
[]
[]
[]
[]
[]
[]
[]
[]
[]
[]
[]
[]
[]
[]
[]
[]
[]
[]
[]
[]
[]
[]
[]
[]
[]
[]
[]
[]
[]
[]
[]
[]
[]
[]
[]
[]
[]
[]
[]
[]
[]
[]
[]
[]
[]
[]
[]
[]
[]
[]
[]
[]
[]
[]
[]
[]
[]
[]
[]
[]
[]
[]
[]
[]
[]
[]
[]
[]
[]
[]
[]
[]
[]
[]
[]
[]
[]
[]
[]
[]
[]
[]
[]
[]
[]
[]
[]
[]
[]
[]
[]
[]
[]
[]
[]
[]
[]
[]
[]
[]
[]
[]
[]
[]
[]
[]
[]
[]
[]
[]
[]
[]
[]
[]
[]
[]
[]
[]
[]
[]
[]
[]
[]
[]
[]
[]
[]
[]
[]
[]
[]
[]
[]
[]
[]
[]
[]
[]
[]
[]
[]
[]
[]
[]
[]
[]
[]
[]
[]
[]
[]
[]
[]
[]
[]
[]
[]
[]
[]
[]
[]
[]
[]
[]
[]
[]
[]
[]
[]
[]
[]
[]
[]
[]
[]
[]
[]
[]
[]
[]
[]
[]
[]
[]
[]
[]
[]
[]
[]
[]
[]
[]
[]
[]
[]
[]
[]
[]
[]
[]
[]
[]
[]
[]
[]
[]
[]
[]
[]
[]
[]
[]
[]
[]
[]
[]
[]
[]
[]
[]
[]
[]
[]
[]
[]
[]
[]
[]
[]
[]
[]
[]
[]
[]
[]
[]
[]
[]
[]
[]
[]
[]
[]
[]
[]
[]
[]
[]
[]
[]
[]
[]
[]
[]
[]
[]
[]
[]
[]
[]
[]
[]
[]
[]
[]
[]
[]
[]
[]
[]
[]
[]
[]
[]
[]
[]
[]
[]
[]
[]
[]
[]
[]
[]
[]
[]
[]
[]
[]
[]
[]
[]
[]
[]
[]
[]
[]
[]
[]
[]
[]
[]
[]
[]
[]
[]
[]
[]
[]
[]
[]
[]
[]
[]
[]
[]
[]
[]
[]
[]
[]
[]
[]
[]
[]
[]
[]
[]
[]
[]
[]
[]
[]
[]
[]
[]
[]
[]
[]
[]
[]
[]
[]
[]
[]
[]
[]
[]
[]
[]
[]
[]
[]
[]
[]
[]
[]
[]
[]
[]
[]
[]
[]
[]
[]
[]
[]
[]
[]
[]
[]
[]
[]
[]
[]
[]
[]
[]
[]
[]
[]
[]
[]
[]
[]
[]
[]
[]
[]
[]
[]
[]
[]
[]
[]
[]
[]
[]
[]
[]
[]
[]
[]
[]
[]
[]
[]
[]
[]
[]
[]
[]
[]
[]
[]
[]
[]
[]
[]
[]
[]
[]
[]
[]
[]
[]
[]
[]
[]
[]
[]
[]
[]
[]
[]
[]
[]
[]
[]
[]
[]
[]
[]
[]
[]
[]
[]
[]
[]
[]
[]
[]
[]
[]
[]
[]
[]
[]
[]
[]
[]
[]
[]
[]
[]
[]
[]
[]
[]
[]
[]
[]
[]
[]
[]
[]
[]
[]
[]
[]
[]
[]
[]
[]
[]
[]
[]
[]
[]
[]
[]
[]
[]
[]
[]
[]
[]
[]
[]
[]
[]
[]
[]
[]
[]
[]
[]
[]
[]
[]
[]
[]
[]
[]
[]
[]
[]
[]
[]
[]
[]
[]
[]
[]
[]
[]
[]
[]
[]
[]
[]
[]
[]
[]
[]
[]
[]
[]
[]
[]
[]
[]
[]
[]
[]
[]
[]
[]
[]
[]
[]
[]
[]
[]
[]
[]
[]
[]
[]
[]
[]
[]
[]
[]
[]
[]
[]
[]
[]
[]
[]
[]
[]
[]
[]
[]
[]
[]
[]
[]
[]
[]
[]
[]
[]
[]
[]
[]
[]
[]
[]
[]
[]
[]
[]
[]
[]
[]
[]
[]
[]
[]
[]
[]
[]
[]
[]
[]
[]
[]
[]
[]
[]
[]
[]
[]
[]
[]
[]
[]
[]
[]
[]
[]
[]
[]
[]
[]
[]
[]
[]
[]
[]
[]
[]
[]
[]
[]
[]
[]
[]
[]
[]
[]
[]
[]
[]
[]
[]
[]
[]
[]
[]
[]
[]
[]
[]
[]
[]
[]
[]
[]
[]
[]
[]
[]
[]
[]
[]
[]
[]
[]
[]
[]
[]
[]
[]
[]
[]
[]
[]
[]
[]
[]
[]
[]
[]
[]
[]
[]
[]
[]
[]
[]
[]
[]
[]
[]
[]
[]
[]
[]
[]
[]
[]
[]
[]
[]
[]
[]
[]
[]
[]
[]
[]
[]
[]
[]
[]
[]
[]
[]
[]
[]
[]
[]
[]
[]
[]
[]
[]
[]
[]
[]
[]
[]
[]
[]
[]
[]
[]
[]
[]
[]
[]
[]
[]
[]
[]
[]
[]
[]
[]
[]
[]
[]
[]
[]
[]
[]
[]
[]
[]
[]
[]
[]
[]
[]
[]
[]
[]
[]
[]
[]
[]
[]
[]
[]
[]
[]
[]
[]
[]
[]
[]
[]
[]
[]
[]
[]
[]
[]
[]
[]
[]
[]
[]
[]
[]
[]
[]
[]
[]
[]
[]
[]
[]
[]
[]
[]
[]
[]
[]
[]
[]
[]
[]
[]
[]
[]
[]
[]
[]
[]
[]
[]
[]
[]
[]
[]
[]
[]
[]
[]
[]
[]
[]
[]
[]
[]
[]
[]
[]
[]
[]
[]
[]
[]
[]
[]
[]
[]
[]
[]
[]
[]
[]
[]
[]
[]
[]
[]
[]
[]
[]
[]
[]
[]
[]
[]
[]
[]
[]
[]
[]
[]
[]
[]
[]
[]
[]
[]
[]
[]
[]
[]
[]
[]
[]
[]
[]
[]
[]
[]
[]
[]
[]
[]
[]
[]
[]
[]
[]
[]
[]
[]
[]
[]
[]
[]
[]
[]
[]
[]
[]
[]
[]
[]
[]
[]
[]
[]
[]
[]
[]
[]
[]
[]
[]
[]
[]
[]
[]
[]
[]
[]
[]
[]
[]
[]
[]
[]
[]
[]
[]
[]
[]
[]
[]
[]
[]
[]
[]
[]
[]
[]
[]
[]
[]
[]
[]
[]
[]
[]
[]
[]
[]
[]
[]
[]
[]
[]
[]
[]
[]
[]
[]
[]
[]
[]
[]
[]
[]
[]
[]
[]
[]
[]
[]
[]
[]
[]
[]
[]
[]
[]
[]
[]
[]
[]
[]
[]
[]
[]
[]
[]
[]
[]
[]
[]
[]
[]
[]
[]
[]
[]
[]
[]
[]
[]
[]
[]
[]
[]
[]
[]
[]
[]
[]
[]
[]
[]
[]
[]
[]
[]
[]
[]
[]
[]
[]
[]
[]
[]
[]
[]
[]
[]
[]
[]
[]
[]
[]
[]
[]
[]
[]
[]
[]
[]
[]
[]
[]
[]
[]
[]
[]
[]
[]
[]
[]
[]
[]
[]
[]
[]
[]
[]
[]
[]
[]
[]
[]
[]
[]
[]
[]
[]
[]
[]
[]
[]
[]
[]
[]
[]
[]
[]
[]
[]
[]
[]
[]
[]
[]
[]
[]
[]
[]
[]
[]
[]
[]
[]
[]
[]
[]
[]
[]
[]
[]
[]
[]
[]
[]
[]
[]
[]
[]
[]
[]
[]
[]
[]
[]
[]
[]
[]
[]
[]
[]
[]
[]
[]
[]
[]
[]
[]
[]
[]
[]
[]
[]
[]
[]
[]
[]
[]
[]
[]
[]
[]
[]
[]
[]
[]
[]
[]
[]
[]
[]
[]
[]
[]
[]
[]
[]
[]
[]
[]
[]
[]
[]
[]
[]
[]
[]
[]
[]
[]
[]
[]
[]
[]
[]
[]
[]
[]
[]
[]
[]
[]
[]
[]
[]
[]
[]
[]
[]
[]
[]
[]
[]
[]
[]
[]
[]
[]
[]
[]
[]
[]
[]
[]
[]
[]
[]
[]
[]
[]
[]
[]
[]
[]
[]
[]
[]
[]
[]
[]
[]
[]
[]
[]
[]
[]
[]
[]
[]
[]
[]
[]
[]
[]
[]
[]
[]
[]
[]
[]
[]
[]
[]
[]
[]
[]
[]
[]
[]
[]
[]
[]
[]
[]
[]
[]
[]
[]
[]
[]
[]
[]
[]
[]
[]
[]
[]
[]
[]
[]
[]
[]
[]
[]
[]
[]
[]
[]
[]
[]
[]
[]
[]
[]
[]
[]
[]
[]
[]
[]
[]
[]
[]
[]
[]
[]
[]
[]
[]
[]
[]
[]
[]
[]
[]
[]
[]
[]
[]
[]
[]
[]
[]
[]
[]
[]
[]
[]
[]
[]
[]
[]
[]
[]
[]
[]
[]
[]
[]
[]
[]
[]
[]
[]
[]
[]
[]
[]
[]
[]
[]
[]
[]
[]
[]
[]
[]
[]
[]
[]
[]
[]
[]
[]
[]
[]
[]
[]
[]
[]
[]
[]
[]
[]
[]
[]
[]
[]
[]
[]
[]
[]
[]
[]
[]
[]
[]
[]
[]
[]
[]
[]
[]
[]
[]
[]
[]
[]
[]
[]
[]
[]
[]
[]
[]
[]
[]
[]
[]
[]
[]
[]
[]
[]
[]
[]
[]
[]
[]
[]
[]
[]
[]
[]
[]
[]
[]
[]
[]
[]
[]
[]
[]
[]
[]
[]
[]
[]
[]
[]
[]
[]
[]
[]
[]
[]
[]
[]
[]
[]
[]
[]
[]
[]
[]
[]
[]
[]
[]
[]
[]
[]
[]
[]
[]
[]
[]
[]
[]
[]
[]
[]
[]
[]
[]
[]
[]
[]
[]
[]
[]
[]
[]
[]
[]
[]
[]
[]
[]
[]
[]
[]
[]
[]
[]
[]
[]
[]
[]
[]
[]
[]
[]
[]
[]
[]
[]
[]
[]
[]
[]
[]
[]
[]
[]
[]
[]
[]
[]
[]
[]
[]
[]
[]
[]
[]
[]
[]
[]
[]
[]
[]
[]
[]
[]
[]
[]
[]
[]
[]
[]
[]
[]
[]
[]
[]
[]
[]
[]
[]
[]
[]
[]
[]
[]
[]
[]
[]
[]
[]
[]
[]
[]
[]
[]
[]
[]
[]
[]
[]
[]
[]
[]
[]
[]
[]
[]
[]
[]
[]
[]
[]
[]
[]
[]
[]
[]
[]
[]
[]
[]
[]
[]
[]
[]
[]
[]
[]
[]
[]
[]
[]
[]
[]
[]
[]
[]
[]
[]
[]
[]
[]
[]
[]
[]
[]
[]
[]
[]
[]
[]
[]
[]
[]
[]
[]
[]
[]
[]
[]
[]
[]
[]
[]
[]
[]
[]
[]
[]
[]
[]
[]
[]
[]
[]
[]
[]
[]
[]
[]
[]
[]
[]
[]
[]
[]
[]
[]
[]
[]
[]
[]
[]
[]
[]
[]
[]
[]
[]
[]
[]
[]
[]
[]
[]
[]
[]
[]
[]
[]
[]
[]
[]
[]
[]
[]
[]
[]
[]
[]
[]
[]
[]
[]
[]
[]
[]
[]
[]
[]
[]
[]
[]
[]
[]
[]
[]
[]
[]
[]
[]
[]
[]
[]
[]
[]
[]
[]
[]
[]
[]
[]
[]
[]
[]
[]
[]
[]
[]
[]
[]
[]
[]
[]
[]
[]
[]
[]
[]
[]
[]
[]
[]
[]
[]
[]
[]
[]
[]
[]
[]
[]
[]
[]
[]
[]
[]
[]
[]
[]
[]
[]
[]
[]
[]
[]
[]
[]
[]
[]
[]
[]
[]
[]
[]
[]
[]
[]
[]
[]
[]
[]
[]
[]
[]
[]
[]
[]
[]
[]
[]
[]
[]
[]
[]
[]
[]
[]
[]
[]
[]
[]
[]
[]
[]
[]
[]
[]
[]
[]
[]
[]
[]
[]
[]
[]
[]
[]
[]
[]
[]
[]
[]
[]
[]
[]
[]
[]
[]
[]
[]
[]
[]
[]
[]
[]
[]
[]
[]
[]
[]
[]
[]
[]
[]
[]
[]
[]
[]
[]
[]
[]
[]
[]
[]
[]
[]
[]
[]
[]
[]
[]
[]
[]
[]
[]
[]
[]
[]
[]
[]
[]
[]
[]
[]
[]
[]
[]
[]
[]
[]
[]
[]
[]
[]
[]
[]
[]
[]
[]
[]
[]
[]
[]
[]
[]
[]
[]
[]
[]
[]
[]
[]
[]
[]
[]
[]
[]
[]
[]
[]
[]
[]
[]
[]
[]
[]
[]
[]
[]
[]
[]
[]
[]
[]
[]
[]
[]
[]
[]
[]
[]
[]
[]
[]
[]
[]
[]
[]
[]
[]
[]
[]
[]
[]
[]
[]
[]
[]
[]
[]
[]
[]
[]
[]
[]
[]
[]
[]
[]
[]
[]
[]
[]
[]
[]
[]
[]
[]
[]
[]
[]
[]
[]
[]
[]
[]
[]
[]
[]
[]
[]
[]
[]
[]
[]
[]
[]
[]
[]
[]
[]
[]
[]
[]
[]
[]
[]
[]
[]
[]
[]
[]
[]
[]
[]
[]
[]
[]
[]
[]
[]
[]
[]
[]
[]
[]
[]
[]
[]
[]
[]
[]
[]
[]
[]
[]
[]
[]
[]
[]
[]
[]
[]
[]
[]
[]
[]
[]
[]
[]
[]
[]
[]
[]
[]
[]
[]
[]
[]
[]
[]
[]
[]
[]
[]
[]
[]
[]
[]
[]
[]
[]
[]
[]
[]
[]
[]
[]
[]
[]
[]
[]
[]
[]
[]
[]
[]
[]
[]
[]
[]
[]
[]
[]
[]
[]
[]
[]
[]
[]
[]
[]
[]
[]
[]
[]
[]
[]
[]
[]
[]
[]
[]
[]
[]
[]
[]
[]
[]
[]
[]
[]
[]
[]
[]
[]
[]
[]
[]
[]
[]
[]
[]
[]
[]
[]
[]
[]
[]
[]
[]
[]
[]
[]
[]
[]
[]
[]
[]
[]
[]
[]
[]
[]
[]
[]
[]
[]
[]
[]
[]
[]
[]
[]
[]
[]
[]
[]
[]
[]
[]
[]
[]
[]
[]
[]
[]
[]
[]
[]
[]
[]
[]
[]
[]
[]
[]
[]
[]
[]
[]
[]
[]
[]
[]
[]
[]
[]
[]
[]
[]
[]
[]
[]
[]
[]
[]
[]
[]
[]
[]
[]
[]
[]
[]
[]
[]
[]
[]
[]
[]
[]
[]
[]
[]
[]
[]
[]
[]
[]
[]
[]
[]
[]
[]
[]
[]
[]
[]
[]
[]
[]
[]
[]
[]
[]
[]
[]
[]
[]
[]
[]
[]
[]
[]
[]
[]
[]
[]
[]
[]
[]
[]
[]
[]
[]
[]
[]
[]
[]
[]
[]
[]
[]
[]
[]
[]
[]
[]
[]
[]
[]
[]
[]
[]
[]
[]
[]
[]
[]
[]
[]
[]
[]
[]
[]
[]
[]
[]
[]
[]
[]
[]
[]
[]
[]
[]
[]
[]
[]
[]
[]
[]
[]
[]
[]
[]
[]
[]
[]
[]
[]
[]
[]
[]
[]
[]
[]
[]
[]
[]
[]
[]
[]
[]
[]
[]
[]
[]
[]
[]
[]
[]
[]
[]
[]
[]
[]
[]
[]
[]
[]
[]
[]
[]
[]
[]
[]
[]
[]
[]
[]
[]
[]
[]
[]
[]
[]
[]
[]
[]
[]
[]
[]
[]
[]
[]
[]
[]
[]
[]
[]
[]
[]
[]
[]
[]
[]
[]
[]
[]
[]
[]
[]
[]
[]
[]
[]
[]
[]
[]
[]
[]
[]
[]
[]
[]
[]
[]
[]
[]
[]
[]
[]
[]
[]
[]
[]
[]
[]
[]
[]
[]
[]
[]
[]
[]
[]
[]
[]
[]
[]
[]
[]
[]
[]
[]
[]
[]
[]
[]
[]
[]
[]
[]
[]
[]
[]
[]
[]
[]
[]
[]
[]
[]
[]
[]
[]
[]
[]
[]
[]
[]
[]
[]
[]
[]
[]
[]
[]
[]
[]
[]
[]
[]
[]
[]
[]
[]
[]
[]
[]
[]
[]
[]
[]
[]
[]
[]
[]
[]
[]
[]
[]
[]
[]
[]
[]
[]
[]
[]
[]
[]
[]
[]
[]
[]
[]
[]
[]
[]
[]
[]
[]
[]
[]
[]
[]
[]
[]
[]
[]
[]
[]
[]
[]
[]
[]
[]
[]
[]
[]
[]
[]
[]
[]
[]
[]
[]
[]
[]
[]
[]
[]
[]
[]
[]
[]
[]
[]
[]
[]
[]
[]
[]
[]
[]
[]
[]
[]
[]
[]
[]
[]
[]
[]
[]
[]
[]
[]
[]
[]
[]
[]
[]
[]
[]
[]
[]
[]
[]
[]
[]
[]
[]
[]
[]
[]
[]
[]
[]
[]
[]
[]
[]
[]
[]
[]
[]
[]
[]
[]
[]
[]
[]
[]
[]
[]
[]
[]
[]
[]
[]
[]
[]
[]
[]
[]
[]
[]
[]
[]
[]
[]
[]
[]
[]
[]
[]
[]
[]
[]
[]
[]
[]
[]
[]
[]
[]
[]
[]
[]
[]
[]
[]
[]
[]
[]
[]
[]
[]
[]
[]
[]
[]
[]
[]
[]
[]
[]
[]
[]
[]
[]
[]
[]
[]
[]
[]
[]
[]
[]
[]
[]
[]
[]
[]
[]
[]
[]
[]
[]
[]
[]
[]
[]
[]
[]
[]
[]
[]
[]
[]
[]
[]
[]
[]
[]
[]
[]
[]
[]
[]
[]
[]
[]
[]
[]
[]
[]
[]
[]
[]
[]
[]
[]
[]
[]
[]
[]
[]
[]
[]
[]
[]
[]
[]
[]
[]
[]
[]
[]
[]
[]
[]
[]
[]
[]
[]
[]
[]
[]
[]
[]
[]
[]
[]
[]
[]
[]
[]
[]
[]
[]
[]
[]
[]
[]
[]
[]
[]
[]
[]
[]
[]
[]
[]
[]
[]
[]
[]
[]
[]
[]
[]
[]
[]
[]
[]
[]
[]
[]
[]
[]
[]
[]
[]
[]
[]
[]
[]
[]
[]
[]
[]
[]
[]
[]
[]
[]
[]
[]
[]
[]
[]
[]
[]
[]
[]
[]
[]
[]
[]
[]
[]
[]
[]
[]
[]
[]
[]
[]
[]
[]
[]
[]
[]
[]
[]
[]
[]
[]
[]
[]
[]
[]
[]
[]
[]
[]
[]
[]
[]
[]
[]
[]
[]
[]
[]
[]
[]
[]
[]
[]
[]
[]
[]
[]
[]
[]
[]
[]
[]
[]
[]
[]
[]
[]
[]
[]
[]
[]
[]
[]
[]
[]
[]
[]
[]
[]
[]
[]
[]
[]
[]
[]
[]
[]
[]
[]
[]
[]
[]
[]
[]
[]
[]
[]
[]
[]
[]
[]
[]
[]
[]
[]
[]
[]
[]
[]
[]
[]
[]
[]
[]
[]
[]
[]
[]
[]
[]
[]
[]
[]
[]
[]
[]
[]
[]
[]
[]
[]
[]
[]
[]
[]
[]
[]
[]
[]
[]
[]
[]
[]
[]
[]
[]
[]
[]
[]
[]
[]
[]
[]
[]
[]
[]
[]
[]
[]
[]
[]
[]
[]
[]
[]
[]
[]
[]
[]
[]
[]
[]
[]
[]
[]
[]
[]
[]
[]
[]
[]
[]
[]
[]
[]
[]
[]
[]
[]
[]
[]
[]
[]
[]
[]
[]
[]
[]
[]
[]
[]
[]
[]
[]
[]
[]
[]
[]
[]
[]
[]
[]
[]
[]
[]
[]
[]
[]
[]
[]
[]
[]
[]
[]
[]
[]
[]
[]
[]
[]
[]
[]
[]
[]
[]
[]
[]
[]
[]
[]
[]
[]
[]
[]
[]
[]
[]
[]
[]
[]
[]
[]
[]
[]
[]
[]
[]
[]
[]
[]
[]
[]
[]
[]
[]
[]
[]
[]
[]
[]
[]
[]
[]
[]
[]
[]
[]
[]
[]
[]
[]
[]
[]
[]
[]
[]
[]
[]
[]
[]
[]
[]
[]
[]
[]
[]
[]
[]
[]
[]
[]
[]
[]
[]
[]
[]
[]
[]
[]
[]
[]
[]
[]
[]
[]
[]
[]
[]
[]
[]
[]
[]
[]
[]
[]
[]
[]
[]
[]
[]
[]
[]
[]
[]
[]
[]
[]
[]
[]
[]
[]
[]
[]
[]
[]
[]
[]
[]
[]
[]
[]
[]
[]
[]
[]
[]
[]
[]
[]
[]
[]
[]
[]
[]
[]
[]
[]
[]
[]
[]
[]
[]
[]
[]
[]
[]
[]
[]
[]
[]
[]
[]
[]
[]
[]
[]
[]
[]
[]
[]
[]
[]
[]
[]
[]
[]
[]
[]
[]
[]
[]
[]
[]
[]
[]
[]
[]
[]
[]
[]
[]
[]
[]
[]
[]
[]
[]
[]
[]
[]
[]
[]
[]
[]
[]
[]
[]
[]
[]
[]
[]
[]
[]
[]
[]
[]
[]
[]
[]
[]
[]
[]
[]
[]
[]
[]
[]
[]
[]
[]
[]
[]
[]
[]
[]
[]
[]
[]
[]
[]
[]
[]
[]
[]
[]
[]
[]
[]
[]
[]
[]
[]
[]
[]
[]
[]
[]
[]
[]
[]
[]
[]
[]
[]
[]
[]
[]
[]
[]
[]
[]
[]
[]
[]
[]
[]
[]
[]
[]
[]
[]
[]
[]
[]
[]
[]
[]
[]
[]
[]
[]
[]
[]
[]
[]
[]
[]
[]
[]
[]
[]
[]
[]
[]
[]
[]
[]
[]
[]
[]
[]
[]
[]
[]
[]
[]
[]
[]
[]
[]
[]
[]
[]
[]
[]
[]
[]
[]
[]
[]
[]
[]
[]
[]
[]
[]
[]
[]
[]
[]
[]
[]
[]
[]
[]
[]
[]
[]
[]
[]
[]
[]
[]
[]
[]
[]
[]
[]
[]
[]
[]
[]
[]
[]
[]
[]
[]
[]
[]
[]
[]
[]
[]
[]
[]
[]
[]
[]
[]
[]
[]
[]
[]
[]
[]
[]
[]
[]
[]
[]
[]
[]
[]
[]
[]
[]
[]
[]
[]
[]
[]
[]
[]
[]
[]
[]
[]
[]
[]
[]
[]
[]
[]
[]
[]
[]
[]
[]
[]
[]
[]
[]
[]
[]
[]
[]
[]
[]
[]
[]
[]
[]
[]
[]
[]
[]
[]
[]
[]
[]
[]
[]
[]
[]
[]
[]
[]
[]
[]
[]
[]
[]
[]
[]
[]
[]
[]
[]
[]
[]
[]
[]
[]
[]
[]
[]
[]
[]
[]
[]
[]
[]
[]
[]
[]
[]
[]
[]
[]
[]
[]
[]
[]
[]
[]
[]
[]
[]
[]
[]
[]
[]
[]
[]
[]
[]
[]
[]
[]
[]
[]
[]
[]
[]
[]
[]
[]
[]
[]
[]
[]
[]
[]
[]
[]
[]
[]
[]
[]
[]
[]
[]
[]
[]
[]
[]
[]
[]
[]
[]
[]
[]
[]
[]
[]
[]
[]
[]
[]
[]
[]
[]
[]
[]
[]
[]
[]
[]
[]
[]
[]
[]
[]
[]
[]
[]
[]
[]
[]
[]
[]
[]
[]
[]
[]
[]
[]
[]
[]
[]
[]
[]
[]
[]
[]
[]
[]
[]
[]
[]
[]
[]
[]
[]
[]
[]
[]
[]
[]
[]
[]
[]
[]
[]
[]
[]
[]
[]
[]
[]
[]
[]
[]
[]
[]
[]
[]
[]
[]
[]
[]
[]
[]
[]
[]
[]
[]
[]
[]
[]
[]
[]
[]
[]
[]
[]
[]
[]
[]
[]
[]
[]
[]
[]
[]
[]
[]
[]
[]
[]
[]
[]
[]
[]
[]
[]
[]
[]
[]
[]
[]
[]
[]
[]
[]
[]
[]
[]
[]
[]
[]
[]
[]
[]
[]
[]
[]
[]
[]
[]
[]
[]
[]
[]
[]
[]
[]
[]
[]
[]
[]
[]
[]
[]
[]
[]
[]
[]
[]
[]
[]
[]
[]
[]
[]
[]
[]
[]
[]
[]
[]
[]
[]
[]
[]
[]
[]
[]
[]
[]
[]
[]
[]
[]
[]
[]
[]
[]
[]
[]
[]
[]
[]
[]
[]
[]
[]
[]
[]
[]
[]
[]
[]
[]
[]
[]
[]
[]
[]
[]
[]
[]
[]
[]
[]
[]
[]
[]
[]
[]
[]
[]
[]
[]
[]
[]
[]
[]
[]
[]
[]
[]
[]
[]
[]
[]
[]
[]
[]
[]
[]
[]
[]
[]
[]
[]
[]
[]
[]
[]
[]
[]
[]
[]
[]
[]
[]
[]
[]
[]
[]
[]
[]
[]
[]
[]
[]
[]
[]
[]
[]
[]
[]
[]
[]
[]
[]
[]
[]
[]
[]
[]
[]
[]
[]
[]
[]
[]
[]
[]
[]
[]
[]
[]
[]
[]
[]
[]
[]
[]
[]
[]
[]
[]
[]
[]
[]
[]
[]
[]
[]
[]
[]
[]
[]
[]
[]
[]
[]
[]
[]
[]
[]
[]
[]
[]
[]
[]
[]
[]
[]
[]
[]
[]
[]
[]
[]
[]
[]
[]
[]
[]
[]
[]
[]
[]
[]
[]
[]
[]
[]
[]
[]
[]
[]
[]
[]
[]
[]
[]
[]
[]
[]
[]
[]
[]
[]
[]
[]
[]
[]
[]
[]
[]
[]
[]
[]
[]
[]
[]
[]
[]
[]
[]
[]
[]
[]
[]
[]
[]
[]
[]
[]
[]
[]
[]
[]
[]
[]
[]
[]
[]
[]
[]
[]
[]
[]
[]
[]
[]
[]
[]
[]
[]
[]
[]
[]
[]
[]
[]
[]
[]
[]
[]
[]
[]
[]
[]
[]
[]
[]
[]
[]
[]
[]
[]
[]
[]
[]
[]
[]
[]
[]
[]
[]
[]
[]
[]
[]
[]
[]
[]
[]
[]
[]
[]
[]
[]
[]
[]
[]
[]
[]
[]
[]
[]
[]
[]
[]
[]
[]
[]
[]
[]
[]
[]
[]
[]
[]
[]
[]
[]
[]
[]
[]
[]
[]
[]
[]
[]
[]
[]
[]
[]
[]
[]
[]
[]
[]
[]
[]
[]
[]
[]
[]
[]
[]
[]
[]
[]
[]
[]
[]
[]
[]
[]
[]
[]
[]
[]
[]
[]
[]
[]
[]
[]
[]
[]
[]
[]
[]
[]
[]
[]
[]
[]
[]
[]
[]
[]
[]
[]
[]
[]
[]
[]
[]
[]
[]
[]
[]
[]
[]
[]
[]
[]
[]
[]
[]
[]
[]
[]
[]
[]
[]
[]
[]
[]
[]
[]
[]
[]
[]
[]
[]
[]
[]
[]
[]
[]
[]
[]
[]
[]
[]
[]
[]
[]
[]
[]
[]
[]
[]
[]
[]
[]
[]
[]
[]
[]
[]
[]
[]
[]
[]
[]
[]
[]
[]
[]
[]
[]
[]
[]
[]
[]
[]
[]
[]
[]
[]
[]
[]
[]
[]
[]
[]
[]
[]
[]
[]
[]
[]
[]
[]
[]
[]
[]
[]
[]
[]
[]
[]
[]
[]
[]
[]
[]
[]
[]
[]
[]
[]
[]
[]
[]
[]
[]
[]
[]
[]
[]
[]
[]
[]
[]
[]
[]
[]
[]
[]
[]
[]
[]
[]
[]
[]
[]
[]
[]
[]
[]
[]
[]
[]
[]
[]
[]
[]
[]
[]
[]
[]
[]
[]
[]
[]
[]
[]
[]
[]
[]
[]
[]
[]
[]
[]
[]
[]
[]
[]
[]
[]
[]
[]
[]
[]
[]
[]
[]
[]
[]
[]
[]
[]
[]
[]
[]
[]
[]
[]
[]
[]
[]
[]
[]
[]
[]
[]
[]
[]
[]
[]
[]
[]
[]
[]
[]
[]
[]
[]
[]
[]
[]
[]
[]
[]
[]
[]
[]
[]
[]
[]
[]
[]
[]
[]
[]
[]
[]
[]
[]
[]
[]
[]
[]
[]
[]
[]
[]
[]
[]
[]
[]
[]
[]
[]
[]
[]
[]
[]
[]
[]
[]
[]
[]
[]
[]
[]
[]
[]
[]
[]
[]
[]
[]
[]
[]
[]
[]
[]
[]
[]
[]
[]
[]
[]
[]
[]
[]
[]
[]
[]
[]
[]
[]
[]
[]
[]
[]
[]
[]
[]
[]
[]
[]
[]
[]
[]
[]
[]
[]
[]
[]
[]
[]
[]
[]
[]
[]
[]
[]
[]
[]
[]
[]
[]
[]
[]
[]
[]
[]
[]
[]
[]
[]
[]
[]
[]
[]
[]
[]
[]
[]
[]
[]
[]
[]
[]
[]
[]
[]
[]
[]
[]
[]
[]
[]
[]
[]
[]
[]
[]
[]
[]
[]
[]
[]
[]
[]
[]
[]
[]
[]
[]
[]
[]
[]
[]
[]
[]
[]
[]
[]
[]
[]
[]
[]
[]
[]
[]
[]
[]
[]
[]
[]
[]
[]
[]
[]
[]
[]
[]
[]
[]
[]
[]
[]
[]
[]
[]
[]
[]
[]
[]
[]
[]
[]
[]
[]
[]
[]
[]
[]
[]
[]
[]
[]
[]
[]
[]
[]
[]
[]
[]
[]
[]
[]
[]
[]
[]
[]
[]
[]
[]
[]
[]
[]
[]
[]
[]
[]
[]
[]
[]
[]
[]
[]
[]
[]
[]
[]
[]
[]
[]
[]
[]
[]
[]
[]
[]
[]
[]
[]
[]
[]
[]
[]
[]
[]
[]
[]
[]
[]
[]
[]
[]
[]
[]
[]
[]
[]
[]
[]
[]
[]
[]
[]
[]
[]
[]
[]
[]
[]
[]
[]
[]
[]
[]
[]
[]
[]
[]
[]
[]
[]
[]
[]
[]
[]
[]
[]
[]
[]
[]
[]
[]
[]
[]
[]
[]
[]
[]
[]
[]
[]
[]
[]
[]
[]
[]
[]
[]
[]
[]
[]
[]
[]
[]
[]
[]
[]
[]
[]
[]
[]
[]
[]
[]
[]
[]
[]
[]
[]
[]
[]
[]
[]
[]
[]
[]
[]
[]
[]
[]
[]
[]
[]
[]
[]
[]
[]
[]
[]
[]
[]
[]
[]
[]
[]
[]
[]
[]
[]
[]
[]
[]
[]
[]
[]
[]
[]
[]
[]
[]
[]
[]
[]
[]
[]
[]
[]
[]
[]
[]
[]
[]
[]
[]
[]
[]
[]
[]
[]
[]
[]
[]
[]
[]
[]
[]
[]
[]
[]
[]
[]
[]
[]
[]
[]
[]
[]
[]
[]
[]
[]
[]
[]
[]
[]
[]
[]
[]
[]
[]
[]
[]
[]
[]
[]
[]
[]
[]
[]
[]
[]
[]
[]
[]
[]
[]
[]
[]
[]
[]
[]
[]
[]
[]
[]
[]
[]
[]
[]
[]
[]
[]
[]
[]
[]
[]
[]
[]
[]
[]
[]
[]
[]
[]
[]
[]
[]
[]
[]
[]
[]
[]
[]
[]
[]
[]
[]
[]
[]
[]
[]
[]
[]
[]
[]
[]
[]
[]
[]
[]
[]
[]
[]
[]
[]
[]
[]
[]
[]
[]
[]
[]
[]
[]
[]
[]
[]
[]
[]
[]
[]
[]
[]
[]
[]
[]
[]
[]
[]
[]
[]
[]
[]
[]
[]
[]
[]
[]
[]
[]
[]
[]
[]
[]
[]
[]
[]
[]
[]
[]
[]
[]
[]
[]
[]
[]
[]
[]
[]
[]
[]
[]
[]
[]
[]
[]
[]
[]
[]
[]
[]
[]
[]
[]
[]
[]
[]
[]
[]
[]
[]
[]
[]
[]
[]
[]
[]
[]
[]
[]
[]
[]
[]
[]
[]
[]
[]
[]
[]
[]
[]
[]
[]
[]
[]
[]
[]
[]
[]
[]
[]
[]
[]
[]
[]
[]
[]
[]
[]
[]
[]
[]
[]
[]
[]
[]
[]
[]
[]
[]
[]
[]
[]
[]
[]
[]
[]
[]
[]
[]
[]
[]
[]
[]
[]
[]
[]
[]
[]
[]
[]
[]
[]
[]
[]
[]
[]
[]
[]
[]
[]
[]
[]
[]
[]
[]
[]
[]
[]
[]
[]
[]
[]
[]
[]
[]
[]
[]
[]
[]
[]
[]
[]
[]
[]
[]
[]
[]
[]
[]
[]
[]
[]
[]
[]
[]
[]
[]
[]
[]
[]
[]
[]
[]
[]
[]
[]
[]
[]
[]
[]
[]
[]
[]
[]
[]
[]
[]
[]
[]
[]
[]
[]
[]
[]
[]
[]
[]
[]
[]
[]
[]
[]
[]
[]
[]
[]
[]
[]
[]
[]
[]
[]
[]
[]
[]
[]
[]
[]
[]
[]
[]
[]
[]
[]
[]
[]
[]
[]
[]
[]
[]
[]
[]
[]
[]
[]
[]
[]
[]
[]
[]
[]
[]
[]
[]
[]
[]
[]
[]
[]
[]
[]
[]
[]
[]
[]
[]
[]
[]
[]
[]
[]
[]
[]
[]
[]
[]
[]
[]
[]
[]
[]
[]
[]
[]
[]
[]
[]
[]
[]
[]
[]
[]
[]
[]
[]
[]
[]
[]
[]
[]
[]
[]
[]
[]
[]
[]
[]
[]
[]
[]
[]
[]
[]
[]
[]
[]
[]
[]
[]
[]
[]
[]
[]
[]
[]
[]
[]
[]
[]
[]
[]
[]
[]
[]
[]
[]
[]
[]
[]
[]
[]
[]
[]
[]
[]
[]
[]
[]
[]
[]
[]
[]
[]
[]
[]
[]
[]
[]
[]
[]
[]
[]
[]
[]
[]
[]
[]
[]
[]
[]
[]
[]
[]
[]
[]
[]
[]
[]
[]
[]
[]
[]
[]
[]
[]
[]
[]
[]
[]
[]
[]
[]
[]
[]
[]
[]
[]
[]
[]
[]
[]
[]
[]
[]
[]
[]
[]
[]
[]
[]
[]
[]
[]
[]
[]
[]
[]
[]
[]
[]
[]
[]
[]
[]
[]
[]
[]
[]
[]
[]
[]
[]
[]
[]
[]
[]
[]
[]
[]
[]
[]
[]
[]
[]
[]
[]
[]
[]
[]
[]
[]
[]
[]
[]
[]
[]
[]
[]
[]
[]
[]
[]
[]
[]
[]
[]
[]
[]
[]
[]
[]
[]
[]
[]
[]
[]
[]
[]
[]
[]
[]
[]
[]
[]
[]
[]
[]
[]
[]
[]
[]
[]
[]
[]
[]
[]
[]
[]
[]
[]
[]
[]
[]
[]
[]
[]
[]
[]
[]
[]
[]
[]
[]
[]
[]
[]
[]
[]
[]
[]
[]
[]
[]
[]
[]
[]
[]
[]
[]
[]
[]
[]
[]
[]
[]
[]
[]
[]
[]
[]
[]
[]
[]
[]
[]
[]
[]
[]
[]
[]
[]
[]
[]
[]
[]
[]
[]
[]
[]
[]
[]
[]
[]
[]
[]
[]
[]
[]
[]
[]
[]
[]
[]
[]
[]
[]
[]
[]
[]
[]
[]
[]
[]
[]
[]
[]
[]
[]
[]
[]
[]
[]
[]
[]
[]
[]
[]
[]
[]
[]
[]
[]
[]
[]
[]
[]
[]
[]
[]
[]
[]
[]
[]
[]
[]
[]
[]
[]
[]
[]
[]
[]
[]
[]
[]
[]
[]
[]
[]
[]
[]
[]
[]
[]
[]
[]
[]
[]
[]
[]
[]
[]
[]
[]
[]
[]
[]
[]
[]
[]
[]
[]
[]
[]
[]
[]
[]
[]
[]
[]
[]
[]
[]
[]
[]
[]
[]
[]
[]
[]
[]
[]
[]
[]
[]
[]
[]
[]
[]
[]
[]
[]
[]
[]
[]
[]
[]
[]
[]
[]
[]
[]
[]
[]
[]
[]
[]
[]
[]
[]
[]
[]
[]
[]
[]
[]
[]
[]
[]
[]
[]
[]
[]
[]
[]
[]
[]
[]
[]
[]
[]
[]
[]
[]
[]
[]
[]
[]
[]
[]
[]
[]
[]
[]
[]
[]
[]
[]
[]
[]
[]
[]
[]
[]
[]
[]
[]
[]
[]
[]
[]
[]
[]
[]
[]
[]
[]
[]
[]
[]
[]
[]
[]
[]
[]
[]
[]
[]
[]
[]
[]
[]
[]
[]
[]
[]
[]
[]
[]
[]
[]
[]
[]
[]
[]
[]
[]
[]
[]
[]
[]
[]
[]
[]
[]
[]
[]
[]
[]
[]
[]
[]
[]
[]
[]
[]
[]
[]
[]
[]
[]
[]
[]
[]
[]
[]
[]
[]
[]
[]
[]
[]
[]
[]
[]
[]
[]
[]
[]
[]
[]
[]
[]
[]
[]
[]
[]
[]
[]
[]
[]
[]
[]
[]
[]
[]
[]
[]
[]
[]
[]
[]
[]
[]
[]
[]
[]
[]
[]
[]
[]
[]
[]
[]
[]
[]
[]
[]
[]
[]
[]
[]
[]
[]
[]
[]
[]
[]
[]
[]
[]
[]
[]
[]
[]
[]
[]
[]
[]
[]
[]
[]
[]
[]
[]
[]
[]
[]
[]
[]
[]
[]
[]
[]
[]
[]
[]
[]
[]
[]
[]
[]
[]
[]
[]
[]
[]
[]
[]
[]
[]
[]
[]
[]
[]
[]
[]
[]
[]
[]
[]
[]
[]
[]
[]
[]
[]
[]
[]
[]
[]
[]
[]
[]
[]
[]
[]
[]
[]
[]
[]
[]
[]
[]
[]
[]
[]
[]
[]
[]
[]
[]
[]
[]
[]
[]
[]
[]
[]
[]
[]
[]
[]
[]
[]
[]
[]
[]
[]
[]
[]
[]
[]
[]
[]
[]
[]
[]
[]
[]
[]
[]
[]
[]
[]
[]
[]
[]
[]
[]
[]
[]
[]
[]
[]
[]
[]
[]
[]
[]
[]
[]
[]
[]
[]
[]
[]
[]
[]
[]
[]
[]
[]
[]
[]
[]
[]
[]
[]
[]
[]
[]
[]
[]
[]
[]
[]
[]
[]
[]
[]
[]
[]
[]
[]
[]
[]
[]
[]
[]
[]
[]
[]
[]
[]
[]
[]
[]
[]
[]
[]
[]
[]
[]
[]
[]
[]
[]
[]
[]
[]
[]
[]
[]
[]
[]
[]
[]
[]
[]
[]
[]
[]
[]
[]
[]
[]
[]
[]
[]
[]
[]
[]
[]
[]
[]
[]
[]
[]
[]
[]
[]
[]
[]
[]
[]
[]
[]
[]
[]
[]
[]
[]
[]
[]
[]
[]
[]
[]
[]
[]
[]
[]
[]
[]
[]
[]
[]
[]
[]
[]
[]
[]
[]
[]
[]
[]
[]
[]
[]
[]
[]
[]
[]
[]
[]
[]
[]
[]
[]
[]
[]
[]
[]
[]
[]
[]
[]
[]
[]
[]
[]
[]
[]
[]
[]
[]
[]
[]
[]
[]
[]
[]
[]
[]
[]
[]
[]
[]
[]
[]
[]
[]
[]
[]
[]
[]
[]
[]
[]
[]
[]
[]
[]
[]
[]
[]
[]
[]
[]
[]
[]
[]
[]
[]
[]
[]
[]
[]
[]
[]
[]
[]
[]
[]
[]
[]
[]
[]
[]
[]
[]
[]
[]
[]
[]
[]
[]
[]
[]
[]
[]
[]
[]
[]
[]
[]
[]
[]
[]
[]
[]
[]
[]
[]
[]
[]
[]
[]
[]
[]
[]
[]
[]
[]
[]
[]
[]
[]
[]
[]
[]
[]
[]
[]
[]
[]
[]
[]
[]
[]
[]
[]
[]
[]
[]
[]
[]
[]
[]
[]
[]
[]
[]
[]
[]
[]
[]
[]
[]
[]
[]
[]
[]
[]
[]
[]
[]
[]
[]
[]
[]
[]
[]
[]
[]
[]
[]
[]
[]
[]
[]
[]
[]
[]
[]
[]
[]
[]
[]
[]
[]
[]
[]
[]
[]
[]
[]
[]
[]
[]
[]
[]
[]
[]
[]
[]
[]
[]
[]
[]
[]
[]
[]
[]
[]
[]
[]
[]
[]
[]
[]
[]
[]
[]
[]
[]
[]
[]
[]
[]
[]
[]
[]
[]
[]
[]
[]
[]
[]
[]
[]
[]
[]
[]
[]
[]
[]
[]
[]
[]
[]
[]
[]
[]
[]
[]
[]
[]
[]
[]
[]
[]
[]
[]
[]
[]
[]
[]
[]
[]
[]
[]
[]
[]
[]
[]
[]
[]
[]
[]
[]
[]
[]
[]
[]
[]
[]
[]
[]
[]
[]
[]
[]
[]
[]
[]
[]
[]
[]
[]
[]
[]
[]
[]
[]
[]
[]
[]
[]
[]
[]
[]
[]
[]
[]
[]
[]
[]
[]
[]
[]
[]
[]
[]
[]
[]
[]
[]
[]
[]
[]
[]
[]
[]
[]
[]
[]
[]
[]
[]
[]
[]
[]
[]
[]
[]
[]
[]
[]
[]
[]
[]
[]
[]
[]
[]
[]
[]
[]
[]
[]
[]
[]
[]
[]
[]
[]
[]
[]
[]
[]
[]
[]
[]
[]
[]
[]
[]
[]
[]
[]
[]
[]
[]
[]
[]
[]
[]
[]
[]
[]
[]
[]
[]
[]
[]
[]
[]
[]
[]
[]
[]
[]
[]
[]
[]
[]
[]
[]
[]
[]
[]
[]
[]
[]
[]
[]
[]
[]
[]
[]
[]
[]
[]
[]
[]
[]
[]
[]
[]
[]
[]
[]
[]
[]
[]
[]
[]
[]
[]
[]
[]
[]
[]
[]
[]
[]
[]
[]
[]
[]
[]
[]
[]
[]
[]
[]
[]
[]
[]
[]
[]
[]
[]
[]
[]
[]
[]
[]
[]
[]
[]
[]
[]
[]
[]
[]
[]
[]
[]
[]
[]
[]
[]
[]
[]
[]
[]
[]
[]
[]
[]
[]
[]
[]
[]
[]
[]
[]
[]
[]
[]
[]
[]
[]
[]
[]
[]
[]
[]
[]
[]
[]
[]
[]
[]
[]
[]
[]
[]
[]
[]
[]
[]
[]
[]
[]
[]
[]
[]
[]
[]
[]
[]
[]
[]
[]
[]
[]
[]
[]
[]
[]
[]
[]
[]
[]
[]
[]
[]
[]
[]
[]
[]
[]
[]
[]
[]
[]
[]
[]
[]
[]
[]
[]
[]
[]
[]
[]
[]
[]
[]
[]
[]
[]
[]
[]
[]
[]
[]
[]
[]
[]
[]
[]
[]
[]
[]
[]
[]
[]
[]
[]
[]
[]
[]
[]
[]
[]
[]
[]
[]
[]
[]
[]
[]
[]
[]
[]
[]
[]
[]
[]
[]
[]
[]
[]
[]
[]
[]
[]
[]
[]
[]
[]
[]
[]
[]
[]
[]
[]
[]
[]
[]
[]
[]
[]
[]
[]
[]
[]
[]
[]
[]
[]
[]
[]
[]
[]
[]
[]
[]
[]
[]
[]
[]
[]
[]
[]
[]
[]
[]
[]
[]
[]
[]
[]
[]
[]
[]
[]
[]
[]
[]
[]
[]
[]
[]
[]
[]
[]
[]
[]
[]
[]
[]
[]
[]
[]
[]
[]
[]
[]
[]
[]
[]
[]
[]
[]
[]
[]
[]
[]
[]
[]
[]
[]
[]
[]
[]
[]
[]
[]
[]
[]
[]
[]
[]
[]
[]
[]
[]
[]
[]
[]
[]
[]
[]
[]
[]
[]
[]
[]
[]
[]
[]
[]
[]
[]
[]
[]
[]
[]
[]
[]
[]
[]
[]
[]
[]
[]
[]
[]
[]
[]
[]
[]
[]
[]
[]
[]
[]
[]
[]
[]
[]
[]
[]
[]
[]
[]
[]
[]
[]
[]
[]
[]
[]
[]
[]
[]
[]
[]
[]
[]
[]
[]
[]
[]
[]
[]
[]
[]
[]
[]
[]
[]
[]
[]
[]
[]
[]
[]
[]
[]
[]
[]
[]
[]
[]
[]
[]
[]
[]
[]
[]
[]
[]
[]
[]
[]
[]
[]
[]
[]
[]
[]
[]
[]
[]
[]
[]
[]
[]
[]
[]
[]
[]
[]
[]
[]
[]
[]
[]
[]
[]
[]
[]
[]
[]
[]
[]
[]
[]
[]
[]
[]
[]
[]
[]
[]
[]
[]
[]
[]
[]
[]
[]
[]
[]
[]
[]
[]
[]
[]
[]
[]
[]
[]
[]
[]
[]
[]
[]
[]
[]
[]
[]
[]
[]
[]
[]
[]
[]
[]
[]
[]
[]
[]
[]
[]
[]
[]
[]
[]
[]
[]
[]
[]
[]
[]
[]
[]
[]
[]
[]
[]
[]
[]
[]
[]
[]
[]
[]
[]
[]
[]
[]
[]
[]
[]
[]
[]
[]
[]
[]
[]
[]
[]
[]
[]
[]
[]
[]
[]
[]
[]
[]
[]
[]
[]
[]
[]
[]
[]
[]
[]
[]
[]
[]
[]
[]
[]
[]
[]
[]
[]
[]
[]
[]
[]
[]
[]
[]
[]
[]
[]
[]
[]
[]
[]
[]
[]
[]
[]
[]
[]
[]
[]
[]
[]
[]
[]
[]
[]
[]
[]
[]
[]
[]
[]
[]
[]
[]
[]
[]
[]
[]
[]
[]
[]
[]
[]
[]
[]
[]
[]
[]
[]
[]
[]
[]
[]
[]
[]
[]
[]
[]
[]
[]
[]
[]
[]
[]
[]
[]
[]
[]
[]
[]
[]
[]
[]
[]
[]
[]
[]
[]
[]
[]
[]
[]
[]
[]
[]
[]
[]
[]
[]
[]
[]
[]
[]
[]
[]
[]
[]
[]
[]
[]
[]
[]
[]
[]
[]
[]
[]
[]
[]
[]
[]
[]
[]
[]
[]
[]
[]
[]
[]
[]
[]
[]
[]
[]
[]
[]
[]
[]
[]
[]
[]
[]
[]
[]
[]
[]
[]
[]
[]
[]
[]
[]
[]
[]
[]
[]
[]
[]
[]
[]
[]
[]
[]
[]
[]
[]
[]
[]
[]
[]
[]
[]
[]
[]
[]
[]
[]
[]
[]
[]
[]
[]
[]
[]
[]
[]
[]
[]
[]
[]
[]
[]
[]
[]
[]
[]
[]
[]
[]
[]
[]
[]
[]
[]
[]
[]
[]
[]
[]
[]
[]
[]
[]
[]
[]
[]
[]
[]
[]
[]
[]
[]
[]
[]
[]
[]
[]
[]
[]
[]
[]
[]
[]
[]
[]
[]
[]
[]
[]
[]
[]
[]
[]
[]
[]
[]
[]
[]
[]
[]
[]
[]
[]
[]
[]
[]
[]
[]
[]
[]
[]
[]
[]
[]
[]
[]
[]
[]
[]
[]
[]
[]
[]
[]
[]
[]
[]
[]
[]
[]
[]
[]
[]
[]
[]
[]
[]
[]
[]
[]
[]
[]
[]
[]
[]
[]
[]
[]
[]
[]
[]
[]
[]
[]
[]
[]
[]
[]
[]
[]
[]
[]
[]
[]
[]
[]
[]
[]
[]
[]
[]
[]
[]
[]
[]
[]
[]
[]
[]
[]
[]
[]
[]
[]
[]
[]
[]
[]
[]
[]
[]
[]
[]
[]
[]
[]
[]
[]
[]
[]
[]
[]
[]
[]
[]
[]
[]
[]
[]
[]
[]
[]
[]
[]
[]
[]
[]
[]
[]
[]
[]
[]
[]
[]
[]
[]
[]
[]
[]
[]
[]
[]
[]
[]
[]
[]
[]
[]
[]
[]
[]
[]
[]
[]
[]
[]
[]
[]
[]
[]
[]
[]
[]
[]
[]
[]
[]
[]
[]
[]
[]
[]
[]
[]
[]
[]
[]
[]
[]
[]
[]
[]
[]
[]
[]
[]
[]
[]
[]
[]
[]
[]
[]
[]
[]
[]
[]
[]
[]
[]
[]
[]
[]
[]
[]
[]
[]
[]
[]
[]
[]
[]
[]
[]
[]
[]
[]
[]
[]
[]
[]
[]
[]
[]
[]
[]
[]
[]
[]
[]
[]
[]
[]
[]
[]
[]
[]
[]
[]
[]
[]
[]
[]
[]
[]
[]
[]
[]
[]
[]
[]
[]
[]
[]
[]
[]
[]
[]
[]
[]
[]
[]
[]
[]
[]
[]
[]
[]
[]
[]
[]
[]
[]
[]
[]
[]
[]
[]
[]
[]
[]
[]
[]
[]
[]
[]
[]
[]
[]
[]
[]
[]
[]
[]
[]
[]
[]
[]
[]
[]
[]
[]
[]
[]
[]
[]
[]
[]
[]
[]
[]
[]
[]
[]
[]
[]
[]
[]
[]
[]
[]
[]
[]
[]
[]
[]
[]
[]
[]
[]
[]
[]
[]
[]
[]
[]
[]
[]
[]
[]
[]
[]
[]
[]
[]
[]
[]
[]
[]
[]
[]
[]
[]
[]
[]
[]
[]
[]
[]
[]
[]
[]
[]
[]
[]
[]
[]
[]
[]
[]
[]
[]
[]
[]
[]
[]
[]
[]
[]
[]
[]
[]
[]
[]
[]
[]
[]
[]
[]
[]
[]
[]
[]
[]
[]
[]
[]
[]
[]
[]
[]
[]
[]
[]
[]
[]
[]
[]
[]
[]
[]
[]
[]
[]
[]
[]
[]
[]
[]
[]
[]
[]
[]
[]
[]
[]
[]
[]
[]
[]
[]
[]
[]
[]
[]
[]
[]
[]
[]
[]
[]
[]
[]
[]
[]
[]
[]
[]
[]
[]
[]
[]
[]
[]
[]
[]
[]
[]
[]
[]
[]
[]
[]
[]
[]
[]
[]
[]
[]
[]
[]
[]
[]
[]
[]
[]
[]
[]
[]
[]
[]
[]
[]
[]
[]
[]
[]
[]
[]
[]
[]
[]
[]
[]
[]
[]
[]
[]
[]
[]
[]
[]
[]
[]
[]
[]
[]
[]
[]
[]
[]
[]
[]
[]
[]
[]
[]
[]
[]
[]
[]
[]
[]
[]
[]
[]
[]
[]
[]
[]
[]
[]
[]
[]
[]
[]
[]
[]
[]
[]
[]
[]
[]
[]
[]
[]
[]
[]
[]
[]
[]
[]
[]
[]
[]
[]
[]
[]
[]
[]
[]
[]
[]
[]
[]
[]
[]
[]
[]
[]
[]
[]
[]
[]
[]
[]
[]
[]
[]
[]
[]
[]
[]
[]
[]
[]
[]
[]
[]
[]
[]
[]
[]
[]
[]
[]
[]
[]
[]
[]
[]
[]
[]
[]
[]
[]
[]
[]
[]
[]
[]
[]
[]
[]
[]
[]
[]
[]
[]
[]
[]
[]
[]
[]
[]
[]
[]
[]
[]
[]
[]
[]
[]
[]
[]
[]
[]
[]
[]
[]
[]
[]
[]
[]
[]
[]
[]
[]
[]
[]
[]
[]
[]
[]
[]
[]
[]
[]
[]
[]
[]
[]
[]
[]
[]
[]
[]
[]
[]
[]
[]
[]
[]
[]
[]
[]
[]
[]
[]
[]
[]
[]
[]
[]
[]
[]
[]
[]
[]
[]
[]
[]
[]
[]
[]
[]
[]
[]
[]
[]
[]
[]
[]
[]
[]
[]
[]
[]
[]
[]
[]
[]
[]
[]
[]
[]
[]
[]
[]
[]
[]
[]
[]
[]
[]
[]
[]
[]
[]
[]
[]
[]
[]
[]
[]
[]
[]
[]
[]
[]
[]
[]
[]
[]
[]
[]
[]
[]
[]
[]
[]
[]
[]
[]
[]
[]
[]
[]
[]
[]
[]
[]
[]
[]
[]
[]
[]
[]
[]
[]
[]
[]
[]
[]
[]
[]
[]
[]
[]
[]
[]
[]
[]
[]
[]
[]
[]
[]
[]
[]
[]
[]
[]
[]
[]
[]
[]
[]
[]
[]
[]
[]
[]
[]
[]
[]
[]
[]
[]
[]
[]
[]
[]
[]
[]
[]
[]
[]
[]
[]
[]
[]
[]
[]
[]
[]
[]
[]
[]
[]
[]
[]
[]
[]
[]
[]
[]
[]
[]
[]
[]
[]
[]
[]
[]
[]
[]
[]
[]
[]
[]
[]
[]
[]
[]
[]
[]
[]
[]
[]
[]
[]
[]
[]
[]
[]
[]
[]
[]
[]
[]
[]
[]
[]
[]
[]
[]
[]
[]
[]
[]
[]
[]
[]
[]
[]
[]
[]
[]
[]
[]
[]
[]
[]
[]
[]
[]
[]
[]
[]
[]
[]
[]
[]
[]
[]
[]
[]
[]
[]
[]
[]
[]
[]
[]
[]
[]
[]
[]
[]
[]
[]
[]
[]
[]
[]
[]
[]
[]
[]
[]
[]
[]
[]
[]
[]
[]
[]
[]
[]
[]
[]
[]
[]
[]
[]
[]
[]
[]
[]
[]
[]
[]
[]
[]
[]
[]
[]
[]
[]
[]
[]
[]
[]
[]
[]
[]
[]
[]
[]
[]
[]
[]
[]
[]
[]
[]
[]
[]
[]
[]
[]
[]
[]
[]
[]
[]
[]
[]
[]
[]
[]
[]
[]
[]
[]
[]
[]
[]
[]
[]
[]
[]
[]
[]
[]
[]
[]
[]
[]
[]
[]
[]
[]
[]
[]
[]
[]
[]
[]
[]
[]
[]
[]
[]
[]
[]
[]
[]
[]
[]
[]
[]
[]
[]
[]
[]
[]
[]
[]
[]
[]
[]
[]
[]
[]
[]
[]
[]
[]
[]
[]
[]
[]
[]
[]
[]
[]
[]
[]
[]
[]
[]
[]
[]
[]
[]
[]
[]
[]
[]
[]
[]
[]
[]
[]
[]
[]
[]
[]
[]
[]
[]
[]
[]
[]
[]
[]
[]
[]
[]
[]
[]
[]
[]
[]
[]
[]
[]
[]
[]
[]
[]
[]
[]
[]
[]
[]
[]
[]
[]
[]
[]
[]
[]
[]
[]
[]
[]
[]
[]
[]
[]
[]
[]
[]
[]
[]
[]
[]
[]
[]
[]
[]
[]
[]
[]
[]
[]
[]
[]
[]
[]
[]
[]
[]
[]
[]
[]
[]
[]
[]
[]
[]
[]
[]
[]
[]
[]
[]
[]
[]
[]
[]
[]
[]
[]
[]
[]
[]
[]
[]
[]
[]
[]
[]
[]
[]
[]
[]
[]
[]
[]
[]
[]
[]
[]
[]
[]
[]
[]
[]
[]
[]
[]
[]
[]
[]
[]
[]
[]
[]
[]
[]
[]
[]
[]
[]
[]
[]
[]
[]
[]
[]
[]
[]
[]
[]
[]
[]
[]
[]
[]
[]
[]
[]
[]
[]
[]
[]
[]
[]
[]
[]
[]
[]
[]
[]
[]
[]
[]
[]
[]
[]
[]
[]
[]
[]
[]
[]
[]
[]
[]
[]
[]
[]
[]
[]
[]
[]
[]
[]
[]
[]
[]
[]
[]
[]
[]
[]
[]
[]
[]
[]
[]
[]
[]
[]
[]
[]
[]
[]
[]
[]
[]
[]
[]
[]
[]
[]
[]
[]
[]
[]
[]
[]
[]
[]
[]
[]
[]
[]
[]
[]
[]
[]
[]
[]
[]
[]
[]
[]
[]
[]
[]
[]
[]
[]
[]
[]
[]
[]
[]
[]
[]
[]
[]
[]
[]
[]
[]
[]
[]
[]
[]
[]
[]
[]
[]
[]
[]
[]
[]
[]
[]
[]
[]
[]
[]
[]
[]
[]
[]
[]
[]
[]
[]
[]
[]
[]
[]
[]
[]
[]
[]
[]
[]
[]
[]
[]
[]
[]
[]
[]
[]
[]
[]
[]
[]
[]
[]
[]
[]
[]
[]
[]
[]
[]
[]
[]
[]
[]
[]
[]
[]
[]
[]
[]
[]
[]
[]
[]
[]
[]
[]
[]
[]
[]
[]
[]
[]
[]
[]
[]
[]
[]
[]
[]
[]
[]
[]
[]
[]
[]
[]
[]
[]
[]
[]
[]
[]
[]
[]
[]
[]
[]
[]
[]
[]
[]
[]
[]
[]
[]
[]
[]
[]
[]
[]
[]
[]
[]
[]
[]
[]
[]
[]
[]
[]
[]
[]
[]
[]
[]
[]
[]
[]
[]
[]
[]
[]
[]
[]
[]
[]
[]
[]
[]
[]
[]
[]
[]
[]
[]
[]
[]
[]
[]
[]
[]
[]
[]
[]
[]
[]
[]
[]
[]
[]
[]
[]
[]
[]
[]
[]
[]
[]
[]
[]
[]
[]
[]
[]
[]
[]
[]
[]
[]
[]
[]
[]
[]
[]
[]
[]
[]
[]
[]
[]
[]
[]
[]
[]
[]
[]
[]
[]
[]
[]
[]
[]
[]
[]
[]
[]
[]
[]
[]
[]
[]
[]
[]
[]
[]
[]
[]
[]
[]
[]
[]
[]
[]
[]
[]
[]
[]
[]
[]
[]
[]
[]
[]
[]
[]
[]
[]
[]
[]
[]
[]
[]
[]
[]
[]
[]
[]
[]
[]
[]
[]
[]
[]
[]
[]
[]
[]
[]
[]
[]
[]
[]
[]
[]
[]
[]
[]
[]
[]
[]
[]
[]
[]
[]
[]
[]
[]
[]
[]
[]
[]
[]
[]
[]
[]
[]
[]
[]
[]
[]
[]
[]
[]
[]
[]
[]
[]
[]
[]
[]
[]
[]
[]
[]
[]
[]
[]
[]
[]
[]
[]
[]
[]
[]
[]
[]
[]
[]
[]
[]
[]
[]
[]
[]
[]
[]
[]
[]
[]
[]
[]
[]
[]
[]
[]
[]
[]
[]
[]
[]
[]
[]
[]
[]
[]
[]
[]
[]
[]
[]
[]
[]
[]
[]
[]
[]
[]
[]
[]
[]
[]
[]
[]
[]
[]
[]
[]
[]
[]
[]
[]
[]
[]
[]
[]
[]
[]
[]
[]
[]
[]
[]
[]
[]
[]
[]
[]
[]
[]
[]
[]
[]
[]
[]
[]
[]
[]
[]
[]
[]
[]
[]
[]
[]
[]
[]
[]
[]
[]
[]
[]
[]
[]
[]
[]
[]
[]
[]
[]
[]
[]
[]
[]
[]
[]
[]
[]
[]
[]
[]
[]
[]
[]
[]
[]
[]
[]
[]
[]
[]
[]
[]
[]
[]
[]
[]
[]
[]
[]
[]
[]
[]
[]
[]
[]
[]
[]
[]
[]
[]
[]
[]
[]
[]
[]
[]
[]
[]
[]
[]
[]
[]
[]
[]
[]
[]
[]
[]
[]
[]
[]
[]
[]
[]
[]
[]
[]
[]
[]
[]
[]
[]
[]
[]
[]
[]
[]
[]
[]
[]
[]
[]
[]
[]
[]
[]
[]
[]
[]
[]
[]
[]
[]
[]
[]
[]
[]
[]
[]
[]
[]
[]
[]
[]
[]
[]
[]
[]
[]
[]
[]
[]
[]
[]
[]
[]
[]
[]
[]
[]
[]
[]
[]
[]
[]
[]
[]
[]
[]
[]
[]
[]
[]
[]
[]
[]
[]
[]
[]
[]
[]
[]
[]
[]
[]
[]
[]
[]
[]
[]
[]
[]
[]
[]
[]
[]
[]
[]
[]
[]
[]
[]
[]
[]
[]
[]
[]
[]
[]
[]
[]
[]
[]
[]
[]
[]
[]
[]
[]
[]
[]
[]
[]
[]
[]
[]
[]
[]
[]
[]
[]
[]
[]
[]
[]
[]
[]
[]
[]
[]
[]
[]
[]
[]
[]
[]
[]
[]
[]
[]
[]
[]
[]
[]
[]
[]
[]
[]
[]
[]
[]
[]
[]
[]
[]
[]
[]
[]
[]
[]
[]
[]
[]
[]
[]
[]
[]
[]
[]
[]
[]
[]
[]
[]
[]
[]
[]
[]
[]
[]
[]
[]
[]
[]
[]
[]
[]
[]
[]
[]
[]
[]
[]
[]
[]
[]
[]
[]
[]
[]
[]
[]
[]
[]
[]
[]
[]
[]
[]
[]
[]
[]
[]
[]
[]
[]
[]
[]
[]
[]
[]
[]
[]
[]
[]
[]
[]
[]
[]
[]
[]
[]
[]
[]
[]
[]
[]
[]
[]
[]
[]
[]
[]
[]
[]
[]
[]
[]
[]
[]
[]
[]
[]
[]
[]
[]
[]
[]
[]
[]
[]
[]
[]
[]
[]
[]
[]
[]
[]
[]
[]
[]
[]
[]
[]
[]
[]
[]
[]
[]
[]
[]
[]
[]
[]
[]
[]
[]
[]
[]
[]
[]
[]
[]
[]
[]
[]
[]
[]
[]
[]
[]
[]
[]
[]
[]
[]
[]
[]
[]
[]
[]
[]
[]
[]
[]
[]
[]
[]
[]
[]
[]
[]
[]
[]
[]
[]
[]
[]
[]
[]
[]
[]
[]
[]
[]
[]
[]
[]
[]
[]
[]
[]
[]
[]
[]
[]
[]
[]
[]
[]
[]
[]
[]
[]
[]
[]
[]
[]
[]
[]
[]
[]
[]
[]
[]
[]
[]
[]
[]
[]
[]
[]
[]
[]
[]
[]
[]
[]
[]
[]
[]
[]
[]
[]
[]
[]
[]
[]
[]
[]
[]
[]
[]
[]
[]
[]
[]
[]
[]
[]
[]
[]
[]
[]
[]
[]
[]
[]
[]
[]
[]
[]
[]
[]
[]
[]
[]
[]
[]
[]
[]
[]
[]
[]
[]
[]
[]
[]
[]
[]
[]
[]
[]
[]
[]
[]
[]
[]
[]
[]
[]
[]
[]
[]
[]
[]
[]
[]
[]
[]
[]
[]
[]
[]
[]
[]
[]
[]
[]
[]
[]
[]
[]
[]
[]
[]
[]
[]
[]
[]
[]
[]
[]
[]
[]
[]
[]
[]
[]
[]
[]
[]
[]
[]
[]
[]
[]
[]
[]
[]
[]
[]
[]
[]
[]
[]
[]
[]
[]
[]
[]
[]
[]
[]
[]
[]
[]
[]
[]
[]
[]
[]
[]
[]
[]
[]
[]
[]
[]
[]
[]
[]
[]
[]
[]
[]
[]
[]
[]
[]
[]
[]
[]
[]
[]
[]
[]
[]
[]
[]
[]
[]
[]
[]
[]
[]
[]
[]
[]
[]
[]
[]
[]
[]
[]
[]
[]
[]
[]
[]
[]
[]
[]
[]
[]
[]
[]
[]
[]
[]
[]
[]
[]
[]
[]
[]
[]
[]
[]
[]
[]
[]
[]
[]
[]
[]
[]
[]
[]
[]
[]
[]
[]
[]
[]
[]
[]
[]
[]
[]
[]
[]
[]
[]
[]
[]
[]
[]
[]
[]
[]
[]
[]
[]
[]
[]
[]
[]
[]
[]
[]
[]
[]
[]
[]
[]
[]
[]
[]
[]
[]
[]
[]
[]
[]
[]
[]
[]
[]
[]
[]
[]
[]
[]
[]
[]
[]
[]
[]
[]
[]
[]
[]
[]
[]
[]
[]
[]
[]
[]
[]
[]
[]
[]
[]
[]
[]
[]
[]
[]
[]
[]
[]
[]
[]
[]
[]
[]
[]
[]
[]
[]
[]
[]
[]
[]
[]
[]
[]
[]
[]
[]
[]
[]
[]
[]
[]
[]
[]
[]
[]
[]
[]
[]
[]
[]
[]
[]
[]
[]
[]
[]
[]
[]
[]
[]
[]
[]
[]
[]
[]
[]
[]
[]
[]
[]
[]
[]
[]
[]
[]
[]
[]
[]
[]
[]
[]
[]
[]
[]
[]
[]
[]
[]
[]
[]
[]
[]
[]
[]
[]
[]
[]
[]
[]
[]
[]
[]
[]
[]
[]
[]
[]
[]
[]
[]
[]
[]
[]
[]
[]
[]
[]
[]
[]
[]
[]
[]
[]
[]
[]
[]
[]
[]
[]
[]
[]
[]
[]
[]
[]
[]
[]
[]
[]
[]
[]
[]
[]
[]
[]
[]
[]
[]
[]
[]
[]
[]
[]
[]
[]
[]
[]
[]
[]
[]
[]
[]
[]
[]
[]
[]
[]
[]
[]
[]
[]
[]
[]
[]
[]
[]
[]
[]
[]
[]
[]
[]
[]
[]
[]
[]
[]
[]
[]
[]
[]
[]
[]
[]
[]
[]
[]
[]
[]
[]
[]
[]
[]
[]
[]
[]
[]
[]
[]
[]
[]
[]
[]
[]
[]
[]
[]
[]
[]
[]
[]
[]
[]
[]
[]
[]
[]
[]
[]
[]
[]
[]
[]
[]
[]
[]
[]
[]
[]
[]
[]
[]
[]
[]
[]
[]
[]
[]
[]
[]
[]
[]
[]
[]
[]
[]
[]
[]
[]
[]
[]
[]
[]
[]
[]
[]
[]
[]
[]
[]
[]
[]
[]
[]
[]
[]
[]
[]
[]
[]
[]
[]
[]
[]
[]
[]
[]
[]
[]
[]
[]
[]
[]
[]
[]
[]
[]
[]
[]
[]
[]
[]
[]
[]
[]
[]
[]
[]
[]
[]
[]
[]
[]
[]
[]
[]
[]
[]
[]
[]
[]
[]
[]
[]
[]
[]
[]
[]
[]
[]
[]
[]
[]
[]
[]
[]
[]
[]
[]
[]
[]
[]
[]
[]
[]
[]
[]
[]
[]
[]
[]
[]
[]
[]
[]
[]
[]
[]
[]
[]
[]
[]
[]
[]
[]
[]
[]
[]
[]
[]
[]
[]
[]
[]
[]
[]
[]
[]
[]
[]
[]
[]
[]
[]
[]
[]
[]
[]
[]
[]
[]
[]
[]
[]
[]
[]
[]
[]
[]
[]
[]
[]
[]
[]
[]
[]
[]
[]
[]
[]
[]
[]
[]
[]
[]
[]
[]
[]
[]
[]
[]
[]
[]
[]
[]
[]
[]
[]
[]
[]
[]
[]
[]
[]
[]
[]
[]
[]
[]
[]
[]
[]
[]
[]
[]
[]
[]
[]
[]
[]
[]
[]
[]
[]
[]
[]
[]
[]
[]
[]
[]
[]
[]
[]
[]
[]
[]
[]
[]
[]
[]
[]
[]
[]
[]
[]
[]
[]
[]
[]
[]
[]
[]
[]
[]
[]
[]
[]
[]
[]
[]
[]
[]
[]
[]
[]
[]
[]
[]
[]
[]
[]
[]
[]
[]
[]
[]
[]
[]
[]
[]
[]
[]
[]
[]
[]
[]
[]
[]
[]
[]
[]
[]
[]
[]
[]
[]
[]
[]
[]
[]
[]
[]
[]
[]
[]
[]
[]
[]
[]
[]
[]
[]
[]
[]
[]
[]
[]
[]
[]
[]
[]
[]
[]
[]
[]
[]
[]
[]
[]
[]
[]
[]
[]
[]
[]
[]
[]
[]
[]
[]
[]
[]
[]
[]
[]
[]
[]
[]
[]
[]
[]
[]
[]
[]
[]
[]
[]
[]
[]
[]
[]
[]
[]
[]
[]
[]
[]
[]
[]
[]
[]
[]
[]
[]
[]
[]
[]
[]
[]
[]
[]
[]
[]
[]
[]
[]
[]
[]
[]
[]
[]
[]
[]
[]
[]
[]
[]
[]
[]
[]
[]
[]
[]
[]
[]
[]
[]
[]
[]
[]
[]
[]
[]
[]
[]
[]
[]
[]
[]
[]
[]
[]
[]
[]
[]
[]
[]
[]
[]
[]
[]
[]
[]
[]
[]
[]
[]
[]
[]
[]
[]
[]
[]
[]
[]
[]
[]
[]
[]
[]
[]
[]
[]
[]
[]
[]
[]
[]
[]
[]
[]
[]
[]
[]
[]
[]
[]
[]
[]
[]
[]
[]
[]
[]
[]
[]
[]
[]
[]
[]
[]
[]
[]
[]
[]
[]
[]
[]
[]
[]
[]
[]
[]
[]
[]
[]
[]
[]
[]
[]
[]
[]
[]
[]
[]
[]
[]
[]
[]
[]
[]
[]
[]
[]
[]
[]
[]
[]
[]
[]
[]
[]
[]
[]
[]
[]
[]
[]
[]
[]
[]
[]
[]
[]
[]
[]
[]
[]
[]
[]
[]
[]
[]
[]
[]
[]
[]
[]
[]
[]
[]
[]
[]
[]
[]
[]
[]
[]
[]
[]
[]
[]
[]
[]
[]
[]
[]
[]
[]
[]
[]
[]
[]
[]
[]
[]
[]
[]
[]
[]
[]
[]
[]
[]
[]
[]
[]
[]
[]
[]
[]
[]
[]
[]
[]
[]
[]
[]
[]
[]
[]
[]
[]
[]
[]
[]
[]
[]
[]
[]
[]
[]
[]
[]
[]
[]
[]
[]
[]
[]
[]
[]
[]
[]
[]
[]
[]
[]
[]
[]
[]
[]
[]
[]
[]
[]
[]
[]
[]
[]
[]
[]
[]
[]
[]
[]
[]
[]
[]
[]
[]
[]
[]
[]
[]
[]
[]
[]
[]
[]
[]
[]
[]
[]
[]
[]
[]
[]
[]
[]
[]
[]
[]
[]
[]
[]
[]
[]
[]
[]
[]
[]
[]
[]
[]
[]
[]
[]
[]
[]
[]
[]
[]
[]
[]
[]
[]
[]
[]
[]
[]
[]
[]
[]
[]
[]
[]
[]
[]
[]
[]
[]
[]
[]
[]
[]
[]
[]
[]
[]
[]
[]
[]
[]
[]
[]
[]
[]
[]
[]
[]
[]
[]
[]
[]
[]
[]
[]
[]
[]
[]
[]
[]
[]
[]
[]
[]
[]
[]
[]
[]
[]
[]
[]
[]
[]
[]
[]
[]
[]
[]
[]
[]
[]
[]
[]
[]
[]
[]
[]
[]
[]
[]
[]
[]
[]
[]
[]
[]
[]
[]
[]
[]
[]
[]
[]
[]
[]
[]
[]
[]
[]
[]
[]
[]
[]
[]
[]
[]
[]
[]
[]
[]
[]
[]
[]
[]
[]
[]
[]
[]
[]
[]
[]
[]
[]
[]
[]
[]
[]
[]
[]
[]
[]
[]
[]
[]
[]
[]
[]
[]
[]
[]
[]
[]
[]
[]
[]
[]
[]
[]
[]
[]
[]
[]
[]
[]
[]
[]
[]
[]
[]
[]
[]
[]
[]
[]
[]
[]
[]
[]
[]
[]
[]
[]
[]
[]
[]
[]
[]
[]
[]
[]
[]
[]
[]
[]
[]
[]
[]
[]
[]
[]
[]
[]
[]
[]
[]
[]
[]
[]
[]
[]
[]
[]
[]
[]
[]
[]
[]
[]
[]
[]
[]
[]
[]
[]
[]
[]
[]
[]
[]
[]
[]
[]
[]
[]
[]
[]
[]
[]
[]
[]
[]
[]
[]
[]
[]
[]
[]
[]
[]
[]
[]
[]
[]
[]
[]
[]
[]
[]
[]
[]
[]
[]
[]
[]
[]
[]
[]
[]
[]
[]
[]
[]
[]
[]
[]
[]
[]
[]
[]
[]
[]
[]
[]
[]
[]
[]
[]
[]
[]
[]
[]
[]
[]
[]
[]
[]
[]
[]
[]
[]
[]
[]
[]
[]
[]
[]
[]
[]
[]
[]
[]
[]
[]
[]
[]
[]
[]
[]
[]
[]
[]
[]
[]
[]
[]
[]
[]
[]
[]
[]
[]
[]
[]
[]
[]
[]
[]
[]
[]
[]
[]
[]
[]
[]
[]
[]
[]
[]
[]
[]
[]
[]
[]
[]
[]
[]
[]
[]
[]
[]
[]
[]
[]
[]
[]
[]
[]
[]
[]
[]
[]
[]
[]
[]
[]
[]
[]
[]
[]
[]
[]
[]
[]
[]
[]
[]
[]
[]
[]
[]
[]
[]
[]
[]
[]
[]
[]
[]
[]
[]
[]
[]
[]
[]
[]
[]
[]
[]
[]
[]
[]
[]
[]
[]
[]
[]
[]
[]
[]
[]
[]
[]
[]
[]
[]
[]
[]
[]
[]
[]
[]
[]
[]
[]
[]
[]
[]
[]
[]
[]
[]
[]
[]
[]
[]
[]
[]
[]
[]
[]
[]
[]
[]
[]
[]
[]
[]
[]
[]
[]
[]
[]
[]
[]
[]
[]
[]
[]
[]
[]
[]
[]
[]
[]
[]
[]
[]
[]
[]
[]
[]
[]
[]
[]
[]
[]
[]
[]
[]
[]
[]
[]
[]
[]
[]
[]
[]
[]
[]
[]
[]
[]
[]
[]
[]
[]
[]
[]
[]
[]
[]
[]
[]
[]
[]
[]
[]
[]
[]
[]
[]
[]
[]
[]
[]
[]
[]
[]
[]
[]
[]
[]
[]
[]
[]
[]
[]
[]
[]
[]
[]
[]
[]
[]
[]
[]
[]
[]
[]
[]
[]
[]
[]
[]
[]
[]
[]
[]
[]
[]
[]
[]
[]
[]
[]
[]
[]
[]
[]
[]
[]
[]
[]
[]
[]
[]
[]
[]
[]
[]
[]
[]
[]
[]
[]
[]
[]
[]
[]
[]
[]
[]
[]
[]
[]
[]
[]
[]
[]
[]
[]
[]
[]
[]
[]
[]
[]
[]
[]
[]
[]
[]
[]
[]
[]
[]
[]
[]
[]
[]
[]
[]
[]
[]
[]
[]
[]
[]
[]
[]
[]
[]
[]
[]
[]
[]
[]
[]
[]
[]
[]
[]
[]
[]
[]
[]
[]
[]
[]
[]
[]
[]
[]
[]
[]
[]
[]
[]
[]
[]
[]
[]
[]
[]
[]
[]
[]
[]
[]
[]
[]
[]
[]
[]
[]
[]
[]
[]
[]
[]
[]
[]
[]
[]
[]
[]
[]
[]
[]
[]
[]
[]
[]
[]
[]
[]
[]
[]
[]
[]
[]
[]
[]
[]
[]
[]
[]
[]
[]
[]
[]
[]
[]
[]
[]
[]
[]
[]
[]
[]
[]
[]
[]
[]
[]
[]
[]
[]
[]
[]
[]
[]
[]
[]
[]
[]
[]
[]
[]
[]
[]
[]
[]
[]
[]
[]
[]
[]
[]
[]
[]
[]
[]
[]
[]
[]
[]
[]
[]
[]
[]
[]
[]
[]
[]
[]
[]
[]
[]
[]
[]
[]
[]
[]
[]
[]
[]
[]
[]
[]
[]
[]
[]
[]
[]
[]
[]
[]
[]
[]
[]
[]
[]
[]
[]
[]
[]
[]
[]
[]
[]
[]
[]
[]
[]
[]
[]
[]
[]
[]
[]
[]
[]
[]
[]
[]
[]
[]
[]
[]
[]
[]
[]
[]
[]
[]
[]
[]
[]
[]
[]
[]
[]
[]
[]
[]
[]
[]
[]
[]
[]
[]
[]
[]
[]
[]
[]
[]
[]
[]
[]
[]
[]
[]
[]
[]
[]
[]
[]
[]
[]
[]
[]
[]
[]
[]
[]
[]
[]
[]
[]
[]
[]
[]
[]
[]
[]
[]
[]
[]
[]
[]
[]
[]
[]
[]
[]
[]
[]
[]
[]
[]
[]
[]
[]
[]
[]
[]
[]
[]
[]
[]
[]
[]
[]
[]
[]
[]
[]
[]
[]
[]
[]
[]
[]
[]
[]
[]
[]
[]
[]
[]
[]
[]
[]
[]
[]
[]
[]
[]
[]
[]
[]
[]
[]
[]
[]
[]
[]
[]
[]
[]
[]
[]
[]
[]
[]
[]
[]
[]
[]
[]
[]
[]
[]
[]
[]
[]
[]
[]
[]
[]
[]
[]
[]
[]
[]
[]
[]
[]
[]
[]
[]
[]
[]
[]
[]
[]
[]
[]
[]
[]
[]
[]
[]
[]
[]
[]
[]
[]
[]
[]
[]
[]
[]
[]
[]
[]
[]
[]
[]
[]
[]
[]
[]
[]
[]
[]
[]
[]
[]
[]
[]
[]
[]
[]
[]
[]
[]
[]
[]
[]
[]
[]
[]
[]
[]
[]
[]
[]
[]
[]
[]
[]
[]
[]
[]
[]
[]
[]
[]
[]
[]
[]
[]
[]
[]
[]
[]
[]
[]
[]
[]
[]
[]
[]
[]
[]
[]
[]
[]
[]
[]
[]
[]
[]
[]
[]
[]
[]
[]
[]
[]
[]
[]
[]
[]
[]
[]
[]
[]
[]
[]
[]
[]
[]
[]
[]
[]
[]
[]
[]
[]
[]
[]
[]
[]
[]
[]
[]
[]
[]
[]
[]
[]
[]
[]
[]
[]
[]
[]
[]
[]
[]
[]
[]
[]
[]
[]
[]
[]
[]
[]
[]
[]
[]
[]
[]
[]
[]
[]
[]
[]
[]
[]
[]
[]
[]
[]
[]
[]
[]
[]
[]
[]
[]
[]
[]
[]
[]
[]
[]
[]
[]
[]
[]
[]
[]
[]
[]
[]
[]
[]
[]
[]
[]
[]
[]
[]
[]
[]
[]
[]
[]
[]
[]
[]
[]
[]
[]
[]
[]
[]
[]
[]
[]
[]
[]
[]
[]
[]
[]
[]
[]
[]
[]
[]
[]
[]
[]
[]
[]
[]
[]
[]
[]
[]
[]
[]
[]
[]
[]
[]
[]
[]
[]
[]
[]
[]
[]
[]
[]
[]
[]
[]
[]
[]
[]
[]
[]
[]
[]
[]
[]
[]
[]
[]
[]
[]
[]
[]
[]
[]
[]
[]
[]
[]
[]
[]
[]
[]
[]
[]
[]
[]
[]
[]
[]
[]
[]
[]
[]
[]
[]
[]
[]
[]
[]
[]
[]
[]
[]
[]
[]
[]
[]
[]
[]
[]
[]
[]
[]
[]
[]
[]
[]
[]
[]
[]
[]
[]
[]
[]
[]
[]
[]
[]
[]
[]
[]
[]
[]
[]
[]
[]
[]
[]
[]
[]
[]
[]
[]
[]
[]
[]
[]
[]
[]
[]
[]
[]
[]
[]
[]
[]
[]
[]
[]
[]
[]
[]
[]
[]
[]
[]
[]
[]
[]
[]
[]
[]
[]
[]
[]
[]
[]
[]
[]
[]
[]
[]
[]
[]
[]
[]
[]
[]
[]
[]
[]
[]
[]
[]
[]
[]
[]
[]
[]
[]
[]
[]
[]
[]
[]
[]
[]
[]
[]
[]
[]
[]
[]
[]
[]
[]
[]
[]
[]
[]
[]
[]
[]
[]
[]
[]
[]
[]
[]
[]
[]
[]
[]
[]
[]
[]
[]
[]
[]
[]
[]
[]
[]
[]
[]
[]
[]
[]
[]
[]
[]
[]
[]
[]
[]
[]
[]
[]
[]
[]
[]
[]
[]
[]
[]
[]
[]
[]
[]
[]
[]
[]
[]
[]
[]
[]
[]
[]
[]
[]
[]
[]
[]
[]
[]
[]
[]
[]
[]
[]
[]
[]
[]
[]
[]
[]
[]
[]
[]
[]
[]
[]
[]
[]
[]
[]
[]
[]
[]
[]
[]
[]
[]
[]
[]
[]
[]
[]
[]
[]
[]
[]
[]
[]
[]
[]
[]
[]
[]
[]
[]
[]
[]
[]
[]
[]
[]
[]
[]
[]
[]
[]
[]
[]
[]
[]
[]
[]
[]
[]
[]
[]
[]
[]
[]
[]
[]
[]
[]
[]
[]
[]
[]
[]
[]
[]
[]
[]
[]
[]
[]
[]
[]
[]
[]
[]
[]
[]
[]
[]
[]
[]
[]
[]
[]
[]
[]
[]
[]
[]
[]
[]
[]
[]
[]
[]
[]
[]
[]
[]
[]
[]
[]
[]
[]
[]
[]
[]
[]
[]
[]
[]
[]
[]
[]
[]
[]
[]
[]
[]
[]
[]
[]
[]
[]
[]
[]
[]
[]
[]
[]
[]
[]
[]
[]
[]
[]
[]
[]
[]
[]
[]
[]
[]
[]
[]
[]
[]
[]
[]
[]
[]
[]
[]
[]
[]
[]
[]
[]
[]
[]
[]
[]
[]
[]
[]
[]
[]
[]
[]
[]
[]
[]
[]
[]
[]
[]
[]
[]
[]
[]
[]
[]
[]
[]
[]
[]
[]
[]
[]
[]
[]
[]
[]
[]
[]
[]
[]
[]
[]
[]
[]
[]
[]
[]
[]
[]
[]
[]
[]
[]
[]
[]
[]
[]
[]
[]
[]
[]
[]
[]
[]
[]
[]
[]
[]
[]
[]
[]
[]
[]
[]
[]
[]
[]
[]
[]
[]
[]
[]
[]
[]
[]
[]
[]
[]
[]
[]
[]
[]
[]
[]
[]
[]
[]
[]
[]
[]
[]
[]
[]
[]
[]
[]
[]
[]
[]
[]
[]
[]
[]
[]
[]
[]
[]
[]
[]
[]
[]
[]
[]
[]
[]
[]
[]
[]
[]
[]
[]
[]
[]
[]
[]
[]
[]
[]
[]
[]
[]
[]
[]
[]
[]
[]
[]
[]
[]
[]
[]
[]
[]
[]
[]
[]
[]
[]
[]
[]
[]
[]
[]
[]
[]
[]
[]
[]
[]
[]
[]
[]
[]
[]
[]
[]
[]
[]
[]
[]
[]
[]
[]
[]
[]
[]
[]
[]
[]
[]
[]
[]
[]
[]
[]
[]
[]
[]
[]
[]
[]
[]
[]
[]
[]
[]
[]
[]
[]
[]
[]
[]
[]
[]
[]
[]
[]
[]
[]
[]
[]
[]
[]
[]
[]
[]
[]
[]
[]
[]
[]
[]
[]
[]
[]
[]
[]
[]
[]
[]
[]
[]
[]
[]
[]
[]
[]
[]
[]
[]
[]
[]
[]
[]
[]
[]
[]
[]
[]
[]
[]
[]
[]
[]
[]
[]
[]
[]
[]
[]
[]
[]
[]
[]
[]
[]
[]
[]
[]
[]
[]
[]
[]
[]
[]
[]
[]
[]
[]
[]
[]
[]
[]
[]
[]
[]
[]
[]
[]
[]
[]
[]
[]
[]
[]
[]
[]
[]
[]
[]
[]
[]
[]
[]
[]
[]
[]
[]
[]
[]
[]
[]
[]
[]
[]
[]
[]
[]
[]
[]
[]
[]
[]
[]
[]
[]
[]
[]
[]
[]
[]
[]
[]
[]
[]
[]
[]
[]
[]
[]
[]
[]
[]
[]
[]
[]
[]
[]
[]
[]
[]
[]
[]
[]
[]
[]
[]
[]
[]
[]
[]
[]
[]
[]
[]
[]
[]
[]
[]
[]
[]
[]
[]
[]
[]
[]
[]
[]
[]
[]
[]
[]
[]
[]
[]
[]
[]
[]
[]
[]
[]
[]
[]
[]
[]
[]
[]
[]
[]
[]
[]
[]
[]
[]
[]
[]
[]
[]
[]
[]
[]
[]
[]
[]
[]
[]
[]
[]
[]
[]
[]
[]
[]
[]
[]
[]
[]
[]
[]
[]
[]
[]
[]
[]
[]
[]
[]
[]
[]
[]
[]
[]
[]
[]
[]
[]
[]
[]
[]
[]
[]
[]
[]
[]
[]
[]
[]
[]
[]
[]
[]
[]
[]
[]
[]
[]
[]
[]
[]
[]
[]
[]
[]
[]
[]
[]
[]
[]
[]
[]
[]
[]
[]
[]
[]
[]
[]
[]
[]
[]
[]
[]
[]
[]
[]
[]
[]
[]
[]
[]
[]
[]
[]
[]
[]
[]
[]
[]
[]
[]
[]
[]
[]
[]
[]
[]
[]
[]
[]
[]
[]
[]
[]
[]
[]
[]
[]
[]
[]
[]
[]
[]
[]
[]
[]
[]
[]
[]
[]
[]
[]
[]
[]
[]
[]
[]
[]
[]
[]
[]
[]
[]
[]
[]
[]
[]
[]
[]
[]
[]
[]
[]
[]
[]
[]
[]
[]
[]
[]
[]
[]
[]
[]
[]
[]
[]
[]
[]
[]
[]
[]
[]
[]
[]
[]
[]
[]
[]
[]
[]
[]
[]
[]
[]
[]
[]
[]
[]
[]
[]
[]
[]
[]
[]
[]
[]
[]
[]
[]
[]
[]
[]
[]
[]
[]
[]
[]
[]
[]
[]
[]
[]
[]
[]
[]
[]
[]
[]
[]
[]
[]
[]
[]
[]
[]
[]
[]
[]
[]
[]
[]
[]
[]
[]
[]
[]
[]
[]
[]
[]
[]
[]
[]
[]
[]
[]
[]
[]
[]
[]
[]
[]
[]
[]
[]
[]
[]
[]
[]
[]
[]
[]
[]
[]
[]
[]
[]
[]
[]
[]
[]
[]
[]
[]
[]
[]
[]
[]
[]
[]
[]
[]
[]
[]
[]
[]
[]
[]
[]
[]
[]
[]
[]
[]
[]
[]
[]
[]
[]
[]
[]
[]
[]
[]
[]
[]
[]
[]
[]
[]
[]
[]
[]
[]
[]
[]
[]
[]
[]
[]
[]
[]
[]
[]
[]
[]
[]
[]
[]
[]
[]
[]
[]
[]
[]
[]
[]
[]
[]
[]
[]
[]
[]
[]
[]
[]
[]
[]
[]
[]
[]
[]
[]
[]
[]
[]
[]
[]
[]
[]
[]
[]
[]
[]
[]
[]
[]
[]
[]
[]
[]
[]
[]
[]
[]
[]
[]
[]
[]
[]
[]
[]
[]
[]
[]
[]
[]
[]
[]
[]
[]
[]
[]
[]
[]
[]
[]
[]
[]
[]
[]
[]
[]
[]
[]
[]
[]
[]
[]
[]
[]
[]
[]
[]
[]
[]
[]
[]
[]
[]
[]
[]
[]
[]
[]
[]
[]
[]
[]
[]
[]
[]
[]
[]
[]
[]
[]
[]
[]
[]
[]
[]
[]
[]
[]
[]
[]
[]
[]
[]
[]
[]
[]
[]
[]
[]
[]
[]
[]
[]
[]
[]
[]
[]
[]
[]
[]
[]
[]
[]
[]
[]
[]
[]
[]
[]
[]
[]
[]
[]
[]
[]
[]
[]
[]
[]
[]
[]
[]
[]
[]
[]
[]
[]
[]
[]
[]
[]
[]
[]
[]
[]
[]
[]
[]
[]
[]
[]
[]
[]
[]
[]
[]
[]
[]
[]
[]
[]
[]
[]
[]
[]
[]
[]
[]
[]
[]
[]
[]
[]
[]
[]
[]
[]
[]
[]
[]
[]
[]
[]
[]
[]
[]
[]
[]
[]
[]
[]
[]
[]
[]
[]
[]
[]
[]
[]
[]
[]
[]
[]
[]
[]
[]
[]
[]
[]
[]
[]
[]
[]
[]
[]
[]
[]
[]
[]
[]
[]
[]
[]
[]
[]
[]
[]
[]
[]
[]
[]
[]
[]
[]
[]
[]
[]
[]
[]
[]
[]
[]
[]
[]
[]
[]
[]
[]
[]
[]
[]
[]
[]
[]
[]
[]
[]
[]
[]
[]
[]
[]
[]
[]
[]
[]
[]
[]
[]
[]
[]
[]
[]
[]
[]
[]
[]
[]
[]
[]
[]
[]
[]
[]
[]
[]
[]
[]
[]
[]
[]
[]
[]
[]
[]
[]
[]
[]
[]
[]
[]
[]
[]
[]
[]
[]
[]
[]
[]
[]
[]
[]
[]
[]
[]
[]
[]
[]
[]
[]
[]
[]
[]
[]
[]
[]
[]
[]
[]
[]
[]
[]
[]
[]
[]
[]
[]
[]
[]
[]
[]
[]
[]
[]
[]
[]
[]
[]
[]
[]
[]
[]
[]
[]
[]
[]
[]
[]
[]
[]
[]
[]
[]
[]
[]
[]
[]
[]
[]
[]
[]
[]
[]
[]
[]
[]
[]
[]
[]
[]
[]
[]
[]
[]
[]
[]
[]
[]
[]
[]
[]
[]
[]
[]
[]
[]
[]
[]
[]
[]
[]
[]
[]
[]
[]
[]
[]
[]
[]
[]
[]
[]
[]
[]
[]
[]
[]
[]
[]
[]
[]
[]
[]
[]
[]
[]
[]
[]
[]
[]
[]
[]
[]
[]
[]
[]
[]
[]
[]
[]
[]
[]
[]
[]
[]
[]
[]
[]
[]
[]
[]
[]
[]
[]
[]
[]
[]
[]
[]
[]
[]
[]
[]
[]
[]
[]
[]
[]
[]
[]
[]
[]
[]
[]
[]
[]
[]
[]
[]
[]
[]
[]
[]
[]
[]
[]
[]
[]
[]
[]
[]
[]
[]
[]
[]
[]
[]
[]
[]
[]
[]
[]
[]
[]
[]
[]
[]
[]
[]
[]
[]
[]
[]
[]
[]
[]
[]
[]
[]
[]
[]
[]
[]
[]
[]
[]
[]
[]
[]
[]
[]
[]
[]
[]
[]
[]
[]
[]
[]
[]
[]
[]
[]
[]
[]
[]
[]
[]
[]
[]
[]
[]
[]
[]
[]
[]
[]
[]
[]
[]
[]
[]
[]
[]
[]
[]
[]
[]
[]
[]
[]
[]
[]
[]
[]
[]
[]
[]
[]
[]
[]
[]
[]
[]
[]
[]
[]
[]
[]
[]
[]
[]
[]
[]
[]
[]
[]
[]
[]
[]
[]
[]
[]
[]
[]
[]
[]
[]
[]
[]
[]
[]
[]
[]
[]
[]
[]
[]
[]
[]
[]
[]
[]
[]
[]
[]
[]
[]
[]
[]
[]
[]
[]
[]
[]
[]
[]
[]
[]
[]
[]
[]
[]
[]
[]
[]
[]
[]
[]
[]
[]
[]
[]
[]
[]
[]
[]
[]
[]
[]
[]
[]
[]
[]
[]
[]
[]
[]
[]
[]
[]
[]
[]
[]
[]
[]
[]
[]
[]
[]
[]
[]
[]
[]
[]
[]
[]
[]
[]
[]
[]
[]
[]
[]
[]
[]
[]
[]
[]
[]
[]
[]
[]
[]
[]
[]
[]
[]
[]
[]
[]
[]
[]
[]
[]
[]
[]
[]
[]
[]
[]
[]
[]
[]
[]
[]
[]
[]
[]
[]
[]
[]
[]
[]
[]
[]
[]
[]
[]
[]
[]
[]
[]
[]
[]
[]
[]
[]
[]
[]
[]
[]
[]
[]
[]
[]
[]
[]
[]
[]
[]
[]
[]
[]
[]
[]
[]
[]
[]
[]
[]
[]
[]
[]
[]
[]
[]
[]
[]
[]
[]
[]
[]
[]
[]
[]
[]
[]
[]
[]
[]
[]
[]
[]
[]
[]
[]
[]
[]
[]
[]
[]
[]
[]
[]
[]
[]
[]
[]
[]
[]
[]
[]
[]
[]
[]
[]
[]
[]
[]
[]
[]
[]
[]
[]
[]
[]
[]
[]
[]
[]
[]
[]
[]
[]
[]
[]
[]
[]
[]
[]
[]
[]
[]
[]
[]
[]
[]
[]
[]
[]
[]
[]
[]
[]
[]
[]
[]
[]
[]
[]
[]
[]
[]
[]
[]
[]
[]
[]
[]
[]
[]
[]
[]
[]
[]
[]
[]
[]
[]
[]
[]
[]
[]
[]
[]
[]
[]
[]
[]
[]
[]
[]
[]
[]
[]
[]
[]
[]
[]
[]
[]
[]
[]
[]
[]
[]
[]
[]
[]
[]
[]
[]
[]
[]
[]
[]
[]
[]
[]
[]
[]
[]
[]
[]
[]
[]
[]
[]
[]
[]
[]
[]
[]
[]
[]
[]
[]
[]
[]
[]
[]
[]
[]
[]
[]
[]
[]
[]
[]
[]
[]
[]
[]
[]
[]
[]
[]
[]
[]
[]
[]
[]
[]
[]
[]
[]
[]
[]
[]
[]
[]
[]
[]
[]
[]
[]
[]
[]
[]
[]
[]
[]
[]
[]
[]
[]
[]
[]
[]
[]
[]
[]
[]
[]
[]
[]
[]
[]
[]
[]
[]
[]
[]
[]
[]
[]
[]
[]
[]
[]
[]
[]
[]
[]
[]
[]
[]
[]
[]
[]
[]
[]
[]
[]
[]
[]
[]
[]
[]
[]
[]
[]
[]
[]
[]
[]
[]
[]
[]
[]
[]
[]
[]
[]
[]
[]
[]
[]
[]
[]
[]
[]
[]
[]
[]
[]
[]
[]
[]
[]
[]
[]
[]
[]
[]
[]
[]
[]
[]
[]
[]
[]
[]
[]
[]
[]
[]
[]
[]
[]
[]
[]
[]
[]
[]
[]
[]
[]
[]
[]
[]
[]
[]
[]
[]
[]
[]
[]
[]
[]
[]
[]
[]
[]
[]
[]
[]
[]
[]
[]
[]
[]
[]
[]
[]
[]
[]
[]
[]
[]
[]
[]
[]
[]
[]
[]
[]
[]
[]
[]
[]
[]
[]
[]
[]
[]
[]
[]
[]
[]
[]
[]
[]
[]
[]
[]
[]
[]
[]
[]
[]
[]
[]
[]
[]
[]
[]
[]
[]
[]
[]
[]
[]
[]
[]
[]
[]
[]
[]
[]
[]
[]
[]
[]
[]
[]
[]
[]
[]
[]
[]
[]
[]
[]
[]
[]
[]
[]
[]
[]
[]
[]
[]
[]
[]
[]
[]
[]
[]
[]
[]
[]
[]
[]
[]
[]
[]
[]
[]
[]
[]
[]
[]
[]
[]
[]
[]
[]
[]
[]
[]
[]
[]
[]
[]
[]
[]
[]
[]
[]
[]
[]
[]
[]
[]
[]
[]
[]
[]
[]
[]
[]
[]
[]
[]
[]
[]
[]
[]
[]
[]
[]
[]
[]
[]
[]
[]
[]
[]
[]
[]
[]
[]
[]
[]
[]
[]
[]
[]
[]
[]
[]
[]
[]
[]
[]
[]
[]
[]
[]
[]
[]
[]
[]
[]
[]
[]
[]
[]
[]
[]
[]
[]
[]
[]
[]
[]
[]
[]
[]
[]
[]
[]
[]
[]
[]
[]
[]
[]
[]
[]
[]
[]
[]
[]
[]
[]
[]
[]
[]
[]
[]
[]
[]
[]
[]
[]
[]
[]
[]
[]
[]
[]
[]
[]
[]
[]
[]
[]
[]
[]
[]
[]
[]
[]
[]
[]
[]
[]
[]
[]
[]
[]
[]
[]
[]
[]
[]
[]
[]
[]
[]
[]
[]
[]
[]
[]
[]
[]
[]
[]
[]
[]
[]
[]
[]
[]
[]
[]
[]
[]
[]
[]
[]
[]
[]
[]
[]
[]
[]
[]
[]
[]
[]
[]
[]
[]
[]
[]
[]
[]
[]
[]
[]
[]
[]
[]
[]
[]
[]
[]
[]
[]
[]
[]
[]
[]
[]
[]
[]
[]
[]
[]
[]
[]
[]
[]
[]
[]
[]
[]
[]
[]
[]
[]
[]
[]
[]
[]
[]
[]
[]
[]
[]
[]
[]
[]
[]
[]
[]
[]
[]
[]
[]
[]
[]
[]
[]
[]
[]
[]
[]
[]
[]
[]
[]
[]
[]
[]
[]
[]
[]
[]
[]
[]
[]
[]
[]
[]
[]
[]
[]
[]
[]
[]
[]
[]
[]
[]
[]
[]
[]
[]
[]
[]
[]
[]
[]
[]
[]
[]
[]
[]
[]
[]
[]
[]
[]
[]
[]
[]
[]
[]
[]
[]
[]
[]
[]
[]
[]
[]
[]
[]
[]
[]
[]
[]
[]
[]
[]
[]
[]
[]
[]
[]
[]
[]
[]
[]
[]
[]
[]
[]
[]
[]
[]
[]
[]
[]
[]
[]
[]
[]
[]
[]
[]
[]
[]
[]
[]
[]
[]
[]
[]
[]
[]
[]
[]
[]
[]
[]
[]
[]
[]
[]
[]
[]
[]
[]
[]
[]
[]
[]
[]
[]
[]
[]
[]
[]
[]
[]
[]
[]
[]
[]
[]
[]
[]
[]
[]
[]
[]
[]
[]
[]
[]
[]
[]
[]
[]
[]
[]
[]
[]
[]
[]
[]
[]
[]
[]
[]
[]
[]
[]
[]
[]
[]
[]
[]
[]
[]
[]
[]
[]
[]
[]
[]
[]
[]
[]
[]
[]
[]
[]
[]
[]
[]
[]
[]
[]
[]
[]
[]
[]
[]
[]
[]
[]
[]
[]
[]
[]
[]
[]
[]
[]
[]
[]
[]
[]
[]
[]
[]
[]
[]
[]
[]
[]
[]
[]
[]
[]
[]
[]
[]
[]
[]
[]
[]
[]
[]
[]
[]
[]
[]
[]
[]
[]
[]
[]
[]
[]
[]
[]
[]
[]
[]
[]
[]
[]
[]
[]
[]
[]
[]
[]
[]
[]
[]
[]
[]
[]
[]
[]
[]
[]
[]
[]
[]
[]
[]
[]
[]
[]
[]
[]
[]
[]
[]
[]
[]
[]
[]
[]
[]
[]
[]
[]
[]
[]
[]
[]
[]
[]
[]
[]
[]
[]
[]
[]
[]
[]
[]
[]
[]
[]
[]
[]
[]
[]
[]
[]
[]
[]
[]
[]
[]
[]
[]
[]
[]
[]
[]
[]
[]
[]
[]
[]
[]
[]
[]
[]
[]
[]
[]
[]
[]
[]
[]
[]
[]
[]
[]
[]
[]
[]
[]
[]
[]
[]
[]
[]
[]
[]
[]
[]
[]
[]
[]
[]
[]
[]
[]
[]
[]
[]
[]
[]
[]
[]
[]
[]
[]
[]
[]
[]
[]
[]
[]
[]
[]
[]
[]
[]
[]
[]
[]
[]
[]
[]
[]
[]
[]
[]
[]
[]
[]
[]
[]
[]
[]
[]
[]
[]
[]
[]
[]
[]
[]
[]
[]
[]
[]
[]
[]
[]
[]
[]
[]
[]
[]
[]
[]
[]
[]
[]
[]
[]
[]
[]
[]
[]
[]
[]
[]
[]
[]
[]
[]
[]
[]
[]
[]
[]
[]
[]
[]
[]
[]
[]
[]
[]
[]
[]
[]
[]
[]
[]
[]
[]
[]
[]
[]
[]
[]
[]
[]
[]
[]
[]
[]
[]
[]
[]
[]
[]
[]
[]
[]
[]
[]
[]
[]
[]
[]
[]
[]
[]
[]
[]
[]
[]
[]
[]
[]
[]
[]
[]
[]
[]
[]
[]
[]
[]
[]
[]
[]
[]
[]
[]
[]
[]
[]
[]
[]
[]
[]
[]
[]
[]
[]
[]
[]
[]
[]
[]
[]
[]
[]
[]
[]
[]
[]
[]
[]
[]
[]
[]
[]
[]
[]
[]
[]
[]
[]
[]
[]
[]
[]
[]
[]
[]
[]
[]
[]
[]
[]
[]
[]
[]
[]
[]
[]
[]
[]
[]
[]
[]
[]
[]
[]
[]
[]
[]
[]
[]
[]
[]
[]
[]
[]
[]
[]
[]
[]
[]
[]
[]
[]
[]
[]
[]
[]
[]
[]
[]
[]
[]
[]
[]
[]
[]
[]
[]
[]
[]
[]
[]
[]
[]
[]
[]
[]
[]
[]
[]
[]
[]
[]
[]
[]
[]
[]
[]
[]
[]
[]
[]
[]
[]
[]
[]
[]
[]
[]
[]
[]
[]
[]
[]
[]
[]
[]
[]
[]
[]
[]
[]
[]
[]
[]
[]
[]
[]
[]
[]
[]
[]
[]
[]
[]
[]
[]
[]
[]
[]
[]
[]
[]
[]
[]
[]
[]
[]
[]
[]
[]
[]
[]
[]
[]
[]
[]
[]
[]
[]
[]
[]
[]
[]
[]
[]
[]
[]
[]
[]
[]
[]
[]
[]
[]
[]
[]
[]
[]
[]
[]
[]
[]
[]
[]
[]
[]
[]
[]
[]
[]
[]
[]
[]
[]
[]
[]
[]
[]
[]
[]
[]
[]
[]
[]
[]
[]
[]
[]
[]
[]
[]
[]
[]
[]
[]
[]
[]
[]
[]
[]
[]
[]
[]
[]
[]
[]
[]
[]
[]
[]
[]
[]
[]
[]
[]
[]
[]
[]
[]
[]
[]
[]
[]
[]
[]
[]
[]
[]
[]
[]
[]
[]
[]
[]
[]
[]
[]
[]
[]
[]
[]
[]
[]
[]
[]
[]
[]
[]
[]
[]
[]
[]
[]
[]
[]
[]
[]
[]
[]
[]
[]
[]
[]
[]
[]
[]
[]
[]
[]
[]
[]
[]
[]
[]
[]
[]
[]
[]
[]
[]
[]
[]
[]
[]
[]
[]
[]
[]
[]
[]
[]
[]
[]
[]
[]
[]
[]
[]
[]
[]
[]
[]
[]
[]
[]
[]
[]
[]
[]
[]
[]
[]
[]
[]
[]
[]
[]
[]
[]
[]
[]
[]
[]
[]
[]
[]
[]
[]
[]
[]
[]
[]
[]
[]
[]
[]
[]
[]
[]
[]
[]
[]
[]
[]
[]
[]
[]
[]
[]
[]
[]
[]
[]
[]
[]
[]
[]
[]
[]
[]
[]
[]
[]
[]
[]
[]
[]
[]
[]
[]
[]
[]
[]
[]
[]
[]
[]
[]
[]
[]
[]
[]
[]
[]
[]
[]
[]
[]
[]
[]
[]
[]
[]
[]
[]
[]
[]
[]
[]
[]
[]
[]
[]
[]
[]
[]
[]
[]
[]
[]
[]
[]
[]
[]
[]
[]
[]
[]
[]
[]
[]
[]
[]
[]
[]
[]
[]
[]
[]
[]
[]
[]
[]
[]
[]
[]
[]
[]
[]
[]
[]
[]
[]
[]
[]
[]
[]
[]
[]
[]
[]
[]
[]
[]
[]
[]
[]
[]
[]
[]
[]
[]
[]
[]
[]
[]
[]
[]
[]
[]
[]
[]
[]
[]
[]
[]
[]
[]
[]
[]
[]
[]
[]
[]
[]
[]
[]
[]
[]
[]
[]
[]
[]
[]
[]
[]
[]
[]
[]
[]
[]
[]
[]
[]
[]
[]
[]
[]
[]
[]
[]
[]
[]
[]
[]
[]
[]
[]
[]
[]
[]
[]
[]
[]
[]
[]
[]
[]
[]
[]
[]
[]
[]
[]
[]
[]
[]
[]
[]
[]
[]
[]
[]
[]
[]
[]
[]
[]
[]
[]
[]
[]
[]
[]
[]
[]
[]
[]
[]
[]
[]
[]
[]
[]
[]
[]
[]
[]
[]
[]
[]
[]
[]
[]
[]
[]
[]
[]
[]
[]
[]
[]
[]
[]
[]
[]
[]
[]
[]
[]
[]
[]
[]
[]
[]
[]
[]
[]
[]
[]
[]
[]
[]
[]
[]
[]
[]
[]
[]
[]
[]
[]
[]
[]
[]
[]
[]
[]
[]
[]
[]
[]
[]
[]
[]
[]
[]
[]
[]
[]
[]
[]
[]
[]
[]
[]
[]
[]
[]
[]
[]
[]
[]
[]
[]
[]
[]
[]
[]
[]
[]
[]
[]
[]
[]
[]
[]
[]
[]
[]
[]
[]
[]
[]
[]
[]
[]
[]
[]
[]
[]
[]
[]
[]
[]
[]
[]
[]
[]
[]
[]
[]
[]
[]
[]
[]
[]
[]
[]
[]
[]
[]
[]
[]
[]
[]
[]
[]
[]
[]
[]
[]
[]
[]
[]
[]
[]
[]
[]
[]
[]
[]
[]
[]
[]
[]
[]
[]
[]
[]
[]
[]
[]
[]
[]
[]
[]
[]
[]
[]
[]
[]
[]
[]
[]
[]
[]
[]
[]
[]
[]
[]
[]
[]
[]
[]
[]
[]
[]
[]
[]
[]
[]
[]
[]
[]
[]
[]
[]
[]
[]
[]
[]
[]
[]
[]
[]
[]
[]
[]
[]
[]
[]
[]
[]
[]
[]
[]
[]
[]
[]
[]
[]
[]
[]
[]
[]
[]
[]
[]
[]
[]
[]
[]
[]
[]
[]
[]
[]
[]
[]
[]
[]
[]
[]
[]
[]
[]
[]
[]
[]
[]
[]
[]
[]
[]
[]
[]
[]
[]
[]
[]
[]
[]
[]
[]
[]
[]
[]
[]
[]
[]
[]
[]
[]
[]
[]
[]
[]
[]
[]
[]
[]
[]
[]
[]
[]
[]
[]
[]
[]
[]
[]
[]
[]
[]
[]
[]
[]
[]
[]
[]
[]
[]
[]
[]
[]
[]
[]
[]
[]
[]
[]
[]
[]
[]
[]
[]
[]
[]
[]
[]
[]
[]
[]
[]
[]
[]
[]
[]
[]
[]
[]
[]
[]
[]
[]
[]
[]
[]
[]
[]
[]
[]
[]
[]
[]
[]
[]
[]
[]
[]
[]
[]
[]
[]
[]
[]
[]
[]
[]
[]
[]
[]
[]
[]
[]
[]
[]
[]
[]
[]
[]
[]
[]
[]
[]
[]
[]
[]
[]
[]
[]
[]
[]
[]
[]
[]
[]
[]
[]
[]
[]
[]
[]
[]
[]
[]
[]
[]
[]
[]
[]
[]
[]
[]
[]
[]
[]
[]
[]
[]
[]
[]
[]
[]
[]
[]
[]
[]
[]
[]
[]
[]
[]
[]
[]
[]
[]
[]
[]
[]
[]
[]
[]
[]
[]
[]
[]
[]
[]
[]
[]
[]
[]
[]
[]
[]
[]
[]
[]
[]
[]
[]
[]
[]
[]
[]
[]
[]
[]
[]
[]
[]
[]
[]
[]
[]
[]
[]
[]
[]
[]
[]
[]
[]
[]
[]
[]
[]
[]
[]
[]
[]
[]
[]
[]
[]
[]
[]
[]
[]
[]
[]
[]
[]
[]
[]
[]
[]
[]
[]
[]
[]
[]
[]
[]
[]
[]
[]
[]
[]
[]
[]
[]
[]
[]
[]
[]
[]
[]
[]
[]
[]
[]
[]
[]
[]
[]
[]
[]
[]
[]
[]
[]
[]
[]
[]
[]
[]
[]
[]
[]
[]
[]
[]
[]
[]
[]
[]
[]
[]
[]
[]
[]
[]
[]
[]
[]
[]
[]
[]
[]
[]
[]
[]
[]
[]
[]
[]
[]
[]
[]
[]
[]
[]
[]
[]
[]
[]
[]
[]
[]
[]
[]
[]
[]
[]
[]
[]
[]
[]
[]
[]
[]
[]
[]
[]
[]
[]
[]
[]
[]
[]
[]
[]
[]
[]
[]
[]
[]
[]
[]
[]
[]
[]
[]
[]
[]
[]
[]
[]
[]
[]
[]
[]
[]
[]
[]
[]
[]
[]
[]
[]
[]
[]
[]
[]
[]
[]
[]
[]
[]
[]
[]
[]
[]
[]
[]
[]
[]
[]
[]
[]
[]
[]
[]
[]
[]
[]
[]
[]
[]
[]
[]
[]
[]
[]
[]
[]
[]
[]
[]
[]
[]
[]
[]
[]
[]
[]
[]
[]
[]
[]
[]
[]
[]
[]
[]
[]
[]
[]
[]
[]
[]
[]
[]
[]
[]
[]
[]
[]
[]
[]
[]
[]
[]
[]
[]
[]
[]
[]
[]
[]
[]
[]
[]
[]
[]
[]
[]
[]
[]
[]
[]
[]
[]
[]
[]
[]
[]
[]
[]
[]
[]
[]
[]
[]
[]
[]
[]
[]
[]
[]
[]
[]
[]
[]
[]
[]
[]
[]
[]
[]
[]
[]
[]
[]
[]
[]
[]
[]
[]
[]
[]
[]
[]
[]
[]
[]
[]
[]
[]
[]
[]
[]
[]
[]
[]
[]
[]
[]
[]
[]
[]
[]
[]
[]
[]
[]
[]
[]
[]
[]
[]
[]
[]
[]
[]
[]
[]
[]
[]
[]
[]
[]
[]
[]
[]
[]
[]
[]
[]
[]
[]
[]
[]
[]
[]
[]
[]
[]
[]
[]
[]
[]
[]
[]
[]
[]
[]
[]
[]
[]
[]
[]
[]
[]
[]
[]
[]
[]
[]
[]
[]
[]
[]
[]
[]
[]
[]
[]
[]
[]
[]
[]
[]
[]
[]
[]
[]
[]
[]
[]
[]
[]
[]
[]
[]
[]
[]
[]
[]
[]
[]
[]
[]
[]
[]
[]
[]
[]
[]
[]
[]
[]
[]
[]
[]
[]
[]
[]
[]
[]
[]
[]
[]
[]
[]
[]
[]
[]
[]
[]
[]
[]
[]
[]
[]
[]
[]
[]
[]
[]
[]
[]
[]
[]
[]
[]
[]
[]
[]
[]
[]
[]
[]
[]
[]
[]
[]
[]
[]
[]
[]
[]
[]
[]
[]
[]
[]
[]
[]
[]
[]
[]
[]
[]
[]
[]
[]
[]
[]
[]
[]
[]
[]
[]
[]
[]
[]
[]
[]
[]
[]
[]
[]
[]
[]
[]
[]
[]
[]
[]
[]
[]
[]
[]
[]
[]
[]
[]
[]
[]
[]
[]
[]
[]
[]
[]
[]
[]
[]
[]
[]
[]
[]
[]
[]
[]
[]
[]
[]
[]
[]
[]
[]
[]
[]
[]
[]
[]
[]
[]
[]
[]
[]
[]
[]
[]
[]
[]
[]
[]
[]
[]
[]
[]
[]
[]
[]
[]
[]
[]
[]
[]
[]
[]
[]
[]
[]
[]
[]
[]
[]
[]
[]
[]
[]
[]
[]
[]
[]
[]
[]
[]
[]
[]
[]
[]
[]
[]
[]
[]
[]
[]
[]
[]
[]
[]
[]
[]
[]
[]
[]
[]
[]
[]
[]
[]
[]
[]
[]
[]
[]
[]
[]
[]
[]
[]
[]
[]
[]
[]
[]
[]
[]
[]
[]
[]
[]
[]
[]
[]
[]
[]
[]
[]
[]
[]
[]
[]
[]
[]
[]
[]
[]
[]
[]
[]
[]
[]
[]
[]
[]
[]
[]
[]
[]
[]
[]
[]
[]
[]
[]
[]
[]
[]
[]
[]
[]
[]
[]
[]
[]
[]
[]
[]
[]
[]
[]
[]
[]
[]
[]
[]
[]
[]
[]
[]
[]
[]
[]
[]
[]
[]
[]
[]
[]
[]
[]
[]
[]
[]
[]
[]
[]
[]
[]
[]
[]
[]
[]
[]
[]
[]
[]
[]
[]
[]
[]
[]
[]
[]
[]
[]
[]
[]
[]
[]
[]
[]
[]
[]
[]
[]
[]
[]
[]
[]
[]
[]
[]
[]
[]
[]
[]
[]
[]
[]
[]
[]
[]
[]
[]
[]
[]
[]
[]
[]
[]
[]
[]
[]
[]
[]
[]
[]
[]
[]
[]
[]
[]
[]
[]
[]
[]
[]
[]
[]
[]
[]
[]
[]
[]
[]
[]
[]
[]
[]
[]
[]
[]
[]
[]
[]
[]
[]
[]
[]
[]
[]
[]
[]
[]
[]
[]
[]
[]
[]
[]
[]
[]
[]
[]
[]
[]
[]
[]
[]
[]
[]
[]
[]
[]
[]
[]
[]
[]
[]
[]
[]
[]
[]
[]
[]
[]
[]
[]
[]
[]
[]
[]
[]
[]
[]
[]
[]
[]
[]
[]
[]
[]
[]
[]
[]
[]
[]
[]
[]
[]
[]
[]
[]
[]
[]
[]
[]
[]
[]
[]
[]
[]
[]
[]
[]
[]
[]
[]
[]
[]
[]
[]
[]
[]
[]
[]
[]
[]
[]
[]
[]
[]
[]
[]
[]
[]
[]
[]
[]
[]
[]
[]
[]
[]
[]
[]
[]
[]
[]
[]
[]
[]
[]
[]
[]
[]
[]
[]
[]
[]
[]
[]
[]
[]
[]
[]
[]
[]
[]
[]
[]
[]
[]
[]
[]
[]
[]
[]
[]
[]
[]
[]
[]
[]
[]
[]
[]
[]
[]
[]
[]
[]
[]
[]
[]
[]
[]
[]
[]
[]
[]
[]
[]
[]
[]
[]
[]
[]
[]
[]
[]
[]
[]
[]
[]
[]
[]
[]
[]
[]
[]
[]
[]
[]
[]
[]
[]
[]
[]
[]
[]
[]
[]
[]
[]
[]
[]
[]
[]
[]
[]
[]
[]
[]
[]
[]
[]
[]
[]
[]
[]
[]
[]
[]
[]
[]
[]
[]
[]
[]
[]
[]
[]
[]
[]
[]
[]
[]
[]
[]
[]
[]
[]
[]
[]
[]
[]
[]
[]
[]
[]
[]
[]
[]
[]
[]
[]
[]
[]
[]
[]
[]
[]
[]
[]
[]
[]
[]
[]
[]
[]
[]
[]
[]
[]
[]
[]
[]
[]
[]
[]
[]
[]
[]
[]
[]
[]
[]
[]
[]
[]
[]
[]
[]
[]
[]
[]
[]
[]
[]
[]
[]
[]
[]
[]
[]
[]
[]
[]
[]
[]
[]
[]
[]
[]
[]
[]
[]
[]
[]
[]
[]
[]
[]
[]
[]
[]
[]
[]
[]
[]
[]
[]
[]
[]
[]
[]
[]
[]
[]
[]
[]
[]
[]
[]
[]
[]
[]
[]
[]
[]
[]
[]
[]
[]
[]
[]
[]
[]
[]
[]
[]
[]
[]
[]
[]
[]
[]
[]
[]
[]
[]
[]
[]
[]
[]
[]
[]
[]
[]
[]
[]
[]
[]
[]
[]
[]
[]
[]
[]
[]
[]
[]
[]
[]
[]
[]
[]
[]
[]
[]
[]
[]
[]
[]
[]
[]
[]
[]
[]
[]
[]
[]
[]
[]
[]
[]
[]
[]
[]
[]
[]
[]
[]
[]
[]
[]
[]
[]
[]
[]
[]
[]
[]
[]
[]
[]
[]
[]
[]
[]
[]
[]
[]
[]
[]
[]
[]
[]
[]
[]
[]
[]
[]
[]
[]
[]
[]
[]
[]
[]
[]
[]
[]
[]
[]
[]
[]
[]
[]
[]
[]
[]
[]
[]
[]
[]
[]
[]
[]
[]
[]
[]
[]
[]
[]
[]
[]
[]
[]
[]
[]
[]
[]
[]
[]
[]
[]
[]
[]
[]
[]
[]
[]
[]
[]
[]
[]
[]
[]
[]
[]
[]
[]
[]
[]
[]
[]
[]
[]
[]
[]
[]
[]
[]
[]
[]
[]
[]
[]
[]
[]
[]
[]
[]
[]
[]
[]
[]
[]
[]
[]
[]
[]
[]
[]
[]
[]
[]
[]
[]
[]
[]
[]
[]
[]
[]
[]
[]
[]
[]
[]
[]
[]
[]
[]
[]
[]
[]
[]
[]
[]
[]
[]
[]
[]
[]
[]
[]
[]
[]
[]
[]
[]
[]
[]
[]
[]
[]
[]
[]
[]
[]
[]
[]
[]
[]
[]
[]
[]
[]
[]
[]
[]
[]
[]
[]
[]
[]
[]
[]
[]
[]
[]
[]
[]
[]
[]
[]
[]
[]
[]
[]
[]
[]
[]
[]
[]
[]
[]
[]
[]
[]
[]
[]
[]
[]
[]
[]
[]
[]
[]
[]
[]
[]
[]
[]
[]
[]
[]
[]
[]
[]
[]
[]
[]
[]
[]
[]
[]
[]
[]
[]
[]
[]
[]
[]
[]
[]
[]
[]
[]
[]
[]
[]
[]
[]
[]
[]
[]
[]
[]
[]
[]
[]
[]
[]
[]
[]
[]
[]
[]
[]
[]
[]
[]
[]
[]
[]
[]
[]
[]
[]
[]
[]
[]
[]
[]
[]
[]
[]
[]
[]
[]
[]
[]
[]
[]
[]
[]
[]
[]
[]
[]
[]
[]
[]
[]
[]
[]
[]
[]
[]
[]
[]
[]
[]
[]
[]
[]
[]
[]
[]
[]
[]
[]
[]
[]
[]
[]
[]
[]
[]
[]
[]
[]
[]
[]
[]
[]
[]
[]
[]
[]
[]
[]
[]
[]
[]
[]
[]
[]
[]
[]
[]
[]
[]
[]
[]
[]
[]
[]
[]
[]
[]
[]
[]
[]
[]
[]
[]
[]
[]
[]
[]
[]
[]
[]
[]
[]
[]
[]
[]
[]
[]
[]
[]
[]
[]
[]
[]
[]
[]
[]
[]
[]
[]
[]
[]
[]
[]
[]
[]
[]
[]
[]
[]
[]
[]
[]
[]
[]
[]
[]
[]
[]
[]
[]
[]
[]
[]
[]
[]
[]
[]
[]
[]
[]
[]
[]
[]
[]
[]
[]
[]
[]
[]
[]
[]
[]
[]
[]
[]
[]
[]
[]
[]
[]
[]
[]
[]
[]
[]
[]
[]
[]
[]
[]
[]
[]
[]
[]
[]
[]
[]
[]
[]
[]
[]
[]
[]
[]
[]
[]
[]
[]
[]
[]
[]
[]
[]
[]
[]
[]
[]
[]
[]
[]
[]
[]
[]
[]
[]
[]
[]
[]
[]
[]
[]
[]
[]
[]
[]
[]
[]
[]
[]
[]
[]
[]
[]
[]
[]
[]
[]
[]
[]
[]
[]
[]
[]
[]
[]
[]
[]
[]
[]
[]
[]
[]
[]
[]
[]
[]
[]
[]
[]
[]
[]
[]
[]
[]
[]
[]
[]
[]
[]
[]
[]
[]
[]
[]
[]
[]
[]
[]
[]
[]
[]
[]
[]
[]
[]
[]
[]
[]
[]
[]
[]
[]
[]
[]
[]
[]
[]
[]
[]
[]
[]
[]
[]
[]
[]
[]
[]
[]
[]
[]
[]
[]
[]
[]
[]
[]
[]
[]
[]
[]
[]
[]
[]
[]
[]
[]
[]
[]
[]
[]
[]
[]
[]
[]
[]
[]
[]
[]
[]
[]
[]
[]
[]
[]
[]
[]
[]
[]
[]
[]
[]
[]
[]
[]
[]
[]
[]
[]
[]
[]
[]
[]
[]
[]
[]
[]
[]
[]
[]
[]
[]
[]
[]
[]
[]
[]
[]
[]
[]
[]
[]
[]
[]
[]
[]
[]
[]
[]
[]
[]
[]
[]
[]
[]
[]
[]
[]
[]
[]
[]
[]
[]
[]
[]
[]
[]
[]
[]
[]
[]
[]
[]
[]
[]
[]
[]
[]
[]
[]
[]
[]
[]
[]
[]
[]
[]
[]
[]
[]
[]
[]
[]
[]
[]
[]
[]
[]
[]
[]
[]
[]
[]
[]
[]
[]
[]
[]
[]
[]
[]
[]
[]
[]
[]
[]
[]
[]
[]
[]
[]
[]
[]
[]
[]
[]
[]
[]
[]
[]
[]
[]
[]
[]
[]
[]
[]
[]
[]
[]
[]
[]
[]
[]
[]
[]
[]
[]
[]
[]
[]
[]
[]
[]
[]
[]
[]
[]
[]
[]
[]
[]
[]
[]
[]
[]
[]
[]
[]
[]
[]
[]
[]
[]
[]
[]
[]
[]
[]
[]
[]
[]
[]
[]
[]
[]
[]
[]
[]
[]
[]
[]
[]
[]
[]
[]
[]
[]
[]
[]
[]
[]
[]
[]
[]
[]
[]
[]
[]
[]
[]
[]
[]
[]
[]
[]
[]
[]
[]
[]
[]
[]
[]
[]
[]
[]
[]
[]
[]
[]
[]
[]
[]
[]
[]
[]
[]
[]
[]
[]
[]
[]
[]
[]
[]
[]
[]
[]
[]
[]
[]
[]
[]
[]
[]
[]
[]
[]
[]
[]
[]
[]
[]
[]
[]
[]
[]
[]
[]
[]
[]
[]
[]
[]
[]
[]
[]
[]
[]
[]
[]
[]
[]
[]
[]
[]
[]
[]
[]
[]
[]
[]
[]
[]
[]
[]
[]
[]
[]
[]
[]
[]
[]
[]
[]
[]
[]
[]
[]
[]
[]
[]
[]
[]
[]
[]
[]
[]
[]
[]
[]
[]
[]
[]
[]
[]
[]
[]
[]
[]
[]
[]
[]
[]
[]
[]
[]
[]
[]
[]
[]
[]
[]
[]
[]
[]
[]
[]
[]
[]
[]
[]
[]
[]
[]
[]
[]
[]
[]
[]
[]
[]
[]
[]
[]
[]
[]
[]
[]
[]
[]
[]
[]
[]
[]
[]
[]
[]
[]
[]
[]
[]
[]
[]
[]
[]
[]
[]
[]
[]
[]
[]
[]
[]
[]
[]
[]
[]
[]
[]
[]
[]
[]
[]
[]
[]
[]
[]
[]
[]
[]
[]
[]
[]
[]
[]
[]
[]
[]
[]
[]
[]
[]
[]
[]
[]
[]
[]
[]
[]
[]
[]
[]
[]
[]
[]
[]
[]
[]
[]
[]
[]
[]
[]
[]
[]
[]
[]
[]
[]
[]
[]
[]
[]
[]
[]
[]
[]
[]
[]
[]
[]
[]
[]
[]
[]
[]
[]
[]
[]
[]
[]
[]
[]
[]
[]
[]
[]
[]
[]
[]
[]
[]
[]
[]
[]
[]
[]
[]
[]
[]
[]
[]
[]
[]
[]
[]
[]
[]
[]
[]
[]
[]
[]
[]
[]
[]
[]
[]
[]
[]
[]
[]
[]
[]
[]
[]
[]
[]
[]
[]
[]
[]
[]
[]
[]
[]
[]
[]
[]
[]
[]
[]
[]
[]
[]
[]
[]
[]
[]
[]
[]
[]
[]
[]
[]
[]
[]
[]
[]
[]
[]
[]
[]
[]
[]
[]
[]
[]
[]
[]
[]
[]
[]
[]
[]
[]
[]
[]
[]
[]
[]
[]
[]
[]
[]
[]
[]
[]
[]
[]
[]
[]
[]
[]
[]
[]
[]
[]
[]
[]
[]
[]
[]
[]
[]
[]
[]
[]
[]
[]
[]
[]
[]
[]
[]
[]
[]
[]
[]
[]
[]
[]
[]
[]
[]
[]
[]
[]
[]
[]
[]
[]
[]
[]
[]
[]
[]
[]
[]
[]
[]
[]
[]
[]
[]
[]
[]
[]
[]
[]
[]
[]
[]
[]
[]
[]
[]
[]
[]
[]
[]
[]
[]
[]
[]
[]
[]
[]
[]
[]
[]
[]
[]
[]
[]
[]
[]
[]
[]
[]
[]
[]
[]
[]
[]
[]
[]
[]
[]
[]
[]
[]
[]
[]
[]
[]
[]
[]
[]
[]
[]
[]
[]
[]
[]
[]
[]
[]
[]
[]
[]
[]
[]
[]
[]
[]
[]
[]
[]
[]
[]
[]
[]
[]
[]
[]
[]
[]
[]
[]
[]
[]
[]
[]
[]
[]
[]
[]
[]
[]
[]
[]
[]
[]
[]
[]
[]
[]
[]
[]
[]
[]
[]
[]
[]
[]
[]
[]
[]
[]
[]
[]
[]
[]
[]
[]
[]
[]
[]
[]
[]
[]
[]
[]
[]
[]
[]
[]
[]
[]
[]
[]
[]
[]
[]
[]
[]
[]
[]
[]
[]
[]
[]
[]
[]
[]
[]
[]
[]
[]
[]
[]
[]
[]
[]
[]
[]
[]
[]
[]
[]
[]
[]
[]
[]
[]
[]
[]
[]
[]
[]
[]
[]
[]
[]
[]
[]
[]
[]
[]
[]
[]
[]
[]
[]
[]
[]
[]
[]
[]
[]
[]
[]
[]
[]
[]
[]
[]
[]
[]
[]
[]
[]
[]
[]
[]
[]
[]
[]
[]
[]
[]
[]
[]
[]
[]
[]
[]
[]
[]
[]
[]
[]
[]
[]
[]
[]
[]
[]
[]
[]
[]
[]
[]
[]
[]
[]
[]
[]
[]
[]
[]
[]
[]
[]
[]
[]
[]
[]
[]
[]
[]
[]
[]
[]
[]
[]
[]
[]
[]
[]
[]
[]
[]
[]
[]
[]
[]
[]
[]
[]
[]
[]
[]
[]
[]
[]
[]
[]
[]
[]
[]
[]
[]
[]
[]
[]
[]
[]
[]
[]
[]
[]
[]
[]
[]
[]
[]
[]
[]
[]
[]
[]
[]
[]
[]
[]
[]
[]
[]
[]
[]
[]
[]
[]
[]
[]
[]
[]
[]
[]
[]
[]
[]
[]
[]
[]
[]
[]
[]
[]
[]
[]
[]
[]
[]
[]
[]
[]
[]
[]
[]
[]
[]
[]
[]
[]
[]
[]
[]
[]
[]
[]
[]
[]
[]
[]
[]
[]
[]
[]
[]
[]
[]
[]
[]
[]
[]
[]
[]
[]
[]
[]
[]
[]
[]
[]
[]
[]
[]
[]
[]
[]
[]
[]
[]
[]
[]
[]
[]
[]
[]
[]
[]
[]
[]
[]
[]
[]
[]
[]
[]
[]
[]
[]
[]
[]
[]
[]
[]
[]
[]
[]
[]
[]
[]
[]
[]
[]
[]
[]
[]
[]
[]
[]
[]
[]
[]
[]
[]
[]
[]
[]
[]
[]
[]
[]
[]
[]
[]
[]
[]
[]
[]
[]
[]
[]
[]
[]
[]
[]
[]
[]
[]
[]
[]
[]
[]
[]
[]
[]
[]
[]
[]
[]
[]
[]
[]
[]
[]
[]
[]
[]
[]
[]
[]
[]
[]
[]
[]
[]
[]
[]
[]
[]
[]
[]
[]
[]
[]
[]
[]
[]
[]
[]
[]
[]
[]
[]
[]
[]
[]
[]
[]
[]
[]
[]
[]
[]
[]
[]
[]
[]
[]
[]
[]
[]
[]
[]
[]
[]
[]
[]
[]
[]
[]
[]
[]
[]
[]
[]
[]
[]
[]
[]
[]
[]
[]
[]
[]
[]
[]
[]
[]
[]
[]
[]
[]
[]
[]
[]
[]
[]
[]
[]
[]
[]
[]
[]
[]
[]
[]
[]
[]
[]
[]
[]
[]
[]
[]
[]
[]
[]
[]
[]
[]
[]
[]
[]
[]
[]
[]
[]
[]
[]
[]
[]
[]
[]
[]
[]
[]
[]
[]
[]
[]
[]
[]
[]
[]
[]
[]
[]
[]
[]
[]
[]
[]
[]
[]
[]
[]
[]
[]
[]
[]
[]
[]
[]
[]
[]
[]
[]
[]
[]
[]
[]
[]
[]
[]
[]
[]
[]
[]
[]
[]
[]
[]
[]
[]
[]
[]
[]
[]
[]
[]
[]
[]
[]
[]
[]
[]
[]
[]
[]
[]
[]
[]
[]
[]
[]
[]
[]
[]
[]
[]
[]
[]
[]
[]
[]
[]
[]
[]
[]
[]
[]
[]
[]
[]
[]
[]
[]
[]
[]
[]
[]
[]
[]
[]
[]
[]
[]
[]
[]
[]
[]
[]
[]
[]
[]
[]
[]
[]
[]
[]
[]
[]
[]
[]
[]
[]
[]
[]
[]
[]
[]
[]
[]
[]
[]
[]
[]
[]
[]
[]
[]
[]
[]
[]
[]
[]
[]
[]
[]
[]
[]
[]
[]
[]
[]
[]
[]
[]
[]
[]
[]
[]
[]
[]
[]
[]
[]
[]
[]
[]
[]
[]
[]
[]
[]
[]
[]
[]
[]
[]
[]
[]
[]
[]
[]
[]
[]
[]
[]
[]
[]
[]
[]
[]
[]
[]
[]
[]
[]
[]
[]
[]
[]
[]
[]
[]
[]
[]
[]
[]
[]
[]
[]
[]
[]
[]
[]
[]
[]
[]
[]
[]
[]
[]
[]
[]
[]
[]
[]
[]
[]
[]
[]
[]
[]
[]
[]
[]
[]
[]
[]
[]
[]
[]
[]
[]
[]
[]
[]
[]
[]
[]
[]
[]
[]
[]
[]
[]
[]
[]
[]
[]
[]
[]
[]
[]
[]
[]
[]
[]
[]
[]
[]
[]
[]
[]
[]
[]
[]
[]
[]
[]
[]
[]
[]
[]
[]
[]
[]
[]
[]
[]
[]
[]
[]
[]
[]
[]
[]
[]
[]
[]
[]
[]
[]
[]
[]
[]
[]
[]
[]
[]
[]
[]
[]
[]
[]
[]
[]
[]
[]
[]
[]
[]
[]
[]
[]
[]
[]
[]
[]
[]
[]
[]
[]
[]
[]
[]
[]
[]
[]
[]
[]
[]
[]
[]
[]
[]
[]
[]
[]
[]
[]
[]
[]
[]
[]
[]
[]
[]
[]
[]
[]
[]
[]
[]
[]
[]
[]
[]
[]
[]
[]
[]
[]
[]
[]
[]
[]
[]
[]
[]
[]
[]
[]
[]
[]
[]
[]
[]
[]
[]
[]
[]
[]
[]
[]
[]
[]
[]
[]
[]
[]
[]
[]
[]
[]
[]
[]
[]
[]
[]
[]
[]
[]
[]
[]
[]
[]
[]
[]
[]
[]
[]
[]
[]
[]
[]
[]
[]
[]
[]
[]
[]
[]
[]
[]
[]
[]
[]
[]
[]
[]
[]
[]
[]
[]
[]
[]
[]
[]
[]
[]
[]
[]
[]
[]
[]
[]
[]
[]
[]
[]
[]
[]
[]
[]
[]
[]
[]
[]
[]
[]
[]
[]
[]
[]
[]
[]
[]
[]
[]
[]
[]
[]
[]
[]
[]
[]
[]
[]
[]
[]
[]
[]
[]
[]
[]
[]
[]
[]
[]
[]
[]
[]
[]
[]
[]
[]
[]
[]
[]
[]
[]
[]
[]
[]
[]
[]
[]
[]
[]
[]
[]
[]
[]
[]
[]
[]
[]
[]
[]
[]
[]
[]
[]
[]
[]
[]
[]
[]
[]
[]
[]
[]
[]
[]
[]
[]
[]
[]
[]
[]
[]
[]
[]
[]
[]
[]
[]
[]
[]
[]
[]
[]
[]
[]
[]
[]
[]
[]
[]
[]
[]
[]
[]
[]
[]
[]
[]
[]
[]
[]
[]
[]
[]
[]
[]
[]
[]
[]
[]
[]
[]
[]
[]
[]
[]
[]
[]
[]
[]
[]
[]
[]
[]
[]
[]
[]
[]
[]
[]
[]
[]
[]
[]
[]
[]
[]
[]
[]
[]
[]
[]
[]
[]
[]
[]
[]
[]
[]
[]
[]
[]
[]
[]
[]
[]
[]
[]
[]
[]
[]
[]
[]
[]
[]
[]
[]
[]
[]
[]
[]
[]
[]
[]
[]
[]
[]
[]
[]
[]
[]
[]
[]
[]
[]
[]
[]
[]
[]
[]
[]
[]
[]
[]
[]
[]
[]
[]
[]
[]
[]
[]
[]
[]
[]
[]
[]
[]
[]
[]
[]
[]
[]
[]
[]
[]
[]
[]
[]
[]
[]
[]
[]
[]
[]
[]
[]
[]
[]
[]
[]
[]
[]
[]
[]
[]
[]
[]
[]
[]
[]
[]
[]
[]
[]
[]
[]
[]
[]
[]
[]
[]
[]
[]
[]
[]
[]
[]
[]
[]
[]
[]
[]
[]
[]
[]
[]
[]
[]
[]
[]
[]
[]
[]
[]
[]
[]
[]
[]
[]
[]
[]
[]
[]
[]
[]
[]
[]
[]
[]
[]
[]
[]
[]
[]
[]
[]
[]
[]
[]
[]
[]
[]
[]
[]
[]
[]
[]
[]
[]
[]
[]
[]
[]
[]
[]
[]
[]
[]
[]
[]
[]
[]
[]
[]
[]
[]
[]
[]
[]
[]
[]
[]
[]
[]
[]
[]
[]
[]
[]
[]
[]
[]
[]
[]
[]
[]
[]
[]
[]
[]
[]
[]
[]
[]
[]
[]
[]
[]
[]
[]
[]
[]
[]
[]
[]
[]
[]
[]
[]
[]
[]
[]
[]
[]
[]
[]
[]
[]
[]
[]
[]
[]
[]
[]
[]
[]
[]
[]
[]
[]
[]
[]
[]
[]
[]
[]
[]
[]
[]
[]
[]
[]
[]
[]
[]
[]
[]
[]
[]
[]
[]
[]
[]
[]
[]
[]
[]
[]
[]
[]
[]
[]
[]
[]
[]
[]
[]
[]
[]
[]
[]
[]
[]
[]
[]
[]
[]
[]
[]
[]
[]
[]
[]
[]
[]
[]
[]
[]
[]
[]
[]
[]
[]
[]
[]
[]
[]
[]
[]
[]
[]
[]
[]
[]
[]
[]
[]
[]
[]
[]
[]
[]
[]
[]
[]
[]
[]
[]
[]
[]
[]
[]
[]
[]
[]
[]
[]
[]
[]
[]
[]
[]
[]
[]
[]
[]
[]
[]
[]
[]
[]
[]
[]
[]
[]
[]
[]
[]
[]
[]
[]
[]
[]
[]
[]
[]
[]
[]
[]
[]
[]
[]
[]
[]
[]
[]
[]
[]
[]
[]
[]
[]
[]
[]
[]
[]
[]
[]
[]
[]
[]
[]
[]
[]
[]
[]
[]
[]
[]
[]
[]
[]
[]
[]
[]
[]
[]
[]
[]
[]
[]
[]
[]
[]
[]
[]
[]
[]
[]
[]
[]
[]
[]
[]
[]
[]
[]
[]
[]
[]
[]
[]
[]
[]
[]
[]
[]
[]
[]
[]
[]
[]
[]
[]
[]
[]
[]
[]
[]
[]
[]
[]
[]
[]
[]
[]
[]
[]
[]
[]
[]
[]
[]
[]
[]
[]
[]
[]
[]
[]
[]
[]
[]
[]
[]
[]
[]
[]
[]
[]
[]
[]
[]
[]
[]
[]
[]
[]
[]
[]
[]
[]
[]
[]
[]
[]
[]
[]
[]
[]
[]
[]
[]
[]
[]
[]
[]
[]
[]
[]
[]
[]
[]
[]
[]
[]
[]
[]
[]
[]
[]
[]
[]
[]
[]
[]
[]
[]
[]
[]
[]
[]
[]
[]
[]
[]
[]
[]
[]
[]
[]
[]
[]
[]
[]
[]
[]
[]
[]
[]
[]
[]
[]
[]
[]
[]
[]
[]
[]
[]
[]
[]
[]
[]
[]
[]
[]
[]
[]
[]
[]
[]
[]
[]
[]
[]
[]
[]
[]
[]
[]
[]
[]
[]
[]
[]
[]
[]
[]
[]
[]
[]
[]
[]
[]
[]
[]
[]
[]
[]
[]
[]
[]
[]
[]
[]
[]
[]
[]
[]
[]
[]
[]
[]
[]
[]
[]
[]
[]
[]
[]
[]
[]
[]
[]
[]
[]
[]
[]
[]
[]
[]
[]
[]
[]
[]
[]
[]
[]
[]
[]
[]
[]
[]
[]
[]
[]
[]
[]
[]
[]
[]
[]
[]
[]
[]
[]
[]
[]
[]
[]
[]
[]
[]
[]
[]
[]
[]
[]
[]
[]
[]
[]
[]
[]
[]
[]
[]
[]
[]
[]
[]
[]
[]
[]
[]
[]
[]
[]
[]
[]
[]
[]
[]
[]
[]
[]
[]
[]
[]
[]
[]
[]
[]
[]
[]
[]
[]
[]
[]
[]
[]
[]
[]
[]
[]
[]
[]
[]
[]
[]
[]
[]
[]
[]
[]
[]
[]
[]
[]
[]
[]
[]
[]
[]
[]
[]
[]
[]
[]
[]
[]
[]
[]
[]
[]
[]
[]
[]
[]
[]
[]
[]
[]
[]
[]
[]
[]
[]
[]
[]
[]
[]
[]
[]
[]
[]
[]
[]
[]
[]
[]
[]
[]
[]
[]
[]
[]
[]
[]
[]
[]
[]
[]
[]
[]
[]
[]
[]
[]
[]
[]
[]
[]
[]
[]
[]
[]
[]
[]
[]
[]
[]
[]
[]
[]
[]
[]
[]
[]
[]
[]
[]
[]
[]
[]
[]
[]
[]
[]
[]
[]
[]
[]
[]
[]
[]
[]
[]
[]
[]
[]
[]
[]
[]
[]
[]
[]
[]
[]
[]
[]
[]
[]
[]
[]
[]
[]
[]
[]
[]
[]
[]
[]
[]
[]
[]
[]
[]
[]
[]
[]
[]
[]
[]
[]
[]
[]
[]
[]
[]
[]
[]
[]
[]
[]
[]
[]
[]
[]
[]
[]
[]
[]
[]
[]
[]
[]
[]
[]
[]
[]
[]
[]
[]
[]
[]
[]
[]
[]
[]
[]
[]
[]
[]
[]
[]
[]
[]
[]
[]
[]
[]
[]
[]
[]
[]
[]
[]
[]
[]
[]
[]
[]
[]
[]
[]
[]
[]
[]
[]
[]
[]
[]
[]
[]
[]
[]
[]
[]
[]
[]
[]
[]
[]
[]
[]
[]
[]
[]
[]
[]
[]
[]
[]
[]
[]
[]
[]
[]
[]
[]
[]
[]
[]
[]
[]
[]
[]
[]
[]
[]
[]
[]
[]
[]
[]
[]
[]
[]
[]
[]
[]
[]
[]
[]
[]
[]
[]
[]
[]
[]
[]
[]
[]
[]
[]
[]
[]
[]
[]
[]
[]
[]
[]
[]
[]
[]
[]
[]
[]
[]
[]
[]
[]
[]
[]
[]
[]
[]
[]
[]
[]
[]
[]
[]
[]
[]
[]
[]
[]
[]
[]
[]
[]
[]
[]
[]
[]
[]
[]
[]
[]
[]
[]
[]
[]
[]
[]
[]
[]
[]
[]
[]
[]
[]
[]
[]
[]
[]
[]
[]
[]
[]
[]
[]
[]
[]
[]
[]
[]
[]
[]
[]
[]
[]
[]
[]
[]
[]
[]
[]
[]
[]
[]
[]
[]
[]
[]
[]
[]
[]
[]
[]
[]
[]
[]
[]
[]
[]
[]
[]
[]
[]
[]
[]
[]
[]
[]
[]
[]
[]
[]
[]
[]
[]
[]
[]
[]
[]
[]
[]
[]
[]
[]
[]
[]
[]
[]
[]
[]
[]
[]
[]
[]
[]
[]
[]
[]
[]
[]
[]
[]
[]
[]
[]
[]
[]
[]
[]
[]
[]
[]
[]
[]
[]
[]
[]
[]
[]
[]
[]
[]
[]
[]
[]
[]
[]
[]
[]
[]
[]
[]
[]
[]
[]
[]
[]
[]
[]
[]
[]
[]
[]
[]
[]
[]
[]
[]
[]
[]
[]
[]
[]
[]
[]
[]
[]
[]
[]
[]
[]
[]
[]
[]
[]
[]
[]
[]
[]
[]
[]
[]
[]
[]
[]
[]
[]
[]
[]
[]
[]
[]
[]
[]
[]
[]
[]
[]
[]
[]
[]
[]
[]
[]
[]
[]
[]
[]
[]
[]
[]
[]
[]
[]
[]
[]
[]
[]
[]
[]
[]
[]
[]
[]
[]
[]
[]
[]
[]
[]
[]
[]
[]
[]
[]
[]
[]
[]
[]
[]
[]
[]
[]
[]
[]
[]
[]
[]
[]
[]
[]
[]
[]
[]
[]
[]
[]
[]
[]
[]
[]
[]
[]
[]
[]
[]
[]
[]
[]
[]
[]
[]
[]
[]
[]
[]
[]
[]
[]
[]
[]
[]
[]
[]
[]
[]
[]
[]
[]
[]
[]
[]
[]
[]
[]
[]
[]
[]
[]
[]
[]
[]
[]
[]
[]
[]
[]
[]
[]
[]
[]
[]
[]
[]
[]
[]
[]
[]
[]
[]
[]
[]
[]
[]
[]
[]
[]
[]
[]
[]
[]
[]
[]
[]
[]
[]
[]
[]
[]
[]
[]
[]
[]
[]
[]
[]
[]
[]
[]
[]
[]
[]
[]
[]
[]
[]
[]
[]
[]
[]
[]
[]
[]
[]
[]
[]
[]
[]
[]
[]
[]
[]
[]
[]
[]
[]
[]
[]
[]
[]
[]
[]
[]
[]
[]
[]
[]
[]
[]
[]
[]
[]
[]
[]
[]
[]
[]
[]
[]
[]
[]
[]
[]
[]
[]
[]
[]
[]
[]
[]
[]
[]
[]
[]
[]
[]
[]
[]
[]
[]
[]
[]
[]
[]
[]
[]
[]
[]
[]
[]
[]
[]
[]
[]
[]
[]
[]
[]
[]
[]
[]
[]
[]
[]
[]
[]
[]
[]
[]
[]
[]
[]
[]
[]
[]
[]
[]
[]
[]
[]
[]
[]
[]
[]
[]
[]
[]
[]
[]
[]
[]
[]
[]
[]
[]
[]
[]
[]
[]
[]
[]
[]
[]
[]
[]
[]
[]
[]
[]
[]
[]
[]
[]
[]
[]
[]
[]
[]
[]
[]
[]
[]
[]
[]
[]
[]
[]
[]
[]
[]
[]
[]
[]
[]
[]
[]
[]
[]
[]
[]
[]
[]
[]
[]
[]
[]
[]
[]
[]
[]
[]
[]
[]
[]
[]
[]
[]
[]
[]
[]
[]
[]
[]
[]
[]
[]
[]
[]
[]
[]
[]
[]
[]
[]
[]
[]
[]
[]
[]
[]
[]
[]
[]
[]
[]
[]
[]
[]
[]
[]
[]
[]
[]
[]
[]
[]
[]
[]
[]
[]
[]
[]
[]
[]
[]
[]
[]
[]
[]
[]
[]
[]
[]
[]
[]
[]
[]
[]
[]
[]
[]
[]
[]
[]
[]
[]
[]
[]
[]
[]
[]
[]
[]
[]
[]
[]
[]
[]
[]
[]
[]
[]
[]
[]
[]
[]
[]
[]
[]
[]
[]
[]
[]
[]
[]
[]
[]
[]
[]
[]
[]
[]
[]
[]
[]
[]
[]
[]
[]
[]
[]
[]
[]
[]
[]
[]
[]
[]
[]
[]
[]
[]
[]
[]
[]
[]
[]
[]
[]
[]
[]
[]
[]
[]
[]
[]
[]
[]
[]
[]
[]
[]
[]
[]
[]
[]
[]
[]
[]
[]
[]
[]
[]
[]
[]
[]
[]
[]
[]
[]
[]
[]
[]
[]
[]
[]
[]
[]
[]
[]
[]
[]
[]
[]
[]
[]
[]
[]
[]
[]
[]
[]
[]
[]
[]
[]
[]
[]
[]
[]
[]
[]
[]
[]
[]
[]
[]
[]
[]
[]
[]
[]
[]
[]
[]
[]
[]
[]
[]
[]
[]
[]
[]
[]
[]
[]
[]
[]
[]
[]
[]
[]
[]
[]
[]
[]
[]
[]
[]
[]
[]
[]
[]
[]
[]
[]
[]
[]
[]
[]
[]
[]
[]
[]
[]
[]
[]
[]
[]
[]
[]
[]
[]
[]
[]
[]
[]
[]
[]
[]
[]
[]
[]
[]
[]
[]
[]
[]
[]
[]
[]
[]
[]
[]
[]
[]
[]
[]
[]
[]
[]
[]
[]
[]
[]
[]
[]
[]
[]
[]
[]
[]
[]
[]
[]
[]
[]
[]
[]
[]
[]
[]
[]
[]
[]
[]
[]
[]
[]
[]
[]
[]
[]
[]
[]
[]
[]
[]
[]
[]
[]
[]
[]
[]
[]
[]
[]
[]
[]
[]
[]
[]
[]
[]
[]
[]
[]
[]
[]
[]
[]
[]
[]
[]
[]
[]
[]
[]
[]
[]
[]
[]
[]
[]
[]
[]
[]
[]
[]
[]
[]
[]
[]
[]
[]
[]
[]
[]
[]
[]
[]
[]
[]
[]
[]
[]
[]
[]
[]
[]
[]
[]
[]
[]
[]
[]
[]
[]
[]
[]
[]
[]
[]
[]
[]
[]
[]
[]
[]
[]
[]
[]
[]
[]
[]
[]
[]
[]
[]
[]
[]
[]
[]
[]
[]
[]
[]
[]
[]
[]
[]
[]
[]
[]
[]
[]
[]
[]
[]
[]
[]
[]
[]
[]
[]
[]
[]
[]
[]
[]
[]
[]
[]
[]
[]
[]
[]
[]
[]
[]
[]
[]
[]
[]
[]
[]
[]
[]
[]
[]
[]
[]
[]
[]
[]
[]
[]
[]
[]
[]
[]
[]
[]
[]
[]
[]
[]
[]
[]
[]
[]
[]
[]
[]
[]
[]
[]
[]
[]
[]
[]
[]
[]
[]
[]
[]
[]
[]
[]
[]
[]
[]
[]
[]
[]
[]
[]
[]
[]
[]
[]
[]
[]
[]
[]
[]
[]
[]
[]
[]
[]
[]
[]
[]
[]
[]
[]
[]
[]
[]
[]
[]
[]
[]
[]
[]
[]
[]
[]
[]
[]
[]
[]
[]
[]
[]
[]
[]
[]
[]
[]
[]
[]
[]
[]
[]
[]
[]
[]
[]
[]
[]
[]
[]
[]
[]
[]
[]
[]
[]
[]
[]
[]
[]
[]
[]
[]
[]
[]
[]
[]
[]
[]
[]
[]
[]
[]
[]
[]
[]
[]
[]
[]
[]
[]
[]
[]
[]
[]
[]
[]
[]
[]
[]
[]
[]
[]
[]
[]
[]
[]
[]
[]
[]
[]
[]
[]
[]
[]
[]
[]
[]
[]
[]
[]
[]
[]
[]
[]
[]
[]
[]
[]
[]
[]
[]
[]
[]
[]
[]
[]
[]
[]
[]
[]
[]
[]
[]
[]
[]
[]
[]
[]
[]
[]
[]
[]
[]
[]
[]
[]
[]
[]
[]
[]
[]
[]
[]
[]
[]
[]
[]
[]
[]
[]
[]
[]
[]
[]
[]
[]
[]
[]
[]
[]
[]
[]
[]
[]
[]
[]
[]
[]
[]
[]
[]
[]
[]
[]
[]
[]
[]
[]
[]
[]
[]
[]
[]
[]
[]
[]
[]
[]
[]
[]
[]
[]
[]
[]
[]
[]
[]
[]
[]
[]
[]
[]
[]
[]
[]
[]
[]
[]
[]
[]
[]
[]
[]
[]
[]
[]
[]
[]
[]
[]
[]
[]
[]
[]
[]
[]
[]
[]
[]
[]
[]
[]
[]
[]
[]
[]
[]
[]
[]
[]
[]
[]
[]
[]
[]
[]
[]
[]
[]
[]
[]
[]
[]
[]
[]
[]
[]
[]
[]
[]
[]
[]
[]
[]
[]
[]
[]
[]
[]
[]
[]
[]
[]
[]
[]
[]
[]
[]
[]
[]
[]
[]
[]
[]
[]
[]
[]
[]
[]
[]
[]
[]
[]
[]
[]
[]
[]
[]
[]
[]
[]
[]
[]
[]
[]
[]
[]
[]
[]
[]
[]
[]
[]
[]
[]
[]
[]
[]
[]
[]
[]
[]
[]
[]
[]
[]
[]
[]
[]
[]
[]
[]
[]
[]
[]
[]
[]
[]
[]
[]
[]
[]
[]
[]
[]
[]
[]
[]
[]
[]
[]
[]
[]
[]
[]
[]
[]
[]
[]
[]
[]
[]
[]
[]
[]
[]
[]
[]
[]
[]
[]
[]
[]
[]
[]
[]
[]
[]
[]
[]
[]
[]
[]
[]
[]
[]
[]
[]
[]
[]
[]
[]
[]
[]
[]
[]
[]
[]
[]
[]
[]
[]
[]
[]
[]
[]
[]
[]
[]
[]
[]
[]
[]
[]
[]
[]
[]
[]
[]
[]
[]
[]
[]
[]
[]
[]
[]
[]
[]
[]
[]
[]
[]
[]
[]
[]
[]
[]
[]
[]
[]
[]
[]
[]
[]
[]
[]
[]
[]
[]
[]
[]
[]
[]
[]
[]
[]
[]
[]
[]
[]
[]
[]
[]
[]
[]
[]
[]
[]
[]
[]
[]
[]
[]
[]
[]
[]
[]
[]
[]
[]
[]
[]
[]
[]
[]
[]
[]
[]
[]
[]
[]
[]
[]
[]
[]
[]
[]
[]
[]
[]
[]
[]
[]
[]
[]
[]
[]
[]
[]
[]
[]
[]
[]
[]
[]
[]
[]
[]
[]
[]
[]
[]
[]
[]
[]
[]
[]
[]
[]
[]
[]
[]
[]
[]
[]
[]
[]
[]
[]
[]
[]
[]
[]
[]
[]
[]
[]
[]
[]
[]
[]
[]
[]
[]
[]
[]
[]
[]
[]
[]
[]
[]
[]
[]
[]
[]
[]
[]
[]
[]
[]
[]
[]
[]
[]
[]
[]
[]
[]
[]
[]
[]
[]
[]
[]
[]
[]
[]
[]
[]
[]
[]
[]
[]
[]
[]
[]
[]
[]
[]
[]
[]
[]
[]
[]
[]
[]
[]
[]
[]
[]
[]
[]
[]
[]
[]
[]
[]
[]
[]
[]
[]
[]
[]
[]
[]
[]
[]
[]
[]
[]
[]
[]
[]
[]
[]
[]
[]
[]
[]
[]
[]
[]
[]
[]
[]
[]
[]
[]
[]
[]
[]
[]
[]
[]
[]
[]
[]
[]
[]
[]
[]
[]
[]
[]
[]
[]
[]
[]
[]
[]
[]
[]
[]
[]
[]
[]
[]
[]
[]
[]
[]
[]
[]
[]
[]
[]
[]
[]
[]
[]
[]
[]
[]
[]
[]
[]
[]
[]
[]
[]
[]
[]
[]
[]
[]
[]
[]
[]
[]
[]
[]
[]
[]
[]
[]
[]
[]
[]
[]
[]
[]
[]
[]
[]
[]
[]
[]
[]
[]
[]
[]
[]
[]
[]
[]
[]
[]
[]
[]
[]
[]
[]
[]
[]
[]
[]
[]
[]
[]
[]
[]
[]
[]
[]
[]
[]
[]
[]
[]
[]
[]
[]
[]
[]
[]
[]
[]
[]
[]
[]
[]
[]
[]
[]
[]
[]
[]
[]
[]
[]
[]
[]
[]
[]
[]
[]
[]
[]
[]
[]
[]
[]
[]
[]
[]
[]
[]
[]
[]
[]
[]
[]
[]
[]
[]
[]
[]
[]
[]
[]
[]
[]
[]
[]
[]
[]
[]
[]
[]
[]
[]
[]
[]
[]
[]
[]
[]
[]
[]
[]
[]
[]
[]
[]
[]
[]
[]
[]
[]
[]
[]
[]
[]
[]
[]
[]
[]
[]
[]
[]
[]
[]
[]
[]
[]
[]
[]
[]
[]
[]
[]
[]
[]
[]
[]
[]
[]
[]
[]
[]
[]
[]
[]
[]
[]
[]
[]
[]
[]
[]
[]
[]
[]
[]
[]
[]
[]
[]
[]
[]
[]
[]
[]
[]
[]
[]
[]
[]
[]
[]
[]
[]
[]
[]
[]
[]
[]
[]
[]
[]
[]
[]
[]
[]
[]
[]
[]
[]
[]
[]
[]
[]
[]
[]
[]
[]
[]
[]
[]
[]
[]
[]
[]
[]
[]
[]
[]
[]
[]
[]
[]
[]
[]
[]
[]
[]
[]
[]
[]
[]
[]
[]
[]
[]
[]
[]
[]
[]
[]
[]
[]
[]
[]
[]
[]
[]
[]
[]
[]
[]
[]
[]
[]
[]
[]
[]
[]
[]
[]
[]
[]
[]
[]
[]
[]
[]
[]
[]
[]
[]
[]
[]
[]
[]
[]
[]
[]
[]
[]
[]
[]
[]
[]
[]
[]
[]
[]
[]
[]
[]
[]
[]
[]
[]
[]
[]
[]
[]
[]
[]
[]
[]
[]
[]
[]
[]
[]
[]
[]
[]
[]
[]
[]
[]
[]
[]
[]
[]
[]
[]
[]
[]
[]
[]
[]
[]
[]
[]
[]
[]
[]
[]
[]
[]
[]
[]
[]
[]
[]
[]
[]
[]
[]
[]
[]
[]
[]
[]
[]
[]
[]
[]
[]
[]
[]
[]
[]
[]
[]
[]
[]
[]
[]
[]
[]
[]
[]
[]
[]
[]
[]
[]
[]
[]
[]
[]
[]
[]
[]
[]
[]
[]
[]
[]
[]
[]
[]
[]
[]
[]
[]
[]
[]
[]
[]
[]
[]
[]
[]
[]
[]
[]
[]
[]
[]
[]
[]
[]
[]
[]
[]
[]
[]
[]
[]
[]
[]
[]
[]
[]
[]
[]
[]
[]
[]
[]
[]
[]
[]
[]
[]
[]
[]
[]
[]
[]
[]
[]
[]
[]
[]
[]
[]
[]
[]
[]
[]
[]
[]
[]
[]
[]
[]
[]
[]
[]
[]
[]
[]
[]
[]
[]
[]
[]
[]
[]
[]
[]
[]
[]
[]
[]
[]
[]
[]
[]
[]
[]
[]
[]
[]
[]
[]
[]
[]
[]
[]
[]
[]
[]
[]
[]
[]
[]
[]
[]
[]
[]
[]
[]
[]
[]
[]
[]
[]
[]
[]
[]
[]
[]
[]
[]
[]
[]
[]
[]
[]
[]
[]
[]
[]
[]
[]
[]
[]
[]
[]
[]
[]
[]
[]
[]
[]
[]
[]
[]
[]
[]
[]
[]
[]
[]
[]
[]
[]
[]
[]
[]
[]
[]
[]
[]
[]
[]
[]
[]
[]
[]
[]
[]
[]
[]
[]
[]
[]
[]
[]
[]
[]
[]
[]
[]
[]
[]
[]
[]
[]
[]
[]
[]
[]
[]
[]
[]
[]
[]
[]
[]
[]
[]
[]
[]
[]
[]
[]
[]
[]
[]
[]
[]
[]
[]
[]
[]
[]
[]
[]
[]
[]
[]
[]
[]
[]
[]
[]
[]
[]
[]
[]
[]
[]
[]
[]
[]
[]
[]
[]
[]
[]
[]
[]
[]
[]
[]
[]
[]
[]
[]
[]
[]
[]
[]
[]
[]
[]
[]
[]
[]
[]
[]
[]
[]
[]
[]
[]
[]
[]
[]
[]
[]
[]
[]
[]
[]
[]
[]
[]
[]
[]
[]
[]
[]
[]
[]
[]
[]
[]
[]
[]
[]
[]
[]
[]
[]
[]
[]
[]
[]
[]
[]
[]
[]
[]
[]
[]
[]
[]
[]
[]
[]
[]
[]
[]
[]
[]
[]
[]
[]
[]
[]
[]
[]
[]
[]
[]
[]
[]
[]
[]
[]
[]
[]
[]
[]
[]
[]
[]
[]
[]
[]
[]
[]
[]
[]
[]
[]
[]
[]
[]
[]
[]
[]
[]
[]
[]
[]
[]
[]
[]
[]
[]
[]
[]
[]
[]
[]
[]
[]
[]
[]
[]
[]
[]
[]
[]
[]
[]
[]
[]
[]
[]
[]
[]
[]
[]
[]
[]
[]
[]
[]
[]
[]
[]
[]
[]
[]
[]
[]
[]
[]
[]
[]
[]
[]
[]
[]
[]
[]
[]
[]
[]
[]
[]
[]
[]
[]
[]
[]
[]
[]
[]
[]
[]
[]
[]
[]
[]
[]
[]
[]
[]
[]
[]
[]
[]
[]
[]
[]
[]
[]
[]
[]
[]
[]
[]
[]
[]
[]
[]
[]
[]
[]
[]
[]
[]
[]
[]
[]
[]
[]
[]
[]
[]
[]
[]
[]
[]
[]
[]
[]
[]
[]
[]
[]
[]
[]
[]
[]
[]
[]
[]
[]
[]
[]
[]
[]
[]
[]
[]
[]
[]
[]
[]
[]
[]
[]
[]
[]
[]
[]
[]
[]
[]
[]
[]
[]
[]
[]
[]
[]
[]
[]
[]
[]
[]
[]
[]
[]
[]
[]
[]
[]
[]
[]
[]
[]
[]
[]
[]
[]
[]
[]
[]
[]
[]
[]
[]
[]
[]
[]
[]
[]
[]
[]
[]
[]
[]
[]
[]
[]
[]
[]
[]
[]
[]
[]
[]
[]
[]
[]
[]
[]
[]
[]
[]
[]
[]
[]
[]
[]
[]
[]
[]
[]
[]
[]
[]
[]
[]
[]
[]
[]
[]
[]
[]
[]
[]
[]
[]
[]
[]
[]
[]
[]
[]
[]
[]
[]
[]
[]
[]
[]
[]
[]
[]
[]
[]
[]
[]
[]
[]
[]
[]
[]
[]
[]
[]
[]
[]
[]
[]
[]
[]
[]
[]
[]
[]
[]
[]
[]
[]
[]
[]
[]
[]
[]
[]
[]
[]
[]
[]
[]
[]
[]
[]
[]
[]
[]
[]
[]
[]
[]
[]
[]
[]
[]
[]
[]
[]
[]
[]
[]
[]
[]
[]
[]
[]
[]
[]
[]
[]
[]
[]
[]
[]
[]
[]
[]
[]
[]
[]
[]
[]
[]
[]
[]
[]
[]
[]
[]
[]
[]
[]
[]
[]
[]
[]
[]
[]
[]
[]
[]
[]
[]
[]
[]
[]
[]
[]
[]
[]
[]
[]
[]
[]
[]
[]
[]
[]
[]
[]
[]
[]
[]
[]
[]
[]
[]
[]
[]
[]
[]
[]
[]
[]
[]
[]
[]
[]
[]
[]
[]
[]
[]
[]
[]
[]
[]
[]
[]
[]
[]
[]
[]
[]
[]
[]
[]
[]
[]
[]
[]
[]
[]
[]
[]
[]
[]
[]
[]
[]
[]
[]
[]
[]
[]
[]
[]
[]
[]
[]
[]
[]
[]
[]
[]
[]
[]
[]
[]
[]
[]
[]
[]
[]
[]
[]
[]
[]
[]
[]
[]
[]
[]
[]
[]
[]
[]
[]
[]
[]
[]
[]
[]
[]
[]
[]
[]
[]
[]
[]
[]
[]
[]
[]
[]
[]
[]
[]
[]
[]
[]
[]
[]
[]
[]
[]
[]
[]
[]
[]
[]
[]
[]
[]
[]
[]
[]
[]
[]
[]
[]
[]
[]
[]
[]
[]
[]
[]
[]
[]
[]
[]
[]
[]
[]
[]
[]
[]
[]
[]
[]
[]
[]
[]
[]
[]
[]
[]
[]
[]
[]
[]
[]
[]
[]
[]
[]
[]
[]
[]
[]
[]
[]
[]
[]
[]
[]
[]
[]
[]
[]
[]
[]
[]
[]
[]
[]
[]
[]
[]
[]
[]
[]
[]
[]
[]
[]
[]
[]
[]
[]
[]
[]
[]
[]
[]
[]
[]
[]
[]
[]
[]
[]
[]
[]
[]
[]
[]
[]
[]
[]
[]
[]
[]
[]
[]
[]
[]
[]
[]
[]
[]
[]
[]
[]
[]
[]
[]
[]
[]
[]
[]
[]
[]
[]
[]
[]
[]
[]
[]
[]
[]
[]
[]
[]
[]
[]
[]
[]
[]
[]
[]
[]
[]
[]
[]
[]
[]
[]
[]
[]
[]
[]
[]
[]
[]
[]
[]
[]
[]
[]
[]
[]
[]
[]
[]
[]
[]
[]
[]
[]
[]
[]
[]
[]
[]
[]
[]
[]
[]
[]
[]
[]
[]
[]
[]
[]
[]
[]
[]
[]
[]
[]
[]
[]
[]
[]
[]
[]
[]
[]
[]
[]
[]
[]
[]
[]
[]
[]
[]
[]
[]
[]
[]
[]
[]
[]
[]
[]
[]
[]
[]
[]
[]
[]
[]
[]
[]
[]
[]
[]
[]
[]
[]
[]
[]
[]
[]
[]
[]
[]
[]
[]
[]
[]
[]
[]
[]
[]
[]
[]
[]
[]
[]
[]
[]
[]
[]
[]
[]
[]
[]
[]
[]
[]
[]
[]
[]
[]
[]
[]
[]
[]
[]
[]
[]
[]
[]
[]
[]
[]
[]
[]
[]
[]
[]
[]
[]
[]
[]
[]
[]
[]
[]
[]
[]
[]
[]
[]
[]
[]
[]
[]
[]
[]
[]
[]
[]
[]
[]
[]
[]
[]
[]
[]
[]
[]
[]
[]
[]
[]
[]
[]
[]
[]
[]
[]
[]
[]
[]
[]
[]
[]
[]
[]
[]
[]
[]
[]
[]
[]
[]
[]
[]
[]
[]
[]
[]
[]
[]
[]
[]
[]
[]
[]
[]
[]
[]
[]
[]
[]
[]
[]
[]
[]
[]
[]
[]
[]
[]
[]
[]
[]
[]
[]
[]
[]
[]
[]
[]
[]
[]
[]
[]
[]
[]
[]
[]
[]
[]
[]
[]
[]
[]
[]
[]
[]
[]
[]
[]
[]
[]
[]
[]
[]
[]
[]
[]
[]
[]
[]
[]
[]
[]
[]
[]
[]
[]
[]
[]
[]
[]
[]
[]
[]
[]
[]
[]
[]
[]
[]
[]
[]
[]
[]
[]
[]
[]
[]
[]
[]
[]
[]
[]
[]
[]
[]
[]
[]
[]
[]
[]
[]
[]
[]
[]
[]
[]
[]
[]
[]
[]
[]
[]
[]
[]
[]
[]
[]
[]
[]
[]
[]
[]
[]
[]
[]
[]
[]
[]
[]
[]
[]
[]
[]
[]
[]
[]
[]
[]
[]
[]
[]
[]
[]
[]
[]
[]
[]
[]
[]
[]
[]
[]
[]
[]
[]
[]
[]
[]
[]
[]
[]
[]
[]
[]
[]
[]
[]
[]
[]
[]
[]
[]
[]
[]
[]
[]
[]
[]
[]
[]
[]
[]
[]
[]
[]
[]
[]
[]
[]
[]
[]
[]
[]
[]
[]
[]
[]
[]
[]
[]
[]
[]
[]
[]
[]
[]
[]
[]
[]
[]
[]
[]
[]
[]
[]
[]
[]
[]
[]
[]
[]
[]
[]
[]
[]
[]
[]
[]
[]
[]
[]
[]
[]
[]
[]
[]
[]
[]
[]
[]
[]
[]
[]
[]
[]
[]
[]
[]
[]
[]
[]
[]
[]
[]
[]
[]
[]
[]
[]
[]
[]
[]
[]
[]
[]
[]
[]
[]
[]
[]
[]
[]
[]
[]
[]
[]
[]
[]
[]
[]
[]
[]
[]
[]
[]
[]
[]
[]
[]
[]
[]
[]
[]
[]
[]
[]
[]
[]
[]
[]
[]
[]
[]
[]
[]
[]
[]
[]
[]
[]
[]
[]
[]
[]
[]
[]
[]
[]
[]
[]
[]
[]
[]
[]
[]
[]
[]
[]
[]
[]
[]
[]
[]
[]
[]
[]
[]
[]
[]
[]
[]
[]
[]
[]
[]
[]
[]
[]
[]
[]
[]
[]
[]
[]
[]
[]
[]
[]
[]
[]
[]
[]
[]
[]
[]
[]
[]
[]
[]
[]
[]
[]
[]
[]
[]
[]
[]
[]
[]
[]
[]
[]
[]
[]
[]
[]
[]
[]
[]
[]
[]
[]
[]
[]
[]
[]
[]
[]
[]
[]
[]
[]
[]
[]
[]
[]
[]
[]
[]
[]
[]
[]
[]
[]
[]
[]
[]
[]
[]
[]
[]
[]
[]
[]
[]
[]
[]
[]
[]
[]
[]
[]
[]
[]
[]
[]
[]
[]
[]
[]
[]
[]
[]
[]
[]
[]
[]
[]
[]
[]
[]
[]
[]
[]
[]
[]
[]
[]
[]
[]
[]
[]
[]
[]
[]
[]
[]
[]
[]
[]
[]
[]
[]
[]
[]
[]
[]
[]
[]
[]
[]
[]
[]
[]
[]
[]
[]
[]
[]
[]
[]
[]
[]
[]
[]
[]
[]
[]
[]
[]
[]
[]
[]
[]
[]
[]
[]
[]
[]
[]
[]
[]
[]
[]
[]
[]
[]
[]
[]
[]
[]
[]
[]
[]
[]
[]
[]
[]
[]
[]
[]
[]
[]
[]
[]
[]
[]
[]
[]
[]
[]
[]
[]
[]
[]
[]
[]
[]
[]
[]
[]
[]
[]
[]
[]
[]
[]
[]
[]
[]
[]
[]
[]
[]
[]
[]
[]
[]
[]
[]
[]
[]
[]
[]
[]
[]
[]
[]
[]
[]
[]
[]
[]
[]
[]
[]
[]
[]
[]
[]
[]
[]
[]
[]
[]
[]
[]
[]
[]
[]
[]
[]
[]
[]
[]
[]
[]
[]
[]
[]
[]
[]
[]
[]
[]
[]
[]
[]
[]
[]
[]
[]
[]
[]
[]
[]
[]
[]
[]
[]
[]
[]
[]
[]
[]
[]
[]
[]
[]
[]
[]
[]
[]
[]
[]
[]
[]
[]
[]
[]
[]
[]
[]
[]
[]
[]
[]
[]
[]
[]
[]
[]
[]
[]
[]
[]
[]
[]
[]
[]
[]
[]
[]
[]
[]
[]
[]
[]
[]
[]
[]
[]
[]
[]
[]
[]
[]
[]
[]
[]
[]
[]
[]
[]
[]
[]
[]
[]
[]
[]
[]
[]
[]
[]
[]
[]
[]
[]
[]
[]
[]
[]
[]
[]
[]
[]
[]
[]
[]
[]
[]
[]
[]
[]
[]
[]
[]
[]
[]
[]
[]
[]
[]
[]
[]
[]
[]
[]
[]
[]
[]
[]
[]
[]
[]
[]
[]
[]
[]
[]
[]
[]
[]
[]
[]
[]
[]
[]
[]
[]
[]
[]
[]
[]
[]
[]
[]
[]
[]
[]
[]
[]
[]
[]
[]
[]
[]
[]
[]
[]
[]
[]
[]
[]
[]
[]
[]
[]
[]
[]
[]
[]
[]
[]
[]
[]
[]
[]
[]
[]
[]
[]
[]
[]
[]
[]
[]
[]
[]
[]
[]
[]
[]
[]
[]
[]
[]
[]
[]
[]
[]
[]
[]
[]
[]
[]
[]
[]
[]
[]
[]
[]
[]
[]
[]
[]
[]
[]
[]
[]
[]
[]
[]
[]
[]
[]
[]
[]
[]
[]
[]
[]
[]
[]
[]
[]
[]
[]
[]
[]
[]
[]
[]
[]
[]
[]
[]
[]
[]
[]
[]
[]
[]
[]
[]
[]
[]
[]
[]
[]
[]
[]
[]
[]
[]
[]
[]
[]
[]
[]
[]
[]
[]
[]
[]
[]
[]
[]
[]
[]
[]
[]
[]
[]
[]
[]
[]
[]
[]
[]
[]
[]
[]
[]
[]
[]
[]
[]
[]
[]
[]
[]
[]
[]
[]
[]
[]
[]
[]
[]
[]
[]
[]
[]
[]
[]
[]
[]
[]
[]
[]
[]
[]
[]
[]
[]
[]
[]
[]
[]
[]
[]
[]
[]
[]
[]
[]
[]
[]
[]
[]
[]
[]
[]
[]
[]
[]
[]
[]
[]
[]
[]
[]
[]
[]
[]
[]
[]
[]
[]
[]
[]
[]
[]
[]
[]
[]
[]
[]
[]
[]
[]
[]
[]
[]
[]
[]
[]
[]
[]
[]
[]
[]
[]
[]
[]
[]
[]
[]
[]
[]
[]
[]
[]
[]
[]
[]
[]
[]
[]
[]
[]
[]
[]
[]
[]
[]
[]
[]
[]
[]
[]
[]
[]
[]
[]
[]
[]
[]
[]
[]
[]
[]
[]
[]
[]
[]
[]
[]
[]
[]
[]
[]
[]
[]
[]
[]
[]
[]
[]
[]
[]
[]
[]
[]
[]
[]
[]
[]
[]
[]
[]
[]
[]
[]
[]
[]
[]
[]
[]
[]
[]
[]
[]
[]
[]
[]
[]
[]
[]
[]
[]
[]
[]
[]
[]
[]
[]
[]
[]
[]
[]
[]
[]
[]
[]
[]
[]
[]
[]
[]
[]
[]
[]
[]
[]
[]
[]
[]
[]
[]
[]
[]
[]
[]
[]
[]
[]
[]
[]
[]
[]
[]
[]
[]
[]
[]
[]
[]
[]
[]
[]
[]
[]
[]
[]
[]
[]
[]
[]
[]
[]
[]
[]
[]
[]
[]
[]
[]
[]
[]
[]
[]
[]
[]
[]
[]
[]
[]
[]
[]
[]
[]
[]
[]
[]
[]
[]
[]
[]
[]
[]
[]
[]
[]
[]
[]
[]
[]
[]
[]
[]
[]
[]
[]
[]
[]
[]
[]
[]
[]
[]
[]
[]
[]
[]
[]
[]
[]
[]
[]
[]
[]
[]
[]
[]
[]
[]
[]
[]
[]
[]
[]
[]
[]
[]
[]
[]
[]
[]
[]
[]
[]
[]
[]
[]
[]
[]
[]
[]
[]
[]
[]
[]
[]
[]
[]
[]
[]
[]
[]
[]
[]
[]
[]
[]
[]
[]
[]
[]
[]
[]
[]
[]
[]
[]
[]
[]
[]
[]
[]
[]
[]
[]
[]
[]
[]
[]
[]
[]
[]
[]
[]
[]
[]
[]
[]
[]
[]
[]
[]
[]
[]
[]
[]
[]
[]
[]
[]
[]
[]
[]
[]
[]
[]
[]
[]
[]
[]
[]
[]
[]
[]
[]
[]
[]
[]
[]
[]
[]
[]
[]
[]
[]
[]
[]
[]
[]
[]
[]
[]
[]
[]
[]
[]
[]
[]
[]
[]
[]
[]
[]
[]
[]
[]
[]
[]
[]
[]
[]
[]
[]
[]
[]
[]
[]
[]
[]
[]
[]
[]
[]
[]
[]
[]
[]
[]
[]
[]
[]
[]
[]
[]
[]
[]
[]
[]
[]
[]
[]
[]
[]
[]
[]
[]
[]
[]
[]
[]
[]
[]
[]
[]
[]
[]
[]
[]
[]
[]
[]
[]
[]
[]
[]
[]
[]
[]
[]
[]
[]
[]
[]
[]
[]
[]
[]
[]
[]
[]
[]
[]
[]
[]
[]
[]
[]
[]
[]
[]
[]
[]
[]
[]
[]
[]
[]
[]
[]
[]
[]
[]
[]
[]
[]
[]
[]
[]
[]
[]
[]
[]
[]
[]
[]
[]
[]
[]
[]
[]
[]
[]
[]
[]
[]
[]
[]
[]
[]
[]
[]
[]
[]
[]
[]
[]
[]
[]
[]
[]
[]
[]
[]
[]
[]
[]
[]
[]
[]
[]
[]
[]
[]
[]
[]
[]
[]
[]
[]
[]
[]
[]
[]
[]
[]
[]
[]
[]
[]
[]
[]
[]
[]
[]
[]
[]
[]
[]
[]
[]
[]
[]
[]
[]
[]
[]
[]
[]
[]
[]
[]
[]
[]
[]
[]
[]
[]
[]
[]
[]
[]
[]
[]
[]
[]
[]
[]
[]
[]
[]
[]
[]
[]
[]
[]
[]
[]
[]
[]
[]
[]
[]
[]
[]
[]
[]
[]
[]
[]
[]
[]
[]
[]
[]
[]
[]
[]
[]
[]
[]
[]
[]
[]
[]
[]
[]
[]
[]
[]
[]
[]
[]
[]
[]
[]
[]
[]
[]
[]
[]
[]
[]
[]
[]
[]
[]
[]
[]
[]
[]
[]
[]
[]
[]
[]
[]
[]
[]
[]
[]
[]
[]
[]
[]
[]
[]
[]
[]
[]
[]
[]
[]
[]
[]
[]
[]
[]
[]
[]
[]
[]
[]
[]
[]
[]
[]
[]
[]
[]
[]
[]
[]
[]
[]
[]
[]
[]
[]
[]
[]
[]
[]
[]
[]
[]
[]
[]
[]
[]
[]
[]
[]
[]
[]
[]
[]
[]
[]
[]
[]
[]
[]
[]
[]
[]
[]
[]
[]
[]
[]
[]
[]
[]
[]
[]
[]
[]
[]
[]
[]
[]
[]
[]
[]
[]
[]
[]
[]
[]
[]
[]
[]
[]
[]
[]
[]
[]
[]
[]
[]
[]
[]
[]
[]
[]
[]
[]
[]
[]
[]
[]
[]
[]
[]
[]
[]
[]
[]
[]
[]
[]
[]
[]
[]
[]
[]
[]
[]
[]
[]
[]
[]
[]
[]
[]
[]
[]
[]
[]
[]
[]
[]
[]
[]
[]
[]
[]
[]
[]
[]
[]
[]
[]
[]
[]
[]
[]
[]
[]
[]
[]
[]
[]
[]
[]
[]
[]
[]
[]
[]
[]
[]
[]
[]
[]
[]
[]
[]
[]
[]
[]
[]
[]
[]
[]
[]
[]
[]
[]
[]
[]
[]
[]
[]
[]
[]
[]
[]
[]
[]
[]
[]
[]
[]
[]
[]
[]
[]
[]
[]
[]
[]
[]
[]
[]
[]
[]
[]
[]
[]
[]
[]
[]
[]
[]
[]
[]
[]
[]
[]
[]
[]
[]
[]
[]
[]
[]
[]
[]
[]
[]
[]
[]
[]
[]
[]
[]
[]
[]
[]
[]
[]
[]
[]
[]
[]
[]
[]
[]
[]
[]
[]
[]
[]
[]
[]
[]
[]
[]
[]
[]
[]
[]
[]
[]
[]
[]
[]
[]
[]
[]
[]
[]
[]
[]
[]
[]
[]
[]
[]
[]
[]
[]
[]
[]
[]
[]
[]
[]
[]
[]
[]
[]
[]
[]
[]
[]
[]
[]
[]
[]
[]
[]
[]
[]
[]
[]
[]
[]
[]
[]
[]
[]
[]
[]
[]
[]
[]
[]
[]
[]
[]
[]
[]
[]
[]
[]
[]
[]
[]
[]
[]
[]
[]
[]
[]
[]
[]
[]
[]
[]
[]
[]
[]
[]
[]
[]
[]
[]
[]
[]
[]
[]
[]
[]
[]
[]
[]
[]
[]
[]
[]
[]
[]
[]
[]
[]
[]
[]
[]
[]
[]
[]
[]
[]
[]
[]
[]
[]
[]
[]
[]
[]
[]
[]
[]
[]
[]
[]
[]
[]
[]
[]
[]
[]
[]
[]
[]
[]
[]
[]
[]
[]
[]
[]
[]
[]
[]
[]
[]
[]
[]
[]
[]
[]
[]
[]
[]
[]
[]
[]
[]
[]
[]
[]
[]
[]
[]
[]
[]
[]
[]
[]
[]
[]
[]
[]
[]
[]
[]
[]
[]
[]
[]
[]
[]
[]
[]
[]
[]
[]
[]
[]
[]
[]
[]
[]
[]
[]
[]
[]
[]
[]
[]
[]
[]
[]
[]
[]
[]
[]
[]
[]
[]
[]
[]
[]
[]
[]
[]
[]
[]
[]
[]
[]
[]
[]
[]
[]
[]
[]
[]
[]
[]
[]
[]
[]
[]
[]
[]
[]
[]
[]
[]
[]
[]
[]
[]
[]
[]
[]
[]
[]
[]
[]
[]
[]
[]
[]
[]
[]
[]
[]
[]
[]
[]
[]
[]
[]
[]
[]
[]
[]
[]
[]
[]
[]
[]
[]
[]
[]
[]
[]
[]
[]
[]
[]
[]
[]
[]
[]
[]
[]
[]
[]
[]
[]
[]
[]
[]
[]
[]
[]
[]
[]
[]
[]
[]
[]
[]
[]
[]
[]
[]
[]
[]
[]
[]
[]
[]
[]
[]
[]
[]
[]
[]
[]
[]
[]
[]
[]
[]
[]
[]
[]
[]
[]
[]
[]
[]
[]
[]
[]
[]
[]
[]
[]
[]
[]
[]
[]
[]
[]
[]
[]
[]
[]
[]
[]
[]
[]
[]
[]
[]
[]
[]
[]
[]
[]
[]
[]
[]
[]
[]
[]
[]
[]
[]
[]
[]
[]
[]
[]
[]
[]
[]
[]
[]
[]
[]
[]
[]
[]
[]
[]
[]
[]
[]
[]
[]
[]
[]
[]
[]
[]
[]
[]
[]
[]
[]
[]
[]
[]
[]
[]
[]
[]
[]
[]
[]
[]
[]
[]
[]
[]
[]
[]
[]
[]
[]
[]
[]
[]
[]
[]
[]
[]
[]
[]
[]
[]
[]
[]
[]
[]
[]
[]
[]
[]
[]
[]
[]
[]
[]
[]
[]
[]
[]
[]
[]
[]
[]
[]
[]
[]
[]
[]
[]
[]
[]
[]
[]
[]
[]
[]
[]
[]
[]
[]
[]
[]
[]
[]
[]
[]
[]
[]
[]
[]
[]
[]
[]
[]
[]
[]
[]
[]
[]
[]
[]
[]
[]
[]
[]
[]
[]
[]
[]
[]
[]
[]
[]
[]
[]
[]
[]
[]
[]
[]
[]
[]
[]
[]
[]
[]
[]
[]
[]
[]
[]
[]
[]
[]
[]
[]
[]
[]
[]
[]
[]
[]
[]
[]
[]
[]
[]
[]
[]
[]
[]
[]
[]
[]
[]
[]
[]
[]
[]
[]
[]
[]
[]
[]
[]
[]
[]
[]
[]
[]
[]
[]
[]
[]
[]
[]
[]
[]
[]
[]
[]
[]
[]
[]
[]
[]
[]
[]
[]
[]
[]
[]
[]
[]
[]
[]
[]
[]
[]
[]
[]
[]
[]
[]
[]
[]
[]
[]
[]
[]
[]
[]
[]
[]
[]
[]
[]
[]
[]
[]
[]
[]
[]
[]
[]
[]
[]
[]
[]
[]
[]
[]
[]
[]
[]
[]
[]
[]
[]
[]
[]
[]
[]
[]
[]
[]
[]
[]
[]
[]
[]
[]
[]
[]
[]
[]
[]
[]
[]
[]
[]
[]
[]
[]
[]
[]
[]
[]
[]
[]
[]
[]
[]
[]
[]
[]
[]
[]
[]
[]
[]
[]
[]
[]
[]
[]
[]
[]
[]
[]
[]
[]
[]
[]
[]
[]
[]
[]
[]
[]
[]
[]
[]
[]
[]
[]
[]
[]
[]
[]
[]
[]
[]
[]
[]
[]
[]
[]
[]
[]
[]
[]
[]
[]
[]
[]
[]
[]
[]
[]
[]
[]
[]
[]
[]
[]
[]
[]
[]
[]
[]
[]
[]
[]
[]
[]
[]
[]
[]
[]
[]
[]
[]
[]
[]
[]
[]
[]
[]
[]
[]
[]
[]
[]
[]
[]
[]
[]
[]
[]
[]
[]
[]
[]
[]
[]
[]
[]
[]
[]
[]
[]
[]
[]
[]
[]
[]
[]
[]
[]
[]
[]
[]
[]
[]
[]
[]
[]
[]
[]
[]
[]
[]
[]
[]
[]
[]
[]
[]
[]
[]
[]
[]
[]
[]
[]
[]
[]
[]
[]
[]
[]
[]
[]
[]
[]
[]
[]
[]
[]
[]
[]
[]
[]
[]
[]
[]
[]
[]
[]
[]
[]
[]
[]
[]
[]
[]
[]
[]
[]
[]
[]
[]
[]
[]
[]
[]
[]
[]
[]
[]
[]
[]
[]
[]
[]
[]
[]
[]
[]
[]
[]
[]
[]
[]
[]
[]
[]
[]
[]
[]
[]
[]
[]
[]
[]
[]
[]
[]
[]
[]
[]
[]
[]
[]
[]
[]
[]
[]
[]
[]
[]
[]
[]
[]
[]
[]
[]
[]
[]
[]
[]
[]
[]
[]
[]
[]
[]
[]
[]
[]
[]
[]
[]
[]
[]
[]
[]
[]
[]
[]
[]
[]
[]
[]
[]
[]
[]
[]
[]
[]
[]
[]
[]
[]
[]
[]
[]
[]
[]
[]
[]
[]
[]
[]
[]
[]
[]
[]
[]
[]
[]
[]
[]
[]
[]
[]
[]
[]
[]
[]
[]
[]
[]
[]
[]
[]
[]
[]
[]
[]
[]
[]
[]
[]
[]
[]
[]
[]
[]
[]
[]
[]
[]
[]
[]
[]
[]
[]
[]
[]
[]
[]
[]
[]
[]
[]
[]
[]
[]
[]
[]
[]
[]
[]
[]
[]
[]
[]
[]
[]
[]
[]
[]
[]
[]
[]
[]
[]
[]
[]
[]
[]
[]
[]
[]
[]
[]
[]
[]
[]
[]
[]
[]
[]
[]
[]
[]
[]
[]
[]
[]
[]
[]
[]
[]
[]
[]
[]
[]
[]
[]
[]
[]
[]
[]
[]
[]
[]
[]
[]
[]
[]
[]
[]
[]
[]
[]
[]
[]
[]
[]
[]
[]
[]
[]
[]
[]
[]
[]
[]
[]
[]
[]
[]
[]
[]
[]
[]
[]
[]
[]
[]
[]
[]
[]
[]
[]
[]
[]
[]
[]
[]
[]
[]
[]
[]
[]
[]
[]
[]
[]
[]
[]
[]
[]
[]
[]
[]
[]
[]
[]
[]
[]
[]
[]
[]
[]
[]
[]
[]
[]
[]
[]
[]
[]
[]
[]
[]
[]
[]
[]
[]
[]
[]
[]
[]
[]
[]
[]
[]
[]
[]
[]
[]
[]
[]
[]
[]
[]
[]
[]
[]
[]
[]
[]
[]
[]
[]
[]
[]
[]
[]
[]
[]
[]
[]
[]
[]
[]
[]
[]
[]
[]
[]
[]
[]
[]
[]
[]
[]
[]
[]
[]
[]
[]
[]
[]
[]
[]
[]
[]
[]
[]
[]
[]
[]
[]
[]
[]
[]
[]
[]
[]
[]
[]
[]
[]
[]
[]
[]
[]
[]
[]
[]
[]
[]
[]
[]
[]
[]
[]
[]
[]
[]
[]
[]
[]
[]
[]
[]
[]
[]
[]
[]
[]
[]
[]
[]
[]
[]
[]
[]
[]
[]
[]
[]
[]
[]
[]
[]
[]
[]
[]
[]
[]
[]
[]
[]
[]
[]
[]
[]
[]
[]
[]
[]
[]
[]
[]
[]
[]
[]
[]
[]
[]
[]
[]
[]
[]
[]
[]
[]
[]
[]
[]
[]
[]
[]
[]
[]
[]
[]
[]
[]
[]
[]
[]
[]
[]
[]
[]
[]
[]
[]
[]
[]
[]
[]
[]
[]
[]
[]
[]
[]
[]
[]
[]
[]
[]
[]
[]
[]
[]
[]
[]
[]
[]
[]
[]
[]
[]
[]
[]
[]
[]
[]
[]
[]
[]
[]
[]
[]
[]
[]
[]
[]
[]
[]
[]
[]
[]
[]
[]
[]
[]
[]
[]
[]
[]
[]
[]
[]
[]
[]
[]
[]
[]
[]
[]
[]
[]
[]
[]
[]
[]
[]
[]
[]
[]
[]
[]
[]
[]
[]
[]
[]
[]
[]
[]
[]
[]
[]
[]
[]
[]
[]
[]
[]
[]
[]
[]
[]
[]
[]
[]
[]
[]
[]
[]
[]
[]
[]
[]
[]
[]
[]
[]
[]
[]
[]
[]
[]
[]
[]
[]
[]
[]
[]
[]
[]
[]
[]
[]
[]
[]
[]
[]
[]
[]
[]
[]
[]
[]
[]
[]
[]
[]
[]
[]
[]
[]
[]
[]
[]
[]
[]
[]
[]
[]
[]
[]
[]
[]
[]
[]
[]
[]
[]
[]
[]
[]
[]
[]
[]
[]
[]
[]
[]
[]
[]
[]
[]
[]
[]
[]
[]
[]
[]
[]
[]
[]
[]
[]
[]
[]
[]
[]
[]
[]
[]
[]
[]
[]
[]
[]
[]
[]
[]
[]
[]
[]
[]
[]
[]
[]
[]
[]
[]
[]
[]
[]
[]
[]
[]
[]
[]
[]
[]
[]
[]
[]
[]
[]
[]
[]
[]
[]
[]
[]
[]
[]
[]
[]
[]
[]
[]
[]
[]
[]
[]
[]
[]
[]
[]
[]
[]
[]
[]
[]
[]
[]
[]
[]
[]
[]
[]
[]
[]
[]
[]
[]
[]
[]
[]
[]
[]
[]
[]
[]
[]
[]
[]
[]
[]
[]
[]
[]
[]
[]
[]
[]
[]
[]
[]
[]
[]
[]
[]
[]
[]
[]
[]
[]
[]
[]
[]
[]
[]
[]
[]
[]
[]
[]
[]
[]
[]
[]
[]
[]
[]
[]
[]
[]
[]
[]
[]
[]
[]
[]
[]
[]
[]
[]
[]
[]
[]
[]
[]
[]
[]
[]
[]
[]
[]
[]
[]
[]
[]
[]
[]
[]
[]
[]
[]
[]
[]
[]
[]
[]
[]
[]
[]
[]
[]
[]
[]
[]
[]
[]
[]
[]
[]
[]
[]
[]
[]
[]
[]
[]
[]
[]
[]
[]
[]
[]
[]
[]
[]
[]
[]
[]
[]
[]
[]
[]
[]
[]
[]
[]
[]
[]
[]
[]
[]
[]
[]
[]
[]
[]
[]
[]
[]
[]
[]
[]
[]
[]
[]
[]
[]
[]
[]
[]
[]
[]
[]
[]
[]
[]
[]
[]
[]
[]
[]
[]
[]
[]
[]
[]
[]
[]
[]
[]
[]
[]
[]
[]
[]
[]
[]
[]
[]
[]
[]
[]
[]
[]
[]
[]
[]
[]
[]
[]
[]
[]
[]
[]
[]
[]
[]
[]
[]
[]
[]
[]
[]
[]
[]
[]
[]
[]
[]
[]
[]
[]
[]
[]
[]
[]
[]
[]
[]
[]
[]
[]
[]
[]
[]
[]
[]
[]
[]
[]
[]
[]
[]
[]
[]
[]
[]
[]
[]
[]
[]
[]
[]
[]
[]
[]
[]
[]
[]
[]
[]
[]
[]
[]
[]
[]
[]
[]
[]
[]
[]
[]
[]
[]
[]
[]
[]
[]
[]
[]
[]
[]
[]
[]
[]
[]
[]
[]
[]
[]
[]
[]
[]
[]
[]
[]
[]
[]
[]
[]
[]
[]
[]
[]
[]
[]
[]
[]
[]
[]
[]
[]
[]
[]
[]
[]
[]
[]
[]
[]
[]
[]
[]
[]
[]
[]
[]
[]
[]
[]
[]
[]
[]
[]
[]
[]
[]
[]
[]
[]
[]
[]
[]
[]
[]
[]
[]
[]
[]
[]
[]
[]
[]
[]
[]
[]
[]
[]
[]
[]
[]
[]
[]
[]
[]
[]
[]
[]
[]
[]
[]
[]
[]
[]
[]
[]
[]
[]
[]
[]
[]
[]
[]
[]
[]
[]
[]
[]
[]
[]
[]
[]
[]
[]
[]
[]
[]
[]
[]
[]
[]
[]
[]
[]
[]
[]
[]
[]
[]
[]
[]
[]
[]
[]
[]
[]
[]
[]
[]
[]
[]
[]
[]
[]
[]
[]
[]
[]
[]
[]
[]
[]
[]
[]
[]
[]
[]
[]
[]
[]
[]
[]
[]
[]
[]
[]
[]
[]
[]
[]
[]
[]
[]
[]
[]
[]
[]
[]
[]
[]
[]
[]
[]
[]
[]
[]
[]
[]
[]
[]
[]
[]
[]
[]
[]
[]
[]
[]
[]
[]
[]
[]
[]
[]
[]
[]
[]
[]
[]
[]
[]
[]
[]
[]
[]
[]
[]
[]
[]
[]
[]
[]
[]
[]
[]
[]
[]
[]
[]
[]
[]
[]
[]
[]
[]
[]
[]
[]
[]
[]
[]
[]
[]
[]
[]
[]
[]
[]
[]
[]
[]
[]
[]
[]
[]
[]
[]
[]
[]
[]
[]
[]
[]
[]
[]
[]
[]
[]
[]
[]
[]
[]
[]
[]
[]
[]
[]
[]
[]
[]
[]
[]
[]
[]
[]
[]
[]
[]
[]
[]
[]
[]
[]
[]
[]
[]
[]
[]
[]
[]
[]
[]
[]
[]
[]
[]
[]
[]
[]
[]
[]
[]
[]
[]
[]
[]
[]
[]
[]
[]
[]
[]
[]
[]
[]
[]
[]
[]
[]
[]
[]
[]
[]
[]
[]
[]
[]
[]
[]
[]
[]
[]
[]
[]
[]
[]
[]
[]
[]
[]
[]
[]
[]
[]
[]
[]
[]
[]
[]
[]
[]
[]
[]
[]
[]
[]
[]
[]
[]
[]
[]
[]
[]
[]
[]
[]
[]
[]
[]
[]
[]
[]
[]
[]
[]
[]
[]
[]
[]
[]
[]
[]
[]
[]
[]
[]
[]
[]
[]
[]
[]
[]
[]
[]
[]
[]
[]
[]
[]
[]
[]
[]
[]
[]
[]
[]
[]
[]
[]
[]
[]
[]
[]
[]
[]
[]
[]
[]
[]
[]
[]
[]
[]
[]
[]
[]
[]
[]
[]
[]
[]
[]
[]
[]
[]
[]
[]
[]
[]
[]
[]
[]
[]
[]
[]
[]
[]
[]
[]
[]
[]
[]
[]
[]
[]
[]
[]
[]
[]
[]
[]
[]
[]
[]
[]
[]
[]
[]
[]
[]
[]
[]
[]
[]
[]
[]
[]
[]
[]
[]
[]
[]
[]
[]
[]
[]
[]
[]
[]
[]
[]
[]
[]
[]
[]
[]
[]
[]
[]
[]
[]
[]
[]
[]
[]
[]
[]
[]
[]
[]
[]
[]
[]
[]
[]
[]
[]
[]
[]
[]
[]
[]
[]
[]
[]
[]
[]
[]
[]
[]
[]
[]
[]
[]
[]
[]
[]
[]
[]
[]
[]
[]
[]
[]
[]
[]
[]
[]
[]
[]
[]
[]
[]
[]
[]
[]
[]
[]
[]
[]
[]
[]
[]
[]
[]
[]
[]
[]
[]
[]
[]
[]
[]
[]
[]
[]
[]
[]
[]
[]
[]
[]
[]
[]
[]
[]
[]
[]
[]
[]
[]
[]
[]
[]
[]
[]
[]
[]
[]
[]
[]
[]
[]
[]
[]
[]
[]
[]
[]
[]
[]
[]
[]
[]
[]
[]
[]
[]
[]
[]
[]
[]
[]
[]
[]
[]
[]
[]
[]
[]
[]
[]
[]
[]
[]
[]
[]
[]
[]
[]
[]
[]
[]
[]
[]
[]
[]
[]
[]
[]
[]
[]
[]
[]
[]
[]
[]
[]
[]
[]
[]
[]
[]
[]
[]
[]
[]
[]
[]
[]
[]
[]
[]
[]
[]
[]
[]
[]
[]
[]
[]
[]
[]
[]
[]
[]
[]
[]
[]
[]
[]
[]
[]
[]
[]
[]
[]
[]
[]
[]
[]
[]
[]
[]
[]
[]
[]
[]
[]
[]
[]
[]
[]
[]
[]
[]
[]
[]
[]
[]
[]
[]
[]
[]
[]
[]
[]
[]
[]
[]
[]
[]
[]
[]
[]
[]
[]
[]
[]
[]
[]
[]
[]
[]
[]
[]
[]
[]
[]
[]
[]
[]
[]
[]
[]
[]
[]
[]
[]
[]
[]
[]
[]
[]
[]
[]
[]
[]
[]
[]
[]
[]
[]
[]
[]
[]
[]
[]
[]
[]
[]
[]
[]
[]
[]
[]
[]
[]
[]
[]
[]
[]
[]
[]
[]
[]
[]
[]
[]
[]
[]
[]
[]
[]
[]
[]
[]
[]
[]
[]
[]
[]
[]
[]
[]
[]
[]
[]
[]
[]
[]
[]
[]
[]
[]
[]
[]
[]
[]
[]
[]
[]
[]
[]
[]
[]
[]
[]
[]
[]
[]
[]
[]
[]
[]
[]
[]
[]
[]
[]
[]
[]
[]
[]
[]
[]
[]
[]
[]
[]
[]
[]
[]
[]
[]
[]
[]
[]
[]
[]
[]
[]
[]
[]
[]
[]
[]
[]
[]
[]
[]
[]
[]
[]
[]
[]
[]
[]
[]
[]
[]
[]
[]
[]
[]
[]
[]
[]
[]
[]
[]
[]
[]
[]
[]
[]
[]
[]
[]
[]
[]
[]
[]
[]
[]
[]
[]
[]
[]
[]
[]
[]
[]
[]
[]
[]
[]
[]
[]
[]
[]
[]
[]
[]
[]
[]
[]
[]
[]
[]
[]
[]
[]
[]
[]
[]
[]
[]
[]
[]
[]
[]
[]
[]
[]
[]
[]
[]
[]
[]
[]
[]
[]
[]
[]
[]
[]
[]
[]
[]
[]
[]
[]
[]
[]
[]
[]
[]
[]
[]
[]
[]
[]
[]
[]
[]
[]
[]
[]
[]
[]
[]
[]
[]
[]
[]
[]
[]
[]
[]
[]
[]
[]
[]
[]
[]
[]
[]
[]
[]
[]
[]
[]
[]
[]
[]
[]
[]
[]
[]
[]
[]
[]
[]
[]
[]
[]
[]
[]
[]
[]
[]
[]
[]
[]
[]
[]
[]
[]
[]
[]
[]
[]
[]
[]
[]
[]
[]
[]
[]
[]
[]
[]
[]
[]
[]
[]
[]
[]
[]
[]
[]
[]
[]
[]
[]
[]
[]
[]
[]
[]
[]
[]
[]
[]
[]
[]
[]
[]
[]
[]
[]
[]
[]
[]
[]
[]
[]
[]
[]
[]
[]
[]
[]
[]
[]
[]
[]
[]
[]
[]
[]
[]
[]
[]
[]
[]
[]
[]
[]
[]
[]
[]
[]
[]
[]
[]
[]
[]
[]
[]
[]
[]
[]
[]
[]
[]
[]
[]
[]
[]
[]
[]
[]
[]
[]
[]
[]
[]
[]
[]
[]
[]
[]
[]
[]
[]
[]
[]
[]
[]
[]
[]
[]
[]
[]
[]
[]
[]
[]
[]
[]
[]
[]
[]
[]
[]
[]
[]
[]
[]
[]
[]
[]
[]
[]
[]
[]
[]
[]
[]
[]
[]
[]
[]
[]
[]
[]
[]
[]
[]
[]
[]
[]
[]
[]
[]
[]
[]
[]
[]
[]
[]
[]
[]
[]
[]
[]
[]
[]
[]
[]
[]
[]
[]
[]
[]
[]
[]
[]
[]
[]
[]
[]
[]
[]
[]
[]
[]
[]
[]
[]
[]
[]
[]
[]
[]
[]
[]
[]
[]
[]
[]
[]
[]
[]
[]
[]
[]
[]
[]
[]
[]
[]
[]
[]
[]
[]
[]
[]
[]
[]
[]
[]
[]
[]
[]
[]
[]
[]
[]
[]
[]
[]
[]
[]
[]
[]
[]
[]
[]
[]
[]
[]
[]
[]
[]
[]
[]
[]
[]
[]
[]
[]
[]
[]
[]
[]
[]
[]
[]
[]
[]
[]
[]
[]
[]
[]
[]
[]
[]
[]
[]
[]
[]
[]
[]
[]
[]
[]
[]
[]
[]
[]
[]
[]
[]
[]
[]
[]
[]
[]
[]
[]
[]
[]
[]
[]
[]
[]
[]
[]
[]
[]
[]
[]
[]
[]
[]
[]
[]
[]
[]
[]
[]
[]
[]
[]
[]
[]
[]
[]
[]
[]
[]
[]
[]
[]
[]
[]
[]
[]
[]
[]
[]
[]
[]
[]
[]
[]
[]
[]
[]
[]
[]
[]
[]
[]
[]
[]
[]
[]
[]
[]
[]
[]
[]
[]
[]
[]
[]
[]
[]
[]
[]
[]
[]
[]
[]
[]
[]
[]
[]
[]
[]
[]
[]
[]
[]
[]
[]
[]
[]
[]
[]
[]
[]
[]
[]
[]
[]
[]
[]
[]
[]
[]
[]
[]
[]
[]
[]
[]
[]
[]
[]
[]
[]
[]
[]
[]
[]
[]
[]
[]
[]
[]
[]
[]
[]
[]
[]
[]
[]
[]
[]
[]
[]
[]
[]
[]
[]
[]
[]
[]
[]
[]
[]
[]
[]
[]
[]
[]
[]
[]
[]
[]
[]
[]
[]
[]
[]
[]
[]
[]
[]
[]
[]
[]
[]
[]
[]
[]
[]
[]
[]
[]
[]
[]
[]
[]
[]
[]
[]
[]
[]
[]
[]
[]
[]
[]
[]
[]
[]
[]
[]
[]
[]
[]
[]
[]
[]
[]
[]
[]
[]
[]
[]
[]
[]
[]
[]
[]
[]
[]
[]
[]
[]
[]
[]
[]
[]
[]
[]
[]
[]
[]
[]
[]
[]
[]
[]
[]
[]
[]
[]
[]
[]
[]
[]
[]
[]
[]
[]
[]
[]
[]
[]
[]
[]
[]
[]
[]
[]
[]
[]
[]
[]
[]
[]
[]
[]
[]
[]
[]
[]
[]
[]
[]
[]
[]
[]
[]
[]
[]
[]
[]
[]
[]
[]
[]
[]
[]
[]
[]
[]
[]
[]
[]
[]
[]
[]
[]
[]
[]
[]
[]
[]
[]
[]
[]
[]
[]
[]
[]
[]
[]
[]
[]
[]
[]
[]
[]
[]
[]
[]
[]
[]
[]
[]
[]
[]
[]
[]
[]
[]
[]
[]
[]
[]
[]
[]
[]
[]
[]
[]
[]
[]
[]
[]
[]
[]
[]
[]
[]
[]
[]
[]
[]
[]
[]
[]
[]
[]
[]
[]
[]
[]
[]
[]
[]
[]
[]
[]
[]
[]
[]
[]
[]
[]
[]
[]
[]
[]
[]
[]
[]
[]
[]
[]
[]
[]
[]
[]
[]
[]
[]
[]
[]
[]
[]
[]
[]
[]
[]
[]
[]
[]
[]
[]
[]
[]
[]
[]
[]
[]
[]
[]
[]
[]
[]
[]
[]
[]
[]
[]
[]
[]
[]
[]
[]
[]
[]
[]
[]
[]
[]
[]
[]
[]
[]
[]
[]
[]
[]
[]
[]
[]
[]
[]
[]
[]
[]
[]
[]
[]
[]
[]
[]
[]
[]
[]
[]
[]
[]
[]
[]
[]
[]
[]
[]
[]
[]
[]
[]
[]
[]
[]
[]
[]
[]
[]
[]
[]
[]
[]
[]
[]
[]
[]
[]
[]
[]
[]
[]
[]
[]
[]
[]
[]
[]
[]
[]
[]
[]
[]
[]
[]
[]
[]
[]
[]
[]
[]
[]
[]
[]
[]
[]
[]
[]
[]
[]
[]
[]
[]
[]
[]
[]
[]
[]
[]
[]
[]
[]
[]
[]
[]
[]
[]
[]
[]
[]
[]
[]
[]
[]
[]
[]
[]
[]
[]
[]
[]
[]
[]
[]
[]
[]
[]
[]
[]
[]
[]
[]
[]
[]
[]
[]
[]
[]
[]
[]
[]
[]
[]
[]
[]
[]
[]
[]
[]
[]
[]
[]
[]
[]
[]
[]
[]
[]
[]
[]
[]
[]
[]
[]
[]
[]
[]
[]
[]
[]
[]
[]
[]
[]
[]
[]
[]
[]
[]
[]
[]
[]
[]
[]
[]
[]
[]
[]
[]
[]
[]
[]
[]
[]
[]
[]
[]
[]
[]
[]
[]
[]
[]
[]
[]
[]
[]
[]
[]
[]
[]
[]
[]
[]
[]
[]
[]
[]
[]
[]
[]
[]
[]
[]
[]
[]
[]
[]
[]
[]
[]
[]
[]
[]
[]
[]
[]
[]
[]
[]
[]
[]
[]
[]
[]
[]
[]
[]
[]
[]
[]
[]
[]
[]
[]
[]
[]
[]
[]
[]
[]
[]
[]
[]
[]
[]
[]
[]
[]
[]
[]
[]
[]
[]
[]
[]
[]
[]
[]
[]
[]
[]
[]
[]
[]
[]
[]
[]
[]
[]
[]
[]
[]
[]
[]
[]
[]
[]
[]
[]
[]
[]
[]
[]
[]
[]
[]
[]
[]
[]
[]
[]
[]
[]
[]
[]
[]
[]
[]
[]
[]
[]
[]
[]
[]
[]
[]
[]
[]
[]
[]
[]
[]
[]
[]
[]
[]
[]
[]
[]
[]
[]
[]
[]
[]
[]
[]
[]
[]
[]
[]
[]
[]
[]
[]
[]
[]
[]
[]
[]
[]
[]
[]
[]
[]
[]
[]
[]
[]
[]
[]
[]
[]
[]
[]
[]
[]
[]
[]
[]
[]
[]
[]
[]
[]
[]
[]
[]
[]
[]
[]
[]
[]
[]
[]
[]
[]
[]
[]
[]
[]
[]
[]
[]
[]
[]
[]
[]
[]
[]
[]
[]
[]
[]
[]
[]
[]
[]
[]
[]
[]
[]
[]
[]
[]
[]
[]
[]
[]
[]
[]
[]
[]
[]
[]
[]
[]
[]
[]
[]
[]
[]
[]
[]
[]
[]
[]
[]
[]
[]
[]
[]
[]
[]
[]
[]
[]
[]
[]
[]
[]
[]
[]
[]
[]
[]
[]
[]
[]
[]
[]
[]
[]
[]
[]
[]
[]
[]
[]
[]
[]
[]
[]
[]
[]
[]
[]
[]
[]
[]
[]
[]
[]
[]
[]
[]
[]
[]
[]
[]
[]
[]
[]
[]
[]
[]
[]
[]
[]
[]
[]
[]
[]
[]
[]
[]
[]
[]
[]
[]
[]
[]
[]
[]
[]
[]
[]
[]
[]
[]
[]
[]
[]
[]
[]
[]
[]
[]
[]
[]
[]
[]
[]
[]
[]
[]
[]
[]
[]
[]
[]
[]
[]
[]
[]
[]
[]
[]
[]
[]
[]
[]
[]
[]
[]
[]
[]
[]
[]
[]
[]
[]
[]
[]
[]
[]
[]
[]
[]
[]
[]
[]
[]
[]
[]
[]
[]
[]
[]
[]
[]
[]
[]
[]
[]
[]
[]
[]
[]
[]
[]
[]
[]
[]
[]
[]
[]
[]
[]
[]
[]
[]
[]
[]
[]
[]
[]
[]
[]
[]
[]
[]
[]
[]
[]
[]
[]
[]
[]
[]
[]
[]
[]
[]
[]
[]
[]
[]
[]
[]
[]
[]
[]
[]
[]
[]
[]
[]
[]
[]
[]
[]
[]
[]
[]
[]
[]
[]
[]
[]
[]
[]
[]
[]
[]
[]
[]
[]
[]
[]
[]
[]
[]
[]
[]
[]
[]
[]
[]
[]
[]
[]
[]
[]
[]
[]
[]
[]
[]
[]
[]
[]
[]
[]
[]
[]
[]
[]
[]
[]
[]
[]
[]
[]
[]
[]
[]
[]
[]
[]
[]
[]
[]
[]
[]
[]
[]
[]
[]
[]
[]
[]
[]
[]
[]
[]
[]
[]
[]
[]
[]
[]
[]
[]
[]
[]
[]
[]
[]
[]
[]
[]
[]
[]
[]
[]
[]
[]
[]
[]
[]
[]
[]
[]
[]
[]
[]
[]
[]
[]
[]
[]
[]
[]
[]
[]
[]
[]
[]
[]
[]
[]
[]
[]
[]
[]
[]
[]
[]
[]
[]
[]
[]
[]
[]
[]
[]
[]
[]
[]
[]
[]
[]
[]
[]
[]
[]
[]
[]
[]
[]
[]
[]
[]
[]
[]
[]
[]
[]
[]
[]
[]
[]
[]
[]
[]
[]
[]
[]
[]
[]
[]
[]
[]
[]
[]
[]
[]
[]
[]
[]
[]
[]
[]
[]
[]
[]
[]
[]
[]
[]
[]
[]
[]
[]
[]
[]
[]
[]
[]
[]
[]
[]
[]
[]
[]
[]
[]
[]
[]
[]
[]
[]
[]
[]
[]
[]
[]
[]
[]
[]
[]
[]
[]
[]
[]
[]
[]
[]
[]
[]
[]
[]
[]
[]
[]
[]
[]
[]
[]
[]
[]
[]
[]
[]
[]
[]
[]
[]
[]
[]
[]
[]
[]
[]
[]
[]
[]
[]
[]
[]
[]
[]
[]
[]
[]
[]
[]
[]
[]
[]
[]
[]
[]
[]
[]
[]
[]
[]
[]
[]
[]
[]
[]
[]
[]
[]
[]
[]
[]
[]
[]
[]
[]
[]
[]
[]
[]
[]
[]
[]
[]
[]
[]
[]
[]
[]
[]
[]
[]
[]
[]
[]
[]
[]
[]
[]
[]
[]
[]
[]
[]
[]
[]
[]
[]
[]
[]
[]
[]
[]
[]
[]
[]
[]
[]
[]
[]
[]
[]
[]
[]
[]
[]
[]
[]
[]
[]
[]
[]
[]
[]
[]
[]
[]
[]
[]
[]
[]
[]
[]
[]
[]
[]
[]
[]
[]
[]
[]
[]
[]
[]
[]
[]
[]
[]
[]
[]
[]
[]
[]
[]
[]
[]
[]
[]
[]
[]
[]
[]
[]
[]
[]
[]
[]
[]
[]
[]
[]
[]
[]
[]
[]
[]
[]
[]
[]
[]
[]
[]
[]
[]
[]
[]
[]
[]
[]
[]
[]
[]
[]
[]
[]
[]
[]
[]
[]
[]
[]
[]
[]
[]
[]
[]
[]
[]
[]
[]
[]
[]
[]
[]
[]
[]
[]
[]
[]
[]
[]
[]
[]
[]
[]
[]
[]
[]
[]
[]
[]
[]
[]
[]
[]
[]
[]
[]
[]
[]
[]
[]
[]
[]
[]
[]
[]
[]
[]
[]
[]
[]
[]
[]
[]
[]
[]
[]
[]
[]
[]
[]
[]
[]
[]
[]
[]
[]
[]
[]
[]
[]
[]
[]
[]
[]
[]
[]
[]
[]
[]
[]
[]
[]
[]
[]
[]
[]
[]
[]
[]
[]
[]
[]
[]
[]
[]
[]
[]
[]
[]
[]
[]
[]
[]
[]
[]
[]
[]
[]
[]
[]
[]
[]
[]
[]
[]
[]
[]
[]
[]
[]
[]
[]
[]
[]
[]
[]
[]
[]
[]
[]
[]
[]
[]
[]
[]
[]
[]
[]
[]
[]
[]
[]
[]
[]
[]
[]
[]
[]
[]
[]
[]
[]
[]
[]
[]
[]
[]
[]
[]
[]
[]
[]
[]
[]
[]
[]
[]
[]
[]
[]
[]
[]
[]
[]
[]
[]
[]
[]
[]
[]
[]
[]
[]
[]
[]
[]
[]
[]
[]
[]
[]
[]
[]
[]
[]
[]
[]
[]
[]
[]
[]
[]
[]
[]
[]
[]
[]
[]
[]
[]
[]
[]
[]
[]
[]
[]
[]
[]
[]
[]
[]
[]
[]
[]
[]
[]
[]
[]
[]
[]
[]
[]
[]
[]
[]
[]
[]
[]
[]
[]
[]
[]
[]
[]
[]
[]
[]
[]
[]
[]
[]
[]
[]
[]
[]
[]
[]
[]
[]
[]
[]
[]
[]
[]
[]
[]
[]
[]
[]
[]
[]
[]
[]
[]
[]
[]
[]
[]
[]
[]
[]
[]
[]
[]
[]
[]
[]
[]
[]
[]
[]
[]
[]
[]
[]
[]
[]
[]
[]
[]
[]
[]
[]
[]
[]
[]
[]
[]
[]
[]
[]
[]
[]
[]
[]
[]
[]
[]
[]
[]
[]
[]
[]
[]
[]
[]
[]
[]
[]
[]
[]
[]
[]
[]
[]
[]
[]
[]
[]
[]
[]
[]
[]
[]
[]
[]
[]
[]
[]
[]
[]
[]
[]
[]
[]
[]
[]
[]
[]
[]
[]
[]
[]
[]
[]
[]
[]
[]
[]
[]
[]
[]
[]
[]
[]
[]
[]
[]
[]
[]
[]
[]
[]
[]
[]
[]
[]
[]
[]
[]
[]
[]
[]
[]
[]
[]
[]
[]
[]
[]
[]
[]
[]
[]
[]
[]
[]
[]
[]
[]
[]
[]
[]
[]
[]
[]
[]
[]
[]
[]
[]
[]
[]
[]
[]
[]
[]
[]
[]
[]
[]
[]
[]
[]
[]
[]
[]
[]
[]
[]
[]
[]
[]
[]
[]
[]
[]
[]
[]
[]
[]
[]
[]
[]
[]
[]
[]
[]
[]
[]
[]
[]
[]
[]
[]
[]
[]
[]
[]
[]
[]
[]
[]
[]
[]
[]
[]
[]
[]
[]
[]
[]
[]
[]
[]
[]
[]
[]
[]
[]
[]
[]
[]
[]
[]
[]
[]
[]
[]
[]
[]
[]
[]
[]
[]
[]
[]
[]
[]
[]
[]
[]
[]
[]
[]
[]
[]
[]
[]
[]
[]
[]
[]
[]
[]
[]
[]
[]
[]
[]
[]
[]
[]
[]
[]
[]
[]
[]
[]
[]
[]
[]
[]
[]
[]
[]
[]
[]
[]
[]
[]
[]
[]
[]
[]
[]
[]
[]
[]
[]
[]
[]
[]
[]
[]
[]
[]
[]
[]
[]
[]
[]
[]
[]
[]
[]
[]
[]
[]
[]
[]
[]
[]
[]
[]
[]
[]
[]
[]
[]
[]
[]
[]
[]
[]
[]
[]
[]
[]
[]
[]
[]
[]
[]
[]
[]
[]
[]
[]
[]
[]
[]
[]
[]
[]
[]
[]
[]
[]
[]
[]
[]
[]
[]
[]
[]
[]
[]
[]
[]
[]
[]
[]
[]
[]
[]
[]
[]
[]
[]
[]
[]
[]
[]
[]
[]
[]
[]
[]
[]
[]
[]
[]
[]
[]
[]
[]
[]
[]
[]
[]
[]
[]
[]
[]
[]
[]
[]
[]
[]
[]
[]
[]
[]
[]
[]
[]
[]
[]
[]
[]
[]
[]
[]
[]
[]
[]
[]
[]
[]
[]
[]
[]
[]
[]
[]
[]
[]
[]
[]
[]
[]
[]
[]
[]
[]
[]
[]
[]
[]
[]
[]
[]
[]
[]
[]
[]
[]
[]
[]
[]
[]
[]
[]
[]
[]
[]
[]
[]
[]
[]
[]
[]
[]
[]
[]
[]
[]
[]
[]
[]
[]
[]
[]
[]
[]
[]
[]
[]
[]
[]
[]
[]
[]
[]
[]
[]
[]
[]
[]
[]
[]
[]
[]
[]
[]
[]
[]
[]
[]
[]
[]
[]
[]
[]
[]
[]
[]
[]
[]
[]
[]
[]
[]
[]
[]
[]
[]
[]
[]
[]
[]
[]
[]
[]
[]
[]
[]
[]
[]
[]
[]
[]
[]
[]
[]
[]
[]
[]
[]
[]
[]
[]
[]
[]
[]
[]
[]
[]
[]
[]
[]
[]
[]
[]
[]
[]
[]
[]
[]
[]
[]
[]
[]
[]
[]
[]
[]
[]
[]
[]
[]
[]
[]
[]
[]
[]
[]
[]
[]
[]
[]
[]
[]
[]
[]
[]
[]
[]
[]
[]
[]
[]
[]
[]
[]
[]
[]
[]
[]
[]
[]
[]
[]
[]
[]
[]
[]
[]
[]
[]
[]
[]
[]
[]
[]
[]
[]
[]
[]
[]
[]
[]
[]
[]
[]
[]
[]
[]
[]
[]
[]
[]
[]
[]
[]
[]
[]
[]
[]
[]
[]
[]
[]
[]
[]
[]
[]
[]
[]
[]
[]
[]
[]
[]
[]
[]
[]
[]
[]
[]
[]
[]
[]
[]
[]
[]
[]
[]
[]
[]
[]
[]
[]
[]
[]
[]
[]
[]
[]
[]
[]
[]
[]
[]
[]
[]
[]
[]
[]
[]
[]
[]
[]
[]
[]
[]
[]
[]
[]
[]
[]
[]
[]
[]
[]
[]
[]
[]
[]
[]
[]
[]
[]
[]
[]
[]
[]
[]
[]
[]
[]
[]
[]
[]
[]
[]
[]
[]
[]
[]
[]
[]
[]
[]
[]
[]
[]
[]
[]
[]
[]
[]
[]
[]
[]
[]
[]
[]
[]
[]
[]
[]
[]
[]
[]
[]
[]
[]
[]
[]
[]
[]
[]
[]
[]
[]
[]
[]
[]
[]
[]
[]
[]
[]
[]
[]
[]
[]
[]
[]
[]
[]
[]
[]
[]
[]
[]
[]
[]
[]
[]
[]
[]
[]
[]
[]
[]
[]
[]
[]
[]
[]
[]
[]
[]
[]
[]
[]
[]
[]
[]
[]
[]
[]
[]
[]
[]
[]
[]
[]
[]
[]
[]
[]
[]
[]
[]
[]
[]
[]
[]
[]
[]
[]
[]
[]
[]
[]
[]
[]
[]
[]
[]
[]
[]
[]
[]
[]
[]
[]
[]
[]
[]
[]
[]
[]
[]
[]
[]
[]
[]
[]
[]
[]
[]
[]
[]
[]
[]
[]
[]
[]
[]
[]
[]
[]
[]
[]
[]
[]
[]
[]
[]
[]
[]
[]
[]
[]
[]
[]
[]
[]
[]
[]
[]
[]
[]
[]
[]
[]
[]
[]
[]
[]
[]
[]
[]
[]
[]
[]
[]
[]
[]
[]
[]
[]
[]
[]
[]
[]
[]
[]
[]
[]
[]
[]
[]
[]
[]
[]
[]
[]
[]
[]
[]
[]
[]
[]
[]
[]
[]
[]
[]
[]
[]
[]
[]
[]
[]
[]
[]
[]
[]
[]
[]
[]
[]
[]
[]
[]
[]
[]
[]
[]
[]
[]
[]
[]
[]
[]
[]
[]
[]
[]
[]
[]
[]
[]
[]
[]
[]
[]
[]
[]
[]
[]
[]
[]
[]
[]
[]
[]
[]
[]
[]
[]
[]
[]
[]
[]
[]
[]
[]
[]
[]
[]
[]
[]
[]
[]
[]
[]
[]
[]
[]
[]
[]
[]
[]
[]
[]
[]
[]
[]
[]
[]
[]
[]
[]
[]
[]
[]
[]
[]
[]
[]
[]
[]
[]
[]
[]
[]
[]
[]
[]
[]
[]
[]
[]
[]
[]
[]
[]
[]
[]
[]
[]
[]
[]
[]
[]
[]
[]
[]
[]
[]
[]
[]
[]
[]
[]
[]
[]
[]
[]
[]
[]
[]
[]
[]
[]
[]
[]
[]
[]
[]
[]
[]
[]
[]
[]
[]
[]
[]
[]
[]
[]
[]
[]
[]
[]
[]
[]
[]
[]
[]
[]
[]
[]
[]
[]
[]
[]
[]
[]
[]
[]
[]
[]
[]
[]
[]
[]
[]
[]
[]
[]
[]
[]
[]
[]
[]
[]
[]
[]
[]
[]
[]
[]
[]
[]
[]
[]
[]
[]
[]
[]
[]
[]
[]
[]
[]
[]
[]
[]
[]
[]
[]
[]
[]
[]
[]
[]
[]
[]
[]
[]
[]
[]
[]
[]
[]
[]
[]
[]
[]
[]
[]
[]
[]
[]
[]
[]
[]
[]
[]
[]
[]
[]
[]
[]
[]
[]
[]
[]
[]
[]
[]
[]
[]
[]
[]
[]
[]
[]
[]
[]
[]
[]
[]
[]
[]
[]
[]
[]
[]
[]
[]
[]
[]
[]
[]
[]
[]
[]
[]
[]
[]
[]
[]
[]
[]
[]
[]
[]
[]
[]
[]
[]
[]
[]
[]
[]
[]
[]
[]
[]
[]
[]
[]
[]
[]
[]
[]
[]
[]
[]
[]
[]
[]
[]
[]
[]
[]
[]
[]
[]
[]
[]
[]
[]
[]
[]
[]
[]
[]
[]
[]
[]
[]
[]
[]
[]
[]
[]
[]
[]
[]
[]
[]
[]
[]
[]
[]
[]
[]
[]
[]
[]
[]
[]
[]
[]
[]
[]
[]
[]
[]
[]
[]
[]
[]
[]
[]
[]
[]
[]
[]
[]
[]
[]
[]
[]
[]
[]
[]
[]
[]
[]
[]
[]
[]
[]
[]
[]
[]
[]
[]
[]
[]
[]
[]
[]
[]
[]
[]
[]
[]
[]
[]
[]
[]
[]
[]
[]
[]
[]
[]
[]
[]
[]
[]
[]
[]
[]
[]
[]
[]
[]
[]
[]
[]
[]
[]
[]
[]
[]
[]
[]
[]
[]
[]
[]
[]
[]
[]
[]
[]
[]
[]
[]
[]
[]
[]
[]
[]
[]
[]
[]
[]
[]
[]
[]
[]
[]
[]
[]
[]
[]
[]
[]
[]
[]
[]
[]
[]
[]
[]
[]
[]
[]
[]
[]
[]
[]
[]
[]
[]
[]
[]
[]
[]
[]
[]
[]
[]
[]
[]
[]
[]
[]
[]
[]
[]
[]
[]
[]
[]
[]
[]
[]
[]
[]
[]
[]
[]
[]
[]
[]
[]
[]
[]
[]
[]
[]
[]
[]
[]
[]
[]
[]
[]
[]
[]
[]
[]
[]
[]
[]
[]
[]
[]
[]
[]
[]
[]
[]
[]
[]
[]
[]
[]
[]
[]
[]
[]
[]
[]
[]
[]
[]
[]
[]
[]
[]
[]
[]
[]
[]
[]
[]
[]
[]
[]
[]
[]
[]
[]
[]
[]
[]
[]
[]
[]
[]
[]
[]
[]
[]
[]
[]
[]
[]
[]
[]
[]
[]
[]
[]
[]
[]
[]
[]
[]
[]
[]
[]
[]
[]
[]
[]
[]
[]
[]
[]
[]
[]
[]
[]
[]
[]
[]
[]
[]
[]
[]
[]
[]
[]
[]
[]
[]
[]
[]
[]
[]
[]
[]
[]
[]
[]
[]
[]
[]
[]
[]
[]
[]
[]
[]
[]
[]
[]
[]
[]
[]
[]
[]
[]
[]
[]
[]
[]
[]
[]
[]
[]
[]
[]
[]
[]
[]
[]
[]
[]
[]
[]
[]
[]
[]
[]
[]
[]
[]
[]
[]
[]
[]
[]
[]
[]
[]
[]
[]
[]
[]
[]
[]
[]
[]
[]
[]
[]
[]
[]
[]
[]
[]
[]
[]
[]
[]
[]
[]
[]
[]
[]
[]
[]
[]
[]
[]
[]
[]
[]
[]
[]
[]
[]
[]
[]
[]
[]
[]
[]
[]
[]
[]
[]
[]
[]
[]
[]
[]
[]
[]
[]
[]
[]
[]
[]
[]
[]
[]
[]
[]
[]
[]
[]
[]
[]
[]
[]
[]
[]
[]
[]
[]
[]
[]
[]
[]
[]
[]
[]
[]
[]
[]
[]
[]
[]
[]
[]
[]
[]
[]
[]
[]
[]
[]
[]
[]
[]
[]
[]
[]
[]
[]
[]
[]
[]
[]
[]
[]
[]
[]
[]
[]
[]
[]
[]
[]
[]
[]
[]
[]
[]
[]
[]
[]
[]
[]
[]
[]
[]
[]
[]
[]
[]
[]
[]
[]
[]
[]
[]
[]
[]
[]
[]
[]
[]
[]
[]
[]
[]
[]
[]
[]
[]
[]
[]
[]
[]
[]
[]
[]
[]
[]
[]
[]
[]
[]
[]
[]
[]
[]
[]
[]
[]
[]
[]
[]
[]
[]
[]
[]
[]
[]
[]
[]
[]
[]
[]
[]
[]
[]
[]
[]
[]
[]
[]
[]
[]
[]
[]
[]
[]
[]
[]
[]
[]
[]
[]
[]
[]
[]
[]
[]
[]
[]
[]
[]
[]
[]
[]
[]
[]
[]
[]
[]
[]
[]
[]
[]
[]
[]
[]
[]
[]
[]
[]
[]
[]
[]
[]
[]
[]
[]
[]
[]
[]
[]
[]
[]
[]
[]
[]
[]
[]
[]
[]
[]
[]
[]
[]
[]
[]
[]
[]
[]
[]
[]
[]
[]
[]
[]
[]
[]
[]
[]
[]
[]
[]
[]
[]
[]
[]
[]
[]
[]
[]
[]
[]
[]
[]
[]
[]
[]
[]
[]
[]
[]
[]
[]
[]
[]
[]
[]
[]
[]
[]
[]
[]
[]
[]
[]
[]
[]
[]
[]
[]
[]
[]
[]
[]
[]
[]
[]
[]
[]
[]
[]
[]
[]
[]
[]
[]
[]
[]
[]
[]
[]
[]
[]
[]
[]
[]
[]
[]
[]
[]
[]
[]
[]
[]
[]
[]
[]
[]
[]
[]
[]
[]
[]
[]
[]
[]
[]
[]
[]
[]
[]
[]
[]
[]
[]
[]
[]
[]
[]
[]
[]
[]
[]
[]
[]
[]
[]
[]
[]
[]
[]
[]
[]
[]
[]
[]
[]
[]
[]
[]
[]
[]
[]
[]
[]
[]
[]
[]
[]
[]
[]
[]
[]
[]
[]
[]
[]
[]
[]
[]
[]
[]
[]
[]
[]
[]
[]
[]
[]
[]
[]
[]
[]
[]
[]
[]
[]
[]
[]
[]
[]
[]
[]
[]
[]
[]
[]
[]
[]
[]
[]
[]
[]
[]
[]
[]
[]
[]
[]
[]
[]
[]
[]
[]
[]
[]
[]
[]
[]
[]
[]
[]
[]
[]
[]
[]
[]
[]
[]
[]
[]
[]
[]
[]
[]
[]
[]
[]
[]
[]
[]
[]
[]
[]
[]
[]
[]
[]
[]
[]
[]
[]
[]
[]
[]
[]
[]
[]
[]
[]
[]
[]
[]
[]
[]
[]
[]
[]
[]
[]
[]
[]
[]
[]
[]
[]
[]
[]
[]
[]
[]
[]
[]
[]
[]
[]
[]
[]
[]
[]
[]
[]
[]
[]
[]
[]
[]
[]
[]
[]
[]
[]
[]
[]
[]
[]
[]
[]
[]
[]
[]
[]
[]
[]
[]
[]
[]
[]
[]
[]
[]
[]
[]
[]
[]
[]
[]
[]
[]
[]
[]
[]
[]
[]
[]
[]
[]
[]
[]
[]
[]
[]
[]
[]
[]
[]
[]
[]
[]
[]
[]
[]
[]
[]
[]
[]
[]
[]
[]
[]
[]
[]
[]
[]
[]
[]
[]
[]
[]
[]
[]
[]
[]
[]
[]
[]
[]
[]
[]
[]
[]
[]
[]
[]
[]
[]
[]
[]
[]
[]
[]
[]
[]
[]
[]
[]
[]
[]
[]
[]
[]
[]
[]
[]
[]
[]
[]
[]
[]
[]
[]
[]
[]
[]
[]
[]
[]
[]
[]
[]
[]
[]
[]
[]
[]
[]
[]
[]
[]
[]
[]
[]
[]
[]
[]
[]
[]
[]
[]
[]
[]
[]
[]
[]
[]
[]
[]
[]
[]
[]
[]
[]
[]
[]
[]
[]
[]
[]
[]
[]
[]
[]
[]
[]
[]
[]
[]
[]
[]
[]
[]
[]
[]
[]
[]
[]
[]
[]
[]
[]
[]
[]
[]
[]
[]
[]
[]
[]
[]
[]
[]
[]
[]
[]
[]
[]
[]
[]
[]
[]
[]
[]
[]
[]
[]
[]
[]
[]
[]
[]
[]
[]
[]
[]
[]
[]
[]
[]
[]
[]
[]
[]
[]
[]
[]
[]
[]
[]
[]
[]
[]
[]
[]
[]
[]
[]
[]
[]
[]
[]
[]
[]
[]
[]
[]
[]
[]
[]
[]
[]
[]
[]
[]
[]
[]
[]
[]
[]
[]
[]
[]
[]
[]
[]
[]
[]
[]
[]
[]
[]
[]
[]
[]
[]
[]
[]
[]
[]
[]
[]
[]
[]
[]
[]
[]
[]
[]
[]
[]
[]
[]
[]
[]
[]
[]
[]
[]
[]
[]
[]
[]
[]
[]
[]
[]
[]
[]
[]
[]
[]
[]
[]
[]
[]
[]
[]
[]
[]
[]
[]
[]
[]
[]
[]
[]
[]
[]
[]
[]
[]
[]
[]
[]
[]
[]
[]
[]
[]
[]
[]
[]
[]
[]
[]
[]
[]
[]
[]
[]
[]
[]
[]
[]
[]
[]
[]
[]
[]
[]
[]
[]
[]
[]
[]
[]
[]
[]
[]
[]
[]
[]
[]
[]
[]
[]
[]
[]
[]
[]
[]
[]
[]
[]
[]
[]
[]
[]
[]
[]
[]
[]
[]
[]
[]
[]
[]
[]
[]
[]
[]
[]
[]
[]
[]
[]
[]
[]
[]
[]
[]
[]
[]
[]
[]
[]
[]
[]
[]
[]
[]
[]
[]
[]
[]
[]
[]
[]
[]
[]
[]
[]
[]
[]
[]
[]
[]
[]
[]
[]
[]
[]
[]
[]
[]
[]
[]
[]
[]
[]
[]
[]
[]
[]
[]
[]
[]
[]
[]
[]
[]
[]
[]
[]
[]
[]
[]
[]
[]
[]
[]
[]
[]
[]
[]
[]
[]
[]
[]
[]
[]
[]
[]
[]
[]
[]
[]
[]
[]
[]
[]
[]
[]
[]
[]
[]
[]
[]
[]
[]
[]
[]
[]
[]
[]
[]
[]
[]
[]
[]
[]
[]
[]
[]
[]
[]
[]
[]
[]
[]
[]
[]
[]
[]
[]
[]
[]
[]
[]
[]
[]
[]
[]
[]
[]
[]
[]
[]
[]
[]
[]
[]
[]
[]
[]
[]
[]
[]
[]
[]
[]
[]
[]
[]
[]
[]
[]
[]
[]
[]
[]
[]
[]
[]
[]
[]
[]
[]
[]
[]
[]
[]
[]
[]
[]
[]
[]
[]
[]
[]
[]
[]
[]
[]
[]
[]
[]
[]
[]
[]
[]
[]
[]
[]
[]
[]
[]
[]
[]
[]
[]
[]
[]
[]
[]
[]
[]
[]
[]
[]
[]
[]
[]
[]
[]
[]
[]
[]
[]
[]
[]
[]
[]
[]
[]
[]
[]
[]
[]
[]
[]
[]
[]
[]
[]
[]
[]
[]
[]
[]
[]
[]
[]
[]
[]
[]
[]
[]
[]
[]
[]
[]
[]
[]
[]
[]
[]
[]
[]
[]
[]
[]
[]
[]
[]
[]
[]
[]
[]
[]
[]
[]
[]
[]
[]
[]
[]
[]
[]
[]
[]
[]
[]
[]
[]
[]
[]
[]
[]
[]
[]
[]
[]
[]
[]
[]
[]
[]
[]
[]
[]
[]
[]
[]
[]
[]
[]
[]
[]
[]
[]
[]
[]
[]
[]
[]
[]
[]
[]
[]
[]
[]
[]
[]
[]
[]
[]
[]
[]
[]
[]
[]
[]
[]
[]
[]
[]
[]
[]
[]
[]
[]
[]
[]
[]
[]
[]
[]
[]
[]
[]
[]
[]
[]
[]
[]
[]
[]
[]
[]
[]
[]
[]
[]
[]
[]
[]
[]
[]
[]
[]
[]
[]
[]
[]
[]
[]
[]
[]
[]
[]
[]
[]
[]
[]
[]
[]
[]
[]
[]
[]
[]
[]
[]
[]
[]
[]
[]
[]
[]
[]
[]
[]
[]
[]
[]
[]
[]
[]
[]
[]
[]
[]
[]
[]
[]
[]
[]
[]
[]
[]
[]
[]
[]
[]
[]
[]
[]
[]
[]
[]
[]
[]
[]
[]
[]
[]
[]
[]
[]
[]
[]
[]
[]
[]
[]
[]
[]
[]
[]
[]
[]
[]
[]
[]
[]
[]
[]
[]
[]
[]
[]
[]
[]
[]
[]
[]
[]
[]
[]
[]
[]
[]
[]
[]
[]
[]
[]
[]
[]
[]
[]
[]
[]
[]
[]
[]
[]
[]
[]
[]
[]
[]
[]
[]
[]
[]
[]
[]
[]
[]
[]
[]
[]
[]
[]
[]
[]
[]
[]
[]
[]
[]
[]
[]
[]
[]
[]
[]
[]
[]
[]
[]
[]
[]
[]
[]
[]
[]
[]
[]
[]
[]
[]
[]
[]
[]
[]
[]
[]
[]
[]
[]
[]
[]
[]
[]
[]
[]
[]
[]
[]
[]
[]
[]
[]
[]
[]
[]
[]
[]
[]
[]
[]
[]
[]
[]
[]
[]
[]
[]
[]
[]
[]
[]
[]
[]
[]
[]
[]
[]
[]
[]
[]
[]
[]
[]
[]
[]
[]
[]
[]
[]
[]
[]
[]
[]
[]
[]
[]
[]
[]
[]
[]
[]
[]
[]
[]
[]
[]
[]
[]
[]
[]
[]
[]
[]
[]
[]
[]
[]
[]
[]
[]
[]
[]
[]
[]
[]
[]
[]
[]
[]
[]
[]
[]
[]
[]
[]
[]
[]
[]
[]
[]
[]
[]
[]
[]
[]
[]
[]
[]
[]
[]
[]
[]
[]
[]
[]
[]
[]
[]
[]
[]
[]
[]
[]
[]
[]
[]
[]
[]
[]
[]
[]
[]
[]
[]
[]
[]
[]
[]
[]
[]
[]
[]
[]
[]
[]
[]
[]
[]
[]
[]
[]
[]
[]
[]
[]
[]
[]
[]
[]
[]
[]
[]
[]
[]
[]
[]
[]
[]
[]
[]
[]
[]
[]
[]
[]
[]
[]
[]
[]
[]
[]
[]
[]
[]
[]
[]
[]
[]
[]
[]
[]
[]
[]
[]
[]
[]
[]
[]
[]
[]
[]
[]
[]
[]
[]
[]
[]
[]
[]
[]
[]
[]
[]
[]
[]
[]
[]
[]
[]
[]
[]
[]
[]
[]
[]
[]
[]
[]
[]
[]
[]
[]
[]
[]
[]
[]
[]
[]
[]
[]
[]
[]
[]
[]
[]
[]
[]
[]
[]
[]
[]
[]
[]
[]
[]
[]
[]
[]
[]
[]
[]
[]
[]
[]
[]
[]
[]
[]
[]
[]
[]
[]
[]
[]
[]
[]
[]
[]
[]
[]
[]
[]
[]
[]
[]
[]
[]
[]
[]
[]
[]
[]
[]
[]
[]
[]
[]
[]
[]
[]
[]
[]
[]
[]
[]
[]
[]
[]
[]
[]
[]
[]
[]
[]
[]
[]
[]
[]
[]
[]
[]
[]
[]
[]
[]
[]
[]
[]
[]
[]
[]
[]
[]
[]
[]
[]
[]
[]
[]
[]
[]
[]
[]
[]
[]
[]
[]
[]
[]
[]
[]
[]
[]
[]
[]
[]
[]
[]
[]
[]
[]
[]
[]
[]
[]
[]
[]
[]
[]
[]
[]
[]
[]
[]
[]
[]
[]
[]
[]
[]
[]
[]
[]
[]
[]
[]
[]
[]
[]
[]
[]
[]
[]
[]
[]
[]
[]
[]
[]
[]
[]
[]
[]
[]
[]
[]
[]
[]
[]
[]
[]
[]
[]
[]
[]
[]
[]
[]
[]
[]
[]
[]
[]
[]
[]
[]
[]
[]
[]
[]
[]
[]
[]
[]
[]
[]
[]
[]
[]
[]
[]
[]
[]
[]
[]
[]
[]
[]
[]
[]
[]
[]
[]
[]
[]
[]
[]
[]
[]
[]
[]
[]
[]
[]
[]
[]
[]
[]
[]
[]
[]
[]
[]
[]
[]
[]
[]
[]
[]
[]
[]
[]
[]
[]
[]
[]
[]
[]
[]
[]
[]
[]
[]
[]
[]
[]
[]
[]
[]
[]
[]
[]
[]
[]
[]
[]
[]
[]
[]
[]
[]
[]
[]
[]
[]
[]
[]
[]
[]
[]
[]
[]
[]
[]
[]
[]
[]
[]
[]
[]
[]
[]
[]
[]
[]
[]
[]
[]
[]
[]
[]
[]
[]
[]
[]
[]
[]
[]
[]
[]
[]
[]
[]
[]
[]
[]
[]
[]
[]
[]
[]
[]
[]
[]
[]
[]
[]
[]
[]
[]
[]
[]
[]
[]
[]
[]
[]
[]
[]
[]
[]
[]
[]
[]
[]
[]
[]
[]
[]
[]
[]
[]
[]
[]
[]
[]
[]
[]
[]
[]
[]
[]
[]
[]
[]
[]
[]
[]
[]
[]
[]
[]
[]
[]
[]
[]
[]
[]
[]
[]
[]
[]
[]
[]
[]
[]
[]
[]
[]
[]
[]
[]
[]
[]
[]
[]
[]
[]
[]
[]
[]
[]
[]
[]
[]
[]
[]
[]
[]
[]
[]
[]
[]
[]
[]
[]
[]
[]
[]
[]
[]
[]
[]
[]
[]
[]
[]
[]
[]
[]
[]
[]
[]
[]
[]
[]
[]
[]
[]
[]
[]
[]
[]
[]
[]
[]
[]
[]
[]
[]
[]
[]
[]
[]
[]
[]
[]
[]
[]
[]
[]
[]
[]
[]
[]
[]
[]
[]
[]
[]
[]
[]
[]
[]
[]
[]
[]
[]
[]
[]
[]
[]
[]
[]
[]
[]
[]
[]
[]
[]
[]
[]
[]
[]
[]
[]
[]
[]
[]
[]
[]
[]
[]
[]
[]
[]
[]
[]
[]
[]
[]
[]
[]
[]
[]
[]
[]
[]
[]
[]
[]
[]
[]
[]
[]
[]
[]
[]
[]
[]
[]
[]
[]
[]
[]
[]
[]
[]
[]
[]
[]
[]
[]
[]
[]
[]
[]
[]
[]
[]
[]
[]
[]
[]
[]
[]
[]
[]
[]
[]
[]
[]
[]
[]
[]
[]
[]
[]
[]
[]
[]
[]
[]
[]
[]
[]
[]
[]
[]
[]
[]
[]
[]
[]
[]
[]
[]
[]
[]
[]
[]
[]
[]
[]
[]
[]
[]
[]
[]
[]
[]
[]
[]
[]
[]
[]
[]
[]
[]
[]
[]
[]
[]
[]
[]
[]
[]
[]
[]
[]
[]
[]
[]
[]
[]
[]
[]
[]
[]
[]
[]
[]
[]
[]
[]
[]
[]
[]
[]
[]
[]
[]
[]
[]
[]
[]
[]
[]
[]
[]
[]
[]
[]
[]
[]
[]
[]
[]
[]
[]
[]
[]
[]
[]
[]
[]
[]
[]
[]
[]
[]
[]
[]
[]
[]
[]
[]
[]
[]
[]
[]
[]
[]
[]
[]
[]
[]
[]
[]
[]
[]
[]
[]
[]
[]
[]
[]
[]
[]
[]
[]
[]
[]
[]
[]
[]
[]
[]
[]
[]
[]
[]
[]
[]
[]
[]
[]
[]
[]
[]
[]
[]
[]
[]
[]
[]
[]
[]
[]
[]
[]
[]
[]
[]
[]
[]
[]
[]
[]
[]
[]
[]
[]
[]
[]
[]
[]
[]
[]
[]
[]
[]
[]
[]
[]
[]
[]
[]
[]
[]
[]
[]
[]
[]
[]
[]
[]
[]
[]
[]
[]
[]
[]
[]
[]
[]
[]
[]
[]
[]
[]
[]
[]
[]
[]
[]
[]
[]
[]
[]
[]
[]
[]
[]
[]
[]
[]
[]
[]
[]
[]
[]
[]
[]
[]
[]
[]
[]
[]
[]
[]
[]
[]
[]
[]
[]
[]
[]
[]
[]
[]
[]
[]
[]
[]
[]
[]
[]
[]
[]
[]
[]
[]
[]
[]
[]
[]
[]
[]
[]
[]
[]
[]
[]
[]
[]
[]
[]
[]
[]
[]
[]
[]
[]
[]
[]
[]
[]
[]
[]
[]
[]
[]
[]
[]
[]
[]
[]
[]
[]
[]
[]
[]
[]
[]
[]
[]
[]
[]
[]
[]
[]
[]
[]
[]
[]
[]
[]
[]
[]
[]
[]
[]
[]
[]
[]
[]
[]
[]
[]
[]
[]
[]
[]
[]
[]
[]
[]
[]
[]
[]
[]
[]
[]
[]
[]
[]
[]
[]
[]
[]
[]
[]
[]
[]
[]
[]
[]
[]
[]
[]
[]
[]
[]
[]
[]
[]
[]
[]
[]
[]
[]
[]
[]
[]
[]
[]
[]
[]
[]
[]
[]
[]
[]
[]
[]
[]
[]
[]
[]
[]
[]
[]
[]
[]
[]
[]
[]
[]
[]
[]
[]
[]
[]
[]
[]
[]
[]
[]
[]
[]
[]
[]
[]
[]
[]
[]
[]
[]
[]
[]
[]
[]
[]
[]
[]
[]
[]
[]
[]
[]
[]
[]
[]
[]
[]
[]
[]
[]
[]
[]
[]
[]
[]
[]
[]
[]
[]
[]
[]
[]
[]
[]
[]
[]
[]
[]
[]
[]
[]
[]
[]
[]
[]
[]
[]
[]
[]
[]
[]
[]
[]
[]
[]
[]
[]
[]
[]
[]
[]
[]
[]
[]
[]
[]
[]
[]
[]
[]
[]
[]
[]
[]
[]
[]
[]
[]
[]
[]
[]
[]
[]
[]
[]
[]
[]
[]
[]
[]
[]
[]
[]
[]
[]
[]
[]
[]
[]
[]
[]
[]
[]
[]
[]
[]
[]
[]
[]
[]
[]
[]
[]
[]
[]
[]
[]
[]
[]
[]
[]
[]
[]
[]
[]
[]
[]
[]
[]
[]
[]
[]
[]
[]
[]
[]
[]
[]
[]
[]
[]
[]
[]
[]
[]
[]
[]
[]
[]
[]
[]
[]
[]
[]
[]
[]
[]
[]
[]
[]
[]
[]
[]
[]
[]
[]
[]
[]
[]
[]
[]
[]
[]
[]
[]
[]
[]
[]
[]
[]
[]
[]
[]
[]
[]
[]
[]
[]
[]
[]
[]
[]
[]
[]
[]
[]
[]
[]
[]
[]
[]
[]
[]
[]
[]
[]
[]
[]
[]
[]
[]
[]
[]
[]
[]
[]
[]
[]
[]
[]
[]
[]
[]
[]
[]
[]
[]
[]
[]
[]
[]
[]
[]
[]
[]
[]
[]
[]
[]
[]
[]
[]
[]
[]
[]
[]
[]
[]
[]
[]
[]
[]
[]
[]
[]
[]
[]
[]
[]
[]
[]
[]
[]
[]
[]
[]
[]
[]
[]
[]
[]
[]
[]
[]
[]
[]
[]
[]
[]
[]
[]
[]
[]
[]
[]
[]
[]
[]
[]
[]
[]
[]
[]
[]
[]
[]
[]
[]
[]
[]
[]
[]
[]
[]
[]
[]
[]
[]
[]
[]
[]
[]
[]
[]
[]
[]
[]
[]
[]
[]
[]
[]
[]
[]
[]
[]
[]
[]
[]
[]
[]
[]
[]
[]
[]
[]
[]
[]
[]
[]
[]
[]
[]
[]
[]
[]
[]
[]
[]
[]
[]
[]
[]
[]
[]
[]
[]
[]
[]
[]
[]
[]
[]
[]
[]
[]
[]
[]
[]
[]
[]
[]
[]
[]
[]
[]
[]
[]
[]
[]
[]
[]
[]
[]
[]
[]
[]
[]
[]
[]
[]
[]
[]
[]
[]
[]
[]
[]
[]
[]
[]
[]
[]
[]
[]
[]
[]
[]
[]
[]
[]
[]
[]
[]
[]
[]
[]
[]
[]
[]
[]
[]
[]
[]
[]
[]
[]
[]
[]
[]
[]
[]
[]
[]
[]
[]
[]
[]
[]
[]
[]
[]
[]
[]
[]
[]
[]
[]
[]
[]
[]
[]
[]
[]
[]
[]
[]
[]
[]
[]
[]
[]
[]
[]
[]
[]
[]
[]
[]
[]
[]
[]
[]
[]
[]
[]
[]
[]
[]
[]
[]
[]
[]
[]
[]
[]
[]
[]
[]
[]
[]
[]
[]
[]
[]
[]
[]
[]
[]
[]
[]
[]
[]
[]
[]
[]
[]
[]
[]
[]
[]
[]
[]
[]
[]
[]
[]
[]
[]
[]
[]
[]
[]
[]
[]
[]
[]
[]
[]
[]
[]
[]
[]
[]
[]
[]
[]
[]
[]
[]
[]
[]
[]
[]
[]
[]
[]
[]
[]
[]
[]
[]
[]
[]
[]
[]
[]
[]
[]
[]
[]
[]
[]
[]
[]
[]
[]
[]
[]
[]
[]
[]
[]
[]
[]
[]
[]
[]
[]
[]
[]
[]
[]
[]
[]
[]
[]
[]
[]
[]
[]
[]
[]
[]
[]
[]
[]
[]
[]
[]
[]
[]
[]
[]
[]
[]
[]
[]
[]
[]
[]
[]
[]
[]
[]
[]
[]
[]
[]
[]
[]
[]
[]
[]
[]
[]
[]
[]
[]
[]
[]
[]
[]
[]
[]
[]
[]
[]
[]
[]
[]
[]
[]
[]
[]
[]
[]
[]
[]
[]
[]
[]
[]
[]
[]
[]
[]
[]
[]
[]
[]
[]
[]
[]
[]
[]
[]
[]
[]
[]
[]
[]
[]
[]
[]
[]
[]
[]
[]
[]
[]
[]
[]
[]
[]
[]
[]
[]
[]
[]
[]
[]
[]
[]
[]
[]
[]
[]
[]
[]
[]
[]
[]
[]
[]
[]
[]
[]
[]
[]
[]
[]
[]
[]
[]
[]
[]
[]
[]
[]
[]
[]
[]
[]
[]
[]
[]
[]
[]
[]
[]
[]
[]
[]
[]
[]
[]
[]
[]
[]
[]
[]
[]
[]
[]
[]
[]
[]
[]
[]
[]
[]
[]
[]
[]
[]
[]
[]
[]
[]
[]
[]
[]
[]
[]
[]
[]
[]
[]
[]
[]
[]
[]
[]
[]
[]
[]
[]
[]
[]
[]
[]
[]
[]
[]
[]
[]
[]
[]
[]
[]
[]
[]
[]
[]
[]
[]
[]
[]
[]
[]
[]
[]
[]
[]
[]
[]
[]
[]
[]
[]
[]
[]
[]
[]
[]
[]
[]
[]
[]
[]
[]
[]
[]
[]
[]
[]
[]
[]
[]
[]
[]
[]
[]
[]
[]
[]
[]
[]
[]
[]
[]
[]
[]
[]
[]
[]
[]
[]
[]
[]
[]
[]
[]
[]
[]
[]
[]
[]
[]
[]
[]
[]
[]
[]
[]
[]
[]
[]
[]
[]
[]
[]
[]
[]
[]
[]
[]
[]
[]
[]
[]
[]
[]
[]
[]
[]
[]
[]
[]
[]
[]
[]
[]
[]
[]
[]
[]
[]
[]
[]
[]
[]
[]
[]
[]
[]
[]
[]
[]
[]
[]
[]
[]
[]
[]
[]
[]
[]
[]
[]
[]
[]
[]
[]
[]
[]
[]
[]
[]
[]
[]
[]
[]
[]
[]
[]
[]
[]
[]
[]
[]
[]
[]
[]
[]
[]
[]
[]
[]
[]
[]
[]
[]
[]
[]
[]
[]
[]
[]
[]
[]
[]
[]
[]
[]
[]
[]
[]
[]
[]
[]
[]
[]
[]
[]
[]
[]
[]
[]
[]
[]
[]
[]
[]
[]
[]
[]
[]
[]
[]
[]
[]
[]
[]
[]
[]
[]
[]
[]
[]
[]
[]
[]
[]
[]
[]
[]
[]
[]
[]
[]
[]
[]
[]
[]
[]
[]
[]
[]
[]
[]
[]
[]
[]
[]
[]
[]
[]
[]
[]
[]
[]
[]
[]
[]
[]
[]
[]
[]
[]
[]
[]
[]
[]
[]
[]
[]
[]
[]
[]
[]
[]
[]
[]
[]
[]
[]
[]
[]
[]
[]
[]
[]
[]
[]
[]
[]
[]
[]
[]
[]
[]
[]
[]
[]
[]
[]
[]
[]
[]
[]
[]
[]
[]
[]
[]
[]
[]
[]
[]
[]
[]
[]
[]
[]
[]
[]
[]
[]
[]
[]
[]
[]
[]
[]
[]
[]
[]
[]
[]
[]
[]
[]
[]
[]
[]
[]
[]
[]
[]
[]
[]
[]
[]
[]
[]
[]
[]
[]
[]
[]
[]
[]
[]
[]
[]
[]
[]
[]
[]
[]
[]
[]
[]
[]
[]
[]
[]
[]
[]
[]
[]
[]
[]
[]
[]
[]
[]
[]
[]
[]
[]
[]
[]
[]
[]
[]
[]
[]
[]
[]
[]
[]
[]
[]
[]
[]
[]
[]
[]
[]
[]
[]
[]
[]
[]
[]
[]
[]
[]
[]
[]
[]
[]
[]
[]
[]
[]
[]
[]
[]
[]
[]
[]
[]
[]
[]
[]
[]
[]
[]
[]
[]
[]
[]
[]
[]
[]
[]
[]
[]
[]
[]
[]
[]
[]
[]
[]
[]
[]
[]
[]
[]
[]
[]
[]
[]
[]
[]
[]
[]
[]
[]
[]
[]
[]
[]
[]
[]
[]
[]
[]
[]
[]
[]
[]
[]
[]
[]
[]
[]
[]
[]
[]
[]
[]
[]
[]
[]
[]
[]
[]
[]
[]
[]
[]
[]
[]
[]
[]
[]
[]
[]
[]
[]
[]
[]
[]
[]
[]
[]
[]
[]
[]
[]
[]
[]
[]
[]
[]
[]
[]
[]
[]
[]
[]
[]
[]
[]
[]
[]
[]
[]
[]
[]
[]
[]
[]
[]
[]
[]
[]
[]
[]
[]
[]
[]
[]
[]
[]
[]
[]
[]
[]
[]
[]
[]
[]
[]
[]
[]
[]
[]
[]
[]
[]
[]
[]
[]
[]
[]
[]
[]
[]
[]
[]
[]
[]
[]
[]
[]
[]
[]
[]
[]
[]
[]
[]
[]
[]
[]
[]
[]
[]
[]
[]
[]
[]
[]
[]
[]
[]
[]
[]
[]
[]
[]
[]
[]
[]
[]
[]
[]
[]
[]
[]
[]
[]
[]
[]
[]
[]
[]
[]
[]
[]
[]
[]
[]
[]
[]
[]
[]
[]
[]
[]
[]
[]
[]
[]
[]
[]
[]
[]
[]
[]
[]
[]
[]
[]
[]
[]
[]
[]
[]
[]
[]
[]
[]
[]
[]
[]
[]
[]
[]
[]
[]
[]
[]
[]
[]
[]
[]
[]
[]
[]
[]
[]
[]
[]
[]
[]
[]
[]
[]
[]
[]
[]
[]
[]
[]
[]
[]
[]
[]
[]
[]
[]
[]
[]
[]
[]
[]
[]
[]
[]
[]
[]
[]
[]
[]
[]
[]
[]
[]
[]
[]
[]
[]
[]
[]
[]
[]
[]
[]
[]
[]
[]
[]
[]
[]
[]
[]
[]
[]
[]
[]
[]
[]
[]
[]
[]
[]
[]
[]
[]
[]
[]
[]
[]
[]
[]
[]
[]
[]
[]
[]
[]
[]
[]
[]
[]
[]
[]
[]
[]
[]
[]
[]
[]
[]
[]
[]
[]
[]
[]
[]
[]
[]
[]
[]
[]
[]
[]
[]
[]
[]
[]
[]
[]
[]
[]
[]
[]
[]
[]
[]
[]
[]
[]
[]
[]
[]
[]
[]
[]
[]
[]
[]
[]
[]
[]
[]
[]
[]
[]
[]
[]
[]
[]
[]
[]
[]
[]
[]
[]
[]
[]
[]
[]
[]
[]
[]
[]
[]
[]
[]
[]
[]
[]
[]
[]
[]
[]
[]
[]
[]
[]
[]
[]
[]
[]
[]
[]
[]
[]
[]
[]
[]
[]
[]
[]
[]
[]
[]
[]
[]
[]
[]
[]
[]
[]
[]
[]
[]
[]
[]
[]
[]
[]
[]
[]
[]
[]
[]
[]
[]
[]
[]
[]
[]
[]
[]
[]
[]
[]
[]
[]
[]
[]
[]
[]
[]
[]
[]
[]
[]
[]
[]
[]
[]
[]
[]
[]
[]
[]
[]
[]
[]
[]
[]
[]
[]
[]
[]
[]
[]
[]
[]
[]
[]
[]
[]
[]
[]
[]
[]
[]
[]
[]
[]
[]
[]
[]
[]
[]
[]
[]
[]
[]
[]
[]
[]
[]
[]
[]
[]
[]
[]
[]
[]
[]
[]
[]
[]
[]
[]
[]
[]
[]
[]
[]
[]
[]
[]
[]
[]
[]
[]
[]
[]
[]
[]
[]
[]
[]
[]
[]
[]
[]
[]
[]
[]
[]
[]
[]
[]
[]
[]
[]
[]
[]
[]
[]
[]
[]
[]
[]
[]
[]
[]
[]
[]
[]
[]
[]
[]
[]
[]
[]
[]
[]
[]
[]
[]
[]
[]
[]
[]
[]
[]
[]
[]
[]
[]
[]
[]
[]
[]
[]
[]
[]
[]
[]
[]
[]
[]
[]
[]
[]
[]
[]
[]
[]
[]
[]
[]
[]
[]
[]
[]
[]
[]
[]
[]
[]
[]
[]
[]
[]
[]
[]
[]
[]
[]
[]
[]
[]
[]
[]
[]
[]
[]
[]
[]
[]
[]
[]
[]
[]
[]
[]
[]
[]
[]
[]
[]
[]
[]
[]
[]
[]
[]
[]
[]
[]
[]
[]
[]
[]
[]
[]
[]
[]
[]
[]
[]
[]
[]
[]
[]
[]
[]
[]
[]
[]
[]
[]
[]
[]
[]
[]
[]
[]
[]
[]
[]
[]
[]
[]
[]
[]
[]
[]
[]
[]
[]
[]
[]
[]
[]
[]
[]
[]
[]
[]
[]
[]
[]
[]
[]
[]
[]
[]
[]
[]
[]
[]
[]
[]
[]
[]
[]
[]
[]
[]
[]
[]
[]
[]
[]
[]
[]
[]
[]
[]
[]
[]
[]
[]
[]
[]
[]
[]
[]
[]
[]
[]
[]
[]
[]
[]
[]
[]
[]
[]
[]
[]
[]
[]
[]
[]
[]
[]
[]
[]
[]
[]
[]
[]
[]
[]
[]
[]
[]
[]
[]
[]
[]
[]
[]
[]
[]
[]
[]
[]
[]
[]
[]
[]
[]
[]
[]
[]
[]
[]
[]
[]
[]
[]
[]
[]
[]
[]
[]
[]
[]
[]
[]
[]
[]
[]
[]
[]
[]
[]
[]
[]
[]
[]
[]
[]
[]
[]
[]
[]
[]
[]
[]
[]
[]
[]
[]
[]
[]
[]
[]
[]
[]
[]
[]
[]
[]
[]
[]
[]
[]
[]
[]
[]
[]
[]
[]
[]
[]
[]
[]
[]
[]
[]
[]
[]
[]
[]
[]
[]
[]
[]
[]
[]
[]
[]
[]
[]
[]
[]
[]
[]
[]
[]
[]
[]
[]
[]
[]
[]
[]
[]
[]
[]
[]
[]
[]
[]
[]
[]
[]
[]
[]
[]
[]
[]
[]
[]
[]
[]
[]
[]
[]
[]
[]
[]
[]
[]
[]
[]
[]
[]
[]
[]
[]
[]
[]
[]
[]
[]
[]
[]
[]
[]
[]
[]
[]
[]
[]
[]
[]
[]
[]
[]
[]
[]
[]
[]
[]
[]
[]
[]
[]
[]
[]
[]
[]
[]
[]
[]
[]
[]
[]
[]
[]
[]
[]
[]
[]
[]
[]
[]
[]
[]
[]
[]
[]
[]
[]
[]
[]
[]
[]
[]
[]
[]
[]
[]
[]
[]
[]
[]
[]
[]
[]
[]
[]
[]
[]
[]
[]
[]
[]
[]
[]
[]
[]
[]
[]
[]
[]
[]
[]
[]
[]
[]
[]
[]
[]
[]
[]
[]
[]
[]
[]
[]
[]
[]
[]
[]
[]
[]
[]
[]
[]
[]
[]
[]
[]
[]
[]
[]
[]
[]
[]
[]
[]
[]
[]
[]
[]
[]
[]
[]
[]
[]
[]
[]
[]
[]
[]
[]
[]
[]
[]
[]
[]
[]
[]
[]
[]
[]
[]
[]
[]
[]
[]
[]
[]
[]
[]
[]
[]
[]
[]
[]
[]
[]
[]
[]
[]
[]
[]
[]
[]
[]
[]
[]
[]
[]
[]
[]
[]
[]
[]
[]
[]
[]
[]
[]
[]
[]
[]
[]
[]
[]
[]
[]
[]
[]
[]
[]
[]
[]
[]
[]
[]
[]
[]
[]
[]
[]
[]
[]
[]
[]
[]
[]
[]
[]
[]
[]
[]
[]
[]
[]
[]
[]
[]
[]
[]
[]
[]
[]
[]
[]
[]
[]
[]
[]
[]
[]
[]
[]
[]
[]
[]
[]
[]
[]
[]
[]
[]
[]
[]
[]
[]
[]
[]
[]
[]
[]
[]
[]
[]
[]
[]
[]
[]
[]
[]
[]
[]
[]
[]
[]
[]
[]
[]
[]
[]
[]
[]
[]
[]
[]
[]
[]
[]
[]
[]
[]
[]
[]
[]
[]
[]
[]
[]
[]
[]
[]
[]
[]
[]
[]
[]
[]
[]
[]
[]
[]
[]
[]
[]
[]
[]
[]
[]
[]
[]
[]
[]
[]
[]
[]
[]
[]
[]
[]
[]
[]
[]
[]
[]
[]
[]
[]
[]
[]
[]
[]
[]
[]
[]
[]
[]
[]
[]
[]
[]
[]
[]
[]
[]
[]
[]
[]
[]
[]
[]
[]
[]
[]
[]
[]
[]
[]
[]
[]
[]
[]
[]
[]
[]
[]
[]
[]
[]
[]
[]
[]
[]
[]
[]
[]
[]
[]
[]
[]
[]
[]
[]
[]
[]
[]
[]
[]
[]
[]
[]
[]
[]
[]
[]
[]
[]
[]
[]
[]
[]
[]
[]
[]
[]
[]
[]
[]
[]
[]
[]
[]
[]
[]
[]
[]
[]
[]
[]
[]
[]
[]
[]
[]
[]
[]
[]
[]
[]
[]
[]
[]
[]
[]
[]
[]
[]
[]
[]
[]
[]
[]
[]
[]
[]
[]
[]
[]
[]
[]
[]
[]
[]
[]
[]
[]
[]
[]
[]
[]
[]
[]
[]
[]
[]
[]
[]
[]
[]
[]
[]
[]
[]
[]
[]
[]
[]
[]
[]
[]
[]
[]
[]
[]
[]
[]
[]
[]
[]
[]
[]
[]
[]
[]
[]
[]
[]
[]
[]
[]
[]
[]
[]
[]
[]
[]
[]
[]
[]
[]
[]
[]
[]
[]
[]
[]
[]
[]
[]
[]
[]
[]
[]
[]
[]
[]
[]
[]
[]
[]
[]
[]
[]
[]
[]
[]
[]
[]
[]
[]
[]
[]
[]
[]
[]
[]
[]
[]
[]
[]
[]
[]
[]
[]
[]
[]
[]
[]
[]
[]
[]
[]
[]
[]
[]
[]
[]
[]
[]
[]
[]
[]
[]
[]
[]
[]
[]
[]
[]
[]
[]
[]
[]
[]
[]
[]
[]
[]
[]
[]
[]
[]
[]
[]
[]
[]
[]
[]
[]
[]
[]
[]
[]
[]
[]
[]
[]
[]
[]
[]
[]
[]
[]
[]
[]
[]
[]
[]
[]
[]
[]
[]
[]
[]
[]
[]
[]
[]
[]
[]
[]
[]
[]
[]
[]
[]
[]
[]
[]
[]
[]
[]
[]
[]
[]
[]
[]
[]
[]
[]
[]
[]
[]
[]
[]
[]
[]
[]
[]
[]
[]
[]
[]
[]
[]
[]
[]
[]
[]
[]
[]
[]
[]
[]
[]
[]
[]
[]
[]
[]
[]
[]
[]
[]
[]
[]
[]
[]
[]
[]
[]
[]
[]
[]
[]
[]
[]
[]
[]
[]
[]
[]
[]
[]
[]
[]
[]
[]
[]
[]
[]
[]
[]
[]
[]
[]
[]
[]
[]
[]
[]
[]
[]
[]
[]
[]
[]
[]
[]
[]
[]
[]
[]
[]
[]
[]
[]
[]
[]
[]
[]
[]
[]
[]
[]
[]
[]
[]
[]
[]
[]
[]
[]
[]
[]
[]
[]
[]
[]
[]
[]
[]
[]
[]
[]
[]
[]
[]
[]
[]
[]
[]
[]
[]
[]
[]
[]
[]
[]
[]
[]
[]
[]
[]
[]
[]
[]
[]
[]
[]
[]
[]
[]
[]
[]
[]
[]
[]
[]
[]
[]
[]
[]
[]
[]
[]
[]
[]
[]
[]
[]
[]
[]
[]
[]
[]
[]
[]
[]
[]
[]
[]
[]
[]
[]
[]
[]
[]
[]
[]
[]
[]
[]
[]
[]
[]
[]
[]
[]
[]
[]
[]
[]
[]
[]
[]
[]
[]
[]
[]
[]
[]
[]
[]
[]
[]
[]
[]
[]
[]
[]
[]
[]
[]
[]
[]
[]
[]
[]
[]
[]
[]
[]
[]
[]
[]
[]
[]
[]
[]
[]
[]
[]
[]
[]
[]
[]
[]
[]
[]
[]
[]
[]
[]
[]
[]
[]
[]
[]
[]
[]
[]
[]
[]
[]
[]
[]
[]
[]
[]
[]
[]
[]
[]
[]
[]
[]
[]
[]
[]
[]
[]
[]
[]
[]
[]
[]
[]
[]
[]
[]
[]
[]
[]
[]
[]
[]
[]
[]
[]
[]
[]
[]
[]
[]
[]
[]
[]
[]
[]
[]
[]
[]
[]
[]
[]
[]
[]
[]
[]
[]
[]
[]
[]
[]
[]
[]
[]
[]
[]
[]
[]
[]
[]
[]
[]
[]
[]
[]
[]
[]
[]
[]
[]
[]
[]
[]
[]
[]
[]
[]
[]
[]
[]
[]
[]
[]
[]
[]
[]
[]
[]
[]
[]
[]
[]
[]
[]
[]
[]
[]
[]
[]
[]
[]
[]
[]
[]
[]
[]
[]
[]
[]
[]
[]
[]
[]
[]
[]
[]
[]
[]
[]
[]
[]
[]
[]
[]
[]
[]
[]
[]
[]
[]
[]
[]
[]
[]
[]
[]
[]
[]
[]
[]
[]
[]
[]
[]
[]
[]
[]
[]
[]
[]
[]
[]
[]
[]
[]
[]
[]
[]
[]
[]
[]
[]
[]
[]
[]
[]
[]
[]
[]
[]
[]
[]
[]
[]
[]
[]
[]
[]
[]
[]
[]
[]
[]
[]
[]
[]
[]
[]
[]
[]
[]
[]
[]
[]
[]
[]
[]
[]
[]
[]
[]
[]
[]
[]
[]
[]
[]
[]
[]
[]
[]
[]
[]
[]
[]
[]
[]
[]
[]
[]
[]
[]
[]
[]
[]
[]
[]
[]
[]
[]
[]
[]
[]
[]
[]
[]
[]
[]
[]
[]
[]
[]
[]
[]
[]
[]
[]
[]
[]
[]
[]
[]
[]
[]
[]
[]
[]
[]
[]
[]
[]
[]
[]
[]
[]
[]
[]
[]
[]
[]
[]
[]
[]
[]
[]
[]
[]
[]
[]
[]
[]
[]
[]
[]
[]
[]
[]
[]
[]
[]
[]
[]
[]
[]
[]
[]
[]
[]
[]
[]
[]
[]
[]
[]
[]
[]
[]
[]
[]
[]
[]
[]
[]
[]
[]
[]
[]
[]
[]
[]
[]
[]
[]
[]
[]
[]
[]
[]
[]
[]
[]
[]
[]
[]
[]
[]
[]
[]
[]
[]
[]
[]
[]
[]
[]
[]
[]
[]
[]
[]
[]
[]
[]
[]
[]
[]
[]
[]
[]
[]
[]
[]
[]
[]
[]
[]
[]
[]
[]
[]
[]
[]
[]
[]
[]
[]
[]
[]
[]
[]
[]
[]
[]
[]
[]
[]
[]
[]
[]
[]
[]
[]
[]
[]
[]
[]
[]
[]
[]
[]
[]
[]
[]
[]
[]
[]
[]
[]
[]
[]
[]
[]
[]
[]
[]
[]
[]
[]
[]
[]
[]
[]
[]
[]
[]
[]
[]
[]
[]
[]
[]
[]
[]
[]
[]
[]
[]
[]
[]
[]
[]
[]
[]
[]
[]
[]
[]
[]
[]
[]
[]
[]
[]
[]
[]
[]
[]
[]
[]
[]
[]
[]
[]
[]
[]
[]
[]
[]
[]
[]
[]
[]
[]
[]
[]
[]
[]
[]
[]
[]
[]
[]
[]
[]
[]
[]
[]
[]
[]
[]
[]
[]
[]
[]
[]
[]
[]
[]
[]
[]
[]
[]
[]
[]
[]
[]
[]
[]
[]
[]
[]
[]
[]
[]
[]
[]
[]
[]
[]
[]
[]
[]
[]
[]
[]
[]
[]
[]
[]
[]
[]
[]
[]
[]
[]
[]
[]
[]
[]
[]
[]
[]
[]
[]
[]
[]
[]
[]
[]
[]
[]
[]
[]
[]
[]
[]
[]
[]
[]
[]
[]
[]
[]
[]
[]
[]
[]
[]
[]
[]
[]
[]
[]
[]
[]
[]
[]
[]
[]
[]
[]
[]
[]
[]
[]
[]
[]
[]
[]
[]
[]
[]
[]
[]
[]
[]
[]
[]
[]
[]
[]
[]
[]
[]
[]
[]
[]
[]
[]
[]
[]
[]
[]
[]
[]
[]
[]
[]
[]
[]
[]
[]
[]
[]
[]
[]
[]
[]
[]
[]
[]
[]
[]
[]
[]
[]
[]
[]
[]
[]
[]
[]
[]
[]
[]
[]
[]
[]
[]
[]
[]
[]
[]
[]
[]
[]
[]
[]
[]
[]
[]
[]
[]
[]
[]
[]
[]
[]
[]
[]
[]
[]
[]
[]
[]
[]
[]
[]
[]
[]
[]
[]
[]
[]
[]
[]
[]
[]
[]
[]
[]
[]
[]
[]
[]
[]
[]
[]
[]
[]
[]
[]
[]
[]
[]
[]
[]
[]
[]
[]
[]
[]
[]
[]
[]
[]
[]
[]
[]
[]
[]
[]
[]
[]
[]
[]
[]
[]
[]
[]
[]
[]
[]
[]
[]
[]
[]
[]
[]
[]
[]
[]
[]
[]
[]
[]
[]
[]
[]
[]
[]
[]
[]
[]
[]
[]
[]
[]
[]
[]
[]
[]
[]
[]
[]
[]
[]
[]
[]
[]
[]
[]
[]
[]
[]
[]
[]
[]
[]
[]
[]
[]
[]
[]
[]
[]
[]
[]
[]
[]
[]
[]
[]
[]
[]
[]
[]
[]
[]
[]
[]
[]
[]
[]
[]
[]
[]
[]
[]
[]
[]
[]
[]
[]
[]
[]
[]
[]
[]
[]
[]
[]
[]
[]
[]
[]
[]
[]
[]
[]
[]
[]
[]
[]
[]
[]
[]
[]
[]
[]
[]
[]
[]
[]
[]
[]
[]
[]
[]
[]
[]
[]
[]
[]
[]
[]
[]
[]
[]
[]
[]
[]
[]
[]
[]
[]
[]
[]
[]
[]
[]
[]
[]
[]
[]
[]
[]
[]
[]
[]
[]
[]
[]
[]
[]
[]
[]
[]
[]
[]
[]
[]
[]
[]
[]
[]
[]
[]
[]
[]
[]
[]
[]
[]
[]
[]
[]
[]
[]
[]
[]
[]
[]
[]
[]
[]
[]
[]
[]
[]
[]
[]
[]
[]
[]
[]
[]
[]
[]
[]
[]
[]
[]
[]
[]
[]
[]
[]
[]
[]
[]
[]
[]
[]
[]
[]
[]
[]
[]
[]
[]
[]
[]
[]
[]
[]
[]
[]
[]
[]
[]
[]
[]
[]
[]
[]
[]
[]
[]
[]
[]
[]
[]
[]
[]
[]
[]
[]
[]
[]
[]
[]
[]
[]
[]
[]
[]
[]
[]
[]
[]
[]
[]
[]
[]
[]
[]
[]
[]
[]
[]
[]
[]
[]
[]
[]
[]
[]
[]
[]
[]
[]
[]
[]
[]
[]
[]
[]
[]
[]
[]
[]
[]
[]
[]
[]
[]
[]
[]
[]
[]
[]
[]
[]
[]
[]
[]
[]
[]
[]
[]
[]
[]
[]
[]
[]
[]
[]
[]
[]
[]
[]
[]
[]
[]
[]
[]
[]
[]
[]
[]
[]
[]
[]
[]
[]
[]
[]
[]
[]
[]
[]
[]
[]
[]
[]
[]
[]
[]
[]
[]
[]
[]
[]
[]
[]
[]
[]
[]
[]
[]
[]
[]
[]
[]
[]
[]
[]
[]
[]
[]
[]
[]
[]
[]
[]
[]
[]
[]
[]
[]
[]
[]
[]
[]
[]
[]
[]
[]
[]
[]
[]
[]
[]
[]
[]
[]
[]
[]
[]
[]
[]
[]
[]
[]
[]
[]
[]
[]
[]
[]
[]
[]
[]
[]
[]
[]
[]
[]
[]
[]
[]
[]
[]
[]
[]
[]
[]
[]
[]
[]
[]
[]
[]
[]
[]
[]
[]
[]
[]
[]
[]
[]
[]
[]
[]
[]
[]
[]
[]
[]
[]
[]
[]
[]
[]
[]
[]
[]
[]
[]
[]
[]
[]
[]
[]
[]
[]
[]
[]
[]
[]
[]
[]
[]
[]
[]
[]
[]
[]
[]
[]
[]
[]
[]
[]
[]
[]
[]
[]
[]
[]
[]
[]
[]
[]
[]
[]
[]
[]
[]
[]
[]
[]
[]
[]
[]
[]
[]
[]
[]
[]
[]
[]
[]
[]
[]
[]
[]
[]
[]
[]
[]
[]
[]
[]
[]
[]
[]
[]
[]
[]
[]
[]
[]
[]
[]
[]
[]
[]
[]
[]
[]
[]
[]
[]
[]
[]
[]
[]
[]
[]
[]
[]
[]
[]
[]
[]
[]
[]
[]
[]
[]
[]
[]
[]
[]
[]
[]
[]
[]
[]
[]
[]
[]
[]
[]
[]
[]
[]
[]
[]
[]
[]
[]
[]
[]
[]
[]
[]
[]
[]
[]
[]
[]
[]
[]
[]
[]
[]
[]
[]
[]
[]
[]
[]
[]
[]
[]
[]
[]
[]
[]
[]
[]
[]
[]
[]
[]
[]
[]
[]
[]
[]
[]
[]
[]
[]
[]
[]
[]
[]
[]
[]
[]
[]
[]
[]
[]
[]
[]
[]
[]
[]
[]
[]
[]
[]
[]
[]
[]
[]
[]
[]
[]
[]
[]
[]
[]
[]
[]
[]
[]
[]
[]
[]
[]
[]
[]
[]
[]
[]
[]
[]
[]
[]
[]
[]
[]
[]
[]
[]
[]
[]
[]
[]
[]
[]
[]
[]
[]
[]
[]
[]
[]
[]
[]
[]
[]
[]
[]
[]
[]
[]
[]
[]
[]
[]
[]
[]
[]
[]
[]
[]
[]
[]
[]
[]
[]
[]
[]
[]
[]
[]
[]
[]
[]
[]
[]
[]
[]
[]
[]
[]
[]
[]
[]
[]
[]
[]
[]
[]
[]
[]
[]
[]
[]
[]
[]
[]
[]
[]
[]
[]
[]
[]
[]
[]
[]
[]
[]
[]
[]
[]
[]
[]
[]
[]
[]
[]
[]
[]
[]
[]
[]
[]
[]
[]
[]
[]
[]
[]
[]
[]
[]
[]
[]
[]
[]
[]
[]
[]
[]
[]
[]
[]
[]
[]
[]
[]
[]
[]
[]
[]
[]
[]
[]
[]
[]
[]
[]
[]
[]
[]
[]
[]
[]
[]
[]
[]
[]
[]
[]
[]
[]
[]
[]
[]
[]
[]
[]
[]
[]
[]
[]
[]
[]
[]
[]
[]
[]
[]
[]
[]
[]
[]
[]
[]
[]
[]
[]
[]
[]
[]
[]
[]
[]
[]
[]
[]
[]
[]
[]
[]
[]
[]
[]
[]
[]
[]
[]
[]
[]
[]
[]
[]
[]
[]
[]
[]
[]
[]
[]
[]
[]
[]
[]
[]
[]
[]
[]
[]
[]
[]
[]
[]
[]
[]
[]
[]
[]
[]
[]
[]
[]
[]
[]
[]
[]
[]
[]
[]
[]
[]
[]
[]
[]
[]
[]
[]
[]
[]
[]
[]
[]
[]
[]
[]
[]
[]
[]
[]
[]
[]
[]
[]
[]
[]
[]
[]
[]
[]
[]
[]
[]
[]
[]
[]
[]
[]
[]
[]
[]
[]
[]
[]
[]
[]
[]
[]
[]
[]
[]
[]
[]
[]
[]
[]
[]
[]
[]
[]
[]
[]
[]
[]
[]
[]
[]
[]
[]
[]
[]
[]
[]
[]
[]
[]
[]
[]
[]
[]
[]
[]
[]
[]
[]
[]
[]
[]
[]
[]
[]
[]
[]
[]
[]
[]
[]
[]
[]
[]
[]
[]
[]
[]
[]
[]
[]
[]
[]
[]
[]
[]
[]
[]
[]
[]
[]
[]
[]
[]
[]
[]
[]
[]
[]
[]
[]
[]
[]
[]
[]
[]
[]
[]
[]
[]
[]
[]
[]
[]
[]
[]
[]
[]
[]
[]
[]
[]
[]
[]
[]
[]
[]
[]
[]
[]
[]
[]
[]
[]
[]
[]
[]
[]
[]
[]
[]
[]
[]
[]
[]
[]
[]
[]
[]
[]
[]
[]
[]
[]
[]
[]
[]
[]
[]
[]
[]
[]
[]
[]
[]
[]
[]
[]
[]
[]
[]
[]
[]
[]
[]
[]
[]
[]
[]
[]
[]
[]
[]
[]
[]
[]
[]
[]
[]
[]
[]
[]
[]
[]
[]
[]
[]
[]
[]
[]
[]
[]
[]
[]
[]
[]
[]
[]
[]
[]
[]
[]
[]
[]
[]
[]
[]
[]
[]
[]
[]
[]
[]
[]
[]
[]
[]
[]
[]
[]
[]
[]
[]
[]
[]
[]
[]
[]
[]
[]
[]
[]
[]
[]
[]
[]
[]
[]
[]
[]
[]
[]
[]
[]
[]
[]
[]
[]
[]
[]
[]
[]
[]
[]
[]
[]
[]
[]
[]
[]
[]
[]
[]
[]
[]
[]
[]
[]
[]
[]
[]
[]
[]
[]
[]
[]
[]
[]
[]
[]
[]
[]
[]
[]
[]
[]
[]
[]
[]
[]
[]
[]
[]
[]
[]
[]
[]
[]
[]
[]
[]
[]
[]
[]
[]
[]
[]
[]
[]
[]
[]
[]
[]
[]
[]
[]
[]
[]
[]
[]
[]
[]
[]
[]
[]
[]
[]
[]
[]
[]
[]
[]
[]
[]
[]
[]
[]
[]
[]
[]
[]
[]
[]
[]
[]
[]
[]
[]
[]
[]
[]
[]
[]
[]
[]
[]
[]
[]
[]
[]
[]
[]
[]
[]
[]
[]
[]
[]
[]
[]
[]
[]
[]
[]
[]
[]
[]
[]
[]
[]
[]
[]
[]
[]
[]
[]
[]
[]
[]
[]
[]
[]
[]
[]
[]
[]
[]
[]
[]
[]
[]
[]
[]
[]
[]
[]
[]
[]
[]
[]
[]
[]
[]
[]
[]
[]
[]
[]
[]
[]
[]
[]
[]
[]
[]
[]
[]
[]
[]
[]
[]
[]
[]
[]
[]
[]
[]
[]
[]
[]
[]
[]
[]
[]
[]
[]
[]
[]
[]
[]
[]
[]
[]
[]
[]
[]
[]
[]
[]
[]
[]
[]
[]
[]
[]
[]
[]
[]
[]
[]
[]
[]
[]
[]
[]
[]
[]
[]
[]
[]
[]
[]
[]
[]
[]
[]
[]
[]
[]
[]
[]
[]
[]
[]
[]
[]
[]
[]
[]
[]
[]
[]
[]
[]
[]
[]
[]
[]
[]
[]
[]
[]
[]
[]
[]
[]
[]
[]
[]
[]
[]
[]
[]
[]
[]
[]
[]
[]
[]
[]
[]
[]
[]
[]
[]
[]
[]
[]
[]
[]
[]
[]
[]
[]
[]
[]
[]
[]
[]
[]
[]
[]
[]
[]
[]
[]
[]
[]
[]
[]
[]
[]
[]
[]
[]
[]
[]
[]
[]
[]
[]
[]
[]
[]
[]
[]
[]
[]
[]
[]
[]
[]
[]
[]
[]
[]
[]
[]
[]
[]
[]
[]
[]
[]
[]
[]
[]
[]
[]
[]
[]
[]
[]
[]
[]
[]
[]
[]
[]
[]
[]
[]
[]
[]
[]
[]
[]
[]
[]
[]
[]
[]
[]
[]
[]
[]
[]
[]
[]
[]
[]
[]
[]
[]
[]
[]
[]
[]
[]
[]
[]
[]
[]
[]
[]
[]
[]
[]
[]
[]
[]
[]
[]
[]
[]
[]
[]
[]
[]
[]
[]
[]
[]
[]
[]
[]
[]
[]
[]
[]
[]
[]
[]
[]
[]
[]
[]
[]
[]
[]
[]
[]
[]
[]
[]
[]
[]
[]
[]
[]
[]
[]
[]
[]
[]
[]
[]
[]
[]
[]
[]
[]
[]
[]
[]
[]
[]
[]
[]
[]
[]
[]
[]
[]
[]
[]
[]
[]
[]
[]
[]
[]
[]
[]
[]
[]
[]
[]
[]
[]
[]
[]
[]
[]
[]
[]
[]
[]
[]
[]
[]
[]
[]
[]
[]
[]
[]
[]
[]
[]
[]
[]
[]
[]
[]
[]
[]
[]
[]
[]
[]
[]
[]
[]
[]
[]
[]
[]
[]
[]
[]
[]
[]
[]
[]
[]
[]
[]
[]
[]
[]
[]
[]
[]
[]
[]
[]
[]
[]
[]
[]
[]
[]
[]
[]
[]
[]
[]
[]
[]
[]
[]
[]
[]
[]
[]
[]
[]
[]
[]
[]
[]
[]
[]
[]
[]
[]
[]
[]
[]
[]
[]
[]
[]
[]
[]
[]
[]
[]
[]
[]
[]
[]
[]
[]
[]
[]
[]
[]
[]
[]
[]
[]
[]
[]
[]
[]
[]
[]
[]
[]
[]
[]
[]
[]
[]
[]
[]
[]
[]
[]
[]
[]
[]
[]
[]
[]
[]
[]
[]
[]
[]
[]
[]
[]
[]
[]
[]
[]
[]
[]
[]
[]
[]
[]
[]
[]
[]
[]
[]
[]
[]
[]
[]
[]
[]
[]
[]
[]
[]
[]
[]
[]
[]
[]
[]
[]
[]
[]
[]
[]
[]
[]
[]
[]
[]
[]
[]
[]
[]
[]
[]
[]
[]
[]
[]
[]
[]
[]
[]
[]
[]
[]
[]
[]
[]
[]
[]
[]
[]
[]
[]
[]
[]
[]
[]
[]
[]
[]
[]
[]
[]
[]
[]
[]
[]
[]
[]
[]
[]
[]
[]
[]
[]
[]
[]
[]
[]
[]
[]
[]
[]
[]
[]
[]
[]
[]
[]
[]
[]
[]
[]
[]
[]
[]
[]
[]
[]
[]
[]
[]
[]
[]
[]
[]
[]
[]
[]
[]
[]
[]
[]
[]
[]
[]
[]
[]
[]
[]
[]
[]
[]
[]
[]
[]
[]
[]
[]
[]
[]
[]
[]
[]
[]
[]
[]
[]
[]
[]
[]
[]
[]
[]
[]
[]
[]
[]
[]
[]
[]
[]
[]
[]
[]
[]
[]
[]
[]
[]
[]
[]
[]
[]
[]
[]
[]
[]
[]
[]
[]
[]
[]
[]
[]
[]
[]
[]
[]
[]
[]
[]
[]
[]
[]
[]
[]
[]
[]
[]
[]
[]
[]
[]
[]
[]
[]
[]
[]
[]
[]
[]
[]
[]
[]
[]
[]
[]
[]
[]
[]
[]
[]
[]
[]
[]
[]
[]
[]
[]
[]
[]
[]
[]
[]
[]
[]
[]
[]
[]
[]
[]
[]
[]
[]
[]
[]
[]
[]
[]
[]
[]
[]
[]
[]
[]
[]
[]
[]
[]
[]
[]
[]
[]
[]
[]
[]
[]
[]
[]
[]
[]
[]
[]
[]
[]
[]
[]
[]
[]
[]
[]
[]
[]
[]
[]
[]
[]
[]
[]
[]
[]
[]
[]
[]
[]
[]
[]
[]
[]
[]
[]
[]
[]
[]
[]
[]
[]
[]
[]
[]
[]
[]
[]
[]
[]
[]
[]
[]
[]
[]
[]
[]
[]
[]
[]
[]
[]
[]
[]
[]
[]
[]
[]
[]
[]
[]
[]
[]
[]
[]
[]
[]
[]
[]
[]
[]
[]
[]
[]
[]
[]
[]
[]
[]
[]
[]
[]
[]
[]
[]
[]
[]
[]
[]
[]
[]
[]
[]
[]
[]
[]
[]
[]
[]
[]
[]
[]
[]
[]
[]
[]
[]
[]
[]
[]
[]
[]
[]
[]
[]
[]
[]
[]
[]
[]
[]
[]
[]
[]
[]
[]
[]
[]
[]
[]
[]
[]
[]
[]
[]
[]
[]
[]
[]
[]
[]
[]
[]
[]
[]
[]
[]
[]
[]
[]
[]
[]
[]
[]
[]
[]
[]
[]
[]
[]
[]
[]
[]
[]
[]
[]
[]
[]
[]
[]
[]
[]
[]
[]
[]
[]
[]
[]
[]
[]
[]
[]
[]
[]
[]
[]
[]
[]
[]
[]
[]
[]
[]
[]
[]
[]
[]
[]
[]
[]
[]
[]
[]
[]
[]
[]
[]
[]
[]
[]
[]
[]
[]
[]
[]
[]
[]
[]
[]
[]
[]
[]
[]
[]
[]
[]
[]
[]
[]
[]
[]
[]
[]
[]
[]
[]
[]
[]
[]
[]
[]
[]
[]
[]
[]
[]
[]
[]
[]
[]
[]
[]
[]
[]
[]
[]
[]
[]
[]
[]
[]
[]
[]
[]
[]
[]
[]
[]
[]
[]
[]
[]
[]
[]
[]
[]
[]
[]
[]
[]
[]
[]
[]
[]
[]
[]
[]
[]
[]
[]
[]
[]
[]
[]
[]
[]
[]
[]
[]
[]
[]
[]
[]
[]
[]
[]
[]
[]
[]
[]
[]
[]
[]
[]
[]
[]
[]
[]
[]
[]
[]
[]
[]
[]
[]
[]
[]
[]
[]
[]
[]
[]
[]
[]
[]
[]
[]
[]
[]
[]
[]
[]
[]
[]
[]
[]
[]
[]
[]
[]
[]
[]
[]
[]
[]
[]
[]
[]
[]
[]
[]
[]
[]
[]
[]
[]
[]
[]
[]
[]
[]
[]
[]
[]
[]
[]
[]
[]
[]
[]
[]
[]
[]
[]
[]
[]
[]
[]
[]
[]
[]
[]
[]
[]
[]
[]
[]
[]
[]
[]
[]
[]
[]
[]
[]
[]
[]
[]
[]
[]
[]
[]
[]
[]
[]
[]
[]
[]
[]
[]
[]
[]
[]
[]
[]
[]
[]
[]
[]
[]
[]
[]
[]
[]
[]
[]
[]
[]
[]
[]
[]
[]
[]
[]
[]
[]
[]
[]
[]
[]
[]
[]
[]
[]
[]
[]
[]
[]
[]
[]
[]
[]
[]
[]
[]
[]
[]
[]
[]
[]
[]
[]
[]
[]
[]
[]
[]
[]
[]
[]
[]
[]
[]
[]
[]
[]
[]
[]
[]
[]
[]
[]
[]
[]
[]
[]
[]
[]
[]
[]
[]
[]
[]
[]
[]
[]
[]
[]
[]
[]
[]
[]
[]
[]
[]
[]
[]
[]
[]
[]
[]
[]
[]
[]
[]
[]
[]
[]
[]
[]
[]
[]
[]
[]
[]
[]
[]
[]
[]
[]
[]
[]
[]
[]
[]
[]
[]
[]
[]
[]
[]
[]
[]
[]
[]
[]
[]
[]
[]
[]
[]
[]
[]
[]
[]
[]
[]
[]
[]
[]
[]
[]
[]
[]
[]
[]
[]
[]
[]
[]
[]
[]
[]
[]
[]
[]
[]
[]
[]
[]
[]
[]
[]
[]
[]
[]
[]
[]
[]
[]
[]
[]
[]
[]
[]
[]
[]
[]
[]
[]
[]
[]
[]
[]
[]
[]
[]
[]
[]
[]
[]
[]
[]
[]
[]
[]
[]
[]
[]
[]
[]
[]
[]
[]
[]
[]
[]
[]
[]
[]
[]
[]
[]
[]
[]
[]
[]
[]
[]
[]
[]
[]
[]
[]
[]
[]
[]
[]
[]
[]
[]
[]
[]
[]
[]
[]
[]
[]
[]
[]
[]
[]
[]
[]
[]
[]
[]
[]
[]
[]
[]
[]
[]
[]
[]
[]
[]
[]
[]
[]
[]
[]
[]
[]
[]
[]
[]
[]
[]
[]
[]
[]
[]
[]
[]
[]
[]
[]
[]
[]
[]
[]
[]
[]
[]
[]
[]
[]
[]
[]
[]
[]
[]
[]
[]
[]
[]
[]
[]
[]
[]
[]
[]
[]
[]
[]
[]
[]
[]
[]
[]
[]
[]
[]
[]
[]
[]
[]
[]
[]
[]
[]
[]
[]
[]
[]
[]
[]
[]
[]
[]
[]
[]
[]
[]
[]
[]
[]
[]
[]
[]
[]
[]
[]
[]
[]
[]
[]
[]
[]
[]
[]
[]
[]
[]
[]
[]
[]
[]
[]
[]
[]
[]
[]
[]
[]
[]
[]
[]
[]
[]
[]
[]
[]
[]
[]
[]
[]
[]
[]
[]
[]
[]
[]
[]
[]
[]
[]
[]
[]
[]
[]
[]
[]
[]
[]
[]
[]
[]
[]
[]
[]
[]
[]
[]
[]
[]
[]
[]
[]
[]
[]
[]
[]
[]
[]
[]
[]
[]
[]
[]
[]
[]
[]
[]
[]
[]
[]
[]
[]
[]
[]
[]
[]
[]
[]
[]
[]
[]
[]
[]
[]
[]
[]
[]
[]
[]
[]
[]
[]
[]
[]
[]
[]
[]
[]
[]
[]
[]
[]
[]
[]
[]
[]
[]
[]
[]
[]
[]
[]
[]
[]
[]
[]
[]
[]
[]
[]
[]
[]
[]
[]
[]
[]
[]
[]
[]
[]
[]
[]
[]
[]
[]
[]
[]
[]
[]
[]
[]
[]
[]
[]
[]
[]
[]
[]
[]
[]
[]
[]
[]
[]
[]
[]
[]
[]
[]
[]
[]
[]
[]
[]
[]
[]
[]
[]
[]
[]
[]
[]
[]
[]
[]
[]
[]
[]
[]
[]
[]
[]
[]
[]
[]
[]
[]
[]
[]
[]
[]
[]
[]
[]
[]
[]
[]
[]
[]
[]
[]
[]
[]
[]
[]
[]
[]
[]
[]
[]
[]
[]
[]
[]
[]
[]
[]
[]
[]
[]
[]
[]
[]
[]
[]
[]
[]
[]
[]
[]
[]
[]
[]
[]
[]
[]
[]
[]
[]
[]
[]
[]
[]
[]
[]
[]
[]
[]
[]
[]
[]
[]
[]
[]
[]
[]
[]
[]
[]
[]
[]
[]
[]
[]
[]
[]
[]
[]
[]
[]
[]
[]
[]
[]
[]
[]
[]
[]
[]
[]
[]
[]
[]
[]
[]
[]
[]
[]
[]
[]
[]
[]
[]
[]
[]
[]
[]
[]
[]
[]
[]
[]
[]
[]
[]
[]
[]
[]
[]
[]
[]
[]
[]
[]
[]
[]
[]
[]
[]
[]
[]
[]
[]
[]
[]
[]
[]
[]
[]
[]
[]
[]
[]
[]
[]
[]
[]
[]
[]
[]
[]
[]
[]
[]
[]
[]
[]
[]
[]
[]
[]
[]
[]
[]
[]
[]
[]
[]
[]
[]
[]
[]
[]
[]
[]
[]
[]
[]
[]
[]
[]
[]
[]
[]
[]
[]
[]
[]
[]
[]
[]
[]
[]
[]
[]
[]
[]
[]
[]
[]
[]
[]
[]
[]
[]
[]
[]
[]
[]
[]
[]
[]
[]
[]
[]
[]
[]
[]
[]
[]
[]
[]
[]
[]
[]
[]
[]
[]
[]
[]
[]
[]
[]
[]
[]
[]
[]
[]
[]
[]
[]
[]
[]
[]
[]
[]
[]
[]
[]
[]
[]
[]
[]
[]
[]
[]
[]
[]
[]
[]
[]
[]
[]
[]
[]
[]
[]
[]
[]
[]
[]
[]
[]
[]
[]
[]
[]
[]
[]
[]
[]
[]
[]
[]
[]
[]
[]
[]
[]
[]
[]
[]
[]
[]
[]
[]
[]
[]
[]
[]
[]
[]
[]
[]
[]
[]
[]
[]
[]
[]
[]
[]
[]
[]
[]
[]
[]
[]
[]
[]
[]
[]
[]
[]
[]
[]
[]
[]
[]
[]
[]
[]
[]
[]
[]
[]
[]
[]
[]
[]
[]
[]
[]
[]
[]
[]
[]
[]
[]
[]
[]
[]
[]
[]
[]
[]
[]
[]
[]
[]
[]
[]
[]
[]
[]
[]
[]
[]
[]
[]
[]
[]
[]
[]
[]
[]
[]
[]
[]
[]
[]
[]
[]
[]
[]
[]
[]
[]
[]
[]
[]
[]
[]
[]
[]
[]
[]
[]
[]
[]
[]
[]
[]
[]
[]
[]
[]
[]
[]
[]
[]
[]
[]
[]
[]
[]
[]
[]
[]
[]
[]
[]
[]
[]
[]
[]
[]
[]
[]
[]
[]
[]
[]
[]
[]
[]
[]
[]
[]
[]
[]
[]
[]
[]
[]
[]
[]
[]
[]
[]
[]
[]
[]
[]
[]
[]
[]
[]
[]
[]
[]
[]
[]
[]
[]
[]
[]
[]
[]
[]
[]
[]
[]
[]
[]
[]
[]
[]
[]
[]
[]
[]
[]
[]
[]
[]
[]
[]
[]
[]
[]
[]
[]
[]
[]
[]
[]
[]
[]
[]
[]
[]
[]
[]
[]
[]
[]
[]
[]
[]
[]
[]
[]
[]
[]
[]
[]
[]
[]
[]
[]
[]
[]
[]
[]
[]
[]
[]
[]
[]
[]
[]
[]
[]
[]
[]
[]
[]
[]
[]
[]
[]
[]
[]
[]
[]
[]
[]
[]
[]
[]
[]
[]
[]
[]
[]
[]
[]
[]
[]
[]
[]
[]
[]
[]
[]
[]
[]
[]
[]
[]
[]
[]
[]
[]
[]
[]
[]
[]
[]
[]
[]
[]
[]
[]
[]
[]
[]
[]
[]
[]
[]
[]
[]
[]
[]
[]
[]
[]
[]
[]
[]
[]
[]
[]
[]
[]
[]
[]
[]
[]
[]
[]
[]
[]
[]
[]
[]
[]
[]
[]
[]
[]
[]
[]
[]
[]
[]
[]
[]
[]
[]
[]
[]
[]
[]
[]
[]
[]
[]
[]
[]
[]
[]
[]
[]
[]
[]
[]
[]
[]
[]
[]
[]
[]
[]
[]
[]
[]
[]
[]
[]
[]
[]
[]
[]
[]
[]
[]
[]
[]
[]
[]
[]
[]
[]
[]
[]
[]
[]
[]
[]
[]
[]
[]
[]
[]
[]
[]
[]
[]
[]
[]
[]
[]
[]
[]
[]
[]
[]
[]
[]
[]
[]
[]
[]
[]
[]
[]
[]
[]
[]
[]
[]
[]
[]
[]
[]
[]
[]
[]
[]
[]
[]
[]
[]
[]
[]
[]
[]
[]
[]
[]
[]
[]
[]
[]
[]
[]
[]
[]
[]
[]
[]
[]
[]
[]
[]
[]
[]
[]
[]
[]
[]
[]
[]
[]
[]
[]
[]
[]
[]
[]
[]
[]
[]
[]
[]
[]
[]
[]
[]
[]
[]
[]
[]
[]
[]
[]
[]
[]
[]
[]
[]
[]
[]
[]
[]
[]
[]
[]
[]
[]
[]
[]
[]
[]
[]
[]
[]
[]
[]
[]
[]
[]
[]
[]
[]
[]
[]
[]
[]
[]
[]
[]
[]
[]
[]
[]
[]
[]
[]
[]
[]
[]
[]
[]
[]
[]
[]
[]
[]
[]
[]
[]
[]
[]
[]
[]
[]
[]
[]
[]
[]
[]
[]
[]
[]
[]
[]
[]
[]
[]
[]
[]
[]
[]
[]
[]
[]
[]
[]
[]
[]
[]
[]
[]
[]
[]
[]
[]
[]
[]
[]
[]
[]
[]
[]
[]
[]
[]
[]
[]
[]
[]
[]
[]
[]
[]
[]
[]
[]
[]
[]
[]
[]
[]
[]
[]
[]
[]
[]
[]
[]
[]
[]
[]
[]
[]
[]
[]
[]
[]
[]
[]
[]
[]
[]
[]
[]
[]
[]
[]
[]
[]
[]
[]
[]
[]
[]
[]
[]
[]
[]
[]
[]
[]
[]
[]
[]
[]
[]
[]
[]
[]
[]
[]
[]
[]
[]
[]
[]
[]
[]
[]
[]
[]
[]
[]
[]
[]
[]
[]
[]
[]
[]
[]
[]
[]
[]
[]
[]
[]
[]
[]
[]
[]
[]
[]
[]
[]
[]
[]
[]
[]
[]
[]
[]
[]
[]
[]
[]
[]
[]
[]
[]
[]
[]
[]
[]
[]
[]
[]
[]
[]
[]
[]
[]
[]
[]
[]
[]
[]
[]
[]
[]
[]
[]
[]
[]
[]
[]
[]
[]
[]
[]
[]
[]
[]
[]
[]
[]
[]
[]
[]
[]
[]
[]
[]
[]
[]
[]
[]
[]
[]
[]
[]
[]
[]
[]
[]
[]
[]
[]
[]
[]
[]
[]
[]
[]
[]
[]
[]
[]
[]
[]
[]
[]
[]
[]
[]
[]
[]
[]
[]
[]
[]
[]
[]
[]
[]
[]
[]
[]
[]
[]
[]
[]
[]
[]
[]
[]
[]
[]
[]
[]
[]
[]
[]
[]
[]
[]
[]
[]
[]
[]
[]
[]
[]
[]
[]
[]
[]
[]
[]
[]
[]
[]
[]
[]
[]
[]
[]
[]
[]
[]
[]
[]
[]
[]
[]
[]
[]
[]
[]
[]
[]
[]
[]
[]
[]
[]
[]
[]
[]
[]
[]
[]
[]
[]
[]
[]
[]
[]
[]
[]
[]
[]
[]
[]
[]
[]
[]
[]
[]
[]
[]
[]
[]
[]
[]
[]
[]
[]
[]
[]
[]
[]
[]
[]
[]
[]
[]
[]
[]
[]
[]
[]
[]
[]
[]
[]
[]
[]
[]
[]
[]
[]
[]
[]
[]
[]
[]
[]
[]
[]
[]
[]
[]
[]
[]
[]
[]
[]
[]
[]
[]
[]
[]
[]
[]
[]
[]
[]
[]
[]
[]
[]
[]
[]
[]
[]
[]
[]
[]
[]
[]
[]
[]
[]
[]
[]
[]
[]
[]
[]
[]
[]
[]
[]
[]
[]
[]
[]
[]
[]
[]
[]
[]
[]
[]
[]
[]
[]
[]
[]
[]
[]
[]
[]
[]
[]
[]
[]
[]
[]
[]
[]
[]
[]
[]
[]
[]
[]
[]
[]
[]
[]
[]
[]
[]
[]
[]
[]
[]
[]
[]
[]
[]
[]
[]
[]
[]
[]
[]
[]
[]
[]
[]
[]
[]
[]
[]
[]
[]
[]
[]
[]
[]
[]
[]
[]
[]
[]
[]
[]
[]
[]
[]
[]
[]
[]
[]
[]
[]
[]
[]
[]
[]
[]
[]
[]
[]
[]
[]
[]
[]
[]
[]
[]
[]
[]
[]
[]
[]
[]
[]
[]
[]
[]
[]
[]
[]
[]
[]
[]
[]
[]
[]
[]
[]
[]
[]
[]
[]
[]
[]
[]
[]
[]
[]
[]
[]
[]
[]
[]
[]
[]
[]
[]
[]
[]
[]
[]
[]
[]
[]
[]
[]
[]
[]
[]
[]
[]
[]
[]
[]
[]
[]
[]
[]
[]
[]
[]
[]
[]
[]
[]
[]
[]
[]
[]
[]
[]
[]
[]
[]
[]
[]
[]
[]
[]
[]
[]
[]
[]
[]
[]
[]
[]
[]
[]
[]
[]
[]
[]
[]
[]
[]
[]
[]
[]
[]
[]
[]
[]
[]
[]
[]
[]
[]
[]
[]
[]
[]
[]
[]
[]
[]
[]
[]
[]
[]
[]
[]
[]
[]
[]
[]
[]
[]
[]
[]
[]
[]
[]
[]
[]
[]
[]
[]
[]
[]
[]
[]
[]
[]
[]
[]
[]
[]
[]
[]
[]
[]
[]
[]
[]
[]
[]
[]
[]
[]
[]
[]
[]
[]
[]
[]
[]
[]
[]
[]
[]
[]
[]
[]
[]
[]
[]
[]
[]
[]
[]
[]
[]
[]
[]
[]
[]
[]
[]
[]
[]
[]
[]
[]
[]
[]
[]
[]
[]
[]
[]
[]
[]
[]
[]
[]
[]
[]
[]
[]
[]
[]
[]
[]
[]
[]
[]
[]
[]
[]
[]
[]
[]
[]
[]
[]
[]
[]
[]
[]
[]
[]
[]
[]
[]
[]
[]
[]
[]
[]
[]
[]
[]
[]
[]
[]
[]
[]
[]
[]
[]
[]
[]
[]
[]
[]
[]
[]
[]
[]
[]
[]
[]
[]
[]
[]
[]
[]
[]
[]
[]
[]
[]
[]
[]
[]
[]
[]
[]
[]
[]
[]
[]
[]
[]
[]
[]
[]
[]
[]
[]
[]
[]
[]
[]
[]
[]
[]
[]
[]
[]
[]
[]
[]
[]
[]
[]
[]
[]
[]
[]
[]
[]
[]
[]
[]
[]
[]
[]
[]
[]
[]
[]
[]
[]
[]
[]
[]
[]
[]
[]
[]
[]
[]
[]
[]
[]
[]
[]
[]
[]
[]
[]
[]
[]
[]
[]
[]
[]
[]
[]
[]
[]
[]
[]
[]
[]
[]
[]
[]
[]
[]
[]
[]
[]
[]
[]
[]
[]
[]
[]
[]
[]
[]
[]
[]
[]
[]
[]
[]
[]
[]
[]
[]
[]
[]
[]
[]
[]
[]
[]
[]
[]
[]
[]
[]
[]
[]
[]
[]
[]
[]
[]
[]
[]
[]
[]
[]
[]
[]
[]
[]
[]
[]
[]
[]
[]
[]
[]
[]
[]
[]
[]
[]
[]
[]
[]
[]
[]
[]
[]
[]
[]
[]
[]
[]
[]
[]
[]
[]
[]
[]
[]
[]
[]
[]
[]
[]
[]
[]
[]
[]
[]
[]
[]
[]
[]
[]
[]
[]
[]
[]
[]
[]
[]
[]
[]
[]
[]
[]
[]
[]
[]
[]
[]
[]
[]
[]
[]
[]
[]
[]
[]
[]
[]
[]
[]
[]
[]
[]
[]
[]
[]
[]
[]
[]
[]
[]
[]
[]
[]
[]
[]
[]
[]
[]
[]
[]
[]
[]
[]
[]
[]
[]
[]
[]
[]
[]
[]
[]
[]
[]
[]
[]
[]
[]
[]
[]
[]
[]
[]
[]
[]
[]
[]
[]
[]
[]
[]
[]
[]
[]
[]
[]
[]
[]
[]
[]
[]
[]
[]
[]
[]
[]
[]
[]
[]
[]
[]
[]
[]
[]
[]
[]
[]
[]
[]
[]
[]
[]
[]
[]
[]
[]
[]
[]
[]
[]
[]
[]
[]
[]
[]
[]
[]
[]
[]
[]
[]
[]
[]
[]
[]
[]
[]
[]
[]
[]
[]
[]
[]
[]
[]
[]
[]
[]
[]
[]
[]
[]
[]
[]
[]
[]
[]
[]
[]
[]
[]
[]
[]
[]
[]
[]
[]
[]
[]
[]
[]
[]
[]
[]
[]
[]
[]
[]
[]
[]
[]
[]
[]
[]
[]
[]
[]
[]
[]
[]
[]
[]
[]
[]
[]
[]
[]
[]
[]
[]
[]
[]
[]
[]
[]
[]
[]
[]
[]
[]
[]
[]
[]
[]
[]
[]
[]
[]
[]
[]
[]
[]
[]
[]
[]
[]
[]
[]
[]
[]
[]
[]
[]
[]
[]
[]
[]
[]
[]
[]
[]
[]
[]
[]
[]
[]
[]
[]
[]
[]
[]
[]
[]
[]
[]
[]
[]
[]
[]
[]
[]
[]
[]
[]
[]
[]
[]
[]
[]
[]
[]
[]
[]
[]
[]
[]
[]
[]
[]
[]
[]
[]
[]
[]
[]
[]
[]
[]
[]
[]
[]
[]
[]
[]
[]
[]
[]
[]
[]
[]
[]
[]
[]
[]
[]
[]
[]
[]
[]
[]
[]
[]
[]
[]
[]
[]
[]
[]
[]
[]
[]
[]
[]
[]
[]
[]
[]
[]
[]
[]
[]
[]
[]
[]
[]
[]
[]
[]
[]
[]
[]
[]
[]
[]
[]
[]
[]
[]
[]
[]
[]
[]
[]
[]
[]
[]
[]
[]
[]
[]
[]
[]
[]
[]
[]
[]
[]
[]
[]
[]
[]
[]
[]
[]
[]
[]
[]
[]
[]
[]
[]
[]
[]
[]
[]
[]
[]
[]
[]
[]
[]
[]
[]
[]
[]
[]
[]
[]
[]
[]
[]
[]
[]
[]
[]
[]
[]
[]
[]
[]
[]
[]
[]
[]
[]
[]
[]
[]
[]
[]
[]
[]
[]
[]
[]
[]
[]
[]
[]
[]
[]
[]
[]
[]
[]
[]
[]
[]
[]
[]
[]
[]
[]
[]
[]
[]
[]
[]
[]
[]
[]
[]
[]
[]
[]
[]
[]
[]
[]
[]
[]
[]
[]
[]
[]
[]
[]
[]
[]
[]
[]
[]
[]
[]
[]
[]
[]
[]
[]
[]
[]
[]
[]
[]
[]
[]
[]
[]
[]
[]
[]
[]
[]
[]
[]
[]
[]
[]
[]
[]
[]
[]
[]
[]
[]
[]
[]
[]
[]
[]
[]
[]
[]
[]
[]
[]
[]
[]
[]
[]
[]
[]
[]
[]
[]
[]
[]
[]
[]
[]
[]
[]
[]
[]
[]
[]
[]
[]
[]
[]
[]
[]
[]
[]
[]
[]
[]
[]
[]
[]
[]
[]
[]
[]
[]
[]
[]
[]
[]
[]
[]
[]
[]
[]
[]
[]
[]
[]
[]
[]
[]
[]
[]
[]
[]
[]
[]
[]
[]
[]
[]
[]
[]
[]
[]
[]
[]
[]
[]
[]
[]
[]
[]
[]
[]
[]
[]
[]
[]
[]
[]
[]
[]
[]
[]
[]
[]
[]
[]
[]
[]
[]
[]
[]
[]
[]
[]
[]
[]
[]
[]
[]
[]
[]
[]
[]
[]
[]
[]
[]
[]
[]
[]
[]
[]
[]
[]
[]
[]
[]
[]
[]
[]
[]
[]
[]
[]
[]
[]
[]
[]
[]
[]
[]
[]
[]
[]
[]
[]
[]
[]
[]
[]
[]
[]
[]
[]
[]
[]
[]
[]
[]
[]
[]
[]
[]
[]
[]
[]
[]
[]
[]
[]
[]
[]
[]
[]
[]
[]
[]
[]
[]
[]
[]
[]
[]
[]
[]
[]
[]
[]
[]
[]
[]
[]
[]
[]
[]
[]
[]
[]
[]
[]
[]
[]
[]
[]
[]
[]
[]
[]
[]
[]
[]
[]
[]
[]
[]
[]
[]
[]
[]
[]
[]
[]
[]
[]
[]
[]
[]
[]
[]
[]
[]
[]
[]
[]
[]
[]
[]
[]
[]
[]
[]
[]
[]
[]
[]
[]
[]
[]
[]
[]
[]
[]
[]
[]
[]
[]
[]
[]
[]
[]
[]
[]
[]
[]
[]
[]
[]
[]
[]
[]
[]
[]
[]
[]
[]
[]
[]
[]
[]
[]
[]
[]
[]
[]
[]
[]
[]
[]
[]
[]
[]
[]
[]
[]
[]
[]
[]
[]
[]
[]
[]
[]
[]
[]
[]
[]
[]
[]
[]
[]
[]
[]
[]
[]
[]
[]
[]
[]
[]
[]
[]
[]
[]
[]
[]
[]
[]
[]
[]
[]
[]
[]
[]
[]
[]
[]
[]
[]
[]
[]
[]
[]
[]
[]
[]
[]
[]
[]
[]
[]
[]
[]
[]
[]
[]
[]
[]
[]
[]
[]
[]
[]
[]
[]
[]
[]
[]
[]
[]
[]
[]
[]
[]
[]
[]
[]
[]
[]
[]
[]
[]
[]
[]
[]
[]
[]
[]
[]
[]
[]
[]
[]
[]
[]
[]
[]
[]
[]
[]
[]
[]
[]
[]
[]
[]
[]
[]
[]
[]
[]
[]
[]
[]
[]
[]
[]
[]
[]
[]
[]
[]
[]
[]
[]
[]
[]
[]
[]
[]
[]
[]
[]
[]
[]
[]
[]
[]
[]
[]
[]
[]
[]
[]
[]
[]
[]
[]
[]
[]
[]
[]
[]
[]
[]
[]
[]
[]
[]
[]
[]
[]
[]
[]
[]
[]
[]
[]
[]
[]
[]
[]
[]
[]
[]
[]
[]
[]
[]
[]
[]
[]
[]
[]
[]
[]
[]
[]
[]
[]
[]
[]
[]
[]
[]
[]
[]
[]
[]
[]
[]
[]
[]
[]
[]
[]
[]
[]
[]
[]
[]
[]
[]
[]
[]
[]
[]
[]
[]
[]
[]
[]
[]
[]
[]
[]
[]
[]
[]
[]
[]
[]
[]
[]
[]
[]
[]
[]
[]
[]
[]
[]
[]
[]
[]
[]
[]
[]
[]
[]
[]
[]
[]
[]
[]
[]
[]
[]
[]
[]
[]
[]
[]
[]
[]
[]
[]
[]
[]
[]
[]
[]
[]
[]
[]
[]
[]
[]
[]
[]
[]
[]
[]
[]
[]
[]
[]
[]
[]
[]
[]
[]
[]
[]
[]
[]
[]
[]
[]
[]
[]
[]
[]
[]
[]
[]
[]
[]
[]
[]
[]
[]
[]
[]
[]
[]
[]
[]
[]
[]
[]
[]
[]
[]
[]
[]
[]
[]
[]
[]
[]
[]
[]
[]
[]
[]
[]
[]
[]
[]
[]
[]
[]
[]
[]
[]
[]
[]
[]
[]
[]
[]
[]
[]
[]
[]
[]
[]
[]
[]
[]
[]
[]
[]
[]
[]
[]
[]
[]
[]
[]
[]
[]
[]
[]
[]
[]
[]
[]
[]
[]
[]
[]
[]
[]
[]
[]
[]
[]
[]
[]
[]
[]
[]
[]
[]
[]
[]
[]
[]
[]
[]
[]
[]
[]
[]
[]
[]
[]
[]
[]
[]
[]
[]
[]
[]
[]
[]
[]
[]
[]
[]
[]
[]
[]
[]
[]
[]
[]
[]
[]
[]
[]
[]
[]
[]
[]
[]
[]
[]
[]
[]
[]
[]
[]
[]
[]
[]
[]
[]
[]
[]
[]
[]
[]
[]
[]
[]
[]
[]
[]
[]
[]
[]
[]
[]
[]
[]
[]
[]
[]
[]
[]
[]
[]
[]
[]
[]
[]
[]
[]
[]
[]
[]
[]
[]
[]
[]
[]
[]
[]
[]
[]
[]
[]
[]
[]
[]
[]
[]
[]
[]
[]
[]
[]
[]
[]
[]
[]
[]
[]
[]
[]
[]
[]
[]
[]
[]
[]
[]
[]
[]
[]
[]
[]
[]
[]
[]
[]
[]
[]
[]
[]
[]
[]
[]
[]
[]
[]
[]
[]
[]
[]
[]
[]
[]
[]
[]
[]
[]
[]
[]
[]
[]
[]
[]
[]
[]
[]
[]
[]
[]
[]
[]
[]
[]
[]
[]
[]
[]
[]
[]
[]
[]
[]
[]
[]
[]
[]
[]
[]
[]
[]
[]
[]
[]
[]
[]
[]
[]
[]
[]
[]
[]
[]
[]
[]
[]
[]
[]
[]
[]
[]
[]
[]
[]
[]
[]
[]
[]
[]
[]
[]
[]
[]
[]
[]
[]
[]
[]
[]
[]
[]
[]
[]
[]
[]
[]
[]
[]
[]
[]
[]
[]
[]
[]
[]
[]
[]
[]
[]
[]
[]
[]
[]
[]
[]
[]
[]
[]
[]
[]
[]
[]
[]
[]
[]
[]
[]
[]
[]
[]
[]
[]
[]
[]
[]
[]
[]
[]
[]
[]
[]
[]
[]
[]
[]
[]
[]
[]
[]
[]
[]
[]
[]
[]
[]
[]
[]
[]
[]
[]
[]
[]
[]
[]
[]
[]
[]
[]
[]
[]
[]
[]
[]
[]
[]
[]
[]
[]
[]
[]
[]
[]
[]
[]
[]
[]
[]
[]
[]
[]
[]
[]
[]
[]
[]
[]
[]
[]
[]
[]
[]
[]
[]
[]
[]
[]
[]
[]
[]
[]
[]
[]
[]
[]
[]
[]
[]
[]
[]
[]
[]
[]
[]
[]
[]
[]
[]
[]
[]
[]
[]
[]
[]
[]
[]
[]
[]
[]
[]
[]
[]
[]
[]
[]
[]
[]
[]
[]
[]
[]
[]
[]
[]
[]
[]
[]
[]
[]
[]
[]
[]
[]
[]
[]
[]
[]
[]
[]
[]
[]
[]
[]
[]
[]
[]
[]
[]
[]
[]
[]
[]
[]
[]
[]
[]
[]
[]
[]
[]
[]
[]
[]
[]
[]
[]
[]
[]
[]
[]
[]
[]
[]
[]
[]
[]
[]
[]
[]
[]
[]
[]
[]
[]
[]
[]
[]
[]
[]
[]
[]
[]
[]
[]
[]
[]
[]
[]
[]
[]
[]
[]
[]
[]
[]
[]
[]
[]
[]
[]
[]
[]
[]
[]
[]
[]
[]
[]
[]
[]
[]
[]
[]
[]
[]
[]
[]
[]
[]
[]
[]
[]
[]
[]
[]
[]
[]
[]
[]
[]
[]
[]
[]
[]
[]
[]
[]
[]
[]
[]
[]
[]
[]
[]
[]
[]
[]
[]
[]
[]
[]
[]
[]
[]
[]
[]
[]
[]
[]
[]
[]
[]
[]
[]
[]
[]
[]
[]
[]
[]
[]
[]
[]
[]
[]
[]
[]
[]
[]
[]
[]
[]
[]
[]
[]
[]
[]
[]
[]
[]
[]
[]
[]
[]
[]
[]
[]
[]
[]
[]
[]
[]
[]
[]
[]
[]
[]
[]
[]
[]
[]
[]
[]
[]
[]
[]
[]
[]
[]
[]
[]
[]
[]
[]
[]
[]
[]
[]
[]
[]
[]
[]
[]
[]
[]
[]
[]
[]
[]
[]
[]
[]
[]
[]
[]
[]
[]
[]
[]
[]
[]
[]
[]
[]
[]
[]
[]
[]
[]
[]
[]
[]
[]
[]
[]
[]
[]
[]
[]
[]
[]
[]
[]
[]
[]
[]
[]
[]
[]
[]
[]
[]
[]
[]
[]
[]
[]
[]
[]
[]
[]
[]
[]
[]
[]
[]
[]
[]
[]
[]
[]
[]
[]
[]
[]
[]
[]
[]
[]
[]
[]
[]
[]
[]
[]
[]
[]
[]
[]
[]
[]
[]
[]
[]
[]
[]
[]
[]
[]
[]
[]
[]
[]
[]
[]
[]
[]
[]
[]
[]
[]
[]
[]
[]
[]
[]
[]
[]
[]
[]
[]
[]
[]
[]
[]
[]
[]
[]
[]
[]
[]
[]
[]
[]
[]
[]
[]
[]
[]
[]
[]
[]
[]
[]
[]
[]
[]
[]
[]
[]
[]
[]
[]
[]
[]
[]
[]
[]
[]
[]
[]
[]
[]
[]
[]
[]
[]
[]
[]
[]
[]
[]
[]
[]
[]
[]
[]
[]
[]
[]
[]
[]
[]
[]
[]
[]
[]
[]
[]
[]
[]
[]
[]
[]
[]
[]
[]
[]
[]
[]
[]
[]
[]
[]
[]
[]
[]
[]
[]
[]
[]
[]
[]
[]
[]
[]
[]
[]
[]
[]
[]
[]
[]
[]
[]
[]
[]
[]
[]
[]
[]
[]
[]
[]
[]
[]
[]
[]
[]
[]
[]
[]
[]
[]
[]
[]
[]
[]
[]
[]
[]
[]
[]
[]
[]
[]
[]
[]
[]
[]
[]
[]
[]
[]
[]
[]
[]
[]
[]
[]
[]
[]
[]
[]
[]
[]
[]
[]
[]
[]
[]
[]
[]
[]
[]
[]
[]
[]
[]
[]
[]
[]
[]
[]
[]
[]
[]
[]
[]
[]
[]
[]
[]
[]
[]
[]
[]
[]
[]
[]
[]
[]
[]
[]
[]
[]
[]
[]
[]
[]
[]
[]
[]
[]
[]
[]
[]
[]
[]
[]
[]
[]
[]
[]
[]
[]
[]
[]
[]
[]
[]
[]
[]
[]
[]
[]
[]
[]
[]
[]
[]
[]
[]
[]
[]
[]
[]
[]
[]
[]
[]
[]
[]
[]
[]
[]
[]
[]
[]
[]
[]
[]
[]
[]
[]
[]
[]
[]
[]
[]
[]
[]
[]
[]
[]
[]
[]
[]
[]
[]
[]
[]
[]
[]
[]
[]
[]
[]
[]
[]
[]
[]
[]
[]
[]
[]
[]
[]
[]
[]
[]
[]
[]
[]
[]
[]
[]
[]
[]
[]
[]
[]
[]
[]
[]
[]
[]
[]
[]
[]
[]
[]
[]
[]
[]
[]
[]
[]
[]
[]
[]
[]
[]
[]
[]
[]
[]
[]
[]
[]
[]
[]
[]
[]
[]
[]
[]
[]
[]
[]
[]
[]
[]
[]
[]
[]
[]
[]
[]
[]
[]
[]
[]
[]
[]
[]
[]
[]
[]
[]
[]
[]
[]
[]
[]
[]
[]
[]
[]
[]
[]
[]
[]
[]
[]
[]
[]
[]
[]
[]
[]
[]
[]
[]
[]
[]
[]
[]
[]
[]
[]
[]
[]
[]
[]
[]
[]
[]
[]
[]
[]
[]
[]
[]
[]
[]
[]
[]
[]
[]
[]
[]
[]
[]
[]
[]
[]
[]
[]
[]
[]
[]
[]
[]
[]
[]
[]
[]
[]
[]
[]
[]
[]
[]
[]
[]
[]
[]
[]
[]
[]
[]
[]
[]
[]
[]
[]
[]
[]
[]
[]
[]
[]
[]
[]
[]
[]
[]
[]
[]
[]
[]
[]
[]
[]
[]
[]
[]
[]
[]
[]
[]
[]
[]
[]
[]
[]
[]
[]
[]
[]
[]
[]
[]
[]
[]
[]
[]
[]
[]
[]
[]
[]
[]
[]
[]
[]
[]
[]
[]
[]
[]
[]
[]
[]
[]
[]
[]
[]
[]
[]
[]
[]
[]
[]
[]
[]
[]
[]
[]
[]
[]
[]
[]
[]
[]
[]
[]
[]
[]
[]
[]
[]
[]
[]
[]
[]
[]
[]
[]
[]
[]
[]
[]
[]
[]
[]
[]
[]
[]
[]
[]
[]
[]
[]
[]
[]
[]
[]
[]
[]
[]
[]
[]
[]
[]
[]
[]
[]
[]
[]
[]
[]
[]
[]
[]
[]
[]
[]
[]
[]
[]
[]
[]
[]
[]
[]
[]
[]
[]
[]
[]
[]
[]
[]
[]
[]
[]
[]
[]
[]
[]
[]
[]
[]
[]
[]
[]
[]
[]
[]
[]
[]
[]
[]
[]
[]
[]
[]
[]
[]
[]
[]
[]
[]
[]
[]
[]
[]
[]
[]
[]
[]
[]
[]
[]
[]
[]
[]
[]
[]
[]
[]
[]
[]
[]
[]
[]
[]
[]
[]
[]
[]
[]
[]
[]
[]
[]
[]
[]
[]
[]
[]
[]
[]
[]
[]
[]
[]
[]
[]
[]
[]
[]
[]
[]
[]
[]
[]
[]
[]
[]
[]
[]
[]
[]
[]
[]
[]
[]
[]
[]
[]
[]
[]
[]
[]
[]
[]
[]
[]
[]
[]
[]
[]
[]
[]
[]
[]
[]
[]
[]
[]
[]
[]
[]
[]
[]
[]
[]
[]
[]
[]
[]
[]
[]
[]
[]
[]
[]
[]
[]
[]
[]
[]
[]
[]
[]
[]
[]
[]
[]
[]
[]
[]
[]
[]
[]
[]
[]
[]
[]
[]
[]
[]
[]
[]
[]
[]
[]
[]
[]
[]
[]
[]
[]
[]
[]
[]
[]
[]
[]
[]
[]
[]
[]
[]
[]
[]
[]
[]
[]
[]
[]
[]
[]
[]
[]
[]
[]
[]
[]
[]
[]
[]
[]
[]
[]
[]
[]
[]
[]
[]
[]
[]
[]
[]
[]
[]
[]
[]
[]
[]
[]
[]
[]
[]
[]
[]
[]
[]
[]
[]
[]
[]
[]
[]
[]
[]
[]
[]
[]
[]
[]
[]
[]
[]
[]
[]
[]
[]
[]
[]
[]
[]
[]
[]
[]
[]
[]
[]
[]
[]
[]
[]
[]
[]
[]
[]
[]
[]
[]
[]
[]
[]
[]
[]
[]
[]
[]
[]
[]
[]
[]
[]
[]
[]
[]
[]
[]
[]
[]
[]
[]
[]
[]
[]
[]
[]
[]
[]
[]
[]
[]
[]
[]
[]
[]
[]
[]
[]
[]
[]
[]
[]
[]
[]
[]
[]
[]
[]
[]
[]
[]
[]
[]
[]
[]
[]
[]
[]
[]
[]
[]
[]
[]
[]
[]
[]
[]
[]
[]
[]
[]
[]
[]
[]
[]
[]
[]
[]
[]
[]
[]
[]
[]
[]
[]
[]
[]
[]
[]
[]
[]
[]
[]
[]
[]
[]
[]
[]
[]
[]
[]
[]
[]
[]
[]
[]
[]
[]
[]
[]
[]
[]
[]
[]
[]
[]
[]
[]
[]
[]
[]
[]
[]
[]
[]
[]
[]
[]
[]
[]
[]
[]
[]
[]
[]
[]
[]
[]
[]
[]
[]
[]
[]
[]
[]
[]
[]
[]
[]
[]
[]
[]
[]
[]
[]
[]
[]
[]
[]
[]
[]
[]
[]
[]
[]
[]
[]
[]
[]
[]
[]
[]
[]
[]
[]
[]
[]
[]
[]
[]
[]
[]
[]
[]
[]
[]
[]
[]
[]
[]
[]
[]
[]
[]
[]
[]
[]
[]
[]
[]
[]
[]
[]
[]
[]
[]
[]
[]
[]
[]
[]
[]
[]
[]
[]
[]
[]
[]
[]
[]
[]
[]
[]
[]
[]
[]
[]
[]
[]
[]
[]
[]
[]
[]
[]
[]
[]
[]
[]
[]
[]
[]
[]
[]
[]
[]
[]
[]
[]
[]
[]
[]
[]
[]
[]
[]
[]
[]
[]
[]
[]
[]
[]
[]
[]
[]
[]
[]
[]
[]
[]
[]
[]
[]
[]
[]
[]
[]
[]
[]
[]
[]
[]
[]
[]
[]
[]
[]
[]
[]
[]
[]
[]
[]
[]
[]
[]
[]
[]
[]
[]
[]
[]
[]
[]
[]
[]
[]
[]
[]
[]
[]
[]
[]
[]
[]
[]
[]
[]
[]
[]
[]
[]
[]
[]
[]
[]
[]
[]
[]
[]
[]
[]
[]
[]
[]
[]
[]
[]
[]
[]
[]
[]
[]
[]
[]
[]
[]
[]
[]
[]
[]
[]
[]
[]
[]
[]
[]
[]
[]
[]
[]
[]
[]
[]
[]
[]
[]
[]
[]
[]
[]
[]
[]
[]
[]
[]
[]
[]
[]
[]
[]
[]
[]
[]
[]
[]
["hjvarme"]

{"sheet":"Opgørelse Vand 2014","index":38,"n_rows":27,"n_cols":11,"rows_kept":27,"cut":false,"hidden":false,"merged":[[2,0,2,4],[3,7,3,8],[7,4,7,5],[15,7,15,8],[16,4,16,5]]}
[]
[null,null,null,null,null,null,null,null,"År:",null,2014]
[]
["Opgørelse     Vand",null,null,null,null,null,null,{"$f":"INDIRECT(\"'\"&K2&\"'!a28\")+1","v":"2014-01-01"},null,"-",{"$f":"INDIRECT(\"'\"&K2&\"'!a40\")","v":"2014-12-31"}]
["Målernr.","Dato","Gl. visning",null,"Dato",null,"Ny visning",null,"Forbrug",null,"Enhed"]
[37158017,{"$f":"H4-1","v":"2013-12-31"},{"$f":"INDIRECT(\"'\"&K2&\"'!b28\")","v":1685},null,{"$f":"K4","v":"2014-12-31"},null,{"$f":"OFFSET(INDIRECT(\"'\"&K2&\"'!b29\"),COUNTA(INDIRECT(\"'\"&K2&\"'!b29:b40\"))-1,0,1)","v":1764},null,{"$f":"G6-C6","v":79},null,"m³"]
[]
[null,null,null,null,"Forbrug",null,null,"Pris","Beløb",null,"Beløb i alt"]
["Variabelt driftsbidrag vand",null,null,null,{"$f":"I6","v":79},{"$f":"K6","v":"m³"},null,6.82,{"$f":"E9*H9","v":538.78}]
["Fast driftsbidrag vand",null,null,null,null,null,null,null,977]
["Statsafgift vand",null,null,null,{"$f":"I6","v":79},{"$f":"K6","v":"m³"},null,5.46,{"$f":"E11*H11","v":431.34}]
["Drikkevandsbidrag",null,null,null,{"$f":"I6","v":79},{"$f":"K6","v":"m³"},null,0.67,{"$f":"E12*H12","v":52.93},null,{"$f":"SUM(I9:I12)","v":2000.05}]
[0.25,"moms af",{"$f":"K12","v":2000.05},null,null,null,null,null,null,null,{"$f":"C13*A13","v":500.01249999999999}]
["Beløb I alt",null,null,null,null,null,null,null,null,null,{"$f":"K12+K13","v":2500.0625}]
[]
["Opgørelse     Spildevand",null,null,null,null,null,null,{"$f":"H4","v":"2014-01-01"},null,"-",{"$f":"K4","v":"2014-12-31"}]
[null,null,null,null,"Forbrug",null,null,"Pris","Beløb",null,"Beløb i alt"]
["Statsafgift spildevand",null,null,null,59,{"$f":"K6","v":"m³"},null,0.5,{"$f":"E18*H18","v":29.5},"*"]
["Statsafgift spildevand",null,null,null,20,"m³",null,0.75,{"$f":"E19*H19","v":15}]
["Tømning af septiktank hvert år",null,null,null,1,"stk",null,484.6,{"$f":"E20*H20","v":484.6},null,{"$f":"SUM(I18:I20)","v":529.1}]
[0.25,"moms af",{"$f":"I20","v":484.6},null,null,null,null,null,null,null,{"$f":"C21*A21","v":121.15}]
["Beløb I alt",null,null,null,null,null,null,null,null,null,{"$f":"K20+K21","v":650.25}]
[]
["*markerede beløb er momsfri"]
["Forbrug i alt",null,null,null,null,null,null,null,null,null,{"$f":"K14+K22","v":3150.3125}]
["Opkrævet aconto for perioden",null,null,null,{"$f":"H4","v":"2014-01-01"},"-",{"$f":"K4","v":"2014-12-31"},null,null,null,{"$f":"-(INDIRECT(\"'Aconto vand \"&K2&\"'!f9\"))","v":-3095.28}]
["Forskelsbeløb",null,null,null,null,null,null,null,{"$f":"IF(K27<0,\"Tilgode\",\"til betaling\")","v":"til betaling"},null,{"$f":"K26+K25","v":55.0324999999998}]

{"sheet":"aconto Vand 2014","index":39,"n_rows":9,"n_cols":6,"rows_kept":9,"cut":false,"hidden":false,"merged":[]}
[]
["Betalingsterminer"]
[]
[null,null,"betalings dato",null,"beløb"]
[]
["1. rate",null,"2014-02-10",null,773.82]
["2. rate",null,"2014-05-12",null,773.82]
["3. rate",null,"2014-08-11",null,773.82]
["4. rate",null,"2014-11-10",null,773.82,{"$f":"SUM(E6:E9)","v":3095.28}]

{"sheet":"Opgørelse Vand 2015","index":40,"n_rows":26,"n_cols":17,"rows_kept":26,"cut":false,"hidden":false,"merged":[[24,6,24,7],[15,8,15,9],[2,0,2,4],[3,8,3,9],[7,4,7,5],[16,4,16,5],[4,5,4,6],[5,5,5,6]]}
[null,null,null,null,null,null,null,null,null,null,null,null,null,null,null,null,"Ordinær"]
[null,null,null,null,null,null,null,null,null,"År:",null,2015,null,null,null,null,"Udskiftning"]
[]
["Opgørelse     Vand",null,null,null,null,null,null,null,{"$f":"INDIRECT(\"'\"&L2&\"'!a28\")+1","v":"2015-01-01"},null,"-",{"$f":"INDIRECT(\"'\"&L2&\"'!a40\")","v":"2015-12-31"}]
["Målernr.","Dato","Gl. visning",null,"Dato","Årsag",null,"Ny visning",null,"Forbrug",null,"Enhed"]
[37158017,{"$f":"I4-1","v":"2014-12-31"},{"$f":"INDIRECT(\"'\"&L2&\"'!b28\")","v":1764},null,{"$f":"L4","v":"2015-12-31"},"Ordinær",null,{"$f":"OFFSET(INDIRECT(\"'\"&L2&\"'!b29\"),COUNTA(INDIRECT(\"'\"&L2&\"'!b29:b40\"))-1,0,1)","v":""},null,{"$f":"H6-C6","v":{"$error":"#VALUE!"}},null,"m³"]
[]
[null,null,null,null,"Forbrug",null,null,null,"Pris","Beløb",null,"Beløb i alt"]
["Variabelt driftsbidrag vand",null,null,null,{"$f":"J6","v":{"$error":"#VALUE!"}},{"$f":"L6","v":"m³"},null,null,7.58,{"$f":"E9*I9","v":{"$error":"#VALUE!"}}]
["Fast driftsbidrag vand",null,null,null,null,null,null,null,null,999]
["Statsafgift vand",null,null,null,{"$f":"J6","v":{"$error":"#VALUE!"}},{"$f":"L6","v":"m³"},null,null,5.86,{"$f":"E11*I11","v":{"$error":"#VALUE!"}}]
["Drikkevandsbidrag",null,null,null,{"$f":"J6","v":{"$error":"#VALUE!"}},{"$f":"L6","v":"m³"},null,null,0.67,{"$f":"E12*I12","v":{"$error":"#VALUE!"}},null,{"$f":"SUM(J9:J12)","v":{"$error":"#VALUE!"}}]
[0.25,"moms af",{"$f":"L12","v":{"$error":"#VALUE!"}},null,null,null,null,null,null,null,null,{"$f":"C13*A13","v":{"$error":"#VALUE!"}}]
["Beløb I alt",null,null,null,null,null,null,null,null,null,null,{"$f":"L12+L13","v":{"$error":"#VALUE!"}}]
[]
["Opgørelse     Spildevand",null,null,null,null,null,null,null,{"$f":"I4","v":"2015-01-01"},null,"-",{"$f":"L4","v":"2015-12-31"}]
[null,null,null,null,"Forbrug",null,null,null,"Pris","Beløb",null,"Beløb i alt"]
["Statsafgift spildevand",null,null,null,{"$f":"J6","v":{"$error":"#VALUE!"}},{"$f":"L6","v":"m³"},null,null,0.75,{"$f":"E18*I18","v":{"$error":"#VALUE!"}},"*"]
["Tømning af septiktank hvert år",null,null,null,null,null,null,null,null,490,null,{"$f":"SUM(J18:J19)","v":{"$error":"#VALUE!"}}]
[0.25,"moms af",{"$f":"J19","v":490},null,null,null,null,null,null,null,null,{"$f":"C20*A20","v":122.5}]
["Beløb I alt",null,null,null,null,null,null,null,null,null,null,{"$f":"L19+L20","v":{"$error":"#VALUE!"}}]
[]
["*markerede beløb er momsfri"]
["Forbrug i alt",null,null,null,null,null,null,null,null,null,null,{"$f":"L14+L21","v":{"$error":"#VALUE!"}}]
["Opkrævet aconto for perioden",null,null,null,{"$f":"I4","v":"2015-01-01"},"-",{"$f":"L4","v":"2015-12-31"},null,null,null,null,{"$f":"-(INDIRECT(\"'Aconto vand \"&L2&\"'!f9\"))","v":-2499.21}]
["Forskelsbeløb",null,null,null,null,null,null,null,null,{"$f":"IF(L26<0,\"Tilgode\",\"Til betaling\")","v":{"$error":"#VALUE!"}},null,{"$f":"L25+L24","v":{"$error":"#VALUE!"}}]

{"sheet":"aconto Vand 2015","index":41,"n_rows":9,"n_cols":6,"rows_kept":9,"cut":false,"hidden":false,"merged":[]}
[]
["Betalingsterminer"]
[]
[null,null,"betalings dato",null,"beløb"]
[]
["1. rate",null,"2015-02-10",null,833.07]
["2. rate",null,"2015-05-11",null,833.07]
["3. rate",null,"2015-08-10",null,833.07]
["4. rate",null,"2015-11-10",null,0,{"$f":"SUM(E6:E9)","v":2499.21}]

{"sheet":"Opgørelse El 2014-2015","index":42,"n_rows":31,"n_cols":16,"rows_kept":31,"cut":false,"hidden":false,"merged":[[29,3,29,4],[3,0,3,4],[4,7,4,8],[19,7,19,8],[9,4,9,5],[21,4,21,5]]}
[null,null,null,null,null,null,null,null,"Vælg Årstal:",null,2015]
[]
[]
[]
["Opgørelse     El",null,null,null,null,null,null,{"$f":"INDIRECT(\"'\"&K1&\"'!e28\")+1","v":"2015-01-01"},null,"-",{"$f":"INDIRECT(\"'\"&K1&\"'!e40\")","v":"2015-12-31"}]
["ØSTKRAFT NET A/S CVR-nr.: 32268498"]
["Målernr.","Dato","Gl. visning",null,"Dato",null,"Ny visning",null,"Forbrug",null,"Enhed"]
[37158017,{"$f":"H5-1","v":"2014-12-31"},{"$f":"INDIRECT(\"'\"&K1&\"'!f28\")","v":30188},null,{"$f":"K5","v":"2015-12-31"},null,{"$f":"OFFSET(INDIRECT(\"'\"&K1&\"'!f29\"),COUNTA(INDIRECT(\"'\"&K1&\"'!f29:f40\"))-1,0,1)","v":""},null,{"$f":"G8-C8","v":{"$error":"#VALUE!"}},null,"Kwh"]
[]
[null,null,null,null,"Forbrug",null,null,"Pris","Beløb",null,"Beløb i alt"]
["Offentlige forpligtelser",null,null,null,{"$f":"I8","v":{"$error":"#VALUE!"}},{"$f":"K8","v":"Kwh"},null,0.28839999999999999,{"$f":"E11*H11","v":{"$error":"#VALUE!"}}]
["Transportbetaling",null,null,null,{"$f":"I8","v":{"$error":"#VALUE!"}},{"$f":"K8","v":"Kwh"},null,0.21099999999999999,{"$f":"E12*H12","v":{"$error":"#VALUE!"}}]
["Energispareydelse",null,null,null,{"$f":"I8","v":{"$error":"#VALUE!"}},{"$f":"K8","v":"Kwh"},null,1.7000000000000001E-2,{"$error":"#VALUE!"},null,null,null,null,null,null,{"$f":"INDIRECT(\"'aconto Vand \"&K1-1&\"'!e6\")","v":773.82}]
["Elafgift",null,null,null,{"$f":"I8","v":{"$error":"#VALUE!"}},{"$f":"K8","v":"Kwh"},null,0.85529999999999995,{"$error":"#VALUE!"}]
["Minimumsafgift",null,null,null,{"$f":"I8","v":{"$error":"#VALUE!"}},{"$f":"K8","v":"Kwh"},null,4.0000000000000001E-3,{"$error":"#VALUE!"}]
["Abonnement ØSTKRAFT net A/S",null,null,null,null,null,null,null,550,null,{"$f":"SUM(I11:I16)","v":{"$error":"#VALUE!"}}]
[0.25,"moms af",{"$f":"K16","v":{"$error":"#VALUE!"}},null,null,null,null,null,null,null,{"$f":"C17*A17","v":{"$error":"#VALUE!"}}]
["Beløb I alt",null,null,null,null,null,null,null,null,null,{"$f":"SUM(K15:K17)","v":{"$error":"#VALUE!"}}]
[]
["Opgørelse     El",null,null,null,null,null,null,{"$f":"H5","v":"2015-01-01"},null,"-",{"$f":"K5","v":"2015-12-31"}]
["ØSTKRAFT Forsyning A/S CVR-nr.: 25794206"]
[null,null,null,null,"Forbrug",null,null,"Pris","Beløb",null,"Beløb i alt"]
["Elforbrug",null,null,null,{"$f":"I8","v":{"$error":"#VALUE!"}},{"$f":"K8","v":"Kwh"},null,0.30480000000000002,{"$f":"E23*H23","v":{"$error":"#VALUE!"}}]
["Abonnement ØSTKRAFT Forsyning A/S",null,null,null,null,null,null,null,120,null,{"$f":"SUM(I23:I24)","v":{"$error":"#VALUE!"}}]
[0.25,"moms af",{"$f":"K24","v":{"$error":"#VALUE!"}},null,null,null,null,null,null,null,{"$f":"C25*A25","v":{"$error":"#VALUE!"}}]
["Beløb I alt",null,null,null,null,null,null,null,null,null,{"$f":"K24+K25","v":{"$error":"#VALUE!"}}]
[]
[]
["Forbrug i alt",null,null,null,null,null,null,null,null,null,{"$f":"K18+K26","v":{"$error":"#VALUE!"}}]
["Opkrævet aconto for perioden",null,null,{"$f":"H5","v":"2015-01-01"},null,"-",{"$f":"K5","v":"2015-12-31"},null,null,null,{"$f":"-(INDIRECT(\"'Aconto EL \"&K1-1&\"'!e12\"))","v":-11327.050000000001}]
["Forskelsbeløb",null,null,null,null,null,null,null,{"$f":"IF(K31<0,\"Tilgode\",\"til betaling\")","v":{"$error":"#VALUE!"}},null,{"$f":"K30+K29","v":{"$error":"#VALUE!"}}]

{"sheet":"aconto El 2014","index":43,"n_rows":16,"n_cols":11,"rows_kept":16,"cut":false,"hidden":false,"merged":[]}
[]
["Betalingsterminer",null,"ØSTKRAFT A/S"]
[]
[]
[null,null,"Betalings dato",null,"Betalt a´conto",null,null,"Offentlige forpligtelser",null,"Elafgift"]
["1. rate",null,"2014-09-10",null,2787.36,20,null,0.28599999999999998,null,0.82899999999999996]
["2. rate",null,"2014-12-10",null,2874.61,20,null,0.29899999999999999,null,0.82899999999999996]
["3. rate",null,"2015-03-10",null,2896.34,20,null,0.28199999999999997,null,0.874]
["4. rate",null,"2015-06-10",null,2868.74,20,null,0.28499999999999998,null,0.874]
[null,null,null,null,{"$f":"SUM(E6:E9)","v":11427.050000000001},null,null,{"$f":"SUM(H6:H9)","v":1.1519999999999999},null,{"$f":"SUM(J6:J9)","v":3.4060000000000001}]
[null,null,null,null,{"$f":"SUM(F6:F9)+20","v":100}]
[null,null,null,null,{"$f":"E10-E11","v":11327.050000000001},null,null,{"$f":"AVERAGE(H6:H9)","v":0.28799999999999998},null,{"$f":"AVERAGE(J6:J9)","v":0.85150000000000003},{"$f":"J10/4","v":0.85150000000000003}]
[]
[null,null,null,null,null,null,null,{"$f":"AVERAGE(H6:H9)","v":0.28799999999999998},null,{"$f":"AVERAGE(H6:H9)","v":0.28799999999999998}]
[null,null,null,null,null,null,null,{"$f":"ROWS(H6:H9)-COUNTBLANK(H6:H9)","v":4}]
[null,null,null,null,null,null,null,{"$f":"COUNTIF(H6:H9,\"<>\")","v":4}]

{"sheet":"Opgørelse El 2015-2016","index":44,"n_rows":31,"n_cols":16,"rows_kept":31,"cut":false,"hidden":false,"merged":[[29,3,29,4],[3,0,3,4],[4,7,4,8],[9,4,9,5],[19,7,19,8],[21,4,21,5]]}
[null,null,null,null,null,null,null,null,"År:",null,2016]
[]
[]
[]
["Opgørelse     El",null,null,null,null,null,null,{"$f":"INDIRECT(\"'\"&K1&\"'!e28\")+1","v":"2016-01-01"},null,"-",{"$f":"INDIRECT(\"'\"&K1&\"'!e40\")","v":"2016-12-31"}]
["ØSTKRAFT NET A/S CVR-nr.: 32268498"]
["Målernr.","Dato","Gl. visning",null,"Dato",null,"Ny visning",null,"Forbrug",null,"Enhed"]
[37158017,{"$f":"H5-1","v":"2015-12-31"},{"$f":"INDIRECT(\"'\"&K1&\"'!f28\")","v":0},null,{"$f":"K5","v":"2016-12-31"},null,{"$f":"OFFSET(INDIRECT(\"'\"&K1&\"'!f29\"),COUNTA(INDIRECT(\"'\"&K1&\"'!f29:f40\"))-1,0,1)","v":0},null,{"$f":"G8-C8","v":0},null,"Kwh"]
[]
[null,null,null,null,"Forbrug",null,null,"Pris","Beløb",null,"Beløb i alt"]
["Offentlige forpligtelser",null,null,null,{"$f":"I8","v":0},{"$f":"K8","v":"Kwh"},null,{"$f":"'aconto El 2015'!H12","v":0.28874999999999995},{"$f":"E11*H11","v":0}]
["Transportbetaling",null,null,null,{"$f":"I8","v":0},{"$f":"K8","v":"Kwh"},null,0.21099999999999999,{"$f":"E12*H12","v":0}]
["Energispareydelse",null,null,null,{"$f":"I8","v":0},{"$f":"K8","v":"Kwh"},null,1.7000000000000001E-2,0,null,null,null,null,null,null,{"$f":"INDIRECT(\"'aconto Vand \"&K1-1&\"'!e6\")","v":833.07}]
["Elafgift",null,null,null,{"$f":"I8","v":0},{"$f":"K8","v":"Kwh"},null,{"$f":"'aconto El 2015'!J12","v":0.86275000000000002},0]
["Minimumsafgift",null,null,null,{"$f":"I8","v":0},{"$f":"K8","v":"Kwh"},null,4.0000000000000001E-3,0]
["Abonnement ØSTKRAFT net A/S",null,null,null,null,null,null,null,550,null,{"$f":"SUM(I11:I16)","v":550}]
[0.25,"moms af",{"$f":"K16","v":550},null,null,null,null,null,null,null,{"$f":"C17*A17","v":137.5}]
["Beløb I alt",null,null,null,null,null,null,null,null,null,{"$f":"SUM(K15:K17)","v":687.5}]
[]
["Opgørelse     El",null,null,null,null,null,null,{"$f":"H5","v":"2016-01-01"},null,"-",{"$f":"K5","v":"2016-12-31"}]
["ØSTKRAFT Forsyning A/S CVR-nr.: 25794206"]
[null,null,null,null,"Forbrug",null,null,"Pris","Beløb",null,"Beløb i alt"]
["Elforbrug",null,null,null,{"$f":"I8","v":0},{"$f":"K8","v":"Kwh"},null,0.32569999999999999,{"$f":"E23*H23","v":0}]
["Abonnement ØSTKRAFT Forsyning A/S",null,null,null,null,null,null,null,120,null,{"$f":"SUM(I23:I24)","v":120}]
[0.25,"moms af",{"$f":"K24","v":120},null,null,null,null,null,null,null,{"$f":"C25*A25","v":30}]
["Beløb I alt",null,null,null,null,null,null,null,null,null,{"$f":"K24+K25","v":150}]
[]
[]
["Forbrug i alt",null,null,null,null,null,null,null,null,null,{"$f":"K18+K26","v":837.5}]
["Opkrævet aconto for perioden",null,null,{"$f":"H5","v":"2016-01-01"},null,"-",{"$f":"K5","v":"2016-12-31"},null,null,null,{"$f":"-(INDIRECT(\"'Aconto EL \"&K1-1&\"'!e12\"))","v":-2799.63}]
["Forskelsbeløb",null,null,null,null,null,null,null,{"$f":"IF(K31<0,\"Tilgode\",\"til betaling\")","v":"Tilgode"},null,{"$f":"K30+K29","v":-1962.13}]

{"sheet":"aconto El 2015","index":45,"n_rows":16,"n_cols":10,"rows_kept":16,"cut":false,"hidden":false,"merged":[]}
[]
["Betalingsterminer",null,"ØSTKRAFT A/S"]
[]
[]
[null,null,"Betalings dato",null,"Betalt a´conto",null,null,"Offentlige forpligtelser",null,"Elafgift"]
["1. rate",null,"2015-09-10",null,2799.63,null,null,0.28899999999999998,null,0.874]
["2. rate",null,"2015-12-10",null,null,null,null,0.29899999999999999,null,0.82899999999999996]
["3. rate",null,"2016-03-10",null,null,null,null,0.28199999999999997,null,0.874]
["4. rate",null,"2016-06-10",null,null,null,null,0.28499999999999998,null,0.874]
[null,null,null,null,{"$f":"SUM(E6:E9)","v":2799.63},null,null,{"$f":"SUM(H6:H9)","v":1.1549999999999998},null,{"$f":"SUM(J6:J9)","v":3.4510000000000001}]
[null,null,null,null,{"$f":"SUM(F6:F9)","v":0}]
[null,null,null,null,{"$f":"E10-E11","v":2799.63},null,null,{"$f":"AVERAGE(H6:H9)","v":0.28874999999999995},null,{"$f":"AVERAGE(J6:J9)","v":0.86275000000000002}]
[]
[null,null,null,null,null,null,null,{"$f":"AVERAGE(H6:H9)","v":0.28874999999999995},null,{"$f":"AVERAGE(H6:H9)","v":0.28874999999999995}]
[null,null,null,null,null,null,null,{"$f":"ROWS(H6:H9)-COUNTBLANK(H6:H9)","v":4}]
[null,null,null,null,null,null,null,{"$f":"COUNTIF(H6:H9,\"<>\")","v":4}]

{"sheet":"Forventet forbrug pr. uge","index":46,"n_rows":15,"n_cols":6,"rows_kept":15,"cut":false,"hidden":false,"merged":[[0,3,0,4]]}
[null,null,null,"Vælg årstal:",null,2015]
["Måned","Forventede års forbrug",null,"Antal uger","ltr/ugen","ltr/måneden"]
["Jan",{"$f":"INDIRECT(\"'\"&$F$1-1&\"'!g23\")","v":2147},0.18,4.4000000000000004,{"$f":"(B3*C3)/D3","v":87.831818181818164},{"$f":"B3*C3","v":386.46}]
["Feb",{"$f":"INDIRECT(\"'\"&$F$1-1&\"'!g23\")","v":2147},0.16600000000000001,4,{"$f":"(B4*C4)/D4","v":89.100500000000011},{"$f":"B4*C4","v":356.40200000000004}]
["Mar",2147,0.158,4.4000000000000004,77.096818181818179,339.226]
["Apr",2147,0.104,4.3,51.927441860465116,223.28799999999998]
["Maj",2147,2.7E-2,4.4000000000000004,13.174772727272726,57.969000000000001]
["Jun",2147,0,4.3,0,0]
["Jul",2147,0,4.4000000000000004,0,0]
["Aug",2147,0,4.4000000000000004,0,0]
["Sep",2147,1.2999999999999999E-2,4.3,6.4909302325581395,27.910999999999998]
["Okt",2147,7.4999999999999997E-2,4.4000000000000004,36.596590909090907,161.02500000000001]
["Nov",2147,0.12,4.3,59.916279069767441,257.64]
["Dec",2147,0.157,4.4000000000000004,76.608863636363637,337.07900000000001]
[null,null,{"$f":"SUM(C3:C14)","v":1},null,null,{"$f":"SUM(F3:F14)","v":2147.0000000000005}]

{"sheet":"Pejletabel","index":47,"n_rows":357,"n_cols":8,"rows_kept":357,"cut":false,"hidden":false,"merged":[]}
[null,"1200 Firkantet","1200 Oval","1500 Firkantet","1800 Oval","1500 Kugletank","2500 Kugletank","test"]
["cm","liter","liter","liter","liter","liter","liter"]
[0,0,0,0,0,{"$f":"(PI()*(A3)^2*(73-A3/3))/1000","v":0},{"$f":"(PI()*(A3)^2*(88-A3/3))/1000","v":0},{"$f":"(PI()/3*(A3)^2*(1.5*146-A3))/1000","v":0}]
[0.5,5,null,null,1,{"$f":"(PI()*(A4)^2*(73-A4/3))/1000","v":5.7203166234114144E-2},{"$f":"(PI()*(A4)^2*(88-A4/3))/1000","v":6.8984138685075871E-2},{"$f":"(PI()/3)*((A4)^2)*((1.5*146)-A4)/1000","v":5.7203166234114144E-2}]
[1,10,1,15,2,0.22828906616085831,0.27541295596470516,{"$f":"(PI()/3)*((A5)^2)*((1.5*146)-A5)/1000","v":0.22828906616085828}]
[1.2,12,null,null,3,0.32843466237689128,0.39629306369443085,{"$f":"(PI()/3)*((A6)^2)*((1.5*146)-A6)/1000","v":0.32843466237689128}]
[1.5,15,null,null,4,0.51247230161683499,0.61850105367549058,{"$f":"(PI()/3*(A7)^2*(1.5*146-A7))/1000","v":0.51247230161683499}]
[1.7,17,null,null,5,0.65763692055880973,0.79382496209192721,0.65763692055880973]
[2,20,4,29,6,0.90896747443864667,1.0974630336540343,0.90896747443864667]
[2.2000000000000002,22,null,null,7,1.0988369568412044,1.3269165834918235,1.0988369568412044]
[2.5,25,null,null,8,1.4169891864628965,1.7115134977369395,1.4169891864628963]
[2.7,27,null,null,9,1.6512493730606776,1.9947825297307216,1.6512493730606776]
[3,29,7,44,10,2.0357520395261859,2.4598670477608078,2.0357520395261859]
[3.2,32,null,null,11,2.3140887710538323,2.7966374026452243,2.3140887710538323]
[3.5,35,null,null,12,2.7644706354651181,3.3417382855622422,2.7644706354651185]
[3.7,37,null,null,13,3.0865697526572706,3.731695804071935,3.0865697526572702]
[4,39,11,58,14,3.6023595761162963,4.3563418129778464,3.6023595761162959]
[4.2,null,null,null,16,3.9679069197075947,4.7991723358474534,3.9679069197075947]
[4.5,null,null,null,18,4.5486334633163219,5.5028922318442213,4.5486334633163219]
[4.7,null,null,null,20,4.9573148740414092,5.9982815998083874,4.9573148740414092]
[5,49,15,73,22,5.6025068989017974,6.7806041439979703,5.6025068989017974]
[5.2,null,null,null,23,6.0540082174953129,7.3282381977913333,6.0540082174953138]
[5.5,null,null,null,25,6.7631944847093273,8.1886921512756956,6.7631944847093264]
[5.7,null,null,null,27,7.2572015519059123,8.7882567316328988,7.2572015519059123]
[6,59,20,87,29,8.0299108225755109,9.7263708555140003,8.0299108225755109]
[6.2,null,null,null,31,8.5661094791098087,10.377551803169684,8.5661094791098087]
[6.5,null,null,null,33,9.4018705143369541,11.392854858549484,9.4018705143369541]
[6.5,null,null,null,35,9.4018705143369541,11.392854858549484,9.4018705143369541]
[7,69,25,102,37,10.878288161830257,13.187358762218755,10.878288161830257]
[7.2,null,null,null,39,11.497927519243898,13.94082996667532,11.497927519243898]
[7.5,null,null,null,41,12.458378366892022,15.10909716835841,12.458378366892022]
[7.7,null,null,null,43,13.119266835847302,15.913242262317384,13.119266835847299]
[8,78,30,117,45,14.141355731358855,17.157284678805055,14.141355731358853]
[8.1999999999999993,null,null,null,47,14.843179152590405,18.011789503001069,14.843179152590404]
[8.5,null,null,null,49,15.926434857067358,19.331135895395295,15.926434857067354]
[8.6999999999999993,null,null,null,51,16.668879071309817,20.235686290562988,16.668879071309821]
[9,88,36,131,53,17.812830345854128,21.629865419965725,17.812830345854128]
[10,98,42,146,62,21.886428820008895,26.598817800393583,21.886428820008891]
[11,108,48,160,71,26.35586796851597,32.057858634781446,26.35586796851597]
[12,118,54,175,81,31.214864606068186,38.00070473782214,31.214864606068186]
[13,128,61,189,91,36.457135547358355,44.421072924208488,36.457135547358348]
[13.2,130,null,null,93.5,37.551029731757893,45.761896291180179,37.5510297317579]
[13.5,132,null,null,96,39.220035386496676,47.808364303247771,39.220035386496676]
[13.7,135,null,null,98.5,40.351408771253553,49.196091648537575,40.351408771253553]
[14,137,68,204,101,42.076397607079294,51.312680008633279,42.076397607079294]
[14.2,140,null,null,103.75,43.244936032928145,52.746997172975831,43.244936032928145]
[14.5,142,null,null,106.5,45.025436810942821,54.933234642201626,45.025436810942807]
[14.7,145,null,null,109.25,46.230826118618268,56.41382746633154,46.230826118618268]
[15,147,75,218,112,48.066367599923836,58.669242805789388,48.066367599923836]
[15.2,null,null,null,114.75,49.308293630160541,60.195797130441328,49.308293630160541]
[15.5,null,null,null,117.5,51.198404575858959,62.519919101233171,51.198404575858959]
[15.7,null,null,null,120.25,52.476553169391551,64.092120767141765,52.476553169391551]
[16,157,82,233,123,54.420762340584794,66.484478130369595,54.420762340584787]
[16.2,null,null,null,125.75,55.734819338147915,68.102012978269485,55.734819338147922]
[16.5,null,null,null,128.5,57.732655495937927,70.562134495035252,57.732655495937919]
[16.7,null,null,null,131.25,59.082306738266233,72.224688365661095,59.082306738266226]
[17,167,90,248,134,61.133298643754976,74.75210279706674,61.133298643754976]
[17.2,null,null,null,136,62.518229971583089,76.459361531153149,62.518229971583089]
[17.5,null,null,null,139,64.621906385872549,79.053597638300658,64.621906385872549]
[17.7,null,null,null,143,66.041803639935097,80.80524707658229,66.041803639935111]
[18,177,98,262,145,68.197693324127215,83.465833620573633,68.197693324127215]
[18.2,null,null,null,148,69.652242345158896,85.26155960378513,69.652242345158882]
[18.5,null,null,null,151,71.859874060355637,87.988025345722221,71.859874060355622]
[18.7,null,null,null,154,73.348760689091023,89.827513714598254,73.348760689091037]
[19,186,105,277,157,75.607663196394356,92.619387415583091,75.607663196394356]
[19.2,null,null,null,159,77.130573273568118,94.50232401085826,77.130573273568132]
[19.5,null,null,null,163,79.440275334079999,97.359134431992771,79.440275334079999]
[19.7,null,null,null,167,80.996894700426807,99.285205094401761,80.996894700426779]
[20,196,113,291,169,83.35692507524918,102.20648099678795,83.35692507524918]
[20.2,null,null,null,171,84.94693957150362,104.17537156706531,84.94693957150362]
[20.5,null,null,null,175,87.356827021738482,107.16064171180514,87.356827021738482]
[20.7,null,null,null,177,88.979922488635211,109.17203803068557,88.979922488635225]
[21,206,121,306,181,91.439195775384519,112.220831178881,91.439195775384505]
[21.2,null,null,null,183,93.095058053658221,114.27441908709918,93.095058053658207]
[21.5,null,null,null,187,95.603245938023875,117.3862639998521,95.603245938023889]
[21.7,null,null,null,189,97.291560868409178,119.48172933814263,97.291560868409178]
[22,216,130,320,193,99.848192111493205,122.65615477655511,99.848192111493191]
[22.2,null,null,null,195,101.56864553472468,124.7931833856526,101.56864553472469]
[22.5,null,null,null,199,104.17324889762905,128.02971811082654,104.17324889762904]
[22.7,null,null,null,201,105.92552665444141,130.20799583146569,105.9255266544414]
[23,226,138,335,205,108.57763089826803,133.50616860450305,108.57763089826804]
[23.2,null,null,null,null,110.36141882939592,135.72538127741845,110.36141882939592]
[23.5,null,null,null,null,113.06055271524679,139.08472085942125,113.06055271524676]
[23.7,null,null,null,null,114.87553666142477,141.34455432534753,114.87553666142479]
[24,235,146,350,218,117.62122895040186,144.76458947741767,117.62122895040186]
[24.2,null,null,null,null,119.46709475236466,147.06472957708957,119.46709475236466]
[24.5,null,null,null,null,122.25887420556988,150.54498906032899,122.25887420556988]
[24.7,null,null,null,null,124.1353077040521,152.88512163448104,124.1353077040521]
[25,245,155,364,230,126.97270308258749,156.42513420999177,126.97270308258747]
[25.2,null,null,null,null,128.87939011832376,158.80494509935869,128.87939011832378]
[25.5,null,null,null,null,131.76193018329121,162.40423952824264,131.76193018329121]
[25.7,null,null,null,null,133.69855659701622,164.82341457355906,133.69855659701622]
[26,255,164,379,243,136.6257701095177,168.48151961691821,136.6257701095177]
[27,265,172,393,256,146.57414684588537,180.92746251288975,146.57414684588537]
[28,275,181,408,269,156.81155010638329,193.75667971259929,156.81155010638332]
[28.2,null,null,null,272,158.89316102107151,196.36796314868269,158.89316102107151]
[28.5,null,null,null,276,162.03667318777266,200.31305268094729,162.03667318777266]
[28.7,null,null,null,279,164.14633852485738,202.96181531738804,164.14633852485736]
[29,284,190,422,282,167.33169670570436,206.96288803073958,167.33169670570433]
[30,294,199,437,295,178.12830345854124,220.53980428200347,178.12830345854124]
[30.2,null,null,null,298,180.32024710722354,223.29911956392405,180.32024710722351]
[30.5,null,null,null,301,183.62831589711971,227.46531438714825,183.62831589711971]
[30.7,null,null,null,304,185.84705733113708,230.26085223236473,185.84705733113708]
[31,304,208,451,308,189.19508717958689,234.4811452810838,189.19508717958689]
[32,314,216,466,321,200.52576468353411,248.78062784267331,200.52576468353411]
[33,324,225,481,335,212.11405278507564,263.43196878146489,212.11405278507561]
[34,334,234,495,348,223.95366829890438,278.42888491215143,223.95366829890438]
[35,343,243,510,361,236.03832803971315,293.76509304942556,236.03832803971312]
[35.200000000000003,null,null,null,364,238.48411237480548,296.87249679736397,238.48411237480548]
[35.5,null,null,null,367,242.1705859998265,301.55846812512459,242.17058599982647]
[35.700000000000003,null,null,null,371,244.64002652760038,304.69895284370517,244.64002652760038]
[36,353,252,524,375,248.36174882219467,309.43431000798029,248.36174882219467]
[36.200000000000003,null,null,null,378,{"$f":"(PI()*(A113)^2*(73-A113/3))/1000","v":250.85453138338471},{"$f":"(PI()*(A113)^2*(88-A113/3))/1000","v":312.6075615379379},250.85453138338477]
[36.5,null,null,null,382,254.61103110865432,317.39183329982933,254.61103110865429]
[36.700000000000003,null,null,null,385,257.12684154399511,320.59753748189848,257.12684154399511]
[37,363,261,539,388,260.91764746104189,325.43025260250835,{"$f":"(PI()/3*(A116)^2*(1.5*146-A116))/1000","v":260.91764746104189}]
[37.200000000000003,null,null,null,null,263.45617161126819,328.66809527742362,263.45617161126819]
[37.5,null,null,null,null,267.28081248119418,333.54878251785385,267.28081248119412]
[37.700000000000003,null,null,null,null,269.84173618704051,336.81844952635015,269.84173618704051]
[38,373,270,553,401,273.69974077094753,341.74663764770241,273.69974077094753]
[38.200000000000003,null,null,null,403,276.28274987314876,345.04781483051431,276.28274987314876]
[38.5,null,null,null,407,280.17364693213881,350.02303259389089,280.17364693213881]
[38.700000000000003,null,null,null,410,282.77842727142939,353.35540579175284,282.77842727142939]
[39,383,279,568,414,286.70174556660447,358.37718195825562,286.70174556660447]
[39.200000000000003,null,null,null,null,289.3279829837191,361.74043701190237,289.3279829837191]
[39.5,null,null,null,null,293.28325127618126,366.80830034263334,293.2832512761812]
[39.700000000000003,null,null,null,null,295.93063161185444,370.20212309279952,295.93063161185444]
[40,392,288,583,427,299.91737866270557,375.31560234886064,299.91737866270557]
[40.200000000000003,null,null,null,null,302.5855877576721,378.73967863628081,302.58558775767204]
[40.5,null,null,null,null,306.60334232801421,383.89830257877406,306.60334232801415]
[40.700000000000003,null,null,null,null,309.29206602300854,387.35231824418298,309.2920660230086]
[41,402,297,597,440,313.34035687394356,392.5556156342102,313.34035687394356]
[41.2,null,null,null,null,316.04928100970062,396.03925651834254,316.04928100970062]
[41.5,null,null,null,null,320.12763690233044,401.28675611700578,320.12763690233044]
[41.7,null,null,null,null,322.85644731958473,404.799708060596,322.85644731958473]
[42,412,305,612,454,326.96439701501129,410.09093862899726,326.96439701501129]
[42.2,null,null,null,457,329.71277955449739,413.63288747278011,329.71277955449744]
[42.5,null,null,null,461,333.8498518138228,418.96737777202122,333.8498518138228]
[42.7,null,null,null,463,336.61749231627545,422.53800935673149,336.61749231627545]
[43,422,314,626,467,340.78321590060159,427.91528814791451,340.78321590060159]
[43.2,null,null,null,null,343.56980020675542,431.5142883142866,343.56980020675542]
[43.5,null,null,null,null,347.76370387718424,436.93388435851352,347.76370387718418]
[43.7,null,null,null,null,350.56891782777376,440.56093894728218,350.56891782777376]
[44,432,323,641,480,354.79053034540732,446.02238100565489,354.79053034540726]
[44.2,null,null,null,483,357.61405978116733,449.67717585755486,357.61405978116733]
[44.5,null,null,null,486,361.86290990710739,455.17999269117524,361.86290990710739]
[44.7,null,null,null,489,364.70444066877252,458.86221364694086,364.70444066877252]
[45,441,332,655,493,368.98005716412121,464.40593401691115,368.98005716412115]
[46,451,341,670,506,383.3455131714361,483.05966399637617,383.3455131714361]
[47,461,350,684,519,397.88061518204495,501.9772877587427,397.88061518204483]
[47.2,null,null,null,522,400.80744018425492,505.79192684485719,400.80744018425497]
[47.5,null,null,null,525,405.209819943176,511.5330963131056,405.209819943176]
[47.7,null,null,null,528,408.15276131569897,515.37327654749379,408.15276131569891]
[48,471,358,699,532,412.57908001064038,521.15252211870359,412.57908001064038]
[48.2,null,null,null,535,415.53782359421092,525.01792934210016,415.53782359421081]
[48.5,null,null,null,539,419.98760998627455,530.83477977737346,419.98760998627455]
[48.7,null,null,null,542,422.96184162162729,534.72509983051293,422.96184162162729]
[49,481,367,714,546,427.43462447191536,540.57908389095167,427.43462447191524]
[50,491,376,728,559,442.44096538056255,560.25068989017973,442.44096538056255]
[50.2,null,null,null,562,445.45977621566971,564.21386347695602,445.45977621566971]
[50.5,null,null,null,565,449.99872100724235,570.17642097950284,449.9987210072423]
[50.7,null,null,null,568,453.03176325707011,574.16325075896054,453.03176325707017]
[51,500,385,743,572,457.59181955127485,580.16105693108068,457.59181955127485]
[51.2,null,null,null,575,460.63877905655823,584.17122874395466,460.63877905655823]
[51.5,null,null,null,579,465.21947561449696,590.20381234674994,465.21947561449696]
[51.7,null,null,null,582,468.28003821597031,594.23701203377459,468.28003821597036]
[52,510,394,757,585,472.88090379874529,600.30390182834731,472.88090379874518]
[53,520,403,772,598,488.30193493766626,620.67294139667229,488.30193493766626]
[53.2,null,null,null,602,491.40142187211762,624.77333975055717,491.40142187211768]
[53.5,null,null,null,605,496.05996709601249,630.94032068707327,496.05996709601237]
[53.7,null,null,null,608,499.17180048959239,635.06249027804768,499.17180048959244]
[54,530,411,786,611,503.848629782731,641.26189245074852,503.84862978273094]
[55,540,420,801,625,519.51470514863217,662.06447180526914,519.51470514863206]
[56,549,429,816,638,535.29387785006236,683.07439627492624,535.29387785006247]
[57,559,438,830,651,551.17986470171479,704.28538267441343,551.17986470171479]
[58,569,447,845,664,567.16638251828215,725.69114781842313,567.16638251828203]
[58.2,null,null,null,666,570.37519687707822,729.99512137626061,570.37519687707834]
[58.5,null,null,null,670,575.19537704300035,736.46510892421531,575.19537704300035]
[58.7,null,null,null,674,578.41339626827175,740.78771212648894,578.41339626827164]
[59,579,456,859,677,583.24714811445699,747.28540852164815,583.24714811445699]
[60,589,464,874,690,599.41587830493245,769.06188159878138,599.41587830493245]
[60.2,null,null,null,null,602.65962717403681,773.43848877877008,602.6596271740367]
[60.5,null,null,null,null,607.5312666276244,780.01648428215503,607.5312666276244]
[60.7,null,null,null,null,610.78296372614216,784.41046446951805,610.78296372614216]
[61,598,473,888,703,615.66628990440142,791.01428386451573,615.66628990440131]
[62,608,482,903,717,631.99209972755625,813.13633213354365,631.99209972755625]
[63,618,491,917,730,648.38702458909029,835.42174322055848,648.38702458909017]
[63.5,null,null,null,null,656.60844166384072,846.62374632540241,656.60844166384084]
[64,628,500,932,743,664.84478130369598,857.86423394025292,664.84478130369587]
[65,638,509,947,756,681.35908668606623,880.45752110731939,681.35908668606623]
[66,647,517,961,769,697.92365755089406,903.19532153645127,697.92365755089395]
[66.5,null,null,null,null,706.22282904382087,914.6164507288828,706.22282904382098]
[67,657,526,976,782,714.53221071287226,926.07135204234089,714.53221071287203]
[68,667,535,990,796,731.17846298669315,949.07932943968126,731.17846298669315]
[69,677,544,1005,809,747.85613118705021,972.2129705431654,747.8561311870501]
[69.7,null,null,null,null,759.54582675785696,988.47792457502771,759.54582675785707]
[70,687,553,1019,822,764.558932128636,995.46599216748587,764.55893212863589]
[70.2,null,null,null,null,767.90195532559346,1000.1303692345431,767.90195532559346]
[70.5,null,null,null,null,772.9177938819812,1007.1353071795512,772.91779388198108]
[70.7,null,null,null,null,776.26248212304529,1011.810774068676,776.26248212304529]
[71,697,562,1034,835,781.28058262614309,1018.8321111273353,781.28058262614309]
[72,706,570,1049,848,798.01479949426493,1042.3050442374072,798.01479949426493]
[72.2,null,null,null,851,801.362597912056,1047.0118956371414,801.36259791205589]
[72.5,null,null,null,854,806.38465682189747,1054.0796026033677,806.38465682189758]
[72.7,null,null,null,857,809.73286364673345,1058.7962871881073,809.73286364673356]
[73,716,579,1063,861,814.75529954769377,1065.8785083123939,814.75529954769365]
[73.2,null,null,null,864,818.10360062030929,1070.6047119228738,818.10360062030941]
[73.5,null,null,null,867,823.12594227348995,1077.7009759663217,823.12594227348973]
[73.7,null,null,null,870,826.47402343461977,1082.4363844432769,826.47402343461977]
[74,726,588,1078,874,831.49579960112249,1089.5462201669882,831.49579960112249]
[74.2,null,null,null,877,834.84334669150121,1094.2905193511529,834.84334669150132]
[74.5,null,null,null,881,839.8640861324285,1101.4134555162295,839.86408613242838]
[74.7,null,null,null,884,843.21078499279054,1106.1663312483386,843.21078499279076]
[75,736,597,1092,888,848.23001646924411,1113.3018966158832,848.23001646924399]
[75.2,null,null,null,891,851.57555294032477,1118.0630347366709,851.57555294032477]
[75.5,null,null,null,895,856.59280521340622,1125.2107580677846,856.59280521340622]
[75.7,null,null,null,897,859.93686513593957,1129.9798444179862,859.93686513593968]
[76,746,606,1107,901,864.95166696675142,1137.139254473771,864.9516669667513]
[76.2,null,null,null,904,868.29393618147208,1141.9159748941208,868.2939361814723]
[76.5,null,null,null,907,873.30581633111626,1149.0866004356792,873.30581633111603]
[76.7,null,null,null,911,876.6459806787592,1153.8706407669122,876.64598067875897]
[77,755,615,1121,914,{"$f":"(PI()*(A222)^2*(73-A222/3))/1000","v":881.65446790833698},{"$f":"(PI()*(A222)^2*(88-A222/3))/1000","v":1161.0520105553453},881.6544679083371]
[78,765,623,1136,927,898.33213610869416,1185.0338816752985,{"$f":"(PI()/3*(A223)^2*(1.5*146-A223))/1000","v":898.33213610869416}]
[78.2,null,null,null,931,901.66410089951125,1189.8379967835879,901.66410089951125]
[78.5,null,null,null,934,906.65958193550341,1197.048771879259,906.6595819355033]
[78.7,null,null,null,937,909.98818522218107,1201.8589502613695,909.98818522218119]
[79,775,632,1150,940,914.97838838251539,1209.0785846483238,914.97838838251516]
[80,785,641,1165,953,931.58694154449336,1233.1798362891134,931.58694154449336]
[81,795,650,1180,966,948.15151240932119,1257.3313534123606,948.15151240932107]
[81.2,null,null,null,969,951.45859578632178,1262.1671357745981,951.45859578632167]
[81.5,null,null,null,973,956.41534098489501,1269.4239980344971,956.41534098489512]
[81.7,null,null,null,976,959.71717790216417,1274.2639587149638,959.71717790216417]
[82,804,659,1194,980,964.66581779169155,1281.5268528327581,964.66581779169144]
[83,814,668,1209,993,981.12357450629713,1305.7600513649984,981.12357450629713]
[84,824,676,1223,1006,997.51849936783105,1330.024665823775,997.51849936783105]
[84.2,null,null,null,1009,1000.7893915974623,1334.8808057064075,1000.7893915974623]
[84.5,null,null,null,1013,1005.6904363582876,1342.1667905302054,1005.6904363582876]
[84.7,null,null,null,1016,1008.9541971725952,1347.0252237754753,1008.9541971725952]
[85,834,685,1238,1019,1013.8443091909861,1354.3144130237799,1013.844309190986]
[86,844,694,1252,1032,1030.0947207904549,1378.6230097797063,1030.0947207904549]
[87,853,703,1267,1045,1046.2634509809304,1402.9441729062473,1046.2634509809302]
[88,863,712,1282,1059,1062.3442165771055,1427.2716192180958,1062.3442165771053]
[89,873,721,1296,1072,1078.3307343936724,1451.5990655299436,1078.3307343936726]
[90,883,729,1311,1085,1094.2167212453248,1475.9202286564848,1094.2167212453246]
[90.2,null,null,null,1088,1097.3813019795589,1480.7831543792493,1097.3813019795589]
[90.5,null,null,null,1092,1102.1200520638995,1488.0764905298568,1102.1200520638995]
[90.7,null,null,null,1095,1105.2737314716253,1492.9379397040739,1105.2737314716253]
[91,893,738,1325,1098,1109.9958939467554,1500.2288254124114,1109.9958939467551]
[92,903,747,1340,1111,1125.6619693126563,1524.5185726124162,1125.6619693126565]
[93,912,756,1354,1124,1141.2086641577209,1548.7831870711927,1141.2086641577209]
[94,922,765,1369,1137,1156.6296952966425,1573.0163856034335,1156.629695296642]
[94.2,null,null,null,1140,1159.6982689593822,1577.8587024783901,1159.6982689593824]
[94.5,null,null,null,1144,1164.2911234808905,1585.119240401694,1164.2911234808903]
[94.7,null,null,null,1147,1167.3462825429997,1589.9575674539808,1167.3462825429995]
[95,932,774,1383,1151,1171.9187795441123,1597.2118850238307,1171.9187795441126]
[95.2,null,null,null,1154,1174.9602098463254,1602.0459080941821,1174.9602098463254]
[95.5,null,null,null,1158,1179.5118780881453,1609.2935340716799,1179.5118780881451]
[95.7,null,null,null,1161,1182.5392654711964,1614.12293900083,1182.5392654711966]
[96,942,782,1398,1164,1187.0696337148249,1621.363402147078,1187.0696337148249]
[96.2,null,null,null,1167,1190.0826640194493,1626.1878747757621,1190.0826640194493]
[96.5,null,null,null,1171,1194.5912610259884,1633.4207038518616,1194.5912610259882]
[96.7,null,null,null,1174,1197.5896200929208,1638.2399300208144,1197.5896200929208]
[97,952,791,1413,1177,1202.0759746234719,1645.4646537878673,1202.0759746234721]
[97.2,null,null,null,1180,1205.0593482934466,1650.2783193378236,1205.0593482934466]
[97.5,null,null,null,1184,1209.5229891091128,1657.4944665569324,1209.5229891091126]
[97.7,null,null,null,1187,1212.4910632228643,1662.3022573286262,1212.4910632228643]
[98,961,800,1427,1190,1216.9315190847472,1669.5093567608928,1216.9315190847469]
[99,971,809,1442,1203,1231.6299839133424,1693.4912278808458,1231.6299839133424]
[100,981,818,null,1216,1246.1650859239512,1717.4039839624202,1246.1650859239512]
[101,991,827,null,1230,1260.5305419312663,1741.2413418203084,1260.5305419312663]
[101.2,null,null,null,1233,1263.3827226920271,1745.9992126847367,1263.3827226920268]
[101.5,null,null,null,1237,1267.6476891882799,1753.1297829199618,1267.6476891882799]
[101.7,null,null,null,1240,1270.4820571186949,1757.879265732005,1270.4820571186947]
[102,1001,835,null,1243,1274.7200687499801,1764.9970182692032,1274.7200687499801]
[103,1010,844,null,1256,1288.7273831947857,1788.6647301237974,1288.7273831947857]
[104,1020,853,null,1269,1302.5462020803761,1812.2381941987842,1302.5462020803759]
[105,1030,862,null,1282,1316.1702422214439,1835.7111273088558,1316.1702422214437]
[106,1040,871,null,1295,1329.5932204326816,1859.0772462687055,1329.5932204326816]
[107,1050,880,null,1308,1342.8088535287829,1882.3302678930261,1342.8088535287827]
[107.2,null,null,null,1312,1345.4265458138798,1886.9667476173195,1345.4265458138798]
[107.5,null,null,null,1315,1349.3369521632483,1893.9124037089541,1349.3369521632485]
[107.7,null,null,null,1318,1351.9330617068154,1898.5367254696787,1351.9330617068151]
[108,1059,888,null,1322,1355.8108583244398,1905.4639089965099,1355.8108583244398]
[109,1069,897,null,1335,1368.5929516343454,1928.4718863938501,1368.5929516343454]
[110,1079,906,null,1348,1381.1488502731929,1951.3479168997405,1381.1488502731927]
[110.2,null,null,null,1351,1383.6323337201284,1955.9067364536372,1383.6323337201281]
[110.5,null,null,null,1355,1387.3400130955606,1962.7344885729824,1387.3400130955606]
[110.7,null,null,null,1358,1389.8000288453741,1967.2792652077178,1389.8000288453738]
[111,1089,915,null,1361,1393.4722710556741,1974.0857173288719,1393.4722710556741]
[112,1099,924,null,1374,1405.5569307964829,1996.6790044959382,1405.5569307964831]
[113,1109,933,null,1387,1417.3965463103118,2019.1214952156329,1417.3965463103116]
[114,1118,941,null,1401,1428.9848344118532,2041.4069063026477,1428.9848344118532]
[115,1128,950,null,1414,1440.3155119158005,2063.5289545716755,1440.3155119158005]
[116,1138,959,null,1427,1451.3822956368463,2085.4813568374102,1451.382295636846]
[117,1148,968,null,1441,1462.1789023896831,2107.2578299145434,1462.1789023896831]
[118,1158,977,null,1454,1472.699048989004,2128.8520906177687,1472.699048989004]
[119,1167,986,null,1467,1482.9364522495023,2150.257855761778,1482.9364522495021]
[120,1177,995,null,1480,1492.8848289858697,2171.468842161265,1492.8848289858697]
[121,1187,1004,null,1493,1502.5378960127998,2192.4787666309226,1502.5378960127998]
[122,1197,1013,null,1506,1511.8893701449856,2213.2813459854428,1511.8893701449854]
[123,1207,1022,null,1519,1520.9329681971194,2233.8702970395188,1520.9329681971192]
[124,1216,1030,null,1532,1529.662406983894,2254.2393366078441,1529.662406983894]
[125,null,1039,null,1545,1538.0714033200029,2274.3821815051106,1538.0714033200029]
[125.2,null,null,null,1547,1539.7141965728379,2278.3830542037299,1539.7141965728376]
[125.5,null,null,null,1551,1542.1537720736487,2284.3668174566883,1542.1537720736487]
[125.7,null,null,null,1554,1543.7636728514008,2288.3442224581854,1543.7636728514005]
[126,null,1048,null,1557,1546.1536740201382,2294.2925485460114,1546.1536740201382]
[127,null,1056,null,1570,1553.9029358989928,2313.9641545452396,1553.9029358989928]
[128,null,1064,null,1582,1561.3129057712604,2333.3907163174877,1561.3129057712601]
[129,null,1072,null,1594,1568.3773004516324,2352.5659506774482,1568.3773004516322]
[129.19999999999999,null,null,null,1596,1569.7481574443723,2356.3702853396589,1569.7481574443721]
[129.5,null,null,null,1600,1571.7779435994494,2362.0573565824129,1571.7779435994491]
[129.69999999999999,null,null,null,1602,1573.1133948429836,2365.835710273378,1573.1133948429833]
[130,null,1081,null,1606,1575.0898367548027,2371.4835744398151,1575.0898367548025]
[131,null,1088,null,1618,1581.4442314954636,2390.1373044192801,1581.4442314954636]
[132,null,1096,null,1630,1587.4342014883082,{"$f":"(PI()*(A316)^2*(88-A316/3))/1000","v":2408.5208574305361},1587.434201488308]
[133,null,1104,null,1641,{"$f":"(PI()*(A317)^2*(73-A317/3))/1000","v":1593.0534635480287},2426.6279502882767,{"$f":"(PI()/3*(A317)^2*(1.5*146-A317))/1000","v":1593.0534635480287}]
[134,null,1111,null,1652,1598.2957344893193,2444.4522998071943,1598.2957344893189]
[135,null,1119,null,1663,1603.1547311268714,2461.9876228019812,1603.1547311268712]
[136,null,1126,null,1674,1607.6241702753782,2479.2276360873307,1607.6241702753782]
[137,null,1133,null,1684,1611.6977687495332,2496.1660564779354,1611.697768749533]
[138,null,1140,null,1694,1615.3692433640283,2512.7966007884888,1615.3692433640283]
[139,null,1146,null,1704,1618.6323109335569,2529.1129858336826,1618.6323109335572]
[140,null,1152,null,1713,1621.4806882728119,2545.1089284282111,1621.4806882728119]
[141,null,1158,null,1722,1623.9080921964855,2560.7781453867656,1623.9080921964855]
[142,null,1164,null,1730,1625.9082395192709,2576.1143535240394,1625.9082395192709]
[142.19999999999999,null,null,null,1732,1626.2564452714146,2579.1410811726341,1626.2564452714143]
[142.5,null,null,null,1734,1626.7461284599224,2583.6556157892887,1626.7461284599224]
[142.69999999999999,null,null,null,1736,{"$f":"(PI()*(A329)^2*(73-A329/3))/1000","v":1627.0507603219603},2586.6481943257377,1627.0507603219603]
[143,null,1169,null,1738,null,2591.1112696547266]
[144,null,1174,null,1746,null,2605.7626105935178]
[145,null,1179,null,1753,null,2620.0620931551075]
[146,null,1183,null,1759,null,2634.0034341541882]
[147,null,1187,null,1765,null,2647.580350405452]
[148,null,1190,null,1769,null,2660.7865587235924]
[149,null,1193,null,1773,null,2673.6157759233015]
[150,null,null,null,null,null,2686.0617188192732]
[151,null,null,null,null,null,2698.1181042261996]
[152,null,null,null,null,null,2709.7786489587738]
[153,null,null,null,null,null,2721.0370698316883]
[154,null,null,null,null,null,2731.8870836596357]
[155,null,null,null,null,null,2742.3224072573107]
[156,null,null,null,null,null,2752.3367574394033]
[157,null,null,null,null,null,2761.9238510206083]
[158,null,null,null,null,null,2771.0774048156181]
[159,null,null,null,null,null,2779.7911356391246]
[160,null,null,null,null,null,2788.058760305822]
[161,null,null,null,null,null,2795.8739956304021]
[162,null,null,null,null,null,2803.2305584275582]
[163,null,null,null,null,null,2810.1221655119825]
[164,null,null,null,null,null,2816.5425336983694]
[165,null,null,null,null,null,2822.4853798014096]
[166,null,null,null,null,null,2827.9444206357975]
[167]
[168]
[169]
[170]

{"sheet":"System","index":48,"n_rows":19,"n_cols":6,"rows_kept":19,"cut":false,"hidden":false,"merged":[[5,2,5,9],[14,2,14,3],[16,2,16,3],[18,0,18,3],[7,2,7,3],[9,0,9,1],[10,0,10,1],[11,0,11,1],[12,0,12,1]]}
[]
["System opsætning"]
[]
[]
[]
["Måler adresse:",null,"Bjarne Hansen, Lyrsbyvej 31"]
[]
["Tankstørrelse : ",null,"1800 Liter Oval",null,{"$f":"VLOOKUP(C8,T!D1:E6,2,FALSE)","v":4},{"$f":"VLOOKUP(C8,T!D1:F6,3,FALSE)","v":1800}]
[]
["Årsafslutnings dato:",null,"dato","måned"]
["Olie:",null,31,12]
["Vand:",null,31,12]
["EL:",null,31,7]
[]
["Version:",null,"2.0.2"]
[]
["Navn :",null,"Bjarne Hansen"]
[]
[{"$f":"\"Version: \"&C15 &\" / \"&C17","v":"Version: 2.0.2 / Bjarne Hansen"}]

{"sheet":"T","index":49,"n_rows":12,"n_cols":6,"rows_kept":12,"cut":false,"hidden":false,"merged":[]}
[1,"Januar",31,"1200 Liter firkantet",1,1200]
[2,"Februar",28,"1200 Liter Oval",2,1200]
[3,"Marts",31,"1500 Liter firkantet",3,1500]
[4,"April",30,"1800 Liter Oval",4,1800]
[5,"Maj",31,"1500 Liter Kugletank",5,1500]
[6,"Juni",30,"2500 Liter Kugletank",6,2500]
[7,"Juli",31]
[8,"August",31]
[9,"September",30]
[10,"Oktober",31]
[11,"November",30]
[12,"December",31]

{"sheet":"Setup","index":50,"n_rows":13,"n_cols":6,"rows_kept":13,"cut":false,"hidden":false,"merged":[[0,0,0,1],[1,0,1,1],[2,0,2,1],[3,0,3,1]]}
["Årsafslutnings dato:",null,"dato","måned","Dato","Indbetaling"]
["Olie",null,31,12,"25.09.2015","Købt Olie"]
["Vand",null,31,12]
["EL",null,31,7]
[]
[]
[]
[]
[]
[]
["indtast årstal",null,null,"er ikke lavet endnu"]
[]
["Oprette et nyt år",null,"Knap","er ikke lavet endnu"]

{"sheet":"TO DO","index":51,"n_rows":1,"n_cols":1,"rows_kept":1,"cut":false,"hidden":false,"merged":[]}
["TO DO liste"]

{"sheet":"Master","index":52,"n_rows":50,"n_cols":25,"rows_kept":50,"cut":false,"hidden":false,"merged":[[43,4,44,4],[33,1,33,2],[34,1,34,2],[34,9,34,11],[34,21,34,22],[35,1,35,2],[36,1,36,2],[37,1,37,2],[38,1,38,2],[39,1,39,2],[40,0,40,2],[40,4,40,5],[32,1,32,2],[22,4,22,5],[23,0,24,3],[23,4,24,6],[23,7,24,7],[25,0,26,0],[25,1,25,2],[25,4,26,4],[26,1,26,2],[27,1,27,2],[28,1,28,2],[29,1,29,2],[30,1,30,2],[31,1,31,2],[17,21,17,22],[0,0,0,2],[0,9,0,11],[0,21,0,22],[1,0,1,7],[2,0,2,7],[3,1,3,7],[5,0,6,7],[7,0,8,0],[7,4,8,4],[7,7,8,7],[17,9,17,11]]}
["Vælg årstal:",null,null,2016,null,null,null,null,null,"Olie",null,null,null,{"$f":"Q1-1","v":2015},null,null,{"$f":"D1","v":2016},null,null," +/-","%","Forventet forbrug"]
[{"$f":"System!A19","v":"Version: 2.0.2 / Bjarne Hansen"},null,null,null,null,null,null,null,null,"Måned","Dage","Liter pr dag",null,"Olie","Liter","%",null,"Liter","%","Liter",null,"%","Liter"]
["Aflæsningsskema til Olieforbrug samt EL og Vand",null,null,null,null,null,null,null,null,{"$f":"IF(A11=\"\",\"\",VLOOKUP(MONTH(A11),T!A$1:B$12,2,FALSE))","v":"Januar"},{"$f":"A11-A10","v":31},{"$f":"IF(G11<>\"\",G11/K3,\"\")","v":""},null,{"$f":"IF(A11=\"\",\"\",VLOOKUP(MONTH(A11),T!$A$1:$B$12,2,FALSE))","v":"Januar"},{"$f":"INDIRECT(\"'\"&$N$1&\"'!g11\")","v":336},{"$f":"IF(O3=\"\",\"\",O3/(O$16/100))","v":23.69534555712271},{"$f":"IF(A11=\"\",\"\",VLOOKUP(MONTH(A11),T!$A$1:$B$12,2,FALSE))","v":"Januar"},{"$f":"G11","v":""},{"$f":"IF(R3=\"\",\"\",R3/(R$16/100))","v":""},{"$f":"IF(R3<>\"\",R3-O3,\"\")","v":""},{"$f":"IF(AND(R3<>\"\",O3<>0),T3/(O3/100),\"  -  \")","v":"  -  "},{"$f":"IF(A11=\"\",\"\",VLOOKUP(MONTH(A11),INDIRECT(\"'Beregn varme \"&$Q$1&\"'!A2:R13\"),15,FALSE))","v":15.366360130525067},{"$f":"IF(R3=\"\",\"\",VLOOKUP(MONTH(A11),INDIRECT(\"'Beregn varme \"&Q1&\"'!A2:R13\"),16,FALSE))","v":""}]
["Navn :",{"$f":"System!C6","v":"Bjarne Hansen, Lyrsbyvej 31"},null,null,null,null,null,null,null,{"$f":"IF(A12=\"\",\"\",VLOOKUP(MONTH(A12),T!A$1:B$12,2,FALSE))","v":"Februar"},{"$f":"IF(A12=\"\",\"\",A12-A11)","v":29},"",null,{"$f":"IF(A12=\"\",\"\",VLOOKUP(MONTH(A12),T!A$1:B$12,2,FALSE))","v":"Februar"},{"$f":"INDIRECT(\"'\"&$N$1&\"'!g12\")","v":329},23.201692524682652,{"$f":"IF(A12=\"\",\"\",VLOOKUP(MONTH(A12),T!$A$1:$B$12,2,FALSE))","v":"Februar"},"","",{"$f":"IF(R4<>\"\",R4-O4,\"\")","v":""},{"$f":"IF(AND(R4<>\"\",O4<>0),T4/(O4/100),\"  -  \")","v":"  -  "},{"$f":"IF(A12=\"\",\"\",VLOOKUP(MONTH(A12),INDIRECT(\"'Beregn varme \"&$Q$1&\"'!A2:R13\"),15,FALSE))","v":14.684070008899436},{"$f":"IF(R4=\"\",\"\",VLOOKUP(MONTH(A12),INDIRECT(\"'Beregn varme \"&$Q$1&\"'!A2:R13\"),16,FALSE))","v":""}]
["Tankstørrelse:",null,{"$f":"System!F8","v":1800},"Liter",null,null,null,null,null,{"$f":"IF(A13=\"\",\"\",VLOOKUP(MONTH(A13),T!A$1:B$12,2,FALSE))","v":"Marts"},31,"",null,{"$f":"IF(A13=\"\",\"\",VLOOKUP(MONTH(A13),T!A$1:B$12,2,FALSE))","v":"Marts"},{"$f":"INDIRECT(\"'\"&$N$1&\"'!g13\")","v":299},21.086036671368124,{"$f":"IF(A13=\"\",\"\",VLOOKUP(MONTH(A13),T!$A$1:$B$12,2,FALSE))","v":"Marts"},"","","","  -  ",{"$f":"IF(A13=\"\",\"\",VLOOKUP(MONTH(A13),INDIRECT(\"'Beregn varme \"&$Q$1&\"'!A2:R13\"),15,FALSE))","v":14.268762978344704},{"$f":"IF(R5=\"\",\"\",VLOOKUP(MONTH(A13),INDIRECT(\"'Beregn varme \"&$Q$1&\"'!A2:R13\"),16,FALSE))","v":""}]
["MÅNEDLIG PEJLING AF OLIETANK",null,null,null,null,null,null,null,null,{"$f":"IF(A14=\"\",\"\",VLOOKUP(MONTH(A14),T!A$1:B$12,2,FALSE))","v":"April"},30,"",null,{"$f":"IF(A14=\"\",\"\",VLOOKUP(MONTH(A14),T!A$1:B$12,2,FALSE))","v":"April"},{"$f":"INDIRECT(\"'\"&$N$1&\"'!g14\")","v":218},15.3737658674189,{"$f":"IF(A14=\"\",\"\",VLOOKUP(MONTH(A14),T!$A$1:$B$12,2,FALSE))","v":"April"},"","","","  -  ",11.094630673390684,{"$f":"IF(R6=\"\",\"\",VLOOKUP(MONTH(A14),INDIRECT(\"'Beregn varme \"&$Q$1&\"'!A2:R13\"),16,FALSE))","v":""}]
[null,null,null,null,null,null,null,null,null,{"$f":"IF(A15=\"\",\"\",VLOOKUP(MONTH(A15),T!A$1:B$12,2,FALSE))","v":"Maj"},{"$f":"IF(A15=\"\",\"\",A15-A14)","v":31},"",null,{"$f":"IF(A15=\"\",\"\",VLOOKUP(MONTH(A15),T!A$1:B$12,2,FALSE))","v":"Maj"},{"$f":"INDIRECT(\"'\"&$N$1&\"'!g15\")","v":150},10.578279266572638,{"$f":"IF(A15=\"\",\"\",VLOOKUP(MONTH(A15),T!$A$1:$B$12,2,FALSE))","v":"Maj"},"","","","  -  ",7.0008899436369028,{"$f":"IF(R7=\"\",\"\",VLOOKUP(MONTH(A15),INDIRECT(\"'Beregn varme \"&$Q$1&\"'!A2:R13\"),16,FALSE))","v":""}]
["Dato","Pejling",null,"Fyldt på","Beholdning","Plads til","Forbrug","Bemærkning:",null,{"$f":"IF(A16=\"\",\"\",VLOOKUP(MONTH(A16),T!A$1:B$12,2,FALSE))","v":"Juni"},{"$f":"IF(A16=\"\",\"\",A16-A15)","v":30},"",null,{"$f":"IF(A16=\"\",\"\",VLOOKUP(MONTH(A16),T!A$1:B$12,2,FALSE))","v":"Juni"},{"$f":"INDIRECT(\"'\"&$N$1&\"'!g16\")","v":46},3.2440056417489425,{"$f":"IF(A16=\"\",\"\",VLOOKUP(MONTH(A16),T!$A$1:$B$12,2,FALSE))","v":"Juni"},"","","","  -  ",2.6698309107089884,""]
[null,"i cm","Liter","Liter",null,"Liter","Liter",null,null,{"$f":"IF(A17=\"\",\"\",VLOOKUP(MONTH(A17),T!A$1:B$12,2,FALSE))","v":"Juli"},31,"",null,{"$f":"IF(A17=\"\",\"\",VLOOKUP(MONTH(A17),T!A$1:B$12,2,FALSE))","v":"Juli"},{"$f":"INDIRECT(\"'\"&$N$1&\"'!g17\")","v":33},2.3272214386459802,{"$f":"IF(A17=\"\",\"\",VLOOKUP(MONTH(A17),T!$A$1:$B$12,2,FALSE))","v":"Juli"},"","","","  -  ",0.59329575793533074,""]
[{"$f":"DATE(D1-1,Setup!D2,Setup!C2)","v":"2015-12-31"},{"$f":"INDIRECT(\"'\"&$N$1&\"'!b22\")","v":0},{"$f":"IF(B10=\"\",\"\",IF(System!E$8=1,VLOOKUP(B10,Pejletabel!A$3:G$336,2,FALSE),IF(System!E$8=2,VLOOKUP(B10,Pejletabel!A$3:G$357,3,FALSE),IF(System!E$8=3,VLOOKUP(B10,Pejletabel!A$3:G$357,4,FALSE),IF(System!E$8=4,VLOOKUP(B10,Pejletabel!A$3:G$357,5,FALSE),IF(System!E8=5,VLOOKUP(B10,Pejletabel!A3:G358,6,FALSE),IF(System!E$8=6,VLOOKUP(B10,Pejletabel!A$3:G$357,7,FALSE))))))))","v":0},null,{"$f":"IF(C10<>\"\",SUM(C10:D10),\"\")","v":0},{"$f":"IF(E10<>\"\",System!F$8-E10,\"\")","v":1800},null,null,null,{"$f":"IF(A18=\"\",\"\",VLOOKUP(MONTH(A18),T!A$1:B$12,2,FALSE))","v":"August"},31,"",null,{"$f":"IF(A18=\"\",\"\",VLOOKUP(MONTH(A18),T!A$1:B$12,2,FALSE))","v":"August"},{"$f":"INDIRECT(\"'\"&$N$1&\"'!g18\")","v":7},0.49365303244005643,{"$f":"IF(A18=\"\",\"\",VLOOKUP(MONTH(A18),T!$A$1:$B$12,2,FALSE))","v":"August"},"","","","  -  ",0.68229012162563041,""]
[{"$f":"EDATE($A$10,ROWS($1:1))","v":"2016-01-31"},null,{"$f":"IF(B11=\"\",\"\",IF(System!E$8=1,VLOOKUP(B11,Pejletabel!A$3:G$336,2,FALSE),IF(System!E$8=2,VLOOKUP(B11,Pejletabel!A$3:G$357,3,FALSE),IF(System!E$8=3,VLOOKUP(B11,Pejletabel!A$3:G$357,4,FALSE),IF(System!E$8=4,VLOOKUP(B11,Pejletabel!A$3:G$357,5,FALSE),IF(System!E$8=5,VLOOKUP(B11,Pejletabel!A$3:G$357,6,FALSE),IF(System!E8=6,VLOOKUP(B11,Pejletabel!A3:G357,7,FALSE))))))))","v":""},null,{"$f":"IF(C11<>\"\",C11,\"\")","v":""},{"$f":"IF(E11<>\"\",1800-E11,\"\")","v":""},{"$f":"IF(C11<>\"\",C10-C11+D11,\"\")","v":""},null,null,{"$f":"IF(A19=\"\",\"\",VLOOKUP(MONTH(A19),T!A$1:B$12,2,FALSE))","v":"September"},30,"",null,{"$f":"IF(A19=\"\",\"\",VLOOKUP(MONTH(A19),T!A$1:B$12,2,FALSE))","v":"September"},{"$f":"INDIRECT(\"'\"&$N$1&\"'!g19\")","v":""},"",{"$f":"IF(A19=\"\",\"\",VLOOKUP(MONTH(A19),T!$A$1:$B$12,2,FALSE))","v":"September"},"","","","  -  ",3.2334618807475524,""]
[{"$f":"EDATE($A$10,ROWS($1:2))","v":"2016-02-29"},null,{"$f":"IF(B12=\"\",\"\",IF(System!E$8=1,VLOOKUP(B12,Pejletabel!A$3:G$336,2,FALSE),IF(System!E$8=2,VLOOKUP(B12,Pejletabel!A$3:G$357,3,FALSE),IF(System!E$8=3,VLOOKUP(B12,Pejletabel!A$3:G$357,4,FALSE),IF(System!E$8=4,VLOOKUP(B12,Pejletabel!A$3:G$357,5,FALSE),IF(System!E$8=5,VLOOKUP(B12,Pejletabel!A$3:G$357,6,FALSE),IF(System!E13=6,VLOOKUP(B12,Pejletabel!A4:G358,7,FALSE))))))))","v":""},null,{"$f":"IF(C12<>\"\",C12,\"\")","v":""},{"$f":"IF(E12<>\"\",1800-E12,\"\")","v":""},{"$f":"IF(C12<>\"\",C11-C12+D12,\"\")","v":""},null,null,{"$f":"IF(A20=\"\",\"\",VLOOKUP(MONTH(A20),T!A$1:B$12,2,FALSE))","v":"Oktober"},31,"",null,{"$f":"IF(A20=\"\",\"\",VLOOKUP(MONTH(A20),T!A$1:B$12,2,FALSE))","v":"Oktober"},{"$f":"INDIRECT(\"'\"&$N$1&\"'!g20\")","v":""},"",{"$f":"IF(A20=\"\",\"\",VLOOKUP(MONTH(A20),T!$A$1:$B$12,2,FALSE))","v":"Oktober"},"","","","  -  ",6.7635716404627706,""]
[{"$f":"EDATE($A$10,ROWS($1:3))","v":"2016-03-31"},null,{"$f":"IF(B13=\"\",\"\",IF(System!E$8=1,VLOOKUP(B13,Pejletabel!A$3:G$336,2,FALSE),IF(System!E$8=2,VLOOKUP(B13,Pejletabel!A$3:G$357,3,FALSE),IF(System!E$8=3,VLOOKUP(B13,Pejletabel!A$3:G$357,4,FALSE),IF(System!E$8=4,VLOOKUP(B13,Pejletabel!A$3:G$357,5,FALSE),IF(System!E$8=5,VLOOKUP(B13,Pejletabel!A$3:G$357,6,FALSE),IF(System!E19=6,VLOOKUP(B13,Pejletabel!A5:G359,7,FALSE))))))))","v":""},null,"","","",null,null,{"$f":"IF(A21=\"\",\"\",VLOOKUP(MONTH(A21),T!A$1:B$12,2,FALSE))","v":"November"},30,"",null,{"$f":"IF(A21=\"\",\"\",VLOOKUP(MONTH(A21),T!A$1:B$12,2,FALSE))","v":"November"},{"$f":"INDIRECT(\"'\"&$N$1&\"'!g21\")","v":""},"",{"$f":"IF(A21=\"\",\"\",VLOOKUP(MONTH(A21),T!$A$1:$B$12,2,FALSE))","v":"November"},"","","","  -  ",10.056363097003857,""]
[{"$f":"EDATE($A$10,ROWS($1:4))","v":"2016-04-30"},null,{"$f":"IF(B14=\"\",\"\",IF(System!E$8=1,VLOOKUP(B14,Pejletabel!A$3:G$336,2,FALSE),IF(System!E$8=2,VLOOKUP(B14,Pejletabel!A$3:G$357,3,FALSE),IF(System!E$8=3,VLOOKUP(B14,Pejletabel!A$3:G$357,4,FALSE),IF(System!E$8=4,VLOOKUP(B14,Pejletabel!A$3:G$357,5,FALSE),IF(System!E$8=5,VLOOKUP(B14,Pejletabel!A$3:G$357,6,FALSE),IF(System!E20=6,VLOOKUP(B14,Pejletabel!A6:G360,7,FALSE))))))))","v":""},null,"","","",null,null,{"$f":"IF(A22=\"\",\"\",VLOOKUP(MONTH(A22),T!A$1:B$12,2,FALSE))","v":"December"},31,"",null,{"$f":"IF(A22=\"\",\"\",VLOOKUP(MONTH(A22),T!A$1:B$12,2,FALSE))","v":"December"},{"$f":"INDIRECT(\"'\"&$N$1&\"'!g22\")","v":""},"",{"$f":"IF(A22=\"\",\"\",VLOOKUP(MONTH(A22),T!$A$1:$B$12,2,FALSE))","v":"December"},"","","","  -  ",13.586472856719075,""]
[{"$f":"EDATE($A$10,ROWS($1:5))","v":"2016-05-31"},null,{"$f":"IF(B15=\"\",\"\",IF(System!E$8=1,VLOOKUP(B15,Pejletabel!A$3:G$336,2,FALSE),IF(System!E$8=2,VLOOKUP(B15,Pejletabel!A$3:G$357,3,FALSE),IF(System!E$8=3,VLOOKUP(B15,Pejletabel!A$3:G$357,4,FALSE),IF(System!E$8=4,VLOOKUP(B15,Pejletabel!A$3:G$357,5,FALSE),IF(System!E$8=5,VLOOKUP(B15,Pejletabel!A$3:G$357,6,FALSE),IF(System!E21=6,VLOOKUP(B15,Pejletabel!A7:G361,7,FALSE))))))))","v":""},null,"","",""]
[{"$f":"EDATE($A$10,ROWS($1:6))","v":"2016-06-30"},null,{"$f":"IF(B16=\"\",\"\",IF(System!E$8=1,VLOOKUP(B16,Pejletabel!A$3:G$336,2,FALSE),IF(System!E$8=2,VLOOKUP(B16,Pejletabel!A$3:G$357,3,FALSE),IF(System!E$8=3,VLOOKUP(B16,Pejletabel!A$3:G$357,4,FALSE),IF(System!E$8=4,VLOOKUP(B16,Pejletabel!A$3:G$357,5,FALSE),IF(System!E$8=5,VLOOKUP(B16,Pejletabel!A$3:G$357,6,FALSE),IF(System!E22=6,VLOOKUP(B16,Pejletabel!A8:G362,7,FALSE))))))))","v":""},null,"","","",null,null,"Hele året",{"$f":"SUM(K3:K14)","v":366},{"$f":"IFERROR(G23/K16,\"\")","v":0},null,"Års Total",{"$f":"SUM(O3:O14)","v":1418},{"$f":"SUM(P3:P14)","v":99.999999999999986},null,{"$f":"G23","v":0},null,{"$f":"IF(R16<>0,R16-O16,\"\")","v":""},{"$f":"IF(R16<>0,T16/(O16/100),\"\")","v":""},{"$f":"SUM(V3:V14)","v":100},{"$f":"SUM(W3:W14)","v":0}]
[{"$f":"EDATE($A$10,ROWS($1:7))","v":"2016-07-31"},null,{"$f":"IF(B17=\"\",\"\",IF(System!E$8=1,VLOOKUP(B17,Pejletabel!A$3:G$336,2,FALSE),IF(System!E$8=2,VLOOKUP(B17,Pejletabel!A$3:G$357,3,FALSE),IF(System!E$8=3,VLOOKUP(B17,Pejletabel!A$3:G$357,4,FALSE),IF(System!E$8=4,VLOOKUP(B17,Pejletabel!A$3:G$357,5,FALSE),IF(System!E$8=5,VLOOKUP(B17,Pejletabel!A$3:G$357,6,FALSE),IF(System!E23=6,VLOOKUP(B17,Pejletabel!A9:G363,7,FALSE))))))))","v":""},null,"","",""]
[{"$f":"EDATE($A$10,ROWS($1:8))","v":"2016-08-31"},null,{"$f":"IF(B18=\"\",\"\",IF(System!E$8=1,VLOOKUP(B18,Pejletabel!A$3:G$336,2,FALSE),IF(System!E$8=2,VLOOKUP(B18,Pejletabel!A$3:G$357,3,FALSE),IF(System!E$8=3,VLOOKUP(B18,Pejletabel!A$3:G$357,4,FALSE),IF(System!E$8=4,VLOOKUP(B18,Pejletabel!A$3:G$357,5,FALSE),IF(System!E$8=5,VLOOKUP(B18,Pejletabel!A$3:G$357,6,FALSE),IF(System!E24=6,VLOOKUP(B18,Pejletabel!A10:G364,7,FALSE))))))))","v":""},null,"","","",null,null,"Vand",null,null,null,{"$f":"N1","v":2015},null,null,{"$f":"Q1","v":2016},null,null," +/-","%","Forventet forbrug"]
[{"$f":"EDATE($A$10,ROWS($1:9))","v":"2016-09-30"},null,{"$f":"IF(B19=\"\",\"\",IF(System!E$8=1,VLOOKUP(B19,Pejletabel!A$3:G$336,2,FALSE),IF(System!E$8=2,VLOOKUP(B19,Pejletabel!A$3:G$357,3,FALSE),IF(System!E$8=3,VLOOKUP(B19,Pejletabel!A$3:G$357,4,FALSE),IF(System!E$8=4,VLOOKUP(B19,Pejletabel!A$3:G$357,5,FALSE),IF(System!E$8=5,VLOOKUP(B19,Pejletabel!A$3:G$357,6,FALSE),IF(System!E25=6,VLOOKUP(B19,Pejletabel!A11:G365,7,FALSE))))))))","v":""},null,"","","",null,null,"Måned","Dage","m³ pr. dag",null,"Vand","m³",null,null,"m³",null,"m³",null,"%","m³"]
[{"$f":"EDATE($A$10,ROWS($1:10))","v":"2016-10-31"},null,{"$f":"IF(B20=\"\",\"\",IF(System!E$8=1,VLOOKUP(B20,Pejletabel!A$3:G$336,2,FALSE),IF(System!E$8=2,VLOOKUP(B20,Pejletabel!A$3:G$357,3,FALSE),IF(System!E$8=3,VLOOKUP(B20,Pejletabel!A$3:G$357,4,FALSE),IF(System!E$8=4,VLOOKUP(B20,Pejletabel!A$3:G$357,5,FALSE),IF(System!E$8=5,VLOOKUP(B20,Pejletabel!A$3:G$357,6,FALSE),IF(System!E26=6,VLOOKUP(B20,Pejletabel!A12:G366,7,FALSE))))))))","v":""},null,"","","",null,null,{"$f":"IF(A29=\"\",\"\",VLOOKUP(MONTH(A29),T!A$1:B$12,2,FALSE))","v":"Januar"},{"$f":"A29-A28","v":31},{"$f":"IF(D29<>\"\",D29/K20,\"\")","v":""},null,{"$f":"IF(A29=\"\",\"\",VLOOKUP(MONTH(A29),T!A$1:B$12,2,FALSE))","v":"Januar"},{"$f":"INDIRECT(\"'\"&$N$1&\"'!d29\")","v":7},null,"Januar",{"$f":"D29","v":""},null,{"$f":"IF(R20<>\"\",R20-O20,\"\")","v":""},{"$f":"IF(T20<>\"\",T20/(O20/100),\"\")","v":""},{"$f":"IF(A29=\"\",\"\",VLOOKUP(MONTH(A29),'Beregn varme 2015'!A$2:I$13,9,FALSE))","v":8.493150684931507},{"$f":"IF(R20=\"\",\"\",O$33*V20%)","v":""}]
[{"$f":"EDATE($A$10,ROWS($1:11))","v":"2016-11-30"},null,{"$f":"IF(B21=\"\",\"\",IF(System!E$8=1,VLOOKUP(B21,Pejletabel!A$3:G$336,2,FALSE),IF(System!E$8=2,VLOOKUP(B21,Pejletabel!A$3:G$357,3,FALSE),IF(System!E$8=3,VLOOKUP(B21,Pejletabel!A$3:G$357,4,FALSE),IF(System!E$8=4,VLOOKUP(B21,Pejletabel!A$3:G$357,5,FALSE),IF(System!E$8=5,VLOOKUP(B21,Pejletabel!A$3:G$357,6,FALSE),IF(System!E27=6,VLOOKUP(B21,Pejletabel!A13:G367,7,FALSE))))))))","v":""},null,"",{"$f":"IF(E21<>\"\",1800-E21,\"\")","v":""},"",null,null,{"$f":"IF(A30=\"\",\"\",VLOOKUP(MONTH(A30),T!A$1:B$12,2,FALSE))","v":"Februar"},{"$f":"IF(A30=\"\",\"\",A30-A29)","v":29},"",null,{"$f":"IF(A30=\"\",\"\",VLOOKUP(MONTH(A30),T!A$1:B$12,2,FALSE))","v":"Februar"},{"$f":"INDIRECT(\"'\"&$N$1&\"'!d30\")","v":7},null,"Februar","",null,{"$f":"IF(R21<>\"\",R21-O21,\"\")","v":""},{"$f":"IF(T21<>\"\",T21/(O21/100),\"\")","v":""},{"$f":"IF(A30=\"\",\"\",VLOOKUP(MONTH(A30),'Beregn varme 2015'!A$2:I$13,9,FALSE))","v":7.6712328767123283},{"$f":"IF(R21=\"\",\"\",O$33*V21%)","v":""}]
[{"$f":"EDATE($A$10,ROWS($1:12))","v":"2016-12-31"},null,{"$f":"IF(B22=\"\",\"\",IF(System!E$8=1,VLOOKUP(B22,Pejletabel!A$3:G$336,2,FALSE),IF(System!E$8=2,VLOOKUP(B22,Pejletabel!A$3:G$357,3,FALSE),IF(System!E$8=3,VLOOKUP(B22,Pejletabel!A$3:G$357,4,FALSE),IF(System!E$8=4,VLOOKUP(B22,Pejletabel!A$3:G$357,5,FALSE),IF(System!E$8=5,VLOOKUP(B22,Pejletabel!A$3:G$357,6,FALSE),IF(System!E28=6,VLOOKUP(B22,Pejletabel!A14:G368,7,FALSE))))))))","v":""},null,"",{"$f":"IF(E22<>\"\",1800-E22,\"\")","v":""},"",null,null,{"$f":"IF(A31=\"\",\"\",VLOOKUP(MONTH(A31),T!A$1:B$12,2,FALSE))","v":"Marts"},{"$f":"IF(A31=\"\",\"\",A31-A30)","v":31},"",null,{"$f":"IF(A31=\"\",\"\",VLOOKUP(MONTH(A31),T!A$1:B$12,2,FALSE))","v":"Marts"},{"$f":"INDIRECT(\"'\"&$N$1&\"'!d31\")","v":8},null,"Marts","",null,"","",{"$f":"IF(A31=\"\",\"\",VLOOKUP(MONTH(A31),'Beregn varme 2015'!A$2:I$13,9,FALSE))","v":8.493150684931507},""]
[null,null,null,null,"Års forbrug",null,{"$f":"SUM(G11:G22)","v":0},null,null,{"$f":"IF(A32=\"\",\"\",VLOOKUP(MONTH(A32),T!A$1:B$12,2,FALSE))","v":"April"},{"$f":"IF(A32=\"\",\"\",A32-A31)","v":30},"",null,{"$f":"IF(A32=\"\",\"\",VLOOKUP(MONTH(A32),T!A$1:B$12,2,FALSE))","v":"April"},{"$f":"INDIRECT(\"'\"&$N$1&\"'!d32\")","v":6},null,"April","",null,"","",{"$f":"IF(A32=\"\",\"\",VLOOKUP(MONTH(A32),'Beregn varme 2015'!A$2:I$13,9,FALSE))","v":8.2191780821917799},""]
["MÅNEDLIG AFLÆSNING AF VANDMÅLER",null,null,null,"MÅNEDLIG AFLÆSNING AF ELMÅLER",null,null,"Bemærkning:",null,{"$f":"IF(A33=\"\",\"\",VLOOKUP(MONTH(A33),T!A$1:B$12,2,FALSE))","v":"Maj"},{"$f":"IF(A33=\"\",\"\",A33-A32)","v":31},"",null,{"$f":"IF(A33=\"\",\"\",VLOOKUP(MONTH(A33),T!A$1:B$12,2,FALSE))","v":"Maj"},{"$f":"INDIRECT(\"'\"&$N$1&\"'!d33\")","v":7},null,"Maj","",null,"","",{"$f":"IF(A33=\"\",\"\",VLOOKUP(MONTH(A33),'Beregn varme 2015'!A$2:I$13,9,FALSE))","v":8.493150684931507},""]
[null,null,null,null,null,null,null,null,null,{"$f":"IF(A34=\"\",\"\",VLOOKUP(MONTH(A34),T!A$1:B$12,2,FALSE))","v":"Juni"},{"$f":"IF(A34=\"\",\"\",A34-A33)","v":30},"",null,"Juni",{"$f":"INDIRECT(\"'\"&$N$1&\"'!d34\")","v":6},null,"Juni","",null,"",{"$f":"IF(T25<>\"\",T25/(O25/100),\" - \")","v":" - "},{"$f":"IF(A34=\"\",\"\",VLOOKUP(MONTH(A34),'Beregn varme 2015'!A$2:I$13,9,FALSE))","v":8.2191780821917799},""]
["Dato","Aflæst",null,"Forbrug","Dato","Aflæst","Forbrug",null,null,{"$f":"IF(A35=\"\",\"\",VLOOKUP(MONTH(A35),T!A$1:B$12,2,FALSE))","v":"Juli"},{"$f":"IF(A35=\"\",\"\",A35-A34)","v":31},"",null,"Juli",{"$f":"INDIRECT(\"'\"&$N$1&\"'!d34\")","v":6},null,"Juli","",null,"",{"$f":"IF(T26<>\"\",T26/(O26/100),\" - \")","v":" - "},{"$f":"IF(A35=\"\",\"\",VLOOKUP(MONTH(A35),'Beregn varme 2015'!A$2:I$13,9,FALSE))","v":8.493150684931507},""]
[null,"m³",null,"m³",null,"KWh","KWh",null,null,{"$f":"IF(A36=\"\",\"\",VLOOKUP(MONTH(A36),T!A$1:B$12,2,FALSE))","v":"August"},31,"",null,"August",{"$f":"INDIRECT(\"'\"&$N$1&\"'!d34\")","v":6},null,"August","",null,"","",{"$f":"IF(A36=\"\",\"\",VLOOKUP(MONTH(A36),'Beregn varme 2015'!A$2:I$13,9,FALSE))","v":8.493150684931507},""]
[{"$f":"DATE(D1-1,Setup!D3,Setup!C3)","v":"2015-12-31"},{"$f":"INDIRECT(\"'\"&$N$1&\"'!b40\")","v":0},null,null,{"$f":"DATE(D1-1,12,31)","v":"2015-12-31"},{"$f":"INDIRECT(\"'\"&$N$1&\"'!f40\")","v":0},null,null,null,{"$f":"IF(A37=\"\",\"\",VLOOKUP(MONTH(A37),T!A$1:B$12,2,FALSE))","v":"September"},30,"",null,"September",6,null,"September","",null,"","",{"$f":"IF(A37=\"\",\"\",VLOOKUP(MONTH(A37),'Beregn varme 2015'!A$2:I$13,9,FALSE))","v":8.2191780821917799},""]
[{"$f":"EDATE($A$28,ROWS($1:1))","v":"2016-01-31"},null,null,{"$f":"IF(B29<>\"\",B29-B28,\"\")","v":""},{"$f":"EDATE($E$28,ROWS($1:1))","v":"2016-01-31"},null,{"$f":"IF(F29<>\"\",F29-F28,\"\")","v":""},null,null,{"$f":"IF(A38=\"\",\"\",VLOOKUP(MONTH(A38),T!A$1:B$12,2,FALSE))","v":"Oktober"},31,"",null,"Oktober",6,null,"Oktober","",null,"","",{"$f":"IF(A38=\"\",\"\",VLOOKUP(MONTH(A38),'Beregn varme 2015'!A$2:I$13,9,FALSE))","v":8.493150684931507},""]
[{"$f":"EDATE($A$28,ROWS($1:2))","v":"2016-02-29"},null,null,{"$f":"IF(B30<>\"\",B30-B29,\"\")","v":""},{"$f":"EDATE($E$28,ROWS($1:2))","v":"2016-02-29"},null,"",null,null,{"$f":"IF(A39=\"\",\"\",VLOOKUP(MONTH(A39),T!A$1:B$12,2,FALSE))","v":"November"},30,"",null,"November",6,null,"November","",null,"","",{"$f":"IF(A39=\"\",\"\",VLOOKUP(MONTH(A39),'Beregn varme 2015'!A$2:I$13,9,FALSE))","v":8.2191780821917799},""]
[{"$f":"EDATE($A$28,ROWS($1:3))","v":"2016-03-31"},null,null,"",{"$f":"EDATE($E$28,ROWS($1:3))","v":"2016-03-31"},null,"",null,null,{"$f":"IF(A40=\"\",\"\",VLOOKUP(MONTH(A40),T!A$1:B$12,2,FALSE))","v":"December"},31,"",null,"December",6,null,"December","",null,"","",{"$f":"IF(A40=\"\",\"\",VLOOKUP(MONTH(A40),'Beregn varme 2015'!A$2:I$13,9,FALSE))","v":8.493150684931507},""]
[{"$f":"EDATE($A$28,ROWS($1:4))","v":"2016-04-30"},null,null,"",{"$f":"EDATE($E$28,ROWS($1:4))","v":"2016-04-30"},null,""]
[{"$f":"EDATE($A$28,ROWS($1:5))","v":"2016-05-31"},null,null,"",{"$f":"EDATE($E$28,ROWS($1:5))","v":"2016-05-31"},null,"",null,null,"Hele året",{"$f":"SUM(K20:K31)","v":366},{"$f":"IFERROR(D41/K33,\"\")","v":0},null,"Års Total",{"$f":"SUM(O20:O31)","v":77},null,null,{"$f":"D41","v":0},null,{"$f":"IF(R33<>0,R33-O33,\"\")","v":""},{"$f":"IF(T33<>\"\",T33/(O33/100),\"\")","v":""},{"$f":"SUM(V20:V31)","v":99.999999999999986},{"$f":"SUM(W20:W31)","v":0}]
[{"$f":"EDATE($A$28,ROWS($1:6))","v":"2016-06-30"},null,null,"",{"$f":"EDATE($E$28,ROWS($1:6))","v":"2016-06-30"},null,""]
[{"$f":"EDATE($A$28,ROWS($1:7))","v":"2016-07-31"},null,null,"",{"$f":"EDATE($E$28,ROWS($1:7))","v":"2016-07-31"},null,"",null,null,"EL",null,null,null,{"$f":"N1-1&\"/\"&N1","v":"2014/2015"},null,null,{"$f":"N1&\"/\"&Q1","v":"2015/2016"},null,null," +/-","%","Forventet forbrug"]
[{"$f":"EDATE($A$28,ROWS($1:8))","v":"2016-08-31"},null,null,"",{"$f":"EDATE($E$28,ROWS($1:8))","v":"2016-08-31"},null,"",null,null,"Måned","Dage","KWh pr. dag",null,"EL","KWh",null,null,"KWh",null,"KWh",null,"%","KWh"]
[{"$f":"EDATE($A$28,ROWS($1:9))","v":"2016-09-30"},null,null,"",{"$f":"EDATE($E$28,ROWS($1:9))","v":"2016-09-30"},null,"",null,null,{"$f":"IF(E29=\"\",\"\",VLOOKUP(Y37,T!A$1:B$12,2,FALSE))","v":"August"},{"$f":"DAY(X37)","v":31},{"$f":"IF(G29<>\"\",G29/K37,\"\")","v":""},null,{"$f":"J37","v":"August"},{"$f":"INDIRECT(\"'\"&$N$1-1&\"'!g36\")","v":375},null,{"$f":"J37","v":"August"},{"$f":"INDIRECT(\"'\"&$N$1&\"'!g36\")","v":304},null,{"$f":"IF(R37=\"\",\"\",R37-O37)","v":-71},{"$f":"IF(R37<>\"\",T37/(O37/100),\"\")","v":-18.933333333333334},{"$f":"IF(E29=\"\",\"\",VLOOKUP(MONTH(E29),'Beregn varme 2015'!A$2:J$13,10,FALSE))","v":10},{"$f":"IF(R37=\"\",\"\",O$50/100*V37)","v":496},{"$f":"DATE(N1,Setup!D4+1,Setup!C4)","v":"2015-08-31"},{"$f":"MONTH(X37)","v":8}]
[{"$f":"EDATE($A$28,ROWS($1:10))","v":"2016-10-31"},null,null,"",{"$f":"EDATE($E$28,ROWS($1:10))","v":"2016-10-31"},null,"",null,null,{"$f":"IF(E30=\"\",\"\",VLOOKUP(Y38,T!A$1:B$12,2,FALSE))","v":"September"},{"$f":"DAY(X38)","v":30},"",null,{"$f":"J38","v":"September"},{"$f":"INDIRECT(\"'\"&$N$1-1&\"'!g37\")","v":376},null,{"$f":"J38","v":"September"},{"$f":"INDIRECT(\"'\"&$N$1&\"'!g37\")","v":""},null,{"$f":"IF(R38<>\"\",R38-O38,\"\")","v":""},{"$f":"IF(R38<>\"\",T38/(O38/100),\"\")","v":""},{"$f":"IF(E30=\"\",\"\",VLOOKUP(MONTH(E30),'Beregn varme 2015'!A$2:J$13,10,FALSE))","v":9},"",{"$f":"EDATE($X$37,ROW(1:1))","v":"2015-09-30"},{"$f":"MONTH(X38)","v":9}]
[{"$f":"EDATE($A$28,ROWS($1:11))","v":"2016-11-30"},null,null,"",{"$f":"EDATE($E$28,ROWS($1:11))","v":"2016-11-30"},null,"",null,null,{"$f":"IF(E31=\"\",\"\",VLOOKUP(Y39,T!A$1:B$12,2,FALSE))","v":"Oktober"},31,"",null,"Oktober",{"$f":"INDIRECT(\"'\"&$N$1-1&\"'!g38\")","v":401},null,"Oktober",{"$f":"INDIRECT(\"'\"&$N$1&\"'!g38\")","v":""},null,{"$f":"IF(R39<>\"\",R39-O39,\"\")","v":""},{"$f":"IF(R39<>\"\",T39/(O39/100),\"\")","v":""},{"$f":"IF(E31=\"\",\"\",VLOOKUP(MONTH(E31),'Beregn varme 2015'!A$2:J$13,10,FALSE))","v":9},"",{"$f":"EDATE($X$37,ROW(2:2))","v":"2015-10-31"},10]
[{"$f":"EDATE($A$28,ROWS($1:12))","v":"2016-12-31"},null,null,"",{"$f":"EDATE($E$28,ROWS($1:12))","v":"2016-12-31"},null,"",null,null,{"$f":"IF(E32=\"\",\"\",VLOOKUP(Y40,T!A$1:B$12,2,FALSE))","v":"November"},30,"",null,"November",{"$f":"INDIRECT(\"'\"&$N$1-1&\"'!g39\")","v":433},null,"November",{"$f":"INDIRECT(\"'\"&$N$1&\"'!g39\")","v":""},null,{"$f":"IF(R40<>\"\",R40-O40,\"\")","v":""},{"$f":"IF(R40<>\"\",T40/(O40/100),\"\")","v":""},{"$f":"IF(E32=\"\",\"\",VLOOKUP(MONTH(E32),'Beregn varme 2015'!A$2:J$13,10,FALSE))","v":8},"",{"$f":"EDATE($X$37,ROW(3:3))","v":"2015-11-30"},11]
["Års forbrug",null,null,{"$f":"SUM(D29:D34,D35:D40)","v":0},"Års forbrug",null,{"$f":"SUM(G29:G34,G35:G40)","v":0},null,null,{"$f":"IF(E33=\"\",\"\",VLOOKUP(Y41,T!A$1:B$12,2,FALSE))","v":"December"},31,"",null,"December",{"$f":"INDIRECT(\"'\"&$N$1-1&\"'!g40\")","v":513},null,"December",{"$f":"INDIRECT(\"'\"&$N$1&\"'!g40\")","v":""},null,{"$f":"IF(R41<>\"\",R41-O41,\"\")","v":""},{"$f":"IF(R41<>\"\",T41/(O41/100),\"\")","v":""},{"$f":"IF(E33=\"\",\"\",VLOOKUP(MONTH(E33),'Beregn varme 2015'!A$2:J$13,10,FALSE))","v":8},"","2015-12-31",12]
[null,null,null,null,null,null,null,null,null,{"$f":"IF(E34=\"\",\"\",VLOOKUP(Y42,T!A$1:B$12,2,FALSE))","v":"Januar"},31,"",null,"Januar",{"$f":"INDIRECT(\"'\"&$N$1&\"'!g29\")","v":523},null,"Januar",{"$f":"IF(G34<>\"\",G34,\"\")","v":""},null,{"$f":"IF(R42<>\"\",R42-O42,\"\")","v":""},"",{"$f":"IF(E34=\"\",\"\",VLOOKUP(MONTH(E34),'Beregn varme 2015'!A$2:J$13,10,FALSE))","v":7},"","2016-01-31",1]
[null,null,null,null,null,null,null,null,null,{"$f":"IF(E35=\"\",\"\",VLOOKUP(Y43,T!A$1:B$12,2,FALSE))","v":"Februar"},29,"",null,"Februar",{"$f":"INDIRECT(\"'\"&$N$1&\"'!g30\")","v":460},null,"Februar","",null,"","",{"$f":"IF(E35=\"\",\"\",VLOOKUP(MONTH(E35),'Beregn varme 2015'!A$2:J$13,10,FALSE))","v":6},"","2016-02-29",2]
[null,null,null,null,null,null,null,null,null,{"$f":"IF(E36=\"\",\"\",VLOOKUP(Y44,T!A$1:B$12,2,FALSE))","v":"Marts"},31,"",null,"Marts",{"$f":"INDIRECT(\"'\"&$N$1&\"'!g31\")","v":513},null,"Marts","",null,"","",{"$f":"IF(E36=\"\",\"\",VLOOKUP(MONTH(E36),'Beregn varme 2015'!A$2:J$13,10,FALSE))","v":7},"","2016-03-31",3]
[null,null,null,null,null,null,null,null,null,{"$f":"IF(E37=\"\",\"\",VLOOKUP(Y45,T!A$1:B$12,2,FALSE))","v":"April"},30,"",null,"April",{"$f":"INDIRECT(\"'\"&$N$1&\"'!g32\")","v":369},null,"April","",null,"","",{"$f":"IF(E37=\"\",\"\",VLOOKUP(MONTH(E37),'Beregn varme 2015'!A$2:J$13,10,FALSE))","v":7},"","2016-04-30",4]
[null,null,null,null,null,null,null,null,null,{"$f":"IF(E38=\"\",\"\",VLOOKUP(Y46,T!A$1:B$12,2,FALSE))","v":"Maj"},31,"",null,"Maj",{"$f":"INDIRECT(\"'\"&$N$1&\"'!g33\")","v":358},null,"Maj","",null,"","",{"$f":"IF(E38=\"\",\"\",VLOOKUP(MONTH(E38),'Beregn varme 2015'!A$2:J$13,10,FALSE))","v":9},"","2016-05-31",5]
[null,null,null,null,null,null,null,null,null,{"$f":"IF(E39=\"\",\"\",VLOOKUP(Y47,T!A$1:B$12,2,FALSE))","v":"Juni"},30,"",null,"Juni",{"$f":"INDIRECT(\"'\"&$N$1&\"'!g34\")","v":310},null,"Juni","",null,"","",{"$f":"IF(E39=\"\",\"\",VLOOKUP(MONTH(E39),'Beregn varme 2015'!A$2:J$13,10,FALSE))","v":9},"","2016-06-30",6]
[null,null,null,null,null,null,null,null,null,{"$f":"IF(E40=\"\",\"\",VLOOKUP(Y48,T!A$1:B$12,2,FALSE))","v":"Juli"},31,"",null,{"$f":"J48","v":"Juli"},{"$f":"INDIRECT(\"'\"&$N$1&\"'!g35\")","v":329},null,{"$f":"J48","v":"Juli"},"",null,"",{"$f":"IF(R48<>\"\",T48/(R48/100),\"\")","v":""},{"$f":"IF(E40=\"\",\"\",VLOOKUP(MONTH(E40),'Beregn varme 2015'!A$2:J$13,10,FALSE))","v":11},"","2016-07-31",7]
[]
[null,null,null,null,null,null,null,null,null,"Hele året",{"$f":"SUM(K37:K48)","v":366},{"$f":"IFERROR(G41/K50,\"\")","v":0},null,"Års Total",{"$f":"SUM(O37:O48)","v":4960},null,null,{"$f":"SUM(R37:R48)","v":304},null,{"$f":"IF(R50<>0,R50-O50,\"\")","v":-4656},{"$f":"IF(T50<>\"\",T50/(O50/100),\"\")","v":-93.870967741935488},{"$f":"SUM(V37:V48)","v":100},{"$f":"SUM(W37:W48)","v":496}]

{"sheet":"Beregn varme","index":53,"n_rows":14,"n_cols":23,"rows_kept":14,"cut":false,"hidden":false,"merged":[[7,18,7,19],[1,18,2,19],[1,20,2,20],[4,18,4,19],[5,18,5,19],[6,18,6,19]]}
["måned","Normal års graddage fra HNG","%",null,"liter pr mdr til opvarmnig","pr md til varmt vand","liter i alt pr md","% pr md","% pr md vand","% pr md EL","Normal års graddage fra DTI","%","liter pr mdr","DMI","%","liter i alt pr md","RVV","%"]
[1,485,{"$f":"B2/(B$14/100)","v":17.923133776792316},null,{"$f":"(INDIRECT(\"'\"&$U$2-1&\"'!g23\")-(INDIRECT(\"'\"&$U$2-1&\"'!g23\")/100*$U$6))/100*C2","v":0},{"$f":"U$5/100*U$6/12","v":0},{"$f":"SUM(E2:F2)","v":0},{"$f":"IFERROR(G2/(G$14/100),\"\")","v":""},{"$f":"31*W7","v":8.493150684931507},10,525,{"$f":"K2/(K$14/100)","v":18.066070199587063},{"$f":"$U$5*L2%","v":0},518,{"$f":"N2/(N$14/100)","v":15.366360130525067},{"$f":"$U$5*O2%","v":0},519,{"$f":"Q2/(Q$14/100)","v":16.677377892030847},"Vælg årstal:",null,2017]
[2,434,{"$f":"B3/(B$14/100)","v":16.038433111603844},null,{"$f":"(INDIRECT(\"'\"&$U$2-1&\"'!g23\")-(INDIRECT(\"'\"&$U$2-1&\"'!g23\")/100*$U$6))/100*C3","v":0},{"$f":"U$5/100*U$6/12","v":0},{"$f":"SUM(E3:F3)","v":0},{"$f":"IFERROR(G3/(G$14/100),\"\")","v":""},{"$f":"28*W7","v":7.6712328767123283},9,480,{"$f":"K3/(K$14/100)","v":16.517549896765313},{"$f":"$U$5*L3%","v":0},495,{"$f":"N3/(N$14/100)","v":14.684070008899436},{"$f":"$U$5*O3%","v":0},486,{"$f":"Q3/(Q$14/100)","v":15.616966580976863}]
[3,429,15.853658536585366,null,{"$f":"(INDIRECT(\"'\"&$U$2-1&\"'!g23\")-(INDIRECT(\"'\"&$U$2-1&\"'!g23\")/100*$U$6))/100*C4","v":0},0,0,"",{"$f":"31*W7","v":8.493150684931507},9,460,15.829318651066759,0,481,14.268762978344704,0,444,14.267352185089974]
[4,249,9.2017738359201786,null,0,0,0,"",{"$f":"30*W7","v":8.2191780821917799},8,302,10.392291810048176,0,374,11.094630673390684,0,311,9.9935732647814906,"forventetforbrug",null,{"$f":"INDIRECT(\"'\"&$U$2-1&\"'!g23\")","v":0},"liter"]
[5,58,2.1433850702143387,null,0,0,0,"",{"$f":"31*W7","v":8.493150684931507},7,79,2.7185134205092911,0,236,7.0008899436369028,0,154,4.948586118251928,"% til varmt vand",null,30]
[6,0,0,null,0,0,0,"",{"$f":"30*W7","v":8.2191780821917799},7,1,3.4411562284927734E-2,0,90,2.6698309107089884,0,58,1.8637532133676091,"til varmt vand",null,{"$f":"U5/100*U6/12","v":0},{"$f":"U7/12","v":0},{"$f":"100/365","v":0.27397260273972601}]
[7,0,0,null,0,0,0,"",{"$f":"31*W7","v":8.493150684931507},7,0,0,0,20,0.59329575793533074,0,22,0.70694087403598971,"til varme",null,{"$f":"$U$9-($U$9/100*$U$10)","v":0}]
[8,0,0,null,0,0,0,"",{"$f":"31*W7","v":8.493150684931507},7,0,0,0,23,0.68229012162563041,0,18,0.57840616966580971]
[9,26,0.96082779009608288,null,0,0,0,"",{"$f":"30*W7","v":8.2191780821917799},8,36,1.2388162422573985,0,109,3.2334618807475524,0,91,2.9241645244215939]
[10,203,7.5018477457501849,null,0,0,0,"",{"$f":"31*W7","v":8.493150684931507},9,219,7.5361321403991743,0,228,6.7635716404627706,0,207,6.6516709511568122]
[11,353,13.045084996304508,null,0,0,0,"",{"$f":"30*W7","v":8.2191780821917799},9,349,12.009635237439781,0,339,10.056363097003857,0,341,10.95758354755784]
[12,469,17.331855136733186,null,0,0,0,"",{"$f":"31*W7","v":8.493150684931507},10,455,15.65726083964212,0,458,13.586472856719075,0,461,14.813624678663238]
["check",{"$f":"SUM(B2:B13)","v":2706},{"$f":"SUM(C2:C13)","v":100},null,0,0,0,0,99.999999999999986,100,{"$f":"SUM(K2:K13)","v":2906},100,{"$f":"SUM(M2:M13)","v":0},{"$f":"SUM(N2:N13)","v":3371},100,{"$f":"SUM(P2:P13)","v":0},3112,100]

{"sheet":"Opgørelse Vand","index":54,"n_rows":28,"n_cols":11,"rows_kept":28,"cut":false,"hidden":false,"merged":[[3,0,3,4],[4,7,4,8],[8,4,8,5],[16,7,16,8],[17,4,17,5]]}
[null,null,null,null,null,null,null,null,"Vælg Årstal:",null,2015]
[]
[]
[]
["Opgørelse     Vand",null,null,null,null,null,null,{"$f":"INDIRECT(\"'\"&K1&\"'!a28\")+1","v":"2015-01-01"},null,"-",{"$f":"'2015'!A40","v":"2015-12-31"}]
["Målernr.","Dato","Gl. visning",null,"Dato",null,"Ny visning",null,"Forbrug",null,"Enhed"]
[37158017,{"$f":"H5","v":"2015-01-01"},{"$f":"INDIRECT(\"'\"&K1&\"'!b28\")","v":1764},null,{"$f":"K5","v":"2015-12-31"},null,{"$f":"OFFSET(INDIRECT(\"'\"&K1&\"'!b29\"),COUNTA(INDIRECT(\"'\"&K1&\"'!b29:b40\"))-1,0,1)","v":""},null,{"$f":"G7-C7","v":{"$error":"#VALUE!"}},null,"m³"]
[]
[null,null,null,null,"Forbrug",null,null,"Pris","Beløb",null,"Beløb i alt"]
["Variabelt driftsbidrag vand",null,null,null,{"$f":"I7","v":{"$error":"#VALUE!"}},{"$f":"K7","v":"m³"},null,6.82,{"$f":"E10*H10","v":{"$error":"#VALUE!"}}]
["Fast driftsbidrag vand",null,null,null,null,null,null,null,977]
["Statsafgifr vand",null,null,null,{"$f":"I7","v":{"$error":"#VALUE!"}},{"$f":"K7","v":"m³"},null,5.46,{"$f":"E12*H12","v":{"$error":"#VALUE!"}}]
["Drikkevandsbidrag",null,null,null,{"$f":"I7","v":{"$error":"#VALUE!"}},{"$f":"K7","v":"m³"},null,0.67,{"$f":"E13*H13","v":{"$error":"#VALUE!"}},null,{"$f":"SUM(I10:I13)","v":{"$error":"#VALUE!"}}]
[0.25,"moms af",{"$f":"K13","v":{"$error":"#VALUE!"}},null,null,null,null,null,null,null,{"$f":"C14*A14","v":{"$error":"#VALUE!"}}]
["Beløb I alt",null,null,null,null,null,null,null,null,null,{"$f":"K13+K14","v":{"$error":"#VALUE!"}}]
[]
["Opgørelse     Spildevand",null,null,null,null,null,null,{"$f":"H5","v":"2015-01-01"},null,"-",{"$f":"K5","v":"2015-12-31"}]
[null,null,null,null,"Forbrug",null,null,"Pris","Beløb",null,"Beløb i alt"]
["Statsafgift spildevand",null,null,null,59,{"$f":"K7","v":"m³"},null,0.5,{"$f":"E19*H19","v":29.5},"*"]
["Statsafgift spildevand",null,null,null,20,"m³",null,0.75,{"$f":"E20*H20","v":15}]
["Tømning af septiktank hvert år",null,null,null,1,"stk",null,484.6,{"$f":"E21*H21","v":484.6},null,{"$f":"SUM(I19:I21)","v":529.1}]
[0.25,"moms af",{"$f":"I21","v":484.6},null,null,null,null,null,null,null,{"$f":"C22*A22","v":121.15}]
["Beløb I alt",null,null,null,null,null,null,null,null,null,{"$f":"K21+K22","v":650.25}]
[]
["*markerede beløb er momsfri"]
["Forbrug i alt",null,null,null,null,null,null,null,null,null,{"$f":"K15+K23","v":{"$error":"#VALUE!"}}]
["Opkrævet aconto for perioden",null,null,null,{"$f":"H5","v":"2015-01-01"},"-",{"$f":"K5","v":"2015-12-31"},null,null,null,{"$f":"-(INDIRECT(\"'Aconto vand \"&K1&\"'!f9\"))","v":-2499.21}]
["Forskelsbeløb",null,null,null,null,null,null,null,{"$f":"IF(K28<0,\"Tilgode\",\"til betaling\")","v":{"$error":"#VALUE!"}},null,{"$f":"K27+K26","v":{"$error":"#VALUE!"}}]

{"sheet":"Aconto Vand","index":55,"n_rows":9,"n_cols":6,"rows_kept":9,"cut":false,"hidden":false,"merged":[]}
[]
["Betalingsterminer"]
[]
[null,null,"betalings dato",null,"beløb"]
[]
["1. rate",null,"2015-02-10",null,833.07]
["2. rate",null,"2015-05-11",null,833.07]
["3. rate",null,"2015-08-10",null,0]
["4. rate",null,"2015-11-10",null,0,{"$f":"SUM(E6:E9)","v":1666.14}]

{"sheet":"Opgørelse El","index":56,"n_rows":31,"n_cols":16,"rows_kept":31,"cut":false,"hidden":false,"merged":[[29,3,29,4],[3,0,3,4],[4,7,4,8],[9,4,9,5],[19,7,19,8],[21,4,21,5]]}
[null,null,null,null,null,null,null,null,"Vælg Årstal:",null,2015]
[]
[]
[]
["Opgørelse     El",null,null,null,null,null,null,{"$f":"INDIRECT(\"'\"&K1&\"'!e28\")+1","v":"2015-01-01"},null,"-",{"$f":"INDIRECT(\"'\"&K1&\"'!e40\")","v":"2015-12-31"}]
["ØSTKRAFT NET A/S CVR-nr.: 32268498"]
["Målernr.","Dato","Gl. visning",null,"Dato",null,"Ny visning",null,"Forbrug",null,"Enhed"]
[37158017,{"$f":"H5","v":"2015-01-01"},{"$f":"INDIRECT(\"'\"&K1&\"'!f28\")","v":30188},null,{"$f":"K5","v":"2015-12-31"},null,{"$f":"OFFSET(INDIRECT(\"'\"&K1&\"'!f29\"),COUNTA(INDIRECT(\"'\"&K1&\"'!f29:f40\"))-1,0,1)","v":""},null,{"$f":"G8-C8","v":{"$error":"#VALUE!"}},null,"Kwh"]
[]
[null,null,null,null,"Forbrug",null,null,"Pris","Beløb",null,"Beløb i alt"]
["Offentlige forpligtelser",null,null,null,{"$f":"I8","v":{"$error":"#VALUE!"}},{"$f":"K8","v":"Kwh"},null,{"$f":"'aconto El 2014'!H12","v":0.28799999999999998},{"$f":"E11*H11","v":{"$error":"#VALUE!"}}]
["Transportbetaling",null,null,null,{"$f":"I8","v":{"$error":"#VALUE!"}},{"$f":"K8","v":"Kwh"},null,0.21099999999999999,{"$f":"E12*H12","v":{"$error":"#VALUE!"}}]
["Energispareydelse",null,null,null,{"$f":"I8","v":{"$error":"#VALUE!"}},{"$f":"K8","v":"Kwh"},null,1.7000000000000001E-2,{"$error":"#VALUE!"},null,null,null,null,null,null,{"$f":"INDIRECT(\"'aconto Vand \"&K1-1&\"'!e6\")","v":773.82}]
["Elafgift",null,null,null,{"$f":"I8","v":{"$error":"#VALUE!"}},{"$f":"K8","v":"Kwh"},null,{"$f":"'aconto El 2014'!J12","v":0.85150000000000003},{"$error":"#VALUE!"}]
["Minimumsafgift",null,null,null,{"$f":"I8","v":{"$error":"#VALUE!"}},{"$f":"K8","v":"Kwh"},null,4.0000000000000001E-3,{"$error":"#VALUE!"}]
["Abonnement ØSTKRAFT net A/S",null,null,null,null,null,null,null,550,null,{"$f":"SUM(I11:I16)","v":{"$error":"#VALUE!"}}]
[0.25,"moms af",{"$f":"K16","v":{"$error":"#VALUE!"}},null,null,null,null,null,null,null,{"$f":"C17*A17","v":{"$error":"#VALUE!"}}]
["Beløb I alt",null,null,null,null,null,null,null,null,null,{"$f":"SUM(K15:K17)","v":{"$error":"#VALUE!"}}]
[]
["Opgørelse     El",null,null,null,null,null,null,{"$f":"H5","v":"2015-01-01"},null,"-",{"$f":"K5","v":"2015-12-31"}]
["ØSTKRAFT Forsyning A/S CVR-nr.: 25794206"]
[null,null,null,null,"Forbrug",null,null,"Pris","Beløb",null,"Beløb i alt"]
["Elforbrug",null,null,null,{"$f":"I8","v":{"$error":"#VALUE!"}},{"$f":"K8","v":"Kwh"},null,0.32569999999999999,{"$f":"E23*H23","v":{"$error":"#VALUE!"}}]
["Abonnement ØSTKRAFT Forsyning A/S",null,null,null,null,null,null,null,120,null,{"$f":"SUM(I23:I24)","v":{"$error":"#VALUE!"}}]
[0.25,"moms af",{"$f":"K24","v":{"$error":"#VALUE!"}},null,null,null,null,null,null,null,{"$f":"C25*A25","v":{"$error":"#VALUE!"}}]
["Beløb I alt",null,null,null,null,null,null,null,null,null,{"$f":"K24+K25","v":{"$error":"#VALUE!"}}]
[]
[]
["Forbrug i alt",null,null,null,null,null,null,null,null,null,{"$f":"K18+K26","v":{"$error":"#VALUE!"}}]
["Opkrævet aconto for perioden",null,null,{"$f":"H5","v":"2015-01-01"},null,"-",{"$f":"K5","v":"2015-12-31"},null,null,null,{"$f":"-(INDIRECT(\"'Aconto EL \"&K1-1&\"'!e12\"))","v":-11327.050000000001}]
["Forskelsbeløb",null,null,null,null,null,null,null,{"$f":"IF(K31<0,\"Tilgode\",\"til betaling\")","v":{"$error":"#VALUE!"}},null,{"$f":"K30+K29","v":{"$error":"#VALUE!"}}]

{"sheet":"Aconto El","index":57,"n_rows":16,"n_cols":10,"rows_kept":16,"cut":false,"hidden":false,"merged":[]}
[]
["Betalingsterminer",null,"ØSTKRAFT A/S"]
[]
[]
[null,null,"Betalings dato",null,"Betalt a´conto",null,null,"Offentlige forpligtelser",null,"Elafgift"]
["1. rate",null,"2015-09-10",null,null,null,null,0.28599999999999998,null,0.82899999999999996]
["2. rate",null,"2015-12-10",null,null,null,null,0.29899999999999999,null,0.82899999999999996]
["3. rate",null,"2016-03-10",null,null,null,null,0.28199999999999997,null,0.874]
["4. rate",null,"2016-06-10",null,null,null,null,0.28499999999999998,null,0.874]
[null,null,null,null,{"$f":"SUM(E6:E9)","v":0},null,null,{"$f":"SUM(H6:H9)","v":1.1519999999999999},null,{"$f":"SUM(J6:J9)","v":3.4060000000000001}]
[null,null,null,null,{"$f":"SUM(F6:F9)","v":0}]
[null,null,null,null,{"$f":"E10-E11","v":0},null,null,{"$f":"AVERAGE(H6:H9)","v":0.28799999999999998},null,{"$f":"AVERAGE(J6:J9)","v":0.85150000000000003}]
[]
[null,null,null,null,null,null,null,{"$f":"AVERAGE(H6:H9)","v":0.28799999999999998},null,{"$f":"AVERAGE(H6:H9)","v":0.28799999999999998}]
[null,null,null,null,null,null,null,{"$f":"ROWS(H6:H9)-COUNTBLANK(H6:H9)","v":4}]
[null,null,null,null,null,null,null,{"$f":"COUNTIF(H6:H9,\"<>\")","v":4}]

{"sheet":"Opgørelse Varme","index":58,"n_rows":28,"n_cols":19,"rows_kept":28,"cut":false,"hidden":false,"merged":[[26,6,26,7],[17,9,17,10],[4,9,4,10],[7,5,7,6],[3,0,3,4],[5,5,5,6],[6,5,6,6],[9,4,9,5],[18,4,18,5]]}
[null,null,null,null,null,null,null,null,null,null,"Vælg Årstal:",null,2014]
[null,null,null,null,null,null,null,null,null,null,null,null,null,null,null,null,"Ordinær",null,"m³"]
[null,null,null,null,null,null,null,null,null,null,null,null,null,null,null,null,"Udskiftning",null,"MWh"]
[null,null,null,null,null,null,null,null,null,null,null,null,null,null,null,null,null,null,"kWh"]
["Opgørelse     Varme",null,null,null,null,null,null,null,null,{"$f":"INDIRECT(\"'\"&M1&\"'!a28\")+1","v":"2014-01-01"},null,"-","2015-12-31",null,null,null,null,null,"GJ"]
["Målernr.","Dato","Gl. visning",null,"Dato","Årsag",null,"Ny visning",null,"Forbrug","Enhed",null,"Afkøling"]
[37158017,{"$f":"J5-1","v":"2013-12-31"},{"$f":"INDIRECT(\"'\"&M1&\"'!b28\")","v":1685},null,{"$f":"M5","v":"2015-12-31"},"Ordinær",null,{"$f":"OFFSET(INDIRECT(\"'\"&M1&\"'!b29\"),COUNTA(INDIRECT(\"'\"&M1&\"'!b29:b40\"))-1,0,1)","v":1764},null,{"$f":"H7-C7","v":79},"kWh"]
[null,null,null,null,null,null,null,null,null,null,"m³"]
[]
[null,null,null,null,"Forbrug",null,null,null,null,"Pris","Beløb",null,"Beløb i alt"]
["Variabelt driftsbidrag vand",null,null,null,{"$f":"J7","v":79},{"$f":"K7","v":"kWh"},null,null,7.58,{"$f":"E11*I11","v":598.82000000000005}]
["Fast driftsbidrag vand",null,null,null,null,null,null,null,null,999]
["Statsafgift vand",null,null,null,{"$f":"J7","v":79},{"$f":"K7","v":"kWh"},null,null,5.86,{"$f":"E13*I13","v":462.94}]
["Drikkevandsbidrag",null,null,null,{"$f":"J7","v":79},{"$f":"K7","v":"kWh"},null,null,0.67,{"$f":"E14*I14","v":52.93},{"$f":"SUM(J11:J14)","v":2113.69}]
[0.25,"moms af",{"$f":"K14","v":2113.69},null,null,null,null,null,null,null,{"$f":"C15*A15","v":528.42250000000001}]
["Beløb I alt",null,null,null,null,null,null,null,null,null,{"$f":"K14+K15","v":2642.1125000000002}]
[]
["Opgørelse     Spildevand",null,null,null,null,null,null,null,null,{"$f":"J5","v":"2014-01-01"},null,"-",{"$f":"M5","v":"2015-12-31"}]
[null,null,null,null,"Forbrug",null,null,null,null,"Pris","Beløb",null,"Beløb i alt"]
["Statsafgift spildevand",null,null,null,{"$f":"J7","v":79},{"$f":"K7","v":"kWh"},null,null,null,0.75,{"$f":"E20*J20","v":59.25},"*"]
["Tømning af septiktank hvert år",null,null,null,null,null,null,null,null,null,490,null,{"$f":"K21+K20","v":549.25}]
[0.25,"moms af",{"$f":"K21","v":490},null,null,null,null,null,null,null,null,null,{"$f":"C22*A22","v":122.5}]
["Beløb I alt",null,null,null,null,null,null,null,null,null,null,null,{"$f":"M21+M22","v":671.75}]
[]
["*markerede beløb er momsfri"]
["Forbrug i alt",null,null,null,null,null,null,null,null,null,null,null,{"$f":"K16+M23","v":3313.8625000000002}]
["Opkrævet aconto for perioden",null,null,null,{"$f":"J5","v":"2014-01-01"},"-",{"$f":"M5","v":"2015-12-31"},null,null,null,null,null,{"$f":"-(INDIRECT(\"'Aconto vand \"&M1&\"'!f9\"))","v":-3095.28}]
["Forskelsbeløb",null,null,null,null,null,null,null,null,null,{"$f":"IF(M28<0,\"Tilgode\",\"til betaling\")","v":"til betaling"},null,{"$f":"M27+M26","v":218.58249999999998}]